{"text_format":"1","workbook":"xlsx","n_sheets":3,"sheets":["Display","Lux4-sept","bios"],"not_rendered":{"charts":0,"images":0,"macros":1,"external_links":0,"defined_names":18,"comments":0,"pivot_tables":0},"unopened":[],"bounds":{"document_bytes":16777216,"sheet_cells":100000,"rows_first":2000,"rows_last":500,"rows_between":2000,"halvings":0,"cell_chars":16384,"cell_head_chars":4096},"cells_cut":0,"cells_raw":0,"read":"whole","date_system":"1900"}

{"sheet":"Display","index":0,"n_rows":13,"n_cols":23,"rows_kept":13,"cut":false,"hidden":false,"merged":[]}
[null,"Date:","2016-09-07",null,null,null,null,null,null,null,null,null,null,null,null,null,null,null,null,"Meeting Rooms","Day Time Cleaning"]
[null,null,null,null,null,null,null,null,null,null,null,null,null,null,null,null,null,null,null,"Kitchens","Soir"]
[null,null,null,"Rate",null,null,null,null,null,null,null,null,null,null,null,null,null,null,null,"Toilets & Showers",null,null,1]
[null,null,{"$f":"IF(AND($B$7=\"Lux 4\",$B$9=$T$1,$B$11=$U$1,OR($B$13=bios!$D$2,$B$13=bios!$D$3,$B$13=bios!$D$4,$B$13=bios!$D$5,$B$13=bios!$D$6,$B$13=bios!$D$7,$B$13=bios!$D$8,$B$13=bios!$D$9)),bios!E2,IF(AND($B$7=\"Lux 4\",$B$9=$T$1,$B$11=$U$2,OR($B$13=bios!$D$12,$B$13=bios!$D$13,$B$13=bios!$D$14,$B$13=bios!$D$15)),bios!E12,IF(AND($B$7=\"Lux 4\",$B$9=$T$2,$B$11=$U$1,OR($B$13=bios!$D$22,$B$13=bios!$D$23,$B$13=bios!$D$24,$B$13=bios!$D$25)),bios!E23,IF(AND($B$7=\"Lux 4\",$B$9=$T$2,$B$11=$U$2,OR($B$13=bios!$D$30,$B$13=bios!$D$31,$B$13=bios!$D$32,$B$13=bios!$D$33)),bios!E36,IF(AND($B$7=\"Lux 4\",$B$9=$T$3,$B$11=$U$1,OR($B$13=bios!$D$38,$B$13=bios!$D$39,$B$13=bios!$D$40,$B$13=bios!$D$41,$B$13=bios!$D$42)),bios!E50,IF(AND($B$7=\"Lux 4\",$B$9=$T$3,$B$11=$U$2,OR($B$13=bios!$D$47,$B$13=bios!$D$48,$B$13=bios!$D$49,$B$13=bios!$D$50,$B$13=bios!$D$51)),bios!E62,IF(AND($B$7=\"Lux 4\",$B$9=\"Building Check\"),bios!E73,)))))))","v":"salle de réunion en place (café, thé, lunch…) "},3,null,null,null,null,null,null,null,null,null,null,null,null,null,null,null,"Open Office",null,null,2]
[null,null,{"$f":"IF(AND($B$7=\"Lux 4\",$B$9=$T$1,$B$11=$U$1,OR($B$13=bios!$D$2,$B$13=bios!$D$3,$B$13=bios!$D$4,$B$13=bios!$D$5,$B$13=bios!$D$6,$B$13=bios!$D$7,$B$13=bios!$D$8,$B$13=bios!$D$9)),bios!E3,IF(AND($B$7=\"Lux 4\",$B$9=$T$1,$B$11=$U$2,OR($B$13=bios!$D$12,$B$13=bios!$D$13,$B$13=bios!$D$14,$B$13=bios!$D$15)),bios!E13,IF(AND($B$7=\"Lux 4\",$B$9=$T$2,$B$11=$U$1,OR($B$13=bios!$D$22,$B$13=bios!$D$23,$B$13=bios!$D$24,$B$13=bios!$D$25)),bios!E24,IF(AND($B$7=\"Lux 4\",$B$9=$T$2,$B$11=$U$2,OR($B$13=bios!$D$30,$B$13=bios!$D$31,$B$13=bios!$D$32,$B$13=bios!$D$33)),bios!E37,IF(AND($B$7=\"Lux 4\",$B$9=$T$3,$B$11=$U$1,OR($B$13=bios!$D$38,$B$13=bios!$D$39,$B$13=bios!$D$40,$B$13=bios!$D$41,$B$13=bios!$D$42)),bios!E51,IF(AND($B$7=\"Lux 4\",$B$9=$T$3,$B$11=$U$2,OR($B$13=bios!$D$47,$B$13=bios!$D$48,$B$13=bios!$D$49,$B$13=bios!$D$50,$B$13=bios!$D$51)),bios!E63,IF(AND($B$7=\"Lux 4\",$B$9=\"Building Check\"),bios!E74,)))))))","v":"Salle prête à être utiliser après les meeting"},3,null,null,null,null,null,null,null,null,null,null,null,null,null,null,null,"Open Space",null,null,3]
[null,null,{"$f":"IF(AND($B$7=\"Lux 4\",$B$9=$T$1,$B$11=$U$1,OR($B$13=bios!$D$2,$B$13=bios!$D$3,$B$13=bios!$D$4,$B$13=bios!$D$5,$B$13=bios!$D$6,$B$13=bios!$D$7,$B$13=bios!$D$8,$B$13=bios!$D$9)),bios!E4,IF(AND($B$7=\"Lux 4\",$B$9=$T$1,$B$11=$U$2,OR($B$13=bios!$D$12,$B$13=bios!$D$13,$B$13=bios!$D$14,$B$13=bios!$D$15)),bios!E14,IF(AND($B$7=\"Lux 4\",$B$9=$T$2,$B$11=$U$1,OR($B$13=bios!$D$22,$B$13=bios!$D$23,$B$13=bios!$D$24,$B$13=bios!$D$25)),bios!E25,IF(AND($B$7=\"Lux 4\",$B$9=$T$2,$B$11=$U$2,OR($B$13=bios!$D$30,$B$13=bios!$D$31,$B$13=bios!$D$32,$B$13=bios!$D$33)),bios!E38,IF(AND($B$7=\"Lux 4\",$B$9=$T$3,$B$11=$U$1,OR($B$13=bios!$D$38,$B$13=bios!$D$39,$B$13=bios!$D$40,$B$13=bios!$D$41,$B$13=bios!$D$42)),bios!E52,IF(AND($B$7=\"Lux 4\",$B$9=$T$3,$B$11=$U$2,OR($B$13=bios!$D$47,$B$13=bios!$D$48,$B$13=bios!$D$49,$B$13=bios!$D$50,$B$13=bios!$D$51)),bios!E64,IF(AND($B$7=\"Lux 4\",$B$9=\"Building Check\"),bios!E75,)))))))","v":"Chaises rangées"},2,null,null,null,null,null,null,null,null,null,null,null,null,null,null,null,"Building Check"]
["Site:","Lux 4",{"$f":"IF(AND($B$7=\"Lux 4\",$B$9=$T$1,$B$11=$U$1,OR($B$13=bios!$D$2,$B$13=bios!$D$3,$B$13=bios!$D$4,$B$13=bios!$D$5,$B$13=bios!$D$6,$B$13=bios!$D$7,$B$13=bios!$D$8,$B$13=bios!$D$9)),bios!E5,IF(AND($B$7=\"Lux 4\",$B$9=$T$1,$B$11=$U$2,OR($B$13=bios!$D$12,$B$13=bios!$D$13,$B$13=bios!$D$14,$B$13=bios!$D$15)),bios!E15,IF(AND($B$7=\"Lux 4\",$B$9=$T$2,$B$11=$U$1,OR($B$13=bios!$D$22,$B$13=bios!$D$23,$B$13=bios!$D$24,$B$13=bios!$D$25)),bios!E26,IF(AND($B$7=\"Lux 4\",$B$9=$T$2,$B$11=$U$2,OR($B$13=bios!$D$30,$B$13=bios!$D$31,$B$13=bios!$D$32,$B$13=bios!$D$33)),bios!E39,IF(AND($B$7=\"Lux 4\",$B$9=$T$3,$B$11=$U$1,OR($B$13=bios!$D$38,$B$13=bios!$D$39,$B$13=bios!$D$40,$B$13=bios!$D$41,$B$13=bios!$D$42)),bios!E53,IF(AND($B$7=\"Lux 4\",$B$9=$T$3,$B$11=$U$2,OR($B$13=bios!$D$47,$B$13=bios!$D$48,$B$13=bios!$D$49,$B$13=bios!$D$50,$B$13=bios!$D$51)),bios!E65,IF(AND($B$7=\"Lux 4\",$B$9=\"Building Check\"),bios!E76,)))))))","v":"Poubelles vidées"},1,null,null,null,null,null,null,null,null,null,null,null,null,null,null,null,"Formule:"]
[null,null,{"$f":"IF(AND($B$7=\"Lux 4\",$B$9=$T$1,$B$11=$U$1,OR($B$13=bios!$D$2,$B$13=bios!$D$3,$B$13=bios!$D$4,$B$13=bios!$D$5,$B$13=bios!$D$6,$B$13=bios!$D$7,$B$13=bios!$D$8,$B$13=bios!$D$9)),bios!E6,IF(AND($B$7=\"Lux 4\",$B$9=$T$1,$B$11=$U$2,OR($B$13=bios!$D$12,$B$13=bios!$D$13,$B$13=bios!$D$14,$B$13=bios!$D$15)),bios!E16,IF(AND($B$7=\"Lux 4\",$B$9=$T$2,$B$11=$U$1,OR($B$13=bios!$D$22,$B$13=bios!$D$23,$B$13=bios!$D$24,$B$13=bios!$D$25)),bios!E27,IF(AND($B$7=\"Lux 4\",$B$9=$T$2,$B$11=$U$2,OR($B$13=bios!$D$30,$B$13=bios!$D$31,$B$13=bios!$D$32,$B$13=bios!$D$33)),bios!E40,IF(AND($B$7=\"Lux 4\",$B$9=$T$3,$B$11=$U$1,OR($B$13=bios!$D$38,$B$13=bios!$D$39,$B$13=bios!$D$40,$B$13=bios!$D$41,$B$13=bios!$D$42)),bios!E54,IF(AND($B$7=\"Lux 4\",$B$9=$T$3,$B$11=$U$2,OR($B$13=bios!$D$47,$B$13=bios!$D$48,$B$13=bios!$D$49,$B$13=bios!$D$50,$B$13=bios!$D$51)),bios!E66,IF(AND($B$7=\"Lux 4\",$B$9=\"Building Check\"),bios!E77,)))))))","v":"Tables nettoyées"},2,null,null,null,null,null,null,null,null,null,null,null,null,null,null,null,{"$f":"IF(AND(B7=\"Lux 4\",B9=T1,B11=U1),Room1,IF(AND(B7=\"Lux 4\",B9=T1,B11=U2),Room2,IF(AND(B7=\"Lux 4\",B9=T2,B11=U1),Room3,IF(AND(B7=\"Lux 4\",B9=T2,B11=U2),Room4,IF(AND(B7=\"Lux 4\",B9=T3,B11=U1),Room5,IF(AND(B7=\"Lux 4\",B9=T3,B11=U2),Room6))))))","v":"03.501"}]
["Area:","Meeting Rooms",{"$f":"IF(AND($B$7=\"Lux 4\",$B$9=$T$1,$B$11=$U$1,OR($B$13=bios!$D$2,$B$13=bios!$D$3,$B$13=bios!$D$4,$B$13=bios!$D$5,$B$13=bios!$D$6,$B$13=bios!$D$7,$B$13=bios!$D$8,$B$13=bios!$D$9)),bios!E7,IF(AND($B$7=\"Lux 4\",$B$9=$T$1,$B$11=$U$2,OR($B$13=bios!$D$12,$B$13=bios!$D$13,$B$13=bios!$D$14,$B$13=bios!$D$15)),bios!E17,IF(AND($B$7=\"Lux 4\",$B$9=$T$2,$B$11=$U$1,OR($B$13=bios!$D$22,$B$13=bios!$D$23,$B$13=bios!$D$24,$B$13=bios!$D$25)),bios!E28,IF(AND($B$7=\"Lux 4\",$B$9=$T$2,$B$11=$U$2,OR($B$13=bios!$D$30,$B$13=bios!$D$31,$B$13=bios!$D$32,$B$13=bios!$D$33)),bios!E41,IF(AND($B$7=\"Lux 4\",$B$9=$T$3,$B$11=$U$1,OR($B$13=bios!$D$38,$B$13=bios!$D$39,$B$13=bios!$D$40,$B$13=bios!$D$41,$B$13=bios!$D$42)),bios!E55,IF(AND($B$7=\"Lux 4\",$B$9=$T$3,$B$11=$U$2,OR($B$13=bios!$D$47,$B$13=bios!$D$48,$B$13=bios!$D$49,$B$13=bios!$D$50,$B$13=bios!$D$51)),bios!E67,IF(AND($B$7=\"Lux 4\",$B$9=\"Building Check\"),bios!E78,)))))))","v":"Tableaux effacés"},1,null,null,null,null,null,null,null,null,null,null,null,null,null,null,null,"Formule Date:"]
[null,null,{"$f":"IF(AND($B$7=\"Lux 4\",$B$9=$T$1,$B$11=$U$1,OR($B$13=bios!$D$2,$B$13=bios!$D$3,$B$13=bios!$D$4,$B$13=bios!$D$5,$B$13=bios!$D$6,$B$13=bios!$D$7,$B$13=bios!$D$8,$B$13=bios!$D$9)),bios!E8,IF(AND($B$7=\"Lux 4\",$B$9=$T$1,$B$11=$U$2,OR($B$13=bios!$D$12,$B$13=bios!$D$13,$B$13=bios!$D$14,$B$13=bios!$D$15)),bios!E18,IF(AND($B$7=\"Lux 4\",$B$9=$T$2,$B$11=$U$1,OR($B$13=bios!$D$22,$B$13=bios!$D$23,$B$13=bios!$D$24,$B$13=bios!$D$25)),bios!E29,IF(AND($B$7=\"Lux 4\",$B$9=$T$2,$B$11=$U$2,OR($B$13=bios!$D$30,$B$13=bios!$D$31,$B$13=bios!$D$32,$B$13=bios!$D$33)),bios!E42,IF(AND($B$7=\"Lux 4\",$B$9=$T$3,$B$11=$U$1,OR($B$13=bios!$D$38,$B$13=bios!$D$39,$B$13=bios!$D$40,$B$13=bios!$D$41,$B$13=bios!$D$42)),bios!E56,IF(AND($B$7=\"Lux 4\",$B$9=$T$3,$B$11=$U$2,OR($B$13=bios!$D$47,$B$13=bios!$D$48,$B$13=bios!$D$49,$B$13=bios!$D$50,$B$13=bios!$D$51)),bios!E68,IF(AND($B$7=\"Lux 4\",$B$9=\"Building Check\"),bios!E79,)))))))","v":0},null,null,null,null,null,null,null,null,null,null,null,null,null,null,null,null,{"$f":"C1","v":"2016-09-07"}]
["Time:","Day Time Cleaning",{"$f":"IF(AND($B$7=\"Lux 4\",$B$9=$T$1,$B$11=$U$1,OR($B$13=bios!$D$2,$B$13=bios!$D$3,$B$13=bios!$D$4,$B$13=bios!$D$5,$B$13=bios!$D$6,$B$13=bios!$D$7,$B$13=bios!$D$8,$B$13=bios!$D$9)),bios!E9,IF(AND($B$7=\"Lux 4\",$B$9=$T$1,$B$11=$U$2,OR($B$13=bios!$D$12,$B$13=bios!$D$13,$B$13=bios!$D$14,$B$13=bios!$D$15)),bios!E19,IF(AND($B$7=\"Lux 4\",$B$9=$T$2,$B$11=$U$1,OR($B$13=bios!$D$22,$B$13=bios!$D$23,$B$13=bios!$D$24,$B$13=bios!$D$25)),bios!E30,IF(AND($B$7=\"Lux 4\",$B$9=$T$2,$B$11=$U$2,OR($B$13=bios!$D$30,$B$13=bios!$D$31,$B$13=bios!$D$32,$B$13=bios!$D$33)),bios!E43,IF(AND($B$7=\"Lux 4\",$B$9=$T$3,$B$11=$U$1,OR($B$13=bios!$D$38,$B$13=bios!$D$39,$B$13=bios!$D$40,$B$13=bios!$D$41,$B$13=bios!$D$42)),bios!E57,IF(AND($B$7=\"Lux 4\",$B$9=$T$3,$B$11=$U$2,OR($B$13=bios!$D$47,$B$13=bios!$D$48,$B$13=bios!$D$49,$B$13=bios!$D$50,$B$13=bios!$D$51)),bios!E69,IF(AND($B$7=\"Lux 4\",$B$9=\"Building Check\"),bios!E80,)))))))","v":0}]
[null,null,{"$f":"IF(AND($B$7=\"Lux 4\",$B$9=$T$1,$B$11=$U$1,OR($B$13=bios!$D$2,$B$13=bios!$D$3,$B$13=bios!$D$4,$B$13=bios!$D$5,$B$13=bios!$D$6,$B$13=bios!$D$7,$B$13=bios!$D$8,$B$13=bios!$D$9)),bios!E10,IF(AND($B$7=\"Lux 4\",$B$9=$T$1,$B$11=$U$2,OR($B$13=bios!$D$12,$B$13=bios!$D$13,$B$13=bios!$D$14,$B$13=bios!$D$15)),bios!E20,IF(AND($B$7=\"Lux 4\",$B$9=$T$2,$B$11=$U$1,OR($B$13=bios!$D$22,$B$13=bios!$D$23,$B$13=bios!$D$24,$B$13=bios!$D$25)),bios!E31,IF(AND($B$7=\"Lux 4\",$B$9=$T$2,$B$11=$U$2,OR($B$13=bios!$D$30,$B$13=bios!$D$31,$B$13=bios!$D$32,$B$13=bios!$D$33)),bios!E44,IF(AND($B$7=\"Lux 4\",$B$9=$T$3,$B$11=$U$1,OR($B$13=bios!$D$38,$B$13=bios!$D$39,$B$13=bios!$D$40,$B$13=bios!$D$41,$B$13=bios!$D$42)),bios!E58,IF(AND($B$7=\"Lux 4\",$B$9=$T$3,$B$11=$U$2,OR($B$13=bios!$D$47,$B$13=bios!$D$48,$B$13=bios!$D$49,$B$13=bios!$D$50,$B$13=bios!$D$51)),bios!E70,IF(AND($B$7=\"Lux 4\",$B$9=\"Building Check\"),bios!E81,)))))))","v":0}]
["Room:","02.500",{"$f":"IF(AND($B$7=\"Lux 4\",$B$9=$T$1,$B$11=$U$1,OR($B$13=bios!$D$2,$B$13=bios!$D$3,$B$13=bios!$D$4,$B$13=bios!$D$5,$B$13=bios!$D$6,$B$13=bios!$D$7,$B$13=bios!$D$8,$B$13=bios!$D$9)),bios!E11,IF(AND($B$7=\"Lux 4\",$B$9=$T$1,$B$11=$U$2,OR($B$13=bios!$D$12,$B$13=bios!$D$13,$B$13=bios!$D$14,$B$13=bios!$D$15)),bios!E21,IF(AND($B$7=\"Lux 4\",$B$9=$T$2,$B$11=$U$1,OR($B$13=bios!$D$22,$B$13=bios!$D$23,$B$13=bios!$D$24,$B$13=bios!$D$25)),bios!E32,IF(AND($B$7=\"Lux 4\",$B$9=$T$2,$B$11=$U$2,OR($B$13=bios!$D$30,$B$13=bios!$D$31,$B$13=bios!$D$32,$B$13=bios!$D$33)),bios!E45,IF(AND($B$7=\"Lux 4\",$B$9=$T$3,$B$11=$U$1,OR($B$13=bios!$D$38,$B$13=bios!$D$39,$B$13=bios!$D$40,$B$13=bios!$D$41,$B$13=bios!$D$42)),bios!E59,IF(AND($B$7=\"Lux 4\",$B$9=$T$3,$B$11=$U$2,OR($B$13=bios!$D$47,$B$13=bios!$D$48,$B$13=bios!$D$49,$B$13=bios!$D$50,$B$13=bios!$D$51)),bios!E71,IF(AND($B$7=\"Lux 4\",$B$9=\"Building Check\"),bios!E82,)))))))","v":0}]

{"sheet":"Lux4-sept","index":1,"n_rows":296,"n_cols":38,"rows_kept":296,"cut":false,"hidden":false,"merged":[[309,1,310,5],[317,0,318,0],[317,1,318,5],[311,0,312,0],[311,1,312,5],[313,0,314,0],[313,1,314,5],[315,0,316,0],[315,1,316,5],[0,0,6,0],[0,1,6,34],[292,1,292,5],[293,0,294,0],[293,1,294,5],[295,0,296,0],[295,1,296,5],[295,9,312,11],[297,0,298,0],[297,1,298,5],[299,0,300,0],[299,1,300,5],[301,0,302,0],[301,1,302,5],[303,0,304,0],[303,1,304,5],[305,0,306,0],[305,1,306,5],[307,0,308,0],[307,1,308,5],[309,0,310,0]]}
["2016-09-01"]
[]
[]
[null,null,null,null,null,null,null,null,null,null,null,null,null,null,null,null,null,null,null,null,null,null,null,null,null,null,null,null,null,null,null,null,null,null,null,"Légende:",0,"Non Appliqué"]
[null,null,null,null,null,null,null,null,null,null,null,null,null,null,null,null,null,null,null,null,null,null,null,null,null,null,null,null,null,null,null,null,null,null,null,null,1,"Médiocre"]
[null,null,null,null,null,null,null,null,null,null,null,null,null,null,null,null,null,null,null,null,null,null,null,null,null,null,null,null,null,null,null,null,null,null,null,null,2,"Raisonnable"]
[null,null,null,null,null,null,null,null,null,null,null,null,null,null,null,null,null,null,null,null,null,null,null,null,null,null,null,null,null,null,null,null,null,null,null,null,3,"Excellent"]
["LUX 4","2016-09-01","2016-09-02","2016-09-03","2016-09-04","2016-09-05","2016-09-06","2016-09-07","2016-09-08","2016-09-09","2016-09-10","2016-09-11","2016-09-12","2016-09-13","2016-09-14","2016-09-15","2016-09-16","2016-09-17","2016-09-18","2016-09-19","2016-09-20","2016-09-21","2016-09-22","2016-09-23","2016-09-24","2016-09-25","2016-09-26","2016-09-27","2016-09-28","2016-09-29","2016-09-30",null,"2016-08-01","2016-08-02","MOYENNE"]
["Meeting Rooms"]
["Day Time Cleaning"]
["01.500"]
["salle de réunion en place (café, thé, lunch…) ",{"$f":"IF(AND(B$8=Display!$T$10,'Lux4-sept'!$A$8=Display!$B$7,'Lux4-sept'!$A$9=Display!$B$9,'Lux4-sept'!$A$10=Display!$B$11,'Lux4-sept'!$A$11=Display!$B$13),Display!$D4,)","v":0},{"$f":"IF(AND(C$8=Display!$T$10,'Lux4-sept'!$A$8=Display!$B$7,'Lux4-sept'!$A$9=Display!$B$9,'Lux4-sept'!$A$10=Display!$B$11,'Lux4-sept'!$A$11=Display!$B$13),Display!$D4,)","v":0},{"$f":"IF(AND(D$8=Display!$T$10,'Lux4-sept'!$A$8=Display!$B$7,'Lux4-sept'!$A$9=Display!$B$9,'Lux4-sept'!$A$10=Display!$B$11,'Lux4-sept'!$A$11=Display!$B$13),Display!$D4,)","v":0},{"$f":"IF(AND(E$8=Display!$T$10,'Lux4-sept'!$A$8=Display!$B$7,'Lux4-sept'!$A$9=Display!$B$9,'Lux4-sept'!$A$10=Display!$B$11,'Lux4-sept'!$A$11=Display!$B$13),Display!$D4,)","v":0},{"$f":"IF(AND(F$8=Display!$T$10,'Lux4-sept'!$A$8=Display!$B$7,'Lux4-sept'!$A$9=Display!$B$9,'Lux4-sept'!$A$10=Display!$B$11,'Lux4-sept'!$A$11=Display!$B$13),Display!$D4,)","v":0},{"$f":"IF(AND(G$8=Display!$T$10,'Lux4-sept'!$A$8=Display!$B$7,'Lux4-sept'!$A$9=Display!$B$9,'Lux4-sept'!$A$10=Display!$B$11,'Lux4-sept'!$A$11=Display!$B$13),Display!$D4,)","v":0},{"$f":"IF(AND(H$8=Display!$T$10,'Lux4-sept'!$A$8=Display!$B$7,'Lux4-sept'!$A$9=Display!$B$9,'Lux4-sept'!$A$10=Display!$B$11,'Lux4-sept'!$A$11=Display!$B$13),Display!$D4,)","v":0},{"$f":"IF(AND(I$8=Display!$T$10,'Lux4-sept'!$A$8=Display!$B$7,'Lux4-sept'!$A$9=Display!$B$9,'Lux4-sept'!$A$10=Display!$B$11,'Lux4-sept'!$A$11=Display!$B$13),Display!$D4,)","v":0},{"$f":"IF(AND(J$8=Display!$T$10,'Lux4-sept'!$A$8=Display!$B$7,'Lux4-sept'!$A$9=Display!$B$9,'Lux4-sept'!$A$10=Display!$B$11,'Lux4-sept'!$A$11=Display!$B$13),Display!$D4,)","v":0},{"$f":"IF(AND(K$8=Display!$T$10,'Lux4-sept'!$A$8=Display!$B$7,'Lux4-sept'!$A$9=Display!$B$9,'Lux4-sept'!$A$10=Display!$B$11,'Lux4-sept'!$A$11=Display!$B$13),Display!$D4,)","v":0},{"$f":"IF(AND(L$8=Display!$T$10,'Lux4-sept'!$A$8=Display!$B$7,'Lux4-sept'!$A$9=Display!$B$9,'Lux4-sept'!$A$10=Display!$B$11,'Lux4-sept'!$A$11=Display!$B$13),Display!$D4,)","v":0},{"$f":"IF(AND(M$8=Display!$T$10,'Lux4-sept'!$A$8=Display!$B$7,'Lux4-sept'!$A$9=Display!$B$9,'Lux4-sept'!$A$10=Display!$B$11,'Lux4-sept'!$A$11=Display!$B$13),Display!$D4,)","v":0},{"$f":"IF(AND(N$8=Display!$T$10,'Lux4-sept'!$A$8=Display!$B$7,'Lux4-sept'!$A$9=Display!$B$9,'Lux4-sept'!$A$10=Display!$B$11,'Lux4-sept'!$A$11=Display!$B$13),Display!$D4,)","v":0},{"$f":"IF(AND(O$8=Display!$T$10,'Lux4-sept'!$A$8=Display!$B$7,'Lux4-sept'!$A$9=Display!$B$9,'Lux4-sept'!$A$10=Display!$B$11,'Lux4-sept'!$A$11=Display!$B$13),Display!$D4,)","v":0},{"$f":"IF(AND(P$8=Display!$T$10,'Lux4-sept'!$A$8=Display!$B$7,'Lux4-sept'!$A$9=Display!$B$9,'Lux4-sept'!$A$10=Display!$B$11,'Lux4-sept'!$A$11=Display!$B$13),Display!$D4,)","v":0},{"$f":"IF(AND(Q$8=Display!$T$10,'Lux4-sept'!$A$8=Display!$B$7,'Lux4-sept'!$A$9=Display!$B$9,'Lux4-sept'!$A$10=Display!$B$11,'Lux4-sept'!$A$11=Display!$B$13),Display!$D4,)","v":0},{"$f":"IF(AND(R$8=Display!$T$10,'Lux4-sept'!$A$8=Display!$B$7,'Lux4-sept'!$A$9=Display!$B$9,'Lux4-sept'!$A$10=Display!$B$11,'Lux4-sept'!$A$11=Display!$B$13),Display!$D4,)","v":0},{"$f":"IF(AND(S$8=Display!$T$10,'Lux4-sept'!$A$8=Display!$B$7,'Lux4-sept'!$A$9=Display!$B$9,'Lux4-sept'!$A$10=Display!$B$11,'Lux4-sept'!$A$11=Display!$B$13),Display!$D4,)","v":0},{"$f":"IF(AND(T$8=Display!$T$10,'Lux4-sept'!$A$8=Display!$B$7,'Lux4-sept'!$A$9=Display!$B$9,'Lux4-sept'!$A$10=Display!$B$11,'Lux4-sept'!$A$11=Display!$B$13),Display!$D4,)","v":0},{"$f":"IF(AND(U$8=Display!$T$10,'Lux4-sept'!$A$8=Display!$B$7,'Lux4-sept'!$A$9=Display!$B$9,'Lux4-sept'!$A$10=Display!$B$11,'Lux4-sept'!$A$11=Display!$B$13),Display!$D4,)","v":0},{"$f":"IF(AND(V$8=Display!$T$10,'Lux4-sept'!$A$8=Display!$B$7,'Lux4-sept'!$A$9=Display!$B$9,'Lux4-sept'!$A$10=Display!$B$11,'Lux4-sept'!$A$11=Display!$B$13),Display!$D4,)","v":0},{"$f":"IF(AND(W$8=Display!$T$10,'Lux4-sept'!$A$8=Display!$B$7,'Lux4-sept'!$A$9=Display!$B$9,'Lux4-sept'!$A$10=Display!$B$11,'Lux4-sept'!$A$11=Display!$B$13),Display!$D4,)","v":0},{"$f":"IF(AND(X$8=Display!$T$10,'Lux4-sept'!$A$8=Display!$B$7,'Lux4-sept'!$A$9=Display!$B$9,'Lux4-sept'!$A$10=Display!$B$11,'Lux4-sept'!$A$11=Display!$B$13),Display!$D4,)","v":0},{"$f":"IF(AND(Y$8=Display!$T$10,'Lux4-sept'!$A$8=Display!$B$7,'Lux4-sept'!$A$9=Display!$B$9,'Lux4-sept'!$A$10=Display!$B$11,'Lux4-sept'!$A$11=Display!$B$13),Display!$D4,)","v":0},{"$f":"IF(AND(Z$8=Display!$T$10,'Lux4-sept'!$A$8=Display!$B$7,'Lux4-sept'!$A$9=Display!$B$9,'Lux4-sept'!$A$10=Display!$B$11,'Lux4-sept'!$A$11=Display!$B$13),Display!$D4,)","v":0},{"$f":"IF(AND(AA$8=Display!$T$10,'Lux4-sept'!$A$8=Display!$B$7,'Lux4-sept'!$A$9=Display!$B$9,'Lux4-sept'!$A$10=Display!$B$11,'Lux4-sept'!$A$11=Display!$B$13),Display!$D4,)","v":0},{"$f":"IF(AND(AB$8=Display!$T$10,'Lux4-sept'!$A$8=Display!$B$7,'Lux4-sept'!$A$9=Display!$B$9,'Lux4-sept'!$A$10=Display!$B$11,'Lux4-sept'!$A$11=Display!$B$13),Display!$D4,)","v":0},{"$f":"IF(AND(AC$8=Display!$T$10,'Lux4-sept'!$A$8=Display!$B$7,'Lux4-sept'!$A$9=Display!$B$9,'Lux4-sept'!$A$10=Display!$B$11,'Lux4-sept'!$A$11=Display!$B$13),Display!$D4,)","v":0},{"$f":"IF(AND(AD$8=Display!$T$10,'Lux4-sept'!$A$8=Display!$B$7,'Lux4-sept'!$A$9=Display!$B$9,'Lux4-sept'!$A$10=Display!$B$11,'Lux4-sept'!$A$11=Display!$B$13),Display!$D4,)","v":0},{"$f":"IF(AND(AE$8=Display!$T$10,'Lux4-sept'!$A$8=Display!$B$7,'Lux4-sept'!$A$9=Display!$B$9,'Lux4-sept'!$A$10=Display!$B$11,'Lux4-sept'!$A$11=Display!$B$13),Display!$D4,)","v":0},{"$f":"IF(AND(AF$8=Display!$T$10,'Lux4-sept'!$A$8=Display!$B$7,'Lux4-sept'!$A$9=Display!$B$9,'Lux4-sept'!$A$10=Display!$B$11,'Lux4-sept'!$A$11=Display!$B$13),Display!$D4,)","v":0},null,null,{"$f":"((IF((SUM(B12:AF12))<>0,(SUM(B12:AF12)),0))/(IF((SUM((IF(B12<>0,3,0)),(IF(C12<>0,3,0)),(IF(D12<>0,3,0)),(IF(E12<>0,3,0)),(IF(F12<>0,3,0)),(IF(F12<>0,3,0)),(IF(F12<>0,3,0)),(IF(G12<>0,3,0)),(IF(H12<>0,3,0)),(IF(I12<>0,3,0)),(IF(J12<>0,3,0)),(IF(K12<>0,3,0)),(IF(L12<>0,3,0)),(IF(M12<>0,3,0)),(IF(N12<>0,3,0)),(IF(O12<>0,3,0)),(IF(P12<>0,3,0)),(IF(Q12<>0,3,0)),(IF(R12<>0,3,0)),(IF(S12<>0,3,0)),(IF(T12<>0,3,0)),(IF(U12<>0,3,0)),(IF(V12<>0,3,0)),(IF(W12<>0,3,0)),(IF(X12<>0,3,0)),(IF(Y12<>0,3,0)),(IF(Z12<>0,3,0)),(IF(AA12<>0,3,0)),(IF(AB12<>0,3,0)),(IF(AC12<>0,3,0)),(IF(AD12<>0,3,0)),(IF(AE12<>0,3,0)),(IF(AF12<>0,3,0))))<>0,((SUM((IF(B12<>0,3,0)),(IF(C12<>0,3,0)),(IF(D12<>0,3,0)),(IF(E12<>0,3,0)),(IF(F12<>0,3,0)),(IF(F12<>0,3,0)),(IF(F12<>0,3,0)),(IF(G12<>0,3,0)),(IF(H12<>0,3,0)),(IF(I12<>0,3,0)),(IF(J12<>0,3,0)),(IF(K12<>0,3,0)),(IF(L12<>0,3,0)),(IF(M12<>0,3,0)),(IF(N12<>0,3,0)),(IF(O12<>0,3,0)),(IF(P12<>0,3,0)),(IF(Q12<>0,3,0)),(IF(R12<>0,3,0)),(IF(S12<>0,3,0)),(IF(T12<>0,3,0)),(IF(U12<>0,3,0)),(IF(V12<>0,3,0)),(IF(W12<>0,3,0)),(IF(X12<>0,3,0)),(IF(Y12<>0,3,0)),(IF(Z12<>0,3,0)),(IF(AA12<>0,3,0)),(IF(AB12<>0,3,0)),(IF(AC12<>0,3,0)),(IF(AD12<>0,3,0)),(IF(AE12<>0,3,0)),(IF(AF12<>0,3,0))))),1)))","v":0}]
["Salle prête à être utiliser après les meeting",{"$f":"IF(AND(B$8=Display!$T$10,'Lux4-sept'!$A$8=Display!$B$7,'Lux4-sept'!$A$9=Display!$B$9,'Lux4-sept'!$A$10=Display!$B$11,'Lux4-sept'!$A$11=Display!$B$13),Display!$D5,)","v":0},{"$f":"IF(AND(C$8=Display!$T$10,'Lux4-sept'!$A$8=Display!$B$7,'Lux4-sept'!$A$9=Display!$B$9,'Lux4-sept'!$A$10=Display!$B$11,'Lux4-sept'!$A$11=Display!$B$13),Display!$D5,)","v":0},{"$f":"IF(AND(D$8=Display!$T$10,'Lux4-sept'!$A$8=Display!$B$7,'Lux4-sept'!$A$9=Display!$B$9,'Lux4-sept'!$A$10=Display!$B$11,'Lux4-sept'!$A$11=Display!$B$13),Display!$D5,)","v":0},{"$f":"IF(AND(E$8=Display!$T$10,'Lux4-sept'!$A$8=Display!$B$7,'Lux4-sept'!$A$9=Display!$B$9,'Lux4-sept'!$A$10=Display!$B$11,'Lux4-sept'!$A$11=Display!$B$13),Display!$D5,)","v":0},{"$f":"IF(AND(F$8=Display!$T$10,'Lux4-sept'!$A$8=Display!$B$7,'Lux4-sept'!$A$9=Display!$B$9,'Lux4-sept'!$A$10=Display!$B$11,'Lux4-sept'!$A$11=Display!$B$13),Display!$D5,)","v":0},{"$f":"IF(AND(G$8=Display!$T$10,'Lux4-sept'!$A$8=Display!$B$7,'Lux4-sept'!$A$9=Display!$B$9,'Lux4-sept'!$A$10=Display!$B$11,'Lux4-sept'!$A$11=Display!$B$13),Display!$D5,)","v":0},{"$f":"IF(AND(H$8=Display!$T$10,'Lux4-sept'!$A$8=Display!$B$7,'Lux4-sept'!$A$9=Display!$B$9,'Lux4-sept'!$A$10=Display!$B$11,'Lux4-sept'!$A$11=Display!$B$13),Display!$D5,)","v":0},{"$f":"IF(AND(I$8=Display!$T$10,'Lux4-sept'!$A$8=Display!$B$7,'Lux4-sept'!$A$9=Display!$B$9,'Lux4-sept'!$A$10=Display!$B$11,'Lux4-sept'!$A$11=Display!$B$13),Display!$D5,)","v":0},{"$f":"IF(AND(J$8=Display!$T$10,'Lux4-sept'!$A$8=Display!$B$7,'Lux4-sept'!$A$9=Display!$B$9,'Lux4-sept'!$A$10=Display!$B$11,'Lux4-sept'!$A$11=Display!$B$13),Display!$D5,)","v":0},{"$f":"IF(AND(K$8=Display!$T$10,'Lux4-sept'!$A$8=Display!$B$7,'Lux4-sept'!$A$9=Display!$B$9,'Lux4-sept'!$A$10=Display!$B$11,'Lux4-sept'!$A$11=Display!$B$13),Display!$D5,)","v":0},{"$f":"IF(AND(L$8=Display!$T$10,'Lux4-sept'!$A$8=Display!$B$7,'Lux4-sept'!$A$9=Display!$B$9,'Lux4-sept'!$A$10=Display!$B$11,'Lux4-sept'!$A$11=Display!$B$13),Display!$D5,)","v":0},{"$f":"IF(AND(M$8=Display!$T$10,'Lux4-sept'!$A$8=Display!$B$7,'Lux4-sept'!$A$9=Display!$B$9,'Lux4-sept'!$A$10=Display!$B$11,'Lux4-sept'!$A$11=Display!$B$13),Display!$D5,)","v":0},{"$f":"IF(AND(N$8=Display!$T$10,'Lux4-sept'!$A$8=Display!$B$7,'Lux4-sept'!$A$9=Display!$B$9,'Lux4-sept'!$A$10=Display!$B$11,'Lux4-sept'!$A$11=Display!$B$13),Display!$D5,)","v":0},{"$f":"IF(AND(O$8=Display!$T$10,'Lux4-sept'!$A$8=Display!$B$7,'Lux4-sept'!$A$9=Display!$B$9,'Lux4-sept'!$A$10=Display!$B$11,'Lux4-sept'!$A$11=Display!$B$13),Display!$D5,)","v":0},{"$f":"IF(AND(P$8=Display!$T$10,'Lux4-sept'!$A$8=Display!$B$7,'Lux4-sept'!$A$9=Display!$B$9,'Lux4-sept'!$A$10=Display!$B$11,'Lux4-sept'!$A$11=Display!$B$13),Display!$D5,)","v":0},{"$f":"IF(AND(Q$8=Display!$T$10,'Lux4-sept'!$A$8=Display!$B$7,'Lux4-sept'!$A$9=Display!$B$9,'Lux4-sept'!$A$10=Display!$B$11,'Lux4-sept'!$A$11=Display!$B$13),Display!$D5,)","v":0},{"$f":"IF(AND(R$8=Display!$T$10,'Lux4-sept'!$A$8=Display!$B$7,'Lux4-sept'!$A$9=Display!$B$9,'Lux4-sept'!$A$10=Display!$B$11,'Lux4-sept'!$A$11=Display!$B$13),Display!$D5,)","v":0},{"$f":"IF(AND(S$8=Display!$T$10,'Lux4-sept'!$A$8=Display!$B$7,'Lux4-sept'!$A$9=Display!$B$9,'Lux4-sept'!$A$10=Display!$B$11,'Lux4-sept'!$A$11=Display!$B$13),Display!$D5,)","v":0},{"$f":"IF(AND(T$8=Display!$T$10,'Lux4-sept'!$A$8=Display!$B$7,'Lux4-sept'!$A$9=Display!$B$9,'Lux4-sept'!$A$10=Display!$B$11,'Lux4-sept'!$A$11=Display!$B$13),Display!$D5,)","v":0},{"$f":"IF(AND(U$8=Display!$T$10,'Lux4-sept'!$A$8=Display!$B$7,'Lux4-sept'!$A$9=Display!$B$9,'Lux4-sept'!$A$10=Display!$B$11,'Lux4-sept'!$A$11=Display!$B$13),Display!$D5,)","v":0},{"$f":"IF(AND(V$8=Display!$T$10,'Lux4-sept'!$A$8=Display!$B$7,'Lux4-sept'!$A$9=Display!$B$9,'Lux4-sept'!$A$10=Display!$B$11,'Lux4-sept'!$A$11=Display!$B$13),Display!$D5,)","v":0},{"$f":"IF(AND(W$8=Display!$T$10,'Lux4-sept'!$A$8=Display!$B$7,'Lux4-sept'!$A$9=Display!$B$9,'Lux4-sept'!$A$10=Display!$B$11,'Lux4-sept'!$A$11=Display!$B$13),Display!$D5,)","v":0},{"$f":"IF(AND(X$8=Display!$T$10,'Lux4-sept'!$A$8=Display!$B$7,'Lux4-sept'!$A$9=Display!$B$9,'Lux4-sept'!$A$10=Display!$B$11,'Lux4-sept'!$A$11=Display!$B$13),Display!$D5,)","v":0},{"$f":"IF(AND(Y$8=Display!$T$10,'Lux4-sept'!$A$8=Display!$B$7,'Lux4-sept'!$A$9=Display!$B$9,'Lux4-sept'!$A$10=Display!$B$11,'Lux4-sept'!$A$11=Display!$B$13),Display!$D5,)","v":0},{"$f":"IF(AND(Z$8=Display!$T$10,'Lux4-sept'!$A$8=Display!$B$7,'Lux4-sept'!$A$9=Display!$B$9,'Lux4-sept'!$A$10=Display!$B$11,'Lux4-sept'!$A$11=Display!$B$13),Display!$D5,)","v":0},{"$f":"IF(AND(AA$8=Display!$T$10,'Lux4-sept'!$A$8=Display!$B$7,'Lux4-sept'!$A$9=Display!$B$9,'Lux4-sept'!$A$10=Display!$B$11,'Lux4-sept'!$A$11=Display!$B$13),Display!$D5,)","v":0},{"$f":"IF(AND(AB$8=Display!$T$10,'Lux4-sept'!$A$8=Display!$B$7,'Lux4-sept'!$A$9=Display!$B$9,'Lux4-sept'!$A$10=Display!$B$11,'Lux4-sept'!$A$11=Display!$B$13),Display!$D5,)","v":0},{"$f":"IF(AND(AC$8=Display!$T$10,'Lux4-sept'!$A$8=Display!$B$7,'Lux4-sept'!$A$9=Display!$B$9,'Lux4-sept'!$A$10=Display!$B$11,'Lux4-sept'!$A$11=Display!$B$13),Display!$D5,)","v":0},{"$f":"IF(AND(AD$8=Display!$T$10,'Lux4-sept'!$A$8=Display!$B$7,'Lux4-sept'!$A$9=Display!$B$9,'Lux4-sept'!$A$10=Display!$B$11,'Lux4-sept'!$A$11=Display!$B$13),Display!$D5,)","v":0},{"$f":"IF(AND(AE$8=Display!$T$10,'Lux4-sept'!$A$8=Display!$B$7,'Lux4-sept'!$A$9=Display!$B$9,'Lux4-sept'!$A$10=Display!$B$11,'Lux4-sept'!$A$11=Display!$B$13),Display!$D5,)","v":0},{"$f":"IF(AND(AF$8=Display!$T$10,'Lux4-sept'!$A$8=Display!$B$7,'Lux4-sept'!$A$9=Display!$B$9,'Lux4-sept'!$A$10=Display!$B$11,'Lux4-sept'!$A$11=Display!$B$13),Display!$D5,)","v":0},null,null,{"$f":"((IF((SUM(B13:AF13))<>0,(SUM(B13:AF13)),0))/(IF((SUM((IF(B13<>0,3,0)),(IF(C13<>0,3,0)),(IF(D13<>0,3,0)),(IF(E13<>0,3,0)),(IF(F13<>0,3,0)),(IF(F13<>0,3,0)),(IF(F13<>0,3,0)),(IF(G13<>0,3,0)),(IF(H13<>0,3,0)),(IF(I13<>0,3,0)),(IF(J13<>0,3,0)),(IF(K13<>0,3,0)),(IF(L13<>0,3,0)),(IF(M13<>0,3,0)),(IF(N13<>0,3,0)),(IF(O13<>0,3,0)),(IF(P13<>0,3,0)),(IF(Q13<>0,3,0)),(IF(R13<>0,3,0)),(IF(S13<>0,3,0)),(IF(T13<>0,3,0)),(IF(U13<>0,3,0)),(IF(V13<>0,3,0)),(IF(W13<>0,3,0)),(IF(X13<>0,3,0)),(IF(Y13<>0,3,0)),(IF(Z13<>0,3,0)),(IF(AA13<>0,3,0)),(IF(AB13<>0,3,0)),(IF(AC13<>0,3,0)),(IF(AD13<>0,3,0)),(IF(AE13<>0,3,0)),(IF(AF13<>0,3,0))))<>0,((SUM((IF(B13<>0,3,0)),(IF(C13<>0,3,0)),(IF(D13<>0,3,0)),(IF(E13<>0,3,0)),(IF(F13<>0,3,0)),(IF(F13<>0,3,0)),(IF(F13<>0,3,0)),(IF(G13<>0,3,0)),(IF(H13<>0,3,0)),(IF(I13<>0,3,0)),(IF(J13<>0,3,0)),(IF(K13<>0,3,0)),(IF(L13<>0,3,0)),(IF(M13<>0,3,0)),(IF(N13<>0,3,0)),(IF(O13<>0,3,0)),(IF(P13<>0,3,0)),(IF(Q13<>0,3,0)),(IF(R13<>0,3,0)),(IF(S13<>0,3,0)),(IF(T13<>0,3,0)),(IF(U13<>0,3,0)),(IF(V13<>0,3,0)),(IF(W13<>0,3,0)),(IF(X13<>0,3,0)),(IF(Y13<>0,3,0)),(IF(Z13<>0,3,0)),(IF(AA13<>0,3,0)),(IF(AB13<>0,3,0)),(IF(AC13<>0,3,0)),(IF(AD13<>0,3,0)),(IF(AE13<>0,3,0)),(IF(AF13<>0,3,0))))),1)))","v":0}]
["Chaises rangées",{"$f":"IF(AND(B$8=Display!$T$10,'Lux4-sept'!$A$8=Display!$B$7,'Lux4-sept'!$A$9=Display!$B$9,'Lux4-sept'!$A$10=Display!$B$11,'Lux4-sept'!$A$11=Display!$B$13),Display!$D6,)","v":0},{"$f":"IF(AND(C$8=Display!$T$10,'Lux4-sept'!$A$8=Display!$B$7,'Lux4-sept'!$A$9=Display!$B$9,'Lux4-sept'!$A$10=Display!$B$11,'Lux4-sept'!$A$11=Display!$B$13),Display!$D6,)","v":0},{"$f":"IF(AND(D$8=Display!$T$10,'Lux4-sept'!$A$8=Display!$B$7,'Lux4-sept'!$A$9=Display!$B$9,'Lux4-sept'!$A$10=Display!$B$11,'Lux4-sept'!$A$11=Display!$B$13),Display!$D6,)","v":0},{"$f":"IF(AND(E$8=Display!$T$10,'Lux4-sept'!$A$8=Display!$B$7,'Lux4-sept'!$A$9=Display!$B$9,'Lux4-sept'!$A$10=Display!$B$11,'Lux4-sept'!$A$11=Display!$B$13),Display!$D6,)","v":0},{"$f":"IF(AND(F$8=Display!$T$10,'Lux4-sept'!$A$8=Display!$B$7,'Lux4-sept'!$A$9=Display!$B$9,'Lux4-sept'!$A$10=Display!$B$11,'Lux4-sept'!$A$11=Display!$B$13),Display!$D6,)","v":0},{"$f":"IF(AND(G$8=Display!$T$10,'Lux4-sept'!$A$8=Display!$B$7,'Lux4-sept'!$A$9=Display!$B$9,'Lux4-sept'!$A$10=Display!$B$11,'Lux4-sept'!$A$11=Display!$B$13),Display!$D6,)","v":0},{"$f":"IF(AND(H$8=Display!$T$10,'Lux4-sept'!$A$8=Display!$B$7,'Lux4-sept'!$A$9=Display!$B$9,'Lux4-sept'!$A$10=Display!$B$11,'Lux4-sept'!$A$11=Display!$B$13),Display!$D6,)","v":0},{"$f":"IF(AND(I$8=Display!$T$10,'Lux4-sept'!$A$8=Display!$B$7,'Lux4-sept'!$A$9=Display!$B$9,'Lux4-sept'!$A$10=Display!$B$11,'Lux4-sept'!$A$11=Display!$B$13),Display!$D6,)","v":0},{"$f":"IF(AND(J$8=Display!$T$10,'Lux4-sept'!$A$8=Display!$B$7,'Lux4-sept'!$A$9=Display!$B$9,'Lux4-sept'!$A$10=Display!$B$11,'Lux4-sept'!$A$11=Display!$B$13),Display!$D6,)","v":0},{"$f":"IF(AND(K$8=Display!$T$10,'Lux4-sept'!$A$8=Display!$B$7,'Lux4-sept'!$A$9=Display!$B$9,'Lux4-sept'!$A$10=Display!$B$11,'Lux4-sept'!$A$11=Display!$B$13),Display!$D6,)","v":0},{"$f":"IF(AND(L$8=Display!$T$10,'Lux4-sept'!$A$8=Display!$B$7,'Lux4-sept'!$A$9=Display!$B$9,'Lux4-sept'!$A$10=Display!$B$11,'Lux4-sept'!$A$11=Display!$B$13),Display!$D6,)","v":0},{"$f":"IF(AND(M$8=Display!$T$10,'Lux4-sept'!$A$8=Display!$B$7,'Lux4-sept'!$A$9=Display!$B$9,'Lux4-sept'!$A$10=Display!$B$11,'Lux4-sept'!$A$11=Display!$B$13),Display!$D6,)","v":0},{"$f":"IF(AND(N$8=Display!$T$10,'Lux4-sept'!$A$8=Display!$B$7,'Lux4-sept'!$A$9=Display!$B$9,'Lux4-sept'!$A$10=Display!$B$11,'Lux4-sept'!$A$11=Display!$B$13),Display!$D6,)","v":0},{"$f":"IF(AND(O$8=Display!$T$10,'Lux4-sept'!$A$8=Display!$B$7,'Lux4-sept'!$A$9=Display!$B$9,'Lux4-sept'!$A$10=Display!$B$11,'Lux4-sept'!$A$11=Display!$B$13),Display!$D6,)","v":0},{"$f":"IF(AND(P$8=Display!$T$10,'Lux4-sept'!$A$8=Display!$B$7,'Lux4-sept'!$A$9=Display!$B$9,'Lux4-sept'!$A$10=Display!$B$11,'Lux4-sept'!$A$11=Display!$B$13),Display!$D6,)","v":0},{"$f":"IF(AND(Q$8=Display!$T$10,'Lux4-sept'!$A$8=Display!$B$7,'Lux4-sept'!$A$9=Display!$B$9,'Lux4-sept'!$A$10=Display!$B$11,'Lux4-sept'!$A$11=Display!$B$13),Display!$D6,)","v":0},{"$f":"IF(AND(R$8=Display!$T$10,'Lux4-sept'!$A$8=Display!$B$7,'Lux4-sept'!$A$9=Display!$B$9,'Lux4-sept'!$A$10=Display!$B$11,'Lux4-sept'!$A$11=Display!$B$13),Display!$D6,)","v":0},{"$f":"IF(AND(S$8=Display!$T$10,'Lux4-sept'!$A$8=Display!$B$7,'Lux4-sept'!$A$9=Display!$B$9,'Lux4-sept'!$A$10=Display!$B$11,'Lux4-sept'!$A$11=Display!$B$13),Display!$D6,)","v":0},{"$f":"IF(AND(T$8=Display!$T$10,'Lux4-sept'!$A$8=Display!$B$7,'Lux4-sept'!$A$9=Display!$B$9,'Lux4-sept'!$A$10=Display!$B$11,'Lux4-sept'!$A$11=Display!$B$13),Display!$D6,)","v":0},{"$f":"IF(AND(U$8=Display!$T$10,'Lux4-sept'!$A$8=Display!$B$7,'Lux4-sept'!$A$9=Display!$B$9,'Lux4-sept'!$A$10=Display!$B$11,'Lux4-sept'!$A$11=Display!$B$13),Display!$D6,)","v":0},{"$f":"IF(AND(V$8=Display!$T$10,'Lux4-sept'!$A$8=Display!$B$7,'Lux4-sept'!$A$9=Display!$B$9,'Lux4-sept'!$A$10=Display!$B$11,'Lux4-sept'!$A$11=Display!$B$13),Display!$D6,)","v":0},{"$f":"IF(AND(W$8=Display!$T$10,'Lux4-sept'!$A$8=Display!$B$7,'Lux4-sept'!$A$9=Display!$B$9,'Lux4-sept'!$A$10=Display!$B$11,'Lux4-sept'!$A$11=Display!$B$13),Display!$D6,)","v":0},{"$f":"IF(AND(X$8=Display!$T$10,'Lux4-sept'!$A$8=Display!$B$7,'Lux4-sept'!$A$9=Display!$B$9,'Lux4-sept'!$A$10=Display!$B$11,'Lux4-sept'!$A$11=Display!$B$13),Display!$D6,)","v":0},{"$f":"IF(AND(Y$8=Display!$T$10,'Lux4-sept'!$A$8=Display!$B$7,'Lux4-sept'!$A$9=Display!$B$9,'Lux4-sept'!$A$10=Display!$B$11,'Lux4-sept'!$A$11=Display!$B$13),Display!$D6,)","v":0},{"$f":"IF(AND(Z$8=Display!$T$10,'Lux4-sept'!$A$8=Display!$B$7,'Lux4-sept'!$A$9=Display!$B$9,'Lux4-sept'!$A$10=Display!$B$11,'Lux4-sept'!$A$11=Display!$B$13),Display!$D6,)","v":0},{"$f":"IF(AND(AA$8=Display!$T$10,'Lux4-sept'!$A$8=Display!$B$7,'Lux4-sept'!$A$9=Display!$B$9,'Lux4-sept'!$A$10=Display!$B$11,'Lux4-sept'!$A$11=Display!$B$13),Display!$D6,)","v":0},{"$f":"IF(AND(AB$8=Display!$T$10,'Lux4-sept'!$A$8=Display!$B$7,'Lux4-sept'!$A$9=Display!$B$9,'Lux4-sept'!$A$10=Display!$B$11,'Lux4-sept'!$A$11=Display!$B$13),Display!$D6,)","v":0},{"$f":"IF(AND(AC$8=Display!$T$10,'Lux4-sept'!$A$8=Display!$B$7,'Lux4-sept'!$A$9=Display!$B$9,'Lux4-sept'!$A$10=Display!$B$11,'Lux4-sept'!$A$11=Display!$B$13),Display!$D6,)","v":0},{"$f":"IF(AND(AD$8=Display!$T$10,'Lux4-sept'!$A$8=Display!$B$7,'Lux4-sept'!$A$9=Display!$B$9,'Lux4-sept'!$A$10=Display!$B$11,'Lux4-sept'!$A$11=Display!$B$13),Display!$D6,)","v":0},{"$f":"IF(AND(AE$8=Display!$T$10,'Lux4-sept'!$A$8=Display!$B$7,'Lux4-sept'!$A$9=Display!$B$9,'Lux4-sept'!$A$10=Display!$B$11,'Lux4-sept'!$A$11=Display!$B$13),Display!$D6,)","v":0},{"$f":"IF(AND(AF$8=Display!$T$10,'Lux4-sept'!$A$8=Display!$B$7,'Lux4-sept'!$A$9=Display!$B$9,'Lux4-sept'!$A$10=Display!$B$11,'Lux4-sept'!$A$11=Display!$B$13),Display!$D6,)","v":0},null,null,0]
["Poubelles vidées",{"$f":"IF(AND(B$8=Display!$T$10,'Lux4-sept'!$A$8=Display!$B$7,'Lux4-sept'!$A$9=Display!$B$9,'Lux4-sept'!$A$10=Display!$B$11,'Lux4-sept'!$A$11=Display!$B$13),Display!$D7,)","v":0},{"$f":"IF(AND(C$8=Display!$T$10,'Lux4-sept'!$A$8=Display!$B$7,'Lux4-sept'!$A$9=Display!$B$9,'Lux4-sept'!$A$10=Display!$B$11,'Lux4-sept'!$A$11=Display!$B$13),Display!$D7,)","v":0},{"$f":"IF(AND(D$8=Display!$T$10,'Lux4-sept'!$A$8=Display!$B$7,'Lux4-sept'!$A$9=Display!$B$9,'Lux4-sept'!$A$10=Display!$B$11,'Lux4-sept'!$A$11=Display!$B$13),Display!$D7,)","v":0},{"$f":"IF(AND(E$8=Display!$T$10,'Lux4-sept'!$A$8=Display!$B$7,'Lux4-sept'!$A$9=Display!$B$9,'Lux4-sept'!$A$10=Display!$B$11,'Lux4-sept'!$A$11=Display!$B$13),Display!$D7,)","v":0},{"$f":"IF(AND(F$8=Display!$T$10,'Lux4-sept'!$A$8=Display!$B$7,'Lux4-sept'!$A$9=Display!$B$9,'Lux4-sept'!$A$10=Display!$B$11,'Lux4-sept'!$A$11=Display!$B$13),Display!$D7,)","v":0},{"$f":"IF(AND(G$8=Display!$T$10,'Lux4-sept'!$A$8=Display!$B$7,'Lux4-sept'!$A$9=Display!$B$9,'Lux4-sept'!$A$10=Display!$B$11,'Lux4-sept'!$A$11=Display!$B$13),Display!$D7,)","v":0},{"$f":"IF(AND(H$8=Display!$T$10,'Lux4-sept'!$A$8=Display!$B$7,'Lux4-sept'!$A$9=Display!$B$9,'Lux4-sept'!$A$10=Display!$B$11,'Lux4-sept'!$A$11=Display!$B$13),Display!$D7,)","v":0},{"$f":"IF(AND(I$8=Display!$T$10,'Lux4-sept'!$A$8=Display!$B$7,'Lux4-sept'!$A$9=Display!$B$9,'Lux4-sept'!$A$10=Display!$B$11,'Lux4-sept'!$A$11=Display!$B$13),Display!$D7,)","v":0},{"$f":"IF(AND(J$8=Display!$T$10,'Lux4-sept'!$A$8=Display!$B$7,'Lux4-sept'!$A$9=Display!$B$9,'Lux4-sept'!$A$10=Display!$B$11,'Lux4-sept'!$A$11=Display!$B$13),Display!$D7,)","v":0},{"$f":"IF(AND(K$8=Display!$T$10,'Lux4-sept'!$A$8=Display!$B$7,'Lux4-sept'!$A$9=Display!$B$9,'Lux4-sept'!$A$10=Display!$B$11,'Lux4-sept'!$A$11=Display!$B$13),Display!$D7,)","v":0},{"$f":"IF(AND(L$8=Display!$T$10,'Lux4-sept'!$A$8=Display!$B$7,'Lux4-sept'!$A$9=Display!$B$9,'Lux4-sept'!$A$10=Display!$B$11,'Lux4-sept'!$A$11=Display!$B$13),Display!$D7,)","v":0},{"$f":"IF(AND(M$8=Display!$T$10,'Lux4-sept'!$A$8=Display!$B$7,'Lux4-sept'!$A$9=Display!$B$9,'Lux4-sept'!$A$10=Display!$B$11,'Lux4-sept'!$A$11=Display!$B$13),Display!$D7,)","v":0},{"$f":"IF(AND(N$8=Display!$T$10,'Lux4-sept'!$A$8=Display!$B$7,'Lux4-sept'!$A$9=Display!$B$9,'Lux4-sept'!$A$10=Display!$B$11,'Lux4-sept'!$A$11=Display!$B$13),Display!$D7,)","v":0},{"$f":"IF(AND(O$8=Display!$T$10,'Lux4-sept'!$A$8=Display!$B$7,'Lux4-sept'!$A$9=Display!$B$9,'Lux4-sept'!$A$10=Display!$B$11,'Lux4-sept'!$A$11=Display!$B$13),Display!$D7,)","v":0},{"$f":"IF(AND(P$8=Display!$T$10,'Lux4-sept'!$A$8=Display!$B$7,'Lux4-sept'!$A$9=Display!$B$9,'Lux4-sept'!$A$10=Display!$B$11,'Lux4-sept'!$A$11=Display!$B$13),Display!$D7,)","v":0},{"$f":"IF(AND(Q$8=Display!$T$10,'Lux4-sept'!$A$8=Display!$B$7,'Lux4-sept'!$A$9=Display!$B$9,'Lux4-sept'!$A$10=Display!$B$11,'Lux4-sept'!$A$11=Display!$B$13),Display!$D7,)","v":0},{"$f":"IF(AND(R$8=Display!$T$10,'Lux4-sept'!$A$8=Display!$B$7,'Lux4-sept'!$A$9=Display!$B$9,'Lux4-sept'!$A$10=Display!$B$11,'Lux4-sept'!$A$11=Display!$B$13),Display!$D7,)","v":0},{"$f":"IF(AND(S$8=Display!$T$10,'Lux4-sept'!$A$8=Display!$B$7,'Lux4-sept'!$A$9=Display!$B$9,'Lux4-sept'!$A$10=Display!$B$11,'Lux4-sept'!$A$11=Display!$B$13),Display!$D7,)","v":0},{"$f":"IF(AND(T$8=Display!$T$10,'Lux4-sept'!$A$8=Display!$B$7,'Lux4-sept'!$A$9=Display!$B$9,'Lux4-sept'!$A$10=Display!$B$11,'Lux4-sept'!$A$11=Display!$B$13),Display!$D7,)","v":0},{"$f":"IF(AND(U$8=Display!$T$10,'Lux4-sept'!$A$8=Display!$B$7,'Lux4-sept'!$A$9=Display!$B$9,'Lux4-sept'!$A$10=Display!$B$11,'Lux4-sept'!$A$11=Display!$B$13),Display!$D7,)","v":0},{"$f":"IF(AND(V$8=Display!$T$10,'Lux4-sept'!$A$8=Display!$B$7,'Lux4-sept'!$A$9=Display!$B$9,'Lux4-sept'!$A$10=Display!$B$11,'Lux4-sept'!$A$11=Display!$B$13),Display!$D7,)","v":0},{"$f":"IF(AND(W$8=Display!$T$10,'Lux4-sept'!$A$8=Display!$B$7,'Lux4-sept'!$A$9=Display!$B$9,'Lux4-sept'!$A$10=Display!$B$11,'Lux4-sept'!$A$11=Display!$B$13),Display!$D7,)","v":0},{"$f":"IF(AND(X$8=Display!$T$10,'Lux4-sept'!$A$8=Display!$B$7,'Lux4-sept'!$A$9=Display!$B$9,'Lux4-sept'!$A$10=Display!$B$11,'Lux4-sept'!$A$11=Display!$B$13),Display!$D7,)","v":0},{"$f":"IF(AND(Y$8=Display!$T$10,'Lux4-sept'!$A$8=Display!$B$7,'Lux4-sept'!$A$9=Display!$B$9,'Lux4-sept'!$A$10=Display!$B$11,'Lux4-sept'!$A$11=Display!$B$13),Display!$D7,)","v":0},{"$f":"IF(AND(Z$8=Display!$T$10,'Lux4-sept'!$A$8=Display!$B$7,'Lux4-sept'!$A$9=Display!$B$9,'Lux4-sept'!$A$10=Display!$B$11,'Lux4-sept'!$A$11=Display!$B$13),Display!$D7,)","v":0},{"$f":"IF(AND(AA$8=Display!$T$10,'Lux4-sept'!$A$8=Display!$B$7,'Lux4-sept'!$A$9=Display!$B$9,'Lux4-sept'!$A$10=Display!$B$11,'Lux4-sept'!$A$11=Display!$B$13),Display!$D7,)","v":0},{"$f":"IF(AND(AB$8=Display!$T$10,'Lux4-sept'!$A$8=Display!$B$7,'Lux4-sept'!$A$9=Display!$B$9,'Lux4-sept'!$A$10=Display!$B$11,'Lux4-sept'!$A$11=Display!$B$13),Display!$D7,)","v":0},{"$f":"IF(AND(AC$8=Display!$T$10,'Lux4-sept'!$A$8=Display!$B$7,'Lux4-sept'!$A$9=Display!$B$9,'Lux4-sept'!$A$10=Display!$B$11,'Lux4-sept'!$A$11=Display!$B$13),Display!$D7,)","v":0},{"$f":"IF(AND(AD$8=Display!$T$10,'Lux4-sept'!$A$8=Display!$B$7,'Lux4-sept'!$A$9=Display!$B$9,'Lux4-sept'!$A$10=Display!$B$11,'Lux4-sept'!$A$11=Display!$B$13),Display!$D7,)","v":0},{"$f":"IF(AND(AE$8=Display!$T$10,'Lux4-sept'!$A$8=Display!$B$7,'Lux4-sept'!$A$9=Display!$B$9,'Lux4-sept'!$A$10=Display!$B$11,'Lux4-sept'!$A$11=Display!$B$13),Display!$D7,)","v":0},{"$f":"IF(AND(AF$8=Display!$T$10,'Lux4-sept'!$A$8=Display!$B$7,'Lux4-sept'!$A$9=Display!$B$9,'Lux4-sept'!$A$10=Display!$B$11,'Lux4-sept'!$A$11=Display!$B$13),Display!$D7,)","v":0},null,null,0]
["Tables nettoyées",{"$f":"IF(AND(B$8=Display!$T$10,'Lux4-sept'!$A$8=Display!$B$7,'Lux4-sept'!$A$9=Display!$B$9,'Lux4-sept'!$A$10=Display!$B$11,'Lux4-sept'!$A$11=Display!$B$13),Display!$D8,)","v":0},{"$f":"IF(AND(C$8=Display!$T$10,'Lux4-sept'!$A$8=Display!$B$7,'Lux4-sept'!$A$9=Display!$B$9,'Lux4-sept'!$A$10=Display!$B$11,'Lux4-sept'!$A$11=Display!$B$13),Display!$D8,)","v":0},{"$f":"IF(AND(D$8=Display!$T$10,'Lux4-sept'!$A$8=Display!$B$7,'Lux4-sept'!$A$9=Display!$B$9,'Lux4-sept'!$A$10=Display!$B$11,'Lux4-sept'!$A$11=Display!$B$13),Display!$D8,)","v":0},{"$f":"IF(AND(E$8=Display!$T$10,'Lux4-sept'!$A$8=Display!$B$7,'Lux4-sept'!$A$9=Display!$B$9,'Lux4-sept'!$A$10=Display!$B$11,'Lux4-sept'!$A$11=Display!$B$13),Display!$D8,)","v":0},{"$f":"IF(AND(F$8=Display!$T$10,'Lux4-sept'!$A$8=Display!$B$7,'Lux4-sept'!$A$9=Display!$B$9,'Lux4-sept'!$A$10=Display!$B$11,'Lux4-sept'!$A$11=Display!$B$13),Display!$D8,)","v":0},{"$f":"IF(AND(G$8=Display!$T$10,'Lux4-sept'!$A$8=Display!$B$7,'Lux4-sept'!$A$9=Display!$B$9,'Lux4-sept'!$A$10=Display!$B$11,'Lux4-sept'!$A$11=Display!$B$13),Display!$D8,)","v":0},{"$f":"IF(AND(H$8=Display!$T$10,'Lux4-sept'!$A$8=Display!$B$7,'Lux4-sept'!$A$9=Display!$B$9,'Lux4-sept'!$A$10=Display!$B$11,'Lux4-sept'!$A$11=Display!$B$13),Display!$D8,)","v":0},{"$f":"IF(AND(I$8=Display!$T$10,'Lux4-sept'!$A$8=Display!$B$7,'Lux4-sept'!$A$9=Display!$B$9,'Lux4-sept'!$A$10=Display!$B$11,'Lux4-sept'!$A$11=Display!$B$13),Display!$D8,)","v":0},{"$f":"IF(AND(J$8=Display!$T$10,'Lux4-sept'!$A$8=Display!$B$7,'Lux4-sept'!$A$9=Display!$B$9,'Lux4-sept'!$A$10=Display!$B$11,'Lux4-sept'!$A$11=Display!$B$13),Display!$D8,)","v":0},{"$f":"IF(AND(K$8=Display!$T$10,'Lux4-sept'!$A$8=Display!$B$7,'Lux4-sept'!$A$9=Display!$B$9,'Lux4-sept'!$A$10=Display!$B$11,'Lux4-sept'!$A$11=Display!$B$13),Display!$D8,)","v":0},{"$f":"IF(AND(L$8=Display!$T$10,'Lux4-sept'!$A$8=Display!$B$7,'Lux4-sept'!$A$9=Display!$B$9,'Lux4-sept'!$A$10=Display!$B$11,'Lux4-sept'!$A$11=Display!$B$13),Display!$D8,)","v":0},{"$f":"IF(AND(M$8=Display!$T$10,'Lux4-sept'!$A$8=Display!$B$7,'Lux4-sept'!$A$9=Display!$B$9,'Lux4-sept'!$A$10=Display!$B$11,'Lux4-sept'!$A$11=Display!$B$13),Display!$D8,)","v":0},{"$f":"IF(AND(N$8=Display!$T$10,'Lux4-sept'!$A$8=Display!$B$7,'Lux4-sept'!$A$9=Display!$B$9,'Lux4-sept'!$A$10=Display!$B$11,'Lux4-sept'!$A$11=Display!$B$13),Display!$D8,)","v":0},{"$f":"IF(AND(O$8=Display!$T$10,'Lux4-sept'!$A$8=Display!$B$7,'Lux4-sept'!$A$9=Display!$B$9,'Lux4-sept'!$A$10=Display!$B$11,'Lux4-sept'!$A$11=Display!$B$13),Display!$D8,)","v":0},{"$f":"IF(AND(P$8=Display!$T$10,'Lux4-sept'!$A$8=Display!$B$7,'Lux4-sept'!$A$9=Display!$B$9,'Lux4-sept'!$A$10=Display!$B$11,'Lux4-sept'!$A$11=Display!$B$13),Display!$D8,)","v":0},{"$f":"IF(AND(Q$8=Display!$T$10,'Lux4-sept'!$A$8=Display!$B$7,'Lux4-sept'!$A$9=Display!$B$9,'Lux4-sept'!$A$10=Display!$B$11,'Lux4-sept'!$A$11=Display!$B$13),Display!$D8,)","v":0},{"$f":"IF(AND(R$8=Display!$T$10,'Lux4-sept'!$A$8=Display!$B$7,'Lux4-sept'!$A$9=Display!$B$9,'Lux4-sept'!$A$10=Display!$B$11,'Lux4-sept'!$A$11=Display!$B$13),Display!$D8,)","v":0},{"$f":"IF(AND(S$8=Display!$T$10,'Lux4-sept'!$A$8=Display!$B$7,'Lux4-sept'!$A$9=Display!$B$9,'Lux4-sept'!$A$10=Display!$B$11,'Lux4-sept'!$A$11=Display!$B$13),Display!$D8,)","v":0},{"$f":"IF(AND(T$8=Display!$T$10,'Lux4-sept'!$A$8=Display!$B$7,'Lux4-sept'!$A$9=Display!$B$9,'Lux4-sept'!$A$10=Display!$B$11,'Lux4-sept'!$A$11=Display!$B$13),Display!$D8,)","v":0},{"$f":"IF(AND(U$8=Display!$T$10,'Lux4-sept'!$A$8=Display!$B$7,'Lux4-sept'!$A$9=Display!$B$9,'Lux4-sept'!$A$10=Display!$B$11,'Lux4-sept'!$A$11=Display!$B$13),Display!$D8,)","v":0},{"$f":"IF(AND(V$8=Display!$T$10,'Lux4-sept'!$A$8=Display!$B$7,'Lux4-sept'!$A$9=Display!$B$9,'Lux4-sept'!$A$10=Display!$B$11,'Lux4-sept'!$A$11=Display!$B$13),Display!$D8,)","v":0},{"$f":"IF(AND(W$8=Display!$T$10,'Lux4-sept'!$A$8=Display!$B$7,'Lux4-sept'!$A$9=Display!$B$9,'Lux4-sept'!$A$10=Display!$B$11,'Lux4-sept'!$A$11=Display!$B$13),Display!$D8,)","v":0},{"$f":"IF(AND(X$8=Display!$T$10,'Lux4-sept'!$A$8=Display!$B$7,'Lux4-sept'!$A$9=Display!$B$9,'Lux4-sept'!$A$10=Display!$B$11,'Lux4-sept'!$A$11=Display!$B$13),Display!$D8,)","v":0},{"$f":"IF(AND(Y$8=Display!$T$10,'Lux4-sept'!$A$8=Display!$B$7,'Lux4-sept'!$A$9=Display!$B$9,'Lux4-sept'!$A$10=Display!$B$11,'Lux4-sept'!$A$11=Display!$B$13),Display!$D8,)","v":0},{"$f":"IF(AND(Z$8=Display!$T$10,'Lux4-sept'!$A$8=Display!$B$7,'Lux4-sept'!$A$9=Display!$B$9,'Lux4-sept'!$A$10=Display!$B$11,'Lux4-sept'!$A$11=Display!$B$13),Display!$D8,)","v":0},{"$f":"IF(AND(AA$8=Display!$T$10,'Lux4-sept'!$A$8=Display!$B$7,'Lux4-sept'!$A$9=Display!$B$9,'Lux4-sept'!$A$10=Display!$B$11,'Lux4-sept'!$A$11=Display!$B$13),Display!$D8,)","v":0},{"$f":"IF(AND(AB$8=Display!$T$10,'Lux4-sept'!$A$8=Display!$B$7,'Lux4-sept'!$A$9=Display!$B$9,'Lux4-sept'!$A$10=Display!$B$11,'Lux4-sept'!$A$11=Display!$B$13),Display!$D8,)","v":0},{"$f":"IF(AND(AC$8=Display!$T$10,'Lux4-sept'!$A$8=Display!$B$7,'Lux4-sept'!$A$9=Display!$B$9,'Lux4-sept'!$A$10=Display!$B$11,'Lux4-sept'!$A$11=Display!$B$13),Display!$D8,)","v":0},{"$f":"IF(AND(AD$8=Display!$T$10,'Lux4-sept'!$A$8=Display!$B$7,'Lux4-sept'!$A$9=Display!$B$9,'Lux4-sept'!$A$10=Display!$B$11,'Lux4-sept'!$A$11=Display!$B$13),Display!$D8,)","v":0},{"$f":"IF(AND(AE$8=Display!$T$10,'Lux4-sept'!$A$8=Display!$B$7,'Lux4-sept'!$A$9=Display!$B$9,'Lux4-sept'!$A$10=Display!$B$11,'Lux4-sept'!$A$11=Display!$B$13),Display!$D8,)","v":0},{"$f":"IF(AND(AF$8=Display!$T$10,'Lux4-sept'!$A$8=Display!$B$7,'Lux4-sept'!$A$9=Display!$B$9,'Lux4-sept'!$A$10=Display!$B$11,'Lux4-sept'!$A$11=Display!$B$13),Display!$D8,)","v":0},null,null,0]
["Tableaux effacés",{"$f":"IF(AND(B$8=Display!$T$10,'Lux4-sept'!$A$8=Display!$B$7,'Lux4-sept'!$A$9=Display!$B$9,'Lux4-sept'!$A$10=Display!$B$11,'Lux4-sept'!$A$11=Display!$B$13),Display!$D9,)","v":0},{"$f":"IF(AND(C$8=Display!$T$10,'Lux4-sept'!$A$8=Display!$B$7,'Lux4-sept'!$A$9=Display!$B$9,'Lux4-sept'!$A$10=Display!$B$11,'Lux4-sept'!$A$11=Display!$B$13),Display!$D9,)","v":0},{"$f":"IF(AND(D$8=Display!$T$10,'Lux4-sept'!$A$8=Display!$B$7,'Lux4-sept'!$A$9=Display!$B$9,'Lux4-sept'!$A$10=Display!$B$11,'Lux4-sept'!$A$11=Display!$B$13),Display!$D9,)","v":0},{"$f":"IF(AND(E$8=Display!$T$10,'Lux4-sept'!$A$8=Display!$B$7,'Lux4-sept'!$A$9=Display!$B$9,'Lux4-sept'!$A$10=Display!$B$11,'Lux4-sept'!$A$11=Display!$B$13),Display!$D9,)","v":0},{"$f":"IF(AND(F$8=Display!$T$10,'Lux4-sept'!$A$8=Display!$B$7,'Lux4-sept'!$A$9=Display!$B$9,'Lux4-sept'!$A$10=Display!$B$11,'Lux4-sept'!$A$11=Display!$B$13),Display!$D9,)","v":0},{"$f":"IF(AND(G$8=Display!$T$10,'Lux4-sept'!$A$8=Display!$B$7,'Lux4-sept'!$A$9=Display!$B$9,'Lux4-sept'!$A$10=Display!$B$11,'Lux4-sept'!$A$11=Display!$B$13),Display!$D9,)","v":0},{"$f":"IF(AND(H$8=Display!$T$10,'Lux4-sept'!$A$8=Display!$B$7,'Lux4-sept'!$A$9=Display!$B$9,'Lux4-sept'!$A$10=Display!$B$11,'Lux4-sept'!$A$11=Display!$B$13),Display!$D9,)","v":0},{"$f":"IF(AND(I$8=Display!$T$10,'Lux4-sept'!$A$8=Display!$B$7,'Lux4-sept'!$A$9=Display!$B$9,'Lux4-sept'!$A$10=Display!$B$11,'Lux4-sept'!$A$11=Display!$B$13),Display!$D9,)","v":0},{"$f":"IF(AND(J$8=Display!$T$10,'Lux4-sept'!$A$8=Display!$B$7,'Lux4-sept'!$A$9=Display!$B$9,'Lux4-sept'!$A$10=Display!$B$11,'Lux4-sept'!$A$11=Display!$B$13),Display!$D9,)","v":0},{"$f":"IF(AND(K$8=Display!$T$10,'Lux4-sept'!$A$8=Display!$B$7,'Lux4-sept'!$A$9=Display!$B$9,'Lux4-sept'!$A$10=Display!$B$11,'Lux4-sept'!$A$11=Display!$B$13),Display!$D9,)","v":0},{"$f":"IF(AND(L$8=Display!$T$10,'Lux4-sept'!$A$8=Display!$B$7,'Lux4-sept'!$A$9=Display!$B$9,'Lux4-sept'!$A$10=Display!$B$11,'Lux4-sept'!$A$11=Display!$B$13),Display!$D9,)","v":0},{"$f":"IF(AND(M$8=Display!$T$10,'Lux4-sept'!$A$8=Display!$B$7,'Lux4-sept'!$A$9=Display!$B$9,'Lux4-sept'!$A$10=Display!$B$11,'Lux4-sept'!$A$11=Display!$B$13),Display!$D9,)","v":0},{"$f":"IF(AND(N$8=Display!$T$10,'Lux4-sept'!$A$8=Display!$B$7,'Lux4-sept'!$A$9=Display!$B$9,'Lux4-sept'!$A$10=Display!$B$11,'Lux4-sept'!$A$11=Display!$B$13),Display!$D9,)","v":0},{"$f":"IF(AND(O$8=Display!$T$10,'Lux4-sept'!$A$8=Display!$B$7,'Lux4-sept'!$A$9=Display!$B$9,'Lux4-sept'!$A$10=Display!$B$11,'Lux4-sept'!$A$11=Display!$B$13),Display!$D9,)","v":0},{"$f":"IF(AND(P$8=Display!$T$10,'Lux4-sept'!$A$8=Display!$B$7,'Lux4-sept'!$A$9=Display!$B$9,'Lux4-sept'!$A$10=Display!$B$11,'Lux4-sept'!$A$11=Display!$B$13),Display!$D9,)","v":0},{"$f":"IF(AND(Q$8=Display!$T$10,'Lux4-sept'!$A$8=Display!$B$7,'Lux4-sept'!$A$9=Display!$B$9,'Lux4-sept'!$A$10=Display!$B$11,'Lux4-sept'!$A$11=Display!$B$13),Display!$D9,)","v":0},{"$f":"IF(AND(R$8=Display!$T$10,'Lux4-sept'!$A$8=Display!$B$7,'Lux4-sept'!$A$9=Display!$B$9,'Lux4-sept'!$A$10=Display!$B$11,'Lux4-sept'!$A$11=Display!$B$13),Display!$D9,)","v":0},{"$f":"IF(AND(S$8=Display!$T$10,'Lux4-sept'!$A$8=Display!$B$7,'Lux4-sept'!$A$9=Display!$B$9,'Lux4-sept'!$A$10=Display!$B$11,'Lux4-sept'!$A$11=Display!$B$13),Display!$D9,)","v":0},{"$f":"IF(AND(T$8=Display!$T$10,'Lux4-sept'!$A$8=Display!$B$7,'Lux4-sept'!$A$9=Display!$B$9,'Lux4-sept'!$A$10=Display!$B$11,'Lux4-sept'!$A$11=Display!$B$13),Display!$D9,)","v":0},{"$f":"IF(AND(U$8=Display!$T$10,'Lux4-sept'!$A$8=Display!$B$7,'Lux4-sept'!$A$9=Display!$B$9,'Lux4-sept'!$A$10=Display!$B$11,'Lux4-sept'!$A$11=Display!$B$13),Display!$D9,)","v":0},{"$f":"IF(AND(V$8=Display!$T$10,'Lux4-sept'!$A$8=Display!$B$7,'Lux4-sept'!$A$9=Display!$B$9,'Lux4-sept'!$A$10=Display!$B$11,'Lux4-sept'!$A$11=Display!$B$13),Display!$D9,)","v":0},{"$f":"IF(AND(W$8=Display!$T$10,'Lux4-sept'!$A$8=Display!$B$7,'Lux4-sept'!$A$9=Display!$B$9,'Lux4-sept'!$A$10=Display!$B$11,'Lux4-sept'!$A$11=Display!$B$13),Display!$D9,)","v":0},{"$f":"IF(AND(X$8=Display!$T$10,'Lux4-sept'!$A$8=Display!$B$7,'Lux4-sept'!$A$9=Display!$B$9,'Lux4-sept'!$A$10=Display!$B$11,'Lux4-sept'!$A$11=Display!$B$13),Display!$D9,)","v":0},{"$f":"IF(AND(Y$8=Display!$T$10,'Lux4-sept'!$A$8=Display!$B$7,'Lux4-sept'!$A$9=Display!$B$9,'Lux4-sept'!$A$10=Display!$B$11,'Lux4-sept'!$A$11=Display!$B$13),Display!$D9,)","v":0},{"$f":"IF(AND(Z$8=Display!$T$10,'Lux4-sept'!$A$8=Display!$B$7,'Lux4-sept'!$A$9=Display!$B$9,'Lux4-sept'!$A$10=Display!$B$11,'Lux4-sept'!$A$11=Display!$B$13),Display!$D9,)","v":0},{"$f":"IF(AND(AA$8=Display!$T$10,'Lux4-sept'!$A$8=Display!$B$7,'Lux4-sept'!$A$9=Display!$B$9,'Lux4-sept'!$A$10=Display!$B$11,'Lux4-sept'!$A$11=Display!$B$13),Display!$D9,)","v":0},{"$f":"IF(AND(AB$8=Display!$T$10,'Lux4-sept'!$A$8=Display!$B$7,'Lux4-sept'!$A$9=Display!$B$9,'Lux4-sept'!$A$10=Display!$B$11,'Lux4-sept'!$A$11=Display!$B$13),Display!$D9,)","v":0},{"$f":"IF(AND(AC$8=Display!$T$10,'Lux4-sept'!$A$8=Display!$B$7,'Lux4-sept'!$A$9=Display!$B$9,'Lux4-sept'!$A$10=Display!$B$11,'Lux4-sept'!$A$11=Display!$B$13),Display!$D9,)","v":0},{"$f":"IF(AND(AD$8=Display!$T$10,'Lux4-sept'!$A$8=Display!$B$7,'Lux4-sept'!$A$9=Display!$B$9,'Lux4-sept'!$A$10=Display!$B$11,'Lux4-sept'!$A$11=Display!$B$13),Display!$D9,)","v":0},{"$f":"IF(AND(AE$8=Display!$T$10,'Lux4-sept'!$A$8=Display!$B$7,'Lux4-sept'!$A$9=Display!$B$9,'Lux4-sept'!$A$10=Display!$B$11,'Lux4-sept'!$A$11=Display!$B$13),Display!$D9,)","v":0},{"$f":"IF(AND(AF$8=Display!$T$10,'Lux4-sept'!$A$8=Display!$B$7,'Lux4-sept'!$A$9=Display!$B$9,'Lux4-sept'!$A$10=Display!$B$11,'Lux4-sept'!$A$11=Display!$B$13),Display!$D9,)","v":0},null,null,0]
["MOYENNE",{"$f":"((IF((SUM(B12:B17))<>0,(SUM(B12:B17)),0))/(IF((SUM((IF(B12<>0,3,0)),(IF(B13<>0,3,0)),(IF(B14<>0,3,0)),(IF(B15<>0,3,0)),(IF(B16<>0,3,0)),(IF(B17<>0,3,0))))<>0,((SUM((IF(B12<>0,3,0)),(IF(B13<>0,3,0)),(IF(B14<>0,3,0)),(IF(B15<>0,3,0)),(IF(B16<>0,3,0)),(IF(B17<>0,3,0))))),1)))","v":0},{"$f":"((IF((SUM(C12:C17))<>0,(SUM(C12:C17)),0))/(IF((SUM((IF(C12<>0,3,0)),(IF(C13<>0,3,0)),(IF(C14<>0,3,0)),(IF(C15<>0,3,0)),(IF(C16<>0,3,0)),(IF(C17<>0,3,0))))<>0,((SUM((IF(C12<>0,3,0)),(IF(C13<>0,3,0)),(IF(C14<>0,3,0)),(IF(C15<>0,3,0)),(IF(C16<>0,3,0)),(IF(C17<>0,3,0))))),1)))","v":0},0,0,0,0,0,0,0,0,0,0,0,0,0,0,0,0,0,0,0,0,0,0,0,0,0,0,0,0,0,0,0]
["01.501"]
["salle de réunion en place (café, thé, lunch…) ",{"$f":"IF(AND(B$8=Display!$T$10,'Lux4-sept'!$A$8=Display!$B$7,'Lux4-sept'!$A$9=Display!$B$9,'Lux4-sept'!$A$10=Display!$B$11,'Lux4-sept'!$A$19=Display!$B$13),Display!$D4,)","v":0},{"$f":"IF(AND(C$8=Display!$T$10,'Lux4-sept'!$A$8=Display!$B$7,'Lux4-sept'!$A$9=Display!$B$9,'Lux4-sept'!$A$10=Display!$B$11,'Lux4-sept'!$A$19=Display!$B$13),Display!$D4,)","v":0},{"$f":"IF(AND(D$8=Display!$T$10,'Lux4-sept'!$A$8=Display!$B$7,'Lux4-sept'!$A$9=Display!$B$9,'Lux4-sept'!$A$10=Display!$B$11,'Lux4-sept'!$A$19=Display!$B$13),Display!$D4,)","v":0},{"$f":"IF(AND(E$8=Display!$T$10,'Lux4-sept'!$A$8=Display!$B$7,'Lux4-sept'!$A$9=Display!$B$9,'Lux4-sept'!$A$10=Display!$B$11,'Lux4-sept'!$A$19=Display!$B$13),Display!$D4,)","v":0},{"$f":"IF(AND(F$8=Display!$T$10,'Lux4-sept'!$A$8=Display!$B$7,'Lux4-sept'!$A$9=Display!$B$9,'Lux4-sept'!$A$10=Display!$B$11,'Lux4-sept'!$A$19=Display!$B$13),Display!$D4,)","v":0},{"$f":"IF(AND(G$8=Display!$T$10,'Lux4-sept'!$A$8=Display!$B$7,'Lux4-sept'!$A$9=Display!$B$9,'Lux4-sept'!$A$10=Display!$B$11,'Lux4-sept'!$A$19=Display!$B$13),Display!$D4,)","v":0},{"$f":"IF(AND(H$8=Display!$T$10,'Lux4-sept'!$A$8=Display!$B$7,'Lux4-sept'!$A$9=Display!$B$9,'Lux4-sept'!$A$10=Display!$B$11,'Lux4-sept'!$A$19=Display!$B$13),Display!$D4,)","v":0},{"$f":"IF(AND(I$8=Display!$T$10,'Lux4-sept'!$A$8=Display!$B$7,'Lux4-sept'!$A$9=Display!$B$9,'Lux4-sept'!$A$10=Display!$B$11,'Lux4-sept'!$A$19=Display!$B$13),Display!$D4,)","v":0},{"$f":"IF(AND(J$8=Display!$T$10,'Lux4-sept'!$A$8=Display!$B$7,'Lux4-sept'!$A$9=Display!$B$9,'Lux4-sept'!$A$10=Display!$B$11,'Lux4-sept'!$A$19=Display!$B$13),Display!$D4,)","v":0},{"$f":"IF(AND(K$8=Display!$T$10,'Lux4-sept'!$A$8=Display!$B$7,'Lux4-sept'!$A$9=Display!$B$9,'Lux4-sept'!$A$10=Display!$B$11,'Lux4-sept'!$A$19=Display!$B$13),Display!$D4,)","v":0},{"$f":"IF(AND(L$8=Display!$T$10,'Lux4-sept'!$A$8=Display!$B$7,'Lux4-sept'!$A$9=Display!$B$9,'Lux4-sept'!$A$10=Display!$B$11,'Lux4-sept'!$A$19=Display!$B$13),Display!$D4,)","v":0},{"$f":"IF(AND(M$8=Display!$T$10,'Lux4-sept'!$A$8=Display!$B$7,'Lux4-sept'!$A$9=Display!$B$9,'Lux4-sept'!$A$10=Display!$B$11,'Lux4-sept'!$A$19=Display!$B$13),Display!$D4,)","v":0},{"$f":"IF(AND(N$8=Display!$T$10,'Lux4-sept'!$A$8=Display!$B$7,'Lux4-sept'!$A$9=Display!$B$9,'Lux4-sept'!$A$10=Display!$B$11,'Lux4-sept'!$A$19=Display!$B$13),Display!$D4,)","v":0},{"$f":"IF(AND(O$8=Display!$T$10,'Lux4-sept'!$A$8=Display!$B$7,'Lux4-sept'!$A$9=Display!$B$9,'Lux4-sept'!$A$10=Display!$B$11,'Lux4-sept'!$A$19=Display!$B$13),Display!$D4,)","v":0},{"$f":"IF(AND(P$8=Display!$T$10,'Lux4-sept'!$A$8=Display!$B$7,'Lux4-sept'!$A$9=Display!$B$9,'Lux4-sept'!$A$10=Display!$B$11,'Lux4-sept'!$A$19=Display!$B$13),Display!$D4,)","v":0},{"$f":"IF(AND(Q$8=Display!$T$10,'Lux4-sept'!$A$8=Display!$B$7,'Lux4-sept'!$A$9=Display!$B$9,'Lux4-sept'!$A$10=Display!$B$11,'Lux4-sept'!$A$19=Display!$B$13),Display!$D4,)","v":0},{"$f":"IF(AND(R$8=Display!$T$10,'Lux4-sept'!$A$8=Display!$B$7,'Lux4-sept'!$A$9=Display!$B$9,'Lux4-sept'!$A$10=Display!$B$11,'Lux4-sept'!$A$19=Display!$B$13),Display!$D4,)","v":0},{"$f":"IF(AND(S$8=Display!$T$10,'Lux4-sept'!$A$8=Display!$B$7,'Lux4-sept'!$A$9=Display!$B$9,'Lux4-sept'!$A$10=Display!$B$11,'Lux4-sept'!$A$19=Display!$B$13),Display!$D4,)","v":0},{"$f":"IF(AND(T$8=Display!$T$10,'Lux4-sept'!$A$8=Display!$B$7,'Lux4-sept'!$A$9=Display!$B$9,'Lux4-sept'!$A$10=Display!$B$11,'Lux4-sept'!$A$19=Display!$B$13),Display!$D4,)","v":0},{"$f":"IF(AND(U$8=Display!$T$10,'Lux4-sept'!$A$8=Display!$B$7,'Lux4-sept'!$A$9=Display!$B$9,'Lux4-sept'!$A$10=Display!$B$11,'Lux4-sept'!$A$19=Display!$B$13),Display!$D4,)","v":0},{"$f":"IF(AND(V$8=Display!$T$10,'Lux4-sept'!$A$8=Display!$B$7,'Lux4-sept'!$A$9=Display!$B$9,'Lux4-sept'!$A$10=Display!$B$11,'Lux4-sept'!$A$19=Display!$B$13),Display!$D4,)","v":0},{"$f":"IF(AND(W$8=Display!$T$10,'Lux4-sept'!$A$8=Display!$B$7,'Lux4-sept'!$A$9=Display!$B$9,'Lux4-sept'!$A$10=Display!$B$11,'Lux4-sept'!$A$19=Display!$B$13),Display!$D4,)","v":0},{"$f":"IF(AND(X$8=Display!$T$10,'Lux4-sept'!$A$8=Display!$B$7,'Lux4-sept'!$A$9=Display!$B$9,'Lux4-sept'!$A$10=Display!$B$11,'Lux4-sept'!$A$19=Display!$B$13),Display!$D4,)","v":0},{"$f":"IF(AND(Y$8=Display!$T$10,'Lux4-sept'!$A$8=Display!$B$7,'Lux4-sept'!$A$9=Display!$B$9,'Lux4-sept'!$A$10=Display!$B$11,'Lux4-sept'!$A$19=Display!$B$13),Display!$D4,)","v":0},{"$f":"IF(AND(Z$8=Display!$T$10,'Lux4-sept'!$A$8=Display!$B$7,'Lux4-sept'!$A$9=Display!$B$9,'Lux4-sept'!$A$10=Display!$B$11,'Lux4-sept'!$A$19=Display!$B$13),Display!$D4,)","v":0},{"$f":"IF(AND(AA$8=Display!$T$10,'Lux4-sept'!$A$8=Display!$B$7,'Lux4-sept'!$A$9=Display!$B$9,'Lux4-sept'!$A$10=Display!$B$11,'Lux4-sept'!$A$19=Display!$B$13),Display!$D4,)","v":0},{"$f":"IF(AND(AB$8=Display!$T$10,'Lux4-sept'!$A$8=Display!$B$7,'Lux4-sept'!$A$9=Display!$B$9,'Lux4-sept'!$A$10=Display!$B$11,'Lux4-sept'!$A$19=Display!$B$13),Display!$D4,)","v":0},{"$f":"IF(AND(AC$8=Display!$T$10,'Lux4-sept'!$A$8=Display!$B$7,'Lux4-sept'!$A$9=Display!$B$9,'Lux4-sept'!$A$10=Display!$B$11,'Lux4-sept'!$A$19=Display!$B$13),Display!$D4,)","v":0},{"$f":"IF(AND(AD$8=Display!$T$10,'Lux4-sept'!$A$8=Display!$B$7,'Lux4-sept'!$A$9=Display!$B$9,'Lux4-sept'!$A$10=Display!$B$11,'Lux4-sept'!$A$19=Display!$B$13),Display!$D4,)","v":0},{"$f":"IF(AND(AE$8=Display!$T$10,'Lux4-sept'!$A$8=Display!$B$7,'Lux4-sept'!$A$9=Display!$B$9,'Lux4-sept'!$A$10=Display!$B$11,'Lux4-sept'!$A$19=Display!$B$13),Display!$D4,)","v":0},{"$f":"IF(AND(AF$8=Display!$T$10,'Lux4-sept'!$A$8=Display!$B$7,'Lux4-sept'!$A$9=Display!$B$9,'Lux4-sept'!$A$10=Display!$B$11,'Lux4-sept'!$A$19=Display!$B$13),Display!$D4,)","v":0},{"$f":"IF(AND(AG$8=Display!$T$10,'Lux4-sept'!$A$8=Display!$B$7,'Lux4-sept'!$A$9=Display!$B$9,'Lux4-sept'!$A$10=Display!$B$11,'Lux4-sept'!$A$19=Display!$B$13),Display!$D4,)","v":0},{"$f":"IF(AND(AH$8=Display!$T$10,'Lux4-sept'!$A$8=Display!$B$7,'Lux4-sept'!$A$9=Display!$B$9,'Lux4-sept'!$A$10=Display!$B$11,'Lux4-sept'!$A$19=Display!$B$13),Display!$D4,)","v":0},{"$f":"((IF((SUM(B20:AF20))<>0,(SUM(B20:AF20)),0))/(IF((SUM((IF(B20<>0,3,0)),(IF(C20<>0,3,0)),(IF(D20<>0,3,0)),(IF(E20<>0,3,0)),(IF(F20<>0,3,0)),(IF(F20<>0,3,0)),(IF(F20<>0,3,0)),(IF(G20<>0,3,0)),(IF(H20<>0,3,0)),(IF(I20<>0,3,0)),(IF(J20<>0,3,0)),(IF(K20<>0,3,0)),(IF(L20<>0,3,0)),(IF(M20<>0,3,0)),(IF(N20<>0,3,0)),(IF(O20<>0,3,0)),(IF(P20<>0,3,0)),(IF(Q20<>0,3,0)),(IF(R20<>0,3,0)),(IF(S20<>0,3,0)),(IF(T20<>0,3,0)),(IF(U20<>0,3,0)),(IF(V20<>0,3,0)),(IF(W20<>0,3,0)),(IF(X20<>0,3,0)),(IF(Y20<>0,3,0)),(IF(Z20<>0,3,0)),(IF(AA20<>0,3,0)),(IF(AB20<>0,3,0)),(IF(AC20<>0,3,0)),(IF(AD20<>0,3,0)),(IF(AE20<>0,3,0)),(IF(AF20<>0,3,0))))<>0,((SUM((IF(B20<>0,3,0)),(IF(C20<>0,3,0)),(IF(D20<>0,3,0)),(IF(E20<>0,3,0)),(IF(F20<>0,3,0)),(IF(F20<>0,3,0)),(IF(F20<>0,3,0)),(IF(G20<>0,3,0)),(IF(H20<>0,3,0)),(IF(I20<>0,3,0)),(IF(J20<>0,3,0)),(IF(K20<>0,3,0)),(IF(L20<>0,3,0)),(IF(M20<>0,3,0)),(IF(N20<>0,3,0)),(IF(O20<>0,3,0)),(IF(P20<>0,3,0)),(IF(Q20<>0,3,0)),(IF(R20<>0,3,0)),(IF(S20<>0,3,0)),(IF(T20<>0,3,0)),(IF(U20<>0,3,0)),(IF(V20<>0,3,0)),(IF(W20<>0,3,0)),(IF(X20<>0,3,0)),(IF(Y20<>0,3,0)),(IF(Z20<>0,3,0)),(IF(AA20<>0,3,0)),(IF(AB20<>0,3,0)),(IF(AC20<>0,3,0)),(IF(AD20<>0,3,0)),(IF(AE20<>0,3,0)),(IF(AF20<>0,3,0))))),1)))","v":0}]
["Salle prête à être utiliser après les meeting",{"$f":"IF(AND(B$8=Display!$T$10,'Lux4-sept'!$A$8=Display!$B$7,'Lux4-sept'!$A$9=Display!$B$9,'Lux4-sept'!$A$10=Display!$B$11,'Lux4-sept'!$A$19=Display!$B$13),Display!$D5,)","v":0},{"$f":"IF(AND(C$8=Display!$T$10,'Lux4-sept'!$A$8=Display!$B$7,'Lux4-sept'!$A$9=Display!$B$9,'Lux4-sept'!$A$10=Display!$B$11,'Lux4-sept'!$A$19=Display!$B$13),Display!$D5,)","v":0},{"$f":"IF(AND(D$8=Display!$T$10,'Lux4-sept'!$A$8=Display!$B$7,'Lux4-sept'!$A$9=Display!$B$9,'Lux4-sept'!$A$10=Display!$B$11,'Lux4-sept'!$A$19=Display!$B$13),Display!$D5,)","v":0},{"$f":"IF(AND(E$8=Display!$T$10,'Lux4-sept'!$A$8=Display!$B$7,'Lux4-sept'!$A$9=Display!$B$9,'Lux4-sept'!$A$10=Display!$B$11,'Lux4-sept'!$A$19=Display!$B$13),Display!$D5,)","v":0},{"$f":"IF(AND(F$8=Display!$T$10,'Lux4-sept'!$A$8=Display!$B$7,'Lux4-sept'!$A$9=Display!$B$9,'Lux4-sept'!$A$10=Display!$B$11,'Lux4-sept'!$A$19=Display!$B$13),Display!$D5,)","v":0},{"$f":"IF(AND(G$8=Display!$T$10,'Lux4-sept'!$A$8=Display!$B$7,'Lux4-sept'!$A$9=Display!$B$9,'Lux4-sept'!$A$10=Display!$B$11,'Lux4-sept'!$A$19=Display!$B$13),Display!$D5,)","v":0},{"$f":"IF(AND(H$8=Display!$T$10,'Lux4-sept'!$A$8=Display!$B$7,'Lux4-sept'!$A$9=Display!$B$9,'Lux4-sept'!$A$10=Display!$B$11,'Lux4-sept'!$A$19=Display!$B$13),Display!$D5,)","v":0},{"$f":"IF(AND(I$8=Display!$T$10,'Lux4-sept'!$A$8=Display!$B$7,'Lux4-sept'!$A$9=Display!$B$9,'Lux4-sept'!$A$10=Display!$B$11,'Lux4-sept'!$A$19=Display!$B$13),Display!$D5,)","v":0},{"$f":"IF(AND(J$8=Display!$T$10,'Lux4-sept'!$A$8=Display!$B$7,'Lux4-sept'!$A$9=Display!$B$9,'Lux4-sept'!$A$10=Display!$B$11,'Lux4-sept'!$A$19=Display!$B$13),Display!$D5,)","v":0},{"$f":"IF(AND(K$8=Display!$T$10,'Lux4-sept'!$A$8=Display!$B$7,'Lux4-sept'!$A$9=Display!$B$9,'Lux4-sept'!$A$10=Display!$B$11,'Lux4-sept'!$A$19=Display!$B$13),Display!$D5,)","v":0},{"$f":"IF(AND(L$8=Display!$T$10,'Lux4-sept'!$A$8=Display!$B$7,'Lux4-sept'!$A$9=Display!$B$9,'Lux4-sept'!$A$10=Display!$B$11,'Lux4-sept'!$A$19=Display!$B$13),Display!$D5,)","v":0},{"$f":"IF(AND(M$8=Display!$T$10,'Lux4-sept'!$A$8=Display!$B$7,'Lux4-sept'!$A$9=Display!$B$9,'Lux4-sept'!$A$10=Display!$B$11,'Lux4-sept'!$A$19=Display!$B$13),Display!$D5,)","v":0},{"$f":"IF(AND(N$8=Display!$T$10,'Lux4-sept'!$A$8=Display!$B$7,'Lux4-sept'!$A$9=Display!$B$9,'Lux4-sept'!$A$10=Display!$B$11,'Lux4-sept'!$A$19=Display!$B$13),Display!$D5,)","v":0},{"$f":"IF(AND(O$8=Display!$T$10,'Lux4-sept'!$A$8=Display!$B$7,'Lux4-sept'!$A$9=Display!$B$9,'Lux4-sept'!$A$10=Display!$B$11,'Lux4-sept'!$A$19=Display!$B$13),Display!$D5,)","v":0},{"$f":"IF(AND(P$8=Display!$T$10,'Lux4-sept'!$A$8=Display!$B$7,'Lux4-sept'!$A$9=Display!$B$9,'Lux4-sept'!$A$10=Display!$B$11,'Lux4-sept'!$A$19=Display!$B$13),Display!$D5,)","v":0},{"$f":"IF(AND(Q$8=Display!$T$10,'Lux4-sept'!$A$8=Display!$B$7,'Lux4-sept'!$A$9=Display!$B$9,'Lux4-sept'!$A$10=Display!$B$11,'Lux4-sept'!$A$19=Display!$B$13),Display!$D5,)","v":0},{"$f":"IF(AND(R$8=Display!$T$10,'Lux4-sept'!$A$8=Display!$B$7,'Lux4-sept'!$A$9=Display!$B$9,'Lux4-sept'!$A$10=Display!$B$11,'Lux4-sept'!$A$19=Display!$B$13),Display!$D5,)","v":0},{"$f":"IF(AND(S$8=Display!$T$10,'Lux4-sept'!$A$8=Display!$B$7,'Lux4-sept'!$A$9=Display!$B$9,'Lux4-sept'!$A$10=Display!$B$11,'Lux4-sept'!$A$19=Display!$B$13),Display!$D5,)","v":0},{"$f":"IF(AND(T$8=Display!$T$10,'Lux4-sept'!$A$8=Display!$B$7,'Lux4-sept'!$A$9=Display!$B$9,'Lux4-sept'!$A$10=Display!$B$11,'Lux4-sept'!$A$19=Display!$B$13),Display!$D5,)","v":0},{"$f":"IF(AND(U$8=Display!$T$10,'Lux4-sept'!$A$8=Display!$B$7,'Lux4-sept'!$A$9=Display!$B$9,'Lux4-sept'!$A$10=Display!$B$11,'Lux4-sept'!$A$19=Display!$B$13),Display!$D5,)","v":0},{"$f":"IF(AND(V$8=Display!$T$10,'Lux4-sept'!$A$8=Display!$B$7,'Lux4-sept'!$A$9=Display!$B$9,'Lux4-sept'!$A$10=Display!$B$11,'Lux4-sept'!$A$19=Display!$B$13),Display!$D5,)","v":0},{"$f":"IF(AND(W$8=Display!$T$10,'Lux4-sept'!$A$8=Display!$B$7,'Lux4-sept'!$A$9=Display!$B$9,'Lux4-sept'!$A$10=Display!$B$11,'Lux4-sept'!$A$19=Display!$B$13),Display!$D5,)","v":0},{"$f":"IF(AND(X$8=Display!$T$10,'Lux4-sept'!$A$8=Display!$B$7,'Lux4-sept'!$A$9=Display!$B$9,'Lux4-sept'!$A$10=Display!$B$11,'Lux4-sept'!$A$19=Display!$B$13),Display!$D5,)","v":0},{"$f":"IF(AND(Y$8=Display!$T$10,'Lux4-sept'!$A$8=Display!$B$7,'Lux4-sept'!$A$9=Display!$B$9,'Lux4-sept'!$A$10=Display!$B$11,'Lux4-sept'!$A$19=Display!$B$13),Display!$D5,)","v":0},{"$f":"IF(AND(Z$8=Display!$T$10,'Lux4-sept'!$A$8=Display!$B$7,'Lux4-sept'!$A$9=Display!$B$9,'Lux4-sept'!$A$10=Display!$B$11,'Lux4-sept'!$A$19=Display!$B$13),Display!$D5,)","v":0},{"$f":"IF(AND(AA$8=Display!$T$10,'Lux4-sept'!$A$8=Display!$B$7,'Lux4-sept'!$A$9=Display!$B$9,'Lux4-sept'!$A$10=Display!$B$11,'Lux4-sept'!$A$19=Display!$B$13),Display!$D5,)","v":0},{"$f":"IF(AND(AB$8=Display!$T$10,'Lux4-sept'!$A$8=Display!$B$7,'Lux4-sept'!$A$9=Display!$B$9,'Lux4-sept'!$A$10=Display!$B$11,'Lux4-sept'!$A$19=Display!$B$13),Display!$D5,)","v":0},{"$f":"IF(AND(AC$8=Display!$T$10,'Lux4-sept'!$A$8=Display!$B$7,'Lux4-sept'!$A$9=Display!$B$9,'Lux4-sept'!$A$10=Display!$B$11,'Lux4-sept'!$A$19=Display!$B$13),Display!$D5,)","v":0},{"$f":"IF(AND(AD$8=Display!$T$10,'Lux4-sept'!$A$8=Display!$B$7,'Lux4-sept'!$A$9=Display!$B$9,'Lux4-sept'!$A$10=Display!$B$11,'Lux4-sept'!$A$19=Display!$B$13),Display!$D5,)","v":0},{"$f":"IF(AND(AE$8=Display!$T$10,'Lux4-sept'!$A$8=Display!$B$7,'Lux4-sept'!$A$9=Display!$B$9,'Lux4-sept'!$A$10=Display!$B$11,'Lux4-sept'!$A$19=Display!$B$13),Display!$D5,)","v":0},{"$f":"IF(AND(AF$8=Display!$T$10,'Lux4-sept'!$A$8=Display!$B$7,'Lux4-sept'!$A$9=Display!$B$9,'Lux4-sept'!$A$10=Display!$B$11,'Lux4-sept'!$A$19=Display!$B$13),Display!$D5,)","v":0},{"$f":"IF(AND(AG$8=Display!$T$10,'Lux4-sept'!$A$8=Display!$B$7,'Lux4-sept'!$A$9=Display!$B$9,'Lux4-sept'!$A$10=Display!$B$11,'Lux4-sept'!$A$19=Display!$B$13),Display!$D5,)","v":0},{"$f":"IF(AND(AH$8=Display!$T$10,'Lux4-sept'!$A$8=Display!$B$7,'Lux4-sept'!$A$9=Display!$B$9,'Lux4-sept'!$A$10=Display!$B$11,'Lux4-sept'!$A$19=Display!$B$13),Display!$D5,)","v":0},{"$f":"((IF((SUM(B21:AF21))<>0,(SUM(B21:AF21)),0))/(IF((SUM((IF(B21<>0,3,0)),(IF(C21<>0,3,0)),(IF(D21<>0,3,0)),(IF(E21<>0,3,0)),(IF(F21<>0,3,0)),(IF(F21<>0,3,0)),(IF(F21<>0,3,0)),(IF(G21<>0,3,0)),(IF(H21<>0,3,0)),(IF(I21<>0,3,0)),(IF(J21<>0,3,0)),(IF(K21<>0,3,0)),(IF(L21<>0,3,0)),(IF(M21<>0,3,0)),(IF(N21<>0,3,0)),(IF(O21<>0,3,0)),(IF(P21<>0,3,0)),(IF(Q21<>0,3,0)),(IF(R21<>0,3,0)),(IF(S21<>0,3,0)),(IF(T21<>0,3,0)),(IF(U21<>0,3,0)),(IF(V21<>0,3,0)),(IF(W21<>0,3,0)),(IF(X21<>0,3,0)),(IF(Y21<>0,3,0)),(IF(Z21<>0,3,0)),(IF(AA21<>0,3,0)),(IF(AB21<>0,3,0)),(IF(AC21<>0,3,0)),(IF(AD21<>0,3,0)),(IF(AE21<>0,3,0)),(IF(AF21<>0,3,0))))<>0,((SUM((IF(B21<>0,3,0)),(IF(C21<>0,3,0)),(IF(D21<>0,3,0)),(IF(E21<>0,3,0)),(IF(F21<>0,3,0)),(IF(F21<>0,3,0)),(IF(F21<>0,3,0)),(IF(G21<>0,3,0)),(IF(H21<>0,3,0)),(IF(I21<>0,3,0)),(IF(J21<>0,3,0)),(IF(K21<>0,3,0)),(IF(L21<>0,3,0)),(IF(M21<>0,3,0)),(IF(N21<>0,3,0)),(IF(O21<>0,3,0)),(IF(P21<>0,3,0)),(IF(Q21<>0,3,0)),(IF(R21<>0,3,0)),(IF(S21<>0,3,0)),(IF(T21<>0,3,0)),(IF(U21<>0,3,0)),(IF(V21<>0,3,0)),(IF(W21<>0,3,0)),(IF(X21<>0,3,0)),(IF(Y21<>0,3,0)),(IF(Z21<>0,3,0)),(IF(AA21<>0,3,0)),(IF(AB21<>0,3,0)),(IF(AC21<>0,3,0)),(IF(AD21<>0,3,0)),(IF(AE21<>0,3,0)),(IF(AF21<>0,3,0))))),1)))","v":0}]
["Chaises rangées",{"$f":"IF(AND(B$8=Display!$T$10,'Lux4-sept'!$A$8=Display!$B$7,'Lux4-sept'!$A$9=Display!$B$9,'Lux4-sept'!$A$10=Display!$B$11,'Lux4-sept'!$A$19=Display!$B$13),Display!$D6,)","v":0},{"$f":"IF(AND(C$8=Display!$T$10,'Lux4-sept'!$A$8=Display!$B$7,'Lux4-sept'!$A$9=Display!$B$9,'Lux4-sept'!$A$10=Display!$B$11,'Lux4-sept'!$A$19=Display!$B$13),Display!$D6,)","v":0},{"$f":"IF(AND(D$8=Display!$T$10,'Lux4-sept'!$A$8=Display!$B$7,'Lux4-sept'!$A$9=Display!$B$9,'Lux4-sept'!$A$10=Display!$B$11,'Lux4-sept'!$A$19=Display!$B$13),Display!$D6,)","v":0},{"$f":"IF(AND(E$8=Display!$T$10,'Lux4-sept'!$A$8=Display!$B$7,'Lux4-sept'!$A$9=Display!$B$9,'Lux4-sept'!$A$10=Display!$B$11,'Lux4-sept'!$A$19=Display!$B$13),Display!$D6,)","v":0},{"$f":"IF(AND(F$8=Display!$T$10,'Lux4-sept'!$A$8=Display!$B$7,'Lux4-sept'!$A$9=Display!$B$9,'Lux4-sept'!$A$10=Display!$B$11,'Lux4-sept'!$A$19=Display!$B$13),Display!$D6,)","v":0},{"$f":"IF(AND(G$8=Display!$T$10,'Lux4-sept'!$A$8=Display!$B$7,'Lux4-sept'!$A$9=Display!$B$9,'Lux4-sept'!$A$10=Display!$B$11,'Lux4-sept'!$A$19=Display!$B$13),Display!$D6,)","v":0},{"$f":"IF(AND(H$8=Display!$T$10,'Lux4-sept'!$A$8=Display!$B$7,'Lux4-sept'!$A$9=Display!$B$9,'Lux4-sept'!$A$10=Display!$B$11,'Lux4-sept'!$A$19=Display!$B$13),Display!$D6,)","v":0},{"$f":"IF(AND(I$8=Display!$T$10,'Lux4-sept'!$A$8=Display!$B$7,'Lux4-sept'!$A$9=Display!$B$9,'Lux4-sept'!$A$10=Display!$B$11,'Lux4-sept'!$A$19=Display!$B$13),Display!$D6,)","v":0},{"$f":"IF(AND(J$8=Display!$T$10,'Lux4-sept'!$A$8=Display!$B$7,'Lux4-sept'!$A$9=Display!$B$9,'Lux4-sept'!$A$10=Display!$B$11,'Lux4-sept'!$A$19=Display!$B$13),Display!$D6,)","v":0},{"$f":"IF(AND(K$8=Display!$T$10,'Lux4-sept'!$A$8=Display!$B$7,'Lux4-sept'!$A$9=Display!$B$9,'Lux4-sept'!$A$10=Display!$B$11,'Lux4-sept'!$A$19=Display!$B$13),Display!$D6,)","v":0},{"$f":"IF(AND(L$8=Display!$T$10,'Lux4-sept'!$A$8=Display!$B$7,'Lux4-sept'!$A$9=Display!$B$9,'Lux4-sept'!$A$10=Display!$B$11,'Lux4-sept'!$A$19=Display!$B$13),Display!$D6,)","v":0},{"$f":"IF(AND(M$8=Display!$T$10,'Lux4-sept'!$A$8=Display!$B$7,'Lux4-sept'!$A$9=Display!$B$9,'Lux4-sept'!$A$10=Display!$B$11,'Lux4-sept'!$A$19=Display!$B$13),Display!$D6,)","v":0},{"$f":"IF(AND(N$8=Display!$T$10,'Lux4-sept'!$A$8=Display!$B$7,'Lux4-sept'!$A$9=Display!$B$9,'Lux4-sept'!$A$10=Display!$B$11,'Lux4-sept'!$A$19=Display!$B$13),Display!$D6,)","v":0},{"$f":"IF(AND(O$8=Display!$T$10,'Lux4-sept'!$A$8=Display!$B$7,'Lux4-sept'!$A$9=Display!$B$9,'Lux4-sept'!$A$10=Display!$B$11,'Lux4-sept'!$A$19=Display!$B$13),Display!$D6,)","v":0},{"$f":"IF(AND(P$8=Display!$T$10,'Lux4-sept'!$A$8=Display!$B$7,'Lux4-sept'!$A$9=Display!$B$9,'Lux4-sept'!$A$10=Display!$B$11,'Lux4-sept'!$A$19=Display!$B$13),Display!$D6,)","v":0},{"$f":"IF(AND(Q$8=Display!$T$10,'Lux4-sept'!$A$8=Display!$B$7,'Lux4-sept'!$A$9=Display!$B$9,'Lux4-sept'!$A$10=Display!$B$11,'Lux4-sept'!$A$19=Display!$B$13),Display!$D6,)","v":0},{"$f":"IF(AND(R$8=Display!$T$10,'Lux4-sept'!$A$8=Display!$B$7,'Lux4-sept'!$A$9=Display!$B$9,'Lux4-sept'!$A$10=Display!$B$11,'Lux4-sept'!$A$19=Display!$B$13),Display!$D6,)","v":0},{"$f":"IF(AND(S$8=Display!$T$10,'Lux4-sept'!$A$8=Display!$B$7,'Lux4-sept'!$A$9=Display!$B$9,'Lux4-sept'!$A$10=Display!$B$11,'Lux4-sept'!$A$19=Display!$B$13),Display!$D6,)","v":0},{"$f":"IF(AND(T$8=Display!$T$10,'Lux4-sept'!$A$8=Display!$B$7,'Lux4-sept'!$A$9=Display!$B$9,'Lux4-sept'!$A$10=Display!$B$11,'Lux4-sept'!$A$19=Display!$B$13),Display!$D6,)","v":0},{"$f":"IF(AND(U$8=Display!$T$10,'Lux4-sept'!$A$8=Display!$B$7,'Lux4-sept'!$A$9=Display!$B$9,'Lux4-sept'!$A$10=Display!$B$11,'Lux4-sept'!$A$19=Display!$B$13),Display!$D6,)","v":0},{"$f":"IF(AND(V$8=Display!$T$10,'Lux4-sept'!$A$8=Display!$B$7,'Lux4-sept'!$A$9=Display!$B$9,'Lux4-sept'!$A$10=Display!$B$11,'Lux4-sept'!$A$19=Display!$B$13),Display!$D6,)","v":0},{"$f":"IF(AND(W$8=Display!$T$10,'Lux4-sept'!$A$8=Display!$B$7,'Lux4-sept'!$A$9=Display!$B$9,'Lux4-sept'!$A$10=Display!$B$11,'Lux4-sept'!$A$19=Display!$B$13),Display!$D6,)","v":0},{"$f":"IF(AND(X$8=Display!$T$10,'Lux4-sept'!$A$8=Display!$B$7,'Lux4-sept'!$A$9=Display!$B$9,'Lux4-sept'!$A$10=Display!$B$11,'Lux4-sept'!$A$19=Display!$B$13),Display!$D6,)","v":0},{"$f":"IF(AND(Y$8=Display!$T$10,'Lux4-sept'!$A$8=Display!$B$7,'Lux4-sept'!$A$9=Display!$B$9,'Lux4-sept'!$A$10=Display!$B$11,'Lux4-sept'!$A$19=Display!$B$13),Display!$D6,)","v":0},{"$f":"IF(AND(Z$8=Display!$T$10,'Lux4-sept'!$A$8=Display!$B$7,'Lux4-sept'!$A$9=Display!$B$9,'Lux4-sept'!$A$10=Display!$B$11,'Lux4-sept'!$A$19=Display!$B$13),Display!$D6,)","v":0},{"$f":"IF(AND(AA$8=Display!$T$10,'Lux4-sept'!$A$8=Display!$B$7,'Lux4-sept'!$A$9=Display!$B$9,'Lux4-sept'!$A$10=Display!$B$11,'Lux4-sept'!$A$19=Display!$B$13),Display!$D6,)","v":0},{"$f":"IF(AND(AB$8=Display!$T$10,'Lux4-sept'!$A$8=Display!$B$7,'Lux4-sept'!$A$9=Display!$B$9,'Lux4-sept'!$A$10=Display!$B$11,'Lux4-sept'!$A$19=Display!$B$13),Display!$D6,)","v":0},{"$f":"IF(AND(AC$8=Display!$T$10,'Lux4-sept'!$A$8=Display!$B$7,'Lux4-sept'!$A$9=Display!$B$9,'Lux4-sept'!$A$10=Display!$B$11,'Lux4-sept'!$A$19=Display!$B$13),Display!$D6,)","v":0},{"$f":"IF(AND(AD$8=Display!$T$10,'Lux4-sept'!$A$8=Display!$B$7,'Lux4-sept'!$A$9=Display!$B$9,'Lux4-sept'!$A$10=Display!$B$11,'Lux4-sept'!$A$19=Display!$B$13),Display!$D6,)","v":0},{"$f":"IF(AND(AE$8=Display!$T$10,'Lux4-sept'!$A$8=Display!$B$7,'Lux4-sept'!$A$9=Display!$B$9,'Lux4-sept'!$A$10=Display!$B$11,'Lux4-sept'!$A$19=Display!$B$13),Display!$D6,)","v":0},{"$f":"IF(AND(AF$8=Display!$T$10,'Lux4-sept'!$A$8=Display!$B$7,'Lux4-sept'!$A$9=Display!$B$9,'Lux4-sept'!$A$10=Display!$B$11,'Lux4-sept'!$A$19=Display!$B$13),Display!$D6,)","v":0},{"$f":"IF(AND(AG$8=Display!$T$10,'Lux4-sept'!$A$8=Display!$B$7,'Lux4-sept'!$A$9=Display!$B$9,'Lux4-sept'!$A$10=Display!$B$11,'Lux4-sept'!$A$19=Display!$B$13),Display!$D6,)","v":0},{"$f":"IF(AND(AH$8=Display!$T$10,'Lux4-sept'!$A$8=Display!$B$7,'Lux4-sept'!$A$9=Display!$B$9,'Lux4-sept'!$A$10=Display!$B$11,'Lux4-sept'!$A$19=Display!$B$13),Display!$D6,)","v":0},0]
["Poubelles vidées",{"$f":"IF(AND(B$8=Display!$T$10,'Lux4-sept'!$A$8=Display!$B$7,'Lux4-sept'!$A$9=Display!$B$9,'Lux4-sept'!$A$10=Display!$B$11,'Lux4-sept'!$A$19=Display!$B$13),Display!$D7,)","v":0},{"$f":"IF(AND(C$8=Display!$T$10,'Lux4-sept'!$A$8=Display!$B$7,'Lux4-sept'!$A$9=Display!$B$9,'Lux4-sept'!$A$10=Display!$B$11,'Lux4-sept'!$A$19=Display!$B$13),Display!$D7,)","v":0},{"$f":"IF(AND(D$8=Display!$T$10,'Lux4-sept'!$A$8=Display!$B$7,'Lux4-sept'!$A$9=Display!$B$9,'Lux4-sept'!$A$10=Display!$B$11,'Lux4-sept'!$A$19=Display!$B$13),Display!$D7,)","v":0},{"$f":"IF(AND(E$8=Display!$T$10,'Lux4-sept'!$A$8=Display!$B$7,'Lux4-sept'!$A$9=Display!$B$9,'Lux4-sept'!$A$10=Display!$B$11,'Lux4-sept'!$A$19=Display!$B$13),Display!$D7,)","v":0},{"$f":"IF(AND(F$8=Display!$T$10,'Lux4-sept'!$A$8=Display!$B$7,'Lux4-sept'!$A$9=Display!$B$9,'Lux4-sept'!$A$10=Display!$B$11,'Lux4-sept'!$A$19=Display!$B$13),Display!$D7,)","v":0},{"$f":"IF(AND(G$8=Display!$T$10,'Lux4-sept'!$A$8=Display!$B$7,'Lux4-sept'!$A$9=Display!$B$9,'Lux4-sept'!$A$10=Display!$B$11,'Lux4-sept'!$A$19=Display!$B$13),Display!$D7,)","v":0},{"$f":"IF(AND(H$8=Display!$T$10,'Lux4-sept'!$A$8=Display!$B$7,'Lux4-sept'!$A$9=Display!$B$9,'Lux4-sept'!$A$10=Display!$B$11,'Lux4-sept'!$A$19=Display!$B$13),Display!$D7,)","v":0},{"$f":"IF(AND(I$8=Display!$T$10,'Lux4-sept'!$A$8=Display!$B$7,'Lux4-sept'!$A$9=Display!$B$9,'Lux4-sept'!$A$10=Display!$B$11,'Lux4-sept'!$A$19=Display!$B$13),Display!$D7,)","v":0},{"$f":"IF(AND(J$8=Display!$T$10,'Lux4-sept'!$A$8=Display!$B$7,'Lux4-sept'!$A$9=Display!$B$9,'Lux4-sept'!$A$10=Display!$B$11,'Lux4-sept'!$A$19=Display!$B$13),Display!$D7,)","v":0},{"$f":"IF(AND(K$8=Display!$T$10,'Lux4-sept'!$A$8=Display!$B$7,'Lux4-sept'!$A$9=Display!$B$9,'Lux4-sept'!$A$10=Display!$B$11,'Lux4-sept'!$A$19=Display!$B$13),Display!$D7,)","v":0},{"$f":"IF(AND(L$8=Display!$T$10,'Lux4-sept'!$A$8=Display!$B$7,'Lux4-sept'!$A$9=Display!$B$9,'Lux4-sept'!$A$10=Display!$B$11,'Lux4-sept'!$A$19=Display!$B$13),Display!$D7,)","v":0},{"$f":"IF(AND(M$8=Display!$T$10,'Lux4-sept'!$A$8=Display!$B$7,'Lux4-sept'!$A$9=Display!$B$9,'Lux4-sept'!$A$10=Display!$B$11,'Lux4-sept'!$A$19=Display!$B$13),Display!$D7,)","v":0},{"$f":"IF(AND(N$8=Display!$T$10,'Lux4-sept'!$A$8=Display!$B$7,'Lux4-sept'!$A$9=Display!$B$9,'Lux4-sept'!$A$10=Display!$B$11,'Lux4-sept'!$A$19=Display!$B$13),Display!$D7,)","v":0},{"$f":"IF(AND(O$8=Display!$T$10,'Lux4-sept'!$A$8=Display!$B$7,'Lux4-sept'!$A$9=Display!$B$9,'Lux4-sept'!$A$10=Display!$B$11,'Lux4-sept'!$A$19=Display!$B$13),Display!$D7,)","v":0},{"$f":"IF(AND(P$8=Display!$T$10,'Lux4-sept'!$A$8=Display!$B$7,'Lux4-sept'!$A$9=Display!$B$9,'Lux4-sept'!$A$10=Display!$B$11,'Lux4-sept'!$A$19=Display!$B$13),Display!$D7,)","v":0},{"$f":"IF(AND(Q$8=Display!$T$10,'Lux4-sept'!$A$8=Display!$B$7,'Lux4-sept'!$A$9=Display!$B$9,'Lux4-sept'!$A$10=Display!$B$11,'Lux4-sept'!$A$19=Display!$B$13),Display!$D7,)","v":0},{"$f":"IF(AND(R$8=Display!$T$10,'Lux4-sept'!$A$8=Display!$B$7,'Lux4-sept'!$A$9=Display!$B$9,'Lux4-sept'!$A$10=Display!$B$11,'Lux4-sept'!$A$19=Display!$B$13),Display!$D7,)","v":0},{"$f":"IF(AND(S$8=Display!$T$10,'Lux4-sept'!$A$8=Display!$B$7,'Lux4-sept'!$A$9=Display!$B$9,'Lux4-sept'!$A$10=Display!$B$11,'Lux4-sept'!$A$19=Display!$B$13),Display!$D7,)","v":0},{"$f":"IF(AND(T$8=Display!$T$10,'Lux4-sept'!$A$8=Display!$B$7,'Lux4-sept'!$A$9=Display!$B$9,'Lux4-sept'!$A$10=Display!$B$11,'Lux4-sept'!$A$19=Display!$B$13),Display!$D7,)","v":0},{"$f":"IF(AND(U$8=Display!$T$10,'Lux4-sept'!$A$8=Display!$B$7,'Lux4-sept'!$A$9=Display!$B$9,'Lux4-sept'!$A$10=Display!$B$11,'Lux4-sept'!$A$19=Display!$B$13),Display!$D7,)","v":0},{"$f":"IF(AND(V$8=Display!$T$10,'Lux4-sept'!$A$8=Display!$B$7,'Lux4-sept'!$A$9=Display!$B$9,'Lux4-sept'!$A$10=Display!$B$11,'Lux4-sept'!$A$19=Display!$B$13),Display!$D7,)","v":0},{"$f":"IF(AND(W$8=Display!$T$10,'Lux4-sept'!$A$8=Display!$B$7,'Lux4-sept'!$A$9=Display!$B$9,'Lux4-sept'!$A$10=Display!$B$11,'Lux4-sept'!$A$19=Display!$B$13),Display!$D7,)","v":0},{"$f":"IF(AND(X$8=Display!$T$10,'Lux4-sept'!$A$8=Display!$B$7,'Lux4-sept'!$A$9=Display!$B$9,'Lux4-sept'!$A$10=Display!$B$11,'Lux4-sept'!$A$19=Display!$B$13),Display!$D7,)","v":0},{"$f":"IF(AND(Y$8=Display!$T$10,'Lux4-sept'!$A$8=Display!$B$7,'Lux4-sept'!$A$9=Display!$B$9,'Lux4-sept'!$A$10=Display!$B$11,'Lux4-sept'!$A$19=Display!$B$13),Display!$D7,)","v":0},{"$f":"IF(AND(Z$8=Display!$T$10,'Lux4-sept'!$A$8=Display!$B$7,'Lux4-sept'!$A$9=Display!$B$9,'Lux4-sept'!$A$10=Display!$B$11,'Lux4-sept'!$A$19=Display!$B$13),Display!$D7,)","v":0},{"$f":"IF(AND(AA$8=Display!$T$10,'Lux4-sept'!$A$8=Display!$B$7,'Lux4-sept'!$A$9=Display!$B$9,'Lux4-sept'!$A$10=Display!$B$11,'Lux4-sept'!$A$19=Display!$B$13),Display!$D7,)","v":0},{"$f":"IF(AND(AB$8=Display!$T$10,'Lux4-sept'!$A$8=Display!$B$7,'Lux4-sept'!$A$9=Display!$B$9,'Lux4-sept'!$A$10=Display!$B$11,'Lux4-sept'!$A$19=Display!$B$13),Display!$D7,)","v":0},{"$f":"IF(AND(AC$8=Display!$T$10,'Lux4-sept'!$A$8=Display!$B$7,'Lux4-sept'!$A$9=Display!$B$9,'Lux4-sept'!$A$10=Display!$B$11,'Lux4-sept'!$A$19=Display!$B$13),Display!$D7,)","v":0},{"$f":"IF(AND(AD$8=Display!$T$10,'Lux4-sept'!$A$8=Display!$B$7,'Lux4-sept'!$A$9=Display!$B$9,'Lux4-sept'!$A$10=Display!$B$11,'Lux4-sept'!$A$19=Display!$B$13),Display!$D7,)","v":0},{"$f":"IF(AND(AE$8=Display!$T$10,'Lux4-sept'!$A$8=Display!$B$7,'Lux4-sept'!$A$9=Display!$B$9,'Lux4-sept'!$A$10=Display!$B$11,'Lux4-sept'!$A$19=Display!$B$13),Display!$D7,)","v":0},{"$f":"IF(AND(AF$8=Display!$T$10,'Lux4-sept'!$A$8=Display!$B$7,'Lux4-sept'!$A$9=Display!$B$9,'Lux4-sept'!$A$10=Display!$B$11,'Lux4-sept'!$A$19=Display!$B$13),Display!$D7,)","v":0},{"$f":"IF(AND(AG$8=Display!$T$10,'Lux4-sept'!$A$8=Display!$B$7,'Lux4-sept'!$A$9=Display!$B$9,'Lux4-sept'!$A$10=Display!$B$11,'Lux4-sept'!$A$19=Display!$B$13),Display!$D7,)","v":0},{"$f":"IF(AND(AH$8=Display!$T$10,'Lux4-sept'!$A$8=Display!$B$7,'Lux4-sept'!$A$9=Display!$B$9,'Lux4-sept'!$A$10=Display!$B$11,'Lux4-sept'!$A$19=Display!$B$13),Display!$D7,)","v":0},0]
["Tables nettoyées",{"$f":"IF(AND(B$8=Display!$T$10,'Lux4-sept'!$A$8=Display!$B$7,'Lux4-sept'!$A$9=Display!$B$9,'Lux4-sept'!$A$10=Display!$B$11,'Lux4-sept'!$A$19=Display!$B$13),Display!$D8,)","v":0},{"$f":"IF(AND(C$8=Display!$T$10,'Lux4-sept'!$A$8=Display!$B$7,'Lux4-sept'!$A$9=Display!$B$9,'Lux4-sept'!$A$10=Display!$B$11,'Lux4-sept'!$A$19=Display!$B$13),Display!$D8,)","v":0},{"$f":"IF(AND(D$8=Display!$T$10,'Lux4-sept'!$A$8=Display!$B$7,'Lux4-sept'!$A$9=Display!$B$9,'Lux4-sept'!$A$10=Display!$B$11,'Lux4-sept'!$A$19=Display!$B$13),Display!$D8,)","v":0},{"$f":"IF(AND(E$8=Display!$T$10,'Lux4-sept'!$A$8=Display!$B$7,'Lux4-sept'!$A$9=Display!$B$9,'Lux4-sept'!$A$10=Display!$B$11,'Lux4-sept'!$A$19=Display!$B$13),Display!$D8,)","v":0},{"$f":"IF(AND(F$8=Display!$T$10,'Lux4-sept'!$A$8=Display!$B$7,'Lux4-sept'!$A$9=Display!$B$9,'Lux4-sept'!$A$10=Display!$B$11,'Lux4-sept'!$A$19=Display!$B$13),Display!$D8,)","v":0},{"$f":"IF(AND(G$8=Display!$T$10,'Lux4-sept'!$A$8=Display!$B$7,'Lux4-sept'!$A$9=Display!$B$9,'Lux4-sept'!$A$10=Display!$B$11,'Lux4-sept'!$A$19=Display!$B$13),Display!$D8,)","v":0},{"$f":"IF(AND(H$8=Display!$T$10,'Lux4-sept'!$A$8=Display!$B$7,'Lux4-sept'!$A$9=Display!$B$9,'Lux4-sept'!$A$10=Display!$B$11,'Lux4-sept'!$A$19=Display!$B$13),Display!$D8,)","v":0},{"$f":"IF(AND(I$8=Display!$T$10,'Lux4-sept'!$A$8=Display!$B$7,'Lux4-sept'!$A$9=Display!$B$9,'Lux4-sept'!$A$10=Display!$B$11,'Lux4-sept'!$A$19=Display!$B$13),Display!$D8,)","v":0},{"$f":"IF(AND(J$8=Display!$T$10,'Lux4-sept'!$A$8=Display!$B$7,'Lux4-sept'!$A$9=Display!$B$9,'Lux4-sept'!$A$10=Display!$B$11,'Lux4-sept'!$A$19=Display!$B$13),Display!$D8,)","v":0},{"$f":"IF(AND(K$8=Display!$T$10,'Lux4-sept'!$A$8=Display!$B$7,'Lux4-sept'!$A$9=Display!$B$9,'Lux4-sept'!$A$10=Display!$B$11,'Lux4-sept'!$A$19=Display!$B$13),Display!$D8,)","v":0},{"$f":"IF(AND(L$8=Display!$T$10,'Lux4-sept'!$A$8=Display!$B$7,'Lux4-sept'!$A$9=Display!$B$9,'Lux4-sept'!$A$10=Display!$B$11,'Lux4-sept'!$A$19=Display!$B$13),Display!$D8,)","v":0},{"$f":"IF(AND(M$8=Display!$T$10,'Lux4-sept'!$A$8=Display!$B$7,'Lux4-sept'!$A$9=Display!$B$9,'Lux4-sept'!$A$10=Display!$B$11,'Lux4-sept'!$A$19=Display!$B$13),Display!$D8,)","v":0},{"$f":"IF(AND(N$8=Display!$T$10,'Lux4-sept'!$A$8=Display!$B$7,'Lux4-sept'!$A$9=Display!$B$9,'Lux4-sept'!$A$10=Display!$B$11,'Lux4-sept'!$A$19=Display!$B$13),Display!$D8,)","v":0},{"$f":"IF(AND(O$8=Display!$T$10,'Lux4-sept'!$A$8=Display!$B$7,'Lux4-sept'!$A$9=Display!$B$9,'Lux4-sept'!$A$10=Display!$B$11,'Lux4-sept'!$A$19=Display!$B$13),Display!$D8,)","v":0},{"$f":"IF(AND(P$8=Display!$T$10,'Lux4-sept'!$A$8=Display!$B$7,'Lux4-sept'!$A$9=Display!$B$9,'Lux4-sept'!$A$10=Display!$B$11,'Lux4-sept'!$A$19=Display!$B$13),Display!$D8,)","v":0},{"$f":"IF(AND(Q$8=Display!$T$10,'Lux4-sept'!$A$8=Display!$B$7,'Lux4-sept'!$A$9=Display!$B$9,'Lux4-sept'!$A$10=Display!$B$11,'Lux4-sept'!$A$19=Display!$B$13),Display!$D8,)","v":0},{"$f":"IF(AND(R$8=Display!$T$10,'Lux4-sept'!$A$8=Display!$B$7,'Lux4-sept'!$A$9=Display!$B$9,'Lux4-sept'!$A$10=Display!$B$11,'Lux4-sept'!$A$19=Display!$B$13),Display!$D8,)","v":0},{"$f":"IF(AND(S$8=Display!$T$10,'Lux4-sept'!$A$8=Display!$B$7,'Lux4-sept'!$A$9=Display!$B$9,'Lux4-sept'!$A$10=Display!$B$11,'Lux4-sept'!$A$19=Display!$B$13),Display!$D8,)","v":0},{"$f":"IF(AND(T$8=Display!$T$10,'Lux4-sept'!$A$8=Display!$B$7,'Lux4-sept'!$A$9=Display!$B$9,'Lux4-sept'!$A$10=Display!$B$11,'Lux4-sept'!$A$19=Display!$B$13),Display!$D8,)","v":0},{"$f":"IF(AND(U$8=Display!$T$10,'Lux4-sept'!$A$8=Display!$B$7,'Lux4-sept'!$A$9=Display!$B$9,'Lux4-sept'!$A$10=Display!$B$11,'Lux4-sept'!$A$19=Display!$B$13),Display!$D8,)","v":0},{"$f":"IF(AND(V$8=Display!$T$10,'Lux4-sept'!$A$8=Display!$B$7,'Lux4-sept'!$A$9=Display!$B$9,'Lux4-sept'!$A$10=Display!$B$11,'Lux4-sept'!$A$19=Display!$B$13),Display!$D8,)","v":0},{"$f":"IF(AND(W$8=Display!$T$10,'Lux4-sept'!$A$8=Display!$B$7,'Lux4-sept'!$A$9=Display!$B$9,'Lux4-sept'!$A$10=Display!$B$11,'Lux4-sept'!$A$19=Display!$B$13),Display!$D8,)","v":0},{"$f":"IF(AND(X$8=Display!$T$10,'Lux4-sept'!$A$8=Display!$B$7,'Lux4-sept'!$A$9=Display!$B$9,'Lux4-sept'!$A$10=Display!$B$11,'Lux4-sept'!$A$19=Display!$B$13),Display!$D8,)","v":0},{"$f":"IF(AND(Y$8=Display!$T$10,'Lux4-sept'!$A$8=Display!$B$7,'Lux4-sept'!$A$9=Display!$B$9,'Lux4-sept'!$A$10=Display!$B$11,'Lux4-sept'!$A$19=Display!$B$13),Display!$D8,)","v":0},{"$f":"IF(AND(Z$8=Display!$T$10,'Lux4-sept'!$A$8=Display!$B$7,'Lux4-sept'!$A$9=Display!$B$9,'Lux4-sept'!$A$10=Display!$B$11,'Lux4-sept'!$A$19=Display!$B$13),Display!$D8,)","v":0},{"$f":"IF(AND(AA$8=Display!$T$10,'Lux4-sept'!$A$8=Display!$B$7,'Lux4-sept'!$A$9=Display!$B$9,'Lux4-sept'!$A$10=Display!$B$11,'Lux4-sept'!$A$19=Display!$B$13),Display!$D8,)","v":0},{"$f":"IF(AND(AB$8=Display!$T$10,'Lux4-sept'!$A$8=Display!$B$7,'Lux4-sept'!$A$9=Display!$B$9,'Lux4-sept'!$A$10=Display!$B$11,'Lux4-sept'!$A$19=Display!$B$13),Display!$D8,)","v":0},{"$f":"IF(AND(AC$8=Display!$T$10,'Lux4-sept'!$A$8=Display!$B$7,'Lux4-sept'!$A$9=Display!$B$9,'Lux4-sept'!$A$10=Display!$B$11,'Lux4-sept'!$A$19=Display!$B$13),Display!$D8,)","v":0},{"$f":"IF(AND(AD$8=Display!$T$10,'Lux4-sept'!$A$8=Display!$B$7,'Lux4-sept'!$A$9=Display!$B$9,'Lux4-sept'!$A$10=Display!$B$11,'Lux4-sept'!$A$19=Display!$B$13),Display!$D8,)","v":0},{"$f":"IF(AND(AE$8=Display!$T$10,'Lux4-sept'!$A$8=Display!$B$7,'Lux4-sept'!$A$9=Display!$B$9,'Lux4-sept'!$A$10=Display!$B$11,'Lux4-sept'!$A$19=Display!$B$13),Display!$D8,)","v":0},{"$f":"IF(AND(AF$8=Display!$T$10,'Lux4-sept'!$A$8=Display!$B$7,'Lux4-sept'!$A$9=Display!$B$9,'Lux4-sept'!$A$10=Display!$B$11,'Lux4-sept'!$A$19=Display!$B$13),Display!$D8,)","v":0},{"$f":"IF(AND(AG$8=Display!$T$10,'Lux4-sept'!$A$8=Display!$B$7,'Lux4-sept'!$A$9=Display!$B$9,'Lux4-sept'!$A$10=Display!$B$11,'Lux4-sept'!$A$19=Display!$B$13),Display!$D8,)","v":0},{"$f":"IF(AND(AH$8=Display!$T$10,'Lux4-sept'!$A$8=Display!$B$7,'Lux4-sept'!$A$9=Display!$B$9,'Lux4-sept'!$A$10=Display!$B$11,'Lux4-sept'!$A$19=Display!$B$13),Display!$D8,)","v":0},0]
["Tableaux effacés",{"$f":"IF(AND(B$8=Display!$T$10,'Lux4-sept'!$A$8=Display!$B$7,'Lux4-sept'!$A$9=Display!$B$9,'Lux4-sept'!$A$10=Display!$B$11,'Lux4-sept'!$A$19=Display!$B$13),Display!$D9,)","v":0},{"$f":"IF(AND(C$8=Display!$T$10,'Lux4-sept'!$A$8=Display!$B$7,'Lux4-sept'!$A$9=Display!$B$9,'Lux4-sept'!$A$10=Display!$B$11,'Lux4-sept'!$A$19=Display!$B$13),Display!$D9,)","v":0},{"$f":"IF(AND(D$8=Display!$T$10,'Lux4-sept'!$A$8=Display!$B$7,'Lux4-sept'!$A$9=Display!$B$9,'Lux4-sept'!$A$10=Display!$B$11,'Lux4-sept'!$A$19=Display!$B$13),Display!$D9,)","v":0},{"$f":"IF(AND(E$8=Display!$T$10,'Lux4-sept'!$A$8=Display!$B$7,'Lux4-sept'!$A$9=Display!$B$9,'Lux4-sept'!$A$10=Display!$B$11,'Lux4-sept'!$A$19=Display!$B$13),Display!$D9,)","v":0},{"$f":"IF(AND(F$8=Display!$T$10,'Lux4-sept'!$A$8=Display!$B$7,'Lux4-sept'!$A$9=Display!$B$9,'Lux4-sept'!$A$10=Display!$B$11,'Lux4-sept'!$A$19=Display!$B$13),Display!$D9,)","v":0},{"$f":"IF(AND(G$8=Display!$T$10,'Lux4-sept'!$A$8=Display!$B$7,'Lux4-sept'!$A$9=Display!$B$9,'Lux4-sept'!$A$10=Display!$B$11,'Lux4-sept'!$A$19=Display!$B$13),Display!$D9,)","v":0},{"$f":"IF(AND(H$8=Display!$T$10,'Lux4-sept'!$A$8=Display!$B$7,'Lux4-sept'!$A$9=Display!$B$9,'Lux4-sept'!$A$10=Display!$B$11,'Lux4-sept'!$A$19=Display!$B$13),Display!$D9,)","v":0},{"$f":"IF(AND(I$8=Display!$T$10,'Lux4-sept'!$A$8=Display!$B$7,'Lux4-sept'!$A$9=Display!$B$9,'Lux4-sept'!$A$10=Display!$B$11,'Lux4-sept'!$A$19=Display!$B$13),Display!$D9,)","v":0},{"$f":"IF(AND(J$8=Display!$T$10,'Lux4-sept'!$A$8=Display!$B$7,'Lux4-sept'!$A$9=Display!$B$9,'Lux4-sept'!$A$10=Display!$B$11,'Lux4-sept'!$A$19=Display!$B$13),Display!$D9,)","v":0},{"$f":"IF(AND(K$8=Display!$T$10,'Lux4-sept'!$A$8=Display!$B$7,'Lux4-sept'!$A$9=Display!$B$9,'Lux4-sept'!$A$10=Display!$B$11,'Lux4-sept'!$A$19=Display!$B$13),Display!$D9,)","v":0},{"$f":"IF(AND(L$8=Display!$T$10,'Lux4-sept'!$A$8=Display!$B$7,'Lux4-sept'!$A$9=Display!$B$9,'Lux4-sept'!$A$10=Display!$B$11,'Lux4-sept'!$A$19=Display!$B$13),Display!$D9,)","v":0},{"$f":"IF(AND(M$8=Display!$T$10,'Lux4-sept'!$A$8=Display!$B$7,'Lux4-sept'!$A$9=Display!$B$9,'Lux4-sept'!$A$10=Display!$B$11,'Lux4-sept'!$A$19=Display!$B$13),Display!$D9,)","v":0},{"$f":"IF(AND(N$8=Display!$T$10,'Lux4-sept'!$A$8=Display!$B$7,'Lux4-sept'!$A$9=Display!$B$9,'Lux4-sept'!$A$10=Display!$B$11,'Lux4-sept'!$A$19=Display!$B$13),Display!$D9,)","v":0},{"$f":"IF(AND(O$8=Display!$T$10,'Lux4-sept'!$A$8=Display!$B$7,'Lux4-sept'!$A$9=Display!$B$9,'Lux4-sept'!$A$10=Display!$B$11,'Lux4-sept'!$A$19=Display!$B$13),Display!$D9,)","v":0},{"$f":"IF(AND(P$8=Display!$T$10,'Lux4-sept'!$A$8=Display!$B$7,'Lux4-sept'!$A$9=Display!$B$9,'Lux4-sept'!$A$10=Display!$B$11,'Lux4-sept'!$A$19=Display!$B$13),Display!$D9,)","v":0},{"$f":"IF(AND(Q$8=Display!$T$10,'Lux4-sept'!$A$8=Display!$B$7,'Lux4-sept'!$A$9=Display!$B$9,'Lux4-sept'!$A$10=Display!$B$11,'Lux4-sept'!$A$19=Display!$B$13),Display!$D9,)","v":0},{"$f":"IF(AND(R$8=Display!$T$10,'Lux4-sept'!$A$8=Display!$B$7,'Lux4-sept'!$A$9=Display!$B$9,'Lux4-sept'!$A$10=Display!$B$11,'Lux4-sept'!$A$19=Display!$B$13),Display!$D9,)","v":0},{"$f":"IF(AND(S$8=Display!$T$10,'Lux4-sept'!$A$8=Display!$B$7,'Lux4-sept'!$A$9=Display!$B$9,'Lux4-sept'!$A$10=Display!$B$11,'Lux4-sept'!$A$19=Display!$B$13),Display!$D9,)","v":0},{"$f":"IF(AND(T$8=Display!$T$10,'Lux4-sept'!$A$8=Display!$B$7,'Lux4-sept'!$A$9=Display!$B$9,'Lux4-sept'!$A$10=Display!$B$11,'Lux4-sept'!$A$19=Display!$B$13),Display!$D9,)","v":0},{"$f":"IF(AND(U$8=Display!$T$10,'Lux4-sept'!$A$8=Display!$B$7,'Lux4-sept'!$A$9=Display!$B$9,'Lux4-sept'!$A$10=Display!$B$11,'Lux4-sept'!$A$19=Display!$B$13),Display!$D9,)","v":0},{"$f":"IF(AND(V$8=Display!$T$10,'Lux4-sept'!$A$8=Display!$B$7,'Lux4-sept'!$A$9=Display!$B$9,'Lux4-sept'!$A$10=Display!$B$11,'Lux4-sept'!$A$19=Display!$B$13),Display!$D9,)","v":0},{"$f":"IF(AND(W$8=Display!$T$10,'Lux4-sept'!$A$8=Display!$B$7,'Lux4-sept'!$A$9=Display!$B$9,'Lux4-sept'!$A$10=Display!$B$11,'Lux4-sept'!$A$19=Display!$B$13),Display!$D9,)","v":0},{"$f":"IF(AND(X$8=Display!$T$10,'Lux4-sept'!$A$8=Display!$B$7,'Lux4-sept'!$A$9=Display!$B$9,'Lux4-sept'!$A$10=Display!$B$11,'Lux4-sept'!$A$19=Display!$B$13),Display!$D9,)","v":0},{"$f":"IF(AND(Y$8=Display!$T$10,'Lux4-sept'!$A$8=Display!$B$7,'Lux4-sept'!$A$9=Display!$B$9,'Lux4-sept'!$A$10=Display!$B$11,'Lux4-sept'!$A$19=Display!$B$13),Display!$D9,)","v":0},{"$f":"IF(AND(Z$8=Display!$T$10,'Lux4-sept'!$A$8=Display!$B$7,'Lux4-sept'!$A$9=Display!$B$9,'Lux4-sept'!$A$10=Display!$B$11,'Lux4-sept'!$A$19=Display!$B$13),Display!$D9,)","v":0},{"$f":"IF(AND(AA$8=Display!$T$10,'Lux4-sept'!$A$8=Display!$B$7,'Lux4-sept'!$A$9=Display!$B$9,'Lux4-sept'!$A$10=Display!$B$11,'Lux4-sept'!$A$19=Display!$B$13),Display!$D9,)","v":0},{"$f":"IF(AND(AB$8=Display!$T$10,'Lux4-sept'!$A$8=Display!$B$7,'Lux4-sept'!$A$9=Display!$B$9,'Lux4-sept'!$A$10=Display!$B$11,'Lux4-sept'!$A$19=Display!$B$13),Display!$D9,)","v":0},{"$f":"IF(AND(AC$8=Display!$T$10,'Lux4-sept'!$A$8=Display!$B$7,'Lux4-sept'!$A$9=Display!$B$9,'Lux4-sept'!$A$10=Display!$B$11,'Lux4-sept'!$A$19=Display!$B$13),Display!$D9,)","v":0},{"$f":"IF(AND(AD$8=Display!$T$10,'Lux4-sept'!$A$8=Display!$B$7,'Lux4-sept'!$A$9=Display!$B$9,'Lux4-sept'!$A$10=Display!$B$11,'Lux4-sept'!$A$19=Display!$B$13),Display!$D9,)","v":0},{"$f":"IF(AND(AE$8=Display!$T$10,'Lux4-sept'!$A$8=Display!$B$7,'Lux4-sept'!$A$9=Display!$B$9,'Lux4-sept'!$A$10=Display!$B$11,'Lux4-sept'!$A$19=Display!$B$13),Display!$D9,)","v":0},{"$f":"IF(AND(AF$8=Display!$T$10,'Lux4-sept'!$A$8=Display!$B$7,'Lux4-sept'!$A$9=Display!$B$9,'Lux4-sept'!$A$10=Display!$B$11,'Lux4-sept'!$A$19=Display!$B$13),Display!$D9,)","v":0},{"$f":"IF(AND(AG$8=Display!$T$10,'Lux4-sept'!$A$8=Display!$B$7,'Lux4-sept'!$A$9=Display!$B$9,'Lux4-sept'!$A$10=Display!$B$11,'Lux4-sept'!$A$19=Display!$B$13),Display!$D9,)","v":0},{"$f":"IF(AND(AH$8=Display!$T$10,'Lux4-sept'!$A$8=Display!$B$7,'Lux4-sept'!$A$9=Display!$B$9,'Lux4-sept'!$A$10=Display!$B$11,'Lux4-sept'!$A$19=Display!$B$13),Display!$D9,)","v":0},0]
["MOYENNE",{"$f":"((IF((SUM(B20:B25))<>0,(SUM(B20:B25)),0))/(IF((SUM((IF(B20<>0,3,0)),(IF(B21<>0,3,0)),(IF(B22<>0,3,0)),(IF(B23<>0,3,0)),(IF(B24<>0,3,0)),(IF(B25<>0,3,0))))<>0,((SUM((IF(B20<>0,3,0)),(IF(B21<>0,3,0)),(IF(B22<>0,3,0)),(IF(B23<>0,3,0)),(IF(B24<>0,3,0)),(IF(B25<>0,3,0))))),1)))","v":0},{"$f":"((IF((SUM(C20:C25))<>0,(SUM(C20:C25)),0))/(IF((SUM((IF(C20<>0,3,0)),(IF(C21<>0,3,0)),(IF(C22<>0,3,0)),(IF(C23<>0,3,0)),(IF(C24<>0,3,0)),(IF(C25<>0,3,0))))<>0,((SUM((IF(C20<>0,3,0)),(IF(C21<>0,3,0)),(IF(C22<>0,3,0)),(IF(C23<>0,3,0)),(IF(C24<>0,3,0)),(IF(C25<>0,3,0))))),1)))","v":0},0,0,0,0,0,0,0,0,0,0,0,0,0,0,0,0,0,0,0,0,0,0,0,0,0,0,0,0,0,0,0]
["02.500"]
["salle de réunion en place (café, thé, lunch…) ",{"$f":"IF(AND(B$8=Display!$T$10,'Lux4-sept'!$A$8=Display!$B$7,'Lux4-sept'!$A$9=Display!$B$9,'Lux4-sept'!$A$10=Display!$B$11,'Lux4-sept'!$A$27=Display!$B$13),Display!$D4,)","v":0},{"$f":"IF(AND(C$8=Display!$T$10,'Lux4-sept'!$A$8=Display!$B$7,'Lux4-sept'!$A$9=Display!$B$9,'Lux4-sept'!$A$10=Display!$B$11,'Lux4-sept'!$A$27=Display!$B$13),Display!$D4,)","v":0},{"$f":"IF(AND(D$8=Display!$T$10,'Lux4-sept'!$A$8=Display!$B$7,'Lux4-sept'!$A$9=Display!$B$9,'Lux4-sept'!$A$10=Display!$B$11,'Lux4-sept'!$A$27=Display!$B$13),Display!$D4,)","v":0},{"$f":"IF(AND(E$8=Display!$T$10,'Lux4-sept'!$A$8=Display!$B$7,'Lux4-sept'!$A$9=Display!$B$9,'Lux4-sept'!$A$10=Display!$B$11,'Lux4-sept'!$A$27=Display!$B$13),Display!$D4,)","v":0},{"$f":"IF(AND(F$8=Display!$T$10,'Lux4-sept'!$A$8=Display!$B$7,'Lux4-sept'!$A$9=Display!$B$9,'Lux4-sept'!$A$10=Display!$B$11,'Lux4-sept'!$A$27=Display!$B$13),Display!$D4,)","v":0},{"$f":"IF(AND(G$8=Display!$T$10,'Lux4-sept'!$A$8=Display!$B$7,'Lux4-sept'!$A$9=Display!$B$9,'Lux4-sept'!$A$10=Display!$B$11,'Lux4-sept'!$A$27=Display!$B$13),Display!$D4,)","v":0},{"$f":"IF(AND(H$8=Display!$T$10,'Lux4-sept'!$A$8=Display!$B$7,'Lux4-sept'!$A$9=Display!$B$9,'Lux4-sept'!$A$10=Display!$B$11,'Lux4-sept'!$A$27=Display!$B$13),Display!$D4,)","v":3},{"$f":"IF(AND(I$8=Display!$T$10,'Lux4-sept'!$A$8=Display!$B$7,'Lux4-sept'!$A$9=Display!$B$9,'Lux4-sept'!$A$10=Display!$B$11,'Lux4-sept'!$A$27=Display!$B$13),Display!$D4,)","v":0},{"$f":"IF(AND(J$8=Display!$T$10,'Lux4-sept'!$A$8=Display!$B$7,'Lux4-sept'!$A$9=Display!$B$9,'Lux4-sept'!$A$10=Display!$B$11,'Lux4-sept'!$A$27=Display!$B$13),Display!$D4,)","v":0},{"$f":"IF(AND(K$8=Display!$T$10,'Lux4-sept'!$A$8=Display!$B$7,'Lux4-sept'!$A$9=Display!$B$9,'Lux4-sept'!$A$10=Display!$B$11,'Lux4-sept'!$A$27=Display!$B$13),Display!$D4,)","v":0},{"$f":"IF(AND(L$8=Display!$T$10,'Lux4-sept'!$A$8=Display!$B$7,'Lux4-sept'!$A$9=Display!$B$9,'Lux4-sept'!$A$10=Display!$B$11,'Lux4-sept'!$A$27=Display!$B$13),Display!$D4,)","v":0},{"$f":"IF(AND(M$8=Display!$T$10,'Lux4-sept'!$A$8=Display!$B$7,'Lux4-sept'!$A$9=Display!$B$9,'Lux4-sept'!$A$10=Display!$B$11,'Lux4-sept'!$A$27=Display!$B$13),Display!$D4,)","v":0},{"$f":"IF(AND(N$8=Display!$T$10,'Lux4-sept'!$A$8=Display!$B$7,'Lux4-sept'!$A$9=Display!$B$9,'Lux4-sept'!$A$10=Display!$B$11,'Lux4-sept'!$A$27=Display!$B$13),Display!$D4,)","v":0},{"$f":"IF(AND(O$8=Display!$T$10,'Lux4-sept'!$A$8=Display!$B$7,'Lux4-sept'!$A$9=Display!$B$9,'Lux4-sept'!$A$10=Display!$B$11,'Lux4-sept'!$A$27=Display!$B$13),Display!$D4,)","v":0},{"$f":"IF(AND(P$8=Display!$T$10,'Lux4-sept'!$A$8=Display!$B$7,'Lux4-sept'!$A$9=Display!$B$9,'Lux4-sept'!$A$10=Display!$B$11,'Lux4-sept'!$A$27=Display!$B$13),Display!$D4,)","v":0},{"$f":"IF(AND(Q$8=Display!$T$10,'Lux4-sept'!$A$8=Display!$B$7,'Lux4-sept'!$A$9=Display!$B$9,'Lux4-sept'!$A$10=Display!$B$11,'Lux4-sept'!$A$27=Display!$B$13),Display!$D4,)","v":0},{"$f":"IF(AND(R$8=Display!$T$10,'Lux4-sept'!$A$8=Display!$B$7,'Lux4-sept'!$A$9=Display!$B$9,'Lux4-sept'!$A$10=Display!$B$11,'Lux4-sept'!$A$27=Display!$B$13),Display!$D4,)","v":0},{"$f":"IF(AND(S$8=Display!$T$10,'Lux4-sept'!$A$8=Display!$B$7,'Lux4-sept'!$A$9=Display!$B$9,'Lux4-sept'!$A$10=Display!$B$11,'Lux4-sept'!$A$27=Display!$B$13),Display!$D4,)","v":0},{"$f":"IF(AND(T$8=Display!$T$10,'Lux4-sept'!$A$8=Display!$B$7,'Lux4-sept'!$A$9=Display!$B$9,'Lux4-sept'!$A$10=Display!$B$11,'Lux4-sept'!$A$27=Display!$B$13),Display!$D4,)","v":0},{"$f":"IF(AND(U$8=Display!$T$10,'Lux4-sept'!$A$8=Display!$B$7,'Lux4-sept'!$A$9=Display!$B$9,'Lux4-sept'!$A$10=Display!$B$11,'Lux4-sept'!$A$27=Display!$B$13),Display!$D4,)","v":0},{"$f":"IF(AND(V$8=Display!$T$10,'Lux4-sept'!$A$8=Display!$B$7,'Lux4-sept'!$A$9=Display!$B$9,'Lux4-sept'!$A$10=Display!$B$11,'Lux4-sept'!$A$27=Display!$B$13),Display!$D4,)","v":0},{"$f":"IF(AND(W$8=Display!$T$10,'Lux4-sept'!$A$8=Display!$B$7,'Lux4-sept'!$A$9=Display!$B$9,'Lux4-sept'!$A$10=Display!$B$11,'Lux4-sept'!$A$27=Display!$B$13),Display!$D4,)","v":0},{"$f":"IF(AND(X$8=Display!$T$10,'Lux4-sept'!$A$8=Display!$B$7,'Lux4-sept'!$A$9=Display!$B$9,'Lux4-sept'!$A$10=Display!$B$11,'Lux4-sept'!$A$27=Display!$B$13),Display!$D4,)","v":0},{"$f":"IF(AND(Y$8=Display!$T$10,'Lux4-sept'!$A$8=Display!$B$7,'Lux4-sept'!$A$9=Display!$B$9,'Lux4-sept'!$A$10=Display!$B$11,'Lux4-sept'!$A$27=Display!$B$13),Display!$D4,)","v":0},{"$f":"IF(AND(Z$8=Display!$T$10,'Lux4-sept'!$A$8=Display!$B$7,'Lux4-sept'!$A$9=Display!$B$9,'Lux4-sept'!$A$10=Display!$B$11,'Lux4-sept'!$A$27=Display!$B$13),Display!$D4,)","v":0},{"$f":"IF(AND(AA$8=Display!$T$10,'Lux4-sept'!$A$8=Display!$B$7,'Lux4-sept'!$A$9=Display!$B$9,'Lux4-sept'!$A$10=Display!$B$11,'Lux4-sept'!$A$27=Display!$B$13),Display!$D4,)","v":0},{"$f":"IF(AND(AB$8=Display!$T$10,'Lux4-sept'!$A$8=Display!$B$7,'Lux4-sept'!$A$9=Display!$B$9,'Lux4-sept'!$A$10=Display!$B$11,'Lux4-sept'!$A$27=Display!$B$13),Display!$D4,)","v":0},{"$f":"IF(AND(AC$8=Display!$T$10,'Lux4-sept'!$A$8=Display!$B$7,'Lux4-sept'!$A$9=Display!$B$9,'Lux4-sept'!$A$10=Display!$B$11,'Lux4-sept'!$A$27=Display!$B$13),Display!$D4,)","v":0},{"$f":"IF(AND(AD$8=Display!$T$10,'Lux4-sept'!$A$8=Display!$B$7,'Lux4-sept'!$A$9=Display!$B$9,'Lux4-sept'!$A$10=Display!$B$11,'Lux4-sept'!$A$27=Display!$B$13),Display!$D4,)","v":0},{"$f":"IF(AND(AE$8=Display!$T$10,'Lux4-sept'!$A$8=Display!$B$7,'Lux4-sept'!$A$9=Display!$B$9,'Lux4-sept'!$A$10=Display!$B$11,'Lux4-sept'!$A$27=Display!$B$13),Display!$D4,)","v":0},{"$f":"IF(AND(AF$8=Display!$T$10,'Lux4-sept'!$A$8=Display!$B$7,'Lux4-sept'!$A$9=Display!$B$9,'Lux4-sept'!$A$10=Display!$B$11,'Lux4-sept'!$A$27=Display!$B$13),Display!$D4,)","v":0},null,null,{"$f":"((IF((SUM(B28:AF28))<>0,(SUM(B28:AF28)),0))/(IF((SUM((IF(B28<>0,3,0)),(IF(C28<>0,3,0)),(IF(D28<>0,3,0)),(IF(E28<>0,3,0)),(IF(F28<>0,3,0)),(IF(F28<>0,3,0)),(IF(F28<>0,3,0)),(IF(G28<>0,3,0)),(IF(H28<>0,3,0)),(IF(I28<>0,3,0)),(IF(J28<>0,3,0)),(IF(K28<>0,3,0)),(IF(L28<>0,3,0)),(IF(M28<>0,3,0)),(IF(N28<>0,3,0)),(IF(O28<>0,3,0)),(IF(P28<>0,3,0)),(IF(Q28<>0,3,0)),(IF(R28<>0,3,0)),(IF(S28<>0,3,0)),(IF(T28<>0,3,0)),(IF(U28<>0,3,0)),(IF(V28<>0,3,0)),(IF(W28<>0,3,0)),(IF(X28<>0,3,0)),(IF(Y28<>0,3,0)),(IF(Z28<>0,3,0)),(IF(AA28<>0,3,0)),(IF(AB28<>0,3,0)),(IF(AC28<>0,3,0)),(IF(AD28<>0,3,0)),(IF(AE28<>0,3,0)),(IF(AF28<>0,3,0))))<>0,((SUM((IF(B28<>0,3,0)),(IF(C28<>0,3,0)),(IF(D28<>0,3,0)),(IF(E28<>0,3,0)),(IF(F28<>0,3,0)),(IF(F28<>0,3,0)),(IF(F28<>0,3,0)),(IF(G28<>0,3,0)),(IF(H28<>0,3,0)),(IF(I28<>0,3,0)),(IF(J28<>0,3,0)),(IF(K28<>0,3,0)),(IF(L28<>0,3,0)),(IF(M28<>0,3,0)),(IF(N28<>0,3,0)),(IF(O28<>0,3,0)),(IF(P28<>0,3,0)),(IF(Q28<>0,3,0)),(IF(R28<>0,3,0)),(IF(S28<>0,3,0)),(IF(T28<>0,3,0)),(IF(U28<>0,3,0)),(IF(V28<>0,3,0)),(IF(W28<>0,3,0)),(IF(X28<>0,3,0)),(IF(Y28<>0,3,0)),(IF(Z28<>0,3,0)),(IF(AA28<>0,3,0)),(IF(AB28<>0,3,0)),(IF(AC28<>0,3,0)),(IF(AD28<>0,3,0)),(IF(AE28<>0,3,0)),(IF(AF28<>0,3,0))))),1)))","v":1}]
["Salle prête à être utiliser après les meeting",{"$f":"IF(AND(B$8=Display!$T$10,'Lux4-sept'!$A$8=Display!$B$7,'Lux4-sept'!$A$9=Display!$B$9,'Lux4-sept'!$A$10=Display!$B$11,'Lux4-sept'!$A$27=Display!$B$13),Display!$D5,)","v":0},{"$f":"IF(AND(C$8=Display!$T$10,'Lux4-sept'!$A$8=Display!$B$7,'Lux4-sept'!$A$9=Display!$B$9,'Lux4-sept'!$A$10=Display!$B$11,'Lux4-sept'!$A$27=Display!$B$13),Display!$D5,)","v":0},{"$f":"IF(AND(D$8=Display!$T$10,'Lux4-sept'!$A$8=Display!$B$7,'Lux4-sept'!$A$9=Display!$B$9,'Lux4-sept'!$A$10=Display!$B$11,'Lux4-sept'!$A$27=Display!$B$13),Display!$D5,)","v":0},{"$f":"IF(AND(E$8=Display!$T$10,'Lux4-sept'!$A$8=Display!$B$7,'Lux4-sept'!$A$9=Display!$B$9,'Lux4-sept'!$A$10=Display!$B$11,'Lux4-sept'!$A$27=Display!$B$13),Display!$D5,)","v":0},{"$f":"IF(AND(F$8=Display!$T$10,'Lux4-sept'!$A$8=Display!$B$7,'Lux4-sept'!$A$9=Display!$B$9,'Lux4-sept'!$A$10=Display!$B$11,'Lux4-sept'!$A$27=Display!$B$13),Display!$D5,)","v":0},{"$f":"IF(AND(G$8=Display!$T$10,'Lux4-sept'!$A$8=Display!$B$7,'Lux4-sept'!$A$9=Display!$B$9,'Lux4-sept'!$A$10=Display!$B$11,'Lux4-sept'!$A$27=Display!$B$13),Display!$D5,)","v":0},{"$f":"IF(AND(H$8=Display!$T$10,'Lux4-sept'!$A$8=Display!$B$7,'Lux4-sept'!$A$9=Display!$B$9,'Lux4-sept'!$A$10=Display!$B$11,'Lux4-sept'!$A$27=Display!$B$13),Display!$D5,)","v":3},{"$f":"IF(AND(I$8=Display!$T$10,'Lux4-sept'!$A$8=Display!$B$7,'Lux4-sept'!$A$9=Display!$B$9,'Lux4-sept'!$A$10=Display!$B$11,'Lux4-sept'!$A$27=Display!$B$13),Display!$D5,)","v":0},{"$f":"IF(AND(J$8=Display!$T$10,'Lux4-sept'!$A$8=Display!$B$7,'Lux4-sept'!$A$9=Display!$B$9,'Lux4-sept'!$A$10=Display!$B$11,'Lux4-sept'!$A$27=Display!$B$13),Display!$D5,)","v":0},{"$f":"IF(AND(K$8=Display!$T$10,'Lux4-sept'!$A$8=Display!$B$7,'Lux4-sept'!$A$9=Display!$B$9,'Lux4-sept'!$A$10=Display!$B$11,'Lux4-sept'!$A$27=Display!$B$13),Display!$D5,)","v":0},{"$f":"IF(AND(L$8=Display!$T$10,'Lux4-sept'!$A$8=Display!$B$7,'Lux4-sept'!$A$9=Display!$B$9,'Lux4-sept'!$A$10=Display!$B$11,'Lux4-sept'!$A$27=Display!$B$13),Display!$D5,)","v":0},{"$f":"IF(AND(M$8=Display!$T$10,'Lux4-sept'!$A$8=Display!$B$7,'Lux4-sept'!$A$9=Display!$B$9,'Lux4-sept'!$A$10=Display!$B$11,'Lux4-sept'!$A$27=Display!$B$13),Display!$D5,)","v":0},{"$f":"IF(AND(N$8=Display!$T$10,'Lux4-sept'!$A$8=Display!$B$7,'Lux4-sept'!$A$9=Display!$B$9,'Lux4-sept'!$A$10=Display!$B$11,'Lux4-sept'!$A$27=Display!$B$13),Display!$D5,)","v":0},{"$f":"IF(AND(O$8=Display!$T$10,'Lux4-sept'!$A$8=Display!$B$7,'Lux4-sept'!$A$9=Display!$B$9,'Lux4-sept'!$A$10=Display!$B$11,'Lux4-sept'!$A$27=Display!$B$13),Display!$D5,)","v":0},{"$f":"IF(AND(P$8=Display!$T$10,'Lux4-sept'!$A$8=Display!$B$7,'Lux4-sept'!$A$9=Display!$B$9,'Lux4-sept'!$A$10=Display!$B$11,'Lux4-sept'!$A$27=Display!$B$13),Display!$D5,)","v":0},{"$f":"IF(AND(Q$8=Display!$T$10,'Lux4-sept'!$A$8=Display!$B$7,'Lux4-sept'!$A$9=Display!$B$9,'Lux4-sept'!$A$10=Display!$B$11,'Lux4-sept'!$A$27=Display!$B$13),Display!$D5,)","v":0},{"$f":"IF(AND(R$8=Display!$T$10,'Lux4-sept'!$A$8=Display!$B$7,'Lux4-sept'!$A$9=Display!$B$9,'Lux4-sept'!$A$10=Display!$B$11,'Lux4-sept'!$A$27=Display!$B$13),Display!$D5,)","v":0},{"$f":"IF(AND(S$8=Display!$T$10,'Lux4-sept'!$A$8=Display!$B$7,'Lux4-sept'!$A$9=Display!$B$9,'Lux4-sept'!$A$10=Display!$B$11,'Lux4-sept'!$A$27=Display!$B$13),Display!$D5,)","v":0},{"$f":"IF(AND(T$8=Display!$T$10,'Lux4-sept'!$A$8=Display!$B$7,'Lux4-sept'!$A$9=Display!$B$9,'Lux4-sept'!$A$10=Display!$B$11,'Lux4-sept'!$A$27=Display!$B$13),Display!$D5,)","v":0},{"$f":"IF(AND(U$8=Display!$T$10,'Lux4-sept'!$A$8=Display!$B$7,'Lux4-sept'!$A$9=Display!$B$9,'Lux4-sept'!$A$10=Display!$B$11,'Lux4-sept'!$A$27=Display!$B$13),Display!$D5,)","v":0},{"$f":"IF(AND(V$8=Display!$T$10,'Lux4-sept'!$A$8=Display!$B$7,'Lux4-sept'!$A$9=Display!$B$9,'Lux4-sept'!$A$10=Display!$B$11,'Lux4-sept'!$A$27=Display!$B$13),Display!$D5,)","v":0},{"$f":"IF(AND(W$8=Display!$T$10,'Lux4-sept'!$A$8=Display!$B$7,'Lux4-sept'!$A$9=Display!$B$9,'Lux4-sept'!$A$10=Display!$B$11,'Lux4-sept'!$A$27=Display!$B$13),Display!$D5,)","v":0},{"$f":"IF(AND(X$8=Display!$T$10,'Lux4-sept'!$A$8=Display!$B$7,'Lux4-sept'!$A$9=Display!$B$9,'Lux4-sept'!$A$10=Display!$B$11,'Lux4-sept'!$A$27=Display!$B$13),Display!$D5,)","v":0},{"$f":"IF(AND(Y$8=Display!$T$10,'Lux4-sept'!$A$8=Display!$B$7,'Lux4-sept'!$A$9=Display!$B$9,'Lux4-sept'!$A$10=Display!$B$11,'Lux4-sept'!$A$27=Display!$B$13),Display!$D5,)","v":0},{"$f":"IF(AND(Z$8=Display!$T$10,'Lux4-sept'!$A$8=Display!$B$7,'Lux4-sept'!$A$9=Display!$B$9,'Lux4-sept'!$A$10=Display!$B$11,'Lux4-sept'!$A$27=Display!$B$13),Display!$D5,)","v":0},{"$f":"IF(AND(AA$8=Display!$T$10,'Lux4-sept'!$A$8=Display!$B$7,'Lux4-sept'!$A$9=Display!$B$9,'Lux4-sept'!$A$10=Display!$B$11,'Lux4-sept'!$A$27=Display!$B$13),Display!$D5,)","v":0},{"$f":"IF(AND(AB$8=Display!$T$10,'Lux4-sept'!$A$8=Display!$B$7,'Lux4-sept'!$A$9=Display!$B$9,'Lux4-sept'!$A$10=Display!$B$11,'Lux4-sept'!$A$27=Display!$B$13),Display!$D5,)","v":0},{"$f":"IF(AND(AC$8=Display!$T$10,'Lux4-sept'!$A$8=Display!$B$7,'Lux4-sept'!$A$9=Display!$B$9,'Lux4-sept'!$A$10=Display!$B$11,'Lux4-sept'!$A$27=Display!$B$13),Display!$D5,)","v":0},{"$f":"IF(AND(AD$8=Display!$T$10,'Lux4-sept'!$A$8=Display!$B$7,'Lux4-sept'!$A$9=Display!$B$9,'Lux4-sept'!$A$10=Display!$B$11,'Lux4-sept'!$A$27=Display!$B$13),Display!$D5,)","v":0},{"$f":"IF(AND(AE$8=Display!$T$10,'Lux4-sept'!$A$8=Display!$B$7,'Lux4-sept'!$A$9=Display!$B$9,'Lux4-sept'!$A$10=Display!$B$11,'Lux4-sept'!$A$27=Display!$B$13),Display!$D5,)","v":0},{"$f":"IF(AND(AF$8=Display!$T$10,'Lux4-sept'!$A$8=Display!$B$7,'Lux4-sept'!$A$9=Display!$B$9,'Lux4-sept'!$A$10=Display!$B$11,'Lux4-sept'!$A$27=Display!$B$13),Display!$D5,)","v":0},null,null,{"$f":"((IF((SUM(B29:AF29))<>0,(SUM(B29:AF29)),0))/(IF((SUM((IF(B29<>0,3,0)),(IF(C29<>0,3,0)),(IF(D29<>0,3,0)),(IF(E29<>0,3,0)),(IF(F29<>0,3,0)),(IF(F29<>0,3,0)),(IF(F29<>0,3,0)),(IF(G29<>0,3,0)),(IF(H29<>0,3,0)),(IF(I29<>0,3,0)),(IF(J29<>0,3,0)),(IF(K29<>0,3,0)),(IF(L29<>0,3,0)),(IF(M29<>0,3,0)),(IF(N29<>0,3,0)),(IF(O29<>0,3,0)),(IF(P29<>0,3,0)),(IF(Q29<>0,3,0)),(IF(R29<>0,3,0)),(IF(S29<>0,3,0)),(IF(T29<>0,3,0)),(IF(U29<>0,3,0)),(IF(V29<>0,3,0)),(IF(W29<>0,3,0)),(IF(X29<>0,3,0)),(IF(Y29<>0,3,0)),(IF(Z29<>0,3,0)),(IF(AA29<>0,3,0)),(IF(AB29<>0,3,0)),(IF(AC29<>0,3,0)),(IF(AD29<>0,3,0)),(IF(AE29<>0,3,0)),(IF(AF29<>0,3,0))))<>0,((SUM((IF(B29<>0,3,0)),(IF(C29<>0,3,0)),(IF(D29<>0,3,0)),(IF(E29<>0,3,0)),(IF(F29<>0,3,0)),(IF(F29<>0,3,0)),(IF(F29<>0,3,0)),(IF(G29<>0,3,0)),(IF(H29<>0,3,0)),(IF(I29<>0,3,0)),(IF(J29<>0,3,0)),(IF(K29<>0,3,0)),(IF(L29<>0,3,0)),(IF(M29<>0,3,0)),(IF(N29<>0,3,0)),(IF(O29<>0,3,0)),(IF(P29<>0,3,0)),(IF(Q29<>0,3,0)),(IF(R29<>0,3,0)),(IF(S29<>0,3,0)),(IF(T29<>0,3,0)),(IF(U29<>0,3,0)),(IF(V29<>0,3,0)),(IF(W29<>0,3,0)),(IF(X29<>0,3,0)),(IF(Y29<>0,3,0)),(IF(Z29<>0,3,0)),(IF(AA29<>0,3,0)),(IF(AB29<>0,3,0)),(IF(AC29<>0,3,0)),(IF(AD29<>0,3,0)),(IF(AE29<>0,3,0)),(IF(AF29<>0,3,0))))),1)))","v":1}]
["Chaises rangées",{"$f":"IF(AND(B$8=Display!$T$10,'Lux4-sept'!$A$8=Display!$B$7,'Lux4-sept'!$A$9=Display!$B$9,'Lux4-sept'!$A$10=Display!$B$11,'Lux4-sept'!$A$27=Display!$B$13),Display!$D6,)","v":0},{"$f":"IF(AND(C$8=Display!$T$10,'Lux4-sept'!$A$8=Display!$B$7,'Lux4-sept'!$A$9=Display!$B$9,'Lux4-sept'!$A$10=Display!$B$11,'Lux4-sept'!$A$27=Display!$B$13),Display!$D6,)","v":0},{"$f":"IF(AND(D$8=Display!$T$10,'Lux4-sept'!$A$8=Display!$B$7,'Lux4-sept'!$A$9=Display!$B$9,'Lux4-sept'!$A$10=Display!$B$11,'Lux4-sept'!$A$27=Display!$B$13),Display!$D6,)","v":0},{"$f":"IF(AND(E$8=Display!$T$10,'Lux4-sept'!$A$8=Display!$B$7,'Lux4-sept'!$A$9=Display!$B$9,'Lux4-sept'!$A$10=Display!$B$11,'Lux4-sept'!$A$27=Display!$B$13),Display!$D6,)","v":0},{"$f":"IF(AND(F$8=Display!$T$10,'Lux4-sept'!$A$8=Display!$B$7,'Lux4-sept'!$A$9=Display!$B$9,'Lux4-sept'!$A$10=Display!$B$11,'Lux4-sept'!$A$27=Display!$B$13),Display!$D6,)","v":0},{"$f":"IF(AND(G$8=Display!$T$10,'Lux4-sept'!$A$8=Display!$B$7,'Lux4-sept'!$A$9=Display!$B$9,'Lux4-sept'!$A$10=Display!$B$11,'Lux4-sept'!$A$27=Display!$B$13),Display!$D6,)","v":0},{"$f":"IF(AND(H$8=Display!$T$10,'Lux4-sept'!$A$8=Display!$B$7,'Lux4-sept'!$A$9=Display!$B$9,'Lux4-sept'!$A$10=Display!$B$11,'Lux4-sept'!$A$27=Display!$B$13),Display!$D6,)","v":2},{"$f":"IF(AND(I$8=Display!$T$10,'Lux4-sept'!$A$8=Display!$B$7,'Lux4-sept'!$A$9=Display!$B$9,'Lux4-sept'!$A$10=Display!$B$11,'Lux4-sept'!$A$27=Display!$B$13),Display!$D6,)","v":0},{"$f":"IF(AND(J$8=Display!$T$10,'Lux4-sept'!$A$8=Display!$B$7,'Lux4-sept'!$A$9=Display!$B$9,'Lux4-sept'!$A$10=Display!$B$11,'Lux4-sept'!$A$27=Display!$B$13),Display!$D6,)","v":0},{"$f":"IF(AND(K$8=Display!$T$10,'Lux4-sept'!$A$8=Display!$B$7,'Lux4-sept'!$A$9=Display!$B$9,'Lux4-sept'!$A$10=Display!$B$11,'Lux4-sept'!$A$27=Display!$B$13),Display!$D6,)","v":0},{"$f":"IF(AND(L$8=Display!$T$10,'Lux4-sept'!$A$8=Display!$B$7,'Lux4-sept'!$A$9=Display!$B$9,'Lux4-sept'!$A$10=Display!$B$11,'Lux4-sept'!$A$27=Display!$B$13),Display!$D6,)","v":0},{"$f":"IF(AND(M$8=Display!$T$10,'Lux4-sept'!$A$8=Display!$B$7,'Lux4-sept'!$A$9=Display!$B$9,'Lux4-sept'!$A$10=Display!$B$11,'Lux4-sept'!$A$27=Display!$B$13),Display!$D6,)","v":0},{"$f":"IF(AND(N$8=Display!$T$10,'Lux4-sept'!$A$8=Display!$B$7,'Lux4-sept'!$A$9=Display!$B$9,'Lux4-sept'!$A$10=Display!$B$11,'Lux4-sept'!$A$27=Display!$B$13),Display!$D6,)","v":0},{"$f":"IF(AND(O$8=Display!$T$10,'Lux4-sept'!$A$8=Display!$B$7,'Lux4-sept'!$A$9=Display!$B$9,'Lux4-sept'!$A$10=Display!$B$11,'Lux4-sept'!$A$27=Display!$B$13),Display!$D6,)","v":0},{"$f":"IF(AND(P$8=Display!$T$10,'Lux4-sept'!$A$8=Display!$B$7,'Lux4-sept'!$A$9=Display!$B$9,'Lux4-sept'!$A$10=Display!$B$11,'Lux4-sept'!$A$27=Display!$B$13),Display!$D6,)","v":0},{"$f":"IF(AND(Q$8=Display!$T$10,'Lux4-sept'!$A$8=Display!$B$7,'Lux4-sept'!$A$9=Display!$B$9,'Lux4-sept'!$A$10=Display!$B$11,'Lux4-sept'!$A$27=Display!$B$13),Display!$D6,)","v":0},{"$f":"IF(AND(R$8=Display!$T$10,'Lux4-sept'!$A$8=Display!$B$7,'Lux4-sept'!$A$9=Display!$B$9,'Lux4-sept'!$A$10=Display!$B$11,'Lux4-sept'!$A$27=Display!$B$13),Display!$D6,)","v":0},{"$f":"IF(AND(S$8=Display!$T$10,'Lux4-sept'!$A$8=Display!$B$7,'Lux4-sept'!$A$9=Display!$B$9,'Lux4-sept'!$A$10=Display!$B$11,'Lux4-sept'!$A$27=Display!$B$13),Display!$D6,)","v":0},{"$f":"IF(AND(T$8=Display!$T$10,'Lux4-sept'!$A$8=Display!$B$7,'Lux4-sept'!$A$9=Display!$B$9,'Lux4-sept'!$A$10=Display!$B$11,'Lux4-sept'!$A$27=Display!$B$13),Display!$D6,)","v":0},{"$f":"IF(AND(U$8=Display!$T$10,'Lux4-sept'!$A$8=Display!$B$7,'Lux4-sept'!$A$9=Display!$B$9,'Lux4-sept'!$A$10=Display!$B$11,'Lux4-sept'!$A$27=Display!$B$13),Display!$D6,)","v":0},{"$f":"IF(AND(V$8=Display!$T$10,'Lux4-sept'!$A$8=Display!$B$7,'Lux4-sept'!$A$9=Display!$B$9,'Lux4-sept'!$A$10=Display!$B$11,'Lux4-sept'!$A$27=Display!$B$13),Display!$D6,)","v":0},{"$f":"IF(AND(W$8=Display!$T$10,'Lux4-sept'!$A$8=Display!$B$7,'Lux4-sept'!$A$9=Display!$B$9,'Lux4-sept'!$A$10=Display!$B$11,'Lux4-sept'!$A$27=Display!$B$13),Display!$D6,)","v":0},{"$f":"IF(AND(X$8=Display!$T$10,'Lux4-sept'!$A$8=Display!$B$7,'Lux4-sept'!$A$9=Display!$B$9,'Lux4-sept'!$A$10=Display!$B$11,'Lux4-sept'!$A$27=Display!$B$13),Display!$D6,)","v":0},{"$f":"IF(AND(Y$8=Display!$T$10,'Lux4-sept'!$A$8=Display!$B$7,'Lux4-sept'!$A$9=Display!$B$9,'Lux4-sept'!$A$10=Display!$B$11,'Lux4-sept'!$A$27=Display!$B$13),Display!$D6,)","v":0},{"$f":"IF(AND(Z$8=Display!$T$10,'Lux4-sept'!$A$8=Display!$B$7,'Lux4-sept'!$A$9=Display!$B$9,'Lux4-sept'!$A$10=Display!$B$11,'Lux4-sept'!$A$27=Display!$B$13),Display!$D6,)","v":0},{"$f":"IF(AND(AA$8=Display!$T$10,'Lux4-sept'!$A$8=Display!$B$7,'Lux4-sept'!$A$9=Display!$B$9,'Lux4-sept'!$A$10=Display!$B$11,'Lux4-sept'!$A$27=Display!$B$13),Display!$D6,)","v":0},{"$f":"IF(AND(AB$8=Display!$T$10,'Lux4-sept'!$A$8=Display!$B$7,'Lux4-sept'!$A$9=Display!$B$9,'Lux4-sept'!$A$10=Display!$B$11,'Lux4-sept'!$A$27=Display!$B$13),Display!$D6,)","v":0},{"$f":"IF(AND(AC$8=Display!$T$10,'Lux4-sept'!$A$8=Display!$B$7,'Lux4-sept'!$A$9=Display!$B$9,'Lux4-sept'!$A$10=Display!$B$11,'Lux4-sept'!$A$27=Display!$B$13),Display!$D6,)","v":0},{"$f":"IF(AND(AD$8=Display!$T$10,'Lux4-sept'!$A$8=Display!$B$7,'Lux4-sept'!$A$9=Display!$B$9,'Lux4-sept'!$A$10=Display!$B$11,'Lux4-sept'!$A$27=Display!$B$13),Display!$D6,)","v":0},{"$f":"IF(AND(AE$8=Display!$T$10,'Lux4-sept'!$A$8=Display!$B$7,'Lux4-sept'!$A$9=Display!$B$9,'Lux4-sept'!$A$10=Display!$B$11,'Lux4-sept'!$A$27=Display!$B$13),Display!$D6,)","v":0},{"$f":"IF(AND(AF$8=Display!$T$10,'Lux4-sept'!$A$8=Display!$B$7,'Lux4-sept'!$A$9=Display!$B$9,'Lux4-sept'!$A$10=Display!$B$11,'Lux4-sept'!$A$27=Display!$B$13),Display!$D6,)","v":0},null,null,0.66666666666666663]
["Poubelles vidées",{"$f":"IF(AND(B$8=Display!$T$10,'Lux4-sept'!$A$8=Display!$B$7,'Lux4-sept'!$A$9=Display!$B$9,'Lux4-sept'!$A$10=Display!$B$11,'Lux4-sept'!$A$27=Display!$B$13),Display!$D7,)","v":0},{"$f":"IF(AND(C$8=Display!$T$10,'Lux4-sept'!$A$8=Display!$B$7,'Lux4-sept'!$A$9=Display!$B$9,'Lux4-sept'!$A$10=Display!$B$11,'Lux4-sept'!$A$27=Display!$B$13),Display!$D7,)","v":0},{"$f":"IF(AND(D$8=Display!$T$10,'Lux4-sept'!$A$8=Display!$B$7,'Lux4-sept'!$A$9=Display!$B$9,'Lux4-sept'!$A$10=Display!$B$11,'Lux4-sept'!$A$27=Display!$B$13),Display!$D7,)","v":0},{"$f":"IF(AND(E$8=Display!$T$10,'Lux4-sept'!$A$8=Display!$B$7,'Lux4-sept'!$A$9=Display!$B$9,'Lux4-sept'!$A$10=Display!$B$11,'Lux4-sept'!$A$27=Display!$B$13),Display!$D7,)","v":0},{"$f":"IF(AND(F$8=Display!$T$10,'Lux4-sept'!$A$8=Display!$B$7,'Lux4-sept'!$A$9=Display!$B$9,'Lux4-sept'!$A$10=Display!$B$11,'Lux4-sept'!$A$27=Display!$B$13),Display!$D7,)","v":0},{"$f":"IF(AND(G$8=Display!$T$10,'Lux4-sept'!$A$8=Display!$B$7,'Lux4-sept'!$A$9=Display!$B$9,'Lux4-sept'!$A$10=Display!$B$11,'Lux4-sept'!$A$27=Display!$B$13),Display!$D7,)","v":0},{"$f":"IF(AND(H$8=Display!$T$10,'Lux4-sept'!$A$8=Display!$B$7,'Lux4-sept'!$A$9=Display!$B$9,'Lux4-sept'!$A$10=Display!$B$11,'Lux4-sept'!$A$27=Display!$B$13),Display!$D7,)","v":1},{"$f":"IF(AND(I$8=Display!$T$10,'Lux4-sept'!$A$8=Display!$B$7,'Lux4-sept'!$A$9=Display!$B$9,'Lux4-sept'!$A$10=Display!$B$11,'Lux4-sept'!$A$27=Display!$B$13),Display!$D7,)","v":0},{"$f":"IF(AND(J$8=Display!$T$10,'Lux4-sept'!$A$8=Display!$B$7,'Lux4-sept'!$A$9=Display!$B$9,'Lux4-sept'!$A$10=Display!$B$11,'Lux4-sept'!$A$27=Display!$B$13),Display!$D7,)","v":0},{"$f":"IF(AND(K$8=Display!$T$10,'Lux4-sept'!$A$8=Display!$B$7,'Lux4-sept'!$A$9=Display!$B$9,'Lux4-sept'!$A$10=Display!$B$11,'Lux4-sept'!$A$27=Display!$B$13),Display!$D7,)","v":0},{"$f":"IF(AND(L$8=Display!$T$10,'Lux4-sept'!$A$8=Display!$B$7,'Lux4-sept'!$A$9=Display!$B$9,'Lux4-sept'!$A$10=Display!$B$11,'Lux4-sept'!$A$27=Display!$B$13),Display!$D7,)","v":0},{"$f":"IF(AND(M$8=Display!$T$10,'Lux4-sept'!$A$8=Display!$B$7,'Lux4-sept'!$A$9=Display!$B$9,'Lux4-sept'!$A$10=Display!$B$11,'Lux4-sept'!$A$27=Display!$B$13),Display!$D7,)","v":0},{"$f":"IF(AND(N$8=Display!$T$10,'Lux4-sept'!$A$8=Display!$B$7,'Lux4-sept'!$A$9=Display!$B$9,'Lux4-sept'!$A$10=Display!$B$11,'Lux4-sept'!$A$27=Display!$B$13),Display!$D7,)","v":0},{"$f":"IF(AND(O$8=Display!$T$10,'Lux4-sept'!$A$8=Display!$B$7,'Lux4-sept'!$A$9=Display!$B$9,'Lux4-sept'!$A$10=Display!$B$11,'Lux4-sept'!$A$27=Display!$B$13),Display!$D7,)","v":0},{"$f":"IF(AND(P$8=Display!$T$10,'Lux4-sept'!$A$8=Display!$B$7,'Lux4-sept'!$A$9=Display!$B$9,'Lux4-sept'!$A$10=Display!$B$11,'Lux4-sept'!$A$27=Display!$B$13),Display!$D7,)","v":0},{"$f":"IF(AND(Q$8=Display!$T$10,'Lux4-sept'!$A$8=Display!$B$7,'Lux4-sept'!$A$9=Display!$B$9,'Lux4-sept'!$A$10=Display!$B$11,'Lux4-sept'!$A$27=Display!$B$13),Display!$D7,)","v":0},{"$f":"IF(AND(R$8=Display!$T$10,'Lux4-sept'!$A$8=Display!$B$7,'Lux4-sept'!$A$9=Display!$B$9,'Lux4-sept'!$A$10=Display!$B$11,'Lux4-sept'!$A$27=Display!$B$13),Display!$D7,)","v":0},{"$f":"IF(AND(S$8=Display!$T$10,'Lux4-sept'!$A$8=Display!$B$7,'Lux4-sept'!$A$9=Display!$B$9,'Lux4-sept'!$A$10=Display!$B$11,'Lux4-sept'!$A$27=Display!$B$13),Display!$D7,)","v":0},{"$f":"IF(AND(T$8=Display!$T$10,'Lux4-sept'!$A$8=Display!$B$7,'Lux4-sept'!$A$9=Display!$B$9,'Lux4-sept'!$A$10=Display!$B$11,'Lux4-sept'!$A$27=Display!$B$13),Display!$D7,)","v":0},{"$f":"IF(AND(U$8=Display!$T$10,'Lux4-sept'!$A$8=Display!$B$7,'Lux4-sept'!$A$9=Display!$B$9,'Lux4-sept'!$A$10=Display!$B$11,'Lux4-sept'!$A$27=Display!$B$13),Display!$D7,)","v":0},{"$f":"IF(AND(V$8=Display!$T$10,'Lux4-sept'!$A$8=Display!$B$7,'Lux4-sept'!$A$9=Display!$B$9,'Lux4-sept'!$A$10=Display!$B$11,'Lux4-sept'!$A$27=Display!$B$13),Display!$D7,)","v":0},{"$f":"IF(AND(W$8=Display!$T$10,'Lux4-sept'!$A$8=Display!$B$7,'Lux4-sept'!$A$9=Display!$B$9,'Lux4-sept'!$A$10=Display!$B$11,'Lux4-sept'!$A$27=Display!$B$13),Display!$D7,)","v":0},{"$f":"IF(AND(X$8=Display!$T$10,'Lux4-sept'!$A$8=Display!$B$7,'Lux4-sept'!$A$9=Display!$B$9,'Lux4-sept'!$A$10=Display!$B$11,'Lux4-sept'!$A$27=Display!$B$13),Display!$D7,)","v":0},{"$f":"IF(AND(Y$8=Display!$T$10,'Lux4-sept'!$A$8=Display!$B$7,'Lux4-sept'!$A$9=Display!$B$9,'Lux4-sept'!$A$10=Display!$B$11,'Lux4-sept'!$A$27=Display!$B$13),Display!$D7,)","v":0},{"$f":"IF(AND(Z$8=Display!$T$10,'Lux4-sept'!$A$8=Display!$B$7,'Lux4-sept'!$A$9=Display!$B$9,'Lux4-sept'!$A$10=Display!$B$11,'Lux4-sept'!$A$27=Display!$B$13),Display!$D7,)","v":0},{"$f":"IF(AND(AA$8=Display!$T$10,'Lux4-sept'!$A$8=Display!$B$7,'Lux4-sept'!$A$9=Display!$B$9,'Lux4-sept'!$A$10=Display!$B$11,'Lux4-sept'!$A$27=Display!$B$13),Display!$D7,)","v":0},{"$f":"IF(AND(AB$8=Display!$T$10,'Lux4-sept'!$A$8=Display!$B$7,'Lux4-sept'!$A$9=Display!$B$9,'Lux4-sept'!$A$10=Display!$B$11,'Lux4-sept'!$A$27=Display!$B$13),Display!$D7,)","v":0},{"$f":"IF(AND(AC$8=Display!$T$10,'Lux4-sept'!$A$8=Display!$B$7,'Lux4-sept'!$A$9=Display!$B$9,'Lux4-sept'!$A$10=Display!$B$11,'Lux4-sept'!$A$27=Display!$B$13),Display!$D7,)","v":0},{"$f":"IF(AND(AD$8=Display!$T$10,'Lux4-sept'!$A$8=Display!$B$7,'Lux4-sept'!$A$9=Display!$B$9,'Lux4-sept'!$A$10=Display!$B$11,'Lux4-sept'!$A$27=Display!$B$13),Display!$D7,)","v":0},{"$f":"IF(AND(AE$8=Display!$T$10,'Lux4-sept'!$A$8=Display!$B$7,'Lux4-sept'!$A$9=Display!$B$9,'Lux4-sept'!$A$10=Display!$B$11,'Lux4-sept'!$A$27=Display!$B$13),Display!$D7,)","v":0},{"$f":"IF(AND(AF$8=Display!$T$10,'Lux4-sept'!$A$8=Display!$B$7,'Lux4-sept'!$A$9=Display!$B$9,'Lux4-sept'!$A$10=Display!$B$11,'Lux4-sept'!$A$27=Display!$B$13),Display!$D7,)","v":0},null,null,0.33333333333333331]
["Tables nettoyées",{"$f":"IF(AND(B$8=Display!$T$10,'Lux4-sept'!$A$8=Display!$B$7,'Lux4-sept'!$A$9=Display!$B$9,'Lux4-sept'!$A$10=Display!$B$11,'Lux4-sept'!$A$27=Display!$B$13),Display!$D8,)","v":0},{"$f":"IF(AND(C$8=Display!$T$10,'Lux4-sept'!$A$8=Display!$B$7,'Lux4-sept'!$A$9=Display!$B$9,'Lux4-sept'!$A$10=Display!$B$11,'Lux4-sept'!$A$27=Display!$B$13),Display!$D8,)","v":0},{"$f":"IF(AND(D$8=Display!$T$10,'Lux4-sept'!$A$8=Display!$B$7,'Lux4-sept'!$A$9=Display!$B$9,'Lux4-sept'!$A$10=Display!$B$11,'Lux4-sept'!$A$27=Display!$B$13),Display!$D8,)","v":0},{"$f":"IF(AND(E$8=Display!$T$10,'Lux4-sept'!$A$8=Display!$B$7,'Lux4-sept'!$A$9=Display!$B$9,'Lux4-sept'!$A$10=Display!$B$11,'Lux4-sept'!$A$27=Display!$B$13),Display!$D8,)","v":0},{"$f":"IF(AND(F$8=Display!$T$10,'Lux4-sept'!$A$8=Display!$B$7,'Lux4-sept'!$A$9=Display!$B$9,'Lux4-sept'!$A$10=Display!$B$11,'Lux4-sept'!$A$27=Display!$B$13),Display!$D8,)","v":0},{"$f":"IF(AND(G$8=Display!$T$10,'Lux4-sept'!$A$8=Display!$B$7,'Lux4-sept'!$A$9=Display!$B$9,'Lux4-sept'!$A$10=Display!$B$11,'Lux4-sept'!$A$27=Display!$B$13),Display!$D8,)","v":0},{"$f":"IF(AND(H$8=Display!$T$10,'Lux4-sept'!$A$8=Display!$B$7,'Lux4-sept'!$A$9=Display!$B$9,'Lux4-sept'!$A$10=Display!$B$11,'Lux4-sept'!$A$27=Display!$B$13),Display!$D8,)","v":2},{"$f":"IF(AND(I$8=Display!$T$10,'Lux4-sept'!$A$8=Display!$B$7,'Lux4-sept'!$A$9=Display!$B$9,'Lux4-sept'!$A$10=Display!$B$11,'Lux4-sept'!$A$27=Display!$B$13),Display!$D8,)","v":0},{"$f":"IF(AND(J$8=Display!$T$10,'Lux4-sept'!$A$8=Display!$B$7,'Lux4-sept'!$A$9=Display!$B$9,'Lux4-sept'!$A$10=Display!$B$11,'Lux4-sept'!$A$27=Display!$B$13),Display!$D8,)","v":0},{"$f":"IF(AND(K$8=Display!$T$10,'Lux4-sept'!$A$8=Display!$B$7,'Lux4-sept'!$A$9=Display!$B$9,'Lux4-sept'!$A$10=Display!$B$11,'Lux4-sept'!$A$27=Display!$B$13),Display!$D8,)","v":0},{"$f":"IF(AND(L$8=Display!$T$10,'Lux4-sept'!$A$8=Display!$B$7,'Lux4-sept'!$A$9=Display!$B$9,'Lux4-sept'!$A$10=Display!$B$11,'Lux4-sept'!$A$27=Display!$B$13),Display!$D8,)","v":0},{"$f":"IF(AND(M$8=Display!$T$10,'Lux4-sept'!$A$8=Display!$B$7,'Lux4-sept'!$A$9=Display!$B$9,'Lux4-sept'!$A$10=Display!$B$11,'Lux4-sept'!$A$27=Display!$B$13),Display!$D8,)","v":0},{"$f":"IF(AND(N$8=Display!$T$10,'Lux4-sept'!$A$8=Display!$B$7,'Lux4-sept'!$A$9=Display!$B$9,'Lux4-sept'!$A$10=Display!$B$11,'Lux4-sept'!$A$27=Display!$B$13),Display!$D8,)","v":0},{"$f":"IF(AND(O$8=Display!$T$10,'Lux4-sept'!$A$8=Display!$B$7,'Lux4-sept'!$A$9=Display!$B$9,'Lux4-sept'!$A$10=Display!$B$11,'Lux4-sept'!$A$27=Display!$B$13),Display!$D8,)","v":0},{"$f":"IF(AND(P$8=Display!$T$10,'Lux4-sept'!$A$8=Display!$B$7,'Lux4-sept'!$A$9=Display!$B$9,'Lux4-sept'!$A$10=Display!$B$11,'Lux4-sept'!$A$27=Display!$B$13),Display!$D8,)","v":0},{"$f":"IF(AND(Q$8=Display!$T$10,'Lux4-sept'!$A$8=Display!$B$7,'Lux4-sept'!$A$9=Display!$B$9,'Lux4-sept'!$A$10=Display!$B$11,'Lux4-sept'!$A$27=Display!$B$13),Display!$D8,)","v":0},{"$f":"IF(AND(R$8=Display!$T$10,'Lux4-sept'!$A$8=Display!$B$7,'Lux4-sept'!$A$9=Display!$B$9,'Lux4-sept'!$A$10=Display!$B$11,'Lux4-sept'!$A$27=Display!$B$13),Display!$D8,)","v":0},{"$f":"IF(AND(S$8=Display!$T$10,'Lux4-sept'!$A$8=Display!$B$7,'Lux4-sept'!$A$9=Display!$B$9,'Lux4-sept'!$A$10=Display!$B$11,'Lux4-sept'!$A$27=Display!$B$13),Display!$D8,)","v":0},{"$f":"IF(AND(T$8=Display!$T$10,'Lux4-sept'!$A$8=Display!$B$7,'Lux4-sept'!$A$9=Display!$B$9,'Lux4-sept'!$A$10=Display!$B$11,'Lux4-sept'!$A$27=Display!$B$13),Display!$D8,)","v":0},{"$f":"IF(AND(U$8=Display!$T$10,'Lux4-sept'!$A$8=Display!$B$7,'Lux4-sept'!$A$9=Display!$B$9,'Lux4-sept'!$A$10=Display!$B$11,'Lux4-sept'!$A$27=Display!$B$13),Display!$D8,)","v":0},{"$f":"IF(AND(V$8=Display!$T$10,'Lux4-sept'!$A$8=Display!$B$7,'Lux4-sept'!$A$9=Display!$B$9,'Lux4-sept'!$A$10=Display!$B$11,'Lux4-sept'!$A$27=Display!$B$13),Display!$D8,)","v":0},{"$f":"IF(AND(W$8=Display!$T$10,'Lux4-sept'!$A$8=Display!$B$7,'Lux4-sept'!$A$9=Display!$B$9,'Lux4-sept'!$A$10=Display!$B$11,'Lux4-sept'!$A$27=Display!$B$13),Display!$D8,)","v":0},{"$f":"IF(AND(X$8=Display!$T$10,'Lux4-sept'!$A$8=Display!$B$7,'Lux4-sept'!$A$9=Display!$B$9,'Lux4-sept'!$A$10=Display!$B$11,'Lux4-sept'!$A$27=Display!$B$13),Display!$D8,)","v":0},{"$f":"IF(AND(Y$8=Display!$T$10,'Lux4-sept'!$A$8=Display!$B$7,'Lux4-sept'!$A$9=Display!$B$9,'Lux4-sept'!$A$10=Display!$B$11,'Lux4-sept'!$A$27=Display!$B$13),Display!$D8,)","v":0},{"$f":"IF(AND(Z$8=Display!$T$10,'Lux4-sept'!$A$8=Display!$B$7,'Lux4-sept'!$A$9=Display!$B$9,'Lux4-sept'!$A$10=Display!$B$11,'Lux4-sept'!$A$27=Display!$B$13),Display!$D8,)","v":0},{"$f":"IF(AND(AA$8=Display!$T$10,'Lux4-sept'!$A$8=Display!$B$7,'Lux4-sept'!$A$9=Display!$B$9,'Lux4-sept'!$A$10=Display!$B$11,'Lux4-sept'!$A$27=Display!$B$13),Display!$D8,)","v":0},{"$f":"IF(AND(AB$8=Display!$T$10,'Lux4-sept'!$A$8=Display!$B$7,'Lux4-sept'!$A$9=Display!$B$9,'Lux4-sept'!$A$10=Display!$B$11,'Lux4-sept'!$A$27=Display!$B$13),Display!$D8,)","v":0},{"$f":"IF(AND(AC$8=Display!$T$10,'Lux4-sept'!$A$8=Display!$B$7,'Lux4-sept'!$A$9=Display!$B$9,'Lux4-sept'!$A$10=Display!$B$11,'Lux4-sept'!$A$27=Display!$B$13),Display!$D8,)","v":0},{"$f":"IF(AND(AD$8=Display!$T$10,'Lux4-sept'!$A$8=Display!$B$7,'Lux4-sept'!$A$9=Display!$B$9,'Lux4-sept'!$A$10=Display!$B$11,'Lux4-sept'!$A$27=Display!$B$13),Display!$D8,)","v":0},{"$f":"IF(AND(AE$8=Display!$T$10,'Lux4-sept'!$A$8=Display!$B$7,'Lux4-sept'!$A$9=Display!$B$9,'Lux4-sept'!$A$10=Display!$B$11,'Lux4-sept'!$A$27=Display!$B$13),Display!$D8,)","v":0},{"$f":"IF(AND(AF$8=Display!$T$10,'Lux4-sept'!$A$8=Display!$B$7,'Lux4-sept'!$A$9=Display!$B$9,'Lux4-sept'!$A$10=Display!$B$11,'Lux4-sept'!$A$27=Display!$B$13),Display!$D8,)","v":0},null,null,0.66666666666666663]
["Tableaux effacés",{"$f":"IF(AND(B$8=Display!$T$10,'Lux4-sept'!$A$8=Display!$B$7,'Lux4-sept'!$A$9=Display!$B$9,'Lux4-sept'!$A$10=Display!$B$11,'Lux4-sept'!$A$27=Display!$B$13),Display!$D9,)","v":0},{"$f":"IF(AND(C$8=Display!$T$10,'Lux4-sept'!$A$8=Display!$B$7,'Lux4-sept'!$A$9=Display!$B$9,'Lux4-sept'!$A$10=Display!$B$11,'Lux4-sept'!$A$27=Display!$B$13),Display!$D9,)","v":0},{"$f":"IF(AND(D$8=Display!$T$10,'Lux4-sept'!$A$8=Display!$B$7,'Lux4-sept'!$A$9=Display!$B$9,'Lux4-sept'!$A$10=Display!$B$11,'Lux4-sept'!$A$27=Display!$B$13),Display!$D9,)","v":0},{"$f":"IF(AND(E$8=Display!$T$10,'Lux4-sept'!$A$8=Display!$B$7,'Lux4-sept'!$A$9=Display!$B$9,'Lux4-sept'!$A$10=Display!$B$11,'Lux4-sept'!$A$27=Display!$B$13),Display!$D9,)","v":0},{"$f":"IF(AND(F$8=Display!$T$10,'Lux4-sept'!$A$8=Display!$B$7,'Lux4-sept'!$A$9=Display!$B$9,'Lux4-sept'!$A$10=Display!$B$11,'Lux4-sept'!$A$27=Display!$B$13),Display!$D9,)","v":0},{"$f":"IF(AND(G$8=Display!$T$10,'Lux4-sept'!$A$8=Display!$B$7,'Lux4-sept'!$A$9=Display!$B$9,'Lux4-sept'!$A$10=Display!$B$11,'Lux4-sept'!$A$27=Display!$B$13),Display!$D9,)","v":0},{"$f":"IF(AND(H$8=Display!$T$10,'Lux4-sept'!$A$8=Display!$B$7,'Lux4-sept'!$A$9=Display!$B$9,'Lux4-sept'!$A$10=Display!$B$11,'Lux4-sept'!$A$27=Display!$B$13),Display!$D9,)","v":1},{"$f":"IF(AND(I$8=Display!$T$10,'Lux4-sept'!$A$8=Display!$B$7,'Lux4-sept'!$A$9=Display!$B$9,'Lux4-sept'!$A$10=Display!$B$11,'Lux4-sept'!$A$27=Display!$B$13),Display!$D9,)","v":0},{"$f":"IF(AND(J$8=Display!$T$10,'Lux4-sept'!$A$8=Display!$B$7,'Lux4-sept'!$A$9=Display!$B$9,'Lux4-sept'!$A$10=Display!$B$11,'Lux4-sept'!$A$27=Display!$B$13),Display!$D9,)","v":0},{"$f":"IF(AND(K$8=Display!$T$10,'Lux4-sept'!$A$8=Display!$B$7,'Lux4-sept'!$A$9=Display!$B$9,'Lux4-sept'!$A$10=Display!$B$11,'Lux4-sept'!$A$27=Display!$B$13),Display!$D9,)","v":0},{"$f":"IF(AND(L$8=Display!$T$10,'Lux4-sept'!$A$8=Display!$B$7,'Lux4-sept'!$A$9=Display!$B$9,'Lux4-sept'!$A$10=Display!$B$11,'Lux4-sept'!$A$27=Display!$B$13),Display!$D9,)","v":0},{"$f":"IF(AND(M$8=Display!$T$10,'Lux4-sept'!$A$8=Display!$B$7,'Lux4-sept'!$A$9=Display!$B$9,'Lux4-sept'!$A$10=Display!$B$11,'Lux4-sept'!$A$27=Display!$B$13),Display!$D9,)","v":0},{"$f":"IF(AND(N$8=Display!$T$10,'Lux4-sept'!$A$8=Display!$B$7,'Lux4-sept'!$A$9=Display!$B$9,'Lux4-sept'!$A$10=Display!$B$11,'Lux4-sept'!$A$27=Display!$B$13),Display!$D9,)","v":0},{"$f":"IF(AND(O$8=Display!$T$10,'Lux4-sept'!$A$8=Display!$B$7,'Lux4-sept'!$A$9=Display!$B$9,'Lux4-sept'!$A$10=Display!$B$11,'Lux4-sept'!$A$27=Display!$B$13),Display!$D9,)","v":0},{"$f":"IF(AND(P$8=Display!$T$10,'Lux4-sept'!$A$8=Display!$B$7,'Lux4-sept'!$A$9=Display!$B$9,'Lux4-sept'!$A$10=Display!$B$11,'Lux4-sept'!$A$27=Display!$B$13),Display!$D9,)","v":0},{"$f":"IF(AND(Q$8=Display!$T$10,'Lux4-sept'!$A$8=Display!$B$7,'Lux4-sept'!$A$9=Display!$B$9,'Lux4-sept'!$A$10=Display!$B$11,'Lux4-sept'!$A$27=Display!$B$13),Display!$D9,)","v":0},{"$f":"IF(AND(R$8=Display!$T$10,'Lux4-sept'!$A$8=Display!$B$7,'Lux4-sept'!$A$9=Display!$B$9,'Lux4-sept'!$A$10=Display!$B$11,'Lux4-sept'!$A$27=Display!$B$13),Display!$D9,)","v":0},{"$f":"IF(AND(S$8=Display!$T$10,'Lux4-sept'!$A$8=Display!$B$7,'Lux4-sept'!$A$9=Display!$B$9,'Lux4-sept'!$A$10=Display!$B$11,'Lux4-sept'!$A$27=Display!$B$13),Display!$D9,)","v":0},{"$f":"IF(AND(T$8=Display!$T$10,'Lux4-sept'!$A$8=Display!$B$7,'Lux4-sept'!$A$9=Display!$B$9,'Lux4-sept'!$A$10=Display!$B$11,'Lux4-sept'!$A$27=Display!$B$13),Display!$D9,)","v":0},{"$f":"IF(AND(U$8=Display!$T$10,'Lux4-sept'!$A$8=Display!$B$7,'Lux4-sept'!$A$9=Display!$B$9,'Lux4-sept'!$A$10=Display!$B$11,'Lux4-sept'!$A$27=Display!$B$13),Display!$D9,)","v":0},{"$f":"IF(AND(V$8=Display!$T$10,'Lux4-sept'!$A$8=Display!$B$7,'Lux4-sept'!$A$9=Display!$B$9,'Lux4-sept'!$A$10=Display!$B$11,'Lux4-sept'!$A$27=Display!$B$13),Display!$D9,)","v":0},{"$f":"IF(AND(W$8=Display!$T$10,'Lux4-sept'!$A$8=Display!$B$7,'Lux4-sept'!$A$9=Display!$B$9,'Lux4-sept'!$A$10=Display!$B$11,'Lux4-sept'!$A$27=Display!$B$13),Display!$D9,)","v":0},{"$f":"IF(AND(X$8=Display!$T$10,'Lux4-sept'!$A$8=Display!$B$7,'Lux4-sept'!$A$9=Display!$B$9,'Lux4-sept'!$A$10=Display!$B$11,'Lux4-sept'!$A$27=Display!$B$13),Display!$D9,)","v":0},{"$f":"IF(AND(Y$8=Display!$T$10,'Lux4-sept'!$A$8=Display!$B$7,'Lux4-sept'!$A$9=Display!$B$9,'Lux4-sept'!$A$10=Display!$B$11,'Lux4-sept'!$A$27=Display!$B$13),Display!$D9,)","v":0},{"$f":"IF(AND(Z$8=Display!$T$10,'Lux4-sept'!$A$8=Display!$B$7,'Lux4-sept'!$A$9=Display!$B$9,'Lux4-sept'!$A$10=Display!$B$11,'Lux4-sept'!$A$27=Display!$B$13),Display!$D9,)","v":0},{"$f":"IF(AND(AA$8=Display!$T$10,'Lux4-sept'!$A$8=Display!$B$7,'Lux4-sept'!$A$9=Display!$B$9,'Lux4-sept'!$A$10=Display!$B$11,'Lux4-sept'!$A$27=Display!$B$13),Display!$D9,)","v":0},{"$f":"IF(AND(AB$8=Display!$T$10,'Lux4-sept'!$A$8=Display!$B$7,'Lux4-sept'!$A$9=Display!$B$9,'Lux4-sept'!$A$10=Display!$B$11,'Lux4-sept'!$A$27=Display!$B$13),Display!$D9,)","v":0},{"$f":"IF(AND(AC$8=Display!$T$10,'Lux4-sept'!$A$8=Display!$B$7,'Lux4-sept'!$A$9=Display!$B$9,'Lux4-sept'!$A$10=Display!$B$11,'Lux4-sept'!$A$27=Display!$B$13),Display!$D9,)","v":0},{"$f":"IF(AND(AD$8=Display!$T$10,'Lux4-sept'!$A$8=Display!$B$7,'Lux4-sept'!$A$9=Display!$B$9,'Lux4-sept'!$A$10=Display!$B$11,'Lux4-sept'!$A$27=Display!$B$13),Display!$D9,)","v":0},{"$f":"IF(AND(AE$8=Display!$T$10,'Lux4-sept'!$A$8=Display!$B$7,'Lux4-sept'!$A$9=Display!$B$9,'Lux4-sept'!$A$10=Display!$B$11,'Lux4-sept'!$A$27=Display!$B$13),Display!$D9,)","v":0},{"$f":"IF(AND(AF$8=Display!$T$10,'Lux4-sept'!$A$8=Display!$B$7,'Lux4-sept'!$A$9=Display!$B$9,'Lux4-sept'!$A$10=Display!$B$11,'Lux4-sept'!$A$27=Display!$B$13),Display!$D9,)","v":0},null,null,0.33333333333333331]
["MOYENNE",{"$f":"((IF((SUM(B28:B33))<>0,(SUM(B28:B33)),0))/(IF((SUM((IF(B28<>0,3,0)),(IF(B29<>0,3,0)),(IF(B30<>0,3,0)),(IF(B31<>0,3,0)),(IF(B32<>0,3,0)),(IF(B33<>0,3,0))))<>0,((SUM((IF(B28<>0,3,0)),(IF(B29<>0,3,0)),(IF(B30<>0,3,0)),(IF(B31<>0,3,0)),(IF(B32<>0,3,0)),(IF(B33<>0,3,0))))),1)))","v":0},{"$f":"((IF((SUM(C28:C33))<>0,(SUM(C28:C33)),0))/(IF((SUM((IF(C28<>0,3,0)),(IF(C29<>0,3,0)),(IF(C30<>0,3,0)),(IF(C31<>0,3,0)),(IF(C32<>0,3,0)),(IF(C33<>0,3,0))))<>0,((SUM((IF(C28<>0,3,0)),(IF(C29<>0,3,0)),(IF(C30<>0,3,0)),(IF(C31<>0,3,0)),(IF(C32<>0,3,0)),(IF(C33<>0,3,0))))),1)))","v":0},0,0,0,0,0.66666666666666663,0,0,0,0,0,0,0,0,0,0,0,0,0,0,0,0,0,0,0,0,0,0,0,0,0,0]
["02.501"]
["salle de réunion en place (café, thé, lunch…) ",{"$f":"IF(AND(B$8=Display!$T$10,'Lux4-sept'!$A$8=Display!$B$7,'Lux4-sept'!$A$9=Display!$B$9,'Lux4-sept'!$A$10=Display!$B$11,'Lux4-sept'!$A$35=Display!$B$13),Display!$D4,)","v":0},{"$f":"IF(AND(C$8=Display!$T$10,'Lux4-sept'!$A$8=Display!$B$7,'Lux4-sept'!$A$9=Display!$B$9,'Lux4-sept'!$A$10=Display!$B$11,'Lux4-sept'!$A$35=Display!$B$13),Display!$D4,)","v":0},{"$f":"IF(AND(D$8=Display!$T$10,'Lux4-sept'!$A$8=Display!$B$7,'Lux4-sept'!$A$9=Display!$B$9,'Lux4-sept'!$A$10=Display!$B$11,'Lux4-sept'!$A$35=Display!$B$13),Display!$D4,)","v":0},{"$f":"IF(AND(E$8=Display!$T$10,'Lux4-sept'!$A$8=Display!$B$7,'Lux4-sept'!$A$9=Display!$B$9,'Lux4-sept'!$A$10=Display!$B$11,'Lux4-sept'!$A$35=Display!$B$13),Display!$D4,)","v":0},{"$f":"IF(AND(F$8=Display!$T$10,'Lux4-sept'!$A$8=Display!$B$7,'Lux4-sept'!$A$9=Display!$B$9,'Lux4-sept'!$A$10=Display!$B$11,'Lux4-sept'!$A$35=Display!$B$13),Display!$D4,)","v":0},{"$f":"IF(AND(G$8=Display!$T$10,'Lux4-sept'!$A$8=Display!$B$7,'Lux4-sept'!$A$9=Display!$B$9,'Lux4-sept'!$A$10=Display!$B$11,'Lux4-sept'!$A$35=Display!$B$13),Display!$D4,)","v":0},{"$f":"IF(AND(H$8=Display!$T$10,'Lux4-sept'!$A$8=Display!$B$7,'Lux4-sept'!$A$9=Display!$B$9,'Lux4-sept'!$A$10=Display!$B$11,'Lux4-sept'!$A$35=Display!$B$13),Display!$D4,)","v":0},{"$f":"IF(AND(I$8=Display!$T$10,'Lux4-sept'!$A$8=Display!$B$7,'Lux4-sept'!$A$9=Display!$B$9,'Lux4-sept'!$A$10=Display!$B$11,'Lux4-sept'!$A$35=Display!$B$13),Display!$D4,)","v":0},{"$f":"IF(AND(J$8=Display!$T$10,'Lux4-sept'!$A$8=Display!$B$7,'Lux4-sept'!$A$9=Display!$B$9,'Lux4-sept'!$A$10=Display!$B$11,'Lux4-sept'!$A$35=Display!$B$13),Display!$D4,)","v":0},{"$f":"IF(AND(K$8=Display!$T$10,'Lux4-sept'!$A$8=Display!$B$7,'Lux4-sept'!$A$9=Display!$B$9,'Lux4-sept'!$A$10=Display!$B$11,'Lux4-sept'!$A$35=Display!$B$13),Display!$D4,)","v":0},{"$f":"IF(AND(L$8=Display!$T$10,'Lux4-sept'!$A$8=Display!$B$7,'Lux4-sept'!$A$9=Display!$B$9,'Lux4-sept'!$A$10=Display!$B$11,'Lux4-sept'!$A$35=Display!$B$13),Display!$D4,)","v":0},{"$f":"IF(AND(M$8=Display!$T$10,'Lux4-sept'!$A$8=Display!$B$7,'Lux4-sept'!$A$9=Display!$B$9,'Lux4-sept'!$A$10=Display!$B$11,'Lux4-sept'!$A$35=Display!$B$13),Display!$D4,)","v":0},{"$f":"IF(AND(N$8=Display!$T$10,'Lux4-sept'!$A$8=Display!$B$7,'Lux4-sept'!$A$9=Display!$B$9,'Lux4-sept'!$A$10=Display!$B$11,'Lux4-sept'!$A$35=Display!$B$13),Display!$D4,)","v":0},{"$f":"IF(AND(O$8=Display!$T$10,'Lux4-sept'!$A$8=Display!$B$7,'Lux4-sept'!$A$9=Display!$B$9,'Lux4-sept'!$A$10=Display!$B$11,'Lux4-sept'!$A$35=Display!$B$13),Display!$D4,)","v":0},{"$f":"IF(AND(P$8=Display!$T$10,'Lux4-sept'!$A$8=Display!$B$7,'Lux4-sept'!$A$9=Display!$B$9,'Lux4-sept'!$A$10=Display!$B$11,'Lux4-sept'!$A$35=Display!$B$13),Display!$D4,)","v":0},{"$f":"IF(AND(Q$8=Display!$T$10,'Lux4-sept'!$A$8=Display!$B$7,'Lux4-sept'!$A$9=Display!$B$9,'Lux4-sept'!$A$10=Display!$B$11,'Lux4-sept'!$A$35=Display!$B$13),Display!$D4,)","v":0},{"$f":"IF(AND(R$8=Display!$T$10,'Lux4-sept'!$A$8=Display!$B$7,'Lux4-sept'!$A$9=Display!$B$9,'Lux4-sept'!$A$10=Display!$B$11,'Lux4-sept'!$A$35=Display!$B$13),Display!$D4,)","v":0},{"$f":"IF(AND(S$8=Display!$T$10,'Lux4-sept'!$A$8=Display!$B$7,'Lux4-sept'!$A$9=Display!$B$9,'Lux4-sept'!$A$10=Display!$B$11,'Lux4-sept'!$A$35=Display!$B$13),Display!$D4,)","v":0},{"$f":"IF(AND(T$8=Display!$T$10,'Lux4-sept'!$A$8=Display!$B$7,'Lux4-sept'!$A$9=Display!$B$9,'Lux4-sept'!$A$10=Display!$B$11,'Lux4-sept'!$A$35=Display!$B$13),Display!$D4,)","v":0},{"$f":"IF(AND(U$8=Display!$T$10,'Lux4-sept'!$A$8=Display!$B$7,'Lux4-sept'!$A$9=Display!$B$9,'Lux4-sept'!$A$10=Display!$B$11,'Lux4-sept'!$A$35=Display!$B$13),Display!$D4,)","v":0},{"$f":"IF(AND(V$8=Display!$T$10,'Lux4-sept'!$A$8=Display!$B$7,'Lux4-sept'!$A$9=Display!$B$9,'Lux4-sept'!$A$10=Display!$B$11,'Lux4-sept'!$A$35=Display!$B$13),Display!$D4,)","v":0},{"$f":"IF(AND(W$8=Display!$T$10,'Lux4-sept'!$A$8=Display!$B$7,'Lux4-sept'!$A$9=Display!$B$9,'Lux4-sept'!$A$10=Display!$B$11,'Lux4-sept'!$A$35=Display!$B$13),Display!$D4,)","v":0},{"$f":"IF(AND(X$8=Display!$T$10,'Lux4-sept'!$A$8=Display!$B$7,'Lux4-sept'!$A$9=Display!$B$9,'Lux4-sept'!$A$10=Display!$B$11,'Lux4-sept'!$A$35=Display!$B$13),Display!$D4,)","v":0},{"$f":"IF(AND(Y$8=Display!$T$10,'Lux4-sept'!$A$8=Display!$B$7,'Lux4-sept'!$A$9=Display!$B$9,'Lux4-sept'!$A$10=Display!$B$11,'Lux4-sept'!$A$35=Display!$B$13),Display!$D4,)","v":0},{"$f":"IF(AND(Z$8=Display!$T$10,'Lux4-sept'!$A$8=Display!$B$7,'Lux4-sept'!$A$9=Display!$B$9,'Lux4-sept'!$A$10=Display!$B$11,'Lux4-sept'!$A$35=Display!$B$13),Display!$D4,)","v":0},{"$f":"IF(AND(AA$8=Display!$T$10,'Lux4-sept'!$A$8=Display!$B$7,'Lux4-sept'!$A$9=Display!$B$9,'Lux4-sept'!$A$10=Display!$B$11,'Lux4-sept'!$A$35=Display!$B$13),Display!$D4,)","v":0},{"$f":"IF(AND(AB$8=Display!$T$10,'Lux4-sept'!$A$8=Display!$B$7,'Lux4-sept'!$A$9=Display!$B$9,'Lux4-sept'!$A$10=Display!$B$11,'Lux4-sept'!$A$35=Display!$B$13),Display!$D4,)","v":0},{"$f":"IF(AND(AC$8=Display!$T$10,'Lux4-sept'!$A$8=Display!$B$7,'Lux4-sept'!$A$9=Display!$B$9,'Lux4-sept'!$A$10=Display!$B$11,'Lux4-sept'!$A$35=Display!$B$13),Display!$D4,)","v":0},{"$f":"IF(AND(AD$8=Display!$T$10,'Lux4-sept'!$A$8=Display!$B$7,'Lux4-sept'!$A$9=Display!$B$9,'Lux4-sept'!$A$10=Display!$B$11,'Lux4-sept'!$A$35=Display!$B$13),Display!$D4,)","v":0},{"$f":"IF(AND(AE$8=Display!$T$10,'Lux4-sept'!$A$8=Display!$B$7,'Lux4-sept'!$A$9=Display!$B$9,'Lux4-sept'!$A$10=Display!$B$11,'Lux4-sept'!$A$35=Display!$B$13),Display!$D4,)","v":0},{"$f":"IF(AND(AF$8=Display!$T$10,'Lux4-sept'!$A$8=Display!$B$7,'Lux4-sept'!$A$9=Display!$B$9,'Lux4-sept'!$A$10=Display!$B$11,'Lux4-sept'!$A$35=Display!$B$13),Display!$D4,)","v":0},null,null,{"$f":"((IF((SUM(B36:AF36))<>0,(SUM(B36:AF36)),0))/(IF((SUM((IF(B36<>0,3,0)),(IF(C36<>0,3,0)),(IF(D36<>0,3,0)),(IF(E36<>0,3,0)),(IF(F36<>0,3,0)),(IF(F36<>0,3,0)),(IF(F36<>0,3,0)),(IF(G36<>0,3,0)),(IF(H36<>0,3,0)),(IF(I36<>0,3,0)),(IF(J36<>0,3,0)),(IF(K36<>0,3,0)),(IF(L36<>0,3,0)),(IF(M36<>0,3,0)),(IF(N36<>0,3,0)),(IF(O36<>0,3,0)),(IF(P36<>0,3,0)),(IF(Q36<>0,3,0)),(IF(R36<>0,3,0)),(IF(S36<>0,3,0)),(IF(T36<>0,3,0)),(IF(U36<>0,3,0)),(IF(V36<>0,3,0)),(IF(W36<>0,3,0)),(IF(X36<>0,3,0)),(IF(Y36<>0,3,0)),(IF(Z36<>0,3,0)),(IF(AA36<>0,3,0)),(IF(AB36<>0,3,0)),(IF(AC36<>0,3,0)),(IF(AD36<>0,3,0)),(IF(AE36<>0,3,0)),(IF(AF36<>0,3,0))))<>0,((SUM((IF(B36<>0,3,0)),(IF(C36<>0,3,0)),(IF(D36<>0,3,0)),(IF(E36<>0,3,0)),(IF(F36<>0,3,0)),(IF(F36<>0,3,0)),(IF(F36<>0,3,0)),(IF(G36<>0,3,0)),(IF(H36<>0,3,0)),(IF(I36<>0,3,0)),(IF(J36<>0,3,0)),(IF(K36<>0,3,0)),(IF(L36<>0,3,0)),(IF(M36<>0,3,0)),(IF(N36<>0,3,0)),(IF(O36<>0,3,0)),(IF(P36<>0,3,0)),(IF(Q36<>0,3,0)),(IF(R36<>0,3,0)),(IF(S36<>0,3,0)),(IF(T36<>0,3,0)),(IF(U36<>0,3,0)),(IF(V36<>0,3,0)),(IF(W36<>0,3,0)),(IF(X36<>0,3,0)),(IF(Y36<>0,3,0)),(IF(Z36<>0,3,0)),(IF(AA36<>0,3,0)),(IF(AB36<>0,3,0)),(IF(AC36<>0,3,0)),(IF(AD36<>0,3,0)),(IF(AE36<>0,3,0)),(IF(AF36<>0,3,0))))),1)))","v":0}]
["Salle prête à être utiliser après les meeting",{"$f":"IF(AND(B$8=Display!$T$10,'Lux4-sept'!$A$8=Display!$B$7,'Lux4-sept'!$A$9=Display!$B$9,'Lux4-sept'!$A$10=Display!$B$11,'Lux4-sept'!$A$35=Display!$B$13),Display!$D5,)","v":0},{"$f":"IF(AND(C$8=Display!$T$10,'Lux4-sept'!$A$8=Display!$B$7,'Lux4-sept'!$A$9=Display!$B$9,'Lux4-sept'!$A$10=Display!$B$11,'Lux4-sept'!$A$35=Display!$B$13),Display!$D5,)","v":0},{"$f":"IF(AND(D$8=Display!$T$10,'Lux4-sept'!$A$8=Display!$B$7,'Lux4-sept'!$A$9=Display!$B$9,'Lux4-sept'!$A$10=Display!$B$11,'Lux4-sept'!$A$35=Display!$B$13),Display!$D5,)","v":0},{"$f":"IF(AND(E$8=Display!$T$10,'Lux4-sept'!$A$8=Display!$B$7,'Lux4-sept'!$A$9=Display!$B$9,'Lux4-sept'!$A$10=Display!$B$11,'Lux4-sept'!$A$35=Display!$B$13),Display!$D5,)","v":0},{"$f":"IF(AND(F$8=Display!$T$10,'Lux4-sept'!$A$8=Display!$B$7,'Lux4-sept'!$A$9=Display!$B$9,'Lux4-sept'!$A$10=Display!$B$11,'Lux4-sept'!$A$35=Display!$B$13),Display!$D5,)","v":0},{"$f":"IF(AND(G$8=Display!$T$10,'Lux4-sept'!$A$8=Display!$B$7,'Lux4-sept'!$A$9=Display!$B$9,'Lux4-sept'!$A$10=Display!$B$11,'Lux4-sept'!$A$35=Display!$B$13),Display!$D5,)","v":0},{"$f":"IF(AND(H$8=Display!$T$10,'Lux4-sept'!$A$8=Display!$B$7,'Lux4-sept'!$A$9=Display!$B$9,'Lux4-sept'!$A$10=Display!$B$11,'Lux4-sept'!$A$35=Display!$B$13),Display!$D5,)","v":0},{"$f":"IF(AND(I$8=Display!$T$10,'Lux4-sept'!$A$8=Display!$B$7,'Lux4-sept'!$A$9=Display!$B$9,'Lux4-sept'!$A$10=Display!$B$11,'Lux4-sept'!$A$35=Display!$B$13),Display!$D5,)","v":0},{"$f":"IF(AND(J$8=Display!$T$10,'Lux4-sept'!$A$8=Display!$B$7,'Lux4-sept'!$A$9=Display!$B$9,'Lux4-sept'!$A$10=Display!$B$11,'Lux4-sept'!$A$35=Display!$B$13),Display!$D5,)","v":0},{"$f":"IF(AND(K$8=Display!$T$10,'Lux4-sept'!$A$8=Display!$B$7,'Lux4-sept'!$A$9=Display!$B$9,'Lux4-sept'!$A$10=Display!$B$11,'Lux4-sept'!$A$35=Display!$B$13),Display!$D5,)","v":0},{"$f":"IF(AND(L$8=Display!$T$10,'Lux4-sept'!$A$8=Display!$B$7,'Lux4-sept'!$A$9=Display!$B$9,'Lux4-sept'!$A$10=Display!$B$11,'Lux4-sept'!$A$35=Display!$B$13),Display!$D5,)","v":0},{"$f":"IF(AND(M$8=Display!$T$10,'Lux4-sept'!$A$8=Display!$B$7,'Lux4-sept'!$A$9=Display!$B$9,'Lux4-sept'!$A$10=Display!$B$11,'Lux4-sept'!$A$35=Display!$B$13),Display!$D5,)","v":0},{"$f":"IF(AND(N$8=Display!$T$10,'Lux4-sept'!$A$8=Display!$B$7,'Lux4-sept'!$A$9=Display!$B$9,'Lux4-sept'!$A$10=Display!$B$11,'Lux4-sept'!$A$35=Display!$B$13),Display!$D5,)","v":0},{"$f":"IF(AND(O$8=Display!$T$10,'Lux4-sept'!$A$8=Display!$B$7,'Lux4-sept'!$A$9=Display!$B$9,'Lux4-sept'!$A$10=Display!$B$11,'Lux4-sept'!$A$35=Display!$B$13),Display!$D5,)","v":0},{"$f":"IF(AND(P$8=Display!$T$10,'Lux4-sept'!$A$8=Display!$B$7,'Lux4-sept'!$A$9=Display!$B$9,'Lux4-sept'!$A$10=Display!$B$11,'Lux4-sept'!$A$35=Display!$B$13),Display!$D5,)","v":0},{"$f":"IF(AND(Q$8=Display!$T$10,'Lux4-sept'!$A$8=Display!$B$7,'Lux4-sept'!$A$9=Display!$B$9,'Lux4-sept'!$A$10=Display!$B$11,'Lux4-sept'!$A$35=Display!$B$13),Display!$D5,)","v":0},{"$f":"IF(AND(R$8=Display!$T$10,'Lux4-sept'!$A$8=Display!$B$7,'Lux4-sept'!$A$9=Display!$B$9,'Lux4-sept'!$A$10=Display!$B$11,'Lux4-sept'!$A$35=Display!$B$13),Display!$D5,)","v":0},{"$f":"IF(AND(S$8=Display!$T$10,'Lux4-sept'!$A$8=Display!$B$7,'Lux4-sept'!$A$9=Display!$B$9,'Lux4-sept'!$A$10=Display!$B$11,'Lux4-sept'!$A$35=Display!$B$13),Display!$D5,)","v":0},{"$f":"IF(AND(T$8=Display!$T$10,'Lux4-sept'!$A$8=Display!$B$7,'Lux4-sept'!$A$9=Display!$B$9,'Lux4-sept'!$A$10=Display!$B$11,'Lux4-sept'!$A$35=Display!$B$13),Display!$D5,)","v":0},{"$f":"IF(AND(U$8=Display!$T$10,'Lux4-sept'!$A$8=Display!$B$7,'Lux4-sept'!$A$9=Display!$B$9,'Lux4-sept'!$A$10=Display!$B$11,'Lux4-sept'!$A$35=Display!$B$13),Display!$D5,)","v":0},{"$f":"IF(AND(V$8=Display!$T$10,'Lux4-sept'!$A$8=Display!$B$7,'Lux4-sept'!$A$9=Display!$B$9,'Lux4-sept'!$A$10=Display!$B$11,'Lux4-sept'!$A$35=Display!$B$13),Display!$D5,)","v":0},{"$f":"IF(AND(W$8=Display!$T$10,'Lux4-sept'!$A$8=Display!$B$7,'Lux4-sept'!$A$9=Display!$B$9,'Lux4-sept'!$A$10=Display!$B$11,'Lux4-sept'!$A$35=Display!$B$13),Display!$D5,)","v":0},{"$f":"IF(AND(X$8=Display!$T$10,'Lux4-sept'!$A$8=Display!$B$7,'Lux4-sept'!$A$9=Display!$B$9,'Lux4-sept'!$A$10=Display!$B$11,'Lux4-sept'!$A$35=Display!$B$13),Display!$D5,)","v":0},{"$f":"IF(AND(Y$8=Display!$T$10,'Lux4-sept'!$A$8=Display!$B$7,'Lux4-sept'!$A$9=Display!$B$9,'Lux4-sept'!$A$10=Display!$B$11,'Lux4-sept'!$A$35=Display!$B$13),Display!$D5,)","v":0},{"$f":"IF(AND(Z$8=Display!$T$10,'Lux4-sept'!$A$8=Display!$B$7,'Lux4-sept'!$A$9=Display!$B$9,'Lux4-sept'!$A$10=Display!$B$11,'Lux4-sept'!$A$35=Display!$B$13),Display!$D5,)","v":0},{"$f":"IF(AND(AA$8=Display!$T$10,'Lux4-sept'!$A$8=Display!$B$7,'Lux4-sept'!$A$9=Display!$B$9,'Lux4-sept'!$A$10=Display!$B$11,'Lux4-sept'!$A$35=Display!$B$13),Display!$D5,)","v":0},{"$f":"IF(AND(AB$8=Display!$T$10,'Lux4-sept'!$A$8=Display!$B$7,'Lux4-sept'!$A$9=Display!$B$9,'Lux4-sept'!$A$10=Display!$B$11,'Lux4-sept'!$A$35=Display!$B$13),Display!$D5,)","v":0},{"$f":"IF(AND(AC$8=Display!$T$10,'Lux4-sept'!$A$8=Display!$B$7,'Lux4-sept'!$A$9=Display!$B$9,'Lux4-sept'!$A$10=Display!$B$11,'Lux4-sept'!$A$35=Display!$B$13),Display!$D5,)","v":0},{"$f":"IF(AND(AD$8=Display!$T$10,'Lux4-sept'!$A$8=Display!$B$7,'Lux4-sept'!$A$9=Display!$B$9,'Lux4-sept'!$A$10=Display!$B$11,'Lux4-sept'!$A$35=Display!$B$13),Display!$D5,)","v":0},{"$f":"IF(AND(AE$8=Display!$T$10,'Lux4-sept'!$A$8=Display!$B$7,'Lux4-sept'!$A$9=Display!$B$9,'Lux4-sept'!$A$10=Display!$B$11,'Lux4-sept'!$A$35=Display!$B$13),Display!$D5,)","v":0},{"$f":"IF(AND(AF$8=Display!$T$10,'Lux4-sept'!$A$8=Display!$B$7,'Lux4-sept'!$A$9=Display!$B$9,'Lux4-sept'!$A$10=Display!$B$11,'Lux4-sept'!$A$35=Display!$B$13),Display!$D5,)","v":0},null,null,{"$f":"((IF((SUM(B37:AF37))<>0,(SUM(B37:AF37)),0))/(IF((SUM((IF(B37<>0,3,0)),(IF(C37<>0,3,0)),(IF(D37<>0,3,0)),(IF(E37<>0,3,0)),(IF(F37<>0,3,0)),(IF(F37<>0,3,0)),(IF(F37<>0,3,0)),(IF(G37<>0,3,0)),(IF(H37<>0,3,0)),(IF(I37<>0,3,0)),(IF(J37<>0,3,0)),(IF(K37<>0,3,0)),(IF(L37<>0,3,0)),(IF(M37<>0,3,0)),(IF(N37<>0,3,0)),(IF(O37<>0,3,0)),(IF(P37<>0,3,0)),(IF(Q37<>0,3,0)),(IF(R37<>0,3,0)),(IF(S37<>0,3,0)),(IF(T37<>0,3,0)),(IF(U37<>0,3,0)),(IF(V37<>0,3,0)),(IF(W37<>0,3,0)),(IF(X37<>0,3,0)),(IF(Y37<>0,3,0)),(IF(Z37<>0,3,0)),(IF(AA37<>0,3,0)),(IF(AB37<>0,3,0)),(IF(AC37<>0,3,0)),(IF(AD37<>0,3,0)),(IF(AE37<>0,3,0)),(IF(AF37<>0,3,0))))<>0,((SUM((IF(B37<>0,3,0)),(IF(C37<>0,3,0)),(IF(D37<>0,3,0)),(IF(E37<>0,3,0)),(IF(F37<>0,3,0)),(IF(F37<>0,3,0)),(IF(F37<>0,3,0)),(IF(G37<>0,3,0)),(IF(H37<>0,3,0)),(IF(I37<>0,3,0)),(IF(J37<>0,3,0)),(IF(K37<>0,3,0)),(IF(L37<>0,3,0)),(IF(M37<>0,3,0)),(IF(N37<>0,3,0)),(IF(O37<>0,3,0)),(IF(P37<>0,3,0)),(IF(Q37<>0,3,0)),(IF(R37<>0,3,0)),(IF(S37<>0,3,0)),(IF(T37<>0,3,0)),(IF(U37<>0,3,0)),(IF(V37<>0,3,0)),(IF(W37<>0,3,0)),(IF(X37<>0,3,0)),(IF(Y37<>0,3,0)),(IF(Z37<>0,3,0)),(IF(AA37<>0,3,0)),(IF(AB37<>0,3,0)),(IF(AC37<>0,3,0)),(IF(AD37<>0,3,0)),(IF(AE37<>0,3,0)),(IF(AF37<>0,3,0))))),1)))","v":0}]
["Chaises rangées",{"$f":"IF(AND(B$8=Display!$T$10,'Lux4-sept'!$A$8=Display!$B$7,'Lux4-sept'!$A$9=Display!$B$9,'Lux4-sept'!$A$10=Display!$B$11,'Lux4-sept'!$A$35=Display!$B$13),Display!$D6,)","v":0},{"$f":"IF(AND(C$8=Display!$T$10,'Lux4-sept'!$A$8=Display!$B$7,'Lux4-sept'!$A$9=Display!$B$9,'Lux4-sept'!$A$10=Display!$B$11,'Lux4-sept'!$A$35=Display!$B$13),Display!$D6,)","v":0},{"$f":"IF(AND(D$8=Display!$T$10,'Lux4-sept'!$A$8=Display!$B$7,'Lux4-sept'!$A$9=Display!$B$9,'Lux4-sept'!$A$10=Display!$B$11,'Lux4-sept'!$A$35=Display!$B$13),Display!$D6,)","v":0},{"$f":"IF(AND(E$8=Display!$T$10,'Lux4-sept'!$A$8=Display!$B$7,'Lux4-sept'!$A$9=Display!$B$9,'Lux4-sept'!$A$10=Display!$B$11,'Lux4-sept'!$A$35=Display!$B$13),Display!$D6,)","v":0},{"$f":"IF(AND(F$8=Display!$T$10,'Lux4-sept'!$A$8=Display!$B$7,'Lux4-sept'!$A$9=Display!$B$9,'Lux4-sept'!$A$10=Display!$B$11,'Lux4-sept'!$A$35=Display!$B$13),Display!$D6,)","v":0},{"$f":"IF(AND(G$8=Display!$T$10,'Lux4-sept'!$A$8=Display!$B$7,'Lux4-sept'!$A$9=Display!$B$9,'Lux4-sept'!$A$10=Display!$B$11,'Lux4-sept'!$A$35=Display!$B$13),Display!$D6,)","v":0},{"$f":"IF(AND(H$8=Display!$T$10,'Lux4-sept'!$A$8=Display!$B$7,'Lux4-sept'!$A$9=Display!$B$9,'Lux4-sept'!$A$10=Display!$B$11,'Lux4-sept'!$A$35=Display!$B$13),Display!$D6,)","v":0},{"$f":"IF(AND(I$8=Display!$T$10,'Lux4-sept'!$A$8=Display!$B$7,'Lux4-sept'!$A$9=Display!$B$9,'Lux4-sept'!$A$10=Display!$B$11,'Lux4-sept'!$A$35=Display!$B$13),Display!$D6,)","v":0},{"$f":"IF(AND(J$8=Display!$T$10,'Lux4-sept'!$A$8=Display!$B$7,'Lux4-sept'!$A$9=Display!$B$9,'Lux4-sept'!$A$10=Display!$B$11,'Lux4-sept'!$A$35=Display!$B$13),Display!$D6,)","v":0},{"$f":"IF(AND(K$8=Display!$T$10,'Lux4-sept'!$A$8=Display!$B$7,'Lux4-sept'!$A$9=Display!$B$9,'Lux4-sept'!$A$10=Display!$B$11,'Lux4-sept'!$A$35=Display!$B$13),Display!$D6,)","v":0},{"$f":"IF(AND(L$8=Display!$T$10,'Lux4-sept'!$A$8=Display!$B$7,'Lux4-sept'!$A$9=Display!$B$9,'Lux4-sept'!$A$10=Display!$B$11,'Lux4-sept'!$A$35=Display!$B$13),Display!$D6,)","v":0},{"$f":"IF(AND(M$8=Display!$T$10,'Lux4-sept'!$A$8=Display!$B$7,'Lux4-sept'!$A$9=Display!$B$9,'Lux4-sept'!$A$10=Display!$B$11,'Lux4-sept'!$A$35=Display!$B$13),Display!$D6,)","v":0},{"$f":"IF(AND(N$8=Display!$T$10,'Lux4-sept'!$A$8=Display!$B$7,'Lux4-sept'!$A$9=Display!$B$9,'Lux4-sept'!$A$10=Display!$B$11,'Lux4-sept'!$A$35=Display!$B$13),Display!$D6,)","v":0},{"$f":"IF(AND(O$8=Display!$T$10,'Lux4-sept'!$A$8=Display!$B$7,'Lux4-sept'!$A$9=Display!$B$9,'Lux4-sept'!$A$10=Display!$B$11,'Lux4-sept'!$A$35=Display!$B$13),Display!$D6,)","v":0},{"$f":"IF(AND(P$8=Display!$T$10,'Lux4-sept'!$A$8=Display!$B$7,'Lux4-sept'!$A$9=Display!$B$9,'Lux4-sept'!$A$10=Display!$B$11,'Lux4-sept'!$A$35=Display!$B$13),Display!$D6,)","v":0},{"$f":"IF(AND(Q$8=Display!$T$10,'Lux4-sept'!$A$8=Display!$B$7,'Lux4-sept'!$A$9=Display!$B$9,'Lux4-sept'!$A$10=Display!$B$11,'Lux4-sept'!$A$35=Display!$B$13),Display!$D6,)","v":0},{"$f":"IF(AND(R$8=Display!$T$10,'Lux4-sept'!$A$8=Display!$B$7,'Lux4-sept'!$A$9=Display!$B$9,'Lux4-sept'!$A$10=Display!$B$11,'Lux4-sept'!$A$35=Display!$B$13),Display!$D6,)","v":0},{"$f":"IF(AND(S$8=Display!$T$10,'Lux4-sept'!$A$8=Display!$B$7,'Lux4-sept'!$A$9=Display!$B$9,'Lux4-sept'!$A$10=Display!$B$11,'Lux4-sept'!$A$35=Display!$B$13),Display!$D6,)","v":0},{"$f":"IF(AND(T$8=Display!$T$10,'Lux4-sept'!$A$8=Display!$B$7,'Lux4-sept'!$A$9=Display!$B$9,'Lux4-sept'!$A$10=Display!$B$11,'Lux4-sept'!$A$35=Display!$B$13),Display!$D6,)","v":0},{"$f":"IF(AND(U$8=Display!$T$10,'Lux4-sept'!$A$8=Display!$B$7,'Lux4-sept'!$A$9=Display!$B$9,'Lux4-sept'!$A$10=Display!$B$11,'Lux4-sept'!$A$35=Display!$B$13),Display!$D6,)","v":0},{"$f":"IF(AND(V$8=Display!$T$10,'Lux4-sept'!$A$8=Display!$B$7,'Lux4-sept'!$A$9=Display!$B$9,'Lux4-sept'!$A$10=Display!$B$11,'Lux4-sept'!$A$35=Display!$B$13),Display!$D6,)","v":0},{"$f":"IF(AND(W$8=Display!$T$10,'Lux4-sept'!$A$8=Display!$B$7,'Lux4-sept'!$A$9=Display!$B$9,'Lux4-sept'!$A$10=Display!$B$11,'Lux4-sept'!$A$35=Display!$B$13),Display!$D6,)","v":0},{"$f":"IF(AND(X$8=Display!$T$10,'Lux4-sept'!$A$8=Display!$B$7,'Lux4-sept'!$A$9=Display!$B$9,'Lux4-sept'!$A$10=Display!$B$11,'Lux4-sept'!$A$35=Display!$B$13),Display!$D6,)","v":0},{"$f":"IF(AND(Y$8=Display!$T$10,'Lux4-sept'!$A$8=Display!$B$7,'Lux4-sept'!$A$9=Display!$B$9,'Lux4-sept'!$A$10=Display!$B$11,'Lux4-sept'!$A$35=Display!$B$13),Display!$D6,)","v":0},{"$f":"IF(AND(Z$8=Display!$T$10,'Lux4-sept'!$A$8=Display!$B$7,'Lux4-sept'!$A$9=Display!$B$9,'Lux4-sept'!$A$10=Display!$B$11,'Lux4-sept'!$A$35=Display!$B$13),Display!$D6,)","v":0},{"$f":"IF(AND(AA$8=Display!$T$10,'Lux4-sept'!$A$8=Display!$B$7,'Lux4-sept'!$A$9=Display!$B$9,'Lux4-sept'!$A$10=Display!$B$11,'Lux4-sept'!$A$35=Display!$B$13),Display!$D6,)","v":0},{"$f":"IF(AND(AB$8=Display!$T$10,'Lux4-sept'!$A$8=Display!$B$7,'Lux4-sept'!$A$9=Display!$B$9,'Lux4-sept'!$A$10=Display!$B$11,'Lux4-sept'!$A$35=Display!$B$13),Display!$D6,)","v":0},{"$f":"IF(AND(AC$8=Display!$T$10,'Lux4-sept'!$A$8=Display!$B$7,'Lux4-sept'!$A$9=Display!$B$9,'Lux4-sept'!$A$10=Display!$B$11,'Lux4-sept'!$A$35=Display!$B$13),Display!$D6,)","v":0},{"$f":"IF(AND(AD$8=Display!$T$10,'Lux4-sept'!$A$8=Display!$B$7,'Lux4-sept'!$A$9=Display!$B$9,'Lux4-sept'!$A$10=Display!$B$11,'Lux4-sept'!$A$35=Display!$B$13),Display!$D6,)","v":0},{"$f":"IF(AND(AE$8=Display!$T$10,'Lux4-sept'!$A$8=Display!$B$7,'Lux4-sept'!$A$9=Display!$B$9,'Lux4-sept'!$A$10=Display!$B$11,'Lux4-sept'!$A$35=Display!$B$13),Display!$D6,)","v":0},{"$f":"IF(AND(AF$8=Display!$T$10,'Lux4-sept'!$A$8=Display!$B$7,'Lux4-sept'!$A$9=Display!$B$9,'Lux4-sept'!$A$10=Display!$B$11,'Lux4-sept'!$A$35=Display!$B$13),Display!$D6,)","v":0},null,null,0]
["Poubelles vidées",{"$f":"IF(AND(B$8=Display!$T$10,'Lux4-sept'!$A$8=Display!$B$7,'Lux4-sept'!$A$9=Display!$B$9,'Lux4-sept'!$A$10=Display!$B$11,'Lux4-sept'!$A$35=Display!$B$13),Display!$D7,)","v":0},{"$f":"IF(AND(C$8=Display!$T$10,'Lux4-sept'!$A$8=Display!$B$7,'Lux4-sept'!$A$9=Display!$B$9,'Lux4-sept'!$A$10=Display!$B$11,'Lux4-sept'!$A$35=Display!$B$13),Display!$D7,)","v":0},{"$f":"IF(AND(D$8=Display!$T$10,'Lux4-sept'!$A$8=Display!$B$7,'Lux4-sept'!$A$9=Display!$B$9,'Lux4-sept'!$A$10=Display!$B$11,'Lux4-sept'!$A$35=Display!$B$13),Display!$D7,)","v":0},{"$f":"IF(AND(E$8=Display!$T$10,'Lux4-sept'!$A$8=Display!$B$7,'Lux4-sept'!$A$9=Display!$B$9,'Lux4-sept'!$A$10=Display!$B$11,'Lux4-sept'!$A$35=Display!$B$13),Display!$D7,)","v":0},{"$f":"IF(AND(F$8=Display!$T$10,'Lux4-sept'!$A$8=Display!$B$7,'Lux4-sept'!$A$9=Display!$B$9,'Lux4-sept'!$A$10=Display!$B$11,'Lux4-sept'!$A$35=Display!$B$13),Display!$D7,)","v":0},{"$f":"IF(AND(G$8=Display!$T$10,'Lux4-sept'!$A$8=Display!$B$7,'Lux4-sept'!$A$9=Display!$B$9,'Lux4-sept'!$A$10=Display!$B$11,'Lux4-sept'!$A$35=Display!$B$13),Display!$D7,)","v":0},{"$f":"IF(AND(H$8=Display!$T$10,'Lux4-sept'!$A$8=Display!$B$7,'Lux4-sept'!$A$9=Display!$B$9,'Lux4-sept'!$A$10=Display!$B$11,'Lux4-sept'!$A$35=Display!$B$13),Display!$D7,)","v":0},{"$f":"IF(AND(I$8=Display!$T$10,'Lux4-sept'!$A$8=Display!$B$7,'Lux4-sept'!$A$9=Display!$B$9,'Lux4-sept'!$A$10=Display!$B$11,'Lux4-sept'!$A$35=Display!$B$13),Display!$D7,)","v":0},{"$f":"IF(AND(J$8=Display!$T$10,'Lux4-sept'!$A$8=Display!$B$7,'Lux4-sept'!$A$9=Display!$B$9,'Lux4-sept'!$A$10=Display!$B$11,'Lux4-sept'!$A$35=Display!$B$13),Display!$D7,)","v":0},{"$f":"IF(AND(K$8=Display!$T$10,'Lux4-sept'!$A$8=Display!$B$7,'Lux4-sept'!$A$9=Display!$B$9,'Lux4-sept'!$A$10=Display!$B$11,'Lux4-sept'!$A$35=Display!$B$13),Display!$D7,)","v":0},{"$f":"IF(AND(L$8=Display!$T$10,'Lux4-sept'!$A$8=Display!$B$7,'Lux4-sept'!$A$9=Display!$B$9,'Lux4-sept'!$A$10=Display!$B$11,'Lux4-sept'!$A$35=Display!$B$13),Display!$D7,)","v":0},{"$f":"IF(AND(M$8=Display!$T$10,'Lux4-sept'!$A$8=Display!$B$7,'Lux4-sept'!$A$9=Display!$B$9,'Lux4-sept'!$A$10=Display!$B$11,'Lux4-sept'!$A$35=Display!$B$13),Display!$D7,)","v":0},{"$f":"IF(AND(N$8=Display!$T$10,'Lux4-sept'!$A$8=Display!$B$7,'Lux4-sept'!$A$9=Display!$B$9,'Lux4-sept'!$A$10=Display!$B$11,'Lux4-sept'!$A$35=Display!$B$13),Display!$D7,)","v":0},{"$f":"IF(AND(O$8=Display!$T$10,'Lux4-sept'!$A$8=Display!$B$7,'Lux4-sept'!$A$9=Display!$B$9,'Lux4-sept'!$A$10=Display!$B$11,'Lux4-sept'!$A$35=Display!$B$13),Display!$D7,)","v":0},{"$f":"IF(AND(P$8=Display!$T$10,'Lux4-sept'!$A$8=Display!$B$7,'Lux4-sept'!$A$9=Display!$B$9,'Lux4-sept'!$A$10=Display!$B$11,'Lux4-sept'!$A$35=Display!$B$13),Display!$D7,)","v":0},{"$f":"IF(AND(Q$8=Display!$T$10,'Lux4-sept'!$A$8=Display!$B$7,'Lux4-sept'!$A$9=Display!$B$9,'Lux4-sept'!$A$10=Display!$B$11,'Lux4-sept'!$A$35=Display!$B$13),Display!$D7,)","v":0},{"$f":"IF(AND(R$8=Display!$T$10,'Lux4-sept'!$A$8=Display!$B$7,'Lux4-sept'!$A$9=Display!$B$9,'Lux4-sept'!$A$10=Display!$B$11,'Lux4-sept'!$A$35=Display!$B$13),Display!$D7,)","v":0},{"$f":"IF(AND(S$8=Display!$T$10,'Lux4-sept'!$A$8=Display!$B$7,'Lux4-sept'!$A$9=Display!$B$9,'Lux4-sept'!$A$10=Display!$B$11,'Lux4-sept'!$A$35=Display!$B$13),Display!$D7,)","v":0},{"$f":"IF(AND(T$8=Display!$T$10,'Lux4-sept'!$A$8=Display!$B$7,'Lux4-sept'!$A$9=Display!$B$9,'Lux4-sept'!$A$10=Display!$B$11,'Lux4-sept'!$A$35=Display!$B$13),Display!$D7,)","v":0},{"$f":"IF(AND(U$8=Display!$T$10,'Lux4-sept'!$A$8=Display!$B$7,'Lux4-sept'!$A$9=Display!$B$9,'Lux4-sept'!$A$10=Display!$B$11,'Lux4-sept'!$A$35=Display!$B$13),Display!$D7,)","v":0},{"$f":"IF(AND(V$8=Display!$T$10,'Lux4-sept'!$A$8=Display!$B$7,'Lux4-sept'!$A$9=Display!$B$9,'Lux4-sept'!$A$10=Display!$B$11,'Lux4-sept'!$A$35=Display!$B$13),Display!$D7,)","v":0},{"$f":"IF(AND(W$8=Display!$T$10,'Lux4-sept'!$A$8=Display!$B$7,'Lux4-sept'!$A$9=Display!$B$9,'Lux4-sept'!$A$10=Display!$B$11,'Lux4-sept'!$A$35=Display!$B$13),Display!$D7,)","v":0},{"$f":"IF(AND(X$8=Display!$T$10,'Lux4-sept'!$A$8=Display!$B$7,'Lux4-sept'!$A$9=Display!$B$9,'Lux4-sept'!$A$10=Display!$B$11,'Lux4-sept'!$A$35=Display!$B$13),Display!$D7,)","v":0},{"$f":"IF(AND(Y$8=Display!$T$10,'Lux4-sept'!$A$8=Display!$B$7,'Lux4-sept'!$A$9=Display!$B$9,'Lux4-sept'!$A$10=Display!$B$11,'Lux4-sept'!$A$35=Display!$B$13),Display!$D7,)","v":0},{"$f":"IF(AND(Z$8=Display!$T$10,'Lux4-sept'!$A$8=Display!$B$7,'Lux4-sept'!$A$9=Display!$B$9,'Lux4-sept'!$A$10=Display!$B$11,'Lux4-sept'!$A$35=Display!$B$13),Display!$D7,)","v":0},{"$f":"IF(AND(AA$8=Display!$T$10,'Lux4-sept'!$A$8=Display!$B$7,'Lux4-sept'!$A$9=Display!$B$9,'Lux4-sept'!$A$10=Display!$B$11,'Lux4-sept'!$A$35=Display!$B$13),Display!$D7,)","v":0},{"$f":"IF(AND(AB$8=Display!$T$10,'Lux4-sept'!$A$8=Display!$B$7,'Lux4-sept'!$A$9=Display!$B$9,'Lux4-sept'!$A$10=Display!$B$11,'Lux4-sept'!$A$35=Display!$B$13),Display!$D7,)","v":0},{"$f":"IF(AND(AC$8=Display!$T$10,'Lux4-sept'!$A$8=Display!$B$7,'Lux4-sept'!$A$9=Display!$B$9,'Lux4-sept'!$A$10=Display!$B$11,'Lux4-sept'!$A$35=Display!$B$13),Display!$D7,)","v":0},{"$f":"IF(AND(AD$8=Display!$T$10,'Lux4-sept'!$A$8=Display!$B$7,'Lux4-sept'!$A$9=Display!$B$9,'Lux4-sept'!$A$10=Display!$B$11,'Lux4-sept'!$A$35=Display!$B$13),Display!$D7,)","v":0},{"$f":"IF(AND(AE$8=Display!$T$10,'Lux4-sept'!$A$8=Display!$B$7,'Lux4-sept'!$A$9=Display!$B$9,'Lux4-sept'!$A$10=Display!$B$11,'Lux4-sept'!$A$35=Display!$B$13),Display!$D7,)","v":0},{"$f":"IF(AND(AF$8=Display!$T$10,'Lux4-sept'!$A$8=Display!$B$7,'Lux4-sept'!$A$9=Display!$B$9,'Lux4-sept'!$A$10=Display!$B$11,'Lux4-sept'!$A$35=Display!$B$13),Display!$D7,)","v":0},null,null,0]
["Tables nettoyées",{"$f":"IF(AND(B$8=Display!$T$10,'Lux4-sept'!$A$8=Display!$B$7,'Lux4-sept'!$A$9=Display!$B$9,'Lux4-sept'!$A$10=Display!$B$11,'Lux4-sept'!$A$35=Display!$B$13),Display!$D8,)","v":0},{"$f":"IF(AND(C$8=Display!$T$10,'Lux4-sept'!$A$8=Display!$B$7,'Lux4-sept'!$A$9=Display!$B$9,'Lux4-sept'!$A$10=Display!$B$11,'Lux4-sept'!$A$35=Display!$B$13),Display!$D8,)","v":0},{"$f":"IF(AND(D$8=Display!$T$10,'Lux4-sept'!$A$8=Display!$B$7,'Lux4-sept'!$A$9=Display!$B$9,'Lux4-sept'!$A$10=Display!$B$11,'Lux4-sept'!$A$35=Display!$B$13),Display!$D8,)","v":0},{"$f":"IF(AND(E$8=Display!$T$10,'Lux4-sept'!$A$8=Display!$B$7,'Lux4-sept'!$A$9=Display!$B$9,'Lux4-sept'!$A$10=Display!$B$11,'Lux4-sept'!$A$35=Display!$B$13),Display!$D8,)","v":0},{"$f":"IF(AND(F$8=Display!$T$10,'Lux4-sept'!$A$8=Display!$B$7,'Lux4-sept'!$A$9=Display!$B$9,'Lux4-sept'!$A$10=Display!$B$11,'Lux4-sept'!$A$35=Display!$B$13),Display!$D8,)","v":0},{"$f":"IF(AND(G$8=Display!$T$10,'Lux4-sept'!$A$8=Display!$B$7,'Lux4-sept'!$A$9=Display!$B$9,'Lux4-sept'!$A$10=Display!$B$11,'Lux4-sept'!$A$35=Display!$B$13),Display!$D8,)","v":0},{"$f":"IF(AND(H$8=Display!$T$10,'Lux4-sept'!$A$8=Display!$B$7,'Lux4-sept'!$A$9=Display!$B$9,'Lux4-sept'!$A$10=Display!$B$11,'Lux4-sept'!$A$35=Display!$B$13),Display!$D8,)","v":0},{"$f":"IF(AND(I$8=Display!$T$10,'Lux4-sept'!$A$8=Display!$B$7,'Lux4-sept'!$A$9=Display!$B$9,'Lux4-sept'!$A$10=Display!$B$11,'Lux4-sept'!$A$35=Display!$B$13),Display!$D8,)","v":0},{"$f":"IF(AND(J$8=Display!$T$10,'Lux4-sept'!$A$8=Display!$B$7,'Lux4-sept'!$A$9=Display!$B$9,'Lux4-sept'!$A$10=Display!$B$11,'Lux4-sept'!$A$35=Display!$B$13),Display!$D8,)","v":0},{"$f":"IF(AND(K$8=Display!$T$10,'Lux4-sept'!$A$8=Display!$B$7,'Lux4-sept'!$A$9=Display!$B$9,'Lux4-sept'!$A$10=Display!$B$11,'Lux4-sept'!$A$35=Display!$B$13),Display!$D8,)","v":0},{"$f":"IF(AND(L$8=Display!$T$10,'Lux4-sept'!$A$8=Display!$B$7,'Lux4-sept'!$A$9=Display!$B$9,'Lux4-sept'!$A$10=Display!$B$11,'Lux4-sept'!$A$35=Display!$B$13),Display!$D8,)","v":0},{"$f":"IF(AND(M$8=Display!$T$10,'Lux4-sept'!$A$8=Display!$B$7,'Lux4-sept'!$A$9=Display!$B$9,'Lux4-sept'!$A$10=Display!$B$11,'Lux4-sept'!$A$35=Display!$B$13),Display!$D8,)","v":0},{"$f":"IF(AND(N$8=Display!$T$10,'Lux4-sept'!$A$8=Display!$B$7,'Lux4-sept'!$A$9=Display!$B$9,'Lux4-sept'!$A$10=Display!$B$11,'Lux4-sept'!$A$35=Display!$B$13),Display!$D8,)","v":0},{"$f":"IF(AND(O$8=Display!$T$10,'Lux4-sept'!$A$8=Display!$B$7,'Lux4-sept'!$A$9=Display!$B$9,'Lux4-sept'!$A$10=Display!$B$11,'Lux4-sept'!$A$35=Display!$B$13),Display!$D8,)","v":0},{"$f":"IF(AND(P$8=Display!$T$10,'Lux4-sept'!$A$8=Display!$B$7,'Lux4-sept'!$A$9=Display!$B$9,'Lux4-sept'!$A$10=Display!$B$11,'Lux4-sept'!$A$35=Display!$B$13),Display!$D8,)","v":0},{"$f":"IF(AND(Q$8=Display!$T$10,'Lux4-sept'!$A$8=Display!$B$7,'Lux4-sept'!$A$9=Display!$B$9,'Lux4-sept'!$A$10=Display!$B$11,'Lux4-sept'!$A$35=Display!$B$13),Display!$D8,)","v":0},{"$f":"IF(AND(R$8=Display!$T$10,'Lux4-sept'!$A$8=Display!$B$7,'Lux4-sept'!$A$9=Display!$B$9,'Lux4-sept'!$A$10=Display!$B$11,'Lux4-sept'!$A$35=Display!$B$13),Display!$D8,)","v":0},{"$f":"IF(AND(S$8=Display!$T$10,'Lux4-sept'!$A$8=Display!$B$7,'Lux4-sept'!$A$9=Display!$B$9,'Lux4-sept'!$A$10=Display!$B$11,'Lux4-sept'!$A$35=Display!$B$13),Display!$D8,)","v":0},{"$f":"IF(AND(T$8=Display!$T$10,'Lux4-sept'!$A$8=Display!$B$7,'Lux4-sept'!$A$9=Display!$B$9,'Lux4-sept'!$A$10=Display!$B$11,'Lux4-sept'!$A$35=Display!$B$13),Display!$D8,)","v":0},{"$f":"IF(AND(U$8=Display!$T$10,'Lux4-sept'!$A$8=Display!$B$7,'Lux4-sept'!$A$9=Display!$B$9,'Lux4-sept'!$A$10=Display!$B$11,'Lux4-sept'!$A$35=Display!$B$13),Display!$D8,)","v":0},{"$f":"IF(AND(V$8=Display!$T$10,'Lux4-sept'!$A$8=Display!$B$7,'Lux4-sept'!$A$9=Display!$B$9,'Lux4-sept'!$A$10=Display!$B$11,'Lux4-sept'!$A$35=Display!$B$13),Display!$D8,)","v":0},{"$f":"IF(AND(W$8=Display!$T$10,'Lux4-sept'!$A$8=Display!$B$7,'Lux4-sept'!$A$9=Display!$B$9,'Lux4-sept'!$A$10=Display!$B$11,'Lux4-sept'!$A$35=Display!$B$13),Display!$D8,)","v":0},{"$f":"IF(AND(X$8=Display!$T$10,'Lux4-sept'!$A$8=Display!$B$7,'Lux4-sept'!$A$9=Display!$B$9,'Lux4-sept'!$A$10=Display!$B$11,'Lux4-sept'!$A$35=Display!$B$13),Display!$D8,)","v":0},{"$f":"IF(AND(Y$8=Display!$T$10,'Lux4-sept'!$A$8=Display!$B$7,'Lux4-sept'!$A$9=Display!$B$9,'Lux4-sept'!$A$10=Display!$B$11,'Lux4-sept'!$A$35=Display!$B$13),Display!$D8,)","v":0},{"$f":"IF(AND(Z$8=Display!$T$10,'Lux4-sept'!$A$8=Display!$B$7,'Lux4-sept'!$A$9=Display!$B$9,'Lux4-sept'!$A$10=Display!$B$11,'Lux4-sept'!$A$35=Display!$B$13),Display!$D8,)","v":0},{"$f":"IF(AND(AA$8=Display!$T$10,'Lux4-sept'!$A$8=Display!$B$7,'Lux4-sept'!$A$9=Display!$B$9,'Lux4-sept'!$A$10=Display!$B$11,'Lux4-sept'!$A$35=Display!$B$13),Display!$D8,)","v":0},{"$f":"IF(AND(AB$8=Display!$T$10,'Lux4-sept'!$A$8=Display!$B$7,'Lux4-sept'!$A$9=Display!$B$9,'Lux4-sept'!$A$10=Display!$B$11,'Lux4-sept'!$A$35=Display!$B$13),Display!$D8,)","v":0},{"$f":"IF(AND(AC$8=Display!$T$10,'Lux4-sept'!$A$8=Display!$B$7,'Lux4-sept'!$A$9=Display!$B$9,'Lux4-sept'!$A$10=Display!$B$11,'Lux4-sept'!$A$35=Display!$B$13),Display!$D8,)","v":0},{"$f":"IF(AND(AD$8=Display!$T$10,'Lux4-sept'!$A$8=Display!$B$7,'Lux4-sept'!$A$9=Display!$B$9,'Lux4-sept'!$A$10=Display!$B$11,'Lux4-sept'!$A$35=Display!$B$13),Display!$D8,)","v":0},{"$f":"IF(AND(AE$8=Display!$T$10,'Lux4-sept'!$A$8=Display!$B$7,'Lux4-sept'!$A$9=Display!$B$9,'Lux4-sept'!$A$10=Display!$B$11,'Lux4-sept'!$A$35=Display!$B$13),Display!$D8,)","v":0},{"$f":"IF(AND(AF$8=Display!$T$10,'Lux4-sept'!$A$8=Display!$B$7,'Lux4-sept'!$A$9=Display!$B$9,'Lux4-sept'!$A$10=Display!$B$11,'Lux4-sept'!$A$35=Display!$B$13),Display!$D8,)","v":0},null,null,0]
["Tableaux effacés",{"$f":"IF(AND(B$8=Display!$T$10,'Lux4-sept'!$A$8=Display!$B$7,'Lux4-sept'!$A$9=Display!$B$9,'Lux4-sept'!$A$10=Display!$B$11,'Lux4-sept'!$A$35=Display!$B$13),Display!$D9,)","v":0},{"$f":"IF(AND(C$8=Display!$T$10,'Lux4-sept'!$A$8=Display!$B$7,'Lux4-sept'!$A$9=Display!$B$9,'Lux4-sept'!$A$10=Display!$B$11,'Lux4-sept'!$A$35=Display!$B$13),Display!$D9,)","v":0},{"$f":"IF(AND(D$8=Display!$T$10,'Lux4-sept'!$A$8=Display!$B$7,'Lux4-sept'!$A$9=Display!$B$9,'Lux4-sept'!$A$10=Display!$B$11,'Lux4-sept'!$A$35=Display!$B$13),Display!$D9,)","v":0},{"$f":"IF(AND(E$8=Display!$T$10,'Lux4-sept'!$A$8=Display!$B$7,'Lux4-sept'!$A$9=Display!$B$9,'Lux4-sept'!$A$10=Display!$B$11,'Lux4-sept'!$A$35=Display!$B$13),Display!$D9,)","v":0},{"$f":"IF(AND(F$8=Display!$T$10,'Lux4-sept'!$A$8=Display!$B$7,'Lux4-sept'!$A$9=Display!$B$9,'Lux4-sept'!$A$10=Display!$B$11,'Lux4-sept'!$A$35=Display!$B$13),Display!$D9,)","v":0},{"$f":"IF(AND(G$8=Display!$T$10,'Lux4-sept'!$A$8=Display!$B$7,'Lux4-sept'!$A$9=Display!$B$9,'Lux4-sept'!$A$10=Display!$B$11,'Lux4-sept'!$A$35=Display!$B$13),Display!$D9,)","v":0},{"$f":"IF(AND(H$8=Display!$T$10,'Lux4-sept'!$A$8=Display!$B$7,'Lux4-sept'!$A$9=Display!$B$9,'Lux4-sept'!$A$10=Display!$B$11,'Lux4-sept'!$A$35=Display!$B$13),Display!$D9,)","v":0},{"$f":"IF(AND(I$8=Display!$T$10,'Lux4-sept'!$A$8=Display!$B$7,'Lux4-sept'!$A$9=Display!$B$9,'Lux4-sept'!$A$10=Display!$B$11,'Lux4-sept'!$A$35=Display!$B$13),Display!$D9,)","v":0},{"$f":"IF(AND(J$8=Display!$T$10,'Lux4-sept'!$A$8=Display!$B$7,'Lux4-sept'!$A$9=Display!$B$9,'Lux4-sept'!$A$10=Display!$B$11,'Lux4-sept'!$A$35=Display!$B$13),Display!$D9,)","v":0},{"$f":"IF(AND(K$8=Display!$T$10,'Lux4-sept'!$A$8=Display!$B$7,'Lux4-sept'!$A$9=Display!$B$9,'Lux4-sept'!$A$10=Display!$B$11,'Lux4-sept'!$A$35=Display!$B$13),Display!$D9,)","v":0},{"$f":"IF(AND(L$8=Display!$T$10,'Lux4-sept'!$A$8=Display!$B$7,'Lux4-sept'!$A$9=Display!$B$9,'Lux4-sept'!$A$10=Display!$B$11,'Lux4-sept'!$A$35=Display!$B$13),Display!$D9,)","v":0},{"$f":"IF(AND(M$8=Display!$T$10,'Lux4-sept'!$A$8=Display!$B$7,'Lux4-sept'!$A$9=Display!$B$9,'Lux4-sept'!$A$10=Display!$B$11,'Lux4-sept'!$A$35=Display!$B$13),Display!$D9,)","v":0},{"$f":"IF(AND(N$8=Display!$T$10,'Lux4-sept'!$A$8=Display!$B$7,'Lux4-sept'!$A$9=Display!$B$9,'Lux4-sept'!$A$10=Display!$B$11,'Lux4-sept'!$A$35=Display!$B$13),Display!$D9,)","v":0},{"$f":"IF(AND(O$8=Display!$T$10,'Lux4-sept'!$A$8=Display!$B$7,'Lux4-sept'!$A$9=Display!$B$9,'Lux4-sept'!$A$10=Display!$B$11,'Lux4-sept'!$A$35=Display!$B$13),Display!$D9,)","v":0},{"$f":"IF(AND(P$8=Display!$T$10,'Lux4-sept'!$A$8=Display!$B$7,'Lux4-sept'!$A$9=Display!$B$9,'Lux4-sept'!$A$10=Display!$B$11,'Lux4-sept'!$A$35=Display!$B$13),Display!$D9,)","v":0},{"$f":"IF(AND(Q$8=Display!$T$10,'Lux4-sept'!$A$8=Display!$B$7,'Lux4-sept'!$A$9=Display!$B$9,'Lux4-sept'!$A$10=Display!$B$11,'Lux4-sept'!$A$35=Display!$B$13),Display!$D9,)","v":0},{"$f":"IF(AND(R$8=Display!$T$10,'Lux4-sept'!$A$8=Display!$B$7,'Lux4-sept'!$A$9=Display!$B$9,'Lux4-sept'!$A$10=Display!$B$11,'Lux4-sept'!$A$35=Display!$B$13),Display!$D9,)","v":0},{"$f":"IF(AND(S$8=Display!$T$10,'Lux4-sept'!$A$8=Display!$B$7,'Lux4-sept'!$A$9=Display!$B$9,'Lux4-sept'!$A$10=Display!$B$11,'Lux4-sept'!$A$35=Display!$B$13),Display!$D9,)","v":0},{"$f":"IF(AND(T$8=Display!$T$10,'Lux4-sept'!$A$8=Display!$B$7,'Lux4-sept'!$A$9=Display!$B$9,'Lux4-sept'!$A$10=Display!$B$11,'Lux4-sept'!$A$35=Display!$B$13),Display!$D9,)","v":0},{"$f":"IF(AND(U$8=Display!$T$10,'Lux4-sept'!$A$8=Display!$B$7,'Lux4-sept'!$A$9=Display!$B$9,'Lux4-sept'!$A$10=Display!$B$11,'Lux4-sept'!$A$35=Display!$B$13),Display!$D9,)","v":0},{"$f":"IF(AND(V$8=Display!$T$10,'Lux4-sept'!$A$8=Display!$B$7,'Lux4-sept'!$A$9=Display!$B$9,'Lux4-sept'!$A$10=Display!$B$11,'Lux4-sept'!$A$35=Display!$B$13),Display!$D9,)","v":0},{"$f":"IF(AND(W$8=Display!$T$10,'Lux4-sept'!$A$8=Display!$B$7,'Lux4-sept'!$A$9=Display!$B$9,'Lux4-sept'!$A$10=Display!$B$11,'Lux4-sept'!$A$35=Display!$B$13),Display!$D9,)","v":0},{"$f":"IF(AND(X$8=Display!$T$10,'Lux4-sept'!$A$8=Display!$B$7,'Lux4-sept'!$A$9=Display!$B$9,'Lux4-sept'!$A$10=Display!$B$11,'Lux4-sept'!$A$35=Display!$B$13),Display!$D9,)","v":0},{"$f":"IF(AND(Y$8=Display!$T$10,'Lux4-sept'!$A$8=Display!$B$7,'Lux4-sept'!$A$9=Display!$B$9,'Lux4-sept'!$A$10=Display!$B$11,'Lux4-sept'!$A$35=Display!$B$13),Display!$D9,)","v":0},{"$f":"IF(AND(Z$8=Display!$T$10,'Lux4-sept'!$A$8=Display!$B$7,'Lux4-sept'!$A$9=Display!$B$9,'Lux4-sept'!$A$10=Display!$B$11,'Lux4-sept'!$A$35=Display!$B$13),Display!$D9,)","v":0},{"$f":"IF(AND(AA$8=Display!$T$10,'Lux4-sept'!$A$8=Display!$B$7,'Lux4-sept'!$A$9=Display!$B$9,'Lux4-sept'!$A$10=Display!$B$11,'Lux4-sept'!$A$35=Display!$B$13),Display!$D9,)","v":0},{"$f":"IF(AND(AB$8=Display!$T$10,'Lux4-sept'!$A$8=Display!$B$7,'Lux4-sept'!$A$9=Display!$B$9,'Lux4-sept'!$A$10=Display!$B$11,'Lux4-sept'!$A$35=Display!$B$13),Display!$D9,)","v":0},{"$f":"IF(AND(AC$8=Display!$T$10,'Lux4-sept'!$A$8=Display!$B$7,'Lux4-sept'!$A$9=Display!$B$9,'Lux4-sept'!$A$10=Display!$B$11,'Lux4-sept'!$A$35=Display!$B$13),Display!$D9,)","v":0},{"$f":"IF(AND(AD$8=Display!$T$10,'Lux4-sept'!$A$8=Display!$B$7,'Lux4-sept'!$A$9=Display!$B$9,'Lux4-sept'!$A$10=Display!$B$11,'Lux4-sept'!$A$35=Display!$B$13),Display!$D9,)","v":0},{"$f":"IF(AND(AE$8=Display!$T$10,'Lux4-sept'!$A$8=Display!$B$7,'Lux4-sept'!$A$9=Display!$B$9,'Lux4-sept'!$A$10=Display!$B$11,'Lux4-sept'!$A$35=Display!$B$13),Display!$D9,)","v":0},{"$f":"IF(AND(AF$8=Display!$T$10,'Lux4-sept'!$A$8=Display!$B$7,'Lux4-sept'!$A$9=Display!$B$9,'Lux4-sept'!$A$10=Display!$B$11,'Lux4-sept'!$A$35=Display!$B$13),Display!$D9,)","v":0},null,null,0]
["MOYENNE",{"$f":"((IF((SUM(B36:B41))<>0,(SUM(B36:B41)),0))/(IF((SUM((IF(B36<>0,3,0)),(IF(B37<>0,3,0)),(IF(B38<>0,3,0)),(IF(B39<>0,3,0)),(IF(B40<>0,3,0)),(IF(B41<>0,3,0))))<>0,((SUM((IF(B36<>0,3,0)),(IF(B37<>0,3,0)),(IF(B38<>0,3,0)),(IF(B39<>0,3,0)),(IF(B40<>0,3,0)),(IF(B41<>0,3,0))))),1)))","v":0},{"$f":"((IF((SUM(C36:C41))<>0,(SUM(C36:C41)),0))/(IF((SUM((IF(C36<>0,3,0)),(IF(C37<>0,3,0)),(IF(C38<>0,3,0)),(IF(C39<>0,3,0)),(IF(C40<>0,3,0)),(IF(C41<>0,3,0))))<>0,((SUM((IF(C36<>0,3,0)),(IF(C37<>0,3,0)),(IF(C38<>0,3,0)),(IF(C39<>0,3,0)),(IF(C40<>0,3,0)),(IF(C41<>0,3,0))))),1)))","v":0},0,0,0,0,0,0,0,0,0,0,0,0,0,0,0,0,0,0,0,0,0,0,0,0,0,0,0,0,0,0,0]
["02.502"]
["salle de réunion en place (café, thé, lunch…) ",{"$f":"IF(AND(B$8=Display!$T$10,'Lux4-sept'!$A$8=Display!$B$7,'Lux4-sept'!$A$9=Display!$B$9,'Lux4-sept'!$A$10=Display!$B$11,'Lux4-sept'!$A$43=Display!$B$13),Display!$D4,)","v":0},{"$f":"IF(AND(C$8=Display!$T$10,'Lux4-sept'!$A$8=Display!$B$7,'Lux4-sept'!$A$9=Display!$B$9,'Lux4-sept'!$A$10=Display!$B$11,'Lux4-sept'!$A$43=Display!$B$13),Display!$D4,)","v":0},{"$f":"IF(AND(D$8=Display!$T$10,'Lux4-sept'!$A$8=Display!$B$7,'Lux4-sept'!$A$9=Display!$B$9,'Lux4-sept'!$A$10=Display!$B$11,'Lux4-sept'!$A$43=Display!$B$13),Display!$D4,)","v":0},{"$f":"IF(AND(E$8=Display!$T$10,'Lux4-sept'!$A$8=Display!$B$7,'Lux4-sept'!$A$9=Display!$B$9,'Lux4-sept'!$A$10=Display!$B$11,'Lux4-sept'!$A$43=Display!$B$13),Display!$D4,)","v":0},{"$f":"IF(AND(F$8=Display!$T$10,'Lux4-sept'!$A$8=Display!$B$7,'Lux4-sept'!$A$9=Display!$B$9,'Lux4-sept'!$A$10=Display!$B$11,'Lux4-sept'!$A$43=Display!$B$13),Display!$D4,)","v":0},{"$f":"IF(AND(G$8=Display!$T$10,'Lux4-sept'!$A$8=Display!$B$7,'Lux4-sept'!$A$9=Display!$B$9,'Lux4-sept'!$A$10=Display!$B$11,'Lux4-sept'!$A$43=Display!$B$13),Display!$D4,)","v":0},{"$f":"IF(AND(H$8=Display!$T$10,'Lux4-sept'!$A$8=Display!$B$7,'Lux4-sept'!$A$9=Display!$B$9,'Lux4-sept'!$A$10=Display!$B$11,'Lux4-sept'!$A$43=Display!$B$13),Display!$D4,)","v":0},{"$f":"IF(AND(I$8=Display!$T$10,'Lux4-sept'!$A$8=Display!$B$7,'Lux4-sept'!$A$9=Display!$B$9,'Lux4-sept'!$A$10=Display!$B$11,'Lux4-sept'!$A$43=Display!$B$13),Display!$D4,)","v":0},{"$f":"IF(AND(J$8=Display!$T$10,'Lux4-sept'!$A$8=Display!$B$7,'Lux4-sept'!$A$9=Display!$B$9,'Lux4-sept'!$A$10=Display!$B$11,'Lux4-sept'!$A$43=Display!$B$13),Display!$D4,)","v":0},{"$f":"IF(AND(K$8=Display!$T$10,'Lux4-sept'!$A$8=Display!$B$7,'Lux4-sept'!$A$9=Display!$B$9,'Lux4-sept'!$A$10=Display!$B$11,'Lux4-sept'!$A$43=Display!$B$13),Display!$D4,)","v":0},{"$f":"IF(AND(L$8=Display!$T$10,'Lux4-sept'!$A$8=Display!$B$7,'Lux4-sept'!$A$9=Display!$B$9,'Lux4-sept'!$A$10=Display!$B$11,'Lux4-sept'!$A$43=Display!$B$13),Display!$D4,)","v":0},{"$f":"IF(AND(M$8=Display!$T$10,'Lux4-sept'!$A$8=Display!$B$7,'Lux4-sept'!$A$9=Display!$B$9,'Lux4-sept'!$A$10=Display!$B$11,'Lux4-sept'!$A$43=Display!$B$13),Display!$D4,)","v":0},{"$f":"IF(AND(N$8=Display!$T$10,'Lux4-sept'!$A$8=Display!$B$7,'Lux4-sept'!$A$9=Display!$B$9,'Lux4-sept'!$A$10=Display!$B$11,'Lux4-sept'!$A$43=Display!$B$13),Display!$D4,)","v":0},{"$f":"IF(AND(O$8=Display!$T$10,'Lux4-sept'!$A$8=Display!$B$7,'Lux4-sept'!$A$9=Display!$B$9,'Lux4-sept'!$A$10=Display!$B$11,'Lux4-sept'!$A$43=Display!$B$13),Display!$D4,)","v":0},{"$f":"IF(AND(P$8=Display!$T$10,'Lux4-sept'!$A$8=Display!$B$7,'Lux4-sept'!$A$9=Display!$B$9,'Lux4-sept'!$A$10=Display!$B$11,'Lux4-sept'!$A$43=Display!$B$13),Display!$D4,)","v":0},{"$f":"IF(AND(Q$8=Display!$T$10,'Lux4-sept'!$A$8=Display!$B$7,'Lux4-sept'!$A$9=Display!$B$9,'Lux4-sept'!$A$10=Display!$B$11,'Lux4-sept'!$A$43=Display!$B$13),Display!$D4,)","v":0},{"$f":"IF(AND(R$8=Display!$T$10,'Lux4-sept'!$A$8=Display!$B$7,'Lux4-sept'!$A$9=Display!$B$9,'Lux4-sept'!$A$10=Display!$B$11,'Lux4-sept'!$A$43=Display!$B$13),Display!$D4,)","v":0},{"$f":"IF(AND(S$8=Display!$T$10,'Lux4-sept'!$A$8=Display!$B$7,'Lux4-sept'!$A$9=Display!$B$9,'Lux4-sept'!$A$10=Display!$B$11,'Lux4-sept'!$A$43=Display!$B$13),Display!$D4,)","v":0},{"$f":"IF(AND(T$8=Display!$T$10,'Lux4-sept'!$A$8=Display!$B$7,'Lux4-sept'!$A$9=Display!$B$9,'Lux4-sept'!$A$10=Display!$B$11,'Lux4-sept'!$A$43=Display!$B$13),Display!$D4,)","v":0},{"$f":"IF(AND(U$8=Display!$T$10,'Lux4-sept'!$A$8=Display!$B$7,'Lux4-sept'!$A$9=Display!$B$9,'Lux4-sept'!$A$10=Display!$B$11,'Lux4-sept'!$A$43=Display!$B$13),Display!$D4,)","v":0},{"$f":"IF(AND(V$8=Display!$T$10,'Lux4-sept'!$A$8=Display!$B$7,'Lux4-sept'!$A$9=Display!$B$9,'Lux4-sept'!$A$10=Display!$B$11,'Lux4-sept'!$A$43=Display!$B$13),Display!$D4,)","v":0},{"$f":"IF(AND(W$8=Display!$T$10,'Lux4-sept'!$A$8=Display!$B$7,'Lux4-sept'!$A$9=Display!$B$9,'Lux4-sept'!$A$10=Display!$B$11,'Lux4-sept'!$A$43=Display!$B$13),Display!$D4,)","v":0},{"$f":"IF(AND(X$8=Display!$T$10,'Lux4-sept'!$A$8=Display!$B$7,'Lux4-sept'!$A$9=Display!$B$9,'Lux4-sept'!$A$10=Display!$B$11,'Lux4-sept'!$A$43=Display!$B$13),Display!$D4,)","v":0},{"$f":"IF(AND(Y$8=Display!$T$10,'Lux4-sept'!$A$8=Display!$B$7,'Lux4-sept'!$A$9=Display!$B$9,'Lux4-sept'!$A$10=Display!$B$11,'Lux4-sept'!$A$43=Display!$B$13),Display!$D4,)","v":0},{"$f":"IF(AND(Z$8=Display!$T$10,'Lux4-sept'!$A$8=Display!$B$7,'Lux4-sept'!$A$9=Display!$B$9,'Lux4-sept'!$A$10=Display!$B$11,'Lux4-sept'!$A$43=Display!$B$13),Display!$D4,)","v":0},{"$f":"IF(AND(AA$8=Display!$T$10,'Lux4-sept'!$A$8=Display!$B$7,'Lux4-sept'!$A$9=Display!$B$9,'Lux4-sept'!$A$10=Display!$B$11,'Lux4-sept'!$A$43=Display!$B$13),Display!$D4,)","v":0},{"$f":"IF(AND(AB$8=Display!$T$10,'Lux4-sept'!$A$8=Display!$B$7,'Lux4-sept'!$A$9=Display!$B$9,'Lux4-sept'!$A$10=Display!$B$11,'Lux4-sept'!$A$43=Display!$B$13),Display!$D4,)","v":0},{"$f":"IF(AND(AC$8=Display!$T$10,'Lux4-sept'!$A$8=Display!$B$7,'Lux4-sept'!$A$9=Display!$B$9,'Lux4-sept'!$A$10=Display!$B$11,'Lux4-sept'!$A$43=Display!$B$13),Display!$D4,)","v":0},{"$f":"IF(AND(AD$8=Display!$T$10,'Lux4-sept'!$A$8=Display!$B$7,'Lux4-sept'!$A$9=Display!$B$9,'Lux4-sept'!$A$10=Display!$B$11,'Lux4-sept'!$A$43=Display!$B$13),Display!$D4,)","v":0},{"$f":"IF(AND(AE$8=Display!$T$10,'Lux4-sept'!$A$8=Display!$B$7,'Lux4-sept'!$A$9=Display!$B$9,'Lux4-sept'!$A$10=Display!$B$11,'Lux4-sept'!$A$43=Display!$B$13),Display!$D4,)","v":0},{"$f":"IF(AND(AF$8=Display!$T$10,'Lux4-sept'!$A$8=Display!$B$7,'Lux4-sept'!$A$9=Display!$B$9,'Lux4-sept'!$A$10=Display!$B$11,'Lux4-sept'!$A$43=Display!$B$13),Display!$D4,)","v":0},{"$f":"IF(AND(AG$8=Display!$T$10,'Lux4-sept'!$A$43=Display!$B$7,'Lux4-sept'!$A$9=Display!$B$9,'Lux4-sept'!$A$10=Display!$B$11,'Lux4-sept'!$A$11=Display!$B$13),Display!$D4,)","v":0},{"$f":"IF(AND(AH$8=Display!$T$10,'Lux4-sept'!$A$43=Display!$B$7,'Lux4-sept'!$A$9=Display!$B$9,'Lux4-sept'!$A$10=Display!$B$11,'Lux4-sept'!$A$11=Display!$B$13),Display!$D4,)","v":0},{"$f":"((IF((SUM(B44:AF44))<>0,(SUM(B44:AF44)),0))/(IF((SUM((IF(B44<>0,3,0)),(IF(C44<>0,3,0)),(IF(D44<>0,3,0)),(IF(E44<>0,3,0)),(IF(F44<>0,3,0)),(IF(F44<>0,3,0)),(IF(F44<>0,3,0)),(IF(G44<>0,3,0)),(IF(H44<>0,3,0)),(IF(I44<>0,3,0)),(IF(J44<>0,3,0)),(IF(K44<>0,3,0)),(IF(L44<>0,3,0)),(IF(M44<>0,3,0)),(IF(N44<>0,3,0)),(IF(O44<>0,3,0)),(IF(P44<>0,3,0)),(IF(Q44<>0,3,0)),(IF(R44<>0,3,0)),(IF(S44<>0,3,0)),(IF(T44<>0,3,0)),(IF(U44<>0,3,0)),(IF(V44<>0,3,0)),(IF(W44<>0,3,0)),(IF(X44<>0,3,0)),(IF(Y44<>0,3,0)),(IF(Z44<>0,3,0)),(IF(AA44<>0,3,0)),(IF(AB44<>0,3,0)),(IF(AC44<>0,3,0)),(IF(AD44<>0,3,0)),(IF(AE44<>0,3,0)),(IF(AF44<>0,3,0))))<>0,((SUM((IF(B44<>0,3,0)),(IF(C44<>0,3,0)),(IF(D44<>0,3,0)),(IF(E44<>0,3,0)),(IF(F44<>0,3,0)),(IF(F44<>0,3,0)),(IF(F44<>0,3,0)),(IF(G44<>0,3,0)),(IF(H44<>0,3,0)),(IF(I44<>0,3,0)),(IF(J44<>0,3,0)),(IF(K44<>0,3,0)),(IF(L44<>0,3,0)),(IF(M44<>0,3,0)),(IF(N44<>0,3,0)),(IF(O44<>0,3,0)),(IF(P44<>0,3,0)),(IF(Q44<>0,3,0)),(IF(R44<>0,3,0)),(IF(S44<>0,3,0)),(IF(T44<>0,3,0)),(IF(U44<>0,3,0)),(IF(V44<>0,3,0)),(IF(W44<>0,3,0)),(IF(X44<>0,3,0)),(IF(Y44<>0,3,0)),(IF(Z44<>0,3,0)),(IF(AA44<>0,3,0)),(IF(AB44<>0,3,0)),(IF(AC44<>0,3,0)),(IF(AD44<>0,3,0)),(IF(AE44<>0,3,0)),(IF(AF44<>0,3,0))))),1)))","v":0}]
["Salle prête à être utiliser après les meeting",{"$f":"IF(AND(B$8=Display!$T$10,'Lux4-sept'!$A$8=Display!$B$7,'Lux4-sept'!$A$9=Display!$B$9,'Lux4-sept'!$A$10=Display!$B$11,'Lux4-sept'!$A$43=Display!$B$13),Display!$D5,)","v":0},{"$f":"IF(AND(C$8=Display!$T$10,'Lux4-sept'!$A$8=Display!$B$7,'Lux4-sept'!$A$9=Display!$B$9,'Lux4-sept'!$A$10=Display!$B$11,'Lux4-sept'!$A$43=Display!$B$13),Display!$D5,)","v":0},{"$f":"IF(AND(D$8=Display!$T$10,'Lux4-sept'!$A$8=Display!$B$7,'Lux4-sept'!$A$9=Display!$B$9,'Lux4-sept'!$A$10=Display!$B$11,'Lux4-sept'!$A$43=Display!$B$13),Display!$D5,)","v":0},{"$f":"IF(AND(E$8=Display!$T$10,'Lux4-sept'!$A$8=Display!$B$7,'Lux4-sept'!$A$9=Display!$B$9,'Lux4-sept'!$A$10=Display!$B$11,'Lux4-sept'!$A$43=Display!$B$13),Display!$D5,)","v":0},{"$f":"IF(AND(F$8=Display!$T$10,'Lux4-sept'!$A$8=Display!$B$7,'Lux4-sept'!$A$9=Display!$B$9,'Lux4-sept'!$A$10=Display!$B$11,'Lux4-sept'!$A$43=Display!$B$13),Display!$D5,)","v":0},{"$f":"IF(AND(G$8=Display!$T$10,'Lux4-sept'!$A$8=Display!$B$7,'Lux4-sept'!$A$9=Display!$B$9,'Lux4-sept'!$A$10=Display!$B$11,'Lux4-sept'!$A$43=Display!$B$13),Display!$D5,)","v":0},{"$f":"IF(AND(H$8=Display!$T$10,'Lux4-sept'!$A$8=Display!$B$7,'Lux4-sept'!$A$9=Display!$B$9,'Lux4-sept'!$A$10=Display!$B$11,'Lux4-sept'!$A$43=Display!$B$13),Display!$D5,)","v":0},{"$f":"IF(AND(I$8=Display!$T$10,'Lux4-sept'!$A$8=Display!$B$7,'Lux4-sept'!$A$9=Display!$B$9,'Lux4-sept'!$A$10=Display!$B$11,'Lux4-sept'!$A$43=Display!$B$13),Display!$D5,)","v":0},{"$f":"IF(AND(J$8=Display!$T$10,'Lux4-sept'!$A$8=Display!$B$7,'Lux4-sept'!$A$9=Display!$B$9,'Lux4-sept'!$A$10=Display!$B$11,'Lux4-sept'!$A$43=Display!$B$13),Display!$D5,)","v":0},{"$f":"IF(AND(K$8=Display!$T$10,'Lux4-sept'!$A$8=Display!$B$7,'Lux4-sept'!$A$9=Display!$B$9,'Lux4-sept'!$A$10=Display!$B$11,'Lux4-sept'!$A$43=Display!$B$13),Display!$D5,)","v":0},{"$f":"IF(AND(L$8=Display!$T$10,'Lux4-sept'!$A$8=Display!$B$7,'Lux4-sept'!$A$9=Display!$B$9,'Lux4-sept'!$A$10=Display!$B$11,'Lux4-sept'!$A$43=Display!$B$13),Display!$D5,)","v":0},{"$f":"IF(AND(M$8=Display!$T$10,'Lux4-sept'!$A$8=Display!$B$7,'Lux4-sept'!$A$9=Display!$B$9,'Lux4-sept'!$A$10=Display!$B$11,'Lux4-sept'!$A$43=Display!$B$13),Display!$D5,)","v":0},{"$f":"IF(AND(N$8=Display!$T$10,'Lux4-sept'!$A$8=Display!$B$7,'Lux4-sept'!$A$9=Display!$B$9,'Lux4-sept'!$A$10=Display!$B$11,'Lux4-sept'!$A$43=Display!$B$13),Display!$D5,)","v":0},{"$f":"IF(AND(O$8=Display!$T$10,'Lux4-sept'!$A$8=Display!$B$7,'Lux4-sept'!$A$9=Display!$B$9,'Lux4-sept'!$A$10=Display!$B$11,'Lux4-sept'!$A$43=Display!$B$13),Display!$D5,)","v":0},{"$f":"IF(AND(P$8=Display!$T$10,'Lux4-sept'!$A$8=Display!$B$7,'Lux4-sept'!$A$9=Display!$B$9,'Lux4-sept'!$A$10=Display!$B$11,'Lux4-sept'!$A$43=Display!$B$13),Display!$D5,)","v":0},{"$f":"IF(AND(Q$8=Display!$T$10,'Lux4-sept'!$A$8=Display!$B$7,'Lux4-sept'!$A$9=Display!$B$9,'Lux4-sept'!$A$10=Display!$B$11,'Lux4-sept'!$A$43=Display!$B$13),Display!$D5,)","v":0},{"$f":"IF(AND(R$8=Display!$T$10,'Lux4-sept'!$A$8=Display!$B$7,'Lux4-sept'!$A$9=Display!$B$9,'Lux4-sept'!$A$10=Display!$B$11,'Lux4-sept'!$A$43=Display!$B$13),Display!$D5,)","v":0},{"$f":"IF(AND(S$8=Display!$T$10,'Lux4-sept'!$A$8=Display!$B$7,'Lux4-sept'!$A$9=Display!$B$9,'Lux4-sept'!$A$10=Display!$B$11,'Lux4-sept'!$A$43=Display!$B$13),Display!$D5,)","v":0},{"$f":"IF(AND(T$8=Display!$T$10,'Lux4-sept'!$A$8=Display!$B$7,'Lux4-sept'!$A$9=Display!$B$9,'Lux4-sept'!$A$10=Display!$B$11,'Lux4-sept'!$A$43=Display!$B$13),Display!$D5,)","v":0},{"$f":"IF(AND(U$8=Display!$T$10,'Lux4-sept'!$A$8=Display!$B$7,'Lux4-sept'!$A$9=Display!$B$9,'Lux4-sept'!$A$10=Display!$B$11,'Lux4-sept'!$A$43=Display!$B$13),Display!$D5,)","v":0},{"$f":"IF(AND(V$8=Display!$T$10,'Lux4-sept'!$A$8=Display!$B$7,'Lux4-sept'!$A$9=Display!$B$9,'Lux4-sept'!$A$10=Display!$B$11,'Lux4-sept'!$A$43=Display!$B$13),Display!$D5,)","v":0},{"$f":"IF(AND(W$8=Display!$T$10,'Lux4-sept'!$A$8=Display!$B$7,'Lux4-sept'!$A$9=Display!$B$9,'Lux4-sept'!$A$10=Display!$B$11,'Lux4-sept'!$A$43=Display!$B$13),Display!$D5,)","v":0},{"$f":"IF(AND(X$8=Display!$T$10,'Lux4-sept'!$A$8=Display!$B$7,'Lux4-sept'!$A$9=Display!$B$9,'Lux4-sept'!$A$10=Display!$B$11,'Lux4-sept'!$A$43=Display!$B$13),Display!$D5,)","v":0},{"$f":"IF(AND(Y$8=Display!$T$10,'Lux4-sept'!$A$8=Display!$B$7,'Lux4-sept'!$A$9=Display!$B$9,'Lux4-sept'!$A$10=Display!$B$11,'Lux4-sept'!$A$43=Display!$B$13),Display!$D5,)","v":0},{"$f":"IF(AND(Z$8=Display!$T$10,'Lux4-sept'!$A$8=Display!$B$7,'Lux4-sept'!$A$9=Display!$B$9,'Lux4-sept'!$A$10=Display!$B$11,'Lux4-sept'!$A$43=Display!$B$13),Display!$D5,)","v":0},{"$f":"IF(AND(AA$8=Display!$T$10,'Lux4-sept'!$A$8=Display!$B$7,'Lux4-sept'!$A$9=Display!$B$9,'Lux4-sept'!$A$10=Display!$B$11,'Lux4-sept'!$A$43=Display!$B$13),Display!$D5,)","v":0},{"$f":"IF(AND(AB$8=Display!$T$10,'Lux4-sept'!$A$8=Display!$B$7,'Lux4-sept'!$A$9=Display!$B$9,'Lux4-sept'!$A$10=Display!$B$11,'Lux4-sept'!$A$43=Display!$B$13),Display!$D5,)","v":0},{"$f":"IF(AND(AC$8=Display!$T$10,'Lux4-sept'!$A$8=Display!$B$7,'Lux4-sept'!$A$9=Display!$B$9,'Lux4-sept'!$A$10=Display!$B$11,'Lux4-sept'!$A$43=Display!$B$13),Display!$D5,)","v":0},{"$f":"IF(AND(AD$8=Display!$T$10,'Lux4-sept'!$A$8=Display!$B$7,'Lux4-sept'!$A$9=Display!$B$9,'Lux4-sept'!$A$10=Display!$B$11,'Lux4-sept'!$A$43=Display!$B$13),Display!$D5,)","v":0},{"$f":"IF(AND(AE$8=Display!$T$10,'Lux4-sept'!$A$8=Display!$B$7,'Lux4-sept'!$A$9=Display!$B$9,'Lux4-sept'!$A$10=Display!$B$11,'Lux4-sept'!$A$43=Display!$B$13),Display!$D5,)","v":0},{"$f":"IF(AND(AF$8=Display!$T$10,'Lux4-sept'!$A$8=Display!$B$7,'Lux4-sept'!$A$9=Display!$B$9,'Lux4-sept'!$A$10=Display!$B$11,'Lux4-sept'!$A$43=Display!$B$13),Display!$D5,)","v":0},{"$f":"IF(AND(AG$8=Display!$T$10,'Lux4-sept'!$A$43=Display!$B$7,'Lux4-sept'!$A$9=Display!$B$9,'Lux4-sept'!$A$10=Display!$B$11,'Lux4-sept'!$A$11=Display!$B$13),Display!$D5,)","v":0},{"$f":"IF(AND(AH$8=Display!$T$10,'Lux4-sept'!$A$43=Display!$B$7,'Lux4-sept'!$A$9=Display!$B$9,'Lux4-sept'!$A$10=Display!$B$11,'Lux4-sept'!$A$11=Display!$B$13),Display!$D5,)","v":0},{"$f":"((IF((SUM(B45:AF45))<>0,(SUM(B45:AF45)),0))/(IF((SUM((IF(B45<>0,3,0)),(IF(C45<>0,3,0)),(IF(D45<>0,3,0)),(IF(E45<>0,3,0)),(IF(F45<>0,3,0)),(IF(F45<>0,3,0)),(IF(F45<>0,3,0)),(IF(G45<>0,3,0)),(IF(H45<>0,3,0)),(IF(I45<>0,3,0)),(IF(J45<>0,3,0)),(IF(K45<>0,3,0)),(IF(L45<>0,3,0)),(IF(M45<>0,3,0)),(IF(N45<>0,3,0)),(IF(O45<>0,3,0)),(IF(P45<>0,3,0)),(IF(Q45<>0,3,0)),(IF(R45<>0,3,0)),(IF(S45<>0,3,0)),(IF(T45<>0,3,0)),(IF(U45<>0,3,0)),(IF(V45<>0,3,0)),(IF(W45<>0,3,0)),(IF(X45<>0,3,0)),(IF(Y45<>0,3,0)),(IF(Z45<>0,3,0)),(IF(AA45<>0,3,0)),(IF(AB45<>0,3,0)),(IF(AC45<>0,3,0)),(IF(AD45<>0,3,0)),(IF(AE45<>0,3,0)),(IF(AF45<>0,3,0))))<>0,((SUM((IF(B45<>0,3,0)),(IF(C45<>0,3,0)),(IF(D45<>0,3,0)),(IF(E45<>0,3,0)),(IF(F45<>0,3,0)),(IF(F45<>0,3,0)),(IF(F45<>0,3,0)),(IF(G45<>0,3,0)),(IF(H45<>0,3,0)),(IF(I45<>0,3,0)),(IF(J45<>0,3,0)),(IF(K45<>0,3,0)),(IF(L45<>0,3,0)),(IF(M45<>0,3,0)),(IF(N45<>0,3,0)),(IF(O45<>0,3,0)),(IF(P45<>0,3,0)),(IF(Q45<>0,3,0)),(IF(R45<>0,3,0)),(IF(S45<>0,3,0)),(IF(T45<>0,3,0)),(IF(U45<>0,3,0)),(IF(V45<>0,3,0)),(IF(W45<>0,3,0)),(IF(X45<>0,3,0)),(IF(Y45<>0,3,0)),(IF(Z45<>0,3,0)),(IF(AA45<>0,3,0)),(IF(AB45<>0,3,0)),(IF(AC45<>0,3,0)),(IF(AD45<>0,3,0)),(IF(AE45<>0,3,0)),(IF(AF45<>0,3,0))))),1)))","v":0}]
["Chaises rangées",{"$f":"IF(AND(B$8=Display!$T$10,'Lux4-sept'!$A$8=Display!$B$7,'Lux4-sept'!$A$9=Display!$B$9,'Lux4-sept'!$A$10=Display!$B$11,'Lux4-sept'!$A$43=Display!$B$13),Display!$D6,)","v":0},{"$f":"IF(AND(C$8=Display!$T$10,'Lux4-sept'!$A$8=Display!$B$7,'Lux4-sept'!$A$9=Display!$B$9,'Lux4-sept'!$A$10=Display!$B$11,'Lux4-sept'!$A$43=Display!$B$13),Display!$D6,)","v":0},{"$f":"IF(AND(D$8=Display!$T$10,'Lux4-sept'!$A$8=Display!$B$7,'Lux4-sept'!$A$9=Display!$B$9,'Lux4-sept'!$A$10=Display!$B$11,'Lux4-sept'!$A$43=Display!$B$13),Display!$D6,)","v":0},{"$f":"IF(AND(E$8=Display!$T$10,'Lux4-sept'!$A$8=Display!$B$7,'Lux4-sept'!$A$9=Display!$B$9,'Lux4-sept'!$A$10=Display!$B$11,'Lux4-sept'!$A$43=Display!$B$13),Display!$D6,)","v":0},{"$f":"IF(AND(F$8=Display!$T$10,'Lux4-sept'!$A$8=Display!$B$7,'Lux4-sept'!$A$9=Display!$B$9,'Lux4-sept'!$A$10=Display!$B$11,'Lux4-sept'!$A$43=Display!$B$13),Display!$D6,)","v":0},{"$f":"IF(AND(G$8=Display!$T$10,'Lux4-sept'!$A$8=Display!$B$7,'Lux4-sept'!$A$9=Display!$B$9,'Lux4-sept'!$A$10=Display!$B$11,'Lux4-sept'!$A$43=Display!$B$13),Display!$D6,)","v":0},{"$f":"IF(AND(H$8=Display!$T$10,'Lux4-sept'!$A$8=Display!$B$7,'Lux4-sept'!$A$9=Display!$B$9,'Lux4-sept'!$A$10=Display!$B$11,'Lux4-sept'!$A$43=Display!$B$13),Display!$D6,)","v":0},{"$f":"IF(AND(I$8=Display!$T$10,'Lux4-sept'!$A$8=Display!$B$7,'Lux4-sept'!$A$9=Display!$B$9,'Lux4-sept'!$A$10=Display!$B$11,'Lux4-sept'!$A$43=Display!$B$13),Display!$D6,)","v":0},{"$f":"IF(AND(J$8=Display!$T$10,'Lux4-sept'!$A$8=Display!$B$7,'Lux4-sept'!$A$9=Display!$B$9,'Lux4-sept'!$A$10=Display!$B$11,'Lux4-sept'!$A$43=Display!$B$13),Display!$D6,)","v":0},{"$f":"IF(AND(K$8=Display!$T$10,'Lux4-sept'!$A$8=Display!$B$7,'Lux4-sept'!$A$9=Display!$B$9,'Lux4-sept'!$A$10=Display!$B$11,'Lux4-sept'!$A$43=Display!$B$13),Display!$D6,)","v":0},{"$f":"IF(AND(L$8=Display!$T$10,'Lux4-sept'!$A$8=Display!$B$7,'Lux4-sept'!$A$9=Display!$B$9,'Lux4-sept'!$A$10=Display!$B$11,'Lux4-sept'!$A$43=Display!$B$13),Display!$D6,)","v":0},{"$f":"IF(AND(M$8=Display!$T$10,'Lux4-sept'!$A$8=Display!$B$7,'Lux4-sept'!$A$9=Display!$B$9,'Lux4-sept'!$A$10=Display!$B$11,'Lux4-sept'!$A$43=Display!$B$13),Display!$D6,)","v":0},{"$f":"IF(AND(N$8=Display!$T$10,'Lux4-sept'!$A$8=Display!$B$7,'Lux4-sept'!$A$9=Display!$B$9,'Lux4-sept'!$A$10=Display!$B$11,'Lux4-sept'!$A$43=Display!$B$13),Display!$D6,)","v":0},{"$f":"IF(AND(O$8=Display!$T$10,'Lux4-sept'!$A$8=Display!$B$7,'Lux4-sept'!$A$9=Display!$B$9,'Lux4-sept'!$A$10=Display!$B$11,'Lux4-sept'!$A$43=Display!$B$13),Display!$D6,)","v":0},{"$f":"IF(AND(P$8=Display!$T$10,'Lux4-sept'!$A$8=Display!$B$7,'Lux4-sept'!$A$9=Display!$B$9,'Lux4-sept'!$A$10=Display!$B$11,'Lux4-sept'!$A$43=Display!$B$13),Display!$D6,)","v":0},{"$f":"IF(AND(Q$8=Display!$T$10,'Lux4-sept'!$A$8=Display!$B$7,'Lux4-sept'!$A$9=Display!$B$9,'Lux4-sept'!$A$10=Display!$B$11,'Lux4-sept'!$A$43=Display!$B$13),Display!$D6,)","v":0},{"$f":"IF(AND(R$8=Display!$T$10,'Lux4-sept'!$A$8=Display!$B$7,'Lux4-sept'!$A$9=Display!$B$9,'Lux4-sept'!$A$10=Display!$B$11,'Lux4-sept'!$A$43=Display!$B$13),Display!$D6,)","v":0},{"$f":"IF(AND(S$8=Display!$T$10,'Lux4-sept'!$A$8=Display!$B$7,'Lux4-sept'!$A$9=Display!$B$9,'Lux4-sept'!$A$10=Display!$B$11,'Lux4-sept'!$A$43=Display!$B$13),Display!$D6,)","v":0},{"$f":"IF(AND(T$8=Display!$T$10,'Lux4-sept'!$A$8=Display!$B$7,'Lux4-sept'!$A$9=Display!$B$9,'Lux4-sept'!$A$10=Display!$B$11,'Lux4-sept'!$A$43=Display!$B$13),Display!$D6,)","v":0},{"$f":"IF(AND(U$8=Display!$T$10,'Lux4-sept'!$A$8=Display!$B$7,'Lux4-sept'!$A$9=Display!$B$9,'Lux4-sept'!$A$10=Display!$B$11,'Lux4-sept'!$A$43=Display!$B$13),Display!$D6,)","v":0},{"$f":"IF(AND(V$8=Display!$T$10,'Lux4-sept'!$A$8=Display!$B$7,'Lux4-sept'!$A$9=Display!$B$9,'Lux4-sept'!$A$10=Display!$B$11,'Lux4-sept'!$A$43=Display!$B$13),Display!$D6,)","v":0},{"$f":"IF(AND(W$8=Display!$T$10,'Lux4-sept'!$A$8=Display!$B$7,'Lux4-sept'!$A$9=Display!$B$9,'Lux4-sept'!$A$10=Display!$B$11,'Lux4-sept'!$A$43=Display!$B$13),Display!$D6,)","v":0},{"$f":"IF(AND(X$8=Display!$T$10,'Lux4-sept'!$A$8=Display!$B$7,'Lux4-sept'!$A$9=Display!$B$9,'Lux4-sept'!$A$10=Display!$B$11,'Lux4-sept'!$A$43=Display!$B$13),Display!$D6,)","v":0},{"$f":"IF(AND(Y$8=Display!$T$10,'Lux4-sept'!$A$8=Display!$B$7,'Lux4-sept'!$A$9=Display!$B$9,'Lux4-sept'!$A$10=Display!$B$11,'Lux4-sept'!$A$43=Display!$B$13),Display!$D6,)","v":0},{"$f":"IF(AND(Z$8=Display!$T$10,'Lux4-sept'!$A$8=Display!$B$7,'Lux4-sept'!$A$9=Display!$B$9,'Lux4-sept'!$A$10=Display!$B$11,'Lux4-sept'!$A$43=Display!$B$13),Display!$D6,)","v":0},{"$f":"IF(AND(AA$8=Display!$T$10,'Lux4-sept'!$A$8=Display!$B$7,'Lux4-sept'!$A$9=Display!$B$9,'Lux4-sept'!$A$10=Display!$B$11,'Lux4-sept'!$A$43=Display!$B$13),Display!$D6,)","v":0},{"$f":"IF(AND(AB$8=Display!$T$10,'Lux4-sept'!$A$8=Display!$B$7,'Lux4-sept'!$A$9=Display!$B$9,'Lux4-sept'!$A$10=Display!$B$11,'Lux4-sept'!$A$43=Display!$B$13),Display!$D6,)","v":0},{"$f":"IF(AND(AC$8=Display!$T$10,'Lux4-sept'!$A$8=Display!$B$7,'Lux4-sept'!$A$9=Display!$B$9,'Lux4-sept'!$A$10=Display!$B$11,'Lux4-sept'!$A$43=Display!$B$13),Display!$D6,)","v":0},{"$f":"IF(AND(AD$8=Display!$T$10,'Lux4-sept'!$A$8=Display!$B$7,'Lux4-sept'!$A$9=Display!$B$9,'Lux4-sept'!$A$10=Display!$B$11,'Lux4-sept'!$A$43=Display!$B$13),Display!$D6,)","v":0},{"$f":"IF(AND(AE$8=Display!$T$10,'Lux4-sept'!$A$8=Display!$B$7,'Lux4-sept'!$A$9=Display!$B$9,'Lux4-sept'!$A$10=Display!$B$11,'Lux4-sept'!$A$43=Display!$B$13),Display!$D6,)","v":0},{"$f":"IF(AND(AF$8=Display!$T$10,'Lux4-sept'!$A$8=Display!$B$7,'Lux4-sept'!$A$9=Display!$B$9,'Lux4-sept'!$A$10=Display!$B$11,'Lux4-sept'!$A$43=Display!$B$13),Display!$D6,)","v":0},{"$f":"IF(AND(AG$8=Display!$T$10,'Lux4-sept'!$A$43=Display!$B$7,'Lux4-sept'!$A$9=Display!$B$9,'Lux4-sept'!$A$10=Display!$B$11,'Lux4-sept'!$A$11=Display!$B$13),Display!$D6,)","v":0},{"$f":"IF(AND(AH$8=Display!$T$10,'Lux4-sept'!$A$43=Display!$B$7,'Lux4-sept'!$A$9=Display!$B$9,'Lux4-sept'!$A$10=Display!$B$11,'Lux4-sept'!$A$11=Display!$B$13),Display!$D6,)","v":0},0]
["Poubelles vidées",{"$f":"IF(AND(B$8=Display!$T$10,'Lux4-sept'!$A$8=Display!$B$7,'Lux4-sept'!$A$9=Display!$B$9,'Lux4-sept'!$A$10=Display!$B$11,'Lux4-sept'!$A$43=Display!$B$13),Display!$D7,)","v":0},{"$f":"IF(AND(C$8=Display!$T$10,'Lux4-sept'!$A$8=Display!$B$7,'Lux4-sept'!$A$9=Display!$B$9,'Lux4-sept'!$A$10=Display!$B$11,'Lux4-sept'!$A$43=Display!$B$13),Display!$D7,)","v":0},{"$f":"IF(AND(D$8=Display!$T$10,'Lux4-sept'!$A$8=Display!$B$7,'Lux4-sept'!$A$9=Display!$B$9,'Lux4-sept'!$A$10=Display!$B$11,'Lux4-sept'!$A$43=Display!$B$13),Display!$D7,)","v":0},{"$f":"IF(AND(E$8=Display!$T$10,'Lux4-sept'!$A$8=Display!$B$7,'Lux4-sept'!$A$9=Display!$B$9,'Lux4-sept'!$A$10=Display!$B$11,'Lux4-sept'!$A$43=Display!$B$13),Display!$D7,)","v":0},{"$f":"IF(AND(F$8=Display!$T$10,'Lux4-sept'!$A$8=Display!$B$7,'Lux4-sept'!$A$9=Display!$B$9,'Lux4-sept'!$A$10=Display!$B$11,'Lux4-sept'!$A$43=Display!$B$13),Display!$D7,)","v":0},{"$f":"IF(AND(G$8=Display!$T$10,'Lux4-sept'!$A$8=Display!$B$7,'Lux4-sept'!$A$9=Display!$B$9,'Lux4-sept'!$A$10=Display!$B$11,'Lux4-sept'!$A$43=Display!$B$13),Display!$D7,)","v":0},{"$f":"IF(AND(H$8=Display!$T$10,'Lux4-sept'!$A$8=Display!$B$7,'Lux4-sept'!$A$9=Display!$B$9,'Lux4-sept'!$A$10=Display!$B$11,'Lux4-sept'!$A$43=Display!$B$13),Display!$D7,)","v":0},{"$f":"IF(AND(I$8=Display!$T$10,'Lux4-sept'!$A$8=Display!$B$7,'Lux4-sept'!$A$9=Display!$B$9,'Lux4-sept'!$A$10=Display!$B$11,'Lux4-sept'!$A$43=Display!$B$13),Display!$D7,)","v":0},{"$f":"IF(AND(J$8=Display!$T$10,'Lux4-sept'!$A$8=Display!$B$7,'Lux4-sept'!$A$9=Display!$B$9,'Lux4-sept'!$A$10=Display!$B$11,'Lux4-sept'!$A$43=Display!$B$13),Display!$D7,)","v":0},{"$f":"IF(AND(K$8=Display!$T$10,'Lux4-sept'!$A$8=Display!$B$7,'Lux4-sept'!$A$9=Display!$B$9,'Lux4-sept'!$A$10=Display!$B$11,'Lux4-sept'!$A$43=Display!$B$13),Display!$D7,)","v":0},{"$f":"IF(AND(L$8=Display!$T$10,'Lux4-sept'!$A$8=Display!$B$7,'Lux4-sept'!$A$9=Display!$B$9,'Lux4-sept'!$A$10=Display!$B$11,'Lux4-sept'!$A$43=Display!$B$13),Display!$D7,)","v":0},{"$f":"IF(AND(M$8=Display!$T$10,'Lux4-sept'!$A$8=Display!$B$7,'Lux4-sept'!$A$9=Display!$B$9,'Lux4-sept'!$A$10=Display!$B$11,'Lux4-sept'!$A$43=Display!$B$13),Display!$D7,)","v":0},{"$f":"IF(AND(N$8=Display!$T$10,'Lux4-sept'!$A$8=Display!$B$7,'Lux4-sept'!$A$9=Display!$B$9,'Lux4-sept'!$A$10=Display!$B$11,'Lux4-sept'!$A$43=Display!$B$13),Display!$D7,)","v":0},{"$f":"IF(AND(O$8=Display!$T$10,'Lux4-sept'!$A$8=Display!$B$7,'Lux4-sept'!$A$9=Display!$B$9,'Lux4-sept'!$A$10=Display!$B$11,'Lux4-sept'!$A$43=Display!$B$13),Display!$D7,)","v":0},{"$f":"IF(AND(P$8=Display!$T$10,'Lux4-sept'!$A$8=Display!$B$7,'Lux4-sept'!$A$9=Display!$B$9,'Lux4-sept'!$A$10=Display!$B$11,'Lux4-sept'!$A$43=Display!$B$13),Display!$D7,)","v":0},{"$f":"IF(AND(Q$8=Display!$T$10,'Lux4-sept'!$A$8=Display!$B$7,'Lux4-sept'!$A$9=Display!$B$9,'Lux4-sept'!$A$10=Display!$B$11,'Lux4-sept'!$A$43=Display!$B$13),Display!$D7,)","v":0},{"$f":"IF(AND(R$8=Display!$T$10,'Lux4-sept'!$A$8=Display!$B$7,'Lux4-sept'!$A$9=Display!$B$9,'Lux4-sept'!$A$10=Display!$B$11,'Lux4-sept'!$A$43=Display!$B$13),Display!$D7,)","v":0},{"$f":"IF(AND(S$8=Display!$T$10,'Lux4-sept'!$A$8=Display!$B$7,'Lux4-sept'!$A$9=Display!$B$9,'Lux4-sept'!$A$10=Display!$B$11,'Lux4-sept'!$A$43=Display!$B$13),Display!$D7,)","v":0},{"$f":"IF(AND(T$8=Display!$T$10,'Lux4-sept'!$A$8=Display!$B$7,'Lux4-sept'!$A$9=Display!$B$9,'Lux4-sept'!$A$10=Display!$B$11,'Lux4-sept'!$A$43=Display!$B$13),Display!$D7,)","v":0},{"$f":"IF(AND(U$8=Display!$T$10,'Lux4-sept'!$A$8=Display!$B$7,'Lux4-sept'!$A$9=Display!$B$9,'Lux4-sept'!$A$10=Display!$B$11,'Lux4-sept'!$A$43=Display!$B$13),Display!$D7,)","v":0},{"$f":"IF(AND(V$8=Display!$T$10,'Lux4-sept'!$A$8=Display!$B$7,'Lux4-sept'!$A$9=Display!$B$9,'Lux4-sept'!$A$10=Display!$B$11,'Lux4-sept'!$A$43=Display!$B$13),Display!$D7,)","v":0},{"$f":"IF(AND(W$8=Display!$T$10,'Lux4-sept'!$A$8=Display!$B$7,'Lux4-sept'!$A$9=Display!$B$9,'Lux4-sept'!$A$10=Display!$B$11,'Lux4-sept'!$A$43=Display!$B$13),Display!$D7,)","v":0},{"$f":"IF(AND(X$8=Display!$T$10,'Lux4-sept'!$A$8=Display!$B$7,'Lux4-sept'!$A$9=Display!$B$9,'Lux4-sept'!$A$10=Display!$B$11,'Lux4-sept'!$A$43=Display!$B$13),Display!$D7,)","v":0},{"$f":"IF(AND(Y$8=Display!$T$10,'Lux4-sept'!$A$8=Display!$B$7,'Lux4-sept'!$A$9=Display!$B$9,'Lux4-sept'!$A$10=Display!$B$11,'Lux4-sept'!$A$43=Display!$B$13),Display!$D7,)","v":0},{"$f":"IF(AND(Z$8=Display!$T$10,'Lux4-sept'!$A$8=Display!$B$7,'Lux4-sept'!$A$9=Display!$B$9,'Lux4-sept'!$A$10=Display!$B$11,'Lux4-sept'!$A$43=Display!$B$13),Display!$D7,)","v":0},{"$f":"IF(AND(AA$8=Display!$T$10,'Lux4-sept'!$A$8=Display!$B$7,'Lux4-sept'!$A$9=Display!$B$9,'Lux4-sept'!$A$10=Display!$B$11,'Lux4-sept'!$A$43=Display!$B$13),Display!$D7,)","v":0},{"$f":"IF(AND(AB$8=Display!$T$10,'Lux4-sept'!$A$8=Display!$B$7,'Lux4-sept'!$A$9=Display!$B$9,'Lux4-sept'!$A$10=Display!$B$11,'Lux4-sept'!$A$43=Display!$B$13),Display!$D7,)","v":0},{"$f":"IF(AND(AC$8=Display!$T$10,'Lux4-sept'!$A$8=Display!$B$7,'Lux4-sept'!$A$9=Display!$B$9,'Lux4-sept'!$A$10=Display!$B$11,'Lux4-sept'!$A$43=Display!$B$13),Display!$D7,)","v":0},{"$f":"IF(AND(AD$8=Display!$T$10,'Lux4-sept'!$A$8=Display!$B$7,'Lux4-sept'!$A$9=Display!$B$9,'Lux4-sept'!$A$10=Display!$B$11,'Lux4-sept'!$A$43=Display!$B$13),Display!$D7,)","v":0},{"$f":"IF(AND(AE$8=Display!$T$10,'Lux4-sept'!$A$8=Display!$B$7,'Lux4-sept'!$A$9=Display!$B$9,'Lux4-sept'!$A$10=Display!$B$11,'Lux4-sept'!$A$43=Display!$B$13),Display!$D7,)","v":0},{"$f":"IF(AND(AF$8=Display!$T$10,'Lux4-sept'!$A$8=Display!$B$7,'Lux4-sept'!$A$9=Display!$B$9,'Lux4-sept'!$A$10=Display!$B$11,'Lux4-sept'!$A$43=Display!$B$13),Display!$D7,)","v":0},{"$f":"IF(AND(AG$8=Display!$T$10,'Lux4-sept'!$A$43=Display!$B$7,'Lux4-sept'!$A$9=Display!$B$9,'Lux4-sept'!$A$10=Display!$B$11,'Lux4-sept'!$A$11=Display!$B$13),Display!$D7,)","v":0},{"$f":"IF(AND(AH$8=Display!$T$10,'Lux4-sept'!$A$43=Display!$B$7,'Lux4-sept'!$A$9=Display!$B$9,'Lux4-sept'!$A$10=Display!$B$11,'Lux4-sept'!$A$11=Display!$B$13),Display!$D7,)","v":0},0]
["Tables nettoyées",{"$f":"IF(AND(B$8=Display!$T$10,'Lux4-sept'!$A$8=Display!$B$7,'Lux4-sept'!$A$9=Display!$B$9,'Lux4-sept'!$A$10=Display!$B$11,'Lux4-sept'!$A$43=Display!$B$13),Display!$D8,)","v":0},{"$f":"IF(AND(C$8=Display!$T$10,'Lux4-sept'!$A$8=Display!$B$7,'Lux4-sept'!$A$9=Display!$B$9,'Lux4-sept'!$A$10=Display!$B$11,'Lux4-sept'!$A$43=Display!$B$13),Display!$D8,)","v":0},{"$f":"IF(AND(D$8=Display!$T$10,'Lux4-sept'!$A$8=Display!$B$7,'Lux4-sept'!$A$9=Display!$B$9,'Lux4-sept'!$A$10=Display!$B$11,'Lux4-sept'!$A$43=Display!$B$13),Display!$D8,)","v":0},{"$f":"IF(AND(E$8=Display!$T$10,'Lux4-sept'!$A$8=Display!$B$7,'Lux4-sept'!$A$9=Display!$B$9,'Lux4-sept'!$A$10=Display!$B$11,'Lux4-sept'!$A$43=Display!$B$13),Display!$D8,)","v":0},{"$f":"IF(AND(F$8=Display!$T$10,'Lux4-sept'!$A$8=Display!$B$7,'Lux4-sept'!$A$9=Display!$B$9,'Lux4-sept'!$A$10=Display!$B$11,'Lux4-sept'!$A$43=Display!$B$13),Display!$D8,)","v":0},{"$f":"IF(AND(G$8=Display!$T$10,'Lux4-sept'!$A$8=Display!$B$7,'Lux4-sept'!$A$9=Display!$B$9,'Lux4-sept'!$A$10=Display!$B$11,'Lux4-sept'!$A$43=Display!$B$13),Display!$D8,)","v":0},{"$f":"IF(AND(H$8=Display!$T$10,'Lux4-sept'!$A$8=Display!$B$7,'Lux4-sept'!$A$9=Display!$B$9,'Lux4-sept'!$A$10=Display!$B$11,'Lux4-sept'!$A$43=Display!$B$13),Display!$D8,)","v":0},{"$f":"IF(AND(I$8=Display!$T$10,'Lux4-sept'!$A$8=Display!$B$7,'Lux4-sept'!$A$9=Display!$B$9,'Lux4-sept'!$A$10=Display!$B$11,'Lux4-sept'!$A$43=Display!$B$13),Display!$D8,)","v":0},{"$f":"IF(AND(J$8=Display!$T$10,'Lux4-sept'!$A$8=Display!$B$7,'Lux4-sept'!$A$9=Display!$B$9,'Lux4-sept'!$A$10=Display!$B$11,'Lux4-sept'!$A$43=Display!$B$13),Display!$D8,)","v":0},{"$f":"IF(AND(K$8=Display!$T$10,'Lux4-sept'!$A$8=Display!$B$7,'Lux4-sept'!$A$9=Display!$B$9,'Lux4-sept'!$A$10=Display!$B$11,'Lux4-sept'!$A$43=Display!$B$13),Display!$D8,)","v":0},{"$f":"IF(AND(L$8=Display!$T$10,'Lux4-sept'!$A$8=Display!$B$7,'Lux4-sept'!$A$9=Display!$B$9,'Lux4-sept'!$A$10=Display!$B$11,'Lux4-sept'!$A$43=Display!$B$13),Display!$D8,)","v":0},{"$f":"IF(AND(M$8=Display!$T$10,'Lux4-sept'!$A$8=Display!$B$7,'Lux4-sept'!$A$9=Display!$B$9,'Lux4-sept'!$A$10=Display!$B$11,'Lux4-sept'!$A$43=Display!$B$13),Display!$D8,)","v":0},{"$f":"IF(AND(N$8=Display!$T$10,'Lux4-sept'!$A$8=Display!$B$7,'Lux4-sept'!$A$9=Display!$B$9,'Lux4-sept'!$A$10=Display!$B$11,'Lux4-sept'!$A$43=Display!$B$13),Display!$D8,)","v":0},{"$f":"IF(AND(O$8=Display!$T$10,'Lux4-sept'!$A$8=Display!$B$7,'Lux4-sept'!$A$9=Display!$B$9,'Lux4-sept'!$A$10=Display!$B$11,'Lux4-sept'!$A$43=Display!$B$13),Display!$D8,)","v":0},{"$f":"IF(AND(P$8=Display!$T$10,'Lux4-sept'!$A$8=Display!$B$7,'Lux4-sept'!$A$9=Display!$B$9,'Lux4-sept'!$A$10=Display!$B$11,'Lux4-sept'!$A$43=Display!$B$13),Display!$D8,)","v":0},{"$f":"IF(AND(Q$8=Display!$T$10,'Lux4-sept'!$A$8=Display!$B$7,'Lux4-sept'!$A$9=Display!$B$9,'Lux4-sept'!$A$10=Display!$B$11,'Lux4-sept'!$A$43=Display!$B$13),Display!$D8,)","v":0},{"$f":"IF(AND(R$8=Display!$T$10,'Lux4-sept'!$A$8=Display!$B$7,'Lux4-sept'!$A$9=Display!$B$9,'Lux4-sept'!$A$10=Display!$B$11,'Lux4-sept'!$A$43=Display!$B$13),Display!$D8,)","v":0},{"$f":"IF(AND(S$8=Display!$T$10,'Lux4-sept'!$A$8=Display!$B$7,'Lux4-sept'!$A$9=Display!$B$9,'Lux4-sept'!$A$10=Display!$B$11,'Lux4-sept'!$A$43=Display!$B$13),Display!$D8,)","v":0},{"$f":"IF(AND(T$8=Display!$T$10,'Lux4-sept'!$A$8=Display!$B$7,'Lux4-sept'!$A$9=Display!$B$9,'Lux4-sept'!$A$10=Display!$B$11,'Lux4-sept'!$A$43=Display!$B$13),Display!$D8,)","v":0},{"$f":"IF(AND(U$8=Display!$T$10,'Lux4-sept'!$A$8=Display!$B$7,'Lux4-sept'!$A$9=Display!$B$9,'Lux4-sept'!$A$10=Display!$B$11,'Lux4-sept'!$A$43=Display!$B$13),Display!$D8,)","v":0},{"$f":"IF(AND(V$8=Display!$T$10,'Lux4-sept'!$A$8=Display!$B$7,'Lux4-sept'!$A$9=Display!$B$9,'Lux4-sept'!$A$10=Display!$B$11,'Lux4-sept'!$A$43=Display!$B$13),Display!$D8,)","v":0},{"$f":"IF(AND(W$8=Display!$T$10,'Lux4-sept'!$A$8=Display!$B$7,'Lux4-sept'!$A$9=Display!$B$9,'Lux4-sept'!$A$10=Display!$B$11,'Lux4-sept'!$A$43=Display!$B$13),Display!$D8,)","v":0},{"$f":"IF(AND(X$8=Display!$T$10,'Lux4-sept'!$A$8=Display!$B$7,'Lux4-sept'!$A$9=Display!$B$9,'Lux4-sept'!$A$10=Display!$B$11,'Lux4-sept'!$A$43=Display!$B$13),Display!$D8,)","v":0},{"$f":"IF(AND(Y$8=Display!$T$10,'Lux4-sept'!$A$8=Display!$B$7,'Lux4-sept'!$A$9=Display!$B$9,'Lux4-sept'!$A$10=Display!$B$11,'Lux4-sept'!$A$43=Display!$B$13),Display!$D8,)","v":0},{"$f":"IF(AND(Z$8=Display!$T$10,'Lux4-sept'!$A$8=Display!$B$7,'Lux4-sept'!$A$9=Display!$B$9,'Lux4-sept'!$A$10=Display!$B$11,'Lux4-sept'!$A$43=Display!$B$13),Display!$D8,)","v":0},{"$f":"IF(AND(AA$8=Display!$T$10,'Lux4-sept'!$A$8=Display!$B$7,'Lux4-sept'!$A$9=Display!$B$9,'Lux4-sept'!$A$10=Display!$B$11,'Lux4-sept'!$A$43=Display!$B$13),Display!$D8,)","v":0},{"$f":"IF(AND(AB$8=Display!$T$10,'Lux4-sept'!$A$8=Display!$B$7,'Lux4-sept'!$A$9=Display!$B$9,'Lux4-sept'!$A$10=Display!$B$11,'Lux4-sept'!$A$43=Display!$B$13),Display!$D8,)","v":0},{"$f":"IF(AND(AC$8=Display!$T$10,'Lux4-sept'!$A$8=Display!$B$7,'Lux4-sept'!$A$9=Display!$B$9,'Lux4-sept'!$A$10=Display!$B$11,'Lux4-sept'!$A$43=Display!$B$13),Display!$D8,)","v":0},{"$f":"IF(AND(AD$8=Display!$T$10,'Lux4-sept'!$A$8=Display!$B$7,'Lux4-sept'!$A$9=Display!$B$9,'Lux4-sept'!$A$10=Display!$B$11,'Lux4-sept'!$A$43=Display!$B$13),Display!$D8,)","v":0},{"$f":"IF(AND(AE$8=Display!$T$10,'Lux4-sept'!$A$8=Display!$B$7,'Lux4-sept'!$A$9=Display!$B$9,'Lux4-sept'!$A$10=Display!$B$11,'Lux4-sept'!$A$43=Display!$B$13),Display!$D8,)","v":0},{"$f":"IF(AND(AF$8=Display!$T$10,'Lux4-sept'!$A$8=Display!$B$7,'Lux4-sept'!$A$9=Display!$B$9,'Lux4-sept'!$A$10=Display!$B$11,'Lux4-sept'!$A$43=Display!$B$13),Display!$D8,)","v":0},{"$f":"IF(AND(AG$8=Display!$T$10,'Lux4-sept'!$A$43=Display!$B$7,'Lux4-sept'!$A$9=Display!$B$9,'Lux4-sept'!$A$10=Display!$B$11,'Lux4-sept'!$A$11=Display!$B$13),Display!$D8,)","v":0},{"$f":"IF(AND(AH$8=Display!$T$10,'Lux4-sept'!$A$43=Display!$B$7,'Lux4-sept'!$A$9=Display!$B$9,'Lux4-sept'!$A$10=Display!$B$11,'Lux4-sept'!$A$11=Display!$B$13),Display!$D8,)","v":0},0]
["Tableaux effacés",{"$f":"IF(AND(B$8=Display!$T$10,'Lux4-sept'!$A$8=Display!$B$7,'Lux4-sept'!$A$9=Display!$B$9,'Lux4-sept'!$A$10=Display!$B$11,'Lux4-sept'!$A$43=Display!$B$13),Display!$D9,)","v":0},{"$f":"IF(AND(C$8=Display!$T$10,'Lux4-sept'!$A$8=Display!$B$7,'Lux4-sept'!$A$9=Display!$B$9,'Lux4-sept'!$A$10=Display!$B$11,'Lux4-sept'!$A$43=Display!$B$13),Display!$D9,)","v":0},{"$f":"IF(AND(D$8=Display!$T$10,'Lux4-sept'!$A$8=Display!$B$7,'Lux4-sept'!$A$9=Display!$B$9,'Lux4-sept'!$A$10=Display!$B$11,'Lux4-sept'!$A$43=Display!$B$13),Display!$D9,)","v":0},{"$f":"IF(AND(E$8=Display!$T$10,'Lux4-sept'!$A$8=Display!$B$7,'Lux4-sept'!$A$9=Display!$B$9,'Lux4-sept'!$A$10=Display!$B$11,'Lux4-sept'!$A$43=Display!$B$13),Display!$D9,)","v":0},{"$f":"IF(AND(F$8=Display!$T$10,'Lux4-sept'!$A$8=Display!$B$7,'Lux4-sept'!$A$9=Display!$B$9,'Lux4-sept'!$A$10=Display!$B$11,'Lux4-sept'!$A$43=Display!$B$13),Display!$D9,)","v":0},{"$f":"IF(AND(G$8=Display!$T$10,'Lux4-sept'!$A$8=Display!$B$7,'Lux4-sept'!$A$9=Display!$B$9,'Lux4-sept'!$A$10=Display!$B$11,'Lux4-sept'!$A$43=Display!$B$13),Display!$D9,)","v":0},{"$f":"IF(AND(H$8=Display!$T$10,'Lux4-sept'!$A$8=Display!$B$7,'Lux4-sept'!$A$9=Display!$B$9,'Lux4-sept'!$A$10=Display!$B$11,'Lux4-sept'!$A$43=Display!$B$13),Display!$D9,)","v":0},{"$f":"IF(AND(I$8=Display!$T$10,'Lux4-sept'!$A$8=Display!$B$7,'Lux4-sept'!$A$9=Display!$B$9,'Lux4-sept'!$A$10=Display!$B$11,'Lux4-sept'!$A$43=Display!$B$13),Display!$D9,)","v":0},{"$f":"IF(AND(J$8=Display!$T$10,'Lux4-sept'!$A$8=Display!$B$7,'Lux4-sept'!$A$9=Display!$B$9,'Lux4-sept'!$A$10=Display!$B$11,'Lux4-sept'!$A$43=Display!$B$13),Display!$D9,)","v":0},{"$f":"IF(AND(K$8=Display!$T$10,'Lux4-sept'!$A$8=Display!$B$7,'Lux4-sept'!$A$9=Display!$B$9,'Lux4-sept'!$A$10=Display!$B$11,'Lux4-sept'!$A$43=Display!$B$13),Display!$D9,)","v":0},{"$f":"IF(AND(L$8=Display!$T$10,'Lux4-sept'!$A$8=Display!$B$7,'Lux4-sept'!$A$9=Display!$B$9,'Lux4-sept'!$A$10=Display!$B$11,'Lux4-sept'!$A$43=Display!$B$13),Display!$D9,)","v":0},{"$f":"IF(AND(M$8=Display!$T$10,'Lux4-sept'!$A$8=Display!$B$7,'Lux4-sept'!$A$9=Display!$B$9,'Lux4-sept'!$A$10=Display!$B$11,'Lux4-sept'!$A$43=Display!$B$13),Display!$D9,)","v":0},{"$f":"IF(AND(N$8=Display!$T$10,'Lux4-sept'!$A$8=Display!$B$7,'Lux4-sept'!$A$9=Display!$B$9,'Lux4-sept'!$A$10=Display!$B$11,'Lux4-sept'!$A$43=Display!$B$13),Display!$D9,)","v":0},{"$f":"IF(AND(O$8=Display!$T$10,'Lux4-sept'!$A$8=Display!$B$7,'Lux4-sept'!$A$9=Display!$B$9,'Lux4-sept'!$A$10=Display!$B$11,'Lux4-sept'!$A$43=Display!$B$13),Display!$D9,)","v":0},{"$f":"IF(AND(P$8=Display!$T$10,'Lux4-sept'!$A$8=Display!$B$7,'Lux4-sept'!$A$9=Display!$B$9,'Lux4-sept'!$A$10=Display!$B$11,'Lux4-sept'!$A$43=Display!$B$13),Display!$D9,)","v":0},{"$f":"IF(AND(Q$8=Display!$T$10,'Lux4-sept'!$A$8=Display!$B$7,'Lux4-sept'!$A$9=Display!$B$9,'Lux4-sept'!$A$10=Display!$B$11,'Lux4-sept'!$A$43=Display!$B$13),Display!$D9,)","v":0},{"$f":"IF(AND(R$8=Display!$T$10,'Lux4-sept'!$A$8=Display!$B$7,'Lux4-sept'!$A$9=Display!$B$9,'Lux4-sept'!$A$10=Display!$B$11,'Lux4-sept'!$A$43=Display!$B$13),Display!$D9,)","v":0},{"$f":"IF(AND(S$8=Display!$T$10,'Lux4-sept'!$A$8=Display!$B$7,'Lux4-sept'!$A$9=Display!$B$9,'Lux4-sept'!$A$10=Display!$B$11,'Lux4-sept'!$A$43=Display!$B$13),Display!$D9,)","v":0},{"$f":"IF(AND(T$8=Display!$T$10,'Lux4-sept'!$A$8=Display!$B$7,'Lux4-sept'!$A$9=Display!$B$9,'Lux4-sept'!$A$10=Display!$B$11,'Lux4-sept'!$A$43=Display!$B$13),Display!$D9,)","v":0},{"$f":"IF(AND(U$8=Display!$T$10,'Lux4-sept'!$A$8=Display!$B$7,'Lux4-sept'!$A$9=Display!$B$9,'Lux4-sept'!$A$10=Display!$B$11,'Lux4-sept'!$A$43=Display!$B$13),Display!$D9,)","v":0},{"$f":"IF(AND(V$8=Display!$T$10,'Lux4-sept'!$A$8=Display!$B$7,'Lux4-sept'!$A$9=Display!$B$9,'Lux4-sept'!$A$10=Display!$B$11,'Lux4-sept'!$A$43=Display!$B$13),Display!$D9,)","v":0},{"$f":"IF(AND(W$8=Display!$T$10,'Lux4-sept'!$A$8=Display!$B$7,'Lux4-sept'!$A$9=Display!$B$9,'Lux4-sept'!$A$10=Display!$B$11,'Lux4-sept'!$A$43=Display!$B$13),Display!$D9,)","v":0},{"$f":"IF(AND(X$8=Display!$T$10,'Lux4-sept'!$A$8=Display!$B$7,'Lux4-sept'!$A$9=Display!$B$9,'Lux4-sept'!$A$10=Display!$B$11,'Lux4-sept'!$A$43=Display!$B$13),Display!$D9,)","v":0},{"$f":"IF(AND(Y$8=Display!$T$10,'Lux4-sept'!$A$8=Display!$B$7,'Lux4-sept'!$A$9=Display!$B$9,'Lux4-sept'!$A$10=Display!$B$11,'Lux4-sept'!$A$43=Display!$B$13),Display!$D9,)","v":0},{"$f":"IF(AND(Z$8=Display!$T$10,'Lux4-sept'!$A$8=Display!$B$7,'Lux4-sept'!$A$9=Display!$B$9,'Lux4-sept'!$A$10=Display!$B$11,'Lux4-sept'!$A$43=Display!$B$13),Display!$D9,)","v":0},{"$f":"IF(AND(AA$8=Display!$T$10,'Lux4-sept'!$A$8=Display!$B$7,'Lux4-sept'!$A$9=Display!$B$9,'Lux4-sept'!$A$10=Display!$B$11,'Lux4-sept'!$A$43=Display!$B$13),Display!$D9,)","v":0},{"$f":"IF(AND(AB$8=Display!$T$10,'Lux4-sept'!$A$8=Display!$B$7,'Lux4-sept'!$A$9=Display!$B$9,'Lux4-sept'!$A$10=Display!$B$11,'Lux4-sept'!$A$43=Display!$B$13),Display!$D9,)","v":0},{"$f":"IF(AND(AC$8=Display!$T$10,'Lux4-sept'!$A$8=Display!$B$7,'Lux4-sept'!$A$9=Display!$B$9,'Lux4-sept'!$A$10=Display!$B$11,'Lux4-sept'!$A$43=Display!$B$13),Display!$D9,)","v":0},{"$f":"IF(AND(AD$8=Display!$T$10,'Lux4-sept'!$A$8=Display!$B$7,'Lux4-sept'!$A$9=Display!$B$9,'Lux4-sept'!$A$10=Display!$B$11,'Lux4-sept'!$A$43=Display!$B$13),Display!$D9,)","v":0},{"$f":"IF(AND(AE$8=Display!$T$10,'Lux4-sept'!$A$8=Display!$B$7,'Lux4-sept'!$A$9=Display!$B$9,'Lux4-sept'!$A$10=Display!$B$11,'Lux4-sept'!$A$43=Display!$B$13),Display!$D9,)","v":0},{"$f":"IF(AND(AF$8=Display!$T$10,'Lux4-sept'!$A$8=Display!$B$7,'Lux4-sept'!$A$9=Display!$B$9,'Lux4-sept'!$A$10=Display!$B$11,'Lux4-sept'!$A$43=Display!$B$13),Display!$D9,)","v":0},{"$f":"IF(AND(AG$8=Display!$T$10,'Lux4-sept'!$A$43=Display!$B$7,'Lux4-sept'!$A$9=Display!$B$9,'Lux4-sept'!$A$10=Display!$B$11,'Lux4-sept'!$A$11=Display!$B$13),Display!$D9,)","v":0},{"$f":"IF(AND(AH$8=Display!$T$10,'Lux4-sept'!$A$43=Display!$B$7,'Lux4-sept'!$A$9=Display!$B$9,'Lux4-sept'!$A$10=Display!$B$11,'Lux4-sept'!$A$11=Display!$B$13),Display!$D9,)","v":0},0]
["MOYENNE",{"$f":"((IF((SUM(B44:B49))<>0,(SUM(B44:B49)),0))/(IF((SUM((IF(B44<>0,3,0)),(IF(B45<>0,3,0)),(IF(B46<>0,3,0)),(IF(B47<>0,3,0)),(IF(B48>0,3,0)),(IF(B49>0,3,0))))<>0,((SUM((IF(B44<>0,3,0)),(IF(B45<>0,3,0)),(IF(B46<>0,3,0)),(IF(B47<>0,3,0)),(IF(B48<>0,3,0)),(IF(B49<>0,3,0))))),1)))","v":0},{"$f":"((IF((SUM(C44:C49))<>0,(SUM(C44:C49)),0))/(IF((SUM((IF(C44<>0,3,0)),(IF(C45<>0,3,0)),(IF(C46<>0,3,0)),(IF(C47<>0,3,0)),(IF(C48>0,3,0)),(IF(C49>0,3,0))))<>0,((SUM((IF(C44<>0,3,0)),(IF(C45<>0,3,0)),(IF(C46<>0,3,0)),(IF(C47<>0,3,0)),(IF(C48<>0,3,0)),(IF(C49<>0,3,0))))),1)))","v":0},0,0,0,0,0,0,0,0,0,0,0,0,0,0,0,0,0,0,0,0,0,0,0,0,0,0,0,0,0,0,0]
["03.500"]
["salle de réunion en place (café, thé, lunch…) ",{"$f":"IF(AND(B$8=Display!$T$10,'Lux4-sept'!$A$8=Display!$B$7,'Lux4-sept'!$A$9=Display!$B$9,'Lux4-sept'!$A$10=Display!$B$11,'Lux4-sept'!$A$51=Display!$B$13),Display!$D4,)","v":0},{"$f":"IF(AND(C$8=Display!$T$10,'Lux4-sept'!$A$8=Display!$B$7,'Lux4-sept'!$A$9=Display!$B$9,'Lux4-sept'!$A$10=Display!$B$11,'Lux4-sept'!$A$51=Display!$B$13),Display!$D4,)","v":0},{"$f":"IF(AND(D$8=Display!$T$10,'Lux4-sept'!$A$8=Display!$B$7,'Lux4-sept'!$A$9=Display!$B$9,'Lux4-sept'!$A$10=Display!$B$11,'Lux4-sept'!$A$51=Display!$B$13),Display!$D4,)","v":0},{"$f":"IF(AND(E$8=Display!$T$10,'Lux4-sept'!$A$8=Display!$B$7,'Lux4-sept'!$A$9=Display!$B$9,'Lux4-sept'!$A$10=Display!$B$11,'Lux4-sept'!$A$51=Display!$B$13),Display!$D4,)","v":0},{"$f":"IF(AND(F$8=Display!$T$10,'Lux4-sept'!$A$8=Display!$B$7,'Lux4-sept'!$A$9=Display!$B$9,'Lux4-sept'!$A$10=Display!$B$11,'Lux4-sept'!$A$51=Display!$B$13),Display!$D4,)","v":0},{"$f":"IF(AND(G$8=Display!$T$10,'Lux4-sept'!$A$8=Display!$B$7,'Lux4-sept'!$A$9=Display!$B$9,'Lux4-sept'!$A$10=Display!$B$11,'Lux4-sept'!$A$51=Display!$B$13),Display!$D4,)","v":0},{"$f":"IF(AND(H$8=Display!$T$10,'Lux4-sept'!$A$8=Display!$B$7,'Lux4-sept'!$A$9=Display!$B$9,'Lux4-sept'!$A$10=Display!$B$11,'Lux4-sept'!$A$51=Display!$B$13),Display!$D4,)","v":0},{"$f":"IF(AND(I$8=Display!$T$10,'Lux4-sept'!$A$8=Display!$B$7,'Lux4-sept'!$A$9=Display!$B$9,'Lux4-sept'!$A$10=Display!$B$11,'Lux4-sept'!$A$51=Display!$B$13),Display!$D4,)","v":0},{"$f":"IF(AND(J$8=Display!$T$10,'Lux4-sept'!$A$8=Display!$B$7,'Lux4-sept'!$A$9=Display!$B$9,'Lux4-sept'!$A$10=Display!$B$11,'Lux4-sept'!$A$51=Display!$B$13),Display!$D4,)","v":0},{"$f":"IF(AND(K$8=Display!$T$10,'Lux4-sept'!$A$8=Display!$B$7,'Lux4-sept'!$A$9=Display!$B$9,'Lux4-sept'!$A$10=Display!$B$11,'Lux4-sept'!$A$51=Display!$B$13),Display!$D4,)","v":0},{"$f":"IF(AND(L$8=Display!$T$10,'Lux4-sept'!$A$8=Display!$B$7,'Lux4-sept'!$A$9=Display!$B$9,'Lux4-sept'!$A$10=Display!$B$11,'Lux4-sept'!$A$51=Display!$B$13),Display!$D4,)","v":0},{"$f":"IF(AND(M$8=Display!$T$10,'Lux4-sept'!$A$8=Display!$B$7,'Lux4-sept'!$A$9=Display!$B$9,'Lux4-sept'!$A$10=Display!$B$11,'Lux4-sept'!$A$51=Display!$B$13),Display!$D4,)","v":0},{"$f":"IF(AND(N$8=Display!$T$10,'Lux4-sept'!$A$8=Display!$B$7,'Lux4-sept'!$A$9=Display!$B$9,'Lux4-sept'!$A$10=Display!$B$11,'Lux4-sept'!$A$51=Display!$B$13),Display!$D4,)","v":0},{"$f":"IF(AND(O$8=Display!$T$10,'Lux4-sept'!$A$8=Display!$B$7,'Lux4-sept'!$A$9=Display!$B$9,'Lux4-sept'!$A$10=Display!$B$11,'Lux4-sept'!$A$51=Display!$B$13),Display!$D4,)","v":0},{"$f":"IF(AND(P$8=Display!$T$10,'Lux4-sept'!$A$8=Display!$B$7,'Lux4-sept'!$A$9=Display!$B$9,'Lux4-sept'!$A$10=Display!$B$11,'Lux4-sept'!$A$51=Display!$B$13),Display!$D4,)","v":0},{"$f":"IF(AND(Q$8=Display!$T$10,'Lux4-sept'!$A$8=Display!$B$7,'Lux4-sept'!$A$9=Display!$B$9,'Lux4-sept'!$A$10=Display!$B$11,'Lux4-sept'!$A$51=Display!$B$13),Display!$D4,)","v":0},{"$f":"IF(AND(R$8=Display!$T$10,'Lux4-sept'!$A$8=Display!$B$7,'Lux4-sept'!$A$9=Display!$B$9,'Lux4-sept'!$A$10=Display!$B$11,'Lux4-sept'!$A$51=Display!$B$13),Display!$D4,)","v":0},{"$f":"IF(AND(S$8=Display!$T$10,'Lux4-sept'!$A$8=Display!$B$7,'Lux4-sept'!$A$9=Display!$B$9,'Lux4-sept'!$A$10=Display!$B$11,'Lux4-sept'!$A$51=Display!$B$13),Display!$D4,)","v":0},{"$f":"IF(AND(T$8=Display!$T$10,'Lux4-sept'!$A$8=Display!$B$7,'Lux4-sept'!$A$9=Display!$B$9,'Lux4-sept'!$A$10=Display!$B$11,'Lux4-sept'!$A$51=Display!$B$13),Display!$D4,)","v":0},{"$f":"IF(AND(U$8=Display!$T$10,'Lux4-sept'!$A$8=Display!$B$7,'Lux4-sept'!$A$9=Display!$B$9,'Lux4-sept'!$A$10=Display!$B$11,'Lux4-sept'!$A$51=Display!$B$13),Display!$D4,)","v":0},{"$f":"IF(AND(V$8=Display!$T$10,'Lux4-sept'!$A$8=Display!$B$7,'Lux4-sept'!$A$9=Display!$B$9,'Lux4-sept'!$A$10=Display!$B$11,'Lux4-sept'!$A$51=Display!$B$13),Display!$D4,)","v":0},{"$f":"IF(AND(W$8=Display!$T$10,'Lux4-sept'!$A$8=Display!$B$7,'Lux4-sept'!$A$9=Display!$B$9,'Lux4-sept'!$A$10=Display!$B$11,'Lux4-sept'!$A$51=Display!$B$13),Display!$D4,)","v":0},{"$f":"IF(AND(X$8=Display!$T$10,'Lux4-sept'!$A$8=Display!$B$7,'Lux4-sept'!$A$9=Display!$B$9,'Lux4-sept'!$A$10=Display!$B$11,'Lux4-sept'!$A$51=Display!$B$13),Display!$D4,)","v":0},{"$f":"IF(AND(Y$8=Display!$T$10,'Lux4-sept'!$A$8=Display!$B$7,'Lux4-sept'!$A$9=Display!$B$9,'Lux4-sept'!$A$10=Display!$B$11,'Lux4-sept'!$A$51=Display!$B$13),Display!$D4,)","v":0},{"$f":"IF(AND(Z$8=Display!$T$10,'Lux4-sept'!$A$8=Display!$B$7,'Lux4-sept'!$A$9=Display!$B$9,'Lux4-sept'!$A$10=Display!$B$11,'Lux4-sept'!$A$51=Display!$B$13),Display!$D4,)","v":0},{"$f":"IF(AND(AA$8=Display!$T$10,'Lux4-sept'!$A$8=Display!$B$7,'Lux4-sept'!$A$9=Display!$B$9,'Lux4-sept'!$A$10=Display!$B$11,'Lux4-sept'!$A$51=Display!$B$13),Display!$D4,)","v":0},{"$f":"IF(AND(AB$8=Display!$T$10,'Lux4-sept'!$A$8=Display!$B$7,'Lux4-sept'!$A$9=Display!$B$9,'Lux4-sept'!$A$10=Display!$B$11,'Lux4-sept'!$A$51=Display!$B$13),Display!$D4,)","v":0},{"$f":"IF(AND(AC$8=Display!$T$10,'Lux4-sept'!$A$8=Display!$B$7,'Lux4-sept'!$A$9=Display!$B$9,'Lux4-sept'!$A$10=Display!$B$11,'Lux4-sept'!$A$51=Display!$B$13),Display!$D4,)","v":0},{"$f":"IF(AND(AD$8=Display!$T$10,'Lux4-sept'!$A$8=Display!$B$7,'Lux4-sept'!$A$9=Display!$B$9,'Lux4-sept'!$A$10=Display!$B$11,'Lux4-sept'!$A$51=Display!$B$13),Display!$D4,)","v":0},{"$f":"IF(AND(AE$8=Display!$T$10,'Lux4-sept'!$A$8=Display!$B$7,'Lux4-sept'!$A$9=Display!$B$9,'Lux4-sept'!$A$10=Display!$B$11,'Lux4-sept'!$A$51=Display!$B$13),Display!$D4,)","v":0},{"$f":"IF(AND(AF$8=Display!$T$10,'Lux4-sept'!$A$8=Display!$B$7,'Lux4-sept'!$A$9=Display!$B$9,'Lux4-sept'!$A$10=Display!$B$11,'Lux4-sept'!$A$51=Display!$B$13),Display!$D4,)","v":0},null,null,{"$f":"((IF((SUM(B52:AF52))<>0,(SUM(B52:AF52)),0))/(IF((SUM((IF(B52<>0,3,0)),(IF(C52<>0,3,0)),(IF(D52<>0,3,0)),(IF(E52<>0,3,0)),(IF(F52<>0,3,0)),(IF(F52<>0,3,0)),(IF(F52<>0,3,0)),(IF(G52<>0,3,0)),(IF(H52<>0,3,0)),(IF(I52<>0,3,0)),(IF(J52<>0,3,0)),(IF(K52<>0,3,0)),(IF(L52<>0,3,0)),(IF(M52<>0,3,0)),(IF(N52<>0,3,0)),(IF(O52<>0,3,0)),(IF(P52<>0,3,0)),(IF(Q52<>0,3,0)),(IF(R52<>0,3,0)),(IF(S52<>0,3,0)),(IF(T52<>0,3,0)),(IF(U52<>0,3,0)),(IF(V52<>0,3,0)),(IF(W52<>0,3,0)),(IF(X52<>0,3,0)),(IF(Y52<>0,3,0)),(IF(Z52<>0,3,0)),(IF(AA52<>0,3,0)),(IF(AB52<>0,3,0)),(IF(AC52<>0,3,0)),(IF(AD52<>0,3,0)),(IF(AE52<>0,3,0)),(IF(AF52<>0,3,0))))<>0,((SUM((IF(B52<>0,3,0)),(IF(C52<>0,3,0)),(IF(D52<>0,3,0)),(IF(E52<>0,3,0)),(IF(F52<>0,3,0)),(IF(F52<>0,3,0)),(IF(F52<>0,3,0)),(IF(G52<>0,3,0)),(IF(H52<>0,3,0)),(IF(I52<>0,3,0)),(IF(J52<>0,3,0)),(IF(K52<>0,3,0)),(IF(L52<>0,3,0)),(IF(M52<>0,3,0)),(IF(N52<>0,3,0)),(IF(O52<>0,3,0)),(IF(P52<>0,3,0)),(IF(Q52<>0,3,0)),(IF(R52<>0,3,0)),(IF(S52<>0,3,0)),(IF(T52<>0,3,0)),(IF(U52<>0,3,0)),(IF(V52<>0,3,0)),(IF(W52<>0,3,0)),(IF(X52<>0,3,0)),(IF(Y52<>0,3,0)),(IF(Z52<>0,3,0)),(IF(AA52<>0,3,0)),(IF(AB52<>0,3,0)),(IF(AC52<>0,3,0)),(IF(AD52<>0,3,0)),(IF(AE52<>0,3,0)),(IF(AF52<>0,3,0))))),1)))","v":0}]
["Salle prête à être utiliser après les meeting",{"$f":"IF(AND(B$8=Display!$T$10,'Lux4-sept'!$A$8=Display!$B$7,'Lux4-sept'!$A$9=Display!$B$9,'Lux4-sept'!$A$10=Display!$B$11,'Lux4-sept'!$A$51=Display!$B$13),Display!$D5,)","v":0},{"$f":"IF(AND(C$8=Display!$T$10,'Lux4-sept'!$A$8=Display!$B$7,'Lux4-sept'!$A$9=Display!$B$9,'Lux4-sept'!$A$10=Display!$B$11,'Lux4-sept'!$A$51=Display!$B$13),Display!$D5,)","v":0},{"$f":"IF(AND(D$8=Display!$T$10,'Lux4-sept'!$A$8=Display!$B$7,'Lux4-sept'!$A$9=Display!$B$9,'Lux4-sept'!$A$10=Display!$B$11,'Lux4-sept'!$A$51=Display!$B$13),Display!$D5,)","v":0},{"$f":"IF(AND(E$8=Display!$T$10,'Lux4-sept'!$A$8=Display!$B$7,'Lux4-sept'!$A$9=Display!$B$9,'Lux4-sept'!$A$10=Display!$B$11,'Lux4-sept'!$A$51=Display!$B$13),Display!$D5,)","v":0},{"$f":"IF(AND(F$8=Display!$T$10,'Lux4-sept'!$A$8=Display!$B$7,'Lux4-sept'!$A$9=Display!$B$9,'Lux4-sept'!$A$10=Display!$B$11,'Lux4-sept'!$A$51=Display!$B$13),Display!$D5,)","v":0},{"$f":"IF(AND(G$8=Display!$T$10,'Lux4-sept'!$A$8=Display!$B$7,'Lux4-sept'!$A$9=Display!$B$9,'Lux4-sept'!$A$10=Display!$B$11,'Lux4-sept'!$A$51=Display!$B$13),Display!$D5,)","v":0},{"$f":"IF(AND(H$8=Display!$T$10,'Lux4-sept'!$A$8=Display!$B$7,'Lux4-sept'!$A$9=Display!$B$9,'Lux4-sept'!$A$10=Display!$B$11,'Lux4-sept'!$A$51=Display!$B$13),Display!$D5,)","v":0},{"$f":"IF(AND(I$8=Display!$T$10,'Lux4-sept'!$A$8=Display!$B$7,'Lux4-sept'!$A$9=Display!$B$9,'Lux4-sept'!$A$10=Display!$B$11,'Lux4-sept'!$A$51=Display!$B$13),Display!$D5,)","v":0},{"$f":"IF(AND(J$8=Display!$T$10,'Lux4-sept'!$A$8=Display!$B$7,'Lux4-sept'!$A$9=Display!$B$9,'Lux4-sept'!$A$10=Display!$B$11,'Lux4-sept'!$A$51=Display!$B$13),Display!$D5,)","v":0},{"$f":"IF(AND(K$8=Display!$T$10,'Lux4-sept'!$A$8=Display!$B$7,'Lux4-sept'!$A$9=Display!$B$9,'Lux4-sept'!$A$10=Display!$B$11,'Lux4-sept'!$A$51=Display!$B$13),Display!$D5,)","v":0},{"$f":"IF(AND(L$8=Display!$T$10,'Lux4-sept'!$A$8=Display!$B$7,'Lux4-sept'!$A$9=Display!$B$9,'Lux4-sept'!$A$10=Display!$B$11,'Lux4-sept'!$A$51=Display!$B$13),Display!$D5,)","v":0},{"$f":"IF(AND(M$8=Display!$T$10,'Lux4-sept'!$A$8=Display!$B$7,'Lux4-sept'!$A$9=Display!$B$9,'Lux4-sept'!$A$10=Display!$B$11,'Lux4-sept'!$A$51=Display!$B$13),Display!$D5,)","v":0},{"$f":"IF(AND(N$8=Display!$T$10,'Lux4-sept'!$A$8=Display!$B$7,'Lux4-sept'!$A$9=Display!$B$9,'Lux4-sept'!$A$10=Display!$B$11,'Lux4-sept'!$A$51=Display!$B$13),Display!$D5,)","v":0},{"$f":"IF(AND(O$8=Display!$T$10,'Lux4-sept'!$A$8=Display!$B$7,'Lux4-sept'!$A$9=Display!$B$9,'Lux4-sept'!$A$10=Display!$B$11,'Lux4-sept'!$A$51=Display!$B$13),Display!$D5,)","v":0},{"$f":"IF(AND(P$8=Display!$T$10,'Lux4-sept'!$A$8=Display!$B$7,'Lux4-sept'!$A$9=Display!$B$9,'Lux4-sept'!$A$10=Display!$B$11,'Lux4-sept'!$A$51=Display!$B$13),Display!$D5,)","v":0},{"$f":"IF(AND(Q$8=Display!$T$10,'Lux4-sept'!$A$8=Display!$B$7,'Lux4-sept'!$A$9=Display!$B$9,'Lux4-sept'!$A$10=Display!$B$11,'Lux4-sept'!$A$51=Display!$B$13),Display!$D5,)","v":0},{"$f":"IF(AND(R$8=Display!$T$10,'Lux4-sept'!$A$8=Display!$B$7,'Lux4-sept'!$A$9=Display!$B$9,'Lux4-sept'!$A$10=Display!$B$11,'Lux4-sept'!$A$51=Display!$B$13),Display!$D5,)","v":0},{"$f":"IF(AND(S$8=Display!$T$10,'Lux4-sept'!$A$8=Display!$B$7,'Lux4-sept'!$A$9=Display!$B$9,'Lux4-sept'!$A$10=Display!$B$11,'Lux4-sept'!$A$51=Display!$B$13),Display!$D5,)","v":0},{"$f":"IF(AND(T$8=Display!$T$10,'Lux4-sept'!$A$8=Display!$B$7,'Lux4-sept'!$A$9=Display!$B$9,'Lux4-sept'!$A$10=Display!$B$11,'Lux4-sept'!$A$51=Display!$B$13),Display!$D5,)","v":0},{"$f":"IF(AND(U$8=Display!$T$10,'Lux4-sept'!$A$8=Display!$B$7,'Lux4-sept'!$A$9=Display!$B$9,'Lux4-sept'!$A$10=Display!$B$11,'Lux4-sept'!$A$51=Display!$B$13),Display!$D5,)","v":0},{"$f":"IF(AND(V$8=Display!$T$10,'Lux4-sept'!$A$8=Display!$B$7,'Lux4-sept'!$A$9=Display!$B$9,'Lux4-sept'!$A$10=Display!$B$11,'Lux4-sept'!$A$51=Display!$B$13),Display!$D5,)","v":0},{"$f":"IF(AND(W$8=Display!$T$10,'Lux4-sept'!$A$8=Display!$B$7,'Lux4-sept'!$A$9=Display!$B$9,'Lux4-sept'!$A$10=Display!$B$11,'Lux4-sept'!$A$51=Display!$B$13),Display!$D5,)","v":0},{"$f":"IF(AND(X$8=Display!$T$10,'Lux4-sept'!$A$8=Display!$B$7,'Lux4-sept'!$A$9=Display!$B$9,'Lux4-sept'!$A$10=Display!$B$11,'Lux4-sept'!$A$51=Display!$B$13),Display!$D5,)","v":0},{"$f":"IF(AND(Y$8=Display!$T$10,'Lux4-sept'!$A$8=Display!$B$7,'Lux4-sept'!$A$9=Display!$B$9,'Lux4-sept'!$A$10=Display!$B$11,'Lux4-sept'!$A$51=Display!$B$13),Display!$D5,)","v":0},{"$f":"IF(AND(Z$8=Display!$T$10,'Lux4-sept'!$A$8=Display!$B$7,'Lux4-sept'!$A$9=Display!$B$9,'Lux4-sept'!$A$10=Display!$B$11,'Lux4-sept'!$A$51=Display!$B$13),Display!$D5,)","v":0},{"$f":"IF(AND(AA$8=Display!$T$10,'Lux4-sept'!$A$8=Display!$B$7,'Lux4-sept'!$A$9=Display!$B$9,'Lux4-sept'!$A$10=Display!$B$11,'Lux4-sept'!$A$51=Display!$B$13),Display!$D5,)","v":0},{"$f":"IF(AND(AB$8=Display!$T$10,'Lux4-sept'!$A$8=Display!$B$7,'Lux4-sept'!$A$9=Display!$B$9,'Lux4-sept'!$A$10=Display!$B$11,'Lux4-sept'!$A$51=Display!$B$13),Display!$D5,)","v":0},{"$f":"IF(AND(AC$8=Display!$T$10,'Lux4-sept'!$A$8=Display!$B$7,'Lux4-sept'!$A$9=Display!$B$9,'Lux4-sept'!$A$10=Display!$B$11,'Lux4-sept'!$A$51=Display!$B$13),Display!$D5,)","v":0},{"$f":"IF(AND(AD$8=Display!$T$10,'Lux4-sept'!$A$8=Display!$B$7,'Lux4-sept'!$A$9=Display!$B$9,'Lux4-sept'!$A$10=Display!$B$11,'Lux4-sept'!$A$51=Display!$B$13),Display!$D5,)","v":0},{"$f":"IF(AND(AE$8=Display!$T$10,'Lux4-sept'!$A$8=Display!$B$7,'Lux4-sept'!$A$9=Display!$B$9,'Lux4-sept'!$A$10=Display!$B$11,'Lux4-sept'!$A$51=Display!$B$13),Display!$D5,)","v":0},{"$f":"IF(AND(AF$8=Display!$T$10,'Lux4-sept'!$A$8=Display!$B$7,'Lux4-sept'!$A$9=Display!$B$9,'Lux4-sept'!$A$10=Display!$B$11,'Lux4-sept'!$A$51=Display!$B$13),Display!$D5,)","v":0},null,null,{"$f":"((IF((SUM(B53:AF53))<>0,(SUM(B53:AF53)),0))/(IF((SUM((IF(B53<>0,3,0)),(IF(C53<>0,3,0)),(IF(D53<>0,3,0)),(IF(E53<>0,3,0)),(IF(F53<>0,3,0)),(IF(F53<>0,3,0)),(IF(F53<>0,3,0)),(IF(G53<>0,3,0)),(IF(H53<>0,3,0)),(IF(I53<>0,3,0)),(IF(J53<>0,3,0)),(IF(K53<>0,3,0)),(IF(L53<>0,3,0)),(IF(M53<>0,3,0)),(IF(N53<>0,3,0)),(IF(O53<>0,3,0)),(IF(P53<>0,3,0)),(IF(Q53<>0,3,0)),(IF(R53<>0,3,0)),(IF(S53<>0,3,0)),(IF(T53<>0,3,0)),(IF(U53<>0,3,0)),(IF(V53<>0,3,0)),(IF(W53<>0,3,0)),(IF(X53<>0,3,0)),(IF(Y53<>0,3,0)),(IF(Z53<>0,3,0)),(IF(AA53<>0,3,0)),(IF(AB53<>0,3,0)),(IF(AC53<>0,3,0)),(IF(AD53<>0,3,0)),(IF(AE53<>0,3,0)),(IF(AF53<>0,3,0))))<>0,((SUM((IF(B53<>0,3,0)),(IF(C53<>0,3,0)),(IF(D53<>0,3,0)),(IF(E53<>0,3,0)),(IF(F53<>0,3,0)),(IF(F53<>0,3,0)),(IF(F53<>0,3,0)),(IF(G53<>0,3,0)),(IF(H53<>0,3,0)),(IF(I53<>0,3,0)),(IF(J53<>0,3,0)),(IF(K53<>0,3,0)),(IF(L53<>0,3,0)),(IF(M53<>0,3,0)),(IF(N53<>0,3,0)),(IF(O53<>0,3,0)),(IF(P53<>0,3,0)),(IF(Q53<>0,3,0)),(IF(R53<>0,3,0)),(IF(S53<>0,3,0)),(IF(T53<>0,3,0)),(IF(U53<>0,3,0)),(IF(V53<>0,3,0)),(IF(W53<>0,3,0)),(IF(X53<>0,3,0)),(IF(Y53<>0,3,0)),(IF(Z53<>0,3,0)),(IF(AA53<>0,3,0)),(IF(AB53<>0,3,0)),(IF(AC53<>0,3,0)),(IF(AD53<>0,3,0)),(IF(AE53<>0,3,0)),(IF(AF53<>0,3,0))))),1)))","v":0}]
["Chaises rangées",{"$f":"IF(AND(B$8=Display!$T$10,'Lux4-sept'!$A$8=Display!$B$7,'Lux4-sept'!$A$9=Display!$B$9,'Lux4-sept'!$A$10=Display!$B$11,'Lux4-sept'!$A$51=Display!$B$13),Display!$D6,)","v":0},{"$f":"IF(AND(C$8=Display!$T$10,'Lux4-sept'!$A$8=Display!$B$7,'Lux4-sept'!$A$9=Display!$B$9,'Lux4-sept'!$A$10=Display!$B$11,'Lux4-sept'!$A$51=Display!$B$13),Display!$D6,)","v":0},{"$f":"IF(AND(D$8=Display!$T$10,'Lux4-sept'!$A$8=Display!$B$7,'Lux4-sept'!$A$9=Display!$B$9,'Lux4-sept'!$A$10=Display!$B$11,'Lux4-sept'!$A$51=Display!$B$13),Display!$D6,)","v":0},{"$f":"IF(AND(E$8=Display!$T$10,'Lux4-sept'!$A$8=Display!$B$7,'Lux4-sept'!$A$9=Display!$B$9,'Lux4-sept'!$A$10=Display!$B$11,'Lux4-sept'!$A$51=Display!$B$13),Display!$D6,)","v":0},{"$f":"IF(AND(F$8=Display!$T$10,'Lux4-sept'!$A$8=Display!$B$7,'Lux4-sept'!$A$9=Display!$B$9,'Lux4-sept'!$A$10=Display!$B$11,'Lux4-sept'!$A$51=Display!$B$13),Display!$D6,)","v":0},{"$f":"IF(AND(G$8=Display!$T$10,'Lux4-sept'!$A$8=Display!$B$7,'Lux4-sept'!$A$9=Display!$B$9,'Lux4-sept'!$A$10=Display!$B$11,'Lux4-sept'!$A$51=Display!$B$13),Display!$D6,)","v":0},{"$f":"IF(AND(H$8=Display!$T$10,'Lux4-sept'!$A$8=Display!$B$7,'Lux4-sept'!$A$9=Display!$B$9,'Lux4-sept'!$A$10=Display!$B$11,'Lux4-sept'!$A$51=Display!$B$13),Display!$D6,)","v":0},{"$f":"IF(AND(I$8=Display!$T$10,'Lux4-sept'!$A$8=Display!$B$7,'Lux4-sept'!$A$9=Display!$B$9,'Lux4-sept'!$A$10=Display!$B$11,'Lux4-sept'!$A$51=Display!$B$13),Display!$D6,)","v":0},{"$f":"IF(AND(J$8=Display!$T$10,'Lux4-sept'!$A$8=Display!$B$7,'Lux4-sept'!$A$9=Display!$B$9,'Lux4-sept'!$A$10=Display!$B$11,'Lux4-sept'!$A$51=Display!$B$13),Display!$D6,)","v":0},{"$f":"IF(AND(K$8=Display!$T$10,'Lux4-sept'!$A$8=Display!$B$7,'Lux4-sept'!$A$9=Display!$B$9,'Lux4-sept'!$A$10=Display!$B$11,'Lux4-sept'!$A$51=Display!$B$13),Display!$D6,)","v":0},{"$f":"IF(AND(L$8=Display!$T$10,'Lux4-sept'!$A$8=Display!$B$7,'Lux4-sept'!$A$9=Display!$B$9,'Lux4-sept'!$A$10=Display!$B$11,'Lux4-sept'!$A$51=Display!$B$13),Display!$D6,)","v":0},{"$f":"IF(AND(M$8=Display!$T$10,'Lux4-sept'!$A$8=Display!$B$7,'Lux4-sept'!$A$9=Display!$B$9,'Lux4-sept'!$A$10=Display!$B$11,'Lux4-sept'!$A$51=Display!$B$13),Display!$D6,)","v":0},{"$f":"IF(AND(N$8=Display!$T$10,'Lux4-sept'!$A$8=Display!$B$7,'Lux4-sept'!$A$9=Display!$B$9,'Lux4-sept'!$A$10=Display!$B$11,'Lux4-sept'!$A$51=Display!$B$13),Display!$D6,)","v":0},{"$f":"IF(AND(O$8=Display!$T$10,'Lux4-sept'!$A$8=Display!$B$7,'Lux4-sept'!$A$9=Display!$B$9,'Lux4-sept'!$A$10=Display!$B$11,'Lux4-sept'!$A$51=Display!$B$13),Display!$D6,)","v":0},{"$f":"IF(AND(P$8=Display!$T$10,'Lux4-sept'!$A$8=Display!$B$7,'Lux4-sept'!$A$9=Display!$B$9,'Lux4-sept'!$A$10=Display!$B$11,'Lux4-sept'!$A$51=Display!$B$13),Display!$D6,)","v":0},{"$f":"IF(AND(Q$8=Display!$T$10,'Lux4-sept'!$A$8=Display!$B$7,'Lux4-sept'!$A$9=Display!$B$9,'Lux4-sept'!$A$10=Display!$B$11,'Lux4-sept'!$A$51=Display!$B$13),Display!$D6,)","v":0},{"$f":"IF(AND(R$8=Display!$T$10,'Lux4-sept'!$A$8=Display!$B$7,'Lux4-sept'!$A$9=Display!$B$9,'Lux4-sept'!$A$10=Display!$B$11,'Lux4-sept'!$A$51=Display!$B$13),Display!$D6,)","v":0},{"$f":"IF(AND(S$8=Display!$T$10,'Lux4-sept'!$A$8=Display!$B$7,'Lux4-sept'!$A$9=Display!$B$9,'Lux4-sept'!$A$10=Display!$B$11,'Lux4-sept'!$A$51=Display!$B$13),Display!$D6,)","v":0},{"$f":"IF(AND(T$8=Display!$T$10,'Lux4-sept'!$A$8=Display!$B$7,'Lux4-sept'!$A$9=Display!$B$9,'Lux4-sept'!$A$10=Display!$B$11,'Lux4-sept'!$A$51=Display!$B$13),Display!$D6,)","v":0},{"$f":"IF(AND(U$8=Display!$T$10,'Lux4-sept'!$A$8=Display!$B$7,'Lux4-sept'!$A$9=Display!$B$9,'Lux4-sept'!$A$10=Display!$B$11,'Lux4-sept'!$A$51=Display!$B$13),Display!$D6,)","v":0},{"$f":"IF(AND(V$8=Display!$T$10,'Lux4-sept'!$A$8=Display!$B$7,'Lux4-sept'!$A$9=Display!$B$9,'Lux4-sept'!$A$10=Display!$B$11,'Lux4-sept'!$A$51=Display!$B$13),Display!$D6,)","v":0},{"$f":"IF(AND(W$8=Display!$T$10,'Lux4-sept'!$A$8=Display!$B$7,'Lux4-sept'!$A$9=Display!$B$9,'Lux4-sept'!$A$10=Display!$B$11,'Lux4-sept'!$A$51=Display!$B$13),Display!$D6,)","v":0},{"$f":"IF(AND(X$8=Display!$T$10,'Lux4-sept'!$A$8=Display!$B$7,'Lux4-sept'!$A$9=Display!$B$9,'Lux4-sept'!$A$10=Display!$B$11,'Lux4-sept'!$A$51=Display!$B$13),Display!$D6,)","v":0},{"$f":"IF(AND(Y$8=Display!$T$10,'Lux4-sept'!$A$8=Display!$B$7,'Lux4-sept'!$A$9=Display!$B$9,'Lux4-sept'!$A$10=Display!$B$11,'Lux4-sept'!$A$51=Display!$B$13),Display!$D6,)","v":0},{"$f":"IF(AND(Z$8=Display!$T$10,'Lux4-sept'!$A$8=Display!$B$7,'Lux4-sept'!$A$9=Display!$B$9,'Lux4-sept'!$A$10=Display!$B$11,'Lux4-sept'!$A$51=Display!$B$13),Display!$D6,)","v":0},{"$f":"IF(AND(AA$8=Display!$T$10,'Lux4-sept'!$A$8=Display!$B$7,'Lux4-sept'!$A$9=Display!$B$9,'Lux4-sept'!$A$10=Display!$B$11,'Lux4-sept'!$A$51=Display!$B$13),Display!$D6,)","v":0},{"$f":"IF(AND(AB$8=Display!$T$10,'Lux4-sept'!$A$8=Display!$B$7,'Lux4-sept'!$A$9=Display!$B$9,'Lux4-sept'!$A$10=Display!$B$11,'Lux4-sept'!$A$51=Display!$B$13),Display!$D6,)","v":0},{"$f":"IF(AND(AC$8=Display!$T$10,'Lux4-sept'!$A$8=Display!$B$7,'Lux4-sept'!$A$9=Display!$B$9,'Lux4-sept'!$A$10=Display!$B$11,'Lux4-sept'!$A$51=Display!$B$13),Display!$D6,)","v":0},{"$f":"IF(AND(AD$8=Display!$T$10,'Lux4-sept'!$A$8=Display!$B$7,'Lux4-sept'!$A$9=Display!$B$9,'Lux4-sept'!$A$10=Display!$B$11,'Lux4-sept'!$A$51=Display!$B$13),Display!$D6,)","v":0},{"$f":"IF(AND(AE$8=Display!$T$10,'Lux4-sept'!$A$8=Display!$B$7,'Lux4-sept'!$A$9=Display!$B$9,'Lux4-sept'!$A$10=Display!$B$11,'Lux4-sept'!$A$51=Display!$B$13),Display!$D6,)","v":0},{"$f":"IF(AND(AF$8=Display!$T$10,'Lux4-sept'!$A$8=Display!$B$7,'Lux4-sept'!$A$9=Display!$B$9,'Lux4-sept'!$A$10=Display!$B$11,'Lux4-sept'!$A$51=Display!$B$13),Display!$D6,)","v":0},null,null,0]
["Poubelles vidées",{"$f":"IF(AND(B$8=Display!$T$10,'Lux4-sept'!$A$8=Display!$B$7,'Lux4-sept'!$A$9=Display!$B$9,'Lux4-sept'!$A$10=Display!$B$11,'Lux4-sept'!$A$51=Display!$B$13),Display!$D7,)","v":0},{"$f":"IF(AND(C$8=Display!$T$10,'Lux4-sept'!$A$8=Display!$B$7,'Lux4-sept'!$A$9=Display!$B$9,'Lux4-sept'!$A$10=Display!$B$11,'Lux4-sept'!$A$51=Display!$B$13),Display!$D7,)","v":0},{"$f":"IF(AND(D$8=Display!$T$10,'Lux4-sept'!$A$8=Display!$B$7,'Lux4-sept'!$A$9=Display!$B$9,'Lux4-sept'!$A$10=Display!$B$11,'Lux4-sept'!$A$51=Display!$B$13),Display!$D7,)","v":0},{"$f":"IF(AND(E$8=Display!$T$10,'Lux4-sept'!$A$8=Display!$B$7,'Lux4-sept'!$A$9=Display!$B$9,'Lux4-sept'!$A$10=Display!$B$11,'Lux4-sept'!$A$51=Display!$B$13),Display!$D7,)","v":0},{"$f":"IF(AND(F$8=Display!$T$10,'Lux4-sept'!$A$8=Display!$B$7,'Lux4-sept'!$A$9=Display!$B$9,'Lux4-sept'!$A$10=Display!$B$11,'Lux4-sept'!$A$51=Display!$B$13),Display!$D7,)","v":0},{"$f":"IF(AND(G$8=Display!$T$10,'Lux4-sept'!$A$8=Display!$B$7,'Lux4-sept'!$A$9=Display!$B$9,'Lux4-sept'!$A$10=Display!$B$11,'Lux4-sept'!$A$51=Display!$B$13),Display!$D7,)","v":0},{"$f":"IF(AND(H$8=Display!$T$10,'Lux4-sept'!$A$8=Display!$B$7,'Lux4-sept'!$A$9=Display!$B$9,'Lux4-sept'!$A$10=Display!$B$11,'Lux4-sept'!$A$51=Display!$B$13),Display!$D7,)","v":0},{"$f":"IF(AND(I$8=Display!$T$10,'Lux4-sept'!$A$8=Display!$B$7,'Lux4-sept'!$A$9=Display!$B$9,'Lux4-sept'!$A$10=Display!$B$11,'Lux4-sept'!$A$51=Display!$B$13),Display!$D7,)","v":0},{"$f":"IF(AND(J$8=Display!$T$10,'Lux4-sept'!$A$8=Display!$B$7,'Lux4-sept'!$A$9=Display!$B$9,'Lux4-sept'!$A$10=Display!$B$11,'Lux4-sept'!$A$51=Display!$B$13),Display!$D7,)","v":0},{"$f":"IF(AND(K$8=Display!$T$10,'Lux4-sept'!$A$8=Display!$B$7,'Lux4-sept'!$A$9=Display!$B$9,'Lux4-sept'!$A$10=Display!$B$11,'Lux4-sept'!$A$51=Display!$B$13),Display!$D7,)","v":0},{"$f":"IF(AND(L$8=Display!$T$10,'Lux4-sept'!$A$8=Display!$B$7,'Lux4-sept'!$A$9=Display!$B$9,'Lux4-sept'!$A$10=Display!$B$11,'Lux4-sept'!$A$51=Display!$B$13),Display!$D7,)","v":0},{"$f":"IF(AND(M$8=Display!$T$10,'Lux4-sept'!$A$8=Display!$B$7,'Lux4-sept'!$A$9=Display!$B$9,'Lux4-sept'!$A$10=Display!$B$11,'Lux4-sept'!$A$51=Display!$B$13),Display!$D7,)","v":0},{"$f":"IF(AND(N$8=Display!$T$10,'Lux4-sept'!$A$8=Display!$B$7,'Lux4-sept'!$A$9=Display!$B$9,'Lux4-sept'!$A$10=Display!$B$11,'Lux4-sept'!$A$51=Display!$B$13),Display!$D7,)","v":0},{"$f":"IF(AND(O$8=Display!$T$10,'Lux4-sept'!$A$8=Display!$B$7,'Lux4-sept'!$A$9=Display!$B$9,'Lux4-sept'!$A$10=Display!$B$11,'Lux4-sept'!$A$51=Display!$B$13),Display!$D7,)","v":0},{"$f":"IF(AND(P$8=Display!$T$10,'Lux4-sept'!$A$8=Display!$B$7,'Lux4-sept'!$A$9=Display!$B$9,'Lux4-sept'!$A$10=Display!$B$11,'Lux4-sept'!$A$51=Display!$B$13),Display!$D7,)","v":0},{"$f":"IF(AND(Q$8=Display!$T$10,'Lux4-sept'!$A$8=Display!$B$7,'Lux4-sept'!$A$9=Display!$B$9,'Lux4-sept'!$A$10=Display!$B$11,'Lux4-sept'!$A$51=Display!$B$13),Display!$D7,)","v":0},{"$f":"IF(AND(R$8=Display!$T$10,'Lux4-sept'!$A$8=Display!$B$7,'Lux4-sept'!$A$9=Display!$B$9,'Lux4-sept'!$A$10=Display!$B$11,'Lux4-sept'!$A$51=Display!$B$13),Display!$D7,)","v":0},{"$f":"IF(AND(S$8=Display!$T$10,'Lux4-sept'!$A$8=Display!$B$7,'Lux4-sept'!$A$9=Display!$B$9,'Lux4-sept'!$A$10=Display!$B$11,'Lux4-sept'!$A$51=Display!$B$13),Display!$D7,)","v":0},{"$f":"IF(AND(T$8=Display!$T$10,'Lux4-sept'!$A$8=Display!$B$7,'Lux4-sept'!$A$9=Display!$B$9,'Lux4-sept'!$A$10=Display!$B$11,'Lux4-sept'!$A$51=Display!$B$13),Display!$D7,)","v":0},{"$f":"IF(AND(U$8=Display!$T$10,'Lux4-sept'!$A$8=Display!$B$7,'Lux4-sept'!$A$9=Display!$B$9,'Lux4-sept'!$A$10=Display!$B$11,'Lux4-sept'!$A$51=Display!$B$13),Display!$D7,)","v":0},{"$f":"IF(AND(V$8=Display!$T$10,'Lux4-sept'!$A$8=Display!$B$7,'Lux4-sept'!$A$9=Display!$B$9,'Lux4-sept'!$A$10=Display!$B$11,'Lux4-sept'!$A$51=Display!$B$13),Display!$D7,)","v":0},{"$f":"IF(AND(W$8=Display!$T$10,'Lux4-sept'!$A$8=Display!$B$7,'Lux4-sept'!$A$9=Display!$B$9,'Lux4-sept'!$A$10=Display!$B$11,'Lux4-sept'!$A$51=Display!$B$13),Display!$D7,)","v":0},{"$f":"IF(AND(X$8=Display!$T$10,'Lux4-sept'!$A$8=Display!$B$7,'Lux4-sept'!$A$9=Display!$B$9,'Lux4-sept'!$A$10=Display!$B$11,'Lux4-sept'!$A$51=Display!$B$13),Display!$D7,)","v":0},{"$f":"IF(AND(Y$8=Display!$T$10,'Lux4-sept'!$A$8=Display!$B$7,'Lux4-sept'!$A$9=Display!$B$9,'Lux4-sept'!$A$10=Display!$B$11,'Lux4-sept'!$A$51=Display!$B$13),Display!$D7,)","v":0},{"$f":"IF(AND(Z$8=Display!$T$10,'Lux4-sept'!$A$8=Display!$B$7,'Lux4-sept'!$A$9=Display!$B$9,'Lux4-sept'!$A$10=Display!$B$11,'Lux4-sept'!$A$51=Display!$B$13),Display!$D7,)","v":0},{"$f":"IF(AND(AA$8=Display!$T$10,'Lux4-sept'!$A$8=Display!$B$7,'Lux4-sept'!$A$9=Display!$B$9,'Lux4-sept'!$A$10=Display!$B$11,'Lux4-sept'!$A$51=Display!$B$13),Display!$D7,)","v":0},{"$f":"IF(AND(AB$8=Display!$T$10,'Lux4-sept'!$A$8=Display!$B$7,'Lux4-sept'!$A$9=Display!$B$9,'Lux4-sept'!$A$10=Display!$B$11,'Lux4-sept'!$A$51=Display!$B$13),Display!$D7,)","v":0},{"$f":"IF(AND(AC$8=Display!$T$10,'Lux4-sept'!$A$8=Display!$B$7,'Lux4-sept'!$A$9=Display!$B$9,'Lux4-sept'!$A$10=Display!$B$11,'Lux4-sept'!$A$51=Display!$B$13),Display!$D7,)","v":0},{"$f":"IF(AND(AD$8=Display!$T$10,'Lux4-sept'!$A$8=Display!$B$7,'Lux4-sept'!$A$9=Display!$B$9,'Lux4-sept'!$A$10=Display!$B$11,'Lux4-sept'!$A$51=Display!$B$13),Display!$D7,)","v":0},{"$f":"IF(AND(AE$8=Display!$T$10,'Lux4-sept'!$A$8=Display!$B$7,'Lux4-sept'!$A$9=Display!$B$9,'Lux4-sept'!$A$10=Display!$B$11,'Lux4-sept'!$A$51=Display!$B$13),Display!$D7,)","v":0},{"$f":"IF(AND(AF$8=Display!$T$10,'Lux4-sept'!$A$8=Display!$B$7,'Lux4-sept'!$A$9=Display!$B$9,'Lux4-sept'!$A$10=Display!$B$11,'Lux4-sept'!$A$51=Display!$B$13),Display!$D7,)","v":0},null,null,0]
["Tables nettoyées",{"$f":"IF(AND(B$8=Display!$T$10,'Lux4-sept'!$A$8=Display!$B$7,'Lux4-sept'!$A$9=Display!$B$9,'Lux4-sept'!$A$10=Display!$B$11,'Lux4-sept'!$A$51=Display!$B$13),Display!$D8,)","v":0},{"$f":"IF(AND(C$8=Display!$T$10,'Lux4-sept'!$A$8=Display!$B$7,'Lux4-sept'!$A$9=Display!$B$9,'Lux4-sept'!$A$10=Display!$B$11,'Lux4-sept'!$A$51=Display!$B$13),Display!$D8,)","v":0},{"$f":"IF(AND(D$8=Display!$T$10,'Lux4-sept'!$A$8=Display!$B$7,'Lux4-sept'!$A$9=Display!$B$9,'Lux4-sept'!$A$10=Display!$B$11,'Lux4-sept'!$A$51=Display!$B$13),Display!$D8,)","v":0},{"$f":"IF(AND(E$8=Display!$T$10,'Lux4-sept'!$A$8=Display!$B$7,'Lux4-sept'!$A$9=Display!$B$9,'Lux4-sept'!$A$10=Display!$B$11,'Lux4-sept'!$A$51=Display!$B$13),Display!$D8,)","v":0},{"$f":"IF(AND(F$8=Display!$T$10,'Lux4-sept'!$A$8=Display!$B$7,'Lux4-sept'!$A$9=Display!$B$9,'Lux4-sept'!$A$10=Display!$B$11,'Lux4-sept'!$A$51=Display!$B$13),Display!$D8,)","v":0},{"$f":"IF(AND(G$8=Display!$T$10,'Lux4-sept'!$A$8=Display!$B$7,'Lux4-sept'!$A$9=Display!$B$9,'Lux4-sept'!$A$10=Display!$B$11,'Lux4-sept'!$A$51=Display!$B$13),Display!$D8,)","v":0},{"$f":"IF(AND(H$8=Display!$T$10,'Lux4-sept'!$A$8=Display!$B$7,'Lux4-sept'!$A$9=Display!$B$9,'Lux4-sept'!$A$10=Display!$B$11,'Lux4-sept'!$A$51=Display!$B$13),Display!$D8,)","v":0},{"$f":"IF(AND(I$8=Display!$T$10,'Lux4-sept'!$A$8=Display!$B$7,'Lux4-sept'!$A$9=Display!$B$9,'Lux4-sept'!$A$10=Display!$B$11,'Lux4-sept'!$A$51=Display!$B$13),Display!$D8,)","v":0},{"$f":"IF(AND(J$8=Display!$T$10,'Lux4-sept'!$A$8=Display!$B$7,'Lux4-sept'!$A$9=Display!$B$9,'Lux4-sept'!$A$10=Display!$B$11,'Lux4-sept'!$A$51=Display!$B$13),Display!$D8,)","v":0},{"$f":"IF(AND(K$8=Display!$T$10,'Lux4-sept'!$A$8=Display!$B$7,'Lux4-sept'!$A$9=Display!$B$9,'Lux4-sept'!$A$10=Display!$B$11,'Lux4-sept'!$A$51=Display!$B$13),Display!$D8,)","v":0},{"$f":"IF(AND(L$8=Display!$T$10,'Lux4-sept'!$A$8=Display!$B$7,'Lux4-sept'!$A$9=Display!$B$9,'Lux4-sept'!$A$10=Display!$B$11,'Lux4-sept'!$A$51=Display!$B$13),Display!$D8,)","v":0},{"$f":"IF(AND(M$8=Display!$T$10,'Lux4-sept'!$A$8=Display!$B$7,'Lux4-sept'!$A$9=Display!$B$9,'Lux4-sept'!$A$10=Display!$B$11,'Lux4-sept'!$A$51=Display!$B$13),Display!$D8,)","v":0},{"$f":"IF(AND(N$8=Display!$T$10,'Lux4-sept'!$A$8=Display!$B$7,'Lux4-sept'!$A$9=Display!$B$9,'Lux4-sept'!$A$10=Display!$B$11,'Lux4-sept'!$A$51=Display!$B$13),Display!$D8,)","v":0},{"$f":"IF(AND(O$8=Display!$T$10,'Lux4-sept'!$A$8=Display!$B$7,'Lux4-sept'!$A$9=Display!$B$9,'Lux4-sept'!$A$10=Display!$B$11,'Lux4-sept'!$A$51=Display!$B$13),Display!$D8,)","v":0},{"$f":"IF(AND(P$8=Display!$T$10,'Lux4-sept'!$A$8=Display!$B$7,'Lux4-sept'!$A$9=Display!$B$9,'Lux4-sept'!$A$10=Display!$B$11,'Lux4-sept'!$A$51=Display!$B$13),Display!$D8,)","v":0},{"$f":"IF(AND(Q$8=Display!$T$10,'Lux4-sept'!$A$8=Display!$B$7,'Lux4-sept'!$A$9=Display!$B$9,'Lux4-sept'!$A$10=Display!$B$11,'Lux4-sept'!$A$51=Display!$B$13),Display!$D8,)","v":0},{"$f":"IF(AND(R$8=Display!$T$10,'Lux4-sept'!$A$8=Display!$B$7,'Lux4-sept'!$A$9=Display!$B$9,'Lux4-sept'!$A$10=Display!$B$11,'Lux4-sept'!$A$51=Display!$B$13),Display!$D8,)","v":0},{"$f":"IF(AND(S$8=Display!$T$10,'Lux4-sept'!$A$8=Display!$B$7,'Lux4-sept'!$A$9=Display!$B$9,'Lux4-sept'!$A$10=Display!$B$11,'Lux4-sept'!$A$51=Display!$B$13),Display!$D8,)","v":0},{"$f":"IF(AND(T$8=Display!$T$10,'Lux4-sept'!$A$8=Display!$B$7,'Lux4-sept'!$A$9=Display!$B$9,'Lux4-sept'!$A$10=Display!$B$11,'Lux4-sept'!$A$51=Display!$B$13),Display!$D8,)","v":0},{"$f":"IF(AND(U$8=Display!$T$10,'Lux4-sept'!$A$8=Display!$B$7,'Lux4-sept'!$A$9=Display!$B$9,'Lux4-sept'!$A$10=Display!$B$11,'Lux4-sept'!$A$51=Display!$B$13),Display!$D8,)","v":0},{"$f":"IF(AND(V$8=Display!$T$10,'Lux4-sept'!$A$8=Display!$B$7,'Lux4-sept'!$A$9=Display!$B$9,'Lux4-sept'!$A$10=Display!$B$11,'Lux4-sept'!$A$51=Display!$B$13),Display!$D8,)","v":0},{"$f":"IF(AND(W$8=Display!$T$10,'Lux4-sept'!$A$8=Display!$B$7,'Lux4-sept'!$A$9=Display!$B$9,'Lux4-sept'!$A$10=Display!$B$11,'Lux4-sept'!$A$51=Display!$B$13),Display!$D8,)","v":0},{"$f":"IF(AND(X$8=Display!$T$10,'Lux4-sept'!$A$8=Display!$B$7,'Lux4-sept'!$A$9=Display!$B$9,'Lux4-sept'!$A$10=Display!$B$11,'Lux4-sept'!$A$51=Display!$B$13),Display!$D8,)","v":0},{"$f":"IF(AND(Y$8=Display!$T$10,'Lux4-sept'!$A$8=Display!$B$7,'Lux4-sept'!$A$9=Display!$B$9,'Lux4-sept'!$A$10=Display!$B$11,'Lux4-sept'!$A$51=Display!$B$13),Display!$D8,)","v":0},{"$f":"IF(AND(Z$8=Display!$T$10,'Lux4-sept'!$A$8=Display!$B$7,'Lux4-sept'!$A$9=Display!$B$9,'Lux4-sept'!$A$10=Display!$B$11,'Lux4-sept'!$A$51=Display!$B$13),Display!$D8,)","v":0},{"$f":"IF(AND(AA$8=Display!$T$10,'Lux4-sept'!$A$8=Display!$B$7,'Lux4-sept'!$A$9=Display!$B$9,'Lux4-sept'!$A$10=Display!$B$11,'Lux4-sept'!$A$51=Display!$B$13),Display!$D8,)","v":0},{"$f":"IF(AND(AB$8=Display!$T$10,'Lux4-sept'!$A$8=Display!$B$7,'Lux4-sept'!$A$9=Display!$B$9,'Lux4-sept'!$A$10=Display!$B$11,'Lux4-sept'!$A$51=Display!$B$13),Display!$D8,)","v":0},{"$f":"IF(AND(AC$8=Display!$T$10,'Lux4-sept'!$A$8=Display!$B$7,'Lux4-sept'!$A$9=Display!$B$9,'Lux4-sept'!$A$10=Display!$B$11,'Lux4-sept'!$A$51=Display!$B$13),Display!$D8,)","v":0},{"$f":"IF(AND(AD$8=Display!$T$10,'Lux4-sept'!$A$8=Display!$B$7,'Lux4-sept'!$A$9=Display!$B$9,'Lux4-sept'!$A$10=Display!$B$11,'Lux4-sept'!$A$51=Display!$B$13),Display!$D8,)","v":0},{"$f":"IF(AND(AE$8=Display!$T$10,'Lux4-sept'!$A$8=Display!$B$7,'Lux4-sept'!$A$9=Display!$B$9,'Lux4-sept'!$A$10=Display!$B$11,'Lux4-sept'!$A$51=Display!$B$13),Display!$D8,)","v":0},{"$f":"IF(AND(AF$8=Display!$T$10,'Lux4-sept'!$A$8=Display!$B$7,'Lux4-sept'!$A$9=Display!$B$9,'Lux4-sept'!$A$10=Display!$B$11,'Lux4-sept'!$A$51=Display!$B$13),Display!$D8,)","v":0},null,null,0]
["Tableaux effacés",{"$f":"IF(AND(B$8=Display!$T$10,'Lux4-sept'!$A$8=Display!$B$7,'Lux4-sept'!$A$9=Display!$B$9,'Lux4-sept'!$A$10=Display!$B$11,'Lux4-sept'!$A$51=Display!$B$13),Display!$D9,)","v":0},{"$f":"IF(AND(C$8=Display!$T$10,'Lux4-sept'!$A$8=Display!$B$7,'Lux4-sept'!$A$9=Display!$B$9,'Lux4-sept'!$A$10=Display!$B$11,'Lux4-sept'!$A$51=Display!$B$13),Display!$D9,)","v":0},{"$f":"IF(AND(D$8=Display!$T$10,'Lux4-sept'!$A$8=Display!$B$7,'Lux4-sept'!$A$9=Display!$B$9,'Lux4-sept'!$A$10=Display!$B$11,'Lux4-sept'!$A$51=Display!$B$13),Display!$D9,)","v":0},{"$f":"IF(AND(E$8=Display!$T$10,'Lux4-sept'!$A$8=Display!$B$7,'Lux4-sept'!$A$9=Display!$B$9,'Lux4-sept'!$A$10=Display!$B$11,'Lux4-sept'!$A$51=Display!$B$13),Display!$D9,)","v":0},{"$f":"IF(AND(F$8=Display!$T$10,'Lux4-sept'!$A$8=Display!$B$7,'Lux4-sept'!$A$9=Display!$B$9,'Lux4-sept'!$A$10=Display!$B$11,'Lux4-sept'!$A$51=Display!$B$13),Display!$D9,)","v":0},{"$f":"IF(AND(G$8=Display!$T$10,'Lux4-sept'!$A$8=Display!$B$7,'Lux4-sept'!$A$9=Display!$B$9,'Lux4-sept'!$A$10=Display!$B$11,'Lux4-sept'!$A$51=Display!$B$13),Display!$D9,)","v":0},{"$f":"IF(AND(H$8=Display!$T$10,'Lux4-sept'!$A$8=Display!$B$7,'Lux4-sept'!$A$9=Display!$B$9,'Lux4-sept'!$A$10=Display!$B$11,'Lux4-sept'!$A$51=Display!$B$13),Display!$D9,)","v":0},{"$f":"IF(AND(I$8=Display!$T$10,'Lux4-sept'!$A$8=Display!$B$7,'Lux4-sept'!$A$9=Display!$B$9,'Lux4-sept'!$A$10=Display!$B$11,'Lux4-sept'!$A$51=Display!$B$13),Display!$D9,)","v":0},{"$f":"IF(AND(J$8=Display!$T$10,'Lux4-sept'!$A$8=Display!$B$7,'Lux4-sept'!$A$9=Display!$B$9,'Lux4-sept'!$A$10=Display!$B$11,'Lux4-sept'!$A$51=Display!$B$13),Display!$D9,)","v":0},{"$f":"IF(AND(K$8=Display!$T$10,'Lux4-sept'!$A$8=Display!$B$7,'Lux4-sept'!$A$9=Display!$B$9,'Lux4-sept'!$A$10=Display!$B$11,'Lux4-sept'!$A$51=Display!$B$13),Display!$D9,)","v":0},{"$f":"IF(AND(L$8=Display!$T$10,'Lux4-sept'!$A$8=Display!$B$7,'Lux4-sept'!$A$9=Display!$B$9,'Lux4-sept'!$A$10=Display!$B$11,'Lux4-sept'!$A$51=Display!$B$13),Display!$D9,)","v":0},{"$f":"IF(AND(M$8=Display!$T$10,'Lux4-sept'!$A$8=Display!$B$7,'Lux4-sept'!$A$9=Display!$B$9,'Lux4-sept'!$A$10=Display!$B$11,'Lux4-sept'!$A$51=Display!$B$13),Display!$D9,)","v":0},{"$f":"IF(AND(N$8=Display!$T$10,'Lux4-sept'!$A$8=Display!$B$7,'Lux4-sept'!$A$9=Display!$B$9,'Lux4-sept'!$A$10=Display!$B$11,'Lux4-sept'!$A$51=Display!$B$13),Display!$D9,)","v":0},{"$f":"IF(AND(O$8=Display!$T$10,'Lux4-sept'!$A$8=Display!$B$7,'Lux4-sept'!$A$9=Display!$B$9,'Lux4-sept'!$A$10=Display!$B$11,'Lux4-sept'!$A$51=Display!$B$13),Display!$D9,)","v":0},{"$f":"IF(AND(P$8=Display!$T$10,'Lux4-sept'!$A$8=Display!$B$7,'Lux4-sept'!$A$9=Display!$B$9,'Lux4-sept'!$A$10=Display!$B$11,'Lux4-sept'!$A$51=Display!$B$13),Display!$D9,)","v":0},{"$f":"IF(AND(Q$8=Display!$T$10,'Lux4-sept'!$A$8=Display!$B$7,'Lux4-sept'!$A$9=Display!$B$9,'Lux4-sept'!$A$10=Display!$B$11,'Lux4-sept'!$A$51=Display!$B$13),Display!$D9,)","v":0},{"$f":"IF(AND(R$8=Display!$T$10,'Lux4-sept'!$A$8=Display!$B$7,'Lux4-sept'!$A$9=Display!$B$9,'Lux4-sept'!$A$10=Display!$B$11,'Lux4-sept'!$A$51=Display!$B$13),Display!$D9,)","v":0},{"$f":"IF(AND(S$8=Display!$T$10,'Lux4-sept'!$A$8=Display!$B$7,'Lux4-sept'!$A$9=Display!$B$9,'Lux4-sept'!$A$10=Display!$B$11,'Lux4-sept'!$A$51=Display!$B$13),Display!$D9,)","v":0},{"$f":"IF(AND(T$8=Display!$T$10,'Lux4-sept'!$A$8=Display!$B$7,'Lux4-sept'!$A$9=Display!$B$9,'Lux4-sept'!$A$10=Display!$B$11,'Lux4-sept'!$A$51=Display!$B$13),Display!$D9,)","v":0},{"$f":"IF(AND(U$8=Display!$T$10,'Lux4-sept'!$A$8=Display!$B$7,'Lux4-sept'!$A$9=Display!$B$9,'Lux4-sept'!$A$10=Display!$B$11,'Lux4-sept'!$A$51=Display!$B$13),Display!$D9,)","v":0},{"$f":"IF(AND(V$8=Display!$T$10,'Lux4-sept'!$A$8=Display!$B$7,'Lux4-sept'!$A$9=Display!$B$9,'Lux4-sept'!$A$10=Display!$B$11,'Lux4-sept'!$A$51=Display!$B$13),Display!$D9,)","v":0},{"$f":"IF(AND(W$8=Display!$T$10,'Lux4-sept'!$A$8=Display!$B$7,'Lux4-sept'!$A$9=Display!$B$9,'Lux4-sept'!$A$10=Display!$B$11,'Lux4-sept'!$A$51=Display!$B$13),Display!$D9,)","v":0},{"$f":"IF(AND(X$8=Display!$T$10,'Lux4-sept'!$A$8=Display!$B$7,'Lux4-sept'!$A$9=Display!$B$9,'Lux4-sept'!$A$10=Display!$B$11,'Lux4-sept'!$A$51=Display!$B$13),Display!$D9,)","v":0},{"$f":"IF(AND(Y$8=Display!$T$10,'Lux4-sept'!$A$8=Display!$B$7,'Lux4-sept'!$A$9=Display!$B$9,'Lux4-sept'!$A$10=Display!$B$11,'Lux4-sept'!$A$51=Display!$B$13),Display!$D9,)","v":0},{"$f":"IF(AND(Z$8=Display!$T$10,'Lux4-sept'!$A$8=Display!$B$7,'Lux4-sept'!$A$9=Display!$B$9,'Lux4-sept'!$A$10=Display!$B$11,'Lux4-sept'!$A$51=Display!$B$13),Display!$D9,)","v":0},{"$f":"IF(AND(AA$8=Display!$T$10,'Lux4-sept'!$A$8=Display!$B$7,'Lux4-sept'!$A$9=Display!$B$9,'Lux4-sept'!$A$10=Display!$B$11,'Lux4-sept'!$A$51=Display!$B$13),Display!$D9,)","v":0},{"$f":"IF(AND(AB$8=Display!$T$10,'Lux4-sept'!$A$8=Display!$B$7,'Lux4-sept'!$A$9=Display!$B$9,'Lux4-sept'!$A$10=Display!$B$11,'Lux4-sept'!$A$51=Display!$B$13),Display!$D9,)","v":0},{"$f":"IF(AND(AC$8=Display!$T$10,'Lux4-sept'!$A$8=Display!$B$7,'Lux4-sept'!$A$9=Display!$B$9,'Lux4-sept'!$A$10=Display!$B$11,'Lux4-sept'!$A$51=Display!$B$13),Display!$D9,)","v":0},{"$f":"IF(AND(AD$8=Display!$T$10,'Lux4-sept'!$A$8=Display!$B$7,'Lux4-sept'!$A$9=Display!$B$9,'Lux4-sept'!$A$10=Display!$B$11,'Lux4-sept'!$A$51=Display!$B$13),Display!$D9,)","v":0},{"$f":"IF(AND(AE$8=Display!$T$10,'Lux4-sept'!$A$8=Display!$B$7,'Lux4-sept'!$A$9=Display!$B$9,'Lux4-sept'!$A$10=Display!$B$11,'Lux4-sept'!$A$51=Display!$B$13),Display!$D9,)","v":0},{"$f":"IF(AND(AF$8=Display!$T$10,'Lux4-sept'!$A$8=Display!$B$7,'Lux4-sept'!$A$9=Display!$B$9,'Lux4-sept'!$A$10=Display!$B$11,'Lux4-sept'!$A$51=Display!$B$13),Display!$D9,)","v":0},null,null,0]
["MOYENNE",{"$f":"((IF((SUM(B52:B57))<>0,(SUM(B52:B57)),0))/(IF((SUM((IF(B52<>0,3,0)),(IF(B53<>0,3,0)),(IF(B54<>0,3,0)),(IF(B55<>0,3,0)),(IF(B56<>0,3,0)),(IF(B57<>0,3,0))))<>0,((SUM((IF(B52<>0,3,0)),(IF(B53<>0,3,0)),(IF(B54<>0,3,0)),(IF(B55<>0,3,0)),(IF(B56<>0,3,0)),(IF(B57<>0,3,0))))),1)))","v":0},{"$f":"((IF((SUM(C52:C57))<>0,(SUM(C52:C57)),0))/(IF((SUM((IF(C52<>0,3,0)),(IF(C53<>0,3,0)),(IF(C54<>0,3,0)),(IF(C55<>0,3,0)),(IF(C56<>0,3,0)),(IF(C57<>0,3,0))))<>0,((SUM((IF(C52<>0,3,0)),(IF(C53<>0,3,0)),(IF(C54<>0,3,0)),(IF(C55<>0,3,0)),(IF(C56<>0,3,0)),(IF(C57<>0,3,0))))),1)))","v":0},0,0,0,0,0,0,0,0,0,0,0,0,0,0,0,0,0,0,0,0,0,0,0,0,0,0,0,0,0,0,0]
["03.501"]
["salle de réunion en place (café, thé, lunch…) ",{"$f":"IF(AND(B$8=Display!$T$10,'Lux4-sept'!$A$8=Display!$B$7,'Lux4-sept'!$A$9=Display!$B$9,'Lux4-sept'!$A$10=Display!$B$11,'Lux4-sept'!$A$59=Display!$B$13),Display!$D4,)","v":0},{"$f":"IF(AND(C$8=Display!$T$10,'Lux4-sept'!$A$8=Display!$B$7,'Lux4-sept'!$A$9=Display!$B$9,'Lux4-sept'!$A$10=Display!$B$11,'Lux4-sept'!$A$59=Display!$B$13),Display!$D4,)","v":0},{"$f":"IF(AND(D$8=Display!$T$10,'Lux4-sept'!$A$8=Display!$B$7,'Lux4-sept'!$A$9=Display!$B$9,'Lux4-sept'!$A$10=Display!$B$11,'Lux4-sept'!$A$59=Display!$B$13),Display!$D4,)","v":0},{"$f":"IF(AND(E$8=Display!$T$10,'Lux4-sept'!$A$8=Display!$B$7,'Lux4-sept'!$A$9=Display!$B$9,'Lux4-sept'!$A$10=Display!$B$11,'Lux4-sept'!$A$59=Display!$B$13),Display!$D4,)","v":0},{"$f":"IF(AND(F$8=Display!$T$10,'Lux4-sept'!$A$8=Display!$B$7,'Lux4-sept'!$A$9=Display!$B$9,'Lux4-sept'!$A$10=Display!$B$11,'Lux4-sept'!$A$59=Display!$B$13),Display!$D4,)","v":0},{"$f":"IF(AND(G$8=Display!$T$10,'Lux4-sept'!$A$8=Display!$B$7,'Lux4-sept'!$A$9=Display!$B$9,'Lux4-sept'!$A$10=Display!$B$11,'Lux4-sept'!$A$59=Display!$B$13),Display!$D4,)","v":0},{"$f":"IF(AND(H$8=Display!$T$10,'Lux4-sept'!$A$8=Display!$B$7,'Lux4-sept'!$A$9=Display!$B$9,'Lux4-sept'!$A$10=Display!$B$11,'Lux4-sept'!$A$59=Display!$B$13),Display!$D4,)","v":0},{"$f":"IF(AND(I$8=Display!$T$10,'Lux4-sept'!$A$8=Display!$B$7,'Lux4-sept'!$A$9=Display!$B$9,'Lux4-sept'!$A$10=Display!$B$11,'Lux4-sept'!$A$59=Display!$B$13),Display!$D4,)","v":0},{"$f":"IF(AND(J$8=Display!$T$10,'Lux4-sept'!$A$8=Display!$B$7,'Lux4-sept'!$A$9=Display!$B$9,'Lux4-sept'!$A$10=Display!$B$11,'Lux4-sept'!$A$59=Display!$B$13),Display!$D4,)","v":0},{"$f":"IF(AND(K$8=Display!$T$10,'Lux4-sept'!$A$8=Display!$B$7,'Lux4-sept'!$A$9=Display!$B$9,'Lux4-sept'!$A$10=Display!$B$11,'Lux4-sept'!$A$59=Display!$B$13),Display!$D4,)","v":0},{"$f":"IF(AND(L$8=Display!$T$10,'Lux4-sept'!$A$8=Display!$B$7,'Lux4-sept'!$A$9=Display!$B$9,'Lux4-sept'!$A$10=Display!$B$11,'Lux4-sept'!$A$59=Display!$B$13),Display!$D4,)","v":0},{"$f":"IF(AND(M$8=Display!$T$10,'Lux4-sept'!$A$8=Display!$B$7,'Lux4-sept'!$A$9=Display!$B$9,'Lux4-sept'!$A$10=Display!$B$11,'Lux4-sept'!$A$59=Display!$B$13),Display!$D4,)","v":0},{"$f":"IF(AND(N$8=Display!$T$10,'Lux4-sept'!$A$8=Display!$B$7,'Lux4-sept'!$A$9=Display!$B$9,'Lux4-sept'!$A$10=Display!$B$11,'Lux4-sept'!$A$59=Display!$B$13),Display!$D4,)","v":0},{"$f":"IF(AND(O$8=Display!$T$10,'Lux4-sept'!$A$8=Display!$B$7,'Lux4-sept'!$A$9=Display!$B$9,'Lux4-sept'!$A$10=Display!$B$11,'Lux4-sept'!$A$59=Display!$B$13),Display!$D4,)","v":0},{"$f":"IF(AND(P$8=Display!$T$10,'Lux4-sept'!$A$8=Display!$B$7,'Lux4-sept'!$A$9=Display!$B$9,'Lux4-sept'!$A$10=Display!$B$11,'Lux4-sept'!$A$59=Display!$B$13),Display!$D4,)","v":0},{"$f":"IF(AND(Q$8=Display!$T$10,'Lux4-sept'!$A$8=Display!$B$7,'Lux4-sept'!$A$9=Display!$B$9,'Lux4-sept'!$A$10=Display!$B$11,'Lux4-sept'!$A$59=Display!$B$13),Display!$D4,)","v":0},{"$f":"IF(AND(R$8=Display!$T$10,'Lux4-sept'!$A$8=Display!$B$7,'Lux4-sept'!$A$9=Display!$B$9,'Lux4-sept'!$A$10=Display!$B$11,'Lux4-sept'!$A$59=Display!$B$13),Display!$D4,)","v":0},{"$f":"IF(AND(S$8=Display!$T$10,'Lux4-sept'!$A$8=Display!$B$7,'Lux4-sept'!$A$9=Display!$B$9,'Lux4-sept'!$A$10=Display!$B$11,'Lux4-sept'!$A$59=Display!$B$13),Display!$D4,)","v":0},{"$f":"IF(AND(T$8=Display!$T$10,'Lux4-sept'!$A$8=Display!$B$7,'Lux4-sept'!$A$9=Display!$B$9,'Lux4-sept'!$A$10=Display!$B$11,'Lux4-sept'!$A$59=Display!$B$13),Display!$D4,)","v":0},{"$f":"IF(AND(U$8=Display!$T$10,'Lux4-sept'!$A$8=Display!$B$7,'Lux4-sept'!$A$9=Display!$B$9,'Lux4-sept'!$A$10=Display!$B$11,'Lux4-sept'!$A$59=Display!$B$13),Display!$D4,)","v":0},{"$f":"IF(AND(V$8=Display!$T$10,'Lux4-sept'!$A$8=Display!$B$7,'Lux4-sept'!$A$9=Display!$B$9,'Lux4-sept'!$A$10=Display!$B$11,'Lux4-sept'!$A$59=Display!$B$13),Display!$D4,)","v":0},{"$f":"IF(AND(W$8=Display!$T$10,'Lux4-sept'!$A$8=Display!$B$7,'Lux4-sept'!$A$9=Display!$B$9,'Lux4-sept'!$A$10=Display!$B$11,'Lux4-sept'!$A$59=Display!$B$13),Display!$D4,)","v":0},{"$f":"IF(AND(X$8=Display!$T$10,'Lux4-sept'!$A$8=Display!$B$7,'Lux4-sept'!$A$9=Display!$B$9,'Lux4-sept'!$A$10=Display!$B$11,'Lux4-sept'!$A$59=Display!$B$13),Display!$D4,)","v":0},{"$f":"IF(AND(Y$8=Display!$T$10,'Lux4-sept'!$A$8=Display!$B$7,'Lux4-sept'!$A$9=Display!$B$9,'Lux4-sept'!$A$10=Display!$B$11,'Lux4-sept'!$A$59=Display!$B$13),Display!$D4,)","v":0},{"$f":"IF(AND(Z$8=Display!$T$10,'Lux4-sept'!$A$8=Display!$B$7,'Lux4-sept'!$A$9=Display!$B$9,'Lux4-sept'!$A$10=Display!$B$11,'Lux4-sept'!$A$59=Display!$B$13),Display!$D4,)","v":0},{"$f":"IF(AND(AA$8=Display!$T$10,'Lux4-sept'!$A$8=Display!$B$7,'Lux4-sept'!$A$9=Display!$B$9,'Lux4-sept'!$A$10=Display!$B$11,'Lux4-sept'!$A$59=Display!$B$13),Display!$D4,)","v":0},{"$f":"IF(AND(AB$8=Display!$T$10,'Lux4-sept'!$A$8=Display!$B$7,'Lux4-sept'!$A$9=Display!$B$9,'Lux4-sept'!$A$10=Display!$B$11,'Lux4-sept'!$A$59=Display!$B$13),Display!$D4,)","v":0},{"$f":"IF(AND(AC$8=Display!$T$10,'Lux4-sept'!$A$8=Display!$B$7,'Lux4-sept'!$A$9=Display!$B$9,'Lux4-sept'!$A$10=Display!$B$11,'Lux4-sept'!$A$59=Display!$B$13),Display!$D4,)","v":0},{"$f":"IF(AND(AD$8=Display!$T$10,'Lux4-sept'!$A$8=Display!$B$7,'Lux4-sept'!$A$9=Display!$B$9,'Lux4-sept'!$A$10=Display!$B$11,'Lux4-sept'!$A$59=Display!$B$13),Display!$D4,)","v":0},{"$f":"IF(AND(AE$8=Display!$T$10,'Lux4-sept'!$A$8=Display!$B$7,'Lux4-sept'!$A$9=Display!$B$9,'Lux4-sept'!$A$10=Display!$B$11,'Lux4-sept'!$A$59=Display!$B$13),Display!$D4,)","v":0},{"$f":"IF(AND(AF$8=Display!$T$10,'Lux4-sept'!$A$8=Display!$B$7,'Lux4-sept'!$A$9=Display!$B$9,'Lux4-sept'!$A$10=Display!$B$11,'Lux4-sept'!$A$59=Display!$B$13),Display!$D4,)","v":0},null,null,{"$f":"((IF((SUM(B60:AF60))<>0,(SUM(B60:AF60)),0))/(IF((SUM((IF(B60<>0,3,0)),(IF(C60<>0,3,0)),(IF(D60<>0,3,0)),(IF(E60<>0,3,0)),(IF(F60<>0,3,0)),(IF(F60<>0,3,0)),(IF(F60<>0,3,0)),(IF(G60<>0,3,0)),(IF(H60<>0,3,0)),(IF(I60<>0,3,0)),(IF(J60<>0,3,0)),(IF(K60<>0,3,0)),(IF(L60<>0,3,0)),(IF(M60<>0,3,0)),(IF(N60<>0,3,0)),(IF(O60<>0,3,0)),(IF(P60<>0,3,0)),(IF(Q60<>0,3,0)),(IF(R60<>0,3,0)),(IF(S60<>0,3,0)),(IF(T60<>0,3,0)),(IF(U60<>0,3,0)),(IF(V60<>0,3,0)),(IF(W60<>0,3,0)),(IF(X60<>0,3,0)),(IF(Y60<>0,3,0)),(IF(Z60<>0,3,0)),(IF(AA60<>0,3,0)),(IF(AB60<>0,3,0)),(IF(AC60<>0,3,0)),(IF(AD60<>0,3,0)),(IF(AE60<>0,3,0)),(IF(AF60<>0,3,0))))<>0,((SUM((IF(B60<>0,3,0)),(IF(C60<>0,3,0)),(IF(D60<>0,3,0)),(IF(E60<>0,3,0)),(IF(F60<>0,3,0)),(IF(F60<>0,3,0)),(IF(F60<>0,3,0)),(IF(G60<>0,3,0)),(IF(H60<>0,3,0)),(IF(I60<>0,3,0)),(IF(J60<>0,3,0)),(IF(K60<>0,3,0)),(IF(L60<>0,3,0)),(IF(M60<>0,3,0)),(IF(N60<>0,3,0)),(IF(O60<>0,3,0)),(IF(P60<>0,3,0)),(IF(Q60<>0,3,0)),(IF(R60<>0,3,0)),(IF(S60<>0,3,0)),(IF(T60<>0,3,0)),(IF(U60<>0,3,0)),(IF(V60<>0,3,0)),(IF(W60<>0,3,0)),(IF(X60<>0,3,0)),(IF(Y60<>0,3,0)),(IF(Z60<>0,3,0)),(IF(AA60<>0,3,0)),(IF(AB60<>0,3,0)),(IF(AC60<>0,3,0)),(IF(AD60<>0,3,0)),(IF(AE60<>0,3,0)),(IF(AF60<>0,3,0))))),1)))","v":0}]
["Salle prête à être utiliser après les meeting",{"$f":"IF(AND(B$8=Display!$T$10,'Lux4-sept'!$A$8=Display!$B$7,'Lux4-sept'!$A$9=Display!$B$9,'Lux4-sept'!$A$10=Display!$B$11,'Lux4-sept'!$A$59=Display!$B$13),Display!$D5,)","v":0},{"$f":"IF(AND(C$8=Display!$T$10,'Lux4-sept'!$A$8=Display!$B$7,'Lux4-sept'!$A$9=Display!$B$9,'Lux4-sept'!$A$10=Display!$B$11,'Lux4-sept'!$A$59=Display!$B$13),Display!$D5,)","v":0},{"$f":"IF(AND(D$8=Display!$T$10,'Lux4-sept'!$A$8=Display!$B$7,'Lux4-sept'!$A$9=Display!$B$9,'Lux4-sept'!$A$10=Display!$B$11,'Lux4-sept'!$A$59=Display!$B$13),Display!$D5,)","v":0},{"$f":"IF(AND(E$8=Display!$T$10,'Lux4-sept'!$A$8=Display!$B$7,'Lux4-sept'!$A$9=Display!$B$9,'Lux4-sept'!$A$10=Display!$B$11,'Lux4-sept'!$A$59=Display!$B$13),Display!$D5,)","v":0},{"$f":"IF(AND(F$8=Display!$T$10,'Lux4-sept'!$A$8=Display!$B$7,'Lux4-sept'!$A$9=Display!$B$9,'Lux4-sept'!$A$10=Display!$B$11,'Lux4-sept'!$A$59=Display!$B$13),Display!$D5,)","v":0},{"$f":"IF(AND(G$8=Display!$T$10,'Lux4-sept'!$A$8=Display!$B$7,'Lux4-sept'!$A$9=Display!$B$9,'Lux4-sept'!$A$10=Display!$B$11,'Lux4-sept'!$A$59=Display!$B$13),Display!$D5,)","v":0},{"$f":"IF(AND(H$8=Display!$T$10,'Lux4-sept'!$A$8=Display!$B$7,'Lux4-sept'!$A$9=Display!$B$9,'Lux4-sept'!$A$10=Display!$B$11,'Lux4-sept'!$A$59=Display!$B$13),Display!$D5,)","v":0},{"$f":"IF(AND(I$8=Display!$T$10,'Lux4-sept'!$A$8=Display!$B$7,'Lux4-sept'!$A$9=Display!$B$9,'Lux4-sept'!$A$10=Display!$B$11,'Lux4-sept'!$A$59=Display!$B$13),Display!$D5,)","v":0},{"$f":"IF(AND(J$8=Display!$T$10,'Lux4-sept'!$A$8=Display!$B$7,'Lux4-sept'!$A$9=Display!$B$9,'Lux4-sept'!$A$10=Display!$B$11,'Lux4-sept'!$A$59=Display!$B$13),Display!$D5,)","v":0},{"$f":"IF(AND(K$8=Display!$T$10,'Lux4-sept'!$A$8=Display!$B$7,'Lux4-sept'!$A$9=Display!$B$9,'Lux4-sept'!$A$10=Display!$B$11,'Lux4-sept'!$A$59=Display!$B$13),Display!$D5,)","v":0},{"$f":"IF(AND(L$8=Display!$T$10,'Lux4-sept'!$A$8=Display!$B$7,'Lux4-sept'!$A$9=Display!$B$9,'Lux4-sept'!$A$10=Display!$B$11,'Lux4-sept'!$A$59=Display!$B$13),Display!$D5,)","v":0},{"$f":"IF(AND(M$8=Display!$T$10,'Lux4-sept'!$A$8=Display!$B$7,'Lux4-sept'!$A$9=Display!$B$9,'Lux4-sept'!$A$10=Display!$B$11,'Lux4-sept'!$A$59=Display!$B$13),Display!$D5,)","v":0},{"$f":"IF(AND(N$8=Display!$T$10,'Lux4-sept'!$A$8=Display!$B$7,'Lux4-sept'!$A$9=Display!$B$9,'Lux4-sept'!$A$10=Display!$B$11,'Lux4-sept'!$A$59=Display!$B$13),Display!$D5,)","v":0},{"$f":"IF(AND(O$8=Display!$T$10,'Lux4-sept'!$A$8=Display!$B$7,'Lux4-sept'!$A$9=Display!$B$9,'Lux4-sept'!$A$10=Display!$B$11,'Lux4-sept'!$A$59=Display!$B$13),Display!$D5,)","v":0},{"$f":"IF(AND(P$8=Display!$T$10,'Lux4-sept'!$A$8=Display!$B$7,'Lux4-sept'!$A$9=Display!$B$9,'Lux4-sept'!$A$10=Display!$B$11,'Lux4-sept'!$A$59=Display!$B$13),Display!$D5,)","v":0},{"$f":"IF(AND(Q$8=Display!$T$10,'Lux4-sept'!$A$8=Display!$B$7,'Lux4-sept'!$A$9=Display!$B$9,'Lux4-sept'!$A$10=Display!$B$11,'Lux4-sept'!$A$59=Display!$B$13),Display!$D5,)","v":0},{"$f":"IF(AND(R$8=Display!$T$10,'Lux4-sept'!$A$8=Display!$B$7,'Lux4-sept'!$A$9=Display!$B$9,'Lux4-sept'!$A$10=Display!$B$11,'Lux4-sept'!$A$59=Display!$B$13),Display!$D5,)","v":0},{"$f":"IF(AND(S$8=Display!$T$10,'Lux4-sept'!$A$8=Display!$B$7,'Lux4-sept'!$A$9=Display!$B$9,'Lux4-sept'!$A$10=Display!$B$11,'Lux4-sept'!$A$59=Display!$B$13),Display!$D5,)","v":0},{"$f":"IF(AND(T$8=Display!$T$10,'Lux4-sept'!$A$8=Display!$B$7,'Lux4-sept'!$A$9=Display!$B$9,'Lux4-sept'!$A$10=Display!$B$11,'Lux4-sept'!$A$59=Display!$B$13),Display!$D5,)","v":0},{"$f":"IF(AND(U$8=Display!$T$10,'Lux4-sept'!$A$8=Display!$B$7,'Lux4-sept'!$A$9=Display!$B$9,'Lux4-sept'!$A$10=Display!$B$11,'Lux4-sept'!$A$59=Display!$B$13),Display!$D5,)","v":0},{"$f":"IF(AND(V$8=Display!$T$10,'Lux4-sept'!$A$8=Display!$B$7,'Lux4-sept'!$A$9=Display!$B$9,'Lux4-sept'!$A$10=Display!$B$11,'Lux4-sept'!$A$59=Display!$B$13),Display!$D5,)","v":0},{"$f":"IF(AND(W$8=Display!$T$10,'Lux4-sept'!$A$8=Display!$B$7,'Lux4-sept'!$A$9=Display!$B$9,'Lux4-sept'!$A$10=Display!$B$11,'Lux4-sept'!$A$59=Display!$B$13),Display!$D5,)","v":0},{"$f":"IF(AND(X$8=Display!$T$10,'Lux4-sept'!$A$8=Display!$B$7,'Lux4-sept'!$A$9=Display!$B$9,'Lux4-sept'!$A$10=Display!$B$11,'Lux4-sept'!$A$59=Display!$B$13),Display!$D5,)","v":0},{"$f":"IF(AND(Y$8=Display!$T$10,'Lux4-sept'!$A$8=Display!$B$7,'Lux4-sept'!$A$9=Display!$B$9,'Lux4-sept'!$A$10=Display!$B$11,'Lux4-sept'!$A$59=Display!$B$13),Display!$D5,)","v":0},{"$f":"IF(AND(Z$8=Display!$T$10,'Lux4-sept'!$A$8=Display!$B$7,'Lux4-sept'!$A$9=Display!$B$9,'Lux4-sept'!$A$10=Display!$B$11,'Lux4-sept'!$A$59=Display!$B$13),Display!$D5,)","v":0},{"$f":"IF(AND(AA$8=Display!$T$10,'Lux4-sept'!$A$8=Display!$B$7,'Lux4-sept'!$A$9=Display!$B$9,'Lux4-sept'!$A$10=Display!$B$11,'Lux4-sept'!$A$59=Display!$B$13),Display!$D5,)","v":0},{"$f":"IF(AND(AB$8=Display!$T$10,'Lux4-sept'!$A$8=Display!$B$7,'Lux4-sept'!$A$9=Display!$B$9,'Lux4-sept'!$A$10=Display!$B$11,'Lux4-sept'!$A$59=Display!$B$13),Display!$D5,)","v":0},{"$f":"IF(AND(AC$8=Display!$T$10,'Lux4-sept'!$A$8=Display!$B$7,'Lux4-sept'!$A$9=Display!$B$9,'Lux4-sept'!$A$10=Display!$B$11,'Lux4-sept'!$A$59=Display!$B$13),Display!$D5,)","v":0},{"$f":"IF(AND(AD$8=Display!$T$10,'Lux4-sept'!$A$8=Display!$B$7,'Lux4-sept'!$A$9=Display!$B$9,'Lux4-sept'!$A$10=Display!$B$11,'Lux4-sept'!$A$59=Display!$B$13),Display!$D5,)","v":0},{"$f":"IF(AND(AE$8=Display!$T$10,'Lux4-sept'!$A$8=Display!$B$7,'Lux4-sept'!$A$9=Display!$B$9,'Lux4-sept'!$A$10=Display!$B$11,'Lux4-sept'!$A$59=Display!$B$13),Display!$D5,)","v":0},{"$f":"IF(AND(AF$8=Display!$T$10,'Lux4-sept'!$A$8=Display!$B$7,'Lux4-sept'!$A$9=Display!$B$9,'Lux4-sept'!$A$10=Display!$B$11,'Lux4-sept'!$A$59=Display!$B$13),Display!$D5,)","v":0},null,null,{"$f":"((IF((SUM(B61:AF61))<>0,(SUM(B61:AF61)),0))/(IF((SUM((IF(B61<>0,3,0)),(IF(C61<>0,3,0)),(IF(D61<>0,3,0)),(IF(E61<>0,3,0)),(IF(F61<>0,3,0)),(IF(F61<>0,3,0)),(IF(F61<>0,3,0)),(IF(G61<>0,3,0)),(IF(H61<>0,3,0)),(IF(I61<>0,3,0)),(IF(J61<>0,3,0)),(IF(K61<>0,3,0)),(IF(L61<>0,3,0)),(IF(M61<>0,3,0)),(IF(N61<>0,3,0)),(IF(O61<>0,3,0)),(IF(P61<>0,3,0)),(IF(Q61<>0,3,0)),(IF(R61<>0,3,0)),(IF(S61<>0,3,0)),(IF(T61<>0,3,0)),(IF(U61<>0,3,0)),(IF(V61<>0,3,0)),(IF(W61<>0,3,0)),(IF(X61<>0,3,0)),(IF(Y61<>0,3,0)),(IF(Z61<>0,3,0)),(IF(AA61<>0,3,0)),(IF(AB61<>0,3,0)),(IF(AC61<>0,3,0)),(IF(AD61<>0,3,0)),(IF(AE61<>0,3,0)),(IF(AF61<>0,3,0))))<>0,((SUM((IF(B61<>0,3,0)),(IF(C61<>0,3,0)),(IF(D61<>0,3,0)),(IF(E61<>0,3,0)),(IF(F61<>0,3,0)),(IF(F61<>0,3,0)),(IF(F61<>0,3,0)),(IF(G61<>0,3,0)),(IF(H61<>0,3,0)),(IF(I61<>0,3,0)),(IF(J61<>0,3,0)),(IF(K61<>0,3,0)),(IF(L61<>0,3,0)),(IF(M61<>0,3,0)),(IF(N61<>0,3,0)),(IF(O61<>0,3,0)),(IF(P61<>0,3,0)),(IF(Q61<>0,3,0)),(IF(R61<>0,3,0)),(IF(S61<>0,3,0)),(IF(T61<>0,3,0)),(IF(U61<>0,3,0)),(IF(V61<>0,3,0)),(IF(W61<>0,3,0)),(IF(X61<>0,3,0)),(IF(Y61<>0,3,0)),(IF(Z61<>0,3,0)),(IF(AA61<>0,3,0)),(IF(AB61<>0,3,0)),(IF(AC61<>0,3,0)),(IF(AD61<>0,3,0)),(IF(AE61<>0,3,0)),(IF(AF61<>0,3,0))))),1)))","v":0}]
["Chaises rangées",{"$f":"IF(AND(B$8=Display!$T$10,'Lux4-sept'!$A$8=Display!$B$7,'Lux4-sept'!$A$9=Display!$B$9,'Lux4-sept'!$A$10=Display!$B$11,'Lux4-sept'!$A$59=Display!$B$13),Display!$D6,)","v":0},{"$f":"IF(AND(C$8=Display!$T$10,'Lux4-sept'!$A$8=Display!$B$7,'Lux4-sept'!$A$9=Display!$B$9,'Lux4-sept'!$A$10=Display!$B$11,'Lux4-sept'!$A$59=Display!$B$13),Display!$D6,)","v":0},{"$f":"IF(AND(D$8=Display!$T$10,'Lux4-sept'!$A$8=Display!$B$7,'Lux4-sept'!$A$9=Display!$B$9,'Lux4-sept'!$A$10=Display!$B$11,'Lux4-sept'!$A$59=Display!$B$13),Display!$D6,)","v":0},{"$f":"IF(AND(E$8=Display!$T$10,'Lux4-sept'!$A$8=Display!$B$7,'Lux4-sept'!$A$9=Display!$B$9,'Lux4-sept'!$A$10=Display!$B$11,'Lux4-sept'!$A$59=Display!$B$13),Display!$D6,)","v":0},{"$f":"IF(AND(F$8=Display!$T$10,'Lux4-sept'!$A$8=Display!$B$7,'Lux4-sept'!$A$9=Display!$B$9,'Lux4-sept'!$A$10=Display!$B$11,'Lux4-sept'!$A$59=Display!$B$13),Display!$D6,)","v":0},{"$f":"IF(AND(G$8=Display!$T$10,'Lux4-sept'!$A$8=Display!$B$7,'Lux4-sept'!$A$9=Display!$B$9,'Lux4-sept'!$A$10=Display!$B$11,'Lux4-sept'!$A$59=Display!$B$13),Display!$D6,)","v":0},{"$f":"IF(AND(H$8=Display!$T$10,'Lux4-sept'!$A$8=Display!$B$7,'Lux4-sept'!$A$9=Display!$B$9,'Lux4-sept'!$A$10=Display!$B$11,'Lux4-sept'!$A$59=Display!$B$13),Display!$D6,)","v":0},{"$f":"IF(AND(I$8=Display!$T$10,'Lux4-sept'!$A$8=Display!$B$7,'Lux4-sept'!$A$9=Display!$B$9,'Lux4-sept'!$A$10=Display!$B$11,'Lux4-sept'!$A$59=Display!$B$13),Display!$D6,)","v":0},{"$f":"IF(AND(J$8=Display!$T$10,'Lux4-sept'!$A$8=Display!$B$7,'Lux4-sept'!$A$9=Display!$B$9,'Lux4-sept'!$A$10=Display!$B$11,'Lux4-sept'!$A$59=Display!$B$13),Display!$D6,)","v":0},{"$f":"IF(AND(K$8=Display!$T$10,'Lux4-sept'!$A$8=Display!$B$7,'Lux4-sept'!$A$9=Display!$B$9,'Lux4-sept'!$A$10=Display!$B$11,'Lux4-sept'!$A$59=Display!$B$13),Display!$D6,)","v":0},{"$f":"IF(AND(L$8=Display!$T$10,'Lux4-sept'!$A$8=Display!$B$7,'Lux4-sept'!$A$9=Display!$B$9,'Lux4-sept'!$A$10=Display!$B$11,'Lux4-sept'!$A$59=Display!$B$13),Display!$D6,)","v":0},{"$f":"IF(AND(M$8=Display!$T$10,'Lux4-sept'!$A$8=Display!$B$7,'Lux4-sept'!$A$9=Display!$B$9,'Lux4-sept'!$A$10=Display!$B$11,'Lux4-sept'!$A$59=Display!$B$13),Display!$D6,)","v":0},{"$f":"IF(AND(N$8=Display!$T$10,'Lux4-sept'!$A$8=Display!$B$7,'Lux4-sept'!$A$9=Display!$B$9,'Lux4-sept'!$A$10=Display!$B$11,'Lux4-sept'!$A$59=Display!$B$13),Display!$D6,)","v":0},{"$f":"IF(AND(O$8=Display!$T$10,'Lux4-sept'!$A$8=Display!$B$7,'Lux4-sept'!$A$9=Display!$B$9,'Lux4-sept'!$A$10=Display!$B$11,'Lux4-sept'!$A$59=Display!$B$13),Display!$D6,)","v":0},{"$f":"IF(AND(P$8=Display!$T$10,'Lux4-sept'!$A$8=Display!$B$7,'Lux4-sept'!$A$9=Display!$B$9,'Lux4-sept'!$A$10=Display!$B$11,'Lux4-sept'!$A$59=Display!$B$13),Display!$D6,)","v":0},{"$f":"IF(AND(Q$8=Display!$T$10,'Lux4-sept'!$A$8=Display!$B$7,'Lux4-sept'!$A$9=Display!$B$9,'Lux4-sept'!$A$10=Display!$B$11,'Lux4-sept'!$A$59=Display!$B$13),Display!$D6,)","v":0},{"$f":"IF(AND(R$8=Display!$T$10,'Lux4-sept'!$A$8=Display!$B$7,'Lux4-sept'!$A$9=Display!$B$9,'Lux4-sept'!$A$10=Display!$B$11,'Lux4-sept'!$A$59=Display!$B$13),Display!$D6,)","v":0},{"$f":"IF(AND(S$8=Display!$T$10,'Lux4-sept'!$A$8=Display!$B$7,'Lux4-sept'!$A$9=Display!$B$9,'Lux4-sept'!$A$10=Display!$B$11,'Lux4-sept'!$A$59=Display!$B$13),Display!$D6,)","v":0},{"$f":"IF(AND(T$8=Display!$T$10,'Lux4-sept'!$A$8=Display!$B$7,'Lux4-sept'!$A$9=Display!$B$9,'Lux4-sept'!$A$10=Display!$B$11,'Lux4-sept'!$A$59=Display!$B$13),Display!$D6,)","v":0},{"$f":"IF(AND(U$8=Display!$T$10,'Lux4-sept'!$A$8=Display!$B$7,'Lux4-sept'!$A$9=Display!$B$9,'Lux4-sept'!$A$10=Display!$B$11,'Lux4-sept'!$A$59=Display!$B$13),Display!$D6,)","v":0},{"$f":"IF(AND(V$8=Display!$T$10,'Lux4-sept'!$A$8=Display!$B$7,'Lux4-sept'!$A$9=Display!$B$9,'Lux4-sept'!$A$10=Display!$B$11,'Lux4-sept'!$A$59=Display!$B$13),Display!$D6,)","v":0},{"$f":"IF(AND(W$8=Display!$T$10,'Lux4-sept'!$A$8=Display!$B$7,'Lux4-sept'!$A$9=Display!$B$9,'Lux4-sept'!$A$10=Display!$B$11,'Lux4-sept'!$A$59=Display!$B$13),Display!$D6,)","v":0},{"$f":"IF(AND(X$8=Display!$T$10,'Lux4-sept'!$A$8=Display!$B$7,'Lux4-sept'!$A$9=Display!$B$9,'Lux4-sept'!$A$10=Display!$B$11,'Lux4-sept'!$A$59=Display!$B$13),Display!$D6,)","v":0},{"$f":"IF(AND(Y$8=Display!$T$10,'Lux4-sept'!$A$8=Display!$B$7,'Lux4-sept'!$A$9=Display!$B$9,'Lux4-sept'!$A$10=Display!$B$11,'Lux4-sept'!$A$59=Display!$B$13),Display!$D6,)","v":0},{"$f":"IF(AND(Z$8=Display!$T$10,'Lux4-sept'!$A$8=Display!$B$7,'Lux4-sept'!$A$9=Display!$B$9,'Lux4-sept'!$A$10=Display!$B$11,'Lux4-sept'!$A$59=Display!$B$13),Display!$D6,)","v":0},{"$f":"IF(AND(AA$8=Display!$T$10,'Lux4-sept'!$A$8=Display!$B$7,'Lux4-sept'!$A$9=Display!$B$9,'Lux4-sept'!$A$10=Display!$B$11,'Lux4-sept'!$A$59=Display!$B$13),Display!$D6,)","v":0},{"$f":"IF(AND(AB$8=Display!$T$10,'Lux4-sept'!$A$8=Display!$B$7,'Lux4-sept'!$A$9=Display!$B$9,'Lux4-sept'!$A$10=Display!$B$11,'Lux4-sept'!$A$59=Display!$B$13),Display!$D6,)","v":0},{"$f":"IF(AND(AC$8=Display!$T$10,'Lux4-sept'!$A$8=Display!$B$7,'Lux4-sept'!$A$9=Display!$B$9,'Lux4-sept'!$A$10=Display!$B$11,'Lux4-sept'!$A$59=Display!$B$13),Display!$D6,)","v":0},{"$f":"IF(AND(AD$8=Display!$T$10,'Lux4-sept'!$A$8=Display!$B$7,'Lux4-sept'!$A$9=Display!$B$9,'Lux4-sept'!$A$10=Display!$B$11,'Lux4-sept'!$A$59=Display!$B$13),Display!$D6,)","v":0},{"$f":"IF(AND(AE$8=Display!$T$10,'Lux4-sept'!$A$8=Display!$B$7,'Lux4-sept'!$A$9=Display!$B$9,'Lux4-sept'!$A$10=Display!$B$11,'Lux4-sept'!$A$59=Display!$B$13),Display!$D6,)","v":0},{"$f":"IF(AND(AF$8=Display!$T$10,'Lux4-sept'!$A$8=Display!$B$7,'Lux4-sept'!$A$9=Display!$B$9,'Lux4-sept'!$A$10=Display!$B$11,'Lux4-sept'!$A$59=Display!$B$13),Display!$D6,)","v":0},null,null,0]
["Poubelles vidées",{"$f":"IF(AND(B$8=Display!$T$10,'Lux4-sept'!$A$8=Display!$B$7,'Lux4-sept'!$A$9=Display!$B$9,'Lux4-sept'!$A$10=Display!$B$11,'Lux4-sept'!$A$59=Display!$B$13),Display!$D7,)","v":0},{"$f":"IF(AND(C$8=Display!$T$10,'Lux4-sept'!$A$8=Display!$B$7,'Lux4-sept'!$A$9=Display!$B$9,'Lux4-sept'!$A$10=Display!$B$11,'Lux4-sept'!$A$59=Display!$B$13),Display!$D7,)","v":0},{"$f":"IF(AND(D$8=Display!$T$10,'Lux4-sept'!$A$8=Display!$B$7,'Lux4-sept'!$A$9=Display!$B$9,'Lux4-sept'!$A$10=Display!$B$11,'Lux4-sept'!$A$59=Display!$B$13),Display!$D7,)","v":0},{"$f":"IF(AND(E$8=Display!$T$10,'Lux4-sept'!$A$8=Display!$B$7,'Lux4-sept'!$A$9=Display!$B$9,'Lux4-sept'!$A$10=Display!$B$11,'Lux4-sept'!$A$59=Display!$B$13),Display!$D7,)","v":0},{"$f":"IF(AND(F$8=Display!$T$10,'Lux4-sept'!$A$8=Display!$B$7,'Lux4-sept'!$A$9=Display!$B$9,'Lux4-sept'!$A$10=Display!$B$11,'Lux4-sept'!$A$59=Display!$B$13),Display!$D7,)","v":0},{"$f":"IF(AND(G$8=Display!$T$10,'Lux4-sept'!$A$8=Display!$B$7,'Lux4-sept'!$A$9=Display!$B$9,'Lux4-sept'!$A$10=Display!$B$11,'Lux4-sept'!$A$59=Display!$B$13),Display!$D7,)","v":0},{"$f":"IF(AND(H$8=Display!$T$10,'Lux4-sept'!$A$8=Display!$B$7,'Lux4-sept'!$A$9=Display!$B$9,'Lux4-sept'!$A$10=Display!$B$11,'Lux4-sept'!$A$59=Display!$B$13),Display!$D7,)","v":0},{"$f":"IF(AND(I$8=Display!$T$10,'Lux4-sept'!$A$8=Display!$B$7,'Lux4-sept'!$A$9=Display!$B$9,'Lux4-sept'!$A$10=Display!$B$11,'Lux4-sept'!$A$59=Display!$B$13),Display!$D7,)","v":0},{"$f":"IF(AND(J$8=Display!$T$10,'Lux4-sept'!$A$8=Display!$B$7,'Lux4-sept'!$A$9=Display!$B$9,'Lux4-sept'!$A$10=Display!$B$11,'Lux4-sept'!$A$59=Display!$B$13),Display!$D7,)","v":0},{"$f":"IF(AND(K$8=Display!$T$10,'Lux4-sept'!$A$8=Display!$B$7,'Lux4-sept'!$A$9=Display!$B$9,'Lux4-sept'!$A$10=Display!$B$11,'Lux4-sept'!$A$59=Display!$B$13),Display!$D7,)","v":0},{"$f":"IF(AND(L$8=Display!$T$10,'Lux4-sept'!$A$8=Display!$B$7,'Lux4-sept'!$A$9=Display!$B$9,'Lux4-sept'!$A$10=Display!$B$11,'Lux4-sept'!$A$59=Display!$B$13),Display!$D7,)","v":0},{"$f":"IF(AND(M$8=Display!$T$10,'Lux4-sept'!$A$8=Display!$B$7,'Lux4-sept'!$A$9=Display!$B$9,'Lux4-sept'!$A$10=Display!$B$11,'Lux4-sept'!$A$59=Display!$B$13),Display!$D7,)","v":0},{"$f":"IF(AND(N$8=Display!$T$10,'Lux4-sept'!$A$8=Display!$B$7,'Lux4-sept'!$A$9=Display!$B$9,'Lux4-sept'!$A$10=Display!$B$11,'Lux4-sept'!$A$59=Display!$B$13),Display!$D7,)","v":0},{"$f":"IF(AND(O$8=Display!$T$10,'Lux4-sept'!$A$8=Display!$B$7,'Lux4-sept'!$A$9=Display!$B$9,'Lux4-sept'!$A$10=Display!$B$11,'Lux4-sept'!$A$59=Display!$B$13),Display!$D7,)","v":0},{"$f":"IF(AND(P$8=Display!$T$10,'Lux4-sept'!$A$8=Display!$B$7,'Lux4-sept'!$A$9=Display!$B$9,'Lux4-sept'!$A$10=Display!$B$11,'Lux4-sept'!$A$59=Display!$B$13),Display!$D7,)","v":0},{"$f":"IF(AND(Q$8=Display!$T$10,'Lux4-sept'!$A$8=Display!$B$7,'Lux4-sept'!$A$9=Display!$B$9,'Lux4-sept'!$A$10=Display!$B$11,'Lux4-sept'!$A$59=Display!$B$13),Display!$D7,)","v":0},{"$f":"IF(AND(R$8=Display!$T$10,'Lux4-sept'!$A$8=Display!$B$7,'Lux4-sept'!$A$9=Display!$B$9,'Lux4-sept'!$A$10=Display!$B$11,'Lux4-sept'!$A$59=Display!$B$13),Display!$D7,)","v":0},{"$f":"IF(AND(S$8=Display!$T$10,'Lux4-sept'!$A$8=Display!$B$7,'Lux4-sept'!$A$9=Display!$B$9,'Lux4-sept'!$A$10=Display!$B$11,'Lux4-sept'!$A$59=Display!$B$13),Display!$D7,)","v":0},{"$f":"IF(AND(T$8=Display!$T$10,'Lux4-sept'!$A$8=Display!$B$7,'Lux4-sept'!$A$9=Display!$B$9,'Lux4-sept'!$A$10=Display!$B$11,'Lux4-sept'!$A$59=Display!$B$13),Display!$D7,)","v":0},{"$f":"IF(AND(U$8=Display!$T$10,'Lux4-sept'!$A$8=Display!$B$7,'Lux4-sept'!$A$9=Display!$B$9,'Lux4-sept'!$A$10=Display!$B$11,'Lux4-sept'!$A$59=Display!$B$13),Display!$D7,)","v":0},{"$f":"IF(AND(V$8=Display!$T$10,'Lux4-sept'!$A$8=Display!$B$7,'Lux4-sept'!$A$9=Display!$B$9,'Lux4-sept'!$A$10=Display!$B$11,'Lux4-sept'!$A$59=Display!$B$13),Display!$D7,)","v":0},{"$f":"IF(AND(W$8=Display!$T$10,'Lux4-sept'!$A$8=Display!$B$7,'Lux4-sept'!$A$9=Display!$B$9,'Lux4-sept'!$A$10=Display!$B$11,'Lux4-sept'!$A$59=Display!$B$13),Display!$D7,)","v":0},{"$f":"IF(AND(X$8=Display!$T$10,'Lux4-sept'!$A$8=Display!$B$7,'Lux4-sept'!$A$9=Display!$B$9,'Lux4-sept'!$A$10=Display!$B$11,'Lux4-sept'!$A$59=Display!$B$13),Display!$D7,)","v":0},{"$f":"IF(AND(Y$8=Display!$T$10,'Lux4-sept'!$A$8=Display!$B$7,'Lux4-sept'!$A$9=Display!$B$9,'Lux4-sept'!$A$10=Display!$B$11,'Lux4-sept'!$A$59=Display!$B$13),Display!$D7,)","v":0},{"$f":"IF(AND(Z$8=Display!$T$10,'Lux4-sept'!$A$8=Display!$B$7,'Lux4-sept'!$A$9=Display!$B$9,'Lux4-sept'!$A$10=Display!$B$11,'Lux4-sept'!$A$59=Display!$B$13),Display!$D7,)","v":0},{"$f":"IF(AND(AA$8=Display!$T$10,'Lux4-sept'!$A$8=Display!$B$7,'Lux4-sept'!$A$9=Display!$B$9,'Lux4-sept'!$A$10=Display!$B$11,'Lux4-sept'!$A$59=Display!$B$13),Display!$D7,)","v":0},{"$f":"IF(AND(AB$8=Display!$T$10,'Lux4-sept'!$A$8=Display!$B$7,'Lux4-sept'!$A$9=Display!$B$9,'Lux4-sept'!$A$10=Display!$B$11,'Lux4-sept'!$A$59=Display!$B$13),Display!$D7,)","v":0},{"$f":"IF(AND(AC$8=Display!$T$10,'Lux4-sept'!$A$8=Display!$B$7,'Lux4-sept'!$A$9=Display!$B$9,'Lux4-sept'!$A$10=Display!$B$11,'Lux4-sept'!$A$59=Display!$B$13),Display!$D7,)","v":0},{"$f":"IF(AND(AD$8=Display!$T$10,'Lux4-sept'!$A$8=Display!$B$7,'Lux4-sept'!$A$9=Display!$B$9,'Lux4-sept'!$A$10=Display!$B$11,'Lux4-sept'!$A$59=Display!$B$13),Display!$D7,)","v":0},{"$f":"IF(AND(AE$8=Display!$T$10,'Lux4-sept'!$A$8=Display!$B$7,'Lux4-sept'!$A$9=Display!$B$9,'Lux4-sept'!$A$10=Display!$B$11,'Lux4-sept'!$A$59=Display!$B$13),Display!$D7,)","v":0},{"$f":"IF(AND(AF$8=Display!$T$10,'Lux4-sept'!$A$8=Display!$B$7,'Lux4-sept'!$A$9=Display!$B$9,'Lux4-sept'!$A$10=Display!$B$11,'Lux4-sept'!$A$59=Display!$B$13),Display!$D7,)","v":0},null,null,0]
["Tables nettoyées",{"$f":"IF(AND(B$8=Display!$T$10,'Lux4-sept'!$A$8=Display!$B$7,'Lux4-sept'!$A$9=Display!$B$9,'Lux4-sept'!$A$10=Display!$B$11,'Lux4-sept'!$A$59=Display!$B$13),Display!$D8,)","v":0},{"$f":"IF(AND(C$8=Display!$T$10,'Lux4-sept'!$A$8=Display!$B$7,'Lux4-sept'!$A$9=Display!$B$9,'Lux4-sept'!$A$10=Display!$B$11,'Lux4-sept'!$A$59=Display!$B$13),Display!$D8,)","v":0},{"$f":"IF(AND(D$8=Display!$T$10,'Lux4-sept'!$A$8=Display!$B$7,'Lux4-sept'!$A$9=Display!$B$9,'Lux4-sept'!$A$10=Display!$B$11,'Lux4-sept'!$A$59=Display!$B$13),Display!$D8,)","v":0},{"$f":"IF(AND(E$8=Display!$T$10,'Lux4-sept'!$A$8=Display!$B$7,'Lux4-sept'!$A$9=Display!$B$9,'Lux4-sept'!$A$10=Display!$B$11,'Lux4-sept'!$A$59=Display!$B$13),Display!$D8,)","v":0},{"$f":"IF(AND(F$8=Display!$T$10,'Lux4-sept'!$A$8=Display!$B$7,'Lux4-sept'!$A$9=Display!$B$9,'Lux4-sept'!$A$10=Display!$B$11,'Lux4-sept'!$A$59=Display!$B$13),Display!$D8,)","v":0},{"$f":"IF(AND(G$8=Display!$T$10,'Lux4-sept'!$A$8=Display!$B$7,'Lux4-sept'!$A$9=Display!$B$9,'Lux4-sept'!$A$10=Display!$B$11,'Lux4-sept'!$A$59=Display!$B$13),Display!$D8,)","v":0},{"$f":"IF(AND(H$8=Display!$T$10,'Lux4-sept'!$A$8=Display!$B$7,'Lux4-sept'!$A$9=Display!$B$9,'Lux4-sept'!$A$10=Display!$B$11,'Lux4-sept'!$A$59=Display!$B$13),Display!$D8,)","v":0},{"$f":"IF(AND(I$8=Display!$T$10,'Lux4-sept'!$A$8=Display!$B$7,'Lux4-sept'!$A$9=Display!$B$9,'Lux4-sept'!$A$10=Display!$B$11,'Lux4-sept'!$A$59=Display!$B$13),Display!$D8,)","v":0},{"$f":"IF(AND(J$8=Display!$T$10,'Lux4-sept'!$A$8=Display!$B$7,'Lux4-sept'!$A$9=Display!$B$9,'Lux4-sept'!$A$10=Display!$B$11,'Lux4-sept'!$A$59=Display!$B$13),Display!$D8,)","v":0},{"$f":"IF(AND(K$8=Display!$T$10,'Lux4-sept'!$A$8=Display!$B$7,'Lux4-sept'!$A$9=Display!$B$9,'Lux4-sept'!$A$10=Display!$B$11,'Lux4-sept'!$A$59=Display!$B$13),Display!$D8,)","v":0},{"$f":"IF(AND(L$8=Display!$T$10,'Lux4-sept'!$A$8=Display!$B$7,'Lux4-sept'!$A$9=Display!$B$9,'Lux4-sept'!$A$10=Display!$B$11,'Lux4-sept'!$A$59=Display!$B$13),Display!$D8,)","v":0},{"$f":"IF(AND(M$8=Display!$T$10,'Lux4-sept'!$A$8=Display!$B$7,'Lux4-sept'!$A$9=Display!$B$9,'Lux4-sept'!$A$10=Display!$B$11,'Lux4-sept'!$A$59=Display!$B$13),Display!$D8,)","v":0},{"$f":"IF(AND(N$8=Display!$T$10,'Lux4-sept'!$A$8=Display!$B$7,'Lux4-sept'!$A$9=Display!$B$9,'Lux4-sept'!$A$10=Display!$B$11,'Lux4-sept'!$A$59=Display!$B$13),Display!$D8,)","v":0},{"$f":"IF(AND(O$8=Display!$T$10,'Lux4-sept'!$A$8=Display!$B$7,'Lux4-sept'!$A$9=Display!$B$9,'Lux4-sept'!$A$10=Display!$B$11,'Lux4-sept'!$A$59=Display!$B$13),Display!$D8,)","v":0},{"$f":"IF(AND(P$8=Display!$T$10,'Lux4-sept'!$A$8=Display!$B$7,'Lux4-sept'!$A$9=Display!$B$9,'Lux4-sept'!$A$10=Display!$B$11,'Lux4-sept'!$A$59=Display!$B$13),Display!$D8,)","v":0},{"$f":"IF(AND(Q$8=Display!$T$10,'Lux4-sept'!$A$8=Display!$B$7,'Lux4-sept'!$A$9=Display!$B$9,'Lux4-sept'!$A$10=Display!$B$11,'Lux4-sept'!$A$59=Display!$B$13),Display!$D8,)","v":0},{"$f":"IF(AND(R$8=Display!$T$10,'Lux4-sept'!$A$8=Display!$B$7,'Lux4-sept'!$A$9=Display!$B$9,'Lux4-sept'!$A$10=Display!$B$11,'Lux4-sept'!$A$59=Display!$B$13),Display!$D8,)","v":0},{"$f":"IF(AND(S$8=Display!$T$10,'Lux4-sept'!$A$8=Display!$B$7,'Lux4-sept'!$A$9=Display!$B$9,'Lux4-sept'!$A$10=Display!$B$11,'Lux4-sept'!$A$59=Display!$B$13),Display!$D8,)","v":0},{"$f":"IF(AND(T$8=Display!$T$10,'Lux4-sept'!$A$8=Display!$B$7,'Lux4-sept'!$A$9=Display!$B$9,'Lux4-sept'!$A$10=Display!$B$11,'Lux4-sept'!$A$59=Display!$B$13),Display!$D8,)","v":0},{"$f":"IF(AND(U$8=Display!$T$10,'Lux4-sept'!$A$8=Display!$B$7,'Lux4-sept'!$A$9=Display!$B$9,'Lux4-sept'!$A$10=Display!$B$11,'Lux4-sept'!$A$59=Display!$B$13),Display!$D8,)","v":0},{"$f":"IF(AND(V$8=Display!$T$10,'Lux4-sept'!$A$8=Display!$B$7,'Lux4-sept'!$A$9=Display!$B$9,'Lux4-sept'!$A$10=Display!$B$11,'Lux4-sept'!$A$59=Display!$B$13),Display!$D8,)","v":0},{"$f":"IF(AND(W$8=Display!$T$10,'Lux4-sept'!$A$8=Display!$B$7,'Lux4-sept'!$A$9=Display!$B$9,'Lux4-sept'!$A$10=Display!$B$11,'Lux4-sept'!$A$59=Display!$B$13),Display!$D8,)","v":0},{"$f":"IF(AND(X$8=Display!$T$10,'Lux4-sept'!$A$8=Display!$B$7,'Lux4-sept'!$A$9=Display!$B$9,'Lux4-sept'!$A$10=Display!$B$11,'Lux4-sept'!$A$59=Display!$B$13),Display!$D8,)","v":0},{"$f":"IF(AND(Y$8=Display!$T$10,'Lux4-sept'!$A$8=Display!$B$7,'Lux4-sept'!$A$9=Display!$B$9,'Lux4-sept'!$A$10=Display!$B$11,'Lux4-sept'!$A$59=Display!$B$13),Display!$D8,)","v":0},{"$f":"IF(AND(Z$8=Display!$T$10,'Lux4-sept'!$A$8=Display!$B$7,'Lux4-sept'!$A$9=Display!$B$9,'Lux4-sept'!$A$10=Display!$B$11,'Lux4-sept'!$A$59=Display!$B$13),Display!$D8,)","v":0},{"$f":"IF(AND(AA$8=Display!$T$10,'Lux4-sept'!$A$8=Display!$B$7,'Lux4-sept'!$A$9=Display!$B$9,'Lux4-sept'!$A$10=Display!$B$11,'Lux4-sept'!$A$59=Display!$B$13),Display!$D8,)","v":0},{"$f":"IF(AND(AB$8=Display!$T$10,'Lux4-sept'!$A$8=Display!$B$7,'Lux4-sept'!$A$9=Display!$B$9,'Lux4-sept'!$A$10=Display!$B$11,'Lux4-sept'!$A$59=Display!$B$13),Display!$D8,)","v":0},{"$f":"IF(AND(AC$8=Display!$T$10,'Lux4-sept'!$A$8=Display!$B$7,'Lux4-sept'!$A$9=Display!$B$9,'Lux4-sept'!$A$10=Display!$B$11,'Lux4-sept'!$A$59=Display!$B$13),Display!$D8,)","v":0},{"$f":"IF(AND(AD$8=Display!$T$10,'Lux4-sept'!$A$8=Display!$B$7,'Lux4-sept'!$A$9=Display!$B$9,'Lux4-sept'!$A$10=Display!$B$11,'Lux4-sept'!$A$59=Display!$B$13),Display!$D8,)","v":0},{"$f":"IF(AND(AE$8=Display!$T$10,'Lux4-sept'!$A$8=Display!$B$7,'Lux4-sept'!$A$9=Display!$B$9,'Lux4-sept'!$A$10=Display!$B$11,'Lux4-sept'!$A$59=Display!$B$13),Display!$D8,)","v":0},{"$f":"IF(AND(AF$8=Display!$T$10,'Lux4-sept'!$A$8=Display!$B$7,'Lux4-sept'!$A$9=Display!$B$9,'Lux4-sept'!$A$10=Display!$B$11,'Lux4-sept'!$A$59=Display!$B$13),Display!$D8,)","v":0},null,null,0]
["Tableaux effacés",{"$f":"IF(AND(B$8=Display!$T$10,'Lux4-sept'!$A$8=Display!$B$7,'Lux4-sept'!$A$9=Display!$B$9,'Lux4-sept'!$A$10=Display!$B$11,'Lux4-sept'!$A$59=Display!$B$13),Display!$D9,)","v":0},{"$f":"IF(AND(C$8=Display!$T$10,'Lux4-sept'!$A$8=Display!$B$7,'Lux4-sept'!$A$9=Display!$B$9,'Lux4-sept'!$A$10=Display!$B$11,'Lux4-sept'!$A$59=Display!$B$13),Display!$D9,)","v":0},{"$f":"IF(AND(D$8=Display!$T$10,'Lux4-sept'!$A$8=Display!$B$7,'Lux4-sept'!$A$9=Display!$B$9,'Lux4-sept'!$A$10=Display!$B$11,'Lux4-sept'!$A$59=Display!$B$13),Display!$D9,)","v":0},{"$f":"IF(AND(E$8=Display!$T$10,'Lux4-sept'!$A$8=Display!$B$7,'Lux4-sept'!$A$9=Display!$B$9,'Lux4-sept'!$A$10=Display!$B$11,'Lux4-sept'!$A$59=Display!$B$13),Display!$D9,)","v":0},{"$f":"IF(AND(F$8=Display!$T$10,'Lux4-sept'!$A$8=Display!$B$7,'Lux4-sept'!$A$9=Display!$B$9,'Lux4-sept'!$A$10=Display!$B$11,'Lux4-sept'!$A$59=Display!$B$13),Display!$D9,)","v":0},{"$f":"IF(AND(G$8=Display!$T$10,'Lux4-sept'!$A$8=Display!$B$7,'Lux4-sept'!$A$9=Display!$B$9,'Lux4-sept'!$A$10=Display!$B$11,'Lux4-sept'!$A$59=Display!$B$13),Display!$D9,)","v":0},{"$f":"IF(AND(H$8=Display!$T$10,'Lux4-sept'!$A$8=Display!$B$7,'Lux4-sept'!$A$9=Display!$B$9,'Lux4-sept'!$A$10=Display!$B$11,'Lux4-sept'!$A$59=Display!$B$13),Display!$D9,)","v":0},{"$f":"IF(AND(I$8=Display!$T$10,'Lux4-sept'!$A$8=Display!$B$7,'Lux4-sept'!$A$9=Display!$B$9,'Lux4-sept'!$A$10=Display!$B$11,'Lux4-sept'!$A$59=Display!$B$13),Display!$D9,)","v":0},{"$f":"IF(AND(J$8=Display!$T$10,'Lux4-sept'!$A$8=Display!$B$7,'Lux4-sept'!$A$9=Display!$B$9,'Lux4-sept'!$A$10=Display!$B$11,'Lux4-sept'!$A$59=Display!$B$13),Display!$D9,)","v":0},{"$f":"IF(AND(K$8=Display!$T$10,'Lux4-sept'!$A$8=Display!$B$7,'Lux4-sept'!$A$9=Display!$B$9,'Lux4-sept'!$A$10=Display!$B$11,'Lux4-sept'!$A$59=Display!$B$13),Display!$D9,)","v":0},{"$f":"IF(AND(L$8=Display!$T$10,'Lux4-sept'!$A$8=Display!$B$7,'Lux4-sept'!$A$9=Display!$B$9,'Lux4-sept'!$A$10=Display!$B$11,'Lux4-sept'!$A$59=Display!$B$13),Display!$D9,)","v":0},{"$f":"IF(AND(M$8=Display!$T$10,'Lux4-sept'!$A$8=Display!$B$7,'Lux4-sept'!$A$9=Display!$B$9,'Lux4-sept'!$A$10=Display!$B$11,'Lux4-sept'!$A$59=Display!$B$13),Display!$D9,)","v":0},{"$f":"IF(AND(N$8=Display!$T$10,'Lux4-sept'!$A$8=Display!$B$7,'Lux4-sept'!$A$9=Display!$B$9,'Lux4-sept'!$A$10=Display!$B$11,'Lux4-sept'!$A$59=Display!$B$13),Display!$D9,)","v":0},{"$f":"IF(AND(O$8=Display!$T$10,'Lux4-sept'!$A$8=Display!$B$7,'Lux4-sept'!$A$9=Display!$B$9,'Lux4-sept'!$A$10=Display!$B$11,'Lux4-sept'!$A$59=Display!$B$13),Display!$D9,)","v":0},{"$f":"IF(AND(P$8=Display!$T$10,'Lux4-sept'!$A$8=Display!$B$7,'Lux4-sept'!$A$9=Display!$B$9,'Lux4-sept'!$A$10=Display!$B$11,'Lux4-sept'!$A$59=Display!$B$13),Display!$D9,)","v":0},{"$f":"IF(AND(Q$8=Display!$T$10,'Lux4-sept'!$A$8=Display!$B$7,'Lux4-sept'!$A$9=Display!$B$9,'Lux4-sept'!$A$10=Display!$B$11,'Lux4-sept'!$A$59=Display!$B$13),Display!$D9,)","v":0},{"$f":"IF(AND(R$8=Display!$T$10,'Lux4-sept'!$A$8=Display!$B$7,'Lux4-sept'!$A$9=Display!$B$9,'Lux4-sept'!$A$10=Display!$B$11,'Lux4-sept'!$A$59=Display!$B$13),Display!$D9,)","v":0},{"$f":"IF(AND(S$8=Display!$T$10,'Lux4-sept'!$A$8=Display!$B$7,'Lux4-sept'!$A$9=Display!$B$9,'Lux4-sept'!$A$10=Display!$B$11,'Lux4-sept'!$A$59=Display!$B$13),Display!$D9,)","v":0},{"$f":"IF(AND(T$8=Display!$T$10,'Lux4-sept'!$A$8=Display!$B$7,'Lux4-sept'!$A$9=Display!$B$9,'Lux4-sept'!$A$10=Display!$B$11,'Lux4-sept'!$A$59=Display!$B$13),Display!$D9,)","v":0},{"$f":"IF(AND(U$8=Display!$T$10,'Lux4-sept'!$A$8=Display!$B$7,'Lux4-sept'!$A$9=Display!$B$9,'Lux4-sept'!$A$10=Display!$B$11,'Lux4-sept'!$A$59=Display!$B$13),Display!$D9,)","v":0},{"$f":"IF(AND(V$8=Display!$T$10,'Lux4-sept'!$A$8=Display!$B$7,'Lux4-sept'!$A$9=Display!$B$9,'Lux4-sept'!$A$10=Display!$B$11,'Lux4-sept'!$A$59=Display!$B$13),Display!$D9,)","v":0},{"$f":"IF(AND(W$8=Display!$T$10,'Lux4-sept'!$A$8=Display!$B$7,'Lux4-sept'!$A$9=Display!$B$9,'Lux4-sept'!$A$10=Display!$B$11,'Lux4-sept'!$A$59=Display!$B$13),Display!$D9,)","v":0},{"$f":"IF(AND(X$8=Display!$T$10,'Lux4-sept'!$A$8=Display!$B$7,'Lux4-sept'!$A$9=Display!$B$9,'Lux4-sept'!$A$10=Display!$B$11,'Lux4-sept'!$A$59=Display!$B$13),Display!$D9,)","v":0},{"$f":"IF(AND(Y$8=Display!$T$10,'Lux4-sept'!$A$8=Display!$B$7,'Lux4-sept'!$A$9=Display!$B$9,'Lux4-sept'!$A$10=Display!$B$11,'Lux4-sept'!$A$59=Display!$B$13),Display!$D9,)","v":0},{"$f":"IF(AND(Z$8=Display!$T$10,'Lux4-sept'!$A$8=Display!$B$7,'Lux4-sept'!$A$9=Display!$B$9,'Lux4-sept'!$A$10=Display!$B$11,'Lux4-sept'!$A$59=Display!$B$13),Display!$D9,)","v":0},{"$f":"IF(AND(AA$8=Display!$T$10,'Lux4-sept'!$A$8=Display!$B$7,'Lux4-sept'!$A$9=Display!$B$9,'Lux4-sept'!$A$10=Display!$B$11,'Lux4-sept'!$A$59=Display!$B$13),Display!$D9,)","v":0},{"$f":"IF(AND(AB$8=Display!$T$10,'Lux4-sept'!$A$8=Display!$B$7,'Lux4-sept'!$A$9=Display!$B$9,'Lux4-sept'!$A$10=Display!$B$11,'Lux4-sept'!$A$59=Display!$B$13),Display!$D9,)","v":0},{"$f":"IF(AND(AC$8=Display!$T$10,'Lux4-sept'!$A$8=Display!$B$7,'Lux4-sept'!$A$9=Display!$B$9,'Lux4-sept'!$A$10=Display!$B$11,'Lux4-sept'!$A$59=Display!$B$13),Display!$D9,)","v":0},{"$f":"IF(AND(AD$8=Display!$T$10,'Lux4-sept'!$A$8=Display!$B$7,'Lux4-sept'!$A$9=Display!$B$9,'Lux4-sept'!$A$10=Display!$B$11,'Lux4-sept'!$A$59=Display!$B$13),Display!$D9,)","v":0},{"$f":"IF(AND(AE$8=Display!$T$10,'Lux4-sept'!$A$8=Display!$B$7,'Lux4-sept'!$A$9=Display!$B$9,'Lux4-sept'!$A$10=Display!$B$11,'Lux4-sept'!$A$59=Display!$B$13),Display!$D9,)","v":0},{"$f":"IF(AND(AF$8=Display!$T$10,'Lux4-sept'!$A$8=Display!$B$7,'Lux4-sept'!$A$9=Display!$B$9,'Lux4-sept'!$A$10=Display!$B$11,'Lux4-sept'!$A$59=Display!$B$13),Display!$D9,)","v":0},null,null,0]
["MOYENNE",{"$f":"((IF((SUM(B60:B65))<>0,(SUM(B60:B65)),0))/(IF((SUM((IF(B60<>0,3,0)),(IF(B61<>0,3,0)),(IF(B62<>0,3,0)),(IF(B63<>0,3,0)),(IF(B64<>0,3,0)),(IF(B65<>0,3,0))))<>0,((SUM((IF(B60<>0,3,0)),(IF(B61<>0,3,0)),(IF(B62<>0,3,0)),(IF(B63<>0,3,0)),(IF(B64<>0,3,0)),(IF(B65<>0,3,0))))),1)))","v":0},{"$f":"((IF((SUM(C60:C65))<>0,(SUM(C60:C65)),0))/(IF((SUM((IF(C60<>0,3,0)),(IF(C61<>0,3,0)),(IF(C62<>0,3,0)),(IF(C63<>0,3,0)),(IF(C64<>0,3,0)),(IF(C65<>0,3,0))))<>0,((SUM((IF(C60<>0,3,0)),(IF(C61<>0,3,0)),(IF(C62<>0,3,0)),(IF(C63<>0,3,0)),(IF(C64<>0,3,0)),(IF(C65<>0,3,0))))),1)))","v":0},0,0,0,0,0,0,0,0,0,0,0,0,0,0,0,0,0,0,0,0,0,0,0,0,0,0,0,0,0,0,0]
["04.500"]
["salle de réunion en place (café, thé, lunch…) ",{"$f":"IF(AND(B$8=Display!$T$10,'Lux4-sept'!$A$8=Display!$B$7,'Lux4-sept'!$A$9=Display!$B$9,'Lux4-sept'!$A$10=Display!$B$11,'Lux4-sept'!$A$67=Display!$B$13),Display!$D4,)","v":0},{"$f":"IF(AND(C$8=Display!$T$10,'Lux4-sept'!$A$8=Display!$B$7,'Lux4-sept'!$A$9=Display!$B$9,'Lux4-sept'!$A$10=Display!$B$11,'Lux4-sept'!$A$67=Display!$B$13),Display!$D4,)","v":0},{"$f":"IF(AND(D$8=Display!$T$10,'Lux4-sept'!$A$8=Display!$B$7,'Lux4-sept'!$A$9=Display!$B$9,'Lux4-sept'!$A$10=Display!$B$11,'Lux4-sept'!$A$67=Display!$B$13),Display!$D4,)","v":0},{"$f":"IF(AND(E$8=Display!$T$10,'Lux4-sept'!$A$8=Display!$B$7,'Lux4-sept'!$A$9=Display!$B$9,'Lux4-sept'!$A$10=Display!$B$11,'Lux4-sept'!$A$67=Display!$B$13),Display!$D4,)","v":0},{"$f":"IF(AND(F$8=Display!$T$10,'Lux4-sept'!$A$8=Display!$B$7,'Lux4-sept'!$A$9=Display!$B$9,'Lux4-sept'!$A$10=Display!$B$11,'Lux4-sept'!$A$67=Display!$B$13),Display!$D4,)","v":0},{"$f":"IF(AND(G$8=Display!$T$10,'Lux4-sept'!$A$8=Display!$B$7,'Lux4-sept'!$A$9=Display!$B$9,'Lux4-sept'!$A$10=Display!$B$11,'Lux4-sept'!$A$67=Display!$B$13),Display!$D4,)","v":0},{"$f":"IF(AND(H$8=Display!$T$10,'Lux4-sept'!$A$8=Display!$B$7,'Lux4-sept'!$A$9=Display!$B$9,'Lux4-sept'!$A$10=Display!$B$11,'Lux4-sept'!$A$67=Display!$B$13),Display!$D4,)","v":0},{"$f":"IF(AND(I$8=Display!$T$10,'Lux4-sept'!$A$8=Display!$B$7,'Lux4-sept'!$A$9=Display!$B$9,'Lux4-sept'!$A$10=Display!$B$11,'Lux4-sept'!$A$67=Display!$B$13),Display!$D4,)","v":0},{"$f":"IF(AND(J$8=Display!$T$10,'Lux4-sept'!$A$8=Display!$B$7,'Lux4-sept'!$A$9=Display!$B$9,'Lux4-sept'!$A$10=Display!$B$11,'Lux4-sept'!$A$67=Display!$B$13),Display!$D4,)","v":0},{"$f":"IF(AND(K$8=Display!$T$10,'Lux4-sept'!$A$8=Display!$B$7,'Lux4-sept'!$A$9=Display!$B$9,'Lux4-sept'!$A$10=Display!$B$11,'Lux4-sept'!$A$67=Display!$B$13),Display!$D4,)","v":0},{"$f":"IF(AND(L$8=Display!$T$10,'Lux4-sept'!$A$8=Display!$B$7,'Lux4-sept'!$A$9=Display!$B$9,'Lux4-sept'!$A$10=Display!$B$11,'Lux4-sept'!$A$67=Display!$B$13),Display!$D4,)","v":0},{"$f":"IF(AND(M$8=Display!$T$10,'Lux4-sept'!$A$8=Display!$B$7,'Lux4-sept'!$A$9=Display!$B$9,'Lux4-sept'!$A$10=Display!$B$11,'Lux4-sept'!$A$67=Display!$B$13),Display!$D4,)","v":0},{"$f":"IF(AND(N$8=Display!$T$10,'Lux4-sept'!$A$8=Display!$B$7,'Lux4-sept'!$A$9=Display!$B$9,'Lux4-sept'!$A$10=Display!$B$11,'Lux4-sept'!$A$67=Display!$B$13),Display!$D4,)","v":0},{"$f":"IF(AND(O$8=Display!$T$10,'Lux4-sept'!$A$8=Display!$B$7,'Lux4-sept'!$A$9=Display!$B$9,'Lux4-sept'!$A$10=Display!$B$11,'Lux4-sept'!$A$67=Display!$B$13),Display!$D4,)","v":0},{"$f":"IF(AND(P$8=Display!$T$10,'Lux4-sept'!$A$8=Display!$B$7,'Lux4-sept'!$A$9=Display!$B$9,'Lux4-sept'!$A$10=Display!$B$11,'Lux4-sept'!$A$67=Display!$B$13),Display!$D4,)","v":0},{"$f":"IF(AND(Q$8=Display!$T$10,'Lux4-sept'!$A$8=Display!$B$7,'Lux4-sept'!$A$9=Display!$B$9,'Lux4-sept'!$A$10=Display!$B$11,'Lux4-sept'!$A$67=Display!$B$13),Display!$D4,)","v":0},{"$f":"IF(AND(R$8=Display!$T$10,'Lux4-sept'!$A$8=Display!$B$7,'Lux4-sept'!$A$9=Display!$B$9,'Lux4-sept'!$A$10=Display!$B$11,'Lux4-sept'!$A$67=Display!$B$13),Display!$D4,)","v":0},{"$f":"IF(AND(S$8=Display!$T$10,'Lux4-sept'!$A$8=Display!$B$7,'Lux4-sept'!$A$9=Display!$B$9,'Lux4-sept'!$A$10=Display!$B$11,'Lux4-sept'!$A$67=Display!$B$13),Display!$D4,)","v":0},{"$f":"IF(AND(T$8=Display!$T$10,'Lux4-sept'!$A$8=Display!$B$7,'Lux4-sept'!$A$9=Display!$B$9,'Lux4-sept'!$A$10=Display!$B$11,'Lux4-sept'!$A$67=Display!$B$13),Display!$D4,)","v":0},{"$f":"IF(AND(U$8=Display!$T$10,'Lux4-sept'!$A$8=Display!$B$7,'Lux4-sept'!$A$9=Display!$B$9,'Lux4-sept'!$A$10=Display!$B$11,'Lux4-sept'!$A$67=Display!$B$13),Display!$D4,)","v":0},{"$f":"IF(AND(V$8=Display!$T$10,'Lux4-sept'!$A$8=Display!$B$7,'Lux4-sept'!$A$9=Display!$B$9,'Lux4-sept'!$A$10=Display!$B$11,'Lux4-sept'!$A$67=Display!$B$13),Display!$D4,)","v":0},{"$f":"IF(AND(W$8=Display!$T$10,'Lux4-sept'!$A$8=Display!$B$7,'Lux4-sept'!$A$9=Display!$B$9,'Lux4-sept'!$A$10=Display!$B$11,'Lux4-sept'!$A$67=Display!$B$13),Display!$D4,)","v":0},{"$f":"IF(AND(X$8=Display!$T$10,'Lux4-sept'!$A$8=Display!$B$7,'Lux4-sept'!$A$9=Display!$B$9,'Lux4-sept'!$A$10=Display!$B$11,'Lux4-sept'!$A$67=Display!$B$13),Display!$D4,)","v":0},{"$f":"IF(AND(Y$8=Display!$T$10,'Lux4-sept'!$A$8=Display!$B$7,'Lux4-sept'!$A$9=Display!$B$9,'Lux4-sept'!$A$10=Display!$B$11,'Lux4-sept'!$A$67=Display!$B$13),Display!$D4,)","v":0},{"$f":"IF(AND(Z$8=Display!$T$10,'Lux4-sept'!$A$8=Display!$B$7,'Lux4-sept'!$A$9=Display!$B$9,'Lux4-sept'!$A$10=Display!$B$11,'Lux4-sept'!$A$67=Display!$B$13),Display!$D4,)","v":0},{"$f":"IF(AND(AA$8=Display!$T$10,'Lux4-sept'!$A$8=Display!$B$7,'Lux4-sept'!$A$9=Display!$B$9,'Lux4-sept'!$A$10=Display!$B$11,'Lux4-sept'!$A$67=Display!$B$13),Display!$D4,)","v":0},{"$f":"IF(AND(AB$8=Display!$T$10,'Lux4-sept'!$A$8=Display!$B$7,'Lux4-sept'!$A$9=Display!$B$9,'Lux4-sept'!$A$10=Display!$B$11,'Lux4-sept'!$A$67=Display!$B$13),Display!$D4,)","v":0},{"$f":"IF(AND(AC$8=Display!$T$10,'Lux4-sept'!$A$8=Display!$B$7,'Lux4-sept'!$A$9=Display!$B$9,'Lux4-sept'!$A$10=Display!$B$11,'Lux4-sept'!$A$67=Display!$B$13),Display!$D4,)","v":0},{"$f":"IF(AND(AD$8=Display!$T$10,'Lux4-sept'!$A$8=Display!$B$7,'Lux4-sept'!$A$9=Display!$B$9,'Lux4-sept'!$A$10=Display!$B$11,'Lux4-sept'!$A$67=Display!$B$13),Display!$D4,)","v":0},{"$f":"IF(AND(AE$8=Display!$T$10,'Lux4-sept'!$A$8=Display!$B$7,'Lux4-sept'!$A$9=Display!$B$9,'Lux4-sept'!$A$10=Display!$B$11,'Lux4-sept'!$A$67=Display!$B$13),Display!$D4,)","v":0},{"$f":"IF(AND(AF$8=Display!$T$10,'Lux4-sept'!$A$8=Display!$B$7,'Lux4-sept'!$A$9=Display!$B$9,'Lux4-sept'!$A$10=Display!$B$11,'Lux4-sept'!$A$67=Display!$B$13),Display!$D4,)","v":0},null,null,{"$f":"((IF((SUM(B68:AF68))<>0,(SUM(B68:AF68)),0))/(IF((SUM((IF(B68<>0,3,0)),(IF(C68<>0,3,0)),(IF(D68<>0,3,0)),(IF(E68<>0,3,0)),(IF(F68<>0,3,0)),(IF(F68<>0,3,0)),(IF(F68<>0,3,0)),(IF(G68<>0,3,0)),(IF(H68<>0,3,0)),(IF(I68<>0,3,0)),(IF(J68<>0,3,0)),(IF(K68<>0,3,0)),(IF(L68<>0,3,0)),(IF(M68<>0,3,0)),(IF(N68<>0,3,0)),(IF(O68<>0,3,0)),(IF(P68<>0,3,0)),(IF(Q68<>0,3,0)),(IF(R68<>0,3,0)),(IF(S68<>0,3,0)),(IF(T68<>0,3,0)),(IF(U68<>0,3,0)),(IF(V68<>0,3,0)),(IF(W68<>0,3,0)),(IF(X68<>0,3,0)),(IF(Y68<>0,3,0)),(IF(Z68<>0,3,0)),(IF(AA68<>0,3,0)),(IF(AB68<>0,3,0)),(IF(AC68<>0,3,0)),(IF(AD68<>0,3,0)),(IF(AE68<>0,3,0)),(IF(AF68<>0,3,0))))<>0,((SUM((IF(B68<>0,3,0)),(IF(C68<>0,3,0)),(IF(D68<>0,3,0)),(IF(E68<>0,3,0)),(IF(F68<>0,3,0)),(IF(F68<>0,3,0)),(IF(F68<>0,3,0)),(IF(G68<>0,3,0)),(IF(H68<>0,3,0)),(IF(I68<>0,3,0)),(IF(J68<>0,3,0)),(IF(K68<>0,3,0)),(IF(L68<>0,3,0)),(IF(M68<>0,3,0)),(IF(N68<>0,3,0)),(IF(O68<>0,3,0)),(IF(P68<>0,3,0)),(IF(Q68<>0,3,0)),(IF(R68<>0,3,0)),(IF(S68<>0,3,0)),(IF(T68<>0,3,0)),(IF(U68<>0,3,0)),(IF(V68<>0,3,0)),(IF(W68<>0,3,0)),(IF(X68<>0,3,0)),(IF(Y68<>0,3,0)),(IF(Z68<>0,3,0)),(IF(AA68<>0,3,0)),(IF(AB68<>0,3,0)),(IF(AC68<>0,3,0)),(IF(AD68<>0,3,0)),(IF(AE68<>0,3,0)),(IF(AF68<>0,3,0))))),1)))","v":0}]
["Salle prête à être utiliser après les meeting",{"$f":"IF(AND(B$8=Display!$T$10,'Lux4-sept'!$A$8=Display!$B$7,'Lux4-sept'!$A$9=Display!$B$9,'Lux4-sept'!$A$10=Display!$B$11,'Lux4-sept'!$A$67=Display!$B$13),Display!$D5,)","v":0},{"$f":"IF(AND(C$8=Display!$T$10,'Lux4-sept'!$A$8=Display!$B$7,'Lux4-sept'!$A$9=Display!$B$9,'Lux4-sept'!$A$10=Display!$B$11,'Lux4-sept'!$A$67=Display!$B$13),Display!$D5,)","v":0},{"$f":"IF(AND(D$8=Display!$T$10,'Lux4-sept'!$A$8=Display!$B$7,'Lux4-sept'!$A$9=Display!$B$9,'Lux4-sept'!$A$10=Display!$B$11,'Lux4-sept'!$A$67=Display!$B$13),Display!$D5,)","v":0},{"$f":"IF(AND(E$8=Display!$T$10,'Lux4-sept'!$A$8=Display!$B$7,'Lux4-sept'!$A$9=Display!$B$9,'Lux4-sept'!$A$10=Display!$B$11,'Lux4-sept'!$A$67=Display!$B$13),Display!$D5,)","v":0},{"$f":"IF(AND(F$8=Display!$T$10,'Lux4-sept'!$A$8=Display!$B$7,'Lux4-sept'!$A$9=Display!$B$9,'Lux4-sept'!$A$10=Display!$B$11,'Lux4-sept'!$A$67=Display!$B$13),Display!$D5,)","v":0},{"$f":"IF(AND(G$8=Display!$T$10,'Lux4-sept'!$A$8=Display!$B$7,'Lux4-sept'!$A$9=Display!$B$9,'Lux4-sept'!$A$10=Display!$B$11,'Lux4-sept'!$A$67=Display!$B$13),Display!$D5,)","v":0},{"$f":"IF(AND(H$8=Display!$T$10,'Lux4-sept'!$A$8=Display!$B$7,'Lux4-sept'!$A$9=Display!$B$9,'Lux4-sept'!$A$10=Display!$B$11,'Lux4-sept'!$A$67=Display!$B$13),Display!$D5,)","v":0},{"$f":"IF(AND(I$8=Display!$T$10,'Lux4-sept'!$A$8=Display!$B$7,'Lux4-sept'!$A$9=Display!$B$9,'Lux4-sept'!$A$10=Display!$B$11,'Lux4-sept'!$A$67=Display!$B$13),Display!$D5,)","v":0},{"$f":"IF(AND(J$8=Display!$T$10,'Lux4-sept'!$A$8=Display!$B$7,'Lux4-sept'!$A$9=Display!$B$9,'Lux4-sept'!$A$10=Display!$B$11,'Lux4-sept'!$A$67=Display!$B$13),Display!$D5,)","v":0},{"$f":"IF(AND(K$8=Display!$T$10,'Lux4-sept'!$A$8=Display!$B$7,'Lux4-sept'!$A$9=Display!$B$9,'Lux4-sept'!$A$10=Display!$B$11,'Lux4-sept'!$A$67=Display!$B$13),Display!$D5,)","v":0},{"$f":"IF(AND(L$8=Display!$T$10,'Lux4-sept'!$A$8=Display!$B$7,'Lux4-sept'!$A$9=Display!$B$9,'Lux4-sept'!$A$10=Display!$B$11,'Lux4-sept'!$A$67=Display!$B$13),Display!$D5,)","v":0},{"$f":"IF(AND(M$8=Display!$T$10,'Lux4-sept'!$A$8=Display!$B$7,'Lux4-sept'!$A$9=Display!$B$9,'Lux4-sept'!$A$10=Display!$B$11,'Lux4-sept'!$A$67=Display!$B$13),Display!$D5,)","v":0},{"$f":"IF(AND(N$8=Display!$T$10,'Lux4-sept'!$A$8=Display!$B$7,'Lux4-sept'!$A$9=Display!$B$9,'Lux4-sept'!$A$10=Display!$B$11,'Lux4-sept'!$A$67=Display!$B$13),Display!$D5,)","v":0},{"$f":"IF(AND(O$8=Display!$T$10,'Lux4-sept'!$A$8=Display!$B$7,'Lux4-sept'!$A$9=Display!$B$9,'Lux4-sept'!$A$10=Display!$B$11,'Lux4-sept'!$A$67=Display!$B$13),Display!$D5,)","v":0},{"$f":"IF(AND(P$8=Display!$T$10,'Lux4-sept'!$A$8=Display!$B$7,'Lux4-sept'!$A$9=Display!$B$9,'Lux4-sept'!$A$10=Display!$B$11,'Lux4-sept'!$A$67=Display!$B$13),Display!$D5,)","v":0},{"$f":"IF(AND(Q$8=Display!$T$10,'Lux4-sept'!$A$8=Display!$B$7,'Lux4-sept'!$A$9=Display!$B$9,'Lux4-sept'!$A$10=Display!$B$11,'Lux4-sept'!$A$67=Display!$B$13),Display!$D5,)","v":0},{"$f":"IF(AND(R$8=Display!$T$10,'Lux4-sept'!$A$8=Display!$B$7,'Lux4-sept'!$A$9=Display!$B$9,'Lux4-sept'!$A$10=Display!$B$11,'Lux4-sept'!$A$67=Display!$B$13),Display!$D5,)","v":0},{"$f":"IF(AND(S$8=Display!$T$10,'Lux4-sept'!$A$8=Display!$B$7,'Lux4-sept'!$A$9=Display!$B$9,'Lux4-sept'!$A$10=Display!$B$11,'Lux4-sept'!$A$67=Display!$B$13),Display!$D5,)","v":0},{"$f":"IF(AND(T$8=Display!$T$10,'Lux4-sept'!$A$8=Display!$B$7,'Lux4-sept'!$A$9=Display!$B$9,'Lux4-sept'!$A$10=Display!$B$11,'Lux4-sept'!$A$67=Display!$B$13),Display!$D5,)","v":0},{"$f":"IF(AND(U$8=Display!$T$10,'Lux4-sept'!$A$8=Display!$B$7,'Lux4-sept'!$A$9=Display!$B$9,'Lux4-sept'!$A$10=Display!$B$11,'Lux4-sept'!$A$67=Display!$B$13),Display!$D5,)","v":0},{"$f":"IF(AND(V$8=Display!$T$10,'Lux4-sept'!$A$8=Display!$B$7,'Lux4-sept'!$A$9=Display!$B$9,'Lux4-sept'!$A$10=Display!$B$11,'Lux4-sept'!$A$67=Display!$B$13),Display!$D5,)","v":0},{"$f":"IF(AND(W$8=Display!$T$10,'Lux4-sept'!$A$8=Display!$B$7,'Lux4-sept'!$A$9=Display!$B$9,'Lux4-sept'!$A$10=Display!$B$11,'Lux4-sept'!$A$67=Display!$B$13),Display!$D5,)","v":0},{"$f":"IF(AND(X$8=Display!$T$10,'Lux4-sept'!$A$8=Display!$B$7,'Lux4-sept'!$A$9=Display!$B$9,'Lux4-sept'!$A$10=Display!$B$11,'Lux4-sept'!$A$67=Display!$B$13),Display!$D5,)","v":0},{"$f":"IF(AND(Y$8=Display!$T$10,'Lux4-sept'!$A$8=Display!$B$7,'Lux4-sept'!$A$9=Display!$B$9,'Lux4-sept'!$A$10=Display!$B$11,'Lux4-sept'!$A$67=Display!$B$13),Display!$D5,)","v":0},{"$f":"IF(AND(Z$8=Display!$T$10,'Lux4-sept'!$A$8=Display!$B$7,'Lux4-sept'!$A$9=Display!$B$9,'Lux4-sept'!$A$10=Display!$B$11,'Lux4-sept'!$A$67=Display!$B$13),Display!$D5,)","v":0},{"$f":"IF(AND(AA$8=Display!$T$10,'Lux4-sept'!$A$8=Display!$B$7,'Lux4-sept'!$A$9=Display!$B$9,'Lux4-sept'!$A$10=Display!$B$11,'Lux4-sept'!$A$67=Display!$B$13),Display!$D5,)","v":0},{"$f":"IF(AND(AB$8=Display!$T$10,'Lux4-sept'!$A$8=Display!$B$7,'Lux4-sept'!$A$9=Display!$B$9,'Lux4-sept'!$A$10=Display!$B$11,'Lux4-sept'!$A$67=Display!$B$13),Display!$D5,)","v":0},{"$f":"IF(AND(AC$8=Display!$T$10,'Lux4-sept'!$A$8=Display!$B$7,'Lux4-sept'!$A$9=Display!$B$9,'Lux4-sept'!$A$10=Display!$B$11,'Lux4-sept'!$A$67=Display!$B$13),Display!$D5,)","v":0},{"$f":"IF(AND(AD$8=Display!$T$10,'Lux4-sept'!$A$8=Display!$B$7,'Lux4-sept'!$A$9=Display!$B$9,'Lux4-sept'!$A$10=Display!$B$11,'Lux4-sept'!$A$67=Display!$B$13),Display!$D5,)","v":0},{"$f":"IF(AND(AE$8=Display!$T$10,'Lux4-sept'!$A$8=Display!$B$7,'Lux4-sept'!$A$9=Display!$B$9,'Lux4-sept'!$A$10=Display!$B$11,'Lux4-sept'!$A$67=Display!$B$13),Display!$D5,)","v":0},{"$f":"IF(AND(AF$8=Display!$T$10,'Lux4-sept'!$A$8=Display!$B$7,'Lux4-sept'!$A$9=Display!$B$9,'Lux4-sept'!$A$10=Display!$B$11,'Lux4-sept'!$A$67=Display!$B$13),Display!$D5,)","v":0},null,null,{"$f":"((IF((SUM(B69:AF69))<>0,(SUM(B69:AF69)),0))/(IF((SUM((IF(B69<>0,3,0)),(IF(C69<>0,3,0)),(IF(D69<>0,3,0)),(IF(E69<>0,3,0)),(IF(F69<>0,3,0)),(IF(F69<>0,3,0)),(IF(F69<>0,3,0)),(IF(G69<>0,3,0)),(IF(H69<>0,3,0)),(IF(I69<>0,3,0)),(IF(J69<>0,3,0)),(IF(K69<>0,3,0)),(IF(L69<>0,3,0)),(IF(M69<>0,3,0)),(IF(N69<>0,3,0)),(IF(O69<>0,3,0)),(IF(P69<>0,3,0)),(IF(Q69<>0,3,0)),(IF(R69<>0,3,0)),(IF(S69<>0,3,0)),(IF(T69<>0,3,0)),(IF(U69<>0,3,0)),(IF(V69<>0,3,0)),(IF(W69<>0,3,0)),(IF(X69<>0,3,0)),(IF(Y69<>0,3,0)),(IF(Z69<>0,3,0)),(IF(AA69<>0,3,0)),(IF(AB69<>0,3,0)),(IF(AC69<>0,3,0)),(IF(AD69<>0,3,0)),(IF(AE69<>0,3,0)),(IF(AF69<>0,3,0))))<>0,((SUM((IF(B69<>0,3,0)),(IF(C69<>0,3,0)),(IF(D69<>0,3,0)),(IF(E69<>0,3,0)),(IF(F69<>0,3,0)),(IF(F69<>0,3,0)),(IF(F69<>0,3,0)),(IF(G69<>0,3,0)),(IF(H69<>0,3,0)),(IF(I69<>0,3,0)),(IF(J69<>0,3,0)),(IF(K69<>0,3,0)),(IF(L69<>0,3,0)),(IF(M69<>0,3,0)),(IF(N69<>0,3,0)),(IF(O69<>0,3,0)),(IF(P69<>0,3,0)),(IF(Q69<>0,3,0)),(IF(R69<>0,3,0)),(IF(S69<>0,3,0)),(IF(T69<>0,3,0)),(IF(U69<>0,3,0)),(IF(V69<>0,3,0)),(IF(W69<>0,3,0)),(IF(X69<>0,3,0)),(IF(Y69<>0,3,0)),(IF(Z69<>0,3,0)),(IF(AA69<>0,3,0)),(IF(AB69<>0,3,0)),(IF(AC69<>0,3,0)),(IF(AD69<>0,3,0)),(IF(AE69<>0,3,0)),(IF(AF69<>0,3,0))))),1)))","v":0}]
["Chaises rangées",{"$f":"IF(AND(B$8=Display!$T$10,'Lux4-sept'!$A$8=Display!$B$7,'Lux4-sept'!$A$9=Display!$B$9,'Lux4-sept'!$A$10=Display!$B$11,'Lux4-sept'!$A$67=Display!$B$13),Display!$D6,)","v":0},{"$f":"IF(AND(C$8=Display!$T$10,'Lux4-sept'!$A$8=Display!$B$7,'Lux4-sept'!$A$9=Display!$B$9,'Lux4-sept'!$A$10=Display!$B$11,'Lux4-sept'!$A$67=Display!$B$13),Display!$D6,)","v":0},{"$f":"IF(AND(D$8=Display!$T$10,'Lux4-sept'!$A$8=Display!$B$7,'Lux4-sept'!$A$9=Display!$B$9,'Lux4-sept'!$A$10=Display!$B$11,'Lux4-sept'!$A$67=Display!$B$13),Display!$D6,)","v":0},{"$f":"IF(AND(E$8=Display!$T$10,'Lux4-sept'!$A$8=Display!$B$7,'Lux4-sept'!$A$9=Display!$B$9,'Lux4-sept'!$A$10=Display!$B$11,'Lux4-sept'!$A$67=Display!$B$13),Display!$D6,)","v":0},{"$f":"IF(AND(F$8=Display!$T$10,'Lux4-sept'!$A$8=Display!$B$7,'Lux4-sept'!$A$9=Display!$B$9,'Lux4-sept'!$A$10=Display!$B$11,'Lux4-sept'!$A$67=Display!$B$13),Display!$D6,)","v":0},{"$f":"IF(AND(G$8=Display!$T$10,'Lux4-sept'!$A$8=Display!$B$7,'Lux4-sept'!$A$9=Display!$B$9,'Lux4-sept'!$A$10=Display!$B$11,'Lux4-sept'!$A$67=Display!$B$13),Display!$D6,)","v":0},{"$f":"IF(AND(H$8=Display!$T$10,'Lux4-sept'!$A$8=Display!$B$7,'Lux4-sept'!$A$9=Display!$B$9,'Lux4-sept'!$A$10=Display!$B$11,'Lux4-sept'!$A$67=Display!$B$13),Display!$D6,)","v":0},{"$f":"IF(AND(I$8=Display!$T$10,'Lux4-sept'!$A$8=Display!$B$7,'Lux4-sept'!$A$9=Display!$B$9,'Lux4-sept'!$A$10=Display!$B$11,'Lux4-sept'!$A$67=Display!$B$13),Display!$D6,)","v":0},{"$f":"IF(AND(J$8=Display!$T$10,'Lux4-sept'!$A$8=Display!$B$7,'Lux4-sept'!$A$9=Display!$B$9,'Lux4-sept'!$A$10=Display!$B$11,'Lux4-sept'!$A$67=Display!$B$13),Display!$D6,)","v":0},{"$f":"IF(AND(K$8=Display!$T$10,'Lux4-sept'!$A$8=Display!$B$7,'Lux4-sept'!$A$9=Display!$B$9,'Lux4-sept'!$A$10=Display!$B$11,'Lux4-sept'!$A$67=Display!$B$13),Display!$D6,)","v":0},{"$f":"IF(AND(L$8=Display!$T$10,'Lux4-sept'!$A$8=Display!$B$7,'Lux4-sept'!$A$9=Display!$B$9,'Lux4-sept'!$A$10=Display!$B$11,'Lux4-sept'!$A$67=Display!$B$13),Display!$D6,)","v":0},{"$f":"IF(AND(M$8=Display!$T$10,'Lux4-sept'!$A$8=Display!$B$7,'Lux4-sept'!$A$9=Display!$B$9,'Lux4-sept'!$A$10=Display!$B$11,'Lux4-sept'!$A$67=Display!$B$13),Display!$D6,)","v":0},{"$f":"IF(AND(N$8=Display!$T$10,'Lux4-sept'!$A$8=Display!$B$7,'Lux4-sept'!$A$9=Display!$B$9,'Lux4-sept'!$A$10=Display!$B$11,'Lux4-sept'!$A$67=Display!$B$13),Display!$D6,)","v":0},{"$f":"IF(AND(O$8=Display!$T$10,'Lux4-sept'!$A$8=Display!$B$7,'Lux4-sept'!$A$9=Display!$B$9,'Lux4-sept'!$A$10=Display!$B$11,'Lux4-sept'!$A$67=Display!$B$13),Display!$D6,)","v":0},{"$f":"IF(AND(P$8=Display!$T$10,'Lux4-sept'!$A$8=Display!$B$7,'Lux4-sept'!$A$9=Display!$B$9,'Lux4-sept'!$A$10=Display!$B$11,'Lux4-sept'!$A$67=Display!$B$13),Display!$D6,)","v":0},{"$f":"IF(AND(Q$8=Display!$T$10,'Lux4-sept'!$A$8=Display!$B$7,'Lux4-sept'!$A$9=Display!$B$9,'Lux4-sept'!$A$10=Display!$B$11,'Lux4-sept'!$A$67=Display!$B$13),Display!$D6,)","v":0},{"$f":"IF(AND(R$8=Display!$T$10,'Lux4-sept'!$A$8=Display!$B$7,'Lux4-sept'!$A$9=Display!$B$9,'Lux4-sept'!$A$10=Display!$B$11,'Lux4-sept'!$A$67=Display!$B$13),Display!$D6,)","v":0},{"$f":"IF(AND(S$8=Display!$T$10,'Lux4-sept'!$A$8=Display!$B$7,'Lux4-sept'!$A$9=Display!$B$9,'Lux4-sept'!$A$10=Display!$B$11,'Lux4-sept'!$A$67=Display!$B$13),Display!$D6,)","v":0},{"$f":"IF(AND(T$8=Display!$T$10,'Lux4-sept'!$A$8=Display!$B$7,'Lux4-sept'!$A$9=Display!$B$9,'Lux4-sept'!$A$10=Display!$B$11,'Lux4-sept'!$A$67=Display!$B$13),Display!$D6,)","v":0},{"$f":"IF(AND(U$8=Display!$T$10,'Lux4-sept'!$A$8=Display!$B$7,'Lux4-sept'!$A$9=Display!$B$9,'Lux4-sept'!$A$10=Display!$B$11,'Lux4-sept'!$A$67=Display!$B$13),Display!$D6,)","v":0},{"$f":"IF(AND(V$8=Display!$T$10,'Lux4-sept'!$A$8=Display!$B$7,'Lux4-sept'!$A$9=Display!$B$9,'Lux4-sept'!$A$10=Display!$B$11,'Lux4-sept'!$A$67=Display!$B$13),Display!$D6,)","v":0},{"$f":"IF(AND(W$8=Display!$T$10,'Lux4-sept'!$A$8=Display!$B$7,'Lux4-sept'!$A$9=Display!$B$9,'Lux4-sept'!$A$10=Display!$B$11,'Lux4-sept'!$A$67=Display!$B$13),Display!$D6,)","v":0},{"$f":"IF(AND(X$8=Display!$T$10,'Lux4-sept'!$A$8=Display!$B$7,'Lux4-sept'!$A$9=Display!$B$9,'Lux4-sept'!$A$10=Display!$B$11,'Lux4-sept'!$A$67=Display!$B$13),Display!$D6,)","v":0},{"$f":"IF(AND(Y$8=Display!$T$10,'Lux4-sept'!$A$8=Display!$B$7,'Lux4-sept'!$A$9=Display!$B$9,'Lux4-sept'!$A$10=Display!$B$11,'Lux4-sept'!$A$67=Display!$B$13),Display!$D6,)","v":0},{"$f":"IF(AND(Z$8=Display!$T$10,'Lux4-sept'!$A$8=Display!$B$7,'Lux4-sept'!$A$9=Display!$B$9,'Lux4-sept'!$A$10=Display!$B$11,'Lux4-sept'!$A$67=Display!$B$13),Display!$D6,)","v":0},{"$f":"IF(AND(AA$8=Display!$T$10,'Lux4-sept'!$A$8=Display!$B$7,'Lux4-sept'!$A$9=Display!$B$9,'Lux4-sept'!$A$10=Display!$B$11,'Lux4-sept'!$A$67=Display!$B$13),Display!$D6,)","v":0},{"$f":"IF(AND(AB$8=Display!$T$10,'Lux4-sept'!$A$8=Display!$B$7,'Lux4-sept'!$A$9=Display!$B$9,'Lux4-sept'!$A$10=Display!$B$11,'Lux4-sept'!$A$67=Display!$B$13),Display!$D6,)","v":0},{"$f":"IF(AND(AC$8=Display!$T$10,'Lux4-sept'!$A$8=Display!$B$7,'Lux4-sept'!$A$9=Display!$B$9,'Lux4-sept'!$A$10=Display!$B$11,'Lux4-sept'!$A$67=Display!$B$13),Display!$D6,)","v":0},{"$f":"IF(AND(AD$8=Display!$T$10,'Lux4-sept'!$A$8=Display!$B$7,'Lux4-sept'!$A$9=Display!$B$9,'Lux4-sept'!$A$10=Display!$B$11,'Lux4-sept'!$A$67=Display!$B$13),Display!$D6,)","v":0},{"$f":"IF(AND(AE$8=Display!$T$10,'Lux4-sept'!$A$8=Display!$B$7,'Lux4-sept'!$A$9=Display!$B$9,'Lux4-sept'!$A$10=Display!$B$11,'Lux4-sept'!$A$67=Display!$B$13),Display!$D6,)","v":0},{"$f":"IF(AND(AF$8=Display!$T$10,'Lux4-sept'!$A$8=Display!$B$7,'Lux4-sept'!$A$9=Display!$B$9,'Lux4-sept'!$A$10=Display!$B$11,'Lux4-sept'!$A$67=Display!$B$13),Display!$D6,)","v":0},null,null,0]
["Poubelles vidées",{"$f":"IF(AND(B$8=Display!$T$10,'Lux4-sept'!$A$8=Display!$B$7,'Lux4-sept'!$A$9=Display!$B$9,'Lux4-sept'!$A$10=Display!$B$11,'Lux4-sept'!$A$67=Display!$B$13),Display!$D7,)","v":0},{"$f":"IF(AND(C$8=Display!$T$10,'Lux4-sept'!$A$8=Display!$B$7,'Lux4-sept'!$A$9=Display!$B$9,'Lux4-sept'!$A$10=Display!$B$11,'Lux4-sept'!$A$67=Display!$B$13),Display!$D7,)","v":0},{"$f":"IF(AND(D$8=Display!$T$10,'Lux4-sept'!$A$8=Display!$B$7,'Lux4-sept'!$A$9=Display!$B$9,'Lux4-sept'!$A$10=Display!$B$11,'Lux4-sept'!$A$67=Display!$B$13),Display!$D7,)","v":0},{"$f":"IF(AND(E$8=Display!$T$10,'Lux4-sept'!$A$8=Display!$B$7,'Lux4-sept'!$A$9=Display!$B$9,'Lux4-sept'!$A$10=Display!$B$11,'Lux4-sept'!$A$67=Display!$B$13),Display!$D7,)","v":0},{"$f":"IF(AND(F$8=Display!$T$10,'Lux4-sept'!$A$8=Display!$B$7,'Lux4-sept'!$A$9=Display!$B$9,'Lux4-sept'!$A$10=Display!$B$11,'Lux4-sept'!$A$67=Display!$B$13),Display!$D7,)","v":0},{"$f":"IF(AND(G$8=Display!$T$10,'Lux4-sept'!$A$8=Display!$B$7,'Lux4-sept'!$A$9=Display!$B$9,'Lux4-sept'!$A$10=Display!$B$11,'Lux4-sept'!$A$67=Display!$B$13),Display!$D7,)","v":0},{"$f":"IF(AND(H$8=Display!$T$10,'Lux4-sept'!$A$8=Display!$B$7,'Lux4-sept'!$A$9=Display!$B$9,'Lux4-sept'!$A$10=Display!$B$11,'Lux4-sept'!$A$67=Display!$B$13),Display!$D7,)","v":0},{"$f":"IF(AND(I$8=Display!$T$10,'Lux4-sept'!$A$8=Display!$B$7,'Lux4-sept'!$A$9=Display!$B$9,'Lux4-sept'!$A$10=Display!$B$11,'Lux4-sept'!$A$67=Display!$B$13),Display!$D7,)","v":0},{"$f":"IF(AND(J$8=Display!$T$10,'Lux4-sept'!$A$8=Display!$B$7,'Lux4-sept'!$A$9=Display!$B$9,'Lux4-sept'!$A$10=Display!$B$11,'Lux4-sept'!$A$67=Display!$B$13),Display!$D7,)","v":0},{"$f":"IF(AND(K$8=Display!$T$10,'Lux4-sept'!$A$8=Display!$B$7,'Lux4-sept'!$A$9=Display!$B$9,'Lux4-sept'!$A$10=Display!$B$11,'Lux4-sept'!$A$67=Display!$B$13),Display!$D7,)","v":0},{"$f":"IF(AND(L$8=Display!$T$10,'Lux4-sept'!$A$8=Display!$B$7,'Lux4-sept'!$A$9=Display!$B$9,'Lux4-sept'!$A$10=Display!$B$11,'Lux4-sept'!$A$67=Display!$B$13),Display!$D7,)","v":0},{"$f":"IF(AND(M$8=Display!$T$10,'Lux4-sept'!$A$8=Display!$B$7,'Lux4-sept'!$A$9=Display!$B$9,'Lux4-sept'!$A$10=Display!$B$11,'Lux4-sept'!$A$67=Display!$B$13),Display!$D7,)","v":0},{"$f":"IF(AND(N$8=Display!$T$10,'Lux4-sept'!$A$8=Display!$B$7,'Lux4-sept'!$A$9=Display!$B$9,'Lux4-sept'!$A$10=Display!$B$11,'Lux4-sept'!$A$67=Display!$B$13),Display!$D7,)","v":0},{"$f":"IF(AND(O$8=Display!$T$10,'Lux4-sept'!$A$8=Display!$B$7,'Lux4-sept'!$A$9=Display!$B$9,'Lux4-sept'!$A$10=Display!$B$11,'Lux4-sept'!$A$67=Display!$B$13),Display!$D7,)","v":0},{"$f":"IF(AND(P$8=Display!$T$10,'Lux4-sept'!$A$8=Display!$B$7,'Lux4-sept'!$A$9=Display!$B$9,'Lux4-sept'!$A$10=Display!$B$11,'Lux4-sept'!$A$67=Display!$B$13),Display!$D7,)","v":0},{"$f":"IF(AND(Q$8=Display!$T$10,'Lux4-sept'!$A$8=Display!$B$7,'Lux4-sept'!$A$9=Display!$B$9,'Lux4-sept'!$A$10=Display!$B$11,'Lux4-sept'!$A$67=Display!$B$13),Display!$D7,)","v":0},{"$f":"IF(AND(R$8=Display!$T$10,'Lux4-sept'!$A$8=Display!$B$7,'Lux4-sept'!$A$9=Display!$B$9,'Lux4-sept'!$A$10=Display!$B$11,'Lux4-sept'!$A$67=Display!$B$13),Display!$D7,)","v":0},{"$f":"IF(AND(S$8=Display!$T$10,'Lux4-sept'!$A$8=Display!$B$7,'Lux4-sept'!$A$9=Display!$B$9,'Lux4-sept'!$A$10=Display!$B$11,'Lux4-sept'!$A$67=Display!$B$13),Display!$D7,)","v":0},{"$f":"IF(AND(T$8=Display!$T$10,'Lux4-sept'!$A$8=Display!$B$7,'Lux4-sept'!$A$9=Display!$B$9,'Lux4-sept'!$A$10=Display!$B$11,'Lux4-sept'!$A$67=Display!$B$13),Display!$D7,)","v":0},{"$f":"IF(AND(U$8=Display!$T$10,'Lux4-sept'!$A$8=Display!$B$7,'Lux4-sept'!$A$9=Display!$B$9,'Lux4-sept'!$A$10=Display!$B$11,'Lux4-sept'!$A$67=Display!$B$13),Display!$D7,)","v":0},{"$f":"IF(AND(V$8=Display!$T$10,'Lux4-sept'!$A$8=Display!$B$7,'Lux4-sept'!$A$9=Display!$B$9,'Lux4-sept'!$A$10=Display!$B$11,'Lux4-sept'!$A$67=Display!$B$13),Display!$D7,)","v":0},{"$f":"IF(AND(W$8=Display!$T$10,'Lux4-sept'!$A$8=Display!$B$7,'Lux4-sept'!$A$9=Display!$B$9,'Lux4-sept'!$A$10=Display!$B$11,'Lux4-sept'!$A$67=Display!$B$13),Display!$D7,)","v":0},{"$f":"IF(AND(X$8=Display!$T$10,'Lux4-sept'!$A$8=Display!$B$7,'Lux4-sept'!$A$9=Display!$B$9,'Lux4-sept'!$A$10=Display!$B$11,'Lux4-sept'!$A$67=Display!$B$13),Display!$D7,)","v":0},{"$f":"IF(AND(Y$8=Display!$T$10,'Lux4-sept'!$A$8=Display!$B$7,'Lux4-sept'!$A$9=Display!$B$9,'Lux4-sept'!$A$10=Display!$B$11,'Lux4-sept'!$A$67=Display!$B$13),Display!$D7,)","v":0},{"$f":"IF(AND(Z$8=Display!$T$10,'Lux4-sept'!$A$8=Display!$B$7,'Lux4-sept'!$A$9=Display!$B$9,'Lux4-sept'!$A$10=Display!$B$11,'Lux4-sept'!$A$67=Display!$B$13),Display!$D7,)","v":0},{"$f":"IF(AND(AA$8=Display!$T$10,'Lux4-sept'!$A$8=Display!$B$7,'Lux4-sept'!$A$9=Display!$B$9,'Lux4-sept'!$A$10=Display!$B$11,'Lux4-sept'!$A$67=Display!$B$13),Display!$D7,)","v":0},{"$f":"IF(AND(AB$8=Display!$T$10,'Lux4-sept'!$A$8=Display!$B$7,'Lux4-sept'!$A$9=Display!$B$9,'Lux4-sept'!$A$10=Display!$B$11,'Lux4-sept'!$A$67=Display!$B$13),Display!$D7,)","v":0},{"$f":"IF(AND(AC$8=Display!$T$10,'Lux4-sept'!$A$8=Display!$B$7,'Lux4-sept'!$A$9=Display!$B$9,'Lux4-sept'!$A$10=Display!$B$11,'Lux4-sept'!$A$67=Display!$B$13),Display!$D7,)","v":0},{"$f":"IF(AND(AD$8=Display!$T$10,'Lux4-sept'!$A$8=Display!$B$7,'Lux4-sept'!$A$9=Display!$B$9,'Lux4-sept'!$A$10=Display!$B$11,'Lux4-sept'!$A$67=Display!$B$13),Display!$D7,)","v":0},{"$f":"IF(AND(AE$8=Display!$T$10,'Lux4-sept'!$A$8=Display!$B$7,'Lux4-sept'!$A$9=Display!$B$9,'Lux4-sept'!$A$10=Display!$B$11,'Lux4-sept'!$A$67=Display!$B$13),Display!$D7,)","v":0},{"$f":"IF(AND(AF$8=Display!$T$10,'Lux4-sept'!$A$8=Display!$B$7,'Lux4-sept'!$A$9=Display!$B$9,'Lux4-sept'!$A$10=Display!$B$11,'Lux4-sept'!$A$67=Display!$B$13),Display!$D7,)","v":0},null,null,0]
["Tables nettoyées",{"$f":"IF(AND(B$8=Display!$T$10,'Lux4-sept'!$A$8=Display!$B$7,'Lux4-sept'!$A$9=Display!$B$9,'Lux4-sept'!$A$10=Display!$B$11,'Lux4-sept'!$A$67=Display!$B$13),Display!$D8,)","v":0},{"$f":"IF(AND(C$8=Display!$T$10,'Lux4-sept'!$A$8=Display!$B$7,'Lux4-sept'!$A$9=Display!$B$9,'Lux4-sept'!$A$10=Display!$B$11,'Lux4-sept'!$A$67=Display!$B$13),Display!$D8,)","v":0},{"$f":"IF(AND(D$8=Display!$T$10,'Lux4-sept'!$A$8=Display!$B$7,'Lux4-sept'!$A$9=Display!$B$9,'Lux4-sept'!$A$10=Display!$B$11,'Lux4-sept'!$A$67=Display!$B$13),Display!$D8,)","v":0},{"$f":"IF(AND(E$8=Display!$T$10,'Lux4-sept'!$A$8=Display!$B$7,'Lux4-sept'!$A$9=Display!$B$9,'Lux4-sept'!$A$10=Display!$B$11,'Lux4-sept'!$A$67=Display!$B$13),Display!$D8,)","v":0},{"$f":"IF(AND(F$8=Display!$T$10,'Lux4-sept'!$A$8=Display!$B$7,'Lux4-sept'!$A$9=Display!$B$9,'Lux4-sept'!$A$10=Display!$B$11,'Lux4-sept'!$A$67=Display!$B$13),Display!$D8,)","v":0},{"$f":"IF(AND(G$8=Display!$T$10,'Lux4-sept'!$A$8=Display!$B$7,'Lux4-sept'!$A$9=Display!$B$9,'Lux4-sept'!$A$10=Display!$B$11,'Lux4-sept'!$A$67=Display!$B$13),Display!$D8,)","v":0},{"$f":"IF(AND(H$8=Display!$T$10,'Lux4-sept'!$A$8=Display!$B$7,'Lux4-sept'!$A$9=Display!$B$9,'Lux4-sept'!$A$10=Display!$B$11,'Lux4-sept'!$A$67=Display!$B$13),Display!$D8,)","v":0},{"$f":"IF(AND(I$8=Display!$T$10,'Lux4-sept'!$A$8=Display!$B$7,'Lux4-sept'!$A$9=Display!$B$9,'Lux4-sept'!$A$10=Display!$B$11,'Lux4-sept'!$A$67=Display!$B$13),Display!$D8,)","v":0},{"$f":"IF(AND(J$8=Display!$T$10,'Lux4-sept'!$A$8=Display!$B$7,'Lux4-sept'!$A$9=Display!$B$9,'Lux4-sept'!$A$10=Display!$B$11,'Lux4-sept'!$A$67=Display!$B$13),Display!$D8,)","v":0},{"$f":"IF(AND(K$8=Display!$T$10,'Lux4-sept'!$A$8=Display!$B$7,'Lux4-sept'!$A$9=Display!$B$9,'Lux4-sept'!$A$10=Display!$B$11,'Lux4-sept'!$A$67=Display!$B$13),Display!$D8,)","v":0},{"$f":"IF(AND(L$8=Display!$T$10,'Lux4-sept'!$A$8=Display!$B$7,'Lux4-sept'!$A$9=Display!$B$9,'Lux4-sept'!$A$10=Display!$B$11,'Lux4-sept'!$A$67=Display!$B$13),Display!$D8,)","v":0},{"$f":"IF(AND(M$8=Display!$T$10,'Lux4-sept'!$A$8=Display!$B$7,'Lux4-sept'!$A$9=Display!$B$9,'Lux4-sept'!$A$10=Display!$B$11,'Lux4-sept'!$A$67=Display!$B$13),Display!$D8,)","v":0},{"$f":"IF(AND(N$8=Display!$T$10,'Lux4-sept'!$A$8=Display!$B$7,'Lux4-sept'!$A$9=Display!$B$9,'Lux4-sept'!$A$10=Display!$B$11,'Lux4-sept'!$A$67=Display!$B$13),Display!$D8,)","v":0},{"$f":"IF(AND(O$8=Display!$T$10,'Lux4-sept'!$A$8=Display!$B$7,'Lux4-sept'!$A$9=Display!$B$9,'Lux4-sept'!$A$10=Display!$B$11,'Lux4-sept'!$A$67=Display!$B$13),Display!$D8,)","v":0},{"$f":"IF(AND(P$8=Display!$T$10,'Lux4-sept'!$A$8=Display!$B$7,'Lux4-sept'!$A$9=Display!$B$9,'Lux4-sept'!$A$10=Display!$B$11,'Lux4-sept'!$A$67=Display!$B$13),Display!$D8,)","v":0},{"$f":"IF(AND(Q$8=Display!$T$10,'Lux4-sept'!$A$8=Display!$B$7,'Lux4-sept'!$A$9=Display!$B$9,'Lux4-sept'!$A$10=Display!$B$11,'Lux4-sept'!$A$67=Display!$B$13),Display!$D8,)","v":0},{"$f":"IF(AND(R$8=Display!$T$10,'Lux4-sept'!$A$8=Display!$B$7,'Lux4-sept'!$A$9=Display!$B$9,'Lux4-sept'!$A$10=Display!$B$11,'Lux4-sept'!$A$67=Display!$B$13),Display!$D8,)","v":0},{"$f":"IF(AND(S$8=Display!$T$10,'Lux4-sept'!$A$8=Display!$B$7,'Lux4-sept'!$A$9=Display!$B$9,'Lux4-sept'!$A$10=Display!$B$11,'Lux4-sept'!$A$67=Display!$B$13),Display!$D8,)","v":0},{"$f":"IF(AND(T$8=Display!$T$10,'Lux4-sept'!$A$8=Display!$B$7,'Lux4-sept'!$A$9=Display!$B$9,'Lux4-sept'!$A$10=Display!$B$11,'Lux4-sept'!$A$67=Display!$B$13),Display!$D8,)","v":0},{"$f":"IF(AND(U$8=Display!$T$10,'Lux4-sept'!$A$8=Display!$B$7,'Lux4-sept'!$A$9=Display!$B$9,'Lux4-sept'!$A$10=Display!$B$11,'Lux4-sept'!$A$67=Display!$B$13),Display!$D8,)","v":0},{"$f":"IF(AND(V$8=Display!$T$10,'Lux4-sept'!$A$8=Display!$B$7,'Lux4-sept'!$A$9=Display!$B$9,'Lux4-sept'!$A$10=Display!$B$11,'Lux4-sept'!$A$67=Display!$B$13),Display!$D8,)","v":0},{"$f":"IF(AND(W$8=Display!$T$10,'Lux4-sept'!$A$8=Display!$B$7,'Lux4-sept'!$A$9=Display!$B$9,'Lux4-sept'!$A$10=Display!$B$11,'Lux4-sept'!$A$67=Display!$B$13),Display!$D8,)","v":0},{"$f":"IF(AND(X$8=Display!$T$10,'Lux4-sept'!$A$8=Display!$B$7,'Lux4-sept'!$A$9=Display!$B$9,'Lux4-sept'!$A$10=Display!$B$11,'Lux4-sept'!$A$67=Display!$B$13),Display!$D8,)","v":0},{"$f":"IF(AND(Y$8=Display!$T$10,'Lux4-sept'!$A$8=Display!$B$7,'Lux4-sept'!$A$9=Display!$B$9,'Lux4-sept'!$A$10=Display!$B$11,'Lux4-sept'!$A$67=Display!$B$13),Display!$D8,)","v":0},{"$f":"IF(AND(Z$8=Display!$T$10,'Lux4-sept'!$A$8=Display!$B$7,'Lux4-sept'!$A$9=Display!$B$9,'Lux4-sept'!$A$10=Display!$B$11,'Lux4-sept'!$A$67=Display!$B$13),Display!$D8,)","v":0},{"$f":"IF(AND(AA$8=Display!$T$10,'Lux4-sept'!$A$8=Display!$B$7,'Lux4-sept'!$A$9=Display!$B$9,'Lux4-sept'!$A$10=Display!$B$11,'Lux4-sept'!$A$67=Display!$B$13),Display!$D8,)","v":0},{"$f":"IF(AND(AB$8=Display!$T$10,'Lux4-sept'!$A$8=Display!$B$7,'Lux4-sept'!$A$9=Display!$B$9,'Lux4-sept'!$A$10=Display!$B$11,'Lux4-sept'!$A$67=Display!$B$13),Display!$D8,)","v":0},{"$f":"IF(AND(AC$8=Display!$T$10,'Lux4-sept'!$A$8=Display!$B$7,'Lux4-sept'!$A$9=Display!$B$9,'Lux4-sept'!$A$10=Display!$B$11,'Lux4-sept'!$A$67=Display!$B$13),Display!$D8,)","v":0},{"$f":"IF(AND(AD$8=Display!$T$10,'Lux4-sept'!$A$8=Display!$B$7,'Lux4-sept'!$A$9=Display!$B$9,'Lux4-sept'!$A$10=Display!$B$11,'Lux4-sept'!$A$67=Display!$B$13),Display!$D8,)","v":0},{"$f":"IF(AND(AE$8=Display!$T$10,'Lux4-sept'!$A$8=Display!$B$7,'Lux4-sept'!$A$9=Display!$B$9,'Lux4-sept'!$A$10=Display!$B$11,'Lux4-sept'!$A$67=Display!$B$13),Display!$D8,)","v":0},{"$f":"IF(AND(AF$8=Display!$T$10,'Lux4-sept'!$A$8=Display!$B$7,'Lux4-sept'!$A$9=Display!$B$9,'Lux4-sept'!$A$10=Display!$B$11,'Lux4-sept'!$A$67=Display!$B$13),Display!$D8,)","v":0},null,null,0]
["Tableaux effacés",{"$f":"IF(AND(B$8=Display!$T$10,'Lux4-sept'!$A$8=Display!$B$7,'Lux4-sept'!$A$9=Display!$B$9,'Lux4-sept'!$A$10=Display!$B$11,'Lux4-sept'!$A$67=Display!$B$13),Display!$D9,)","v":0},{"$f":"IF(AND(C$8=Display!$T$10,'Lux4-sept'!$A$8=Display!$B$7,'Lux4-sept'!$A$9=Display!$B$9,'Lux4-sept'!$A$10=Display!$B$11,'Lux4-sept'!$A$67=Display!$B$13),Display!$D9,)","v":0},{"$f":"IF(AND(D$8=Display!$T$10,'Lux4-sept'!$A$8=Display!$B$7,'Lux4-sept'!$A$9=Display!$B$9,'Lux4-sept'!$A$10=Display!$B$11,'Lux4-sept'!$A$67=Display!$B$13),Display!$D9,)","v":0},{"$f":"IF(AND(E$8=Display!$T$10,'Lux4-sept'!$A$8=Display!$B$7,'Lux4-sept'!$A$9=Display!$B$9,'Lux4-sept'!$A$10=Display!$B$11,'Lux4-sept'!$A$67=Display!$B$13),Display!$D9,)","v":0},{"$f":"IF(AND(F$8=Display!$T$10,'Lux4-sept'!$A$8=Display!$B$7,'Lux4-sept'!$A$9=Display!$B$9,'Lux4-sept'!$A$10=Display!$B$11,'Lux4-sept'!$A$67=Display!$B$13),Display!$D9,)","v":0},{"$f":"IF(AND(G$8=Display!$T$10,'Lux4-sept'!$A$8=Display!$B$7,'Lux4-sept'!$A$9=Display!$B$9,'Lux4-sept'!$A$10=Display!$B$11,'Lux4-sept'!$A$67=Display!$B$13),Display!$D9,)","v":0},{"$f":"IF(AND(H$8=Display!$T$10,'Lux4-sept'!$A$8=Display!$B$7,'Lux4-sept'!$A$9=Display!$B$9,'Lux4-sept'!$A$10=Display!$B$11,'Lux4-sept'!$A$67=Display!$B$13),Display!$D9,)","v":0},{"$f":"IF(AND(I$8=Display!$T$10,'Lux4-sept'!$A$8=Display!$B$7,'Lux4-sept'!$A$9=Display!$B$9,'Lux4-sept'!$A$10=Display!$B$11,'Lux4-sept'!$A$67=Display!$B$13),Display!$D9,)","v":0},{"$f":"IF(AND(J$8=Display!$T$10,'Lux4-sept'!$A$8=Display!$B$7,'Lux4-sept'!$A$9=Display!$B$9,'Lux4-sept'!$A$10=Display!$B$11,'Lux4-sept'!$A$67=Display!$B$13),Display!$D9,)","v":0},{"$f":"IF(AND(K$8=Display!$T$10,'Lux4-sept'!$A$8=Display!$B$7,'Lux4-sept'!$A$9=Display!$B$9,'Lux4-sept'!$A$10=Display!$B$11,'Lux4-sept'!$A$67=Display!$B$13),Display!$D9,)","v":0},{"$f":"IF(AND(L$8=Display!$T$10,'Lux4-sept'!$A$8=Display!$B$7,'Lux4-sept'!$A$9=Display!$B$9,'Lux4-sept'!$A$10=Display!$B$11,'Lux4-sept'!$A$67=Display!$B$13),Display!$D9,)","v":0},{"$f":"IF(AND(M$8=Display!$T$10,'Lux4-sept'!$A$8=Display!$B$7,'Lux4-sept'!$A$9=Display!$B$9,'Lux4-sept'!$A$10=Display!$B$11,'Lux4-sept'!$A$67=Display!$B$13),Display!$D9,)","v":0},{"$f":"IF(AND(N$8=Display!$T$10,'Lux4-sept'!$A$8=Display!$B$7,'Lux4-sept'!$A$9=Display!$B$9,'Lux4-sept'!$A$10=Display!$B$11,'Lux4-sept'!$A$67=Display!$B$13),Display!$D9,)","v":0},{"$f":"IF(AND(O$8=Display!$T$10,'Lux4-sept'!$A$8=Display!$B$7,'Lux4-sept'!$A$9=Display!$B$9,'Lux4-sept'!$A$10=Display!$B$11,'Lux4-sept'!$A$67=Display!$B$13),Display!$D9,)","v":0},{"$f":"IF(AND(P$8=Display!$T$10,'Lux4-sept'!$A$8=Display!$B$7,'Lux4-sept'!$A$9=Display!$B$9,'Lux4-sept'!$A$10=Display!$B$11,'Lux4-sept'!$A$67=Display!$B$13),Display!$D9,)","v":0},{"$f":"IF(AND(Q$8=Display!$T$10,'Lux4-sept'!$A$8=Display!$B$7,'Lux4-sept'!$A$9=Display!$B$9,'Lux4-sept'!$A$10=Display!$B$11,'Lux4-sept'!$A$67=Display!$B$13),Display!$D9,)","v":0},{"$f":"IF(AND(R$8=Display!$T$10,'Lux4-sept'!$A$8=Display!$B$7,'Lux4-sept'!$A$9=Display!$B$9,'Lux4-sept'!$A$10=Display!$B$11,'Lux4-sept'!$A$67=Display!$B$13),Display!$D9,)","v":0},{"$f":"IF(AND(S$8=Display!$T$10,'Lux4-sept'!$A$8=Display!$B$7,'Lux4-sept'!$A$9=Display!$B$9,'Lux4-sept'!$A$10=Display!$B$11,'Lux4-sept'!$A$67=Display!$B$13),Display!$D9,)","v":0},{"$f":"IF(AND(T$8=Display!$T$10,'Lux4-sept'!$A$8=Display!$B$7,'Lux4-sept'!$A$9=Display!$B$9,'Lux4-sept'!$A$10=Display!$B$11,'Lux4-sept'!$A$67=Display!$B$13),Display!$D9,)","v":0},{"$f":"IF(AND(U$8=Display!$T$10,'Lux4-sept'!$A$8=Display!$B$7,'Lux4-sept'!$A$9=Display!$B$9,'Lux4-sept'!$A$10=Display!$B$11,'Lux4-sept'!$A$67=Display!$B$13),Display!$D9,)","v":0},{"$f":"IF(AND(V$8=Display!$T$10,'Lux4-sept'!$A$8=Display!$B$7,'Lux4-sept'!$A$9=Display!$B$9,'Lux4-sept'!$A$10=Display!$B$11,'Lux4-sept'!$A$67=Display!$B$13),Display!$D9,)","v":0},{"$f":"IF(AND(W$8=Display!$T$10,'Lux4-sept'!$A$8=Display!$B$7,'Lux4-sept'!$A$9=Display!$B$9,'Lux4-sept'!$A$10=Display!$B$11,'Lux4-sept'!$A$67=Display!$B$13),Display!$D9,)","v":0},{"$f":"IF(AND(X$8=Display!$T$10,'Lux4-sept'!$A$8=Display!$B$7,'Lux4-sept'!$A$9=Display!$B$9,'Lux4-sept'!$A$10=Display!$B$11,'Lux4-sept'!$A$67=Display!$B$13),Display!$D9,)","v":0},{"$f":"IF(AND(Y$8=Display!$T$10,'Lux4-sept'!$A$8=Display!$B$7,'Lux4-sept'!$A$9=Display!$B$9,'Lux4-sept'!$A$10=Display!$B$11,'Lux4-sept'!$A$67=Display!$B$13),Display!$D9,)","v":0},{"$f":"IF(AND(Z$8=Display!$T$10,'Lux4-sept'!$A$8=Display!$B$7,'Lux4-sept'!$A$9=Display!$B$9,'Lux4-sept'!$A$10=Display!$B$11,'Lux4-sept'!$A$67=Display!$B$13),Display!$D9,)","v":0},{"$f":"IF(AND(AA$8=Display!$T$10,'Lux4-sept'!$A$8=Display!$B$7,'Lux4-sept'!$A$9=Display!$B$9,'Lux4-sept'!$A$10=Display!$B$11,'Lux4-sept'!$A$67=Display!$B$13),Display!$D9,)","v":0},{"$f":"IF(AND(AB$8=Display!$T$10,'Lux4-sept'!$A$8=Display!$B$7,'Lux4-sept'!$A$9=Display!$B$9,'Lux4-sept'!$A$10=Display!$B$11,'Lux4-sept'!$A$67=Display!$B$13),Display!$D9,)","v":0},{"$f":"IF(AND(AC$8=Display!$T$10,'Lux4-sept'!$A$8=Display!$B$7,'Lux4-sept'!$A$9=Display!$B$9,'Lux4-sept'!$A$10=Display!$B$11,'Lux4-sept'!$A$67=Display!$B$13),Display!$D9,)","v":0},{"$f":"IF(AND(AD$8=Display!$T$10,'Lux4-sept'!$A$8=Display!$B$7,'Lux4-sept'!$A$9=Display!$B$9,'Lux4-sept'!$A$10=Display!$B$11,'Lux4-sept'!$A$67=Display!$B$13),Display!$D9,)","v":0},{"$f":"IF(AND(AE$8=Display!$T$10,'Lux4-sept'!$A$8=Display!$B$7,'Lux4-sept'!$A$9=Display!$B$9,'Lux4-sept'!$A$10=Display!$B$11,'Lux4-sept'!$A$67=Display!$B$13),Display!$D9,)","v":0},{"$f":"IF(AND(AF$8=Display!$T$10,'Lux4-sept'!$A$8=Display!$B$7,'Lux4-sept'!$A$9=Display!$B$9,'Lux4-sept'!$A$10=Display!$B$11,'Lux4-sept'!$A$67=Display!$B$13),Display!$D9,)","v":0},null,null,0]
["MOYENNE",{"$f":"((IF((SUM(B68:B73))<>0,(SUM(B68:B73)),0))/(IF((SUM((IF(B68<>0,3,0)),(IF(B69<>0,3,0)),(IF(B70<>0,3,0)),(IF(B71<>0,3,0)),(IF(B72<>0,3,0)),(IF(B73<>0,3,0))))<>0,((SUM((IF(B68<>0,3,0)),(IF(B69<>0,3,0)),(IF(B70<>0,3,0)),(IF(B71<>0,3,0)),(IF(B72<>0,3,0)),(IF(B73<>0,3,0))))),1)))","v":0},{"$f":"((IF((SUM(C68:C73))<>0,(SUM(C68:C73)),0))/(IF((SUM((IF(C68<>0,3,0)),(IF(C69<>0,3,0)),(IF(C70<>0,3,0)),(IF(C71<>0,3,0)),(IF(C72<>0,3,0)),(IF(C73<>0,3,0))))<>0,((SUM((IF(C68<>0,3,0)),(IF(C69<>0,3,0)),(IF(C70<>0,3,0)),(IF(C71<>0,3,0)),(IF(C72<>0,3,0)),(IF(C73<>0,3,0))))),1)))","v":0},0,0,0,0,0,0,0,0,0,0,0,0,0,0,0,0,0,0,0,0,0,0,0,0,0,0,0,0,0,0,0]
["Soir"]
["01.500"]
["Chaises rangées",{"$f":"IF(AND(B$8=Display!$T$10,'Lux4-sept'!$A$8=Display!$B$7,'Lux4-sept'!$A$9=Display!$B$9,'Lux4-sept'!$A$75=Display!$B$11,'Lux4-sept'!$A$76=Display!$B$13),Display!$D4,)","v":0},{"$f":"IF(AND(C$8=Display!$T$10,'Lux4-sept'!$A$8=Display!$B$7,'Lux4-sept'!$A$9=Display!$B$9,'Lux4-sept'!$A$75=Display!$B$11,'Lux4-sept'!$A$76=Display!$B$13),Display!$D4,)","v":0},{"$f":"IF(AND(D$8=Display!$T$10,'Lux4-sept'!$A$8=Display!$B$7,'Lux4-sept'!$A$9=Display!$B$9,'Lux4-sept'!$A$75=Display!$B$11,'Lux4-sept'!$A$76=Display!$B$13),Display!$D4,)","v":0},{"$f":"IF(AND(E$8=Display!$T$10,'Lux4-sept'!$A$8=Display!$B$7,'Lux4-sept'!$A$9=Display!$B$9,'Lux4-sept'!$A$75=Display!$B$11,'Lux4-sept'!$A$76=Display!$B$13),Display!$D4,)","v":0},{"$f":"IF(AND(F$8=Display!$T$10,'Lux4-sept'!$A$8=Display!$B$7,'Lux4-sept'!$A$9=Display!$B$9,'Lux4-sept'!$A$75=Display!$B$11,'Lux4-sept'!$A$76=Display!$B$13),Display!$D4,)","v":0},{"$f":"IF(AND(G$8=Display!$T$10,'Lux4-sept'!$A$8=Display!$B$7,'Lux4-sept'!$A$9=Display!$B$9,'Lux4-sept'!$A$75=Display!$B$11,'Lux4-sept'!$A$76=Display!$B$13),Display!$D4,)","v":0},{"$f":"IF(AND(H$8=Display!$T$10,'Lux4-sept'!$A$8=Display!$B$7,'Lux4-sept'!$A$9=Display!$B$9,'Lux4-sept'!$A$75=Display!$B$11,'Lux4-sept'!$A$76=Display!$B$13),Display!$D4,)","v":0},{"$f":"IF(AND(I$8=Display!$T$10,'Lux4-sept'!$A$8=Display!$B$7,'Lux4-sept'!$A$9=Display!$B$9,'Lux4-sept'!$A$75=Display!$B$11,'Lux4-sept'!$A$76=Display!$B$13),Display!$D4,)","v":0},{"$f":"IF(AND(J$8=Display!$T$10,'Lux4-sept'!$A$8=Display!$B$7,'Lux4-sept'!$A$9=Display!$B$9,'Lux4-sept'!$A$75=Display!$B$11,'Lux4-sept'!$A$76=Display!$B$13),Display!$D4,)","v":0},{"$f":"IF(AND(K$8=Display!$T$10,'Lux4-sept'!$A$8=Display!$B$7,'Lux4-sept'!$A$9=Display!$B$9,'Lux4-sept'!$A$75=Display!$B$11,'Lux4-sept'!$A$76=Display!$B$13),Display!$D4,)","v":0},{"$f":"IF(AND(L$8=Display!$T$10,'Lux4-sept'!$A$8=Display!$B$7,'Lux4-sept'!$A$9=Display!$B$9,'Lux4-sept'!$A$75=Display!$B$11,'Lux4-sept'!$A$76=Display!$B$13),Display!$D4,)","v":0},{"$f":"IF(AND(M$8=Display!$T$10,'Lux4-sept'!$A$8=Display!$B$7,'Lux4-sept'!$A$9=Display!$B$9,'Lux4-sept'!$A$75=Display!$B$11,'Lux4-sept'!$A$76=Display!$B$13),Display!$D4,)","v":0},{"$f":"IF(AND(N$8=Display!$T$10,'Lux4-sept'!$A$8=Display!$B$7,'Lux4-sept'!$A$9=Display!$B$9,'Lux4-sept'!$A$75=Display!$B$11,'Lux4-sept'!$A$76=Display!$B$13),Display!$D4,)","v":0},{"$f":"IF(AND(O$8=Display!$T$10,'Lux4-sept'!$A$8=Display!$B$7,'Lux4-sept'!$A$9=Display!$B$9,'Lux4-sept'!$A$75=Display!$B$11,'Lux4-sept'!$A$76=Display!$B$13),Display!$D4,)","v":0},{"$f":"IF(AND(P$8=Display!$T$10,'Lux4-sept'!$A$8=Display!$B$7,'Lux4-sept'!$A$9=Display!$B$9,'Lux4-sept'!$A$75=Display!$B$11,'Lux4-sept'!$A$76=Display!$B$13),Display!$D4,)","v":0},{"$f":"IF(AND(Q$8=Display!$T$10,'Lux4-sept'!$A$8=Display!$B$7,'Lux4-sept'!$A$9=Display!$B$9,'Lux4-sept'!$A$75=Display!$B$11,'Lux4-sept'!$A$76=Display!$B$13),Display!$D4,)","v":0},{"$f":"IF(AND(R$8=Display!$T$10,'Lux4-sept'!$A$8=Display!$B$7,'Lux4-sept'!$A$9=Display!$B$9,'Lux4-sept'!$A$75=Display!$B$11,'Lux4-sept'!$A$76=Display!$B$13),Display!$D4,)","v":0},{"$f":"IF(AND(S$8=Display!$T$10,'Lux4-sept'!$A$8=Display!$B$7,'Lux4-sept'!$A$9=Display!$B$9,'Lux4-sept'!$A$75=Display!$B$11,'Lux4-sept'!$A$76=Display!$B$13),Display!$D4,)","v":0},{"$f":"IF(AND(T$8=Display!$T$10,'Lux4-sept'!$A$8=Display!$B$7,'Lux4-sept'!$A$9=Display!$B$9,'Lux4-sept'!$A$75=Display!$B$11,'Lux4-sept'!$A$76=Display!$B$13),Display!$D4,)","v":0},{"$f":"IF(AND(U$8=Display!$T$10,'Lux4-sept'!$A$8=Display!$B$7,'Lux4-sept'!$A$9=Display!$B$9,'Lux4-sept'!$A$75=Display!$B$11,'Lux4-sept'!$A$76=Display!$B$13),Display!$D4,)","v":0},{"$f":"IF(AND(V$8=Display!$T$10,'Lux4-sept'!$A$8=Display!$B$7,'Lux4-sept'!$A$9=Display!$B$9,'Lux4-sept'!$A$75=Display!$B$11,'Lux4-sept'!$A$76=Display!$B$13),Display!$D4,)","v":0},{"$f":"IF(AND(W$8=Display!$T$10,'Lux4-sept'!$A$8=Display!$B$7,'Lux4-sept'!$A$9=Display!$B$9,'Lux4-sept'!$A$75=Display!$B$11,'Lux4-sept'!$A$76=Display!$B$13),Display!$D4,)","v":0},{"$f":"IF(AND(X$8=Display!$T$10,'Lux4-sept'!$A$8=Display!$B$7,'Lux4-sept'!$A$9=Display!$B$9,'Lux4-sept'!$A$75=Display!$B$11,'Lux4-sept'!$A$76=Display!$B$13),Display!$D4,)","v":0},{"$f":"IF(AND(Y$8=Display!$T$10,'Lux4-sept'!$A$8=Display!$B$7,'Lux4-sept'!$A$9=Display!$B$9,'Lux4-sept'!$A$75=Display!$B$11,'Lux4-sept'!$A$76=Display!$B$13),Display!$D4,)","v":0},{"$f":"IF(AND(Z$8=Display!$T$10,'Lux4-sept'!$A$8=Display!$B$7,'Lux4-sept'!$A$9=Display!$B$9,'Lux4-sept'!$A$75=Display!$B$11,'Lux4-sept'!$A$76=Display!$B$13),Display!$D4,)","v":0},{"$f":"IF(AND(AA$8=Display!$T$10,'Lux4-sept'!$A$8=Display!$B$7,'Lux4-sept'!$A$9=Display!$B$9,'Lux4-sept'!$A$75=Display!$B$11,'Lux4-sept'!$A$76=Display!$B$13),Display!$D4,)","v":0},{"$f":"IF(AND(AB$8=Display!$T$10,'Lux4-sept'!$A$8=Display!$B$7,'Lux4-sept'!$A$9=Display!$B$9,'Lux4-sept'!$A$75=Display!$B$11,'Lux4-sept'!$A$76=Display!$B$13),Display!$D4,)","v":0},{"$f":"IF(AND(AC$8=Display!$T$10,'Lux4-sept'!$A$8=Display!$B$7,'Lux4-sept'!$A$9=Display!$B$9,'Lux4-sept'!$A$75=Display!$B$11,'Lux4-sept'!$A$76=Display!$B$13),Display!$D4,)","v":0},{"$f":"IF(AND(AD$8=Display!$T$10,'Lux4-sept'!$A$8=Display!$B$7,'Lux4-sept'!$A$9=Display!$B$9,'Lux4-sept'!$A$75=Display!$B$11,'Lux4-sept'!$A$76=Display!$B$13),Display!$D4,)","v":0},{"$f":"IF(AND(AE$8=Display!$T$10,'Lux4-sept'!$A$8=Display!$B$7,'Lux4-sept'!$A$9=Display!$B$9,'Lux4-sept'!$A$75=Display!$B$11,'Lux4-sept'!$A$76=Display!$B$13),Display!$D4,)","v":0},{"$f":"IF(AND(AF$8=Display!$T$10,'Lux4-sept'!$A$8=Display!$B$7,'Lux4-sept'!$A$9=Display!$B$9,'Lux4-sept'!$A$75=Display!$B$11,'Lux4-sept'!$A$76=Display!$B$13),Display!$D4,)","v":0},null,null,{"$f":"((IF((SUM(B77:AF77))<>0,(SUM(B77:AF77)),0))/(IF((SUM((IF(B77<>0,3,0)),(IF(C77<>0,3,0)),(IF(D77<>0,3,0)),(IF(E77<>0,3,0)),(IF(F77<>0,3,0)),(IF(F77<>0,3,0)),(IF(F77<>0,3,0)),(IF(G77<>0,3,0)),(IF(H77<>0,3,0)),(IF(I77<>0,3,0)),(IF(J77<>0,3,0)),(IF(K77<>0,3,0)),(IF(L77<>0,3,0)),(IF(M77<>0,3,0)),(IF(N77<>0,3,0)),(IF(O77<>0,3,0)),(IF(P77<>0,3,0)),(IF(Q77<>0,3,0)),(IF(R77<>0,3,0)),(IF(S77<>0,3,0)),(IF(T77<>0,3,0)),(IF(U77<>0,3,0)),(IF(V77<>0,3,0)),(IF(W77<>0,3,0)),(IF(X77<>0,3,0)),(IF(Y77<>0,3,0)),(IF(Z77<>0,3,0)),(IF(AA77<>0,3,0)),(IF(AB77<>0,3,0)),(IF(AC77<>0,3,0)),(IF(AD77<>0,3,0)),(IF(AE77<>0,3,0)),(IF(AF77<>0,3,0))))<>0,((SUM((IF(B77<>0,3,0)),(IF(C77<>0,3,0)),(IF(D77<>0,3,0)),(IF(E77<>0,3,0)),(IF(F77<>0,3,0)),(IF(F77<>0,3,0)),(IF(F77<>0,3,0)),(IF(G77<>0,3,0)),(IF(H77<>0,3,0)),(IF(I77<>0,3,0)),(IF(J77<>0,3,0)),(IF(K77<>0,3,0)),(IF(L77<>0,3,0)),(IF(M77<>0,3,0)),(IF(N77<>0,3,0)),(IF(O77<>0,3,0)),(IF(P77<>0,3,0)),(IF(Q77<>0,3,0)),(IF(R77<>0,3,0)),(IF(S77<>0,3,0)),(IF(T77<>0,3,0)),(IF(U77<>0,3,0)),(IF(V77<>0,3,0)),(IF(W77<>0,3,0)),(IF(X77<>0,3,0)),(IF(Y77<>0,3,0)),(IF(Z77<>0,3,0)),(IF(AA77<>0,3,0)),(IF(AB77<>0,3,0)),(IF(AC77<>0,3,0)),(IF(AD77<>0,3,0)),(IF(AE77<>0,3,0)),(IF(AF77<>0,3,0))))),1)))","v":0}]
["Poubelles vidées",{"$f":"IF(AND(B$8=Display!$T$10,'Lux4-sept'!$A$8=Display!$B$7,'Lux4-sept'!$A$9=Display!$B$9,'Lux4-sept'!$A$75=Display!$B$11,'Lux4-sept'!$A$76=Display!$B$13),Display!$D5,)","v":0},{"$f":"IF(AND(C$8=Display!$T$10,'Lux4-sept'!$A$8=Display!$B$7,'Lux4-sept'!$A$9=Display!$B$9,'Lux4-sept'!$A$75=Display!$B$11,'Lux4-sept'!$A$76=Display!$B$13),Display!$D5,)","v":0},{"$f":"IF(AND(D$8=Display!$T$10,'Lux4-sept'!$A$8=Display!$B$7,'Lux4-sept'!$A$9=Display!$B$9,'Lux4-sept'!$A$75=Display!$B$11,'Lux4-sept'!$A$76=Display!$B$13),Display!$D5,)","v":0},{"$f":"IF(AND(E$8=Display!$T$10,'Lux4-sept'!$A$8=Display!$B$7,'Lux4-sept'!$A$9=Display!$B$9,'Lux4-sept'!$A$75=Display!$B$11,'Lux4-sept'!$A$76=Display!$B$13),Display!$D5,)","v":0},{"$f":"IF(AND(F$8=Display!$T$10,'Lux4-sept'!$A$8=Display!$B$7,'Lux4-sept'!$A$9=Display!$B$9,'Lux4-sept'!$A$75=Display!$B$11,'Lux4-sept'!$A$76=Display!$B$13),Display!$D5,)","v":0},{"$f":"IF(AND(G$8=Display!$T$10,'Lux4-sept'!$A$8=Display!$B$7,'Lux4-sept'!$A$9=Display!$B$9,'Lux4-sept'!$A$75=Display!$B$11,'Lux4-sept'!$A$76=Display!$B$13),Display!$D5,)","v":0},{"$f":"IF(AND(H$8=Display!$T$10,'Lux4-sept'!$A$8=Display!$B$7,'Lux4-sept'!$A$9=Display!$B$9,'Lux4-sept'!$A$75=Display!$B$11,'Lux4-sept'!$A$76=Display!$B$13),Display!$D5,)","v":0},{"$f":"IF(AND(I$8=Display!$T$10,'Lux4-sept'!$A$8=Display!$B$7,'Lux4-sept'!$A$9=Display!$B$9,'Lux4-sept'!$A$75=Display!$B$11,'Lux4-sept'!$A$76=Display!$B$13),Display!$D5,)","v":0},{"$f":"IF(AND(J$8=Display!$T$10,'Lux4-sept'!$A$8=Display!$B$7,'Lux4-sept'!$A$9=Display!$B$9,'Lux4-sept'!$A$75=Display!$B$11,'Lux4-sept'!$A$76=Display!$B$13),Display!$D5,)","v":0},{"$f":"IF(AND(K$8=Display!$T$10,'Lux4-sept'!$A$8=Display!$B$7,'Lux4-sept'!$A$9=Display!$B$9,'Lux4-sept'!$A$75=Display!$B$11,'Lux4-sept'!$A$76=Display!$B$13),Display!$D5,)","v":0},{"$f":"IF(AND(L$8=Display!$T$10,'Lux4-sept'!$A$8=Display!$B$7,'Lux4-sept'!$A$9=Display!$B$9,'Lux4-sept'!$A$75=Display!$B$11,'Lux4-sept'!$A$76=Display!$B$13),Display!$D5,)","v":0},{"$f":"IF(AND(M$8=Display!$T$10,'Lux4-sept'!$A$8=Display!$B$7,'Lux4-sept'!$A$9=Display!$B$9,'Lux4-sept'!$A$75=Display!$B$11,'Lux4-sept'!$A$76=Display!$B$13),Display!$D5,)","v":0},{"$f":"IF(AND(N$8=Display!$T$10,'Lux4-sept'!$A$8=Display!$B$7,'Lux4-sept'!$A$9=Display!$B$9,'Lux4-sept'!$A$75=Display!$B$11,'Lux4-sept'!$A$76=Display!$B$13),Display!$D5,)","v":0},{"$f":"IF(AND(O$8=Display!$T$10,'Lux4-sept'!$A$8=Display!$B$7,'Lux4-sept'!$A$9=Display!$B$9,'Lux4-sept'!$A$75=Display!$B$11,'Lux4-sept'!$A$76=Display!$B$13),Display!$D5,)","v":0},{"$f":"IF(AND(P$8=Display!$T$10,'Lux4-sept'!$A$8=Display!$B$7,'Lux4-sept'!$A$9=Display!$B$9,'Lux4-sept'!$A$75=Display!$B$11,'Lux4-sept'!$A$76=Display!$B$13),Display!$D5,)","v":0},{"$f":"IF(AND(Q$8=Display!$T$10,'Lux4-sept'!$A$8=Display!$B$7,'Lux4-sept'!$A$9=Display!$B$9,'Lux4-sept'!$A$75=Display!$B$11,'Lux4-sept'!$A$76=Display!$B$13),Display!$D5,)","v":0},{"$f":"IF(AND(R$8=Display!$T$10,'Lux4-sept'!$A$8=Display!$B$7,'Lux4-sept'!$A$9=Display!$B$9,'Lux4-sept'!$A$75=Display!$B$11,'Lux4-sept'!$A$76=Display!$B$13),Display!$D5,)","v":0},{"$f":"IF(AND(S$8=Display!$T$10,'Lux4-sept'!$A$8=Display!$B$7,'Lux4-sept'!$A$9=Display!$B$9,'Lux4-sept'!$A$75=Display!$B$11,'Lux4-sept'!$A$76=Display!$B$13),Display!$D5,)","v":0},{"$f":"IF(AND(T$8=Display!$T$10,'Lux4-sept'!$A$8=Display!$B$7,'Lux4-sept'!$A$9=Display!$B$9,'Lux4-sept'!$A$75=Display!$B$11,'Lux4-sept'!$A$76=Display!$B$13),Display!$D5,)","v":0},{"$f":"IF(AND(U$8=Display!$T$10,'Lux4-sept'!$A$8=Display!$B$7,'Lux4-sept'!$A$9=Display!$B$9,'Lux4-sept'!$A$75=Display!$B$11,'Lux4-sept'!$A$76=Display!$B$13),Display!$D5,)","v":0},{"$f":"IF(AND(V$8=Display!$T$10,'Lux4-sept'!$A$8=Display!$B$7,'Lux4-sept'!$A$9=Display!$B$9,'Lux4-sept'!$A$75=Display!$B$11,'Lux4-sept'!$A$76=Display!$B$13),Display!$D5,)","v":0},{"$f":"IF(AND(W$8=Display!$T$10,'Lux4-sept'!$A$8=Display!$B$7,'Lux4-sept'!$A$9=Display!$B$9,'Lux4-sept'!$A$75=Display!$B$11,'Lux4-sept'!$A$76=Display!$B$13),Display!$D5,)","v":0},{"$f":"IF(AND(X$8=Display!$T$10,'Lux4-sept'!$A$8=Display!$B$7,'Lux4-sept'!$A$9=Display!$B$9,'Lux4-sept'!$A$75=Display!$B$11,'Lux4-sept'!$A$76=Display!$B$13),Display!$D5,)","v":0},{"$f":"IF(AND(Y$8=Display!$T$10,'Lux4-sept'!$A$8=Display!$B$7,'Lux4-sept'!$A$9=Display!$B$9,'Lux4-sept'!$A$75=Display!$B$11,'Lux4-sept'!$A$76=Display!$B$13),Display!$D5,)","v":0},{"$f":"IF(AND(Z$8=Display!$T$10,'Lux4-sept'!$A$8=Display!$B$7,'Lux4-sept'!$A$9=Display!$B$9,'Lux4-sept'!$A$75=Display!$B$11,'Lux4-sept'!$A$76=Display!$B$13),Display!$D5,)","v":0},{"$f":"IF(AND(AA$8=Display!$T$10,'Lux4-sept'!$A$8=Display!$B$7,'Lux4-sept'!$A$9=Display!$B$9,'Lux4-sept'!$A$75=Display!$B$11,'Lux4-sept'!$A$76=Display!$B$13),Display!$D5,)","v":0},{"$f":"IF(AND(AB$8=Display!$T$10,'Lux4-sept'!$A$8=Display!$B$7,'Lux4-sept'!$A$9=Display!$B$9,'Lux4-sept'!$A$75=Display!$B$11,'Lux4-sept'!$A$76=Display!$B$13),Display!$D5,)","v":0},{"$f":"IF(AND(AC$8=Display!$T$10,'Lux4-sept'!$A$8=Display!$B$7,'Lux4-sept'!$A$9=Display!$B$9,'Lux4-sept'!$A$75=Display!$B$11,'Lux4-sept'!$A$76=Display!$B$13),Display!$D5,)","v":0},{"$f":"IF(AND(AD$8=Display!$T$10,'Lux4-sept'!$A$8=Display!$B$7,'Lux4-sept'!$A$9=Display!$B$9,'Lux4-sept'!$A$75=Display!$B$11,'Lux4-sept'!$A$76=Display!$B$13),Display!$D5,)","v":0},{"$f":"IF(AND(AE$8=Display!$T$10,'Lux4-sept'!$A$8=Display!$B$7,'Lux4-sept'!$A$9=Display!$B$9,'Lux4-sept'!$A$75=Display!$B$11,'Lux4-sept'!$A$76=Display!$B$13),Display!$D5,)","v":0},{"$f":"IF(AND(AF$8=Display!$T$10,'Lux4-sept'!$A$8=Display!$B$7,'Lux4-sept'!$A$9=Display!$B$9,'Lux4-sept'!$A$75=Display!$B$11,'Lux4-sept'!$A$76=Display!$B$13),Display!$D5,)","v":0},null,null,{"$f":"((IF((SUM(B78:AF78))<>0,(SUM(B78:AF78)),0))/(IF((SUM((IF(B78<>0,3,0)),(IF(C78<>0,3,0)),(IF(D78<>0,3,0)),(IF(E78<>0,3,0)),(IF(F78<>0,3,0)),(IF(F78<>0,3,0)),(IF(F78<>0,3,0)),(IF(G78<>0,3,0)),(IF(H78<>0,3,0)),(IF(I78<>0,3,0)),(IF(J78<>0,3,0)),(IF(K78<>0,3,0)),(IF(L78<>0,3,0)),(IF(M78<>0,3,0)),(IF(N78<>0,3,0)),(IF(O78<>0,3,0)),(IF(P78<>0,3,0)),(IF(Q78<>0,3,0)),(IF(R78<>0,3,0)),(IF(S78<>0,3,0)),(IF(T78<>0,3,0)),(IF(U78<>0,3,0)),(IF(V78<>0,3,0)),(IF(W78<>0,3,0)),(IF(X78<>0,3,0)),(IF(Y78<>0,3,0)),(IF(Z78<>0,3,0)),(IF(AA78<>0,3,0)),(IF(AB78<>0,3,0)),(IF(AC78<>0,3,0)),(IF(AD78<>0,3,0)),(IF(AE78<>0,3,0)),(IF(AF78<>0,3,0))))<>0,((SUM((IF(B78<>0,3,0)),(IF(C78<>0,3,0)),(IF(D78<>0,3,0)),(IF(E78<>0,3,0)),(IF(F78<>0,3,0)),(IF(F78<>0,3,0)),(IF(F78<>0,3,0)),(IF(G78<>0,3,0)),(IF(H78<>0,3,0)),(IF(I78<>0,3,0)),(IF(J78<>0,3,0)),(IF(K78<>0,3,0)),(IF(L78<>0,3,0)),(IF(M78<>0,3,0)),(IF(N78<>0,3,0)),(IF(O78<>0,3,0)),(IF(P78<>0,3,0)),(IF(Q78<>0,3,0)),(IF(R78<>0,3,0)),(IF(S78<>0,3,0)),(IF(T78<>0,3,0)),(IF(U78<>0,3,0)),(IF(V78<>0,3,0)),(IF(W78<>0,3,0)),(IF(X78<>0,3,0)),(IF(Y78<>0,3,0)),(IF(Z78<>0,3,0)),(IF(AA78<>0,3,0)),(IF(AB78<>0,3,0)),(IF(AC78<>0,3,0)),(IF(AD78<>0,3,0)),(IF(AE78<>0,3,0)),(IF(AF78<>0,3,0))))),1)))","v":0}]
["Tables nettoyées",{"$f":"IF(AND(B$8=Display!$T$10,'Lux4-sept'!$A$8=Display!$B$7,'Lux4-sept'!$A$9=Display!$B$9,'Lux4-sept'!$A$75=Display!$B$11,'Lux4-sept'!$A$76=Display!$B$13),Display!$D6,)","v":0},{"$f":"IF(AND(C$8=Display!$T$10,'Lux4-sept'!$A$8=Display!$B$7,'Lux4-sept'!$A$9=Display!$B$9,'Lux4-sept'!$A$75=Display!$B$11,'Lux4-sept'!$A$76=Display!$B$13),Display!$D6,)","v":0},{"$f":"IF(AND(D$8=Display!$T$10,'Lux4-sept'!$A$8=Display!$B$7,'Lux4-sept'!$A$9=Display!$B$9,'Lux4-sept'!$A$75=Display!$B$11,'Lux4-sept'!$A$76=Display!$B$13),Display!$D6,)","v":0},{"$f":"IF(AND(E$8=Display!$T$10,'Lux4-sept'!$A$8=Display!$B$7,'Lux4-sept'!$A$9=Display!$B$9,'Lux4-sept'!$A$75=Display!$B$11,'Lux4-sept'!$A$76=Display!$B$13),Display!$D6,)","v":0},{"$f":"IF(AND(F$8=Display!$T$10,'Lux4-sept'!$A$8=Display!$B$7,'Lux4-sept'!$A$9=Display!$B$9,'Lux4-sept'!$A$75=Display!$B$11,'Lux4-sept'!$A$76=Display!$B$13),Display!$D6,)","v":0},{"$f":"IF(AND(G$8=Display!$T$10,'Lux4-sept'!$A$8=Display!$B$7,'Lux4-sept'!$A$9=Display!$B$9,'Lux4-sept'!$A$75=Display!$B$11,'Lux4-sept'!$A$76=Display!$B$13),Display!$D6,)","v":0},{"$f":"IF(AND(H$8=Display!$T$10,'Lux4-sept'!$A$8=Display!$B$7,'Lux4-sept'!$A$9=Display!$B$9,'Lux4-sept'!$A$75=Display!$B$11,'Lux4-sept'!$A$76=Display!$B$13),Display!$D6,)","v":0},{"$f":"IF(AND(I$8=Display!$T$10,'Lux4-sept'!$A$8=Display!$B$7,'Lux4-sept'!$A$9=Display!$B$9,'Lux4-sept'!$A$75=Display!$B$11,'Lux4-sept'!$A$76=Display!$B$13),Display!$D6,)","v":0},{"$f":"IF(AND(J$8=Display!$T$10,'Lux4-sept'!$A$8=Display!$B$7,'Lux4-sept'!$A$9=Display!$B$9,'Lux4-sept'!$A$75=Display!$B$11,'Lux4-sept'!$A$76=Display!$B$13),Display!$D6,)","v":0},{"$f":"IF(AND(K$8=Display!$T$10,'Lux4-sept'!$A$8=Display!$B$7,'Lux4-sept'!$A$9=Display!$B$9,'Lux4-sept'!$A$75=Display!$B$11,'Lux4-sept'!$A$76=Display!$B$13),Display!$D6,)","v":0},{"$f":"IF(AND(L$8=Display!$T$10,'Lux4-sept'!$A$8=Display!$B$7,'Lux4-sept'!$A$9=Display!$B$9,'Lux4-sept'!$A$75=Display!$B$11,'Lux4-sept'!$A$76=Display!$B$13),Display!$D6,)","v":0},{"$f":"IF(AND(M$8=Display!$T$10,'Lux4-sept'!$A$8=Display!$B$7,'Lux4-sept'!$A$9=Display!$B$9,'Lux4-sept'!$A$75=Display!$B$11,'Lux4-sept'!$A$76=Display!$B$13),Display!$D6,)","v":0},{"$f":"IF(AND(N$8=Display!$T$10,'Lux4-sept'!$A$8=Display!$B$7,'Lux4-sept'!$A$9=Display!$B$9,'Lux4-sept'!$A$75=Display!$B$11,'Lux4-sept'!$A$76=Display!$B$13),Display!$D6,)","v":0},{"$f":"IF(AND(O$8=Display!$T$10,'Lux4-sept'!$A$8=Display!$B$7,'Lux4-sept'!$A$9=Display!$B$9,'Lux4-sept'!$A$75=Display!$B$11,'Lux4-sept'!$A$76=Display!$B$13),Display!$D6,)","v":0},{"$f":"IF(AND(P$8=Display!$T$10,'Lux4-sept'!$A$8=Display!$B$7,'Lux4-sept'!$A$9=Display!$B$9,'Lux4-sept'!$A$75=Display!$B$11,'Lux4-sept'!$A$76=Display!$B$13),Display!$D6,)","v":0},{"$f":"IF(AND(Q$8=Display!$T$10,'Lux4-sept'!$A$8=Display!$B$7,'Lux4-sept'!$A$9=Display!$B$9,'Lux4-sept'!$A$75=Display!$B$11,'Lux4-sept'!$A$76=Display!$B$13),Display!$D6,)","v":0},{"$f":"IF(AND(R$8=Display!$T$10,'Lux4-sept'!$A$8=Display!$B$7,'Lux4-sept'!$A$9=Display!$B$9,'Lux4-sept'!$A$75=Display!$B$11,'Lux4-sept'!$A$76=Display!$B$13),Display!$D6,)","v":0},{"$f":"IF(AND(S$8=Display!$T$10,'Lux4-sept'!$A$8=Display!$B$7,'Lux4-sept'!$A$9=Display!$B$9,'Lux4-sept'!$A$75=Display!$B$11,'Lux4-sept'!$A$76=Display!$B$13),Display!$D6,)","v":0},{"$f":"IF(AND(T$8=Display!$T$10,'Lux4-sept'!$A$8=Display!$B$7,'Lux4-sept'!$A$9=Display!$B$9,'Lux4-sept'!$A$75=Display!$B$11,'Lux4-sept'!$A$76=Display!$B$13),Display!$D6,)","v":0},{"$f":"IF(AND(U$8=Display!$T$10,'Lux4-sept'!$A$8=Display!$B$7,'Lux4-sept'!$A$9=Display!$B$9,'Lux4-sept'!$A$75=Display!$B$11,'Lux4-sept'!$A$76=Display!$B$13),Display!$D6,)","v":0},{"$f":"IF(AND(V$8=Display!$T$10,'Lux4-sept'!$A$8=Display!$B$7,'Lux4-sept'!$A$9=Display!$B$9,'Lux4-sept'!$A$75=Display!$B$11,'Lux4-sept'!$A$76=Display!$B$13),Display!$D6,)","v":0},{"$f":"IF(AND(W$8=Display!$T$10,'Lux4-sept'!$A$8=Display!$B$7,'Lux4-sept'!$A$9=Display!$B$9,'Lux4-sept'!$A$75=Display!$B$11,'Lux4-sept'!$A$76=Display!$B$13),Display!$D6,)","v":0},{"$f":"IF(AND(X$8=Display!$T$10,'Lux4-sept'!$A$8=Display!$B$7,'Lux4-sept'!$A$9=Display!$B$9,'Lux4-sept'!$A$75=Display!$B$11,'Lux4-sept'!$A$76=Display!$B$13),Display!$D6,)","v":0},{"$f":"IF(AND(Y$8=Display!$T$10,'Lux4-sept'!$A$8=Display!$B$7,'Lux4-sept'!$A$9=Display!$B$9,'Lux4-sept'!$A$75=Display!$B$11,'Lux4-sept'!$A$76=Display!$B$13),Display!$D6,)","v":0},{"$f":"IF(AND(Z$8=Display!$T$10,'Lux4-sept'!$A$8=Display!$B$7,'Lux4-sept'!$A$9=Display!$B$9,'Lux4-sept'!$A$75=Display!$B$11,'Lux4-sept'!$A$76=Display!$B$13),Display!$D6,)","v":0},{"$f":"IF(AND(AA$8=Display!$T$10,'Lux4-sept'!$A$8=Display!$B$7,'Lux4-sept'!$A$9=Display!$B$9,'Lux4-sept'!$A$75=Display!$B$11,'Lux4-sept'!$A$76=Display!$B$13),Display!$D6,)","v":0},{"$f":"IF(AND(AB$8=Display!$T$10,'Lux4-sept'!$A$8=Display!$B$7,'Lux4-sept'!$A$9=Display!$B$9,'Lux4-sept'!$A$75=Display!$B$11,'Lux4-sept'!$A$76=Display!$B$13),Display!$D6,)","v":0},{"$f":"IF(AND(AC$8=Display!$T$10,'Lux4-sept'!$A$8=Display!$B$7,'Lux4-sept'!$A$9=Display!$B$9,'Lux4-sept'!$A$75=Display!$B$11,'Lux4-sept'!$A$76=Display!$B$13),Display!$D6,)","v":0},{"$f":"IF(AND(AD$8=Display!$T$10,'Lux4-sept'!$A$8=Display!$B$7,'Lux4-sept'!$A$9=Display!$B$9,'Lux4-sept'!$A$75=Display!$B$11,'Lux4-sept'!$A$76=Display!$B$13),Display!$D6,)","v":0},{"$f":"IF(AND(AE$8=Display!$T$10,'Lux4-sept'!$A$8=Display!$B$7,'Lux4-sept'!$A$9=Display!$B$9,'Lux4-sept'!$A$75=Display!$B$11,'Lux4-sept'!$A$76=Display!$B$13),Display!$D6,)","v":0},{"$f":"IF(AND(AF$8=Display!$T$10,'Lux4-sept'!$A$8=Display!$B$7,'Lux4-sept'!$A$9=Display!$B$9,'Lux4-sept'!$A$75=Display!$B$11,'Lux4-sept'!$A$76=Display!$B$13),Display!$D6,)","v":0},null,null,0]
["Tableaux effacés",{"$f":"IF(AND(B$8=Display!$T$10,'Lux4-sept'!$A$8=Display!$B$7,'Lux4-sept'!$A$9=Display!$B$9,'Lux4-sept'!$A$75=Display!$B$11,'Lux4-sept'!$A$76=Display!$B$13),Display!$D7,)","v":0},{"$f":"IF(AND(C$8=Display!$T$10,'Lux4-sept'!$A$8=Display!$B$7,'Lux4-sept'!$A$9=Display!$B$9,'Lux4-sept'!$A$75=Display!$B$11,'Lux4-sept'!$A$76=Display!$B$13),Display!$D7,)","v":0},{"$f":"IF(AND(D$8=Display!$T$10,'Lux4-sept'!$A$8=Display!$B$7,'Lux4-sept'!$A$9=Display!$B$9,'Lux4-sept'!$A$75=Display!$B$11,'Lux4-sept'!$A$76=Display!$B$13),Display!$D7,)","v":0},{"$f":"IF(AND(E$8=Display!$T$10,'Lux4-sept'!$A$8=Display!$B$7,'Lux4-sept'!$A$9=Display!$B$9,'Lux4-sept'!$A$75=Display!$B$11,'Lux4-sept'!$A$76=Display!$B$13),Display!$D7,)","v":0},{"$f":"IF(AND(F$8=Display!$T$10,'Lux4-sept'!$A$8=Display!$B$7,'Lux4-sept'!$A$9=Display!$B$9,'Lux4-sept'!$A$75=Display!$B$11,'Lux4-sept'!$A$76=Display!$B$13),Display!$D7,)","v":0},{"$f":"IF(AND(G$8=Display!$T$10,'Lux4-sept'!$A$8=Display!$B$7,'Lux4-sept'!$A$9=Display!$B$9,'Lux4-sept'!$A$75=Display!$B$11,'Lux4-sept'!$A$76=Display!$B$13),Display!$D7,)","v":0},{"$f":"IF(AND(H$8=Display!$T$10,'Lux4-sept'!$A$8=Display!$B$7,'Lux4-sept'!$A$9=Display!$B$9,'Lux4-sept'!$A$75=Display!$B$11,'Lux4-sept'!$A$76=Display!$B$13),Display!$D7,)","v":0},{"$f":"IF(AND(I$8=Display!$T$10,'Lux4-sept'!$A$8=Display!$B$7,'Lux4-sept'!$A$9=Display!$B$9,'Lux4-sept'!$A$75=Display!$B$11,'Lux4-sept'!$A$76=Display!$B$13),Display!$D7,)","v":0},{"$f":"IF(AND(J$8=Display!$T$10,'Lux4-sept'!$A$8=Display!$B$7,'Lux4-sept'!$A$9=Display!$B$9,'Lux4-sept'!$A$75=Display!$B$11,'Lux4-sept'!$A$76=Display!$B$13),Display!$D7,)","v":0},{"$f":"IF(AND(K$8=Display!$T$10,'Lux4-sept'!$A$8=Display!$B$7,'Lux4-sept'!$A$9=Display!$B$9,'Lux4-sept'!$A$75=Display!$B$11,'Lux4-sept'!$A$76=Display!$B$13),Display!$D7,)","v":0},{"$f":"IF(AND(L$8=Display!$T$10,'Lux4-sept'!$A$8=Display!$B$7,'Lux4-sept'!$A$9=Display!$B$9,'Lux4-sept'!$A$75=Display!$B$11,'Lux4-sept'!$A$76=Display!$B$13),Display!$D7,)","v":0},{"$f":"IF(AND(M$8=Display!$T$10,'Lux4-sept'!$A$8=Display!$B$7,'Lux4-sept'!$A$9=Display!$B$9,'Lux4-sept'!$A$75=Display!$B$11,'Lux4-sept'!$A$76=Display!$B$13),Display!$D7,)","v":0},{"$f":"IF(AND(N$8=Display!$T$10,'Lux4-sept'!$A$8=Display!$B$7,'Lux4-sept'!$A$9=Display!$B$9,'Lux4-sept'!$A$75=Display!$B$11,'Lux4-sept'!$A$76=Display!$B$13),Display!$D7,)","v":0},{"$f":"IF(AND(O$8=Display!$T$10,'Lux4-sept'!$A$8=Display!$B$7,'Lux4-sept'!$A$9=Display!$B$9,'Lux4-sept'!$A$75=Display!$B$11,'Lux4-sept'!$A$76=Display!$B$13),Display!$D7,)","v":0},{"$f":"IF(AND(P$8=Display!$T$10,'Lux4-sept'!$A$8=Display!$B$7,'Lux4-sept'!$A$9=Display!$B$9,'Lux4-sept'!$A$75=Display!$B$11,'Lux4-sept'!$A$76=Display!$B$13),Display!$D7,)","v":0},{"$f":"IF(AND(Q$8=Display!$T$10,'Lux4-sept'!$A$8=Display!$B$7,'Lux4-sept'!$A$9=Display!$B$9,'Lux4-sept'!$A$75=Display!$B$11,'Lux4-sept'!$A$76=Display!$B$13),Display!$D7,)","v":0},{"$f":"IF(AND(R$8=Display!$T$10,'Lux4-sept'!$A$8=Display!$B$7,'Lux4-sept'!$A$9=Display!$B$9,'Lux4-sept'!$A$75=Display!$B$11,'Lux4-sept'!$A$76=Display!$B$13),Display!$D7,)","v":0},{"$f":"IF(AND(S$8=Display!$T$10,'Lux4-sept'!$A$8=Display!$B$7,'Lux4-sept'!$A$9=Display!$B$9,'Lux4-sept'!$A$75=Display!$B$11,'Lux4-sept'!$A$76=Display!$B$13),Display!$D7,)","v":0},{"$f":"IF(AND(T$8=Display!$T$10,'Lux4-sept'!$A$8=Display!$B$7,'Lux4-sept'!$A$9=Display!$B$9,'Lux4-sept'!$A$75=Display!$B$11,'Lux4-sept'!$A$76=Display!$B$13),Display!$D7,)","v":0},{"$f":"IF(AND(U$8=Display!$T$10,'Lux4-sept'!$A$8=Display!$B$7,'Lux4-sept'!$A$9=Display!$B$9,'Lux4-sept'!$A$75=Display!$B$11,'Lux4-sept'!$A$76=Display!$B$13),Display!$D7,)","v":0},{"$f":"IF(AND(V$8=Display!$T$10,'Lux4-sept'!$A$8=Display!$B$7,'Lux4-sept'!$A$9=Display!$B$9,'Lux4-sept'!$A$75=Display!$B$11,'Lux4-sept'!$A$76=Display!$B$13),Display!$D7,)","v":0},{"$f":"IF(AND(W$8=Display!$T$10,'Lux4-sept'!$A$8=Display!$B$7,'Lux4-sept'!$A$9=Display!$B$9,'Lux4-sept'!$A$75=Display!$B$11,'Lux4-sept'!$A$76=Display!$B$13),Display!$D7,)","v":0},{"$f":"IF(AND(X$8=Display!$T$10,'Lux4-sept'!$A$8=Display!$B$7,'Lux4-sept'!$A$9=Display!$B$9,'Lux4-sept'!$A$75=Display!$B$11,'Lux4-sept'!$A$76=Display!$B$13),Display!$D7,)","v":0},{"$f":"IF(AND(Y$8=Display!$T$10,'Lux4-sept'!$A$8=Display!$B$7,'Lux4-sept'!$A$9=Display!$B$9,'Lux4-sept'!$A$75=Display!$B$11,'Lux4-sept'!$A$76=Display!$B$13),Display!$D7,)","v":0},{"$f":"IF(AND(Z$8=Display!$T$10,'Lux4-sept'!$A$8=Display!$B$7,'Lux4-sept'!$A$9=Display!$B$9,'Lux4-sept'!$A$75=Display!$B$11,'Lux4-sept'!$A$76=Display!$B$13),Display!$D7,)","v":0},{"$f":"IF(AND(AA$8=Display!$T$10,'Lux4-sept'!$A$8=Display!$B$7,'Lux4-sept'!$A$9=Display!$B$9,'Lux4-sept'!$A$75=Display!$B$11,'Lux4-sept'!$A$76=Display!$B$13),Display!$D7,)","v":0},{"$f":"IF(AND(AB$8=Display!$T$10,'Lux4-sept'!$A$8=Display!$B$7,'Lux4-sept'!$A$9=Display!$B$9,'Lux4-sept'!$A$75=Display!$B$11,'Lux4-sept'!$A$76=Display!$B$13),Display!$D7,)","v":0},{"$f":"IF(AND(AC$8=Display!$T$10,'Lux4-sept'!$A$8=Display!$B$7,'Lux4-sept'!$A$9=Display!$B$9,'Lux4-sept'!$A$75=Display!$B$11,'Lux4-sept'!$A$76=Display!$B$13),Display!$D7,)","v":0},{"$f":"IF(AND(AD$8=Display!$T$10,'Lux4-sept'!$A$8=Display!$B$7,'Lux4-sept'!$A$9=Display!$B$9,'Lux4-sept'!$A$75=Display!$B$11,'Lux4-sept'!$A$76=Display!$B$13),Display!$D7,)","v":0},{"$f":"IF(AND(AE$8=Display!$T$10,'Lux4-sept'!$A$8=Display!$B$7,'Lux4-sept'!$A$9=Display!$B$9,'Lux4-sept'!$A$75=Display!$B$11,'Lux4-sept'!$A$76=Display!$B$13),Display!$D7,)","v":0},{"$f":"IF(AND(AF$8=Display!$T$10,'Lux4-sept'!$A$8=Display!$B$7,'Lux4-sept'!$A$9=Display!$B$9,'Lux4-sept'!$A$75=Display!$B$11,'Lux4-sept'!$A$76=Display!$B$13),Display!$D7,)","v":0},null,null,0]
["Salles de réunion aspirées",{"$f":"IF(AND(B$8=Display!$T$10,'Lux4-sept'!$A$8=Display!$B$7,'Lux4-sept'!$A$9=Display!$B$9,'Lux4-sept'!$A$75=Display!$B$11,'Lux4-sept'!$A$76=Display!$B$13),Display!$D8,)","v":0},{"$f":"IF(AND(C$8=Display!$T$10,'Lux4-sept'!$A$8=Display!$B$7,'Lux4-sept'!$A$9=Display!$B$9,'Lux4-sept'!$A$75=Display!$B$11,'Lux4-sept'!$A$76=Display!$B$13),Display!$D8,)","v":0},{"$f":"IF(AND(D$8=Display!$T$10,'Lux4-sept'!$A$8=Display!$B$7,'Lux4-sept'!$A$9=Display!$B$9,'Lux4-sept'!$A$75=Display!$B$11,'Lux4-sept'!$A$76=Display!$B$13),Display!$D8,)","v":0},{"$f":"IF(AND(E$8=Display!$T$10,'Lux4-sept'!$A$8=Display!$B$7,'Lux4-sept'!$A$9=Display!$B$9,'Lux4-sept'!$A$75=Display!$B$11,'Lux4-sept'!$A$76=Display!$B$13),Display!$D8,)","v":0},{"$f":"IF(AND(F$8=Display!$T$10,'Lux4-sept'!$A$8=Display!$B$7,'Lux4-sept'!$A$9=Display!$B$9,'Lux4-sept'!$A$75=Display!$B$11,'Lux4-sept'!$A$76=Display!$B$13),Display!$D8,)","v":0},{"$f":"IF(AND(G$8=Display!$T$10,'Lux4-sept'!$A$8=Display!$B$7,'Lux4-sept'!$A$9=Display!$B$9,'Lux4-sept'!$A$75=Display!$B$11,'Lux4-sept'!$A$76=Display!$B$13),Display!$D8,)","v":0},{"$f":"IF(AND(H$8=Display!$T$10,'Lux4-sept'!$A$8=Display!$B$7,'Lux4-sept'!$A$9=Display!$B$9,'Lux4-sept'!$A$75=Display!$B$11,'Lux4-sept'!$A$76=Display!$B$13),Display!$D8,)","v":0},{"$f":"IF(AND(I$8=Display!$T$10,'Lux4-sept'!$A$8=Display!$B$7,'Lux4-sept'!$A$9=Display!$B$9,'Lux4-sept'!$A$75=Display!$B$11,'Lux4-sept'!$A$76=Display!$B$13),Display!$D8,)","v":0},{"$f":"IF(AND(J$8=Display!$T$10,'Lux4-sept'!$A$8=Display!$B$7,'Lux4-sept'!$A$9=Display!$B$9,'Lux4-sept'!$A$75=Display!$B$11,'Lux4-sept'!$A$76=Display!$B$13),Display!$D8,)","v":0},{"$f":"IF(AND(K$8=Display!$T$10,'Lux4-sept'!$A$8=Display!$B$7,'Lux4-sept'!$A$9=Display!$B$9,'Lux4-sept'!$A$75=Display!$B$11,'Lux4-sept'!$A$76=Display!$B$13),Display!$D8,)","v":0},{"$f":"IF(AND(L$8=Display!$T$10,'Lux4-sept'!$A$8=Display!$B$7,'Lux4-sept'!$A$9=Display!$B$9,'Lux4-sept'!$A$75=Display!$B$11,'Lux4-sept'!$A$76=Display!$B$13),Display!$D8,)","v":0},{"$f":"IF(AND(M$8=Display!$T$10,'Lux4-sept'!$A$8=Display!$B$7,'Lux4-sept'!$A$9=Display!$B$9,'Lux4-sept'!$A$75=Display!$B$11,'Lux4-sept'!$A$76=Display!$B$13),Display!$D8,)","v":0},{"$f":"IF(AND(N$8=Display!$T$10,'Lux4-sept'!$A$8=Display!$B$7,'Lux4-sept'!$A$9=Display!$B$9,'Lux4-sept'!$A$75=Display!$B$11,'Lux4-sept'!$A$76=Display!$B$13),Display!$D8,)","v":0},{"$f":"IF(AND(O$8=Display!$T$10,'Lux4-sept'!$A$8=Display!$B$7,'Lux4-sept'!$A$9=Display!$B$9,'Lux4-sept'!$A$75=Display!$B$11,'Lux4-sept'!$A$76=Display!$B$13),Display!$D8,)","v":0},{"$f":"IF(AND(P$8=Display!$T$10,'Lux4-sept'!$A$8=Display!$B$7,'Lux4-sept'!$A$9=Display!$B$9,'Lux4-sept'!$A$75=Display!$B$11,'Lux4-sept'!$A$76=Display!$B$13),Display!$D8,)","v":0},{"$f":"IF(AND(Q$8=Display!$T$10,'Lux4-sept'!$A$8=Display!$B$7,'Lux4-sept'!$A$9=Display!$B$9,'Lux4-sept'!$A$75=Display!$B$11,'Lux4-sept'!$A$76=Display!$B$13),Display!$D8,)","v":0},{"$f":"IF(AND(R$8=Display!$T$10,'Lux4-sept'!$A$8=Display!$B$7,'Lux4-sept'!$A$9=Display!$B$9,'Lux4-sept'!$A$75=Display!$B$11,'Lux4-sept'!$A$76=Display!$B$13),Display!$D8,)","v":0},{"$f":"IF(AND(S$8=Display!$T$10,'Lux4-sept'!$A$8=Display!$B$7,'Lux4-sept'!$A$9=Display!$B$9,'Lux4-sept'!$A$75=Display!$B$11,'Lux4-sept'!$A$76=Display!$B$13),Display!$D8,)","v":0},{"$f":"IF(AND(T$8=Display!$T$10,'Lux4-sept'!$A$8=Display!$B$7,'Lux4-sept'!$A$9=Display!$B$9,'Lux4-sept'!$A$75=Display!$B$11,'Lux4-sept'!$A$76=Display!$B$13),Display!$D8,)","v":0},{"$f":"IF(AND(U$8=Display!$T$10,'Lux4-sept'!$A$8=Display!$B$7,'Lux4-sept'!$A$9=Display!$B$9,'Lux4-sept'!$A$75=Display!$B$11,'Lux4-sept'!$A$76=Display!$B$13),Display!$D8,)","v":0},{"$f":"IF(AND(V$8=Display!$T$10,'Lux4-sept'!$A$8=Display!$B$7,'Lux4-sept'!$A$9=Display!$B$9,'Lux4-sept'!$A$75=Display!$B$11,'Lux4-sept'!$A$76=Display!$B$13),Display!$D8,)","v":0},{"$f":"IF(AND(W$8=Display!$T$10,'Lux4-sept'!$A$8=Display!$B$7,'Lux4-sept'!$A$9=Display!$B$9,'Lux4-sept'!$A$75=Display!$B$11,'Lux4-sept'!$A$76=Display!$B$13),Display!$D8,)","v":0},{"$f":"IF(AND(X$8=Display!$T$10,'Lux4-sept'!$A$8=Display!$B$7,'Lux4-sept'!$A$9=Display!$B$9,'Lux4-sept'!$A$75=Display!$B$11,'Lux4-sept'!$A$76=Display!$B$13),Display!$D8,)","v":0},{"$f":"IF(AND(Y$8=Display!$T$10,'Lux4-sept'!$A$8=Display!$B$7,'Lux4-sept'!$A$9=Display!$B$9,'Lux4-sept'!$A$75=Display!$B$11,'Lux4-sept'!$A$76=Display!$B$13),Display!$D8,)","v":0},{"$f":"IF(AND(Z$8=Display!$T$10,'Lux4-sept'!$A$8=Display!$B$7,'Lux4-sept'!$A$9=Display!$B$9,'Lux4-sept'!$A$75=Display!$B$11,'Lux4-sept'!$A$76=Display!$B$13),Display!$D8,)","v":0},{"$f":"IF(AND(AA$8=Display!$T$10,'Lux4-sept'!$A$8=Display!$B$7,'Lux4-sept'!$A$9=Display!$B$9,'Lux4-sept'!$A$75=Display!$B$11,'Lux4-sept'!$A$76=Display!$B$13),Display!$D8,)","v":0},{"$f":"IF(AND(AB$8=Display!$T$10,'Lux4-sept'!$A$8=Display!$B$7,'Lux4-sept'!$A$9=Display!$B$9,'Lux4-sept'!$A$75=Display!$B$11,'Lux4-sept'!$A$76=Display!$B$13),Display!$D8,)","v":0},{"$f":"IF(AND(AC$8=Display!$T$10,'Lux4-sept'!$A$8=Display!$B$7,'Lux4-sept'!$A$9=Display!$B$9,'Lux4-sept'!$A$75=Display!$B$11,'Lux4-sept'!$A$76=Display!$B$13),Display!$D8,)","v":0},{"$f":"IF(AND(AD$8=Display!$T$10,'Lux4-sept'!$A$8=Display!$B$7,'Lux4-sept'!$A$9=Display!$B$9,'Lux4-sept'!$A$75=Display!$B$11,'Lux4-sept'!$A$76=Display!$B$13),Display!$D8,)","v":0},{"$f":"IF(AND(AE$8=Display!$T$10,'Lux4-sept'!$A$8=Display!$B$7,'Lux4-sept'!$A$9=Display!$B$9,'Lux4-sept'!$A$75=Display!$B$11,'Lux4-sept'!$A$76=Display!$B$13),Display!$D8,)","v":0},{"$f":"IF(AND(AF$8=Display!$T$10,'Lux4-sept'!$A$8=Display!$B$7,'Lux4-sept'!$A$9=Display!$B$9,'Lux4-sept'!$A$75=Display!$B$11,'Lux4-sept'!$A$76=Display!$B$13),Display!$D8,)","v":0},null,null,0]
["Présence de poussières",{"$f":"IF(AND(B$8=Display!$T$10,'Lux4-sept'!$A$8=Display!$B$7,'Lux4-sept'!$A$9=Display!$B$9,'Lux4-sept'!$A$75=Display!$B$11,'Lux4-sept'!$A$76=Display!$B$13),Display!$D9,)","v":0},{"$f":"IF(AND(C$8=Display!$T$10,'Lux4-sept'!$A$8=Display!$B$7,'Lux4-sept'!$A$9=Display!$B$9,'Lux4-sept'!$A$75=Display!$B$11,'Lux4-sept'!$A$76=Display!$B$13),Display!$D9,)","v":0},{"$f":"IF(AND(D$8=Display!$T$10,'Lux4-sept'!$A$8=Display!$B$7,'Lux4-sept'!$A$9=Display!$B$9,'Lux4-sept'!$A$75=Display!$B$11,'Lux4-sept'!$A$76=Display!$B$13),Display!$D9,)","v":0},{"$f":"IF(AND(E$8=Display!$T$10,'Lux4-sept'!$A$8=Display!$B$7,'Lux4-sept'!$A$9=Display!$B$9,'Lux4-sept'!$A$75=Display!$B$11,'Lux4-sept'!$A$76=Display!$B$13),Display!$D9,)","v":0},{"$f":"IF(AND(F$8=Display!$T$10,'Lux4-sept'!$A$8=Display!$B$7,'Lux4-sept'!$A$9=Display!$B$9,'Lux4-sept'!$A$75=Display!$B$11,'Lux4-sept'!$A$76=Display!$B$13),Display!$D9,)","v":0},{"$f":"IF(AND(G$8=Display!$T$10,'Lux4-sept'!$A$8=Display!$B$7,'Lux4-sept'!$A$9=Display!$B$9,'Lux4-sept'!$A$75=Display!$B$11,'Lux4-sept'!$A$76=Display!$B$13),Display!$D9,)","v":0},{"$f":"IF(AND(H$8=Display!$T$10,'Lux4-sept'!$A$8=Display!$B$7,'Lux4-sept'!$A$9=Display!$B$9,'Lux4-sept'!$A$75=Display!$B$11,'Lux4-sept'!$A$76=Display!$B$13),Display!$D9,)","v":0},{"$f":"IF(AND(I$8=Display!$T$10,'Lux4-sept'!$A$8=Display!$B$7,'Lux4-sept'!$A$9=Display!$B$9,'Lux4-sept'!$A$75=Display!$B$11,'Lux4-sept'!$A$76=Display!$B$13),Display!$D9,)","v":0},{"$f":"IF(AND(J$8=Display!$T$10,'Lux4-sept'!$A$8=Display!$B$7,'Lux4-sept'!$A$9=Display!$B$9,'Lux4-sept'!$A$75=Display!$B$11,'Lux4-sept'!$A$76=Display!$B$13),Display!$D9,)","v":0},{"$f":"IF(AND(K$8=Display!$T$10,'Lux4-sept'!$A$8=Display!$B$7,'Lux4-sept'!$A$9=Display!$B$9,'Lux4-sept'!$A$75=Display!$B$11,'Lux4-sept'!$A$76=Display!$B$13),Display!$D9,)","v":0},{"$f":"IF(AND(L$8=Display!$T$10,'Lux4-sept'!$A$8=Display!$B$7,'Lux4-sept'!$A$9=Display!$B$9,'Lux4-sept'!$A$75=Display!$B$11,'Lux4-sept'!$A$76=Display!$B$13),Display!$D9,)","v":0},{"$f":"IF(AND(M$8=Display!$T$10,'Lux4-sept'!$A$8=Display!$B$7,'Lux4-sept'!$A$9=Display!$B$9,'Lux4-sept'!$A$75=Display!$B$11,'Lux4-sept'!$A$76=Display!$B$13),Display!$D9,)","v":0},{"$f":"IF(AND(N$8=Display!$T$10,'Lux4-sept'!$A$8=Display!$B$7,'Lux4-sept'!$A$9=Display!$B$9,'Lux4-sept'!$A$75=Display!$B$11,'Lux4-sept'!$A$76=Display!$B$13),Display!$D9,)","v":0},{"$f":"IF(AND(O$8=Display!$T$10,'Lux4-sept'!$A$8=Display!$B$7,'Lux4-sept'!$A$9=Display!$B$9,'Lux4-sept'!$A$75=Display!$B$11,'Lux4-sept'!$A$76=Display!$B$13),Display!$D9,)","v":0},{"$f":"IF(AND(P$8=Display!$T$10,'Lux4-sept'!$A$8=Display!$B$7,'Lux4-sept'!$A$9=Display!$B$9,'Lux4-sept'!$A$75=Display!$B$11,'Lux4-sept'!$A$76=Display!$B$13),Display!$D9,)","v":0},{"$f":"IF(AND(Q$8=Display!$T$10,'Lux4-sept'!$A$8=Display!$B$7,'Lux4-sept'!$A$9=Display!$B$9,'Lux4-sept'!$A$75=Display!$B$11,'Lux4-sept'!$A$76=Display!$B$13),Display!$D9,)","v":0},{"$f":"IF(AND(R$8=Display!$T$10,'Lux4-sept'!$A$8=Display!$B$7,'Lux4-sept'!$A$9=Display!$B$9,'Lux4-sept'!$A$75=Display!$B$11,'Lux4-sept'!$A$76=Display!$B$13),Display!$D9,)","v":0},{"$f":"IF(AND(S$8=Display!$T$10,'Lux4-sept'!$A$8=Display!$B$7,'Lux4-sept'!$A$9=Display!$B$9,'Lux4-sept'!$A$75=Display!$B$11,'Lux4-sept'!$A$76=Display!$B$13),Display!$D9,)","v":0},{"$f":"IF(AND(T$8=Display!$T$10,'Lux4-sept'!$A$8=Display!$B$7,'Lux4-sept'!$A$9=Display!$B$9,'Lux4-sept'!$A$75=Display!$B$11,'Lux4-sept'!$A$76=Display!$B$13),Display!$D9,)","v":0},{"$f":"IF(AND(U$8=Display!$T$10,'Lux4-sept'!$A$8=Display!$B$7,'Lux4-sept'!$A$9=Display!$B$9,'Lux4-sept'!$A$75=Display!$B$11,'Lux4-sept'!$A$76=Display!$B$13),Display!$D9,)","v":0},{"$f":"IF(AND(V$8=Display!$T$10,'Lux4-sept'!$A$8=Display!$B$7,'Lux4-sept'!$A$9=Display!$B$9,'Lux4-sept'!$A$75=Display!$B$11,'Lux4-sept'!$A$76=Display!$B$13),Display!$D9,)","v":0},{"$f":"IF(AND(W$8=Display!$T$10,'Lux4-sept'!$A$8=Display!$B$7,'Lux4-sept'!$A$9=Display!$B$9,'Lux4-sept'!$A$75=Display!$B$11,'Lux4-sept'!$A$76=Display!$B$13),Display!$D9,)","v":0},{"$f":"IF(AND(X$8=Display!$T$10,'Lux4-sept'!$A$8=Display!$B$7,'Lux4-sept'!$A$9=Display!$B$9,'Lux4-sept'!$A$75=Display!$B$11,'Lux4-sept'!$A$76=Display!$B$13),Display!$D9,)","v":0},{"$f":"IF(AND(Y$8=Display!$T$10,'Lux4-sept'!$A$8=Display!$B$7,'Lux4-sept'!$A$9=Display!$B$9,'Lux4-sept'!$A$75=Display!$B$11,'Lux4-sept'!$A$76=Display!$B$13),Display!$D9,)","v":0},{"$f":"IF(AND(Z$8=Display!$T$10,'Lux4-sept'!$A$8=Display!$B$7,'Lux4-sept'!$A$9=Display!$B$9,'Lux4-sept'!$A$75=Display!$B$11,'Lux4-sept'!$A$76=Display!$B$13),Display!$D9,)","v":0},{"$f":"IF(AND(AA$8=Display!$T$10,'Lux4-sept'!$A$8=Display!$B$7,'Lux4-sept'!$A$9=Display!$B$9,'Lux4-sept'!$A$75=Display!$B$11,'Lux4-sept'!$A$76=Display!$B$13),Display!$D9,)","v":0},{"$f":"IF(AND(AB$8=Display!$T$10,'Lux4-sept'!$A$8=Display!$B$7,'Lux4-sept'!$A$9=Display!$B$9,'Lux4-sept'!$A$75=Display!$B$11,'Lux4-sept'!$A$76=Display!$B$13),Display!$D9,)","v":0},{"$f":"IF(AND(AC$8=Display!$T$10,'Lux4-sept'!$A$8=Display!$B$7,'Lux4-sept'!$A$9=Display!$B$9,'Lux4-sept'!$A$75=Display!$B$11,'Lux4-sept'!$A$76=Display!$B$13),Display!$D9,)","v":0},{"$f":"IF(AND(AD$8=Display!$T$10,'Lux4-sept'!$A$8=Display!$B$7,'Lux4-sept'!$A$9=Display!$B$9,'Lux4-sept'!$A$75=Display!$B$11,'Lux4-sept'!$A$76=Display!$B$13),Display!$D9,)","v":0},{"$f":"IF(AND(AE$8=Display!$T$10,'Lux4-sept'!$A$8=Display!$B$7,'Lux4-sept'!$A$9=Display!$B$9,'Lux4-sept'!$A$75=Display!$B$11,'Lux4-sept'!$A$76=Display!$B$13),Display!$D9,)","v":0},{"$f":"IF(AND(AF$8=Display!$T$10,'Lux4-sept'!$A$8=Display!$B$7,'Lux4-sept'!$A$9=Display!$B$9,'Lux4-sept'!$A$75=Display!$B$11,'Lux4-sept'!$A$76=Display!$B$13),Display!$D9,)","v":0},null,null,0]
["Aucune trace de doigts",{"$f":"IF(AND(B$8=Display!$T$10,'Lux4-sept'!$A$8=Display!$B$7,'Lux4-sept'!$A$9=Display!$B$9,'Lux4-sept'!$A$75=Display!$B$11,'Lux4-sept'!$A$76=Display!$B$13),Display!$D10,)","v":0},{"$f":"IF(AND(C$8=Display!$T$10,'Lux4-sept'!$A$8=Display!$B$7,'Lux4-sept'!$A$9=Display!$B$9,'Lux4-sept'!$A$75=Display!$B$11,'Lux4-sept'!$A$76=Display!$B$13),Display!$D10,)","v":0},{"$f":"IF(AND(D$8=Display!$T$10,'Lux4-sept'!$A$8=Display!$B$7,'Lux4-sept'!$A$9=Display!$B$9,'Lux4-sept'!$A$75=Display!$B$11,'Lux4-sept'!$A$76=Display!$B$13),Display!$D10,)","v":0},{"$f":"IF(AND(E$8=Display!$T$10,'Lux4-sept'!$A$8=Display!$B$7,'Lux4-sept'!$A$9=Display!$B$9,'Lux4-sept'!$A$75=Display!$B$11,'Lux4-sept'!$A$76=Display!$B$13),Display!$D10,)","v":0},{"$f":"IF(AND(F$8=Display!$T$10,'Lux4-sept'!$A$8=Display!$B$7,'Lux4-sept'!$A$9=Display!$B$9,'Lux4-sept'!$A$75=Display!$B$11,'Lux4-sept'!$A$76=Display!$B$13),Display!$D10,)","v":0},{"$f":"IF(AND(G$8=Display!$T$10,'Lux4-sept'!$A$8=Display!$B$7,'Lux4-sept'!$A$9=Display!$B$9,'Lux4-sept'!$A$75=Display!$B$11,'Lux4-sept'!$A$76=Display!$B$13),Display!$D10,)","v":0},{"$f":"IF(AND(H$8=Display!$T$10,'Lux4-sept'!$A$8=Display!$B$7,'Lux4-sept'!$A$9=Display!$B$9,'Lux4-sept'!$A$75=Display!$B$11,'Lux4-sept'!$A$76=Display!$B$13),Display!$D10,)","v":0},{"$f":"IF(AND(I$8=Display!$T$10,'Lux4-sept'!$A$8=Display!$B$7,'Lux4-sept'!$A$9=Display!$B$9,'Lux4-sept'!$A$75=Display!$B$11,'Lux4-sept'!$A$76=Display!$B$13),Display!$D10,)","v":0},{"$f":"IF(AND(J$8=Display!$T$10,'Lux4-sept'!$A$8=Display!$B$7,'Lux4-sept'!$A$9=Display!$B$9,'Lux4-sept'!$A$75=Display!$B$11,'Lux4-sept'!$A$76=Display!$B$13),Display!$D10,)","v":0},{"$f":"IF(AND(K$8=Display!$T$10,'Lux4-sept'!$A$8=Display!$B$7,'Lux4-sept'!$A$9=Display!$B$9,'Lux4-sept'!$A$75=Display!$B$11,'Lux4-sept'!$A$76=Display!$B$13),Display!$D10,)","v":0},{"$f":"IF(AND(L$8=Display!$T$10,'Lux4-sept'!$A$8=Display!$B$7,'Lux4-sept'!$A$9=Display!$B$9,'Lux4-sept'!$A$75=Display!$B$11,'Lux4-sept'!$A$76=Display!$B$13),Display!$D10,)","v":0},{"$f":"IF(AND(M$8=Display!$T$10,'Lux4-sept'!$A$8=Display!$B$7,'Lux4-sept'!$A$9=Display!$B$9,'Lux4-sept'!$A$75=Display!$B$11,'Lux4-sept'!$A$76=Display!$B$13),Display!$D10,)","v":0},{"$f":"IF(AND(N$8=Display!$T$10,'Lux4-sept'!$A$8=Display!$B$7,'Lux4-sept'!$A$9=Display!$B$9,'Lux4-sept'!$A$75=Display!$B$11,'Lux4-sept'!$A$76=Display!$B$13),Display!$D10,)","v":0},{"$f":"IF(AND(O$8=Display!$T$10,'Lux4-sept'!$A$8=Display!$B$7,'Lux4-sept'!$A$9=Display!$B$9,'Lux4-sept'!$A$75=Display!$B$11,'Lux4-sept'!$A$76=Display!$B$13),Display!$D10,)","v":0},{"$f":"IF(AND(P$8=Display!$T$10,'Lux4-sept'!$A$8=Display!$B$7,'Lux4-sept'!$A$9=Display!$B$9,'Lux4-sept'!$A$75=Display!$B$11,'Lux4-sept'!$A$76=Display!$B$13),Display!$D10,)","v":0},{"$f":"IF(AND(Q$8=Display!$T$10,'Lux4-sept'!$A$8=Display!$B$7,'Lux4-sept'!$A$9=Display!$B$9,'Lux4-sept'!$A$75=Display!$B$11,'Lux4-sept'!$A$76=Display!$B$13),Display!$D10,)","v":0},{"$f":"IF(AND(R$8=Display!$T$10,'Lux4-sept'!$A$8=Display!$B$7,'Lux4-sept'!$A$9=Display!$B$9,'Lux4-sept'!$A$75=Display!$B$11,'Lux4-sept'!$A$76=Display!$B$13),Display!$D10,)","v":0},{"$f":"IF(AND(S$8=Display!$T$10,'Lux4-sept'!$A$8=Display!$B$7,'Lux4-sept'!$A$9=Display!$B$9,'Lux4-sept'!$A$75=Display!$B$11,'Lux4-sept'!$A$76=Display!$B$13),Display!$D10,)","v":0},{"$f":"IF(AND(T$8=Display!$T$10,'Lux4-sept'!$A$8=Display!$B$7,'Lux4-sept'!$A$9=Display!$B$9,'Lux4-sept'!$A$75=Display!$B$11,'Lux4-sept'!$A$76=Display!$B$13),Display!$D10,)","v":0},{"$f":"IF(AND(U$8=Display!$T$10,'Lux4-sept'!$A$8=Display!$B$7,'Lux4-sept'!$A$9=Display!$B$9,'Lux4-sept'!$A$75=Display!$B$11,'Lux4-sept'!$A$76=Display!$B$13),Display!$D10,)","v":0},{"$f":"IF(AND(V$8=Display!$T$10,'Lux4-sept'!$A$8=Display!$B$7,'Lux4-sept'!$A$9=Display!$B$9,'Lux4-sept'!$A$75=Display!$B$11,'Lux4-sept'!$A$76=Display!$B$13),Display!$D10,)","v":0},{"$f":"IF(AND(W$8=Display!$T$10,'Lux4-sept'!$A$8=Display!$B$7,'Lux4-sept'!$A$9=Display!$B$9,'Lux4-sept'!$A$75=Display!$B$11,'Lux4-sept'!$A$76=Display!$B$13),Display!$D10,)","v":0},{"$f":"IF(AND(X$8=Display!$T$10,'Lux4-sept'!$A$8=Display!$B$7,'Lux4-sept'!$A$9=Display!$B$9,'Lux4-sept'!$A$75=Display!$B$11,'Lux4-sept'!$A$76=Display!$B$13),Display!$D10,)","v":0},{"$f":"IF(AND(Y$8=Display!$T$10,'Lux4-sept'!$A$8=Display!$B$7,'Lux4-sept'!$A$9=Display!$B$9,'Lux4-sept'!$A$75=Display!$B$11,'Lux4-sept'!$A$76=Display!$B$13),Display!$D10,)","v":0},{"$f":"IF(AND(Z$8=Display!$T$10,'Lux4-sept'!$A$8=Display!$B$7,'Lux4-sept'!$A$9=Display!$B$9,'Lux4-sept'!$A$75=Display!$B$11,'Lux4-sept'!$A$76=Display!$B$13),Display!$D10,)","v":0},{"$f":"IF(AND(AA$8=Display!$T$10,'Lux4-sept'!$A$8=Display!$B$7,'Lux4-sept'!$A$9=Display!$B$9,'Lux4-sept'!$A$75=Display!$B$11,'Lux4-sept'!$A$76=Display!$B$13),Display!$D10,)","v":0},{"$f":"IF(AND(AB$8=Display!$T$10,'Lux4-sept'!$A$8=Display!$B$7,'Lux4-sept'!$A$9=Display!$B$9,'Lux4-sept'!$A$75=Display!$B$11,'Lux4-sept'!$A$76=Display!$B$13),Display!$D10,)","v":0},{"$f":"IF(AND(AC$8=Display!$T$10,'Lux4-sept'!$A$8=Display!$B$7,'Lux4-sept'!$A$9=Display!$B$9,'Lux4-sept'!$A$75=Display!$B$11,'Lux4-sept'!$A$76=Display!$B$13),Display!$D10,)","v":0},{"$f":"IF(AND(AD$8=Display!$T$10,'Lux4-sept'!$A$8=Display!$B$7,'Lux4-sept'!$A$9=Display!$B$9,'Lux4-sept'!$A$75=Display!$B$11,'Lux4-sept'!$A$76=Display!$B$13),Display!$D10,)","v":0},{"$f":"IF(AND(AE$8=Display!$T$10,'Lux4-sept'!$A$8=Display!$B$7,'Lux4-sept'!$A$9=Display!$B$9,'Lux4-sept'!$A$75=Display!$B$11,'Lux4-sept'!$A$76=Display!$B$13),Display!$D10,)","v":0},{"$f":"IF(AND(AF$8=Display!$T$10,'Lux4-sept'!$A$8=Display!$B$7,'Lux4-sept'!$A$9=Display!$B$9,'Lux4-sept'!$A$75=Display!$B$11,'Lux4-sept'!$A$76=Display!$B$13),Display!$D10,)","v":0},null,null,0]
["MOYENNE",{"$f":"((IF((SUM(B77:B83))<>0,(SUM(B77:B83)),0))/(IF((SUM((IF(B77<>0,3,0)),(IF(B78<>0,3,0)),(IF(B79<>0,3,0)),(IF(B80<>0,3,0)),(IF(B81<>0,3,0)),(IF(B82<>0,3,0)),(IF(B83<>0,3,0))))<>0,((SUM((IF(B77<>0,3,0)),(IF(B78<>0,3,0)),(IF(B79<>0,3,0)),(IF(B80<>0,3,0)),(IF(B81<>0,3,0)),(IF(B82<>0,3,0)),(IF(B83<>0,3,0))))),1)))","v":0},{"$f":"((IF((SUM(C77:C83))<>0,(SUM(C77:C83)),0))/(IF((SUM((IF(C77<>0,3,0)),(IF(C78<>0,3,0)),(IF(C79<>0,3,0)),(IF(C80<>0,3,0)),(IF(C81<>0,3,0)),(IF(C82<>0,3,0)),(IF(C83<>0,3,0))))<>0,((SUM((IF(C77<>0,3,0)),(IF(C78<>0,3,0)),(IF(C79<>0,3,0)),(IF(C80<>0,3,0)),(IF(C81<>0,3,0)),(IF(C82<>0,3,0)),(IF(C83<>0,3,0))))),1)))","v":0},0,0,0,0,0,0,0,0,0,0,0,0,0,0,0,0,0,0,0,0,0,0,0,0,0,0,0,0,0,0,0]
["01.501"]
["Chaises rangées",{"$f":"IF(AND(B$8=Display!$T$10,'Lux4-sept'!$A$8=Display!$B$7,'Lux4-sept'!$A$9=Display!$B$9,'Lux4-sept'!$A$75=Display!$B$11,'Lux4-sept'!$A$85=Display!$B$13),Display!$D4,)","v":0},{"$f":"IF(AND(C$8=Display!$T$10,'Lux4-sept'!$A$8=Display!$B$7,'Lux4-sept'!$A$9=Display!$B$9,'Lux4-sept'!$A$75=Display!$B$11,'Lux4-sept'!$A$85=Display!$B$13),Display!$D4,)","v":0},{"$f":"IF(AND(D$8=Display!$T$10,'Lux4-sept'!$A$8=Display!$B$7,'Lux4-sept'!$A$9=Display!$B$9,'Lux4-sept'!$A$75=Display!$B$11,'Lux4-sept'!$A$85=Display!$B$13),Display!$D4,)","v":0},{"$f":"IF(AND(E$8=Display!$T$10,'Lux4-sept'!$A$8=Display!$B$7,'Lux4-sept'!$A$9=Display!$B$9,'Lux4-sept'!$A$75=Display!$B$11,'Lux4-sept'!$A$85=Display!$B$13),Display!$D4,)","v":0},{"$f":"IF(AND(F$8=Display!$T$10,'Lux4-sept'!$A$8=Display!$B$7,'Lux4-sept'!$A$9=Display!$B$9,'Lux4-sept'!$A$75=Display!$B$11,'Lux4-sept'!$A$85=Display!$B$13),Display!$D4,)","v":0},{"$f":"IF(AND(G$8=Display!$T$10,'Lux4-sept'!$A$8=Display!$B$7,'Lux4-sept'!$A$9=Display!$B$9,'Lux4-sept'!$A$75=Display!$B$11,'Lux4-sept'!$A$85=Display!$B$13),Display!$D4,)","v":0},{"$f":"IF(AND(H$8=Display!$T$10,'Lux4-sept'!$A$8=Display!$B$7,'Lux4-sept'!$A$9=Display!$B$9,'Lux4-sept'!$A$75=Display!$B$11,'Lux4-sept'!$A$85=Display!$B$13),Display!$D4,)","v":0},{"$f":"IF(AND(I$8=Display!$T$10,'Lux4-sept'!$A$8=Display!$B$7,'Lux4-sept'!$A$9=Display!$B$9,'Lux4-sept'!$A$75=Display!$B$11,'Lux4-sept'!$A$85=Display!$B$13),Display!$D4,)","v":0},{"$f":"IF(AND(J$8=Display!$T$10,'Lux4-sept'!$A$8=Display!$B$7,'Lux4-sept'!$A$9=Display!$B$9,'Lux4-sept'!$A$75=Display!$B$11,'Lux4-sept'!$A$85=Display!$B$13),Display!$D4,)","v":0},{"$f":"IF(AND(K$8=Display!$T$10,'Lux4-sept'!$A$8=Display!$B$7,'Lux4-sept'!$A$9=Display!$B$9,'Lux4-sept'!$A$75=Display!$B$11,'Lux4-sept'!$A$85=Display!$B$13),Display!$D4,)","v":0},{"$f":"IF(AND(L$8=Display!$T$10,'Lux4-sept'!$A$8=Display!$B$7,'Lux4-sept'!$A$9=Display!$B$9,'Lux4-sept'!$A$75=Display!$B$11,'Lux4-sept'!$A$85=Display!$B$13),Display!$D4,)","v":0},{"$f":"IF(AND(M$8=Display!$T$10,'Lux4-sept'!$A$8=Display!$B$7,'Lux4-sept'!$A$9=Display!$B$9,'Lux4-sept'!$A$75=Display!$B$11,'Lux4-sept'!$A$85=Display!$B$13),Display!$D4,)","v":0},{"$f":"IF(AND(N$8=Display!$T$10,'Lux4-sept'!$A$8=Display!$B$7,'Lux4-sept'!$A$9=Display!$B$9,'Lux4-sept'!$A$75=Display!$B$11,'Lux4-sept'!$A$85=Display!$B$13),Display!$D4,)","v":0},{"$f":"IF(AND(O$8=Display!$T$10,'Lux4-sept'!$A$8=Display!$B$7,'Lux4-sept'!$A$9=Display!$B$9,'Lux4-sept'!$A$75=Display!$B$11,'Lux4-sept'!$A$85=Display!$B$13),Display!$D4,)","v":0},{"$f":"IF(AND(P$8=Display!$T$10,'Lux4-sept'!$A$8=Display!$B$7,'Lux4-sept'!$A$9=Display!$B$9,'Lux4-sept'!$A$75=Display!$B$11,'Lux4-sept'!$A$85=Display!$B$13),Display!$D4,)","v":0},{"$f":"IF(AND(Q$8=Display!$T$10,'Lux4-sept'!$A$8=Display!$B$7,'Lux4-sept'!$A$9=Display!$B$9,'Lux4-sept'!$A$75=Display!$B$11,'Lux4-sept'!$A$85=Display!$B$13),Display!$D4,)","v":0},{"$f":"IF(AND(R$8=Display!$T$10,'Lux4-sept'!$A$8=Display!$B$7,'Lux4-sept'!$A$9=Display!$B$9,'Lux4-sept'!$A$75=Display!$B$11,'Lux4-sept'!$A$85=Display!$B$13),Display!$D4,)","v":0},{"$f":"IF(AND(S$8=Display!$T$10,'Lux4-sept'!$A$8=Display!$B$7,'Lux4-sept'!$A$9=Display!$B$9,'Lux4-sept'!$A$75=Display!$B$11,'Lux4-sept'!$A$85=Display!$B$13),Display!$D4,)","v":0},{"$f":"IF(AND(T$8=Display!$T$10,'Lux4-sept'!$A$8=Display!$B$7,'Lux4-sept'!$A$9=Display!$B$9,'Lux4-sept'!$A$75=Display!$B$11,'Lux4-sept'!$A$85=Display!$B$13),Display!$D4,)","v":0},{"$f":"IF(AND(U$8=Display!$T$10,'Lux4-sept'!$A$8=Display!$B$7,'Lux4-sept'!$A$9=Display!$B$9,'Lux4-sept'!$A$75=Display!$B$11,'Lux4-sept'!$A$85=Display!$B$13),Display!$D4,)","v":0},{"$f":"IF(AND(V$8=Display!$T$10,'Lux4-sept'!$A$8=Display!$B$7,'Lux4-sept'!$A$9=Display!$B$9,'Lux4-sept'!$A$75=Display!$B$11,'Lux4-sept'!$A$85=Display!$B$13),Display!$D4,)","v":0},{"$f":"IF(AND(W$8=Display!$T$10,'Lux4-sept'!$A$8=Display!$B$7,'Lux4-sept'!$A$9=Display!$B$9,'Lux4-sept'!$A$75=Display!$B$11,'Lux4-sept'!$A$85=Display!$B$13),Display!$D4,)","v":0},{"$f":"IF(AND(X$8=Display!$T$10,'Lux4-sept'!$A$8=Display!$B$7,'Lux4-sept'!$A$9=Display!$B$9,'Lux4-sept'!$A$75=Display!$B$11,'Lux4-sept'!$A$85=Display!$B$13),Display!$D4,)","v":0},{"$f":"IF(AND(Y$8=Display!$T$10,'Lux4-sept'!$A$8=Display!$B$7,'Lux4-sept'!$A$9=Display!$B$9,'Lux4-sept'!$A$75=Display!$B$11,'Lux4-sept'!$A$85=Display!$B$13),Display!$D4,)","v":0},{"$f":"IF(AND(Z$8=Display!$T$10,'Lux4-sept'!$A$8=Display!$B$7,'Lux4-sept'!$A$9=Display!$B$9,'Lux4-sept'!$A$75=Display!$B$11,'Lux4-sept'!$A$85=Display!$B$13),Display!$D4,)","v":0},{"$f":"IF(AND(AA$8=Display!$T$10,'Lux4-sept'!$A$8=Display!$B$7,'Lux4-sept'!$A$9=Display!$B$9,'Lux4-sept'!$A$75=Display!$B$11,'Lux4-sept'!$A$85=Display!$B$13),Display!$D4,)","v":0},{"$f":"IF(AND(AB$8=Display!$T$10,'Lux4-sept'!$A$8=Display!$B$7,'Lux4-sept'!$A$9=Display!$B$9,'Lux4-sept'!$A$75=Display!$B$11,'Lux4-sept'!$A$85=Display!$B$13),Display!$D4,)","v":0},{"$f":"IF(AND(AC$8=Display!$T$10,'Lux4-sept'!$A$8=Display!$B$7,'Lux4-sept'!$A$9=Display!$B$9,'Lux4-sept'!$A$75=Display!$B$11,'Lux4-sept'!$A$85=Display!$B$13),Display!$D4,)","v":0},{"$f":"IF(AND(AD$8=Display!$T$10,'Lux4-sept'!$A$8=Display!$B$7,'Lux4-sept'!$A$9=Display!$B$9,'Lux4-sept'!$A$75=Display!$B$11,'Lux4-sept'!$A$85=Display!$B$13),Display!$D4,)","v":0},{"$f":"IF(AND(AE$8=Display!$T$10,'Lux4-sept'!$A$8=Display!$B$7,'Lux4-sept'!$A$9=Display!$B$9,'Lux4-sept'!$A$75=Display!$B$11,'Lux4-sept'!$A$85=Display!$B$13),Display!$D4,)","v":0},{"$f":"IF(AND(AF$8=Display!$T$10,'Lux4-sept'!$A$8=Display!$B$7,'Lux4-sept'!$A$9=Display!$B$9,'Lux4-sept'!$A$75=Display!$B$11,'Lux4-sept'!$A$85=Display!$B$13),Display!$D4,)","v":0},null,null,{"$f":"((IF((SUM(B86:AF86))<>0,(SUM(B86:AF86)),0))/(IF((SUM((IF(B86<>0,3,0)),(IF(C86<>0,3,0)),(IF(D86<>0,3,0)),(IF(E86<>0,3,0)),(IF(F86<>0,3,0)),(IF(F86<>0,3,0)),(IF(F86<>0,3,0)),(IF(G86<>0,3,0)),(IF(H86<>0,3,0)),(IF(I86<>0,3,0)),(IF(J86<>0,3,0)),(IF(K86<>0,3,0)),(IF(L86<>0,3,0)),(IF(M86<>0,3,0)),(IF(N86<>0,3,0)),(IF(O86<>0,3,0)),(IF(P86<>0,3,0)),(IF(Q86<>0,3,0)),(IF(R86<>0,3,0)),(IF(S86<>0,3,0)),(IF(T86<>0,3,0)),(IF(U86<>0,3,0)),(IF(V86<>0,3,0)),(IF(W86<>0,3,0)),(IF(X86<>0,3,0)),(IF(Y86<>0,3,0)),(IF(Z86<>0,3,0)),(IF(AA86<>0,3,0)),(IF(AB86<>0,3,0)),(IF(AC86<>0,3,0)),(IF(AD86<>0,3,0)),(IF(AE86<>0,3,0)),(IF(AF86<>0,3,0))))<>0,((SUM((IF(B86<>0,3,0)),(IF(C86<>0,3,0)),(IF(D86<>0,3,0)),(IF(E86<>0,3,0)),(IF(F86<>0,3,0)),(IF(F86<>0,3,0)),(IF(F86<>0,3,0)),(IF(G86<>0,3,0)),(IF(H86<>0,3,0)),(IF(I86<>0,3,0)),(IF(J86<>0,3,0)),(IF(K86<>0,3,0)),(IF(L86<>0,3,0)),(IF(M86<>0,3,0)),(IF(N86<>0,3,0)),(IF(O86<>0,3,0)),(IF(P86<>0,3,0)),(IF(Q86<>0,3,0)),(IF(R86<>0,3,0)),(IF(S86<>0,3,0)),(IF(T86<>0,3,0)),(IF(U86<>0,3,0)),(IF(V86<>0,3,0)),(IF(W86<>0,3,0)),(IF(X86<>0,3,0)),(IF(Y86<>0,3,0)),(IF(Z86<>0,3,0)),(IF(AA86<>0,3,0)),(IF(AB86<>0,3,0)),(IF(AC86<>0,3,0)),(IF(AD86<>0,3,0)),(IF(AE86<>0,3,0)),(IF(AF86<>0,3,0))))),1)))","v":0}]
["Poubelles vidées",{"$f":"IF(AND(B$8=Display!$T$10,'Lux4-sept'!$A$8=Display!$B$7,'Lux4-sept'!$A$9=Display!$B$9,'Lux4-sept'!$A$75=Display!$B$11,'Lux4-sept'!$A$85=Display!$B$13),Display!$D5,)","v":0},{"$f":"IF(AND(C$8=Display!$T$10,'Lux4-sept'!$A$8=Display!$B$7,'Lux4-sept'!$A$9=Display!$B$9,'Lux4-sept'!$A$75=Display!$B$11,'Lux4-sept'!$A$85=Display!$B$13),Display!$D5,)","v":0},{"$f":"IF(AND(D$8=Display!$T$10,'Lux4-sept'!$A$8=Display!$B$7,'Lux4-sept'!$A$9=Display!$B$9,'Lux4-sept'!$A$75=Display!$B$11,'Lux4-sept'!$A$85=Display!$B$13),Display!$D5,)","v":0},{"$f":"IF(AND(E$8=Display!$T$10,'Lux4-sept'!$A$8=Display!$B$7,'Lux4-sept'!$A$9=Display!$B$9,'Lux4-sept'!$A$75=Display!$B$11,'Lux4-sept'!$A$85=Display!$B$13),Display!$D5,)","v":0},{"$f":"IF(AND(F$8=Display!$T$10,'Lux4-sept'!$A$8=Display!$B$7,'Lux4-sept'!$A$9=Display!$B$9,'Lux4-sept'!$A$75=Display!$B$11,'Lux4-sept'!$A$85=Display!$B$13),Display!$D5,)","v":0},{"$f":"IF(AND(G$8=Display!$T$10,'Lux4-sept'!$A$8=Display!$B$7,'Lux4-sept'!$A$9=Display!$B$9,'Lux4-sept'!$A$75=Display!$B$11,'Lux4-sept'!$A$85=Display!$B$13),Display!$D5,)","v":0},{"$f":"IF(AND(H$8=Display!$T$10,'Lux4-sept'!$A$8=Display!$B$7,'Lux4-sept'!$A$9=Display!$B$9,'Lux4-sept'!$A$75=Display!$B$11,'Lux4-sept'!$A$85=Display!$B$13),Display!$D5,)","v":0},{"$f":"IF(AND(I$8=Display!$T$10,'Lux4-sept'!$A$8=Display!$B$7,'Lux4-sept'!$A$9=Display!$B$9,'Lux4-sept'!$A$75=Display!$B$11,'Lux4-sept'!$A$85=Display!$B$13),Display!$D5,)","v":0},{"$f":"IF(AND(J$8=Display!$T$10,'Lux4-sept'!$A$8=Display!$B$7,'Lux4-sept'!$A$9=Display!$B$9,'Lux4-sept'!$A$75=Display!$B$11,'Lux4-sept'!$A$85=Display!$B$13),Display!$D5,)","v":0},{"$f":"IF(AND(K$8=Display!$T$10,'Lux4-sept'!$A$8=Display!$B$7,'Lux4-sept'!$A$9=Display!$B$9,'Lux4-sept'!$A$75=Display!$B$11,'Lux4-sept'!$A$85=Display!$B$13),Display!$D5,)","v":0},{"$f":"IF(AND(L$8=Display!$T$10,'Lux4-sept'!$A$8=Display!$B$7,'Lux4-sept'!$A$9=Display!$B$9,'Lux4-sept'!$A$75=Display!$B$11,'Lux4-sept'!$A$85=Display!$B$13),Display!$D5,)","v":0},{"$f":"IF(AND(M$8=Display!$T$10,'Lux4-sept'!$A$8=Display!$B$7,'Lux4-sept'!$A$9=Display!$B$9,'Lux4-sept'!$A$75=Display!$B$11,'Lux4-sept'!$A$85=Display!$B$13),Display!$D5,)","v":0},{"$f":"IF(AND(N$8=Display!$T$10,'Lux4-sept'!$A$8=Display!$B$7,'Lux4-sept'!$A$9=Display!$B$9,'Lux4-sept'!$A$75=Display!$B$11,'Lux4-sept'!$A$85=Display!$B$13),Display!$D5,)","v":0},{"$f":"IF(AND(O$8=Display!$T$10,'Lux4-sept'!$A$8=Display!$B$7,'Lux4-sept'!$A$9=Display!$B$9,'Lux4-sept'!$A$75=Display!$B$11,'Lux4-sept'!$A$85=Display!$B$13),Display!$D5,)","v":0},{"$f":"IF(AND(P$8=Display!$T$10,'Lux4-sept'!$A$8=Display!$B$7,'Lux4-sept'!$A$9=Display!$B$9,'Lux4-sept'!$A$75=Display!$B$11,'Lux4-sept'!$A$85=Display!$B$13),Display!$D5,)","v":0},{"$f":"IF(AND(Q$8=Display!$T$10,'Lux4-sept'!$A$8=Display!$B$7,'Lux4-sept'!$A$9=Display!$B$9,'Lux4-sept'!$A$75=Display!$B$11,'Lux4-sept'!$A$85=Display!$B$13),Display!$D5,)","v":0},{"$f":"IF(AND(R$8=Display!$T$10,'Lux4-sept'!$A$8=Display!$B$7,'Lux4-sept'!$A$9=Display!$B$9,'Lux4-sept'!$A$75=Display!$B$11,'Lux4-sept'!$A$85=Display!$B$13),Display!$D5,)","v":0},{"$f":"IF(AND(S$8=Display!$T$10,'Lux4-sept'!$A$8=Display!$B$7,'Lux4-sept'!$A$9=Display!$B$9,'Lux4-sept'!$A$75=Display!$B$11,'Lux4-sept'!$A$85=Display!$B$13),Display!$D5,)","v":0},{"$f":"IF(AND(T$8=Display!$T$10,'Lux4-sept'!$A$8=Display!$B$7,'Lux4-sept'!$A$9=Display!$B$9,'Lux4-sept'!$A$75=Display!$B$11,'Lux4-sept'!$A$85=Display!$B$13),Display!$D5,)","v":0},{"$f":"IF(AND(U$8=Display!$T$10,'Lux4-sept'!$A$8=Display!$B$7,'Lux4-sept'!$A$9=Display!$B$9,'Lux4-sept'!$A$75=Display!$B$11,'Lux4-sept'!$A$85=Display!$B$13),Display!$D5,)","v":0},{"$f":"IF(AND(V$8=Display!$T$10,'Lux4-sept'!$A$8=Display!$B$7,'Lux4-sept'!$A$9=Display!$B$9,'Lux4-sept'!$A$75=Display!$B$11,'Lux4-sept'!$A$85=Display!$B$13),Display!$D5,)","v":0},{"$f":"IF(AND(W$8=Display!$T$10,'Lux4-sept'!$A$8=Display!$B$7,'Lux4-sept'!$A$9=Display!$B$9,'Lux4-sept'!$A$75=Display!$B$11,'Lux4-sept'!$A$85=Display!$B$13),Display!$D5,)","v":0},{"$f":"IF(AND(X$8=Display!$T$10,'Lux4-sept'!$A$8=Display!$B$7,'Lux4-sept'!$A$9=Display!$B$9,'Lux4-sept'!$A$75=Display!$B$11,'Lux4-sept'!$A$85=Display!$B$13),Display!$D5,)","v":0},{"$f":"IF(AND(Y$8=Display!$T$10,'Lux4-sept'!$A$8=Display!$B$7,'Lux4-sept'!$A$9=Display!$B$9,'Lux4-sept'!$A$75=Display!$B$11,'Lux4-sept'!$A$85=Display!$B$13),Display!$D5,)","v":0},{"$f":"IF(AND(Z$8=Display!$T$10,'Lux4-sept'!$A$8=Display!$B$7,'Lux4-sept'!$A$9=Display!$B$9,'Lux4-sept'!$A$75=Display!$B$11,'Lux4-sept'!$A$85=Display!$B$13),Display!$D5,)","v":0},{"$f":"IF(AND(AA$8=Display!$T$10,'Lux4-sept'!$A$8=Display!$B$7,'Lux4-sept'!$A$9=Display!$B$9,'Lux4-sept'!$A$75=Display!$B$11,'Lux4-sept'!$A$85=Display!$B$13),Display!$D5,)","v":0},{"$f":"IF(AND(AB$8=Display!$T$10,'Lux4-sept'!$A$8=Display!$B$7,'Lux4-sept'!$A$9=Display!$B$9,'Lux4-sept'!$A$75=Display!$B$11,'Lux4-sept'!$A$85=Display!$B$13),Display!$D5,)","v":0},{"$f":"IF(AND(AC$8=Display!$T$10,'Lux4-sept'!$A$8=Display!$B$7,'Lux4-sept'!$A$9=Display!$B$9,'Lux4-sept'!$A$75=Display!$B$11,'Lux4-sept'!$A$85=Display!$B$13),Display!$D5,)","v":0},{"$f":"IF(AND(AD$8=Display!$T$10,'Lux4-sept'!$A$8=Display!$B$7,'Lux4-sept'!$A$9=Display!$B$9,'Lux4-sept'!$A$75=Display!$B$11,'Lux4-sept'!$A$85=Display!$B$13),Display!$D5,)","v":0},{"$f":"IF(AND(AE$8=Display!$T$10,'Lux4-sept'!$A$8=Display!$B$7,'Lux4-sept'!$A$9=Display!$B$9,'Lux4-sept'!$A$75=Display!$B$11,'Lux4-sept'!$A$85=Display!$B$13),Display!$D5,)","v":0},{"$f":"IF(AND(AF$8=Display!$T$10,'Lux4-sept'!$A$8=Display!$B$7,'Lux4-sept'!$A$9=Display!$B$9,'Lux4-sept'!$A$75=Display!$B$11,'Lux4-sept'!$A$85=Display!$B$13),Display!$D5,)","v":0},null,null,{"$f":"((IF((SUM(B87:AF87))<>0,(SUM(B87:AF87)),0))/(IF((SUM((IF(B87<>0,3,0)),(IF(C87<>0,3,0)),(IF(D87<>0,3,0)),(IF(E87<>0,3,0)),(IF(F87<>0,3,0)),(IF(F87<>0,3,0)),(IF(F87<>0,3,0)),(IF(G87<>0,3,0)),(IF(H87<>0,3,0)),(IF(I87<>0,3,0)),(IF(J87<>0,3,0)),(IF(K87<>0,3,0)),(IF(L87<>0,3,0)),(IF(M87<>0,3,0)),(IF(N87<>0,3,0)),(IF(O87<>0,3,0)),(IF(P87<>0,3,0)),(IF(Q87<>0,3,0)),(IF(R87<>0,3,0)),(IF(S87<>0,3,0)),(IF(T87<>0,3,0)),(IF(U87<>0,3,0)),(IF(V87<>0,3,0)),(IF(W87<>0,3,0)),(IF(X87<>0,3,0)),(IF(Y87<>0,3,0)),(IF(Z87<>0,3,0)),(IF(AA87<>0,3,0)),(IF(AB87<>0,3,0)),(IF(AC87<>0,3,0)),(IF(AD87<>0,3,0)),(IF(AE87<>0,3,0)),(IF(AF87<>0,3,0))))<>0,((SUM((IF(B87<>0,3,0)),(IF(C87<>0,3,0)),(IF(D87<>0,3,0)),(IF(E87<>0,3,0)),(IF(F87<>0,3,0)),(IF(F87<>0,3,0)),(IF(F87<>0,3,0)),(IF(G87<>0,3,0)),(IF(H87<>0,3,0)),(IF(I87<>0,3,0)),(IF(J87<>0,3,0)),(IF(K87<>0,3,0)),(IF(L87<>0,3,0)),(IF(M87<>0,3,0)),(IF(N87<>0,3,0)),(IF(O87<>0,3,0)),(IF(P87<>0,3,0)),(IF(Q87<>0,3,0)),(IF(R87<>0,3,0)),(IF(S87<>0,3,0)),(IF(T87<>0,3,0)),(IF(U87<>0,3,0)),(IF(V87<>0,3,0)),(IF(W87<>0,3,0)),(IF(X87<>0,3,0)),(IF(Y87<>0,3,0)),(IF(Z87<>0,3,0)),(IF(AA87<>0,3,0)),(IF(AB87<>0,3,0)),(IF(AC87<>0,3,0)),(IF(AD87<>0,3,0)),(IF(AE87<>0,3,0)),(IF(AF87<>0,3,0))))),1)))","v":0}]
["Tables nettoyées",{"$f":"IF(AND(B$8=Display!$T$10,'Lux4-sept'!$A$8=Display!$B$7,'Lux4-sept'!$A$9=Display!$B$9,'Lux4-sept'!$A$75=Display!$B$11,'Lux4-sept'!$A$85=Display!$B$13),Display!$D6,)","v":0},{"$f":"IF(AND(C$8=Display!$T$10,'Lux4-sept'!$A$8=Display!$B$7,'Lux4-sept'!$A$9=Display!$B$9,'Lux4-sept'!$A$75=Display!$B$11,'Lux4-sept'!$A$85=Display!$B$13),Display!$D6,)","v":0},{"$f":"IF(AND(D$8=Display!$T$10,'Lux4-sept'!$A$8=Display!$B$7,'Lux4-sept'!$A$9=Display!$B$9,'Lux4-sept'!$A$75=Display!$B$11,'Lux4-sept'!$A$85=Display!$B$13),Display!$D6,)","v":0},{"$f":"IF(AND(E$8=Display!$T$10,'Lux4-sept'!$A$8=Display!$B$7,'Lux4-sept'!$A$9=Display!$B$9,'Lux4-sept'!$A$75=Display!$B$11,'Lux4-sept'!$A$85=Display!$B$13),Display!$D6,)","v":0},{"$f":"IF(AND(F$8=Display!$T$10,'Lux4-sept'!$A$8=Display!$B$7,'Lux4-sept'!$A$9=Display!$B$9,'Lux4-sept'!$A$75=Display!$B$11,'Lux4-sept'!$A$85=Display!$B$13),Display!$D6,)","v":0},{"$f":"IF(AND(G$8=Display!$T$10,'Lux4-sept'!$A$8=Display!$B$7,'Lux4-sept'!$A$9=Display!$B$9,'Lux4-sept'!$A$75=Display!$B$11,'Lux4-sept'!$A$85=Display!$B$13),Display!$D6,)","v":0},{"$f":"IF(AND(H$8=Display!$T$10,'Lux4-sept'!$A$8=Display!$B$7,'Lux4-sept'!$A$9=Display!$B$9,'Lux4-sept'!$A$75=Display!$B$11,'Lux4-sept'!$A$85=Display!$B$13),Display!$D6,)","v":0},{"$f":"IF(AND(I$8=Display!$T$10,'Lux4-sept'!$A$8=Display!$B$7,'Lux4-sept'!$A$9=Display!$B$9,'Lux4-sept'!$A$75=Display!$B$11,'Lux4-sept'!$A$85=Display!$B$13),Display!$D6,)","v":0},{"$f":"IF(AND(J$8=Display!$T$10,'Lux4-sept'!$A$8=Display!$B$7,'Lux4-sept'!$A$9=Display!$B$9,'Lux4-sept'!$A$75=Display!$B$11,'Lux4-sept'!$A$85=Display!$B$13),Display!$D6,)","v":0},{"$f":"IF(AND(K$8=Display!$T$10,'Lux4-sept'!$A$8=Display!$B$7,'Lux4-sept'!$A$9=Display!$B$9,'Lux4-sept'!$A$75=Display!$B$11,'Lux4-sept'!$A$85=Display!$B$13),Display!$D6,)","v":0},{"$f":"IF(AND(L$8=Display!$T$10,'Lux4-sept'!$A$8=Display!$B$7,'Lux4-sept'!$A$9=Display!$B$9,'Lux4-sept'!$A$75=Display!$B$11,'Lux4-sept'!$A$85=Display!$B$13),Display!$D6,)","v":0},{"$f":"IF(AND(M$8=Display!$T$10,'Lux4-sept'!$A$8=Display!$B$7,'Lux4-sept'!$A$9=Display!$B$9,'Lux4-sept'!$A$75=Display!$B$11,'Lux4-sept'!$A$85=Display!$B$13),Display!$D6,)","v":0},{"$f":"IF(AND(N$8=Display!$T$10,'Lux4-sept'!$A$8=Display!$B$7,'Lux4-sept'!$A$9=Display!$B$9,'Lux4-sept'!$A$75=Display!$B$11,'Lux4-sept'!$A$85=Display!$B$13),Display!$D6,)","v":0},{"$f":"IF(AND(O$8=Display!$T$10,'Lux4-sept'!$A$8=Display!$B$7,'Lux4-sept'!$A$9=Display!$B$9,'Lux4-sept'!$A$75=Display!$B$11,'Lux4-sept'!$A$85=Display!$B$13),Display!$D6,)","v":0},{"$f":"IF(AND(P$8=Display!$T$10,'Lux4-sept'!$A$8=Display!$B$7,'Lux4-sept'!$A$9=Display!$B$9,'Lux4-sept'!$A$75=Display!$B$11,'Lux4-sept'!$A$85=Display!$B$13),Display!$D6,)","v":0},{"$f":"IF(AND(Q$8=Display!$T$10,'Lux4-sept'!$A$8=Display!$B$7,'Lux4-sept'!$A$9=Display!$B$9,'Lux4-sept'!$A$75=Display!$B$11,'Lux4-sept'!$A$85=Display!$B$13),Display!$D6,)","v":0},{"$f":"IF(AND(R$8=Display!$T$10,'Lux4-sept'!$A$8=Display!$B$7,'Lux4-sept'!$A$9=Display!$B$9,'Lux4-sept'!$A$75=Display!$B$11,'Lux4-sept'!$A$85=Display!$B$13),Display!$D6,)","v":0},{"$f":"IF(AND(S$8=Display!$T$10,'Lux4-sept'!$A$8=Display!$B$7,'Lux4-sept'!$A$9=Display!$B$9,'Lux4-sept'!$A$75=Display!$B$11,'Lux4-sept'!$A$85=Display!$B$13),Display!$D6,)","v":0},{"$f":"IF(AND(T$8=Display!$T$10,'Lux4-sept'!$A$8=Display!$B$7,'Lux4-sept'!$A$9=Display!$B$9,'Lux4-sept'!$A$75=Display!$B$11,'Lux4-sept'!$A$85=Display!$B$13),Display!$D6,)","v":0},{"$f":"IF(AND(U$8=Display!$T$10,'Lux4-sept'!$A$8=Display!$B$7,'Lux4-sept'!$A$9=Display!$B$9,'Lux4-sept'!$A$75=Display!$B$11,'Lux4-sept'!$A$85=Display!$B$13),Display!$D6,)","v":0},{"$f":"IF(AND(V$8=Display!$T$10,'Lux4-sept'!$A$8=Display!$B$7,'Lux4-sept'!$A$9=Display!$B$9,'Lux4-sept'!$A$75=Display!$B$11,'Lux4-sept'!$A$85=Display!$B$13),Display!$D6,)","v":0},{"$f":"IF(AND(W$8=Display!$T$10,'Lux4-sept'!$A$8=Display!$B$7,'Lux4-sept'!$A$9=Display!$B$9,'Lux4-sept'!$A$75=Display!$B$11,'Lux4-sept'!$A$85=Display!$B$13),Display!$D6,)","v":0},{"$f":"IF(AND(X$8=Display!$T$10,'Lux4-sept'!$A$8=Display!$B$7,'Lux4-sept'!$A$9=Display!$B$9,'Lux4-sept'!$A$75=Display!$B$11,'Lux4-sept'!$A$85=Display!$B$13),Display!$D6,)","v":0},{"$f":"IF(AND(Y$8=Display!$T$10,'Lux4-sept'!$A$8=Display!$B$7,'Lux4-sept'!$A$9=Display!$B$9,'Lux4-sept'!$A$75=Display!$B$11,'Lux4-sept'!$A$85=Display!$B$13),Display!$D6,)","v":0},{"$f":"IF(AND(Z$8=Display!$T$10,'Lux4-sept'!$A$8=Display!$B$7,'Lux4-sept'!$A$9=Display!$B$9,'Lux4-sept'!$A$75=Display!$B$11,'Lux4-sept'!$A$85=Display!$B$13),Display!$D6,)","v":0},{"$f":"IF(AND(AA$8=Display!$T$10,'Lux4-sept'!$A$8=Display!$B$7,'Lux4-sept'!$A$9=Display!$B$9,'Lux4-sept'!$A$75=Display!$B$11,'Lux4-sept'!$A$85=Display!$B$13),Display!$D6,)","v":0},{"$f":"IF(AND(AB$8=Display!$T$10,'Lux4-sept'!$A$8=Display!$B$7,'Lux4-sept'!$A$9=Display!$B$9,'Lux4-sept'!$A$75=Display!$B$11,'Lux4-sept'!$A$85=Display!$B$13),Display!$D6,)","v":0},{"$f":"IF(AND(AC$8=Display!$T$10,'Lux4-sept'!$A$8=Display!$B$7,'Lux4-sept'!$A$9=Display!$B$9,'Lux4-sept'!$A$75=Display!$B$11,'Lux4-sept'!$A$85=Display!$B$13),Display!$D6,)","v":0},{"$f":"IF(AND(AD$8=Display!$T$10,'Lux4-sept'!$A$8=Display!$B$7,'Lux4-sept'!$A$9=Display!$B$9,'Lux4-sept'!$A$75=Display!$B$11,'Lux4-sept'!$A$85=Display!$B$13),Display!$D6,)","v":0},{"$f":"IF(AND(AE$8=Display!$T$10,'Lux4-sept'!$A$8=Display!$B$7,'Lux4-sept'!$A$9=Display!$B$9,'Lux4-sept'!$A$75=Display!$B$11,'Lux4-sept'!$A$85=Display!$B$13),Display!$D6,)","v":0},{"$f":"IF(AND(AF$8=Display!$T$10,'Lux4-sept'!$A$8=Display!$B$7,'Lux4-sept'!$A$9=Display!$B$9,'Lux4-sept'!$A$75=Display!$B$11,'Lux4-sept'!$A$85=Display!$B$13),Display!$D6,)","v":0},null,null,0]
["Tableaux effacés",{"$f":"IF(AND(B$8=Display!$T$10,'Lux4-sept'!$A$8=Display!$B$7,'Lux4-sept'!$A$9=Display!$B$9,'Lux4-sept'!$A$75=Display!$B$11,'Lux4-sept'!$A$85=Display!$B$13),Display!$D7,)","v":0},{"$f":"IF(AND(C$8=Display!$T$10,'Lux4-sept'!$A$8=Display!$B$7,'Lux4-sept'!$A$9=Display!$B$9,'Lux4-sept'!$A$75=Display!$B$11,'Lux4-sept'!$A$85=Display!$B$13),Display!$D7,)","v":0},{"$f":"IF(AND(D$8=Display!$T$10,'Lux4-sept'!$A$8=Display!$B$7,'Lux4-sept'!$A$9=Display!$B$9,'Lux4-sept'!$A$75=Display!$B$11,'Lux4-sept'!$A$85=Display!$B$13),Display!$D7,)","v":0},{"$f":"IF(AND(E$8=Display!$T$10,'Lux4-sept'!$A$8=Display!$B$7,'Lux4-sept'!$A$9=Display!$B$9,'Lux4-sept'!$A$75=Display!$B$11,'Lux4-sept'!$A$85=Display!$B$13),Display!$D7,)","v":0},{"$f":"IF(AND(F$8=Display!$T$10,'Lux4-sept'!$A$8=Display!$B$7,'Lux4-sept'!$A$9=Display!$B$9,'Lux4-sept'!$A$75=Display!$B$11,'Lux4-sept'!$A$85=Display!$B$13),Display!$D7,)","v":0},{"$f":"IF(AND(G$8=Display!$T$10,'Lux4-sept'!$A$8=Display!$B$7,'Lux4-sept'!$A$9=Display!$B$9,'Lux4-sept'!$A$75=Display!$B$11,'Lux4-sept'!$A$85=Display!$B$13),Display!$D7,)","v":0},{"$f":"IF(AND(H$8=Display!$T$10,'Lux4-sept'!$A$8=Display!$B$7,'Lux4-sept'!$A$9=Display!$B$9,'Lux4-sept'!$A$75=Display!$B$11,'Lux4-sept'!$A$85=Display!$B$13),Display!$D7,)","v":0},{"$f":"IF(AND(I$8=Display!$T$10,'Lux4-sept'!$A$8=Display!$B$7,'Lux4-sept'!$A$9=Display!$B$9,'Lux4-sept'!$A$75=Display!$B$11,'Lux4-sept'!$A$85=Display!$B$13),Display!$D7,)","v":0},{"$f":"IF(AND(J$8=Display!$T$10,'Lux4-sept'!$A$8=Display!$B$7,'Lux4-sept'!$A$9=Display!$B$9,'Lux4-sept'!$A$75=Display!$B$11,'Lux4-sept'!$A$85=Display!$B$13),Display!$D7,)","v":0},{"$f":"IF(AND(K$8=Display!$T$10,'Lux4-sept'!$A$8=Display!$B$7,'Lux4-sept'!$A$9=Display!$B$9,'Lux4-sept'!$A$75=Display!$B$11,'Lux4-sept'!$A$85=Display!$B$13),Display!$D7,)","v":0},{"$f":"IF(AND(L$8=Display!$T$10,'Lux4-sept'!$A$8=Display!$B$7,'Lux4-sept'!$A$9=Display!$B$9,'Lux4-sept'!$A$75=Display!$B$11,'Lux4-sept'!$A$85=Display!$B$13),Display!$D7,)","v":0},{"$f":"IF(AND(M$8=Display!$T$10,'Lux4-sept'!$A$8=Display!$B$7,'Lux4-sept'!$A$9=Display!$B$9,'Lux4-sept'!$A$75=Display!$B$11,'Lux4-sept'!$A$85=Display!$B$13),Display!$D7,)","v":0},{"$f":"IF(AND(N$8=Display!$T$10,'Lux4-sept'!$A$8=Display!$B$7,'Lux4-sept'!$A$9=Display!$B$9,'Lux4-sept'!$A$75=Display!$B$11,'Lux4-sept'!$A$85=Display!$B$13),Display!$D7,)","v":0},{"$f":"IF(AND(O$8=Display!$T$10,'Lux4-sept'!$A$8=Display!$B$7,'Lux4-sept'!$A$9=Display!$B$9,'Lux4-sept'!$A$75=Display!$B$11,'Lux4-sept'!$A$85=Display!$B$13),Display!$D7,)","v":0},{"$f":"IF(AND(P$8=Display!$T$10,'Lux4-sept'!$A$8=Display!$B$7,'Lux4-sept'!$A$9=Display!$B$9,'Lux4-sept'!$A$75=Display!$B$11,'Lux4-sept'!$A$85=Display!$B$13),Display!$D7,)","v":0},{"$f":"IF(AND(Q$8=Display!$T$10,'Lux4-sept'!$A$8=Display!$B$7,'Lux4-sept'!$A$9=Display!$B$9,'Lux4-sept'!$A$75=Display!$B$11,'Lux4-sept'!$A$85=Display!$B$13),Display!$D7,)","v":0},{"$f":"IF(AND(R$8=Display!$T$10,'Lux4-sept'!$A$8=Display!$B$7,'Lux4-sept'!$A$9=Display!$B$9,'Lux4-sept'!$A$75=Display!$B$11,'Lux4-sept'!$A$85=Display!$B$13),Display!$D7,)","v":0},{"$f":"IF(AND(S$8=Display!$T$10,'Lux4-sept'!$A$8=Display!$B$7,'Lux4-sept'!$A$9=Display!$B$9,'Lux4-sept'!$A$75=Display!$B$11,'Lux4-sept'!$A$85=Display!$B$13),Display!$D7,)","v":0},{"$f":"IF(AND(T$8=Display!$T$10,'Lux4-sept'!$A$8=Display!$B$7,'Lux4-sept'!$A$9=Display!$B$9,'Lux4-sept'!$A$75=Display!$B$11,'Lux4-sept'!$A$85=Display!$B$13),Display!$D7,)","v":0},{"$f":"IF(AND(U$8=Display!$T$10,'Lux4-sept'!$A$8=Display!$B$7,'Lux4-sept'!$A$9=Display!$B$9,'Lux4-sept'!$A$75=Display!$B$11,'Lux4-sept'!$A$85=Display!$B$13),Display!$D7,)","v":0},{"$f":"IF(AND(V$8=Display!$T$10,'Lux4-sept'!$A$8=Display!$B$7,'Lux4-sept'!$A$9=Display!$B$9,'Lux4-sept'!$A$75=Display!$B$11,'Lux4-sept'!$A$85=Display!$B$13),Display!$D7,)","v":0},{"$f":"IF(AND(W$8=Display!$T$10,'Lux4-sept'!$A$8=Display!$B$7,'Lux4-sept'!$A$9=Display!$B$9,'Lux4-sept'!$A$75=Display!$B$11,'Lux4-sept'!$A$85=Display!$B$13),Display!$D7,)","v":0},{"$f":"IF(AND(X$8=Display!$T$10,'Lux4-sept'!$A$8=Display!$B$7,'Lux4-sept'!$A$9=Display!$B$9,'Lux4-sept'!$A$75=Display!$B$11,'Lux4-sept'!$A$85=Display!$B$13),Display!$D7,)","v":0},{"$f":"IF(AND(Y$8=Display!$T$10,'Lux4-sept'!$A$8=Display!$B$7,'Lux4-sept'!$A$9=Display!$B$9,'Lux4-sept'!$A$75=Display!$B$11,'Lux4-sept'!$A$85=Display!$B$13),Display!$D7,)","v":0},{"$f":"IF(AND(Z$8=Display!$T$10,'Lux4-sept'!$A$8=Display!$B$7,'Lux4-sept'!$A$9=Display!$B$9,'Lux4-sept'!$A$75=Display!$B$11,'Lux4-sept'!$A$85=Display!$B$13),Display!$D7,)","v":0},{"$f":"IF(AND(AA$8=Display!$T$10,'Lux4-sept'!$A$8=Display!$B$7,'Lux4-sept'!$A$9=Display!$B$9,'Lux4-sept'!$A$75=Display!$B$11,'Lux4-sept'!$A$85=Display!$B$13),Display!$D7,)","v":0},{"$f":"IF(AND(AB$8=Display!$T$10,'Lux4-sept'!$A$8=Display!$B$7,'Lux4-sept'!$A$9=Display!$B$9,'Lux4-sept'!$A$75=Display!$B$11,'Lux4-sept'!$A$85=Display!$B$13),Display!$D7,)","v":0},{"$f":"IF(AND(AC$8=Display!$T$10,'Lux4-sept'!$A$8=Display!$B$7,'Lux4-sept'!$A$9=Display!$B$9,'Lux4-sept'!$A$75=Display!$B$11,'Lux4-sept'!$A$85=Display!$B$13),Display!$D7,)","v":0},{"$f":"IF(AND(AD$8=Display!$T$10,'Lux4-sept'!$A$8=Display!$B$7,'Lux4-sept'!$A$9=Display!$B$9,'Lux4-sept'!$A$75=Display!$B$11,'Lux4-sept'!$A$85=Display!$B$13),Display!$D7,)","v":0},{"$f":"IF(AND(AE$8=Display!$T$10,'Lux4-sept'!$A$8=Display!$B$7,'Lux4-sept'!$A$9=Display!$B$9,'Lux4-sept'!$A$75=Display!$B$11,'Lux4-sept'!$A$85=Display!$B$13),Display!$D7,)","v":0},{"$f":"IF(AND(AF$8=Display!$T$10,'Lux4-sept'!$A$8=Display!$B$7,'Lux4-sept'!$A$9=Display!$B$9,'Lux4-sept'!$A$75=Display!$B$11,'Lux4-sept'!$A$85=Display!$B$13),Display!$D7,)","v":0},null,null,0]
["Salles de réunion aspirées",{"$f":"IF(AND(B$8=Display!$T$10,'Lux4-sept'!$A$8=Display!$B$7,'Lux4-sept'!$A$9=Display!$B$9,'Lux4-sept'!$A$75=Display!$B$11,'Lux4-sept'!$A$85=Display!$B$13),Display!$D8,)","v":0},{"$f":"IF(AND(C$8=Display!$T$10,'Lux4-sept'!$A$8=Display!$B$7,'Lux4-sept'!$A$9=Display!$B$9,'Lux4-sept'!$A$75=Display!$B$11,'Lux4-sept'!$A$85=Display!$B$13),Display!$D8,)","v":0},{"$f":"IF(AND(D$8=Display!$T$10,'Lux4-sept'!$A$8=Display!$B$7,'Lux4-sept'!$A$9=Display!$B$9,'Lux4-sept'!$A$75=Display!$B$11,'Lux4-sept'!$A$85=Display!$B$13),Display!$D8,)","v":0},{"$f":"IF(AND(E$8=Display!$T$10,'Lux4-sept'!$A$8=Display!$B$7,'Lux4-sept'!$A$9=Display!$B$9,'Lux4-sept'!$A$75=Display!$B$11,'Lux4-sept'!$A$85=Display!$B$13),Display!$D8,)","v":0},{"$f":"IF(AND(F$8=Display!$T$10,'Lux4-sept'!$A$8=Display!$B$7,'Lux4-sept'!$A$9=Display!$B$9,'Lux4-sept'!$A$75=Display!$B$11,'Lux4-sept'!$A$85=Display!$B$13),Display!$D8,)","v":0},{"$f":"IF(AND(G$8=Display!$T$10,'Lux4-sept'!$A$8=Display!$B$7,'Lux4-sept'!$A$9=Display!$B$9,'Lux4-sept'!$A$75=Display!$B$11,'Lux4-sept'!$A$85=Display!$B$13),Display!$D8,)","v":0},{"$f":"IF(AND(H$8=Display!$T$10,'Lux4-sept'!$A$8=Display!$B$7,'Lux4-sept'!$A$9=Display!$B$9,'Lux4-sept'!$A$75=Display!$B$11,'Lux4-sept'!$A$85=Display!$B$13),Display!$D8,)","v":0},{"$f":"IF(AND(I$8=Display!$T$10,'Lux4-sept'!$A$8=Display!$B$7,'Lux4-sept'!$A$9=Display!$B$9,'Lux4-sept'!$A$75=Display!$B$11,'Lux4-sept'!$A$85=Display!$B$13),Display!$D8,)","v":0},{"$f":"IF(AND(J$8=Display!$T$10,'Lux4-sept'!$A$8=Display!$B$7,'Lux4-sept'!$A$9=Display!$B$9,'Lux4-sept'!$A$75=Display!$B$11,'Lux4-sept'!$A$85=Display!$B$13),Display!$D8,)","v":0},{"$f":"IF(AND(K$8=Display!$T$10,'Lux4-sept'!$A$8=Display!$B$7,'Lux4-sept'!$A$9=Display!$B$9,'Lux4-sept'!$A$75=Display!$B$11,'Lux4-sept'!$A$85=Display!$B$13),Display!$D8,)","v":0},{"$f":"IF(AND(L$8=Display!$T$10,'Lux4-sept'!$A$8=Display!$B$7,'Lux4-sept'!$A$9=Display!$B$9,'Lux4-sept'!$A$75=Display!$B$11,'Lux4-sept'!$A$85=Display!$B$13),Display!$D8,)","v":0},{"$f":"IF(AND(M$8=Display!$T$10,'Lux4-sept'!$A$8=Display!$B$7,'Lux4-sept'!$A$9=Display!$B$9,'Lux4-sept'!$A$75=Display!$B$11,'Lux4-sept'!$A$85=Display!$B$13),Display!$D8,)","v":0},{"$f":"IF(AND(N$8=Display!$T$10,'Lux4-sept'!$A$8=Display!$B$7,'Lux4-sept'!$A$9=Display!$B$9,'Lux4-sept'!$A$75=Display!$B$11,'Lux4-sept'!$A$85=Display!$B$13),Display!$D8,)","v":0},{"$f":"IF(AND(O$8=Display!$T$10,'Lux4-sept'!$A$8=Display!$B$7,'Lux4-sept'!$A$9=Display!$B$9,'Lux4-sept'!$A$75=Display!$B$11,'Lux4-sept'!$A$85=Display!$B$13),Display!$D8,)","v":0},{"$f":"IF(AND(P$8=Display!$T$10,'Lux4-sept'!$A$8=Display!$B$7,'Lux4-sept'!$A$9=Display!$B$9,'Lux4-sept'!$A$75=Display!$B$11,'Lux4-sept'!$A$85=Display!$B$13),Display!$D8,)","v":0},{"$f":"IF(AND(Q$8=Display!$T$10,'Lux4-sept'!$A$8=Display!$B$7,'Lux4-sept'!$A$9=Display!$B$9,'Lux4-sept'!$A$75=Display!$B$11,'Lux4-sept'!$A$85=Display!$B$13),Display!$D8,)","v":0},{"$f":"IF(AND(R$8=Display!$T$10,'Lux4-sept'!$A$8=Display!$B$7,'Lux4-sept'!$A$9=Display!$B$9,'Lux4-sept'!$A$75=Display!$B$11,'Lux4-sept'!$A$85=Display!$B$13),Display!$D8,)","v":0},{"$f":"IF(AND(S$8=Display!$T$10,'Lux4-sept'!$A$8=Display!$B$7,'Lux4-sept'!$A$9=Display!$B$9,'Lux4-sept'!$A$75=Display!$B$11,'Lux4-sept'!$A$85=Display!$B$13),Display!$D8,)","v":0},{"$f":"IF(AND(T$8=Display!$T$10,'Lux4-sept'!$A$8=Display!$B$7,'Lux4-sept'!$A$9=Display!$B$9,'Lux4-sept'!$A$75=Display!$B$11,'Lux4-sept'!$A$85=Display!$B$13),Display!$D8,)","v":0},{"$f":"IF(AND(U$8=Display!$T$10,'Lux4-sept'!$A$8=Display!$B$7,'Lux4-sept'!$A$9=Display!$B$9,'Lux4-sept'!$A$75=Display!$B$11,'Lux4-sept'!$A$85=Display!$B$13),Display!$D8,)","v":0},{"$f":"IF(AND(V$8=Display!$T$10,'Lux4-sept'!$A$8=Display!$B$7,'Lux4-sept'!$A$9=Display!$B$9,'Lux4-sept'!$A$75=Display!$B$11,'Lux4-sept'!$A$85=Display!$B$13),Display!$D8,)","v":0},{"$f":"IF(AND(W$8=Display!$T$10,'Lux4-sept'!$A$8=Display!$B$7,'Lux4-sept'!$A$9=Display!$B$9,'Lux4-sept'!$A$75=Display!$B$11,'Lux4-sept'!$A$85=Display!$B$13),Display!$D8,)","v":0},{"$f":"IF(AND(X$8=Display!$T$10,'Lux4-sept'!$A$8=Display!$B$7,'Lux4-sept'!$A$9=Display!$B$9,'Lux4-sept'!$A$75=Display!$B$11,'Lux4-sept'!$A$85=Display!$B$13),Display!$D8,)","v":0},{"$f":"IF(AND(Y$8=Display!$T$10,'Lux4-sept'!$A$8=Display!$B$7,'Lux4-sept'!$A$9=Display!$B$9,'Lux4-sept'!$A$75=Display!$B$11,'Lux4-sept'!$A$85=Display!$B$13),Display!$D8,)","v":0},{"$f":"IF(AND(Z$8=Display!$T$10,'Lux4-sept'!$A$8=Display!$B$7,'Lux4-sept'!$A$9=Display!$B$9,'Lux4-sept'!$A$75=Display!$B$11,'Lux4-sept'!$A$85=Display!$B$13),Display!$D8,)","v":0},{"$f":"IF(AND(AA$8=Display!$T$10,'Lux4-sept'!$A$8=Display!$B$7,'Lux4-sept'!$A$9=Display!$B$9,'Lux4-sept'!$A$75=Display!$B$11,'Lux4-sept'!$A$85=Display!$B$13),Display!$D8,)","v":0},{"$f":"IF(AND(AB$8=Display!$T$10,'Lux4-sept'!$A$8=Display!$B$7,'Lux4-sept'!$A$9=Display!$B$9,'Lux4-sept'!$A$75=Display!$B$11,'Lux4-sept'!$A$85=Display!$B$13),Display!$D8,)","v":0},{"$f":"IF(AND(AC$8=Display!$T$10,'Lux4-sept'!$A$8=Display!$B$7,'Lux4-sept'!$A$9=Display!$B$9,'Lux4-sept'!$A$75=Display!$B$11,'Lux4-sept'!$A$85=Display!$B$13),Display!$D8,)","v":0},{"$f":"IF(AND(AD$8=Display!$T$10,'Lux4-sept'!$A$8=Display!$B$7,'Lux4-sept'!$A$9=Display!$B$9,'Lux4-sept'!$A$75=Display!$B$11,'Lux4-sept'!$A$85=Display!$B$13),Display!$D8,)","v":0},{"$f":"IF(AND(AE$8=Display!$T$10,'Lux4-sept'!$A$8=Display!$B$7,'Lux4-sept'!$A$9=Display!$B$9,'Lux4-sept'!$A$75=Display!$B$11,'Lux4-sept'!$A$85=Display!$B$13),Display!$D8,)","v":0},{"$f":"IF(AND(AF$8=Display!$T$10,'Lux4-sept'!$A$8=Display!$B$7,'Lux4-sept'!$A$9=Display!$B$9,'Lux4-sept'!$A$75=Display!$B$11,'Lux4-sept'!$A$85=Display!$B$13),Display!$D8,)","v":0},null,null,0]
["Présence de poussières",{"$f":"IF(AND(B$8=Display!$T$10,'Lux4-sept'!$A$8=Display!$B$7,'Lux4-sept'!$A$9=Display!$B$9,'Lux4-sept'!$A$75=Display!$B$11,'Lux4-sept'!$A$85=Display!$B$13),Display!$D9,)","v":0},{"$f":"IF(AND(C$8=Display!$T$10,'Lux4-sept'!$A$8=Display!$B$7,'Lux4-sept'!$A$9=Display!$B$9,'Lux4-sept'!$A$75=Display!$B$11,'Lux4-sept'!$A$85=Display!$B$13),Display!$D9,)","v":0},{"$f":"IF(AND(D$8=Display!$T$10,'Lux4-sept'!$A$8=Display!$B$7,'Lux4-sept'!$A$9=Display!$B$9,'Lux4-sept'!$A$75=Display!$B$11,'Lux4-sept'!$A$85=Display!$B$13),Display!$D9,)","v":0},{"$f":"IF(AND(E$8=Display!$T$10,'Lux4-sept'!$A$8=Display!$B$7,'Lux4-sept'!$A$9=Display!$B$9,'Lux4-sept'!$A$75=Display!$B$11,'Lux4-sept'!$A$85=Display!$B$13),Display!$D9,)","v":0},{"$f":"IF(AND(F$8=Display!$T$10,'Lux4-sept'!$A$8=Display!$B$7,'Lux4-sept'!$A$9=Display!$B$9,'Lux4-sept'!$A$75=Display!$B$11,'Lux4-sept'!$A$85=Display!$B$13),Display!$D9,)","v":0},{"$f":"IF(AND(G$8=Display!$T$10,'Lux4-sept'!$A$8=Display!$B$7,'Lux4-sept'!$A$9=Display!$B$9,'Lux4-sept'!$A$75=Display!$B$11,'Lux4-sept'!$A$85=Display!$B$13),Display!$D9,)","v":0},{"$f":"IF(AND(H$8=Display!$T$10,'Lux4-sept'!$A$8=Display!$B$7,'Lux4-sept'!$A$9=Display!$B$9,'Lux4-sept'!$A$75=Display!$B$11,'Lux4-sept'!$A$85=Display!$B$13),Display!$D9,)","v":0},{"$f":"IF(AND(I$8=Display!$T$10,'Lux4-sept'!$A$8=Display!$B$7,'Lux4-sept'!$A$9=Display!$B$9,'Lux4-sept'!$A$75=Display!$B$11,'Lux4-sept'!$A$85=Display!$B$13),Display!$D9,)","v":0},{"$f":"IF(AND(J$8=Display!$T$10,'Lux4-sept'!$A$8=Display!$B$7,'Lux4-sept'!$A$9=Display!$B$9,'Lux4-sept'!$A$75=Display!$B$11,'Lux4-sept'!$A$85=Display!$B$13),Display!$D9,)","v":0},{"$f":"IF(AND(K$8=Display!$T$10,'Lux4-sept'!$A$8=Display!$B$7,'Lux4-sept'!$A$9=Display!$B$9,'Lux4-sept'!$A$75=Display!$B$11,'Lux4-sept'!$A$85=Display!$B$13),Display!$D9,)","v":0},{"$f":"IF(AND(L$8=Display!$T$10,'Lux4-sept'!$A$8=Display!$B$7,'Lux4-sept'!$A$9=Display!$B$9,'Lux4-sept'!$A$75=Display!$B$11,'Lux4-sept'!$A$85=Display!$B$13),Display!$D9,)","v":0},{"$f":"IF(AND(M$8=Display!$T$10,'Lux4-sept'!$A$8=Display!$B$7,'Lux4-sept'!$A$9=Display!$B$9,'Lux4-sept'!$A$75=Display!$B$11,'Lux4-sept'!$A$85=Display!$B$13),Display!$D9,)","v":0},{"$f":"IF(AND(N$8=Display!$T$10,'Lux4-sept'!$A$8=Display!$B$7,'Lux4-sept'!$A$9=Display!$B$9,'Lux4-sept'!$A$75=Display!$B$11,'Lux4-sept'!$A$85=Display!$B$13),Display!$D9,)","v":0},{"$f":"IF(AND(O$8=Display!$T$10,'Lux4-sept'!$A$8=Display!$B$7,'Lux4-sept'!$A$9=Display!$B$9,'Lux4-sept'!$A$75=Display!$B$11,'Lux4-sept'!$A$85=Display!$B$13),Display!$D9,)","v":0},{"$f":"IF(AND(P$8=Display!$T$10,'Lux4-sept'!$A$8=Display!$B$7,'Lux4-sept'!$A$9=Display!$B$9,'Lux4-sept'!$A$75=Display!$B$11,'Lux4-sept'!$A$85=Display!$B$13),Display!$D9,)","v":0},{"$f":"IF(AND(Q$8=Display!$T$10,'Lux4-sept'!$A$8=Display!$B$7,'Lux4-sept'!$A$9=Display!$B$9,'Lux4-sept'!$A$75=Display!$B$11,'Lux4-sept'!$A$85=Display!$B$13),Display!$D9,)","v":0},{"$f":"IF(AND(R$8=Display!$T$10,'Lux4-sept'!$A$8=Display!$B$7,'Lux4-sept'!$A$9=Display!$B$9,'Lux4-sept'!$A$75=Display!$B$11,'Lux4-sept'!$A$85=Display!$B$13),Display!$D9,)","v":0},{"$f":"IF(AND(S$8=Display!$T$10,'Lux4-sept'!$A$8=Display!$B$7,'Lux4-sept'!$A$9=Display!$B$9,'Lux4-sept'!$A$75=Display!$B$11,'Lux4-sept'!$A$85=Display!$B$13),Display!$D9,)","v":0},{"$f":"IF(AND(T$8=Display!$T$10,'Lux4-sept'!$A$8=Display!$B$7,'Lux4-sept'!$A$9=Display!$B$9,'Lux4-sept'!$A$75=Display!$B$11,'Lux4-sept'!$A$85=Display!$B$13),Display!$D9,)","v":0},{"$f":"IF(AND(U$8=Display!$T$10,'Lux4-sept'!$A$8=Display!$B$7,'Lux4-sept'!$A$9=Display!$B$9,'Lux4-sept'!$A$75=Display!$B$11,'Lux4-sept'!$A$85=Display!$B$13),Display!$D9,)","v":0},{"$f":"IF(AND(V$8=Display!$T$10,'Lux4-sept'!$A$8=Display!$B$7,'Lux4-sept'!$A$9=Display!$B$9,'Lux4-sept'!$A$75=Display!$B$11,'Lux4-sept'!$A$85=Display!$B$13),Display!$D9,)","v":0},{"$f":"IF(AND(W$8=Display!$T$10,'Lux4-sept'!$A$8=Display!$B$7,'Lux4-sept'!$A$9=Display!$B$9,'Lux4-sept'!$A$75=Display!$B$11,'Lux4-sept'!$A$85=Display!$B$13),Display!$D9,)","v":0},{"$f":"IF(AND(X$8=Display!$T$10,'Lux4-sept'!$A$8=Display!$B$7,'Lux4-sept'!$A$9=Display!$B$9,'Lux4-sept'!$A$75=Display!$B$11,'Lux4-sept'!$A$85=Display!$B$13),Display!$D9,)","v":0},{"$f":"IF(AND(Y$8=Display!$T$10,'Lux4-sept'!$A$8=Display!$B$7,'Lux4-sept'!$A$9=Display!$B$9,'Lux4-sept'!$A$75=Display!$B$11,'Lux4-sept'!$A$85=Display!$B$13),Display!$D9,)","v":0},{"$f":"IF(AND(Z$8=Display!$T$10,'Lux4-sept'!$A$8=Display!$B$7,'Lux4-sept'!$A$9=Display!$B$9,'Lux4-sept'!$A$75=Display!$B$11,'Lux4-sept'!$A$85=Display!$B$13),Display!$D9,)","v":0},{"$f":"IF(AND(AA$8=Display!$T$10,'Lux4-sept'!$A$8=Display!$B$7,'Lux4-sept'!$A$9=Display!$B$9,'Lux4-sept'!$A$75=Display!$B$11,'Lux4-sept'!$A$85=Display!$B$13),Display!$D9,)","v":0},{"$f":"IF(AND(AB$8=Display!$T$10,'Lux4-sept'!$A$8=Display!$B$7,'Lux4-sept'!$A$9=Display!$B$9,'Lux4-sept'!$A$75=Display!$B$11,'Lux4-sept'!$A$85=Display!$B$13),Display!$D9,)","v":0},{"$f":"IF(AND(AC$8=Display!$T$10,'Lux4-sept'!$A$8=Display!$B$7,'Lux4-sept'!$A$9=Display!$B$9,'Lux4-sept'!$A$75=Display!$B$11,'Lux4-sept'!$A$85=Display!$B$13),Display!$D9,)","v":0},{"$f":"IF(AND(AD$8=Display!$T$10,'Lux4-sept'!$A$8=Display!$B$7,'Lux4-sept'!$A$9=Display!$B$9,'Lux4-sept'!$A$75=Display!$B$11,'Lux4-sept'!$A$85=Display!$B$13),Display!$D9,)","v":0},{"$f":"IF(AND(AE$8=Display!$T$10,'Lux4-sept'!$A$8=Display!$B$7,'Lux4-sept'!$A$9=Display!$B$9,'Lux4-sept'!$A$75=Display!$B$11,'Lux4-sept'!$A$85=Display!$B$13),Display!$D9,)","v":0},{"$f":"IF(AND(AF$8=Display!$T$10,'Lux4-sept'!$A$8=Display!$B$7,'Lux4-sept'!$A$9=Display!$B$9,'Lux4-sept'!$A$75=Display!$B$11,'Lux4-sept'!$A$85=Display!$B$13),Display!$D9,)","v":0},null,null,0]
["Aucune trace de doigts",{"$f":"IF(AND(B$8=Display!$T$10,'Lux4-sept'!$A$8=Display!$B$7,'Lux4-sept'!$A$9=Display!$B$9,'Lux4-sept'!$A$75=Display!$B$11,'Lux4-sept'!$A$85=Display!$B$13),Display!$D10,)","v":0},{"$f":"IF(AND(C$8=Display!$T$10,'Lux4-sept'!$A$8=Display!$B$7,'Lux4-sept'!$A$9=Display!$B$9,'Lux4-sept'!$A$75=Display!$B$11,'Lux4-sept'!$A$85=Display!$B$13),Display!$D10,)","v":0},{"$f":"IF(AND(D$8=Display!$T$10,'Lux4-sept'!$A$8=Display!$B$7,'Lux4-sept'!$A$9=Display!$B$9,'Lux4-sept'!$A$75=Display!$B$11,'Lux4-sept'!$A$85=Display!$B$13),Display!$D10,)","v":0},{"$f":"IF(AND(E$8=Display!$T$10,'Lux4-sept'!$A$8=Display!$B$7,'Lux4-sept'!$A$9=Display!$B$9,'Lux4-sept'!$A$75=Display!$B$11,'Lux4-sept'!$A$85=Display!$B$13),Display!$D10,)","v":0},{"$f":"IF(AND(F$8=Display!$T$10,'Lux4-sept'!$A$8=Display!$B$7,'Lux4-sept'!$A$9=Display!$B$9,'Lux4-sept'!$A$75=Display!$B$11,'Lux4-sept'!$A$85=Display!$B$13),Display!$D10,)","v":0},{"$f":"IF(AND(G$8=Display!$T$10,'Lux4-sept'!$A$8=Display!$B$7,'Lux4-sept'!$A$9=Display!$B$9,'Lux4-sept'!$A$75=Display!$B$11,'Lux4-sept'!$A$85=Display!$B$13),Display!$D10,)","v":0},{"$f":"IF(AND(H$8=Display!$T$10,'Lux4-sept'!$A$8=Display!$B$7,'Lux4-sept'!$A$9=Display!$B$9,'Lux4-sept'!$A$75=Display!$B$11,'Lux4-sept'!$A$85=Display!$B$13),Display!$D10,)","v":0},{"$f":"IF(AND(I$8=Display!$T$10,'Lux4-sept'!$A$8=Display!$B$7,'Lux4-sept'!$A$9=Display!$B$9,'Lux4-sept'!$A$75=Display!$B$11,'Lux4-sept'!$A$85=Display!$B$13),Display!$D10,)","v":0},{"$f":"IF(AND(J$8=Display!$T$10,'Lux4-sept'!$A$8=Display!$B$7,'Lux4-sept'!$A$9=Display!$B$9,'Lux4-sept'!$A$75=Display!$B$11,'Lux4-sept'!$A$85=Display!$B$13),Display!$D10,)","v":0},{"$f":"IF(AND(K$8=Display!$T$10,'Lux4-sept'!$A$8=Display!$B$7,'Lux4-sept'!$A$9=Display!$B$9,'Lux4-sept'!$A$75=Display!$B$11,'Lux4-sept'!$A$85=Display!$B$13),Display!$D10,)","v":0},{"$f":"IF(AND(L$8=Display!$T$10,'Lux4-sept'!$A$8=Display!$B$7,'Lux4-sept'!$A$9=Display!$B$9,'Lux4-sept'!$A$75=Display!$B$11,'Lux4-sept'!$A$85=Display!$B$13),Display!$D10,)","v":0},{"$f":"IF(AND(M$8=Display!$T$10,'Lux4-sept'!$A$8=Display!$B$7,'Lux4-sept'!$A$9=Display!$B$9,'Lux4-sept'!$A$75=Display!$B$11,'Lux4-sept'!$A$85=Display!$B$13),Display!$D10,)","v":0},{"$f":"IF(AND(N$8=Display!$T$10,'Lux4-sept'!$A$8=Display!$B$7,'Lux4-sept'!$A$9=Display!$B$9,'Lux4-sept'!$A$75=Display!$B$11,'Lux4-sept'!$A$85=Display!$B$13),Display!$D10,)","v":0},{"$f":"IF(AND(O$8=Display!$T$10,'Lux4-sept'!$A$8=Display!$B$7,'Lux4-sept'!$A$9=Display!$B$9,'Lux4-sept'!$A$75=Display!$B$11,'Lux4-sept'!$A$85=Display!$B$13),Display!$D10,)","v":0},{"$f":"IF(AND(P$8=Display!$T$10,'Lux4-sept'!$A$8=Display!$B$7,'Lux4-sept'!$A$9=Display!$B$9,'Lux4-sept'!$A$75=Display!$B$11,'Lux4-sept'!$A$85=Display!$B$13),Display!$D10,)","v":0},{"$f":"IF(AND(Q$8=Display!$T$10,'Lux4-sept'!$A$8=Display!$B$7,'Lux4-sept'!$A$9=Display!$B$9,'Lux4-sept'!$A$75=Display!$B$11,'Lux4-sept'!$A$85=Display!$B$13),Display!$D10,)","v":0},{"$f":"IF(AND(R$8=Display!$T$10,'Lux4-sept'!$A$8=Display!$B$7,'Lux4-sept'!$A$9=Display!$B$9,'Lux4-sept'!$A$75=Display!$B$11,'Lux4-sept'!$A$85=Display!$B$13),Display!$D10,)","v":0},{"$f":"IF(AND(S$8=Display!$T$10,'Lux4-sept'!$A$8=Display!$B$7,'Lux4-sept'!$A$9=Display!$B$9,'Lux4-sept'!$A$75=Display!$B$11,'Lux4-sept'!$A$85=Display!$B$13),Display!$D10,)","v":0},{"$f":"IF(AND(T$8=Display!$T$10,'Lux4-sept'!$A$8=Display!$B$7,'Lux4-sept'!$A$9=Display!$B$9,'Lux4-sept'!$A$75=Display!$B$11,'Lux4-sept'!$A$85=Display!$B$13),Display!$D10,)","v":0},{"$f":"IF(AND(U$8=Display!$T$10,'Lux4-sept'!$A$8=Display!$B$7,'Lux4-sept'!$A$9=Display!$B$9,'Lux4-sept'!$A$75=Display!$B$11,'Lux4-sept'!$A$85=Display!$B$13),Display!$D10,)","v":0},{"$f":"IF(AND(V$8=Display!$T$10,'Lux4-sept'!$A$8=Display!$B$7,'Lux4-sept'!$A$9=Display!$B$9,'Lux4-sept'!$A$75=Display!$B$11,'Lux4-sept'!$A$85=Display!$B$13),Display!$D10,)","v":0},{"$f":"IF(AND(W$8=Display!$T$10,'Lux4-sept'!$A$8=Display!$B$7,'Lux4-sept'!$A$9=Display!$B$9,'Lux4-sept'!$A$75=Display!$B$11,'Lux4-sept'!$A$85=Display!$B$13),Display!$D10,)","v":0},{"$f":"IF(AND(X$8=Display!$T$10,'Lux4-sept'!$A$8=Display!$B$7,'Lux4-sept'!$A$9=Display!$B$9,'Lux4-sept'!$A$75=Display!$B$11,'Lux4-sept'!$A$85=Display!$B$13),Display!$D10,)","v":0},{"$f":"IF(AND(Y$8=Display!$T$10,'Lux4-sept'!$A$8=Display!$B$7,'Lux4-sept'!$A$9=Display!$B$9,'Lux4-sept'!$A$75=Display!$B$11,'Lux4-sept'!$A$85=Display!$B$13),Display!$D10,)","v":0},{"$f":"IF(AND(Z$8=Display!$T$10,'Lux4-sept'!$A$8=Display!$B$7,'Lux4-sept'!$A$9=Display!$B$9,'Lux4-sept'!$A$75=Display!$B$11,'Lux4-sept'!$A$85=Display!$B$13),Display!$D10,)","v":0},{"$f":"IF(AND(AA$8=Display!$T$10,'Lux4-sept'!$A$8=Display!$B$7,'Lux4-sept'!$A$9=Display!$B$9,'Lux4-sept'!$A$75=Display!$B$11,'Lux4-sept'!$A$85=Display!$B$13),Display!$D10,)","v":0},{"$f":"IF(AND(AB$8=Display!$T$10,'Lux4-sept'!$A$8=Display!$B$7,'Lux4-sept'!$A$9=Display!$B$9,'Lux4-sept'!$A$75=Display!$B$11,'Lux4-sept'!$A$85=Display!$B$13),Display!$D10,)","v":0},{"$f":"IF(AND(AC$8=Display!$T$10,'Lux4-sept'!$A$8=Display!$B$7,'Lux4-sept'!$A$9=Display!$B$9,'Lux4-sept'!$A$75=Display!$B$11,'Lux4-sept'!$A$85=Display!$B$13),Display!$D10,)","v":0},{"$f":"IF(AND(AD$8=Display!$T$10,'Lux4-sept'!$A$8=Display!$B$7,'Lux4-sept'!$A$9=Display!$B$9,'Lux4-sept'!$A$75=Display!$B$11,'Lux4-sept'!$A$85=Display!$B$13),Display!$D10,)","v":0},{"$f":"IF(AND(AE$8=Display!$T$10,'Lux4-sept'!$A$8=Display!$B$7,'Lux4-sept'!$A$9=Display!$B$9,'Lux4-sept'!$A$75=Display!$B$11,'Lux4-sept'!$A$85=Display!$B$13),Display!$D10,)","v":0},{"$f":"IF(AND(AF$8=Display!$T$10,'Lux4-sept'!$A$8=Display!$B$7,'Lux4-sept'!$A$9=Display!$B$9,'Lux4-sept'!$A$75=Display!$B$11,'Lux4-sept'!$A$85=Display!$B$13),Display!$D10,)","v":0},null,null,0]
["MOYENNE",{"$f":"((IF((SUM(B86:B92))<>0,(SUM(B86:B92)),0))/(IF((SUM((IF(B86<>0,3,0)),(IF(B87<>0,3,0)),(IF(B88<>0,3,0)),(IF(B89<>0,3,0)),(IF(B90<>0,3,0)),(IF(B91<>0,3,0)),(IF(B92<>0,3,0))))<>0,((SUM((IF(B86<>0,3,0)),(IF(B87<>0,3,0)),(IF(B88<>0,3,0)),(IF(B89<>0,3,0)),(IF(B90<>0,3,0)),(IF(B91<>0,3,0)),(IF(B92<>0,3,0))))),1)))","v":0},{"$f":"((IF((SUM(C86:C92))<>0,(SUM(C86:C92)),0))/(IF((SUM((IF(C86<>0,3,0)),(IF(C87<>0,3,0)),(IF(C88<>0,3,0)),(IF(C89<>0,3,0)),(IF(C90<>0,3,0)),(IF(C91<>0,3,0)),(IF(C92<>0,3,0))))<>0,((SUM((IF(C86<>0,3,0)),(IF(C87<>0,3,0)),(IF(C88<>0,3,0)),(IF(C89<>0,3,0)),(IF(C90<>0,3,0)),(IF(C91<>0,3,0)),(IF(C92<>0,3,0))))),1)))","v":0},0,0,0,0,0,0,0,0,0,0,0,0,0,0,0,0,0,0,0,0,0,0,0,0,0,0,0,0,0,0,0]
["02.500"]
["Chaises rangées",{"$f":"IF(AND(B$8=Display!$T$10,'Lux4-sept'!$A$8=Display!$B$7,'Lux4-sept'!$A$9=Display!$B$9,'Lux4-sept'!$A$75=Display!$B$11,'Lux4-sept'!$A$94=Display!$B$13),Display!$D4,)","v":0},{"$f":"IF(AND(C$8=Display!$T$10,'Lux4-sept'!$A$8=Display!$B$7,'Lux4-sept'!$A$9=Display!$B$9,'Lux4-sept'!$A$75=Display!$B$11,'Lux4-sept'!$A$94=Display!$B$13),Display!$D4,)","v":0},{"$f":"IF(AND(D$8=Display!$T$10,'Lux4-sept'!$A$8=Display!$B$7,'Lux4-sept'!$A$9=Display!$B$9,'Lux4-sept'!$A$75=Display!$B$11,'Lux4-sept'!$A$94=Display!$B$13),Display!$D4,)","v":0},{"$f":"IF(AND(E$8=Display!$T$10,'Lux4-sept'!$A$8=Display!$B$7,'Lux4-sept'!$A$9=Display!$B$9,'Lux4-sept'!$A$75=Display!$B$11,'Lux4-sept'!$A$94=Display!$B$13),Display!$D4,)","v":0},{"$f":"IF(AND(F$8=Display!$T$10,'Lux4-sept'!$A$8=Display!$B$7,'Lux4-sept'!$A$9=Display!$B$9,'Lux4-sept'!$A$75=Display!$B$11,'Lux4-sept'!$A$94=Display!$B$13),Display!$D4,)","v":0},{"$f":"IF(AND(G$8=Display!$T$10,'Lux4-sept'!$A$8=Display!$B$7,'Lux4-sept'!$A$9=Display!$B$9,'Lux4-sept'!$A$75=Display!$B$11,'Lux4-sept'!$A$94=Display!$B$13),Display!$D4,)","v":0},{"$f":"IF(AND(H$8=Display!$T$10,'Lux4-sept'!$A$8=Display!$B$7,'Lux4-sept'!$A$9=Display!$B$9,'Lux4-sept'!$A$75=Display!$B$11,'Lux4-sept'!$A$94=Display!$B$13),Display!$D4,)","v":0},{"$f":"IF(AND(I$8=Display!$T$10,'Lux4-sept'!$A$8=Display!$B$7,'Lux4-sept'!$A$9=Display!$B$9,'Lux4-sept'!$A$75=Display!$B$11,'Lux4-sept'!$A$94=Display!$B$13),Display!$D4,)","v":0},{"$f":"IF(AND(J$8=Display!$T$10,'Lux4-sept'!$A$8=Display!$B$7,'Lux4-sept'!$A$9=Display!$B$9,'Lux4-sept'!$A$75=Display!$B$11,'Lux4-sept'!$A$94=Display!$B$13),Display!$D4,)","v":0},{"$f":"IF(AND(K$8=Display!$T$10,'Lux4-sept'!$A$8=Display!$B$7,'Lux4-sept'!$A$9=Display!$B$9,'Lux4-sept'!$A$75=Display!$B$11,'Lux4-sept'!$A$94=Display!$B$13),Display!$D4,)","v":0},{"$f":"IF(AND(L$8=Display!$T$10,'Lux4-sept'!$A$8=Display!$B$7,'Lux4-sept'!$A$9=Display!$B$9,'Lux4-sept'!$A$75=Display!$B$11,'Lux4-sept'!$A$94=Display!$B$13),Display!$D4,)","v":0},{"$f":"IF(AND(M$8=Display!$T$10,'Lux4-sept'!$A$8=Display!$B$7,'Lux4-sept'!$A$9=Display!$B$9,'Lux4-sept'!$A$75=Display!$B$11,'Lux4-sept'!$A$94=Display!$B$13),Display!$D4,)","v":0},{"$f":"IF(AND(N$8=Display!$T$10,'Lux4-sept'!$A$8=Display!$B$7,'Lux4-sept'!$A$9=Display!$B$9,'Lux4-sept'!$A$75=Display!$B$11,'Lux4-sept'!$A$94=Display!$B$13),Display!$D4,)","v":0},{"$f":"IF(AND(O$8=Display!$T$10,'Lux4-sept'!$A$8=Display!$B$7,'Lux4-sept'!$A$9=Display!$B$9,'Lux4-sept'!$A$75=Display!$B$11,'Lux4-sept'!$A$94=Display!$B$13),Display!$D4,)","v":0},{"$f":"IF(AND(P$8=Display!$T$10,'Lux4-sept'!$A$8=Display!$B$7,'Lux4-sept'!$A$9=Display!$B$9,'Lux4-sept'!$A$75=Display!$B$11,'Lux4-sept'!$A$94=Display!$B$13),Display!$D4,)","v":0},{"$f":"IF(AND(Q$8=Display!$T$10,'Lux4-sept'!$A$8=Display!$B$7,'Lux4-sept'!$A$9=Display!$B$9,'Lux4-sept'!$A$75=Display!$B$11,'Lux4-sept'!$A$94=Display!$B$13),Display!$D4,)","v":0},{"$f":"IF(AND(R$8=Display!$T$10,'Lux4-sept'!$A$8=Display!$B$7,'Lux4-sept'!$A$9=Display!$B$9,'Lux4-sept'!$A$75=Display!$B$11,'Lux4-sept'!$A$94=Display!$B$13),Display!$D4,)","v":0},{"$f":"IF(AND(S$8=Display!$T$10,'Lux4-sept'!$A$8=Display!$B$7,'Lux4-sept'!$A$9=Display!$B$9,'Lux4-sept'!$A$75=Display!$B$11,'Lux4-sept'!$A$94=Display!$B$13),Display!$D4,)","v":0},{"$f":"IF(AND(T$8=Display!$T$10,'Lux4-sept'!$A$8=Display!$B$7,'Lux4-sept'!$A$9=Display!$B$9,'Lux4-sept'!$A$75=Display!$B$11,'Lux4-sept'!$A$94=Display!$B$13),Display!$D4,)","v":0},{"$f":"IF(AND(U$8=Display!$T$10,'Lux4-sept'!$A$8=Display!$B$7,'Lux4-sept'!$A$9=Display!$B$9,'Lux4-sept'!$A$75=Display!$B$11,'Lux4-sept'!$A$94=Display!$B$13),Display!$D4,)","v":0},{"$f":"IF(AND(V$8=Display!$T$10,'Lux4-sept'!$A$8=Display!$B$7,'Lux4-sept'!$A$9=Display!$B$9,'Lux4-sept'!$A$75=Display!$B$11,'Lux4-sept'!$A$94=Display!$B$13),Display!$D4,)","v":0},{"$f":"IF(AND(W$8=Display!$T$10,'Lux4-sept'!$A$8=Display!$B$7,'Lux4-sept'!$A$9=Display!$B$9,'Lux4-sept'!$A$75=Display!$B$11,'Lux4-sept'!$A$94=Display!$B$13),Display!$D4,)","v":0},{"$f":"IF(AND(X$8=Display!$T$10,'Lux4-sept'!$A$8=Display!$B$7,'Lux4-sept'!$A$9=Display!$B$9,'Lux4-sept'!$A$75=Display!$B$11,'Lux4-sept'!$A$94=Display!$B$13),Display!$D4,)","v":0},{"$f":"IF(AND(Y$8=Display!$T$10,'Lux4-sept'!$A$8=Display!$B$7,'Lux4-sept'!$A$9=Display!$B$9,'Lux4-sept'!$A$75=Display!$B$11,'Lux4-sept'!$A$94=Display!$B$13),Display!$D4,)","v":0},{"$f":"IF(AND(Z$8=Display!$T$10,'Lux4-sept'!$A$8=Display!$B$7,'Lux4-sept'!$A$9=Display!$B$9,'Lux4-sept'!$A$75=Display!$B$11,'Lux4-sept'!$A$94=Display!$B$13),Display!$D4,)","v":0},{"$f":"IF(AND(AA$8=Display!$T$10,'Lux4-sept'!$A$8=Display!$B$7,'Lux4-sept'!$A$9=Display!$B$9,'Lux4-sept'!$A$75=Display!$B$11,'Lux4-sept'!$A$94=Display!$B$13),Display!$D4,)","v":0},{"$f":"IF(AND(AB$8=Display!$T$10,'Lux4-sept'!$A$8=Display!$B$7,'Lux4-sept'!$A$9=Display!$B$9,'Lux4-sept'!$A$75=Display!$B$11,'Lux4-sept'!$A$94=Display!$B$13),Display!$D4,)","v":0},{"$f":"IF(AND(AC$8=Display!$T$10,'Lux4-sept'!$A$8=Display!$B$7,'Lux4-sept'!$A$9=Display!$B$9,'Lux4-sept'!$A$75=Display!$B$11,'Lux4-sept'!$A$94=Display!$B$13),Display!$D4,)","v":0},{"$f":"IF(AND(AD$8=Display!$T$10,'Lux4-sept'!$A$8=Display!$B$7,'Lux4-sept'!$A$9=Display!$B$9,'Lux4-sept'!$A$75=Display!$B$11,'Lux4-sept'!$A$94=Display!$B$13),Display!$D4,)","v":0},{"$f":"IF(AND(AE$8=Display!$T$10,'Lux4-sept'!$A$8=Display!$B$7,'Lux4-sept'!$A$9=Display!$B$9,'Lux4-sept'!$A$75=Display!$B$11,'Lux4-sept'!$A$94=Display!$B$13),Display!$D4,)","v":0},{"$f":"IF(AND(AF$8=Display!$T$10,'Lux4-sept'!$A$8=Display!$B$7,'Lux4-sept'!$A$9=Display!$B$9,'Lux4-sept'!$A$75=Display!$B$11,'Lux4-sept'!$A$94=Display!$B$13),Display!$D4,)","v":0},null,null,{"$f":"((IF((SUM(B95:AF95))<>0,(SUM(B95:AF95)),0))/(IF((SUM((IF(B95<>0,3,0)),(IF(C95<>0,3,0)),(IF(D95<>0,3,0)),(IF(E95<>0,3,0)),(IF(F95<>0,3,0)),(IF(F95<>0,3,0)),(IF(F95<>0,3,0)),(IF(G95<>0,3,0)),(IF(H95<>0,3,0)),(IF(I95<>0,3,0)),(IF(J95<>0,3,0)),(IF(K95<>0,3,0)),(IF(L95<>0,3,0)),(IF(M95<>0,3,0)),(IF(N95<>0,3,0)),(IF(O95<>0,3,0)),(IF(P95<>0,3,0)),(IF(Q95<>0,3,0)),(IF(R95<>0,3,0)),(IF(S95<>0,3,0)),(IF(T95<>0,3,0)),(IF(U95<>0,3,0)),(IF(V95<>0,3,0)),(IF(W95<>0,3,0)),(IF(X95<>0,3,0)),(IF(Y95<>0,3,0)),(IF(Z95<>0,3,0)),(IF(AA95<>0,3,0)),(IF(AB95<>0,3,0)),(IF(AC95<>0,3,0)),(IF(AD95<>0,3,0)),(IF(AE95<>0,3,0)),(IF(AF95<>0,3,0))))<>0,((SUM((IF(B95<>0,3,0)),(IF(C95<>0,3,0)),(IF(D95<>0,3,0)),(IF(E95<>0,3,0)),(IF(F95<>0,3,0)),(IF(F95<>0,3,0)),(IF(F95<>0,3,0)),(IF(G95<>0,3,0)),(IF(H95<>0,3,0)),(IF(I95<>0,3,0)),(IF(J95<>0,3,0)),(IF(K95<>0,3,0)),(IF(L95<>0,3,0)),(IF(M95<>0,3,0)),(IF(N95<>0,3,0)),(IF(O95<>0,3,0)),(IF(P95<>0,3,0)),(IF(Q95<>0,3,0)),(IF(R95<>0,3,0)),(IF(S95<>0,3,0)),(IF(T95<>0,3,0)),(IF(U95<>0,3,0)),(IF(V95<>0,3,0)),(IF(W95<>0,3,0)),(IF(X95<>0,3,0)),(IF(Y95<>0,3,0)),(IF(Z95<>0,3,0)),(IF(AA95<>0,3,0)),(IF(AB95<>0,3,0)),(IF(AC95<>0,3,0)),(IF(AD95<>0,3,0)),(IF(AE95<>0,3,0)),(IF(AF95<>0,3,0))))),1)))","v":0}]
["Poubelles vidées",{"$f":"IF(AND(B$8=Display!$T$10,'Lux4-sept'!$A$8=Display!$B$7,'Lux4-sept'!$A$9=Display!$B$9,'Lux4-sept'!$A$75=Display!$B$11,'Lux4-sept'!$A$94=Display!$B$13),Display!$D5,)","v":0},{"$f":"IF(AND(C$8=Display!$T$10,'Lux4-sept'!$A$8=Display!$B$7,'Lux4-sept'!$A$9=Display!$B$9,'Lux4-sept'!$A$75=Display!$B$11,'Lux4-sept'!$A$94=Display!$B$13),Display!$D5,)","v":0},{"$f":"IF(AND(D$8=Display!$T$10,'Lux4-sept'!$A$8=Display!$B$7,'Lux4-sept'!$A$9=Display!$B$9,'Lux4-sept'!$A$75=Display!$B$11,'Lux4-sept'!$A$94=Display!$B$13),Display!$D5,)","v":0},{"$f":"IF(AND(E$8=Display!$T$10,'Lux4-sept'!$A$8=Display!$B$7,'Lux4-sept'!$A$9=Display!$B$9,'Lux4-sept'!$A$75=Display!$B$11,'Lux4-sept'!$A$94=Display!$B$13),Display!$D5,)","v":0},{"$f":"IF(AND(F$8=Display!$T$10,'Lux4-sept'!$A$8=Display!$B$7,'Lux4-sept'!$A$9=Display!$B$9,'Lux4-sept'!$A$75=Display!$B$11,'Lux4-sept'!$A$94=Display!$B$13),Display!$D5,)","v":0},{"$f":"IF(AND(G$8=Display!$T$10,'Lux4-sept'!$A$8=Display!$B$7,'Lux4-sept'!$A$9=Display!$B$9,'Lux4-sept'!$A$75=Display!$B$11,'Lux4-sept'!$A$94=Display!$B$13),Display!$D5,)","v":0},{"$f":"IF(AND(H$8=Display!$T$10,'Lux4-sept'!$A$8=Display!$B$7,'Lux4-sept'!$A$9=Display!$B$9,'Lux4-sept'!$A$75=Display!$B$11,'Lux4-sept'!$A$94=Display!$B$13),Display!$D5,)","v":0},{"$f":"IF(AND(I$8=Display!$T$10,'Lux4-sept'!$A$8=Display!$B$7,'Lux4-sept'!$A$9=Display!$B$9,'Lux4-sept'!$A$75=Display!$B$11,'Lux4-sept'!$A$94=Display!$B$13),Display!$D5,)","v":0},{"$f":"IF(AND(J$8=Display!$T$10,'Lux4-sept'!$A$8=Display!$B$7,'Lux4-sept'!$A$9=Display!$B$9,'Lux4-sept'!$A$75=Display!$B$11,'Lux4-sept'!$A$94=Display!$B$13),Display!$D5,)","v":0},{"$f":"IF(AND(K$8=Display!$T$10,'Lux4-sept'!$A$8=Display!$B$7,'Lux4-sept'!$A$9=Display!$B$9,'Lux4-sept'!$A$75=Display!$B$11,'Lux4-sept'!$A$94=Display!$B$13),Display!$D5,)","v":0},{"$f":"IF(AND(L$8=Display!$T$10,'Lux4-sept'!$A$8=Display!$B$7,'Lux4-sept'!$A$9=Display!$B$9,'Lux4-sept'!$A$75=Display!$B$11,'Lux4-sept'!$A$94=Display!$B$13),Display!$D5,)","v":0},{"$f":"IF(AND(M$8=Display!$T$10,'Lux4-sept'!$A$8=Display!$B$7,'Lux4-sept'!$A$9=Display!$B$9,'Lux4-sept'!$A$75=Display!$B$11,'Lux4-sept'!$A$94=Display!$B$13),Display!$D5,)","v":0},{"$f":"IF(AND(N$8=Display!$T$10,'Lux4-sept'!$A$8=Display!$B$7,'Lux4-sept'!$A$9=Display!$B$9,'Lux4-sept'!$A$75=Display!$B$11,'Lux4-sept'!$A$94=Display!$B$13),Display!$D5,)","v":0},{"$f":"IF(AND(O$8=Display!$T$10,'Lux4-sept'!$A$8=Display!$B$7,'Lux4-sept'!$A$9=Display!$B$9,'Lux4-sept'!$A$75=Display!$B$11,'Lux4-sept'!$A$94=Display!$B$13),Display!$D5,)","v":0},{"$f":"IF(AND(P$8=Display!$T$10,'Lux4-sept'!$A$8=Display!$B$7,'Lux4-sept'!$A$9=Display!$B$9,'Lux4-sept'!$A$75=Display!$B$11,'Lux4-sept'!$A$94=Display!$B$13),Display!$D5,)","v":0},{"$f":"IF(AND(Q$8=Display!$T$10,'Lux4-sept'!$A$8=Display!$B$7,'Lux4-sept'!$A$9=Display!$B$9,'Lux4-sept'!$A$75=Display!$B$11,'Lux4-sept'!$A$94=Display!$B$13),Display!$D5,)","v":0},{"$f":"IF(AND(R$8=Display!$T$10,'Lux4-sept'!$A$8=Display!$B$7,'Lux4-sept'!$A$9=Display!$B$9,'Lux4-sept'!$A$75=Display!$B$11,'Lux4-sept'!$A$94=Display!$B$13),Display!$D5,)","v":0},{"$f":"IF(AND(S$8=Display!$T$10,'Lux4-sept'!$A$8=Display!$B$7,'Lux4-sept'!$A$9=Display!$B$9,'Lux4-sept'!$A$75=Display!$B$11,'Lux4-sept'!$A$94=Display!$B$13),Display!$D5,)","v":0},{"$f":"IF(AND(T$8=Display!$T$10,'Lux4-sept'!$A$8=Display!$B$7,'Lux4-sept'!$A$9=Display!$B$9,'Lux4-sept'!$A$75=Display!$B$11,'Lux4-sept'!$A$94=Display!$B$13),Display!$D5,)","v":0},{"$f":"IF(AND(U$8=Display!$T$10,'Lux4-sept'!$A$8=Display!$B$7,'Lux4-sept'!$A$9=Display!$B$9,'Lux4-sept'!$A$75=Display!$B$11,'Lux4-sept'!$A$94=Display!$B$13),Display!$D5,)","v":0},{"$f":"IF(AND(V$8=Display!$T$10,'Lux4-sept'!$A$8=Display!$B$7,'Lux4-sept'!$A$9=Display!$B$9,'Lux4-sept'!$A$75=Display!$B$11,'Lux4-sept'!$A$94=Display!$B$13),Display!$D5,)","v":0},{"$f":"IF(AND(W$8=Display!$T$10,'Lux4-sept'!$A$8=Display!$B$7,'Lux4-sept'!$A$9=Display!$B$9,'Lux4-sept'!$A$75=Display!$B$11,'Lux4-sept'!$A$94=Display!$B$13),Display!$D5,)","v":0},{"$f":"IF(AND(X$8=Display!$T$10,'Lux4-sept'!$A$8=Display!$B$7,'Lux4-sept'!$A$9=Display!$B$9,'Lux4-sept'!$A$75=Display!$B$11,'Lux4-sept'!$A$94=Display!$B$13),Display!$D5,)","v":0},{"$f":"IF(AND(Y$8=Display!$T$10,'Lux4-sept'!$A$8=Display!$B$7,'Lux4-sept'!$A$9=Display!$B$9,'Lux4-sept'!$A$75=Display!$B$11,'Lux4-sept'!$A$94=Display!$B$13),Display!$D5,)","v":0},{"$f":"IF(AND(Z$8=Display!$T$10,'Lux4-sept'!$A$8=Display!$B$7,'Lux4-sept'!$A$9=Display!$B$9,'Lux4-sept'!$A$75=Display!$B$11,'Lux4-sept'!$A$94=Display!$B$13),Display!$D5,)","v":0},{"$f":"IF(AND(AA$8=Display!$T$10,'Lux4-sept'!$A$8=Display!$B$7,'Lux4-sept'!$A$9=Display!$B$9,'Lux4-sept'!$A$75=Display!$B$11,'Lux4-sept'!$A$94=Display!$B$13),Display!$D5,)","v":0},{"$f":"IF(AND(AB$8=Display!$T$10,'Lux4-sept'!$A$8=Display!$B$7,'Lux4-sept'!$A$9=Display!$B$9,'Lux4-sept'!$A$75=Display!$B$11,'Lux4-sept'!$A$94=Display!$B$13),Display!$D5,)","v":0},{"$f":"IF(AND(AC$8=Display!$T$10,'Lux4-sept'!$A$8=Display!$B$7,'Lux4-sept'!$A$9=Display!$B$9,'Lux4-sept'!$A$75=Display!$B$11,'Lux4-sept'!$A$94=Display!$B$13),Display!$D5,)","v":0},{"$f":"IF(AND(AD$8=Display!$T$10,'Lux4-sept'!$A$8=Display!$B$7,'Lux4-sept'!$A$9=Display!$B$9,'Lux4-sept'!$A$75=Display!$B$11,'Lux4-sept'!$A$94=Display!$B$13),Display!$D5,)","v":0},{"$f":"IF(AND(AE$8=Display!$T$10,'Lux4-sept'!$A$8=Display!$B$7,'Lux4-sept'!$A$9=Display!$B$9,'Lux4-sept'!$A$75=Display!$B$11,'Lux4-sept'!$A$94=Display!$B$13),Display!$D5,)","v":0},{"$f":"IF(AND(AF$8=Display!$T$10,'Lux4-sept'!$A$8=Display!$B$7,'Lux4-sept'!$A$9=Display!$B$9,'Lux4-sept'!$A$75=Display!$B$11,'Lux4-sept'!$A$94=Display!$B$13),Display!$D5,)","v":0},null,null,{"$f":"((IF((SUM(B96:AF96))<>0,(SUM(B96:AF96)),0))/(IF((SUM((IF(B96<>0,3,0)),(IF(C96<>0,3,0)),(IF(D96<>0,3,0)),(IF(E96<>0,3,0)),(IF(F96<>0,3,0)),(IF(F96<>0,3,0)),(IF(F96<>0,3,0)),(IF(G96<>0,3,0)),(IF(H96<>0,3,0)),(IF(I96<>0,3,0)),(IF(J96<>0,3,0)),(IF(K96<>0,3,0)),(IF(L96<>0,3,0)),(IF(M96<>0,3,0)),(IF(N96<>0,3,0)),(IF(O96<>0,3,0)),(IF(P96<>0,3,0)),(IF(Q96<>0,3,0)),(IF(R96<>0,3,0)),(IF(S96<>0,3,0)),(IF(T96<>0,3,0)),(IF(U96<>0,3,0)),(IF(V96<>0,3,0)),(IF(W96<>0,3,0)),(IF(X96<>0,3,0)),(IF(Y96<>0,3,0)),(IF(Z96<>0,3,0)),(IF(AA96<>0,3,0)),(IF(AB96<>0,3,0)),(IF(AC96<>0,3,0)),(IF(AD96<>0,3,0)),(IF(AE96<>0,3,0)),(IF(AF96<>0,3,0))))<>0,((SUM((IF(B96<>0,3,0)),(IF(C96<>0,3,0)),(IF(D96<>0,3,0)),(IF(E96<>0,3,0)),(IF(F96<>0,3,0)),(IF(F96<>0,3,0)),(IF(F96<>0,3,0)),(IF(G96<>0,3,0)),(IF(H96<>0,3,0)),(IF(I96<>0,3,0)),(IF(J96<>0,3,0)),(IF(K96<>0,3,0)),(IF(L96<>0,3,0)),(IF(M96<>0,3,0)),(IF(N96<>0,3,0)),(IF(O96<>0,3,0)),(IF(P96<>0,3,0)),(IF(Q96<>0,3,0)),(IF(R96<>0,3,0)),(IF(S96<>0,3,0)),(IF(T96<>0,3,0)),(IF(U96<>0,3,0)),(IF(V96<>0,3,0)),(IF(W96<>0,3,0)),(IF(X96<>0,3,0)),(IF(Y96<>0,3,0)),(IF(Z96<>0,3,0)),(IF(AA96<>0,3,0)),(IF(AB96<>0,3,0)),(IF(AC96<>0,3,0)),(IF(AD96<>0,3,0)),(IF(AE96<>0,3,0)),(IF(AF96<>0,3,0))))),1)))","v":0}]
["Tables nettoyées",{"$f":"IF(AND(B$8=Display!$T$10,'Lux4-sept'!$A$8=Display!$B$7,'Lux4-sept'!$A$9=Display!$B$9,'Lux4-sept'!$A$75=Display!$B$11,'Lux4-sept'!$A$94=Display!$B$13),Display!$D6,)","v":0},{"$f":"IF(AND(C$8=Display!$T$10,'Lux4-sept'!$A$8=Display!$B$7,'Lux4-sept'!$A$9=Display!$B$9,'Lux4-sept'!$A$75=Display!$B$11,'Lux4-sept'!$A$94=Display!$B$13),Display!$D6,)","v":0},{"$f":"IF(AND(D$8=Display!$T$10,'Lux4-sept'!$A$8=Display!$B$7,'Lux4-sept'!$A$9=Display!$B$9,'Lux4-sept'!$A$75=Display!$B$11,'Lux4-sept'!$A$94=Display!$B$13),Display!$D6,)","v":0},{"$f":"IF(AND(E$8=Display!$T$10,'Lux4-sept'!$A$8=Display!$B$7,'Lux4-sept'!$A$9=Display!$B$9,'Lux4-sept'!$A$75=Display!$B$11,'Lux4-sept'!$A$94=Display!$B$13),Display!$D6,)","v":0},{"$f":"IF(AND(F$8=Display!$T$10,'Lux4-sept'!$A$8=Display!$B$7,'Lux4-sept'!$A$9=Display!$B$9,'Lux4-sept'!$A$75=Display!$B$11,'Lux4-sept'!$A$94=Display!$B$13),Display!$D6,)","v":0},{"$f":"IF(AND(G$8=Display!$T$10,'Lux4-sept'!$A$8=Display!$B$7,'Lux4-sept'!$A$9=Display!$B$9,'Lux4-sept'!$A$75=Display!$B$11,'Lux4-sept'!$A$94=Display!$B$13),Display!$D6,)","v":0},{"$f":"IF(AND(H$8=Display!$T$10,'Lux4-sept'!$A$8=Display!$B$7,'Lux4-sept'!$A$9=Display!$B$9,'Lux4-sept'!$A$75=Display!$B$11,'Lux4-sept'!$A$94=Display!$B$13),Display!$D6,)","v":0},{"$f":"IF(AND(I$8=Display!$T$10,'Lux4-sept'!$A$8=Display!$B$7,'Lux4-sept'!$A$9=Display!$B$9,'Lux4-sept'!$A$75=Display!$B$11,'Lux4-sept'!$A$94=Display!$B$13),Display!$D6,)","v":0},{"$f":"IF(AND(J$8=Display!$T$10,'Lux4-sept'!$A$8=Display!$B$7,'Lux4-sept'!$A$9=Display!$B$9,'Lux4-sept'!$A$75=Display!$B$11,'Lux4-sept'!$A$94=Display!$B$13),Display!$D6,)","v":0},{"$f":"IF(AND(K$8=Display!$T$10,'Lux4-sept'!$A$8=Display!$B$7,'Lux4-sept'!$A$9=Display!$B$9,'Lux4-sept'!$A$75=Display!$B$11,'Lux4-sept'!$A$94=Display!$B$13),Display!$D6,)","v":0},{"$f":"IF(AND(L$8=Display!$T$10,'Lux4-sept'!$A$8=Display!$B$7,'Lux4-sept'!$A$9=Display!$B$9,'Lux4-sept'!$A$75=Display!$B$11,'Lux4-sept'!$A$94=Display!$B$13),Display!$D6,)","v":0},{"$f":"IF(AND(M$8=Display!$T$10,'Lux4-sept'!$A$8=Display!$B$7,'Lux4-sept'!$A$9=Display!$B$9,'Lux4-sept'!$A$75=Display!$B$11,'Lux4-sept'!$A$94=Display!$B$13),Display!$D6,)","v":0},{"$f":"IF(AND(N$8=Display!$T$10,'Lux4-sept'!$A$8=Display!$B$7,'Lux4-sept'!$A$9=Display!$B$9,'Lux4-sept'!$A$75=Display!$B$11,'Lux4-sept'!$A$94=Display!$B$13),Display!$D6,)","v":0},{"$f":"IF(AND(O$8=Display!$T$10,'Lux4-sept'!$A$8=Display!$B$7,'Lux4-sept'!$A$9=Display!$B$9,'Lux4-sept'!$A$75=Display!$B$11,'Lux4-sept'!$A$94=Display!$B$13),Display!$D6,)","v":0},{"$f":"IF(AND(P$8=Display!$T$10,'Lux4-sept'!$A$8=Display!$B$7,'Lux4-sept'!$A$9=Display!$B$9,'Lux4-sept'!$A$75=Display!$B$11,'Lux4-sept'!$A$94=Display!$B$13),Display!$D6,)","v":0},{"$f":"IF(AND(Q$8=Display!$T$10,'Lux4-sept'!$A$8=Display!$B$7,'Lux4-sept'!$A$9=Display!$B$9,'Lux4-sept'!$A$75=Display!$B$11,'Lux4-sept'!$A$94=Display!$B$13),Display!$D6,)","v":0},{"$f":"IF(AND(R$8=Display!$T$10,'Lux4-sept'!$A$8=Display!$B$7,'Lux4-sept'!$A$9=Display!$B$9,'Lux4-sept'!$A$75=Display!$B$11,'Lux4-sept'!$A$94=Display!$B$13),Display!$D6,)","v":0},{"$f":"IF(AND(S$8=Display!$T$10,'Lux4-sept'!$A$8=Display!$B$7,'Lux4-sept'!$A$9=Display!$B$9,'Lux4-sept'!$A$75=Display!$B$11,'Lux4-sept'!$A$94=Display!$B$13),Display!$D6,)","v":0},{"$f":"IF(AND(T$8=Display!$T$10,'Lux4-sept'!$A$8=Display!$B$7,'Lux4-sept'!$A$9=Display!$B$9,'Lux4-sept'!$A$75=Display!$B$11,'Lux4-sept'!$A$94=Display!$B$13),Display!$D6,)","v":0},{"$f":"IF(AND(U$8=Display!$T$10,'Lux4-sept'!$A$8=Display!$B$7,'Lux4-sept'!$A$9=Display!$B$9,'Lux4-sept'!$A$75=Display!$B$11,'Lux4-sept'!$A$94=Display!$B$13),Display!$D6,)","v":0},{"$f":"IF(AND(V$8=Display!$T$10,'Lux4-sept'!$A$8=Display!$B$7,'Lux4-sept'!$A$9=Display!$B$9,'Lux4-sept'!$A$75=Display!$B$11,'Lux4-sept'!$A$94=Display!$B$13),Display!$D6,)","v":0},{"$f":"IF(AND(W$8=Display!$T$10,'Lux4-sept'!$A$8=Display!$B$7,'Lux4-sept'!$A$9=Display!$B$9,'Lux4-sept'!$A$75=Display!$B$11,'Lux4-sept'!$A$94=Display!$B$13),Display!$D6,)","v":0},{"$f":"IF(AND(X$8=Display!$T$10,'Lux4-sept'!$A$8=Display!$B$7,'Lux4-sept'!$A$9=Display!$B$9,'Lux4-sept'!$A$75=Display!$B$11,'Lux4-sept'!$A$94=Display!$B$13),Display!$D6,)","v":0},{"$f":"IF(AND(Y$8=Display!$T$10,'Lux4-sept'!$A$8=Display!$B$7,'Lux4-sept'!$A$9=Display!$B$9,'Lux4-sept'!$A$75=Display!$B$11,'Lux4-sept'!$A$94=Display!$B$13),Display!$D6,)","v":0},{"$f":"IF(AND(Z$8=Display!$T$10,'Lux4-sept'!$A$8=Display!$B$7,'Lux4-sept'!$A$9=Display!$B$9,'Lux4-sept'!$A$75=Display!$B$11,'Lux4-sept'!$A$94=Display!$B$13),Display!$D6,)","v":0},{"$f":"IF(AND(AA$8=Display!$T$10,'Lux4-sept'!$A$8=Display!$B$7,'Lux4-sept'!$A$9=Display!$B$9,'Lux4-sept'!$A$75=Display!$B$11,'Lux4-sept'!$A$94=Display!$B$13),Display!$D6,)","v":0},{"$f":"IF(AND(AB$8=Display!$T$10,'Lux4-sept'!$A$8=Display!$B$7,'Lux4-sept'!$A$9=Display!$B$9,'Lux4-sept'!$A$75=Display!$B$11,'Lux4-sept'!$A$94=Display!$B$13),Display!$D6,)","v":0},{"$f":"IF(AND(AC$8=Display!$T$10,'Lux4-sept'!$A$8=Display!$B$7,'Lux4-sept'!$A$9=Display!$B$9,'Lux4-sept'!$A$75=Display!$B$11,'Lux4-sept'!$A$94=Display!$B$13),Display!$D6,)","v":0},{"$f":"IF(AND(AD$8=Display!$T$10,'Lux4-sept'!$A$8=Display!$B$7,'Lux4-sept'!$A$9=Display!$B$9,'Lux4-sept'!$A$75=Display!$B$11,'Lux4-sept'!$A$94=Display!$B$13),Display!$D6,)","v":0},{"$f":"IF(AND(AE$8=Display!$T$10,'Lux4-sept'!$A$8=Display!$B$7,'Lux4-sept'!$A$9=Display!$B$9,'Lux4-sept'!$A$75=Display!$B$11,'Lux4-sept'!$A$94=Display!$B$13),Display!$D6,)","v":0},{"$f":"IF(AND(AF$8=Display!$T$10,'Lux4-sept'!$A$8=Display!$B$7,'Lux4-sept'!$A$9=Display!$B$9,'Lux4-sept'!$A$75=Display!$B$11,'Lux4-sept'!$A$94=Display!$B$13),Display!$D6,)","v":0},null,null,0]
["Tableaux effacés",{"$f":"IF(AND(B$8=Display!$T$10,'Lux4-sept'!$A$8=Display!$B$7,'Lux4-sept'!$A$9=Display!$B$9,'Lux4-sept'!$A$75=Display!$B$11,'Lux4-sept'!$A$94=Display!$B$13),Display!$D7,)","v":0},{"$f":"IF(AND(C$8=Display!$T$10,'Lux4-sept'!$A$8=Display!$B$7,'Lux4-sept'!$A$9=Display!$B$9,'Lux4-sept'!$A$75=Display!$B$11,'Lux4-sept'!$A$94=Display!$B$13),Display!$D7,)","v":0},{"$f":"IF(AND(D$8=Display!$T$10,'Lux4-sept'!$A$8=Display!$B$7,'Lux4-sept'!$A$9=Display!$B$9,'Lux4-sept'!$A$75=Display!$B$11,'Lux4-sept'!$A$94=Display!$B$13),Display!$D7,)","v":0},{"$f":"IF(AND(E$8=Display!$T$10,'Lux4-sept'!$A$8=Display!$B$7,'Lux4-sept'!$A$9=Display!$B$9,'Lux4-sept'!$A$75=Display!$B$11,'Lux4-sept'!$A$94=Display!$B$13),Display!$D7,)","v":0},{"$f":"IF(AND(F$8=Display!$T$10,'Lux4-sept'!$A$8=Display!$B$7,'Lux4-sept'!$A$9=Display!$B$9,'Lux4-sept'!$A$75=Display!$B$11,'Lux4-sept'!$A$94=Display!$B$13),Display!$D7,)","v":0},{"$f":"IF(AND(G$8=Display!$T$10,'Lux4-sept'!$A$8=Display!$B$7,'Lux4-sept'!$A$9=Display!$B$9,'Lux4-sept'!$A$75=Display!$B$11,'Lux4-sept'!$A$94=Display!$B$13),Display!$D7,)","v":0},{"$f":"IF(AND(H$8=Display!$T$10,'Lux4-sept'!$A$8=Display!$B$7,'Lux4-sept'!$A$9=Display!$B$9,'Lux4-sept'!$A$75=Display!$B$11,'Lux4-sept'!$A$94=Display!$B$13),Display!$D7,)","v":0},{"$f":"IF(AND(I$8=Display!$T$10,'Lux4-sept'!$A$8=Display!$B$7,'Lux4-sept'!$A$9=Display!$B$9,'Lux4-sept'!$A$75=Display!$B$11,'Lux4-sept'!$A$94=Display!$B$13),Display!$D7,)","v":0},{"$f":"IF(AND(J$8=Display!$T$10,'Lux4-sept'!$A$8=Display!$B$7,'Lux4-sept'!$A$9=Display!$B$9,'Lux4-sept'!$A$75=Display!$B$11,'Lux4-sept'!$A$94=Display!$B$13),Display!$D7,)","v":0},{"$f":"IF(AND(K$8=Display!$T$10,'Lux4-sept'!$A$8=Display!$B$7,'Lux4-sept'!$A$9=Display!$B$9,'Lux4-sept'!$A$75=Display!$B$11,'Lux4-sept'!$A$94=Display!$B$13),Display!$D7,)","v":0},{"$f":"IF(AND(L$8=Display!$T$10,'Lux4-sept'!$A$8=Display!$B$7,'Lux4-sept'!$A$9=Display!$B$9,'Lux4-sept'!$A$75=Display!$B$11,'Lux4-sept'!$A$94=Display!$B$13),Display!$D7,)","v":0},{"$f":"IF(AND(M$8=Display!$T$10,'Lux4-sept'!$A$8=Display!$B$7,'Lux4-sept'!$A$9=Display!$B$9,'Lux4-sept'!$A$75=Display!$B$11,'Lux4-sept'!$A$94=Display!$B$13),Display!$D7,)","v":0},{"$f":"IF(AND(N$8=Display!$T$10,'Lux4-sept'!$A$8=Display!$B$7,'Lux4-sept'!$A$9=Display!$B$9,'Lux4-sept'!$A$75=Display!$B$11,'Lux4-sept'!$A$94=Display!$B$13),Display!$D7,)","v":0},{"$f":"IF(AND(O$8=Display!$T$10,'Lux4-sept'!$A$8=Display!$B$7,'Lux4-sept'!$A$9=Display!$B$9,'Lux4-sept'!$A$75=Display!$B$11,'Lux4-sept'!$A$94=Display!$B$13),Display!$D7,)","v":0},{"$f":"IF(AND(P$8=Display!$T$10,'Lux4-sept'!$A$8=Display!$B$7,'Lux4-sept'!$A$9=Display!$B$9,'Lux4-sept'!$A$75=Display!$B$11,'Lux4-sept'!$A$94=Display!$B$13),Display!$D7,)","v":0},{"$f":"IF(AND(Q$8=Display!$T$10,'Lux4-sept'!$A$8=Display!$B$7,'Lux4-sept'!$A$9=Display!$B$9,'Lux4-sept'!$A$75=Display!$B$11,'Lux4-sept'!$A$94=Display!$B$13),Display!$D7,)","v":0},{"$f":"IF(AND(R$8=Display!$T$10,'Lux4-sept'!$A$8=Display!$B$7,'Lux4-sept'!$A$9=Display!$B$9,'Lux4-sept'!$A$75=Display!$B$11,'Lux4-sept'!$A$94=Display!$B$13),Display!$D7,)","v":0},{"$f":"IF(AND(S$8=Display!$T$10,'Lux4-sept'!$A$8=Display!$B$7,'Lux4-sept'!$A$9=Display!$B$9,'Lux4-sept'!$A$75=Display!$B$11,'Lux4-sept'!$A$94=Display!$B$13),Display!$D7,)","v":0},{"$f":"IF(AND(T$8=Display!$T$10,'Lux4-sept'!$A$8=Display!$B$7,'Lux4-sept'!$A$9=Display!$B$9,'Lux4-sept'!$A$75=Display!$B$11,'Lux4-sept'!$A$94=Display!$B$13),Display!$D7,)","v":0},{"$f":"IF(AND(U$8=Display!$T$10,'Lux4-sept'!$A$8=Display!$B$7,'Lux4-sept'!$A$9=Display!$B$9,'Lux4-sept'!$A$75=Display!$B$11,'Lux4-sept'!$A$94=Display!$B$13),Display!$D7,)","v":0},{"$f":"IF(AND(V$8=Display!$T$10,'Lux4-sept'!$A$8=Display!$B$7,'Lux4-sept'!$A$9=Display!$B$9,'Lux4-sept'!$A$75=Display!$B$11,'Lux4-sept'!$A$94=Display!$B$13),Display!$D7,)","v":0},{"$f":"IF(AND(W$8=Display!$T$10,'Lux4-sept'!$A$8=Display!$B$7,'Lux4-sept'!$A$9=Display!$B$9,'Lux4-sept'!$A$75=Display!$B$11,'Lux4-sept'!$A$94=Display!$B$13),Display!$D7,)","v":0},{"$f":"IF(AND(X$8=Display!$T$10,'Lux4-sept'!$A$8=Display!$B$7,'Lux4-sept'!$A$9=Display!$B$9,'Lux4-sept'!$A$75=Display!$B$11,'Lux4-sept'!$A$94=Display!$B$13),Display!$D7,)","v":0},{"$f":"IF(AND(Y$8=Display!$T$10,'Lux4-sept'!$A$8=Display!$B$7,'Lux4-sept'!$A$9=Display!$B$9,'Lux4-sept'!$A$75=Display!$B$11,'Lux4-sept'!$A$94=Display!$B$13),Display!$D7,)","v":0},{"$f":"IF(AND(Z$8=Display!$T$10,'Lux4-sept'!$A$8=Display!$B$7,'Lux4-sept'!$A$9=Display!$B$9,'Lux4-sept'!$A$75=Display!$B$11,'Lux4-sept'!$A$94=Display!$B$13),Display!$D7,)","v":0},{"$f":"IF(AND(AA$8=Display!$T$10,'Lux4-sept'!$A$8=Display!$B$7,'Lux4-sept'!$A$9=Display!$B$9,'Lux4-sept'!$A$75=Display!$B$11,'Lux4-sept'!$A$94=Display!$B$13),Display!$D7,)","v":0},{"$f":"IF(AND(AB$8=Display!$T$10,'Lux4-sept'!$A$8=Display!$B$7,'Lux4-sept'!$A$9=Display!$B$9,'Lux4-sept'!$A$75=Display!$B$11,'Lux4-sept'!$A$94=Display!$B$13),Display!$D7,)","v":0},{"$f":"IF(AND(AC$8=Display!$T$10,'Lux4-sept'!$A$8=Display!$B$7,'Lux4-sept'!$A$9=Display!$B$9,'Lux4-sept'!$A$75=Display!$B$11,'Lux4-sept'!$A$94=Display!$B$13),Display!$D7,)","v":0},{"$f":"IF(AND(AD$8=Display!$T$10,'Lux4-sept'!$A$8=Display!$B$7,'Lux4-sept'!$A$9=Display!$B$9,'Lux4-sept'!$A$75=Display!$B$11,'Lux4-sept'!$A$94=Display!$B$13),Display!$D7,)","v":0},{"$f":"IF(AND(AE$8=Display!$T$10,'Lux4-sept'!$A$8=Display!$B$7,'Lux4-sept'!$A$9=Display!$B$9,'Lux4-sept'!$A$75=Display!$B$11,'Lux4-sept'!$A$94=Display!$B$13),Display!$D7,)","v":0},{"$f":"IF(AND(AF$8=Display!$T$10,'Lux4-sept'!$A$8=Display!$B$7,'Lux4-sept'!$A$9=Display!$B$9,'Lux4-sept'!$A$75=Display!$B$11,'Lux4-sept'!$A$94=Display!$B$13),Display!$D7,)","v":0},null,null,0]
["Salles de réunion aspirées",{"$f":"IF(AND(B$8=Display!$T$10,'Lux4-sept'!$A$8=Display!$B$7,'Lux4-sept'!$A$9=Display!$B$9,'Lux4-sept'!$A$75=Display!$B$11,'Lux4-sept'!$A$94=Display!$B$13),Display!$D8,)","v":0},{"$f":"IF(AND(C$8=Display!$T$10,'Lux4-sept'!$A$8=Display!$B$7,'Lux4-sept'!$A$9=Display!$B$9,'Lux4-sept'!$A$75=Display!$B$11,'Lux4-sept'!$A$94=Display!$B$13),Display!$D8,)","v":0},{"$f":"IF(AND(D$8=Display!$T$10,'Lux4-sept'!$A$8=Display!$B$7,'Lux4-sept'!$A$9=Display!$B$9,'Lux4-sept'!$A$75=Display!$B$11,'Lux4-sept'!$A$94=Display!$B$13),Display!$D8,)","v":0},{"$f":"IF(AND(E$8=Display!$T$10,'Lux4-sept'!$A$8=Display!$B$7,'Lux4-sept'!$A$9=Display!$B$9,'Lux4-sept'!$A$75=Display!$B$11,'Lux4-sept'!$A$94=Display!$B$13),Display!$D8,)","v":0},{"$f":"IF(AND(F$8=Display!$T$10,'Lux4-sept'!$A$8=Display!$B$7,'Lux4-sept'!$A$9=Display!$B$9,'Lux4-sept'!$A$75=Display!$B$11,'Lux4-sept'!$A$94=Display!$B$13),Display!$D8,)","v":0},{"$f":"IF(AND(G$8=Display!$T$10,'Lux4-sept'!$A$8=Display!$B$7,'Lux4-sept'!$A$9=Display!$B$9,'Lux4-sept'!$A$75=Display!$B$11,'Lux4-sept'!$A$94=Display!$B$13),Display!$D8,)","v":0},{"$f":"IF(AND(H$8=Display!$T$10,'Lux4-sept'!$A$8=Display!$B$7,'Lux4-sept'!$A$9=Display!$B$9,'Lux4-sept'!$A$75=Display!$B$11,'Lux4-sept'!$A$94=Display!$B$13),Display!$D8,)","v":0},{"$f":"IF(AND(I$8=Display!$T$10,'Lux4-sept'!$A$8=Display!$B$7,'Lux4-sept'!$A$9=Display!$B$9,'Lux4-sept'!$A$75=Display!$B$11,'Lux4-sept'!$A$94=Display!$B$13),Display!$D8,)","v":0},{"$f":"IF(AND(J$8=Display!$T$10,'Lux4-sept'!$A$8=Display!$B$7,'Lux4-sept'!$A$9=Display!$B$9,'Lux4-sept'!$A$75=Display!$B$11,'Lux4-sept'!$A$94=Display!$B$13),Display!$D8,)","v":0},{"$f":"IF(AND(K$8=Display!$T$10,'Lux4-sept'!$A$8=Display!$B$7,'Lux4-sept'!$A$9=Display!$B$9,'Lux4-sept'!$A$75=Display!$B$11,'Lux4-sept'!$A$94=Display!$B$13),Display!$D8,)","v":0},{"$f":"IF(AND(L$8=Display!$T$10,'Lux4-sept'!$A$8=Display!$B$7,'Lux4-sept'!$A$9=Display!$B$9,'Lux4-sept'!$A$75=Display!$B$11,'Lux4-sept'!$A$94=Display!$B$13),Display!$D8,)","v":0},{"$f":"IF(AND(M$8=Display!$T$10,'Lux4-sept'!$A$8=Display!$B$7,'Lux4-sept'!$A$9=Display!$B$9,'Lux4-sept'!$A$75=Display!$B$11,'Lux4-sept'!$A$94=Display!$B$13),Display!$D8,)","v":0},{"$f":"IF(AND(N$8=Display!$T$10,'Lux4-sept'!$A$8=Display!$B$7,'Lux4-sept'!$A$9=Display!$B$9,'Lux4-sept'!$A$75=Display!$B$11,'Lux4-sept'!$A$94=Display!$B$13),Display!$D8,)","v":0},{"$f":"IF(AND(O$8=Display!$T$10,'Lux4-sept'!$A$8=Display!$B$7,'Lux4-sept'!$A$9=Display!$B$9,'Lux4-sept'!$A$75=Display!$B$11,'Lux4-sept'!$A$94=Display!$B$13),Display!$D8,)","v":0},{"$f":"IF(AND(P$8=Display!$T$10,'Lux4-sept'!$A$8=Display!$B$7,'Lux4-sept'!$A$9=Display!$B$9,'Lux4-sept'!$A$75=Display!$B$11,'Lux4-sept'!$A$94=Display!$B$13),Display!$D8,)","v":0},{"$f":"IF(AND(Q$8=Display!$T$10,'Lux4-sept'!$A$8=Display!$B$7,'Lux4-sept'!$A$9=Display!$B$9,'Lux4-sept'!$A$75=Display!$B$11,'Lux4-sept'!$A$94=Display!$B$13),Display!$D8,)","v":0},{"$f":"IF(AND(R$8=Display!$T$10,'Lux4-sept'!$A$8=Display!$B$7,'Lux4-sept'!$A$9=Display!$B$9,'Lux4-sept'!$A$75=Display!$B$11,'Lux4-sept'!$A$94=Display!$B$13),Display!$D8,)","v":0},{"$f":"IF(AND(S$8=Display!$T$10,'Lux4-sept'!$A$8=Display!$B$7,'Lux4-sept'!$A$9=Display!$B$9,'Lux4-sept'!$A$75=Display!$B$11,'Lux4-sept'!$A$94=Display!$B$13),Display!$D8,)","v":0},{"$f":"IF(AND(T$8=Display!$T$10,'Lux4-sept'!$A$8=Display!$B$7,'Lux4-sept'!$A$9=Display!$B$9,'Lux4-sept'!$A$75=Display!$B$11,'Lux4-sept'!$A$94=Display!$B$13),Display!$D8,)","v":0},{"$f":"IF(AND(U$8=Display!$T$10,'Lux4-sept'!$A$8=Display!$B$7,'Lux4-sept'!$A$9=Display!$B$9,'Lux4-sept'!$A$75=Display!$B$11,'Lux4-sept'!$A$94=Display!$B$13),Display!$D8,)","v":0},{"$f":"IF(AND(V$8=Display!$T$10,'Lux4-sept'!$A$8=Display!$B$7,'Lux4-sept'!$A$9=Display!$B$9,'Lux4-sept'!$A$75=Display!$B$11,'Lux4-sept'!$A$94=Display!$B$13),Display!$D8,)","v":0},{"$f":"IF(AND(W$8=Display!$T$10,'Lux4-sept'!$A$8=Display!$B$7,'Lux4-sept'!$A$9=Display!$B$9,'Lux4-sept'!$A$75=Display!$B$11,'Lux4-sept'!$A$94=Display!$B$13),Display!$D8,)","v":0},{"$f":"IF(AND(X$8=Display!$T$10,'Lux4-sept'!$A$8=Display!$B$7,'Lux4-sept'!$A$9=Display!$B$9,'Lux4-sept'!$A$75=Display!$B$11,'Lux4-sept'!$A$94=Display!$B$13),Display!$D8,)","v":0},{"$f":"IF(AND(Y$8=Display!$T$10,'Lux4-sept'!$A$8=Display!$B$7,'Lux4-sept'!$A$9=Display!$B$9,'Lux4-sept'!$A$75=Display!$B$11,'Lux4-sept'!$A$94=Display!$B$13),Display!$D8,)","v":0},{"$f":"IF(AND(Z$8=Display!$T$10,'Lux4-sept'!$A$8=Display!$B$7,'Lux4-sept'!$A$9=Display!$B$9,'Lux4-sept'!$A$75=Display!$B$11,'Lux4-sept'!$A$94=Display!$B$13),Display!$D8,)","v":0},{"$f":"IF(AND(AA$8=Display!$T$10,'Lux4-sept'!$A$8=Display!$B$7,'Lux4-sept'!$A$9=Display!$B$9,'Lux4-sept'!$A$75=Display!$B$11,'Lux4-sept'!$A$94=Display!$B$13),Display!$D8,)","v":0},{"$f":"IF(AND(AB$8=Display!$T$10,'Lux4-sept'!$A$8=Display!$B$7,'Lux4-sept'!$A$9=Display!$B$9,'Lux4-sept'!$A$75=Display!$B$11,'Lux4-sept'!$A$94=Display!$B$13),Display!$D8,)","v":0},{"$f":"IF(AND(AC$8=Display!$T$10,'Lux4-sept'!$A$8=Display!$B$7,'Lux4-sept'!$A$9=Display!$B$9,'Lux4-sept'!$A$75=Display!$B$11,'Lux4-sept'!$A$94=Display!$B$13),Display!$D8,)","v":0},{"$f":"IF(AND(AD$8=Display!$T$10,'Lux4-sept'!$A$8=Display!$B$7,'Lux4-sept'!$A$9=Display!$B$9,'Lux4-sept'!$A$75=Display!$B$11,'Lux4-sept'!$A$94=Display!$B$13),Display!$D8,)","v":0},{"$f":"IF(AND(AE$8=Display!$T$10,'Lux4-sept'!$A$8=Display!$B$7,'Lux4-sept'!$A$9=Display!$B$9,'Lux4-sept'!$A$75=Display!$B$11,'Lux4-sept'!$A$94=Display!$B$13),Display!$D8,)","v":0},{"$f":"IF(AND(AF$8=Display!$T$10,'Lux4-sept'!$A$8=Display!$B$7,'Lux4-sept'!$A$9=Display!$B$9,'Lux4-sept'!$A$75=Display!$B$11,'Lux4-sept'!$A$94=Display!$B$13),Display!$D8,)","v":0},null,null,0]
["Présence de poussières",{"$f":"IF(AND(B$8=Display!$T$10,'Lux4-sept'!$A$8=Display!$B$7,'Lux4-sept'!$A$9=Display!$B$9,'Lux4-sept'!$A$75=Display!$B$11,'Lux4-sept'!$A$94=Display!$B$13),Display!$D9,)","v":0},{"$f":"IF(AND(C$8=Display!$T$10,'Lux4-sept'!$A$8=Display!$B$7,'Lux4-sept'!$A$9=Display!$B$9,'Lux4-sept'!$A$75=Display!$B$11,'Lux4-sept'!$A$94=Display!$B$13),Display!$D9,)","v":0},{"$f":"IF(AND(D$8=Display!$T$10,'Lux4-sept'!$A$8=Display!$B$7,'Lux4-sept'!$A$9=Display!$B$9,'Lux4-sept'!$A$75=Display!$B$11,'Lux4-sept'!$A$94=Display!$B$13),Display!$D9,)","v":0},{"$f":"IF(AND(E$8=Display!$T$10,'Lux4-sept'!$A$8=Display!$B$7,'Lux4-sept'!$A$9=Display!$B$9,'Lux4-sept'!$A$75=Display!$B$11,'Lux4-sept'!$A$94=Display!$B$13),Display!$D9,)","v":0},{"$f":"IF(AND(F$8=Display!$T$10,'Lux4-sept'!$A$8=Display!$B$7,'Lux4-sept'!$A$9=Display!$B$9,'Lux4-sept'!$A$75=Display!$B$11,'Lux4-sept'!$A$94=Display!$B$13),Display!$D9,)","v":0},{"$f":"IF(AND(G$8=Display!$T$10,'Lux4-sept'!$A$8=Display!$B$7,'Lux4-sept'!$A$9=Display!$B$9,'Lux4-sept'!$A$75=Display!$B$11,'Lux4-sept'!$A$94=Display!$B$13),Display!$D9,)","v":0},{"$f":"IF(AND(H$8=Display!$T$10,'Lux4-sept'!$A$8=Display!$B$7,'Lux4-sept'!$A$9=Display!$B$9,'Lux4-sept'!$A$75=Display!$B$11,'Lux4-sept'!$A$94=Display!$B$13),Display!$D9,)","v":0},{"$f":"IF(AND(I$8=Display!$T$10,'Lux4-sept'!$A$8=Display!$B$7,'Lux4-sept'!$A$9=Display!$B$9,'Lux4-sept'!$A$75=Display!$B$11,'Lux4-sept'!$A$94=Display!$B$13),Display!$D9,)","v":0},{"$f":"IF(AND(J$8=Display!$T$10,'Lux4-sept'!$A$8=Display!$B$7,'Lux4-sept'!$A$9=Display!$B$9,'Lux4-sept'!$A$75=Display!$B$11,'Lux4-sept'!$A$94=Display!$B$13),Display!$D9,)","v":0},{"$f":"IF(AND(K$8=Display!$T$10,'Lux4-sept'!$A$8=Display!$B$7,'Lux4-sept'!$A$9=Display!$B$9,'Lux4-sept'!$A$75=Display!$B$11,'Lux4-sept'!$A$94=Display!$B$13),Display!$D9,)","v":0},{"$f":"IF(AND(L$8=Display!$T$10,'Lux4-sept'!$A$8=Display!$B$7,'Lux4-sept'!$A$9=Display!$B$9,'Lux4-sept'!$A$75=Display!$B$11,'Lux4-sept'!$A$94=Display!$B$13),Display!$D9,)","v":0},{"$f":"IF(AND(M$8=Display!$T$10,'Lux4-sept'!$A$8=Display!$B$7,'Lux4-sept'!$A$9=Display!$B$9,'Lux4-sept'!$A$75=Display!$B$11,'Lux4-sept'!$A$94=Display!$B$13),Display!$D9,)","v":0},{"$f":"IF(AND(N$8=Display!$T$10,'Lux4-sept'!$A$8=Display!$B$7,'Lux4-sept'!$A$9=Display!$B$9,'Lux4-sept'!$A$75=Display!$B$11,'Lux4-sept'!$A$94=Display!$B$13),Display!$D9,)","v":0},{"$f":"IF(AND(O$8=Display!$T$10,'Lux4-sept'!$A$8=Display!$B$7,'Lux4-sept'!$A$9=Display!$B$9,'Lux4-sept'!$A$75=Display!$B$11,'Lux4-sept'!$A$94=Display!$B$13),Display!$D9,)","v":0},{"$f":"IF(AND(P$8=Display!$T$10,'Lux4-sept'!$A$8=Display!$B$7,'Lux4-sept'!$A$9=Display!$B$9,'Lux4-sept'!$A$75=Display!$B$11,'Lux4-sept'!$A$94=Display!$B$13),Display!$D9,)","v":0},{"$f":"IF(AND(Q$8=Display!$T$10,'Lux4-sept'!$A$8=Display!$B$7,'Lux4-sept'!$A$9=Display!$B$9,'Lux4-sept'!$A$75=Display!$B$11,'Lux4-sept'!$A$94=Display!$B$13),Display!$D9,)","v":0},{"$f":"IF(AND(R$8=Display!$T$10,'Lux4-sept'!$A$8=Display!$B$7,'Lux4-sept'!$A$9=Display!$B$9,'Lux4-sept'!$A$75=Display!$B$11,'Lux4-sept'!$A$94=Display!$B$13),Display!$D9,)","v":0},{"$f":"IF(AND(S$8=Display!$T$10,'Lux4-sept'!$A$8=Display!$B$7,'Lux4-sept'!$A$9=Display!$B$9,'Lux4-sept'!$A$75=Display!$B$11,'Lux4-sept'!$A$94=Display!$B$13),Display!$D9,)","v":0},{"$f":"IF(AND(T$8=Display!$T$10,'Lux4-sept'!$A$8=Display!$B$7,'Lux4-sept'!$A$9=Display!$B$9,'Lux4-sept'!$A$75=Display!$B$11,'Lux4-sept'!$A$94=Display!$B$13),Display!$D9,)","v":0},{"$f":"IF(AND(U$8=Display!$T$10,'Lux4-sept'!$A$8=Display!$B$7,'Lux4-sept'!$A$9=Display!$B$9,'Lux4-sept'!$A$75=Display!$B$11,'Lux4-sept'!$A$94=Display!$B$13),Display!$D9,)","v":0},{"$f":"IF(AND(V$8=Display!$T$10,'Lux4-sept'!$A$8=Display!$B$7,'Lux4-sept'!$A$9=Display!$B$9,'Lux4-sept'!$A$75=Display!$B$11,'Lux4-sept'!$A$94=Display!$B$13),Display!$D9,)","v":0},{"$f":"IF(AND(W$8=Display!$T$10,'Lux4-sept'!$A$8=Display!$B$7,'Lux4-sept'!$A$9=Display!$B$9,'Lux4-sept'!$A$75=Display!$B$11,'Lux4-sept'!$A$94=Display!$B$13),Display!$D9,)","v":0},{"$f":"IF(AND(X$8=Display!$T$10,'Lux4-sept'!$A$8=Display!$B$7,'Lux4-sept'!$A$9=Display!$B$9,'Lux4-sept'!$A$75=Display!$B$11,'Lux4-sept'!$A$94=Display!$B$13),Display!$D9,)","v":0},{"$f":"IF(AND(Y$8=Display!$T$10,'Lux4-sept'!$A$8=Display!$B$7,'Lux4-sept'!$A$9=Display!$B$9,'Lux4-sept'!$A$75=Display!$B$11,'Lux4-sept'!$A$94=Display!$B$13),Display!$D9,)","v":0},{"$f":"IF(AND(Z$8=Display!$T$10,'Lux4-sept'!$A$8=Display!$B$7,'Lux4-sept'!$A$9=Display!$B$9,'Lux4-sept'!$A$75=Display!$B$11,'Lux4-sept'!$A$94=Display!$B$13),Display!$D9,)","v":0},{"$f":"IF(AND(AA$8=Display!$T$10,'Lux4-sept'!$A$8=Display!$B$7,'Lux4-sept'!$A$9=Display!$B$9,'Lux4-sept'!$A$75=Display!$B$11,'Lux4-sept'!$A$94=Display!$B$13),Display!$D9,)","v":0},{"$f":"IF(AND(AB$8=Display!$T$10,'Lux4-sept'!$A$8=Display!$B$7,'Lux4-sept'!$A$9=Display!$B$9,'Lux4-sept'!$A$75=Display!$B$11,'Lux4-sept'!$A$94=Display!$B$13),Display!$D9,)","v":0},{"$f":"IF(AND(AC$8=Display!$T$10,'Lux4-sept'!$A$8=Display!$B$7,'Lux4-sept'!$A$9=Display!$B$9,'Lux4-sept'!$A$75=Display!$B$11,'Lux4-sept'!$A$94=Display!$B$13),Display!$D9,)","v":0},{"$f":"IF(AND(AD$8=Display!$T$10,'Lux4-sept'!$A$8=Display!$B$7,'Lux4-sept'!$A$9=Display!$B$9,'Lux4-sept'!$A$75=Display!$B$11,'Lux4-sept'!$A$94=Display!$B$13),Display!$D9,)","v":0},{"$f":"IF(AND(AE$8=Display!$T$10,'Lux4-sept'!$A$8=Display!$B$7,'Lux4-sept'!$A$9=Display!$B$9,'Lux4-sept'!$A$75=Display!$B$11,'Lux4-sept'!$A$94=Display!$B$13),Display!$D9,)","v":0},{"$f":"IF(AND(AF$8=Display!$T$10,'Lux4-sept'!$A$8=Display!$B$7,'Lux4-sept'!$A$9=Display!$B$9,'Lux4-sept'!$A$75=Display!$B$11,'Lux4-sept'!$A$94=Display!$B$13),Display!$D9,)","v":0},null,null,0]
["Aucune trace de doigts",{"$f":"IF(AND(B$8=Display!$T$10,'Lux4-sept'!$A$8=Display!$B$7,'Lux4-sept'!$A$9=Display!$B$9,'Lux4-sept'!$A$75=Display!$B$11,'Lux4-sept'!$A$94=Display!$B$13),Display!$D10,)","v":0},{"$f":"IF(AND(C$8=Display!$T$10,'Lux4-sept'!$A$8=Display!$B$7,'Lux4-sept'!$A$9=Display!$B$9,'Lux4-sept'!$A$75=Display!$B$11,'Lux4-sept'!$A$94=Display!$B$13),Display!$D10,)","v":0},{"$f":"IF(AND(D$8=Display!$T$10,'Lux4-sept'!$A$8=Display!$B$7,'Lux4-sept'!$A$9=Display!$B$9,'Lux4-sept'!$A$75=Display!$B$11,'Lux4-sept'!$A$94=Display!$B$13),Display!$D10,)","v":0},{"$f":"IF(AND(E$8=Display!$T$10,'Lux4-sept'!$A$8=Display!$B$7,'Lux4-sept'!$A$9=Display!$B$9,'Lux4-sept'!$A$75=Display!$B$11,'Lux4-sept'!$A$94=Display!$B$13),Display!$D10,)","v":0},{"$f":"IF(AND(F$8=Display!$T$10,'Lux4-sept'!$A$8=Display!$B$7,'Lux4-sept'!$A$9=Display!$B$9,'Lux4-sept'!$A$75=Display!$B$11,'Lux4-sept'!$A$94=Display!$B$13),Display!$D10,)","v":0},{"$f":"IF(AND(G$8=Display!$T$10,'Lux4-sept'!$A$8=Display!$B$7,'Lux4-sept'!$A$9=Display!$B$9,'Lux4-sept'!$A$75=Display!$B$11,'Lux4-sept'!$A$94=Display!$B$13),Display!$D10,)","v":0},{"$f":"IF(AND(H$8=Display!$T$10,'Lux4-sept'!$A$8=Display!$B$7,'Lux4-sept'!$A$9=Display!$B$9,'Lux4-sept'!$A$75=Display!$B$11,'Lux4-sept'!$A$94=Display!$B$13),Display!$D10,)","v":0},{"$f":"IF(AND(I$8=Display!$T$10,'Lux4-sept'!$A$8=Display!$B$7,'Lux4-sept'!$A$9=Display!$B$9,'Lux4-sept'!$A$75=Display!$B$11,'Lux4-sept'!$A$94=Display!$B$13),Display!$D10,)","v":0},{"$f":"IF(AND(J$8=Display!$T$10,'Lux4-sept'!$A$8=Display!$B$7,'Lux4-sept'!$A$9=Display!$B$9,'Lux4-sept'!$A$75=Display!$B$11,'Lux4-sept'!$A$94=Display!$B$13),Display!$D10,)","v":0},{"$f":"IF(AND(K$8=Display!$T$10,'Lux4-sept'!$A$8=Display!$B$7,'Lux4-sept'!$A$9=Display!$B$9,'Lux4-sept'!$A$75=Display!$B$11,'Lux4-sept'!$A$94=Display!$B$13),Display!$D10,)","v":0},{"$f":"IF(AND(L$8=Display!$T$10,'Lux4-sept'!$A$8=Display!$B$7,'Lux4-sept'!$A$9=Display!$B$9,'Lux4-sept'!$A$75=Display!$B$11,'Lux4-sept'!$A$94=Display!$B$13),Display!$D10,)","v":0},{"$f":"IF(AND(M$8=Display!$T$10,'Lux4-sept'!$A$8=Display!$B$7,'Lux4-sept'!$A$9=Display!$B$9,'Lux4-sept'!$A$75=Display!$B$11,'Lux4-sept'!$A$94=Display!$B$13),Display!$D10,)","v":0},{"$f":"IF(AND(N$8=Display!$T$10,'Lux4-sept'!$A$8=Display!$B$7,'Lux4-sept'!$A$9=Display!$B$9,'Lux4-sept'!$A$75=Display!$B$11,'Lux4-sept'!$A$94=Display!$B$13),Display!$D10,)","v":0},{"$f":"IF(AND(O$8=Display!$T$10,'Lux4-sept'!$A$8=Display!$B$7,'Lux4-sept'!$A$9=Display!$B$9,'Lux4-sept'!$A$75=Display!$B$11,'Lux4-sept'!$A$94=Display!$B$13),Display!$D10,)","v":0},{"$f":"IF(AND(P$8=Display!$T$10,'Lux4-sept'!$A$8=Display!$B$7,'Lux4-sept'!$A$9=Display!$B$9,'Lux4-sept'!$A$75=Display!$B$11,'Lux4-sept'!$A$94=Display!$B$13),Display!$D10,)","v":0},{"$f":"IF(AND(Q$8=Display!$T$10,'Lux4-sept'!$A$8=Display!$B$7,'Lux4-sept'!$A$9=Display!$B$9,'Lux4-sept'!$A$75=Display!$B$11,'Lux4-sept'!$A$94=Display!$B$13),Display!$D10,)","v":0},{"$f":"IF(AND(R$8=Display!$T$10,'Lux4-sept'!$A$8=Display!$B$7,'Lux4-sept'!$A$9=Display!$B$9,'Lux4-sept'!$A$75=Display!$B$11,'Lux4-sept'!$A$94=Display!$B$13),Display!$D10,)","v":0},{"$f":"IF(AND(S$8=Display!$T$10,'Lux4-sept'!$A$8=Display!$B$7,'Lux4-sept'!$A$9=Display!$B$9,'Lux4-sept'!$A$75=Display!$B$11,'Lux4-sept'!$A$94=Display!$B$13),Display!$D10,)","v":0},{"$f":"IF(AND(T$8=Display!$T$10,'Lux4-sept'!$A$8=Display!$B$7,'Lux4-sept'!$A$9=Display!$B$9,'Lux4-sept'!$A$75=Display!$B$11,'Lux4-sept'!$A$94=Display!$B$13),Display!$D10,)","v":0},{"$f":"IF(AND(U$8=Display!$T$10,'Lux4-sept'!$A$8=Display!$B$7,'Lux4-sept'!$A$9=Display!$B$9,'Lux4-sept'!$A$75=Display!$B$11,'Lux4-sept'!$A$94=Display!$B$13),Display!$D10,)","v":0},{"$f":"IF(AND(V$8=Display!$T$10,'Lux4-sept'!$A$8=Display!$B$7,'Lux4-sept'!$A$9=Display!$B$9,'Lux4-sept'!$A$75=Display!$B$11,'Lux4-sept'!$A$94=Display!$B$13),Display!$D10,)","v":0},{"$f":"IF(AND(W$8=Display!$T$10,'Lux4-sept'!$A$8=Display!$B$7,'Lux4-sept'!$A$9=Display!$B$9,'Lux4-sept'!$A$75=Display!$B$11,'Lux4-sept'!$A$94=Display!$B$13),Display!$D10,)","v":0},{"$f":"IF(AND(X$8=Display!$T$10,'Lux4-sept'!$A$8=Display!$B$7,'Lux4-sept'!$A$9=Display!$B$9,'Lux4-sept'!$A$75=Display!$B$11,'Lux4-sept'!$A$94=Display!$B$13),Display!$D10,)","v":0},{"$f":"IF(AND(Y$8=Display!$T$10,'Lux4-sept'!$A$8=Display!$B$7,'Lux4-sept'!$A$9=Display!$B$9,'Lux4-sept'!$A$75=Display!$B$11,'Lux4-sept'!$A$94=Display!$B$13),Display!$D10,)","v":0},{"$f":"IF(AND(Z$8=Display!$T$10,'Lux4-sept'!$A$8=Display!$B$7,'Lux4-sept'!$A$9=Display!$B$9,'Lux4-sept'!$A$75=Display!$B$11,'Lux4-sept'!$A$94=Display!$B$13),Display!$D10,)","v":0},{"$f":"IF(AND(AA$8=Display!$T$10,'Lux4-sept'!$A$8=Display!$B$7,'Lux4-sept'!$A$9=Display!$B$9,'Lux4-sept'!$A$75=Display!$B$11,'Lux4-sept'!$A$94=Display!$B$13),Display!$D10,)","v":0},{"$f":"IF(AND(AB$8=Display!$T$10,'Lux4-sept'!$A$8=Display!$B$7,'Lux4-sept'!$A$9=Display!$B$9,'Lux4-sept'!$A$75=Display!$B$11,'Lux4-sept'!$A$94=Display!$B$13),Display!$D10,)","v":0},{"$f":"IF(AND(AC$8=Display!$T$10,'Lux4-sept'!$A$8=Display!$B$7,'Lux4-sept'!$A$9=Display!$B$9,'Lux4-sept'!$A$75=Display!$B$11,'Lux4-sept'!$A$94=Display!$B$13),Display!$D10,)","v":0},{"$f":"IF(AND(AD$8=Display!$T$10,'Lux4-sept'!$A$8=Display!$B$7,'Lux4-sept'!$A$9=Display!$B$9,'Lux4-sept'!$A$75=Display!$B$11,'Lux4-sept'!$A$94=Display!$B$13),Display!$D10,)","v":0},{"$f":"IF(AND(AE$8=Display!$T$10,'Lux4-sept'!$A$8=Display!$B$7,'Lux4-sept'!$A$9=Display!$B$9,'Lux4-sept'!$A$75=Display!$B$11,'Lux4-sept'!$A$94=Display!$B$13),Display!$D10,)","v":0},{"$f":"IF(AND(AF$8=Display!$T$10,'Lux4-sept'!$A$8=Display!$B$7,'Lux4-sept'!$A$9=Display!$B$9,'Lux4-sept'!$A$75=Display!$B$11,'Lux4-sept'!$A$94=Display!$B$13),Display!$D10,)","v":0},null,null,0]
["MOYENNE",{"$f":"((IF((SUM(B95:B101))<>0,(SUM(B95:B101)),0))/(IF((SUM((IF(B95<>0,3,0)),(IF(B96<>0,3,0)),(IF(B97<>0,3,0)),(IF(B98<>0,3,0)),(IF(B99<>0,3,0)),(IF(B100<>0,3,0)),(IF(B101<>0,3,0))))<>0,((SUM((IF(B95<>0,3,0)),(IF(B96<>0,3,0)),(IF(B97<>0,3,0)),(IF(B98<>0,3,0)),(IF(B99<>0,3,0)),(IF(B100<>0,3,0)),(IF(B101<>0,3,0))))),1)))","v":0},{"$f":"((IF((SUM(C95:C101))<>0,(SUM(C95:C101)),0))/(IF((SUM((IF(C95<>0,3,0)),(IF(C96<>0,3,0)),(IF(C97<>0,3,0)),(IF(C98<>0,3,0)),(IF(C99<>0,3,0)),(IF(C100<>0,3,0)),(IF(C101<>0,3,0))))<>0,((SUM((IF(C95<>0,3,0)),(IF(C96<>0,3,0)),(IF(C97<>0,3,0)),(IF(C98<>0,3,0)),(IF(C99<>0,3,0)),(IF(C100<>0,3,0)),(IF(C101<>0,3,0))))),1)))","v":0},0,0,0,0,0,0,0,0,0,0,0,0,0,0,0,0,0,0,0,0,0,0,0,0,0,0,0,0,0,0,0]
["02.501"]
["Chaises rangées",{"$f":"IF(AND(B$8=Display!$T$10,'Lux4-sept'!$A$8=Display!$B$7,'Lux4-sept'!$A$9=Display!$B$9,'Lux4-sept'!$A$75=Display!$B$11,'Lux4-sept'!$A$103=Display!$B$13),Display!$D4,)","v":0},{"$f":"IF(AND(C$8=Display!$T$10,'Lux4-sept'!$A$8=Display!$B$7,'Lux4-sept'!$A$9=Display!$B$9,'Lux4-sept'!$A$75=Display!$B$11,'Lux4-sept'!$A$103=Display!$B$13),Display!$D4,)","v":0},{"$f":"IF(AND(D$8=Display!$T$10,'Lux4-sept'!$A$8=Display!$B$7,'Lux4-sept'!$A$9=Display!$B$9,'Lux4-sept'!$A$75=Display!$B$11,'Lux4-sept'!$A$103=Display!$B$13),Display!$D4,)","v":0},{"$f":"IF(AND(E$8=Display!$T$10,'Lux4-sept'!$A$8=Display!$B$7,'Lux4-sept'!$A$9=Display!$B$9,'Lux4-sept'!$A$75=Display!$B$11,'Lux4-sept'!$A$103=Display!$B$13),Display!$D4,)","v":0},{"$f":"IF(AND(F$8=Display!$T$10,'Lux4-sept'!$A$8=Display!$B$7,'Lux4-sept'!$A$9=Display!$B$9,'Lux4-sept'!$A$75=Display!$B$11,'Lux4-sept'!$A$103=Display!$B$13),Display!$D4,)","v":0},{"$f":"IF(AND(G$8=Display!$T$10,'Lux4-sept'!$A$8=Display!$B$7,'Lux4-sept'!$A$9=Display!$B$9,'Lux4-sept'!$A$75=Display!$B$11,'Lux4-sept'!$A$103=Display!$B$13),Display!$D4,)","v":0},{"$f":"IF(AND(H$8=Display!$T$10,'Lux4-sept'!$A$8=Display!$B$7,'Lux4-sept'!$A$9=Display!$B$9,'Lux4-sept'!$A$75=Display!$B$11,'Lux4-sept'!$A$103=Display!$B$13),Display!$D4,)","v":0},{"$f":"IF(AND(I$8=Display!$T$10,'Lux4-sept'!$A$8=Display!$B$7,'Lux4-sept'!$A$9=Display!$B$9,'Lux4-sept'!$A$75=Display!$B$11,'Lux4-sept'!$A$103=Display!$B$13),Display!$D4,)","v":0},{"$f":"IF(AND(J$8=Display!$T$10,'Lux4-sept'!$A$8=Display!$B$7,'Lux4-sept'!$A$9=Display!$B$9,'Lux4-sept'!$A$75=Display!$B$11,'Lux4-sept'!$A$103=Display!$B$13),Display!$D4,)","v":0},{"$f":"IF(AND(K$8=Display!$T$10,'Lux4-sept'!$A$8=Display!$B$7,'Lux4-sept'!$A$9=Display!$B$9,'Lux4-sept'!$A$75=Display!$B$11,'Lux4-sept'!$A$103=Display!$B$13),Display!$D4,)","v":0},{"$f":"IF(AND(L$8=Display!$T$10,'Lux4-sept'!$A$8=Display!$B$7,'Lux4-sept'!$A$9=Display!$B$9,'Lux4-sept'!$A$75=Display!$B$11,'Lux4-sept'!$A$103=Display!$B$13),Display!$D4,)","v":0},{"$f":"IF(AND(M$8=Display!$T$10,'Lux4-sept'!$A$8=Display!$B$7,'Lux4-sept'!$A$9=Display!$B$9,'Lux4-sept'!$A$75=Display!$B$11,'Lux4-sept'!$A$103=Display!$B$13),Display!$D4,)","v":0},{"$f":"IF(AND(N$8=Display!$T$10,'Lux4-sept'!$A$8=Display!$B$7,'Lux4-sept'!$A$9=Display!$B$9,'Lux4-sept'!$A$75=Display!$B$11,'Lux4-sept'!$A$103=Display!$B$13),Display!$D4,)","v":0},{"$f":"IF(AND(O$8=Display!$T$10,'Lux4-sept'!$A$8=Display!$B$7,'Lux4-sept'!$A$9=Display!$B$9,'Lux4-sept'!$A$75=Display!$B$11,'Lux4-sept'!$A$103=Display!$B$13),Display!$D4,)","v":0},{"$f":"IF(AND(P$8=Display!$T$10,'Lux4-sept'!$A$8=Display!$B$7,'Lux4-sept'!$A$9=Display!$B$9,'Lux4-sept'!$A$75=Display!$B$11,'Lux4-sept'!$A$103=Display!$B$13),Display!$D4,)","v":0},{"$f":"IF(AND(Q$8=Display!$T$10,'Lux4-sept'!$A$8=Display!$B$7,'Lux4-sept'!$A$9=Display!$B$9,'Lux4-sept'!$A$75=Display!$B$11,'Lux4-sept'!$A$103=Display!$B$13),Display!$D4,)","v":0},{"$f":"IF(AND(R$8=Display!$T$10,'Lux4-sept'!$A$8=Display!$B$7,'Lux4-sept'!$A$9=Display!$B$9,'Lux4-sept'!$A$75=Display!$B$11,'Lux4-sept'!$A$103=Display!$B$13),Display!$D4,)","v":0},{"$f":"IF(AND(S$8=Display!$T$10,'Lux4-sept'!$A$8=Display!$B$7,'Lux4-sept'!$A$9=Display!$B$9,'Lux4-sept'!$A$75=Display!$B$11,'Lux4-sept'!$A$103=Display!$B$13),Display!$D4,)","v":0},{"$f":"IF(AND(T$8=Display!$T$10,'Lux4-sept'!$A$8=Display!$B$7,'Lux4-sept'!$A$9=Display!$B$9,'Lux4-sept'!$A$75=Display!$B$11,'Lux4-sept'!$A$103=Display!$B$13),Display!$D4,)","v":0},{"$f":"IF(AND(U$8=Display!$T$10,'Lux4-sept'!$A$8=Display!$B$7,'Lux4-sept'!$A$9=Display!$B$9,'Lux4-sept'!$A$75=Display!$B$11,'Lux4-sept'!$A$103=Display!$B$13),Display!$D4,)","v":0},{"$f":"IF(AND(V$8=Display!$T$10,'Lux4-sept'!$A$8=Display!$B$7,'Lux4-sept'!$A$9=Display!$B$9,'Lux4-sept'!$A$75=Display!$B$11,'Lux4-sept'!$A$103=Display!$B$13),Display!$D4,)","v":0},{"$f":"IF(AND(W$8=Display!$T$10,'Lux4-sept'!$A$8=Display!$B$7,'Lux4-sept'!$A$9=Display!$B$9,'Lux4-sept'!$A$75=Display!$B$11,'Lux4-sept'!$A$103=Display!$B$13),Display!$D4,)","v":0},{"$f":"IF(AND(X$8=Display!$T$10,'Lux4-sept'!$A$8=Display!$B$7,'Lux4-sept'!$A$9=Display!$B$9,'Lux4-sept'!$A$75=Display!$B$11,'Lux4-sept'!$A$103=Display!$B$13),Display!$D4,)","v":0},{"$f":"IF(AND(Y$8=Display!$T$10,'Lux4-sept'!$A$8=Display!$B$7,'Lux4-sept'!$A$9=Display!$B$9,'Lux4-sept'!$A$75=Display!$B$11,'Lux4-sept'!$A$103=Display!$B$13),Display!$D4,)","v":0},{"$f":"IF(AND(Z$8=Display!$T$10,'Lux4-sept'!$A$8=Display!$B$7,'Lux4-sept'!$A$9=Display!$B$9,'Lux4-sept'!$A$75=Display!$B$11,'Lux4-sept'!$A$103=Display!$B$13),Display!$D4,)","v":0},{"$f":"IF(AND(AA$8=Display!$T$10,'Lux4-sept'!$A$8=Display!$B$7,'Lux4-sept'!$A$9=Display!$B$9,'Lux4-sept'!$A$75=Display!$B$11,'Lux4-sept'!$A$103=Display!$B$13),Display!$D4,)","v":0},{"$f":"IF(AND(AB$8=Display!$T$10,'Lux4-sept'!$A$8=Display!$B$7,'Lux4-sept'!$A$9=Display!$B$9,'Lux4-sept'!$A$75=Display!$B$11,'Lux4-sept'!$A$103=Display!$B$13),Display!$D4,)","v":0},{"$f":"IF(AND(AC$8=Display!$T$10,'Lux4-sept'!$A$8=Display!$B$7,'Lux4-sept'!$A$9=Display!$B$9,'Lux4-sept'!$A$75=Display!$B$11,'Lux4-sept'!$A$103=Display!$B$13),Display!$D4,)","v":0},{"$f":"IF(AND(AD$8=Display!$T$10,'Lux4-sept'!$A$8=Display!$B$7,'Lux4-sept'!$A$9=Display!$B$9,'Lux4-sept'!$A$75=Display!$B$11,'Lux4-sept'!$A$103=Display!$B$13),Display!$D4,)","v":0},{"$f":"IF(AND(AE$8=Display!$T$10,'Lux4-sept'!$A$8=Display!$B$7,'Lux4-sept'!$A$9=Display!$B$9,'Lux4-sept'!$A$75=Display!$B$11,'Lux4-sept'!$A$103=Display!$B$13),Display!$D4,)","v":0},{"$f":"IF(AND(AF$8=Display!$T$10,'Lux4-sept'!$A$8=Display!$B$7,'Lux4-sept'!$A$9=Display!$B$9,'Lux4-sept'!$A$75=Display!$B$11,'Lux4-sept'!$A$103=Display!$B$13),Display!$D4,)","v":0},null,null,{"$f":"((IF((SUM(B104:AF104))<>0,(SUM(B104:AF104)),0))/(IF((SUM((IF(B104<>0,3,0)),(IF(C104<>0,3,0)),(IF(D104<>0,3,0)),(IF(E104<>0,3,0)),(IF(F104<>0,3,0)),(IF(F104<>0,3,0)),(IF(F104<>0,3,0)),(IF(G104<>0,3,0)),(IF(H104<>0,3,0)),(IF(I104<>0,3,0)),(IF(J104<>0,3,0)),(IF(K104<>0,3,0)),(IF(L104<>0,3,0)),(IF(M104<>0,3,0)),(IF(N104<>0,3,0)),(IF(O104<>0,3,0)),(IF(P104<>0,3,0)),(IF(Q104<>0,3,0)),(IF(R104<>0,3,0)),(IF(S104<>0,3,0)),(IF(T104<>0,3,0)),(IF(U104<>0,3,0)),(IF(V104<>0,3,0)),(IF(W104<>0,3,0)),(IF(X104<>0,3,0)),(IF(Y104<>0,3,0)),(IF(Z104<>0,3,0)),(IF(AA104<>0,3,0)),(IF(AB104<>0,3,0)),(IF(AC104<>0,3,0)),(IF(AD104<>0,3,0)),(IF(AE104<>0,3,0)),(IF(AF104<>0,3,0))))<>0,((SUM((IF(B104<>0,3,0)),(IF(C104<>0,3,0)),(IF(D104<>0,3,0)),(IF(E104<>0,3,0)),(IF(F104<>0,3,0)),(IF(F104<>0,3,0)),(IF(F104<>0,3,0)),(IF(G104<>0,3,0)),(IF(H104<>0,3,0)),(IF(I104<>0,3,0)),(IF(J104<>0,3,0)),(IF(K104<>0,3,0)),(IF(L104<>0,3,0)),(IF(M104<>0,3,0)),(IF(N104<>0,3,0)),(IF(O104<>0,3,0)),(IF(P104<>0,3,0)),(IF(Q104<>0,3,0)),(IF(R104<>0,3,0)),(IF(S104<>0,3,0)),(IF(T104<>0,3,0)),(IF(U104<>0,3,0)),(IF(V104<>0,3,0)),(IF(W104<>0,3,0)),(IF(X104<>0,3,0)),(IF(Y104<>0,3,0)),(IF(Z104<>0,3,0)),(IF(AA104<>0,3,0)),(IF(AB104<>0,3,0)),(IF(AC104<>0,3,0)),(IF(AD104<>0,3,0)),(IF(AE104<>0,3,0)),(IF(AF104<>0,3,0))))),1)))","v":0}]
["Poubelles vidées",{"$f":"IF(AND(B$8=Display!$T$10,'Lux4-sept'!$A$8=Display!$B$7,'Lux4-sept'!$A$9=Display!$B$9,'Lux4-sept'!$A$75=Display!$B$11,'Lux4-sept'!$A$103=Display!$B$13),Display!$D5,)","v":0},{"$f":"IF(AND(C$8=Display!$T$10,'Lux4-sept'!$A$8=Display!$B$7,'Lux4-sept'!$A$9=Display!$B$9,'Lux4-sept'!$A$75=Display!$B$11,'Lux4-sept'!$A$103=Display!$B$13),Display!$D5,)","v":0},{"$f":"IF(AND(D$8=Display!$T$10,'Lux4-sept'!$A$8=Display!$B$7,'Lux4-sept'!$A$9=Display!$B$9,'Lux4-sept'!$A$75=Display!$B$11,'Lux4-sept'!$A$103=Display!$B$13),Display!$D5,)","v":0},{"$f":"IF(AND(E$8=Display!$T$10,'Lux4-sept'!$A$8=Display!$B$7,'Lux4-sept'!$A$9=Display!$B$9,'Lux4-sept'!$A$75=Display!$B$11,'Lux4-sept'!$A$103=Display!$B$13),Display!$D5,)","v":0},{"$f":"IF(AND(F$8=Display!$T$10,'Lux4-sept'!$A$8=Display!$B$7,'Lux4-sept'!$A$9=Display!$B$9,'Lux4-sept'!$A$75=Display!$B$11,'Lux4-sept'!$A$103=Display!$B$13),Display!$D5,)","v":0},{"$f":"IF(AND(G$8=Display!$T$10,'Lux4-sept'!$A$8=Display!$B$7,'Lux4-sept'!$A$9=Display!$B$9,'Lux4-sept'!$A$75=Display!$B$11,'Lux4-sept'!$A$103=Display!$B$13),Display!$D5,)","v":0},{"$f":"IF(AND(H$8=Display!$T$10,'Lux4-sept'!$A$8=Display!$B$7,'Lux4-sept'!$A$9=Display!$B$9,'Lux4-sept'!$A$75=Display!$B$11,'Lux4-sept'!$A$103=Display!$B$13),Display!$D5,)","v":0},{"$f":"IF(AND(I$8=Display!$T$10,'Lux4-sept'!$A$8=Display!$B$7,'Lux4-sept'!$A$9=Display!$B$9,'Lux4-sept'!$A$75=Display!$B$11,'Lux4-sept'!$A$103=Display!$B$13),Display!$D5,)","v":0},{"$f":"IF(AND(J$8=Display!$T$10,'Lux4-sept'!$A$8=Display!$B$7,'Lux4-sept'!$A$9=Display!$B$9,'Lux4-sept'!$A$75=Display!$B$11,'Lux4-sept'!$A$103=Display!$B$13),Display!$D5,)","v":0},{"$f":"IF(AND(K$8=Display!$T$10,'Lux4-sept'!$A$8=Display!$B$7,'Lux4-sept'!$A$9=Display!$B$9,'Lux4-sept'!$A$75=Display!$B$11,'Lux4-sept'!$A$103=Display!$B$13),Display!$D5,)","v":0},{"$f":"IF(AND(L$8=Display!$T$10,'Lux4-sept'!$A$8=Display!$B$7,'Lux4-sept'!$A$9=Display!$B$9,'Lux4-sept'!$A$75=Display!$B$11,'Lux4-sept'!$A$103=Display!$B$13),Display!$D5,)","v":0},{"$f":"IF(AND(M$8=Display!$T$10,'Lux4-sept'!$A$8=Display!$B$7,'Lux4-sept'!$A$9=Display!$B$9,'Lux4-sept'!$A$75=Display!$B$11,'Lux4-sept'!$A$103=Display!$B$13),Display!$D5,)","v":0},{"$f":"IF(AND(N$8=Display!$T$10,'Lux4-sept'!$A$8=Display!$B$7,'Lux4-sept'!$A$9=Display!$B$9,'Lux4-sept'!$A$75=Display!$B$11,'Lux4-sept'!$A$103=Display!$B$13),Display!$D5,)","v":0},{"$f":"IF(AND(O$8=Display!$T$10,'Lux4-sept'!$A$8=Display!$B$7,'Lux4-sept'!$A$9=Display!$B$9,'Lux4-sept'!$A$75=Display!$B$11,'Lux4-sept'!$A$103=Display!$B$13),Display!$D5,)","v":0},{"$f":"IF(AND(P$8=Display!$T$10,'Lux4-sept'!$A$8=Display!$B$7,'Lux4-sept'!$A$9=Display!$B$9,'Lux4-sept'!$A$75=Display!$B$11,'Lux4-sept'!$A$103=Display!$B$13),Display!$D5,)","v":0},{"$f":"IF(AND(Q$8=Display!$T$10,'Lux4-sept'!$A$8=Display!$B$7,'Lux4-sept'!$A$9=Display!$B$9,'Lux4-sept'!$A$75=Display!$B$11,'Lux4-sept'!$A$103=Display!$B$13),Display!$D5,)","v":0},{"$f":"IF(AND(R$8=Display!$T$10,'Lux4-sept'!$A$8=Display!$B$7,'Lux4-sept'!$A$9=Display!$B$9,'Lux4-sept'!$A$75=Display!$B$11,'Lux4-sept'!$A$103=Display!$B$13),Display!$D5,)","v":0},{"$f":"IF(AND(S$8=Display!$T$10,'Lux4-sept'!$A$8=Display!$B$7,'Lux4-sept'!$A$9=Display!$B$9,'Lux4-sept'!$A$75=Display!$B$11,'Lux4-sept'!$A$103=Display!$B$13),Display!$D5,)","v":0},{"$f":"IF(AND(T$8=Display!$T$10,'Lux4-sept'!$A$8=Display!$B$7,'Lux4-sept'!$A$9=Display!$B$9,'Lux4-sept'!$A$75=Display!$B$11,'Lux4-sept'!$A$103=Display!$B$13),Display!$D5,)","v":0},{"$f":"IF(AND(U$8=Display!$T$10,'Lux4-sept'!$A$8=Display!$B$7,'Lux4-sept'!$A$9=Display!$B$9,'Lux4-sept'!$A$75=Display!$B$11,'Lux4-sept'!$A$103=Display!$B$13),Display!$D5,)","v":0},{"$f":"IF(AND(V$8=Display!$T$10,'Lux4-sept'!$A$8=Display!$B$7,'Lux4-sept'!$A$9=Display!$B$9,'Lux4-sept'!$A$75=Display!$B$11,'Lux4-sept'!$A$103=Display!$B$13),Display!$D5,)","v":0},{"$f":"IF(AND(W$8=Display!$T$10,'Lux4-sept'!$A$8=Display!$B$7,'Lux4-sept'!$A$9=Display!$B$9,'Lux4-sept'!$A$75=Display!$B$11,'Lux4-sept'!$A$103=Display!$B$13),Display!$D5,)","v":0},{"$f":"IF(AND(X$8=Display!$T$10,'Lux4-sept'!$A$8=Display!$B$7,'Lux4-sept'!$A$9=Display!$B$9,'Lux4-sept'!$A$75=Display!$B$11,'Lux4-sept'!$A$103=Display!$B$13),Display!$D5,)","v":0},{"$f":"IF(AND(Y$8=Display!$T$10,'Lux4-sept'!$A$8=Display!$B$7,'Lux4-sept'!$A$9=Display!$B$9,'Lux4-sept'!$A$75=Display!$B$11,'Lux4-sept'!$A$103=Display!$B$13),Display!$D5,)","v":0},{"$f":"IF(AND(Z$8=Display!$T$10,'Lux4-sept'!$A$8=Display!$B$7,'Lux4-sept'!$A$9=Display!$B$9,'Lux4-sept'!$A$75=Display!$B$11,'Lux4-sept'!$A$103=Display!$B$13),Display!$D5,)","v":0},{"$f":"IF(AND(AA$8=Display!$T$10,'Lux4-sept'!$A$8=Display!$B$7,'Lux4-sept'!$A$9=Display!$B$9,'Lux4-sept'!$A$75=Display!$B$11,'Lux4-sept'!$A$103=Display!$B$13),Display!$D5,)","v":0},{"$f":"IF(AND(AB$8=Display!$T$10,'Lux4-sept'!$A$8=Display!$B$7,'Lux4-sept'!$A$9=Display!$B$9,'Lux4-sept'!$A$75=Display!$B$11,'Lux4-sept'!$A$103=Display!$B$13),Display!$D5,)","v":0},{"$f":"IF(AND(AC$8=Display!$T$10,'Lux4-sept'!$A$8=Display!$B$7,'Lux4-sept'!$A$9=Display!$B$9,'Lux4-sept'!$A$75=Display!$B$11,'Lux4-sept'!$A$103=Display!$B$13),Display!$D5,)","v":0},{"$f":"IF(AND(AD$8=Display!$T$10,'Lux4-sept'!$A$8=Display!$B$7,'Lux4-sept'!$A$9=Display!$B$9,'Lux4-sept'!$A$75=Display!$B$11,'Lux4-sept'!$A$103=Display!$B$13),Display!$D5,)","v":0},{"$f":"IF(AND(AE$8=Display!$T$10,'Lux4-sept'!$A$8=Display!$B$7,'Lux4-sept'!$A$9=Display!$B$9,'Lux4-sept'!$A$75=Display!$B$11,'Lux4-sept'!$A$103=Display!$B$13),Display!$D5,)","v":0},{"$f":"IF(AND(AF$8=Display!$T$10,'Lux4-sept'!$A$8=Display!$B$7,'Lux4-sept'!$A$9=Display!$B$9,'Lux4-sept'!$A$75=Display!$B$11,'Lux4-sept'!$A$103=Display!$B$13),Display!$D5,)","v":0},null,null,{"$f":"((IF((SUM(B105:AF105))<>0,(SUM(B105:AF105)),0))/(IF((SUM((IF(B105<>0,3,0)),(IF(C105<>0,3,0)),(IF(D105<>0,3,0)),(IF(E105<>0,3,0)),(IF(F105<>0,3,0)),(IF(F105<>0,3,0)),(IF(F105<>0,3,0)),(IF(G105<>0,3,0)),(IF(H105<>0,3,0)),(IF(I105<>0,3,0)),(IF(J105<>0,3,0)),(IF(K105<>0,3,0)),(IF(L105<>0,3,0)),(IF(M105<>0,3,0)),(IF(N105<>0,3,0)),(IF(O105<>0,3,0)),(IF(P105<>0,3,0)),(IF(Q105<>0,3,0)),(IF(R105<>0,3,0)),(IF(S105<>0,3,0)),(IF(T105<>0,3,0)),(IF(U105<>0,3,0)),(IF(V105<>0,3,0)),(IF(W105<>0,3,0)),(IF(X105<>0,3,0)),(IF(Y105<>0,3,0)),(IF(Z105<>0,3,0)),(IF(AA105<>0,3,0)),(IF(AB105<>0,3,0)),(IF(AC105<>0,3,0)),(IF(AD105<>0,3,0)),(IF(AE105<>0,3,0)),(IF(AF105<>0,3,0))))<>0,((SUM((IF(B105<>0,3,0)),(IF(C105<>0,3,0)),(IF(D105<>0,3,0)),(IF(E105<>0,3,0)),(IF(F105<>0,3,0)),(IF(F105<>0,3,0)),(IF(F105<>0,3,0)),(IF(G105<>0,3,0)),(IF(H105<>0,3,0)),(IF(I105<>0,3,0)),(IF(J105<>0,3,0)),(IF(K105<>0,3,0)),(IF(L105<>0,3,0)),(IF(M105<>0,3,0)),(IF(N105<>0,3,0)),(IF(O105<>0,3,0)),(IF(P105<>0,3,0)),(IF(Q105<>0,3,0)),(IF(R105<>0,3,0)),(IF(S105<>0,3,0)),(IF(T105<>0,3,0)),(IF(U105<>0,3,0)),(IF(V105<>0,3,0)),(IF(W105<>0,3,0)),(IF(X105<>0,3,0)),(IF(Y105<>0,3,0)),(IF(Z105<>0,3,0)),(IF(AA105<>0,3,0)),(IF(AB105<>0,3,0)),(IF(AC105<>0,3,0)),(IF(AD105<>0,3,0)),(IF(AE105<>0,3,0)),(IF(AF105<>0,3,0))))),1)))","v":0}]
["Tables nettoyées",{"$f":"IF(AND(B$8=Display!$T$10,'Lux4-sept'!$A$8=Display!$B$7,'Lux4-sept'!$A$9=Display!$B$9,'Lux4-sept'!$A$75=Display!$B$11,'Lux4-sept'!$A$103=Display!$B$13),Display!$D6,)","v":0},{"$f":"IF(AND(C$8=Display!$T$10,'Lux4-sept'!$A$8=Display!$B$7,'Lux4-sept'!$A$9=Display!$B$9,'Lux4-sept'!$A$75=Display!$B$11,'Lux4-sept'!$A$103=Display!$B$13),Display!$D6,)","v":0},{"$f":"IF(AND(D$8=Display!$T$10,'Lux4-sept'!$A$8=Display!$B$7,'Lux4-sept'!$A$9=Display!$B$9,'Lux4-sept'!$A$75=Display!$B$11,'Lux4-sept'!$A$103=Display!$B$13),Display!$D6,)","v":0},{"$f":"IF(AND(E$8=Display!$T$10,'Lux4-sept'!$A$8=Display!$B$7,'Lux4-sept'!$A$9=Display!$B$9,'Lux4-sept'!$A$75=Display!$B$11,'Lux4-sept'!$A$103=Display!$B$13),Display!$D6,)","v":0},{"$f":"IF(AND(F$8=Display!$T$10,'Lux4-sept'!$A$8=Display!$B$7,'Lux4-sept'!$A$9=Display!$B$9,'Lux4-sept'!$A$75=Display!$B$11,'Lux4-sept'!$A$103=Display!$B$13),Display!$D6,)","v":0},{"$f":"IF(AND(G$8=Display!$T$10,'Lux4-sept'!$A$8=Display!$B$7,'Lux4-sept'!$A$9=Display!$B$9,'Lux4-sept'!$A$75=Display!$B$11,'Lux4-sept'!$A$103=Display!$B$13),Display!$D6,)","v":0},{"$f":"IF(AND(H$8=Display!$T$10,'Lux4-sept'!$A$8=Display!$B$7,'Lux4-sept'!$A$9=Display!$B$9,'Lux4-sept'!$A$75=Display!$B$11,'Lux4-sept'!$A$103=Display!$B$13),Display!$D6,)","v":0},{"$f":"IF(AND(I$8=Display!$T$10,'Lux4-sept'!$A$8=Display!$B$7,'Lux4-sept'!$A$9=Display!$B$9,'Lux4-sept'!$A$75=Display!$B$11,'Lux4-sept'!$A$103=Display!$B$13),Display!$D6,)","v":0},{"$f":"IF(AND(J$8=Display!$T$10,'Lux4-sept'!$A$8=Display!$B$7,'Lux4-sept'!$A$9=Display!$B$9,'Lux4-sept'!$A$75=Display!$B$11,'Lux4-sept'!$A$103=Display!$B$13),Display!$D6,)","v":0},{"$f":"IF(AND(K$8=Display!$T$10,'Lux4-sept'!$A$8=Display!$B$7,'Lux4-sept'!$A$9=Display!$B$9,'Lux4-sept'!$A$75=Display!$B$11,'Lux4-sept'!$A$103=Display!$B$13),Display!$D6,)","v":0},{"$f":"IF(AND(L$8=Display!$T$10,'Lux4-sept'!$A$8=Display!$B$7,'Lux4-sept'!$A$9=Display!$B$9,'Lux4-sept'!$A$75=Display!$B$11,'Lux4-sept'!$A$103=Display!$B$13),Display!$D6,)","v":0},{"$f":"IF(AND(M$8=Display!$T$10,'Lux4-sept'!$A$8=Display!$B$7,'Lux4-sept'!$A$9=Display!$B$9,'Lux4-sept'!$A$75=Display!$B$11,'Lux4-sept'!$A$103=Display!$B$13),Display!$D6,)","v":0},{"$f":"IF(AND(N$8=Display!$T$10,'Lux4-sept'!$A$8=Display!$B$7,'Lux4-sept'!$A$9=Display!$B$9,'Lux4-sept'!$A$75=Display!$B$11,'Lux4-sept'!$A$103=Display!$B$13),Display!$D6,)","v":0},{"$f":"IF(AND(O$8=Display!$T$10,'Lux4-sept'!$A$8=Display!$B$7,'Lux4-sept'!$A$9=Display!$B$9,'Lux4-sept'!$A$75=Display!$B$11,'Lux4-sept'!$A$103=Display!$B$13),Display!$D6,)","v":0},{"$f":"IF(AND(P$8=Display!$T$10,'Lux4-sept'!$A$8=Display!$B$7,'Lux4-sept'!$A$9=Display!$B$9,'Lux4-sept'!$A$75=Display!$B$11,'Lux4-sept'!$A$103=Display!$B$13),Display!$D6,)","v":0},{"$f":"IF(AND(Q$8=Display!$T$10,'Lux4-sept'!$A$8=Display!$B$7,'Lux4-sept'!$A$9=Display!$B$9,'Lux4-sept'!$A$75=Display!$B$11,'Lux4-sept'!$A$103=Display!$B$13),Display!$D6,)","v":0},{"$f":"IF(AND(R$8=Display!$T$10,'Lux4-sept'!$A$8=Display!$B$7,'Lux4-sept'!$A$9=Display!$B$9,'Lux4-sept'!$A$75=Display!$B$11,'Lux4-sept'!$A$103=Display!$B$13),Display!$D6,)","v":0},{"$f":"IF(AND(S$8=Display!$T$10,'Lux4-sept'!$A$8=Display!$B$7,'Lux4-sept'!$A$9=Display!$B$9,'Lux4-sept'!$A$75=Display!$B$11,'Lux4-sept'!$A$103=Display!$B$13),Display!$D6,)","v":0},{"$f":"IF(AND(T$8=Display!$T$10,'Lux4-sept'!$A$8=Display!$B$7,'Lux4-sept'!$A$9=Display!$B$9,'Lux4-sept'!$A$75=Display!$B$11,'Lux4-sept'!$A$103=Display!$B$13),Display!$D6,)","v":0},{"$f":"IF(AND(U$8=Display!$T$10,'Lux4-sept'!$A$8=Display!$B$7,'Lux4-sept'!$A$9=Display!$B$9,'Lux4-sept'!$A$75=Display!$B$11,'Lux4-sept'!$A$103=Display!$B$13),Display!$D6,)","v":0},{"$f":"IF(AND(V$8=Display!$T$10,'Lux4-sept'!$A$8=Display!$B$7,'Lux4-sept'!$A$9=Display!$B$9,'Lux4-sept'!$A$75=Display!$B$11,'Lux4-sept'!$A$103=Display!$B$13),Display!$D6,)","v":0},{"$f":"IF(AND(W$8=Display!$T$10,'Lux4-sept'!$A$8=Display!$B$7,'Lux4-sept'!$A$9=Display!$B$9,'Lux4-sept'!$A$75=Display!$B$11,'Lux4-sept'!$A$103=Display!$B$13),Display!$D6,)","v":0},{"$f":"IF(AND(X$8=Display!$T$10,'Lux4-sept'!$A$8=Display!$B$7,'Lux4-sept'!$A$9=Display!$B$9,'Lux4-sept'!$A$75=Display!$B$11,'Lux4-sept'!$A$103=Display!$B$13),Display!$D6,)","v":0},{"$f":"IF(AND(Y$8=Display!$T$10,'Lux4-sept'!$A$8=Display!$B$7,'Lux4-sept'!$A$9=Display!$B$9,'Lux4-sept'!$A$75=Display!$B$11,'Lux4-sept'!$A$103=Display!$B$13),Display!$D6,)","v":0},{"$f":"IF(AND(Z$8=Display!$T$10,'Lux4-sept'!$A$8=Display!$B$7,'Lux4-sept'!$A$9=Display!$B$9,'Lux4-sept'!$A$75=Display!$B$11,'Lux4-sept'!$A$103=Display!$B$13),Display!$D6,)","v":0},{"$f":"IF(AND(AA$8=Display!$T$10,'Lux4-sept'!$A$8=Display!$B$7,'Lux4-sept'!$A$9=Display!$B$9,'Lux4-sept'!$A$75=Display!$B$11,'Lux4-sept'!$A$103=Display!$B$13),Display!$D6,)","v":0},{"$f":"IF(AND(AB$8=Display!$T$10,'Lux4-sept'!$A$8=Display!$B$7,'Lux4-sept'!$A$9=Display!$B$9,'Lux4-sept'!$A$75=Display!$B$11,'Lux4-sept'!$A$103=Display!$B$13),Display!$D6,)","v":0},{"$f":"IF(AND(AC$8=Display!$T$10,'Lux4-sept'!$A$8=Display!$B$7,'Lux4-sept'!$A$9=Display!$B$9,'Lux4-sept'!$A$75=Display!$B$11,'Lux4-sept'!$A$103=Display!$B$13),Display!$D6,)","v":0},{"$f":"IF(AND(AD$8=Display!$T$10,'Lux4-sept'!$A$8=Display!$B$7,'Lux4-sept'!$A$9=Display!$B$9,'Lux4-sept'!$A$75=Display!$B$11,'Lux4-sept'!$A$103=Display!$B$13),Display!$D6,)","v":0},{"$f":"IF(AND(AE$8=Display!$T$10,'Lux4-sept'!$A$8=Display!$B$7,'Lux4-sept'!$A$9=Display!$B$9,'Lux4-sept'!$A$75=Display!$B$11,'Lux4-sept'!$A$103=Display!$B$13),Display!$D6,)","v":0},{"$f":"IF(AND(AF$8=Display!$T$10,'Lux4-sept'!$A$8=Display!$B$7,'Lux4-sept'!$A$9=Display!$B$9,'Lux4-sept'!$A$75=Display!$B$11,'Lux4-sept'!$A$103=Display!$B$13),Display!$D6,)","v":0},null,null,0]
["Tableaux effacés",{"$f":"IF(AND(B$8=Display!$T$10,'Lux4-sept'!$A$8=Display!$B$7,'Lux4-sept'!$A$9=Display!$B$9,'Lux4-sept'!$A$75=Display!$B$11,'Lux4-sept'!$A$103=Display!$B$13),Display!$D7,)","v":0},{"$f":"IF(AND(C$8=Display!$T$10,'Lux4-sept'!$A$8=Display!$B$7,'Lux4-sept'!$A$9=Display!$B$9,'Lux4-sept'!$A$75=Display!$B$11,'Lux4-sept'!$A$103=Display!$B$13),Display!$D7,)","v":0},{"$f":"IF(AND(D$8=Display!$T$10,'Lux4-sept'!$A$8=Display!$B$7,'Lux4-sept'!$A$9=Display!$B$9,'Lux4-sept'!$A$75=Display!$B$11,'Lux4-sept'!$A$103=Display!$B$13),Display!$D7,)","v":0},{"$f":"IF(AND(E$8=Display!$T$10,'Lux4-sept'!$A$8=Display!$B$7,'Lux4-sept'!$A$9=Display!$B$9,'Lux4-sept'!$A$75=Display!$B$11,'Lux4-sept'!$A$103=Display!$B$13),Display!$D7,)","v":0},{"$f":"IF(AND(F$8=Display!$T$10,'Lux4-sept'!$A$8=Display!$B$7,'Lux4-sept'!$A$9=Display!$B$9,'Lux4-sept'!$A$75=Display!$B$11,'Lux4-sept'!$A$103=Display!$B$13),Display!$D7,)","v":0},{"$f":"IF(AND(G$8=Display!$T$10,'Lux4-sept'!$A$8=Display!$B$7,'Lux4-sept'!$A$9=Display!$B$9,'Lux4-sept'!$A$75=Display!$B$11,'Lux4-sept'!$A$103=Display!$B$13),Display!$D7,)","v":0},{"$f":"IF(AND(H$8=Display!$T$10,'Lux4-sept'!$A$8=Display!$B$7,'Lux4-sept'!$A$9=Display!$B$9,'Lux4-sept'!$A$75=Display!$B$11,'Lux4-sept'!$A$103=Display!$B$13),Display!$D7,)","v":0},{"$f":"IF(AND(I$8=Display!$T$10,'Lux4-sept'!$A$8=Display!$B$7,'Lux4-sept'!$A$9=Display!$B$9,'Lux4-sept'!$A$75=Display!$B$11,'Lux4-sept'!$A$103=Display!$B$13),Display!$D7,)","v":0},{"$f":"IF(AND(J$8=Display!$T$10,'Lux4-sept'!$A$8=Display!$B$7,'Lux4-sept'!$A$9=Display!$B$9,'Lux4-sept'!$A$75=Display!$B$11,'Lux4-sept'!$A$103=Display!$B$13),Display!$D7,)","v":0},{"$f":"IF(AND(K$8=Display!$T$10,'Lux4-sept'!$A$8=Display!$B$7,'Lux4-sept'!$A$9=Display!$B$9,'Lux4-sept'!$A$75=Display!$B$11,'Lux4-sept'!$A$103=Display!$B$13),Display!$D7,)","v":0},{"$f":"IF(AND(L$8=Display!$T$10,'Lux4-sept'!$A$8=Display!$B$7,'Lux4-sept'!$A$9=Display!$B$9,'Lux4-sept'!$A$75=Display!$B$11,'Lux4-sept'!$A$103=Display!$B$13),Display!$D7,)","v":0},{"$f":"IF(AND(M$8=Display!$T$10,'Lux4-sept'!$A$8=Display!$B$7,'Lux4-sept'!$A$9=Display!$B$9,'Lux4-sept'!$A$75=Display!$B$11,'Lux4-sept'!$A$103=Display!$B$13),Display!$D7,)","v":0},{"$f":"IF(AND(N$8=Display!$T$10,'Lux4-sept'!$A$8=Display!$B$7,'Lux4-sept'!$A$9=Display!$B$9,'Lux4-sept'!$A$75=Display!$B$11,'Lux4-sept'!$A$103=Display!$B$13),Display!$D7,)","v":0},{"$f":"IF(AND(O$8=Display!$T$10,'Lux4-sept'!$A$8=Display!$B$7,'Lux4-sept'!$A$9=Display!$B$9,'Lux4-sept'!$A$75=Display!$B$11,'Lux4-sept'!$A$103=Display!$B$13),Display!$D7,)","v":0},{"$f":"IF(AND(P$8=Display!$T$10,'Lux4-sept'!$A$8=Display!$B$7,'Lux4-sept'!$A$9=Display!$B$9,'Lux4-sept'!$A$75=Display!$B$11,'Lux4-sept'!$A$103=Display!$B$13),Display!$D7,)","v":0},{"$f":"IF(AND(Q$8=Display!$T$10,'Lux4-sept'!$A$8=Display!$B$7,'Lux4-sept'!$A$9=Display!$B$9,'Lux4-sept'!$A$75=Display!$B$11,'Lux4-sept'!$A$103=Display!$B$13),Display!$D7,)","v":0},{"$f":"IF(AND(R$8=Display!$T$10,'Lux4-sept'!$A$8=Display!$B$7,'Lux4-sept'!$A$9=Display!$B$9,'Lux4-sept'!$A$75=Display!$B$11,'Lux4-sept'!$A$103=Display!$B$13),Display!$D7,)","v":0},{"$f":"IF(AND(S$8=Display!$T$10,'Lux4-sept'!$A$8=Display!$B$7,'Lux4-sept'!$A$9=Display!$B$9,'Lux4-sept'!$A$75=Display!$B$11,'Lux4-sept'!$A$103=Display!$B$13),Display!$D7,)","v":0},{"$f":"IF(AND(T$8=Display!$T$10,'Lux4-sept'!$A$8=Display!$B$7,'Lux4-sept'!$A$9=Display!$B$9,'Lux4-sept'!$A$75=Display!$B$11,'Lux4-sept'!$A$103=Display!$B$13),Display!$D7,)","v":0},{"$f":"IF(AND(U$8=Display!$T$10,'Lux4-sept'!$A$8=Display!$B$7,'Lux4-sept'!$A$9=Display!$B$9,'Lux4-sept'!$A$75=Display!$B$11,'Lux4-sept'!$A$103=Display!$B$13),Display!$D7,)","v":0},{"$f":"IF(AND(V$8=Display!$T$10,'Lux4-sept'!$A$8=Display!$B$7,'Lux4-sept'!$A$9=Display!$B$9,'Lux4-sept'!$A$75=Display!$B$11,'Lux4-sept'!$A$103=Display!$B$13),Display!$D7,)","v":0},{"$f":"IF(AND(W$8=Display!$T$10,'Lux4-sept'!$A$8=Display!$B$7,'Lux4-sept'!$A$9=Display!$B$9,'Lux4-sept'!$A$75=Display!$B$11,'Lux4-sept'!$A$103=Display!$B$13),Display!$D7,)","v":0},{"$f":"IF(AND(X$8=Display!$T$10,'Lux4-sept'!$A$8=Display!$B$7,'Lux4-sept'!$A$9=Display!$B$9,'Lux4-sept'!$A$75=Display!$B$11,'Lux4-sept'!$A$103=Display!$B$13),Display!$D7,)","v":0},{"$f":"IF(AND(Y$8=Display!$T$10,'Lux4-sept'!$A$8=Display!$B$7,'Lux4-sept'!$A$9=Display!$B$9,'Lux4-sept'!$A$75=Display!$B$11,'Lux4-sept'!$A$103=Display!$B$13),Display!$D7,)","v":0},{"$f":"IF(AND(Z$8=Display!$T$10,'Lux4-sept'!$A$8=Display!$B$7,'Lux4-sept'!$A$9=Display!$B$9,'Lux4-sept'!$A$75=Display!$B$11,'Lux4-sept'!$A$103=Display!$B$13),Display!$D7,)","v":0},{"$f":"IF(AND(AA$8=Display!$T$10,'Lux4-sept'!$A$8=Display!$B$7,'Lux4-sept'!$A$9=Display!$B$9,'Lux4-sept'!$A$75=Display!$B$11,'Lux4-sept'!$A$103=Display!$B$13),Display!$D7,)","v":0},{"$f":"IF(AND(AB$8=Display!$T$10,'Lux4-sept'!$A$8=Display!$B$7,'Lux4-sept'!$A$9=Display!$B$9,'Lux4-sept'!$A$75=Display!$B$11,'Lux4-sept'!$A$103=Display!$B$13),Display!$D7,)","v":0},{"$f":"IF(AND(AC$8=Display!$T$10,'Lux4-sept'!$A$8=Display!$B$7,'Lux4-sept'!$A$9=Display!$B$9,'Lux4-sept'!$A$75=Display!$B$11,'Lux4-sept'!$A$103=Display!$B$13),Display!$D7,)","v":0},{"$f":"IF(AND(AD$8=Display!$T$10,'Lux4-sept'!$A$8=Display!$B$7,'Lux4-sept'!$A$9=Display!$B$9,'Lux4-sept'!$A$75=Display!$B$11,'Lux4-sept'!$A$103=Display!$B$13),Display!$D7,)","v":0},{"$f":"IF(AND(AE$8=Display!$T$10,'Lux4-sept'!$A$8=Display!$B$7,'Lux4-sept'!$A$9=Display!$B$9,'Lux4-sept'!$A$75=Display!$B$11,'Lux4-sept'!$A$103=Display!$B$13),Display!$D7,)","v":0},{"$f":"IF(AND(AF$8=Display!$T$10,'Lux4-sept'!$A$8=Display!$B$7,'Lux4-sept'!$A$9=Display!$B$9,'Lux4-sept'!$A$75=Display!$B$11,'Lux4-sept'!$A$103=Display!$B$13),Display!$D7,)","v":0},null,null,0]
["Salles de réunion aspirées",{"$f":"IF(AND(B$8=Display!$T$10,'Lux4-sept'!$A$8=Display!$B$7,'Lux4-sept'!$A$9=Display!$B$9,'Lux4-sept'!$A$75=Display!$B$11,'Lux4-sept'!$A$103=Display!$B$13),Display!$D8,)","v":0},{"$f":"IF(AND(C$8=Display!$T$10,'Lux4-sept'!$A$8=Display!$B$7,'Lux4-sept'!$A$9=Display!$B$9,'Lux4-sept'!$A$75=Display!$B$11,'Lux4-sept'!$A$103=Display!$B$13),Display!$D8,)","v":0},{"$f":"IF(AND(D$8=Display!$T$10,'Lux4-sept'!$A$8=Display!$B$7,'Lux4-sept'!$A$9=Display!$B$9,'Lux4-sept'!$A$75=Display!$B$11,'Lux4-sept'!$A$103=Display!$B$13),Display!$D8,)","v":0},{"$f":"IF(AND(E$8=Display!$T$10,'Lux4-sept'!$A$8=Display!$B$7,'Lux4-sept'!$A$9=Display!$B$9,'Lux4-sept'!$A$75=Display!$B$11,'Lux4-sept'!$A$103=Display!$B$13),Display!$D8,)","v":0},{"$f":"IF(AND(F$8=Display!$T$10,'Lux4-sept'!$A$8=Display!$B$7,'Lux4-sept'!$A$9=Display!$B$9,'Lux4-sept'!$A$75=Display!$B$11,'Lux4-sept'!$A$103=Display!$B$13),Display!$D8,)","v":0},{"$f":"IF(AND(G$8=Display!$T$10,'Lux4-sept'!$A$8=Display!$B$7,'Lux4-sept'!$A$9=Display!$B$9,'Lux4-sept'!$A$75=Display!$B$11,'Lux4-sept'!$A$103=Display!$B$13),Display!$D8,)","v":0},{"$f":"IF(AND(H$8=Display!$T$10,'Lux4-sept'!$A$8=Display!$B$7,'Lux4-sept'!$A$9=Display!$B$9,'Lux4-sept'!$A$75=Display!$B$11,'Lux4-sept'!$A$103=Display!$B$13),Display!$D8,)","v":0},{"$f":"IF(AND(I$8=Display!$T$10,'Lux4-sept'!$A$8=Display!$B$7,'Lux4-sept'!$A$9=Display!$B$9,'Lux4-sept'!$A$75=Display!$B$11,'Lux4-sept'!$A$103=Display!$B$13),Display!$D8,)","v":0},{"$f":"IF(AND(J$8=Display!$T$10,'Lux4-sept'!$A$8=Display!$B$7,'Lux4-sept'!$A$9=Display!$B$9,'Lux4-sept'!$A$75=Display!$B$11,'Lux4-sept'!$A$103=Display!$B$13),Display!$D8,)","v":0},{"$f":"IF(AND(K$8=Display!$T$10,'Lux4-sept'!$A$8=Display!$B$7,'Lux4-sept'!$A$9=Display!$B$9,'Lux4-sept'!$A$75=Display!$B$11,'Lux4-sept'!$A$103=Display!$B$13),Display!$D8,)","v":0},{"$f":"IF(AND(L$8=Display!$T$10,'Lux4-sept'!$A$8=Display!$B$7,'Lux4-sept'!$A$9=Display!$B$9,'Lux4-sept'!$A$75=Display!$B$11,'Lux4-sept'!$A$103=Display!$B$13),Display!$D8,)","v":0},{"$f":"IF(AND(M$8=Display!$T$10,'Lux4-sept'!$A$8=Display!$B$7,'Lux4-sept'!$A$9=Display!$B$9,'Lux4-sept'!$A$75=Display!$B$11,'Lux4-sept'!$A$103=Display!$B$13),Display!$D8,)","v":0},{"$f":"IF(AND(N$8=Display!$T$10,'Lux4-sept'!$A$8=Display!$B$7,'Lux4-sept'!$A$9=Display!$B$9,'Lux4-sept'!$A$75=Display!$B$11,'Lux4-sept'!$A$103=Display!$B$13),Display!$D8,)","v":0},{"$f":"IF(AND(O$8=Display!$T$10,'Lux4-sept'!$A$8=Display!$B$7,'Lux4-sept'!$A$9=Display!$B$9,'Lux4-sept'!$A$75=Display!$B$11,'Lux4-sept'!$A$103=Display!$B$13),Display!$D8,)","v":0},{"$f":"IF(AND(P$8=Display!$T$10,'Lux4-sept'!$A$8=Display!$B$7,'Lux4-sept'!$A$9=Display!$B$9,'Lux4-sept'!$A$75=Display!$B$11,'Lux4-sept'!$A$103=Display!$B$13),Display!$D8,)","v":0},{"$f":"IF(AND(Q$8=Display!$T$10,'Lux4-sept'!$A$8=Display!$B$7,'Lux4-sept'!$A$9=Display!$B$9,'Lux4-sept'!$A$75=Display!$B$11,'Lux4-sept'!$A$103=Display!$B$13),Display!$D8,)","v":0},{"$f":"IF(AND(R$8=Display!$T$10,'Lux4-sept'!$A$8=Display!$B$7,'Lux4-sept'!$A$9=Display!$B$9,'Lux4-sept'!$A$75=Display!$B$11,'Lux4-sept'!$A$103=Display!$B$13),Display!$D8,)","v":0},{"$f":"IF(AND(S$8=Display!$T$10,'Lux4-sept'!$A$8=Display!$B$7,'Lux4-sept'!$A$9=Display!$B$9,'Lux4-sept'!$A$75=Display!$B$11,'Lux4-sept'!$A$103=Display!$B$13),Display!$D8,)","v":0},{"$f":"IF(AND(T$8=Display!$T$10,'Lux4-sept'!$A$8=Display!$B$7,'Lux4-sept'!$A$9=Display!$B$9,'Lux4-sept'!$A$75=Display!$B$11,'Lux4-sept'!$A$103=Display!$B$13),Display!$D8,)","v":0},{"$f":"IF(AND(U$8=Display!$T$10,'Lux4-sept'!$A$8=Display!$B$7,'Lux4-sept'!$A$9=Display!$B$9,'Lux4-sept'!$A$75=Display!$B$11,'Lux4-sept'!$A$103=Display!$B$13),Display!$D8,)","v":0},{"$f":"IF(AND(V$8=Display!$T$10,'Lux4-sept'!$A$8=Display!$B$7,'Lux4-sept'!$A$9=Display!$B$9,'Lux4-sept'!$A$75=Display!$B$11,'Lux4-sept'!$A$103=Display!$B$13),Display!$D8,)","v":0},{"$f":"IF(AND(W$8=Display!$T$10,'Lux4-sept'!$A$8=Display!$B$7,'Lux4-sept'!$A$9=Display!$B$9,'Lux4-sept'!$A$75=Display!$B$11,'Lux4-sept'!$A$103=Display!$B$13),Display!$D8,)","v":0},{"$f":"IF(AND(X$8=Display!$T$10,'Lux4-sept'!$A$8=Display!$B$7,'Lux4-sept'!$A$9=Display!$B$9,'Lux4-sept'!$A$75=Display!$B$11,'Lux4-sept'!$A$103=Display!$B$13),Display!$D8,)","v":0},{"$f":"IF(AND(Y$8=Display!$T$10,'Lux4-sept'!$A$8=Display!$B$7,'Lux4-sept'!$A$9=Display!$B$9,'Lux4-sept'!$A$75=Display!$B$11,'Lux4-sept'!$A$103=Display!$B$13),Display!$D8,)","v":0},{"$f":"IF(AND(Z$8=Display!$T$10,'Lux4-sept'!$A$8=Display!$B$7,'Lux4-sept'!$A$9=Display!$B$9,'Lux4-sept'!$A$75=Display!$B$11,'Lux4-sept'!$A$103=Display!$B$13),Display!$D8,)","v":0},{"$f":"IF(AND(AA$8=Display!$T$10,'Lux4-sept'!$A$8=Display!$B$7,'Lux4-sept'!$A$9=Display!$B$9,'Lux4-sept'!$A$75=Display!$B$11,'Lux4-sept'!$A$103=Display!$B$13),Display!$D8,)","v":0},{"$f":"IF(AND(AB$8=Display!$T$10,'Lux4-sept'!$A$8=Display!$B$7,'Lux4-sept'!$A$9=Display!$B$9,'Lux4-sept'!$A$75=Display!$B$11,'Lux4-sept'!$A$103=Display!$B$13),Display!$D8,)","v":0},{"$f":"IF(AND(AC$8=Display!$T$10,'Lux4-sept'!$A$8=Display!$B$7,'Lux4-sept'!$A$9=Display!$B$9,'Lux4-sept'!$A$75=Display!$B$11,'Lux4-sept'!$A$103=Display!$B$13),Display!$D8,)","v":0},{"$f":"IF(AND(AD$8=Display!$T$10,'Lux4-sept'!$A$8=Display!$B$7,'Lux4-sept'!$A$9=Display!$B$9,'Lux4-sept'!$A$75=Display!$B$11,'Lux4-sept'!$A$103=Display!$B$13),Display!$D8,)","v":0},{"$f":"IF(AND(AE$8=Display!$T$10,'Lux4-sept'!$A$8=Display!$B$7,'Lux4-sept'!$A$9=Display!$B$9,'Lux4-sept'!$A$75=Display!$B$11,'Lux4-sept'!$A$103=Display!$B$13),Display!$D8,)","v":0},{"$f":"IF(AND(AF$8=Display!$T$10,'Lux4-sept'!$A$8=Display!$B$7,'Lux4-sept'!$A$9=Display!$B$9,'Lux4-sept'!$A$75=Display!$B$11,'Lux4-sept'!$A$103=Display!$B$13),Display!$D8,)","v":0},null,null,0]
["Présence de poussières",{"$f":"IF(AND(B$8=Display!$T$10,'Lux4-sept'!$A$8=Display!$B$7,'Lux4-sept'!$A$9=Display!$B$9,'Lux4-sept'!$A$75=Display!$B$11,'Lux4-sept'!$A$103=Display!$B$13),Display!$D9,)","v":0},{"$f":"IF(AND(C$8=Display!$T$10,'Lux4-sept'!$A$8=Display!$B$7,'Lux4-sept'!$A$9=Display!$B$9,'Lux4-sept'!$A$75=Display!$B$11,'Lux4-sept'!$A$103=Display!$B$13),Display!$D9,)","v":0},{"$f":"IF(AND(D$8=Display!$T$10,'Lux4-sept'!$A$8=Display!$B$7,'Lux4-sept'!$A$9=Display!$B$9,'Lux4-sept'!$A$75=Display!$B$11,'Lux4-sept'!$A$103=Display!$B$13),Display!$D9,)","v":0},{"$f":"IF(AND(E$8=Display!$T$10,'Lux4-sept'!$A$8=Display!$B$7,'Lux4-sept'!$A$9=Display!$B$9,'Lux4-sept'!$A$75=Display!$B$11,'Lux4-sept'!$A$103=Display!$B$13),Display!$D9,)","v":0},{"$f":"IF(AND(F$8=Display!$T$10,'Lux4-sept'!$A$8=Display!$B$7,'Lux4-sept'!$A$9=Display!$B$9,'Lux4-sept'!$A$75=Display!$B$11,'Lux4-sept'!$A$103=Display!$B$13),Display!$D9,)","v":0},{"$f":"IF(AND(G$8=Display!$T$10,'Lux4-sept'!$A$8=Display!$B$7,'Lux4-sept'!$A$9=Display!$B$9,'Lux4-sept'!$A$75=Display!$B$11,'Lux4-sept'!$A$103=Display!$B$13),Display!$D9,)","v":0},{"$f":"IF(AND(H$8=Display!$T$10,'Lux4-sept'!$A$8=Display!$B$7,'Lux4-sept'!$A$9=Display!$B$9,'Lux4-sept'!$A$75=Display!$B$11,'Lux4-sept'!$A$103=Display!$B$13),Display!$D9,)","v":0},{"$f":"IF(AND(I$8=Display!$T$10,'Lux4-sept'!$A$8=Display!$B$7,'Lux4-sept'!$A$9=Display!$B$9,'Lux4-sept'!$A$75=Display!$B$11,'Lux4-sept'!$A$103=Display!$B$13),Display!$D9,)","v":0},{"$f":"IF(AND(J$8=Display!$T$10,'Lux4-sept'!$A$8=Display!$B$7,'Lux4-sept'!$A$9=Display!$B$9,'Lux4-sept'!$A$75=Display!$B$11,'Lux4-sept'!$A$103=Display!$B$13),Display!$D9,)","v":0},{"$f":"IF(AND(K$8=Display!$T$10,'Lux4-sept'!$A$8=Display!$B$7,'Lux4-sept'!$A$9=Display!$B$9,'Lux4-sept'!$A$75=Display!$B$11,'Lux4-sept'!$A$103=Display!$B$13),Display!$D9,)","v":0},{"$f":"IF(AND(L$8=Display!$T$10,'Lux4-sept'!$A$8=Display!$B$7,'Lux4-sept'!$A$9=Display!$B$9,'Lux4-sept'!$A$75=Display!$B$11,'Lux4-sept'!$A$103=Display!$B$13),Display!$D9,)","v":0},{"$f":"IF(AND(M$8=Display!$T$10,'Lux4-sept'!$A$8=Display!$B$7,'Lux4-sept'!$A$9=Display!$B$9,'Lux4-sept'!$A$75=Display!$B$11,'Lux4-sept'!$A$103=Display!$B$13),Display!$D9,)","v":0},{"$f":"IF(AND(N$8=Display!$T$10,'Lux4-sept'!$A$8=Display!$B$7,'Lux4-sept'!$A$9=Display!$B$9,'Lux4-sept'!$A$75=Display!$B$11,'Lux4-sept'!$A$103=Display!$B$13),Display!$D9,)","v":0},{"$f":"IF(AND(O$8=Display!$T$10,'Lux4-sept'!$A$8=Display!$B$7,'Lux4-sept'!$A$9=Display!$B$9,'Lux4-sept'!$A$75=Display!$B$11,'Lux4-sept'!$A$103=Display!$B$13),Display!$D9,)","v":0},{"$f":"IF(AND(P$8=Display!$T$10,'Lux4-sept'!$A$8=Display!$B$7,'Lux4-sept'!$A$9=Display!$B$9,'Lux4-sept'!$A$75=Display!$B$11,'Lux4-sept'!$A$103=Display!$B$13),Display!$D9,)","v":0},{"$f":"IF(AND(Q$8=Display!$T$10,'Lux4-sept'!$A$8=Display!$B$7,'Lux4-sept'!$A$9=Display!$B$9,'Lux4-sept'!$A$75=Display!$B$11,'Lux4-sept'!$A$103=Display!$B$13),Display!$D9,)","v":0},{"$f":"IF(AND(R$8=Display!$T$10,'Lux4-sept'!$A$8=Display!$B$7,'Lux4-sept'!$A$9=Display!$B$9,'Lux4-sept'!$A$75=Display!$B$11,'Lux4-sept'!$A$103=Display!$B$13),Display!$D9,)","v":0},{"$f":"IF(AND(S$8=Display!$T$10,'Lux4-sept'!$A$8=Display!$B$7,'Lux4-sept'!$A$9=Display!$B$9,'Lux4-sept'!$A$75=Display!$B$11,'Lux4-sept'!$A$103=Display!$B$13),Display!$D9,)","v":0},{"$f":"IF(AND(T$8=Display!$T$10,'Lux4-sept'!$A$8=Display!$B$7,'Lux4-sept'!$A$9=Display!$B$9,'Lux4-sept'!$A$75=Display!$B$11,'Lux4-sept'!$A$103=Display!$B$13),Display!$D9,)","v":0},{"$f":"IF(AND(U$8=Display!$T$10,'Lux4-sept'!$A$8=Display!$B$7,'Lux4-sept'!$A$9=Display!$B$9,'Lux4-sept'!$A$75=Display!$B$11,'Lux4-sept'!$A$103=Display!$B$13),Display!$D9,)","v":0},{"$f":"IF(AND(V$8=Display!$T$10,'Lux4-sept'!$A$8=Display!$B$7,'Lux4-sept'!$A$9=Display!$B$9,'Lux4-sept'!$A$75=Display!$B$11,'Lux4-sept'!$A$103=Display!$B$13),Display!$D9,)","v":0},{"$f":"IF(AND(W$8=Display!$T$10,'Lux4-sept'!$A$8=Display!$B$7,'Lux4-sept'!$A$9=Display!$B$9,'Lux4-sept'!$A$75=Display!$B$11,'Lux4-sept'!$A$103=Display!$B$13),Display!$D9,)","v":0},{"$f":"IF(AND(X$8=Display!$T$10,'Lux4-sept'!$A$8=Display!$B$7,'Lux4-sept'!$A$9=Display!$B$9,'Lux4-sept'!$A$75=Display!$B$11,'Lux4-sept'!$A$103=Display!$B$13),Display!$D9,)","v":0},{"$f":"IF(AND(Y$8=Display!$T$10,'Lux4-sept'!$A$8=Display!$B$7,'Lux4-sept'!$A$9=Display!$B$9,'Lux4-sept'!$A$75=Display!$B$11,'Lux4-sept'!$A$103=Display!$B$13),Display!$D9,)","v":0},{"$f":"IF(AND(Z$8=Display!$T$10,'Lux4-sept'!$A$8=Display!$B$7,'Lux4-sept'!$A$9=Display!$B$9,'Lux4-sept'!$A$75=Display!$B$11,'Lux4-sept'!$A$103=Display!$B$13),Display!$D9,)","v":0},{"$f":"IF(AND(AA$8=Display!$T$10,'Lux4-sept'!$A$8=Display!$B$7,'Lux4-sept'!$A$9=Display!$B$9,'Lux4-sept'!$A$75=Display!$B$11,'Lux4-sept'!$A$103=Display!$B$13),Display!$D9,)","v":0},{"$f":"IF(AND(AB$8=Display!$T$10,'Lux4-sept'!$A$8=Display!$B$7,'Lux4-sept'!$A$9=Display!$B$9,'Lux4-sept'!$A$75=Display!$B$11,'Lux4-sept'!$A$103=Display!$B$13),Display!$D9,)","v":0},{"$f":"IF(AND(AC$8=Display!$T$10,'Lux4-sept'!$A$8=Display!$B$7,'Lux4-sept'!$A$9=Display!$B$9,'Lux4-sept'!$A$75=Display!$B$11,'Lux4-sept'!$A$103=Display!$B$13),Display!$D9,)","v":0},{"$f":"IF(AND(AD$8=Display!$T$10,'Lux4-sept'!$A$8=Display!$B$7,'Lux4-sept'!$A$9=Display!$B$9,'Lux4-sept'!$A$75=Display!$B$11,'Lux4-sept'!$A$103=Display!$B$13),Display!$D9,)","v":0},{"$f":"IF(AND(AE$8=Display!$T$10,'Lux4-sept'!$A$8=Display!$B$7,'Lux4-sept'!$A$9=Display!$B$9,'Lux4-sept'!$A$75=Display!$B$11,'Lux4-sept'!$A$103=Display!$B$13),Display!$D9,)","v":0},{"$f":"IF(AND(AF$8=Display!$T$10,'Lux4-sept'!$A$8=Display!$B$7,'Lux4-sept'!$A$9=Display!$B$9,'Lux4-sept'!$A$75=Display!$B$11,'Lux4-sept'!$A$103=Display!$B$13),Display!$D9,)","v":0},null,null,0]
["Aucune trace de doigts",{"$f":"IF(AND(B$8=Display!$T$10,'Lux4-sept'!$A$8=Display!$B$7,'Lux4-sept'!$A$9=Display!$B$9,'Lux4-sept'!$A$75=Display!$B$11,'Lux4-sept'!$A$103=Display!$B$13),Display!$D10,)","v":0},{"$f":"IF(AND(C$8=Display!$T$10,'Lux4-sept'!$A$8=Display!$B$7,'Lux4-sept'!$A$9=Display!$B$9,'Lux4-sept'!$A$75=Display!$B$11,'Lux4-sept'!$A$103=Display!$B$13),Display!$D10,)","v":0},{"$f":"IF(AND(D$8=Display!$T$10,'Lux4-sept'!$A$8=Display!$B$7,'Lux4-sept'!$A$9=Display!$B$9,'Lux4-sept'!$A$75=Display!$B$11,'Lux4-sept'!$A$103=Display!$B$13),Display!$D10,)","v":0},{"$f":"IF(AND(E$8=Display!$T$10,'Lux4-sept'!$A$8=Display!$B$7,'Lux4-sept'!$A$9=Display!$B$9,'Lux4-sept'!$A$75=Display!$B$11,'Lux4-sept'!$A$103=Display!$B$13),Display!$D10,)","v":0},{"$f":"IF(AND(F$8=Display!$T$10,'Lux4-sept'!$A$8=Display!$B$7,'Lux4-sept'!$A$9=Display!$B$9,'Lux4-sept'!$A$75=Display!$B$11,'Lux4-sept'!$A$103=Display!$B$13),Display!$D10,)","v":0},{"$f":"IF(AND(G$8=Display!$T$10,'Lux4-sept'!$A$8=Display!$B$7,'Lux4-sept'!$A$9=Display!$B$9,'Lux4-sept'!$A$75=Display!$B$11,'Lux4-sept'!$A$103=Display!$B$13),Display!$D10,)","v":0},{"$f":"IF(AND(H$8=Display!$T$10,'Lux4-sept'!$A$8=Display!$B$7,'Lux4-sept'!$A$9=Display!$B$9,'Lux4-sept'!$A$75=Display!$B$11,'Lux4-sept'!$A$103=Display!$B$13),Display!$D10,)","v":0},{"$f":"IF(AND(I$8=Display!$T$10,'Lux4-sept'!$A$8=Display!$B$7,'Lux4-sept'!$A$9=Display!$B$9,'Lux4-sept'!$A$75=Display!$B$11,'Lux4-sept'!$A$103=Display!$B$13),Display!$D10,)","v":0},{"$f":"IF(AND(J$8=Display!$T$10,'Lux4-sept'!$A$8=Display!$B$7,'Lux4-sept'!$A$9=Display!$B$9,'Lux4-sept'!$A$75=Display!$B$11,'Lux4-sept'!$A$103=Display!$B$13),Display!$D10,)","v":0},{"$f":"IF(AND(K$8=Display!$T$10,'Lux4-sept'!$A$8=Display!$B$7,'Lux4-sept'!$A$9=Display!$B$9,'Lux4-sept'!$A$75=Display!$B$11,'Lux4-sept'!$A$103=Display!$B$13),Display!$D10,)","v":0},{"$f":"IF(AND(L$8=Display!$T$10,'Lux4-sept'!$A$8=Display!$B$7,'Lux4-sept'!$A$9=Display!$B$9,'Lux4-sept'!$A$75=Display!$B$11,'Lux4-sept'!$A$103=Display!$B$13),Display!$D10,)","v":0},{"$f":"IF(AND(M$8=Display!$T$10,'Lux4-sept'!$A$8=Display!$B$7,'Lux4-sept'!$A$9=Display!$B$9,'Lux4-sept'!$A$75=Display!$B$11,'Lux4-sept'!$A$103=Display!$B$13),Display!$D10,)","v":0},{"$f":"IF(AND(N$8=Display!$T$10,'Lux4-sept'!$A$8=Display!$B$7,'Lux4-sept'!$A$9=Display!$B$9,'Lux4-sept'!$A$75=Display!$B$11,'Lux4-sept'!$A$103=Display!$B$13),Display!$D10,)","v":0},{"$f":"IF(AND(O$8=Display!$T$10,'Lux4-sept'!$A$8=Display!$B$7,'Lux4-sept'!$A$9=Display!$B$9,'Lux4-sept'!$A$75=Display!$B$11,'Lux4-sept'!$A$103=Display!$B$13),Display!$D10,)","v":0},{"$f":"IF(AND(P$8=Display!$T$10,'Lux4-sept'!$A$8=Display!$B$7,'Lux4-sept'!$A$9=Display!$B$9,'Lux4-sept'!$A$75=Display!$B$11,'Lux4-sept'!$A$103=Display!$B$13),Display!$D10,)","v":0},{"$f":"IF(AND(Q$8=Display!$T$10,'Lux4-sept'!$A$8=Display!$B$7,'Lux4-sept'!$A$9=Display!$B$9,'Lux4-sept'!$A$75=Display!$B$11,'Lux4-sept'!$A$103=Display!$B$13),Display!$D10,)","v":0},{"$f":"IF(AND(R$8=Display!$T$10,'Lux4-sept'!$A$8=Display!$B$7,'Lux4-sept'!$A$9=Display!$B$9,'Lux4-sept'!$A$75=Display!$B$11,'Lux4-sept'!$A$103=Display!$B$13),Display!$D10,)","v":0},{"$f":"IF(AND(S$8=Display!$T$10,'Lux4-sept'!$A$8=Display!$B$7,'Lux4-sept'!$A$9=Display!$B$9,'Lux4-sept'!$A$75=Display!$B$11,'Lux4-sept'!$A$103=Display!$B$13),Display!$D10,)","v":0},{"$f":"IF(AND(T$8=Display!$T$10,'Lux4-sept'!$A$8=Display!$B$7,'Lux4-sept'!$A$9=Display!$B$9,'Lux4-sept'!$A$75=Display!$B$11,'Lux4-sept'!$A$103=Display!$B$13),Display!$D10,)","v":0},{"$f":"IF(AND(U$8=Display!$T$10,'Lux4-sept'!$A$8=Display!$B$7,'Lux4-sept'!$A$9=Display!$B$9,'Lux4-sept'!$A$75=Display!$B$11,'Lux4-sept'!$A$103=Display!$B$13),Display!$D10,)","v":0},{"$f":"IF(AND(V$8=Display!$T$10,'Lux4-sept'!$A$8=Display!$B$7,'Lux4-sept'!$A$9=Display!$B$9,'Lux4-sept'!$A$75=Display!$B$11,'Lux4-sept'!$A$103=Display!$B$13),Display!$D10,)","v":0},{"$f":"IF(AND(W$8=Display!$T$10,'Lux4-sept'!$A$8=Display!$B$7,'Lux4-sept'!$A$9=Display!$B$9,'Lux4-sept'!$A$75=Display!$B$11,'Lux4-sept'!$A$103=Display!$B$13),Display!$D10,)","v":0},{"$f":"IF(AND(X$8=Display!$T$10,'Lux4-sept'!$A$8=Display!$B$7,'Lux4-sept'!$A$9=Display!$B$9,'Lux4-sept'!$A$75=Display!$B$11,'Lux4-sept'!$A$103=Display!$B$13),Display!$D10,)","v":0},{"$f":"IF(AND(Y$8=Display!$T$10,'Lux4-sept'!$A$8=Display!$B$7,'Lux4-sept'!$A$9=Display!$B$9,'Lux4-sept'!$A$75=Display!$B$11,'Lux4-sept'!$A$103=Display!$B$13),Display!$D10,)","v":0},{"$f":"IF(AND(Z$8=Display!$T$10,'Lux4-sept'!$A$8=Display!$B$7,'Lux4-sept'!$A$9=Display!$B$9,'Lux4-sept'!$A$75=Display!$B$11,'Lux4-sept'!$A$103=Display!$B$13),Display!$D10,)","v":0},{"$f":"IF(AND(AA$8=Display!$T$10,'Lux4-sept'!$A$8=Display!$B$7,'Lux4-sept'!$A$9=Display!$B$9,'Lux4-sept'!$A$75=Display!$B$11,'Lux4-sept'!$A$103=Display!$B$13),Display!$D10,)","v":0},{"$f":"IF(AND(AB$8=Display!$T$10,'Lux4-sept'!$A$8=Display!$B$7,'Lux4-sept'!$A$9=Display!$B$9,'Lux4-sept'!$A$75=Display!$B$11,'Lux4-sept'!$A$103=Display!$B$13),Display!$D10,)","v":0},{"$f":"IF(AND(AC$8=Display!$T$10,'Lux4-sept'!$A$8=Display!$B$7,'Lux4-sept'!$A$9=Display!$B$9,'Lux4-sept'!$A$75=Display!$B$11,'Lux4-sept'!$A$103=Display!$B$13),Display!$D10,)","v":0},{"$f":"IF(AND(AD$8=Display!$T$10,'Lux4-sept'!$A$8=Display!$B$7,'Lux4-sept'!$A$9=Display!$B$9,'Lux4-sept'!$A$75=Display!$B$11,'Lux4-sept'!$A$103=Display!$B$13),Display!$D10,)","v":0},{"$f":"IF(AND(AE$8=Display!$T$10,'Lux4-sept'!$A$8=Display!$B$7,'Lux4-sept'!$A$9=Display!$B$9,'Lux4-sept'!$A$75=Display!$B$11,'Lux4-sept'!$A$103=Display!$B$13),Display!$D10,)","v":0},{"$f":"IF(AND(AF$8=Display!$T$10,'Lux4-sept'!$A$8=Display!$B$7,'Lux4-sept'!$A$9=Display!$B$9,'Lux4-sept'!$A$75=Display!$B$11,'Lux4-sept'!$A$103=Display!$B$13),Display!$D10,)","v":0},null,null,0]
["MOYENNE",{"$f":"((IF((SUM(B104:B110))<>0,(SUM(B104:B110)),0))/(IF((SUM((IF(B104<>0,3,0)),(IF(B105<>0,3,0)),(IF(B106<>0,3,0)),(IF(B107<>0,3,0)),(IF(B108<>0,3,0)),(IF(B109<>0,3,0)),(IF(B110<>0,3,0))))<>0,((SUM((IF(B104<>0,3,0)),(IF(B105<>0,3,0)),(IF(B106<>0,3,0)),(IF(B107<>0,3,0)),(IF(B108<>0,3,0)),(IF(B109<>0,3,0)),(IF(B110<>0,3,0))))),1)))","v":0},{"$f":"((IF((SUM(C104:C110))<>0,(SUM(C104:C110)),0))/(IF((SUM((IF(C104<>0,3,0)),(IF(C105<>0,3,0)),(IF(C106<>0,3,0)),(IF(C107<>0,3,0)),(IF(C108<>0,3,0)),(IF(C109<>0,3,0)),(IF(C110<>0,3,0))))<>0,((SUM((IF(C104<>0,3,0)),(IF(C105<>0,3,0)),(IF(C106<>0,3,0)),(IF(C107<>0,3,0)),(IF(C108<>0,3,0)),(IF(C109<>0,3,0)),(IF(C110<>0,3,0))))),1)))","v":0},0,0,0,0,0,0,0,0,0,0,0,0,0,0,0,0,0,0,0,0,0,0,0,0,0,0,0,0,0,0,0]
["02.502"]
["Chaises rangées",{"$f":"IF(AND(B$8=Display!$T$10,'Lux4-sept'!$A$8=Display!$B$7,'Lux4-sept'!$A$9=Display!$B$9,'Lux4-sept'!$A$75=Display!$B$11,'Lux4-sept'!$A$112=Display!$B$13),Display!$D4,)","v":0},{"$f":"IF(AND(C$8=Display!$T$10,'Lux4-sept'!$A$8=Display!$B$7,'Lux4-sept'!$A$9=Display!$B$9,'Lux4-sept'!$A$75=Display!$B$11,'Lux4-sept'!$A$112=Display!$B$13),Display!$D4,)","v":0},{"$f":"IF(AND(D$8=Display!$T$10,'Lux4-sept'!$A$8=Display!$B$7,'Lux4-sept'!$A$9=Display!$B$9,'Lux4-sept'!$A$75=Display!$B$11,'Lux4-sept'!$A$112=Display!$B$13),Display!$D4,)","v":0},{"$f":"IF(AND(E$8=Display!$T$10,'Lux4-sept'!$A$8=Display!$B$7,'Lux4-sept'!$A$9=Display!$B$9,'Lux4-sept'!$A$75=Display!$B$11,'Lux4-sept'!$A$112=Display!$B$13),Display!$D4,)","v":0},{"$f":"IF(AND(F$8=Display!$T$10,'Lux4-sept'!$A$8=Display!$B$7,'Lux4-sept'!$A$9=Display!$B$9,'Lux4-sept'!$A$75=Display!$B$11,'Lux4-sept'!$A$112=Display!$B$13),Display!$D4,)","v":0},{"$f":"IF(AND(G$8=Display!$T$10,'Lux4-sept'!$A$8=Display!$B$7,'Lux4-sept'!$A$9=Display!$B$9,'Lux4-sept'!$A$75=Display!$B$11,'Lux4-sept'!$A$112=Display!$B$13),Display!$D4,)","v":0},{"$f":"IF(AND(H$8=Display!$T$10,'Lux4-sept'!$A$8=Display!$B$7,'Lux4-sept'!$A$9=Display!$B$9,'Lux4-sept'!$A$75=Display!$B$11,'Lux4-sept'!$A$112=Display!$B$13),Display!$D4,)","v":0},{"$f":"IF(AND(I$8=Display!$T$10,'Lux4-sept'!$A$8=Display!$B$7,'Lux4-sept'!$A$9=Display!$B$9,'Lux4-sept'!$A$75=Display!$B$11,'Lux4-sept'!$A$112=Display!$B$13),Display!$D4,)","v":0},{"$f":"IF(AND(J$8=Display!$T$10,'Lux4-sept'!$A$8=Display!$B$7,'Lux4-sept'!$A$9=Display!$B$9,'Lux4-sept'!$A$75=Display!$B$11,'Lux4-sept'!$A$112=Display!$B$13),Display!$D4,)","v":0},{"$f":"IF(AND(K$8=Display!$T$10,'Lux4-sept'!$A$8=Display!$B$7,'Lux4-sept'!$A$9=Display!$B$9,'Lux4-sept'!$A$75=Display!$B$11,'Lux4-sept'!$A$112=Display!$B$13),Display!$D4,)","v":0},{"$f":"IF(AND(L$8=Display!$T$10,'Lux4-sept'!$A$8=Display!$B$7,'Lux4-sept'!$A$9=Display!$B$9,'Lux4-sept'!$A$75=Display!$B$11,'Lux4-sept'!$A$112=Display!$B$13),Display!$D4,)","v":0},{"$f":"IF(AND(M$8=Display!$T$10,'Lux4-sept'!$A$8=Display!$B$7,'Lux4-sept'!$A$9=Display!$B$9,'Lux4-sept'!$A$75=Display!$B$11,'Lux4-sept'!$A$112=Display!$B$13),Display!$D4,)","v":0},{"$f":"IF(AND(N$8=Display!$T$10,'Lux4-sept'!$A$8=Display!$B$7,'Lux4-sept'!$A$9=Display!$B$9,'Lux4-sept'!$A$75=Display!$B$11,'Lux4-sept'!$A$112=Display!$B$13),Display!$D4,)","v":0},{"$f":"IF(AND(O$8=Display!$T$10,'Lux4-sept'!$A$8=Display!$B$7,'Lux4-sept'!$A$9=Display!$B$9,'Lux4-sept'!$A$75=Display!$B$11,'Lux4-sept'!$A$112=Display!$B$13),Display!$D4,)","v":0},{"$f":"IF(AND(P$8=Display!$T$10,'Lux4-sept'!$A$8=Display!$B$7,'Lux4-sept'!$A$9=Display!$B$9,'Lux4-sept'!$A$75=Display!$B$11,'Lux4-sept'!$A$112=Display!$B$13),Display!$D4,)","v":0},{"$f":"IF(AND(Q$8=Display!$T$10,'Lux4-sept'!$A$8=Display!$B$7,'Lux4-sept'!$A$9=Display!$B$9,'Lux4-sept'!$A$75=Display!$B$11,'Lux4-sept'!$A$112=Display!$B$13),Display!$D4,)","v":0},{"$f":"IF(AND(R$8=Display!$T$10,'Lux4-sept'!$A$8=Display!$B$7,'Lux4-sept'!$A$9=Display!$B$9,'Lux4-sept'!$A$75=Display!$B$11,'Lux4-sept'!$A$112=Display!$B$13),Display!$D4,)","v":0},{"$f":"IF(AND(S$8=Display!$T$10,'Lux4-sept'!$A$8=Display!$B$7,'Lux4-sept'!$A$9=Display!$B$9,'Lux4-sept'!$A$75=Display!$B$11,'Lux4-sept'!$A$112=Display!$B$13),Display!$D4,)","v":0},{"$f":"IF(AND(T$8=Display!$T$10,'Lux4-sept'!$A$8=Display!$B$7,'Lux4-sept'!$A$9=Display!$B$9,'Lux4-sept'!$A$75=Display!$B$11,'Lux4-sept'!$A$112=Display!$B$13),Display!$D4,)","v":0},{"$f":"IF(AND(U$8=Display!$T$10,'Lux4-sept'!$A$8=Display!$B$7,'Lux4-sept'!$A$9=Display!$B$9,'Lux4-sept'!$A$75=Display!$B$11,'Lux4-sept'!$A$112=Display!$B$13),Display!$D4,)","v":0},{"$f":"IF(AND(V$8=Display!$T$10,'Lux4-sept'!$A$8=Display!$B$7,'Lux4-sept'!$A$9=Display!$B$9,'Lux4-sept'!$A$75=Display!$B$11,'Lux4-sept'!$A$112=Display!$B$13),Display!$D4,)","v":0},{"$f":"IF(AND(W$8=Display!$T$10,'Lux4-sept'!$A$8=Display!$B$7,'Lux4-sept'!$A$9=Display!$B$9,'Lux4-sept'!$A$75=Display!$B$11,'Lux4-sept'!$A$112=Display!$B$13),Display!$D4,)","v":0},{"$f":"IF(AND(X$8=Display!$T$10,'Lux4-sept'!$A$8=Display!$B$7,'Lux4-sept'!$A$9=Display!$B$9,'Lux4-sept'!$A$75=Display!$B$11,'Lux4-sept'!$A$112=Display!$B$13),Display!$D4,)","v":0},{"$f":"IF(AND(Y$8=Display!$T$10,'Lux4-sept'!$A$8=Display!$B$7,'Lux4-sept'!$A$9=Display!$B$9,'Lux4-sept'!$A$75=Display!$B$11,'Lux4-sept'!$A$112=Display!$B$13),Display!$D4,)","v":0},{"$f":"IF(AND(Z$8=Display!$T$10,'Lux4-sept'!$A$8=Display!$B$7,'Lux4-sept'!$A$9=Display!$B$9,'Lux4-sept'!$A$75=Display!$B$11,'Lux4-sept'!$A$112=Display!$B$13),Display!$D4,)","v":0},{"$f":"IF(AND(AA$8=Display!$T$10,'Lux4-sept'!$A$8=Display!$B$7,'Lux4-sept'!$A$9=Display!$B$9,'Lux4-sept'!$A$75=Display!$B$11,'Lux4-sept'!$A$112=Display!$B$13),Display!$D4,)","v":0},{"$f":"IF(AND(AB$8=Display!$T$10,'Lux4-sept'!$A$8=Display!$B$7,'Lux4-sept'!$A$9=Display!$B$9,'Lux4-sept'!$A$75=Display!$B$11,'Lux4-sept'!$A$112=Display!$B$13),Display!$D4,)","v":0},{"$f":"IF(AND(AC$8=Display!$T$10,'Lux4-sept'!$A$8=Display!$B$7,'Lux4-sept'!$A$9=Display!$B$9,'Lux4-sept'!$A$75=Display!$B$11,'Lux4-sept'!$A$112=Display!$B$13),Display!$D4,)","v":0},{"$f":"IF(AND(AD$8=Display!$T$10,'Lux4-sept'!$A$8=Display!$B$7,'Lux4-sept'!$A$9=Display!$B$9,'Lux4-sept'!$A$75=Display!$B$11,'Lux4-sept'!$A$112=Display!$B$13),Display!$D4,)","v":0},{"$f":"IF(AND(AE$8=Display!$T$10,'Lux4-sept'!$A$8=Display!$B$7,'Lux4-sept'!$A$9=Display!$B$9,'Lux4-sept'!$A$75=Display!$B$11,'Lux4-sept'!$A$112=Display!$B$13),Display!$D4,)","v":0},{"$f":"IF(AND(AF$8=Display!$T$10,'Lux4-sept'!$A$8=Display!$B$7,'Lux4-sept'!$A$9=Display!$B$9,'Lux4-sept'!$A$75=Display!$B$11,'Lux4-sept'!$A$112=Display!$B$13),Display!$D4,)","v":0},null,null,{"$f":"((IF((SUM(B113:AF113))<>0,(SUM(B113:AF113)),0))/(IF((SUM((IF(B113<>0,3,0)),(IF(C113<>0,3,0)),(IF(D113<>0,3,0)),(IF(E113<>0,3,0)),(IF(F113<>0,3,0)),(IF(F113<>0,3,0)),(IF(F113<>0,3,0)),(IF(G113<>0,3,0)),(IF(H113<>0,3,0)),(IF(I113<>0,3,0)),(IF(J113<>0,3,0)),(IF(K113<>0,3,0)),(IF(L113<>0,3,0)),(IF(M113<>0,3,0)),(IF(N113<>0,3,0)),(IF(O113<>0,3,0)),(IF(P113<>0,3,0)),(IF(Q113<>0,3,0)),(IF(R113<>0,3,0)),(IF(S113<>0,3,0)),(IF(T113<>0,3,0)),(IF(U113<>0,3,0)),(IF(V113<>0,3,0)),(IF(W113<>0,3,0)),(IF(X113<>0,3,0)),(IF(Y113<>0,3,0)),(IF(Z113<>0,3,0)),(IF(AA113<>0,3,0)),(IF(AB113<>0,3,0)),(IF(AC113<>0,3,0)),(IF(AD113<>0,3,0)),(IF(AE113<>0,3,0)),(IF(AF113<>0,3,0))))<>0,((SUM((IF(B113<>0,3,0)),(IF(C113<>0,3,0)),(IF(D113<>0,3,0)),(IF(E113<>0,3,0)),(IF(F113<>0,3,0)),(IF(F113<>0,3,0)),(IF(F113<>0,3,0)),(IF(G113<>0,3,0)),(IF(H113<>0,3,0)),(IF(I113<>0,3,0)),(IF(J113<>0,3,0)),(IF(K113<>0,3,0)),(IF(L113<>0,3,0)),(IF(M113<>0,3,0)),(IF(N113<>0,3,0)),(IF(O113<>0,3,0)),(IF(P113<>0,3,0)),(IF(Q113<>0,3,0)),(IF(R113<>0,3,0)),(IF(S113<>0,3,0)),(IF(T113<>0,3,0)),(IF(U113<>0,3,0)),(IF(V113<>0,3,0)),(IF(W113<>0,3,0)),(IF(X113<>0,3,0)),(IF(Y113<>0,3,0)),(IF(Z113<>0,3,0)),(IF(AA113<>0,3,0)),(IF(AB113<>0,3,0)),(IF(AC113<>0,3,0)),(IF(AD113<>0,3,0)),(IF(AE113<>0,3,0)),(IF(AF113<>0,3,0))))),1)))","v":0}]
["Poubelles vidées",{"$f":"IF(AND(B$8=Display!$T$10,'Lux4-sept'!$A$8=Display!$B$7,'Lux4-sept'!$A$9=Display!$B$9,'Lux4-sept'!$A$75=Display!$B$11,'Lux4-sept'!$A$112=Display!$B$13),Display!$D5,)","v":0},{"$f":"IF(AND(C$8=Display!$T$10,'Lux4-sept'!$A$8=Display!$B$7,'Lux4-sept'!$A$9=Display!$B$9,'Lux4-sept'!$A$75=Display!$B$11,'Lux4-sept'!$A$112=Display!$B$13),Display!$D5,)","v":0},{"$f":"IF(AND(D$8=Display!$T$10,'Lux4-sept'!$A$8=Display!$B$7,'Lux4-sept'!$A$9=Display!$B$9,'Lux4-sept'!$A$75=Display!$B$11,'Lux4-sept'!$A$112=Display!$B$13),Display!$D5,)","v":0},{"$f":"IF(AND(E$8=Display!$T$10,'Lux4-sept'!$A$8=Display!$B$7,'Lux4-sept'!$A$9=Display!$B$9,'Lux4-sept'!$A$75=Display!$B$11,'Lux4-sept'!$A$112=Display!$B$13),Display!$D5,)","v":0},{"$f":"IF(AND(F$8=Display!$T$10,'Lux4-sept'!$A$8=Display!$B$7,'Lux4-sept'!$A$9=Display!$B$9,'Lux4-sept'!$A$75=Display!$B$11,'Lux4-sept'!$A$112=Display!$B$13),Display!$D5,)","v":0},{"$f":"IF(AND(G$8=Display!$T$10,'Lux4-sept'!$A$8=Display!$B$7,'Lux4-sept'!$A$9=Display!$B$9,'Lux4-sept'!$A$75=Display!$B$11,'Lux4-sept'!$A$112=Display!$B$13),Display!$D5,)","v":0},{"$f":"IF(AND(H$8=Display!$T$10,'Lux4-sept'!$A$8=Display!$B$7,'Lux4-sept'!$A$9=Display!$B$9,'Lux4-sept'!$A$75=Display!$B$11,'Lux4-sept'!$A$112=Display!$B$13),Display!$D5,)","v":0},{"$f":"IF(AND(I$8=Display!$T$10,'Lux4-sept'!$A$8=Display!$B$7,'Lux4-sept'!$A$9=Display!$B$9,'Lux4-sept'!$A$75=Display!$B$11,'Lux4-sept'!$A$112=Display!$B$13),Display!$D5,)","v":0},{"$f":"IF(AND(J$8=Display!$T$10,'Lux4-sept'!$A$8=Display!$B$7,'Lux4-sept'!$A$9=Display!$B$9,'Lux4-sept'!$A$75=Display!$B$11,'Lux4-sept'!$A$112=Display!$B$13),Display!$D5,)","v":0},{"$f":"IF(AND(K$8=Display!$T$10,'Lux4-sept'!$A$8=Display!$B$7,'Lux4-sept'!$A$9=Display!$B$9,'Lux4-sept'!$A$75=Display!$B$11,'Lux4-sept'!$A$112=Display!$B$13),Display!$D5,)","v":0},{"$f":"IF(AND(L$8=Display!$T$10,'Lux4-sept'!$A$8=Display!$B$7,'Lux4-sept'!$A$9=Display!$B$9,'Lux4-sept'!$A$75=Display!$B$11,'Lux4-sept'!$A$112=Display!$B$13),Display!$D5,)","v":0},{"$f":"IF(AND(M$8=Display!$T$10,'Lux4-sept'!$A$8=Display!$B$7,'Lux4-sept'!$A$9=Display!$B$9,'Lux4-sept'!$A$75=Display!$B$11,'Lux4-sept'!$A$112=Display!$B$13),Display!$D5,)","v":0},{"$f":"IF(AND(N$8=Display!$T$10,'Lux4-sept'!$A$8=Display!$B$7,'Lux4-sept'!$A$9=Display!$B$9,'Lux4-sept'!$A$75=Display!$B$11,'Lux4-sept'!$A$112=Display!$B$13),Display!$D5,)","v":0},{"$f":"IF(AND(O$8=Display!$T$10,'Lux4-sept'!$A$8=Display!$B$7,'Lux4-sept'!$A$9=Display!$B$9,'Lux4-sept'!$A$75=Display!$B$11,'Lux4-sept'!$A$112=Display!$B$13),Display!$D5,)","v":0},{"$f":"IF(AND(P$8=Display!$T$10,'Lux4-sept'!$A$8=Display!$B$7,'Lux4-sept'!$A$9=Display!$B$9,'Lux4-sept'!$A$75=Display!$B$11,'Lux4-sept'!$A$112=Display!$B$13),Display!$D5,)","v":0},{"$f":"IF(AND(Q$8=Display!$T$10,'Lux4-sept'!$A$8=Display!$B$7,'Lux4-sept'!$A$9=Display!$B$9,'Lux4-sept'!$A$75=Display!$B$11,'Lux4-sept'!$A$112=Display!$B$13),Display!$D5,)","v":0},{"$f":"IF(AND(R$8=Display!$T$10,'Lux4-sept'!$A$8=Display!$B$7,'Lux4-sept'!$A$9=Display!$B$9,'Lux4-sept'!$A$75=Display!$B$11,'Lux4-sept'!$A$112=Display!$B$13),Display!$D5,)","v":0},{"$f":"IF(AND(S$8=Display!$T$10,'Lux4-sept'!$A$8=Display!$B$7,'Lux4-sept'!$A$9=Display!$B$9,'Lux4-sept'!$A$75=Display!$B$11,'Lux4-sept'!$A$112=Display!$B$13),Display!$D5,)","v":0},{"$f":"IF(AND(T$8=Display!$T$10,'Lux4-sept'!$A$8=Display!$B$7,'Lux4-sept'!$A$9=Display!$B$9,'Lux4-sept'!$A$75=Display!$B$11,'Lux4-sept'!$A$112=Display!$B$13),Display!$D5,)","v":0},{"$f":"IF(AND(U$8=Display!$T$10,'Lux4-sept'!$A$8=Display!$B$7,'Lux4-sept'!$A$9=Display!$B$9,'Lux4-sept'!$A$75=Display!$B$11,'Lux4-sept'!$A$112=Display!$B$13),Display!$D5,)","v":0},{"$f":"IF(AND(V$8=Display!$T$10,'Lux4-sept'!$A$8=Display!$B$7,'Lux4-sept'!$A$9=Display!$B$9,'Lux4-sept'!$A$75=Display!$B$11,'Lux4-sept'!$A$112=Display!$B$13),Display!$D5,)","v":0},{"$f":"IF(AND(W$8=Display!$T$10,'Lux4-sept'!$A$8=Display!$B$7,'Lux4-sept'!$A$9=Display!$B$9,'Lux4-sept'!$A$75=Display!$B$11,'Lux4-sept'!$A$112=Display!$B$13),Display!$D5,)","v":0},{"$f":"IF(AND(X$8=Display!$T$10,'Lux4-sept'!$A$8=Display!$B$7,'Lux4-sept'!$A$9=Display!$B$9,'Lux4-sept'!$A$75=Display!$B$11,'Lux4-sept'!$A$112=Display!$B$13),Display!$D5,)","v":0},{"$f":"IF(AND(Y$8=Display!$T$10,'Lux4-sept'!$A$8=Display!$B$7,'Lux4-sept'!$A$9=Display!$B$9,'Lux4-sept'!$A$75=Display!$B$11,'Lux4-sept'!$A$112=Display!$B$13),Display!$D5,)","v":0},{"$f":"IF(AND(Z$8=Display!$T$10,'Lux4-sept'!$A$8=Display!$B$7,'Lux4-sept'!$A$9=Display!$B$9,'Lux4-sept'!$A$75=Display!$B$11,'Lux4-sept'!$A$112=Display!$B$13),Display!$D5,)","v":0},{"$f":"IF(AND(AA$8=Display!$T$10,'Lux4-sept'!$A$8=Display!$B$7,'Lux4-sept'!$A$9=Display!$B$9,'Lux4-sept'!$A$75=Display!$B$11,'Lux4-sept'!$A$112=Display!$B$13),Display!$D5,)","v":0},{"$f":"IF(AND(AB$8=Display!$T$10,'Lux4-sept'!$A$8=Display!$B$7,'Lux4-sept'!$A$9=Display!$B$9,'Lux4-sept'!$A$75=Display!$B$11,'Lux4-sept'!$A$112=Display!$B$13),Display!$D5,)","v":0},{"$f":"IF(AND(AC$8=Display!$T$10,'Lux4-sept'!$A$8=Display!$B$7,'Lux4-sept'!$A$9=Display!$B$9,'Lux4-sept'!$A$75=Display!$B$11,'Lux4-sept'!$A$112=Display!$B$13),Display!$D5,)","v":0},{"$f":"IF(AND(AD$8=Display!$T$10,'Lux4-sept'!$A$8=Display!$B$7,'Lux4-sept'!$A$9=Display!$B$9,'Lux4-sept'!$A$75=Display!$B$11,'Lux4-sept'!$A$112=Display!$B$13),Display!$D5,)","v":0},{"$f":"IF(AND(AE$8=Display!$T$10,'Lux4-sept'!$A$8=Display!$B$7,'Lux4-sept'!$A$9=Display!$B$9,'Lux4-sept'!$A$75=Display!$B$11,'Lux4-sept'!$A$112=Display!$B$13),Display!$D5,)","v":0},{"$f":"IF(AND(AF$8=Display!$T$10,'Lux4-sept'!$A$8=Display!$B$7,'Lux4-sept'!$A$9=Display!$B$9,'Lux4-sept'!$A$75=Display!$B$11,'Lux4-sept'!$A$112=Display!$B$13),Display!$D5,)","v":0},null,null,{"$f":"((IF((SUM(B114:AF114))<>0,(SUM(B114:AF114)),0))/(IF((SUM((IF(B114<>0,3,0)),(IF(C114<>0,3,0)),(IF(D114<>0,3,0)),(IF(E114<>0,3,0)),(IF(F114<>0,3,0)),(IF(F114<>0,3,0)),(IF(F114<>0,3,0)),(IF(G114<>0,3,0)),(IF(H114<>0,3,0)),(IF(I114<>0,3,0)),(IF(J114<>0,3,0)),(IF(K114<>0,3,0)),(IF(L114<>0,3,0)),(IF(M114<>0,3,0)),(IF(N114<>0,3,0)),(IF(O114<>0,3,0)),(IF(P114<>0,3,0)),(IF(Q114<>0,3,0)),(IF(R114<>0,3,0)),(IF(S114<>0,3,0)),(IF(T114<>0,3,0)),(IF(U114<>0,3,0)),(IF(V114<>0,3,0)),(IF(W114<>0,3,0)),(IF(X114<>0,3,0)),(IF(Y114<>0,3,0)),(IF(Z114<>0,3,0)),(IF(AA114<>0,3,0)),(IF(AB114<>0,3,0)),(IF(AC114<>0,3,0)),(IF(AD114<>0,3,0)),(IF(AE114<>0,3,0)),(IF(AF114<>0,3,0))))<>0,((SUM((IF(B114<>0,3,0)),(IF(C114<>0,3,0)),(IF(D114<>0,3,0)),(IF(E114<>0,3,0)),(IF(F114<>0,3,0)),(IF(F114<>0,3,0)),(IF(F114<>0,3,0)),(IF(G114<>0,3,0)),(IF(H114<>0,3,0)),(IF(I114<>0,3,0)),(IF(J114<>0,3,0)),(IF(K114<>0,3,0)),(IF(L114<>0,3,0)),(IF(M114<>0,3,0)),(IF(N114<>0,3,0)),(IF(O114<>0,3,0)),(IF(P114<>0,3,0)),(IF(Q114<>0,3,0)),(IF(R114<>0,3,0)),(IF(S114<>0,3,0)),(IF(T114<>0,3,0)),(IF(U114<>0,3,0)),(IF(V114<>0,3,0)),(IF(W114<>0,3,0)),(IF(X114<>0,3,0)),(IF(Y114<>0,3,0)),(IF(Z114<>0,3,0)),(IF(AA114<>0,3,0)),(IF(AB114<>0,3,0)),(IF(AC114<>0,3,0)),(IF(AD114<>0,3,0)),(IF(AE114<>0,3,0)),(IF(AF114<>0,3,0))))),1)))","v":0}]
["Tables nettoyées",{"$f":"IF(AND(B$8=Display!$T$10,'Lux4-sept'!$A$8=Display!$B$7,'Lux4-sept'!$A$9=Display!$B$9,'Lux4-sept'!$A$75=Display!$B$11,'Lux4-sept'!$A$112=Display!$B$13),Display!$D6,)","v":0},{"$f":"IF(AND(C$8=Display!$T$10,'Lux4-sept'!$A$8=Display!$B$7,'Lux4-sept'!$A$9=Display!$B$9,'Lux4-sept'!$A$75=Display!$B$11,'Lux4-sept'!$A$112=Display!$B$13),Display!$D6,)","v":0},{"$f":"IF(AND(D$8=Display!$T$10,'Lux4-sept'!$A$8=Display!$B$7,'Lux4-sept'!$A$9=Display!$B$9,'Lux4-sept'!$A$75=Display!$B$11,'Lux4-sept'!$A$112=Display!$B$13),Display!$D6,)","v":0},{"$f":"IF(AND(E$8=Display!$T$10,'Lux4-sept'!$A$8=Display!$B$7,'Lux4-sept'!$A$9=Display!$B$9,'Lux4-sept'!$A$75=Display!$B$11,'Lux4-sept'!$A$112=Display!$B$13),Display!$D6,)","v":0},{"$f":"IF(AND(F$8=Display!$T$10,'Lux4-sept'!$A$8=Display!$B$7,'Lux4-sept'!$A$9=Display!$B$9,'Lux4-sept'!$A$75=Display!$B$11,'Lux4-sept'!$A$112=Display!$B$13),Display!$D6,)","v":0},{"$f":"IF(AND(G$8=Display!$T$10,'Lux4-sept'!$A$8=Display!$B$7,'Lux4-sept'!$A$9=Display!$B$9,'Lux4-sept'!$A$75=Display!$B$11,'Lux4-sept'!$A$112=Display!$B$13),Display!$D6,)","v":0},{"$f":"IF(AND(H$8=Display!$T$10,'Lux4-sept'!$A$8=Display!$B$7,'Lux4-sept'!$A$9=Display!$B$9,'Lux4-sept'!$A$75=Display!$B$11,'Lux4-sept'!$A$112=Display!$B$13),Display!$D6,)","v":0},{"$f":"IF(AND(I$8=Display!$T$10,'Lux4-sept'!$A$8=Display!$B$7,'Lux4-sept'!$A$9=Display!$B$9,'Lux4-sept'!$A$75=Display!$B$11,'Lux4-sept'!$A$112=Display!$B$13),Display!$D6,)","v":0},{"$f":"IF(AND(J$8=Display!$T$10,'Lux4-sept'!$A$8=Display!$B$7,'Lux4-sept'!$A$9=Display!$B$9,'Lux4-sept'!$A$75=Display!$B$11,'Lux4-sept'!$A$112=Display!$B$13),Display!$D6,)","v":0},{"$f":"IF(AND(K$8=Display!$T$10,'Lux4-sept'!$A$8=Display!$B$7,'Lux4-sept'!$A$9=Display!$B$9,'Lux4-sept'!$A$75=Display!$B$11,'Lux4-sept'!$A$112=Display!$B$13),Display!$D6,)","v":0},{"$f":"IF(AND(L$8=Display!$T$10,'Lux4-sept'!$A$8=Display!$B$7,'Lux4-sept'!$A$9=Display!$B$9,'Lux4-sept'!$A$75=Display!$B$11,'Lux4-sept'!$A$112=Display!$B$13),Display!$D6,)","v":0},{"$f":"IF(AND(M$8=Display!$T$10,'Lux4-sept'!$A$8=Display!$B$7,'Lux4-sept'!$A$9=Display!$B$9,'Lux4-sept'!$A$75=Display!$B$11,'Lux4-sept'!$A$112=Display!$B$13),Display!$D6,)","v":0},{"$f":"IF(AND(N$8=Display!$T$10,'Lux4-sept'!$A$8=Display!$B$7,'Lux4-sept'!$A$9=Display!$B$9,'Lux4-sept'!$A$75=Display!$B$11,'Lux4-sept'!$A$112=Display!$B$13),Display!$D6,)","v":0},{"$f":"IF(AND(O$8=Display!$T$10,'Lux4-sept'!$A$8=Display!$B$7,'Lux4-sept'!$A$9=Display!$B$9,'Lux4-sept'!$A$75=Display!$B$11,'Lux4-sept'!$A$112=Display!$B$13),Display!$D6,)","v":0},{"$f":"IF(AND(P$8=Display!$T$10,'Lux4-sept'!$A$8=Display!$B$7,'Lux4-sept'!$A$9=Display!$B$9,'Lux4-sept'!$A$75=Display!$B$11,'Lux4-sept'!$A$112=Display!$B$13),Display!$D6,)","v":0},{"$f":"IF(AND(Q$8=Display!$T$10,'Lux4-sept'!$A$8=Display!$B$7,'Lux4-sept'!$A$9=Display!$B$9,'Lux4-sept'!$A$75=Display!$B$11,'Lux4-sept'!$A$112=Display!$B$13),Display!$D6,)","v":0},{"$f":"IF(AND(R$8=Display!$T$10,'Lux4-sept'!$A$8=Display!$B$7,'Lux4-sept'!$A$9=Display!$B$9,'Lux4-sept'!$A$75=Display!$B$11,'Lux4-sept'!$A$112=Display!$B$13),Display!$D6,)","v":0},{"$f":"IF(AND(S$8=Display!$T$10,'Lux4-sept'!$A$8=Display!$B$7,'Lux4-sept'!$A$9=Display!$B$9,'Lux4-sept'!$A$75=Display!$B$11,'Lux4-sept'!$A$112=Display!$B$13),Display!$D6,)","v":0},{"$f":"IF(AND(T$8=Display!$T$10,'Lux4-sept'!$A$8=Display!$B$7,'Lux4-sept'!$A$9=Display!$B$9,'Lux4-sept'!$A$75=Display!$B$11,'Lux4-sept'!$A$112=Display!$B$13),Display!$D6,)","v":0},{"$f":"IF(AND(U$8=Display!$T$10,'Lux4-sept'!$A$8=Display!$B$7,'Lux4-sept'!$A$9=Display!$B$9,'Lux4-sept'!$A$75=Display!$B$11,'Lux4-sept'!$A$112=Display!$B$13),Display!$D6,)","v":0},{"$f":"IF(AND(V$8=Display!$T$10,'Lux4-sept'!$A$8=Display!$B$7,'Lux4-sept'!$A$9=Display!$B$9,'Lux4-sept'!$A$75=Display!$B$11,'Lux4-sept'!$A$112=Display!$B$13),Display!$D6,)","v":0},{"$f":"IF(AND(W$8=Display!$T$10,'Lux4-sept'!$A$8=Display!$B$7,'Lux4-sept'!$A$9=Display!$B$9,'Lux4-sept'!$A$75=Display!$B$11,'Lux4-sept'!$A$112=Display!$B$13),Display!$D6,)","v":0},{"$f":"IF(AND(X$8=Display!$T$10,'Lux4-sept'!$A$8=Display!$B$7,'Lux4-sept'!$A$9=Display!$B$9,'Lux4-sept'!$A$75=Display!$B$11,'Lux4-sept'!$A$112=Display!$B$13),Display!$D6,)","v":0},{"$f":"IF(AND(Y$8=Display!$T$10,'Lux4-sept'!$A$8=Display!$B$7,'Lux4-sept'!$A$9=Display!$B$9,'Lux4-sept'!$A$75=Display!$B$11,'Lux4-sept'!$A$112=Display!$B$13),Display!$D6,)","v":0},{"$f":"IF(AND(Z$8=Display!$T$10,'Lux4-sept'!$A$8=Display!$B$7,'Lux4-sept'!$A$9=Display!$B$9,'Lux4-sept'!$A$75=Display!$B$11,'Lux4-sept'!$A$112=Display!$B$13),Display!$D6,)","v":0},{"$f":"IF(AND(AA$8=Display!$T$10,'Lux4-sept'!$A$8=Display!$B$7,'Lux4-sept'!$A$9=Display!$B$9,'Lux4-sept'!$A$75=Display!$B$11,'Lux4-sept'!$A$112=Display!$B$13),Display!$D6,)","v":0},{"$f":"IF(AND(AB$8=Display!$T$10,'Lux4-sept'!$A$8=Display!$B$7,'Lux4-sept'!$A$9=Display!$B$9,'Lux4-sept'!$A$75=Display!$B$11,'Lux4-sept'!$A$112=Display!$B$13),Display!$D6,)","v":0},{"$f":"IF(AND(AC$8=Display!$T$10,'Lux4-sept'!$A$8=Display!$B$7,'Lux4-sept'!$A$9=Display!$B$9,'Lux4-sept'!$A$75=Display!$B$11,'Lux4-sept'!$A$112=Display!$B$13),Display!$D6,)","v":0},{"$f":"IF(AND(AD$8=Display!$T$10,'Lux4-sept'!$A$8=Display!$B$7,'Lux4-sept'!$A$9=Display!$B$9,'Lux4-sept'!$A$75=Display!$B$11,'Lux4-sept'!$A$112=Display!$B$13),Display!$D6,)","v":0},{"$f":"IF(AND(AE$8=Display!$T$10,'Lux4-sept'!$A$8=Display!$B$7,'Lux4-sept'!$A$9=Display!$B$9,'Lux4-sept'!$A$75=Display!$B$11,'Lux4-sept'!$A$112=Display!$B$13),Display!$D6,)","v":0},{"$f":"IF(AND(AF$8=Display!$T$10,'Lux4-sept'!$A$8=Display!$B$7,'Lux4-sept'!$A$9=Display!$B$9,'Lux4-sept'!$A$75=Display!$B$11,'Lux4-sept'!$A$112=Display!$B$13),Display!$D6,)","v":0},null,null,0]
["Tableaux effacés",{"$f":"IF(AND(B$8=Display!$T$10,'Lux4-sept'!$A$8=Display!$B$7,'Lux4-sept'!$A$9=Display!$B$9,'Lux4-sept'!$A$75=Display!$B$11,'Lux4-sept'!$A$112=Display!$B$13),Display!$D7,)","v":0},{"$f":"IF(AND(C$8=Display!$T$10,'Lux4-sept'!$A$8=Display!$B$7,'Lux4-sept'!$A$9=Display!$B$9,'Lux4-sept'!$A$75=Display!$B$11,'Lux4-sept'!$A$112=Display!$B$13),Display!$D7,)","v":0},{"$f":"IF(AND(D$8=Display!$T$10,'Lux4-sept'!$A$8=Display!$B$7,'Lux4-sept'!$A$9=Display!$B$9,'Lux4-sept'!$A$75=Display!$B$11,'Lux4-sept'!$A$112=Display!$B$13),Display!$D7,)","v":0},{"$f":"IF(AND(E$8=Display!$T$10,'Lux4-sept'!$A$8=Display!$B$7,'Lux4-sept'!$A$9=Display!$B$9,'Lux4-sept'!$A$75=Display!$B$11,'Lux4-sept'!$A$112=Display!$B$13),Display!$D7,)","v":0},{"$f":"IF(AND(F$8=Display!$T$10,'Lux4-sept'!$A$8=Display!$B$7,'Lux4-sept'!$A$9=Display!$B$9,'Lux4-sept'!$A$75=Display!$B$11,'Lux4-sept'!$A$112=Display!$B$13),Display!$D7,)","v":0},{"$f":"IF(AND(G$8=Display!$T$10,'Lux4-sept'!$A$8=Display!$B$7,'Lux4-sept'!$A$9=Display!$B$9,'Lux4-sept'!$A$75=Display!$B$11,'Lux4-sept'!$A$112=Display!$B$13),Display!$D7,)","v":0},{"$f":"IF(AND(H$8=Display!$T$10,'Lux4-sept'!$A$8=Display!$B$7,'Lux4-sept'!$A$9=Display!$B$9,'Lux4-sept'!$A$75=Display!$B$11,'Lux4-sept'!$A$112=Display!$B$13),Display!$D7,)","v":0},{"$f":"IF(AND(I$8=Display!$T$10,'Lux4-sept'!$A$8=Display!$B$7,'Lux4-sept'!$A$9=Display!$B$9,'Lux4-sept'!$A$75=Display!$B$11,'Lux4-sept'!$A$112=Display!$B$13),Display!$D7,)","v":0},{"$f":"IF(AND(J$8=Display!$T$10,'Lux4-sept'!$A$8=Display!$B$7,'Lux4-sept'!$A$9=Display!$B$9,'Lux4-sept'!$A$75=Display!$B$11,'Lux4-sept'!$A$112=Display!$B$13),Display!$D7,)","v":0},{"$f":"IF(AND(K$8=Display!$T$10,'Lux4-sept'!$A$8=Display!$B$7,'Lux4-sept'!$A$9=Display!$B$9,'Lux4-sept'!$A$75=Display!$B$11,'Lux4-sept'!$A$112=Display!$B$13),Display!$D7,)","v":0},{"$f":"IF(AND(L$8=Display!$T$10,'Lux4-sept'!$A$8=Display!$B$7,'Lux4-sept'!$A$9=Display!$B$9,'Lux4-sept'!$A$75=Display!$B$11,'Lux4-sept'!$A$112=Display!$B$13),Display!$D7,)","v":0},{"$f":"IF(AND(M$8=Display!$T$10,'Lux4-sept'!$A$8=Display!$B$7,'Lux4-sept'!$A$9=Display!$B$9,'Lux4-sept'!$A$75=Display!$B$11,'Lux4-sept'!$A$112=Display!$B$13),Display!$D7,)","v":0},{"$f":"IF(AND(N$8=Display!$T$10,'Lux4-sept'!$A$8=Display!$B$7,'Lux4-sept'!$A$9=Display!$B$9,'Lux4-sept'!$A$75=Display!$B$11,'Lux4-sept'!$A$112=Display!$B$13),Display!$D7,)","v":0},{"$f":"IF(AND(O$8=Display!$T$10,'Lux4-sept'!$A$8=Display!$B$7,'Lux4-sept'!$A$9=Display!$B$9,'Lux4-sept'!$A$75=Display!$B$11,'Lux4-sept'!$A$112=Display!$B$13),Display!$D7,)","v":0},{"$f":"IF(AND(P$8=Display!$T$10,'Lux4-sept'!$A$8=Display!$B$7,'Lux4-sept'!$A$9=Display!$B$9,'Lux4-sept'!$A$75=Display!$B$11,'Lux4-sept'!$A$112=Display!$B$13),Display!$D7,)","v":0},{"$f":"IF(AND(Q$8=Display!$T$10,'Lux4-sept'!$A$8=Display!$B$7,'Lux4-sept'!$A$9=Display!$B$9,'Lux4-sept'!$A$75=Display!$B$11,'Lux4-sept'!$A$112=Display!$B$13),Display!$D7,)","v":0},{"$f":"IF(AND(R$8=Display!$T$10,'Lux4-sept'!$A$8=Display!$B$7,'Lux4-sept'!$A$9=Display!$B$9,'Lux4-sept'!$A$75=Display!$B$11,'Lux4-sept'!$A$112=Display!$B$13),Display!$D7,)","v":0},{"$f":"IF(AND(S$8=Display!$T$10,'Lux4-sept'!$A$8=Display!$B$7,'Lux4-sept'!$A$9=Display!$B$9,'Lux4-sept'!$A$75=Display!$B$11,'Lux4-sept'!$A$112=Display!$B$13),Display!$D7,)","v":0},{"$f":"IF(AND(T$8=Display!$T$10,'Lux4-sept'!$A$8=Display!$B$7,'Lux4-sept'!$A$9=Display!$B$9,'Lux4-sept'!$A$75=Display!$B$11,'Lux4-sept'!$A$112=Display!$B$13),Display!$D7,)","v":0},{"$f":"IF(AND(U$8=Display!$T$10,'Lux4-sept'!$A$8=Display!$B$7,'Lux4-sept'!$A$9=Display!$B$9,'Lux4-sept'!$A$75=Display!$B$11,'Lux4-sept'!$A$112=Display!$B$13),Display!$D7,)","v":0},{"$f":"IF(AND(V$8=Display!$T$10,'Lux4-sept'!$A$8=Display!$B$7,'Lux4-sept'!$A$9=Display!$B$9,'Lux4-sept'!$A$75=Display!$B$11,'Lux4-sept'!$A$112=Display!$B$13),Display!$D7,)","v":0},{"$f":"IF(AND(W$8=Display!$T$10,'Lux4-sept'!$A$8=Display!$B$7,'Lux4-sept'!$A$9=Display!$B$9,'Lux4-sept'!$A$75=Display!$B$11,'Lux4-sept'!$A$112=Display!$B$13),Display!$D7,)","v":0},{"$f":"IF(AND(X$8=Display!$T$10,'Lux4-sept'!$A$8=Display!$B$7,'Lux4-sept'!$A$9=Display!$B$9,'Lux4-sept'!$A$75=Display!$B$11,'Lux4-sept'!$A$112=Display!$B$13),Display!$D7,)","v":0},{"$f":"IF(AND(Y$8=Display!$T$10,'Lux4-sept'!$A$8=Display!$B$7,'Lux4-sept'!$A$9=Display!$B$9,'Lux4-sept'!$A$75=Display!$B$11,'Lux4-sept'!$A$112=Display!$B$13),Display!$D7,)","v":0},{"$f":"IF(AND(Z$8=Display!$T$10,'Lux4-sept'!$A$8=Display!$B$7,'Lux4-sept'!$A$9=Display!$B$9,'Lux4-sept'!$A$75=Display!$B$11,'Lux4-sept'!$A$112=Display!$B$13),Display!$D7,)","v":0},{"$f":"IF(AND(AA$8=Display!$T$10,'Lux4-sept'!$A$8=Display!$B$7,'Lux4-sept'!$A$9=Display!$B$9,'Lux4-sept'!$A$75=Display!$B$11,'Lux4-sept'!$A$112=Display!$B$13),Display!$D7,)","v":0},{"$f":"IF(AND(AB$8=Display!$T$10,'Lux4-sept'!$A$8=Display!$B$7,'Lux4-sept'!$A$9=Display!$B$9,'Lux4-sept'!$A$75=Display!$B$11,'Lux4-sept'!$A$112=Display!$B$13),Display!$D7,)","v":0},{"$f":"IF(AND(AC$8=Display!$T$10,'Lux4-sept'!$A$8=Display!$B$7,'Lux4-sept'!$A$9=Display!$B$9,'Lux4-sept'!$A$75=Display!$B$11,'Lux4-sept'!$A$112=Display!$B$13),Display!$D7,)","v":0},{"$f":"IF(AND(AD$8=Display!$T$10,'Lux4-sept'!$A$8=Display!$B$7,'Lux4-sept'!$A$9=Display!$B$9,'Lux4-sept'!$A$75=Display!$B$11,'Lux4-sept'!$A$112=Display!$B$13),Display!$D7,)","v":0},{"$f":"IF(AND(AE$8=Display!$T$10,'Lux4-sept'!$A$8=Display!$B$7,'Lux4-sept'!$A$9=Display!$B$9,'Lux4-sept'!$A$75=Display!$B$11,'Lux4-sept'!$A$112=Display!$B$13),Display!$D7,)","v":0},{"$f":"IF(AND(AF$8=Display!$T$10,'Lux4-sept'!$A$8=Display!$B$7,'Lux4-sept'!$A$9=Display!$B$9,'Lux4-sept'!$A$75=Display!$B$11,'Lux4-sept'!$A$112=Display!$B$13),Display!$D7,)","v":0},null,null,0]
["Salles de réunion aspirées",{"$f":"IF(AND(B$8=Display!$T$10,'Lux4-sept'!$A$8=Display!$B$7,'Lux4-sept'!$A$9=Display!$B$9,'Lux4-sept'!$A$75=Display!$B$11,'Lux4-sept'!$A$112=Display!$B$13),Display!$D8,)","v":0},{"$f":"IF(AND(C$8=Display!$T$10,'Lux4-sept'!$A$8=Display!$B$7,'Lux4-sept'!$A$9=Display!$B$9,'Lux4-sept'!$A$75=Display!$B$11,'Lux4-sept'!$A$112=Display!$B$13),Display!$D8,)","v":0},{"$f":"IF(AND(D$8=Display!$T$10,'Lux4-sept'!$A$8=Display!$B$7,'Lux4-sept'!$A$9=Display!$B$9,'Lux4-sept'!$A$75=Display!$B$11,'Lux4-sept'!$A$112=Display!$B$13),Display!$D8,)","v":0},{"$f":"IF(AND(E$8=Display!$T$10,'Lux4-sept'!$A$8=Display!$B$7,'Lux4-sept'!$A$9=Display!$B$9,'Lux4-sept'!$A$75=Display!$B$11,'Lux4-sept'!$A$112=Display!$B$13),Display!$D8,)","v":0},{"$f":"IF(AND(F$8=Display!$T$10,'Lux4-sept'!$A$8=Display!$B$7,'Lux4-sept'!$A$9=Display!$B$9,'Lux4-sept'!$A$75=Display!$B$11,'Lux4-sept'!$A$112=Display!$B$13),Display!$D8,)","v":0},{"$f":"IF(AND(G$8=Display!$T$10,'Lux4-sept'!$A$8=Display!$B$7,'Lux4-sept'!$A$9=Display!$B$9,'Lux4-sept'!$A$75=Display!$B$11,'Lux4-sept'!$A$112=Display!$B$13),Display!$D8,)","v":0},{"$f":"IF(AND(H$8=Display!$T$10,'Lux4-sept'!$A$8=Display!$B$7,'Lux4-sept'!$A$9=Display!$B$9,'Lux4-sept'!$A$75=Display!$B$11,'Lux4-sept'!$A$112=Display!$B$13),Display!$D8,)","v":0},{"$f":"IF(AND(I$8=Display!$T$10,'Lux4-sept'!$A$8=Display!$B$7,'Lux4-sept'!$A$9=Display!$B$9,'Lux4-sept'!$A$75=Display!$B$11,'Lux4-sept'!$A$112=Display!$B$13),Display!$D8,)","v":0},{"$f":"IF(AND(J$8=Display!$T$10,'Lux4-sept'!$A$8=Display!$B$7,'Lux4-sept'!$A$9=Display!$B$9,'Lux4-sept'!$A$75=Display!$B$11,'Lux4-sept'!$A$112=Display!$B$13),Display!$D8,)","v":0},{"$f":"IF(AND(K$8=Display!$T$10,'Lux4-sept'!$A$8=Display!$B$7,'Lux4-sept'!$A$9=Display!$B$9,'Lux4-sept'!$A$75=Display!$B$11,'Lux4-sept'!$A$112=Display!$B$13),Display!$D8,)","v":0},{"$f":"IF(AND(L$8=Display!$T$10,'Lux4-sept'!$A$8=Display!$B$7,'Lux4-sept'!$A$9=Display!$B$9,'Lux4-sept'!$A$75=Display!$B$11,'Lux4-sept'!$A$112=Display!$B$13),Display!$D8,)","v":0},{"$f":"IF(AND(M$8=Display!$T$10,'Lux4-sept'!$A$8=Display!$B$7,'Lux4-sept'!$A$9=Display!$B$9,'Lux4-sept'!$A$75=Display!$B$11,'Lux4-sept'!$A$112=Display!$B$13),Display!$D8,)","v":0},{"$f":"IF(AND(N$8=Display!$T$10,'Lux4-sept'!$A$8=Display!$B$7,'Lux4-sept'!$A$9=Display!$B$9,'Lux4-sept'!$A$75=Display!$B$11,'Lux4-sept'!$A$112=Display!$B$13),Display!$D8,)","v":0},{"$f":"IF(AND(O$8=Display!$T$10,'Lux4-sept'!$A$8=Display!$B$7,'Lux4-sept'!$A$9=Display!$B$9,'Lux4-sept'!$A$75=Display!$B$11,'Lux4-sept'!$A$112=Display!$B$13),Display!$D8,)","v":0},{"$f":"IF(AND(P$8=Display!$T$10,'Lux4-sept'!$A$8=Display!$B$7,'Lux4-sept'!$A$9=Display!$B$9,'Lux4-sept'!$A$75=Display!$B$11,'Lux4-sept'!$A$112=Display!$B$13),Display!$D8,)","v":0},{"$f":"IF(AND(Q$8=Display!$T$10,'Lux4-sept'!$A$8=Display!$B$7,'Lux4-sept'!$A$9=Display!$B$9,'Lux4-sept'!$A$75=Display!$B$11,'Lux4-sept'!$A$112=Display!$B$13),Display!$D8,)","v":0},{"$f":"IF(AND(R$8=Display!$T$10,'Lux4-sept'!$A$8=Display!$B$7,'Lux4-sept'!$A$9=Display!$B$9,'Lux4-sept'!$A$75=Display!$B$11,'Lux4-sept'!$A$112=Display!$B$13),Display!$D8,)","v":0},{"$f":"IF(AND(S$8=Display!$T$10,'Lux4-sept'!$A$8=Display!$B$7,'Lux4-sept'!$A$9=Display!$B$9,'Lux4-sept'!$A$75=Display!$B$11,'Lux4-sept'!$A$112=Display!$B$13),Display!$D8,)","v":0},{"$f":"IF(AND(T$8=Display!$T$10,'Lux4-sept'!$A$8=Display!$B$7,'Lux4-sept'!$A$9=Display!$B$9,'Lux4-sept'!$A$75=Display!$B$11,'Lux4-sept'!$A$112=Display!$B$13),Display!$D8,)","v":0},{"$f":"IF(AND(U$8=Display!$T$10,'Lux4-sept'!$A$8=Display!$B$7,'Lux4-sept'!$A$9=Display!$B$9,'Lux4-sept'!$A$75=Display!$B$11,'Lux4-sept'!$A$112=Display!$B$13),Display!$D8,)","v":0},{"$f":"IF(AND(V$8=Display!$T$10,'Lux4-sept'!$A$8=Display!$B$7,'Lux4-sept'!$A$9=Display!$B$9,'Lux4-sept'!$A$75=Display!$B$11,'Lux4-sept'!$A$112=Display!$B$13),Display!$D8,)","v":0},{"$f":"IF(AND(W$8=Display!$T$10,'Lux4-sept'!$A$8=Display!$B$7,'Lux4-sept'!$A$9=Display!$B$9,'Lux4-sept'!$A$75=Display!$B$11,'Lux4-sept'!$A$112=Display!$B$13),Display!$D8,)","v":0},{"$f":"IF(AND(X$8=Display!$T$10,'Lux4-sept'!$A$8=Display!$B$7,'Lux4-sept'!$A$9=Display!$B$9,'Lux4-sept'!$A$75=Display!$B$11,'Lux4-sept'!$A$112=Display!$B$13),Display!$D8,)","v":0},{"$f":"IF(AND(Y$8=Display!$T$10,'Lux4-sept'!$A$8=Display!$B$7,'Lux4-sept'!$A$9=Display!$B$9,'Lux4-sept'!$A$75=Display!$B$11,'Lux4-sept'!$A$112=Display!$B$13),Display!$D8,)","v":0},{"$f":"IF(AND(Z$8=Display!$T$10,'Lux4-sept'!$A$8=Display!$B$7,'Lux4-sept'!$A$9=Display!$B$9,'Lux4-sept'!$A$75=Display!$B$11,'Lux4-sept'!$A$112=Display!$B$13),Display!$D8,)","v":0},{"$f":"IF(AND(AA$8=Display!$T$10,'Lux4-sept'!$A$8=Display!$B$7,'Lux4-sept'!$A$9=Display!$B$9,'Lux4-sept'!$A$75=Display!$B$11,'Lux4-sept'!$A$112=Display!$B$13),Display!$D8,)","v":0},{"$f":"IF(AND(AB$8=Display!$T$10,'Lux4-sept'!$A$8=Display!$B$7,'Lux4-sept'!$A$9=Display!$B$9,'Lux4-sept'!$A$75=Display!$B$11,'Lux4-sept'!$A$112=Display!$B$13),Display!$D8,)","v":0},{"$f":"IF(AND(AC$8=Display!$T$10,'Lux4-sept'!$A$8=Display!$B$7,'Lux4-sept'!$A$9=Display!$B$9,'Lux4-sept'!$A$75=Display!$B$11,'Lux4-sept'!$A$112=Display!$B$13),Display!$D8,)","v":0},{"$f":"IF(AND(AD$8=Display!$T$10,'Lux4-sept'!$A$8=Display!$B$7,'Lux4-sept'!$A$9=Display!$B$9,'Lux4-sept'!$A$75=Display!$B$11,'Lux4-sept'!$A$112=Display!$B$13),Display!$D8,)","v":0},{"$f":"IF(AND(AE$8=Display!$T$10,'Lux4-sept'!$A$8=Display!$B$7,'Lux4-sept'!$A$9=Display!$B$9,'Lux4-sept'!$A$75=Display!$B$11,'Lux4-sept'!$A$112=Display!$B$13),Display!$D8,)","v":0},{"$f":"IF(AND(AF$8=Display!$T$10,'Lux4-sept'!$A$8=Display!$B$7,'Lux4-sept'!$A$9=Display!$B$9,'Lux4-sept'!$A$75=Display!$B$11,'Lux4-sept'!$A$112=Display!$B$13),Display!$D8,)","v":0},null,null,0]
["Présence de poussières",{"$f":"IF(AND(B$8=Display!$T$10,'Lux4-sept'!$A$8=Display!$B$7,'Lux4-sept'!$A$9=Display!$B$9,'Lux4-sept'!$A$75=Display!$B$11,'Lux4-sept'!$A$112=Display!$B$13),Display!$D9,)","v":0},{"$f":"IF(AND(C$8=Display!$T$10,'Lux4-sept'!$A$8=Display!$B$7,'Lux4-sept'!$A$9=Display!$B$9,'Lux4-sept'!$A$75=Display!$B$11,'Lux4-sept'!$A$112=Display!$B$13),Display!$D9,)","v":0},{"$f":"IF(AND(D$8=Display!$T$10,'Lux4-sept'!$A$8=Display!$B$7,'Lux4-sept'!$A$9=Display!$B$9,'Lux4-sept'!$A$75=Display!$B$11,'Lux4-sept'!$A$112=Display!$B$13),Display!$D9,)","v":0},{"$f":"IF(AND(E$8=Display!$T$10,'Lux4-sept'!$A$8=Display!$B$7,'Lux4-sept'!$A$9=Display!$B$9,'Lux4-sept'!$A$75=Display!$B$11,'Lux4-sept'!$A$112=Display!$B$13),Display!$D9,)","v":0},{"$f":"IF(AND(F$8=Display!$T$10,'Lux4-sept'!$A$8=Display!$B$7,'Lux4-sept'!$A$9=Display!$B$9,'Lux4-sept'!$A$75=Display!$B$11,'Lux4-sept'!$A$112=Display!$B$13),Display!$D9,)","v":0},{"$f":"IF(AND(G$8=Display!$T$10,'Lux4-sept'!$A$8=Display!$B$7,'Lux4-sept'!$A$9=Display!$B$9,'Lux4-sept'!$A$75=Display!$B$11,'Lux4-sept'!$A$112=Display!$B$13),Display!$D9,)","v":0},{"$f":"IF(AND(H$8=Display!$T$10,'Lux4-sept'!$A$8=Display!$B$7,'Lux4-sept'!$A$9=Display!$B$9,'Lux4-sept'!$A$75=Display!$B$11,'Lux4-sept'!$A$112=Display!$B$13),Display!$D9,)","v":0},{"$f":"IF(AND(I$8=Display!$T$10,'Lux4-sept'!$A$8=Display!$B$7,'Lux4-sept'!$A$9=Display!$B$9,'Lux4-sept'!$A$75=Display!$B$11,'Lux4-sept'!$A$112=Display!$B$13),Display!$D9,)","v":0},{"$f":"IF(AND(J$8=Display!$T$10,'Lux4-sept'!$A$8=Display!$B$7,'Lux4-sept'!$A$9=Display!$B$9,'Lux4-sept'!$A$75=Display!$B$11,'Lux4-sept'!$A$112=Display!$B$13),Display!$D9,)","v":0},{"$f":"IF(AND(K$8=Display!$T$10,'Lux4-sept'!$A$8=Display!$B$7,'Lux4-sept'!$A$9=Display!$B$9,'Lux4-sept'!$A$75=Display!$B$11,'Lux4-sept'!$A$112=Display!$B$13),Display!$D9,)","v":0},{"$f":"IF(AND(L$8=Display!$T$10,'Lux4-sept'!$A$8=Display!$B$7,'Lux4-sept'!$A$9=Display!$B$9,'Lux4-sept'!$A$75=Display!$B$11,'Lux4-sept'!$A$112=Display!$B$13),Display!$D9,)","v":0},{"$f":"IF(AND(M$8=Display!$T$10,'Lux4-sept'!$A$8=Display!$B$7,'Lux4-sept'!$A$9=Display!$B$9,'Lux4-sept'!$A$75=Display!$B$11,'Lux4-sept'!$A$112=Display!$B$13),Display!$D9,)","v":0},{"$f":"IF(AND(N$8=Display!$T$10,'Lux4-sept'!$A$8=Display!$B$7,'Lux4-sept'!$A$9=Display!$B$9,'Lux4-sept'!$A$75=Display!$B$11,'Lux4-sept'!$A$112=Display!$B$13),Display!$D9,)","v":0},{"$f":"IF(AND(O$8=Display!$T$10,'Lux4-sept'!$A$8=Display!$B$7,'Lux4-sept'!$A$9=Display!$B$9,'Lux4-sept'!$A$75=Display!$B$11,'Lux4-sept'!$A$112=Display!$B$13),Display!$D9,)","v":0},{"$f":"IF(AND(P$8=Display!$T$10,'Lux4-sept'!$A$8=Display!$B$7,'Lux4-sept'!$A$9=Display!$B$9,'Lux4-sept'!$A$75=Display!$B$11,'Lux4-sept'!$A$112=Display!$B$13),Display!$D9,)","v":0},{"$f":"IF(AND(Q$8=Display!$T$10,'Lux4-sept'!$A$8=Display!$B$7,'Lux4-sept'!$A$9=Display!$B$9,'Lux4-sept'!$A$75=Display!$B$11,'Lux4-sept'!$A$112=Display!$B$13),Display!$D9,)","v":0},{"$f":"IF(AND(R$8=Display!$T$10,'Lux4-sept'!$A$8=Display!$B$7,'Lux4-sept'!$A$9=Display!$B$9,'Lux4-sept'!$A$75=Display!$B$11,'Lux4-sept'!$A$112=Display!$B$13),Display!$D9,)","v":0},{"$f":"IF(AND(S$8=Display!$T$10,'Lux4-sept'!$A$8=Display!$B$7,'Lux4-sept'!$A$9=Display!$B$9,'Lux4-sept'!$A$75=Display!$B$11,'Lux4-sept'!$A$112=Display!$B$13),Display!$D9,)","v":0},{"$f":"IF(AND(T$8=Display!$T$10,'Lux4-sept'!$A$8=Display!$B$7,'Lux4-sept'!$A$9=Display!$B$9,'Lux4-sept'!$A$75=Display!$B$11,'Lux4-sept'!$A$112=Display!$B$13),Display!$D9,)","v":0},{"$f":"IF(AND(U$8=Display!$T$10,'Lux4-sept'!$A$8=Display!$B$7,'Lux4-sept'!$A$9=Display!$B$9,'Lux4-sept'!$A$75=Display!$B$11,'Lux4-sept'!$A$112=Display!$B$13),Display!$D9,)","v":0},{"$f":"IF(AND(V$8=Display!$T$10,'Lux4-sept'!$A$8=Display!$B$7,'Lux4-sept'!$A$9=Display!$B$9,'Lux4-sept'!$A$75=Display!$B$11,'Lux4-sept'!$A$112=Display!$B$13),Display!$D9,)","v":0},{"$f":"IF(AND(W$8=Display!$T$10,'Lux4-sept'!$A$8=Display!$B$7,'Lux4-sept'!$A$9=Display!$B$9,'Lux4-sept'!$A$75=Display!$B$11,'Lux4-sept'!$A$112=Display!$B$13),Display!$D9,)","v":0},{"$f":"IF(AND(X$8=Display!$T$10,'Lux4-sept'!$A$8=Display!$B$7,'Lux4-sept'!$A$9=Display!$B$9,'Lux4-sept'!$A$75=Display!$B$11,'Lux4-sept'!$A$112=Display!$B$13),Display!$D9,)","v":0},{"$f":"IF(AND(Y$8=Display!$T$10,'Lux4-sept'!$A$8=Display!$B$7,'Lux4-sept'!$A$9=Display!$B$9,'Lux4-sept'!$A$75=Display!$B$11,'Lux4-sept'!$A$112=Display!$B$13),Display!$D9,)","v":0},{"$f":"IF(AND(Z$8=Display!$T$10,'Lux4-sept'!$A$8=Display!$B$7,'Lux4-sept'!$A$9=Display!$B$9,'Lux4-sept'!$A$75=Display!$B$11,'Lux4-sept'!$A$112=Display!$B$13),Display!$D9,)","v":0},{"$f":"IF(AND(AA$8=Display!$T$10,'Lux4-sept'!$A$8=Display!$B$7,'Lux4-sept'!$A$9=Display!$B$9,'Lux4-sept'!$A$75=Display!$B$11,'Lux4-sept'!$A$112=Display!$B$13),Display!$D9,)","v":0},{"$f":"IF(AND(AB$8=Display!$T$10,'Lux4-sept'!$A$8=Display!$B$7,'Lux4-sept'!$A$9=Display!$B$9,'Lux4-sept'!$A$75=Display!$B$11,'Lux4-sept'!$A$112=Display!$B$13),Display!$D9,)","v":0},{"$f":"IF(AND(AC$8=Display!$T$10,'Lux4-sept'!$A$8=Display!$B$7,'Lux4-sept'!$A$9=Display!$B$9,'Lux4-sept'!$A$75=Display!$B$11,'Lux4-sept'!$A$112=Display!$B$13),Display!$D9,)","v":0},{"$f":"IF(AND(AD$8=Display!$T$10,'Lux4-sept'!$A$8=Display!$B$7,'Lux4-sept'!$A$9=Display!$B$9,'Lux4-sept'!$A$75=Display!$B$11,'Lux4-sept'!$A$112=Display!$B$13),Display!$D9,)","v":0},{"$f":"IF(AND(AE$8=Display!$T$10,'Lux4-sept'!$A$8=Display!$B$7,'Lux4-sept'!$A$9=Display!$B$9,'Lux4-sept'!$A$75=Display!$B$11,'Lux4-sept'!$A$112=Display!$B$13),Display!$D9,)","v":0},{"$f":"IF(AND(AF$8=Display!$T$10,'Lux4-sept'!$A$8=Display!$B$7,'Lux4-sept'!$A$9=Display!$B$9,'Lux4-sept'!$A$75=Display!$B$11,'Lux4-sept'!$A$112=Display!$B$13),Display!$D9,)","v":0},null,null,0]
["Aucune trace de doigts",{"$f":"IF(AND(B$8=Display!$T$10,'Lux4-sept'!$A$8=Display!$B$7,'Lux4-sept'!$A$9=Display!$B$9,'Lux4-sept'!$A$75=Display!$B$11,'Lux4-sept'!$A$112=Display!$B$13),Display!$D10,)","v":0},{"$f":"IF(AND(C$8=Display!$T$10,'Lux4-sept'!$A$8=Display!$B$7,'Lux4-sept'!$A$9=Display!$B$9,'Lux4-sept'!$A$75=Display!$B$11,'Lux4-sept'!$A$112=Display!$B$13),Display!$D10,)","v":0},{"$f":"IF(AND(D$8=Display!$T$10,'Lux4-sept'!$A$8=Display!$B$7,'Lux4-sept'!$A$9=Display!$B$9,'Lux4-sept'!$A$75=Display!$B$11,'Lux4-sept'!$A$112=Display!$B$13),Display!$D10,)","v":0},{"$f":"IF(AND(E$8=Display!$T$10,'Lux4-sept'!$A$8=Display!$B$7,'Lux4-sept'!$A$9=Display!$B$9,'Lux4-sept'!$A$75=Display!$B$11,'Lux4-sept'!$A$112=Display!$B$13),Display!$D10,)","v":0},{"$f":"IF(AND(F$8=Display!$T$10,'Lux4-sept'!$A$8=Display!$B$7,'Lux4-sept'!$A$9=Display!$B$9,'Lux4-sept'!$A$75=Display!$B$11,'Lux4-sept'!$A$112=Display!$B$13),Display!$D10,)","v":0},{"$f":"IF(AND(G$8=Display!$T$10,'Lux4-sept'!$A$8=Display!$B$7,'Lux4-sept'!$A$9=Display!$B$9,'Lux4-sept'!$A$75=Display!$B$11,'Lux4-sept'!$A$112=Display!$B$13),Display!$D10,)","v":0},{"$f":"IF(AND(H$8=Display!$T$10,'Lux4-sept'!$A$8=Display!$B$7,'Lux4-sept'!$A$9=Display!$B$9,'Lux4-sept'!$A$75=Display!$B$11,'Lux4-sept'!$A$112=Display!$B$13),Display!$D10,)","v":0},{"$f":"IF(AND(I$8=Display!$T$10,'Lux4-sept'!$A$8=Display!$B$7,'Lux4-sept'!$A$9=Display!$B$9,'Lux4-sept'!$A$75=Display!$B$11,'Lux4-sept'!$A$112=Display!$B$13),Display!$D10,)","v":0},{"$f":"IF(AND(J$8=Display!$T$10,'Lux4-sept'!$A$8=Display!$B$7,'Lux4-sept'!$A$9=Display!$B$9,'Lux4-sept'!$A$75=Display!$B$11,'Lux4-sept'!$A$112=Display!$B$13),Display!$D10,)","v":0},{"$f":"IF(AND(K$8=Display!$T$10,'Lux4-sept'!$A$8=Display!$B$7,'Lux4-sept'!$A$9=Display!$B$9,'Lux4-sept'!$A$75=Display!$B$11,'Lux4-sept'!$A$112=Display!$B$13),Display!$D10,)","v":0},{"$f":"IF(AND(L$8=Display!$T$10,'Lux4-sept'!$A$8=Display!$B$7,'Lux4-sept'!$A$9=Display!$B$9,'Lux4-sept'!$A$75=Display!$B$11,'Lux4-sept'!$A$112=Display!$B$13),Display!$D10,)","v":0},{"$f":"IF(AND(M$8=Display!$T$10,'Lux4-sept'!$A$8=Display!$B$7,'Lux4-sept'!$A$9=Display!$B$9,'Lux4-sept'!$A$75=Display!$B$11,'Lux4-sept'!$A$112=Display!$B$13),Display!$D10,)","v":0},{"$f":"IF(AND(N$8=Display!$T$10,'Lux4-sept'!$A$8=Display!$B$7,'Lux4-sept'!$A$9=Display!$B$9,'Lux4-sept'!$A$75=Display!$B$11,'Lux4-sept'!$A$112=Display!$B$13),Display!$D10,)","v":0},{"$f":"IF(AND(O$8=Display!$T$10,'Lux4-sept'!$A$8=Display!$B$7,'Lux4-sept'!$A$9=Display!$B$9,'Lux4-sept'!$A$75=Display!$B$11,'Lux4-sept'!$A$112=Display!$B$13),Display!$D10,)","v":0},{"$f":"IF(AND(P$8=Display!$T$10,'Lux4-sept'!$A$8=Display!$B$7,'Lux4-sept'!$A$9=Display!$B$9,'Lux4-sept'!$A$75=Display!$B$11,'Lux4-sept'!$A$112=Display!$B$13),Display!$D10,)","v":0},{"$f":"IF(AND(Q$8=Display!$T$10,'Lux4-sept'!$A$8=Display!$B$7,'Lux4-sept'!$A$9=Display!$B$9,'Lux4-sept'!$A$75=Display!$B$11,'Lux4-sept'!$A$112=Display!$B$13),Display!$D10,)","v":0},{"$f":"IF(AND(R$8=Display!$T$10,'Lux4-sept'!$A$8=Display!$B$7,'Lux4-sept'!$A$9=Display!$B$9,'Lux4-sept'!$A$75=Display!$B$11,'Lux4-sept'!$A$112=Display!$B$13),Display!$D10,)","v":0},{"$f":"IF(AND(S$8=Display!$T$10,'Lux4-sept'!$A$8=Display!$B$7,'Lux4-sept'!$A$9=Display!$B$9,'Lux4-sept'!$A$75=Display!$B$11,'Lux4-sept'!$A$112=Display!$B$13),Display!$D10,)","v":0},{"$f":"IF(AND(T$8=Display!$T$10,'Lux4-sept'!$A$8=Display!$B$7,'Lux4-sept'!$A$9=Display!$B$9,'Lux4-sept'!$A$75=Display!$B$11,'Lux4-sept'!$A$112=Display!$B$13),Display!$D10,)","v":0},{"$f":"IF(AND(U$8=Display!$T$10,'Lux4-sept'!$A$8=Display!$B$7,'Lux4-sept'!$A$9=Display!$B$9,'Lux4-sept'!$A$75=Display!$B$11,'Lux4-sept'!$A$112=Display!$B$13),Display!$D10,)","v":0},{"$f":"IF(AND(V$8=Display!$T$10,'Lux4-sept'!$A$8=Display!$B$7,'Lux4-sept'!$A$9=Display!$B$9,'Lux4-sept'!$A$75=Display!$B$11,'Lux4-sept'!$A$112=Display!$B$13),Display!$D10,)","v":0},{"$f":"IF(AND(W$8=Display!$T$10,'Lux4-sept'!$A$8=Display!$B$7,'Lux4-sept'!$A$9=Display!$B$9,'Lux4-sept'!$A$75=Display!$B$11,'Lux4-sept'!$A$112=Display!$B$13),Display!$D10,)","v":0},{"$f":"IF(AND(X$8=Display!$T$10,'Lux4-sept'!$A$8=Display!$B$7,'Lux4-sept'!$A$9=Display!$B$9,'Lux4-sept'!$A$75=Display!$B$11,'Lux4-sept'!$A$112=Display!$B$13),Display!$D10,)","v":0},{"$f":"IF(AND(Y$8=Display!$T$10,'Lux4-sept'!$A$8=Display!$B$7,'Lux4-sept'!$A$9=Display!$B$9,'Lux4-sept'!$A$75=Display!$B$11,'Lux4-sept'!$A$112=Display!$B$13),Display!$D10,)","v":0},{"$f":"IF(AND(Z$8=Display!$T$10,'Lux4-sept'!$A$8=Display!$B$7,'Lux4-sept'!$A$9=Display!$B$9,'Lux4-sept'!$A$75=Display!$B$11,'Lux4-sept'!$A$112=Display!$B$13),Display!$D10,)","v":0},{"$f":"IF(AND(AA$8=Display!$T$10,'Lux4-sept'!$A$8=Display!$B$7,'Lux4-sept'!$A$9=Display!$B$9,'Lux4-sept'!$A$75=Display!$B$11,'Lux4-sept'!$A$112=Display!$B$13),Display!$D10,)","v":0},{"$f":"IF(AND(AB$8=Display!$T$10,'Lux4-sept'!$A$8=Display!$B$7,'Lux4-sept'!$A$9=Display!$B$9,'Lux4-sept'!$A$75=Display!$B$11,'Lux4-sept'!$A$112=Display!$B$13),Display!$D10,)","v":0},{"$f":"IF(AND(AC$8=Display!$T$10,'Lux4-sept'!$A$8=Display!$B$7,'Lux4-sept'!$A$9=Display!$B$9,'Lux4-sept'!$A$75=Display!$B$11,'Lux4-sept'!$A$112=Display!$B$13),Display!$D10,)","v":0},{"$f":"IF(AND(AD$8=Display!$T$10,'Lux4-sept'!$A$8=Display!$B$7,'Lux4-sept'!$A$9=Display!$B$9,'Lux4-sept'!$A$75=Display!$B$11,'Lux4-sept'!$A$112=Display!$B$13),Display!$D10,)","v":0},{"$f":"IF(AND(AE$8=Display!$T$10,'Lux4-sept'!$A$8=Display!$B$7,'Lux4-sept'!$A$9=Display!$B$9,'Lux4-sept'!$A$75=Display!$B$11,'Lux4-sept'!$A$112=Display!$B$13),Display!$D10,)","v":0},{"$f":"IF(AND(AF$8=Display!$T$10,'Lux4-sept'!$A$8=Display!$B$7,'Lux4-sept'!$A$9=Display!$B$9,'Lux4-sept'!$A$75=Display!$B$11,'Lux4-sept'!$A$112=Display!$B$13),Display!$D10,)","v":0},null,null,0]
["MOYENNE",{"$f":"((IF((SUM(B113:B119))<>0,(SUM(B113:B119)),0))/(IF((SUM((IF(B113<>0,3,0)),(IF(B114<>0,3,0)),(IF(B115<>0,3,0)),(IF(B116<>0,3,0)),(IF(B117<>0,3,0)),(IF(B118<>0,3,0)),(IF(B119<>0,3,0))))<>0,((SUM((IF(B113<>0,3,0)),(IF(B114<>0,3,0)),(IF(B115<>0,3,0)),(IF(B116<>0,3,0)),(IF(B117<>0,3,0)),(IF(B118<>0,3,0)),(IF(B119<>0,3,0))))),1)))","v":0},{"$f":"((IF((SUM(C113:C119))<>0,(SUM(C113:C119)),0))/(IF((SUM((IF(C113<>0,3,0)),(IF(C114<>0,3,0)),(IF(C115<>0,3,0)),(IF(C116<>0,3,0)),(IF(C117<>0,3,0)),(IF(C118<>0,3,0)),(IF(C119<>0,3,0))))<>0,((SUM((IF(C113<>0,3,0)),(IF(C114<>0,3,0)),(IF(C115<>0,3,0)),(IF(C116<>0,3,0)),(IF(C117<>0,3,0)),(IF(C118<>0,3,0)),(IF(C119<>0,3,0))))),1)))","v":0},0,0,0,0,0,0,0,0,0,0,0,0,0,0,0,0,0,0,0,0,0,0,0,0,0,0,0,0,0,0,0]
["03.500"]
["Chaises rangées",{"$f":"IF(AND(B$8=Display!$T$10,'Lux4-sept'!$A$8=Display!$B$7,'Lux4-sept'!$A$9=Display!$B$9,'Lux4-sept'!$A$75=Display!$B$11,'Lux4-sept'!$A$121=Display!$B$13),Display!$D4,)","v":0},{"$f":"IF(AND(C$8=Display!$T$10,'Lux4-sept'!$A$8=Display!$B$7,'Lux4-sept'!$A$9=Display!$B$9,'Lux4-sept'!$A$75=Display!$B$11,'Lux4-sept'!$A$121=Display!$B$13),Display!$D4,)","v":0},{"$f":"IF(AND(D$8=Display!$T$10,'Lux4-sept'!$A$8=Display!$B$7,'Lux4-sept'!$A$9=Display!$B$9,'Lux4-sept'!$A$75=Display!$B$11,'Lux4-sept'!$A$121=Display!$B$13),Display!$D4,)","v":0},{"$f":"IF(AND(E$8=Display!$T$10,'Lux4-sept'!$A$8=Display!$B$7,'Lux4-sept'!$A$9=Display!$B$9,'Lux4-sept'!$A$75=Display!$B$11,'Lux4-sept'!$A$121=Display!$B$13),Display!$D4,)","v":0},{"$f":"IF(AND(F$8=Display!$T$10,'Lux4-sept'!$A$8=Display!$B$7,'Lux4-sept'!$A$9=Display!$B$9,'Lux4-sept'!$A$75=Display!$B$11,'Lux4-sept'!$A$121=Display!$B$13),Display!$D4,)","v":0},{"$f":"IF(AND(G$8=Display!$T$10,'Lux4-sept'!$A$8=Display!$B$7,'Lux4-sept'!$A$9=Display!$B$9,'Lux4-sept'!$A$75=Display!$B$11,'Lux4-sept'!$A$121=Display!$B$13),Display!$D4,)","v":0},{"$f":"IF(AND(H$8=Display!$T$10,'Lux4-sept'!$A$8=Display!$B$7,'Lux4-sept'!$A$9=Display!$B$9,'Lux4-sept'!$A$75=Display!$B$11,'Lux4-sept'!$A$121=Display!$B$13),Display!$D4,)","v":0},{"$f":"IF(AND(I$8=Display!$T$10,'Lux4-sept'!$A$8=Display!$B$7,'Lux4-sept'!$A$9=Display!$B$9,'Lux4-sept'!$A$75=Display!$B$11,'Lux4-sept'!$A$121=Display!$B$13),Display!$D4,)","v":0},{"$f":"IF(AND(J$8=Display!$T$10,'Lux4-sept'!$A$8=Display!$B$7,'Lux4-sept'!$A$9=Display!$B$9,'Lux4-sept'!$A$75=Display!$B$11,'Lux4-sept'!$A$121=Display!$B$13),Display!$D4,)","v":0},{"$f":"IF(AND(K$8=Display!$T$10,'Lux4-sept'!$A$8=Display!$B$7,'Lux4-sept'!$A$9=Display!$B$9,'Lux4-sept'!$A$75=Display!$B$11,'Lux4-sept'!$A$121=Display!$B$13),Display!$D4,)","v":0},{"$f":"IF(AND(L$8=Display!$T$10,'Lux4-sept'!$A$8=Display!$B$7,'Lux4-sept'!$A$9=Display!$B$9,'Lux4-sept'!$A$75=Display!$B$11,'Lux4-sept'!$A$121=Display!$B$13),Display!$D4,)","v":0},{"$f":"IF(AND(M$8=Display!$T$10,'Lux4-sept'!$A$8=Display!$B$7,'Lux4-sept'!$A$9=Display!$B$9,'Lux4-sept'!$A$75=Display!$B$11,'Lux4-sept'!$A$121=Display!$B$13),Display!$D4,)","v":0},{"$f":"IF(AND(N$8=Display!$T$10,'Lux4-sept'!$A$8=Display!$B$7,'Lux4-sept'!$A$9=Display!$B$9,'Lux4-sept'!$A$75=Display!$B$11,'Lux4-sept'!$A$121=Display!$B$13),Display!$D4,)","v":0},{"$f":"IF(AND(O$8=Display!$T$10,'Lux4-sept'!$A$8=Display!$B$7,'Lux4-sept'!$A$9=Display!$B$9,'Lux4-sept'!$A$75=Display!$B$11,'Lux4-sept'!$A$121=Display!$B$13),Display!$D4,)","v":0},{"$f":"IF(AND(P$8=Display!$T$10,'Lux4-sept'!$A$8=Display!$B$7,'Lux4-sept'!$A$9=Display!$B$9,'Lux4-sept'!$A$75=Display!$B$11,'Lux4-sept'!$A$121=Display!$B$13),Display!$D4,)","v":0},{"$f":"IF(AND(Q$8=Display!$T$10,'Lux4-sept'!$A$8=Display!$B$7,'Lux4-sept'!$A$9=Display!$B$9,'Lux4-sept'!$A$75=Display!$B$11,'Lux4-sept'!$A$121=Display!$B$13),Display!$D4,)","v":0},{"$f":"IF(AND(R$8=Display!$T$10,'Lux4-sept'!$A$8=Display!$B$7,'Lux4-sept'!$A$9=Display!$B$9,'Lux4-sept'!$A$75=Display!$B$11,'Lux4-sept'!$A$121=Display!$B$13),Display!$D4,)","v":0},{"$f":"IF(AND(S$8=Display!$T$10,'Lux4-sept'!$A$8=Display!$B$7,'Lux4-sept'!$A$9=Display!$B$9,'Lux4-sept'!$A$75=Display!$B$11,'Lux4-sept'!$A$121=Display!$B$13),Display!$D4,)","v":0},{"$f":"IF(AND(T$8=Display!$T$10,'Lux4-sept'!$A$8=Display!$B$7,'Lux4-sept'!$A$9=Display!$B$9,'Lux4-sept'!$A$75=Display!$B$11,'Lux4-sept'!$A$121=Display!$B$13),Display!$D4,)","v":0},{"$f":"IF(AND(U$8=Display!$T$10,'Lux4-sept'!$A$8=Display!$B$7,'Lux4-sept'!$A$9=Display!$B$9,'Lux4-sept'!$A$75=Display!$B$11,'Lux4-sept'!$A$121=Display!$B$13),Display!$D4,)","v":0},{"$f":"IF(AND(V$8=Display!$T$10,'Lux4-sept'!$A$8=Display!$B$7,'Lux4-sept'!$A$9=Display!$B$9,'Lux4-sept'!$A$75=Display!$B$11,'Lux4-sept'!$A$121=Display!$B$13),Display!$D4,)","v":0},{"$f":"IF(AND(W$8=Display!$T$10,'Lux4-sept'!$A$8=Display!$B$7,'Lux4-sept'!$A$9=Display!$B$9,'Lux4-sept'!$A$75=Display!$B$11,'Lux4-sept'!$A$121=Display!$B$13),Display!$D4,)","v":0},{"$f":"IF(AND(X$8=Display!$T$10,'Lux4-sept'!$A$8=Display!$B$7,'Lux4-sept'!$A$9=Display!$B$9,'Lux4-sept'!$A$75=Display!$B$11,'Lux4-sept'!$A$121=Display!$B$13),Display!$D4,)","v":0},{"$f":"IF(AND(Y$8=Display!$T$10,'Lux4-sept'!$A$8=Display!$B$7,'Lux4-sept'!$A$9=Display!$B$9,'Lux4-sept'!$A$75=Display!$B$11,'Lux4-sept'!$A$121=Display!$B$13),Display!$D4,)","v":0},{"$f":"IF(AND(Z$8=Display!$T$10,'Lux4-sept'!$A$8=Display!$B$7,'Lux4-sept'!$A$9=Display!$B$9,'Lux4-sept'!$A$75=Display!$B$11,'Lux4-sept'!$A$121=Display!$B$13),Display!$D4,)","v":0},{"$f":"IF(AND(AA$8=Display!$T$10,'Lux4-sept'!$A$8=Display!$B$7,'Lux4-sept'!$A$9=Display!$B$9,'Lux4-sept'!$A$75=Display!$B$11,'Lux4-sept'!$A$121=Display!$B$13),Display!$D4,)","v":0},{"$f":"IF(AND(AB$8=Display!$T$10,'Lux4-sept'!$A$8=Display!$B$7,'Lux4-sept'!$A$9=Display!$B$9,'Lux4-sept'!$A$75=Display!$B$11,'Lux4-sept'!$A$121=Display!$B$13),Display!$D4,)","v":0},{"$f":"IF(AND(AC$8=Display!$T$10,'Lux4-sept'!$A$8=Display!$B$7,'Lux4-sept'!$A$9=Display!$B$9,'Lux4-sept'!$A$75=Display!$B$11,'Lux4-sept'!$A$121=Display!$B$13),Display!$D4,)","v":0},{"$f":"IF(AND(AD$8=Display!$T$10,'Lux4-sept'!$A$8=Display!$B$7,'Lux4-sept'!$A$9=Display!$B$9,'Lux4-sept'!$A$75=Display!$B$11,'Lux4-sept'!$A$121=Display!$B$13),Display!$D4,)","v":0},{"$f":"IF(AND(AE$8=Display!$T$10,'Lux4-sept'!$A$8=Display!$B$7,'Lux4-sept'!$A$9=Display!$B$9,'Lux4-sept'!$A$75=Display!$B$11,'Lux4-sept'!$A$121=Display!$B$13),Display!$D4,)","v":0},{"$f":"IF(AND(AF$8=Display!$T$10,'Lux4-sept'!$A$8=Display!$B$7,'Lux4-sept'!$A$9=Display!$B$9,'Lux4-sept'!$A$75=Display!$B$11,'Lux4-sept'!$A$121=Display!$B$13),Display!$D4,)","v":0},null,null,{"$f":"((IF((SUM(B122:AF122))<>0,(SUM(B122:AF122)),0))/(IF((SUM((IF(B122<>0,3,0)),(IF(C122<>0,3,0)),(IF(D122<>0,3,0)),(IF(E122<>0,3,0)),(IF(F122<>0,3,0)),(IF(F122<>0,3,0)),(IF(F122<>0,3,0)),(IF(G122<>0,3,0)),(IF(H122<>0,3,0)),(IF(I122<>0,3,0)),(IF(J122<>0,3,0)),(IF(K122<>0,3,0)),(IF(L122<>0,3,0)),(IF(M122<>0,3,0)),(IF(N122<>0,3,0)),(IF(O122<>0,3,0)),(IF(P122<>0,3,0)),(IF(Q122<>0,3,0)),(IF(R122<>0,3,0)),(IF(S122<>0,3,0)),(IF(T122<>0,3,0)),(IF(U122<>0,3,0)),(IF(V122<>0,3,0)),(IF(W122<>0,3,0)),(IF(X122<>0,3,0)),(IF(Y122<>0,3,0)),(IF(Z122<>0,3,0)),(IF(AA122<>0,3,0)),(IF(AB122<>0,3,0)),(IF(AC122<>0,3,0)),(IF(AD122<>0,3,0)),(IF(AE122<>0,3,0)),(IF(AF122<>0,3,0))))<>0,((SUM((IF(B122<>0,3,0)),(IF(C122<>0,3,0)),(IF(D122<>0,3,0)),(IF(E122<>0,3,0)),(IF(F122<>0,3,0)),(IF(F122<>0,3,0)),(IF(F122<>0,3,0)),(IF(G122<>0,3,0)),(IF(H122<>0,3,0)),(IF(I122<>0,3,0)),(IF(J122<>0,3,0)),(IF(K122<>0,3,0)),(IF(L122<>0,3,0)),(IF(M122<>0,3,0)),(IF(N122<>0,3,0)),(IF(O122<>0,3,0)),(IF(P122<>0,3,0)),(IF(Q122<>0,3,0)),(IF(R122<>0,3,0)),(IF(S122<>0,3,0)),(IF(T122<>0,3,0)),(IF(U122<>0,3,0)),(IF(V122<>0,3,0)),(IF(W122<>0,3,0)),(IF(X122<>0,3,0)),(IF(Y122<>0,3,0)),(IF(Z122<>0,3,0)),(IF(AA122<>0,3,0)),(IF(AB122<>0,3,0)),(IF(AC122<>0,3,0)),(IF(AD122<>0,3,0)),(IF(AE122<>0,3,0)),(IF(AF122<>0,3,0))))),1)))","v":0}]
["Poubelles vidées",{"$f":"IF(AND(B$8=Display!$T$10,'Lux4-sept'!$A$8=Display!$B$7,'Lux4-sept'!$A$9=Display!$B$9,'Lux4-sept'!$A$75=Display!$B$11,'Lux4-sept'!$A$121=Display!$B$13),Display!$D5,)","v":0},{"$f":"IF(AND(C$8=Display!$T$10,'Lux4-sept'!$A$8=Display!$B$7,'Lux4-sept'!$A$9=Display!$B$9,'Lux4-sept'!$A$75=Display!$B$11,'Lux4-sept'!$A$121=Display!$B$13),Display!$D5,)","v":0},{"$f":"IF(AND(D$8=Display!$T$10,'Lux4-sept'!$A$8=Display!$B$7,'Lux4-sept'!$A$9=Display!$B$9,'Lux4-sept'!$A$75=Display!$B$11,'Lux4-sept'!$A$121=Display!$B$13),Display!$D5,)","v":0},{"$f":"IF(AND(E$8=Display!$T$10,'Lux4-sept'!$A$8=Display!$B$7,'Lux4-sept'!$A$9=Display!$B$9,'Lux4-sept'!$A$75=Display!$B$11,'Lux4-sept'!$A$121=Display!$B$13),Display!$D5,)","v":0},{"$f":"IF(AND(F$8=Display!$T$10,'Lux4-sept'!$A$8=Display!$B$7,'Lux4-sept'!$A$9=Display!$B$9,'Lux4-sept'!$A$75=Display!$B$11,'Lux4-sept'!$A$121=Display!$B$13),Display!$D5,)","v":0},{"$f":"IF(AND(G$8=Display!$T$10,'Lux4-sept'!$A$8=Display!$B$7,'Lux4-sept'!$A$9=Display!$B$9,'Lux4-sept'!$A$75=Display!$B$11,'Lux4-sept'!$A$121=Display!$B$13),Display!$D5,)","v":0},{"$f":"IF(AND(H$8=Display!$T$10,'Lux4-sept'!$A$8=Display!$B$7,'Lux4-sept'!$A$9=Display!$B$9,'Lux4-sept'!$A$75=Display!$B$11,'Lux4-sept'!$A$121=Display!$B$13),Display!$D5,)","v":0},{"$f":"IF(AND(I$8=Display!$T$10,'Lux4-sept'!$A$8=Display!$B$7,'Lux4-sept'!$A$9=Display!$B$9,'Lux4-sept'!$A$75=Display!$B$11,'Lux4-sept'!$A$121=Display!$B$13),Display!$D5,)","v":0},{"$f":"IF(AND(J$8=Display!$T$10,'Lux4-sept'!$A$8=Display!$B$7,'Lux4-sept'!$A$9=Display!$B$9,'Lux4-sept'!$A$75=Display!$B$11,'Lux4-sept'!$A$121=Display!$B$13),Display!$D5,)","v":0},{"$f":"IF(AND(K$8=Display!$T$10,'Lux4-sept'!$A$8=Display!$B$7,'Lux4-sept'!$A$9=Display!$B$9,'Lux4-sept'!$A$75=Display!$B$11,'Lux4-sept'!$A$121=Display!$B$13),Display!$D5,)","v":0},{"$f":"IF(AND(L$8=Display!$T$10,'Lux4-sept'!$A$8=Display!$B$7,'Lux4-sept'!$A$9=Display!$B$9,'Lux4-sept'!$A$75=Display!$B$11,'Lux4-sept'!$A$121=Display!$B$13),Display!$D5,)","v":0},{"$f":"IF(AND(M$8=Display!$T$10,'Lux4-sept'!$A$8=Display!$B$7,'Lux4-sept'!$A$9=Display!$B$9,'Lux4-sept'!$A$75=Display!$B$11,'Lux4-sept'!$A$121=Display!$B$13),Display!$D5,)","v":0},{"$f":"IF(AND(N$8=Display!$T$10,'Lux4-sept'!$A$8=Display!$B$7,'Lux4-sept'!$A$9=Display!$B$9,'Lux4-sept'!$A$75=Display!$B$11,'Lux4-sept'!$A$121=Display!$B$13),Display!$D5,)","v":0},{"$f":"IF(AND(O$8=Display!$T$10,'Lux4-sept'!$A$8=Display!$B$7,'Lux4-sept'!$A$9=Display!$B$9,'Lux4-sept'!$A$75=Display!$B$11,'Lux4-sept'!$A$121=Display!$B$13),Display!$D5,)","v":0},{"$f":"IF(AND(P$8=Display!$T$10,'Lux4-sept'!$A$8=Display!$B$7,'Lux4-sept'!$A$9=Display!$B$9,'Lux4-sept'!$A$75=Display!$B$11,'Lux4-sept'!$A$121=Display!$B$13),Display!$D5,)","v":0},{"$f":"IF(AND(Q$8=Display!$T$10,'Lux4-sept'!$A$8=Display!$B$7,'Lux4-sept'!$A$9=Display!$B$9,'Lux4-sept'!$A$75=Display!$B$11,'Lux4-sept'!$A$121=Display!$B$13),Display!$D5,)","v":0},{"$f":"IF(AND(R$8=Display!$T$10,'Lux4-sept'!$A$8=Display!$B$7,'Lux4-sept'!$A$9=Display!$B$9,'Lux4-sept'!$A$75=Display!$B$11,'Lux4-sept'!$A$121=Display!$B$13),Display!$D5,)","v":0},{"$f":"IF(AND(S$8=Display!$T$10,'Lux4-sept'!$A$8=Display!$B$7,'Lux4-sept'!$A$9=Display!$B$9,'Lux4-sept'!$A$75=Display!$B$11,'Lux4-sept'!$A$121=Display!$B$13),Display!$D5,)","v":0},{"$f":"IF(AND(T$8=Display!$T$10,'Lux4-sept'!$A$8=Display!$B$7,'Lux4-sept'!$A$9=Display!$B$9,'Lux4-sept'!$A$75=Display!$B$11,'Lux4-sept'!$A$121=Display!$B$13),Display!$D5,)","v":0},{"$f":"IF(AND(U$8=Display!$T$10,'Lux4-sept'!$A$8=Display!$B$7,'Lux4-sept'!$A$9=Display!$B$9,'Lux4-sept'!$A$75=Display!$B$11,'Lux4-sept'!$A$121=Display!$B$13),Display!$D5,)","v":0},{"$f":"IF(AND(V$8=Display!$T$10,'Lux4-sept'!$A$8=Display!$B$7,'Lux4-sept'!$A$9=Display!$B$9,'Lux4-sept'!$A$75=Display!$B$11,'Lux4-sept'!$A$121=Display!$B$13),Display!$D5,)","v":0},{"$f":"IF(AND(W$8=Display!$T$10,'Lux4-sept'!$A$8=Display!$B$7,'Lux4-sept'!$A$9=Display!$B$9,'Lux4-sept'!$A$75=Display!$B$11,'Lux4-sept'!$A$121=Display!$B$13),Display!$D5,)","v":0},{"$f":"IF(AND(X$8=Display!$T$10,'Lux4-sept'!$A$8=Display!$B$7,'Lux4-sept'!$A$9=Display!$B$9,'Lux4-sept'!$A$75=Display!$B$11,'Lux4-sept'!$A$121=Display!$B$13),Display!$D5,)","v":0},{"$f":"IF(AND(Y$8=Display!$T$10,'Lux4-sept'!$A$8=Display!$B$7,'Lux4-sept'!$A$9=Display!$B$9,'Lux4-sept'!$A$75=Display!$B$11,'Lux4-sept'!$A$121=Display!$B$13),Display!$D5,)","v":0},{"$f":"IF(AND(Z$8=Display!$T$10,'Lux4-sept'!$A$8=Display!$B$7,'Lux4-sept'!$A$9=Display!$B$9,'Lux4-sept'!$A$75=Display!$B$11,'Lux4-sept'!$A$121=Display!$B$13),Display!$D5,)","v":0},{"$f":"IF(AND(AA$8=Display!$T$10,'Lux4-sept'!$A$8=Display!$B$7,'Lux4-sept'!$A$9=Display!$B$9,'Lux4-sept'!$A$75=Display!$B$11,'Lux4-sept'!$A$121=Display!$B$13),Display!$D5,)","v":0},{"$f":"IF(AND(AB$8=Display!$T$10,'Lux4-sept'!$A$8=Display!$B$7,'Lux4-sept'!$A$9=Display!$B$9,'Lux4-sept'!$A$75=Display!$B$11,'Lux4-sept'!$A$121=Display!$B$13),Display!$D5,)","v":0},{"$f":"IF(AND(AC$8=Display!$T$10,'Lux4-sept'!$A$8=Display!$B$7,'Lux4-sept'!$A$9=Display!$B$9,'Lux4-sept'!$A$75=Display!$B$11,'Lux4-sept'!$A$121=Display!$B$13),Display!$D5,)","v":0},{"$f":"IF(AND(AD$8=Display!$T$10,'Lux4-sept'!$A$8=Display!$B$7,'Lux4-sept'!$A$9=Display!$B$9,'Lux4-sept'!$A$75=Display!$B$11,'Lux4-sept'!$A$121=Display!$B$13),Display!$D5,)","v":0},{"$f":"IF(AND(AE$8=Display!$T$10,'Lux4-sept'!$A$8=Display!$B$7,'Lux4-sept'!$A$9=Display!$B$9,'Lux4-sept'!$A$75=Display!$B$11,'Lux4-sept'!$A$121=Display!$B$13),Display!$D5,)","v":0},{"$f":"IF(AND(AF$8=Display!$T$10,'Lux4-sept'!$A$8=Display!$B$7,'Lux4-sept'!$A$9=Display!$B$9,'Lux4-sept'!$A$75=Display!$B$11,'Lux4-sept'!$A$121=Display!$B$13),Display!$D5,)","v":0},null,null,{"$f":"((IF((SUM(B123:AF123))<>0,(SUM(B123:AF123)),0))/(IF((SUM((IF(B123<>0,3,0)),(IF(C123<>0,3,0)),(IF(D123<>0,3,0)),(IF(E123<>0,3,0)),(IF(F123<>0,3,0)),(IF(F123<>0,3,0)),(IF(F123<>0,3,0)),(IF(G123<>0,3,0)),(IF(H123<>0,3,0)),(IF(I123<>0,3,0)),(IF(J123<>0,3,0)),(IF(K123<>0,3,0)),(IF(L123<>0,3,0)),(IF(M123<>0,3,0)),(IF(N123<>0,3,0)),(IF(O123<>0,3,0)),(IF(P123<>0,3,0)),(IF(Q123<>0,3,0)),(IF(R123<>0,3,0)),(IF(S123<>0,3,0)),(IF(T123<>0,3,0)),(IF(U123<>0,3,0)),(IF(V123<>0,3,0)),(IF(W123<>0,3,0)),(IF(X123<>0,3,0)),(IF(Y123<>0,3,0)),(IF(Z123<>0,3,0)),(IF(AA123<>0,3,0)),(IF(AB123<>0,3,0)),(IF(AC123<>0,3,0)),(IF(AD123<>0,3,0)),(IF(AE123<>0,3,0)),(IF(AF123<>0,3,0))))<>0,((SUM((IF(B123<>0,3,0)),(IF(C123<>0,3,0)),(IF(D123<>0,3,0)),(IF(E123<>0,3,0)),(IF(F123<>0,3,0)),(IF(F123<>0,3,0)),(IF(F123<>0,3,0)),(IF(G123<>0,3,0)),(IF(H123<>0,3,0)),(IF(I123<>0,3,0)),(IF(J123<>0,3,0)),(IF(K123<>0,3,0)),(IF(L123<>0,3,0)),(IF(M123<>0,3,0)),(IF(N123<>0,3,0)),(IF(O123<>0,3,0)),(IF(P123<>0,3,0)),(IF(Q123<>0,3,0)),(IF(R123<>0,3,0)),(IF(S123<>0,3,0)),(IF(T123<>0,3,0)),(IF(U123<>0,3,0)),(IF(V123<>0,3,0)),(IF(W123<>0,3,0)),(IF(X123<>0,3,0)),(IF(Y123<>0,3,0)),(IF(Z123<>0,3,0)),(IF(AA123<>0,3,0)),(IF(AB123<>0,3,0)),(IF(AC123<>0,3,0)),(IF(AD123<>0,3,0)),(IF(AE123<>0,3,0)),(IF(AF123<>0,3,0))))),1)))","v":0}]
["Tables nettoyées",{"$f":"IF(AND(B$8=Display!$T$10,'Lux4-sept'!$A$8=Display!$B$7,'Lux4-sept'!$A$9=Display!$B$9,'Lux4-sept'!$A$75=Display!$B$11,'Lux4-sept'!$A$121=Display!$B$13),Display!$D6,)","v":0},{"$f":"IF(AND(C$8=Display!$T$10,'Lux4-sept'!$A$8=Display!$B$7,'Lux4-sept'!$A$9=Display!$B$9,'Lux4-sept'!$A$75=Display!$B$11,'Lux4-sept'!$A$121=Display!$B$13),Display!$D6,)","v":0},{"$f":"IF(AND(D$8=Display!$T$10,'Lux4-sept'!$A$8=Display!$B$7,'Lux4-sept'!$A$9=Display!$B$9,'Lux4-sept'!$A$75=Display!$B$11,'Lux4-sept'!$A$121=Display!$B$13),Display!$D6,)","v":0},{"$f":"IF(AND(E$8=Display!$T$10,'Lux4-sept'!$A$8=Display!$B$7,'Lux4-sept'!$A$9=Display!$B$9,'Lux4-sept'!$A$75=Display!$B$11,'Lux4-sept'!$A$121=Display!$B$13),Display!$D6,)","v":0},{"$f":"IF(AND(F$8=Display!$T$10,'Lux4-sept'!$A$8=Display!$B$7,'Lux4-sept'!$A$9=Display!$B$9,'Lux4-sept'!$A$75=Display!$B$11,'Lux4-sept'!$A$121=Display!$B$13),Display!$D6,)","v":0},{"$f":"IF(AND(G$8=Display!$T$10,'Lux4-sept'!$A$8=Display!$B$7,'Lux4-sept'!$A$9=Display!$B$9,'Lux4-sept'!$A$75=Display!$B$11,'Lux4-sept'!$A$121=Display!$B$13),Display!$D6,)","v":0},{"$f":"IF(AND(H$8=Display!$T$10,'Lux4-sept'!$A$8=Display!$B$7,'Lux4-sept'!$A$9=Display!$B$9,'Lux4-sept'!$A$75=Display!$B$11,'Lux4-sept'!$A$121=Display!$B$13),Display!$D6,)","v":0},{"$f":"IF(AND(I$8=Display!$T$10,'Lux4-sept'!$A$8=Display!$B$7,'Lux4-sept'!$A$9=Display!$B$9,'Lux4-sept'!$A$75=Display!$B$11,'Lux4-sept'!$A$121=Display!$B$13),Display!$D6,)","v":0},{"$f":"IF(AND(J$8=Display!$T$10,'Lux4-sept'!$A$8=Display!$B$7,'Lux4-sept'!$A$9=Display!$B$9,'Lux4-sept'!$A$75=Display!$B$11,'Lux4-sept'!$A$121=Display!$B$13),Display!$D6,)","v":0},{"$f":"IF(AND(K$8=Display!$T$10,'Lux4-sept'!$A$8=Display!$B$7,'Lux4-sept'!$A$9=Display!$B$9,'Lux4-sept'!$A$75=Display!$B$11,'Lux4-sept'!$A$121=Display!$B$13),Display!$D6,)","v":0},{"$f":"IF(AND(L$8=Display!$T$10,'Lux4-sept'!$A$8=Display!$B$7,'Lux4-sept'!$A$9=Display!$B$9,'Lux4-sept'!$A$75=Display!$B$11,'Lux4-sept'!$A$121=Display!$B$13),Display!$D6,)","v":0},{"$f":"IF(AND(M$8=Display!$T$10,'Lux4-sept'!$A$8=Display!$B$7,'Lux4-sept'!$A$9=Display!$B$9,'Lux4-sept'!$A$75=Display!$B$11,'Lux4-sept'!$A$121=Display!$B$13),Display!$D6,)","v":0},{"$f":"IF(AND(N$8=Display!$T$10,'Lux4-sept'!$A$8=Display!$B$7,'Lux4-sept'!$A$9=Display!$B$9,'Lux4-sept'!$A$75=Display!$B$11,'Lux4-sept'!$A$121=Display!$B$13),Display!$D6,)","v":0},{"$f":"IF(AND(O$8=Display!$T$10,'Lux4-sept'!$A$8=Display!$B$7,'Lux4-sept'!$A$9=Display!$B$9,'Lux4-sept'!$A$75=Display!$B$11,'Lux4-sept'!$A$121=Display!$B$13),Display!$D6,)","v":0},{"$f":"IF(AND(P$8=Display!$T$10,'Lux4-sept'!$A$8=Display!$B$7,'Lux4-sept'!$A$9=Display!$B$9,'Lux4-sept'!$A$75=Display!$B$11,'Lux4-sept'!$A$121=Display!$B$13),Display!$D6,)","v":0},{"$f":"IF(AND(Q$8=Display!$T$10,'Lux4-sept'!$A$8=Display!$B$7,'Lux4-sept'!$A$9=Display!$B$9,'Lux4-sept'!$A$75=Display!$B$11,'Lux4-sept'!$A$121=Display!$B$13),Display!$D6,)","v":0},{"$f":"IF(AND(R$8=Display!$T$10,'Lux4-sept'!$A$8=Display!$B$7,'Lux4-sept'!$A$9=Display!$B$9,'Lux4-sept'!$A$75=Display!$B$11,'Lux4-sept'!$A$121=Display!$B$13),Display!$D6,)","v":0},{"$f":"IF(AND(S$8=Display!$T$10,'Lux4-sept'!$A$8=Display!$B$7,'Lux4-sept'!$A$9=Display!$B$9,'Lux4-sept'!$A$75=Display!$B$11,'Lux4-sept'!$A$121=Display!$B$13),Display!$D6,)","v":0},{"$f":"IF(AND(T$8=Display!$T$10,'Lux4-sept'!$A$8=Display!$B$7,'Lux4-sept'!$A$9=Display!$B$9,'Lux4-sept'!$A$75=Display!$B$11,'Lux4-sept'!$A$121=Display!$B$13),Display!$D6,)","v":0},{"$f":"IF(AND(U$8=Display!$T$10,'Lux4-sept'!$A$8=Display!$B$7,'Lux4-sept'!$A$9=Display!$B$9,'Lux4-sept'!$A$75=Display!$B$11,'Lux4-sept'!$A$121=Display!$B$13),Display!$D6,)","v":0},{"$f":"IF(AND(V$8=Display!$T$10,'Lux4-sept'!$A$8=Display!$B$7,'Lux4-sept'!$A$9=Display!$B$9,'Lux4-sept'!$A$75=Display!$B$11,'Lux4-sept'!$A$121=Display!$B$13),Display!$D6,)","v":0},{"$f":"IF(AND(W$8=Display!$T$10,'Lux4-sept'!$A$8=Display!$B$7,'Lux4-sept'!$A$9=Display!$B$9,'Lux4-sept'!$A$75=Display!$B$11,'Lux4-sept'!$A$121=Display!$B$13),Display!$D6,)","v":0},{"$f":"IF(AND(X$8=Display!$T$10,'Lux4-sept'!$A$8=Display!$B$7,'Lux4-sept'!$A$9=Display!$B$9,'Lux4-sept'!$A$75=Display!$B$11,'Lux4-sept'!$A$121=Display!$B$13),Display!$D6,)","v":0},{"$f":"IF(AND(Y$8=Display!$T$10,'Lux4-sept'!$A$8=Display!$B$7,'Lux4-sept'!$A$9=Display!$B$9,'Lux4-sept'!$A$75=Display!$B$11,'Lux4-sept'!$A$121=Display!$B$13),Display!$D6,)","v":0},{"$f":"IF(AND(Z$8=Display!$T$10,'Lux4-sept'!$A$8=Display!$B$7,'Lux4-sept'!$A$9=Display!$B$9,'Lux4-sept'!$A$75=Display!$B$11,'Lux4-sept'!$A$121=Display!$B$13),Display!$D6,)","v":0},{"$f":"IF(AND(AA$8=Display!$T$10,'Lux4-sept'!$A$8=Display!$B$7,'Lux4-sept'!$A$9=Display!$B$9,'Lux4-sept'!$A$75=Display!$B$11,'Lux4-sept'!$A$121=Display!$B$13),Display!$D6,)","v":0},{"$f":"IF(AND(AB$8=Display!$T$10,'Lux4-sept'!$A$8=Display!$B$7,'Lux4-sept'!$A$9=Display!$B$9,'Lux4-sept'!$A$75=Display!$B$11,'Lux4-sept'!$A$121=Display!$B$13),Display!$D6,)","v":0},{"$f":"IF(AND(AC$8=Display!$T$10,'Lux4-sept'!$A$8=Display!$B$7,'Lux4-sept'!$A$9=Display!$B$9,'Lux4-sept'!$A$75=Display!$B$11,'Lux4-sept'!$A$121=Display!$B$13),Display!$D6,)","v":0},{"$f":"IF(AND(AD$8=Display!$T$10,'Lux4-sept'!$A$8=Display!$B$7,'Lux4-sept'!$A$9=Display!$B$9,'Lux4-sept'!$A$75=Display!$B$11,'Lux4-sept'!$A$121=Display!$B$13),Display!$D6,)","v":0},{"$f":"IF(AND(AE$8=Display!$T$10,'Lux4-sept'!$A$8=Display!$B$7,'Lux4-sept'!$A$9=Display!$B$9,'Lux4-sept'!$A$75=Display!$B$11,'Lux4-sept'!$A$121=Display!$B$13),Display!$D6,)","v":0},{"$f":"IF(AND(AF$8=Display!$T$10,'Lux4-sept'!$A$8=Display!$B$7,'Lux4-sept'!$A$9=Display!$B$9,'Lux4-sept'!$A$75=Display!$B$11,'Lux4-sept'!$A$121=Display!$B$13),Display!$D6,)","v":0},null,null,0]
["Tableaux effacés",{"$f":"IF(AND(B$8=Display!$T$10,'Lux4-sept'!$A$8=Display!$B$7,'Lux4-sept'!$A$9=Display!$B$9,'Lux4-sept'!$A$75=Display!$B$11,'Lux4-sept'!$A$121=Display!$B$13),Display!$D7,)","v":0},{"$f":"IF(AND(C$8=Display!$T$10,'Lux4-sept'!$A$8=Display!$B$7,'Lux4-sept'!$A$9=Display!$B$9,'Lux4-sept'!$A$75=Display!$B$11,'Lux4-sept'!$A$121=Display!$B$13),Display!$D7,)","v":0},{"$f":"IF(AND(D$8=Display!$T$10,'Lux4-sept'!$A$8=Display!$B$7,'Lux4-sept'!$A$9=Display!$B$9,'Lux4-sept'!$A$75=Display!$B$11,'Lux4-sept'!$A$121=Display!$B$13),Display!$D7,)","v":0},{"$f":"IF(AND(E$8=Display!$T$10,'Lux4-sept'!$A$8=Display!$B$7,'Lux4-sept'!$A$9=Display!$B$9,'Lux4-sept'!$A$75=Display!$B$11,'Lux4-sept'!$A$121=Display!$B$13),Display!$D7,)","v":0},{"$f":"IF(AND(F$8=Display!$T$10,'Lux4-sept'!$A$8=Display!$B$7,'Lux4-sept'!$A$9=Display!$B$9,'Lux4-sept'!$A$75=Display!$B$11,'Lux4-sept'!$A$121=Display!$B$13),Display!$D7,)","v":0},{"$f":"IF(AND(G$8=Display!$T$10,'Lux4-sept'!$A$8=Display!$B$7,'Lux4-sept'!$A$9=Display!$B$9,'Lux4-sept'!$A$75=Display!$B$11,'Lux4-sept'!$A$121=Display!$B$13),Display!$D7,)","v":0},{"$f":"IF(AND(H$8=Display!$T$10,'Lux4-sept'!$A$8=Display!$B$7,'Lux4-sept'!$A$9=Display!$B$9,'Lux4-sept'!$A$75=Display!$B$11,'Lux4-sept'!$A$121=Display!$B$13),Display!$D7,)","v":0},{"$f":"IF(AND(I$8=Display!$T$10,'Lux4-sept'!$A$8=Display!$B$7,'Lux4-sept'!$A$9=Display!$B$9,'Lux4-sept'!$A$75=Display!$B$11,'Lux4-sept'!$A$121=Display!$B$13),Display!$D7,)","v":0},{"$f":"IF(AND(J$8=Display!$T$10,'Lux4-sept'!$A$8=Display!$B$7,'Lux4-sept'!$A$9=Display!$B$9,'Lux4-sept'!$A$75=Display!$B$11,'Lux4-sept'!$A$121=Display!$B$13),Display!$D7,)","v":0},{"$f":"IF(AND(K$8=Display!$T$10,'Lux4-sept'!$A$8=Display!$B$7,'Lux4-sept'!$A$9=Display!$B$9,'Lux4-sept'!$A$75=Display!$B$11,'Lux4-sept'!$A$121=Display!$B$13),Display!$D7,)","v":0},{"$f":"IF(AND(L$8=Display!$T$10,'Lux4-sept'!$A$8=Display!$B$7,'Lux4-sept'!$A$9=Display!$B$9,'Lux4-sept'!$A$75=Display!$B$11,'Lux4-sept'!$A$121=Display!$B$13),Display!$D7,)","v":0},{"$f":"IF(AND(M$8=Display!$T$10,'Lux4-sept'!$A$8=Display!$B$7,'Lux4-sept'!$A$9=Display!$B$9,'Lux4-sept'!$A$75=Display!$B$11,'Lux4-sept'!$A$121=Display!$B$13),Display!$D7,)","v":0},{"$f":"IF(AND(N$8=Display!$T$10,'Lux4-sept'!$A$8=Display!$B$7,'Lux4-sept'!$A$9=Display!$B$9,'Lux4-sept'!$A$75=Display!$B$11,'Lux4-sept'!$A$121=Display!$B$13),Display!$D7,)","v":0},{"$f":"IF(AND(O$8=Display!$T$10,'Lux4-sept'!$A$8=Display!$B$7,'Lux4-sept'!$A$9=Display!$B$9,'Lux4-sept'!$A$75=Display!$B$11,'Lux4-sept'!$A$121=Display!$B$13),Display!$D7,)","v":0},{"$f":"IF(AND(P$8=Display!$T$10,'Lux4-sept'!$A$8=Display!$B$7,'Lux4-sept'!$A$9=Display!$B$9,'Lux4-sept'!$A$75=Display!$B$11,'Lux4-sept'!$A$121=Display!$B$13),Display!$D7,)","v":0},{"$f":"IF(AND(Q$8=Display!$T$10,'Lux4-sept'!$A$8=Display!$B$7,'Lux4-sept'!$A$9=Display!$B$9,'Lux4-sept'!$A$75=Display!$B$11,'Lux4-sept'!$A$121=Display!$B$13),Display!$D7,)","v":0},{"$f":"IF(AND(R$8=Display!$T$10,'Lux4-sept'!$A$8=Display!$B$7,'Lux4-sept'!$A$9=Display!$B$9,'Lux4-sept'!$A$75=Display!$B$11,'Lux4-sept'!$A$121=Display!$B$13),Display!$D7,)","v":0},{"$f":"IF(AND(S$8=Display!$T$10,'Lux4-sept'!$A$8=Display!$B$7,'Lux4-sept'!$A$9=Display!$B$9,'Lux4-sept'!$A$75=Display!$B$11,'Lux4-sept'!$A$121=Display!$B$13),Display!$D7,)","v":0},{"$f":"IF(AND(T$8=Display!$T$10,'Lux4-sept'!$A$8=Display!$B$7,'Lux4-sept'!$A$9=Display!$B$9,'Lux4-sept'!$A$75=Display!$B$11,'Lux4-sept'!$A$121=Display!$B$13),Display!$D7,)","v":0},{"$f":"IF(AND(U$8=Display!$T$10,'Lux4-sept'!$A$8=Display!$B$7,'Lux4-sept'!$A$9=Display!$B$9,'Lux4-sept'!$A$75=Display!$B$11,'Lux4-sept'!$A$121=Display!$B$13),Display!$D7,)","v":0},{"$f":"IF(AND(V$8=Display!$T$10,'Lux4-sept'!$A$8=Display!$B$7,'Lux4-sept'!$A$9=Display!$B$9,'Lux4-sept'!$A$75=Display!$B$11,'Lux4-sept'!$A$121=Display!$B$13),Display!$D7,)","v":0},{"$f":"IF(AND(W$8=Display!$T$10,'Lux4-sept'!$A$8=Display!$B$7,'Lux4-sept'!$A$9=Display!$B$9,'Lux4-sept'!$A$75=Display!$B$11,'Lux4-sept'!$A$121=Display!$B$13),Display!$D7,)","v":0},{"$f":"IF(AND(X$8=Display!$T$10,'Lux4-sept'!$A$8=Display!$B$7,'Lux4-sept'!$A$9=Display!$B$9,'Lux4-sept'!$A$75=Display!$B$11,'Lux4-sept'!$A$121=Display!$B$13),Display!$D7,)","v":0},{"$f":"IF(AND(Y$8=Display!$T$10,'Lux4-sept'!$A$8=Display!$B$7,'Lux4-sept'!$A$9=Display!$B$9,'Lux4-sept'!$A$75=Display!$B$11,'Lux4-sept'!$A$121=Display!$B$13),Display!$D7,)","v":0},{"$f":"IF(AND(Z$8=Display!$T$10,'Lux4-sept'!$A$8=Display!$B$7,'Lux4-sept'!$A$9=Display!$B$9,'Lux4-sept'!$A$75=Display!$B$11,'Lux4-sept'!$A$121=Display!$B$13),Display!$D7,)","v":0},{"$f":"IF(AND(AA$8=Display!$T$10,'Lux4-sept'!$A$8=Display!$B$7,'Lux4-sept'!$A$9=Display!$B$9,'Lux4-sept'!$A$75=Display!$B$11,'Lux4-sept'!$A$121=Display!$B$13),Display!$D7,)","v":0},{"$f":"IF(AND(AB$8=Display!$T$10,'Lux4-sept'!$A$8=Display!$B$7,'Lux4-sept'!$A$9=Display!$B$9,'Lux4-sept'!$A$75=Display!$B$11,'Lux4-sept'!$A$121=Display!$B$13),Display!$D7,)","v":0},{"$f":"IF(AND(AC$8=Display!$T$10,'Lux4-sept'!$A$8=Display!$B$7,'Lux4-sept'!$A$9=Display!$B$9,'Lux4-sept'!$A$75=Display!$B$11,'Lux4-sept'!$A$121=Display!$B$13),Display!$D7,)","v":0},{"$f":"IF(AND(AD$8=Display!$T$10,'Lux4-sept'!$A$8=Display!$B$7,'Lux4-sept'!$A$9=Display!$B$9,'Lux4-sept'!$A$75=Display!$B$11,'Lux4-sept'!$A$121=Display!$B$13),Display!$D7,)","v":0},{"$f":"IF(AND(AE$8=Display!$T$10,'Lux4-sept'!$A$8=Display!$B$7,'Lux4-sept'!$A$9=Display!$B$9,'Lux4-sept'!$A$75=Display!$B$11,'Lux4-sept'!$A$121=Display!$B$13),Display!$D7,)","v":0},{"$f":"IF(AND(AF$8=Display!$T$10,'Lux4-sept'!$A$8=Display!$B$7,'Lux4-sept'!$A$9=Display!$B$9,'Lux4-sept'!$A$75=Display!$B$11,'Lux4-sept'!$A$121=Display!$B$13),Display!$D7,)","v":0},null,null,0]
["Salles de réunion aspirées",{"$f":"IF(AND(B$8=Display!$T$10,'Lux4-sept'!$A$8=Display!$B$7,'Lux4-sept'!$A$9=Display!$B$9,'Lux4-sept'!$A$75=Display!$B$11,'Lux4-sept'!$A$121=Display!$B$13),Display!$D8,)","v":0},{"$f":"IF(AND(C$8=Display!$T$10,'Lux4-sept'!$A$8=Display!$B$7,'Lux4-sept'!$A$9=Display!$B$9,'Lux4-sept'!$A$75=Display!$B$11,'Lux4-sept'!$A$121=Display!$B$13),Display!$D8,)","v":0},{"$f":"IF(AND(D$8=Display!$T$10,'Lux4-sept'!$A$8=Display!$B$7,'Lux4-sept'!$A$9=Display!$B$9,'Lux4-sept'!$A$75=Display!$B$11,'Lux4-sept'!$A$121=Display!$B$13),Display!$D8,)","v":0},{"$f":"IF(AND(E$8=Display!$T$10,'Lux4-sept'!$A$8=Display!$B$7,'Lux4-sept'!$A$9=Display!$B$9,'Lux4-sept'!$A$75=Display!$B$11,'Lux4-sept'!$A$121=Display!$B$13),Display!$D8,)","v":0},{"$f":"IF(AND(F$8=Display!$T$10,'Lux4-sept'!$A$8=Display!$B$7,'Lux4-sept'!$A$9=Display!$B$9,'Lux4-sept'!$A$75=Display!$B$11,'Lux4-sept'!$A$121=Display!$B$13),Display!$D8,)","v":0},{"$f":"IF(AND(G$8=Display!$T$10,'Lux4-sept'!$A$8=Display!$B$7,'Lux4-sept'!$A$9=Display!$B$9,'Lux4-sept'!$A$75=Display!$B$11,'Lux4-sept'!$A$121=Display!$B$13),Display!$D8,)","v":0},{"$f":"IF(AND(H$8=Display!$T$10,'Lux4-sept'!$A$8=Display!$B$7,'Lux4-sept'!$A$9=Display!$B$9,'Lux4-sept'!$A$75=Display!$B$11,'Lux4-sept'!$A$121=Display!$B$13),Display!$D8,)","v":0},{"$f":"IF(AND(I$8=Display!$T$10,'Lux4-sept'!$A$8=Display!$B$7,'Lux4-sept'!$A$9=Display!$B$9,'Lux4-sept'!$A$75=Display!$B$11,'Lux4-sept'!$A$121=Display!$B$13),Display!$D8,)","v":0},{"$f":"IF(AND(J$8=Display!$T$10,'Lux4-sept'!$A$8=Display!$B$7,'Lux4-sept'!$A$9=Display!$B$9,'Lux4-sept'!$A$75=Display!$B$11,'Lux4-sept'!$A$121=Display!$B$13),Display!$D8,)","v":0},{"$f":"IF(AND(K$8=Display!$T$10,'Lux4-sept'!$A$8=Display!$B$7,'Lux4-sept'!$A$9=Display!$B$9,'Lux4-sept'!$A$75=Display!$B$11,'Lux4-sept'!$A$121=Display!$B$13),Display!$D8,)","v":0},{"$f":"IF(AND(L$8=Display!$T$10,'Lux4-sept'!$A$8=Display!$B$7,'Lux4-sept'!$A$9=Display!$B$9,'Lux4-sept'!$A$75=Display!$B$11,'Lux4-sept'!$A$121=Display!$B$13),Display!$D8,)","v":0},{"$f":"IF(AND(M$8=Display!$T$10,'Lux4-sept'!$A$8=Display!$B$7,'Lux4-sept'!$A$9=Display!$B$9,'Lux4-sept'!$A$75=Display!$B$11,'Lux4-sept'!$A$121=Display!$B$13),Display!$D8,)","v":0},{"$f":"IF(AND(N$8=Display!$T$10,'Lux4-sept'!$A$8=Display!$B$7,'Lux4-sept'!$A$9=Display!$B$9,'Lux4-sept'!$A$75=Display!$B$11,'Lux4-sept'!$A$121=Display!$B$13),Display!$D8,)","v":0},{"$f":"IF(AND(O$8=Display!$T$10,'Lux4-sept'!$A$8=Display!$B$7,'Lux4-sept'!$A$9=Display!$B$9,'Lux4-sept'!$A$75=Display!$B$11,'Lux4-sept'!$A$121=Display!$B$13),Display!$D8,)","v":0},{"$f":"IF(AND(P$8=Display!$T$10,'Lux4-sept'!$A$8=Display!$B$7,'Lux4-sept'!$A$9=Display!$B$9,'Lux4-sept'!$A$75=Display!$B$11,'Lux4-sept'!$A$121=Display!$B$13),Display!$D8,)","v":0},{"$f":"IF(AND(Q$8=Display!$T$10,'Lux4-sept'!$A$8=Display!$B$7,'Lux4-sept'!$A$9=Display!$B$9,'Lux4-sept'!$A$75=Display!$B$11,'Lux4-sept'!$A$121=Display!$B$13),Display!$D8,)","v":0},{"$f":"IF(AND(R$8=Display!$T$10,'Lux4-sept'!$A$8=Display!$B$7,'Lux4-sept'!$A$9=Display!$B$9,'Lux4-sept'!$A$75=Display!$B$11,'Lux4-sept'!$A$121=Display!$B$13),Display!$D8,)","v":0},{"$f":"IF(AND(S$8=Display!$T$10,'Lux4-sept'!$A$8=Display!$B$7,'Lux4-sept'!$A$9=Display!$B$9,'Lux4-sept'!$A$75=Display!$B$11,'Lux4-sept'!$A$121=Display!$B$13),Display!$D8,)","v":0},{"$f":"IF(AND(T$8=Display!$T$10,'Lux4-sept'!$A$8=Display!$B$7,'Lux4-sept'!$A$9=Display!$B$9,'Lux4-sept'!$A$75=Display!$B$11,'Lux4-sept'!$A$121=Display!$B$13),Display!$D8,)","v":0},{"$f":"IF(AND(U$8=Display!$T$10,'Lux4-sept'!$A$8=Display!$B$7,'Lux4-sept'!$A$9=Display!$B$9,'Lux4-sept'!$A$75=Display!$B$11,'Lux4-sept'!$A$121=Display!$B$13),Display!$D8,)","v":0},{"$f":"IF(AND(V$8=Display!$T$10,'Lux4-sept'!$A$8=Display!$B$7,'Lux4-sept'!$A$9=Display!$B$9,'Lux4-sept'!$A$75=Display!$B$11,'Lux4-sept'!$A$121=Display!$B$13),Display!$D8,)","v":0},{"$f":"IF(AND(W$8=Display!$T$10,'Lux4-sept'!$A$8=Display!$B$7,'Lux4-sept'!$A$9=Display!$B$9,'Lux4-sept'!$A$75=Display!$B$11,'Lux4-sept'!$A$121=Display!$B$13),Display!$D8,)","v":0},{"$f":"IF(AND(X$8=Display!$T$10,'Lux4-sept'!$A$8=Display!$B$7,'Lux4-sept'!$A$9=Display!$B$9,'Lux4-sept'!$A$75=Display!$B$11,'Lux4-sept'!$A$121=Display!$B$13),Display!$D8,)","v":0},{"$f":"IF(AND(Y$8=Display!$T$10,'Lux4-sept'!$A$8=Display!$B$7,'Lux4-sept'!$A$9=Display!$B$9,'Lux4-sept'!$A$75=Display!$B$11,'Lux4-sept'!$A$121=Display!$B$13),Display!$D8,)","v":0},{"$f":"IF(AND(Z$8=Display!$T$10,'Lux4-sept'!$A$8=Display!$B$7,'Lux4-sept'!$A$9=Display!$B$9,'Lux4-sept'!$A$75=Display!$B$11,'Lux4-sept'!$A$121=Display!$B$13),Display!$D8,)","v":0},{"$f":"IF(AND(AA$8=Display!$T$10,'Lux4-sept'!$A$8=Display!$B$7,'Lux4-sept'!$A$9=Display!$B$9,'Lux4-sept'!$A$75=Display!$B$11,'Lux4-sept'!$A$121=Display!$B$13),Display!$D8,)","v":0},{"$f":"IF(AND(AB$8=Display!$T$10,'Lux4-sept'!$A$8=Display!$B$7,'Lux4-sept'!$A$9=Display!$B$9,'Lux4-sept'!$A$75=Display!$B$11,'Lux4-sept'!$A$121=Display!$B$13),Display!$D8,)","v":0},{"$f":"IF(AND(AC$8=Display!$T$10,'Lux4-sept'!$A$8=Display!$B$7,'Lux4-sept'!$A$9=Display!$B$9,'Lux4-sept'!$A$75=Display!$B$11,'Lux4-sept'!$A$121=Display!$B$13),Display!$D8,)","v":0},{"$f":"IF(AND(AD$8=Display!$T$10,'Lux4-sept'!$A$8=Display!$B$7,'Lux4-sept'!$A$9=Display!$B$9,'Lux4-sept'!$A$75=Display!$B$11,'Lux4-sept'!$A$121=Display!$B$13),Display!$D8,)","v":0},{"$f":"IF(AND(AE$8=Display!$T$10,'Lux4-sept'!$A$8=Display!$B$7,'Lux4-sept'!$A$9=Display!$B$9,'Lux4-sept'!$A$75=Display!$B$11,'Lux4-sept'!$A$121=Display!$B$13),Display!$D8,)","v":0},{"$f":"IF(AND(AF$8=Display!$T$10,'Lux4-sept'!$A$8=Display!$B$7,'Lux4-sept'!$A$9=Display!$B$9,'Lux4-sept'!$A$75=Display!$B$11,'Lux4-sept'!$A$121=Display!$B$13),Display!$D8,)","v":0},null,null,0]
["Présence de poussières",{"$f":"IF(AND(B$8=Display!$T$10,'Lux4-sept'!$A$8=Display!$B$7,'Lux4-sept'!$A$9=Display!$B$9,'Lux4-sept'!$A$75=Display!$B$11,'Lux4-sept'!$A$121=Display!$B$13),Display!$D9,)","v":0},{"$f":"IF(AND(C$8=Display!$T$10,'Lux4-sept'!$A$8=Display!$B$7,'Lux4-sept'!$A$9=Display!$B$9,'Lux4-sept'!$A$75=Display!$B$11,'Lux4-sept'!$A$121=Display!$B$13),Display!$D9,)","v":0},{"$f":"IF(AND(D$8=Display!$T$10,'Lux4-sept'!$A$8=Display!$B$7,'Lux4-sept'!$A$9=Display!$B$9,'Lux4-sept'!$A$75=Display!$B$11,'Lux4-sept'!$A$121=Display!$B$13),Display!$D9,)","v":0},{"$f":"IF(AND(E$8=Display!$T$10,'Lux4-sept'!$A$8=Display!$B$7,'Lux4-sept'!$A$9=Display!$B$9,'Lux4-sept'!$A$75=Display!$B$11,'Lux4-sept'!$A$121=Display!$B$13),Display!$D9,)","v":0},{"$f":"IF(AND(F$8=Display!$T$10,'Lux4-sept'!$A$8=Display!$B$7,'Lux4-sept'!$A$9=Display!$B$9,'Lux4-sept'!$A$75=Display!$B$11,'Lux4-sept'!$A$121=Display!$B$13),Display!$D9,)","v":0},{"$f":"IF(AND(G$8=Display!$T$10,'Lux4-sept'!$A$8=Display!$B$7,'Lux4-sept'!$A$9=Display!$B$9,'Lux4-sept'!$A$75=Display!$B$11,'Lux4-sept'!$A$121=Display!$B$13),Display!$D9,)","v":0},{"$f":"IF(AND(H$8=Display!$T$10,'Lux4-sept'!$A$8=Display!$B$7,'Lux4-sept'!$A$9=Display!$B$9,'Lux4-sept'!$A$75=Display!$B$11,'Lux4-sept'!$A$121=Display!$B$13),Display!$D9,)","v":0},{"$f":"IF(AND(I$8=Display!$T$10,'Lux4-sept'!$A$8=Display!$B$7,'Lux4-sept'!$A$9=Display!$B$9,'Lux4-sept'!$A$75=Display!$B$11,'Lux4-sept'!$A$121=Display!$B$13),Display!$D9,)","v":0},{"$f":"IF(AND(J$8=Display!$T$10,'Lux4-sept'!$A$8=Display!$B$7,'Lux4-sept'!$A$9=Display!$B$9,'Lux4-sept'!$A$75=Display!$B$11,'Lux4-sept'!$A$121=Display!$B$13),Display!$D9,)","v":0},{"$f":"IF(AND(K$8=Display!$T$10,'Lux4-sept'!$A$8=Display!$B$7,'Lux4-sept'!$A$9=Display!$B$9,'Lux4-sept'!$A$75=Display!$B$11,'Lux4-sept'!$A$121=Display!$B$13),Display!$D9,)","v":0},{"$f":"IF(AND(L$8=Display!$T$10,'Lux4-sept'!$A$8=Display!$B$7,'Lux4-sept'!$A$9=Display!$B$9,'Lux4-sept'!$A$75=Display!$B$11,'Lux4-sept'!$A$121=Display!$B$13),Display!$D9,)","v":0},{"$f":"IF(AND(M$8=Display!$T$10,'Lux4-sept'!$A$8=Display!$B$7,'Lux4-sept'!$A$9=Display!$B$9,'Lux4-sept'!$A$75=Display!$B$11,'Lux4-sept'!$A$121=Display!$B$13),Display!$D9,)","v":0},{"$f":"IF(AND(N$8=Display!$T$10,'Lux4-sept'!$A$8=Display!$B$7,'Lux4-sept'!$A$9=Display!$B$9,'Lux4-sept'!$A$75=Display!$B$11,'Lux4-sept'!$A$121=Display!$B$13),Display!$D9,)","v":0},{"$f":"IF(AND(O$8=Display!$T$10,'Lux4-sept'!$A$8=Display!$B$7,'Lux4-sept'!$A$9=Display!$B$9,'Lux4-sept'!$A$75=Display!$B$11,'Lux4-sept'!$A$121=Display!$B$13),Display!$D9,)","v":0},{"$f":"IF(AND(P$8=Display!$T$10,'Lux4-sept'!$A$8=Display!$B$7,'Lux4-sept'!$A$9=Display!$B$9,'Lux4-sept'!$A$75=Display!$B$11,'Lux4-sept'!$A$121=Display!$B$13),Display!$D9,)","v":0},{"$f":"IF(AND(Q$8=Display!$T$10,'Lux4-sept'!$A$8=Display!$B$7,'Lux4-sept'!$A$9=Display!$B$9,'Lux4-sept'!$A$75=Display!$B$11,'Lux4-sept'!$A$121=Display!$B$13),Display!$D9,)","v":0},{"$f":"IF(AND(R$8=Display!$T$10,'Lux4-sept'!$A$8=Display!$B$7,'Lux4-sept'!$A$9=Display!$B$9,'Lux4-sept'!$A$75=Display!$B$11,'Lux4-sept'!$A$121=Display!$B$13),Display!$D9,)","v":0},{"$f":"IF(AND(S$8=Display!$T$10,'Lux4-sept'!$A$8=Display!$B$7,'Lux4-sept'!$A$9=Display!$B$9,'Lux4-sept'!$A$75=Display!$B$11,'Lux4-sept'!$A$121=Display!$B$13),Display!$D9,)","v":0},{"$f":"IF(AND(T$8=Display!$T$10,'Lux4-sept'!$A$8=Display!$B$7,'Lux4-sept'!$A$9=Display!$B$9,'Lux4-sept'!$A$75=Display!$B$11,'Lux4-sept'!$A$121=Display!$B$13),Display!$D9,)","v":0},{"$f":"IF(AND(U$8=Display!$T$10,'Lux4-sept'!$A$8=Display!$B$7,'Lux4-sept'!$A$9=Display!$B$9,'Lux4-sept'!$A$75=Display!$B$11,'Lux4-sept'!$A$121=Display!$B$13),Display!$D9,)","v":0},{"$f":"IF(AND(V$8=Display!$T$10,'Lux4-sept'!$A$8=Display!$B$7,'Lux4-sept'!$A$9=Display!$B$9,'Lux4-sept'!$A$75=Display!$B$11,'Lux4-sept'!$A$121=Display!$B$13),Display!$D9,)","v":0},{"$f":"IF(AND(W$8=Display!$T$10,'Lux4-sept'!$A$8=Display!$B$7,'Lux4-sept'!$A$9=Display!$B$9,'Lux4-sept'!$A$75=Display!$B$11,'Lux4-sept'!$A$121=Display!$B$13),Display!$D9,)","v":0},{"$f":"IF(AND(X$8=Display!$T$10,'Lux4-sept'!$A$8=Display!$B$7,'Lux4-sept'!$A$9=Display!$B$9,'Lux4-sept'!$A$75=Display!$B$11,'Lux4-sept'!$A$121=Display!$B$13),Display!$D9,)","v":0},{"$f":"IF(AND(Y$8=Display!$T$10,'Lux4-sept'!$A$8=Display!$B$7,'Lux4-sept'!$A$9=Display!$B$9,'Lux4-sept'!$A$75=Display!$B$11,'Lux4-sept'!$A$121=Display!$B$13),Display!$D9,)","v":0},{"$f":"IF(AND(Z$8=Display!$T$10,'Lux4-sept'!$A$8=Display!$B$7,'Lux4-sept'!$A$9=Display!$B$9,'Lux4-sept'!$A$75=Display!$B$11,'Lux4-sept'!$A$121=Display!$B$13),Display!$D9,)","v":0},{"$f":"IF(AND(AA$8=Display!$T$10,'Lux4-sept'!$A$8=Display!$B$7,'Lux4-sept'!$A$9=Display!$B$9,'Lux4-sept'!$A$75=Display!$B$11,'Lux4-sept'!$A$121=Display!$B$13),Display!$D9,)","v":0},{"$f":"IF(AND(AB$8=Display!$T$10,'Lux4-sept'!$A$8=Display!$B$7,'Lux4-sept'!$A$9=Display!$B$9,'Lux4-sept'!$A$75=Display!$B$11,'Lux4-sept'!$A$121=Display!$B$13),Display!$D9,)","v":0},{"$f":"IF(AND(AC$8=Display!$T$10,'Lux4-sept'!$A$8=Display!$B$7,'Lux4-sept'!$A$9=Display!$B$9,'Lux4-sept'!$A$75=Display!$B$11,'Lux4-sept'!$A$121=Display!$B$13),Display!$D9,)","v":0},{"$f":"IF(AND(AD$8=Display!$T$10,'Lux4-sept'!$A$8=Display!$B$7,'Lux4-sept'!$A$9=Display!$B$9,'Lux4-sept'!$A$75=Display!$B$11,'Lux4-sept'!$A$121=Display!$B$13),Display!$D9,)","v":0},{"$f":"IF(AND(AE$8=Display!$T$10,'Lux4-sept'!$A$8=Display!$B$7,'Lux4-sept'!$A$9=Display!$B$9,'Lux4-sept'!$A$75=Display!$B$11,'Lux4-sept'!$A$121=Display!$B$13),Display!$D9,)","v":0},{"$f":"IF(AND(AF$8=Display!$T$10,'Lux4-sept'!$A$8=Display!$B$7,'Lux4-sept'!$A$9=Display!$B$9,'Lux4-sept'!$A$75=Display!$B$11,'Lux4-sept'!$A$121=Display!$B$13),Display!$D9,)","v":0},null,null,0]
["Aucune trace de doigts",{"$f":"IF(AND(B$8=Display!$T$10,'Lux4-sept'!$A$8=Display!$B$7,'Lux4-sept'!$A$9=Display!$B$9,'Lux4-sept'!$A$75=Display!$B$11,'Lux4-sept'!$A$121=Display!$B$13),Display!$D10,)","v":0},{"$f":"IF(AND(C$8=Display!$T$10,'Lux4-sept'!$A$8=Display!$B$7,'Lux4-sept'!$A$9=Display!$B$9,'Lux4-sept'!$A$75=Display!$B$11,'Lux4-sept'!$A$121=Display!$B$13),Display!$D10,)","v":0},{"$f":"IF(AND(D$8=Display!$T$10,'Lux4-sept'!$A$8=Display!$B$7,'Lux4-sept'!$A$9=Display!$B$9,'Lux4-sept'!$A$75=Display!$B$11,'Lux4-sept'!$A$121=Display!$B$13),Display!$D10,)","v":0},{"$f":"IF(AND(E$8=Display!$T$10,'Lux4-sept'!$A$8=Display!$B$7,'Lux4-sept'!$A$9=Display!$B$9,'Lux4-sept'!$A$75=Display!$B$11,'Lux4-sept'!$A$121=Display!$B$13),Display!$D10,)","v":0},{"$f":"IF(AND(F$8=Display!$T$10,'Lux4-sept'!$A$8=Display!$B$7,'Lux4-sept'!$A$9=Display!$B$9,'Lux4-sept'!$A$75=Display!$B$11,'Lux4-sept'!$A$121=Display!$B$13),Display!$D10,)","v":0},{"$f":"IF(AND(G$8=Display!$T$10,'Lux4-sept'!$A$8=Display!$B$7,'Lux4-sept'!$A$9=Display!$B$9,'Lux4-sept'!$A$75=Display!$B$11,'Lux4-sept'!$A$121=Display!$B$13),Display!$D10,)","v":0},{"$f":"IF(AND(H$8=Display!$T$10,'Lux4-sept'!$A$8=Display!$B$7,'Lux4-sept'!$A$9=Display!$B$9,'Lux4-sept'!$A$75=Display!$B$11,'Lux4-sept'!$A$121=Display!$B$13),Display!$D10,)","v":0},{"$f":"IF(AND(I$8=Display!$T$10,'Lux4-sept'!$A$8=Display!$B$7,'Lux4-sept'!$A$9=Display!$B$9,'Lux4-sept'!$A$75=Display!$B$11,'Lux4-sept'!$A$121=Display!$B$13),Display!$D10,)","v":0},{"$f":"IF(AND(J$8=Display!$T$10,'Lux4-sept'!$A$8=Display!$B$7,'Lux4-sept'!$A$9=Display!$B$9,'Lux4-sept'!$A$75=Display!$B$11,'Lux4-sept'!$A$121=Display!$B$13),Display!$D10,)","v":0},{"$f":"IF(AND(K$8=Display!$T$10,'Lux4-sept'!$A$8=Display!$B$7,'Lux4-sept'!$A$9=Display!$B$9,'Lux4-sept'!$A$75=Display!$B$11,'Lux4-sept'!$A$121=Display!$B$13),Display!$D10,)","v":0},{"$f":"IF(AND(L$8=Display!$T$10,'Lux4-sept'!$A$8=Display!$B$7,'Lux4-sept'!$A$9=Display!$B$9,'Lux4-sept'!$A$75=Display!$B$11,'Lux4-sept'!$A$121=Display!$B$13),Display!$D10,)","v":0},{"$f":"IF(AND(M$8=Display!$T$10,'Lux4-sept'!$A$8=Display!$B$7,'Lux4-sept'!$A$9=Display!$B$9,'Lux4-sept'!$A$75=Display!$B$11,'Lux4-sept'!$A$121=Display!$B$13),Display!$D10,)","v":0},{"$f":"IF(AND(N$8=Display!$T$10,'Lux4-sept'!$A$8=Display!$B$7,'Lux4-sept'!$A$9=Display!$B$9,'Lux4-sept'!$A$75=Display!$B$11,'Lux4-sept'!$A$121=Display!$B$13),Display!$D10,)","v":0},{"$f":"IF(AND(O$8=Display!$T$10,'Lux4-sept'!$A$8=Display!$B$7,'Lux4-sept'!$A$9=Display!$B$9,'Lux4-sept'!$A$75=Display!$B$11,'Lux4-sept'!$A$121=Display!$B$13),Display!$D10,)","v":0},{"$f":"IF(AND(P$8=Display!$T$10,'Lux4-sept'!$A$8=Display!$B$7,'Lux4-sept'!$A$9=Display!$B$9,'Lux4-sept'!$A$75=Display!$B$11,'Lux4-sept'!$A$121=Display!$B$13),Display!$D10,)","v":0},{"$f":"IF(AND(Q$8=Display!$T$10,'Lux4-sept'!$A$8=Display!$B$7,'Lux4-sept'!$A$9=Display!$B$9,'Lux4-sept'!$A$75=Display!$B$11,'Lux4-sept'!$A$121=Display!$B$13),Display!$D10,)","v":0},{"$f":"IF(AND(R$8=Display!$T$10,'Lux4-sept'!$A$8=Display!$B$7,'Lux4-sept'!$A$9=Display!$B$9,'Lux4-sept'!$A$75=Display!$B$11,'Lux4-sept'!$A$121=Display!$B$13),Display!$D10,)","v":0},{"$f":"IF(AND(S$8=Display!$T$10,'Lux4-sept'!$A$8=Display!$B$7,'Lux4-sept'!$A$9=Display!$B$9,'Lux4-sept'!$A$75=Display!$B$11,'Lux4-sept'!$A$121=Display!$B$13),Display!$D10,)","v":0},{"$f":"IF(AND(T$8=Display!$T$10,'Lux4-sept'!$A$8=Display!$B$7,'Lux4-sept'!$A$9=Display!$B$9,'Lux4-sept'!$A$75=Display!$B$11,'Lux4-sept'!$A$121=Display!$B$13),Display!$D10,)","v":0},{"$f":"IF(AND(U$8=Display!$T$10,'Lux4-sept'!$A$8=Display!$B$7,'Lux4-sept'!$A$9=Display!$B$9,'Lux4-sept'!$A$75=Display!$B$11,'Lux4-sept'!$A$121=Display!$B$13),Display!$D10,)","v":0},{"$f":"IF(AND(V$8=Display!$T$10,'Lux4-sept'!$A$8=Display!$B$7,'Lux4-sept'!$A$9=Display!$B$9,'Lux4-sept'!$A$75=Display!$B$11,'Lux4-sept'!$A$121=Display!$B$13),Display!$D10,)","v":0},{"$f":"IF(AND(W$8=Display!$T$10,'Lux4-sept'!$A$8=Display!$B$7,'Lux4-sept'!$A$9=Display!$B$9,'Lux4-sept'!$A$75=Display!$B$11,'Lux4-sept'!$A$121=Display!$B$13),Display!$D10,)","v":0},{"$f":"IF(AND(X$8=Display!$T$10,'Lux4-sept'!$A$8=Display!$B$7,'Lux4-sept'!$A$9=Display!$B$9,'Lux4-sept'!$A$75=Display!$B$11,'Lux4-sept'!$A$121=Display!$B$13),Display!$D10,)","v":0},{"$f":"IF(AND(Y$8=Display!$T$10,'Lux4-sept'!$A$8=Display!$B$7,'Lux4-sept'!$A$9=Display!$B$9,'Lux4-sept'!$A$75=Display!$B$11,'Lux4-sept'!$A$121=Display!$B$13),Display!$D10,)","v":0},{"$f":"IF(AND(Z$8=Display!$T$10,'Lux4-sept'!$A$8=Display!$B$7,'Lux4-sept'!$A$9=Display!$B$9,'Lux4-sept'!$A$75=Display!$B$11,'Lux4-sept'!$A$121=Display!$B$13),Display!$D10,)","v":0},{"$f":"IF(AND(AA$8=Display!$T$10,'Lux4-sept'!$A$8=Display!$B$7,'Lux4-sept'!$A$9=Display!$B$9,'Lux4-sept'!$A$75=Display!$B$11,'Lux4-sept'!$A$121=Display!$B$13),Display!$D10,)","v":0},{"$f":"IF(AND(AB$8=Display!$T$10,'Lux4-sept'!$A$8=Display!$B$7,'Lux4-sept'!$A$9=Display!$B$9,'Lux4-sept'!$A$75=Display!$B$11,'Lux4-sept'!$A$121=Display!$B$13),Display!$D10,)","v":0},{"$f":"IF(AND(AC$8=Display!$T$10,'Lux4-sept'!$A$8=Display!$B$7,'Lux4-sept'!$A$9=Display!$B$9,'Lux4-sept'!$A$75=Display!$B$11,'Lux4-sept'!$A$121=Display!$B$13),Display!$D10,)","v":0},{"$f":"IF(AND(AD$8=Display!$T$10,'Lux4-sept'!$A$8=Display!$B$7,'Lux4-sept'!$A$9=Display!$B$9,'Lux4-sept'!$A$75=Display!$B$11,'Lux4-sept'!$A$121=Display!$B$13),Display!$D10,)","v":0},{"$f":"IF(AND(AE$8=Display!$T$10,'Lux4-sept'!$A$8=Display!$B$7,'Lux4-sept'!$A$9=Display!$B$9,'Lux4-sept'!$A$75=Display!$B$11,'Lux4-sept'!$A$121=Display!$B$13),Display!$D10,)","v":0},{"$f":"IF(AND(AF$8=Display!$T$10,'Lux4-sept'!$A$8=Display!$B$7,'Lux4-sept'!$A$9=Display!$B$9,'Lux4-sept'!$A$75=Display!$B$11,'Lux4-sept'!$A$121=Display!$B$13),Display!$D10,)","v":0},null,null,0]
["MOYENNE",{"$f":"((IF((SUM(B122:B128))<>0,(SUM(B122:B128)),0))/(IF((SUM((IF(B122<>0,3,0)),(IF(B123<>0,3,0)),(IF(B124<>0,3,0)),(IF(B125<>0,3,0)),(IF(B126<>0,3,0)),(IF(B127<>0,3,0)),(IF(B128<>0,3,0))))<>0,((SUM((IF(B122<>0,3,0)),(IF(B123<>0,3,0)),(IF(B124<>0,3,0)),(IF(B125<>0,3,0)),(IF(B126<>0,3,0)),(IF(B127<>0,3,0)),(IF(B128<>0,3,0))))),1)))","v":0},{"$f":"((IF((SUM(C122:C128))<>0,(SUM(C122:C128)),0))/(IF((SUM((IF(C122<>0,3,0)),(IF(C123<>0,3,0)),(IF(C124<>0,3,0)),(IF(C125<>0,3,0)),(IF(C126<>0,3,0)),(IF(C127<>0,3,0)),(IF(C128<>0,3,0))))<>0,((SUM((IF(C122<>0,3,0)),(IF(C123<>0,3,0)),(IF(C124<>0,3,0)),(IF(C125<>0,3,0)),(IF(C126<>0,3,0)),(IF(C127<>0,3,0)),(IF(C128<>0,3,0))))),1)))","v":0},0,0,0,0,0,0,0,0,0,0,0,0,0,0,0,0,0,0,0,0,0,0,0,0,0,0,0,0,0,0,0]
["03.501"]
["Chaises rangées",{"$f":"IF(AND(B$8=Display!$T$10,'Lux4-sept'!$A$8=Display!$B$7,'Lux4-sept'!$A$9=Display!$B$9,'Lux4-sept'!$A$75=Display!$B$11,'Lux4-sept'!$A$130=Display!$B$13),Display!$D4,)","v":0},{"$f":"IF(AND(C$8=Display!$T$10,'Lux4-sept'!$A$8=Display!$B$7,'Lux4-sept'!$A$9=Display!$B$9,'Lux4-sept'!$A$75=Display!$B$11,'Lux4-sept'!$A$130=Display!$B$13),Display!$D4,)","v":0},{"$f":"IF(AND(D$8=Display!$T$10,'Lux4-sept'!$A$8=Display!$B$7,'Lux4-sept'!$A$9=Display!$B$9,'Lux4-sept'!$A$75=Display!$B$11,'Lux4-sept'!$A$130=Display!$B$13),Display!$D4,)","v":0},{"$f":"IF(AND(E$8=Display!$T$10,'Lux4-sept'!$A$8=Display!$B$7,'Lux4-sept'!$A$9=Display!$B$9,'Lux4-sept'!$A$75=Display!$B$11,'Lux4-sept'!$A$130=Display!$B$13),Display!$D4,)","v":0},{"$f":"IF(AND(F$8=Display!$T$10,'Lux4-sept'!$A$8=Display!$B$7,'Lux4-sept'!$A$9=Display!$B$9,'Lux4-sept'!$A$75=Display!$B$11,'Lux4-sept'!$A$130=Display!$B$13),Display!$D4,)","v":0},{"$f":"IF(AND(G$8=Display!$T$10,'Lux4-sept'!$A$8=Display!$B$7,'Lux4-sept'!$A$9=Display!$B$9,'Lux4-sept'!$A$75=Display!$B$11,'Lux4-sept'!$A$130=Display!$B$13),Display!$D4,)","v":0},{"$f":"IF(AND(H$8=Display!$T$10,'Lux4-sept'!$A$8=Display!$B$7,'Lux4-sept'!$A$9=Display!$B$9,'Lux4-sept'!$A$75=Display!$B$11,'Lux4-sept'!$A$130=Display!$B$13),Display!$D4,)","v":0},{"$f":"IF(AND(I$8=Display!$T$10,'Lux4-sept'!$A$8=Display!$B$7,'Lux4-sept'!$A$9=Display!$B$9,'Lux4-sept'!$A$75=Display!$B$11,'Lux4-sept'!$A$130=Display!$B$13),Display!$D4,)","v":0},{"$f":"IF(AND(J$8=Display!$T$10,'Lux4-sept'!$A$8=Display!$B$7,'Lux4-sept'!$A$9=Display!$B$9,'Lux4-sept'!$A$75=Display!$B$11,'Lux4-sept'!$A$130=Display!$B$13),Display!$D4,)","v":0},{"$f":"IF(AND(K$8=Display!$T$10,'Lux4-sept'!$A$8=Display!$B$7,'Lux4-sept'!$A$9=Display!$B$9,'Lux4-sept'!$A$75=Display!$B$11,'Lux4-sept'!$A$130=Display!$B$13),Display!$D4,)","v":0},{"$f":"IF(AND(L$8=Display!$T$10,'Lux4-sept'!$A$8=Display!$B$7,'Lux4-sept'!$A$9=Display!$B$9,'Lux4-sept'!$A$75=Display!$B$11,'Lux4-sept'!$A$130=Display!$B$13),Display!$D4,)","v":0},{"$f":"IF(AND(M$8=Display!$T$10,'Lux4-sept'!$A$8=Display!$B$7,'Lux4-sept'!$A$9=Display!$B$9,'Lux4-sept'!$A$75=Display!$B$11,'Lux4-sept'!$A$130=Display!$B$13),Display!$D4,)","v":0},{"$f":"IF(AND(N$8=Display!$T$10,'Lux4-sept'!$A$8=Display!$B$7,'Lux4-sept'!$A$9=Display!$B$9,'Lux4-sept'!$A$75=Display!$B$11,'Lux4-sept'!$A$130=Display!$B$13),Display!$D4,)","v":0},{"$f":"IF(AND(O$8=Display!$T$10,'Lux4-sept'!$A$8=Display!$B$7,'Lux4-sept'!$A$9=Display!$B$9,'Lux4-sept'!$A$75=Display!$B$11,'Lux4-sept'!$A$130=Display!$B$13),Display!$D4,)","v":0},{"$f":"IF(AND(P$8=Display!$T$10,'Lux4-sept'!$A$8=Display!$B$7,'Lux4-sept'!$A$9=Display!$B$9,'Lux4-sept'!$A$75=Display!$B$11,'Lux4-sept'!$A$130=Display!$B$13),Display!$D4,)","v":0},{"$f":"IF(AND(Q$8=Display!$T$10,'Lux4-sept'!$A$8=Display!$B$7,'Lux4-sept'!$A$9=Display!$B$9,'Lux4-sept'!$A$75=Display!$B$11,'Lux4-sept'!$A$130=Display!$B$13),Display!$D4,)","v":0},{"$f":"IF(AND(R$8=Display!$T$10,'Lux4-sept'!$A$8=Display!$B$7,'Lux4-sept'!$A$9=Display!$B$9,'Lux4-sept'!$A$75=Display!$B$11,'Lux4-sept'!$A$130=Display!$B$13),Display!$D4,)","v":0},{"$f":"IF(AND(S$8=Display!$T$10,'Lux4-sept'!$A$8=Display!$B$7,'Lux4-sept'!$A$9=Display!$B$9,'Lux4-sept'!$A$75=Display!$B$11,'Lux4-sept'!$A$130=Display!$B$13),Display!$D4,)","v":0},{"$f":"IF(AND(T$8=Display!$T$10,'Lux4-sept'!$A$8=Display!$B$7,'Lux4-sept'!$A$9=Display!$B$9,'Lux4-sept'!$A$75=Display!$B$11,'Lux4-sept'!$A$130=Display!$B$13),Display!$D4,)","v":0},{"$f":"IF(AND(U$8=Display!$T$10,'Lux4-sept'!$A$8=Display!$B$7,'Lux4-sept'!$A$9=Display!$B$9,'Lux4-sept'!$A$75=Display!$B$11,'Lux4-sept'!$A$130=Display!$B$13),Display!$D4,)","v":0},{"$f":"IF(AND(V$8=Display!$T$10,'Lux4-sept'!$A$8=Display!$B$7,'Lux4-sept'!$A$9=Display!$B$9,'Lux4-sept'!$A$75=Display!$B$11,'Lux4-sept'!$A$130=Display!$B$13),Display!$D4,)","v":0},{"$f":"IF(AND(W$8=Display!$T$10,'Lux4-sept'!$A$8=Display!$B$7,'Lux4-sept'!$A$9=Display!$B$9,'Lux4-sept'!$A$75=Display!$B$11,'Lux4-sept'!$A$130=Display!$B$13),Display!$D4,)","v":0},{"$f":"IF(AND(X$8=Display!$T$10,'Lux4-sept'!$A$8=Display!$B$7,'Lux4-sept'!$A$9=Display!$B$9,'Lux4-sept'!$A$75=Display!$B$11,'Lux4-sept'!$A$130=Display!$B$13),Display!$D4,)","v":0},{"$f":"IF(AND(Y$8=Display!$T$10,'Lux4-sept'!$A$8=Display!$B$7,'Lux4-sept'!$A$9=Display!$B$9,'Lux4-sept'!$A$75=Display!$B$11,'Lux4-sept'!$A$130=Display!$B$13),Display!$D4,)","v":0},{"$f":"IF(AND(Z$8=Display!$T$10,'Lux4-sept'!$A$8=Display!$B$7,'Lux4-sept'!$A$9=Display!$B$9,'Lux4-sept'!$A$75=Display!$B$11,'Lux4-sept'!$A$130=Display!$B$13),Display!$D4,)","v":0},{"$f":"IF(AND(AA$8=Display!$T$10,'Lux4-sept'!$A$8=Display!$B$7,'Lux4-sept'!$A$9=Display!$B$9,'Lux4-sept'!$A$75=Display!$B$11,'Lux4-sept'!$A$130=Display!$B$13),Display!$D4,)","v":0},{"$f":"IF(AND(AB$8=Display!$T$10,'Lux4-sept'!$A$8=Display!$B$7,'Lux4-sept'!$A$9=Display!$B$9,'Lux4-sept'!$A$75=Display!$B$11,'Lux4-sept'!$A$130=Display!$B$13),Display!$D4,)","v":0},{"$f":"IF(AND(AC$8=Display!$T$10,'Lux4-sept'!$A$8=Display!$B$7,'Lux4-sept'!$A$9=Display!$B$9,'Lux4-sept'!$A$75=Display!$B$11,'Lux4-sept'!$A$130=Display!$B$13),Display!$D4,)","v":0},{"$f":"IF(AND(AD$8=Display!$T$10,'Lux4-sept'!$A$8=Display!$B$7,'Lux4-sept'!$A$9=Display!$B$9,'Lux4-sept'!$A$75=Display!$B$11,'Lux4-sept'!$A$130=Display!$B$13),Display!$D4,)","v":0},{"$f":"IF(AND(AE$8=Display!$T$10,'Lux4-sept'!$A$8=Display!$B$7,'Lux4-sept'!$A$9=Display!$B$9,'Lux4-sept'!$A$75=Display!$B$11,'Lux4-sept'!$A$130=Display!$B$13),Display!$D4,)","v":0},{"$f":"IF(AND(AF$8=Display!$T$10,'Lux4-sept'!$A$8=Display!$B$7,'Lux4-sept'!$A$9=Display!$B$9,'Lux4-sept'!$A$75=Display!$B$11,'Lux4-sept'!$A$130=Display!$B$13),Display!$D4,)","v":0},null,null,{"$f":"((IF((SUM(B131:AF131))<>0,(SUM(B131:AF131)),0))/(IF((SUM((IF(B131<>0,3,0)),(IF(C131<>0,3,0)),(IF(D131<>0,3,0)),(IF(E131<>0,3,0)),(IF(F131<>0,3,0)),(IF(F131<>0,3,0)),(IF(F131<>0,3,0)),(IF(G131<>0,3,0)),(IF(H131<>0,3,0)),(IF(I131<>0,3,0)),(IF(J131<>0,3,0)),(IF(K131<>0,3,0)),(IF(L131<>0,3,0)),(IF(M131<>0,3,0)),(IF(N131<>0,3,0)),(IF(O131<>0,3,0)),(IF(P131<>0,3,0)),(IF(Q131<>0,3,0)),(IF(R131<>0,3,0)),(IF(S131<>0,3,0)),(IF(T131<>0,3,0)),(IF(U131<>0,3,0)),(IF(V131<>0,3,0)),(IF(W131<>0,3,0)),(IF(X131<>0,3,0)),(IF(Y131<>0,3,0)),(IF(Z131<>0,3,0)),(IF(AA131<>0,3,0)),(IF(AB131<>0,3,0)),(IF(AC131<>0,3,0)),(IF(AD131<>0,3,0)),(IF(AE131<>0,3,0)),(IF(AF131<>0,3,0))))<>0,((SUM((IF(B131<>0,3,0)),(IF(C131<>0,3,0)),(IF(D131<>0,3,0)),(IF(E131<>0,3,0)),(IF(F131<>0,3,0)),(IF(F131<>0,3,0)),(IF(F131<>0,3,0)),(IF(G131<>0,3,0)),(IF(H131<>0,3,0)),(IF(I131<>0,3,0)),(IF(J131<>0,3,0)),(IF(K131<>0,3,0)),(IF(L131<>0,3,0)),(IF(M131<>0,3,0)),(IF(N131<>0,3,0)),(IF(O131<>0,3,0)),(IF(P131<>0,3,0)),(IF(Q131<>0,3,0)),(IF(R131<>0,3,0)),(IF(S131<>0,3,0)),(IF(T131<>0,3,0)),(IF(U131<>0,3,0)),(IF(V131<>0,3,0)),(IF(W131<>0,3,0)),(IF(X131<>0,3,0)),(IF(Y131<>0,3,0)),(IF(Z131<>0,3,0)),(IF(AA131<>0,3,0)),(IF(AB131<>0,3,0)),(IF(AC131<>0,3,0)),(IF(AD131<>0,3,0)),(IF(AE131<>0,3,0)),(IF(AF131<>0,3,0))))),1)))","v":0}]
["Poubelles vidées",{"$f":"IF(AND(B$8=Display!$T$10,'Lux4-sept'!$A$8=Display!$B$7,'Lux4-sept'!$A$9=Display!$B$9,'Lux4-sept'!$A$75=Display!$B$11,'Lux4-sept'!$A$130=Display!$B$13),Display!$D5,)","v":0},{"$f":"IF(AND(C$8=Display!$T$10,'Lux4-sept'!$A$8=Display!$B$7,'Lux4-sept'!$A$9=Display!$B$9,'Lux4-sept'!$A$75=Display!$B$11,'Lux4-sept'!$A$130=Display!$B$13),Display!$D5,)","v":0},{"$f":"IF(AND(D$8=Display!$T$10,'Lux4-sept'!$A$8=Display!$B$7,'Lux4-sept'!$A$9=Display!$B$9,'Lux4-sept'!$A$75=Display!$B$11,'Lux4-sept'!$A$130=Display!$B$13),Display!$D5,)","v":0},{"$f":"IF(AND(E$8=Display!$T$10,'Lux4-sept'!$A$8=Display!$B$7,'Lux4-sept'!$A$9=Display!$B$9,'Lux4-sept'!$A$75=Display!$B$11,'Lux4-sept'!$A$130=Display!$B$13),Display!$D5,)","v":0},{"$f":"IF(AND(F$8=Display!$T$10,'Lux4-sept'!$A$8=Display!$B$7,'Lux4-sept'!$A$9=Display!$B$9,'Lux4-sept'!$A$75=Display!$B$11,'Lux4-sept'!$A$130=Display!$B$13),Display!$D5,)","v":0},{"$f":"IF(AND(G$8=Display!$T$10,'Lux4-sept'!$A$8=Display!$B$7,'Lux4-sept'!$A$9=Display!$B$9,'Lux4-sept'!$A$75=Display!$B$11,'Lux4-sept'!$A$130=Display!$B$13),Display!$D5,)","v":0},{"$f":"IF(AND(H$8=Display!$T$10,'Lux4-sept'!$A$8=Display!$B$7,'Lux4-sept'!$A$9=Display!$B$9,'Lux4-sept'!$A$75=Display!$B$11,'Lux4-sept'!$A$130=Display!$B$13),Display!$D5,)","v":0},{"$f":"IF(AND(I$8=Display!$T$10,'Lux4-sept'!$A$8=Display!$B$7,'Lux4-sept'!$A$9=Display!$B$9,'Lux4-sept'!$A$75=Display!$B$11,'Lux4-sept'!$A$130=Display!$B$13),Display!$D5,)","v":0},{"$f":"IF(AND(J$8=Display!$T$10,'Lux4-sept'!$A$8=Display!$B$7,'Lux4-sept'!$A$9=Display!$B$9,'Lux4-sept'!$A$75=Display!$B$11,'Lux4-sept'!$A$130=Display!$B$13),Display!$D5,)","v":0},{"$f":"IF(AND(K$8=Display!$T$10,'Lux4-sept'!$A$8=Display!$B$7,'Lux4-sept'!$A$9=Display!$B$9,'Lux4-sept'!$A$75=Display!$B$11,'Lux4-sept'!$A$130=Display!$B$13),Display!$D5,)","v":0},{"$f":"IF(AND(L$8=Display!$T$10,'Lux4-sept'!$A$8=Display!$B$7,'Lux4-sept'!$A$9=Display!$B$9,'Lux4-sept'!$A$75=Display!$B$11,'Lux4-sept'!$A$130=Display!$B$13),Display!$D5,)","v":0},{"$f":"IF(AND(M$8=Display!$T$10,'Lux4-sept'!$A$8=Display!$B$7,'Lux4-sept'!$A$9=Display!$B$9,'Lux4-sept'!$A$75=Display!$B$11,'Lux4-sept'!$A$130=Display!$B$13),Display!$D5,)","v":0},{"$f":"IF(AND(N$8=Display!$T$10,'Lux4-sept'!$A$8=Display!$B$7,'Lux4-sept'!$A$9=Display!$B$9,'Lux4-sept'!$A$75=Display!$B$11,'Lux4-sept'!$A$130=Display!$B$13),Display!$D5,)","v":0},{"$f":"IF(AND(O$8=Display!$T$10,'Lux4-sept'!$A$8=Display!$B$7,'Lux4-sept'!$A$9=Display!$B$9,'Lux4-sept'!$A$75=Display!$B$11,'Lux4-sept'!$A$130=Display!$B$13),Display!$D5,)","v":0},{"$f":"IF(AND(P$8=Display!$T$10,'Lux4-sept'!$A$8=Display!$B$7,'Lux4-sept'!$A$9=Display!$B$9,'Lux4-sept'!$A$75=Display!$B$11,'Lux4-sept'!$A$130=Display!$B$13),Display!$D5,)","v":0},{"$f":"IF(AND(Q$8=Display!$T$10,'Lux4-sept'!$A$8=Display!$B$7,'Lux4-sept'!$A$9=Display!$B$9,'Lux4-sept'!$A$75=Display!$B$11,'Lux4-sept'!$A$130=Display!$B$13),Display!$D5,)","v":0},{"$f":"IF(AND(R$8=Display!$T$10,'Lux4-sept'!$A$8=Display!$B$7,'Lux4-sept'!$A$9=Display!$B$9,'Lux4-sept'!$A$75=Display!$B$11,'Lux4-sept'!$A$130=Display!$B$13),Display!$D5,)","v":0},{"$f":"IF(AND(S$8=Display!$T$10,'Lux4-sept'!$A$8=Display!$B$7,'Lux4-sept'!$A$9=Display!$B$9,'Lux4-sept'!$A$75=Display!$B$11,'Lux4-sept'!$A$130=Display!$B$13),Display!$D5,)","v":0},{"$f":"IF(AND(T$8=Display!$T$10,'Lux4-sept'!$A$8=Display!$B$7,'Lux4-sept'!$A$9=Display!$B$9,'Lux4-sept'!$A$75=Display!$B$11,'Lux4-sept'!$A$130=Display!$B$13),Display!$D5,)","v":0},{"$f":"IF(AND(U$8=Display!$T$10,'Lux4-sept'!$A$8=Display!$B$7,'Lux4-sept'!$A$9=Display!$B$9,'Lux4-sept'!$A$75=Display!$B$11,'Lux4-sept'!$A$130=Display!$B$13),Display!$D5,)","v":0},{"$f":"IF(AND(V$8=Display!$T$10,'Lux4-sept'!$A$8=Display!$B$7,'Lux4-sept'!$A$9=Display!$B$9,'Lux4-sept'!$A$75=Display!$B$11,'Lux4-sept'!$A$130=Display!$B$13),Display!$D5,)","v":0},{"$f":"IF(AND(W$8=Display!$T$10,'Lux4-sept'!$A$8=Display!$B$7,'Lux4-sept'!$A$9=Display!$B$9,'Lux4-sept'!$A$75=Display!$B$11,'Lux4-sept'!$A$130=Display!$B$13),Display!$D5,)","v":0},{"$f":"IF(AND(X$8=Display!$T$10,'Lux4-sept'!$A$8=Display!$B$7,'Lux4-sept'!$A$9=Display!$B$9,'Lux4-sept'!$A$75=Display!$B$11,'Lux4-sept'!$A$130=Display!$B$13),Display!$D5,)","v":0},{"$f":"IF(AND(Y$8=Display!$T$10,'Lux4-sept'!$A$8=Display!$B$7,'Lux4-sept'!$A$9=Display!$B$9,'Lux4-sept'!$A$75=Display!$B$11,'Lux4-sept'!$A$130=Display!$B$13),Display!$D5,)","v":0},{"$f":"IF(AND(Z$8=Display!$T$10,'Lux4-sept'!$A$8=Display!$B$7,'Lux4-sept'!$A$9=Display!$B$9,'Lux4-sept'!$A$75=Display!$B$11,'Lux4-sept'!$A$130=Display!$B$13),Display!$D5,)","v":0},{"$f":"IF(AND(AA$8=Display!$T$10,'Lux4-sept'!$A$8=Display!$B$7,'Lux4-sept'!$A$9=Display!$B$9,'Lux4-sept'!$A$75=Display!$B$11,'Lux4-sept'!$A$130=Display!$B$13),Display!$D5,)","v":0},{"$f":"IF(AND(AB$8=Display!$T$10,'Lux4-sept'!$A$8=Display!$B$7,'Lux4-sept'!$A$9=Display!$B$9,'Lux4-sept'!$A$75=Display!$B$11,'Lux4-sept'!$A$130=Display!$B$13),Display!$D5,)","v":0},{"$f":"IF(AND(AC$8=Display!$T$10,'Lux4-sept'!$A$8=Display!$B$7,'Lux4-sept'!$A$9=Display!$B$9,'Lux4-sept'!$A$75=Display!$B$11,'Lux4-sept'!$A$130=Display!$B$13),Display!$D5,)","v":0},{"$f":"IF(AND(AD$8=Display!$T$10,'Lux4-sept'!$A$8=Display!$B$7,'Lux4-sept'!$A$9=Display!$B$9,'Lux4-sept'!$A$75=Display!$B$11,'Lux4-sept'!$A$130=Display!$B$13),Display!$D5,)","v":0},{"$f":"IF(AND(AE$8=Display!$T$10,'Lux4-sept'!$A$8=Display!$B$7,'Lux4-sept'!$A$9=Display!$B$9,'Lux4-sept'!$A$75=Display!$B$11,'Lux4-sept'!$A$130=Display!$B$13),Display!$D5,)","v":0},{"$f":"IF(AND(AF$8=Display!$T$10,'Lux4-sept'!$A$8=Display!$B$7,'Lux4-sept'!$A$9=Display!$B$9,'Lux4-sept'!$A$75=Display!$B$11,'Lux4-sept'!$A$130=Display!$B$13),Display!$D5,)","v":0},null,null,{"$f":"((IF((SUM(B132:AF132))<>0,(SUM(B132:AF132)),0))/(IF((SUM((IF(B132<>0,3,0)),(IF(C132<>0,3,0)),(IF(D132<>0,3,0)),(IF(E132<>0,3,0)),(IF(F132<>0,3,0)),(IF(F132<>0,3,0)),(IF(F132<>0,3,0)),(IF(G132<>0,3,0)),(IF(H132<>0,3,0)),(IF(I132<>0,3,0)),(IF(J132<>0,3,0)),(IF(K132<>0,3,0)),(IF(L132<>0,3,0)),(IF(M132<>0,3,0)),(IF(N132<>0,3,0)),(IF(O132<>0,3,0)),(IF(P132<>0,3,0)),(IF(Q132<>0,3,0)),(IF(R132<>0,3,0)),(IF(S132<>0,3,0)),(IF(T132<>0,3,0)),(IF(U132<>0,3,0)),(IF(V132<>0,3,0)),(IF(W132<>0,3,0)),(IF(X132<>0,3,0)),(IF(Y132<>0,3,0)),(IF(Z132<>0,3,0)),(IF(AA132<>0,3,0)),(IF(AB132<>0,3,0)),(IF(AC132<>0,3,0)),(IF(AD132<>0,3,0)),(IF(AE132<>0,3,0)),(IF(AF132<>0,3,0))))<>0,((SUM((IF(B132<>0,3,0)),(IF(C132<>0,3,0)),(IF(D132<>0,3,0)),(IF(E132<>0,3,0)),(IF(F132<>0,3,0)),(IF(F132<>0,3,0)),(IF(F132<>0,3,0)),(IF(G132<>0,3,0)),(IF(H132<>0,3,0)),(IF(I132<>0,3,0)),(IF(J132<>0,3,0)),(IF(K132<>0,3,0)),(IF(L132<>0,3,0)),(IF(M132<>0,3,0)),(IF(N132<>0,3,0)),(IF(O132<>0,3,0)),(IF(P132<>0,3,0)),(IF(Q132<>0,3,0)),(IF(R132<>0,3,0)),(IF(S132<>0,3,0)),(IF(T132<>0,3,0)),(IF(U132<>0,3,0)),(IF(V132<>0,3,0)),(IF(W132<>0,3,0)),(IF(X132<>0,3,0)),(IF(Y132<>0,3,0)),(IF(Z132<>0,3,0)),(IF(AA132<>0,3,0)),(IF(AB132<>0,3,0)),(IF(AC132<>0,3,0)),(IF(AD132<>0,3,0)),(IF(AE132<>0,3,0)),(IF(AF132<>0,3,0))))),1)))","v":0}]
["Tables nettoyées",{"$f":"IF(AND(B$8=Display!$T$10,'Lux4-sept'!$A$8=Display!$B$7,'Lux4-sept'!$A$9=Display!$B$9,'Lux4-sept'!$A$75=Display!$B$11,'Lux4-sept'!$A$130=Display!$B$13),Display!$D6,)","v":0},{"$f":"IF(AND(C$8=Display!$T$10,'Lux4-sept'!$A$8=Display!$B$7,'Lux4-sept'!$A$9=Display!$B$9,'Lux4-sept'!$A$75=Display!$B$11,'Lux4-sept'!$A$130=Display!$B$13),Display!$D6,)","v":0},{"$f":"IF(AND(D$8=Display!$T$10,'Lux4-sept'!$A$8=Display!$B$7,'Lux4-sept'!$A$9=Display!$B$9,'Lux4-sept'!$A$75=Display!$B$11,'Lux4-sept'!$A$130=Display!$B$13),Display!$D6,)","v":0},{"$f":"IF(AND(E$8=Display!$T$10,'Lux4-sept'!$A$8=Display!$B$7,'Lux4-sept'!$A$9=Display!$B$9,'Lux4-sept'!$A$75=Display!$B$11,'Lux4-sept'!$A$130=Display!$B$13),Display!$D6,)","v":0},{"$f":"IF(AND(F$8=Display!$T$10,'Lux4-sept'!$A$8=Display!$B$7,'Lux4-sept'!$A$9=Display!$B$9,'Lux4-sept'!$A$75=Display!$B$11,'Lux4-sept'!$A$130=Display!$B$13),Display!$D6,)","v":0},{"$f":"IF(AND(G$8=Display!$T$10,'Lux4-sept'!$A$8=Display!$B$7,'Lux4-sept'!$A$9=Display!$B$9,'Lux4-sept'!$A$75=Display!$B$11,'Lux4-sept'!$A$130=Display!$B$13),Display!$D6,)","v":0},{"$f":"IF(AND(H$8=Display!$T$10,'Lux4-sept'!$A$8=Display!$B$7,'Lux4-sept'!$A$9=Display!$B$9,'Lux4-sept'!$A$75=Display!$B$11,'Lux4-sept'!$A$130=Display!$B$13),Display!$D6,)","v":0},{"$f":"IF(AND(I$8=Display!$T$10,'Lux4-sept'!$A$8=Display!$B$7,'Lux4-sept'!$A$9=Display!$B$9,'Lux4-sept'!$A$75=Display!$B$11,'Lux4-sept'!$A$130=Display!$B$13),Display!$D6,)","v":0},{"$f":"IF(AND(J$8=Display!$T$10,'Lux4-sept'!$A$8=Display!$B$7,'Lux4-sept'!$A$9=Display!$B$9,'Lux4-sept'!$A$75=Display!$B$11,'Lux4-sept'!$A$130=Display!$B$13),Display!$D6,)","v":0},{"$f":"IF(AND(K$8=Display!$T$10,'Lux4-sept'!$A$8=Display!$B$7,'Lux4-sept'!$A$9=Display!$B$9,'Lux4-sept'!$A$75=Display!$B$11,'Lux4-sept'!$A$130=Display!$B$13),Display!$D6,)","v":0},{"$f":"IF(AND(L$8=Display!$T$10,'Lux4-sept'!$A$8=Display!$B$7,'Lux4-sept'!$A$9=Display!$B$9,'Lux4-sept'!$A$75=Display!$B$11,'Lux4-sept'!$A$130=Display!$B$13),Display!$D6,)","v":0},{"$f":"IF(AND(M$8=Display!$T$10,'Lux4-sept'!$A$8=Display!$B$7,'Lux4-sept'!$A$9=Display!$B$9,'Lux4-sept'!$A$75=Display!$B$11,'Lux4-sept'!$A$130=Display!$B$13),Display!$D6,)","v":0},{"$f":"IF(AND(N$8=Display!$T$10,'Lux4-sept'!$A$8=Display!$B$7,'Lux4-sept'!$A$9=Display!$B$9,'Lux4-sept'!$A$75=Display!$B$11,'Lux4-sept'!$A$130=Display!$B$13),Display!$D6,)","v":0},{"$f":"IF(AND(O$8=Display!$T$10,'Lux4-sept'!$A$8=Display!$B$7,'Lux4-sept'!$A$9=Display!$B$9,'Lux4-sept'!$A$75=Display!$B$11,'Lux4-sept'!$A$130=Display!$B$13),Display!$D6,)","v":0},{"$f":"IF(AND(P$8=Display!$T$10,'Lux4-sept'!$A$8=Display!$B$7,'Lux4-sept'!$A$9=Display!$B$9,'Lux4-sept'!$A$75=Display!$B$11,'Lux4-sept'!$A$130=Display!$B$13),Display!$D6,)","v":0},{"$f":"IF(AND(Q$8=Display!$T$10,'Lux4-sept'!$A$8=Display!$B$7,'Lux4-sept'!$A$9=Display!$B$9,'Lux4-sept'!$A$75=Display!$B$11,'Lux4-sept'!$A$130=Display!$B$13),Display!$D6,)","v":0},{"$f":"IF(AND(R$8=Display!$T$10,'Lux4-sept'!$A$8=Display!$B$7,'Lux4-sept'!$A$9=Display!$B$9,'Lux4-sept'!$A$75=Display!$B$11,'Lux4-sept'!$A$130=Display!$B$13),Display!$D6,)","v":0},{"$f":"IF(AND(S$8=Display!$T$10,'Lux4-sept'!$A$8=Display!$B$7,'Lux4-sept'!$A$9=Display!$B$9,'Lux4-sept'!$A$75=Display!$B$11,'Lux4-sept'!$A$130=Display!$B$13),Display!$D6,)","v":0},{"$f":"IF(AND(T$8=Display!$T$10,'Lux4-sept'!$A$8=Display!$B$7,'Lux4-sept'!$A$9=Display!$B$9,'Lux4-sept'!$A$75=Display!$B$11,'Lux4-sept'!$A$130=Display!$B$13),Display!$D6,)","v":0},{"$f":"IF(AND(U$8=Display!$T$10,'Lux4-sept'!$A$8=Display!$B$7,'Lux4-sept'!$A$9=Display!$B$9,'Lux4-sept'!$A$75=Display!$B$11,'Lux4-sept'!$A$130=Display!$B$13),Display!$D6,)","v":0},{"$f":"IF(AND(V$8=Display!$T$10,'Lux4-sept'!$A$8=Display!$B$7,'Lux4-sept'!$A$9=Display!$B$9,'Lux4-sept'!$A$75=Display!$B$11,'Lux4-sept'!$A$130=Display!$B$13),Display!$D6,)","v":0},{"$f":"IF(AND(W$8=Display!$T$10,'Lux4-sept'!$A$8=Display!$B$7,'Lux4-sept'!$A$9=Display!$B$9,'Lux4-sept'!$A$75=Display!$B$11,'Lux4-sept'!$A$130=Display!$B$13),Display!$D6,)","v":0},{"$f":"IF(AND(X$8=Display!$T$10,'Lux4-sept'!$A$8=Display!$B$7,'Lux4-sept'!$A$9=Display!$B$9,'Lux4-sept'!$A$75=Display!$B$11,'Lux4-sept'!$A$130=Display!$B$13),Display!$D6,)","v":0},{"$f":"IF(AND(Y$8=Display!$T$10,'Lux4-sept'!$A$8=Display!$B$7,'Lux4-sept'!$A$9=Display!$B$9,'Lux4-sept'!$A$75=Display!$B$11,'Lux4-sept'!$A$130=Display!$B$13),Display!$D6,)","v":0},{"$f":"IF(AND(Z$8=Display!$T$10,'Lux4-sept'!$A$8=Display!$B$7,'Lux4-sept'!$A$9=Display!$B$9,'Lux4-sept'!$A$75=Display!$B$11,'Lux4-sept'!$A$130=Display!$B$13),Display!$D6,)","v":0},{"$f":"IF(AND(AA$8=Display!$T$10,'Lux4-sept'!$A$8=Display!$B$7,'Lux4-sept'!$A$9=Display!$B$9,'Lux4-sept'!$A$75=Display!$B$11,'Lux4-sept'!$A$130=Display!$B$13),Display!$D6,)","v":0},{"$f":"IF(AND(AB$8=Display!$T$10,'Lux4-sept'!$A$8=Display!$B$7,'Lux4-sept'!$A$9=Display!$B$9,'Lux4-sept'!$A$75=Display!$B$11,'Lux4-sept'!$A$130=Display!$B$13),Display!$D6,)","v":0},{"$f":"IF(AND(AC$8=Display!$T$10,'Lux4-sept'!$A$8=Display!$B$7,'Lux4-sept'!$A$9=Display!$B$9,'Lux4-sept'!$A$75=Display!$B$11,'Lux4-sept'!$A$130=Display!$B$13),Display!$D6,)","v":0},{"$f":"IF(AND(AD$8=Display!$T$10,'Lux4-sept'!$A$8=Display!$B$7,'Lux4-sept'!$A$9=Display!$B$9,'Lux4-sept'!$A$75=Display!$B$11,'Lux4-sept'!$A$130=Display!$B$13),Display!$D6,)","v":0},{"$f":"IF(AND(AE$8=Display!$T$10,'Lux4-sept'!$A$8=Display!$B$7,'Lux4-sept'!$A$9=Display!$B$9,'Lux4-sept'!$A$75=Display!$B$11,'Lux4-sept'!$A$130=Display!$B$13),Display!$D6,)","v":0},{"$f":"IF(AND(AF$8=Display!$T$10,'Lux4-sept'!$A$8=Display!$B$7,'Lux4-sept'!$A$9=Display!$B$9,'Lux4-sept'!$A$75=Display!$B$11,'Lux4-sept'!$A$130=Display!$B$13),Display!$D6,)","v":0},null,null,0]
["Tableaux effacés",{"$f":"IF(AND(B$8=Display!$T$10,'Lux4-sept'!$A$8=Display!$B$7,'Lux4-sept'!$A$9=Display!$B$9,'Lux4-sept'!$A$75=Display!$B$11,'Lux4-sept'!$A$130=Display!$B$13),Display!$D7,)","v":0},{"$f":"IF(AND(C$8=Display!$T$10,'Lux4-sept'!$A$8=Display!$B$7,'Lux4-sept'!$A$9=Display!$B$9,'Lux4-sept'!$A$75=Display!$B$11,'Lux4-sept'!$A$130=Display!$B$13),Display!$D7,)","v":0},{"$f":"IF(AND(D$8=Display!$T$10,'Lux4-sept'!$A$8=Display!$B$7,'Lux4-sept'!$A$9=Display!$B$9,'Lux4-sept'!$A$75=Display!$B$11,'Lux4-sept'!$A$130=Display!$B$13),Display!$D7,)","v":0},{"$f":"IF(AND(E$8=Display!$T$10,'Lux4-sept'!$A$8=Display!$B$7,'Lux4-sept'!$A$9=Display!$B$9,'Lux4-sept'!$A$75=Display!$B$11,'Lux4-sept'!$A$130=Display!$B$13),Display!$D7,)","v":0},{"$f":"IF(AND(F$8=Display!$T$10,'Lux4-sept'!$A$8=Display!$B$7,'Lux4-sept'!$A$9=Display!$B$9,'Lux4-sept'!$A$75=Display!$B$11,'Lux4-sept'!$A$130=Display!$B$13),Display!$D7,)","v":0},{"$f":"IF(AND(G$8=Display!$T$10,'Lux4-sept'!$A$8=Display!$B$7,'Lux4-sept'!$A$9=Display!$B$9,'Lux4-sept'!$A$75=Display!$B$11,'Lux4-sept'!$A$130=Display!$B$13),Display!$D7,)","v":0},{"$f":"IF(AND(H$8=Display!$T$10,'Lux4-sept'!$A$8=Display!$B$7,'Lux4-sept'!$A$9=Display!$B$9,'Lux4-sept'!$A$75=Display!$B$11,'Lux4-sept'!$A$130=Display!$B$13),Display!$D7,)","v":0},{"$f":"IF(AND(I$8=Display!$T$10,'Lux4-sept'!$A$8=Display!$B$7,'Lux4-sept'!$A$9=Display!$B$9,'Lux4-sept'!$A$75=Display!$B$11,'Lux4-sept'!$A$130=Display!$B$13),Display!$D7,)","v":0},{"$f":"IF(AND(J$8=Display!$T$10,'Lux4-sept'!$A$8=Display!$B$7,'Lux4-sept'!$A$9=Display!$B$9,'Lux4-sept'!$A$75=Display!$B$11,'Lux4-sept'!$A$130=Display!$B$13),Display!$D7,)","v":0},{"$f":"IF(AND(K$8=Display!$T$10,'Lux4-sept'!$A$8=Display!$B$7,'Lux4-sept'!$A$9=Display!$B$9,'Lux4-sept'!$A$75=Display!$B$11,'Lux4-sept'!$A$130=Display!$B$13),Display!$D7,)","v":0},{"$f":"IF(AND(L$8=Display!$T$10,'Lux4-sept'!$A$8=Display!$B$7,'Lux4-sept'!$A$9=Display!$B$9,'Lux4-sept'!$A$75=Display!$B$11,'Lux4-sept'!$A$130=Display!$B$13),Display!$D7,)","v":0},{"$f":"IF(AND(M$8=Display!$T$10,'Lux4-sept'!$A$8=Display!$B$7,'Lux4-sept'!$A$9=Display!$B$9,'Lux4-sept'!$A$75=Display!$B$11,'Lux4-sept'!$A$130=Display!$B$13),Display!$D7,)","v":0},{"$f":"IF(AND(N$8=Display!$T$10,'Lux4-sept'!$A$8=Display!$B$7,'Lux4-sept'!$A$9=Display!$B$9,'Lux4-sept'!$A$75=Display!$B$11,'Lux4-sept'!$A$130=Display!$B$13),Display!$D7,)","v":0},{"$f":"IF(AND(O$8=Display!$T$10,'Lux4-sept'!$A$8=Display!$B$7,'Lux4-sept'!$A$9=Display!$B$9,'Lux4-sept'!$A$75=Display!$B$11,'Lux4-sept'!$A$130=Display!$B$13),Display!$D7,)","v":0},{"$f":"IF(AND(P$8=Display!$T$10,'Lux4-sept'!$A$8=Display!$B$7,'Lux4-sept'!$A$9=Display!$B$9,'Lux4-sept'!$A$75=Display!$B$11,'Lux4-sept'!$A$130=Display!$B$13),Display!$D7,)","v":0},{"$f":"IF(AND(Q$8=Display!$T$10,'Lux4-sept'!$A$8=Display!$B$7,'Lux4-sept'!$A$9=Display!$B$9,'Lux4-sept'!$A$75=Display!$B$11,'Lux4-sept'!$A$130=Display!$B$13),Display!$D7,)","v":0},{"$f":"IF(AND(R$8=Display!$T$10,'Lux4-sept'!$A$8=Display!$B$7,'Lux4-sept'!$A$9=Display!$B$9,'Lux4-sept'!$A$75=Display!$B$11,'Lux4-sept'!$A$130=Display!$B$13),Display!$D7,)","v":0},{"$f":"IF(AND(S$8=Display!$T$10,'Lux4-sept'!$A$8=Display!$B$7,'Lux4-sept'!$A$9=Display!$B$9,'Lux4-sept'!$A$75=Display!$B$11,'Lux4-sept'!$A$130=Display!$B$13),Display!$D7,)","v":0},{"$f":"IF(AND(T$8=Display!$T$10,'Lux4-sept'!$A$8=Display!$B$7,'Lux4-sept'!$A$9=Display!$B$9,'Lux4-sept'!$A$75=Display!$B$11,'Lux4-sept'!$A$130=Display!$B$13),Display!$D7,)","v":0},{"$f":"IF(AND(U$8=Display!$T$10,'Lux4-sept'!$A$8=Display!$B$7,'Lux4-sept'!$A$9=Display!$B$9,'Lux4-sept'!$A$75=Display!$B$11,'Lux4-sept'!$A$130=Display!$B$13),Display!$D7,)","v":0},{"$f":"IF(AND(V$8=Display!$T$10,'Lux4-sept'!$A$8=Display!$B$7,'Lux4-sept'!$A$9=Display!$B$9,'Lux4-sept'!$A$75=Display!$B$11,'Lux4-sept'!$A$130=Display!$B$13),Display!$D7,)","v":0},{"$f":"IF(AND(W$8=Display!$T$10,'Lux4-sept'!$A$8=Display!$B$7,'Lux4-sept'!$A$9=Display!$B$9,'Lux4-sept'!$A$75=Display!$B$11,'Lux4-sept'!$A$130=Display!$B$13),Display!$D7,)","v":0},{"$f":"IF(AND(X$8=Display!$T$10,'Lux4-sept'!$A$8=Display!$B$7,'Lux4-sept'!$A$9=Display!$B$9,'Lux4-sept'!$A$75=Display!$B$11,'Lux4-sept'!$A$130=Display!$B$13),Display!$D7,)","v":0},{"$f":"IF(AND(Y$8=Display!$T$10,'Lux4-sept'!$A$8=Display!$B$7,'Lux4-sept'!$A$9=Display!$B$9,'Lux4-sept'!$A$75=Display!$B$11,'Lux4-sept'!$A$130=Display!$B$13),Display!$D7,)","v":0},{"$f":"IF(AND(Z$8=Display!$T$10,'Lux4-sept'!$A$8=Display!$B$7,'Lux4-sept'!$A$9=Display!$B$9,'Lux4-sept'!$A$75=Display!$B$11,'Lux4-sept'!$A$130=Display!$B$13),Display!$D7,)","v":0},{"$f":"IF(AND(AA$8=Display!$T$10,'Lux4-sept'!$A$8=Display!$B$7,'Lux4-sept'!$A$9=Display!$B$9,'Lux4-sept'!$A$75=Display!$B$11,'Lux4-sept'!$A$130=Display!$B$13),Display!$D7,)","v":0},{"$f":"IF(AND(AB$8=Display!$T$10,'Lux4-sept'!$A$8=Display!$B$7,'Lux4-sept'!$A$9=Display!$B$9,'Lux4-sept'!$A$75=Display!$B$11,'Lux4-sept'!$A$130=Display!$B$13),Display!$D7,)","v":0},{"$f":"IF(AND(AC$8=Display!$T$10,'Lux4-sept'!$A$8=Display!$B$7,'Lux4-sept'!$A$9=Display!$B$9,'Lux4-sept'!$A$75=Display!$B$11,'Lux4-sept'!$A$130=Display!$B$13),Display!$D7,)","v":0},{"$f":"IF(AND(AD$8=Display!$T$10,'Lux4-sept'!$A$8=Display!$B$7,'Lux4-sept'!$A$9=Display!$B$9,'Lux4-sept'!$A$75=Display!$B$11,'Lux4-sept'!$A$130=Display!$B$13),Display!$D7,)","v":0},{"$f":"IF(AND(AE$8=Display!$T$10,'Lux4-sept'!$A$8=Display!$B$7,'Lux4-sept'!$A$9=Display!$B$9,'Lux4-sept'!$A$75=Display!$B$11,'Lux4-sept'!$A$130=Display!$B$13),Display!$D7,)","v":0},{"$f":"IF(AND(AF$8=Display!$T$10,'Lux4-sept'!$A$8=Display!$B$7,'Lux4-sept'!$A$9=Display!$B$9,'Lux4-sept'!$A$75=Display!$B$11,'Lux4-sept'!$A$130=Display!$B$13),Display!$D7,)","v":0},null,null,0]
["Salles de réunion aspirées",{"$f":"IF(AND(B$8=Display!$T$10,'Lux4-sept'!$A$8=Display!$B$7,'Lux4-sept'!$A$9=Display!$B$9,'Lux4-sept'!$A$75=Display!$B$11,'Lux4-sept'!$A$130=Display!$B$13),Display!$D8,)","v":0},{"$f":"IF(AND(C$8=Display!$T$10,'Lux4-sept'!$A$8=Display!$B$7,'Lux4-sept'!$A$9=Display!$B$9,'Lux4-sept'!$A$75=Display!$B$11,'Lux4-sept'!$A$130=Display!$B$13),Display!$D8,)","v":0},{"$f":"IF(AND(D$8=Display!$T$10,'Lux4-sept'!$A$8=Display!$B$7,'Lux4-sept'!$A$9=Display!$B$9,'Lux4-sept'!$A$75=Display!$B$11,'Lux4-sept'!$A$130=Display!$B$13),Display!$D8,)","v":0},{"$f":"IF(AND(E$8=Display!$T$10,'Lux4-sept'!$A$8=Display!$B$7,'Lux4-sept'!$A$9=Display!$B$9,'Lux4-sept'!$A$75=Display!$B$11,'Lux4-sept'!$A$130=Display!$B$13),Display!$D8,)","v":0},{"$f":"IF(AND(F$8=Display!$T$10,'Lux4-sept'!$A$8=Display!$B$7,'Lux4-sept'!$A$9=Display!$B$9,'Lux4-sept'!$A$75=Display!$B$11,'Lux4-sept'!$A$130=Display!$B$13),Display!$D8,)","v":0},{"$f":"IF(AND(G$8=Display!$T$10,'Lux4-sept'!$A$8=Display!$B$7,'Lux4-sept'!$A$9=Display!$B$9,'Lux4-sept'!$A$75=Display!$B$11,'Lux4-sept'!$A$130=Display!$B$13),Display!$D8,)","v":0},{"$f":"IF(AND(H$8=Display!$T$10,'Lux4-sept'!$A$8=Display!$B$7,'Lux4-sept'!$A$9=Display!$B$9,'Lux4-sept'!$A$75=Display!$B$11,'Lux4-sept'!$A$130=Display!$B$13),Display!$D8,)","v":0},{"$f":"IF(AND(I$8=Display!$T$10,'Lux4-sept'!$A$8=Display!$B$7,'Lux4-sept'!$A$9=Display!$B$9,'Lux4-sept'!$A$75=Display!$B$11,'Lux4-sept'!$A$130=Display!$B$13),Display!$D8,)","v":0},{"$f":"IF(AND(J$8=Display!$T$10,'Lux4-sept'!$A$8=Display!$B$7,'Lux4-sept'!$A$9=Display!$B$9,'Lux4-sept'!$A$75=Display!$B$11,'Lux4-sept'!$A$130=Display!$B$13),Display!$D8,)","v":0},{"$f":"IF(AND(K$8=Display!$T$10,'Lux4-sept'!$A$8=Display!$B$7,'Lux4-sept'!$A$9=Display!$B$9,'Lux4-sept'!$A$75=Display!$B$11,'Lux4-sept'!$A$130=Display!$B$13),Display!$D8,)","v":0},{"$f":"IF(AND(L$8=Display!$T$10,'Lux4-sept'!$A$8=Display!$B$7,'Lux4-sept'!$A$9=Display!$B$9,'Lux4-sept'!$A$75=Display!$B$11,'Lux4-sept'!$A$130=Display!$B$13),Display!$D8,)","v":0},{"$f":"IF(AND(M$8=Display!$T$10,'Lux4-sept'!$A$8=Display!$B$7,'Lux4-sept'!$A$9=Display!$B$9,'Lux4-sept'!$A$75=Display!$B$11,'Lux4-sept'!$A$130=Display!$B$13),Display!$D8,)","v":0},{"$f":"IF(AND(N$8=Display!$T$10,'Lux4-sept'!$A$8=Display!$B$7,'Lux4-sept'!$A$9=Display!$B$9,'Lux4-sept'!$A$75=Display!$B$11,'Lux4-sept'!$A$130=Display!$B$13),Display!$D8,)","v":0},{"$f":"IF(AND(O$8=Display!$T$10,'Lux4-sept'!$A$8=Display!$B$7,'Lux4-sept'!$A$9=Display!$B$9,'Lux4-sept'!$A$75=Display!$B$11,'Lux4-sept'!$A$130=Display!$B$13),Display!$D8,)","v":0},{"$f":"IF(AND(P$8=Display!$T$10,'Lux4-sept'!$A$8=Display!$B$7,'Lux4-sept'!$A$9=Display!$B$9,'Lux4-sept'!$A$75=Display!$B$11,'Lux4-sept'!$A$130=Display!$B$13),Display!$D8,)","v":0},{"$f":"IF(AND(Q$8=Display!$T$10,'Lux4-sept'!$A$8=Display!$B$7,'Lux4-sept'!$A$9=Display!$B$9,'Lux4-sept'!$A$75=Display!$B$11,'Lux4-sept'!$A$130=Display!$B$13),Display!$D8,)","v":0},{"$f":"IF(AND(R$8=Display!$T$10,'Lux4-sept'!$A$8=Display!$B$7,'Lux4-sept'!$A$9=Display!$B$9,'Lux4-sept'!$A$75=Display!$B$11,'Lux4-sept'!$A$130=Display!$B$13),Display!$D8,)","v":0},{"$f":"IF(AND(S$8=Display!$T$10,'Lux4-sept'!$A$8=Display!$B$7,'Lux4-sept'!$A$9=Display!$B$9,'Lux4-sept'!$A$75=Display!$B$11,'Lux4-sept'!$A$130=Display!$B$13),Display!$D8,)","v":0},{"$f":"IF(AND(T$8=Display!$T$10,'Lux4-sept'!$A$8=Display!$B$7,'Lux4-sept'!$A$9=Display!$B$9,'Lux4-sept'!$A$75=Display!$B$11,'Lux4-sept'!$A$130=Display!$B$13),Display!$D8,)","v":0},{"$f":"IF(AND(U$8=Display!$T$10,'Lux4-sept'!$A$8=Display!$B$7,'Lux4-sept'!$A$9=Display!$B$9,'Lux4-sept'!$A$75=Display!$B$11,'Lux4-sept'!$A$130=Display!$B$13),Display!$D8,)","v":0},{"$f":"IF(AND(V$8=Display!$T$10,'Lux4-sept'!$A$8=Display!$B$7,'Lux4-sept'!$A$9=Display!$B$9,'Lux4-sept'!$A$75=Display!$B$11,'Lux4-sept'!$A$130=Display!$B$13),Display!$D8,)","v":0},{"$f":"IF(AND(W$8=Display!$T$10,'Lux4-sept'!$A$8=Display!$B$7,'Lux4-sept'!$A$9=Display!$B$9,'Lux4-sept'!$A$75=Display!$B$11,'Lux4-sept'!$A$130=Display!$B$13),Display!$D8,)","v":0},{"$f":"IF(AND(X$8=Display!$T$10,'Lux4-sept'!$A$8=Display!$B$7,'Lux4-sept'!$A$9=Display!$B$9,'Lux4-sept'!$A$75=Display!$B$11,'Lux4-sept'!$A$130=Display!$B$13),Display!$D8,)","v":0},{"$f":"IF(AND(Y$8=Display!$T$10,'Lux4-sept'!$A$8=Display!$B$7,'Lux4-sept'!$A$9=Display!$B$9,'Lux4-sept'!$A$75=Display!$B$11,'Lux4-sept'!$A$130=Display!$B$13),Display!$D8,)","v":0},{"$f":"IF(AND(Z$8=Display!$T$10,'Lux4-sept'!$A$8=Display!$B$7,'Lux4-sept'!$A$9=Display!$B$9,'Lux4-sept'!$A$75=Display!$B$11,'Lux4-sept'!$A$130=Display!$B$13),Display!$D8,)","v":0},{"$f":"IF(AND(AA$8=Display!$T$10,'Lux4-sept'!$A$8=Display!$B$7,'Lux4-sept'!$A$9=Display!$B$9,'Lux4-sept'!$A$75=Display!$B$11,'Lux4-sept'!$A$130=Display!$B$13),Display!$D8,)","v":0},{"$f":"IF(AND(AB$8=Display!$T$10,'Lux4-sept'!$A$8=Display!$B$7,'Lux4-sept'!$A$9=Display!$B$9,'Lux4-sept'!$A$75=Display!$B$11,'Lux4-sept'!$A$130=Display!$B$13),Display!$D8,)","v":0},{"$f":"IF(AND(AC$8=Display!$T$10,'Lux4-sept'!$A$8=Display!$B$7,'Lux4-sept'!$A$9=Display!$B$9,'Lux4-sept'!$A$75=Display!$B$11,'Lux4-sept'!$A$130=Display!$B$13),Display!$D8,)","v":0},{"$f":"IF(AND(AD$8=Display!$T$10,'Lux4-sept'!$A$8=Display!$B$7,'Lux4-sept'!$A$9=Display!$B$9,'Lux4-sept'!$A$75=Display!$B$11,'Lux4-sept'!$A$130=Display!$B$13),Display!$D8,)","v":0},{"$f":"IF(AND(AE$8=Display!$T$10,'Lux4-sept'!$A$8=Display!$B$7,'Lux4-sept'!$A$9=Display!$B$9,'Lux4-sept'!$A$75=Display!$B$11,'Lux4-sept'!$A$130=Display!$B$13),Display!$D8,)","v":0},{"$f":"IF(AND(AF$8=Display!$T$10,'Lux4-sept'!$A$8=Display!$B$7,'Lux4-sept'!$A$9=Display!$B$9,'Lux4-sept'!$A$75=Display!$B$11,'Lux4-sept'!$A$130=Display!$B$13),Display!$D8,)","v":0},null,null,0]
["Présence de poussières",{"$f":"IF(AND(B$8=Display!$T$10,'Lux4-sept'!$A$8=Display!$B$7,'Lux4-sept'!$A$9=Display!$B$9,'Lux4-sept'!$A$75=Display!$B$11,'Lux4-sept'!$A$130=Display!$B$13),Display!$D9,)","v":0},{"$f":"IF(AND(C$8=Display!$T$10,'Lux4-sept'!$A$8=Display!$B$7,'Lux4-sept'!$A$9=Display!$B$9,'Lux4-sept'!$A$75=Display!$B$11,'Lux4-sept'!$A$130=Display!$B$13),Display!$D9,)","v":0},{"$f":"IF(AND(D$8=Display!$T$10,'Lux4-sept'!$A$8=Display!$B$7,'Lux4-sept'!$A$9=Display!$B$9,'Lux4-sept'!$A$75=Display!$B$11,'Lux4-sept'!$A$130=Display!$B$13),Display!$D9,)","v":0},{"$f":"IF(AND(E$8=Display!$T$10,'Lux4-sept'!$A$8=Display!$B$7,'Lux4-sept'!$A$9=Display!$B$9,'Lux4-sept'!$A$75=Display!$B$11,'Lux4-sept'!$A$130=Display!$B$13),Display!$D9,)","v":0},{"$f":"IF(AND(F$8=Display!$T$10,'Lux4-sept'!$A$8=Display!$B$7,'Lux4-sept'!$A$9=Display!$B$9,'Lux4-sept'!$A$75=Display!$B$11,'Lux4-sept'!$A$130=Display!$B$13),Display!$D9,)","v":0},{"$f":"IF(AND(G$8=Display!$T$10,'Lux4-sept'!$A$8=Display!$B$7,'Lux4-sept'!$A$9=Display!$B$9,'Lux4-sept'!$A$75=Display!$B$11,'Lux4-sept'!$A$130=Display!$B$13),Display!$D9,)","v":0},{"$f":"IF(AND(H$8=Display!$T$10,'Lux4-sept'!$A$8=Display!$B$7,'Lux4-sept'!$A$9=Display!$B$9,'Lux4-sept'!$A$75=Display!$B$11,'Lux4-sept'!$A$130=Display!$B$13),Display!$D9,)","v":0},{"$f":"IF(AND(I$8=Display!$T$10,'Lux4-sept'!$A$8=Display!$B$7,'Lux4-sept'!$A$9=Display!$B$9,'Lux4-sept'!$A$75=Display!$B$11,'Lux4-sept'!$A$130=Display!$B$13),Display!$D9,)","v":0},{"$f":"IF(AND(J$8=Display!$T$10,'Lux4-sept'!$A$8=Display!$B$7,'Lux4-sept'!$A$9=Display!$B$9,'Lux4-sept'!$A$75=Display!$B$11,'Lux4-sept'!$A$130=Display!$B$13),Display!$D9,)","v":0},{"$f":"IF(AND(K$8=Display!$T$10,'Lux4-sept'!$A$8=Display!$B$7,'Lux4-sept'!$A$9=Display!$B$9,'Lux4-sept'!$A$75=Display!$B$11,'Lux4-sept'!$A$130=Display!$B$13),Display!$D9,)","v":0},{"$f":"IF(AND(L$8=Display!$T$10,'Lux4-sept'!$A$8=Display!$B$7,'Lux4-sept'!$A$9=Display!$B$9,'Lux4-sept'!$A$75=Display!$B$11,'Lux4-sept'!$A$130=Display!$B$13),Display!$D9,)","v":0},{"$f":"IF(AND(M$8=Display!$T$10,'Lux4-sept'!$A$8=Display!$B$7,'Lux4-sept'!$A$9=Display!$B$9,'Lux4-sept'!$A$75=Display!$B$11,'Lux4-sept'!$A$130=Display!$B$13),Display!$D9,)","v":0},{"$f":"IF(AND(N$8=Display!$T$10,'Lux4-sept'!$A$8=Display!$B$7,'Lux4-sept'!$A$9=Display!$B$9,'Lux4-sept'!$A$75=Display!$B$11,'Lux4-sept'!$A$130=Display!$B$13),Display!$D9,)","v":0},{"$f":"IF(AND(O$8=Display!$T$10,'Lux4-sept'!$A$8=Display!$B$7,'Lux4-sept'!$A$9=Display!$B$9,'Lux4-sept'!$A$75=Display!$B$11,'Lux4-sept'!$A$130=Display!$B$13),Display!$D9,)","v":0},{"$f":"IF(AND(P$8=Display!$T$10,'Lux4-sept'!$A$8=Display!$B$7,'Lux4-sept'!$A$9=Display!$B$9,'Lux4-sept'!$A$75=Display!$B$11,'Lux4-sept'!$A$130=Display!$B$13),Display!$D9,)","v":0},{"$f":"IF(AND(Q$8=Display!$T$10,'Lux4-sept'!$A$8=Display!$B$7,'Lux4-sept'!$A$9=Display!$B$9,'Lux4-sept'!$A$75=Display!$B$11,'Lux4-sept'!$A$130=Display!$B$13),Display!$D9,)","v":0},{"$f":"IF(AND(R$8=Display!$T$10,'Lux4-sept'!$A$8=Display!$B$7,'Lux4-sept'!$A$9=Display!$B$9,'Lux4-sept'!$A$75=Display!$B$11,'Lux4-sept'!$A$130=Display!$B$13),Display!$D9,)","v":0},{"$f":"IF(AND(S$8=Display!$T$10,'Lux4-sept'!$A$8=Display!$B$7,'Lux4-sept'!$A$9=Display!$B$9,'Lux4-sept'!$A$75=Display!$B$11,'Lux4-sept'!$A$130=Display!$B$13),Display!$D9,)","v":0},{"$f":"IF(AND(T$8=Display!$T$10,'Lux4-sept'!$A$8=Display!$B$7,'Lux4-sept'!$A$9=Display!$B$9,'Lux4-sept'!$A$75=Display!$B$11,'Lux4-sept'!$A$130=Display!$B$13),Display!$D9,)","v":0},{"$f":"IF(AND(U$8=Display!$T$10,'Lux4-sept'!$A$8=Display!$B$7,'Lux4-sept'!$A$9=Display!$B$9,'Lux4-sept'!$A$75=Display!$B$11,'Lux4-sept'!$A$130=Display!$B$13),Display!$D9,)","v":0},{"$f":"IF(AND(V$8=Display!$T$10,'Lux4-sept'!$A$8=Display!$B$7,'Lux4-sept'!$A$9=Display!$B$9,'Lux4-sept'!$A$75=Display!$B$11,'Lux4-sept'!$A$130=Display!$B$13),Display!$D9,)","v":0},{"$f":"IF(AND(W$8=Display!$T$10,'Lux4-sept'!$A$8=Display!$B$7,'Lux4-sept'!$A$9=Display!$B$9,'Lux4-sept'!$A$75=Display!$B$11,'Lux4-sept'!$A$130=Display!$B$13),Display!$D9,)","v":0},{"$f":"IF(AND(X$8=Display!$T$10,'Lux4-sept'!$A$8=Display!$B$7,'Lux4-sept'!$A$9=Display!$B$9,'Lux4-sept'!$A$75=Display!$B$11,'Lux4-sept'!$A$130=Display!$B$13),Display!$D9,)","v":0},{"$f":"IF(AND(Y$8=Display!$T$10,'Lux4-sept'!$A$8=Display!$B$7,'Lux4-sept'!$A$9=Display!$B$9,'Lux4-sept'!$A$75=Display!$B$11,'Lux4-sept'!$A$130=Display!$B$13),Display!$D9,)","v":0},{"$f":"IF(AND(Z$8=Display!$T$10,'Lux4-sept'!$A$8=Display!$B$7,'Lux4-sept'!$A$9=Display!$B$9,'Lux4-sept'!$A$75=Display!$B$11,'Lux4-sept'!$A$130=Display!$B$13),Display!$D9,)","v":0},{"$f":"IF(AND(AA$8=Display!$T$10,'Lux4-sept'!$A$8=Display!$B$7,'Lux4-sept'!$A$9=Display!$B$9,'Lux4-sept'!$A$75=Display!$B$11,'Lux4-sept'!$A$130=Display!$B$13),Display!$D9,)","v":0},{"$f":"IF(AND(AB$8=Display!$T$10,'Lux4-sept'!$A$8=Display!$B$7,'Lux4-sept'!$A$9=Display!$B$9,'Lux4-sept'!$A$75=Display!$B$11,'Lux4-sept'!$A$130=Display!$B$13),Display!$D9,)","v":0},{"$f":"IF(AND(AC$8=Display!$T$10,'Lux4-sept'!$A$8=Display!$B$7,'Lux4-sept'!$A$9=Display!$B$9,'Lux4-sept'!$A$75=Display!$B$11,'Lux4-sept'!$A$130=Display!$B$13),Display!$D9,)","v":0},{"$f":"IF(AND(AD$8=Display!$T$10,'Lux4-sept'!$A$8=Display!$B$7,'Lux4-sept'!$A$9=Display!$B$9,'Lux4-sept'!$A$75=Display!$B$11,'Lux4-sept'!$A$130=Display!$B$13),Display!$D9,)","v":0},{"$f":"IF(AND(AE$8=Display!$T$10,'Lux4-sept'!$A$8=Display!$B$7,'Lux4-sept'!$A$9=Display!$B$9,'Lux4-sept'!$A$75=Display!$B$11,'Lux4-sept'!$A$130=Display!$B$13),Display!$D9,)","v":0},{"$f":"IF(AND(AF$8=Display!$T$10,'Lux4-sept'!$A$8=Display!$B$7,'Lux4-sept'!$A$9=Display!$B$9,'Lux4-sept'!$A$75=Display!$B$11,'Lux4-sept'!$A$130=Display!$B$13),Display!$D9,)","v":0},null,null,0]
["Aucune trace de doigts",{"$f":"IF(AND(B$8=Display!$T$10,'Lux4-sept'!$A$8=Display!$B$7,'Lux4-sept'!$A$9=Display!$B$9,'Lux4-sept'!$A$75=Display!$B$11,'Lux4-sept'!$A$130=Display!$B$13),Display!$D10,)","v":0},{"$f":"IF(AND(C$8=Display!$T$10,'Lux4-sept'!$A$8=Display!$B$7,'Lux4-sept'!$A$9=Display!$B$9,'Lux4-sept'!$A$75=Display!$B$11,'Lux4-sept'!$A$130=Display!$B$13),Display!$D10,)","v":0},{"$f":"IF(AND(D$8=Display!$T$10,'Lux4-sept'!$A$8=Display!$B$7,'Lux4-sept'!$A$9=Display!$B$9,'Lux4-sept'!$A$75=Display!$B$11,'Lux4-sept'!$A$130=Display!$B$13),Display!$D10,)","v":0},{"$f":"IF(AND(E$8=Display!$T$10,'Lux4-sept'!$A$8=Display!$B$7,'Lux4-sept'!$A$9=Display!$B$9,'Lux4-sept'!$A$75=Display!$B$11,'Lux4-sept'!$A$130=Display!$B$13),Display!$D10,)","v":0},{"$f":"IF(AND(F$8=Display!$T$10,'Lux4-sept'!$A$8=Display!$B$7,'Lux4-sept'!$A$9=Display!$B$9,'Lux4-sept'!$A$75=Display!$B$11,'Lux4-sept'!$A$130=Display!$B$13),Display!$D10,)","v":0},{"$f":"IF(AND(G$8=Display!$T$10,'Lux4-sept'!$A$8=Display!$B$7,'Lux4-sept'!$A$9=Display!$B$9,'Lux4-sept'!$A$75=Display!$B$11,'Lux4-sept'!$A$130=Display!$B$13),Display!$D10,)","v":0},{"$f":"IF(AND(H$8=Display!$T$10,'Lux4-sept'!$A$8=Display!$B$7,'Lux4-sept'!$A$9=Display!$B$9,'Lux4-sept'!$A$75=Display!$B$11,'Lux4-sept'!$A$130=Display!$B$13),Display!$D10,)","v":0},{"$f":"IF(AND(I$8=Display!$T$10,'Lux4-sept'!$A$8=Display!$B$7,'Lux4-sept'!$A$9=Display!$B$9,'Lux4-sept'!$A$75=Display!$B$11,'Lux4-sept'!$A$130=Display!$B$13),Display!$D10,)","v":0},{"$f":"IF(AND(J$8=Display!$T$10,'Lux4-sept'!$A$8=Display!$B$7,'Lux4-sept'!$A$9=Display!$B$9,'Lux4-sept'!$A$75=Display!$B$11,'Lux4-sept'!$A$130=Display!$B$13),Display!$D10,)","v":0},{"$f":"IF(AND(K$8=Display!$T$10,'Lux4-sept'!$A$8=Display!$B$7,'Lux4-sept'!$A$9=Display!$B$9,'Lux4-sept'!$A$75=Display!$B$11,'Lux4-sept'!$A$130=Display!$B$13),Display!$D10,)","v":0},{"$f":"IF(AND(L$8=Display!$T$10,'Lux4-sept'!$A$8=Display!$B$7,'Lux4-sept'!$A$9=Display!$B$9,'Lux4-sept'!$A$75=Display!$B$11,'Lux4-sept'!$A$130=Display!$B$13),Display!$D10,)","v":0},{"$f":"IF(AND(M$8=Display!$T$10,'Lux4-sept'!$A$8=Display!$B$7,'Lux4-sept'!$A$9=Display!$B$9,'Lux4-sept'!$A$75=Display!$B$11,'Lux4-sept'!$A$130=Display!$B$13),Display!$D10,)","v":0},{"$f":"IF(AND(N$8=Display!$T$10,'Lux4-sept'!$A$8=Display!$B$7,'Lux4-sept'!$A$9=Display!$B$9,'Lux4-sept'!$A$75=Display!$B$11,'Lux4-sept'!$A$130=Display!$B$13),Display!$D10,)","v":0},{"$f":"IF(AND(O$8=Display!$T$10,'Lux4-sept'!$A$8=Display!$B$7,'Lux4-sept'!$A$9=Display!$B$9,'Lux4-sept'!$A$75=Display!$B$11,'Lux4-sept'!$A$130=Display!$B$13),Display!$D10,)","v":0},{"$f":"IF(AND(P$8=Display!$T$10,'Lux4-sept'!$A$8=Display!$B$7,'Lux4-sept'!$A$9=Display!$B$9,'Lux4-sept'!$A$75=Display!$B$11,'Lux4-sept'!$A$130=Display!$B$13),Display!$D10,)","v":0},{"$f":"IF(AND(Q$8=Display!$T$10,'Lux4-sept'!$A$8=Display!$B$7,'Lux4-sept'!$A$9=Display!$B$9,'Lux4-sept'!$A$75=Display!$B$11,'Lux4-sept'!$A$130=Display!$B$13),Display!$D10,)","v":0},{"$f":"IF(AND(R$8=Display!$T$10,'Lux4-sept'!$A$8=Display!$B$7,'Lux4-sept'!$A$9=Display!$B$9,'Lux4-sept'!$A$75=Display!$B$11,'Lux4-sept'!$A$130=Display!$B$13),Display!$D10,)","v":0},{"$f":"IF(AND(S$8=Display!$T$10,'Lux4-sept'!$A$8=Display!$B$7,'Lux4-sept'!$A$9=Display!$B$9,'Lux4-sept'!$A$75=Display!$B$11,'Lux4-sept'!$A$130=Display!$B$13),Display!$D10,)","v":0},{"$f":"IF(AND(T$8=Display!$T$10,'Lux4-sept'!$A$8=Display!$B$7,'Lux4-sept'!$A$9=Display!$B$9,'Lux4-sept'!$A$75=Display!$B$11,'Lux4-sept'!$A$130=Display!$B$13),Display!$D10,)","v":0},{"$f":"IF(AND(U$8=Display!$T$10,'Lux4-sept'!$A$8=Display!$B$7,'Lux4-sept'!$A$9=Display!$B$9,'Lux4-sept'!$A$75=Display!$B$11,'Lux4-sept'!$A$130=Display!$B$13),Display!$D10,)","v":0},{"$f":"IF(AND(V$8=Display!$T$10,'Lux4-sept'!$A$8=Display!$B$7,'Lux4-sept'!$A$9=Display!$B$9,'Lux4-sept'!$A$75=Display!$B$11,'Lux4-sept'!$A$130=Display!$B$13),Display!$D10,)","v":0},{"$f":"IF(AND(W$8=Display!$T$10,'Lux4-sept'!$A$8=Display!$B$7,'Lux4-sept'!$A$9=Display!$B$9,'Lux4-sept'!$A$75=Display!$B$11,'Lux4-sept'!$A$130=Display!$B$13),Display!$D10,)","v":0},{"$f":"IF(AND(X$8=Display!$T$10,'Lux4-sept'!$A$8=Display!$B$7,'Lux4-sept'!$A$9=Display!$B$9,'Lux4-sept'!$A$75=Display!$B$11,'Lux4-sept'!$A$130=Display!$B$13),Display!$D10,)","v":0},{"$f":"IF(AND(Y$8=Display!$T$10,'Lux4-sept'!$A$8=Display!$B$7,'Lux4-sept'!$A$9=Display!$B$9,'Lux4-sept'!$A$75=Display!$B$11,'Lux4-sept'!$A$130=Display!$B$13),Display!$D10,)","v":0},{"$f":"IF(AND(Z$8=Display!$T$10,'Lux4-sept'!$A$8=Display!$B$7,'Lux4-sept'!$A$9=Display!$B$9,'Lux4-sept'!$A$75=Display!$B$11,'Lux4-sept'!$A$130=Display!$B$13),Display!$D10,)","v":0},{"$f":"IF(AND(AA$8=Display!$T$10,'Lux4-sept'!$A$8=Display!$B$7,'Lux4-sept'!$A$9=Display!$B$9,'Lux4-sept'!$A$75=Display!$B$11,'Lux4-sept'!$A$130=Display!$B$13),Display!$D10,)","v":0},{"$f":"IF(AND(AB$8=Display!$T$10,'Lux4-sept'!$A$8=Display!$B$7,'Lux4-sept'!$A$9=Display!$B$9,'Lux4-sept'!$A$75=Display!$B$11,'Lux4-sept'!$A$130=Display!$B$13),Display!$D10,)","v":0},{"$f":"IF(AND(AC$8=Display!$T$10,'Lux4-sept'!$A$8=Display!$B$7,'Lux4-sept'!$A$9=Display!$B$9,'Lux4-sept'!$A$75=Display!$B$11,'Lux4-sept'!$A$130=Display!$B$13),Display!$D10,)","v":0},{"$f":"IF(AND(AD$8=Display!$T$10,'Lux4-sept'!$A$8=Display!$B$7,'Lux4-sept'!$A$9=Display!$B$9,'Lux4-sept'!$A$75=Display!$B$11,'Lux4-sept'!$A$130=Display!$B$13),Display!$D10,)","v":0},{"$f":"IF(AND(AE$8=Display!$T$10,'Lux4-sept'!$A$8=Display!$B$7,'Lux4-sept'!$A$9=Display!$B$9,'Lux4-sept'!$A$75=Display!$B$11,'Lux4-sept'!$A$130=Display!$B$13),Display!$D10,)","v":0},{"$f":"IF(AND(AF$8=Display!$T$10,'Lux4-sept'!$A$8=Display!$B$7,'Lux4-sept'!$A$9=Display!$B$9,'Lux4-sept'!$A$75=Display!$B$11,'Lux4-sept'!$A$130=Display!$B$13),Display!$D10,)","v":0},null,null,0]
["MOYENNE",{"$f":"((IF((SUM(B131:B137))<>0,(SUM(B131:B137)),0))/(IF((SUM((IF(B131<>0,3,0)),(IF(B132<>0,3,0)),(IF(B133<>0,3,0)),(IF(B134<>0,3,0)),(IF(B135<>0,3,0)),(IF(B136<>0,3,0)),(IF(B137<>0,3,0))))<>0,((SUM((IF(B131<>0,3,0)),(IF(B132<>0,3,0)),(IF(B133<>0,3,0)),(IF(B134<>0,3,0)),(IF(B135<>0,3,0)),(IF(B136<>0,3,0)),(IF(B137<>0,3,0))))),1)))","v":0},{"$f":"((IF((SUM(C131:C137))<>0,(SUM(C131:C137)),0))/(IF((SUM((IF(C131<>0,3,0)),(IF(C132<>0,3,0)),(IF(C133<>0,3,0)),(IF(C134<>0,3,0)),(IF(C135<>0,3,0)),(IF(C136<>0,3,0)),(IF(C137<>0,3,0))))<>0,((SUM((IF(C131<>0,3,0)),(IF(C132<>0,3,0)),(IF(C133<>0,3,0)),(IF(C134<>0,3,0)),(IF(C135<>0,3,0)),(IF(C136<>0,3,0)),(IF(C137<>0,3,0))))),1)))","v":0},0,0,0,0,0,0,0,0,0,0,0,0,0,0,0,0,0,0,0,0,0,0,0,0,0,0,0,0,0,0,0]
["02.501"]
["Chaises rangées",{"$f":"IF(AND(B$8=Display!$T$10,'Lux4-sept'!$A$8=Display!$B$7,'Lux4-sept'!$A$9=Display!$B$9,'Lux4-sept'!$A$75=Display!$B$11,'Lux4-sept'!$A$139=Display!$B$13),Display!$D4,)","v":0},{"$f":"IF(AND(C$8=Display!$T$10,'Lux4-sept'!$A$8=Display!$B$7,'Lux4-sept'!$A$9=Display!$B$9,'Lux4-sept'!$A$75=Display!$B$11,'Lux4-sept'!$A$139=Display!$B$13),Display!$D4,)","v":0},{"$f":"IF(AND(D$8=Display!$T$10,'Lux4-sept'!$A$8=Display!$B$7,'Lux4-sept'!$A$9=Display!$B$9,'Lux4-sept'!$A$75=Display!$B$11,'Lux4-sept'!$A$139=Display!$B$13),Display!$D4,)","v":0},{"$f":"IF(AND(E$8=Display!$T$10,'Lux4-sept'!$A$8=Display!$B$7,'Lux4-sept'!$A$9=Display!$B$9,'Lux4-sept'!$A$75=Display!$B$11,'Lux4-sept'!$A$139=Display!$B$13),Display!$D4,)","v":0},{"$f":"IF(AND(F$8=Display!$T$10,'Lux4-sept'!$A$8=Display!$B$7,'Lux4-sept'!$A$9=Display!$B$9,'Lux4-sept'!$A$75=Display!$B$11,'Lux4-sept'!$A$139=Display!$B$13),Display!$D4,)","v":0},{"$f":"IF(AND(G$8=Display!$T$10,'Lux4-sept'!$A$8=Display!$B$7,'Lux4-sept'!$A$9=Display!$B$9,'Lux4-sept'!$A$75=Display!$B$11,'Lux4-sept'!$A$139=Display!$B$13),Display!$D4,)","v":0},{"$f":"IF(AND(H$8=Display!$T$10,'Lux4-sept'!$A$8=Display!$B$7,'Lux4-sept'!$A$9=Display!$B$9,'Lux4-sept'!$A$75=Display!$B$11,'Lux4-sept'!$A$139=Display!$B$13),Display!$D4,)","v":0},{"$f":"IF(AND(I$8=Display!$T$10,'Lux4-sept'!$A$8=Display!$B$7,'Lux4-sept'!$A$9=Display!$B$9,'Lux4-sept'!$A$75=Display!$B$11,'Lux4-sept'!$A$139=Display!$B$13),Display!$D4,)","v":0},{"$f":"IF(AND(J$8=Display!$T$10,'Lux4-sept'!$A$8=Display!$B$7,'Lux4-sept'!$A$9=Display!$B$9,'Lux4-sept'!$A$75=Display!$B$11,'Lux4-sept'!$A$139=Display!$B$13),Display!$D4,)","v":0},{"$f":"IF(AND(K$8=Display!$T$10,'Lux4-sept'!$A$8=Display!$B$7,'Lux4-sept'!$A$9=Display!$B$9,'Lux4-sept'!$A$75=Display!$B$11,'Lux4-sept'!$A$139=Display!$B$13),Display!$D4,)","v":0},{"$f":"IF(AND(L$8=Display!$T$10,'Lux4-sept'!$A$8=Display!$B$7,'Lux4-sept'!$A$9=Display!$B$9,'Lux4-sept'!$A$75=Display!$B$11,'Lux4-sept'!$A$139=Display!$B$13),Display!$D4,)","v":0},{"$f":"IF(AND(M$8=Display!$T$10,'Lux4-sept'!$A$8=Display!$B$7,'Lux4-sept'!$A$9=Display!$B$9,'Lux4-sept'!$A$75=Display!$B$11,'Lux4-sept'!$A$139=Display!$B$13),Display!$D4,)","v":0},{"$f":"IF(AND(N$8=Display!$T$10,'Lux4-sept'!$A$8=Display!$B$7,'Lux4-sept'!$A$9=Display!$B$9,'Lux4-sept'!$A$75=Display!$B$11,'Lux4-sept'!$A$139=Display!$B$13),Display!$D4,)","v":0},{"$f":"IF(AND(O$8=Display!$T$10,'Lux4-sept'!$A$8=Display!$B$7,'Lux4-sept'!$A$9=Display!$B$9,'Lux4-sept'!$A$75=Display!$B$11,'Lux4-sept'!$A$139=Display!$B$13),Display!$D4,)","v":0},{"$f":"IF(AND(P$8=Display!$T$10,'Lux4-sept'!$A$8=Display!$B$7,'Lux4-sept'!$A$9=Display!$B$9,'Lux4-sept'!$A$75=Display!$B$11,'Lux4-sept'!$A$139=Display!$B$13),Display!$D4,)","v":0},{"$f":"IF(AND(Q$8=Display!$T$10,'Lux4-sept'!$A$8=Display!$B$7,'Lux4-sept'!$A$9=Display!$B$9,'Lux4-sept'!$A$75=Display!$B$11,'Lux4-sept'!$A$139=Display!$B$13),Display!$D4,)","v":0},{"$f":"IF(AND(R$8=Display!$T$10,'Lux4-sept'!$A$8=Display!$B$7,'Lux4-sept'!$A$9=Display!$B$9,'Lux4-sept'!$A$75=Display!$B$11,'Lux4-sept'!$A$139=Display!$B$13),Display!$D4,)","v":0},{"$f":"IF(AND(S$8=Display!$T$10,'Lux4-sept'!$A$8=Display!$B$7,'Lux4-sept'!$A$9=Display!$B$9,'Lux4-sept'!$A$75=Display!$B$11,'Lux4-sept'!$A$139=Display!$B$13),Display!$D4,)","v":0},{"$f":"IF(AND(T$8=Display!$T$10,'Lux4-sept'!$A$8=Display!$B$7,'Lux4-sept'!$A$9=Display!$B$9,'Lux4-sept'!$A$75=Display!$B$11,'Lux4-sept'!$A$139=Display!$B$13),Display!$D4,)","v":0},{"$f":"IF(AND(U$8=Display!$T$10,'Lux4-sept'!$A$8=Display!$B$7,'Lux4-sept'!$A$9=Display!$B$9,'Lux4-sept'!$A$75=Display!$B$11,'Lux4-sept'!$A$139=Display!$B$13),Display!$D4,)","v":0},{"$f":"IF(AND(V$8=Display!$T$10,'Lux4-sept'!$A$8=Display!$B$7,'Lux4-sept'!$A$9=Display!$B$9,'Lux4-sept'!$A$75=Display!$B$11,'Lux4-sept'!$A$139=Display!$B$13),Display!$D4,)","v":0},{"$f":"IF(AND(W$8=Display!$T$10,'Lux4-sept'!$A$8=Display!$B$7,'Lux4-sept'!$A$9=Display!$B$9,'Lux4-sept'!$A$75=Display!$B$11,'Lux4-sept'!$A$139=Display!$B$13),Display!$D4,)","v":0},{"$f":"IF(AND(X$8=Display!$T$10,'Lux4-sept'!$A$8=Display!$B$7,'Lux4-sept'!$A$9=Display!$B$9,'Lux4-sept'!$A$75=Display!$B$11,'Lux4-sept'!$A$139=Display!$B$13),Display!$D4,)","v":0},{"$f":"IF(AND(Y$8=Display!$T$10,'Lux4-sept'!$A$8=Display!$B$7,'Lux4-sept'!$A$9=Display!$B$9,'Lux4-sept'!$A$75=Display!$B$11,'Lux4-sept'!$A$139=Display!$B$13),Display!$D4,)","v":0},{"$f":"IF(AND(Z$8=Display!$T$10,'Lux4-sept'!$A$8=Display!$B$7,'Lux4-sept'!$A$9=Display!$B$9,'Lux4-sept'!$A$75=Display!$B$11,'Lux4-sept'!$A$139=Display!$B$13),Display!$D4,)","v":0},{"$f":"IF(AND(AA$8=Display!$T$10,'Lux4-sept'!$A$8=Display!$B$7,'Lux4-sept'!$A$9=Display!$B$9,'Lux4-sept'!$A$75=Display!$B$11,'Lux4-sept'!$A$139=Display!$B$13),Display!$D4,)","v":0},{"$f":"IF(AND(AB$8=Display!$T$10,'Lux4-sept'!$A$8=Display!$B$7,'Lux4-sept'!$A$9=Display!$B$9,'Lux4-sept'!$A$75=Display!$B$11,'Lux4-sept'!$A$139=Display!$B$13),Display!$D4,)","v":0},{"$f":"IF(AND(AC$8=Display!$T$10,'Lux4-sept'!$A$8=Display!$B$7,'Lux4-sept'!$A$9=Display!$B$9,'Lux4-sept'!$A$75=Display!$B$11,'Lux4-sept'!$A$139=Display!$B$13),Display!$D4,)","v":0},{"$f":"IF(AND(AD$8=Display!$T$10,'Lux4-sept'!$A$8=Display!$B$7,'Lux4-sept'!$A$9=Display!$B$9,'Lux4-sept'!$A$75=Display!$B$11,'Lux4-sept'!$A$139=Display!$B$13),Display!$D4,)","v":0},{"$f":"IF(AND(AE$8=Display!$T$10,'Lux4-sept'!$A$8=Display!$B$7,'Lux4-sept'!$A$9=Display!$B$9,'Lux4-sept'!$A$75=Display!$B$11,'Lux4-sept'!$A$139=Display!$B$13),Display!$D4,)","v":0},{"$f":"IF(AND(AF$8=Display!$T$10,'Lux4-sept'!$A$8=Display!$B$7,'Lux4-sept'!$A$9=Display!$B$9,'Lux4-sept'!$A$75=Display!$B$11,'Lux4-sept'!$A$139=Display!$B$13),Display!$D4,)","v":0},null,null,{"$f":"((IF((SUM(B140:AF140))<>0,(SUM(B140:AF140)),0))/(IF((SUM((IF(B140<>0,3,0)),(IF(C140<>0,3,0)),(IF(D140<>0,3,0)),(IF(E140<>0,3,0)),(IF(F140<>0,3,0)),(IF(F140<>0,3,0)),(IF(F140<>0,3,0)),(IF(G140<>0,3,0)),(IF(H140<>0,3,0)),(IF(I140<>0,3,0)),(IF(J140<>0,3,0)),(IF(K140<>0,3,0)),(IF(L140<>0,3,0)),(IF(M140<>0,3,0)),(IF(N140<>0,3,0)),(IF(O140<>0,3,0)),(IF(P140<>0,3,0)),(IF(Q140<>0,3,0)),(IF(R140<>0,3,0)),(IF(S140<>0,3,0)),(IF(T140<>0,3,0)),(IF(U140<>0,3,0)),(IF(V140<>0,3,0)),(IF(W140<>0,3,0)),(IF(X140<>0,3,0)),(IF(Y140<>0,3,0)),(IF(Z140<>0,3,0)),(IF(AA140<>0,3,0)),(IF(AB140<>0,3,0)),(IF(AC140<>0,3,0)),(IF(AD140<>0,3,0)),(IF(AE140<>0,3,0)),(IF(AF140<>0,3,0))))<>0,((SUM((IF(B140<>0,3,0)),(IF(C140<>0,3,0)),(IF(D140<>0,3,0)),(IF(E140<>0,3,0)),(IF(F140<>0,3,0)),(IF(F140<>0,3,0)),(IF(F140<>0,3,0)),(IF(G140<>0,3,0)),(IF(H140<>0,3,0)),(IF(I140<>0,3,0)),(IF(J140<>0,3,0)),(IF(K140<>0,3,0)),(IF(L140<>0,3,0)),(IF(M140<>0,3,0)),(IF(N140<>0,3,0)),(IF(O140<>0,3,0)),(IF(P140<>0,3,0)),(IF(Q140<>0,3,0)),(IF(R140<>0,3,0)),(IF(S140<>0,3,0)),(IF(T140<>0,3,0)),(IF(U140<>0,3,0)),(IF(V140<>0,3,0)),(IF(W140<>0,3,0)),(IF(X140<>0,3,0)),(IF(Y140<>0,3,0)),(IF(Z140<>0,3,0)),(IF(AA140<>0,3,0)),(IF(AB140<>0,3,0)),(IF(AC140<>0,3,0)),(IF(AD140<>0,3,0)),(IF(AE140<>0,3,0)),(IF(AF140<>0,3,0))))),1)))","v":0}]
["Poubelles vidées",{"$f":"IF(AND(B$8=Display!$T$10,'Lux4-sept'!$A$8=Display!$B$7,'Lux4-sept'!$A$9=Display!$B$9,'Lux4-sept'!$A$75=Display!$B$11,'Lux4-sept'!$A$139=Display!$B$13),Display!$D5,)","v":0},{"$f":"IF(AND(C$8=Display!$T$10,'Lux4-sept'!$A$8=Display!$B$7,'Lux4-sept'!$A$9=Display!$B$9,'Lux4-sept'!$A$75=Display!$B$11,'Lux4-sept'!$A$139=Display!$B$13),Display!$D5,)","v":0},{"$f":"IF(AND(D$8=Display!$T$10,'Lux4-sept'!$A$8=Display!$B$7,'Lux4-sept'!$A$9=Display!$B$9,'Lux4-sept'!$A$75=Display!$B$11,'Lux4-sept'!$A$139=Display!$B$13),Display!$D5,)","v":0},{"$f":"IF(AND(E$8=Display!$T$10,'Lux4-sept'!$A$8=Display!$B$7,'Lux4-sept'!$A$9=Display!$B$9,'Lux4-sept'!$A$75=Display!$B$11,'Lux4-sept'!$A$139=Display!$B$13),Display!$D5,)","v":0},{"$f":"IF(AND(F$8=Display!$T$10,'Lux4-sept'!$A$8=Display!$B$7,'Lux4-sept'!$A$9=Display!$B$9,'Lux4-sept'!$A$75=Display!$B$11,'Lux4-sept'!$A$139=Display!$B$13),Display!$D5,)","v":0},{"$f":"IF(AND(G$8=Display!$T$10,'Lux4-sept'!$A$8=Display!$B$7,'Lux4-sept'!$A$9=Display!$B$9,'Lux4-sept'!$A$75=Display!$B$11,'Lux4-sept'!$A$139=Display!$B$13),Display!$D5,)","v":0},{"$f":"IF(AND(H$8=Display!$T$10,'Lux4-sept'!$A$8=Display!$B$7,'Lux4-sept'!$A$9=Display!$B$9,'Lux4-sept'!$A$75=Display!$B$11,'Lux4-sept'!$A$139=Display!$B$13),Display!$D5,)","v":0},{"$f":"IF(AND(I$8=Display!$T$10,'Lux4-sept'!$A$8=Display!$B$7,'Lux4-sept'!$A$9=Display!$B$9,'Lux4-sept'!$A$75=Display!$B$11,'Lux4-sept'!$A$139=Display!$B$13),Display!$D5,)","v":0},{"$f":"IF(AND(J$8=Display!$T$10,'Lux4-sept'!$A$8=Display!$B$7,'Lux4-sept'!$A$9=Display!$B$9,'Lux4-sept'!$A$75=Display!$B$11,'Lux4-sept'!$A$139=Display!$B$13),Display!$D5,)","v":0},{"$f":"IF(AND(K$8=Display!$T$10,'Lux4-sept'!$A$8=Display!$B$7,'Lux4-sept'!$A$9=Display!$B$9,'Lux4-sept'!$A$75=Display!$B$11,'Lux4-sept'!$A$139=Display!$B$13),Display!$D5,)","v":0},{"$f":"IF(AND(L$8=Display!$T$10,'Lux4-sept'!$A$8=Display!$B$7,'Lux4-sept'!$A$9=Display!$B$9,'Lux4-sept'!$A$75=Display!$B$11,'Lux4-sept'!$A$139=Display!$B$13),Display!$D5,)","v":0},{"$f":"IF(AND(M$8=Display!$T$10,'Lux4-sept'!$A$8=Display!$B$7,'Lux4-sept'!$A$9=Display!$B$9,'Lux4-sept'!$A$75=Display!$B$11,'Lux4-sept'!$A$139=Display!$B$13),Display!$D5,)","v":0},{"$f":"IF(AND(N$8=Display!$T$10,'Lux4-sept'!$A$8=Display!$B$7,'Lux4-sept'!$A$9=Display!$B$9,'Lux4-sept'!$A$75=Display!$B$11,'Lux4-sept'!$A$139=Display!$B$13),Display!$D5,)","v":0},{"$f":"IF(AND(O$8=Display!$T$10,'Lux4-sept'!$A$8=Display!$B$7,'Lux4-sept'!$A$9=Display!$B$9,'Lux4-sept'!$A$75=Display!$B$11,'Lux4-sept'!$A$139=Display!$B$13),Display!$D5,)","v":0},{"$f":"IF(AND(P$8=Display!$T$10,'Lux4-sept'!$A$8=Display!$B$7,'Lux4-sept'!$A$9=Display!$B$9,'Lux4-sept'!$A$75=Display!$B$11,'Lux4-sept'!$A$139=Display!$B$13),Display!$D5,)","v":0},{"$f":"IF(AND(Q$8=Display!$T$10,'Lux4-sept'!$A$8=Display!$B$7,'Lux4-sept'!$A$9=Display!$B$9,'Lux4-sept'!$A$75=Display!$B$11,'Lux4-sept'!$A$139=Display!$B$13),Display!$D5,)","v":0},{"$f":"IF(AND(R$8=Display!$T$10,'Lux4-sept'!$A$8=Display!$B$7,'Lux4-sept'!$A$9=Display!$B$9,'Lux4-sept'!$A$75=Display!$B$11,'Lux4-sept'!$A$139=Display!$B$13),Display!$D5,)","v":0},{"$f":"IF(AND(S$8=Display!$T$10,'Lux4-sept'!$A$8=Display!$B$7,'Lux4-sept'!$A$9=Display!$B$9,'Lux4-sept'!$A$75=Display!$B$11,'Lux4-sept'!$A$139=Display!$B$13),Display!$D5,)","v":0},{"$f":"IF(AND(T$8=Display!$T$10,'Lux4-sept'!$A$8=Display!$B$7,'Lux4-sept'!$A$9=Display!$B$9,'Lux4-sept'!$A$75=Display!$B$11,'Lux4-sept'!$A$139=Display!$B$13),Display!$D5,)","v":0},{"$f":"IF(AND(U$8=Display!$T$10,'Lux4-sept'!$A$8=Display!$B$7,'Lux4-sept'!$A$9=Display!$B$9,'Lux4-sept'!$A$75=Display!$B$11,'Lux4-sept'!$A$139=Display!$B$13),Display!$D5,)","v":0},{"$f":"IF(AND(V$8=Display!$T$10,'Lux4-sept'!$A$8=Display!$B$7,'Lux4-sept'!$A$9=Display!$B$9,'Lux4-sept'!$A$75=Display!$B$11,'Lux4-sept'!$A$139=Display!$B$13),Display!$D5,)","v":0},{"$f":"IF(AND(W$8=Display!$T$10,'Lux4-sept'!$A$8=Display!$B$7,'Lux4-sept'!$A$9=Display!$B$9,'Lux4-sept'!$A$75=Display!$B$11,'Lux4-sept'!$A$139=Display!$B$13),Display!$D5,)","v":0},{"$f":"IF(AND(X$8=Display!$T$10,'Lux4-sept'!$A$8=Display!$B$7,'Lux4-sept'!$A$9=Display!$B$9,'Lux4-sept'!$A$75=Display!$B$11,'Lux4-sept'!$A$139=Display!$B$13),Display!$D5,)","v":0},{"$f":"IF(AND(Y$8=Display!$T$10,'Lux4-sept'!$A$8=Display!$B$7,'Lux4-sept'!$A$9=Display!$B$9,'Lux4-sept'!$A$75=Display!$B$11,'Lux4-sept'!$A$139=Display!$B$13),Display!$D5,)","v":0},{"$f":"IF(AND(Z$8=Display!$T$10,'Lux4-sept'!$A$8=Display!$B$7,'Lux4-sept'!$A$9=Display!$B$9,'Lux4-sept'!$A$75=Display!$B$11,'Lux4-sept'!$A$139=Display!$B$13),Display!$D5,)","v":0},{"$f":"IF(AND(AA$8=Display!$T$10,'Lux4-sept'!$A$8=Display!$B$7,'Lux4-sept'!$A$9=Display!$B$9,'Lux4-sept'!$A$75=Display!$B$11,'Lux4-sept'!$A$139=Display!$B$13),Display!$D5,)","v":0},{"$f":"IF(AND(AB$8=Display!$T$10,'Lux4-sept'!$A$8=Display!$B$7,'Lux4-sept'!$A$9=Display!$B$9,'Lux4-sept'!$A$75=Display!$B$11,'Lux4-sept'!$A$139=Display!$B$13),Display!$D5,)","v":0},{"$f":"IF(AND(AC$8=Display!$T$10,'Lux4-sept'!$A$8=Display!$B$7,'Lux4-sept'!$A$9=Display!$B$9,'Lux4-sept'!$A$75=Display!$B$11,'Lux4-sept'!$A$139=Display!$B$13),Display!$D5,)","v":0},{"$f":"IF(AND(AD$8=Display!$T$10,'Lux4-sept'!$A$8=Display!$B$7,'Lux4-sept'!$A$9=Display!$B$9,'Lux4-sept'!$A$75=Display!$B$11,'Lux4-sept'!$A$139=Display!$B$13),Display!$D5,)","v":0},{"$f":"IF(AND(AE$8=Display!$T$10,'Lux4-sept'!$A$8=Display!$B$7,'Lux4-sept'!$A$9=Display!$B$9,'Lux4-sept'!$A$75=Display!$B$11,'Lux4-sept'!$A$139=Display!$B$13),Display!$D5,)","v":0},{"$f":"IF(AND(AF$8=Display!$T$10,'Lux4-sept'!$A$8=Display!$B$7,'Lux4-sept'!$A$9=Display!$B$9,'Lux4-sept'!$A$75=Display!$B$11,'Lux4-sept'!$A$139=Display!$B$13),Display!$D5,)","v":0},null,null,{"$f":"((IF((SUM(B141:AF141))<>0,(SUM(B141:AF141)),0))/(IF((SUM((IF(B141<>0,3,0)),(IF(C141<>0,3,0)),(IF(D141<>0,3,0)),(IF(E141<>0,3,0)),(IF(F141<>0,3,0)),(IF(F141<>0,3,0)),(IF(F141<>0,3,0)),(IF(G141<>0,3,0)),(IF(H141<>0,3,0)),(IF(I141<>0,3,0)),(IF(J141<>0,3,0)),(IF(K141<>0,3,0)),(IF(L141<>0,3,0)),(IF(M141<>0,3,0)),(IF(N141<>0,3,0)),(IF(O141<>0,3,0)),(IF(P141<>0,3,0)),(IF(Q141<>0,3,0)),(IF(R141<>0,3,0)),(IF(S141<>0,3,0)),(IF(T141<>0,3,0)),(IF(U141<>0,3,0)),(IF(V141<>0,3,0)),(IF(W141<>0,3,0)),(IF(X141<>0,3,0)),(IF(Y141<>0,3,0)),(IF(Z141<>0,3,0)),(IF(AA141<>0,3,0)),(IF(AB141<>0,3,0)),(IF(AC141<>0,3,0)),(IF(AD141<>0,3,0)),(IF(AE141<>0,3,0)),(IF(AF141<>0,3,0))))<>0,((SUM((IF(B141<>0,3,0)),(IF(C141<>0,3,0)),(IF(D141<>0,3,0)),(IF(E141<>0,3,0)),(IF(F141<>0,3,0)),(IF(F141<>0,3,0)),(IF(F141<>0,3,0)),(IF(G141<>0,3,0)),(IF(H141<>0,3,0)),(IF(I141<>0,3,0)),(IF(J141<>0,3,0)),(IF(K141<>0,3,0)),(IF(L141<>0,3,0)),(IF(M141<>0,3,0)),(IF(N141<>0,3,0)),(IF(O141<>0,3,0)),(IF(P141<>0,3,0)),(IF(Q141<>0,3,0)),(IF(R141<>0,3,0)),(IF(S141<>0,3,0)),(IF(T141<>0,3,0)),(IF(U141<>0,3,0)),(IF(V141<>0,3,0)),(IF(W141<>0,3,0)),(IF(X141<>0,3,0)),(IF(Y141<>0,3,0)),(IF(Z141<>0,3,0)),(IF(AA141<>0,3,0)),(IF(AB141<>0,3,0)),(IF(AC141<>0,3,0)),(IF(AD141<>0,3,0)),(IF(AE141<>0,3,0)),(IF(AF141<>0,3,0))))),1)))","v":0}]
["Tables nettoyées",{"$f":"IF(AND(B$8=Display!$T$10,'Lux4-sept'!$A$8=Display!$B$7,'Lux4-sept'!$A$9=Display!$B$9,'Lux4-sept'!$A$75=Display!$B$11,'Lux4-sept'!$A$139=Display!$B$13),Display!$D6,)","v":0},{"$f":"IF(AND(C$8=Display!$T$10,'Lux4-sept'!$A$8=Display!$B$7,'Lux4-sept'!$A$9=Display!$B$9,'Lux4-sept'!$A$75=Display!$B$11,'Lux4-sept'!$A$139=Display!$B$13),Display!$D6,)","v":0},{"$f":"IF(AND(D$8=Display!$T$10,'Lux4-sept'!$A$8=Display!$B$7,'Lux4-sept'!$A$9=Display!$B$9,'Lux4-sept'!$A$75=Display!$B$11,'Lux4-sept'!$A$139=Display!$B$13),Display!$D6,)","v":0},{"$f":"IF(AND(E$8=Display!$T$10,'Lux4-sept'!$A$8=Display!$B$7,'Lux4-sept'!$A$9=Display!$B$9,'Lux4-sept'!$A$75=Display!$B$11,'Lux4-sept'!$A$139=Display!$B$13),Display!$D6,)","v":0},{"$f":"IF(AND(F$8=Display!$T$10,'Lux4-sept'!$A$8=Display!$B$7,'Lux4-sept'!$A$9=Display!$B$9,'Lux4-sept'!$A$75=Display!$B$11,'Lux4-sept'!$A$139=Display!$B$13),Display!$D6,)","v":0},{"$f":"IF(AND(G$8=Display!$T$10,'Lux4-sept'!$A$8=Display!$B$7,'Lux4-sept'!$A$9=Display!$B$9,'Lux4-sept'!$A$75=Display!$B$11,'Lux4-sept'!$A$139=Display!$B$13),Display!$D6,)","v":0},{"$f":"IF(AND(H$8=Display!$T$10,'Lux4-sept'!$A$8=Display!$B$7,'Lux4-sept'!$A$9=Display!$B$9,'Lux4-sept'!$A$75=Display!$B$11,'Lux4-sept'!$A$139=Display!$B$13),Display!$D6,)","v":0},{"$f":"IF(AND(I$8=Display!$T$10,'Lux4-sept'!$A$8=Display!$B$7,'Lux4-sept'!$A$9=Display!$B$9,'Lux4-sept'!$A$75=Display!$B$11,'Lux4-sept'!$A$139=Display!$B$13),Display!$D6,)","v":0},{"$f":"IF(AND(J$8=Display!$T$10,'Lux4-sept'!$A$8=Display!$B$7,'Lux4-sept'!$A$9=Display!$B$9,'Lux4-sept'!$A$75=Display!$B$11,'Lux4-sept'!$A$139=Display!$B$13),Display!$D6,)","v":0},{"$f":"IF(AND(K$8=Display!$T$10,'Lux4-sept'!$A$8=Display!$B$7,'Lux4-sept'!$A$9=Display!$B$9,'Lux4-sept'!$A$75=Display!$B$11,'Lux4-sept'!$A$139=Display!$B$13),Display!$D6,)","v":0},{"$f":"IF(AND(L$8=Display!$T$10,'Lux4-sept'!$A$8=Display!$B$7,'Lux4-sept'!$A$9=Display!$B$9,'Lux4-sept'!$A$75=Display!$B$11,'Lux4-sept'!$A$139=Display!$B$13),Display!$D6,)","v":0},{"$f":"IF(AND(M$8=Display!$T$10,'Lux4-sept'!$A$8=Display!$B$7,'Lux4-sept'!$A$9=Display!$B$9,'Lux4-sept'!$A$75=Display!$B$11,'Lux4-sept'!$A$139=Display!$B$13),Display!$D6,)","v":0},{"$f":"IF(AND(N$8=Display!$T$10,'Lux4-sept'!$A$8=Display!$B$7,'Lux4-sept'!$A$9=Display!$B$9,'Lux4-sept'!$A$75=Display!$B$11,'Lux4-sept'!$A$139=Display!$B$13),Display!$D6,)","v":0},{"$f":"IF(AND(O$8=Display!$T$10,'Lux4-sept'!$A$8=Display!$B$7,'Lux4-sept'!$A$9=Display!$B$9,'Lux4-sept'!$A$75=Display!$B$11,'Lux4-sept'!$A$139=Display!$B$13),Display!$D6,)","v":0},{"$f":"IF(AND(P$8=Display!$T$10,'Lux4-sept'!$A$8=Display!$B$7,'Lux4-sept'!$A$9=Display!$B$9,'Lux4-sept'!$A$75=Display!$B$11,'Lux4-sept'!$A$139=Display!$B$13),Display!$D6,)","v":0},{"$f":"IF(AND(Q$8=Display!$T$10,'Lux4-sept'!$A$8=Display!$B$7,'Lux4-sept'!$A$9=Display!$B$9,'Lux4-sept'!$A$75=Display!$B$11,'Lux4-sept'!$A$139=Display!$B$13),Display!$D6,)","v":0},{"$f":"IF(AND(R$8=Display!$T$10,'Lux4-sept'!$A$8=Display!$B$7,'Lux4-sept'!$A$9=Display!$B$9,'Lux4-sept'!$A$75=Display!$B$11,'Lux4-sept'!$A$139=Display!$B$13),Display!$D6,)","v":0},{"$f":"IF(AND(S$8=Display!$T$10,'Lux4-sept'!$A$8=Display!$B$7,'Lux4-sept'!$A$9=Display!$B$9,'Lux4-sept'!$A$75=Display!$B$11,'Lux4-sept'!$A$139=Display!$B$13),Display!$D6,)","v":0},{"$f":"IF(AND(T$8=Display!$T$10,'Lux4-sept'!$A$8=Display!$B$7,'Lux4-sept'!$A$9=Display!$B$9,'Lux4-sept'!$A$75=Display!$B$11,'Lux4-sept'!$A$139=Display!$B$13),Display!$D6,)","v":0},{"$f":"IF(AND(U$8=Display!$T$10,'Lux4-sept'!$A$8=Display!$B$7,'Lux4-sept'!$A$9=Display!$B$9,'Lux4-sept'!$A$75=Display!$B$11,'Lux4-sept'!$A$139=Display!$B$13),Display!$D6,)","v":0},{"$f":"IF(AND(V$8=Display!$T$10,'Lux4-sept'!$A$8=Display!$B$7,'Lux4-sept'!$A$9=Display!$B$9,'Lux4-sept'!$A$75=Display!$B$11,'Lux4-sept'!$A$139=Display!$B$13),Display!$D6,)","v":0},{"$f":"IF(AND(W$8=Display!$T$10,'Lux4-sept'!$A$8=Display!$B$7,'Lux4-sept'!$A$9=Display!$B$9,'Lux4-sept'!$A$75=Display!$B$11,'Lux4-sept'!$A$139=Display!$B$13),Display!$D6,)","v":0},{"$f":"IF(AND(X$8=Display!$T$10,'Lux4-sept'!$A$8=Display!$B$7,'Lux4-sept'!$A$9=Display!$B$9,'Lux4-sept'!$A$75=Display!$B$11,'Lux4-sept'!$A$139=Display!$B$13),Display!$D6,)","v":0},{"$f":"IF(AND(Y$8=Display!$T$10,'Lux4-sept'!$A$8=Display!$B$7,'Lux4-sept'!$A$9=Display!$B$9,'Lux4-sept'!$A$75=Display!$B$11,'Lux4-sept'!$A$139=Display!$B$13),Display!$D6,)","v":0},{"$f":"IF(AND(Z$8=Display!$T$10,'Lux4-sept'!$A$8=Display!$B$7,'Lux4-sept'!$A$9=Display!$B$9,'Lux4-sept'!$A$75=Display!$B$11,'Lux4-sept'!$A$139=Display!$B$13),Display!$D6,)","v":0},{"$f":"IF(AND(AA$8=Display!$T$10,'Lux4-sept'!$A$8=Display!$B$7,'Lux4-sept'!$A$9=Display!$B$9,'Lux4-sept'!$A$75=Display!$B$11,'Lux4-sept'!$A$139=Display!$B$13),Display!$D6,)","v":0},{"$f":"IF(AND(AB$8=Display!$T$10,'Lux4-sept'!$A$8=Display!$B$7,'Lux4-sept'!$A$9=Display!$B$9,'Lux4-sept'!$A$75=Display!$B$11,'Lux4-sept'!$A$139=Display!$B$13),Display!$D6,)","v":0},{"$f":"IF(AND(AC$8=Display!$T$10,'Lux4-sept'!$A$8=Display!$B$7,'Lux4-sept'!$A$9=Display!$B$9,'Lux4-sept'!$A$75=Display!$B$11,'Lux4-sept'!$A$139=Display!$B$13),Display!$D6,)","v":0},{"$f":"IF(AND(AD$8=Display!$T$10,'Lux4-sept'!$A$8=Display!$B$7,'Lux4-sept'!$A$9=Display!$B$9,'Lux4-sept'!$A$75=Display!$B$11,'Lux4-sept'!$A$139=Display!$B$13),Display!$D6,)","v":0},{"$f":"IF(AND(AE$8=Display!$T$10,'Lux4-sept'!$A$8=Display!$B$7,'Lux4-sept'!$A$9=Display!$B$9,'Lux4-sept'!$A$75=Display!$B$11,'Lux4-sept'!$A$139=Display!$B$13),Display!$D6,)","v":0},{"$f":"IF(AND(AF$8=Display!$T$10,'Lux4-sept'!$A$8=Display!$B$7,'Lux4-sept'!$A$9=Display!$B$9,'Lux4-sept'!$A$75=Display!$B$11,'Lux4-sept'!$A$139=Display!$B$13),Display!$D6,)","v":0},null,null,0]
["Tableaux effacés",{"$f":"IF(AND(B$8=Display!$T$10,'Lux4-sept'!$A$8=Display!$B$7,'Lux4-sept'!$A$9=Display!$B$9,'Lux4-sept'!$A$75=Display!$B$11,'Lux4-sept'!$A$139=Display!$B$13),Display!$D7,)","v":0},{"$f":"IF(AND(C$8=Display!$T$10,'Lux4-sept'!$A$8=Display!$B$7,'Lux4-sept'!$A$9=Display!$B$9,'Lux4-sept'!$A$75=Display!$B$11,'Lux4-sept'!$A$139=Display!$B$13),Display!$D7,)","v":0},{"$f":"IF(AND(D$8=Display!$T$10,'Lux4-sept'!$A$8=Display!$B$7,'Lux4-sept'!$A$9=Display!$B$9,'Lux4-sept'!$A$75=Display!$B$11,'Lux4-sept'!$A$139=Display!$B$13),Display!$D7,)","v":0},{"$f":"IF(AND(E$8=Display!$T$10,'Lux4-sept'!$A$8=Display!$B$7,'Lux4-sept'!$A$9=Display!$B$9,'Lux4-sept'!$A$75=Display!$B$11,'Lux4-sept'!$A$139=Display!$B$13),Display!$D7,)","v":0},{"$f":"IF(AND(F$8=Display!$T$10,'Lux4-sept'!$A$8=Display!$B$7,'Lux4-sept'!$A$9=Display!$B$9,'Lux4-sept'!$A$75=Display!$B$11,'Lux4-sept'!$A$139=Display!$B$13),Display!$D7,)","v":0},{"$f":"IF(AND(G$8=Display!$T$10,'Lux4-sept'!$A$8=Display!$B$7,'Lux4-sept'!$A$9=Display!$B$9,'Lux4-sept'!$A$75=Display!$B$11,'Lux4-sept'!$A$139=Display!$B$13),Display!$D7,)","v":0},{"$f":"IF(AND(H$8=Display!$T$10,'Lux4-sept'!$A$8=Display!$B$7,'Lux4-sept'!$A$9=Display!$B$9,'Lux4-sept'!$A$75=Display!$B$11,'Lux4-sept'!$A$139=Display!$B$13),Display!$D7,)","v":0},{"$f":"IF(AND(I$8=Display!$T$10,'Lux4-sept'!$A$8=Display!$B$7,'Lux4-sept'!$A$9=Display!$B$9,'Lux4-sept'!$A$75=Display!$B$11,'Lux4-sept'!$A$139=Display!$B$13),Display!$D7,)","v":0},{"$f":"IF(AND(J$8=Display!$T$10,'Lux4-sept'!$A$8=Display!$B$7,'Lux4-sept'!$A$9=Display!$B$9,'Lux4-sept'!$A$75=Display!$B$11,'Lux4-sept'!$A$139=Display!$B$13),Display!$D7,)","v":0},{"$f":"IF(AND(K$8=Display!$T$10,'Lux4-sept'!$A$8=Display!$B$7,'Lux4-sept'!$A$9=Display!$B$9,'Lux4-sept'!$A$75=Display!$B$11,'Lux4-sept'!$A$139=Display!$B$13),Display!$D7,)","v":0},{"$f":"IF(AND(L$8=Display!$T$10,'Lux4-sept'!$A$8=Display!$B$7,'Lux4-sept'!$A$9=Display!$B$9,'Lux4-sept'!$A$75=Display!$B$11,'Lux4-sept'!$A$139=Display!$B$13),Display!$D7,)","v":0},{"$f":"IF(AND(M$8=Display!$T$10,'Lux4-sept'!$A$8=Display!$B$7,'Lux4-sept'!$A$9=Display!$B$9,'Lux4-sept'!$A$75=Display!$B$11,'Lux4-sept'!$A$139=Display!$B$13),Display!$D7,)","v":0},{"$f":"IF(AND(N$8=Display!$T$10,'Lux4-sept'!$A$8=Display!$B$7,'Lux4-sept'!$A$9=Display!$B$9,'Lux4-sept'!$A$75=Display!$B$11,'Lux4-sept'!$A$139=Display!$B$13),Display!$D7,)","v":0},{"$f":"IF(AND(O$8=Display!$T$10,'Lux4-sept'!$A$8=Display!$B$7,'Lux4-sept'!$A$9=Display!$B$9,'Lux4-sept'!$A$75=Display!$B$11,'Lux4-sept'!$A$139=Display!$B$13),Display!$D7,)","v":0},{"$f":"IF(AND(P$8=Display!$T$10,'Lux4-sept'!$A$8=Display!$B$7,'Lux4-sept'!$A$9=Display!$B$9,'Lux4-sept'!$A$75=Display!$B$11,'Lux4-sept'!$A$139=Display!$B$13),Display!$D7,)","v":0},{"$f":"IF(AND(Q$8=Display!$T$10,'Lux4-sept'!$A$8=Display!$B$7,'Lux4-sept'!$A$9=Display!$B$9,'Lux4-sept'!$A$75=Display!$B$11,'Lux4-sept'!$A$139=Display!$B$13),Display!$D7,)","v":0},{"$f":"IF(AND(R$8=Display!$T$10,'Lux4-sept'!$A$8=Display!$B$7,'Lux4-sept'!$A$9=Display!$B$9,'Lux4-sept'!$A$75=Display!$B$11,'Lux4-sept'!$A$139=Display!$B$13),Display!$D7,)","v":0},{"$f":"IF(AND(S$8=Display!$T$10,'Lux4-sept'!$A$8=Display!$B$7,'Lux4-sept'!$A$9=Display!$B$9,'Lux4-sept'!$A$75=Display!$B$11,'Lux4-sept'!$A$139=Display!$B$13),Display!$D7,)","v":0},{"$f":"IF(AND(T$8=Display!$T$10,'Lux4-sept'!$A$8=Display!$B$7,'Lux4-sept'!$A$9=Display!$B$9,'Lux4-sept'!$A$75=Display!$B$11,'Lux4-sept'!$A$139=Display!$B$13),Display!$D7,)","v":0},{"$f":"IF(AND(U$8=Display!$T$10,'Lux4-sept'!$A$8=Display!$B$7,'Lux4-sept'!$A$9=Display!$B$9,'Lux4-sept'!$A$75=Display!$B$11,'Lux4-sept'!$A$139=Display!$B$13),Display!$D7,)","v":0},{"$f":"IF(AND(V$8=Display!$T$10,'Lux4-sept'!$A$8=Display!$B$7,'Lux4-sept'!$A$9=Display!$B$9,'Lux4-sept'!$A$75=Display!$B$11,'Lux4-sept'!$A$139=Display!$B$13),Display!$D7,)","v":0},{"$f":"IF(AND(W$8=Display!$T$10,'Lux4-sept'!$A$8=Display!$B$7,'Lux4-sept'!$A$9=Display!$B$9,'Lux4-sept'!$A$75=Display!$B$11,'Lux4-sept'!$A$139=Display!$B$13),Display!$D7,)","v":0},{"$f":"IF(AND(X$8=Display!$T$10,'Lux4-sept'!$A$8=Display!$B$7,'Lux4-sept'!$A$9=Display!$B$9,'Lux4-sept'!$A$75=Display!$B$11,'Lux4-sept'!$A$139=Display!$B$13),Display!$D7,)","v":0},{"$f":"IF(AND(Y$8=Display!$T$10,'Lux4-sept'!$A$8=Display!$B$7,'Lux4-sept'!$A$9=Display!$B$9,'Lux4-sept'!$A$75=Display!$B$11,'Lux4-sept'!$A$139=Display!$B$13),Display!$D7,)","v":0},{"$f":"IF(AND(Z$8=Display!$T$10,'Lux4-sept'!$A$8=Display!$B$7,'Lux4-sept'!$A$9=Display!$B$9,'Lux4-sept'!$A$75=Display!$B$11,'Lux4-sept'!$A$139=Display!$B$13),Display!$D7,)","v":0},{"$f":"IF(AND(AA$8=Display!$T$10,'Lux4-sept'!$A$8=Display!$B$7,'Lux4-sept'!$A$9=Display!$B$9,'Lux4-sept'!$A$75=Display!$B$11,'Lux4-sept'!$A$139=Display!$B$13),Display!$D7,)","v":0},{"$f":"IF(AND(AB$8=Display!$T$10,'Lux4-sept'!$A$8=Display!$B$7,'Lux4-sept'!$A$9=Display!$B$9,'Lux4-sept'!$A$75=Display!$B$11,'Lux4-sept'!$A$139=Display!$B$13),Display!$D7,)","v":0},{"$f":"IF(AND(AC$8=Display!$T$10,'Lux4-sept'!$A$8=Display!$B$7,'Lux4-sept'!$A$9=Display!$B$9,'Lux4-sept'!$A$75=Display!$B$11,'Lux4-sept'!$A$139=Display!$B$13),Display!$D7,)","v":0},{"$f":"IF(AND(AD$8=Display!$T$10,'Lux4-sept'!$A$8=Display!$B$7,'Lux4-sept'!$A$9=Display!$B$9,'Lux4-sept'!$A$75=Display!$B$11,'Lux4-sept'!$A$139=Display!$B$13),Display!$D7,)","v":0},{"$f":"IF(AND(AE$8=Display!$T$10,'Lux4-sept'!$A$8=Display!$B$7,'Lux4-sept'!$A$9=Display!$B$9,'Lux4-sept'!$A$75=Display!$B$11,'Lux4-sept'!$A$139=Display!$B$13),Display!$D7,)","v":0},{"$f":"IF(AND(AF$8=Display!$T$10,'Lux4-sept'!$A$8=Display!$B$7,'Lux4-sept'!$A$9=Display!$B$9,'Lux4-sept'!$A$75=Display!$B$11,'Lux4-sept'!$A$139=Display!$B$13),Display!$D7,)","v":0},null,null,0]
["Salles de réunion aspirées",{"$f":"IF(AND(B$8=Display!$T$10,'Lux4-sept'!$A$8=Display!$B$7,'Lux4-sept'!$A$9=Display!$B$9,'Lux4-sept'!$A$75=Display!$B$11,'Lux4-sept'!$A$139=Display!$B$13),Display!$D8,)","v":0},{"$f":"IF(AND(C$8=Display!$T$10,'Lux4-sept'!$A$8=Display!$B$7,'Lux4-sept'!$A$9=Display!$B$9,'Lux4-sept'!$A$75=Display!$B$11,'Lux4-sept'!$A$139=Display!$B$13),Display!$D8,)","v":0},{"$f":"IF(AND(D$8=Display!$T$10,'Lux4-sept'!$A$8=Display!$B$7,'Lux4-sept'!$A$9=Display!$B$9,'Lux4-sept'!$A$75=Display!$B$11,'Lux4-sept'!$A$139=Display!$B$13),Display!$D8,)","v":0},{"$f":"IF(AND(E$8=Display!$T$10,'Lux4-sept'!$A$8=Display!$B$7,'Lux4-sept'!$A$9=Display!$B$9,'Lux4-sept'!$A$75=Display!$B$11,'Lux4-sept'!$A$139=Display!$B$13),Display!$D8,)","v":0},{"$f":"IF(AND(F$8=Display!$T$10,'Lux4-sept'!$A$8=Display!$B$7,'Lux4-sept'!$A$9=Display!$B$9,'Lux4-sept'!$A$75=Display!$B$11,'Lux4-sept'!$A$139=Display!$B$13),Display!$D8,)","v":0},{"$f":"IF(AND(G$8=Display!$T$10,'Lux4-sept'!$A$8=Display!$B$7,'Lux4-sept'!$A$9=Display!$B$9,'Lux4-sept'!$A$75=Display!$B$11,'Lux4-sept'!$A$139=Display!$B$13),Display!$D8,)","v":0},{"$f":"IF(AND(H$8=Display!$T$10,'Lux4-sept'!$A$8=Display!$B$7,'Lux4-sept'!$A$9=Display!$B$9,'Lux4-sept'!$A$75=Display!$B$11,'Lux4-sept'!$A$139=Display!$B$13),Display!$D8,)","v":0},{"$f":"IF(AND(I$8=Display!$T$10,'Lux4-sept'!$A$8=Display!$B$7,'Lux4-sept'!$A$9=Display!$B$9,'Lux4-sept'!$A$75=Display!$B$11,'Lux4-sept'!$A$139=Display!$B$13),Display!$D8,)","v":0},{"$f":"IF(AND(J$8=Display!$T$10,'Lux4-sept'!$A$8=Display!$B$7,'Lux4-sept'!$A$9=Display!$B$9,'Lux4-sept'!$A$75=Display!$B$11,'Lux4-sept'!$A$139=Display!$B$13),Display!$D8,)","v":0},{"$f":"IF(AND(K$8=Display!$T$10,'Lux4-sept'!$A$8=Display!$B$7,'Lux4-sept'!$A$9=Display!$B$9,'Lux4-sept'!$A$75=Display!$B$11,'Lux4-sept'!$A$139=Display!$B$13),Display!$D8,)","v":0},{"$f":"IF(AND(L$8=Display!$T$10,'Lux4-sept'!$A$8=Display!$B$7,'Lux4-sept'!$A$9=Display!$B$9,'Lux4-sept'!$A$75=Display!$B$11,'Lux4-sept'!$A$139=Display!$B$13),Display!$D8,)","v":0},{"$f":"IF(AND(M$8=Display!$T$10,'Lux4-sept'!$A$8=Display!$B$7,'Lux4-sept'!$A$9=Display!$B$9,'Lux4-sept'!$A$75=Display!$B$11,'Lux4-sept'!$A$139=Display!$B$13),Display!$D8,)","v":0},{"$f":"IF(AND(N$8=Display!$T$10,'Lux4-sept'!$A$8=Display!$B$7,'Lux4-sept'!$A$9=Display!$B$9,'Lux4-sept'!$A$75=Display!$B$11,'Lux4-sept'!$A$139=Display!$B$13),Display!$D8,)","v":0},{"$f":"IF(AND(O$8=Display!$T$10,'Lux4-sept'!$A$8=Display!$B$7,'Lux4-sept'!$A$9=Display!$B$9,'Lux4-sept'!$A$75=Display!$B$11,'Lux4-sept'!$A$139=Display!$B$13),Display!$D8,)","v":0},{"$f":"IF(AND(P$8=Display!$T$10,'Lux4-sept'!$A$8=Display!$B$7,'Lux4-sept'!$A$9=Display!$B$9,'Lux4-sept'!$A$75=Display!$B$11,'Lux4-sept'!$A$139=Display!$B$13),Display!$D8,)","v":0},{"$f":"IF(AND(Q$8=Display!$T$10,'Lux4-sept'!$A$8=Display!$B$7,'Lux4-sept'!$A$9=Display!$B$9,'Lux4-sept'!$A$75=Display!$B$11,'Lux4-sept'!$A$139=Display!$B$13),Display!$D8,)","v":0},{"$f":"IF(AND(R$8=Display!$T$10,'Lux4-sept'!$A$8=Display!$B$7,'Lux4-sept'!$A$9=Display!$B$9,'Lux4-sept'!$A$75=Display!$B$11,'Lux4-sept'!$A$139=Display!$B$13),Display!$D8,)","v":0},{"$f":"IF(AND(S$8=Display!$T$10,'Lux4-sept'!$A$8=Display!$B$7,'Lux4-sept'!$A$9=Display!$B$9,'Lux4-sept'!$A$75=Display!$B$11,'Lux4-sept'!$A$139=Display!$B$13),Display!$D8,)","v":0},{"$f":"IF(AND(T$8=Display!$T$10,'Lux4-sept'!$A$8=Display!$B$7,'Lux4-sept'!$A$9=Display!$B$9,'Lux4-sept'!$A$75=Display!$B$11,'Lux4-sept'!$A$139=Display!$B$13),Display!$D8,)","v":0},{"$f":"IF(AND(U$8=Display!$T$10,'Lux4-sept'!$A$8=Display!$B$7,'Lux4-sept'!$A$9=Display!$B$9,'Lux4-sept'!$A$75=Display!$B$11,'Lux4-sept'!$A$139=Display!$B$13),Display!$D8,)","v":0},{"$f":"IF(AND(V$8=Display!$T$10,'Lux4-sept'!$A$8=Display!$B$7,'Lux4-sept'!$A$9=Display!$B$9,'Lux4-sept'!$A$75=Display!$B$11,'Lux4-sept'!$A$139=Display!$B$13),Display!$D8,)","v":0},{"$f":"IF(AND(W$8=Display!$T$10,'Lux4-sept'!$A$8=Display!$B$7,'Lux4-sept'!$A$9=Display!$B$9,'Lux4-sept'!$A$75=Display!$B$11,'Lux4-sept'!$A$139=Display!$B$13),Display!$D8,)","v":0},{"$f":"IF(AND(X$8=Display!$T$10,'Lux4-sept'!$A$8=Display!$B$7,'Lux4-sept'!$A$9=Display!$B$9,'Lux4-sept'!$A$75=Display!$B$11,'Lux4-sept'!$A$139=Display!$B$13),Display!$D8,)","v":0},{"$f":"IF(AND(Y$8=Display!$T$10,'Lux4-sept'!$A$8=Display!$B$7,'Lux4-sept'!$A$9=Display!$B$9,'Lux4-sept'!$A$75=Display!$B$11,'Lux4-sept'!$A$139=Display!$B$13),Display!$D8,)","v":0},{"$f":"IF(AND(Z$8=Display!$T$10,'Lux4-sept'!$A$8=Display!$B$7,'Lux4-sept'!$A$9=Display!$B$9,'Lux4-sept'!$A$75=Display!$B$11,'Lux4-sept'!$A$139=Display!$B$13),Display!$D8,)","v":0},{"$f":"IF(AND(AA$8=Display!$T$10,'Lux4-sept'!$A$8=Display!$B$7,'Lux4-sept'!$A$9=Display!$B$9,'Lux4-sept'!$A$75=Display!$B$11,'Lux4-sept'!$A$139=Display!$B$13),Display!$D8,)","v":0},{"$f":"IF(AND(AB$8=Display!$T$10,'Lux4-sept'!$A$8=Display!$B$7,'Lux4-sept'!$A$9=Display!$B$9,'Lux4-sept'!$A$75=Display!$B$11,'Lux4-sept'!$A$139=Display!$B$13),Display!$D8,)","v":0},{"$f":"IF(AND(AC$8=Display!$T$10,'Lux4-sept'!$A$8=Display!$B$7,'Lux4-sept'!$A$9=Display!$B$9,'Lux4-sept'!$A$75=Display!$B$11,'Lux4-sept'!$A$139=Display!$B$13),Display!$D8,)","v":0},{"$f":"IF(AND(AD$8=Display!$T$10,'Lux4-sept'!$A$8=Display!$B$7,'Lux4-sept'!$A$9=Display!$B$9,'Lux4-sept'!$A$75=Display!$B$11,'Lux4-sept'!$A$139=Display!$B$13),Display!$D8,)","v":0},{"$f":"IF(AND(AE$8=Display!$T$10,'Lux4-sept'!$A$8=Display!$B$7,'Lux4-sept'!$A$9=Display!$B$9,'Lux4-sept'!$A$75=Display!$B$11,'Lux4-sept'!$A$139=Display!$B$13),Display!$D8,)","v":0},{"$f":"IF(AND(AF$8=Display!$T$10,'Lux4-sept'!$A$8=Display!$B$7,'Lux4-sept'!$A$9=Display!$B$9,'Lux4-sept'!$A$75=Display!$B$11,'Lux4-sept'!$A$139=Display!$B$13),Display!$D8,)","v":0},null,null,0]
["Présence de poussières",{"$f":"IF(AND(B$8=Display!$T$10,'Lux4-sept'!$A$8=Display!$B$7,'Lux4-sept'!$A$9=Display!$B$9,'Lux4-sept'!$A$75=Display!$B$11,'Lux4-sept'!$A$139=Display!$B$13),Display!$D9,)","v":0},{"$f":"IF(AND(C$8=Display!$T$10,'Lux4-sept'!$A$8=Display!$B$7,'Lux4-sept'!$A$9=Display!$B$9,'Lux4-sept'!$A$75=Display!$B$11,'Lux4-sept'!$A$139=Display!$B$13),Display!$D9,)","v":0},{"$f":"IF(AND(D$8=Display!$T$10,'Lux4-sept'!$A$8=Display!$B$7,'Lux4-sept'!$A$9=Display!$B$9,'Lux4-sept'!$A$75=Display!$B$11,'Lux4-sept'!$A$139=Display!$B$13),Display!$D9,)","v":0},{"$f":"IF(AND(E$8=Display!$T$10,'Lux4-sept'!$A$8=Display!$B$7,'Lux4-sept'!$A$9=Display!$B$9,'Lux4-sept'!$A$75=Display!$B$11,'Lux4-sept'!$A$139=Display!$B$13),Display!$D9,)","v":0},{"$f":"IF(AND(F$8=Display!$T$10,'Lux4-sept'!$A$8=Display!$B$7,'Lux4-sept'!$A$9=Display!$B$9,'Lux4-sept'!$A$75=Display!$B$11,'Lux4-sept'!$A$139=Display!$B$13),Display!$D9,)","v":0},{"$f":"IF(AND(G$8=Display!$T$10,'Lux4-sept'!$A$8=Display!$B$7,'Lux4-sept'!$A$9=Display!$B$9,'Lux4-sept'!$A$75=Display!$B$11,'Lux4-sept'!$A$139=Display!$B$13),Display!$D9,)","v":0},{"$f":"IF(AND(H$8=Display!$T$10,'Lux4-sept'!$A$8=Display!$B$7,'Lux4-sept'!$A$9=Display!$B$9,'Lux4-sept'!$A$75=Display!$B$11,'Lux4-sept'!$A$139=Display!$B$13),Display!$D9,)","v":0},{"$f":"IF(AND(I$8=Display!$T$10,'Lux4-sept'!$A$8=Display!$B$7,'Lux4-sept'!$A$9=Display!$B$9,'Lux4-sept'!$A$75=Display!$B$11,'Lux4-sept'!$A$139=Display!$B$13),Display!$D9,)","v":0},{"$f":"IF(AND(J$8=Display!$T$10,'Lux4-sept'!$A$8=Display!$B$7,'Lux4-sept'!$A$9=Display!$B$9,'Lux4-sept'!$A$75=Display!$B$11,'Lux4-sept'!$A$139=Display!$B$13),Display!$D9,)","v":0},{"$f":"IF(AND(K$8=Display!$T$10,'Lux4-sept'!$A$8=Display!$B$7,'Lux4-sept'!$A$9=Display!$B$9,'Lux4-sept'!$A$75=Display!$B$11,'Lux4-sept'!$A$139=Display!$B$13),Display!$D9,)","v":0},{"$f":"IF(AND(L$8=Display!$T$10,'Lux4-sept'!$A$8=Display!$B$7,'Lux4-sept'!$A$9=Display!$B$9,'Lux4-sept'!$A$75=Display!$B$11,'Lux4-sept'!$A$139=Display!$B$13),Display!$D9,)","v":0},{"$f":"IF(AND(M$8=Display!$T$10,'Lux4-sept'!$A$8=Display!$B$7,'Lux4-sept'!$A$9=Display!$B$9,'Lux4-sept'!$A$75=Display!$B$11,'Lux4-sept'!$A$139=Display!$B$13),Display!$D9,)","v":0},{"$f":"IF(AND(N$8=Display!$T$10,'Lux4-sept'!$A$8=Display!$B$7,'Lux4-sept'!$A$9=Display!$B$9,'Lux4-sept'!$A$75=Display!$B$11,'Lux4-sept'!$A$139=Display!$B$13),Display!$D9,)","v":0},{"$f":"IF(AND(O$8=Display!$T$10,'Lux4-sept'!$A$8=Display!$B$7,'Lux4-sept'!$A$9=Display!$B$9,'Lux4-sept'!$A$75=Display!$B$11,'Lux4-sept'!$A$139=Display!$B$13),Display!$D9,)","v":0},{"$f":"IF(AND(P$8=Display!$T$10,'Lux4-sept'!$A$8=Display!$B$7,'Lux4-sept'!$A$9=Display!$B$9,'Lux4-sept'!$A$75=Display!$B$11,'Lux4-sept'!$A$139=Display!$B$13),Display!$D9,)","v":0},{"$f":"IF(AND(Q$8=Display!$T$10,'Lux4-sept'!$A$8=Display!$B$7,'Lux4-sept'!$A$9=Display!$B$9,'Lux4-sept'!$A$75=Display!$B$11,'Lux4-sept'!$A$139=Display!$B$13),Display!$D9,)","v":0},{"$f":"IF(AND(R$8=Display!$T$10,'Lux4-sept'!$A$8=Display!$B$7,'Lux4-sept'!$A$9=Display!$B$9,'Lux4-sept'!$A$75=Display!$B$11,'Lux4-sept'!$A$139=Display!$B$13),Display!$D9,)","v":0},{"$f":"IF(AND(S$8=Display!$T$10,'Lux4-sept'!$A$8=Display!$B$7,'Lux4-sept'!$A$9=Display!$B$9,'Lux4-sept'!$A$75=Display!$B$11,'Lux4-sept'!$A$139=Display!$B$13),Display!$D9,)","v":0},{"$f":"IF(AND(T$8=Display!$T$10,'Lux4-sept'!$A$8=Display!$B$7,'Lux4-sept'!$A$9=Display!$B$9,'Lux4-sept'!$A$75=Display!$B$11,'Lux4-sept'!$A$139=Display!$B$13),Display!$D9,)","v":0},{"$f":"IF(AND(U$8=Display!$T$10,'Lux4-sept'!$A$8=Display!$B$7,'Lux4-sept'!$A$9=Display!$B$9,'Lux4-sept'!$A$75=Display!$B$11,'Lux4-sept'!$A$139=Display!$B$13),Display!$D9,)","v":0},{"$f":"IF(AND(V$8=Display!$T$10,'Lux4-sept'!$A$8=Display!$B$7,'Lux4-sept'!$A$9=Display!$B$9,'Lux4-sept'!$A$75=Display!$B$11,'Lux4-sept'!$A$139=Display!$B$13),Display!$D9,)","v":0},{"$f":"IF(AND(W$8=Display!$T$10,'Lux4-sept'!$A$8=Display!$B$7,'Lux4-sept'!$A$9=Display!$B$9,'Lux4-sept'!$A$75=Display!$B$11,'Lux4-sept'!$A$139=Display!$B$13),Display!$D9,)","v":0},{"$f":"IF(AND(X$8=Display!$T$10,'Lux4-sept'!$A$8=Display!$B$7,'Lux4-sept'!$A$9=Display!$B$9,'Lux4-sept'!$A$75=Display!$B$11,'Lux4-sept'!$A$139=Display!$B$13),Display!$D9,)","v":0},{"$f":"IF(AND(Y$8=Display!$T$10,'Lux4-sept'!$A$8=Display!$B$7,'Lux4-sept'!$A$9=Display!$B$9,'Lux4-sept'!$A$75=Display!$B$11,'Lux4-sept'!$A$139=Display!$B$13),Display!$D9,)","v":0},{"$f":"IF(AND(Z$8=Display!$T$10,'Lux4-sept'!$A$8=Display!$B$7,'Lux4-sept'!$A$9=Display!$B$9,'Lux4-sept'!$A$75=Display!$B$11,'Lux4-sept'!$A$139=Display!$B$13),Display!$D9,)","v":0},{"$f":"IF(AND(AA$8=Display!$T$10,'Lux4-sept'!$A$8=Display!$B$7,'Lux4-sept'!$A$9=Display!$B$9,'Lux4-sept'!$A$75=Display!$B$11,'Lux4-sept'!$A$139=Display!$B$13),Display!$D9,)","v":0},{"$f":"IF(AND(AB$8=Display!$T$10,'Lux4-sept'!$A$8=Display!$B$7,'Lux4-sept'!$A$9=Display!$B$9,'Lux4-sept'!$A$75=Display!$B$11,'Lux4-sept'!$A$139=Display!$B$13),Display!$D9,)","v":0},{"$f":"IF(AND(AC$8=Display!$T$10,'Lux4-sept'!$A$8=Display!$B$7,'Lux4-sept'!$A$9=Display!$B$9,'Lux4-sept'!$A$75=Display!$B$11,'Lux4-sept'!$A$139=Display!$B$13),Display!$D9,)","v":0},{"$f":"IF(AND(AD$8=Display!$T$10,'Lux4-sept'!$A$8=Display!$B$7,'Lux4-sept'!$A$9=Display!$B$9,'Lux4-sept'!$A$75=Display!$B$11,'Lux4-sept'!$A$139=Display!$B$13),Display!$D9,)","v":0},{"$f":"IF(AND(AE$8=Display!$T$10,'Lux4-sept'!$A$8=Display!$B$7,'Lux4-sept'!$A$9=Display!$B$9,'Lux4-sept'!$A$75=Display!$B$11,'Lux4-sept'!$A$139=Display!$B$13),Display!$D9,)","v":0},{"$f":"IF(AND(AF$8=Display!$T$10,'Lux4-sept'!$A$8=Display!$B$7,'Lux4-sept'!$A$9=Display!$B$9,'Lux4-sept'!$A$75=Display!$B$11,'Lux4-sept'!$A$139=Display!$B$13),Display!$D9,)","v":0},null,null,0]
["Aucune trace de doigts",{"$f":"IF(AND(B$8=Display!$T$10,'Lux4-sept'!$A$8=Display!$B$7,'Lux4-sept'!$A$9=Display!$B$9,'Lux4-sept'!$A$75=Display!$B$11,'Lux4-sept'!$A$139=Display!$B$13),Display!$D10,)","v":0},{"$f":"IF(AND(C$8=Display!$T$10,'Lux4-sept'!$A$8=Display!$B$7,'Lux4-sept'!$A$9=Display!$B$9,'Lux4-sept'!$A$75=Display!$B$11,'Lux4-sept'!$A$139=Display!$B$13),Display!$D10,)","v":0},{"$f":"IF(AND(D$8=Display!$T$10,'Lux4-sept'!$A$8=Display!$B$7,'Lux4-sept'!$A$9=Display!$B$9,'Lux4-sept'!$A$75=Display!$B$11,'Lux4-sept'!$A$139=Display!$B$13),Display!$D10,)","v":0},{"$f":"IF(AND(E$8=Display!$T$10,'Lux4-sept'!$A$8=Display!$B$7,'Lux4-sept'!$A$9=Display!$B$9,'Lux4-sept'!$A$75=Display!$B$11,'Lux4-sept'!$A$139=Display!$B$13),Display!$D10,)","v":0},{"$f":"IF(AND(F$8=Display!$T$10,'Lux4-sept'!$A$8=Display!$B$7,'Lux4-sept'!$A$9=Display!$B$9,'Lux4-sept'!$A$75=Display!$B$11,'Lux4-sept'!$A$139=Display!$B$13),Display!$D10,)","v":0},{"$f":"IF(AND(G$8=Display!$T$10,'Lux4-sept'!$A$8=Display!$B$7,'Lux4-sept'!$A$9=Display!$B$9,'Lux4-sept'!$A$75=Display!$B$11,'Lux4-sept'!$A$139=Display!$B$13),Display!$D10,)","v":0},{"$f":"IF(AND(H$8=Display!$T$10,'Lux4-sept'!$A$8=Display!$B$7,'Lux4-sept'!$A$9=Display!$B$9,'Lux4-sept'!$A$75=Display!$B$11,'Lux4-sept'!$A$139=Display!$B$13),Display!$D10,)","v":0},{"$f":"IF(AND(I$8=Display!$T$10,'Lux4-sept'!$A$8=Display!$B$7,'Lux4-sept'!$A$9=Display!$B$9,'Lux4-sept'!$A$75=Display!$B$11,'Lux4-sept'!$A$139=Display!$B$13),Display!$D10,)","v":0},{"$f":"IF(AND(J$8=Display!$T$10,'Lux4-sept'!$A$8=Display!$B$7,'Lux4-sept'!$A$9=Display!$B$9,'Lux4-sept'!$A$75=Display!$B$11,'Lux4-sept'!$A$139=Display!$B$13),Display!$D10,)","v":0},{"$f":"IF(AND(K$8=Display!$T$10,'Lux4-sept'!$A$8=Display!$B$7,'Lux4-sept'!$A$9=Display!$B$9,'Lux4-sept'!$A$75=Display!$B$11,'Lux4-sept'!$A$139=Display!$B$13),Display!$D10,)","v":0},{"$f":"IF(AND(L$8=Display!$T$10,'Lux4-sept'!$A$8=Display!$B$7,'Lux4-sept'!$A$9=Display!$B$9,'Lux4-sept'!$A$75=Display!$B$11,'Lux4-sept'!$A$139=Display!$B$13),Display!$D10,)","v":0},{"$f":"IF(AND(M$8=Display!$T$10,'Lux4-sept'!$A$8=Display!$B$7,'Lux4-sept'!$A$9=Display!$B$9,'Lux4-sept'!$A$75=Display!$B$11,'Lux4-sept'!$A$139=Display!$B$13),Display!$D10,)","v":0},{"$f":"IF(AND(N$8=Display!$T$10,'Lux4-sept'!$A$8=Display!$B$7,'Lux4-sept'!$A$9=Display!$B$9,'Lux4-sept'!$A$75=Display!$B$11,'Lux4-sept'!$A$139=Display!$B$13),Display!$D10,)","v":0},{"$f":"IF(AND(O$8=Display!$T$10,'Lux4-sept'!$A$8=Display!$B$7,'Lux4-sept'!$A$9=Display!$B$9,'Lux4-sept'!$A$75=Display!$B$11,'Lux4-sept'!$A$139=Display!$B$13),Display!$D10,)","v":0},{"$f":"IF(AND(P$8=Display!$T$10,'Lux4-sept'!$A$8=Display!$B$7,'Lux4-sept'!$A$9=Display!$B$9,'Lux4-sept'!$A$75=Display!$B$11,'Lux4-sept'!$A$139=Display!$B$13),Display!$D10,)","v":0},{"$f":"IF(AND(Q$8=Display!$T$10,'Lux4-sept'!$A$8=Display!$B$7,'Lux4-sept'!$A$9=Display!$B$9,'Lux4-sept'!$A$75=Display!$B$11,'Lux4-sept'!$A$139=Display!$B$13),Display!$D10,)","v":0},{"$f":"IF(AND(R$8=Display!$T$10,'Lux4-sept'!$A$8=Display!$B$7,'Lux4-sept'!$A$9=Display!$B$9,'Lux4-sept'!$A$75=Display!$B$11,'Lux4-sept'!$A$139=Display!$B$13),Display!$D10,)","v":0},{"$f":"IF(AND(S$8=Display!$T$10,'Lux4-sept'!$A$8=Display!$B$7,'Lux4-sept'!$A$9=Display!$B$9,'Lux4-sept'!$A$75=Display!$B$11,'Lux4-sept'!$A$139=Display!$B$13),Display!$D10,)","v":0},{"$f":"IF(AND(T$8=Display!$T$10,'Lux4-sept'!$A$8=Display!$B$7,'Lux4-sept'!$A$9=Display!$B$9,'Lux4-sept'!$A$75=Display!$B$11,'Lux4-sept'!$A$139=Display!$B$13),Display!$D10,)","v":0},{"$f":"IF(AND(U$8=Display!$T$10,'Lux4-sept'!$A$8=Display!$B$7,'Lux4-sept'!$A$9=Display!$B$9,'Lux4-sept'!$A$75=Display!$B$11,'Lux4-sept'!$A$139=Display!$B$13),Display!$D10,)","v":0},{"$f":"IF(AND(V$8=Display!$T$10,'Lux4-sept'!$A$8=Display!$B$7,'Lux4-sept'!$A$9=Display!$B$9,'Lux4-sept'!$A$75=Display!$B$11,'Lux4-sept'!$A$139=Display!$B$13),Display!$D10,)","v":0},{"$f":"IF(AND(W$8=Display!$T$10,'Lux4-sept'!$A$8=Display!$B$7,'Lux4-sept'!$A$9=Display!$B$9,'Lux4-sept'!$A$75=Display!$B$11,'Lux4-sept'!$A$139=Display!$B$13),Display!$D10,)","v":0},{"$f":"IF(AND(X$8=Display!$T$10,'Lux4-sept'!$A$8=Display!$B$7,'Lux4-sept'!$A$9=Display!$B$9,'Lux4-sept'!$A$75=Display!$B$11,'Lux4-sept'!$A$139=Display!$B$13),Display!$D10,)","v":0},{"$f":"IF(AND(Y$8=Display!$T$10,'Lux4-sept'!$A$8=Display!$B$7,'Lux4-sept'!$A$9=Display!$B$9,'Lux4-sept'!$A$75=Display!$B$11,'Lux4-sept'!$A$139=Display!$B$13),Display!$D10,)","v":0},{"$f":"IF(AND(Z$8=Display!$T$10,'Lux4-sept'!$A$8=Display!$B$7,'Lux4-sept'!$A$9=Display!$B$9,'Lux4-sept'!$A$75=Display!$B$11,'Lux4-sept'!$A$139=Display!$B$13),Display!$D10,)","v":0},{"$f":"IF(AND(AA$8=Display!$T$10,'Lux4-sept'!$A$8=Display!$B$7,'Lux4-sept'!$A$9=Display!$B$9,'Lux4-sept'!$A$75=Display!$B$11,'Lux4-sept'!$A$139=Display!$B$13),Display!$D10,)","v":0},{"$f":"IF(AND(AB$8=Display!$T$10,'Lux4-sept'!$A$8=Display!$B$7,'Lux4-sept'!$A$9=Display!$B$9,'Lux4-sept'!$A$75=Display!$B$11,'Lux4-sept'!$A$139=Display!$B$13),Display!$D10,)","v":0},{"$f":"IF(AND(AC$8=Display!$T$10,'Lux4-sept'!$A$8=Display!$B$7,'Lux4-sept'!$A$9=Display!$B$9,'Lux4-sept'!$A$75=Display!$B$11,'Lux4-sept'!$A$139=Display!$B$13),Display!$D10,)","v":0},{"$f":"IF(AND(AD$8=Display!$T$10,'Lux4-sept'!$A$8=Display!$B$7,'Lux4-sept'!$A$9=Display!$B$9,'Lux4-sept'!$A$75=Display!$B$11,'Lux4-sept'!$A$139=Display!$B$13),Display!$D10,)","v":0},{"$f":"IF(AND(AE$8=Display!$T$10,'Lux4-sept'!$A$8=Display!$B$7,'Lux4-sept'!$A$9=Display!$B$9,'Lux4-sept'!$A$75=Display!$B$11,'Lux4-sept'!$A$139=Display!$B$13),Display!$D10,)","v":0},{"$f":"IF(AND(AF$8=Display!$T$10,'Lux4-sept'!$A$8=Display!$B$7,'Lux4-sept'!$A$9=Display!$B$9,'Lux4-sept'!$A$75=Display!$B$11,'Lux4-sept'!$A$139=Display!$B$13),Display!$D10,)","v":0},null,null,0]
["MOYENNE",{"$f":"((IF((SUM(B140:B146))<>0,(SUM(B140:B146)),0))/(IF((SUM((IF(B140<>0,3,0)),(IF(B141<>0,3,0)),(IF(B142<>0,3,0)),(IF(B143<>0,3,0)),(IF(B144<>0,3,0)),(IF(B145<>0,3,0)),(IF(B146<>0,3,0))))<>0,((SUM((IF(B140<>0,3,0)),(IF(B141<>0,3,0)),(IF(B142<>0,3,0)),(IF(B143<>0,3,0)),(IF(B144<>0,3,0)),(IF(B145<>0,3,0)),(IF(B146<>0,3,0))))),1)))","v":0},{"$f":"((IF((SUM(C140:C146))<>0,(SUM(C140:C146)),0))/(IF((SUM((IF(C140<>0,3,0)),(IF(C141<>0,3,0)),(IF(C142<>0,3,0)),(IF(C143<>0,3,0)),(IF(C144<>0,3,0)),(IF(C145<>0,3,0)),(IF(C146<>0,3,0))))<>0,((SUM((IF(C140<>0,3,0)),(IF(C141<>0,3,0)),(IF(C142<>0,3,0)),(IF(C143<>0,3,0)),(IF(C144<>0,3,0)),(IF(C145<>0,3,0)),(IF(C146<>0,3,0))))),1)))","v":0},0,0,0,0,0,0,0,0,0,0,0,0,0,0,0,0,0,0,0,0,0,0,0,0,0,0,0,0,0,0,0]
["Kitchens"]
["Day Time Cleaning"]
[".01"]
["Préparation cuisine en place (café, thé, lunch…) ",{"$f":"IF(AND(B$8=Display!$T$10,'Lux4-sept'!$A$8=Display!$B$7,'Lux4-sept'!$A$148=Display!$B$9,'Lux4-sept'!$A$149=Display!$B$11,'Lux4-sept'!$A$150=Display!$B$13),Display!$D4,)","v":0},{"$f":"IF(AND(C$8=Display!$T$10,'Lux4-sept'!$A$8=Display!$B$7,'Lux4-sept'!$A$148=Display!$B$9,'Lux4-sept'!$A$149=Display!$B$11,'Lux4-sept'!$A$150=Display!$B$13),Display!$D4,)","v":0},{"$f":"IF(AND(D$8=Display!$T$10,'Lux4-sept'!$A$8=Display!$B$7,'Lux4-sept'!$A$148=Display!$B$9,'Lux4-sept'!$A$149=Display!$B$11,'Lux4-sept'!$A$150=Display!$B$13),Display!$D4,)","v":0},{"$f":"IF(AND(E$8=Display!$T$10,'Lux4-sept'!$A$8=Display!$B$7,'Lux4-sept'!$A$148=Display!$B$9,'Lux4-sept'!$A$149=Display!$B$11,'Lux4-sept'!$A$150=Display!$B$13),Display!$D4,)","v":0},{"$f":"IF(AND(F$8=Display!$T$10,'Lux4-sept'!$A$8=Display!$B$7,'Lux4-sept'!$A$148=Display!$B$9,'Lux4-sept'!$A$149=Display!$B$11,'Lux4-sept'!$A$150=Display!$B$13),Display!$D4,)","v":0},{"$f":"IF(AND(G$8=Display!$T$10,'Lux4-sept'!$A$8=Display!$B$7,'Lux4-sept'!$A$148=Display!$B$9,'Lux4-sept'!$A$149=Display!$B$11,'Lux4-sept'!$A$150=Display!$B$13),Display!$D4,)","v":0},{"$f":"IF(AND(H$8=Display!$T$10,'Lux4-sept'!$A$8=Display!$B$7,'Lux4-sept'!$A$148=Display!$B$9,'Lux4-sept'!$A$149=Display!$B$11,'Lux4-sept'!$A$150=Display!$B$13),Display!$D4,)","v":0},{"$f":"IF(AND(I$8=Display!$T$10,'Lux4-sept'!$A$8=Display!$B$7,'Lux4-sept'!$A$148=Display!$B$9,'Lux4-sept'!$A$149=Display!$B$11,'Lux4-sept'!$A$150=Display!$B$13),Display!$D4,)","v":0},{"$f":"IF(AND(J$8=Display!$T$10,'Lux4-sept'!$A$8=Display!$B$7,'Lux4-sept'!$A$148=Display!$B$9,'Lux4-sept'!$A$149=Display!$B$11,'Lux4-sept'!$A$150=Display!$B$13),Display!$D4,)","v":0},{"$f":"IF(AND(K$8=Display!$T$10,'Lux4-sept'!$A$8=Display!$B$7,'Lux4-sept'!$A$148=Display!$B$9,'Lux4-sept'!$A$149=Display!$B$11,'Lux4-sept'!$A$150=Display!$B$13),Display!$D4,)","v":0},{"$f":"IF(AND(L$8=Display!$T$10,'Lux4-sept'!$A$8=Display!$B$7,'Lux4-sept'!$A$148=Display!$B$9,'Lux4-sept'!$A$149=Display!$B$11,'Lux4-sept'!$A$150=Display!$B$13),Display!$D4,)","v":0},{"$f":"IF(AND(M$8=Display!$T$10,'Lux4-sept'!$A$8=Display!$B$7,'Lux4-sept'!$A$148=Display!$B$9,'Lux4-sept'!$A$149=Display!$B$11,'Lux4-sept'!$A$150=Display!$B$13),Display!$D4,)","v":0},{"$f":"IF(AND(N$8=Display!$T$10,'Lux4-sept'!$A$8=Display!$B$7,'Lux4-sept'!$A$148=Display!$B$9,'Lux4-sept'!$A$149=Display!$B$11,'Lux4-sept'!$A$150=Display!$B$13),Display!$D4,)","v":0},{"$f":"IF(AND(O$8=Display!$T$10,'Lux4-sept'!$A$8=Display!$B$7,'Lux4-sept'!$A$148=Display!$B$9,'Lux4-sept'!$A$149=Display!$B$11,'Lux4-sept'!$A$150=Display!$B$13),Display!$D4,)","v":0},{"$f":"IF(AND(P$8=Display!$T$10,'Lux4-sept'!$A$8=Display!$B$7,'Lux4-sept'!$A$148=Display!$B$9,'Lux4-sept'!$A$149=Display!$B$11,'Lux4-sept'!$A$150=Display!$B$13),Display!$D4,)","v":0},{"$f":"IF(AND(Q$8=Display!$T$10,'Lux4-sept'!$A$8=Display!$B$7,'Lux4-sept'!$A$148=Display!$B$9,'Lux4-sept'!$A$149=Display!$B$11,'Lux4-sept'!$A$150=Display!$B$13),Display!$D4,)","v":0},{"$f":"IF(AND(R$8=Display!$T$10,'Lux4-sept'!$A$8=Display!$B$7,'Lux4-sept'!$A$148=Display!$B$9,'Lux4-sept'!$A$149=Display!$B$11,'Lux4-sept'!$A$150=Display!$B$13),Display!$D4,)","v":0},{"$f":"IF(AND(S$8=Display!$T$10,'Lux4-sept'!$A$8=Display!$B$7,'Lux4-sept'!$A$148=Display!$B$9,'Lux4-sept'!$A$149=Display!$B$11,'Lux4-sept'!$A$150=Display!$B$13),Display!$D4,)","v":0},{"$f":"IF(AND(T$8=Display!$T$10,'Lux4-sept'!$A$8=Display!$B$7,'Lux4-sept'!$A$148=Display!$B$9,'Lux4-sept'!$A$149=Display!$B$11,'Lux4-sept'!$A$150=Display!$B$13),Display!$D4,)","v":0},{"$f":"IF(AND(U$8=Display!$T$10,'Lux4-sept'!$A$8=Display!$B$7,'Lux4-sept'!$A$148=Display!$B$9,'Lux4-sept'!$A$149=Display!$B$11,'Lux4-sept'!$A$150=Display!$B$13),Display!$D4,)","v":0},{"$f":"IF(AND(V$8=Display!$T$10,'Lux4-sept'!$A$8=Display!$B$7,'Lux4-sept'!$A$148=Display!$B$9,'Lux4-sept'!$A$149=Display!$B$11,'Lux4-sept'!$A$150=Display!$B$13),Display!$D4,)","v":0},{"$f":"IF(AND(W$8=Display!$T$10,'Lux4-sept'!$A$8=Display!$B$7,'Lux4-sept'!$A$148=Display!$B$9,'Lux4-sept'!$A$149=Display!$B$11,'Lux4-sept'!$A$150=Display!$B$13),Display!$D4,)","v":0},{"$f":"IF(AND(X$8=Display!$T$10,'Lux4-sept'!$A$8=Display!$B$7,'Lux4-sept'!$A$148=Display!$B$9,'Lux4-sept'!$A$149=Display!$B$11,'Lux4-sept'!$A$150=Display!$B$13),Display!$D4,)","v":0},{"$f":"IF(AND(Y$8=Display!$T$10,'Lux4-sept'!$A$8=Display!$B$7,'Lux4-sept'!$A$148=Display!$B$9,'Lux4-sept'!$A$149=Display!$B$11,'Lux4-sept'!$A$150=Display!$B$13),Display!$D4,)","v":0},{"$f":"IF(AND(Z$8=Display!$T$10,'Lux4-sept'!$A$8=Display!$B$7,'Lux4-sept'!$A$148=Display!$B$9,'Lux4-sept'!$A$149=Display!$B$11,'Lux4-sept'!$A$150=Display!$B$13),Display!$D4,)","v":0},{"$f":"IF(AND(AA$8=Display!$T$10,'Lux4-sept'!$A$8=Display!$B$7,'Lux4-sept'!$A$148=Display!$B$9,'Lux4-sept'!$A$149=Display!$B$11,'Lux4-sept'!$A$150=Display!$B$13),Display!$D4,)","v":0},{"$f":"IF(AND(AB$8=Display!$T$10,'Lux4-sept'!$A$8=Display!$B$7,'Lux4-sept'!$A$148=Display!$B$9,'Lux4-sept'!$A$149=Display!$B$11,'Lux4-sept'!$A$150=Display!$B$13),Display!$D4,)","v":0},{"$f":"IF(AND(AC$8=Display!$T$10,'Lux4-sept'!$A$8=Display!$B$7,'Lux4-sept'!$A$148=Display!$B$9,'Lux4-sept'!$A$149=Display!$B$11,'Lux4-sept'!$A$150=Display!$B$13),Display!$D4,)","v":0},{"$f":"IF(AND(AD$8=Display!$T$10,'Lux4-sept'!$A$8=Display!$B$7,'Lux4-sept'!$A$148=Display!$B$9,'Lux4-sept'!$A$149=Display!$B$11,'Lux4-sept'!$A$150=Display!$B$13),Display!$D4,)","v":0},{"$f":"IF(AND(AE$8=Display!$T$10,'Lux4-sept'!$A$8=Display!$B$7,'Lux4-sept'!$A$148=Display!$B$9,'Lux4-sept'!$A$149=Display!$B$11,'Lux4-sept'!$A$150=Display!$B$13),Display!$D4,)","v":0},{"$f":"IF(AND(AF$8=Display!$T$10,'Lux4-sept'!$A$8=Display!$B$7,'Lux4-sept'!$A$148=Display!$B$9,'Lux4-sept'!$A$149=Display!$B$11,'Lux4-sept'!$A$150=Display!$B$13),Display!$D4,)","v":0},null,null,{"$f":"((IF((SUM(B151:AF151))<>0,(SUM(B151:AF151)),0))/(IF((SUM((IF(B151<>0,3,0)),(IF(C151<>0,3,0)),(IF(D151<>0,3,0)),(IF(E151<>0,3,0)),(IF(F151<>0,3,0)),(IF(F151<>0,3,0)),(IF(F151<>0,3,0)),(IF(G151<>0,3,0)),(IF(H151<>0,3,0)),(IF(I151<>0,3,0)),(IF(J151<>0,3,0)),(IF(K151<>0,3,0)),(IF(L151<>0,3,0)),(IF(M151<>0,3,0)),(IF(N151<>0,3,0)),(IF(O151<>0,3,0)),(IF(P151<>0,3,0)),(IF(Q151<>0,3,0)),(IF(R151<>0,3,0)),(IF(S151<>0,3,0)),(IF(T151<>0,3,0)),(IF(U151<>0,3,0)),(IF(V151<>0,3,0)),(IF(W151<>0,3,0)),(IF(X151<>0,3,0)),(IF(Y151<>0,3,0)),(IF(Z151<>0,3,0)),(IF(AA151<>0,3,0)),(IF(AB151<>0,3,0)),(IF(AC151<>0,3,0)),(IF(AD151<>0,3,0)),(IF(AE151<>0,3,0)),(IF(AF151<>0,3,0))))<>0,((SUM((IF(B151<>0,3,0)),(IF(C151<>0,3,0)),(IF(D151<>0,3,0)),(IF(E151<>0,3,0)),(IF(F151<>0,3,0)),(IF(F151<>0,3,0)),(IF(F151<>0,3,0)),(IF(G151<>0,3,0)),(IF(H151<>0,3,0)),(IF(I151<>0,3,0)),(IF(J151<>0,3,0)),(IF(K151<>0,3,0)),(IF(L151<>0,3,0)),(IF(M151<>0,3,0)),(IF(N151<>0,3,0)),(IF(O151<>0,3,0)),(IF(P151<>0,3,0)),(IF(Q151<>0,3,0)),(IF(R151<>0,3,0)),(IF(S151<>0,3,0)),(IF(T151<>0,3,0)),(IF(U151<>0,3,0)),(IF(V151<>0,3,0)),(IF(W151<>0,3,0)),(IF(X151<>0,3,0)),(IF(Y151<>0,3,0)),(IF(Z151<>0,3,0)),(IF(AA151<>0,3,0)),(IF(AB151<>0,3,0)),(IF(AC151<>0,3,0)),(IF(AD151<>0,3,0)),(IF(AE151<>0,3,0)),(IF(AF151<>0,3,0))))),1)))","v":0},"Légende:",0,"Non Appliqué"]
["Salle prête à être utilisée",{"$f":"IF(AND(B$8=Display!$T$10,'Lux4-sept'!$A$8=Display!$B$7,'Lux4-sept'!$A$148=Display!$B$9,'Lux4-sept'!$A$149=Display!$B$11,'Lux4-sept'!$A$150=Display!$B$13),Display!$D5,)","v":0},{"$f":"IF(AND(C$8=Display!$T$10,'Lux4-sept'!$A$8=Display!$B$7,'Lux4-sept'!$A$148=Display!$B$9,'Lux4-sept'!$A$149=Display!$B$11,'Lux4-sept'!$A$150=Display!$B$13),Display!$D5,)","v":0},{"$f":"IF(AND(D$8=Display!$T$10,'Lux4-sept'!$A$8=Display!$B$7,'Lux4-sept'!$A$148=Display!$B$9,'Lux4-sept'!$A$149=Display!$B$11,'Lux4-sept'!$A$150=Display!$B$13),Display!$D5,)","v":0},{"$f":"IF(AND(E$8=Display!$T$10,'Lux4-sept'!$A$8=Display!$B$7,'Lux4-sept'!$A$148=Display!$B$9,'Lux4-sept'!$A$149=Display!$B$11,'Lux4-sept'!$A$150=Display!$B$13),Display!$D5,)","v":0},{"$f":"IF(AND(F$8=Display!$T$10,'Lux4-sept'!$A$8=Display!$B$7,'Lux4-sept'!$A$148=Display!$B$9,'Lux4-sept'!$A$149=Display!$B$11,'Lux4-sept'!$A$150=Display!$B$13),Display!$D5,)","v":0},{"$f":"IF(AND(G$8=Display!$T$10,'Lux4-sept'!$A$8=Display!$B$7,'Lux4-sept'!$A$148=Display!$B$9,'Lux4-sept'!$A$149=Display!$B$11,'Lux4-sept'!$A$150=Display!$B$13),Display!$D5,)","v":0},{"$f":"IF(AND(H$8=Display!$T$10,'Lux4-sept'!$A$8=Display!$B$7,'Lux4-sept'!$A$148=Display!$B$9,'Lux4-sept'!$A$149=Display!$B$11,'Lux4-sept'!$A$150=Display!$B$13),Display!$D5,)","v":0},{"$f":"IF(AND(I$8=Display!$T$10,'Lux4-sept'!$A$8=Display!$B$7,'Lux4-sept'!$A$148=Display!$B$9,'Lux4-sept'!$A$149=Display!$B$11,'Lux4-sept'!$A$150=Display!$B$13),Display!$D5,)","v":0},{"$f":"IF(AND(J$8=Display!$T$10,'Lux4-sept'!$A$8=Display!$B$7,'Lux4-sept'!$A$148=Display!$B$9,'Lux4-sept'!$A$149=Display!$B$11,'Lux4-sept'!$A$150=Display!$B$13),Display!$D5,)","v":0},{"$f":"IF(AND(K$8=Display!$T$10,'Lux4-sept'!$A$8=Display!$B$7,'Lux4-sept'!$A$148=Display!$B$9,'Lux4-sept'!$A$149=Display!$B$11,'Lux4-sept'!$A$150=Display!$B$13),Display!$D5,)","v":0},{"$f":"IF(AND(L$8=Display!$T$10,'Lux4-sept'!$A$8=Display!$B$7,'Lux4-sept'!$A$148=Display!$B$9,'Lux4-sept'!$A$149=Display!$B$11,'Lux4-sept'!$A$150=Display!$B$13),Display!$D5,)","v":0},{"$f":"IF(AND(M$8=Display!$T$10,'Lux4-sept'!$A$8=Display!$B$7,'Lux4-sept'!$A$148=Display!$B$9,'Lux4-sept'!$A$149=Display!$B$11,'Lux4-sept'!$A$150=Display!$B$13),Display!$D5,)","v":0},{"$f":"IF(AND(N$8=Display!$T$10,'Lux4-sept'!$A$8=Display!$B$7,'Lux4-sept'!$A$148=Display!$B$9,'Lux4-sept'!$A$149=Display!$B$11,'Lux4-sept'!$A$150=Display!$B$13),Display!$D5,)","v":0},{"$f":"IF(AND(O$8=Display!$T$10,'Lux4-sept'!$A$8=Display!$B$7,'Lux4-sept'!$A$148=Display!$B$9,'Lux4-sept'!$A$149=Display!$B$11,'Lux4-sept'!$A$150=Display!$B$13),Display!$D5,)","v":0},{"$f":"IF(AND(P$8=Display!$T$10,'Lux4-sept'!$A$8=Display!$B$7,'Lux4-sept'!$A$148=Display!$B$9,'Lux4-sept'!$A$149=Display!$B$11,'Lux4-sept'!$A$150=Display!$B$13),Display!$D5,)","v":0},{"$f":"IF(AND(Q$8=Display!$T$10,'Lux4-sept'!$A$8=Display!$B$7,'Lux4-sept'!$A$148=Display!$B$9,'Lux4-sept'!$A$149=Display!$B$11,'Lux4-sept'!$A$150=Display!$B$13),Display!$D5,)","v":0},{"$f":"IF(AND(R$8=Display!$T$10,'Lux4-sept'!$A$8=Display!$B$7,'Lux4-sept'!$A$148=Display!$B$9,'Lux4-sept'!$A$149=Display!$B$11,'Lux4-sept'!$A$150=Display!$B$13),Display!$D5,)","v":0},{"$f":"IF(AND(S$8=Display!$T$10,'Lux4-sept'!$A$8=Display!$B$7,'Lux4-sept'!$A$148=Display!$B$9,'Lux4-sept'!$A$149=Display!$B$11,'Lux4-sept'!$A$150=Display!$B$13),Display!$D5,)","v":0},{"$f":"IF(AND(T$8=Display!$T$10,'Lux4-sept'!$A$8=Display!$B$7,'Lux4-sept'!$A$148=Display!$B$9,'Lux4-sept'!$A$149=Display!$B$11,'Lux4-sept'!$A$150=Display!$B$13),Display!$D5,)","v":0},{"$f":"IF(AND(U$8=Display!$T$10,'Lux4-sept'!$A$8=Display!$B$7,'Lux4-sept'!$A$148=Display!$B$9,'Lux4-sept'!$A$149=Display!$B$11,'Lux4-sept'!$A$150=Display!$B$13),Display!$D5,)","v":0},{"$f":"IF(AND(V$8=Display!$T$10,'Lux4-sept'!$A$8=Display!$B$7,'Lux4-sept'!$A$148=Display!$B$9,'Lux4-sept'!$A$149=Display!$B$11,'Lux4-sept'!$A$150=Display!$B$13),Display!$D5,)","v":0},{"$f":"IF(AND(W$8=Display!$T$10,'Lux4-sept'!$A$8=Display!$B$7,'Lux4-sept'!$A$148=Display!$B$9,'Lux4-sept'!$A$149=Display!$B$11,'Lux4-sept'!$A$150=Display!$B$13),Display!$D5,)","v":0},{"$f":"IF(AND(X$8=Display!$T$10,'Lux4-sept'!$A$8=Display!$B$7,'Lux4-sept'!$A$148=Display!$B$9,'Lux4-sept'!$A$149=Display!$B$11,'Lux4-sept'!$A$150=Display!$B$13),Display!$D5,)","v":0},{"$f":"IF(AND(Y$8=Display!$T$10,'Lux4-sept'!$A$8=Display!$B$7,'Lux4-sept'!$A$148=Display!$B$9,'Lux4-sept'!$A$149=Display!$B$11,'Lux4-sept'!$A$150=Display!$B$13),Display!$D5,)","v":0},{"$f":"IF(AND(Z$8=Display!$T$10,'Lux4-sept'!$A$8=Display!$B$7,'Lux4-sept'!$A$148=Display!$B$9,'Lux4-sept'!$A$149=Display!$B$11,'Lux4-sept'!$A$150=Display!$B$13),Display!$D5,)","v":0},{"$f":"IF(AND(AA$8=Display!$T$10,'Lux4-sept'!$A$8=Display!$B$7,'Lux4-sept'!$A$148=Display!$B$9,'Lux4-sept'!$A$149=Display!$B$11,'Lux4-sept'!$A$150=Display!$B$13),Display!$D5,)","v":0},{"$f":"IF(AND(AB$8=Display!$T$10,'Lux4-sept'!$A$8=Display!$B$7,'Lux4-sept'!$A$148=Display!$B$9,'Lux4-sept'!$A$149=Display!$B$11,'Lux4-sept'!$A$150=Display!$B$13),Display!$D5,)","v":0},{"$f":"IF(AND(AC$8=Display!$T$10,'Lux4-sept'!$A$8=Display!$B$7,'Lux4-sept'!$A$148=Display!$B$9,'Lux4-sept'!$A$149=Display!$B$11,'Lux4-sept'!$A$150=Display!$B$13),Display!$D5,)","v":0},{"$f":"IF(AND(AD$8=Display!$T$10,'Lux4-sept'!$A$8=Display!$B$7,'Lux4-sept'!$A$148=Display!$B$9,'Lux4-sept'!$A$149=Display!$B$11,'Lux4-sept'!$A$150=Display!$B$13),Display!$D5,)","v":0},{"$f":"IF(AND(AE$8=Display!$T$10,'Lux4-sept'!$A$8=Display!$B$7,'Lux4-sept'!$A$148=Display!$B$9,'Lux4-sept'!$A$149=Display!$B$11,'Lux4-sept'!$A$150=Display!$B$13),Display!$D5,)","v":0},{"$f":"IF(AND(AF$8=Display!$T$10,'Lux4-sept'!$A$8=Display!$B$7,'Lux4-sept'!$A$148=Display!$B$9,'Lux4-sept'!$A$149=Display!$B$11,'Lux4-sept'!$A$150=Display!$B$13),Display!$D5,)","v":0},null,null,{"$f":"((IF((SUM(B152:AF152))<>0,(SUM(B152:AF152)),0))/(IF((SUM((IF(B152<>0,3,0)),(IF(C152<>0,3,0)),(IF(D152<>0,3,0)),(IF(E152<>0,3,0)),(IF(F152<>0,3,0)),(IF(F152<>0,3,0)),(IF(F152<>0,3,0)),(IF(G152<>0,3,0)),(IF(H152<>0,3,0)),(IF(I152<>0,3,0)),(IF(J152<>0,3,0)),(IF(K152<>0,3,0)),(IF(L152<>0,3,0)),(IF(M152<>0,3,0)),(IF(N152<>0,3,0)),(IF(O152<>0,3,0)),(IF(P152<>0,3,0)),(IF(Q152<>0,3,0)),(IF(R152<>0,3,0)),(IF(S152<>0,3,0)),(IF(T152<>0,3,0)),(IF(U152<>0,3,0)),(IF(V152<>0,3,0)),(IF(W152<>0,3,0)),(IF(X152<>0,3,0)),(IF(Y152<>0,3,0)),(IF(Z152<>0,3,0)),(IF(AA152<>0,3,0)),(IF(AB152<>0,3,0)),(IF(AC152<>0,3,0)),(IF(AD152<>0,3,0)),(IF(AE152<>0,3,0)),(IF(AF152<>0,3,0))))<>0,((SUM((IF(B152<>0,3,0)),(IF(C152<>0,3,0)),(IF(D152<>0,3,0)),(IF(E152<>0,3,0)),(IF(F152<>0,3,0)),(IF(F152<>0,3,0)),(IF(F152<>0,3,0)),(IF(G152<>0,3,0)),(IF(H152<>0,3,0)),(IF(I152<>0,3,0)),(IF(J152<>0,3,0)),(IF(K152<>0,3,0)),(IF(L152<>0,3,0)),(IF(M152<>0,3,0)),(IF(N152<>0,3,0)),(IF(O152<>0,3,0)),(IF(P152<>0,3,0)),(IF(Q152<>0,3,0)),(IF(R152<>0,3,0)),(IF(S152<>0,3,0)),(IF(T152<>0,3,0)),(IF(U152<>0,3,0)),(IF(V152<>0,3,0)),(IF(W152<>0,3,0)),(IF(X152<>0,3,0)),(IF(Y152<>0,3,0)),(IF(Z152<>0,3,0)),(IF(AA152<>0,3,0)),(IF(AB152<>0,3,0)),(IF(AC152<>0,3,0)),(IF(AD152<>0,3,0)),(IF(AE152<>0,3,0)),(IF(AF152<>0,3,0))))),1)))","v":0},null,1,"Médiocre"]
["Chaises rangées",{"$f":"IF(AND(B$8=Display!$T$10,'Lux4-sept'!$A$8=Display!$B$7,'Lux4-sept'!$A$148=Display!$B$9,'Lux4-sept'!$A$149=Display!$B$11,'Lux4-sept'!$A$150=Display!$B$13),Display!$D6,)","v":0},{"$f":"IF(AND(C$8=Display!$T$10,'Lux4-sept'!$A$8=Display!$B$7,'Lux4-sept'!$A$148=Display!$B$9,'Lux4-sept'!$A$149=Display!$B$11,'Lux4-sept'!$A$150=Display!$B$13),Display!$D6,)","v":0},{"$f":"IF(AND(D$8=Display!$T$10,'Lux4-sept'!$A$8=Display!$B$7,'Lux4-sept'!$A$148=Display!$B$9,'Lux4-sept'!$A$149=Display!$B$11,'Lux4-sept'!$A$150=Display!$B$13),Display!$D6,)","v":0},{"$f":"IF(AND(E$8=Display!$T$10,'Lux4-sept'!$A$8=Display!$B$7,'Lux4-sept'!$A$148=Display!$B$9,'Lux4-sept'!$A$149=Display!$B$11,'Lux4-sept'!$A$150=Display!$B$13),Display!$D6,)","v":0},{"$f":"IF(AND(F$8=Display!$T$10,'Lux4-sept'!$A$8=Display!$B$7,'Lux4-sept'!$A$148=Display!$B$9,'Lux4-sept'!$A$149=Display!$B$11,'Lux4-sept'!$A$150=Display!$B$13),Display!$D6,)","v":0},{"$f":"IF(AND(G$8=Display!$T$10,'Lux4-sept'!$A$8=Display!$B$7,'Lux4-sept'!$A$148=Display!$B$9,'Lux4-sept'!$A$149=Display!$B$11,'Lux4-sept'!$A$150=Display!$B$13),Display!$D6,)","v":0},{"$f":"IF(AND(H$8=Display!$T$10,'Lux4-sept'!$A$8=Display!$B$7,'Lux4-sept'!$A$148=Display!$B$9,'Lux4-sept'!$A$149=Display!$B$11,'Lux4-sept'!$A$150=Display!$B$13),Display!$D6,)","v":0},{"$f":"IF(AND(I$8=Display!$T$10,'Lux4-sept'!$A$8=Display!$B$7,'Lux4-sept'!$A$148=Display!$B$9,'Lux4-sept'!$A$149=Display!$B$11,'Lux4-sept'!$A$150=Display!$B$13),Display!$D6,)","v":0},{"$f":"IF(AND(J$8=Display!$T$10,'Lux4-sept'!$A$8=Display!$B$7,'Lux4-sept'!$A$148=Display!$B$9,'Lux4-sept'!$A$149=Display!$B$11,'Lux4-sept'!$A$150=Display!$B$13),Display!$D6,)","v":0},{"$f":"IF(AND(K$8=Display!$T$10,'Lux4-sept'!$A$8=Display!$B$7,'Lux4-sept'!$A$148=Display!$B$9,'Lux4-sept'!$A$149=Display!$B$11,'Lux4-sept'!$A$150=Display!$B$13),Display!$D6,)","v":0},{"$f":"IF(AND(L$8=Display!$T$10,'Lux4-sept'!$A$8=Display!$B$7,'Lux4-sept'!$A$148=Display!$B$9,'Lux4-sept'!$A$149=Display!$B$11,'Lux4-sept'!$A$150=Display!$B$13),Display!$D6,)","v":0},{"$f":"IF(AND(M$8=Display!$T$10,'Lux4-sept'!$A$8=Display!$B$7,'Lux4-sept'!$A$148=Display!$B$9,'Lux4-sept'!$A$149=Display!$B$11,'Lux4-sept'!$A$150=Display!$B$13),Display!$D6,)","v":0},{"$f":"IF(AND(N$8=Display!$T$10,'Lux4-sept'!$A$8=Display!$B$7,'Lux4-sept'!$A$148=Display!$B$9,'Lux4-sept'!$A$149=Display!$B$11,'Lux4-sept'!$A$150=Display!$B$13),Display!$D6,)","v":0},{"$f":"IF(AND(O$8=Display!$T$10,'Lux4-sept'!$A$8=Display!$B$7,'Lux4-sept'!$A$148=Display!$B$9,'Lux4-sept'!$A$149=Display!$B$11,'Lux4-sept'!$A$150=Display!$B$13),Display!$D6,)","v":0},{"$f":"IF(AND(P$8=Display!$T$10,'Lux4-sept'!$A$8=Display!$B$7,'Lux4-sept'!$A$148=Display!$B$9,'Lux4-sept'!$A$149=Display!$B$11,'Lux4-sept'!$A$150=Display!$B$13),Display!$D6,)","v":0},{"$f":"IF(AND(Q$8=Display!$T$10,'Lux4-sept'!$A$8=Display!$B$7,'Lux4-sept'!$A$148=Display!$B$9,'Lux4-sept'!$A$149=Display!$B$11,'Lux4-sept'!$A$150=Display!$B$13),Display!$D6,)","v":0},{"$f":"IF(AND(R$8=Display!$T$10,'Lux4-sept'!$A$8=Display!$B$7,'Lux4-sept'!$A$148=Display!$B$9,'Lux4-sept'!$A$149=Display!$B$11,'Lux4-sept'!$A$150=Display!$B$13),Display!$D6,)","v":0},{"$f":"IF(AND(S$8=Display!$T$10,'Lux4-sept'!$A$8=Display!$B$7,'Lux4-sept'!$A$148=Display!$B$9,'Lux4-sept'!$A$149=Display!$B$11,'Lux4-sept'!$A$150=Display!$B$13),Display!$D6,)","v":0},{"$f":"IF(AND(T$8=Display!$T$10,'Lux4-sept'!$A$8=Display!$B$7,'Lux4-sept'!$A$148=Display!$B$9,'Lux4-sept'!$A$149=Display!$B$11,'Lux4-sept'!$A$150=Display!$B$13),Display!$D6,)","v":0},{"$f":"IF(AND(U$8=Display!$T$10,'Lux4-sept'!$A$8=Display!$B$7,'Lux4-sept'!$A$148=Display!$B$9,'Lux4-sept'!$A$149=Display!$B$11,'Lux4-sept'!$A$150=Display!$B$13),Display!$D6,)","v":0},{"$f":"IF(AND(V$8=Display!$T$10,'Lux4-sept'!$A$8=Display!$B$7,'Lux4-sept'!$A$148=Display!$B$9,'Lux4-sept'!$A$149=Display!$B$11,'Lux4-sept'!$A$150=Display!$B$13),Display!$D6,)","v":0},{"$f":"IF(AND(W$8=Display!$T$10,'Lux4-sept'!$A$8=Display!$B$7,'Lux4-sept'!$A$148=Display!$B$9,'Lux4-sept'!$A$149=Display!$B$11,'Lux4-sept'!$A$150=Display!$B$13),Display!$D6,)","v":0},{"$f":"IF(AND(X$8=Display!$T$10,'Lux4-sept'!$A$8=Display!$B$7,'Lux4-sept'!$A$148=Display!$B$9,'Lux4-sept'!$A$149=Display!$B$11,'Lux4-sept'!$A$150=Display!$B$13),Display!$D6,)","v":0},{"$f":"IF(AND(Y$8=Display!$T$10,'Lux4-sept'!$A$8=Display!$B$7,'Lux4-sept'!$A$148=Display!$B$9,'Lux4-sept'!$A$149=Display!$B$11,'Lux4-sept'!$A$150=Display!$B$13),Display!$D6,)","v":0},{"$f":"IF(AND(Z$8=Display!$T$10,'Lux4-sept'!$A$8=Display!$B$7,'Lux4-sept'!$A$148=Display!$B$9,'Lux4-sept'!$A$149=Display!$B$11,'Lux4-sept'!$A$150=Display!$B$13),Display!$D6,)","v":0},{"$f":"IF(AND(AA$8=Display!$T$10,'Lux4-sept'!$A$8=Display!$B$7,'Lux4-sept'!$A$148=Display!$B$9,'Lux4-sept'!$A$149=Display!$B$11,'Lux4-sept'!$A$150=Display!$B$13),Display!$D6,)","v":0},{"$f":"IF(AND(AB$8=Display!$T$10,'Lux4-sept'!$A$8=Display!$B$7,'Lux4-sept'!$A$148=Display!$B$9,'Lux4-sept'!$A$149=Display!$B$11,'Lux4-sept'!$A$150=Display!$B$13),Display!$D6,)","v":0},{"$f":"IF(AND(AC$8=Display!$T$10,'Lux4-sept'!$A$8=Display!$B$7,'Lux4-sept'!$A$148=Display!$B$9,'Lux4-sept'!$A$149=Display!$B$11,'Lux4-sept'!$A$150=Display!$B$13),Display!$D6,)","v":0},{"$f":"IF(AND(AD$8=Display!$T$10,'Lux4-sept'!$A$8=Display!$B$7,'Lux4-sept'!$A$148=Display!$B$9,'Lux4-sept'!$A$149=Display!$B$11,'Lux4-sept'!$A$150=Display!$B$13),Display!$D6,)","v":0},{"$f":"IF(AND(AE$8=Display!$T$10,'Lux4-sept'!$A$8=Display!$B$7,'Lux4-sept'!$A$148=Display!$B$9,'Lux4-sept'!$A$149=Display!$B$11,'Lux4-sept'!$A$150=Display!$B$13),Display!$D6,)","v":0},{"$f":"IF(AND(AF$8=Display!$T$10,'Lux4-sept'!$A$8=Display!$B$7,'Lux4-sept'!$A$148=Display!$B$9,'Lux4-sept'!$A$149=Display!$B$11,'Lux4-sept'!$A$150=Display!$B$13),Display!$D6,)","v":0},null,null,0,null,2,"Raisonnable"]
["Poubelles vidées",{"$f":"IF(AND(B$8=Display!$T$10,'Lux4-sept'!$A$8=Display!$B$7,'Lux4-sept'!$A$148=Display!$B$9,'Lux4-sept'!$A$149=Display!$B$11,'Lux4-sept'!$A$150=Display!$B$13),Display!$D7,)","v":0},{"$f":"IF(AND(C$8=Display!$T$10,'Lux4-sept'!$A$8=Display!$B$7,'Lux4-sept'!$A$148=Display!$B$9,'Lux4-sept'!$A$149=Display!$B$11,'Lux4-sept'!$A$150=Display!$B$13),Display!$D7,)","v":0},{"$f":"IF(AND(D$8=Display!$T$10,'Lux4-sept'!$A$8=Display!$B$7,'Lux4-sept'!$A$148=Display!$B$9,'Lux4-sept'!$A$149=Display!$B$11,'Lux4-sept'!$A$150=Display!$B$13),Display!$D7,)","v":0},{"$f":"IF(AND(E$8=Display!$T$10,'Lux4-sept'!$A$8=Display!$B$7,'Lux4-sept'!$A$148=Display!$B$9,'Lux4-sept'!$A$149=Display!$B$11,'Lux4-sept'!$A$150=Display!$B$13),Display!$D7,)","v":0},{"$f":"IF(AND(F$8=Display!$T$10,'Lux4-sept'!$A$8=Display!$B$7,'Lux4-sept'!$A$148=Display!$B$9,'Lux4-sept'!$A$149=Display!$B$11,'Lux4-sept'!$A$150=Display!$B$13),Display!$D7,)","v":0},{"$f":"IF(AND(G$8=Display!$T$10,'Lux4-sept'!$A$8=Display!$B$7,'Lux4-sept'!$A$148=Display!$B$9,'Lux4-sept'!$A$149=Display!$B$11,'Lux4-sept'!$A$150=Display!$B$13),Display!$D7,)","v":0},{"$f":"IF(AND(H$8=Display!$T$10,'Lux4-sept'!$A$8=Display!$B$7,'Lux4-sept'!$A$148=Display!$B$9,'Lux4-sept'!$A$149=Display!$B$11,'Lux4-sept'!$A$150=Display!$B$13),Display!$D7,)","v":0},{"$f":"IF(AND(I$8=Display!$T$10,'Lux4-sept'!$A$8=Display!$B$7,'Lux4-sept'!$A$148=Display!$B$9,'Lux4-sept'!$A$149=Display!$B$11,'Lux4-sept'!$A$150=Display!$B$13),Display!$D7,)","v":0},{"$f":"IF(AND(J$8=Display!$T$10,'Lux4-sept'!$A$8=Display!$B$7,'Lux4-sept'!$A$148=Display!$B$9,'Lux4-sept'!$A$149=Display!$B$11,'Lux4-sept'!$A$150=Display!$B$13),Display!$D7,)","v":0},{"$f":"IF(AND(K$8=Display!$T$10,'Lux4-sept'!$A$8=Display!$B$7,'Lux4-sept'!$A$148=Display!$B$9,'Lux4-sept'!$A$149=Display!$B$11,'Lux4-sept'!$A$150=Display!$B$13),Display!$D7,)","v":0},{"$f":"IF(AND(L$8=Display!$T$10,'Lux4-sept'!$A$8=Display!$B$7,'Lux4-sept'!$A$148=Display!$B$9,'Lux4-sept'!$A$149=Display!$B$11,'Lux4-sept'!$A$150=Display!$B$13),Display!$D7,)","v":0},{"$f":"IF(AND(M$8=Display!$T$10,'Lux4-sept'!$A$8=Display!$B$7,'Lux4-sept'!$A$148=Display!$B$9,'Lux4-sept'!$A$149=Display!$B$11,'Lux4-sept'!$A$150=Display!$B$13),Display!$D7,)","v":0},{"$f":"IF(AND(N$8=Display!$T$10,'Lux4-sept'!$A$8=Display!$B$7,'Lux4-sept'!$A$148=Display!$B$9,'Lux4-sept'!$A$149=Display!$B$11,'Lux4-sept'!$A$150=Display!$B$13),Display!$D7,)","v":0},{"$f":"IF(AND(O$8=Display!$T$10,'Lux4-sept'!$A$8=Display!$B$7,'Lux4-sept'!$A$148=Display!$B$9,'Lux4-sept'!$A$149=Display!$B$11,'Lux4-sept'!$A$150=Display!$B$13),Display!$D7,)","v":0},{"$f":"IF(AND(P$8=Display!$T$10,'Lux4-sept'!$A$8=Display!$B$7,'Lux4-sept'!$A$148=Display!$B$9,'Lux4-sept'!$A$149=Display!$B$11,'Lux4-sept'!$A$150=Display!$B$13),Display!$D7,)","v":0},{"$f":"IF(AND(Q$8=Display!$T$10,'Lux4-sept'!$A$8=Display!$B$7,'Lux4-sept'!$A$148=Display!$B$9,'Lux4-sept'!$A$149=Display!$B$11,'Lux4-sept'!$A$150=Display!$B$13),Display!$D7,)","v":0},{"$f":"IF(AND(R$8=Display!$T$10,'Lux4-sept'!$A$8=Display!$B$7,'Lux4-sept'!$A$148=Display!$B$9,'Lux4-sept'!$A$149=Display!$B$11,'Lux4-sept'!$A$150=Display!$B$13),Display!$D7,)","v":0},{"$f":"IF(AND(S$8=Display!$T$10,'Lux4-sept'!$A$8=Display!$B$7,'Lux4-sept'!$A$148=Display!$B$9,'Lux4-sept'!$A$149=Display!$B$11,'Lux4-sept'!$A$150=Display!$B$13),Display!$D7,)","v":0},{"$f":"IF(AND(T$8=Display!$T$10,'Lux4-sept'!$A$8=Display!$B$7,'Lux4-sept'!$A$148=Display!$B$9,'Lux4-sept'!$A$149=Display!$B$11,'Lux4-sept'!$A$150=Display!$B$13),Display!$D7,)","v":0},{"$f":"IF(AND(U$8=Display!$T$10,'Lux4-sept'!$A$8=Display!$B$7,'Lux4-sept'!$A$148=Display!$B$9,'Lux4-sept'!$A$149=Display!$B$11,'Lux4-sept'!$A$150=Display!$B$13),Display!$D7,)","v":0},{"$f":"IF(AND(V$8=Display!$T$10,'Lux4-sept'!$A$8=Display!$B$7,'Lux4-sept'!$A$148=Display!$B$9,'Lux4-sept'!$A$149=Display!$B$11,'Lux4-sept'!$A$150=Display!$B$13),Display!$D7,)","v":0},{"$f":"IF(AND(W$8=Display!$T$10,'Lux4-sept'!$A$8=Display!$B$7,'Lux4-sept'!$A$148=Display!$B$9,'Lux4-sept'!$A$149=Display!$B$11,'Lux4-sept'!$A$150=Display!$B$13),Display!$D7,)","v":0},{"$f":"IF(AND(X$8=Display!$T$10,'Lux4-sept'!$A$8=Display!$B$7,'Lux4-sept'!$A$148=Display!$B$9,'Lux4-sept'!$A$149=Display!$B$11,'Lux4-sept'!$A$150=Display!$B$13),Display!$D7,)","v":0},{"$f":"IF(AND(Y$8=Display!$T$10,'Lux4-sept'!$A$8=Display!$B$7,'Lux4-sept'!$A$148=Display!$B$9,'Lux4-sept'!$A$149=Display!$B$11,'Lux4-sept'!$A$150=Display!$B$13),Display!$D7,)","v":0},{"$f":"IF(AND(Z$8=Display!$T$10,'Lux4-sept'!$A$8=Display!$B$7,'Lux4-sept'!$A$148=Display!$B$9,'Lux4-sept'!$A$149=Display!$B$11,'Lux4-sept'!$A$150=Display!$B$13),Display!$D7,)","v":0},{"$f":"IF(AND(AA$8=Display!$T$10,'Lux4-sept'!$A$8=Display!$B$7,'Lux4-sept'!$A$148=Display!$B$9,'Lux4-sept'!$A$149=Display!$B$11,'Lux4-sept'!$A$150=Display!$B$13),Display!$D7,)","v":0},{"$f":"IF(AND(AB$8=Display!$T$10,'Lux4-sept'!$A$8=Display!$B$7,'Lux4-sept'!$A$148=Display!$B$9,'Lux4-sept'!$A$149=Display!$B$11,'Lux4-sept'!$A$150=Display!$B$13),Display!$D7,)","v":0},{"$f":"IF(AND(AC$8=Display!$T$10,'Lux4-sept'!$A$8=Display!$B$7,'Lux4-sept'!$A$148=Display!$B$9,'Lux4-sept'!$A$149=Display!$B$11,'Lux4-sept'!$A$150=Display!$B$13),Display!$D7,)","v":0},{"$f":"IF(AND(AD$8=Display!$T$10,'Lux4-sept'!$A$8=Display!$B$7,'Lux4-sept'!$A$148=Display!$B$9,'Lux4-sept'!$A$149=Display!$B$11,'Lux4-sept'!$A$150=Display!$B$13),Display!$D7,)","v":0},{"$f":"IF(AND(AE$8=Display!$T$10,'Lux4-sept'!$A$8=Display!$B$7,'Lux4-sept'!$A$148=Display!$B$9,'Lux4-sept'!$A$149=Display!$B$11,'Lux4-sept'!$A$150=Display!$B$13),Display!$D7,)","v":0},{"$f":"IF(AND(AF$8=Display!$T$10,'Lux4-sept'!$A$8=Display!$B$7,'Lux4-sept'!$A$148=Display!$B$9,'Lux4-sept'!$A$149=Display!$B$11,'Lux4-sept'!$A$150=Display!$B$13),Display!$D7,)","v":0},null,null,0,null,3,"Excellent"]
["Tables nettoyées",{"$f":"IF(AND(B$8=Display!$T$10,'Lux4-sept'!$A$8=Display!$B$7,'Lux4-sept'!$A$148=Display!$B$9,'Lux4-sept'!$A$149=Display!$B$11,'Lux4-sept'!$A$150=Display!$B$13),Display!$D8,)","v":0},{"$f":"IF(AND(C$8=Display!$T$10,'Lux4-sept'!$A$8=Display!$B$7,'Lux4-sept'!$A$148=Display!$B$9,'Lux4-sept'!$A$149=Display!$B$11,'Lux4-sept'!$A$150=Display!$B$13),Display!$D8,)","v":0},{"$f":"IF(AND(D$8=Display!$T$10,'Lux4-sept'!$A$8=Display!$B$7,'Lux4-sept'!$A$148=Display!$B$9,'Lux4-sept'!$A$149=Display!$B$11,'Lux4-sept'!$A$150=Display!$B$13),Display!$D8,)","v":0},{"$f":"IF(AND(E$8=Display!$T$10,'Lux4-sept'!$A$8=Display!$B$7,'Lux4-sept'!$A$148=Display!$B$9,'Lux4-sept'!$A$149=Display!$B$11,'Lux4-sept'!$A$150=Display!$B$13),Display!$D8,)","v":0},{"$f":"IF(AND(F$8=Display!$T$10,'Lux4-sept'!$A$8=Display!$B$7,'Lux4-sept'!$A$148=Display!$B$9,'Lux4-sept'!$A$149=Display!$B$11,'Lux4-sept'!$A$150=Display!$B$13),Display!$D8,)","v":0},{"$f":"IF(AND(G$8=Display!$T$10,'Lux4-sept'!$A$8=Display!$B$7,'Lux4-sept'!$A$148=Display!$B$9,'Lux4-sept'!$A$149=Display!$B$11,'Lux4-sept'!$A$150=Display!$B$13),Display!$D8,)","v":0},{"$f":"IF(AND(H$8=Display!$T$10,'Lux4-sept'!$A$8=Display!$B$7,'Lux4-sept'!$A$148=Display!$B$9,'Lux4-sept'!$A$149=Display!$B$11,'Lux4-sept'!$A$150=Display!$B$13),Display!$D8,)","v":0},{"$f":"IF(AND(I$8=Display!$T$10,'Lux4-sept'!$A$8=Display!$B$7,'Lux4-sept'!$A$148=Display!$B$9,'Lux4-sept'!$A$149=Display!$B$11,'Lux4-sept'!$A$150=Display!$B$13),Display!$D8,)","v":0},{"$f":"IF(AND(J$8=Display!$T$10,'Lux4-sept'!$A$8=Display!$B$7,'Lux4-sept'!$A$148=Display!$B$9,'Lux4-sept'!$A$149=Display!$B$11,'Lux4-sept'!$A$150=Display!$B$13),Display!$D8,)","v":0},{"$f":"IF(AND(K$8=Display!$T$10,'Lux4-sept'!$A$8=Display!$B$7,'Lux4-sept'!$A$148=Display!$B$9,'Lux4-sept'!$A$149=Display!$B$11,'Lux4-sept'!$A$150=Display!$B$13),Display!$D8,)","v":0},{"$f":"IF(AND(L$8=Display!$T$10,'Lux4-sept'!$A$8=Display!$B$7,'Lux4-sept'!$A$148=Display!$B$9,'Lux4-sept'!$A$149=Display!$B$11,'Lux4-sept'!$A$150=Display!$B$13),Display!$D8,)","v":0},{"$f":"IF(AND(M$8=Display!$T$10,'Lux4-sept'!$A$8=Display!$B$7,'Lux4-sept'!$A$148=Display!$B$9,'Lux4-sept'!$A$149=Display!$B$11,'Lux4-sept'!$A$150=Display!$B$13),Display!$D8,)","v":0},{"$f":"IF(AND(N$8=Display!$T$10,'Lux4-sept'!$A$8=Display!$B$7,'Lux4-sept'!$A$148=Display!$B$9,'Lux4-sept'!$A$149=Display!$B$11,'Lux4-sept'!$A$150=Display!$B$13),Display!$D8,)","v":0},{"$f":"IF(AND(O$8=Display!$T$10,'Lux4-sept'!$A$8=Display!$B$7,'Lux4-sept'!$A$148=Display!$B$9,'Lux4-sept'!$A$149=Display!$B$11,'Lux4-sept'!$A$150=Display!$B$13),Display!$D8,)","v":0},{"$f":"IF(AND(P$8=Display!$T$10,'Lux4-sept'!$A$8=Display!$B$7,'Lux4-sept'!$A$148=Display!$B$9,'Lux4-sept'!$A$149=Display!$B$11,'Lux4-sept'!$A$150=Display!$B$13),Display!$D8,)","v":0},{"$f":"IF(AND(Q$8=Display!$T$10,'Lux4-sept'!$A$8=Display!$B$7,'Lux4-sept'!$A$148=Display!$B$9,'Lux4-sept'!$A$149=Display!$B$11,'Lux4-sept'!$A$150=Display!$B$13),Display!$D8,)","v":0},{"$f":"IF(AND(R$8=Display!$T$10,'Lux4-sept'!$A$8=Display!$B$7,'Lux4-sept'!$A$148=Display!$B$9,'Lux4-sept'!$A$149=Display!$B$11,'Lux4-sept'!$A$150=Display!$B$13),Display!$D8,)","v":0},{"$f":"IF(AND(S$8=Display!$T$10,'Lux4-sept'!$A$8=Display!$B$7,'Lux4-sept'!$A$148=Display!$B$9,'Lux4-sept'!$A$149=Display!$B$11,'Lux4-sept'!$A$150=Display!$B$13),Display!$D8,)","v":0},{"$f":"IF(AND(T$8=Display!$T$10,'Lux4-sept'!$A$8=Display!$B$7,'Lux4-sept'!$A$148=Display!$B$9,'Lux4-sept'!$A$149=Display!$B$11,'Lux4-sept'!$A$150=Display!$B$13),Display!$D8,)","v":0},{"$f":"IF(AND(U$8=Display!$T$10,'Lux4-sept'!$A$8=Display!$B$7,'Lux4-sept'!$A$148=Display!$B$9,'Lux4-sept'!$A$149=Display!$B$11,'Lux4-sept'!$A$150=Display!$B$13),Display!$D8,)","v":0},{"$f":"IF(AND(V$8=Display!$T$10,'Lux4-sept'!$A$8=Display!$B$7,'Lux4-sept'!$A$148=Display!$B$9,'Lux4-sept'!$A$149=Display!$B$11,'Lux4-sept'!$A$150=Display!$B$13),Display!$D8,)","v":0},{"$f":"IF(AND(W$8=Display!$T$10,'Lux4-sept'!$A$8=Display!$B$7,'Lux4-sept'!$A$148=Display!$B$9,'Lux4-sept'!$A$149=Display!$B$11,'Lux4-sept'!$A$150=Display!$B$13),Display!$D8,)","v":0},{"$f":"IF(AND(X$8=Display!$T$10,'Lux4-sept'!$A$8=Display!$B$7,'Lux4-sept'!$A$148=Display!$B$9,'Lux4-sept'!$A$149=Display!$B$11,'Lux4-sept'!$A$150=Display!$B$13),Display!$D8,)","v":0},{"$f":"IF(AND(Y$8=Display!$T$10,'Lux4-sept'!$A$8=Display!$B$7,'Lux4-sept'!$A$148=Display!$B$9,'Lux4-sept'!$A$149=Display!$B$11,'Lux4-sept'!$A$150=Display!$B$13),Display!$D8,)","v":0},{"$f":"IF(AND(Z$8=Display!$T$10,'Lux4-sept'!$A$8=Display!$B$7,'Lux4-sept'!$A$148=Display!$B$9,'Lux4-sept'!$A$149=Display!$B$11,'Lux4-sept'!$A$150=Display!$B$13),Display!$D8,)","v":0},{"$f":"IF(AND(AA$8=Display!$T$10,'Lux4-sept'!$A$8=Display!$B$7,'Lux4-sept'!$A$148=Display!$B$9,'Lux4-sept'!$A$149=Display!$B$11,'Lux4-sept'!$A$150=Display!$B$13),Display!$D8,)","v":0},{"$f":"IF(AND(AB$8=Display!$T$10,'Lux4-sept'!$A$8=Display!$B$7,'Lux4-sept'!$A$148=Display!$B$9,'Lux4-sept'!$A$149=Display!$B$11,'Lux4-sept'!$A$150=Display!$B$13),Display!$D8,)","v":0},{"$f":"IF(AND(AC$8=Display!$T$10,'Lux4-sept'!$A$8=Display!$B$7,'Lux4-sept'!$A$148=Display!$B$9,'Lux4-sept'!$A$149=Display!$B$11,'Lux4-sept'!$A$150=Display!$B$13),Display!$D8,)","v":0},{"$f":"IF(AND(AD$8=Display!$T$10,'Lux4-sept'!$A$8=Display!$B$7,'Lux4-sept'!$A$148=Display!$B$9,'Lux4-sept'!$A$149=Display!$B$11,'Lux4-sept'!$A$150=Display!$B$13),Display!$D8,)","v":0},{"$f":"IF(AND(AE$8=Display!$T$10,'Lux4-sept'!$A$8=Display!$B$7,'Lux4-sept'!$A$148=Display!$B$9,'Lux4-sept'!$A$149=Display!$B$11,'Lux4-sept'!$A$150=Display!$B$13),Display!$D8,)","v":0},{"$f":"IF(AND(AF$8=Display!$T$10,'Lux4-sept'!$A$8=Display!$B$7,'Lux4-sept'!$A$148=Display!$B$9,'Lux4-sept'!$A$149=Display!$B$11,'Lux4-sept'!$A$150=Display!$B$13),Display!$D8,)","v":0},null,null,0]
["MOYENNE",{"$f":"((IF((SUM(B151:B155))<>0,(SUM(B151:B155)),0))/(IF((SUM((IF(B151<>0,3,0)),(IF(B152<>0,3,0)),(IF(B153<>0,3,0)),(IF(B154<>0,3,0)),(IF(B155<>0,3,0))))<>0,((SUM((IF(B151<>0,3,0)),(IF(B152<>0,3,0)),(IF(B153<>0,3,0)),(IF(B154<>0,3,0)),(IF(B155<>0,3,0))))),1)))","v":0},{"$f":"((IF((SUM(C151:C155))<>0,(SUM(C151:C155)),0))/(IF((SUM((IF(C151<>0,3,0)),(IF(C152<>0,3,0)),(IF(C153<>0,3,0)),(IF(C154<>0,3,0)),(IF(C155<>0,3,0))))<>0,((SUM((IF(C151<>0,3,0)),(IF(C152<>0,3,0)),(IF(C153<>0,3,0)),(IF(C154<>0,3,0)),(IF(C155<>0,3,0))))),1)))","v":0},0,0,0,0,0,0,0,0,0,0,0,0,0,0,0,0,0,0,0,0,0,0,0,0,0,0,0,0,0,0,0]
[".02"]
["Préparation cuisine en place (café, thé, lunch…) ",{"$f":"IF(AND(B$8=Display!$T$10,'Lux4-sept'!$A$8=Display!$B$7,'Lux4-sept'!$A$148=Display!$B$9,'Lux4-sept'!$A$149=Display!$B$11,'Lux4-sept'!$A$157=Display!$B$13),Display!$D4,)","v":0},{"$f":"IF(AND(C$8=Display!$T$10,'Lux4-sept'!$A$8=Display!$B$7,'Lux4-sept'!$A$148=Display!$B$9,'Lux4-sept'!$A$149=Display!$B$11,'Lux4-sept'!$A$157=Display!$B$13),Display!$D4,)","v":0},{"$f":"IF(AND(D$8=Display!$T$10,'Lux4-sept'!$A$8=Display!$B$7,'Lux4-sept'!$A$148=Display!$B$9,'Lux4-sept'!$A$149=Display!$B$11,'Lux4-sept'!$A$157=Display!$B$13),Display!$D4,)","v":0},{"$f":"IF(AND(E$8=Display!$T$10,'Lux4-sept'!$A$8=Display!$B$7,'Lux4-sept'!$A$148=Display!$B$9,'Lux4-sept'!$A$149=Display!$B$11,'Lux4-sept'!$A$157=Display!$B$13),Display!$D4,)","v":0},{"$f":"IF(AND(F$8=Display!$T$10,'Lux4-sept'!$A$8=Display!$B$7,'Lux4-sept'!$A$148=Display!$B$9,'Lux4-sept'!$A$149=Display!$B$11,'Lux4-sept'!$A$157=Display!$B$13),Display!$D4,)","v":0},{"$f":"IF(AND(G$8=Display!$T$10,'Lux4-sept'!$A$8=Display!$B$7,'Lux4-sept'!$A$148=Display!$B$9,'Lux4-sept'!$A$149=Display!$B$11,'Lux4-sept'!$A$157=Display!$B$13),Display!$D4,)","v":0},{"$f":"IF(AND(H$8=Display!$T$10,'Lux4-sept'!$A$8=Display!$B$7,'Lux4-sept'!$A$148=Display!$B$9,'Lux4-sept'!$A$149=Display!$B$11,'Lux4-sept'!$A$157=Display!$B$13),Display!$D4,)","v":0},{"$f":"IF(AND(I$8=Display!$T$10,'Lux4-sept'!$A$8=Display!$B$7,'Lux4-sept'!$A$148=Display!$B$9,'Lux4-sept'!$A$149=Display!$B$11,'Lux4-sept'!$A$157=Display!$B$13),Display!$D4,)","v":0},{"$f":"IF(AND(J$8=Display!$T$10,'Lux4-sept'!$A$8=Display!$B$7,'Lux4-sept'!$A$148=Display!$B$9,'Lux4-sept'!$A$149=Display!$B$11,'Lux4-sept'!$A$157=Display!$B$13),Display!$D4,)","v":0},{"$f":"IF(AND(K$8=Display!$T$10,'Lux4-sept'!$A$8=Display!$B$7,'Lux4-sept'!$A$148=Display!$B$9,'Lux4-sept'!$A$149=Display!$B$11,'Lux4-sept'!$A$157=Display!$B$13),Display!$D4,)","v":0},{"$f":"IF(AND(L$8=Display!$T$10,'Lux4-sept'!$A$8=Display!$B$7,'Lux4-sept'!$A$148=Display!$B$9,'Lux4-sept'!$A$149=Display!$B$11,'Lux4-sept'!$A$157=Display!$B$13),Display!$D4,)","v":0},{"$f":"IF(AND(M$8=Display!$T$10,'Lux4-sept'!$A$8=Display!$B$7,'Lux4-sept'!$A$148=Display!$B$9,'Lux4-sept'!$A$149=Display!$B$11,'Lux4-sept'!$A$157=Display!$B$13),Display!$D4,)","v":0},{"$f":"IF(AND(N$8=Display!$T$10,'Lux4-sept'!$A$8=Display!$B$7,'Lux4-sept'!$A$148=Display!$B$9,'Lux4-sept'!$A$149=Display!$B$11,'Lux4-sept'!$A$157=Display!$B$13),Display!$D4,)","v":0},{"$f":"IF(AND(O$8=Display!$T$10,'Lux4-sept'!$A$8=Display!$B$7,'Lux4-sept'!$A$148=Display!$B$9,'Lux4-sept'!$A$149=Display!$B$11,'Lux4-sept'!$A$157=Display!$B$13),Display!$D4,)","v":0},{"$f":"IF(AND(P$8=Display!$T$10,'Lux4-sept'!$A$8=Display!$B$7,'Lux4-sept'!$A$148=Display!$B$9,'Lux4-sept'!$A$149=Display!$B$11,'Lux4-sept'!$A$157=Display!$B$13),Display!$D4,)","v":0},{"$f":"IF(AND(Q$8=Display!$T$10,'Lux4-sept'!$A$8=Display!$B$7,'Lux4-sept'!$A$148=Display!$B$9,'Lux4-sept'!$A$149=Display!$B$11,'Lux4-sept'!$A$157=Display!$B$13),Display!$D4,)","v":0},{"$f":"IF(AND(R$8=Display!$T$10,'Lux4-sept'!$A$8=Display!$B$7,'Lux4-sept'!$A$148=Display!$B$9,'Lux4-sept'!$A$149=Display!$B$11,'Lux4-sept'!$A$157=Display!$B$13),Display!$D4,)","v":0},{"$f":"IF(AND(S$8=Display!$T$10,'Lux4-sept'!$A$8=Display!$B$7,'Lux4-sept'!$A$148=Display!$B$9,'Lux4-sept'!$A$149=Display!$B$11,'Lux4-sept'!$A$157=Display!$B$13),Display!$D4,)","v":0},{"$f":"IF(AND(T$8=Display!$T$10,'Lux4-sept'!$A$8=Display!$B$7,'Lux4-sept'!$A$148=Display!$B$9,'Lux4-sept'!$A$149=Display!$B$11,'Lux4-sept'!$A$157=Display!$B$13),Display!$D4,)","v":0},{"$f":"IF(AND(U$8=Display!$T$10,'Lux4-sept'!$A$8=Display!$B$7,'Lux4-sept'!$A$148=Display!$B$9,'Lux4-sept'!$A$149=Display!$B$11,'Lux4-sept'!$A$157=Display!$B$13),Display!$D4,)","v":0},{"$f":"IF(AND(V$8=Display!$T$10,'Lux4-sept'!$A$8=Display!$B$7,'Lux4-sept'!$A$148=Display!$B$9,'Lux4-sept'!$A$149=Display!$B$11,'Lux4-sept'!$A$157=Display!$B$13),Display!$D4,)","v":0},{"$f":"IF(AND(W$8=Display!$T$10,'Lux4-sept'!$A$8=Display!$B$7,'Lux4-sept'!$A$148=Display!$B$9,'Lux4-sept'!$A$149=Display!$B$11,'Lux4-sept'!$A$157=Display!$B$13),Display!$D4,)","v":0},{"$f":"IF(AND(X$8=Display!$T$10,'Lux4-sept'!$A$8=Display!$B$7,'Lux4-sept'!$A$148=Display!$B$9,'Lux4-sept'!$A$149=Display!$B$11,'Lux4-sept'!$A$157=Display!$B$13),Display!$D4,)","v":0},{"$f":"IF(AND(Y$8=Display!$T$10,'Lux4-sept'!$A$8=Display!$B$7,'Lux4-sept'!$A$148=Display!$B$9,'Lux4-sept'!$A$149=Display!$B$11,'Lux4-sept'!$A$157=Display!$B$13),Display!$D4,)","v":0},{"$f":"IF(AND(Z$8=Display!$T$10,'Lux4-sept'!$A$8=Display!$B$7,'Lux4-sept'!$A$148=Display!$B$9,'Lux4-sept'!$A$149=Display!$B$11,'Lux4-sept'!$A$157=Display!$B$13),Display!$D4,)","v":0},{"$f":"IF(AND(AA$8=Display!$T$10,'Lux4-sept'!$A$8=Display!$B$7,'Lux4-sept'!$A$148=Display!$B$9,'Lux4-sept'!$A$149=Display!$B$11,'Lux4-sept'!$A$157=Display!$B$13),Display!$D4,)","v":0},{"$f":"IF(AND(AB$8=Display!$T$10,'Lux4-sept'!$A$8=Display!$B$7,'Lux4-sept'!$A$148=Display!$B$9,'Lux4-sept'!$A$149=Display!$B$11,'Lux4-sept'!$A$157=Display!$B$13),Display!$D4,)","v":0},{"$f":"IF(AND(AC$8=Display!$T$10,'Lux4-sept'!$A$8=Display!$B$7,'Lux4-sept'!$A$148=Display!$B$9,'Lux4-sept'!$A$149=Display!$B$11,'Lux4-sept'!$A$157=Display!$B$13),Display!$D4,)","v":0},{"$f":"IF(AND(AD$8=Display!$T$10,'Lux4-sept'!$A$8=Display!$B$7,'Lux4-sept'!$A$148=Display!$B$9,'Lux4-sept'!$A$149=Display!$B$11,'Lux4-sept'!$A$157=Display!$B$13),Display!$D4,)","v":0},{"$f":"IF(AND(AE$8=Display!$T$10,'Lux4-sept'!$A$8=Display!$B$7,'Lux4-sept'!$A$148=Display!$B$9,'Lux4-sept'!$A$149=Display!$B$11,'Lux4-sept'!$A$157=Display!$B$13),Display!$D4,)","v":0},{"$f":"IF(AND(AF$8=Display!$T$10,'Lux4-sept'!$A$8=Display!$B$7,'Lux4-sept'!$A$148=Display!$B$9,'Lux4-sept'!$A$149=Display!$B$11,'Lux4-sept'!$A$157=Display!$B$13),Display!$D4,)","v":0},null,null,{"$f":"((IF((SUM(B158:AF158))<>0,(SUM(B158:AF158)),0))/(IF((SUM((IF(B158<>0,3,0)),(IF(C158<>0,3,0)),(IF(D158<>0,3,0)),(IF(E158<>0,3,0)),(IF(F158<>0,3,0)),(IF(F158<>0,3,0)),(IF(F158<>0,3,0)),(IF(G158<>0,3,0)),(IF(H158<>0,3,0)),(IF(I158<>0,3,0)),(IF(J158<>0,3,0)),(IF(K158<>0,3,0)),(IF(L158<>0,3,0)),(IF(M158<>0,3,0)),(IF(N158<>0,3,0)),(IF(O158<>0,3,0)),(IF(P158<>0,3,0)),(IF(Q158<>0,3,0)),(IF(R158<>0,3,0)),(IF(S158<>0,3,0)),(IF(T158<>0,3,0)),(IF(U158<>0,3,0)),(IF(V158<>0,3,0)),(IF(W158<>0,3,0)),(IF(X158<>0,3,0)),(IF(Y158<>0,3,0)),(IF(Z158<>0,3,0)),(IF(AA158<>0,3,0)),(IF(AB158<>0,3,0)),(IF(AC158<>0,3,0)),(IF(AD158<>0,3,0)),(IF(AE158<>0,3,0)),(IF(AF158<>0,3,0))))<>0,((SUM((IF(B158<>0,3,0)),(IF(C158<>0,3,0)),(IF(D158<>0,3,0)),(IF(E158<>0,3,0)),(IF(F158<>0,3,0)),(IF(F158<>0,3,0)),(IF(F158<>0,3,0)),(IF(G158<>0,3,0)),(IF(H158<>0,3,0)),(IF(I158<>0,3,0)),(IF(J158<>0,3,0)),(IF(K158<>0,3,0)),(IF(L158<>0,3,0)),(IF(M158<>0,3,0)),(IF(N158<>0,3,0)),(IF(O158<>0,3,0)),(IF(P158<>0,3,0)),(IF(Q158<>0,3,0)),(IF(R158<>0,3,0)),(IF(S158<>0,3,0)),(IF(T158<>0,3,0)),(IF(U158<>0,3,0)),(IF(V158<>0,3,0)),(IF(W158<>0,3,0)),(IF(X158<>0,3,0)),(IF(Y158<>0,3,0)),(IF(Z158<>0,3,0)),(IF(AA158<>0,3,0)),(IF(AB158<>0,3,0)),(IF(AC158<>0,3,0)),(IF(AD158<>0,3,0)),(IF(AE158<>0,3,0)),(IF(AF158<>0,3,0))))),1)))","v":0}]
["Salle prête à être utilisée",{"$f":"IF(AND(B$8=Display!$T$10,'Lux4-sept'!$A$8=Display!$B$7,'Lux4-sept'!$A$148=Display!$B$9,'Lux4-sept'!$A$149=Display!$B$11,'Lux4-sept'!$A$157=Display!$B$13),Display!$D5,)","v":0},{"$f":"IF(AND(C$8=Display!$T$10,'Lux4-sept'!$A$8=Display!$B$7,'Lux4-sept'!$A$148=Display!$B$9,'Lux4-sept'!$A$149=Display!$B$11,'Lux4-sept'!$A$157=Display!$B$13),Display!$D5,)","v":0},{"$f":"IF(AND(D$8=Display!$T$10,'Lux4-sept'!$A$8=Display!$B$7,'Lux4-sept'!$A$148=Display!$B$9,'Lux4-sept'!$A$149=Display!$B$11,'Lux4-sept'!$A$157=Display!$B$13),Display!$D5,)","v":0},{"$f":"IF(AND(E$8=Display!$T$10,'Lux4-sept'!$A$8=Display!$B$7,'Lux4-sept'!$A$148=Display!$B$9,'Lux4-sept'!$A$149=Display!$B$11,'Lux4-sept'!$A$157=Display!$B$13),Display!$D5,)","v":0},{"$f":"IF(AND(F$8=Display!$T$10,'Lux4-sept'!$A$8=Display!$B$7,'Lux4-sept'!$A$148=Display!$B$9,'Lux4-sept'!$A$149=Display!$B$11,'Lux4-sept'!$A$157=Display!$B$13),Display!$D5,)","v":0},{"$f":"IF(AND(G$8=Display!$T$10,'Lux4-sept'!$A$8=Display!$B$7,'Lux4-sept'!$A$148=Display!$B$9,'Lux4-sept'!$A$149=Display!$B$11,'Lux4-sept'!$A$157=Display!$B$13),Display!$D5,)","v":0},{"$f":"IF(AND(H$8=Display!$T$10,'Lux4-sept'!$A$8=Display!$B$7,'Lux4-sept'!$A$148=Display!$B$9,'Lux4-sept'!$A$149=Display!$B$11,'Lux4-sept'!$A$157=Display!$B$13),Display!$D5,)","v":0},{"$f":"IF(AND(I$8=Display!$T$10,'Lux4-sept'!$A$8=Display!$B$7,'Lux4-sept'!$A$148=Display!$B$9,'Lux4-sept'!$A$149=Display!$B$11,'Lux4-sept'!$A$157=Display!$B$13),Display!$D5,)","v":0},{"$f":"IF(AND(J$8=Display!$T$10,'Lux4-sept'!$A$8=Display!$B$7,'Lux4-sept'!$A$148=Display!$B$9,'Lux4-sept'!$A$149=Display!$B$11,'Lux4-sept'!$A$157=Display!$B$13),Display!$D5,)","v":0},{"$f":"IF(AND(K$8=Display!$T$10,'Lux4-sept'!$A$8=Display!$B$7,'Lux4-sept'!$A$148=Display!$B$9,'Lux4-sept'!$A$149=Display!$B$11,'Lux4-sept'!$A$157=Display!$B$13),Display!$D5,)","v":0},{"$f":"IF(AND(L$8=Display!$T$10,'Lux4-sept'!$A$8=Display!$B$7,'Lux4-sept'!$A$148=Display!$B$9,'Lux4-sept'!$A$149=Display!$B$11,'Lux4-sept'!$A$157=Display!$B$13),Display!$D5,)","v":0},{"$f":"IF(AND(M$8=Display!$T$10,'Lux4-sept'!$A$8=Display!$B$7,'Lux4-sept'!$A$148=Display!$B$9,'Lux4-sept'!$A$149=Display!$B$11,'Lux4-sept'!$A$157=Display!$B$13),Display!$D5,)","v":0},{"$f":"IF(AND(N$8=Display!$T$10,'Lux4-sept'!$A$8=Display!$B$7,'Lux4-sept'!$A$148=Display!$B$9,'Lux4-sept'!$A$149=Display!$B$11,'Lux4-sept'!$A$157=Display!$B$13),Display!$D5,)","v":0},{"$f":"IF(AND(O$8=Display!$T$10,'Lux4-sept'!$A$8=Display!$B$7,'Lux4-sept'!$A$148=Display!$B$9,'Lux4-sept'!$A$149=Display!$B$11,'Lux4-sept'!$A$157=Display!$B$13),Display!$D5,)","v":0},{"$f":"IF(AND(P$8=Display!$T$10,'Lux4-sept'!$A$8=Display!$B$7,'Lux4-sept'!$A$148=Display!$B$9,'Lux4-sept'!$A$149=Display!$B$11,'Lux4-sept'!$A$157=Display!$B$13),Display!$D5,)","v":0},{"$f":"IF(AND(Q$8=Display!$T$10,'Lux4-sept'!$A$8=Display!$B$7,'Lux4-sept'!$A$148=Display!$B$9,'Lux4-sept'!$A$149=Display!$B$11,'Lux4-sept'!$A$157=Display!$B$13),Display!$D5,)","v":0},{"$f":"IF(AND(R$8=Display!$T$10,'Lux4-sept'!$A$8=Display!$B$7,'Lux4-sept'!$A$148=Display!$B$9,'Lux4-sept'!$A$149=Display!$B$11,'Lux4-sept'!$A$157=Display!$B$13),Display!$D5,)","v":0},{"$f":"IF(AND(S$8=Display!$T$10,'Lux4-sept'!$A$8=Display!$B$7,'Lux4-sept'!$A$148=Display!$B$9,'Lux4-sept'!$A$149=Display!$B$11,'Lux4-sept'!$A$157=Display!$B$13),Display!$D5,)","v":0},{"$f":"IF(AND(T$8=Display!$T$10,'Lux4-sept'!$A$8=Display!$B$7,'Lux4-sept'!$A$148=Display!$B$9,'Lux4-sept'!$A$149=Display!$B$11,'Lux4-sept'!$A$157=Display!$B$13),Display!$D5,)","v":0},{"$f":"IF(AND(U$8=Display!$T$10,'Lux4-sept'!$A$8=Display!$B$7,'Lux4-sept'!$A$148=Display!$B$9,'Lux4-sept'!$A$149=Display!$B$11,'Lux4-sept'!$A$157=Display!$B$13),Display!$D5,)","v":0},{"$f":"IF(AND(V$8=Display!$T$10,'Lux4-sept'!$A$8=Display!$B$7,'Lux4-sept'!$A$148=Display!$B$9,'Lux4-sept'!$A$149=Display!$B$11,'Lux4-sept'!$A$157=Display!$B$13),Display!$D5,)","v":0},{"$f":"IF(AND(W$8=Display!$T$10,'Lux4-sept'!$A$8=Display!$B$7,'Lux4-sept'!$A$148=Display!$B$9,'Lux4-sept'!$A$149=Display!$B$11,'Lux4-sept'!$A$157=Display!$B$13),Display!$D5,)","v":0},{"$f":"IF(AND(X$8=Display!$T$10,'Lux4-sept'!$A$8=Display!$B$7,'Lux4-sept'!$A$148=Display!$B$9,'Lux4-sept'!$A$149=Display!$B$11,'Lux4-sept'!$A$157=Display!$B$13),Display!$D5,)","v":0},{"$f":"IF(AND(Y$8=Display!$T$10,'Lux4-sept'!$A$8=Display!$B$7,'Lux4-sept'!$A$148=Display!$B$9,'Lux4-sept'!$A$149=Display!$B$11,'Lux4-sept'!$A$157=Display!$B$13),Display!$D5,)","v":0},{"$f":"IF(AND(Z$8=Display!$T$10,'Lux4-sept'!$A$8=Display!$B$7,'Lux4-sept'!$A$148=Display!$B$9,'Lux4-sept'!$A$149=Display!$B$11,'Lux4-sept'!$A$157=Display!$B$13),Display!$D5,)","v":0},{"$f":"IF(AND(AA$8=Display!$T$10,'Lux4-sept'!$A$8=Display!$B$7,'Lux4-sept'!$A$148=Display!$B$9,'Lux4-sept'!$A$149=Display!$B$11,'Lux4-sept'!$A$157=Display!$B$13),Display!$D5,)","v":0},{"$f":"IF(AND(AB$8=Display!$T$10,'Lux4-sept'!$A$8=Display!$B$7,'Lux4-sept'!$A$148=Display!$B$9,'Lux4-sept'!$A$149=Display!$B$11,'Lux4-sept'!$A$157=Display!$B$13),Display!$D5,)","v":0},{"$f":"IF(AND(AC$8=Display!$T$10,'Lux4-sept'!$A$8=Display!$B$7,'Lux4-sept'!$A$148=Display!$B$9,'Lux4-sept'!$A$149=Display!$B$11,'Lux4-sept'!$A$157=Display!$B$13),Display!$D5,)","v":0},{"$f":"IF(AND(AD$8=Display!$T$10,'Lux4-sept'!$A$8=Display!$B$7,'Lux4-sept'!$A$148=Display!$B$9,'Lux4-sept'!$A$149=Display!$B$11,'Lux4-sept'!$A$157=Display!$B$13),Display!$D5,)","v":0},{"$f":"IF(AND(AE$8=Display!$T$10,'Lux4-sept'!$A$8=Display!$B$7,'Lux4-sept'!$A$148=Display!$B$9,'Lux4-sept'!$A$149=Display!$B$11,'Lux4-sept'!$A$157=Display!$B$13),Display!$D5,)","v":0},{"$f":"IF(AND(AF$8=Display!$T$10,'Lux4-sept'!$A$8=Display!$B$7,'Lux4-sept'!$A$148=Display!$B$9,'Lux4-sept'!$A$149=Display!$B$11,'Lux4-sept'!$A$157=Display!$B$13),Display!$D5,)","v":0},null,null,{"$f":"((IF((SUM(B159:AF159))<>0,(SUM(B159:AF159)),0))/(IF((SUM((IF(B159<>0,3,0)),(IF(C159<>0,3,0)),(IF(D159<>0,3,0)),(IF(E159<>0,3,0)),(IF(F159<>0,3,0)),(IF(F159<>0,3,0)),(IF(F159<>0,3,0)),(IF(G159<>0,3,0)),(IF(H159<>0,3,0)),(IF(I159<>0,3,0)),(IF(J159<>0,3,0)),(IF(K159<>0,3,0)),(IF(L159<>0,3,0)),(IF(M159<>0,3,0)),(IF(N159<>0,3,0)),(IF(O159<>0,3,0)),(IF(P159<>0,3,0)),(IF(Q159<>0,3,0)),(IF(R159<>0,3,0)),(IF(S159<>0,3,0)),(IF(T159<>0,3,0)),(IF(U159<>0,3,0)),(IF(V159<>0,3,0)),(IF(W159<>0,3,0)),(IF(X159<>0,3,0)),(IF(Y159<>0,3,0)),(IF(Z159<>0,3,0)),(IF(AA159<>0,3,0)),(IF(AB159<>0,3,0)),(IF(AC159<>0,3,0)),(IF(AD159<>0,3,0)),(IF(AE159<>0,3,0)),(IF(AF159<>0,3,0))))<>0,((SUM((IF(B159<>0,3,0)),(IF(C159<>0,3,0)),(IF(D159<>0,3,0)),(IF(E159<>0,3,0)),(IF(F159<>0,3,0)),(IF(F159<>0,3,0)),(IF(F159<>0,3,0)),(IF(G159<>0,3,0)),(IF(H159<>0,3,0)),(IF(I159<>0,3,0)),(IF(J159<>0,3,0)),(IF(K159<>0,3,0)),(IF(L159<>0,3,0)),(IF(M159<>0,3,0)),(IF(N159<>0,3,0)),(IF(O159<>0,3,0)),(IF(P159<>0,3,0)),(IF(Q159<>0,3,0)),(IF(R159<>0,3,0)),(IF(S159<>0,3,0)),(IF(T159<>0,3,0)),(IF(U159<>0,3,0)),(IF(V159<>0,3,0)),(IF(W159<>0,3,0)),(IF(X159<>0,3,0)),(IF(Y159<>0,3,0)),(IF(Z159<>0,3,0)),(IF(AA159<>0,3,0)),(IF(AB159<>0,3,0)),(IF(AC159<>0,3,0)),(IF(AD159<>0,3,0)),(IF(AE159<>0,3,0)),(IF(AF159<>0,3,0))))),1)))","v":0}]
["Chaises rangées",{"$f":"IF(AND(B$8=Display!$T$10,'Lux4-sept'!$A$8=Display!$B$7,'Lux4-sept'!$A$148=Display!$B$9,'Lux4-sept'!$A$149=Display!$B$11,'Lux4-sept'!$A$157=Display!$B$13),Display!$D6,)","v":0},{"$f":"IF(AND(C$8=Display!$T$10,'Lux4-sept'!$A$8=Display!$B$7,'Lux4-sept'!$A$148=Display!$B$9,'Lux4-sept'!$A$149=Display!$B$11,'Lux4-sept'!$A$157=Display!$B$13),Display!$D6,)","v":0},{"$f":"IF(AND(D$8=Display!$T$10,'Lux4-sept'!$A$8=Display!$B$7,'Lux4-sept'!$A$148=Display!$B$9,'Lux4-sept'!$A$149=Display!$B$11,'Lux4-sept'!$A$157=Display!$B$13),Display!$D6,)","v":0},{"$f":"IF(AND(E$8=Display!$T$10,'Lux4-sept'!$A$8=Display!$B$7,'Lux4-sept'!$A$148=Display!$B$9,'Lux4-sept'!$A$149=Display!$B$11,'Lux4-sept'!$A$157=Display!$B$13),Display!$D6,)","v":0},{"$f":"IF(AND(F$8=Display!$T$10,'Lux4-sept'!$A$8=Display!$B$7,'Lux4-sept'!$A$148=Display!$B$9,'Lux4-sept'!$A$149=Display!$B$11,'Lux4-sept'!$A$157=Display!$B$13),Display!$D6,)","v":0},{"$f":"IF(AND(G$8=Display!$T$10,'Lux4-sept'!$A$8=Display!$B$7,'Lux4-sept'!$A$148=Display!$B$9,'Lux4-sept'!$A$149=Display!$B$11,'Lux4-sept'!$A$157=Display!$B$13),Display!$D6,)","v":0},{"$f":"IF(AND(H$8=Display!$T$10,'Lux4-sept'!$A$8=Display!$B$7,'Lux4-sept'!$A$148=Display!$B$9,'Lux4-sept'!$A$149=Display!$B$11,'Lux4-sept'!$A$157=Display!$B$13),Display!$D6,)","v":0},{"$f":"IF(AND(I$8=Display!$T$10,'Lux4-sept'!$A$8=Display!$B$7,'Lux4-sept'!$A$148=Display!$B$9,'Lux4-sept'!$A$149=Display!$B$11,'Lux4-sept'!$A$157=Display!$B$13),Display!$D6,)","v":0},{"$f":"IF(AND(J$8=Display!$T$10,'Lux4-sept'!$A$8=Display!$B$7,'Lux4-sept'!$A$148=Display!$B$9,'Lux4-sept'!$A$149=Display!$B$11,'Lux4-sept'!$A$157=Display!$B$13),Display!$D6,)","v":0},{"$f":"IF(AND(K$8=Display!$T$10,'Lux4-sept'!$A$8=Display!$B$7,'Lux4-sept'!$A$148=Display!$B$9,'Lux4-sept'!$A$149=Display!$B$11,'Lux4-sept'!$A$157=Display!$B$13),Display!$D6,)","v":0},{"$f":"IF(AND(L$8=Display!$T$10,'Lux4-sept'!$A$8=Display!$B$7,'Lux4-sept'!$A$148=Display!$B$9,'Lux4-sept'!$A$149=Display!$B$11,'Lux4-sept'!$A$157=Display!$B$13),Display!$D6,)","v":0},{"$f":"IF(AND(M$8=Display!$T$10,'Lux4-sept'!$A$8=Display!$B$7,'Lux4-sept'!$A$148=Display!$B$9,'Lux4-sept'!$A$149=Display!$B$11,'Lux4-sept'!$A$157=Display!$B$13),Display!$D6,)","v":0},{"$f":"IF(AND(N$8=Display!$T$10,'Lux4-sept'!$A$8=Display!$B$7,'Lux4-sept'!$A$148=Display!$B$9,'Lux4-sept'!$A$149=Display!$B$11,'Lux4-sept'!$A$157=Display!$B$13),Display!$D6,)","v":0},{"$f":"IF(AND(O$8=Display!$T$10,'Lux4-sept'!$A$8=Display!$B$7,'Lux4-sept'!$A$148=Display!$B$9,'Lux4-sept'!$A$149=Display!$B$11,'Lux4-sept'!$A$157=Display!$B$13),Display!$D6,)","v":0},{"$f":"IF(AND(P$8=Display!$T$10,'Lux4-sept'!$A$8=Display!$B$7,'Lux4-sept'!$A$148=Display!$B$9,'Lux4-sept'!$A$149=Display!$B$11,'Lux4-sept'!$A$157=Display!$B$13),Display!$D6,)","v":0},{"$f":"IF(AND(Q$8=Display!$T$10,'Lux4-sept'!$A$8=Display!$B$7,'Lux4-sept'!$A$148=Display!$B$9,'Lux4-sept'!$A$149=Display!$B$11,'Lux4-sept'!$A$157=Display!$B$13),Display!$D6,)","v":0},{"$f":"IF(AND(R$8=Display!$T$10,'Lux4-sept'!$A$8=Display!$B$7,'Lux4-sept'!$A$148=Display!$B$9,'Lux4-sept'!$A$149=Display!$B$11,'Lux4-sept'!$A$157=Display!$B$13),Display!$D6,)","v":0},{"$f":"IF(AND(S$8=Display!$T$10,'Lux4-sept'!$A$8=Display!$B$7,'Lux4-sept'!$A$148=Display!$B$9,'Lux4-sept'!$A$149=Display!$B$11,'Lux4-sept'!$A$157=Display!$B$13),Display!$D6,)","v":0},{"$f":"IF(AND(T$8=Display!$T$10,'Lux4-sept'!$A$8=Display!$B$7,'Lux4-sept'!$A$148=Display!$B$9,'Lux4-sept'!$A$149=Display!$B$11,'Lux4-sept'!$A$157=Display!$B$13),Display!$D6,)","v":0},{"$f":"IF(AND(U$8=Display!$T$10,'Lux4-sept'!$A$8=Display!$B$7,'Lux4-sept'!$A$148=Display!$B$9,'Lux4-sept'!$A$149=Display!$B$11,'Lux4-sept'!$A$157=Display!$B$13),Display!$D6,)","v":0},{"$f":"IF(AND(V$8=Display!$T$10,'Lux4-sept'!$A$8=Display!$B$7,'Lux4-sept'!$A$148=Display!$B$9,'Lux4-sept'!$A$149=Display!$B$11,'Lux4-sept'!$A$157=Display!$B$13),Display!$D6,)","v":0},{"$f":"IF(AND(W$8=Display!$T$10,'Lux4-sept'!$A$8=Display!$B$7,'Lux4-sept'!$A$148=Display!$B$9,'Lux4-sept'!$A$149=Display!$B$11,'Lux4-sept'!$A$157=Display!$B$13),Display!$D6,)","v":0},{"$f":"IF(AND(X$8=Display!$T$10,'Lux4-sept'!$A$8=Display!$B$7,'Lux4-sept'!$A$148=Display!$B$9,'Lux4-sept'!$A$149=Display!$B$11,'Lux4-sept'!$A$157=Display!$B$13),Display!$D6,)","v":0},{"$f":"IF(AND(Y$8=Display!$T$10,'Lux4-sept'!$A$8=Display!$B$7,'Lux4-sept'!$A$148=Display!$B$9,'Lux4-sept'!$A$149=Display!$B$11,'Lux4-sept'!$A$157=Display!$B$13),Display!$D6,)","v":0},{"$f":"IF(AND(Z$8=Display!$T$10,'Lux4-sept'!$A$8=Display!$B$7,'Lux4-sept'!$A$148=Display!$B$9,'Lux4-sept'!$A$149=Display!$B$11,'Lux4-sept'!$A$157=Display!$B$13),Display!$D6,)","v":0},{"$f":"IF(AND(AA$8=Display!$T$10,'Lux4-sept'!$A$8=Display!$B$7,'Lux4-sept'!$A$148=Display!$B$9,'Lux4-sept'!$A$149=Display!$B$11,'Lux4-sept'!$A$157=Display!$B$13),Display!$D6,)","v":0},{"$f":"IF(AND(AB$8=Display!$T$10,'Lux4-sept'!$A$8=Display!$B$7,'Lux4-sept'!$A$148=Display!$B$9,'Lux4-sept'!$A$149=Display!$B$11,'Lux4-sept'!$A$157=Display!$B$13),Display!$D6,)","v":0},{"$f":"IF(AND(AC$8=Display!$T$10,'Lux4-sept'!$A$8=Display!$B$7,'Lux4-sept'!$A$148=Display!$B$9,'Lux4-sept'!$A$149=Display!$B$11,'Lux4-sept'!$A$157=Display!$B$13),Display!$D6,)","v":0},{"$f":"IF(AND(AD$8=Display!$T$10,'Lux4-sept'!$A$8=Display!$B$7,'Lux4-sept'!$A$148=Display!$B$9,'Lux4-sept'!$A$149=Display!$B$11,'Lux4-sept'!$A$157=Display!$B$13),Display!$D6,)","v":0},{"$f":"IF(AND(AE$8=Display!$T$10,'Lux4-sept'!$A$8=Display!$B$7,'Lux4-sept'!$A$148=Display!$B$9,'Lux4-sept'!$A$149=Display!$B$11,'Lux4-sept'!$A$157=Display!$B$13),Display!$D6,)","v":0},{"$f":"IF(AND(AF$8=Display!$T$10,'Lux4-sept'!$A$8=Display!$B$7,'Lux4-sept'!$A$148=Display!$B$9,'Lux4-sept'!$A$149=Display!$B$11,'Lux4-sept'!$A$157=Display!$B$13),Display!$D6,)","v":0},null,null,0]
["Poubelles vidées",{"$f":"IF(AND(B$8=Display!$T$10,'Lux4-sept'!$A$8=Display!$B$7,'Lux4-sept'!$A$148=Display!$B$9,'Lux4-sept'!$A$149=Display!$B$11,'Lux4-sept'!$A$157=Display!$B$13),Display!$D7,)","v":0},{"$f":"IF(AND(C$8=Display!$T$10,'Lux4-sept'!$A$8=Display!$B$7,'Lux4-sept'!$A$148=Display!$B$9,'Lux4-sept'!$A$149=Display!$B$11,'Lux4-sept'!$A$157=Display!$B$13),Display!$D7,)","v":0},{"$f":"IF(AND(D$8=Display!$T$10,'Lux4-sept'!$A$8=Display!$B$7,'Lux4-sept'!$A$148=Display!$B$9,'Lux4-sept'!$A$149=Display!$B$11,'Lux4-sept'!$A$157=Display!$B$13),Display!$D7,)","v":0},{"$f":"IF(AND(E$8=Display!$T$10,'Lux4-sept'!$A$8=Display!$B$7,'Lux4-sept'!$A$148=Display!$B$9,'Lux4-sept'!$A$149=Display!$B$11,'Lux4-sept'!$A$157=Display!$B$13),Display!$D7,)","v":0},{"$f":"IF(AND(F$8=Display!$T$10,'Lux4-sept'!$A$8=Display!$B$7,'Lux4-sept'!$A$148=Display!$B$9,'Lux4-sept'!$A$149=Display!$B$11,'Lux4-sept'!$A$157=Display!$B$13),Display!$D7,)","v":0},{"$f":"IF(AND(G$8=Display!$T$10,'Lux4-sept'!$A$8=Display!$B$7,'Lux4-sept'!$A$148=Display!$B$9,'Lux4-sept'!$A$149=Display!$B$11,'Lux4-sept'!$A$157=Display!$B$13),Display!$D7,)","v":0},{"$f":"IF(AND(H$8=Display!$T$10,'Lux4-sept'!$A$8=Display!$B$7,'Lux4-sept'!$A$148=Display!$B$9,'Lux4-sept'!$A$149=Display!$B$11,'Lux4-sept'!$A$157=Display!$B$13),Display!$D7,)","v":0},{"$f":"IF(AND(I$8=Display!$T$10,'Lux4-sept'!$A$8=Display!$B$7,'Lux4-sept'!$A$148=Display!$B$9,'Lux4-sept'!$A$149=Display!$B$11,'Lux4-sept'!$A$157=Display!$B$13),Display!$D7,)","v":0},{"$f":"IF(AND(J$8=Display!$T$10,'Lux4-sept'!$A$8=Display!$B$7,'Lux4-sept'!$A$148=Display!$B$9,'Lux4-sept'!$A$149=Display!$B$11,'Lux4-sept'!$A$157=Display!$B$13),Display!$D7,)","v":0},{"$f":"IF(AND(K$8=Display!$T$10,'Lux4-sept'!$A$8=Display!$B$7,'Lux4-sept'!$A$148=Display!$B$9,'Lux4-sept'!$A$149=Display!$B$11,'Lux4-sept'!$A$157=Display!$B$13),Display!$D7,)","v":0},{"$f":"IF(AND(L$8=Display!$T$10,'Lux4-sept'!$A$8=Display!$B$7,'Lux4-sept'!$A$148=Display!$B$9,'Lux4-sept'!$A$149=Display!$B$11,'Lux4-sept'!$A$157=Display!$B$13),Display!$D7,)","v":0},{"$f":"IF(AND(M$8=Display!$T$10,'Lux4-sept'!$A$8=Display!$B$7,'Lux4-sept'!$A$148=Display!$B$9,'Lux4-sept'!$A$149=Display!$B$11,'Lux4-sept'!$A$157=Display!$B$13),Display!$D7,)","v":0},{"$f":"IF(AND(N$8=Display!$T$10,'Lux4-sept'!$A$8=Display!$B$7,'Lux4-sept'!$A$148=Display!$B$9,'Lux4-sept'!$A$149=Display!$B$11,'Lux4-sept'!$A$157=Display!$B$13),Display!$D7,)","v":0},{"$f":"IF(AND(O$8=Display!$T$10,'Lux4-sept'!$A$8=Display!$B$7,'Lux4-sept'!$A$148=Display!$B$9,'Lux4-sept'!$A$149=Display!$B$11,'Lux4-sept'!$A$157=Display!$B$13),Display!$D7,)","v":0},{"$f":"IF(AND(P$8=Display!$T$10,'Lux4-sept'!$A$8=Display!$B$7,'Lux4-sept'!$A$148=Display!$B$9,'Lux4-sept'!$A$149=Display!$B$11,'Lux4-sept'!$A$157=Display!$B$13),Display!$D7,)","v":0},{"$f":"IF(AND(Q$8=Display!$T$10,'Lux4-sept'!$A$8=Display!$B$7,'Lux4-sept'!$A$148=Display!$B$9,'Lux4-sept'!$A$149=Display!$B$11,'Lux4-sept'!$A$157=Display!$B$13),Display!$D7,)","v":0},{"$f":"IF(AND(R$8=Display!$T$10,'Lux4-sept'!$A$8=Display!$B$7,'Lux4-sept'!$A$148=Display!$B$9,'Lux4-sept'!$A$149=Display!$B$11,'Lux4-sept'!$A$157=Display!$B$13),Display!$D7,)","v":0},{"$f":"IF(AND(S$8=Display!$T$10,'Lux4-sept'!$A$8=Display!$B$7,'Lux4-sept'!$A$148=Display!$B$9,'Lux4-sept'!$A$149=Display!$B$11,'Lux4-sept'!$A$157=Display!$B$13),Display!$D7,)","v":0},{"$f":"IF(AND(T$8=Display!$T$10,'Lux4-sept'!$A$8=Display!$B$7,'Lux4-sept'!$A$148=Display!$B$9,'Lux4-sept'!$A$149=Display!$B$11,'Lux4-sept'!$A$157=Display!$B$13),Display!$D7,)","v":0},{"$f":"IF(AND(U$8=Display!$T$10,'Lux4-sept'!$A$8=Display!$B$7,'Lux4-sept'!$A$148=Display!$B$9,'Lux4-sept'!$A$149=Display!$B$11,'Lux4-sept'!$A$157=Display!$B$13),Display!$D7,)","v":0},{"$f":"IF(AND(V$8=Display!$T$10,'Lux4-sept'!$A$8=Display!$B$7,'Lux4-sept'!$A$148=Display!$B$9,'Lux4-sept'!$A$149=Display!$B$11,'Lux4-sept'!$A$157=Display!$B$13),Display!$D7,)","v":0},{"$f":"IF(AND(W$8=Display!$T$10,'Lux4-sept'!$A$8=Display!$B$7,'Lux4-sept'!$A$148=Display!$B$9,'Lux4-sept'!$A$149=Display!$B$11,'Lux4-sept'!$A$157=Display!$B$13),Display!$D7,)","v":0},{"$f":"IF(AND(X$8=Display!$T$10,'Lux4-sept'!$A$8=Display!$B$7,'Lux4-sept'!$A$148=Display!$B$9,'Lux4-sept'!$A$149=Display!$B$11,'Lux4-sept'!$A$157=Display!$B$13),Display!$D7,)","v":0},{"$f":"IF(AND(Y$8=Display!$T$10,'Lux4-sept'!$A$8=Display!$B$7,'Lux4-sept'!$A$148=Display!$B$9,'Lux4-sept'!$A$149=Display!$B$11,'Lux4-sept'!$A$157=Display!$B$13),Display!$D7,)","v":0},{"$f":"IF(AND(Z$8=Display!$T$10,'Lux4-sept'!$A$8=Display!$B$7,'Lux4-sept'!$A$148=Display!$B$9,'Lux4-sept'!$A$149=Display!$B$11,'Lux4-sept'!$A$157=Display!$B$13),Display!$D7,)","v":0},{"$f":"IF(AND(AA$8=Display!$T$10,'Lux4-sept'!$A$8=Display!$B$7,'Lux4-sept'!$A$148=Display!$B$9,'Lux4-sept'!$A$149=Display!$B$11,'Lux4-sept'!$A$157=Display!$B$13),Display!$D7,)","v":0},{"$f":"IF(AND(AB$8=Display!$T$10,'Lux4-sept'!$A$8=Display!$B$7,'Lux4-sept'!$A$148=Display!$B$9,'Lux4-sept'!$A$149=Display!$B$11,'Lux4-sept'!$A$157=Display!$B$13),Display!$D7,)","v":0},{"$f":"IF(AND(AC$8=Display!$T$10,'Lux4-sept'!$A$8=Display!$B$7,'Lux4-sept'!$A$148=Display!$B$9,'Lux4-sept'!$A$149=Display!$B$11,'Lux4-sept'!$A$157=Display!$B$13),Display!$D7,)","v":0},{"$f":"IF(AND(AD$8=Display!$T$10,'Lux4-sept'!$A$8=Display!$B$7,'Lux4-sept'!$A$148=Display!$B$9,'Lux4-sept'!$A$149=Display!$B$11,'Lux4-sept'!$A$157=Display!$B$13),Display!$D7,)","v":0},{"$f":"IF(AND(AE$8=Display!$T$10,'Lux4-sept'!$A$8=Display!$B$7,'Lux4-sept'!$A$148=Display!$B$9,'Lux4-sept'!$A$149=Display!$B$11,'Lux4-sept'!$A$157=Display!$B$13),Display!$D7,)","v":0},{"$f":"IF(AND(AF$8=Display!$T$10,'Lux4-sept'!$A$8=Display!$B$7,'Lux4-sept'!$A$148=Display!$B$9,'Lux4-sept'!$A$149=Display!$B$11,'Lux4-sept'!$A$157=Display!$B$13),Display!$D7,)","v":0},null,null,0]
["Tables nettoyées",{"$f":"IF(AND(B$8=Display!$T$10,'Lux4-sept'!$A$8=Display!$B$7,'Lux4-sept'!$A$148=Display!$B$9,'Lux4-sept'!$A$149=Display!$B$11,'Lux4-sept'!$A$157=Display!$B$13),Display!$D8,)","v":0},{"$f":"IF(AND(C$8=Display!$T$10,'Lux4-sept'!$A$8=Display!$B$7,'Lux4-sept'!$A$148=Display!$B$9,'Lux4-sept'!$A$149=Display!$B$11,'Lux4-sept'!$A$157=Display!$B$13),Display!$D8,)","v":0},{"$f":"IF(AND(D$8=Display!$T$10,'Lux4-sept'!$A$8=Display!$B$7,'Lux4-sept'!$A$148=Display!$B$9,'Lux4-sept'!$A$149=Display!$B$11,'Lux4-sept'!$A$157=Display!$B$13),Display!$D8,)","v":0},{"$f":"IF(AND(E$8=Display!$T$10,'Lux4-sept'!$A$8=Display!$B$7,'Lux4-sept'!$A$148=Display!$B$9,'Lux4-sept'!$A$149=Display!$B$11,'Lux4-sept'!$A$157=Display!$B$13),Display!$D8,)","v":0},{"$f":"IF(AND(F$8=Display!$T$10,'Lux4-sept'!$A$8=Display!$B$7,'Lux4-sept'!$A$148=Display!$B$9,'Lux4-sept'!$A$149=Display!$B$11,'Lux4-sept'!$A$157=Display!$B$13),Display!$D8,)","v":0},{"$f":"IF(AND(G$8=Display!$T$10,'Lux4-sept'!$A$8=Display!$B$7,'Lux4-sept'!$A$148=Display!$B$9,'Lux4-sept'!$A$149=Display!$B$11,'Lux4-sept'!$A$157=Display!$B$13),Display!$D8,)","v":0},{"$f":"IF(AND(H$8=Display!$T$10,'Lux4-sept'!$A$8=Display!$B$7,'Lux4-sept'!$A$148=Display!$B$9,'Lux4-sept'!$A$149=Display!$B$11,'Lux4-sept'!$A$157=Display!$B$13),Display!$D8,)","v":0},{"$f":"IF(AND(I$8=Display!$T$10,'Lux4-sept'!$A$8=Display!$B$7,'Lux4-sept'!$A$148=Display!$B$9,'Lux4-sept'!$A$149=Display!$B$11,'Lux4-sept'!$A$157=Display!$B$13),Display!$D8,)","v":0},{"$f":"IF(AND(J$8=Display!$T$10,'Lux4-sept'!$A$8=Display!$B$7,'Lux4-sept'!$A$148=Display!$B$9,'Lux4-sept'!$A$149=Display!$B$11,'Lux4-sept'!$A$157=Display!$B$13),Display!$D8,)","v":0},{"$f":"IF(AND(K$8=Display!$T$10,'Lux4-sept'!$A$8=Display!$B$7,'Lux4-sept'!$A$148=Display!$B$9,'Lux4-sept'!$A$149=Display!$B$11,'Lux4-sept'!$A$157=Display!$B$13),Display!$D8,)","v":0},{"$f":"IF(AND(L$8=Display!$T$10,'Lux4-sept'!$A$8=Display!$B$7,'Lux4-sept'!$A$148=Display!$B$9,'Lux4-sept'!$A$149=Display!$B$11,'Lux4-sept'!$A$157=Display!$B$13),Display!$D8,)","v":0},{"$f":"IF(AND(M$8=Display!$T$10,'Lux4-sept'!$A$8=Display!$B$7,'Lux4-sept'!$A$148=Display!$B$9,'Lux4-sept'!$A$149=Display!$B$11,'Lux4-sept'!$A$157=Display!$B$13),Display!$D8,)","v":0},{"$f":"IF(AND(N$8=Display!$T$10,'Lux4-sept'!$A$8=Display!$B$7,'Lux4-sept'!$A$148=Display!$B$9,'Lux4-sept'!$A$149=Display!$B$11,'Lux4-sept'!$A$157=Display!$B$13),Display!$D8,)","v":0},{"$f":"IF(AND(O$8=Display!$T$10,'Lux4-sept'!$A$8=Display!$B$7,'Lux4-sept'!$A$148=Display!$B$9,'Lux4-sept'!$A$149=Display!$B$11,'Lux4-sept'!$A$157=Display!$B$13),Display!$D8,)","v":0},{"$f":"IF(AND(P$8=Display!$T$10,'Lux4-sept'!$A$8=Display!$B$7,'Lux4-sept'!$A$148=Display!$B$9,'Lux4-sept'!$A$149=Display!$B$11,'Lux4-sept'!$A$157=Display!$B$13),Display!$D8,)","v":0},{"$f":"IF(AND(Q$8=Display!$T$10,'Lux4-sept'!$A$8=Display!$B$7,'Lux4-sept'!$A$148=Display!$B$9,'Lux4-sept'!$A$149=Display!$B$11,'Lux4-sept'!$A$157=Display!$B$13),Display!$D8,)","v":0},{"$f":"IF(AND(R$8=Display!$T$10,'Lux4-sept'!$A$8=Display!$B$7,'Lux4-sept'!$A$148=Display!$B$9,'Lux4-sept'!$A$149=Display!$B$11,'Lux4-sept'!$A$157=Display!$B$13),Display!$D8,)","v":0},{"$f":"IF(AND(S$8=Display!$T$10,'Lux4-sept'!$A$8=Display!$B$7,'Lux4-sept'!$A$148=Display!$B$9,'Lux4-sept'!$A$149=Display!$B$11,'Lux4-sept'!$A$157=Display!$B$13),Display!$D8,)","v":0},{"$f":"IF(AND(T$8=Display!$T$10,'Lux4-sept'!$A$8=Display!$B$7,'Lux4-sept'!$A$148=Display!$B$9,'Lux4-sept'!$A$149=Display!$B$11,'Lux4-sept'!$A$157=Display!$B$13),Display!$D8,)","v":0},{"$f":"IF(AND(U$8=Display!$T$10,'Lux4-sept'!$A$8=Display!$B$7,'Lux4-sept'!$A$148=Display!$B$9,'Lux4-sept'!$A$149=Display!$B$11,'Lux4-sept'!$A$157=Display!$B$13),Display!$D8,)","v":0},{"$f":"IF(AND(V$8=Display!$T$10,'Lux4-sept'!$A$8=Display!$B$7,'Lux4-sept'!$A$148=Display!$B$9,'Lux4-sept'!$A$149=Display!$B$11,'Lux4-sept'!$A$157=Display!$B$13),Display!$D8,)","v":0},{"$f":"IF(AND(W$8=Display!$T$10,'Lux4-sept'!$A$8=Display!$B$7,'Lux4-sept'!$A$148=Display!$B$9,'Lux4-sept'!$A$149=Display!$B$11,'Lux4-sept'!$A$157=Display!$B$13),Display!$D8,)","v":0},{"$f":"IF(AND(X$8=Display!$T$10,'Lux4-sept'!$A$8=Display!$B$7,'Lux4-sept'!$A$148=Display!$B$9,'Lux4-sept'!$A$149=Display!$B$11,'Lux4-sept'!$A$157=Display!$B$13),Display!$D8,)","v":0},{"$f":"IF(AND(Y$8=Display!$T$10,'Lux4-sept'!$A$8=Display!$B$7,'Lux4-sept'!$A$148=Display!$B$9,'Lux4-sept'!$A$149=Display!$B$11,'Lux4-sept'!$A$157=Display!$B$13),Display!$D8,)","v":0},{"$f":"IF(AND(Z$8=Display!$T$10,'Lux4-sept'!$A$8=Display!$B$7,'Lux4-sept'!$A$148=Display!$B$9,'Lux4-sept'!$A$149=Display!$B$11,'Lux4-sept'!$A$157=Display!$B$13),Display!$D8,)","v":0},{"$f":"IF(AND(AA$8=Display!$T$10,'Lux4-sept'!$A$8=Display!$B$7,'Lux4-sept'!$A$148=Display!$B$9,'Lux4-sept'!$A$149=Display!$B$11,'Lux4-sept'!$A$157=Display!$B$13),Display!$D8,)","v":0},{"$f":"IF(AND(AB$8=Display!$T$10,'Lux4-sept'!$A$8=Display!$B$7,'Lux4-sept'!$A$148=Display!$B$9,'Lux4-sept'!$A$149=Display!$B$11,'Lux4-sept'!$A$157=Display!$B$13),Display!$D8,)","v":0},{"$f":"IF(AND(AC$8=Display!$T$10,'Lux4-sept'!$A$8=Display!$B$7,'Lux4-sept'!$A$148=Display!$B$9,'Lux4-sept'!$A$149=Display!$B$11,'Lux4-sept'!$A$157=Display!$B$13),Display!$D8,)","v":0},{"$f":"IF(AND(AD$8=Display!$T$10,'Lux4-sept'!$A$8=Display!$B$7,'Lux4-sept'!$A$148=Display!$B$9,'Lux4-sept'!$A$149=Display!$B$11,'Lux4-sept'!$A$157=Display!$B$13),Display!$D8,)","v":0},{"$f":"IF(AND(AE$8=Display!$T$10,'Lux4-sept'!$A$8=Display!$B$7,'Lux4-sept'!$A$148=Display!$B$9,'Lux4-sept'!$A$149=Display!$B$11,'Lux4-sept'!$A$157=Display!$B$13),Display!$D8,)","v":0},{"$f":"IF(AND(AF$8=Display!$T$10,'Lux4-sept'!$A$8=Display!$B$7,'Lux4-sept'!$A$148=Display!$B$9,'Lux4-sept'!$A$149=Display!$B$11,'Lux4-sept'!$A$157=Display!$B$13),Display!$D8,)","v":0},null,null,0]
["MOYENNE",{"$f":"((IF((SUM(B158:B162))<>0,(SUM(B158:B162)),0))/(IF((SUM((IF(B158<>0,3,0)),(IF(B159<>0,3,0)),(IF(B160<>0,3,0)),(IF(B161<>0,3,0)),(IF(B162<>0,3,0))))<>0,((SUM((IF(B158<>0,3,0)),(IF(B159<>0,3,0)),(IF(B160<>0,3,0)),(IF(B161<>0,3,0)),(IF(B162<>0,3,0))))),1)))","v":0},{"$f":"((IF((SUM(C158:C162))<>0,(SUM(C158:C162)),0))/(IF((SUM((IF(C158<>0,3,0)),(IF(C159<>0,3,0)),(IF(C160<>0,3,0)),(IF(C161<>0,3,0)),(IF(C162<>0,3,0))))<>0,((SUM((IF(C158<>0,3,0)),(IF(C159<>0,3,0)),(IF(C160<>0,3,0)),(IF(C161<>0,3,0)),(IF(C162<>0,3,0))))),1)))","v":0},0,0,0,0,0,0,0,0,0,0,0,0,0,0,0,0,0,0,0,0,0,0,0,0,0,0,0,0,0,0,0]
[".03"]
["Préparation cuisine en place (café, thé, lunch…) ",{"$f":"IF(AND(B$8=Display!$T$10,'Lux4-sept'!$A$8=Display!$B$7,'Lux4-sept'!$A$148=Display!$B$9,'Lux4-sept'!$A$149=Display!$B$11,'Lux4-sept'!$A$164=Display!$B$13),Display!$D4,)","v":0},{"$f":"IF(AND(C$8=Display!$T$10,'Lux4-sept'!$A$8=Display!$B$7,'Lux4-sept'!$A$148=Display!$B$9,'Lux4-sept'!$A$149=Display!$B$11,'Lux4-sept'!$A$164=Display!$B$13),Display!$D4,)","v":0},{"$f":"IF(AND(D$8=Display!$T$10,'Lux4-sept'!$A$8=Display!$B$7,'Lux4-sept'!$A$148=Display!$B$9,'Lux4-sept'!$A$149=Display!$B$11,'Lux4-sept'!$A$164=Display!$B$13),Display!$D4,)","v":0},{"$f":"IF(AND(E$8=Display!$T$10,'Lux4-sept'!$A$8=Display!$B$7,'Lux4-sept'!$A$148=Display!$B$9,'Lux4-sept'!$A$149=Display!$B$11,'Lux4-sept'!$A$164=Display!$B$13),Display!$D4,)","v":0},{"$f":"IF(AND(F$8=Display!$T$10,'Lux4-sept'!$A$8=Display!$B$7,'Lux4-sept'!$A$148=Display!$B$9,'Lux4-sept'!$A$149=Display!$B$11,'Lux4-sept'!$A$164=Display!$B$13),Display!$D4,)","v":0},{"$f":"IF(AND(G$8=Display!$T$10,'Lux4-sept'!$A$8=Display!$B$7,'Lux4-sept'!$A$148=Display!$B$9,'Lux4-sept'!$A$149=Display!$B$11,'Lux4-sept'!$A$164=Display!$B$13),Display!$D4,)","v":0},{"$f":"IF(AND(H$8=Display!$T$10,'Lux4-sept'!$A$8=Display!$B$7,'Lux4-sept'!$A$148=Display!$B$9,'Lux4-sept'!$A$149=Display!$B$11,'Lux4-sept'!$A$164=Display!$B$13),Display!$D4,)","v":0},{"$f":"IF(AND(I$8=Display!$T$10,'Lux4-sept'!$A$8=Display!$B$7,'Lux4-sept'!$A$148=Display!$B$9,'Lux4-sept'!$A$149=Display!$B$11,'Lux4-sept'!$A$164=Display!$B$13),Display!$D4,)","v":0},{"$f":"IF(AND(J$8=Display!$T$10,'Lux4-sept'!$A$8=Display!$B$7,'Lux4-sept'!$A$148=Display!$B$9,'Lux4-sept'!$A$149=Display!$B$11,'Lux4-sept'!$A$164=Display!$B$13),Display!$D4,)","v":0},{"$f":"IF(AND(K$8=Display!$T$10,'Lux4-sept'!$A$8=Display!$B$7,'Lux4-sept'!$A$148=Display!$B$9,'Lux4-sept'!$A$149=Display!$B$11,'Lux4-sept'!$A$164=Display!$B$13),Display!$D4,)","v":0},{"$f":"IF(AND(L$8=Display!$T$10,'Lux4-sept'!$A$8=Display!$B$7,'Lux4-sept'!$A$148=Display!$B$9,'Lux4-sept'!$A$149=Display!$B$11,'Lux4-sept'!$A$164=Display!$B$13),Display!$D4,)","v":0},{"$f":"IF(AND(M$8=Display!$T$10,'Lux4-sept'!$A$8=Display!$B$7,'Lux4-sept'!$A$148=Display!$B$9,'Lux4-sept'!$A$149=Display!$B$11,'Lux4-sept'!$A$164=Display!$B$13),Display!$D4,)","v":0},{"$f":"IF(AND(N$8=Display!$T$10,'Lux4-sept'!$A$8=Display!$B$7,'Lux4-sept'!$A$148=Display!$B$9,'Lux4-sept'!$A$149=Display!$B$11,'Lux4-sept'!$A$164=Display!$B$13),Display!$D4,)","v":0},{"$f":"IF(AND(O$8=Display!$T$10,'Lux4-sept'!$A$8=Display!$B$7,'Lux4-sept'!$A$148=Display!$B$9,'Lux4-sept'!$A$149=Display!$B$11,'Lux4-sept'!$A$164=Display!$B$13),Display!$D4,)","v":0},{"$f":"IF(AND(P$8=Display!$T$10,'Lux4-sept'!$A$8=Display!$B$7,'Lux4-sept'!$A$148=Display!$B$9,'Lux4-sept'!$A$149=Display!$B$11,'Lux4-sept'!$A$164=Display!$B$13),Display!$D4,)","v":0},{"$f":"IF(AND(Q$8=Display!$T$10,'Lux4-sept'!$A$8=Display!$B$7,'Lux4-sept'!$A$148=Display!$B$9,'Lux4-sept'!$A$149=Display!$B$11,'Lux4-sept'!$A$164=Display!$B$13),Display!$D4,)","v":0},{"$f":"IF(AND(R$8=Display!$T$10,'Lux4-sept'!$A$8=Display!$B$7,'Lux4-sept'!$A$148=Display!$B$9,'Lux4-sept'!$A$149=Display!$B$11,'Lux4-sept'!$A$164=Display!$B$13),Display!$D4,)","v":0},{"$f":"IF(AND(S$8=Display!$T$10,'Lux4-sept'!$A$8=Display!$B$7,'Lux4-sept'!$A$148=Display!$B$9,'Lux4-sept'!$A$149=Display!$B$11,'Lux4-sept'!$A$164=Display!$B$13),Display!$D4,)","v":0},{"$f":"IF(AND(T$8=Display!$T$10,'Lux4-sept'!$A$8=Display!$B$7,'Lux4-sept'!$A$148=Display!$B$9,'Lux4-sept'!$A$149=Display!$B$11,'Lux4-sept'!$A$164=Display!$B$13),Display!$D4,)","v":0},{"$f":"IF(AND(U$8=Display!$T$10,'Lux4-sept'!$A$8=Display!$B$7,'Lux4-sept'!$A$148=Display!$B$9,'Lux4-sept'!$A$149=Display!$B$11,'Lux4-sept'!$A$164=Display!$B$13),Display!$D4,)","v":0},{"$f":"IF(AND(V$8=Display!$T$10,'Lux4-sept'!$A$8=Display!$B$7,'Lux4-sept'!$A$148=Display!$B$9,'Lux4-sept'!$A$149=Display!$B$11,'Lux4-sept'!$A$164=Display!$B$13),Display!$D4,)","v":0},{"$f":"IF(AND(W$8=Display!$T$10,'Lux4-sept'!$A$8=Display!$B$7,'Lux4-sept'!$A$148=Display!$B$9,'Lux4-sept'!$A$149=Display!$B$11,'Lux4-sept'!$A$164=Display!$B$13),Display!$D4,)","v":0},{"$f":"IF(AND(X$8=Display!$T$10,'Lux4-sept'!$A$8=Display!$B$7,'Lux4-sept'!$A$148=Display!$B$9,'Lux4-sept'!$A$149=Display!$B$11,'Lux4-sept'!$A$164=Display!$B$13),Display!$D4,)","v":0},{"$f":"IF(AND(Y$8=Display!$T$10,'Lux4-sept'!$A$8=Display!$B$7,'Lux4-sept'!$A$148=Display!$B$9,'Lux4-sept'!$A$149=Display!$B$11,'Lux4-sept'!$A$164=Display!$B$13),Display!$D4,)","v":0},{"$f":"IF(AND(Z$8=Display!$T$10,'Lux4-sept'!$A$8=Display!$B$7,'Lux4-sept'!$A$148=Display!$B$9,'Lux4-sept'!$A$149=Display!$B$11,'Lux4-sept'!$A$164=Display!$B$13),Display!$D4,)","v":0},{"$f":"IF(AND(AA$8=Display!$T$10,'Lux4-sept'!$A$8=Display!$B$7,'Lux4-sept'!$A$148=Display!$B$9,'Lux4-sept'!$A$149=Display!$B$11,'Lux4-sept'!$A$164=Display!$B$13),Display!$D4,)","v":0},{"$f":"IF(AND(AB$8=Display!$T$10,'Lux4-sept'!$A$8=Display!$B$7,'Lux4-sept'!$A$148=Display!$B$9,'Lux4-sept'!$A$149=Display!$B$11,'Lux4-sept'!$A$164=Display!$B$13),Display!$D4,)","v":0},{"$f":"IF(AND(AC$8=Display!$T$10,'Lux4-sept'!$A$8=Display!$B$7,'Lux4-sept'!$A$148=Display!$B$9,'Lux4-sept'!$A$149=Display!$B$11,'Lux4-sept'!$A$164=Display!$B$13),Display!$D4,)","v":0},{"$f":"IF(AND(AD$8=Display!$T$10,'Lux4-sept'!$A$8=Display!$B$7,'Lux4-sept'!$A$148=Display!$B$9,'Lux4-sept'!$A$149=Display!$B$11,'Lux4-sept'!$A$164=Display!$B$13),Display!$D4,)","v":0},{"$f":"IF(AND(AE$8=Display!$T$10,'Lux4-sept'!$A$8=Display!$B$7,'Lux4-sept'!$A$148=Display!$B$9,'Lux4-sept'!$A$149=Display!$B$11,'Lux4-sept'!$A$164=Display!$B$13),Display!$D4,)","v":0},{"$f":"IF(AND(AF$8=Display!$T$10,'Lux4-sept'!$A$8=Display!$B$7,'Lux4-sept'!$A$148=Display!$B$9,'Lux4-sept'!$A$149=Display!$B$11,'Lux4-sept'!$A$164=Display!$B$13),Display!$D4,)","v":0},null,null,{"$f":"((IF((SUM(B165:AF165))<>0,(SUM(B165:AF165)),0))/(IF((SUM((IF(B165<>0,3,0)),(IF(C165<>0,3,0)),(IF(D165<>0,3,0)),(IF(E165<>0,3,0)),(IF(F165<>0,3,0)),(IF(F165<>0,3,0)),(IF(F165<>0,3,0)),(IF(G165<>0,3,0)),(IF(H165<>0,3,0)),(IF(I165<>0,3,0)),(IF(J165<>0,3,0)),(IF(K165<>0,3,0)),(IF(L165<>0,3,0)),(IF(M165<>0,3,0)),(IF(N165<>0,3,0)),(IF(O165<>0,3,0)),(IF(P165<>0,3,0)),(IF(Q165<>0,3,0)),(IF(R165<>0,3,0)),(IF(S165<>0,3,0)),(IF(T165<>0,3,0)),(IF(U165<>0,3,0)),(IF(V165<>0,3,0)),(IF(W165<>0,3,0)),(IF(X165<>0,3,0)),(IF(Y165<>0,3,0)),(IF(Z165<>0,3,0)),(IF(AA165<>0,3,0)),(IF(AB165<>0,3,0)),(IF(AC165<>0,3,0)),(IF(AD165<>0,3,0)),(IF(AE165<>0,3,0)),(IF(AF165<>0,3,0))))<>0,((SUM((IF(B165<>0,3,0)),(IF(C165<>0,3,0)),(IF(D165<>0,3,0)),(IF(E165<>0,3,0)),(IF(F165<>0,3,0)),(IF(F165<>0,3,0)),(IF(F165<>0,3,0)),(IF(G165<>0,3,0)),(IF(H165<>0,3,0)),(IF(I165<>0,3,0)),(IF(J165<>0,3,0)),(IF(K165<>0,3,0)),(IF(L165<>0,3,0)),(IF(M165<>0,3,0)),(IF(N165<>0,3,0)),(IF(O165<>0,3,0)),(IF(P165<>0,3,0)),(IF(Q165<>0,3,0)),(IF(R165<>0,3,0)),(IF(S165<>0,3,0)),(IF(T165<>0,3,0)),(IF(U165<>0,3,0)),(IF(V165<>0,3,0)),(IF(W165<>0,3,0)),(IF(X165<>0,3,0)),(IF(Y165<>0,3,0)),(IF(Z165<>0,3,0)),(IF(AA165<>0,3,0)),(IF(AB165<>0,3,0)),(IF(AC165<>0,3,0)),(IF(AD165<>0,3,0)),(IF(AE165<>0,3,0)),(IF(AF165<>0,3,0))))),1)))","v":0}]
["Salle prête à être utilisée",{"$f":"IF(AND(B$8=Display!$T$10,'Lux4-sept'!$A$8=Display!$B$7,'Lux4-sept'!$A$148=Display!$B$9,'Lux4-sept'!$A$149=Display!$B$11,'Lux4-sept'!$A$164=Display!$B$13),Display!$D5,)","v":0},{"$f":"IF(AND(C$8=Display!$T$10,'Lux4-sept'!$A$8=Display!$B$7,'Lux4-sept'!$A$148=Display!$B$9,'Lux4-sept'!$A$149=Display!$B$11,'Lux4-sept'!$A$164=Display!$B$13),Display!$D5,)","v":0},{"$f":"IF(AND(D$8=Display!$T$10,'Lux4-sept'!$A$8=Display!$B$7,'Lux4-sept'!$A$148=Display!$B$9,'Lux4-sept'!$A$149=Display!$B$11,'Lux4-sept'!$A$164=Display!$B$13),Display!$D5,)","v":0},{"$f":"IF(AND(E$8=Display!$T$10,'Lux4-sept'!$A$8=Display!$B$7,'Lux4-sept'!$A$148=Display!$B$9,'Lux4-sept'!$A$149=Display!$B$11,'Lux4-sept'!$A$164=Display!$B$13),Display!$D5,)","v":0},{"$f":"IF(AND(F$8=Display!$T$10,'Lux4-sept'!$A$8=Display!$B$7,'Lux4-sept'!$A$148=Display!$B$9,'Lux4-sept'!$A$149=Display!$B$11,'Lux4-sept'!$A$164=Display!$B$13),Display!$D5,)","v":0},{"$f":"IF(AND(G$8=Display!$T$10,'Lux4-sept'!$A$8=Display!$B$7,'Lux4-sept'!$A$148=Display!$B$9,'Lux4-sept'!$A$149=Display!$B$11,'Lux4-sept'!$A$164=Display!$B$13),Display!$D5,)","v":0},{"$f":"IF(AND(H$8=Display!$T$10,'Lux4-sept'!$A$8=Display!$B$7,'Lux4-sept'!$A$148=Display!$B$9,'Lux4-sept'!$A$149=Display!$B$11,'Lux4-sept'!$A$164=Display!$B$13),Display!$D5,)","v":0},{"$f":"IF(AND(I$8=Display!$T$10,'Lux4-sept'!$A$8=Display!$B$7,'Lux4-sept'!$A$148=Display!$B$9,'Lux4-sept'!$A$149=Display!$B$11,'Lux4-sept'!$A$164=Display!$B$13),Display!$D5,)","v":0},{"$f":"IF(AND(J$8=Display!$T$10,'Lux4-sept'!$A$8=Display!$B$7,'Lux4-sept'!$A$148=Display!$B$9,'Lux4-sept'!$A$149=Display!$B$11,'Lux4-sept'!$A$164=Display!$B$13),Display!$D5,)","v":0},{"$f":"IF(AND(K$8=Display!$T$10,'Lux4-sept'!$A$8=Display!$B$7,'Lux4-sept'!$A$148=Display!$B$9,'Lux4-sept'!$A$149=Display!$B$11,'Lux4-sept'!$A$164=Display!$B$13),Display!$D5,)","v":0},{"$f":"IF(AND(L$8=Display!$T$10,'Lux4-sept'!$A$8=Display!$B$7,'Lux4-sept'!$A$148=Display!$B$9,'Lux4-sept'!$A$149=Display!$B$11,'Lux4-sept'!$A$164=Display!$B$13),Display!$D5,)","v":0},{"$f":"IF(AND(M$8=Display!$T$10,'Lux4-sept'!$A$8=Display!$B$7,'Lux4-sept'!$A$148=Display!$B$9,'Lux4-sept'!$A$149=Display!$B$11,'Lux4-sept'!$A$164=Display!$B$13),Display!$D5,)","v":0},{"$f":"IF(AND(N$8=Display!$T$10,'Lux4-sept'!$A$8=Display!$B$7,'Lux4-sept'!$A$148=Display!$B$9,'Lux4-sept'!$A$149=Display!$B$11,'Lux4-sept'!$A$164=Display!$B$13),Display!$D5,)","v":0},{"$f":"IF(AND(O$8=Display!$T$10,'Lux4-sept'!$A$8=Display!$B$7,'Lux4-sept'!$A$148=Display!$B$9,'Lux4-sept'!$A$149=Display!$B$11,'Lux4-sept'!$A$164=Display!$B$13),Display!$D5,)","v":0},{"$f":"IF(AND(P$8=Display!$T$10,'Lux4-sept'!$A$8=Display!$B$7,'Lux4-sept'!$A$148=Display!$B$9,'Lux4-sept'!$A$149=Display!$B$11,'Lux4-sept'!$A$164=Display!$B$13),Display!$D5,)","v":0},{"$f":"IF(AND(Q$8=Display!$T$10,'Lux4-sept'!$A$8=Display!$B$7,'Lux4-sept'!$A$148=Display!$B$9,'Lux4-sept'!$A$149=Display!$B$11,'Lux4-sept'!$A$164=Display!$B$13),Display!$D5,)","v":0},{"$f":"IF(AND(R$8=Display!$T$10,'Lux4-sept'!$A$8=Display!$B$7,'Lux4-sept'!$A$148=Display!$B$9,'Lux4-sept'!$A$149=Display!$B$11,'Lux4-sept'!$A$164=Display!$B$13),Display!$D5,)","v":0},{"$f":"IF(AND(S$8=Display!$T$10,'Lux4-sept'!$A$8=Display!$B$7,'Lux4-sept'!$A$148=Display!$B$9,'Lux4-sept'!$A$149=Display!$B$11,'Lux4-sept'!$A$164=Display!$B$13),Display!$D5,)","v":0},{"$f":"IF(AND(T$8=Display!$T$10,'Lux4-sept'!$A$8=Display!$B$7,'Lux4-sept'!$A$148=Display!$B$9,'Lux4-sept'!$A$149=Display!$B$11,'Lux4-sept'!$A$164=Display!$B$13),Display!$D5,)","v":0},{"$f":"IF(AND(U$8=Display!$T$10,'Lux4-sept'!$A$8=Display!$B$7,'Lux4-sept'!$A$148=Display!$B$9,'Lux4-sept'!$A$149=Display!$B$11,'Lux4-sept'!$A$164=Display!$B$13),Display!$D5,)","v":0},{"$f":"IF(AND(V$8=Display!$T$10,'Lux4-sept'!$A$8=Display!$B$7,'Lux4-sept'!$A$148=Display!$B$9,'Lux4-sept'!$A$149=Display!$B$11,'Lux4-sept'!$A$164=Display!$B$13),Display!$D5,)","v":0},{"$f":"IF(AND(W$8=Display!$T$10,'Lux4-sept'!$A$8=Display!$B$7,'Lux4-sept'!$A$148=Display!$B$9,'Lux4-sept'!$A$149=Display!$B$11,'Lux4-sept'!$A$164=Display!$B$13),Display!$D5,)","v":0},{"$f":"IF(AND(X$8=Display!$T$10,'Lux4-sept'!$A$8=Display!$B$7,'Lux4-sept'!$A$148=Display!$B$9,'Lux4-sept'!$A$149=Display!$B$11,'Lux4-sept'!$A$164=Display!$B$13),Display!$D5,)","v":0},{"$f":"IF(AND(Y$8=Display!$T$10,'Lux4-sept'!$A$8=Display!$B$7,'Lux4-sept'!$A$148=Display!$B$9,'Lux4-sept'!$A$149=Display!$B$11,'Lux4-sept'!$A$164=Display!$B$13),Display!$D5,)","v":0},{"$f":"IF(AND(Z$8=Display!$T$10,'Lux4-sept'!$A$8=Display!$B$7,'Lux4-sept'!$A$148=Display!$B$9,'Lux4-sept'!$A$149=Display!$B$11,'Lux4-sept'!$A$164=Display!$B$13),Display!$D5,)","v":0},{"$f":"IF(AND(AA$8=Display!$T$10,'Lux4-sept'!$A$8=Display!$B$7,'Lux4-sept'!$A$148=Display!$B$9,'Lux4-sept'!$A$149=Display!$B$11,'Lux4-sept'!$A$164=Display!$B$13),Display!$D5,)","v":0},{"$f":"IF(AND(AB$8=Display!$T$10,'Lux4-sept'!$A$8=Display!$B$7,'Lux4-sept'!$A$148=Display!$B$9,'Lux4-sept'!$A$149=Display!$B$11,'Lux4-sept'!$A$164=Display!$B$13),Display!$D5,)","v":0},{"$f":"IF(AND(AC$8=Display!$T$10,'Lux4-sept'!$A$8=Display!$B$7,'Lux4-sept'!$A$148=Display!$B$9,'Lux4-sept'!$A$149=Display!$B$11,'Lux4-sept'!$A$164=Display!$B$13),Display!$D5,)","v":0},{"$f":"IF(AND(AD$8=Display!$T$10,'Lux4-sept'!$A$8=Display!$B$7,'Lux4-sept'!$A$148=Display!$B$9,'Lux4-sept'!$A$149=Display!$B$11,'Lux4-sept'!$A$164=Display!$B$13),Display!$D5,)","v":0},{"$f":"IF(AND(AE$8=Display!$T$10,'Lux4-sept'!$A$8=Display!$B$7,'Lux4-sept'!$A$148=Display!$B$9,'Lux4-sept'!$A$149=Display!$B$11,'Lux4-sept'!$A$164=Display!$B$13),Display!$D5,)","v":0},{"$f":"IF(AND(AF$8=Display!$T$10,'Lux4-sept'!$A$8=Display!$B$7,'Lux4-sept'!$A$148=Display!$B$9,'Lux4-sept'!$A$149=Display!$B$11,'Lux4-sept'!$A$164=Display!$B$13),Display!$D5,)","v":0},null,null,{"$f":"((IF((SUM(B166:AF166))<>0,(SUM(B166:AF166)),0))/(IF((SUM((IF(B166<>0,3,0)),(IF(C166<>0,3,0)),(IF(D166<>0,3,0)),(IF(E166<>0,3,0)),(IF(F166<>0,3,0)),(IF(F166<>0,3,0)),(IF(F166<>0,3,0)),(IF(G166<>0,3,0)),(IF(H166<>0,3,0)),(IF(I166<>0,3,0)),(IF(J166<>0,3,0)),(IF(K166<>0,3,0)),(IF(L166<>0,3,0)),(IF(M166<>0,3,0)),(IF(N166<>0,3,0)),(IF(O166<>0,3,0)),(IF(P166<>0,3,0)),(IF(Q166<>0,3,0)),(IF(R166<>0,3,0)),(IF(S166<>0,3,0)),(IF(T166<>0,3,0)),(IF(U166<>0,3,0)),(IF(V166<>0,3,0)),(IF(W166<>0,3,0)),(IF(X166<>0,3,0)),(IF(Y166<>0,3,0)),(IF(Z166<>0,3,0)),(IF(AA166<>0,3,0)),(IF(AB166<>0,3,0)),(IF(AC166<>0,3,0)),(IF(AD166<>0,3,0)),(IF(AE166<>0,3,0)),(IF(AF166<>0,3,0))))<>0,((SUM((IF(B166<>0,3,0)),(IF(C166<>0,3,0)),(IF(D166<>0,3,0)),(IF(E166<>0,3,0)),(IF(F166<>0,3,0)),(IF(F166<>0,3,0)),(IF(F166<>0,3,0)),(IF(G166<>0,3,0)),(IF(H166<>0,3,0)),(IF(I166<>0,3,0)),(IF(J166<>0,3,0)),(IF(K166<>0,3,0)),(IF(L166<>0,3,0)),(IF(M166<>0,3,0)),(IF(N166<>0,3,0)),(IF(O166<>0,3,0)),(IF(P166<>0,3,0)),(IF(Q166<>0,3,0)),(IF(R166<>0,3,0)),(IF(S166<>0,3,0)),(IF(T166<>0,3,0)),(IF(U166<>0,3,0)),(IF(V166<>0,3,0)),(IF(W166<>0,3,0)),(IF(X166<>0,3,0)),(IF(Y166<>0,3,0)),(IF(Z166<>0,3,0)),(IF(AA166<>0,3,0)),(IF(AB166<>0,3,0)),(IF(AC166<>0,3,0)),(IF(AD166<>0,3,0)),(IF(AE166<>0,3,0)),(IF(AF166<>0,3,0))))),1)))","v":0}]
["Chaises rangées",{"$f":"IF(AND(B$8=Display!$T$10,'Lux4-sept'!$A$8=Display!$B$7,'Lux4-sept'!$A$148=Display!$B$9,'Lux4-sept'!$A$149=Display!$B$11,'Lux4-sept'!$A$164=Display!$B$13),Display!$D6,)","v":0},{"$f":"IF(AND(C$8=Display!$T$10,'Lux4-sept'!$A$8=Display!$B$7,'Lux4-sept'!$A$148=Display!$B$9,'Lux4-sept'!$A$149=Display!$B$11,'Lux4-sept'!$A$164=Display!$B$13),Display!$D6,)","v":0},{"$f":"IF(AND(D$8=Display!$T$10,'Lux4-sept'!$A$8=Display!$B$7,'Lux4-sept'!$A$148=Display!$B$9,'Lux4-sept'!$A$149=Display!$B$11,'Lux4-sept'!$A$164=Display!$B$13),Display!$D6,)","v":0},{"$f":"IF(AND(E$8=Display!$T$10,'Lux4-sept'!$A$8=Display!$B$7,'Lux4-sept'!$A$148=Display!$B$9,'Lux4-sept'!$A$149=Display!$B$11,'Lux4-sept'!$A$164=Display!$B$13),Display!$D6,)","v":0},{"$f":"IF(AND(F$8=Display!$T$10,'Lux4-sept'!$A$8=Display!$B$7,'Lux4-sept'!$A$148=Display!$B$9,'Lux4-sept'!$A$149=Display!$B$11,'Lux4-sept'!$A$164=Display!$B$13),Display!$D6,)","v":0},{"$f":"IF(AND(G$8=Display!$T$10,'Lux4-sept'!$A$8=Display!$B$7,'Lux4-sept'!$A$148=Display!$B$9,'Lux4-sept'!$A$149=Display!$B$11,'Lux4-sept'!$A$164=Display!$B$13),Display!$D6,)","v":0},{"$f":"IF(AND(H$8=Display!$T$10,'Lux4-sept'!$A$8=Display!$B$7,'Lux4-sept'!$A$148=Display!$B$9,'Lux4-sept'!$A$149=Display!$B$11,'Lux4-sept'!$A$164=Display!$B$13),Display!$D6,)","v":0},{"$f":"IF(AND(I$8=Display!$T$10,'Lux4-sept'!$A$8=Display!$B$7,'Lux4-sept'!$A$148=Display!$B$9,'Lux4-sept'!$A$149=Display!$B$11,'Lux4-sept'!$A$164=Display!$B$13),Display!$D6,)","v":0},{"$f":"IF(AND(J$8=Display!$T$10,'Lux4-sept'!$A$8=Display!$B$7,'Lux4-sept'!$A$148=Display!$B$9,'Lux4-sept'!$A$149=Display!$B$11,'Lux4-sept'!$A$164=Display!$B$13),Display!$D6,)","v":0},{"$f":"IF(AND(K$8=Display!$T$10,'Lux4-sept'!$A$8=Display!$B$7,'Lux4-sept'!$A$148=Display!$B$9,'Lux4-sept'!$A$149=Display!$B$11,'Lux4-sept'!$A$164=Display!$B$13),Display!$D6,)","v":0},{"$f":"IF(AND(L$8=Display!$T$10,'Lux4-sept'!$A$8=Display!$B$7,'Lux4-sept'!$A$148=Display!$B$9,'Lux4-sept'!$A$149=Display!$B$11,'Lux4-sept'!$A$164=Display!$B$13),Display!$D6,)","v":0},{"$f":"IF(AND(M$8=Display!$T$10,'Lux4-sept'!$A$8=Display!$B$7,'Lux4-sept'!$A$148=Display!$B$9,'Lux4-sept'!$A$149=Display!$B$11,'Lux4-sept'!$A$164=Display!$B$13),Display!$D6,)","v":0},{"$f":"IF(AND(N$8=Display!$T$10,'Lux4-sept'!$A$8=Display!$B$7,'Lux4-sept'!$A$148=Display!$B$9,'Lux4-sept'!$A$149=Display!$B$11,'Lux4-sept'!$A$164=Display!$B$13),Display!$D6,)","v":0},{"$f":"IF(AND(O$8=Display!$T$10,'Lux4-sept'!$A$8=Display!$B$7,'Lux4-sept'!$A$148=Display!$B$9,'Lux4-sept'!$A$149=Display!$B$11,'Lux4-sept'!$A$164=Display!$B$13),Display!$D6,)","v":0},{"$f":"IF(AND(P$8=Display!$T$10,'Lux4-sept'!$A$8=Display!$B$7,'Lux4-sept'!$A$148=Display!$B$9,'Lux4-sept'!$A$149=Display!$B$11,'Lux4-sept'!$A$164=Display!$B$13),Display!$D6,)","v":0},{"$f":"IF(AND(Q$8=Display!$T$10,'Lux4-sept'!$A$8=Display!$B$7,'Lux4-sept'!$A$148=Display!$B$9,'Lux4-sept'!$A$149=Display!$B$11,'Lux4-sept'!$A$164=Display!$B$13),Display!$D6,)","v":0},{"$f":"IF(AND(R$8=Display!$T$10,'Lux4-sept'!$A$8=Display!$B$7,'Lux4-sept'!$A$148=Display!$B$9,'Lux4-sept'!$A$149=Display!$B$11,'Lux4-sept'!$A$164=Display!$B$13),Display!$D6,)","v":0},{"$f":"IF(AND(S$8=Display!$T$10,'Lux4-sept'!$A$8=Display!$B$7,'Lux4-sept'!$A$148=Display!$B$9,'Lux4-sept'!$A$149=Display!$B$11,'Lux4-sept'!$A$164=Display!$B$13),Display!$D6,)","v":0},{"$f":"IF(AND(T$8=Display!$T$10,'Lux4-sept'!$A$8=Display!$B$7,'Lux4-sept'!$A$148=Display!$B$9,'Lux4-sept'!$A$149=Display!$B$11,'Lux4-sept'!$A$164=Display!$B$13),Display!$D6,)","v":0},{"$f":"IF(AND(U$8=Display!$T$10,'Lux4-sept'!$A$8=Display!$B$7,'Lux4-sept'!$A$148=Display!$B$9,'Lux4-sept'!$A$149=Display!$B$11,'Lux4-sept'!$A$164=Display!$B$13),Display!$D6,)","v":0},{"$f":"IF(AND(V$8=Display!$T$10,'Lux4-sept'!$A$8=Display!$B$7,'Lux4-sept'!$A$148=Display!$B$9,'Lux4-sept'!$A$149=Display!$B$11,'Lux4-sept'!$A$164=Display!$B$13),Display!$D6,)","v":0},{"$f":"IF(AND(W$8=Display!$T$10,'Lux4-sept'!$A$8=Display!$B$7,'Lux4-sept'!$A$148=Display!$B$9,'Lux4-sept'!$A$149=Display!$B$11,'Lux4-sept'!$A$164=Display!$B$13),Display!$D6,)","v":0},{"$f":"IF(AND(X$8=Display!$T$10,'Lux4-sept'!$A$8=Display!$B$7,'Lux4-sept'!$A$148=Display!$B$9,'Lux4-sept'!$A$149=Display!$B$11,'Lux4-sept'!$A$164=Display!$B$13),Display!$D6,)","v":0},{"$f":"IF(AND(Y$8=Display!$T$10,'Lux4-sept'!$A$8=Display!$B$7,'Lux4-sept'!$A$148=Display!$B$9,'Lux4-sept'!$A$149=Display!$B$11,'Lux4-sept'!$A$164=Display!$B$13),Display!$D6,)","v":0},{"$f":"IF(AND(Z$8=Display!$T$10,'Lux4-sept'!$A$8=Display!$B$7,'Lux4-sept'!$A$148=Display!$B$9,'Lux4-sept'!$A$149=Display!$B$11,'Lux4-sept'!$A$164=Display!$B$13),Display!$D6,)","v":0},{"$f":"IF(AND(AA$8=Display!$T$10,'Lux4-sept'!$A$8=Display!$B$7,'Lux4-sept'!$A$148=Display!$B$9,'Lux4-sept'!$A$149=Display!$B$11,'Lux4-sept'!$A$164=Display!$B$13),Display!$D6,)","v":0},{"$f":"IF(AND(AB$8=Display!$T$10,'Lux4-sept'!$A$8=Display!$B$7,'Lux4-sept'!$A$148=Display!$B$9,'Lux4-sept'!$A$149=Display!$B$11,'Lux4-sept'!$A$164=Display!$B$13),Display!$D6,)","v":0},{"$f":"IF(AND(AC$8=Display!$T$10,'Lux4-sept'!$A$8=Display!$B$7,'Lux4-sept'!$A$148=Display!$B$9,'Lux4-sept'!$A$149=Display!$B$11,'Lux4-sept'!$A$164=Display!$B$13),Display!$D6,)","v":0},{"$f":"IF(AND(AD$8=Display!$T$10,'Lux4-sept'!$A$8=Display!$B$7,'Lux4-sept'!$A$148=Display!$B$9,'Lux4-sept'!$A$149=Display!$B$11,'Lux4-sept'!$A$164=Display!$B$13),Display!$D6,)","v":0},{"$f":"IF(AND(AE$8=Display!$T$10,'Lux4-sept'!$A$8=Display!$B$7,'Lux4-sept'!$A$148=Display!$B$9,'Lux4-sept'!$A$149=Display!$B$11,'Lux4-sept'!$A$164=Display!$B$13),Display!$D6,)","v":0},{"$f":"IF(AND(AF$8=Display!$T$10,'Lux4-sept'!$A$8=Display!$B$7,'Lux4-sept'!$A$148=Display!$B$9,'Lux4-sept'!$A$149=Display!$B$11,'Lux4-sept'!$A$164=Display!$B$13),Display!$D6,)","v":0},null,null,0]
["Poubelles vidées",{"$f":"IF(AND(B$8=Display!$T$10,'Lux4-sept'!$A$8=Display!$B$7,'Lux4-sept'!$A$148=Display!$B$9,'Lux4-sept'!$A$149=Display!$B$11,'Lux4-sept'!$A$164=Display!$B$13),Display!$D7,)","v":0},{"$f":"IF(AND(C$8=Display!$T$10,'Lux4-sept'!$A$8=Display!$B$7,'Lux4-sept'!$A$148=Display!$B$9,'Lux4-sept'!$A$149=Display!$B$11,'Lux4-sept'!$A$164=Display!$B$13),Display!$D7,)","v":0},{"$f":"IF(AND(D$8=Display!$T$10,'Lux4-sept'!$A$8=Display!$B$7,'Lux4-sept'!$A$148=Display!$B$9,'Lux4-sept'!$A$149=Display!$B$11,'Lux4-sept'!$A$164=Display!$B$13),Display!$D7,)","v":0},{"$f":"IF(AND(E$8=Display!$T$10,'Lux4-sept'!$A$8=Display!$B$7,'Lux4-sept'!$A$148=Display!$B$9,'Lux4-sept'!$A$149=Display!$B$11,'Lux4-sept'!$A$164=Display!$B$13),Display!$D7,)","v":0},{"$f":"IF(AND(F$8=Display!$T$10,'Lux4-sept'!$A$8=Display!$B$7,'Lux4-sept'!$A$148=Display!$B$9,'Lux4-sept'!$A$149=Display!$B$11,'Lux4-sept'!$A$164=Display!$B$13),Display!$D7,)","v":0},{"$f":"IF(AND(G$8=Display!$T$10,'Lux4-sept'!$A$8=Display!$B$7,'Lux4-sept'!$A$148=Display!$B$9,'Lux4-sept'!$A$149=Display!$B$11,'Lux4-sept'!$A$164=Display!$B$13),Display!$D7,)","v":0},{"$f":"IF(AND(H$8=Display!$T$10,'Lux4-sept'!$A$8=Display!$B$7,'Lux4-sept'!$A$148=Display!$B$9,'Lux4-sept'!$A$149=Display!$B$11,'Lux4-sept'!$A$164=Display!$B$13),Display!$D7,)","v":0},{"$f":"IF(AND(I$8=Display!$T$10,'Lux4-sept'!$A$8=Display!$B$7,'Lux4-sept'!$A$148=Display!$B$9,'Lux4-sept'!$A$149=Display!$B$11,'Lux4-sept'!$A$164=Display!$B$13),Display!$D7,)","v":0},{"$f":"IF(AND(J$8=Display!$T$10,'Lux4-sept'!$A$8=Display!$B$7,'Lux4-sept'!$A$148=Display!$B$9,'Lux4-sept'!$A$149=Display!$B$11,'Lux4-sept'!$A$164=Display!$B$13),Display!$D7,)","v":0},{"$f":"IF(AND(K$8=Display!$T$10,'Lux4-sept'!$A$8=Display!$B$7,'Lux4-sept'!$A$148=Display!$B$9,'Lux4-sept'!$A$149=Display!$B$11,'Lux4-sept'!$A$164=Display!$B$13),Display!$D7,)","v":0},{"$f":"IF(AND(L$8=Display!$T$10,'Lux4-sept'!$A$8=Display!$B$7,'Lux4-sept'!$A$148=Display!$B$9,'Lux4-sept'!$A$149=Display!$B$11,'Lux4-sept'!$A$164=Display!$B$13),Display!$D7,)","v":0},{"$f":"IF(AND(M$8=Display!$T$10,'Lux4-sept'!$A$8=Display!$B$7,'Lux4-sept'!$A$148=Display!$B$9,'Lux4-sept'!$A$149=Display!$B$11,'Lux4-sept'!$A$164=Display!$B$13),Display!$D7,)","v":0},{"$f":"IF(AND(N$8=Display!$T$10,'Lux4-sept'!$A$8=Display!$B$7,'Lux4-sept'!$A$148=Display!$B$9,'Lux4-sept'!$A$149=Display!$B$11,'Lux4-sept'!$A$164=Display!$B$13),Display!$D7,)","v":0},{"$f":"IF(AND(O$8=Display!$T$10,'Lux4-sept'!$A$8=Display!$B$7,'Lux4-sept'!$A$148=Display!$B$9,'Lux4-sept'!$A$149=Display!$B$11,'Lux4-sept'!$A$164=Display!$B$13),Display!$D7,)","v":0},{"$f":"IF(AND(P$8=Display!$T$10,'Lux4-sept'!$A$8=Display!$B$7,'Lux4-sept'!$A$148=Display!$B$9,'Lux4-sept'!$A$149=Display!$B$11,'Lux4-sept'!$A$164=Display!$B$13),Display!$D7,)","v":0},{"$f":"IF(AND(Q$8=Display!$T$10,'Lux4-sept'!$A$8=Display!$B$7,'Lux4-sept'!$A$148=Display!$B$9,'Lux4-sept'!$A$149=Display!$B$11,'Lux4-sept'!$A$164=Display!$B$13),Display!$D7,)","v":0},{"$f":"IF(AND(R$8=Display!$T$10,'Lux4-sept'!$A$8=Display!$B$7,'Lux4-sept'!$A$148=Display!$B$9,'Lux4-sept'!$A$149=Display!$B$11,'Lux4-sept'!$A$164=Display!$B$13),Display!$D7,)","v":0},{"$f":"IF(AND(S$8=Display!$T$10,'Lux4-sept'!$A$8=Display!$B$7,'Lux4-sept'!$A$148=Display!$B$9,'Lux4-sept'!$A$149=Display!$B$11,'Lux4-sept'!$A$164=Display!$B$13),Display!$D7,)","v":0},{"$f":"IF(AND(T$8=Display!$T$10,'Lux4-sept'!$A$8=Display!$B$7,'Lux4-sept'!$A$148=Display!$B$9,'Lux4-sept'!$A$149=Display!$B$11,'Lux4-sept'!$A$164=Display!$B$13),Display!$D7,)","v":0},{"$f":"IF(AND(U$8=Display!$T$10,'Lux4-sept'!$A$8=Display!$B$7,'Lux4-sept'!$A$148=Display!$B$9,'Lux4-sept'!$A$149=Display!$B$11,'Lux4-sept'!$A$164=Display!$B$13),Display!$D7,)","v":0},{"$f":"IF(AND(V$8=Display!$T$10,'Lux4-sept'!$A$8=Display!$B$7,'Lux4-sept'!$A$148=Display!$B$9,'Lux4-sept'!$A$149=Display!$B$11,'Lux4-sept'!$A$164=Display!$B$13),Display!$D7,)","v":0},{"$f":"IF(AND(W$8=Display!$T$10,'Lux4-sept'!$A$8=Display!$B$7,'Lux4-sept'!$A$148=Display!$B$9,'Lux4-sept'!$A$149=Display!$B$11,'Lux4-sept'!$A$164=Display!$B$13),Display!$D7,)","v":0},{"$f":"IF(AND(X$8=Display!$T$10,'Lux4-sept'!$A$8=Display!$B$7,'Lux4-sept'!$A$148=Display!$B$9,'Lux4-sept'!$A$149=Display!$B$11,'Lux4-sept'!$A$164=Display!$B$13),Display!$D7,)","v":0},{"$f":"IF(AND(Y$8=Display!$T$10,'Lux4-sept'!$A$8=Display!$B$7,'Lux4-sept'!$A$148=Display!$B$9,'Lux4-sept'!$A$149=Display!$B$11,'Lux4-sept'!$A$164=Display!$B$13),Display!$D7,)","v":0},{"$f":"IF(AND(Z$8=Display!$T$10,'Lux4-sept'!$A$8=Display!$B$7,'Lux4-sept'!$A$148=Display!$B$9,'Lux4-sept'!$A$149=Display!$B$11,'Lux4-sept'!$A$164=Display!$B$13),Display!$D7,)","v":0},{"$f":"IF(AND(AA$8=Display!$T$10,'Lux4-sept'!$A$8=Display!$B$7,'Lux4-sept'!$A$148=Display!$B$9,'Lux4-sept'!$A$149=Display!$B$11,'Lux4-sept'!$A$164=Display!$B$13),Display!$D7,)","v":0},{"$f":"IF(AND(AB$8=Display!$T$10,'Lux4-sept'!$A$8=Display!$B$7,'Lux4-sept'!$A$148=Display!$B$9,'Lux4-sept'!$A$149=Display!$B$11,'Lux4-sept'!$A$164=Display!$B$13),Display!$D7,)","v":0},{"$f":"IF(AND(AC$8=Display!$T$10,'Lux4-sept'!$A$8=Display!$B$7,'Lux4-sept'!$A$148=Display!$B$9,'Lux4-sept'!$A$149=Display!$B$11,'Lux4-sept'!$A$164=Display!$B$13),Display!$D7,)","v":0},{"$f":"IF(AND(AD$8=Display!$T$10,'Lux4-sept'!$A$8=Display!$B$7,'Lux4-sept'!$A$148=Display!$B$9,'Lux4-sept'!$A$149=Display!$B$11,'Lux4-sept'!$A$164=Display!$B$13),Display!$D7,)","v":0},{"$f":"IF(AND(AE$8=Display!$T$10,'Lux4-sept'!$A$8=Display!$B$7,'Lux4-sept'!$A$148=Display!$B$9,'Lux4-sept'!$A$149=Display!$B$11,'Lux4-sept'!$A$164=Display!$B$13),Display!$D7,)","v":0},{"$f":"IF(AND(AF$8=Display!$T$10,'Lux4-sept'!$A$8=Display!$B$7,'Lux4-sept'!$A$148=Display!$B$9,'Lux4-sept'!$A$149=Display!$B$11,'Lux4-sept'!$A$164=Display!$B$13),Display!$D7,)","v":0},null,null,0]
["Tables nettoyées",{"$f":"IF(AND(B$8=Display!$T$10,'Lux4-sept'!$A$8=Display!$B$7,'Lux4-sept'!$A$148=Display!$B$9,'Lux4-sept'!$A$149=Display!$B$11,'Lux4-sept'!$A$164=Display!$B$13),Display!$D8,)","v":0},{"$f":"IF(AND(C$8=Display!$T$10,'Lux4-sept'!$A$8=Display!$B$7,'Lux4-sept'!$A$148=Display!$B$9,'Lux4-sept'!$A$149=Display!$B$11,'Lux4-sept'!$A$164=Display!$B$13),Display!$D8,)","v":0},{"$f":"IF(AND(D$8=Display!$T$10,'Lux4-sept'!$A$8=Display!$B$7,'Lux4-sept'!$A$148=Display!$B$9,'Lux4-sept'!$A$149=Display!$B$11,'Lux4-sept'!$A$164=Display!$B$13),Display!$D8,)","v":0},{"$f":"IF(AND(E$8=Display!$T$10,'Lux4-sept'!$A$8=Display!$B$7,'Lux4-sept'!$A$148=Display!$B$9,'Lux4-sept'!$A$149=Display!$B$11,'Lux4-sept'!$A$164=Display!$B$13),Display!$D8,)","v":0},{"$f":"IF(AND(F$8=Display!$T$10,'Lux4-sept'!$A$8=Display!$B$7,'Lux4-sept'!$A$148=Display!$B$9,'Lux4-sept'!$A$149=Display!$B$11,'Lux4-sept'!$A$164=Display!$B$13),Display!$D8,)","v":0},{"$f":"IF(AND(G$8=Display!$T$10,'Lux4-sept'!$A$8=Display!$B$7,'Lux4-sept'!$A$148=Display!$B$9,'Lux4-sept'!$A$149=Display!$B$11,'Lux4-sept'!$A$164=Display!$B$13),Display!$D8,)","v":0},{"$f":"IF(AND(H$8=Display!$T$10,'Lux4-sept'!$A$8=Display!$B$7,'Lux4-sept'!$A$148=Display!$B$9,'Lux4-sept'!$A$149=Display!$B$11,'Lux4-sept'!$A$164=Display!$B$13),Display!$D8,)","v":0},{"$f":"IF(AND(I$8=Display!$T$10,'Lux4-sept'!$A$8=Display!$B$7,'Lux4-sept'!$A$148=Display!$B$9,'Lux4-sept'!$A$149=Display!$B$11,'Lux4-sept'!$A$164=Display!$B$13),Display!$D8,)","v":0},{"$f":"IF(AND(J$8=Display!$T$10,'Lux4-sept'!$A$8=Display!$B$7,'Lux4-sept'!$A$148=Display!$B$9,'Lux4-sept'!$A$149=Display!$B$11,'Lux4-sept'!$A$164=Display!$B$13),Display!$D8,)","v":0},{"$f":"IF(AND(K$8=Display!$T$10,'Lux4-sept'!$A$8=Display!$B$7,'Lux4-sept'!$A$148=Display!$B$9,'Lux4-sept'!$A$149=Display!$B$11,'Lux4-sept'!$A$164=Display!$B$13),Display!$D8,)","v":0},{"$f":"IF(AND(L$8=Display!$T$10,'Lux4-sept'!$A$8=Display!$B$7,'Lux4-sept'!$A$148=Display!$B$9,'Lux4-sept'!$A$149=Display!$B$11,'Lux4-sept'!$A$164=Display!$B$13),Display!$D8,)","v":0},{"$f":"IF(AND(M$8=Display!$T$10,'Lux4-sept'!$A$8=Display!$B$7,'Lux4-sept'!$A$148=Display!$B$9,'Lux4-sept'!$A$149=Display!$B$11,'Lux4-sept'!$A$164=Display!$B$13),Display!$D8,)","v":0},{"$f":"IF(AND(N$8=Display!$T$10,'Lux4-sept'!$A$8=Display!$B$7,'Lux4-sept'!$A$148=Display!$B$9,'Lux4-sept'!$A$149=Display!$B$11,'Lux4-sept'!$A$164=Display!$B$13),Display!$D8,)","v":0},{"$f":"IF(AND(O$8=Display!$T$10,'Lux4-sept'!$A$8=Display!$B$7,'Lux4-sept'!$A$148=Display!$B$9,'Lux4-sept'!$A$149=Display!$B$11,'Lux4-sept'!$A$164=Display!$B$13),Display!$D8,)","v":0},{"$f":"IF(AND(P$8=Display!$T$10,'Lux4-sept'!$A$8=Display!$B$7,'Lux4-sept'!$A$148=Display!$B$9,'Lux4-sept'!$A$149=Display!$B$11,'Lux4-sept'!$A$164=Display!$B$13),Display!$D8,)","v":0},{"$f":"IF(AND(Q$8=Display!$T$10,'Lux4-sept'!$A$8=Display!$B$7,'Lux4-sept'!$A$148=Display!$B$9,'Lux4-sept'!$A$149=Display!$B$11,'Lux4-sept'!$A$164=Display!$B$13),Display!$D8,)","v":0},{"$f":"IF(AND(R$8=Display!$T$10,'Lux4-sept'!$A$8=Display!$B$7,'Lux4-sept'!$A$148=Display!$B$9,'Lux4-sept'!$A$149=Display!$B$11,'Lux4-sept'!$A$164=Display!$B$13),Display!$D8,)","v":0},{"$f":"IF(AND(S$8=Display!$T$10,'Lux4-sept'!$A$8=Display!$B$7,'Lux4-sept'!$A$148=Display!$B$9,'Lux4-sept'!$A$149=Display!$B$11,'Lux4-sept'!$A$164=Display!$B$13),Display!$D8,)","v":0},{"$f":"IF(AND(T$8=Display!$T$10,'Lux4-sept'!$A$8=Display!$B$7,'Lux4-sept'!$A$148=Display!$B$9,'Lux4-sept'!$A$149=Display!$B$11,'Lux4-sept'!$A$164=Display!$B$13),Display!$D8,)","v":0},{"$f":"IF(AND(U$8=Display!$T$10,'Lux4-sept'!$A$8=Display!$B$7,'Lux4-sept'!$A$148=Display!$B$9,'Lux4-sept'!$A$149=Display!$B$11,'Lux4-sept'!$A$164=Display!$B$13),Display!$D8,)","v":0},{"$f":"IF(AND(V$8=Display!$T$10,'Lux4-sept'!$A$8=Display!$B$7,'Lux4-sept'!$A$148=Display!$B$9,'Lux4-sept'!$A$149=Display!$B$11,'Lux4-sept'!$A$164=Display!$B$13),Display!$D8,)","v":0},{"$f":"IF(AND(W$8=Display!$T$10,'Lux4-sept'!$A$8=Display!$B$7,'Lux4-sept'!$A$148=Display!$B$9,'Lux4-sept'!$A$149=Display!$B$11,'Lux4-sept'!$A$164=Display!$B$13),Display!$D8,)","v":0},{"$f":"IF(AND(X$8=Display!$T$10,'Lux4-sept'!$A$8=Display!$B$7,'Lux4-sept'!$A$148=Display!$B$9,'Lux4-sept'!$A$149=Display!$B$11,'Lux4-sept'!$A$164=Display!$B$13),Display!$D8,)","v":0},{"$f":"IF(AND(Y$8=Display!$T$10,'Lux4-sept'!$A$8=Display!$B$7,'Lux4-sept'!$A$148=Display!$B$9,'Lux4-sept'!$A$149=Display!$B$11,'Lux4-sept'!$A$164=Display!$B$13),Display!$D8,)","v":0},{"$f":"IF(AND(Z$8=Display!$T$10,'Lux4-sept'!$A$8=Display!$B$7,'Lux4-sept'!$A$148=Display!$B$9,'Lux4-sept'!$A$149=Display!$B$11,'Lux4-sept'!$A$164=Display!$B$13),Display!$D8,)","v":0},{"$f":"IF(AND(AA$8=Display!$T$10,'Lux4-sept'!$A$8=Display!$B$7,'Lux4-sept'!$A$148=Display!$B$9,'Lux4-sept'!$A$149=Display!$B$11,'Lux4-sept'!$A$164=Display!$B$13),Display!$D8,)","v":0},{"$f":"IF(AND(AB$8=Display!$T$10,'Lux4-sept'!$A$8=Display!$B$7,'Lux4-sept'!$A$148=Display!$B$9,'Lux4-sept'!$A$149=Display!$B$11,'Lux4-sept'!$A$164=Display!$B$13),Display!$D8,)","v":0},{"$f":"IF(AND(AC$8=Display!$T$10,'Lux4-sept'!$A$8=Display!$B$7,'Lux4-sept'!$A$148=Display!$B$9,'Lux4-sept'!$A$149=Display!$B$11,'Lux4-sept'!$A$164=Display!$B$13),Display!$D8,)","v":0},{"$f":"IF(AND(AD$8=Display!$T$10,'Lux4-sept'!$A$8=Display!$B$7,'Lux4-sept'!$A$148=Display!$B$9,'Lux4-sept'!$A$149=Display!$B$11,'Lux4-sept'!$A$164=Display!$B$13),Display!$D8,)","v":0},{"$f":"IF(AND(AE$8=Display!$T$10,'Lux4-sept'!$A$8=Display!$B$7,'Lux4-sept'!$A$148=Display!$B$9,'Lux4-sept'!$A$149=Display!$B$11,'Lux4-sept'!$A$164=Display!$B$13),Display!$D8,)","v":0},{"$f":"IF(AND(AF$8=Display!$T$10,'Lux4-sept'!$A$8=Display!$B$7,'Lux4-sept'!$A$148=Display!$B$9,'Lux4-sept'!$A$149=Display!$B$11,'Lux4-sept'!$A$164=Display!$B$13),Display!$D8,)","v":0},null,null,0]
["MOYENNE",{"$f":"((IF((SUM(B165:B169))<>0,(SUM(B165:B169)),0))/(IF((SUM((IF(B165<>0,3,0)),(IF(B166<>0,3,0)),(IF(B167<>0,3,0)),(IF(B168<>0,3,0)),(IF(B169<>0,3,0))))<>0,((SUM((IF(B165<>0,3,0)),(IF(B166<>0,3,0)),(IF(B167<>0,3,0)),(IF(B168<>0,3,0)),(IF(B169<>0,3,0))))),1)))","v":0},{"$f":"((IF((SUM(C165:C169))<>0,(SUM(C165:C169)),0))/(IF((SUM((IF(C165<>0,3,0)),(IF(C166<>0,3,0)),(IF(C167<>0,3,0)),(IF(C168<>0,3,0)),(IF(C169<>0,3,0))))<>0,((SUM((IF(C165<>0,3,0)),(IF(C166<>0,3,0)),(IF(C167<>0,3,0)),(IF(C168<>0,3,0)),(IF(C169<>0,3,0))))),1)))","v":0},0,0,0,0,0,0,0,0,0,0,0,0,0,0,0,0,0,0,0,0,0,0,0,0,0,0,0,0,0,0,0]
[".04"]
["Préparation cuisine en place (café, thé, lunch…) ",{"$f":"IF(AND(B$8=Display!$T$10,'Lux4-sept'!$A$8=Display!$B$7,'Lux4-sept'!$A$148=Display!$B$9,'Lux4-sept'!$A$149=Display!$B$11,'Lux4-sept'!$A$171=Display!$B$13),Display!$D4,)","v":0},{"$f":"IF(AND(C$8=Display!$T$10,'Lux4-sept'!$A$8=Display!$B$7,'Lux4-sept'!$A$148=Display!$B$9,'Lux4-sept'!$A$149=Display!$B$11,'Lux4-sept'!$A$171=Display!$B$13),Display!$D4,)","v":0},{"$f":"IF(AND(D$8=Display!$T$10,'Lux4-sept'!$A$8=Display!$B$7,'Lux4-sept'!$A$148=Display!$B$9,'Lux4-sept'!$A$149=Display!$B$11,'Lux4-sept'!$A$171=Display!$B$13),Display!$D4,)","v":0},{"$f":"IF(AND(E$8=Display!$T$10,'Lux4-sept'!$A$8=Display!$B$7,'Lux4-sept'!$A$148=Display!$B$9,'Lux4-sept'!$A$149=Display!$B$11,'Lux4-sept'!$A$171=Display!$B$13),Display!$D4,)","v":0},{"$f":"IF(AND(F$8=Display!$T$10,'Lux4-sept'!$A$8=Display!$B$7,'Lux4-sept'!$A$148=Display!$B$9,'Lux4-sept'!$A$149=Display!$B$11,'Lux4-sept'!$A$171=Display!$B$13),Display!$D4,)","v":0},{"$f":"IF(AND(G$8=Display!$T$10,'Lux4-sept'!$A$8=Display!$B$7,'Lux4-sept'!$A$148=Display!$B$9,'Lux4-sept'!$A$149=Display!$B$11,'Lux4-sept'!$A$171=Display!$B$13),Display!$D4,)","v":0},{"$f":"IF(AND(H$8=Display!$T$10,'Lux4-sept'!$A$8=Display!$B$7,'Lux4-sept'!$A$148=Display!$B$9,'Lux4-sept'!$A$149=Display!$B$11,'Lux4-sept'!$A$171=Display!$B$13),Display!$D4,)","v":0},{"$f":"IF(AND(I$8=Display!$T$10,'Lux4-sept'!$A$8=Display!$B$7,'Lux4-sept'!$A$148=Display!$B$9,'Lux4-sept'!$A$149=Display!$B$11,'Lux4-sept'!$A$171=Display!$B$13),Display!$D4,)","v":0},{"$f":"IF(AND(J$8=Display!$T$10,'Lux4-sept'!$A$8=Display!$B$7,'Lux4-sept'!$A$148=Display!$B$9,'Lux4-sept'!$A$149=Display!$B$11,'Lux4-sept'!$A$171=Display!$B$13),Display!$D4,)","v":0},{"$f":"IF(AND(K$8=Display!$T$10,'Lux4-sept'!$A$8=Display!$B$7,'Lux4-sept'!$A$148=Display!$B$9,'Lux4-sept'!$A$149=Display!$B$11,'Lux4-sept'!$A$171=Display!$B$13),Display!$D4,)","v":0},{"$f":"IF(AND(L$8=Display!$T$10,'Lux4-sept'!$A$8=Display!$B$7,'Lux4-sept'!$A$148=Display!$B$9,'Lux4-sept'!$A$149=Display!$B$11,'Lux4-sept'!$A$171=Display!$B$13),Display!$D4,)","v":0},{"$f":"IF(AND(M$8=Display!$T$10,'Lux4-sept'!$A$8=Display!$B$7,'Lux4-sept'!$A$148=Display!$B$9,'Lux4-sept'!$A$149=Display!$B$11,'Lux4-sept'!$A$171=Display!$B$13),Display!$D4,)","v":0},{"$f":"IF(AND(N$8=Display!$T$10,'Lux4-sept'!$A$8=Display!$B$7,'Lux4-sept'!$A$148=Display!$B$9,'Lux4-sept'!$A$149=Display!$B$11,'Lux4-sept'!$A$171=Display!$B$13),Display!$D4,)","v":0},{"$f":"IF(AND(O$8=Display!$T$10,'Lux4-sept'!$A$8=Display!$B$7,'Lux4-sept'!$A$148=Display!$B$9,'Lux4-sept'!$A$149=Display!$B$11,'Lux4-sept'!$A$171=Display!$B$13),Display!$D4,)","v":0},{"$f":"IF(AND(P$8=Display!$T$10,'Lux4-sept'!$A$8=Display!$B$7,'Lux4-sept'!$A$148=Display!$B$9,'Lux4-sept'!$A$149=Display!$B$11,'Lux4-sept'!$A$171=Display!$B$13),Display!$D4,)","v":0},{"$f":"IF(AND(Q$8=Display!$T$10,'Lux4-sept'!$A$8=Display!$B$7,'Lux4-sept'!$A$148=Display!$B$9,'Lux4-sept'!$A$149=Display!$B$11,'Lux4-sept'!$A$171=Display!$B$13),Display!$D4,)","v":0},{"$f":"IF(AND(R$8=Display!$T$10,'Lux4-sept'!$A$8=Display!$B$7,'Lux4-sept'!$A$148=Display!$B$9,'Lux4-sept'!$A$149=Display!$B$11,'Lux4-sept'!$A$171=Display!$B$13),Display!$D4,)","v":0},{"$f":"IF(AND(S$8=Display!$T$10,'Lux4-sept'!$A$8=Display!$B$7,'Lux4-sept'!$A$148=Display!$B$9,'Lux4-sept'!$A$149=Display!$B$11,'Lux4-sept'!$A$171=Display!$B$13),Display!$D4,)","v":0},{"$f":"IF(AND(T$8=Display!$T$10,'Lux4-sept'!$A$8=Display!$B$7,'Lux4-sept'!$A$148=Display!$B$9,'Lux4-sept'!$A$149=Display!$B$11,'Lux4-sept'!$A$171=Display!$B$13),Display!$D4,)","v":0},{"$f":"IF(AND(U$8=Display!$T$10,'Lux4-sept'!$A$8=Display!$B$7,'Lux4-sept'!$A$148=Display!$B$9,'Lux4-sept'!$A$149=Display!$B$11,'Lux4-sept'!$A$171=Display!$B$13),Display!$D4,)","v":0},{"$f":"IF(AND(V$8=Display!$T$10,'Lux4-sept'!$A$8=Display!$B$7,'Lux4-sept'!$A$148=Display!$B$9,'Lux4-sept'!$A$149=Display!$B$11,'Lux4-sept'!$A$171=Display!$B$13),Display!$D4,)","v":0},{"$f":"IF(AND(W$8=Display!$T$10,'Lux4-sept'!$A$8=Display!$B$7,'Lux4-sept'!$A$148=Display!$B$9,'Lux4-sept'!$A$149=Display!$B$11,'Lux4-sept'!$A$171=Display!$B$13),Display!$D4,)","v":0},{"$f":"IF(AND(X$8=Display!$T$10,'Lux4-sept'!$A$8=Display!$B$7,'Lux4-sept'!$A$148=Display!$B$9,'Lux4-sept'!$A$149=Display!$B$11,'Lux4-sept'!$A$171=Display!$B$13),Display!$D4,)","v":0},{"$f":"IF(AND(Y$8=Display!$T$10,'Lux4-sept'!$A$8=Display!$B$7,'Lux4-sept'!$A$148=Display!$B$9,'Lux4-sept'!$A$149=Display!$B$11,'Lux4-sept'!$A$171=Display!$B$13),Display!$D4,)","v":0},{"$f":"IF(AND(Z$8=Display!$T$10,'Lux4-sept'!$A$8=Display!$B$7,'Lux4-sept'!$A$148=Display!$B$9,'Lux4-sept'!$A$149=Display!$B$11,'Lux4-sept'!$A$171=Display!$B$13),Display!$D4,)","v":0},{"$f":"IF(AND(AA$8=Display!$T$10,'Lux4-sept'!$A$8=Display!$B$7,'Lux4-sept'!$A$148=Display!$B$9,'Lux4-sept'!$A$149=Display!$B$11,'Lux4-sept'!$A$171=Display!$B$13),Display!$D4,)","v":0},{"$f":"IF(AND(AB$8=Display!$T$10,'Lux4-sept'!$A$8=Display!$B$7,'Lux4-sept'!$A$148=Display!$B$9,'Lux4-sept'!$A$149=Display!$B$11,'Lux4-sept'!$A$171=Display!$B$13),Display!$D4,)","v":0},{"$f":"IF(AND(AC$8=Display!$T$10,'Lux4-sept'!$A$8=Display!$B$7,'Lux4-sept'!$A$148=Display!$B$9,'Lux4-sept'!$A$149=Display!$B$11,'Lux4-sept'!$A$171=Display!$B$13),Display!$D4,)","v":0},{"$f":"IF(AND(AD$8=Display!$T$10,'Lux4-sept'!$A$8=Display!$B$7,'Lux4-sept'!$A$148=Display!$B$9,'Lux4-sept'!$A$149=Display!$B$11,'Lux4-sept'!$A$171=Display!$B$13),Display!$D4,)","v":0},{"$f":"IF(AND(AE$8=Display!$T$10,'Lux4-sept'!$A$8=Display!$B$7,'Lux4-sept'!$A$148=Display!$B$9,'Lux4-sept'!$A$149=Display!$B$11,'Lux4-sept'!$A$171=Display!$B$13),Display!$D4,)","v":0},{"$f":"IF(AND(AF$8=Display!$T$10,'Lux4-sept'!$A$8=Display!$B$7,'Lux4-sept'!$A$148=Display!$B$9,'Lux4-sept'!$A$149=Display!$B$11,'Lux4-sept'!$A$171=Display!$B$13),Display!$D4,)","v":0},null,null,{"$f":"((IF((SUM(B172:AF172))<>0,(SUM(B172:AF172)),0))/(IF((SUM((IF(B172<>0,3,0)),(IF(C172<>0,3,0)),(IF(D172<>0,3,0)),(IF(E172<>0,3,0)),(IF(F172<>0,3,0)),(IF(F172<>0,3,0)),(IF(F172<>0,3,0)),(IF(G172<>0,3,0)),(IF(H172<>0,3,0)),(IF(I172<>0,3,0)),(IF(J172<>0,3,0)),(IF(K172<>0,3,0)),(IF(L172<>0,3,0)),(IF(M172<>0,3,0)),(IF(N172<>0,3,0)),(IF(O172<>0,3,0)),(IF(P172<>0,3,0)),(IF(Q172<>0,3,0)),(IF(R172<>0,3,0)),(IF(S172<>0,3,0)),(IF(T172<>0,3,0)),(IF(U172<>0,3,0)),(IF(V172<>0,3,0)),(IF(W172<>0,3,0)),(IF(X172<>0,3,0)),(IF(Y172<>0,3,0)),(IF(Z172<>0,3,0)),(IF(AA172<>0,3,0)),(IF(AB172<>0,3,0)),(IF(AC172<>0,3,0)),(IF(AD172<>0,3,0)),(IF(AE172<>0,3,0)),(IF(AF172<>0,3,0))))<>0,((SUM((IF(B172<>0,3,0)),(IF(C172<>0,3,0)),(IF(D172<>0,3,0)),(IF(E172<>0,3,0)),(IF(F172<>0,3,0)),(IF(F172<>0,3,0)),(IF(F172<>0,3,0)),(IF(G172<>0,3,0)),(IF(H172<>0,3,0)),(IF(I172<>0,3,0)),(IF(J172<>0,3,0)),(IF(K172<>0,3,0)),(IF(L172<>0,3,0)),(IF(M172<>0,3,0)),(IF(N172<>0,3,0)),(IF(O172<>0,3,0)),(IF(P172<>0,3,0)),(IF(Q172<>0,3,0)),(IF(R172<>0,3,0)),(IF(S172<>0,3,0)),(IF(T172<>0,3,0)),(IF(U172<>0,3,0)),(IF(V172<>0,3,0)),(IF(W172<>0,3,0)),(IF(X172<>0,3,0)),(IF(Y172<>0,3,0)),(IF(Z172<>0,3,0)),(IF(AA172<>0,3,0)),(IF(AB172<>0,3,0)),(IF(AC172<>0,3,0)),(IF(AD172<>0,3,0)),(IF(AE172<>0,3,0)),(IF(AF172<>0,3,0))))),1)))","v":0}]
["Salle prête à être utilisée",{"$f":"IF(AND(B$8=Display!$T$10,'Lux4-sept'!$A$8=Display!$B$7,'Lux4-sept'!$A$148=Display!$B$9,'Lux4-sept'!$A$149=Display!$B$11,'Lux4-sept'!$A$171=Display!$B$13),Display!$D5,)","v":0},{"$f":"IF(AND(C$8=Display!$T$10,'Lux4-sept'!$A$8=Display!$B$7,'Lux4-sept'!$A$148=Display!$B$9,'Lux4-sept'!$A$149=Display!$B$11,'Lux4-sept'!$A$171=Display!$B$13),Display!$D5,)","v":0},{"$f":"IF(AND(D$8=Display!$T$10,'Lux4-sept'!$A$8=Display!$B$7,'Lux4-sept'!$A$148=Display!$B$9,'Lux4-sept'!$A$149=Display!$B$11,'Lux4-sept'!$A$171=Display!$B$13),Display!$D5,)","v":0},{"$f":"IF(AND(E$8=Display!$T$10,'Lux4-sept'!$A$8=Display!$B$7,'Lux4-sept'!$A$148=Display!$B$9,'Lux4-sept'!$A$149=Display!$B$11,'Lux4-sept'!$A$171=Display!$B$13),Display!$D5,)","v":0},{"$f":"IF(AND(F$8=Display!$T$10,'Lux4-sept'!$A$8=Display!$B$7,'Lux4-sept'!$A$148=Display!$B$9,'Lux4-sept'!$A$149=Display!$B$11,'Lux4-sept'!$A$171=Display!$B$13),Display!$D5,)","v":0},{"$f":"IF(AND(G$8=Display!$T$10,'Lux4-sept'!$A$8=Display!$B$7,'Lux4-sept'!$A$148=Display!$B$9,'Lux4-sept'!$A$149=Display!$B$11,'Lux4-sept'!$A$171=Display!$B$13),Display!$D5,)","v":0},{"$f":"IF(AND(H$8=Display!$T$10,'Lux4-sept'!$A$8=Display!$B$7,'Lux4-sept'!$A$148=Display!$B$9,'Lux4-sept'!$A$149=Display!$B$11,'Lux4-sept'!$A$171=Display!$B$13),Display!$D5,)","v":0},{"$f":"IF(AND(I$8=Display!$T$10,'Lux4-sept'!$A$8=Display!$B$7,'Lux4-sept'!$A$148=Display!$B$9,'Lux4-sept'!$A$149=Display!$B$11,'Lux4-sept'!$A$171=Display!$B$13),Display!$D5,)","v":0},{"$f":"IF(AND(J$8=Display!$T$10,'Lux4-sept'!$A$8=Display!$B$7,'Lux4-sept'!$A$148=Display!$B$9,'Lux4-sept'!$A$149=Display!$B$11,'Lux4-sept'!$A$171=Display!$B$13),Display!$D5,)","v":0},{"$f":"IF(AND(K$8=Display!$T$10,'Lux4-sept'!$A$8=Display!$B$7,'Lux4-sept'!$A$148=Display!$B$9,'Lux4-sept'!$A$149=Display!$B$11,'Lux4-sept'!$A$171=Display!$B$13),Display!$D5,)","v":0},{"$f":"IF(AND(L$8=Display!$T$10,'Lux4-sept'!$A$8=Display!$B$7,'Lux4-sept'!$A$148=Display!$B$9,'Lux4-sept'!$A$149=Display!$B$11,'Lux4-sept'!$A$171=Display!$B$13),Display!$D5,)","v":0},{"$f":"IF(AND(M$8=Display!$T$10,'Lux4-sept'!$A$8=Display!$B$7,'Lux4-sept'!$A$148=Display!$B$9,'Lux4-sept'!$A$149=Display!$B$11,'Lux4-sept'!$A$171=Display!$B$13),Display!$D5,)","v":0},{"$f":"IF(AND(N$8=Display!$T$10,'Lux4-sept'!$A$8=Display!$B$7,'Lux4-sept'!$A$148=Display!$B$9,'Lux4-sept'!$A$149=Display!$B$11,'Lux4-sept'!$A$171=Display!$B$13),Display!$D5,)","v":0},{"$f":"IF(AND(O$8=Display!$T$10,'Lux4-sept'!$A$8=Display!$B$7,'Lux4-sept'!$A$148=Display!$B$9,'Lux4-sept'!$A$149=Display!$B$11,'Lux4-sept'!$A$171=Display!$B$13),Display!$D5,)","v":0},{"$f":"IF(AND(P$8=Display!$T$10,'Lux4-sept'!$A$8=Display!$B$7,'Lux4-sept'!$A$148=Display!$B$9,'Lux4-sept'!$A$149=Display!$B$11,'Lux4-sept'!$A$171=Display!$B$13),Display!$D5,)","v":0},{"$f":"IF(AND(Q$8=Display!$T$10,'Lux4-sept'!$A$8=Display!$B$7,'Lux4-sept'!$A$148=Display!$B$9,'Lux4-sept'!$A$149=Display!$B$11,'Lux4-sept'!$A$171=Display!$B$13),Display!$D5,)","v":0},{"$f":"IF(AND(R$8=Display!$T$10,'Lux4-sept'!$A$8=Display!$B$7,'Lux4-sept'!$A$148=Display!$B$9,'Lux4-sept'!$A$149=Display!$B$11,'Lux4-sept'!$A$171=Display!$B$13),Display!$D5,)","v":0},{"$f":"IF(AND(S$8=Display!$T$10,'Lux4-sept'!$A$8=Display!$B$7,'Lux4-sept'!$A$148=Display!$B$9,'Lux4-sept'!$A$149=Display!$B$11,'Lux4-sept'!$A$171=Display!$B$13),Display!$D5,)","v":0},{"$f":"IF(AND(T$8=Display!$T$10,'Lux4-sept'!$A$8=Display!$B$7,'Lux4-sept'!$A$148=Display!$B$9,'Lux4-sept'!$A$149=Display!$B$11,'Lux4-sept'!$A$171=Display!$B$13),Display!$D5,)","v":0},{"$f":"IF(AND(U$8=Display!$T$10,'Lux4-sept'!$A$8=Display!$B$7,'Lux4-sept'!$A$148=Display!$B$9,'Lux4-sept'!$A$149=Display!$B$11,'Lux4-sept'!$A$171=Display!$B$13),Display!$D5,)","v":0},{"$f":"IF(AND(V$8=Display!$T$10,'Lux4-sept'!$A$8=Display!$B$7,'Lux4-sept'!$A$148=Display!$B$9,'Lux4-sept'!$A$149=Display!$B$11,'Lux4-sept'!$A$171=Display!$B$13),Display!$D5,)","v":0},{"$f":"IF(AND(W$8=Display!$T$10,'Lux4-sept'!$A$8=Display!$B$7,'Lux4-sept'!$A$148=Display!$B$9,'Lux4-sept'!$A$149=Display!$B$11,'Lux4-sept'!$A$171=Display!$B$13),Display!$D5,)","v":0},{"$f":"IF(AND(X$8=Display!$T$10,'Lux4-sept'!$A$8=Display!$B$7,'Lux4-sept'!$A$148=Display!$B$9,'Lux4-sept'!$A$149=Display!$B$11,'Lux4-sept'!$A$171=Display!$B$13),Display!$D5,)","v":0},{"$f":"IF(AND(Y$8=Display!$T$10,'Lux4-sept'!$A$8=Display!$B$7,'Lux4-sept'!$A$148=Display!$B$9,'Lux4-sept'!$A$149=Display!$B$11,'Lux4-sept'!$A$171=Display!$B$13),Display!$D5,)","v":0},{"$f":"IF(AND(Z$8=Display!$T$10,'Lux4-sept'!$A$8=Display!$B$7,'Lux4-sept'!$A$148=Display!$B$9,'Lux4-sept'!$A$149=Display!$B$11,'Lux4-sept'!$A$171=Display!$B$13),Display!$D5,)","v":0},{"$f":"IF(AND(AA$8=Display!$T$10,'Lux4-sept'!$A$8=Display!$B$7,'Lux4-sept'!$A$148=Display!$B$9,'Lux4-sept'!$A$149=Display!$B$11,'Lux4-sept'!$A$171=Display!$B$13),Display!$D5,)","v":0},{"$f":"IF(AND(AB$8=Display!$T$10,'Lux4-sept'!$A$8=Display!$B$7,'Lux4-sept'!$A$148=Display!$B$9,'Lux4-sept'!$A$149=Display!$B$11,'Lux4-sept'!$A$171=Display!$B$13),Display!$D5,)","v":0},{"$f":"IF(AND(AC$8=Display!$T$10,'Lux4-sept'!$A$8=Display!$B$7,'Lux4-sept'!$A$148=Display!$B$9,'Lux4-sept'!$A$149=Display!$B$11,'Lux4-sept'!$A$171=Display!$B$13),Display!$D5,)","v":0},{"$f":"IF(AND(AD$8=Display!$T$10,'Lux4-sept'!$A$8=Display!$B$7,'Lux4-sept'!$A$148=Display!$B$9,'Lux4-sept'!$A$149=Display!$B$11,'Lux4-sept'!$A$171=Display!$B$13),Display!$D5,)","v":0},{"$f":"IF(AND(AE$8=Display!$T$10,'Lux4-sept'!$A$8=Display!$B$7,'Lux4-sept'!$A$148=Display!$B$9,'Lux4-sept'!$A$149=Display!$B$11,'Lux4-sept'!$A$171=Display!$B$13),Display!$D5,)","v":0},{"$f":"IF(AND(AF$8=Display!$T$10,'Lux4-sept'!$A$8=Display!$B$7,'Lux4-sept'!$A$148=Display!$B$9,'Lux4-sept'!$A$149=Display!$B$11,'Lux4-sept'!$A$171=Display!$B$13),Display!$D5,)","v":0},null,null,{"$f":"((IF((SUM(B173:AF173))<>0,(SUM(B173:AF173)),0))/(IF((SUM((IF(B173<>0,3,0)),(IF(C173<>0,3,0)),(IF(D173<>0,3,0)),(IF(E173<>0,3,0)),(IF(F173<>0,3,0)),(IF(F173<>0,3,0)),(IF(F173<>0,3,0)),(IF(G173<>0,3,0)),(IF(H173<>0,3,0)),(IF(I173<>0,3,0)),(IF(J173<>0,3,0)),(IF(K173<>0,3,0)),(IF(L173<>0,3,0)),(IF(M173<>0,3,0)),(IF(N173<>0,3,0)),(IF(O173<>0,3,0)),(IF(P173<>0,3,0)),(IF(Q173<>0,3,0)),(IF(R173<>0,3,0)),(IF(S173<>0,3,0)),(IF(T173<>0,3,0)),(IF(U173<>0,3,0)),(IF(V173<>0,3,0)),(IF(W173<>0,3,0)),(IF(X173<>0,3,0)),(IF(Y173<>0,3,0)),(IF(Z173<>0,3,0)),(IF(AA173<>0,3,0)),(IF(AB173<>0,3,0)),(IF(AC173<>0,3,0)),(IF(AD173<>0,3,0)),(IF(AE173<>0,3,0)),(IF(AF173<>0,3,0))))<>0,((SUM((IF(B173<>0,3,0)),(IF(C173<>0,3,0)),(IF(D173<>0,3,0)),(IF(E173<>0,3,0)),(IF(F173<>0,3,0)),(IF(F173<>0,3,0)),(IF(F173<>0,3,0)),(IF(G173<>0,3,0)),(IF(H173<>0,3,0)),(IF(I173<>0,3,0)),(IF(J173<>0,3,0)),(IF(K173<>0,3,0)),(IF(L173<>0,3,0)),(IF(M173<>0,3,0)),(IF(N173<>0,3,0)),(IF(O173<>0,3,0)),(IF(P173<>0,3,0)),(IF(Q173<>0,3,0)),(IF(R173<>0,3,0)),(IF(S173<>0,3,0)),(IF(T173<>0,3,0)),(IF(U173<>0,3,0)),(IF(V173<>0,3,0)),(IF(W173<>0,3,0)),(IF(X173<>0,3,0)),(IF(Y173<>0,3,0)),(IF(Z173<>0,3,0)),(IF(AA173<>0,3,0)),(IF(AB173<>0,3,0)),(IF(AC173<>0,3,0)),(IF(AD173<>0,3,0)),(IF(AE173<>0,3,0)),(IF(AF173<>0,3,0))))),1)))","v":0}]
["Chaises rangées",{"$f":"IF(AND(B$8=Display!$T$10,'Lux4-sept'!$A$8=Display!$B$7,'Lux4-sept'!$A$148=Display!$B$9,'Lux4-sept'!$A$149=Display!$B$11,'Lux4-sept'!$A$171=Display!$B$13),Display!$D6,)","v":0},{"$f":"IF(AND(C$8=Display!$T$10,'Lux4-sept'!$A$8=Display!$B$7,'Lux4-sept'!$A$148=Display!$B$9,'Lux4-sept'!$A$149=Display!$B$11,'Lux4-sept'!$A$171=Display!$B$13),Display!$D6,)","v":0},{"$f":"IF(AND(D$8=Display!$T$10,'Lux4-sept'!$A$8=Display!$B$7,'Lux4-sept'!$A$148=Display!$B$9,'Lux4-sept'!$A$149=Display!$B$11,'Lux4-sept'!$A$171=Display!$B$13),Display!$D6,)","v":0},{"$f":"IF(AND(E$8=Display!$T$10,'Lux4-sept'!$A$8=Display!$B$7,'Lux4-sept'!$A$148=Display!$B$9,'Lux4-sept'!$A$149=Display!$B$11,'Lux4-sept'!$A$171=Display!$B$13),Display!$D6,)","v":0},{"$f":"IF(AND(F$8=Display!$T$10,'Lux4-sept'!$A$8=Display!$B$7,'Lux4-sept'!$A$148=Display!$B$9,'Lux4-sept'!$A$149=Display!$B$11,'Lux4-sept'!$A$171=Display!$B$13),Display!$D6,)","v":0},{"$f":"IF(AND(G$8=Display!$T$10,'Lux4-sept'!$A$8=Display!$B$7,'Lux4-sept'!$A$148=Display!$B$9,'Lux4-sept'!$A$149=Display!$B$11,'Lux4-sept'!$A$171=Display!$B$13),Display!$D6,)","v":0},{"$f":"IF(AND(H$8=Display!$T$10,'Lux4-sept'!$A$8=Display!$B$7,'Lux4-sept'!$A$148=Display!$B$9,'Lux4-sept'!$A$149=Display!$B$11,'Lux4-sept'!$A$171=Display!$B$13),Display!$D6,)","v":0},{"$f":"IF(AND(I$8=Display!$T$10,'Lux4-sept'!$A$8=Display!$B$7,'Lux4-sept'!$A$148=Display!$B$9,'Lux4-sept'!$A$149=Display!$B$11,'Lux4-sept'!$A$171=Display!$B$13),Display!$D6,)","v":0},{"$f":"IF(AND(J$8=Display!$T$10,'Lux4-sept'!$A$8=Display!$B$7,'Lux4-sept'!$A$148=Display!$B$9,'Lux4-sept'!$A$149=Display!$B$11,'Lux4-sept'!$A$171=Display!$B$13),Display!$D6,)","v":0},{"$f":"IF(AND(K$8=Display!$T$10,'Lux4-sept'!$A$8=Display!$B$7,'Lux4-sept'!$A$148=Display!$B$9,'Lux4-sept'!$A$149=Display!$B$11,'Lux4-sept'!$A$171=Display!$B$13),Display!$D6,)","v":0},{"$f":"IF(AND(L$8=Display!$T$10,'Lux4-sept'!$A$8=Display!$B$7,'Lux4-sept'!$A$148=Display!$B$9,'Lux4-sept'!$A$149=Display!$B$11,'Lux4-sept'!$A$171=Display!$B$13),Display!$D6,)","v":0},{"$f":"IF(AND(M$8=Display!$T$10,'Lux4-sept'!$A$8=Display!$B$7,'Lux4-sept'!$A$148=Display!$B$9,'Lux4-sept'!$A$149=Display!$B$11,'Lux4-sept'!$A$171=Display!$B$13),Display!$D6,)","v":0},{"$f":"IF(AND(N$8=Display!$T$10,'Lux4-sept'!$A$8=Display!$B$7,'Lux4-sept'!$A$148=Display!$B$9,'Lux4-sept'!$A$149=Display!$B$11,'Lux4-sept'!$A$171=Display!$B$13),Display!$D6,)","v":0},{"$f":"IF(AND(O$8=Display!$T$10,'Lux4-sept'!$A$8=Display!$B$7,'Lux4-sept'!$A$148=Display!$B$9,'Lux4-sept'!$A$149=Display!$B$11,'Lux4-sept'!$A$171=Display!$B$13),Display!$D6,)","v":0},{"$f":"IF(AND(P$8=Display!$T$10,'Lux4-sept'!$A$8=Display!$B$7,'Lux4-sept'!$A$148=Display!$B$9,'Lux4-sept'!$A$149=Display!$B$11,'Lux4-sept'!$A$171=Display!$B$13),Display!$D6,)","v":0},{"$f":"IF(AND(Q$8=Display!$T$10,'Lux4-sept'!$A$8=Display!$B$7,'Lux4-sept'!$A$148=Display!$B$9,'Lux4-sept'!$A$149=Display!$B$11,'Lux4-sept'!$A$171=Display!$B$13),Display!$D6,)","v":0},{"$f":"IF(AND(R$8=Display!$T$10,'Lux4-sept'!$A$8=Display!$B$7,'Lux4-sept'!$A$148=Display!$B$9,'Lux4-sept'!$A$149=Display!$B$11,'Lux4-sept'!$A$171=Display!$B$13),Display!$D6,)","v":0},{"$f":"IF(AND(S$8=Display!$T$10,'Lux4-sept'!$A$8=Display!$B$7,'Lux4-sept'!$A$148=Display!$B$9,'Lux4-sept'!$A$149=Display!$B$11,'Lux4-sept'!$A$171=Display!$B$13),Display!$D6,)","v":0},{"$f":"IF(AND(T$8=Display!$T$10,'Lux4-sept'!$A$8=Display!$B$7,'Lux4-sept'!$A$148=Display!$B$9,'Lux4-sept'!$A$149=Display!$B$11,'Lux4-sept'!$A$171=Display!$B$13),Display!$D6,)","v":0},{"$f":"IF(AND(U$8=Display!$T$10,'Lux4-sept'!$A$8=Display!$B$7,'Lux4-sept'!$A$148=Display!$B$9,'Lux4-sept'!$A$149=Display!$B$11,'Lux4-sept'!$A$171=Display!$B$13),Display!$D6,)","v":0},{"$f":"IF(AND(V$8=Display!$T$10,'Lux4-sept'!$A$8=Display!$B$7,'Lux4-sept'!$A$148=Display!$B$9,'Lux4-sept'!$A$149=Display!$B$11,'Lux4-sept'!$A$171=Display!$B$13),Display!$D6,)","v":0},{"$f":"IF(AND(W$8=Display!$T$10,'Lux4-sept'!$A$8=Display!$B$7,'Lux4-sept'!$A$148=Display!$B$9,'Lux4-sept'!$A$149=Display!$B$11,'Lux4-sept'!$A$171=Display!$B$13),Display!$D6,)","v":0},{"$f":"IF(AND(X$8=Display!$T$10,'Lux4-sept'!$A$8=Display!$B$7,'Lux4-sept'!$A$148=Display!$B$9,'Lux4-sept'!$A$149=Display!$B$11,'Lux4-sept'!$A$171=Display!$B$13),Display!$D6,)","v":0},{"$f":"IF(AND(Y$8=Display!$T$10,'Lux4-sept'!$A$8=Display!$B$7,'Lux4-sept'!$A$148=Display!$B$9,'Lux4-sept'!$A$149=Display!$B$11,'Lux4-sept'!$A$171=Display!$B$13),Display!$D6,)","v":0},{"$f":"IF(AND(Z$8=Display!$T$10,'Lux4-sept'!$A$8=Display!$B$7,'Lux4-sept'!$A$148=Display!$B$9,'Lux4-sept'!$A$149=Display!$B$11,'Lux4-sept'!$A$171=Display!$B$13),Display!$D6,)","v":0},{"$f":"IF(AND(AA$8=Display!$T$10,'Lux4-sept'!$A$8=Display!$B$7,'Lux4-sept'!$A$148=Display!$B$9,'Lux4-sept'!$A$149=Display!$B$11,'Lux4-sept'!$A$171=Display!$B$13),Display!$D6,)","v":0},{"$f":"IF(AND(AB$8=Display!$T$10,'Lux4-sept'!$A$8=Display!$B$7,'Lux4-sept'!$A$148=Display!$B$9,'Lux4-sept'!$A$149=Display!$B$11,'Lux4-sept'!$A$171=Display!$B$13),Display!$D6,)","v":0},{"$f":"IF(AND(AC$8=Display!$T$10,'Lux4-sept'!$A$8=Display!$B$7,'Lux4-sept'!$A$148=Display!$B$9,'Lux4-sept'!$A$149=Display!$B$11,'Lux4-sept'!$A$171=Display!$B$13),Display!$D6,)","v":0},{"$f":"IF(AND(AD$8=Display!$T$10,'Lux4-sept'!$A$8=Display!$B$7,'Lux4-sept'!$A$148=Display!$B$9,'Lux4-sept'!$A$149=Display!$B$11,'Lux4-sept'!$A$171=Display!$B$13),Display!$D6,)","v":0},{"$f":"IF(AND(AE$8=Display!$T$10,'Lux4-sept'!$A$8=Display!$B$7,'Lux4-sept'!$A$148=Display!$B$9,'Lux4-sept'!$A$149=Display!$B$11,'Lux4-sept'!$A$171=Display!$B$13),Display!$D6,)","v":0},{"$f":"IF(AND(AF$8=Display!$T$10,'Lux4-sept'!$A$8=Display!$B$7,'Lux4-sept'!$A$148=Display!$B$9,'Lux4-sept'!$A$149=Display!$B$11,'Lux4-sept'!$A$171=Display!$B$13),Display!$D6,)","v":0},null,null,0]
["Poubelles vidées",{"$f":"IF(AND(B$8=Display!$T$10,'Lux4-sept'!$A$8=Display!$B$7,'Lux4-sept'!$A$148=Display!$B$9,'Lux4-sept'!$A$149=Display!$B$11,'Lux4-sept'!$A$171=Display!$B$13),Display!$D7,)","v":0},{"$f":"IF(AND(C$8=Display!$T$10,'Lux4-sept'!$A$8=Display!$B$7,'Lux4-sept'!$A$148=Display!$B$9,'Lux4-sept'!$A$149=Display!$B$11,'Lux4-sept'!$A$171=Display!$B$13),Display!$D7,)","v":0},{"$f":"IF(AND(D$8=Display!$T$10,'Lux4-sept'!$A$8=Display!$B$7,'Lux4-sept'!$A$148=Display!$B$9,'Lux4-sept'!$A$149=Display!$B$11,'Lux4-sept'!$A$171=Display!$B$13),Display!$D7,)","v":0},{"$f":"IF(AND(E$8=Display!$T$10,'Lux4-sept'!$A$8=Display!$B$7,'Lux4-sept'!$A$148=Display!$B$9,'Lux4-sept'!$A$149=Display!$B$11,'Lux4-sept'!$A$171=Display!$B$13),Display!$D7,)","v":0},{"$f":"IF(AND(F$8=Display!$T$10,'Lux4-sept'!$A$8=Display!$B$7,'Lux4-sept'!$A$148=Display!$B$9,'Lux4-sept'!$A$149=Display!$B$11,'Lux4-sept'!$A$171=Display!$B$13),Display!$D7,)","v":0},{"$f":"IF(AND(G$8=Display!$T$10,'Lux4-sept'!$A$8=Display!$B$7,'Lux4-sept'!$A$148=Display!$B$9,'Lux4-sept'!$A$149=Display!$B$11,'Lux4-sept'!$A$171=Display!$B$13),Display!$D7,)","v":0},{"$f":"IF(AND(H$8=Display!$T$10,'Lux4-sept'!$A$8=Display!$B$7,'Lux4-sept'!$A$148=Display!$B$9,'Lux4-sept'!$A$149=Display!$B$11,'Lux4-sept'!$A$171=Display!$B$13),Display!$D7,)","v":0},{"$f":"IF(AND(I$8=Display!$T$10,'Lux4-sept'!$A$8=Display!$B$7,'Lux4-sept'!$A$148=Display!$B$9,'Lux4-sept'!$A$149=Display!$B$11,'Lux4-sept'!$A$171=Display!$B$13),Display!$D7,)","v":0},{"$f":"IF(AND(J$8=Display!$T$10,'Lux4-sept'!$A$8=Display!$B$7,'Lux4-sept'!$A$148=Display!$B$9,'Lux4-sept'!$A$149=Display!$B$11,'Lux4-sept'!$A$171=Display!$B$13),Display!$D7,)","v":0},{"$f":"IF(AND(K$8=Display!$T$10,'Lux4-sept'!$A$8=Display!$B$7,'Lux4-sept'!$A$148=Display!$B$9,'Lux4-sept'!$A$149=Display!$B$11,'Lux4-sept'!$A$171=Display!$B$13),Display!$D7,)","v":0},{"$f":"IF(AND(L$8=Display!$T$10,'Lux4-sept'!$A$8=Display!$B$7,'Lux4-sept'!$A$148=Display!$B$9,'Lux4-sept'!$A$149=Display!$B$11,'Lux4-sept'!$A$171=Display!$B$13),Display!$D7,)","v":0},{"$f":"IF(AND(M$8=Display!$T$10,'Lux4-sept'!$A$8=Display!$B$7,'Lux4-sept'!$A$148=Display!$B$9,'Lux4-sept'!$A$149=Display!$B$11,'Lux4-sept'!$A$171=Display!$B$13),Display!$D7,)","v":0},{"$f":"IF(AND(N$8=Display!$T$10,'Lux4-sept'!$A$8=Display!$B$7,'Lux4-sept'!$A$148=Display!$B$9,'Lux4-sept'!$A$149=Display!$B$11,'Lux4-sept'!$A$171=Display!$B$13),Display!$D7,)","v":0},{"$f":"IF(AND(O$8=Display!$T$10,'Lux4-sept'!$A$8=Display!$B$7,'Lux4-sept'!$A$148=Display!$B$9,'Lux4-sept'!$A$149=Display!$B$11,'Lux4-sept'!$A$171=Display!$B$13),Display!$D7,)","v":0},{"$f":"IF(AND(P$8=Display!$T$10,'Lux4-sept'!$A$8=Display!$B$7,'Lux4-sept'!$A$148=Display!$B$9,'Lux4-sept'!$A$149=Display!$B$11,'Lux4-sept'!$A$171=Display!$B$13),Display!$D7,)","v":0},{"$f":"IF(AND(Q$8=Display!$T$10,'Lux4-sept'!$A$8=Display!$B$7,'Lux4-sept'!$A$148=Display!$B$9,'Lux4-sept'!$A$149=Display!$B$11,'Lux4-sept'!$A$171=Display!$B$13),Display!$D7,)","v":0},{"$f":"IF(AND(R$8=Display!$T$10,'Lux4-sept'!$A$8=Display!$B$7,'Lux4-sept'!$A$148=Display!$B$9,'Lux4-sept'!$A$149=Display!$B$11,'Lux4-sept'!$A$171=Display!$B$13),Display!$D7,)","v":0},{"$f":"IF(AND(S$8=Display!$T$10,'Lux4-sept'!$A$8=Display!$B$7,'Lux4-sept'!$A$148=Display!$B$9,'Lux4-sept'!$A$149=Display!$B$11,'Lux4-sept'!$A$171=Display!$B$13),Display!$D7,)","v":0},{"$f":"IF(AND(T$8=Display!$T$10,'Lux4-sept'!$A$8=Display!$B$7,'Lux4-sept'!$A$148=Display!$B$9,'Lux4-sept'!$A$149=Display!$B$11,'Lux4-sept'!$A$171=Display!$B$13),Display!$D7,)","v":0},{"$f":"IF(AND(U$8=Display!$T$10,'Lux4-sept'!$A$8=Display!$B$7,'Lux4-sept'!$A$148=Display!$B$9,'Lux4-sept'!$A$149=Display!$B$11,'Lux4-sept'!$A$171=Display!$B$13),Display!$D7,)","v":0},{"$f":"IF(AND(V$8=Display!$T$10,'Lux4-sept'!$A$8=Display!$B$7,'Lux4-sept'!$A$148=Display!$B$9,'Lux4-sept'!$A$149=Display!$B$11,'Lux4-sept'!$A$171=Display!$B$13),Display!$D7,)","v":0},{"$f":"IF(AND(W$8=Display!$T$10,'Lux4-sept'!$A$8=Display!$B$7,'Lux4-sept'!$A$148=Display!$B$9,'Lux4-sept'!$A$149=Display!$B$11,'Lux4-sept'!$A$171=Display!$B$13),Display!$D7,)","v":0},{"$f":"IF(AND(X$8=Display!$T$10,'Lux4-sept'!$A$8=Display!$B$7,'Lux4-sept'!$A$148=Display!$B$9,'Lux4-sept'!$A$149=Display!$B$11,'Lux4-sept'!$A$171=Display!$B$13),Display!$D7,)","v":0},{"$f":"IF(AND(Y$8=Display!$T$10,'Lux4-sept'!$A$8=Display!$B$7,'Lux4-sept'!$A$148=Display!$B$9,'Lux4-sept'!$A$149=Display!$B$11,'Lux4-sept'!$A$171=Display!$B$13),Display!$D7,)","v":0},{"$f":"IF(AND(Z$8=Display!$T$10,'Lux4-sept'!$A$8=Display!$B$7,'Lux4-sept'!$A$148=Display!$B$9,'Lux4-sept'!$A$149=Display!$B$11,'Lux4-sept'!$A$171=Display!$B$13),Display!$D7,)","v":0},{"$f":"IF(AND(AA$8=Display!$T$10,'Lux4-sept'!$A$8=Display!$B$7,'Lux4-sept'!$A$148=Display!$B$9,'Lux4-sept'!$A$149=Display!$B$11,'Lux4-sept'!$A$171=Display!$B$13),Display!$D7,)","v":0},{"$f":"IF(AND(AB$8=Display!$T$10,'Lux4-sept'!$A$8=Display!$B$7,'Lux4-sept'!$A$148=Display!$B$9,'Lux4-sept'!$A$149=Display!$B$11,'Lux4-sept'!$A$171=Display!$B$13),Display!$D7,)","v":0},{"$f":"IF(AND(AC$8=Display!$T$10,'Lux4-sept'!$A$8=Display!$B$7,'Lux4-sept'!$A$148=Display!$B$9,'Lux4-sept'!$A$149=Display!$B$11,'Lux4-sept'!$A$171=Display!$B$13),Display!$D7,)","v":0},{"$f":"IF(AND(AD$8=Display!$T$10,'Lux4-sept'!$A$8=Display!$B$7,'Lux4-sept'!$A$148=Display!$B$9,'Lux4-sept'!$A$149=Display!$B$11,'Lux4-sept'!$A$171=Display!$B$13),Display!$D7,)","v":0},{"$f":"IF(AND(AE$8=Display!$T$10,'Lux4-sept'!$A$8=Display!$B$7,'Lux4-sept'!$A$148=Display!$B$9,'Lux4-sept'!$A$149=Display!$B$11,'Lux4-sept'!$A$171=Display!$B$13),Display!$D7,)","v":0},{"$f":"IF(AND(AF$8=Display!$T$10,'Lux4-sept'!$A$8=Display!$B$7,'Lux4-sept'!$A$148=Display!$B$9,'Lux4-sept'!$A$149=Display!$B$11,'Lux4-sept'!$A$171=Display!$B$13),Display!$D7,)","v":0},null,null,0]
["Tables nettoyées",{"$f":"IF(AND(B$8=Display!$T$10,'Lux4-sept'!$A$8=Display!$B$7,'Lux4-sept'!$A$148=Display!$B$9,'Lux4-sept'!$A$149=Display!$B$11,'Lux4-sept'!$A$171=Display!$B$13),Display!$D8,)","v":0},{"$f":"IF(AND(C$8=Display!$T$10,'Lux4-sept'!$A$8=Display!$B$7,'Lux4-sept'!$A$148=Display!$B$9,'Lux4-sept'!$A$149=Display!$B$11,'Lux4-sept'!$A$171=Display!$B$13),Display!$D8,)","v":0},{"$f":"IF(AND(D$8=Display!$T$10,'Lux4-sept'!$A$8=Display!$B$7,'Lux4-sept'!$A$148=Display!$B$9,'Lux4-sept'!$A$149=Display!$B$11,'Lux4-sept'!$A$171=Display!$B$13),Display!$D8,)","v":0},{"$f":"IF(AND(E$8=Display!$T$10,'Lux4-sept'!$A$8=Display!$B$7,'Lux4-sept'!$A$148=Display!$B$9,'Lux4-sept'!$A$149=Display!$B$11,'Lux4-sept'!$A$171=Display!$B$13),Display!$D8,)","v":0},{"$f":"IF(AND(F$8=Display!$T$10,'Lux4-sept'!$A$8=Display!$B$7,'Lux4-sept'!$A$148=Display!$B$9,'Lux4-sept'!$A$149=Display!$B$11,'Lux4-sept'!$A$171=Display!$B$13),Display!$D8,)","v":0},{"$f":"IF(AND(G$8=Display!$T$10,'Lux4-sept'!$A$8=Display!$B$7,'Lux4-sept'!$A$148=Display!$B$9,'Lux4-sept'!$A$149=Display!$B$11,'Lux4-sept'!$A$171=Display!$B$13),Display!$D8,)","v":0},{"$f":"IF(AND(H$8=Display!$T$10,'Lux4-sept'!$A$8=Display!$B$7,'Lux4-sept'!$A$148=Display!$B$9,'Lux4-sept'!$A$149=Display!$B$11,'Lux4-sept'!$A$171=Display!$B$13),Display!$D8,)","v":0},{"$f":"IF(AND(I$8=Display!$T$10,'Lux4-sept'!$A$8=Display!$B$7,'Lux4-sept'!$A$148=Display!$B$9,'Lux4-sept'!$A$149=Display!$B$11,'Lux4-sept'!$A$171=Display!$B$13),Display!$D8,)","v":0},{"$f":"IF(AND(J$8=Display!$T$10,'Lux4-sept'!$A$8=Display!$B$7,'Lux4-sept'!$A$148=Display!$B$9,'Lux4-sept'!$A$149=Display!$B$11,'Lux4-sept'!$A$171=Display!$B$13),Display!$D8,)","v":0},{"$f":"IF(AND(K$8=Display!$T$10,'Lux4-sept'!$A$8=Display!$B$7,'Lux4-sept'!$A$148=Display!$B$9,'Lux4-sept'!$A$149=Display!$B$11,'Lux4-sept'!$A$171=Display!$B$13),Display!$D8,)","v":0},{"$f":"IF(AND(L$8=Display!$T$10,'Lux4-sept'!$A$8=Display!$B$7,'Lux4-sept'!$A$148=Display!$B$9,'Lux4-sept'!$A$149=Display!$B$11,'Lux4-sept'!$A$171=Display!$B$13),Display!$D8,)","v":0},{"$f":"IF(AND(M$8=Display!$T$10,'Lux4-sept'!$A$8=Display!$B$7,'Lux4-sept'!$A$148=Display!$B$9,'Lux4-sept'!$A$149=Display!$B$11,'Lux4-sept'!$A$171=Display!$B$13),Display!$D8,)","v":0},{"$f":"IF(AND(N$8=Display!$T$10,'Lux4-sept'!$A$8=Display!$B$7,'Lux4-sept'!$A$148=Display!$B$9,'Lux4-sept'!$A$149=Display!$B$11,'Lux4-sept'!$A$171=Display!$B$13),Display!$D8,)","v":0},{"$f":"IF(AND(O$8=Display!$T$10,'Lux4-sept'!$A$8=Display!$B$7,'Lux4-sept'!$A$148=Display!$B$9,'Lux4-sept'!$A$149=Display!$B$11,'Lux4-sept'!$A$171=Display!$B$13),Display!$D8,)","v":0},{"$f":"IF(AND(P$8=Display!$T$10,'Lux4-sept'!$A$8=Display!$B$7,'Lux4-sept'!$A$148=Display!$B$9,'Lux4-sept'!$A$149=Display!$B$11,'Lux4-sept'!$A$171=Display!$B$13),Display!$D8,)","v":0},{"$f":"IF(AND(Q$8=Display!$T$10,'Lux4-sept'!$A$8=Display!$B$7,'Lux4-sept'!$A$148=Display!$B$9,'Lux4-sept'!$A$149=Display!$B$11,'Lux4-sept'!$A$171=Display!$B$13),Display!$D8,)","v":0},{"$f":"IF(AND(R$8=Display!$T$10,'Lux4-sept'!$A$8=Display!$B$7,'Lux4-sept'!$A$148=Display!$B$9,'Lux4-sept'!$A$149=Display!$B$11,'Lux4-sept'!$A$171=Display!$B$13),Display!$D8,)","v":0},{"$f":"IF(AND(S$8=Display!$T$10,'Lux4-sept'!$A$8=Display!$B$7,'Lux4-sept'!$A$148=Display!$B$9,'Lux4-sept'!$A$149=Display!$B$11,'Lux4-sept'!$A$171=Display!$B$13),Display!$D8,)","v":0},{"$f":"IF(AND(T$8=Display!$T$10,'Lux4-sept'!$A$8=Display!$B$7,'Lux4-sept'!$A$148=Display!$B$9,'Lux4-sept'!$A$149=Display!$B$11,'Lux4-sept'!$A$171=Display!$B$13),Display!$D8,)","v":0},{"$f":"IF(AND(U$8=Display!$T$10,'Lux4-sept'!$A$8=Display!$B$7,'Lux4-sept'!$A$148=Display!$B$9,'Lux4-sept'!$A$149=Display!$B$11,'Lux4-sept'!$A$171=Display!$B$13),Display!$D8,)","v":0},{"$f":"IF(AND(V$8=Display!$T$10,'Lux4-sept'!$A$8=Display!$B$7,'Lux4-sept'!$A$148=Display!$B$9,'Lux4-sept'!$A$149=Display!$B$11,'Lux4-sept'!$A$171=Display!$B$13),Display!$D8,)","v":0},{"$f":"IF(AND(W$8=Display!$T$10,'Lux4-sept'!$A$8=Display!$B$7,'Lux4-sept'!$A$148=Display!$B$9,'Lux4-sept'!$A$149=Display!$B$11,'Lux4-sept'!$A$171=Display!$B$13),Display!$D8,)","v":0},{"$f":"IF(AND(X$8=Display!$T$10,'Lux4-sept'!$A$8=Display!$B$7,'Lux4-sept'!$A$148=Display!$B$9,'Lux4-sept'!$A$149=Display!$B$11,'Lux4-sept'!$A$171=Display!$B$13),Display!$D8,)","v":0},{"$f":"IF(AND(Y$8=Display!$T$10,'Lux4-sept'!$A$8=Display!$B$7,'Lux4-sept'!$A$148=Display!$B$9,'Lux4-sept'!$A$149=Display!$B$11,'Lux4-sept'!$A$171=Display!$B$13),Display!$D8,)","v":0},{"$f":"IF(AND(Z$8=Display!$T$10,'Lux4-sept'!$A$8=Display!$B$7,'Lux4-sept'!$A$148=Display!$B$9,'Lux4-sept'!$A$149=Display!$B$11,'Lux4-sept'!$A$171=Display!$B$13),Display!$D8,)","v":0},{"$f":"IF(AND(AA$8=Display!$T$10,'Lux4-sept'!$A$8=Display!$B$7,'Lux4-sept'!$A$148=Display!$B$9,'Lux4-sept'!$A$149=Display!$B$11,'Lux4-sept'!$A$171=Display!$B$13),Display!$D8,)","v":0},{"$f":"IF(AND(AB$8=Display!$T$10,'Lux4-sept'!$A$8=Display!$B$7,'Lux4-sept'!$A$148=Display!$B$9,'Lux4-sept'!$A$149=Display!$B$11,'Lux4-sept'!$A$171=Display!$B$13),Display!$D8,)","v":0},{"$f":"IF(AND(AC$8=Display!$T$10,'Lux4-sept'!$A$8=Display!$B$7,'Lux4-sept'!$A$148=Display!$B$9,'Lux4-sept'!$A$149=Display!$B$11,'Lux4-sept'!$A$171=Display!$B$13),Display!$D8,)","v":0},{"$f":"IF(AND(AD$8=Display!$T$10,'Lux4-sept'!$A$8=Display!$B$7,'Lux4-sept'!$A$148=Display!$B$9,'Lux4-sept'!$A$149=Display!$B$11,'Lux4-sept'!$A$171=Display!$B$13),Display!$D8,)","v":0},{"$f":"IF(AND(AE$8=Display!$T$10,'Lux4-sept'!$A$8=Display!$B$7,'Lux4-sept'!$A$148=Display!$B$9,'Lux4-sept'!$A$149=Display!$B$11,'Lux4-sept'!$A$171=Display!$B$13),Display!$D8,)","v":0},{"$f":"IF(AND(AF$8=Display!$T$10,'Lux4-sept'!$A$8=Display!$B$7,'Lux4-sept'!$A$148=Display!$B$9,'Lux4-sept'!$A$149=Display!$B$11,'Lux4-sept'!$A$171=Display!$B$13),Display!$D8,)","v":0},null,null,0]
["MOYENNE",{"$f":"((IF((SUM(B172:B176))<>0,(SUM(B172:B176)),0))/(IF((SUM((IF(B172<>0,3,0)),(IF(B173<>0,3,0)),(IF(B174<>0,3,0)),(IF(B175<>0,3,0)),(IF(B176<>0,3,0))))<>0,((SUM((IF(B172<>0,3,0)),(IF(B173<>0,3,0)),(IF(B174<>0,3,0)),(IF(B175<>0,3,0)),(IF(B176<>0,3,0))))),1)))","v":0},{"$f":"((IF((SUM(C172:C176))<>0,(SUM(C172:C176)),0))/(IF((SUM((IF(C172<>0,3,0)),(IF(C173<>0,3,0)),(IF(C174<>0,3,0)),(IF(C175<>0,3,0)),(IF(C176<>0,3,0))))<>0,((SUM((IF(C172<>0,3,0)),(IF(C173<>0,3,0)),(IF(C174<>0,3,0)),(IF(C175<>0,3,0)),(IF(C176<>0,3,0))))),1)))","v":0},0,0,0,0,0,0,0,0,0,0,0,0,0,0,0,0,0,0,0,0,0,0,0,0,0,0,0,0,0,0,0]
["Soir"]
[".01"]
["Fourniture (café, lait, thé, sucre, choc., Serviettes",{"$f":"IF(AND(B$8=Display!$T$10,'Lux4-sept'!$A$8=Display!$B$7,'Lux4-sept'!$A$148=Display!$B$9,'Lux4-sept'!$A$178=Display!$B$11,'Lux4-sept'!$A$179=Display!$B$13),Display!$D4,)","v":0},{"$f":"IF(AND(C$8=Display!$T$10,'Lux4-sept'!$A$8=Display!$B$7,'Lux4-sept'!$A$148=Display!$B$9,'Lux4-sept'!$A$178=Display!$B$11,'Lux4-sept'!$A$179=Display!$B$13),Display!$D4,)","v":0},{"$f":"IF(AND(D$8=Display!$T$10,'Lux4-sept'!$A$8=Display!$B$7,'Lux4-sept'!$A$148=Display!$B$9,'Lux4-sept'!$A$178=Display!$B$11,'Lux4-sept'!$A$179=Display!$B$13),Display!$D4,)","v":0},{"$f":"IF(AND(E$8=Display!$T$10,'Lux4-sept'!$A$8=Display!$B$7,'Lux4-sept'!$A$148=Display!$B$9,'Lux4-sept'!$A$178=Display!$B$11,'Lux4-sept'!$A$179=Display!$B$13),Display!$D4,)","v":0},{"$f":"IF(AND(F$8=Display!$T$10,'Lux4-sept'!$A$8=Display!$B$7,'Lux4-sept'!$A$148=Display!$B$9,'Lux4-sept'!$A$178=Display!$B$11,'Lux4-sept'!$A$179=Display!$B$13),Display!$D4,)","v":0},{"$f":"IF(AND(G$8=Display!$T$10,'Lux4-sept'!$A$8=Display!$B$7,'Lux4-sept'!$A$148=Display!$B$9,'Lux4-sept'!$A$178=Display!$B$11,'Lux4-sept'!$A$179=Display!$B$13),Display!$D4,)","v":0},{"$f":"IF(AND(H$8=Display!$T$10,'Lux4-sept'!$A$8=Display!$B$7,'Lux4-sept'!$A$148=Display!$B$9,'Lux4-sept'!$A$178=Display!$B$11,'Lux4-sept'!$A$179=Display!$B$13),Display!$D4,)","v":0},{"$f":"IF(AND(I$8=Display!$T$10,'Lux4-sept'!$A$8=Display!$B$7,'Lux4-sept'!$A$148=Display!$B$9,'Lux4-sept'!$A$178=Display!$B$11,'Lux4-sept'!$A$179=Display!$B$13),Display!$D4,)","v":0},{"$f":"IF(AND(J$8=Display!$T$10,'Lux4-sept'!$A$8=Display!$B$7,'Lux4-sept'!$A$148=Display!$B$9,'Lux4-sept'!$A$178=Display!$B$11,'Lux4-sept'!$A$179=Display!$B$13),Display!$D4,)","v":0},{"$f":"IF(AND(K$8=Display!$T$10,'Lux4-sept'!$A$8=Display!$B$7,'Lux4-sept'!$A$148=Display!$B$9,'Lux4-sept'!$A$178=Display!$B$11,'Lux4-sept'!$A$179=Display!$B$13),Display!$D4,)","v":0},{"$f":"IF(AND(L$8=Display!$T$10,'Lux4-sept'!$A$8=Display!$B$7,'Lux4-sept'!$A$148=Display!$B$9,'Lux4-sept'!$A$178=Display!$B$11,'Lux4-sept'!$A$179=Display!$B$13),Display!$D4,)","v":0},{"$f":"IF(AND(M$8=Display!$T$10,'Lux4-sept'!$A$8=Display!$B$7,'Lux4-sept'!$A$148=Display!$B$9,'Lux4-sept'!$A$178=Display!$B$11,'Lux4-sept'!$A$179=Display!$B$13),Display!$D4,)","v":0},{"$f":"IF(AND(N$8=Display!$T$10,'Lux4-sept'!$A$8=Display!$B$7,'Lux4-sept'!$A$148=Display!$B$9,'Lux4-sept'!$A$178=Display!$B$11,'Lux4-sept'!$A$179=Display!$B$13),Display!$D4,)","v":0},{"$f":"IF(AND(O$8=Display!$T$10,'Lux4-sept'!$A$8=Display!$B$7,'Lux4-sept'!$A$148=Display!$B$9,'Lux4-sept'!$A$178=Display!$B$11,'Lux4-sept'!$A$179=Display!$B$13),Display!$D4,)","v":0},{"$f":"IF(AND(P$8=Display!$T$10,'Lux4-sept'!$A$8=Display!$B$7,'Lux4-sept'!$A$148=Display!$B$9,'Lux4-sept'!$A$178=Display!$B$11,'Lux4-sept'!$A$179=Display!$B$13),Display!$D4,)","v":0},{"$f":"IF(AND(Q$8=Display!$T$10,'Lux4-sept'!$A$8=Display!$B$7,'Lux4-sept'!$A$148=Display!$B$9,'Lux4-sept'!$A$178=Display!$B$11,'Lux4-sept'!$A$179=Display!$B$13),Display!$D4,)","v":0},{"$f":"IF(AND(R$8=Display!$T$10,'Lux4-sept'!$A$8=Display!$B$7,'Lux4-sept'!$A$148=Display!$B$9,'Lux4-sept'!$A$178=Display!$B$11,'Lux4-sept'!$A$179=Display!$B$13),Display!$D4,)","v":0},{"$f":"IF(AND(S$8=Display!$T$10,'Lux4-sept'!$A$8=Display!$B$7,'Lux4-sept'!$A$148=Display!$B$9,'Lux4-sept'!$A$178=Display!$B$11,'Lux4-sept'!$A$179=Display!$B$13),Display!$D4,)","v":0},{"$f":"IF(AND(T$8=Display!$T$10,'Lux4-sept'!$A$8=Display!$B$7,'Lux4-sept'!$A$148=Display!$B$9,'Lux4-sept'!$A$178=Display!$B$11,'Lux4-sept'!$A$179=Display!$B$13),Display!$D4,)","v":0},{"$f":"IF(AND(U$8=Display!$T$10,'Lux4-sept'!$A$8=Display!$B$7,'Lux4-sept'!$A$148=Display!$B$9,'Lux4-sept'!$A$178=Display!$B$11,'Lux4-sept'!$A$179=Display!$B$13),Display!$D4,)","v":0},{"$f":"IF(AND(V$8=Display!$T$10,'Lux4-sept'!$A$8=Display!$B$7,'Lux4-sept'!$A$148=Display!$B$9,'Lux4-sept'!$A$178=Display!$B$11,'Lux4-sept'!$A$179=Display!$B$13),Display!$D4,)","v":0},{"$f":"IF(AND(W$8=Display!$T$10,'Lux4-sept'!$A$8=Display!$B$7,'Lux4-sept'!$A$148=Display!$B$9,'Lux4-sept'!$A$178=Display!$B$11,'Lux4-sept'!$A$179=Display!$B$13),Display!$D4,)","v":0},{"$f":"IF(AND(X$8=Display!$T$10,'Lux4-sept'!$A$8=Display!$B$7,'Lux4-sept'!$A$148=Display!$B$9,'Lux4-sept'!$A$178=Display!$B$11,'Lux4-sept'!$A$179=Display!$B$13),Display!$D4,)","v":0},{"$f":"IF(AND(Y$8=Display!$T$10,'Lux4-sept'!$A$8=Display!$B$7,'Lux4-sept'!$A$148=Display!$B$9,'Lux4-sept'!$A$178=Display!$B$11,'Lux4-sept'!$A$179=Display!$B$13),Display!$D4,)","v":0},{"$f":"IF(AND(Z$8=Display!$T$10,'Lux4-sept'!$A$8=Display!$B$7,'Lux4-sept'!$A$148=Display!$B$9,'Lux4-sept'!$A$178=Display!$B$11,'Lux4-sept'!$A$179=Display!$B$13),Display!$D4,)","v":0},{"$f":"IF(AND(AA$8=Display!$T$10,'Lux4-sept'!$A$8=Display!$B$7,'Lux4-sept'!$A$148=Display!$B$9,'Lux4-sept'!$A$178=Display!$B$11,'Lux4-sept'!$A$179=Display!$B$13),Display!$D4,)","v":0},{"$f":"IF(AND(AB$8=Display!$T$10,'Lux4-sept'!$A$8=Display!$B$7,'Lux4-sept'!$A$148=Display!$B$9,'Lux4-sept'!$A$178=Display!$B$11,'Lux4-sept'!$A$179=Display!$B$13),Display!$D4,)","v":0},{"$f":"IF(AND(AC$8=Display!$T$10,'Lux4-sept'!$A$8=Display!$B$7,'Lux4-sept'!$A$148=Display!$B$9,'Lux4-sept'!$A$178=Display!$B$11,'Lux4-sept'!$A$179=Display!$B$13),Display!$D4,)","v":0},{"$f":"IF(AND(AD$8=Display!$T$10,'Lux4-sept'!$A$8=Display!$B$7,'Lux4-sept'!$A$148=Display!$B$9,'Lux4-sept'!$A$178=Display!$B$11,'Lux4-sept'!$A$179=Display!$B$13),Display!$D4,)","v":0},{"$f":"IF(AND(AE$8=Display!$T$10,'Lux4-sept'!$A$8=Display!$B$7,'Lux4-sept'!$A$148=Display!$B$9,'Lux4-sept'!$A$178=Display!$B$11,'Lux4-sept'!$A$179=Display!$B$13),Display!$D4,)","v":0},{"$f":"IF(AND(AF$8=Display!$T$10,'Lux4-sept'!$A$8=Display!$B$7,'Lux4-sept'!$A$148=Display!$B$9,'Lux4-sept'!$A$178=Display!$B$11,'Lux4-sept'!$A$179=Display!$B$13),Display!$D4,)","v":0},null,null,{"$f":"((IF((SUM(B180:AF180))<>0,(SUM(B180:AF180)),0))/(IF((SUM((IF(B180<>0,3,0)),(IF(C180<>0,3,0)),(IF(D180<>0,3,0)),(IF(E180<>0,3,0)),(IF(F180<>0,3,0)),(IF(F180<>0,3,0)),(IF(F180<>0,3,0)),(IF(G180<>0,3,0)),(IF(H180<>0,3,0)),(IF(I180<>0,3,0)),(IF(J180<>0,3,0)),(IF(K180<>0,3,0)),(IF(L180<>0,3,0)),(IF(M180<>0,3,0)),(IF(N180<>0,3,0)),(IF(O180<>0,3,0)),(IF(P180<>0,3,0)),(IF(Q180<>0,3,0)),(IF(R180<>0,3,0)),(IF(S180<>0,3,0)),(IF(T180<>0,3,0)),(IF(U180<>0,3,0)),(IF(V180<>0,3,0)),(IF(W180<>0,3,0)),(IF(X180<>0,3,0)),(IF(Y180<>0,3,0)),(IF(Z180<>0,3,0)),(IF(AA180<>0,3,0)),(IF(AB180<>0,3,0)),(IF(AC180<>0,3,0)),(IF(AD180<>0,3,0)),(IF(AE180<>0,3,0)),(IF(AF180<>0,3,0))))<>0,((SUM((IF(B180<>0,3,0)),(IF(C180<>0,3,0)),(IF(D180<>0,3,0)),(IF(E180<>0,3,0)),(IF(F180<>0,3,0)),(IF(F180<>0,3,0)),(IF(F180<>0,3,0)),(IF(G180<>0,3,0)),(IF(H180<>0,3,0)),(IF(I180<>0,3,0)),(IF(J180<>0,3,0)),(IF(K180<>0,3,0)),(IF(L180<>0,3,0)),(IF(M180<>0,3,0)),(IF(N180<>0,3,0)),(IF(O180<>0,3,0)),(IF(P180<>0,3,0)),(IF(Q180<>0,3,0)),(IF(R180<>0,3,0)),(IF(S180<>0,3,0)),(IF(T180<>0,3,0)),(IF(U180<>0,3,0)),(IF(V180<>0,3,0)),(IF(W180<>0,3,0)),(IF(X180<>0,3,0)),(IF(Y180<>0,3,0)),(IF(Z180<>0,3,0)),(IF(AA180<>0,3,0)),(IF(AB180<>0,3,0)),(IF(AC180<>0,3,0)),(IF(AD180<>0,3,0)),(IF(AE180<>0,3,0)),(IF(AF180<>0,3,0))))),1)))","v":0}]
["Recyclage des capsules Nespresso",{"$f":"IF(AND(B$8=Display!$T$10,'Lux4-sept'!$A$8=Display!$B$7,'Lux4-sept'!$A$148=Display!$B$9,'Lux4-sept'!$A$178=Display!$B$11,'Lux4-sept'!$A$179=Display!$B$13),Display!$D5,)","v":0},{"$f":"IF(AND(C$8=Display!$T$10,'Lux4-sept'!$A$8=Display!$B$7,'Lux4-sept'!$A$148=Display!$B$9,'Lux4-sept'!$A$178=Display!$B$11,'Lux4-sept'!$A$179=Display!$B$13),Display!$D5,)","v":0},{"$f":"IF(AND(D$8=Display!$T$10,'Lux4-sept'!$A$8=Display!$B$7,'Lux4-sept'!$A$148=Display!$B$9,'Lux4-sept'!$A$178=Display!$B$11,'Lux4-sept'!$A$179=Display!$B$13),Display!$D5,)","v":0},{"$f":"IF(AND(E$8=Display!$T$10,'Lux4-sept'!$A$8=Display!$B$7,'Lux4-sept'!$A$148=Display!$B$9,'Lux4-sept'!$A$178=Display!$B$11,'Lux4-sept'!$A$179=Display!$B$13),Display!$D5,)","v":0},{"$f":"IF(AND(F$8=Display!$T$10,'Lux4-sept'!$A$8=Display!$B$7,'Lux4-sept'!$A$148=Display!$B$9,'Lux4-sept'!$A$178=Display!$B$11,'Lux4-sept'!$A$179=Display!$B$13),Display!$D5,)","v":0},{"$f":"IF(AND(G$8=Display!$T$10,'Lux4-sept'!$A$8=Display!$B$7,'Lux4-sept'!$A$148=Display!$B$9,'Lux4-sept'!$A$178=Display!$B$11,'Lux4-sept'!$A$179=Display!$B$13),Display!$D5,)","v":0},{"$f":"IF(AND(H$8=Display!$T$10,'Lux4-sept'!$A$8=Display!$B$7,'Lux4-sept'!$A$148=Display!$B$9,'Lux4-sept'!$A$178=Display!$B$11,'Lux4-sept'!$A$179=Display!$B$13),Display!$D5,)","v":0},{"$f":"IF(AND(I$8=Display!$T$10,'Lux4-sept'!$A$8=Display!$B$7,'Lux4-sept'!$A$148=Display!$B$9,'Lux4-sept'!$A$178=Display!$B$11,'Lux4-sept'!$A$179=Display!$B$13),Display!$D5,)","v":0},{"$f":"IF(AND(J$8=Display!$T$10,'Lux4-sept'!$A$8=Display!$B$7,'Lux4-sept'!$A$148=Display!$B$9,'Lux4-sept'!$A$178=Display!$B$11,'Lux4-sept'!$A$179=Display!$B$13),Display!$D5,)","v":0},{"$f":"IF(AND(K$8=Display!$T$10,'Lux4-sept'!$A$8=Display!$B$7,'Lux4-sept'!$A$148=Display!$B$9,'Lux4-sept'!$A$178=Display!$B$11,'Lux4-sept'!$A$179=Display!$B$13),Display!$D5,)","v":0},{"$f":"IF(AND(L$8=Display!$T$10,'Lux4-sept'!$A$8=Display!$B$7,'Lux4-sept'!$A$148=Display!$B$9,'Lux4-sept'!$A$178=Display!$B$11,'Lux4-sept'!$A$179=Display!$B$13),Display!$D5,)","v":0},{"$f":"IF(AND(M$8=Display!$T$10,'Lux4-sept'!$A$8=Display!$B$7,'Lux4-sept'!$A$148=Display!$B$9,'Lux4-sept'!$A$178=Display!$B$11,'Lux4-sept'!$A$179=Display!$B$13),Display!$D5,)","v":0},{"$f":"IF(AND(N$8=Display!$T$10,'Lux4-sept'!$A$8=Display!$B$7,'Lux4-sept'!$A$148=Display!$B$9,'Lux4-sept'!$A$178=Display!$B$11,'Lux4-sept'!$A$179=Display!$B$13),Display!$D5,)","v":0},{"$f":"IF(AND(O$8=Display!$T$10,'Lux4-sept'!$A$8=Display!$B$7,'Lux4-sept'!$A$148=Display!$B$9,'Lux4-sept'!$A$178=Display!$B$11,'Lux4-sept'!$A$179=Display!$B$13),Display!$D5,)","v":0},{"$f":"IF(AND(P$8=Display!$T$10,'Lux4-sept'!$A$8=Display!$B$7,'Lux4-sept'!$A$148=Display!$B$9,'Lux4-sept'!$A$178=Display!$B$11,'Lux4-sept'!$A$179=Display!$B$13),Display!$D5,)","v":0},{"$f":"IF(AND(Q$8=Display!$T$10,'Lux4-sept'!$A$8=Display!$B$7,'Lux4-sept'!$A$148=Display!$B$9,'Lux4-sept'!$A$178=Display!$B$11,'Lux4-sept'!$A$179=Display!$B$13),Display!$D5,)","v":0},{"$f":"IF(AND(R$8=Display!$T$10,'Lux4-sept'!$A$8=Display!$B$7,'Lux4-sept'!$A$148=Display!$B$9,'Lux4-sept'!$A$178=Display!$B$11,'Lux4-sept'!$A$179=Display!$B$13),Display!$D5,)","v":0},{"$f":"IF(AND(S$8=Display!$T$10,'Lux4-sept'!$A$8=Display!$B$7,'Lux4-sept'!$A$148=Display!$B$9,'Lux4-sept'!$A$178=Display!$B$11,'Lux4-sept'!$A$179=Display!$B$13),Display!$D5,)","v":0},{"$f":"IF(AND(T$8=Display!$T$10,'Lux4-sept'!$A$8=Display!$B$7,'Lux4-sept'!$A$148=Display!$B$9,'Lux4-sept'!$A$178=Display!$B$11,'Lux4-sept'!$A$179=Display!$B$13),Display!$D5,)","v":0},{"$f":"IF(AND(U$8=Display!$T$10,'Lux4-sept'!$A$8=Display!$B$7,'Lux4-sept'!$A$148=Display!$B$9,'Lux4-sept'!$A$178=Display!$B$11,'Lux4-sept'!$A$179=Display!$B$13),Display!$D5,)","v":0},{"$f":"IF(AND(V$8=Display!$T$10,'Lux4-sept'!$A$8=Display!$B$7,'Lux4-sept'!$A$148=Display!$B$9,'Lux4-sept'!$A$178=Display!$B$11,'Lux4-sept'!$A$179=Display!$B$13),Display!$D5,)","v":0},{"$f":"IF(AND(W$8=Display!$T$10,'Lux4-sept'!$A$8=Display!$B$7,'Lux4-sept'!$A$148=Display!$B$9,'Lux4-sept'!$A$178=Display!$B$11,'Lux4-sept'!$A$179=Display!$B$13),Display!$D5,)","v":0},{"$f":"IF(AND(X$8=Display!$T$10,'Lux4-sept'!$A$8=Display!$B$7,'Lux4-sept'!$A$148=Display!$B$9,'Lux4-sept'!$A$178=Display!$B$11,'Lux4-sept'!$A$179=Display!$B$13),Display!$D5,)","v":0},{"$f":"IF(AND(Y$8=Display!$T$10,'Lux4-sept'!$A$8=Display!$B$7,'Lux4-sept'!$A$148=Display!$B$9,'Lux4-sept'!$A$178=Display!$B$11,'Lux4-sept'!$A$179=Display!$B$13),Display!$D5,)","v":0},{"$f":"IF(AND(Z$8=Display!$T$10,'Lux4-sept'!$A$8=Display!$B$7,'Lux4-sept'!$A$148=Display!$B$9,'Lux4-sept'!$A$178=Display!$B$11,'Lux4-sept'!$A$179=Display!$B$13),Display!$D5,)","v":0},{"$f":"IF(AND(AA$8=Display!$T$10,'Lux4-sept'!$A$8=Display!$B$7,'Lux4-sept'!$A$148=Display!$B$9,'Lux4-sept'!$A$178=Display!$B$11,'Lux4-sept'!$A$179=Display!$B$13),Display!$D5,)","v":0},{"$f":"IF(AND(AB$8=Display!$T$10,'Lux4-sept'!$A$8=Display!$B$7,'Lux4-sept'!$A$148=Display!$B$9,'Lux4-sept'!$A$178=Display!$B$11,'Lux4-sept'!$A$179=Display!$B$13),Display!$D5,)","v":0},{"$f":"IF(AND(AC$8=Display!$T$10,'Lux4-sept'!$A$8=Display!$B$7,'Lux4-sept'!$A$148=Display!$B$9,'Lux4-sept'!$A$178=Display!$B$11,'Lux4-sept'!$A$179=Display!$B$13),Display!$D5,)","v":0},{"$f":"IF(AND(AD$8=Display!$T$10,'Lux4-sept'!$A$8=Display!$B$7,'Lux4-sept'!$A$148=Display!$B$9,'Lux4-sept'!$A$178=Display!$B$11,'Lux4-sept'!$A$179=Display!$B$13),Display!$D5,)","v":0},{"$f":"IF(AND(AE$8=Display!$T$10,'Lux4-sept'!$A$8=Display!$B$7,'Lux4-sept'!$A$148=Display!$B$9,'Lux4-sept'!$A$178=Display!$B$11,'Lux4-sept'!$A$179=Display!$B$13),Display!$D5,)","v":0},{"$f":"IF(AND(AF$8=Display!$T$10,'Lux4-sept'!$A$8=Display!$B$7,'Lux4-sept'!$A$148=Display!$B$9,'Lux4-sept'!$A$178=Display!$B$11,'Lux4-sept'!$A$179=Display!$B$13),Display!$D5,)","v":0},null,null,{"$f":"((IF((SUM(B181:AF181))<>0,(SUM(B181:AF181)),0))/(IF((SUM((IF(B181<>0,3,0)),(IF(C181<>0,3,0)),(IF(D181<>0,3,0)),(IF(E181<>0,3,0)),(IF(F181<>0,3,0)),(IF(F181<>0,3,0)),(IF(F181<>0,3,0)),(IF(G181<>0,3,0)),(IF(H181<>0,3,0)),(IF(I181<>0,3,0)),(IF(J181<>0,3,0)),(IF(K181<>0,3,0)),(IF(L181<>0,3,0)),(IF(M181<>0,3,0)),(IF(N181<>0,3,0)),(IF(O181<>0,3,0)),(IF(P181<>0,3,0)),(IF(Q181<>0,3,0)),(IF(R181<>0,3,0)),(IF(S181<>0,3,0)),(IF(T181<>0,3,0)),(IF(U181<>0,3,0)),(IF(V181<>0,3,0)),(IF(W181<>0,3,0)),(IF(X181<>0,3,0)),(IF(Y181<>0,3,0)),(IF(Z181<>0,3,0)),(IF(AA181<>0,3,0)),(IF(AB181<>0,3,0)),(IF(AC181<>0,3,0)),(IF(AD181<>0,3,0)),(IF(AE181<>0,3,0)),(IF(AF181<>0,3,0))))<>0,((SUM((IF(B181<>0,3,0)),(IF(C181<>0,3,0)),(IF(D181<>0,3,0)),(IF(E181<>0,3,0)),(IF(F181<>0,3,0)),(IF(F181<>0,3,0)),(IF(F181<>0,3,0)),(IF(G181<>0,3,0)),(IF(H181<>0,3,0)),(IF(I181<>0,3,0)),(IF(J181<>0,3,0)),(IF(K181<>0,3,0)),(IF(L181<>0,3,0)),(IF(M181<>0,3,0)),(IF(N181<>0,3,0)),(IF(O181<>0,3,0)),(IF(P181<>0,3,0)),(IF(Q181<>0,3,0)),(IF(R181<>0,3,0)),(IF(S181<>0,3,0)),(IF(T181<>0,3,0)),(IF(U181<>0,3,0)),(IF(V181<>0,3,0)),(IF(W181<>0,3,0)),(IF(X181<>0,3,0)),(IF(Y181<>0,3,0)),(IF(Z181<>0,3,0)),(IF(AA181<>0,3,0)),(IF(AB181<>0,3,0)),(IF(AC181<>0,3,0)),(IF(AD181<>0,3,0)),(IF(AE181<>0,3,0)),(IF(AF181<>0,3,0))))),1)))","v":0}]
["Propreté du micro onde",{"$f":"IF(AND(B$8=Display!$T$10,'Lux4-sept'!$A$8=Display!$B$7,'Lux4-sept'!$A$148=Display!$B$9,'Lux4-sept'!$A$178=Display!$B$11,'Lux4-sept'!$A$179=Display!$B$13),Display!$D6,)","v":0},{"$f":"IF(AND(C$8=Display!$T$10,'Lux4-sept'!$A$8=Display!$B$7,'Lux4-sept'!$A$148=Display!$B$9,'Lux4-sept'!$A$178=Display!$B$11,'Lux4-sept'!$A$179=Display!$B$13),Display!$D6,)","v":0},{"$f":"IF(AND(D$8=Display!$T$10,'Lux4-sept'!$A$8=Display!$B$7,'Lux4-sept'!$A$148=Display!$B$9,'Lux4-sept'!$A$178=Display!$B$11,'Lux4-sept'!$A$179=Display!$B$13),Display!$D6,)","v":0},{"$f":"IF(AND(E$8=Display!$T$10,'Lux4-sept'!$A$8=Display!$B$7,'Lux4-sept'!$A$148=Display!$B$9,'Lux4-sept'!$A$178=Display!$B$11,'Lux4-sept'!$A$179=Display!$B$13),Display!$D6,)","v":0},{"$f":"IF(AND(F$8=Display!$T$10,'Lux4-sept'!$A$8=Display!$B$7,'Lux4-sept'!$A$148=Display!$B$9,'Lux4-sept'!$A$178=Display!$B$11,'Lux4-sept'!$A$179=Display!$B$13),Display!$D6,)","v":0},{"$f":"IF(AND(G$8=Display!$T$10,'Lux4-sept'!$A$8=Display!$B$7,'Lux4-sept'!$A$148=Display!$B$9,'Lux4-sept'!$A$178=Display!$B$11,'Lux4-sept'!$A$179=Display!$B$13),Display!$D6,)","v":0},{"$f":"IF(AND(H$8=Display!$T$10,'Lux4-sept'!$A$8=Display!$B$7,'Lux4-sept'!$A$148=Display!$B$9,'Lux4-sept'!$A$178=Display!$B$11,'Lux4-sept'!$A$179=Display!$B$13),Display!$D6,)","v":0},{"$f":"IF(AND(I$8=Display!$T$10,'Lux4-sept'!$A$8=Display!$B$7,'Lux4-sept'!$A$148=Display!$B$9,'Lux4-sept'!$A$178=Display!$B$11,'Lux4-sept'!$A$179=Display!$B$13),Display!$D6,)","v":0},{"$f":"IF(AND(J$8=Display!$T$10,'Lux4-sept'!$A$8=Display!$B$7,'Lux4-sept'!$A$148=Display!$B$9,'Lux4-sept'!$A$178=Display!$B$11,'Lux4-sept'!$A$179=Display!$B$13),Display!$D6,)","v":0},{"$f":"IF(AND(K$8=Display!$T$10,'Lux4-sept'!$A$8=Display!$B$7,'Lux4-sept'!$A$148=Display!$B$9,'Lux4-sept'!$A$178=Display!$B$11,'Lux4-sept'!$A$179=Display!$B$13),Display!$D6,)","v":0},{"$f":"IF(AND(L$8=Display!$T$10,'Lux4-sept'!$A$8=Display!$B$7,'Lux4-sept'!$A$148=Display!$B$9,'Lux4-sept'!$A$178=Display!$B$11,'Lux4-sept'!$A$179=Display!$B$13),Display!$D6,)","v":0},{"$f":"IF(AND(M$8=Display!$T$10,'Lux4-sept'!$A$8=Display!$B$7,'Lux4-sept'!$A$148=Display!$B$9,'Lux4-sept'!$A$178=Display!$B$11,'Lux4-sept'!$A$179=Display!$B$13),Display!$D6,)","v":0},{"$f":"IF(AND(N$8=Display!$T$10,'Lux4-sept'!$A$8=Display!$B$7,'Lux4-sept'!$A$148=Display!$B$9,'Lux4-sept'!$A$178=Display!$B$11,'Lux4-sept'!$A$179=Display!$B$13),Display!$D6,)","v":0},{"$f":"IF(AND(O$8=Display!$T$10,'Lux4-sept'!$A$8=Display!$B$7,'Lux4-sept'!$A$148=Display!$B$9,'Lux4-sept'!$A$178=Display!$B$11,'Lux4-sept'!$A$179=Display!$B$13),Display!$D6,)","v":0},{"$f":"IF(AND(P$8=Display!$T$10,'Lux4-sept'!$A$8=Display!$B$7,'Lux4-sept'!$A$148=Display!$B$9,'Lux4-sept'!$A$178=Display!$B$11,'Lux4-sept'!$A$179=Display!$B$13),Display!$D6,)","v":0},{"$f":"IF(AND(Q$8=Display!$T$10,'Lux4-sept'!$A$8=Display!$B$7,'Lux4-sept'!$A$148=Display!$B$9,'Lux4-sept'!$A$178=Display!$B$11,'Lux4-sept'!$A$179=Display!$B$13),Display!$D6,)","v":0},{"$f":"IF(AND(R$8=Display!$T$10,'Lux4-sept'!$A$8=Display!$B$7,'Lux4-sept'!$A$148=Display!$B$9,'Lux4-sept'!$A$178=Display!$B$11,'Lux4-sept'!$A$179=Display!$B$13),Display!$D6,)","v":0},{"$f":"IF(AND(S$8=Display!$T$10,'Lux4-sept'!$A$8=Display!$B$7,'Lux4-sept'!$A$148=Display!$B$9,'Lux4-sept'!$A$178=Display!$B$11,'Lux4-sept'!$A$179=Display!$B$13),Display!$D6,)","v":0},{"$f":"IF(AND(T$8=Display!$T$10,'Lux4-sept'!$A$8=Display!$B$7,'Lux4-sept'!$A$148=Display!$B$9,'Lux4-sept'!$A$178=Display!$B$11,'Lux4-sept'!$A$179=Display!$B$13),Display!$D6,)","v":0},{"$f":"IF(AND(U$8=Display!$T$10,'Lux4-sept'!$A$8=Display!$B$7,'Lux4-sept'!$A$148=Display!$B$9,'Lux4-sept'!$A$178=Display!$B$11,'Lux4-sept'!$A$179=Display!$B$13),Display!$D6,)","v":0},{"$f":"IF(AND(V$8=Display!$T$10,'Lux4-sept'!$A$8=Display!$B$7,'Lux4-sept'!$A$148=Display!$B$9,'Lux4-sept'!$A$178=Display!$B$11,'Lux4-sept'!$A$179=Display!$B$13),Display!$D6,)","v":0},{"$f":"IF(AND(W$8=Display!$T$10,'Lux4-sept'!$A$8=Display!$B$7,'Lux4-sept'!$A$148=Display!$B$9,'Lux4-sept'!$A$178=Display!$B$11,'Lux4-sept'!$A$179=Display!$B$13),Display!$D6,)","v":0},{"$f":"IF(AND(X$8=Display!$T$10,'Lux4-sept'!$A$8=Display!$B$7,'Lux4-sept'!$A$148=Display!$B$9,'Lux4-sept'!$A$178=Display!$B$11,'Lux4-sept'!$A$179=Display!$B$13),Display!$D6,)","v":0},{"$f":"IF(AND(Y$8=Display!$T$10,'Lux4-sept'!$A$8=Display!$B$7,'Lux4-sept'!$A$148=Display!$B$9,'Lux4-sept'!$A$178=Display!$B$11,'Lux4-sept'!$A$179=Display!$B$13),Display!$D6,)","v":0},{"$f":"IF(AND(Z$8=Display!$T$10,'Lux4-sept'!$A$8=Display!$B$7,'Lux4-sept'!$A$148=Display!$B$9,'Lux4-sept'!$A$178=Display!$B$11,'Lux4-sept'!$A$179=Display!$B$13),Display!$D6,)","v":0},{"$f":"IF(AND(AA$8=Display!$T$10,'Lux4-sept'!$A$8=Display!$B$7,'Lux4-sept'!$A$148=Display!$B$9,'Lux4-sept'!$A$178=Display!$B$11,'Lux4-sept'!$A$179=Display!$B$13),Display!$D6,)","v":0},{"$f":"IF(AND(AB$8=Display!$T$10,'Lux4-sept'!$A$8=Display!$B$7,'Lux4-sept'!$A$148=Display!$B$9,'Lux4-sept'!$A$178=Display!$B$11,'Lux4-sept'!$A$179=Display!$B$13),Display!$D6,)","v":0},{"$f":"IF(AND(AC$8=Display!$T$10,'Lux4-sept'!$A$8=Display!$B$7,'Lux4-sept'!$A$148=Display!$B$9,'Lux4-sept'!$A$178=Display!$B$11,'Lux4-sept'!$A$179=Display!$B$13),Display!$D6,)","v":0},{"$f":"IF(AND(AD$8=Display!$T$10,'Lux4-sept'!$A$8=Display!$B$7,'Lux4-sept'!$A$148=Display!$B$9,'Lux4-sept'!$A$178=Display!$B$11,'Lux4-sept'!$A$179=Display!$B$13),Display!$D6,)","v":0},{"$f":"IF(AND(AE$8=Display!$T$10,'Lux4-sept'!$A$8=Display!$B$7,'Lux4-sept'!$A$148=Display!$B$9,'Lux4-sept'!$A$178=Display!$B$11,'Lux4-sept'!$A$179=Display!$B$13),Display!$D6,)","v":0},{"$f":"IF(AND(AF$8=Display!$T$10,'Lux4-sept'!$A$8=Display!$B$7,'Lux4-sept'!$A$148=Display!$B$9,'Lux4-sept'!$A$178=Display!$B$11,'Lux4-sept'!$A$179=Display!$B$13),Display!$D6,)","v":0},null,null,0]
["Poubelles vidées et propres",{"$f":"IF(AND(B$8=Display!$T$10,'Lux4-sept'!$A$8=Display!$B$7,'Lux4-sept'!$A$148=Display!$B$9,'Lux4-sept'!$A$178=Display!$B$11,'Lux4-sept'!$A$179=Display!$B$13),Display!$D7,)","v":0},{"$f":"IF(AND(C$8=Display!$T$10,'Lux4-sept'!$A$8=Display!$B$7,'Lux4-sept'!$A$148=Display!$B$9,'Lux4-sept'!$A$178=Display!$B$11,'Lux4-sept'!$A$179=Display!$B$13),Display!$D7,)","v":0},{"$f":"IF(AND(D$8=Display!$T$10,'Lux4-sept'!$A$8=Display!$B$7,'Lux4-sept'!$A$148=Display!$B$9,'Lux4-sept'!$A$178=Display!$B$11,'Lux4-sept'!$A$179=Display!$B$13),Display!$D7,)","v":0},{"$f":"IF(AND(E$8=Display!$T$10,'Lux4-sept'!$A$8=Display!$B$7,'Lux4-sept'!$A$148=Display!$B$9,'Lux4-sept'!$A$178=Display!$B$11,'Lux4-sept'!$A$179=Display!$B$13),Display!$D7,)","v":0},{"$f":"IF(AND(F$8=Display!$T$10,'Lux4-sept'!$A$8=Display!$B$7,'Lux4-sept'!$A$148=Display!$B$9,'Lux4-sept'!$A$178=Display!$B$11,'Lux4-sept'!$A$179=Display!$B$13),Display!$D7,)","v":0},{"$f":"IF(AND(G$8=Display!$T$10,'Lux4-sept'!$A$8=Display!$B$7,'Lux4-sept'!$A$148=Display!$B$9,'Lux4-sept'!$A$178=Display!$B$11,'Lux4-sept'!$A$179=Display!$B$13),Display!$D7,)","v":0},{"$f":"IF(AND(H$8=Display!$T$10,'Lux4-sept'!$A$8=Display!$B$7,'Lux4-sept'!$A$148=Display!$B$9,'Lux4-sept'!$A$178=Display!$B$11,'Lux4-sept'!$A$179=Display!$B$13),Display!$D7,)","v":0},{"$f":"IF(AND(I$8=Display!$T$10,'Lux4-sept'!$A$8=Display!$B$7,'Lux4-sept'!$A$148=Display!$B$9,'Lux4-sept'!$A$178=Display!$B$11,'Lux4-sept'!$A$179=Display!$B$13),Display!$D7,)","v":0},{"$f":"IF(AND(J$8=Display!$T$10,'Lux4-sept'!$A$8=Display!$B$7,'Lux4-sept'!$A$148=Display!$B$9,'Lux4-sept'!$A$178=Display!$B$11,'Lux4-sept'!$A$179=Display!$B$13),Display!$D7,)","v":0},{"$f":"IF(AND(K$8=Display!$T$10,'Lux4-sept'!$A$8=Display!$B$7,'Lux4-sept'!$A$148=Display!$B$9,'Lux4-sept'!$A$178=Display!$B$11,'Lux4-sept'!$A$179=Display!$B$13),Display!$D7,)","v":0},{"$f":"IF(AND(L$8=Display!$T$10,'Lux4-sept'!$A$8=Display!$B$7,'Lux4-sept'!$A$148=Display!$B$9,'Lux4-sept'!$A$178=Display!$B$11,'Lux4-sept'!$A$179=Display!$B$13),Display!$D7,)","v":0},{"$f":"IF(AND(M$8=Display!$T$10,'Lux4-sept'!$A$8=Display!$B$7,'Lux4-sept'!$A$148=Display!$B$9,'Lux4-sept'!$A$178=Display!$B$11,'Lux4-sept'!$A$179=Display!$B$13),Display!$D7,)","v":0},{"$f":"IF(AND(N$8=Display!$T$10,'Lux4-sept'!$A$8=Display!$B$7,'Lux4-sept'!$A$148=Display!$B$9,'Lux4-sept'!$A$178=Display!$B$11,'Lux4-sept'!$A$179=Display!$B$13),Display!$D7,)","v":0},{"$f":"IF(AND(O$8=Display!$T$10,'Lux4-sept'!$A$8=Display!$B$7,'Lux4-sept'!$A$148=Display!$B$9,'Lux4-sept'!$A$178=Display!$B$11,'Lux4-sept'!$A$179=Display!$B$13),Display!$D7,)","v":0},{"$f":"IF(AND(P$8=Display!$T$10,'Lux4-sept'!$A$8=Display!$B$7,'Lux4-sept'!$A$148=Display!$B$9,'Lux4-sept'!$A$178=Display!$B$11,'Lux4-sept'!$A$179=Display!$B$13),Display!$D7,)","v":0},{"$f":"IF(AND(Q$8=Display!$T$10,'Lux4-sept'!$A$8=Display!$B$7,'Lux4-sept'!$A$148=Display!$B$9,'Lux4-sept'!$A$178=Display!$B$11,'Lux4-sept'!$A$179=Display!$B$13),Display!$D7,)","v":0},{"$f":"IF(AND(R$8=Display!$T$10,'Lux4-sept'!$A$8=Display!$B$7,'Lux4-sept'!$A$148=Display!$B$9,'Lux4-sept'!$A$178=Display!$B$11,'Lux4-sept'!$A$179=Display!$B$13),Display!$D7,)","v":0},{"$f":"IF(AND(S$8=Display!$T$10,'Lux4-sept'!$A$8=Display!$B$7,'Lux4-sept'!$A$148=Display!$B$9,'Lux4-sept'!$A$178=Display!$B$11,'Lux4-sept'!$A$179=Display!$B$13),Display!$D7,)","v":0},{"$f":"IF(AND(T$8=Display!$T$10,'Lux4-sept'!$A$8=Display!$B$7,'Lux4-sept'!$A$148=Display!$B$9,'Lux4-sept'!$A$178=Display!$B$11,'Lux4-sept'!$A$179=Display!$B$13),Display!$D7,)","v":0},{"$f":"IF(AND(U$8=Display!$T$10,'Lux4-sept'!$A$8=Display!$B$7,'Lux4-sept'!$A$148=Display!$B$9,'Lux4-sept'!$A$178=Display!$B$11,'Lux4-sept'!$A$179=Display!$B$13),Display!$D7,)","v":0},{"$f":"IF(AND(V$8=Display!$T$10,'Lux4-sept'!$A$8=Display!$B$7,'Lux4-sept'!$A$148=Display!$B$9,'Lux4-sept'!$A$178=Display!$B$11,'Lux4-sept'!$A$179=Display!$B$13),Display!$D7,)","v":0},{"$f":"IF(AND(W$8=Display!$T$10,'Lux4-sept'!$A$8=Display!$B$7,'Lux4-sept'!$A$148=Display!$B$9,'Lux4-sept'!$A$178=Display!$B$11,'Lux4-sept'!$A$179=Display!$B$13),Display!$D7,)","v":0},{"$f":"IF(AND(X$8=Display!$T$10,'Lux4-sept'!$A$8=Display!$B$7,'Lux4-sept'!$A$148=Display!$B$9,'Lux4-sept'!$A$178=Display!$B$11,'Lux4-sept'!$A$179=Display!$B$13),Display!$D7,)","v":0},{"$f":"IF(AND(Y$8=Display!$T$10,'Lux4-sept'!$A$8=Display!$B$7,'Lux4-sept'!$A$148=Display!$B$9,'Lux4-sept'!$A$178=Display!$B$11,'Lux4-sept'!$A$179=Display!$B$13),Display!$D7,)","v":0},{"$f":"IF(AND(Z$8=Display!$T$10,'Lux4-sept'!$A$8=Display!$B$7,'Lux4-sept'!$A$148=Display!$B$9,'Lux4-sept'!$A$178=Display!$B$11,'Lux4-sept'!$A$179=Display!$B$13),Display!$D7,)","v":0},{"$f":"IF(AND(AA$8=Display!$T$10,'Lux4-sept'!$A$8=Display!$B$7,'Lux4-sept'!$A$148=Display!$B$9,'Lux4-sept'!$A$178=Display!$B$11,'Lux4-sept'!$A$179=Display!$B$13),Display!$D7,)","v":0},{"$f":"IF(AND(AB$8=Display!$T$10,'Lux4-sept'!$A$8=Display!$B$7,'Lux4-sept'!$A$148=Display!$B$9,'Lux4-sept'!$A$178=Display!$B$11,'Lux4-sept'!$A$179=Display!$B$13),Display!$D7,)","v":0},{"$f":"IF(AND(AC$8=Display!$T$10,'Lux4-sept'!$A$8=Display!$B$7,'Lux4-sept'!$A$148=Display!$B$9,'Lux4-sept'!$A$178=Display!$B$11,'Lux4-sept'!$A$179=Display!$B$13),Display!$D7,)","v":0},{"$f":"IF(AND(AD$8=Display!$T$10,'Lux4-sept'!$A$8=Display!$B$7,'Lux4-sept'!$A$148=Display!$B$9,'Lux4-sept'!$A$178=Display!$B$11,'Lux4-sept'!$A$179=Display!$B$13),Display!$D7,)","v":0},{"$f":"IF(AND(AE$8=Display!$T$10,'Lux4-sept'!$A$8=Display!$B$7,'Lux4-sept'!$A$148=Display!$B$9,'Lux4-sept'!$A$178=Display!$B$11,'Lux4-sept'!$A$179=Display!$B$13),Display!$D7,)","v":0},{"$f":"IF(AND(AF$8=Display!$T$10,'Lux4-sept'!$A$8=Display!$B$7,'Lux4-sept'!$A$148=Display!$B$9,'Lux4-sept'!$A$178=Display!$B$11,'Lux4-sept'!$A$179=Display!$B$13),Display!$D7,)","v":0},null,null,0]
["Armoires propres (Intérieure et extérieure)",{"$f":"IF(AND(B$8=Display!$T$10,'Lux4-sept'!$A$8=Display!$B$7,'Lux4-sept'!$A$148=Display!$B$9,'Lux4-sept'!$A$178=Display!$B$11,'Lux4-sept'!$A$179=Display!$B$13),Display!$D8,)","v":0},{"$f":"IF(AND(C$8=Display!$T$10,'Lux4-sept'!$A$8=Display!$B$7,'Lux4-sept'!$A$148=Display!$B$9,'Lux4-sept'!$A$178=Display!$B$11,'Lux4-sept'!$A$179=Display!$B$13),Display!$D8,)","v":0},{"$f":"IF(AND(D$8=Display!$T$10,'Lux4-sept'!$A$8=Display!$B$7,'Lux4-sept'!$A$148=Display!$B$9,'Lux4-sept'!$A$178=Display!$B$11,'Lux4-sept'!$A$179=Display!$B$13),Display!$D8,)","v":0},{"$f":"IF(AND(E$8=Display!$T$10,'Lux4-sept'!$A$8=Display!$B$7,'Lux4-sept'!$A$148=Display!$B$9,'Lux4-sept'!$A$178=Display!$B$11,'Lux4-sept'!$A$179=Display!$B$13),Display!$D8,)","v":0},{"$f":"IF(AND(F$8=Display!$T$10,'Lux4-sept'!$A$8=Display!$B$7,'Lux4-sept'!$A$148=Display!$B$9,'Lux4-sept'!$A$178=Display!$B$11,'Lux4-sept'!$A$179=Display!$B$13),Display!$D8,)","v":0},{"$f":"IF(AND(G$8=Display!$T$10,'Lux4-sept'!$A$8=Display!$B$7,'Lux4-sept'!$A$148=Display!$B$9,'Lux4-sept'!$A$178=Display!$B$11,'Lux4-sept'!$A$179=Display!$B$13),Display!$D8,)","v":0},{"$f":"IF(AND(H$8=Display!$T$10,'Lux4-sept'!$A$8=Display!$B$7,'Lux4-sept'!$A$148=Display!$B$9,'Lux4-sept'!$A$178=Display!$B$11,'Lux4-sept'!$A$179=Display!$B$13),Display!$D8,)","v":0},{"$f":"IF(AND(I$8=Display!$T$10,'Lux4-sept'!$A$8=Display!$B$7,'Lux4-sept'!$A$148=Display!$B$9,'Lux4-sept'!$A$178=Display!$B$11,'Lux4-sept'!$A$179=Display!$B$13),Display!$D8,)","v":0},{"$f":"IF(AND(J$8=Display!$T$10,'Lux4-sept'!$A$8=Display!$B$7,'Lux4-sept'!$A$148=Display!$B$9,'Lux4-sept'!$A$178=Display!$B$11,'Lux4-sept'!$A$179=Display!$B$13),Display!$D8,)","v":0},{"$f":"IF(AND(K$8=Display!$T$10,'Lux4-sept'!$A$8=Display!$B$7,'Lux4-sept'!$A$148=Display!$B$9,'Lux4-sept'!$A$178=Display!$B$11,'Lux4-sept'!$A$179=Display!$B$13),Display!$D8,)","v":0},{"$f":"IF(AND(L$8=Display!$T$10,'Lux4-sept'!$A$8=Display!$B$7,'Lux4-sept'!$A$148=Display!$B$9,'Lux4-sept'!$A$178=Display!$B$11,'Lux4-sept'!$A$179=Display!$B$13),Display!$D8,)","v":0},{"$f":"IF(AND(M$8=Display!$T$10,'Lux4-sept'!$A$8=Display!$B$7,'Lux4-sept'!$A$148=Display!$B$9,'Lux4-sept'!$A$178=Display!$B$11,'Lux4-sept'!$A$179=Display!$B$13),Display!$D8,)","v":0},{"$f":"IF(AND(N$8=Display!$T$10,'Lux4-sept'!$A$8=Display!$B$7,'Lux4-sept'!$A$148=Display!$B$9,'Lux4-sept'!$A$178=Display!$B$11,'Lux4-sept'!$A$179=Display!$B$13),Display!$D8,)","v":0},{"$f":"IF(AND(O$8=Display!$T$10,'Lux4-sept'!$A$8=Display!$B$7,'Lux4-sept'!$A$148=Display!$B$9,'Lux4-sept'!$A$178=Display!$B$11,'Lux4-sept'!$A$179=Display!$B$13),Display!$D8,)","v":0},{"$f":"IF(AND(P$8=Display!$T$10,'Lux4-sept'!$A$8=Display!$B$7,'Lux4-sept'!$A$148=Display!$B$9,'Lux4-sept'!$A$178=Display!$B$11,'Lux4-sept'!$A$179=Display!$B$13),Display!$D8,)","v":0},{"$f":"IF(AND(Q$8=Display!$T$10,'Lux4-sept'!$A$8=Display!$B$7,'Lux4-sept'!$A$148=Display!$B$9,'Lux4-sept'!$A$178=Display!$B$11,'Lux4-sept'!$A$179=Display!$B$13),Display!$D8,)","v":0},{"$f":"IF(AND(R$8=Display!$T$10,'Lux4-sept'!$A$8=Display!$B$7,'Lux4-sept'!$A$148=Display!$B$9,'Lux4-sept'!$A$178=Display!$B$11,'Lux4-sept'!$A$179=Display!$B$13),Display!$D8,)","v":0},{"$f":"IF(AND(S$8=Display!$T$10,'Lux4-sept'!$A$8=Display!$B$7,'Lux4-sept'!$A$148=Display!$B$9,'Lux4-sept'!$A$178=Display!$B$11,'Lux4-sept'!$A$179=Display!$B$13),Display!$D8,)","v":0},{"$f":"IF(AND(T$8=Display!$T$10,'Lux4-sept'!$A$8=Display!$B$7,'Lux4-sept'!$A$148=Display!$B$9,'Lux4-sept'!$A$178=Display!$B$11,'Lux4-sept'!$A$179=Display!$B$13),Display!$D8,)","v":0},{"$f":"IF(AND(U$8=Display!$T$10,'Lux4-sept'!$A$8=Display!$B$7,'Lux4-sept'!$A$148=Display!$B$9,'Lux4-sept'!$A$178=Display!$B$11,'Lux4-sept'!$A$179=Display!$B$13),Display!$D8,)","v":0},{"$f":"IF(AND(V$8=Display!$T$10,'Lux4-sept'!$A$8=Display!$B$7,'Lux4-sept'!$A$148=Display!$B$9,'Lux4-sept'!$A$178=Display!$B$11,'Lux4-sept'!$A$179=Display!$B$13),Display!$D8,)","v":0},{"$f":"IF(AND(W$8=Display!$T$10,'Lux4-sept'!$A$8=Display!$B$7,'Lux4-sept'!$A$148=Display!$B$9,'Lux4-sept'!$A$178=Display!$B$11,'Lux4-sept'!$A$179=Display!$B$13),Display!$D8,)","v":0},{"$f":"IF(AND(X$8=Display!$T$10,'Lux4-sept'!$A$8=Display!$B$7,'Lux4-sept'!$A$148=Display!$B$9,'Lux4-sept'!$A$178=Display!$B$11,'Lux4-sept'!$A$179=Display!$B$13),Display!$D8,)","v":0},{"$f":"IF(AND(Y$8=Display!$T$10,'Lux4-sept'!$A$8=Display!$B$7,'Lux4-sept'!$A$148=Display!$B$9,'Lux4-sept'!$A$178=Display!$B$11,'Lux4-sept'!$A$179=Display!$B$13),Display!$D8,)","v":0},{"$f":"IF(AND(Z$8=Display!$T$10,'Lux4-sept'!$A$8=Display!$B$7,'Lux4-sept'!$A$148=Display!$B$9,'Lux4-sept'!$A$178=Display!$B$11,'Lux4-sept'!$A$179=Display!$B$13),Display!$D8,)","v":0},{"$f":"IF(AND(AA$8=Display!$T$10,'Lux4-sept'!$A$8=Display!$B$7,'Lux4-sept'!$A$148=Display!$B$9,'Lux4-sept'!$A$178=Display!$B$11,'Lux4-sept'!$A$179=Display!$B$13),Display!$D8,)","v":0},{"$f":"IF(AND(AB$8=Display!$T$10,'Lux4-sept'!$A$8=Display!$B$7,'Lux4-sept'!$A$148=Display!$B$9,'Lux4-sept'!$A$178=Display!$B$11,'Lux4-sept'!$A$179=Display!$B$13),Display!$D8,)","v":0},{"$f":"IF(AND(AC$8=Display!$T$10,'Lux4-sept'!$A$8=Display!$B$7,'Lux4-sept'!$A$148=Display!$B$9,'Lux4-sept'!$A$178=Display!$B$11,'Lux4-sept'!$A$179=Display!$B$13),Display!$D8,)","v":0},{"$f":"IF(AND(AD$8=Display!$T$10,'Lux4-sept'!$A$8=Display!$B$7,'Lux4-sept'!$A$148=Display!$B$9,'Lux4-sept'!$A$178=Display!$B$11,'Lux4-sept'!$A$179=Display!$B$13),Display!$D8,)","v":0},{"$f":"IF(AND(AE$8=Display!$T$10,'Lux4-sept'!$A$8=Display!$B$7,'Lux4-sept'!$A$148=Display!$B$9,'Lux4-sept'!$A$178=Display!$B$11,'Lux4-sept'!$A$179=Display!$B$13),Display!$D8,)","v":0},{"$f":"IF(AND(AF$8=Display!$T$10,'Lux4-sept'!$A$8=Display!$B$7,'Lux4-sept'!$A$148=Display!$B$9,'Lux4-sept'!$A$178=Display!$B$11,'Lux4-sept'!$A$179=Display!$B$13),Display!$D8,)","v":0},null,null,0]
["Vaisselles propres et rangées",{"$f":"IF(AND(B$8=Display!$T$10,'Lux4-sept'!$A$8=Display!$B$7,'Lux4-sept'!$A$148=Display!$B$9,'Lux4-sept'!$A$178=Display!$B$11,'Lux4-sept'!$A$179=Display!$B$13),Display!$D9,)","v":0},{"$f":"IF(AND(C$8=Display!$T$10,'Lux4-sept'!$A$8=Display!$B$7,'Lux4-sept'!$A$148=Display!$B$9,'Lux4-sept'!$A$178=Display!$B$11,'Lux4-sept'!$A$179=Display!$B$13),Display!$D9,)","v":0},{"$f":"IF(AND(D$8=Display!$T$10,'Lux4-sept'!$A$8=Display!$B$7,'Lux4-sept'!$A$148=Display!$B$9,'Lux4-sept'!$A$178=Display!$B$11,'Lux4-sept'!$A$179=Display!$B$13),Display!$D9,)","v":0},{"$f":"IF(AND(E$8=Display!$T$10,'Lux4-sept'!$A$8=Display!$B$7,'Lux4-sept'!$A$148=Display!$B$9,'Lux4-sept'!$A$178=Display!$B$11,'Lux4-sept'!$A$179=Display!$B$13),Display!$D9,)","v":0},{"$f":"IF(AND(F$8=Display!$T$10,'Lux4-sept'!$A$8=Display!$B$7,'Lux4-sept'!$A$148=Display!$B$9,'Lux4-sept'!$A$178=Display!$B$11,'Lux4-sept'!$A$179=Display!$B$13),Display!$D9,)","v":0},{"$f":"IF(AND(G$8=Display!$T$10,'Lux4-sept'!$A$8=Display!$B$7,'Lux4-sept'!$A$148=Display!$B$9,'Lux4-sept'!$A$178=Display!$B$11,'Lux4-sept'!$A$179=Display!$B$13),Display!$D9,)","v":0},{"$f":"IF(AND(H$8=Display!$T$10,'Lux4-sept'!$A$8=Display!$B$7,'Lux4-sept'!$A$148=Display!$B$9,'Lux4-sept'!$A$178=Display!$B$11,'Lux4-sept'!$A$179=Display!$B$13),Display!$D9,)","v":0},{"$f":"IF(AND(I$8=Display!$T$10,'Lux4-sept'!$A$8=Display!$B$7,'Lux4-sept'!$A$148=Display!$B$9,'Lux4-sept'!$A$178=Display!$B$11,'Lux4-sept'!$A$179=Display!$B$13),Display!$D9,)","v":0},{"$f":"IF(AND(J$8=Display!$T$10,'Lux4-sept'!$A$8=Display!$B$7,'Lux4-sept'!$A$148=Display!$B$9,'Lux4-sept'!$A$178=Display!$B$11,'Lux4-sept'!$A$179=Display!$B$13),Display!$D9,)","v":0},{"$f":"IF(AND(K$8=Display!$T$10,'Lux4-sept'!$A$8=Display!$B$7,'Lux4-sept'!$A$148=Display!$B$9,'Lux4-sept'!$A$178=Display!$B$11,'Lux4-sept'!$A$179=Display!$B$13),Display!$D9,)","v":0},{"$f":"IF(AND(L$8=Display!$T$10,'Lux4-sept'!$A$8=Display!$B$7,'Lux4-sept'!$A$148=Display!$B$9,'Lux4-sept'!$A$178=Display!$B$11,'Lux4-sept'!$A$179=Display!$B$13),Display!$D9,)","v":0},{"$f":"IF(AND(M$8=Display!$T$10,'Lux4-sept'!$A$8=Display!$B$7,'Lux4-sept'!$A$148=Display!$B$9,'Lux4-sept'!$A$178=Display!$B$11,'Lux4-sept'!$A$179=Display!$B$13),Display!$D9,)","v":0},{"$f":"IF(AND(N$8=Display!$T$10,'Lux4-sept'!$A$8=Display!$B$7,'Lux4-sept'!$A$148=Display!$B$9,'Lux4-sept'!$A$178=Display!$B$11,'Lux4-sept'!$A$179=Display!$B$13),Display!$D9,)","v":0},{"$f":"IF(AND(O$8=Display!$T$10,'Lux4-sept'!$A$8=Display!$B$7,'Lux4-sept'!$A$148=Display!$B$9,'Lux4-sept'!$A$178=Display!$B$11,'Lux4-sept'!$A$179=Display!$B$13),Display!$D9,)","v":0},{"$f":"IF(AND(P$8=Display!$T$10,'Lux4-sept'!$A$8=Display!$B$7,'Lux4-sept'!$A$148=Display!$B$9,'Lux4-sept'!$A$178=Display!$B$11,'Lux4-sept'!$A$179=Display!$B$13),Display!$D9,)","v":0},{"$f":"IF(AND(Q$8=Display!$T$10,'Lux4-sept'!$A$8=Display!$B$7,'Lux4-sept'!$A$148=Display!$B$9,'Lux4-sept'!$A$178=Display!$B$11,'Lux4-sept'!$A$179=Display!$B$13),Display!$D9,)","v":0},{"$f":"IF(AND(R$8=Display!$T$10,'Lux4-sept'!$A$8=Display!$B$7,'Lux4-sept'!$A$148=Display!$B$9,'Lux4-sept'!$A$178=Display!$B$11,'Lux4-sept'!$A$179=Display!$B$13),Display!$D9,)","v":0},{"$f":"IF(AND(S$8=Display!$T$10,'Lux4-sept'!$A$8=Display!$B$7,'Lux4-sept'!$A$148=Display!$B$9,'Lux4-sept'!$A$178=Display!$B$11,'Lux4-sept'!$A$179=Display!$B$13),Display!$D9,)","v":0},{"$f":"IF(AND(T$8=Display!$T$10,'Lux4-sept'!$A$8=Display!$B$7,'Lux4-sept'!$A$148=Display!$B$9,'Lux4-sept'!$A$178=Display!$B$11,'Lux4-sept'!$A$179=Display!$B$13),Display!$D9,)","v":0},{"$f":"IF(AND(U$8=Display!$T$10,'Lux4-sept'!$A$8=Display!$B$7,'Lux4-sept'!$A$148=Display!$B$9,'Lux4-sept'!$A$178=Display!$B$11,'Lux4-sept'!$A$179=Display!$B$13),Display!$D9,)","v":0},{"$f":"IF(AND(V$8=Display!$T$10,'Lux4-sept'!$A$8=Display!$B$7,'Lux4-sept'!$A$148=Display!$B$9,'Lux4-sept'!$A$178=Display!$B$11,'Lux4-sept'!$A$179=Display!$B$13),Display!$D9,)","v":0},{"$f":"IF(AND(W$8=Display!$T$10,'Lux4-sept'!$A$8=Display!$B$7,'Lux4-sept'!$A$148=Display!$B$9,'Lux4-sept'!$A$178=Display!$B$11,'Lux4-sept'!$A$179=Display!$B$13),Display!$D9,)","v":0},{"$f":"IF(AND(X$8=Display!$T$10,'Lux4-sept'!$A$8=Display!$B$7,'Lux4-sept'!$A$148=Display!$B$9,'Lux4-sept'!$A$178=Display!$B$11,'Lux4-sept'!$A$179=Display!$B$13),Display!$D9,)","v":0},{"$f":"IF(AND(Y$8=Display!$T$10,'Lux4-sept'!$A$8=Display!$B$7,'Lux4-sept'!$A$148=Display!$B$9,'Lux4-sept'!$A$178=Display!$B$11,'Lux4-sept'!$A$179=Display!$B$13),Display!$D9,)","v":0},{"$f":"IF(AND(Z$8=Display!$T$10,'Lux4-sept'!$A$8=Display!$B$7,'Lux4-sept'!$A$148=Display!$B$9,'Lux4-sept'!$A$178=Display!$B$11,'Lux4-sept'!$A$179=Display!$B$13),Display!$D9,)","v":0},{"$f":"IF(AND(AA$8=Display!$T$10,'Lux4-sept'!$A$8=Display!$B$7,'Lux4-sept'!$A$148=Display!$B$9,'Lux4-sept'!$A$178=Display!$B$11,'Lux4-sept'!$A$179=Display!$B$13),Display!$D9,)","v":0},{"$f":"IF(AND(AB$8=Display!$T$10,'Lux4-sept'!$A$8=Display!$B$7,'Lux4-sept'!$A$148=Display!$B$9,'Lux4-sept'!$A$178=Display!$B$11,'Lux4-sept'!$A$179=Display!$B$13),Display!$D9,)","v":0},{"$f":"IF(AND(AC$8=Display!$T$10,'Lux4-sept'!$A$8=Display!$B$7,'Lux4-sept'!$A$148=Display!$B$9,'Lux4-sept'!$A$178=Display!$B$11,'Lux4-sept'!$A$179=Display!$B$13),Display!$D9,)","v":0},{"$f":"IF(AND(AD$8=Display!$T$10,'Lux4-sept'!$A$8=Display!$B$7,'Lux4-sept'!$A$148=Display!$B$9,'Lux4-sept'!$A$178=Display!$B$11,'Lux4-sept'!$A$179=Display!$B$13),Display!$D9,)","v":0},{"$f":"IF(AND(AE$8=Display!$T$10,'Lux4-sept'!$A$8=Display!$B$7,'Lux4-sept'!$A$148=Display!$B$9,'Lux4-sept'!$A$178=Display!$B$11,'Lux4-sept'!$A$179=Display!$B$13),Display!$D9,)","v":0},{"$f":"IF(AND(AF$8=Display!$T$10,'Lux4-sept'!$A$8=Display!$B$7,'Lux4-sept'!$A$148=Display!$B$9,'Lux4-sept'!$A$178=Display!$B$11,'Lux4-sept'!$A$179=Display!$B$13),Display!$D9,)","v":0},null,null,0]
["Rebords de fenêtres",{"$f":"IF(AND(B$8=Display!$T$10,'Lux4-sept'!$A$8=Display!$B$7,'Lux4-sept'!$A$148=Display!$B$9,'Lux4-sept'!$A$178=Display!$B$11,'Lux4-sept'!$A$179=Display!$B$13),Display!$D10,)","v":0},{"$f":"IF(AND(C$8=Display!$T$10,'Lux4-sept'!$A$8=Display!$B$7,'Lux4-sept'!$A$148=Display!$B$9,'Lux4-sept'!$A$178=Display!$B$11,'Lux4-sept'!$A$179=Display!$B$13),Display!$D10,)","v":0},{"$f":"IF(AND(D$8=Display!$T$10,'Lux4-sept'!$A$8=Display!$B$7,'Lux4-sept'!$A$148=Display!$B$9,'Lux4-sept'!$A$178=Display!$B$11,'Lux4-sept'!$A$179=Display!$B$13),Display!$D10,)","v":0},{"$f":"IF(AND(E$8=Display!$T$10,'Lux4-sept'!$A$8=Display!$B$7,'Lux4-sept'!$A$148=Display!$B$9,'Lux4-sept'!$A$178=Display!$B$11,'Lux4-sept'!$A$179=Display!$B$13),Display!$D10,)","v":0},{"$f":"IF(AND(F$8=Display!$T$10,'Lux4-sept'!$A$8=Display!$B$7,'Lux4-sept'!$A$148=Display!$B$9,'Lux4-sept'!$A$178=Display!$B$11,'Lux4-sept'!$A$179=Display!$B$13),Display!$D10,)","v":0},{"$f":"IF(AND(G$8=Display!$T$10,'Lux4-sept'!$A$8=Display!$B$7,'Lux4-sept'!$A$148=Display!$B$9,'Lux4-sept'!$A$178=Display!$B$11,'Lux4-sept'!$A$179=Display!$B$13),Display!$D10,)","v":0},{"$f":"IF(AND(H$8=Display!$T$10,'Lux4-sept'!$A$8=Display!$B$7,'Lux4-sept'!$A$148=Display!$B$9,'Lux4-sept'!$A$178=Display!$B$11,'Lux4-sept'!$A$179=Display!$B$13),Display!$D10,)","v":0},{"$f":"IF(AND(I$8=Display!$T$10,'Lux4-sept'!$A$8=Display!$B$7,'Lux4-sept'!$A$148=Display!$B$9,'Lux4-sept'!$A$178=Display!$B$11,'Lux4-sept'!$A$179=Display!$B$13),Display!$D10,)","v":0},{"$f":"IF(AND(J$8=Display!$T$10,'Lux4-sept'!$A$8=Display!$B$7,'Lux4-sept'!$A$148=Display!$B$9,'Lux4-sept'!$A$178=Display!$B$11,'Lux4-sept'!$A$179=Display!$B$13),Display!$D10,)","v":0},{"$f":"IF(AND(K$8=Display!$T$10,'Lux4-sept'!$A$8=Display!$B$7,'Lux4-sept'!$A$148=Display!$B$9,'Lux4-sept'!$A$178=Display!$B$11,'Lux4-sept'!$A$179=Display!$B$13),Display!$D10,)","v":0},{"$f":"IF(AND(L$8=Display!$T$10,'Lux4-sept'!$A$8=Display!$B$7,'Lux4-sept'!$A$148=Display!$B$9,'Lux4-sept'!$A$178=Display!$B$11,'Lux4-sept'!$A$179=Display!$B$13),Display!$D10,)","v":0},{"$f":"IF(AND(M$8=Display!$T$10,'Lux4-sept'!$A$8=Display!$B$7,'Lux4-sept'!$A$148=Display!$B$9,'Lux4-sept'!$A$178=Display!$B$11,'Lux4-sept'!$A$179=Display!$B$13),Display!$D10,)","v":0},{"$f":"IF(AND(N$8=Display!$T$10,'Lux4-sept'!$A$8=Display!$B$7,'Lux4-sept'!$A$148=Display!$B$9,'Lux4-sept'!$A$178=Display!$B$11,'Lux4-sept'!$A$179=Display!$B$13),Display!$D10,)","v":0},{"$f":"IF(AND(O$8=Display!$T$10,'Lux4-sept'!$A$8=Display!$B$7,'Lux4-sept'!$A$148=Display!$B$9,'Lux4-sept'!$A$178=Display!$B$11,'Lux4-sept'!$A$179=Display!$B$13),Display!$D10,)","v":0},{"$f":"IF(AND(P$8=Display!$T$10,'Lux4-sept'!$A$8=Display!$B$7,'Lux4-sept'!$A$148=Display!$B$9,'Lux4-sept'!$A$178=Display!$B$11,'Lux4-sept'!$A$179=Display!$B$13),Display!$D10,)","v":0},{"$f":"IF(AND(Q$8=Display!$T$10,'Lux4-sept'!$A$8=Display!$B$7,'Lux4-sept'!$A$148=Display!$B$9,'Lux4-sept'!$A$178=Display!$B$11,'Lux4-sept'!$A$179=Display!$B$13),Display!$D10,)","v":0},{"$f":"IF(AND(R$8=Display!$T$10,'Lux4-sept'!$A$8=Display!$B$7,'Lux4-sept'!$A$148=Display!$B$9,'Lux4-sept'!$A$178=Display!$B$11,'Lux4-sept'!$A$179=Display!$B$13),Display!$D10,)","v":0},{"$f":"IF(AND(S$8=Display!$T$10,'Lux4-sept'!$A$8=Display!$B$7,'Lux4-sept'!$A$148=Display!$B$9,'Lux4-sept'!$A$178=Display!$B$11,'Lux4-sept'!$A$179=Display!$B$13),Display!$D10,)","v":0},{"$f":"IF(AND(T$8=Display!$T$10,'Lux4-sept'!$A$8=Display!$B$7,'Lux4-sept'!$A$148=Display!$B$9,'Lux4-sept'!$A$178=Display!$B$11,'Lux4-sept'!$A$179=Display!$B$13),Display!$D10,)","v":0},{"$f":"IF(AND(U$8=Display!$T$10,'Lux4-sept'!$A$8=Display!$B$7,'Lux4-sept'!$A$148=Display!$B$9,'Lux4-sept'!$A$178=Display!$B$11,'Lux4-sept'!$A$179=Display!$B$13),Display!$D10,)","v":0},{"$f":"IF(AND(V$8=Display!$T$10,'Lux4-sept'!$A$8=Display!$B$7,'Lux4-sept'!$A$148=Display!$B$9,'Lux4-sept'!$A$178=Display!$B$11,'Lux4-sept'!$A$179=Display!$B$13),Display!$D10,)","v":0},{"$f":"IF(AND(W$8=Display!$T$10,'Lux4-sept'!$A$8=Display!$B$7,'Lux4-sept'!$A$148=Display!$B$9,'Lux4-sept'!$A$178=Display!$B$11,'Lux4-sept'!$A$179=Display!$B$13),Display!$D10,)","v":0},{"$f":"IF(AND(X$8=Display!$T$10,'Lux4-sept'!$A$8=Display!$B$7,'Lux4-sept'!$A$148=Display!$B$9,'Lux4-sept'!$A$178=Display!$B$11,'Lux4-sept'!$A$179=Display!$B$13),Display!$D10,)","v":0},{"$f":"IF(AND(Y$8=Display!$T$10,'Lux4-sept'!$A$8=Display!$B$7,'Lux4-sept'!$A$148=Display!$B$9,'Lux4-sept'!$A$178=Display!$B$11,'Lux4-sept'!$A$179=Display!$B$13),Display!$D10,)","v":0},{"$f":"IF(AND(Z$8=Display!$T$10,'Lux4-sept'!$A$8=Display!$B$7,'Lux4-sept'!$A$148=Display!$B$9,'Lux4-sept'!$A$178=Display!$B$11,'Lux4-sept'!$A$179=Display!$B$13),Display!$D10,)","v":0},{"$f":"IF(AND(AA$8=Display!$T$10,'Lux4-sept'!$A$8=Display!$B$7,'Lux4-sept'!$A$148=Display!$B$9,'Lux4-sept'!$A$178=Display!$B$11,'Lux4-sept'!$A$179=Display!$B$13),Display!$D10,)","v":0},{"$f":"IF(AND(AB$8=Display!$T$10,'Lux4-sept'!$A$8=Display!$B$7,'Lux4-sept'!$A$148=Display!$B$9,'Lux4-sept'!$A$178=Display!$B$11,'Lux4-sept'!$A$179=Display!$B$13),Display!$D10,)","v":0},{"$f":"IF(AND(AC$8=Display!$T$10,'Lux4-sept'!$A$8=Display!$B$7,'Lux4-sept'!$A$148=Display!$B$9,'Lux4-sept'!$A$178=Display!$B$11,'Lux4-sept'!$A$179=Display!$B$13),Display!$D10,)","v":0},{"$f":"IF(AND(AD$8=Display!$T$10,'Lux4-sept'!$A$8=Display!$B$7,'Lux4-sept'!$A$148=Display!$B$9,'Lux4-sept'!$A$178=Display!$B$11,'Lux4-sept'!$A$179=Display!$B$13),Display!$D10,)","v":0},{"$f":"IF(AND(AE$8=Display!$T$10,'Lux4-sept'!$A$8=Display!$B$7,'Lux4-sept'!$A$148=Display!$B$9,'Lux4-sept'!$A$178=Display!$B$11,'Lux4-sept'!$A$179=Display!$B$13),Display!$D10,)","v":0},{"$f":"IF(AND(AF$8=Display!$T$10,'Lux4-sept'!$A$8=Display!$B$7,'Lux4-sept'!$A$148=Display!$B$9,'Lux4-sept'!$A$178=Display!$B$11,'Lux4-sept'!$A$179=Display!$B$13),Display!$D10,)","v":0},null,null,0]
["Lave vaiselle vidé",{"$f":"IF(AND(B$8=Display!$T$10,'Lux4-sept'!$A$8=Display!$B$7,'Lux4-sept'!$A$148=Display!$B$9,'Lux4-sept'!$A$178=Display!$B$11,'Lux4-sept'!$A$179=Display!$B$13),Display!$D11,)","v":0},{"$f":"IF(AND(C$8=Display!$T$10,'Lux4-sept'!$A$8=Display!$B$7,'Lux4-sept'!$A$148=Display!$B$9,'Lux4-sept'!$A$178=Display!$B$11,'Lux4-sept'!$A$179=Display!$B$13),Display!$D11,)","v":0},{"$f":"IF(AND(D$8=Display!$T$10,'Lux4-sept'!$A$8=Display!$B$7,'Lux4-sept'!$A$148=Display!$B$9,'Lux4-sept'!$A$178=Display!$B$11,'Lux4-sept'!$A$179=Display!$B$13),Display!$D11,)","v":0},{"$f":"IF(AND(E$8=Display!$T$10,'Lux4-sept'!$A$8=Display!$B$7,'Lux4-sept'!$A$148=Display!$B$9,'Lux4-sept'!$A$178=Display!$B$11,'Lux4-sept'!$A$179=Display!$B$13),Display!$D11,)","v":0},{"$f":"IF(AND(F$8=Display!$T$10,'Lux4-sept'!$A$8=Display!$B$7,'Lux4-sept'!$A$148=Display!$B$9,'Lux4-sept'!$A$178=Display!$B$11,'Lux4-sept'!$A$179=Display!$B$13),Display!$D11,)","v":0},{"$f":"IF(AND(G$8=Display!$T$10,'Lux4-sept'!$A$8=Display!$B$7,'Lux4-sept'!$A$148=Display!$B$9,'Lux4-sept'!$A$178=Display!$B$11,'Lux4-sept'!$A$179=Display!$B$13),Display!$D11,)","v":0},{"$f":"IF(AND(H$8=Display!$T$10,'Lux4-sept'!$A$8=Display!$B$7,'Lux4-sept'!$A$148=Display!$B$9,'Lux4-sept'!$A$178=Display!$B$11,'Lux4-sept'!$A$179=Display!$B$13),Display!$D11,)","v":0},{"$f":"IF(AND(I$8=Display!$T$10,'Lux4-sept'!$A$8=Display!$B$7,'Lux4-sept'!$A$148=Display!$B$9,'Lux4-sept'!$A$178=Display!$B$11,'Lux4-sept'!$A$179=Display!$B$13),Display!$D11,)","v":0},{"$f":"IF(AND(J$8=Display!$T$10,'Lux4-sept'!$A$8=Display!$B$7,'Lux4-sept'!$A$148=Display!$B$9,'Lux4-sept'!$A$178=Display!$B$11,'Lux4-sept'!$A$179=Display!$B$13),Display!$D11,)","v":0},{"$f":"IF(AND(K$8=Display!$T$10,'Lux4-sept'!$A$8=Display!$B$7,'Lux4-sept'!$A$148=Display!$B$9,'Lux4-sept'!$A$178=Display!$B$11,'Lux4-sept'!$A$179=Display!$B$13),Display!$D11,)","v":0},{"$f":"IF(AND(L$8=Display!$T$10,'Lux4-sept'!$A$8=Display!$B$7,'Lux4-sept'!$A$148=Display!$B$9,'Lux4-sept'!$A$178=Display!$B$11,'Lux4-sept'!$A$179=Display!$B$13),Display!$D11,)","v":0},{"$f":"IF(AND(M$8=Display!$T$10,'Lux4-sept'!$A$8=Display!$B$7,'Lux4-sept'!$A$148=Display!$B$9,'Lux4-sept'!$A$178=Display!$B$11,'Lux4-sept'!$A$179=Display!$B$13),Display!$D11,)","v":0},{"$f":"IF(AND(N$8=Display!$T$10,'Lux4-sept'!$A$8=Display!$B$7,'Lux4-sept'!$A$148=Display!$B$9,'Lux4-sept'!$A$178=Display!$B$11,'Lux4-sept'!$A$179=Display!$B$13),Display!$D11,)","v":0},{"$f":"IF(AND(O$8=Display!$T$10,'Lux4-sept'!$A$8=Display!$B$7,'Lux4-sept'!$A$148=Display!$B$9,'Lux4-sept'!$A$178=Display!$B$11,'Lux4-sept'!$A$179=Display!$B$13),Display!$D11,)","v":0},{"$f":"IF(AND(P$8=Display!$T$10,'Lux4-sept'!$A$8=Display!$B$7,'Lux4-sept'!$A$148=Display!$B$9,'Lux4-sept'!$A$178=Display!$B$11,'Lux4-sept'!$A$179=Display!$B$13),Display!$D11,)","v":0},{"$f":"IF(AND(Q$8=Display!$T$10,'Lux4-sept'!$A$8=Display!$B$7,'Lux4-sept'!$A$148=Display!$B$9,'Lux4-sept'!$A$178=Display!$B$11,'Lux4-sept'!$A$179=Display!$B$13),Display!$D11,)","v":0},{"$f":"IF(AND(R$8=Display!$T$10,'Lux4-sept'!$A$8=Display!$B$7,'Lux4-sept'!$A$148=Display!$B$9,'Lux4-sept'!$A$178=Display!$B$11,'Lux4-sept'!$A$179=Display!$B$13),Display!$D11,)","v":0},{"$f":"IF(AND(S$8=Display!$T$10,'Lux4-sept'!$A$8=Display!$B$7,'Lux4-sept'!$A$148=Display!$B$9,'Lux4-sept'!$A$178=Display!$B$11,'Lux4-sept'!$A$179=Display!$B$13),Display!$D11,)","v":0},{"$f":"IF(AND(T$8=Display!$T$10,'Lux4-sept'!$A$8=Display!$B$7,'Lux4-sept'!$A$148=Display!$B$9,'Lux4-sept'!$A$178=Display!$B$11,'Lux4-sept'!$A$179=Display!$B$13),Display!$D11,)","v":0},{"$f":"IF(AND(U$8=Display!$T$10,'Lux4-sept'!$A$8=Display!$B$7,'Lux4-sept'!$A$148=Display!$B$9,'Lux4-sept'!$A$178=Display!$B$11,'Lux4-sept'!$A$179=Display!$B$13),Display!$D11,)","v":0},{"$f":"IF(AND(V$8=Display!$T$10,'Lux4-sept'!$A$8=Display!$B$7,'Lux4-sept'!$A$148=Display!$B$9,'Lux4-sept'!$A$178=Display!$B$11,'Lux4-sept'!$A$179=Display!$B$13),Display!$D11,)","v":0},{"$f":"IF(AND(W$8=Display!$T$10,'Lux4-sept'!$A$8=Display!$B$7,'Lux4-sept'!$A$148=Display!$B$9,'Lux4-sept'!$A$178=Display!$B$11,'Lux4-sept'!$A$179=Display!$B$13),Display!$D11,)","v":0},{"$f":"IF(AND(X$8=Display!$T$10,'Lux4-sept'!$A$8=Display!$B$7,'Lux4-sept'!$A$148=Display!$B$9,'Lux4-sept'!$A$178=Display!$B$11,'Lux4-sept'!$A$179=Display!$B$13),Display!$D11,)","v":0},{"$f":"IF(AND(Y$8=Display!$T$10,'Lux4-sept'!$A$8=Display!$B$7,'Lux4-sept'!$A$148=Display!$B$9,'Lux4-sept'!$A$178=Display!$B$11,'Lux4-sept'!$A$179=Display!$B$13),Display!$D11,)","v":0},{"$f":"IF(AND(Z$8=Display!$T$10,'Lux4-sept'!$A$8=Display!$B$7,'Lux4-sept'!$A$148=Display!$B$9,'Lux4-sept'!$A$178=Display!$B$11,'Lux4-sept'!$A$179=Display!$B$13),Display!$D11,)","v":0},{"$f":"IF(AND(AA$8=Display!$T$10,'Lux4-sept'!$A$8=Display!$B$7,'Lux4-sept'!$A$148=Display!$B$9,'Lux4-sept'!$A$178=Display!$B$11,'Lux4-sept'!$A$179=Display!$B$13),Display!$D11,)","v":0},{"$f":"IF(AND(AB$8=Display!$T$10,'Lux4-sept'!$A$8=Display!$B$7,'Lux4-sept'!$A$148=Display!$B$9,'Lux4-sept'!$A$178=Display!$B$11,'Lux4-sept'!$A$179=Display!$B$13),Display!$D11,)","v":0},{"$f":"IF(AND(AC$8=Display!$T$10,'Lux4-sept'!$A$8=Display!$B$7,'Lux4-sept'!$A$148=Display!$B$9,'Lux4-sept'!$A$178=Display!$B$11,'Lux4-sept'!$A$179=Display!$B$13),Display!$D11,)","v":0},{"$f":"IF(AND(AD$8=Display!$T$10,'Lux4-sept'!$A$8=Display!$B$7,'Lux4-sept'!$A$148=Display!$B$9,'Lux4-sept'!$A$178=Display!$B$11,'Lux4-sept'!$A$179=Display!$B$13),Display!$D11,)","v":0},{"$f":"IF(AND(AE$8=Display!$T$10,'Lux4-sept'!$A$8=Display!$B$7,'Lux4-sept'!$A$148=Display!$B$9,'Lux4-sept'!$A$178=Display!$B$11,'Lux4-sept'!$A$179=Display!$B$13),Display!$D11,)","v":0},{"$f":"IF(AND(AF$8=Display!$T$10,'Lux4-sept'!$A$8=Display!$B$7,'Lux4-sept'!$A$148=Display!$B$9,'Lux4-sept'!$A$178=Display!$B$11,'Lux4-sept'!$A$179=Display!$B$13),Display!$D11,)","v":0},null,null,0]
["Propreté des sols",{"$f":"IF(AND(B$8=Display!$T$10,'Lux4-sept'!$A$8=Display!$B$7,'Lux4-sept'!$A$148=Display!$B$9,'Lux4-sept'!$A$178=Display!$B$11,'Lux4-sept'!$A$179=Display!$B$13),Display!$D12,)","v":0},{"$f":"IF(AND(C$8=Display!$T$10,'Lux4-sept'!$A$8=Display!$B$7,'Lux4-sept'!$A$148=Display!$B$9,'Lux4-sept'!$A$178=Display!$B$11,'Lux4-sept'!$A$179=Display!$B$13),Display!$D12,)","v":0},{"$f":"IF(AND(D$8=Display!$T$10,'Lux4-sept'!$A$8=Display!$B$7,'Lux4-sept'!$A$148=Display!$B$9,'Lux4-sept'!$A$178=Display!$B$11,'Lux4-sept'!$A$179=Display!$B$13),Display!$D12,)","v":0},{"$f":"IF(AND(E$8=Display!$T$10,'Lux4-sept'!$A$8=Display!$B$7,'Lux4-sept'!$A$148=Display!$B$9,'Lux4-sept'!$A$178=Display!$B$11,'Lux4-sept'!$A$179=Display!$B$13),Display!$D12,)","v":0},{"$f":"IF(AND(F$8=Display!$T$10,'Lux4-sept'!$A$8=Display!$B$7,'Lux4-sept'!$A$148=Display!$B$9,'Lux4-sept'!$A$178=Display!$B$11,'Lux4-sept'!$A$179=Display!$B$13),Display!$D12,)","v":0},{"$f":"IF(AND(G$8=Display!$T$10,'Lux4-sept'!$A$8=Display!$B$7,'Lux4-sept'!$A$148=Display!$B$9,'Lux4-sept'!$A$178=Display!$B$11,'Lux4-sept'!$A$179=Display!$B$13),Display!$D12,)","v":0},{"$f":"IF(AND(H$8=Display!$T$10,'Lux4-sept'!$A$8=Display!$B$7,'Lux4-sept'!$A$148=Display!$B$9,'Lux4-sept'!$A$178=Display!$B$11,'Lux4-sept'!$A$179=Display!$B$13),Display!$D12,)","v":0},{"$f":"IF(AND(I$8=Display!$T$10,'Lux4-sept'!$A$8=Display!$B$7,'Lux4-sept'!$A$148=Display!$B$9,'Lux4-sept'!$A$178=Display!$B$11,'Lux4-sept'!$A$179=Display!$B$13),Display!$D12,)","v":0},{"$f":"IF(AND(J$8=Display!$T$10,'Lux4-sept'!$A$8=Display!$B$7,'Lux4-sept'!$A$148=Display!$B$9,'Lux4-sept'!$A$178=Display!$B$11,'Lux4-sept'!$A$179=Display!$B$13),Display!$D12,)","v":0},{"$f":"IF(AND(K$8=Display!$T$10,'Lux4-sept'!$A$8=Display!$B$7,'Lux4-sept'!$A$148=Display!$B$9,'Lux4-sept'!$A$178=Display!$B$11,'Lux4-sept'!$A$179=Display!$B$13),Display!$D12,)","v":0},{"$f":"IF(AND(L$8=Display!$T$10,'Lux4-sept'!$A$8=Display!$B$7,'Lux4-sept'!$A$148=Display!$B$9,'Lux4-sept'!$A$178=Display!$B$11,'Lux4-sept'!$A$179=Display!$B$13),Display!$D12,)","v":0},{"$f":"IF(AND(M$8=Display!$T$10,'Lux4-sept'!$A$8=Display!$B$7,'Lux4-sept'!$A$148=Display!$B$9,'Lux4-sept'!$A$178=Display!$B$11,'Lux4-sept'!$A$179=Display!$B$13),Display!$D12,)","v":0},{"$f":"IF(AND(N$8=Display!$T$10,'Lux4-sept'!$A$8=Display!$B$7,'Lux4-sept'!$A$148=Display!$B$9,'Lux4-sept'!$A$178=Display!$B$11,'Lux4-sept'!$A$179=Display!$B$13),Display!$D12,)","v":0},{"$f":"IF(AND(O$8=Display!$T$10,'Lux4-sept'!$A$8=Display!$B$7,'Lux4-sept'!$A$148=Display!$B$9,'Lux4-sept'!$A$178=Display!$B$11,'Lux4-sept'!$A$179=Display!$B$13),Display!$D12,)","v":0},{"$f":"IF(AND(P$8=Display!$T$10,'Lux4-sept'!$A$8=Display!$B$7,'Lux4-sept'!$A$148=Display!$B$9,'Lux4-sept'!$A$178=Display!$B$11,'Lux4-sept'!$A$179=Display!$B$13),Display!$D12,)","v":0},{"$f":"IF(AND(Q$8=Display!$T$10,'Lux4-sept'!$A$8=Display!$B$7,'Lux4-sept'!$A$148=Display!$B$9,'Lux4-sept'!$A$178=Display!$B$11,'Lux4-sept'!$A$179=Display!$B$13),Display!$D12,)","v":0},{"$f":"IF(AND(R$8=Display!$T$10,'Lux4-sept'!$A$8=Display!$B$7,'Lux4-sept'!$A$148=Display!$B$9,'Lux4-sept'!$A$178=Display!$B$11,'Lux4-sept'!$A$179=Display!$B$13),Display!$D12,)","v":0},{"$f":"IF(AND(S$8=Display!$T$10,'Lux4-sept'!$A$8=Display!$B$7,'Lux4-sept'!$A$148=Display!$B$9,'Lux4-sept'!$A$178=Display!$B$11,'Lux4-sept'!$A$179=Display!$B$13),Display!$D12,)","v":0},{"$f":"IF(AND(T$8=Display!$T$10,'Lux4-sept'!$A$8=Display!$B$7,'Lux4-sept'!$A$148=Display!$B$9,'Lux4-sept'!$A$178=Display!$B$11,'Lux4-sept'!$A$179=Display!$B$13),Display!$D12,)","v":0},{"$f":"IF(AND(U$8=Display!$T$10,'Lux4-sept'!$A$8=Display!$B$7,'Lux4-sept'!$A$148=Display!$B$9,'Lux4-sept'!$A$178=Display!$B$11,'Lux4-sept'!$A$179=Display!$B$13),Display!$D12,)","v":0},{"$f":"IF(AND(V$8=Display!$T$10,'Lux4-sept'!$A$8=Display!$B$7,'Lux4-sept'!$A$148=Display!$B$9,'Lux4-sept'!$A$178=Display!$B$11,'Lux4-sept'!$A$179=Display!$B$13),Display!$D12,)","v":0},{"$f":"IF(AND(W$8=Display!$T$10,'Lux4-sept'!$A$8=Display!$B$7,'Lux4-sept'!$A$148=Display!$B$9,'Lux4-sept'!$A$178=Display!$B$11,'Lux4-sept'!$A$179=Display!$B$13),Display!$D12,)","v":0},{"$f":"IF(AND(X$8=Display!$T$10,'Lux4-sept'!$A$8=Display!$B$7,'Lux4-sept'!$A$148=Display!$B$9,'Lux4-sept'!$A$178=Display!$B$11,'Lux4-sept'!$A$179=Display!$B$13),Display!$D12,)","v":0},{"$f":"IF(AND(Y$8=Display!$T$10,'Lux4-sept'!$A$8=Display!$B$7,'Lux4-sept'!$A$148=Display!$B$9,'Lux4-sept'!$A$178=Display!$B$11,'Lux4-sept'!$A$179=Display!$B$13),Display!$D12,)","v":0},{"$f":"IF(AND(Z$8=Display!$T$10,'Lux4-sept'!$A$8=Display!$B$7,'Lux4-sept'!$A$148=Display!$B$9,'Lux4-sept'!$A$178=Display!$B$11,'Lux4-sept'!$A$179=Display!$B$13),Display!$D12,)","v":0},{"$f":"IF(AND(AA$8=Display!$T$10,'Lux4-sept'!$A$8=Display!$B$7,'Lux4-sept'!$A$148=Display!$B$9,'Lux4-sept'!$A$178=Display!$B$11,'Lux4-sept'!$A$179=Display!$B$13),Display!$D12,)","v":0},{"$f":"IF(AND(AB$8=Display!$T$10,'Lux4-sept'!$A$8=Display!$B$7,'Lux4-sept'!$A$148=Display!$B$9,'Lux4-sept'!$A$178=Display!$B$11,'Lux4-sept'!$A$179=Display!$B$13),Display!$D12,)","v":0},{"$f":"IF(AND(AC$8=Display!$T$10,'Lux4-sept'!$A$8=Display!$B$7,'Lux4-sept'!$A$148=Display!$B$9,'Lux4-sept'!$A$178=Display!$B$11,'Lux4-sept'!$A$179=Display!$B$13),Display!$D12,)","v":0},{"$f":"IF(AND(AD$8=Display!$T$10,'Lux4-sept'!$A$8=Display!$B$7,'Lux4-sept'!$A$148=Display!$B$9,'Lux4-sept'!$A$178=Display!$B$11,'Lux4-sept'!$A$179=Display!$B$13),Display!$D12,)","v":0},{"$f":"IF(AND(AE$8=Display!$T$10,'Lux4-sept'!$A$8=Display!$B$7,'Lux4-sept'!$A$148=Display!$B$9,'Lux4-sept'!$A$178=Display!$B$11,'Lux4-sept'!$A$179=Display!$B$13),Display!$D12,)","v":0},{"$f":"IF(AND(AF$8=Display!$T$10,'Lux4-sept'!$A$8=Display!$B$7,'Lux4-sept'!$A$148=Display!$B$9,'Lux4-sept'!$A$178=Display!$B$11,'Lux4-sept'!$A$179=Display!$B$13),Display!$D12,)","v":0},null,null,0]
["Présence de poussières",{"$f":"IF(AND(B$8=Display!$T$10,'Lux4-sept'!$A$8=Display!$B$7,'Lux4-sept'!$A$148=Display!$B$9,'Lux4-sept'!$A$178=Display!$B$11,'Lux4-sept'!$A$179=Display!$B$13),Display!$D13,)","v":0},{"$f":"IF(AND(C$8=Display!$T$10,'Lux4-sept'!$A$8=Display!$B$7,'Lux4-sept'!$A$148=Display!$B$9,'Lux4-sept'!$A$178=Display!$B$11,'Lux4-sept'!$A$179=Display!$B$13),Display!$D13,)","v":0},{"$f":"IF(AND(D$8=Display!$T$10,'Lux4-sept'!$A$8=Display!$B$7,'Lux4-sept'!$A$148=Display!$B$9,'Lux4-sept'!$A$178=Display!$B$11,'Lux4-sept'!$A$179=Display!$B$13),Display!$D13,)","v":0},{"$f":"IF(AND(E$8=Display!$T$10,'Lux4-sept'!$A$8=Display!$B$7,'Lux4-sept'!$A$148=Display!$B$9,'Lux4-sept'!$A$178=Display!$B$11,'Lux4-sept'!$A$179=Display!$B$13),Display!$D13,)","v":0},{"$f":"IF(AND(F$8=Display!$T$10,'Lux4-sept'!$A$8=Display!$B$7,'Lux4-sept'!$A$148=Display!$B$9,'Lux4-sept'!$A$178=Display!$B$11,'Lux4-sept'!$A$179=Display!$B$13),Display!$D13,)","v":0},{"$f":"IF(AND(G$8=Display!$T$10,'Lux4-sept'!$A$8=Display!$B$7,'Lux4-sept'!$A$148=Display!$B$9,'Lux4-sept'!$A$178=Display!$B$11,'Lux4-sept'!$A$179=Display!$B$13),Display!$D13,)","v":0},{"$f":"IF(AND(H$8=Display!$T$10,'Lux4-sept'!$A$8=Display!$B$7,'Lux4-sept'!$A$148=Display!$B$9,'Lux4-sept'!$A$178=Display!$B$11,'Lux4-sept'!$A$179=Display!$B$13),Display!$D13,)","v":0},{"$f":"IF(AND(I$8=Display!$T$10,'Lux4-sept'!$A$8=Display!$B$7,'Lux4-sept'!$A$148=Display!$B$9,'Lux4-sept'!$A$178=Display!$B$11,'Lux4-sept'!$A$179=Display!$B$13),Display!$D13,)","v":0},{"$f":"IF(AND(J$8=Display!$T$10,'Lux4-sept'!$A$8=Display!$B$7,'Lux4-sept'!$A$148=Display!$B$9,'Lux4-sept'!$A$178=Display!$B$11,'Lux4-sept'!$A$179=Display!$B$13),Display!$D13,)","v":0},{"$f":"IF(AND(K$8=Display!$T$10,'Lux4-sept'!$A$8=Display!$B$7,'Lux4-sept'!$A$148=Display!$B$9,'Lux4-sept'!$A$178=Display!$B$11,'Lux4-sept'!$A$179=Display!$B$13),Display!$D13,)","v":0},{"$f":"IF(AND(L$8=Display!$T$10,'Lux4-sept'!$A$8=Display!$B$7,'Lux4-sept'!$A$148=Display!$B$9,'Lux4-sept'!$A$178=Display!$B$11,'Lux4-sept'!$A$179=Display!$B$13),Display!$D13,)","v":0},{"$f":"IF(AND(M$8=Display!$T$10,'Lux4-sept'!$A$8=Display!$B$7,'Lux4-sept'!$A$148=Display!$B$9,'Lux4-sept'!$A$178=Display!$B$11,'Lux4-sept'!$A$179=Display!$B$13),Display!$D13,)","v":0},{"$f":"IF(AND(N$8=Display!$T$10,'Lux4-sept'!$A$8=Display!$B$7,'Lux4-sept'!$A$148=Display!$B$9,'Lux4-sept'!$A$178=Display!$B$11,'Lux4-sept'!$A$179=Display!$B$13),Display!$D13,)","v":0},{"$f":"IF(AND(O$8=Display!$T$10,'Lux4-sept'!$A$8=Display!$B$7,'Lux4-sept'!$A$148=Display!$B$9,'Lux4-sept'!$A$178=Display!$B$11,'Lux4-sept'!$A$179=Display!$B$13),Display!$D13,)","v":0},{"$f":"IF(AND(P$8=Display!$T$10,'Lux4-sept'!$A$8=Display!$B$7,'Lux4-sept'!$A$148=Display!$B$9,'Lux4-sept'!$A$178=Display!$B$11,'Lux4-sept'!$A$179=Display!$B$13),Display!$D13,)","v":0},{"$f":"IF(AND(Q$8=Display!$T$10,'Lux4-sept'!$A$8=Display!$B$7,'Lux4-sept'!$A$148=Display!$B$9,'Lux4-sept'!$A$178=Display!$B$11,'Lux4-sept'!$A$179=Display!$B$13),Display!$D13,)","v":0},{"$f":"IF(AND(R$8=Display!$T$10,'Lux4-sept'!$A$8=Display!$B$7,'Lux4-sept'!$A$148=Display!$B$9,'Lux4-sept'!$A$178=Display!$B$11,'Lux4-sept'!$A$179=Display!$B$13),Display!$D13,)","v":0},{"$f":"IF(AND(S$8=Display!$T$10,'Lux4-sept'!$A$8=Display!$B$7,'Lux4-sept'!$A$148=Display!$B$9,'Lux4-sept'!$A$178=Display!$B$11,'Lux4-sept'!$A$179=Display!$B$13),Display!$D13,)","v":0},{"$f":"IF(AND(T$8=Display!$T$10,'Lux4-sept'!$A$8=Display!$B$7,'Lux4-sept'!$A$148=Display!$B$9,'Lux4-sept'!$A$178=Display!$B$11,'Lux4-sept'!$A$179=Display!$B$13),Display!$D13,)","v":0},{"$f":"IF(AND(U$8=Display!$T$10,'Lux4-sept'!$A$8=Display!$B$7,'Lux4-sept'!$A$148=Display!$B$9,'Lux4-sept'!$A$178=Display!$B$11,'Lux4-sept'!$A$179=Display!$B$13),Display!$D13,)","v":0},{"$f":"IF(AND(V$8=Display!$T$10,'Lux4-sept'!$A$8=Display!$B$7,'Lux4-sept'!$A$148=Display!$B$9,'Lux4-sept'!$A$178=Display!$B$11,'Lux4-sept'!$A$179=Display!$B$13),Display!$D13,)","v":0},{"$f":"IF(AND(W$8=Display!$T$10,'Lux4-sept'!$A$8=Display!$B$7,'Lux4-sept'!$A$148=Display!$B$9,'Lux4-sept'!$A$178=Display!$B$11,'Lux4-sept'!$A$179=Display!$B$13),Display!$D13,)","v":0},{"$f":"IF(AND(X$8=Display!$T$10,'Lux4-sept'!$A$8=Display!$B$7,'Lux4-sept'!$A$148=Display!$B$9,'Lux4-sept'!$A$178=Display!$B$11,'Lux4-sept'!$A$179=Display!$B$13),Display!$D13,)","v":0},{"$f":"IF(AND(Y$8=Display!$T$10,'Lux4-sept'!$A$8=Display!$B$7,'Lux4-sept'!$A$148=Display!$B$9,'Lux4-sept'!$A$178=Display!$B$11,'Lux4-sept'!$A$179=Display!$B$13),Display!$D13,)","v":0},{"$f":"IF(AND(Z$8=Display!$T$10,'Lux4-sept'!$A$8=Display!$B$7,'Lux4-sept'!$A$148=Display!$B$9,'Lux4-sept'!$A$178=Display!$B$11,'Lux4-sept'!$A$179=Display!$B$13),Display!$D13,)","v":0},{"$f":"IF(AND(AA$8=Display!$T$10,'Lux4-sept'!$A$8=Display!$B$7,'Lux4-sept'!$A$148=Display!$B$9,'Lux4-sept'!$A$178=Display!$B$11,'Lux4-sept'!$A$179=Display!$B$13),Display!$D13,)","v":0},{"$f":"IF(AND(AB$8=Display!$T$10,'Lux4-sept'!$A$8=Display!$B$7,'Lux4-sept'!$A$148=Display!$B$9,'Lux4-sept'!$A$178=Display!$B$11,'Lux4-sept'!$A$179=Display!$B$13),Display!$D13,)","v":0},{"$f":"IF(AND(AC$8=Display!$T$10,'Lux4-sept'!$A$8=Display!$B$7,'Lux4-sept'!$A$148=Display!$B$9,'Lux4-sept'!$A$178=Display!$B$11,'Lux4-sept'!$A$179=Display!$B$13),Display!$D13,)","v":0},{"$f":"IF(AND(AD$8=Display!$T$10,'Lux4-sept'!$A$8=Display!$B$7,'Lux4-sept'!$A$148=Display!$B$9,'Lux4-sept'!$A$178=Display!$B$11,'Lux4-sept'!$A$179=Display!$B$13),Display!$D13,)","v":0},{"$f":"IF(AND(AE$8=Display!$T$10,'Lux4-sept'!$A$8=Display!$B$7,'Lux4-sept'!$A$148=Display!$B$9,'Lux4-sept'!$A$178=Display!$B$11,'Lux4-sept'!$A$179=Display!$B$13),Display!$D13,)","v":0},{"$f":"IF(AND(AF$8=Display!$T$10,'Lux4-sept'!$A$8=Display!$B$7,'Lux4-sept'!$A$148=Display!$B$9,'Lux4-sept'!$A$178=Display!$B$11,'Lux4-sept'!$A$179=Display!$B$13),Display!$D13,)","v":0},null,null,0]
["MOYENNE",{"$f":"((IF((SUM(B180:B189))<>0,(SUM(B180:B189)),0))/(IF((SUM((IF(B180<>0,3,0)),(IF(B181<>0,3,0)),(IF(B182<>0,3,0)),(IF(B183<>0,3,0)),(IF(B184<>0,3,0)),(IF(B185<>0,3,0)),(IF(B186<>0,3,0)),(IF(B187<>0,3,0)),(IF(B188<>0,3,0)),(IF(B189<>0,3,0))))<>0,((SUM((IF(B180<>0,3,0)),(IF(B181<>0,3,0)),(IF(B182<>0,3,0)),(IF(B183<>0,3,0)),(IF(B184<>0,3,0)),(IF(B185<>0,3,0)),(IF(B186<>0,3,0)),(IF(B187<>0,3,0)),(IF(B188<>0,3,0)),(IF(B189<>0,3,0))))),1)))","v":0},{"$f":"((IF((SUM(C180:C189))<>0,(SUM(C180:C189)),0))/(IF((SUM((IF(C180<>0,3,0)),(IF(C181<>0,3,0)),(IF(C182<>0,3,0)),(IF(C183<>0,3,0)),(IF(C184<>0,3,0)),(IF(C185<>0,3,0)),(IF(C186<>0,3,0)),(IF(C187<>0,3,0)),(IF(C188<>0,3,0)),(IF(C189<>0,3,0))))<>0,((SUM((IF(C180<>0,3,0)),(IF(C181<>0,3,0)),(IF(C182<>0,3,0)),(IF(C183<>0,3,0)),(IF(C184<>0,3,0)),(IF(C185<>0,3,0)),(IF(C186<>0,3,0)),(IF(C187<>0,3,0)),(IF(C188<>0,3,0)),(IF(C189<>0,3,0))))),1)))","v":0},0,0,0,0,0,0,0,0,0,0,0,0,0,0,0,0,0,0,0,0,0,0,0,0,0,0,0,0,0,0,0]
[".02"]
["Fourniture (café, lait, thé, sucre, choc., Serviettes",{"$f":"IF(AND(B$8=Display!$T$10,'Lux4-sept'!$A$8=Display!$B$7,'Lux4-sept'!$A$148=Display!$B$9,'Lux4-sept'!$A$178=Display!$B$11,'Lux4-sept'!$A$191=Display!$B$13),Display!$D4,)","v":0},{"$f":"IF(AND(C$8=Display!$T$10,'Lux4-sept'!$A$8=Display!$B$7,'Lux4-sept'!$A$148=Display!$B$9,'Lux4-sept'!$A$178=Display!$B$11,'Lux4-sept'!$A$191=Display!$B$13),Display!$D4,)","v":0},{"$f":"IF(AND(D$8=Display!$T$10,'Lux4-sept'!$A$8=Display!$B$7,'Lux4-sept'!$A$148=Display!$B$9,'Lux4-sept'!$A$178=Display!$B$11,'Lux4-sept'!$A$191=Display!$B$13),Display!$D4,)","v":0},{"$f":"IF(AND(E$8=Display!$T$10,'Lux4-sept'!$A$8=Display!$B$7,'Lux4-sept'!$A$148=Display!$B$9,'Lux4-sept'!$A$178=Display!$B$11,'Lux4-sept'!$A$191=Display!$B$13),Display!$D4,)","v":0},{"$f":"IF(AND(F$8=Display!$T$10,'Lux4-sept'!$A$8=Display!$B$7,'Lux4-sept'!$A$148=Display!$B$9,'Lux4-sept'!$A$178=Display!$B$11,'Lux4-sept'!$A$191=Display!$B$13),Display!$D4,)","v":0},{"$f":"IF(AND(G$8=Display!$T$10,'Lux4-sept'!$A$8=Display!$B$7,'Lux4-sept'!$A$148=Display!$B$9,'Lux4-sept'!$A$178=Display!$B$11,'Lux4-sept'!$A$191=Display!$B$13),Display!$D4,)","v":0},{"$f":"IF(AND(H$8=Display!$T$10,'Lux4-sept'!$A$8=Display!$B$7,'Lux4-sept'!$A$148=Display!$B$9,'Lux4-sept'!$A$178=Display!$B$11,'Lux4-sept'!$A$191=Display!$B$13),Display!$D4,)","v":0},{"$f":"IF(AND(I$8=Display!$T$10,'Lux4-sept'!$A$8=Display!$B$7,'Lux4-sept'!$A$148=Display!$B$9,'Lux4-sept'!$A$178=Display!$B$11,'Lux4-sept'!$A$191=Display!$B$13),Display!$D4,)","v":0},{"$f":"IF(AND(J$8=Display!$T$10,'Lux4-sept'!$A$8=Display!$B$7,'Lux4-sept'!$A$148=Display!$B$9,'Lux4-sept'!$A$178=Display!$B$11,'Lux4-sept'!$A$191=Display!$B$13),Display!$D4,)","v":0},{"$f":"IF(AND(K$8=Display!$T$10,'Lux4-sept'!$A$8=Display!$B$7,'Lux4-sept'!$A$148=Display!$B$9,'Lux4-sept'!$A$178=Display!$B$11,'Lux4-sept'!$A$191=Display!$B$13),Display!$D4,)","v":0},{"$f":"IF(AND(L$8=Display!$T$10,'Lux4-sept'!$A$8=Display!$B$7,'Lux4-sept'!$A$148=Display!$B$9,'Lux4-sept'!$A$178=Display!$B$11,'Lux4-sept'!$A$191=Display!$B$13),Display!$D4,)","v":0},{"$f":"IF(AND(M$8=Display!$T$10,'Lux4-sept'!$A$8=Display!$B$7,'Lux4-sept'!$A$148=Display!$B$9,'Lux4-sept'!$A$178=Display!$B$11,'Lux4-sept'!$A$191=Display!$B$13),Display!$D4,)","v":0},{"$f":"IF(AND(N$8=Display!$T$10,'Lux4-sept'!$A$8=Display!$B$7,'Lux4-sept'!$A$148=Display!$B$9,'Lux4-sept'!$A$178=Display!$B$11,'Lux4-sept'!$A$191=Display!$B$13),Display!$D4,)","v":0},{"$f":"IF(AND(O$8=Display!$T$10,'Lux4-sept'!$A$8=Display!$B$7,'Lux4-sept'!$A$148=Display!$B$9,'Lux4-sept'!$A$178=Display!$B$11,'Lux4-sept'!$A$191=Display!$B$13),Display!$D4,)","v":0},{"$f":"IF(AND(P$8=Display!$T$10,'Lux4-sept'!$A$8=Display!$B$7,'Lux4-sept'!$A$148=Display!$B$9,'Lux4-sept'!$A$178=Display!$B$11,'Lux4-sept'!$A$191=Display!$B$13),Display!$D4,)","v":0},{"$f":"IF(AND(Q$8=Display!$T$10,'Lux4-sept'!$A$8=Display!$B$7,'Lux4-sept'!$A$148=Display!$B$9,'Lux4-sept'!$A$178=Display!$B$11,'Lux4-sept'!$A$191=Display!$B$13),Display!$D4,)","v":0},{"$f":"IF(AND(R$8=Display!$T$10,'Lux4-sept'!$A$8=Display!$B$7,'Lux4-sept'!$A$148=Display!$B$9,'Lux4-sept'!$A$178=Display!$B$11,'Lux4-sept'!$A$191=Display!$B$13),Display!$D4,)","v":0},{"$f":"IF(AND(S$8=Display!$T$10,'Lux4-sept'!$A$8=Display!$B$7,'Lux4-sept'!$A$148=Display!$B$9,'Lux4-sept'!$A$178=Display!$B$11,'Lux4-sept'!$A$191=Display!$B$13),Display!$D4,)","v":0},{"$f":"IF(AND(T$8=Display!$T$10,'Lux4-sept'!$A$8=Display!$B$7,'Lux4-sept'!$A$148=Display!$B$9,'Lux4-sept'!$A$178=Display!$B$11,'Lux4-sept'!$A$191=Display!$B$13),Display!$D4,)","v":0},{"$f":"IF(AND(U$8=Display!$T$10,'Lux4-sept'!$A$8=Display!$B$7,'Lux4-sept'!$A$148=Display!$B$9,'Lux4-sept'!$A$178=Display!$B$11,'Lux4-sept'!$A$191=Display!$B$13),Display!$D4,)","v":0},{"$f":"IF(AND(V$8=Display!$T$10,'Lux4-sept'!$A$8=Display!$B$7,'Lux4-sept'!$A$148=Display!$B$9,'Lux4-sept'!$A$178=Display!$B$11,'Lux4-sept'!$A$191=Display!$B$13),Display!$D4,)","v":0},{"$f":"IF(AND(W$8=Display!$T$10,'Lux4-sept'!$A$8=Display!$B$7,'Lux4-sept'!$A$148=Display!$B$9,'Lux4-sept'!$A$178=Display!$B$11,'Lux4-sept'!$A$191=Display!$B$13),Display!$D4,)","v":0},{"$f":"IF(AND(X$8=Display!$T$10,'Lux4-sept'!$A$8=Display!$B$7,'Lux4-sept'!$A$148=Display!$B$9,'Lux4-sept'!$A$178=Display!$B$11,'Lux4-sept'!$A$191=Display!$B$13),Display!$D4,)","v":0},{"$f":"IF(AND(Y$8=Display!$T$10,'Lux4-sept'!$A$8=Display!$B$7,'Lux4-sept'!$A$148=Display!$B$9,'Lux4-sept'!$A$178=Display!$B$11,'Lux4-sept'!$A$191=Display!$B$13),Display!$D4,)","v":0},{"$f":"IF(AND(Z$8=Display!$T$10,'Lux4-sept'!$A$8=Display!$B$7,'Lux4-sept'!$A$148=Display!$B$9,'Lux4-sept'!$A$178=Display!$B$11,'Lux4-sept'!$A$191=Display!$B$13),Display!$D4,)","v":0},{"$f":"IF(AND(AA$8=Display!$T$10,'Lux4-sept'!$A$8=Display!$B$7,'Lux4-sept'!$A$148=Display!$B$9,'Lux4-sept'!$A$178=Display!$B$11,'Lux4-sept'!$A$191=Display!$B$13),Display!$D4,)","v":0},{"$f":"IF(AND(AB$8=Display!$T$10,'Lux4-sept'!$A$8=Display!$B$7,'Lux4-sept'!$A$148=Display!$B$9,'Lux4-sept'!$A$178=Display!$B$11,'Lux4-sept'!$A$191=Display!$B$13),Display!$D4,)","v":0},{"$f":"IF(AND(AC$8=Display!$T$10,'Lux4-sept'!$A$8=Display!$B$7,'Lux4-sept'!$A$148=Display!$B$9,'Lux4-sept'!$A$178=Display!$B$11,'Lux4-sept'!$A$191=Display!$B$13),Display!$D4,)","v":0},{"$f":"IF(AND(AD$8=Display!$T$10,'Lux4-sept'!$A$8=Display!$B$7,'Lux4-sept'!$A$148=Display!$B$9,'Lux4-sept'!$A$178=Display!$B$11,'Lux4-sept'!$A$191=Display!$B$13),Display!$D4,)","v":0},{"$f":"IF(AND(AE$8=Display!$T$10,'Lux4-sept'!$A$8=Display!$B$7,'Lux4-sept'!$A$148=Display!$B$9,'Lux4-sept'!$A$178=Display!$B$11,'Lux4-sept'!$A$191=Display!$B$13),Display!$D4,)","v":0},{"$f":"IF(AND(AF$8=Display!$T$10,'Lux4-sept'!$A$8=Display!$B$7,'Lux4-sept'!$A$148=Display!$B$9,'Lux4-sept'!$A$178=Display!$B$11,'Lux4-sept'!$A$191=Display!$B$13),Display!$D4,)","v":0},null,null,{"$f":"((IF((SUM(B192:AF192))<>0,(SUM(B192:AF192)),0))/(IF((SUM((IF(B192<>0,3,0)),(IF(C192<>0,3,0)),(IF(D192<>0,3,0)),(IF(E192<>0,3,0)),(IF(F192<>0,3,0)),(IF(F192<>0,3,0)),(IF(F192<>0,3,0)),(IF(G192<>0,3,0)),(IF(H192<>0,3,0)),(IF(I192<>0,3,0)),(IF(J192<>0,3,0)),(IF(K192<>0,3,0)),(IF(L192<>0,3,0)),(IF(M192<>0,3,0)),(IF(N192<>0,3,0)),(IF(O192<>0,3,0)),(IF(P192<>0,3,0)),(IF(Q192<>0,3,0)),(IF(R192<>0,3,0)),(IF(S192<>0,3,0)),(IF(T192<>0,3,0)),(IF(U192<>0,3,0)),(IF(V192<>0,3,0)),(IF(W192<>0,3,0)),(IF(X192<>0,3,0)),(IF(Y192<>0,3,0)),(IF(Z192<>0,3,0)),(IF(AA192<>0,3,0)),(IF(AB192<>0,3,0)),(IF(AC192<>0,3,0)),(IF(AD192<>0,3,0)),(IF(AE192<>0,3,0)),(IF(AF192<>0,3,0))))<>0,((SUM((IF(B192<>0,3,0)),(IF(C192<>0,3,0)),(IF(D192<>0,3,0)),(IF(E192<>0,3,0)),(IF(F192<>0,3,0)),(IF(F192<>0,3,0)),(IF(F192<>0,3,0)),(IF(G192<>0,3,0)),(IF(H192<>0,3,0)),(IF(I192<>0,3,0)),(IF(J192<>0,3,0)),(IF(K192<>0,3,0)),(IF(L192<>0,3,0)),(IF(M192<>0,3,0)),(IF(N192<>0,3,0)),(IF(O192<>0,3,0)),(IF(P192<>0,3,0)),(IF(Q192<>0,3,0)),(IF(R192<>0,3,0)),(IF(S192<>0,3,0)),(IF(T192<>0,3,0)),(IF(U192<>0,3,0)),(IF(V192<>0,3,0)),(IF(W192<>0,3,0)),(IF(X192<>0,3,0)),(IF(Y192<>0,3,0)),(IF(Z192<>0,3,0)),(IF(AA192<>0,3,0)),(IF(AB192<>0,3,0)),(IF(AC192<>0,3,0)),(IF(AD192<>0,3,0)),(IF(AE192<>0,3,0)),(IF(AF192<>0,3,0))))),1)))","v":0}]
["Recyclage des capsules Nespresso",{"$f":"IF(AND(B$8=Display!$T$10,'Lux4-sept'!$A$8=Display!$B$7,'Lux4-sept'!$A$148=Display!$B$9,'Lux4-sept'!$A$178=Display!$B$11,'Lux4-sept'!$A$191=Display!$B$13),Display!$D5,)","v":0},{"$f":"IF(AND(C$8=Display!$T$10,'Lux4-sept'!$A$8=Display!$B$7,'Lux4-sept'!$A$148=Display!$B$9,'Lux4-sept'!$A$178=Display!$B$11,'Lux4-sept'!$A$191=Display!$B$13),Display!$D5,)","v":0},{"$f":"IF(AND(D$8=Display!$T$10,'Lux4-sept'!$A$8=Display!$B$7,'Lux4-sept'!$A$148=Display!$B$9,'Lux4-sept'!$A$178=Display!$B$11,'Lux4-sept'!$A$191=Display!$B$13),Display!$D5,)","v":0},{"$f":"IF(AND(E$8=Display!$T$10,'Lux4-sept'!$A$8=Display!$B$7,'Lux4-sept'!$A$148=Display!$B$9,'Lux4-sept'!$A$178=Display!$B$11,'Lux4-sept'!$A$191=Display!$B$13),Display!$D5,)","v":0},{"$f":"IF(AND(F$8=Display!$T$10,'Lux4-sept'!$A$8=Display!$B$7,'Lux4-sept'!$A$148=Display!$B$9,'Lux4-sept'!$A$178=Display!$B$11,'Lux4-sept'!$A$191=Display!$B$13),Display!$D5,)","v":0},{"$f":"IF(AND(G$8=Display!$T$10,'Lux4-sept'!$A$8=Display!$B$7,'Lux4-sept'!$A$148=Display!$B$9,'Lux4-sept'!$A$178=Display!$B$11,'Lux4-sept'!$A$191=Display!$B$13),Display!$D5,)","v":0},{"$f":"IF(AND(H$8=Display!$T$10,'Lux4-sept'!$A$8=Display!$B$7,'Lux4-sept'!$A$148=Display!$B$9,'Lux4-sept'!$A$178=Display!$B$11,'Lux4-sept'!$A$191=Display!$B$13),Display!$D5,)","v":0},{"$f":"IF(AND(I$8=Display!$T$10,'Lux4-sept'!$A$8=Display!$B$7,'Lux4-sept'!$A$148=Display!$B$9,'Lux4-sept'!$A$178=Display!$B$11,'Lux4-sept'!$A$191=Display!$B$13),Display!$D5,)","v":0},{"$f":"IF(AND(J$8=Display!$T$10,'Lux4-sept'!$A$8=Display!$B$7,'Lux4-sept'!$A$148=Display!$B$9,'Lux4-sept'!$A$178=Display!$B$11,'Lux4-sept'!$A$191=Display!$B$13),Display!$D5,)","v":0},{"$f":"IF(AND(K$8=Display!$T$10,'Lux4-sept'!$A$8=Display!$B$7,'Lux4-sept'!$A$148=Display!$B$9,'Lux4-sept'!$A$178=Display!$B$11,'Lux4-sept'!$A$191=Display!$B$13),Display!$D5,)","v":0},{"$f":"IF(AND(L$8=Display!$T$10,'Lux4-sept'!$A$8=Display!$B$7,'Lux4-sept'!$A$148=Display!$B$9,'Lux4-sept'!$A$178=Display!$B$11,'Lux4-sept'!$A$191=Display!$B$13),Display!$D5,)","v":0},{"$f":"IF(AND(M$8=Display!$T$10,'Lux4-sept'!$A$8=Display!$B$7,'Lux4-sept'!$A$148=Display!$B$9,'Lux4-sept'!$A$178=Display!$B$11,'Lux4-sept'!$A$191=Display!$B$13),Display!$D5,)","v":0},{"$f":"IF(AND(N$8=Display!$T$10,'Lux4-sept'!$A$8=Display!$B$7,'Lux4-sept'!$A$148=Display!$B$9,'Lux4-sept'!$A$178=Display!$B$11,'Lux4-sept'!$A$191=Display!$B$13),Display!$D5,)","v":0},{"$f":"IF(AND(O$8=Display!$T$10,'Lux4-sept'!$A$8=Display!$B$7,'Lux4-sept'!$A$148=Display!$B$9,'Lux4-sept'!$A$178=Display!$B$11,'Lux4-sept'!$A$191=Display!$B$13),Display!$D5,)","v":0},{"$f":"IF(AND(P$8=Display!$T$10,'Lux4-sept'!$A$8=Display!$B$7,'Lux4-sept'!$A$148=Display!$B$9,'Lux4-sept'!$A$178=Display!$B$11,'Lux4-sept'!$A$191=Display!$B$13),Display!$D5,)","v":0},{"$f":"IF(AND(Q$8=Display!$T$10,'Lux4-sept'!$A$8=Display!$B$7,'Lux4-sept'!$A$148=Display!$B$9,'Lux4-sept'!$A$178=Display!$B$11,'Lux4-sept'!$A$191=Display!$B$13),Display!$D5,)","v":0},{"$f":"IF(AND(R$8=Display!$T$10,'Lux4-sept'!$A$8=Display!$B$7,'Lux4-sept'!$A$148=Display!$B$9,'Lux4-sept'!$A$178=Display!$B$11,'Lux4-sept'!$A$191=Display!$B$13),Display!$D5,)","v":0},{"$f":"IF(AND(S$8=Display!$T$10,'Lux4-sept'!$A$8=Display!$B$7,'Lux4-sept'!$A$148=Display!$B$9,'Lux4-sept'!$A$178=Display!$B$11,'Lux4-sept'!$A$191=Display!$B$13),Display!$D5,)","v":0},{"$f":"IF(AND(T$8=Display!$T$10,'Lux4-sept'!$A$8=Display!$B$7,'Lux4-sept'!$A$148=Display!$B$9,'Lux4-sept'!$A$178=Display!$B$11,'Lux4-sept'!$A$191=Display!$B$13),Display!$D5,)","v":0},{"$f":"IF(AND(U$8=Display!$T$10,'Lux4-sept'!$A$8=Display!$B$7,'Lux4-sept'!$A$148=Display!$B$9,'Lux4-sept'!$A$178=Display!$B$11,'Lux4-sept'!$A$191=Display!$B$13),Display!$D5,)","v":0},{"$f":"IF(AND(V$8=Display!$T$10,'Lux4-sept'!$A$8=Display!$B$7,'Lux4-sept'!$A$148=Display!$B$9,'Lux4-sept'!$A$178=Display!$B$11,'Lux4-sept'!$A$191=Display!$B$13),Display!$D5,)","v":0},{"$f":"IF(AND(W$8=Display!$T$10,'Lux4-sept'!$A$8=Display!$B$7,'Lux4-sept'!$A$148=Display!$B$9,'Lux4-sept'!$A$178=Display!$B$11,'Lux4-sept'!$A$191=Display!$B$13),Display!$D5,)","v":0},{"$f":"IF(AND(X$8=Display!$T$10,'Lux4-sept'!$A$8=Display!$B$7,'Lux4-sept'!$A$148=Display!$B$9,'Lux4-sept'!$A$178=Display!$B$11,'Lux4-sept'!$A$191=Display!$B$13),Display!$D5,)","v":0},{"$f":"IF(AND(Y$8=Display!$T$10,'Lux4-sept'!$A$8=Display!$B$7,'Lux4-sept'!$A$148=Display!$B$9,'Lux4-sept'!$A$178=Display!$B$11,'Lux4-sept'!$A$191=Display!$B$13),Display!$D5,)","v":0},{"$f":"IF(AND(Z$8=Display!$T$10,'Lux4-sept'!$A$8=Display!$B$7,'Lux4-sept'!$A$148=Display!$B$9,'Lux4-sept'!$A$178=Display!$B$11,'Lux4-sept'!$A$191=Display!$B$13),Display!$D5,)","v":0},{"$f":"IF(AND(AA$8=Display!$T$10,'Lux4-sept'!$A$8=Display!$B$7,'Lux4-sept'!$A$148=Display!$B$9,'Lux4-sept'!$A$178=Display!$B$11,'Lux4-sept'!$A$191=Display!$B$13),Display!$D5,)","v":0},{"$f":"IF(AND(AB$8=Display!$T$10,'Lux4-sept'!$A$8=Display!$B$7,'Lux4-sept'!$A$148=Display!$B$9,'Lux4-sept'!$A$178=Display!$B$11,'Lux4-sept'!$A$191=Display!$B$13),Display!$D5,)","v":0},{"$f":"IF(AND(AC$8=Display!$T$10,'Lux4-sept'!$A$8=Display!$B$7,'Lux4-sept'!$A$148=Display!$B$9,'Lux4-sept'!$A$178=Display!$B$11,'Lux4-sept'!$A$191=Display!$B$13),Display!$D5,)","v":0},{"$f":"IF(AND(AD$8=Display!$T$10,'Lux4-sept'!$A$8=Display!$B$7,'Lux4-sept'!$A$148=Display!$B$9,'Lux4-sept'!$A$178=Display!$B$11,'Lux4-sept'!$A$191=Display!$B$13),Display!$D5,)","v":0},{"$f":"IF(AND(AE$8=Display!$T$10,'Lux4-sept'!$A$8=Display!$B$7,'Lux4-sept'!$A$148=Display!$B$9,'Lux4-sept'!$A$178=Display!$B$11,'Lux4-sept'!$A$191=Display!$B$13),Display!$D5,)","v":0},{"$f":"IF(AND(AF$8=Display!$T$10,'Lux4-sept'!$A$8=Display!$B$7,'Lux4-sept'!$A$148=Display!$B$9,'Lux4-sept'!$A$178=Display!$B$11,'Lux4-sept'!$A$191=Display!$B$13),Display!$D5,)","v":0},null,null,{"$f":"((IF((SUM(B193:AF193))<>0,(SUM(B193:AF193)),0))/(IF((SUM((IF(B193<>0,3,0)),(IF(C193<>0,3,0)),(IF(D193<>0,3,0)),(IF(E193<>0,3,0)),(IF(F193<>0,3,0)),(IF(F193<>0,3,0)),(IF(F193<>0,3,0)),(IF(G193<>0,3,0)),(IF(H193<>0,3,0)),(IF(I193<>0,3,0)),(IF(J193<>0,3,0)),(IF(K193<>0,3,0)),(IF(L193<>0,3,0)),(IF(M193<>0,3,0)),(IF(N193<>0,3,0)),(IF(O193<>0,3,0)),(IF(P193<>0,3,0)),(IF(Q193<>0,3,0)),(IF(R193<>0,3,0)),(IF(S193<>0,3,0)),(IF(T193<>0,3,0)),(IF(U193<>0,3,0)),(IF(V193<>0,3,0)),(IF(W193<>0,3,0)),(IF(X193<>0,3,0)),(IF(Y193<>0,3,0)),(IF(Z193<>0,3,0)),(IF(AA193<>0,3,0)),(IF(AB193<>0,3,0)),(IF(AC193<>0,3,0)),(IF(AD193<>0,3,0)),(IF(AE193<>0,3,0)),(IF(AF193<>0,3,0))))<>0,((SUM((IF(B193<>0,3,0)),(IF(C193<>0,3,0)),(IF(D193<>0,3,0)),(IF(E193<>0,3,0)),(IF(F193<>0,3,0)),(IF(F193<>0,3,0)),(IF(F193<>0,3,0)),(IF(G193<>0,3,0)),(IF(H193<>0,3,0)),(IF(I193<>0,3,0)),(IF(J193<>0,3,0)),(IF(K193<>0,3,0)),(IF(L193<>0,3,0)),(IF(M193<>0,3,0)),(IF(N193<>0,3,0)),(IF(O193<>0,3,0)),(IF(P193<>0,3,0)),(IF(Q193<>0,3,0)),(IF(R193<>0,3,0)),(IF(S193<>0,3,0)),(IF(T193<>0,3,0)),(IF(U193<>0,3,0)),(IF(V193<>0,3,0)),(IF(W193<>0,3,0)),(IF(X193<>0,3,0)),(IF(Y193<>0,3,0)),(IF(Z193<>0,3,0)),(IF(AA193<>0,3,0)),(IF(AB193<>0,3,0)),(IF(AC193<>0,3,0)),(IF(AD193<>0,3,0)),(IF(AE193<>0,3,0)),(IF(AF193<>0,3,0))))),1)))","v":0}]
["Propreté du micro onde",{"$f":"IF(AND(B$8=Display!$T$10,'Lux4-sept'!$A$8=Display!$B$7,'Lux4-sept'!$A$148=Display!$B$9,'Lux4-sept'!$A$178=Display!$B$11,'Lux4-sept'!$A$191=Display!$B$13),Display!$D6,)","v":0},{"$f":"IF(AND(C$8=Display!$T$10,'Lux4-sept'!$A$8=Display!$B$7,'Lux4-sept'!$A$148=Display!$B$9,'Lux4-sept'!$A$178=Display!$B$11,'Lux4-sept'!$A$191=Display!$B$13),Display!$D6,)","v":0},{"$f":"IF(AND(D$8=Display!$T$10,'Lux4-sept'!$A$8=Display!$B$7,'Lux4-sept'!$A$148=Display!$B$9,'Lux4-sept'!$A$178=Display!$B$11,'Lux4-sept'!$A$191=Display!$B$13),Display!$D6,)","v":0},{"$f":"IF(AND(E$8=Display!$T$10,'Lux4-sept'!$A$8=Display!$B$7,'Lux4-sept'!$A$148=Display!$B$9,'Lux4-sept'!$A$178=Display!$B$11,'Lux4-sept'!$A$191=Display!$B$13),Display!$D6,)","v":0},{"$f":"IF(AND(F$8=Display!$T$10,'Lux4-sept'!$A$8=Display!$B$7,'Lux4-sept'!$A$148=Display!$B$9,'Lux4-sept'!$A$178=Display!$B$11,'Lux4-sept'!$A$191=Display!$B$13),Display!$D6,)","v":0},{"$f":"IF(AND(G$8=Display!$T$10,'Lux4-sept'!$A$8=Display!$B$7,'Lux4-sept'!$A$148=Display!$B$9,'Lux4-sept'!$A$178=Display!$B$11,'Lux4-sept'!$A$191=Display!$B$13),Display!$D6,)","v":0},{"$f":"IF(AND(H$8=Display!$T$10,'Lux4-sept'!$A$8=Display!$B$7,'Lux4-sept'!$A$148=Display!$B$9,'Lux4-sept'!$A$178=Display!$B$11,'Lux4-sept'!$A$191=Display!$B$13),Display!$D6,)","v":0},{"$f":"IF(AND(I$8=Display!$T$10,'Lux4-sept'!$A$8=Display!$B$7,'Lux4-sept'!$A$148=Display!$B$9,'Lux4-sept'!$A$178=Display!$B$11,'Lux4-sept'!$A$191=Display!$B$13),Display!$D6,)","v":0},{"$f":"IF(AND(J$8=Display!$T$10,'Lux4-sept'!$A$8=Display!$B$7,'Lux4-sept'!$A$148=Display!$B$9,'Lux4-sept'!$A$178=Display!$B$11,'Lux4-sept'!$A$191=Display!$B$13),Display!$D6,)","v":0},{"$f":"IF(AND(K$8=Display!$T$10,'Lux4-sept'!$A$8=Display!$B$7,'Lux4-sept'!$A$148=Display!$B$9,'Lux4-sept'!$A$178=Display!$B$11,'Lux4-sept'!$A$191=Display!$B$13),Display!$D6,)","v":0},{"$f":"IF(AND(L$8=Display!$T$10,'Lux4-sept'!$A$8=Display!$B$7,'Lux4-sept'!$A$148=Display!$B$9,'Lux4-sept'!$A$178=Display!$B$11,'Lux4-sept'!$A$191=Display!$B$13),Display!$D6,)","v":0},{"$f":"IF(AND(M$8=Display!$T$10,'Lux4-sept'!$A$8=Display!$B$7,'Lux4-sept'!$A$148=Display!$B$9,'Lux4-sept'!$A$178=Display!$B$11,'Lux4-sept'!$A$191=Display!$B$13),Display!$D6,)","v":0},{"$f":"IF(AND(N$8=Display!$T$10,'Lux4-sept'!$A$8=Display!$B$7,'Lux4-sept'!$A$148=Display!$B$9,'Lux4-sept'!$A$178=Display!$B$11,'Lux4-sept'!$A$191=Display!$B$13),Display!$D6,)","v":0},{"$f":"IF(AND(O$8=Display!$T$10,'Lux4-sept'!$A$8=Display!$B$7,'Lux4-sept'!$A$148=Display!$B$9,'Lux4-sept'!$A$178=Display!$B$11,'Lux4-sept'!$A$191=Display!$B$13),Display!$D6,)","v":0},{"$f":"IF(AND(P$8=Display!$T$10,'Lux4-sept'!$A$8=Display!$B$7,'Lux4-sept'!$A$148=Display!$B$9,'Lux4-sept'!$A$178=Display!$B$11,'Lux4-sept'!$A$191=Display!$B$13),Display!$D6,)","v":0},{"$f":"IF(AND(Q$8=Display!$T$10,'Lux4-sept'!$A$8=Display!$B$7,'Lux4-sept'!$A$148=Display!$B$9,'Lux4-sept'!$A$178=Display!$B$11,'Lux4-sept'!$A$191=Display!$B$13),Display!$D6,)","v":0},{"$f":"IF(AND(R$8=Display!$T$10,'Lux4-sept'!$A$8=Display!$B$7,'Lux4-sept'!$A$148=Display!$B$9,'Lux4-sept'!$A$178=Display!$B$11,'Lux4-sept'!$A$191=Display!$B$13),Display!$D6,)","v":0},{"$f":"IF(AND(S$8=Display!$T$10,'Lux4-sept'!$A$8=Display!$B$7,'Lux4-sept'!$A$148=Display!$B$9,'Lux4-sept'!$A$178=Display!$B$11,'Lux4-sept'!$A$191=Display!$B$13),Display!$D6,)","v":0},{"$f":"IF(AND(T$8=Display!$T$10,'Lux4-sept'!$A$8=Display!$B$7,'Lux4-sept'!$A$148=Display!$B$9,'Lux4-sept'!$A$178=Display!$B$11,'Lux4-sept'!$A$191=Display!$B$13),Display!$D6,)","v":0},{"$f":"IF(AND(U$8=Display!$T$10,'Lux4-sept'!$A$8=Display!$B$7,'Lux4-sept'!$A$148=Display!$B$9,'Lux4-sept'!$A$178=Display!$B$11,'Lux4-sept'!$A$191=Display!$B$13),Display!$D6,)","v":0},{"$f":"IF(AND(V$8=Display!$T$10,'Lux4-sept'!$A$8=Display!$B$7,'Lux4-sept'!$A$148=Display!$B$9,'Lux4-sept'!$A$178=Display!$B$11,'Lux4-sept'!$A$191=Display!$B$13),Display!$D6,)","v":0},{"$f":"IF(AND(W$8=Display!$T$10,'Lux4-sept'!$A$8=Display!$B$7,'Lux4-sept'!$A$148=Display!$B$9,'Lux4-sept'!$A$178=Display!$B$11,'Lux4-sept'!$A$191=Display!$B$13),Display!$D6,)","v":0},{"$f":"IF(AND(X$8=Display!$T$10,'Lux4-sept'!$A$8=Display!$B$7,'Lux4-sept'!$A$148=Display!$B$9,'Lux4-sept'!$A$178=Display!$B$11,'Lux4-sept'!$A$191=Display!$B$13),Display!$D6,)","v":0},{"$f":"IF(AND(Y$8=Display!$T$10,'Lux4-sept'!$A$8=Display!$B$7,'Lux4-sept'!$A$148=Display!$B$9,'Lux4-sept'!$A$178=Display!$B$11,'Lux4-sept'!$A$191=Display!$B$13),Display!$D6,)","v":0},{"$f":"IF(AND(Z$8=Display!$T$10,'Lux4-sept'!$A$8=Display!$B$7,'Lux4-sept'!$A$148=Display!$B$9,'Lux4-sept'!$A$178=Display!$B$11,'Lux4-sept'!$A$191=Display!$B$13),Display!$D6,)","v":0},{"$f":"IF(AND(AA$8=Display!$T$10,'Lux4-sept'!$A$8=Display!$B$7,'Lux4-sept'!$A$148=Display!$B$9,'Lux4-sept'!$A$178=Display!$B$11,'Lux4-sept'!$A$191=Display!$B$13),Display!$D6,)","v":0},{"$f":"IF(AND(AB$8=Display!$T$10,'Lux4-sept'!$A$8=Display!$B$7,'Lux4-sept'!$A$148=Display!$B$9,'Lux4-sept'!$A$178=Display!$B$11,'Lux4-sept'!$A$191=Display!$B$13),Display!$D6,)","v":0},{"$f":"IF(AND(AC$8=Display!$T$10,'Lux4-sept'!$A$8=Display!$B$7,'Lux4-sept'!$A$148=Display!$B$9,'Lux4-sept'!$A$178=Display!$B$11,'Lux4-sept'!$A$191=Display!$B$13),Display!$D6,)","v":0},{"$f":"IF(AND(AD$8=Display!$T$10,'Lux4-sept'!$A$8=Display!$B$7,'Lux4-sept'!$A$148=Display!$B$9,'Lux4-sept'!$A$178=Display!$B$11,'Lux4-sept'!$A$191=Display!$B$13),Display!$D6,)","v":0},{"$f":"IF(AND(AE$8=Display!$T$10,'Lux4-sept'!$A$8=Display!$B$7,'Lux4-sept'!$A$148=Display!$B$9,'Lux4-sept'!$A$178=Display!$B$11,'Lux4-sept'!$A$191=Display!$B$13),Display!$D6,)","v":0},{"$f":"IF(AND(AF$8=Display!$T$10,'Lux4-sept'!$A$8=Display!$B$7,'Lux4-sept'!$A$148=Display!$B$9,'Lux4-sept'!$A$178=Display!$B$11,'Lux4-sept'!$A$191=Display!$B$13),Display!$D6,)","v":0},null,null,0]
["Poubelles vidées et propres",{"$f":"IF(AND(B$8=Display!$T$10,'Lux4-sept'!$A$8=Display!$B$7,'Lux4-sept'!$A$148=Display!$B$9,'Lux4-sept'!$A$178=Display!$B$11,'Lux4-sept'!$A$191=Display!$B$13),Display!$D7,)","v":0},{"$f":"IF(AND(C$8=Display!$T$10,'Lux4-sept'!$A$8=Display!$B$7,'Lux4-sept'!$A$148=Display!$B$9,'Lux4-sept'!$A$178=Display!$B$11,'Lux4-sept'!$A$191=Display!$B$13),Display!$D7,)","v":0},{"$f":"IF(AND(D$8=Display!$T$10,'Lux4-sept'!$A$8=Display!$B$7,'Lux4-sept'!$A$148=Display!$B$9,'Lux4-sept'!$A$178=Display!$B$11,'Lux4-sept'!$A$191=Display!$B$13),Display!$D7,)","v":0},{"$f":"IF(AND(E$8=Display!$T$10,'Lux4-sept'!$A$8=Display!$B$7,'Lux4-sept'!$A$148=Display!$B$9,'Lux4-sept'!$A$178=Display!$B$11,'Lux4-sept'!$A$191=Display!$B$13),Display!$D7,)","v":0},{"$f":"IF(AND(F$8=Display!$T$10,'Lux4-sept'!$A$8=Display!$B$7,'Lux4-sept'!$A$148=Display!$B$9,'Lux4-sept'!$A$178=Display!$B$11,'Lux4-sept'!$A$191=Display!$B$13),Display!$D7,)","v":0},{"$f":"IF(AND(G$8=Display!$T$10,'Lux4-sept'!$A$8=Display!$B$7,'Lux4-sept'!$A$148=Display!$B$9,'Lux4-sept'!$A$178=Display!$B$11,'Lux4-sept'!$A$191=Display!$B$13),Display!$D7,)","v":0},{"$f":"IF(AND(H$8=Display!$T$10,'Lux4-sept'!$A$8=Display!$B$7,'Lux4-sept'!$A$148=Display!$B$9,'Lux4-sept'!$A$178=Display!$B$11,'Lux4-sept'!$A$191=Display!$B$13),Display!$D7,)","v":0},{"$f":"IF(AND(I$8=Display!$T$10,'Lux4-sept'!$A$8=Display!$B$7,'Lux4-sept'!$A$148=Display!$B$9,'Lux4-sept'!$A$178=Display!$B$11,'Lux4-sept'!$A$191=Display!$B$13),Display!$D7,)","v":0},{"$f":"IF(AND(J$8=Display!$T$10,'Lux4-sept'!$A$8=Display!$B$7,'Lux4-sept'!$A$148=Display!$B$9,'Lux4-sept'!$A$178=Display!$B$11,'Lux4-sept'!$A$191=Display!$B$13),Display!$D7,)","v":0},{"$f":"IF(AND(K$8=Display!$T$10,'Lux4-sept'!$A$8=Display!$B$7,'Lux4-sept'!$A$148=Display!$B$9,'Lux4-sept'!$A$178=Display!$B$11,'Lux4-sept'!$A$191=Display!$B$13),Display!$D7,)","v":0},{"$f":"IF(AND(L$8=Display!$T$10,'Lux4-sept'!$A$8=Display!$B$7,'Lux4-sept'!$A$148=Display!$B$9,'Lux4-sept'!$A$178=Display!$B$11,'Lux4-sept'!$A$191=Display!$B$13),Display!$D7,)","v":0},{"$f":"IF(AND(M$8=Display!$T$10,'Lux4-sept'!$A$8=Display!$B$7,'Lux4-sept'!$A$148=Display!$B$9,'Lux4-sept'!$A$178=Display!$B$11,'Lux4-sept'!$A$191=Display!$B$13),Display!$D7,)","v":0},{"$f":"IF(AND(N$8=Display!$T$10,'Lux4-sept'!$A$8=Display!$B$7,'Lux4-sept'!$A$148=Display!$B$9,'Lux4-sept'!$A$178=Display!$B$11,'Lux4-sept'!$A$191=Display!$B$13),Display!$D7,)","v":0},{"$f":"IF(AND(O$8=Display!$T$10,'Lux4-sept'!$A$8=Display!$B$7,'Lux4-sept'!$A$148=Display!$B$9,'Lux4-sept'!$A$178=Display!$B$11,'Lux4-sept'!$A$191=Display!$B$13),Display!$D7,)","v":0},{"$f":"IF(AND(P$8=Display!$T$10,'Lux4-sept'!$A$8=Display!$B$7,'Lux4-sept'!$A$148=Display!$B$9,'Lux4-sept'!$A$178=Display!$B$11,'Lux4-sept'!$A$191=Display!$B$13),Display!$D7,)","v":0},{"$f":"IF(AND(Q$8=Display!$T$10,'Lux4-sept'!$A$8=Display!$B$7,'Lux4-sept'!$A$148=Display!$B$9,'Lux4-sept'!$A$178=Display!$B$11,'Lux4-sept'!$A$191=Display!$B$13),Display!$D7,)","v":0},{"$f":"IF(AND(R$8=Display!$T$10,'Lux4-sept'!$A$8=Display!$B$7,'Lux4-sept'!$A$148=Display!$B$9,'Lux4-sept'!$A$178=Display!$B$11,'Lux4-sept'!$A$191=Display!$B$13),Display!$D7,)","v":0},{"$f":"IF(AND(S$8=Display!$T$10,'Lux4-sept'!$A$8=Display!$B$7,'Lux4-sept'!$A$148=Display!$B$9,'Lux4-sept'!$A$178=Display!$B$11,'Lux4-sept'!$A$191=Display!$B$13),Display!$D7,)","v":0},{"$f":"IF(AND(T$8=Display!$T$10,'Lux4-sept'!$A$8=Display!$B$7,'Lux4-sept'!$A$148=Display!$B$9,'Lux4-sept'!$A$178=Display!$B$11,'Lux4-sept'!$A$191=Display!$B$13),Display!$D7,)","v":0},{"$f":"IF(AND(U$8=Display!$T$10,'Lux4-sept'!$A$8=Display!$B$7,'Lux4-sept'!$A$148=Display!$B$9,'Lux4-sept'!$A$178=Display!$B$11,'Lux4-sept'!$A$191=Display!$B$13),Display!$D7,)","v":0},{"$f":"IF(AND(V$8=Display!$T$10,'Lux4-sept'!$A$8=Display!$B$7,'Lux4-sept'!$A$148=Display!$B$9,'Lux4-sept'!$A$178=Display!$B$11,'Lux4-sept'!$A$191=Display!$B$13),Display!$D7,)","v":0},{"$f":"IF(AND(W$8=Display!$T$10,'Lux4-sept'!$A$8=Display!$B$7,'Lux4-sept'!$A$148=Display!$B$9,'Lux4-sept'!$A$178=Display!$B$11,'Lux4-sept'!$A$191=Display!$B$13),Display!$D7,)","v":0},{"$f":"IF(AND(X$8=Display!$T$10,'Lux4-sept'!$A$8=Display!$B$7,'Lux4-sept'!$A$148=Display!$B$9,'Lux4-sept'!$A$178=Display!$B$11,'Lux4-sept'!$A$191=Display!$B$13),Display!$D7,)","v":0},{"$f":"IF(AND(Y$8=Display!$T$10,'Lux4-sept'!$A$8=Display!$B$7,'Lux4-sept'!$A$148=Display!$B$9,'Lux4-sept'!$A$178=Display!$B$11,'Lux4-sept'!$A$191=Display!$B$13),Display!$D7,)","v":0},{"$f":"IF(AND(Z$8=Display!$T$10,'Lux4-sept'!$A$8=Display!$B$7,'Lux4-sept'!$A$148=Display!$B$9,'Lux4-sept'!$A$178=Display!$B$11,'Lux4-sept'!$A$191=Display!$B$13),Display!$D7,)","v":0},{"$f":"IF(AND(AA$8=Display!$T$10,'Lux4-sept'!$A$8=Display!$B$7,'Lux4-sept'!$A$148=Display!$B$9,'Lux4-sept'!$A$178=Display!$B$11,'Lux4-sept'!$A$191=Display!$B$13),Display!$D7,)","v":0},{"$f":"IF(AND(AB$8=Display!$T$10,'Lux4-sept'!$A$8=Display!$B$7,'Lux4-sept'!$A$148=Display!$B$9,'Lux4-sept'!$A$178=Display!$B$11,'Lux4-sept'!$A$191=Display!$B$13),Display!$D7,)","v":0},{"$f":"IF(AND(AC$8=Display!$T$10,'Lux4-sept'!$A$8=Display!$B$7,'Lux4-sept'!$A$148=Display!$B$9,'Lux4-sept'!$A$178=Display!$B$11,'Lux4-sept'!$A$191=Display!$B$13),Display!$D7,)","v":0},{"$f":"IF(AND(AD$8=Display!$T$10,'Lux4-sept'!$A$8=Display!$B$7,'Lux4-sept'!$A$148=Display!$B$9,'Lux4-sept'!$A$178=Display!$B$11,'Lux4-sept'!$A$191=Display!$B$13),Display!$D7,)","v":0},{"$f":"IF(AND(AE$8=Display!$T$10,'Lux4-sept'!$A$8=Display!$B$7,'Lux4-sept'!$A$148=Display!$B$9,'Lux4-sept'!$A$178=Display!$B$11,'Lux4-sept'!$A$191=Display!$B$13),Display!$D7,)","v":0},{"$f":"IF(AND(AF$8=Display!$T$10,'Lux4-sept'!$A$8=Display!$B$7,'Lux4-sept'!$A$148=Display!$B$9,'Lux4-sept'!$A$178=Display!$B$11,'Lux4-sept'!$A$191=Display!$B$13),Display!$D7,)","v":0},null,null,0]
["Armoires propres (Intérieure et extérieure)",{"$f":"IF(AND(B$8=Display!$T$10,'Lux4-sept'!$A$8=Display!$B$7,'Lux4-sept'!$A$148=Display!$B$9,'Lux4-sept'!$A$178=Display!$B$11,'Lux4-sept'!$A$191=Display!$B$13),Display!$D8,)","v":0},{"$f":"IF(AND(C$8=Display!$T$10,'Lux4-sept'!$A$8=Display!$B$7,'Lux4-sept'!$A$148=Display!$B$9,'Lux4-sept'!$A$178=Display!$B$11,'Lux4-sept'!$A$191=Display!$B$13),Display!$D8,)","v":0},{"$f":"IF(AND(D$8=Display!$T$10,'Lux4-sept'!$A$8=Display!$B$7,'Lux4-sept'!$A$148=Display!$B$9,'Lux4-sept'!$A$178=Display!$B$11,'Lux4-sept'!$A$191=Display!$B$13),Display!$D8,)","v":0},{"$f":"IF(AND(E$8=Display!$T$10,'Lux4-sept'!$A$8=Display!$B$7,'Lux4-sept'!$A$148=Display!$B$9,'Lux4-sept'!$A$178=Display!$B$11,'Lux4-sept'!$A$191=Display!$B$13),Display!$D8,)","v":0},{"$f":"IF(AND(F$8=Display!$T$10,'Lux4-sept'!$A$8=Display!$B$7,'Lux4-sept'!$A$148=Display!$B$9,'Lux4-sept'!$A$178=Display!$B$11,'Lux4-sept'!$A$191=Display!$B$13),Display!$D8,)","v":0},{"$f":"IF(AND(G$8=Display!$T$10,'Lux4-sept'!$A$8=Display!$B$7,'Lux4-sept'!$A$148=Display!$B$9,'Lux4-sept'!$A$178=Display!$B$11,'Lux4-sept'!$A$191=Display!$B$13),Display!$D8,)","v":0},{"$f":"IF(AND(H$8=Display!$T$10,'Lux4-sept'!$A$8=Display!$B$7,'Lux4-sept'!$A$148=Display!$B$9,'Lux4-sept'!$A$178=Display!$B$11,'Lux4-sept'!$A$191=Display!$B$13),Display!$D8,)","v":0},{"$f":"IF(AND(I$8=Display!$T$10,'Lux4-sept'!$A$8=Display!$B$7,'Lux4-sept'!$A$148=Display!$B$9,'Lux4-sept'!$A$178=Display!$B$11,'Lux4-sept'!$A$191=Display!$B$13),Display!$D8,)","v":0},{"$f":"IF(AND(J$8=Display!$T$10,'Lux4-sept'!$A$8=Display!$B$7,'Lux4-sept'!$A$148=Display!$B$9,'Lux4-sept'!$A$178=Display!$B$11,'Lux4-sept'!$A$191=Display!$B$13),Display!$D8,)","v":0},{"$f":"IF(AND(K$8=Display!$T$10,'Lux4-sept'!$A$8=Display!$B$7,'Lux4-sept'!$A$148=Display!$B$9,'Lux4-sept'!$A$178=Display!$B$11,'Lux4-sept'!$A$191=Display!$B$13),Display!$D8,)","v":0},{"$f":"IF(AND(L$8=Display!$T$10,'Lux4-sept'!$A$8=Display!$B$7,'Lux4-sept'!$A$148=Display!$B$9,'Lux4-sept'!$A$178=Display!$B$11,'Lux4-sept'!$A$191=Display!$B$13),Display!$D8,)","v":0},{"$f":"IF(AND(M$8=Display!$T$10,'Lux4-sept'!$A$8=Display!$B$7,'Lux4-sept'!$A$148=Display!$B$9,'Lux4-sept'!$A$178=Display!$B$11,'Lux4-sept'!$A$191=Display!$B$13),Display!$D8,)","v":0},{"$f":"IF(AND(N$8=Display!$T$10,'Lux4-sept'!$A$8=Display!$B$7,'Lux4-sept'!$A$148=Display!$B$9,'Lux4-sept'!$A$178=Display!$B$11,'Lux4-sept'!$A$191=Display!$B$13),Display!$D8,)","v":0},{"$f":"IF(AND(O$8=Display!$T$10,'Lux4-sept'!$A$8=Display!$B$7,'Lux4-sept'!$A$148=Display!$B$9,'Lux4-sept'!$A$178=Display!$B$11,'Lux4-sept'!$A$191=Display!$B$13),Display!$D8,)","v":0},{"$f":"IF(AND(P$8=Display!$T$10,'Lux4-sept'!$A$8=Display!$B$7,'Lux4-sept'!$A$148=Display!$B$9,'Lux4-sept'!$A$178=Display!$B$11,'Lux4-sept'!$A$191=Display!$B$13),Display!$D8,)","v":0},{"$f":"IF(AND(Q$8=Display!$T$10,'Lux4-sept'!$A$8=Display!$B$7,'Lux4-sept'!$A$148=Display!$B$9,'Lux4-sept'!$A$178=Display!$B$11,'Lux4-sept'!$A$191=Display!$B$13),Display!$D8,)","v":0},{"$f":"IF(AND(R$8=Display!$T$10,'Lux4-sept'!$A$8=Display!$B$7,'Lux4-sept'!$A$148=Display!$B$9,'Lux4-sept'!$A$178=Display!$B$11,'Lux4-sept'!$A$191=Display!$B$13),Display!$D8,)","v":0},{"$f":"IF(AND(S$8=Display!$T$10,'Lux4-sept'!$A$8=Display!$B$7,'Lux4-sept'!$A$148=Display!$B$9,'Lux4-sept'!$A$178=Display!$B$11,'Lux4-sept'!$A$191=Display!$B$13),Display!$D8,)","v":0},{"$f":"IF(AND(T$8=Display!$T$10,'Lux4-sept'!$A$8=Display!$B$7,'Lux4-sept'!$A$148=Display!$B$9,'Lux4-sept'!$A$178=Display!$B$11,'Lux4-sept'!$A$191=Display!$B$13),Display!$D8,)","v":0},{"$f":"IF(AND(U$8=Display!$T$10,'Lux4-sept'!$A$8=Display!$B$7,'Lux4-sept'!$A$148=Display!$B$9,'Lux4-sept'!$A$178=Display!$B$11,'Lux4-sept'!$A$191=Display!$B$13),Display!$D8,)","v":0},{"$f":"IF(AND(V$8=Display!$T$10,'Lux4-sept'!$A$8=Display!$B$7,'Lux4-sept'!$A$148=Display!$B$9,'Lux4-sept'!$A$178=Display!$B$11,'Lux4-sept'!$A$191=Display!$B$13),Display!$D8,)","v":0},{"$f":"IF(AND(W$8=Display!$T$10,'Lux4-sept'!$A$8=Display!$B$7,'Lux4-sept'!$A$148=Display!$B$9,'Lux4-sept'!$A$178=Display!$B$11,'Lux4-sept'!$A$191=Display!$B$13),Display!$D8,)","v":0},{"$f":"IF(AND(X$8=Display!$T$10,'Lux4-sept'!$A$8=Display!$B$7,'Lux4-sept'!$A$148=Display!$B$9,'Lux4-sept'!$A$178=Display!$B$11,'Lux4-sept'!$A$191=Display!$B$13),Display!$D8,)","v":0},{"$f":"IF(AND(Y$8=Display!$T$10,'Lux4-sept'!$A$8=Display!$B$7,'Lux4-sept'!$A$148=Display!$B$9,'Lux4-sept'!$A$178=Display!$B$11,'Lux4-sept'!$A$191=Display!$B$13),Display!$D8,)","v":0},{"$f":"IF(AND(Z$8=Display!$T$10,'Lux4-sept'!$A$8=Display!$B$7,'Lux4-sept'!$A$148=Display!$B$9,'Lux4-sept'!$A$178=Display!$B$11,'Lux4-sept'!$A$191=Display!$B$13),Display!$D8,)","v":0},{"$f":"IF(AND(AA$8=Display!$T$10,'Lux4-sept'!$A$8=Display!$B$7,'Lux4-sept'!$A$148=Display!$B$9,'Lux4-sept'!$A$178=Display!$B$11,'Lux4-sept'!$A$191=Display!$B$13),Display!$D8,)","v":0},{"$f":"IF(AND(AB$8=Display!$T$10,'Lux4-sept'!$A$8=Display!$B$7,'Lux4-sept'!$A$148=Display!$B$9,'Lux4-sept'!$A$178=Display!$B$11,'Lux4-sept'!$A$191=Display!$B$13),Display!$D8,)","v":0},{"$f":"IF(AND(AC$8=Display!$T$10,'Lux4-sept'!$A$8=Display!$B$7,'Lux4-sept'!$A$148=Display!$B$9,'Lux4-sept'!$A$178=Display!$B$11,'Lux4-sept'!$A$191=Display!$B$13),Display!$D8,)","v":0},{"$f":"IF(AND(AD$8=Display!$T$10,'Lux4-sept'!$A$8=Display!$B$7,'Lux4-sept'!$A$148=Display!$B$9,'Lux4-sept'!$A$178=Display!$B$11,'Lux4-sept'!$A$191=Display!$B$13),Display!$D8,)","v":0},{"$f":"IF(AND(AE$8=Display!$T$10,'Lux4-sept'!$A$8=Display!$B$7,'Lux4-sept'!$A$148=Display!$B$9,'Lux4-sept'!$A$178=Display!$B$11,'Lux4-sept'!$A$191=Display!$B$13),Display!$D8,)","v":0},{"$f":"IF(AND(AF$8=Display!$T$10,'Lux4-sept'!$A$8=Display!$B$7,'Lux4-sept'!$A$148=Display!$B$9,'Lux4-sept'!$A$178=Display!$B$11,'Lux4-sept'!$A$191=Display!$B$13),Display!$D8,)","v":0},null,null,0]
["Vaisselles propres et rangées",{"$f":"IF(AND(B$8=Display!$T$10,'Lux4-sept'!$A$8=Display!$B$7,'Lux4-sept'!$A$148=Display!$B$9,'Lux4-sept'!$A$178=Display!$B$11,'Lux4-sept'!$A$191=Display!$B$13),Display!$D9,)","v":0},{"$f":"IF(AND(C$8=Display!$T$10,'Lux4-sept'!$A$8=Display!$B$7,'Lux4-sept'!$A$148=Display!$B$9,'Lux4-sept'!$A$178=Display!$B$11,'Lux4-sept'!$A$191=Display!$B$13),Display!$D9,)","v":0},{"$f":"IF(AND(D$8=Display!$T$10,'Lux4-sept'!$A$8=Display!$B$7,'Lux4-sept'!$A$148=Display!$B$9,'Lux4-sept'!$A$178=Display!$B$11,'Lux4-sept'!$A$191=Display!$B$13),Display!$D9,)","v":0},{"$f":"IF(AND(E$8=Display!$T$10,'Lux4-sept'!$A$8=Display!$B$7,'Lux4-sept'!$A$148=Display!$B$9,'Lux4-sept'!$A$178=Display!$B$11,'Lux4-sept'!$A$191=Display!$B$13),Display!$D9,)","v":0},{"$f":"IF(AND(F$8=Display!$T$10,'Lux4-sept'!$A$8=Display!$B$7,'Lux4-sept'!$A$148=Display!$B$9,'Lux4-sept'!$A$178=Display!$B$11,'Lux4-sept'!$A$191=Display!$B$13),Display!$D9,)","v":0},{"$f":"IF(AND(G$8=Display!$T$10,'Lux4-sept'!$A$8=Display!$B$7,'Lux4-sept'!$A$148=Display!$B$9,'Lux4-sept'!$A$178=Display!$B$11,'Lux4-sept'!$A$191=Display!$B$13),Display!$D9,)","v":0},{"$f":"IF(AND(H$8=Display!$T$10,'Lux4-sept'!$A$8=Display!$B$7,'Lux4-sept'!$A$148=Display!$B$9,'Lux4-sept'!$A$178=Display!$B$11,'Lux4-sept'!$A$191=Display!$B$13),Display!$D9,)","v":0},{"$f":"IF(AND(I$8=Display!$T$10,'Lux4-sept'!$A$8=Display!$B$7,'Lux4-sept'!$A$148=Display!$B$9,'Lux4-sept'!$A$178=Display!$B$11,'Lux4-sept'!$A$191=Display!$B$13),Display!$D9,)","v":0},{"$f":"IF(AND(J$8=Display!$T$10,'Lux4-sept'!$A$8=Display!$B$7,'Lux4-sept'!$A$148=Display!$B$9,'Lux4-sept'!$A$178=Display!$B$11,'Lux4-sept'!$A$191=Display!$B$13),Display!$D9,)","v":0},{"$f":"IF(AND(K$8=Display!$T$10,'Lux4-sept'!$A$8=Display!$B$7,'Lux4-sept'!$A$148=Display!$B$9,'Lux4-sept'!$A$178=Display!$B$11,'Lux4-sept'!$A$191=Display!$B$13),Display!$D9,)","v":0},{"$f":"IF(AND(L$8=Display!$T$10,'Lux4-sept'!$A$8=Display!$B$7,'Lux4-sept'!$A$148=Display!$B$9,'Lux4-sept'!$A$178=Display!$B$11,'Lux4-sept'!$A$191=Display!$B$13),Display!$D9,)","v":0},{"$f":"IF(AND(M$8=Display!$T$10,'Lux4-sept'!$A$8=Display!$B$7,'Lux4-sept'!$A$148=Display!$B$9,'Lux4-sept'!$A$178=Display!$B$11,'Lux4-sept'!$A$191=Display!$B$13),Display!$D9,)","v":0},{"$f":"IF(AND(N$8=Display!$T$10,'Lux4-sept'!$A$8=Display!$B$7,'Lux4-sept'!$A$148=Display!$B$9,'Lux4-sept'!$A$178=Display!$B$11,'Lux4-sept'!$A$191=Display!$B$13),Display!$D9,)","v":0},{"$f":"IF(AND(O$8=Display!$T$10,'Lux4-sept'!$A$8=Display!$B$7,'Lux4-sept'!$A$148=Display!$B$9,'Lux4-sept'!$A$178=Display!$B$11,'Lux4-sept'!$A$191=Display!$B$13),Display!$D9,)","v":0},{"$f":"IF(AND(P$8=Display!$T$10,'Lux4-sept'!$A$8=Display!$B$7,'Lux4-sept'!$A$148=Display!$B$9,'Lux4-sept'!$A$178=Display!$B$11,'Lux4-sept'!$A$191=Display!$B$13),Display!$D9,)","v":0},{"$f":"IF(AND(Q$8=Display!$T$10,'Lux4-sept'!$A$8=Display!$B$7,'Lux4-sept'!$A$148=Display!$B$9,'Lux4-sept'!$A$178=Display!$B$11,'Lux4-sept'!$A$191=Display!$B$13),Display!$D9,)","v":0},{"$f":"IF(AND(R$8=Display!$T$10,'Lux4-sept'!$A$8=Display!$B$7,'Lux4-sept'!$A$148=Display!$B$9,'Lux4-sept'!$A$178=Display!$B$11,'Lux4-sept'!$A$191=Display!$B$13),Display!$D9,)","v":0},{"$f":"IF(AND(S$8=Display!$T$10,'Lux4-sept'!$A$8=Display!$B$7,'Lux4-sept'!$A$148=Display!$B$9,'Lux4-sept'!$A$178=Display!$B$11,'Lux4-sept'!$A$191=Display!$B$13),Display!$D9,)","v":0},{"$f":"IF(AND(T$8=Display!$T$10,'Lux4-sept'!$A$8=Display!$B$7,'Lux4-sept'!$A$148=Display!$B$9,'Lux4-sept'!$A$178=Display!$B$11,'Lux4-sept'!$A$191=Display!$B$13),Display!$D9,)","v":0},{"$f":"IF(AND(U$8=Display!$T$10,'Lux4-sept'!$A$8=Display!$B$7,'Lux4-sept'!$A$148=Display!$B$9,'Lux4-sept'!$A$178=Display!$B$11,'Lux4-sept'!$A$191=Display!$B$13),Display!$D9,)","v":0},{"$f":"IF(AND(V$8=Display!$T$10,'Lux4-sept'!$A$8=Display!$B$7,'Lux4-sept'!$A$148=Display!$B$9,'Lux4-sept'!$A$178=Display!$B$11,'Lux4-sept'!$A$191=Display!$B$13),Display!$D9,)","v":0},{"$f":"IF(AND(W$8=Display!$T$10,'Lux4-sept'!$A$8=Display!$B$7,'Lux4-sept'!$A$148=Display!$B$9,'Lux4-sept'!$A$178=Display!$B$11,'Lux4-sept'!$A$191=Display!$B$13),Display!$D9,)","v":0},{"$f":"IF(AND(X$8=Display!$T$10,'Lux4-sept'!$A$8=Display!$B$7,'Lux4-sept'!$A$148=Display!$B$9,'Lux4-sept'!$A$178=Display!$B$11,'Lux4-sept'!$A$191=Display!$B$13),Display!$D9,)","v":0},{"$f":"IF(AND(Y$8=Display!$T$10,'Lux4-sept'!$A$8=Display!$B$7,'Lux4-sept'!$A$148=Display!$B$9,'Lux4-sept'!$A$178=Display!$B$11,'Lux4-sept'!$A$191=Display!$B$13),Display!$D9,)","v":0},{"$f":"IF(AND(Z$8=Display!$T$10,'Lux4-sept'!$A$8=Display!$B$7,'Lux4-sept'!$A$148=Display!$B$9,'Lux4-sept'!$A$178=Display!$B$11,'Lux4-sept'!$A$191=Display!$B$13),Display!$D9,)","v":0},{"$f":"IF(AND(AA$8=Display!$T$10,'Lux4-sept'!$A$8=Display!$B$7,'Lux4-sept'!$A$148=Display!$B$9,'Lux4-sept'!$A$178=Display!$B$11,'Lux4-sept'!$A$191=Display!$B$13),Display!$D9,)","v":0},{"$f":"IF(AND(AB$8=Display!$T$10,'Lux4-sept'!$A$8=Display!$B$7,'Lux4-sept'!$A$148=Display!$B$9,'Lux4-sept'!$A$178=Display!$B$11,'Lux4-sept'!$A$191=Display!$B$13),Display!$D9,)","v":0},{"$f":"IF(AND(AC$8=Display!$T$10,'Lux4-sept'!$A$8=Display!$B$7,'Lux4-sept'!$A$148=Display!$B$9,'Lux4-sept'!$A$178=Display!$B$11,'Lux4-sept'!$A$191=Display!$B$13),Display!$D9,)","v":0},{"$f":"IF(AND(AD$8=Display!$T$10,'Lux4-sept'!$A$8=Display!$B$7,'Lux4-sept'!$A$148=Display!$B$9,'Lux4-sept'!$A$178=Display!$B$11,'Lux4-sept'!$A$191=Display!$B$13),Display!$D9,)","v":0},{"$f":"IF(AND(AE$8=Display!$T$10,'Lux4-sept'!$A$8=Display!$B$7,'Lux4-sept'!$A$148=Display!$B$9,'Lux4-sept'!$A$178=Display!$B$11,'Lux4-sept'!$A$191=Display!$B$13),Display!$D9,)","v":0},{"$f":"IF(AND(AF$8=Display!$T$10,'Lux4-sept'!$A$8=Display!$B$7,'Lux4-sept'!$A$148=Display!$B$9,'Lux4-sept'!$A$178=Display!$B$11,'Lux4-sept'!$A$191=Display!$B$13),Display!$D9,)","v":0},null,null,0]
["Rebords de fenêtres",{"$f":"IF(AND(B$8=Display!$T$10,'Lux4-sept'!$A$8=Display!$B$7,'Lux4-sept'!$A$148=Display!$B$9,'Lux4-sept'!$A$178=Display!$B$11,'Lux4-sept'!$A$191=Display!$B$13),Display!$D10,)","v":0},{"$f":"IF(AND(C$8=Display!$T$10,'Lux4-sept'!$A$8=Display!$B$7,'Lux4-sept'!$A$148=Display!$B$9,'Lux4-sept'!$A$178=Display!$B$11,'Lux4-sept'!$A$191=Display!$B$13),Display!$D10,)","v":0},{"$f":"IF(AND(D$8=Display!$T$10,'Lux4-sept'!$A$8=Display!$B$7,'Lux4-sept'!$A$148=Display!$B$9,'Lux4-sept'!$A$178=Display!$B$11,'Lux4-sept'!$A$191=Display!$B$13),Display!$D10,)","v":0},{"$f":"IF(AND(E$8=Display!$T$10,'Lux4-sept'!$A$8=Display!$B$7,'Lux4-sept'!$A$148=Display!$B$9,'Lux4-sept'!$A$178=Display!$B$11,'Lux4-sept'!$A$191=Display!$B$13),Display!$D10,)","v":0},{"$f":"IF(AND(F$8=Display!$T$10,'Lux4-sept'!$A$8=Display!$B$7,'Lux4-sept'!$A$148=Display!$B$9,'Lux4-sept'!$A$178=Display!$B$11,'Lux4-sept'!$A$191=Display!$B$13),Display!$D10,)","v":0},{"$f":"IF(AND(G$8=Display!$T$10,'Lux4-sept'!$A$8=Display!$B$7,'Lux4-sept'!$A$148=Display!$B$9,'Lux4-sept'!$A$178=Display!$B$11,'Lux4-sept'!$A$191=Display!$B$13),Display!$D10,)","v":0},{"$f":"IF(AND(H$8=Display!$T$10,'Lux4-sept'!$A$8=Display!$B$7,'Lux4-sept'!$A$148=Display!$B$9,'Lux4-sept'!$A$178=Display!$B$11,'Lux4-sept'!$A$191=Display!$B$13),Display!$D10,)","v":0},{"$f":"IF(AND(I$8=Display!$T$10,'Lux4-sept'!$A$8=Display!$B$7,'Lux4-sept'!$A$148=Display!$B$9,'Lux4-sept'!$A$178=Display!$B$11,'Lux4-sept'!$A$191=Display!$B$13),Display!$D10,)","v":0},{"$f":"IF(AND(J$8=Display!$T$10,'Lux4-sept'!$A$8=Display!$B$7,'Lux4-sept'!$A$148=Display!$B$9,'Lux4-sept'!$A$178=Display!$B$11,'Lux4-sept'!$A$191=Display!$B$13),Display!$D10,)","v":0},{"$f":"IF(AND(K$8=Display!$T$10,'Lux4-sept'!$A$8=Display!$B$7,'Lux4-sept'!$A$148=Display!$B$9,'Lux4-sept'!$A$178=Display!$B$11,'Lux4-sept'!$A$191=Display!$B$13),Display!$D10,)","v":0},{"$f":"IF(AND(L$8=Display!$T$10,'Lux4-sept'!$A$8=Display!$B$7,'Lux4-sept'!$A$148=Display!$B$9,'Lux4-sept'!$A$178=Display!$B$11,'Lux4-sept'!$A$191=Display!$B$13),Display!$D10,)","v":0},{"$f":"IF(AND(M$8=Display!$T$10,'Lux4-sept'!$A$8=Display!$B$7,'Lux4-sept'!$A$148=Display!$B$9,'Lux4-sept'!$A$178=Display!$B$11,'Lux4-sept'!$A$191=Display!$B$13),Display!$D10,)","v":0},{"$f":"IF(AND(N$8=Display!$T$10,'Lux4-sept'!$A$8=Display!$B$7,'Lux4-sept'!$A$148=Display!$B$9,'Lux4-sept'!$A$178=Display!$B$11,'Lux4-sept'!$A$191=Display!$B$13),Display!$D10,)","v":0},{"$f":"IF(AND(O$8=Display!$T$10,'Lux4-sept'!$A$8=Display!$B$7,'Lux4-sept'!$A$148=Display!$B$9,'Lux4-sept'!$A$178=Display!$B$11,'Lux4-sept'!$A$191=Display!$B$13),Display!$D10,)","v":0},{"$f":"IF(AND(P$8=Display!$T$10,'Lux4-sept'!$A$8=Display!$B$7,'Lux4-sept'!$A$148=Display!$B$9,'Lux4-sept'!$A$178=Display!$B$11,'Lux4-sept'!$A$191=Display!$B$13),Display!$D10,)","v":0},{"$f":"IF(AND(Q$8=Display!$T$10,'Lux4-sept'!$A$8=Display!$B$7,'Lux4-sept'!$A$148=Display!$B$9,'Lux4-sept'!$A$178=Display!$B$11,'Lux4-sept'!$A$191=Display!$B$13),Display!$D10,)","v":0},{"$f":"IF(AND(R$8=Display!$T$10,'Lux4-sept'!$A$8=Display!$B$7,'Lux4-sept'!$A$148=Display!$B$9,'Lux4-sept'!$A$178=Display!$B$11,'Lux4-sept'!$A$191=Display!$B$13),Display!$D10,)","v":0},{"$f":"IF(AND(S$8=Display!$T$10,'Lux4-sept'!$A$8=Display!$B$7,'Lux4-sept'!$A$148=Display!$B$9,'Lux4-sept'!$A$178=Display!$B$11,'Lux4-sept'!$A$191=Display!$B$13),Display!$D10,)","v":0},{"$f":"IF(AND(T$8=Display!$T$10,'Lux4-sept'!$A$8=Display!$B$7,'Lux4-sept'!$A$148=Display!$B$9,'Lux4-sept'!$A$178=Display!$B$11,'Lux4-sept'!$A$191=Display!$B$13),Display!$D10,)","v":0},{"$f":"IF(AND(U$8=Display!$T$10,'Lux4-sept'!$A$8=Display!$B$7,'Lux4-sept'!$A$148=Display!$B$9,'Lux4-sept'!$A$178=Display!$B$11,'Lux4-sept'!$A$191=Display!$B$13),Display!$D10,)","v":0},{"$f":"IF(AND(V$8=Display!$T$10,'Lux4-sept'!$A$8=Display!$B$7,'Lux4-sept'!$A$148=Display!$B$9,'Lux4-sept'!$A$178=Display!$B$11,'Lux4-sept'!$A$191=Display!$B$13),Display!$D10,)","v":0},{"$f":"IF(AND(W$8=Display!$T$10,'Lux4-sept'!$A$8=Display!$B$7,'Lux4-sept'!$A$148=Display!$B$9,'Lux4-sept'!$A$178=Display!$B$11,'Lux4-sept'!$A$191=Display!$B$13),Display!$D10,)","v":0},{"$f":"IF(AND(X$8=Display!$T$10,'Lux4-sept'!$A$8=Display!$B$7,'Lux4-sept'!$A$148=Display!$B$9,'Lux4-sept'!$A$178=Display!$B$11,'Lux4-sept'!$A$191=Display!$B$13),Display!$D10,)","v":0},{"$f":"IF(AND(Y$8=Display!$T$10,'Lux4-sept'!$A$8=Display!$B$7,'Lux4-sept'!$A$148=Display!$B$9,'Lux4-sept'!$A$178=Display!$B$11,'Lux4-sept'!$A$191=Display!$B$13),Display!$D10,)","v":0},{"$f":"IF(AND(Z$8=Display!$T$10,'Lux4-sept'!$A$8=Display!$B$7,'Lux4-sept'!$A$148=Display!$B$9,'Lux4-sept'!$A$178=Display!$B$11,'Lux4-sept'!$A$191=Display!$B$13),Display!$D10,)","v":0},{"$f":"IF(AND(AA$8=Display!$T$10,'Lux4-sept'!$A$8=Display!$B$7,'Lux4-sept'!$A$148=Display!$B$9,'Lux4-sept'!$A$178=Display!$B$11,'Lux4-sept'!$A$191=Display!$B$13),Display!$D10,)","v":0},{"$f":"IF(AND(AB$8=Display!$T$10,'Lux4-sept'!$A$8=Display!$B$7,'Lux4-sept'!$A$148=Display!$B$9,'Lux4-sept'!$A$178=Display!$B$11,'Lux4-sept'!$A$191=Display!$B$13),Display!$D10,)","v":0},{"$f":"IF(AND(AC$8=Display!$T$10,'Lux4-sept'!$A$8=Display!$B$7,'Lux4-sept'!$A$148=Display!$B$9,'Lux4-sept'!$A$178=Display!$B$11,'Lux4-sept'!$A$191=Display!$B$13),Display!$D10,)","v":0},{"$f":"IF(AND(AD$8=Display!$T$10,'Lux4-sept'!$A$8=Display!$B$7,'Lux4-sept'!$A$148=Display!$B$9,'Lux4-sept'!$A$178=Display!$B$11,'Lux4-sept'!$A$191=Display!$B$13),Display!$D10,)","v":0},{"$f":"IF(AND(AE$8=Display!$T$10,'Lux4-sept'!$A$8=Display!$B$7,'Lux4-sept'!$A$148=Display!$B$9,'Lux4-sept'!$A$178=Display!$B$11,'Lux4-sept'!$A$191=Display!$B$13),Display!$D10,)","v":0},{"$f":"IF(AND(AF$8=Display!$T$10,'Lux4-sept'!$A$8=Display!$B$7,'Lux4-sept'!$A$148=Display!$B$9,'Lux4-sept'!$A$178=Display!$B$11,'Lux4-sept'!$A$191=Display!$B$13),Display!$D10,)","v":0},null,null,0]
["Lave vaiselle vidé",{"$f":"IF(AND(B$8=Display!$T$10,'Lux4-sept'!$A$8=Display!$B$7,'Lux4-sept'!$A$148=Display!$B$9,'Lux4-sept'!$A$178=Display!$B$11,'Lux4-sept'!$A$191=Display!$B$13),Display!$D11,)","v":0},{"$f":"IF(AND(C$8=Display!$T$10,'Lux4-sept'!$A$8=Display!$B$7,'Lux4-sept'!$A$148=Display!$B$9,'Lux4-sept'!$A$178=Display!$B$11,'Lux4-sept'!$A$191=Display!$B$13),Display!$D11,)","v":0},{"$f":"IF(AND(D$8=Display!$T$10,'Lux4-sept'!$A$8=Display!$B$7,'Lux4-sept'!$A$148=Display!$B$9,'Lux4-sept'!$A$178=Display!$B$11,'Lux4-sept'!$A$191=Display!$B$13),Display!$D11,)","v":0},{"$f":"IF(AND(E$8=Display!$T$10,'Lux4-sept'!$A$8=Display!$B$7,'Lux4-sept'!$A$148=Display!$B$9,'Lux4-sept'!$A$178=Display!$B$11,'Lux4-sept'!$A$191=Display!$B$13),Display!$D11,)","v":0},{"$f":"IF(AND(F$8=Display!$T$10,'Lux4-sept'!$A$8=Display!$B$7,'Lux4-sept'!$A$148=Display!$B$9,'Lux4-sept'!$A$178=Display!$B$11,'Lux4-sept'!$A$191=Display!$B$13),Display!$D11,)","v":0},{"$f":"IF(AND(G$8=Display!$T$10,'Lux4-sept'!$A$8=Display!$B$7,'Lux4-sept'!$A$148=Display!$B$9,'Lux4-sept'!$A$178=Display!$B$11,'Lux4-sept'!$A$191=Display!$B$13),Display!$D11,)","v":0},{"$f":"IF(AND(H$8=Display!$T$10,'Lux4-sept'!$A$8=Display!$B$7,'Lux4-sept'!$A$148=Display!$B$9,'Lux4-sept'!$A$178=Display!$B$11,'Lux4-sept'!$A$191=Display!$B$13),Display!$D11,)","v":0},{"$f":"IF(AND(I$8=Display!$T$10,'Lux4-sept'!$A$8=Display!$B$7,'Lux4-sept'!$A$148=Display!$B$9,'Lux4-sept'!$A$178=Display!$B$11,'Lux4-sept'!$A$191=Display!$B$13),Display!$D11,)","v":0},{"$f":"IF(AND(J$8=Display!$T$10,'Lux4-sept'!$A$8=Display!$B$7,'Lux4-sept'!$A$148=Display!$B$9,'Lux4-sept'!$A$178=Display!$B$11,'Lux4-sept'!$A$191=Display!$B$13),Display!$D11,)","v":0},{"$f":"IF(AND(K$8=Display!$T$10,'Lux4-sept'!$A$8=Display!$B$7,'Lux4-sept'!$A$148=Display!$B$9,'Lux4-sept'!$A$178=Display!$B$11,'Lux4-sept'!$A$191=Display!$B$13),Display!$D11,)","v":0},{"$f":"IF(AND(L$8=Display!$T$10,'Lux4-sept'!$A$8=Display!$B$7,'Lux4-sept'!$A$148=Display!$B$9,'Lux4-sept'!$A$178=Display!$B$11,'Lux4-sept'!$A$191=Display!$B$13),Display!$D11,)","v":0},{"$f":"IF(AND(M$8=Display!$T$10,'Lux4-sept'!$A$8=Display!$B$7,'Lux4-sept'!$A$148=Display!$B$9,'Lux4-sept'!$A$178=Display!$B$11,'Lux4-sept'!$A$191=Display!$B$13),Display!$D11,)","v":0},{"$f":"IF(AND(N$8=Display!$T$10,'Lux4-sept'!$A$8=Display!$B$7,'Lux4-sept'!$A$148=Display!$B$9,'Lux4-sept'!$A$178=Display!$B$11,'Lux4-sept'!$A$191=Display!$B$13),Display!$D11,)","v":0},{"$f":"IF(AND(O$8=Display!$T$10,'Lux4-sept'!$A$8=Display!$B$7,'Lux4-sept'!$A$148=Display!$B$9,'Lux4-sept'!$A$178=Display!$B$11,'Lux4-sept'!$A$191=Display!$B$13),Display!$D11,)","v":0},{"$f":"IF(AND(P$8=Display!$T$10,'Lux4-sept'!$A$8=Display!$B$7,'Lux4-sept'!$A$148=Display!$B$9,'Lux4-sept'!$A$178=Display!$B$11,'Lux4-sept'!$A$191=Display!$B$13),Display!$D11,)","v":0},{"$f":"IF(AND(Q$8=Display!$T$10,'Lux4-sept'!$A$8=Display!$B$7,'Lux4-sept'!$A$148=Display!$B$9,'Lux4-sept'!$A$178=Display!$B$11,'Lux4-sept'!$A$191=Display!$B$13),Display!$D11,)","v":0},{"$f":"IF(AND(R$8=Display!$T$10,'Lux4-sept'!$A$8=Display!$B$7,'Lux4-sept'!$A$148=Display!$B$9,'Lux4-sept'!$A$178=Display!$B$11,'Lux4-sept'!$A$191=Display!$B$13),Display!$D11,)","v":0},{"$f":"IF(AND(S$8=Display!$T$10,'Lux4-sept'!$A$8=Display!$B$7,'Lux4-sept'!$A$148=Display!$B$9,'Lux4-sept'!$A$178=Display!$B$11,'Lux4-sept'!$A$191=Display!$B$13),Display!$D11,)","v":0},{"$f":"IF(AND(T$8=Display!$T$10,'Lux4-sept'!$A$8=Display!$B$7,'Lux4-sept'!$A$148=Display!$B$9,'Lux4-sept'!$A$178=Display!$B$11,'Lux4-sept'!$A$191=Display!$B$13),Display!$D11,)","v":0},{"$f":"IF(AND(U$8=Display!$T$10,'Lux4-sept'!$A$8=Display!$B$7,'Lux4-sept'!$A$148=Display!$B$9,'Lux4-sept'!$A$178=Display!$B$11,'Lux4-sept'!$A$191=Display!$B$13),Display!$D11,)","v":0},{"$f":"IF(AND(V$8=Display!$T$10,'Lux4-sept'!$A$8=Display!$B$7,'Lux4-sept'!$A$148=Display!$B$9,'Lux4-sept'!$A$178=Display!$B$11,'Lux4-sept'!$A$191=Display!$B$13),Display!$D11,)","v":0},{"$f":"IF(AND(W$8=Display!$T$10,'Lux4-sept'!$A$8=Display!$B$7,'Lux4-sept'!$A$148=Display!$B$9,'Lux4-sept'!$A$178=Display!$B$11,'Lux4-sept'!$A$191=Display!$B$13),Display!$D11,)","v":0},{"$f":"IF(AND(X$8=Display!$T$10,'Lux4-sept'!$A$8=Display!$B$7,'Lux4-sept'!$A$148=Display!$B$9,'Lux4-sept'!$A$178=Display!$B$11,'Lux4-sept'!$A$191=Display!$B$13),Display!$D11,)","v":0},{"$f":"IF(AND(Y$8=Display!$T$10,'Lux4-sept'!$A$8=Display!$B$7,'Lux4-sept'!$A$148=Display!$B$9,'Lux4-sept'!$A$178=Display!$B$11,'Lux4-sept'!$A$191=Display!$B$13),Display!$D11,)","v":0},{"$f":"IF(AND(Z$8=Display!$T$10,'Lux4-sept'!$A$8=Display!$B$7,'Lux4-sept'!$A$148=Display!$B$9,'Lux4-sept'!$A$178=Display!$B$11,'Lux4-sept'!$A$191=Display!$B$13),Display!$D11,)","v":0},{"$f":"IF(AND(AA$8=Display!$T$10,'Lux4-sept'!$A$8=Display!$B$7,'Lux4-sept'!$A$148=Display!$B$9,'Lux4-sept'!$A$178=Display!$B$11,'Lux4-sept'!$A$191=Display!$B$13),Display!$D11,)","v":0},{"$f":"IF(AND(AB$8=Display!$T$10,'Lux4-sept'!$A$8=Display!$B$7,'Lux4-sept'!$A$148=Display!$B$9,'Lux4-sept'!$A$178=Display!$B$11,'Lux4-sept'!$A$191=Display!$B$13),Display!$D11,)","v":0},{"$f":"IF(AND(AC$8=Display!$T$10,'Lux4-sept'!$A$8=Display!$B$7,'Lux4-sept'!$A$148=Display!$B$9,'Lux4-sept'!$A$178=Display!$B$11,'Lux4-sept'!$A$191=Display!$B$13),Display!$D11,)","v":0},{"$f":"IF(AND(AD$8=Display!$T$10,'Lux4-sept'!$A$8=Display!$B$7,'Lux4-sept'!$A$148=Display!$B$9,'Lux4-sept'!$A$178=Display!$B$11,'Lux4-sept'!$A$191=Display!$B$13),Display!$D11,)","v":0},{"$f":"IF(AND(AE$8=Display!$T$10,'Lux4-sept'!$A$8=Display!$B$7,'Lux4-sept'!$A$148=Display!$B$9,'Lux4-sept'!$A$178=Display!$B$11,'Lux4-sept'!$A$191=Display!$B$13),Display!$D11,)","v":0},{"$f":"IF(AND(AF$8=Display!$T$10,'Lux4-sept'!$A$8=Display!$B$7,'Lux4-sept'!$A$148=Display!$B$9,'Lux4-sept'!$A$178=Display!$B$11,'Lux4-sept'!$A$191=Display!$B$13),Display!$D11,)","v":0},null,null,0]
["Propreté des sols",{"$f":"IF(AND(B$8=Display!$T$10,'Lux4-sept'!$A$8=Display!$B$7,'Lux4-sept'!$A$148=Display!$B$9,'Lux4-sept'!$A$178=Display!$B$11,'Lux4-sept'!$A$191=Display!$B$13),Display!$D12,)","v":0},{"$f":"IF(AND(C$8=Display!$T$10,'Lux4-sept'!$A$8=Display!$B$7,'Lux4-sept'!$A$148=Display!$B$9,'Lux4-sept'!$A$178=Display!$B$11,'Lux4-sept'!$A$191=Display!$B$13),Display!$D12,)","v":0},{"$f":"IF(AND(D$8=Display!$T$10,'Lux4-sept'!$A$8=Display!$B$7,'Lux4-sept'!$A$148=Display!$B$9,'Lux4-sept'!$A$178=Display!$B$11,'Lux4-sept'!$A$191=Display!$B$13),Display!$D12,)","v":0},{"$f":"IF(AND(E$8=Display!$T$10,'Lux4-sept'!$A$8=Display!$B$7,'Lux4-sept'!$A$148=Display!$B$9,'Lux4-sept'!$A$178=Display!$B$11,'Lux4-sept'!$A$191=Display!$B$13),Display!$D12,)","v":0},{"$f":"IF(AND(F$8=Display!$T$10,'Lux4-sept'!$A$8=Display!$B$7,'Lux4-sept'!$A$148=Display!$B$9,'Lux4-sept'!$A$178=Display!$B$11,'Lux4-sept'!$A$191=Display!$B$13),Display!$D12,)","v":0},{"$f":"IF(AND(G$8=Display!$T$10,'Lux4-sept'!$A$8=Display!$B$7,'Lux4-sept'!$A$148=Display!$B$9,'Lux4-sept'!$A$178=Display!$B$11,'Lux4-sept'!$A$191=Display!$B$13),Display!$D12,)","v":0},{"$f":"IF(AND(H$8=Display!$T$10,'Lux4-sept'!$A$8=Display!$B$7,'Lux4-sept'!$A$148=Display!$B$9,'Lux4-sept'!$A$178=Display!$B$11,'Lux4-sept'!$A$191=Display!$B$13),Display!$D12,)","v":0},{"$f":"IF(AND(I$8=Display!$T$10,'Lux4-sept'!$A$8=Display!$B$7,'Lux4-sept'!$A$148=Display!$B$9,'Lux4-sept'!$A$178=Display!$B$11,'Lux4-sept'!$A$191=Display!$B$13),Display!$D12,)","v":0},{"$f":"IF(AND(J$8=Display!$T$10,'Lux4-sept'!$A$8=Display!$B$7,'Lux4-sept'!$A$148=Display!$B$9,'Lux4-sept'!$A$178=Display!$B$11,'Lux4-sept'!$A$191=Display!$B$13),Display!$D12,)","v":0},{"$f":"IF(AND(K$8=Display!$T$10,'Lux4-sept'!$A$8=Display!$B$7,'Lux4-sept'!$A$148=Display!$B$9,'Lux4-sept'!$A$178=Display!$B$11,'Lux4-sept'!$A$191=Display!$B$13),Display!$D12,)","v":0},{"$f":"IF(AND(L$8=Display!$T$10,'Lux4-sept'!$A$8=Display!$B$7,'Lux4-sept'!$A$148=Display!$B$9,'Lux4-sept'!$A$178=Display!$B$11,'Lux4-sept'!$A$191=Display!$B$13),Display!$D12,)","v":0},{"$f":"IF(AND(M$8=Display!$T$10,'Lux4-sept'!$A$8=Display!$B$7,'Lux4-sept'!$A$148=Display!$B$9,'Lux4-sept'!$A$178=Display!$B$11,'Lux4-sept'!$A$191=Display!$B$13),Display!$D12,)","v":0},{"$f":"IF(AND(N$8=Display!$T$10,'Lux4-sept'!$A$8=Display!$B$7,'Lux4-sept'!$A$148=Display!$B$9,'Lux4-sept'!$A$178=Display!$B$11,'Lux4-sept'!$A$191=Display!$B$13),Display!$D12,)","v":0},{"$f":"IF(AND(O$8=Display!$T$10,'Lux4-sept'!$A$8=Display!$B$7,'Lux4-sept'!$A$148=Display!$B$9,'Lux4-sept'!$A$178=Display!$B$11,'Lux4-sept'!$A$191=Display!$B$13),Display!$D12,)","v":0},{"$f":"IF(AND(P$8=Display!$T$10,'Lux4-sept'!$A$8=Display!$B$7,'Lux4-sept'!$A$148=Display!$B$9,'Lux4-sept'!$A$178=Display!$B$11,'Lux4-sept'!$A$191=Display!$B$13),Display!$D12,)","v":0},{"$f":"IF(AND(Q$8=Display!$T$10,'Lux4-sept'!$A$8=Display!$B$7,'Lux4-sept'!$A$148=Display!$B$9,'Lux4-sept'!$A$178=Display!$B$11,'Lux4-sept'!$A$191=Display!$B$13),Display!$D12,)","v":0},{"$f":"IF(AND(R$8=Display!$T$10,'Lux4-sept'!$A$8=Display!$B$7,'Lux4-sept'!$A$148=Display!$B$9,'Lux4-sept'!$A$178=Display!$B$11,'Lux4-sept'!$A$191=Display!$B$13),Display!$D12,)","v":0},{"$f":"IF(AND(S$8=Display!$T$10,'Lux4-sept'!$A$8=Display!$B$7,'Lux4-sept'!$A$148=Display!$B$9,'Lux4-sept'!$A$178=Display!$B$11,'Lux4-sept'!$A$191=Display!$B$13),Display!$D12,)","v":0},{"$f":"IF(AND(T$8=Display!$T$10,'Lux4-sept'!$A$8=Display!$B$7,'Lux4-sept'!$A$148=Display!$B$9,'Lux4-sept'!$A$178=Display!$B$11,'Lux4-sept'!$A$191=Display!$B$13),Display!$D12,)","v":0},{"$f":"IF(AND(U$8=Display!$T$10,'Lux4-sept'!$A$8=Display!$B$7,'Lux4-sept'!$A$148=Display!$B$9,'Lux4-sept'!$A$178=Display!$B$11,'Lux4-sept'!$A$191=Display!$B$13),Display!$D12,)","v":0},{"$f":"IF(AND(V$8=Display!$T$10,'Lux4-sept'!$A$8=Display!$B$7,'Lux4-sept'!$A$148=Display!$B$9,'Lux4-sept'!$A$178=Display!$B$11,'Lux4-sept'!$A$191=Display!$B$13),Display!$D12,)","v":0},{"$f":"IF(AND(W$8=Display!$T$10,'Lux4-sept'!$A$8=Display!$B$7,'Lux4-sept'!$A$148=Display!$B$9,'Lux4-sept'!$A$178=Display!$B$11,'Lux4-sept'!$A$191=Display!$B$13),Display!$D12,)","v":0},{"$f":"IF(AND(X$8=Display!$T$10,'Lux4-sept'!$A$8=Display!$B$7,'Lux4-sept'!$A$148=Display!$B$9,'Lux4-sept'!$A$178=Display!$B$11,'Lux4-sept'!$A$191=Display!$B$13),Display!$D12,)","v":0},{"$f":"IF(AND(Y$8=Display!$T$10,'Lux4-sept'!$A$8=Display!$B$7,'Lux4-sept'!$A$148=Display!$B$9,'Lux4-sept'!$A$178=Display!$B$11,'Lux4-sept'!$A$191=Display!$B$13),Display!$D12,)","v":0},{"$f":"IF(AND(Z$8=Display!$T$10,'Lux4-sept'!$A$8=Display!$B$7,'Lux4-sept'!$A$148=Display!$B$9,'Lux4-sept'!$A$178=Display!$B$11,'Lux4-sept'!$A$191=Display!$B$13),Display!$D12,)","v":0},{"$f":"IF(AND(AA$8=Display!$T$10,'Lux4-sept'!$A$8=Display!$B$7,'Lux4-sept'!$A$148=Display!$B$9,'Lux4-sept'!$A$178=Display!$B$11,'Lux4-sept'!$A$191=Display!$B$13),Display!$D12,)","v":0},{"$f":"IF(AND(AB$8=Display!$T$10,'Lux4-sept'!$A$8=Display!$B$7,'Lux4-sept'!$A$148=Display!$B$9,'Lux4-sept'!$A$178=Display!$B$11,'Lux4-sept'!$A$191=Display!$B$13),Display!$D12,)","v":0},{"$f":"IF(AND(AC$8=Display!$T$10,'Lux4-sept'!$A$8=Display!$B$7,'Lux4-sept'!$A$148=Display!$B$9,'Lux4-sept'!$A$178=Display!$B$11,'Lux4-sept'!$A$191=Display!$B$13),Display!$D12,)","v":0},{"$f":"IF(AND(AD$8=Display!$T$10,'Lux4-sept'!$A$8=Display!$B$7,'Lux4-sept'!$A$148=Display!$B$9,'Lux4-sept'!$A$178=Display!$B$11,'Lux4-sept'!$A$191=Display!$B$13),Display!$D12,)","v":0},{"$f":"IF(AND(AE$8=Display!$T$10,'Lux4-sept'!$A$8=Display!$B$7,'Lux4-sept'!$A$148=Display!$B$9,'Lux4-sept'!$A$178=Display!$B$11,'Lux4-sept'!$A$191=Display!$B$13),Display!$D12,)","v":0},{"$f":"IF(AND(AF$8=Display!$T$10,'Lux4-sept'!$A$8=Display!$B$7,'Lux4-sept'!$A$148=Display!$B$9,'Lux4-sept'!$A$178=Display!$B$11,'Lux4-sept'!$A$191=Display!$B$13),Display!$D12,)","v":0},null,null,0]
["Présence de poussières",{"$f":"IF(AND(B$8=Display!$T$10,'Lux4-sept'!$A$8=Display!$B$7,'Lux4-sept'!$A$148=Display!$B$9,'Lux4-sept'!$A$178=Display!$B$11,'Lux4-sept'!$A$191=Display!$B$13),Display!$D13,)","v":0},{"$f":"IF(AND(C$8=Display!$T$10,'Lux4-sept'!$A$8=Display!$B$7,'Lux4-sept'!$A$148=Display!$B$9,'Lux4-sept'!$A$178=Display!$B$11,'Lux4-sept'!$A$191=Display!$B$13),Display!$D13,)","v":0},{"$f":"IF(AND(D$8=Display!$T$10,'Lux4-sept'!$A$8=Display!$B$7,'Lux4-sept'!$A$148=Display!$B$9,'Lux4-sept'!$A$178=Display!$B$11,'Lux4-sept'!$A$191=Display!$B$13),Display!$D13,)","v":0},{"$f":"IF(AND(E$8=Display!$T$10,'Lux4-sept'!$A$8=Display!$B$7,'Lux4-sept'!$A$148=Display!$B$9,'Lux4-sept'!$A$178=Display!$B$11,'Lux4-sept'!$A$191=Display!$B$13),Display!$D13,)","v":0},{"$f":"IF(AND(F$8=Display!$T$10,'Lux4-sept'!$A$8=Display!$B$7,'Lux4-sept'!$A$148=Display!$B$9,'Lux4-sept'!$A$178=Display!$B$11,'Lux4-sept'!$A$191=Display!$B$13),Display!$D13,)","v":0},{"$f":"IF(AND(G$8=Display!$T$10,'Lux4-sept'!$A$8=Display!$B$7,'Lux4-sept'!$A$148=Display!$B$9,'Lux4-sept'!$A$178=Display!$B$11,'Lux4-sept'!$A$191=Display!$B$13),Display!$D13,)","v":0},{"$f":"IF(AND(H$8=Display!$T$10,'Lux4-sept'!$A$8=Display!$B$7,'Lux4-sept'!$A$148=Display!$B$9,'Lux4-sept'!$A$178=Display!$B$11,'Lux4-sept'!$A$191=Display!$B$13),Display!$D13,)","v":0},{"$f":"IF(AND(I$8=Display!$T$10,'Lux4-sept'!$A$8=Display!$B$7,'Lux4-sept'!$A$148=Display!$B$9,'Lux4-sept'!$A$178=Display!$B$11,'Lux4-sept'!$A$191=Display!$B$13),Display!$D13,)","v":0},{"$f":"IF(AND(J$8=Display!$T$10,'Lux4-sept'!$A$8=Display!$B$7,'Lux4-sept'!$A$148=Display!$B$9,'Lux4-sept'!$A$178=Display!$B$11,'Lux4-sept'!$A$191=Display!$B$13),Display!$D13,)","v":0},{"$f":"IF(AND(K$8=Display!$T$10,'Lux4-sept'!$A$8=Display!$B$7,'Lux4-sept'!$A$148=Display!$B$9,'Lux4-sept'!$A$178=Display!$B$11,'Lux4-sept'!$A$191=Display!$B$13),Display!$D13,)","v":0},{"$f":"IF(AND(L$8=Display!$T$10,'Lux4-sept'!$A$8=Display!$B$7,'Lux4-sept'!$A$148=Display!$B$9,'Lux4-sept'!$A$178=Display!$B$11,'Lux4-sept'!$A$191=Display!$B$13),Display!$D13,)","v":0},{"$f":"IF(AND(M$8=Display!$T$10,'Lux4-sept'!$A$8=Display!$B$7,'Lux4-sept'!$A$148=Display!$B$9,'Lux4-sept'!$A$178=Display!$B$11,'Lux4-sept'!$A$191=Display!$B$13),Display!$D13,)","v":0},{"$f":"IF(AND(N$8=Display!$T$10,'Lux4-sept'!$A$8=Display!$B$7,'Lux4-sept'!$A$148=Display!$B$9,'Lux4-sept'!$A$178=Display!$B$11,'Lux4-sept'!$A$191=Display!$B$13),Display!$D13,)","v":0},{"$f":"IF(AND(O$8=Display!$T$10,'Lux4-sept'!$A$8=Display!$B$7,'Lux4-sept'!$A$148=Display!$B$9,'Lux4-sept'!$A$178=Display!$B$11,'Lux4-sept'!$A$191=Display!$B$13),Display!$D13,)","v":0},{"$f":"IF(AND(P$8=Display!$T$10,'Lux4-sept'!$A$8=Display!$B$7,'Lux4-sept'!$A$148=Display!$B$9,'Lux4-sept'!$A$178=Display!$B$11,'Lux4-sept'!$A$191=Display!$B$13),Display!$D13,)","v":0},{"$f":"IF(AND(Q$8=Display!$T$10,'Lux4-sept'!$A$8=Display!$B$7,'Lux4-sept'!$A$148=Display!$B$9,'Lux4-sept'!$A$178=Display!$B$11,'Lux4-sept'!$A$191=Display!$B$13),Display!$D13,)","v":0},{"$f":"IF(AND(R$8=Display!$T$10,'Lux4-sept'!$A$8=Display!$B$7,'Lux4-sept'!$A$148=Display!$B$9,'Lux4-sept'!$A$178=Display!$B$11,'Lux4-sept'!$A$191=Display!$B$13),Display!$D13,)","v":0},{"$f":"IF(AND(S$8=Display!$T$10,'Lux4-sept'!$A$8=Display!$B$7,'Lux4-sept'!$A$148=Display!$B$9,'Lux4-sept'!$A$178=Display!$B$11,'Lux4-sept'!$A$191=Display!$B$13),Display!$D13,)","v":0},{"$f":"IF(AND(T$8=Display!$T$10,'Lux4-sept'!$A$8=Display!$B$7,'Lux4-sept'!$A$148=Display!$B$9,'Lux4-sept'!$A$178=Display!$B$11,'Lux4-sept'!$A$191=Display!$B$13),Display!$D13,)","v":0},{"$f":"IF(AND(U$8=Display!$T$10,'Lux4-sept'!$A$8=Display!$B$7,'Lux4-sept'!$A$148=Display!$B$9,'Lux4-sept'!$A$178=Display!$B$11,'Lux4-sept'!$A$191=Display!$B$13),Display!$D13,)","v":0},{"$f":"IF(AND(V$8=Display!$T$10,'Lux4-sept'!$A$8=Display!$B$7,'Lux4-sept'!$A$148=Display!$B$9,'Lux4-sept'!$A$178=Display!$B$11,'Lux4-sept'!$A$191=Display!$B$13),Display!$D13,)","v":0},{"$f":"IF(AND(W$8=Display!$T$10,'Lux4-sept'!$A$8=Display!$B$7,'Lux4-sept'!$A$148=Display!$B$9,'Lux4-sept'!$A$178=Display!$B$11,'Lux4-sept'!$A$191=Display!$B$13),Display!$D13,)","v":0},{"$f":"IF(AND(X$8=Display!$T$10,'Lux4-sept'!$A$8=Display!$B$7,'Lux4-sept'!$A$148=Display!$B$9,'Lux4-sept'!$A$178=Display!$B$11,'Lux4-sept'!$A$191=Display!$B$13),Display!$D13,)","v":0},{"$f":"IF(AND(Y$8=Display!$T$10,'Lux4-sept'!$A$8=Display!$B$7,'Lux4-sept'!$A$148=Display!$B$9,'Lux4-sept'!$A$178=Display!$B$11,'Lux4-sept'!$A$191=Display!$B$13),Display!$D13,)","v":0},{"$f":"IF(AND(Z$8=Display!$T$10,'Lux4-sept'!$A$8=Display!$B$7,'Lux4-sept'!$A$148=Display!$B$9,'Lux4-sept'!$A$178=Display!$B$11,'Lux4-sept'!$A$191=Display!$B$13),Display!$D13,)","v":0},{"$f":"IF(AND(AA$8=Display!$T$10,'Lux4-sept'!$A$8=Display!$B$7,'Lux4-sept'!$A$148=Display!$B$9,'Lux4-sept'!$A$178=Display!$B$11,'Lux4-sept'!$A$191=Display!$B$13),Display!$D13,)","v":0},{"$f":"IF(AND(AB$8=Display!$T$10,'Lux4-sept'!$A$8=Display!$B$7,'Lux4-sept'!$A$148=Display!$B$9,'Lux4-sept'!$A$178=Display!$B$11,'Lux4-sept'!$A$191=Display!$B$13),Display!$D13,)","v":0},{"$f":"IF(AND(AC$8=Display!$T$10,'Lux4-sept'!$A$8=Display!$B$7,'Lux4-sept'!$A$148=Display!$B$9,'Lux4-sept'!$A$178=Display!$B$11,'Lux4-sept'!$A$191=Display!$B$13),Display!$D13,)","v":0},{"$f":"IF(AND(AD$8=Display!$T$10,'Lux4-sept'!$A$8=Display!$B$7,'Lux4-sept'!$A$148=Display!$B$9,'Lux4-sept'!$A$178=Display!$B$11,'Lux4-sept'!$A$191=Display!$B$13),Display!$D13,)","v":0},{"$f":"IF(AND(AE$8=Display!$T$10,'Lux4-sept'!$A$8=Display!$B$7,'Lux4-sept'!$A$148=Display!$B$9,'Lux4-sept'!$A$178=Display!$B$11,'Lux4-sept'!$A$191=Display!$B$13),Display!$D13,)","v":0},{"$f":"IF(AND(AF$8=Display!$T$10,'Lux4-sept'!$A$8=Display!$B$7,'Lux4-sept'!$A$148=Display!$B$9,'Lux4-sept'!$A$178=Display!$B$11,'Lux4-sept'!$A$191=Display!$B$13),Display!$D13,)","v":0},null,null,0]
["MOYENNE",{"$f":"((IF((SUM(B192:B201))<>0,(SUM(B192:B201)),0))/(IF((SUM((IF(B192<>0,3,0)),(IF(B193<>0,3,0)),(IF(B194<>0,3,0)),(IF(B195<>0,3,0)),(IF(B196<>0,3,0)),(IF(B197<>0,3,0)),(IF(B198<>0,3,0)),(IF(B199<>0,3,0)),(IF(B200<>0,3,0)),(IF(B201<>0,3,0))))<>0,((SUM((IF(B192<>0,3,0)),(IF(B193<>0,3,0)),(IF(B194<>0,3,0)),(IF(B195<>0,3,0)),(IF(B196<>0,3,0)),(IF(B197<>0,3,0)),(IF(B198<>0,3,0)),(IF(B199<>0,3,0)),(IF(B200<>0,3,0)),(IF(B201<>0,3,0))))),1)))","v":0},{"$f":"((IF((SUM(C192:C201))<>0,(SUM(C192:C201)),0))/(IF((SUM((IF(C192<>0,3,0)),(IF(C193<>0,3,0)),(IF(C194<>0,3,0)),(IF(C195<>0,3,0)),(IF(C196<>0,3,0)),(IF(C197<>0,3,0)),(IF(C198<>0,3,0)),(IF(C199<>0,3,0)),(IF(C200<>0,3,0)),(IF(C201<>0,3,0))))<>0,((SUM((IF(C192<>0,3,0)),(IF(C193<>0,3,0)),(IF(C194<>0,3,0)),(IF(C195<>0,3,0)),(IF(C196<>0,3,0)),(IF(C197<>0,3,0)),(IF(C198<>0,3,0)),(IF(C199<>0,3,0)),(IF(C200<>0,3,0)),(IF(C201<>0,3,0))))),1)))","v":0},0,0,0,0,0,0,0,0,0,0,0,0,0,0,0,0,0,0,0,0,0,0,0,0,0,0,0,0,0,0,0]
[".03"]
["Fourniture (café, lait, thé, sucre, choc., Serviettes",{"$f":"IF(AND(B$8=Display!$T$10,'Lux4-sept'!$A$8=Display!$B$7,'Lux4-sept'!$A$148=Display!$B$9,'Lux4-sept'!$A$178=Display!$B$11,'Lux4-sept'!$A$203=Display!$B$13),Display!$D4,)","v":0},{"$f":"IF(AND(C$8=Display!$T$10,'Lux4-sept'!$A$8=Display!$B$7,'Lux4-sept'!$A$148=Display!$B$9,'Lux4-sept'!$A$178=Display!$B$11,'Lux4-sept'!$A$203=Display!$B$13),Display!$D4,)","v":0},{"$f":"IF(AND(D$8=Display!$T$10,'Lux4-sept'!$A$8=Display!$B$7,'Lux4-sept'!$A$148=Display!$B$9,'Lux4-sept'!$A$178=Display!$B$11,'Lux4-sept'!$A$203=Display!$B$13),Display!$D4,)","v":0},{"$f":"IF(AND(E$8=Display!$T$10,'Lux4-sept'!$A$8=Display!$B$7,'Lux4-sept'!$A$148=Display!$B$9,'Lux4-sept'!$A$178=Display!$B$11,'Lux4-sept'!$A$203=Display!$B$13),Display!$D4,)","v":0},{"$f":"IF(AND(F$8=Display!$T$10,'Lux4-sept'!$A$8=Display!$B$7,'Lux4-sept'!$A$148=Display!$B$9,'Lux4-sept'!$A$178=Display!$B$11,'Lux4-sept'!$A$203=Display!$B$13),Display!$D4,)","v":0},{"$f":"IF(AND(G$8=Display!$T$10,'Lux4-sept'!$A$8=Display!$B$7,'Lux4-sept'!$A$148=Display!$B$9,'Lux4-sept'!$A$178=Display!$B$11,'Lux4-sept'!$A$203=Display!$B$13),Display!$D4,)","v":0},{"$f":"IF(AND(H$8=Display!$T$10,'Lux4-sept'!$A$8=Display!$B$7,'Lux4-sept'!$A$148=Display!$B$9,'Lux4-sept'!$A$178=Display!$B$11,'Lux4-sept'!$A$203=Display!$B$13),Display!$D4,)","v":0},{"$f":"IF(AND(I$8=Display!$T$10,'Lux4-sept'!$A$8=Display!$B$7,'Lux4-sept'!$A$148=Display!$B$9,'Lux4-sept'!$A$178=Display!$B$11,'Lux4-sept'!$A$203=Display!$B$13),Display!$D4,)","v":0},{"$f":"IF(AND(J$8=Display!$T$10,'Lux4-sept'!$A$8=Display!$B$7,'Lux4-sept'!$A$148=Display!$B$9,'Lux4-sept'!$A$178=Display!$B$11,'Lux4-sept'!$A$203=Display!$B$13),Display!$D4,)","v":0},{"$f":"IF(AND(K$8=Display!$T$10,'Lux4-sept'!$A$8=Display!$B$7,'Lux4-sept'!$A$148=Display!$B$9,'Lux4-sept'!$A$178=Display!$B$11,'Lux4-sept'!$A$203=Display!$B$13),Display!$D4,)","v":0},{"$f":"IF(AND(L$8=Display!$T$10,'Lux4-sept'!$A$8=Display!$B$7,'Lux4-sept'!$A$148=Display!$B$9,'Lux4-sept'!$A$178=Display!$B$11,'Lux4-sept'!$A$203=Display!$B$13),Display!$D4,)","v":0},{"$f":"IF(AND(M$8=Display!$T$10,'Lux4-sept'!$A$8=Display!$B$7,'Lux4-sept'!$A$148=Display!$B$9,'Lux4-sept'!$A$178=Display!$B$11,'Lux4-sept'!$A$203=Display!$B$13),Display!$D4,)","v":0},{"$f":"IF(AND(N$8=Display!$T$10,'Lux4-sept'!$A$8=Display!$B$7,'Lux4-sept'!$A$148=Display!$B$9,'Lux4-sept'!$A$178=Display!$B$11,'Lux4-sept'!$A$203=Display!$B$13),Display!$D4,)","v":0},{"$f":"IF(AND(O$8=Display!$T$10,'Lux4-sept'!$A$8=Display!$B$7,'Lux4-sept'!$A$148=Display!$B$9,'Lux4-sept'!$A$178=Display!$B$11,'Lux4-sept'!$A$203=Display!$B$13),Display!$D4,)","v":0},{"$f":"IF(AND(P$8=Display!$T$10,'Lux4-sept'!$A$8=Display!$B$7,'Lux4-sept'!$A$148=Display!$B$9,'Lux4-sept'!$A$178=Display!$B$11,'Lux4-sept'!$A$203=Display!$B$13),Display!$D4,)","v":0},{"$f":"IF(AND(Q$8=Display!$T$10,'Lux4-sept'!$A$8=Display!$B$7,'Lux4-sept'!$A$148=Display!$B$9,'Lux4-sept'!$A$178=Display!$B$11,'Lux4-sept'!$A$203=Display!$B$13),Display!$D4,)","v":0},{"$f":"IF(AND(R$8=Display!$T$10,'Lux4-sept'!$A$8=Display!$B$7,'Lux4-sept'!$A$148=Display!$B$9,'Lux4-sept'!$A$178=Display!$B$11,'Lux4-sept'!$A$203=Display!$B$13),Display!$D4,)","v":0},{"$f":"IF(AND(S$8=Display!$T$10,'Lux4-sept'!$A$8=Display!$B$7,'Lux4-sept'!$A$148=Display!$B$9,'Lux4-sept'!$A$178=Display!$B$11,'Lux4-sept'!$A$203=Display!$B$13),Display!$D4,)","v":0},{"$f":"IF(AND(T$8=Display!$T$10,'Lux4-sept'!$A$8=Display!$B$7,'Lux4-sept'!$A$148=Display!$B$9,'Lux4-sept'!$A$178=Display!$B$11,'Lux4-sept'!$A$203=Display!$B$13),Display!$D4,)","v":0},{"$f":"IF(AND(U$8=Display!$T$10,'Lux4-sept'!$A$8=Display!$B$7,'Lux4-sept'!$A$148=Display!$B$9,'Lux4-sept'!$A$178=Display!$B$11,'Lux4-sept'!$A$203=Display!$B$13),Display!$D4,)","v":0},{"$f":"IF(AND(V$8=Display!$T$10,'Lux4-sept'!$A$8=Display!$B$7,'Lux4-sept'!$A$148=Display!$B$9,'Lux4-sept'!$A$178=Display!$B$11,'Lux4-sept'!$A$203=Display!$B$13),Display!$D4,)","v":0},{"$f":"IF(AND(W$8=Display!$T$10,'Lux4-sept'!$A$8=Display!$B$7,'Lux4-sept'!$A$148=Display!$B$9,'Lux4-sept'!$A$178=Display!$B$11,'Lux4-sept'!$A$203=Display!$B$13),Display!$D4,)","v":0},{"$f":"IF(AND(X$8=Display!$T$10,'Lux4-sept'!$A$8=Display!$B$7,'Lux4-sept'!$A$148=Display!$B$9,'Lux4-sept'!$A$178=Display!$B$11,'Lux4-sept'!$A$203=Display!$B$13),Display!$D4,)","v":0},{"$f":"IF(AND(Y$8=Display!$T$10,'Lux4-sept'!$A$8=Display!$B$7,'Lux4-sept'!$A$148=Display!$B$9,'Lux4-sept'!$A$178=Display!$B$11,'Lux4-sept'!$A$203=Display!$B$13),Display!$D4,)","v":0},{"$f":"IF(AND(Z$8=Display!$T$10,'Lux4-sept'!$A$8=Display!$B$7,'Lux4-sept'!$A$148=Display!$B$9,'Lux4-sept'!$A$178=Display!$B$11,'Lux4-sept'!$A$203=Display!$B$13),Display!$D4,)","v":0},{"$f":"IF(AND(AA$8=Display!$T$10,'Lux4-sept'!$A$8=Display!$B$7,'Lux4-sept'!$A$148=Display!$B$9,'Lux4-sept'!$A$178=Display!$B$11,'Lux4-sept'!$A$203=Display!$B$13),Display!$D4,)","v":0},{"$f":"IF(AND(AB$8=Display!$T$10,'Lux4-sept'!$A$8=Display!$B$7,'Lux4-sept'!$A$148=Display!$B$9,'Lux4-sept'!$A$178=Display!$B$11,'Lux4-sept'!$A$203=Display!$B$13),Display!$D4,)","v":0},{"$f":"IF(AND(AC$8=Display!$T$10,'Lux4-sept'!$A$8=Display!$B$7,'Lux4-sept'!$A$148=Display!$B$9,'Lux4-sept'!$A$178=Display!$B$11,'Lux4-sept'!$A$203=Display!$B$13),Display!$D4,)","v":0},{"$f":"IF(AND(AD$8=Display!$T$10,'Lux4-sept'!$A$8=Display!$B$7,'Lux4-sept'!$A$148=Display!$B$9,'Lux4-sept'!$A$178=Display!$B$11,'Lux4-sept'!$A$203=Display!$B$13),Display!$D4,)","v":0},{"$f":"IF(AND(AE$8=Display!$T$10,'Lux4-sept'!$A$8=Display!$B$7,'Lux4-sept'!$A$148=Display!$B$9,'Lux4-sept'!$A$178=Display!$B$11,'Lux4-sept'!$A$203=Display!$B$13),Display!$D4,)","v":0},{"$f":"IF(AND(AF$8=Display!$T$10,'Lux4-sept'!$A$8=Display!$B$7,'Lux4-sept'!$A$148=Display!$B$9,'Lux4-sept'!$A$178=Display!$B$11,'Lux4-sept'!$A$203=Display!$B$13),Display!$D4,)","v":0},null,null,{"$f":"((IF((SUM(B204:AF204))<>0,(SUM(B204:AF204)),0))/(IF((SUM((IF(B204<>0,3,0)),(IF(C204<>0,3,0)),(IF(D204<>0,3,0)),(IF(E204<>0,3,0)),(IF(F204<>0,3,0)),(IF(F204<>0,3,0)),(IF(F204<>0,3,0)),(IF(G204<>0,3,0)),(IF(H204<>0,3,0)),(IF(I204<>0,3,0)),(IF(J204<>0,3,0)),(IF(K204<>0,3,0)),(IF(L204<>0,3,0)),(IF(M204<>0,3,0)),(IF(N204<>0,3,0)),(IF(O204<>0,3,0)),(IF(P204<>0,3,0)),(IF(Q204<>0,3,0)),(IF(R204<>0,3,0)),(IF(S204<>0,3,0)),(IF(T204<>0,3,0)),(IF(U204<>0,3,0)),(IF(V204<>0,3,0)),(IF(W204<>0,3,0)),(IF(X204<>0,3,0)),(IF(Y204<>0,3,0)),(IF(Z204<>0,3,0)),(IF(AA204<>0,3,0)),(IF(AB204<>0,3,0)),(IF(AC204<>0,3,0)),(IF(AD204<>0,3,0)),(IF(AE204<>0,3,0)),(IF(AF204<>0,3,0))))<>0,((SUM((IF(B204<>0,3,0)),(IF(C204<>0,3,0)),(IF(D204<>0,3,0)),(IF(E204<>0,3,0)),(IF(F204<>0,3,0)),(IF(F204<>0,3,0)),(IF(F204<>0,3,0)),(IF(G204<>0,3,0)),(IF(H204<>0,3,0)),(IF(I204<>0,3,0)),(IF(J204<>0,3,0)),(IF(K204<>0,3,0)),(IF(L204<>0,3,0)),(IF(M204<>0,3,0)),(IF(N204<>0,3,0)),(IF(O204<>0,3,0)),(IF(P204<>0,3,0)),(IF(Q204<>0,3,0)),(IF(R204<>0,3,0)),(IF(S204<>0,3,0)),(IF(T204<>0,3,0)),(IF(U204<>0,3,0)),(IF(V204<>0,3,0)),(IF(W204<>0,3,0)),(IF(X204<>0,3,0)),(IF(Y204<>0,3,0)),(IF(Z204<>0,3,0)),(IF(AA204<>0,3,0)),(IF(AB204<>0,3,0)),(IF(AC204<>0,3,0)),(IF(AD204<>0,3,0)),(IF(AE204<>0,3,0)),(IF(AF204<>0,3,0))))),1)))","v":0}]
["Recyclage des capsules Nespresso",{"$f":"IF(AND(B$8=Display!$T$10,'Lux4-sept'!$A$8=Display!$B$7,'Lux4-sept'!$A$148=Display!$B$9,'Lux4-sept'!$A$178=Display!$B$11,'Lux4-sept'!$A$203=Display!$B$13),Display!$D5,)","v":0},{"$f":"IF(AND(C$8=Display!$T$10,'Lux4-sept'!$A$8=Display!$B$7,'Lux4-sept'!$A$148=Display!$B$9,'Lux4-sept'!$A$178=Display!$B$11,'Lux4-sept'!$A$203=Display!$B$13),Display!$D5,)","v":0},{"$f":"IF(AND(D$8=Display!$T$10,'Lux4-sept'!$A$8=Display!$B$7,'Lux4-sept'!$A$148=Display!$B$9,'Lux4-sept'!$A$178=Display!$B$11,'Lux4-sept'!$A$203=Display!$B$13),Display!$D5,)","v":0},{"$f":"IF(AND(E$8=Display!$T$10,'Lux4-sept'!$A$8=Display!$B$7,'Lux4-sept'!$A$148=Display!$B$9,'Lux4-sept'!$A$178=Display!$B$11,'Lux4-sept'!$A$203=Display!$B$13),Display!$D5,)","v":0},{"$f":"IF(AND(F$8=Display!$T$10,'Lux4-sept'!$A$8=Display!$B$7,'Lux4-sept'!$A$148=Display!$B$9,'Lux4-sept'!$A$178=Display!$B$11,'Lux4-sept'!$A$203=Display!$B$13),Display!$D5,)","v":0},{"$f":"IF(AND(G$8=Display!$T$10,'Lux4-sept'!$A$8=Display!$B$7,'Lux4-sept'!$A$148=Display!$B$9,'Lux4-sept'!$A$178=Display!$B$11,'Lux4-sept'!$A$203=Display!$B$13),Display!$D5,)","v":0},{"$f":"IF(AND(H$8=Display!$T$10,'Lux4-sept'!$A$8=Display!$B$7,'Lux4-sept'!$A$148=Display!$B$9,'Lux4-sept'!$A$178=Display!$B$11,'Lux4-sept'!$A$203=Display!$B$13),Display!$D5,)","v":0},{"$f":"IF(AND(I$8=Display!$T$10,'Lux4-sept'!$A$8=Display!$B$7,'Lux4-sept'!$A$148=Display!$B$9,'Lux4-sept'!$A$178=Display!$B$11,'Lux4-sept'!$A$203=Display!$B$13),Display!$D5,)","v":0},{"$f":"IF(AND(J$8=Display!$T$10,'Lux4-sept'!$A$8=Display!$B$7,'Lux4-sept'!$A$148=Display!$B$9,'Lux4-sept'!$A$178=Display!$B$11,'Lux4-sept'!$A$203=Display!$B$13),Display!$D5,)","v":0},{"$f":"IF(AND(K$8=Display!$T$10,'Lux4-sept'!$A$8=Display!$B$7,'Lux4-sept'!$A$148=Display!$B$9,'Lux4-sept'!$A$178=Display!$B$11,'Lux4-sept'!$A$203=Display!$B$13),Display!$D5,)","v":0},{"$f":"IF(AND(L$8=Display!$T$10,'Lux4-sept'!$A$8=Display!$B$7,'Lux4-sept'!$A$148=Display!$B$9,'Lux4-sept'!$A$178=Display!$B$11,'Lux4-sept'!$A$203=Display!$B$13),Display!$D5,)","v":0},{"$f":"IF(AND(M$8=Display!$T$10,'Lux4-sept'!$A$8=Display!$B$7,'Lux4-sept'!$A$148=Display!$B$9,'Lux4-sept'!$A$178=Display!$B$11,'Lux4-sept'!$A$203=Display!$B$13),Display!$D5,)","v":0},{"$f":"IF(AND(N$8=Display!$T$10,'Lux4-sept'!$A$8=Display!$B$7,'Lux4-sept'!$A$148=Display!$B$9,'Lux4-sept'!$A$178=Display!$B$11,'Lux4-sept'!$A$203=Display!$B$13),Display!$D5,)","v":0},{"$f":"IF(AND(O$8=Display!$T$10,'Lux4-sept'!$A$8=Display!$B$7,'Lux4-sept'!$A$148=Display!$B$9,'Lux4-sept'!$A$178=Display!$B$11,'Lux4-sept'!$A$203=Display!$B$13),Display!$D5,)","v":0},{"$f":"IF(AND(P$8=Display!$T$10,'Lux4-sept'!$A$8=Display!$B$7,'Lux4-sept'!$A$148=Display!$B$9,'Lux4-sept'!$A$178=Display!$B$11,'Lux4-sept'!$A$203=Display!$B$13),Display!$D5,)","v":0},{"$f":"IF(AND(Q$8=Display!$T$10,'Lux4-sept'!$A$8=Display!$B$7,'Lux4-sept'!$A$148=Display!$B$9,'Lux4-sept'!$A$178=Display!$B$11,'Lux4-sept'!$A$203=Display!$B$13),Display!$D5,)","v":0},{"$f":"IF(AND(R$8=Display!$T$10,'Lux4-sept'!$A$8=Display!$B$7,'Lux4-sept'!$A$148=Display!$B$9,'Lux4-sept'!$A$178=Display!$B$11,'Lux4-sept'!$A$203=Display!$B$13),Display!$D5,)","v":0},{"$f":"IF(AND(S$8=Display!$T$10,'Lux4-sept'!$A$8=Display!$B$7,'Lux4-sept'!$A$148=Display!$B$9,'Lux4-sept'!$A$178=Display!$B$11,'Lux4-sept'!$A$203=Display!$B$13),Display!$D5,)","v":0},{"$f":"IF(AND(T$8=Display!$T$10,'Lux4-sept'!$A$8=Display!$B$7,'Lux4-sept'!$A$148=Display!$B$9,'Lux4-sept'!$A$178=Display!$B$11,'Lux4-sept'!$A$203=Display!$B$13),Display!$D5,)","v":0},{"$f":"IF(AND(U$8=Display!$T$10,'Lux4-sept'!$A$8=Display!$B$7,'Lux4-sept'!$A$148=Display!$B$9,'Lux4-sept'!$A$178=Display!$B$11,'Lux4-sept'!$A$203=Display!$B$13),Display!$D5,)","v":0},{"$f":"IF(AND(V$8=Display!$T$10,'Lux4-sept'!$A$8=Display!$B$7,'Lux4-sept'!$A$148=Display!$B$9,'Lux4-sept'!$A$178=Display!$B$11,'Lux4-sept'!$A$203=Display!$B$13),Display!$D5,)","v":0},{"$f":"IF(AND(W$8=Display!$T$10,'Lux4-sept'!$A$8=Display!$B$7,'Lux4-sept'!$A$148=Display!$B$9,'Lux4-sept'!$A$178=Display!$B$11,'Lux4-sept'!$A$203=Display!$B$13),Display!$D5,)","v":0},{"$f":"IF(AND(X$8=Display!$T$10,'Lux4-sept'!$A$8=Display!$B$7,'Lux4-sept'!$A$148=Display!$B$9,'Lux4-sept'!$A$178=Display!$B$11,'Lux4-sept'!$A$203=Display!$B$13),Display!$D5,)","v":0},{"$f":"IF(AND(Y$8=Display!$T$10,'Lux4-sept'!$A$8=Display!$B$7,'Lux4-sept'!$A$148=Display!$B$9,'Lux4-sept'!$A$178=Display!$B$11,'Lux4-sept'!$A$203=Display!$B$13),Display!$D5,)","v":0},{"$f":"IF(AND(Z$8=Display!$T$10,'Lux4-sept'!$A$8=Display!$B$7,'Lux4-sept'!$A$148=Display!$B$9,'Lux4-sept'!$A$178=Display!$B$11,'Lux4-sept'!$A$203=Display!$B$13),Display!$D5,)","v":0},{"$f":"IF(AND(AA$8=Display!$T$10,'Lux4-sept'!$A$8=Display!$B$7,'Lux4-sept'!$A$148=Display!$B$9,'Lux4-sept'!$A$178=Display!$B$11,'Lux4-sept'!$A$203=Display!$B$13),Display!$D5,)","v":0},{"$f":"IF(AND(AB$8=Display!$T$10,'Lux4-sept'!$A$8=Display!$B$7,'Lux4-sept'!$A$148=Display!$B$9,'Lux4-sept'!$A$178=Display!$B$11,'Lux4-sept'!$A$203=Display!$B$13),Display!$D5,)","v":0},{"$f":"IF(AND(AC$8=Display!$T$10,'Lux4-sept'!$A$8=Display!$B$7,'Lux4-sept'!$A$148=Display!$B$9,'Lux4-sept'!$A$178=Display!$B$11,'Lux4-sept'!$A$203=Display!$B$13),Display!$D5,)","v":0},{"$f":"IF(AND(AD$8=Display!$T$10,'Lux4-sept'!$A$8=Display!$B$7,'Lux4-sept'!$A$148=Display!$B$9,'Lux4-sept'!$A$178=Display!$B$11,'Lux4-sept'!$A$203=Display!$B$13),Display!$D5,)","v":0},{"$f":"IF(AND(AE$8=Display!$T$10,'Lux4-sept'!$A$8=Display!$B$7,'Lux4-sept'!$A$148=Display!$B$9,'Lux4-sept'!$A$178=Display!$B$11,'Lux4-sept'!$A$203=Display!$B$13),Display!$D5,)","v":0},{"$f":"IF(AND(AF$8=Display!$T$10,'Lux4-sept'!$A$8=Display!$B$7,'Lux4-sept'!$A$148=Display!$B$9,'Lux4-sept'!$A$178=Display!$B$11,'Lux4-sept'!$A$203=Display!$B$13),Display!$D5,)","v":0},null,null,{"$f":"((IF((SUM(B205:AF205))<>0,(SUM(B205:AF205)),0))/(IF((SUM((IF(B205<>0,3,0)),(IF(C205<>0,3,0)),(IF(D205<>0,3,0)),(IF(E205<>0,3,0)),(IF(F205<>0,3,0)),(IF(F205<>0,3,0)),(IF(F205<>0,3,0)),(IF(G205<>0,3,0)),(IF(H205<>0,3,0)),(IF(I205<>0,3,0)),(IF(J205<>0,3,0)),(IF(K205<>0,3,0)),(IF(L205<>0,3,0)),(IF(M205<>0,3,0)),(IF(N205<>0,3,0)),(IF(O205<>0,3,0)),(IF(P205<>0,3,0)),(IF(Q205<>0,3,0)),(IF(R205<>0,3,0)),(IF(S205<>0,3,0)),(IF(T205<>0,3,0)),(IF(U205<>0,3,0)),(IF(V205<>0,3,0)),(IF(W205<>0,3,0)),(IF(X205<>0,3,0)),(IF(Y205<>0,3,0)),(IF(Z205<>0,3,0)),(IF(AA205<>0,3,0)),(IF(AB205<>0,3,0)),(IF(AC205<>0,3,0)),(IF(AD205<>0,3,0)),(IF(AE205<>0,3,0)),(IF(AF205<>0,3,0))))<>0,((SUM((IF(B205<>0,3,0)),(IF(C205<>0,3,0)),(IF(D205<>0,3,0)),(IF(E205<>0,3,0)),(IF(F205<>0,3,0)),(IF(F205<>0,3,0)),(IF(F205<>0,3,0)),(IF(G205<>0,3,0)),(IF(H205<>0,3,0)),(IF(I205<>0,3,0)),(IF(J205<>0,3,0)),(IF(K205<>0,3,0)),(IF(L205<>0,3,0)),(IF(M205<>0,3,0)),(IF(N205<>0,3,0)),(IF(O205<>0,3,0)),(IF(P205<>0,3,0)),(IF(Q205<>0,3,0)),(IF(R205<>0,3,0)),(IF(S205<>0,3,0)),(IF(T205<>0,3,0)),(IF(U205<>0,3,0)),(IF(V205<>0,3,0)),(IF(W205<>0,3,0)),(IF(X205<>0,3,0)),(IF(Y205<>0,3,0)),(IF(Z205<>0,3,0)),(IF(AA205<>0,3,0)),(IF(AB205<>0,3,0)),(IF(AC205<>0,3,0)),(IF(AD205<>0,3,0)),(IF(AE205<>0,3,0)),(IF(AF205<>0,3,0))))),1)))","v":0}]
["Propreté du micro onde",{"$f":"IF(AND(B$8=Display!$T$10,'Lux4-sept'!$A$8=Display!$B$7,'Lux4-sept'!$A$148=Display!$B$9,'Lux4-sept'!$A$178=Display!$B$11,'Lux4-sept'!$A$203=Display!$B$13),Display!$D6,)","v":0},{"$f":"IF(AND(C$8=Display!$T$10,'Lux4-sept'!$A$8=Display!$B$7,'Lux4-sept'!$A$148=Display!$B$9,'Lux4-sept'!$A$178=Display!$B$11,'Lux4-sept'!$A$203=Display!$B$13),Display!$D6,)","v":0},{"$f":"IF(AND(D$8=Display!$T$10,'Lux4-sept'!$A$8=Display!$B$7,'Lux4-sept'!$A$148=Display!$B$9,'Lux4-sept'!$A$178=Display!$B$11,'Lux4-sept'!$A$203=Display!$B$13),Display!$D6,)","v":0},{"$f":"IF(AND(E$8=Display!$T$10,'Lux4-sept'!$A$8=Display!$B$7,'Lux4-sept'!$A$148=Display!$B$9,'Lux4-sept'!$A$178=Display!$B$11,'Lux4-sept'!$A$203=Display!$B$13),Display!$D6,)","v":0},{"$f":"IF(AND(F$8=Display!$T$10,'Lux4-sept'!$A$8=Display!$B$7,'Lux4-sept'!$A$148=Display!$B$9,'Lux4-sept'!$A$178=Display!$B$11,'Lux4-sept'!$A$203=Display!$B$13),Display!$D6,)","v":0},{"$f":"IF(AND(G$8=Display!$T$10,'Lux4-sept'!$A$8=Display!$B$7,'Lux4-sept'!$A$148=Display!$B$9,'Lux4-sept'!$A$178=Display!$B$11,'Lux4-sept'!$A$203=Display!$B$13),Display!$D6,)","v":0},{"$f":"IF(AND(H$8=Display!$T$10,'Lux4-sept'!$A$8=Display!$B$7,'Lux4-sept'!$A$148=Display!$B$9,'Lux4-sept'!$A$178=Display!$B$11,'Lux4-sept'!$A$203=Display!$B$13),Display!$D6,)","v":0},{"$f":"IF(AND(I$8=Display!$T$10,'Lux4-sept'!$A$8=Display!$B$7,'Lux4-sept'!$A$148=Display!$B$9,'Lux4-sept'!$A$178=Display!$B$11,'Lux4-sept'!$A$203=Display!$B$13),Display!$D6,)","v":0},{"$f":"IF(AND(J$8=Display!$T$10,'Lux4-sept'!$A$8=Display!$B$7,'Lux4-sept'!$A$148=Display!$B$9,'Lux4-sept'!$A$178=Display!$B$11,'Lux4-sept'!$A$203=Display!$B$13),Display!$D6,)","v":0},{"$f":"IF(AND(K$8=Display!$T$10,'Lux4-sept'!$A$8=Display!$B$7,'Lux4-sept'!$A$148=Display!$B$9,'Lux4-sept'!$A$178=Display!$B$11,'Lux4-sept'!$A$203=Display!$B$13),Display!$D6,)","v":0},{"$f":"IF(AND(L$8=Display!$T$10,'Lux4-sept'!$A$8=Display!$B$7,'Lux4-sept'!$A$148=Display!$B$9,'Lux4-sept'!$A$178=Display!$B$11,'Lux4-sept'!$A$203=Display!$B$13),Display!$D6,)","v":0},{"$f":"IF(AND(M$8=Display!$T$10,'Lux4-sept'!$A$8=Display!$B$7,'Lux4-sept'!$A$148=Display!$B$9,'Lux4-sept'!$A$178=Display!$B$11,'Lux4-sept'!$A$203=Display!$B$13),Display!$D6,)","v":0},{"$f":"IF(AND(N$8=Display!$T$10,'Lux4-sept'!$A$8=Display!$B$7,'Lux4-sept'!$A$148=Display!$B$9,'Lux4-sept'!$A$178=Display!$B$11,'Lux4-sept'!$A$203=Display!$B$13),Display!$D6,)","v":0},{"$f":"IF(AND(O$8=Display!$T$10,'Lux4-sept'!$A$8=Display!$B$7,'Lux4-sept'!$A$148=Display!$B$9,'Lux4-sept'!$A$178=Display!$B$11,'Lux4-sept'!$A$203=Display!$B$13),Display!$D6,)","v":0},{"$f":"IF(AND(P$8=Display!$T$10,'Lux4-sept'!$A$8=Display!$B$7,'Lux4-sept'!$A$148=Display!$B$9,'Lux4-sept'!$A$178=Display!$B$11,'Lux4-sept'!$A$203=Display!$B$13),Display!$D6,)","v":0},{"$f":"IF(AND(Q$8=Display!$T$10,'Lux4-sept'!$A$8=Display!$B$7,'Lux4-sept'!$A$148=Display!$B$9,'Lux4-sept'!$A$178=Display!$B$11,'Lux4-sept'!$A$203=Display!$B$13),Display!$D6,)","v":0},{"$f":"IF(AND(R$8=Display!$T$10,'Lux4-sept'!$A$8=Display!$B$7,'Lux4-sept'!$A$148=Display!$B$9,'Lux4-sept'!$A$178=Display!$B$11,'Lux4-sept'!$A$203=Display!$B$13),Display!$D6,)","v":0},{"$f":"IF(AND(S$8=Display!$T$10,'Lux4-sept'!$A$8=Display!$B$7,'Lux4-sept'!$A$148=Display!$B$9,'Lux4-sept'!$A$178=Display!$B$11,'Lux4-sept'!$A$203=Display!$B$13),Display!$D6,)","v":0},{"$f":"IF(AND(T$8=Display!$T$10,'Lux4-sept'!$A$8=Display!$B$7,'Lux4-sept'!$A$148=Display!$B$9,'Lux4-sept'!$A$178=Display!$B$11,'Lux4-sept'!$A$203=Display!$B$13),Display!$D6,)","v":0},{"$f":"IF(AND(U$8=Display!$T$10,'Lux4-sept'!$A$8=Display!$B$7,'Lux4-sept'!$A$148=Display!$B$9,'Lux4-sept'!$A$178=Display!$B$11,'Lux4-sept'!$A$203=Display!$B$13),Display!$D6,)","v":0},{"$f":"IF(AND(V$8=Display!$T$10,'Lux4-sept'!$A$8=Display!$B$7,'Lux4-sept'!$A$148=Display!$B$9,'Lux4-sept'!$A$178=Display!$B$11,'Lux4-sept'!$A$203=Display!$B$13),Display!$D6,)","v":0},{"$f":"IF(AND(W$8=Display!$T$10,'Lux4-sept'!$A$8=Display!$B$7,'Lux4-sept'!$A$148=Display!$B$9,'Lux4-sept'!$A$178=Display!$B$11,'Lux4-sept'!$A$203=Display!$B$13),Display!$D6,)","v":0},{"$f":"IF(AND(X$8=Display!$T$10,'Lux4-sept'!$A$8=Display!$B$7,'Lux4-sept'!$A$148=Display!$B$9,'Lux4-sept'!$A$178=Display!$B$11,'Lux4-sept'!$A$203=Display!$B$13),Display!$D6,)","v":0},{"$f":"IF(AND(Y$8=Display!$T$10,'Lux4-sept'!$A$8=Display!$B$7,'Lux4-sept'!$A$148=Display!$B$9,'Lux4-sept'!$A$178=Display!$B$11,'Lux4-sept'!$A$203=Display!$B$13),Display!$D6,)","v":0},{"$f":"IF(AND(Z$8=Display!$T$10,'Lux4-sept'!$A$8=Display!$B$7,'Lux4-sept'!$A$148=Display!$B$9,'Lux4-sept'!$A$178=Display!$B$11,'Lux4-sept'!$A$203=Display!$B$13),Display!$D6,)","v":0},{"$f":"IF(AND(AA$8=Display!$T$10,'Lux4-sept'!$A$8=Display!$B$7,'Lux4-sept'!$A$148=Display!$B$9,'Lux4-sept'!$A$178=Display!$B$11,'Lux4-sept'!$A$203=Display!$B$13),Display!$D6,)","v":0},{"$f":"IF(AND(AB$8=Display!$T$10,'Lux4-sept'!$A$8=Display!$B$7,'Lux4-sept'!$A$148=Display!$B$9,'Lux4-sept'!$A$178=Display!$B$11,'Lux4-sept'!$A$203=Display!$B$13),Display!$D6,)","v":0},{"$f":"IF(AND(AC$8=Display!$T$10,'Lux4-sept'!$A$8=Display!$B$7,'Lux4-sept'!$A$148=Display!$B$9,'Lux4-sept'!$A$178=Display!$B$11,'Lux4-sept'!$A$203=Display!$B$13),Display!$D6,)","v":0},{"$f":"IF(AND(AD$8=Display!$T$10,'Lux4-sept'!$A$8=Display!$B$7,'Lux4-sept'!$A$148=Display!$B$9,'Lux4-sept'!$A$178=Display!$B$11,'Lux4-sept'!$A$203=Display!$B$13),Display!$D6,)","v":0},{"$f":"IF(AND(AE$8=Display!$T$10,'Lux4-sept'!$A$8=Display!$B$7,'Lux4-sept'!$A$148=Display!$B$9,'Lux4-sept'!$A$178=Display!$B$11,'Lux4-sept'!$A$203=Display!$B$13),Display!$D6,)","v":0},{"$f":"IF(AND(AF$8=Display!$T$10,'Lux4-sept'!$A$8=Display!$B$7,'Lux4-sept'!$A$148=Display!$B$9,'Lux4-sept'!$A$178=Display!$B$11,'Lux4-sept'!$A$203=Display!$B$13),Display!$D6,)","v":0},null,null,0]
["Poubelles vidées et propres",{"$f":"IF(AND(B$8=Display!$T$10,'Lux4-sept'!$A$8=Display!$B$7,'Lux4-sept'!$A$148=Display!$B$9,'Lux4-sept'!$A$178=Display!$B$11,'Lux4-sept'!$A$203=Display!$B$13),Display!$D7,)","v":0},{"$f":"IF(AND(C$8=Display!$T$10,'Lux4-sept'!$A$8=Display!$B$7,'Lux4-sept'!$A$148=Display!$B$9,'Lux4-sept'!$A$178=Display!$B$11,'Lux4-sept'!$A$203=Display!$B$13),Display!$D7,)","v":0},{"$f":"IF(AND(D$8=Display!$T$10,'Lux4-sept'!$A$8=Display!$B$7,'Lux4-sept'!$A$148=Display!$B$9,'Lux4-sept'!$A$178=Display!$B$11,'Lux4-sept'!$A$203=Display!$B$13),Display!$D7,)","v":0},{"$f":"IF(AND(E$8=Display!$T$10,'Lux4-sept'!$A$8=Display!$B$7,'Lux4-sept'!$A$148=Display!$B$9,'Lux4-sept'!$A$178=Display!$B$11,'Lux4-sept'!$A$203=Display!$B$13),Display!$D7,)","v":0},{"$f":"IF(AND(F$8=Display!$T$10,'Lux4-sept'!$A$8=Display!$B$7,'Lux4-sept'!$A$148=Display!$B$9,'Lux4-sept'!$A$178=Display!$B$11,'Lux4-sept'!$A$203=Display!$B$13),Display!$D7,)","v":0},{"$f":"IF(AND(G$8=Display!$T$10,'Lux4-sept'!$A$8=Display!$B$7,'Lux4-sept'!$A$148=Display!$B$9,'Lux4-sept'!$A$178=Display!$B$11,'Lux4-sept'!$A$203=Display!$B$13),Display!$D7,)","v":0},{"$f":"IF(AND(H$8=Display!$T$10,'Lux4-sept'!$A$8=Display!$B$7,'Lux4-sept'!$A$148=Display!$B$9,'Lux4-sept'!$A$178=Display!$B$11,'Lux4-sept'!$A$203=Display!$B$13),Display!$D7,)","v":0},{"$f":"IF(AND(I$8=Display!$T$10,'Lux4-sept'!$A$8=Display!$B$7,'Lux4-sept'!$A$148=Display!$B$9,'Lux4-sept'!$A$178=Display!$B$11,'Lux4-sept'!$A$203=Display!$B$13),Display!$D7,)","v":0},{"$f":"IF(AND(J$8=Display!$T$10,'Lux4-sept'!$A$8=Display!$B$7,'Lux4-sept'!$A$148=Display!$B$9,'Lux4-sept'!$A$178=Display!$B$11,'Lux4-sept'!$A$203=Display!$B$13),Display!$D7,)","v":0},{"$f":"IF(AND(K$8=Display!$T$10,'Lux4-sept'!$A$8=Display!$B$7,'Lux4-sept'!$A$148=Display!$B$9,'Lux4-sept'!$A$178=Display!$B$11,'Lux4-sept'!$A$203=Display!$B$13),Display!$D7,)","v":0},{"$f":"IF(AND(L$8=Display!$T$10,'Lux4-sept'!$A$8=Display!$B$7,'Lux4-sept'!$A$148=Display!$B$9,'Lux4-sept'!$A$178=Display!$B$11,'Lux4-sept'!$A$203=Display!$B$13),Display!$D7,)","v":0},{"$f":"IF(AND(M$8=Display!$T$10,'Lux4-sept'!$A$8=Display!$B$7,'Lux4-sept'!$A$148=Display!$B$9,'Lux4-sept'!$A$178=Display!$B$11,'Lux4-sept'!$A$203=Display!$B$13),Display!$D7,)","v":0},{"$f":"IF(AND(N$8=Display!$T$10,'Lux4-sept'!$A$8=Display!$B$7,'Lux4-sept'!$A$148=Display!$B$9,'Lux4-sept'!$A$178=Display!$B$11,'Lux4-sept'!$A$203=Display!$B$13),Display!$D7,)","v":0},{"$f":"IF(AND(O$8=Display!$T$10,'Lux4-sept'!$A$8=Display!$B$7,'Lux4-sept'!$A$148=Display!$B$9,'Lux4-sept'!$A$178=Display!$B$11,'Lux4-sept'!$A$203=Display!$B$13),Display!$D7,)","v":0},{"$f":"IF(AND(P$8=Display!$T$10,'Lux4-sept'!$A$8=Display!$B$7,'Lux4-sept'!$A$148=Display!$B$9,'Lux4-sept'!$A$178=Display!$B$11,'Lux4-sept'!$A$203=Display!$B$13),Display!$D7,)","v":0},{"$f":"IF(AND(Q$8=Display!$T$10,'Lux4-sept'!$A$8=Display!$B$7,'Lux4-sept'!$A$148=Display!$B$9,'Lux4-sept'!$A$178=Display!$B$11,'Lux4-sept'!$A$203=Display!$B$13),Display!$D7,)","v":0},{"$f":"IF(AND(R$8=Display!$T$10,'Lux4-sept'!$A$8=Display!$B$7,'Lux4-sept'!$A$148=Display!$B$9,'Lux4-sept'!$A$178=Display!$B$11,'Lux4-sept'!$A$203=Display!$B$13),Display!$D7,)","v":0},{"$f":"IF(AND(S$8=Display!$T$10,'Lux4-sept'!$A$8=Display!$B$7,'Lux4-sept'!$A$148=Display!$B$9,'Lux4-sept'!$A$178=Display!$B$11,'Lux4-sept'!$A$203=Display!$B$13),Display!$D7,)","v":0},{"$f":"IF(AND(T$8=Display!$T$10,'Lux4-sept'!$A$8=Display!$B$7,'Lux4-sept'!$A$148=Display!$B$9,'Lux4-sept'!$A$178=Display!$B$11,'Lux4-sept'!$A$203=Display!$B$13),Display!$D7,)","v":0},{"$f":"IF(AND(U$8=Display!$T$10,'Lux4-sept'!$A$8=Display!$B$7,'Lux4-sept'!$A$148=Display!$B$9,'Lux4-sept'!$A$178=Display!$B$11,'Lux4-sept'!$A$203=Display!$B$13),Display!$D7,)","v":0},{"$f":"IF(AND(V$8=Display!$T$10,'Lux4-sept'!$A$8=Display!$B$7,'Lux4-sept'!$A$148=Display!$B$9,'Lux4-sept'!$A$178=Display!$B$11,'Lux4-sept'!$A$203=Display!$B$13),Display!$D7,)","v":0},{"$f":"IF(AND(W$8=Display!$T$10,'Lux4-sept'!$A$8=Display!$B$7,'Lux4-sept'!$A$148=Display!$B$9,'Lux4-sept'!$A$178=Display!$B$11,'Lux4-sept'!$A$203=Display!$B$13),Display!$D7,)","v":0},{"$f":"IF(AND(X$8=Display!$T$10,'Lux4-sept'!$A$8=Display!$B$7,'Lux4-sept'!$A$148=Display!$B$9,'Lux4-sept'!$A$178=Display!$B$11,'Lux4-sept'!$A$203=Display!$B$13),Display!$D7,)","v":0},{"$f":"IF(AND(Y$8=Display!$T$10,'Lux4-sept'!$A$8=Display!$B$7,'Lux4-sept'!$A$148=Display!$B$9,'Lux4-sept'!$A$178=Display!$B$11,'Lux4-sept'!$A$203=Display!$B$13),Display!$D7,)","v":0},{"$f":"IF(AND(Z$8=Display!$T$10,'Lux4-sept'!$A$8=Display!$B$7,'Lux4-sept'!$A$148=Display!$B$9,'Lux4-sept'!$A$178=Display!$B$11,'Lux4-sept'!$A$203=Display!$B$13),Display!$D7,)","v":0},{"$f":"IF(AND(AA$8=Display!$T$10,'Lux4-sept'!$A$8=Display!$B$7,'Lux4-sept'!$A$148=Display!$B$9,'Lux4-sept'!$A$178=Display!$B$11,'Lux4-sept'!$A$203=Display!$B$13),Display!$D7,)","v":0},{"$f":"IF(AND(AB$8=Display!$T$10,'Lux4-sept'!$A$8=Display!$B$7,'Lux4-sept'!$A$148=Display!$B$9,'Lux4-sept'!$A$178=Display!$B$11,'Lux4-sept'!$A$203=Display!$B$13),Display!$D7,)","v":0},{"$f":"IF(AND(AC$8=Display!$T$10,'Lux4-sept'!$A$8=Display!$B$7,'Lux4-sept'!$A$148=Display!$B$9,'Lux4-sept'!$A$178=Display!$B$11,'Lux4-sept'!$A$203=Display!$B$13),Display!$D7,)","v":0},{"$f":"IF(AND(AD$8=Display!$T$10,'Lux4-sept'!$A$8=Display!$B$7,'Lux4-sept'!$A$148=Display!$B$9,'Lux4-sept'!$A$178=Display!$B$11,'Lux4-sept'!$A$203=Display!$B$13),Display!$D7,)","v":0},{"$f":"IF(AND(AE$8=Display!$T$10,'Lux4-sept'!$A$8=Display!$B$7,'Lux4-sept'!$A$148=Display!$B$9,'Lux4-sept'!$A$178=Display!$B$11,'Lux4-sept'!$A$203=Display!$B$13),Display!$D7,)","v":0},{"$f":"IF(AND(AF$8=Display!$T$10,'Lux4-sept'!$A$8=Display!$B$7,'Lux4-sept'!$A$148=Display!$B$9,'Lux4-sept'!$A$178=Display!$B$11,'Lux4-sept'!$A$203=Display!$B$13),Display!$D7,)","v":0},null,null,0]
["Armoires propres (Intérieure et extérieure)",{"$f":"IF(AND(B$8=Display!$T$10,'Lux4-sept'!$A$8=Display!$B$7,'Lux4-sept'!$A$148=Display!$B$9,'Lux4-sept'!$A$178=Display!$B$11,'Lux4-sept'!$A$203=Display!$B$13),Display!$D8,)","v":0},{"$f":"IF(AND(C$8=Display!$T$10,'Lux4-sept'!$A$8=Display!$B$7,'Lux4-sept'!$A$148=Display!$B$9,'Lux4-sept'!$A$178=Display!$B$11,'Lux4-sept'!$A$203=Display!$B$13),Display!$D8,)","v":0},{"$f":"IF(AND(D$8=Display!$T$10,'Lux4-sept'!$A$8=Display!$B$7,'Lux4-sept'!$A$148=Display!$B$9,'Lux4-sept'!$A$178=Display!$B$11,'Lux4-sept'!$A$203=Display!$B$13),Display!$D8,)","v":0},{"$f":"IF(AND(E$8=Display!$T$10,'Lux4-sept'!$A$8=Display!$B$7,'Lux4-sept'!$A$148=Display!$B$9,'Lux4-sept'!$A$178=Display!$B$11,'Lux4-sept'!$A$203=Display!$B$13),Display!$D8,)","v":0},{"$f":"IF(AND(F$8=Display!$T$10,'Lux4-sept'!$A$8=Display!$B$7,'Lux4-sept'!$A$148=Display!$B$9,'Lux4-sept'!$A$178=Display!$B$11,'Lux4-sept'!$A$203=Display!$B$13),Display!$D8,)","v":0},{"$f":"IF(AND(G$8=Display!$T$10,'Lux4-sept'!$A$8=Display!$B$7,'Lux4-sept'!$A$148=Display!$B$9,'Lux4-sept'!$A$178=Display!$B$11,'Lux4-sept'!$A$203=Display!$B$13),Display!$D8,)","v":0},{"$f":"IF(AND(H$8=Display!$T$10,'Lux4-sept'!$A$8=Display!$B$7,'Lux4-sept'!$A$148=Display!$B$9,'Lux4-sept'!$A$178=Display!$B$11,'Lux4-sept'!$A$203=Display!$B$13),Display!$D8,)","v":0},{"$f":"IF(AND(I$8=Display!$T$10,'Lux4-sept'!$A$8=Display!$B$7,'Lux4-sept'!$A$148=Display!$B$9,'Lux4-sept'!$A$178=Display!$B$11,'Lux4-sept'!$A$203=Display!$B$13),Display!$D8,)","v":0},{"$f":"IF(AND(J$8=Display!$T$10,'Lux4-sept'!$A$8=Display!$B$7,'Lux4-sept'!$A$148=Display!$B$9,'Lux4-sept'!$A$178=Display!$B$11,'Lux4-sept'!$A$203=Display!$B$13),Display!$D8,)","v":0},{"$f":"IF(AND(K$8=Display!$T$10,'Lux4-sept'!$A$8=Display!$B$7,'Lux4-sept'!$A$148=Display!$B$9,'Lux4-sept'!$A$178=Display!$B$11,'Lux4-sept'!$A$203=Display!$B$13),Display!$D8,)","v":0},{"$f":"IF(AND(L$8=Display!$T$10,'Lux4-sept'!$A$8=Display!$B$7,'Lux4-sept'!$A$148=Display!$B$9,'Lux4-sept'!$A$178=Display!$B$11,'Lux4-sept'!$A$203=Display!$B$13),Display!$D8,)","v":0},{"$f":"IF(AND(M$8=Display!$T$10,'Lux4-sept'!$A$8=Display!$B$7,'Lux4-sept'!$A$148=Display!$B$9,'Lux4-sept'!$A$178=Display!$B$11,'Lux4-sept'!$A$203=Display!$B$13),Display!$D8,)","v":0},{"$f":"IF(AND(N$8=Display!$T$10,'Lux4-sept'!$A$8=Display!$B$7,'Lux4-sept'!$A$148=Display!$B$9,'Lux4-sept'!$A$178=Display!$B$11,'Lux4-sept'!$A$203=Display!$B$13),Display!$D8,)","v":0},{"$f":"IF(AND(O$8=Display!$T$10,'Lux4-sept'!$A$8=Display!$B$7,'Lux4-sept'!$A$148=Display!$B$9,'Lux4-sept'!$A$178=Display!$B$11,'Lux4-sept'!$A$203=Display!$B$13),Display!$D8,)","v":0},{"$f":"IF(AND(P$8=Display!$T$10,'Lux4-sept'!$A$8=Display!$B$7,'Lux4-sept'!$A$148=Display!$B$9,'Lux4-sept'!$A$178=Display!$B$11,'Lux4-sept'!$A$203=Display!$B$13),Display!$D8,)","v":0},{"$f":"IF(AND(Q$8=Display!$T$10,'Lux4-sept'!$A$8=Display!$B$7,'Lux4-sept'!$A$148=Display!$B$9,'Lux4-sept'!$A$178=Display!$B$11,'Lux4-sept'!$A$203=Display!$B$13),Display!$D8,)","v":0},{"$f":"IF(AND(R$8=Display!$T$10,'Lux4-sept'!$A$8=Display!$B$7,'Lux4-sept'!$A$148=Display!$B$9,'Lux4-sept'!$A$178=Display!$B$11,'Lux4-sept'!$A$203=Display!$B$13),Display!$D8,)","v":0},{"$f":"IF(AND(S$8=Display!$T$10,'Lux4-sept'!$A$8=Display!$B$7,'Lux4-sept'!$A$148=Display!$B$9,'Lux4-sept'!$A$178=Display!$B$11,'Lux4-sept'!$A$203=Display!$B$13),Display!$D8,)","v":0},{"$f":"IF(AND(T$8=Display!$T$10,'Lux4-sept'!$A$8=Display!$B$7,'Lux4-sept'!$A$148=Display!$B$9,'Lux4-sept'!$A$178=Display!$B$11,'Lux4-sept'!$A$203=Display!$B$13),Display!$D8,)","v":0},{"$f":"IF(AND(U$8=Display!$T$10,'Lux4-sept'!$A$8=Display!$B$7,'Lux4-sept'!$A$148=Display!$B$9,'Lux4-sept'!$A$178=Display!$B$11,'Lux4-sept'!$A$203=Display!$B$13),Display!$D8,)","v":0},{"$f":"IF(AND(V$8=Display!$T$10,'Lux4-sept'!$A$8=Display!$B$7,'Lux4-sept'!$A$148=Display!$B$9,'Lux4-sept'!$A$178=Display!$B$11,'Lux4-sept'!$A$203=Display!$B$13),Display!$D8,)","v":0},{"$f":"IF(AND(W$8=Display!$T$10,'Lux4-sept'!$A$8=Display!$B$7,'Lux4-sept'!$A$148=Display!$B$9,'Lux4-sept'!$A$178=Display!$B$11,'Lux4-sept'!$A$203=Display!$B$13),Display!$D8,)","v":0},{"$f":"IF(AND(X$8=Display!$T$10,'Lux4-sept'!$A$8=Display!$B$7,'Lux4-sept'!$A$148=Display!$B$9,'Lux4-sept'!$A$178=Display!$B$11,'Lux4-sept'!$A$203=Display!$B$13),Display!$D8,)","v":0},{"$f":"IF(AND(Y$8=Display!$T$10,'Lux4-sept'!$A$8=Display!$B$7,'Lux4-sept'!$A$148=Display!$B$9,'Lux4-sept'!$A$178=Display!$B$11,'Lux4-sept'!$A$203=Display!$B$13),Display!$D8,)","v":0},{"$f":"IF(AND(Z$8=Display!$T$10,'Lux4-sept'!$A$8=Display!$B$7,'Lux4-sept'!$A$148=Display!$B$9,'Lux4-sept'!$A$178=Display!$B$11,'Lux4-sept'!$A$203=Display!$B$13),Display!$D8,)","v":0},{"$f":"IF(AND(AA$8=Display!$T$10,'Lux4-sept'!$A$8=Display!$B$7,'Lux4-sept'!$A$148=Display!$B$9,'Lux4-sept'!$A$178=Display!$B$11,'Lux4-sept'!$A$203=Display!$B$13),Display!$D8,)","v":0},{"$f":"IF(AND(AB$8=Display!$T$10,'Lux4-sept'!$A$8=Display!$B$7,'Lux4-sept'!$A$148=Display!$B$9,'Lux4-sept'!$A$178=Display!$B$11,'Lux4-sept'!$A$203=Display!$B$13),Display!$D8,)","v":0},{"$f":"IF(AND(AC$8=Display!$T$10,'Lux4-sept'!$A$8=Display!$B$7,'Lux4-sept'!$A$148=Display!$B$9,'Lux4-sept'!$A$178=Display!$B$11,'Lux4-sept'!$A$203=Display!$B$13),Display!$D8,)","v":0},{"$f":"IF(AND(AD$8=Display!$T$10,'Lux4-sept'!$A$8=Display!$B$7,'Lux4-sept'!$A$148=Display!$B$9,'Lux4-sept'!$A$178=Display!$B$11,'Lux4-sept'!$A$203=Display!$B$13),Display!$D8,)","v":0},{"$f":"IF(AND(AE$8=Display!$T$10,'Lux4-sept'!$A$8=Display!$B$7,'Lux4-sept'!$A$148=Display!$B$9,'Lux4-sept'!$A$178=Display!$B$11,'Lux4-sept'!$A$203=Display!$B$13),Display!$D8,)","v":0},{"$f":"IF(AND(AF$8=Display!$T$10,'Lux4-sept'!$A$8=Display!$B$7,'Lux4-sept'!$A$148=Display!$B$9,'Lux4-sept'!$A$178=Display!$B$11,'Lux4-sept'!$A$203=Display!$B$13),Display!$D8,)","v":0},null,null,0]
["Vaisselles propres et rangées",{"$f":"IF(AND(B$8=Display!$T$10,'Lux4-sept'!$A$8=Display!$B$7,'Lux4-sept'!$A$148=Display!$B$9,'Lux4-sept'!$A$178=Display!$B$11,'Lux4-sept'!$A$203=Display!$B$13),Display!$D9,)","v":0},{"$f":"IF(AND(C$8=Display!$T$10,'Lux4-sept'!$A$8=Display!$B$7,'Lux4-sept'!$A$148=Display!$B$9,'Lux4-sept'!$A$178=Display!$B$11,'Lux4-sept'!$A$203=Display!$B$13),Display!$D9,)","v":0},{"$f":"IF(AND(D$8=Display!$T$10,'Lux4-sept'!$A$8=Display!$B$7,'Lux4-sept'!$A$148=Display!$B$9,'Lux4-sept'!$A$178=Display!$B$11,'Lux4-sept'!$A$203=Display!$B$13),Display!$D9,)","v":0},{"$f":"IF(AND(E$8=Display!$T$10,'Lux4-sept'!$A$8=Display!$B$7,'Lux4-sept'!$A$148=Display!$B$9,'Lux4-sept'!$A$178=Display!$B$11,'Lux4-sept'!$A$203=Display!$B$13),Display!$D9,)","v":0},{"$f":"IF(AND(F$8=Display!$T$10,'Lux4-sept'!$A$8=Display!$B$7,'Lux4-sept'!$A$148=Display!$B$9,'Lux4-sept'!$A$178=Display!$B$11,'Lux4-sept'!$A$203=Display!$B$13),Display!$D9,)","v":0},{"$f":"IF(AND(G$8=Display!$T$10,'Lux4-sept'!$A$8=Display!$B$7,'Lux4-sept'!$A$148=Display!$B$9,'Lux4-sept'!$A$178=Display!$B$11,'Lux4-sept'!$A$203=Display!$B$13),Display!$D9,)","v":0},{"$f":"IF(AND(H$8=Display!$T$10,'Lux4-sept'!$A$8=Display!$B$7,'Lux4-sept'!$A$148=Display!$B$9,'Lux4-sept'!$A$178=Display!$B$11,'Lux4-sept'!$A$203=Display!$B$13),Display!$D9,)","v":0},{"$f":"IF(AND(I$8=Display!$T$10,'Lux4-sept'!$A$8=Display!$B$7,'Lux4-sept'!$A$148=Display!$B$9,'Lux4-sept'!$A$178=Display!$B$11,'Lux4-sept'!$A$203=Display!$B$13),Display!$D9,)","v":0},{"$f":"IF(AND(J$8=Display!$T$10,'Lux4-sept'!$A$8=Display!$B$7,'Lux4-sept'!$A$148=Display!$B$9,'Lux4-sept'!$A$178=Display!$B$11,'Lux4-sept'!$A$203=Display!$B$13),Display!$D9,)","v":0},{"$f":"IF(AND(K$8=Display!$T$10,'Lux4-sept'!$A$8=Display!$B$7,'Lux4-sept'!$A$148=Display!$B$9,'Lux4-sept'!$A$178=Display!$B$11,'Lux4-sept'!$A$203=Display!$B$13),Display!$D9,)","v":0},{"$f":"IF(AND(L$8=Display!$T$10,'Lux4-sept'!$A$8=Display!$B$7,'Lux4-sept'!$A$148=Display!$B$9,'Lux4-sept'!$A$178=Display!$B$11,'Lux4-sept'!$A$203=Display!$B$13),Display!$D9,)","v":0},{"$f":"IF(AND(M$8=Display!$T$10,'Lux4-sept'!$A$8=Display!$B$7,'Lux4-sept'!$A$148=Display!$B$9,'Lux4-sept'!$A$178=Display!$B$11,'Lux4-sept'!$A$203=Display!$B$13),Display!$D9,)","v":0},{"$f":"IF(AND(N$8=Display!$T$10,'Lux4-sept'!$A$8=Display!$B$7,'Lux4-sept'!$A$148=Display!$B$9,'Lux4-sept'!$A$178=Display!$B$11,'Lux4-sept'!$A$203=Display!$B$13),Display!$D9,)","v":0},{"$f":"IF(AND(O$8=Display!$T$10,'Lux4-sept'!$A$8=Display!$B$7,'Lux4-sept'!$A$148=Display!$B$9,'Lux4-sept'!$A$178=Display!$B$11,'Lux4-sept'!$A$203=Display!$B$13),Display!$D9,)","v":0},{"$f":"IF(AND(P$8=Display!$T$10,'Lux4-sept'!$A$8=Display!$B$7,'Lux4-sept'!$A$148=Display!$B$9,'Lux4-sept'!$A$178=Display!$B$11,'Lux4-sept'!$A$203=Display!$B$13),Display!$D9,)","v":0},{"$f":"IF(AND(Q$8=Display!$T$10,'Lux4-sept'!$A$8=Display!$B$7,'Lux4-sept'!$A$148=Display!$B$9,'Lux4-sept'!$A$178=Display!$B$11,'Lux4-sept'!$A$203=Display!$B$13),Display!$D9,)","v":0},{"$f":"IF(AND(R$8=Display!$T$10,'Lux4-sept'!$A$8=Display!$B$7,'Lux4-sept'!$A$148=Display!$B$9,'Lux4-sept'!$A$178=Display!$B$11,'Lux4-sept'!$A$203=Display!$B$13),Display!$D9,)","v":0},{"$f":"IF(AND(S$8=Display!$T$10,'Lux4-sept'!$A$8=Display!$B$7,'Lux4-sept'!$A$148=Display!$B$9,'Lux4-sept'!$A$178=Display!$B$11,'Lux4-sept'!$A$203=Display!$B$13),Display!$D9,)","v":0},{"$f":"IF(AND(T$8=Display!$T$10,'Lux4-sept'!$A$8=Display!$B$7,'Lux4-sept'!$A$148=Display!$B$9,'Lux4-sept'!$A$178=Display!$B$11,'Lux4-sept'!$A$203=Display!$B$13),Display!$D9,)","v":0},{"$f":"IF(AND(U$8=Display!$T$10,'Lux4-sept'!$A$8=Display!$B$7,'Lux4-sept'!$A$148=Display!$B$9,'Lux4-sept'!$A$178=Display!$B$11,'Lux4-sept'!$A$203=Display!$B$13),Display!$D9,)","v":0},{"$f":"IF(AND(V$8=Display!$T$10,'Lux4-sept'!$A$8=Display!$B$7,'Lux4-sept'!$A$148=Display!$B$9,'Lux4-sept'!$A$178=Display!$B$11,'Lux4-sept'!$A$203=Display!$B$13),Display!$D9,)","v":0},{"$f":"IF(AND(W$8=Display!$T$10,'Lux4-sept'!$A$8=Display!$B$7,'Lux4-sept'!$A$148=Display!$B$9,'Lux4-sept'!$A$178=Display!$B$11,'Lux4-sept'!$A$203=Display!$B$13),Display!$D9,)","v":0},{"$f":"IF(AND(X$8=Display!$T$10,'Lux4-sept'!$A$8=Display!$B$7,'Lux4-sept'!$A$148=Display!$B$9,'Lux4-sept'!$A$178=Display!$B$11,'Lux4-sept'!$A$203=Display!$B$13),Display!$D9,)","v":0},{"$f":"IF(AND(Y$8=Display!$T$10,'Lux4-sept'!$A$8=Display!$B$7,'Lux4-sept'!$A$148=Display!$B$9,'Lux4-sept'!$A$178=Display!$B$11,'Lux4-sept'!$A$203=Display!$B$13),Display!$D9,)","v":0},{"$f":"IF(AND(Z$8=Display!$T$10,'Lux4-sept'!$A$8=Display!$B$7,'Lux4-sept'!$A$148=Display!$B$9,'Lux4-sept'!$A$178=Display!$B$11,'Lux4-sept'!$A$203=Display!$B$13),Display!$D9,)","v":0},{"$f":"IF(AND(AA$8=Display!$T$10,'Lux4-sept'!$A$8=Display!$B$7,'Lux4-sept'!$A$148=Display!$B$9,'Lux4-sept'!$A$178=Display!$B$11,'Lux4-sept'!$A$203=Display!$B$13),Display!$D9,)","v":0},{"$f":"IF(AND(AB$8=Display!$T$10,'Lux4-sept'!$A$8=Display!$B$7,'Lux4-sept'!$A$148=Display!$B$9,'Lux4-sept'!$A$178=Display!$B$11,'Lux4-sept'!$A$203=Display!$B$13),Display!$D9,)","v":0},{"$f":"IF(AND(AC$8=Display!$T$10,'Lux4-sept'!$A$8=Display!$B$7,'Lux4-sept'!$A$148=Display!$B$9,'Lux4-sept'!$A$178=Display!$B$11,'Lux4-sept'!$A$203=Display!$B$13),Display!$D9,)","v":0},{"$f":"IF(AND(AD$8=Display!$T$10,'Lux4-sept'!$A$8=Display!$B$7,'Lux4-sept'!$A$148=Display!$B$9,'Lux4-sept'!$A$178=Display!$B$11,'Lux4-sept'!$A$203=Display!$B$13),Display!$D9,)","v":0},{"$f":"IF(AND(AE$8=Display!$T$10,'Lux4-sept'!$A$8=Display!$B$7,'Lux4-sept'!$A$148=Display!$B$9,'Lux4-sept'!$A$178=Display!$B$11,'Lux4-sept'!$A$203=Display!$B$13),Display!$D9,)","v":0},{"$f":"IF(AND(AF$8=Display!$T$10,'Lux4-sept'!$A$8=Display!$B$7,'Lux4-sept'!$A$148=Display!$B$9,'Lux4-sept'!$A$178=Display!$B$11,'Lux4-sept'!$A$203=Display!$B$13),Display!$D9,)","v":0},null,null,0]
["Rebords de fenêtres",{"$f":"IF(AND(B$8=Display!$T$10,'Lux4-sept'!$A$8=Display!$B$7,'Lux4-sept'!$A$148=Display!$B$9,'Lux4-sept'!$A$178=Display!$B$11,'Lux4-sept'!$A$203=Display!$B$13),Display!$D10,)","v":0},{"$f":"IF(AND(C$8=Display!$T$10,'Lux4-sept'!$A$8=Display!$B$7,'Lux4-sept'!$A$148=Display!$B$9,'Lux4-sept'!$A$178=Display!$B$11,'Lux4-sept'!$A$203=Display!$B$13),Display!$D10,)","v":0},{"$f":"IF(AND(D$8=Display!$T$10,'Lux4-sept'!$A$8=Display!$B$7,'Lux4-sept'!$A$148=Display!$B$9,'Lux4-sept'!$A$178=Display!$B$11,'Lux4-sept'!$A$203=Display!$B$13),Display!$D10,)","v":0},{"$f":"IF(AND(E$8=Display!$T$10,'Lux4-sept'!$A$8=Display!$B$7,'Lux4-sept'!$A$148=Display!$B$9,'Lux4-sept'!$A$178=Display!$B$11,'Lux4-sept'!$A$203=Display!$B$13),Display!$D10,)","v":0},{"$f":"IF(AND(F$8=Display!$T$10,'Lux4-sept'!$A$8=Display!$B$7,'Lux4-sept'!$A$148=Display!$B$9,'Lux4-sept'!$A$178=Display!$B$11,'Lux4-sept'!$A$203=Display!$B$13),Display!$D10,)","v":0},{"$f":"IF(AND(G$8=Display!$T$10,'Lux4-sept'!$A$8=Display!$B$7,'Lux4-sept'!$A$148=Display!$B$9,'Lux4-sept'!$A$178=Display!$B$11,'Lux4-sept'!$A$203=Display!$B$13),Display!$D10,)","v":0},{"$f":"IF(AND(H$8=Display!$T$10,'Lux4-sept'!$A$8=Display!$B$7,'Lux4-sept'!$A$148=Display!$B$9,'Lux4-sept'!$A$178=Display!$B$11,'Lux4-sept'!$A$203=Display!$B$13),Display!$D10,)","v":0},{"$f":"IF(AND(I$8=Display!$T$10,'Lux4-sept'!$A$8=Display!$B$7,'Lux4-sept'!$A$148=Display!$B$9,'Lux4-sept'!$A$178=Display!$B$11,'Lux4-sept'!$A$203=Display!$B$13),Display!$D10,)","v":0},{"$f":"IF(AND(J$8=Display!$T$10,'Lux4-sept'!$A$8=Display!$B$7,'Lux4-sept'!$A$148=Display!$B$9,'Lux4-sept'!$A$178=Display!$B$11,'Lux4-sept'!$A$203=Display!$B$13),Display!$D10,)","v":0},{"$f":"IF(AND(K$8=Display!$T$10,'Lux4-sept'!$A$8=Display!$B$7,'Lux4-sept'!$A$148=Display!$B$9,'Lux4-sept'!$A$178=Display!$B$11,'Lux4-sept'!$A$203=Display!$B$13),Display!$D10,)","v":0},{"$f":"IF(AND(L$8=Display!$T$10,'Lux4-sept'!$A$8=Display!$B$7,'Lux4-sept'!$A$148=Display!$B$9,'Lux4-sept'!$A$178=Display!$B$11,'Lux4-sept'!$A$203=Display!$B$13),Display!$D10,)","v":0},{"$f":"IF(AND(M$8=Display!$T$10,'Lux4-sept'!$A$8=Display!$B$7,'Lux4-sept'!$A$148=Display!$B$9,'Lux4-sept'!$A$178=Display!$B$11,'Lux4-sept'!$A$203=Display!$B$13),Display!$D10,)","v":0},{"$f":"IF(AND(N$8=Display!$T$10,'Lux4-sept'!$A$8=Display!$B$7,'Lux4-sept'!$A$148=Display!$B$9,'Lux4-sept'!$A$178=Display!$B$11,'Lux4-sept'!$A$203=Display!$B$13),Display!$D10,)","v":0},{"$f":"IF(AND(O$8=Display!$T$10,'Lux4-sept'!$A$8=Display!$B$7,'Lux4-sept'!$A$148=Display!$B$9,'Lux4-sept'!$A$178=Display!$B$11,'Lux4-sept'!$A$203=Display!$B$13),Display!$D10,)","v":0},{"$f":"IF(AND(P$8=Display!$T$10,'Lux4-sept'!$A$8=Display!$B$7,'Lux4-sept'!$A$148=Display!$B$9,'Lux4-sept'!$A$178=Display!$B$11,'Lux4-sept'!$A$203=Display!$B$13),Display!$D10,)","v":0},{"$f":"IF(AND(Q$8=Display!$T$10,'Lux4-sept'!$A$8=Display!$B$7,'Lux4-sept'!$A$148=Display!$B$9,'Lux4-sept'!$A$178=Display!$B$11,'Lux4-sept'!$A$203=Display!$B$13),Display!$D10,)","v":0},{"$f":"IF(AND(R$8=Display!$T$10,'Lux4-sept'!$A$8=Display!$B$7,'Lux4-sept'!$A$148=Display!$B$9,'Lux4-sept'!$A$178=Display!$B$11,'Lux4-sept'!$A$203=Display!$B$13),Display!$D10,)","v":0},{"$f":"IF(AND(S$8=Display!$T$10,'Lux4-sept'!$A$8=Display!$B$7,'Lux4-sept'!$A$148=Display!$B$9,'Lux4-sept'!$A$178=Display!$B$11,'Lux4-sept'!$A$203=Display!$B$13),Display!$D10,)","v":0},{"$f":"IF(AND(T$8=Display!$T$10,'Lux4-sept'!$A$8=Display!$B$7,'Lux4-sept'!$A$148=Display!$B$9,'Lux4-sept'!$A$178=Display!$B$11,'Lux4-sept'!$A$203=Display!$B$13),Display!$D10,)","v":0},{"$f":"IF(AND(U$8=Display!$T$10,'Lux4-sept'!$A$8=Display!$B$7,'Lux4-sept'!$A$148=Display!$B$9,'Lux4-sept'!$A$178=Display!$B$11,'Lux4-sept'!$A$203=Display!$B$13),Display!$D10,)","v":0},{"$f":"IF(AND(V$8=Display!$T$10,'Lux4-sept'!$A$8=Display!$B$7,'Lux4-sept'!$A$148=Display!$B$9,'Lux4-sept'!$A$178=Display!$B$11,'Lux4-sept'!$A$203=Display!$B$13),Display!$D10,)","v":0},{"$f":"IF(AND(W$8=Display!$T$10,'Lux4-sept'!$A$8=Display!$B$7,'Lux4-sept'!$A$148=Display!$B$9,'Lux4-sept'!$A$178=Display!$B$11,'Lux4-sept'!$A$203=Display!$B$13),Display!$D10,)","v":0},{"$f":"IF(AND(X$8=Display!$T$10,'Lux4-sept'!$A$8=Display!$B$7,'Lux4-sept'!$A$148=Display!$B$9,'Lux4-sept'!$A$178=Display!$B$11,'Lux4-sept'!$A$203=Display!$B$13),Display!$D10,)","v":0},{"$f":"IF(AND(Y$8=Display!$T$10,'Lux4-sept'!$A$8=Display!$B$7,'Lux4-sept'!$A$148=Display!$B$9,'Lux4-sept'!$A$178=Display!$B$11,'Lux4-sept'!$A$203=Display!$B$13),Display!$D10,)","v":0},{"$f":"IF(AND(Z$8=Display!$T$10,'Lux4-sept'!$A$8=Display!$B$7,'Lux4-sept'!$A$148=Display!$B$9,'Lux4-sept'!$A$178=Display!$B$11,'Lux4-sept'!$A$203=Display!$B$13),Display!$D10,)","v":0},{"$f":"IF(AND(AA$8=Display!$T$10,'Lux4-sept'!$A$8=Display!$B$7,'Lux4-sept'!$A$148=Display!$B$9,'Lux4-sept'!$A$178=Display!$B$11,'Lux4-sept'!$A$203=Display!$B$13),Display!$D10,)","v":0},{"$f":"IF(AND(AB$8=Display!$T$10,'Lux4-sept'!$A$8=Display!$B$7,'Lux4-sept'!$A$148=Display!$B$9,'Lux4-sept'!$A$178=Display!$B$11,'Lux4-sept'!$A$203=Display!$B$13),Display!$D10,)","v":0},{"$f":"IF(AND(AC$8=Display!$T$10,'Lux4-sept'!$A$8=Display!$B$7,'Lux4-sept'!$A$148=Display!$B$9,'Lux4-sept'!$A$178=Display!$B$11,'Lux4-sept'!$A$203=Display!$B$13),Display!$D10,)","v":0},{"$f":"IF(AND(AD$8=Display!$T$10,'Lux4-sept'!$A$8=Display!$B$7,'Lux4-sept'!$A$148=Display!$B$9,'Lux4-sept'!$A$178=Display!$B$11,'Lux4-sept'!$A$203=Display!$B$13),Display!$D10,)","v":0},{"$f":"IF(AND(AE$8=Display!$T$10,'Lux4-sept'!$A$8=Display!$B$7,'Lux4-sept'!$A$148=Display!$B$9,'Lux4-sept'!$A$178=Display!$B$11,'Lux4-sept'!$A$203=Display!$B$13),Display!$D10,)","v":0},{"$f":"IF(AND(AF$8=Display!$T$10,'Lux4-sept'!$A$8=Display!$B$7,'Lux4-sept'!$A$148=Display!$B$9,'Lux4-sept'!$A$178=Display!$B$11,'Lux4-sept'!$A$203=Display!$B$13),Display!$D10,)","v":0},null,null,0]
["Lave vaiselle vidé",{"$f":"IF(AND(B$8=Display!$T$10,'Lux4-sept'!$A$8=Display!$B$7,'Lux4-sept'!$A$148=Display!$B$9,'Lux4-sept'!$A$178=Display!$B$11,'Lux4-sept'!$A$203=Display!$B$13),Display!$D11,)","v":0},{"$f":"IF(AND(C$8=Display!$T$10,'Lux4-sept'!$A$8=Display!$B$7,'Lux4-sept'!$A$148=Display!$B$9,'Lux4-sept'!$A$178=Display!$B$11,'Lux4-sept'!$A$203=Display!$B$13),Display!$D11,)","v":0},{"$f":"IF(AND(D$8=Display!$T$10,'Lux4-sept'!$A$8=Display!$B$7,'Lux4-sept'!$A$148=Display!$B$9,'Lux4-sept'!$A$178=Display!$B$11,'Lux4-sept'!$A$203=Display!$B$13),Display!$D11,)","v":0},{"$f":"IF(AND(E$8=Display!$T$10,'Lux4-sept'!$A$8=Display!$B$7,'Lux4-sept'!$A$148=Display!$B$9,'Lux4-sept'!$A$178=Display!$B$11,'Lux4-sept'!$A$203=Display!$B$13),Display!$D11,)","v":0},{"$f":"IF(AND(F$8=Display!$T$10,'Lux4-sept'!$A$8=Display!$B$7,'Lux4-sept'!$A$148=Display!$B$9,'Lux4-sept'!$A$178=Display!$B$11,'Lux4-sept'!$A$203=Display!$B$13),Display!$D11,)","v":0},{"$f":"IF(AND(G$8=Display!$T$10,'Lux4-sept'!$A$8=Display!$B$7,'Lux4-sept'!$A$148=Display!$B$9,'Lux4-sept'!$A$178=Display!$B$11,'Lux4-sept'!$A$203=Display!$B$13),Display!$D11,)","v":0},{"$f":"IF(AND(H$8=Display!$T$10,'Lux4-sept'!$A$8=Display!$B$7,'Lux4-sept'!$A$148=Display!$B$9,'Lux4-sept'!$A$178=Display!$B$11,'Lux4-sept'!$A$203=Display!$B$13),Display!$D11,)","v":0},{"$f":"IF(AND(I$8=Display!$T$10,'Lux4-sept'!$A$8=Display!$B$7,'Lux4-sept'!$A$148=Display!$B$9,'Lux4-sept'!$A$178=Display!$B$11,'Lux4-sept'!$A$203=Display!$B$13),Display!$D11,)","v":0},{"$f":"IF(AND(J$8=Display!$T$10,'Lux4-sept'!$A$8=Display!$B$7,'Lux4-sept'!$A$148=Display!$B$9,'Lux4-sept'!$A$178=Display!$B$11,'Lux4-sept'!$A$203=Display!$B$13),Display!$D11,)","v":0},{"$f":"IF(AND(K$8=Display!$T$10,'Lux4-sept'!$A$8=Display!$B$7,'Lux4-sept'!$A$148=Display!$B$9,'Lux4-sept'!$A$178=Display!$B$11,'Lux4-sept'!$A$203=Display!$B$13),Display!$D11,)","v":0},{"$f":"IF(AND(L$8=Display!$T$10,'Lux4-sept'!$A$8=Display!$B$7,'Lux4-sept'!$A$148=Display!$B$9,'Lux4-sept'!$A$178=Display!$B$11,'Lux4-sept'!$A$203=Display!$B$13),Display!$D11,)","v":0},{"$f":"IF(AND(M$8=Display!$T$10,'Lux4-sept'!$A$8=Display!$B$7,'Lux4-sept'!$A$148=Display!$B$9,'Lux4-sept'!$A$178=Display!$B$11,'Lux4-sept'!$A$203=Display!$B$13),Display!$D11,)","v":0},{"$f":"IF(AND(N$8=Display!$T$10,'Lux4-sept'!$A$8=Display!$B$7,'Lux4-sept'!$A$148=Display!$B$9,'Lux4-sept'!$A$178=Display!$B$11,'Lux4-sept'!$A$203=Display!$B$13),Display!$D11,)","v":0},{"$f":"IF(AND(O$8=Display!$T$10,'Lux4-sept'!$A$8=Display!$B$7,'Lux4-sept'!$A$148=Display!$B$9,'Lux4-sept'!$A$178=Display!$B$11,'Lux4-sept'!$A$203=Display!$B$13),Display!$D11,)","v":0},{"$f":"IF(AND(P$8=Display!$T$10,'Lux4-sept'!$A$8=Display!$B$7,'Lux4-sept'!$A$148=Display!$B$9,'Lux4-sept'!$A$178=Display!$B$11,'Lux4-sept'!$A$203=Display!$B$13),Display!$D11,)","v":0},{"$f":"IF(AND(Q$8=Display!$T$10,'Lux4-sept'!$A$8=Display!$B$7,'Lux4-sept'!$A$148=Display!$B$9,'Lux4-sept'!$A$178=Display!$B$11,'Lux4-sept'!$A$203=Display!$B$13),Display!$D11,)","v":0},{"$f":"IF(AND(R$8=Display!$T$10,'Lux4-sept'!$A$8=Display!$B$7,'Lux4-sept'!$A$148=Display!$B$9,'Lux4-sept'!$A$178=Display!$B$11,'Lux4-sept'!$A$203=Display!$B$13),Display!$D11,)","v":0},{"$f":"IF(AND(S$8=Display!$T$10,'Lux4-sept'!$A$8=Display!$B$7,'Lux4-sept'!$A$148=Display!$B$9,'Lux4-sept'!$A$178=Display!$B$11,'Lux4-sept'!$A$203=Display!$B$13),Display!$D11,)","v":0},{"$f":"IF(AND(T$8=Display!$T$10,'Lux4-sept'!$A$8=Display!$B$7,'Lux4-sept'!$A$148=Display!$B$9,'Lux4-sept'!$A$178=Display!$B$11,'Lux4-sept'!$A$203=Display!$B$13),Display!$D11,)","v":0},{"$f":"IF(AND(U$8=Display!$T$10,'Lux4-sept'!$A$8=Display!$B$7,'Lux4-sept'!$A$148=Display!$B$9,'Lux4-sept'!$A$178=Display!$B$11,'Lux4-sept'!$A$203=Display!$B$13),Display!$D11,)","v":0},{"$f":"IF(AND(V$8=Display!$T$10,'Lux4-sept'!$A$8=Display!$B$7,'Lux4-sept'!$A$148=Display!$B$9,'Lux4-sept'!$A$178=Display!$B$11,'Lux4-sept'!$A$203=Display!$B$13),Display!$D11,)","v":0},{"$f":"IF(AND(W$8=Display!$T$10,'Lux4-sept'!$A$8=Display!$B$7,'Lux4-sept'!$A$148=Display!$B$9,'Lux4-sept'!$A$178=Display!$B$11,'Lux4-sept'!$A$203=Display!$B$13),Display!$D11,)","v":0},{"$f":"IF(AND(X$8=Display!$T$10,'Lux4-sept'!$A$8=Display!$B$7,'Lux4-sept'!$A$148=Display!$B$9,'Lux4-sept'!$A$178=Display!$B$11,'Lux4-sept'!$A$203=Display!$B$13),Display!$D11,)","v":0},{"$f":"IF(AND(Y$8=Display!$T$10,'Lux4-sept'!$A$8=Display!$B$7,'Lux4-sept'!$A$148=Display!$B$9,'Lux4-sept'!$A$178=Display!$B$11,'Lux4-sept'!$A$203=Display!$B$13),Display!$D11,)","v":0},{"$f":"IF(AND(Z$8=Display!$T$10,'Lux4-sept'!$A$8=Display!$B$7,'Lux4-sept'!$A$148=Display!$B$9,'Lux4-sept'!$A$178=Display!$B$11,'Lux4-sept'!$A$203=Display!$B$13),Display!$D11,)","v":0},{"$f":"IF(AND(AA$8=Display!$T$10,'Lux4-sept'!$A$8=Display!$B$7,'Lux4-sept'!$A$148=Display!$B$9,'Lux4-sept'!$A$178=Display!$B$11,'Lux4-sept'!$A$203=Display!$B$13),Display!$D11,)","v":0},{"$f":"IF(AND(AB$8=Display!$T$10,'Lux4-sept'!$A$8=Display!$B$7,'Lux4-sept'!$A$148=Display!$B$9,'Lux4-sept'!$A$178=Display!$B$11,'Lux4-sept'!$A$203=Display!$B$13),Display!$D11,)","v":0},{"$f":"IF(AND(AC$8=Display!$T$10,'Lux4-sept'!$A$8=Display!$B$7,'Lux4-sept'!$A$148=Display!$B$9,'Lux4-sept'!$A$178=Display!$B$11,'Lux4-sept'!$A$203=Display!$B$13),Display!$D11,)","v":0},{"$f":"IF(AND(AD$8=Display!$T$10,'Lux4-sept'!$A$8=Display!$B$7,'Lux4-sept'!$A$148=Display!$B$9,'Lux4-sept'!$A$178=Display!$B$11,'Lux4-sept'!$A$203=Display!$B$13),Display!$D11,)","v":0},{"$f":"IF(AND(AE$8=Display!$T$10,'Lux4-sept'!$A$8=Display!$B$7,'Lux4-sept'!$A$148=Display!$B$9,'Lux4-sept'!$A$178=Display!$B$11,'Lux4-sept'!$A$203=Display!$B$13),Display!$D11,)","v":0},{"$f":"IF(AND(AF$8=Display!$T$10,'Lux4-sept'!$A$8=Display!$B$7,'Lux4-sept'!$A$148=Display!$B$9,'Lux4-sept'!$A$178=Display!$B$11,'Lux4-sept'!$A$203=Display!$B$13),Display!$D11,)","v":0},null,null,0]
["Propreté des sols",{"$f":"IF(AND(B$8=Display!$T$10,'Lux4-sept'!$A$8=Display!$B$7,'Lux4-sept'!$A$148=Display!$B$9,'Lux4-sept'!$A$178=Display!$B$11,'Lux4-sept'!$A$203=Display!$B$13),Display!$D12,)","v":0},{"$f":"IF(AND(C$8=Display!$T$10,'Lux4-sept'!$A$8=Display!$B$7,'Lux4-sept'!$A$148=Display!$B$9,'Lux4-sept'!$A$178=Display!$B$11,'Lux4-sept'!$A$203=Display!$B$13),Display!$D12,)","v":0},{"$f":"IF(AND(D$8=Display!$T$10,'Lux4-sept'!$A$8=Display!$B$7,'Lux4-sept'!$A$148=Display!$B$9,'Lux4-sept'!$A$178=Display!$B$11,'Lux4-sept'!$A$203=Display!$B$13),Display!$D12,)","v":0},{"$f":"IF(AND(E$8=Display!$T$10,'Lux4-sept'!$A$8=Display!$B$7,'Lux4-sept'!$A$148=Display!$B$9,'Lux4-sept'!$A$178=Display!$B$11,'Lux4-sept'!$A$203=Display!$B$13),Display!$D12,)","v":0},{"$f":"IF(AND(F$8=Display!$T$10,'Lux4-sept'!$A$8=Display!$B$7,'Lux4-sept'!$A$148=Display!$B$9,'Lux4-sept'!$A$178=Display!$B$11,'Lux4-sept'!$A$203=Display!$B$13),Display!$D12,)","v":0},{"$f":"IF(AND(G$8=Display!$T$10,'Lux4-sept'!$A$8=Display!$B$7,'Lux4-sept'!$A$148=Display!$B$9,'Lux4-sept'!$A$178=Display!$B$11,'Lux4-sept'!$A$203=Display!$B$13),Display!$D12,)","v":0},{"$f":"IF(AND(H$8=Display!$T$10,'Lux4-sept'!$A$8=Display!$B$7,'Lux4-sept'!$A$148=Display!$B$9,'Lux4-sept'!$A$178=Display!$B$11,'Lux4-sept'!$A$203=Display!$B$13),Display!$D12,)","v":0},{"$f":"IF(AND(I$8=Display!$T$10,'Lux4-sept'!$A$8=Display!$B$7,'Lux4-sept'!$A$148=Display!$B$9,'Lux4-sept'!$A$178=Display!$B$11,'Lux4-sept'!$A$203=Display!$B$13),Display!$D12,)","v":0},{"$f":"IF(AND(J$8=Display!$T$10,'Lux4-sept'!$A$8=Display!$B$7,'Lux4-sept'!$A$148=Display!$B$9,'Lux4-sept'!$A$178=Display!$B$11,'Lux4-sept'!$A$203=Display!$B$13),Display!$D12,)","v":0},{"$f":"IF(AND(K$8=Display!$T$10,'Lux4-sept'!$A$8=Display!$B$7,'Lux4-sept'!$A$148=Display!$B$9,'Lux4-sept'!$A$178=Display!$B$11,'Lux4-sept'!$A$203=Display!$B$13),Display!$D12,)","v":0},{"$f":"IF(AND(L$8=Display!$T$10,'Lux4-sept'!$A$8=Display!$B$7,'Lux4-sept'!$A$148=Display!$B$9,'Lux4-sept'!$A$178=Display!$B$11,'Lux4-sept'!$A$203=Display!$B$13),Display!$D12,)","v":0},{"$f":"IF(AND(M$8=Display!$T$10,'Lux4-sept'!$A$8=Display!$B$7,'Lux4-sept'!$A$148=Display!$B$9,'Lux4-sept'!$A$178=Display!$B$11,'Lux4-sept'!$A$203=Display!$B$13),Display!$D12,)","v":0},{"$f":"IF(AND(N$8=Display!$T$10,'Lux4-sept'!$A$8=Display!$B$7,'Lux4-sept'!$A$148=Display!$B$9,'Lux4-sept'!$A$178=Display!$B$11,'Lux4-sept'!$A$203=Display!$B$13),Display!$D12,)","v":0},{"$f":"IF(AND(O$8=Display!$T$10,'Lux4-sept'!$A$8=Display!$B$7,'Lux4-sept'!$A$148=Display!$B$9,'Lux4-sept'!$A$178=Display!$B$11,'Lux4-sept'!$A$203=Display!$B$13),Display!$D12,)","v":0},{"$f":"IF(AND(P$8=Display!$T$10,'Lux4-sept'!$A$8=Display!$B$7,'Lux4-sept'!$A$148=Display!$B$9,'Lux4-sept'!$A$178=Display!$B$11,'Lux4-sept'!$A$203=Display!$B$13),Display!$D12,)","v":0},{"$f":"IF(AND(Q$8=Display!$T$10,'Lux4-sept'!$A$8=Display!$B$7,'Lux4-sept'!$A$148=Display!$B$9,'Lux4-sept'!$A$178=Display!$B$11,'Lux4-sept'!$A$203=Display!$B$13),Display!$D12,)","v":0},{"$f":"IF(AND(R$8=Display!$T$10,'Lux4-sept'!$A$8=Display!$B$7,'Lux4-sept'!$A$148=Display!$B$9,'Lux4-sept'!$A$178=Display!$B$11,'Lux4-sept'!$A$203=Display!$B$13),Display!$D12,)","v":0},{"$f":"IF(AND(S$8=Display!$T$10,'Lux4-sept'!$A$8=Display!$B$7,'Lux4-sept'!$A$148=Display!$B$9,'Lux4-sept'!$A$178=Display!$B$11,'Lux4-sept'!$A$203=Display!$B$13),Display!$D12,)","v":0},{"$f":"IF(AND(T$8=Display!$T$10,'Lux4-sept'!$A$8=Display!$B$7,'Lux4-sept'!$A$148=Display!$B$9,'Lux4-sept'!$A$178=Display!$B$11,'Lux4-sept'!$A$203=Display!$B$13),Display!$D12,)","v":0},{"$f":"IF(AND(U$8=Display!$T$10,'Lux4-sept'!$A$8=Display!$B$7,'Lux4-sept'!$A$148=Display!$B$9,'Lux4-sept'!$A$178=Display!$B$11,'Lux4-sept'!$A$203=Display!$B$13),Display!$D12,)","v":0},{"$f":"IF(AND(V$8=Display!$T$10,'Lux4-sept'!$A$8=Display!$B$7,'Lux4-sept'!$A$148=Display!$B$9,'Lux4-sept'!$A$178=Display!$B$11,'Lux4-sept'!$A$203=Display!$B$13),Display!$D12,)","v":0},{"$f":"IF(AND(W$8=Display!$T$10,'Lux4-sept'!$A$8=Display!$B$7,'Lux4-sept'!$A$148=Display!$B$9,'Lux4-sept'!$A$178=Display!$B$11,'Lux4-sept'!$A$203=Display!$B$13),Display!$D12,)","v":0},{"$f":"IF(AND(X$8=Display!$T$10,'Lux4-sept'!$A$8=Display!$B$7,'Lux4-sept'!$A$148=Display!$B$9,'Lux4-sept'!$A$178=Display!$B$11,'Lux4-sept'!$A$203=Display!$B$13),Display!$D12,)","v":0},{"$f":"IF(AND(Y$8=Display!$T$10,'Lux4-sept'!$A$8=Display!$B$7,'Lux4-sept'!$A$148=Display!$B$9,'Lux4-sept'!$A$178=Display!$B$11,'Lux4-sept'!$A$203=Display!$B$13),Display!$D12,)","v":0},{"$f":"IF(AND(Z$8=Display!$T$10,'Lux4-sept'!$A$8=Display!$B$7,'Lux4-sept'!$A$148=Display!$B$9,'Lux4-sept'!$A$178=Display!$B$11,'Lux4-sept'!$A$203=Display!$B$13),Display!$D12,)","v":0},{"$f":"IF(AND(AA$8=Display!$T$10,'Lux4-sept'!$A$8=Display!$B$7,'Lux4-sept'!$A$148=Display!$B$9,'Lux4-sept'!$A$178=Display!$B$11,'Lux4-sept'!$A$203=Display!$B$13),Display!$D12,)","v":0},{"$f":"IF(AND(AB$8=Display!$T$10,'Lux4-sept'!$A$8=Display!$B$7,'Lux4-sept'!$A$148=Display!$B$9,'Lux4-sept'!$A$178=Display!$B$11,'Lux4-sept'!$A$203=Display!$B$13),Display!$D12,)","v":0},{"$f":"IF(AND(AC$8=Display!$T$10,'Lux4-sept'!$A$8=Display!$B$7,'Lux4-sept'!$A$148=Display!$B$9,'Lux4-sept'!$A$178=Display!$B$11,'Lux4-sept'!$A$203=Display!$B$13),Display!$D12,)","v":0},{"$f":"IF(AND(AD$8=Display!$T$10,'Lux4-sept'!$A$8=Display!$B$7,'Lux4-sept'!$A$148=Display!$B$9,'Lux4-sept'!$A$178=Display!$B$11,'Lux4-sept'!$A$203=Display!$B$13),Display!$D12,)","v":0},{"$f":"IF(AND(AE$8=Display!$T$10,'Lux4-sept'!$A$8=Display!$B$7,'Lux4-sept'!$A$148=Display!$B$9,'Lux4-sept'!$A$178=Display!$B$11,'Lux4-sept'!$A$203=Display!$B$13),Display!$D12,)","v":0},{"$f":"IF(AND(AF$8=Display!$T$10,'Lux4-sept'!$A$8=Display!$B$7,'Lux4-sept'!$A$148=Display!$B$9,'Lux4-sept'!$A$178=Display!$B$11,'Lux4-sept'!$A$203=Display!$B$13),Display!$D12,)","v":0},null,null,0]
["Présence de poussières",{"$f":"IF(AND(B$8=Display!$T$10,'Lux4-sept'!$A$8=Display!$B$7,'Lux4-sept'!$A$148=Display!$B$9,'Lux4-sept'!$A$178=Display!$B$11,'Lux4-sept'!$A$203=Display!$B$13),Display!$D13,)","v":0},{"$f":"IF(AND(C$8=Display!$T$10,'Lux4-sept'!$A$8=Display!$B$7,'Lux4-sept'!$A$148=Display!$B$9,'Lux4-sept'!$A$178=Display!$B$11,'Lux4-sept'!$A$203=Display!$B$13),Display!$D13,)","v":0},{"$f":"IF(AND(D$8=Display!$T$10,'Lux4-sept'!$A$8=Display!$B$7,'Lux4-sept'!$A$148=Display!$B$9,'Lux4-sept'!$A$178=Display!$B$11,'Lux4-sept'!$A$203=Display!$B$13),Display!$D13,)","v":0},{"$f":"IF(AND(E$8=Display!$T$10,'Lux4-sept'!$A$8=Display!$B$7,'Lux4-sept'!$A$148=Display!$B$9,'Lux4-sept'!$A$178=Display!$B$11,'Lux4-sept'!$A$203=Display!$B$13),Display!$D13,)","v":0},{"$f":"IF(AND(F$8=Display!$T$10,'Lux4-sept'!$A$8=Display!$B$7,'Lux4-sept'!$A$148=Display!$B$9,'Lux4-sept'!$A$178=Display!$B$11,'Lux4-sept'!$A$203=Display!$B$13),Display!$D13,)","v":0},{"$f":"IF(AND(G$8=Display!$T$10,'Lux4-sept'!$A$8=Display!$B$7,'Lux4-sept'!$A$148=Display!$B$9,'Lux4-sept'!$A$178=Display!$B$11,'Lux4-sept'!$A$203=Display!$B$13),Display!$D13,)","v":0},{"$f":"IF(AND(H$8=Display!$T$10,'Lux4-sept'!$A$8=Display!$B$7,'Lux4-sept'!$A$148=Display!$B$9,'Lux4-sept'!$A$178=Display!$B$11,'Lux4-sept'!$A$203=Display!$B$13),Display!$D13,)","v":0},{"$f":"IF(AND(I$8=Display!$T$10,'Lux4-sept'!$A$8=Display!$B$7,'Lux4-sept'!$A$148=Display!$B$9,'Lux4-sept'!$A$178=Display!$B$11,'Lux4-sept'!$A$203=Display!$B$13),Display!$D13,)","v":0},{"$f":"IF(AND(J$8=Display!$T$10,'Lux4-sept'!$A$8=Display!$B$7,'Lux4-sept'!$A$148=Display!$B$9,'Lux4-sept'!$A$178=Display!$B$11,'Lux4-sept'!$A$203=Display!$B$13),Display!$D13,)","v":0},{"$f":"IF(AND(K$8=Display!$T$10,'Lux4-sept'!$A$8=Display!$B$7,'Lux4-sept'!$A$148=Display!$B$9,'Lux4-sept'!$A$178=Display!$B$11,'Lux4-sept'!$A$203=Display!$B$13),Display!$D13,)","v":0},{"$f":"IF(AND(L$8=Display!$T$10,'Lux4-sept'!$A$8=Display!$B$7,'Lux4-sept'!$A$148=Display!$B$9,'Lux4-sept'!$A$178=Display!$B$11,'Lux4-sept'!$A$203=Display!$B$13),Display!$D13,)","v":0},{"$f":"IF(AND(M$8=Display!$T$10,'Lux4-sept'!$A$8=Display!$B$7,'Lux4-sept'!$A$148=Display!$B$9,'Lux4-sept'!$A$178=Display!$B$11,'Lux4-sept'!$A$203=Display!$B$13),Display!$D13,)","v":0},{"$f":"IF(AND(N$8=Display!$T$10,'Lux4-sept'!$A$8=Display!$B$7,'Lux4-sept'!$A$148=Display!$B$9,'Lux4-sept'!$A$178=Display!$B$11,'Lux4-sept'!$A$203=Display!$B$13),Display!$D13,)","v":0},{"$f":"IF(AND(O$8=Display!$T$10,'Lux4-sept'!$A$8=Display!$B$7,'Lux4-sept'!$A$148=Display!$B$9,'Lux4-sept'!$A$178=Display!$B$11,'Lux4-sept'!$A$203=Display!$B$13),Display!$D13,)","v":0},{"$f":"IF(AND(P$8=Display!$T$10,'Lux4-sept'!$A$8=Display!$B$7,'Lux4-sept'!$A$148=Display!$B$9,'Lux4-sept'!$A$178=Display!$B$11,'Lux4-sept'!$A$203=Display!$B$13),Display!$D13,)","v":0},{"$f":"IF(AND(Q$8=Display!$T$10,'Lux4-sept'!$A$8=Display!$B$7,'Lux4-sept'!$A$148=Display!$B$9,'Lux4-sept'!$A$178=Display!$B$11,'Lux4-sept'!$A$203=Display!$B$13),Display!$D13,)","v":0},{"$f":"IF(AND(R$8=Display!$T$10,'Lux4-sept'!$A$8=Display!$B$7,'Lux4-sept'!$A$148=Display!$B$9,'Lux4-sept'!$A$178=Display!$B$11,'Lux4-sept'!$A$203=Display!$B$13),Display!$D13,)","v":0},{"$f":"IF(AND(S$8=Display!$T$10,'Lux4-sept'!$A$8=Display!$B$7,'Lux4-sept'!$A$148=Display!$B$9,'Lux4-sept'!$A$178=Display!$B$11,'Lux4-sept'!$A$203=Display!$B$13),Display!$D13,)","v":0},{"$f":"IF(AND(T$8=Display!$T$10,'Lux4-sept'!$A$8=Display!$B$7,'Lux4-sept'!$A$148=Display!$B$9,'Lux4-sept'!$A$178=Display!$B$11,'Lux4-sept'!$A$203=Display!$B$13),Display!$D13,)","v":0},{"$f":"IF(AND(U$8=Display!$T$10,'Lux4-sept'!$A$8=Display!$B$7,'Lux4-sept'!$A$148=Display!$B$9,'Lux4-sept'!$A$178=Display!$B$11,'Lux4-sept'!$A$203=Display!$B$13),Display!$D13,)","v":0},{"$f":"IF(AND(V$8=Display!$T$10,'Lux4-sept'!$A$8=Display!$B$7,'Lux4-sept'!$A$148=Display!$B$9,'Lux4-sept'!$A$178=Display!$B$11,'Lux4-sept'!$A$203=Display!$B$13),Display!$D13,)","v":0},{"$f":"IF(AND(W$8=Display!$T$10,'Lux4-sept'!$A$8=Display!$B$7,'Lux4-sept'!$A$148=Display!$B$9,'Lux4-sept'!$A$178=Display!$B$11,'Lux4-sept'!$A$203=Display!$B$13),Display!$D13,)","v":0},{"$f":"IF(AND(X$8=Display!$T$10,'Lux4-sept'!$A$8=Display!$B$7,'Lux4-sept'!$A$148=Display!$B$9,'Lux4-sept'!$A$178=Display!$B$11,'Lux4-sept'!$A$203=Display!$B$13),Display!$D13,)","v":0},{"$f":"IF(AND(Y$8=Display!$T$10,'Lux4-sept'!$A$8=Display!$B$7,'Lux4-sept'!$A$148=Display!$B$9,'Lux4-sept'!$A$178=Display!$B$11,'Lux4-sept'!$A$203=Display!$B$13),Display!$D13,)","v":0},{"$f":"IF(AND(Z$8=Display!$T$10,'Lux4-sept'!$A$8=Display!$B$7,'Lux4-sept'!$A$148=Display!$B$9,'Lux4-sept'!$A$178=Display!$B$11,'Lux4-sept'!$A$203=Display!$B$13),Display!$D13,)","v":0},{"$f":"IF(AND(AA$8=Display!$T$10,'Lux4-sept'!$A$8=Display!$B$7,'Lux4-sept'!$A$148=Display!$B$9,'Lux4-sept'!$A$178=Display!$B$11,'Lux4-sept'!$A$203=Display!$B$13),Display!$D13,)","v":0},{"$f":"IF(AND(AB$8=Display!$T$10,'Lux4-sept'!$A$8=Display!$B$7,'Lux4-sept'!$A$148=Display!$B$9,'Lux4-sept'!$A$178=Display!$B$11,'Lux4-sept'!$A$203=Display!$B$13),Display!$D13,)","v":0},{"$f":"IF(AND(AC$8=Display!$T$10,'Lux4-sept'!$A$8=Display!$B$7,'Lux4-sept'!$A$148=Display!$B$9,'Lux4-sept'!$A$178=Display!$B$11,'Lux4-sept'!$A$203=Display!$B$13),Display!$D13,)","v":0},{"$f":"IF(AND(AD$8=Display!$T$10,'Lux4-sept'!$A$8=Display!$B$7,'Lux4-sept'!$A$148=Display!$B$9,'Lux4-sept'!$A$178=Display!$B$11,'Lux4-sept'!$A$203=Display!$B$13),Display!$D13,)","v":0},{"$f":"IF(AND(AE$8=Display!$T$10,'Lux4-sept'!$A$8=Display!$B$7,'Lux4-sept'!$A$148=Display!$B$9,'Lux4-sept'!$A$178=Display!$B$11,'Lux4-sept'!$A$203=Display!$B$13),Display!$D13,)","v":0},{"$f":"IF(AND(AF$8=Display!$T$10,'Lux4-sept'!$A$8=Display!$B$7,'Lux4-sept'!$A$148=Display!$B$9,'Lux4-sept'!$A$178=Display!$B$11,'Lux4-sept'!$A$203=Display!$B$13),Display!$D13,)","v":0},null,null,0]
["MOYENNE",{"$f":"((IF((SUM(B204:B213))<>0,(SUM(B204:B213)),0))/(IF((SUM((IF(B204<>0,3,0)),(IF(B205<>0,3,0)),(IF(B206<>0,3,0)),(IF(B207<>0,3,0)),(IF(B208<>0,3,0)),(IF(B209<>0,3,0)),(IF(B210<>0,3,0)),(IF(B211<>0,3,0)),(IF(B212<>0,3,0)),(IF(B213<>0,3,0))))<>0,((SUM((IF(B204<>0,3,0)),(IF(B205<>0,3,0)),(IF(B206<>0,3,0)),(IF(B207<>0,3,0)),(IF(B208<>0,3,0)),(IF(B209<>0,3,0)),(IF(B210<>0,3,0)),(IF(B211<>0,3,0)),(IF(B212<>0,3,0)),(IF(B213<>0,3,0))))),1)))","v":0},{"$f":"((IF((SUM(C204:C213))<>0,(SUM(C204:C213)),0))/(IF((SUM((IF(C204<>0,3,0)),(IF(C205<>0,3,0)),(IF(C206<>0,3,0)),(IF(C207<>0,3,0)),(IF(C208<>0,3,0)),(IF(C209<>0,3,0)),(IF(C210<>0,3,0)),(IF(C211<>0,3,0)),(IF(C212<>0,3,0)),(IF(C213<>0,3,0))))<>0,((SUM((IF(C204<>0,3,0)),(IF(C205<>0,3,0)),(IF(C206<>0,3,0)),(IF(C207<>0,3,0)),(IF(C208<>0,3,0)),(IF(C209<>0,3,0)),(IF(C210<>0,3,0)),(IF(C211<>0,3,0)),(IF(C212<>0,3,0)),(IF(C213<>0,3,0))))),1)))","v":0},0,0,0,0,0,0,0,0,0,0,0,0,0,0,0,0,0,0,0,0,0,0,0,0,0,0,0,0,0,0,0]
[".04"]
["Fourniture (café, lait, thé, sucre, choc., Serviettes",{"$f":"IF(AND(B$8=Display!$T$10,'Lux4-sept'!$A$8=Display!$B$7,'Lux4-sept'!$A$148=Display!$B$9,'Lux4-sept'!$A$178=Display!$B$11,'Lux4-sept'!$A$215=Display!$B$13),Display!$D4,)","v":0},{"$f":"IF(AND(C$8=Display!$T$10,'Lux4-sept'!$A$8=Display!$B$7,'Lux4-sept'!$A$148=Display!$B$9,'Lux4-sept'!$A$178=Display!$B$11,'Lux4-sept'!$A$215=Display!$B$13),Display!$D4,)","v":0},{"$f":"IF(AND(D$8=Display!$T$10,'Lux4-sept'!$A$8=Display!$B$7,'Lux4-sept'!$A$148=Display!$B$9,'Lux4-sept'!$A$178=Display!$B$11,'Lux4-sept'!$A$215=Display!$B$13),Display!$D4,)","v":0},{"$f":"IF(AND(E$8=Display!$T$10,'Lux4-sept'!$A$8=Display!$B$7,'Lux4-sept'!$A$148=Display!$B$9,'Lux4-sept'!$A$178=Display!$B$11,'Lux4-sept'!$A$215=Display!$B$13),Display!$D4,)","v":0},{"$f":"IF(AND(F$8=Display!$T$10,'Lux4-sept'!$A$8=Display!$B$7,'Lux4-sept'!$A$148=Display!$B$9,'Lux4-sept'!$A$178=Display!$B$11,'Lux4-sept'!$A$215=Display!$B$13),Display!$D4,)","v":0},{"$f":"IF(AND(G$8=Display!$T$10,'Lux4-sept'!$A$8=Display!$B$7,'Lux4-sept'!$A$148=Display!$B$9,'Lux4-sept'!$A$178=Display!$B$11,'Lux4-sept'!$A$215=Display!$B$13),Display!$D4,)","v":0},{"$f":"IF(AND(H$8=Display!$T$10,'Lux4-sept'!$A$8=Display!$B$7,'Lux4-sept'!$A$148=Display!$B$9,'Lux4-sept'!$A$178=Display!$B$11,'Lux4-sept'!$A$215=Display!$B$13),Display!$D4,)","v":0},{"$f":"IF(AND(I$8=Display!$T$10,'Lux4-sept'!$A$8=Display!$B$7,'Lux4-sept'!$A$148=Display!$B$9,'Lux4-sept'!$A$178=Display!$B$11,'Lux4-sept'!$A$215=Display!$B$13),Display!$D4,)","v":0},{"$f":"IF(AND(J$8=Display!$T$10,'Lux4-sept'!$A$8=Display!$B$7,'Lux4-sept'!$A$148=Display!$B$9,'Lux4-sept'!$A$178=Display!$B$11,'Lux4-sept'!$A$215=Display!$B$13),Display!$D4,)","v":0},{"$f":"IF(AND(K$8=Display!$T$10,'Lux4-sept'!$A$8=Display!$B$7,'Lux4-sept'!$A$148=Display!$B$9,'Lux4-sept'!$A$178=Display!$B$11,'Lux4-sept'!$A$215=Display!$B$13),Display!$D4,)","v":0},{"$f":"IF(AND(L$8=Display!$T$10,'Lux4-sept'!$A$8=Display!$B$7,'Lux4-sept'!$A$148=Display!$B$9,'Lux4-sept'!$A$178=Display!$B$11,'Lux4-sept'!$A$215=Display!$B$13),Display!$D4,)","v":0},{"$f":"IF(AND(M$8=Display!$T$10,'Lux4-sept'!$A$8=Display!$B$7,'Lux4-sept'!$A$148=Display!$B$9,'Lux4-sept'!$A$178=Display!$B$11,'Lux4-sept'!$A$215=Display!$B$13),Display!$D4,)","v":0},{"$f":"IF(AND(N$8=Display!$T$10,'Lux4-sept'!$A$8=Display!$B$7,'Lux4-sept'!$A$148=Display!$B$9,'Lux4-sept'!$A$178=Display!$B$11,'Lux4-sept'!$A$215=Display!$B$13),Display!$D4,)","v":0},{"$f":"IF(AND(O$8=Display!$T$10,'Lux4-sept'!$A$8=Display!$B$7,'Lux4-sept'!$A$148=Display!$B$9,'Lux4-sept'!$A$178=Display!$B$11,'Lux4-sept'!$A$215=Display!$B$13),Display!$D4,)","v":0},{"$f":"IF(AND(P$8=Display!$T$10,'Lux4-sept'!$A$8=Display!$B$7,'Lux4-sept'!$A$148=Display!$B$9,'Lux4-sept'!$A$178=Display!$B$11,'Lux4-sept'!$A$215=Display!$B$13),Display!$D4,)","v":0},{"$f":"IF(AND(Q$8=Display!$T$10,'Lux4-sept'!$A$8=Display!$B$7,'Lux4-sept'!$A$148=Display!$B$9,'Lux4-sept'!$A$178=Display!$B$11,'Lux4-sept'!$A$215=Display!$B$13),Display!$D4,)","v":0},{"$f":"IF(AND(R$8=Display!$T$10,'Lux4-sept'!$A$8=Display!$B$7,'Lux4-sept'!$A$148=Display!$B$9,'Lux4-sept'!$A$178=Display!$B$11,'Lux4-sept'!$A$215=Display!$B$13),Display!$D4,)","v":0},{"$f":"IF(AND(S$8=Display!$T$10,'Lux4-sept'!$A$8=Display!$B$7,'Lux4-sept'!$A$148=Display!$B$9,'Lux4-sept'!$A$178=Display!$B$11,'Lux4-sept'!$A$215=Display!$B$13),Display!$D4,)","v":0},{"$f":"IF(AND(T$8=Display!$T$10,'Lux4-sept'!$A$8=Display!$B$7,'Lux4-sept'!$A$148=Display!$B$9,'Lux4-sept'!$A$178=Display!$B$11,'Lux4-sept'!$A$215=Display!$B$13),Display!$D4,)","v":0},{"$f":"IF(AND(U$8=Display!$T$10,'Lux4-sept'!$A$8=Display!$B$7,'Lux4-sept'!$A$148=Display!$B$9,'Lux4-sept'!$A$178=Display!$B$11,'Lux4-sept'!$A$215=Display!$B$13),Display!$D4,)","v":0},{"$f":"IF(AND(V$8=Display!$T$10,'Lux4-sept'!$A$8=Display!$B$7,'Lux4-sept'!$A$148=Display!$B$9,'Lux4-sept'!$A$178=Display!$B$11,'Lux4-sept'!$A$215=Display!$B$13),Display!$D4,)","v":0},{"$f":"IF(AND(W$8=Display!$T$10,'Lux4-sept'!$A$8=Display!$B$7,'Lux4-sept'!$A$148=Display!$B$9,'Lux4-sept'!$A$178=Display!$B$11,'Lux4-sept'!$A$215=Display!$B$13),Display!$D4,)","v":0},{"$f":"IF(AND(X$8=Display!$T$10,'Lux4-sept'!$A$8=Display!$B$7,'Lux4-sept'!$A$148=Display!$B$9,'Lux4-sept'!$A$178=Display!$B$11,'Lux4-sept'!$A$215=Display!$B$13),Display!$D4,)","v":0},{"$f":"IF(AND(Y$8=Display!$T$10,'Lux4-sept'!$A$8=Display!$B$7,'Lux4-sept'!$A$148=Display!$B$9,'Lux4-sept'!$A$178=Display!$B$11,'Lux4-sept'!$A$215=Display!$B$13),Display!$D4,)","v":0},{"$f":"IF(AND(Z$8=Display!$T$10,'Lux4-sept'!$A$8=Display!$B$7,'Lux4-sept'!$A$148=Display!$B$9,'Lux4-sept'!$A$178=Display!$B$11,'Lux4-sept'!$A$215=Display!$B$13),Display!$D4,)","v":0},{"$f":"IF(AND(AA$8=Display!$T$10,'Lux4-sept'!$A$8=Display!$B$7,'Lux4-sept'!$A$148=Display!$B$9,'Lux4-sept'!$A$178=Display!$B$11,'Lux4-sept'!$A$215=Display!$B$13),Display!$D4,)","v":0},{"$f":"IF(AND(AB$8=Display!$T$10,'Lux4-sept'!$A$8=Display!$B$7,'Lux4-sept'!$A$148=Display!$B$9,'Lux4-sept'!$A$178=Display!$B$11,'Lux4-sept'!$A$215=Display!$B$13),Display!$D4,)","v":0},{"$f":"IF(AND(AC$8=Display!$T$10,'Lux4-sept'!$A$8=Display!$B$7,'Lux4-sept'!$A$148=Display!$B$9,'Lux4-sept'!$A$178=Display!$B$11,'Lux4-sept'!$A$215=Display!$B$13),Display!$D4,)","v":0},{"$f":"IF(AND(AD$8=Display!$T$10,'Lux4-sept'!$A$8=Display!$B$7,'Lux4-sept'!$A$148=Display!$B$9,'Lux4-sept'!$A$178=Display!$B$11,'Lux4-sept'!$A$215=Display!$B$13),Display!$D4,)","v":0},{"$f":"IF(AND(AE$8=Display!$T$10,'Lux4-sept'!$A$8=Display!$B$7,'Lux4-sept'!$A$148=Display!$B$9,'Lux4-sept'!$A$178=Display!$B$11,'Lux4-sept'!$A$215=Display!$B$13),Display!$D4,)","v":0},{"$f":"IF(AND(AF$8=Display!$T$10,'Lux4-sept'!$A$8=Display!$B$7,'Lux4-sept'!$A$148=Display!$B$9,'Lux4-sept'!$A$178=Display!$B$11,'Lux4-sept'!$A$215=Display!$B$13),Display!$D4,)","v":0},null,null,{"$f":"((IF((SUM(B216:AF216))<>0,(SUM(B216:AF216)),0))/(IF((SUM((IF(B216<>0,3,0)),(IF(C216<>0,3,0)),(IF(D216<>0,3,0)),(IF(E216<>0,3,0)),(IF(F216<>0,3,0)),(IF(F216<>0,3,0)),(IF(F216<>0,3,0)),(IF(G216<>0,3,0)),(IF(H216<>0,3,0)),(IF(I216<>0,3,0)),(IF(J216<>0,3,0)),(IF(K216<>0,3,0)),(IF(L216<>0,3,0)),(IF(M216<>0,3,0)),(IF(N216<>0,3,0)),(IF(O216<>0,3,0)),(IF(P216<>0,3,0)),(IF(Q216<>0,3,0)),(IF(R216<>0,3,0)),(IF(S216<>0,3,0)),(IF(T216<>0,3,0)),(IF(U216<>0,3,0)),(IF(V216<>0,3,0)),(IF(W216<>0,3,0)),(IF(X216<>0,3,0)),(IF(Y216<>0,3,0)),(IF(Z216<>0,3,0)),(IF(AA216<>0,3,0)),(IF(AB216<>0,3,0)),(IF(AC216<>0,3,0)),(IF(AD216<>0,3,0)),(IF(AE216<>0,3,0)),(IF(AF216<>0,3,0))))<>0,((SUM((IF(B216<>0,3,0)),(IF(C216<>0,3,0)),(IF(D216<>0,3,0)),(IF(E216<>0,3,0)),(IF(F216<>0,3,0)),(IF(F216<>0,3,0)),(IF(F216<>0,3,0)),(IF(G216<>0,3,0)),(IF(H216<>0,3,0)),(IF(I216<>0,3,0)),(IF(J216<>0,3,0)),(IF(K216<>0,3,0)),(IF(L216<>0,3,0)),(IF(M216<>0,3,0)),(IF(N216<>0,3,0)),(IF(O216<>0,3,0)),(IF(P216<>0,3,0)),(IF(Q216<>0,3,0)),(IF(R216<>0,3,0)),(IF(S216<>0,3,0)),(IF(T216<>0,3,0)),(IF(U216<>0,3,0)),(IF(V216<>0,3,0)),(IF(W216<>0,3,0)),(IF(X216<>0,3,0)),(IF(Y216<>0,3,0)),(IF(Z216<>0,3,0)),(IF(AA216<>0,3,0)),(IF(AB216<>0,3,0)),(IF(AC216<>0,3,0)),(IF(AD216<>0,3,0)),(IF(AE216<>0,3,0)),(IF(AF216<>0,3,0))))),1)))","v":0}]
["Recyclage des capsules Nespresso",{"$f":"IF(AND(B$8=Display!$T$10,'Lux4-sept'!$A$8=Display!$B$7,'Lux4-sept'!$A$148=Display!$B$9,'Lux4-sept'!$A$178=Display!$B$11,'Lux4-sept'!$A$215=Display!$B$13),Display!$D5,)","v":0},{"$f":"IF(AND(C$8=Display!$T$10,'Lux4-sept'!$A$8=Display!$B$7,'Lux4-sept'!$A$148=Display!$B$9,'Lux4-sept'!$A$178=Display!$B$11,'Lux4-sept'!$A$215=Display!$B$13),Display!$D5,)","v":0},{"$f":"IF(AND(D$8=Display!$T$10,'Lux4-sept'!$A$8=Display!$B$7,'Lux4-sept'!$A$148=Display!$B$9,'Lux4-sept'!$A$178=Display!$B$11,'Lux4-sept'!$A$215=Display!$B$13),Display!$D5,)","v":0},{"$f":"IF(AND(E$8=Display!$T$10,'Lux4-sept'!$A$8=Display!$B$7,'Lux4-sept'!$A$148=Display!$B$9,'Lux4-sept'!$A$178=Display!$B$11,'Lux4-sept'!$A$215=Display!$B$13),Display!$D5,)","v":0},{"$f":"IF(AND(F$8=Display!$T$10,'Lux4-sept'!$A$8=Display!$B$7,'Lux4-sept'!$A$148=Display!$B$9,'Lux4-sept'!$A$178=Display!$B$11,'Lux4-sept'!$A$215=Display!$B$13),Display!$D5,)","v":0},{"$f":"IF(AND(G$8=Display!$T$10,'Lux4-sept'!$A$8=Display!$B$7,'Lux4-sept'!$A$148=Display!$B$9,'Lux4-sept'!$A$178=Display!$B$11,'Lux4-sept'!$A$215=Display!$B$13),Display!$D5,)","v":0},{"$f":"IF(AND(H$8=Display!$T$10,'Lux4-sept'!$A$8=Display!$B$7,'Lux4-sept'!$A$148=Display!$B$9,'Lux4-sept'!$A$178=Display!$B$11,'Lux4-sept'!$A$215=Display!$B$13),Display!$D5,)","v":0},{"$f":"IF(AND(I$8=Display!$T$10,'Lux4-sept'!$A$8=Display!$B$7,'Lux4-sept'!$A$148=Display!$B$9,'Lux4-sept'!$A$178=Display!$B$11,'Lux4-sept'!$A$215=Display!$B$13),Display!$D5,)","v":0},{"$f":"IF(AND(J$8=Display!$T$10,'Lux4-sept'!$A$8=Display!$B$7,'Lux4-sept'!$A$148=Display!$B$9,'Lux4-sept'!$A$178=Display!$B$11,'Lux4-sept'!$A$215=Display!$B$13),Display!$D5,)","v":0},{"$f":"IF(AND(K$8=Display!$T$10,'Lux4-sept'!$A$8=Display!$B$7,'Lux4-sept'!$A$148=Display!$B$9,'Lux4-sept'!$A$178=Display!$B$11,'Lux4-sept'!$A$215=Display!$B$13),Display!$D5,)","v":0},{"$f":"IF(AND(L$8=Display!$T$10,'Lux4-sept'!$A$8=Display!$B$7,'Lux4-sept'!$A$148=Display!$B$9,'Lux4-sept'!$A$178=Display!$B$11,'Lux4-sept'!$A$215=Display!$B$13),Display!$D5,)","v":0},{"$f":"IF(AND(M$8=Display!$T$10,'Lux4-sept'!$A$8=Display!$B$7,'Lux4-sept'!$A$148=Display!$B$9,'Lux4-sept'!$A$178=Display!$B$11,'Lux4-sept'!$A$215=Display!$B$13),Display!$D5,)","v":0},{"$f":"IF(AND(N$8=Display!$T$10,'Lux4-sept'!$A$8=Display!$B$7,'Lux4-sept'!$A$148=Display!$B$9,'Lux4-sept'!$A$178=Display!$B$11,'Lux4-sept'!$A$215=Display!$B$13),Display!$D5,)","v":0},{"$f":"IF(AND(O$8=Display!$T$10,'Lux4-sept'!$A$8=Display!$B$7,'Lux4-sept'!$A$148=Display!$B$9,'Lux4-sept'!$A$178=Display!$B$11,'Lux4-sept'!$A$215=Display!$B$13),Display!$D5,)","v":0},{"$f":"IF(AND(P$8=Display!$T$10,'Lux4-sept'!$A$8=Display!$B$7,'Lux4-sept'!$A$148=Display!$B$9,'Lux4-sept'!$A$178=Display!$B$11,'Lux4-sept'!$A$215=Display!$B$13),Display!$D5,)","v":0},{"$f":"IF(AND(Q$8=Display!$T$10,'Lux4-sept'!$A$8=Display!$B$7,'Lux4-sept'!$A$148=Display!$B$9,'Lux4-sept'!$A$178=Display!$B$11,'Lux4-sept'!$A$215=Display!$B$13),Display!$D5,)","v":0},{"$f":"IF(AND(R$8=Display!$T$10,'Lux4-sept'!$A$8=Display!$B$7,'Lux4-sept'!$A$148=Display!$B$9,'Lux4-sept'!$A$178=Display!$B$11,'Lux4-sept'!$A$215=Display!$B$13),Display!$D5,)","v":0},{"$f":"IF(AND(S$8=Display!$T$10,'Lux4-sept'!$A$8=Display!$B$7,'Lux4-sept'!$A$148=Display!$B$9,'Lux4-sept'!$A$178=Display!$B$11,'Lux4-sept'!$A$215=Display!$B$13),Display!$D5,)","v":0},{"$f":"IF(AND(T$8=Display!$T$10,'Lux4-sept'!$A$8=Display!$B$7,'Lux4-sept'!$A$148=Display!$B$9,'Lux4-sept'!$A$178=Display!$B$11,'Lux4-sept'!$A$215=Display!$B$13),Display!$D5,)","v":0},{"$f":"IF(AND(U$8=Display!$T$10,'Lux4-sept'!$A$8=Display!$B$7,'Lux4-sept'!$A$148=Display!$B$9,'Lux4-sept'!$A$178=Display!$B$11,'Lux4-sept'!$A$215=Display!$B$13),Display!$D5,)","v":0},{"$f":"IF(AND(V$8=Display!$T$10,'Lux4-sept'!$A$8=Display!$B$7,'Lux4-sept'!$A$148=Display!$B$9,'Lux4-sept'!$A$178=Display!$B$11,'Lux4-sept'!$A$215=Display!$B$13),Display!$D5,)","v":0},{"$f":"IF(AND(W$8=Display!$T$10,'Lux4-sept'!$A$8=Display!$B$7,'Lux4-sept'!$A$148=Display!$B$9,'Lux4-sept'!$A$178=Display!$B$11,'Lux4-sept'!$A$215=Display!$B$13),Display!$D5,)","v":0},{"$f":"IF(AND(X$8=Display!$T$10,'Lux4-sept'!$A$8=Display!$B$7,'Lux4-sept'!$A$148=Display!$B$9,'Lux4-sept'!$A$178=Display!$B$11,'Lux4-sept'!$A$215=Display!$B$13),Display!$D5,)","v":0},{"$f":"IF(AND(Y$8=Display!$T$10,'Lux4-sept'!$A$8=Display!$B$7,'Lux4-sept'!$A$148=Display!$B$9,'Lux4-sept'!$A$178=Display!$B$11,'Lux4-sept'!$A$215=Display!$B$13),Display!$D5,)","v":0},{"$f":"IF(AND(Z$8=Display!$T$10,'Lux4-sept'!$A$8=Display!$B$7,'Lux4-sept'!$A$148=Display!$B$9,'Lux4-sept'!$A$178=Display!$B$11,'Lux4-sept'!$A$215=Display!$B$13),Display!$D5,)","v":0},{"$f":"IF(AND(AA$8=Display!$T$10,'Lux4-sept'!$A$8=Display!$B$7,'Lux4-sept'!$A$148=Display!$B$9,'Lux4-sept'!$A$178=Display!$B$11,'Lux4-sept'!$A$215=Display!$B$13),Display!$D5,)","v":0},{"$f":"IF(AND(AB$8=Display!$T$10,'Lux4-sept'!$A$8=Display!$B$7,'Lux4-sept'!$A$148=Display!$B$9,'Lux4-sept'!$A$178=Display!$B$11,'Lux4-sept'!$A$215=Display!$B$13),Display!$D5,)","v":0},{"$f":"IF(AND(AC$8=Display!$T$10,'Lux4-sept'!$A$8=Display!$B$7,'Lux4-sept'!$A$148=Display!$B$9,'Lux4-sept'!$A$178=Display!$B$11,'Lux4-sept'!$A$215=Display!$B$13),Display!$D5,)","v":0},{"$f":"IF(AND(AD$8=Display!$T$10,'Lux4-sept'!$A$8=Display!$B$7,'Lux4-sept'!$A$148=Display!$B$9,'Lux4-sept'!$A$178=Display!$B$11,'Lux4-sept'!$A$215=Display!$B$13),Display!$D5,)","v":0},{"$f":"IF(AND(AE$8=Display!$T$10,'Lux4-sept'!$A$8=Display!$B$7,'Lux4-sept'!$A$148=Display!$B$9,'Lux4-sept'!$A$178=Display!$B$11,'Lux4-sept'!$A$215=Display!$B$13),Display!$D5,)","v":0},{"$f":"IF(AND(AF$8=Display!$T$10,'Lux4-sept'!$A$8=Display!$B$7,'Lux4-sept'!$A$148=Display!$B$9,'Lux4-sept'!$A$178=Display!$B$11,'Lux4-sept'!$A$215=Display!$B$13),Display!$D5,)","v":0},null,null,{"$f":"((IF((SUM(B217:AF217))<>0,(SUM(B217:AF217)),0))/(IF((SUM((IF(B217<>0,3,0)),(IF(C217<>0,3,0)),(IF(D217<>0,3,0)),(IF(E217<>0,3,0)),(IF(F217<>0,3,0)),(IF(F217<>0,3,0)),(IF(F217<>0,3,0)),(IF(G217<>0,3,0)),(IF(H217<>0,3,0)),(IF(I217<>0,3,0)),(IF(J217<>0,3,0)),(IF(K217<>0,3,0)),(IF(L217<>0,3,0)),(IF(M217<>0,3,0)),(IF(N217<>0,3,0)),(IF(O217<>0,3,0)),(IF(P217<>0,3,0)),(IF(Q217<>0,3,0)),(IF(R217<>0,3,0)),(IF(S217<>0,3,0)),(IF(T217<>0,3,0)),(IF(U217<>0,3,0)),(IF(V217<>0,3,0)),(IF(W217<>0,3,0)),(IF(X217<>0,3,0)),(IF(Y217<>0,3,0)),(IF(Z217<>0,3,0)),(IF(AA217<>0,3,0)),(IF(AB217<>0,3,0)),(IF(AC217<>0,3,0)),(IF(AD217<>0,3,0)),(IF(AE217<>0,3,0)),(IF(AF217<>0,3,0))))<>0,((SUM((IF(B217<>0,3,0)),(IF(C217<>0,3,0)),(IF(D217<>0,3,0)),(IF(E217<>0,3,0)),(IF(F217<>0,3,0)),(IF(F217<>0,3,0)),(IF(F217<>0,3,0)),(IF(G217<>0,3,0)),(IF(H217<>0,3,0)),(IF(I217<>0,3,0)),(IF(J217<>0,3,0)),(IF(K217<>0,3,0)),(IF(L217<>0,3,0)),(IF(M217<>0,3,0)),(IF(N217<>0,3,0)),(IF(O217<>0,3,0)),(IF(P217<>0,3,0)),(IF(Q217<>0,3,0)),(IF(R217<>0,3,0)),(IF(S217<>0,3,0)),(IF(T217<>0,3,0)),(IF(U217<>0,3,0)),(IF(V217<>0,3,0)),(IF(W217<>0,3,0)),(IF(X217<>0,3,0)),(IF(Y217<>0,3,0)),(IF(Z217<>0,3,0)),(IF(AA217<>0,3,0)),(IF(AB217<>0,3,0)),(IF(AC217<>0,3,0)),(IF(AD217<>0,3,0)),(IF(AE217<>0,3,0)),(IF(AF217<>0,3,0))))),1)))","v":0}]
["Propreté du micro onde",{"$f":"IF(AND(B$8=Display!$T$10,'Lux4-sept'!$A$8=Display!$B$7,'Lux4-sept'!$A$148=Display!$B$9,'Lux4-sept'!$A$178=Display!$B$11,'Lux4-sept'!$A$215=Display!$B$13),Display!$D6,)","v":0},{"$f":"IF(AND(C$8=Display!$T$10,'Lux4-sept'!$A$8=Display!$B$7,'Lux4-sept'!$A$148=Display!$B$9,'Lux4-sept'!$A$178=Display!$B$11,'Lux4-sept'!$A$215=Display!$B$13),Display!$D6,)","v":0},{"$f":"IF(AND(D$8=Display!$T$10,'Lux4-sept'!$A$8=Display!$B$7,'Lux4-sept'!$A$148=Display!$B$9,'Lux4-sept'!$A$178=Display!$B$11,'Lux4-sept'!$A$215=Display!$B$13),Display!$D6,)","v":0},{"$f":"IF(AND(E$8=Display!$T$10,'Lux4-sept'!$A$8=Display!$B$7,'Lux4-sept'!$A$148=Display!$B$9,'Lux4-sept'!$A$178=Display!$B$11,'Lux4-sept'!$A$215=Display!$B$13),Display!$D6,)","v":0},{"$f":"IF(AND(F$8=Display!$T$10,'Lux4-sept'!$A$8=Display!$B$7,'Lux4-sept'!$A$148=Display!$B$9,'Lux4-sept'!$A$178=Display!$B$11,'Lux4-sept'!$A$215=Display!$B$13),Display!$D6,)","v":0},{"$f":"IF(AND(G$8=Display!$T$10,'Lux4-sept'!$A$8=Display!$B$7,'Lux4-sept'!$A$148=Display!$B$9,'Lux4-sept'!$A$178=Display!$B$11,'Lux4-sept'!$A$215=Display!$B$13),Display!$D6,)","v":0},{"$f":"IF(AND(H$8=Display!$T$10,'Lux4-sept'!$A$8=Display!$B$7,'Lux4-sept'!$A$148=Display!$B$9,'Lux4-sept'!$A$178=Display!$B$11,'Lux4-sept'!$A$215=Display!$B$13),Display!$D6,)","v":0},{"$f":"IF(AND(I$8=Display!$T$10,'Lux4-sept'!$A$8=Display!$B$7,'Lux4-sept'!$A$148=Display!$B$9,'Lux4-sept'!$A$178=Display!$B$11,'Lux4-sept'!$A$215=Display!$B$13),Display!$D6,)","v":0},{"$f":"IF(AND(J$8=Display!$T$10,'Lux4-sept'!$A$8=Display!$B$7,'Lux4-sept'!$A$148=Display!$B$9,'Lux4-sept'!$A$178=Display!$B$11,'Lux4-sept'!$A$215=Display!$B$13),Display!$D6,)","v":0},{"$f":"IF(AND(K$8=Display!$T$10,'Lux4-sept'!$A$8=Display!$B$7,'Lux4-sept'!$A$148=Display!$B$9,'Lux4-sept'!$A$178=Display!$B$11,'Lux4-sept'!$A$215=Display!$B$13),Display!$D6,)","v":0},{"$f":"IF(AND(L$8=Display!$T$10,'Lux4-sept'!$A$8=Display!$B$7,'Lux4-sept'!$A$148=Display!$B$9,'Lux4-sept'!$A$178=Display!$B$11,'Lux4-sept'!$A$215=Display!$B$13),Display!$D6,)","v":0},{"$f":"IF(AND(M$8=Display!$T$10,'Lux4-sept'!$A$8=Display!$B$7,'Lux4-sept'!$A$148=Display!$B$9,'Lux4-sept'!$A$178=Display!$B$11,'Lux4-sept'!$A$215=Display!$B$13),Display!$D6,)","v":0},{"$f":"IF(AND(N$8=Display!$T$10,'Lux4-sept'!$A$8=Display!$B$7,'Lux4-sept'!$A$148=Display!$B$9,'Lux4-sept'!$A$178=Display!$B$11,'Lux4-sept'!$A$215=Display!$B$13),Display!$D6,)","v":0},{"$f":"IF(AND(O$8=Display!$T$10,'Lux4-sept'!$A$8=Display!$B$7,'Lux4-sept'!$A$148=Display!$B$9,'Lux4-sept'!$A$178=Display!$B$11,'Lux4-sept'!$A$215=Display!$B$13),Display!$D6,)","v":0},{"$f":"IF(AND(P$8=Display!$T$10,'Lux4-sept'!$A$8=Display!$B$7,'Lux4-sept'!$A$148=Display!$B$9,'Lux4-sept'!$A$178=Display!$B$11,'Lux4-sept'!$A$215=Display!$B$13),Display!$D6,)","v":0},{"$f":"IF(AND(Q$8=Display!$T$10,'Lux4-sept'!$A$8=Display!$B$7,'Lux4-sept'!$A$148=Display!$B$9,'Lux4-sept'!$A$178=Display!$B$11,'Lux4-sept'!$A$215=Display!$B$13),Display!$D6,)","v":0},{"$f":"IF(AND(R$8=Display!$T$10,'Lux4-sept'!$A$8=Display!$B$7,'Lux4-sept'!$A$148=Display!$B$9,'Lux4-sept'!$A$178=Display!$B$11,'Lux4-sept'!$A$215=Display!$B$13),Display!$D6,)","v":0},{"$f":"IF(AND(S$8=Display!$T$10,'Lux4-sept'!$A$8=Display!$B$7,'Lux4-sept'!$A$148=Display!$B$9,'Lux4-sept'!$A$178=Display!$B$11,'Lux4-sept'!$A$215=Display!$B$13),Display!$D6,)","v":0},{"$f":"IF(AND(T$8=Display!$T$10,'Lux4-sept'!$A$8=Display!$B$7,'Lux4-sept'!$A$148=Display!$B$9,'Lux4-sept'!$A$178=Display!$B$11,'Lux4-sept'!$A$215=Display!$B$13),Display!$D6,)","v":0},{"$f":"IF(AND(U$8=Display!$T$10,'Lux4-sept'!$A$8=Display!$B$7,'Lux4-sept'!$A$148=Display!$B$9,'Lux4-sept'!$A$178=Display!$B$11,'Lux4-sept'!$A$215=Display!$B$13),Display!$D6,)","v":0},{"$f":"IF(AND(V$8=Display!$T$10,'Lux4-sept'!$A$8=Display!$B$7,'Lux4-sept'!$A$148=Display!$B$9,'Lux4-sept'!$A$178=Display!$B$11,'Lux4-sept'!$A$215=Display!$B$13),Display!$D6,)","v":0},{"$f":"IF(AND(W$8=Display!$T$10,'Lux4-sept'!$A$8=Display!$B$7,'Lux4-sept'!$A$148=Display!$B$9,'Lux4-sept'!$A$178=Display!$B$11,'Lux4-sept'!$A$215=Display!$B$13),Display!$D6,)","v":0},{"$f":"IF(AND(X$8=Display!$T$10,'Lux4-sept'!$A$8=Display!$B$7,'Lux4-sept'!$A$148=Display!$B$9,'Lux4-sept'!$A$178=Display!$B$11,'Lux4-sept'!$A$215=Display!$B$13),Display!$D6,)","v":0},{"$f":"IF(AND(Y$8=Display!$T$10,'Lux4-sept'!$A$8=Display!$B$7,'Lux4-sept'!$A$148=Display!$B$9,'Lux4-sept'!$A$178=Display!$B$11,'Lux4-sept'!$A$215=Display!$B$13),Display!$D6,)","v":0},{"$f":"IF(AND(Z$8=Display!$T$10,'Lux4-sept'!$A$8=Display!$B$7,'Lux4-sept'!$A$148=Display!$B$9,'Lux4-sept'!$A$178=Display!$B$11,'Lux4-sept'!$A$215=Display!$B$13),Display!$D6,)","v":0},{"$f":"IF(AND(AA$8=Display!$T$10,'Lux4-sept'!$A$8=Display!$B$7,'Lux4-sept'!$A$148=Display!$B$9,'Lux4-sept'!$A$178=Display!$B$11,'Lux4-sept'!$A$215=Display!$B$13),Display!$D6,)","v":0},{"$f":"IF(AND(AB$8=Display!$T$10,'Lux4-sept'!$A$8=Display!$B$7,'Lux4-sept'!$A$148=Display!$B$9,'Lux4-sept'!$A$178=Display!$B$11,'Lux4-sept'!$A$215=Display!$B$13),Display!$D6,)","v":0},{"$f":"IF(AND(AC$8=Display!$T$10,'Lux4-sept'!$A$8=Display!$B$7,'Lux4-sept'!$A$148=Display!$B$9,'Lux4-sept'!$A$178=Display!$B$11,'Lux4-sept'!$A$215=Display!$B$13),Display!$D6,)","v":0},{"$f":"IF(AND(AD$8=Display!$T$10,'Lux4-sept'!$A$8=Display!$B$7,'Lux4-sept'!$A$148=Display!$B$9,'Lux4-sept'!$A$178=Display!$B$11,'Lux4-sept'!$A$215=Display!$B$13),Display!$D6,)","v":0},{"$f":"IF(AND(AE$8=Display!$T$10,'Lux4-sept'!$A$8=Display!$B$7,'Lux4-sept'!$A$148=Display!$B$9,'Lux4-sept'!$A$178=Display!$B$11,'Lux4-sept'!$A$215=Display!$B$13),Display!$D6,)","v":0},{"$f":"IF(AND(AF$8=Display!$T$10,'Lux4-sept'!$A$8=Display!$B$7,'Lux4-sept'!$A$148=Display!$B$9,'Lux4-sept'!$A$178=Display!$B$11,'Lux4-sept'!$A$215=Display!$B$13),Display!$D6,)","v":0},null,null,0]
["Poubelles vidées et propres",{"$f":"IF(AND(B$8=Display!$T$10,'Lux4-sept'!$A$8=Display!$B$7,'Lux4-sept'!$A$148=Display!$B$9,'Lux4-sept'!$A$178=Display!$B$11,'Lux4-sept'!$A$215=Display!$B$13),Display!$D7,)","v":0},{"$f":"IF(AND(C$8=Display!$T$10,'Lux4-sept'!$A$8=Display!$B$7,'Lux4-sept'!$A$148=Display!$B$9,'Lux4-sept'!$A$178=Display!$B$11,'Lux4-sept'!$A$215=Display!$B$13),Display!$D7,)","v":0},{"$f":"IF(AND(D$8=Display!$T$10,'Lux4-sept'!$A$8=Display!$B$7,'Lux4-sept'!$A$148=Display!$B$9,'Lux4-sept'!$A$178=Display!$B$11,'Lux4-sept'!$A$215=Display!$B$13),Display!$D7,)","v":0},{"$f":"IF(AND(E$8=Display!$T$10,'Lux4-sept'!$A$8=Display!$B$7,'Lux4-sept'!$A$148=Display!$B$9,'Lux4-sept'!$A$178=Display!$B$11,'Lux4-sept'!$A$215=Display!$B$13),Display!$D7,)","v":0},{"$f":"IF(AND(F$8=Display!$T$10,'Lux4-sept'!$A$8=Display!$B$7,'Lux4-sept'!$A$148=Display!$B$9,'Lux4-sept'!$A$178=Display!$B$11,'Lux4-sept'!$A$215=Display!$B$13),Display!$D7,)","v":0},{"$f":"IF(AND(G$8=Display!$T$10,'Lux4-sept'!$A$8=Display!$B$7,'Lux4-sept'!$A$148=Display!$B$9,'Lux4-sept'!$A$178=Display!$B$11,'Lux4-sept'!$A$215=Display!$B$13),Display!$D7,)","v":0},{"$f":"IF(AND(H$8=Display!$T$10,'Lux4-sept'!$A$8=Display!$B$7,'Lux4-sept'!$A$148=Display!$B$9,'Lux4-sept'!$A$178=Display!$B$11,'Lux4-sept'!$A$215=Display!$B$13),Display!$D7,)","v":0},{"$f":"IF(AND(I$8=Display!$T$10,'Lux4-sept'!$A$8=Display!$B$7,'Lux4-sept'!$A$148=Display!$B$9,'Lux4-sept'!$A$178=Display!$B$11,'Lux4-sept'!$A$215=Display!$B$13),Display!$D7,)","v":0},{"$f":"IF(AND(J$8=Display!$T$10,'Lux4-sept'!$A$8=Display!$B$7,'Lux4-sept'!$A$148=Display!$B$9,'Lux4-sept'!$A$178=Display!$B$11,'Lux4-sept'!$A$215=Display!$B$13),Display!$D7,)","v":0},{"$f":"IF(AND(K$8=Display!$T$10,'Lux4-sept'!$A$8=Display!$B$7,'Lux4-sept'!$A$148=Display!$B$9,'Lux4-sept'!$A$178=Display!$B$11,'Lux4-sept'!$A$215=Display!$B$13),Display!$D7,)","v":0},{"$f":"IF(AND(L$8=Display!$T$10,'Lux4-sept'!$A$8=Display!$B$7,'Lux4-sept'!$A$148=Display!$B$9,'Lux4-sept'!$A$178=Display!$B$11,'Lux4-sept'!$A$215=Display!$B$13),Display!$D7,)","v":0},{"$f":"IF(AND(M$8=Display!$T$10,'Lux4-sept'!$A$8=Display!$B$7,'Lux4-sept'!$A$148=Display!$B$9,'Lux4-sept'!$A$178=Display!$B$11,'Lux4-sept'!$A$215=Display!$B$13),Display!$D7,)","v":0},{"$f":"IF(AND(N$8=Display!$T$10,'Lux4-sept'!$A$8=Display!$B$7,'Lux4-sept'!$A$148=Display!$B$9,'Lux4-sept'!$A$178=Display!$B$11,'Lux4-sept'!$A$215=Display!$B$13),Display!$D7,)","v":0},{"$f":"IF(AND(O$8=Display!$T$10,'Lux4-sept'!$A$8=Display!$B$7,'Lux4-sept'!$A$148=Display!$B$9,'Lux4-sept'!$A$178=Display!$B$11,'Lux4-sept'!$A$215=Display!$B$13),Display!$D7,)","v":0},{"$f":"IF(AND(P$8=Display!$T$10,'Lux4-sept'!$A$8=Display!$B$7,'Lux4-sept'!$A$148=Display!$B$9,'Lux4-sept'!$A$178=Display!$B$11,'Lux4-sept'!$A$215=Display!$B$13),Display!$D7,)","v":0},{"$f":"IF(AND(Q$8=Display!$T$10,'Lux4-sept'!$A$8=Display!$B$7,'Lux4-sept'!$A$148=Display!$B$9,'Lux4-sept'!$A$178=Display!$B$11,'Lux4-sept'!$A$215=Display!$B$13),Display!$D7,)","v":0},{"$f":"IF(AND(R$8=Display!$T$10,'Lux4-sept'!$A$8=Display!$B$7,'Lux4-sept'!$A$148=Display!$B$9,'Lux4-sept'!$A$178=Display!$B$11,'Lux4-sept'!$A$215=Display!$B$13),Display!$D7,)","v":0},{"$f":"IF(AND(S$8=Display!$T$10,'Lux4-sept'!$A$8=Display!$B$7,'Lux4-sept'!$A$148=Display!$B$9,'Lux4-sept'!$A$178=Display!$B$11,'Lux4-sept'!$A$215=Display!$B$13),Display!$D7,)","v":0},{"$f":"IF(AND(T$8=Display!$T$10,'Lux4-sept'!$A$8=Display!$B$7,'Lux4-sept'!$A$148=Display!$B$9,'Lux4-sept'!$A$178=Display!$B$11,'Lux4-sept'!$A$215=Display!$B$13),Display!$D7,)","v":0},{"$f":"IF(AND(U$8=Display!$T$10,'Lux4-sept'!$A$8=Display!$B$7,'Lux4-sept'!$A$148=Display!$B$9,'Lux4-sept'!$A$178=Display!$B$11,'Lux4-sept'!$A$215=Display!$B$13),Display!$D7,)","v":0},{"$f":"IF(AND(V$8=Display!$T$10,'Lux4-sept'!$A$8=Display!$B$7,'Lux4-sept'!$A$148=Display!$B$9,'Lux4-sept'!$A$178=Display!$B$11,'Lux4-sept'!$A$215=Display!$B$13),Display!$D7,)","v":0},{"$f":"IF(AND(W$8=Display!$T$10,'Lux4-sept'!$A$8=Display!$B$7,'Lux4-sept'!$A$148=Display!$B$9,'Lux4-sept'!$A$178=Display!$B$11,'Lux4-sept'!$A$215=Display!$B$13),Display!$D7,)","v":0},{"$f":"IF(AND(X$8=Display!$T$10,'Lux4-sept'!$A$8=Display!$B$7,'Lux4-sept'!$A$148=Display!$B$9,'Lux4-sept'!$A$178=Display!$B$11,'Lux4-sept'!$A$215=Display!$B$13),Display!$D7,)","v":0},{"$f":"IF(AND(Y$8=Display!$T$10,'Lux4-sept'!$A$8=Display!$B$7,'Lux4-sept'!$A$148=Display!$B$9,'Lux4-sept'!$A$178=Display!$B$11,'Lux4-sept'!$A$215=Display!$B$13),Display!$D7,)","v":0},{"$f":"IF(AND(Z$8=Display!$T$10,'Lux4-sept'!$A$8=Display!$B$7,'Lux4-sept'!$A$148=Display!$B$9,'Lux4-sept'!$A$178=Display!$B$11,'Lux4-sept'!$A$215=Display!$B$13),Display!$D7,)","v":0},{"$f":"IF(AND(AA$8=Display!$T$10,'Lux4-sept'!$A$8=Display!$B$7,'Lux4-sept'!$A$148=Display!$B$9,'Lux4-sept'!$A$178=Display!$B$11,'Lux4-sept'!$A$215=Display!$B$13),Display!$D7,)","v":0},{"$f":"IF(AND(AB$8=Display!$T$10,'Lux4-sept'!$A$8=Display!$B$7,'Lux4-sept'!$A$148=Display!$B$9,'Lux4-sept'!$A$178=Display!$B$11,'Lux4-sept'!$A$215=Display!$B$13),Display!$D7,)","v":0},{"$f":"IF(AND(AC$8=Display!$T$10,'Lux4-sept'!$A$8=Display!$B$7,'Lux4-sept'!$A$148=Display!$B$9,'Lux4-sept'!$A$178=Display!$B$11,'Lux4-sept'!$A$215=Display!$B$13),Display!$D7,)","v":0},{"$f":"IF(AND(AD$8=Display!$T$10,'Lux4-sept'!$A$8=Display!$B$7,'Lux4-sept'!$A$148=Display!$B$9,'Lux4-sept'!$A$178=Display!$B$11,'Lux4-sept'!$A$215=Display!$B$13),Display!$D7,)","v":0},{"$f":"IF(AND(AE$8=Display!$T$10,'Lux4-sept'!$A$8=Display!$B$7,'Lux4-sept'!$A$148=Display!$B$9,'Lux4-sept'!$A$178=Display!$B$11,'Lux4-sept'!$A$215=Display!$B$13),Display!$D7,)","v":0},{"$f":"IF(AND(AF$8=Display!$T$10,'Lux4-sept'!$A$8=Display!$B$7,'Lux4-sept'!$A$148=Display!$B$9,'Lux4-sept'!$A$178=Display!$B$11,'Lux4-sept'!$A$215=Display!$B$13),Display!$D7,)","v":0},null,null,0]
["Armoires propres (Intérieure et extérieure)",{"$f":"IF(AND(B$8=Display!$T$10,'Lux4-sept'!$A$8=Display!$B$7,'Lux4-sept'!$A$148=Display!$B$9,'Lux4-sept'!$A$178=Display!$B$11,'Lux4-sept'!$A$215=Display!$B$13),Display!$D8,)","v":0},{"$f":"IF(AND(C$8=Display!$T$10,'Lux4-sept'!$A$8=Display!$B$7,'Lux4-sept'!$A$148=Display!$B$9,'Lux4-sept'!$A$178=Display!$B$11,'Lux4-sept'!$A$215=Display!$B$13),Display!$D8,)","v":0},{"$f":"IF(AND(D$8=Display!$T$10,'Lux4-sept'!$A$8=Display!$B$7,'Lux4-sept'!$A$148=Display!$B$9,'Lux4-sept'!$A$178=Display!$B$11,'Lux4-sept'!$A$215=Display!$B$13),Display!$D8,)","v":0},{"$f":"IF(AND(E$8=Display!$T$10,'Lux4-sept'!$A$8=Display!$B$7,'Lux4-sept'!$A$148=Display!$B$9,'Lux4-sept'!$A$178=Display!$B$11,'Lux4-sept'!$A$215=Display!$B$13),Display!$D8,)","v":0},{"$f":"IF(AND(F$8=Display!$T$10,'Lux4-sept'!$A$8=Display!$B$7,'Lux4-sept'!$A$148=Display!$B$9,'Lux4-sept'!$A$178=Display!$B$11,'Lux4-sept'!$A$215=Display!$B$13),Display!$D8,)","v":0},{"$f":"IF(AND(G$8=Display!$T$10,'Lux4-sept'!$A$8=Display!$B$7,'Lux4-sept'!$A$148=Display!$B$9,'Lux4-sept'!$A$178=Display!$B$11,'Lux4-sept'!$A$215=Display!$B$13),Display!$D8,)","v":0},{"$f":"IF(AND(H$8=Display!$T$10,'Lux4-sept'!$A$8=Display!$B$7,'Lux4-sept'!$A$148=Display!$B$9,'Lux4-sept'!$A$178=Display!$B$11,'Lux4-sept'!$A$215=Display!$B$13),Display!$D8,)","v":0},{"$f":"IF(AND(I$8=Display!$T$10,'Lux4-sept'!$A$8=Display!$B$7,'Lux4-sept'!$A$148=Display!$B$9,'Lux4-sept'!$A$178=Display!$B$11,'Lux4-sept'!$A$215=Display!$B$13),Display!$D8,)","v":0},{"$f":"IF(AND(J$8=Display!$T$10,'Lux4-sept'!$A$8=Display!$B$7,'Lux4-sept'!$A$148=Display!$B$9,'Lux4-sept'!$A$178=Display!$B$11,'Lux4-sept'!$A$215=Display!$B$13),Display!$D8,)","v":0},{"$f":"IF(AND(K$8=Display!$T$10,'Lux4-sept'!$A$8=Display!$B$7,'Lux4-sept'!$A$148=Display!$B$9,'Lux4-sept'!$A$178=Display!$B$11,'Lux4-sept'!$A$215=Display!$B$13),Display!$D8,)","v":0},{"$f":"IF(AND(L$8=Display!$T$10,'Lux4-sept'!$A$8=Display!$B$7,'Lux4-sept'!$A$148=Display!$B$9,'Lux4-sept'!$A$178=Display!$B$11,'Lux4-sept'!$A$215=Display!$B$13),Display!$D8,)","v":0},{"$f":"IF(AND(M$8=Display!$T$10,'Lux4-sept'!$A$8=Display!$B$7,'Lux4-sept'!$A$148=Display!$B$9,'Lux4-sept'!$A$178=Display!$B$11,'Lux4-sept'!$A$215=Display!$B$13),Display!$D8,)","v":0},{"$f":"IF(AND(N$8=Display!$T$10,'Lux4-sept'!$A$8=Display!$B$7,'Lux4-sept'!$A$148=Display!$B$9,'Lux4-sept'!$A$178=Display!$B$11,'Lux4-sept'!$A$215=Display!$B$13),Display!$D8,)","v":0},{"$f":"IF(AND(O$8=Display!$T$10,'Lux4-sept'!$A$8=Display!$B$7,'Lux4-sept'!$A$148=Display!$B$9,'Lux4-sept'!$A$178=Display!$B$11,'Lux4-sept'!$A$215=Display!$B$13),Display!$D8,)","v":0},{"$f":"IF(AND(P$8=Display!$T$10,'Lux4-sept'!$A$8=Display!$B$7,'Lux4-sept'!$A$148=Display!$B$9,'Lux4-sept'!$A$178=Display!$B$11,'Lux4-sept'!$A$215=Display!$B$13),Display!$D8,)","v":0},{"$f":"IF(AND(Q$8=Display!$T$10,'Lux4-sept'!$A$8=Display!$B$7,'Lux4-sept'!$A$148=Display!$B$9,'Lux4-sept'!$A$178=Display!$B$11,'Lux4-sept'!$A$215=Display!$B$13),Display!$D8,)","v":0},{"$f":"IF(AND(R$8=Display!$T$10,'Lux4-sept'!$A$8=Display!$B$7,'Lux4-sept'!$A$148=Display!$B$9,'Lux4-sept'!$A$178=Display!$B$11,'Lux4-sept'!$A$215=Display!$B$13),Display!$D8,)","v":0},{"$f":"IF(AND(S$8=Display!$T$10,'Lux4-sept'!$A$8=Display!$B$7,'Lux4-sept'!$A$148=Display!$B$9,'Lux4-sept'!$A$178=Display!$B$11,'Lux4-sept'!$A$215=Display!$B$13),Display!$D8,)","v":0},{"$f":"IF(AND(T$8=Display!$T$10,'Lux4-sept'!$A$8=Display!$B$7,'Lux4-sept'!$A$148=Display!$B$9,'Lux4-sept'!$A$178=Display!$B$11,'Lux4-sept'!$A$215=Display!$B$13),Display!$D8,)","v":0},{"$f":"IF(AND(U$8=Display!$T$10,'Lux4-sept'!$A$8=Display!$B$7,'Lux4-sept'!$A$148=Display!$B$9,'Lux4-sept'!$A$178=Display!$B$11,'Lux4-sept'!$A$215=Display!$B$13),Display!$D8,)","v":0},{"$f":"IF(AND(V$8=Display!$T$10,'Lux4-sept'!$A$8=Display!$B$7,'Lux4-sept'!$A$148=Display!$B$9,'Lux4-sept'!$A$178=Display!$B$11,'Lux4-sept'!$A$215=Display!$B$13),Display!$D8,)","v":0},{"$f":"IF(AND(W$8=Display!$T$10,'Lux4-sept'!$A$8=Display!$B$7,'Lux4-sept'!$A$148=Display!$B$9,'Lux4-sept'!$A$178=Display!$B$11,'Lux4-sept'!$A$215=Display!$B$13),Display!$D8,)","v":0},{"$f":"IF(AND(X$8=Display!$T$10,'Lux4-sept'!$A$8=Display!$B$7,'Lux4-sept'!$A$148=Display!$B$9,'Lux4-sept'!$A$178=Display!$B$11,'Lux4-sept'!$A$215=Display!$B$13),Display!$D8,)","v":0},{"$f":"IF(AND(Y$8=Display!$T$10,'Lux4-sept'!$A$8=Display!$B$7,'Lux4-sept'!$A$148=Display!$B$9,'Lux4-sept'!$A$178=Display!$B$11,'Lux4-sept'!$A$215=Display!$B$13),Display!$D8,)","v":0},{"$f":"IF(AND(Z$8=Display!$T$10,'Lux4-sept'!$A$8=Display!$B$7,'Lux4-sept'!$A$148=Display!$B$9,'Lux4-sept'!$A$178=Display!$B$11,'Lux4-sept'!$A$215=Display!$B$13),Display!$D8,)","v":0},{"$f":"IF(AND(AA$8=Display!$T$10,'Lux4-sept'!$A$8=Display!$B$7,'Lux4-sept'!$A$148=Display!$B$9,'Lux4-sept'!$A$178=Display!$B$11,'Lux4-sept'!$A$215=Display!$B$13),Display!$D8,)","v":0},{"$f":"IF(AND(AB$8=Display!$T$10,'Lux4-sept'!$A$8=Display!$B$7,'Lux4-sept'!$A$148=Display!$B$9,'Lux4-sept'!$A$178=Display!$B$11,'Lux4-sept'!$A$215=Display!$B$13),Display!$D8,)","v":0},{"$f":"IF(AND(AC$8=Display!$T$10,'Lux4-sept'!$A$8=Display!$B$7,'Lux4-sept'!$A$148=Display!$B$9,'Lux4-sept'!$A$178=Display!$B$11,'Lux4-sept'!$A$215=Display!$B$13),Display!$D8,)","v":0},{"$f":"IF(AND(AD$8=Display!$T$10,'Lux4-sept'!$A$8=Display!$B$7,'Lux4-sept'!$A$148=Display!$B$9,'Lux4-sept'!$A$178=Display!$B$11,'Lux4-sept'!$A$215=Display!$B$13),Display!$D8,)","v":0},{"$f":"IF(AND(AE$8=Display!$T$10,'Lux4-sept'!$A$8=Display!$B$7,'Lux4-sept'!$A$148=Display!$B$9,'Lux4-sept'!$A$178=Display!$B$11,'Lux4-sept'!$A$215=Display!$B$13),Display!$D8,)","v":0},{"$f":"IF(AND(AF$8=Display!$T$10,'Lux4-sept'!$A$8=Display!$B$7,'Lux4-sept'!$A$148=Display!$B$9,'Lux4-sept'!$A$178=Display!$B$11,'Lux4-sept'!$A$215=Display!$B$13),Display!$D8,)","v":0},null,null,0]
["Vaisselles propres et rangées",{"$f":"IF(AND(B$8=Display!$T$10,'Lux4-sept'!$A$8=Display!$B$7,'Lux4-sept'!$A$148=Display!$B$9,'Lux4-sept'!$A$178=Display!$B$11,'Lux4-sept'!$A$215=Display!$B$13),Display!$D9,)","v":0},{"$f":"IF(AND(C$8=Display!$T$10,'Lux4-sept'!$A$8=Display!$B$7,'Lux4-sept'!$A$148=Display!$B$9,'Lux4-sept'!$A$178=Display!$B$11,'Lux4-sept'!$A$215=Display!$B$13),Display!$D9,)","v":0},{"$f":"IF(AND(D$8=Display!$T$10,'Lux4-sept'!$A$8=Display!$B$7,'Lux4-sept'!$A$148=Display!$B$9,'Lux4-sept'!$A$178=Display!$B$11,'Lux4-sept'!$A$215=Display!$B$13),Display!$D9,)","v":0},{"$f":"IF(AND(E$8=Display!$T$10,'Lux4-sept'!$A$8=Display!$B$7,'Lux4-sept'!$A$148=Display!$B$9,'Lux4-sept'!$A$178=Display!$B$11,'Lux4-sept'!$A$215=Display!$B$13),Display!$D9,)","v":0},{"$f":"IF(AND(F$8=Display!$T$10,'Lux4-sept'!$A$8=Display!$B$7,'Lux4-sept'!$A$148=Display!$B$9,'Lux4-sept'!$A$178=Display!$B$11,'Lux4-sept'!$A$215=Display!$B$13),Display!$D9,)","v":0},{"$f":"IF(AND(G$8=Display!$T$10,'Lux4-sept'!$A$8=Display!$B$7,'Lux4-sept'!$A$148=Display!$B$9,'Lux4-sept'!$A$178=Display!$B$11,'Lux4-sept'!$A$215=Display!$B$13),Display!$D9,)","v":0},{"$f":"IF(AND(H$8=Display!$T$10,'Lux4-sept'!$A$8=Display!$B$7,'Lux4-sept'!$A$148=Display!$B$9,'Lux4-sept'!$A$178=Display!$B$11,'Lux4-sept'!$A$215=Display!$B$13),Display!$D9,)","v":0},{"$f":"IF(AND(I$8=Display!$T$10,'Lux4-sept'!$A$8=Display!$B$7,'Lux4-sept'!$A$148=Display!$B$9,'Lux4-sept'!$A$178=Display!$B$11,'Lux4-sept'!$A$215=Display!$B$13),Display!$D9,)","v":0},{"$f":"IF(AND(J$8=Display!$T$10,'Lux4-sept'!$A$8=Display!$B$7,'Lux4-sept'!$A$148=Display!$B$9,'Lux4-sept'!$A$178=Display!$B$11,'Lux4-sept'!$A$215=Display!$B$13),Display!$D9,)","v":0},{"$f":"IF(AND(K$8=Display!$T$10,'Lux4-sept'!$A$8=Display!$B$7,'Lux4-sept'!$A$148=Display!$B$9,'Lux4-sept'!$A$178=Display!$B$11,'Lux4-sept'!$A$215=Display!$B$13),Display!$D9,)","v":0},{"$f":"IF(AND(L$8=Display!$T$10,'Lux4-sept'!$A$8=Display!$B$7,'Lux4-sept'!$A$148=Display!$B$9,'Lux4-sept'!$A$178=Display!$B$11,'Lux4-sept'!$A$215=Display!$B$13),Display!$D9,)","v":0},{"$f":"IF(AND(M$8=Display!$T$10,'Lux4-sept'!$A$8=Display!$B$7,'Lux4-sept'!$A$148=Display!$B$9,'Lux4-sept'!$A$178=Display!$B$11,'Lux4-sept'!$A$215=Display!$B$13),Display!$D9,)","v":0},{"$f":"IF(AND(N$8=Display!$T$10,'Lux4-sept'!$A$8=Display!$B$7,'Lux4-sept'!$A$148=Display!$B$9,'Lux4-sept'!$A$178=Display!$B$11,'Lux4-sept'!$A$215=Display!$B$13),Display!$D9,)","v":0},{"$f":"IF(AND(O$8=Display!$T$10,'Lux4-sept'!$A$8=Display!$B$7,'Lux4-sept'!$A$148=Display!$B$9,'Lux4-sept'!$A$178=Display!$B$11,'Lux4-sept'!$A$215=Display!$B$13),Display!$D9,)","v":0},{"$f":"IF(AND(P$8=Display!$T$10,'Lux4-sept'!$A$8=Display!$B$7,'Lux4-sept'!$A$148=Display!$B$9,'Lux4-sept'!$A$178=Display!$B$11,'Lux4-sept'!$A$215=Display!$B$13),Display!$D9,)","v":0},{"$f":"IF(AND(Q$8=Display!$T$10,'Lux4-sept'!$A$8=Display!$B$7,'Lux4-sept'!$A$148=Display!$B$9,'Lux4-sept'!$A$178=Display!$B$11,'Lux4-sept'!$A$215=Display!$B$13),Display!$D9,)","v":0},{"$f":"IF(AND(R$8=Display!$T$10,'Lux4-sept'!$A$8=Display!$B$7,'Lux4-sept'!$A$148=Display!$B$9,'Lux4-sept'!$A$178=Display!$B$11,'Lux4-sept'!$A$215=Display!$B$13),Display!$D9,)","v":0},{"$f":"IF(AND(S$8=Display!$T$10,'Lux4-sept'!$A$8=Display!$B$7,'Lux4-sept'!$A$148=Display!$B$9,'Lux4-sept'!$A$178=Display!$B$11,'Lux4-sept'!$A$215=Display!$B$13),Display!$D9,)","v":0},{"$f":"IF(AND(T$8=Display!$T$10,'Lux4-sept'!$A$8=Display!$B$7,'Lux4-sept'!$A$148=Display!$B$9,'Lux4-sept'!$A$178=Display!$B$11,'Lux4-sept'!$A$215=Display!$B$13),Display!$D9,)","v":0},{"$f":"IF(AND(U$8=Display!$T$10,'Lux4-sept'!$A$8=Display!$B$7,'Lux4-sept'!$A$148=Display!$B$9,'Lux4-sept'!$A$178=Display!$B$11,'Lux4-sept'!$A$215=Display!$B$13),Display!$D9,)","v":0},{"$f":"IF(AND(V$8=Display!$T$10,'Lux4-sept'!$A$8=Display!$B$7,'Lux4-sept'!$A$148=Display!$B$9,'Lux4-sept'!$A$178=Display!$B$11,'Lux4-sept'!$A$215=Display!$B$13),Display!$D9,)","v":0},{"$f":"IF(AND(W$8=Display!$T$10,'Lux4-sept'!$A$8=Display!$B$7,'Lux4-sept'!$A$148=Display!$B$9,'Lux4-sept'!$A$178=Display!$B$11,'Lux4-sept'!$A$215=Display!$B$13),Display!$D9,)","v":0},{"$f":"IF(AND(X$8=Display!$T$10,'Lux4-sept'!$A$8=Display!$B$7,'Lux4-sept'!$A$148=Display!$B$9,'Lux4-sept'!$A$178=Display!$B$11,'Lux4-sept'!$A$215=Display!$B$13),Display!$D9,)","v":0},{"$f":"IF(AND(Y$8=Display!$T$10,'Lux4-sept'!$A$8=Display!$B$7,'Lux4-sept'!$A$148=Display!$B$9,'Lux4-sept'!$A$178=Display!$B$11,'Lux4-sept'!$A$215=Display!$B$13),Display!$D9,)","v":0},{"$f":"IF(AND(Z$8=Display!$T$10,'Lux4-sept'!$A$8=Display!$B$7,'Lux4-sept'!$A$148=Display!$B$9,'Lux4-sept'!$A$178=Display!$B$11,'Lux4-sept'!$A$215=Display!$B$13),Display!$D9,)","v":0},{"$f":"IF(AND(AA$8=Display!$T$10,'Lux4-sept'!$A$8=Display!$B$7,'Lux4-sept'!$A$148=Display!$B$9,'Lux4-sept'!$A$178=Display!$B$11,'Lux4-sept'!$A$215=Display!$B$13),Display!$D9,)","v":0},{"$f":"IF(AND(AB$8=Display!$T$10,'Lux4-sept'!$A$8=Display!$B$7,'Lux4-sept'!$A$148=Display!$B$9,'Lux4-sept'!$A$178=Display!$B$11,'Lux4-sept'!$A$215=Display!$B$13),Display!$D9,)","v":0},{"$f":"IF(AND(AC$8=Display!$T$10,'Lux4-sept'!$A$8=Display!$B$7,'Lux4-sept'!$A$148=Display!$B$9,'Lux4-sept'!$A$178=Display!$B$11,'Lux4-sept'!$A$215=Display!$B$13),Display!$D9,)","v":0},{"$f":"IF(AND(AD$8=Display!$T$10,'Lux4-sept'!$A$8=Display!$B$7,'Lux4-sept'!$A$148=Display!$B$9,'Lux4-sept'!$A$178=Display!$B$11,'Lux4-sept'!$A$215=Display!$B$13),Display!$D9,)","v":0},{"$f":"IF(AND(AE$8=Display!$T$10,'Lux4-sept'!$A$8=Display!$B$7,'Lux4-sept'!$A$148=Display!$B$9,'Lux4-sept'!$A$178=Display!$B$11,'Lux4-sept'!$A$215=Display!$B$13),Display!$D9,)","v":0},{"$f":"IF(AND(AF$8=Display!$T$10,'Lux4-sept'!$A$8=Display!$B$7,'Lux4-sept'!$A$148=Display!$B$9,'Lux4-sept'!$A$178=Display!$B$11,'Lux4-sept'!$A$215=Display!$B$13),Display!$D9,)","v":0},null,null,0]
["Rebords de fenêtres",{"$f":"IF(AND(B$8=Display!$T$10,'Lux4-sept'!$A$8=Display!$B$7,'Lux4-sept'!$A$148=Display!$B$9,'Lux4-sept'!$A$178=Display!$B$11,'Lux4-sept'!$A$215=Display!$B$13),Display!$D10,)","v":0},{"$f":"IF(AND(C$8=Display!$T$10,'Lux4-sept'!$A$8=Display!$B$7,'Lux4-sept'!$A$148=Display!$B$9,'Lux4-sept'!$A$178=Display!$B$11,'Lux4-sept'!$A$215=Display!$B$13),Display!$D10,)","v":0},{"$f":"IF(AND(D$8=Display!$T$10,'Lux4-sept'!$A$8=Display!$B$7,'Lux4-sept'!$A$148=Display!$B$9,'Lux4-sept'!$A$178=Display!$B$11,'Lux4-sept'!$A$215=Display!$B$13),Display!$D10,)","v":0},{"$f":"IF(AND(E$8=Display!$T$10,'Lux4-sept'!$A$8=Display!$B$7,'Lux4-sept'!$A$148=Display!$B$9,'Lux4-sept'!$A$178=Display!$B$11,'Lux4-sept'!$A$215=Display!$B$13),Display!$D10,)","v":0},{"$f":"IF(AND(F$8=Display!$T$10,'Lux4-sept'!$A$8=Display!$B$7,'Lux4-sept'!$A$148=Display!$B$9,'Lux4-sept'!$A$178=Display!$B$11,'Lux4-sept'!$A$215=Display!$B$13),Display!$D10,)","v":0},{"$f":"IF(AND(G$8=Display!$T$10,'Lux4-sept'!$A$8=Display!$B$7,'Lux4-sept'!$A$148=Display!$B$9,'Lux4-sept'!$A$178=Display!$B$11,'Lux4-sept'!$A$215=Display!$B$13),Display!$D10,)","v":0},{"$f":"IF(AND(H$8=Display!$T$10,'Lux4-sept'!$A$8=Display!$B$7,'Lux4-sept'!$A$148=Display!$B$9,'Lux4-sept'!$A$178=Display!$B$11,'Lux4-sept'!$A$215=Display!$B$13),Display!$D10,)","v":0},{"$f":"IF(AND(I$8=Display!$T$10,'Lux4-sept'!$A$8=Display!$B$7,'Lux4-sept'!$A$148=Display!$B$9,'Lux4-sept'!$A$178=Display!$B$11,'Lux4-sept'!$A$215=Display!$B$13),Display!$D10,)","v":0},{"$f":"IF(AND(J$8=Display!$T$10,'Lux4-sept'!$A$8=Display!$B$7,'Lux4-sept'!$A$148=Display!$B$9,'Lux4-sept'!$A$178=Display!$B$11,'Lux4-sept'!$A$215=Display!$B$13),Display!$D10,)","v":0},{"$f":"IF(AND(K$8=Display!$T$10,'Lux4-sept'!$A$8=Display!$B$7,'Lux4-sept'!$A$148=Display!$B$9,'Lux4-sept'!$A$178=Display!$B$11,'Lux4-sept'!$A$215=Display!$B$13),Display!$D10,)","v":0},{"$f":"IF(AND(L$8=Display!$T$10,'Lux4-sept'!$A$8=Display!$B$7,'Lux4-sept'!$A$148=Display!$B$9,'Lux4-sept'!$A$178=Display!$B$11,'Lux4-sept'!$A$215=Display!$B$13),Display!$D10,)","v":0},{"$f":"IF(AND(M$8=Display!$T$10,'Lux4-sept'!$A$8=Display!$B$7,'Lux4-sept'!$A$148=Display!$B$9,'Lux4-sept'!$A$178=Display!$B$11,'Lux4-sept'!$A$215=Display!$B$13),Display!$D10,)","v":0},{"$f":"IF(AND(N$8=Display!$T$10,'Lux4-sept'!$A$8=Display!$B$7,'Lux4-sept'!$A$148=Display!$B$9,'Lux4-sept'!$A$178=Display!$B$11,'Lux4-sept'!$A$215=Display!$B$13),Display!$D10,)","v":0},{"$f":"IF(AND(O$8=Display!$T$10,'Lux4-sept'!$A$8=Display!$B$7,'Lux4-sept'!$A$148=Display!$B$9,'Lux4-sept'!$A$178=Display!$B$11,'Lux4-sept'!$A$215=Display!$B$13),Display!$D10,)","v":0},{"$f":"IF(AND(P$8=Display!$T$10,'Lux4-sept'!$A$8=Display!$B$7,'Lux4-sept'!$A$148=Display!$B$9,'Lux4-sept'!$A$178=Display!$B$11,'Lux4-sept'!$A$215=Display!$B$13),Display!$D10,)","v":0},{"$f":"IF(AND(Q$8=Display!$T$10,'Lux4-sept'!$A$8=Display!$B$7,'Lux4-sept'!$A$148=Display!$B$9,'Lux4-sept'!$A$178=Display!$B$11,'Lux4-sept'!$A$215=Display!$B$13),Display!$D10,)","v":0},{"$f":"IF(AND(R$8=Display!$T$10,'Lux4-sept'!$A$8=Display!$B$7,'Lux4-sept'!$A$148=Display!$B$9,'Lux4-sept'!$A$178=Display!$B$11,'Lux4-sept'!$A$215=Display!$B$13),Display!$D10,)","v":0},{"$f":"IF(AND(S$8=Display!$T$10,'Lux4-sept'!$A$8=Display!$B$7,'Lux4-sept'!$A$148=Display!$B$9,'Lux4-sept'!$A$178=Display!$B$11,'Lux4-sept'!$A$215=Display!$B$13),Display!$D10,)","v":0},{"$f":"IF(AND(T$8=Display!$T$10,'Lux4-sept'!$A$8=Display!$B$7,'Lux4-sept'!$A$148=Display!$B$9,'Lux4-sept'!$A$178=Display!$B$11,'Lux4-sept'!$A$215=Display!$B$13),Display!$D10,)","v":0},{"$f":"IF(AND(U$8=Display!$T$10,'Lux4-sept'!$A$8=Display!$B$7,'Lux4-sept'!$A$148=Display!$B$9,'Lux4-sept'!$A$178=Display!$B$11,'Lux4-sept'!$A$215=Display!$B$13),Display!$D10,)","v":0},{"$f":"IF(AND(V$8=Display!$T$10,'Lux4-sept'!$A$8=Display!$B$7,'Lux4-sept'!$A$148=Display!$B$9,'Lux4-sept'!$A$178=Display!$B$11,'Lux4-sept'!$A$215=Display!$B$13),Display!$D10,)","v":0},{"$f":"IF(AND(W$8=Display!$T$10,'Lux4-sept'!$A$8=Display!$B$7,'Lux4-sept'!$A$148=Display!$B$9,'Lux4-sept'!$A$178=Display!$B$11,'Lux4-sept'!$A$215=Display!$B$13),Display!$D10,)","v":0},{"$f":"IF(AND(X$8=Display!$T$10,'Lux4-sept'!$A$8=Display!$B$7,'Lux4-sept'!$A$148=Display!$B$9,'Lux4-sept'!$A$178=Display!$B$11,'Lux4-sept'!$A$215=Display!$B$13),Display!$D10,)","v":0},{"$f":"IF(AND(Y$8=Display!$T$10,'Lux4-sept'!$A$8=Display!$B$7,'Lux4-sept'!$A$148=Display!$B$9,'Lux4-sept'!$A$178=Display!$B$11,'Lux4-sept'!$A$215=Display!$B$13),Display!$D10,)","v":0},{"$f":"IF(AND(Z$8=Display!$T$10,'Lux4-sept'!$A$8=Display!$B$7,'Lux4-sept'!$A$148=Display!$B$9,'Lux4-sept'!$A$178=Display!$B$11,'Lux4-sept'!$A$215=Display!$B$13),Display!$D10,)","v":0},{"$f":"IF(AND(AA$8=Display!$T$10,'Lux4-sept'!$A$8=Display!$B$7,'Lux4-sept'!$A$148=Display!$B$9,'Lux4-sept'!$A$178=Display!$B$11,'Lux4-sept'!$A$215=Display!$B$13),Display!$D10,)","v":0},{"$f":"IF(AND(AB$8=Display!$T$10,'Lux4-sept'!$A$8=Display!$B$7,'Lux4-sept'!$A$148=Display!$B$9,'Lux4-sept'!$A$178=Display!$B$11,'Lux4-sept'!$A$215=Display!$B$13),Display!$D10,)","v":0},{"$f":"IF(AND(AC$8=Display!$T$10,'Lux4-sept'!$A$8=Display!$B$7,'Lux4-sept'!$A$148=Display!$B$9,'Lux4-sept'!$A$178=Display!$B$11,'Lux4-sept'!$A$215=Display!$B$13),Display!$D10,)","v":0},{"$f":"IF(AND(AD$8=Display!$T$10,'Lux4-sept'!$A$8=Display!$B$7,'Lux4-sept'!$A$148=Display!$B$9,'Lux4-sept'!$A$178=Display!$B$11,'Lux4-sept'!$A$215=Display!$B$13),Display!$D10,)","v":0},{"$f":"IF(AND(AE$8=Display!$T$10,'Lux4-sept'!$A$8=Display!$B$7,'Lux4-sept'!$A$148=Display!$B$9,'Lux4-sept'!$A$178=Display!$B$11,'Lux4-sept'!$A$215=Display!$B$13),Display!$D10,)","v":0},{"$f":"IF(AND(AF$8=Display!$T$10,'Lux4-sept'!$A$8=Display!$B$7,'Lux4-sept'!$A$148=Display!$B$9,'Lux4-sept'!$A$178=Display!$B$11,'Lux4-sept'!$A$215=Display!$B$13),Display!$D10,)","v":0},null,null,0]
["Lave vaiselle vidé",{"$f":"IF(AND(B$8=Display!$T$10,'Lux4-sept'!$A$8=Display!$B$7,'Lux4-sept'!$A$148=Display!$B$9,'Lux4-sept'!$A$178=Display!$B$11,'Lux4-sept'!$A$215=Display!$B$13),Display!$D11,)","v":0},{"$f":"IF(AND(C$8=Display!$T$10,'Lux4-sept'!$A$8=Display!$B$7,'Lux4-sept'!$A$148=Display!$B$9,'Lux4-sept'!$A$178=Display!$B$11,'Lux4-sept'!$A$215=Display!$B$13),Display!$D11,)","v":0},{"$f":"IF(AND(D$8=Display!$T$10,'Lux4-sept'!$A$8=Display!$B$7,'Lux4-sept'!$A$148=Display!$B$9,'Lux4-sept'!$A$178=Display!$B$11,'Lux4-sept'!$A$215=Display!$B$13),Display!$D11,)","v":0},{"$f":"IF(AND(E$8=Display!$T$10,'Lux4-sept'!$A$8=Display!$B$7,'Lux4-sept'!$A$148=Display!$B$9,'Lux4-sept'!$A$178=Display!$B$11,'Lux4-sept'!$A$215=Display!$B$13),Display!$D11,)","v":0},{"$f":"IF(AND(F$8=Display!$T$10,'Lux4-sept'!$A$8=Display!$B$7,'Lux4-sept'!$A$148=Display!$B$9,'Lux4-sept'!$A$178=Display!$B$11,'Lux4-sept'!$A$215=Display!$B$13),Display!$D11,)","v":0},{"$f":"IF(AND(G$8=Display!$T$10,'Lux4-sept'!$A$8=Display!$B$7,'Lux4-sept'!$A$148=Display!$B$9,'Lux4-sept'!$A$178=Display!$B$11,'Lux4-sept'!$A$215=Display!$B$13),Display!$D11,)","v":0},{"$f":"IF(AND(H$8=Display!$T$10,'Lux4-sept'!$A$8=Display!$B$7,'Lux4-sept'!$A$148=Display!$B$9,'Lux4-sept'!$A$178=Display!$B$11,'Lux4-sept'!$A$215=Display!$B$13),Display!$D11,)","v":0},{"$f":"IF(AND(I$8=Display!$T$10,'Lux4-sept'!$A$8=Display!$B$7,'Lux4-sept'!$A$148=Display!$B$9,'Lux4-sept'!$A$178=Display!$B$11,'Lux4-sept'!$A$215=Display!$B$13),Display!$D11,)","v":0},{"$f":"IF(AND(J$8=Display!$T$10,'Lux4-sept'!$A$8=Display!$B$7,'Lux4-sept'!$A$148=Display!$B$9,'Lux4-sept'!$A$178=Display!$B$11,'Lux4-sept'!$A$215=Display!$B$13),Display!$D11,)","v":0},{"$f":"IF(AND(K$8=Display!$T$10,'Lux4-sept'!$A$8=Display!$B$7,'Lux4-sept'!$A$148=Display!$B$9,'Lux4-sept'!$A$178=Display!$B$11,'Lux4-sept'!$A$215=Display!$B$13),Display!$D11,)","v":0},{"$f":"IF(AND(L$8=Display!$T$10,'Lux4-sept'!$A$8=Display!$B$7,'Lux4-sept'!$A$148=Display!$B$9,'Lux4-sept'!$A$178=Display!$B$11,'Lux4-sept'!$A$215=Display!$B$13),Display!$D11,)","v":0},{"$f":"IF(AND(M$8=Display!$T$10,'Lux4-sept'!$A$8=Display!$B$7,'Lux4-sept'!$A$148=Display!$B$9,'Lux4-sept'!$A$178=Display!$B$11,'Lux4-sept'!$A$215=Display!$B$13),Display!$D11,)","v":0},{"$f":"IF(AND(N$8=Display!$T$10,'Lux4-sept'!$A$8=Display!$B$7,'Lux4-sept'!$A$148=Display!$B$9,'Lux4-sept'!$A$178=Display!$B$11,'Lux4-sept'!$A$215=Display!$B$13),Display!$D11,)","v":0},{"$f":"IF(AND(O$8=Display!$T$10,'Lux4-sept'!$A$8=Display!$B$7,'Lux4-sept'!$A$148=Display!$B$9,'Lux4-sept'!$A$178=Display!$B$11,'Lux4-sept'!$A$215=Display!$B$13),Display!$D11,)","v":0},{"$f":"IF(AND(P$8=Display!$T$10,'Lux4-sept'!$A$8=Display!$B$7,'Lux4-sept'!$A$148=Display!$B$9,'Lux4-sept'!$A$178=Display!$B$11,'Lux4-sept'!$A$215=Display!$B$13),Display!$D11,)","v":0},{"$f":"IF(AND(Q$8=Display!$T$10,'Lux4-sept'!$A$8=Display!$B$7,'Lux4-sept'!$A$148=Display!$B$9,'Lux4-sept'!$A$178=Display!$B$11,'Lux4-sept'!$A$215=Display!$B$13),Display!$D11,)","v":0},{"$f":"IF(AND(R$8=Display!$T$10,'Lux4-sept'!$A$8=Display!$B$7,'Lux4-sept'!$A$148=Display!$B$9,'Lux4-sept'!$A$178=Display!$B$11,'Lux4-sept'!$A$215=Display!$B$13),Display!$D11,)","v":0},{"$f":"IF(AND(S$8=Display!$T$10,'Lux4-sept'!$A$8=Display!$B$7,'Lux4-sept'!$A$148=Display!$B$9,'Lux4-sept'!$A$178=Display!$B$11,'Lux4-sept'!$A$215=Display!$B$13),Display!$D11,)","v":0},{"$f":"IF(AND(T$8=Display!$T$10,'Lux4-sept'!$A$8=Display!$B$7,'Lux4-sept'!$A$148=Display!$B$9,'Lux4-sept'!$A$178=Display!$B$11,'Lux4-sept'!$A$215=Display!$B$13),Display!$D11,)","v":0},{"$f":"IF(AND(U$8=Display!$T$10,'Lux4-sept'!$A$8=Display!$B$7,'Lux4-sept'!$A$148=Display!$B$9,'Lux4-sept'!$A$178=Display!$B$11,'Lux4-sept'!$A$215=Display!$B$13),Display!$D11,)","v":0},{"$f":"IF(AND(V$8=Display!$T$10,'Lux4-sept'!$A$8=Display!$B$7,'Lux4-sept'!$A$148=Display!$B$9,'Lux4-sept'!$A$178=Display!$B$11,'Lux4-sept'!$A$215=Display!$B$13),Display!$D11,)","v":0},{"$f":"IF(AND(W$8=Display!$T$10,'Lux4-sept'!$A$8=Display!$B$7,'Lux4-sept'!$A$148=Display!$B$9,'Lux4-sept'!$A$178=Display!$B$11,'Lux4-sept'!$A$215=Display!$B$13),Display!$D11,)","v":0},{"$f":"IF(AND(X$8=Display!$T$10,'Lux4-sept'!$A$8=Display!$B$7,'Lux4-sept'!$A$148=Display!$B$9,'Lux4-sept'!$A$178=Display!$B$11,'Lux4-sept'!$A$215=Display!$B$13),Display!$D11,)","v":0},{"$f":"IF(AND(Y$8=Display!$T$10,'Lux4-sept'!$A$8=Display!$B$7,'Lux4-sept'!$A$148=Display!$B$9,'Lux4-sept'!$A$178=Display!$B$11,'Lux4-sept'!$A$215=Display!$B$13),Display!$D11,)","v":0},{"$f":"IF(AND(Z$8=Display!$T$10,'Lux4-sept'!$A$8=Display!$B$7,'Lux4-sept'!$A$148=Display!$B$9,'Lux4-sept'!$A$178=Display!$B$11,'Lux4-sept'!$A$215=Display!$B$13),Display!$D11,)","v":0},{"$f":"IF(AND(AA$8=Display!$T$10,'Lux4-sept'!$A$8=Display!$B$7,'Lux4-sept'!$A$148=Display!$B$9,'Lux4-sept'!$A$178=Display!$B$11,'Lux4-sept'!$A$215=Display!$B$13),Display!$D11,)","v":0},{"$f":"IF(AND(AB$8=Display!$T$10,'Lux4-sept'!$A$8=Display!$B$7,'Lux4-sept'!$A$148=Display!$B$9,'Lux4-sept'!$A$178=Display!$B$11,'Lux4-sept'!$A$215=Display!$B$13),Display!$D11,)","v":0},{"$f":"IF(AND(AC$8=Display!$T$10,'Lux4-sept'!$A$8=Display!$B$7,'Lux4-sept'!$A$148=Display!$B$9,'Lux4-sept'!$A$178=Display!$B$11,'Lux4-sept'!$A$215=Display!$B$13),Display!$D11,)","v":0},{"$f":"IF(AND(AD$8=Display!$T$10,'Lux4-sept'!$A$8=Display!$B$7,'Lux4-sept'!$A$148=Display!$B$9,'Lux4-sept'!$A$178=Display!$B$11,'Lux4-sept'!$A$215=Display!$B$13),Display!$D11,)","v":0},{"$f":"IF(AND(AE$8=Display!$T$10,'Lux4-sept'!$A$8=Display!$B$7,'Lux4-sept'!$A$148=Display!$B$9,'Lux4-sept'!$A$178=Display!$B$11,'Lux4-sept'!$A$215=Display!$B$13),Display!$D11,)","v":0},{"$f":"IF(AND(AF$8=Display!$T$10,'Lux4-sept'!$A$8=Display!$B$7,'Lux4-sept'!$A$148=Display!$B$9,'Lux4-sept'!$A$178=Display!$B$11,'Lux4-sept'!$A$215=Display!$B$13),Display!$D11,)","v":0},null,null,0]
["Propreté des sols",{"$f":"IF(AND(B$8=Display!$T$10,'Lux4-sept'!$A$8=Display!$B$7,'Lux4-sept'!$A$148=Display!$B$9,'Lux4-sept'!$A$178=Display!$B$11,'Lux4-sept'!$A$215=Display!$B$13),Display!$D12,)","v":0},{"$f":"IF(AND(C$8=Display!$T$10,'Lux4-sept'!$A$8=Display!$B$7,'Lux4-sept'!$A$148=Display!$B$9,'Lux4-sept'!$A$178=Display!$B$11,'Lux4-sept'!$A$215=Display!$B$13),Display!$D12,)","v":0},{"$f":"IF(AND(D$8=Display!$T$10,'Lux4-sept'!$A$8=Display!$B$7,'Lux4-sept'!$A$148=Display!$B$9,'Lux4-sept'!$A$178=Display!$B$11,'Lux4-sept'!$A$215=Display!$B$13),Display!$D12,)","v":0},{"$f":"IF(AND(E$8=Display!$T$10,'Lux4-sept'!$A$8=Display!$B$7,'Lux4-sept'!$A$148=Display!$B$9,'Lux4-sept'!$A$178=Display!$B$11,'Lux4-sept'!$A$215=Display!$B$13),Display!$D12,)","v":0},{"$f":"IF(AND(F$8=Display!$T$10,'Lux4-sept'!$A$8=Display!$B$7,'Lux4-sept'!$A$148=Display!$B$9,'Lux4-sept'!$A$178=Display!$B$11,'Lux4-sept'!$A$215=Display!$B$13),Display!$D12,)","v":0},{"$f":"IF(AND(G$8=Display!$T$10,'Lux4-sept'!$A$8=Display!$B$7,'Lux4-sept'!$A$148=Display!$B$9,'Lux4-sept'!$A$178=Display!$B$11,'Lux4-sept'!$A$215=Display!$B$13),Display!$D12,)","v":0},{"$f":"IF(AND(H$8=Display!$T$10,'Lux4-sept'!$A$8=Display!$B$7,'Lux4-sept'!$A$148=Display!$B$9,'Lux4-sept'!$A$178=Display!$B$11,'Lux4-sept'!$A$215=Display!$B$13),Display!$D12,)","v":0},{"$f":"IF(AND(I$8=Display!$T$10,'Lux4-sept'!$A$8=Display!$B$7,'Lux4-sept'!$A$148=Display!$B$9,'Lux4-sept'!$A$178=Display!$B$11,'Lux4-sept'!$A$215=Display!$B$13),Display!$D12,)","v":0},{"$f":"IF(AND(J$8=Display!$T$10,'Lux4-sept'!$A$8=Display!$B$7,'Lux4-sept'!$A$148=Display!$B$9,'Lux4-sept'!$A$178=Display!$B$11,'Lux4-sept'!$A$215=Display!$B$13),Display!$D12,)","v":0},{"$f":"IF(AND(K$8=Display!$T$10,'Lux4-sept'!$A$8=Display!$B$7,'Lux4-sept'!$A$148=Display!$B$9,'Lux4-sept'!$A$178=Display!$B$11,'Lux4-sept'!$A$215=Display!$B$13),Display!$D12,)","v":0},{"$f":"IF(AND(L$8=Display!$T$10,'Lux4-sept'!$A$8=Display!$B$7,'Lux4-sept'!$A$148=Display!$B$9,'Lux4-sept'!$A$178=Display!$B$11,'Lux4-sept'!$A$215=Display!$B$13),Display!$D12,)","v":0},{"$f":"IF(AND(M$8=Display!$T$10,'Lux4-sept'!$A$8=Display!$B$7,'Lux4-sept'!$A$148=Display!$B$9,'Lux4-sept'!$A$178=Display!$B$11,'Lux4-sept'!$A$215=Display!$B$13),Display!$D12,)","v":0},{"$f":"IF(AND(N$8=Display!$T$10,'Lux4-sept'!$A$8=Display!$B$7,'Lux4-sept'!$A$148=Display!$B$9,'Lux4-sept'!$A$178=Display!$B$11,'Lux4-sept'!$A$215=Display!$B$13),Display!$D12,)","v":0},{"$f":"IF(AND(O$8=Display!$T$10,'Lux4-sept'!$A$8=Display!$B$7,'Lux4-sept'!$A$148=Display!$B$9,'Lux4-sept'!$A$178=Display!$B$11,'Lux4-sept'!$A$215=Display!$B$13),Display!$D12,)","v":0},{"$f":"IF(AND(P$8=Display!$T$10,'Lux4-sept'!$A$8=Display!$B$7,'Lux4-sept'!$A$148=Display!$B$9,'Lux4-sept'!$A$178=Display!$B$11,'Lux4-sept'!$A$215=Display!$B$13),Display!$D12,)","v":0},{"$f":"IF(AND(Q$8=Display!$T$10,'Lux4-sept'!$A$8=Display!$B$7,'Lux4-sept'!$A$148=Display!$B$9,'Lux4-sept'!$A$178=Display!$B$11,'Lux4-sept'!$A$215=Display!$B$13),Display!$D12,)","v":0},{"$f":"IF(AND(R$8=Display!$T$10,'Lux4-sept'!$A$8=Display!$B$7,'Lux4-sept'!$A$148=Display!$B$9,'Lux4-sept'!$A$178=Display!$B$11,'Lux4-sept'!$A$215=Display!$B$13),Display!$D12,)","v":0},{"$f":"IF(AND(S$8=Display!$T$10,'Lux4-sept'!$A$8=Display!$B$7,'Lux4-sept'!$A$148=Display!$B$9,'Lux4-sept'!$A$178=Display!$B$11,'Lux4-sept'!$A$215=Display!$B$13),Display!$D12,)","v":0},{"$f":"IF(AND(T$8=Display!$T$10,'Lux4-sept'!$A$8=Display!$B$7,'Lux4-sept'!$A$148=Display!$B$9,'Lux4-sept'!$A$178=Display!$B$11,'Lux4-sept'!$A$215=Display!$B$13),Display!$D12,)","v":0},{"$f":"IF(AND(U$8=Display!$T$10,'Lux4-sept'!$A$8=Display!$B$7,'Lux4-sept'!$A$148=Display!$B$9,'Lux4-sept'!$A$178=Display!$B$11,'Lux4-sept'!$A$215=Display!$B$13),Display!$D12,)","v":0},{"$f":"IF(AND(V$8=Display!$T$10,'Lux4-sept'!$A$8=Display!$B$7,'Lux4-sept'!$A$148=Display!$B$9,'Lux4-sept'!$A$178=Display!$B$11,'Lux4-sept'!$A$215=Display!$B$13),Display!$D12,)","v":0},{"$f":"IF(AND(W$8=Display!$T$10,'Lux4-sept'!$A$8=Display!$B$7,'Lux4-sept'!$A$148=Display!$B$9,'Lux4-sept'!$A$178=Display!$B$11,'Lux4-sept'!$A$215=Display!$B$13),Display!$D12,)","v":0},{"$f":"IF(AND(X$8=Display!$T$10,'Lux4-sept'!$A$8=Display!$B$7,'Lux4-sept'!$A$148=Display!$B$9,'Lux4-sept'!$A$178=Display!$B$11,'Lux4-sept'!$A$215=Display!$B$13),Display!$D12,)","v":0},{"$f":"IF(AND(Y$8=Display!$T$10,'Lux4-sept'!$A$8=Display!$B$7,'Lux4-sept'!$A$148=Display!$B$9,'Lux4-sept'!$A$178=Display!$B$11,'Lux4-sept'!$A$215=Display!$B$13),Display!$D12,)","v":0},{"$f":"IF(AND(Z$8=Display!$T$10,'Lux4-sept'!$A$8=Display!$B$7,'Lux4-sept'!$A$148=Display!$B$9,'Lux4-sept'!$A$178=Display!$B$11,'Lux4-sept'!$A$215=Display!$B$13),Display!$D12,)","v":0},{"$f":"IF(AND(AA$8=Display!$T$10,'Lux4-sept'!$A$8=Display!$B$7,'Lux4-sept'!$A$148=Display!$B$9,'Lux4-sept'!$A$178=Display!$B$11,'Lux4-sept'!$A$215=Display!$B$13),Display!$D12,)","v":0},{"$f":"IF(AND(AB$8=Display!$T$10,'Lux4-sept'!$A$8=Display!$B$7,'Lux4-sept'!$A$148=Display!$B$9,'Lux4-sept'!$A$178=Display!$B$11,'Lux4-sept'!$A$215=Display!$B$13),Display!$D12,)","v":0},{"$f":"IF(AND(AC$8=Display!$T$10,'Lux4-sept'!$A$8=Display!$B$7,'Lux4-sept'!$A$148=Display!$B$9,'Lux4-sept'!$A$178=Display!$B$11,'Lux4-sept'!$A$215=Display!$B$13),Display!$D12,)","v":0},{"$f":"IF(AND(AD$8=Display!$T$10,'Lux4-sept'!$A$8=Display!$B$7,'Lux4-sept'!$A$148=Display!$B$9,'Lux4-sept'!$A$178=Display!$B$11,'Lux4-sept'!$A$215=Display!$B$13),Display!$D12,)","v":0},{"$f":"IF(AND(AE$8=Display!$T$10,'Lux4-sept'!$A$8=Display!$B$7,'Lux4-sept'!$A$148=Display!$B$9,'Lux4-sept'!$A$178=Display!$B$11,'Lux4-sept'!$A$215=Display!$B$13),Display!$D12,)","v":0},{"$f":"IF(AND(AF$8=Display!$T$10,'Lux4-sept'!$A$8=Display!$B$7,'Lux4-sept'!$A$148=Display!$B$9,'Lux4-sept'!$A$178=Display!$B$11,'Lux4-sept'!$A$215=Display!$B$13),Display!$D12,)","v":0},null,null,0]
["Présence de poussières",{"$f":"IF(AND(B$8=Display!$T$10,'Lux4-sept'!$A$8=Display!$B$7,'Lux4-sept'!$A$148=Display!$B$9,'Lux4-sept'!$A$178=Display!$B$11,'Lux4-sept'!$A$215=Display!$B$13),Display!$D13,)","v":0},{"$f":"IF(AND(C$8=Display!$T$10,'Lux4-sept'!$A$8=Display!$B$7,'Lux4-sept'!$A$148=Display!$B$9,'Lux4-sept'!$A$178=Display!$B$11,'Lux4-sept'!$A$215=Display!$B$13),Display!$D13,)","v":0},{"$f":"IF(AND(D$8=Display!$T$10,'Lux4-sept'!$A$8=Display!$B$7,'Lux4-sept'!$A$148=Display!$B$9,'Lux4-sept'!$A$178=Display!$B$11,'Lux4-sept'!$A$215=Display!$B$13),Display!$D13,)","v":0},{"$f":"IF(AND(E$8=Display!$T$10,'Lux4-sept'!$A$8=Display!$B$7,'Lux4-sept'!$A$148=Display!$B$9,'Lux4-sept'!$A$178=Display!$B$11,'Lux4-sept'!$A$215=Display!$B$13),Display!$D13,)","v":0},{"$f":"IF(AND(F$8=Display!$T$10,'Lux4-sept'!$A$8=Display!$B$7,'Lux4-sept'!$A$148=Display!$B$9,'Lux4-sept'!$A$178=Display!$B$11,'Lux4-sept'!$A$215=Display!$B$13),Display!$D13,)","v":0},{"$f":"IF(AND(G$8=Display!$T$10,'Lux4-sept'!$A$8=Display!$B$7,'Lux4-sept'!$A$148=Display!$B$9,'Lux4-sept'!$A$178=Display!$B$11,'Lux4-sept'!$A$215=Display!$B$13),Display!$D13,)","v":0},{"$f":"IF(AND(H$8=Display!$T$10,'Lux4-sept'!$A$8=Display!$B$7,'Lux4-sept'!$A$148=Display!$B$9,'Lux4-sept'!$A$178=Display!$B$11,'Lux4-sept'!$A$215=Display!$B$13),Display!$D13,)","v":0},{"$f":"IF(AND(I$8=Display!$T$10,'Lux4-sept'!$A$8=Display!$B$7,'Lux4-sept'!$A$148=Display!$B$9,'Lux4-sept'!$A$178=Display!$B$11,'Lux4-sept'!$A$215=Display!$B$13),Display!$D13,)","v":0},{"$f":"IF(AND(J$8=Display!$T$10,'Lux4-sept'!$A$8=Display!$B$7,'Lux4-sept'!$A$148=Display!$B$9,'Lux4-sept'!$A$178=Display!$B$11,'Lux4-sept'!$A$215=Display!$B$13),Display!$D13,)","v":0},{"$f":"IF(AND(K$8=Display!$T$10,'Lux4-sept'!$A$8=Display!$B$7,'Lux4-sept'!$A$148=Display!$B$9,'Lux4-sept'!$A$178=Display!$B$11,'Lux4-sept'!$A$215=Display!$B$13),Display!$D13,)","v":0},{"$f":"IF(AND(L$8=Display!$T$10,'Lux4-sept'!$A$8=Display!$B$7,'Lux4-sept'!$A$148=Display!$B$9,'Lux4-sept'!$A$178=Display!$B$11,'Lux4-sept'!$A$215=Display!$B$13),Display!$D13,)","v":0},{"$f":"IF(AND(M$8=Display!$T$10,'Lux4-sept'!$A$8=Display!$B$7,'Lux4-sept'!$A$148=Display!$B$9,'Lux4-sept'!$A$178=Display!$B$11,'Lux4-sept'!$A$215=Display!$B$13),Display!$D13,)","v":0},{"$f":"IF(AND(N$8=Display!$T$10,'Lux4-sept'!$A$8=Display!$B$7,'Lux4-sept'!$A$148=Display!$B$9,'Lux4-sept'!$A$178=Display!$B$11,'Lux4-sept'!$A$215=Display!$B$13),Display!$D13,)","v":0},{"$f":"IF(AND(O$8=Display!$T$10,'Lux4-sept'!$A$8=Display!$B$7,'Lux4-sept'!$A$148=Display!$B$9,'Lux4-sept'!$A$178=Display!$B$11,'Lux4-sept'!$A$215=Display!$B$13),Display!$D13,)","v":0},{"$f":"IF(AND(P$8=Display!$T$10,'Lux4-sept'!$A$8=Display!$B$7,'Lux4-sept'!$A$148=Display!$B$9,'Lux4-sept'!$A$178=Display!$B$11,'Lux4-sept'!$A$215=Display!$B$13),Display!$D13,)","v":0},{"$f":"IF(AND(Q$8=Display!$T$10,'Lux4-sept'!$A$8=Display!$B$7,'Lux4-sept'!$A$148=Display!$B$9,'Lux4-sept'!$A$178=Display!$B$11,'Lux4-sept'!$A$215=Display!$B$13),Display!$D13,)","v":0},{"$f":"IF(AND(R$8=Display!$T$10,'Lux4-sept'!$A$8=Display!$B$7,'Lux4-sept'!$A$148=Display!$B$9,'Lux4-sept'!$A$178=Display!$B$11,'Lux4-sept'!$A$215=Display!$B$13),Display!$D13,)","v":0},{"$f":"IF(AND(S$8=Display!$T$10,'Lux4-sept'!$A$8=Display!$B$7,'Lux4-sept'!$A$148=Display!$B$9,'Lux4-sept'!$A$178=Display!$B$11,'Lux4-sept'!$A$215=Display!$B$13),Display!$D13,)","v":0},{"$f":"IF(AND(T$8=Display!$T$10,'Lux4-sept'!$A$8=Display!$B$7,'Lux4-sept'!$A$148=Display!$B$9,'Lux4-sept'!$A$178=Display!$B$11,'Lux4-sept'!$A$215=Display!$B$13),Display!$D13,)","v":0},{"$f":"IF(AND(U$8=Display!$T$10,'Lux4-sept'!$A$8=Display!$B$7,'Lux4-sept'!$A$148=Display!$B$9,'Lux4-sept'!$A$178=Display!$B$11,'Lux4-sept'!$A$215=Display!$B$13),Display!$D13,)","v":0},{"$f":"IF(AND(V$8=Display!$T$10,'Lux4-sept'!$A$8=Display!$B$7,'Lux4-sept'!$A$148=Display!$B$9,'Lux4-sept'!$A$178=Display!$B$11,'Lux4-sept'!$A$215=Display!$B$13),Display!$D13,)","v":0},{"$f":"IF(AND(W$8=Display!$T$10,'Lux4-sept'!$A$8=Display!$B$7,'Lux4-sept'!$A$148=Display!$B$9,'Lux4-sept'!$A$178=Display!$B$11,'Lux4-sept'!$A$215=Display!$B$13),Display!$D13,)","v":0},{"$f":"IF(AND(X$8=Display!$T$10,'Lux4-sept'!$A$8=Display!$B$7,'Lux4-sept'!$A$148=Display!$B$9,'Lux4-sept'!$A$178=Display!$B$11,'Lux4-sept'!$A$215=Display!$B$13),Display!$D13,)","v":0},{"$f":"IF(AND(Y$8=Display!$T$10,'Lux4-sept'!$A$8=Display!$B$7,'Lux4-sept'!$A$148=Display!$B$9,'Lux4-sept'!$A$178=Display!$B$11,'Lux4-sept'!$A$215=Display!$B$13),Display!$D13,)","v":0},{"$f":"IF(AND(Z$8=Display!$T$10,'Lux4-sept'!$A$8=Display!$B$7,'Lux4-sept'!$A$148=Display!$B$9,'Lux4-sept'!$A$178=Display!$B$11,'Lux4-sept'!$A$215=Display!$B$13),Display!$D13,)","v":0},{"$f":"IF(AND(AA$8=Display!$T$10,'Lux4-sept'!$A$8=Display!$B$7,'Lux4-sept'!$A$148=Display!$B$9,'Lux4-sept'!$A$178=Display!$B$11,'Lux4-sept'!$A$215=Display!$B$13),Display!$D13,)","v":0},{"$f":"IF(AND(AB$8=Display!$T$10,'Lux4-sept'!$A$8=Display!$B$7,'Lux4-sept'!$A$148=Display!$B$9,'Lux4-sept'!$A$178=Display!$B$11,'Lux4-sept'!$A$215=Display!$B$13),Display!$D13,)","v":0},{"$f":"IF(AND(AC$8=Display!$T$10,'Lux4-sept'!$A$8=Display!$B$7,'Lux4-sept'!$A$148=Display!$B$9,'Lux4-sept'!$A$178=Display!$B$11,'Lux4-sept'!$A$215=Display!$B$13),Display!$D13,)","v":0},{"$f":"IF(AND(AD$8=Display!$T$10,'Lux4-sept'!$A$8=Display!$B$7,'Lux4-sept'!$A$148=Display!$B$9,'Lux4-sept'!$A$178=Display!$B$11,'Lux4-sept'!$A$215=Display!$B$13),Display!$D13,)","v":0},{"$f":"IF(AND(AE$8=Display!$T$10,'Lux4-sept'!$A$8=Display!$B$7,'Lux4-sept'!$A$148=Display!$B$9,'Lux4-sept'!$A$178=Display!$B$11,'Lux4-sept'!$A$215=Display!$B$13),Display!$D13,)","v":0},{"$f":"IF(AND(AF$8=Display!$T$10,'Lux4-sept'!$A$8=Display!$B$7,'Lux4-sept'!$A$148=Display!$B$9,'Lux4-sept'!$A$178=Display!$B$11,'Lux4-sept'!$A$215=Display!$B$13),Display!$D13,)","v":0},null,null,0]
["MOYENNE",{"$f":"((IF((SUM(B216:B225))<>0,(SUM(B216:B225)),0))/(IF((SUM((IF(B216<>0,3,0)),(IF(B217<>0,3,0)),(IF(B218<>0,3,0)),(IF(B219<>0,3,0)),(IF(B220<>0,3,0)),(IF(B221<>0,3,0)),(IF(B222<>0,3,0)),(IF(B223<>0,3,0)),(IF(B224<>0,3,0)),(IF(B225<>0,3,0))))<>0,((SUM((IF(B216<>0,3,0)),(IF(B217<>0,3,0)),(IF(B218<>0,3,0)),(IF(B219<>0,3,0)),(IF(B220<>0,3,0)),(IF(B221<>0,3,0)),(IF(B222<>0,3,0)),(IF(B223<>0,3,0)),(IF(B224<>0,3,0)),(IF(B225<>0,3,0))))),1)))","v":0},{"$f":"((IF((SUM(C216:C225))<>0,(SUM(C216:C225)),0))/(IF((SUM((IF(C216<>0,3,0)),(IF(C217<>0,3,0)),(IF(C218<>0,3,0)),(IF(C219<>0,3,0)),(IF(C220<>0,3,0)),(IF(C221<>0,3,0)),(IF(C222<>0,3,0)),(IF(C223<>0,3,0)),(IF(C224<>0,3,0)),(IF(C225<>0,3,0))))<>0,((SUM((IF(C216<>0,3,0)),(IF(C217<>0,3,0)),(IF(C218<>0,3,0)),(IF(C219<>0,3,0)),(IF(C220<>0,3,0)),(IF(C221<>0,3,0)),(IF(C222<>0,3,0)),(IF(C223<>0,3,0)),(IF(C224<>0,3,0)),(IF(C225<>0,3,0))))),1)))","v":0},0,0,0,0,0,0,0,0,0,0,0,0,0,0,0,0,0,0,0,0,0,0,0,0,0,0,0,0,0,0,0]
["Toilets & Showers"]
["Day Time Cleaning"]
[".00"]
["Propreté générale des sanitaires",{"$f":"IF(AND(B$8=Display!$T$10,'Lux4-sept'!$A$8=Display!$B$7,'Lux4-sept'!$A$227=Display!$B$9,'Lux4-sept'!$A$228=Display!$B$11,'Lux4-sept'!$A$229=Display!$B$13),Display!$D4,)","v":0},{"$f":"IF(AND(C$8=Display!$T$10,'Lux4-sept'!$A$8=Display!$B$7,'Lux4-sept'!$A$227=Display!$B$9,'Lux4-sept'!$A$228=Display!$B$11,'Lux4-sept'!$A$229=Display!$B$13),Display!$D4,)","v":0},{"$f":"IF(AND(D$8=Display!$T$10,'Lux4-sept'!$A$8=Display!$B$7,'Lux4-sept'!$A$227=Display!$B$9,'Lux4-sept'!$A$228=Display!$B$11,'Lux4-sept'!$A$229=Display!$B$13),Display!$D4,)","v":0},{"$f":"IF(AND(E$8=Display!$T$10,'Lux4-sept'!$A$8=Display!$B$7,'Lux4-sept'!$A$227=Display!$B$9,'Lux4-sept'!$A$228=Display!$B$11,'Lux4-sept'!$A$229=Display!$B$13),Display!$D4,)","v":0},{"$f":"IF(AND(F$8=Display!$T$10,'Lux4-sept'!$A$8=Display!$B$7,'Lux4-sept'!$A$227=Display!$B$9,'Lux4-sept'!$A$228=Display!$B$11,'Lux4-sept'!$A$229=Display!$B$13),Display!$D4,)","v":0},{"$f":"IF(AND(G$8=Display!$T$10,'Lux4-sept'!$A$8=Display!$B$7,'Lux4-sept'!$A$227=Display!$B$9,'Lux4-sept'!$A$228=Display!$B$11,'Lux4-sept'!$A$229=Display!$B$13),Display!$D4,)","v":0},{"$f":"IF(AND(H$8=Display!$T$10,'Lux4-sept'!$A$8=Display!$B$7,'Lux4-sept'!$A$227=Display!$B$9,'Lux4-sept'!$A$228=Display!$B$11,'Lux4-sept'!$A$229=Display!$B$13),Display!$D4,)","v":0},{"$f":"IF(AND(I$8=Display!$T$10,'Lux4-sept'!$A$8=Display!$B$7,'Lux4-sept'!$A$227=Display!$B$9,'Lux4-sept'!$A$228=Display!$B$11,'Lux4-sept'!$A$229=Display!$B$13),Display!$D4,)","v":0},{"$f":"IF(AND(J$8=Display!$T$10,'Lux4-sept'!$A$8=Display!$B$7,'Lux4-sept'!$A$227=Display!$B$9,'Lux4-sept'!$A$228=Display!$B$11,'Lux4-sept'!$A$229=Display!$B$13),Display!$D4,)","v":0},{"$f":"IF(AND(K$8=Display!$T$10,'Lux4-sept'!$A$8=Display!$B$7,'Lux4-sept'!$A$227=Display!$B$9,'Lux4-sept'!$A$228=Display!$B$11,'Lux4-sept'!$A$229=Display!$B$13),Display!$D4,)","v":0},{"$f":"IF(AND(L$8=Display!$T$10,'Lux4-sept'!$A$8=Display!$B$7,'Lux4-sept'!$A$227=Display!$B$9,'Lux4-sept'!$A$228=Display!$B$11,'Lux4-sept'!$A$229=Display!$B$13),Display!$D4,)","v":0},{"$f":"IF(AND(M$8=Display!$T$10,'Lux4-sept'!$A$8=Display!$B$7,'Lux4-sept'!$A$227=Display!$B$9,'Lux4-sept'!$A$228=Display!$B$11,'Lux4-sept'!$A$229=Display!$B$13),Display!$D4,)","v":0},{"$f":"IF(AND(N$8=Display!$T$10,'Lux4-sept'!$A$8=Display!$B$7,'Lux4-sept'!$A$227=Display!$B$9,'Lux4-sept'!$A$228=Display!$B$11,'Lux4-sept'!$A$229=Display!$B$13),Display!$D4,)","v":0},{"$f":"IF(AND(O$8=Display!$T$10,'Lux4-sept'!$A$8=Display!$B$7,'Lux4-sept'!$A$227=Display!$B$9,'Lux4-sept'!$A$228=Display!$B$11,'Lux4-sept'!$A$229=Display!$B$13),Display!$D4,)","v":0},{"$f":"IF(AND(P$8=Display!$T$10,'Lux4-sept'!$A$8=Display!$B$7,'Lux4-sept'!$A$227=Display!$B$9,'Lux4-sept'!$A$228=Display!$B$11,'Lux4-sept'!$A$229=Display!$B$13),Display!$D4,)","v":0},{"$f":"IF(AND(Q$8=Display!$T$10,'Lux4-sept'!$A$8=Display!$B$7,'Lux4-sept'!$A$227=Display!$B$9,'Lux4-sept'!$A$228=Display!$B$11,'Lux4-sept'!$A$229=Display!$B$13),Display!$D4,)","v":0},{"$f":"IF(AND(R$8=Display!$T$10,'Lux4-sept'!$A$8=Display!$B$7,'Lux4-sept'!$A$227=Display!$B$9,'Lux4-sept'!$A$228=Display!$B$11,'Lux4-sept'!$A$229=Display!$B$13),Display!$D4,)","v":0},{"$f":"IF(AND(S$8=Display!$T$10,'Lux4-sept'!$A$8=Display!$B$7,'Lux4-sept'!$A$227=Display!$B$9,'Lux4-sept'!$A$228=Display!$B$11,'Lux4-sept'!$A$229=Display!$B$13),Display!$D4,)","v":0},{"$f":"IF(AND(T$8=Display!$T$10,'Lux4-sept'!$A$8=Display!$B$7,'Lux4-sept'!$A$227=Display!$B$9,'Lux4-sept'!$A$228=Display!$B$11,'Lux4-sept'!$A$229=Display!$B$13),Display!$D4,)","v":0},{"$f":"IF(AND(U$8=Display!$T$10,'Lux4-sept'!$A$8=Display!$B$7,'Lux4-sept'!$A$227=Display!$B$9,'Lux4-sept'!$A$228=Display!$B$11,'Lux4-sept'!$A$229=Display!$B$13),Display!$D4,)","v":0},{"$f":"IF(AND(V$8=Display!$T$10,'Lux4-sept'!$A$8=Display!$B$7,'Lux4-sept'!$A$227=Display!$B$9,'Lux4-sept'!$A$228=Display!$B$11,'Lux4-sept'!$A$229=Display!$B$13),Display!$D4,)","v":0},{"$f":"IF(AND(W$8=Display!$T$10,'Lux4-sept'!$A$8=Display!$B$7,'Lux4-sept'!$A$227=Display!$B$9,'Lux4-sept'!$A$228=Display!$B$11,'Lux4-sept'!$A$229=Display!$B$13),Display!$D4,)","v":0},{"$f":"IF(AND(X$8=Display!$T$10,'Lux4-sept'!$A$8=Display!$B$7,'Lux4-sept'!$A$227=Display!$B$9,'Lux4-sept'!$A$228=Display!$B$11,'Lux4-sept'!$A$229=Display!$B$13),Display!$D4,)","v":0},{"$f":"IF(AND(Y$8=Display!$T$10,'Lux4-sept'!$A$8=Display!$B$7,'Lux4-sept'!$A$227=Display!$B$9,'Lux4-sept'!$A$228=Display!$B$11,'Lux4-sept'!$A$229=Display!$B$13),Display!$D4,)","v":0},{"$f":"IF(AND(Z$8=Display!$T$10,'Lux4-sept'!$A$8=Display!$B$7,'Lux4-sept'!$A$227=Display!$B$9,'Lux4-sept'!$A$228=Display!$B$11,'Lux4-sept'!$A$229=Display!$B$13),Display!$D4,)","v":0},{"$f":"IF(AND(AA$8=Display!$T$10,'Lux4-sept'!$A$8=Display!$B$7,'Lux4-sept'!$A$227=Display!$B$9,'Lux4-sept'!$A$228=Display!$B$11,'Lux4-sept'!$A$229=Display!$B$13),Display!$D4,)","v":0},{"$f":"IF(AND(AB$8=Display!$T$10,'Lux4-sept'!$A$8=Display!$B$7,'Lux4-sept'!$A$227=Display!$B$9,'Lux4-sept'!$A$228=Display!$B$11,'Lux4-sept'!$A$229=Display!$B$13),Display!$D4,)","v":0},{"$f":"IF(AND(AC$8=Display!$T$10,'Lux4-sept'!$A$8=Display!$B$7,'Lux4-sept'!$A$227=Display!$B$9,'Lux4-sept'!$A$228=Display!$B$11,'Lux4-sept'!$A$229=Display!$B$13),Display!$D4,)","v":0},{"$f":"IF(AND(AD$8=Display!$T$10,'Lux4-sept'!$A$8=Display!$B$7,'Lux4-sept'!$A$227=Display!$B$9,'Lux4-sept'!$A$228=Display!$B$11,'Lux4-sept'!$A$229=Display!$B$13),Display!$D4,)","v":0},{"$f":"IF(AND(AE$8=Display!$T$10,'Lux4-sept'!$A$8=Display!$B$7,'Lux4-sept'!$A$227=Display!$B$9,'Lux4-sept'!$A$228=Display!$B$11,'Lux4-sept'!$A$229=Display!$B$13),Display!$D4,)","v":0},{"$f":"IF(AND(AF$8=Display!$T$10,'Lux4-sept'!$A$8=Display!$B$7,'Lux4-sept'!$A$227=Display!$B$9,'Lux4-sept'!$A$228=Display!$B$11,'Lux4-sept'!$A$229=Display!$B$13),Display!$D4,)","v":0},null,null,{"$f":"((IF((SUM(B230:AF230))<>0,(SUM(B230:AF230)),0))/(IF((SUM((IF(B230<>0,3,0)),(IF(C230<>0,3,0)),(IF(D230<>0,3,0)),(IF(E230<>0,3,0)),(IF(F230<>0,3,0)),(IF(F230<>0,3,0)),(IF(F230<>0,3,0)),(IF(G230<>0,3,0)),(IF(H230<>0,3,0)),(IF(I230<>0,3,0)),(IF(J230<>0,3,0)),(IF(K230<>0,3,0)),(IF(L230<>0,3,0)),(IF(M230<>0,3,0)),(IF(N230<>0,3,0)),(IF(O230<>0,3,0)),(IF(P230<>0,3,0)),(IF(Q230<>0,3,0)),(IF(R230<>0,3,0)),(IF(S230<>0,3,0)),(IF(T230<>0,3,0)),(IF(U230<>0,3,0)),(IF(V230<>0,3,0)),(IF(W230<>0,3,0)),(IF(X230<>0,3,0)),(IF(Y230<>0,3,0)),(IF(Z230<>0,3,0)),(IF(AA230<>0,3,0)),(IF(AB230<>0,3,0)),(IF(AC230<>0,3,0)),(IF(AD230<>0,3,0)),(IF(AE230<>0,3,0)),(IF(AF230<>0,3,0))))<>0,((SUM((IF(B230<>0,3,0)),(IF(C230<>0,3,0)),(IF(D230<>0,3,0)),(IF(E230<>0,3,0)),(IF(F230<>0,3,0)),(IF(F230<>0,3,0)),(IF(F230<>0,3,0)),(IF(G230<>0,3,0)),(IF(H230<>0,3,0)),(IF(I230<>0,3,0)),(IF(J230<>0,3,0)),(IF(K230<>0,3,0)),(IF(L230<>0,3,0)),(IF(M230<>0,3,0)),(IF(N230<>0,3,0)),(IF(O230<>0,3,0)),(IF(P230<>0,3,0)),(IF(Q230<>0,3,0)),(IF(R230<>0,3,0)),(IF(S230<>0,3,0)),(IF(T230<>0,3,0)),(IF(U230<>0,3,0)),(IF(V230<>0,3,0)),(IF(W230<>0,3,0)),(IF(X230<>0,3,0)),(IF(Y230<>0,3,0)),(IF(Z230<>0,3,0)),(IF(AA230<>0,3,0)),(IF(AB230<>0,3,0)),(IF(AC230<>0,3,0)),(IF(AD230<>0,3,0)),(IF(AE230<>0,3,0)),(IF(AF230<>0,3,0))))),1)))","v":0}]
["MOYENNE",{"$f":"((IF((SUM(B230))<>0,(SUM(B230)),0))/(IF((SUM((IF(B230<>0,3,0))))<>0,((SUM((IF(B230<>0,3,0))))),1)))","v":0},{"$f":"((IF((SUM(C230))<>0,(SUM(C230)),0))/(IF((SUM((IF(C230<>0,3,0))))<>0,((SUM((IF(C230<>0,3,0))))),1)))","v":0},0,0,0,0,0,0,0,0,0,0,0,0,0,0,0,0,0,0,0,0,0,0,0,0,0,0,0,0,0,0,0]
[".01"]
["Propreté générale des sanitaires",{"$f":"IF(AND(B$8=Display!$T$10,'Lux4-sept'!$A$8=Display!$B$7,'Lux4-sept'!$A$227=Display!$B$9,'Lux4-sept'!$A$228=Display!$B$11,'Lux4-sept'!$A$232=Display!$B$13),Display!$D4,)","v":0},{"$f":"IF(AND(C$8=Display!$T$10,'Lux4-sept'!$A$8=Display!$B$7,'Lux4-sept'!$A$227=Display!$B$9,'Lux4-sept'!$A$228=Display!$B$11,'Lux4-sept'!$A$232=Display!$B$13),Display!$D4,)","v":0},{"$f":"IF(AND(D$8=Display!$T$10,'Lux4-sept'!$A$8=Display!$B$7,'Lux4-sept'!$A$227=Display!$B$9,'Lux4-sept'!$A$228=Display!$B$11,'Lux4-sept'!$A$232=Display!$B$13),Display!$D4,)","v":0},{"$f":"IF(AND(E$8=Display!$T$10,'Lux4-sept'!$A$8=Display!$B$7,'Lux4-sept'!$A$227=Display!$B$9,'Lux4-sept'!$A$228=Display!$B$11,'Lux4-sept'!$A$232=Display!$B$13),Display!$D4,)","v":0},{"$f":"IF(AND(F$8=Display!$T$10,'Lux4-sept'!$A$8=Display!$B$7,'Lux4-sept'!$A$227=Display!$B$9,'Lux4-sept'!$A$228=Display!$B$11,'Lux4-sept'!$A$232=Display!$B$13),Display!$D4,)","v":0},{"$f":"IF(AND(G$8=Display!$T$10,'Lux4-sept'!$A$8=Display!$B$7,'Lux4-sept'!$A$227=Display!$B$9,'Lux4-sept'!$A$228=Display!$B$11,'Lux4-sept'!$A$232=Display!$B$13),Display!$D4,)","v":0},{"$f":"IF(AND(H$8=Display!$T$10,'Lux4-sept'!$A$8=Display!$B$7,'Lux4-sept'!$A$227=Display!$B$9,'Lux4-sept'!$A$228=Display!$B$11,'Lux4-sept'!$A$232=Display!$B$13),Display!$D4,)","v":0},{"$f":"IF(AND(I$8=Display!$T$10,'Lux4-sept'!$A$8=Display!$B$7,'Lux4-sept'!$A$227=Display!$B$9,'Lux4-sept'!$A$228=Display!$B$11,'Lux4-sept'!$A$232=Display!$B$13),Display!$D4,)","v":0},{"$f":"IF(AND(J$8=Display!$T$10,'Lux4-sept'!$A$8=Display!$B$7,'Lux4-sept'!$A$227=Display!$B$9,'Lux4-sept'!$A$228=Display!$B$11,'Lux4-sept'!$A$232=Display!$B$13),Display!$D4,)","v":0},{"$f":"IF(AND(K$8=Display!$T$10,'Lux4-sept'!$A$8=Display!$B$7,'Lux4-sept'!$A$227=Display!$B$9,'Lux4-sept'!$A$228=Display!$B$11,'Lux4-sept'!$A$232=Display!$B$13),Display!$D4,)","v":0},{"$f":"IF(AND(L$8=Display!$T$10,'Lux4-sept'!$A$8=Display!$B$7,'Lux4-sept'!$A$227=Display!$B$9,'Lux4-sept'!$A$228=Display!$B$11,'Lux4-sept'!$A$232=Display!$B$13),Display!$D4,)","v":0},{"$f":"IF(AND(M$8=Display!$T$10,'Lux4-sept'!$A$8=Display!$B$7,'Lux4-sept'!$A$227=Display!$B$9,'Lux4-sept'!$A$228=Display!$B$11,'Lux4-sept'!$A$232=Display!$B$13),Display!$D4,)","v":0},{"$f":"IF(AND(N$8=Display!$T$10,'Lux4-sept'!$A$8=Display!$B$7,'Lux4-sept'!$A$227=Display!$B$9,'Lux4-sept'!$A$228=Display!$B$11,'Lux4-sept'!$A$232=Display!$B$13),Display!$D4,)","v":0},{"$f":"IF(AND(O$8=Display!$T$10,'Lux4-sept'!$A$8=Display!$B$7,'Lux4-sept'!$A$227=Display!$B$9,'Lux4-sept'!$A$228=Display!$B$11,'Lux4-sept'!$A$232=Display!$B$13),Display!$D4,)","v":0},{"$f":"IF(AND(P$8=Display!$T$10,'Lux4-sept'!$A$8=Display!$B$7,'Lux4-sept'!$A$227=Display!$B$9,'Lux4-sept'!$A$228=Display!$B$11,'Lux4-sept'!$A$232=Display!$B$13),Display!$D4,)","v":0},{"$f":"IF(AND(Q$8=Display!$T$10,'Lux4-sept'!$A$8=Display!$B$7,'Lux4-sept'!$A$227=Display!$B$9,'Lux4-sept'!$A$228=Display!$B$11,'Lux4-sept'!$A$232=Display!$B$13),Display!$D4,)","v":0},{"$f":"IF(AND(R$8=Display!$T$10,'Lux4-sept'!$A$8=Display!$B$7,'Lux4-sept'!$A$227=Display!$B$9,'Lux4-sept'!$A$228=Display!$B$11,'Lux4-sept'!$A$232=Display!$B$13),Display!$D4,)","v":0},{"$f":"IF(AND(S$8=Display!$T$10,'Lux4-sept'!$A$8=Display!$B$7,'Lux4-sept'!$A$227=Display!$B$9,'Lux4-sept'!$A$228=Display!$B$11,'Lux4-sept'!$A$232=Display!$B$13),Display!$D4,)","v":0},{"$f":"IF(AND(T$8=Display!$T$10,'Lux4-sept'!$A$8=Display!$B$7,'Lux4-sept'!$A$227=Display!$B$9,'Lux4-sept'!$A$228=Display!$B$11,'Lux4-sept'!$A$232=Display!$B$13),Display!$D4,)","v":0},{"$f":"IF(AND(U$8=Display!$T$10,'Lux4-sept'!$A$8=Display!$B$7,'Lux4-sept'!$A$227=Display!$B$9,'Lux4-sept'!$A$228=Display!$B$11,'Lux4-sept'!$A$232=Display!$B$13),Display!$D4,)","v":0},{"$f":"IF(AND(V$8=Display!$T$10,'Lux4-sept'!$A$8=Display!$B$7,'Lux4-sept'!$A$227=Display!$B$9,'Lux4-sept'!$A$228=Display!$B$11,'Lux4-sept'!$A$232=Display!$B$13),Display!$D4,)","v":0},{"$f":"IF(AND(W$8=Display!$T$10,'Lux4-sept'!$A$8=Display!$B$7,'Lux4-sept'!$A$227=Display!$B$9,'Lux4-sept'!$A$228=Display!$B$11,'Lux4-sept'!$A$232=Display!$B$13),Display!$D4,)","v":0},{"$f":"IF(AND(X$8=Display!$T$10,'Lux4-sept'!$A$8=Display!$B$7,'Lux4-sept'!$A$227=Display!$B$9,'Lux4-sept'!$A$228=Display!$B$11,'Lux4-sept'!$A$232=Display!$B$13),Display!$D4,)","v":0},{"$f":"IF(AND(Y$8=Display!$T$10,'Lux4-sept'!$A$8=Display!$B$7,'Lux4-sept'!$A$227=Display!$B$9,'Lux4-sept'!$A$228=Display!$B$11,'Lux4-sept'!$A$232=Display!$B$13),Display!$D4,)","v":0},{"$f":"IF(AND(Z$8=Display!$T$10,'Lux4-sept'!$A$8=Display!$B$7,'Lux4-sept'!$A$227=Display!$B$9,'Lux4-sept'!$A$228=Display!$B$11,'Lux4-sept'!$A$232=Display!$B$13),Display!$D4,)","v":0},{"$f":"IF(AND(AA$8=Display!$T$10,'Lux4-sept'!$A$8=Display!$B$7,'Lux4-sept'!$A$227=Display!$B$9,'Lux4-sept'!$A$228=Display!$B$11,'Lux4-sept'!$A$232=Display!$B$13),Display!$D4,)","v":0},{"$f":"IF(AND(AB$8=Display!$T$10,'Lux4-sept'!$A$8=Display!$B$7,'Lux4-sept'!$A$227=Display!$B$9,'Lux4-sept'!$A$228=Display!$B$11,'Lux4-sept'!$A$232=Display!$B$13),Display!$D4,)","v":0},{"$f":"IF(AND(AC$8=Display!$T$10,'Lux4-sept'!$A$8=Display!$B$7,'Lux4-sept'!$A$227=Display!$B$9,'Lux4-sept'!$A$228=Display!$B$11,'Lux4-sept'!$A$232=Display!$B$13),Display!$D4,)","v":0},{"$f":"IF(AND(AD$8=Display!$T$10,'Lux4-sept'!$A$8=Display!$B$7,'Lux4-sept'!$A$227=Display!$B$9,'Lux4-sept'!$A$228=Display!$B$11,'Lux4-sept'!$A$232=Display!$B$13),Display!$D4,)","v":0},{"$f":"IF(AND(AE$8=Display!$T$10,'Lux4-sept'!$A$8=Display!$B$7,'Lux4-sept'!$A$227=Display!$B$9,'Lux4-sept'!$A$228=Display!$B$11,'Lux4-sept'!$A$232=Display!$B$13),Display!$D4,)","v":0},{"$f":"IF(AND(AF$8=Display!$T$10,'Lux4-sept'!$A$8=Display!$B$7,'Lux4-sept'!$A$227=Display!$B$9,'Lux4-sept'!$A$228=Display!$B$11,'Lux4-sept'!$A$232=Display!$B$13),Display!$D4,)","v":0},null,null,{"$f":"((IF((SUM(B233:AF233))<>0,(SUM(B233:AF233)),0))/(IF((SUM((IF(B233<>0,3,0)),(IF(C233<>0,3,0)),(IF(D233<>0,3,0)),(IF(E233<>0,3,0)),(IF(F233<>0,3,0)),(IF(F233<>0,3,0)),(IF(F233<>0,3,0)),(IF(G233<>0,3,0)),(IF(H233<>0,3,0)),(IF(I233<>0,3,0)),(IF(J233<>0,3,0)),(IF(K233<>0,3,0)),(IF(L233<>0,3,0)),(IF(M233<>0,3,0)),(IF(N233<>0,3,0)),(IF(O233<>0,3,0)),(IF(P233<>0,3,0)),(IF(Q233<>0,3,0)),(IF(R233<>0,3,0)),(IF(S233<>0,3,0)),(IF(T233<>0,3,0)),(IF(U233<>0,3,0)),(IF(V233<>0,3,0)),(IF(W233<>0,3,0)),(IF(X233<>0,3,0)),(IF(Y233<>0,3,0)),(IF(Z233<>0,3,0)),(IF(AA233<>0,3,0)),(IF(AB233<>0,3,0)),(IF(AC233<>0,3,0)),(IF(AD233<>0,3,0)),(IF(AE233<>0,3,0)),(IF(AF233<>0,3,0))))<>0,((SUM((IF(B233<>0,3,0)),(IF(C233<>0,3,0)),(IF(D233<>0,3,0)),(IF(E233<>0,3,0)),(IF(F233<>0,3,0)),(IF(F233<>0,3,0)),(IF(F233<>0,3,0)),(IF(G233<>0,3,0)),(IF(H233<>0,3,0)),(IF(I233<>0,3,0)),(IF(J233<>0,3,0)),(IF(K233<>0,3,0)),(IF(L233<>0,3,0)),(IF(M233<>0,3,0)),(IF(N233<>0,3,0)),(IF(O233<>0,3,0)),(IF(P233<>0,3,0)),(IF(Q233<>0,3,0)),(IF(R233<>0,3,0)),(IF(S233<>0,3,0)),(IF(T233<>0,3,0)),(IF(U233<>0,3,0)),(IF(V233<>0,3,0)),(IF(W233<>0,3,0)),(IF(X233<>0,3,0)),(IF(Y233<>0,3,0)),(IF(Z233<>0,3,0)),(IF(AA233<>0,3,0)),(IF(AB233<>0,3,0)),(IF(AC233<>0,3,0)),(IF(AD233<>0,3,0)),(IF(AE233<>0,3,0)),(IF(AF233<>0,3,0))))),1)))","v":0}]
["MOYENNE",{"$f":"((IF((SUM(B233))<>0,(SUM(B233)),0))/(IF((SUM((IF(B233<>0,3,0))))<>0,((SUM((IF(B233<>0,3,0))))),1)))","v":0},{"$f":"((IF((SUM(C233))<>0,(SUM(C233)),0))/(IF((SUM((IF(C233<>0,3,0))))<>0,((SUM((IF(C233<>0,3,0))))),1)))","v":0},0,0,0,0,0,0,0,0,0,0,0,0,0,0,0,0,0,0,0,0,0,0,0,0,0,0,0,0,0,0,0]
[".02"]
["Propreté générale des sanitaires",{"$f":"IF(AND(B$8=Display!$T$10,'Lux4-sept'!$A$8=Display!$B$7,'Lux4-sept'!$A$227=Display!$B$9,'Lux4-sept'!$A$228=Display!$B$11,'Lux4-sept'!$A$235=Display!$B$13),Display!$D4,)","v":0},{"$f":"IF(AND(C$8=Display!$T$10,'Lux4-sept'!$A$8=Display!$B$7,'Lux4-sept'!$A$227=Display!$B$9,'Lux4-sept'!$A$228=Display!$B$11,'Lux4-sept'!$A$235=Display!$B$13),Display!$D4,)","v":0},{"$f":"IF(AND(D$8=Display!$T$10,'Lux4-sept'!$A$8=Display!$B$7,'Lux4-sept'!$A$227=Display!$B$9,'Lux4-sept'!$A$228=Display!$B$11,'Lux4-sept'!$A$235=Display!$B$13),Display!$D4,)","v":0},{"$f":"IF(AND(E$8=Display!$T$10,'Lux4-sept'!$A$8=Display!$B$7,'Lux4-sept'!$A$227=Display!$B$9,'Lux4-sept'!$A$228=Display!$B$11,'Lux4-sept'!$A$235=Display!$B$13),Display!$D4,)","v":0},{"$f":"IF(AND(F$8=Display!$T$10,'Lux4-sept'!$A$8=Display!$B$7,'Lux4-sept'!$A$227=Display!$B$9,'Lux4-sept'!$A$228=Display!$B$11,'Lux4-sept'!$A$235=Display!$B$13),Display!$D4,)","v":0},{"$f":"IF(AND(G$8=Display!$T$10,'Lux4-sept'!$A$8=Display!$B$7,'Lux4-sept'!$A$227=Display!$B$9,'Lux4-sept'!$A$228=Display!$B$11,'Lux4-sept'!$A$235=Display!$B$13),Display!$D4,)","v":0},{"$f":"IF(AND(H$8=Display!$T$10,'Lux4-sept'!$A$8=Display!$B$7,'Lux4-sept'!$A$227=Display!$B$9,'Lux4-sept'!$A$228=Display!$B$11,'Lux4-sept'!$A$235=Display!$B$13),Display!$D4,)","v":0},{"$f":"IF(AND(I$8=Display!$T$10,'Lux4-sept'!$A$8=Display!$B$7,'Lux4-sept'!$A$227=Display!$B$9,'Lux4-sept'!$A$228=Display!$B$11,'Lux4-sept'!$A$235=Display!$B$13),Display!$D4,)","v":0},{"$f":"IF(AND(J$8=Display!$T$10,'Lux4-sept'!$A$8=Display!$B$7,'Lux4-sept'!$A$227=Display!$B$9,'Lux4-sept'!$A$228=Display!$B$11,'Lux4-sept'!$A$235=Display!$B$13),Display!$D4,)","v":0},{"$f":"IF(AND(K$8=Display!$T$10,'Lux4-sept'!$A$8=Display!$B$7,'Lux4-sept'!$A$227=Display!$B$9,'Lux4-sept'!$A$228=Display!$B$11,'Lux4-sept'!$A$235=Display!$B$13),Display!$D4,)","v":0},{"$f":"IF(AND(L$8=Display!$T$10,'Lux4-sept'!$A$8=Display!$B$7,'Lux4-sept'!$A$227=Display!$B$9,'Lux4-sept'!$A$228=Display!$B$11,'Lux4-sept'!$A$235=Display!$B$13),Display!$D4,)","v":0},{"$f":"IF(AND(M$8=Display!$T$10,'Lux4-sept'!$A$8=Display!$B$7,'Lux4-sept'!$A$227=Display!$B$9,'Lux4-sept'!$A$228=Display!$B$11,'Lux4-sept'!$A$235=Display!$B$13),Display!$D4,)","v":0},{"$f":"IF(AND(N$8=Display!$T$10,'Lux4-sept'!$A$8=Display!$B$7,'Lux4-sept'!$A$227=Display!$B$9,'Lux4-sept'!$A$228=Display!$B$11,'Lux4-sept'!$A$235=Display!$B$13),Display!$D4,)","v":0},{"$f":"IF(AND(O$8=Display!$T$10,'Lux4-sept'!$A$8=Display!$B$7,'Lux4-sept'!$A$227=Display!$B$9,'Lux4-sept'!$A$228=Display!$B$11,'Lux4-sept'!$A$235=Display!$B$13),Display!$D4,)","v":0},{"$f":"IF(AND(P$8=Display!$T$10,'Lux4-sept'!$A$8=Display!$B$7,'Lux4-sept'!$A$227=Display!$B$9,'Lux4-sept'!$A$228=Display!$B$11,'Lux4-sept'!$A$235=Display!$B$13),Display!$D4,)","v":0},{"$f":"IF(AND(Q$8=Display!$T$10,'Lux4-sept'!$A$8=Display!$B$7,'Lux4-sept'!$A$227=Display!$B$9,'Lux4-sept'!$A$228=Display!$B$11,'Lux4-sept'!$A$235=Display!$B$13),Display!$D4,)","v":0},{"$f":"IF(AND(R$8=Display!$T$10,'Lux4-sept'!$A$8=Display!$B$7,'Lux4-sept'!$A$227=Display!$B$9,'Lux4-sept'!$A$228=Display!$B$11,'Lux4-sept'!$A$235=Display!$B$13),Display!$D4,)","v":0},{"$f":"IF(AND(S$8=Display!$T$10,'Lux4-sept'!$A$8=Display!$B$7,'Lux4-sept'!$A$227=Display!$B$9,'Lux4-sept'!$A$228=Display!$B$11,'Lux4-sept'!$A$235=Display!$B$13),Display!$D4,)","v":0},{"$f":"IF(AND(T$8=Display!$T$10,'Lux4-sept'!$A$8=Display!$B$7,'Lux4-sept'!$A$227=Display!$B$9,'Lux4-sept'!$A$228=Display!$B$11,'Lux4-sept'!$A$235=Display!$B$13),Display!$D4,)","v":0},{"$f":"IF(AND(U$8=Display!$T$10,'Lux4-sept'!$A$8=Display!$B$7,'Lux4-sept'!$A$227=Display!$B$9,'Lux4-sept'!$A$228=Display!$B$11,'Lux4-sept'!$A$235=Display!$B$13),Display!$D4,)","v":0},{"$f":"IF(AND(V$8=Display!$T$10,'Lux4-sept'!$A$8=Display!$B$7,'Lux4-sept'!$A$227=Display!$B$9,'Lux4-sept'!$A$228=Display!$B$11,'Lux4-sept'!$A$235=Display!$B$13),Display!$D4,)","v":0},{"$f":"IF(AND(W$8=Display!$T$10,'Lux4-sept'!$A$8=Display!$B$7,'Lux4-sept'!$A$227=Display!$B$9,'Lux4-sept'!$A$228=Display!$B$11,'Lux4-sept'!$A$235=Display!$B$13),Display!$D4,)","v":0},{"$f":"IF(AND(X$8=Display!$T$10,'Lux4-sept'!$A$8=Display!$B$7,'Lux4-sept'!$A$227=Display!$B$9,'Lux4-sept'!$A$228=Display!$B$11,'Lux4-sept'!$A$235=Display!$B$13),Display!$D4,)","v":0},{"$f":"IF(AND(Y$8=Display!$T$10,'Lux4-sept'!$A$8=Display!$B$7,'Lux4-sept'!$A$227=Display!$B$9,'Lux4-sept'!$A$228=Display!$B$11,'Lux4-sept'!$A$235=Display!$B$13),Display!$D4,)","v":0},{"$f":"IF(AND(Z$8=Display!$T$10,'Lux4-sept'!$A$8=Display!$B$7,'Lux4-sept'!$A$227=Display!$B$9,'Lux4-sept'!$A$228=Display!$B$11,'Lux4-sept'!$A$235=Display!$B$13),Display!$D4,)","v":0},{"$f":"IF(AND(AA$8=Display!$T$10,'Lux4-sept'!$A$8=Display!$B$7,'Lux4-sept'!$A$227=Display!$B$9,'Lux4-sept'!$A$228=Display!$B$11,'Lux4-sept'!$A$235=Display!$B$13),Display!$D4,)","v":0},{"$f":"IF(AND(AB$8=Display!$T$10,'Lux4-sept'!$A$8=Display!$B$7,'Lux4-sept'!$A$227=Display!$B$9,'Lux4-sept'!$A$228=Display!$B$11,'Lux4-sept'!$A$235=Display!$B$13),Display!$D4,)","v":0},{"$f":"IF(AND(AC$8=Display!$T$10,'Lux4-sept'!$A$8=Display!$B$7,'Lux4-sept'!$A$227=Display!$B$9,'Lux4-sept'!$A$228=Display!$B$11,'Lux4-sept'!$A$235=Display!$B$13),Display!$D4,)","v":0},{"$f":"IF(AND(AD$8=Display!$T$10,'Lux4-sept'!$A$8=Display!$B$7,'Lux4-sept'!$A$227=Display!$B$9,'Lux4-sept'!$A$228=Display!$B$11,'Lux4-sept'!$A$235=Display!$B$13),Display!$D4,)","v":0},{"$f":"IF(AND(AE$8=Display!$T$10,'Lux4-sept'!$A$8=Display!$B$7,'Lux4-sept'!$A$227=Display!$B$9,'Lux4-sept'!$A$228=Display!$B$11,'Lux4-sept'!$A$235=Display!$B$13),Display!$D4,)","v":0},{"$f":"IF(AND(AF$8=Display!$T$10,'Lux4-sept'!$A$8=Display!$B$7,'Lux4-sept'!$A$227=Display!$B$9,'Lux4-sept'!$A$228=Display!$B$11,'Lux4-sept'!$A$235=Display!$B$13),Display!$D4,)","v":0},null,null,{"$f":"((IF((SUM(B236:AF236))<>0,(SUM(B236:AF236)),0))/(IF((SUM((IF(B236<>0,3,0)),(IF(C236<>0,3,0)),(IF(D236<>0,3,0)),(IF(E236<>0,3,0)),(IF(F236<>0,3,0)),(IF(F236<>0,3,0)),(IF(F236<>0,3,0)),(IF(G236<>0,3,0)),(IF(H236<>0,3,0)),(IF(I236<>0,3,0)),(IF(J236<>0,3,0)),(IF(K236<>0,3,0)),(IF(L236<>0,3,0)),(IF(M236<>0,3,0)),(IF(N236<>0,3,0)),(IF(O236<>0,3,0)),(IF(P236<>0,3,0)),(IF(Q236<>0,3,0)),(IF(R236<>0,3,0)),(IF(S236<>0,3,0)),(IF(T236<>0,3,0)),(IF(U236<>0,3,0)),(IF(V236<>0,3,0)),(IF(W236<>0,3,0)),(IF(X236<>0,3,0)),(IF(Y236<>0,3,0)),(IF(Z236<>0,3,0)),(IF(AA236<>0,3,0)),(IF(AB236<>0,3,0)),(IF(AC236<>0,3,0)),(IF(AD236<>0,3,0)),(IF(AE236<>0,3,0)),(IF(AF236<>0,3,0))))<>0,((SUM((IF(B236<>0,3,0)),(IF(C236<>0,3,0)),(IF(D236<>0,3,0)),(IF(E236<>0,3,0)),(IF(F236<>0,3,0)),(IF(F236<>0,3,0)),(IF(F236<>0,3,0)),(IF(G236<>0,3,0)),(IF(H236<>0,3,0)),(IF(I236<>0,3,0)),(IF(J236<>0,3,0)),(IF(K236<>0,3,0)),(IF(L236<>0,3,0)),(IF(M236<>0,3,0)),(IF(N236<>0,3,0)),(IF(O236<>0,3,0)),(IF(P236<>0,3,0)),(IF(Q236<>0,3,0)),(IF(R236<>0,3,0)),(IF(S236<>0,3,0)),(IF(T236<>0,3,0)),(IF(U236<>0,3,0)),(IF(V236<>0,3,0)),(IF(W236<>0,3,0)),(IF(X236<>0,3,0)),(IF(Y236<>0,3,0)),(IF(Z236<>0,3,0)),(IF(AA236<>0,3,0)),(IF(AB236<>0,3,0)),(IF(AC236<>0,3,0)),(IF(AD236<>0,3,0)),(IF(AE236<>0,3,0)),(IF(AF236<>0,3,0))))),1)))","v":0}]
["MOYENNE",{"$f":"((IF((SUM(B236))<>0,(SUM(B236)),0))/(IF((SUM((IF(B236<>0,3,0))))<>0,((SUM((IF(B236<>0,3,0))))),1)))","v":0},{"$f":"((IF((SUM(C236))<>0,(SUM(C236)),0))/(IF((SUM((IF(C236<>0,3,0))))<>0,((SUM((IF(C236<>0,3,0))))),1)))","v":0},0,0,0,0,0,0,0,0,0,0,0,0,0,0,0,0,0,0,0,0,0,0,0,0,0,0,0,0,0,0,0]
[".03"]
["Propreté générale des sanitaires",{"$f":"IF(AND(B$8=Display!$T$10,'Lux4-sept'!$A$8=Display!$B$7,'Lux4-sept'!$A$227=Display!$B$9,'Lux4-sept'!$A$228=Display!$B$11,'Lux4-sept'!$A$238=Display!$B$13),Display!$D4,)","v":0},{"$f":"IF(AND(C$8=Display!$T$10,'Lux4-sept'!$A$8=Display!$B$7,'Lux4-sept'!$A$227=Display!$B$9,'Lux4-sept'!$A$228=Display!$B$11,'Lux4-sept'!$A$238=Display!$B$13),Display!$D4,)","v":0},{"$f":"IF(AND(D$8=Display!$T$10,'Lux4-sept'!$A$8=Display!$B$7,'Lux4-sept'!$A$227=Display!$B$9,'Lux4-sept'!$A$228=Display!$B$11,'Lux4-sept'!$A$238=Display!$B$13),Display!$D4,)","v":0},{"$f":"IF(AND(E$8=Display!$T$10,'Lux4-sept'!$A$8=Display!$B$7,'Lux4-sept'!$A$227=Display!$B$9,'Lux4-sept'!$A$228=Display!$B$11,'Lux4-sept'!$A$238=Display!$B$13),Display!$D4,)","v":0},{"$f":"IF(AND(F$8=Display!$T$10,'Lux4-sept'!$A$8=Display!$B$7,'Lux4-sept'!$A$227=Display!$B$9,'Lux4-sept'!$A$228=Display!$B$11,'Lux4-sept'!$A$238=Display!$B$13),Display!$D4,)","v":0},{"$f":"IF(AND(G$8=Display!$T$10,'Lux4-sept'!$A$8=Display!$B$7,'Lux4-sept'!$A$227=Display!$B$9,'Lux4-sept'!$A$228=Display!$B$11,'Lux4-sept'!$A$238=Display!$B$13),Display!$D4,)","v":0},{"$f":"IF(AND(H$8=Display!$T$10,'Lux4-sept'!$A$8=Display!$B$7,'Lux4-sept'!$A$227=Display!$B$9,'Lux4-sept'!$A$228=Display!$B$11,'Lux4-sept'!$A$238=Display!$B$13),Display!$D4,)","v":0},{"$f":"IF(AND(I$8=Display!$T$10,'Lux4-sept'!$A$8=Display!$B$7,'Lux4-sept'!$A$227=Display!$B$9,'Lux4-sept'!$A$228=Display!$B$11,'Lux4-sept'!$A$238=Display!$B$13),Display!$D4,)","v":0},{"$f":"IF(AND(J$8=Display!$T$10,'Lux4-sept'!$A$8=Display!$B$7,'Lux4-sept'!$A$227=Display!$B$9,'Lux4-sept'!$A$228=Display!$B$11,'Lux4-sept'!$A$238=Display!$B$13),Display!$D4,)","v":0},{"$f":"IF(AND(K$8=Display!$T$10,'Lux4-sept'!$A$8=Display!$B$7,'Lux4-sept'!$A$227=Display!$B$9,'Lux4-sept'!$A$228=Display!$B$11,'Lux4-sept'!$A$238=Display!$B$13),Display!$D4,)","v":0},{"$f":"IF(AND(L$8=Display!$T$10,'Lux4-sept'!$A$8=Display!$B$7,'Lux4-sept'!$A$227=Display!$B$9,'Lux4-sept'!$A$228=Display!$B$11,'Lux4-sept'!$A$238=Display!$B$13),Display!$D4,)","v":0},{"$f":"IF(AND(M$8=Display!$T$10,'Lux4-sept'!$A$8=Display!$B$7,'Lux4-sept'!$A$227=Display!$B$9,'Lux4-sept'!$A$228=Display!$B$11,'Lux4-sept'!$A$238=Display!$B$13),Display!$D4,)","v":0},{"$f":"IF(AND(N$8=Display!$T$10,'Lux4-sept'!$A$8=Display!$B$7,'Lux4-sept'!$A$227=Display!$B$9,'Lux4-sept'!$A$228=Display!$B$11,'Lux4-sept'!$A$238=Display!$B$13),Display!$D4,)","v":0},{"$f":"IF(AND(O$8=Display!$T$10,'Lux4-sept'!$A$8=Display!$B$7,'Lux4-sept'!$A$227=Display!$B$9,'Lux4-sept'!$A$228=Display!$B$11,'Lux4-sept'!$A$238=Display!$B$13),Display!$D4,)","v":0},{"$f":"IF(AND(P$8=Display!$T$10,'Lux4-sept'!$A$8=Display!$B$7,'Lux4-sept'!$A$227=Display!$B$9,'Lux4-sept'!$A$228=Display!$B$11,'Lux4-sept'!$A$238=Display!$B$13),Display!$D4,)","v":0},{"$f":"IF(AND(Q$8=Display!$T$10,'Lux4-sept'!$A$8=Display!$B$7,'Lux4-sept'!$A$227=Display!$B$9,'Lux4-sept'!$A$228=Display!$B$11,'Lux4-sept'!$A$238=Display!$B$13),Display!$D4,)","v":0},{"$f":"IF(AND(R$8=Display!$T$10,'Lux4-sept'!$A$8=Display!$B$7,'Lux4-sept'!$A$227=Display!$B$9,'Lux4-sept'!$A$228=Display!$B$11,'Lux4-sept'!$A$238=Display!$B$13),Display!$D4,)","v":0},{"$f":"IF(AND(S$8=Display!$T$10,'Lux4-sept'!$A$8=Display!$B$7,'Lux4-sept'!$A$227=Display!$B$9,'Lux4-sept'!$A$228=Display!$B$11,'Lux4-sept'!$A$238=Display!$B$13),Display!$D4,)","v":0},{"$f":"IF(AND(T$8=Display!$T$10,'Lux4-sept'!$A$8=Display!$B$7,'Lux4-sept'!$A$227=Display!$B$9,'Lux4-sept'!$A$228=Display!$B$11,'Lux4-sept'!$A$238=Display!$B$13),Display!$D4,)","v":0},{"$f":"IF(AND(U$8=Display!$T$10,'Lux4-sept'!$A$8=Display!$B$7,'Lux4-sept'!$A$227=Display!$B$9,'Lux4-sept'!$A$228=Display!$B$11,'Lux4-sept'!$A$238=Display!$B$13),Display!$D4,)","v":0},{"$f":"IF(AND(V$8=Display!$T$10,'Lux4-sept'!$A$8=Display!$B$7,'Lux4-sept'!$A$227=Display!$B$9,'Lux4-sept'!$A$228=Display!$B$11,'Lux4-sept'!$A$238=Display!$B$13),Display!$D4,)","v":0},{"$f":"IF(AND(W$8=Display!$T$10,'Lux4-sept'!$A$8=Display!$B$7,'Lux4-sept'!$A$227=Display!$B$9,'Lux4-sept'!$A$228=Display!$B$11,'Lux4-sept'!$A$238=Display!$B$13),Display!$D4,)","v":0},{"$f":"IF(AND(X$8=Display!$T$10,'Lux4-sept'!$A$8=Display!$B$7,'Lux4-sept'!$A$227=Display!$B$9,'Lux4-sept'!$A$228=Display!$B$11,'Lux4-sept'!$A$238=Display!$B$13),Display!$D4,)","v":0},{"$f":"IF(AND(Y$8=Display!$T$10,'Lux4-sept'!$A$8=Display!$B$7,'Lux4-sept'!$A$227=Display!$B$9,'Lux4-sept'!$A$228=Display!$B$11,'Lux4-sept'!$A$238=Display!$B$13),Display!$D4,)","v":0},{"$f":"IF(AND(Z$8=Display!$T$10,'Lux4-sept'!$A$8=Display!$B$7,'Lux4-sept'!$A$227=Display!$B$9,'Lux4-sept'!$A$228=Display!$B$11,'Lux4-sept'!$A$238=Display!$B$13),Display!$D4,)","v":0},{"$f":"IF(AND(AA$8=Display!$T$10,'Lux4-sept'!$A$8=Display!$B$7,'Lux4-sept'!$A$227=Display!$B$9,'Lux4-sept'!$A$228=Display!$B$11,'Lux4-sept'!$A$238=Display!$B$13),Display!$D4,)","v":0},{"$f":"IF(AND(AB$8=Display!$T$10,'Lux4-sept'!$A$8=Display!$B$7,'Lux4-sept'!$A$227=Display!$B$9,'Lux4-sept'!$A$228=Display!$B$11,'Lux4-sept'!$A$238=Display!$B$13),Display!$D4,)","v":0},{"$f":"IF(AND(AC$8=Display!$T$10,'Lux4-sept'!$A$8=Display!$B$7,'Lux4-sept'!$A$227=Display!$B$9,'Lux4-sept'!$A$228=Display!$B$11,'Lux4-sept'!$A$238=Display!$B$13),Display!$D4,)","v":0},{"$f":"IF(AND(AD$8=Display!$T$10,'Lux4-sept'!$A$8=Display!$B$7,'Lux4-sept'!$A$227=Display!$B$9,'Lux4-sept'!$A$228=Display!$B$11,'Lux4-sept'!$A$238=Display!$B$13),Display!$D4,)","v":0},{"$f":"IF(AND(AE$8=Display!$T$10,'Lux4-sept'!$A$8=Display!$B$7,'Lux4-sept'!$A$227=Display!$B$9,'Lux4-sept'!$A$228=Display!$B$11,'Lux4-sept'!$A$238=Display!$B$13),Display!$D4,)","v":0},{"$f":"IF(AND(AF$8=Display!$T$10,'Lux4-sept'!$A$8=Display!$B$7,'Lux4-sept'!$A$227=Display!$B$9,'Lux4-sept'!$A$228=Display!$B$11,'Lux4-sept'!$A$238=Display!$B$13),Display!$D4,)","v":0},null,null,{"$f":"((IF((SUM(B239:AF239))<>0,(SUM(B239:AF239)),0))/(IF((SUM((IF(B239<>0,3,0)),(IF(C239<>0,3,0)),(IF(D239<>0,3,0)),(IF(E239<>0,3,0)),(IF(F239<>0,3,0)),(IF(F239<>0,3,0)),(IF(F239<>0,3,0)),(IF(G239<>0,3,0)),(IF(H239<>0,3,0)),(IF(I239<>0,3,0)),(IF(J239<>0,3,0)),(IF(K239<>0,3,0)),(IF(L239<>0,3,0)),(IF(M239<>0,3,0)),(IF(N239<>0,3,0)),(IF(O239<>0,3,0)),(IF(P239<>0,3,0)),(IF(Q239<>0,3,0)),(IF(R239<>0,3,0)),(IF(S239<>0,3,0)),(IF(T239<>0,3,0)),(IF(U239<>0,3,0)),(IF(V239<>0,3,0)),(IF(W239<>0,3,0)),(IF(X239<>0,3,0)),(IF(Y239<>0,3,0)),(IF(Z239<>0,3,0)),(IF(AA239<>0,3,0)),(IF(AB239<>0,3,0)),(IF(AC239<>0,3,0)),(IF(AD239<>0,3,0)),(IF(AE239<>0,3,0)),(IF(AF239<>0,3,0))))<>0,((SUM((IF(B239<>0,3,0)),(IF(C239<>0,3,0)),(IF(D239<>0,3,0)),(IF(E239<>0,3,0)),(IF(F239<>0,3,0)),(IF(F239<>0,3,0)),(IF(F239<>0,3,0)),(IF(G239<>0,3,0)),(IF(H239<>0,3,0)),(IF(I239<>0,3,0)),(IF(J239<>0,3,0)),(IF(K239<>0,3,0)),(IF(L239<>0,3,0)),(IF(M239<>0,3,0)),(IF(N239<>0,3,0)),(IF(O239<>0,3,0)),(IF(P239<>0,3,0)),(IF(Q239<>0,3,0)),(IF(R239<>0,3,0)),(IF(S239<>0,3,0)),(IF(T239<>0,3,0)),(IF(U239<>0,3,0)),(IF(V239<>0,3,0)),(IF(W239<>0,3,0)),(IF(X239<>0,3,0)),(IF(Y239<>0,3,0)),(IF(Z239<>0,3,0)),(IF(AA239<>0,3,0)),(IF(AB239<>0,3,0)),(IF(AC239<>0,3,0)),(IF(AD239<>0,3,0)),(IF(AE239<>0,3,0)),(IF(AF239<>0,3,0))))),1)))","v":0}]
["MOYENNE",{"$f":"((IF((SUM(B239))<>0,(SUM(B239)),0))/(IF((SUM((IF(B239<>0,3,0))))<>0,((SUM((IF(B239<>0,3,0))))),1)))","v":0},{"$f":"((IF((SUM(C239))<>0,(SUM(C239)),0))/(IF((SUM((IF(C239<>0,3,0))))<>0,((SUM((IF(C239<>0,3,0))))),1)))","v":0},0,0,0,0,0,0,0,0,0,0,0,0,0,0,0,0,0,0,0,0,0,0,0,0,0,0,0,0,0,0,0]
[".04"]
["Propreté générale des sanitaires",{"$f":"IF(AND(B$8=Display!$T$10,'Lux4-sept'!$A$8=Display!$B$7,'Lux4-sept'!$A$227=Display!$B$9,'Lux4-sept'!$A$228=Display!$B$11,'Lux4-sept'!$A$241=Display!$B$13),Display!$D4,)","v":0},{"$f":"IF(AND(C$8=Display!$T$10,'Lux4-sept'!$A$8=Display!$B$7,'Lux4-sept'!$A$227=Display!$B$9,'Lux4-sept'!$A$228=Display!$B$11,'Lux4-sept'!$A$241=Display!$B$13),Display!$D4,)","v":0},{"$f":"IF(AND(D$8=Display!$T$10,'Lux4-sept'!$A$8=Display!$B$7,'Lux4-sept'!$A$227=Display!$B$9,'Lux4-sept'!$A$228=Display!$B$11,'Lux4-sept'!$A$241=Display!$B$13),Display!$D4,)","v":0},{"$f":"IF(AND(E$8=Display!$T$10,'Lux4-sept'!$A$8=Display!$B$7,'Lux4-sept'!$A$227=Display!$B$9,'Lux4-sept'!$A$228=Display!$B$11,'Lux4-sept'!$A$241=Display!$B$13),Display!$D4,)","v":0},{"$f":"IF(AND(F$8=Display!$T$10,'Lux4-sept'!$A$8=Display!$B$7,'Lux4-sept'!$A$227=Display!$B$9,'Lux4-sept'!$A$228=Display!$B$11,'Lux4-sept'!$A$241=Display!$B$13),Display!$D4,)","v":0},{"$f":"IF(AND(G$8=Display!$T$10,'Lux4-sept'!$A$8=Display!$B$7,'Lux4-sept'!$A$227=Display!$B$9,'Lux4-sept'!$A$228=Display!$B$11,'Lux4-sept'!$A$241=Display!$B$13),Display!$D4,)","v":0},{"$f":"IF(AND(H$8=Display!$T$10,'Lux4-sept'!$A$8=Display!$B$7,'Lux4-sept'!$A$227=Display!$B$9,'Lux4-sept'!$A$228=Display!$B$11,'Lux4-sept'!$A$241=Display!$B$13),Display!$D4,)","v":0},{"$f":"IF(AND(I$8=Display!$T$10,'Lux4-sept'!$A$8=Display!$B$7,'Lux4-sept'!$A$227=Display!$B$9,'Lux4-sept'!$A$228=Display!$B$11,'Lux4-sept'!$A$241=Display!$B$13),Display!$D4,)","v":0},{"$f":"IF(AND(J$8=Display!$T$10,'Lux4-sept'!$A$8=Display!$B$7,'Lux4-sept'!$A$227=Display!$B$9,'Lux4-sept'!$A$228=Display!$B$11,'Lux4-sept'!$A$241=Display!$B$13),Display!$D4,)","v":0},{"$f":"IF(AND(K$8=Display!$T$10,'Lux4-sept'!$A$8=Display!$B$7,'Lux4-sept'!$A$227=Display!$B$9,'Lux4-sept'!$A$228=Display!$B$11,'Lux4-sept'!$A$241=Display!$B$13),Display!$D4,)","v":0},{"$f":"IF(AND(L$8=Display!$T$10,'Lux4-sept'!$A$8=Display!$B$7,'Lux4-sept'!$A$227=Display!$B$9,'Lux4-sept'!$A$228=Display!$B$11,'Lux4-sept'!$A$241=Display!$B$13),Display!$D4,)","v":0},{"$f":"IF(AND(M$8=Display!$T$10,'Lux4-sept'!$A$8=Display!$B$7,'Lux4-sept'!$A$227=Display!$B$9,'Lux4-sept'!$A$228=Display!$B$11,'Lux4-sept'!$A$241=Display!$B$13),Display!$D4,)","v":0},{"$f":"IF(AND(N$8=Display!$T$10,'Lux4-sept'!$A$8=Display!$B$7,'Lux4-sept'!$A$227=Display!$B$9,'Lux4-sept'!$A$228=Display!$B$11,'Lux4-sept'!$A$241=Display!$B$13),Display!$D4,)","v":0},{"$f":"IF(AND(O$8=Display!$T$10,'Lux4-sept'!$A$8=Display!$B$7,'Lux4-sept'!$A$227=Display!$B$9,'Lux4-sept'!$A$228=Display!$B$11,'Lux4-sept'!$A$241=Display!$B$13),Display!$D4,)","v":0},{"$f":"IF(AND(P$8=Display!$T$10,'Lux4-sept'!$A$8=Display!$B$7,'Lux4-sept'!$A$227=Display!$B$9,'Lux4-sept'!$A$228=Display!$B$11,'Lux4-sept'!$A$241=Display!$B$13),Display!$D4,)","v":0},{"$f":"IF(AND(Q$8=Display!$T$10,'Lux4-sept'!$A$8=Display!$B$7,'Lux4-sept'!$A$227=Display!$B$9,'Lux4-sept'!$A$228=Display!$B$11,'Lux4-sept'!$A$241=Display!$B$13),Display!$D4,)","v":0},{"$f":"IF(AND(R$8=Display!$T$10,'Lux4-sept'!$A$8=Display!$B$7,'Lux4-sept'!$A$227=Display!$B$9,'Lux4-sept'!$A$228=Display!$B$11,'Lux4-sept'!$A$241=Display!$B$13),Display!$D4,)","v":0},{"$f":"IF(AND(S$8=Display!$T$10,'Lux4-sept'!$A$8=Display!$B$7,'Lux4-sept'!$A$227=Display!$B$9,'Lux4-sept'!$A$228=Display!$B$11,'Lux4-sept'!$A$241=Display!$B$13),Display!$D4,)","v":0},{"$f":"IF(AND(T$8=Display!$T$10,'Lux4-sept'!$A$8=Display!$B$7,'Lux4-sept'!$A$227=Display!$B$9,'Lux4-sept'!$A$228=Display!$B$11,'Lux4-sept'!$A$241=Display!$B$13),Display!$D4,)","v":0},{"$f":"IF(AND(U$8=Display!$T$10,'Lux4-sept'!$A$8=Display!$B$7,'Lux4-sept'!$A$227=Display!$B$9,'Lux4-sept'!$A$228=Display!$B$11,'Lux4-sept'!$A$241=Display!$B$13),Display!$D4,)","v":0},{"$f":"IF(AND(V$8=Display!$T$10,'Lux4-sept'!$A$8=Display!$B$7,'Lux4-sept'!$A$227=Display!$B$9,'Lux4-sept'!$A$228=Display!$B$11,'Lux4-sept'!$A$241=Display!$B$13),Display!$D4,)","v":0},{"$f":"IF(AND(W$8=Display!$T$10,'Lux4-sept'!$A$8=Display!$B$7,'Lux4-sept'!$A$227=Display!$B$9,'Lux4-sept'!$A$228=Display!$B$11,'Lux4-sept'!$A$241=Display!$B$13),Display!$D4,)","v":0},{"$f":"IF(AND(X$8=Display!$T$10,'Lux4-sept'!$A$8=Display!$B$7,'Lux4-sept'!$A$227=Display!$B$9,'Lux4-sept'!$A$228=Display!$B$11,'Lux4-sept'!$A$241=Display!$B$13),Display!$D4,)","v":0},{"$f":"IF(AND(Y$8=Display!$T$10,'Lux4-sept'!$A$8=Display!$B$7,'Lux4-sept'!$A$227=Display!$B$9,'Lux4-sept'!$A$228=Display!$B$11,'Lux4-sept'!$A$241=Display!$B$13),Display!$D4,)","v":0},{"$f":"IF(AND(Z$8=Display!$T$10,'Lux4-sept'!$A$8=Display!$B$7,'Lux4-sept'!$A$227=Display!$B$9,'Lux4-sept'!$A$228=Display!$B$11,'Lux4-sept'!$A$241=Display!$B$13),Display!$D4,)","v":0},{"$f":"IF(AND(AA$8=Display!$T$10,'Lux4-sept'!$A$8=Display!$B$7,'Lux4-sept'!$A$227=Display!$B$9,'Lux4-sept'!$A$228=Display!$B$11,'Lux4-sept'!$A$241=Display!$B$13),Display!$D4,)","v":0},{"$f":"IF(AND(AB$8=Display!$T$10,'Lux4-sept'!$A$8=Display!$B$7,'Lux4-sept'!$A$227=Display!$B$9,'Lux4-sept'!$A$228=Display!$B$11,'Lux4-sept'!$A$241=Display!$B$13),Display!$D4,)","v":0},{"$f":"IF(AND(AC$8=Display!$T$10,'Lux4-sept'!$A$8=Display!$B$7,'Lux4-sept'!$A$227=Display!$B$9,'Lux4-sept'!$A$228=Display!$B$11,'Lux4-sept'!$A$241=Display!$B$13),Display!$D4,)","v":0},{"$f":"IF(AND(AD$8=Display!$T$10,'Lux4-sept'!$A$8=Display!$B$7,'Lux4-sept'!$A$227=Display!$B$9,'Lux4-sept'!$A$228=Display!$B$11,'Lux4-sept'!$A$241=Display!$B$13),Display!$D4,)","v":0},{"$f":"IF(AND(AE$8=Display!$T$10,'Lux4-sept'!$A$8=Display!$B$7,'Lux4-sept'!$A$227=Display!$B$9,'Lux4-sept'!$A$228=Display!$B$11,'Lux4-sept'!$A$241=Display!$B$13),Display!$D4,)","v":0},{"$f":"IF(AND(AF$8=Display!$T$10,'Lux4-sept'!$A$8=Display!$B$7,'Lux4-sept'!$A$227=Display!$B$9,'Lux4-sept'!$A$228=Display!$B$11,'Lux4-sept'!$A$241=Display!$B$13),Display!$D4,)","v":0},null,null,{"$f":"((IF((SUM(B242:AF242))<>0,(SUM(B242:AF242)),0))/(IF((SUM((IF(B242<>0,3,0)),(IF(C242<>0,3,0)),(IF(D242<>0,3,0)),(IF(E242<>0,3,0)),(IF(F242<>0,3,0)),(IF(F242<>0,3,0)),(IF(F242<>0,3,0)),(IF(G242<>0,3,0)),(IF(H242<>0,3,0)),(IF(I242<>0,3,0)),(IF(J242<>0,3,0)),(IF(K242<>0,3,0)),(IF(L242<>0,3,0)),(IF(M242<>0,3,0)),(IF(N242<>0,3,0)),(IF(O242<>0,3,0)),(IF(P242<>0,3,0)),(IF(Q242<>0,3,0)),(IF(R242<>0,3,0)),(IF(S242<>0,3,0)),(IF(T242<>0,3,0)),(IF(U242<>0,3,0)),(IF(V242<>0,3,0)),(IF(W242<>0,3,0)),(IF(X242<>0,3,0)),(IF(Y242<>0,3,0)),(IF(Z242<>0,3,0)),(IF(AA242<>0,3,0)),(IF(AB242<>0,3,0)),(IF(AC242<>0,3,0)),(IF(AD242<>0,3,0)),(IF(AE242<>0,3,0)),(IF(AF242<>0,3,0))))<>0,((SUM((IF(B242<>0,3,0)),(IF(C242<>0,3,0)),(IF(D242<>0,3,0)),(IF(E242<>0,3,0)),(IF(F242<>0,3,0)),(IF(F242<>0,3,0)),(IF(F242<>0,3,0)),(IF(G242<>0,3,0)),(IF(H242<>0,3,0)),(IF(I242<>0,3,0)),(IF(J242<>0,3,0)),(IF(K242<>0,3,0)),(IF(L242<>0,3,0)),(IF(M242<>0,3,0)),(IF(N242<>0,3,0)),(IF(O242<>0,3,0)),(IF(P242<>0,3,0)),(IF(Q242<>0,3,0)),(IF(R242<>0,3,0)),(IF(S242<>0,3,0)),(IF(T242<>0,3,0)),(IF(U242<>0,3,0)),(IF(V242<>0,3,0)),(IF(W242<>0,3,0)),(IF(X242<>0,3,0)),(IF(Y242<>0,3,0)),(IF(Z242<>0,3,0)),(IF(AA242<>0,3,0)),(IF(AB242<>0,3,0)),(IF(AC242<>0,3,0)),(IF(AD242<>0,3,0)),(IF(AE242<>0,3,0)),(IF(AF242<>0,3,0))))),1)))","v":0}]
["MOYENNE",{"$f":"((IF((SUM(B242))<>0,(SUM(B242)),0))/(IF((SUM((IF(B242<>0,3,0))))<>0,((SUM((IF(B242<>0,3,0))))),1)))","v":0},{"$f":"((IF((SUM(C242))<>0,(SUM(C242)),0))/(IF((SUM((IF(C242<>0,3,0))))<>0,((SUM((IF(C242<>0,3,0))))),1)))","v":0},0,0,0,0,0,0,0,0,0,0,0,0,0,0,0,0,0,0,0,0,0,0,0,0,0,0,0,0,0,0,0]
["Soir"]
[".00"]
["Fourniture ingrédients sanitaires",{"$f":"IF(AND(B$8=Display!$T$10,'Lux4-sept'!$A$8=Display!$B$7,'Lux4-sept'!$A$227=Display!$B$9,'Lux4-sept'!$A$244=Display!$B$11,'Lux4-sept'!$A$245=Display!$B$13),Display!$D4,)","v":0},{"$f":"IF(AND(C$8=Display!$T$10,'Lux4-sept'!$A$8=Display!$B$7,'Lux4-sept'!$A$227=Display!$B$9,'Lux4-sept'!$A$244=Display!$B$11,'Lux4-sept'!$A$245=Display!$B$13),Display!$D4,)","v":0},{"$f":"IF(AND(D$8=Display!$T$10,'Lux4-sept'!$A$8=Display!$B$7,'Lux4-sept'!$A$227=Display!$B$9,'Lux4-sept'!$A$244=Display!$B$11,'Lux4-sept'!$A$245=Display!$B$13),Display!$D4,)","v":0},{"$f":"IF(AND(E$8=Display!$T$10,'Lux4-sept'!$A$8=Display!$B$7,'Lux4-sept'!$A$227=Display!$B$9,'Lux4-sept'!$A$244=Display!$B$11,'Lux4-sept'!$A$245=Display!$B$13),Display!$D4,)","v":0},{"$f":"IF(AND(F$8=Display!$T$10,'Lux4-sept'!$A$8=Display!$B$7,'Lux4-sept'!$A$227=Display!$B$9,'Lux4-sept'!$A$244=Display!$B$11,'Lux4-sept'!$A$245=Display!$B$13),Display!$D4,)","v":0},{"$f":"IF(AND(G$8=Display!$T$10,'Lux4-sept'!$A$8=Display!$B$7,'Lux4-sept'!$A$227=Display!$B$9,'Lux4-sept'!$A$244=Display!$B$11,'Lux4-sept'!$A$245=Display!$B$13),Display!$D4,)","v":0},{"$f":"IF(AND(H$8=Display!$T$10,'Lux4-sept'!$A$8=Display!$B$7,'Lux4-sept'!$A$227=Display!$B$9,'Lux4-sept'!$A$244=Display!$B$11,'Lux4-sept'!$A$245=Display!$B$13),Display!$D4,)","v":0},{"$f":"IF(AND(I$8=Display!$T$10,'Lux4-sept'!$A$8=Display!$B$7,'Lux4-sept'!$A$227=Display!$B$9,'Lux4-sept'!$A$244=Display!$B$11,'Lux4-sept'!$A$245=Display!$B$13),Display!$D4,)","v":0},{"$f":"IF(AND(J$8=Display!$T$10,'Lux4-sept'!$A$8=Display!$B$7,'Lux4-sept'!$A$227=Display!$B$9,'Lux4-sept'!$A$244=Display!$B$11,'Lux4-sept'!$A$245=Display!$B$13),Display!$D4,)","v":0},{"$f":"IF(AND(K$8=Display!$T$10,'Lux4-sept'!$A$8=Display!$B$7,'Lux4-sept'!$A$227=Display!$B$9,'Lux4-sept'!$A$244=Display!$B$11,'Lux4-sept'!$A$245=Display!$B$13),Display!$D4,)","v":0},{"$f":"IF(AND(L$8=Display!$T$10,'Lux4-sept'!$A$8=Display!$B$7,'Lux4-sept'!$A$227=Display!$B$9,'Lux4-sept'!$A$244=Display!$B$11,'Lux4-sept'!$A$245=Display!$B$13),Display!$D4,)","v":0},{"$f":"IF(AND(M$8=Display!$T$10,'Lux4-sept'!$A$8=Display!$B$7,'Lux4-sept'!$A$227=Display!$B$9,'Lux4-sept'!$A$244=Display!$B$11,'Lux4-sept'!$A$245=Display!$B$13),Display!$D4,)","v":0},{"$f":"IF(AND(N$8=Display!$T$10,'Lux4-sept'!$A$8=Display!$B$7,'Lux4-sept'!$A$227=Display!$B$9,'Lux4-sept'!$A$244=Display!$B$11,'Lux4-sept'!$A$245=Display!$B$13),Display!$D4,)","v":0},{"$f":"IF(AND(O$8=Display!$T$10,'Lux4-sept'!$A$8=Display!$B$7,'Lux4-sept'!$A$227=Display!$B$9,'Lux4-sept'!$A$244=Display!$B$11,'Lux4-sept'!$A$245=Display!$B$13),Display!$D4,)","v":0},{"$f":"IF(AND(P$8=Display!$T$10,'Lux4-sept'!$A$8=Display!$B$7,'Lux4-sept'!$A$227=Display!$B$9,'Lux4-sept'!$A$244=Display!$B$11,'Lux4-sept'!$A$245=Display!$B$13),Display!$D4,)","v":0},{"$f":"IF(AND(Q$8=Display!$T$10,'Lux4-sept'!$A$8=Display!$B$7,'Lux4-sept'!$A$227=Display!$B$9,'Lux4-sept'!$A$244=Display!$B$11,'Lux4-sept'!$A$245=Display!$B$13),Display!$D4,)","v":0},{"$f":"IF(AND(R$8=Display!$T$10,'Lux4-sept'!$A$8=Display!$B$7,'Lux4-sept'!$A$227=Display!$B$9,'Lux4-sept'!$A$244=Display!$B$11,'Lux4-sept'!$A$245=Display!$B$13),Display!$D4,)","v":0},{"$f":"IF(AND(S$8=Display!$T$10,'Lux4-sept'!$A$8=Display!$B$7,'Lux4-sept'!$A$227=Display!$B$9,'Lux4-sept'!$A$244=Display!$B$11,'Lux4-sept'!$A$245=Display!$B$13),Display!$D4,)","v":0},{"$f":"IF(AND(T$8=Display!$T$10,'Lux4-sept'!$A$8=Display!$B$7,'Lux4-sept'!$A$227=Display!$B$9,'Lux4-sept'!$A$244=Display!$B$11,'Lux4-sept'!$A$245=Display!$B$13),Display!$D4,)","v":0},{"$f":"IF(AND(U$8=Display!$T$10,'Lux4-sept'!$A$8=Display!$B$7,'Lux4-sept'!$A$227=Display!$B$9,'Lux4-sept'!$A$244=Display!$B$11,'Lux4-sept'!$A$245=Display!$B$13),Display!$D4,)","v":0},{"$f":"IF(AND(V$8=Display!$T$10,'Lux4-sept'!$A$8=Display!$B$7,'Lux4-sept'!$A$227=Display!$B$9,'Lux4-sept'!$A$244=Display!$B$11,'Lux4-sept'!$A$245=Display!$B$13),Display!$D4,)","v":0},{"$f":"IF(AND(W$8=Display!$T$10,'Lux4-sept'!$A$8=Display!$B$7,'Lux4-sept'!$A$227=Display!$B$9,'Lux4-sept'!$A$244=Display!$B$11,'Lux4-sept'!$A$245=Display!$B$13),Display!$D4,)","v":0},{"$f":"IF(AND(X$8=Display!$T$10,'Lux4-sept'!$A$8=Display!$B$7,'Lux4-sept'!$A$227=Display!$B$9,'Lux4-sept'!$A$244=Display!$B$11,'Lux4-sept'!$A$245=Display!$B$13),Display!$D4,)","v":0},{"$f":"IF(AND(Y$8=Display!$T$10,'Lux4-sept'!$A$8=Display!$B$7,'Lux4-sept'!$A$227=Display!$B$9,'Lux4-sept'!$A$244=Display!$B$11,'Lux4-sept'!$A$245=Display!$B$13),Display!$D4,)","v":0},{"$f":"IF(AND(Z$8=Display!$T$10,'Lux4-sept'!$A$8=Display!$B$7,'Lux4-sept'!$A$227=Display!$B$9,'Lux4-sept'!$A$244=Display!$B$11,'Lux4-sept'!$A$245=Display!$B$13),Display!$D4,)","v":0},{"$f":"IF(AND(AA$8=Display!$T$10,'Lux4-sept'!$A$8=Display!$B$7,'Lux4-sept'!$A$227=Display!$B$9,'Lux4-sept'!$A$244=Display!$B$11,'Lux4-sept'!$A$245=Display!$B$13),Display!$D4,)","v":0},{"$f":"IF(AND(AB$8=Display!$T$10,'Lux4-sept'!$A$8=Display!$B$7,'Lux4-sept'!$A$227=Display!$B$9,'Lux4-sept'!$A$244=Display!$B$11,'Lux4-sept'!$A$245=Display!$B$13),Display!$D4,)","v":0},{"$f":"IF(AND(AC$8=Display!$T$10,'Lux4-sept'!$A$8=Display!$B$7,'Lux4-sept'!$A$227=Display!$B$9,'Lux4-sept'!$A$244=Display!$B$11,'Lux4-sept'!$A$245=Display!$B$13),Display!$D4,)","v":0},{"$f":"IF(AND(AD$8=Display!$T$10,'Lux4-sept'!$A$8=Display!$B$7,'Lux4-sept'!$A$227=Display!$B$9,'Lux4-sept'!$A$244=Display!$B$11,'Lux4-sept'!$A$245=Display!$B$13),Display!$D4,)","v":0},{"$f":"IF(AND(AE$8=Display!$T$10,'Lux4-sept'!$A$8=Display!$B$7,'Lux4-sept'!$A$227=Display!$B$9,'Lux4-sept'!$A$244=Display!$B$11,'Lux4-sept'!$A$245=Display!$B$13),Display!$D4,)","v":0},{"$f":"IF(AND(AF$8=Display!$T$10,'Lux4-sept'!$A$8=Display!$B$7,'Lux4-sept'!$A$227=Display!$B$9,'Lux4-sept'!$A$244=Display!$B$11,'Lux4-sept'!$A$245=Display!$B$13),Display!$D4,)","v":0},null,null,{"$f":"((IF((SUM(B246:AF246))<>0,(SUM(B246:AF246)),0))/(IF((SUM((IF(B246<>0,3,0)),(IF(C246<>0,3,0)),(IF(D246<>0,3,0)),(IF(E246<>0,3,0)),(IF(F246<>0,3,0)),(IF(F246<>0,3,0)),(IF(F246<>0,3,0)),(IF(G246<>0,3,0)),(IF(H246<>0,3,0)),(IF(I246<>0,3,0)),(IF(J246<>0,3,0)),(IF(K246<>0,3,0)),(IF(L246<>0,3,0)),(IF(M246<>0,3,0)),(IF(N246<>0,3,0)),(IF(O246<>0,3,0)),(IF(P246<>0,3,0)),(IF(Q246<>0,3,0)),(IF(R246<>0,3,0)),(IF(S246<>0,3,0)),(IF(T246<>0,3,0)),(IF(U246<>0,3,0)),(IF(V246<>0,3,0)),(IF(W246<>0,3,0)),(IF(X246<>0,3,0)),(IF(Y246<>0,3,0)),(IF(Z246<>0,3,0)),(IF(AA246<>0,3,0)),(IF(AB246<>0,3,0)),(IF(AC246<>0,3,0)),(IF(AD246<>0,3,0)),(IF(AE246<>0,3,0)),(IF(AF246<>0,3,0))))<>0,((SUM((IF(B246<>0,3,0)),(IF(C246<>0,3,0)),(IF(D246<>0,3,0)),(IF(E246<>0,3,0)),(IF(F246<>0,3,0)),(IF(F246<>0,3,0)),(IF(F246<>0,3,0)),(IF(G246<>0,3,0)),(IF(H246<>0,3,0)),(IF(I246<>0,3,0)),(IF(J246<>0,3,0)),(IF(K246<>0,3,0)),(IF(L246<>0,3,0)),(IF(M246<>0,3,0)),(IF(N246<>0,3,0)),(IF(O246<>0,3,0)),(IF(P246<>0,3,0)),(IF(Q246<>0,3,0)),(IF(R246<>0,3,0)),(IF(S246<>0,3,0)),(IF(T246<>0,3,0)),(IF(U246<>0,3,0)),(IF(V246<>0,3,0)),(IF(W246<>0,3,0)),(IF(X246<>0,3,0)),(IF(Y246<>0,3,0)),(IF(Z246<>0,3,0)),(IF(AA246<>0,3,0)),(IF(AB246<>0,3,0)),(IF(AC246<>0,3,0)),(IF(AD246<>0,3,0)),(IF(AE246<>0,3,0)),(IF(AF246<>0,3,0))))),1)))","v":0}]
["Nettoyage des sols",{"$f":"IF(AND(B$8=Display!$T$10,'Lux4-sept'!$A$8=Display!$B$7,'Lux4-sept'!$A$227=Display!$B$9,'Lux4-sept'!$A$244=Display!$B$11,'Lux4-sept'!$A$245=Display!$B$13),Display!$D5,)","v":0},{"$f":"IF(AND(C$8=Display!$T$10,'Lux4-sept'!$A$8=Display!$B$7,'Lux4-sept'!$A$227=Display!$B$9,'Lux4-sept'!$A$244=Display!$B$11,'Lux4-sept'!$A$245=Display!$B$13),Display!$D5,)","v":0},{"$f":"IF(AND(D$8=Display!$T$10,'Lux4-sept'!$A$8=Display!$B$7,'Lux4-sept'!$A$227=Display!$B$9,'Lux4-sept'!$A$244=Display!$B$11,'Lux4-sept'!$A$245=Display!$B$13),Display!$D5,)","v":0},{"$f":"IF(AND(E$8=Display!$T$10,'Lux4-sept'!$A$8=Display!$B$7,'Lux4-sept'!$A$227=Display!$B$9,'Lux4-sept'!$A$244=Display!$B$11,'Lux4-sept'!$A$245=Display!$B$13),Display!$D5,)","v":0},{"$f":"IF(AND(F$8=Display!$T$10,'Lux4-sept'!$A$8=Display!$B$7,'Lux4-sept'!$A$227=Display!$B$9,'Lux4-sept'!$A$244=Display!$B$11,'Lux4-sept'!$A$245=Display!$B$13),Display!$D5,)","v":0},{"$f":"IF(AND(G$8=Display!$T$10,'Lux4-sept'!$A$8=Display!$B$7,'Lux4-sept'!$A$227=Display!$B$9,'Lux4-sept'!$A$244=Display!$B$11,'Lux4-sept'!$A$245=Display!$B$13),Display!$D5,)","v":0},{"$f":"IF(AND(H$8=Display!$T$10,'Lux4-sept'!$A$8=Display!$B$7,'Lux4-sept'!$A$227=Display!$B$9,'Lux4-sept'!$A$244=Display!$B$11,'Lux4-sept'!$A$245=Display!$B$13),Display!$D5,)","v":0},{"$f":"IF(AND(I$8=Display!$T$10,'Lux4-sept'!$A$8=Display!$B$7,'Lux4-sept'!$A$227=Display!$B$9,'Lux4-sept'!$A$244=Display!$B$11,'Lux4-sept'!$A$245=Display!$B$13),Display!$D5,)","v":0},{"$f":"IF(AND(J$8=Display!$T$10,'Lux4-sept'!$A$8=Display!$B$7,'Lux4-sept'!$A$227=Display!$B$9,'Lux4-sept'!$A$244=Display!$B$11,'Lux4-sept'!$A$245=Display!$B$13),Display!$D5,)","v":0},{"$f":"IF(AND(K$8=Display!$T$10,'Lux4-sept'!$A$8=Display!$B$7,'Lux4-sept'!$A$227=Display!$B$9,'Lux4-sept'!$A$244=Display!$B$11,'Lux4-sept'!$A$245=Display!$B$13),Display!$D5,)","v":0},{"$f":"IF(AND(L$8=Display!$T$10,'Lux4-sept'!$A$8=Display!$B$7,'Lux4-sept'!$A$227=Display!$B$9,'Lux4-sept'!$A$244=Display!$B$11,'Lux4-sept'!$A$245=Display!$B$13),Display!$D5,)","v":0},{"$f":"IF(AND(M$8=Display!$T$10,'Lux4-sept'!$A$8=Display!$B$7,'Lux4-sept'!$A$227=Display!$B$9,'Lux4-sept'!$A$244=Display!$B$11,'Lux4-sept'!$A$245=Display!$B$13),Display!$D5,)","v":0},{"$f":"IF(AND(N$8=Display!$T$10,'Lux4-sept'!$A$8=Display!$B$7,'Lux4-sept'!$A$227=Display!$B$9,'Lux4-sept'!$A$244=Display!$B$11,'Lux4-sept'!$A$245=Display!$B$13),Display!$D5,)","v":0},{"$f":"IF(AND(O$8=Display!$T$10,'Lux4-sept'!$A$8=Display!$B$7,'Lux4-sept'!$A$227=Display!$B$9,'Lux4-sept'!$A$244=Display!$B$11,'Lux4-sept'!$A$245=Display!$B$13),Display!$D5,)","v":0},{"$f":"IF(AND(P$8=Display!$T$10,'Lux4-sept'!$A$8=Display!$B$7,'Lux4-sept'!$A$227=Display!$B$9,'Lux4-sept'!$A$244=Display!$B$11,'Lux4-sept'!$A$245=Display!$B$13),Display!$D5,)","v":0},{"$f":"IF(AND(Q$8=Display!$T$10,'Lux4-sept'!$A$8=Display!$B$7,'Lux4-sept'!$A$227=Display!$B$9,'Lux4-sept'!$A$244=Display!$B$11,'Lux4-sept'!$A$245=Display!$B$13),Display!$D5,)","v":0},{"$f":"IF(AND(R$8=Display!$T$10,'Lux4-sept'!$A$8=Display!$B$7,'Lux4-sept'!$A$227=Display!$B$9,'Lux4-sept'!$A$244=Display!$B$11,'Lux4-sept'!$A$245=Display!$B$13),Display!$D5,)","v":0},{"$f":"IF(AND(S$8=Display!$T$10,'Lux4-sept'!$A$8=Display!$B$7,'Lux4-sept'!$A$227=Display!$B$9,'Lux4-sept'!$A$244=Display!$B$11,'Lux4-sept'!$A$245=Display!$B$13),Display!$D5,)","v":0},{"$f":"IF(AND(T$8=Display!$T$10,'Lux4-sept'!$A$8=Display!$B$7,'Lux4-sept'!$A$227=Display!$B$9,'Lux4-sept'!$A$244=Display!$B$11,'Lux4-sept'!$A$245=Display!$B$13),Display!$D5,)","v":0},{"$f":"IF(AND(U$8=Display!$T$10,'Lux4-sept'!$A$8=Display!$B$7,'Lux4-sept'!$A$227=Display!$B$9,'Lux4-sept'!$A$244=Display!$B$11,'Lux4-sept'!$A$245=Display!$B$13),Display!$D5,)","v":0},{"$f":"IF(AND(V$8=Display!$T$10,'Lux4-sept'!$A$8=Display!$B$7,'Lux4-sept'!$A$227=Display!$B$9,'Lux4-sept'!$A$244=Display!$B$11,'Lux4-sept'!$A$245=Display!$B$13),Display!$D5,)","v":0},{"$f":"IF(AND(W$8=Display!$T$10,'Lux4-sept'!$A$8=Display!$B$7,'Lux4-sept'!$A$227=Display!$B$9,'Lux4-sept'!$A$244=Display!$B$11,'Lux4-sept'!$A$245=Display!$B$13),Display!$D5,)","v":0},{"$f":"IF(AND(X$8=Display!$T$10,'Lux4-sept'!$A$8=Display!$B$7,'Lux4-sept'!$A$227=Display!$B$9,'Lux4-sept'!$A$244=Display!$B$11,'Lux4-sept'!$A$245=Display!$B$13),Display!$D5,)","v":0},{"$f":"IF(AND(Y$8=Display!$T$10,'Lux4-sept'!$A$8=Display!$B$7,'Lux4-sept'!$A$227=Display!$B$9,'Lux4-sept'!$A$244=Display!$B$11,'Lux4-sept'!$A$245=Display!$B$13),Display!$D5,)","v":0},{"$f":"IF(AND(Z$8=Display!$T$10,'Lux4-sept'!$A$8=Display!$B$7,'Lux4-sept'!$A$227=Display!$B$9,'Lux4-sept'!$A$244=Display!$B$11,'Lux4-sept'!$A$245=Display!$B$13),Display!$D5,)","v":0},{"$f":"IF(AND(AA$8=Display!$T$10,'Lux4-sept'!$A$8=Display!$B$7,'Lux4-sept'!$A$227=Display!$B$9,'Lux4-sept'!$A$244=Display!$B$11,'Lux4-sept'!$A$245=Display!$B$13),Display!$D5,)","v":0},{"$f":"IF(AND(AB$8=Display!$T$10,'Lux4-sept'!$A$8=Display!$B$7,'Lux4-sept'!$A$227=Display!$B$9,'Lux4-sept'!$A$244=Display!$B$11,'Lux4-sept'!$A$245=Display!$B$13),Display!$D5,)","v":0},{"$f":"IF(AND(AC$8=Display!$T$10,'Lux4-sept'!$A$8=Display!$B$7,'Lux4-sept'!$A$227=Display!$B$9,'Lux4-sept'!$A$244=Display!$B$11,'Lux4-sept'!$A$245=Display!$B$13),Display!$D5,)","v":0},{"$f":"IF(AND(AD$8=Display!$T$10,'Lux4-sept'!$A$8=Display!$B$7,'Lux4-sept'!$A$227=Display!$B$9,'Lux4-sept'!$A$244=Display!$B$11,'Lux4-sept'!$A$245=Display!$B$13),Display!$D5,)","v":0},{"$f":"IF(AND(AE$8=Display!$T$10,'Lux4-sept'!$A$8=Display!$B$7,'Lux4-sept'!$A$227=Display!$B$9,'Lux4-sept'!$A$244=Display!$B$11,'Lux4-sept'!$A$245=Display!$B$13),Display!$D5,)","v":0},{"$f":"IF(AND(AF$8=Display!$T$10,'Lux4-sept'!$A$8=Display!$B$7,'Lux4-sept'!$A$227=Display!$B$9,'Lux4-sept'!$A$244=Display!$B$11,'Lux4-sept'!$A$245=Display!$B$13),Display!$D5,)","v":0},null,null,{"$f":"((IF((SUM(B247:AF247))<>0,(SUM(B247:AF247)),0))/(IF((SUM((IF(B247<>0,3,0)),(IF(C247<>0,3,0)),(IF(D247<>0,3,0)),(IF(E247<>0,3,0)),(IF(F247<>0,3,0)),(IF(F247<>0,3,0)),(IF(F247<>0,3,0)),(IF(G247<>0,3,0)),(IF(H247<>0,3,0)),(IF(I247<>0,3,0)),(IF(J247<>0,3,0)),(IF(K247<>0,3,0)),(IF(L247<>0,3,0)),(IF(M247<>0,3,0)),(IF(N247<>0,3,0)),(IF(O247<>0,3,0)),(IF(P247<>0,3,0)),(IF(Q247<>0,3,0)),(IF(R247<>0,3,0)),(IF(S247<>0,3,0)),(IF(T247<>0,3,0)),(IF(U247<>0,3,0)),(IF(V247<>0,3,0)),(IF(W247<>0,3,0)),(IF(X247<>0,3,0)),(IF(Y247<>0,3,0)),(IF(Z247<>0,3,0)),(IF(AA247<>0,3,0)),(IF(AB247<>0,3,0)),(IF(AC247<>0,3,0)),(IF(AD247<>0,3,0)),(IF(AE247<>0,3,0)),(IF(AF247<>0,3,0))))<>0,((SUM((IF(B247<>0,3,0)),(IF(C247<>0,3,0)),(IF(D247<>0,3,0)),(IF(E247<>0,3,0)),(IF(F247<>0,3,0)),(IF(F247<>0,3,0)),(IF(F247<>0,3,0)),(IF(G247<>0,3,0)),(IF(H247<>0,3,0)),(IF(I247<>0,3,0)),(IF(J247<>0,3,0)),(IF(K247<>0,3,0)),(IF(L247<>0,3,0)),(IF(M247<>0,3,0)),(IF(N247<>0,3,0)),(IF(O247<>0,3,0)),(IF(P247<>0,3,0)),(IF(Q247<>0,3,0)),(IF(R247<>0,3,0)),(IF(S247<>0,3,0)),(IF(T247<>0,3,0)),(IF(U247<>0,3,0)),(IF(V247<>0,3,0)),(IF(W247<>0,3,0)),(IF(X247<>0,3,0)),(IF(Y247<>0,3,0)),(IF(Z247<>0,3,0)),(IF(AA247<>0,3,0)),(IF(AB247<>0,3,0)),(IF(AC247<>0,3,0)),(IF(AD247<>0,3,0)),(IF(AE247<>0,3,0)),(IF(AF247<>0,3,0))))),1)))","v":0}]
["Propreté des Murs",{"$f":"IF(AND(B$8=Display!$T$10,'Lux4-sept'!$A$8=Display!$B$7,'Lux4-sept'!$A$227=Display!$B$9,'Lux4-sept'!$A$244=Display!$B$11,'Lux4-sept'!$A$245=Display!$B$13),Display!$D6,)","v":0},{"$f":"IF(AND(C$8=Display!$T$10,'Lux4-sept'!$A$8=Display!$B$7,'Lux4-sept'!$A$227=Display!$B$9,'Lux4-sept'!$A$244=Display!$B$11,'Lux4-sept'!$A$245=Display!$B$13),Display!$D6,)","v":0},{"$f":"IF(AND(D$8=Display!$T$10,'Lux4-sept'!$A$8=Display!$B$7,'Lux4-sept'!$A$227=Display!$B$9,'Lux4-sept'!$A$244=Display!$B$11,'Lux4-sept'!$A$245=Display!$B$13),Display!$D6,)","v":0},{"$f":"IF(AND(E$8=Display!$T$10,'Lux4-sept'!$A$8=Display!$B$7,'Lux4-sept'!$A$227=Display!$B$9,'Lux4-sept'!$A$244=Display!$B$11,'Lux4-sept'!$A$245=Display!$B$13),Display!$D6,)","v":0},{"$f":"IF(AND(F$8=Display!$T$10,'Lux4-sept'!$A$8=Display!$B$7,'Lux4-sept'!$A$227=Display!$B$9,'Lux4-sept'!$A$244=Display!$B$11,'Lux4-sept'!$A$245=Display!$B$13),Display!$D6,)","v":0},{"$f":"IF(AND(G$8=Display!$T$10,'Lux4-sept'!$A$8=Display!$B$7,'Lux4-sept'!$A$227=Display!$B$9,'Lux4-sept'!$A$244=Display!$B$11,'Lux4-sept'!$A$245=Display!$B$13),Display!$D6,)","v":0},{"$f":"IF(AND(H$8=Display!$T$10,'Lux4-sept'!$A$8=Display!$B$7,'Lux4-sept'!$A$227=Display!$B$9,'Lux4-sept'!$A$244=Display!$B$11,'Lux4-sept'!$A$245=Display!$B$13),Display!$D6,)","v":0},{"$f":"IF(AND(I$8=Display!$T$10,'Lux4-sept'!$A$8=Display!$B$7,'Lux4-sept'!$A$227=Display!$B$9,'Lux4-sept'!$A$244=Display!$B$11,'Lux4-sept'!$A$245=Display!$B$13),Display!$D6,)","v":0},{"$f":"IF(AND(J$8=Display!$T$10,'Lux4-sept'!$A$8=Display!$B$7,'Lux4-sept'!$A$227=Display!$B$9,'Lux4-sept'!$A$244=Display!$B$11,'Lux4-sept'!$A$245=Display!$B$13),Display!$D6,)","v":0},{"$f":"IF(AND(K$8=Display!$T$10,'Lux4-sept'!$A$8=Display!$B$7,'Lux4-sept'!$A$227=Display!$B$9,'Lux4-sept'!$A$244=Display!$B$11,'Lux4-sept'!$A$245=Display!$B$13),Display!$D6,)","v":0},{"$f":"IF(AND(L$8=Display!$T$10,'Lux4-sept'!$A$8=Display!$B$7,'Lux4-sept'!$A$227=Display!$B$9,'Lux4-sept'!$A$244=Display!$B$11,'Lux4-sept'!$A$245=Display!$B$13),Display!$D6,)","v":0},{"$f":"IF(AND(M$8=Display!$T$10,'Lux4-sept'!$A$8=Display!$B$7,'Lux4-sept'!$A$227=Display!$B$9,'Lux4-sept'!$A$244=Display!$B$11,'Lux4-sept'!$A$245=Display!$B$13),Display!$D6,)","v":0},{"$f":"IF(AND(N$8=Display!$T$10,'Lux4-sept'!$A$8=Display!$B$7,'Lux4-sept'!$A$227=Display!$B$9,'Lux4-sept'!$A$244=Display!$B$11,'Lux4-sept'!$A$245=Display!$B$13),Display!$D6,)","v":0},{"$f":"IF(AND(O$8=Display!$T$10,'Lux4-sept'!$A$8=Display!$B$7,'Lux4-sept'!$A$227=Display!$B$9,'Lux4-sept'!$A$244=Display!$B$11,'Lux4-sept'!$A$245=Display!$B$13),Display!$D6,)","v":0},{"$f":"IF(AND(P$8=Display!$T$10,'Lux4-sept'!$A$8=Display!$B$7,'Lux4-sept'!$A$227=Display!$B$9,'Lux4-sept'!$A$244=Display!$B$11,'Lux4-sept'!$A$245=Display!$B$13),Display!$D6,)","v":0},{"$f":"IF(AND(Q$8=Display!$T$10,'Lux4-sept'!$A$8=Display!$B$7,'Lux4-sept'!$A$227=Display!$B$9,'Lux4-sept'!$A$244=Display!$B$11,'Lux4-sept'!$A$245=Display!$B$13),Display!$D6,)","v":0},{"$f":"IF(AND(R$8=Display!$T$10,'Lux4-sept'!$A$8=Display!$B$7,'Lux4-sept'!$A$227=Display!$B$9,'Lux4-sept'!$A$244=Display!$B$11,'Lux4-sept'!$A$245=Display!$B$13),Display!$D6,)","v":0},{"$f":"IF(AND(S$8=Display!$T$10,'Lux4-sept'!$A$8=Display!$B$7,'Lux4-sept'!$A$227=Display!$B$9,'Lux4-sept'!$A$244=Display!$B$11,'Lux4-sept'!$A$245=Display!$B$13),Display!$D6,)","v":0},{"$f":"IF(AND(T$8=Display!$T$10,'Lux4-sept'!$A$8=Display!$B$7,'Lux4-sept'!$A$227=Display!$B$9,'Lux4-sept'!$A$244=Display!$B$11,'Lux4-sept'!$A$245=Display!$B$13),Display!$D6,)","v":0},{"$f":"IF(AND(U$8=Display!$T$10,'Lux4-sept'!$A$8=Display!$B$7,'Lux4-sept'!$A$227=Display!$B$9,'Lux4-sept'!$A$244=Display!$B$11,'Lux4-sept'!$A$245=Display!$B$13),Display!$D6,)","v":0},{"$f":"IF(AND(V$8=Display!$T$10,'Lux4-sept'!$A$8=Display!$B$7,'Lux4-sept'!$A$227=Display!$B$9,'Lux4-sept'!$A$244=Display!$B$11,'Lux4-sept'!$A$245=Display!$B$13),Display!$D6,)","v":0},{"$f":"IF(AND(W$8=Display!$T$10,'Lux4-sept'!$A$8=Display!$B$7,'Lux4-sept'!$A$227=Display!$B$9,'Lux4-sept'!$A$244=Display!$B$11,'Lux4-sept'!$A$245=Display!$B$13),Display!$D6,)","v":0},{"$f":"IF(AND(X$8=Display!$T$10,'Lux4-sept'!$A$8=Display!$B$7,'Lux4-sept'!$A$227=Display!$B$9,'Lux4-sept'!$A$244=Display!$B$11,'Lux4-sept'!$A$245=Display!$B$13),Display!$D6,)","v":0},{"$f":"IF(AND(Y$8=Display!$T$10,'Lux4-sept'!$A$8=Display!$B$7,'Lux4-sept'!$A$227=Display!$B$9,'Lux4-sept'!$A$244=Display!$B$11,'Lux4-sept'!$A$245=Display!$B$13),Display!$D6,)","v":0},{"$f":"IF(AND(Z$8=Display!$T$10,'Lux4-sept'!$A$8=Display!$B$7,'Lux4-sept'!$A$227=Display!$B$9,'Lux4-sept'!$A$244=Display!$B$11,'Lux4-sept'!$A$245=Display!$B$13),Display!$D6,)","v":0},{"$f":"IF(AND(AA$8=Display!$T$10,'Lux4-sept'!$A$8=Display!$B$7,'Lux4-sept'!$A$227=Display!$B$9,'Lux4-sept'!$A$244=Display!$B$11,'Lux4-sept'!$A$245=Display!$B$13),Display!$D6,)","v":0},{"$f":"IF(AND(AB$8=Display!$T$10,'Lux4-sept'!$A$8=Display!$B$7,'Lux4-sept'!$A$227=Display!$B$9,'Lux4-sept'!$A$244=Display!$B$11,'Lux4-sept'!$A$245=Display!$B$13),Display!$D6,)","v":0},{"$f":"IF(AND(AC$8=Display!$T$10,'Lux4-sept'!$A$8=Display!$B$7,'Lux4-sept'!$A$227=Display!$B$9,'Lux4-sept'!$A$244=Display!$B$11,'Lux4-sept'!$A$245=Display!$B$13),Display!$D6,)","v":0},{"$f":"IF(AND(AD$8=Display!$T$10,'Lux4-sept'!$A$8=Display!$B$7,'Lux4-sept'!$A$227=Display!$B$9,'Lux4-sept'!$A$244=Display!$B$11,'Lux4-sept'!$A$245=Display!$B$13),Display!$D6,)","v":0},{"$f":"IF(AND(AE$8=Display!$T$10,'Lux4-sept'!$A$8=Display!$B$7,'Lux4-sept'!$A$227=Display!$B$9,'Lux4-sept'!$A$244=Display!$B$11,'Lux4-sept'!$A$245=Display!$B$13),Display!$D6,)","v":0},{"$f":"IF(AND(AF$8=Display!$T$10,'Lux4-sept'!$A$8=Display!$B$7,'Lux4-sept'!$A$227=Display!$B$9,'Lux4-sept'!$A$244=Display!$B$11,'Lux4-sept'!$A$245=Display!$B$13),Display!$D6,)","v":0},null,null,0]
["Présence de poussières",{"$f":"IF(AND(B$8=Display!$T$10,'Lux4-sept'!$A$8=Display!$B$7,'Lux4-sept'!$A$227=Display!$B$9,'Lux4-sept'!$A$244=Display!$B$11,'Lux4-sept'!$A$245=Display!$B$13),Display!$D7,)","v":0},{"$f":"IF(AND(C$8=Display!$T$10,'Lux4-sept'!$A$8=Display!$B$7,'Lux4-sept'!$A$227=Display!$B$9,'Lux4-sept'!$A$244=Display!$B$11,'Lux4-sept'!$A$245=Display!$B$13),Display!$D7,)","v":0},{"$f":"IF(AND(D$8=Display!$T$10,'Lux4-sept'!$A$8=Display!$B$7,'Lux4-sept'!$A$227=Display!$B$9,'Lux4-sept'!$A$244=Display!$B$11,'Lux4-sept'!$A$245=Display!$B$13),Display!$D7,)","v":0},{"$f":"IF(AND(E$8=Display!$T$10,'Lux4-sept'!$A$8=Display!$B$7,'Lux4-sept'!$A$227=Display!$B$9,'Lux4-sept'!$A$244=Display!$B$11,'Lux4-sept'!$A$245=Display!$B$13),Display!$D7,)","v":0},{"$f":"IF(AND(F$8=Display!$T$10,'Lux4-sept'!$A$8=Display!$B$7,'Lux4-sept'!$A$227=Display!$B$9,'Lux4-sept'!$A$244=Display!$B$11,'Lux4-sept'!$A$245=Display!$B$13),Display!$D7,)","v":0},{"$f":"IF(AND(G$8=Display!$T$10,'Lux4-sept'!$A$8=Display!$B$7,'Lux4-sept'!$A$227=Display!$B$9,'Lux4-sept'!$A$244=Display!$B$11,'Lux4-sept'!$A$245=Display!$B$13),Display!$D7,)","v":0},{"$f":"IF(AND(H$8=Display!$T$10,'Lux4-sept'!$A$8=Display!$B$7,'Lux4-sept'!$A$227=Display!$B$9,'Lux4-sept'!$A$244=Display!$B$11,'Lux4-sept'!$A$245=Display!$B$13),Display!$D7,)","v":0},{"$f":"IF(AND(I$8=Display!$T$10,'Lux4-sept'!$A$8=Display!$B$7,'Lux4-sept'!$A$227=Display!$B$9,'Lux4-sept'!$A$244=Display!$B$11,'Lux4-sept'!$A$245=Display!$B$13),Display!$D7,)","v":0},{"$f":"IF(AND(J$8=Display!$T$10,'Lux4-sept'!$A$8=Display!$B$7,'Lux4-sept'!$A$227=Display!$B$9,'Lux4-sept'!$A$244=Display!$B$11,'Lux4-sept'!$A$245=Display!$B$13),Display!$D7,)","v":0},{"$f":"IF(AND(K$8=Display!$T$10,'Lux4-sept'!$A$8=Display!$B$7,'Lux4-sept'!$A$227=Display!$B$9,'Lux4-sept'!$A$244=Display!$B$11,'Lux4-sept'!$A$245=Display!$B$13),Display!$D7,)","v":0},{"$f":"IF(AND(L$8=Display!$T$10,'Lux4-sept'!$A$8=Display!$B$7,'Lux4-sept'!$A$227=Display!$B$9,'Lux4-sept'!$A$244=Display!$B$11,'Lux4-sept'!$A$245=Display!$B$13),Display!$D7,)","v":0},{"$f":"IF(AND(M$8=Display!$T$10,'Lux4-sept'!$A$8=Display!$B$7,'Lux4-sept'!$A$227=Display!$B$9,'Lux4-sept'!$A$244=Display!$B$11,'Lux4-sept'!$A$245=Display!$B$13),Display!$D7,)","v":0},{"$f":"IF(AND(N$8=Display!$T$10,'Lux4-sept'!$A$8=Display!$B$7,'Lux4-sept'!$A$227=Display!$B$9,'Lux4-sept'!$A$244=Display!$B$11,'Lux4-sept'!$A$245=Display!$B$13),Display!$D7,)","v":0},{"$f":"IF(AND(O$8=Display!$T$10,'Lux4-sept'!$A$8=Display!$B$7,'Lux4-sept'!$A$227=Display!$B$9,'Lux4-sept'!$A$244=Display!$B$11,'Lux4-sept'!$A$245=Display!$B$13),Display!$D7,)","v":0},{"$f":"IF(AND(P$8=Display!$T$10,'Lux4-sept'!$A$8=Display!$B$7,'Lux4-sept'!$A$227=Display!$B$9,'Lux4-sept'!$A$244=Display!$B$11,'Lux4-sept'!$A$245=Display!$B$13),Display!$D7,)","v":0},{"$f":"IF(AND(Q$8=Display!$T$10,'Lux4-sept'!$A$8=Display!$B$7,'Lux4-sept'!$A$227=Display!$B$9,'Lux4-sept'!$A$244=Display!$B$11,'Lux4-sept'!$A$245=Display!$B$13),Display!$D7,)","v":0},{"$f":"IF(AND(R$8=Display!$T$10,'Lux4-sept'!$A$8=Display!$B$7,'Lux4-sept'!$A$227=Display!$B$9,'Lux4-sept'!$A$244=Display!$B$11,'Lux4-sept'!$A$245=Display!$B$13),Display!$D7,)","v":0},{"$f":"IF(AND(S$8=Display!$T$10,'Lux4-sept'!$A$8=Display!$B$7,'Lux4-sept'!$A$227=Display!$B$9,'Lux4-sept'!$A$244=Display!$B$11,'Lux4-sept'!$A$245=Display!$B$13),Display!$D7,)","v":0},{"$f":"IF(AND(T$8=Display!$T$10,'Lux4-sept'!$A$8=Display!$B$7,'Lux4-sept'!$A$227=Display!$B$9,'Lux4-sept'!$A$244=Display!$B$11,'Lux4-sept'!$A$245=Display!$B$13),Display!$D7,)","v":0},{"$f":"IF(AND(U$8=Display!$T$10,'Lux4-sept'!$A$8=Display!$B$7,'Lux4-sept'!$A$227=Display!$B$9,'Lux4-sept'!$A$244=Display!$B$11,'Lux4-sept'!$A$245=Display!$B$13),Display!$D7,)","v":0},{"$f":"IF(AND(V$8=Display!$T$10,'Lux4-sept'!$A$8=Display!$B$7,'Lux4-sept'!$A$227=Display!$B$9,'Lux4-sept'!$A$244=Display!$B$11,'Lux4-sept'!$A$245=Display!$B$13),Display!$D7,)","v":0},{"$f":"IF(AND(W$8=Display!$T$10,'Lux4-sept'!$A$8=Display!$B$7,'Lux4-sept'!$A$227=Display!$B$9,'Lux4-sept'!$A$244=Display!$B$11,'Lux4-sept'!$A$245=Display!$B$13),Display!$D7,)","v":0},{"$f":"IF(AND(X$8=Display!$T$10,'Lux4-sept'!$A$8=Display!$B$7,'Lux4-sept'!$A$227=Display!$B$9,'Lux4-sept'!$A$244=Display!$B$11,'Lux4-sept'!$A$245=Display!$B$13),Display!$D7,)","v":0},{"$f":"IF(AND(Y$8=Display!$T$10,'Lux4-sept'!$A$8=Display!$B$7,'Lux4-sept'!$A$227=Display!$B$9,'Lux4-sept'!$A$244=Display!$B$11,'Lux4-sept'!$A$245=Display!$B$13),Display!$D7,)","v":0},{"$f":"IF(AND(Z$8=Display!$T$10,'Lux4-sept'!$A$8=Display!$B$7,'Lux4-sept'!$A$227=Display!$B$9,'Lux4-sept'!$A$244=Display!$B$11,'Lux4-sept'!$A$245=Display!$B$13),Display!$D7,)","v":0},{"$f":"IF(AND(AA$8=Display!$T$10,'Lux4-sept'!$A$8=Display!$B$7,'Lux4-sept'!$A$227=Display!$B$9,'Lux4-sept'!$A$244=Display!$B$11,'Lux4-sept'!$A$245=Display!$B$13),Display!$D7,)","v":0},{"$f":"IF(AND(AB$8=Display!$T$10,'Lux4-sept'!$A$8=Display!$B$7,'Lux4-sept'!$A$227=Display!$B$9,'Lux4-sept'!$A$244=Display!$B$11,'Lux4-sept'!$A$245=Display!$B$13),Display!$D7,)","v":0},{"$f":"IF(AND(AC$8=Display!$T$10,'Lux4-sept'!$A$8=Display!$B$7,'Lux4-sept'!$A$227=Display!$B$9,'Lux4-sept'!$A$244=Display!$B$11,'Lux4-sept'!$A$245=Display!$B$13),Display!$D7,)","v":0},{"$f":"IF(AND(AD$8=Display!$T$10,'Lux4-sept'!$A$8=Display!$B$7,'Lux4-sept'!$A$227=Display!$B$9,'Lux4-sept'!$A$244=Display!$B$11,'Lux4-sept'!$A$245=Display!$B$13),Display!$D7,)","v":0},{"$f":"IF(AND(AE$8=Display!$T$10,'Lux4-sept'!$A$8=Display!$B$7,'Lux4-sept'!$A$227=Display!$B$9,'Lux4-sept'!$A$244=Display!$B$11,'Lux4-sept'!$A$245=Display!$B$13),Display!$D7,)","v":0},{"$f":"IF(AND(AF$8=Display!$T$10,'Lux4-sept'!$A$8=Display!$B$7,'Lux4-sept'!$A$227=Display!$B$9,'Lux4-sept'!$A$244=Display!$B$11,'Lux4-sept'!$A$245=Display!$B$13),Display!$D7,)","v":0},null,null,0]
["Propreté des miroirs, vasques, vitres, portes, brosses, poubelles, douches",{"$f":"IF(AND(B$8=Display!$T$10,'Lux4-sept'!$A$8=Display!$B$7,'Lux4-sept'!$A$227=Display!$B$9,'Lux4-sept'!$A$244=Display!$B$11,'Lux4-sept'!$A$245=Display!$B$13),Display!$D8,)","v":0},{"$f":"IF(AND(C$8=Display!$T$10,'Lux4-sept'!$A$8=Display!$B$7,'Lux4-sept'!$A$227=Display!$B$9,'Lux4-sept'!$A$244=Display!$B$11,'Lux4-sept'!$A$245=Display!$B$13),Display!$D8,)","v":0},{"$f":"IF(AND(D$8=Display!$T$10,'Lux4-sept'!$A$8=Display!$B$7,'Lux4-sept'!$A$227=Display!$B$9,'Lux4-sept'!$A$244=Display!$B$11,'Lux4-sept'!$A$245=Display!$B$13),Display!$D8,)","v":0},{"$f":"IF(AND(E$8=Display!$T$10,'Lux4-sept'!$A$8=Display!$B$7,'Lux4-sept'!$A$227=Display!$B$9,'Lux4-sept'!$A$244=Display!$B$11,'Lux4-sept'!$A$245=Display!$B$13),Display!$D8,)","v":0},{"$f":"IF(AND(F$8=Display!$T$10,'Lux4-sept'!$A$8=Display!$B$7,'Lux4-sept'!$A$227=Display!$B$9,'Lux4-sept'!$A$244=Display!$B$11,'Lux4-sept'!$A$245=Display!$B$13),Display!$D8,)","v":0},{"$f":"IF(AND(G$8=Display!$T$10,'Lux4-sept'!$A$8=Display!$B$7,'Lux4-sept'!$A$227=Display!$B$9,'Lux4-sept'!$A$244=Display!$B$11,'Lux4-sept'!$A$245=Display!$B$13),Display!$D8,)","v":0},{"$f":"IF(AND(H$8=Display!$T$10,'Lux4-sept'!$A$8=Display!$B$7,'Lux4-sept'!$A$227=Display!$B$9,'Lux4-sept'!$A$244=Display!$B$11,'Lux4-sept'!$A$245=Display!$B$13),Display!$D8,)","v":0},{"$f":"IF(AND(I$8=Display!$T$10,'Lux4-sept'!$A$8=Display!$B$7,'Lux4-sept'!$A$227=Display!$B$9,'Lux4-sept'!$A$244=Display!$B$11,'Lux4-sept'!$A$245=Display!$B$13),Display!$D8,)","v":0},{"$f":"IF(AND(J$8=Display!$T$10,'Lux4-sept'!$A$8=Display!$B$7,'Lux4-sept'!$A$227=Display!$B$9,'Lux4-sept'!$A$244=Display!$B$11,'Lux4-sept'!$A$245=Display!$B$13),Display!$D8,)","v":0},{"$f":"IF(AND(K$8=Display!$T$10,'Lux4-sept'!$A$8=Display!$B$7,'Lux4-sept'!$A$227=Display!$B$9,'Lux4-sept'!$A$244=Display!$B$11,'Lux4-sept'!$A$245=Display!$B$13),Display!$D8,)","v":0},{"$f":"IF(AND(L$8=Display!$T$10,'Lux4-sept'!$A$8=Display!$B$7,'Lux4-sept'!$A$227=Display!$B$9,'Lux4-sept'!$A$244=Display!$B$11,'Lux4-sept'!$A$245=Display!$B$13),Display!$D8,)","v":0},{"$f":"IF(AND(M$8=Display!$T$10,'Lux4-sept'!$A$8=Display!$B$7,'Lux4-sept'!$A$227=Display!$B$9,'Lux4-sept'!$A$244=Display!$B$11,'Lux4-sept'!$A$245=Display!$B$13),Display!$D8,)","v":0},{"$f":"IF(AND(N$8=Display!$T$10,'Lux4-sept'!$A$8=Display!$B$7,'Lux4-sept'!$A$227=Display!$B$9,'Lux4-sept'!$A$244=Display!$B$11,'Lux4-sept'!$A$245=Display!$B$13),Display!$D8,)","v":0},{"$f":"IF(AND(O$8=Display!$T$10,'Lux4-sept'!$A$8=Display!$B$7,'Lux4-sept'!$A$227=Display!$B$9,'Lux4-sept'!$A$244=Display!$B$11,'Lux4-sept'!$A$245=Display!$B$13),Display!$D8,)","v":0},{"$f":"IF(AND(P$8=Display!$T$10,'Lux4-sept'!$A$8=Display!$B$7,'Lux4-sept'!$A$227=Display!$B$9,'Lux4-sept'!$A$244=Display!$B$11,'Lux4-sept'!$A$245=Display!$B$13),Display!$D8,)","v":0},{"$f":"IF(AND(Q$8=Display!$T$10,'Lux4-sept'!$A$8=Display!$B$7,'Lux4-sept'!$A$227=Display!$B$9,'Lux4-sept'!$A$244=Display!$B$11,'Lux4-sept'!$A$245=Display!$B$13),Display!$D8,)","v":0},{"$f":"IF(AND(R$8=Display!$T$10,'Lux4-sept'!$A$8=Display!$B$7,'Lux4-sept'!$A$227=Display!$B$9,'Lux4-sept'!$A$244=Display!$B$11,'Lux4-sept'!$A$245=Display!$B$13),Display!$D8,)","v":0},{"$f":"IF(AND(S$8=Display!$T$10,'Lux4-sept'!$A$8=Display!$B$7,'Lux4-sept'!$A$227=Display!$B$9,'Lux4-sept'!$A$244=Display!$B$11,'Lux4-sept'!$A$245=Display!$B$13),Display!$D8,)","v":0},{"$f":"IF(AND(T$8=Display!$T$10,'Lux4-sept'!$A$8=Display!$B$7,'Lux4-sept'!$A$227=Display!$B$9,'Lux4-sept'!$A$244=Display!$B$11,'Lux4-sept'!$A$245=Display!$B$13),Display!$D8,)","v":0},{"$f":"IF(AND(U$8=Display!$T$10,'Lux4-sept'!$A$8=Display!$B$7,'Lux4-sept'!$A$227=Display!$B$9,'Lux4-sept'!$A$244=Display!$B$11,'Lux4-sept'!$A$245=Display!$B$13),Display!$D8,)","v":0},{"$f":"IF(AND(V$8=Display!$T$10,'Lux4-sept'!$A$8=Display!$B$7,'Lux4-sept'!$A$227=Display!$B$9,'Lux4-sept'!$A$244=Display!$B$11,'Lux4-sept'!$A$245=Display!$B$13),Display!$D8,)","v":0},{"$f":"IF(AND(W$8=Display!$T$10,'Lux4-sept'!$A$8=Display!$B$7,'Lux4-sept'!$A$227=Display!$B$9,'Lux4-sept'!$A$244=Display!$B$11,'Lux4-sept'!$A$245=Display!$B$13),Display!$D8,)","v":0},{"$f":"IF(AND(X$8=Display!$T$10,'Lux4-sept'!$A$8=Display!$B$7,'Lux4-sept'!$A$227=Display!$B$9,'Lux4-sept'!$A$244=Display!$B$11,'Lux4-sept'!$A$245=Display!$B$13),Display!$D8,)","v":0},{"$f":"IF(AND(Y$8=Display!$T$10,'Lux4-sept'!$A$8=Display!$B$7,'Lux4-sept'!$A$227=Display!$B$9,'Lux4-sept'!$A$244=Display!$B$11,'Lux4-sept'!$A$245=Display!$B$13),Display!$D8,)","v":0},{"$f":"IF(AND(Z$8=Display!$T$10,'Lux4-sept'!$A$8=Display!$B$7,'Lux4-sept'!$A$227=Display!$B$9,'Lux4-sept'!$A$244=Display!$B$11,'Lux4-sept'!$A$245=Display!$B$13),Display!$D8,)","v":0},{"$f":"IF(AND(AA$8=Display!$T$10,'Lux4-sept'!$A$8=Display!$B$7,'Lux4-sept'!$A$227=Display!$B$9,'Lux4-sept'!$A$244=Display!$B$11,'Lux4-sept'!$A$245=Display!$B$13),Display!$D8,)","v":0},{"$f":"IF(AND(AB$8=Display!$T$10,'Lux4-sept'!$A$8=Display!$B$7,'Lux4-sept'!$A$227=Display!$B$9,'Lux4-sept'!$A$244=Display!$B$11,'Lux4-sept'!$A$245=Display!$B$13),Display!$D8,)","v":0},{"$f":"IF(AND(AC$8=Display!$T$10,'Lux4-sept'!$A$8=Display!$B$7,'Lux4-sept'!$A$227=Display!$B$9,'Lux4-sept'!$A$244=Display!$B$11,'Lux4-sept'!$A$245=Display!$B$13),Display!$D8,)","v":0},{"$f":"IF(AND(AD$8=Display!$T$10,'Lux4-sept'!$A$8=Display!$B$7,'Lux4-sept'!$A$227=Display!$B$9,'Lux4-sept'!$A$244=Display!$B$11,'Lux4-sept'!$A$245=Display!$B$13),Display!$D8,)","v":0},{"$f":"IF(AND(AE$8=Display!$T$10,'Lux4-sept'!$A$8=Display!$B$7,'Lux4-sept'!$A$227=Display!$B$9,'Lux4-sept'!$A$244=Display!$B$11,'Lux4-sept'!$A$245=Display!$B$13),Display!$D8,)","v":0},{"$f":"IF(AND(AF$8=Display!$T$10,'Lux4-sept'!$A$8=Display!$B$7,'Lux4-sept'!$A$227=Display!$B$9,'Lux4-sept'!$A$244=Display!$B$11,'Lux4-sept'!$A$245=Display!$B$13),Display!$D8,)","v":0},null,null,0]
["MOYENNE",{"$f":"((IF((SUM(B246:B250))<>0,(SUM(B246:B250)),0))/(IF((SUM((IF(B246<>0,3,0)),(IF(B247<>0,3,0)),(IF(B248<>0,3,0)),(IF(B249<>0,3,0)),(IF(B250<>0,3,0))))<>0,((SUM((IF(B246<>0,3,0)),(IF(B247<>0,3,0)),(IF(B248<>0,3,0)),(IF(B249<>0,3,0)),(IF(B250<>0,3,0))))),1)))","v":0},{"$f":"((IF((SUM(C246:C250))<>0,(SUM(C246:C250)),0))/(IF((SUM((IF(C246<>0,3,0)),(IF(C247<>0,3,0)),(IF(C248<>0,3,0)),(IF(C249<>0,3,0)),(IF(C250<>0,3,0))))<>0,((SUM((IF(C246<>0,3,0)),(IF(C247<>0,3,0)),(IF(C248<>0,3,0)),(IF(C249<>0,3,0)),(IF(C250<>0,3,0))))),1)))","v":0},0,0,0,0,0,0,0,0,0,0,0,0,0,0,0,0,0,0,0,0,0,0,0,0,0,0,0,0,0,0,0]
[".01"]
["Fourniture ingrédients sanitaires",{"$f":"IF(AND(B$8=Display!$T$10,'Lux4-sept'!$A$8=Display!$B$7,'Lux4-sept'!$A$227=Display!$B$9,'Lux4-sept'!$A$244=Display!$B$11,'Lux4-sept'!$A$252=Display!$B$13),Display!$D4,)","v":0},{"$f":"IF(AND(C$8=Display!$T$10,'Lux4-sept'!$A$8=Display!$B$7,'Lux4-sept'!$A$227=Display!$B$9,'Lux4-sept'!$A$244=Display!$B$11,'Lux4-sept'!$A$252=Display!$B$13),Display!$D4,)","v":0},{"$f":"IF(AND(D$8=Display!$T$10,'Lux4-sept'!$A$8=Display!$B$7,'Lux4-sept'!$A$227=Display!$B$9,'Lux4-sept'!$A$244=Display!$B$11,'Lux4-sept'!$A$252=Display!$B$13),Display!$D4,)","v":0},{"$f":"IF(AND(E$8=Display!$T$10,'Lux4-sept'!$A$8=Display!$B$7,'Lux4-sept'!$A$227=Display!$B$9,'Lux4-sept'!$A$244=Display!$B$11,'Lux4-sept'!$A$252=Display!$B$13),Display!$D4,)","v":0},{"$f":"IF(AND(F$8=Display!$T$10,'Lux4-sept'!$A$8=Display!$B$7,'Lux4-sept'!$A$227=Display!$B$9,'Lux4-sept'!$A$244=Display!$B$11,'Lux4-sept'!$A$252=Display!$B$13),Display!$D4,)","v":0},{"$f":"IF(AND(G$8=Display!$T$10,'Lux4-sept'!$A$8=Display!$B$7,'Lux4-sept'!$A$227=Display!$B$9,'Lux4-sept'!$A$244=Display!$B$11,'Lux4-sept'!$A$252=Display!$B$13),Display!$D4,)","v":0},{"$f":"IF(AND(H$8=Display!$T$10,'Lux4-sept'!$A$8=Display!$B$7,'Lux4-sept'!$A$227=Display!$B$9,'Lux4-sept'!$A$244=Display!$B$11,'Lux4-sept'!$A$252=Display!$B$13),Display!$D4,)","v":0},{"$f":"IF(AND(I$8=Display!$T$10,'Lux4-sept'!$A$8=Display!$B$7,'Lux4-sept'!$A$227=Display!$B$9,'Lux4-sept'!$A$244=Display!$B$11,'Lux4-sept'!$A$252=Display!$B$13),Display!$D4,)","v":0},{"$f":"IF(AND(J$8=Display!$T$10,'Lux4-sept'!$A$8=Display!$B$7,'Lux4-sept'!$A$227=Display!$B$9,'Lux4-sept'!$A$244=Display!$B$11,'Lux4-sept'!$A$252=Display!$B$13),Display!$D4,)","v":0},{"$f":"IF(AND(K$8=Display!$T$10,'Lux4-sept'!$A$8=Display!$B$7,'Lux4-sept'!$A$227=Display!$B$9,'Lux4-sept'!$A$244=Display!$B$11,'Lux4-sept'!$A$252=Display!$B$13),Display!$D4,)","v":0},{"$f":"IF(AND(L$8=Display!$T$10,'Lux4-sept'!$A$8=Display!$B$7,'Lux4-sept'!$A$227=Display!$B$9,'Lux4-sept'!$A$244=Display!$B$11,'Lux4-sept'!$A$252=Display!$B$13),Display!$D4,)","v":0},{"$f":"IF(AND(M$8=Display!$T$10,'Lux4-sept'!$A$8=Display!$B$7,'Lux4-sept'!$A$227=Display!$B$9,'Lux4-sept'!$A$244=Display!$B$11,'Lux4-sept'!$A$252=Display!$B$13),Display!$D4,)","v":0},{"$f":"IF(AND(N$8=Display!$T$10,'Lux4-sept'!$A$8=Display!$B$7,'Lux4-sept'!$A$227=Display!$B$9,'Lux4-sept'!$A$244=Display!$B$11,'Lux4-sept'!$A$252=Display!$B$13),Display!$D4,)","v":0},{"$f":"IF(AND(O$8=Display!$T$10,'Lux4-sept'!$A$8=Display!$B$7,'Lux4-sept'!$A$227=Display!$B$9,'Lux4-sept'!$A$244=Display!$B$11,'Lux4-sept'!$A$252=Display!$B$13),Display!$D4,)","v":0},{"$f":"IF(AND(P$8=Display!$T$10,'Lux4-sept'!$A$8=Display!$B$7,'Lux4-sept'!$A$227=Display!$B$9,'Lux4-sept'!$A$244=Display!$B$11,'Lux4-sept'!$A$252=Display!$B$13),Display!$D4,)","v":0},{"$f":"IF(AND(Q$8=Display!$T$10,'Lux4-sept'!$A$8=Display!$B$7,'Lux4-sept'!$A$227=Display!$B$9,'Lux4-sept'!$A$244=Display!$B$11,'Lux4-sept'!$A$252=Display!$B$13),Display!$D4,)","v":0},{"$f":"IF(AND(R$8=Display!$T$10,'Lux4-sept'!$A$8=Display!$B$7,'Lux4-sept'!$A$227=Display!$B$9,'Lux4-sept'!$A$244=Display!$B$11,'Lux4-sept'!$A$252=Display!$B$13),Display!$D4,)","v":0},{"$f":"IF(AND(S$8=Display!$T$10,'Lux4-sept'!$A$8=Display!$B$7,'Lux4-sept'!$A$227=Display!$B$9,'Lux4-sept'!$A$244=Display!$B$11,'Lux4-sept'!$A$252=Display!$B$13),Display!$D4,)","v":0},{"$f":"IF(AND(T$8=Display!$T$10,'Lux4-sept'!$A$8=Display!$B$7,'Lux4-sept'!$A$227=Display!$B$9,'Lux4-sept'!$A$244=Display!$B$11,'Lux4-sept'!$A$252=Display!$B$13),Display!$D4,)","v":0},{"$f":"IF(AND(U$8=Display!$T$10,'Lux4-sept'!$A$8=Display!$B$7,'Lux4-sept'!$A$227=Display!$B$9,'Lux4-sept'!$A$244=Display!$B$11,'Lux4-sept'!$A$252=Display!$B$13),Display!$D4,)","v":0},{"$f":"IF(AND(V$8=Display!$T$10,'Lux4-sept'!$A$8=Display!$B$7,'Lux4-sept'!$A$227=Display!$B$9,'Lux4-sept'!$A$244=Display!$B$11,'Lux4-sept'!$A$252=Display!$B$13),Display!$D4,)","v":0},{"$f":"IF(AND(W$8=Display!$T$10,'Lux4-sept'!$A$8=Display!$B$7,'Lux4-sept'!$A$227=Display!$B$9,'Lux4-sept'!$A$244=Display!$B$11,'Lux4-sept'!$A$252=Display!$B$13),Display!$D4,)","v":0},{"$f":"IF(AND(X$8=Display!$T$10,'Lux4-sept'!$A$8=Display!$B$7,'Lux4-sept'!$A$227=Display!$B$9,'Lux4-sept'!$A$244=Display!$B$11,'Lux4-sept'!$A$252=Display!$B$13),Display!$D4,)","v":0},{"$f":"IF(AND(Y$8=Display!$T$10,'Lux4-sept'!$A$8=Display!$B$7,'Lux4-sept'!$A$227=Display!$B$9,'Lux4-sept'!$A$244=Display!$B$11,'Lux4-sept'!$A$252=Display!$B$13),Display!$D4,)","v":0},{"$f":"IF(AND(Z$8=Display!$T$10,'Lux4-sept'!$A$8=Display!$B$7,'Lux4-sept'!$A$227=Display!$B$9,'Lux4-sept'!$A$244=Display!$B$11,'Lux4-sept'!$A$252=Display!$B$13),Display!$D4,)","v":0},{"$f":"IF(AND(AA$8=Display!$T$10,'Lux4-sept'!$A$8=Display!$B$7,'Lux4-sept'!$A$227=Display!$B$9,'Lux4-sept'!$A$244=Display!$B$11,'Lux4-sept'!$A$252=Display!$B$13),Display!$D4,)","v":0},{"$f":"IF(AND(AB$8=Display!$T$10,'Lux4-sept'!$A$8=Display!$B$7,'Lux4-sept'!$A$227=Display!$B$9,'Lux4-sept'!$A$244=Display!$B$11,'Lux4-sept'!$A$252=Display!$B$13),Display!$D4,)","v":0},{"$f":"IF(AND(AC$8=Display!$T$10,'Lux4-sept'!$A$8=Display!$B$7,'Lux4-sept'!$A$227=Display!$B$9,'Lux4-sept'!$A$244=Display!$B$11,'Lux4-sept'!$A$252=Display!$B$13),Display!$D4,)","v":0},{"$f":"IF(AND(AD$8=Display!$T$10,'Lux4-sept'!$A$8=Display!$B$7,'Lux4-sept'!$A$227=Display!$B$9,'Lux4-sept'!$A$244=Display!$B$11,'Lux4-sept'!$A$252=Display!$B$13),Display!$D4,)","v":0},{"$f":"IF(AND(AE$8=Display!$T$10,'Lux4-sept'!$A$8=Display!$B$7,'Lux4-sept'!$A$227=Display!$B$9,'Lux4-sept'!$A$244=Display!$B$11,'Lux4-sept'!$A$252=Display!$B$13),Display!$D4,)","v":0},{"$f":"IF(AND(AF$8=Display!$T$10,'Lux4-sept'!$A$8=Display!$B$7,'Lux4-sept'!$A$227=Display!$B$9,'Lux4-sept'!$A$244=Display!$B$11,'Lux4-sept'!$A$252=Display!$B$13),Display!$D4,)","v":0},null,null,{"$f":"((IF((SUM(B253:AF253))<>0,(SUM(B253:AF253)),0))/(IF((SUM((IF(B253<>0,3,0)),(IF(C253<>0,3,0)),(IF(D253<>0,3,0)),(IF(E253<>0,3,0)),(IF(F253<>0,3,0)),(IF(F253<>0,3,0)),(IF(F253<>0,3,0)),(IF(G253<>0,3,0)),(IF(H253<>0,3,0)),(IF(I253<>0,3,0)),(IF(J253<>0,3,0)),(IF(K253<>0,3,0)),(IF(L253<>0,3,0)),(IF(M253<>0,3,0)),(IF(N253<>0,3,0)),(IF(O253<>0,3,0)),(IF(P253<>0,3,0)),(IF(Q253<>0,3,0)),(IF(R253<>0,3,0)),(IF(S253<>0,3,0)),(IF(T253<>0,3,0)),(IF(U253<>0,3,0)),(IF(V253<>0,3,0)),(IF(W253<>0,3,0)),(IF(X253<>0,3,0)),(IF(Y253<>0,3,0)),(IF(Z253<>0,3,0)),(IF(AA253<>0,3,0)),(IF(AB253<>0,3,0)),(IF(AC253<>0,3,0)),(IF(AD253<>0,3,0)),(IF(AE253<>0,3,0)),(IF(AF253<>0,3,0))))<>0,((SUM((IF(B253<>0,3,0)),(IF(C253<>0,3,0)),(IF(D253<>0,3,0)),(IF(E253<>0,3,0)),(IF(F253<>0,3,0)),(IF(F253<>0,3,0)),(IF(F253<>0,3,0)),(IF(G253<>0,3,0)),(IF(H253<>0,3,0)),(IF(I253<>0,3,0)),(IF(J253<>0,3,0)),(IF(K253<>0,3,0)),(IF(L253<>0,3,0)),(IF(M253<>0,3,0)),(IF(N253<>0,3,0)),(IF(O253<>0,3,0)),(IF(P253<>0,3,0)),(IF(Q253<>0,3,0)),(IF(R253<>0,3,0)),(IF(S253<>0,3,0)),(IF(T253<>0,3,0)),(IF(U253<>0,3,0)),(IF(V253<>0,3,0)),(IF(W253<>0,3,0)),(IF(X253<>0,3,0)),(IF(Y253<>0,3,0)),(IF(Z253<>0,3,0)),(IF(AA253<>0,3,0)),(IF(AB253<>0,3,0)),(IF(AC253<>0,3,0)),(IF(AD253<>0,3,0)),(IF(AE253<>0,3,0)),(IF(AF253<>0,3,0))))),1)))","v":0}]
["Nettoyage des sols",{"$f":"IF(AND(B$8=Display!$T$10,'Lux4-sept'!$A$8=Display!$B$7,'Lux4-sept'!$A$227=Display!$B$9,'Lux4-sept'!$A$244=Display!$B$11,'Lux4-sept'!$A$252=Display!$B$13),Display!$D5,)","v":0},{"$f":"IF(AND(C$8=Display!$T$10,'Lux4-sept'!$A$8=Display!$B$7,'Lux4-sept'!$A$227=Display!$B$9,'Lux4-sept'!$A$244=Display!$B$11,'Lux4-sept'!$A$252=Display!$B$13),Display!$D5,)","v":0},{"$f":"IF(AND(D$8=Display!$T$10,'Lux4-sept'!$A$8=Display!$B$7,'Lux4-sept'!$A$227=Display!$B$9,'Lux4-sept'!$A$244=Display!$B$11,'Lux4-sept'!$A$252=Display!$B$13),Display!$D5,)","v":0},{"$f":"IF(AND(E$8=Display!$T$10,'Lux4-sept'!$A$8=Display!$B$7,'Lux4-sept'!$A$227=Display!$B$9,'Lux4-sept'!$A$244=Display!$B$11,'Lux4-sept'!$A$252=Display!$B$13),Display!$D5,)","v":0},{"$f":"IF(AND(F$8=Display!$T$10,'Lux4-sept'!$A$8=Display!$B$7,'Lux4-sept'!$A$227=Display!$B$9,'Lux4-sept'!$A$244=Display!$B$11,'Lux4-sept'!$A$252=Display!$B$13),Display!$D5,)","v":0},{"$f":"IF(AND(G$8=Display!$T$10,'Lux4-sept'!$A$8=Display!$B$7,'Lux4-sept'!$A$227=Display!$B$9,'Lux4-sept'!$A$244=Display!$B$11,'Lux4-sept'!$A$252=Display!$B$13),Display!$D5,)","v":0},{"$f":"IF(AND(H$8=Display!$T$10,'Lux4-sept'!$A$8=Display!$B$7,'Lux4-sept'!$A$227=Display!$B$9,'Lux4-sept'!$A$244=Display!$B$11,'Lux4-sept'!$A$252=Display!$B$13),Display!$D5,)","v":0},{"$f":"IF(AND(I$8=Display!$T$10,'Lux4-sept'!$A$8=Display!$B$7,'Lux4-sept'!$A$227=Display!$B$9,'Lux4-sept'!$A$244=Display!$B$11,'Lux4-sept'!$A$252=Display!$B$13),Display!$D5,)","v":0},{"$f":"IF(AND(J$8=Display!$T$10,'Lux4-sept'!$A$8=Display!$B$7,'Lux4-sept'!$A$227=Display!$B$9,'Lux4-sept'!$A$244=Display!$B$11,'Lux4-sept'!$A$252=Display!$B$13),Display!$D5,)","v":0},{"$f":"IF(AND(K$8=Display!$T$10,'Lux4-sept'!$A$8=Display!$B$7,'Lux4-sept'!$A$227=Display!$B$9,'Lux4-sept'!$A$244=Display!$B$11,'Lux4-sept'!$A$252=Display!$B$13),Display!$D5,)","v":0},{"$f":"IF(AND(L$8=Display!$T$10,'Lux4-sept'!$A$8=Display!$B$7,'Lux4-sept'!$A$227=Display!$B$9,'Lux4-sept'!$A$244=Display!$B$11,'Lux4-sept'!$A$252=Display!$B$13),Display!$D5,)","v":0},{"$f":"IF(AND(M$8=Display!$T$10,'Lux4-sept'!$A$8=Display!$B$7,'Lux4-sept'!$A$227=Display!$B$9,'Lux4-sept'!$A$244=Display!$B$11,'Lux4-sept'!$A$252=Display!$B$13),Display!$D5,)","v":0},{"$f":"IF(AND(N$8=Display!$T$10,'Lux4-sept'!$A$8=Display!$B$7,'Lux4-sept'!$A$227=Display!$B$9,'Lux4-sept'!$A$244=Display!$B$11,'Lux4-sept'!$A$252=Display!$B$13),Display!$D5,)","v":0},{"$f":"IF(AND(O$8=Display!$T$10,'Lux4-sept'!$A$8=Display!$B$7,'Lux4-sept'!$A$227=Display!$B$9,'Lux4-sept'!$A$244=Display!$B$11,'Lux4-sept'!$A$252=Display!$B$13),Display!$D5,)","v":0},{"$f":"IF(AND(P$8=Display!$T$10,'Lux4-sept'!$A$8=Display!$B$7,'Lux4-sept'!$A$227=Display!$B$9,'Lux4-sept'!$A$244=Display!$B$11,'Lux4-sept'!$A$252=Display!$B$13),Display!$D5,)","v":0},{"$f":"IF(AND(Q$8=Display!$T$10,'Lux4-sept'!$A$8=Display!$B$7,'Lux4-sept'!$A$227=Display!$B$9,'Lux4-sept'!$A$244=Display!$B$11,'Lux4-sept'!$A$252=Display!$B$13),Display!$D5,)","v":0},{"$f":"IF(AND(R$8=Display!$T$10,'Lux4-sept'!$A$8=Display!$B$7,'Lux4-sept'!$A$227=Display!$B$9,'Lux4-sept'!$A$244=Display!$B$11,'Lux4-sept'!$A$252=Display!$B$13),Display!$D5,)","v":0},{"$f":"IF(AND(S$8=Display!$T$10,'Lux4-sept'!$A$8=Display!$B$7,'Lux4-sept'!$A$227=Display!$B$9,'Lux4-sept'!$A$244=Display!$B$11,'Lux4-sept'!$A$252=Display!$B$13),Display!$D5,)","v":0},{"$f":"IF(AND(T$8=Display!$T$10,'Lux4-sept'!$A$8=Display!$B$7,'Lux4-sept'!$A$227=Display!$B$9,'Lux4-sept'!$A$244=Display!$B$11,'Lux4-sept'!$A$252=Display!$B$13),Display!$D5,)","v":0},{"$f":"IF(AND(U$8=Display!$T$10,'Lux4-sept'!$A$8=Display!$B$7,'Lux4-sept'!$A$227=Display!$B$9,'Lux4-sept'!$A$244=Display!$B$11,'Lux4-sept'!$A$252=Display!$B$13),Display!$D5,)","v":0},{"$f":"IF(AND(V$8=Display!$T$10,'Lux4-sept'!$A$8=Display!$B$7,'Lux4-sept'!$A$227=Display!$B$9,'Lux4-sept'!$A$244=Display!$B$11,'Lux4-sept'!$A$252=Display!$B$13),Display!$D5,)","v":0},{"$f":"IF(AND(W$8=Display!$T$10,'Lux4-sept'!$A$8=Display!$B$7,'Lux4-sept'!$A$227=Display!$B$9,'Lux4-sept'!$A$244=Display!$B$11,'Lux4-sept'!$A$252=Display!$B$13),Display!$D5,)","v":0},{"$f":"IF(AND(X$8=Display!$T$10,'Lux4-sept'!$A$8=Display!$B$7,'Lux4-sept'!$A$227=Display!$B$9,'Lux4-sept'!$A$244=Display!$B$11,'Lux4-sept'!$A$252=Display!$B$13),Display!$D5,)","v":0},{"$f":"IF(AND(Y$8=Display!$T$10,'Lux4-sept'!$A$8=Display!$B$7,'Lux4-sept'!$A$227=Display!$B$9,'Lux4-sept'!$A$244=Display!$B$11,'Lux4-sept'!$A$252=Display!$B$13),Display!$D5,)","v":0},{"$f":"IF(AND(Z$8=Display!$T$10,'Lux4-sept'!$A$8=Display!$B$7,'Lux4-sept'!$A$227=Display!$B$9,'Lux4-sept'!$A$244=Display!$B$11,'Lux4-sept'!$A$252=Display!$B$13),Display!$D5,)","v":0},{"$f":"IF(AND(AA$8=Display!$T$10,'Lux4-sept'!$A$8=Display!$B$7,'Lux4-sept'!$A$227=Display!$B$9,'Lux4-sept'!$A$244=Display!$B$11,'Lux4-sept'!$A$252=Display!$B$13),Display!$D5,)","v":0},{"$f":"IF(AND(AB$8=Display!$T$10,'Lux4-sept'!$A$8=Display!$B$7,'Lux4-sept'!$A$227=Display!$B$9,'Lux4-sept'!$A$244=Display!$B$11,'Lux4-sept'!$A$252=Display!$B$13),Display!$D5,)","v":0},{"$f":"IF(AND(AC$8=Display!$T$10,'Lux4-sept'!$A$8=Display!$B$7,'Lux4-sept'!$A$227=Display!$B$9,'Lux4-sept'!$A$244=Display!$B$11,'Lux4-sept'!$A$252=Display!$B$13),Display!$D5,)","v":0},{"$f":"IF(AND(AD$8=Display!$T$10,'Lux4-sept'!$A$8=Display!$B$7,'Lux4-sept'!$A$227=Display!$B$9,'Lux4-sept'!$A$244=Display!$B$11,'Lux4-sept'!$A$252=Display!$B$13),Display!$D5,)","v":0},{"$f":"IF(AND(AE$8=Display!$T$10,'Lux4-sept'!$A$8=Display!$B$7,'Lux4-sept'!$A$227=Display!$B$9,'Lux4-sept'!$A$244=Display!$B$11,'Lux4-sept'!$A$252=Display!$B$13),Display!$D5,)","v":0},{"$f":"IF(AND(AF$8=Display!$T$10,'Lux4-sept'!$A$8=Display!$B$7,'Lux4-sept'!$A$227=Display!$B$9,'Lux4-sept'!$A$244=Display!$B$11,'Lux4-sept'!$A$252=Display!$B$13),Display!$D5,)","v":0},null,null,{"$f":"((IF((SUM(B254:AF254))<>0,(SUM(B254:AF254)),0))/(IF((SUM((IF(B254<>0,3,0)),(IF(C254<>0,3,0)),(IF(D254<>0,3,0)),(IF(E254<>0,3,0)),(IF(F254<>0,3,0)),(IF(F254<>0,3,0)),(IF(F254<>0,3,0)),(IF(G254<>0,3,0)),(IF(H254<>0,3,0)),(IF(I254<>0,3,0)),(IF(J254<>0,3,0)),(IF(K254<>0,3,0)),(IF(L254<>0,3,0)),(IF(M254<>0,3,0)),(IF(N254<>0,3,0)),(IF(O254<>0,3,0)),(IF(P254<>0,3,0)),(IF(Q254<>0,3,0)),(IF(R254<>0,3,0)),(IF(S254<>0,3,0)),(IF(T254<>0,3,0)),(IF(U254<>0,3,0)),(IF(V254<>0,3,0)),(IF(W254<>0,3,0)),(IF(X254<>0,3,0)),(IF(Y254<>0,3,0)),(IF(Z254<>0,3,0)),(IF(AA254<>0,3,0)),(IF(AB254<>0,3,0)),(IF(AC254<>0,3,0)),(IF(AD254<>0,3,0)),(IF(AE254<>0,3,0)),(IF(AF254<>0,3,0))))<>0,((SUM((IF(B254<>0,3,0)),(IF(C254<>0,3,0)),(IF(D254<>0,3,0)),(IF(E254<>0,3,0)),(IF(F254<>0,3,0)),(IF(F254<>0,3,0)),(IF(F254<>0,3,0)),(IF(G254<>0,3,0)),(IF(H254<>0,3,0)),(IF(I254<>0,3,0)),(IF(J254<>0,3,0)),(IF(K254<>0,3,0)),(IF(L254<>0,3,0)),(IF(M254<>0,3,0)),(IF(N254<>0,3,0)),(IF(O254<>0,3,0)),(IF(P254<>0,3,0)),(IF(Q254<>0,3,0)),(IF(R254<>0,3,0)),(IF(S254<>0,3,0)),(IF(T254<>0,3,0)),(IF(U254<>0,3,0)),(IF(V254<>0,3,0)),(IF(W254<>0,3,0)),(IF(X254<>0,3,0)),(IF(Y254<>0,3,0)),(IF(Z254<>0,3,0)),(IF(AA254<>0,3,0)),(IF(AB254<>0,3,0)),(IF(AC254<>0,3,0)),(IF(AD254<>0,3,0)),(IF(AE254<>0,3,0)),(IF(AF254<>0,3,0))))),1)))","v":0}]
["Propreté des Murs",{"$f":"IF(AND(B$8=Display!$T$10,'Lux4-sept'!$A$8=Display!$B$7,'Lux4-sept'!$A$227=Display!$B$9,'Lux4-sept'!$A$244=Display!$B$11,'Lux4-sept'!$A$252=Display!$B$13),Display!$D6,)","v":0},{"$f":"IF(AND(C$8=Display!$T$10,'Lux4-sept'!$A$8=Display!$B$7,'Lux4-sept'!$A$227=Display!$B$9,'Lux4-sept'!$A$244=Display!$B$11,'Lux4-sept'!$A$252=Display!$B$13),Display!$D6,)","v":0},{"$f":"IF(AND(D$8=Display!$T$10,'Lux4-sept'!$A$8=Display!$B$7,'Lux4-sept'!$A$227=Display!$B$9,'Lux4-sept'!$A$244=Display!$B$11,'Lux4-sept'!$A$252=Display!$B$13),Display!$D6,)","v":0},{"$f":"IF(AND(E$8=Display!$T$10,'Lux4-sept'!$A$8=Display!$B$7,'Lux4-sept'!$A$227=Display!$B$9,'Lux4-sept'!$A$244=Display!$B$11,'Lux4-sept'!$A$252=Display!$B$13),Display!$D6,)","v":0},{"$f":"IF(AND(F$8=Display!$T$10,'Lux4-sept'!$A$8=Display!$B$7,'Lux4-sept'!$A$227=Display!$B$9,'Lux4-sept'!$A$244=Display!$B$11,'Lux4-sept'!$A$252=Display!$B$13),Display!$D6,)","v":0},{"$f":"IF(AND(G$8=Display!$T$10,'Lux4-sept'!$A$8=Display!$B$7,'Lux4-sept'!$A$227=Display!$B$9,'Lux4-sept'!$A$244=Display!$B$11,'Lux4-sept'!$A$252=Display!$B$13),Display!$D6,)","v":0},{"$f":"IF(AND(H$8=Display!$T$10,'Lux4-sept'!$A$8=Display!$B$7,'Lux4-sept'!$A$227=Display!$B$9,'Lux4-sept'!$A$244=Display!$B$11,'Lux4-sept'!$A$252=Display!$B$13),Display!$D6,)","v":0},{"$f":"IF(AND(I$8=Display!$T$10,'Lux4-sept'!$A$8=Display!$B$7,'Lux4-sept'!$A$227=Display!$B$9,'Lux4-sept'!$A$244=Display!$B$11,'Lux4-sept'!$A$252=Display!$B$13),Display!$D6,)","v":0},{"$f":"IF(AND(J$8=Display!$T$10,'Lux4-sept'!$A$8=Display!$B$7,'Lux4-sept'!$A$227=Display!$B$9,'Lux4-sept'!$A$244=Display!$B$11,'Lux4-sept'!$A$252=Display!$B$13),Display!$D6,)","v":0},{"$f":"IF(AND(K$8=Display!$T$10,'Lux4-sept'!$A$8=Display!$B$7,'Lux4-sept'!$A$227=Display!$B$9,'Lux4-sept'!$A$244=Display!$B$11,'Lux4-sept'!$A$252=Display!$B$13),Display!$D6,)","v":0},{"$f":"IF(AND(L$8=Display!$T$10,'Lux4-sept'!$A$8=Display!$B$7,'Lux4-sept'!$A$227=Display!$B$9,'Lux4-sept'!$A$244=Display!$B$11,'Lux4-sept'!$A$252=Display!$B$13),Display!$D6,)","v":0},{"$f":"IF(AND(M$8=Display!$T$10,'Lux4-sept'!$A$8=Display!$B$7,'Lux4-sept'!$A$227=Display!$B$9,'Lux4-sept'!$A$244=Display!$B$11,'Lux4-sept'!$A$252=Display!$B$13),Display!$D6,)","v":0},{"$f":"IF(AND(N$8=Display!$T$10,'Lux4-sept'!$A$8=Display!$B$7,'Lux4-sept'!$A$227=Display!$B$9,'Lux4-sept'!$A$244=Display!$B$11,'Lux4-sept'!$A$252=Display!$B$13),Display!$D6,)","v":0},{"$f":"IF(AND(O$8=Display!$T$10,'Lux4-sept'!$A$8=Display!$B$7,'Lux4-sept'!$A$227=Display!$B$9,'Lux4-sept'!$A$244=Display!$B$11,'Lux4-sept'!$A$252=Display!$B$13),Display!$D6,)","v":0},{"$f":"IF(AND(P$8=Display!$T$10,'Lux4-sept'!$A$8=Display!$B$7,'Lux4-sept'!$A$227=Display!$B$9,'Lux4-sept'!$A$244=Display!$B$11,'Lux4-sept'!$A$252=Display!$B$13),Display!$D6,)","v":0},{"$f":"IF(AND(Q$8=Display!$T$10,'Lux4-sept'!$A$8=Display!$B$7,'Lux4-sept'!$A$227=Display!$B$9,'Lux4-sept'!$A$244=Display!$B$11,'Lux4-sept'!$A$252=Display!$B$13),Display!$D6,)","v":0},{"$f":"IF(AND(R$8=Display!$T$10,'Lux4-sept'!$A$8=Display!$B$7,'Lux4-sept'!$A$227=Display!$B$9,'Lux4-sept'!$A$244=Display!$B$11,'Lux4-sept'!$A$252=Display!$B$13),Display!$D6,)","v":0},{"$f":"IF(AND(S$8=Display!$T$10,'Lux4-sept'!$A$8=Display!$B$7,'Lux4-sept'!$A$227=Display!$B$9,'Lux4-sept'!$A$244=Display!$B$11,'Lux4-sept'!$A$252=Display!$B$13),Display!$D6,)","v":0},{"$f":"IF(AND(T$8=Display!$T$10,'Lux4-sept'!$A$8=Display!$B$7,'Lux4-sept'!$A$227=Display!$B$9,'Lux4-sept'!$A$244=Display!$B$11,'Lux4-sept'!$A$252=Display!$B$13),Display!$D6,)","v":0},{"$f":"IF(AND(U$8=Display!$T$10,'Lux4-sept'!$A$8=Display!$B$7,'Lux4-sept'!$A$227=Display!$B$9,'Lux4-sept'!$A$244=Display!$B$11,'Lux4-sept'!$A$252=Display!$B$13),Display!$D6,)","v":0},{"$f":"IF(AND(V$8=Display!$T$10,'Lux4-sept'!$A$8=Display!$B$7,'Lux4-sept'!$A$227=Display!$B$9,'Lux4-sept'!$A$244=Display!$B$11,'Lux4-sept'!$A$252=Display!$B$13),Display!$D6,)","v":0},{"$f":"IF(AND(W$8=Display!$T$10,'Lux4-sept'!$A$8=Display!$B$7,'Lux4-sept'!$A$227=Display!$B$9,'Lux4-sept'!$A$244=Display!$B$11,'Lux4-sept'!$A$252=Display!$B$13),Display!$D6,)","v":0},{"$f":"IF(AND(X$8=Display!$T$10,'Lux4-sept'!$A$8=Display!$B$7,'Lux4-sept'!$A$227=Display!$B$9,'Lux4-sept'!$A$244=Display!$B$11,'Lux4-sept'!$A$252=Display!$B$13),Display!$D6,)","v":0},{"$f":"IF(AND(Y$8=Display!$T$10,'Lux4-sept'!$A$8=Display!$B$7,'Lux4-sept'!$A$227=Display!$B$9,'Lux4-sept'!$A$244=Display!$B$11,'Lux4-sept'!$A$252=Display!$B$13),Display!$D6,)","v":0},{"$f":"IF(AND(Z$8=Display!$T$10,'Lux4-sept'!$A$8=Display!$B$7,'Lux4-sept'!$A$227=Display!$B$9,'Lux4-sept'!$A$244=Display!$B$11,'Lux4-sept'!$A$252=Display!$B$13),Display!$D6,)","v":0},{"$f":"IF(AND(AA$8=Display!$T$10,'Lux4-sept'!$A$8=Display!$B$7,'Lux4-sept'!$A$227=Display!$B$9,'Lux4-sept'!$A$244=Display!$B$11,'Lux4-sept'!$A$252=Display!$B$13),Display!$D6,)","v":0},{"$f":"IF(AND(AB$8=Display!$T$10,'Lux4-sept'!$A$8=Display!$B$7,'Lux4-sept'!$A$227=Display!$B$9,'Lux4-sept'!$A$244=Display!$B$11,'Lux4-sept'!$A$252=Display!$B$13),Display!$D6,)","v":0},{"$f":"IF(AND(AC$8=Display!$T$10,'Lux4-sept'!$A$8=Display!$B$7,'Lux4-sept'!$A$227=Display!$B$9,'Lux4-sept'!$A$244=Display!$B$11,'Lux4-sept'!$A$252=Display!$B$13),Display!$D6,)","v":0},{"$f":"IF(AND(AD$8=Display!$T$10,'Lux4-sept'!$A$8=Display!$B$7,'Lux4-sept'!$A$227=Display!$B$9,'Lux4-sept'!$A$244=Display!$B$11,'Lux4-sept'!$A$252=Display!$B$13),Display!$D6,)","v":0},{"$f":"IF(AND(AE$8=Display!$T$10,'Lux4-sept'!$A$8=Display!$B$7,'Lux4-sept'!$A$227=Display!$B$9,'Lux4-sept'!$A$244=Display!$B$11,'Lux4-sept'!$A$252=Display!$B$13),Display!$D6,)","v":0},{"$f":"IF(AND(AF$8=Display!$T$10,'Lux4-sept'!$A$8=Display!$B$7,'Lux4-sept'!$A$227=Display!$B$9,'Lux4-sept'!$A$244=Display!$B$11,'Lux4-sept'!$A$252=Display!$B$13),Display!$D6,)","v":0},null,null,0]
["Présence de poussières",{"$f":"IF(AND(B$8=Display!$T$10,'Lux4-sept'!$A$8=Display!$B$7,'Lux4-sept'!$A$227=Display!$B$9,'Lux4-sept'!$A$244=Display!$B$11,'Lux4-sept'!$A$252=Display!$B$13),Display!$D7,)","v":0},{"$f":"IF(AND(C$8=Display!$T$10,'Lux4-sept'!$A$8=Display!$B$7,'Lux4-sept'!$A$227=Display!$B$9,'Lux4-sept'!$A$244=Display!$B$11,'Lux4-sept'!$A$252=Display!$B$13),Display!$D7,)","v":0},{"$f":"IF(AND(D$8=Display!$T$10,'Lux4-sept'!$A$8=Display!$B$7,'Lux4-sept'!$A$227=Display!$B$9,'Lux4-sept'!$A$244=Display!$B$11,'Lux4-sept'!$A$252=Display!$B$13),Display!$D7,)","v":0},{"$f":"IF(AND(E$8=Display!$T$10,'Lux4-sept'!$A$8=Display!$B$7,'Lux4-sept'!$A$227=Display!$B$9,'Lux4-sept'!$A$244=Display!$B$11,'Lux4-sept'!$A$252=Display!$B$13),Display!$D7,)","v":0},{"$f":"IF(AND(F$8=Display!$T$10,'Lux4-sept'!$A$8=Display!$B$7,'Lux4-sept'!$A$227=Display!$B$9,'Lux4-sept'!$A$244=Display!$B$11,'Lux4-sept'!$A$252=Display!$B$13),Display!$D7,)","v":0},{"$f":"IF(AND(G$8=Display!$T$10,'Lux4-sept'!$A$8=Display!$B$7,'Lux4-sept'!$A$227=Display!$B$9,'Lux4-sept'!$A$244=Display!$B$11,'Lux4-sept'!$A$252=Display!$B$13),Display!$D7,)","v":0},{"$f":"IF(AND(H$8=Display!$T$10,'Lux4-sept'!$A$8=Display!$B$7,'Lux4-sept'!$A$227=Display!$B$9,'Lux4-sept'!$A$244=Display!$B$11,'Lux4-sept'!$A$252=Display!$B$13),Display!$D7,)","v":0},{"$f":"IF(AND(I$8=Display!$T$10,'Lux4-sept'!$A$8=Display!$B$7,'Lux4-sept'!$A$227=Display!$B$9,'Lux4-sept'!$A$244=Display!$B$11,'Lux4-sept'!$A$252=Display!$B$13),Display!$D7,)","v":0},{"$f":"IF(AND(J$8=Display!$T$10,'Lux4-sept'!$A$8=Display!$B$7,'Lux4-sept'!$A$227=Display!$B$9,'Lux4-sept'!$A$244=Display!$B$11,'Lux4-sept'!$A$252=Display!$B$13),Display!$D7,)","v":0},{"$f":"IF(AND(K$8=Display!$T$10,'Lux4-sept'!$A$8=Display!$B$7,'Lux4-sept'!$A$227=Display!$B$9,'Lux4-sept'!$A$244=Display!$B$11,'Lux4-sept'!$A$252=Display!$B$13),Display!$D7,)","v":0},{"$f":"IF(AND(L$8=Display!$T$10,'Lux4-sept'!$A$8=Display!$B$7,'Lux4-sept'!$A$227=Display!$B$9,'Lux4-sept'!$A$244=Display!$B$11,'Lux4-sept'!$A$252=Display!$B$13),Display!$D7,)","v":0},{"$f":"IF(AND(M$8=Display!$T$10,'Lux4-sept'!$A$8=Display!$B$7,'Lux4-sept'!$A$227=Display!$B$9,'Lux4-sept'!$A$244=Display!$B$11,'Lux4-sept'!$A$252=Display!$B$13),Display!$D7,)","v":0},{"$f":"IF(AND(N$8=Display!$T$10,'Lux4-sept'!$A$8=Display!$B$7,'Lux4-sept'!$A$227=Display!$B$9,'Lux4-sept'!$A$244=Display!$B$11,'Lux4-sept'!$A$252=Display!$B$13),Display!$D7,)","v":0},{"$f":"IF(AND(O$8=Display!$T$10,'Lux4-sept'!$A$8=Display!$B$7,'Lux4-sept'!$A$227=Display!$B$9,'Lux4-sept'!$A$244=Display!$B$11,'Lux4-sept'!$A$252=Display!$B$13),Display!$D7,)","v":0},{"$f":"IF(AND(P$8=Display!$T$10,'Lux4-sept'!$A$8=Display!$B$7,'Lux4-sept'!$A$227=Display!$B$9,'Lux4-sept'!$A$244=Display!$B$11,'Lux4-sept'!$A$252=Display!$B$13),Display!$D7,)","v":0},{"$f":"IF(AND(Q$8=Display!$T$10,'Lux4-sept'!$A$8=Display!$B$7,'Lux4-sept'!$A$227=Display!$B$9,'Lux4-sept'!$A$244=Display!$B$11,'Lux4-sept'!$A$252=Display!$B$13),Display!$D7,)","v":0},{"$f":"IF(AND(R$8=Display!$T$10,'Lux4-sept'!$A$8=Display!$B$7,'Lux4-sept'!$A$227=Display!$B$9,'Lux4-sept'!$A$244=Display!$B$11,'Lux4-sept'!$A$252=Display!$B$13),Display!$D7,)","v":0},{"$f":"IF(AND(S$8=Display!$T$10,'Lux4-sept'!$A$8=Display!$B$7,'Lux4-sept'!$A$227=Display!$B$9,'Lux4-sept'!$A$244=Display!$B$11,'Lux4-sept'!$A$252=Display!$B$13),Display!$D7,)","v":0},{"$f":"IF(AND(T$8=Display!$T$10,'Lux4-sept'!$A$8=Display!$B$7,'Lux4-sept'!$A$227=Display!$B$9,'Lux4-sept'!$A$244=Display!$B$11,'Lux4-sept'!$A$252=Display!$B$13),Display!$D7,)","v":0},{"$f":"IF(AND(U$8=Display!$T$10,'Lux4-sept'!$A$8=Display!$B$7,'Lux4-sept'!$A$227=Display!$B$9,'Lux4-sept'!$A$244=Display!$B$11,'Lux4-sept'!$A$252=Display!$B$13),Display!$D7,)","v":0},{"$f":"IF(AND(V$8=Display!$T$10,'Lux4-sept'!$A$8=Display!$B$7,'Lux4-sept'!$A$227=Display!$B$9,'Lux4-sept'!$A$244=Display!$B$11,'Lux4-sept'!$A$252=Display!$B$13),Display!$D7,)","v":0},{"$f":"IF(AND(W$8=Display!$T$10,'Lux4-sept'!$A$8=Display!$B$7,'Lux4-sept'!$A$227=Display!$B$9,'Lux4-sept'!$A$244=Display!$B$11,'Lux4-sept'!$A$252=Display!$B$13),Display!$D7,)","v":0},{"$f":"IF(AND(X$8=Display!$T$10,'Lux4-sept'!$A$8=Display!$B$7,'Lux4-sept'!$A$227=Display!$B$9,'Lux4-sept'!$A$244=Display!$B$11,'Lux4-sept'!$A$252=Display!$B$13),Display!$D7,)","v":0},{"$f":"IF(AND(Y$8=Display!$T$10,'Lux4-sept'!$A$8=Display!$B$7,'Lux4-sept'!$A$227=Display!$B$9,'Lux4-sept'!$A$244=Display!$B$11,'Lux4-sept'!$A$252=Display!$B$13),Display!$D7,)","v":0},{"$f":"IF(AND(Z$8=Display!$T$10,'Lux4-sept'!$A$8=Display!$B$7,'Lux4-sept'!$A$227=Display!$B$9,'Lux4-sept'!$A$244=Display!$B$11,'Lux4-sept'!$A$252=Display!$B$13),Display!$D7,)","v":0},{"$f":"IF(AND(AA$8=Display!$T$10,'Lux4-sept'!$A$8=Display!$B$7,'Lux4-sept'!$A$227=Display!$B$9,'Lux4-sept'!$A$244=Display!$B$11,'Lux4-sept'!$A$252=Display!$B$13),Display!$D7,)","v":0},{"$f":"IF(AND(AB$8=Display!$T$10,'Lux4-sept'!$A$8=Display!$B$7,'Lux4-sept'!$A$227=Display!$B$9,'Lux4-sept'!$A$244=Display!$B$11,'Lux4-sept'!$A$252=Display!$B$13),Display!$D7,)","v":0},{"$f":"IF(AND(AC$8=Display!$T$10,'Lux4-sept'!$A$8=Display!$B$7,'Lux4-sept'!$A$227=Display!$B$9,'Lux4-sept'!$A$244=Display!$B$11,'Lux4-sept'!$A$252=Display!$B$13),Display!$D7,)","v":0},{"$f":"IF(AND(AD$8=Display!$T$10,'Lux4-sept'!$A$8=Display!$B$7,'Lux4-sept'!$A$227=Display!$B$9,'Lux4-sept'!$A$244=Display!$B$11,'Lux4-sept'!$A$252=Display!$B$13),Display!$D7,)","v":0},{"$f":"IF(AND(AE$8=Display!$T$10,'Lux4-sept'!$A$8=Display!$B$7,'Lux4-sept'!$A$227=Display!$B$9,'Lux4-sept'!$A$244=Display!$B$11,'Lux4-sept'!$A$252=Display!$B$13),Display!$D7,)","v":0},{"$f":"IF(AND(AF$8=Display!$T$10,'Lux4-sept'!$A$8=Display!$B$7,'Lux4-sept'!$A$227=Display!$B$9,'Lux4-sept'!$A$244=Display!$B$11,'Lux4-sept'!$A$252=Display!$B$13),Display!$D7,)","v":0},null,null,0]
["Propreté des miroirs, vasques, vitres, portes, brosses, poubelles, douches",{"$f":"IF(AND(B$8=Display!$T$10,'Lux4-sept'!$A$8=Display!$B$7,'Lux4-sept'!$A$227=Display!$B$9,'Lux4-sept'!$A$244=Display!$B$11,'Lux4-sept'!$A$252=Display!$B$13),Display!$D8,)","v":0},{"$f":"IF(AND(C$8=Display!$T$10,'Lux4-sept'!$A$8=Display!$B$7,'Lux4-sept'!$A$227=Display!$B$9,'Lux4-sept'!$A$244=Display!$B$11,'Lux4-sept'!$A$252=Display!$B$13),Display!$D8,)","v":0},{"$f":"IF(AND(D$8=Display!$T$10,'Lux4-sept'!$A$8=Display!$B$7,'Lux4-sept'!$A$227=Display!$B$9,'Lux4-sept'!$A$244=Display!$B$11,'Lux4-sept'!$A$252=Display!$B$13),Display!$D8,)","v":0},{"$f":"IF(AND(E$8=Display!$T$10,'Lux4-sept'!$A$8=Display!$B$7,'Lux4-sept'!$A$227=Display!$B$9,'Lux4-sept'!$A$244=Display!$B$11,'Lux4-sept'!$A$252=Display!$B$13),Display!$D8,)","v":0},{"$f":"IF(AND(F$8=Display!$T$10,'Lux4-sept'!$A$8=Display!$B$7,'Lux4-sept'!$A$227=Display!$B$9,'Lux4-sept'!$A$244=Display!$B$11,'Lux4-sept'!$A$252=Display!$B$13),Display!$D8,)","v":0},{"$f":"IF(AND(G$8=Display!$T$10,'Lux4-sept'!$A$8=Display!$B$7,'Lux4-sept'!$A$227=Display!$B$9,'Lux4-sept'!$A$244=Display!$B$11,'Lux4-sept'!$A$252=Display!$B$13),Display!$D8,)","v":0},{"$f":"IF(AND(H$8=Display!$T$10,'Lux4-sept'!$A$8=Display!$B$7,'Lux4-sept'!$A$227=Display!$B$9,'Lux4-sept'!$A$244=Display!$B$11,'Lux4-sept'!$A$252=Display!$B$13),Display!$D8,)","v":0},{"$f":"IF(AND(I$8=Display!$T$10,'Lux4-sept'!$A$8=Display!$B$7,'Lux4-sept'!$A$227=Display!$B$9,'Lux4-sept'!$A$244=Display!$B$11,'Lux4-sept'!$A$252=Display!$B$13),Display!$D8,)","v":0},{"$f":"IF(AND(J$8=Display!$T$10,'Lux4-sept'!$A$8=Display!$B$7,'Lux4-sept'!$A$227=Display!$B$9,'Lux4-sept'!$A$244=Display!$B$11,'Lux4-sept'!$A$252=Display!$B$13),Display!$D8,)","v":0},{"$f":"IF(AND(K$8=Display!$T$10,'Lux4-sept'!$A$8=Display!$B$7,'Lux4-sept'!$A$227=Display!$B$9,'Lux4-sept'!$A$244=Display!$B$11,'Lux4-sept'!$A$252=Display!$B$13),Display!$D8,)","v":0},{"$f":"IF(AND(L$8=Display!$T$10,'Lux4-sept'!$A$8=Display!$B$7,'Lux4-sept'!$A$227=Display!$B$9,'Lux4-sept'!$A$244=Display!$B$11,'Lux4-sept'!$A$252=Display!$B$13),Display!$D8,)","v":0},{"$f":"IF(AND(M$8=Display!$T$10,'Lux4-sept'!$A$8=Display!$B$7,'Lux4-sept'!$A$227=Display!$B$9,'Lux4-sept'!$A$244=Display!$B$11,'Lux4-sept'!$A$252=Display!$B$13),Display!$D8,)","v":0},{"$f":"IF(AND(N$8=Display!$T$10,'Lux4-sept'!$A$8=Display!$B$7,'Lux4-sept'!$A$227=Display!$B$9,'Lux4-sept'!$A$244=Display!$B$11,'Lux4-sept'!$A$252=Display!$B$13),Display!$D8,)","v":0},{"$f":"IF(AND(O$8=Display!$T$10,'Lux4-sept'!$A$8=Display!$B$7,'Lux4-sept'!$A$227=Display!$B$9,'Lux4-sept'!$A$244=Display!$B$11,'Lux4-sept'!$A$252=Display!$B$13),Display!$D8,)","v":0},{"$f":"IF(AND(P$8=Display!$T$10,'Lux4-sept'!$A$8=Display!$B$7,'Lux4-sept'!$A$227=Display!$B$9,'Lux4-sept'!$A$244=Display!$B$11,'Lux4-sept'!$A$252=Display!$B$13),Display!$D8,)","v":0},{"$f":"IF(AND(Q$8=Display!$T$10,'Lux4-sept'!$A$8=Display!$B$7,'Lux4-sept'!$A$227=Display!$B$9,'Lux4-sept'!$A$244=Display!$B$11,'Lux4-sept'!$A$252=Display!$B$13),Display!$D8,)","v":0},{"$f":"IF(AND(R$8=Display!$T$10,'Lux4-sept'!$A$8=Display!$B$7,'Lux4-sept'!$A$227=Display!$B$9,'Lux4-sept'!$A$244=Display!$B$11,'Lux4-sept'!$A$252=Display!$B$13),Display!$D8,)","v":0},{"$f":"IF(AND(S$8=Display!$T$10,'Lux4-sept'!$A$8=Display!$B$7,'Lux4-sept'!$A$227=Display!$B$9,'Lux4-sept'!$A$244=Display!$B$11,'Lux4-sept'!$A$252=Display!$B$13),Display!$D8,)","v":0},{"$f":"IF(AND(T$8=Display!$T$10,'Lux4-sept'!$A$8=Display!$B$7,'Lux4-sept'!$A$227=Display!$B$9,'Lux4-sept'!$A$244=Display!$B$11,'Lux4-sept'!$A$252=Display!$B$13),Display!$D8,)","v":0},{"$f":"IF(AND(U$8=Display!$T$10,'Lux4-sept'!$A$8=Display!$B$7,'Lux4-sept'!$A$227=Display!$B$9,'Lux4-sept'!$A$244=Display!$B$11,'Lux4-sept'!$A$252=Display!$B$13),Display!$D8,)","v":0},{"$f":"IF(AND(V$8=Display!$T$10,'Lux4-sept'!$A$8=Display!$B$7,'Lux4-sept'!$A$227=Display!$B$9,'Lux4-sept'!$A$244=Display!$B$11,'Lux4-sept'!$A$252=Display!$B$13),Display!$D8,)","v":0},{"$f":"IF(AND(W$8=Display!$T$10,'Lux4-sept'!$A$8=Display!$B$7,'Lux4-sept'!$A$227=Display!$B$9,'Lux4-sept'!$A$244=Display!$B$11,'Lux4-sept'!$A$252=Display!$B$13),Display!$D8,)","v":0},{"$f":"IF(AND(X$8=Display!$T$10,'Lux4-sept'!$A$8=Display!$B$7,'Lux4-sept'!$A$227=Display!$B$9,'Lux4-sept'!$A$244=Display!$B$11,'Lux4-sept'!$A$252=Display!$B$13),Display!$D8,)","v":0},{"$f":"IF(AND(Y$8=Display!$T$10,'Lux4-sept'!$A$8=Display!$B$7,'Lux4-sept'!$A$227=Display!$B$9,'Lux4-sept'!$A$244=Display!$B$11,'Lux4-sept'!$A$252=Display!$B$13),Display!$D8,)","v":0},{"$f":"IF(AND(Z$8=Display!$T$10,'Lux4-sept'!$A$8=Display!$B$7,'Lux4-sept'!$A$227=Display!$B$9,'Lux4-sept'!$A$244=Display!$B$11,'Lux4-sept'!$A$252=Display!$B$13),Display!$D8,)","v":0},{"$f":"IF(AND(AA$8=Display!$T$10,'Lux4-sept'!$A$8=Display!$B$7,'Lux4-sept'!$A$227=Display!$B$9,'Lux4-sept'!$A$244=Display!$B$11,'Lux4-sept'!$A$252=Display!$B$13),Display!$D8,)","v":0},{"$f":"IF(AND(AB$8=Display!$T$10,'Lux4-sept'!$A$8=Display!$B$7,'Lux4-sept'!$A$227=Display!$B$9,'Lux4-sept'!$A$244=Display!$B$11,'Lux4-sept'!$A$252=Display!$B$13),Display!$D8,)","v":0},{"$f":"IF(AND(AC$8=Display!$T$10,'Lux4-sept'!$A$8=Display!$B$7,'Lux4-sept'!$A$227=Display!$B$9,'Lux4-sept'!$A$244=Display!$B$11,'Lux4-sept'!$A$252=Display!$B$13),Display!$D8,)","v":0},{"$f":"IF(AND(AD$8=Display!$T$10,'Lux4-sept'!$A$8=Display!$B$7,'Lux4-sept'!$A$227=Display!$B$9,'Lux4-sept'!$A$244=Display!$B$11,'Lux4-sept'!$A$252=Display!$B$13),Display!$D8,)","v":0},{"$f":"IF(AND(AE$8=Display!$T$10,'Lux4-sept'!$A$8=Display!$B$7,'Lux4-sept'!$A$227=Display!$B$9,'Lux4-sept'!$A$244=Display!$B$11,'Lux4-sept'!$A$252=Display!$B$13),Display!$D8,)","v":0},{"$f":"IF(AND(AF$8=Display!$T$10,'Lux4-sept'!$A$8=Display!$B$7,'Lux4-sept'!$A$227=Display!$B$9,'Lux4-sept'!$A$244=Display!$B$11,'Lux4-sept'!$A$252=Display!$B$13),Display!$D8,)","v":0},null,null,0]
["MOYENNE",{"$f":"((IF((SUM(B253:B257))<>0,(SUM(B253:B257)),0))/(IF((SUM((IF(B253<>0,3,0)),(IF(B254<>0,3,0)),(IF(B255<>0,3,0)),(IF(B256<>0,3,0)),(IF(B257<>0,3,0))))<>0,((SUM((IF(B253<>0,3,0)),(IF(B254<>0,3,0)),(IF(B255<>0,3,0)),(IF(B256<>0,3,0)),(IF(B257<>0,3,0))))),1)))","v":0},{"$f":"((IF((SUM(C253:C257))<>0,(SUM(C253:C257)),0))/(IF((SUM((IF(C253<>0,3,0)),(IF(C254<>0,3,0)),(IF(C255<>0,3,0)),(IF(C256<>0,3,0)),(IF(C257<>0,3,0))))<>0,((SUM((IF(C253<>0,3,0)),(IF(C254<>0,3,0)),(IF(C255<>0,3,0)),(IF(C256<>0,3,0)),(IF(C257<>0,3,0))))),1)))","v":0},0,0,0,0,0,0,0,0,0,0,0,0,0,0,0,0,0,0,0,0,0,0,0,0,0,0,0,0,0,0,0]
[".02"]
["Fourniture ingrédients sanitaires",{"$f":"IF(AND(B$8=Display!$T$10,'Lux4-sept'!$A$8=Display!$B$7,'Lux4-sept'!$A$227=Display!$B$9,'Lux4-sept'!$A$244=Display!$B$11,'Lux4-sept'!$A$259=Display!$B$13),Display!$D4,)","v":0},{"$f":"IF(AND(C$8=Display!$T$10,'Lux4-sept'!$A$8=Display!$B$7,'Lux4-sept'!$A$227=Display!$B$9,'Lux4-sept'!$A$244=Display!$B$11,'Lux4-sept'!$A$259=Display!$B$13),Display!$D4,)","v":0},{"$f":"IF(AND(D$8=Display!$T$10,'Lux4-sept'!$A$8=Display!$B$7,'Lux4-sept'!$A$227=Display!$B$9,'Lux4-sept'!$A$244=Display!$B$11,'Lux4-sept'!$A$259=Display!$B$13),Display!$D4,)","v":0},{"$f":"IF(AND(E$8=Display!$T$10,'Lux4-sept'!$A$8=Display!$B$7,'Lux4-sept'!$A$227=Display!$B$9,'Lux4-sept'!$A$244=Display!$B$11,'Lux4-sept'!$A$259=Display!$B$13),Display!$D4,)","v":0},{"$f":"IF(AND(F$8=Display!$T$10,'Lux4-sept'!$A$8=Display!$B$7,'Lux4-sept'!$A$227=Display!$B$9,'Lux4-sept'!$A$244=Display!$B$11,'Lux4-sept'!$A$259=Display!$B$13),Display!$D4,)","v":0},{"$f":"IF(AND(G$8=Display!$T$10,'Lux4-sept'!$A$8=Display!$B$7,'Lux4-sept'!$A$227=Display!$B$9,'Lux4-sept'!$A$244=Display!$B$11,'Lux4-sept'!$A$259=Display!$B$13),Display!$D4,)","v":0},{"$f":"IF(AND(H$8=Display!$T$10,'Lux4-sept'!$A$8=Display!$B$7,'Lux4-sept'!$A$227=Display!$B$9,'Lux4-sept'!$A$244=Display!$B$11,'Lux4-sept'!$A$259=Display!$B$13),Display!$D4,)","v":0},{"$f":"IF(AND(I$8=Display!$T$10,'Lux4-sept'!$A$8=Display!$B$7,'Lux4-sept'!$A$227=Display!$B$9,'Lux4-sept'!$A$244=Display!$B$11,'Lux4-sept'!$A$259=Display!$B$13),Display!$D4,)","v":0},{"$f":"IF(AND(J$8=Display!$T$10,'Lux4-sept'!$A$8=Display!$B$7,'Lux4-sept'!$A$227=Display!$B$9,'Lux4-sept'!$A$244=Display!$B$11,'Lux4-sept'!$A$259=Display!$B$13),Display!$D4,)","v":0},{"$f":"IF(AND(K$8=Display!$T$10,'Lux4-sept'!$A$8=Display!$B$7,'Lux4-sept'!$A$227=Display!$B$9,'Lux4-sept'!$A$244=Display!$B$11,'Lux4-sept'!$A$259=Display!$B$13),Display!$D4,)","v":0},{"$f":"IF(AND(L$8=Display!$T$10,'Lux4-sept'!$A$8=Display!$B$7,'Lux4-sept'!$A$227=Display!$B$9,'Lux4-sept'!$A$244=Display!$B$11,'Lux4-sept'!$A$259=Display!$B$13),Display!$D4,)","v":0},{"$f":"IF(AND(M$8=Display!$T$10,'Lux4-sept'!$A$8=Display!$B$7,'Lux4-sept'!$A$227=Display!$B$9,'Lux4-sept'!$A$244=Display!$B$11,'Lux4-sept'!$A$259=Display!$B$13),Display!$D4,)","v":0},{"$f":"IF(AND(N$8=Display!$T$10,'Lux4-sept'!$A$8=Display!$B$7,'Lux4-sept'!$A$227=Display!$B$9,'Lux4-sept'!$A$244=Display!$B$11,'Lux4-sept'!$A$259=Display!$B$13),Display!$D4,)","v":0},{"$f":"IF(AND(O$8=Display!$T$10,'Lux4-sept'!$A$8=Display!$B$7,'Lux4-sept'!$A$227=Display!$B$9,'Lux4-sept'!$A$244=Display!$B$11,'Lux4-sept'!$A$259=Display!$B$13),Display!$D4,)","v":0},{"$f":"IF(AND(P$8=Display!$T$10,'Lux4-sept'!$A$8=Display!$B$7,'Lux4-sept'!$A$227=Display!$B$9,'Lux4-sept'!$A$244=Display!$B$11,'Lux4-sept'!$A$259=Display!$B$13),Display!$D4,)","v":0},{"$f":"IF(AND(Q$8=Display!$T$10,'Lux4-sept'!$A$8=Display!$B$7,'Lux4-sept'!$A$227=Display!$B$9,'Lux4-sept'!$A$244=Display!$B$11,'Lux4-sept'!$A$259=Display!$B$13),Display!$D4,)","v":0},{"$f":"IF(AND(R$8=Display!$T$10,'Lux4-sept'!$A$8=Display!$B$7,'Lux4-sept'!$A$227=Display!$B$9,'Lux4-sept'!$A$244=Display!$B$11,'Lux4-sept'!$A$259=Display!$B$13),Display!$D4,)","v":0},{"$f":"IF(AND(S$8=Display!$T$10,'Lux4-sept'!$A$8=Display!$B$7,'Lux4-sept'!$A$227=Display!$B$9,'Lux4-sept'!$A$244=Display!$B$11,'Lux4-sept'!$A$259=Display!$B$13),Display!$D4,)","v":0},{"$f":"IF(AND(T$8=Display!$T$10,'Lux4-sept'!$A$8=Display!$B$7,'Lux4-sept'!$A$227=Display!$B$9,'Lux4-sept'!$A$244=Display!$B$11,'Lux4-sept'!$A$259=Display!$B$13),Display!$D4,)","v":0},{"$f":"IF(AND(U$8=Display!$T$10,'Lux4-sept'!$A$8=Display!$B$7,'Lux4-sept'!$A$227=Display!$B$9,'Lux4-sept'!$A$244=Display!$B$11,'Lux4-sept'!$A$259=Display!$B$13),Display!$D4,)","v":0},{"$f":"IF(AND(V$8=Display!$T$10,'Lux4-sept'!$A$8=Display!$B$7,'Lux4-sept'!$A$227=Display!$B$9,'Lux4-sept'!$A$244=Display!$B$11,'Lux4-sept'!$A$259=Display!$B$13),Display!$D4,)","v":0},{"$f":"IF(AND(W$8=Display!$T$10,'Lux4-sept'!$A$8=Display!$B$7,'Lux4-sept'!$A$227=Display!$B$9,'Lux4-sept'!$A$244=Display!$B$11,'Lux4-sept'!$A$259=Display!$B$13),Display!$D4,)","v":0},{"$f":"IF(AND(X$8=Display!$T$10,'Lux4-sept'!$A$8=Display!$B$7,'Lux4-sept'!$A$227=Display!$B$9,'Lux4-sept'!$A$244=Display!$B$11,'Lux4-sept'!$A$259=Display!$B$13),Display!$D4,)","v":0},{"$f":"IF(AND(Y$8=Display!$T$10,'Lux4-sept'!$A$8=Display!$B$7,'Lux4-sept'!$A$227=Display!$B$9,'Lux4-sept'!$A$244=Display!$B$11,'Lux4-sept'!$A$259=Display!$B$13),Display!$D4,)","v":0},{"$f":"IF(AND(Z$8=Display!$T$10,'Lux4-sept'!$A$8=Display!$B$7,'Lux4-sept'!$A$227=Display!$B$9,'Lux4-sept'!$A$244=Display!$B$11,'Lux4-sept'!$A$259=Display!$B$13),Display!$D4,)","v":0},{"$f":"IF(AND(AA$8=Display!$T$10,'Lux4-sept'!$A$8=Display!$B$7,'Lux4-sept'!$A$227=Display!$B$9,'Lux4-sept'!$A$244=Display!$B$11,'Lux4-sept'!$A$259=Display!$B$13),Display!$D4,)","v":0},{"$f":"IF(AND(AB$8=Display!$T$10,'Lux4-sept'!$A$8=Display!$B$7,'Lux4-sept'!$A$227=Display!$B$9,'Lux4-sept'!$A$244=Display!$B$11,'Lux4-sept'!$A$259=Display!$B$13),Display!$D4,)","v":0},{"$f":"IF(AND(AC$8=Display!$T$10,'Lux4-sept'!$A$8=Display!$B$7,'Lux4-sept'!$A$227=Display!$B$9,'Lux4-sept'!$A$244=Display!$B$11,'Lux4-sept'!$A$259=Display!$B$13),Display!$D4,)","v":0},{"$f":"IF(AND(AD$8=Display!$T$10,'Lux4-sept'!$A$8=Display!$B$7,'Lux4-sept'!$A$227=Display!$B$9,'Lux4-sept'!$A$244=Display!$B$11,'Lux4-sept'!$A$259=Display!$B$13),Display!$D4,)","v":0},{"$f":"IF(AND(AE$8=Display!$T$10,'Lux4-sept'!$A$8=Display!$B$7,'Lux4-sept'!$A$227=Display!$B$9,'Lux4-sept'!$A$244=Display!$B$11,'Lux4-sept'!$A$259=Display!$B$13),Display!$D4,)","v":0},{"$f":"IF(AND(AF$8=Display!$T$10,'Lux4-sept'!$A$8=Display!$B$7,'Lux4-sept'!$A$227=Display!$B$9,'Lux4-sept'!$A$244=Display!$B$11,'Lux4-sept'!$A$259=Display!$B$13),Display!$D4,)","v":0},null,null,{"$f":"((IF((SUM(B260:AF260))<>0,(SUM(B260:AF260)),0))/(IF((SUM((IF(B260<>0,3,0)),(IF(C260<>0,3,0)),(IF(D260<>0,3,0)),(IF(E260<>0,3,0)),(IF(F260<>0,3,0)),(IF(F260<>0,3,0)),(IF(F260<>0,3,0)),(IF(G260<>0,3,0)),(IF(H260<>0,3,0)),(IF(I260<>0,3,0)),(IF(J260<>0,3,0)),(IF(K260<>0,3,0)),(IF(L260<>0,3,0)),(IF(M260<>0,3,0)),(IF(N260<>0,3,0)),(IF(O260<>0,3,0)),(IF(P260<>0,3,0)),(IF(Q260<>0,3,0)),(IF(R260<>0,3,0)),(IF(S260<>0,3,0)),(IF(T260<>0,3,0)),(IF(U260<>0,3,0)),(IF(V260<>0,3,0)),(IF(W260<>0,3,0)),(IF(X260<>0,3,0)),(IF(Y260<>0,3,0)),(IF(Z260<>0,3,0)),(IF(AA260<>0,3,0)),(IF(AB260<>0,3,0)),(IF(AC260<>0,3,0)),(IF(AD260<>0,3,0)),(IF(AE260<>0,3,0)),(IF(AF260<>0,3,0))))<>0,((SUM((IF(B260<>0,3,0)),(IF(C260<>0,3,0)),(IF(D260<>0,3,0)),(IF(E260<>0,3,0)),(IF(F260<>0,3,0)),(IF(F260<>0,3,0)),(IF(F260<>0,3,0)),(IF(G260<>0,3,0)),(IF(H260<>0,3,0)),(IF(I260<>0,3,0)),(IF(J260<>0,3,0)),(IF(K260<>0,3,0)),(IF(L260<>0,3,0)),(IF(M260<>0,3,0)),(IF(N260<>0,3,0)),(IF(O260<>0,3,0)),(IF(P260<>0,3,0)),(IF(Q260<>0,3,0)),(IF(R260<>0,3,0)),(IF(S260<>0,3,0)),(IF(T260<>0,3,0)),(IF(U260<>0,3,0)),(IF(V260<>0,3,0)),(IF(W260<>0,3,0)),(IF(X260<>0,3,0)),(IF(Y260<>0,3,0)),(IF(Z260<>0,3,0)),(IF(AA260<>0,3,0)),(IF(AB260<>0,3,0)),(IF(AC260<>0,3,0)),(IF(AD260<>0,3,0)),(IF(AE260<>0,3,0)),(IF(AF260<>0,3,0))))),1)))","v":0}]
["Nettoyage des sols",{"$f":"IF(AND(B$8=Display!$T$10,'Lux4-sept'!$A$8=Display!$B$7,'Lux4-sept'!$A$227=Display!$B$9,'Lux4-sept'!$A$244=Display!$B$11,'Lux4-sept'!$A$259=Display!$B$13),Display!$D5,)","v":0},{"$f":"IF(AND(C$8=Display!$T$10,'Lux4-sept'!$A$8=Display!$B$7,'Lux4-sept'!$A$227=Display!$B$9,'Lux4-sept'!$A$244=Display!$B$11,'Lux4-sept'!$A$259=Display!$B$13),Display!$D5,)","v":0},{"$f":"IF(AND(D$8=Display!$T$10,'Lux4-sept'!$A$8=Display!$B$7,'Lux4-sept'!$A$227=Display!$B$9,'Lux4-sept'!$A$244=Display!$B$11,'Lux4-sept'!$A$259=Display!$B$13),Display!$D5,)","v":0},{"$f":"IF(AND(E$8=Display!$T$10,'Lux4-sept'!$A$8=Display!$B$7,'Lux4-sept'!$A$227=Display!$B$9,'Lux4-sept'!$A$244=Display!$B$11,'Lux4-sept'!$A$259=Display!$B$13),Display!$D5,)","v":0},{"$f":"IF(AND(F$8=Display!$T$10,'Lux4-sept'!$A$8=Display!$B$7,'Lux4-sept'!$A$227=Display!$B$9,'Lux4-sept'!$A$244=Display!$B$11,'Lux4-sept'!$A$259=Display!$B$13),Display!$D5,)","v":0},{"$f":"IF(AND(G$8=Display!$T$10,'Lux4-sept'!$A$8=Display!$B$7,'Lux4-sept'!$A$227=Display!$B$9,'Lux4-sept'!$A$244=Display!$B$11,'Lux4-sept'!$A$259=Display!$B$13),Display!$D5,)","v":0},{"$f":"IF(AND(H$8=Display!$T$10,'Lux4-sept'!$A$8=Display!$B$7,'Lux4-sept'!$A$227=Display!$B$9,'Lux4-sept'!$A$244=Display!$B$11,'Lux4-sept'!$A$259=Display!$B$13),Display!$D5,)","v":0},{"$f":"IF(AND(I$8=Display!$T$10,'Lux4-sept'!$A$8=Display!$B$7,'Lux4-sept'!$A$227=Display!$B$9,'Lux4-sept'!$A$244=Display!$B$11,'Lux4-sept'!$A$259=Display!$B$13),Display!$D5,)","v":0},{"$f":"IF(AND(J$8=Display!$T$10,'Lux4-sept'!$A$8=Display!$B$7,'Lux4-sept'!$A$227=Display!$B$9,'Lux4-sept'!$A$244=Display!$B$11,'Lux4-sept'!$A$259=Display!$B$13),Display!$D5,)","v":0},{"$f":"IF(AND(K$8=Display!$T$10,'Lux4-sept'!$A$8=Display!$B$7,'Lux4-sept'!$A$227=Display!$B$9,'Lux4-sept'!$A$244=Display!$B$11,'Lux4-sept'!$A$259=Display!$B$13),Display!$D5,)","v":0},{"$f":"IF(AND(L$8=Display!$T$10,'Lux4-sept'!$A$8=Display!$B$7,'Lux4-sept'!$A$227=Display!$B$9,'Lux4-sept'!$A$244=Display!$B$11,'Lux4-sept'!$A$259=Display!$B$13),Display!$D5,)","v":0},{"$f":"IF(AND(M$8=Display!$T$10,'Lux4-sept'!$A$8=Display!$B$7,'Lux4-sept'!$A$227=Display!$B$9,'Lux4-sept'!$A$244=Display!$B$11,'Lux4-sept'!$A$259=Display!$B$13),Display!$D5,)","v":0},{"$f":"IF(AND(N$8=Display!$T$10,'Lux4-sept'!$A$8=Display!$B$7,'Lux4-sept'!$A$227=Display!$B$9,'Lux4-sept'!$A$244=Display!$B$11,'Lux4-sept'!$A$259=Display!$B$13),Display!$D5,)","v":0},{"$f":"IF(AND(O$8=Display!$T$10,'Lux4-sept'!$A$8=Display!$B$7,'Lux4-sept'!$A$227=Display!$B$9,'Lux4-sept'!$A$244=Display!$B$11,'Lux4-sept'!$A$259=Display!$B$13),Display!$D5,)","v":0},{"$f":"IF(AND(P$8=Display!$T$10,'Lux4-sept'!$A$8=Display!$B$7,'Lux4-sept'!$A$227=Display!$B$9,'Lux4-sept'!$A$244=Display!$B$11,'Lux4-sept'!$A$259=Display!$B$13),Display!$D5,)","v":0},{"$f":"IF(AND(Q$8=Display!$T$10,'Lux4-sept'!$A$8=Display!$B$7,'Lux4-sept'!$A$227=Display!$B$9,'Lux4-sept'!$A$244=Display!$B$11,'Lux4-sept'!$A$259=Display!$B$13),Display!$D5,)","v":0},{"$f":"IF(AND(R$8=Display!$T$10,'Lux4-sept'!$A$8=Display!$B$7,'Lux4-sept'!$A$227=Display!$B$9,'Lux4-sept'!$A$244=Display!$B$11,'Lux4-sept'!$A$259=Display!$B$13),Display!$D5,)","v":0},{"$f":"IF(AND(S$8=Display!$T$10,'Lux4-sept'!$A$8=Display!$B$7,'Lux4-sept'!$A$227=Display!$B$9,'Lux4-sept'!$A$244=Display!$B$11,'Lux4-sept'!$A$259=Display!$B$13),Display!$D5,)","v":0},{"$f":"IF(AND(T$8=Display!$T$10,'Lux4-sept'!$A$8=Display!$B$7,'Lux4-sept'!$A$227=Display!$B$9,'Lux4-sept'!$A$244=Display!$B$11,'Lux4-sept'!$A$259=Display!$B$13),Display!$D5,)","v":0},{"$f":"IF(AND(U$8=Display!$T$10,'Lux4-sept'!$A$8=Display!$B$7,'Lux4-sept'!$A$227=Display!$B$9,'Lux4-sept'!$A$244=Display!$B$11,'Lux4-sept'!$A$259=Display!$B$13),Display!$D5,)","v":0},{"$f":"IF(AND(V$8=Display!$T$10,'Lux4-sept'!$A$8=Display!$B$7,'Lux4-sept'!$A$227=Display!$B$9,'Lux4-sept'!$A$244=Display!$B$11,'Lux4-sept'!$A$259=Display!$B$13),Display!$D5,)","v":0},{"$f":"IF(AND(W$8=Display!$T$10,'Lux4-sept'!$A$8=Display!$B$7,'Lux4-sept'!$A$227=Display!$B$9,'Lux4-sept'!$A$244=Display!$B$11,'Lux4-sept'!$A$259=Display!$B$13),Display!$D5,)","v":0},{"$f":"IF(AND(X$8=Display!$T$10,'Lux4-sept'!$A$8=Display!$B$7,'Lux4-sept'!$A$227=Display!$B$9,'Lux4-sept'!$A$244=Display!$B$11,'Lux4-sept'!$A$259=Display!$B$13),Display!$D5,)","v":0},{"$f":"IF(AND(Y$8=Display!$T$10,'Lux4-sept'!$A$8=Display!$B$7,'Lux4-sept'!$A$227=Display!$B$9,'Lux4-sept'!$A$244=Display!$B$11,'Lux4-sept'!$A$259=Display!$B$13),Display!$D5,)","v":0},{"$f":"IF(AND(Z$8=Display!$T$10,'Lux4-sept'!$A$8=Display!$B$7,'Lux4-sept'!$A$227=Display!$B$9,'Lux4-sept'!$A$244=Display!$B$11,'Lux4-sept'!$A$259=Display!$B$13),Display!$D5,)","v":0},{"$f":"IF(AND(AA$8=Display!$T$10,'Lux4-sept'!$A$8=Display!$B$7,'Lux4-sept'!$A$227=Display!$B$9,'Lux4-sept'!$A$244=Display!$B$11,'Lux4-sept'!$A$259=Display!$B$13),Display!$D5,)","v":0},{"$f":"IF(AND(AB$8=Display!$T$10,'Lux4-sept'!$A$8=Display!$B$7,'Lux4-sept'!$A$227=Display!$B$9,'Lux4-sept'!$A$244=Display!$B$11,'Lux4-sept'!$A$259=Display!$B$13),Display!$D5,)","v":0},{"$f":"IF(AND(AC$8=Display!$T$10,'Lux4-sept'!$A$8=Display!$B$7,'Lux4-sept'!$A$227=Display!$B$9,'Lux4-sept'!$A$244=Display!$B$11,'Lux4-sept'!$A$259=Display!$B$13),Display!$D5,)","v":0},{"$f":"IF(AND(AD$8=Display!$T$10,'Lux4-sept'!$A$8=Display!$B$7,'Lux4-sept'!$A$227=Display!$B$9,'Lux4-sept'!$A$244=Display!$B$11,'Lux4-sept'!$A$259=Display!$B$13),Display!$D5,)","v":0},{"$f":"IF(AND(AE$8=Display!$T$10,'Lux4-sept'!$A$8=Display!$B$7,'Lux4-sept'!$A$227=Display!$B$9,'Lux4-sept'!$A$244=Display!$B$11,'Lux4-sept'!$A$259=Display!$B$13),Display!$D5,)","v":0},{"$f":"IF(AND(AF$8=Display!$T$10,'Lux4-sept'!$A$8=Display!$B$7,'Lux4-sept'!$A$227=Display!$B$9,'Lux4-sept'!$A$244=Display!$B$11,'Lux4-sept'!$A$259=Display!$B$13),Display!$D5,)","v":0},null,null,{"$f":"((IF((SUM(B261:AF261))<>0,(SUM(B261:AF261)),0))/(IF((SUM((IF(B261<>0,3,0)),(IF(C261<>0,3,0)),(IF(D261<>0,3,0)),(IF(E261<>0,3,0)),(IF(F261<>0,3,0)),(IF(F261<>0,3,0)),(IF(F261<>0,3,0)),(IF(G261<>0,3,0)),(IF(H261<>0,3,0)),(IF(I261<>0,3,0)),(IF(J261<>0,3,0)),(IF(K261<>0,3,0)),(IF(L261<>0,3,0)),(IF(M261<>0,3,0)),(IF(N261<>0,3,0)),(IF(O261<>0,3,0)),(IF(P261<>0,3,0)),(IF(Q261<>0,3,0)),(IF(R261<>0,3,0)),(IF(S261<>0,3,0)),(IF(T261<>0,3,0)),(IF(U261<>0,3,0)),(IF(V261<>0,3,0)),(IF(W261<>0,3,0)),(IF(X261<>0,3,0)),(IF(Y261<>0,3,0)),(IF(Z261<>0,3,0)),(IF(AA261<>0,3,0)),(IF(AB261<>0,3,0)),(IF(AC261<>0,3,0)),(IF(AD261<>0,3,0)),(IF(AE261<>0,3,0)),(IF(AF261<>0,3,0))))<>0,((SUM((IF(B261<>0,3,0)),(IF(C261<>0,3,0)),(IF(D261<>0,3,0)),(IF(E261<>0,3,0)),(IF(F261<>0,3,0)),(IF(F261<>0,3,0)),(IF(F261<>0,3,0)),(IF(G261<>0,3,0)),(IF(H261<>0,3,0)),(IF(I261<>0,3,0)),(IF(J261<>0,3,0)),(IF(K261<>0,3,0)),(IF(L261<>0,3,0)),(IF(M261<>0,3,0)),(IF(N261<>0,3,0)),(IF(O261<>0,3,0)),(IF(P261<>0,3,0)),(IF(Q261<>0,3,0)),(IF(R261<>0,3,0)),(IF(S261<>0,3,0)),(IF(T261<>0,3,0)),(IF(U261<>0,3,0)),(IF(V261<>0,3,0)),(IF(W261<>0,3,0)),(IF(X261<>0,3,0)),(IF(Y261<>0,3,0)),(IF(Z261<>0,3,0)),(IF(AA261<>0,3,0)),(IF(AB261<>0,3,0)),(IF(AC261<>0,3,0)),(IF(AD261<>0,3,0)),(IF(AE261<>0,3,0)),(IF(AF261<>0,3,0))))),1)))","v":0}]
["Propreté des Murs",{"$f":"IF(AND(B$8=Display!$T$10,'Lux4-sept'!$A$8=Display!$B$7,'Lux4-sept'!$A$227=Display!$B$9,'Lux4-sept'!$A$244=Display!$B$11,'Lux4-sept'!$A$259=Display!$B$13),Display!$D6,)","v":0},{"$f":"IF(AND(C$8=Display!$T$10,'Lux4-sept'!$A$8=Display!$B$7,'Lux4-sept'!$A$227=Display!$B$9,'Lux4-sept'!$A$244=Display!$B$11,'Lux4-sept'!$A$259=Display!$B$13),Display!$D6,)","v":0},{"$f":"IF(AND(D$8=Display!$T$10,'Lux4-sept'!$A$8=Display!$B$7,'Lux4-sept'!$A$227=Display!$B$9,'Lux4-sept'!$A$244=Display!$B$11,'Lux4-sept'!$A$259=Display!$B$13),Display!$D6,)","v":0},{"$f":"IF(AND(E$8=Display!$T$10,'Lux4-sept'!$A$8=Display!$B$7,'Lux4-sept'!$A$227=Display!$B$9,'Lux4-sept'!$A$244=Display!$B$11,'Lux4-sept'!$A$259=Display!$B$13),Display!$D6,)","v":0},{"$f":"IF(AND(F$8=Display!$T$10,'Lux4-sept'!$A$8=Display!$B$7,'Lux4-sept'!$A$227=Display!$B$9,'Lux4-sept'!$A$244=Display!$B$11,'Lux4-sept'!$A$259=Display!$B$13),Display!$D6,)","v":0},{"$f":"IF(AND(G$8=Display!$T$10,'Lux4-sept'!$A$8=Display!$B$7,'Lux4-sept'!$A$227=Display!$B$9,'Lux4-sept'!$A$244=Display!$B$11,'Lux4-sept'!$A$259=Display!$B$13),Display!$D6,)","v":0},{"$f":"IF(AND(H$8=Display!$T$10,'Lux4-sept'!$A$8=Display!$B$7,'Lux4-sept'!$A$227=Display!$B$9,'Lux4-sept'!$A$244=Display!$B$11,'Lux4-sept'!$A$259=Display!$B$13),Display!$D6,)","v":0},{"$f":"IF(AND(I$8=Display!$T$10,'Lux4-sept'!$A$8=Display!$B$7,'Lux4-sept'!$A$227=Display!$B$9,'Lux4-sept'!$A$244=Display!$B$11,'Lux4-sept'!$A$259=Display!$B$13),Display!$D6,)","v":0},{"$f":"IF(AND(J$8=Display!$T$10,'Lux4-sept'!$A$8=Display!$B$7,'Lux4-sept'!$A$227=Display!$B$9,'Lux4-sept'!$A$244=Display!$B$11,'Lux4-sept'!$A$259=Display!$B$13),Display!$D6,)","v":0},{"$f":"IF(AND(K$8=Display!$T$10,'Lux4-sept'!$A$8=Display!$B$7,'Lux4-sept'!$A$227=Display!$B$9,'Lux4-sept'!$A$244=Display!$B$11,'Lux4-sept'!$A$259=Display!$B$13),Display!$D6,)","v":0},{"$f":"IF(AND(L$8=Display!$T$10,'Lux4-sept'!$A$8=Display!$B$7,'Lux4-sept'!$A$227=Display!$B$9,'Lux4-sept'!$A$244=Display!$B$11,'Lux4-sept'!$A$259=Display!$B$13),Display!$D6,)","v":0},{"$f":"IF(AND(M$8=Display!$T$10,'Lux4-sept'!$A$8=Display!$B$7,'Lux4-sept'!$A$227=Display!$B$9,'Lux4-sept'!$A$244=Display!$B$11,'Lux4-sept'!$A$259=Display!$B$13),Display!$D6,)","v":0},{"$f":"IF(AND(N$8=Display!$T$10,'Lux4-sept'!$A$8=Display!$B$7,'Lux4-sept'!$A$227=Display!$B$9,'Lux4-sept'!$A$244=Display!$B$11,'Lux4-sept'!$A$259=Display!$B$13),Display!$D6,)","v":0},{"$f":"IF(AND(O$8=Display!$T$10,'Lux4-sept'!$A$8=Display!$B$7,'Lux4-sept'!$A$227=Display!$B$9,'Lux4-sept'!$A$244=Display!$B$11,'Lux4-sept'!$A$259=Display!$B$13),Display!$D6,)","v":0},{"$f":"IF(AND(P$8=Display!$T$10,'Lux4-sept'!$A$8=Display!$B$7,'Lux4-sept'!$A$227=Display!$B$9,'Lux4-sept'!$A$244=Display!$B$11,'Lux4-sept'!$A$259=Display!$B$13),Display!$D6,)","v":0},{"$f":"IF(AND(Q$8=Display!$T$10,'Lux4-sept'!$A$8=Display!$B$7,'Lux4-sept'!$A$227=Display!$B$9,'Lux4-sept'!$A$244=Display!$B$11,'Lux4-sept'!$A$259=Display!$B$13),Display!$D6,)","v":0},{"$f":"IF(AND(R$8=Display!$T$10,'Lux4-sept'!$A$8=Display!$B$7,'Lux4-sept'!$A$227=Display!$B$9,'Lux4-sept'!$A$244=Display!$B$11,'Lux4-sept'!$A$259=Display!$B$13),Display!$D6,)","v":0},{"$f":"IF(AND(S$8=Display!$T$10,'Lux4-sept'!$A$8=Display!$B$7,'Lux4-sept'!$A$227=Display!$B$9,'Lux4-sept'!$A$244=Display!$B$11,'Lux4-sept'!$A$259=Display!$B$13),Display!$D6,)","v":0},{"$f":"IF(AND(T$8=Display!$T$10,'Lux4-sept'!$A$8=Display!$B$7,'Lux4-sept'!$A$227=Display!$B$9,'Lux4-sept'!$A$244=Display!$B$11,'Lux4-sept'!$A$259=Display!$B$13),Display!$D6,)","v":0},{"$f":"IF(AND(U$8=Display!$T$10,'Lux4-sept'!$A$8=Display!$B$7,'Lux4-sept'!$A$227=Display!$B$9,'Lux4-sept'!$A$244=Display!$B$11,'Lux4-sept'!$A$259=Display!$B$13),Display!$D6,)","v":0},{"$f":"IF(AND(V$8=Display!$T$10,'Lux4-sept'!$A$8=Display!$B$7,'Lux4-sept'!$A$227=Display!$B$9,'Lux4-sept'!$A$244=Display!$B$11,'Lux4-sept'!$A$259=Display!$B$13),Display!$D6,)","v":0},{"$f":"IF(AND(W$8=Display!$T$10,'Lux4-sept'!$A$8=Display!$B$7,'Lux4-sept'!$A$227=Display!$B$9,'Lux4-sept'!$A$244=Display!$B$11,'Lux4-sept'!$A$259=Display!$B$13),Display!$D6,)","v":0},{"$f":"IF(AND(X$8=Display!$T$10,'Lux4-sept'!$A$8=Display!$B$7,'Lux4-sept'!$A$227=Display!$B$9,'Lux4-sept'!$A$244=Display!$B$11,'Lux4-sept'!$A$259=Display!$B$13),Display!$D6,)","v":0},{"$f":"IF(AND(Y$8=Display!$T$10,'Lux4-sept'!$A$8=Display!$B$7,'Lux4-sept'!$A$227=Display!$B$9,'Lux4-sept'!$A$244=Display!$B$11,'Lux4-sept'!$A$259=Display!$B$13),Display!$D6,)","v":0},{"$f":"IF(AND(Z$8=Display!$T$10,'Lux4-sept'!$A$8=Display!$B$7,'Lux4-sept'!$A$227=Display!$B$9,'Lux4-sept'!$A$244=Display!$B$11,'Lux4-sept'!$A$259=Display!$B$13),Display!$D6,)","v":0},{"$f":"IF(AND(AA$8=Display!$T$10,'Lux4-sept'!$A$8=Display!$B$7,'Lux4-sept'!$A$227=Display!$B$9,'Lux4-sept'!$A$244=Display!$B$11,'Lux4-sept'!$A$259=Display!$B$13),Display!$D6,)","v":0},{"$f":"IF(AND(AB$8=Display!$T$10,'Lux4-sept'!$A$8=Display!$B$7,'Lux4-sept'!$A$227=Display!$B$9,'Lux4-sept'!$A$244=Display!$B$11,'Lux4-sept'!$A$259=Display!$B$13),Display!$D6,)","v":0},{"$f":"IF(AND(AC$8=Display!$T$10,'Lux4-sept'!$A$8=Display!$B$7,'Lux4-sept'!$A$227=Display!$B$9,'Lux4-sept'!$A$244=Display!$B$11,'Lux4-sept'!$A$259=Display!$B$13),Display!$D6,)","v":0},{"$f":"IF(AND(AD$8=Display!$T$10,'Lux4-sept'!$A$8=Display!$B$7,'Lux4-sept'!$A$227=Display!$B$9,'Lux4-sept'!$A$244=Display!$B$11,'Lux4-sept'!$A$259=Display!$B$13),Display!$D6,)","v":0},{"$f":"IF(AND(AE$8=Display!$T$10,'Lux4-sept'!$A$8=Display!$B$7,'Lux4-sept'!$A$227=Display!$B$9,'Lux4-sept'!$A$244=Display!$B$11,'Lux4-sept'!$A$259=Display!$B$13),Display!$D6,)","v":0},{"$f":"IF(AND(AF$8=Display!$T$10,'Lux4-sept'!$A$8=Display!$B$7,'Lux4-sept'!$A$227=Display!$B$9,'Lux4-sept'!$A$244=Display!$B$11,'Lux4-sept'!$A$259=Display!$B$13),Display!$D6,)","v":0},null,null,0]
["Présence de poussières",{"$f":"IF(AND(B$8=Display!$T$10,'Lux4-sept'!$A$8=Display!$B$7,'Lux4-sept'!$A$227=Display!$B$9,'Lux4-sept'!$A$244=Display!$B$11,'Lux4-sept'!$A$259=Display!$B$13),Display!$D7,)","v":0},{"$f":"IF(AND(C$8=Display!$T$10,'Lux4-sept'!$A$8=Display!$B$7,'Lux4-sept'!$A$227=Display!$B$9,'Lux4-sept'!$A$244=Display!$B$11,'Lux4-sept'!$A$259=Display!$B$13),Display!$D7,)","v":0},{"$f":"IF(AND(D$8=Display!$T$10,'Lux4-sept'!$A$8=Display!$B$7,'Lux4-sept'!$A$227=Display!$B$9,'Lux4-sept'!$A$244=Display!$B$11,'Lux4-sept'!$A$259=Display!$B$13),Display!$D7,)","v":0},{"$f":"IF(AND(E$8=Display!$T$10,'Lux4-sept'!$A$8=Display!$B$7,'Lux4-sept'!$A$227=Display!$B$9,'Lux4-sept'!$A$244=Display!$B$11,'Lux4-sept'!$A$259=Display!$B$13),Display!$D7,)","v":0},{"$f":"IF(AND(F$8=Display!$T$10,'Lux4-sept'!$A$8=Display!$B$7,'Lux4-sept'!$A$227=Display!$B$9,'Lux4-sept'!$A$244=Display!$B$11,'Lux4-sept'!$A$259=Display!$B$13),Display!$D7,)","v":0},{"$f":"IF(AND(G$8=Display!$T$10,'Lux4-sept'!$A$8=Display!$B$7,'Lux4-sept'!$A$227=Display!$B$9,'Lux4-sept'!$A$244=Display!$B$11,'Lux4-sept'!$A$259=Display!$B$13),Display!$D7,)","v":0},{"$f":"IF(AND(H$8=Display!$T$10,'Lux4-sept'!$A$8=Display!$B$7,'Lux4-sept'!$A$227=Display!$B$9,'Lux4-sept'!$A$244=Display!$B$11,'Lux4-sept'!$A$259=Display!$B$13),Display!$D7,)","v":0},{"$f":"IF(AND(I$8=Display!$T$10,'Lux4-sept'!$A$8=Display!$B$7,'Lux4-sept'!$A$227=Display!$B$9,'Lux4-sept'!$A$244=Display!$B$11,'Lux4-sept'!$A$259=Display!$B$13),Display!$D7,)","v":0},{"$f":"IF(AND(J$8=Display!$T$10,'Lux4-sept'!$A$8=Display!$B$7,'Lux4-sept'!$A$227=Display!$B$9,'Lux4-sept'!$A$244=Display!$B$11,'Lux4-sept'!$A$259=Display!$B$13),Display!$D7,)","v":0},{"$f":"IF(AND(K$8=Display!$T$10,'Lux4-sept'!$A$8=Display!$B$7,'Lux4-sept'!$A$227=Display!$B$9,'Lux4-sept'!$A$244=Display!$B$11,'Lux4-sept'!$A$259=Display!$B$13),Display!$D7,)","v":0},{"$f":"IF(AND(L$8=Display!$T$10,'Lux4-sept'!$A$8=Display!$B$7,'Lux4-sept'!$A$227=Display!$B$9,'Lux4-sept'!$A$244=Display!$B$11,'Lux4-sept'!$A$259=Display!$B$13),Display!$D7,)","v":0},{"$f":"IF(AND(M$8=Display!$T$10,'Lux4-sept'!$A$8=Display!$B$7,'Lux4-sept'!$A$227=Display!$B$9,'Lux4-sept'!$A$244=Display!$B$11,'Lux4-sept'!$A$259=Display!$B$13),Display!$D7,)","v":0},{"$f":"IF(AND(N$8=Display!$T$10,'Lux4-sept'!$A$8=Display!$B$7,'Lux4-sept'!$A$227=Display!$B$9,'Lux4-sept'!$A$244=Display!$B$11,'Lux4-sept'!$A$259=Display!$B$13),Display!$D7,)","v":0},{"$f":"IF(AND(O$8=Display!$T$10,'Lux4-sept'!$A$8=Display!$B$7,'Lux4-sept'!$A$227=Display!$B$9,'Lux4-sept'!$A$244=Display!$B$11,'Lux4-sept'!$A$259=Display!$B$13),Display!$D7,)","v":0},{"$f":"IF(AND(P$8=Display!$T$10,'Lux4-sept'!$A$8=Display!$B$7,'Lux4-sept'!$A$227=Display!$B$9,'Lux4-sept'!$A$244=Display!$B$11,'Lux4-sept'!$A$259=Display!$B$13),Display!$D7,)","v":0},{"$f":"IF(AND(Q$8=Display!$T$10,'Lux4-sept'!$A$8=Display!$B$7,'Lux4-sept'!$A$227=Display!$B$9,'Lux4-sept'!$A$244=Display!$B$11,'Lux4-sept'!$A$259=Display!$B$13),Display!$D7,)","v":0},{"$f":"IF(AND(R$8=Display!$T$10,'Lux4-sept'!$A$8=Display!$B$7,'Lux4-sept'!$A$227=Display!$B$9,'Lux4-sept'!$A$244=Display!$B$11,'Lux4-sept'!$A$259=Display!$B$13),Display!$D7,)","v":0},{"$f":"IF(AND(S$8=Display!$T$10,'Lux4-sept'!$A$8=Display!$B$7,'Lux4-sept'!$A$227=Display!$B$9,'Lux4-sept'!$A$244=Display!$B$11,'Lux4-sept'!$A$259=Display!$B$13),Display!$D7,)","v":0},{"$f":"IF(AND(T$8=Display!$T$10,'Lux4-sept'!$A$8=Display!$B$7,'Lux4-sept'!$A$227=Display!$B$9,'Lux4-sept'!$A$244=Display!$B$11,'Lux4-sept'!$A$259=Display!$B$13),Display!$D7,)","v":0},{"$f":"IF(AND(U$8=Display!$T$10,'Lux4-sept'!$A$8=Display!$B$7,'Lux4-sept'!$A$227=Display!$B$9,'Lux4-sept'!$A$244=Display!$B$11,'Lux4-sept'!$A$259=Display!$B$13),Display!$D7,)","v":0},{"$f":"IF(AND(V$8=Display!$T$10,'Lux4-sept'!$A$8=Display!$B$7,'Lux4-sept'!$A$227=Display!$B$9,'Lux4-sept'!$A$244=Display!$B$11,'Lux4-sept'!$A$259=Display!$B$13),Display!$D7,)","v":0},{"$f":"IF(AND(W$8=Display!$T$10,'Lux4-sept'!$A$8=Display!$B$7,'Lux4-sept'!$A$227=Display!$B$9,'Lux4-sept'!$A$244=Display!$B$11,'Lux4-sept'!$A$259=Display!$B$13),Display!$D7,)","v":0},{"$f":"IF(AND(X$8=Display!$T$10,'Lux4-sept'!$A$8=Display!$B$7,'Lux4-sept'!$A$227=Display!$B$9,'Lux4-sept'!$A$244=Display!$B$11,'Lux4-sept'!$A$259=Display!$B$13),Display!$D7,)","v":0},{"$f":"IF(AND(Y$8=Display!$T$10,'Lux4-sept'!$A$8=Display!$B$7,'Lux4-sept'!$A$227=Display!$B$9,'Lux4-sept'!$A$244=Display!$B$11,'Lux4-sept'!$A$259=Display!$B$13),Display!$D7,)","v":0},{"$f":"IF(AND(Z$8=Display!$T$10,'Lux4-sept'!$A$8=Display!$B$7,'Lux4-sept'!$A$227=Display!$B$9,'Lux4-sept'!$A$244=Display!$B$11,'Lux4-sept'!$A$259=Display!$B$13),Display!$D7,)","v":0},{"$f":"IF(AND(AA$8=Display!$T$10,'Lux4-sept'!$A$8=Display!$B$7,'Lux4-sept'!$A$227=Display!$B$9,'Lux4-sept'!$A$244=Display!$B$11,'Lux4-sept'!$A$259=Display!$B$13),Display!$D7,)","v":0},{"$f":"IF(AND(AB$8=Display!$T$10,'Lux4-sept'!$A$8=Display!$B$7,'Lux4-sept'!$A$227=Display!$B$9,'Lux4-sept'!$A$244=Display!$B$11,'Lux4-sept'!$A$259=Display!$B$13),Display!$D7,)","v":0},{"$f":"IF(AND(AC$8=Display!$T$10,'Lux4-sept'!$A$8=Display!$B$7,'Lux4-sept'!$A$227=Display!$B$9,'Lux4-sept'!$A$244=Display!$B$11,'Lux4-sept'!$A$259=Display!$B$13),Display!$D7,)","v":0},{"$f":"IF(AND(AD$8=Display!$T$10,'Lux4-sept'!$A$8=Display!$B$7,'Lux4-sept'!$A$227=Display!$B$9,'Lux4-sept'!$A$244=Display!$B$11,'Lux4-sept'!$A$259=Display!$B$13),Display!$D7,)","v":0},{"$f":"IF(AND(AE$8=Display!$T$10,'Lux4-sept'!$A$8=Display!$B$7,'Lux4-sept'!$A$227=Display!$B$9,'Lux4-sept'!$A$244=Display!$B$11,'Lux4-sept'!$A$259=Display!$B$13),Display!$D7,)","v":0},{"$f":"IF(AND(AF$8=Display!$T$10,'Lux4-sept'!$A$8=Display!$B$7,'Lux4-sept'!$A$227=Display!$B$9,'Lux4-sept'!$A$244=Display!$B$11,'Lux4-sept'!$A$259=Display!$B$13),Display!$D7,)","v":0},null,null,0]
["Propreté des miroirs, vasques, vitres, portes, brosses, poubelles, douches",{"$f":"IF(AND(B$8=Display!$T$10,'Lux4-sept'!$A$8=Display!$B$7,'Lux4-sept'!$A$227=Display!$B$9,'Lux4-sept'!$A$244=Display!$B$11,'Lux4-sept'!$A$259=Display!$B$13),Display!$D8,)","v":0},{"$f":"IF(AND(C$8=Display!$T$10,'Lux4-sept'!$A$8=Display!$B$7,'Lux4-sept'!$A$227=Display!$B$9,'Lux4-sept'!$A$244=Display!$B$11,'Lux4-sept'!$A$259=Display!$B$13),Display!$D8,)","v":0},{"$f":"IF(AND(D$8=Display!$T$10,'Lux4-sept'!$A$8=Display!$B$7,'Lux4-sept'!$A$227=Display!$B$9,'Lux4-sept'!$A$244=Display!$B$11,'Lux4-sept'!$A$259=Display!$B$13),Display!$D8,)","v":0},{"$f":"IF(AND(E$8=Display!$T$10,'Lux4-sept'!$A$8=Display!$B$7,'Lux4-sept'!$A$227=Display!$B$9,'Lux4-sept'!$A$244=Display!$B$11,'Lux4-sept'!$A$259=Display!$B$13),Display!$D8,)","v":0},{"$f":"IF(AND(F$8=Display!$T$10,'Lux4-sept'!$A$8=Display!$B$7,'Lux4-sept'!$A$227=Display!$B$9,'Lux4-sept'!$A$244=Display!$B$11,'Lux4-sept'!$A$259=Display!$B$13),Display!$D8,)","v":0},{"$f":"IF(AND(G$8=Display!$T$10,'Lux4-sept'!$A$8=Display!$B$7,'Lux4-sept'!$A$227=Display!$B$9,'Lux4-sept'!$A$244=Display!$B$11,'Lux4-sept'!$A$259=Display!$B$13),Display!$D8,)","v":0},{"$f":"IF(AND(H$8=Display!$T$10,'Lux4-sept'!$A$8=Display!$B$7,'Lux4-sept'!$A$227=Display!$B$9,'Lux4-sept'!$A$244=Display!$B$11,'Lux4-sept'!$A$259=Display!$B$13),Display!$D8,)","v":0},{"$f":"IF(AND(I$8=Display!$T$10,'Lux4-sept'!$A$8=Display!$B$7,'Lux4-sept'!$A$227=Display!$B$9,'Lux4-sept'!$A$244=Display!$B$11,'Lux4-sept'!$A$259=Display!$B$13),Display!$D8,)","v":0},{"$f":"IF(AND(J$8=Display!$T$10,'Lux4-sept'!$A$8=Display!$B$7,'Lux4-sept'!$A$227=Display!$B$9,'Lux4-sept'!$A$244=Display!$B$11,'Lux4-sept'!$A$259=Display!$B$13),Display!$D8,)","v":0},{"$f":"IF(AND(K$8=Display!$T$10,'Lux4-sept'!$A$8=Display!$B$7,'Lux4-sept'!$A$227=Display!$B$9,'Lux4-sept'!$A$244=Display!$B$11,'Lux4-sept'!$A$259=Display!$B$13),Display!$D8,)","v":0},{"$f":"IF(AND(L$8=Display!$T$10,'Lux4-sept'!$A$8=Display!$B$7,'Lux4-sept'!$A$227=Display!$B$9,'Lux4-sept'!$A$244=Display!$B$11,'Lux4-sept'!$A$259=Display!$B$13),Display!$D8,)","v":0},{"$f":"IF(AND(M$8=Display!$T$10,'Lux4-sept'!$A$8=Display!$B$7,'Lux4-sept'!$A$227=Display!$B$9,'Lux4-sept'!$A$244=Display!$B$11,'Lux4-sept'!$A$259=Display!$B$13),Display!$D8,)","v":0},{"$f":"IF(AND(N$8=Display!$T$10,'Lux4-sept'!$A$8=Display!$B$7,'Lux4-sept'!$A$227=Display!$B$9,'Lux4-sept'!$A$244=Display!$B$11,'Lux4-sept'!$A$259=Display!$B$13),Display!$D8,)","v":0},{"$f":"IF(AND(O$8=Display!$T$10,'Lux4-sept'!$A$8=Display!$B$7,'Lux4-sept'!$A$227=Display!$B$9,'Lux4-sept'!$A$244=Display!$B$11,'Lux4-sept'!$A$259=Display!$B$13),Display!$D8,)","v":0},{"$f":"IF(AND(P$8=Display!$T$10,'Lux4-sept'!$A$8=Display!$B$7,'Lux4-sept'!$A$227=Display!$B$9,'Lux4-sept'!$A$244=Display!$B$11,'Lux4-sept'!$A$259=Display!$B$13),Display!$D8,)","v":0},{"$f":"IF(AND(Q$8=Display!$T$10,'Lux4-sept'!$A$8=Display!$B$7,'Lux4-sept'!$A$227=Display!$B$9,'Lux4-sept'!$A$244=Display!$B$11,'Lux4-sept'!$A$259=Display!$B$13),Display!$D8,)","v":0},{"$f":"IF(AND(R$8=Display!$T$10,'Lux4-sept'!$A$8=Display!$B$7,'Lux4-sept'!$A$227=Display!$B$9,'Lux4-sept'!$A$244=Display!$B$11,'Lux4-sept'!$A$259=Display!$B$13),Display!$D8,)","v":0},{"$f":"IF(AND(S$8=Display!$T$10,'Lux4-sept'!$A$8=Display!$B$7,'Lux4-sept'!$A$227=Display!$B$9,'Lux4-sept'!$A$244=Display!$B$11,'Lux4-sept'!$A$259=Display!$B$13),Display!$D8,)","v":0},{"$f":"IF(AND(T$8=Display!$T$10,'Lux4-sept'!$A$8=Display!$B$7,'Lux4-sept'!$A$227=Display!$B$9,'Lux4-sept'!$A$244=Display!$B$11,'Lux4-sept'!$A$259=Display!$B$13),Display!$D8,)","v":0},{"$f":"IF(AND(U$8=Display!$T$10,'Lux4-sept'!$A$8=Display!$B$7,'Lux4-sept'!$A$227=Display!$B$9,'Lux4-sept'!$A$244=Display!$B$11,'Lux4-sept'!$A$259=Display!$B$13),Display!$D8,)","v":0},{"$f":"IF(AND(V$8=Display!$T$10,'Lux4-sept'!$A$8=Display!$B$7,'Lux4-sept'!$A$227=Display!$B$9,'Lux4-sept'!$A$244=Display!$B$11,'Lux4-sept'!$A$259=Display!$B$13),Display!$D8,)","v":0},{"$f":"IF(AND(W$8=Display!$T$10,'Lux4-sept'!$A$8=Display!$B$7,'Lux4-sept'!$A$227=Display!$B$9,'Lux4-sept'!$A$244=Display!$B$11,'Lux4-sept'!$A$259=Display!$B$13),Display!$D8,)","v":0},{"$f":"IF(AND(X$8=Display!$T$10,'Lux4-sept'!$A$8=Display!$B$7,'Lux4-sept'!$A$227=Display!$B$9,'Lux4-sept'!$A$244=Display!$B$11,'Lux4-sept'!$A$259=Display!$B$13),Display!$D8,)","v":0},{"$f":"IF(AND(Y$8=Display!$T$10,'Lux4-sept'!$A$8=Display!$B$7,'Lux4-sept'!$A$227=Display!$B$9,'Lux4-sept'!$A$244=Display!$B$11,'Lux4-sept'!$A$259=Display!$B$13),Display!$D8,)","v":0},{"$f":"IF(AND(Z$8=Display!$T$10,'Lux4-sept'!$A$8=Display!$B$7,'Lux4-sept'!$A$227=Display!$B$9,'Lux4-sept'!$A$244=Display!$B$11,'Lux4-sept'!$A$259=Display!$B$13),Display!$D8,)","v":0},{"$f":"IF(AND(AA$8=Display!$T$10,'Lux4-sept'!$A$8=Display!$B$7,'Lux4-sept'!$A$227=Display!$B$9,'Lux4-sept'!$A$244=Display!$B$11,'Lux4-sept'!$A$259=Display!$B$13),Display!$D8,)","v":0},{"$f":"IF(AND(AB$8=Display!$T$10,'Lux4-sept'!$A$8=Display!$B$7,'Lux4-sept'!$A$227=Display!$B$9,'Lux4-sept'!$A$244=Display!$B$11,'Lux4-sept'!$A$259=Display!$B$13),Display!$D8,)","v":0},{"$f":"IF(AND(AC$8=Display!$T$10,'Lux4-sept'!$A$8=Display!$B$7,'Lux4-sept'!$A$227=Display!$B$9,'Lux4-sept'!$A$244=Display!$B$11,'Lux4-sept'!$A$259=Display!$B$13),Display!$D8,)","v":0},{"$f":"IF(AND(AD$8=Display!$T$10,'Lux4-sept'!$A$8=Display!$B$7,'Lux4-sept'!$A$227=Display!$B$9,'Lux4-sept'!$A$244=Display!$B$11,'Lux4-sept'!$A$259=Display!$B$13),Display!$D8,)","v":0},{"$f":"IF(AND(AE$8=Display!$T$10,'Lux4-sept'!$A$8=Display!$B$7,'Lux4-sept'!$A$227=Display!$B$9,'Lux4-sept'!$A$244=Display!$B$11,'Lux4-sept'!$A$259=Display!$B$13),Display!$D8,)","v":0},{"$f":"IF(AND(AF$8=Display!$T$10,'Lux4-sept'!$A$8=Display!$B$7,'Lux4-sept'!$A$227=Display!$B$9,'Lux4-sept'!$A$244=Display!$B$11,'Lux4-sept'!$A$259=Display!$B$13),Display!$D8,)","v":0},null,null,0]
["MOYENNE",{"$f":"((IF((SUM(B260:B264))<>0,(SUM(B260:B264)),0))/(IF((SUM((IF(B260<>0,3,0)),(IF(B261<>0,3,0)),(IF(B262<>0,3,0)),(IF(B263<>0,3,0)),(IF(B264<>0,3,0))))<>0,((SUM((IF(B260<>0,3,0)),(IF(B261<>0,3,0)),(IF(B262<>0,3,0)),(IF(B263<>0,3,0)),(IF(B264<>0,3,0))))),1)))","v":0},{"$f":"((IF((SUM(C260:C264))<>0,(SUM(C260:C264)),0))/(IF((SUM((IF(C260<>0,3,0)),(IF(C261<>0,3,0)),(IF(C262<>0,3,0)),(IF(C263<>0,3,0)),(IF(C264<>0,3,0))))<>0,((SUM((IF(C260<>0,3,0)),(IF(C261<>0,3,0)),(IF(C262<>0,3,0)),(IF(C263<>0,3,0)),(IF(C264<>0,3,0))))),1)))","v":0},0,0,0,0,0,0,0,0,0,0,0,0,0,0,0,0,0,0,0,0,0,0,0,0,0,0,0,0,0,0,0]
[".03"]
["Fourniture ingrédients sanitaires",{"$f":"IF(AND(B$8=Display!$T$10,'Lux4-sept'!$A$8=Display!$B$7,'Lux4-sept'!$A$227=Display!$B$9,'Lux4-sept'!$A$244=Display!$B$11,'Lux4-sept'!$A$266=Display!$B$13),Display!$D4,)","v":0},{"$f":"IF(AND(C$8=Display!$T$10,'Lux4-sept'!$A$8=Display!$B$7,'Lux4-sept'!$A$227=Display!$B$9,'Lux4-sept'!$A$244=Display!$B$11,'Lux4-sept'!$A$266=Display!$B$13),Display!$D4,)","v":0},{"$f":"IF(AND(D$8=Display!$T$10,'Lux4-sept'!$A$8=Display!$B$7,'Lux4-sept'!$A$227=Display!$B$9,'Lux4-sept'!$A$244=Display!$B$11,'Lux4-sept'!$A$266=Display!$B$13),Display!$D4,)","v":0},{"$f":"IF(AND(E$8=Display!$T$10,'Lux4-sept'!$A$8=Display!$B$7,'Lux4-sept'!$A$227=Display!$B$9,'Lux4-sept'!$A$244=Display!$B$11,'Lux4-sept'!$A$266=Display!$B$13),Display!$D4,)","v":0},{"$f":"IF(AND(F$8=Display!$T$10,'Lux4-sept'!$A$8=Display!$B$7,'Lux4-sept'!$A$227=Display!$B$9,'Lux4-sept'!$A$244=Display!$B$11,'Lux4-sept'!$A$266=Display!$B$13),Display!$D4,)","v":0},{"$f":"IF(AND(G$8=Display!$T$10,'Lux4-sept'!$A$8=Display!$B$7,'Lux4-sept'!$A$227=Display!$B$9,'Lux4-sept'!$A$244=Display!$B$11,'Lux4-sept'!$A$266=Display!$B$13),Display!$D4,)","v":0},{"$f":"IF(AND(H$8=Display!$T$10,'Lux4-sept'!$A$8=Display!$B$7,'Lux4-sept'!$A$227=Display!$B$9,'Lux4-sept'!$A$244=Display!$B$11,'Lux4-sept'!$A$266=Display!$B$13),Display!$D4,)","v":0},{"$f":"IF(AND(I$8=Display!$T$10,'Lux4-sept'!$A$8=Display!$B$7,'Lux4-sept'!$A$227=Display!$B$9,'Lux4-sept'!$A$244=Display!$B$11,'Lux4-sept'!$A$266=Display!$B$13),Display!$D4,)","v":0},{"$f":"IF(AND(J$8=Display!$T$10,'Lux4-sept'!$A$8=Display!$B$7,'Lux4-sept'!$A$227=Display!$B$9,'Lux4-sept'!$A$244=Display!$B$11,'Lux4-sept'!$A$266=Display!$B$13),Display!$D4,)","v":0},{"$f":"IF(AND(K$8=Display!$T$10,'Lux4-sept'!$A$8=Display!$B$7,'Lux4-sept'!$A$227=Display!$B$9,'Lux4-sept'!$A$244=Display!$B$11,'Lux4-sept'!$A$266=Display!$B$13),Display!$D4,)","v":0},{"$f":"IF(AND(L$8=Display!$T$10,'Lux4-sept'!$A$8=Display!$B$7,'Lux4-sept'!$A$227=Display!$B$9,'Lux4-sept'!$A$244=Display!$B$11,'Lux4-sept'!$A$266=Display!$B$13),Display!$D4,)","v":0},{"$f":"IF(AND(M$8=Display!$T$10,'Lux4-sept'!$A$8=Display!$B$7,'Lux4-sept'!$A$227=Display!$B$9,'Lux4-sept'!$A$244=Display!$B$11,'Lux4-sept'!$A$266=Display!$B$13),Display!$D4,)","v":0},{"$f":"IF(AND(N$8=Display!$T$10,'Lux4-sept'!$A$8=Display!$B$7,'Lux4-sept'!$A$227=Display!$B$9,'Lux4-sept'!$A$244=Display!$B$11,'Lux4-sept'!$A$266=Display!$B$13),Display!$D4,)","v":0},{"$f":"IF(AND(O$8=Display!$T$10,'Lux4-sept'!$A$8=Display!$B$7,'Lux4-sept'!$A$227=Display!$B$9,'Lux4-sept'!$A$244=Display!$B$11,'Lux4-sept'!$A$266=Display!$B$13),Display!$D4,)","v":0},{"$f":"IF(AND(P$8=Display!$T$10,'Lux4-sept'!$A$8=Display!$B$7,'Lux4-sept'!$A$227=Display!$B$9,'Lux4-sept'!$A$244=Display!$B$11,'Lux4-sept'!$A$266=Display!$B$13),Display!$D4,)","v":0},{"$f":"IF(AND(Q$8=Display!$T$10,'Lux4-sept'!$A$8=Display!$B$7,'Lux4-sept'!$A$227=Display!$B$9,'Lux4-sept'!$A$244=Display!$B$11,'Lux4-sept'!$A$266=Display!$B$13),Display!$D4,)","v":0},{"$f":"IF(AND(R$8=Display!$T$10,'Lux4-sept'!$A$8=Display!$B$7,'Lux4-sept'!$A$227=Display!$B$9,'Lux4-sept'!$A$244=Display!$B$11,'Lux4-sept'!$A$266=Display!$B$13),Display!$D4,)","v":0},{"$f":"IF(AND(S$8=Display!$T$10,'Lux4-sept'!$A$8=Display!$B$7,'Lux4-sept'!$A$227=Display!$B$9,'Lux4-sept'!$A$244=Display!$B$11,'Lux4-sept'!$A$266=Display!$B$13),Display!$D4,)","v":0},{"$f":"IF(AND(T$8=Display!$T$10,'Lux4-sept'!$A$8=Display!$B$7,'Lux4-sept'!$A$227=Display!$B$9,'Lux4-sept'!$A$244=Display!$B$11,'Lux4-sept'!$A$266=Display!$B$13),Display!$D4,)","v":0},{"$f":"IF(AND(U$8=Display!$T$10,'Lux4-sept'!$A$8=Display!$B$7,'Lux4-sept'!$A$227=Display!$B$9,'Lux4-sept'!$A$244=Display!$B$11,'Lux4-sept'!$A$266=Display!$B$13),Display!$D4,)","v":0},{"$f":"IF(AND(V$8=Display!$T$10,'Lux4-sept'!$A$8=Display!$B$7,'Lux4-sept'!$A$227=Display!$B$9,'Lux4-sept'!$A$244=Display!$B$11,'Lux4-sept'!$A$266=Display!$B$13),Display!$D4,)","v":0},{"$f":"IF(AND(W$8=Display!$T$10,'Lux4-sept'!$A$8=Display!$B$7,'Lux4-sept'!$A$227=Display!$B$9,'Lux4-sept'!$A$244=Display!$B$11,'Lux4-sept'!$A$266=Display!$B$13),Display!$D4,)","v":0},{"$f":"IF(AND(X$8=Display!$T$10,'Lux4-sept'!$A$8=Display!$B$7,'Lux4-sept'!$A$227=Display!$B$9,'Lux4-sept'!$A$244=Display!$B$11,'Lux4-sept'!$A$266=Display!$B$13),Display!$D4,)","v":0},{"$f":"IF(AND(Y$8=Display!$T$10,'Lux4-sept'!$A$8=Display!$B$7,'Lux4-sept'!$A$227=Display!$B$9,'Lux4-sept'!$A$244=Display!$B$11,'Lux4-sept'!$A$266=Display!$B$13),Display!$D4,)","v":0},{"$f":"IF(AND(Z$8=Display!$T$10,'Lux4-sept'!$A$8=Display!$B$7,'Lux4-sept'!$A$227=Display!$B$9,'Lux4-sept'!$A$244=Display!$B$11,'Lux4-sept'!$A$266=Display!$B$13),Display!$D4,)","v":0},{"$f":"IF(AND(AA$8=Display!$T$10,'Lux4-sept'!$A$8=Display!$B$7,'Lux4-sept'!$A$227=Display!$B$9,'Lux4-sept'!$A$244=Display!$B$11,'Lux4-sept'!$A$266=Display!$B$13),Display!$D4,)","v":0},{"$f":"IF(AND(AB$8=Display!$T$10,'Lux4-sept'!$A$8=Display!$B$7,'Lux4-sept'!$A$227=Display!$B$9,'Lux4-sept'!$A$244=Display!$B$11,'Lux4-sept'!$A$266=Display!$B$13),Display!$D4,)","v":0},{"$f":"IF(AND(AC$8=Display!$T$10,'Lux4-sept'!$A$8=Display!$B$7,'Lux4-sept'!$A$227=Display!$B$9,'Lux4-sept'!$A$244=Display!$B$11,'Lux4-sept'!$A$266=Display!$B$13),Display!$D4,)","v":0},{"$f":"IF(AND(AD$8=Display!$T$10,'Lux4-sept'!$A$8=Display!$B$7,'Lux4-sept'!$A$227=Display!$B$9,'Lux4-sept'!$A$244=Display!$B$11,'Lux4-sept'!$A$266=Display!$B$13),Display!$D4,)","v":0},{"$f":"IF(AND(AE$8=Display!$T$10,'Lux4-sept'!$A$8=Display!$B$7,'Lux4-sept'!$A$227=Display!$B$9,'Lux4-sept'!$A$244=Display!$B$11,'Lux4-sept'!$A$266=Display!$B$13),Display!$D4,)","v":0},{"$f":"IF(AND(AF$8=Display!$T$10,'Lux4-sept'!$A$8=Display!$B$7,'Lux4-sept'!$A$227=Display!$B$9,'Lux4-sept'!$A$244=Display!$B$11,'Lux4-sept'!$A$266=Display!$B$13),Display!$D4,)","v":0},null,null,{"$f":"((IF((SUM(B267:AF267))<>0,(SUM(B267:AF267)),0))/(IF((SUM((IF(B267<>0,3,0)),(IF(C267<>0,3,0)),(IF(D267<>0,3,0)),(IF(E267<>0,3,0)),(IF(F267<>0,3,0)),(IF(F267<>0,3,0)),(IF(F267<>0,3,0)),(IF(G267<>0,3,0)),(IF(H267<>0,3,0)),(IF(I267<>0,3,0)),(IF(J267<>0,3,0)),(IF(K267<>0,3,0)),(IF(L267<>0,3,0)),(IF(M267<>0,3,0)),(IF(N267<>0,3,0)),(IF(O267<>0,3,0)),(IF(P267<>0,3,0)),(IF(Q267<>0,3,0)),(IF(R267<>0,3,0)),(IF(S267<>0,3,0)),(IF(T267<>0,3,0)),(IF(U267<>0,3,0)),(IF(V267<>0,3,0)),(IF(W267<>0,3,0)),(IF(X267<>0,3,0)),(IF(Y267<>0,3,0)),(IF(Z267<>0,3,0)),(IF(AA267<>0,3,0)),(IF(AB267<>0,3,0)),(IF(AC267<>0,3,0)),(IF(AD267<>0,3,0)),(IF(AE267<>0,3,0)),(IF(AF267<>0,3,0))))<>0,((SUM((IF(B267<>0,3,0)),(IF(C267<>0,3,0)),(IF(D267<>0,3,0)),(IF(E267<>0,3,0)),(IF(F267<>0,3,0)),(IF(F267<>0,3,0)),(IF(F267<>0,3,0)),(IF(G267<>0,3,0)),(IF(H267<>0,3,0)),(IF(I267<>0,3,0)),(IF(J267<>0,3,0)),(IF(K267<>0,3,0)),(IF(L267<>0,3,0)),(IF(M267<>0,3,0)),(IF(N267<>0,3,0)),(IF(O267<>0,3,0)),(IF(P267<>0,3,0)),(IF(Q267<>0,3,0)),(IF(R267<>0,3,0)),(IF(S267<>0,3,0)),(IF(T267<>0,3,0)),(IF(U267<>0,3,0)),(IF(V267<>0,3,0)),(IF(W267<>0,3,0)),(IF(X267<>0,3,0)),(IF(Y267<>0,3,0)),(IF(Z267<>0,3,0)),(IF(AA267<>0,3,0)),(IF(AB267<>0,3,0)),(IF(AC267<>0,3,0)),(IF(AD267<>0,3,0)),(IF(AE267<>0,3,0)),(IF(AF267<>0,3,0))))),1)))","v":0}]
["Nettoyage des sols",{"$f":"IF(AND(B$8=Display!$T$10,'Lux4-sept'!$A$8=Display!$B$7,'Lux4-sept'!$A$227=Display!$B$9,'Lux4-sept'!$A$244=Display!$B$11,'Lux4-sept'!$A$266=Display!$B$13),Display!$D5,)","v":0},{"$f":"IF(AND(C$8=Display!$T$10,'Lux4-sept'!$A$8=Display!$B$7,'Lux4-sept'!$A$227=Display!$B$9,'Lux4-sept'!$A$244=Display!$B$11,'Lux4-sept'!$A$266=Display!$B$13),Display!$D5,)","v":0},{"$f":"IF(AND(D$8=Display!$T$10,'Lux4-sept'!$A$8=Display!$B$7,'Lux4-sept'!$A$227=Display!$B$9,'Lux4-sept'!$A$244=Display!$B$11,'Lux4-sept'!$A$266=Display!$B$13),Display!$D5,)","v":0},{"$f":"IF(AND(E$8=Display!$T$10,'Lux4-sept'!$A$8=Display!$B$7,'Lux4-sept'!$A$227=Display!$B$9,'Lux4-sept'!$A$244=Display!$B$11,'Lux4-sept'!$A$266=Display!$B$13),Display!$D5,)","v":0},{"$f":"IF(AND(F$8=Display!$T$10,'Lux4-sept'!$A$8=Display!$B$7,'Lux4-sept'!$A$227=Display!$B$9,'Lux4-sept'!$A$244=Display!$B$11,'Lux4-sept'!$A$266=Display!$B$13),Display!$D5,)","v":0},{"$f":"IF(AND(G$8=Display!$T$10,'Lux4-sept'!$A$8=Display!$B$7,'Lux4-sept'!$A$227=Display!$B$9,'Lux4-sept'!$A$244=Display!$B$11,'Lux4-sept'!$A$266=Display!$B$13),Display!$D5,)","v":0},{"$f":"IF(AND(H$8=Display!$T$10,'Lux4-sept'!$A$8=Display!$B$7,'Lux4-sept'!$A$227=Display!$B$9,'Lux4-sept'!$A$244=Display!$B$11,'Lux4-sept'!$A$266=Display!$B$13),Display!$D5,)","v":0},{"$f":"IF(AND(I$8=Display!$T$10,'Lux4-sept'!$A$8=Display!$B$7,'Lux4-sept'!$A$227=Display!$B$9,'Lux4-sept'!$A$244=Display!$B$11,'Lux4-sept'!$A$266=Display!$B$13),Display!$D5,)","v":0},{"$f":"IF(AND(J$8=Display!$T$10,'Lux4-sept'!$A$8=Display!$B$7,'Lux4-sept'!$A$227=Display!$B$9,'Lux4-sept'!$A$244=Display!$B$11,'Lux4-sept'!$A$266=Display!$B$13),Display!$D5,)","v":0},{"$f":"IF(AND(K$8=Display!$T$10,'Lux4-sept'!$A$8=Display!$B$7,'Lux4-sept'!$A$227=Display!$B$9,'Lux4-sept'!$A$244=Display!$B$11,'Lux4-sept'!$A$266=Display!$B$13),Display!$D5,)","v":0},{"$f":"IF(AND(L$8=Display!$T$10,'Lux4-sept'!$A$8=Display!$B$7,'Lux4-sept'!$A$227=Display!$B$9,'Lux4-sept'!$A$244=Display!$B$11,'Lux4-sept'!$A$266=Display!$B$13),Display!$D5,)","v":0},{"$f":"IF(AND(M$8=Display!$T$10,'Lux4-sept'!$A$8=Display!$B$7,'Lux4-sept'!$A$227=Display!$B$9,'Lux4-sept'!$A$244=Display!$B$11,'Lux4-sept'!$A$266=Display!$B$13),Display!$D5,)","v":0},{"$f":"IF(AND(N$8=Display!$T$10,'Lux4-sept'!$A$8=Display!$B$7,'Lux4-sept'!$A$227=Display!$B$9,'Lux4-sept'!$A$244=Display!$B$11,'Lux4-sept'!$A$266=Display!$B$13),Display!$D5,)","v":0},{"$f":"IF(AND(O$8=Display!$T$10,'Lux4-sept'!$A$8=Display!$B$7,'Lux4-sept'!$A$227=Display!$B$9,'Lux4-sept'!$A$244=Display!$B$11,'Lux4-sept'!$A$266=Display!$B$13),Display!$D5,)","v":0},{"$f":"IF(AND(P$8=Display!$T$10,'Lux4-sept'!$A$8=Display!$B$7,'Lux4-sept'!$A$227=Display!$B$9,'Lux4-sept'!$A$244=Display!$B$11,'Lux4-sept'!$A$266=Display!$B$13),Display!$D5,)","v":0},{"$f":"IF(AND(Q$8=Display!$T$10,'Lux4-sept'!$A$8=Display!$B$7,'Lux4-sept'!$A$227=Display!$B$9,'Lux4-sept'!$A$244=Display!$B$11,'Lux4-sept'!$A$266=Display!$B$13),Display!$D5,)","v":0},{"$f":"IF(AND(R$8=Display!$T$10,'Lux4-sept'!$A$8=Display!$B$7,'Lux4-sept'!$A$227=Display!$B$9,'Lux4-sept'!$A$244=Display!$B$11,'Lux4-sept'!$A$266=Display!$B$13),Display!$D5,)","v":0},{"$f":"IF(AND(S$8=Display!$T$10,'Lux4-sept'!$A$8=Display!$B$7,'Lux4-sept'!$A$227=Display!$B$9,'Lux4-sept'!$A$244=Display!$B$11,'Lux4-sept'!$A$266=Display!$B$13),Display!$D5,)","v":0},{"$f":"IF(AND(T$8=Display!$T$10,'Lux4-sept'!$A$8=Display!$B$7,'Lux4-sept'!$A$227=Display!$B$9,'Lux4-sept'!$A$244=Display!$B$11,'Lux4-sept'!$A$266=Display!$B$13),Display!$D5,)","v":0},{"$f":"IF(AND(U$8=Display!$T$10,'Lux4-sept'!$A$8=Display!$B$7,'Lux4-sept'!$A$227=Display!$B$9,'Lux4-sept'!$A$244=Display!$B$11,'Lux4-sept'!$A$266=Display!$B$13),Display!$D5,)","v":0},{"$f":"IF(AND(V$8=Display!$T$10,'Lux4-sept'!$A$8=Display!$B$7,'Lux4-sept'!$A$227=Display!$B$9,'Lux4-sept'!$A$244=Display!$B$11,'Lux4-sept'!$A$266=Display!$B$13),Display!$D5,)","v":0},{"$f":"IF(AND(W$8=Display!$T$10,'Lux4-sept'!$A$8=Display!$B$7,'Lux4-sept'!$A$227=Display!$B$9,'Lux4-sept'!$A$244=Display!$B$11,'Lux4-sept'!$A$266=Display!$B$13),Display!$D5,)","v":0},{"$f":"IF(AND(X$8=Display!$T$10,'Lux4-sept'!$A$8=Display!$B$7,'Lux4-sept'!$A$227=Display!$B$9,'Lux4-sept'!$A$244=Display!$B$11,'Lux4-sept'!$A$266=Display!$B$13),Display!$D5,)","v":0},{"$f":"IF(AND(Y$8=Display!$T$10,'Lux4-sept'!$A$8=Display!$B$7,'Lux4-sept'!$A$227=Display!$B$9,'Lux4-sept'!$A$244=Display!$B$11,'Lux4-sept'!$A$266=Display!$B$13),Display!$D5,)","v":0},{"$f":"IF(AND(Z$8=Display!$T$10,'Lux4-sept'!$A$8=Display!$B$7,'Lux4-sept'!$A$227=Display!$B$9,'Lux4-sept'!$A$244=Display!$B$11,'Lux4-sept'!$A$266=Display!$B$13),Display!$D5,)","v":0},{"$f":"IF(AND(AA$8=Display!$T$10,'Lux4-sept'!$A$8=Display!$B$7,'Lux4-sept'!$A$227=Display!$B$9,'Lux4-sept'!$A$244=Display!$B$11,'Lux4-sept'!$A$266=Display!$B$13),Display!$D5,)","v":0},{"$f":"IF(AND(AB$8=Display!$T$10,'Lux4-sept'!$A$8=Display!$B$7,'Lux4-sept'!$A$227=Display!$B$9,'Lux4-sept'!$A$244=Display!$B$11,'Lux4-sept'!$A$266=Display!$B$13),Display!$D5,)","v":0},{"$f":"IF(AND(AC$8=Display!$T$10,'Lux4-sept'!$A$8=Display!$B$7,'Lux4-sept'!$A$227=Display!$B$9,'Lux4-sept'!$A$244=Display!$B$11,'Lux4-sept'!$A$266=Display!$B$13),Display!$D5,)","v":0},{"$f":"IF(AND(AD$8=Display!$T$10,'Lux4-sept'!$A$8=Display!$B$7,'Lux4-sept'!$A$227=Display!$B$9,'Lux4-sept'!$A$244=Display!$B$11,'Lux4-sept'!$A$266=Display!$B$13),Display!$D5,)","v":0},{"$f":"IF(AND(AE$8=Display!$T$10,'Lux4-sept'!$A$8=Display!$B$7,'Lux4-sept'!$A$227=Display!$B$9,'Lux4-sept'!$A$244=Display!$B$11,'Lux4-sept'!$A$266=Display!$B$13),Display!$D5,)","v":0},{"$f":"IF(AND(AF$8=Display!$T$10,'Lux4-sept'!$A$8=Display!$B$7,'Lux4-sept'!$A$227=Display!$B$9,'Lux4-sept'!$A$244=Display!$B$11,'Lux4-sept'!$A$266=Display!$B$13),Display!$D5,)","v":0},null,null,{"$f":"((IF((SUM(B268:AF268))<>0,(SUM(B268:AF268)),0))/(IF((SUM((IF(B268<>0,3,0)),(IF(C268<>0,3,0)),(IF(D268<>0,3,0)),(IF(E268<>0,3,0)),(IF(F268<>0,3,0)),(IF(F268<>0,3,0)),(IF(F268<>0,3,0)),(IF(G268<>0,3,0)),(IF(H268<>0,3,0)),(IF(I268<>0,3,0)),(IF(J268<>0,3,0)),(IF(K268<>0,3,0)),(IF(L268<>0,3,0)),(IF(M268<>0,3,0)),(IF(N268<>0,3,0)),(IF(O268<>0,3,0)),(IF(P268<>0,3,0)),(IF(Q268<>0,3,0)),(IF(R268<>0,3,0)),(IF(S268<>0,3,0)),(IF(T268<>0,3,0)),(IF(U268<>0,3,0)),(IF(V268<>0,3,0)),(IF(W268<>0,3,0)),(IF(X268<>0,3,0)),(IF(Y268<>0,3,0)),(IF(Z268<>0,3,0)),(IF(AA268<>0,3,0)),(IF(AB268<>0,3,0)),(IF(AC268<>0,3,0)),(IF(AD268<>0,3,0)),(IF(AE268<>0,3,0)),(IF(AF268<>0,3,0))))<>0,((SUM((IF(B268<>0,3,0)),(IF(C268<>0,3,0)),(IF(D268<>0,3,0)),(IF(E268<>0,3,0)),(IF(F268<>0,3,0)),(IF(F268<>0,3,0)),(IF(F268<>0,3,0)),(IF(G268<>0,3,0)),(IF(H268<>0,3,0)),(IF(I268<>0,3,0)),(IF(J268<>0,3,0)),(IF(K268<>0,3,0)),(IF(L268<>0,3,0)),(IF(M268<>0,3,0)),(IF(N268<>0,3,0)),(IF(O268<>0,3,0)),(IF(P268<>0,3,0)),(IF(Q268<>0,3,0)),(IF(R268<>0,3,0)),(IF(S268<>0,3,0)),(IF(T268<>0,3,0)),(IF(U268<>0,3,0)),(IF(V268<>0,3,0)),(IF(W268<>0,3,0)),(IF(X268<>0,3,0)),(IF(Y268<>0,3,0)),(IF(Z268<>0,3,0)),(IF(AA268<>0,3,0)),(IF(AB268<>0,3,0)),(IF(AC268<>0,3,0)),(IF(AD268<>0,3,0)),(IF(AE268<>0,3,0)),(IF(AF268<>0,3,0))))),1)))","v":0}]
["Propreté des Murs",{"$f":"IF(AND(B$8=Display!$T$10,'Lux4-sept'!$A$8=Display!$B$7,'Lux4-sept'!$A$227=Display!$B$9,'Lux4-sept'!$A$244=Display!$B$11,'Lux4-sept'!$A$266=Display!$B$13),Display!$D6,)","v":0},{"$f":"IF(AND(C$8=Display!$T$10,'Lux4-sept'!$A$8=Display!$B$7,'Lux4-sept'!$A$227=Display!$B$9,'Lux4-sept'!$A$244=Display!$B$11,'Lux4-sept'!$A$266=Display!$B$13),Display!$D6,)","v":0},{"$f":"IF(AND(D$8=Display!$T$10,'Lux4-sept'!$A$8=Display!$B$7,'Lux4-sept'!$A$227=Display!$B$9,'Lux4-sept'!$A$244=Display!$B$11,'Lux4-sept'!$A$266=Display!$B$13),Display!$D6,)","v":0},{"$f":"IF(AND(E$8=Display!$T$10,'Lux4-sept'!$A$8=Display!$B$7,'Lux4-sept'!$A$227=Display!$B$9,'Lux4-sept'!$A$244=Display!$B$11,'Lux4-sept'!$A$266=Display!$B$13),Display!$D6,)","v":0},{"$f":"IF(AND(F$8=Display!$T$10,'Lux4-sept'!$A$8=Display!$B$7,'Lux4-sept'!$A$227=Display!$B$9,'Lux4-sept'!$A$244=Display!$B$11,'Lux4-sept'!$A$266=Display!$B$13),Display!$D6,)","v":0},{"$f":"IF(AND(G$8=Display!$T$10,'Lux4-sept'!$A$8=Display!$B$7,'Lux4-sept'!$A$227=Display!$B$9,'Lux4-sept'!$A$244=Display!$B$11,'Lux4-sept'!$A$266=Display!$B$13),Display!$D6,)","v":0},{"$f":"IF(AND(H$8=Display!$T$10,'Lux4-sept'!$A$8=Display!$B$7,'Lux4-sept'!$A$227=Display!$B$9,'Lux4-sept'!$A$244=Display!$B$11,'Lux4-sept'!$A$266=Display!$B$13),Display!$D6,)","v":0},{"$f":"IF(AND(I$8=Display!$T$10,'Lux4-sept'!$A$8=Display!$B$7,'Lux4-sept'!$A$227=Display!$B$9,'Lux4-sept'!$A$244=Display!$B$11,'Lux4-sept'!$A$266=Display!$B$13),Display!$D6,)","v":0},{"$f":"IF(AND(J$8=Display!$T$10,'Lux4-sept'!$A$8=Display!$B$7,'Lux4-sept'!$A$227=Display!$B$9,'Lux4-sept'!$A$244=Display!$B$11,'Lux4-sept'!$A$266=Display!$B$13),Display!$D6,)","v":0},{"$f":"IF(AND(K$8=Display!$T$10,'Lux4-sept'!$A$8=Display!$B$7,'Lux4-sept'!$A$227=Display!$B$9,'Lux4-sept'!$A$244=Display!$B$11,'Lux4-sept'!$A$266=Display!$B$13),Display!$D6,)","v":0},{"$f":"IF(AND(L$8=Display!$T$10,'Lux4-sept'!$A$8=Display!$B$7,'Lux4-sept'!$A$227=Display!$B$9,'Lux4-sept'!$A$244=Display!$B$11,'Lux4-sept'!$A$266=Display!$B$13),Display!$D6,)","v":0},{"$f":"IF(AND(M$8=Display!$T$10,'Lux4-sept'!$A$8=Display!$B$7,'Lux4-sept'!$A$227=Display!$B$9,'Lux4-sept'!$A$244=Display!$B$11,'Lux4-sept'!$A$266=Display!$B$13),Display!$D6,)","v":0},{"$f":"IF(AND(N$8=Display!$T$10,'Lux4-sept'!$A$8=Display!$B$7,'Lux4-sept'!$A$227=Display!$B$9,'Lux4-sept'!$A$244=Display!$B$11,'Lux4-sept'!$A$266=Display!$B$13),Display!$D6,)","v":0},{"$f":"IF(AND(O$8=Display!$T$10,'Lux4-sept'!$A$8=Display!$B$7,'Lux4-sept'!$A$227=Display!$B$9,'Lux4-sept'!$A$244=Display!$B$11,'Lux4-sept'!$A$266=Display!$B$13),Display!$D6,)","v":0},{"$f":"IF(AND(P$8=Display!$T$10,'Lux4-sept'!$A$8=Display!$B$7,'Lux4-sept'!$A$227=Display!$B$9,'Lux4-sept'!$A$244=Display!$B$11,'Lux4-sept'!$A$266=Display!$B$13),Display!$D6,)","v":0},{"$f":"IF(AND(Q$8=Display!$T$10,'Lux4-sept'!$A$8=Display!$B$7,'Lux4-sept'!$A$227=Display!$B$9,'Lux4-sept'!$A$244=Display!$B$11,'Lux4-sept'!$A$266=Display!$B$13),Display!$D6,)","v":0},{"$f":"IF(AND(R$8=Display!$T$10,'Lux4-sept'!$A$8=Display!$B$7,'Lux4-sept'!$A$227=Display!$B$9,'Lux4-sept'!$A$244=Display!$B$11,'Lux4-sept'!$A$266=Display!$B$13),Display!$D6,)","v":0},{"$f":"IF(AND(S$8=Display!$T$10,'Lux4-sept'!$A$8=Display!$B$7,'Lux4-sept'!$A$227=Display!$B$9,'Lux4-sept'!$A$244=Display!$B$11,'Lux4-sept'!$A$266=Display!$B$13),Display!$D6,)","v":0},{"$f":"IF(AND(T$8=Display!$T$10,'Lux4-sept'!$A$8=Display!$B$7,'Lux4-sept'!$A$227=Display!$B$9,'Lux4-sept'!$A$244=Display!$B$11,'Lux4-sept'!$A$266=Display!$B$13),Display!$D6,)","v":0},{"$f":"IF(AND(U$8=Display!$T$10,'Lux4-sept'!$A$8=Display!$B$7,'Lux4-sept'!$A$227=Display!$B$9,'Lux4-sept'!$A$244=Display!$B$11,'Lux4-sept'!$A$266=Display!$B$13),Display!$D6,)","v":0},{"$f":"IF(AND(V$8=Display!$T$10,'Lux4-sept'!$A$8=Display!$B$7,'Lux4-sept'!$A$227=Display!$B$9,'Lux4-sept'!$A$244=Display!$B$11,'Lux4-sept'!$A$266=Display!$B$13),Display!$D6,)","v":0},{"$f":"IF(AND(W$8=Display!$T$10,'Lux4-sept'!$A$8=Display!$B$7,'Lux4-sept'!$A$227=Display!$B$9,'Lux4-sept'!$A$244=Display!$B$11,'Lux4-sept'!$A$266=Display!$B$13),Display!$D6,)","v":0},{"$f":"IF(AND(X$8=Display!$T$10,'Lux4-sept'!$A$8=Display!$B$7,'Lux4-sept'!$A$227=Display!$B$9,'Lux4-sept'!$A$244=Display!$B$11,'Lux4-sept'!$A$266=Display!$B$13),Display!$D6,)","v":0},{"$f":"IF(AND(Y$8=Display!$T$10,'Lux4-sept'!$A$8=Display!$B$7,'Lux4-sept'!$A$227=Display!$B$9,'Lux4-sept'!$A$244=Display!$B$11,'Lux4-sept'!$A$266=Display!$B$13),Display!$D6,)","v":0},{"$f":"IF(AND(Z$8=Display!$T$10,'Lux4-sept'!$A$8=Display!$B$7,'Lux4-sept'!$A$227=Display!$B$9,'Lux4-sept'!$A$244=Display!$B$11,'Lux4-sept'!$A$266=Display!$B$13),Display!$D6,)","v":0},{"$f":"IF(AND(AA$8=Display!$T$10,'Lux4-sept'!$A$8=Display!$B$7,'Lux4-sept'!$A$227=Display!$B$9,'Lux4-sept'!$A$244=Display!$B$11,'Lux4-sept'!$A$266=Display!$B$13),Display!$D6,)","v":0},{"$f":"IF(AND(AB$8=Display!$T$10,'Lux4-sept'!$A$8=Display!$B$7,'Lux4-sept'!$A$227=Display!$B$9,'Lux4-sept'!$A$244=Display!$B$11,'Lux4-sept'!$A$266=Display!$B$13),Display!$D6,)","v":0},{"$f":"IF(AND(AC$8=Display!$T$10,'Lux4-sept'!$A$8=Display!$B$7,'Lux4-sept'!$A$227=Display!$B$9,'Lux4-sept'!$A$244=Display!$B$11,'Lux4-sept'!$A$266=Display!$B$13),Display!$D6,)","v":0},{"$f":"IF(AND(AD$8=Display!$T$10,'Lux4-sept'!$A$8=Display!$B$7,'Lux4-sept'!$A$227=Display!$B$9,'Lux4-sept'!$A$244=Display!$B$11,'Lux4-sept'!$A$266=Display!$B$13),Display!$D6,)","v":0},{"$f":"IF(AND(AE$8=Display!$T$10,'Lux4-sept'!$A$8=Display!$B$7,'Lux4-sept'!$A$227=Display!$B$9,'Lux4-sept'!$A$244=Display!$B$11,'Lux4-sept'!$A$266=Display!$B$13),Display!$D6,)","v":0},{"$f":"IF(AND(AF$8=Display!$T$10,'Lux4-sept'!$A$8=Display!$B$7,'Lux4-sept'!$A$227=Display!$B$9,'Lux4-sept'!$A$244=Display!$B$11,'Lux4-sept'!$A$266=Display!$B$13),Display!$D6,)","v":0},null,null,0]
["Présence de poussières",{"$f":"IF(AND(B$8=Display!$T$10,'Lux4-sept'!$A$8=Display!$B$7,'Lux4-sept'!$A$227=Display!$B$9,'Lux4-sept'!$A$244=Display!$B$11,'Lux4-sept'!$A$266=Display!$B$13),Display!$D7,)","v":0},{"$f":"IF(AND(C$8=Display!$T$10,'Lux4-sept'!$A$8=Display!$B$7,'Lux4-sept'!$A$227=Display!$B$9,'Lux4-sept'!$A$244=Display!$B$11,'Lux4-sept'!$A$266=Display!$B$13),Display!$D7,)","v":0},{"$f":"IF(AND(D$8=Display!$T$10,'Lux4-sept'!$A$8=Display!$B$7,'Lux4-sept'!$A$227=Display!$B$9,'Lux4-sept'!$A$244=Display!$B$11,'Lux4-sept'!$A$266=Display!$B$13),Display!$D7,)","v":0},{"$f":"IF(AND(E$8=Display!$T$10,'Lux4-sept'!$A$8=Display!$B$7,'Lux4-sept'!$A$227=Display!$B$9,'Lux4-sept'!$A$244=Display!$B$11,'Lux4-sept'!$A$266=Display!$B$13),Display!$D7,)","v":0},{"$f":"IF(AND(F$8=Display!$T$10,'Lux4-sept'!$A$8=Display!$B$7,'Lux4-sept'!$A$227=Display!$B$9,'Lux4-sept'!$A$244=Display!$B$11,'Lux4-sept'!$A$266=Display!$B$13),Display!$D7,)","v":0},{"$f":"IF(AND(G$8=Display!$T$10,'Lux4-sept'!$A$8=Display!$B$7,'Lux4-sept'!$A$227=Display!$B$9,'Lux4-sept'!$A$244=Display!$B$11,'Lux4-sept'!$A$266=Display!$B$13),Display!$D7,)","v":0},{"$f":"IF(AND(H$8=Display!$T$10,'Lux4-sept'!$A$8=Display!$B$7,'Lux4-sept'!$A$227=Display!$B$9,'Lux4-sept'!$A$244=Display!$B$11,'Lux4-sept'!$A$266=Display!$B$13),Display!$D7,)","v":0},{"$f":"IF(AND(I$8=Display!$T$10,'Lux4-sept'!$A$8=Display!$B$7,'Lux4-sept'!$A$227=Display!$B$9,'Lux4-sept'!$A$244=Display!$B$11,'Lux4-sept'!$A$266=Display!$B$13),Display!$D7,)","v":0},{"$f":"IF(AND(J$8=Display!$T$10,'Lux4-sept'!$A$8=Display!$B$7,'Lux4-sept'!$A$227=Display!$B$9,'Lux4-sept'!$A$244=Display!$B$11,'Lux4-sept'!$A$266=Display!$B$13),Display!$D7,)","v":0},{"$f":"IF(AND(K$8=Display!$T$10,'Lux4-sept'!$A$8=Display!$B$7,'Lux4-sept'!$A$227=Display!$B$9,'Lux4-sept'!$A$244=Display!$B$11,'Lux4-sept'!$A$266=Display!$B$13),Display!$D7,)","v":0},{"$f":"IF(AND(L$8=Display!$T$10,'Lux4-sept'!$A$8=Display!$B$7,'Lux4-sept'!$A$227=Display!$B$9,'Lux4-sept'!$A$244=Display!$B$11,'Lux4-sept'!$A$266=Display!$B$13),Display!$D7,)","v":0},{"$f":"IF(AND(M$8=Display!$T$10,'Lux4-sept'!$A$8=Display!$B$7,'Lux4-sept'!$A$227=Display!$B$9,'Lux4-sept'!$A$244=Display!$B$11,'Lux4-sept'!$A$266=Display!$B$13),Display!$D7,)","v":0},{"$f":"IF(AND(N$8=Display!$T$10,'Lux4-sept'!$A$8=Display!$B$7,'Lux4-sept'!$A$227=Display!$B$9,'Lux4-sept'!$A$244=Display!$B$11,'Lux4-sept'!$A$266=Display!$B$13),Display!$D7,)","v":0},{"$f":"IF(AND(O$8=Display!$T$10,'Lux4-sept'!$A$8=Display!$B$7,'Lux4-sept'!$A$227=Display!$B$9,'Lux4-sept'!$A$244=Display!$B$11,'Lux4-sept'!$A$266=Display!$B$13),Display!$D7,)","v":0},{"$f":"IF(AND(P$8=Display!$T$10,'Lux4-sept'!$A$8=Display!$B$7,'Lux4-sept'!$A$227=Display!$B$9,'Lux4-sept'!$A$244=Display!$B$11,'Lux4-sept'!$A$266=Display!$B$13),Display!$D7,)","v":0},{"$f":"IF(AND(Q$8=Display!$T$10,'Lux4-sept'!$A$8=Display!$B$7,'Lux4-sept'!$A$227=Display!$B$9,'Lux4-sept'!$A$244=Display!$B$11,'Lux4-sept'!$A$266=Display!$B$13),Display!$D7,)","v":0},{"$f":"IF(AND(R$8=Display!$T$10,'Lux4-sept'!$A$8=Display!$B$7,'Lux4-sept'!$A$227=Display!$B$9,'Lux4-sept'!$A$244=Display!$B$11,'Lux4-sept'!$A$266=Display!$B$13),Display!$D7,)","v":0},{"$f":"IF(AND(S$8=Display!$T$10,'Lux4-sept'!$A$8=Display!$B$7,'Lux4-sept'!$A$227=Display!$B$9,'Lux4-sept'!$A$244=Display!$B$11,'Lux4-sept'!$A$266=Display!$B$13),Display!$D7,)","v":0},{"$f":"IF(AND(T$8=Display!$T$10,'Lux4-sept'!$A$8=Display!$B$7,'Lux4-sept'!$A$227=Display!$B$9,'Lux4-sept'!$A$244=Display!$B$11,'Lux4-sept'!$A$266=Display!$B$13),Display!$D7,)","v":0},{"$f":"IF(AND(U$8=Display!$T$10,'Lux4-sept'!$A$8=Display!$B$7,'Lux4-sept'!$A$227=Display!$B$9,'Lux4-sept'!$A$244=Display!$B$11,'Lux4-sept'!$A$266=Display!$B$13),Display!$D7,)","v":0},{"$f":"IF(AND(V$8=Display!$T$10,'Lux4-sept'!$A$8=Display!$B$7,'Lux4-sept'!$A$227=Display!$B$9,'Lux4-sept'!$A$244=Display!$B$11,'Lux4-sept'!$A$266=Display!$B$13),Display!$D7,)","v":0},{"$f":"IF(AND(W$8=Display!$T$10,'Lux4-sept'!$A$8=Display!$B$7,'Lux4-sept'!$A$227=Display!$B$9,'Lux4-sept'!$A$244=Display!$B$11,'Lux4-sept'!$A$266=Display!$B$13),Display!$D7,)","v":0},{"$f":"IF(AND(X$8=Display!$T$10,'Lux4-sept'!$A$8=Display!$B$7,'Lux4-sept'!$A$227=Display!$B$9,'Lux4-sept'!$A$244=Display!$B$11,'Lux4-sept'!$A$266=Display!$B$13),Display!$D7,)","v":0},{"$f":"IF(AND(Y$8=Display!$T$10,'Lux4-sept'!$A$8=Display!$B$7,'Lux4-sept'!$A$227=Display!$B$9,'Lux4-sept'!$A$244=Display!$B$11,'Lux4-sept'!$A$266=Display!$B$13),Display!$D7,)","v":0},{"$f":"IF(AND(Z$8=Display!$T$10,'Lux4-sept'!$A$8=Display!$B$7,'Lux4-sept'!$A$227=Display!$B$9,'Lux4-sept'!$A$244=Display!$B$11,'Lux4-sept'!$A$266=Display!$B$13),Display!$D7,)","v":0},{"$f":"IF(AND(AA$8=Display!$T$10,'Lux4-sept'!$A$8=Display!$B$7,'Lux4-sept'!$A$227=Display!$B$9,'Lux4-sept'!$A$244=Display!$B$11,'Lux4-sept'!$A$266=Display!$B$13),Display!$D7,)","v":0},{"$f":"IF(AND(AB$8=Display!$T$10,'Lux4-sept'!$A$8=Display!$B$7,'Lux4-sept'!$A$227=Display!$B$9,'Lux4-sept'!$A$244=Display!$B$11,'Lux4-sept'!$A$266=Display!$B$13),Display!$D7,)","v":0},{"$f":"IF(AND(AC$8=Display!$T$10,'Lux4-sept'!$A$8=Display!$B$7,'Lux4-sept'!$A$227=Display!$B$9,'Lux4-sept'!$A$244=Display!$B$11,'Lux4-sept'!$A$266=Display!$B$13),Display!$D7,)","v":0},{"$f":"IF(AND(AD$8=Display!$T$10,'Lux4-sept'!$A$8=Display!$B$7,'Lux4-sept'!$A$227=Display!$B$9,'Lux4-sept'!$A$244=Display!$B$11,'Lux4-sept'!$A$266=Display!$B$13),Display!$D7,)","v":0},{"$f":"IF(AND(AE$8=Display!$T$10,'Lux4-sept'!$A$8=Display!$B$7,'Lux4-sept'!$A$227=Display!$B$9,'Lux4-sept'!$A$244=Display!$B$11,'Lux4-sept'!$A$266=Display!$B$13),Display!$D7,)","v":0},{"$f":"IF(AND(AF$8=Display!$T$10,'Lux4-sept'!$A$8=Display!$B$7,'Lux4-sept'!$A$227=Display!$B$9,'Lux4-sept'!$A$244=Display!$B$11,'Lux4-sept'!$A$266=Display!$B$13),Display!$D7,)","v":0},null,null,0]
["Propreté des miroirs, vasques, vitres, portes, brosses, poubelles, douches",{"$f":"IF(AND(B$8=Display!$T$10,'Lux4-sept'!$A$8=Display!$B$7,'Lux4-sept'!$A$227=Display!$B$9,'Lux4-sept'!$A$244=Display!$B$11,'Lux4-sept'!$A$266=Display!$B$13),Display!$D8,)","v":0},{"$f":"IF(AND(C$8=Display!$T$10,'Lux4-sept'!$A$8=Display!$B$7,'Lux4-sept'!$A$227=Display!$B$9,'Lux4-sept'!$A$244=Display!$B$11,'Lux4-sept'!$A$266=Display!$B$13),Display!$D8,)","v":0},{"$f":"IF(AND(D$8=Display!$T$10,'Lux4-sept'!$A$8=Display!$B$7,'Lux4-sept'!$A$227=Display!$B$9,'Lux4-sept'!$A$244=Display!$B$11,'Lux4-sept'!$A$266=Display!$B$13),Display!$D8,)","v":0},{"$f":"IF(AND(E$8=Display!$T$10,'Lux4-sept'!$A$8=Display!$B$7,'Lux4-sept'!$A$227=Display!$B$9,'Lux4-sept'!$A$244=Display!$B$11,'Lux4-sept'!$A$266=Display!$B$13),Display!$D8,)","v":0},{"$f":"IF(AND(F$8=Display!$T$10,'Lux4-sept'!$A$8=Display!$B$7,'Lux4-sept'!$A$227=Display!$B$9,'Lux4-sept'!$A$244=Display!$B$11,'Lux4-sept'!$A$266=Display!$B$13),Display!$D8,)","v":0},{"$f":"IF(AND(G$8=Display!$T$10,'Lux4-sept'!$A$8=Display!$B$7,'Lux4-sept'!$A$227=Display!$B$9,'Lux4-sept'!$A$244=Display!$B$11,'Lux4-sept'!$A$266=Display!$B$13),Display!$D8,)","v":0},{"$f":"IF(AND(H$8=Display!$T$10,'Lux4-sept'!$A$8=Display!$B$7,'Lux4-sept'!$A$227=Display!$B$9,'Lux4-sept'!$A$244=Display!$B$11,'Lux4-sept'!$A$266=Display!$B$13),Display!$D8,)","v":0},{"$f":"IF(AND(I$8=Display!$T$10,'Lux4-sept'!$A$8=Display!$B$7,'Lux4-sept'!$A$227=Display!$B$9,'Lux4-sept'!$A$244=Display!$B$11,'Lux4-sept'!$A$266=Display!$B$13),Display!$D8,)","v":0},{"$f":"IF(AND(J$8=Display!$T$10,'Lux4-sept'!$A$8=Display!$B$7,'Lux4-sept'!$A$227=Display!$B$9,'Lux4-sept'!$A$244=Display!$B$11,'Lux4-sept'!$A$266=Display!$B$13),Display!$D8,)","v":0},{"$f":"IF(AND(K$8=Display!$T$10,'Lux4-sept'!$A$8=Display!$B$7,'Lux4-sept'!$A$227=Display!$B$9,'Lux4-sept'!$A$244=Display!$B$11,'Lux4-sept'!$A$266=Display!$B$13),Display!$D8,)","v":0},{"$f":"IF(AND(L$8=Display!$T$10,'Lux4-sept'!$A$8=Display!$B$7,'Lux4-sept'!$A$227=Display!$B$9,'Lux4-sept'!$A$244=Display!$B$11,'Lux4-sept'!$A$266=Display!$B$13),Display!$D8,)","v":0},{"$f":"IF(AND(M$8=Display!$T$10,'Lux4-sept'!$A$8=Display!$B$7,'Lux4-sept'!$A$227=Display!$B$9,'Lux4-sept'!$A$244=Display!$B$11,'Lux4-sept'!$A$266=Display!$B$13),Display!$D8,)","v":0},{"$f":"IF(AND(N$8=Display!$T$10,'Lux4-sept'!$A$8=Display!$B$7,'Lux4-sept'!$A$227=Display!$B$9,'Lux4-sept'!$A$244=Display!$B$11,'Lux4-sept'!$A$266=Display!$B$13),Display!$D8,)","v":0},{"$f":"IF(AND(O$8=Display!$T$10,'Lux4-sept'!$A$8=Display!$B$7,'Lux4-sept'!$A$227=Display!$B$9,'Lux4-sept'!$A$244=Display!$B$11,'Lux4-sept'!$A$266=Display!$B$13),Display!$D8,)","v":0},{"$f":"IF(AND(P$8=Display!$T$10,'Lux4-sept'!$A$8=Display!$B$7,'Lux4-sept'!$A$227=Display!$B$9,'Lux4-sept'!$A$244=Display!$B$11,'Lux4-sept'!$A$266=Display!$B$13),Display!$D8,)","v":0},{"$f":"IF(AND(Q$8=Display!$T$10,'Lux4-sept'!$A$8=Display!$B$7,'Lux4-sept'!$A$227=Display!$B$9,'Lux4-sept'!$A$244=Display!$B$11,'Lux4-sept'!$A$266=Display!$B$13),Display!$D8,)","v":0},{"$f":"IF(AND(R$8=Display!$T$10,'Lux4-sept'!$A$8=Display!$B$7,'Lux4-sept'!$A$227=Display!$B$9,'Lux4-sept'!$A$244=Display!$B$11,'Lux4-sept'!$A$266=Display!$B$13),Display!$D8,)","v":0},{"$f":"IF(AND(S$8=Display!$T$10,'Lux4-sept'!$A$8=Display!$B$7,'Lux4-sept'!$A$227=Display!$B$9,'Lux4-sept'!$A$244=Display!$B$11,'Lux4-sept'!$A$266=Display!$B$13),Display!$D8,)","v":0},{"$f":"IF(AND(T$8=Display!$T$10,'Lux4-sept'!$A$8=Display!$B$7,'Lux4-sept'!$A$227=Display!$B$9,'Lux4-sept'!$A$244=Display!$B$11,'Lux4-sept'!$A$266=Display!$B$13),Display!$D8,)","v":0},{"$f":"IF(AND(U$8=Display!$T$10,'Lux4-sept'!$A$8=Display!$B$7,'Lux4-sept'!$A$227=Display!$B$9,'Lux4-sept'!$A$244=Display!$B$11,'Lux4-sept'!$A$266=Display!$B$13),Display!$D8,)","v":0},{"$f":"IF(AND(V$8=Display!$T$10,'Lux4-sept'!$A$8=Display!$B$7,'Lux4-sept'!$A$227=Display!$B$9,'Lux4-sept'!$A$244=Display!$B$11,'Lux4-sept'!$A$266=Display!$B$13),Display!$D8,)","v":0},{"$f":"IF(AND(W$8=Display!$T$10,'Lux4-sept'!$A$8=Display!$B$7,'Lux4-sept'!$A$227=Display!$B$9,'Lux4-sept'!$A$244=Display!$B$11,'Lux4-sept'!$A$266=Display!$B$13),Display!$D8,)","v":0},{"$f":"IF(AND(X$8=Display!$T$10,'Lux4-sept'!$A$8=Display!$B$7,'Lux4-sept'!$A$227=Display!$B$9,'Lux4-sept'!$A$244=Display!$B$11,'Lux4-sept'!$A$266=Display!$B$13),Display!$D8,)","v":0},{"$f":"IF(AND(Y$8=Display!$T$10,'Lux4-sept'!$A$8=Display!$B$7,'Lux4-sept'!$A$227=Display!$B$9,'Lux4-sept'!$A$244=Display!$B$11,'Lux4-sept'!$A$266=Display!$B$13),Display!$D8,)","v":0},{"$f":"IF(AND(Z$8=Display!$T$10,'Lux4-sept'!$A$8=Display!$B$7,'Lux4-sept'!$A$227=Display!$B$9,'Lux4-sept'!$A$244=Display!$B$11,'Lux4-sept'!$A$266=Display!$B$13),Display!$D8,)","v":0},{"$f":"IF(AND(AA$8=Display!$T$10,'Lux4-sept'!$A$8=Display!$B$7,'Lux4-sept'!$A$227=Display!$B$9,'Lux4-sept'!$A$244=Display!$B$11,'Lux4-sept'!$A$266=Display!$B$13),Display!$D8,)","v":0},{"$f":"IF(AND(AB$8=Display!$T$10,'Lux4-sept'!$A$8=Display!$B$7,'Lux4-sept'!$A$227=Display!$B$9,'Lux4-sept'!$A$244=Display!$B$11,'Lux4-sept'!$A$266=Display!$B$13),Display!$D8,)","v":0},{"$f":"IF(AND(AC$8=Display!$T$10,'Lux4-sept'!$A$8=Display!$B$7,'Lux4-sept'!$A$227=Display!$B$9,'Lux4-sept'!$A$244=Display!$B$11,'Lux4-sept'!$A$266=Display!$B$13),Display!$D8,)","v":0},{"$f":"IF(AND(AD$8=Display!$T$10,'Lux4-sept'!$A$8=Display!$B$7,'Lux4-sept'!$A$227=Display!$B$9,'Lux4-sept'!$A$244=Display!$B$11,'Lux4-sept'!$A$266=Display!$B$13),Display!$D8,)","v":0},{"$f":"IF(AND(AE$8=Display!$T$10,'Lux4-sept'!$A$8=Display!$B$7,'Lux4-sept'!$A$227=Display!$B$9,'Lux4-sept'!$A$244=Display!$B$11,'Lux4-sept'!$A$266=Display!$B$13),Display!$D8,)","v":0},{"$f":"IF(AND(AF$8=Display!$T$10,'Lux4-sept'!$A$8=Display!$B$7,'Lux4-sept'!$A$227=Display!$B$9,'Lux4-sept'!$A$244=Display!$B$11,'Lux4-sept'!$A$266=Display!$B$13),Display!$D8,)","v":0},null,null,0]
["MOYENNE",{"$f":"((IF((SUM(B267:B271))<>0,(SUM(B267:B271)),0))/(IF((SUM((IF(B267<>0,3,0)),(IF(B268<>0,3,0)),(IF(B269<>0,3,0)),(IF(B270<>0,3,0)),(IF(B271<>0,3,0))))<>0,((SUM((IF(B267<>0,3,0)),(IF(B268<>0,3,0)),(IF(B269<>0,3,0)),(IF(B270<>0,3,0)),(IF(B271<>0,3,0))))),1)))","v":0},{"$f":"((IF((SUM(C267:C271))<>0,(SUM(C267:C271)),0))/(IF((SUM((IF(C267<>0,3,0)),(IF(C268<>0,3,0)),(IF(C269<>0,3,0)),(IF(C270<>0,3,0)),(IF(C271<>0,3,0))))<>0,((SUM((IF(C267<>0,3,0)),(IF(C268<>0,3,0)),(IF(C269<>0,3,0)),(IF(C270<>0,3,0)),(IF(C271<>0,3,0))))),1)))","v":0},0,0,0,0,0,0,0,0,0,0,0,0,0,0,0,0,0,0,0,0,0,0,0,0,0,0,0,0,0,0,0]
[".04"]
["Fourniture ingrédients sanitaires",{"$f":"IF(AND(B$8=Display!$T$10,'Lux4-sept'!$A$8=Display!$B$7,'Lux4-sept'!$A$227=Display!$B$9,'Lux4-sept'!$A$244=Display!$B$11,'Lux4-sept'!$A$273=Display!$B$13),Display!$D4,)","v":0},{"$f":"IF(AND(C$8=Display!$T$10,'Lux4-sept'!$A$8=Display!$B$7,'Lux4-sept'!$A$227=Display!$B$9,'Lux4-sept'!$A$244=Display!$B$11,'Lux4-sept'!$A$273=Display!$B$13),Display!$D4,)","v":0},{"$f":"IF(AND(D$8=Display!$T$10,'Lux4-sept'!$A$8=Display!$B$7,'Lux4-sept'!$A$227=Display!$B$9,'Lux4-sept'!$A$244=Display!$B$11,'Lux4-sept'!$A$273=Display!$B$13),Display!$D4,)","v":0},{"$f":"IF(AND(E$8=Display!$T$10,'Lux4-sept'!$A$8=Display!$B$7,'Lux4-sept'!$A$227=Display!$B$9,'Lux4-sept'!$A$244=Display!$B$11,'Lux4-sept'!$A$273=Display!$B$13),Display!$D4,)","v":0},{"$f":"IF(AND(F$8=Display!$T$10,'Lux4-sept'!$A$8=Display!$B$7,'Lux4-sept'!$A$227=Display!$B$9,'Lux4-sept'!$A$244=Display!$B$11,'Lux4-sept'!$A$273=Display!$B$13),Display!$D4,)","v":0},{"$f":"IF(AND(G$8=Display!$T$10,'Lux4-sept'!$A$8=Display!$B$7,'Lux4-sept'!$A$227=Display!$B$9,'Lux4-sept'!$A$244=Display!$B$11,'Lux4-sept'!$A$273=Display!$B$13),Display!$D4,)","v":0},{"$f":"IF(AND(H$8=Display!$T$10,'Lux4-sept'!$A$8=Display!$B$7,'Lux4-sept'!$A$227=Display!$B$9,'Lux4-sept'!$A$244=Display!$B$11,'Lux4-sept'!$A$273=Display!$B$13),Display!$D4,)","v":0},{"$f":"IF(AND(I$8=Display!$T$10,'Lux4-sept'!$A$8=Display!$B$7,'Lux4-sept'!$A$227=Display!$B$9,'Lux4-sept'!$A$244=Display!$B$11,'Lux4-sept'!$A$273=Display!$B$13),Display!$D4,)","v":0},{"$f":"IF(AND(J$8=Display!$T$10,'Lux4-sept'!$A$8=Display!$B$7,'Lux4-sept'!$A$227=Display!$B$9,'Lux4-sept'!$A$244=Display!$B$11,'Lux4-sept'!$A$273=Display!$B$13),Display!$D4,)","v":0},{"$f":"IF(AND(K$8=Display!$T$10,'Lux4-sept'!$A$8=Display!$B$7,'Lux4-sept'!$A$227=Display!$B$9,'Lux4-sept'!$A$244=Display!$B$11,'Lux4-sept'!$A$273=Display!$B$13),Display!$D4,)","v":0},{"$f":"IF(AND(L$8=Display!$T$10,'Lux4-sept'!$A$8=Display!$B$7,'Lux4-sept'!$A$227=Display!$B$9,'Lux4-sept'!$A$244=Display!$B$11,'Lux4-sept'!$A$273=Display!$B$13),Display!$D4,)","v":0},{"$f":"IF(AND(M$8=Display!$T$10,'Lux4-sept'!$A$8=Display!$B$7,'Lux4-sept'!$A$227=Display!$B$9,'Lux4-sept'!$A$244=Display!$B$11,'Lux4-sept'!$A$273=Display!$B$13),Display!$D4,)","v":0},{"$f":"IF(AND(N$8=Display!$T$10,'Lux4-sept'!$A$8=Display!$B$7,'Lux4-sept'!$A$227=Display!$B$9,'Lux4-sept'!$A$244=Display!$B$11,'Lux4-sept'!$A$273=Display!$B$13),Display!$D4,)","v":0},{"$f":"IF(AND(O$8=Display!$T$10,'Lux4-sept'!$A$8=Display!$B$7,'Lux4-sept'!$A$227=Display!$B$9,'Lux4-sept'!$A$244=Display!$B$11,'Lux4-sept'!$A$273=Display!$B$13),Display!$D4,)","v":0},{"$f":"IF(AND(P$8=Display!$T$10,'Lux4-sept'!$A$8=Display!$B$7,'Lux4-sept'!$A$227=Display!$B$9,'Lux4-sept'!$A$244=Display!$B$11,'Lux4-sept'!$A$273=Display!$B$13),Display!$D4,)","v":0},{"$f":"IF(AND(Q$8=Display!$T$10,'Lux4-sept'!$A$8=Display!$B$7,'Lux4-sept'!$A$227=Display!$B$9,'Lux4-sept'!$A$244=Display!$B$11,'Lux4-sept'!$A$273=Display!$B$13),Display!$D4,)","v":0},{"$f":"IF(AND(R$8=Display!$T$10,'Lux4-sept'!$A$8=Display!$B$7,'Lux4-sept'!$A$227=Display!$B$9,'Lux4-sept'!$A$244=Display!$B$11,'Lux4-sept'!$A$273=Display!$B$13),Display!$D4,)","v":0},{"$f":"IF(AND(S$8=Display!$T$10,'Lux4-sept'!$A$8=Display!$B$7,'Lux4-sept'!$A$227=Display!$B$9,'Lux4-sept'!$A$244=Display!$B$11,'Lux4-sept'!$A$273=Display!$B$13),Display!$D4,)","v":0},{"$f":"IF(AND(T$8=Display!$T$10,'Lux4-sept'!$A$8=Display!$B$7,'Lux4-sept'!$A$227=Display!$B$9,'Lux4-sept'!$A$244=Display!$B$11,'Lux4-sept'!$A$273=Display!$B$13),Display!$D4,)","v":0},{"$f":"IF(AND(U$8=Display!$T$10,'Lux4-sept'!$A$8=Display!$B$7,'Lux4-sept'!$A$227=Display!$B$9,'Lux4-sept'!$A$244=Display!$B$11,'Lux4-sept'!$A$273=Display!$B$13),Display!$D4,)","v":0},{"$f":"IF(AND(V$8=Display!$T$10,'Lux4-sept'!$A$8=Display!$B$7,'Lux4-sept'!$A$227=Display!$B$9,'Lux4-sept'!$A$244=Display!$B$11,'Lux4-sept'!$A$273=Display!$B$13),Display!$D4,)","v":0},{"$f":"IF(AND(W$8=Display!$T$10,'Lux4-sept'!$A$8=Display!$B$7,'Lux4-sept'!$A$227=Display!$B$9,'Lux4-sept'!$A$244=Display!$B$11,'Lux4-sept'!$A$273=Display!$B$13),Display!$D4,)","v":0},{"$f":"IF(AND(X$8=Display!$T$10,'Lux4-sept'!$A$8=Display!$B$7,'Lux4-sept'!$A$227=Display!$B$9,'Lux4-sept'!$A$244=Display!$B$11,'Lux4-sept'!$A$273=Display!$B$13),Display!$D4,)","v":0},{"$f":"IF(AND(Y$8=Display!$T$10,'Lux4-sept'!$A$8=Display!$B$7,'Lux4-sept'!$A$227=Display!$B$9,'Lux4-sept'!$A$244=Display!$B$11,'Lux4-sept'!$A$273=Display!$B$13),Display!$D4,)","v":0},{"$f":"IF(AND(Z$8=Display!$T$10,'Lux4-sept'!$A$8=Display!$B$7,'Lux4-sept'!$A$227=Display!$B$9,'Lux4-sept'!$A$244=Display!$B$11,'Lux4-sept'!$A$273=Display!$B$13),Display!$D4,)","v":0},{"$f":"IF(AND(AA$8=Display!$T$10,'Lux4-sept'!$A$8=Display!$B$7,'Lux4-sept'!$A$227=Display!$B$9,'Lux4-sept'!$A$244=Display!$B$11,'Lux4-sept'!$A$273=Display!$B$13),Display!$D4,)","v":0},{"$f":"IF(AND(AB$8=Display!$T$10,'Lux4-sept'!$A$8=Display!$B$7,'Lux4-sept'!$A$227=Display!$B$9,'Lux4-sept'!$A$244=Display!$B$11,'Lux4-sept'!$A$273=Display!$B$13),Display!$D4,)","v":0},{"$f":"IF(AND(AC$8=Display!$T$10,'Lux4-sept'!$A$8=Display!$B$7,'Lux4-sept'!$A$227=Display!$B$9,'Lux4-sept'!$A$244=Display!$B$11,'Lux4-sept'!$A$273=Display!$B$13),Display!$D4,)","v":0},{"$f":"IF(AND(AD$8=Display!$T$10,'Lux4-sept'!$A$8=Display!$B$7,'Lux4-sept'!$A$227=Display!$B$9,'Lux4-sept'!$A$244=Display!$B$11,'Lux4-sept'!$A$273=Display!$B$13),Display!$D4,)","v":0},{"$f":"IF(AND(AE$8=Display!$T$10,'Lux4-sept'!$A$8=Display!$B$7,'Lux4-sept'!$A$227=Display!$B$9,'Lux4-sept'!$A$244=Display!$B$11,'Lux4-sept'!$A$273=Display!$B$13),Display!$D4,)","v":0},{"$f":"IF(AND(AF$8=Display!$T$10,'Lux4-sept'!$A$8=Display!$B$7,'Lux4-sept'!$A$227=Display!$B$9,'Lux4-sept'!$A$244=Display!$B$11,'Lux4-sept'!$A$273=Display!$B$13),Display!$D4,)","v":0},null,null,{"$f":"((IF((SUM(B274:AF274))<>0,(SUM(B274:AF274)),0))/(IF((SUM((IF(B274<>0,3,0)),(IF(C274<>0,3,0)),(IF(D274<>0,3,0)),(IF(E274<>0,3,0)),(IF(F274<>0,3,0)),(IF(F274<>0,3,0)),(IF(F274<>0,3,0)),(IF(G274<>0,3,0)),(IF(H274<>0,3,0)),(IF(I274<>0,3,0)),(IF(J274<>0,3,0)),(IF(K274<>0,3,0)),(IF(L274<>0,3,0)),(IF(M274<>0,3,0)),(IF(N274<>0,3,0)),(IF(O274<>0,3,0)),(IF(P274<>0,3,0)),(IF(Q274<>0,3,0)),(IF(R274<>0,3,0)),(IF(S274<>0,3,0)),(IF(T274<>0,3,0)),(IF(U274<>0,3,0)),(IF(V274<>0,3,0)),(IF(W274<>0,3,0)),(IF(X274<>0,3,0)),(IF(Y274<>0,3,0)),(IF(Z274<>0,3,0)),(IF(AA274<>0,3,0)),(IF(AB274<>0,3,0)),(IF(AC274<>0,3,0)),(IF(AD274<>0,3,0)),(IF(AE274<>0,3,0)),(IF(AF274<>0,3,0))))<>0,((SUM((IF(B274<>0,3,0)),(IF(C274<>0,3,0)),(IF(D274<>0,3,0)),(IF(E274<>0,3,0)),(IF(F274<>0,3,0)),(IF(F274<>0,3,0)),(IF(F274<>0,3,0)),(IF(G274<>0,3,0)),(IF(H274<>0,3,0)),(IF(I274<>0,3,0)),(IF(J274<>0,3,0)),(IF(K274<>0,3,0)),(IF(L274<>0,3,0)),(IF(M274<>0,3,0)),(IF(N274<>0,3,0)),(IF(O274<>0,3,0)),(IF(P274<>0,3,0)),(IF(Q274<>0,3,0)),(IF(R274<>0,3,0)),(IF(S274<>0,3,0)),(IF(T274<>0,3,0)),(IF(U274<>0,3,0)),(IF(V274<>0,3,0)),(IF(W274<>0,3,0)),(IF(X274<>0,3,0)),(IF(Y274<>0,3,0)),(IF(Z274<>0,3,0)),(IF(AA274<>0,3,0)),(IF(AB274<>0,3,0)),(IF(AC274<>0,3,0)),(IF(AD274<>0,3,0)),(IF(AE274<>0,3,0)),(IF(AF274<>0,3,0))))),1)))","v":0}]
["Nettoyage des sols",{"$f":"IF(AND(B$8=Display!$T$10,'Lux4-sept'!$A$8=Display!$B$7,'Lux4-sept'!$A$227=Display!$B$9,'Lux4-sept'!$A$244=Display!$B$11,'Lux4-sept'!$A$273=Display!$B$13),Display!$D5,)","v":0},{"$f":"IF(AND(C$8=Display!$T$10,'Lux4-sept'!$A$8=Display!$B$7,'Lux4-sept'!$A$227=Display!$B$9,'Lux4-sept'!$A$244=Display!$B$11,'Lux4-sept'!$A$273=Display!$B$13),Display!$D5,)","v":0},{"$f":"IF(AND(D$8=Display!$T$10,'Lux4-sept'!$A$8=Display!$B$7,'Lux4-sept'!$A$227=Display!$B$9,'Lux4-sept'!$A$244=Display!$B$11,'Lux4-sept'!$A$273=Display!$B$13),Display!$D5,)","v":0},{"$f":"IF(AND(E$8=Display!$T$10,'Lux4-sept'!$A$8=Display!$B$7,'Lux4-sept'!$A$227=Display!$B$9,'Lux4-sept'!$A$244=Display!$B$11,'Lux4-sept'!$A$273=Display!$B$13),Display!$D5,)","v":0},{"$f":"IF(AND(F$8=Display!$T$10,'Lux4-sept'!$A$8=Display!$B$7,'Lux4-sept'!$A$227=Display!$B$9,'Lux4-sept'!$A$244=Display!$B$11,'Lux4-sept'!$A$273=Display!$B$13),Display!$D5,)","v":0},{"$f":"IF(AND(G$8=Display!$T$10,'Lux4-sept'!$A$8=Display!$B$7,'Lux4-sept'!$A$227=Display!$B$9,'Lux4-sept'!$A$244=Display!$B$11,'Lux4-sept'!$A$273=Display!$B$13),Display!$D5,)","v":0},{"$f":"IF(AND(H$8=Display!$T$10,'Lux4-sept'!$A$8=Display!$B$7,'Lux4-sept'!$A$227=Display!$B$9,'Lux4-sept'!$A$244=Display!$B$11,'Lux4-sept'!$A$273=Display!$B$13),Display!$D5,)","v":0},{"$f":"IF(AND(I$8=Display!$T$10,'Lux4-sept'!$A$8=Display!$B$7,'Lux4-sept'!$A$227=Display!$B$9,'Lux4-sept'!$A$244=Display!$B$11,'Lux4-sept'!$A$273=Display!$B$13),Display!$D5,)","v":0},{"$f":"IF(AND(J$8=Display!$T$10,'Lux4-sept'!$A$8=Display!$B$7,'Lux4-sept'!$A$227=Display!$B$9,'Lux4-sept'!$A$244=Display!$B$11,'Lux4-sept'!$A$273=Display!$B$13),Display!$D5,)","v":0},{"$f":"IF(AND(K$8=Display!$T$10,'Lux4-sept'!$A$8=Display!$B$7,'Lux4-sept'!$A$227=Display!$B$9,'Lux4-sept'!$A$244=Display!$B$11,'Lux4-sept'!$A$273=Display!$B$13),Display!$D5,)","v":0},{"$f":"IF(AND(L$8=Display!$T$10,'Lux4-sept'!$A$8=Display!$B$7,'Lux4-sept'!$A$227=Display!$B$9,'Lux4-sept'!$A$244=Display!$B$11,'Lux4-sept'!$A$273=Display!$B$13),Display!$D5,)","v":0},{"$f":"IF(AND(M$8=Display!$T$10,'Lux4-sept'!$A$8=Display!$B$7,'Lux4-sept'!$A$227=Display!$B$9,'Lux4-sept'!$A$244=Display!$B$11,'Lux4-sept'!$A$273=Display!$B$13),Display!$D5,)","v":0},{"$f":"IF(AND(N$8=Display!$T$10,'Lux4-sept'!$A$8=Display!$B$7,'Lux4-sept'!$A$227=Display!$B$9,'Lux4-sept'!$A$244=Display!$B$11,'Lux4-sept'!$A$273=Display!$B$13),Display!$D5,)","v":0},{"$f":"IF(AND(O$8=Display!$T$10,'Lux4-sept'!$A$8=Display!$B$7,'Lux4-sept'!$A$227=Display!$B$9,'Lux4-sept'!$A$244=Display!$B$11,'Lux4-sept'!$A$273=Display!$B$13),Display!$D5,)","v":0},{"$f":"IF(AND(P$8=Display!$T$10,'Lux4-sept'!$A$8=Display!$B$7,'Lux4-sept'!$A$227=Display!$B$9,'Lux4-sept'!$A$244=Display!$B$11,'Lux4-sept'!$A$273=Display!$B$13),Display!$D5,)","v":0},{"$f":"IF(AND(Q$8=Display!$T$10,'Lux4-sept'!$A$8=Display!$B$7,'Lux4-sept'!$A$227=Display!$B$9,'Lux4-sept'!$A$244=Display!$B$11,'Lux4-sept'!$A$273=Display!$B$13),Display!$D5,)","v":0},{"$f":"IF(AND(R$8=Display!$T$10,'Lux4-sept'!$A$8=Display!$B$7,'Lux4-sept'!$A$227=Display!$B$9,'Lux4-sept'!$A$244=Display!$B$11,'Lux4-sept'!$A$273=Display!$B$13),Display!$D5,)","v":0},{"$f":"IF(AND(S$8=Display!$T$10,'Lux4-sept'!$A$8=Display!$B$7,'Lux4-sept'!$A$227=Display!$B$9,'Lux4-sept'!$A$244=Display!$B$11,'Lux4-sept'!$A$273=Display!$B$13),Display!$D5,)","v":0},{"$f":"IF(AND(T$8=Display!$T$10,'Lux4-sept'!$A$8=Display!$B$7,'Lux4-sept'!$A$227=Display!$B$9,'Lux4-sept'!$A$244=Display!$B$11,'Lux4-sept'!$A$273=Display!$B$13),Display!$D5,)","v":0},{"$f":"IF(AND(U$8=Display!$T$10,'Lux4-sept'!$A$8=Display!$B$7,'Lux4-sept'!$A$227=Display!$B$9,'Lux4-sept'!$A$244=Display!$B$11,'Lux4-sept'!$A$273=Display!$B$13),Display!$D5,)","v":0},{"$f":"IF(AND(V$8=Display!$T$10,'Lux4-sept'!$A$8=Display!$B$7,'Lux4-sept'!$A$227=Display!$B$9,'Lux4-sept'!$A$244=Display!$B$11,'Lux4-sept'!$A$273=Display!$B$13),Display!$D5,)","v":0},{"$f":"IF(AND(W$8=Display!$T$10,'Lux4-sept'!$A$8=Display!$B$7,'Lux4-sept'!$A$227=Display!$B$9,'Lux4-sept'!$A$244=Display!$B$11,'Lux4-sept'!$A$273=Display!$B$13),Display!$D5,)","v":0},{"$f":"IF(AND(X$8=Display!$T$10,'Lux4-sept'!$A$8=Display!$B$7,'Lux4-sept'!$A$227=Display!$B$9,'Lux4-sept'!$A$244=Display!$B$11,'Lux4-sept'!$A$273=Display!$B$13),Display!$D5,)","v":0},{"$f":"IF(AND(Y$8=Display!$T$10,'Lux4-sept'!$A$8=Display!$B$7,'Lux4-sept'!$A$227=Display!$B$9,'Lux4-sept'!$A$244=Display!$B$11,'Lux4-sept'!$A$273=Display!$B$13),Display!$D5,)","v":0},{"$f":"IF(AND(Z$8=Display!$T$10,'Lux4-sept'!$A$8=Display!$B$7,'Lux4-sept'!$A$227=Display!$B$9,'Lux4-sept'!$A$244=Display!$B$11,'Lux4-sept'!$A$273=Display!$B$13),Display!$D5,)","v":0},{"$f":"IF(AND(AA$8=Display!$T$10,'Lux4-sept'!$A$8=Display!$B$7,'Lux4-sept'!$A$227=Display!$B$9,'Lux4-sept'!$A$244=Display!$B$11,'Lux4-sept'!$A$273=Display!$B$13),Display!$D5,)","v":0},{"$f":"IF(AND(AB$8=Display!$T$10,'Lux4-sept'!$A$8=Display!$B$7,'Lux4-sept'!$A$227=Display!$B$9,'Lux4-sept'!$A$244=Display!$B$11,'Lux4-sept'!$A$273=Display!$B$13),Display!$D5,)","v":0},{"$f":"IF(AND(AC$8=Display!$T$10,'Lux4-sept'!$A$8=Display!$B$7,'Lux4-sept'!$A$227=Display!$B$9,'Lux4-sept'!$A$244=Display!$B$11,'Lux4-sept'!$A$273=Display!$B$13),Display!$D5,)","v":0},{"$f":"IF(AND(AD$8=Display!$T$10,'Lux4-sept'!$A$8=Display!$B$7,'Lux4-sept'!$A$227=Display!$B$9,'Lux4-sept'!$A$244=Display!$B$11,'Lux4-sept'!$A$273=Display!$B$13),Display!$D5,)","v":0},{"$f":"IF(AND(AE$8=Display!$T$10,'Lux4-sept'!$A$8=Display!$B$7,'Lux4-sept'!$A$227=Display!$B$9,'Lux4-sept'!$A$244=Display!$B$11,'Lux4-sept'!$A$273=Display!$B$13),Display!$D5,)","v":0},{"$f":"IF(AND(AF$8=Display!$T$10,'Lux4-sept'!$A$8=Display!$B$7,'Lux4-sept'!$A$227=Display!$B$9,'Lux4-sept'!$A$244=Display!$B$11,'Lux4-sept'!$A$273=Display!$B$13),Display!$D5,)","v":0},null,null,{"$f":"((IF((SUM(B275:AF275))<>0,(SUM(B275:AF275)),0))/(IF((SUM((IF(B275<>0,3,0)),(IF(C275<>0,3,0)),(IF(D275<>0,3,0)),(IF(E275<>0,3,0)),(IF(F275<>0,3,0)),(IF(F275<>0,3,0)),(IF(F275<>0,3,0)),(IF(G275<>0,3,0)),(IF(H275<>0,3,0)),(IF(I275<>0,3,0)),(IF(J275<>0,3,0)),(IF(K275<>0,3,0)),(IF(L275<>0,3,0)),(IF(M275<>0,3,0)),(IF(N275<>0,3,0)),(IF(O275<>0,3,0)),(IF(P275<>0,3,0)),(IF(Q275<>0,3,0)),(IF(R275<>0,3,0)),(IF(S275<>0,3,0)),(IF(T275<>0,3,0)),(IF(U275<>0,3,0)),(IF(V275<>0,3,0)),(IF(W275<>0,3,0)),(IF(X275<>0,3,0)),(IF(Y275<>0,3,0)),(IF(Z275<>0,3,0)),(IF(AA275<>0,3,0)),(IF(AB275<>0,3,0)),(IF(AC275<>0,3,0)),(IF(AD275<>0,3,0)),(IF(AE275<>0,3,0)),(IF(AF275<>0,3,0))))<>0,((SUM((IF(B275<>0,3,0)),(IF(C275<>0,3,0)),(IF(D275<>0,3,0)),(IF(E275<>0,3,0)),(IF(F275<>0,3,0)),(IF(F275<>0,3,0)),(IF(F275<>0,3,0)),(IF(G275<>0,3,0)),(IF(H275<>0,3,0)),(IF(I275<>0,3,0)),(IF(J275<>0,3,0)),(IF(K275<>0,3,0)),(IF(L275<>0,3,0)),(IF(M275<>0,3,0)),(IF(N275<>0,3,0)),(IF(O275<>0,3,0)),(IF(P275<>0,3,0)),(IF(Q275<>0,3,0)),(IF(R275<>0,3,0)),(IF(S275<>0,3,0)),(IF(T275<>0,3,0)),(IF(U275<>0,3,0)),(IF(V275<>0,3,0)),(IF(W275<>0,3,0)),(IF(X275<>0,3,0)),(IF(Y275<>0,3,0)),(IF(Z275<>0,3,0)),(IF(AA275<>0,3,0)),(IF(AB275<>0,3,0)),(IF(AC275<>0,3,0)),(IF(AD275<>0,3,0)),(IF(AE275<>0,3,0)),(IF(AF275<>0,3,0))))),1)))","v":0}]
["Propreté des Murs",{"$f":"IF(AND(B$8=Display!$T$10,'Lux4-sept'!$A$8=Display!$B$7,'Lux4-sept'!$A$227=Display!$B$9,'Lux4-sept'!$A$244=Display!$B$11,'Lux4-sept'!$A$273=Display!$B$13),Display!$D6,)","v":0},{"$f":"IF(AND(C$8=Display!$T$10,'Lux4-sept'!$A$8=Display!$B$7,'Lux4-sept'!$A$227=Display!$B$9,'Lux4-sept'!$A$244=Display!$B$11,'Lux4-sept'!$A$273=Display!$B$13),Display!$D6,)","v":0},{"$f":"IF(AND(D$8=Display!$T$10,'Lux4-sept'!$A$8=Display!$B$7,'Lux4-sept'!$A$227=Display!$B$9,'Lux4-sept'!$A$244=Display!$B$11,'Lux4-sept'!$A$273=Display!$B$13),Display!$D6,)","v":0},{"$f":"IF(AND(E$8=Display!$T$10,'Lux4-sept'!$A$8=Display!$B$7,'Lux4-sept'!$A$227=Display!$B$9,'Lux4-sept'!$A$244=Display!$B$11,'Lux4-sept'!$A$273=Display!$B$13),Display!$D6,)","v":0},{"$f":"IF(AND(F$8=Display!$T$10,'Lux4-sept'!$A$8=Display!$B$7,'Lux4-sept'!$A$227=Display!$B$9,'Lux4-sept'!$A$244=Display!$B$11,'Lux4-sept'!$A$273=Display!$B$13),Display!$D6,)","v":0},{"$f":"IF(AND(G$8=Display!$T$10,'Lux4-sept'!$A$8=Display!$B$7,'Lux4-sept'!$A$227=Display!$B$9,'Lux4-sept'!$A$244=Display!$B$11,'Lux4-sept'!$A$273=Display!$B$13),Display!$D6,)","v":0},{"$f":"IF(AND(H$8=Display!$T$10,'Lux4-sept'!$A$8=Display!$B$7,'Lux4-sept'!$A$227=Display!$B$9,'Lux4-sept'!$A$244=Display!$B$11,'Lux4-sept'!$A$273=Display!$B$13),Display!$D6,)","v":0},{"$f":"IF(AND(I$8=Display!$T$10,'Lux4-sept'!$A$8=Display!$B$7,'Lux4-sept'!$A$227=Display!$B$9,'Lux4-sept'!$A$244=Display!$B$11,'Lux4-sept'!$A$273=Display!$B$13),Display!$D6,)","v":0},{"$f":"IF(AND(J$8=Display!$T$10,'Lux4-sept'!$A$8=Display!$B$7,'Lux4-sept'!$A$227=Display!$B$9,'Lux4-sept'!$A$244=Display!$B$11,'Lux4-sept'!$A$273=Display!$B$13),Display!$D6,)","v":0},{"$f":"IF(AND(K$8=Display!$T$10,'Lux4-sept'!$A$8=Display!$B$7,'Lux4-sept'!$A$227=Display!$B$9,'Lux4-sept'!$A$244=Display!$B$11,'Lux4-sept'!$A$273=Display!$B$13),Display!$D6,)","v":0},{"$f":"IF(AND(L$8=Display!$T$10,'Lux4-sept'!$A$8=Display!$B$7,'Lux4-sept'!$A$227=Display!$B$9,'Lux4-sept'!$A$244=Display!$B$11,'Lux4-sept'!$A$273=Display!$B$13),Display!$D6,)","v":0},{"$f":"IF(AND(M$8=Display!$T$10,'Lux4-sept'!$A$8=Display!$B$7,'Lux4-sept'!$A$227=Display!$B$9,'Lux4-sept'!$A$244=Display!$B$11,'Lux4-sept'!$A$273=Display!$B$13),Display!$D6,)","v":0},{"$f":"IF(AND(N$8=Display!$T$10,'Lux4-sept'!$A$8=Display!$B$7,'Lux4-sept'!$A$227=Display!$B$9,'Lux4-sept'!$A$244=Display!$B$11,'Lux4-sept'!$A$273=Display!$B$13),Display!$D6,)","v":0},{"$f":"IF(AND(O$8=Display!$T$10,'Lux4-sept'!$A$8=Display!$B$7,'Lux4-sept'!$A$227=Display!$B$9,'Lux4-sept'!$A$244=Display!$B$11,'Lux4-sept'!$A$273=Display!$B$13),Display!$D6,)","v":0},{"$f":"IF(AND(P$8=Display!$T$10,'Lux4-sept'!$A$8=Display!$B$7,'Lux4-sept'!$A$227=Display!$B$9,'Lux4-sept'!$A$244=Display!$B$11,'Lux4-sept'!$A$273=Display!$B$13),Display!$D6,)","v":0},{"$f":"IF(AND(Q$8=Display!$T$10,'Lux4-sept'!$A$8=Display!$B$7,'Lux4-sept'!$A$227=Display!$B$9,'Lux4-sept'!$A$244=Display!$B$11,'Lux4-sept'!$A$273=Display!$B$13),Display!$D6,)","v":0},{"$f":"IF(AND(R$8=Display!$T$10,'Lux4-sept'!$A$8=Display!$B$7,'Lux4-sept'!$A$227=Display!$B$9,'Lux4-sept'!$A$244=Display!$B$11,'Lux4-sept'!$A$273=Display!$B$13),Display!$D6,)","v":0},{"$f":"IF(AND(S$8=Display!$T$10,'Lux4-sept'!$A$8=Display!$B$7,'Lux4-sept'!$A$227=Display!$B$9,'Lux4-sept'!$A$244=Display!$B$11,'Lux4-sept'!$A$273=Display!$B$13),Display!$D6,)","v":0},{"$f":"IF(AND(T$8=Display!$T$10,'Lux4-sept'!$A$8=Display!$B$7,'Lux4-sept'!$A$227=Display!$B$9,'Lux4-sept'!$A$244=Display!$B$11,'Lux4-sept'!$A$273=Display!$B$13),Display!$D6,)","v":0},{"$f":"IF(AND(U$8=Display!$T$10,'Lux4-sept'!$A$8=Display!$B$7,'Lux4-sept'!$A$227=Display!$B$9,'Lux4-sept'!$A$244=Display!$B$11,'Lux4-sept'!$A$273=Display!$B$13),Display!$D6,)","v":0},{"$f":"IF(AND(V$8=Display!$T$10,'Lux4-sept'!$A$8=Display!$B$7,'Lux4-sept'!$A$227=Display!$B$9,'Lux4-sept'!$A$244=Display!$B$11,'Lux4-sept'!$A$273=Display!$B$13),Display!$D6,)","v":0},{"$f":"IF(AND(W$8=Display!$T$10,'Lux4-sept'!$A$8=Display!$B$7,'Lux4-sept'!$A$227=Display!$B$9,'Lux4-sept'!$A$244=Display!$B$11,'Lux4-sept'!$A$273=Display!$B$13),Display!$D6,)","v":0},{"$f":"IF(AND(X$8=Display!$T$10,'Lux4-sept'!$A$8=Display!$B$7,'Lux4-sept'!$A$227=Display!$B$9,'Lux4-sept'!$A$244=Display!$B$11,'Lux4-sept'!$A$273=Display!$B$13),Display!$D6,)","v":0},{"$f":"IF(AND(Y$8=Display!$T$10,'Lux4-sept'!$A$8=Display!$B$7,'Lux4-sept'!$A$227=Display!$B$9,'Lux4-sept'!$A$244=Display!$B$11,'Lux4-sept'!$A$273=Display!$B$13),Display!$D6,)","v":0},{"$f":"IF(AND(Z$8=Display!$T$10,'Lux4-sept'!$A$8=Display!$B$7,'Lux4-sept'!$A$227=Display!$B$9,'Lux4-sept'!$A$244=Display!$B$11,'Lux4-sept'!$A$273=Display!$B$13),Display!$D6,)","v":0},{"$f":"IF(AND(AA$8=Display!$T$10,'Lux4-sept'!$A$8=Display!$B$7,'Lux4-sept'!$A$227=Display!$B$9,'Lux4-sept'!$A$244=Display!$B$11,'Lux4-sept'!$A$273=Display!$B$13),Display!$D6,)","v":0},{"$f":"IF(AND(AB$8=Display!$T$10,'Lux4-sept'!$A$8=Display!$B$7,'Lux4-sept'!$A$227=Display!$B$9,'Lux4-sept'!$A$244=Display!$B$11,'Lux4-sept'!$A$273=Display!$B$13),Display!$D6,)","v":0},{"$f":"IF(AND(AC$8=Display!$T$10,'Lux4-sept'!$A$8=Display!$B$7,'Lux4-sept'!$A$227=Display!$B$9,'Lux4-sept'!$A$244=Display!$B$11,'Lux4-sept'!$A$273=Display!$B$13),Display!$D6,)","v":0},{"$f":"IF(AND(AD$8=Display!$T$10,'Lux4-sept'!$A$8=Display!$B$7,'Lux4-sept'!$A$227=Display!$B$9,'Lux4-sept'!$A$244=Display!$B$11,'Lux4-sept'!$A$273=Display!$B$13),Display!$D6,)","v":0},{"$f":"IF(AND(AE$8=Display!$T$10,'Lux4-sept'!$A$8=Display!$B$7,'Lux4-sept'!$A$227=Display!$B$9,'Lux4-sept'!$A$244=Display!$B$11,'Lux4-sept'!$A$273=Display!$B$13),Display!$D6,)","v":0},{"$f":"IF(AND(AF$8=Display!$T$10,'Lux4-sept'!$A$8=Display!$B$7,'Lux4-sept'!$A$227=Display!$B$9,'Lux4-sept'!$A$244=Display!$B$11,'Lux4-sept'!$A$273=Display!$B$13),Display!$D6,)","v":0},null,null,0]
["Présence de poussières",{"$f":"IF(AND(B$8=Display!$T$10,'Lux4-sept'!$A$8=Display!$B$7,'Lux4-sept'!$A$227=Display!$B$9,'Lux4-sept'!$A$244=Display!$B$11,'Lux4-sept'!$A$273=Display!$B$13),Display!$D7,)","v":0},{"$f":"IF(AND(C$8=Display!$T$10,'Lux4-sept'!$A$8=Display!$B$7,'Lux4-sept'!$A$227=Display!$B$9,'Lux4-sept'!$A$244=Display!$B$11,'Lux4-sept'!$A$273=Display!$B$13),Display!$D7,)","v":0},{"$f":"IF(AND(D$8=Display!$T$10,'Lux4-sept'!$A$8=Display!$B$7,'Lux4-sept'!$A$227=Display!$B$9,'Lux4-sept'!$A$244=Display!$B$11,'Lux4-sept'!$A$273=Display!$B$13),Display!$D7,)","v":0},{"$f":"IF(AND(E$8=Display!$T$10,'Lux4-sept'!$A$8=Display!$B$7,'Lux4-sept'!$A$227=Display!$B$9,'Lux4-sept'!$A$244=Display!$B$11,'Lux4-sept'!$A$273=Display!$B$13),Display!$D7,)","v":0},{"$f":"IF(AND(F$8=Display!$T$10,'Lux4-sept'!$A$8=Display!$B$7,'Lux4-sept'!$A$227=Display!$B$9,'Lux4-sept'!$A$244=Display!$B$11,'Lux4-sept'!$A$273=Display!$B$13),Display!$D7,)","v":0},{"$f":"IF(AND(G$8=Display!$T$10,'Lux4-sept'!$A$8=Display!$B$7,'Lux4-sept'!$A$227=Display!$B$9,'Lux4-sept'!$A$244=Display!$B$11,'Lux4-sept'!$A$273=Display!$B$13),Display!$D7,)","v":0},{"$f":"IF(AND(H$8=Display!$T$10,'Lux4-sept'!$A$8=Display!$B$7,'Lux4-sept'!$A$227=Display!$B$9,'Lux4-sept'!$A$244=Display!$B$11,'Lux4-sept'!$A$273=Display!$B$13),Display!$D7,)","v":0},{"$f":"IF(AND(I$8=Display!$T$10,'Lux4-sept'!$A$8=Display!$B$7,'Lux4-sept'!$A$227=Display!$B$9,'Lux4-sept'!$A$244=Display!$B$11,'Lux4-sept'!$A$273=Display!$B$13),Display!$D7,)","v":0},{"$f":"IF(AND(J$8=Display!$T$10,'Lux4-sept'!$A$8=Display!$B$7,'Lux4-sept'!$A$227=Display!$B$9,'Lux4-sept'!$A$244=Display!$B$11,'Lux4-sept'!$A$273=Display!$B$13),Display!$D7,)","v":0},{"$f":"IF(AND(K$8=Display!$T$10,'Lux4-sept'!$A$8=Display!$B$7,'Lux4-sept'!$A$227=Display!$B$9,'Lux4-sept'!$A$244=Display!$B$11,'Lux4-sept'!$A$273=Display!$B$13),Display!$D7,)","v":0},{"$f":"IF(AND(L$8=Display!$T$10,'Lux4-sept'!$A$8=Display!$B$7,'Lux4-sept'!$A$227=Display!$B$9,'Lux4-sept'!$A$244=Display!$B$11,'Lux4-sept'!$A$273=Display!$B$13),Display!$D7,)","v":0},{"$f":"IF(AND(M$8=Display!$T$10,'Lux4-sept'!$A$8=Display!$B$7,'Lux4-sept'!$A$227=Display!$B$9,'Lux4-sept'!$A$244=Display!$B$11,'Lux4-sept'!$A$273=Display!$B$13),Display!$D7,)","v":0},{"$f":"IF(AND(N$8=Display!$T$10,'Lux4-sept'!$A$8=Display!$B$7,'Lux4-sept'!$A$227=Display!$B$9,'Lux4-sept'!$A$244=Display!$B$11,'Lux4-sept'!$A$273=Display!$B$13),Display!$D7,)","v":0},{"$f":"IF(AND(O$8=Display!$T$10,'Lux4-sept'!$A$8=Display!$B$7,'Lux4-sept'!$A$227=Display!$B$9,'Lux4-sept'!$A$244=Display!$B$11,'Lux4-sept'!$A$273=Display!$B$13),Display!$D7,)","v":0},{"$f":"IF(AND(P$8=Display!$T$10,'Lux4-sept'!$A$8=Display!$B$7,'Lux4-sept'!$A$227=Display!$B$9,'Lux4-sept'!$A$244=Display!$B$11,'Lux4-sept'!$A$273=Display!$B$13),Display!$D7,)","v":0},{"$f":"IF(AND(Q$8=Display!$T$10,'Lux4-sept'!$A$8=Display!$B$7,'Lux4-sept'!$A$227=Display!$B$9,'Lux4-sept'!$A$244=Display!$B$11,'Lux4-sept'!$A$273=Display!$B$13),Display!$D7,)","v":0},{"$f":"IF(AND(R$8=Display!$T$10,'Lux4-sept'!$A$8=Display!$B$7,'Lux4-sept'!$A$227=Display!$B$9,'Lux4-sept'!$A$244=Display!$B$11,'Lux4-sept'!$A$273=Display!$B$13),Display!$D7,)","v":0},{"$f":"IF(AND(S$8=Display!$T$10,'Lux4-sept'!$A$8=Display!$B$7,'Lux4-sept'!$A$227=Display!$B$9,'Lux4-sept'!$A$244=Display!$B$11,'Lux4-sept'!$A$273=Display!$B$13),Display!$D7,)","v":0},{"$f":"IF(AND(T$8=Display!$T$10,'Lux4-sept'!$A$8=Display!$B$7,'Lux4-sept'!$A$227=Display!$B$9,'Lux4-sept'!$A$244=Display!$B$11,'Lux4-sept'!$A$273=Display!$B$13),Display!$D7,)","v":0},{"$f":"IF(AND(U$8=Display!$T$10,'Lux4-sept'!$A$8=Display!$B$7,'Lux4-sept'!$A$227=Display!$B$9,'Lux4-sept'!$A$244=Display!$B$11,'Lux4-sept'!$A$273=Display!$B$13),Display!$D7,)","v":0},{"$f":"IF(AND(V$8=Display!$T$10,'Lux4-sept'!$A$8=Display!$B$7,'Lux4-sept'!$A$227=Display!$B$9,'Lux4-sept'!$A$244=Display!$B$11,'Lux4-sept'!$A$273=Display!$B$13),Display!$D7,)","v":0},{"$f":"IF(AND(W$8=Display!$T$10,'Lux4-sept'!$A$8=Display!$B$7,'Lux4-sept'!$A$227=Display!$B$9,'Lux4-sept'!$A$244=Display!$B$11,'Lux4-sept'!$A$273=Display!$B$13),Display!$D7,)","v":0},{"$f":"IF(AND(X$8=Display!$T$10,'Lux4-sept'!$A$8=Display!$B$7,'Lux4-sept'!$A$227=Display!$B$9,'Lux4-sept'!$A$244=Display!$B$11,'Lux4-sept'!$A$273=Display!$B$13),Display!$D7,)","v":0},{"$f":"IF(AND(Y$8=Display!$T$10,'Lux4-sept'!$A$8=Display!$B$7,'Lux4-sept'!$A$227=Display!$B$9,'Lux4-sept'!$A$244=Display!$B$11,'Lux4-sept'!$A$273=Display!$B$13),Display!$D7,)","v":0},{"$f":"IF(AND(Z$8=Display!$T$10,'Lux4-sept'!$A$8=Display!$B$7,'Lux4-sept'!$A$227=Display!$B$9,'Lux4-sept'!$A$244=Display!$B$11,'Lux4-sept'!$A$273=Display!$B$13),Display!$D7,)","v":0},{"$f":"IF(AND(AA$8=Display!$T$10,'Lux4-sept'!$A$8=Display!$B$7,'Lux4-sept'!$A$227=Display!$B$9,'Lux4-sept'!$A$244=Display!$B$11,'Lux4-sept'!$A$273=Display!$B$13),Display!$D7,)","v":0},{"$f":"IF(AND(AB$8=Display!$T$10,'Lux4-sept'!$A$8=Display!$B$7,'Lux4-sept'!$A$227=Display!$B$9,'Lux4-sept'!$A$244=Display!$B$11,'Lux4-sept'!$A$273=Display!$B$13),Display!$D7,)","v":0},{"$f":"IF(AND(AC$8=Display!$T$10,'Lux4-sept'!$A$8=Display!$B$7,'Lux4-sept'!$A$227=Display!$B$9,'Lux4-sept'!$A$244=Display!$B$11,'Lux4-sept'!$A$273=Display!$B$13),Display!$D7,)","v":0},{"$f":"IF(AND(AD$8=Display!$T$10,'Lux4-sept'!$A$8=Display!$B$7,'Lux4-sept'!$A$227=Display!$B$9,'Lux4-sept'!$A$244=Display!$B$11,'Lux4-sept'!$A$273=Display!$B$13),Display!$D7,)","v":0},{"$f":"IF(AND(AE$8=Display!$T$10,'Lux4-sept'!$A$8=Display!$B$7,'Lux4-sept'!$A$227=Display!$B$9,'Lux4-sept'!$A$244=Display!$B$11,'Lux4-sept'!$A$273=Display!$B$13),Display!$D7,)","v":0},{"$f":"IF(AND(AF$8=Display!$T$10,'Lux4-sept'!$A$8=Display!$B$7,'Lux4-sept'!$A$227=Display!$B$9,'Lux4-sept'!$A$244=Display!$B$11,'Lux4-sept'!$A$273=Display!$B$13),Display!$D7,)","v":0},null,null,0]
["Propreté des miroirs, vasques, vitres, portes, brosses, poubelles, douches",{"$f":"IF(AND(B$8=Display!$T$10,'Lux4-sept'!$A$8=Display!$B$7,'Lux4-sept'!$A$227=Display!$B$9,'Lux4-sept'!$A$244=Display!$B$11,'Lux4-sept'!$A$273=Display!$B$13),Display!$D8,)","v":0},{"$f":"IF(AND(C$8=Display!$T$10,'Lux4-sept'!$A$8=Display!$B$7,'Lux4-sept'!$A$227=Display!$B$9,'Lux4-sept'!$A$244=Display!$B$11,'Lux4-sept'!$A$273=Display!$B$13),Display!$D8,)","v":0},{"$f":"IF(AND(D$8=Display!$T$10,'Lux4-sept'!$A$8=Display!$B$7,'Lux4-sept'!$A$227=Display!$B$9,'Lux4-sept'!$A$244=Display!$B$11,'Lux4-sept'!$A$273=Display!$B$13),Display!$D8,)","v":0},{"$f":"IF(AND(E$8=Display!$T$10,'Lux4-sept'!$A$8=Display!$B$7,'Lux4-sept'!$A$227=Display!$B$9,'Lux4-sept'!$A$244=Display!$B$11,'Lux4-sept'!$A$273=Display!$B$13),Display!$D8,)","v":0},{"$f":"IF(AND(F$8=Display!$T$10,'Lux4-sept'!$A$8=Display!$B$7,'Lux4-sept'!$A$227=Display!$B$9,'Lux4-sept'!$A$244=Display!$B$11,'Lux4-sept'!$A$273=Display!$B$13),Display!$D8,)","v":0},{"$f":"IF(AND(G$8=Display!$T$10,'Lux4-sept'!$A$8=Display!$B$7,'Lux4-sept'!$A$227=Display!$B$9,'Lux4-sept'!$A$244=Display!$B$11,'Lux4-sept'!$A$273=Display!$B$13),Display!$D8,)","v":0},{"$f":"IF(AND(H$8=Display!$T$10,'Lux4-sept'!$A$8=Display!$B$7,'Lux4-sept'!$A$227=Display!$B$9,'Lux4-sept'!$A$244=Display!$B$11,'Lux4-sept'!$A$273=Display!$B$13),Display!$D8,)","v":0},{"$f":"IF(AND(I$8=Display!$T$10,'Lux4-sept'!$A$8=Display!$B$7,'Lux4-sept'!$A$227=Display!$B$9,'Lux4-sept'!$A$244=Display!$B$11,'Lux4-sept'!$A$273=Display!$B$13),Display!$D8,)","v":0},{"$f":"IF(AND(J$8=Display!$T$10,'Lux4-sept'!$A$8=Display!$B$7,'Lux4-sept'!$A$227=Display!$B$9,'Lux4-sept'!$A$244=Display!$B$11,'Lux4-sept'!$A$273=Display!$B$13),Display!$D8,)","v":0},{"$f":"IF(AND(K$8=Display!$T$10,'Lux4-sept'!$A$8=Display!$B$7,'Lux4-sept'!$A$227=Display!$B$9,'Lux4-sept'!$A$244=Display!$B$11,'Lux4-sept'!$A$273=Display!$B$13),Display!$D8,)","v":0},{"$f":"IF(AND(L$8=Display!$T$10,'Lux4-sept'!$A$8=Display!$B$7,'Lux4-sept'!$A$227=Display!$B$9,'Lux4-sept'!$A$244=Display!$B$11,'Lux4-sept'!$A$273=Display!$B$13),Display!$D8,)","v":0},{"$f":"IF(AND(M$8=Display!$T$10,'Lux4-sept'!$A$8=Display!$B$7,'Lux4-sept'!$A$227=Display!$B$9,'Lux4-sept'!$A$244=Display!$B$11,'Lux4-sept'!$A$273=Display!$B$13),Display!$D8,)","v":0},{"$f":"IF(AND(N$8=Display!$T$10,'Lux4-sept'!$A$8=Display!$B$7,'Lux4-sept'!$A$227=Display!$B$9,'Lux4-sept'!$A$244=Display!$B$11,'Lux4-sept'!$A$273=Display!$B$13),Display!$D8,)","v":0},{"$f":"IF(AND(O$8=Display!$T$10,'Lux4-sept'!$A$8=Display!$B$7,'Lux4-sept'!$A$227=Display!$B$9,'Lux4-sept'!$A$244=Display!$B$11,'Lux4-sept'!$A$273=Display!$B$13),Display!$D8,)","v":0},{"$f":"IF(AND(P$8=Display!$T$10,'Lux4-sept'!$A$8=Display!$B$7,'Lux4-sept'!$A$227=Display!$B$9,'Lux4-sept'!$A$244=Display!$B$11,'Lux4-sept'!$A$273=Display!$B$13),Display!$D8,)","v":0},{"$f":"IF(AND(Q$8=Display!$T$10,'Lux4-sept'!$A$8=Display!$B$7,'Lux4-sept'!$A$227=Display!$B$9,'Lux4-sept'!$A$244=Display!$B$11,'Lux4-sept'!$A$273=Display!$B$13),Display!$D8,)","v":0},{"$f":"IF(AND(R$8=Display!$T$10,'Lux4-sept'!$A$8=Display!$B$7,'Lux4-sept'!$A$227=Display!$B$9,'Lux4-sept'!$A$244=Display!$B$11,'Lux4-sept'!$A$273=Display!$B$13),Display!$D8,)","v":0},{"$f":"IF(AND(S$8=Display!$T$10,'Lux4-sept'!$A$8=Display!$B$7,'Lux4-sept'!$A$227=Display!$B$9,'Lux4-sept'!$A$244=Display!$B$11,'Lux4-sept'!$A$273=Display!$B$13),Display!$D8,)","v":0},{"$f":"IF(AND(T$8=Display!$T$10,'Lux4-sept'!$A$8=Display!$B$7,'Lux4-sept'!$A$227=Display!$B$9,'Lux4-sept'!$A$244=Display!$B$11,'Lux4-sept'!$A$273=Display!$B$13),Display!$D8,)","v":0},{"$f":"IF(AND(U$8=Display!$T$10,'Lux4-sept'!$A$8=Display!$B$7,'Lux4-sept'!$A$227=Display!$B$9,'Lux4-sept'!$A$244=Display!$B$11,'Lux4-sept'!$A$273=Display!$B$13),Display!$D8,)","v":0},{"$f":"IF(AND(V$8=Display!$T$10,'Lux4-sept'!$A$8=Display!$B$7,'Lux4-sept'!$A$227=Display!$B$9,'Lux4-sept'!$A$244=Display!$B$11,'Lux4-sept'!$A$273=Display!$B$13),Display!$D8,)","v":0},{"$f":"IF(AND(W$8=Display!$T$10,'Lux4-sept'!$A$8=Display!$B$7,'Lux4-sept'!$A$227=Display!$B$9,'Lux4-sept'!$A$244=Display!$B$11,'Lux4-sept'!$A$273=Display!$B$13),Display!$D8,)","v":0},{"$f":"IF(AND(X$8=Display!$T$10,'Lux4-sept'!$A$8=Display!$B$7,'Lux4-sept'!$A$227=Display!$B$9,'Lux4-sept'!$A$244=Display!$B$11,'Lux4-sept'!$A$273=Display!$B$13),Display!$D8,)","v":0},{"$f":"IF(AND(Y$8=Display!$T$10,'Lux4-sept'!$A$8=Display!$B$7,'Lux4-sept'!$A$227=Display!$B$9,'Lux4-sept'!$A$244=Display!$B$11,'Lux4-sept'!$A$273=Display!$B$13),Display!$D8,)","v":0},{"$f":"IF(AND(Z$8=Display!$T$10,'Lux4-sept'!$A$8=Display!$B$7,'Lux4-sept'!$A$227=Display!$B$9,'Lux4-sept'!$A$244=Display!$B$11,'Lux4-sept'!$A$273=Display!$B$13),Display!$D8,)","v":0},{"$f":"IF(AND(AA$8=Display!$T$10,'Lux4-sept'!$A$8=Display!$B$7,'Lux4-sept'!$A$227=Display!$B$9,'Lux4-sept'!$A$244=Display!$B$11,'Lux4-sept'!$A$273=Display!$B$13),Display!$D8,)","v":0},{"$f":"IF(AND(AB$8=Display!$T$10,'Lux4-sept'!$A$8=Display!$B$7,'Lux4-sept'!$A$227=Display!$B$9,'Lux4-sept'!$A$244=Display!$B$11,'Lux4-sept'!$A$273=Display!$B$13),Display!$D8,)","v":0},{"$f":"IF(AND(AC$8=Display!$T$10,'Lux4-sept'!$A$8=Display!$B$7,'Lux4-sept'!$A$227=Display!$B$9,'Lux4-sept'!$A$244=Display!$B$11,'Lux4-sept'!$A$273=Display!$B$13),Display!$D8,)","v":0},{"$f":"IF(AND(AD$8=Display!$T$10,'Lux4-sept'!$A$8=Display!$B$7,'Lux4-sept'!$A$227=Display!$B$9,'Lux4-sept'!$A$244=Display!$B$11,'Lux4-sept'!$A$273=Display!$B$13),Display!$D8,)","v":0},{"$f":"IF(AND(AE$8=Display!$T$10,'Lux4-sept'!$A$8=Display!$B$7,'Lux4-sept'!$A$227=Display!$B$9,'Lux4-sept'!$A$244=Display!$B$11,'Lux4-sept'!$A$273=Display!$B$13),Display!$D8,)","v":0},{"$f":"IF(AND(AF$8=Display!$T$10,'Lux4-sept'!$A$8=Display!$B$7,'Lux4-sept'!$A$227=Display!$B$9,'Lux4-sept'!$A$244=Display!$B$11,'Lux4-sept'!$A$273=Display!$B$13),Display!$D8,)","v":0},null,null,0]
["MOYENNE",{"$f":"((IF((SUM(B274:B278))<>0,(SUM(B274:B278)),0))/(IF((SUM((IF(B274<>0,3,0)),(IF(B275<>0,3,0)),(IF(B276<>0,3,0)),(IF(B277<>0,3,0)),(IF(B278<>0,3,0))))<>0,((SUM((IF(B274<>0,3,0)),(IF(B275<>0,3,0)),(IF(B276<>0,3,0)),(IF(B277<>0,3,0)),(IF(B278<>0,3,0))))),1)))","v":0},{"$f":"((IF((SUM(C274:C278))<>0,(SUM(C274:C278)),0))/(IF((SUM((IF(C274<>0,3,0)),(IF(C275<>0,3,0)),(IF(C276<>0,3,0)),(IF(C277<>0,3,0)),(IF(C278<>0,3,0))))<>0,((SUM((IF(C274<>0,3,0)),(IF(C275<>0,3,0)),(IF(C276<>0,3,0)),(IF(C277<>0,3,0)),(IF(C278<>0,3,0))))),1)))","v":0},0,0,0,0,0,0,0,0,0,0,0,0,0,0,0,0,0,0,0,0,0,0,0,0,0,0,0,0,0,0,0]
["Open Office"]
["Open Space"]
["Building Check"]
["Jardin, meuble exterieur ",{"$f":"IF(AND(B$8=Display!$T$10,'Lux4-sept'!$A$8=Display!$B$7,'Lux4-sept'!$A$282=Display!$B$9),Display!$D4,)","v":0},{"$f":"IF(AND(C$8=Display!$T$10,'Lux4-sept'!$A$8=Display!$B$7,'Lux4-sept'!$A$282=Display!$B$9),Display!$D4,)","v":0},{"$f":"IF(AND(D$8=Display!$T$10,'Lux4-sept'!$A$8=Display!$B$7,'Lux4-sept'!$A$282=Display!$B$9),Display!$D4,)","v":0},{"$f":"IF(AND(E$8=Display!$T$10,'Lux4-sept'!$A$8=Display!$B$7,'Lux4-sept'!$A$282=Display!$B$9),Display!$D4,)","v":0},{"$f":"IF(AND(F$8=Display!$T$10,'Lux4-sept'!$A$8=Display!$B$7,'Lux4-sept'!$A$282=Display!$B$9),Display!$D4,)","v":0},{"$f":"IF(AND(G$8=Display!$T$10,'Lux4-sept'!$A$8=Display!$B$7,'Lux4-sept'!$A$282=Display!$B$9),Display!$D4,)","v":0},{"$f":"IF(AND(H$8=Display!$T$10,'Lux4-sept'!$A$8=Display!$B$7,'Lux4-sept'!$A$282=Display!$B$9),Display!$D4,)","v":0},{"$f":"IF(AND(I$8=Display!$T$10,'Lux4-sept'!$A$8=Display!$B$7,'Lux4-sept'!$A$282=Display!$B$9),Display!$D4,)","v":0},{"$f":"IF(AND(J$8=Display!$T$10,'Lux4-sept'!$A$8=Display!$B$7,'Lux4-sept'!$A$282=Display!$B$9),Display!$D4,)","v":0},{"$f":"IF(AND(K$8=Display!$T$10,'Lux4-sept'!$A$8=Display!$B$7,'Lux4-sept'!$A$282=Display!$B$9),Display!$D4,)","v":0},{"$f":"IF(AND(L$8=Display!$T$10,'Lux4-sept'!$A$8=Display!$B$7,'Lux4-sept'!$A$282=Display!$B$9),Display!$D4,)","v":0},{"$f":"IF(AND(M$8=Display!$T$10,'Lux4-sept'!$A$8=Display!$B$7,'Lux4-sept'!$A$282=Display!$B$9),Display!$D4,)","v":0},{"$f":"IF(AND(N$8=Display!$T$10,'Lux4-sept'!$A$8=Display!$B$7,'Lux4-sept'!$A$282=Display!$B$9),Display!$D4,)","v":0},{"$f":"IF(AND(O$8=Display!$T$10,'Lux4-sept'!$A$8=Display!$B$7,'Lux4-sept'!$A$282=Display!$B$9),Display!$D4,)","v":0},{"$f":"IF(AND(P$8=Display!$T$10,'Lux4-sept'!$A$8=Display!$B$7,'Lux4-sept'!$A$282=Display!$B$9),Display!$D4,)","v":0},{"$f":"IF(AND(Q$8=Display!$T$10,'Lux4-sept'!$A$8=Display!$B$7,'Lux4-sept'!$A$282=Display!$B$9),Display!$D4,)","v":0},{"$f":"IF(AND(R$8=Display!$T$10,'Lux4-sept'!$A$8=Display!$B$7,'Lux4-sept'!$A$282=Display!$B$9),Display!$D4,)","v":0},{"$f":"IF(AND(S$8=Display!$T$10,'Lux4-sept'!$A$8=Display!$B$7,'Lux4-sept'!$A$282=Display!$B$9),Display!$D4,)","v":0},{"$f":"IF(AND(T$8=Display!$T$10,'Lux4-sept'!$A$8=Display!$B$7,'Lux4-sept'!$A$282=Display!$B$9),Display!$D4,)","v":0},{"$f":"IF(AND(U$8=Display!$T$10,'Lux4-sept'!$A$8=Display!$B$7,'Lux4-sept'!$A$282=Display!$B$9),Display!$D4,)","v":0},{"$f":"IF(AND(V$8=Display!$T$10,'Lux4-sept'!$A$8=Display!$B$7,'Lux4-sept'!$A$282=Display!$B$9),Display!$D4,)","v":0},{"$f":"IF(AND(W$8=Display!$T$10,'Lux4-sept'!$A$8=Display!$B$7,'Lux4-sept'!$A$282=Display!$B$9),Display!$D4,)","v":0},{"$f":"IF(AND(X$8=Display!$T$10,'Lux4-sept'!$A$8=Display!$B$7,'Lux4-sept'!$A$282=Display!$B$9),Display!$D4,)","v":0},{"$f":"IF(AND(Y$8=Display!$T$10,'Lux4-sept'!$A$8=Display!$B$7,'Lux4-sept'!$A$282=Display!$B$9),Display!$D4,)","v":0},{"$f":"IF(AND(Z$8=Display!$T$10,'Lux4-sept'!$A$8=Display!$B$7,'Lux4-sept'!$A$282=Display!$B$9),Display!$D4,)","v":0},{"$f":"IF(AND(AA$8=Display!$T$10,'Lux4-sept'!$A$8=Display!$B$7,'Lux4-sept'!$A$282=Display!$B$9),Display!$D4,)","v":0},{"$f":"IF(AND(AB$8=Display!$T$10,'Lux4-sept'!$A$8=Display!$B$7,'Lux4-sept'!$A$282=Display!$B$9),Display!$D4,)","v":0},{"$f":"IF(AND(AC$8=Display!$T$10,'Lux4-sept'!$A$8=Display!$B$7,'Lux4-sept'!$A$282=Display!$B$9),Display!$D4,)","v":0},{"$f":"IF(AND(AD$8=Display!$T$10,'Lux4-sept'!$A$8=Display!$B$7,'Lux4-sept'!$A$282=Display!$B$9),Display!$D4,)","v":0},{"$f":"IF(AND(AE$8=Display!$T$10,'Lux4-sept'!$A$8=Display!$B$7,'Lux4-sept'!$A$282=Display!$B$9),Display!$D4,)","v":0},{"$f":"IF(AND(AF$8=Display!$T$10,'Lux4-sept'!$A$8=Display!$B$7,'Lux4-sept'!$A$282=Display!$B$9),Display!$D4,)","v":0},null,null,{"$f":"((IF((SUM(B283:AF283))<>0,(SUM(B283:AF283)),0))/(IF((SUM((IF(B283<>0,3,0)),(IF(C283<>0,3,0)),(IF(D283<>0,3,0)),(IF(E283<>0,3,0)),(IF(F283<>0,3,0)),(IF(F283<>0,3,0)),(IF(F283<>0,3,0)),(IF(G283<>0,3,0)),(IF(H283<>0,3,0)),(IF(I283<>0,3,0)),(IF(J283<>0,3,0)),(IF(K283<>0,3,0)),(IF(L283<>0,3,0)),(IF(M283<>0,3,0)),(IF(N283<>0,3,0)),(IF(O283<>0,3,0)),(IF(P283<>0,3,0)),(IF(Q283<>0,3,0)),(IF(R283<>0,3,0)),(IF(S283<>0,3,0)),(IF(T283<>0,3,0)),(IF(U283<>0,3,0)),(IF(V283<>0,3,0)),(IF(W283<>0,3,0)),(IF(X283<>0,3,0)),(IF(Y283<>0,3,0)),(IF(Z283<>0,3,0)),(IF(AA283<>0,3,0)),(IF(AB283<>0,3,0)),(IF(AC283<>0,3,0)),(IF(AD283<>0,3,0)),(IF(AE283<>0,3,0)),(IF(AF283<>0,3,0))))<>0,((SUM((IF(B283<>0,3,0)),(IF(C283<>0,3,0)),(IF(D283<>0,3,0)),(IF(E283<>0,3,0)),(IF(F283<>0,3,0)),(IF(F283<>0,3,0)),(IF(F283<>0,3,0)),(IF(G283<>0,3,0)),(IF(H283<>0,3,0)),(IF(I283<>0,3,0)),(IF(J283<>0,3,0)),(IF(K283<>0,3,0)),(IF(L283<>0,3,0)),(IF(M283<>0,3,0)),(IF(N283<>0,3,0)),(IF(O283<>0,3,0)),(IF(P283<>0,3,0)),(IF(Q283<>0,3,0)),(IF(R283<>0,3,0)),(IF(S283<>0,3,0)),(IF(T283<>0,3,0)),(IF(U283<>0,3,0)),(IF(V283<>0,3,0)),(IF(W283<>0,3,0)),(IF(X283<>0,3,0)),(IF(Y283<>0,3,0)),(IF(Z283<>0,3,0)),(IF(AA283<>0,3,0)),(IF(AB283<>0,3,0)),(IF(AC283<>0,3,0)),(IF(AD283<>0,3,0)),(IF(AE283<>0,3,0)),(IF(AF283<>0,3,0))))),1)))","v":0}]
["Cendriers nettoyés",{"$f":"IF(AND(B$8=Display!$T$10,'Lux4-sept'!$A$8=Display!$B$7,'Lux4-sept'!$A$282=Display!$B$9),Display!$D5,)","v":0},{"$f":"IF(AND(C$8=Display!$T$10,'Lux4-sept'!$A$8=Display!$B$7,'Lux4-sept'!$A$282=Display!$B$9),Display!$D5,)","v":0},{"$f":"IF(AND(D$8=Display!$T$10,'Lux4-sept'!$A$8=Display!$B$7,'Lux4-sept'!$A$282=Display!$B$9),Display!$D5,)","v":0},{"$f":"IF(AND(E$8=Display!$T$10,'Lux4-sept'!$A$8=Display!$B$7,'Lux4-sept'!$A$282=Display!$B$9),Display!$D5,)","v":0},{"$f":"IF(AND(F$8=Display!$T$10,'Lux4-sept'!$A$8=Display!$B$7,'Lux4-sept'!$A$282=Display!$B$9),Display!$D5,)","v":0},{"$f":"IF(AND(G$8=Display!$T$10,'Lux4-sept'!$A$8=Display!$B$7,'Lux4-sept'!$A$282=Display!$B$9),Display!$D5,)","v":0},{"$f":"IF(AND(H$8=Display!$T$10,'Lux4-sept'!$A$8=Display!$B$7,'Lux4-sept'!$A$282=Display!$B$9),Display!$D5,)","v":0},{"$f":"IF(AND(I$8=Display!$T$10,'Lux4-sept'!$A$8=Display!$B$7,'Lux4-sept'!$A$282=Display!$B$9),Display!$D5,)","v":0},{"$f":"IF(AND(J$8=Display!$T$10,'Lux4-sept'!$A$8=Display!$B$7,'Lux4-sept'!$A$282=Display!$B$9),Display!$D5,)","v":0},{"$f":"IF(AND(K$8=Display!$T$10,'Lux4-sept'!$A$8=Display!$B$7,'Lux4-sept'!$A$282=Display!$B$9),Display!$D5,)","v":0},{"$f":"IF(AND(L$8=Display!$T$10,'Lux4-sept'!$A$8=Display!$B$7,'Lux4-sept'!$A$282=Display!$B$9),Display!$D5,)","v":0},{"$f":"IF(AND(M$8=Display!$T$10,'Lux4-sept'!$A$8=Display!$B$7,'Lux4-sept'!$A$282=Display!$B$9),Display!$D5,)","v":0},{"$f":"IF(AND(N$8=Display!$T$10,'Lux4-sept'!$A$8=Display!$B$7,'Lux4-sept'!$A$282=Display!$B$9),Display!$D5,)","v":0},{"$f":"IF(AND(O$8=Display!$T$10,'Lux4-sept'!$A$8=Display!$B$7,'Lux4-sept'!$A$282=Display!$B$9),Display!$D5,)","v":0},{"$f":"IF(AND(P$8=Display!$T$10,'Lux4-sept'!$A$8=Display!$B$7,'Lux4-sept'!$A$282=Display!$B$9),Display!$D5,)","v":0},{"$f":"IF(AND(Q$8=Display!$T$10,'Lux4-sept'!$A$8=Display!$B$7,'Lux4-sept'!$A$282=Display!$B$9),Display!$D5,)","v":0},{"$f":"IF(AND(R$8=Display!$T$10,'Lux4-sept'!$A$8=Display!$B$7,'Lux4-sept'!$A$282=Display!$B$9),Display!$D5,)","v":0},{"$f":"IF(AND(S$8=Display!$T$10,'Lux4-sept'!$A$8=Display!$B$7,'Lux4-sept'!$A$282=Display!$B$9),Display!$D5,)","v":0},{"$f":"IF(AND(T$8=Display!$T$10,'Lux4-sept'!$A$8=Display!$B$7,'Lux4-sept'!$A$282=Display!$B$9),Display!$D5,)","v":0},{"$f":"IF(AND(U$8=Display!$T$10,'Lux4-sept'!$A$8=Display!$B$7,'Lux4-sept'!$A$282=Display!$B$9),Display!$D5,)","v":0},{"$f":"IF(AND(V$8=Display!$T$10,'Lux4-sept'!$A$8=Display!$B$7,'Lux4-sept'!$A$282=Display!$B$9),Display!$D5,)","v":0},{"$f":"IF(AND(W$8=Display!$T$10,'Lux4-sept'!$A$8=Display!$B$7,'Lux4-sept'!$A$282=Display!$B$9),Display!$D5,)","v":0},{"$f":"IF(AND(X$8=Display!$T$10,'Lux4-sept'!$A$8=Display!$B$7,'Lux4-sept'!$A$282=Display!$B$9),Display!$D5,)","v":0},{"$f":"IF(AND(Y$8=Display!$T$10,'Lux4-sept'!$A$8=Display!$B$7,'Lux4-sept'!$A$282=Display!$B$9),Display!$D5,)","v":0},{"$f":"IF(AND(Z$8=Display!$T$10,'Lux4-sept'!$A$8=Display!$B$7,'Lux4-sept'!$A$282=Display!$B$9),Display!$D5,)","v":0},{"$f":"IF(AND(AA$8=Display!$T$10,'Lux4-sept'!$A$8=Display!$B$7,'Lux4-sept'!$A$282=Display!$B$9),Display!$D5,)","v":0},{"$f":"IF(AND(AB$8=Display!$T$10,'Lux4-sept'!$A$8=Display!$B$7,'Lux4-sept'!$A$282=Display!$B$9),Display!$D5,)","v":0},{"$f":"IF(AND(AC$8=Display!$T$10,'Lux4-sept'!$A$8=Display!$B$7,'Lux4-sept'!$A$282=Display!$B$9),Display!$D5,)","v":0},{"$f":"IF(AND(AD$8=Display!$T$10,'Lux4-sept'!$A$8=Display!$B$7,'Lux4-sept'!$A$282=Display!$B$9),Display!$D5,)","v":0},{"$f":"IF(AND(AE$8=Display!$T$10,'Lux4-sept'!$A$8=Display!$B$7,'Lux4-sept'!$A$282=Display!$B$9),Display!$D5,)","v":0},{"$f":"IF(AND(AF$8=Display!$T$10,'Lux4-sept'!$A$8=Display!$B$7,'Lux4-sept'!$A$282=Display!$B$9),Display!$D5,)","v":0},null,null,{"$f":"((IF((SUM(B284:AF284))<>0,(SUM(B284:AF284)),0))/(IF((SUM((IF(B284<>0,3,0)),(IF(C284<>0,3,0)),(IF(D284<>0,3,0)),(IF(E284<>0,3,0)),(IF(F284<>0,3,0)),(IF(F284<>0,3,0)),(IF(F284<>0,3,0)),(IF(G284<>0,3,0)),(IF(H284<>0,3,0)),(IF(I284<>0,3,0)),(IF(J284<>0,3,0)),(IF(K284<>0,3,0)),(IF(L284<>0,3,0)),(IF(M284<>0,3,0)),(IF(N284<>0,3,0)),(IF(O284<>0,3,0)),(IF(P284<>0,3,0)),(IF(Q284<>0,3,0)),(IF(R284<>0,3,0)),(IF(S284<>0,3,0)),(IF(T284<>0,3,0)),(IF(U284<>0,3,0)),(IF(V284<>0,3,0)),(IF(W284<>0,3,0)),(IF(X284<>0,3,0)),(IF(Y284<>0,3,0)),(IF(Z284<>0,3,0)),(IF(AA284<>0,3,0)),(IF(AB284<>0,3,0)),(IF(AC284<>0,3,0)),(IF(AD284<>0,3,0)),(IF(AE284<>0,3,0)),(IF(AF284<>0,3,0))))<>0,((SUM((IF(B284<>0,3,0)),(IF(C284<>0,3,0)),(IF(D284<>0,3,0)),(IF(E284<>0,3,0)),(IF(F284<>0,3,0)),(IF(F284<>0,3,0)),(IF(F284<>0,3,0)),(IF(G284<>0,3,0)),(IF(H284<>0,3,0)),(IF(I284<>0,3,0)),(IF(J284<>0,3,0)),(IF(K284<>0,3,0)),(IF(L284<>0,3,0)),(IF(M284<>0,3,0)),(IF(N284<>0,3,0)),(IF(O284<>0,3,0)),(IF(P284<>0,3,0)),(IF(Q284<>0,3,0)),(IF(R284<>0,3,0)),(IF(S284<>0,3,0)),(IF(T284<>0,3,0)),(IF(U284<>0,3,0)),(IF(V284<>0,3,0)),(IF(W284<>0,3,0)),(IF(X284<>0,3,0)),(IF(Y284<>0,3,0)),(IF(Z284<>0,3,0)),(IF(AA284<>0,3,0)),(IF(AB284<>0,3,0)),(IF(AC284<>0,3,0)),(IF(AD284<>0,3,0)),(IF(AE284<>0,3,0)),(IF(AF284<>0,3,0))))),1)))","v":0}]
["Aspect général de la vitrerie intérieure extérieure",{"$f":"IF(AND(B$8=Display!$T$10,'Lux4-sept'!$A$8=Display!$B$7,'Lux4-sept'!$A$282=Display!$B$9),Display!$D6,)","v":0},{"$f":"IF(AND(C$8=Display!$T$10,'Lux4-sept'!$A$8=Display!$B$7,'Lux4-sept'!$A$282=Display!$B$9),Display!$D6,)","v":0},{"$f":"IF(AND(D$8=Display!$T$10,'Lux4-sept'!$A$8=Display!$B$7,'Lux4-sept'!$A$282=Display!$B$9),Display!$D6,)","v":0},{"$f":"IF(AND(E$8=Display!$T$10,'Lux4-sept'!$A$8=Display!$B$7,'Lux4-sept'!$A$282=Display!$B$9),Display!$D6,)","v":0},{"$f":"IF(AND(F$8=Display!$T$10,'Lux4-sept'!$A$8=Display!$B$7,'Lux4-sept'!$A$282=Display!$B$9),Display!$D6,)","v":0},{"$f":"IF(AND(G$8=Display!$T$10,'Lux4-sept'!$A$8=Display!$B$7,'Lux4-sept'!$A$282=Display!$B$9),Display!$D6,)","v":0},{"$f":"IF(AND(H$8=Display!$T$10,'Lux4-sept'!$A$8=Display!$B$7,'Lux4-sept'!$A$282=Display!$B$9),Display!$D6,)","v":0},{"$f":"IF(AND(I$8=Display!$T$10,'Lux4-sept'!$A$8=Display!$B$7,'Lux4-sept'!$A$282=Display!$B$9),Display!$D6,)","v":0},{"$f":"IF(AND(J$8=Display!$T$10,'Lux4-sept'!$A$8=Display!$B$7,'Lux4-sept'!$A$282=Display!$B$9),Display!$D6,)","v":0},{"$f":"IF(AND(K$8=Display!$T$10,'Lux4-sept'!$A$8=Display!$B$7,'Lux4-sept'!$A$282=Display!$B$9),Display!$D6,)","v":0},{"$f":"IF(AND(L$8=Display!$T$10,'Lux4-sept'!$A$8=Display!$B$7,'Lux4-sept'!$A$282=Display!$B$9),Display!$D6,)","v":0},{"$f":"IF(AND(M$8=Display!$T$10,'Lux4-sept'!$A$8=Display!$B$7,'Lux4-sept'!$A$282=Display!$B$9),Display!$D6,)","v":0},{"$f":"IF(AND(N$8=Display!$T$10,'Lux4-sept'!$A$8=Display!$B$7,'Lux4-sept'!$A$282=Display!$B$9),Display!$D6,)","v":0},{"$f":"IF(AND(O$8=Display!$T$10,'Lux4-sept'!$A$8=Display!$B$7,'Lux4-sept'!$A$282=Display!$B$9),Display!$D6,)","v":0},{"$f":"IF(AND(P$8=Display!$T$10,'Lux4-sept'!$A$8=Display!$B$7,'Lux4-sept'!$A$282=Display!$B$9),Display!$D6,)","v":0},{"$f":"IF(AND(Q$8=Display!$T$10,'Lux4-sept'!$A$8=Display!$B$7,'Lux4-sept'!$A$282=Display!$B$9),Display!$D6,)","v":0},{"$f":"IF(AND(R$8=Display!$T$10,'Lux4-sept'!$A$8=Display!$B$7,'Lux4-sept'!$A$282=Display!$B$9),Display!$D6,)","v":0},{"$f":"IF(AND(S$8=Display!$T$10,'Lux4-sept'!$A$8=Display!$B$7,'Lux4-sept'!$A$282=Display!$B$9),Display!$D6,)","v":0},{"$f":"IF(AND(T$8=Display!$T$10,'Lux4-sept'!$A$8=Display!$B$7,'Lux4-sept'!$A$282=Display!$B$9),Display!$D6,)","v":0},{"$f":"IF(AND(U$8=Display!$T$10,'Lux4-sept'!$A$8=Display!$B$7,'Lux4-sept'!$A$282=Display!$B$9),Display!$D6,)","v":0},{"$f":"IF(AND(V$8=Display!$T$10,'Lux4-sept'!$A$8=Display!$B$7,'Lux4-sept'!$A$282=Display!$B$9),Display!$D6,)","v":0},{"$f":"IF(AND(W$8=Display!$T$10,'Lux4-sept'!$A$8=Display!$B$7,'Lux4-sept'!$A$282=Display!$B$9),Display!$D6,)","v":0},{"$f":"IF(AND(X$8=Display!$T$10,'Lux4-sept'!$A$8=Display!$B$7,'Lux4-sept'!$A$282=Display!$B$9),Display!$D6,)","v":0},{"$f":"IF(AND(Y$8=Display!$T$10,'Lux4-sept'!$A$8=Display!$B$7,'Lux4-sept'!$A$282=Display!$B$9),Display!$D6,)","v":0},{"$f":"IF(AND(Z$8=Display!$T$10,'Lux4-sept'!$A$8=Display!$B$7,'Lux4-sept'!$A$282=Display!$B$9),Display!$D6,)","v":0},{"$f":"IF(AND(AA$8=Display!$T$10,'Lux4-sept'!$A$8=Display!$B$7,'Lux4-sept'!$A$282=Display!$B$9),Display!$D6,)","v":0},{"$f":"IF(AND(AB$8=Display!$T$10,'Lux4-sept'!$A$8=Display!$B$7,'Lux4-sept'!$A$282=Display!$B$9),Display!$D6,)","v":0},{"$f":"IF(AND(AC$8=Display!$T$10,'Lux4-sept'!$A$8=Display!$B$7,'Lux4-sept'!$A$282=Display!$B$9),Display!$D6,)","v":0},{"$f":"IF(AND(AD$8=Display!$T$10,'Lux4-sept'!$A$8=Display!$B$7,'Lux4-sept'!$A$282=Display!$B$9),Display!$D6,)","v":0},{"$f":"IF(AND(AE$8=Display!$T$10,'Lux4-sept'!$A$8=Display!$B$7,'Lux4-sept'!$A$282=Display!$B$9),Display!$D6,)","v":0},{"$f":"IF(AND(AF$8=Display!$T$10,'Lux4-sept'!$A$8=Display!$B$7,'Lux4-sept'!$A$282=Display!$B$9),Display!$D6,)","v":0},null,null,0]
["Propreté des moquette",{"$f":"IF(AND(B$8=Display!$T$10,'Lux4-sept'!$A$8=Display!$B$7,'Lux4-sept'!$A$282=Display!$B$9),Display!$D7,)","v":0},{"$f":"IF(AND(C$8=Display!$T$10,'Lux4-sept'!$A$8=Display!$B$7,'Lux4-sept'!$A$282=Display!$B$9),Display!$D7,)","v":0},{"$f":"IF(AND(D$8=Display!$T$10,'Lux4-sept'!$A$8=Display!$B$7,'Lux4-sept'!$A$282=Display!$B$9),Display!$D7,)","v":0},{"$f":"IF(AND(E$8=Display!$T$10,'Lux4-sept'!$A$8=Display!$B$7,'Lux4-sept'!$A$282=Display!$B$9),Display!$D7,)","v":0},{"$f":"IF(AND(F$8=Display!$T$10,'Lux4-sept'!$A$8=Display!$B$7,'Lux4-sept'!$A$282=Display!$B$9),Display!$D7,)","v":0},{"$f":"IF(AND(G$8=Display!$T$10,'Lux4-sept'!$A$8=Display!$B$7,'Lux4-sept'!$A$282=Display!$B$9),Display!$D7,)","v":0},{"$f":"IF(AND(H$8=Display!$T$10,'Lux4-sept'!$A$8=Display!$B$7,'Lux4-sept'!$A$282=Display!$B$9),Display!$D7,)","v":0},{"$f":"IF(AND(I$8=Display!$T$10,'Lux4-sept'!$A$8=Display!$B$7,'Lux4-sept'!$A$282=Display!$B$9),Display!$D7,)","v":0},{"$f":"IF(AND(J$8=Display!$T$10,'Lux4-sept'!$A$8=Display!$B$7,'Lux4-sept'!$A$282=Display!$B$9),Display!$D7,)","v":0},{"$f":"IF(AND(K$8=Display!$T$10,'Lux4-sept'!$A$8=Display!$B$7,'Lux4-sept'!$A$282=Display!$B$9),Display!$D7,)","v":0},{"$f":"IF(AND(L$8=Display!$T$10,'Lux4-sept'!$A$8=Display!$B$7,'Lux4-sept'!$A$282=Display!$B$9),Display!$D7,)","v":0},{"$f":"IF(AND(M$8=Display!$T$10,'Lux4-sept'!$A$8=Display!$B$7,'Lux4-sept'!$A$282=Display!$B$9),Display!$D7,)","v":0},{"$f":"IF(AND(N$8=Display!$T$10,'Lux4-sept'!$A$8=Display!$B$7,'Lux4-sept'!$A$282=Display!$B$9),Display!$D7,)","v":0},{"$f":"IF(AND(O$8=Display!$T$10,'Lux4-sept'!$A$8=Display!$B$7,'Lux4-sept'!$A$282=Display!$B$9),Display!$D7,)","v":0},{"$f":"IF(AND(P$8=Display!$T$10,'Lux4-sept'!$A$8=Display!$B$7,'Lux4-sept'!$A$282=Display!$B$9),Display!$D7,)","v":0},{"$f":"IF(AND(Q$8=Display!$T$10,'Lux4-sept'!$A$8=Display!$B$7,'Lux4-sept'!$A$282=Display!$B$9),Display!$D7,)","v":0},{"$f":"IF(AND(R$8=Display!$T$10,'Lux4-sept'!$A$8=Display!$B$7,'Lux4-sept'!$A$282=Display!$B$9),Display!$D7,)","v":0},{"$f":"IF(AND(S$8=Display!$T$10,'Lux4-sept'!$A$8=Display!$B$7,'Lux4-sept'!$A$282=Display!$B$9),Display!$D7,)","v":0},{"$f":"IF(AND(T$8=Display!$T$10,'Lux4-sept'!$A$8=Display!$B$7,'Lux4-sept'!$A$282=Display!$B$9),Display!$D7,)","v":0},{"$f":"IF(AND(U$8=Display!$T$10,'Lux4-sept'!$A$8=Display!$B$7,'Lux4-sept'!$A$282=Display!$B$9),Display!$D7,)","v":0},{"$f":"IF(AND(V$8=Display!$T$10,'Lux4-sept'!$A$8=Display!$B$7,'Lux4-sept'!$A$282=Display!$B$9),Display!$D7,)","v":0},{"$f":"IF(AND(W$8=Display!$T$10,'Lux4-sept'!$A$8=Display!$B$7,'Lux4-sept'!$A$282=Display!$B$9),Display!$D7,)","v":0},{"$f":"IF(AND(X$8=Display!$T$10,'Lux4-sept'!$A$8=Display!$B$7,'Lux4-sept'!$A$282=Display!$B$9),Display!$D7,)","v":0},{"$f":"IF(AND(Y$8=Display!$T$10,'Lux4-sept'!$A$8=Display!$B$7,'Lux4-sept'!$A$282=Display!$B$9),Display!$D7,)","v":0},{"$f":"IF(AND(Z$8=Display!$T$10,'Lux4-sept'!$A$8=Display!$B$7,'Lux4-sept'!$A$282=Display!$B$9),Display!$D7,)","v":0},{"$f":"IF(AND(AA$8=Display!$T$10,'Lux4-sept'!$A$8=Display!$B$7,'Lux4-sept'!$A$282=Display!$B$9),Display!$D7,)","v":0},{"$f":"IF(AND(AB$8=Display!$T$10,'Lux4-sept'!$A$8=Display!$B$7,'Lux4-sept'!$A$282=Display!$B$9),Display!$D7,)","v":0},{"$f":"IF(AND(AC$8=Display!$T$10,'Lux4-sept'!$A$8=Display!$B$7,'Lux4-sept'!$A$282=Display!$B$9),Display!$D7,)","v":0},{"$f":"IF(AND(AD$8=Display!$T$10,'Lux4-sept'!$A$8=Display!$B$7,'Lux4-sept'!$A$282=Display!$B$9),Display!$D7,)","v":0},{"$f":"IF(AND(AE$8=Display!$T$10,'Lux4-sept'!$A$8=Display!$B$7,'Lux4-sept'!$A$282=Display!$B$9),Display!$D7,)","v":0},{"$f":"IF(AND(AF$8=Display!$T$10,'Lux4-sept'!$A$8=Display!$B$7,'Lux4-sept'!$A$282=Display!$B$9),Display!$D7,)","v":0},null,null,0]
["Traces au mur",{"$f":"IF(AND(B$8=Display!$T$10,'Lux4-sept'!$A$8=Display!$B$7,'Lux4-sept'!$A$282=Display!$B$9),Display!$D8,)","v":0},{"$f":"IF(AND(C$8=Display!$T$10,'Lux4-sept'!$A$8=Display!$B$7,'Lux4-sept'!$A$282=Display!$B$9),Display!$D8,)","v":0},{"$f":"IF(AND(D$8=Display!$T$10,'Lux4-sept'!$A$8=Display!$B$7,'Lux4-sept'!$A$282=Display!$B$9),Display!$D8,)","v":0},{"$f":"IF(AND(E$8=Display!$T$10,'Lux4-sept'!$A$8=Display!$B$7,'Lux4-sept'!$A$282=Display!$B$9),Display!$D8,)","v":0},{"$f":"IF(AND(F$8=Display!$T$10,'Lux4-sept'!$A$8=Display!$B$7,'Lux4-sept'!$A$282=Display!$B$9),Display!$D8,)","v":0},{"$f":"IF(AND(G$8=Display!$T$10,'Lux4-sept'!$A$8=Display!$B$7,'Lux4-sept'!$A$282=Display!$B$9),Display!$D8,)","v":0},{"$f":"IF(AND(H$8=Display!$T$10,'Lux4-sept'!$A$8=Display!$B$7,'Lux4-sept'!$A$282=Display!$B$9),Display!$D8,)","v":0},{"$f":"IF(AND(I$8=Display!$T$10,'Lux4-sept'!$A$8=Display!$B$7,'Lux4-sept'!$A$282=Display!$B$9),Display!$D8,)","v":0},{"$f":"IF(AND(J$8=Display!$T$10,'Lux4-sept'!$A$8=Display!$B$7,'Lux4-sept'!$A$282=Display!$B$9),Display!$D8,)","v":0},{"$f":"IF(AND(K$8=Display!$T$10,'Lux4-sept'!$A$8=Display!$B$7,'Lux4-sept'!$A$282=Display!$B$9),Display!$D8,)","v":0},{"$f":"IF(AND(L$8=Display!$T$10,'Lux4-sept'!$A$8=Display!$B$7,'Lux4-sept'!$A$282=Display!$B$9),Display!$D8,)","v":0},{"$f":"IF(AND(M$8=Display!$T$10,'Lux4-sept'!$A$8=Display!$B$7,'Lux4-sept'!$A$282=Display!$B$9),Display!$D8,)","v":0},{"$f":"IF(AND(N$8=Display!$T$10,'Lux4-sept'!$A$8=Display!$B$7,'Lux4-sept'!$A$282=Display!$B$9),Display!$D8,)","v":0},{"$f":"IF(AND(O$8=Display!$T$10,'Lux4-sept'!$A$8=Display!$B$7,'Lux4-sept'!$A$282=Display!$B$9),Display!$D8,)","v":0},{"$f":"IF(AND(P$8=Display!$T$10,'Lux4-sept'!$A$8=Display!$B$7,'Lux4-sept'!$A$282=Display!$B$9),Display!$D8,)","v":0},{"$f":"IF(AND(Q$8=Display!$T$10,'Lux4-sept'!$A$8=Display!$B$7,'Lux4-sept'!$A$282=Display!$B$9),Display!$D8,)","v":0},{"$f":"IF(AND(R$8=Display!$T$10,'Lux4-sept'!$A$8=Display!$B$7,'Lux4-sept'!$A$282=Display!$B$9),Display!$D8,)","v":0},{"$f":"IF(AND(S$8=Display!$T$10,'Lux4-sept'!$A$8=Display!$B$7,'Lux4-sept'!$A$282=Display!$B$9),Display!$D8,)","v":0},{"$f":"IF(AND(T$8=Display!$T$10,'Lux4-sept'!$A$8=Display!$B$7,'Lux4-sept'!$A$282=Display!$B$9),Display!$D8,)","v":0},{"$f":"IF(AND(U$8=Display!$T$10,'Lux4-sept'!$A$8=Display!$B$7,'Lux4-sept'!$A$282=Display!$B$9),Display!$D8,)","v":0},{"$f":"IF(AND(V$8=Display!$T$10,'Lux4-sept'!$A$8=Display!$B$7,'Lux4-sept'!$A$282=Display!$B$9),Display!$D8,)","v":0},{"$f":"IF(AND(W$8=Display!$T$10,'Lux4-sept'!$A$8=Display!$B$7,'Lux4-sept'!$A$282=Display!$B$9),Display!$D8,)","v":0},{"$f":"IF(AND(X$8=Display!$T$10,'Lux4-sept'!$A$8=Display!$B$7,'Lux4-sept'!$A$282=Display!$B$9),Display!$D8,)","v":0},{"$f":"IF(AND(Y$8=Display!$T$10,'Lux4-sept'!$A$8=Display!$B$7,'Lux4-sept'!$A$282=Display!$B$9),Display!$D8,)","v":0},{"$f":"IF(AND(Z$8=Display!$T$10,'Lux4-sept'!$A$8=Display!$B$7,'Lux4-sept'!$A$282=Display!$B$9),Display!$D8,)","v":0},{"$f":"IF(AND(AA$8=Display!$T$10,'Lux4-sept'!$A$8=Display!$B$7,'Lux4-sept'!$A$282=Display!$B$9),Display!$D8,)","v":0},{"$f":"IF(AND(AB$8=Display!$T$10,'Lux4-sept'!$A$8=Display!$B$7,'Lux4-sept'!$A$282=Display!$B$9),Display!$D8,)","v":0},{"$f":"IF(AND(AC$8=Display!$T$10,'Lux4-sept'!$A$8=Display!$B$7,'Lux4-sept'!$A$282=Display!$B$9),Display!$D8,)","v":0},{"$f":"IF(AND(AD$8=Display!$T$10,'Lux4-sept'!$A$8=Display!$B$7,'Lux4-sept'!$A$282=Display!$B$9),Display!$D8,)","v":0},{"$f":"IF(AND(AE$8=Display!$T$10,'Lux4-sept'!$A$8=Display!$B$7,'Lux4-sept'!$A$282=Display!$B$9),Display!$D8,)","v":0},{"$f":"IF(AND(AF$8=Display!$T$10,'Lux4-sept'!$A$8=Display!$B$7,'Lux4-sept'!$A$282=Display!$B$9),Display!$D8,)","v":0},null,null,0]
["Propreté des portes",{"$f":"IF(AND(B$8=Display!$T$10,'Lux4-sept'!$A$8=Display!$B$7,'Lux4-sept'!$A$282=Display!$B$9),Display!$D9,)","v":0},{"$f":"IF(AND(C$8=Display!$T$10,'Lux4-sept'!$A$8=Display!$B$7,'Lux4-sept'!$A$282=Display!$B$9),Display!$D9,)","v":0},{"$f":"IF(AND(D$8=Display!$T$10,'Lux4-sept'!$A$8=Display!$B$7,'Lux4-sept'!$A$282=Display!$B$9),Display!$D9,)","v":0},{"$f":"IF(AND(E$8=Display!$T$10,'Lux4-sept'!$A$8=Display!$B$7,'Lux4-sept'!$A$282=Display!$B$9),Display!$D9,)","v":0},{"$f":"IF(AND(F$8=Display!$T$10,'Lux4-sept'!$A$8=Display!$B$7,'Lux4-sept'!$A$282=Display!$B$9),Display!$D9,)","v":0},{"$f":"IF(AND(G$8=Display!$T$10,'Lux4-sept'!$A$8=Display!$B$7,'Lux4-sept'!$A$282=Display!$B$9),Display!$D9,)","v":0},{"$f":"IF(AND(H$8=Display!$T$10,'Lux4-sept'!$A$8=Display!$B$7,'Lux4-sept'!$A$282=Display!$B$9),Display!$D9,)","v":0},{"$f":"IF(AND(I$8=Display!$T$10,'Lux4-sept'!$A$8=Display!$B$7,'Lux4-sept'!$A$282=Display!$B$9),Display!$D9,)","v":0},{"$f":"IF(AND(J$8=Display!$T$10,'Lux4-sept'!$A$8=Display!$B$7,'Lux4-sept'!$A$282=Display!$B$9),Display!$D9,)","v":0},{"$f":"IF(AND(K$8=Display!$T$10,'Lux4-sept'!$A$8=Display!$B$7,'Lux4-sept'!$A$282=Display!$B$9),Display!$D9,)","v":0},{"$f":"IF(AND(L$8=Display!$T$10,'Lux4-sept'!$A$8=Display!$B$7,'Lux4-sept'!$A$282=Display!$B$9),Display!$D9,)","v":0},{"$f":"IF(AND(M$8=Display!$T$10,'Lux4-sept'!$A$8=Display!$B$7,'Lux4-sept'!$A$282=Display!$B$9),Display!$D9,)","v":0},{"$f":"IF(AND(N$8=Display!$T$10,'Lux4-sept'!$A$8=Display!$B$7,'Lux4-sept'!$A$282=Display!$B$9),Display!$D9,)","v":0},{"$f":"IF(AND(O$8=Display!$T$10,'Lux4-sept'!$A$8=Display!$B$7,'Lux4-sept'!$A$282=Display!$B$9),Display!$D9,)","v":0},{"$f":"IF(AND(P$8=Display!$T$10,'Lux4-sept'!$A$8=Display!$B$7,'Lux4-sept'!$A$282=Display!$B$9),Display!$D9,)","v":0},{"$f":"IF(AND(Q$8=Display!$T$10,'Lux4-sept'!$A$8=Display!$B$7,'Lux4-sept'!$A$282=Display!$B$9),Display!$D9,)","v":0},{"$f":"IF(AND(R$8=Display!$T$10,'Lux4-sept'!$A$8=Display!$B$7,'Lux4-sept'!$A$282=Display!$B$9),Display!$D9,)","v":0},{"$f":"IF(AND(S$8=Display!$T$10,'Lux4-sept'!$A$8=Display!$B$7,'Lux4-sept'!$A$282=Display!$B$9),Display!$D9,)","v":0},{"$f":"IF(AND(T$8=Display!$T$10,'Lux4-sept'!$A$8=Display!$B$7,'Lux4-sept'!$A$282=Display!$B$9),Display!$D9,)","v":0},{"$f":"IF(AND(U$8=Display!$T$10,'Lux4-sept'!$A$8=Display!$B$7,'Lux4-sept'!$A$282=Display!$B$9),Display!$D9,)","v":0},{"$f":"IF(AND(V$8=Display!$T$10,'Lux4-sept'!$A$8=Display!$B$7,'Lux4-sept'!$A$282=Display!$B$9),Display!$D9,)","v":0},{"$f":"IF(AND(W$8=Display!$T$10,'Lux4-sept'!$A$8=Display!$B$7,'Lux4-sept'!$A$282=Display!$B$9),Display!$D9,)","v":0},{"$f":"IF(AND(X$8=Display!$T$10,'Lux4-sept'!$A$8=Display!$B$7,'Lux4-sept'!$A$282=Display!$B$9),Display!$D9,)","v":0},{"$f":"IF(AND(Y$8=Display!$T$10,'Lux4-sept'!$A$8=Display!$B$7,'Lux4-sept'!$A$282=Display!$B$9),Display!$D9,)","v":0},{"$f":"IF(AND(Z$8=Display!$T$10,'Lux4-sept'!$A$8=Display!$B$7,'Lux4-sept'!$A$282=Display!$B$9),Display!$D9,)","v":0},{"$f":"IF(AND(AA$8=Display!$T$10,'Lux4-sept'!$A$8=Display!$B$7,'Lux4-sept'!$A$282=Display!$B$9),Display!$D9,)","v":0},{"$f":"IF(AND(AB$8=Display!$T$10,'Lux4-sept'!$A$8=Display!$B$7,'Lux4-sept'!$A$282=Display!$B$9),Display!$D9,)","v":0},{"$f":"IF(AND(AC$8=Display!$T$10,'Lux4-sept'!$A$8=Display!$B$7,'Lux4-sept'!$A$282=Display!$B$9),Display!$D9,)","v":0},{"$f":"IF(AND(AD$8=Display!$T$10,'Lux4-sept'!$A$8=Display!$B$7,'Lux4-sept'!$A$282=Display!$B$9),Display!$D9,)","v":0},{"$f":"IF(AND(AE$8=Display!$T$10,'Lux4-sept'!$A$8=Display!$B$7,'Lux4-sept'!$A$282=Display!$B$9),Display!$D9,)","v":0},{"$f":"IF(AND(AF$8=Display!$T$10,'Lux4-sept'!$A$8=Display!$B$7,'Lux4-sept'!$A$282=Display!$B$9),Display!$D9,)","v":0},null,null,0]
["Ascenseur: nettoyage decapage ",{"$f":"IF(AND(B$8=Display!$T$10,'Lux4-sept'!$A$8=Display!$B$7,'Lux4-sept'!$A$282=Display!$B$9),Display!$D10,)","v":0},{"$f":"IF(AND(C$8=Display!$T$10,'Lux4-sept'!$A$8=Display!$B$7,'Lux4-sept'!$A$282=Display!$B$9),Display!$D10,)","v":0},{"$f":"IF(AND(D$8=Display!$T$10,'Lux4-sept'!$A$8=Display!$B$7,'Lux4-sept'!$A$282=Display!$B$9),Display!$D10,)","v":0},{"$f":"IF(AND(E$8=Display!$T$10,'Lux4-sept'!$A$8=Display!$B$7,'Lux4-sept'!$A$282=Display!$B$9),Display!$D10,)","v":0},{"$f":"IF(AND(F$8=Display!$T$10,'Lux4-sept'!$A$8=Display!$B$7,'Lux4-sept'!$A$282=Display!$B$9),Display!$D10,)","v":0},{"$f":"IF(AND(G$8=Display!$T$10,'Lux4-sept'!$A$8=Display!$B$7,'Lux4-sept'!$A$282=Display!$B$9),Display!$D10,)","v":0},{"$f":"IF(AND(H$8=Display!$T$10,'Lux4-sept'!$A$8=Display!$B$7,'Lux4-sept'!$A$282=Display!$B$9),Display!$D10,)","v":0},{"$f":"IF(AND(I$8=Display!$T$10,'Lux4-sept'!$A$8=Display!$B$7,'Lux4-sept'!$A$282=Display!$B$9),Display!$D10,)","v":0},{"$f":"IF(AND(J$8=Display!$T$10,'Lux4-sept'!$A$8=Display!$B$7,'Lux4-sept'!$A$282=Display!$B$9),Display!$D10,)","v":0},{"$f":"IF(AND(K$8=Display!$T$10,'Lux4-sept'!$A$8=Display!$B$7,'Lux4-sept'!$A$282=Display!$B$9),Display!$D10,)","v":0},{"$f":"IF(AND(L$8=Display!$T$10,'Lux4-sept'!$A$8=Display!$B$7,'Lux4-sept'!$A$282=Display!$B$9),Display!$D10,)","v":0},{"$f":"IF(AND(M$8=Display!$T$10,'Lux4-sept'!$A$8=Display!$B$7,'Lux4-sept'!$A$282=Display!$B$9),Display!$D10,)","v":0},{"$f":"IF(AND(N$8=Display!$T$10,'Lux4-sept'!$A$8=Display!$B$7,'Lux4-sept'!$A$282=Display!$B$9),Display!$D10,)","v":0},{"$f":"IF(AND(O$8=Display!$T$10,'Lux4-sept'!$A$8=Display!$B$7,'Lux4-sept'!$A$282=Display!$B$9),Display!$D10,)","v":0},{"$f":"IF(AND(P$8=Display!$T$10,'Lux4-sept'!$A$8=Display!$B$7,'Lux4-sept'!$A$282=Display!$B$9),Display!$D10,)","v":0},{"$f":"IF(AND(Q$8=Display!$T$10,'Lux4-sept'!$A$8=Display!$B$7,'Lux4-sept'!$A$282=Display!$B$9),Display!$D10,)","v":0},{"$f":"IF(AND(R$8=Display!$T$10,'Lux4-sept'!$A$8=Display!$B$7,'Lux4-sept'!$A$282=Display!$B$9),Display!$D10,)","v":0},{"$f":"IF(AND(S$8=Display!$T$10,'Lux4-sept'!$A$8=Display!$B$7,'Lux4-sept'!$A$282=Display!$B$9),Display!$D10,)","v":0},{"$f":"IF(AND(T$8=Display!$T$10,'Lux4-sept'!$A$8=Display!$B$7,'Lux4-sept'!$A$282=Display!$B$9),Display!$D10,)","v":0},{"$f":"IF(AND(U$8=Display!$T$10,'Lux4-sept'!$A$8=Display!$B$7,'Lux4-sept'!$A$282=Display!$B$9),Display!$D10,)","v":0},{"$f":"IF(AND(V$8=Display!$T$10,'Lux4-sept'!$A$8=Display!$B$7,'Lux4-sept'!$A$282=Display!$B$9),Display!$D10,)","v":0},{"$f":"IF(AND(W$8=Display!$T$10,'Lux4-sept'!$A$8=Display!$B$7,'Lux4-sept'!$A$282=Display!$B$9),Display!$D10,)","v":0},{"$f":"IF(AND(X$8=Display!$T$10,'Lux4-sept'!$A$8=Display!$B$7,'Lux4-sept'!$A$282=Display!$B$9),Display!$D10,)","v":0},{"$f":"IF(AND(Y$8=Display!$T$10,'Lux4-sept'!$A$8=Display!$B$7,'Lux4-sept'!$A$282=Display!$B$9),Display!$D10,)","v":0},{"$f":"IF(AND(Z$8=Display!$T$10,'Lux4-sept'!$A$8=Display!$B$7,'Lux4-sept'!$A$282=Display!$B$9),Display!$D10,)","v":0},{"$f":"IF(AND(AA$8=Display!$T$10,'Lux4-sept'!$A$8=Display!$B$7,'Lux4-sept'!$A$282=Display!$B$9),Display!$D10,)","v":0},{"$f":"IF(AND(AB$8=Display!$T$10,'Lux4-sept'!$A$8=Display!$B$7,'Lux4-sept'!$A$282=Display!$B$9),Display!$D10,)","v":0},{"$f":"IF(AND(AC$8=Display!$T$10,'Lux4-sept'!$A$8=Display!$B$7,'Lux4-sept'!$A$282=Display!$B$9),Display!$D10,)","v":0},{"$f":"IF(AND(AD$8=Display!$T$10,'Lux4-sept'!$A$8=Display!$B$7,'Lux4-sept'!$A$282=Display!$B$9),Display!$D10,)","v":0},{"$f":"IF(AND(AE$8=Display!$T$10,'Lux4-sept'!$A$8=Display!$B$7,'Lux4-sept'!$A$282=Display!$B$9),Display!$D10,)","v":0},{"$f":"IF(AND(AF$8=Display!$T$10,'Lux4-sept'!$A$8=Display!$B$7,'Lux4-sept'!$A$282=Display!$B$9),Display!$D10,)","v":0},null,null,0]
["Propreté des couloirs",{"$f":"IF(AND(B$8=Display!$T$10,'Lux4-sept'!$A$8=Display!$B$7,'Lux4-sept'!$A$282=Display!$B$9),Display!$D11,)","v":0},{"$f":"IF(AND(C$8=Display!$T$10,'Lux4-sept'!$A$8=Display!$B$7,'Lux4-sept'!$A$282=Display!$B$9),Display!$D11,)","v":0},{"$f":"IF(AND(D$8=Display!$T$10,'Lux4-sept'!$A$8=Display!$B$7,'Lux4-sept'!$A$282=Display!$B$9),Display!$D11,)","v":0},{"$f":"IF(AND(E$8=Display!$T$10,'Lux4-sept'!$A$8=Display!$B$7,'Lux4-sept'!$A$282=Display!$B$9),Display!$D11,)","v":0},{"$f":"IF(AND(F$8=Display!$T$10,'Lux4-sept'!$A$8=Display!$B$7,'Lux4-sept'!$A$282=Display!$B$9),Display!$D11,)","v":0},{"$f":"IF(AND(G$8=Display!$T$10,'Lux4-sept'!$A$8=Display!$B$7,'Lux4-sept'!$A$282=Display!$B$9),Display!$D11,)","v":0},{"$f":"IF(AND(H$8=Display!$T$10,'Lux4-sept'!$A$8=Display!$B$7,'Lux4-sept'!$A$282=Display!$B$9),Display!$D11,)","v":0},{"$f":"IF(AND(I$8=Display!$T$10,'Lux4-sept'!$A$8=Display!$B$7,'Lux4-sept'!$A$282=Display!$B$9),Display!$D11,)","v":0},{"$f":"IF(AND(J$8=Display!$T$10,'Lux4-sept'!$A$8=Display!$B$7,'Lux4-sept'!$A$282=Display!$B$9),Display!$D11,)","v":0},{"$f":"IF(AND(K$8=Display!$T$10,'Lux4-sept'!$A$8=Display!$B$7,'Lux4-sept'!$A$282=Display!$B$9),Display!$D11,)","v":0},{"$f":"IF(AND(L$8=Display!$T$10,'Lux4-sept'!$A$8=Display!$B$7,'Lux4-sept'!$A$282=Display!$B$9),Display!$D11,)","v":0},{"$f":"IF(AND(M$8=Display!$T$10,'Lux4-sept'!$A$8=Display!$B$7,'Lux4-sept'!$A$282=Display!$B$9),Display!$D11,)","v":0},{"$f":"IF(AND(N$8=Display!$T$10,'Lux4-sept'!$A$8=Display!$B$7,'Lux4-sept'!$A$282=Display!$B$9),Display!$D11,)","v":0},{"$f":"IF(AND(O$8=Display!$T$10,'Lux4-sept'!$A$8=Display!$B$7,'Lux4-sept'!$A$282=Display!$B$9),Display!$D11,)","v":0},{"$f":"IF(AND(P$8=Display!$T$10,'Lux4-sept'!$A$8=Display!$B$7,'Lux4-sept'!$A$282=Display!$B$9),Display!$D11,)","v":0},{"$f":"IF(AND(Q$8=Display!$T$10,'Lux4-sept'!$A$8=Display!$B$7,'Lux4-sept'!$A$282=Display!$B$9),Display!$D11,)","v":0},{"$f":"IF(AND(R$8=Display!$T$10,'Lux4-sept'!$A$8=Display!$B$7,'Lux4-sept'!$A$282=Display!$B$9),Display!$D11,)","v":0},{"$f":"IF(AND(S$8=Display!$T$10,'Lux4-sept'!$A$8=Display!$B$7,'Lux4-sept'!$A$282=Display!$B$9),Display!$D11,)","v":0},{"$f":"IF(AND(T$8=Display!$T$10,'Lux4-sept'!$A$8=Display!$B$7,'Lux4-sept'!$A$282=Display!$B$9),Display!$D11,)","v":0},{"$f":"IF(AND(U$8=Display!$T$10,'Lux4-sept'!$A$8=Display!$B$7,'Lux4-sept'!$A$282=Display!$B$9),Display!$D11,)","v":0},{"$f":"IF(AND(V$8=Display!$T$10,'Lux4-sept'!$A$8=Display!$B$7,'Lux4-sept'!$A$282=Display!$B$9),Display!$D11,)","v":0},{"$f":"IF(AND(W$8=Display!$T$10,'Lux4-sept'!$A$8=Display!$B$7,'Lux4-sept'!$A$282=Display!$B$9),Display!$D11,)","v":0},{"$f":"IF(AND(X$8=Display!$T$10,'Lux4-sept'!$A$8=Display!$B$7,'Lux4-sept'!$A$282=Display!$B$9),Display!$D11,)","v":0},{"$f":"IF(AND(Y$8=Display!$T$10,'Lux4-sept'!$A$8=Display!$B$7,'Lux4-sept'!$A$282=Display!$B$9),Display!$D11,)","v":0},{"$f":"IF(AND(Z$8=Display!$T$10,'Lux4-sept'!$A$8=Display!$B$7,'Lux4-sept'!$A$282=Display!$B$9),Display!$D11,)","v":0},{"$f":"IF(AND(AA$8=Display!$T$10,'Lux4-sept'!$A$8=Display!$B$7,'Lux4-sept'!$A$282=Display!$B$9),Display!$D11,)","v":0},{"$f":"IF(AND(AB$8=Display!$T$10,'Lux4-sept'!$A$8=Display!$B$7,'Lux4-sept'!$A$282=Display!$B$9),Display!$D11,)","v":0},{"$f":"IF(AND(AC$8=Display!$T$10,'Lux4-sept'!$A$8=Display!$B$7,'Lux4-sept'!$A$282=Display!$B$9),Display!$D11,)","v":0},{"$f":"IF(AND(AD$8=Display!$T$10,'Lux4-sept'!$A$8=Display!$B$7,'Lux4-sept'!$A$282=Display!$B$9),Display!$D11,)","v":0},{"$f":"IF(AND(AE$8=Display!$T$10,'Lux4-sept'!$A$8=Display!$B$7,'Lux4-sept'!$A$282=Display!$B$9),Display!$D11,)","v":0},{"$f":"IF(AND(AF$8=Display!$T$10,'Lux4-sept'!$A$8=Display!$B$7,'Lux4-sept'!$A$282=Display!$B$9),Display!$D11,)","v":0},null,null,0]
["MOYENNE",{"$f":"((IF((SUM(B283:B290))<>0,(SUM(B283:B290)),0))/(IF((SUM((IF(B283<>0,3,0)),(IF(B284<>0,3,0)),(IF(B285<>0,3,0)),(IF(B286<>0,3,0)),(IF(B287<>0,3,0)),(IF(B288<>0,3,0)),(IF(B289<>0,3,0)),(IF(B290<>0,3,0))))<>0,((SUM((IF(B283<>0,3,0)),(IF(B284<>0,3,0)),(IF(B285<>0,3,0)),(IF(B286<>0,3,0)),(IF(B287<>0,3,0)),(IF(B288<>0,3,0)),(IF(B289<>0,3,0)),(IF(B290<>0,3,0))))),1)))","v":0},{"$f":"((IF((SUM(C283:C290))<>0,(SUM(C283:C290)),0))/(IF((SUM((IF(C283<>0,3,0)),(IF(C284<>0,3,0)),(IF(C285<>0,3,0)),(IF(C286<>0,3,0)),(IF(C287<>0,3,0)),(IF(C288<>0,3,0)),(IF(C289<>0,3,0)),(IF(C290<>0,3,0))))<>0,((SUM((IF(C283<>0,3,0)),(IF(C284<>0,3,0)),(IF(C285<>0,3,0)),(IF(C286<>0,3,0)),(IF(C287<>0,3,0)),(IF(C288<>0,3,0)),(IF(C289<>0,3,0)),(IF(C290<>0,3,0))))),1)))","v":0},0,0,0,0,0,0,0,0,0,0,0,0,0,0,0,0,0,0,0,0,0,0,0,0,0,0,0,0,0,0,0]
["Action List"]
["Description","Due date"]
["Nettoyage de moquette prevu pour Novembre "]
[]
[null,null,null,null,null,null,null,null,null,"Please Remember:\n\nQuality First! \nKeep an eye everywhere even under carpet"]

{"sheet":"bios","index":2,"n_rows":80,"n_cols":10,"rows_kept":80,"cut":false,"hidden":false,"merged":[]}
[]
["Lux 4","Meeting Rooms","Day Time Cleaning","01.500","salle de réunion en place (café, thé, lunch…) ",null,null,"Meeting Rooms","Day Time Cleaning","01.500"]
["Lux 5-11","Kitchens","Soir","01.501","Salle prête à être utiliser après les meeting",null,null,null,null,"01.501"]
["Lux 12","Toilets & Showers",null,"02.500","Chaises rangées",null,null,null,null,"02.500"]
["Lux 14","Open Office",null,"02.501","Poubelles vidées",null,null,null,null,"02.501"]
[null,"Open Space",null,"02.502","Tables nettoyées",null,null,null,null,"02.502"]
[null,"Building Check",null,"03.500","Tableaux effacés",null,null,null,null,"03.500"]
[null,null,null,"03.501",null,null,null,null,null,"03.501"]
[null,null,null,"04.500",null,null,null,null,null,"04.500"]
[null,null,null,null,null,null,null,null,"Soir","01.500"]
[null,null,null,null,null,null,null,null,null,"01.501"]
[null,null,null,"01.500","Chaises rangées",null,null,null,null,"02.500"]
[null,null,null,"01.501","Poubelles vidées",null,null,null,null,"02.501"]
[null,null,null,"02.500","Tables nettoyées",null,null,null,null,"02.502"]
[null,null,null,"02.501","Tableaux effacés",null,null,null,null,"03.500"]
[null,null,null,"02.502","Salles de réunion aspirées",null,null,null,null,"03.501"]
[null,null,null,"03.500","Présence de poussières",null,null,null,null,"04.500"]
[null,null,null,"03.501","Aucune trace de doigts",null,null,"Kitchens","Day Time Cleaning",".01"]
[null,null,null,"04.500",null,null,null,null,null,".02"]
[null,null,null,null,null,null,null,null,null,".03"]
[null,null,null,null,null,null,null,null,null,".04"]
[null,null,null,".01",null,null,null,null,"Soir",".01"]
[null,null,null,".02","Préparation cuisine en place (café, thé, lunch…) ",null,null,null,null,".02"]
[null,null,null,".03","Salle prête à être utilisée",null,null,null,null,".03"]
[null,null,null,".04","Chaises rangées",null,null,null,null,".04"]
[null,null,null,null,"Poubelles vidées",null,null,"Toilets & Showers","Day Time Cleaning",".00"]
[null,null,null,null,"Tables nettoyées",null,null,null,null,".01"]
[null,null,null,null,null,null,null,null,null,".02"]
[null,null,null,null,null,null,null,null,null,".03"]
[null,null,null,".01",null,null,null,null,null,".04"]
[null,null,null,".02",null,null,null,null,"Soir",".00"]
[null,null,null,".03",null,null,null,null,null,".01"]
[null,null,null,".04",null,null,null,null,null,".02"]
[null,null,null,null,null,null,null,null,null,".03"]
[null,null,null,null,null,null,null,null,null,".04"]
[null,null,null,null,"Fourniture (café, lait, thé, sucre, choc., Serviettes"]
[null,null,null,null,"Recyclage des capsules Nespresso"]
[null,null,null,".00","Propreté du micro onde"]
[null,null,null,".01","Poubelles vidées et propres"]
[null,null,null,".02","Armoires propres (Intérieure et extérieure)"]
[null,null,null,".03","Vaisselles propres et rangées"]
[null,null,null,".04","Rebords de fenêtres"]
[null,null,null,null,"Lave vaiselle vidé"]
[null,null,null,null,"Propreté des sols"]
[null,null,null,null,"Présence de poussières"]
[]
[null,null,null,".00"]
[null,null,null,".01"]
[null,null,null,".02"]
[null,null,null,".03","Propreté générale des sanitaires"]
[null,null,null,".04"]
[]
[]
[]
[]
[]
[]
[]
[]
[]
[]
[null,null,null,null,"Fourniture ingrédients sanitaires"]
[null,null,null,null,"Nettoyage des sols"]
[null,null,null,null,"Propreté des Murs"]
[null,null,null,null,"Présence de poussières"]
[null,null,null,null,"Propreté des miroirs, vasques, vitres, portes, brosses, poubelles, douches"]
[]
[]
[]
[]
[]
[]
[null,null,null,null,"Jardin, meuble exterieur "]
[null,null,null,null,"Cendriers nettoyés"]
[null,null,null,null,"Aspect général de la vitrerie intérieure extérieure"]
[null,null,null,null,"Propreté des moquette"]
[null,null,null,null,"Traces au mur"]
[null,null,null,null,"Propreté des portes"]
[null,null,null,null,"Ascenseur: nettoyage decapage "]
[null,null,null,null,"Propreté des couloirs"]