{"text_format":"1","workbook":"xlsx","n_sheets":4,"sheets":["Fiche d'appel","Fiche de courriel","Feuil3","Feuil1"],"not_rendered":{"charts":0,"images":1,"macros":1,"external_links":1,"defined_names":12,"comments":0,"pivot_tables":0},"unopened":[],"bounds":{"document_bytes":16777216,"sheet_cells":100000,"rows_first":2000,"rows_last":500,"rows_between":2000,"halvings":0,"cell_chars":16384,"cell_head_chars":4096},"cells_cut":0,"cells_raw":0,"read":"whole","date_system":"1900"}

{"sheet":"Fiche d'appel","index":0,"n_rows":18,"n_cols":10,"rows_kept":18,"cut":false,"hidden":false,"merged":[[9,1,17,1],[2,1,2,2]]}
[]
[]
[null,"Fiche d'appel entrant / Phone Call In",null,null,null,null,"*** Envoyer a GED",null,null,4]
[null,"Code"]
[null,"Courtier / Conseiller"]
[null,"No police",null,null,null,null,"*** Envoyer suivi "]
[null,"Langue "]
[null,"Ligne d'affaire"]
[null,"Raison de l'appel "]
[null,"Commentaires"]
[null,"No client"]
[null,"Preneur"]
[null,0]
[null,"Envoyer"]
[null,"à la GED"]
[null,"GED + Suivi"]
[null,0]
[null,0]

{"sheet":"Fiche de courriel","index":1,"n_rows":0,"n_cols":0,"rows_kept":0,"cut":false,"hidden":false,"merged":[]}

{"sheet":"Feuil3","index":2,"n_rows":23,"n_cols":5,"rows_kept":23,"cut":false,"hidden":false,"merged":[]}
["Français","Épargne ","Changement à l'échéance","Bénéficiaire","Bénéficiaire"]
["Anglais","Penncorp","Changement d'adresse","Classe de métier","Calcul diminution assurance"]
[null,"Vie","Coordonnées bancaires","Demande d'opinion","Calcul dissociation"]
[null,null,"Questions commissions ","Info général sur le produit","Calcul taux fumeur à non fumeur"]
[null,null,"Communiqué de taux","Info sur le paiement de prime","Changement d'adresse"]
[null,null,"Erreur sur les traitements","Outil de cotation","Commissions"]
[null,null,"FERR / FRV / CRI","Procédures","Début prélèvement"]
[null,null,"Information sur produits","Réclamation de décès / invalidité","Demande d'extension livraison de police"]
[null,null,"Modification des prélèvements ","ROP","Demande d'opinion"]
[null,null,"Prêt REER / RAP","Suivi de dossiers","Droit de transformation"]
[null,null,"Promotion ","Suivi de réclamations","Exigence de sélection"]
[null,null,"REER Contributif",null,"Frais de transaction"]
[null,null,"Relevé d'épargne",null,"Info. général sur le produit"]
[null,null,"Retrait ",null,"Modification prélèvement/chang. mode de paiement"]
[null,null,"Suivi",null,"Prêt police / remboursement du prêt"]
[null,null,null,null,"Prime"]
[null,null,null,null,"Procédures"]
[null,null,null,null,"Réclamations décès / invalidité"]
[null,null,null,null,"Remise en vigueur"]
[null,null,null,null,"Retrait de participation"]
[null,null,null,null,"Strategis / Cotation"]
[null,null,null,null,"Suivi dossier"]
[null,null,null,null,"Utilisation GA ou BAG"]

{"sheet":"Feuil1","index":3,"n_rows":9261,"n_cols":4,"rows_kept":9261,"cut":false,"hidden":false,"merged":[]}
[null,"Aarons Brian",{"$f":"VLOOKUP(B1,[1]export_1465921594229!$D2:$G9262,4,FALSE)","v":"EQ5-121361"},{"$f":"LEFT(C1,3)","v":"EQ5"}]
[null,"Aba Diwata",{"$f":"VLOOKUP(B2,[1]export_1465921594229!$D3:$G9263,4,FALSE)","v":"B1X-123616"},{"$f":"LEFT(C2,3)","v":"B1X"}]
[null,"Abadi Gilles",{"$f":"VLOOKUP(B3,[1]export_1465921594229!$D4:$G9264,4,FALSE)","v":"HA0-116167"},"HA0"]
[null,"Abadie Sylvie",{"$f":"VLOOKUP(B4,[1]export_1465921594229!$D5:$G9265,4,FALSE)","v":"018-122523"},"018"]
[null,"Abbasi Forozan",{"$f":"VLOOKUP(B5,[1]export_1465921594229!$D6:$G9266,4,FALSE)","v":"LF4-116835"},"LF4"]
[null,"Abbi Rajiv",{"$f":"VLOOKUP(B6,[1]export_1465921594229!$D7:$G9267,4,FALSE)","v":"QI4-117700"},"QI4"]
[null,"Abbott Christopher",{"$f":"VLOOKUP(B7,[1]export_1465921594229!$D8:$G9268,4,FALSE)","v":"CHD-123995"},"CHD"]
[null,"Abdelaziz Nael",{"$f":"VLOOKUP(B8,[1]export_1465921594229!$D9:$G9269,4,FALSE)","v":"DFM-124843"},"DFM"]
[null,"Abdelaziz Riham",{"$f":"VLOOKUP(B9,[1]export_1465921594229!$D10:$G9270,4,FALSE)","v":"B0Q-502335"},"B0Q"]
[null,"Abderrezag Amine",{"$f":"VLOOKUP(B10,[1]export_1465921594229!$D11:$G9271,4,FALSE)","v":"DQP-600110"},"DQP"]
[null,"Abdoo Alain",{"$f":"VLOOKUP(B11,[1]export_1465921594229!$D12:$G9272,4,FALSE)","v":"U62-120111"},"U62"]
[null,"Abejero Myra",{"$f":"VLOOKUP(B12,[1]export_1465921594229!$D13:$G9273,4,FALSE)","v":"KD6-116665"},"KD6"]
[null,"Abele Joseph",{"$f":"VLOOKUP(B13,[1]export_1465921594229!$D14:$G9274,4,FALSE)","v":"DI7-118400"},"DI7"]
[null,"Abell Maureen",{"$f":"VLOOKUP(B14,[1]export_1465921594229!$D15:$G9275,4,FALSE)","v":"BRY-123396"},"BRY"]
[null,"Abell Maureen",{"$f":"VLOOKUP(B15,[1]export_1465921594229!$D16:$G9276,4,FALSE)","v":"FW2-501207"},"FW2"]
[null,"Abell Maureen",{"$f":"VLOOKUP(B16,[1]export_1465921594229!$D17:$G9277,4,FALSE)","v":"N43-119459"},"N43"]
[null,"Abellanosa Heartie",{"$f":"VLOOKUP(B17,[1]export_1465921594229!$D18:$G9278,4,FALSE)","v":"D5R-125501"},"D5R"]
[null,"Abesdris Elie",{"$f":"VLOOKUP(B18,[1]export_1465921594229!$D19:$G9279,4,FALSE)","v":"M52-119384"},"M52"]
[null,"Abiodun Adeola",{"$f":"VLOOKUP(B19,[1]export_1465921594229!$D20:$G9280,4,FALSE)","v":"MN4-117061"},"MN4"]
[null,"Abitbol Elie",{"$f":"VLOOKUP(B20,[1]export_1465921594229!$D21:$G9281,4,FALSE)","v":"IG0-116351"},"IG0"]
[null,"Abou Saleh Michel",{"$f":"VLOOKUP(B21,[1]export_1465921594229!$D22:$G9282,4,FALSE)","v":"D60-115870"},"D60"]
[null,"Abou-Chrouch Jean-Pierre",{"$f":"VLOOKUP(B22,[1]export_1465921594229!$D23:$G9283,4,FALSE)","v":"A6X-123024"},"A6X"]
[null,"Aboud Alma",{"$f":"VLOOKUP(B23,[1]export_1465921594229!$D24:$G9284,4,FALSE)","v":"B2U-550911"},"B2U"]
[null,"Abouhassan Ahmed",{"$f":"VLOOKUP(B24,[1]export_1465921594229!$D25:$G9285,4,FALSE)","v":"DSM-125169"},"DSM"]
[null,"Aboutammam Amina",{"$f":"VLOOKUP(B25,[1]export_1465921594229!$D26:$G9286,4,FALSE)","v":"AE9-122046"},"AE9"]
[null,"Abujan Rene",{"$f":"VLOOKUP(B26,[1]export_1465921594229!$D27:$G9287,4,FALSE)","v":"C1F-124486"},"C1F"]
[null,"Abuzeid Huda",{"$f":"VLOOKUP(B27,[1]export_1465921594229!$D28:$G9288,4,FALSE)","v":"GP6-116106"},"GP6"]
[null,"Acasio Stephen Ramiah",{"$f":"VLOOKUP(B28,[1]export_1465921594229!$D29:$G9289,4,FALSE)","v":"CWH-124362"},"CWH"]
[null,"Ackerman Phil",{"$f":"VLOOKUP(B29,[1]export_1465921594229!$D30:$G9290,4,FALSE)","v":"AT8-121977"},"AT8"]
[null,"Adam Steve",{"$f":"VLOOKUP(B30,[1]export_1465921594229!$D31:$G9291,4,FALSE)","v":"B2D-660470"},"B2D"]
[null,"Adams Derek",{"$f":"VLOOKUP(B31,[1]export_1465921594229!$D32:$G9292,4,FALSE)","v":"C8N-124666"},"C8N"]
[null,"Adams Dominic",{"$f":"VLOOKUP(B32,[1]export_1465921594229!$D33:$G9293,4,FALSE)","v":"A75-122013"},"A75"]
[null,"Adams George",{"$f":"VLOOKUP(B33,[1]export_1465921594229!$D34:$G9294,4,FALSE)","v":"HV3-121208"},"HV3"]
[null,"Adams George",{"$f":"VLOOKUP(B34,[1]export_1465921594229!$D35:$G9295,4,FALSE)","v":"OA0-119557"},"OA0"]
[null,"Adams John",{"$f":"VLOOKUP(B35,[1]export_1465921594229!$D36:$G9296,4,FALSE)","v":"BLY-123287"},"BLY"]
[null,"Adams Roy",{"$f":"VLOOKUP(B36,[1]export_1465921594229!$D37:$G9297,4,FALSE)","v":"BWS-123499"},"BWS"]
[null,"Adamson Tamara",{"$f":"VLOOKUP(B37,[1]export_1465921594229!$D38:$G9298,4,FALSE)","v":"JX9-116611"},"JX9"]
[null,"Adante Remedios",{"$f":"VLOOKUP(B38,[1]export_1465921594229!$D39:$G9299,4,FALSE)","v":"BNU-123313"},"BNU"]
[null,"Adebayo Antonetta",{"$f":"VLOOKUP(B39,[1]export_1465921594229!$D40:$G9300,4,FALSE)","v":"MJ8-117035"},"MJ8"]
[null,"Adebiyi Abayomi",{"$f":"VLOOKUP(B40,[1]export_1465921594229!$D41:$G9301,4,FALSE)","v":"MT8-117100"},"MT8"]
[null,"Adeniji Victoria",{"$f":"VLOOKUP(B41,[1]export_1465921594229!$D42:$G9302,4,FALSE)","v":"IL9-119141"},"IL9"]
[null,"ADESINA OLOLADE",{"$f":"VLOOKUP(B42,[1]export_1465921594229!$D43:$G9303,4,FALSE)","v":"CJG-124045"},"CJG"]
[null,"Adeyemi Feyisayo",{"$f":"VLOOKUP(B43,[1]export_1465921594229!$D44:$G9304,4,FALSE)","v":"GX2-116137"},"GX2"]
[null,"Adeyemi Oluwaseun",{"$f":"VLOOKUP(B44,[1]export_1465921594229!$D45:$G9305,4,FALSE)","v":"GT7-116119"},"GT7"]
[null,"Adeyemi(Arkoh-Forson) Nana Yaa",{"$f":"VLOOKUP(B45,[1]export_1465921594229!$D46:$G9306,4,FALSE)","v":"GT8-116120"},"GT8"]
[null,"Adham Mahitab",{"$f":"VLOOKUP(B46,[1]export_1465921594229!$D47:$G9307,4,FALSE)","v":"LJ2-119327"},"LJ2"]
[null,"Adhamidorani Shirin",{"$f":"VLOOKUP(B47,[1]export_1465921594229!$D48:$G9308,4,FALSE)","v":"JP0-116550"},"JP0"]
[null,"Adoniev Vladislav",{"$f":"VLOOKUP(B48,[1]export_1465921594229!$D49:$G9309,4,FALSE)","v":"BZK-123556"},"BZK"]
[null,"Adoniev Vladislav",{"$f":"VLOOKUP(B49,[1]export_1465921594229!$D50:$G9310,4,FALSE)","v":"BFC-123142"},"BFC"]
[null,"Adou Moussa",{"$f":"VLOOKUP(B50,[1]export_1465921594229!$D51:$G9311,4,FALSE)","v":"CD8-115823"},"CD8"]
[null,"Adrian Peter",{"$f":"VLOOKUP(B51,[1]export_1465921594229!$D52:$G9312,4,FALSE)","v":"BNX-026464"},"BNX"]
[null,"Adu-Donkor Francis",{"$f":"VLOOKUP(B52,[1]export_1465921594229!$D53:$G9313,4,FALSE)","v":"CQ0-118337"},"CQ0"]
[null,"Afifi Chadi",{"$f":"VLOOKUP(B53,[1]export_1465921594229!$D54:$G9314,4,FALSE)","v":"PD9-117483"},"PD9"]
[null,"Aganon Wilfredo",{"$f":"VLOOKUP(B54,[1]export_1465921594229!$D55:$G9315,4,FALSE)","v":"II3-116365"},"II3"]
[null,"Agard Clifton",{"$f":"VLOOKUP(B55,[1]export_1465921594229!$D56:$G9316,4,FALSE)","v":"DQA-125108"},"DQA"]
[null,"Agbayani Gemmo",{"$f":"VLOOKUP(B56,[1]export_1465921594229!$D57:$G9317,4,FALSE)","v":"FL5-118743"},"FL5"]
[null,"Agbi Olusola",{"$f":"VLOOKUP(B57,[1]export_1465921594229!$D58:$G9318,4,FALSE)","v":"HN6-116231"},"HN6"]
[null,"Agbogwu Benjamin",{"$f":"VLOOKUP(B58,[1]export_1465921594229!$D59:$G9319,4,FALSE)","v":"QK6-117713"},"QK6"]
[null,"Agho Judith",{"$f":"VLOOKUP(B59,[1]export_1465921594229!$D60:$G9320,4,FALSE)","v":"D6V-125528"},"D6V"]
[null,"Agnan Lydie",{"$f":"VLOOKUP(B60,[1]export_1465921594229!$D61:$G9321,4,FALSE)","v":"AB0-122032"},"AB0"]
[null,"Agnaou Larbi",{"$f":"VLOOKUP(B61,[1]export_1465921594229!$D62:$G9322,4,FALSE)","v":"M95-120096"},"M95"]
[null,"Agnew Elizabeth",{"$f":"VLOOKUP(B62,[1]export_1465921594229!$D63:$G9323,4,FALSE)","v":"NI8-117196"},"NI8"]
[null,"Agro(Agro Insurance Inc.) Vincent",{"$f":"VLOOKUP(B63,[1]export_1465921594229!$D64:$G9324,4,FALSE)","v":"MP7-117072"},"MP7"]
[null,"Aguilera Romero Ronny Enrique",{"$f":"VLOOKUP(B64,[1]export_1465921594229!$D65:$G9325,4,FALSE)","v":"A8J-123051"},"A8J"]
[null,"Aguilera Romero Ronny Enrique",{"$f":"VLOOKUP(B65,[1]export_1465921594229!$D66:$G9326,4,FALSE)","v":"CZ3-115864"},"CZ3"]
[null,"Aguirre Ramirez Marco Antonio",{"$f":"VLOOKUP(B66,[1]export_1465921594229!$D67:$G9327,4,FALSE)","v":"EE5-118547"},{"$f":"LEFT(C66,3)","v":"EE5"}]
[null,"Aguirre Ramirez Marco Antonio",{"$f":"VLOOKUP(B67,[1]export_1465921594229!$D68:$G9328,4,FALSE)","v":"PV6-600072"},"PV6"]
[null,"Agyei-Amoama Kofi",{"$f":"VLOOKUP(B68,[1]export_1465921594229!$D69:$G9329,4,FALSE)","v":"BIF-123210"},"BIF"]
[null,"Ahilatheepan Ajanthini",{"$f":"VLOOKUP(B69,[1]export_1465921594229!$D70:$G9330,4,FALSE)","v":"BSM-123410"},"BSM"]
[null,"Ahluwalia Gagandeep",{"$f":"VLOOKUP(B70,[1]export_1465921594229!$D71:$G9331,4,FALSE)","v":"Z73-550472"},"Z73"]
[null,"Ahluwalia Jasmeen",{"$f":"VLOOKUP(B71,[1]export_1465921594229!$D72:$G9332,4,FALSE)","v":"CW5-550264"},"CW5"]
[null,"Ahluwalia Jasvinderpal",{"$f":"VLOOKUP(B72,[1]export_1465921594229!$D73:$G9333,4,FALSE)","v":"A7M-123032"},"A7M"]
[null,"Ahmad Shakeel",{"$f":"VLOOKUP(B73,[1]export_1465921594229!$D74:$G9334,4,FALSE)","v":"C2O-124521"},"C2O"]
[null,"Ahmadzai Rehana",{"$f":"VLOOKUP(B74,[1]export_1465921594229!$D75:$G9335,4,FALSE)","v":"BXW-123520"},"BXW"]
[null,"Ahmarani Joseph",{"$f":"VLOOKUP(B75,[1]export_1465921594229!$D76:$G9336,4,FALSE)","v":"PF2-117494"},"PF2"]
[null,"Ahmed Anish",{"$f":"VLOOKUP(B76,[1]export_1465921594229!$D77:$G9337,4,FALSE)","v":"AW5-121991"},"AW5"]
[null,"Ahmed Fahad",{"$f":"VLOOKUP(B77,[1]export_1465921594229!$D78:$G9338,4,FALSE)","v":"AR7-121968"},"AR7"]
[null,"Ahmed Fahad",{"$f":"VLOOKUP(B78,[1]export_1465921594229!$D79:$G9339,4,FALSE)","v":"AR6-121967"},"AR6"]
[null,"Ahmed M Wasi",{"$f":"VLOOKUP(B79,[1]export_1465921594229!$D80:$G9340,4,FALSE)","v":"D3L-125444"},"D3L"]
[null,"Ahmed Saiful Aziz",{"$f":"VLOOKUP(B80,[1]export_1465921594229!$D81:$G9341,4,FALSE)","v":"CK6-118319"},"CK6"]
[null,"Aitkenhead Jeff",{"$f":"VLOOKUP(B81,[1]export_1465921594229!$D82:$G9342,4,FALSE)","v":"FU1-118784"},"FU1"]
[null,"Aiyadurai Vigneswaran",{"$f":"VLOOKUP(B82,[1]export_1465921594229!$D83:$G9343,4,FALSE)","v":"QZ8-117830"},"QZ8"]
[null,"Akbar Erfan",{"$f":"VLOOKUP(B83,[1]export_1465921594229!$D84:$G9344,4,FALSE)","v":"W12-120477"},"W12"]
[null,"Akbar Erfan",{"$f":"VLOOKUP(B84,[1]export_1465921594229!$D85:$G9345,4,FALSE)","v":"BS9-118251"},"BS9"]
[null,"Akhavan Faraidoun",{"$f":"VLOOKUP(B85,[1]export_1465921594229!$D86:$G9346,4,FALSE)","v":"DKX-124978"},"DKX"]
[null,"Akong Carolyn",{"$f":"VLOOKUP(B86,[1]export_1465921594229!$D87:$G9347,4,FALSE)","v":"FA9-118684"},"FA9"]
[null,"Akong Daniel",{"$f":"VLOOKUP(B87,[1]export_1465921594229!$D88:$G9348,4,FALSE)","v":"HW7-116283"},"HW7"]
[null,"Al Haddad Katherine",{"$f":"VLOOKUP(B88,[1]export_1465921594229!$D89:$G9349,4,FALSE)","v":"O98-120759"},"O98"]
[null,"Alade Victor",{"$f":"VLOOKUP(B89,[1]export_1465921594229!$D90:$G9350,4,FALSE)","v":"IW4-118066"},"IW4"]
[null,"Alain Denis",{"$f":"VLOOKUP(B90,[1]export_1465921594229!$D91:$G9351,4,FALSE)","v":"008-120374"},"008"]
[null,"Alam(Eastern Finan Servc) Syed Pervez",{"$f":"VLOOKUP(B91,[1]export_1465921594229!$D92:$G9352,4,FALSE)","v":"PS1-117603"},"PS1"]
[null,"Alami Aroussi Kamal",{"$f":"VLOOKUP(B92,[1]export_1465921594229!$D93:$G9353,4,FALSE)","v":"BMB-123289"},"BMB"]
[null,"Alarie Sylvain",{"$f":"VLOOKUP(B93,[1]export_1465921594229!$D94:$G9354,4,FALSE)","v":"G45-118829"},"G45"]
[null,"Alary Serge",{"$f":"VLOOKUP(B94,[1]export_1465921594229!$D95:$G9355,4,FALSE)","v":"IS4-660148"},"IS4"]
[null,"Alastre George",{"$f":"VLOOKUP(B95,[1]export_1465921594229!$D96:$G9356,4,FALSE)","v":"A5V-122589"},"A5V"]
[null,"Alban Teresa",{"$f":"VLOOKUP(B96,[1]export_1465921594229!$D97:$G9357,4,FALSE)","v":"W18-117968"},"W18"]
[null,"Albao Rodel",{"$f":"VLOOKUP(B97,[1]export_1465921594229!$D98:$G9358,4,FALSE)","v":"JL5-116528"},"JL5"]
[null,"Alberastine Rosalia",{"$f":"VLOOKUP(B98,[1]export_1465921594229!$D99:$G9359,4,FALSE)","v":"KG4-116688"},"KG4"]
[null,"Albert Gaetan",{"$f":"VLOOKUP(B99,[1]export_1465921594229!$D100:$G9360,4,FALSE)","v":"K22-118073"},"K22"]
[null,"Albert Gaetan",{"$f":"VLOOKUP(B100,[1]export_1465921594229!$D101:$G9361,4,FALSE)","v":"KN2-119257"},"KN2"]
[null,"Albert Jessica",{"$f":"VLOOKUP(B101,[1]export_1465921594229!$D102:$G9362,4,FALSE)","v":"CHU-124010"},"CHU"]
[null,"Albert Karina",{"$f":"VLOOKUP(B102,[1]export_1465921594229!$D103:$G9363,4,FALSE)","v":"QW5-660557"},"QW5"]
[null,"Albert Martin",{"$f":"VLOOKUP(B103,[1]export_1465921594229!$D104:$G9364,4,FALSE)","v":"MK7-660189"},"MK7"]
[null,"Alcantara Bayani Amir",{"$f":"VLOOKUP(B104,[1]export_1465921594229!$D105:$G9365,4,FALSE)","v":"EF7-118552"},"EF7"]
[null,"Alcaraz Jean",{"$f":"VLOOKUP(B105,[1]export_1465921594229!$D106:$G9366,4,FALSE)","v":"GF9-118870"},"GF9"]
[null,"Alcober Christopher",{"$f":"VLOOKUP(B106,[1]export_1465921594229!$D107:$G9367,4,FALSE)","v":"JD9-119190"},"JD9"]
[null,"Alderton Alexandra",{"$f":"VLOOKUP(B107,[1]export_1465921594229!$D108:$G9368,4,FALSE)","v":"LF0-116832"},"LF0"]
[null,"Aldridge John",{"$f":"VLOOKUP(B108,[1]export_1465921594229!$D109:$G9369,4,FALSE)","v":"D4E-125462"},"D4E"]
[null,"Aler 38344cbernadette",{"$f":"VLOOKUP(B109,[1]export_1465921594229!$D110:$G9370,4,FALSE)","v":"FK1-118730"},"FK1"]
[null,"Alfred Dernice",{"$f":"VLOOKUP(B110,[1]export_1465921594229!$D111:$G9371,4,FALSE)","v":"KL3-121011"},"KL3"]
[null,"Alfred Dernice",{"$f":"VLOOKUP(B111,[1]export_1465921594229!$D112:$G9372,4,FALSE)","v":"AH8-122055"},"AH8"]
[null,"Algra Peter",{"$f":"VLOOKUP(B112,[1]export_1465921594229!$D113:$G9373,4,FALSE)","v":"PR9-119657"},"PR9"]
[null,"Ali Christina",{"$f":"VLOOKUP(B113,[1]export_1465921594229!$D114:$G9374,4,FALSE)","v":"MD4-116992"},"MD4"]
[null,"Ali Muhammad I",{"$f":"VLOOKUP(B114,[1]export_1465921594229!$D115:$G9375,4,FALSE)","v":"JR4-116563"},"JR4"]
[null,"Aligaen Vinanette",{"$f":"VLOOKUP(B115,[1]export_1465921594229!$D116:$G9376,4,FALSE)","v":"EH6-118560"},"EH6"]
[null,"Alilat Mohtaz Billah",{"$f":"VLOOKUP(B116,[1]export_1465921594229!$D117:$G9377,4,FALSE)","v":"MV8-117113"},"MV8"]
[null,"Alimi Omotoso",{"$f":"VLOOKUP(B117,[1]export_1465921594229!$D118:$G9378,4,FALSE)","v":"IF1-116344"},"IF1"]
[null,"Al-Jaf Noor",{"$f":"VLOOKUP(B118,[1]export_1465921594229!$D119:$G9379,4,FALSE)","v":"BXP-502329"},"BXP"]
[null,"Al-Khazraji Hanan",{"$f":"VLOOKUP(B119,[1]export_1465921594229!$D120:$G9380,4,FALSE)","v":"DI5-118398"},"DI5"]
[null,"Alksan Rame",{"$f":"VLOOKUP(B120,[1]export_1465921594229!$D121:$G9381,4,FALSE)","v":"MG2-117014"},"MG2"]
[null,"Alla Yao",{"$f":"VLOOKUP(B121,[1]export_1465921594229!$D122:$G9382,4,FALSE)","v":"T47-120531"},"T47"]
[null,"Allaire Line",{"$f":"VLOOKUP(B122,[1]export_1465921594229!$D123:$G9383,4,FALSE)","v":"585-122129"},"585"]
[null,"Allaire Simon",{"$f":"VLOOKUP(B123,[1]export_1465921594229!$D124:$G9384,4,FALSE)","v":"BV6-121765"},"BV6"]
[null,"Allan Brooklyn",{"$f":"VLOOKUP(B124,[1]export_1465921594229!$D125:$G9385,4,FALSE)","v":"C8K-124663"},"C8K"]
[null,"Allard Isabelle",{"$f":"VLOOKUP(B125,[1]export_1465921594229!$D126:$G9386,4,FALSE)","v":"506-122207"},"506"]
[null,"Allard Janie",{"$f":"VLOOKUP(B126,[1]export_1465921594229!$D127:$G9387,4,FALSE)","v":"EJ4-121471"},"EJ4"]
[null,"Allard Janie",{"$f":"VLOOKUP(B127,[1]export_1465921594229!$D128:$G9388,4,FALSE)","v":"ET1-121372"},"ET1"]
[null,"Allard Marie-Pier",{"$f":"VLOOKUP(B128,[1]export_1465921594229!$D129:$G9389,4,FALSE)","v":"A18-120185"},"A18"]
[null,"Allard Michel",{"$f":"VLOOKUP(B129,[1]export_1465921594229!$D130:$G9390,4,FALSE)","v":"I64-119107"},"I64"]
[null,"Allard Sylvie",{"$f":"VLOOKUP(B130,[1]export_1465921594229!$D131:$G9391,4,FALSE)","v":"CX6-660017"},{"$f":"LEFT(C130,3)","v":"CX6"}]
[null,"Allarde Naida",{"$f":"VLOOKUP(B131,[1]export_1465921594229!$D132:$G9392,4,FALSE)","v":"DM6-121533"},"DM6"]
[null,"Allen Stephane",{"$f":"VLOOKUP(B132,[1]export_1465921594229!$D133:$G9393,4,FALSE)","v":"CH0-121614"},"CH0"]
[null,"Alli Donna",{"$f":"VLOOKUP(B133,[1]export_1465921594229!$D134:$G9394,4,FALSE)","v":"DQB-125109"},"DQB"]
[null,"Alliman Yves",{"$f":"VLOOKUP(B134,[1]export_1465921594229!$D135:$G9395,4,FALSE)","v":"M72-120874"},"M72"]
[null,"Ally Bibi",{"$f":"VLOOKUP(B135,[1]export_1465921594229!$D136:$G9396,4,FALSE)","v":"A5M-122580"},"A5M"]
[null,"Almeida Maria Adelaide",{"$f":"VLOOKUP(B136,[1]export_1465921594229!$D137:$G9397,4,FALSE)","v":"DNS-125048"},"DNS"]
[null,"Almirante John",{"$f":"VLOOKUP(B137,[1]export_1465921594229!$D138:$G9398,4,FALSE)","v":"B8X-123788"},"B8X"]
[null,"Almirol Jan Lomuel",{"$f":"VLOOKUP(B138,[1]export_1465921594229!$D139:$G9399,4,FALSE)","v":"DOO-125070"},"DOO"]
[null,"Al-Musawi Aws",{"$f":"VLOOKUP(B139,[1]export_1465921594229!$D140:$G9400,4,FALSE)","v":"B4M-123679"},"B4M"]
[null,"Altidor Guy",{"$f":"VLOOKUP(B140,[1]export_1465921594229!$D141:$G9401,4,FALSE)","v":"ID5-116333"},"ID5"]
[null,"Alvarado Roberto",{"$f":"VLOOKUP(B141,[1]export_1465921594229!$D142:$G9402,4,FALSE)","v":"AG8-550161"},"AG8"]
[null,"Alvaran Glenda",{"$f":"VLOOKUP(B142,[1]export_1465921594229!$D143:$G9403,4,FALSE)","v":"IQ9-118064"},"IQ9"]
[null,"Alvaran Virgilio",{"$f":"VLOOKUP(B143,[1]export_1465921594229!$D144:$G9404,4,FALSE)","v":"CTX-124302"},"CTX"]
[null,"Amadou Kabirou",{"$f":"VLOOKUP(B144,[1]export_1465921594229!$D145:$G9405,4,FALSE)","v":"DDD-124783"},"DDD"]
[null,"Amanjot Gill",{"$f":"VLOOKUP(B145,[1]export_1465921594229!$D146:$G9406,4,FALSE)","v":"C5T-124595"},"C5T"]
[null,"Amato Tari Maria Christina",{"$f":"VLOOKUP(B146,[1]export_1465921594229!$D147:$G9407,4,FALSE)","v":"C9F-124682"},"C9F"]
[null,"Ambwani Vishal",{"$f":"VLOOKUP(B147,[1]export_1465921594229!$D148:$G9408,4,FALSE)","v":"QQ3-117757"},"QQ3"]
[null,"Amyot Celine",{"$f":"VLOOKUP(B148,[1]export_1465921594229!$D149:$G9409,4,FALSE)","v":"257-122437"},"257"]
[null,"Amyot Mario",{"$f":"VLOOKUP(B149,[1]export_1465921594229!$D150:$G9410,4,FALSE)","v":"037-122536"},"037"]
[null,"Amyot Pierre",{"$f":"VLOOKUP(B150,[1]export_1465921594229!$D151:$G9411,4,FALSE)","v":"RB4-117865"},"RB4"]
[null,"Ananthamoorthy(Samraj In) Kandiah",{"$f":"VLOOKUP(B151,[1]export_1465921594229!$D152:$G9412,4,FALSE)","v":"MV5-550754"},"MV5"]
[null,"Anber Christopher",{"$f":"VLOOKUP(B152,[1]export_1465921594229!$D153:$G9413,4,FALSE)","v":"CL5-121626"},"CL5"]
[null,"Anctil Mario",{"$f":"VLOOKUP(B153,[1]export_1465921594229!$D154:$G9414,4,FALSE)","v":"L34-121036"},"L34"]
[null,"Andal Raymund",{"$f":"VLOOKUP(B154,[1]export_1465921594229!$D155:$G9415,4,FALSE)","v":"CGB-123967"},"CGB"]
[null,"Andal Raymund",{"$f":"VLOOKUP(B155,[1]export_1465921594229!$D156:$G9416,4,FALSE)","v":"LX8-116940"},"LX8"]
[null,"Anders Dan",{"$f":"VLOOKUP(B156,[1]export_1465921594229!$D157:$G9417,4,FALSE)","v":"DTH-125187"},"DTH"]
[null,"Andersen Ryan",{"$f":"VLOOKUP(B157,[1]export_1465921594229!$D158:$G9418,4,FALSE)","v":"DN8-118416"},"DN8"]
[null,"Anderson Benjamin",{"$f":"VLOOKUP(B158,[1]export_1465921594229!$D159:$G9419,4,FALSE)","v":"BXH-502320"},"BXH"]
[null,"Anderson Jesse",{"$f":"VLOOKUP(B159,[1]export_1465921594229!$D160:$G9420,4,FALSE)","v":"BOO-123327"},"BOO"]
[null,"Anderson Suzanne",{"$f":"VLOOKUP(B160,[1]export_1465921594229!$D161:$G9421,4,FALSE)","v":"JA5-116464"},"JA5"]
[null,"Andrade Bonaventure",{"$f":"VLOOKUP(B161,[1]export_1465921594229!$D162:$G9422,4,FALSE)","v":"B1D-123596"},"B1D"]
[null,"Andrade Danny",{"$f":"VLOOKUP(B162,[1]export_1465921594229!$D163:$G9423,4,FALSE)","v":"RA1-117856"},"RA1"]
[null,"Andreopoulos Vasilios",{"$f":"VLOOKUP(B163,[1]export_1465921594229!$D164:$G9424,4,FALSE)","v":"HM7-119045"},"HM7"]
[null,"Andres Anne",{"$f":"VLOOKUP(B164,[1]export_1465921594229!$D165:$G9425,4,FALSE)","v":"EW7-118630"},"EW7"]
[null,"Andres Joseph",{"$f":"VLOOKUP(B165,[1]export_1465921594229!$D166:$G9426,4,FALSE)","v":"B2I-123627"},"B2I"]
[null,"Ang Ruby",{"$f":"VLOOKUP(B166,[1]export_1465921594229!$D167:$G9427,4,FALSE)","v":"CPV-124205"},"CPV"]
[null,"Angeles Lilia",{"$f":"VLOOKUP(B167,[1]export_1465921594229!$D168:$G9428,4,FALSE)","v":"LH2-116849"},"LH2"]
[null,"Angers Daniel",{"$f":"VLOOKUP(B168,[1]export_1465921594229!$D169:$G9429,4,FALSE)","v":"A63-122005"},"A63"]
[null,"Angers Frederic",{"$f":"VLOOKUP(B169,[1]export_1465921594229!$D170:$G9430,4,FALSE)","v":"B25-120219"},"B25"]
[null,"Angers Frederic",{"$f":"VLOOKUP(B170,[1]export_1465921594229!$D171:$G9431,4,FALSE)","v":"A76-122014"},"A76"]
[null,"Angers Germain",{"$f":"VLOOKUP(B171,[1]export_1465921594229!$D172:$G9432,4,FALSE)","v":"T45-117914"},"T45"]
[null,"Angers Sylvain",{"$f":"VLOOKUP(B172,[1]export_1465921594229!$D173:$G9433,4,FALSE)","v":"BE6-121836"},"BE6"]
[null,"Annabel Zabala Jean",{"$f":"VLOOKUP(B173,[1]export_1465921594229!$D174:$G9434,4,FALSE)","v":"LH6-116851"},"LH6"]
[null,"Annis William",{"$f":"VLOOKUP(B174,[1]export_1465921594229!$D175:$G9435,4,FALSE)","v":"U26-550097"},"U26"]
[null,"Annis William",{"$f":"VLOOKUP(B175,[1]export_1465921594229!$D176:$G9436,4,FALSE)","v":"AK5-501458"},"AK5"]
[null,"Ansah Raymond",{"$f":"VLOOKUP(B176,[1]export_1465921594229!$D177:$G9437,4,FALSE)","v":"A5K-550829"},"A5K"]
[null,"Ansari Ahmad Bilal",{"$f":"VLOOKUP(B177,[1]export_1465921594229!$D178:$G9438,4,FALSE)","v":"LU2-116912"},"LU2"]
[null,"Ansaripour Ahmadreza",{"$f":"VLOOKUP(B178,[1]export_1465921594229!$D179:$G9439,4,FALSE)","v":"C1C-124483"},"C1C"]
[null,"Antenor Carlo",{"$f":"VLOOKUP(B179,[1]export_1465921594229!$D180:$G9440,4,FALSE)","v":"A6C-123003"},"A6C"]
[null,"Antenor Carmela",{"$f":"VLOOKUP(B180,[1]export_1465921594229!$D181:$G9441,4,FALSE)","v":"A6E-123005"},"A6E"]
[null,"Anthony Egorp Funke",{"$f":"VLOOKUP(B181,[1]export_1465921594229!$D182:$G9442,4,FALSE)","v":"GT5-116118"},"GT5"]
[null,"Anthony Fernando Alwin Demison Anterick",{"$f":"VLOOKUP(B182,[1]export_1465921594229!$D183:$G9443,4,FALSE)","v":"PL3-117548"},"PL3"]
[null,"Anton Norman",{"$f":"VLOOKUP(B183,[1]export_1465921594229!$D184:$G9444,4,FALSE)","v":"N23-120790"},"N23"]
[null,"Anton Kumar Anne Denisha",{"$f":"VLOOKUP(B184,[1]export_1465921594229!$D185:$G9445,4,FALSE)","v":"BMC-123290"},"BMC"]
[null,"Antonowicz Alexander",{"$f":"VLOOKUP(B185,[1]export_1465921594229!$D186:$G9446,4,FALSE)","v":"PL2-117547"},"PL2"]
[null,"Antony Pelinus",{"$f":"VLOOKUP(B186,[1]export_1465921594229!$D187:$G9447,4,FALSE)","v":"DQC-125110"},"DQC"]
[null,"Antony Philip",{"$f":"VLOOKUP(B187,[1]export_1465921594229!$D188:$G9448,4,FALSE)","v":"PA9-117461"},"PA9"]
[null,"Antunes Claudia S P",{"$f":"VLOOKUP(B188,[1]export_1465921594229!$D189:$G9449,4,FALSE)","v":"MR6-117086"},"MR6"]
[null,"Anyanwu Irene",{"$f":"VLOOKUP(B189,[1]export_1465921594229!$D190:$G9450,4,FALSE)","v":"BRN-123387"},"BRN"]
[null,"April Gilbert",{"$f":"VLOOKUP(B190,[1]export_1465921594229!$D191:$G9451,4,FALSE)","v":"019-122524"},"019"]
[null,"April Richard",{"$f":"VLOOKUP(B191,[1]export_1465921594229!$D192:$G9452,4,FALSE)","v":"BZX-660447"},"BZX"]
[null,"Apter Samuel",{"$f":"VLOOKUP(B192,[1]export_1465921594229!$D193:$G9453,4,FALSE)","v":"BAE-550035"},"BAE"]
[null,"Aquebay Rizza Bernadette",{"$f":"VLOOKUP(B193,[1]export_1465921594229!$D194:$G9454,4,FALSE)","v":"BZN-123559"},"BZN"]
[null,"Aquilizan Leandro",{"$f":"VLOOKUP(B194,[1]export_1465921594229!$D195:$G9455,4,FALSE)","v":"KT4-116757"},{"$f":"LEFT(C194,3)","v":"KT4"}]
[null,"Aquino Carolyn",{"$f":"VLOOKUP(B195,[1]export_1465921594229!$D196:$G9456,4,FALSE)","v":"JL6-116529"},"JL6"]
[null,"Aquino Michael",{"$f":"VLOOKUP(B196,[1]export_1465921594229!$D197:$G9457,4,FALSE)","v":"C5W-124598"},"C5W"]
[null,"Arango Alejandro",{"$f":"VLOOKUP(B197,[1]export_1465921594229!$D198:$G9458,4,FALSE)","v":"C8H-124660"},"C8H"]
[null,"Arango Alejandro",{"$f":"VLOOKUP(B198,[1]export_1465921594229!$D199:$G9459,4,FALSE)","v":"DLD-124984"},"DLD"]
[null,"Aratan Joselyn",{"$f":"VLOOKUP(B199,[1]export_1465921594229!$D200:$G9460,4,FALSE)","v":"IK9-116376"},"IK9"]
[null,"Arauz Edison",{"$f":"VLOOKUP(B200,[1]export_1465921594229!$D201:$G9461,4,FALSE)","v":"KC5-121001"},"KC5"]
[null,"Arbour Emile",{"$f":"VLOOKUP(B201,[1]export_1465921594229!$D202:$G9462,4,FALSE)","v":"NB3-117149"},"NB3"]
[null,"Arbour Eric",{"$f":"VLOOKUP(B202,[1]export_1465921594229!$D203:$G9463,4,FALSE)","v":"GG2-118873"},"GG2"]
[null,"Arbour H. Louis",{"$f":"VLOOKUP(B203,[1]export_1465921594229!$D204:$G9464,4,FALSE)","v":"O44-660133"},"O44"]
[null,"Archambault Diane",{"$f":"VLOOKUP(B204,[1]export_1465921594229!$D205:$G9465,4,FALSE)","v":"I94-121116"},"I94"]
[null,"Archambault François",{"$f":"VLOOKUP(B205,[1]export_1465921594229!$D206:$G9466,4,FALSE)","v":"586-115711"},"586"]
[null,"Archambault Gilles",{"$f":"VLOOKUP(B206,[1]export_1465921594229!$D207:$G9467,4,FALSE)","v":"Z32-120453"},"Z32"]
[null,"Archambault Stephane",{"$f":"VLOOKUP(B207,[1]export_1465921594229!$D208:$G9468,4,FALSE)","v":"460-122189"},"460"]
[null,"Arcouette Michel",{"$f":"VLOOKUP(B208,[1]export_1465921594229!$D209:$G9469,4,FALSE)","v":"T64-660391"},"T64"]
[null,"Ardouin Johanne",{"$f":"VLOOKUP(B209,[1]export_1465921594229!$D210:$G9470,4,FALSE)","v":"003-122511"},"003"]
[null,"Ardouin Yvan",{"$f":"VLOOKUP(B210,[1]export_1465921594229!$D211:$G9471,4,FALSE)","v":"L18-116792"},"L18"]
[null,"Arel Annie",{"$f":"VLOOKUP(B211,[1]export_1465921594229!$D212:$G9472,4,FALSE)","v":"W09-120476"},"W09"]
[null,"Arel Rejean",{"$f":"VLOOKUP(B212,[1]export_1465921594229!$D213:$G9473,4,FALSE)","v":{"$error":"#N/A"}},{"$error":"#N/A"}]
[null,"Arel Richard",{"$f":"VLOOKUP(B213,[1]export_1465921594229!$D214:$G9474,4,FALSE)","v":"IP8-116399"},"IP8"]
[null,"Arel Sylvain",{"$f":"VLOOKUP(B214,[1]export_1465921594229!$D215:$G9475,4,FALSE)","v":"S28-119845"},"S28"]
[null,"Arel Sylvain",{"$f":"VLOOKUP(B215,[1]export_1465921594229!$D216:$G9476,4,FALSE)","v":"HT7-119068"},"HT7"]
[null,"Arellano Rodelio",{"$f":"VLOOKUP(B216,[1]export_1465921594229!$D217:$G9477,4,FALSE)","v":"QV3-117800"},"QV3"]
[null,"Arfang Dioh",{"$f":"VLOOKUP(B217,[1]export_1465921594229!$D218:$G9478,4,FALSE)","v":"V31-120580"},"V31"]
[null,"Argaez Nicolas",{"$f":"VLOOKUP(B218,[1]export_1465921594229!$D219:$G9479,4,FALSE)","v":"BUX-660397"},"BUX"]
[null,"Argandar Israel",{"$f":"VLOOKUP(B219,[1]export_1465921594229!$D220:$G9480,4,FALSE)","v":"AX2-118047"},"AX2"]
[null,"Argeris Andre",{"$f":"VLOOKUP(B220,[1]export_1465921594229!$D221:$G9481,4,FALSE)","v":"015-122520"},"015"]
[null,"Arguin Diane",{"$f":"VLOOKUP(B221,[1]export_1465921594229!$D222:$G9482,4,FALSE)","v":"B45-121901"},"B45"]
[null,"Arjuna Sarogeny (Sara)",{"$f":"VLOOKUP(B222,[1]export_1465921594229!$D223:$G9483,4,FALSE)","v":"PG2-550810"},"PG2"]
[null,"Armamento Ria",{"$f":"VLOOKUP(B223,[1]export_1465921594229!$D224:$G9484,4,FALSE)","v":"LM7-119338"},"LM7"]
[null,"Armstrong Thomas",{"$f":"VLOOKUP(B224,[1]export_1465921594229!$D225:$G9485,4,FALSE)","v":"D7H-125540"},"D7H"]
[null,"Arnaud Jean-Denis",{"$f":"VLOOKUP(B225,[1]export_1465921594229!$D226:$G9486,4,FALSE)","v":"Z79-118035"},"Z79"]
[null,"Arnouk Arfan",{"$f":"VLOOKUP(B226,[1]export_1465921594229!$D227:$G9487,4,FALSE)","v":"C7B-600101"},"C7B"]
[null,"Aronovitch Daniel",{"$f":"VLOOKUP(B227,[1]export_1465921594229!$D228:$G9488,4,FALSE)","v":"KA4-120999"},"KA4"]
[null,"Arora Pankaj",{"$f":"VLOOKUP(B228,[1]export_1465921594229!$D229:$G9489,4,FALSE)","v":"DQ6-550390"},"DQ6"]
[null,"Arpin Johanne",{"$f":"VLOOKUP(B229,[1]export_1465921594229!$D230:$G9490,4,FALSE)","v":"004-122512"},"004"]
[null,"Arpin Pierrot",{"$f":"VLOOKUP(B230,[1]export_1465921594229!$D231:$G9491,4,FALSE)","v":"M46-116957"},"M46"]
[null,"Arpin Robert",{"$f":"VLOOKUP(B231,[1]export_1465921594229!$D232:$G9492,4,FALSE)","v":"079-122564"},"079"]
[null,"Arsenault Emmanuel",{"$f":"VLOOKUP(B232,[1]export_1465921594229!$D233:$G9493,4,FALSE)","v":"D5L-125495"},"D5L"]
[null,"Arsenault Nelson",{"$f":"VLOOKUP(B233,[1]export_1465921594229!$D234:$G9494,4,FALSE)","v":"025-120376"},"025"]
[null,"Arsenault Steven",{"$f":"VLOOKUP(B234,[1]export_1465921594229!$D235:$G9495,4,FALSE)","v":"BOM-027751"},"BOM"]
[null,"Arsenault Sylvie",{"$f":"VLOOKUP(B235,[1]export_1465921594229!$D236:$G9496,4,FALSE)","v":"M65-116961"},"M65"]
[null,"Arsenault Sylvie",{"$f":"VLOOKUP(B236,[1]export_1465921594229!$D237:$G9497,4,FALSE)","v":"D0R-125374"},"D0R"]
[null,"Arseneault Rejean",{"$f":"VLOOKUP(B237,[1]export_1465921594229!$D238:$G9498,4,FALSE)","v":"CS1-118343"},"CS1"]
[null,"Arshad Ahmed",{"$f":"VLOOKUP(B238,[1]export_1465921594229!$D239:$G9499,4,FALSE)","v":"DET-124824"},"DET"]
[null,"Arshad Hassan",{"$f":"VLOOKUP(B239,[1]export_1465921594229!$D240:$G9500,4,FALSE)","v":"KP4-121016"},"KP4"]
[null,"Arshi Seema",{"$f":"VLOOKUP(B240,[1]export_1465921594229!$D241:$G9501,4,FALSE)","v":"DF8-118391"},"DF8"]
[null,"Artin Rene",{"$f":"VLOOKUP(B241,[1]export_1465921594229!$D242:$G9502,4,FALSE)","v":"A82-120204"},"A82"]
[null,"Artin Rene",{"$f":"VLOOKUP(B242,[1]export_1465921594229!$D243:$G9503,4,FALSE)","v":"AJ3-121934"},"AJ3"]
[null,"Arturi Maurizio (Mauro)",{"$f":"VLOOKUP(B243,[1]export_1465921594229!$D244:$G9504,4,FALSE)","v":"DKG-124961"},"DKG"]
[null,"Arulanandam Vimalarajah",{"$f":"VLOOKUP(B244,[1]export_1465921594229!$D245:$G9505,4,FALSE)","v":"NA9-550870"},"NA9"]
[null,"Arumugam Thayaparan",{"$f":"VLOOKUP(B245,[1]export_1465921594229!$D246:$G9506,4,FALSE)","v":"DHD-124885"},"DHD"]
[null,"Arumuganathan Jelanthan",{"$f":"VLOOKUP(B246,[1]export_1465921594229!$D247:$G9507,4,FALSE)","v":"BLH-123274"},"BLH"]
[null,"Arumugasamy Srikandarajah",{"$f":"VLOOKUP(B247,[1]export_1465921594229!$D248:$G9508,4,FALSE)","v":"CXL-124392"},"CXL"]
[null,"Arunagirinathan Rathina",{"$f":"VLOOKUP(B248,[1]export_1465921594229!$D249:$G9509,4,FALSE)","v":"PL1-117546"},"PL1"]
[null,"Arundale Gail",{"$f":"VLOOKUP(B249,[1]export_1465921594229!$D250:$G9510,4,FALSE)","v":"BIM-123217"},"BIM"]
[null,"Ashraf Shahrukh",{"$f":"VLOOKUP(B250,[1]export_1465921594229!$D251:$G9511,4,FALSE)","v":"CMW-124130"},"CMW"]
[null,"Asli Anita",{"$f":"VLOOKUP(B251,[1]export_1465921594229!$D252:$G9512,4,FALSE)","v":"ME1-116997"},"ME1"]
[null,"Assaf Elie",{"$f":"VLOOKUP(B252,[1]export_1465921594229!$D253:$G9513,4,FALSE)","v":"BTD-660381"},"BTD"]
[null,"Assayag Serge",{"$f":"VLOOKUP(B253,[1]export_1465921594229!$D254:$G9514,4,FALSE)","v":"QX8-119788"},"QX8"]
[null,"Asselien St-Victor",{"$f":"VLOOKUP(B254,[1]export_1465921594229!$D255:$G9515,4,FALSE)","v":"T28-119887"},"T28"]
[null,"Asselin Christian",{"$f":"VLOOKUP(B255,[1]export_1465921594229!$D256:$G9516,4,FALSE)","v":"HI7-660600"},"HI7"]
[null,"Asselin Denis",{"$f":"VLOOKUP(B256,[1]export_1465921594229!$D257:$G9517,4,FALSE)","v":"961-115633"},"961"]
[null,"Asselin Denis",{"$f":"VLOOKUP(B257,[1]export_1465921594229!$D258:$G9518,4,FALSE)","v":"D32-121574"},"D32"]
[null,"Asselin Denis",{"$f":"VLOOKUP(B258,[1]export_1465921594229!$D259:$G9519,4,FALSE)","v":"KP8-116745"},{"$f":"LEFT(C258,3)","v":"KP8"}]
[null,"Asselin Line",{"$f":"VLOOKUP(B259,[1]export_1465921594229!$D260:$G9520,4,FALSE)","v":"A9H-123074"},"A9H"]
[null,"Asselin Mario",{"$f":"VLOOKUP(B260,[1]export_1465921594229!$D261:$G9521,4,FALSE)","v":"ED2-121458"},"ED2"]
[null,"Asselin Micheline",{"$f":"VLOOKUP(B261,[1]export_1465921594229!$D262:$G9522,4,FALSE)","v":"169-122503"},"169"]
[null,"Assigbe Koffi",{"$f":"VLOOKUP(B262,[1]export_1465921594229!$D263:$G9523,4,FALSE)","v":"CC6-118282"},"CC6"]
[null,"Assurances M.J.L Inc.",{"$f":"VLOOKUP(B263,[1]export_1465921594229!$D264:$G9524,4,FALSE)","v":"K99-119237"},"K99"]
[null,"Asuchak John",{"$f":"VLOOKUP(B264,[1]export_1465921594229!$D265:$G9525,4,FALSE)","v":"CEB-123916"},"CEB"]
[null,"Asura Jose",{"$f":"VLOOKUP(B265,[1]export_1465921594229!$D266:$G9526,4,FALSE)","v":"L57-660066"},"L57"]
[null,"Atangana Paul",{"$f":"VLOOKUP(B266,[1]export_1465921594229!$D267:$G9527,4,FALSE)","v":"NW5-117259"},"NW5"]
[null,"Athanasakos Panagiota",{"$f":"VLOOKUP(B267,[1]export_1465921594229!$D268:$G9528,4,FALSE)","v":"DVY-125256"},"DVY"]
[null,"Atif Abdelmajid",{"$f":"VLOOKUP(B268,[1]export_1465921594229!$D269:$G9529,4,FALSE)","v":"D59-121595"},"D59"]
[null,"Atkinson J. Douglas",{"$f":"VLOOKUP(B269,[1]export_1465921594229!$D270:$G9530,4,FALSE)","v":"NG1-117178"},"NG1"]
[null,"Atkinson Richard",{"$f":"VLOOKUP(B270,[1]export_1465921594229!$D271:$G9531,4,FALSE)","v":"R20-120590"},"R20"]
[null,"attie andrew",{"$f":"VLOOKUP(B271,[1]export_1465921594229!$D272:$G9532,4,FALSE)","v":"DEG-124811"},"DEG"]
[null,"Atwal Jagjit",{"$f":"VLOOKUP(B272,[1]export_1465921594229!$D273:$G9533,4,FALSE)","v":"OT4-119599"},"OT4"]
[null,"Atwal Jagjit",{"$f":"VLOOKUP(B273,[1]export_1465921594229!$D274:$G9534,4,FALSE)","v":"QD4-119744"},"QD4"]
[null,"Atwal Jagjit",{"$f":"VLOOKUP(B274,[1]export_1465921594229!$D275:$G9535,4,FALSE)","v":"OT3-117401"},"OT3"]
[null,"Aube Andre",{"$f":"VLOOKUP(B275,[1]export_1465921594229!$D276:$G9536,4,FALSE)","v":"X94-660060"},"X94"]
[null,"Aube Nancy",{"$f":"VLOOKUP(B276,[1]export_1465921594229!$D277:$G9537,4,FALSE)","v":"K46-116632"},"K46"]
[null,"Aube Sylvie",{"$f":"VLOOKUP(B277,[1]export_1465921594229!$D278:$G9538,4,FALSE)","v":"N98-120836"},"N98"]
[null,"Aubert Christian",{"$f":"VLOOKUP(B278,[1]export_1465921594229!$D279:$G9539,4,FALSE)","v":"GQ2-116109"},"GQ2"]
[null,"Aubin Bernard",{"$f":"VLOOKUP(B279,[1]export_1465921594229!$D280:$G9540,4,FALSE)","v":"IE4-116340"},"IE4"]
[null,"Aubin Guy",{"$f":"VLOOKUP(B280,[1]export_1465921594229!$D281:$G9541,4,FALSE)","v":"FG3-118715"},"FG3"]
[null,"Aubrais Alain",{"$f":"VLOOKUP(B281,[1]export_1465921594229!$D282:$G9542,4,FALSE)","v":"I20-119086"},"I20"]
[null,"Aubut Alain",{"$f":"VLOOKUP(B282,[1]export_1465921594229!$D283:$G9543,4,FALSE)","v":"K08-121071"},"K08"]
[null,"Auclair Christian",{"$f":"VLOOKUP(B283,[1]export_1465921594229!$D284:$G9544,4,FALSE)","v":"BPI-660355"},"BPI"]
[null,"Auclair Eric",{"$f":"VLOOKUP(B284,[1]export_1465921594229!$D285:$G9545,4,FALSE)","v":"PT7-115620"},"PT7"]
[null,"Auclair Eric",{"$f":"VLOOKUP(B285,[1]export_1465921594229!$D286:$G9546,4,FALSE)","v":"BZJ-570194"},"BZJ"]
[null,"Auclair Michel",{"$f":"VLOOKUP(B286,[1]export_1465921594229!$D287:$G9547,4,FALSE)","v":"Z61-120082"},"Z61"]
[null,"Audet Albert",{"$f":"VLOOKUP(B287,[1]export_1465921594229!$D288:$G9548,4,FALSE)","v":"F66-118669"},"F66"]
[null,"Audet Bernard",{"$f":"VLOOKUP(B288,[1]export_1465921594229!$D289:$G9549,4,FALSE)","v":"CO1-121635"},"CO1"]
[null,"Audet Martin",{"$f":"VLOOKUP(B289,[1]export_1465921594229!$D290:$G9550,4,FALSE)","v":"U31-117937"},"U31"]
[null,"Audette Richard",{"$f":"VLOOKUP(B290,[1]export_1465921594229!$D291:$G9551,4,FALSE)","v":"DEI-124813"},"DEI"]
[null,"Audige Marlene",{"$f":"VLOOKUP(B291,[1]export_1465921594229!$D292:$G9552,4,FALSE)","v":"A99-122031"},"A99"]
[null,"Audy France",{"$f":"VLOOKUP(B292,[1]export_1465921594229!$D293:$G9553,4,FALSE)","v":"S52-120624"},"S52"]
[null,"Audy France",{"$f":"VLOOKUP(B293,[1]export_1465921594229!$D294:$G9554,4,FALSE)","v":"G22-121336"},"G22"]
[null,"Aufranc Jean",{"$f":"VLOOKUP(B294,[1]export_1465921594229!$D295:$G9555,4,FALSE)","v":"HR2-660368"},"HR2"]
[null,"Auger Christine",{"$f":"VLOOKUP(B295,[1]export_1465921594229!$D296:$G9556,4,FALSE)","v":"316-122346"},"316"]
[null,"Auger Danielle",{"$f":"VLOOKUP(B296,[1]export_1465921594229!$D297:$G9557,4,FALSE)","v":"IB8-121123"},"IB8"]
[null,"Auger Rene",{"$f":"VLOOKUP(B297,[1]export_1465921594229!$D298:$G9558,4,FALSE)","v":"GQ4-118928"},"GQ4"]
[null,"Aujla Gurpreet",{"$f":"VLOOKUP(B298,[1]export_1465921594229!$D299:$G9559,4,FALSE)","v":"MZ1-117131"},"MZ1"]
[null,"Aujla Lovepreet Kaur",{"$f":"VLOOKUP(B299,[1]export_1465921594229!$D300:$G9560,4,FALSE)","v":"DBB-124730"},"DBB"]
[null,"Aujla Shivinder",{"$f":"VLOOKUP(B300,[1]export_1465921594229!$D301:$G9561,4,FALSE)","v":"CLP-124103"},"CLP"]
[null,"Aveine Suzie",{"$f":"VLOOKUP(B301,[1]export_1465921594229!$D302:$G9562,4,FALSE)","v":"DL4-118407"},"DL4"]
[null,"Avendano Barrera Oscar",{"$f":"VLOOKUP(B302,[1]export_1465921594229!$D303:$G9563,4,FALSE)","v":"CMG-124118"},"CMG"]
[null,"Avila Joe",{"$f":"VLOOKUP(B303,[1]export_1465921594229!$D304:$G9564,4,FALSE)","v":"DTV-125201"},"DTV"]
[null,"Avila Yasmin Soraya",{"$f":"VLOOKUP(B304,[1]export_1465921594229!$D305:$G9565,4,FALSE)","v":"PN5-117563"},"PN5"]
[null,"Avila Yasmin Soraya",{"$f":"VLOOKUP(B305,[1]export_1465921594229!$D306:$G9566,4,FALSE)","v":"A8G-123048"},"A8G"]
[null,"Aviles Lidia",{"$f":"VLOOKUP(B306,[1]export_1465921594229!$D307:$G9567,4,FALSE)","v":"NF8-117176"},"NF8"]
[null,"Aviles Lidia",{"$f":"VLOOKUP(B307,[1]export_1465921594229!$D308:$G9568,4,FALSE)","v":"NF9-120841"},"NF9"]
[null,"Avisado Jenny Lynn",{"$f":"VLOOKUP(B308,[1]export_1465921594229!$D309:$G9569,4,FALSE)","v":"DDU-124799"},"DDU"]
[null,"Avoine Denis",{"$f":"VLOOKUP(B309,[1]export_1465921594229!$D310:$G9570,4,FALSE)","v":"LO6-116888"},"LO6"]
[null,"Awad Mary",{"$f":"VLOOKUP(B310,[1]export_1465921594229!$D311:$G9571,4,FALSE)","v":"BEF-502300"},"BEF"]
[null,"Axiotis Nicolaos",{"$f":"VLOOKUP(B311,[1]export_1465921594229!$D312:$G9572,4,FALSE)","v":"NR7-550757"},"NR7"]
[null,"Ayotte Jean-Philippe",{"$f":"VLOOKUP(B312,[1]export_1465921594229!$D313:$G9573,4,FALSE)","v":"CRL-124242"},"CRL"]
[null,"Ayotte Nathalie",{"$f":"VLOOKUP(B313,[1]export_1465921594229!$D314:$G9574,4,FALSE)","v":"C46-120243"},"C46"]
[null,"Ayotte Yves",{"$f":"VLOOKUP(B314,[1]export_1465921594229!$D315:$G9575,4,FALSE)","v":"H93-121179"},"H93"]
[null,"Ayre William",{"$f":"VLOOKUP(B315,[1]export_1465921594229!$D316:$G9576,4,FALSE)","v":"R23-120593"},"R23"]
[null,"Azad Feinuma",{"$f":"VLOOKUP(B316,[1]export_1465921594229!$D317:$G9577,4,FALSE)","v":"BCU-550541"},"BCU"]
[null,"Azam Muhammad",{"$f":"VLOOKUP(B317,[1]export_1465921594229!$D318:$G9578,4,FALSE)","v":"FP6-118764"},"FP6"]
[null,"Azar Tony",{"$f":"VLOOKUP(B318,[1]export_1465921594229!$D319:$G9579,4,FALSE)","v":"HG1-116188"},"HG1"]
[null,"Aziz Tarik",{"$f":"VLOOKUP(B319,[1]export_1465921594229!$D320:$G9580,4,FALSE)","v":"AF0-118112"},"AF0"]
[null,"Aziz Tarik",{"$f":"VLOOKUP(B320,[1]export_1465921594229!$D321:$G9581,4,FALSE)","v":"CBR-123858"},"CBR"]
[null,"Aziz Tarik",{"$f":"VLOOKUP(B321,[1]export_1465921594229!$D322:$G9582,4,FALSE)","v":"CBT-123860"},"CBT"]
[null,"Aziz Tarik",{"$f":"VLOOKUP(B322,[1]export_1465921594229!$D323:$G9583,4,FALSE)","v":"CBI-123849"},{"$f":"LEFT(C322,3)","v":"CBI"}]
[null,"Aziz Tarik",{"$f":"VLOOKUP(B323,[1]export_1465921594229!$D324:$G9584,4,FALSE)","v":"DJV-124950"},"DJV"]
[null,"Aziz Tarik",{"$f":"VLOOKUP(B324,[1]export_1465921594229!$D325:$G9585,4,FALSE)","v":"FW8-118798"},"FW8"]
[null,"Aziz Tarik",{"$f":"VLOOKUP(B325,[1]export_1465921594229!$D326:$G9586,4,FALSE)","v":"BNF-123310"},"BNF"]
[null,"Azrak Jasmine",{"$f":"VLOOKUP(B326,[1]export_1465921594229!$D327:$G9587,4,FALSE)","v":"QD0-660588"},"QD0"]
[null,"Azrak Zouheir",{"$f":"VLOOKUP(B327,[1]export_1465921594229!$D328:$G9588,4,FALSE)","v":"L58-120921"},"L58"]
[null,"Azzane Abdeljalil",{"$f":"VLOOKUP(B328,[1]export_1465921594229!$D329:$G9589,4,FALSE)","v":"CUO-124318"},"CUO"]
[null,"B. Idrissi M. Zakari",{"$f":"VLOOKUP(B329,[1]export_1465921594229!$D330:$G9590,4,FALSE)","v":"CAS-123834"},"CAS"]
[null,"Baazet Chakib",{"$f":"VLOOKUP(B330,[1]export_1465921594229!$D331:$G9591,4,FALSE)","v":"C9T-124696"},"C9T"]
[null,"Babakhani Behrooz",{"$f":"VLOOKUP(B331,[1]export_1465921594229!$D332:$G9592,4,FALSE)","v":"D4V-125479"},"D4V"]
[null,"Babenko Serge",{"$f":"VLOOKUP(B332,[1]export_1465921594229!$D333:$G9593,4,FALSE)","v":"N45-501309"},"N45"]
[null,"Babineau Claude",{"$f":"VLOOKUP(B333,[1]export_1465921594229!$D334:$G9594,4,FALSE)","v":"H77-116163"},"H77"]
[null,"Bacarro David",{"$f":"VLOOKUP(B334,[1]export_1465921594229!$D335:$G9595,4,FALSE)","v":"DI6-118399"},"DI6"]
[null,"Bacchet Robert",{"$f":"VLOOKUP(B335,[1]export_1465921594229!$D336:$G9596,4,FALSE)","v":"E85-118523"},"E85"]
[null,"Bacchus Imran",{"$f":"VLOOKUP(B336,[1]export_1465921594229!$D337:$G9597,4,FALSE)","v":"QE5-119752"},"QE5"]
[null,"Bacchus Imran",{"$f":"VLOOKUP(B337,[1]export_1465921594229!$D338:$G9598,4,FALSE)","v":"ON3-119581"},"ON3"]
[null,"Bacchus Imran",{"$f":"VLOOKUP(B338,[1]export_1465921594229!$D339:$G9599,4,FALSE)","v":"QG6-119762"},"QG6"]
[null,"Baciotti Patricia",{"$f":"VLOOKUP(B339,[1]export_1465921594229!$D340:$G9600,4,FALSE)","v":"AI1-115738"},"AI1"]
[null,"Badal Amit",{"$f":"VLOOKUP(B340,[1]export_1465921594229!$D341:$G9601,4,FALSE)","v":"LM2-116875"},"LM2"]
[null,"Baghdassarian Rita",{"$f":"VLOOKUP(B341,[1]export_1465921594229!$D342:$G9602,4,FALSE)","v":"GD7-116081"},"GD7"]
[null,"Bagnell Ron",{"$f":"VLOOKUP(B342,[1]export_1465921594229!$D343:$G9603,4,FALSE)","v":"V78-119971"},"V78"]
[null,"Bagri Naresh",{"$f":"VLOOKUP(B343,[1]export_1465921594229!$D344:$G9604,4,FALSE)","v":"QH6-550786"},"QH6"]
[null,"Baguidy Romero",{"$f":"VLOOKUP(B344,[1]export_1465921594229!$D345:$G9605,4,FALSE)","v":"S98-119876"},"S98"]
[null,"Baillargeon Louis",{"$f":"VLOOKUP(B345,[1]export_1465921594229!$D346:$G9606,4,FALSE)","v":"644-122165"},"644"]
[null,"Baillargeon Pierre-Luc",{"$f":"VLOOKUP(B346,[1]export_1465921594229!$D347:$G9607,4,FALSE)","v":"COO-124172"},"COO"]
[null,"Baillargeon Rina",{"$f":"VLOOKUP(B347,[1]export_1465921594229!$D348:$G9608,4,FALSE)","v":"A46-122120"},"A46"]
[null,"Baillargeon Sara",{"$f":"VLOOKUP(B348,[1]export_1465921594229!$D349:$G9609,4,FALSE)","v":"B82-121932"},"B82"]
[null,"Baillargeon Bouchard Francois",{"$f":"VLOOKUP(B349,[1]export_1465921594229!$D350:$G9610,4,FALSE)","v":"D5T-125503"},"D5T"]
[null,"Baillargeon Bouchard Francois",{"$f":"VLOOKUP(B350,[1]export_1465921594229!$D351:$G9611,4,FALSE)","v":"FD0-660110"},"FD0"]
[null,"Bain Nieva",{"$f":"VLOOKUP(B351,[1]export_1465921594229!$D352:$G9612,4,FALSE)","v":"DXQ-125300"},"DXQ"]
[null,"Bains Kulvir",{"$f":"VLOOKUP(B352,[1]export_1465921594229!$D353:$G9613,4,FALSE)","v":"ET6-118608"},"ET6"]
[null,"Baird David",{"$f":"VLOOKUP(B353,[1]export_1465921594229!$D354:$G9614,4,FALSE)","v":"AN9-550174"},"AN9"]
[null,"Baisas 01uchc Nalette",{"$f":"VLOOKUP(B354,[1]export_1465921594229!$D355:$G9615,4,FALSE)","v":"MK1-117037"},"MK1"]
[null,"Baitel Sandy",{"$f":"VLOOKUP(B355,[1]export_1465921594229!$D356:$G9616,4,FALSE)","v":"DKW-124977"},"DKW"]
[null,"Bajaj Tarun",{"$f":"VLOOKUP(B356,[1]export_1465921594229!$D357:$G9617,4,FALSE)","v":"EO6-118593"},"EO6"]
[null,"Bajwa Jatinderbir Singh",{"$f":"VLOOKUP(B357,[1]export_1465921594229!$D358:$G9618,4,FALSE)","v":"BP6-118237"},"BP6"]
[null,"Bajwa Rupinder",{"$f":"VLOOKUP(B358,[1]export_1465921594229!$D359:$G9619,4,FALSE)","v":"HJ9-116210"},"HJ9"]
[null,"Baker Adrian",{"$f":"VLOOKUP(B359,[1]export_1465921594229!$D360:$G9620,4,FALSE)","v":"LI8-119325"},"LI8"]
[null,"Baker Adrian",{"$f":"VLOOKUP(B360,[1]export_1465921594229!$D361:$G9621,4,FALSE)","v":"QF7-329616"},"QF7"]
[null,"Baker Adrian",{"$f":"VLOOKUP(B361,[1]export_1465921594229!$D362:$G9622,4,FALSE)","v":"KK7-119252"},"KK7"]
[null,"Baker Adrian",{"$f":"VLOOKUP(B362,[1]export_1465921594229!$D363:$G9623,4,FALSE)","v":"DJ0-029616"},"DJ0"]
[null,"Baker Adrian",{"$f":"VLOOKUP(B363,[1]export_1465921594229!$D364:$G9624,4,FALSE)","v":"IT2-119156"},"IT2"]
[null,"Baker Adrian",{"$f":"VLOOKUP(B364,[1]export_1465921594229!$D365:$G9625,4,FALSE)","v":"QD5-119745"},"QD5"]
[null,"Baker Robert",{"$f":"VLOOKUP(B365,[1]export_1465921594229!$D366:$G9626,4,FALSE)","v":"X41-117995"},"X41"]
[null,"Baku Makiadi",{"$f":"VLOOKUP(B366,[1]export_1465921594229!$D367:$G9627,4,FALSE)","v":"DH4-121511"},"DH4"]
[null,"Bala Ponniah",{"$f":"VLOOKUP(B367,[1]export_1465921594229!$D368:$G9628,4,FALSE)","v":"DYM-125322"},"DYM"]
[null,"Balachandran Bavani",{"$f":"VLOOKUP(B368,[1]export_1465921594229!$D369:$G9629,4,FALSE)","v":"MI6-117026"},"MI6"]
[null,"Balachandran Nimalan",{"$f":"VLOOKUP(B369,[1]export_1465921594229!$D370:$G9630,4,FALSE)","v":"B6R-123733"},"B6R"]
[null,"Balan Eugene",{"$f":"VLOOKUP(B370,[1]export_1465921594229!$D371:$G9631,4,FALSE)","v":"OL0-117351"},"OL0"]
[null,"Balan Marius",{"$f":"VLOOKUP(B371,[1]export_1465921594229!$D372:$G9632,4,FALSE)","v":"B1H-660460"},"B1H"]
[null,"Balanco Victor",{"$f":"VLOOKUP(B372,[1]export_1465921594229!$D373:$G9633,4,FALSE)","v":"IT8-116419"},"IT8"]
[null,"Balanon Jonathan",{"$f":"VLOOKUP(B373,[1]export_1465921594229!$D374:$G9634,4,FALSE)","v":"CAN-123829"},"CAN"]
[null,"Balasingam Sabesh",{"$f":"VLOOKUP(B374,[1]export_1465921594229!$D375:$G9635,4,FALSE)","v":"A8X-550841"},"A8X"]
[null,"Balasoiu Stefania",{"$f":"VLOOKUP(B375,[1]export_1465921594229!$D376:$G9636,4,FALSE)","v":"C7A-124627"},"C7A"]
[null,"Balasundaram Thakschajini",{"$f":"VLOOKUP(B376,[1]export_1465921594229!$D377:$G9637,4,FALSE)","v":"BAJ-123097"},"BAJ"]
[null,"Baldwin Allan",{"$f":"VLOOKUP(B377,[1]export_1465921594229!$D378:$G9638,4,FALSE)","v":"FL1-118739"},"FL1"]
[null,"Balgobin Menawattie",{"$f":"VLOOKUP(B378,[1]export_1465921594229!$D379:$G9639,4,FALSE)","v":"QN9-117740"},"QN9"]
[null,"Balingit Joseph",{"$f":"VLOOKUP(B379,[1]export_1465921594229!$D380:$G9640,4,FALSE)","v":"CYG-124412"},"CYG"]
[null,"Ball Jayson",{"$f":"VLOOKUP(B380,[1]export_1465921594229!$D381:$G9641,4,FALSE)","v":"AW8-118096"},"AW8"]
[null,"Ball William S",{"$f":"VLOOKUP(B381,[1]export_1465921594229!$D382:$G9642,4,FALSE)","v":"KV4-550664"},"KV4"]
[null,"Ballard Benoit",{"$f":"VLOOKUP(B382,[1]export_1465921594229!$D383:$G9643,4,FALSE)","v":"I77-121107"},"I77"]
[null,"Ballard Benoit",{"$f":"VLOOKUP(B383,[1]export_1465921594229!$D384:$G9644,4,FALSE)","v":"F78-118672"},"F78"]
[null,"Ballard Robert",{"$f":"VLOOKUP(B384,[1]export_1465921594229!$D385:$G9645,4,FALSE)","v":"E51-118502"},"E51"]
[null,"Balley Punam",{"$f":"VLOOKUP(B385,[1]export_1465921594229!$D386:$G9646,4,FALSE)","v":"KG8-116692"},"KG8"]
[null,"Ballis Steven",{"$f":"VLOOKUP(B386,[1]export_1465921594229!$D387:$G9647,4,FALSE)","v":"HZ2-118061"},{"$f":"LEFT(C386,3)","v":"HZ2"}]
[null,"Ballon Delia",{"$f":"VLOOKUP(B387,[1]export_1465921594229!$D388:$G9648,4,FALSE)","v":"CJQ-124055"},"CJQ"]
[null,"Balta Nicolle",{"$f":"VLOOKUP(B388,[1]export_1465921594229!$D389:$G9649,4,FALSE)","v":"BVL-502321"},"BVL"]
[null,"Baltazar Jeremy Charles",{"$f":"VLOOKUP(B389,[1]export_1465921594229!$D390:$G9650,4,FALSE)","v":"BWJ-123490"},"BWJ"]
[null,"Baltazar Maria Fe",{"$f":"VLOOKUP(B390,[1]export_1465921594229!$D391:$G9651,4,FALSE)","v":"BWI-123489"},"BWI"]
[null,"Balthazard Daniel",{"$f":"VLOOKUP(B391,[1]export_1465921594229!$D392:$G9652,4,FALSE)","v":"C78-121707"},"C78"]
[null,"Bamba Ibrahim",{"$f":"VLOOKUP(B392,[1]export_1465921594229!$D393:$G9653,4,FALSE)","v":"DUA-125206"},"DUA"]
[null,"Bambiha Amrinder",{"$f":"VLOOKUP(B393,[1]export_1465921594229!$D394:$G9654,4,FALSE)","v":"BLN-123279"},"BLN"]
[null,"Bandiera Nida",{"$f":"VLOOKUP(B394,[1]export_1465921594229!$D395:$G9655,4,FALSE)","v":"BHQ-123196"},"BHQ"]
[null,"Bandiola Mary Gwaine",{"$f":"VLOOKUP(B395,[1]export_1465921594229!$D396:$G9656,4,FALSE)","v":"CQN-124218"},"CQN"]
[null,"Bang Dongson",{"$f":"VLOOKUP(B396,[1]export_1465921594229!$D397:$G9657,4,FALSE)","v":"QO2-119778"},"QO2"]
[null,"Bang Dongson",{"$f":"VLOOKUP(B397,[1]export_1465921594229!$D398:$G9658,4,FALSE)","v":"PT9-119660"},"PT9"]
[null,"Bang Dongson",{"$f":"VLOOKUP(B398,[1]export_1465921594229!$D399:$G9659,4,FALSE)","v":"QO1-119777"},"QO1"]
[null,"Banga Pushpa",{"$f":"VLOOKUP(B399,[1]export_1465921594229!$D400:$G9660,4,FALSE)","v":"FH2-118718"},"FH2"]
[null,"Bangarasamy Chandrasekaran",{"$f":"VLOOKUP(B400,[1]export_1465921594229!$D401:$G9661,4,FALSE)","v":"BEZ-123139"},"BEZ"]
[null,"Bangue Emmanuel",{"$f":"VLOOKUP(B401,[1]export_1465921594229!$D402:$G9662,4,FALSE)","v":{"$error":"#N/A"}},{"$error":"#N/A"}]
[null,"Bannister Michael",{"$f":"VLOOKUP(B402,[1]export_1465921594229!$D403:$G9663,4,FALSE)","v":"AO8-121953"},"AO8"]
[null,"Bannister Michael",{"$f":"VLOOKUP(B403,[1]export_1465921594229!$D404:$G9664,4,FALSE)","v":"AO7-121952"},"AO7"]
[null,"Bansal Preeti",{"$f":"VLOOKUP(B404,[1]export_1465921594229!$D405:$G9665,4,FALSE)","v":"BTO-550873"},"BTO"]
[null,"Bansal Yogesh",{"$f":"VLOOKUP(B405,[1]export_1465921594229!$D406:$G9666,4,FALSE)","v":"JU9-116590"},"JU9"]
[null,"Banville Yves",{"$f":"VLOOKUP(B406,[1]export_1465921594229!$D407:$G9667,4,FALSE)","v":"O27-117281"},"O27"]
[null,"Banville Yves",{"$f":"VLOOKUP(B407,[1]export_1465921594229!$D408:$G9668,4,FALSE)","v":"O71-120746"},"O71"]
[null,"Banwait Amarjit Singh",{"$f":"VLOOKUP(B408,[1]export_1465921594229!$D409:$G9669,4,FALSE)","v":"KI0-116698"},"KI0"]
[null,"Banwait Jasmine",{"$f":"VLOOKUP(B409,[1]export_1465921594229!$D410:$G9670,4,FALSE)","v":"FZ3-116045"},"FZ3"]
[null,"Banwait Sukhjit",{"$f":"VLOOKUP(B410,[1]export_1465921594229!$D411:$G9671,4,FALSE)","v":"NB8-117154"},"NB8"]
[null,"Barakat Ghassan",{"$f":"VLOOKUP(B411,[1]export_1465921594229!$D412:$G9672,4,FALSE)","v":"LW9-115607"},"LW9"]
[null,"Barakat Ghassan",{"$f":"VLOOKUP(B412,[1]export_1465921594229!$D413:$G9673,4,FALSE)","v":"BZH-123553"},"BZH"]
[null,"Barakat Ghassan",{"$f":"VLOOKUP(B413,[1]export_1465921594229!$D414:$G9674,4,FALSE)","v":"C79-121708"},"C79"]
[null,"Barakat Ghassan",{"$f":"VLOOKUP(B414,[1]export_1465921594229!$D415:$G9675,4,FALSE)","v":"946-115566"},"946"]
[null,"Barakat Ghassan",{"$f":"VLOOKUP(B415,[1]export_1465921594229!$D416:$G9676,4,FALSE)","v":"BZD-123549"},"BZD"]
[null,"Barata Antonio",{"$f":"VLOOKUP(B416,[1]export_1465921594229!$D417:$G9677,4,FALSE)","v":"A9M-550840"},"A9M"]
[null,"Barbara Ronald",{"$f":"VLOOKUP(B417,[1]export_1465921594229!$D418:$G9678,4,FALSE)","v":"U37-119927"},"U37"]
[null,"Barbe Pierre",{"$f":"VLOOKUP(B418,[1]export_1465921594229!$D419:$G9679,4,FALSE)","v":"DV6-118447"},"DV6"]
[null,"Barbeau Maurice",{"$f":"VLOOKUP(B419,[1]export_1465921594229!$D420:$G9680,4,FALSE)","v":"W28-660101"},"W28"]
[null,"Barbeau Patrick JR",{"$f":"VLOOKUP(B420,[1]export_1465921594229!$D421:$G9681,4,FALSE)","v":"CRK-124241"},"CRK"]
[null,"Barber Brandee",{"$f":"VLOOKUP(B421,[1]export_1465921594229!$D422:$G9682,4,FALSE)","v":"B4G-123673"},"B4G"]
[null,"Barber Rochelle",{"$f":"VLOOKUP(B422,[1]export_1465921594229!$D423:$G9683,4,FALSE)","v":"CHE-123996"},"CHE"]
[null,"Barber William",{"$f":"VLOOKUP(B423,[1]export_1465921594229!$D424:$G9684,4,FALSE)","v":"KX6-119284"},"KX6"]
[null,"Barber William",{"$f":"VLOOKUP(B424,[1]export_1465921594229!$D425:$G9685,4,FALSE)","v":"KX7-119285"},"KX7"]
[null,"Barbour Donald",{"$f":"VLOOKUP(B425,[1]export_1465921594229!$D426:$G9686,4,FALSE)","v":"CA1-118274"},"CA1"]
[null,"Barbour Donald",{"$f":"VLOOKUP(B426,[1]export_1465921594229!$D427:$G9687,4,FALSE)","v":"CA0-121724"},"CA0"]
[null,"Barbour(P Barbour& Assoc) Paul",{"$f":"VLOOKUP(B427,[1]export_1465921594229!$D428:$G9688,4,FALSE)","v":"OT0-119596"},"OT0"]
[null,"Barbusci Franck",{"$f":"VLOOKUP(B428,[1]export_1465921594229!$D429:$G9689,4,FALSE)","v":"IT9-120174"},"IT9"]
[null,"Bardeau Bradley",{"$f":"VLOOKUP(B429,[1]export_1465921594229!$D430:$G9690,4,FALSE)","v":"W08-119984"},"W08"]
[null,"Bardgett Cajun",{"$f":"VLOOKUP(B430,[1]export_1465921594229!$D431:$G9691,4,FALSE)","v":"DAS-124721"},"DAS"]
[null,"Bardou Diane",{"$f":"VLOOKUP(B431,[1]export_1465921594229!$D432:$G9692,4,FALSE)","v":"H35-118973"},"H35"]
[null,"Bargelletti Vince",{"$f":"VLOOKUP(B432,[1]export_1465921594229!$D433:$G9693,4,FALSE)","v":"QH9-117695"},"QH9"]
[null,"Bargone Boucher Diane",{"$f":"VLOOKUP(B433,[1]export_1465921594229!$D434:$G9694,4,FALSE)","v":"G74-116064"},"G74"]
[null,"Baril Bertrand",{"$f":"VLOOKUP(B434,[1]export_1465921594229!$D435:$G9695,4,FALSE)","v":"H65-118982"},"H65"]
[null,"Baril Carole",{"$f":"VLOOKUP(B435,[1]export_1465921594229!$D436:$G9696,4,FALSE)","v":"CWS-124373"},"CWS"]
[null,"Baril Marylou",{"$f":"VLOOKUP(B436,[1]export_1465921594229!$D437:$G9697,4,FALSE)","v":"QS3-117774"},"QS3"]
[null,"Baril Michel Edouard",{"$f":"VLOOKUP(B437,[1]export_1465921594229!$D438:$G9698,4,FALSE)","v":"T35-119889"},"T35"]
[null,"Barile Laura",{"$f":"VLOOKUP(B438,[1]export_1465921594229!$D439:$G9699,4,FALSE)","v":"JT3-116574"},"JT3"]
[null,"Barile Mathieu",{"$f":"VLOOKUP(B439,[1]export_1465921594229!$D440:$G9700,4,FALSE)","v":"JT7-116578"},"JT7"]
[null,"Barker Paul",{"$f":"VLOOKUP(B440,[1]export_1465921594229!$D441:$G9701,4,FALSE)","v":"P14-501343"},"P14"]
[null,"Barker Paul",{"$f":"VLOOKUP(B441,[1]export_1465921594229!$D442:$G9702,4,FALSE)","v":"JE5-550606"},"JE5"]
[null,"Barnsdale Gregory J.",{"$f":"VLOOKUP(B442,[1]export_1465921594229!$D443:$G9703,4,FALSE)","v":"OC2-117298"},"OC2"]
[null,"Baron Yvan",{"$f":"VLOOKUP(B443,[1]export_1465921594229!$D444:$G9704,4,FALSE)","v":"J07-121160"},"J07"]
[null,"Barrett Elgin",{"$f":"VLOOKUP(B444,[1]export_1465921594229!$D445:$G9705,4,FALSE)","v":"CJZ-124064"},"CJZ"]
[null,"Barrett Joanne",{"$f":"VLOOKUP(B445,[1]export_1465921594229!$D446:$G9706,4,FALSE)","v":"OS8-550807"},"OS8"]
[null,"Barrett Joanne",{"$f":"VLOOKUP(B446,[1]export_1465921594229!$D447:$G9707,4,FALSE)","v":"OS9-119595"},"OS9"]
[null,"Barrett Pamela",{"$f":"VLOOKUP(B447,[1]export_1465921594229!$D448:$G9708,4,FALSE)","v":"B5S-123709"},"B5S"]
[null,"Barrette Christian",{"$f":"VLOOKUP(B448,[1]export_1465921594229!$D449:$G9709,4,FALSE)","v":"482-120367"},"482"]
[null,"Barrette Josee",{"$f":"VLOOKUP(B449,[1]export_1465921594229!$D450:$G9710,4,FALSE)","v":"H02-121276"},"H02"]
[null,"Barrette Julie",{"$f":"VLOOKUP(B450,[1]export_1465921594229!$D451:$G9711,4,FALSE)","v":"105-120395"},{"$f":"LEFT(C450,3)","v":"105"}]
[null,"Barrette Normand",{"$f":"VLOOKUP(B451,[1]export_1465921594229!$D452:$G9712,4,FALSE)","v":"200-122398"},"200"]
[null,"Barrette Paul Andre",{"$f":"VLOOKUP(B452,[1]export_1465921594229!$D453:$G9713,4,FALSE)","v":"O89-119553"},"O89"]
[null,"Barrette Robert",{"$f":"VLOOKUP(B453,[1]export_1465921594229!$D454:$G9714,4,FALSE)","v":"M77-120877"},"M77"]
[null,"Barriault Jacques",{"$f":"VLOOKUP(B454,[1]export_1465921594229!$D455:$G9715,4,FALSE)","v":"I27-116302"},"I27"]
[null,"Barron Paul",{"$f":"VLOOKUP(B455,[1]export_1465921594229!$D456:$G9716,4,FALSE)","v":"BFB-123141"},"BFB"]
[null,"Barrow Winston",{"$f":"VLOOKUP(B456,[1]export_1465921594229!$D457:$G9717,4,FALSE)","v":"DYB-125311"},"DYB"]
[null,"Barry Josephine",{"$f":"VLOOKUP(B457,[1]export_1465921594229!$D458:$G9718,4,FALSE)","v":"DHT-124899"},"DHT"]
[null,"Barry Mamadou Cellou",{"$f":"VLOOKUP(B458,[1]export_1465921594229!$D459:$G9719,4,FALSE)","v":"DCB-600107"},"DCB"]
[null,"Barsalou Andre",{"$f":"VLOOKUP(B459,[1]export_1465921594229!$D460:$G9720,4,FALSE)","v":"E87-118525"},"E87"]
[null,"Bartella Mario",{"$f":"VLOOKUP(B460,[1]export_1465921594229!$D461:$G9721,4,FALSE)","v":"MU7-117108"},"MU7"]
[null,"Barth Jacques",{"$f":"VLOOKUP(B461,[1]export_1465921594229!$D462:$G9722,4,FALSE)","v":"U29-117936"},"U29"]
[null,"Barth Michael",{"$f":"VLOOKUP(B462,[1]export_1465921594229!$D463:$G9723,4,FALSE)","v":"CS6-121657"},"CS6"]
[null,"Bartolo Mae Ann",{"$f":"VLOOKUP(B463,[1]export_1465921594229!$D464:$G9724,4,FALSE)","v":"CFP-123955"},"CFP"]
[null,"Bartolo Mae Ann",{"$f":"VLOOKUP(B464,[1]export_1465921594229!$D465:$G9725,4,FALSE)","v":"ME3-116999"},"ME3"]
[null,"Bartolome Danilo",{"$f":"VLOOKUP(B465,[1]export_1465921594229!$D466:$G9726,4,FALSE)","v":"GS3-118939"},"GS3"]
[null,"Barton C/O Estateguard Eric",{"$f":"VLOOKUP(B466,[1]export_1465921594229!$D467:$G9727,4,FALSE)","v":"JW0-116597"},"JW0"]
[null,"Basco Melissa",{"$f":"VLOOKUP(B467,[1]export_1465921594229!$D468:$G9728,4,FALSE)","v":"DIL-124916"},"DIL"]
[null,"Bascom John",{"$f":"VLOOKUP(B468,[1]export_1465921594229!$D469:$G9729,4,FALSE)","v":"KS8-116755"},"KS8"]
[null,"Bashaw Peter",{"$f":"VLOOKUP(B469,[1]export_1465921594229!$D470:$G9730,4,FALSE)","v":"BH1-121847"},"BH1"]
[null,"Bashaw Peter",{"$f":"VLOOKUP(B470,[1]export_1465921594229!$D471:$G9731,4,FALSE)","v":"BH2-118206"},"BH2"]
[null,"Basler John",{"$f":"VLOOKUP(B471,[1]export_1465921594229!$D472:$G9732,4,FALSE)","v":"NE8-120839"},"NE8"]
[null,"Basler John",{"$f":"VLOOKUP(B472,[1]export_1465921594229!$D473:$G9733,4,FALSE)","v":"NE7-550886"},"NE7"]
[null,"Basra Ravinderjit",{"$f":"VLOOKUP(B473,[1]export_1465921594229!$D474:$G9734,4,FALSE)","v":"BCS-550538"},"BCS"]
[null,"Basson Michael",{"$f":"VLOOKUP(B474,[1]export_1465921594229!$D475:$G9735,4,FALSE)","v":"JE3-029887"},"JE3"]
[null,"Basson Michael",{"$f":"VLOOKUP(B475,[1]export_1465921594229!$D476:$G9736,4,FALSE)","v":"DK9-118405"},"DK9"]
[null,"Basson Michael",{"$f":"VLOOKUP(B476,[1]export_1465921594229!$D477:$G9737,4,FALSE)","v":"PW4-329887"},"PW4"]
[null,"Bastide Nadine",{"$f":"VLOOKUP(B477,[1]export_1465921594229!$D478:$G9738,4,FALSE)","v":"NN4-117222"},"NN4"]
[null,"Bastien Christian",{"$f":"VLOOKUP(B478,[1]export_1465921594229!$D479:$G9739,4,FALSE)","v":"DFO-124845"},"DFO"]
[null,"Bastien Georges-Alexandre",{"$f":"VLOOKUP(B479,[1]export_1465921594229!$D480:$G9740,4,FALSE)","v":"DBK-124739"},"DBK"]
[null,"Bastien Ginette",{"$f":"VLOOKUP(B480,[1]export_1465921594229!$D481:$G9741,4,FALSE)","v":"V98-119980"},"V98"]
[null,"Bastien-Ouimet Guillaume",{"$f":"VLOOKUP(B481,[1]export_1465921594229!$D482:$G9742,4,FALSE)","v":"IK8-116375"},"IK8"]
[null,"Bath Gurjeet",{"$f":"VLOOKUP(B482,[1]export_1465921594229!$D483:$G9743,4,FALSE)","v":"FM8-118753"},"FM8"]
[null,"Bath Sukhpreet",{"$f":"VLOOKUP(B483,[1]export_1465921594229!$D484:$G9744,4,FALSE)","v":"MS0-117088"},"MS0"]
[null,"Bathurst Larry",{"$f":"VLOOKUP(B484,[1]export_1465921594229!$D485:$G9745,4,FALSE)","v":"QS2-117773"},"QS2"]
[null,"Batulayan Lucille",{"$f":"VLOOKUP(B485,[1]export_1465921594229!$D486:$G9746,4,FALSE)","v":"IQ2-116401"},"IQ2"]
[null,"Baulne Valerie",{"$f":"VLOOKUP(B486,[1]export_1465921594229!$D487:$G9747,4,FALSE)","v":{"$error":"#N/A"}},{"$error":"#N/A"}]
[null,"Bawa Sanjay",{"$f":"VLOOKUP(B487,[1]export_1465921594229!$D488:$G9748,4,FALSE)","v":"B3N-123656"},"B3N"]
[null,"Baxter Roderick",{"$f":"VLOOKUP(B488,[1]export_1465921594229!$D489:$G9749,4,FALSE)","v":"OE6-117307"},"OE6"]
[null,"Baxter-Dennis Sydney",{"$f":"VLOOKUP(B489,[1]export_1465921594229!$D490:$G9750,4,FALSE)","v":"BAF-550036"},"BAF"]
[null,"Baya Karama",{"$f":"VLOOKUP(B490,[1]export_1465921594229!$D491:$G9751,4,FALSE)","v":"C0J-124464"},"C0J"]
[null,"Bazelais Jackson Mentor",{"$f":"VLOOKUP(B491,[1]export_1465921594229!$D492:$G9752,4,FALSE)","v":"BFM-660305"},"BFM"]
[null,"Bazerji George",{"$f":"VLOOKUP(B492,[1]export_1465921594229!$D493:$G9753,4,FALSE)","v":"MX3-117125"},"MX3"]
[null,"Bazinet Stephan",{"$f":"VLOOKUP(B493,[1]export_1465921594229!$D494:$G9754,4,FALSE)","v":"B16-120217"},"B16"]
[null,"Bazowsky Wesley",{"$f":"VLOOKUP(B494,[1]export_1465921594229!$D495:$G9755,4,FALSE)","v":"T18-120647"},"T18"]
[null,"B'Dacy Eman",{"$f":"VLOOKUP(B495,[1]export_1465921594229!$D496:$G9756,4,FALSE)","v":"CZC-124432"},"CZC"]
[null,"Beach Wesley",{"$f":"VLOOKUP(B496,[1]export_1465921594229!$D497:$G9757,4,FALSE)","v":"BTN-123430"},"BTN"]
[null,"Beaton Lorri",{"$f":"VLOOKUP(B497,[1]export_1465921594229!$D498:$G9758,4,FALSE)","v":"GU9-121268"},"GU9"]
[null,"Beaton Lorri",{"$f":"VLOOKUP(B498,[1]export_1465921594229!$D499:$G9759,4,FALSE)","v":"H68-121171"},"H68"]
[null,"Beaucage Veronique",{"$f":"VLOOKUP(B499,[1]export_1465921594229!$D500:$G9760,4,FALSE)","v":"OR0-117386"},"OR0"]
[null,"Beauchamp Alain",{"$f":"VLOOKUP(B500,[1]export_1465921594229!$D501:$G9761,4,FALSE)","v":"L59-120922"},"L59"]
[null,"Beauchamp Alain",{"$f":"VLOOKUP(B501,[1]export_1465921594229!$D502:$G9762,4,FALSE)","v":"V27-117952"},"V27"]
[null,"Beauchamp Johanne",{"$f":"VLOOKUP(B502,[1]export_1465921594229!$D503:$G9763,4,FALSE)","v":"545-115710"},"545"]
[null,"Beauchamp Yollande",{"$f":"VLOOKUP(B503,[1]export_1465921594229!$D504:$G9764,4,FALSE)","v":"568-120272"},"568"]
[null,"Beauchemin Berthe",{"$f":"VLOOKUP(B504,[1]export_1465921594229!$D505:$G9765,4,FALSE)","v":"QZ5-117827"},"QZ5"]
[null,"Beauchemin Jocelyn",{"$f":"VLOOKUP(B505,[1]export_1465921594229!$D506:$G9766,4,FALSE)","v":"698-122079"},"698"]
[null,"Beauchemin Richard",{"$f":"VLOOKUP(B506,[1]export_1465921594229!$D507:$G9767,4,FALSE)","v":"CE1-121734"},"CE1"]
[null,"Beauchemin Richard",{"$f":"VLOOKUP(B507,[1]export_1465921594229!$D508:$G9768,4,FALSE)","v":"EI4-121468"},"EI4"]
[null,"Beauchemin Richard",{"$f":"VLOOKUP(B508,[1]export_1465921594229!$D509:$G9769,4,FALSE)","v":"ET4-121374"},"ET4"]
[null,"Beauchesne Eric",{"$f":"VLOOKUP(B509,[1]export_1465921594229!$D510:$G9770,4,FALSE)","v":"DMW-125026"},"DMW"]
[null,"Beaudet Brigitte",{"$f":"VLOOKUP(B510,[1]export_1465921594229!$D511:$G9771,4,FALSE)","v":"E53-118504"},"E53"]
[null,"Beaudet Gaston",{"$f":"VLOOKUP(B511,[1]export_1465921594229!$D512:$G9772,4,FALSE)","v":"O12-120730"},"O12"]
[null,"Beaudet Mario",{"$f":"VLOOKUP(B512,[1]export_1465921594229!$D513:$G9773,4,FALSE)","v":"HG6-116190"},"HG6"]
[null,"Beaudet Patrick",{"$f":"VLOOKUP(B513,[1]export_1465921594229!$D514:$G9774,4,FALSE)","v":"DEA-124805"},"DEA"]
[null,"Beaudette-Pellerin Pegguy",{"$f":"VLOOKUP(B514,[1]export_1465921594229!$D515:$G9775,4,FALSE)","v":"KM6-116725"},{"$f":"LEFT(C514,3)","v":"KM6"}]
[null,"Beaudin Denis",{"$f":"VLOOKUP(B515,[1]export_1465921594229!$D516:$G9776,4,FALSE)","v":"DF1-121502"},"DF1"]
[null,"Beaudin Eric",{"$f":"VLOOKUP(B516,[1]export_1465921594229!$D517:$G9777,4,FALSE)","v":"QH3-119769"},"QH3"]
[null,"Beaudin Eric",{"$f":"VLOOKUP(B517,[1]export_1465921594229!$D518:$G9778,4,FALSE)","v":"GO3-118920"},"GO3"]
[null,"Beaudin Jean-Guy",{"$f":"VLOOKUP(B518,[1]export_1465921594229!$D519:$G9779,4,FALSE)","v":"X31-120030"},"X31"]
[null,"Beaudin Mario",{"$f":"VLOOKUP(B519,[1]export_1465921594229!$D520:$G9780,4,FALSE)","v":"287-122327"},"287"]
[null,"Beaudin Pascal",{"$f":"VLOOKUP(B520,[1]export_1465921594229!$D521:$G9781,4,FALSE)","v":"X32-120031"},"X32"]
[null,"Beaudin Vilmond",{"$f":"VLOOKUP(B521,[1]export_1465921594229!$D522:$G9782,4,FALSE)","v":"J81-119178"},"J81"]
[null,"Beaudin Vilmond",{"$f":"VLOOKUP(B522,[1]export_1465921594229!$D523:$G9783,4,FALSE)","v":"V85-550118"},"V85"]
[null,"Beaudoin Claude",{"$f":"VLOOKUP(B523,[1]export_1465921594229!$D524:$G9784,4,FALSE)","v":"BL1-121860"},"BL1"]
[null,"Beaudoin Claude",{"$f":"VLOOKUP(B524,[1]export_1465921594229!$D525:$G9785,4,FALSE)","v":"EH1-115954"},"EH1"]
[null,"Beaudoin Daniel",{"$f":"VLOOKUP(B525,[1]export_1465921594229!$D526:$G9786,4,FALSE)","v":"W73-660602"},"W73"]
[null,"Beaudoin Daniel",{"$f":"VLOOKUP(B526,[1]export_1465921594229!$D527:$G9787,4,FALSE)","v":"A54-121997"},"A54"]
[null,"Beaudoin elise",{"$f":"VLOOKUP(B527,[1]export_1465921594229!$D528:$G9788,4,FALSE)","v":{"$error":"#N/A"}},{"$error":"#N/A"}]
[null,"Beaudoin Guylaine",{"$f":"VLOOKUP(B528,[1]export_1465921594229!$D529:$G9789,4,FALSE)","v":"A27-122110"},"A27"]
[null,"Beaudoin Jacques",{"$f":"VLOOKUP(B529,[1]export_1465921594229!$D530:$G9790,4,FALSE)","v":"Z41-660621"},"Z41"]
[null,"Beaudoin Jacques Arthur",{"$f":"VLOOKUP(B530,[1]export_1465921594229!$D531:$G9791,4,FALSE)","v":"H40-660618"},"H40"]
[null,"Beaudoin Jean-David",{"$f":"VLOOKUP(B531,[1]export_1465921594229!$D532:$G9792,4,FALSE)","v":"C39-121683"},"C39"]
[null,"Beaudoin Jean-Marc",{"$f":"VLOOKUP(B532,[1]export_1465921594229!$D533:$G9793,4,FALSE)","v":"M28-119375"},"M28"]
[null,"Beaudoin Jo-Annie",{"$f":"VLOOKUP(B533,[1]export_1465921594229!$D534:$G9794,4,FALSE)","v":"KS7-116754"},"KS7"]
[null,"Beaudoin Jonathan",{"$f":"VLOOKUP(B534,[1]export_1465921594229!$D535:$G9795,4,FALSE)","v":"CK3-121619"},"CK3"]
[null,"Beaudoin Pierre",{"$f":"VLOOKUP(B535,[1]export_1465921594229!$D536:$G9796,4,FALSE)","v":"D58-121594"},"D58"]
[null,"Beaudoin Rejean G.",{"$f":"VLOOKUP(B536,[1]export_1465921594229!$D537:$G9797,4,FALSE)","v":"623-120291"},"623"]
[null,"Beaudoin Rene",{"$f":"VLOOKUP(B537,[1]export_1465921594229!$D538:$G9798,4,FALSE)","v":"DR7-121545"},"DR7"]
[null,"Beaudoin Serge",{"$f":"VLOOKUP(B538,[1]export_1465921594229!$D539:$G9799,4,FALSE)","v":"E89-660672"},"E89"]
[null,"Beaudoin Stephane",{"$f":"VLOOKUP(B539,[1]export_1465921594229!$D540:$G9800,4,FALSE)","v":"S90-119869"},"S90"]
[null,"Beaudry Lisette",{"$f":"VLOOKUP(B540,[1]export_1465921594229!$D541:$G9801,4,FALSE)","v":"G38-660201"},"G38"]
[null,"Beaudry Maxime",{"$f":"VLOOKUP(B541,[1]export_1465921594229!$D542:$G9802,4,FALSE)","v":"Z24-120450"},"Z24"]
[null,"Beaudry Bessette David",{"$f":"VLOOKUP(B542,[1]export_1465921594229!$D543:$G9803,4,FALSE)","v":"C4J-124564"},"C4J"]
[null,"Beauger Jean-Eddy",{"$f":"VLOOKUP(B543,[1]export_1465921594229!$D544:$G9804,4,FALSE)","v":"BDO-123121"},"BDO"]
[null,"Beaulac Michel",{"$f":"VLOOKUP(B544,[1]export_1465921594229!$D545:$G9805,4,FALSE)","v":"U84-117946"},"U84"]
[null,"Beaulac Simon",{"$f":"VLOOKUP(B545,[1]export_1465921594229!$D546:$G9806,4,FALSE)","v":"LS4-119358"},"LS4"]
[null,"Beaulac Simon",{"$f":"VLOOKUP(B546,[1]export_1465921594229!$D547:$G9807,4,FALSE)","v":"U85-119943"},"U85"]
[null,"Beaulieu Ghislain",{"$f":"VLOOKUP(B547,[1]export_1465921594229!$D548:$G9808,4,FALSE)","v":"HE0-119023"},"HE0"]
[null,"Beaulieu Ghislain",{"$f":"VLOOKUP(B548,[1]export_1465921594229!$D549:$G9809,4,FALSE)","v":"QZ6-117828"},"QZ6"]
[null,"Beaulieu Hugues",{"$f":"VLOOKUP(B549,[1]export_1465921594229!$D550:$G9810,4,FALSE)","v":"DUP-125221"},"DUP"]
[null,"Beaulieu Isabelle",{"$f":"VLOOKUP(B550,[1]export_1465921594229!$D551:$G9811,4,FALSE)","v":"X06-117988"},"X06"]
[null,"Beaulieu Jean",{"$f":"VLOOKUP(B551,[1]export_1465921594229!$D552:$G9812,4,FALSE)","v":"CZ9-115867"},"CZ9"]
[null,"Beaulieu Laury",{"$f":"VLOOKUP(B552,[1]export_1465921594229!$D553:$G9813,4,FALSE)","v":"AL9-118138"},"AL9"]
[null,"Beaulieu Laury",{"$f":"VLOOKUP(B553,[1]export_1465921594229!$D554:$G9814,4,FALSE)","v":"699-120309"},"699"]
[null,"Beaulieu Lise",{"$f":"VLOOKUP(B554,[1]export_1465921594229!$D555:$G9815,4,FALSE)","v":"M27-120858"},"M27"]
[null,"Beaulieu Luc",{"$f":"VLOOKUP(B555,[1]export_1465921594229!$D556:$G9816,4,FALSE)","v":"I89-119115"},"I89"]
[null,"Beaulieu Marthe",{"$f":"VLOOKUP(B556,[1]export_1465921594229!$D557:$G9817,4,FALSE)","v":"W74-120007"},"W74"]
[null,"Beaulieu Paul",{"$f":"VLOOKUP(B557,[1]export_1465921594229!$D558:$G9818,4,FALSE)","v":"L60-120923"},"L60"]
[null,"Beaulieu Pierre",{"$f":"VLOOKUP(B558,[1]export_1465921594229!$D559:$G9819,4,FALSE)","v":"BR5-121752"},"BR5"]
[null,"Beaulieu Vanessa",{"$f":"VLOOKUP(B559,[1]export_1465921594229!$D560:$G9820,4,FALSE)","v":"PM0-117553"},"PM0"]
[null,"Beaulne Robert",{"$f":"VLOOKUP(B560,[1]export_1465921594229!$D561:$G9821,4,FALSE)","v":"BQ8-118240"},"BQ8"]
[null,"Beaulne Robert",{"$f":"VLOOKUP(B561,[1]export_1465921594229!$D562:$G9822,4,FALSE)","v":"X16-120508"},"X16"]
[null,"Beaumier Lorraine",{"$f":"VLOOKUP(B562,[1]export_1465921594229!$D563:$G9823,4,FALSE)","v":"G36-118825"},"G36"]
[null,"Beaumier Marc-Andre",{"$f":"VLOOKUP(B563,[1]export_1465921594229!$D564:$G9824,4,FALSE)","v":"HX0-116285"},"HX0"]
[null,"Beaumont Annie",{"$f":"VLOOKUP(B564,[1]export_1465921594229!$D565:$G9825,4,FALSE)","v":"LU9-660549"},"LU9"]
[null,"Beaumont Josee",{"$f":"VLOOKUP(B565,[1]export_1465921594229!$D566:$G9826,4,FALSE)","v":{"$error":"#N/A"}},{"$error":"#N/A"}]
[null,"Beaumont Mathieu",{"$f":"VLOOKUP(B566,[1]export_1465921594229!$D567:$G9827,4,FALSE)","v":"C80-121709"},"C80"]
[null,"Beaumont Patrick",{"$f":"VLOOKUP(B567,[1]export_1465921594229!$D568:$G9828,4,FALSE)","v":"J89-660550"},"J89"]
[null,"Beaumont-Vezina Frederique",{"$f":"VLOOKUP(B568,[1]export_1465921594229!$D569:$G9829,4,FALSE)","v":{"$error":"#N/A"}},{"$error":"#N/A"}]
[null,"Beauparlant Diane",{"$f":"VLOOKUP(B569,[1]export_1465921594229!$D570:$G9830,4,FALSE)","v":"O51-117288"},"O51"]
[null,"Beaupre Guy",{"$f":"VLOOKUP(B570,[1]export_1465921594229!$D571:$G9831,4,FALSE)","v":"NL2-117211"},"NL2"]
[null,"Beaupre Marie",{"$f":"VLOOKUP(B571,[1]export_1465921594229!$D572:$G9832,4,FALSE)","v":"EQ3-118598"},"EQ3"]
[null,"Beaupre Robert",{"$f":"VLOOKUP(B572,[1]export_1465921594229!$D573:$G9833,4,FALSE)","v":"CBG-123847"},"CBG"]
[null,"Beaupre Robert",{"$f":"VLOOKUP(B573,[1]export_1465921594229!$D574:$G9834,4,FALSE)","v":"C34-118273"},"C34"]
[null,"Beauregard Alain",{"$f":"VLOOKUP(B574,[1]export_1465921594229!$D575:$G9835,4,FALSE)","v":"HH3-121189"},"HH3"]
[null,"Beauregard Denis",{"$f":"VLOOKUP(B575,[1]export_1465921594229!$D576:$G9836,4,FALSE)","v":"KV6-116774"},"KV6"]
[null,"Beauregard Donald",{"$f":"VLOOKUP(B576,[1]export_1465921594229!$D577:$G9837,4,FALSE)","v":"M43-120863"},"M43"]
[null,"Beauregard François",{"$f":"VLOOKUP(B577,[1]export_1465921594229!$D578:$G9838,4,FALSE)","v":"903-115664"},"903"]
[null,"Beauregard François",{"$f":"VLOOKUP(B578,[1]export_1465921594229!$D579:$G9839,4,FALSE)","v":"G67-121352"},{"$f":"LEFT(C578,3)","v":"G67"}]
[null,"Beauregard François",{"$f":"VLOOKUP(B579,[1]export_1465921594229!$D580:$G9840,4,FALSE)","v":"FC8-121297"},"FC8"]
[null,"Beauregard Greusard Charles",{"$f":"VLOOKUP(B580,[1]export_1465921594229!$D581:$G9841,4,FALSE)","v":"BNE-123309"},"BNE"]
[null,"Beauregard St-Jacques Francis",{"$f":"VLOOKUP(B581,[1]export_1465921594229!$D582:$G9842,4,FALSE)","v":"BVF-660406"},"BVF"]
[null,"Beausejour Claude",{"$f":"VLOOKUP(B582,[1]export_1465921594229!$D583:$G9843,4,FALSE)","v":"H83-118989"},"H83"]
[null,"Beausejour Sylvain",{"$f":"VLOOKUP(B583,[1]export_1465921594229!$D584:$G9844,4,FALSE)","v":"BG7-115776"},"BG7"]
[null,"Beausoleil Jocelyn",{"$f":"VLOOKUP(B584,[1]export_1465921594229!$D585:$G9845,4,FALSE)","v":"DG4-115886"},"DG4"]
[null,"Beausoleil Nathalie",{"$f":"VLOOKUP(B585,[1]export_1465921594229!$D586:$G9846,4,FALSE)","v":"BE2-121834"},"BE2"]
[null,"Beauvais Alain",{"$f":"VLOOKUP(B586,[1]export_1465921594229!$D587:$G9847,4,FALSE)","v":"603-122137"},"603"]
[null,"Beauvais Joël",{"$f":"VLOOKUP(B587,[1]export_1465921594229!$D588:$G9848,4,FALSE)","v":"C6R-124619"},"C6R"]
[null,"Beauvais Marie",{"$f":"VLOOKUP(B588,[1]export_1465921594229!$D589:$G9849,4,FALSE)","v":"274-115697"},"274"]
[null,"Beazley Lawrence",{"$f":"VLOOKUP(B589,[1]export_1465921594229!$D590:$G9850,4,FALSE)","v":"DUZ-125231"},"DUZ"]
[null,"Bechard Caroline",{"$f":"VLOOKUP(B590,[1]export_1465921594229!$D591:$G9851,4,FALSE)","v":{"$error":"#N/A"}},{"$error":"#N/A"}]
[null,"Bedard Andre",{"$f":"VLOOKUP(B591,[1]export_1465921594229!$D592:$G9852,4,FALSE)","v":"Z82-118038"},"Z82"]
[null,"Bedard Danielle",{"$f":"VLOOKUP(B592,[1]export_1465921594229!$D593:$G9853,4,FALSE)","v":"048-122545"},"048"]
[null,"Bedard Francis",{"$f":"VLOOKUP(B593,[1]export_1465921594229!$D594:$G9854,4,FALSE)","v":"N93-120834"},"N93"]
[null,"Bedard Louis",{"$f":"VLOOKUP(B594,[1]export_1465921594229!$D595:$G9855,4,FALSE)","v":"337-122365"},"337"]
[null,"Bedard Lynda",{"$f":"VLOOKUP(B595,[1]export_1465921594229!$D596:$G9856,4,FALSE)","v":"388-122275"},"388"]
[null,"Bedard Michel",{"$f":"VLOOKUP(B596,[1]export_1465921594229!$D597:$G9857,4,FALSE)","v":"F41-660338"},"F41"]
[null,"Bedard Rejean",{"$f":"VLOOKUP(B597,[1]export_1465921594229!$D598:$G9858,4,FALSE)","v":"D1K-125393"},"D1K"]
[null,"Bedard Robert",{"$f":"VLOOKUP(B598,[1]export_1465921594229!$D599:$G9859,4,FALSE)","v":"001-122509"},"001"]
[null,"Bedard Constance",{"$f":"VLOOKUP(B599,[1]export_1465921594229!$D600:$G9860,4,FALSE)","v":{"$error":"#N/A"}},{"$error":"#N/A"}]
[null,"Bedard Valerie",{"$f":"VLOOKUP(B600,[1]export_1465921594229!$D601:$G9861,4,FALSE)","v":{"$error":"#N/A"}},{"$error":"#N/A"}]
[null,"Bedford Brad",{"$f":"VLOOKUP(B601,[1]export_1465921594229!$D602:$G9862,4,FALSE)","v":"AZ4-118184"},"AZ4"]
[null,"Bedi Sarita",{"$f":"VLOOKUP(B602,[1]export_1465921594229!$D603:$G9863,4,FALSE)","v":"MG5-117017"},"MG5"]
[null,"Bedi (Savetax Solutions) Sukhpreet",{"$f":"VLOOKUP(B603,[1]export_1465921594229!$D604:$G9864,4,FALSE)","v":"GF2-116087"},"GF2"]
[null,"Bedoya Luis Horacio",{"$f":"VLOOKUP(B604,[1]export_1465921594229!$D605:$G9865,4,FALSE)","v":"CZ7-660030"},"CZ7"]
[null,"Beedasy Satyam",{"$f":"VLOOKUP(B605,[1]export_1465921594229!$D606:$G9866,4,FALSE)","v":"W46-120485"},"W46"]
[null,"Beeson Kenneth",{"$f":"VLOOKUP(B606,[1]export_1465921594229!$D607:$G9867,4,FALSE)","v":"MU9-119441"},"MU9"]
[null,"Beeson Kenneth",{"$f":"VLOOKUP(B607,[1]export_1465921594229!$D608:$G9868,4,FALSE)","v":"MU8-119440"},"MU8"]
[null,"Beeson Michael",{"$f":"VLOOKUP(B608,[1]export_1465921594229!$D609:$G9869,4,FALSE)","v":"QT3-117784"},"QT3"]
[null,"Beg Dion Ratu",{"$f":"VLOOKUP(B609,[1]export_1465921594229!$D610:$G9870,4,FALSE)","v":"PM5-119653"},"PM5"]
[null,"Begin Andre",{"$f":"VLOOKUP(B610,[1]export_1465921594229!$D611:$G9871,4,FALSE)","v":"B69-121923"},"B69"]
[null,"Begin Francis",{"$f":"VLOOKUP(B611,[1]export_1465921594229!$D612:$G9872,4,FALSE)","v":"R57-660585"},"R57"]
[null,"Begin Francis",{"$f":"VLOOKUP(B612,[1]export_1465921594229!$D613:$G9873,4,FALSE)","v":"U89-119944"},"U89"]
[null,"Begin Jean-Francois",{"$f":"VLOOKUP(B613,[1]export_1465921594229!$D614:$G9874,4,FALSE)","v":"M41-116956"},"M41"]
[null,"Begin Roland",{"$f":"VLOOKUP(B614,[1]export_1465921594229!$D615:$G9875,4,FALSE)","v":"546-120263"},"546"]
[null,"Begin Vincent F",{"$f":"VLOOKUP(B615,[1]export_1465921594229!$D616:$G9876,4,FALSE)","v":"177-120411"},"177"]
[null,"Begin Daniel",{"$f":"VLOOKUP(B616,[1]export_1465921594229!$D617:$G9877,4,FALSE)","v":{"$error":"#N/A"}},{"$error":"#N/A"}]
[null,"Begley Richard",{"$f":"VLOOKUP(B617,[1]export_1465921594229!$D618:$G9878,4,FALSE)","v":"AW9-121992"},"AW9"]
[null,"Behar Robin",{"$f":"VLOOKUP(B618,[1]export_1465921594229!$D619:$G9879,4,FALSE)","v":"MM6-117056"},"MM6"]
[null,"Belaid Burhaneddine",{"$f":"VLOOKUP(B619,[1]export_1465921594229!$D620:$G9880,4,FALSE)","v":"DG6-121510"},"DG6"]
[null,"Belair Marc",{"$f":"VLOOKUP(B620,[1]export_1465921594229!$D621:$G9881,4,FALSE)","v":"LB9-116811"},"LB9"]
[null,"Belair Serge",{"$f":"VLOOKUP(B621,[1]export_1465921594229!$D622:$G9882,4,FALSE)","v":{"$error":"#N/A"}},{"$error":"#N/A"}]
[null,"Beland Danielle",{"$f":"VLOOKUP(B622,[1]export_1465921594229!$D623:$G9883,4,FALSE)","v":"210-122405"},"210"]
[null,"Beland Danielle",{"$f":"VLOOKUP(B623,[1]export_1465921594229!$D624:$G9884,4,FALSE)","v":"B26-121891"},"B26"]
[null,"Beland Francois",{"$f":"VLOOKUP(B624,[1]export_1465921594229!$D625:$G9885,4,FALSE)","v":"AO9-118150"},"AO9"]
[null,"Beland Jean",{"$f":"VLOOKUP(B625,[1]export_1465921594229!$D626:$G9886,4,FALSE)","v":"V61-120113"},"V61"]
[null,"Beland Karine",{"$f":"VLOOKUP(B626,[1]export_1465921594229!$D627:$G9887,4,FALSE)","v":"EB3-121454"},"EB3"]
[null,"Beland Majella",{"$f":"VLOOKUP(B627,[1]export_1465921594229!$D628:$G9888,4,FALSE)","v":"W30-117973"},"W30"]
[null,"Beland Philippe",{"$f":"VLOOKUP(B628,[1]export_1465921594229!$D629:$G9889,4,FALSE)","v":"HV5-660634"},"HV5"]
[null,"Belanger Andre",{"$f":"VLOOKUP(B629,[1]export_1465921594229!$D630:$G9890,4,FALSE)","v":"S16-119840"},"S16"]
[null,"Belanger Annie",{"$f":"VLOOKUP(B630,[1]export_1465921594229!$D631:$G9891,4,FALSE)","v":"G31-116052"},"G31"]
[null,"Belanger Bruno",{"$f":"VLOOKUP(B631,[1]export_1465921594229!$D632:$G9892,4,FALSE)","v":"F43-660306"},"F43"]
[null,"Belanger Camille",{"$f":"VLOOKUP(B632,[1]export_1465921594229!$D633:$G9893,4,FALSE)","v":"K47-116633"},"K47"]
[null,"Belanger Carl",{"$f":"VLOOKUP(B633,[1]export_1465921594229!$D634:$G9894,4,FALSE)","v":"DC2-660636"},"DC2"]
[null,"Belanger France",{"$f":"VLOOKUP(B634,[1]export_1465921594229!$D635:$G9895,4,FALSE)","v":"137-122479"},"137"]
[null,"Belanger Francine",{"$f":"VLOOKUP(B635,[1]export_1465921594229!$D636:$G9896,4,FALSE)","v":"K79-120988"},"K79"]
[null,"Belanger Jacques",{"$f":"VLOOKUP(B636,[1]export_1465921594229!$D637:$G9897,4,FALSE)","v":"M70-120872"},"M70"]
[null,"Belanger Lise",{"$f":"VLOOKUP(B637,[1]export_1465921594229!$D638:$G9898,4,FALSE)","v":"O62-120744"},"O62"]
[null,"Belanger Marcel",{"$f":"VLOOKUP(B638,[1]export_1465921594229!$D639:$G9899,4,FALSE)","v":"F74-121412"},"F74"]
[null,"Belanger Marie-Eve",{"$f":"VLOOKUP(B639,[1]export_1465921594229!$D640:$G9900,4,FALSE)","v":"JZ9-660077"},"JZ9"]
[null,"Belanger Rene",{"$f":"VLOOKUP(B640,[1]export_1465921594229!$D641:$G9901,4,FALSE)","v":"I81-119113"},"I81"]
[null,"Belanger Serge",{"$f":"VLOOKUP(B641,[1]export_1465921594229!$D642:$G9902,4,FALSE)","v":"Z97-118042"},"Z97"]
[null,"Belanger Vianney",{"$f":"VLOOKUP(B642,[1]export_1465921594229!$D643:$G9903,4,FALSE)","v":"332-122360"},{"$f":"LEFT(C642,3)","v":"332"}]
[null,"Belanger Jean-François",{"$f":"VLOOKUP(B643,[1]export_1465921594229!$D644:$G9904,4,FALSE)","v":{"$error":"#N/A"}},{"$error":"#N/A"}]
[null,"Belanger Jessica",{"$f":"VLOOKUP(B644,[1]export_1465921594229!$D645:$G9905,4,FALSE)","v":{"$error":"#N/A"}},{"$error":"#N/A"}]
[null,"Belantes Rick",{"$f":"VLOOKUP(B645,[1]export_1465921594229!$D646:$G9906,4,FALSE)","v":"BRU-302229"},"BRU"]
[null,"Belantes Rick",{"$f":"VLOOKUP(B646,[1]export_1465921594229!$D647:$G9907,4,FALSE)","v":"PS7-117605"},"PS7"]
[null,"Beldor Auguste J.",{"$f":"VLOOKUP(B647,[1]export_1465921594229!$D648:$G9908,4,FALSE)","v":"B27-120220"},"B27"]
[null,"Belisle Louis",{"$f":"VLOOKUP(B648,[1]export_1465921594229!$D649:$G9909,4,FALSE)","v":"054-122548"},"054"]
[null,"Belisle Melissa",{"$f":"VLOOKUP(B649,[1]export_1465921594229!$D650:$G9910,4,FALSE)","v":{"$error":"#N/A"}},{"$error":"#N/A"}]
[null,"Belisle Nicolas",{"$f":"VLOOKUP(B650,[1]export_1465921594229!$D651:$G9911,4,FALSE)","v":"Q76-660053"},"Q76"]
[null,"Belisle Stephanie",{"$f":"VLOOKUP(B651,[1]export_1465921594229!$D652:$G9912,4,FALSE)","v":{"$error":"#N/A"}},{"$error":"#N/A"}]
[null,"Beliveau Gerard",{"$f":"VLOOKUP(B652,[1]export_1465921594229!$D653:$G9913,4,FALSE)","v":"O24-120734"},"O24"]
[null,"Beliveau Luc",{"$f":"VLOOKUP(B653,[1]export_1465921594229!$D654:$G9914,4,FALSE)","v":"428-122303"},"428"]
[null,"Beliveau Martin",{"$f":"VLOOKUP(B654,[1]export_1465921594229!$D655:$G9915,4,FALSE)","v":"FT6-660524"},"FT6"]
[null,"Beliveau Annie",{"$f":"VLOOKUP(B655,[1]export_1465921594229!$D656:$G9916,4,FALSE)","v":{"$error":"#N/A"}},{"$error":"#N/A"}]
[null,"Beljour Enance",{"$f":"VLOOKUP(B656,[1]export_1465921594229!$D657:$G9917,4,FALSE)","v":"PN1-117560"},"PN1"]
[null,"Belkacemi Hassan",{"$f":"VLOOKUP(B657,[1]export_1465921594229!$D658:$G9918,4,FALSE)","v":"B7I-123750"},"B7I"]
[null,"Bell Alexander",{"$f":"VLOOKUP(B658,[1]export_1465921594229!$D659:$G9919,4,FALSE)","v":"DNX-125053"},"DNX"]
[null,"Bell J. Ronald",{"$f":"VLOOKUP(B659,[1]export_1465921594229!$D660:$G9920,4,FALSE)","v":"D1N-125396"},"D1N"]
[null,"Bell John",{"$f":"VLOOKUP(B660,[1]export_1465921594229!$D661:$G9921,4,FALSE)","v":"BZ1-121775"},"BZ1"]
[null,"Bell Marie Royal",{"$f":"VLOOKUP(B661,[1]export_1465921594229!$D662:$G9922,4,FALSE)","v":"P15-120774"},"P15"]
[null,"Bell Marie Royal",{"$f":"VLOOKUP(B662,[1]export_1465921594229!$D663:$G9923,4,FALSE)","v":"FW4-118795"},"FW4"]
[null,"Bell Marie Royal",{"$f":"VLOOKUP(B663,[1]export_1465921594229!$D664:$G9924,4,FALSE)","v":"KL9-116719"},"KL9"]
[null,"Belle Georges",{"$f":"VLOOKUP(B664,[1]export_1465921594229!$D665:$G9925,4,FALSE)","v":"BP8-115797"},"BP8"]
[null,"Belle Laura",{"$f":"VLOOKUP(B665,[1]export_1465921594229!$D666:$G9926,4,FALSE)","v":"GE3-116083"},"GE3"]
[null,"Belleau Ginette",{"$f":"VLOOKUP(B666,[1]export_1465921594229!$D667:$G9927,4,FALSE)","v":"E28-118484"},"E28"]
[null,"Belleau Richard",{"$f":"VLOOKUP(B667,[1]export_1465921594229!$D668:$G9928,4,FALSE)","v":"G71-116062"},"G71"]
[null,"Bellefleur Eric",{"$f":"VLOOKUP(B668,[1]export_1465921594229!$D669:$G9929,4,FALSE)","v":"T15-119882"},"T15"]
[null,"Bellefleur Martin",{"$f":"VLOOKUP(B669,[1]export_1465921594229!$D670:$G9930,4,FALSE)","v":"587-120278"},"587"]
[null,"Bellerive Jacques",{"$f":"VLOOKUP(B670,[1]export_1465921594229!$D671:$G9931,4,FALSE)","v":"X13-120022"},"X13"]
[null,"Bellerive Martin",{"$f":"VLOOKUP(B671,[1]export_1465921594229!$D672:$G9932,4,FALSE)","v":"X08-660042"},"X08"]
[null,"Bellerose Michel",{"$f":"VLOOKUP(B672,[1]export_1465921594229!$D673:$G9933,4,FALSE)","v":"L61-120924"},"L61"]
[null,"Bellerose Michel",{"$f":"VLOOKUP(B673,[1]export_1465921594229!$D674:$G9934,4,FALSE)","v":"O92-660715"},"O92"]
[null,"Belley Danielle",{"$f":"VLOOKUP(B674,[1]export_1465921594229!$D675:$G9935,4,FALSE)","v":"A77-115719"},"A77"]
[null,"Belley Henri",{"$f":"VLOOKUP(B675,[1]export_1465921594229!$D676:$G9936,4,FALSE)","v":"CXI-124389"},"CXI"]
[null,"Belley Jean-David",{"$f":"VLOOKUP(B676,[1]export_1465921594229!$D677:$G9937,4,FALSE)","v":"MU1-117103"},"MU1"]
[null,"Belli Giuseppe",{"$f":"VLOOKUP(B677,[1]export_1465921594229!$D678:$G9938,4,FALSE)","v":"921-115565"},"921"]
[null,"Belli Giuseppe",{"$f":"VLOOKUP(B678,[1]export_1465921594229!$D679:$G9939,4,FALSE)","v":"EF3-501079"},"EF3"]
[null,"Belliveau Jean",{"$f":"VLOOKUP(B679,[1]export_1465921594229!$D680:$G9940,4,FALSE)","v":"MT2-117096"},"MT2"]
[null,"Belzile Gaston",{"$f":"VLOOKUP(B680,[1]export_1465921594229!$D681:$G9941,4,FALSE)","v":"NQ3-117238"},"NQ3"]
[null,"Belzile Nathalie",{"$f":"VLOOKUP(B681,[1]export_1465921594229!$D682:$G9942,4,FALSE)","v":"HI6-116202"},"HI6"]
[null,"Benamron David",{"$f":"VLOOKUP(B682,[1]export_1465921594229!$D683:$G9943,4,FALSE)","v":"U04-660590"},"U04"]
[null,"Benard Yves",{"$f":"VLOOKUP(B683,[1]export_1465921594229!$D684:$G9944,4,FALSE)","v":"BI2-122045"},"BI2"]
[null,"Benard Yves",{"$f":"VLOOKUP(B684,[1]export_1465921594229!$D685:$G9945,4,FALSE)","v":"AE8-550304"},"AE8"]
[null,"Bendijo John",{"$f":"VLOOKUP(B685,[1]export_1465921594229!$D686:$G9946,4,FALSE)","v":"GA7-118854"},"GA7"]
[null,"Benedicto Teresita",{"$f":"VLOOKUP(B686,[1]export_1465921594229!$D687:$G9947,4,FALSE)","v":"DG3-121508"},"DG3"]
[null,"Benet Rajinder",{"$f":"VLOOKUP(B687,[1]export_1465921594229!$D688:$G9948,4,FALSE)","v":"CUG-124310"},"CUG"]
[null,"Benhbibi Mohammed",{"$f":"VLOOKUP(B688,[1]export_1465921594229!$D689:$G9949,4,FALSE)","v":"BAC-123093"},"BAC"]
[null,"Benitez Gabriela",{"$f":"VLOOKUP(B689,[1]export_1465921594229!$D690:$G9950,4,FALSE)","v":"CEU-123935"},"CEU"]
[null,"Benitez Gabriela",{"$f":"VLOOKUP(B690,[1]export_1465921594229!$D691:$G9951,4,FALSE)","v":"OV4-117413"},"OV4"]
[null,"Benito Samuel",{"$f":"VLOOKUP(B691,[1]export_1465921594229!$D692:$G9952,4,FALSE)","v":"DDP-124794"},"DDP"]
[null,"Benmerar Amirouche",{"$f":"VLOOKUP(B692,[1]export_1465921594229!$D693:$G9953,4,FALSE)","v":"U94-119946"},"U94"]
[null,"Benn John",{"$f":"VLOOKUP(B693,[1]export_1465921594229!$D694:$G9954,4,FALSE)","v":"HU4-121206"},"HU4"]
[null,"Benner Justin",{"$f":"VLOOKUP(B694,[1]export_1465921594229!$D695:$G9955,4,FALSE)","v":"X12-120507"},"X12"]
[null,"Bennett Devon",{"$f":"VLOOKUP(B695,[1]export_1465921594229!$D696:$G9956,4,FALSE)","v":"BTL-123428"},"BTL"]
[null,"Bennett Lawrence",{"$f":"VLOOKUP(B696,[1]export_1465921594229!$D697:$G9957,4,FALSE)","v":"DW7-118453"},"DW7"]
[null,"Bennett Suzanne Grace",{"$f":"VLOOKUP(B697,[1]export_1465921594229!$D698:$G9958,4,FALSE)","v":"PP6-117583"},"PP6"]
[null,"Benneyworth Angelena",{"$f":"VLOOKUP(B698,[1]export_1465921594229!$D699:$G9959,4,FALSE)","v":"BC9-121830"},"BC9"]
[null,"Benneyworth Angelena",{"$f":"VLOOKUP(B699,[1]export_1465921594229!$D700:$G9960,4,FALSE)","v":"BC8-121829"},"BC8"]
[null,"Benoit Denis",{"$f":"VLOOKUP(B700,[1]export_1465921594229!$D701:$G9961,4,FALSE)","v":"EZ9-660530"},"EZ9"]
[null,"Benoit Eric",{"$f":"VLOOKUP(B701,[1]export_1465921594229!$D702:$G9962,4,FALSE)","v":"BVC-660399"},"BVC"]
[null,"Benoit Guy",{"$f":"VLOOKUP(B702,[1]export_1465921594229!$D703:$G9963,4,FALSE)","v":"I76-119111"},"I76"]
[null,"Benoit Hubert",{"$f":"VLOOKUP(B703,[1]export_1465921594229!$D704:$G9964,4,FALSE)","v":"O66-660184"},"O66"]
[null,"Benoit Lise",{"$f":"VLOOKUP(B704,[1]export_1465921594229!$D705:$G9965,4,FALSE)","v":"BKF-660259"},"BKF"]
[null,"Benoit Pierre",{"$f":"VLOOKUP(B705,[1]export_1465921594229!$D706:$G9966,4,FALSE)","v":"429-120339"},"429"]
[null,"Benoit Richard",{"$f":"VLOOKUP(B706,[1]export_1465921594229!$D707:$G9967,4,FALSE)","v":"AV0-660738"},{"$f":"LEFT(C706,3)","v":"AV0"}]
[null,"Berdan Bernandina C",{"$f":"VLOOKUP(B707,[1]export_1465921594229!$D708:$G9968,4,FALSE)","v":"HJ6-119037"},"HJ6"]
[null,"Bereia M. Saber",{"$f":"VLOOKUP(B708,[1]export_1465921594229!$D709:$G9969,4,FALSE)","v":"CVH-124337"},"CVH"]
[null,"Berg Martin",{"$f":"VLOOKUP(B709,[1]export_1465921594229!$D710:$G9970,4,FALSE)","v":"DM7-118409"},"DM7"]
[null,"Bergenstrom Glen",{"$f":"VLOOKUP(B710,[1]export_1465921594229!$D711:$G9971,4,FALSE)","v":"LQ3-119352"},"LQ3"]
[null,"Bergenstrom Glen",{"$f":"VLOOKUP(B711,[1]export_1465921594229!$D712:$G9972,4,FALSE)","v":"KX1-119283"},"KX1"]
[null,"Bergeron Alain",{"$f":"VLOOKUP(B712,[1]export_1465921594229!$D713:$G9973,4,FALSE)","v":"DEZ-124830"},"DEZ"]
[null,"Bergeron Anne-Marie",{"$f":"VLOOKUP(B713,[1]export_1465921594229!$D714:$G9974,4,FALSE)","v":"CBW-123863"},"CBW"]
[null,"Bergeron Anne-Marie",{"$f":"VLOOKUP(B714,[1]export_1465921594229!$D715:$G9975,4,FALSE)","v":"C40-120242"},"C40"]
[null,"Bergeron Benoit",{"$f":"VLOOKUP(B715,[1]export_1465921594229!$D716:$G9976,4,FALSE)","v":"L63-119304"},"L63"]
[null,"Bergeron Caroline",{"$f":"VLOOKUP(B716,[1]export_1465921594229!$D717:$G9977,4,FALSE)","v":"D3N-125446"},"D3N"]
[null,"Bergeron Claude",{"$f":"VLOOKUP(B717,[1]export_1465921594229!$D718:$G9978,4,FALSE)","v":"X45-660657"},"X45"]
[null,"Bergeron Denis",{"$f":"VLOOKUP(B718,[1]export_1465921594229!$D719:$G9979,4,FALSE)","v":"A39-120195"},"A39"]
[null,"Bergeron Eric",{"$f":"VLOOKUP(B719,[1]export_1465921594229!$D720:$G9980,4,FALSE)","v":"IE0-116338"},"IE0"]
[null,"Bergeron Francois",{"$f":"VLOOKUP(B720,[1]export_1465921594229!$D721:$G9981,4,FALSE)","v":"KT6-116759"},"KT6"]
[null,"Bergeron Genevieve",{"$f":"VLOOKUP(B721,[1]export_1465921594229!$D722:$G9982,4,FALSE)","v":{"$error":"#N/A"}},{"$error":"#N/A"}]
[null,"Bergeron Gilles",{"$f":"VLOOKUP(B722,[1]export_1465921594229!$D723:$G9983,4,FALSE)","v":"T52-119893"},"T52"]
[null,"Bergeron Guy",{"$f":"VLOOKUP(B723,[1]export_1465921594229!$D724:$G9984,4,FALSE)","v":"BRQ-123390"},"BRQ"]
[null,"Bergeron Guylaine",{"$f":"VLOOKUP(B724,[1]export_1465921594229!$D725:$G9985,4,FALSE)","v":"C06-121783"},"C06"]
[null,"Bergeron Irene",{"$f":"VLOOKUP(B725,[1]export_1465921594229!$D726:$G9986,4,FALSE)","v":"I65-119108"},"I65"]
[null,"Bergeron Jacinthe",{"$f":"VLOOKUP(B726,[1]export_1465921594229!$D727:$G9987,4,FALSE)","v":"PX2-117646"},"PX2"]
[null,"Bergeron Jacqueline",{"$f":"VLOOKUP(B727,[1]export_1465921594229!$D728:$G9988,4,FALSE)","v":"607-122141"},"607"]
[null,"Bergeron Jean-Francois",{"$f":"VLOOKUP(B728,[1]export_1465921594229!$D729:$G9989,4,FALSE)","v":"AV1-660153"},"AV1"]
[null,"Bergeron Joel",{"$f":"VLOOKUP(B729,[1]export_1465921594229!$D730:$G9990,4,FALSE)","v":"HZ3-119076"},"HZ3"]
[null,"Bergeron Julien",{"$f":"VLOOKUP(B730,[1]export_1465921594229!$D731:$G9991,4,FALSE)","v":"BKK-550093"},"BKK"]
[null,"Bergeron Julien",{"$f":"VLOOKUP(B731,[1]export_1465921594229!$D732:$G9992,4,FALSE)","v":"Q41-660282"},"Q41"]
[null,"Bergeron Michel",{"$f":"VLOOKUP(B732,[1]export_1465921594229!$D733:$G9993,4,FALSE)","v":"DO4-118419"},"DO4"]
[null,"Bergeron Raymond",{"$f":"VLOOKUP(B733,[1]export_1465921594229!$D734:$G9994,4,FALSE)","v":"K75-120985"},"K75"]
[null,"Bergeron Rene",{"$f":"VLOOKUP(B734,[1]export_1465921594229!$D735:$G9995,4,FALSE)","v":"I86-121113"},"I86"]
[null,"Bergeron Rene",{"$f":"VLOOKUP(B735,[1]export_1465921594229!$D736:$G9996,4,FALSE)","v":"U18-119918"},"U18"]
[null,"Bergeron Sonia-Annie",{"$f":"VLOOKUP(B736,[1]export_1465921594229!$D737:$G9997,4,FALSE)","v":"547-122234"},"547"]
[null,"Bergeron Stephane",{"$f":"VLOOKUP(B737,[1]export_1465921594229!$D738:$G9998,4,FALSE)","v":"L62-660287"},"L62"]
[null,"Berjamy Mohammed",{"$f":"VLOOKUP(B738,[1]export_1465921594229!$D739:$G9999,4,FALSE)","v":"F68-121407"},"F68"]
[null,"Bermudez Catherine I",{"$f":"VLOOKUP(B739,[1]export_1465921594229!$D740:$G10000,4,FALSE)","v":"B8C-123770"},"B8C"]
[null,"Bermudez Catherine I",{"$f":"VLOOKUP(B740,[1]export_1465921594229!$D741:$G10001,4,FALSE)","v":"KH3-121002"},"KH3"]
[null,"Bermudez Catherine I",{"$f":"VLOOKUP(B741,[1]export_1465921594229!$D742:$G10002,4,FALSE)","v":"BIP-302034"},"BIP"]
[null,"Bermudez Catherine I",{"$f":"VLOOKUP(B742,[1]export_1465921594229!$D743:$G10003,4,FALSE)","v":"KU4-121021"},"KU4"]
[null,"Bermudez Catherine I",{"$f":"VLOOKUP(B743,[1]export_1465921594229!$D744:$G10004,4,FALSE)","v":"KH4-121003"},"KH4"]
[null,"Bernard Alain",{"$f":"VLOOKUP(B744,[1]export_1465921594229!$D745:$G10005,4,FALSE)","v":"BX2-118267"},"BX2"]
[null,"Bernard Alain",{"$f":"VLOOKUP(B745,[1]export_1465921594229!$D746:$G10006,4,FALSE)","v":"K48-119231"},"K48"]
[null,"Bernard Dave",{"$f":"VLOOKUP(B746,[1]export_1465921594229!$D747:$G10007,4,FALSE)","v":"E50-118501"},"E50"]
[null,"Bernard Martin",{"$f":"VLOOKUP(B747,[1]export_1465921594229!$D748:$G10008,4,FALSE)","v":"I26-660753"},"I26"]
[null,"Bernard Nathalie",{"$f":"VLOOKUP(B748,[1]export_1465921594229!$D749:$G10009,4,FALSE)","v":"C66-120122"},"C66"]
[null,"Bernard Patrick",{"$f":"VLOOKUP(B749,[1]export_1465921594229!$D750:$G10010,4,FALSE)","v":"DGC-124859"},"DGC"]
[null,"Bernard Stephan",{"$f":"VLOOKUP(B750,[1]export_1465921594229!$D751:$G10011,4,FALSE)","v":"T84-120538"},"T84"]
[null,"Bernardin Frederic N.",{"$f":"VLOOKUP(B751,[1]export_1465921594229!$D752:$G10012,4,FALSE)","v":"A78-122015"},"A78"]
[null,"Bernardin Frederic N.",{"$f":"VLOOKUP(B752,[1]export_1465921594229!$D753:$G10013,4,FALSE)","v":"CBS-123859"},"CBS"]
[null,"Bernatchez Nelson",{"$f":"VLOOKUP(B753,[1]export_1465921594229!$D754:$G10014,4,FALSE)","v":"588-122130"},"588"]
[null,"Bernatchez Rejean",{"$f":"VLOOKUP(B754,[1]export_1465921594229!$D755:$G10015,4,FALSE)","v":"M15-119370"},"M15"]
[null,"Bernbaum Jay",{"$f":"VLOOKUP(B755,[1]export_1465921594229!$D756:$G10016,4,FALSE)","v":"LG9-116846"},"LG9"]
[null,"Berneche Claude-Andre",{"$f":"VLOOKUP(B756,[1]export_1465921594229!$D757:$G10017,4,FALSE)","v":"DXL-125295"},"DXL"]
[null,"Bernier Bertrand",{"$f":"VLOOKUP(B757,[1]export_1465921594229!$D758:$G10018,4,FALSE)","v":"320-122349"},"320"]
[null,"Bernier Daniel",{"$f":"VLOOKUP(B758,[1]export_1465921594229!$D759:$G10019,4,FALSE)","v":"GM2-118906"},"GM2"]
[null,"Bernier Daniel",{"$f":"VLOOKUP(B759,[1]export_1465921594229!$D760:$G10020,4,FALSE)","v":"L64-120925"},"L64"]
[null,"Bernier Frederic",{"$f":"VLOOKUP(B760,[1]export_1465921594229!$D761:$G10021,4,FALSE)","v":"B35-121894"},"B35"]
[null,"Bernier Marie-Claude",{"$f":"VLOOKUP(B761,[1]export_1465921594229!$D762:$G10022,4,FALSE)","v":"314-122344"},"314"]
[null,"Bernier Marie-eve",{"$f":"VLOOKUP(B762,[1]export_1465921594229!$D763:$G10023,4,FALSE)","v":{"$error":"#N/A"}},{"$error":"#N/A"}]
[null,"Bernier Normand",{"$f":"VLOOKUP(B763,[1]export_1465921594229!$D764:$G10024,4,FALSE)","v":"HZ8-116291"},"HZ8"]
[null,"Bernier Stephane",{"$f":"VLOOKUP(B764,[1]export_1465921594229!$D765:$G10025,4,FALSE)","v":{"$error":"#N/A"}},{"$error":"#N/A"}]
[null,"Berry Pierre",{"$f":"VLOOKUP(B765,[1]export_1465921594229!$D766:$G10026,4,FALSE)","v":"647-120298"},"647"]
[null,"Berthelot Michael",{"$f":"VLOOKUP(B766,[1]export_1465921594229!$D767:$G10027,4,FALSE)","v":"F60-121404"},"F60"]
[null,"Berthiaume Gerald",{"$f":"VLOOKUP(B767,[1]export_1465921594229!$D768:$G10028,4,FALSE)","v":"Q13-119677"},"Q13"]
[null,"Berthiaume Veronique",{"$f":"VLOOKUP(B768,[1]export_1465921594229!$D769:$G10029,4,FALSE)","v":"002-122510"},"002"]
[null,"Bertrand Benoit",{"$f":"VLOOKUP(B769,[1]export_1465921594229!$D770:$G10030,4,FALSE)","v":"NU2-117245"},"NU2"]
[null,"Bertrand Charles",{"$f":"VLOOKUP(B770,[1]export_1465921594229!$D771:$G10031,4,FALSE)","v":"IA3-116316"},{"$f":"LEFT(C770,3)","v":"IA3"}]
[null,"Bertrand Guy",{"$f":"VLOOKUP(B771,[1]export_1465921594229!$D772:$G10032,4,FALSE)","v":"JQ1-116555"},"JQ1"]
[null,"Bertrand Helene",{"$f":"VLOOKUP(B772,[1]export_1465921594229!$D773:$G10033,4,FALSE)","v":"AF9-122050"},"AF9"]
[null,"Bertrand Louis",{"$f":"VLOOKUP(B773,[1]export_1465921594229!$D774:$G10034,4,FALSE)","v":"146-122486"},"146"]
[null,"Bertrand Luc",{"$f":"VLOOKUP(B774,[1]export_1465921594229!$D775:$G10035,4,FALSE)","v":"E40-118493"},"E40"]
[null,"Bertrand Luc",{"$f":"VLOOKUP(B775,[1]export_1465921594229!$D776:$G10036,4,FALSE)","v":"B61-121916"},"B61"]
[null,"Bertrand Olivier",{"$f":"VLOOKUP(B776,[1]export_1465921594229!$D777:$G10037,4,FALSE)","v":"CQ3-118339"},"CQ3"]
[null,"Bertrand Real",{"$f":"VLOOKUP(B777,[1]export_1465921594229!$D778:$G10038,4,FALSE)","v":"229-120422"},"229"]
[null,"Bertrand Rejean",{"$f":"VLOOKUP(B778,[1]export_1465921594229!$D779:$G10039,4,FALSE)","v":"M25-119373"},"M25"]
[null,"Berube Annie",{"$f":"VLOOKUP(B779,[1]export_1465921594229!$D780:$G10040,4,FALSE)","v":"EE0-115946"},"EE0"]
[null,"Berube Carol",{"$f":"VLOOKUP(B780,[1]export_1465921594229!$D781:$G10041,4,FALSE)","v":"BKO-660297"},"BKO"]
[null,"Berube Dave",{"$f":"VLOOKUP(B781,[1]export_1465921594229!$D782:$G10042,4,FALSE)","v":"LE0-660461"},"LE0"]
[null,"Berube Eric",{"$f":"VLOOKUP(B782,[1]export_1465921594229!$D783:$G10043,4,FALSE)","v":"KE7-116673"},"KE7"]
[null,"Berube Gaetan",{"$f":"VLOOKUP(B783,[1]export_1465921594229!$D784:$G10044,4,FALSE)","v":"418-120335"},"418"]
[null,"Berube Jean-Guy",{"$f":"VLOOKUP(B784,[1]export_1465921594229!$D785:$G10045,4,FALSE)","v":"EO8-115966"},"EO8"]
[null,"Berube Jenny",{"$f":"VLOOKUP(B785,[1]export_1465921594229!$D786:$G10046,4,FALSE)","v":"IX3-116437"},"IX3"]
[null,"Berube Jocelyn",{"$f":"VLOOKUP(B786,[1]export_1465921594229!$D787:$G10047,4,FALSE)","v":"T36-119890"},"T36"]
[null,"Berube Laurence",{"$f":"VLOOKUP(B787,[1]export_1465921594229!$D788:$G10048,4,FALSE)","v":"237-120425"},"237"]
[null,"Berube Laval",{"$f":"VLOOKUP(B788,[1]export_1465921594229!$D789:$G10049,4,FALSE)","v":"KJ5-119250"},"KJ5"]
[null,"Berube Marc",{"$f":"VLOOKUP(B789,[1]export_1465921594229!$D790:$G10050,4,FALSE)","v":"HF6-119026"},"HF6"]
[null,"Berube Monique",{"$f":"VLOOKUP(B790,[1]export_1465921594229!$D791:$G10051,4,FALSE)","v":"484-120369"},"484"]
[null,"Berube Serge",{"$f":"VLOOKUP(B791,[1]export_1465921594229!$D792:$G10052,4,FALSE)","v":"V77-660089"},"V77"]
[null,"Berube Simon",{"$f":"VLOOKUP(B792,[1]export_1465921594229!$D793:$G10053,4,FALSE)","v":"O13-117277"},"O13"]
[null,"Berube Benoit",{"$f":"VLOOKUP(B793,[1]export_1465921594229!$D794:$G10054,4,FALSE)","v":{"$error":"#N/A"}},{"$error":"#N/A"}]
[null,"Berube Christophe",{"$f":"VLOOKUP(B794,[1]export_1465921594229!$D795:$G10055,4,FALSE)","v":{"$error":"#N/A"}},{"$error":"#N/A"}]
[null,"Berube François",{"$f":"VLOOKUP(B795,[1]export_1465921594229!$D796:$G10056,4,FALSE)","v":{"$error":"#N/A"}},{"$error":"#N/A"}]
[null,"Berube Isabelle",{"$f":"VLOOKUP(B796,[1]export_1465921594229!$D797:$G10057,4,FALSE)","v":{"$error":"#N/A"}},{"$error":"#N/A"}]
[null,"Berube Mathieu",{"$f":"VLOOKUP(B797,[1]export_1465921594229!$D798:$G10058,4,FALSE)","v":{"$error":"#N/A"}},{"$error":"#N/A"}]
[null,"Bessette Francine",{"$f":"VLOOKUP(B798,[1]export_1465921594229!$D799:$G10059,4,FALSE)","v":"BR0-660511"},"BR0"]
[null,"Bessette Jean-Marcel",{"$f":"VLOOKUP(B799,[1]export_1465921594229!$D800:$G10060,4,FALSE)","v":"JK3-116520"},"JK3"]
[null,"Bessette Jean-Paul",{"$f":"VLOOKUP(B800,[1]export_1465921594229!$D801:$G10061,4,FALSE)","v":"U92-117948"},"U92"]
[null,"Bessette Luc",{"$f":"VLOOKUP(B801,[1]export_1465921594229!$D802:$G10062,4,FALSE)","v":"DV8-118448"},"DV8"]
[null,"Bhamrah Harbir",{"$f":"VLOOKUP(B802,[1]export_1465921594229!$D803:$G10063,4,FALSE)","v":"EA1-118535"},"EA1"]
[null,"Bhandari Khanal Sharmila",{"$f":"VLOOKUP(B803,[1]export_1465921594229!$D804:$G10064,4,FALSE)","v":"DLB-124982"},"DLB"]
[null,"Bhangoo Kulwinder",{"$f":"VLOOKUP(B804,[1]export_1465921594229!$D805:$G10065,4,FALSE)","v":"GN6-118916"},"GN6"]
[null,"Bhanot Bhupinder",{"$f":"VLOOKUP(B805,[1]export_1465921594229!$D806:$G10066,4,FALSE)","v":"JI5-550032"},"JI5"]
[null,"Bhasin Ajay",{"$f":"VLOOKUP(B806,[1]export_1465921594229!$D807:$G10067,4,FALSE)","v":"B4U-123687"},"B4U"]
[null,"Bhat Bushan",{"$f":"VLOOKUP(B807,[1]export_1465921594229!$D808:$G10068,4,FALSE)","v":"T32-119888"},"T32"]
[null,"Bhatia Poonam",{"$f":"VLOOKUP(B808,[1]export_1465921594229!$D809:$G10069,4,FALSE)","v":"FI2-118720"},"FI2"]
[null,"Bhatia Tippu",{"$f":"VLOOKUP(B809,[1]export_1465921594229!$D810:$G10070,4,FALSE)","v":"Q65-029415"},"Q65"]
[null,"Bhatia Tippu",{"$f":"VLOOKUP(B810,[1]export_1465921594229!$D811:$G10071,4,FALSE)","v":"NI5-115611"},"NI5"]
[null,"Bhatia Tippu",{"$f":"VLOOKUP(B811,[1]export_1465921594229!$D812:$G10072,4,FALSE)","v":"NL9-329415"},"NL9"]
[null,"Bhatia Tippu",{"$f":"VLOOKUP(B812,[1]export_1465921594229!$D813:$G10073,4,FALSE)","v":"938-115667"},"938"]
[null,"Bhatia Tippu",{"$f":"VLOOKUP(B813,[1]export_1465921594229!$D814:$G10074,4,FALSE)","v":"N26-120791"},"N26"]
[null,"Bhatnagar 79oqqc Sunil",{"$f":"VLOOKUP(B814,[1]export_1465921594229!$D815:$G10075,4,FALSE)","v":"EV8-118626"},"EV8"]
[null,"Bhatnagar Samir",{"$f":"VLOOKUP(B815,[1]export_1465921594229!$D816:$G10076,4,FALSE)","v":"EZ2-118637"},"EZ2"]
[null,"Bhatti Bill",{"$f":"VLOOKUP(B816,[1]export_1465921594229!$D817:$G10077,4,FALSE)","v":"DLP-124996"},"DLP"]
[null,"Bhimsingh Karmin",{"$f":"VLOOKUP(B817,[1]export_1465921594229!$D818:$G10078,4,FALSE)","v":"A9S-550030"},"A9S"]
[null,"Bhinder Tejinder",{"$f":"VLOOKUP(B818,[1]export_1465921594229!$D819:$G10079,4,FALSE)","v":"CD5-118286"},"CD5"]
[null,"Bhupinder Gosal",{"$f":"VLOOKUP(B819,[1]export_1465921594229!$D820:$G10080,4,FALSE)","v":"IB3-116318"},"IB3"]
[null,"Biano Dan Jek",{"$f":"VLOOKUP(B820,[1]export_1465921594229!$D821:$G10081,4,FALSE)","v":"C1N-124494"},"C1N"]
[null,"Bibeau Annie",{"$f":"VLOOKUP(B821,[1]export_1465921594229!$D822:$G10082,4,FALSE)","v":"B9D-123793"},"B9D"]
[null,"Biblow Aaron",{"$f":"VLOOKUP(B822,[1]export_1465921594229!$D823:$G10083,4,FALSE)","v":"KF3-116679"},"KF3"]
[null,"Bickerton Alan Robert",{"$f":"VLOOKUP(B823,[1]export_1465921594229!$D824:$G10084,4,FALSE)","v":"BWV-550888"},"BWV"]
[null,"Bickley Ian",{"$f":"VLOOKUP(B824,[1]export_1465921594229!$D825:$G10085,4,FALSE)","v":"I03-121214"},"I03"]
[null,"Bigeault Carole",{"$f":"VLOOKUP(B825,[1]export_1465921594229!$D826:$G10086,4,FALSE)","v":"D62-120151"},"D62"]
[null,"Biglete Adela",{"$f":"VLOOKUP(B826,[1]export_1465921594229!$D827:$G10087,4,FALSE)","v":"DMD-125008"},"DMD"]
[null,"Bigman Brian",{"$f":"VLOOKUP(B827,[1]export_1465921594229!$D828:$G10088,4,FALSE)","v":"Z46-120074"},"Z46"]
[null,"Bigras Roger",{"$f":"VLOOKUP(B828,[1]export_1465921594229!$D829:$G10089,4,FALSE)","v":"CT0-118348"},"CT0"]
[null,"Bigras Tommy",{"$f":"VLOOKUP(B829,[1]export_1465921594229!$D830:$G10090,4,FALSE)","v":"C12-121789"},"C12"]
[null,"Bijelic Simo",{"$f":"VLOOKUP(B830,[1]export_1465921594229!$D831:$G10091,4,FALSE)","v":"EH8-118562"},"EH8"]
[null,"Bijelic Simo",{"$f":"VLOOKUP(B831,[1]export_1465921594229!$D832:$G10092,4,FALSE)","v":"NQ6-119501"},"NQ6"]
[null,"Bijelic Simo",{"$f":"VLOOKUP(B832,[1]export_1465921594229!$D833:$G10093,4,FALSE)","v":"NQ7-119502"},"NQ7"]
[null,"Bijelic Simo",{"$f":"VLOOKUP(B833,[1]export_1465921594229!$D834:$G10094,4,FALSE)","v":"BG0-118205"},"BG0"]
[null,"Bijelic Simo",{"$f":"VLOOKUP(B834,[1]export_1465921594229!$D835:$G10095,4,FALSE)","v":"QB1-119726"},{"$f":"LEFT(C834,3)","v":"QB1"}]
[null,"Bijelic Stevan",{"$f":"VLOOKUP(B835,[1]export_1465921594229!$D836:$G10096,4,FALSE)","v":"GR3-118933"},"GR3"]
[null,"Bijelic Stevan",{"$f":"VLOOKUP(B836,[1]export_1465921594229!$D837:$G10097,4,FALSE)","v":"HJ0-119036"},"HJ0"]
[null,"Bijelic Stevan",{"$f":"VLOOKUP(B837,[1]export_1465921594229!$D838:$G10098,4,FALSE)","v":"NS1-119509"},"NS1"]
[null,"Bijelic Stevan",{"$f":"VLOOKUP(B838,[1]export_1465921594229!$D839:$G10099,4,FALSE)","v":"NS2-119510"},"NS2"]
[null,"Bijelic Stevan",{"$f":"VLOOKUP(B839,[1]export_1465921594229!$D840:$G10100,4,FALSE)","v":"PZ8-119670"},"PZ8"]
[null,"Bik Dara Vuthy",{"$f":"VLOOKUP(B840,[1]export_1465921594229!$D841:$G10101,4,FALSE)","v":"W51-120487"},"W51"]
[null,"Billette Jean-Etienne",{"$f":"VLOOKUP(B841,[1]export_1465921594229!$D842:$G10102,4,FALSE)","v":"B17-121885"},"B17"]
[null,"Billingsley Connie",{"$f":"VLOOKUP(B842,[1]export_1465921594229!$D843:$G10103,4,FALSE)","v":"FX5-118804"},"FX5"]
[null,"Billingsley Connie",{"$f":"VLOOKUP(B843,[1]export_1465921594229!$D844:$G10104,4,FALSE)","v":"FV1-121324"},"FV1"]
[null,"Bilodeau Andre",{"$f":"VLOOKUP(B844,[1]export_1465921594229!$D845:$G10105,4,FALSE)","v":"JA3-660614"},"JA3"]
[null,"Bilodeau Daniel",{"$f":"VLOOKUP(B845,[1]export_1465921594229!$D846:$G10106,4,FALSE)","v":"569-120273"},"569"]
[null,"Bilodeau David",{"$f":"VLOOKUP(B846,[1]export_1465921594229!$D847:$G10107,4,FALSE)","v":"P84-120673"},"P84"]
[null,"Bilodeau Denys",{"$f":"VLOOKUP(B847,[1]export_1465921594229!$D848:$G10108,4,FALSE)","v":"709-122083"},"709"]
[null,"Bilodeau Denys",{"$f":"VLOOKUP(B848,[1]export_1465921594229!$D849:$G10109,4,FALSE)","v":"217-122411"},"217"]
[null,"Bilodeau Denys",{"$f":"VLOOKUP(B849,[1]export_1465921594229!$D850:$G10110,4,FALSE)","v":"027-122530"},"027"]
[null,"Bilodeau Diane",{"$f":"VLOOKUP(B850,[1]export_1465921594229!$D851:$G10111,4,FALSE)","v":"CK8-118321"},"CK8"]
[null,"Bilodeau Dominic",{"$f":"VLOOKUP(B851,[1]export_1465921594229!$D852:$G10112,4,FALSE)","v":"C4F-124560"},"C4F"]
[null,"Bilodeau Frederic",{"$f":"VLOOKUP(B852,[1]export_1465921594229!$D853:$G10113,4,FALSE)","v":"GW2-118950"},"GW2"]
[null,"Bilodeau Helene",{"$f":"VLOOKUP(B853,[1]export_1465921594229!$D854:$G10114,4,FALSE)","v":"G89-660009"},"G89"]
[null,"Bilodeau Jean",{"$f":"VLOOKUP(B854,[1]export_1465921594229!$D855:$G10115,4,FALSE)","v":"JF0-116489"},"JF0"]
[null,"Bilodeau Jean-Louis",{"$f":"VLOOKUP(B855,[1]export_1465921594229!$D856:$G10116,4,FALSE)","v":"K12-119228"},"K12"]
[null,"Bilodeau Martine",{"$f":"VLOOKUP(B856,[1]export_1465921594229!$D857:$G10117,4,FALSE)","v":"X51-660714"},"X51"]
[null,"Bilodeau Martin-Pierre",{"$f":"VLOOKUP(B857,[1]export_1465921594229!$D858:$G10118,4,FALSE)","v":"HQ1-660483"},"HQ1"]
[null,"Bilodeau Michel",{"$f":"VLOOKUP(B858,[1]export_1465921594229!$D859:$G10119,4,FALSE)","v":"E12-118470"},"E12"]
[null,"Bilodeau Michel",{"$f":"VLOOKUP(B859,[1]export_1465921594229!$D860:$G10120,4,FALSE)","v":"C68-121701"},"C68"]
[null,"Bilodeau Pascal",{"$f":"VLOOKUP(B860,[1]export_1465921594229!$D861:$G10121,4,FALSE)","v":"T60-120532"},"T60"]
[null,"Bilodeau Philippe",{"$f":"VLOOKUP(B861,[1]export_1465921594229!$D862:$G10122,4,FALSE)","v":"043-122542"},"043"]
[null,"Bindra Rupinder",{"$f":"VLOOKUP(B862,[1]export_1465921594229!$D863:$G10123,4,FALSE)","v":"FK6-118734"},"FK6"]
[null,"Bindra Surinder",{"$f":"VLOOKUP(B863,[1]export_1465921594229!$D864:$G10124,4,FALSE)","v":"CL6-118322"},"CL6"]
[null,"Binette Eve",{"$f":"VLOOKUP(B864,[1]export_1465921594229!$D865:$G10125,4,FALSE)","v":"NC9-600058"},"NC9"]
[null,"Bingham Ian",{"$f":"VLOOKUP(B865,[1]export_1465921594229!$D866:$G10126,4,FALSE)","v":"S64-120628"},"S64"]
[null,"Bingham Ian",{"$f":"VLOOKUP(B866,[1]export_1465921594229!$D867:$G10127,4,FALSE)","v":"FX7-500358"},"FX7"]
[null,"Binkley Sean",{"$f":"VLOOKUP(B867,[1]export_1465921594229!$D868:$G10128,4,FALSE)","v":"CBC-123843"},"CBC"]
[null,"Bird Brent",{"$f":"VLOOKUP(B868,[1]export_1465921594229!$D869:$G10129,4,FALSE)","v":"PB0-117462"},"PB0"]
[null,"Bird Derek",{"$f":"VLOOKUP(B869,[1]export_1465921594229!$D870:$G10130,4,FALSE)","v":"X23-120510"},"X23"]
[null,"Birdi Steve",{"$f":"VLOOKUP(B870,[1]export_1465921594229!$D871:$G10131,4,FALSE)","v":"FK0-118729"},"FK0"]
[null,"Birdi-Bangar Kamlesh",{"$f":"VLOOKUP(B871,[1]export_1465921594229!$D872:$G10132,4,FALSE)","v":"B3T-550918"},"B3T"]
[null,"Birk Jaswant",{"$f":"VLOOKUP(B872,[1]export_1465921594229!$D873:$G10133,4,FALSE)","v":"JQ8-119219"},"JQ8"]
[null,"Birkner Michel",{"$f":"VLOOKUP(B873,[1]export_1465921594229!$D874:$G10134,4,FALSE)","v":"U75-120565"},"U75"]
[null,"Birnaz Jana",{"$f":"VLOOKUP(B874,[1]export_1465921594229!$D875:$G10135,4,FALSE)","v":"CF9-118296"},"CF9"]
[null,"Biron Carol",{"$f":"VLOOKUP(B875,[1]export_1465921594229!$D876:$G10136,4,FALSE)","v":"H06-121278"},"H06"]
[null,"Birrell Christopher",{"$f":"VLOOKUP(B876,[1]export_1465921594229!$D877:$G10137,4,FALSE)","v":"CYH-124413"},"CYH"]
[null,"Bisaillon Claudine",{"$f":"VLOOKUP(B877,[1]export_1465921594229!$D878:$G10138,4,FALSE)","v":"535-122225"},"535"]
[null,"Bisaillon Jean",{"$f":"VLOOKUP(B878,[1]export_1465921594229!$D879:$G10139,4,FALSE)","v":"AR8-121969"},"AR8"]
[null,"Bisaillon Steve",{"$f":"VLOOKUP(B879,[1]export_1465921594229!$D880:$G10140,4,FALSE)","v":"HP8-121201"},"HP8"]
[null,"Bisson Gilles",{"$f":"VLOOKUP(B880,[1]export_1465921594229!$D881:$G10141,4,FALSE)","v":"MW7-117121"},"MW7"]
[null,"Bisson Gilles",{"$f":"VLOOKUP(B881,[1]export_1465921594229!$D882:$G10142,4,FALSE)","v":"J98-121043"},"J98"]
[null,"Bisson Michael",{"$f":"VLOOKUP(B882,[1]export_1465921594229!$D883:$G10143,4,FALSE)","v":"NV8-600061"},"NV8"]
[null,"Bisson Yvon",{"$f":"VLOOKUP(B883,[1]export_1465921594229!$D884:$G10144,4,FALSE)","v":"548-122235"},"548"]
[null,"Bissonnette Alexi",{"$f":"VLOOKUP(B884,[1]export_1465921594229!$D885:$G10145,4,FALSE)","v":"MD7-660414"},"MD7"]
[null,"Bissonnette Bernard",{"$f":"VLOOKUP(B885,[1]export_1465921594229!$D886:$G10146,4,FALSE)","v":"EB1-660083"},"EB1"]
[null,"Bissonnette Daniel",{"$f":"VLOOKUP(B886,[1]export_1465921594229!$D887:$G10147,4,FALSE)","v":"634-120295"},"634"]
[null,"Bissonnette Martin",{"$f":"VLOOKUP(B887,[1]export_1465921594229!$D888:$G10148,4,FALSE)","v":"L65-120926"},"L65"]
[null,"Bissonnette Martin",{"$f":"VLOOKUP(B888,[1]export_1465921594229!$D889:$G10149,4,FALSE)","v":"M64-116960"},"M64"]
[null,"Bitangcol Henry",{"$f":"VLOOKUP(B889,[1]export_1465921594229!$D890:$G10150,4,FALSE)","v":"DDO-124793"},"DDO"]
[null,"Bitar Amin",{"$f":"VLOOKUP(B890,[1]export_1465921594229!$D891:$G10151,4,FALSE)","v":"BNV-025315"},"BNV"]
[null,"Bitar Amin",{"$f":"VLOOKUP(B891,[1]export_1465921594229!$D892:$G10152,4,FALSE)","v":"C6G-124608"},"C6G"]
[null,"Bitar Amin",{"$f":"VLOOKUP(B892,[1]export_1465921594229!$D893:$G10153,4,FALSE)","v":"OT6-502177"},"OT6"]
[null,"Bitar Richard",{"$f":"VLOOKUP(B893,[1]export_1465921594229!$D894:$G10154,4,FALSE)","v":"EJ6-118573"},"EJ6"]
[null,"Bitar Richard",{"$f":"VLOOKUP(B894,[1]export_1465921594229!$D895:$G10155,4,FALSE)","v":"LP3-115606"},"LP3"]
[null,"Bitar Richard",{"$f":"VLOOKUP(B895,[1]export_1465921594229!$D896:$G10156,4,FALSE)","v":"O28-026299"},"O28"]
[null,"Bitar Richard",{"$f":"VLOOKUP(B896,[1]export_1465921594229!$D897:$G10157,4,FALSE)","v":"FX9-326299"},"FX9"]
[null,"Bitar Richard",{"$f":"VLOOKUP(B897,[1]export_1465921594229!$D898:$G10158,4,FALSE)","v":"LP7-426299"},"LP7"]
[null,"Bixby Roger",{"$f":"VLOOKUP(B898,[1]export_1465921594229!$D899:$G10159,4,FALSE)","v":"DDF-550924"},{"$f":"LEFT(C898,3)","v":"DDF"}]
[null,"Blackburn Alexandre",{"$f":"VLOOKUP(B899,[1]export_1465921594229!$D900:$G10160,4,FALSE)","v":"HN3-660112"},"HN3"]
[null,"Blackburn Denis",{"$f":"VLOOKUP(B900,[1]export_1465921594229!$D901:$G10161,4,FALSE)","v":"904-120182"},"904"]
[null,"Blackburn Joanne",{"$f":"VLOOKUP(B901,[1]export_1465921594229!$D902:$G10162,4,FALSE)","v":"608-120285"},"608"]
[null,"Blackmore Joanna",{"$f":"VLOOKUP(B902,[1]export_1465921594229!$D903:$G10163,4,FALSE)","v":"B3D-123647"},"B3D"]
[null,"Blagui Imed",{"$f":"VLOOKUP(B903,[1]export_1465921594229!$D904:$G10164,4,FALSE)","v":"DQY-600111"},"DQY"]
[null,"Blair Sean",{"$f":"VLOOKUP(B904,[1]export_1465921594229!$D905:$G10165,4,FALSE)","v":"PI5-117524"},"PI5"]
[null,"Blais Alain",{"$f":"VLOOKUP(B905,[1]export_1465921594229!$D906:$G10166,4,FALSE)","v":"K80-120989"},"K80"]
[null,"Blais Daniel",{"$f":"VLOOKUP(B906,[1]export_1465921594229!$D907:$G10167,4,FALSE)","v":"QE8-117680"},"QE8"]
[null,"Blais Jean-Francois",{"$f":"VLOOKUP(B907,[1]export_1465921594229!$D908:$G10168,4,FALSE)","v":"QE7-117679"},"QE7"]
[null,"Blais Luc",{"$f":"VLOOKUP(B908,[1]export_1465921594229!$D909:$G10169,4,FALSE)","v":"R01-660544"},"R01"]
[null,"Blais Marie-Chantale",{"$f":"VLOOKUP(B909,[1]export_1465921594229!$D910:$G10170,4,FALSE)","v":"DCO-124768"},"DCO"]
[null,"Blais Martin",{"$f":"VLOOKUP(B910,[1]export_1465921594229!$D911:$G10171,4,FALSE)","v":"IE1-660069"},"IE1"]
[null,"Blais Michel",{"$f":"VLOOKUP(B911,[1]export_1465921594229!$D912:$G10172,4,FALSE)","v":"BWN-660413"},"BWN"]
[null,"Blais Mireille",{"$f":"VLOOKUP(B912,[1]export_1465921594229!$D913:$G10173,4,FALSE)","v":"389-122276"},"389"]
[null,"Blais Sebastien",{"$f":"VLOOKUP(B913,[1]export_1465921594229!$D914:$G10174,4,FALSE)","v":{"$error":"#N/A"}},{"$error":"#N/A"}]
[null,"Blais Stephanie",{"$f":"VLOOKUP(B914,[1]export_1465921594229!$D915:$G10175,4,FALSE)","v":{"$error":"#N/A"}},{"$error":"#N/A"}]
[null,"Blakely David",{"$f":"VLOOKUP(B915,[1]export_1465921594229!$D916:$G10176,4,FALSE)","v":"X21-120026"},"X21"]
[null,"Blanc Eric",{"$f":"VLOOKUP(B916,[1]export_1465921594229!$D917:$G10177,4,FALSE)","v":"GR4-118934"},"GR4"]
[null,"Blanchard Mark",{"$f":"VLOOKUP(B917,[1]export_1465921594229!$D918:$G10178,4,FALSE)","v":"FP8-118765"},"FP8"]
[null,"Blanchard Martin",{"$f":"VLOOKUP(B918,[1]export_1465921594229!$D919:$G10179,4,FALSE)","v":"C81-121710"},"C81"]
[null,"Blanchard Stephen",{"$f":"VLOOKUP(B919,[1]export_1465921594229!$D920:$G10180,4,FALSE)","v":"U50-119931"},"U50"]
[null,"Blanchet Pierre",{"$f":"VLOOKUP(B920,[1]export_1465921594229!$D921:$G10181,4,FALSE)","v":"H30-660100"},"H30"]
[null,"Blanchet Roger",{"$f":"VLOOKUP(B921,[1]export_1465921594229!$D922:$G10182,4,FALSE)","v":"B55-121910"},"B55"]
[null,"Blanchet Yves",{"$f":"VLOOKUP(B922,[1]export_1465921594229!$D923:$G10183,4,FALSE)","v":"P77-660592"},"P77"]
[null,"Blanchette Rene",{"$f":"VLOOKUP(B923,[1]export_1465921594229!$D924:$G10184,4,FALSE)","v":"ML9-117053"},"ML9"]
[null,"Blanchette Stephane",{"$f":"VLOOKUP(B924,[1]export_1465921594229!$D925:$G10185,4,FALSE)","v":"O35-119539"},"O35"]
[null,"Blanco Oramas Felix",{"$f":"VLOOKUP(B925,[1]export_1465921594229!$D926:$G10186,4,FALSE)","v":"A8H-123049"},"A8H"]
[null,"Blanco Oramas Felix",{"$f":"VLOOKUP(B926,[1]export_1465921594229!$D927:$G10187,4,FALSE)","v":"IU6-660098"},"IU6"]
[null,"Blaquiere eric",{"$f":"VLOOKUP(B927,[1]export_1465921594229!$D928:$G10188,4,FALSE)","v":{"$error":"#N/A"}},{"$error":"#N/A"}]
[null,"Blaser Ernst",{"$f":"VLOOKUP(B928,[1]export_1465921594229!$D929:$G10189,4,FALSE)","v":"FJ6-116025"},"FJ6"]
[null,"Blayney Paul",{"$f":"VLOOKUP(B929,[1]export_1465921594229!$D930:$G10190,4,FALSE)","v":"OS1-117395"},"OS1"]
[null,"Bleau Andre",{"$f":"VLOOKUP(B930,[1]export_1465921594229!$D931:$G10191,4,FALSE)","v":"X62-660627"},"X62"]
[null,"Blier Denis",{"$f":"VLOOKUP(B931,[1]export_1465921594229!$D932:$G10192,4,FALSE)","v":"I31-119090"},"I31"]
[null,"Blier Robert",{"$f":"VLOOKUP(B932,[1]export_1465921594229!$D933:$G10193,4,FALSE)","v":"147-122487"},"147"]
[null,"Bligh Geoffrey",{"$f":"VLOOKUP(B933,[1]export_1465921594229!$D934:$G10194,4,FALSE)","v":"Q97-119716"},"Q97"]
[null,"Blom Ellis",{"$f":"VLOOKUP(B934,[1]export_1465921594229!$D935:$G10195,4,FALSE)","v":"T03-120643"},"T03"]
[null,"Blondeau David",{"$f":"VLOOKUP(B935,[1]export_1465921594229!$D936:$G10196,4,FALSE)","v":"HF8-660194"},"HF8"]
[null,"Blondeau Denis",{"$f":"VLOOKUP(B936,[1]export_1465921594229!$D937:$G10197,4,FALSE)","v":"DN0-118412"},"DN0"]
[null,"Blondin Jean-Pierre",{"$f":"VLOOKUP(B937,[1]export_1465921594229!$D938:$G10198,4,FALSE)","v":"D66-120153"},"D66"]
[null,"Blondin Jean-Pierre",{"$f":"VLOOKUP(B938,[1]export_1465921594229!$D939:$G10199,4,FALSE)","v":"CO6-121640"},"CO6"]
[null,"Blouin Annie",{"$f":"VLOOKUP(B939,[1]export_1465921594229!$D940:$G10200,4,FALSE)","v":"A8W-660270"},"A8W"]
[null,"Blouin Bernard",{"$f":"VLOOKUP(B940,[1]export_1465921594229!$D941:$G10201,4,FALSE)","v":"AK6-118130"},"AK6"]
[null,"Blouin France",{"$f":"VLOOKUP(B941,[1]export_1465921594229!$D942:$G10202,4,FALSE)","v":"KF9-116685"},"KF9"]
[null,"Blouin Genevieve",{"$f":"VLOOKUP(B942,[1]export_1465921594229!$D943:$G10203,4,FALSE)","v":{"$error":"#N/A"}},{"$error":"#N/A"}]
[null,"Blouin Pierre",{"$f":"VLOOKUP(B943,[1]export_1465921594229!$D944:$G10204,4,FALSE)","v":"A28-122111"},"A28"]
[null,"Blumwald Nestor",{"$f":"VLOOKUP(B944,[1]export_1465921594229!$D945:$G10205,4,FALSE)","v":"NQ0-117235"},"NQ0"]
[null,"Boado Illuminada",{"$f":"VLOOKUP(B945,[1]export_1465921594229!$D946:$G10206,4,FALSE)","v":"FD7-116007"},"FD7"]
[null,"Bobila Gian Carlo",{"$f":"VLOOKUP(B946,[1]export_1465921594229!$D947:$G10207,4,FALSE)","v":"D1M-125395"},"D1M"]
[null,"Bock Deborah",{"$f":"VLOOKUP(B947,[1]export_1465921594229!$D948:$G10208,4,FALSE)","v":"MD2-116991"},"MD2"]
[null,"Bodalia Ashokkumar",{"$f":"VLOOKUP(B948,[1]export_1465921594229!$D949:$G10209,4,FALSE)","v":"QJ2-550859"},"QJ2"]
[null,"Bogdanski Jan",{"$f":"VLOOKUP(B949,[1]export_1465921594229!$D950:$G10210,4,FALSE)","v":"BAR-550053"},"BAR"]
[null,"Boilard Celine",{"$f":"VLOOKUP(B950,[1]export_1465921594229!$D951:$G10211,4,FALSE)","v":{"$error":"#N/A"}},{"$error":"#N/A"}]
[null,"Boilard Yvan",{"$f":"VLOOKUP(B951,[1]export_1465921594229!$D952:$G10212,4,FALSE)","v":"FD8-118699"},"FD8"]
[null,"Boileau Josee",{"$f":"VLOOKUP(B952,[1]export_1465921594229!$D953:$G10213,4,FALSE)","v":"CO7-118332"},"CO7"]
[null,"Boileau Julie",{"$f":"VLOOKUP(B953,[1]export_1465921594229!$D954:$G10214,4,FALSE)","v":"X67-120438"},"X67"]
[null,"Boileau Melanie",{"$f":"VLOOKUP(B954,[1]export_1465921594229!$D955:$G10215,4,FALSE)","v":"U33-119925"},"U33"]
[null,"Boileau Serge",{"$f":"VLOOKUP(B955,[1]export_1465921594229!$D956:$G10216,4,FALSE)","v":"F01-121389"},"F01"]
[null,"Boily Jean-Guy",{"$f":"VLOOKUP(B956,[1]export_1465921594229!$D957:$G10217,4,FALSE)","v":"R15-117838"},"R15"]
[null,"Boily Johanne",{"$f":"VLOOKUP(B957,[1]export_1465921594229!$D958:$G10218,4,FALSE)","v":"G51-118831"},"G51"]
[null,"Boily Marcel",{"$f":"VLOOKUP(B958,[1]export_1465921594229!$D959:$G10219,4,FALSE)","v":"W40-660495"},"W40"]
[null,"Boily Marcel",{"$f":"VLOOKUP(B959,[1]export_1465921594229!$D960:$G10220,4,FALSE)","v":"F06-118642"},"F06"]
[null,"Boily Victoria",{"$f":"VLOOKUP(B960,[1]export_1465921594229!$D961:$G10221,4,FALSE)","v":"LT6-116908"},"LT6"]
[null,"Bois Daniel",{"$f":"VLOOKUP(B961,[1]export_1465921594229!$D962:$G10222,4,FALSE)","v":"C54-120119"},"C54"]
[null,"Bois Eric",{"$f":"VLOOKUP(B962,[1]export_1465921594229!$D963:$G10223,4,FALSE)","v":"PF3-660176"},{"$f":"LEFT(C962,3)","v":"PF3"}]
[null,"Bois Louis",{"$f":"VLOOKUP(B963,[1]export_1465921594229!$D964:$G10224,4,FALSE)","v":"QZ3-117825"},"QZ3"]
[null,"Bois Sylvain",{"$f":"VLOOKUP(B964,[1]export_1465921594229!$D965:$G10225,4,FALSE)","v":"B11-121880"},"B11"]
[null,"Boisclair Michel",{"$f":"VLOOKUP(B965,[1]export_1465921594229!$D966:$G10226,4,FALSE)","v":"319-122348"},"319"]
[null,"Boisjoli Irene",{"$f":"VLOOKUP(B966,[1]export_1465921594229!$D967:$G10227,4,FALSE)","v":"DR1-121543"},"DR1"]
[null,"Boislard Diane",{"$f":"VLOOKUP(B967,[1]export_1465921594229!$D968:$G10228,4,FALSE)","v":"T16-120645"},"T16"]
[null,"Boislard Karine",{"$f":"VLOOKUP(B968,[1]export_1465921594229!$D969:$G10229,4,FALSE)","v":"P68-120667"},"P68"]
[null,"Boisse Claude",{"$f":"VLOOKUP(B969,[1]export_1465921594229!$D970:$G10230,4,FALSE)","v":"EJ1-118571"},"EJ1"]
[null,"Boisse Sarah",{"$f":"VLOOKUP(B970,[1]export_1465921594229!$D971:$G10231,4,FALSE)","v":{"$error":"#N/A"}},{"$error":"#N/A"}]
[null,"Boisselle Sylvain",{"$f":"VLOOKUP(B971,[1]export_1465921594229!$D972:$G10232,4,FALSE)","v":"G85-116067"},"G85"]
[null,"Boissonneault Gaetane",{"$f":"VLOOKUP(B972,[1]export_1465921594229!$D973:$G10233,4,FALSE)","v":"226-122416"},"226"]
[null,"Boisvenue Nancy",{"$f":"VLOOKUP(B973,[1]export_1465921594229!$D974:$G10234,4,FALSE)","v":"B2J-550910"},"B2J"]
[null,"Boisvert Alexis",{"$f":"VLOOKUP(B974,[1]export_1465921594229!$D975:$G10235,4,FALSE)","v":"HV7-660105"},"HV7"]
[null,"Boisvert Alexis",{"$f":"VLOOKUP(B975,[1]export_1465921594229!$D976:$G10236,4,FALSE)","v":"MG4-660196"},"MG4"]
[null,"Boisvert Annick",{"$f":"VLOOKUP(B976,[1]export_1465921594229!$D977:$G10237,4,FALSE)","v":"CVT-124348"},"CVT"]
[null,"Boisvert Daniel",{"$f":"VLOOKUP(B977,[1]export_1465921594229!$D978:$G10238,4,FALSE)","v":"JA2-116461"},"JA2"]
[null,"Boisvert Jean-Pierre",{"$f":"VLOOKUP(B978,[1]export_1465921594229!$D979:$G10239,4,FALSE)","v":"R41-120599"},"R41"]
[null,"Boisvert Luc",{"$f":"VLOOKUP(B979,[1]export_1465921594229!$D980:$G10240,4,FALSE)","v":"A12-122102"},"A12"]
[null,"Boisvert Remy-Pierre",{"$f":"VLOOKUP(B980,[1]export_1465921594229!$D981:$G10241,4,FALSE)","v":"Z78-120086"},"Z78"]
[null,"Boisvert Sebastien",{"$f":"VLOOKUP(B981,[1]export_1465921594229!$D982:$G10242,4,FALSE)","v":"B05-121876"},"B05"]
[null,"Boiteau Manon",{"$f":"VLOOKUP(B982,[1]export_1465921594229!$D983:$G10243,4,FALSE)","v":"483-120368"},"483"]
[null,"Boivin Daniel",{"$f":"VLOOKUP(B983,[1]export_1465921594229!$D984:$G10244,4,FALSE)","v":"DWG-125264"},"DWG"]
[null,"Boivin Ginette",{"$f":"VLOOKUP(B984,[1]export_1465921594229!$D985:$G10245,4,FALSE)","v":"R67-120603"},"R67"]
[null,"Boivin Johanne",{"$f":"VLOOKUP(B985,[1]export_1465921594229!$D986:$G10246,4,FALSE)","v":"M76-120094"},"M76"]
[null,"Bolduc Christine",{"$f":"VLOOKUP(B986,[1]export_1465921594229!$D987:$G10247,4,FALSE)","v":"JN6-121053"},"JN6"]
[null,"Bolduc Dominique",{"$f":"VLOOKUP(B987,[1]export_1465921594229!$D988:$G10248,4,FALSE)","v":"IA8-119123"},"IA8"]
[null,"Bolduc Dominique",{"$f":"VLOOKUP(B988,[1]export_1465921594229!$D989:$G10249,4,FALSE)","v":"PR5-660068"},"PR5"]
[null,"Bolduc Eric",{"$f":"VLOOKUP(B989,[1]export_1465921594229!$D990:$G10250,4,FALSE)","v":"DTF-125185"},"DTF"]
[null,"Bolduc Eric",{"$f":"VLOOKUP(B990,[1]export_1465921594229!$D991:$G10251,4,FALSE)","v":"BU6-118258"},"BU6"]
[null,"Bolduc Jean-Sebastien",{"$f":"VLOOKUP(B991,[1]export_1465921594229!$D992:$G10252,4,FALSE)","v":{"$error":"#N/A"}},{"$error":"#N/A"}]
[null,"Bolduc Jonathan",{"$f":"VLOOKUP(B992,[1]export_1465921594229!$D993:$G10253,4,FALSE)","v":"D0D-125360"},"D0D"]
[null,"Bolduc Tania",{"$f":"VLOOKUP(B993,[1]export_1465921594229!$D994:$G10254,4,FALSE)","v":"NL6-660231"},"NL6"]
[null,"Bolduc Tony",{"$f":"VLOOKUP(B994,[1]export_1465921594229!$D995:$G10255,4,FALSE)","v":"ED8-121459"},"ED8"]
[null,"Bolduc Vincent",{"$f":"VLOOKUP(B995,[1]export_1465921594229!$D996:$G10256,4,FALSE)","v":"L66-120927"},"L66"]
[null,"Bolduc Vincent",{"$f":"VLOOKUP(B996,[1]export_1465921594229!$D997:$G10257,4,FALSE)","v":"EI2-660102"},"EI2"]
[null,"Bollers Joseph",{"$f":"VLOOKUP(B997,[1]export_1465921594229!$D998:$G10258,4,FALSE)","v":"N29-119455"},"N29"]
[null,"Bollers Joseph",{"$f":"VLOOKUP(B998,[1]export_1465921594229!$D999:$G10259,4,FALSE)","v":"LF9-119319"},"LF9"]
[null,"Bollers Joseph",{"$f":"VLOOKUP(B999,[1]export_1465921594229!$D1000:$G10260,4,FALSE)","v":"KK4-119251"},"KK4"]
[null,"Bollers Joseph",{"$f":"VLOOKUP(B1000,[1]export_1465921594229!$D1001:$G10261,4,FALSE)","v":"QF8-119756"},"QF8"]
[null,"Bollers Joseph",{"$f":"VLOOKUP(B1001,[1]export_1465921594229!$D1002:$G10262,4,FALSE)","v":"Q06-119675"},"Q06"]
[null,"Bollers Joseph",{"$f":"VLOOKUP(B1002,[1]export_1465921594229!$D1003:$G10263,4,FALSE)","v":"IS9-119155"},"IS9"]
[null,"Bollers Joseph",{"$f":"VLOOKUP(B1003,[1]export_1465921594229!$D1004:$G10264,4,FALSE)","v":"QD6-500765"},"QD6"]
[null,"Bollers Verna",{"$f":"VLOOKUP(B1004,[1]export_1465921594229!$D1005:$G10265,4,FALSE)","v":"CDU-123909"},"CDU"]
[null,"Bollers Verna",{"$f":"VLOOKUP(B1005,[1]export_1465921594229!$D1006:$G10266,4,FALSE)","v":"DE3-121500"},"DE3"]
[null,"Bolofer Epitacio",{"$f":"VLOOKUP(B1006,[1]export_1465921594229!$D1007:$G10267,4,FALSE)","v":"D1J-125392"},"D1J"]
[null,"Bombardier Andre",{"$f":"VLOOKUP(B1007,[1]export_1465921594229!$D1008:$G10268,4,FALSE)","v":"F52-121403"},"F52"]
[null,"Bond Alain",{"$f":"VLOOKUP(B1008,[1]export_1465921594229!$D1009:$G10269,4,FALSE)","v":"IZ2-116443"},"IZ2"]
[null,"Bond James",{"$f":"VLOOKUP(B1009,[1]export_1465921594229!$D1010:$G10270,4,FALSE)","v":"IK4-116373"},"IK4"]
[null,"Bonenfant Nathalie",{"$f":"VLOOKUP(B1010,[1]export_1465921594229!$D1011:$G10271,4,FALSE)","v":"020-122525"},"020"]
[null,"Boniface Sripriya Lloyd",{"$f":"VLOOKUP(B1011,[1]export_1465921594229!$D1012:$G10272,4,FALSE)","v":"BSX-123420"},"BSX"]
[null,"Bonilla Melo Diego",{"$f":"VLOOKUP(B1012,[1]export_1465921594229!$D1013:$G10273,4,FALSE)","v":"B6J-123725"},"B6J"]
[null,"Bonneau Danielle",{"$f":"VLOOKUP(B1013,[1]export_1465921594229!$D1014:$G10274,4,FALSE)","v":"NQ2-117237"},"NQ2"]
[null,"Bonneville Genevieve",{"$f":"VLOOKUP(B1014,[1]export_1465921594229!$D1015:$G10275,4,FALSE)","v":"KJ8-121007"},"KJ8"]
[null,"Bonneville Gerard",{"$f":"VLOOKUP(B1015,[1]export_1465921594229!$D1016:$G10276,4,FALSE)","v":"HH5-660296"},"HH5"]
[null,"Bonneville-Larose Steve",{"$f":"VLOOKUP(B1016,[1]export_1465921594229!$D1017:$G10277,4,FALSE)","v":"PI0-117519"},"PI0"]
[null,"Bonnick Peter",{"$f":"VLOOKUP(B1017,[1]export_1465921594229!$D1018:$G10278,4,FALSE)","v":"BGP-123175"},"BGP"]
[null,"Boodhoo-Misir Enid Rebecca",{"$f":"VLOOKUP(B1018,[1]export_1465921594229!$D1019:$G10279,4,FALSE)","v":"B9R-123807"},"B9R"]
[null,"Boparai Gurmeet",{"$f":"VLOOKUP(B1019,[1]export_1465921594229!$D1020:$G10280,4,FALSE)","v":"BMQ-123299"},"BMQ"]
[null,"Boparai Kamalvir",{"$f":"VLOOKUP(B1020,[1]export_1465921594229!$D1021:$G10281,4,FALSE)","v":"NL8-117214"},"NL8"]
[null,"Boquiren Roseler",{"$f":"VLOOKUP(B1021,[1]export_1465921594229!$D1022:$G10282,4,FALSE)","v":"KA0-116643"},"KA0"]
[null,"Borboudakis Lara",{"$f":"VLOOKUP(B1022,[1]export_1465921594229!$D1023:$G10283,4,FALSE)","v":"B4J-123676"},"B4J"]
[null,"Bordian Peter",{"$f":"VLOOKUP(B1023,[1]export_1465921594229!$D1024:$G10284,4,FALSE)","v":"BIE-123209"},"BIE"]
[null,"Bordua Pierre",{"$f":"VLOOKUP(B1024,[1]export_1465921594229!$D1025:$G10285,4,FALSE)","v":"E23-118481"},"E23"]
[null,"Borgia Jean",{"$f":"VLOOKUP(B1025,[1]export_1465921594229!$D1026:$G10286,4,FALSE)","v":"H48-118977"},"H48"]
[null,"Borgia Luc",{"$f":"VLOOKUP(B1026,[1]export_1465921594229!$D1027:$G10287,4,FALSE)","v":"J91-119179"},{"$f":"LEFT(C1026,3)","v":"J91"}]
[null,"Borile Servillano",{"$f":"VLOOKUP(B1027,[1]export_1465921594229!$D1028:$G10288,4,FALSE)","v":"BSA-123398"},"BSA"]
[null,"Borisov Aleksei",{"$f":"VLOOKUP(B1028,[1]export_1465921594229!$D1029:$G10289,4,FALSE)","v":"DXI-125292"},"DXI"]
[null,"Borja Isidro",{"$f":"VLOOKUP(B1029,[1]export_1465921594229!$D1030:$G10290,4,FALSE)","v":"QP2-117747"},"QP2"]
[null,"Borla Teodorico",{"$f":"VLOOKUP(B1030,[1]export_1465921594229!$D1031:$G10291,4,FALSE)","v":"D3X-125455"},"D3X"]
[null,"Bornais Kimberly",{"$f":"VLOOKUP(B1031,[1]export_1465921594229!$D1032:$G10292,4,FALSE)","v":"QE2-117676"},"QE2"]
[null,"Bornais Suzanne",{"$f":"VLOOKUP(B1032,[1]export_1465921594229!$D1033:$G10293,4,FALSE)","v":"485-120370"},"485"]
[null,"Borok Fania",{"$f":"VLOOKUP(B1033,[1]export_1465921594229!$D1034:$G10294,4,FALSE)","v":"PQ7-117593"},"PQ7"]
[null,"Borsuk Miroslaw",{"$f":"VLOOKUP(B1034,[1]export_1465921594229!$D1035:$G10295,4,FALSE)","v":"NH3-117185"},"NH3"]
[null,"Borsuk Miroslaw",{"$f":"VLOOKUP(B1035,[1]export_1465921594229!$D1036:$G10296,4,FALSE)","v":"NH4-120842"},"NH4"]
[null,"Borylo-Gourdie Barbara",{"$f":"VLOOKUP(B1036,[1]export_1465921594229!$D1037:$G10297,4,FALSE)","v":"CKF-124070"},"CKF"]
[null,"Boshart Keith",{"$f":"VLOOKUP(B1037,[1]export_1465921594229!$D1038:$G10298,4,FALSE)","v":"DTY-125204"},"DTY"]
[null,"Bosse Alain",{"$f":"VLOOKUP(B1038,[1]export_1465921594229!$D1039:$G10299,4,FALSE)","v":"JC1-660256"},"JC1"]
[null,"Bosse Veronique",{"$f":"VLOOKUP(B1039,[1]export_1465921594229!$D1040:$G10300,4,FALSE)","v":"K94-120997"},"K94"]
[null,"Bossert Kimberly",{"$f":"VLOOKUP(B1040,[1]export_1465921594229!$D1041:$G10301,4,FALSE)","v":"EE7-118548"},"EE7"]
[null,"Botescu Adrian G",{"$f":"VLOOKUP(B1041,[1]export_1465921594229!$D1042:$G10302,4,FALSE)","v":"KF4-116680"},"KF4"]
[null,"Bottomley Mark",{"$f":"VLOOKUP(B1042,[1]export_1465921594229!$D1043:$G10303,4,FALSE)","v":"KJ3-116706"},"KJ3"]
[null,"Bouchard Alfred D.",{"$f":"VLOOKUP(B1043,[1]export_1465921594229!$D1044:$G10304,4,FALSE)","v":"613-122146"},"613"]
[null,"Bouchard Alfred D.",{"$f":"VLOOKUP(B1044,[1]export_1465921594229!$D1045:$G10305,4,FALSE)","v":"CW2-660514"},"CW2"]
[null,"Bouchard Andre",{"$f":"VLOOKUP(B1045,[1]export_1465921594229!$D1046:$G10306,4,FALSE)","v":"HQ4-119058"},"HQ4"]
[null,"Bouchard Andree",{"$f":"VLOOKUP(B1046,[1]export_1465921594229!$D1047:$G10307,4,FALSE)","v":"AM6-121943"},"AM6"]
[null,"Bouchard Caroline",{"$f":"VLOOKUP(B1047,[1]export_1465921594229!$D1048:$G10308,4,FALSE)","v":"C55-121692"},"C55"]
[null,"Bouchard Celine",{"$f":"VLOOKUP(B1048,[1]export_1465921594229!$D1049:$G10309,4,FALSE)","v":"N95-119473"},"N95"]
[null,"Bouchard Christian",{"$f":"VLOOKUP(B1049,[1]export_1465921594229!$D1050:$G10310,4,FALSE)","v":"601-122135"},"601"]
[null,"Bouchard Claude",{"$f":"VLOOKUP(B1050,[1]export_1465921594229!$D1051:$G10311,4,FALSE)","v":"HF3-660080"},"HF3"]
[null,"Bouchard Claude Adelstan",{"$f":"VLOOKUP(B1051,[1]export_1465921594229!$D1052:$G10312,4,FALSE)","v":"U07-120543"},"U07"]
[null,"Bouchard Denise",{"$f":"VLOOKUP(B1052,[1]export_1465921594229!$D1053:$G10313,4,FALSE)","v":"DJ9-121519"},"DJ9"]
[null,"Bouchard Eric",{"$f":"VLOOKUP(B1053,[1]export_1465921594229!$D1054:$G10314,4,FALSE)","v":"PL9-660752"},"PL9"]
[null,"Bouchard Felix Antoine",{"$f":"VLOOKUP(B1054,[1]export_1465921594229!$D1055:$G10315,4,FALSE)","v":"056-120381"},"056"]
[null,"Bouchard Frederick",{"$f":"VLOOKUP(B1055,[1]export_1465921594229!$D1056:$G10316,4,FALSE)","v":"EL1-660301"},"EL1"]
[null,"Bouchard Gilles",{"$f":"VLOOKUP(B1056,[1]export_1465921594229!$D1057:$G10317,4,FALSE)","v":"011-122517"},"011"]
[null,"Bouchard Jean",{"$f":"VLOOKUP(B1057,[1]export_1465921594229!$D1058:$G10318,4,FALSE)","v":"668-122184"},"668"]
[null,"Bouchard Jean-Denys",{"$f":"VLOOKUP(B1058,[1]export_1465921594229!$D1059:$G10319,4,FALSE)","v":"N06-500185"},"N06"]
[null,"Bouchard Jean-Francois",{"$f":"VLOOKUP(B1059,[1]export_1465921594229!$D1060:$G10320,4,FALSE)","v":"G12-118816"},"G12"]
[null,"Bouchard Jean-Paul G.",{"$f":"VLOOKUP(B1060,[1]export_1465921594229!$D1061:$G10321,4,FALSE)","v":"J74-116453"},"J74"]
[null,"Bouchard Jennifer",{"$f":"VLOOKUP(B1061,[1]export_1465921594229!$D1062:$G10322,4,FALSE)","v":"BXB-660418"},"BXB"]
[null,"Bouchard Jimmy",{"$f":"VLOOKUP(B1062,[1]export_1465921594229!$D1063:$G10323,4,FALSE)","v":"I15-116298"},"I15"]
[null,"Bouchard Johanne",{"$f":"VLOOKUP(B1063,[1]export_1465921594229!$D1064:$G10324,4,FALSE)","v":"617-120287"},"617"]
[null,"Bouchard Lena",{"$f":"VLOOKUP(B1064,[1]export_1465921594229!$D1065:$G10325,4,FALSE)","v":"KU3-116766"},"KU3"]
[null,"Bouchard Lise",{"$f":"VLOOKUP(B1065,[1]export_1465921594229!$D1066:$G10326,4,FALSE)","v":"DJX-124952"},"DJX"]
[null,"Bouchard Marie-Josee",{"$f":"VLOOKUP(B1066,[1]export_1465921594229!$D1067:$G10327,4,FALSE)","v":"D52-121590"},"D52"]
[null,"Bouchard Michelle",{"$f":"VLOOKUP(B1067,[1]export_1465921594229!$D1068:$G10328,4,FALSE)","v":"E08-118466"},"E08"]
[null,"Bouchard Nelson",{"$f":"VLOOKUP(B1068,[1]export_1465921594229!$D1069:$G10329,4,FALSE)","v":"U05-020749"},"U05"]
[null,"Bouchard Normen",{"$f":"VLOOKUP(B1069,[1]export_1465921594229!$D1070:$G10330,4,FALSE)","v":"F44-118657"},"F44"]
[null,"Bouchard Philippe",{"$f":"VLOOKUP(B1070,[1]export_1465921594229!$D1071:$G10331,4,FALSE)","v":"KS5-118078"},"KS5"]
[null,"Bouchard Raymond",{"$f":"VLOOKUP(B1071,[1]export_1465921594229!$D1072:$G10332,4,FALSE)","v":"IE3-660354"},"IE3"]
[null,"Bouchard Richard",{"$f":"VLOOKUP(B1072,[1]export_1465921594229!$D1073:$G10333,4,FALSE)","v":"060-122553"},"060"]
[null,"Bouchard Serge",{"$f":"VLOOKUP(B1073,[1]export_1465921594229!$D1074:$G10334,4,FALSE)","v":"I98-121118"},"I98"]
[null,"Bouchard Serge",{"$f":"VLOOKUP(B1074,[1]export_1465921594229!$D1075:$G10335,4,FALSE)","v":"P32-119617"},"P32"]
[null,"Bouchard Serge",{"$f":"VLOOKUP(B1075,[1]export_1465921594229!$D1076:$G10336,4,FALSE)","v":"CQ2-118338"},"CQ2"]
[null,"Bouchard Sylvie",{"$f":"VLOOKUP(B1076,[1]export_1465921594229!$D1077:$G10337,4,FALSE)","v":"U32-120109"},"U32"]
[null,"Bouchard Sylvie",{"$f":"VLOOKUP(B1077,[1]export_1465921594229!$D1078:$G10338,4,FALSE)","v":"K16-660150"},"K16"]
[null,"Bouchard-Gingras Benoit-Alexandre",{"$f":"VLOOKUP(B1078,[1]export_1465921594229!$D1079:$G10339,4,FALSE)","v":"B7L-123753"},"B7L"]
[null,"Bouchard-T. Ludwig",{"$f":"VLOOKUP(B1079,[1]export_1465921594229!$D1080:$G10340,4,FALSE)","v":"106-122456"},"106"]
[null,"Boucher Andre",{"$f":"VLOOKUP(B1080,[1]export_1465921594229!$D1081:$G10341,4,FALSE)","v":"CI9-118310"},"CI9"]
[null,"Boucher Anne",{"$f":"VLOOKUP(B1081,[1]export_1465921594229!$D1082:$G10342,4,FALSE)","v":"602-122136"},"602"]
[null,"Boucher Anne",{"$f":"VLOOKUP(B1082,[1]export_1465921594229!$D1083:$G10343,4,FALSE)","v":"016-122521"},"016"]
[null,"Boucher Christian",{"$f":"VLOOKUP(B1083,[1]export_1465921594229!$D1084:$G10344,4,FALSE)","v":"L67-120928"},"L67"]
[null,"Boucher Claude",{"$f":"VLOOKUP(B1084,[1]export_1465921594229!$D1085:$G10345,4,FALSE)","v":"321-122350"},"321"]
[null,"Boucher Claude",{"$f":"VLOOKUP(B1085,[1]export_1465921594229!$D1086:$G10346,4,FALSE)","v":"DZA-660040"},"DZA"]
[null,"Boucher Claude",{"$f":"VLOOKUP(B1086,[1]export_1465921594229!$D1087:$G10347,4,FALSE)","v":"K86-125333"},"K86"]
[null,"Boucher Dave",{"$f":"VLOOKUP(B1087,[1]export_1465921594229!$D1088:$G10348,4,FALSE)","v":"E97-118532"},"E97"]
[null,"Boucher Denis",{"$f":"VLOOKUP(B1088,[1]export_1465921594229!$D1089:$G10349,4,FALSE)","v":"J10-116449"},"J10"]
[null,"Boucher Francois",{"$f":"VLOOKUP(B1089,[1]export_1465921594229!$D1090:$G10350,4,FALSE)","v":"507-120252"},"507"]
[null,"Boucher Gilles",{"$f":"VLOOKUP(B1090,[1]export_1465921594229!$D1091:$G10351,4,FALSE)","v":"K30-121083"},{"$f":"LEFT(C1090,3)","v":"K30"}]
[null,"Boucher Irene",{"$f":"VLOOKUP(B1091,[1]export_1465921594229!$D1092:$G10352,4,FALSE)","v":{"$error":"#N/A"}},{"$error":"#N/A"}]
[null,"Boucher Jean-Francois",{"$f":"VLOOKUP(B1092,[1]export_1465921594229!$D1093:$G10353,4,FALSE)","v":"339-122367"},"339"]
[null,"Boucher Jean-Francois",{"$f":"VLOOKUP(B1093,[1]export_1465921594229!$D1094:$G10354,4,FALSE)","v":"E71-118513"},"E71"]
[null,"Boucher Jeannine",{"$f":"VLOOKUP(B1094,[1]export_1465921594229!$D1095:$G10355,4,FALSE)","v":"013-122518"},"013"]
[null,"Boucher Marc-Andre",{"$f":"VLOOKUP(B1095,[1]export_1465921594229!$D1096:$G10356,4,FALSE)","v":{"$error":"#N/A"}},{"$error":"#N/A"}]
[null,"Boucher Mathieu",{"$f":"VLOOKUP(B1096,[1]export_1465921594229!$D1097:$G10357,4,FALSE)","v":"F10-118644"},"F10"]
[null,"Boucher Maude",{"$f":"VLOOKUP(B1097,[1]export_1465921594229!$D1098:$G10358,4,FALSE)","v":"CMM-124121"},"CMM"]
[null,"Boucher Mylene",{"$f":"VLOOKUP(B1098,[1]export_1465921594229!$D1099:$G10359,4,FALSE)","v":"QN1-660488"},"QN1"]
[null,"Boucher Patrick",{"$f":"VLOOKUP(B1099,[1]export_1465921594229!$D1100:$G10360,4,FALSE)","v":"BS4-118246"},"BS4"]
[null,"Boucher Patrick",{"$f":"VLOOKUP(B1100,[1]export_1465921594229!$D1101:$G10361,4,FALSE)","v":"I05-116294"},"I05"]
[null,"Boucher Patrick",{"$f":"VLOOKUP(B1101,[1]export_1465921594229!$D1102:$G10362,4,FALSE)","v":"J11-119171"},"J11"]
[null,"Boudreau Calvin",{"$f":"VLOOKUP(B1102,[1]export_1465921594229!$D1103:$G10363,4,FALSE)","v":"CQI-124216"},"CQI"]
[null,"Boudreau Diane",{"$f":"VLOOKUP(B1103,[1]export_1465921594229!$D1104:$G10364,4,FALSE)","v":"I37-119096"},"I37"]
[null,"Boudreau Gilles",{"$f":"VLOOKUP(B1104,[1]export_1465921594229!$D1105:$G10365,4,FALSE)","v":"AO0-115745"},"AO0"]
[null,"Boudreau Jean-Pierre",{"$f":"VLOOKUP(B1105,[1]export_1465921594229!$D1106:$G10366,4,FALSE)","v":"CTJ-124291"},"CTJ"]
[null,"Boudreau Raynald",{"$f":"VLOOKUP(B1106,[1]export_1465921594229!$D1107:$G10367,4,FALSE)","v":"V63-120114"},"V63"]
[null,"Boudreault Alcide",{"$f":"VLOOKUP(B1107,[1]export_1465921594229!$D1108:$G10368,4,FALSE)","v":"DP0-121537"},"DP0"]
[null,"Boudreault Daniel",{"$f":"VLOOKUP(B1108,[1]export_1465921594229!$D1109:$G10369,4,FALSE)","v":"CKK-124075"},"CKK"]
[null,"Boudreault Lilie",{"$f":"VLOOKUP(B1109,[1]export_1465921594229!$D1110:$G10370,4,FALSE)","v":"C95-121720"},"C95"]
[null,"Boudreault Louise M.",{"$f":"VLOOKUP(B1110,[1]export_1465921594229!$D1111:$G10371,4,FALSE)","v":"A47-122121"},"A47"]
[null,"Boudreault Marc-Andre",{"$f":"VLOOKUP(B1111,[1]export_1465921594229!$D1112:$G10372,4,FALSE)","v":"DM4-118408"},"DM4"]
[null,"Boudreault Marcel",{"$f":"VLOOKUP(B1112,[1]export_1465921594229!$D1113:$G10373,4,FALSE)","v":"H94-660568"},"H94"]
[null,"Boudreault Paul-Emile",{"$f":"VLOOKUP(B1113,[1]export_1465921594229!$D1114:$G10374,4,FALSE)","v":"GP9-660647"},"GP9"]
[null,"Boudreault Real",{"$f":"VLOOKUP(B1114,[1]export_1465921594229!$D1115:$G10375,4,FALSE)","v":"U36-120550"},"U36"]
[null,"Boudreault Yvon",{"$f":"VLOOKUP(B1115,[1]export_1465921594229!$D1116:$G10376,4,FALSE)","v":"BS5-660387"},"BS5"]
[null,"Bouery Renee",{"$f":"VLOOKUP(B1116,[1]export_1465921594229!$D1117:$G10377,4,FALSE)","v":"DUC-125208"},"DUC"]
[null,"Bouffard Charles-Edouard",{"$f":"VLOOKUP(B1117,[1]export_1465921594229!$D1118:$G10378,4,FALSE)","v":"T75-119901"},"T75"]
[null,"Bouffard Jonathan",{"$f":"VLOOKUP(B1118,[1]export_1465921594229!$D1119:$G10379,4,FALSE)","v":"JO1-660427"},"JO1"]
[null,"Bouffard Therese",{"$f":"VLOOKUP(B1119,[1]export_1465921594229!$D1120:$G10380,4,FALSE)","v":"669-122185"},"669"]
[null,"Boughan Kuldish",{"$f":"VLOOKUP(B1120,[1]export_1465921594229!$D1121:$G10381,4,FALSE)","v":"GU8-118948"},"GU8"]
[null,"Bougie Johanne",{"$f":"VLOOKUP(B1121,[1]export_1465921594229!$D1122:$G10382,4,FALSE)","v":"C2I-124515"},"C2I"]
[null,"Bouhid Abdellatif",{"$f":"VLOOKUP(B1122,[1]export_1465921594229!$D1123:$G10383,4,FALSE)","v":"152-122490"},"152"]
[null,"Boukaroum Mounir",{"$f":"VLOOKUP(B1123,[1]export_1465921594229!$D1124:$G10384,4,FALSE)","v":"B3Z-660478"},"B3Z"]
[null,"Boukhoulef Karim",{"$f":"VLOOKUP(B1124,[1]export_1465921594229!$D1125:$G10385,4,FALSE)","v":"B1E-660459"},"B1E"]
[null,"Boulais Jacques",{"$f":"VLOOKUP(B1125,[1]export_1465921594229!$D1126:$G10386,4,FALSE)","v":"DR5-660656"},"DR5"]
[null,"Boulanger Michel",{"$f":"VLOOKUP(B1126,[1]export_1465921594229!$D1127:$G10387,4,FALSE)","v":"DQ1-121541"},"DQ1"]
[null,"Boulanger Nikoll",{"$f":"VLOOKUP(B1127,[1]export_1465921594229!$D1128:$G10388,4,FALSE)","v":"GA1-118850"},"GA1"]
[null,"Boulanger Vincent",{"$f":"VLOOKUP(B1128,[1]export_1465921594229!$D1129:$G10389,4,FALSE)","v":"U61-119935"},"U61"]
[null,"Boulay Francis",{"$f":"VLOOKUP(B1129,[1]export_1465921594229!$D1130:$G10390,4,FALSE)","v":"CMN-124122"},"CMN"]
[null,"Boulay Gilles",{"$f":"VLOOKUP(B1130,[1]export_1465921594229!$D1131:$G10391,4,FALSE)","v":"K31-121084"},"K31"]
[null,"Boulay Gino",{"$f":"VLOOKUP(B1131,[1]export_1465921594229!$D1132:$G10392,4,FALSE)","v":"K32-116627"},"K32"]
[null,"Boulay Jonathan",{"$f":"VLOOKUP(B1132,[1]export_1465921594229!$D1133:$G10393,4,FALSE)","v":"BYB-660429"},"BYB"]
[null,"Boulet Denis",{"$f":"VLOOKUP(B1133,[1]export_1465921594229!$D1134:$G10394,4,FALSE)","v":"W72-120495"},"W72"]
[null,"Boulet Gilles",{"$f":"VLOOKUP(B1134,[1]export_1465921594229!$D1135:$G10395,4,FALSE)","v":"AQ0-121956"},"AQ0"]
[null,"Boulet Sonia",{"$f":"VLOOKUP(B1135,[1]export_1465921594229!$D1136:$G10396,4,FALSE)","v":"B98-121817"},"B98"]
[null,"Boulianne Dany",{"$f":"VLOOKUP(B1136,[1]export_1465921594229!$D1137:$G10397,4,FALSE)","v":"BL4-115786"},"BL4"]
[null,"Boulianne Louis-Marie",{"$f":"VLOOKUP(B1137,[1]export_1465921594229!$D1138:$G10398,4,FALSE)","v":"M58-119389"},"M58"]
[null,"Boulila Firas",{"$f":"VLOOKUP(B1138,[1]export_1465921594229!$D1139:$G10399,4,FALSE)","v":"GK4-121255"},"GK4"]
[null,"Boulos Michel",{"$f":"VLOOKUP(B1139,[1]export_1465921594229!$D1140:$G10400,4,FALSE)","v":"IM1-119143"},"IM1"]
[null,"Boulos Robert",{"$f":"VLOOKUP(B1140,[1]export_1465921594229!$D1141:$G10401,4,FALSE)","v":"CF2-118291"},"CF2"]
[null,"Bounvongxay Noy",{"$f":"VLOOKUP(B1141,[1]export_1465921594229!$D1142:$G10402,4,FALSE)","v":"GM8-118910"},"GM8"]
[null,"Bourassa Jean-Pierre",{"$f":"VLOOKUP(B1142,[1]export_1465921594229!$D1143:$G10403,4,FALSE)","v":"327-122355"},"327"]
[null,"Bourassa Nathalie",{"$f":"VLOOKUP(B1143,[1]export_1465921594229!$D1144:$G10404,4,FALSE)","v":"005-122513"},"005"]
[null,"Bourassa Robert",{"$f":"VLOOKUP(B1144,[1]export_1465921594229!$D1145:$G10405,4,FALSE)","v":"F81-121414"},"F81"]
[null,"Bourassa Robert",{"$f":"VLOOKUP(B1145,[1]export_1465921594229!$D1146:$G10406,4,FALSE)","v":"GP5-600035"},"GP5"]
[null,"Bourassa Steve",{"$f":"VLOOKUP(B1146,[1]export_1465921594229!$D1147:$G10407,4,FALSE)","v":"DN7-115902"},"DN7"]
[null,"Bourbeau Rejean",{"$f":"VLOOKUP(B1147,[1]export_1465921594229!$D1148:$G10408,4,FALSE)","v":"JX5-116608"},"JX5"]
[null,"Bourbonnais Carole",{"$f":"VLOOKUP(B1148,[1]export_1465921594229!$D1149:$G10409,4,FALSE)","v":"EF4-660734"},"EF4"]
[null,"Bourdages Maurice",{"$f":"VLOOKUP(B1149,[1]export_1465921594229!$D1150:$G10410,4,FALSE)","v":"A55-115718"},"A55"]
[null,"Bourdeau Jonathan",{"$f":"VLOOKUP(B1150,[1]export_1465921594229!$D1151:$G10411,4,FALSE)","v":"C5Z-124601"},"C5Z"]
[null,"Bourdeau Paul",{"$f":"VLOOKUP(B1151,[1]export_1465921594229!$D1152:$G10412,4,FALSE)","v":"BO1-121741"},"BO1"]
[null,"Bourdeau Paul",{"$f":"VLOOKUP(B1152,[1]export_1465921594229!$D1153:$G10413,4,FALSE)","v":"Z90-120458"},"Z90"]
[null,"Bourgeois Priscilla",{"$f":"VLOOKUP(B1153,[1]export_1465921594229!$D1154:$G10414,4,FALSE)","v":"CAJ-123825"},"CAJ"]
[null,"Bourgeois Rene",{"$f":"VLOOKUP(B1154,[1]export_1465921594229!$D1155:$G10415,4,FALSE)","v":"042-122541"},{"$f":"LEFT(C1154,3)","v":"042"}]
[null,"Bourgeois Richard",{"$f":"VLOOKUP(B1155,[1]export_1465921594229!$D1156:$G10416,4,FALSE)","v":"RG0-660183"},"RG0"]
[null,"Bourgeois Yvon",{"$f":"VLOOKUP(B1156,[1]export_1465921594229!$D1157:$G10417,4,FALSE)","v":"670-122186"},"670"]
[null,"Bourget Brigitte",{"$f":"VLOOKUP(B1157,[1]export_1465921594229!$D1158:$G10418,4,FALSE)","v":"017-122522"},"017"]
[null,"Bourget Danielle",{"$f":"VLOOKUP(B1158,[1]export_1465921594229!$D1159:$G10419,4,FALSE)","v":"526-122219"},"526"]
[null,"Bourget Patrick",{"$f":"VLOOKUP(B1159,[1]export_1465921594229!$D1160:$G10420,4,FALSE)","v":"AV4-121984"},"AV4"]
[null,"Bourget Paul",{"$f":"VLOOKUP(B1160,[1]export_1465921594229!$D1161:$G10421,4,FALSE)","v":"P27-119614"},"P27"]
[null,"Bourgoin Claude",{"$f":"VLOOKUP(B1161,[1]export_1465921594229!$D1162:$G10422,4,FALSE)","v":"IN8-116386"},"IN8"]
[null,"Bourgoin Horne Norah",{"$f":"VLOOKUP(B1162,[1]export_1465921594229!$D1163:$G10423,4,FALSE)","v":"C45-121688"},"C45"]
[null,"Bourgon Gerard",{"$f":"VLOOKUP(B1163,[1]export_1465921594229!$D1164:$G10424,4,FALSE)","v":"447-122311"},"447"]
[null,"Bourne Andrew",{"$f":"VLOOKUP(B1164,[1]export_1465921594229!$D1165:$G10425,4,FALSE)","v":"CXB-124382"},"CXB"]
[null,"Bournival Lyne",{"$f":"VLOOKUP(B1165,[1]export_1465921594229!$D1166:$G10426,4,FALSE)","v":"H05-118963"},"H05"]
[null,"Bourouf Cherif",{"$f":"VLOOKUP(B1166,[1]export_1465921594229!$D1167:$G10427,4,FALSE)","v":"V04-120575"},"V04"]
[null,"Bourque Benoit-Pierre",{"$f":"VLOOKUP(B1167,[1]export_1465921594229!$D1168:$G10428,4,FALSE)","v":"MI1-120888"},"MI1"]
[null,"Bourque David",{"$f":"VLOOKUP(B1168,[1]export_1465921594229!$D1169:$G10429,4,FALSE)","v":"M59-120869"},"M59"]
[null,"Bourque Denis",{"$f":"VLOOKUP(B1169,[1]export_1465921594229!$D1170:$G10430,4,FALSE)","v":"QR1-117762"},"QR1"]
[null,"Boursiquot Hughes",{"$f":"VLOOKUP(B1170,[1]export_1465921594229!$D1171:$G10431,4,FALSE)","v":"NI3-117193"},"NI3"]
[null,"Bousquet Pierre",{"$f":"VLOOKUP(B1171,[1]export_1465921594229!$D1172:$G10432,4,FALSE)","v":"DN6-118415"},"DN6"]
[null,"Bousquet Vincent",{"$f":"VLOOKUP(B1172,[1]export_1465921594229!$D1173:$G10433,4,FALSE)","v":"DMQ-125020"},"DMQ"]
[null,"Bouthiette Yvan",{"$f":"VLOOKUP(B1173,[1]export_1465921594229!$D1174:$G10434,4,FALSE)","v":"CX5-115860"},"CX5"]
[null,"Bouthillette Eric",{"$f":"VLOOKUP(B1174,[1]export_1465921594229!$D1175:$G10435,4,FALSE)","v":"L29-119300"},"L29"]
[null,"Bouthillier Alain",{"$f":"VLOOKUP(B1175,[1]export_1465921594229!$D1176:$G10436,4,FALSE)","v":"C48-121689"},"C48"]
[null,"Boutin Diane",{"$f":"VLOOKUP(B1176,[1]export_1465921594229!$D1177:$G10437,4,FALSE)","v":"E33-121437"},"E33"]
[null,"Boutin Lucie",{"$f":"VLOOKUP(B1177,[1]export_1465921594229!$D1178:$G10438,4,FALSE)","v":"E29-118485"},"E29"]
[null,"Boutin Rejean",{"$f":"VLOOKUP(B1178,[1]export_1465921594229!$D1179:$G10439,4,FALSE)","v":"516-120255"},"516"]
[null,"Bouzidi Nadir",{"$f":"VLOOKUP(B1179,[1]export_1465921594229!$D1180:$G10440,4,FALSE)","v":"T76-660263"},"T76"]
[null,"Bower Cameron",{"$f":"VLOOKUP(B1180,[1]export_1465921594229!$D1181:$G10441,4,FALSE)","v":"BPE-029260"},"BPE"]
[null,"Bowles David Allen",{"$f":"VLOOKUP(B1181,[1]export_1465921594229!$D1182:$G10442,4,FALSE)","v":"X95-120050"},"X95"]
[null,"Bowness Laurie",{"$f":"VLOOKUP(B1182,[1]export_1465921594229!$D1183:$G10443,4,FALSE)","v":"IB6-116321"},"IB6"]
[null,"Bowskill Gary",{"$f":"VLOOKUP(B1183,[1]export_1465921594229!$D1184:$G10444,4,FALSE)","v":"BNH-500451"},"BNH"]
[null,"Boyce Lorraine-I.",{"$f":"VLOOKUP(B1184,[1]export_1465921594229!$D1185:$G10445,4,FALSE)","v":"719-122089"},"719"]
[null,"Boyce Lorraine-I.",{"$f":"VLOOKUP(B1185,[1]export_1465921594229!$D1186:$G10446,4,FALSE)","v":"124-122469"},"124"]
[null,"Boyce Lorraine-I.",{"$f":"VLOOKUP(B1186,[1]export_1465921594229!$D1187:$G10447,4,FALSE)","v":"519-122214"},"519"]
[null,"Boyce Norman",{"$f":"VLOOKUP(B1187,[1]export_1465921594229!$D1188:$G10448,4,FALSE)","v":"BJX-123248"},"BJX"]
[null,"Boyce Norman",{"$f":"VLOOKUP(B1188,[1]export_1465921594229!$D1189:$G10449,4,FALSE)","v":"BEK-550114"},"BEK"]
[null,"Boyd Ramon",{"$f":"VLOOKUP(B1189,[1]export_1465921594229!$D1190:$G10450,4,FALSE)","v":"CB0-121730"},"CB0"]
[null,"Boyer Martin",{"$f":"VLOOKUP(B1190,[1]export_1465921594229!$D1191:$G10451,4,FALSE)","v":"570-122247"},"570"]
[null,"Brabant Rejean",{"$f":"VLOOKUP(B1191,[1]export_1465921594229!$D1192:$G10452,4,FALSE)","v":"PR6-117599"},"PR6"]
[null,"Bradbury Jennifer Delores",{"$f":"VLOOKUP(B1192,[1]export_1465921594229!$D1193:$G10453,4,FALSE)","v":"NH9-117190"},"NH9"]
[null,"Bradette Rejeanne",{"$f":"VLOOKUP(B1193,[1]export_1465921594229!$D1194:$G10454,4,FALSE)","v":"589-122131"},"589"]
[null,"Brahma Ravinder",{"$f":"VLOOKUP(B1194,[1]export_1465921594229!$D1195:$G10455,4,FALSE)","v":"CSF-124262"},"CSF"]
[null,"Brais Marc",{"$f":"VLOOKUP(B1195,[1]export_1465921594229!$D1196:$G10456,4,FALSE)","v":"155-122493"},"155"]
[null,"Braley, Sr. Herbert",{"$f":"VLOOKUP(B1196,[1]export_1465921594229!$D1197:$G10457,4,FALSE)","v":"DFH-124838"},"DFH"]
[null,"Branchaud Meneses Jessica",{"$f":"VLOOKUP(B1197,[1]export_1465921594229!$D1198:$G10458,4,FALSE)","v":"BLQ-600080"},"BLQ"]
[null,"Brand Phillip",{"$f":"VLOOKUP(B1198,[1]export_1465921594229!$D1199:$G10459,4,FALSE)","v":"GQ7-116111"},"GQ7"]
[null,"Brandon Alan James",{"$f":"VLOOKUP(B1199,[1]export_1465921594229!$D1200:$G10460,4,FALSE)","v":"DIB-124907"},"DIB"]
[null,"Branford Cecily",{"$f":"VLOOKUP(B1200,[1]export_1465921594229!$D1201:$G10461,4,FALSE)","v":"PQ4-117590"},"PQ4"]
[null,"Brar Baljit",{"$f":"VLOOKUP(B1201,[1]export_1465921594229!$D1202:$G10462,4,FALSE)","v":"BBH-550183"},"BBH"]
[null,"Brar Dharminder",{"$f":"VLOOKUP(B1202,[1]export_1465921594229!$D1203:$G10463,4,FALSE)","v":"BBT-550262"},"BBT"]
[null,"Brar Kuldeep Singh",{"$f":"VLOOKUP(B1203,[1]export_1465921594229!$D1204:$G10464,4,FALSE)","v":"KC1-116653"},"KC1"]
[null,"Brar Major Singh",{"$f":"VLOOKUP(B1204,[1]export_1465921594229!$D1205:$G10465,4,FALSE)","v":"B4Q-123683"},"B4Q"]
[null,"Brar Paramjit",{"$f":"VLOOKUP(B1205,[1]export_1465921594229!$D1206:$G10466,4,FALSE)","v":"BPS-123352"},"BPS"]
[null,"Brar Sukhchain",{"$f":"VLOOKUP(B1206,[1]export_1465921594229!$D1207:$G10467,4,FALSE)","v":"JK6-119208"},"JK6"]
[null,"Brar Tehal",{"$f":"VLOOKUP(B1207,[1]export_1465921594229!$D1208:$G10468,4,FALSE)","v":"CLE-550221"},"CLE"]
[null,"Brash Natasha",{"$f":"VLOOKUP(B1208,[1]export_1465921594229!$D1209:$G10469,4,FALSE)","v":"JT6-116577"},"JT6"]
[null,"Brassard Eric",{"$f":"VLOOKUP(B1209,[1]export_1465921594229!$D1210:$G10470,4,FALSE)","v":"Z55-120081"},"Z55"]
[null,"Brassard Gilberte",{"$f":"VLOOKUP(B1210,[1]export_1465921594229!$D1211:$G10471,4,FALSE)","v":"590-122132"},"590"]
[null,"Brassard Jannie",{"$f":"VLOOKUP(B1211,[1]export_1465921594229!$D1212:$G10472,4,FALSE)","v":"MN8-120892"},"MN8"]
[null,"Brassard Luc",{"$f":"VLOOKUP(B1212,[1]export_1465921594229!$D1213:$G10473,4,FALSE)","v":"DGO-124870"},"DGO"]
[null,"Brassard-Gagnon Blaise",{"$f":"VLOOKUP(B1213,[1]export_1465921594229!$D1214:$G10474,4,FALSE)","v":"FS4-660395"},"FS4"]
[null,"Brault Michele",{"$f":"VLOOKUP(B1214,[1]export_1465921594229!$D1215:$G10475,4,FALSE)","v":"085-122568"},"085"]
[null,"Bray Eugene",{"$f":"VLOOKUP(B1215,[1]export_1465921594229!$D1216:$G10476,4,FALSE)","v":"B7Q-123758"},"B7Q"]
[null,"Brazeau Daniel",{"$f":"VLOOKUP(B1216,[1]export_1465921594229!$D1217:$G10477,4,FALSE)","v":"GT9-116121"},"GT9"]
[null,"Breahna Silvia-Sabina",{"$f":"VLOOKUP(B1217,[1]export_1465921594229!$D1218:$G10478,4,FALSE)","v":"DHP-124895"},"DHP"]
[null,"Brennan Anne",{"$f":"VLOOKUP(B1218,[1]export_1465921594229!$D1219:$G10479,4,FALSE)","v":"DU5-121424"},{"$f":"LEFT(C1218,3)","v":"DU5"}]
[null,"Brennan Erica",{"$f":"VLOOKUP(B1219,[1]export_1465921594229!$D1220:$G10480,4,FALSE)","v":"RE4-119821"},"RE4"]
[null,"Brennan Lorne",{"$f":"VLOOKUP(B1220,[1]export_1465921594229!$D1221:$G10481,4,FALSE)","v":"188-122388"},"188"]
[null,"Brennan Lorne",{"$f":"VLOOKUP(B1221,[1]export_1465921594229!$D1222:$G10482,4,FALSE)","v":"713-115645"},"713"]
[null,"Brethour William",{"$f":"VLOOKUP(B1222,[1]export_1465921594229!$D1223:$G10483,4,FALSE)","v":"IU9-116425"},"IU9"]
[null,"Breton Christian",{"$f":"VLOOKUP(B1223,[1]export_1465921594229!$D1224:$G10484,4,FALSE)","v":"725-115651"},"725"]
[null,"Breton Christian",{"$f":"VLOOKUP(B1224,[1]export_1465921594229!$D1225:$G10485,4,FALSE)","v":"273-115637"},"273"]
[null,"Breton Christian",{"$f":"VLOOKUP(B1225,[1]export_1465921594229!$D1226:$G10486,4,FALSE)","v":"HG0-116187"},"HG0"]
[null,"Breton Christian",{"$f":"VLOOKUP(B1226,[1]export_1465921594229!$D1227:$G10487,4,FALSE)","v":"960-115673"},"960"]
[null,"Breton Claudia",{"$f":"VLOOKUP(B1227,[1]export_1465921594229!$D1228:$G10488,4,FALSE)","v":"H18-121281"},"H18"]
[null,"Breton Jean-Yves",{"$f":"VLOOKUP(B1228,[1]export_1465921594229!$D1229:$G10489,4,FALSE)","v":"B36-115759"},"B36"]
[null,"Breton Karine",{"$f":"VLOOKUP(B1229,[1]export_1465921594229!$D1230:$G10490,4,FALSE)","v":"CSM-124269"},"CSM"]
[null,"Breton Manon",{"$f":"VLOOKUP(B1230,[1]export_1465921594229!$D1231:$G10491,4,FALSE)","v":"C22-120240"},"C22"]
[null,"Breton Manon",{"$f":"VLOOKUP(B1231,[1]export_1465921594229!$D1232:$G10492,4,FALSE)","v":"H82-118988"},"H82"]
[null,"Breton Myriam",{"$f":"VLOOKUP(B1232,[1]export_1465921594229!$D1233:$G10493,4,FALSE)","v":"M62-120870"},"M62"]
[null,"Breton Myriam",{"$f":"VLOOKUP(B1233,[1]export_1465921594229!$D1234:$G10494,4,FALSE)","v":"S44-120621"},"S44"]
[null,"Breton Vincent",{"$f":"VLOOKUP(B1234,[1]export_1465921594229!$D1235:$G10495,4,FALSE)","v":"OG0-660217"},"OG0"]
[null,"Breton-Mercier Elie",{"$f":"VLOOKUP(B1235,[1]export_1465921594229!$D1236:$G10496,4,FALSE)","v":"D7D-125536"},"D7D"]
[null,"Breznyansky Leslie",{"$f":"VLOOKUP(B1236,[1]export_1465921594229!$D1237:$G10497,4,FALSE)","v":"OR5-117389"},"OR5"]
[null,"Briand Alan W.",{"$f":"VLOOKUP(B1237,[1]export_1465921594229!$D1238:$G10498,4,FALSE)","v":"O84-119551"},"O84"]
[null,"Briand Linda",{"$f":"VLOOKUP(B1238,[1]export_1465921594229!$D1239:$G10499,4,FALSE)","v":"508-122208"},"508"]
[null,"Bricker Shan",{"$f":"VLOOKUP(B1239,[1]export_1465921594229!$D1240:$G10500,4,FALSE)","v":"BWL-550894"},"BWL"]
[null,"Brien Pierre",{"$f":"VLOOKUP(B1240,[1]export_1465921594229!$D1241:$G10501,4,FALSE)","v":"E04-118462"},"E04"]
[null,"Briere Alain",{"$f":"VLOOKUP(B1241,[1]export_1465921594229!$D1242:$G10502,4,FALSE)","v":"W54-660278"},"W54"]
[null,"Briere Louise",{"$f":"VLOOKUP(B1242,[1]export_1465921594229!$D1243:$G10503,4,FALSE)","v":"EN6-118588"},"EN6"]
[null,"Briere Bellemare Rita",{"$f":"VLOOKUP(B1243,[1]export_1465921594229!$D1244:$G10504,4,FALSE)","v":"049-122546"},"049"]
[null,"Brietkopf Hu",{"$f":"VLOOKUP(B1244,[1]export_1465921594229!$D1245:$G10505,4,FALSE)","v":"NW9-117262"},"NW9"]
[null,"Brillant Georges",{"$f":"VLOOKUP(B1245,[1]export_1465921594229!$D1246:$G10506,4,FALSE)","v":"340-122368"},"340"]
[null,"Briscoe Angella",{"$f":"VLOOKUP(B1246,[1]export_1465921594229!$D1247:$G10507,4,FALSE)","v":"Q98-120708"},"Q98"]
[null,"Briscoe Angella",{"$f":"VLOOKUP(B1247,[1]export_1465921594229!$D1248:$G10508,4,FALSE)","v":"B8G-123774"},"B8G"]
[null,"Briscoe Angella",{"$f":"VLOOKUP(B1248,[1]export_1465921594229!$D1249:$G10509,4,FALSE)","v":"Q70-120700"},"Q70"]
[null,"Brisebois Guy",{"$f":"VLOOKUP(B1249,[1]export_1465921594229!$D1250:$G10510,4,FALSE)","v":"I79-121108"},"I79"]
[null,"Brisebois Jean-Francois",{"$f":"VLOOKUP(B1250,[1]export_1465921594229!$D1251:$G10511,4,FALSE)","v":"RE7-117889"},"RE7"]
[null,"Brisebois Yves",{"$f":"VLOOKUP(B1251,[1]export_1465921594229!$D1252:$G10512,4,FALSE)","v":"H72-118984"},"H72"]
[null,"Brissette Marcel",{"$f":"VLOOKUP(B1252,[1]export_1465921594229!$D1253:$G10513,4,FALSE)","v":"C49-120244"},"C49"]
[null,"Brissette Roger",{"$f":"VLOOKUP(B1253,[1]export_1465921594229!$D1254:$G10514,4,FALSE)","v":"X29-120028"},"X29"]
[null,"Brisson Gaston",{"$f":"VLOOKUP(B1254,[1]export_1465921594229!$D1255:$G10515,4,FALSE)","v":"M37-116955"},"M37"]
[null,"Brisson Guy",{"$f":"VLOOKUP(B1255,[1]export_1465921594229!$D1256:$G10516,4,FALSE)","v":"HG4-119030"},"HG4"]
[null,"Brisson Guylaine",{"$f":"VLOOKUP(B1256,[1]export_1465921594229!$D1257:$G10517,4,FALSE)","v":"R34-119799"},"R34"]
[null,"Brisson Jacques",{"$f":"VLOOKUP(B1257,[1]export_1465921594229!$D1258:$G10518,4,FALSE)","v":"D73-121604"},"D73"]
[null,"Brisson Manon",{"$f":"VLOOKUP(B1258,[1]export_1465921594229!$D1259:$G10519,4,FALSE)","v":"EQ0-115971"},"EQ0"]
[null,"Brisson Robert",{"$f":"VLOOKUP(B1259,[1]export_1465921594229!$D1260:$G10520,4,FALSE)","v":"S94-660515"},"S94"]
[null,"Brochu Bruno",{"$f":"VLOOKUP(B1260,[1]export_1465921594229!$D1261:$G10521,4,FALSE)","v":"W91-117985"},"W91"]
[null,"Brochu France",{"$f":"VLOOKUP(B1261,[1]export_1465921594229!$D1262:$G10522,4,FALSE)","v":"252-120427"},"252"]
[null,"Brochu Guy",{"$f":"VLOOKUP(B1262,[1]export_1465921594229!$D1263:$G10523,4,FALSE)","v":"F39-121398"},"F39"]
[null,"Brochu Julien",{"$f":"VLOOKUP(B1263,[1]export_1465921594229!$D1264:$G10524,4,FALSE)","v":"DO0-118417"},"DO0"]
[null,"Brodeur Michel",{"$f":"VLOOKUP(B1264,[1]export_1465921594229!$D1265:$G10525,4,FALSE)","v":"R51-660616"},"R51"]
[null,"Brodie Steve",{"$f":"VLOOKUP(B1265,[1]export_1465921594229!$D1266:$G10526,4,FALSE)","v":"N28-500510"},"N28"]
[null,"Brogan Frederick",{"$f":"VLOOKUP(B1266,[1]export_1465921594229!$D1267:$G10527,4,FALSE)","v":"OI3-119565"},"OI3"]
[null,"Brogan Frederick",{"$f":"VLOOKUP(B1267,[1]export_1465921594229!$D1268:$G10528,4,FALSE)","v":"OI2-119564"},"OI2"]
[null,"Brooks Brenda",{"$f":"VLOOKUP(B1268,[1]export_1465921594229!$D1269:$G10529,4,FALSE)","v":"U70-120562"},"U70"]
[null,"Brooks Russell",{"$f":"VLOOKUP(B1269,[1]export_1465921594229!$D1270:$G10530,4,FALSE)","v":"EW1-600021"},"EW1"]
[null,"Brooks Russell",{"$f":"VLOOKUP(B1270,[1]export_1465921594229!$D1271:$G10531,4,FALSE)","v":"EW2-121378"},"EW2"]
[null,"Broome Victor",{"$f":"VLOOKUP(B1271,[1]export_1465921594229!$D1272:$G10532,4,FALSE)","v":"BN0-118230"},"BN0"]
[null,"Brossard Lissa Marie",{"$f":"VLOOKUP(B1272,[1]export_1465921594229!$D1273:$G10533,4,FALSE)","v":"EC6-118540"},"EC6"]
[null,"Brosseau Claude",{"$f":"VLOOKUP(B1273,[1]export_1465921594229!$D1274:$G10534,4,FALSE)","v":"PC1-117468"},"PC1"]
[null,"Brosseau Jared",{"$f":"VLOOKUP(B1274,[1]export_1465921594229!$D1275:$G10535,4,FALSE)","v":"A8D-123046"},"A8D"]
[null,"Brosseau Laurent-Philippe",{"$f":"VLOOKUP(B1275,[1]export_1465921594229!$D1276:$G10536,4,FALSE)","v":"E70-118512"},"E70"]
[null,"Brosseau Louis-Pierre",{"$f":"VLOOKUP(B1276,[1]export_1465921594229!$D1277:$G10537,4,FALSE)","v":"F25-118649"},"F25"]
[null,"Brosseau Robert",{"$f":"VLOOKUP(B1277,[1]export_1465921594229!$D1278:$G10538,4,FALSE)","v":"P45-119622"},"P45"]
[null,"Brot (GIC Wealth) Brandon",{"$f":"VLOOKUP(B1278,[1]export_1465921594229!$D1279:$G10539,4,FALSE)","v":"CXT-124399"},"CXT"]
[null,"Brouillette Francis",{"$f":"VLOOKUP(B1279,[1]export_1465921594229!$D1280:$G10540,4,FALSE)","v":"GH9-118883"},"GH9"]
[null,"Brouillette Francis",{"$f":"VLOOKUP(B1280,[1]export_1465921594229!$D1281:$G10541,4,FALSE)","v":"EG8-118556"},"EG8"]
[null,"Brouillette Louise",{"$f":"VLOOKUP(B1281,[1]export_1465921594229!$D1282:$G10542,4,FALSE)","v":"D5K-125494"},"D5K"]
[null,"Brouillette Valerie",{"$f":"VLOOKUP(B1282,[1]export_1465921594229!$D1283:$G10543,4,FALSE)","v":{"$error":"#N/A"}},{"$f":"LEFT(C1282,3)","v":{"$error":"#N/A"}}]
[null,"Brousseau Claire",{"$f":"VLOOKUP(B1283,[1]export_1465921594229!$D1284:$G10544,4,FALSE)","v":"A50-120199"},"A50"]
[null,"Brousseau Eliane",{"$f":"VLOOKUP(B1284,[1]export_1465921594229!$D1285:$G10545,4,FALSE)","v":"A29-122112"},"A29"]
[null,"Brousseau Jean-Marc",{"$f":"VLOOKUP(B1285,[1]export_1465921594229!$D1286:$G10546,4,FALSE)","v":"E54-115930"},"E54"]
[null,"Brousseau Jean-Paul",{"$f":"VLOOKUP(B1286,[1]export_1465921594229!$D1287:$G10547,4,FALSE)","v":"Q00-119672"},"Q00"]
[null,"Brousseau Judes",{"$f":"VLOOKUP(B1287,[1]export_1465921594229!$D1288:$G10548,4,FALSE)","v":"108-122458"},"108"]
[null,"Brousseau Roger",{"$f":"VLOOKUP(B1288,[1]export_1465921594229!$D1289:$G10549,4,FALSE)","v":"GQ5-118929"},"GQ5"]
[null,"Brousseau Roger",{"$f":"VLOOKUP(B1289,[1]export_1465921594229!$D1290:$G10550,4,FALSE)","v":"K27-121082"},"K27"]
[null,"Brown Ann",{"$f":"VLOOKUP(B1290,[1]export_1465921594229!$D1291:$G10551,4,FALSE)","v":"B6Z-123741"},"B6Z"]
[null,"Brown Carole Heather",{"$f":"VLOOKUP(B1291,[1]export_1465921594229!$D1292:$G10552,4,FALSE)","v":"DIM-124917"},"DIM"]
[null,"Brown Denis",{"$f":"VLOOKUP(B1292,[1]export_1465921594229!$D1293:$G10553,4,FALSE)","v":"H10-660269"},"H10"]
[null,"Brown Jason",{"$f":"VLOOKUP(B1293,[1]export_1465921594229!$D1294:$G10554,4,FALSE)","v":"DLN-124994"},"DLN"]
[null,"Brown Nicholas",{"$f":"VLOOKUP(B1294,[1]export_1465921594229!$D1295:$G10555,4,FALSE)","v":"C7E-124631"},"C7E"]
[null,"Brown Sean",{"$f":"VLOOKUP(B1295,[1]export_1465921594229!$D1296:$G10556,4,FALSE)","v":"B4D-123670"},"B4D"]
[null,"Brown Stephen",{"$f":"VLOOKUP(B1296,[1]export_1465921594229!$D1297:$G10557,4,FALSE)","v":"LU8-116917"},"LU8"]
[null,"Brown Thomas",{"$f":"VLOOKUP(B1297,[1]export_1465921594229!$D1298:$G10558,4,FALSE)","v":"LH3-115605"},"LH3"]
[null,"Brown Thomas",{"$f":"VLOOKUP(B1298,[1]export_1465921594229!$D1299:$G10559,4,FALSE)","v":"GQ1-116108"},"GQ1"]
[null,"Brown Thomas",{"$f":"VLOOKUP(B1299,[1]export_1465921594229!$D1300:$G10560,4,FALSE)","v":"JF7-119197"},"JF7"]
[null,"Brown Thomas",{"$f":"VLOOKUP(B1300,[1]export_1465921594229!$D1301:$G10561,4,FALSE)","v":"JF6-115601"},"JF6"]
[null,"Brown Thomas",{"$f":"VLOOKUP(B1301,[1]export_1465921594229!$D1302:$G10562,4,FALSE)","v":"MH7-119419"},"MH7"]
[null,"Brown Thomas",{"$f":"VLOOKUP(B1302,[1]export_1465921594229!$D1303:$G10563,4,FALSE)","v":"HU8-119069"},"HU8"]
[null,"Brown Thomas",{"$f":"VLOOKUP(B1303,[1]export_1465921594229!$D1304:$G10564,4,FALSE)","v":"OO2-119588"},"OO2"]
[null,"Brown Trenton",{"$f":"VLOOKUP(B1304,[1]export_1465921594229!$D1305:$G10565,4,FALSE)","v":"U27-501405"},"U27"]
[null,"Bruce Robert",{"$f":"VLOOKUP(B1305,[1]export_1465921594229!$D1306:$G10566,4,FALSE)","v":"KZ9-119290"},"KZ9"]
[null,"Bruce Robert",{"$f":"VLOOKUP(B1306,[1]export_1465921594229!$D1307:$G10567,4,FALSE)","v":"LA0-119308"},"LA0"]
[null,"Brui Francois",{"$f":"VLOOKUP(B1307,[1]export_1465921594229!$D1308:$G10568,4,FALSE)","v":"H96-660458"},"H96"]
[null,"Brulotte Regent",{"$f":"VLOOKUP(B1308,[1]export_1465921594229!$D1309:$G10569,4,FALSE)","v":"AD0-118106"},"AD0"]
[null,"Bruneau Francois",{"$f":"VLOOKUP(B1309,[1]export_1465921594229!$D1310:$G10570,4,FALSE)","v":"MA9-120883"},"MA9"]
[null,"Brunelle Luc",{"$f":"VLOOKUP(B1310,[1]export_1465921594229!$D1311:$G10571,4,FALSE)","v":"S25-119844"},"S25"]
[null,"Brunelle Manon",{"$f":"VLOOKUP(B1311,[1]export_1465921594229!$D1312:$G10572,4,FALSE)","v":"I78-119112"},"I78"]
[null,"Brunelle Sylvie",{"$f":"VLOOKUP(B1312,[1]export_1465921594229!$D1313:$G10573,4,FALSE)","v":"JW6-116601"},"JW6"]
[null,"Brunet Linda",{"$f":"VLOOKUP(B1313,[1]export_1465921594229!$D1314:$G10574,4,FALSE)","v":"C21-121796"},"C21"]
[null,"Brunet Louise",{"$f":"VLOOKUP(B1314,[1]export_1465921594229!$D1315:$G10575,4,FALSE)","v":"T68-120536"},"T68"]
[null,"Brunet Patrice",{"$f":"VLOOKUP(B1315,[1]export_1465921594229!$D1316:$G10576,4,FALSE)","v":"AP1-115747"},"AP1"]
[null,"Brung Laurent",{"$f":"VLOOKUP(B1316,[1]export_1465921594229!$D1317:$G10577,4,FALSE)","v":"DU9-121425"},"DU9"]
[null,"Brunton J. David",{"$f":"VLOOKUP(B1317,[1]export_1465921594229!$D1318:$G10578,4,FALSE)","v":"DWQ-125274"},"DWQ"]
[null,"Bruschetto John",{"$f":"VLOOKUP(B1318,[1]export_1465921594229!$D1319:$G10579,4,FALSE)","v":"KU5-119279"},"KU5"]
[null,"Bruschetto John",{"$f":"VLOOKUP(B1319,[1]export_1465921594229!$D1320:$G10580,4,FALSE)","v":"KU6-119280"},"KU6"]
[null,"Bruyere Charles",{"$f":"VLOOKUP(B1320,[1]export_1465921594229!$D1321:$G10581,4,FALSE)","v":"357-120321"},"357"]
[null,"Buchanan Maria Connie",{"$f":"VLOOKUP(B1321,[1]export_1465921594229!$D1322:$G10582,4,FALSE)","v":"LE9-116831"},"LE9"]
[null,"Buchanan Ronald G",{"$f":"VLOOKUP(B1322,[1]export_1465921594229!$D1323:$G10583,4,FALSE)","v":"IN6-119145"},"IN6"]
[null,"Bucknell Anita",{"$f":"VLOOKUP(B1323,[1]export_1465921594229!$D1324:$G10584,4,FALSE)","v":"GC9-118859"},"GC9"]
[null,"Bucsi Mark",{"$f":"VLOOKUP(B1324,[1]export_1465921594229!$D1325:$G10585,4,FALSE)","v":"A30-122113"},"A30"]
[null,"Budd David",{"$f":"VLOOKUP(B1325,[1]export_1465921594229!$D1326:$G10586,4,FALSE)","v":"C3I-124541"},"C3I"]
[null,"Budynek Zbigniew",{"$f":"VLOOKUP(B1326,[1]export_1465921594229!$D1327:$G10587,4,FALSE)","v":"V99-120474"},"V99"]
[null,"Buelow(G2 Financial Solu) Glenda",{"$f":"VLOOKUP(B1327,[1]export_1465921594229!$D1328:$G10588,4,FALSE)","v":"OH2-117328"},"OH2"]
[null,"Buen Maria Hazel Ivy",{"$f":"VLOOKUP(B1328,[1]export_1465921594229!$D1329:$G10589,4,FALSE)","v":"CVV-124350"},"CVV"]
[null,"Buenaventura Jay Ernest",{"$f":"VLOOKUP(B1329,[1]export_1465921594229!$D1330:$G10590,4,FALSE)","v":"PK0-117537"},"PK0"]
[null,"Buenaventura Wenceslawa",{"$f":"VLOOKUP(B1330,[1]export_1465921594229!$D1331:$G10591,4,FALSE)","v":"KG9-116693"},"KG9"]
[null,"Bueno Lovejoy",{"$f":"VLOOKUP(B1331,[1]export_1465921594229!$D1332:$G10592,4,FALSE)","v":"BVQ-123472"},"BVQ"]
[null,"Buenviaje Rosalina",{"$f":"VLOOKUP(B1332,[1]export_1465921594229!$D1333:$G10593,4,FALSE)","v":"JU2-116583"},"JU2"]
[null,"Buhay A-Jay",{"$f":"VLOOKUP(B1333,[1]export_1465921594229!$D1334:$G10594,4,FALSE)","v":"B7U-123762"},"B7U"]
[null,"Buhr Stuart",{"$f":"VLOOKUP(B1334,[1]export_1465921594229!$D1335:$G10595,4,FALSE)","v":"LA7-116801"},"LA7"]
[null,"Bui Nhu Puon Tuong",{"$f":"VLOOKUP(B1335,[1]export_1465921594229!$D1336:$G10596,4,FALSE)","v":"DJZ-124954"},"DJZ"]
[null,"Bui Phong",{"$f":"VLOOKUP(B1336,[1]export_1465921594229!$D1337:$G10597,4,FALSE)","v":"D41-120146"},"D41"]
[null,"Bui Phong",{"$f":"VLOOKUP(B1337,[1]export_1465921594229!$D1338:$G10598,4,FALSE)","v":"D13-120137"},"D13"]
[null,"Bujold Liette",{"$f":"VLOOKUP(B1338,[1]export_1465921594229!$D1339:$G10599,4,FALSE)","v":"Z20-120059"},"Z20"]
[null,"Bukhari Syed",{"$f":"VLOOKUP(B1339,[1]export_1465921594229!$D1340:$G10600,4,FALSE)","v":"D4Z-125483"},"D4Z"]
[null,"Bukhari Waqar",{"$f":"VLOOKUP(B1340,[1]export_1465921594229!$D1341:$G10601,4,FALSE)","v":"DYO-125324"},"DYO"]
[null,"Bullos-Pereira Leona",{"$f":"VLOOKUP(B1341,[1]export_1465921594229!$D1342:$G10602,4,FALSE)","v":"LB7-116809"},"LB7"]
[null,"Bullough-Akkanen Treese",{"$f":"VLOOKUP(B1342,[1]export_1465921594229!$D1343:$G10603,4,FALSE)","v":"DX0-118454"},"DX0"]
[null,"Bulte Dominic",{"$f":"VLOOKUP(B1343,[1]export_1465921594229!$D1344:$G10604,4,FALSE)","v":{"$error":"#N/A"}},{"$error":"#N/A"}]
[null,"Bunag Ralph",{"$f":"VLOOKUP(B1344,[1]export_1465921594229!$D1345:$G10605,4,FALSE)","v":"B6Y-123740"},"B6Y"]
[null,"Bunch Joel",{"$f":"VLOOKUP(B1345,[1]export_1465921594229!$D1346:$G10606,4,FALSE)","v":"AW7-115755"},"AW7"]
[null,"Burda Larisa",{"$f":"VLOOKUP(B1346,[1]export_1465921594229!$D1347:$G10607,4,FALSE)","v":"CS5-550572"},{"$f":"LEFT(C1346,3)","v":"CS5"}]
[null,"Bureau Bobby",{"$f":"VLOOKUP(B1347,[1]export_1465921594229!$D1348:$G10608,4,FALSE)","v":"C8O-124667"},"C8O"]
[null,"Bureau Guy",{"$f":"VLOOKUP(B1348,[1]export_1465921594229!$D1349:$G10609,4,FALSE)","v":"J76-119175"},"J76"]
[null,"Bureau-Breton Pierre-Alexandre",{"$f":"VLOOKUP(B1349,[1]export_1465921594229!$D1350:$G10610,4,FALSE)","v":"IU0-116420"},"IU0"]
[null,"Burkholder Glenn",{"$f":"VLOOKUP(B1350,[1]export_1465921594229!$D1351:$G10611,4,FALSE)","v":"S81-119864"},"S81"]
[null,"Burkholder Glenn",{"$f":"VLOOKUP(B1351,[1]export_1465921594229!$D1352:$G10612,4,FALSE)","v":"DCF-550042"},"DCF"]
[null,"Burley Beverley",{"$f":"VLOOKUP(B1352,[1]export_1465921594229!$D1353:$G10613,4,FALSE)","v":"OI7-119569"},"OI7"]
[null,"Burley Beverley",{"$f":"VLOOKUP(B1353,[1]export_1465921594229!$D1354:$G10614,4,FALSE)","v":"OI6-119568"},"OI6"]
[null,"Burlon Noel",{"$f":"VLOOKUP(B1354,[1]export_1465921594229!$D1355:$G10615,4,FALSE)","v":"L47-120910"},"L47"]
[null,"Burlon Noel",{"$f":"VLOOKUP(B1355,[1]export_1465921594229!$D1356:$G10616,4,FALSE)","v":"J19-119173"},"J19"]
[null,"Burman Geoff",{"$f":"VLOOKUP(B1356,[1]export_1465921594229!$D1357:$G10617,4,FALSE)","v":"S61-119858"},"S61"]
[null,"Burnham Bruce",{"$f":"VLOOKUP(B1357,[1]export_1465921594229!$D1358:$G10618,4,FALSE)","v":"DU8-118445"},"DU8"]
[null,"Burnham Bruce",{"$f":"VLOOKUP(B1358,[1]export_1465921594229!$D1359:$G10619,4,FALSE)","v":"DU7-118444"},"DU7"]
[null,"Burnham Robert",{"$f":"VLOOKUP(B1359,[1]export_1465921594229!$D1360:$G10620,4,FALSE)","v":"DW4-118451"},"DW4"]
[null,"Burnham Robert",{"$f":"VLOOKUP(B1360,[1]export_1465921594229!$D1361:$G10621,4,FALSE)","v":"DW3-118450"},"DW3"]
[null,"Burnham Shannon",{"$f":"VLOOKUP(B1361,[1]export_1465921594229!$D1362:$G10622,4,FALSE)","v":"CQ9-118340"},"CQ9"]
[null,"Burnham Fewster Stephanie",{"$f":"VLOOKUP(B1362,[1]export_1465921594229!$D1363:$G10623,4,FALSE)","v":"S55-119855"},"S55"]
[null,"Burns Danielle",{"$f":"VLOOKUP(B1363,[1]export_1465921594229!$D1364:$G10624,4,FALSE)","v":"591-120279"},"591"]
[null,"Burns Jeff",{"$f":"VLOOKUP(B1364,[1]export_1465921594229!$D1365:$G10625,4,FALSE)","v":"BR3-118242"},"BR3"]
[null,"Burrowes John",{"$f":"VLOOKUP(B1365,[1]export_1465921594229!$D1366:$G10626,4,FALSE)","v":"I62-116308"},"I62"]
[null,"Burstall Kory",{"$f":"VLOOKUP(B1366,[1]export_1465921594229!$D1367:$G10627,4,FALSE)","v":"DCA-124755"},"DCA"]
[null,"Burt Paul",{"$f":"VLOOKUP(B1367,[1]export_1465921594229!$D1368:$G10628,4,FALSE)","v":"MZ8-119447"},"MZ8"]
[null,"Burt Paul",{"$f":"VLOOKUP(B1368,[1]export_1465921594229!$D1369:$G10629,4,FALSE)","v":"MZ7-119446"},"MZ7"]
[null,"Burton Christopher",{"$f":"VLOOKUP(B1369,[1]export_1465921594229!$D1370:$G10630,4,FALSE)","v":"OK3-117345"},"OK3"]
[null,"Buscemi Stephen",{"$f":"VLOOKUP(B1370,[1]export_1465921594229!$D1371:$G10631,4,FALSE)","v":"BQA-660364"},"BQA"]
[null,"Bussiere Karine",{"$f":"VLOOKUP(B1371,[1]export_1465921594229!$D1372:$G10632,4,FALSE)","v":"GB4-121235"},"GB4"]
[null,"Bussiere Karine",{"$f":"VLOOKUP(B1372,[1]export_1465921594229!$D1373:$G10633,4,FALSE)","v":"JO6-119215"},"JO6"]
[null,"Bussiere Rene",{"$f":"VLOOKUP(B1373,[1]export_1465921594229!$D1374:$G10634,4,FALSE)","v":"R43-117842"},"R43"]
[null,"Bussieres Andreane",{"$f":"VLOOKUP(B1374,[1]export_1465921594229!$D1375:$G10635,4,FALSE)","v":"CAI-123824"},"CAI"]
[null,"Bussieres Robert",{"$f":"VLOOKUP(B1375,[1]export_1465921594229!$D1376:$G10636,4,FALSE)","v":"K82-660104"},"K82"]
[null,"Bussieres Gaëtan",{"$f":"VLOOKUP(B1376,[1]export_1465921594229!$D1377:$G10637,4,FALSE)","v":{"$error":"#N/A"}},{"$error":"#N/A"}]
[null,"Bustos Rodrigo",{"$f":"VLOOKUP(B1377,[1]export_1465921594229!$D1378:$G10638,4,FALSE)","v":"LJ8-116859"},"LJ8"]
[null,"Butler Pansy",{"$f":"VLOOKUP(B1378,[1]export_1465921594229!$D1379:$G10639,4,FALSE)","v":"CHC-123994"},"CHC"]
[null,"Butt Fasial",{"$f":"VLOOKUP(B1379,[1]export_1465921594229!$D1380:$G10640,4,FALSE)","v":"JJ1-119204"},"JJ1"]
[null,"Buttar Armaan",{"$f":"VLOOKUP(B1380,[1]export_1465921594229!$D1381:$G10641,4,FALSE)","v":"JA4-116463"},"JA4"]
[null,"Buttar Sukwinder",{"$f":"VLOOKUP(B1381,[1]export_1465921594229!$D1382:$G10642,4,FALSE)","v":"BCN-550458"},"BCN"]
[null,"Buttery Donald",{"$f":"VLOOKUP(B1382,[1]export_1465921594229!$D1383:$G10643,4,FALSE)","v":"S62-120626"},"S62"]
[null,"Buttery Marilyn",{"$f":"VLOOKUP(B1383,[1]export_1465921594229!$D1384:$G10644,4,FALSE)","v":"BOU-550869"},"BOU"]
[null,"Buxton Kirk",{"$f":"VLOOKUP(B1384,[1]export_1465921594229!$D1385:$G10645,4,FALSE)","v":"KN4-116730"},"KN4"]
[null,"Byers Douglas",{"$f":"VLOOKUP(B1385,[1]export_1465921594229!$D1386:$G10646,4,FALSE)","v":"GS0-118938"},"GS0"]
[null,"Byers Laura",{"$f":"VLOOKUP(B1386,[1]export_1465921594229!$D1387:$G10647,4,FALSE)","v":"GN4-118914"},"GN4"]
[null,"Byrnes David",{"$f":"VLOOKUP(B1387,[1]export_1465921594229!$D1388:$G10648,4,FALSE)","v":"BHK-550851"},"BHK"]
[null,"Cabaluna Misael",{"$f":"VLOOKUP(B1388,[1]export_1465921594229!$D1389:$G10649,4,FALSE)","v":"B7W-123764"},"B7W"]
[null,"Cabana Marcel",{"$f":"VLOOKUP(B1389,[1]export_1465921594229!$D1390:$G10650,4,FALSE)","v":"HJ4-116207"},"HJ4"]
[null,"Cabana Pierre",{"$f":"VLOOKUP(B1390,[1]export_1465921594229!$D1391:$G10651,4,FALSE)","v":"GD3-116080"},"GD3"]
[null,"Cabana Richard",{"$f":"VLOOKUP(B1391,[1]export_1465921594229!$D1392:$G10652,4,FALSE)","v":"323-122352"},"323"]
[null,"Cabance Arwin",{"$f":"VLOOKUP(B1392,[1]export_1465921594229!$D1393:$G10653,4,FALSE)","v":"BVR-123473"},"BVR"]
[null,"Cabrera Alison",{"$f":"VLOOKUP(B1393,[1]export_1465921594229!$D1394:$G10654,4,FALSE)","v":"KH1-116695"},"KH1"]
[null,"Cabrera Elsa",{"$f":"VLOOKUP(B1394,[1]export_1465921594229!$D1395:$G10655,4,FALSE)","v":"PE9-117491"},"PE9"]
[null,"Cabrera Winston",{"$f":"VLOOKUP(B1395,[1]export_1465921594229!$D1396:$G10656,4,FALSE)","v":"CMF-124117"},"CMF"]
[null,"Cadenas Bautista Jessy Jesus",{"$f":"VLOOKUP(B1396,[1]export_1465921594229!$D1397:$G10657,4,FALSE)","v":"DMM-125016"},"DMM"]
[null,"Cadieux Carolle",{"$f":"VLOOKUP(B1397,[1]export_1465921594229!$D1398:$G10658,4,FALSE)","v":"161-122496"},"161"]
[null,"Cadieux Daniel",{"$f":"VLOOKUP(B1398,[1]export_1465921594229!$D1399:$G10659,4,FALSE)","v":"N10-117136"},"N10"]
[null,"Cadieux Daniel",{"$f":"VLOOKUP(B1399,[1]export_1465921594229!$D1400:$G10660,4,FALSE)","v":"L68-120929"},"L68"]
[null,"Cadieux Stephane",{"$f":"VLOOKUP(B1400,[1]export_1465921594229!$D1401:$G10661,4,FALSE)","v":"592-120280"},"592"]
[null,"Cadiz Jayson",{"$f":"VLOOKUP(B1401,[1]export_1465921594229!$D1402:$G10662,4,FALSE)","v":"NJ3-117199"},"NJ3"]
[null,"Caisse Michel",{"$f":"VLOOKUP(B1402,[1]export_1465921594229!$D1403:$G10663,4,FALSE)","v":"HT8-660659"},"HT8"]
[null,"Cajolet Rejean",{"$f":"VLOOKUP(B1403,[1]export_1465921594229!$D1404:$G10664,4,FALSE)","v":"BM8-121863"},"BM8"]
[null,"Calabrese(Calabrese&Asso) George",{"$f":"VLOOKUP(B1404,[1]export_1465921594229!$D1405:$G10665,4,FALSE)","v":"PR3-117598"},"PR3"]
[null,"Calalang Reuben",{"$f":"VLOOKUP(B1405,[1]export_1465921594229!$D1406:$G10666,4,FALSE)","v":"BZ3-121776"},"BZ3"]
[null,"Caldito Jean",{"$f":"VLOOKUP(B1406,[1]export_1465921594229!$D1407:$G10667,4,FALSE)","v":"CFM-123952"},"CFM"]
[null,"Caldito Jean",{"$f":"VLOOKUP(B1407,[1]export_1465921594229!$D1408:$G10668,4,FALSE)","v":"QI7-117703"},"QI7"]
[null,"Caldwell Jennifer",{"$f":"VLOOKUP(B1408,[1]export_1465921594229!$D1409:$G10669,4,FALSE)","v":"CGS-123984"},"CGS"]
[null,"Caldwell Sydney",{"$f":"VLOOKUP(B1409,[1]export_1465921594229!$D1410:$G10670,4,FALSE)","v":"NN8-117226"},"NN8"]
[null,"Calhau John",{"$f":"VLOOKUP(B1410,[1]export_1465921594229!$D1411:$G10671,4,FALSE)","v":"OG7-117323"},{"$f":"LEFT(C1410,3)","v":"OG7"}]
[null,"Calheiros Fernando",{"$f":"VLOOKUP(B1411,[1]export_1465921594229!$D1412:$G10672,4,FALSE)","v":"AF1-118113"},"AF1"]
[null,"Calim Josephine",{"$f":"VLOOKUP(B1412,[1]export_1465921594229!$D1413:$G10673,4,FALSE)","v":"NB7-117153"},"NB7"]
[null,"Callahan Jackson",{"$f":"VLOOKUP(B1413,[1]export_1465921594229!$D1414:$G10674,4,FALSE)","v":"C0A-124455"},"C0A"]
[null,"Calles Simon",{"$f":"VLOOKUP(B1414,[1]export_1465921594229!$D1415:$G10675,4,FALSE)","v":"EB9-660103"},"EB9"]
[null,"Calligan Daniel",{"$f":"VLOOKUP(B1415,[1]export_1465921594229!$D1416:$G10676,4,FALSE)","v":"DHG-124888"},"DHG"]
[null,"Calvert Robert",{"$f":"VLOOKUP(B1416,[1]export_1465921594229!$D1417:$G10677,4,FALSE)","v":"CW7-660605"},"CW7"]
[null,"Calvert Tusi",{"$f":"VLOOKUP(B1417,[1]export_1465921594229!$D1418:$G10678,4,FALSE)","v":"CJS-124057"},"CJS"]
[null,"Calzavara Christine",{"$f":"VLOOKUP(B1418,[1]export_1465921594229!$D1419:$G10679,4,FALSE)","v":"CQ1-121647"},"CQ1"]
[null,"Camaiani Guido",{"$f":"VLOOKUP(B1419,[1]export_1465921594229!$D1420:$G10680,4,FALSE)","v":"RF4-550821"},"RF4"]
[null,"Camba Victor",{"$f":"VLOOKUP(B1420,[1]export_1465921594229!$D1421:$G10681,4,FALSE)","v":"DM2-121532"},"DM2"]
[null,"Cameron Ira",{"$f":"VLOOKUP(B1421,[1]export_1465921594229!$D1422:$G10682,4,FALSE)","v":"BOL-550876"},"BOL"]
[null,"Cameron Jordan (Schaane)",{"$f":"VLOOKUP(B1422,[1]export_1465921594229!$D1423:$G10683,4,FALSE)","v":"B5N-123706"},"B5N"]
[null,"Cameron Jordan (Schaane)",{"$f":"VLOOKUP(B1423,[1]export_1465921594229!$D1424:$G10684,4,FALSE)","v":"MK3-117039"},"MK3"]
[null,"Camilleri Peter",{"$f":"VLOOKUP(B1424,[1]export_1465921594229!$D1425:$G10685,4,FALSE)","v":"NC0-117155"},"NC0"]
[null,"Camirand-Simard Marc-Andre",{"$f":"VLOOKUP(B1425,[1]export_1465921594229!$D1426:$G10686,4,FALSE)","v":{"$error":"#N/A"}},{"$error":"#N/A"}]
[null,"Campagna Johanne",{"$f":"VLOOKUP(B1426,[1]export_1465921594229!$D1427:$G10687,4,FALSE)","v":"L15-660646"},"L15"]
[null,"Campbell Adam james O'Brien",{"$f":"VLOOKUP(B1427,[1]export_1465921594229!$D1428:$G10688,4,FALSE)","v":"U99-119947"},"U99"]
[null,"Campbell Alex",{"$f":"VLOOKUP(B1428,[1]export_1465921594229!$D1429:$G10689,4,FALSE)","v":"T23-119885"},"T23"]
[null,"Campbell Cheryl",{"$f":"VLOOKUP(B1429,[1]export_1465921594229!$D1430:$G10690,4,FALSE)","v":"W24-119991"},"W24"]
[null,"Campbell Jacob",{"$f":"VLOOKUP(B1430,[1]export_1465921594229!$D1431:$G10691,4,FALSE)","v":"T24-117908"},"T24"]
[null,"Campbell James",{"$f":"VLOOKUP(B1431,[1]export_1465921594229!$D1432:$G10692,4,FALSE)","v":"OQ1-119591"},"OQ1"]
[null,"Campbell James",{"$f":"VLOOKUP(B1432,[1]export_1465921594229!$D1433:$G10693,4,FALSE)","v":"OQ2-119592"},"OQ2"]
[null,"Campbell John",{"$f":"VLOOKUP(B1433,[1]export_1465921594229!$D1434:$G10694,4,FALSE)","v":"U73-120564"},"U73"]
[null,"Campbell Lucky",{"$f":"VLOOKUP(B1434,[1]export_1465921594229!$D1435:$G10695,4,FALSE)","v":"BTV-123437"},"BTV"]
[null,"Campbell Pierre",{"$f":"VLOOKUP(B1435,[1]export_1465921594229!$D1436:$G10696,4,FALSE)","v":"392-115703"},"392"]
[null,"Campbell Todd",{"$f":"VLOOKUP(B1436,[1]export_1465921594229!$D1437:$G10697,4,FALSE)","v":"HA8-115597"},"HA8"]
[null,"Campbell Todd",{"$f":"VLOOKUP(B1437,[1]export_1465921594229!$D1438:$G10698,4,FALSE)","v":"HC9-119020"},"HC9"]
[null,"Campbell Todd",{"$f":"VLOOKUP(B1438,[1]export_1465921594229!$D1439:$G10699,4,FALSE)","v":"ES5-118606"},"ES5"]
[null,"Campeau Jacques M.",{"$f":"VLOOKUP(B1439,[1]export_1465921594229!$D1440:$G10700,4,FALSE)","v":"KP7-550645"},"KP7"]
[null,"Campeau Jacques M.",{"$f":"VLOOKUP(B1440,[1]export_1465921594229!$D1441:$G10701,4,FALSE)","v":"S82-120638"},"S82"]
[null,"Campion Mathieu",{"$f":"VLOOKUP(B1441,[1]export_1465921594229!$D1442:$G10702,4,FALSE)","v":"OX5-660535"},"OX5"]
[null,"Camplone Diane",{"$f":"VLOOKUP(B1442,[1]export_1465921594229!$D1443:$G10703,4,FALSE)","v":"U48-120556"},"U48"]
[null,"Cantin Jean-Simon",{"$f":"VLOOKUP(B1443,[1]export_1465921594229!$D1444:$G10704,4,FALSE)","v":"E60-120158"},"E60"]
[null,"Cantin Marc-Andre",{"$f":"VLOOKUP(B1444,[1]export_1465921594229!$D1445:$G10705,4,FALSE)","v":"JB2-116469"},"JB2"]
[null,"Cantin Mario",{"$f":"VLOOKUP(B1445,[1]export_1465921594229!$D1446:$G10706,4,FALSE)","v":"403-122284"},"403"]
[null,"Cantin Mario",{"$f":"VLOOKUP(B1446,[1]export_1465921594229!$D1447:$G10707,4,FALSE)","v":"NP0-117233"},"NP0"]
[null,"Cantin Maxime",{"$f":"VLOOKUP(B1447,[1]export_1465921594229!$D1448:$G10708,4,FALSE)","v":"DEJ-124814"},"DEJ"]
[null,"Cantin Maxime",{"$f":"VLOOKUP(B1448,[1]export_1465921594229!$D1449:$G10709,4,FALSE)","v":"A5N-122581"},"A5N"]
[null,"Cantin Pierre-Olivier",{"$f":"VLOOKUP(B1449,[1]export_1465921594229!$D1450:$G10710,4,FALSE)","v":"GS8-118941"},"GS8"]
[null,"Cantin Valerie",{"$f":"VLOOKUP(B1450,[1]export_1465921594229!$D1451:$G10711,4,FALSE)","v":"B81-118186"},"B81"]
[null,"Cantley Derek",{"$f":"VLOOKUP(B1451,[1]export_1465921594229!$D1452:$G10712,4,FALSE)","v":"B3Q-502339"},"B3Q"]
[null,"Caouette Alain",{"$f":"VLOOKUP(B1452,[1]export_1465921594229!$D1453:$G10713,4,FALSE)","v":"F46-118658"},"F46"]
[null,"Caouette Jean-Guy",{"$f":"VLOOKUP(B1453,[1]export_1465921594229!$D1454:$G10714,4,FALSE)","v":"024-122528"},"024"]
[null,"Caputo Lisa",{"$f":"VLOOKUP(B1454,[1]export_1465921594229!$D1455:$G10715,4,FALSE)","v":"DD1-118052"},"DD1"]
[null,"Carasquero (Actual Benef) Linda",{"$f":"VLOOKUP(B1455,[1]export_1465921594229!$D1456:$G10716,4,FALSE)","v":"OP2-117371"},"OP2"]
[null,"Carbone Christian",{"$f":"VLOOKUP(B1456,[1]export_1465921594229!$D1457:$G10717,4,FALSE)","v":"M99-120882"},"M99"]
[null,"Carbonneau Alain",{"$f":"VLOOKUP(B1457,[1]export_1465921594229!$D1458:$G10718,4,FALSE)","v":"X10-120505"},"X10"]
[null,"Cardinal Alex",{"$f":"VLOOKUP(B1458,[1]export_1465921594229!$D1459:$G10719,4,FALSE)","v":"P33-117445"},"P33"]
[null,"Cardinal Andre",{"$f":"VLOOKUP(B1459,[1]export_1465921594229!$D1460:$G10720,4,FALSE)","v":"171-122505"},"171"]
[null,"Cardinal Gilles",{"$f":"VLOOKUP(B1460,[1]export_1465921594229!$D1461:$G10721,4,FALSE)","v":"P24-117443"},"P24"]
[null,"Cardoza Alvin Patrick N",{"$f":"VLOOKUP(B1461,[1]export_1465921594229!$D1462:$G10722,4,FALSE)","v":"JZ8-116618"},"JZ8"]
[null,"Cardozo Sebastiao",{"$f":"VLOOKUP(B1462,[1]export_1465921594229!$D1463:$G10723,4,FALSE)","v":"QG9-119765"},"QG9"]
[null,"Cardozo Sebastiao",{"$f":"VLOOKUP(B1463,[1]export_1465921594229!$D1464:$G10724,4,FALSE)","v":"QJ4-119773"},"QJ4"]
[null,"Carew Susan",{"$f":"VLOOKUP(B1464,[1]export_1465921594229!$D1465:$G10725,4,FALSE)","v":"T39-120527"},"T39"]
[null,"Carey William",{"$f":"VLOOKUP(B1465,[1]export_1465921594229!$D1466:$G10726,4,FALSE)","v":"OE3-117304"},"OE3"]
[null,"Cariaga Maureen",{"$f":"VLOOKUP(B1466,[1]export_1465921594229!$D1467:$G10727,4,FALSE)","v":"JZ3-116613"},"JZ3"]
[null,"Carignan Jean",{"$f":"VLOOKUP(B1467,[1]export_1465921594229!$D1468:$G10728,4,FALSE)","v":"KG1-660127"},"KG1"]
[null,"Carlos Jesus M",{"$f":"VLOOKUP(B1468,[1]export_1465921594229!$D1469:$G10729,4,FALSE)","v":"EB2-121453"},"EB2"]
[null,"Carlson Carole",{"$f":"VLOOKUP(B1469,[1]export_1465921594229!$D1470:$G10730,4,FALSE)","v":"BC2-118196"},"BC2"]
[null,"Carlson Carole",{"$f":"VLOOKUP(B1470,[1]export_1465921594229!$D1471:$G10731,4,FALSE)","v":"FW9-118799"},"FW9"]
[null,"Carmona Ruiz Luis",{"$f":"VLOOKUP(B1471,[1]export_1465921594229!$D1472:$G10732,4,FALSE)","v":"D5Z-125508"},"D5Z"]
[null,"Carmount Robert",{"$f":"VLOOKUP(B1472,[1]export_1465921594229!$D1473:$G10733,4,FALSE)","v":"QU3-119784"},"QU3"]
[null,"Carmount Robert",{"$f":"VLOOKUP(B1473,[1]export_1465921594229!$D1474:$G10734,4,FALSE)","v":"KB1-115602"},"KB1"]
[null,"Carmount Robert",{"$f":"VLOOKUP(B1474,[1]export_1465921594229!$D1475:$G10735,4,FALSE)","v":"CUC-124307"},{"$f":"LEFT(C1474,3)","v":"CUC"}]
[null,"Carnduff John",{"$f":"VLOOKUP(B1475,[1]export_1465921594229!$D1476:$G10736,4,FALSE)","v":"CDN-550920"},"CDN"]
[null,"Carobelli Frank",{"$f":"VLOOKUP(B1476,[1]export_1465921594229!$D1477:$G10737,4,FALSE)","v":"RF3-550820"},"RF3"]
[null,"Caron Avik",{"$f":"VLOOKUP(B1477,[1]export_1465921594229!$D1478:$G10738,4,FALSE)","v":"V70-120464"},"V70"]
[null,"Caron Brigitte",{"$f":"VLOOKUP(B1478,[1]export_1465921594229!$D1479:$G10739,4,FALSE)","v":"QH8-117694"},"QH8"]
[null,"Caron Celine",{"$f":"VLOOKUP(B1479,[1]export_1465921594229!$D1480:$G10740,4,FALSE)","v":"QE4-117678"},"QE4"]
[null,"Caron Charlotte",{"$f":"VLOOKUP(B1480,[1]export_1465921594229!$D1481:$G10741,4,FALSE)","v":"PV0-117625"},"PV0"]
[null,"Caron Claude",{"$f":"VLOOKUP(B1481,[1]export_1465921594229!$D1482:$G10742,4,FALSE)","v":"BA7-118190"},"BA7"]
[null,"Caron Daniel",{"$f":"VLOOKUP(B1482,[1]export_1465921594229!$D1483:$G10743,4,FALSE)","v":"BR6-115799"},"BR6"]
[null,"Caron Daniel",{"$f":"VLOOKUP(B1483,[1]export_1465921594229!$D1484:$G10744,4,FALSE)","v":"IG8-121128"},"IG8"]
[null,"Caron Dominic",{"$f":"VLOOKUP(B1484,[1]export_1465921594229!$D1485:$G10745,4,FALSE)","v":"I69-119109"},"I69"]
[null,"Caron Elise",{"$f":"VLOOKUP(B1485,[1]export_1465921594229!$D1486:$G10746,4,FALSE)","v":"A31-120190"},"A31"]
[null,"Caron Emmanuel",{"$f":"VLOOKUP(B1486,[1]export_1465921594229!$D1487:$G10747,4,FALSE)","v":"C14-121791"},"C14"]
[null,"Caron Felix",{"$f":"VLOOKUP(B1487,[1]export_1465921594229!$D1488:$G10748,4,FALSE)","v":{"$error":"#N/A"}},{"$error":"#N/A"}]
[null,"Caron Francois",{"$f":"VLOOKUP(B1488,[1]export_1465921594229!$D1489:$G10749,4,FALSE)","v":"MI4-117024"},"MI4"]
[null,"Caron Gaston",{"$f":"VLOOKUP(B1489,[1]export_1465921594229!$D1490:$G10750,4,FALSE)","v":"DR8-121546"},"DR8"]
[null,"Caron Guylaine",{"$f":"VLOOKUP(B1490,[1]export_1465921594229!$D1491:$G10751,4,FALSE)","v":"BV3-121764"},"BV3"]
[null,"Caron Jacques",{"$f":"VLOOKUP(B1491,[1]export_1465921594229!$D1492:$G10752,4,FALSE)","v":"324-122353"},"324"]
[null,"Caron Jean Eudes",{"$f":"VLOOKUP(B1492,[1]export_1465921594229!$D1493:$G10753,4,FALSE)","v":"CL7-118323"},"CL7"]
[null,"Caron Jean-Francois",{"$f":"VLOOKUP(B1493,[1]export_1465921594229!$D1494:$G10754,4,FALSE)","v":"619-120288"},"619"]
[null,"Caron Lana",{"$f":"VLOOKUP(B1494,[1]export_1465921594229!$D1495:$G10755,4,FALSE)","v":"620-120289"},"620"]
[null,"Caron Martin",{"$f":"VLOOKUP(B1495,[1]export_1465921594229!$D1496:$G10756,4,FALSE)","v":"BE4-660303"},"BE4"]
[null,"Caron Pierre Yves",{"$f":"VLOOKUP(B1496,[1]export_1465921594229!$D1497:$G10757,4,FALSE)","v":"J01-660191"},"J01"]
[null,"Caron Rodrigue",{"$f":"VLOOKUP(B1497,[1]export_1465921594229!$D1498:$G10758,4,FALSE)","v":"HV0-116272"},"HV0"]
[null,"Caron Roger",{"$f":"VLOOKUP(B1498,[1]export_1465921594229!$D1499:$G10759,4,FALSE)","v":"312-122342"},"312"]
[null,"Caron Yves",{"$f":"VLOOKUP(B1499,[1]export_1465921594229!$D1500:$G10760,4,FALSE)","v":"E82-118520"},"E82"]
[null,"Carpenter Jack",{"$f":"VLOOKUP(B1500,[1]export_1465921594229!$D1501:$G10761,4,FALSE)","v":"DC8-121496"},"DC8"]
[null,"Carpenter Jack",{"$f":"VLOOKUP(B1501,[1]export_1465921594229!$D1502:$G10762,4,FALSE)","v":"HC8-119019"},"HC8"]
[null,"Carpentier Caroline",{"$f":"VLOOKUP(B1502,[1]export_1465921594229!$D1503:$G10763,4,FALSE)","v":"CYA-124406"},"CYA"]
[null,"Carpentier Dorice",{"$f":"VLOOKUP(B1503,[1]export_1465921594229!$D1504:$G10764,4,FALSE)","v":"326-122354"},"326"]
[null,"Carpentier Dorice",{"$f":"VLOOKUP(B1504,[1]export_1465921594229!$D1505:$G10765,4,FALSE)","v":"CU5-115852"},"CU5"]
[null,"Carpentier Mario",{"$f":"VLOOKUP(B1505,[1]export_1465921594229!$D1506:$G10766,4,FALSE)","v":"JI7-116510"},"JI7"]
[null,"Carpentier Mario",{"$f":"VLOOKUP(B1506,[1]export_1465921594229!$D1507:$G10767,4,FALSE)","v":"288-122328"},"288"]
[null,"Carpentier Silvain",{"$f":"VLOOKUP(B1507,[1]export_1465921594229!$D1508:$G10768,4,FALSE)","v":"K17-125285"},"K17"]
[null,"Carpentier Silvain",{"$f":"VLOOKUP(B1508,[1]export_1465921594229!$D1509:$G10769,4,FALSE)","v":"DXB-660034"},"DXB"]
[null,"Carpino Carlo",{"$f":"VLOOKUP(B1509,[1]export_1465921594229!$D1510:$G10770,4,FALSE)","v":"OH4-117330"},"OH4"]
[null,"Carreira Frank",{"$f":"VLOOKUP(B1510,[1]export_1465921594229!$D1511:$G10771,4,FALSE)","v":"OG4-117321"},"OG4"]
[null,"Carrey Darren",{"$f":"VLOOKUP(B1511,[1]export_1465921594229!$D1512:$G10772,4,FALSE)","v":"DLW-125002"},"DLW"]
[null,"Carriere Louis",{"$f":"VLOOKUP(B1512,[1]export_1465921594229!$D1513:$G10773,4,FALSE)","v":"RE8-117890"},"RE8"]
[null,"Carriere Melanie",{"$f":"VLOOKUP(B1513,[1]export_1465921594229!$D1514:$G10774,4,FALSE)","v":"IL8-660728"},"IL8"]
[null,"Carrigan Kevin Sean",{"$f":"VLOOKUP(B1514,[1]export_1465921594229!$D1515:$G10775,4,FALSE)","v":"OK4-117346"},"OK4"]
[null,"Carter Christine",{"$f":"VLOOKUP(B1515,[1]export_1465921594229!$D1516:$G10776,4,FALSE)","v":"B8F-123773"},"B8F"]
[null,"Carter Hosea",{"$f":"VLOOKUP(B1516,[1]export_1465921594229!$D1517:$G10777,4,FALSE)","v":"HX4-119073"},"HX4"]
[null,"Cartier Yvan",{"$f":"VLOOKUP(B1517,[1]export_1465921594229!$D1518:$G10778,4,FALSE)","v":"FA0-118681"},"FA0"]
[null,"Carydia Christian",{"$f":"VLOOKUP(B1518,[1]export_1465921594229!$D1519:$G10779,4,FALSE)","v":"DB4-660638"},"DB4"]
[null,"Casault Alain",{"$f":"VLOOKUP(B1519,[1]export_1465921594229!$D1520:$G10780,4,FALSE)","v":"E58-118507"},"E58"]
[null,"Casavant Pierre",{"$f":"VLOOKUP(B1520,[1]export_1465921594229!$D1521:$G10781,4,FALSE)","v":"W16-119987"},"W16"]
[null,"Cascagnette Della",{"$f":"VLOOKUP(B1521,[1]export_1465921594229!$D1522:$G10782,4,FALSE)","v":"CPY-124208"},"CPY"]
[null,"Cascagnette Paul",{"$f":"VLOOKUP(B1522,[1]export_1465921594229!$D1523:$G10783,4,FALSE)","v":"CKM-124077"},"CKM"]
[null,"Case Lisa",{"$f":"VLOOKUP(B1523,[1]export_1465921594229!$D1524:$G10784,4,FALSE)","v":"BAU-550082"},"BAU"]
[null,"Casey Carole",{"$f":"VLOOKUP(B1524,[1]export_1465921594229!$D1525:$G10785,4,FALSE)","v":"065-122557"},"065"]
[null,"Casimir Sandra",{"$f":"VLOOKUP(B1525,[1]export_1465921594229!$D1526:$G10786,4,FALSE)","v":"Z92-120460"},"Z92"]
[null,"Cast Nicole ",{"$f":"VLOOKUP(B1526,[1]export_1465921594229!$D1527:$G10787,4,FALSE)","v":"DM9-118411"},"DM9"]
[null,"Castellanos Bany",{"$f":"VLOOKUP(B1527,[1]export_1465921594229!$D1528:$G10788,4,FALSE)","v":"NO6-117230"},"NO6"]
[null,"Castillo Marlon",{"$f":"VLOOKUP(B1528,[1]export_1465921594229!$D1529:$G10789,4,FALSE)","v":"DDQ-124795"},"DDQ"]
[null,"Castling Harry",{"$f":"VLOOKUP(B1529,[1]export_1465921594229!$D1530:$G10790,4,FALSE)","v":"GE6-116084"},"GE6"]
[null,"Castonguay Ariane",{"$f":"VLOOKUP(B1530,[1]export_1465921594229!$D1531:$G10791,4,FALSE)","v":"CSR-124274"},"CSR"]
[null,"Castonguay Henri",{"$f":"VLOOKUP(B1531,[1]export_1465921594229!$D1532:$G10792,4,FALSE)","v":"C1Y-124505"},"C1Y"]
[null,"Castonguay Jean-François",{"$f":"VLOOKUP(B1532,[1]export_1465921594229!$D1533:$G10793,4,FALSE)","v":"H61-121169"},"H61"]
[null,"Castonguay Jean-François",{"$f":"VLOOKUP(B1533,[1]export_1465921594229!$D1534:$G10794,4,FALSE)","v":"949-115573"},"949"]
[null,"Castonguay Jean-François",{"$f":"VLOOKUP(B1534,[1]export_1465921594229!$D1535:$G10795,4,FALSE)","v":"B5G-123699"},"B5G"]
[null,"Castonguay Louis-Marie",{"$f":"VLOOKUP(B1535,[1]export_1465921594229!$D1536:$G10796,4,FALSE)","v":"GA2-118851"},"GA2"]
[null,"Castonguay Thomas",{"$f":"VLOOKUP(B1536,[1]export_1465921594229!$D1537:$G10797,4,FALSE)","v":"JM4-550620"},"JM4"]
[null,"Castonguay Thomas",{"$f":"VLOOKUP(B1537,[1]export_1465921594229!$D1538:$G10798,4,FALSE)","v":"X48-120518"},"X48"]
[null,"Castro Jeanne",{"$f":"VLOOKUP(B1538,[1]export_1465921594229!$D1539:$G10799,4,FALSE)","v":"CNY-124156"},{"$f":"LEFT(C1538,3)","v":"CNY"}]
[null,"Cataga Gloria",{"$f":"VLOOKUP(B1539,[1]export_1465921594229!$D1540:$G10800,4,FALSE)","v":"LL4-116868"},"LL4"]
[null,"Catausan Elvira",{"$f":"VLOOKUP(B1540,[1]export_1465921594229!$D1541:$G10801,4,FALSE)","v":"OR1-119593"},"OR1"]
[null,"Caty Christian",{"$f":"VLOOKUP(B1541,[1]export_1465921594229!$D1542:$G10802,4,FALSE)","v":"095-122447"},"095"]
[null,"Caty Isabelle",{"$f":"VLOOKUP(B1542,[1]export_1465921594229!$D1543:$G10803,4,FALSE)","v":"MA8-660230"},"MA8"]
[null,"Caty Normand",{"$f":"VLOOKUP(B1543,[1]export_1465921594229!$D1544:$G10804,4,FALSE)","v":"MW8-120898"},"MW8"]
[null,"Caty Normand",{"$f":"VLOOKUP(B1544,[1]export_1465921594229!$D1545:$G10805,4,FALSE)","v":"IP9-660655"},"IP9"]
[null,"Cauchi Pascale",{"$f":"VLOOKUP(B1545,[1]export_1465921594229!$D1546:$G10806,4,FALSE)","v":"CPQ-124200"},"CPQ"]
[null,"Cauchon Jean-Gerard",{"$f":"VLOOKUP(B1546,[1]export_1465921594229!$D1547:$G10807,4,FALSE)","v":"F00-118640"},"F00"]
[null,"Cauchon Lise",{"$f":"VLOOKUP(B1547,[1]export_1465921594229!$D1548:$G10808,4,FALSE)","v":"E99-660525"},"E99"]
[null,"Cauchon Lise",{"$f":"VLOOKUP(B1548,[1]export_1465921594229!$D1549:$G10809,4,FALSE)","v":"DH3-118393"},"DH3"]
[null,"Cavanagh John",{"$f":"VLOOKUP(B1549,[1]export_1465921594229!$D1550:$G10810,4,FALSE)","v":"CRP-124246"},"CRP"]
[null,"Cawley Michael",{"$f":"VLOOKUP(B1550,[1]export_1465921594229!$D1551:$G10811,4,FALSE)","v":"MZ5-502139"},"MZ5"]
[null,"Cayer Kimberly",{"$f":"VLOOKUP(B1551,[1]export_1465921594229!$D1552:$G10812,4,FALSE)","v":"C3A-124533"},"C3A"]
[null,"Cayer Yvan",{"$f":"VLOOKUP(B1552,[1]export_1465921594229!$D1553:$G10813,4,FALSE)","v":"T92-117927"},"T92"]
[null,"Cayer Richard Robin-Pierre",{"$f":"VLOOKUP(B1553,[1]export_1465921594229!$D1554:$G10814,4,FALSE)","v":"W64-660367"},"W64"]
[null,"Celi Marichu",{"$f":"VLOOKUP(B1554,[1]export_1465921594229!$D1555:$G10815,4,FALSE)","v":"IR7-121144"},"IR7"]
[null,"Cervantes Ramonita",{"$f":"VLOOKUP(B1555,[1]export_1465921594229!$D1556:$G10816,4,FALSE)","v":"LV6-116923"},"LV6"]
[null,"Cesard Natalie",{"$f":"VLOOKUP(B1556,[1]export_1465921594229!$D1557:$G10817,4,FALSE)","v":"113-122461"},"113"]
[null,"Cesta Marcello",{"$f":"VLOOKUP(B1557,[1]export_1465921594229!$D1558:$G10818,4,FALSE)","v":"CU2-118355"},"CU2"]
[null,"Chabot Alain",{"$f":"VLOOKUP(B1558,[1]export_1465921594229!$D1559:$G10819,4,FALSE)","v":"EL4-660475"},"EL4"]
[null,"Chabot Carol",{"$f":"VLOOKUP(B1559,[1]export_1465921594229!$D1560:$G10820,4,FALSE)","v":"GZ7-116141"},"GZ7"]
[null,"Chabot Claude",{"$f":"VLOOKUP(B1560,[1]export_1465921594229!$D1561:$G10821,4,FALSE)","v":"D2J-125418"},"D2J"]
[null,"Chabot Francois",{"$f":"VLOOKUP(B1561,[1]export_1465921594229!$D1562:$G10822,4,FALSE)","v":"446-120348"},"446"]
[null,"Chabot Jacques",{"$f":"VLOOKUP(B1562,[1]export_1465921594229!$D1563:$G10823,4,FALSE)","v":"G49-116057"},"G49"]
[null,"Chabot Johanne",{"$f":"VLOOKUP(B1563,[1]export_1465921594229!$D1564:$G10824,4,FALSE)","v":"DVP-125247"},"DVP"]
[null,"Chabot Louis-Georges",{"$f":"VLOOKUP(B1564,[1]export_1465921594229!$D1565:$G10825,4,FALSE)","v":"U80-119941"},"U80"]
[null,"Chabot Michel",{"$f":"VLOOKUP(B1565,[1]export_1465921594229!$D1566:$G10826,4,FALSE)","v":"L01-121029"},"L01"]
[null,"Chabot Michel",{"$f":"VLOOKUP(B1566,[1]export_1465921594229!$D1567:$G10827,4,FALSE)","v":"723-115649"},"723"]
[null,"Chabot Michel",{"$f":"VLOOKUP(B1567,[1]export_1465921594229!$D1568:$G10828,4,FALSE)","v":"404-122285"},"404"]
[null,"Chadwick Normand",{"$f":"VLOOKUP(B1568,[1]export_1465921594229!$D1569:$G10829,4,FALSE)","v":"O87-119552"},"O87"]
[null,"Chagger Prithpal S",{"$f":"VLOOKUP(B1569,[1]export_1465921594229!$D1570:$G10830,4,FALSE)","v":"BF4-550202"},"BF4"]
[null,"Chagnon Bernard",{"$f":"VLOOKUP(B1570,[1]export_1465921594229!$D1571:$G10831,4,FALSE)","v":"G92-121232"},"G92"]
[null,"Chagnon Jean-Francois",{"$f":"VLOOKUP(B1571,[1]export_1465921594229!$D1572:$G10832,4,FALSE)","v":"ET5-121375"},"ET5"]
[null,"Chagnon Pierre",{"$f":"VLOOKUP(B1572,[1]export_1465921594229!$D1573:$G10833,4,FALSE)","v":"DZ1-660045"},"DZ1"]
[null,"Chahal Gurinder",{"$f":"VLOOKUP(B1573,[1]export_1465921594229!$D1574:$G10834,4,FALSE)","v":"LE8-116830"},"LE8"]
[null,"Chahal Kuldip",{"$f":"VLOOKUP(B1574,[1]export_1465921594229!$D1575:$G10835,4,FALSE)","v":"BBE-550172"},"BBE"]
[null,"Chai David",{"$f":"VLOOKUP(B1575,[1]export_1465921594229!$D1576:$G10836,4,FALSE)","v":"AP7-115748"},"AP7"]
[null,"Chainey Mario",{"$f":"VLOOKUP(B1576,[1]export_1465921594229!$D1577:$G10837,4,FALSE)","v":"494-122202"},"494"]
[null,"Chainey Mario",{"$f":"VLOOKUP(B1577,[1]export_1465921594229!$D1578:$G10838,4,FALSE)","v":"F86-121416"},"F86"]
[null,"Chaisson Crisdon",{"$f":"VLOOKUP(B1578,[1]export_1465921594229!$D1579:$G10839,4,FALSE)","v":"CYC-124408"},"CYC"]
[null,"Chalifour Alain",{"$f":"VLOOKUP(B1579,[1]export_1465921594229!$D1580:$G10840,4,FALSE)","v":"LM8-116876"},"LM8"]
[null,"Chalifoux Mathieu",{"$f":"VLOOKUP(B1580,[1]export_1465921594229!$D1581:$G10841,4,FALSE)","v":"CB8-660106"},"CB8"]
[null,"Challa Vijay",{"$f":"VLOOKUP(B1581,[1]export_1465921594229!$D1582:$G10842,4,FALSE)","v":"DEO-124819"},"DEO"]
[null,"Chamarthi Ganesh Kashyap",{"$f":"VLOOKUP(B1582,[1]export_1465921594229!$D1583:$G10843,4,FALSE)","v":"PO8-117576"},"PO8"]
[null,"Chamberland Claude",{"$f":"VLOOKUP(B1583,[1]export_1465921594229!$D1584:$G10844,4,FALSE)","v":"P71-660551"},"P71"]
[null,"Chamberland Eric",{"$f":"VLOOKUP(B1584,[1]export_1465921594229!$D1585:$G10845,4,FALSE)","v":"NB0-660487"},"NB0"]
[null,"Chamberland Mario",{"$f":"VLOOKUP(B1585,[1]export_1465921594229!$D1586:$G10846,4,FALSE)","v":"I07-121215"},"I07"]
[null,"Chamberland Robert",{"$f":"VLOOKUP(B1586,[1]export_1465921594229!$D1587:$G10847,4,FALSE)","v":"L69-120930"},"L69"]
[null,"Chamberland Robert",{"$f":"VLOOKUP(B1587,[1]export_1465921594229!$D1588:$G10848,4,FALSE)","v":"T30-660519"},"T30"]
[null,"Chamberland Simon",{"$f":"VLOOKUP(B1588,[1]export_1465921594229!$D1589:$G10849,4,FALSE)","v":"GQ3-116110"},"GQ3"]
[null,"Chamberland Yves",{"$f":"VLOOKUP(B1589,[1]export_1465921594229!$D1590:$G10850,4,FALSE)","v":"L36-119302"},"L36"]
[null,"Champagne Alain",{"$f":"VLOOKUP(B1590,[1]export_1465921594229!$D1591:$G10851,4,FALSE)","v":"DA6-118373"},"DA6"]
[null,"Champagne Bruno",{"$f":"VLOOKUP(B1591,[1]export_1465921594229!$D1592:$G10852,4,FALSE)","v":"BUO-600086"},"BUO"]
[null,"Champagne Claude",{"$f":"VLOOKUP(B1592,[1]export_1465921594229!$D1593:$G10853,4,FALSE)","v":"R45-120601"},"R45"]
[null,"Champagne Claude",{"$f":"VLOOKUP(B1593,[1]export_1465921594229!$D1594:$G10854,4,FALSE)","v":"700-115638"},"700"]
[null,"Champagne Luc",{"$f":"VLOOKUP(B1594,[1]export_1465921594229!$D1595:$G10855,4,FALSE)","v":"CH1-118300"},"CH1"]
[null,"Champagne Martine",{"$f":"VLOOKUP(B1595,[1]export_1465921594229!$D1596:$G10856,4,FALSE)","v":"342-122370"},"342"]
[null,"Champagne Nadia",{"$f":"VLOOKUP(B1596,[1]export_1465921594229!$D1597:$G10857,4,FALSE)","v":"LS6-660339"},"LS6"]
[null,"Champagne Pascal",{"$f":"VLOOKUP(B1597,[1]export_1465921594229!$D1598:$G10858,4,FALSE)","v":"DO3-121535"},"DO3"]
[null,"Champagne Philippe",{"$f":"VLOOKUP(B1598,[1]export_1465921594229!$D1599:$G10859,4,FALSE)","v":"T20-119883"},"T20"]
[null,"Champagne Philippe",{"$f":"VLOOKUP(B1599,[1]export_1465921594229!$D1600:$G10860,4,FALSE)","v":"E14-118472"},"E14"]
[null,"Champagne Pierre",{"$f":"VLOOKUP(B1600,[1]export_1465921594229!$D1601:$G10861,4,FALSE)","v":"F92-118677"},"F92"]
[null,"Champagne Pierre-Marc",{"$f":"VLOOKUP(B1601,[1]export_1465921594229!$D1602:$G10862,4,FALSE)","v":"DYD-125313"},"DYD"]
[null,"Champagne Loiseau Sebastien",{"$f":"VLOOKUP(B1602,[1]export_1465921594229!$D1603:$G10863,4,FALSE)","v":{"$error":"#N/A"}},{"$f":"LEFT(C1602,3)","v":{"$error":"#N/A"}}]
[null,"Champeau Gilles",{"$f":"VLOOKUP(B1603,[1]export_1465921594229!$D1604:$G10864,4,FALSE)","v":"448-120349"},"448"]
[null,"Champigny Raymond",{"$f":"VLOOKUP(B1604,[1]export_1465921594229!$D1605:$G10865,4,FALSE)","v":"AI0-118045"},"AI0"]
[null,"Chan Andy",{"$f":"VLOOKUP(B1605,[1]export_1465921594229!$D1606:$G10866,4,FALSE)","v":"C4M-124567"},"C4M"]
[null,"Chan Bernard",{"$f":"VLOOKUP(B1606,[1]export_1465921594229!$D1607:$G10867,4,FALSE)","v":"DEN-124818"},"DEN"]
[null,"Chan Bic Lui",{"$f":"VLOOKUP(B1607,[1]export_1465921594229!$D1608:$G10868,4,FALSE)","v":"BUS-123455"},"BUS"]
[null,"Chan Bonnie",{"$f":"VLOOKUP(B1608,[1]export_1465921594229!$D1609:$G10869,4,FALSE)","v":"FB0-118685"},"FB0"]
[null,"Chan Darwin",{"$f":"VLOOKUP(B1609,[1]export_1465921594229!$D1610:$G10870,4,FALSE)","v":"LS9-116903"},"LS9"]
[null,"Chan Eddie C.",{"$f":"VLOOKUP(B1610,[1]export_1465921594229!$D1611:$G10871,4,FALSE)","v":"OZ4-117435"},"OZ4"]
[null,"Chan John",{"$f":"VLOOKUP(B1611,[1]export_1465921594229!$D1612:$G10872,4,FALSE)","v":"PM4-117556"},"PM4"]
[null,"Chan Kevin",{"$f":"VLOOKUP(B1612,[1]export_1465921594229!$D1613:$G10873,4,FALSE)","v":"DN1-121534"},"DN1"]
[null,"Chan Kwong-San",{"$f":"VLOOKUP(B1613,[1]export_1465921594229!$D1614:$G10874,4,FALSE)","v":"JK1-116518"},"JK1"]
[null,"Chan Mee Han",{"$f":"VLOOKUP(B1614,[1]export_1465921594229!$D1615:$G10875,4,FALSE)","v":"BJO-123240"},"BJO"]
[null,"Chan Olivia",{"$f":"VLOOKUP(B1615,[1]export_1465921594229!$D1616:$G10876,4,FALSE)","v":"MO5-117065"},"MO5"]
[null,"Chan Terence",{"$f":"VLOOKUP(B1616,[1]export_1465921594229!$D1617:$G10877,4,FALSE)","v":"LB4-116806"},"LB4"]
[null,"Chan Yuk Hin Garry",{"$f":"VLOOKUP(B1617,[1]export_1465921594229!$D1618:$G10878,4,FALSE)","v":"N19-120786"},"N19"]
[null,"Chand Arun",{"$f":"VLOOKUP(B1618,[1]export_1465921594229!$D1619:$G10879,4,FALSE)","v":"B0N-123582"},"B0N"]
[null,"Chand Arun",{"$f":"VLOOKUP(B1619,[1]export_1465921594229!$D1620:$G10880,4,FALSE)","v":"FP5-118763"},"FP5"]
[null,"Chand Steven Vikash",{"$f":"VLOOKUP(B1620,[1]export_1465921594229!$D1621:$G10881,4,FALSE)","v":"OP7-117376"},"OP7"]
[null,"Chand Suman",{"$f":"VLOOKUP(B1621,[1]export_1465921594229!$D1622:$G10882,4,FALSE)","v":"FB8-118688"},"FB8"]
[null,"Chandna Kulpreet",{"$f":"VLOOKUP(B1622,[1]export_1465921594229!$D1623:$G10883,4,FALSE)","v":"PR0-117595"},"PR0"]
[null,"Chandok Rupam",{"$f":"VLOOKUP(B1623,[1]export_1465921594229!$D1624:$G10884,4,FALSE)","v":"EP8-121360"},"EP8"]
[null,"Chandonnet Claudia",{"$f":"VLOOKUP(B1624,[1]export_1465921594229!$D1625:$G10885,4,FALSE)","v":"Q69-120699"},"Q69"]
[null,"Chandonnet Sylvie",{"$f":"VLOOKUP(B1625,[1]export_1465921594229!$D1626:$G10886,4,FALSE)","v":"F09-118643"},"F09"]
[null,"Chang Steve",{"$f":"VLOOKUP(B1626,[1]export_1465921594229!$D1627:$G10887,4,FALSE)","v":"MV9-117114"},"MV9"]
[null,"Chanin Remington",{"$f":"VLOOKUP(B1627,[1]export_1465921594229!$D1628:$G10888,4,FALSE)","v":"T66-120534"},"T66"]
[null,"Chantal Michel",{"$f":"VLOOKUP(B1628,[1]export_1465921594229!$D1629:$G10889,4,FALSE)","v":"M63-119390"},"M63"]
[null,"Chanthamalinh Outhay",{"$f":"VLOOKUP(B1629,[1]export_1465921594229!$D1630:$G10890,4,FALSE)","v":"JJ9-116517"},"JJ9"]
[null,"Chapdelaine Michel",{"$f":"VLOOKUP(B1630,[1]export_1465921594229!$D1631:$G10891,4,FALSE)","v":"G94-118846"},"G94"]
[null,"Chapdelaine Nathalie",{"$f":"VLOOKUP(B1631,[1]export_1465921594229!$D1632:$G10892,4,FALSE)","v":"DT1-121548"},"DT1"]
[null,"Chapdelaine Yves",{"$f":"VLOOKUP(B1632,[1]export_1465921594229!$D1633:$G10893,4,FALSE)","v":"BKZ-660334"},"BKZ"]
[null,"Chaperon Yvon",{"$f":"VLOOKUP(B1633,[1]export_1465921594229!$D1634:$G10894,4,FALSE)","v":"I51-119103"},"I51"]
[null,"Chapman Ann",{"$f":"VLOOKUP(B1634,[1]export_1465921594229!$D1635:$G10895,4,FALSE)","v":"MR5-117085"},"MR5"]
[null,"Chaput Laurie",{"$f":"VLOOKUP(B1635,[1]export_1465921594229!$D1636:$G10896,4,FALSE)","v":"S97-117907"},"S97"]
[null,"Chaput Lucie",{"$f":"VLOOKUP(B1636,[1]export_1465921594229!$D1637:$G10897,4,FALSE)","v":"172-122506"},"172"]
[null,"Chaput Lynda",{"$f":"VLOOKUP(B1637,[1]export_1465921594229!$D1638:$G10898,4,FALSE)","v":"C0S-124473"},"C0S"]
[null,"Chaput Martin",{"$f":"VLOOKUP(B1638,[1]export_1465921594229!$D1639:$G10899,4,FALSE)","v":"EZ7-121388"},"EZ7"]
[null,"chaput simon",{"$f":"VLOOKUP(B1639,[1]export_1465921594229!$D1640:$G10900,4,FALSE)","v":"DHN-124893"},"DHN"]
[null,"Charbonneau Alain",{"$f":"VLOOKUP(B1640,[1]export_1465921594229!$D1641:$G10901,4,FALSE)","v":"G02-121332"},"G02"]
[null,"Charbonneau Claude",{"$f":"VLOOKUP(B1641,[1]export_1465921594229!$D1642:$G10902,4,FALSE)","v":"GV9-116130"},"GV9"]
[null,"Charbonneau Daniel",{"$f":"VLOOKUP(B1642,[1]export_1465921594229!$D1643:$G10903,4,FALSE)","v":"B56-121911"},"B56"]
[null,"Charbonneau Daniel",{"$f":"VLOOKUP(B1643,[1]export_1465921594229!$D1644:$G10904,4,FALSE)","v":"IR2-116407"},"IR2"]
[null,"Charbonneau Denis",{"$f":"VLOOKUP(B1644,[1]export_1465921594229!$D1645:$G10905,4,FALSE)","v":"064-122556"},"064"]
[null,"Charbonneau Eric",{"$f":"VLOOKUP(B1645,[1]export_1465921594229!$D1646:$G10906,4,FALSE)","v":"MK5-117041"},"MK5"]
[null,"Charbonneau Frederic",{"$f":"VLOOKUP(B1646,[1]export_1465921594229!$D1647:$G10907,4,FALSE)","v":{"$error":"#N/A"}},{"$error":"#N/A"}]
[null,"Charbonneau Linda",{"$f":"VLOOKUP(B1647,[1]export_1465921594229!$D1648:$G10908,4,FALSE)","v":"329-122357"},"329"]
[null,"Charbonneau Normand",{"$f":"VLOOKUP(B1648,[1]export_1465921594229!$D1649:$G10909,4,FALSE)","v":"Q91-119713"},"Q91"]
[null,"Charbonneau Yan",{"$f":"VLOOKUP(B1649,[1]export_1465921594229!$D1650:$G10910,4,FALSE)","v":"U74-660295"},"U74"]
[null,"Charest Anthony",{"$f":"VLOOKUP(B1650,[1]export_1465921594229!$D1651:$G10911,4,FALSE)","v":"OP0-117369"},"OP0"]
[null,"Charest Bernard",{"$f":"VLOOKUP(B1651,[1]export_1465921594229!$D1652:$G10912,4,FALSE)","v":"O09-660630"},"O09"]
[null,"Charest Gino",{"$f":"VLOOKUP(B1652,[1]export_1465921594229!$D1653:$G10913,4,FALSE)","v":"HH2-116196"},"HH2"]
[null,"Charest Luc",{"$f":"VLOOKUP(B1653,[1]export_1465921594229!$D1654:$G10914,4,FALSE)","v":"D6N-125521"},"D6N"]
[null,"Charest Martin",{"$f":"VLOOKUP(B1654,[1]export_1465921594229!$D1655:$G10915,4,FALSE)","v":"O02-119524"},"O02"]
[null,"Charest Real",{"$f":"VLOOKUP(B1655,[1]export_1465921594229!$D1656:$G10916,4,FALSE)","v":{"$error":"#N/A"}},{"$error":"#N/A"}]
[null,"Charette Alain",{"$f":"VLOOKUP(B1656,[1]export_1465921594229!$D1657:$G10917,4,FALSE)","v":"O65-120745"},"O65"]
[null,"Charette Alain",{"$f":"VLOOKUP(B1657,[1]export_1465921594229!$D1658:$G10918,4,FALSE)","v":"D65-120152"},"D65"]
[null,"CHARETTE CHRISTIANE",{"$f":"VLOOKUP(B1658,[1]export_1465921594229!$D1659:$G10919,4,FALSE)","v":"JG8-118070"},"JG8"]
[null,"Charette Gilles",{"$f":"VLOOKUP(B1659,[1]export_1465921594229!$D1660:$G10920,4,FALSE)","v":"F19-121393"},"F19"]
[null,"Charette Isabelle",{"$f":"VLOOKUP(B1660,[1]export_1465921594229!$D1661:$G10921,4,FALSE)","v":"Z30-660503"},"Z30"]
[null,"Charette Richard",{"$f":"VLOOKUP(B1661,[1]export_1465921594229!$D1662:$G10922,4,FALSE)","v":"EZ4-118638"},"EZ4"]
[null,"Charette Suzanne",{"$f":"VLOOKUP(B1662,[1]export_1465921594229!$D1663:$G10923,4,FALSE)","v":"405-122286"},"405"]
[null,"Charette Suzanne",{"$f":"VLOOKUP(B1663,[1]export_1465921594229!$D1664:$G10924,4,FALSE)","v":"721-115647"},"721"]
[null,"Charlebois Denise",{"$f":"VLOOKUP(B1664,[1]export_1465921594229!$D1665:$G10925,4,FALSE)","v":"470-120361"},"470"]
[null,"Charlebois Diane",{"$f":"VLOOKUP(B1665,[1]export_1465921594229!$D1666:$G10926,4,FALSE)","v":"173-122507"},"173"]
[null,"Charlebois Marcel",{"$f":"VLOOKUP(B1666,[1]export_1465921594229!$D1667:$G10927,4,FALSE)","v":"F34-660093"},{"$f":"LEFT(C1666,3)","v":"F34"}]
[null,"Charles Jean-Sophony",{"$f":"VLOOKUP(B1667,[1]export_1465921594229!$D1668:$G10928,4,FALSE)","v":"NV4-118087"},"NV4"]
[null,"Charles Juliet",{"$f":"VLOOKUP(B1668,[1]export_1465921594229!$D1669:$G10929,4,FALSE)","v":"CBY-123865"},"CBY"]
[null,"Charles Philippe",{"$f":"VLOOKUP(B1669,[1]export_1465921594229!$D1670:$G10930,4,FALSE)","v":"IX5-119163"},"IX5"]
[null,"Charlton Ashley",{"$f":"VLOOKUP(B1670,[1]export_1465921594229!$D1671:$G10931,4,FALSE)","v":"D6F-125513"},"D6F"]
[null,"Charlton Casey",{"$f":"VLOOKUP(B1671,[1]export_1465921594229!$D1672:$G10932,4,FALSE)","v":"DNZ-125055"},"DNZ"]
[null,"Charron Martin",{"$f":"VLOOKUP(B1672,[1]export_1465921594229!$D1673:$G10933,4,FALSE)","v":"DLK-600109"},"DLK"]
[null,"Charron Pierre",{"$f":"VLOOKUP(B1673,[1]export_1465921594229!$D1674:$G10934,4,FALSE)","v":"275-122319"},"275"]
[null,"Chartier Andre",{"$f":"VLOOKUP(B1674,[1]export_1465921594229!$D1675:$G10935,4,FALSE)","v":"Q64-660007"},"Q64"]
[null,"Chartier Philippe",{"$f":"VLOOKUP(B1675,[1]export_1465921594229!$D1676:$G10936,4,FALSE)","v":"DPQ-125098"},"DPQ"]
[null,"Chartrand Henri-Julien",{"$f":"VLOOKUP(B1676,[1]export_1465921594229!$D1677:$G10937,4,FALSE)","v":"DIT-124924"},"DIT"]
[null,"Chartrand Linda",{"$f":"VLOOKUP(B1677,[1]export_1465921594229!$D1678:$G10938,4,FALSE)","v":"549-122236"},"549"]
[null,"Chartrand Luc",{"$f":"VLOOKUP(B1678,[1]export_1465921594229!$D1679:$G10939,4,FALSE)","v":"L70-120931"},"L70"]
[null,"Chartrand Monique",{"$f":"VLOOKUP(B1679,[1]export_1465921594229!$D1680:$G10940,4,FALSE)","v":"406-122287"},"406"]
[null,"Chartrand Pierre",{"$f":"VLOOKUP(B1680,[1]export_1465921594229!$D1681:$G10941,4,FALSE)","v":"M34-120862"},"M34"]
[null,"Chartrand Pierre",{"$f":"VLOOKUP(B1681,[1]export_1465921594229!$D1682:$G10942,4,FALSE)","v":"HQ6-119060"},"HQ6"]
[null,"Chartrand Serge",{"$f":"VLOOKUP(B1682,[1]export_1465921594229!$D1683:$G10943,4,FALSE)","v":"NZ6-117270"},"NZ6"]
[null,"Chartrand Sylvie",{"$f":"VLOOKUP(B1683,[1]export_1465921594229!$D1684:$G10944,4,FALSE)","v":"407-122288"},"407"]
[null,"Chartrand Sylvie",{"$f":"VLOOKUP(B1684,[1]export_1465921594229!$D1685:$G10945,4,FALSE)","v":"724-115650"},"724"]
[null,"Chateauneuf Diane P.",{"$f":"VLOOKUP(B1685,[1]export_1465921594229!$D1686:$G10946,4,FALSE)","v":"C56-121693"},"C56"]
[null,"Chateauneuf Loren",{"$f":"VLOOKUP(B1686,[1]export_1465921594229!$D1687:$G10947,4,FALSE)","v":"384-122271"},"384"]
[null,"Chatelain Gilles",{"$f":"VLOOKUP(B1687,[1]export_1465921594229!$D1688:$G10948,4,FALSE)","v":"PU7-117622"},"PU7"]
[null,"Chatelier Angelique",{"$f":"VLOOKUP(B1688,[1]export_1465921594229!$D1689:$G10949,4,FALSE)","v":"Z85-120088"},"Z85"]
[null,"Chatrath Salil",{"$f":"VLOOKUP(B1689,[1]export_1465921594229!$D1690:$G10950,4,FALSE)","v":"PP7-117584"},"PP7"]
[null,"Chatterjee Mousumi",{"$f":"VLOOKUP(B1690,[1]export_1465921594229!$D1691:$G10951,4,FALSE)","v":"MI9-117027"},"MI9"]
[null,"Chau David",{"$f":"VLOOKUP(B1691,[1]export_1465921594229!$D1692:$G10952,4,FALSE)","v":"A6Q-123017"},"A6Q"]
[null,"Chau Sebastien",{"$f":"VLOOKUP(B1692,[1]export_1465921594229!$D1693:$G10953,4,FALSE)","v":"CFG-123946"},"CFG"]
[null,"Chaudry Henry",{"$f":"VLOOKUP(B1693,[1]export_1465921594229!$D1694:$G10954,4,FALSE)","v":"B4R-123684"},"B4R"]
[null,"Chauhan Poonam",{"$f":"VLOOKUP(B1694,[1]export_1465921594229!$D1695:$G10955,4,FALSE)","v":"PE4-117488"},"PE4"]
[null,"Chaumont Alain",{"$f":"VLOOKUP(B1695,[1]export_1465921594229!$D1696:$G10956,4,FALSE)","v":"673-122188"},"673"]
[null,"Chausse Annie",{"$f":"VLOOKUP(B1696,[1]export_1465921594229!$D1697:$G10957,4,FALSE)","v":"H88-118994"},"H88"]
[null,"Chausse Linda",{"$f":"VLOOKUP(B1697,[1]export_1465921594229!$D1698:$G10958,4,FALSE)","v":"276-120434"},"276"]
[null,"Chauvette Guillaume",{"$f":"VLOOKUP(B1698,[1]export_1465921594229!$D1699:$G10959,4,FALSE)","v":"V44-117956"},"V44"]
[null,"Chavanel Sylvy",{"$f":"VLOOKUP(B1699,[1]export_1465921594229!$D1700:$G10960,4,FALSE)","v":"B89-120229"},"B89"]
[null,"Chawla Adarsh",{"$f":"VLOOKUP(B1700,[1]export_1465921594229!$D1701:$G10961,4,FALSE)","v":"FD3-118695"},"FD3"]
[null,"Chawla Arti",{"$f":"VLOOKUP(B1701,[1]export_1465921594229!$D1702:$G10962,4,FALSE)","v":"BKV-123262"},"BKV"]
[null,"Chawla Lakhwinder",{"$f":"VLOOKUP(B1702,[1]export_1465921594229!$D1703:$G10963,4,FALSE)","v":"FE1-118700"},"FE1"]
[null,"Chayer Alexandre",{"$f":"VLOOKUP(B1703,[1]export_1465921594229!$D1704:$G10964,4,FALSE)","v":"T80-120537"},"T80"]
[null,"Chayer Celine",{"$f":"VLOOKUP(B1704,[1]export_1465921594229!$D1705:$G10965,4,FALSE)","v":"B06-120215"},"B06"]
[null,"Chayer Eric",{"$f":"VLOOKUP(B1705,[1]export_1465921594229!$D1706:$G10966,4,FALSE)","v":"CVC-660578"},"CVC"]
[null,"Cheema Gurjant",{"$f":"VLOOKUP(B1706,[1]export_1465921594229!$D1707:$G10967,4,FALSE)","v":"FF8-116010"},"FF8"]
[null,"Cheema Karamjit",{"$f":"VLOOKUP(B1707,[1]export_1465921594229!$D1708:$G10968,4,FALSE)","v":"FN2-116027"},"FN2"]
[null,"Cheema Navtej Singh",{"$f":"VLOOKUP(B1708,[1]export_1465921594229!$D1709:$G10969,4,FALSE)","v":"ET7-118609"},"ET7"]
[null,"Cheema Salma",{"$f":"VLOOKUP(B1709,[1]export_1465921594229!$D1710:$G10970,4,FALSE)","v":"IS1-550587"},"IS1"]
[null,"Chehrazi Hirbod",{"$f":"VLOOKUP(B1710,[1]export_1465921594229!$D1711:$G10971,4,FALSE)","v":"DG2-121507"},"DG2"]
[null,"Chehrazi Hirbod",{"$f":"VLOOKUP(B1711,[1]export_1465921594229!$D1712:$G10972,4,FALSE)","v":"B7B-123743"},"B7B"]
[null,"Chelliah Nilani",{"$f":"VLOOKUP(B1712,[1]export_1465921594229!$D1713:$G10973,4,FALSE)","v":"C0E-124459"},"C0E"]
[null,"Chen Adi",{"$f":"VLOOKUP(B1713,[1]export_1465921594229!$D1714:$G10974,4,FALSE)","v":"B2L-502337"},"B2L"]
[null,"Chen Fanny",{"$f":"VLOOKUP(B1714,[1]export_1465921594229!$D1715:$G10975,4,FALSE)","v":"GQ0-116107"},"GQ0"]
[null,"Chen Gloria",{"$f":"VLOOKUP(B1715,[1]export_1465921594229!$D1716:$G10976,4,FALSE)","v":"MZ3-117133"},"MZ3"]
[null,"Chen Ran",{"$f":"VLOOKUP(B1716,[1]export_1465921594229!$D1717:$G10977,4,FALSE)","v":"FG8-116015"},"FG8"]
[null,"Chen Thomas",{"$f":"VLOOKUP(B1717,[1]export_1465921594229!$D1718:$G10978,4,FALSE)","v":"HD1-116170"},"HD1"]
[null,"Chen Tzachi",{"$f":"VLOOKUP(B1718,[1]export_1465921594229!$D1719:$G10979,4,FALSE)","v":"DGW-124878"},"DGW"]
[null,"Chen Xingshen",{"$f":"VLOOKUP(B1719,[1]export_1465921594229!$D1720:$G10980,4,FALSE)","v":"LR8-120970"},"LR8"]
[null,"Chen Yan Jiang",{"$f":"VLOOKUP(B1720,[1]export_1465921594229!$D1721:$G10981,4,FALSE)","v":"LI4-116855"},"LI4"]
[null,"Chenard Bibiane",{"$f":"VLOOKUP(B1721,[1]export_1465921594229!$D1722:$G10982,4,FALSE)","v":"S13-660171"},"S13"]
[null,"Chenard Stephane",{"$f":"VLOOKUP(B1722,[1]export_1465921594229!$D1723:$G10983,4,FALSE)","v":"E39-118492"},"E39"]
[null,"Cheng Jiaqi",{"$f":"VLOOKUP(B1723,[1]export_1465921594229!$D1724:$G10984,4,FALSE)","v":"QP0-119781"},"QP0"]
[null,"Chenier Robert",{"$f":"VLOOKUP(B1724,[1]export_1465921594229!$D1725:$G10985,4,FALSE)","v":"AQ9-550176"},"AQ9"]
[null,"Chenier Serge",{"$f":"VLOOKUP(B1725,[1]export_1465921594229!$D1726:$G10986,4,FALSE)","v":"C38-120241"},"C38"]
[null,"Cheong Cheng Man",{"$f":"VLOOKUP(B1726,[1]export_1465921594229!$D1727:$G10987,4,FALSE)","v":"LN8-119339"},"LN8"]
[null,"Chera Amarjit",{"$f":"VLOOKUP(B1727,[1]export_1465921594229!$D1728:$G10988,4,FALSE)","v":"BAY-550154"},"BAY"]
[null,"Cherkaoui Said",{"$f":"VLOOKUP(B1728,[1]export_1465921594229!$D1729:$G10989,4,FALSE)","v":"P25-120653"},"P25"]
[null,"Cherkesly Jean",{"$f":"VLOOKUP(B1729,[1]export_1465921594229!$D1730:$G10990,4,FALSE)","v":"I66-121104"},"I66"]
[null,"Chessum Douglas",{"$f":"VLOOKUP(B1730,[1]export_1465921594229!$D1731:$G10991,4,FALSE)","v":"PQ1-118091"},{"$f":"LEFT(C1730,3)","v":"PQ1"}]
[null,"Cheung Kwok Wai",{"$f":"VLOOKUP(B1731,[1]export_1465921594229!$D1732:$G10992,4,FALSE)","v":"A6U-123021"},"A6U"]
[null,"Chevalier Dany",{"$f":"VLOOKUP(B1732,[1]export_1465921594229!$D1733:$G10993,4,FALSE)","v":"H59-660046"},"H59"]
[null,"Chevalier Jean-Marc",{"$f":"VLOOKUP(B1733,[1]export_1465921594229!$D1734:$G10994,4,FALSE)","v":"KV5-116773"},"KV5"]
[null,"Chevalier Karen",{"$f":"VLOOKUP(B1734,[1]export_1465921594229!$D1735:$G10995,4,FALSE)","v":"BA1-118188"},"BA1"]
[null,"Chevalier Marie",{"$f":"VLOOKUP(B1735,[1]export_1465921594229!$D1736:$G10996,4,FALSE)","v":"KK3-116714"},"KK3"]
[null,"Chevalier Michel",{"$f":"VLOOKUP(B1736,[1]export_1465921594229!$D1737:$G10997,4,FALSE)","v":"H07-116143"},"H07"]
[null,"Chevalier Renee",{"$f":"VLOOKUP(B1737,[1]export_1465921594229!$D1738:$G10998,4,FALSE)","v":"246-122428"},"246"]
[null,"Chevrier Anne",{"$f":"VLOOKUP(B1738,[1]export_1465921594229!$D1739:$G10999,4,FALSE)","v":"Z52-120078"},"Z52"]
[null,"Chevrier Dyan",{"$f":"VLOOKUP(B1739,[1]export_1465921594229!$D1740:$G11000,4,FALSE)","v":"A19-115716"},"A19"]
[null,"Chevrier Raynald",{"$f":"VLOOKUP(B1740,[1]export_1465921594229!$D1741:$G11001,4,FALSE)","v":"CW0-121673"},"CW0"]
[null,"Chevrier Stephan",{"$f":"VLOOKUP(B1741,[1]export_1465921594229!$D1742:$G11002,4,FALSE)","v":"COV-600096"},"COV"]
[null,"Chew Michelle",{"$f":"VLOOKUP(B1742,[1]export_1465921594229!$D1743:$G11003,4,FALSE)","v":"IA2-116315"},"IA2"]
[null,"Chew Trevor",{"$f":"VLOOKUP(B1743,[1]export_1465921594229!$D1744:$G11004,4,FALSE)","v":"BXS-550893"},"BXS"]
[null,"Chhabra Ravi Kumar",{"$f":"VLOOKUP(B1744,[1]export_1465921594229!$D1745:$G11005,4,FALSE)","v":"JR6-116565"},"JR6"]
[null,"Chiasson Claude A.",{"$f":"VLOOKUP(B1745,[1]export_1465921594229!$D1746:$G11006,4,FALSE)","v":"F29-121396"},"F29"]
[null,"Chiasson Pierre",{"$f":"VLOOKUP(B1746,[1]export_1465921594229!$D1747:$G11007,4,FALSE)","v":"C19-120239"},"C19"]
[null,"Chicoine Bertrand",{"$f":"VLOOKUP(B1747,[1]export_1465921594229!$D1748:$G11008,4,FALSE)","v":"Q77-550087"},"Q77"]
[null,"Chicoine Langis",{"$f":"VLOOKUP(B1748,[1]export_1465921594229!$D1749:$G11009,4,FALSE)","v":"408-122289"},"408"]
[null,"Chicoine Langis",{"$f":"VLOOKUP(B1749,[1]export_1465921594229!$D1750:$G11010,4,FALSE)","v":"EQ7-121362"},"EQ7"]
[null,"Chidiac Elie",{"$f":"VLOOKUP(B1750,[1]export_1465921594229!$D1751:$G11011,4,FALSE)","v":"B1F-123598"},"B1F"]
[null,"Chilton Len",{"$f":"VLOOKUP(B1751,[1]export_1465921594229!$D1752:$G11012,4,FALSE)","v":"P37-119619"},"P37"]
[null,"Chilton Len",{"$f":"VLOOKUP(B1752,[1]export_1465921594229!$D1753:$G11013,4,FALSE)","v":"FE6-029637"},"FE6"]
[null,"Chin Elizabeth",{"$f":"VLOOKUP(B1753,[1]export_1465921594229!$D1754:$G11014,4,FALSE)","v":"QS0-117771"},"QS0"]
[null,"Chiquette Leon",{"$f":"VLOOKUP(B1754,[1]export_1465921594229!$D1755:$G11015,4,FALSE)","v":{"$error":"#N/A"}},{"$error":"#N/A"}]
[null,"Chirino Maritza",{"$f":"VLOOKUP(B1755,[1]export_1465921594229!$D1756:$G11016,4,FALSE)","v":"AJ2-121933"},"AJ2"]
[null,"Cho Young Sook",{"$f":"VLOOKUP(B1756,[1]export_1465921594229!$D1757:$G11017,4,FALSE)","v":"PW1-117636"},"PW1"]
[null,"Choedon Yeshi",{"$f":"VLOOKUP(B1757,[1]export_1465921594229!$D1758:$G11018,4,FALSE)","v":"DCQ-124770"},"DCQ"]
[null,"Chohaun Rashid",{"$f":"VLOOKUP(B1758,[1]export_1465921594229!$D1759:$G11019,4,FALSE)","v":"II0-116362"},"II0"]
[null,"Choi Clara (Yuk Ying)",{"$f":"VLOOKUP(B1759,[1]export_1465921594229!$D1760:$G11020,4,FALSE)","v":"NZ3-117267"},"NZ3"]
[null,"Choi Kowoon",{"$f":"VLOOKUP(B1760,[1]export_1465921594229!$D1761:$G11021,4,FALSE)","v":"MZ6-117135"},"MZ6"]
[null,"Choiniere Jean-Francois",{"$f":"VLOOKUP(B1761,[1]export_1465921594229!$D1762:$G11022,4,FALSE)","v":"BJ8-115783"},"BJ8"]
[null,"Chomyn Jason",{"$f":"VLOOKUP(B1762,[1]export_1465921594229!$D1763:$G11023,4,FALSE)","v":"C2L-124518"},"C2L"]
[null,"Chomyn Maria",{"$f":"VLOOKUP(B1763,[1]export_1465921594229!$D1764:$G11024,4,FALSE)","v":"BCT-550540"},"BCT"]
[null,"Choo Colin",{"$f":"VLOOKUP(B1764,[1]export_1465921594229!$D1765:$G11025,4,FALSE)","v":"MG8-117019"},"MG8"]
[null,"Chopra Mukesh",{"$f":"VLOOKUP(B1765,[1]export_1465921594229!$D1766:$G11026,4,FALSE)","v":"V57-119964"},"V57"]
[null,"Chopra Satish",{"$f":"VLOOKUP(B1766,[1]export_1465921594229!$D1767:$G11027,4,FALSE)","v":"IO1-119146"},"IO1"]
[null,"Chou Nena Natphim",{"$f":"VLOOKUP(B1767,[1]export_1465921594229!$D1768:$G11028,4,FALSE)","v":"BM2-118225"},"BM2"]
[null,"Choucino Candido",{"$f":"VLOOKUP(B1768,[1]export_1465921594229!$D1769:$G11029,4,FALSE)","v":"DGU-124876"},"DGU"]
[null,"Choueiry Bassam",{"$f":"VLOOKUP(B1769,[1]export_1465921594229!$D1770:$G11030,4,FALSE)","v":"D05-121558"},"D05"]
[null,"Choueiry Bassam",{"$f":"VLOOKUP(B1770,[1]export_1465921594229!$D1771:$G11031,4,FALSE)","v":"KN1-115571"},"KN1"]
[null,"Choueiry Bassam",{"$f":"VLOOKUP(B1771,[1]export_1465921594229!$D1772:$G11032,4,FALSE)","v":"BZG-123552"},"BZG"]
[null,"Chouinard Alain",{"$f":"VLOOKUP(B1772,[1]export_1465921594229!$D1773:$G11033,4,FALSE)","v":"B83-121805"},"B83"]
[null,"Chouinard Jean-Marc",{"$f":"VLOOKUP(B1773,[1]export_1465921594229!$D1774:$G11034,4,FALSE)","v":"G53-116058"},"G53"]
[null,"Chouinard Josee",{"$f":"VLOOKUP(B1774,[1]export_1465921594229!$D1775:$G11035,4,FALSE)","v":"C57-121694"},"C57"]
[null,"Chouinard-Chretien Jean-Benoit",{"$f":"VLOOKUP(B1775,[1]export_1465921594229!$D1776:$G11036,4,FALSE)","v":"DPP-125097"},"DPP"]
[null,"Chouinard-Sevigny Yves",{"$f":"VLOOKUP(B1776,[1]export_1465921594229!$D1777:$G11037,4,FALSE)","v":"CWX-124378"},"CWX"]
[null,"Chow Simon",{"$f":"VLOOKUP(B1777,[1]export_1465921594229!$D1778:$G11038,4,FALSE)","v":"BFO-123154"},"BFO"]
[null,"Chowdry Pavan",{"$f":"VLOOKUP(B1778,[1]export_1465921594229!$D1779:$G11039,4,FALSE)","v":"DQ5-550391"},"DQ5"]
[null,"Chretien Daniel",{"$f":"VLOOKUP(B1779,[1]export_1465921594229!$D1780:$G11040,4,FALSE)","v":"S58-119856"},"S58"]
[null,"Christian Litalien Inc. Services Financiers",{"$f":"VLOOKUP(B1780,[1]export_1465921594229!$D1781:$G11041,4,FALSE)","v":"L86-120944"},"L86"]
[null,"Christian Litalien Inc. Services Financiers",{"$f":"VLOOKUP(B1781,[1]export_1465921594229!$D1782:$G11042,4,FALSE)","v":"U28-119923"},"U28"]
[null,"Chronowich Michael",{"$f":"VLOOKUP(B1782,[1]export_1465921594229!$D1783:$G11043,4,FALSE)","v":"BHP-550858"},"BHP"]
[null,"Chu Edward James",{"$f":"VLOOKUP(B1783,[1]export_1465921594229!$D1784:$G11044,4,FALSE)","v":"A8B-123044"},"A8B"]
[null,"Chua Cherrylyn",{"$f":"VLOOKUP(B1784,[1]export_1465921594229!$D1785:$G11045,4,FALSE)","v":"JL8-116531"},"JL8"]
[null,"Chua Chris",{"$f":"VLOOKUP(B1785,[1]export_1465921594229!$D1786:$G11046,4,FALSE)","v":"BEU-123135"},"BEU"]
[null,"Chua Trinidad",{"$f":"VLOOKUP(B1786,[1]export_1465921594229!$D1787:$G11047,4,FALSE)","v":"MF8-119412"},"MF8"]
[null,"Chui Lin Katy Kard",{"$f":"VLOOKUP(B1787,[1]export_1465921594229!$D1788:$G11048,4,FALSE)","v":"IF0-116343"},"IF0"]
[null,"Chumber Naresh",{"$f":"VLOOKUP(B1788,[1]export_1465921594229!$D1789:$G11049,4,FALSE)","v":"FJ0-118722"},"FJ0"]
[null,"Chung Duy An",{"$f":"VLOOKUP(B1789,[1]export_1465921594229!$D1790:$G11050,4,FALSE)","v":"I19-119085"},"I19"]
[null,"Chung Quoc Viet Louis",{"$f":"VLOOKUP(B1790,[1]export_1465921594229!$D1791:$G11051,4,FALSE)","v":"CNE-124138"},"CNE"]
[null,"Chung Suzanne",{"$f":"VLOOKUP(B1791,[1]export_1465921594229!$D1792:$G11052,4,FALSE)","v":"DSG-125164"},"DSG"]
[null,"Ciccarello Antonio",{"$f":"VLOOKUP(B1792,[1]export_1465921594229!$D1793:$G11053,4,FALSE)","v":"BTY-660384"},"BTY"]
[null,"Ciccone Claude",{"$f":"VLOOKUP(B1793,[1]export_1465921594229!$D1794:$G11054,4,FALSE)","v":"P44-119621"},"P44"]
[null,"Cidro Virginia",{"$f":"VLOOKUP(B1794,[1]export_1465921594229!$D1795:$G11055,4,FALSE)","v":"NM0-117215"},{"$f":"LEFT(C1794,3)","v":"NM0"}]
[null,"Cimon Michel",{"$f":"VLOOKUP(B1795,[1]export_1465921594229!$D1796:$G11056,4,FALSE)","v":"AM7-121944"},"AM7"]
[null,"Cinq-Mars Leonard",{"$f":"VLOOKUP(B1796,[1]export_1465921594229!$D1797:$G11057,4,FALSE)","v":"N31-501229"},"N31"]
[null,"Cinq-Mars Leonard",{"$f":"VLOOKUP(B1797,[1]export_1465921594229!$D1798:$G11058,4,FALSE)","v":"IT4-121149"},"IT4"]
[null,"Cinq-Mars Leonard",{"$f":"VLOOKUP(B1798,[1]export_1465921594229!$D1799:$G11059,4,FALSE)","v":"KL0-121009"},"KL0"]
[null,"Cisneros Velasquez Luis",{"$f":"VLOOKUP(B1799,[1]export_1465921594229!$D1800:$G11060,4,FALSE)","v":"AU7-121983"},"AU7"]
[null,"Cisneros-Coronel Shirley",{"$f":"VLOOKUP(B1800,[1]export_1465921594229!$D1801:$G11061,4,FALSE)","v":"FG0-118713"},"FG0"]
[null,"Claes Gilbert",{"$f":"VLOOKUP(B1801,[1]export_1465921594229!$D1802:$G11062,4,FALSE)","v":"135-122477"},"135"]
[null,"Clairoux Pierre",{"$f":"VLOOKUP(B1802,[1]export_1465921594229!$D1803:$G11063,4,FALSE)","v":"EX6-121383"},"EX6"]
[null,"Clairoux Pierre",{"$f":"VLOOKUP(B1803,[1]export_1465921594229!$D1804:$G11064,4,FALSE)","v":"EX5-118634"},"EX5"]
[null,"Claridge Kenneth",{"$f":"VLOOKUP(B1804,[1]export_1465921594229!$D1805:$G11065,4,FALSE)","v":"HC3-500593"},"HC3"]
[null,"Claridge Kenneth",{"$f":"VLOOKUP(B1805,[1]export_1465921594229!$D1806:$G11066,4,FALSE)","v":"N14-120781"},"N14"]
[null,"Clark Christian",{"$f":"VLOOKUP(B1806,[1]export_1465921594229!$D1807:$G11067,4,FALSE)","v":"CL3-121624"},"CL3"]
[null,"Clark Lance",{"$f":"VLOOKUP(B1807,[1]export_1465921594229!$D1808:$G11068,4,FALSE)","v":"DHF-124887"},"DHF"]
[null,"Clark Robert",{"$f":"VLOOKUP(B1808,[1]export_1465921594229!$D1809:$G11069,4,FALSE)","v":"PG6-117508"},"PG6"]
[null,"Clarke Charlene",{"$f":"VLOOKUP(B1809,[1]export_1465921594229!$D1810:$G11070,4,FALSE)","v":"OM0-117357"},"OM0"]
[null,"Clarke Charlene",{"$f":"VLOOKUP(B1810,[1]export_1465921594229!$D1811:$G11071,4,FALSE)","v":"OM1-120762"},"OM1"]
[null,"Clarke Nathalie",{"$f":"VLOOKUP(B1811,[1]export_1465921594229!$D1812:$G11072,4,FALSE)","v":"BMT-123300"},"BMT"]
[null,"Clarke Richard William",{"$f":"VLOOKUP(B1812,[1]export_1465921594229!$D1813:$G11073,4,FALSE)","v":"BC6-121827"},"BC6"]
[null,"Clarke William",{"$f":"VLOOKUP(B1813,[1]export_1465921594229!$D1814:$G11074,4,FALSE)","v":"BV1-118259"},"BV1"]
[null,"Claudio Analiza",{"$f":"VLOOKUP(B1814,[1]export_1465921594229!$D1815:$G11075,4,FALSE)","v":"B2K-123629"},"B2K"]
[null,"Claveau Marie-Eve",{"$f":"VLOOKUP(B1815,[1]export_1465921594229!$D1816:$G11076,4,FALSE)","v":"C23-121797"},"C23"]
[null,"Claveau Richard",{"$f":"VLOOKUP(B1816,[1]export_1465921594229!$D1817:$G11077,4,FALSE)","v":"X30-120029"},"X30"]
[null,"Clavel Andree",{"$f":"VLOOKUP(B1817,[1]export_1465921594229!$D1818:$G11078,4,FALSE)","v":"088-122571"},"088"]
[null,"Clavel Janine",{"$f":"VLOOKUP(B1818,[1]export_1465921594229!$D1819:$G11079,4,FALSE)","v":"K41-121091"},"K41"]
[null,"Clavet Denys",{"$f":"VLOOKUP(B1819,[1]export_1465921594229!$D1820:$G11080,4,FALSE)","v":"PN2-117561"},"PN2"]
[null,"Clemens Rebecca",{"$f":"VLOOKUP(B1820,[1]export_1465921594229!$D1821:$G11081,4,FALSE)","v":"C4V-124575"},"C4V"]
[null,"Clement Eddy",{"$f":"VLOOKUP(B1821,[1]export_1465921594229!$D1822:$G11082,4,FALSE)","v":"674-122061"},"674"]
[null,"Clemente Edgar",{"$f":"VLOOKUP(B1822,[1]export_1465921594229!$D1823:$G11083,4,FALSE)","v":"IS3-121146"},"IS3"]
[null,"Clercq Nicolas",{"$f":"VLOOKUP(B1823,[1]export_1465921594229!$D1824:$G11084,4,FALSE)","v":"AJ1-120210"},"AJ1"]
[null,"Clercq Nicolas",{"$f":"VLOOKUP(B1824,[1]export_1465921594229!$D1825:$G11085,4,FALSE)","v":"GF5-121243"},"GF5"]
[null,"Clermont Marc",{"$f":"VLOOKUP(B1825,[1]export_1465921594229!$D1826:$G11086,4,FALSE)","v":"315-122345"},"315"]
[null,"Cleroux Rene",{"$f":"VLOOKUP(B1826,[1]export_1465921594229!$D1827:$G11087,4,FALSE)","v":"ID0-660574"},"ID0"]
[null,"Clin Dominique",{"$f":"VLOOKUP(B1827,[1]export_1465921594229!$D1828:$G11088,4,FALSE)","v":"OU7-120765"},"OU7"]
[null,"Clouatre Monique",{"$f":"VLOOKUP(B1828,[1]export_1465921594229!$D1829:$G11089,4,FALSE)","v":"G82-550144"},"G82"]
[null,"Cloutier Andre",{"$f":"VLOOKUP(B1829,[1]export_1465921594229!$D1830:$G11090,4,FALSE)","v":"V75-120465"},"V75"]
[null,"Cloutier Andre",{"$f":"VLOOKUP(B1830,[1]export_1465921594229!$D1831:$G11091,4,FALSE)","v":"BI1-550137"},"BI1"]
[null,"Cloutier Berthier",{"$f":"VLOOKUP(B1831,[1]export_1465921594229!$D1832:$G11092,4,FALSE)","v":"K42-121092"},"K42"]
[null,"Cloutier Christophe",{"$f":"VLOOKUP(B1832,[1]export_1465921594229!$D1833:$G11093,4,FALSE)","v":"BDZ-660274"},"BDZ"]
[null,"Cloutier Claudine",{"$f":"VLOOKUP(B1833,[1]export_1465921594229!$D1834:$G11094,4,FALSE)","v":"M45-119382"},"M45"]
[null,"Cloutier Daniel",{"$f":"VLOOKUP(B1834,[1]export_1465921594229!$D1835:$G11095,4,FALSE)","v":"G33-116053"},"G33"]
[null,"Cloutier Denise",{"$f":"VLOOKUP(B1835,[1]export_1465921594229!$D1836:$G11096,4,FALSE)","v":"022-122527"},"022"]
[null,"Cloutier Gilles",{"$f":"VLOOKUP(B1836,[1]export_1465921594229!$D1837:$G11097,4,FALSE)","v":"X49-660553"},"X49"]
[null,"Cloutier Jean-Claude",{"$f":"VLOOKUP(B1837,[1]export_1465921594229!$D1838:$G11098,4,FALSE)","v":"E79-121448"},"E79"]
[null,"Cloutier Jean-Guy",{"$f":"VLOOKUP(B1838,[1]export_1465921594229!$D1839:$G11099,4,FALSE)","v":"S50-119852"},"S50"]
[null,"Cloutier Karine",{"$f":"VLOOKUP(B1839,[1]export_1465921594229!$D1840:$G11100,4,FALSE)","v":"H46-118976"},"H46"]
[null,"Cloutier Lise",{"$f":"VLOOKUP(B1840,[1]export_1465921594229!$D1841:$G11101,4,FALSE)","v":"A40-120196"},"A40"]
[null,"Cloutier Lise",{"$f":"VLOOKUP(B1841,[1]export_1465921594229!$D1842:$G11102,4,FALSE)","v":"107-122457"},"107"]
[null,"Cloutier Michel",{"$f":"VLOOKUP(B1842,[1]export_1465921594229!$D1843:$G11103,4,FALSE)","v":"I12-119082"},"I12"]
[null,"Cloutier Micheline",{"$f":"VLOOKUP(B1843,[1]export_1465921594229!$D1844:$G11104,4,FALSE)","v":"G28-118823"},"G28"]
[null,"Cloutier Patrick",{"$f":"VLOOKUP(B1844,[1]export_1465921594229!$D1845:$G11105,4,FALSE)","v":"JV0-116591"},"JV0"]
[null,"Clowes Brian",{"$f":"VLOOKUP(B1845,[1]export_1465921594229!$D1846:$G11106,4,FALSE)","v":"N04-120901"},"N04"]
[null,"Cobb Jim",{"$f":"VLOOKUP(B1846,[1]export_1465921594229!$D1847:$G11107,4,FALSE)","v":"FT2-118780"},"FT2"]
[null,"Cobbe Robert",{"$f":"VLOOKUP(B1847,[1]export_1465921594229!$D1848:$G11108,4,FALSE)","v":"N52-120810"},"N52"]
[null,"Codere Michel",{"$f":"VLOOKUP(B1848,[1]export_1465921594229!$D1849:$G11109,4,FALSE)","v":"CT9-115851"},"CT9"]
[null,"Coderre Martin Patrick",{"$f":"VLOOKUP(B1849,[1]export_1465921594229!$D1850:$G11110,4,FALSE)","v":"OI1-119563"},"OI1"]
[null,"Coderre Martin Patrick",{"$f":"VLOOKUP(B1850,[1]export_1465921594229!$D1851:$G11111,4,FALSE)","v":"OI0-119562"},"OI0"]
[null,"Coelho Joe",{"$f":"VLOOKUP(B1851,[1]export_1465921594229!$D1852:$G11112,4,FALSE)","v":"BBU-550273"},"BBU"]
[null,"Cohen Danny",{"$f":"VLOOKUP(B1852,[1]export_1465921594229!$D1853:$G11113,4,FALSE)","v":"C7D-124630"},"C7D"]
[null,"Colalillo Marie",{"$f":"VLOOKUP(B1853,[1]export_1465921594229!$D1854:$G11114,4,FALSE)","v":"536-122226"},"536"]
[null,"Colas Charles",{"$f":"VLOOKUP(B1854,[1]export_1465921594229!$D1855:$G11115,4,FALSE)","v":"Q21-117656"},"Q21"]
[null,"Coleman Cathy",{"$f":"VLOOKUP(B1855,[1]export_1465921594229!$D1856:$G11116,4,FALSE)","v":"CCN-123880"},"CCN"]
[null,"Coles Jean",{"$f":"VLOOKUP(B1856,[1]export_1465921594229!$D1857:$G11117,4,FALSE)","v":"HM9-116228"},"HM9"]
[null,"Collenne Maurice Robert",{"$f":"VLOOKUP(B1857,[1]export_1465921594229!$D1858:$G11118,4,FALSE)","v":"LV1-116920"},"LV1"]
[null,"Colletta Beverley",{"$f":"VLOOKUP(B1858,[1]export_1465921594229!$D1859:$G11119,4,FALSE)","v":"DJM-124943"},{"$f":"LEFT(C1858,3)","v":"DJM"}]
[null,"Collette Mathieu",{"$f":"VLOOKUP(B1859,[1]export_1465921594229!$D1860:$G11120,4,FALSE)","v":"G68-121353"},"G68"]
[null,"Collette Michael",{"$f":"VLOOKUP(B1860,[1]export_1465921594229!$D1861:$G11121,4,FALSE)","v":"DAT-124722"},"DAT"]
[null,"Collie Jared Thomas",{"$f":"VLOOKUP(B1861,[1]export_1465921594229!$D1862:$G11122,4,FALSE)","v":"PJ4-119650"},"PJ4"]
[null,"Collie Jared Thomas",{"$f":"VLOOKUP(B1862,[1]export_1465921594229!$D1863:$G11123,4,FALSE)","v":"PJ5-119651"},"PJ5"]
[null,"Collin Jacinthe",{"$f":"VLOOKUP(B1863,[1]export_1465921594229!$D1864:$G11124,4,FALSE)","v":"Q92-660468"},"Q92"]
[null,"Collin Michelle",{"$f":"VLOOKUP(B1864,[1]export_1465921594229!$D1865:$G11125,4,FALSE)","v":"HS5-660666"},"HS5"]
[null,"Collin Sophie-Pascalle",{"$f":"VLOOKUP(B1865,[1]export_1465921594229!$D1866:$G11126,4,FALSE)","v":"W36-120482"},"W36"]
[null,"Collin Stephanie",{"$f":"VLOOKUP(B1866,[1]export_1465921594229!$D1867:$G11127,4,FALSE)","v":"A6S-123019"},"A6S"]
[null,"Collington Everton",{"$f":"VLOOKUP(B1867,[1]export_1465921594229!$D1868:$G11128,4,FALSE)","v":"DRA-125134"},"DRA"]
[null,"Comeau Daniel Joseph",{"$f":"VLOOKUP(B1868,[1]export_1465921594229!$D1869:$G11129,4,FALSE)","v":"PI8-117527"},"PI8"]
[null,"Comeau Jean-Yves",{"$f":"VLOOKUP(B1869,[1]export_1465921594229!$D1870:$G11130,4,FALSE)","v":"T00-550088"},"T00"]
[null,"Comeau Roseline",{"$f":"VLOOKUP(B1870,[1]export_1465921594229!$D1871:$G11131,4,FALSE)","v":"BD0-118198"},"BD0"]
[null,"Commissaris Beverly",{"$f":"VLOOKUP(B1871,[1]export_1465921594229!$D1872:$G11132,4,FALSE)","v":"DTE-501736"},"DTE"]
[null,"Compagnie Bertrand",{"$f":"VLOOKUP(B1872,[1]export_1465921594229!$D1873:$G11133,4,FALSE)","v":"DIQ-124921"},"DIQ"]
[null,"Compagnie Claude",{"$f":"VLOOKUP(B1873,[1]export_1465921594229!$D1874:$G11134,4,FALSE)","v":"KN8-660137"},"KN8"]
[null,"Compagnie Helene",{"$f":"VLOOKUP(B1874,[1]export_1465921594229!$D1875:$G11135,4,FALSE)","v":"R38-660481"},"R38"]
[null,"Compagnie Lisa M.",{"$f":"VLOOKUP(B1875,[1]export_1465921594229!$D1876:$G11136,4,FALSE)","v":"O49-120742"},"O49"]
[null,"Compagnie Lisa M.",{"$f":"VLOOKUP(B1876,[1]export_1465921594229!$D1877:$G11137,4,FALSE)","v":"C82-121711"},"C82"]
[null,"Compagnie Louis",{"$f":"VLOOKUP(B1877,[1]export_1465921594229!$D1878:$G11138,4,FALSE)","v":"AA1-118099"},"AA1"]
[null,"Compagnie Nancy",{"$f":"VLOOKUP(B1878,[1]export_1465921594229!$D1879:$G11139,4,FALSE)","v":"C69-121702"},"C69"]
[null,"Compagnie Richard",{"$f":"VLOOKUP(B1879,[1]export_1465921594229!$D1880:$G11140,4,FALSE)","v":"IJ2-121130"},"IJ2"]
[null,"Compagnie Yves",{"$f":"VLOOKUP(B1880,[1]export_1465921594229!$D1881:$G11141,4,FALSE)","v":"672-122187"},"672"]
[null,"Comtois Stephan",{"$f":"VLOOKUP(B1881,[1]export_1465921594229!$D1882:$G11142,4,FALSE)","v":{"$error":"#N/A"}},{"$error":"#N/A"}]
[null,"Comtois Stephan",{"$f":"VLOOKUP(B1882,[1]export_1465921594229!$D1883:$G11143,4,FALSE)","v":{"$error":"#N/A"}},{"$error":"#N/A"}]
[null,"Comtois Stephan",{"$f":"VLOOKUP(B1883,[1]export_1465921594229!$D1884:$G11144,4,FALSE)","v":{"$error":"#N/A"}},{"$error":"#N/A"}]
[null,"Condon Lise",{"$f":"VLOOKUP(B1884,[1]export_1465921594229!$D1885:$G11145,4,FALSE)","v":"449-120350"},"449"]
[null,"Coninx Janet",{"$f":"VLOOKUP(B1885,[1]export_1465921594229!$D1886:$G11146,4,FALSE)","v":"CYU-124424"},"CYU"]
[null,"Conjaerts Wayne",{"$f":"VLOOKUP(B1886,[1]export_1465921594229!$D1887:$G11147,4,FALSE)","v":"ME5-550779"},"ME5"]
[null,"Connolly Jean-Claude",{"$f":"VLOOKUP(B1887,[1]export_1465921594229!$D1888:$G11148,4,FALSE)","v":"099-122451"},"099"]
[null,"Connolly Scott",{"$f":"VLOOKUP(B1888,[1]export_1465921594229!$D1889:$G11149,4,FALSE)","v":"P74-119632"},"P74"]
[null,"Connolly Scott",{"$f":"VLOOKUP(B1889,[1]export_1465921594229!$D1890:$G11150,4,FALSE)","v":"HB9-326671"},"HB9"]
[null,"Connolly Scott",{"$f":"VLOOKUP(B1890,[1]export_1465921594229!$D1891:$G11151,4,FALSE)","v":"BQX-123371"},"BQX"]
[null,"Cons Ivan",{"$f":"VLOOKUP(B1891,[1]export_1465921594229!$D1892:$G11152,4,FALSE)","v":"X53-550108"},"X53"]
[null,"Constant Marie Edna",{"$f":"VLOOKUP(B1892,[1]export_1465921594229!$D1893:$G11153,4,FALSE)","v":"RG6-660272"},"RG6"]
[null,"Constant Marie Edna",{"$f":"VLOOKUP(B1893,[1]export_1465921594229!$D1894:$G11154,4,FALSE)","v":"BT0-120233"},"BT0"]
[null,"Consular Jose Alan",{"$f":"VLOOKUP(B1894,[1]export_1465921594229!$D1895:$G11155,4,FALSE)","v":"LG7-116844"},"LG7"]
[null,"Contreras Suarez Humberto",{"$f":"VLOOKUP(B1895,[1]export_1465921594229!$D1896:$G11156,4,FALSE)","v":"DJT-124949"},"DJT"]
[null,"Conway Brent",{"$f":"VLOOKUP(B1896,[1]export_1465921594229!$D1897:$G11157,4,FALSE)","v":"Z63-120083"},"Z63"]
[null,"Cook Christopher",{"$f":"VLOOKUP(B1897,[1]export_1465921594229!$D1898:$G11158,4,FALSE)","v":"QE3-117677"},"QE3"]
[null,"Cook Robert",{"$f":"VLOOKUP(B1898,[1]export_1465921594229!$D1899:$G11159,4,FALSE)","v":"BD9-121833"},"BD9"]
[null,"Cooke Glenn",{"$f":"VLOOKUP(B1899,[1]export_1465921594229!$D1900:$G11160,4,FALSE)","v":"PL5-117550"},"PL5"]
[null,"Cooke Michael",{"$f":"VLOOKUP(B1900,[1]export_1465921594229!$D1901:$G11161,4,FALSE)","v":"CZP-124445"},"CZP"]
[null,"Cooke Michael",{"$f":"VLOOKUP(B1901,[1]export_1465921594229!$D1902:$G11162,4,FALSE)","v":"CZT-124449"},"CZT"]
[null,"Copoloff Shelly",{"$f":"VLOOKUP(B1902,[1]export_1465921594229!$D1903:$G11163,4,FALSE)","v":"BOD-123319"},"BOD"]
[null,"Coquilla Paula",{"$f":"VLOOKUP(B1903,[1]export_1465921594229!$D1904:$G11164,4,FALSE)","v":"DIU-124925"},"DIU"]
[null,"Corbeil Andree",{"$f":"VLOOKUP(B1904,[1]export_1465921594229!$D1905:$G11165,4,FALSE)","v":"B70-120228"},"B70"]
[null,"Corbeil Michel",{"$f":"VLOOKUP(B1905,[1]export_1465921594229!$D1906:$G11166,4,FALSE)","v":"266-120432"},"266"]
[null,"Corbeil Simon",{"$f":"VLOOKUP(B1906,[1]export_1465921594229!$D1907:$G11167,4,FALSE)","v":"A64-120200"},"A64"]
[null,"Corbeil Stephane",{"$f":"VLOOKUP(B1907,[1]export_1465921594229!$D1908:$G11168,4,FALSE)","v":"G40-121341"},"G40"]
[null,"Corbeil Stephanie",{"$f":"VLOOKUP(B1908,[1]export_1465921594229!$D1909:$G11169,4,FALSE)","v":"P63-660411"},"P63"]
[null,"Corber Kenneth",{"$f":"VLOOKUP(B1909,[1]export_1465921594229!$D1910:$G11170,4,FALSE)","v":"JG5-116498"},"JG5"]
[null,"Cordiano Alexi",{"$f":"VLOOKUP(B1910,[1]export_1465921594229!$D1911:$G11171,4,FALSE)","v":"DHM-124892"},"DHM"]
[null,"Cordoba Gomez Giovanni",{"$f":"VLOOKUP(B1911,[1]export_1465921594229!$D1912:$G11172,4,FALSE)","v":"CUK-600100"},"CUK"]
[null,"Corea James",{"$f":"VLOOKUP(B1912,[1]export_1465921594229!$D1913:$G11173,4,FALSE)","v":"D0G-125363"},"D0G"]
[null,"Corkum Mabel",{"$f":"VLOOKUP(B1913,[1]export_1465921594229!$D1914:$G11174,4,FALSE)","v":"BAV-550067"},"BAV"]
[null,"Corkum Mabel",{"$f":"VLOOKUP(B1914,[1]export_1465921594229!$D1915:$G11175,4,FALSE)","v":"BGE-550871"},"BGE"]
[null,"Cormier Alphonse W.",{"$f":"VLOOKUP(B1915,[1]export_1465921594229!$D1916:$G11176,4,FALSE)","v":"K06-119226"},"K06"]
[null,"Cormier Brian",{"$f":"VLOOKUP(B1916,[1]export_1465921594229!$D1917:$G11177,4,FALSE)","v":"HO7-116235"},"HO7"]
[null,"Cormier Claude",{"$f":"VLOOKUP(B1917,[1]export_1465921594229!$D1918:$G11178,4,FALSE)","v":"S93-119872"},"S93"]
[null,"Cormier Lionel",{"$f":"VLOOKUP(B1918,[1]export_1465921594229!$D1919:$G11179,4,FALSE)","v":"Z54-120080"},"Z54"]
[null,"Corneau Martyne",{"$f":"VLOOKUP(B1919,[1]export_1465921594229!$D1920:$G11180,4,FALSE)","v":"E17-118475"},"E17"]
[null,"Corneau Nathalie",{"$f":"VLOOKUP(B1920,[1]export_1465921594229!$D1921:$G11181,4,FALSE)","v":"572-120274"},"572"]
[null,"Cornejo Hermes Nicolas",{"$f":"VLOOKUP(B1921,[1]export_1465921594229!$D1922:$G11182,4,FALSE)","v":"GB8-116075"},"GB8"]
[null,"Coronel Leonard",{"$f":"VLOOKUP(B1922,[1]export_1465921594229!$D1923:$G11183,4,FALSE)","v":"FF9-118712"},{"$f":"LEFT(C1922,3)","v":"FF9"}]
[null,"Corpuz Samuel",{"$f":"VLOOKUP(B1923,[1]export_1465921594229!$D1924:$G11184,4,FALSE)","v":"LD5-116823"},"LD5"]
[null,"Correia Liberato V",{"$f":"VLOOKUP(B1924,[1]export_1465921594229!$D1925:$G11185,4,FALSE)","v":"KQ6-116750"},"KQ6"]
[null,"Corrigan Marc",{"$f":"VLOOKUP(B1925,[1]export_1465921594229!$D1926:$G11186,4,FALSE)","v":"CM7-660688"},"CM7"]
[null,"Corriveau Fernand",{"$f":"VLOOKUP(B1926,[1]export_1465921594229!$D1927:$G11187,4,FALSE)","v":"179-122382"},"179"]
[null,"Corriveau Guy",{"$f":"VLOOKUP(B1927,[1]export_1465921594229!$D1928:$G11188,4,FALSE)","v":"DE2-550861"},"DE2"]
[null,"Corriveau Line",{"$f":"VLOOKUP(B1928,[1]export_1465921594229!$D1929:$G11189,4,FALSE)","v":"A79-122016"},"A79"]
[null,"corriveau Martin",{"$f":"VLOOKUP(B1929,[1]export_1465921594229!$D1930:$G11190,4,FALSE)","v":"DSY-125178"},"DSY"]
[null,"Corriveau Maurice",{"$f":"VLOOKUP(B1930,[1]export_1465921594229!$D1931:$G11191,4,FALSE)","v":"Z95-120091"},"Z95"]
[null,"Corriveau Sylvain",{"$f":"VLOOKUP(B1931,[1]export_1465921594229!$D1932:$G11192,4,FALSE)","v":"X64-120040"},"X64"]
[null,"Cosme Adela",{"$f":"VLOOKUP(B1932,[1]export_1465921594229!$D1933:$G11193,4,FALSE)","v":"CEC-123917"},"CEC"]
[null,"Cosme Adela",{"$f":"VLOOKUP(B1933,[1]export_1465921594229!$D1934:$G11194,4,FALSE)","v":"NC4-117158"},"NC4"]
[null,"Cosme Venus",{"$f":"VLOOKUP(B1934,[1]export_1465921594229!$D1935:$G11195,4,FALSE)","v":"LX3-116935"},"LX3"]
[null,"Cosme Venus",{"$f":"VLOOKUP(B1935,[1]export_1465921594229!$D1936:$G11196,4,FALSE)","v":"CGI-123974"},"CGI"]
[null,"Cossette Annie",{"$f":"VLOOKUP(B1936,[1]export_1465921594229!$D1937:$G11197,4,FALSE)","v":"245-122427"},"245"]
[null,"Cossette Claudia",{"$f":"VLOOKUP(B1937,[1]export_1465921594229!$D1938:$G11198,4,FALSE)","v":"Z96-120092"},"Z96"]
[null,"Cossette Diane",{"$f":"VLOOKUP(B1938,[1]export_1465921594229!$D1939:$G11199,4,FALSE)","v":"365-120324"},"365"]
[null,"Cossette Diane",{"$f":"VLOOKUP(B1939,[1]export_1465921594229!$D1940:$G11200,4,FALSE)","v":"622-122150"},"622"]
[null,"Cossette Diane",{"$f":"VLOOKUP(B1940,[1]export_1465921594229!$D1941:$G11201,4,FALSE)","v":"B52-121907"},"B52"]
[null,"Cossette Gilles",{"$f":"VLOOKUP(B1941,[1]export_1465921594229!$D1942:$G11202,4,FALSE)","v":"E24-118482"},"E24"]
[null,"Cossette Marc",{"$f":"VLOOKUP(B1942,[1]export_1465921594229!$D1943:$G11203,4,FALSE)","v":"DK7-118404"},"DK7"]
[null,"Cossette Sylvie",{"$f":"VLOOKUP(B1943,[1]export_1465921594229!$D1944:$G11204,4,FALSE)","v":"116-122463"},"116"]
[null,"Costales Mark",{"$f":"VLOOKUP(B1944,[1]export_1465921594229!$D1945:$G11205,4,FALSE)","v":"LD7-116825"},"LD7"]
[null,"Cote Alain",{"$f":"VLOOKUP(B1945,[1]export_1465921594229!$D1946:$G11206,4,FALSE)","v":"BG6-115775"},"BG6"]
[null,"Cote Alexandra",{"$f":"VLOOKUP(B1946,[1]export_1465921594229!$D1947:$G11207,4,FALSE)","v":"KB3-116647"},"KB3"]
[null,"Cote Alexandre",{"$f":"VLOOKUP(B1947,[1]export_1465921594229!$D1948:$G11208,4,FALSE)","v":"BR2-550285"},"BR2"]
[null,"Cote Andre J.",{"$f":"VLOOKUP(B1948,[1]export_1465921594229!$D1949:$G11209,4,FALSE)","v":"K88-120992"},"K88"]
[null,"Cote Bernard",{"$f":"VLOOKUP(B1949,[1]export_1465921594229!$D1950:$G11210,4,FALSE)","v":"IH0-116356"},"IH0"]
[null,"Cote Diane",{"$f":"VLOOKUP(B1950,[1]export_1465921594229!$D1951:$G11211,4,FALSE)","v":"K07-119227"},"K07"]
[null,"Cote Emery",{"$f":"VLOOKUP(B1951,[1]export_1465921594229!$D1952:$G11212,4,FALSE)","v":"D18-121565"},"D18"]
[null,"Cote Felixe",{"$f":"VLOOKUP(B1952,[1]export_1465921594229!$D1953:$G11213,4,FALSE)","v":"CQR-124222"},"CQR"]
[null,"Cote Gilles",{"$f":"VLOOKUP(B1953,[1]export_1465921594229!$D1954:$G11214,4,FALSE)","v":"MO0-117063"},"MO0"]
[null,"Cote Guillaume",{"$f":"VLOOKUP(B1954,[1]export_1465921594229!$D1955:$G11215,4,FALSE)","v":"GL8-116094"},"GL8"]
[null,"Cote Henri-Paul",{"$f":"VLOOKUP(B1955,[1]export_1465921594229!$D1956:$G11216,4,FALSE)","v":"675-122062"},"675"]
[null,"Cote Jean-Benoit",{"$f":"VLOOKUP(B1956,[1]export_1465921594229!$D1957:$G11217,4,FALSE)","v":"CG5-115832"},"CG5"]
[null,"Cote Jeannathan",{"$f":"VLOOKUP(B1957,[1]export_1465921594229!$D1958:$G11218,4,FALSE)","v":"K18-121077"},"K18"]
[null,"Cote Jerome",{"$f":"VLOOKUP(B1958,[1]export_1465921594229!$D1959:$G11219,4,FALSE)","v":"CMA-124112"},"CMA"]
[null,"Cote Jocelyne",{"$f":"VLOOKUP(B1959,[1]export_1465921594229!$D1960:$G11220,4,FALSE)","v":"220-122413"},"220"]
[null,"Cote Louis-Denis",{"$f":"VLOOKUP(B1960,[1]export_1465921594229!$D1961:$G11221,4,FALSE)","v":"DB8-118378"},"DB8"]
[null,"Cote Lucien",{"$f":"VLOOKUP(B1961,[1]export_1465921594229!$D1962:$G11222,4,FALSE)","v":"028-122531"},"028"]
[null,"Cote Maxime",{"$f":"VLOOKUP(B1962,[1]export_1465921594229!$D1963:$G11223,4,FALSE)","v":"T29-660540"},"T29"]
[null,"Cote Michel",{"$f":"VLOOKUP(B1963,[1]export_1465921594229!$D1964:$G11224,4,FALSE)","v":"550-122237"},"550"]
[null,"Cote Nicolas",{"$f":"VLOOKUP(B1964,[1]export_1465921594229!$D1965:$G11225,4,FALSE)","v":"HP9-660520"},"HP9"]
[null,"Cote Pierre-Alfred",{"$f":"VLOOKUP(B1965,[1]export_1465921594229!$D1966:$G11226,4,FALSE)","v":"CMR-660015"},"CMR"]
[null,"Cote Robin",{"$f":"VLOOKUP(B1966,[1]export_1465921594229!$D1967:$G11227,4,FALSE)","v":"DC0-118379"},"DC0"]
[null,"Cote Rose-Annette",{"$f":"VLOOKUP(B1967,[1]export_1465921594229!$D1968:$G11228,4,FALSE)","v":"K49-116634"},"K49"]
[null,"Cote Valerie",{"$f":"VLOOKUP(B1968,[1]export_1465921594229!$D1969:$G11229,4,FALSE)","v":"A9R-550833"},"A9R"]
[null,"Côte Annie",{"$f":"VLOOKUP(B1969,[1]export_1465921594229!$D1970:$G11230,4,FALSE)","v":{"$error":"#N/A"}},{"$error":"#N/A"}]
[null,"Côte Benoit",{"$f":"VLOOKUP(B1970,[1]export_1465921594229!$D1971:$G11231,4,FALSE)","v":{"$error":"#N/A"}},{"$error":"#N/A"}]
[null,"Côte Diane",{"$f":"VLOOKUP(B1971,[1]export_1465921594229!$D1972:$G11232,4,FALSE)","v":{"$error":"#N/A"}},{"$error":"#N/A"}]
[null,"Côte Dominic",{"$f":"VLOOKUP(B1972,[1]export_1465921594229!$D1973:$G11233,4,FALSE)","v":{"$error":"#N/A"}},{"$error":"#N/A"}]
[null,"Côte Jean-Benoit",{"$f":"VLOOKUP(B1973,[1]export_1465921594229!$D1974:$G11234,4,FALSE)","v":{"$error":"#N/A"}},{"$error":"#N/A"}]
[null,"Côte Jean-Claude",{"$f":"VLOOKUP(B1974,[1]export_1465921594229!$D1975:$G11235,4,FALSE)","v":{"$error":"#N/A"}},{"$error":"#N/A"}]
[null,"Côte Jean-Denis",{"$f":"VLOOKUP(B1975,[1]export_1465921594229!$D1976:$G11236,4,FALSE)","v":{"$error":"#N/A"}},{"$error":"#N/A"}]
[null,"Côte Jonathan",{"$f":"VLOOKUP(B1976,[1]export_1465921594229!$D1977:$G11237,4,FALSE)","v":{"$error":"#N/A"}},{"$error":"#N/A"}]
[null,"Côte Nathalie",{"$f":"VLOOKUP(B1977,[1]export_1465921594229!$D1978:$G11238,4,FALSE)","v":{"$error":"#N/A"}},{"$error":"#N/A"}]
[null,"Côte Nicolas",{"$f":"VLOOKUP(B1978,[1]export_1465921594229!$D1979:$G11239,4,FALSE)","v":{"$error":"#N/A"}},{"$error":"#N/A"}]
[null,"Côte Sebastien",{"$f":"VLOOKUP(B1979,[1]export_1465921594229!$D1980:$G11240,4,FALSE)","v":{"$error":"#N/A"}},{"$error":"#N/A"}]
[null,"Côte Sonia",{"$f":"VLOOKUP(B1980,[1]export_1465921594229!$D1981:$G11241,4,FALSE)","v":{"$error":"#N/A"}},{"$error":"#N/A"}]
[null,"Cote Landry Danielle",{"$f":"VLOOKUP(B1981,[1]export_1465921594229!$D1982:$G11242,4,FALSE)","v":"B07-121877"},"B07"]
[null,"Cote-Lachance Jean-Francois",{"$f":"VLOOKUP(B1982,[1]export_1465921594229!$D1983:$G11243,4,FALSE)","v":"JL0-121051"},"JL0"]
[null,"Cotnoir Michel",{"$f":"VLOOKUP(B1983,[1]export_1465921594229!$D1984:$G11244,4,FALSE)","v":"V05-119949"},"V05"]
[null,"Couillard Benoit",{"$f":"VLOOKUP(B1984,[1]export_1465921594229!$D1985:$G11245,4,FALSE)","v":"M89-120878"},"M89"]
[null,"Couillard Claude",{"$f":"VLOOKUP(B1985,[1]export_1465921594229!$D1986:$G11246,4,FALSE)","v":"PO5-117573"},"PO5"]
[null,"Coulombe Anne",{"$f":"VLOOKUP(B1986,[1]export_1465921594229!$D1987:$G11247,4,FALSE)","v":"GG5-118876"},{"$f":"LEFT(C1986,3)","v":"GG5"}]
[null,"Coulombe Diane",{"$f":"VLOOKUP(B1987,[1]export_1465921594229!$D1988:$G11248,4,FALSE)","v":"B19-121887"},"B19"]
[null,"Coulombe Gerard",{"$f":"VLOOKUP(B1988,[1]export_1465921594229!$D1989:$G11249,4,FALSE)","v":"K50-121093"},"K50"]
[null,"Coulombe Louis-Aime",{"$f":"VLOOKUP(B1989,[1]export_1465921594229!$D1990:$G11250,4,FALSE)","v":"D95-121485"},"D95"]
[null,"Coulombe Louise",{"$f":"VLOOKUP(B1990,[1]export_1465921594229!$D1991:$G11251,4,FALSE)","v":"419-120336"},"419"]
[null,"Coulombe Marc",{"$f":"VLOOKUP(B1991,[1]export_1465921594229!$D1992:$G11252,4,FALSE)","v":"V54-660501"},"V54"]
[null,"Coulombe Marie-Eve",{"$f":"VLOOKUP(B1992,[1]export_1465921594229!$D1993:$G11253,4,FALSE)","v":"PH5-117516"},"PH5"]
[null,"Coulombe Yan",{"$f":"VLOOKUP(B1993,[1]export_1465921594229!$D1994:$G11254,4,FALSE)","v":"S17-119841"},"S17"]
[null,"Coulombe-Delisle Guillaume",{"$f":"VLOOKUP(B1994,[1]export_1465921594229!$D1995:$G11255,4,FALSE)","v":"BJS-660243"},"BJS"]
[null,"Coulombe-Levesque David",{"$f":"VLOOKUP(B1995,[1]export_1465921594229!$D1996:$G11256,4,FALSE)","v":"BKA-660240"},"BKA"]
[null,"Countryman Trevor",{"$f":"VLOOKUP(B1996,[1]export_1465921594229!$D1997:$G11257,4,FALSE)","v":"MB7-116981"},"MB7"]
[null,"Courchesne Louis",{"$f":"VLOOKUP(B1997,[1]export_1465921594229!$D1998:$G11258,4,FALSE)","v":"LK0-660193"},"LK0"]
[null,"Courchesne Pierre",{"$f":"VLOOKUP(B1998,[1]export_1465921594229!$D1999:$G11259,4,FALSE)","v":"H71-121174"},"H71"]
[null,"Cournoyer Cynthia",{"$f":"VLOOKUP(B1999,[1]export_1465921594229!$D2000:$G11260,4,FALSE)","v":"F38-118654"},"F38"]
[null,"Cournoyer Cynthia",{"$f":"VLOOKUP(B2000,[1]export_1465921594229!$D2001:$G11261,4,FALSE)","v":"DLC-600108"},"DLC"]
[null,"Courtemanche Daniel",{"$f":"VLOOKUP(B2001,[1]export_1465921594229!$D2002:$G11262,4,FALSE)","v":"DD8-660453"},"DD8"]
[null,"Courtemanche Daniel",{"$f":"VLOOKUP(B2002,[1]export_1465921594229!$D2003:$G11263,4,FALSE)","v":"H52-118980"},"H52"]
[null,"Courtemanche Josee",{"$f":"VLOOKUP(B2003,[1]export_1465921594229!$D2004:$G11264,4,FALSE)","v":"509-122209"},"509"]
[null,"Courtois Daniel",{"$f":"VLOOKUP(B2004,[1]export_1465921594229!$D2005:$G11265,4,FALSE)","v":"P04-120768"},"P04"]
[null,"Coutu Andre",{"$f":"VLOOKUP(B2005,[1]export_1465921594229!$D2006:$G11266,4,FALSE)","v":{"$error":"#N/A"}},{"$error":"#N/A"}]
[null,"Couture Claude",{"$f":"VLOOKUP(B2006,[1]export_1465921594229!$D2007:$G11267,4,FALSE)","v":"MJ5-660439"},"MJ5"]
[null,"Couture Claude",{"$f":"VLOOKUP(B2007,[1]export_1465921594229!$D2008:$G11268,4,FALSE)","v":"K97-119236"},"K97"]
[null,"Couture David",{"$f":"VLOOKUP(B2008,[1]export_1465921594229!$D2009:$G11269,4,FALSE)","v":"E62-121442"},"E62"]
[null,"Couture Denise",{"$f":"VLOOKUP(B2009,[1]export_1465921594229!$D2010:$G11270,4,FALSE)","v":"551-122238"},"551"]
[null,"Couture Denise",{"$f":"VLOOKUP(B2010,[1]export_1465921594229!$D2011:$G11271,4,FALSE)","v":"430-122304"},"430"]
[null,"Couture Eric",{"$f":"VLOOKUP(B2011,[1]export_1465921594229!$D2012:$G11272,4,FALSE)","v":"W71-117983"},"W71"]
[null,"Couture Gabriel",{"$f":"VLOOKUP(B2012,[1]export_1465921594229!$D2013:$G11273,4,FALSE)","v":"I90-660718"},"I90"]
[null,"Couture Gilles",{"$f":"VLOOKUP(B2013,[1]export_1465921594229!$D2014:$G11274,4,FALSE)","v":"MJ4-117031"},"MJ4"]
[null,"Couture Hope",{"$f":"VLOOKUP(B2014,[1]export_1465921594229!$D2015:$G11275,4,FALSE)","v":"C4C-124557"},"C4C"]
[null,"Couture Karine",{"$f":"VLOOKUP(B2015,[1]export_1465921594229!$D2016:$G11276,4,FALSE)","v":"CSJ-124266"},"CSJ"]
[null,"Couture Luc",{"$f":"VLOOKUP(B2016,[1]export_1465921594229!$D2017:$G11277,4,FALSE)","v":"450-122312"},"450"]
[null,"Couture Luc",{"$f":"VLOOKUP(B2017,[1]export_1465921594229!$D2018:$G11278,4,FALSE)","v":"FK5-116026"},"FK5"]
[null,"Couture Luc",{"$f":"VLOOKUP(B2018,[1]export_1465921594229!$D2019:$G11279,4,FALSE)","v":"J86-121040"},"J86"]
[null,"Couture Marie-Christine",{"$f":"VLOOKUP(B2019,[1]export_1465921594229!$D2020:$G11280,4,FALSE)","v":"624-120292"},"624"]
[null,"Couture Mario",{"$f":"VLOOKUP(B2020,[1]export_1465921594229!$D2021:$G11281,4,FALSE)","v":"E37-550135"},"E37"]
[null,"Couture Monique",{"$f":"VLOOKUP(B2021,[1]export_1465921594229!$D2022:$G11282,4,FALSE)","v":"B6N-123729"},"B6N"]
[null,"Couture Nathalie",{"$f":"VLOOKUP(B2022,[1]export_1465921594229!$D2023:$G11283,4,FALSE)","v":"C92-121719"},"C92"]
[null,"Couture Nicole",{"$f":"VLOOKUP(B2023,[1]export_1465921594229!$D2024:$G11284,4,FALSE)","v":"C83-121712"},"C83"]
[null,"Couture Patrick",{"$f":"VLOOKUP(B2024,[1]export_1465921594229!$D2025:$G11285,4,FALSE)","v":"PR2-660579"},"PR2"]
[null,"Couture Patrick",{"$f":"VLOOKUP(B2025,[1]export_1465921594229!$D2026:$G11286,4,FALSE)","v":"P86-119635"},"P86"]
[null,"Couture Philippe",{"$f":"VLOOKUP(B2026,[1]export_1465921594229!$D2027:$G11287,4,FALSE)","v":"IF9-116350"},"IF9"]
[null,"Couture Vincent",{"$f":"VLOOKUP(B2027,[1]export_1465921594229!$D2028:$G11288,4,FALSE)","v":"CRZ-124256"},"CRZ"]
[null,"Couture Pelletier Micheline",{"$f":"VLOOKUP(B2028,[1]export_1465921594229!$D2029:$G11289,4,FALSE)","v":"157-122494"},"157"]
[null,"Couturier Stephanie",{"$f":"VLOOKUP(B2029,[1]export_1465921594229!$D2030:$G11290,4,FALSE)","v":{"$error":"#N/A"}},{"$error":"#N/A"}]
[null,"Couvrette Alexandre",{"$f":"VLOOKUP(B2030,[1]export_1465921594229!$D2031:$G11291,4,FALSE)","v":"537-120262"},"537"]
[null,"Cove Kevin",{"$f":"VLOOKUP(B2031,[1]export_1465921594229!$D2032:$G11292,4,FALSE)","v":"GK3-121254"},"GK3"]
[null,"Coveney Gilles",{"$f":"VLOOKUP(B2032,[1]export_1465921594229!$D2033:$G11293,4,FALSE)","v":"C00-121780"},"C00"]
[null,"Craig Robert",{"$f":"VLOOKUP(B2033,[1]export_1465921594229!$D2034:$G11294,4,FALSE)","v":"BPG-029269"},"BPG"]
[null,"Crane Marlene",{"$f":"VLOOKUP(B2034,[1]export_1465921594229!$D2035:$G11295,4,FALSE)","v":"I56-121228"},"I56"]
[null,"Crasco Beethoven",{"$f":"VLOOKUP(B2035,[1]export_1465921594229!$D2036:$G11296,4,FALSE)","v":"CEF-123920"},"CEF"]
[null,"Crasco Beethoven",{"$f":"VLOOKUP(B2036,[1]export_1465921594229!$D2037:$G11297,4,FALSE)","v":"PU3-117618"},"PU3"]
[null,"Crawford Charles A.",{"$f":"VLOOKUP(B2037,[1]export_1465921594229!$D2038:$G11298,4,FALSE)","v":"W22-117969"},"W22"]
[null,"Crawford Gavin Blair",{"$f":"VLOOKUP(B2038,[1]export_1465921594229!$D2039:$G11299,4,FALSE)","v":"QR3-117764"},"QR3"]
[null,"Creasy Susan",{"$f":"VLOOKUP(B2039,[1]export_1465921594229!$D2040:$G11300,4,FALSE)","v":"CRT-124250"},"CRT"]
[null,"Creighton Daniel",{"$f":"VLOOKUP(B2040,[1]export_1465921594229!$D2041:$G11301,4,FALSE)","v":"DHV-124901"},"DHV"]
[null,"Creighton John P",{"$f":"VLOOKUP(B2041,[1]export_1465921594229!$D2042:$G11302,4,FALSE)","v":"HJ1-116206"},"HJ1"]
[null,"Crepault Joanne",{"$f":"VLOOKUP(B2042,[1]export_1465921594229!$D2043:$G11303,4,FALSE)","v":{"$error":"#N/A"}},{"$error":"#N/A"}]
[null,"Crepeau Johanne",{"$f":"VLOOKUP(B2043,[1]export_1465921594229!$D2044:$G11304,4,FALSE)","v":"552-120264"},"552"]
[null,"Crepeau Linda",{"$f":"VLOOKUP(B2044,[1]export_1465921594229!$D2045:$G11305,4,FALSE)","v":"I61-121102"},"I61"]
[null,"Crete Jean-Guy",{"$f":"VLOOKUP(B2045,[1]export_1465921594229!$D2046:$G11306,4,FALSE)","v":"J12-119172"},"J12"]
[null,"Crête Stephan",{"$f":"VLOOKUP(B2046,[1]export_1465921594229!$D2047:$G11307,4,FALSE)","v":{"$error":"#N/A"}},{"$error":"#N/A"}]
[null,"Crevier Estelle",{"$f":"VLOOKUP(B2047,[1]export_1465921594229!$D2048:$G11308,4,FALSE)","v":"O26-120735"},"O26"]
[null,"Crevier Nicole",{"$f":"VLOOKUP(B2048,[1]export_1465921594229!$D2049:$G11309,4,FALSE)","v":"180-122383"},"180"]
[null,"Cridland Timothy",{"$f":"VLOOKUP(B2049,[1]export_1465921594229!$D2050:$G11310,4,FALSE)","v":"BET-502303"},"BET"]
[null,"Crites Thomas",{"$f":"VLOOKUP(B2050,[1]export_1465921594229!$D2051:$G11311,4,FALSE)","v":"DMS-125022"},{"$f":"LEFT(C2050,3)","v":"DMS"}]
[null,"Crochet Jeannine",{"$f":"VLOOKUP(B2051,[1]export_1465921594229!$D2052:$G11312,4,FALSE)","v":"PW9-660522"},"PW9"]
[null,"Crocker Stephen",{"$f":"VLOOKUP(B2052,[1]export_1465921594229!$D2053:$G11313,4,FALSE)","v":"AQ6-121960"},"AQ6"]
[null,"Croft Pierre-Hans",{"$f":"VLOOKUP(B2053,[1]export_1465921594229!$D2054:$G11314,4,FALSE)","v":"L71-120932"},"L71"]
[null,"Croft Pierre-Hans",{"$f":"VLOOKUP(B2054,[1]export_1465921594229!$D2055:$G11315,4,FALSE)","v":"U13-119916"},"U13"]
[null,"Croisetiere Tommy",{"$f":"VLOOKUP(B2055,[1]export_1465921594229!$D2056:$G11316,4,FALSE)","v":"BIZ-123228"},"BIZ"]
[null,"Cross Jacqueline",{"$f":"VLOOKUP(B2056,[1]export_1465921594229!$D2057:$G11317,4,FALSE)","v":"C8I-124661"},"C8I"]
[null,"Crossett Jeffrey",{"$f":"VLOOKUP(B2057,[1]export_1465921594229!$D2058:$G11318,4,FALSE)","v":"Z08-120054"},"Z08"]
[null,"Crossman Lynn",{"$f":"VLOOKUP(B2058,[1]export_1465921594229!$D2059:$G11319,4,FALSE)","v":"EQ9-118600"},"EQ9"]
[null,"Croteau Alexandre",{"$f":"VLOOKUP(B2059,[1]export_1465921594229!$D2060:$G11320,4,FALSE)","v":"D6O-125522"},"D6O"]
[null,"Croteau Bruno",{"$f":"VLOOKUP(B2060,[1]export_1465921594229!$D2061:$G11321,4,FALSE)","v":"BJZ-660238"},"BJZ"]
[null,"Croteau Marcel",{"$f":"VLOOKUP(B2061,[1]export_1465921594229!$D2062:$G11322,4,FALSE)","v":"B71-121924"},"B71"]
[null,"Crôteau François-Paul",{"$f":"VLOOKUP(B2062,[1]export_1465921594229!$D2063:$G11323,4,FALSE)","v":"344-115701"},"344"]
[null,"Croussette Alain",{"$f":"VLOOKUP(B2063,[1]export_1465921594229!$D2064:$G11324,4,FALSE)","v":"LF7-119318"},"LF7"]
[null,"Crowe Denver",{"$f":"VLOOKUP(B2064,[1]export_1465921594229!$D2065:$G11325,4,FALSE)","v":"AN0-121946"},"AN0"]
[null,"Cruz Arlie",{"$f":"VLOOKUP(B2065,[1]export_1465921594229!$D2066:$G11326,4,FALSE)","v":"DT8-121422"},"DT8"]
[null,"Cruz Esmeralda",{"$f":"VLOOKUP(B2066,[1]export_1465921594229!$D2067:$G11327,4,FALSE)","v":"CWK-600097"},"CWK"]
[null,"Cruz Joan",{"$f":"VLOOKUP(B2067,[1]export_1465921594229!$D2068:$G11328,4,FALSE)","v":"QO6-117744"},"QO6"]
[null,"Cruz Ma.Angelita",{"$f":"VLOOKUP(B2068,[1]export_1465921594229!$D2069:$G11329,4,FALSE)","v":"NK4-117205"},"NK4"]
[null,"Cruz Myriam",{"$f":"VLOOKUP(B2069,[1]export_1465921594229!$D2070:$G11330,4,FALSE)","v":"CBB-123842"},"CBB"]
[null,"Cruz Ralph J.",{"$f":"VLOOKUP(B2070,[1]export_1465921594229!$D2071:$G11331,4,FALSE)","v":"B4N-123680"},"B4N"]
[null,"Cruz Tina",{"$f":"VLOOKUP(B2071,[1]export_1465921594229!$D2072:$G11332,4,FALSE)","v":"BEN-123131"},"BEN"]
[null,"Cubitt Bonnie",{"$f":"VLOOKUP(B2072,[1]export_1465921594229!$D2073:$G11333,4,FALSE)","v":"HI9-116205"},"HI9"]
[null,"Cubitt Jeremy",{"$f":"VLOOKUP(B2073,[1]export_1465921594229!$D2074:$G11334,4,FALSE)","v":"EP5-118596"},"EP5"]
[null,"Cuerrier Michel",{"$f":"VLOOKUP(B2074,[1]export_1465921594229!$D2075:$G11335,4,FALSE)","v":"421-122298"},"421"]
[null,"Cuerrier Michel",{"$f":"VLOOKUP(B2075,[1]export_1465921594229!$D2076:$G11336,4,FALSE)","v":"GZ3-118958"},"GZ3"]
[null,"Cueto Carlos",{"$f":"VLOOKUP(B2076,[1]export_1465921594229!$D2077:$G11337,4,FALSE)","v":"BBA-123103"},"BBA"]
[null,"Cuevas Celia",{"$f":"VLOOKUP(B2077,[1]export_1465921594229!$D2078:$G11338,4,FALSE)","v":"W04-120475"},"W04"]
[null,"Cuevas Celia",{"$f":"VLOOKUP(B2078,[1]export_1465921594229!$D2079:$G11339,4,FALSE)","v":"BS8-118250"},"BS8"]
[null,"Cuirot Eric",{"$f":"VLOOKUP(B2079,[1]export_1465921594229!$D2080:$G11340,4,FALSE)","v":"E31-118487"},"E31"]
[null,"Cummings Gerald",{"$f":"VLOOKUP(B2080,[1]export_1465921594229!$D2081:$G11341,4,FALSE)","v":"QU2-117790"},"QU2"]
[null,"Cunnings-Versaevel Barbara",{"$f":"VLOOKUP(B2081,[1]export_1465921594229!$D2082:$G11342,4,FALSE)","v":"T67-120535"},"T67"]
[null,"Cunnoor-Doraivellan Mahesh Kumar",{"$f":"VLOOKUP(B2082,[1]export_1465921594229!$D2083:$G11343,4,FALSE)","v":"ON1-117361"},"ON1"]
[null,"Curadeau Helene",{"$f":"VLOOKUP(B2083,[1]export_1465921594229!$D2084:$G11344,4,FALSE)","v":"G13-118817"},"G13"]
[null,"Curate Herve",{"$f":"VLOOKUP(B2084,[1]export_1465921594229!$D2085:$G11345,4,FALSE)","v":"BM6-660538"},"BM6"]
[null,"Curioso Monroe",{"$f":"VLOOKUP(B2085,[1]export_1465921594229!$D2086:$G11346,4,FALSE)","v":"LD8-119316"},"LD8"]
[null,"Currie Christopher",{"$f":"VLOOKUP(B2086,[1]export_1465921594229!$D2087:$G11347,4,FALSE)","v":"DUI-125214"},"DUI"]
[null,"Curry Joseph",{"$f":"VLOOKUP(B2087,[1]export_1465921594229!$D2088:$G11348,4,FALSE)","v":"BCQ-550494"},"BCQ"]
[null,"Cusin Magali",{"$f":"VLOOKUP(B2088,[1]export_1465921594229!$D2089:$G11349,4,FALSE)","v":"CVX-124352"},"CVX"]
[null,"Cusson Michel",{"$f":"VLOOKUP(B2089,[1]export_1465921594229!$D2090:$G11350,4,FALSE)","v":"P18-120777"},"P18"]
[null,"Cusson Pierre",{"$f":"VLOOKUP(B2090,[1]export_1465921594229!$D2091:$G11351,4,FALSE)","v":"I59-116307"},"I59"]
[null,"Cusson Pierre",{"$f":"VLOOKUP(B2091,[1]export_1465921594229!$D2092:$G11352,4,FALSE)","v":"L48-120911"},"L48"]
[null,"Cusson Serge",{"$f":"VLOOKUP(B2092,[1]export_1465921594229!$D2093:$G11353,4,FALSE)","v":"121-120399"},"121"]
[null,"Cusson Suzanne",{"$f":"VLOOKUP(B2093,[1]export_1465921594229!$D2094:$G11354,4,FALSE)","v":"S72-120634"},"S72"]
[null,"Cyr Andre",{"$f":"VLOOKUP(B2094,[1]export_1465921594229!$D2095:$G11355,4,FALSE)","v":"JE9-116488"},"JE9"]
[null,"Cyr Andre",{"$f":"VLOOKUP(B2095,[1]export_1465921594229!$D2096:$G11356,4,FALSE)","v":"AR9-118161"},"AR9"]
[null,"Cyr Benoit",{"$f":"VLOOKUP(B2096,[1]export_1465921594229!$D2097:$G11357,4,FALSE)","v":"486-120371"},"486"]
[null,"Cyr Chantal",{"$f":"VLOOKUP(B2097,[1]export_1465921594229!$D2098:$G11358,4,FALSE)","v":"BEV-123136"},"BEV"]
[null,"Cyr Chantal",{"$f":"VLOOKUP(B2098,[1]export_1465921594229!$D2099:$G11359,4,FALSE)","v":"BZL-123557"},"BZL"]
[null,"Cyr Denis",{"$f":"VLOOKUP(B2099,[1]export_1465921594229!$D2100:$G11360,4,FALSE)","v":"HH7-116199"},"HH7"]
[null,"Cyr Jules Alva",{"$f":"VLOOKUP(B2100,[1]export_1465921594229!$D2101:$G11361,4,FALSE)","v":"HX2-116286"},"HX2"]
[null,"Cyr Pascal 005zmc",{"$f":"VLOOKUP(B2101,[1]export_1465921594229!$D2102:$G11362,4,FALSE)","v":"NB6-117152"},"NB6"]
[null,"Czinszky Florian",{"$f":"VLOOKUP(B2102,[1]export_1465921594229!$D2103:$G11363,4,FALSE)","v":"BCH-123109"},"BCH"]
[null,"Da Silva Jose",{"$f":"VLOOKUP(B2103,[1]export_1465921594229!$D2104:$G11364,4,FALSE)","v":"BHG-123188"},"BHG"]
[null,"Dabh Rajinder",{"$f":"VLOOKUP(B2104,[1]export_1465921594229!$D2105:$G11365,4,FALSE)","v":"BAZ-550158"},"BAZ"]
[null,"Dadhwal Devinder",{"$f":"VLOOKUP(B2105,[1]export_1465921594229!$D2106:$G11366,4,FALSE)","v":"KZ6-119288"},"KZ6"]
[null,"Dadhwal Devinder",{"$f":"VLOOKUP(B2106,[1]export_1465921594229!$D2107:$G11367,4,FALSE)","v":"KZ7-119289"},"KZ7"]
[null,"Dafilmoto Carlos",{"$f":"VLOOKUP(B2107,[1]export_1465921594229!$D2108:$G11368,4,FALSE)","v":"DOH-125063"},"DOH"]
[null,"Dagenais Christian",{"$f":"VLOOKUP(B2108,[1]export_1465921594229!$D2109:$G11369,4,FALSE)","v":"E59-121441"},"E59"]
[null,"Dagenais Melanie",{"$f":"VLOOKUP(B2109,[1]export_1465921594229!$D2110:$G11370,4,FALSE)","v":"EI7-121469"},"EI7"]
[null,"Dagson Reuel",{"$f":"VLOOKUP(B2110,[1]export_1465921594229!$D2111:$G11371,4,FALSE)","v":"CGC-123968"},"CGC"]
[null,"Dagson Reuel",{"$f":"VLOOKUP(B2111,[1]export_1465921594229!$D2112:$G11372,4,FALSE)","v":"LW0-116926"},"LW0"]
[null,"Daguerre Daniel",{"$f":"VLOOKUP(B2112,[1]export_1465921594229!$D2113:$G11373,4,FALSE)","v":"JC8-116477"},"JC8"]
[null,"Dahiya Vijay",{"$f":"VLOOKUP(B2113,[1]export_1465921594229!$D2114:$G11374,4,FALSE)","v":"Q18-119679"},"Q18"]
[null,"Dahiya Vijay",{"$f":"VLOOKUP(B2114,[1]export_1465921594229!$D2115:$G11375,4,FALSE)","v":"P76-118090"},{"$f":"LEFT(C2114,3)","v":"P76"}]
[null,"Daigneault Luc",{"$f":"VLOOKUP(B2115,[1]export_1465921594229!$D2116:$G11376,4,FALSE)","v":"DD6-660062"},"DD6"]
[null,"Daigneault Serge",{"$f":"VLOOKUP(B2116,[1]export_1465921594229!$D2117:$G11377,4,FALSE)","v":"O85-550151"},"O85"]
[null,"Dailam-Salehi Ehsanollah",{"$f":"VLOOKUP(B2117,[1]export_1465921594229!$D2118:$G11378,4,FALSE)","v":"D3J-125442"},"D3J"]
[null,"Dait Victoria",{"$f":"VLOOKUP(B2118,[1]export_1465921594229!$D2119:$G11379,4,FALSE)","v":"FH0-116016"},"FH0"]
[null,"Daji Mukesh M",{"$f":"VLOOKUP(B2119,[1]export_1465921594229!$D2120:$G11380,4,FALSE)","v":"JS2-116568"},"JS2"]
[null,"Dakins John",{"$f":"VLOOKUP(B2120,[1]export_1465921594229!$D2121:$G11381,4,FALSE)","v":"MV4-117109"},"MV4"]
[null,"Dalal Vishal",{"$f":"VLOOKUP(B2121,[1]export_1465921594229!$D2122:$G11382,4,FALSE)","v":"D6W-125529"},"D6W"]
[null,"D'Alessandro Michael",{"$f":"VLOOKUP(B2122,[1]export_1465921594229!$D2123:$G11383,4,FALSE)","v":"EM8-118586"},"EM8"]
[null,"Daley Bruce",{"$f":"VLOOKUP(B2123,[1]export_1465921594229!$D2124:$G11384,4,FALSE)","v":"ND3-117163"},"ND3"]
[null,"Daley Deston",{"$f":"VLOOKUP(B2124,[1]export_1465921594229!$D2125:$G11385,4,FALSE)","v":"EI0-118564"},"EI0"]
[null,"Daley Deston",{"$f":"VLOOKUP(B2125,[1]export_1465921594229!$D2126:$G11386,4,FALSE)","v":"CN9-121633"},"CN9"]
[null,"Dallaire Carmelle",{"$f":"VLOOKUP(B2126,[1]export_1465921594229!$D2127:$G11387,4,FALSE)","v":"I22-121219"},"I22"]
[null,"Dallaire Guillaume",{"$f":"VLOOKUP(B2127,[1]export_1465921594229!$D2128:$G11388,4,FALSE)","v":"CM0-118324"},"CM0"]
[null,"Dallaire Patrick",{"$f":"VLOOKUP(B2128,[1]export_1465921594229!$D2129:$G11389,4,FALSE)","v":"JZ1-116612"},"JZ1"]
[null,"Dallaire Sandra",{"$f":"VLOOKUP(B2129,[1]export_1465921594229!$D2130:$G11390,4,FALSE)","v":"G64-121351"},"G64"]
[null,"Dallaire Tony",{"$f":"VLOOKUP(B2130,[1]export_1465921594229!$D2131:$G11391,4,FALSE)","v":"BGT-660311"},"BGT"]
[null,"Dalliday Timothy",{"$f":"VLOOKUP(B2131,[1]export_1465921594229!$D2132:$G11392,4,FALSE)","v":"CKS-550266"},"CKS"]
[null,"D'Almeida Severine",{"$f":"VLOOKUP(B2132,[1]export_1465921594229!$D2133:$G11393,4,FALSE)","v":"B0Z-123592"},"B0Z"]
[null,"Daloze Pierre",{"$f":"VLOOKUP(B2133,[1]export_1465921594229!$D2134:$G11394,4,FALSE)","v":"JK7-116522"},"JK7"]
[null,"Dambrauskas Valdas",{"$f":"VLOOKUP(B2134,[1]export_1465921594229!$D2135:$G11395,4,FALSE)","v":"NT0-119513"},"NT0"]
[null,"Dambrauskas Valdas",{"$f":"VLOOKUP(B2135,[1]export_1465921594229!$D2136:$G11396,4,FALSE)","v":"Q08-119676"},"Q08"]
[null,"Dambrauskas Valdas",{"$f":"VLOOKUP(B2136,[1]export_1465921594229!$D2137:$G11397,4,FALSE)","v":"QA9-300815"},"QA9"]
[null,"Dambrauskas Valdas",{"$f":"VLOOKUP(B2137,[1]export_1465921594229!$D2138:$G11398,4,FALSE)","v":"NN3-500815"},"NN3"]
[null,"Dambrauskas Valdas",{"$f":"VLOOKUP(B2138,[1]export_1465921594229!$D2139:$G11399,4,FALSE)","v":"N30-119456"},"N30"]
[null,"D'Amico Maria Paola",{"$f":"VLOOKUP(B2139,[1]export_1465921594229!$D2140:$G11400,4,FALSE)","v":"P93-660722"},"P93"]
[null,"Damodaran Sunitha",{"$f":"VLOOKUP(B2140,[1]export_1465921594229!$D2141:$G11401,4,FALSE)","v":"LT2-116904"},"LT2"]
[null,"D'Amour Lyette",{"$f":"VLOOKUP(B2141,[1]export_1465921594229!$D2142:$G11402,4,FALSE)","v":"C0T-124474"},"C0T"]
[null,"D'Amours Anne",{"$f":"VLOOKUP(B2142,[1]export_1465921594229!$D2143:$G11403,4,FALSE)","v":"O16-117278"},"O16"]
[null,"D'Amours Regis",{"$f":"VLOOKUP(B2143,[1]export_1465921594229!$D2144:$G11404,4,FALSE)","v":"K52-121095"},"K52"]
[null,"D'Amours Rejean",{"$f":"VLOOKUP(B2144,[1]export_1465921594229!$D2145:$G11405,4,FALSE)","v":"IU5-116422"},"IU5"]
[null,"Dancause Frederic",{"$f":"VLOOKUP(B2145,[1]export_1465921594229!$D2146:$G11406,4,FALSE)","v":{"$error":"#N/A"}},{"$error":"#N/A"}]
[null,"Dancause Frederic",{"$f":"VLOOKUP(B2146,[1]export_1465921594229!$D2147:$G11407,4,FALSE)","v":{"$error":"#N/A"}},{"$error":"#N/A"}]
[null,"Daneau Jacques",{"$f":"VLOOKUP(B2147,[1]export_1465921594229!$D2148:$G11408,4,FALSE)","v":"L72-120933"},"L72"]
[null,"Daneault Jacques",{"$f":"VLOOKUP(B2148,[1]export_1465921594229!$D2149:$G11409,4,FALSE)","v":"MW4-117118"},"MW4"]
[null,"Daneault Mathieu",{"$f":"VLOOKUP(B2149,[1]export_1465921594229!$D2150:$G11410,4,FALSE)","v":"MW5-117119"},"MW5"]
[null,"Dang Nguyen Tu",{"$f":"VLOOKUP(B2150,[1]export_1465921594229!$D2151:$G11411,4,FALSE)","v":"BFR-123157"},"BFR"]
[null,"D'Angelo Renato",{"$f":"VLOOKUP(B2151,[1]export_1465921594229!$D2152:$G11412,4,FALSE)","v":"S20-117897"},"S20"]
[null,"Daniel Archambault",{"$f":"VLOOKUP(B2152,[1]export_1465921594229!$D2153:$G11413,4,FALSE)","v":"CWB-124356"},"CWB"]
[null,"Daniel Lucie",{"$f":"VLOOKUP(B2153,[1]export_1465921594229!$D2154:$G11414,4,FALSE)","v":"S11-660132"},"S11"]
[null,"Daniele Wanita",{"$f":"VLOOKUP(B2154,[1]export_1465921594229!$D2155:$G11415,4,FALSE)","v":"B9B-123791"},"B9B"]
[null,"Daniele Wanita",{"$f":"VLOOKUP(B2155,[1]export_1465921594229!$D2156:$G11416,4,FALSE)","v":"IZ7-121157"},"IZ7"]
[null,"Daniels Paul",{"$f":"VLOOKUP(B2156,[1]export_1465921594229!$D2157:$G11417,4,FALSE)","v":"CTI-124290"},"CTI"]
[null,"Danis Alexandre",{"$f":"VLOOKUP(B2157,[1]export_1465921594229!$D2158:$G11418,4,FALSE)","v":"Z21-120060"},"Z21"]
[null,"Danis Martin",{"$f":"VLOOKUP(B2158,[1]export_1465921594229!$D2159:$G11419,4,FALSE)","v":"G43-116056"},"G43"]
[null,"D'Anjou Michele",{"$f":"VLOOKUP(B2159,[1]export_1465921594229!$D2160:$G11420,4,FALSE)","v":"AI4-118123"},"AI4"]
[null,"Daoust Daniel",{"$f":"VLOOKUP(B2160,[1]export_1465921594229!$D2161:$G11421,4,FALSE)","v":"605-122139"},"605"]
[null,"Daoust François",{"$f":"VLOOKUP(B2161,[1]export_1465921594229!$D2162:$G11422,4,FALSE)","v":"GH1-121246"},"GH1"]
[null,"Daoust Jerôme",{"$f":"VLOOKUP(B2162,[1]export_1465921594229!$D2163:$G11423,4,FALSE)","v":{"$error":"#N/A"}},{"$error":"#N/A"}]
[null,"Daoust-Villeneuve Maxime",{"$f":"VLOOKUP(B2163,[1]export_1465921594229!$D2164:$G11424,4,FALSE)","v":"S89-117906"},"S89"]
[null,"Darang Vilma Vallejo",{"$f":"VLOOKUP(B2164,[1]export_1465921594229!$D2165:$G11425,4,FALSE)","v":"JW8-116603"},"JW8"]
[null,"D'Arcy Guy",{"$f":"VLOOKUP(B2165,[1]export_1465921594229!$D2166:$G11426,4,FALSE)","v":"M69-119392"},"M69"]
[null,"Darveau Daniel",{"$f":"VLOOKUP(B2166,[1]export_1465921594229!$D2167:$G11427,4,FALSE)","v":"Q19-120101"},"Q19"]
[null,"darveau genevieve",{"$f":"VLOOKUP(B2167,[1]export_1465921594229!$D2168:$G11428,4,FALSE)","v":"DPV-125103"},"DPV"]
[null,"D'Ascanio Giovanni",{"$f":"VLOOKUP(B2168,[1]export_1465921594229!$D2169:$G11429,4,FALSE)","v":"BUA-660383"},"BUA"]
[null,"Dasilva Michael",{"$f":"VLOOKUP(B2169,[1]export_1465921594229!$D2170:$G11430,4,FALSE)","v":"DT7-121421"},"DT7"]
[null,"D'Assurances Inc. Conway Jacques Courtiers",{"$f":"VLOOKUP(B2170,[1]export_1465921594229!$D2171:$G11431,4,FALSE)","v":"F56-118664"},"F56"]
[null,"Datta Geeta",{"$f":"VLOOKUP(B2171,[1]export_1465921594229!$D2172:$G11432,4,FALSE)","v":"KN5-116731"},"KN5"]
[null,"Datuin Joseph",{"$f":"VLOOKUP(B2172,[1]export_1465921594229!$D2173:$G11433,4,FALSE)","v":"B1C-123595"},"B1C"]
[null,"Daud Shabbir",{"$f":"VLOOKUP(B2173,[1]export_1465921594229!$D2174:$G11434,4,FALSE)","v":"CL4-121625"},"CL4"]
[null,"Daues Byron",{"$f":"VLOOKUP(B2174,[1]export_1465921594229!$D2175:$G11435,4,FALSE)","v":"C3W-124552"},"C3W"]
[null,"Davai Soraya",{"$f":"VLOOKUP(B2175,[1]export_1465921594229!$D2176:$G11436,4,FALSE)","v":"LP0-116889"},"LP0"]
[null,"Daviau Pierre",{"$f":"VLOOKUP(B2176,[1]export_1465921594229!$D2177:$G11437,4,FALSE)","v":"E93-660625"},"E93"]
[null,"Daviault Carole",{"$f":"VLOOKUP(B2177,[1]export_1465921594229!$D2178:$G11438,4,FALSE)","v":"593-115712"},"593"]
[null,"David Alexandre",{"$f":"VLOOKUP(B2178,[1]export_1465921594229!$D2179:$G11439,4,FALSE)","v":"R88-117851"},{"$f":"LEFT(C2178,3)","v":"R88"}]
[null,"David Diane",{"$f":"VLOOKUP(B2179,[1]export_1465921594229!$D2180:$G11440,4,FALSE)","v":"BMA-123288"},"BMA"]
[null,"David Nelson",{"$f":"VLOOKUP(B2180,[1]export_1465921594229!$D2181:$G11441,4,FALSE)","v":"MB6-116980"},"MB6"]
[null,"David Richard",{"$f":"VLOOKUP(B2181,[1]export_1465921594229!$D2182:$G11442,4,FALSE)","v":"NH6-117187"},"NH6"]
[null,"David Ronald",{"$f":"VLOOKUP(B2182,[1]export_1465921594229!$D2183:$G11443,4,FALSE)","v":"B8K-123777"},"B8K"]
[null,"Davidson Larry",{"$f":"VLOOKUP(B2183,[1]export_1465921594229!$D2184:$G11444,4,FALSE)","v":"MX6-117128"},"MX6"]
[null,"Davies Ken",{"$f":"VLOOKUP(B2184,[1]export_1465921594229!$D2185:$G11445,4,FALSE)","v":"LT8-116909"},"LT8"]
[null,"Davis Crystal",{"$f":"VLOOKUP(B2185,[1]export_1465921594229!$D2186:$G11446,4,FALSE)","v":"C3K-124543"},"C3K"]
[null,"Davis Gwendolyn Marie",{"$f":"VLOOKUP(B2186,[1]export_1465921594229!$D2187:$G11447,4,FALSE)","v":"OO6-117365"},"OO6"]
[null,"Davis Richard",{"$f":"VLOOKUP(B2187,[1]export_1465921594229!$D2188:$G11448,4,FALSE)","v":"KA8-116646"},"KA8"]
[null,"Day Louise",{"$f":"VLOOKUP(B2188,[1]export_1465921594229!$D2189:$G11449,4,FALSE)","v":"O36-120738"},"O36"]
[null,"De Almeida Paliharalalage",{"$f":"VLOOKUP(B2189,[1]export_1465921594229!$D2190:$G11450,4,FALSE)","v":"PI3-117522"},"PI3"]
[null,"De Angelis Angelo",{"$f":"VLOOKUP(B2190,[1]export_1465921594229!$D2191:$G11451,4,FALSE)","v":"O47-117286"},"O47"]
[null,"De Cadolle Alain",{"$f":"VLOOKUP(B2191,[1]export_1465921594229!$D2192:$G11452,4,FALSE)","v":"I06-119081"},"I06"]
[null,"De Cadolle Alain",{"$f":"VLOOKUP(B2192,[1]export_1465921594229!$D2193:$G11453,4,FALSE)","v":"040-122539"},"040"]
[null,"De Castro Eliza T",{"$f":"VLOOKUP(B2193,[1]export_1465921594229!$D2194:$G11454,4,FALSE)","v":"JV4-116594"},"JV4"]
[null,"De Castro Rebelo Patrick",{"$f":"VLOOKUP(B2194,[1]export_1465921594229!$D2195:$G11455,4,FALSE)","v":"CCX-123890"},"CCX"]
[null,"de Champlain Audree",{"$f":"VLOOKUP(B2195,[1]export_1465921594229!$D2196:$G11456,4,FALSE)","v":{"$error":"#N/A"}},{"$error":"#N/A"}]
[null,"de Champlain Normand",{"$f":"VLOOKUP(B2196,[1]export_1465921594229!$D2197:$G11457,4,FALSE)","v":"T59-550342"},"T59"]
[null,"de Champlain Normand",{"$f":"VLOOKUP(B2197,[1]export_1465921594229!$D2198:$G11458,4,FALSE)","v":"C3V-124551"},"C3V"]
[null,"de Champlain Normand",{"$f":"VLOOKUP(B2198,[1]export_1465921594229!$D2199:$G11459,4,FALSE)","v":"C8T-124672"},"C8T"]
[null,"De Cotis Giovanni",{"$f":"VLOOKUP(B2199,[1]export_1465921594229!$D2200:$G11460,4,FALSE)","v":"DVZ-125257"},"DVZ"]
[null,"De Grandpre Claude",{"$f":"VLOOKUP(B2200,[1]export_1465921594229!$D2201:$G11461,4,FALSE)","v":"A65-120201"},"A65"]
[null,"De Grandpre Diane",{"$f":"VLOOKUP(B2201,[1]export_1465921594229!$D2202:$G11462,4,FALSE)","v":"U47-660661"},"U47"]
[null,"De Guzman Florence",{"$f":"VLOOKUP(B2202,[1]export_1465921594229!$D2203:$G11463,4,FALSE)","v":"JJ7-116515"},"JJ7"]
[null,"De La Merced Justin",{"$f":"VLOOKUP(B2203,[1]export_1465921594229!$D2204:$G11464,4,FALSE)","v":"EL2-121478"},"EL2"]
[null,"De La Rive Sud Assurances",{"$f":"VLOOKUP(B2204,[1]export_1465921594229!$D2205:$G11465,4,FALSE)","v":"E44-118497"},"E44"]
[null,"De Laat Clement",{"$f":"VLOOKUP(B2205,[1]export_1465921594229!$D2206:$G11466,4,FALSE)","v":"BD6-660531"},"BD6"]
[null,"De Lange Ewoud",{"$f":"VLOOKUP(B2206,[1]export_1465921594229!$D2207:$G11467,4,FALSE)","v":"NA1-119476"},"NA1"]
[null,"De Lange Ewoud",{"$f":"VLOOKUP(B2207,[1]export_1465921594229!$D2208:$G11468,4,FALSE)","v":"NA2-119477"},"NA2"]
[null,"De Lange Shelley",{"$f":"VLOOKUP(B2208,[1]export_1465921594229!$D2209:$G11469,4,FALSE)","v":"RC8-117874"},"RC8"]
[null,"De Launiere Jean",{"$f":"VLOOKUP(B2209,[1]export_1465921594229!$D2210:$G11470,4,FALSE)","v":"471-122193"},"471"]
[null,"De Launiere Maxime",{"$f":"VLOOKUP(B2210,[1]export_1465921594229!$D2211:$G11471,4,FALSE)","v":"RA0-660258"},"RA0"]
[null,"De Lio Francesco",{"$f":"VLOOKUP(B2211,[1]export_1465921594229!$D2212:$G11472,4,FALSE)","v":"DJI-124939"},"DJI"]
[null,"De Los Santos Honora Liza",{"$f":"VLOOKUP(B2212,[1]export_1465921594229!$D2213:$G11473,4,FALSE)","v":"IA1-119121"},"IA1"]
[null,"De Luca Luigi",{"$f":"VLOOKUP(B2213,[1]export_1465921594229!$D2214:$G11474,4,FALSE)","v":"U49-119930"},"U49"]
[null,"De Marco Michael",{"$f":"VLOOKUP(B2214,[1]export_1465921594229!$D2215:$G11475,4,FALSE)","v":"JD6-116482"},"JD6"]
[null,"De Matteis Alex",{"$f":"VLOOKUP(B2215,[1]export_1465921594229!$D2216:$G11476,4,FALSE)","v":"L73-120934"},"L73"]
[null,"De Napoli Adamo",{"$f":"VLOOKUP(B2216,[1]export_1465921594229!$D2217:$G11477,4,FALSE)","v":"CKR-124082"},"CKR"]
[null,"de Nobile-Hebert Jennifer",{"$f":"VLOOKUP(B2217,[1]export_1465921594229!$D2218:$G11478,4,FALSE)","v":"CUR-124321"},"CUR"]
[null,"De Ocampo Rosario",{"$f":"VLOOKUP(B2218,[1]export_1465921594229!$D2219:$G11479,4,FALSE)","v":"CX9-121550"},"CX9"]
[null,"De Pastena Gianni",{"$f":"VLOOKUP(B2219,[1]export_1465921594229!$D2220:$G11480,4,FALSE)","v":"AC6-118104"},"AC6"]
[null,"De Rome Dominique",{"$f":"VLOOKUP(B2220,[1]export_1465921594229!$D2221:$G11481,4,FALSE)","v":"Z26-120062"},"Z26"]
[null,"De Rosa Oraine",{"$f":"VLOOKUP(B2221,[1]export_1465921594229!$D2222:$G11482,4,FALSE)","v":"C6K-124612"},"C6K"]
[null,"De Silva Henda Hewa P.R.",{"$f":"VLOOKUP(B2222,[1]export_1465921594229!$D2223:$G11483,4,FALSE)","v":"OC5-117301"},"OC5"]
[null,"De Souza Edgar",{"$f":"VLOOKUP(B2223,[1]export_1465921594229!$D2224:$G11484,4,FALSE)","v":"JU8-550626"},"JU8"]
[null,"De Souza Edgar",{"$f":"VLOOKUP(B2224,[1]export_1465921594229!$D2225:$G11485,4,FALSE)","v":"C9G-124683"},"C9G"]
[null,"De Souza Eronaldo",{"$f":"VLOOKUP(B2225,[1]export_1465921594229!$D2226:$G11486,4,FALSE)","v":"DHX-124903"},"DHX"]
[null,"De Souza Kristina",{"$f":"VLOOKUP(B2226,[1]export_1465921594229!$D2227:$G11487,4,FALSE)","v":"CUL-124315"},"CUL"]
[null,"De Varennes Jacques",{"$f":"VLOOKUP(B2227,[1]export_1465921594229!$D2228:$G11488,4,FALSE)","v":"628-122154"},"628"]
[null,"De Vissier Hans Hielk",{"$f":"VLOOKUP(B2228,[1]export_1465921594229!$D2229:$G11489,4,FALSE)","v":"N80-120829"},"N80"]
[null,"De Zwirek Bernard",{"$f":"VLOOKUP(B2229,[1]export_1465921594229!$D2230:$G11490,4,FALSE)","v":"IG1-116352"},"IG1"]
[null,"Dean Daniel",{"$f":"VLOOKUP(B2230,[1]export_1465921594229!$D2231:$G11491,4,FALSE)","v":"AK9-550177"},"AK9"]
[null,"Deans Lisa",{"$f":"VLOOKUP(B2231,[1]export_1465921594229!$D2232:$G11492,4,FALSE)","v":"DGB-124858"},"DGB"]
[null,"Deba James",{"$f":"VLOOKUP(B2232,[1]export_1465921594229!$D2233:$G11493,4,FALSE)","v":"LV9-116925"},"LV9"]
[null,"Debernardi Jerome",{"$f":"VLOOKUP(B2233,[1]export_1465921594229!$D2234:$G11494,4,FALSE)","v":"CB9-121732"},"CB9"]
[null,"Deblois Caroline",{"$f":"VLOOKUP(B2234,[1]export_1465921594229!$D2235:$G11495,4,FALSE)","v":"HK6-116215"},"HK6"]
[null,"Deblois diane",{"$f":"VLOOKUP(B2235,[1]export_1465921594229!$D2236:$G11496,4,FALSE)","v":"AE7-122044"},"AE7"]
[null,"Debord Plourde Anthony",{"$f":"VLOOKUP(B2236,[1]export_1465921594229!$D2237:$G11497,4,FALSE)","v":"DKQ-124971"},"DKQ"]
[null,"Decasa Virginia L",{"$f":"VLOOKUP(B2237,[1]export_1465921594229!$D2238:$G11498,4,FALSE)","v":"ME6-117002"},"ME6"]
[null,"Dechene Lucie",{"$f":"VLOOKUP(B2238,[1]export_1465921594229!$D2239:$G11499,4,FALSE)","v":"472-122194"},"472"]
[null,"Decoste Sylvain",{"$f":"VLOOKUP(B2239,[1]export_1465921594229!$D2240:$G11500,4,FALSE)","v":"DJH-124938"},"DJH"]
[null,"Deen Sohail",{"$f":"VLOOKUP(B2240,[1]export_1465921594229!$D2241:$G11501,4,FALSE)","v":"BYG-123529"},"BYG"]
[null,"Dees Ryan",{"$f":"VLOOKUP(B2241,[1]export_1465921594229!$D2242:$G11502,4,FALSE)","v":"B4P-123682"},"B4P"]
[null,"Deforest Mitchell",{"$f":"VLOOKUP(B2242,[1]export_1465921594229!$D2243:$G11503,4,FALSE)","v":"BX8-118270"},{"$f":"LEFT(C2242,3)","v":"BX8"}]
[null,"Deguire Donald",{"$f":"VLOOKUP(B2243,[1]export_1465921594229!$D2244:$G11504,4,FALSE)","v":"Q63-117662"},"Q63"]
[null,"Dehaan Brett",{"$f":"VLOOKUP(B2244,[1]export_1465921594229!$D2245:$G11505,4,FALSE)","v":"EX1-121380"},"EX1"]
[null,"Del Mundo Andrew",{"$f":"VLOOKUP(B2245,[1]export_1465921594229!$D2246:$G11506,4,FALSE)","v":"CSS-124275"},"CSS"]
[null,"Del Papa Maria",{"$f":"VLOOKUP(B2246,[1]export_1465921594229!$D2247:$G11507,4,FALSE)","v":"M87-116965"},"M87"]
[null,"Del Rosario-Gonzalez Zoila Luz",{"$f":"VLOOKUP(B2247,[1]export_1465921594229!$D2248:$G11508,4,FALSE)","v":"CGM-123978"},"CGM"]
[null,"Del Rosario-Gonzalez Zoila Luz",{"$f":"VLOOKUP(B2248,[1]export_1465921594229!$D2249:$G11509,4,FALSE)","v":"PT1-117609"},"PT1"]
[null,"Dela Cruz Dina Hipolito",{"$f":"VLOOKUP(B2249,[1]export_1465921594229!$D2250:$G11510,4,FALSE)","v":"B5M-123705"},"B5M"]
[null,"Dela Cruz Marivic",{"$f":"VLOOKUP(B2250,[1]export_1465921594229!$D2251:$G11511,4,FALSE)","v":"DUX-125229"},"DUX"]
[null,"Dela Rosa Licerio",{"$f":"VLOOKUP(B2251,[1]export_1465921594229!$D2252:$G11512,4,FALSE)","v":"BRZ-123397"},"BRZ"]
[null,"Dela Rosa Nancy",{"$f":"VLOOKUP(B2252,[1]export_1465921594229!$D2253:$G11513,4,FALSE)","v":"A6F-123006"},"A6F"]
[null,"Delacruz Diosa",{"$f":"VLOOKUP(B2253,[1]export_1465921594229!$D2254:$G11514,4,FALSE)","v":"KH0-116694"},"KH0"]
[null,"Delage Claude",{"$f":"VLOOKUP(B2254,[1]export_1465921594229!$D2255:$G11515,4,FALSE)","v":"FV2-121325"},"FV2"]
[null,"Delage Claude",{"$f":"VLOOKUP(B2255,[1]export_1465921594229!$D2256:$G11516,4,FALSE)","v":"FI6-121303"},"FI6"]
[null,"Delagrave Yves",{"$f":"VLOOKUP(B2256,[1]export_1465921594229!$D2257:$G11517,4,FALSE)","v":"FT7-118783"},"FT7"]
[null,"Delaine Darryl",{"$f":"VLOOKUP(B2257,[1]export_1465921594229!$D2258:$G11518,4,FALSE)","v":"DUK-125216"},"DUK"]
[null,"Delaire Jimmy",{"$f":"VLOOKUP(B2258,[1]export_1465921594229!$D2259:$G11519,4,FALSE)","v":"QX6-119787"},"QX6"]
[null,"Delaney Patricia-Gilberte",{"$f":"VLOOKUP(B2259,[1]export_1465921594229!$D2260:$G11520,4,FALSE)","v":"A66-122006"},"A66"]
[null,"Delantar Angie Adlao",{"$f":"VLOOKUP(B2260,[1]export_1465921594229!$D2261:$G11521,4,FALSE)","v":"CTW-124301"},"CTW"]
[null,"Dela-Paz Carmelita",{"$f":"VLOOKUP(B2261,[1]export_1465921594229!$D2262:$G11522,4,FALSE)","v":"PQ8-117594"},"PQ8"]
[null,"Delarosbil Stephan",{"$f":"VLOOKUP(B2262,[1]export_1465921594229!$D2263:$G11523,4,FALSE)","v":"U96-120571"},"U96"]
[null,"DELATTIBOUDERE COLLEEN",{"$f":"VLOOKUP(B2263,[1]export_1465921594229!$D2264:$G11524,4,FALSE)","v":"CYL-124416"},"CYL"]
[null,"Delgado Oscar",{"$f":"VLOOKUP(B2264,[1]export_1465921594229!$D2265:$G11525,4,FALSE)","v":"BTQ-123432"},"BTQ"]
[null,"Delgado Oscar",{"$f":"VLOOKUP(B2265,[1]export_1465921594229!$D2266:$G11526,4,FALSE)","v":"CGA-123966"},"CGA"]
[null,"Delgado Rosalia",{"$f":"VLOOKUP(B2266,[1]export_1465921594229!$D2267:$G11527,4,FALSE)","v":"BS0-121753"},"BS0"]
[null,"Delisle Benoit",{"$f":"VLOOKUP(B2267,[1]export_1465921594229!$D2268:$G11528,4,FALSE)","v":"P20-120778"},"P20"]
[null,"Delisle Jacques",{"$f":"VLOOKUP(B2268,[1]export_1465921594229!$D2269:$G11529,4,FALSE)","v":"081-122566"},"081"]
[null,"Delisle Jean-Claude",{"$f":"VLOOKUP(B2269,[1]export_1465921594229!$D2270:$G11530,4,FALSE)","v":"289-122329"},"289"]
[null,"Delisle Marie-Claude",{"$f":"VLOOKUP(B2270,[1]export_1465921594229!$D2271:$G11531,4,FALSE)","v":"BT8-115802"},"BT8"]
[null,"Delisle Philippe",{"$f":"VLOOKUP(B2271,[1]export_1465921594229!$D2272:$G11532,4,FALSE)","v":"M31-660648"},"M31"]
[null,"Delisle Raynald",{"$f":"VLOOKUP(B2272,[1]export_1465921594229!$D2273:$G11533,4,FALSE)","v":"629-122155"},"629"]
[null,"Dell Charles",{"$f":"VLOOKUP(B2273,[1]export_1465921594229!$D2274:$G11534,4,FALSE)","v":"CR4-118342"},"CR4"]
[null,"Dellekian Vartan",{"$f":"VLOOKUP(B2274,[1]export_1465921594229!$D2275:$G11535,4,FALSE)","v":"BK7-121858"},"BK7"]
[null,"Dellekian Vartan",{"$f":"VLOOKUP(B2275,[1]export_1465921594229!$D2276:$G11536,4,FALSE)","v":"BK5-115678"},"BK5"]
[null,"Delmotte Gautier Bernard",{"$f":"VLOOKUP(B2276,[1]export_1465921594229!$D2277:$G11537,4,FALSE)","v":"B29-120221"},"B29"]
[null,"Delorme France",{"$f":"VLOOKUP(B2277,[1]export_1465921594229!$D2278:$G11538,4,FALSE)","v":"X19-120024"},"X19"]
[null,"Demers Gilles",{"$f":"VLOOKUP(B2278,[1]export_1465921594229!$D2279:$G11539,4,FALSE)","v":"H24-116150"},"H24"]
[null,"Demers Louise",{"$f":"VLOOKUP(B2279,[1]export_1465921594229!$D2280:$G11540,4,FALSE)","v":"IR5-660178"},"IR5"]
[null,"Demers Marjorie",{"$f":"VLOOKUP(B2280,[1]export_1465921594229!$D2281:$G11541,4,FALSE)","v":"ID7-116335"},"ID7"]
[null,"Demers Patrick",{"$f":"VLOOKUP(B2281,[1]export_1465921594229!$D2282:$G11542,4,FALSE)","v":"G54-121347"},"G54"]
[null,"Demers Serge",{"$f":"VLOOKUP(B2282,[1]export_1465921594229!$D2283:$G11543,4,FALSE)","v":"I91-119116"},"I91"]
[null,"Demers Sylvie",{"$f":"VLOOKUP(B2283,[1]export_1465921594229!$D2284:$G11544,4,FALSE)","v":"645-122166"},"645"]
[null,"Demeterio Bernard",{"$f":"VLOOKUP(B2284,[1]export_1465921594229!$D2285:$G11545,4,FALSE)","v":"HA7-119003"},"HA7"]
[null,"Demetris Patrick",{"$f":"VLOOKUP(B2285,[1]export_1465921594229!$D2286:$G11546,4,FALSE)","v":"DD0-121497"},"DD0"]
[null,"Demetris Patrick",{"$f":"VLOOKUP(B2286,[1]export_1465921594229!$D2287:$G11547,4,FALSE)","v":"DC7-121495"},"DC7"]
[null,"Demmery Keith",{"$f":"VLOOKUP(B2287,[1]export_1465921594229!$D2288:$G11548,4,FALSE)","v":"BPH-029303"},"BPH"]
[null,"Demontigny Isabelle",{"$f":"VLOOKUP(B2288,[1]export_1465921594229!$D2289:$G11549,4,FALSE)","v":"AO1-121950"},"AO1"]
[null,"Dempsey Hugh",{"$f":"VLOOKUP(B2289,[1]export_1465921594229!$D2290:$G11550,4,FALSE)","v":"A5J-122577"},"A5J"]
[null,"Denault Chantal",{"$f":"VLOOKUP(B2290,[1]export_1465921594229!$D2291:$G11551,4,FALSE)","v":"BFG-660302"},"BFG"]
[null,"Denault Chantal",{"$f":"VLOOKUP(B2291,[1]export_1465921594229!$D2292:$G11552,4,FALSE)","v":"B4Y-123691"},"B4Y"]
[null,"Deng Wanhong",{"$f":"VLOOKUP(B2292,[1]export_1465921594229!$D2293:$G11553,4,FALSE)","v":"JS0-116567"},"JS0"]
[null,"Denicourt Dominic",{"$f":"VLOOKUP(B2293,[1]export_1465921594229!$D2294:$G11554,4,FALSE)","v":"IN1-116383"},"IN1"]
[null,"Deniger Bruno",{"$f":"VLOOKUP(B2294,[1]export_1465921594229!$D2295:$G11555,4,FALSE)","v":"A9Q-123083"},"A9Q"]
[null,"Deniger Bruno",{"$f":"VLOOKUP(B2295,[1]export_1465921594229!$D2296:$G11556,4,FALSE)","v":"BE1-115771"},"BE1"]
[null,"Denis Alain",{"$f":"VLOOKUP(B2296,[1]export_1465921594229!$D2297:$G11557,4,FALSE)","v":"U45-119929"},"U45"]
[null,"Denis Chantal",{"$f":"VLOOKUP(B2297,[1]export_1465921594229!$D2298:$G11558,4,FALSE)","v":"QQ8-600074"},"QQ8"]
[null,"Denis Dominic",{"$f":"VLOOKUP(B2298,[1]export_1465921594229!$D2299:$G11559,4,FALSE)","v":"GC8-121240"},"GC8"]
[null,"Denis Robert",{"$f":"VLOOKUP(B2299,[1]export_1465921594229!$D2300:$G11560,4,FALSE)","v":"B7F-123747"},"B7F"]
[null,"Denis-Berube Dominique",{"$f":"VLOOKUP(B2300,[1]export_1465921594229!$D2301:$G11561,4,FALSE)","v":{"$error":"#N/A"}},{"$error":"#N/A"}]
[null,"Denis-Ducharme Guillaume",{"$f":"VLOOKUP(B2301,[1]export_1465921594229!$D2302:$G11562,4,FALSE)","v":"C2Z-124532"},"C2Z"]
[null,"Dennis Barry L.",{"$f":"VLOOKUP(B2302,[1]export_1465921594229!$D2303:$G11563,4,FALSE)","v":"DV5-115919"},"DV5"]
[null,"Denoncourt Jean-Marc",{"$f":"VLOOKUP(B2303,[1]export_1465921594229!$D2304:$G11564,4,FALSE)","v":"Z89-118040"},"Z89"]
[null,"Denstedt Grant",{"$f":"VLOOKUP(B2304,[1]export_1465921594229!$D2305:$G11565,4,FALSE)","v":"DS1-118433"},"DS1"]
[null,"Depatie Frederic",{"$f":"VLOOKUP(B2305,[1]export_1465921594229!$D2306:$G11566,4,FALSE)","v":"D87-121610"},"D87"]
[null,"Depelteau Lucie",{"$f":"VLOOKUP(B2306,[1]export_1465921594229!$D2307:$G11567,4,FALSE)","v":"009-122515"},{"$f":"LEFT(C2306,3)","v":"009"}]
[null,"Depoorter Ronald",{"$f":"VLOOKUP(B2307,[1]export_1465921594229!$D2308:$G11568,4,FALSE)","v":"CPR-124201"},"CPR"]
[null,"Deprato Lucie",{"$f":"VLOOKUP(B2308,[1]export_1465921594229!$D2309:$G11569,4,FALSE)","v":"F48-121401"},"F48"]
[null,"Deraiche Stephane",{"$f":"VLOOKUP(B2309,[1]export_1465921594229!$D2310:$G11570,4,FALSE)","v":"F50-660156"},"F50"]
[null,"Deraiche Stephane",{"$f":"VLOOKUP(B2310,[1]export_1465921594229!$D2311:$G11571,4,FALSE)","v":"BQ5-501565"},"BQ5"]
[null,"Deraiche Stephane",{"$f":"VLOOKUP(B2311,[1]export_1465921594229!$D2312:$G11572,4,FALSE)","v":"D16-120139"},"D16"]
[null,"Deraiche Stephane",{"$f":"VLOOKUP(B2312,[1]export_1465921594229!$D2313:$G11573,4,FALSE)","v":"ER9-115680"},"ER9"]
[null,"Deraspe Annie-Claude",{"$f":"VLOOKUP(B2313,[1]export_1465921594229!$D2314:$G11574,4,FALSE)","v":"DM0-115896"},"DM0"]
[null,"Derfler Steven",{"$f":"VLOOKUP(B2314,[1]export_1465921594229!$D2315:$G11575,4,FALSE)","v":"Q66-120697"},"Q66"]
[null,"Derkson Jerry",{"$f":"VLOOKUP(B2315,[1]export_1465921594229!$D2316:$G11576,4,FALSE)","v":"Q56-117661"},"Q56"]
[null,"Dery Louis",{"$f":"VLOOKUP(B2316,[1]export_1465921594229!$D2317:$G11577,4,FALSE)","v":"H44-660396"},"H44"]
[null,"Dery Sebastien",{"$f":"VLOOKUP(B2317,[1]export_1465921594229!$D2318:$G11578,4,FALSE)","v":"NR2-115569"},"NR2"]
[null,"Dery Sebastien",{"$f":"VLOOKUP(B2318,[1]export_1465921594229!$D2319:$G11579,4,FALSE)","v":"C84-121713"},"C84"]
[null,"Dery Sebastien",{"$f":"VLOOKUP(B2319,[1]export_1465921594229!$D2320:$G11580,4,FALSE)","v":"BZE-123550"},"BZE"]
[null,"Dery Serge",{"$f":"VLOOKUP(B2320,[1]export_1465921594229!$D2321:$G11581,4,FALSE)","v":"I43-119099"},"I43"]
[null,"Dery Solange",{"$f":"VLOOKUP(B2321,[1]export_1465921594229!$D2322:$G11582,4,FALSE)","v":"374-122262"},"374"]
[null,"Dery Yvan",{"$f":"VLOOKUP(B2322,[1]export_1465921594229!$D2323:$G11583,4,FALSE)","v":"730-115654"},"730"]
[null,"Dery Karine",{"$f":"VLOOKUP(B2323,[1]export_1465921594229!$D2324:$G11584,4,FALSE)","v":{"$error":"#N/A"}},{"$error":"#N/A"}]
[null,"Dery Marcel",{"$f":"VLOOKUP(B2324,[1]export_1465921594229!$D2325:$G11585,4,FALSE)","v":{"$error":"#N/A"}},{"$error":"#N/A"}]
[null,"Dery Vincent",{"$f":"VLOOKUP(B2325,[1]export_1465921594229!$D2326:$G11586,4,FALSE)","v":{"$error":"#N/A"}},{"$error":"#N/A"}]
[null,"Des Rosiers Martin",{"$f":"VLOOKUP(B2326,[1]export_1465921594229!$D2327:$G11587,4,FALSE)","v":"D0B-125358"},"D0B"]
[null,"Desai Kuntesh",{"$f":"VLOOKUP(B2327,[1]export_1465921594229!$D2328:$G11588,4,FALSE)","v":"LD4-116822"},"LD4"]
[null,"Desai Kuntesh",{"$f":"VLOOKUP(B2328,[1]export_1465921594229!$D2329:$G11589,4,FALSE)","v":"LG6-118083"},"LG6"]
[null,"Desai Manishkumar",{"$f":"VLOOKUP(B2329,[1]export_1465921594229!$D2330:$G11590,4,FALSE)","v":"NI0-117191"},"NI0"]
[null,"Desai Mukesh Kumar",{"$f":"VLOOKUP(B2330,[1]export_1465921594229!$D2331:$G11591,4,FALSE)","v":"CAF-123821"},"CAF"]
[null,"Desancic Goran",{"$f":"VLOOKUP(B2331,[1]export_1465921594229!$D2332:$G11592,4,FALSE)","v":"QC9-119741"},"QC9"]
[null,"Desancic Goran",{"$f":"VLOOKUP(B2332,[1]export_1465921594229!$D2333:$G11593,4,FALSE)","v":"QH2-119768"},"QH2"]
[null,"Desancic Goran",{"$f":"VLOOKUP(B2333,[1]export_1465921594229!$D2334:$G11594,4,FALSE)","v":"GU1-115594"},"GU1"]
[null,"Desancic Goran",{"$f":"VLOOKUP(B2334,[1]export_1465921594229!$D2335:$G11595,4,FALSE)","v":"GU3-118944"},"GU3"]
[null,"Desancic Goran",{"$f":"VLOOKUP(B2335,[1]export_1465921594229!$D2336:$G11596,4,FALSE)","v":"KG2-119245"},"KG2"]
[null,"Desautels 11lmclc Janice",{"$f":"VLOOKUP(B2336,[1]export_1465921594229!$D2337:$G11597,4,FALSE)","v":"GM9-118911"},"GM9"]
[null,"Desautels Annie",{"$f":"VLOOKUP(B2337,[1]export_1465921594229!$D2338:$G11598,4,FALSE)","v":"DQK-125118"},"DQK"]
[null,"Desbiens Dominic",{"$f":"VLOOKUP(B2338,[1]export_1465921594229!$D2339:$G11599,4,FALSE)","v":"DKZ-124980"},"DKZ"]
[null,"Desbiens Francine",{"$f":"VLOOKUP(B2339,[1]export_1465921594229!$D2340:$G11600,4,FALSE)","v":"125-122470"},"125"]
[null,"Desbiens Francoise",{"$f":"VLOOKUP(B2340,[1]export_1465921594229!$D2341:$G11601,4,FALSE)","v":"370-120325"},"370"]
[null,"Desbiens Madelyne",{"$f":"VLOOKUP(B2341,[1]export_1465921594229!$D2342:$G11602,4,FALSE)","v":"X87-118010"},"X87"]
[null,"Desbiens Marc-Andre",{"$f":"VLOOKUP(B2342,[1]export_1465921594229!$D2343:$G11603,4,FALSE)","v":"F22-121394"},"F22"]
[null,"Desbiens Frechette Danielle",{"$f":"VLOOKUP(B2343,[1]export_1465921594229!$D2344:$G11604,4,FALSE)","v":"338-122366"},"338"]
[null,"Desbiens Frechette Danielle",{"$f":"VLOOKUP(B2344,[1]export_1465921594229!$D2345:$G11605,4,FALSE)","v":"502-122204"},"502"]
[null,"Desbois Donat",{"$f":"VLOOKUP(B2345,[1]export_1465921594229!$D2346:$G11606,4,FALSE)","v":"FC0-660615"},"FC0"]
[null,"Deschatelets Felix",{"$f":"VLOOKUP(B2346,[1]export_1465921594229!$D2347:$G11607,4,FALSE)","v":{"$error":"#N/A"}},{"$error":"#N/A"}]
[null,"Deschenes Jean-Hugues",{"$f":"VLOOKUP(B2347,[1]export_1465921594229!$D2348:$G11608,4,FALSE)","v":"D06-121559"},"D06"]
[null,"Deschenes Melanie",{"$f":"VLOOKUP(B2348,[1]export_1465921594229!$D2349:$G11609,4,FALSE)","v":"517-122213"},"517"]
[null,"Deschenes Valerie",{"$f":"VLOOKUP(B2349,[1]export_1465921594229!$D2350:$G11610,4,FALSE)","v":"NU0-120728"},"NU0"]
[null,"Descoteaux Julie",{"$f":"VLOOKUP(B2350,[1]export_1465921594229!$D2351:$G11611,4,FALSE)","v":"209-122404"},"209"]
[null,"Desforges Andre",{"$f":"VLOOKUP(B2351,[1]export_1465921594229!$D2352:$G11612,4,FALSE)","v":"I24-119088"},"I24"]
[null,"Desfosses Maryse",{"$f":"VLOOKUP(B2352,[1]export_1465921594229!$D2353:$G11613,4,FALSE)","v":{"$error":"#N/A"}},{"$error":"#N/A"}]
[null,"Desgagne Michel",{"$f":"VLOOKUP(B2353,[1]export_1465921594229!$D2354:$G11614,4,FALSE)","v":"DYV-125330"},"DYV"]
[null,"Deshaies Pierre",{"$f":"VLOOKUP(B2354,[1]export_1465921594229!$D2355:$G11615,4,FALSE)","v":"O08-117274"},"O08"]
[null,"Desharnais Philippe",{"$f":"VLOOKUP(B2355,[1]export_1465921594229!$D2356:$G11616,4,FALSE)","v":"B20-121888"},"B20"]
[null,"Desilets Richard",{"$f":"VLOOKUP(B2356,[1]export_1465921594229!$D2357:$G11617,4,FALSE)","v":"253-122434"},"253"]
[null,"Desjardins Andre",{"$f":"VLOOKUP(B2357,[1]export_1465921594229!$D2358:$G11618,4,FALSE)","v":"409-122290"},"409"]
[null,"Desjardins Andre",{"$f":"VLOOKUP(B2358,[1]export_1465921594229!$D2359:$G11619,4,FALSE)","v":"F73-121411"},"F73"]
[null,"Desjardins Andre",{"$f":"VLOOKUP(B2359,[1]export_1465921594229!$D2360:$G11620,4,FALSE)","v":"468-122191"},"468"]
[null,"Desjardins Audrey",{"$f":"VLOOKUP(B2360,[1]export_1465921594229!$D2361:$G11621,4,FALSE)","v":"CPE-124188"},"CPE"]
[null,"Desjardins emilie",{"$f":"VLOOKUP(B2361,[1]export_1465921594229!$D2362:$G11622,4,FALSE)","v":{"$error":"#N/A"}},{"$error":"#N/A"}]
[null,"Desjardins Gino",{"$f":"VLOOKUP(B2362,[1]export_1465921594229!$D2363:$G11623,4,FALSE)","v":"IH7-660496"},"IH7"]
[null,"Desjardins Guillaume",{"$f":"VLOOKUP(B2363,[1]export_1465921594229!$D2364:$G11624,4,FALSE)","v":"K02-120178"},"K02"]
[null,"Desjardins Guillaume",{"$f":"VLOOKUP(B2364,[1]export_1465921594229!$D2365:$G11625,4,FALSE)","v":"H42-121289"},"H42"]
[null,"Desjardins Julie",{"$f":"VLOOKUP(B2365,[1]export_1465921594229!$D2366:$G11626,4,FALSE)","v":"BFL-660213"},"BFL"]
[null,"Desjardins Luc",{"$f":"VLOOKUP(B2366,[1]export_1465921594229!$D2367:$G11627,4,FALSE)","v":"IW7-116433"},"IW7"]
[null,"Desjardins Marcel",{"$f":"VLOOKUP(B2367,[1]export_1465921594229!$D2368:$G11628,4,FALSE)","v":"L16-121031"},"L16"]
[null,"Desjardins Maryse",{"$f":"VLOOKUP(B2368,[1]export_1465921594229!$D2369:$G11629,4,FALSE)","v":"573-122248"},"573"]
[null,"Desjardins Nathalie",{"$f":"VLOOKUP(B2369,[1]export_1465921594229!$D2370:$G11630,4,FALSE)","v":"DCR-124771"},"DCR"]
[null,"Desjardins Nathalie",{"$f":"VLOOKUP(B2370,[1]export_1465921594229!$D2371:$G11631,4,FALSE)","v":"DCT-124773"},{"$f":"LEFT(C2370,3)","v":"DCT"}]
[null,"Desjardins Simon",{"$f":"VLOOKUP(B2371,[1]export_1465921594229!$D2372:$G11632,4,FALSE)","v":"AF2-122047"},"AF2"]
[null,"Desjardins Simon",{"$f":"VLOOKUP(B2372,[1]export_1465921594229!$D2373:$G11633,4,FALSE)","v":"CX4-120134"},"CX4"]
[null,"Desjardins Sophie",{"$f":"VLOOKUP(B2373,[1]export_1465921594229!$D2374:$G11634,4,FALSE)","v":"L05-118079"},"L05"]
[null,"Desjardins Yves",{"$f":"VLOOKUP(B2374,[1]export_1465921594229!$D2375:$G11635,4,FALSE)","v":"735-115658"},"735"]
[null,"Deslandes Dominique",{"$f":"VLOOKUP(B2375,[1]export_1465921594229!$D2376:$G11636,4,FALSE)","v":"S14-117895"},"S14"]
[null,"Deslandres Paul",{"$f":"VLOOKUP(B2376,[1]export_1465921594229!$D2377:$G11637,4,FALSE)","v":"P62-120663"},"P62"]
[null,"Deslauriers Cathy",{"$f":"VLOOKUP(B2377,[1]export_1465921594229!$D2378:$G11638,4,FALSE)","v":"B93-120231"},"B93"]
[null,"Deslauriers Martin",{"$f":"VLOOKUP(B2378,[1]export_1465921594229!$D2379:$G11639,4,FALSE)","v":"D07-121560"},"D07"]
[null,"Deslauriers Martin",{"$f":"VLOOKUP(B2379,[1]export_1465921594229!$D2380:$G11640,4,FALSE)","v":"956-115671"},"956"]
[null,"Deslauriers Michelle",{"$f":"VLOOKUP(B2380,[1]export_1465921594229!$D2381:$G11641,4,FALSE)","v":"C5X-124599"},"C5X"]
[null,"Desmarais Andre",{"$f":"VLOOKUP(B2381,[1]export_1465921594229!$D2382:$G11642,4,FALSE)","v":"I33-119092"},"I33"]
[null,"Desmarais Denis",{"$f":"VLOOKUP(B2382,[1]export_1465921594229!$D2383:$G11643,4,FALSE)","v":"F51-118660"},"F51"]
[null,"Desmarais E. Raymond",{"$f":"VLOOKUP(B2383,[1]export_1465921594229!$D2384:$G11644,4,FALSE)","v":"P59-119628"},"P59"]
[null,"Desmarais Maxime",{"$f":"VLOOKUP(B2384,[1]export_1465921594229!$D2385:$G11645,4,FALSE)","v":"ET0-121371"},"ET0"]
[null,"Desmarais Maxime",{"$f":"VLOOKUP(B2385,[1]export_1465921594229!$D2386:$G11646,4,FALSE)","v":"ER4-121364"},"ER4"]
[null,"Desmarais Rachel",{"$f":"VLOOKUP(B2386,[1]export_1465921594229!$D2387:$G11647,4,FALSE)","v":"P60-119629"},"P60"]
[null,"Desmarais Sebastien",{"$f":"VLOOKUP(B2387,[1]export_1465921594229!$D2388:$G11648,4,FALSE)","v":"Q93-119715"},"Q93"]
[null,"Desmeules Guy",{"$f":"VLOOKUP(B2388,[1]export_1465921594229!$D2389:$G11649,4,FALSE)","v":"H04-118962"},"H04"]
[null,"Desmeules Joel",{"$f":"VLOOKUP(B2389,[1]export_1465921594229!$D2390:$G11650,4,FALSE)","v":"QW4-117809"},"QW4"]
[null,"Desnoyers Jean-François",{"$f":"VLOOKUP(B2390,[1]export_1465921594229!$D2391:$G11651,4,FALSE)","v":"X28-120512"},"X28"]
[null,"Desnoyers Jean-Marie",{"$f":"VLOOKUP(B2391,[1]export_1465921594229!$D2392:$G11652,4,FALSE)","v":"BS1-118245"},"BS1"]
[null,"Desormeaux Christine",{"$f":"VLOOKUP(B2392,[1]export_1465921594229!$D2393:$G11653,4,FALSE)","v":"B3Y-600070"},"B3Y"]
[null,"Desormeaux Julie",{"$f":"VLOOKUP(B2393,[1]export_1465921594229!$D2394:$G11654,4,FALSE)","v":"R50-118093"},"R50"]
[null,"Desousa Ricardo",{"$f":"VLOOKUP(B2394,[1]export_1465921594229!$D2395:$G11655,4,FALSE)","v":"KQ2-119264"},"KQ2"]
[null,"Despres Fabien",{"$f":"VLOOKUP(B2395,[1]export_1465921594229!$D2396:$G11656,4,FALSE)","v":"CM4-115679"},"CM4"]
[null,"Despres Fabien",{"$f":"VLOOKUP(B2396,[1]export_1465921594229!$D2397:$G11657,4,FALSE)","v":"B53-121908"},"B53"]
[null,"Despres Fabien",{"$f":"VLOOKUP(B2397,[1]export_1465921594229!$D2398:$G11658,4,FALSE)","v":"BK8-118219"},"BK8"]
[null,"Despres Fabien",{"$f":"VLOOKUP(B2398,[1]export_1465921594229!$D2399:$G11659,4,FALSE)","v":"741-115662"},"741"]
[null,"Despres Fabien",{"$f":"VLOOKUP(B2399,[1]export_1465921594229!$D2400:$G11660,4,FALSE)","v":"BK6-115589"},"BK6"]
[null,"Despres Rene",{"$f":"VLOOKUP(B2400,[1]export_1465921594229!$D2401:$G11661,4,FALSE)","v":"PO9-117577"},"PO9"]
[null,"Despres Suzanne",{"$f":"VLOOKUP(B2401,[1]export_1465921594229!$D2402:$G11662,4,FALSE)","v":"290-122330"},"290"]
[null,"Desrochers Benjamin",{"$f":"VLOOKUP(B2402,[1]export_1465921594229!$D2403:$G11663,4,FALSE)","v":"CJE-124043"},"CJE"]
[null,"Desrochers Daniel",{"$f":"VLOOKUP(B2403,[1]export_1465921594229!$D2404:$G11664,4,FALSE)","v":"Q17-119678"},"Q17"]
[null,"Desrochers Ginette",{"$f":"VLOOKUP(B2404,[1]export_1465921594229!$D2405:$G11665,4,FALSE)","v":"046-115692"},"046"]
[null,"Desrochers Guy",{"$f":"VLOOKUP(B2405,[1]export_1465921594229!$D2406:$G11666,4,FALSE)","v":"GP4-116105"},"GP4"]
[null,"Desrochers Louise",{"$f":"VLOOKUP(B2406,[1]export_1465921594229!$D2407:$G11667,4,FALSE)","v":"B59-121914"},"B59"]
[null,"Desrochers Pierre",{"$f":"VLOOKUP(B2407,[1]export_1465921594229!$D2408:$G11668,4,FALSE)","v":"DH2-120156"},"DH2"]
[null,"Desrochers Richard",{"$f":"VLOOKUP(B2408,[1]export_1465921594229!$D2409:$G11669,4,FALSE)","v":"CK7-118320"},"CK7"]
[null,"Desrochers Robert",{"$f":"VLOOKUP(B2409,[1]export_1465921594229!$D2410:$G11670,4,FALSE)","v":"G84-116066"},"G84"]
[null,"Desroches Fleurette",{"$f":"VLOOKUP(B2410,[1]export_1465921594229!$D2411:$G11671,4,FALSE)","v":"A01-120183"},"A01"]
[null,"Desroches Jessika",{"$f":"VLOOKUP(B2411,[1]export_1465921594229!$D2412:$G11672,4,FALSE)","v":"Q94-120706"},"Q94"]
[null,"Desroches Julie",{"$f":"VLOOKUP(B2412,[1]export_1465921594229!$D2413:$G11673,4,FALSE)","v":"C8Z-124676"},"C8Z"]
[null,"Desroches Tania",{"$f":"VLOOKUP(B2413,[1]export_1465921594229!$D2414:$G11674,4,FALSE)","v":"H38-121288"},"H38"]
[null,"Desrosiers Gilles",{"$f":"VLOOKUP(B2414,[1]export_1465921594229!$D2415:$G11675,4,FALSE)","v":"T08-119880"},"T08"]
[null,"Desrosiers Jean-Marc",{"$f":"VLOOKUP(B2415,[1]export_1465921594229!$D2416:$G11676,4,FALSE)","v":"JV7-121066"},"JV7"]
[null,"Desrosiers Jean-Paul",{"$f":"VLOOKUP(B2416,[1]export_1465921594229!$D2417:$G11677,4,FALSE)","v":"V66-119966"},"V66"]
[null,"Desrosiers Luc",{"$f":"VLOOKUP(B2417,[1]export_1465921594229!$D2418:$G11678,4,FALSE)","v":"QL2-117717"},"QL2"]
[null,"Desrosiers Luc",{"$f":"VLOOKUP(B2418,[1]export_1465921594229!$D2419:$G11679,4,FALSE)","v":"S22-120615"},"S22"]
[null,"Desrosiers Luc",{"$f":"VLOOKUP(B2419,[1]export_1465921594229!$D2420:$G11680,4,FALSE)","v":"P05-119610"},"P05"]
[null,"Desrosiers Nancy",{"$f":"VLOOKUP(B2420,[1]export_1465921594229!$D2421:$G11681,4,FALSE)","v":"X43-120516"},"X43"]
[null,"Desrosiers Sylvain",{"$f":"VLOOKUP(B2421,[1]export_1465921594229!$D2422:$G11682,4,FALSE)","v":"KV1-116770"},"KV1"]
[null,"Dessureault Philippe",{"$f":"VLOOKUP(B2422,[1]export_1465921594229!$D2423:$G11683,4,FALSE)","v":"GJ9-118897"},"GJ9"]
[null,"Dessureault Sylvie",{"$f":"VLOOKUP(B2423,[1]export_1465921594229!$D2424:$G11684,4,FALSE)","v":"HA2-116168"},"HA2"]
[null,"Destacamento Enalyn",{"$f":"VLOOKUP(B2424,[1]export_1465921594229!$D2425:$G11685,4,FALSE)","v":"A6D-123004"},"A6D"]
[null,"Destacamento Nelia",{"$f":"VLOOKUP(B2425,[1]export_1465921594229!$D2426:$G11686,4,FALSE)","v":"LK7-116865"},"LK7"]
[null,"D'Ettore Frank",{"$f":"VLOOKUP(B2426,[1]export_1465921594229!$D2427:$G11687,4,FALSE)","v":"DOC-125058"},"DOC"]
[null,"Deveault Therese",{"$f":"VLOOKUP(B2427,[1]export_1465921594229!$D2428:$G11688,4,FALSE)","v":"R56-119805"},"R56"]
[null,"Develey Sebastien",{"$f":"VLOOKUP(B2428,[1]export_1465921594229!$D2429:$G11689,4,FALSE)","v":"I58-119106"},"I58"]
[null,"Develey Sebastien",{"$f":"VLOOKUP(B2429,[1]export_1465921594229!$D2430:$G11690,4,FALSE)","v":"L49-120912"},"L49"]
[null,"Devgun Jaswinder",{"$f":"VLOOKUP(B2430,[1]export_1465921594229!$D2431:$G11691,4,FALSE)","v":"GN5-118915"},"GN5"]
[null,"Devia Joanathan",{"$f":"VLOOKUP(B2431,[1]export_1465921594229!$D2432:$G11692,4,FALSE)","v":"B2N-123631"},"B2N"]
[null,"Devia Joanathan",{"$f":"VLOOKUP(B2432,[1]export_1465921594229!$D2433:$G11693,4,FALSE)","v":"FI3-121302"},"FI3"]
[null,"Devine Bruce",{"$f":"VLOOKUP(B2433,[1]export_1465921594229!$D2434:$G11694,4,FALSE)","v":"S83-119865"},"S83"]
[null,"Devine Daniel",{"$f":"VLOOKUP(B2434,[1]export_1465921594229!$D2435:$G11695,4,FALSE)","v":"IU8-119159"},{"$f":"LEFT(C2434,3)","v":"IU8"}]
[null,"Devji Amir",{"$f":"VLOOKUP(B2435,[1]export_1465921594229!$D2436:$G11696,4,FALSE)","v":"BPU-029434"},"BPU"]
[null,"Devji Amir",{"$f":"VLOOKUP(B2436,[1]export_1465921594229!$D2437:$G11697,4,FALSE)","v":"R07-329434"},"R07"]
[null,"Devji Hassanali",{"$f":"VLOOKUP(B2437,[1]export_1465921594229!$D2438:$G11698,4,FALSE)","v":"BCY-123111"},"BCY"]
[null,"Devji Talib",{"$f":"VLOOKUP(B2438,[1]export_1465921594229!$D2439:$G11699,4,FALSE)","v":"CCM-123879"},"CCM"]
[null,"Devoy Karine",{"$f":"VLOOKUP(B2439,[1]export_1465921594229!$D2440:$G11700,4,FALSE)","v":"V97-120473"},"V97"]
[null,"Deziel Carmen",{"$f":"VLOOKUP(B2440,[1]export_1465921594229!$D2441:$G11701,4,FALSE)","v":"184-122385"},"184"]
[null,"Deziel Luc",{"$f":"VLOOKUP(B2441,[1]export_1465921594229!$D2442:$G11702,4,FALSE)","v":"FU5-118787"},"FU5"]
[null,"Dhaliwal Avninder",{"$f":"VLOOKUP(B2442,[1]export_1465921594229!$D2443:$G11703,4,FALSE)","v":"OV8-117416"},"OV8"]
[null,"Dhaliwal Baljinder",{"$f":"VLOOKUP(B2443,[1]export_1465921594229!$D2444:$G11704,4,FALSE)","v":"QT0-117781"},"QT0"]
[null,"Dhaliwal Daljit",{"$f":"VLOOKUP(B2444,[1]export_1465921594229!$D2445:$G11705,4,FALSE)","v":"DTL-125191"},"DTL"]
[null,"Dhaliwal Dilraj",{"$f":"VLOOKUP(B2445,[1]export_1465921594229!$D2446:$G11706,4,FALSE)","v":"OZ7-117438"},"OZ7"]
[null,"Dhaliwal Dilraj",{"$f":"VLOOKUP(B2446,[1]export_1465921594229!$D2447:$G11707,4,FALSE)","v":"OU2-119603"},"OU2"]
[null,"Dhaliwal Gurcharan",{"$f":"VLOOKUP(B2447,[1]export_1465921594229!$D2448:$G11708,4,FALSE)","v":"GS1-116114"},"GS1"]
[null,"Dhaliwal Harbir",{"$f":"VLOOKUP(B2448,[1]export_1465921594229!$D2449:$G11709,4,FALSE)","v":"GI6-118888"},"GI6"]
[null,"Dhaliwal Harpreet",{"$f":"VLOOKUP(B2449,[1]export_1465921594229!$D2450:$G11710,4,FALSE)","v":"LB5-116807"},"LB5"]
[null,"Dhaliwal Inderjeet (Ruby) K",{"$f":"VLOOKUP(B2450,[1]export_1465921594229!$D2451:$G11711,4,FALSE)","v":"LA4-120957"},"LA4"]
[null,"Dhaliwal Jagjit",{"$f":"VLOOKUP(B2451,[1]export_1465921594229!$D2452:$G11712,4,FALSE)","v":"IP1-116395"},"IP1"]
[null,"Dhaliwal Kulwinder",{"$f":"VLOOKUP(B2452,[1]export_1465921594229!$D2453:$G11713,4,FALSE)","v":"KK2-116713"},"KK2"]
[null,"Dhaliwal Ramandeep",{"$f":"VLOOKUP(B2453,[1]export_1465921594229!$D2454:$G11714,4,FALSE)","v":"C9Q-124693"},"C9Q"]
[null,"Dhaliwal Ranjodh",{"$f":"VLOOKUP(B2454,[1]export_1465921594229!$D2455:$G11715,4,FALSE)","v":"JF9-116493"},"JF9"]
[null,"Dhaliwal Rupinder",{"$f":"VLOOKUP(B2455,[1]export_1465921594229!$D2456:$G11716,4,FALSE)","v":"BCB-550343"},"BCB"]
[null,"Dhami Rupinder",{"$f":"VLOOKUP(B2456,[1]export_1465921594229!$D2457:$G11717,4,FALSE)","v":"BCD-550379"},"BCD"]
[null,"Dhanju Gurdial Singh",{"$f":"VLOOKUP(B2457,[1]export_1465921594229!$D2458:$G11718,4,FALSE)","v":"ET8-118610"},"ET8"]
[null,"Dhanoa Avninder K.",{"$f":"VLOOKUP(B2458,[1]export_1465921594229!$D2459:$G11719,4,FALSE)","v":"KI6-116701"},"KI6"]
[null,"Dhillon Amarjit Singh",{"$f":"VLOOKUP(B2459,[1]export_1465921594229!$D2460:$G11720,4,FALSE)","v":"GC7-116079"},"GC7"]
[null,"Dhillon Gurdev",{"$f":"VLOOKUP(B2460,[1]export_1465921594229!$D2461:$G11721,4,FALSE)","v":"OV9-117417"},"OV9"]
[null,"Dhillon Gurjit Singh",{"$f":"VLOOKUP(B2461,[1]export_1465921594229!$D2462:$G11722,4,FALSE)","v":"JV1-116592"},"JV1"]
[null,"Dhillon Gurpreet",{"$f":"VLOOKUP(B2462,[1]export_1465921594229!$D2463:$G11723,4,FALSE)","v":"JN2-116541"},"JN2"]
[null,"Dhillon Gurvinder",{"$f":"VLOOKUP(B2463,[1]export_1465921594229!$D2464:$G11724,4,FALSE)","v":"HW0-116278"},"HW0"]
[null,"Dhillon Harvinder",{"$f":"VLOOKUP(B2464,[1]export_1465921594229!$D2465:$G11725,4,FALSE)","v":"BBO-550222"},"BBO"]
[null,"Dhindsa Sukhjit",{"$f":"VLOOKUP(B2465,[1]export_1465921594229!$D2466:$G11726,4,FALSE)","v":"AB4-122036"},"AB4"]
[null,"Dhinsa Ranjit",{"$f":"VLOOKUP(B2466,[1]export_1465921594229!$D2467:$G11727,4,FALSE)","v":"NH0-117183"},"NH0"]
[null,"Dhinsa Subhneet",{"$f":"VLOOKUP(B2467,[1]export_1465921594229!$D2468:$G11728,4,FALSE)","v":"MQ8-117079"},"MQ8"]
[null,"Dhugga Amarjit",{"$f":"VLOOKUP(B2468,[1]export_1465921594229!$D2469:$G11729,4,FALSE)","v":"FN6-550551"},"FN6"]
[null,"Di Giandomenico Frank",{"$f":"VLOOKUP(B2469,[1]export_1465921594229!$D2470:$G11730,4,FALSE)","v":"HP2-116238"},"HP2"]
[null,"Di Stasio Franco",{"$f":"VLOOKUP(B2470,[1]export_1465921594229!$D2471:$G11731,4,FALSE)","v":"HK7-660479"},"HK7"]
[null,"Di Ubaldo Matthew",{"$f":"VLOOKUP(B2471,[1]export_1465921594229!$D2472:$G11732,4,FALSE)","v":"CO3-121637"},"CO3"]
[null,"Diagana Aliou",{"$f":"VLOOKUP(B2472,[1]export_1465921594229!$D2473:$G11733,4,FALSE)","v":"CPO-124198"},"CPO"]
[null,"Diane Alarie",{"$f":"VLOOKUP(B2473,[1]export_1465921594229!$D2474:$G11734,4,FALSE)","v":"DWF-125263"},"DWF"]
[null,"Dias Kevin",{"$f":"VLOOKUP(B2474,[1]export_1465921594229!$D2475:$G11735,4,FALSE)","v":"BM9-115790"},"BM9"]
[null,"Diaz Dardo",{"$f":"VLOOKUP(B2475,[1]export_1465921594229!$D2476:$G11736,4,FALSE)","v":"CAD-123819"},"CAD"]
[null,"Dibb Parker",{"$f":"VLOOKUP(B2476,[1]export_1465921594229!$D2477:$G11737,4,FALSE)","v":"CQZ-124230"},"CQZ"]
[null,"Dickie Matt",{"$f":"VLOOKUP(B2477,[1]export_1465921594229!$D2478:$G11738,4,FALSE)","v":"N42-029385"},"N42"]
[null,"Dickie Matt",{"$f":"VLOOKUP(B2478,[1]export_1465921594229!$D2479:$G11739,4,FALSE)","v":"QJ3-329385"},"QJ3"]
[null,"Dickie Matt",{"$f":"VLOOKUP(B2479,[1]export_1465921594229!$D2480:$G11740,4,FALSE)","v":"BPT-429385"},"BPT"]
[null,"Dickie Matt",{"$f":"VLOOKUP(B2480,[1]export_1465921594229!$D2481:$G11741,4,FALSE)","v":"B5R-529385"},"B5R"]
[null,"Dickie Matt",{"$f":"VLOOKUP(B2481,[1]export_1465921594229!$D2482:$G11742,4,FALSE)","v":"919-115579"},"919"]
[null,"Dickinson Andrew",{"$f":"VLOOKUP(B2482,[1]export_1465921594229!$D2483:$G11743,4,FALSE)","v":"U44-120554"},"U44"]
[null,"Dickson Andrew",{"$f":"VLOOKUP(B2483,[1]export_1465921594229!$D2484:$G11744,4,FALSE)","v":"ON6-119583"},"ON6"]
[null,"Dickson Andrew",{"$f":"VLOOKUP(B2484,[1]export_1465921594229!$D2485:$G11745,4,FALSE)","v":"ON7-119584"},"ON7"]
[null,"Dickson Bruce",{"$f":"VLOOKUP(B2485,[1]export_1465921594229!$D2486:$G11746,4,FALSE)","v":"FX4-118803"},"FX4"]
[null,"Dickson Bruce",{"$f":"VLOOKUP(B2486,[1]export_1465921594229!$D2487:$G11747,4,FALSE)","v":"EK3-121476"},"EK3"]
[null,"Dickson Sandra",{"$f":"VLOOKUP(B2487,[1]export_1465921594229!$D2488:$G11748,4,FALSE)","v":"M19-120856"},"M19"]
[null,"Dietrich James",{"$f":"VLOOKUP(B2488,[1]export_1465921594229!$D2489:$G11749,4,FALSE)","v":"JU1-116582"},"JU1"]
[null,"Dietrich Michael",{"$f":"VLOOKUP(B2489,[1]export_1465921594229!$D2490:$G11750,4,FALSE)","v":"PF8-117500"},"PF8"]
[null,"Dieu Charles",{"$f":"VLOOKUP(B2490,[1]export_1465921594229!$D2491:$G11751,4,FALSE)","v":"CCK-123877"},"CCK"]
[null,"Dieu Richard",{"$f":"VLOOKUP(B2491,[1]export_1465921594229!$D2492:$G11752,4,FALSE)","v":"CTP-124297"},"CTP"]
[null,"Dignard Martin",{"$f":"VLOOKUP(B2492,[1]export_1465921594229!$D2493:$G11753,4,FALSE)","v":"ER3-121363"},"ER3"]
[null,"D'Ignazio Patrizia",{"$f":"VLOOKUP(B2493,[1]export_1465921594229!$D2494:$G11754,4,FALSE)","v":"HR5-121203"},"HR5"]
[null,"Dilkumar Gajalakshmy",{"$f":"VLOOKUP(B2494,[1]export_1465921594229!$D2495:$G11755,4,FALSE)","v":"DJQ-124947"},"DJQ"]
[null,"Dimailig Leoja",{"$f":"VLOOKUP(B2495,[1]export_1465921594229!$D2496:$G11756,4,FALSE)","v":"BEW-123137"},"BEW"]
[null,"Dimailig Sean",{"$f":"VLOOKUP(B2496,[1]export_1465921594229!$D2497:$G11757,4,FALSE)","v":"CRD-124234"},"CRD"]
[null,"Dimapasoc (De Jesus) Evelyn",{"$f":"VLOOKUP(B2497,[1]export_1465921594229!$D2498:$G11758,4,FALSE)","v":"FX0-118800"},"FX0"]
[null,"Dimapasoc (De Jesus) Evelyn",{"$f":"VLOOKUP(B2498,[1]export_1465921594229!$D2499:$G11759,4,FALSE)","v":"V71-119969"},{"$f":"LEFT(C2498,3)","v":"V71"}]
[null,"Dimarco Ryan",{"$f":"VLOOKUP(B2499,[1]export_1465921594229!$D2500:$G11760,4,FALSE)","v":"X70-120439"},"X70"]
[null,"Dimaria Agostino",{"$f":"VLOOKUP(B2500,[1]export_1465921594229!$D2501:$G11761,4,FALSE)","v":"MM4-117054"},"MM4"]
[null,"DiMario Mauro",{"$f":"VLOOKUP(B2501,[1]export_1465921594229!$D2502:$G11762,4,FALSE)","v":"DIF-124910"},"DIF"]
[null,"DiMario Mauro",{"$f":"VLOOKUP(B2502,[1]export_1465921594229!$D2503:$G11763,4,FALSE)","v":"BYU-550901"},"BYU"]
[null,"Di-Meo Nicole",{"$f":"VLOOKUP(B2503,[1]export_1465921594229!$D2504:$G11764,4,FALSE)","v":"F13-118646"},"F13"]
[null,"Dimerman Joey",{"$f":"VLOOKUP(B2504,[1]export_1465921594229!$D2505:$G11765,4,FALSE)","v":"JP8-550617"},"JP8"]
[null,"Dion Andre",{"$f":"VLOOKUP(B2505,[1]export_1465921594229!$D2506:$G11766,4,FALSE)","v":"K83-118076"},"K83"]
[null,"Dion Elsa",{"$f":"VLOOKUP(B2506,[1]export_1465921594229!$D2507:$G11767,4,FALSE)","v":"EA7-121452"},"EA7"]
[null,"Dion Rejean",{"$f":"VLOOKUP(B2507,[1]export_1465921594229!$D2508:$G11768,4,FALSE)","v":"V10-119953"},"V10"]
[null,"Dion Sebastien",{"$f":"VLOOKUP(B2508,[1]export_1465921594229!$D2509:$G11769,4,FALSE)","v":"V30-660732"},"V30"]
[null,"Dion Veronique",{"$f":"VLOOKUP(B2509,[1]export_1465921594229!$D2510:$G11770,4,FALSE)","v":"B90-121811"},"B90"]
[null,"Dion Yvan",{"$f":"VLOOKUP(B2510,[1]export_1465921594229!$D2511:$G11771,4,FALSE)","v":"ER5-118602"},"ER5"]
[null,"Dionne Christian",{"$f":"VLOOKUP(B2511,[1]export_1465921594229!$D2512:$G11772,4,FALSE)","v":"X26-660565"},"X26"]
[null,"Dionne Clemence",{"$f":"VLOOKUP(B2512,[1]export_1465921594229!$D2513:$G11773,4,FALSE)","v":"Z94-660298"},"Z94"]
[null,"Dionne Daniel",{"$f":"VLOOKUP(B2513,[1]export_1465921594229!$D2514:$G11774,4,FALSE)","v":"W11-660490"},"W11"]
[null,"Dionne Denis",{"$f":"VLOOKUP(B2514,[1]export_1465921594229!$D2515:$G11775,4,FALSE)","v":"CG6-118299"},"CG6"]
[null,"Dionne Eric",{"$f":"VLOOKUP(B2515,[1]export_1465921594229!$D2516:$G11776,4,FALSE)","v":"Q57-119703"},"Q57"]
[null,"Dionne Francois",{"$f":"VLOOKUP(B2516,[1]export_1465921594229!$D2517:$G11777,4,FALSE)","v":"S77-117904"},"S77"]
[null,"Dionne Gilles",{"$f":"VLOOKUP(B2517,[1]export_1465921594229!$D2518:$G11778,4,FALSE)","v":"K89-120993"},"K89"]
[null,"Dionne Jean-Lambert",{"$f":"VLOOKUP(B2518,[1]export_1465921594229!$D2519:$G11779,4,FALSE)","v":"I30-116303"},"I30"]
[null,"Dionne Maryse",{"$f":"VLOOKUP(B2519,[1]export_1465921594229!$D2520:$G11780,4,FALSE)","v":"031-115690"},"031"]
[null,"Dionne Paul-Edmond",{"$f":"VLOOKUP(B2520,[1]export_1465921594229!$D2521:$G11781,4,FALSE)","v":"L06-119294"},"L06"]
[null,"Dionne Sophie",{"$f":"VLOOKUP(B2521,[1]export_1465921594229!$D2522:$G11782,4,FALSE)","v":"BU1-121758"},"BU1"]
[null,"Dionne Yvon",{"$f":"VLOOKUP(B2522,[1]export_1465921594229!$D2523:$G11783,4,FALSE)","v":"KN7-116733"},"KN7"]
[null,"Dix Amy",{"$f":"VLOOKUP(B2523,[1]export_1465921594229!$D2524:$G11784,4,FALSE)","v":"DFI-124839"},"DFI"]
[null,"Djebbari Farouk",{"$f":"VLOOKUP(B2524,[1]export_1465921594229!$D2525:$G11785,4,FALSE)","v":"AS2-118164"},"AS2"]
[null,"Dlir Jawad",{"$f":"VLOOKUP(B2525,[1]export_1465921594229!$D2526:$G11786,4,FALSE)","v":"JP1-116551"},"JP1"]
[null,"Do (Do Target Fina&Insur) Thang",{"$f":"VLOOKUP(B2526,[1]export_1465921594229!$D2527:$G11787,4,FALSE)","v":"MJ9-117036"},"MJ9"]
[null,"Dobrishman Yakov",{"$f":"VLOOKUP(B2527,[1]export_1465921594229!$D2528:$G11788,4,FALSE)","v":"HG3-119029"},"HG3"]
[null,"Dobson Larry",{"$f":"VLOOKUP(B2528,[1]export_1465921594229!$D2529:$G11789,4,FALSE)","v":"MD6-116993"},"MD6"]
[null,"Dobson Larry",{"$f":"VLOOKUP(B2529,[1]export_1465921594229!$D2530:$G11790,4,FALSE)","v":"HT5-116263"},"HT5"]
[null,"Doerksen Kelley",{"$f":"VLOOKUP(B2530,[1]export_1465921594229!$D2531:$G11791,4,FALSE)","v":"C5O-124591"},"C5O"]
[null,"Dogra Amit",{"$f":"VLOOKUP(B2531,[1]export_1465921594229!$D2532:$G11792,4,FALSE)","v":"NS3-120723"},"NS3"]
[null,"Dogra Amit",{"$f":"VLOOKUP(B2532,[1]export_1465921594229!$D2533:$G11793,4,FALSE)","v":"KB7-116649"},"KB7"]
[null,"Dogra Amit",{"$f":"VLOOKUP(B2533,[1]export_1465921594229!$D2534:$G11794,4,FALSE)","v":"NS4-119511"},"NS4"]
[null,"Doherty Claude",{"$f":"VLOOKUP(B2534,[1]export_1465921594229!$D2535:$G11795,4,FALSE)","v":"CUX-124327"},"CUX"]
[null,"Doiron Michel",{"$f":"VLOOKUP(B2535,[1]export_1465921594229!$D2536:$G11796,4,FALSE)","v":"PM2-117555"},"PM2"]
[null,"Doiron Ricky",{"$f":"VLOOKUP(B2536,[1]export_1465921594229!$D2537:$G11797,4,FALSE)","v":"FB6-121295"},"FB6"]
[null,"Doliwa Jacinda",{"$f":"VLOOKUP(B2537,[1]export_1465921594229!$D2538:$G11798,4,FALSE)","v":"CLB-124090"},"CLB"]
[null,"Domingo Estella",{"$f":"VLOOKUP(B2538,[1]export_1465921594229!$D2539:$G11799,4,FALSE)","v":"AP6-118154"},"AP6"]
[null,"Domingue Roger",{"$f":"VLOOKUP(B2539,[1]export_1465921594229!$D2540:$G11800,4,FALSE)","v":"W89-660642"},"W89"]
[null,"Domingues Jason",{"$f":"VLOOKUP(B2540,[1]export_1465921594229!$D2541:$G11801,4,FALSE)","v":"C4Z-124579"},"C4Z"]
[null,"Dominic Stalin N.K.",{"$f":"VLOOKUP(B2541,[1]export_1465921594229!$D2542:$G11802,4,FALSE)","v":"B7J-123751"},"B7J"]
[null,"Dominique Georges",{"$f":"VLOOKUP(B2542,[1]export_1465921594229!$D2543:$G11803,4,FALSE)","v":"D50-120148"},"D50"]
[null,"Domning Caryn",{"$f":"VLOOKUP(B2543,[1]export_1465921594229!$D2544:$G11804,4,FALSE)","v":"CCB-123868"},"CCB"]
[null,"Domon Gilles",{"$f":"VLOOKUP(B2544,[1]export_1465921594229!$D2545:$G11805,4,FALSE)","v":"OX2-117425"},"OX2"]
[null,"Donabedian Seta",{"$f":"VLOOKUP(B2545,[1]export_1465921594229!$D2546:$G11806,4,FALSE)","v":"KC0-660546"},"KC0"]
[null,"Dookie Steve",{"$f":"VLOOKUP(B2546,[1]export_1465921594229!$D2547:$G11807,4,FALSE)","v":"JR9-121063"},"JR9"]
[null,"Dookie Steve",{"$f":"VLOOKUP(B2547,[1]export_1465921594229!$D2548:$G11808,4,FALSE)","v":"DW2-121427"},"DW2"]
[null,"Dookie Steve",{"$f":"VLOOKUP(B2548,[1]export_1465921594229!$D2549:$G11809,4,FALSE)","v":"FX3-121330"},"FX3"]
[null,"Dorcine Trudel",{"$f":"VLOOKUP(B2549,[1]export_1465921594229!$D2550:$G11810,4,FALSE)","v":"IH6-550567"},"IH6"]
[null,"Dore Carole",{"$f":"VLOOKUP(B2550,[1]export_1465921594229!$D2551:$G11811,4,FALSE)","v":"E11-118469"},"E11"]
[null,"Dore Claude",{"$f":"VLOOKUP(B2551,[1]export_1465921594229!$D2552:$G11812,4,FALSE)","v":"451-122313"},"451"]
[null,"Dore Nicole",{"$f":"VLOOKUP(B2552,[1]export_1465921594229!$D2553:$G11813,4,FALSE)","v":"331-122359"},"331"]
[null,"Dore Guy",{"$f":"VLOOKUP(B2553,[1]export_1465921594229!$D2554:$G11814,4,FALSE)","v":{"$error":"#N/A"}},{"$error":"#N/A"}]
[null,"Doring Richard",{"$f":"VLOOKUP(B2554,[1]export_1465921594229!$D2555:$G11815,4,FALSE)","v":"P36-119618"},"P36"]
[null,"Doring Richard",{"$f":"VLOOKUP(B2555,[1]export_1465921594229!$D2556:$G11816,4,FALSE)","v":"FW5-501237"},"FW5"]
[null,"Doring Richard",{"$f":"VLOOKUP(B2556,[1]export_1465921594229!$D2557:$G11817,4,FALSE)","v":"LP9-301237"},"LP9"]
[null,"Dorion Carole",{"$f":"VLOOKUP(B2557,[1]export_1465921594229!$D2558:$G11818,4,FALSE)","v":"032-122533"},"032"]
[null,"Dorrington Francis Dwight Z",{"$f":"VLOOKUP(B2558,[1]export_1465921594229!$D2559:$G11819,4,FALSE)","v":"MX8-117130"},"MX8"]
[null,"Dorval Michel",{"$f":"VLOOKUP(B2559,[1]export_1465921594229!$D2560:$G11820,4,FALSE)","v":"023-115625"},"023"]
[null,"Dorval Michel",{"$f":"VLOOKUP(B2560,[1]export_1465921594229!$D2561:$G11821,4,FALSE)","v":"206-122402"},"206"]
[null,"Dostie Marie-Philippe",{"$f":"VLOOKUP(B2561,[1]export_1465921594229!$D2562:$G11822,4,FALSE)","v":"DBL-124740"},"DBL"]
[null,"Dostie Raymond",{"$f":"VLOOKUP(B2562,[1]export_1465921594229!$D2563:$G11823,4,FALSE)","v":"V08-119951"},{"$f":"LEFT(C2562,3)","v":"V08"}]
[null,"Douadi Abdelkarim",{"$f":"VLOOKUP(B2563,[1]export_1465921594229!$D2564:$G11824,4,FALSE)","v":"CEV-123936"},"CEV"]
[null,"Douce Jacques",{"$f":"VLOOKUP(B2564,[1]export_1465921594229!$D2565:$G11825,4,FALSE)","v":"B37-120225"},"B37"]
[null,"Doucet Denis",{"$f":"VLOOKUP(B2565,[1]export_1465921594229!$D2566:$G11826,4,FALSE)","v":"L50-120913"},"L50"]
[null,"Doucet Denis",{"$f":"VLOOKUP(B2566,[1]export_1465921594229!$D2567:$G11827,4,FALSE)","v":"I97-660455"},"I97"]
[null,"Doucet Sylvain",{"$f":"VLOOKUP(B2567,[1]export_1465921594229!$D2568:$G11828,4,FALSE)","v":"DCV-124775"},"DCV"]
[null,"Doucet Yves",{"$f":"VLOOKUP(B2568,[1]export_1465921594229!$D2569:$G11829,4,FALSE)","v":"K66-120976"},"K66"]
[null,"Dougan Kyle",{"$f":"VLOOKUP(B2569,[1]export_1465921594229!$D2570:$G11830,4,FALSE)","v":"NE3-117168"},"NE3"]
[null,"Douglas Patrick",{"$f":"VLOOKUP(B2570,[1]export_1465921594229!$D2571:$G11831,4,FALSE)","v":"BO4-121742"},"BO4"]
[null,"Doukha Abdelkader",{"$f":"VLOOKUP(B2571,[1]export_1465921594229!$D2572:$G11832,4,FALSE)","v":"BWK-600077"},"BWK"]
[null,"Dowling Dianne",{"$f":"VLOOKUP(B2572,[1]export_1465921594229!$D2573:$G11833,4,FALSE)","v":"C5E-124583"},"C5E"]
[null,"Downie Paul",{"$f":"VLOOKUP(B2573,[1]export_1465921594229!$D2574:$G11834,4,FALSE)","v":"LN3-116880"},"LN3"]
[null,"Downing Richard",{"$f":"VLOOKUP(B2574,[1]export_1465921594229!$D2575:$G11835,4,FALSE)","v":"S21-119842"},"S21"]
[null,"Doyle Gilbert",{"$f":"VLOOKUP(B2575,[1]export_1465921594229!$D2576:$G11836,4,FALSE)","v":"B9K-123800"},"B9K"]
[null,"Doyle Robert",{"$f":"VLOOKUP(B2576,[1]export_1465921594229!$D2577:$G11837,4,FALSE)","v":"BUN-123450"},"BUN"]
[null,"Doyon Claude",{"$f":"VLOOKUP(B2577,[1]export_1465921594229!$D2578:$G11838,4,FALSE)","v":"215-122410"},"215"]
[null,"Doyon Claude",{"$f":"VLOOKUP(B2578,[1]export_1465921594229!$D2579:$G11839,4,FALSE)","v":"047-122544"},"047"]
[null,"Doyon Gerry",{"$f":"VLOOKUP(B2579,[1]export_1465921594229!$D2580:$G11840,4,FALSE)","v":"T83-550109"},"T83"]
[null,"Doyon Martin",{"$f":"VLOOKUP(B2580,[1]export_1465921594229!$D2581:$G11841,4,FALSE)","v":"D23-120141"},"D23"]
[null,"Doyon Raymond",{"$f":"VLOOKUP(B2581,[1]export_1465921594229!$D2582:$G11842,4,FALSE)","v":"BEX-123138"},"BEX"]
[null,"Doyon Rene",{"$f":"VLOOKUP(B2582,[1]export_1465921594229!$D2583:$G11843,4,FALSE)","v":"U46-120555"},"U46"]
[null,"Doyon Roger",{"$f":"VLOOKUP(B2583,[1]export_1465921594229!$D2584:$G11844,4,FALSE)","v":"JT2-660123"},"JT2"]
[null,"Dozois Danielle",{"$f":"VLOOKUP(B2584,[1]export_1465921594229!$D2585:$G11845,4,FALSE)","v":"HO0-119050"},"HO0"]
[null,"Dracup Mark",{"$f":"VLOOKUP(B2585,[1]export_1465921594229!$D2586:$G11846,4,FALSE)","v":"JK0-550616"},"JK0"]
[null,"Drainville Yves",{"$f":"VLOOKUP(B2586,[1]export_1465921594229!$D2587:$G11847,4,FALSE)","v":"V37-119960"},"V37"]
[null,"Drame Abdrahamane",{"$f":"VLOOKUP(B2587,[1]export_1465921594229!$D2588:$G11848,4,FALSE)","v":"T63-120108"},"T63"]
[null,"Drame Abdrahamane",{"$f":"VLOOKUP(B2588,[1]export_1465921594229!$D2589:$G11849,4,FALSE)","v":"F45-121400"},"F45"]
[null,"Drapeau Jean-Francois",{"$f":"VLOOKUP(B2589,[1]export_1465921594229!$D2590:$G11850,4,FALSE)","v":"KH2-116696"},"KH2"]
[null,"Drapeau Michel",{"$f":"VLOOKUP(B2590,[1]export_1465921594229!$D2591:$G11851,4,FALSE)","v":"J09-116448"},"J09"]
[null,"Drapeau Michel",{"$f":"VLOOKUP(B2591,[1]export_1465921594229!$D2592:$G11852,4,FALSE)","v":"O67-119548"},"O67"]
[null,"Drapeau Rejean",{"$f":"VLOOKUP(B2592,[1]export_1465921594229!$D2593:$G11853,4,FALSE)","v":"S86-119867"},"S86"]
[null,"Drasse Gilles",{"$f":"VLOOKUP(B2593,[1]export_1465921594229!$D2594:$G11854,4,FALSE)","v":"C0Y-124479"},"C0Y"]
[null,"Drebert Robert",{"$f":"VLOOKUP(B2594,[1]export_1465921594229!$D2595:$G11855,4,FALSE)","v":"DFK-124841"},"DFK"]
[null,"Driz Fulmenia",{"$f":"VLOOKUP(B2595,[1]export_1465921594229!$D2596:$G11856,4,FALSE)","v":"HQ8-116245"},"HQ8"]
[null,"Drolet Charles",{"$f":"VLOOKUP(B2596,[1]export_1465921594229!$D2597:$G11857,4,FALSE)","v":"EG9-115952"},"EG9"]
[null,"Drolet David",{"$f":"VLOOKUP(B2597,[1]export_1465921594229!$D2598:$G11858,4,FALSE)","v":"DLV-125001"},"DLV"]
[null,"Drolet Louise",{"$f":"VLOOKUP(B2598,[1]export_1465921594229!$D2599:$G11859,4,FALSE)","v":"G46-118830"},"G46"]
[null,"Drolet Manon",{"$f":"VLOOKUP(B2599,[1]export_1465921594229!$D2600:$G11860,4,FALSE)","v":"330-122358"},"330"]
[null,"Drolet Mario",{"$f":"VLOOKUP(B2600,[1]export_1465921594229!$D2601:$G11861,4,FALSE)","v":"JR5-116564"},"JR5"]
[null,"Drolet Nelson",{"$f":"VLOOKUP(B2601,[1]export_1465921594229!$D2602:$G11862,4,FALSE)","v":"C58-121695"},"C58"]
[null,"Drolet Rene",{"$f":"VLOOKUP(B2602,[1]export_1465921594229!$D2603:$G11863,4,FALSE)","v":"461-120356"},"461"]
[null,"Drolet Samson Audrey",{"$f":"VLOOKUP(B2603,[1]export_1465921594229!$D2604:$G11864,4,FALSE)","v":"DZJ-125341"},"DZJ"]
[null,"Drouin Bernier",{"$f":"VLOOKUP(B2604,[1]export_1465921594229!$D2605:$G11865,4,FALSE)","v":"J99-121044"},"J99"]
[null,"Drouin Donald",{"$f":"VLOOKUP(B2605,[1]export_1465921594229!$D2606:$G11866,4,FALSE)","v":"F03-660482"},"F03"]
[null,"Drouin Elie",{"$f":"VLOOKUP(B2606,[1]export_1465921594229!$D2607:$G11867,4,FALSE)","v":"T93-660151"},"T93"]
[null,"Drouin Gaston",{"$f":"VLOOKUP(B2607,[1]export_1465921594229!$D2608:$G11868,4,FALSE)","v":"T86-119903"},"T86"]
[null,"Drouin Martin",{"$f":"VLOOKUP(B2608,[1]export_1465921594229!$D2609:$G11869,4,FALSE)","v":"K00-118072"},"K00"]
[null,"Drouin Patrick",{"$f":"VLOOKUP(B2609,[1]export_1465921594229!$D2610:$G11870,4,FALSE)","v":"JH8-116506"},"JH8"]
[null,"Drouin Rejean",{"$f":"VLOOKUP(B2610,[1]export_1465921594229!$D2611:$G11871,4,FALSE)","v":"574-122249"},"574"]
[null,"Drouin Robert B.",{"$f":"VLOOKUP(B2611,[1]export_1465921594229!$D2612:$G11872,4,FALSE)","v":"CR5-660186"},"CR5"]
[null,"Drouin Rock",{"$f":"VLOOKUP(B2612,[1]export_1465921594229!$D2613:$G11873,4,FALSE)","v":"W49-120115"},"W49"]
[null,"Drouin Sebastien",{"$f":"VLOOKUP(B2613,[1]export_1465921594229!$D2614:$G11874,4,FALSE)","v":"MF1-660327"},"MF1"]
[null,"Drove Jonathan",{"$f":"VLOOKUP(B2614,[1]export_1465921594229!$D2615:$G11875,4,FALSE)","v":"BX6-550354"},"BX6"]
[null,"DSouza Rosario",{"$f":"VLOOKUP(B2615,[1]export_1465921594229!$D2616:$G11876,4,FALSE)","v":"D5C-125486"},"D5C"]
[null,"D'Souza Donald",{"$f":"VLOOKUP(B2616,[1]export_1465921594229!$D2617:$G11877,4,FALSE)","v":"D5X-125506"},"D5X"]
[null,"D'Souza Everest",{"$f":"VLOOKUP(B2617,[1]export_1465921594229!$D2618:$G11878,4,FALSE)","v":"NZ0-117264"},"NZ0"]
[null,"D'Souza Mario",{"$f":"VLOOKUP(B2618,[1]export_1465921594229!$D2619:$G11879,4,FALSE)","v":"NR5-117240"},"NR5"]
[null,"D'Souza Peter",{"$f":"VLOOKUP(B2619,[1]export_1465921594229!$D2620:$G11880,4,FALSE)","v":"BB1-118191"},"BB1"]
[null,"D'Souza(Crossroads Finan) Ryan",{"$f":"VLOOKUP(B2620,[1]export_1465921594229!$D2621:$G11881,4,FALSE)","v":"NE9-117171"},"NE9"]
[null,"Dube Andre",{"$f":"VLOOKUP(B2621,[1]export_1465921594229!$D2622:$G11882,4,FALSE)","v":"D01-121555"},"D01"]
[null,"Dube Chantal",{"$f":"VLOOKUP(B2622,[1]export_1465921594229!$D2623:$G11883,4,FALSE)","v":"CI3-118307"},"CI3"]
[null,"Dube Claude",{"$f":"VLOOKUP(B2623,[1]export_1465921594229!$D2624:$G11884,4,FALSE)","v":"277-122320"},"277"]
[null,"Dube Cyr-Yvon",{"$f":"VLOOKUP(B2624,[1]export_1465921594229!$D2625:$G11885,4,FALSE)","v":"KT9-116762"},"KT9"]
[null,"Dube Danielle",{"$f":"VLOOKUP(B2625,[1]export_1465921594229!$D2626:$G11886,4,FALSE)","v":"BT6-118255"},"BT6"]
[null,"Dube Denis",{"$f":"VLOOKUP(B2626,[1]export_1465921594229!$D2627:$G11887,4,FALSE)","v":"360-122254"},{"$f":"LEFT(C2626,3)","v":"360"}]
[null,"Dube Gerard",{"$f":"VLOOKUP(B2627,[1]export_1465921594229!$D2628:$G11888,4,FALSE)","v":"PQ2-117588"},"PQ2"]
[null,"Dube Helene",{"$f":"VLOOKUP(B2628,[1]export_1465921594229!$D2629:$G11889,4,FALSE)","v":"D03-121556"},"D03"]
[null,"Dube Jean-Francois",{"$f":"VLOOKUP(B2629,[1]export_1465921594229!$D2630:$G11890,4,FALSE)","v":"FG4-116012"},"FG4"]
[null,"Dube Michel",{"$f":"VLOOKUP(B2630,[1]export_1465921594229!$D2631:$G11891,4,FALSE)","v":"EA4-115935"},"EA4"]
[null,"Dube Renee",{"$f":"VLOOKUP(B2631,[1]export_1465921594229!$D2632:$G11892,4,FALSE)","v":"194-122393"},"194"]
[null,"Dube Richard",{"$f":"VLOOKUP(B2632,[1]export_1465921594229!$D2633:$G11893,4,FALSE)","v":"H62-121170"},"H62"]
[null,"Dube Yves",{"$f":"VLOOKUP(B2633,[1]export_1465921594229!$D2634:$G11894,4,FALSE)","v":"EF5-115950"},"EF5"]
[null,"Dube Alain",{"$f":"VLOOKUP(B2634,[1]export_1465921594229!$D2635:$G11895,4,FALSE)","v":{"$error":"#N/A"}},{"$error":"#N/A"}]
[null,"Dubeau Laval",{"$f":"VLOOKUP(B2635,[1]export_1465921594229!$D2636:$G11896,4,FALSE)","v":"DLJ-124990"},"DLJ"]
[null,"Dubois Andreanne",{"$f":"VLOOKUP(B2636,[1]export_1465921594229!$D2637:$G11897,4,FALSE)","v":"JZ2-121069"},"JZ2"]
[null,"Dubois Catherine",{"$f":"VLOOKUP(B2637,[1]export_1465921594229!$D2638:$G11898,4,FALSE)","v":"S47-120622"},"S47"]
[null,"Dubois Catherine",{"$f":"VLOOKUP(B2638,[1]export_1465921594229!$D2639:$G11899,4,FALSE)","v":"T71-550110"},"T71"]
[null,"Dubois Celine",{"$f":"VLOOKUP(B2639,[1]export_1465921594229!$D2640:$G11900,4,FALSE)","v":"JC7-116476"},"JC7"]
[null,"Dubois Daniel P.",{"$f":"VLOOKUP(B2640,[1]export_1465921594229!$D2641:$G11901,4,FALSE)","v":"CTD-124286"},"CTD"]
[null,"Dubois Helene",{"$f":"VLOOKUP(B2641,[1]export_1465921594229!$D2642:$G11902,4,FALSE)","v":"F64-118668"},"F64"]
[null,"Dubois Louis",{"$f":"VLOOKUP(B2642,[1]export_1465921594229!$D2643:$G11903,4,FALSE)","v":"126-120401"},"126"]
[null,"Dubois Louis",{"$f":"VLOOKUP(B2643,[1]export_1465921594229!$D2644:$G11904,4,FALSE)","v":"382-122269"},"382"]
[null,"Dubois Louis",{"$f":"VLOOKUP(B2644,[1]export_1465921594229!$D2645:$G11905,4,FALSE)","v":"718-122088"},"718"]
[null,"Dubois Luc",{"$f":"VLOOKUP(B2645,[1]export_1465921594229!$D2646:$G11906,4,FALSE)","v":"501-120251"},"501"]
[null,"Dubois Patrick",{"$f":"VLOOKUP(B2646,[1]export_1465921594229!$D2647:$G11907,4,FALSE)","v":"J92-660209"},"J92"]
[null,"Dubois Vicky",{"$f":"VLOOKUP(B2647,[1]export_1465921594229!$D2648:$G11908,4,FALSE)","v":"C13-121790"},"C13"]
[null,"Dubois Senc Les Assurences",{"$f":"VLOOKUP(B2648,[1]export_1465921594229!$D2649:$G11909,4,FALSE)","v":"AS9-118167"},"AS9"]
[null,"Dubord Jean-Michel",{"$f":"VLOOKUP(B2649,[1]export_1465921594229!$D2650:$G11910,4,FALSE)","v":"G04-118812"},"G04"]
[null,"Dubord Yves",{"$f":"VLOOKUP(B2650,[1]export_1465921594229!$D2651:$G11911,4,FALSE)","v":"G48-121344"},"G48"]
[null,"dubreuil cindy",{"$f":"VLOOKUP(B2651,[1]export_1465921594229!$D2652:$G11912,4,FALSE)","v":"DND-125033"},"DND"]
[null,"Dubreuil Claudia",{"$f":"VLOOKUP(B2652,[1]export_1465921594229!$D2653:$G11913,4,FALSE)","v":"V96-119979"},"V96"]
[null,"Dubuc Francis",{"$f":"VLOOKUP(B2653,[1]export_1465921594229!$D2654:$G11914,4,FALSE)","v":"X33-120513"},"X33"]
[null,"Dubuc Jean-Francois",{"$f":"VLOOKUP(B2654,[1]export_1465921594229!$D2655:$G11915,4,FALSE)","v":"BI3-115780"},"BI3"]
[null,"Dubuc Philippe",{"$f":"VLOOKUP(B2655,[1]export_1465921594229!$D2656:$G11916,4,FALSE)","v":"DL7-121530"},"DL7"]
[null,"Dubuc Stephane",{"$f":"VLOOKUP(B2656,[1]export_1465921594229!$D2657:$G11917,4,FALSE)","v":"P35-117446"},"P35"]
[null,"Duceppe Francois",{"$f":"VLOOKUP(B2657,[1]export_1465921594229!$D2658:$G11918,4,FALSE)","v":"H80-660569"},"H80"]
[null,"Duchaine Steve",{"$f":"VLOOKUP(B2658,[1]export_1465921594229!$D2659:$G11919,4,FALSE)","v":"D54-121592"},"D54"]
[null,"Duchaine Steve",{"$f":"VLOOKUP(B2659,[1]export_1465921594229!$D2660:$G11920,4,FALSE)","v":"LO1-116883"},"LO1"]
[null,"Ducharme Bernard",{"$f":"VLOOKUP(B2660,[1]export_1465921594229!$D2661:$G11921,4,FALSE)","v":"R48-660210"},"R48"]
[null,"Ducharme Daniel",{"$f":"VLOOKUP(B2661,[1]export_1465921594229!$D2662:$G11922,4,FALSE)","v":"LA1-660128"},"LA1"]
[null,"Ducharme Jean-Sebastien",{"$f":"VLOOKUP(B2662,[1]export_1465921594229!$D2663:$G11923,4,FALSE)","v":{"$error":"#N/A"}},{"$error":"#N/A"}]
[null,"Ducharme Jean-Sebastien",{"$f":"VLOOKUP(B2663,[1]export_1465921594229!$D2664:$G11924,4,FALSE)","v":{"$error":"#N/A"}},{"$error":"#N/A"}]
[null,"Duchesne Annie",{"$f":"VLOOKUP(B2664,[1]export_1465921594229!$D2665:$G11925,4,FALSE)","v":"D2E-125413"},"D2E"]
[null,"Duchesne Charles",{"$f":"VLOOKUP(B2665,[1]export_1465921594229!$D2666:$G11926,4,FALSE)","v":"H14-660249"},"H14"]
[null,"Duchesne Fabien",{"$f":"VLOOKUP(B2666,[1]export_1465921594229!$D2667:$G11927,4,FALSE)","v":"EH2-121467"},"EH2"]
[null,"Duchesne Isabelle",{"$f":"VLOOKUP(B2667,[1]export_1465921594229!$D2668:$G11928,4,FALSE)","v":"DLA-124981"},"DLA"]
[null,"Duchesne Jean-Eudes",{"$f":"VLOOKUP(B2668,[1]export_1465921594229!$D2669:$G11929,4,FALSE)","v":"440-120344"},"440"]
[null,"Duchesne Jean-Guy",{"$f":"VLOOKUP(B2669,[1]export_1465921594229!$D2670:$G11930,4,FALSE)","v":"HM0-660179"},"HM0"]
[null,"Duchesne Jean-Rock",{"$f":"VLOOKUP(B2670,[1]export_1465921594229!$D2671:$G11931,4,FALSE)","v":"J77-121037"},"J77"]
[null,"Duchesneau Denis",{"$f":"VLOOKUP(B2671,[1]export_1465921594229!$D2672:$G11932,4,FALSE)","v":"DJ4-115892"},"DJ4"]
[null,"Duchesneau Richard",{"$f":"VLOOKUP(B2672,[1]export_1465921594229!$D2673:$G11933,4,FALSE)","v":"K38-121088"},"K38"]
[null,"Duciaume Michel",{"$f":"VLOOKUP(B2673,[1]export_1465921594229!$D2674:$G11934,4,FALSE)","v":"DPL-125093"},"DPL"]
[null,"Dudek David",{"$f":"VLOOKUP(B2674,[1]export_1465921594229!$D2675:$G11935,4,FALSE)","v":"JT9-116580"},"JT9"]
[null,"Dufault Robert",{"$f":"VLOOKUP(B2675,[1]export_1465921594229!$D2676:$G11936,4,FALSE)","v":"CYW-600102"},"CYW"]
[null,"Dufault Suzanne",{"$f":"VLOOKUP(B2676,[1]export_1465921594229!$D2677:$G11937,4,FALSE)","v":"336-122364"},"336"]
[null,"Dufort Annie",{"$f":"VLOOKUP(B2677,[1]export_1465921594229!$D2678:$G11938,4,FALSE)","v":"QU5-117792"},"QU5"]
[null,"Dufort Marcel",{"$f":"VLOOKUP(B2678,[1]export_1465921594229!$D2679:$G11939,4,FALSE)","v":"F14-115984"},"F14"]
[null,"Dufour Annette",{"$f":"VLOOKUP(B2679,[1]export_1465921594229!$D2680:$G11940,4,FALSE)","v":"O15-120731"},"O15"]
[null,"Dufour Claude",{"$f":"VLOOKUP(B2680,[1]export_1465921594229!$D2681:$G11941,4,FALSE)","v":"LD3-660543"},"LD3"]
[null,"Dufour Jeremie",{"$f":"VLOOKUP(B2681,[1]export_1465921594229!$D2682:$G11942,4,FALSE)","v":"K53-116635"},"K53"]
[null,"Dufour Marc",{"$f":"VLOOKUP(B2682,[1]export_1465921594229!$D2683:$G11943,4,FALSE)","v":"AK3-118129"},"AK3"]
[null,"Dufour Michel",{"$f":"VLOOKUP(B2683,[1]export_1465921594229!$D2684:$G11944,4,FALSE)","v":"B5U-123711"},"B5U"]
[null,"Dufour Normand",{"$f":"VLOOKUP(B2684,[1]export_1465921594229!$D2685:$G11945,4,FALSE)","v":"I85-121112"},"I85"]
[null,"Dufour Pierre-Luc",{"$f":"VLOOKUP(B2685,[1]export_1465921594229!$D2686:$G11946,4,FALSE)","v":"DTM-125192"},"DTM"]
[null,"Dufour Stephane",{"$f":"VLOOKUP(B2686,[1]export_1465921594229!$D2687:$G11947,4,FALSE)","v":{"$error":"#N/A"}},{"$error":"#N/A"}]
[null,"Dufour-Tremblay Diane",{"$f":"VLOOKUP(B2687,[1]export_1465921594229!$D2688:$G11948,4,FALSE)","v":"IQ0-121142"},"IQ0"]
[null,"Dufresne Jean",{"$f":"VLOOKUP(B2688,[1]export_1465921594229!$D2689:$G11949,4,FALSE)","v":"BL0-118220"},"BL0"]
[null,"Dufresne Serge",{"$f":"VLOOKUP(B2689,[1]export_1465921594229!$D2690:$G11950,4,FALSE)","v":"Z62-118028"},"Z62"]
[null,"Dufresne Suzanne",{"$f":"VLOOKUP(B2690,[1]export_1465921594229!$D2691:$G11951,4,FALSE)","v":"F11-118645"},{"$f":"LEFT(C2690,3)","v":"F11"}]
[null,"Dufresne Suzanne",{"$f":"VLOOKUP(B2691,[1]export_1465921594229!$D2692:$G11952,4,FALSE)","v":"H90-121178"},"H90"]
[null,"Dugal Richard Justin",{"$f":"VLOOKUP(B2692,[1]export_1465921594229!$D2693:$G11953,4,FALSE)","v":"KQ8-121017"},"KQ8"]
[null,"Dugal Richard Justin",{"$f":"VLOOKUP(B2693,[1]export_1465921594229!$D2694:$G11954,4,FALSE)","v":"KB8-550717"},"KB8"]
[null,"Dugas Bernard",{"$f":"VLOOKUP(B2694,[1]export_1465921594229!$D2695:$G11955,4,FALSE)","v":"J83-121038"},"J83"]
[null,"Dugas Lucie",{"$f":"VLOOKUP(B2695,[1]export_1465921594229!$D2696:$G11956,4,FALSE)","v":"224-120420"},"224"]
[null,"Duggan Edward",{"$f":"VLOOKUP(B2696,[1]export_1465921594229!$D2697:$G11957,4,FALSE)","v":"QD2-119742"},"QD2"]
[null,"Duggan Edward",{"$f":"VLOOKUP(B2697,[1]export_1465921594229!$D2698:$G11958,4,FALSE)","v":"OM8-119580"},"OM8"]
[null,"Duggan Edward",{"$f":"VLOOKUP(B2698,[1]export_1465921594229!$D2699:$G11959,4,FALSE)","v":"OM7-119579"},"OM7"]
[null,"Duguay Audrey",{"$f":"VLOOKUP(B2699,[1]export_1465921594229!$D2700:$G11960,4,FALSE)","v":"LX9-660161"},"LX9"]
[null,"Duguay Dario",{"$f":"VLOOKUP(B2700,[1]export_1465921594229!$D2701:$G11961,4,FALSE)","v":"677-122063"},"677"]
[null,"Duguay Marie-Claude",{"$f":"VLOOKUP(B2701,[1]export_1465921594229!$D2702:$G11962,4,FALSE)","v":"CV0-121666"},"CV0"]
[null,"Duguay Renaud",{"$f":"VLOOKUP(B2702,[1]export_1465921594229!$D2703:$G11963,4,FALSE)","v":"T56-660096"},"T56"]
[null,"Duguay-Blais Marc-Andre",{"$f":"VLOOKUP(B2703,[1]export_1465921594229!$D2704:$G11964,4,FALSE)","v":{"$error":"#N/A"}},{"$error":"#N/A"}]
[null,"Duhaime Guy",{"$f":"VLOOKUP(B2704,[1]export_1465921594229!$D2705:$G11965,4,FALSE)","v":"E92-118529"},"E92"]
[null,"Duhaime Guy",{"$f":"VLOOKUP(B2705,[1]export_1465921594229!$D2706:$G11966,4,FALSE)","v":"JO8-119216"},"JO8"]
[null,"Duhot David",{"$f":"VLOOKUP(B2706,[1]export_1465921594229!$D2707:$G11967,4,FALSE)","v":"B04-120214"},"B04"]
[null,"Dulay Davinder",{"$f":"VLOOKUP(B2707,[1]export_1465921594229!$D2708:$G11968,4,FALSE)","v":"JD8-119189"},"JD8"]
[null,"Dulkoan Daljinder",{"$f":"VLOOKUP(B2708,[1]export_1465921594229!$D2709:$G11969,4,FALSE)","v":"NG4-117180"},"NG4"]
[null,"Dulong Remi",{"$f":"VLOOKUP(B2709,[1]export_1465921594229!$D2710:$G11970,4,FALSE)","v":"B02-121874"},"B02"]
[null,"Dulong Remi",{"$f":"VLOOKUP(B2710,[1]export_1465921594229!$D2711:$G11971,4,FALSE)","v":"PH6-117517"},"PH6"]
[null,"Dulude Angele",{"$f":"VLOOKUP(B2711,[1]export_1465921594229!$D2712:$G11972,4,FALSE)","v":"I57-119105"},"I57"]
[null,"Dulude Benoit",{"$f":"VLOOKUP(B2712,[1]export_1465921594229!$D2713:$G11973,4,FALSE)","v":"F59-660685"},"F59"]
[null,"Dulude Pierre",{"$f":"VLOOKUP(B2713,[1]export_1465921594229!$D2714:$G11974,4,FALSE)","v":"R30-119795"},"R30"]
[null,"Dulude Robert",{"$f":"VLOOKUP(B2714,[1]export_1465921594229!$D2715:$G11975,4,FALSE)","v":"I95-116314"},"I95"]
[null,"Dumaine Pierre",{"$f":"VLOOKUP(B2715,[1]export_1465921594229!$D2716:$G11976,4,FALSE)","v":"CP2-115846"},"CP2"]
[null,"Dumais Eric",{"$f":"VLOOKUP(B2716,[1]export_1465921594229!$D2717:$G11977,4,FALSE)","v":"U77-120566"},"U77"]
[null,"Dumais Guillaume",{"$f":"VLOOKUP(B2717,[1]export_1465921594229!$D2718:$G11978,4,FALSE)","v":"L74-120935"},"L74"]
[null,"Dumas Chantal",{"$f":"VLOOKUP(B2718,[1]export_1465921594229!$D2719:$G11979,4,FALSE)","v":"JG1-116495"},"JG1"]
[null,"Dumas Christine",{"$f":"VLOOKUP(B2719,[1]export_1465921594229!$D2720:$G11980,4,FALSE)","v":"P11-119611"},"P11"]
[null,"Dumas clement",{"$f":"VLOOKUP(B2720,[1]export_1465921594229!$D2721:$G11981,4,FALSE)","v":{"$error":"#N/A"}},{"$error":"#N/A"}]
[null,"Dumas Francois",{"$f":"VLOOKUP(B2721,[1]export_1465921594229!$D2722:$G11982,4,FALSE)","v":"I16-660014"},"I16"]
[null,"Dumas Germain",{"$f":"VLOOKUP(B2722,[1]export_1465921594229!$D2723:$G11983,4,FALSE)","v":"X83-118008"},"X83"]
[null,"Dumas Louis-Gilles",{"$f":"VLOOKUP(B2723,[1]export_1465921594229!$D2724:$G11984,4,FALSE)","v":"Z47-120454"},"Z47"]
[null,"Dumas Louis-Gilles",{"$f":"VLOOKUP(B2724,[1]export_1465921594229!$D2725:$G11985,4,FALSE)","v":"HH6-121190"},"HH6"]
[null,"Dumas Lucie",{"$f":"VLOOKUP(B2725,[1]export_1465921594229!$D2726:$G11986,4,FALSE)","v":"CAL-123827"},"CAL"]
[null,"Dumas Dore Andreanne",{"$f":"VLOOKUP(B2726,[1]export_1465921594229!$D2727:$G11987,4,FALSE)","v":{"$error":"#N/A"}},{"$error":"#N/A"}]
[null,"Dumay Jocelyn",{"$f":"VLOOKUP(B2727,[1]export_1465921594229!$D2728:$G11988,4,FALSE)","v":"B5W-123713"},"B5W"]
[null,"Dumay Jocelyn",{"$f":"VLOOKUP(B2728,[1]export_1465921594229!$D2729:$G11989,4,FALSE)","v":"BN9-121867"},"BN9"]
[null,"Dumesnil Anne-Marie",{"$f":"VLOOKUP(B2729,[1]export_1465921594229!$D2730:$G11990,4,FALSE)","v":"A91-120207"},"A91"]
[null,"Dumont Alain",{"$f":"VLOOKUP(B2730,[1]export_1465921594229!$D2731:$G11991,4,FALSE)","v":"254-122435"},"254"]
[null,"Dumont Alain",{"$f":"VLOOKUP(B2731,[1]export_1465921594229!$D2732:$G11992,4,FALSE)","v":"B6A-123717"},"B6A"]
[null,"Dumont Clement",{"$f":"VLOOKUP(B2732,[1]export_1465921594229!$D2733:$G11993,4,FALSE)","v":"R58-119806"},"R58"]
[null,"Dumont David",{"$f":"VLOOKUP(B2733,[1]export_1465921594229!$D2734:$G11994,4,FALSE)","v":"O07-119527"},"O07"]
[null,"Dumont Desneige",{"$f":"VLOOKUP(B2734,[1]export_1465921594229!$D2735:$G11995,4,FALSE)","v":"193-120416"},"193"]
[null,"Dumont Frederic",{"$f":"VLOOKUP(B2735,[1]export_1465921594229!$D2736:$G11996,4,FALSE)","v":"D4W-125480"},"D4W"]
[null,"Dumont Guy",{"$f":"VLOOKUP(B2736,[1]export_1465921594229!$D2737:$G11997,4,FALSE)","v":"AM0-118139"},"AM0"]
[null,"Dumont Jean",{"$f":"VLOOKUP(B2737,[1]export_1465921594229!$D2738:$G11998,4,FALSE)","v":"BW4-118263"},"BW4"]
[null,"Dumont Jean-Marcel",{"$f":"VLOOKUP(B2738,[1]export_1465921594229!$D2739:$G11999,4,FALSE)","v":"DC1-118380"},"DC1"]
[null,"Dumont Mario",{"$f":"VLOOKUP(B2739,[1]export_1465921594229!$D2740:$G12000,4,FALSE)","v":"E22-118480"},"E22"]
[null,"Dumont Yannick",{"$f":"VLOOKUP(B2740,[1]export_1465921594229!$D2741:$G12001,4,FALSE)","v":"RF9-119830"},"RF9"]
[null,"Dumouchel Melissa",{"$f":"VLOOKUP(B2741,[1]export_1465921594229!$D2742:$G12002,4,FALSE)","v":"PE2-660268"},"PE2"]
[null,"Dumoulin Lucie",{"$f":"VLOOKUP(B2742,[1]export_1465921594229!$D2743:$G12003,4,FALSE)","v":"518-120256"},"518"]
[null,"Dunbar Cameron",{"$f":"VLOOKUP(B2743,[1]export_1465921594229!$D2744:$G12004,4,FALSE)","v":"MA6-116972"},"MA6"]
[null,"Dunbar Keith",{"$f":"VLOOKUP(B2744,[1]export_1465921594229!$D2745:$G12005,4,FALSE)","v":"RD0-117876"},"RD0"]
[null,"Duncan Adam",{"$f":"VLOOKUP(B2745,[1]export_1465921594229!$D2746:$G12006,4,FALSE)","v":"CT3-121660"},"CT3"]
[null,"Duncan Gregory",{"$f":"VLOOKUP(B2746,[1]export_1465921594229!$D2747:$G12007,4,FALSE)","v":"PE5-117489"},"PE5"]
[null,"Dundas Martin",{"$f":"VLOOKUP(B2747,[1]export_1465921594229!$D2748:$G12008,4,FALSE)","v":"X37-120515"},"X37"]
[null,"Dundas Timothy",{"$f":"VLOOKUP(B2748,[1]export_1465921594229!$D2749:$G12009,4,FALSE)","v":"CSD-124260"},"CSD"]
[null,"Dune-Yee Fanny Luk",{"$f":"VLOOKUP(B2749,[1]export_1465921594229!$D2750:$G12010,4,FALSE)","v":"AC9-115730"},"AC9"]
[null,"Dunn Leo",{"$f":"VLOOKUP(B2750,[1]export_1465921594229!$D2751:$G12011,4,FALSE)","v":"BCO-550475"},"BCO"]
[null,"Dupere Daniel",{"$f":"VLOOKUP(B2751,[1]export_1465921594229!$D2752:$G12012,4,FALSE)","v":"DXY-125308"},"DXY"]
[null,"Dupere Daniel",{"$f":"VLOOKUP(B2752,[1]export_1465921594229!$D2753:$G12013,4,FALSE)","v":"K43-660124"},"K43"]
[null,"Duperreault Kristopher",{"$f":"VLOOKUP(B2753,[1]export_1465921594229!$D2754:$G12014,4,FALSE)","v":"CTN-124295"},"CTN"]
[null,"Dupont Gilles",{"$f":"VLOOKUP(B2754,[1]export_1465921594229!$D2755:$G12015,4,FALSE)","v":"197-120417"},{"$f":"LEFT(C2754,3)","v":"197"}]
[null,"Dupont Gilles",{"$f":"VLOOKUP(B2755,[1]export_1465921594229!$D2756:$G12016,4,FALSE)","v":"R72-119809"},"R72"]
[null,"Dupras Guy",{"$f":"VLOOKUP(B2756,[1]export_1465921594229!$D2757:$G12017,4,FALSE)","v":"NZ7-117271"},"NZ7"]
[null,"Dupras Robert",{"$f":"VLOOKUP(B2757,[1]export_1465921594229!$D2758:$G12018,4,FALSE)","v":"H08-116144"},"H08"]
[null,"Dupuis Chantal",{"$f":"VLOOKUP(B2758,[1]export_1465921594229!$D2759:$G12019,4,FALSE)","v":"231-122418"},"231"]
[null,"Dupuis Dominic",{"$f":"VLOOKUP(B2759,[1]export_1465921594229!$D2760:$G12020,4,FALSE)","v":"R92-117853"},"R92"]
[null,"Dupuis Francois",{"$f":"VLOOKUP(B2760,[1]export_1465921594229!$D2761:$G12021,4,FALSE)","v":"S69-550083"},"S69"]
[null,"Dupuis Gaston",{"$f":"VLOOKUP(B2761,[1]export_1465921594229!$D2762:$G12022,4,FALSE)","v":"S70-550084"},"S70"]
[null,"Dupuis Joel",{"$f":"VLOOKUP(B2762,[1]export_1465921594229!$D2763:$G12023,4,FALSE)","v":"OU0-117404"},"OU0"]
[null,"Dupuis Marc",{"$f":"VLOOKUP(B2763,[1]export_1465921594229!$D2764:$G12024,4,FALSE)","v":"DK0-121520"},"DK0"]
[null,"Dupuis Paul",{"$f":"VLOOKUP(B2764,[1]export_1465921594229!$D2765:$G12025,4,FALSE)","v":"L75-660635"},"L75"]
[null,"Dupuis Yanik",{"$f":"VLOOKUP(B2765,[1]export_1465921594229!$D2766:$G12026,4,FALSE)","v":"185-120415"},"185"]
[null,"Duque Lorenz",{"$f":"VLOOKUP(B2766,[1]export_1465921594229!$D2767:$G12027,4,FALSE)","v":"HL0-116217"},"HL0"]
[null,"Durand Jean-Pierre",{"$f":"VLOOKUP(B2767,[1]export_1465921594229!$D2768:$G12028,4,FALSE)","v":"710-122084"},"710"]
[null,"Durand Jean-Pierre",{"$f":"VLOOKUP(B2768,[1]export_1465921594229!$D2769:$G12029,4,FALSE)","v":"195-122394"},"195"]
[null,"Durand Jean-Pierre",{"$f":"VLOOKUP(B2769,[1]export_1465921594229!$D2770:$G12030,4,FALSE)","v":"534-122224"},"534"]
[null,"Durant Nikki",{"$f":"VLOOKUP(B2770,[1]export_1465921594229!$D2771:$G12031,4,FALSE)","v":"FM0-118747"},"FM0"]
[null,"Durivage Pierre",{"$f":"VLOOKUP(B2771,[1]export_1465921594229!$D2772:$G12032,4,FALSE)","v":"DKO-124969"},"DKO"]
[null,"Durocher Gaetan",{"$f":"VLOOKUP(B2772,[1]export_1465921594229!$D2773:$G12033,4,FALSE)","v":"E73-121446"},"E73"]
[null,"Durotoye Adeolu",{"$f":"VLOOKUP(B2773,[1]export_1465921594229!$D2774:$G12034,4,FALSE)","v":"EK8-115960"},"EK8"]
[null,"Dusablon Mathieu",{"$f":"VLOOKUP(B2774,[1]export_1465921594229!$D2775:$G12035,4,FALSE)","v":"DL8-115895"},"DL8"]
[null,"Dusablon Maud",{"$f":"VLOOKUP(B2775,[1]export_1465921594229!$D2776:$G12036,4,FALSE)","v":"BMI-660342"},"BMI"]
[null,"Dusablon Yvon",{"$f":"VLOOKUP(B2776,[1]export_1465921594229!$D2777:$G12037,4,FALSE)","v":"BJV-660323"},"BJV"]
[null,"Dussault Georges",{"$f":"VLOOKUP(B2777,[1]export_1465921594229!$D2778:$G12038,4,FALSE)","v":"H95-118997"},"H95"]
[null,"Dussault Guy",{"$f":"VLOOKUP(B2778,[1]export_1465921594229!$D2779:$G12039,4,FALSE)","v":"R27-118092"},"R27"]
[null,"Dussault Sylvain",{"$f":"VLOOKUP(B2779,[1]export_1465921594229!$D2780:$G12040,4,FALSE)","v":"V65-660317"},"V65"]
[null,"Dutchak Ron",{"$f":"VLOOKUP(B2780,[1]export_1465921594229!$D2781:$G12041,4,FALSE)","v":"CV3-121669"},"CV3"]
[null,"Duval Francine",{"$f":"VLOOKUP(B2781,[1]export_1465921594229!$D2782:$G12042,4,FALSE)","v":"462-115705"},"462"]
[null,"Duval Jean-Marc",{"$f":"VLOOKUP(B2782,[1]export_1465921594229!$D2783:$G12043,4,FALSE)","v":"CNK-124144"},"CNK"]
[null,"Duval Patrick",{"$f":"VLOOKUP(B2783,[1]export_1465921594229!$D2784:$G12044,4,FALSE)","v":"KP1-116742"},"KP1"]
[null,"Duvivier Jacques",{"$f":"VLOOKUP(B2784,[1]export_1465921594229!$D2785:$G12045,4,FALSE)","v":"L28-121034"},"L28"]
[null,"Duxbury John",{"$f":"VLOOKUP(B2785,[1]export_1465921594229!$D2786:$G12046,4,FALSE)","v":"EK2-118574"},"EK2"]
[null,"Dwyer Fiona",{"$f":"VLOOKUP(B2786,[1]export_1465921594229!$D2787:$G12047,4,FALSE)","v":"CPF-124189"},"CPF"]
[null,"Dwyer Steve",{"$f":"VLOOKUP(B2787,[1]export_1465921594229!$D2788:$G12048,4,FALSE)","v":"BDS-123125"},"BDS"]
[null,"Dyck Henry",{"$f":"VLOOKUP(B2788,[1]export_1465921594229!$D2789:$G12049,4,FALSE)","v":"CCG-123873"},"CCG"]
[null,"Dyer Diana",{"$f":"VLOOKUP(B2789,[1]export_1465921594229!$D2790:$G12050,4,FALSE)","v":"CKD-124068"},"CKD"]
[null,"Dyer Kevin",{"$f":"VLOOKUP(B2790,[1]export_1465921594229!$D2791:$G12051,4,FALSE)","v":"BB0-121821"},"BB0"]
[null,"Dymkowski Jessica",{"$f":"VLOOKUP(B2791,[1]export_1465921594229!$D2792:$G12052,4,FALSE)","v":"CJ8-550293"},"CJ8"]
[null,"Dzepina Tania",{"$f":"VLOOKUP(B2792,[1]export_1465921594229!$D2793:$G12053,4,FALSE)","v":"AR1-121963"},"AR1"]
[null,"Eastwood Robert",{"$f":"VLOOKUP(B2793,[1]export_1465921594229!$D2794:$G12054,4,FALSE)","v":"V52-120586"},"V52"]
[null,"Ebrahim Mohamed",{"$f":"VLOOKUP(B2794,[1]export_1465921594229!$D2795:$G12055,4,FALSE)","v":"FL9-118746"},"FL9"]
[null,"Ecarnot Adam",{"$f":"VLOOKUP(B2795,[1]export_1465921594229!$D2796:$G12056,4,FALSE)","v":"FA3-118683"},"FA3"]
[null,"Edge Jessica",{"$f":"VLOOKUP(B2796,[1]export_1465921594229!$D2797:$G12057,4,FALSE)","v":"CKP-124080"},"CKP"]
[null,"Edison Jerome",{"$f":"VLOOKUP(B2797,[1]export_1465921594229!$D2798:$G12058,4,FALSE)","v":"O82-120754"},"O82"]
[null,"Edmondson Carl",{"$f":"VLOOKUP(B2798,[1]export_1465921594229!$D2799:$G12059,4,FALSE)","v":"IK3-119136"},"IK3"]
[null,"Edmondson Jennine",{"$f":"VLOOKUP(B2799,[1]export_1465921594229!$D2800:$G12060,4,FALSE)","v":"JB8-116473"},"JB8"]
[null,"Edwards Todd",{"$f":"VLOOKUP(B2800,[1]export_1465921594229!$D2801:$G12061,4,FALSE)","v":"BQ2-118239"},"BQ2"]
[null,"Edwin Navarro",{"$f":"VLOOKUP(B2801,[1]export_1465921594229!$D2802:$G12062,4,FALSE)","v":"RE1-117885"},"RE1"]
[null,"Eggert Rudi",{"$f":"VLOOKUP(B2802,[1]export_1465921594229!$D2803:$G12063,4,FALSE)","v":"IA9-121122"},"IA9"]
[null,"Ehamparam Vijeyaluxmy",{"$f":"VLOOKUP(B2803,[1]export_1465921594229!$D2804:$G12064,4,FALSE)","v":"OQ8-117385"},"OQ8"]
[null,"Eid Julio",{"$f":"VLOOKUP(B2804,[1]export_1465921594229!$D2805:$G12065,4,FALSE)","v":"CCJ-123876"},"CCJ"]
[null,"Eid Julio",{"$f":"VLOOKUP(B2805,[1]export_1465921594229!$D2806:$G12066,4,FALSE)","v":"CCL-123878"},"CCL"]
[null,"Eid Julio",{"$f":"VLOOKUP(B2806,[1]export_1465921594229!$D2807:$G12067,4,FALSE)","v":"DG8-115887"},"DG8"]
[null,"Eid Paul",{"$f":"VLOOKUP(B2807,[1]export_1465921594229!$D2808:$G12068,4,FALSE)","v":"JF8-116492"},"JF8"]
[null,"Einoff Michael",{"$f":"VLOOKUP(B2808,[1]export_1465921594229!$D2809:$G12069,4,FALSE)","v":"PF6-117498"},"PF6"]
[null,"Eisan Paul",{"$f":"VLOOKUP(B2809,[1]export_1465921594229!$D2810:$G12070,4,FALSE)","v":"AX7-121996"},"AX7"]
[null,"Eisan Paul",{"$f":"VLOOKUP(B2810,[1]export_1465921594229!$D2811:$G12071,4,FALSE)","v":"AX8-118181"},"AX8"]
[null,"El Adlani Khalid",{"$f":"VLOOKUP(B2811,[1]export_1465921594229!$D2812:$G12072,4,FALSE)","v":"Z10-120117"},"Z10"]
[null,"El Haibi Mahboub",{"$f":"VLOOKUP(B2812,[1]export_1465921594229!$D2813:$G12073,4,FALSE)","v":"AX1-118179"},"AX1"]
[null,"El Haiby Leyla",{"$f":"VLOOKUP(B2813,[1]export_1465921594229!$D2814:$G12074,4,FALSE)","v":"V35-119959"},"V35"]
[null,"El Jibari Outman",{"$f":"VLOOKUP(B2814,[1]export_1465921594229!$D2815:$G12075,4,FALSE)","v":"CXF-124386"},"CXF"]
[null,"El Kady Sarah Monalisa",{"$f":"VLOOKUP(B2815,[1]export_1465921594229!$D2816:$G12076,4,FALSE)","v":"F12-120160"},"F12"]
[null,"El Moutaouakil Abdelkebir",{"$f":"VLOOKUP(B2816,[1]export_1465921594229!$D2817:$G12077,4,FALSE)","v":"D1L-125394"},"D1L"]
[null,"El Rhaib Driss",{"$f":"VLOOKUP(B2817,[1]export_1465921594229!$D2818:$G12078,4,FALSE)","v":"DPN-125095"},"DPN"]
[null,"El-Chami Hassan",{"$f":"VLOOKUP(B2818,[1]export_1465921594229!$D2819:$G12079,4,FALSE)","v":"HV4-660633"},{"$f":"LEFT(C2818,3)","v":"HV4"}]
[null,"Elegado Julio A",{"$f":"VLOOKUP(B2819,[1]export_1465921594229!$D2820:$G12080,4,FALSE)","v":"KC8-116659"},"KC8"]
[null,"Elgersma Maurice",{"$f":"VLOOKUP(B2820,[1]export_1465921594229!$D2821:$G12081,4,FALSE)","v":"QQ1-550838"},"QQ1"]
[null,"Elias Rodi",{"$f":"VLOOKUP(B2821,[1]export_1465921594229!$D2822:$G12082,4,FALSE)","v":"A5F-570200"},"A5F"]
[null,"Elie Junior",{"$f":"VLOOKUP(B2822,[1]export_1465921594229!$D2823:$G12083,4,FALSE)","v":"D6C-125510"},"D6C"]
[null,"Elien Myrtho",{"$f":"VLOOKUP(B2823,[1]export_1465921594229!$D2824:$G12084,4,FALSE)","v":"FR5-120166"},"FR5"]
[null,"Ellefsen Cedric",{"$f":"VLOOKUP(B2824,[1]export_1465921594229!$D2825:$G12085,4,FALSE)","v":"H63-660072"},"H63"]
[null,"Elliott Brian",{"$f":"VLOOKUP(B2825,[1]export_1465921594229!$D2826:$G12086,4,FALSE)","v":"V22-120578"},"V22"]
[null,"Ellis Douglas",{"$f":"VLOOKUP(B2826,[1]export_1465921594229!$D2827:$G12087,4,FALSE)","v":"DTK-125190"},"DTK"]
[null,"Ellis Michael",{"$f":"VLOOKUP(B2827,[1]export_1465921594229!$D2828:$G12088,4,FALSE)","v":"BH6-121850"},"BH6"]
[null,"El-Rayes Magdi",{"$f":"VLOOKUP(B2828,[1]export_1465921594229!$D2829:$G12089,4,FALSE)","v":"BSU-660378"},"BSU"]
[null,"Elsliger Elizabeth",{"$f":"VLOOKUP(B2829,[1]export_1465921594229!$D2830:$G12090,4,FALSE)","v":"B57-121912"},"B57"]
[null,"Ely John",{"$f":"VLOOKUP(B2830,[1]export_1465921594229!$D2831:$G12091,4,FALSE)","v":"P98-120677"},"P98"]
[null,"Emery Greg",{"$f":"VLOOKUP(B2831,[1]export_1465921594229!$D2832:$G12092,4,FALSE)","v":"AQ1-118156"},"AQ1"]
[null,"Emes Linda",{"$f":"VLOOKUP(B2832,[1]export_1465921594229!$D2833:$G12093,4,FALSE)","v":"OP5-117374"},"OP5"]
[null,"Emmanuel Asher",{"$f":"VLOOKUP(B2833,[1]export_1465921594229!$D2834:$G12094,4,FALSE)","v":"OV3-117412"},"OV3"]
[null,"Emmanuval Raji",{"$f":"VLOOKUP(B2834,[1]export_1465921594229!$D2835:$G12095,4,FALSE)","v":"C6J-124611"},"C6J"]
[null,"Emmerson Aleksandra",{"$f":"VLOOKUP(B2835,[1]export_1465921594229!$D2836:$G12096,4,FALSE)","v":"NV7-117253"},"NV7"]
[null,"Emond Celine",{"$f":"VLOOKUP(B2836,[1]export_1465921594229!$D2837:$G12097,4,FALSE)","v":"S80-119863"},"S80"]
[null,"Emond Christian",{"$f":"VLOOKUP(B2837,[1]export_1465921594229!$D2838:$G12098,4,FALSE)","v":"K54-121096"},"K54"]
[null,"Emond Christian",{"$f":"VLOOKUP(B2838,[1]export_1465921594229!$D2839:$G12099,4,FALSE)","v":"RF0-660620"},"RF0"]
[null,"Emond Isabelle",{"$f":"VLOOKUP(B2839,[1]export_1465921594229!$D2840:$G12100,4,FALSE)","v":"DPJ-125091"},"DPJ"]
[null,"Emond Melissa",{"$f":"VLOOKUP(B2840,[1]export_1465921594229!$D2841:$G12101,4,FALSE)","v":{"$error":"#N/A"}},{"$error":"#N/A"}]
[null,"Emond Real",{"$f":"VLOOKUP(B2841,[1]export_1465921594229!$D2842:$G12102,4,FALSE)","v":"BM3-660645"},"BM3"]
[null,"Emond Yves",{"$f":"VLOOKUP(B2842,[1]export_1465921594229!$D2843:$G12103,4,FALSE)","v":"EV4-660547"},"EV4"]
[null,"Enache Stefan",{"$f":"VLOOKUP(B2843,[1]export_1465921594229!$D2844:$G12104,4,FALSE)","v":"FT4-121319"},"FT4"]
[null,"Enache Stefan",{"$f":"VLOOKUP(B2844,[1]export_1465921594229!$D2845:$G12105,4,FALSE)","v":"FT5-121320"},"FT5"]
[null,"Enayatzadeh Daniel",{"$f":"VLOOKUP(B2845,[1]export_1465921594229!$D2846:$G12106,4,FALSE)","v":"LD2-116820"},"LD2"]
[null,"Endresz Steven",{"$f":"VLOOKUP(B2846,[1]export_1465921594229!$D2847:$G12107,4,FALSE)","v":"LQ8-119354"},"LQ8"]
[null,"Endresz Steven",{"$f":"VLOOKUP(B2847,[1]export_1465921594229!$D2848:$G12108,4,FALSE)","v":"LQ9-119355"},"LQ9"]
[null,"Ennis Darrell",{"$f":"VLOOKUP(B2848,[1]export_1465921594229!$D2849:$G12109,4,FALSE)","v":"DZF-125337"},"DZF"]
[null,"Enns Galen",{"$f":"VLOOKUP(B2849,[1]export_1465921594229!$D2850:$G12110,4,FALSE)","v":"N72-119464"},"N72"]
[null,"Enns Galen",{"$f":"VLOOKUP(B2850,[1]export_1465921594229!$D2851:$G12111,4,FALSE)","v":"LI0-119322"},"LI0"]
[null,"Enns Galen",{"$f":"VLOOKUP(B2851,[1]export_1465921594229!$D2852:$G12112,4,FALSE)","v":"BRV-123393"},"BRV"]
[null,"Enns Galen",{"$f":"VLOOKUP(B2852,[1]export_1465921594229!$D2853:$G12113,4,FALSE)","v":"C7O-124641"},"C7O"]
[null,"Enns Galen",{"$f":"VLOOKUP(B2853,[1]export_1465921594229!$D2854:$G12114,4,FALSE)","v":"LP6-329533"},"LP6"]
[null,"Enns Galen",{"$f":"VLOOKUP(B2854,[1]export_1465921594229!$D2855:$G12115,4,FALSE)","v":"FV9-029533"},"FV9"]
[null,"Epstein C/O Insurance Inc Stephen J.",{"$f":"VLOOKUP(B2855,[1]export_1465921594229!$D2856:$G12116,4,FALSE)","v":"KH5-116697"},"KH5"]
[null,"Eremiokhale Jude",{"$f":"VLOOKUP(B2856,[1]export_1465921594229!$D2857:$G12117,4,FALSE)","v":"DOA-125056"},"DOA"]
[null,"Ernst Kerreigh",{"$f":"VLOOKUP(B2857,[1]export_1465921594229!$D2858:$G12118,4,FALSE)","v":"CPX-124207"},"CPX"]
[null,"Ervalho Mario",{"$f":"VLOOKUP(B2858,[1]export_1465921594229!$D2859:$G12119,4,FALSE)","v":"OQ4-550201"},"OQ4"]
[null,"Esau Duane",{"$f":"VLOOKUP(B2859,[1]export_1465921594229!$D2860:$G12120,4,FALSE)","v":"BU9-121762"},"BU9"]
[null,"Escalante Renilda",{"$f":"VLOOKUP(B2860,[1]export_1465921594229!$D2861:$G12121,4,FALSE)","v":"DIA-124906"},"DIA"]
[null,"Escalante de Rodriguez Gloria",{"$f":"VLOOKUP(B2861,[1]export_1465921594229!$D2862:$G12122,4,FALSE)","v":"BTR-123433"},"BTR"]
[null,"Escobal Eduardo",{"$f":"VLOOKUP(B2862,[1]export_1465921594229!$D2863:$G12123,4,FALSE)","v":"LT5-116907"},"LT5"]
[null,"Escobar Daniel",{"$f":"VLOOKUP(B2863,[1]export_1465921594229!$D2864:$G12124,4,FALSE)","v":"A7O-123033"},"A7O"]
[null,"Esguerra Jannette",{"$f":"VLOOKUP(B2864,[1]export_1465921594229!$D2865:$G12125,4,FALSE)","v":"HD2-116171"},"HD2"]
[null,"Esguerra Jerico",{"$f":"VLOOKUP(B2865,[1]export_1465921594229!$D2866:$G12126,4,FALSE)","v":"GW6-116133"},"GW6"]
[null,"Esguerra Jerico",{"$f":"VLOOKUP(B2866,[1]export_1465921594229!$D2867:$G12127,4,FALSE)","v":"GW5-115683"},"GW5"]
[null,"Esmaeily Maryam",{"$f":"VLOOKUP(B2867,[1]export_1465921594229!$D2868:$G12128,4,FALSE)","v":"DWM-125270"},"DWM"]
[null,"Esmailzadeh(Mae World F) Michael",{"$f":"VLOOKUP(B2868,[1]export_1465921594229!$D2869:$G12129,4,FALSE)","v":"MW9-119444"},"MW9"]
[null,"Espie Paul",{"$f":"VLOOKUP(B2869,[1]export_1465921594229!$D2870:$G12130,4,FALSE)","v":"B5J-123702"},"B5J"]
[null,"Espiritu Imelda",{"$f":"VLOOKUP(B2870,[1]export_1465921594229!$D2871:$G12131,4,FALSE)","v":"JG0-116494"},"JG0"]
[null,"Essuah Mercy",{"$f":"VLOOKUP(B2871,[1]export_1465921594229!$D2872:$G12132,4,FALSE)","v":"EV5-118623"},"EV5"]
[null,"Etheridge Gordon",{"$f":"VLOOKUP(B2872,[1]export_1465921594229!$D2873:$G12133,4,FALSE)","v":"308-120314"},"308"]
[null,"Etheridge Gordon",{"$f":"VLOOKUP(B2873,[1]export_1465921594229!$D2874:$G12134,4,FALSE)","v":"053-122547"},"053"]
[null,"Ethier Gilles A.",{"$f":"VLOOKUP(B2874,[1]export_1465921594229!$D2875:$G12135,4,FALSE)","v":"O17-119530"},"O17"]
[null,"Ethier Richard",{"$f":"VLOOKUP(B2875,[1]export_1465921594229!$D2876:$G12136,4,FALSE)","v":"DWY-660185"},"DWY"]
[null,"Ethier Richard",{"$f":"VLOOKUP(B2876,[1]export_1465921594229!$D2877:$G12137,4,FALSE)","v":"U17-125282"},"U17"]
[null,"etienne Antoine Jr",{"$f":"VLOOKUP(B2877,[1]export_1465921594229!$D2878:$G12138,4,FALSE)","v":{"$error":"#N/A"}},{"$error":"#N/A"}]
[null,"Ettajani Abdelkebir",{"$f":"VLOOKUP(B2878,[1]export_1465921594229!$D2879:$G12139,4,FALSE)","v":"PU9-660085"},"PU9"]
[null,"Eustaquio Martinho",{"$f":"VLOOKUP(B2879,[1]export_1465921594229!$D2880:$G12140,4,FALSE)","v":"NC5-550738"},"NC5"]
[null,"Evans Christopher G.",{"$f":"VLOOKUP(B2880,[1]export_1465921594229!$D2881:$G12141,4,FALSE)","v":"OK5-117347"},"OK5"]
[null,"Evans Jared",{"$f":"VLOOKUP(B2881,[1]export_1465921594229!$D2882:$G12142,4,FALSE)","v":"Z64-120456"},"Z64"]
[null,"Evans Trevor",{"$f":"VLOOKUP(B2882,[1]export_1465921594229!$D2883:$G12143,4,FALSE)","v":"MO2-120893"},{"$f":"LEFT(C2882,3)","v":"MO2"}]
[null,"Evans Trevor",{"$f":"VLOOKUP(B2883,[1]export_1465921594229!$D2884:$G12144,4,FALSE)","v":"MO1-550830"},"MO1"]
[null,"Evelyn Aubrey",{"$f":"VLOOKUP(B2884,[1]export_1465921594229!$D2885:$G12145,4,FALSE)","v":"Q40-119691"},"Q40"]
[null,"Evers Martin",{"$f":"VLOOKUP(B2885,[1]export_1465921594229!$D2886:$G12146,4,FALSE)","v":"DVE-125236"},"DVE"]
[null,"Ewings Christopher",{"$f":"VLOOKUP(B2886,[1]export_1465921594229!$D2887:$G12147,4,FALSE)","v":"JG6-116499"},"JG6"]
[null,"Fabian Fatima",{"$f":"VLOOKUP(B2887,[1]export_1465921594229!$D2888:$G12148,4,FALSE)","v":"IQ5-116403"},"IQ5"]
[null,"Fafard Tommy",{"$f":"VLOOKUP(B2888,[1]export_1465921594229!$D2889:$G12149,4,FALSE)","v":"B5T-123710"},"B5T"]
[null,"Faghali O/A6037143 Canada George",{"$f":"VLOOKUP(B2889,[1]export_1465921594229!$D2890:$G12150,4,FALSE)","v":"KN3-550673"},"KN3"]
[null,"Fahey Philippe",{"$f":"VLOOKUP(B2890,[1]export_1465921594229!$D2891:$G12151,4,FALSE)","v":"R00-119789"},"R00"]
[null,"Fahey Sean",{"$f":"VLOOKUP(B2891,[1]export_1465921594229!$D2892:$G12152,4,FALSE)","v":"BA2-121818"},"BA2"]
[null,"Faiers Melissa",{"$f":"VLOOKUP(B2892,[1]export_1465921594229!$D2893:$G12153,4,FALSE)","v":"B6M-123728"},"B6M"]
[null,"Fakhoury-Kayal Claude",{"$f":"VLOOKUP(B2893,[1]export_1465921594229!$D2894:$G12154,4,FALSE)","v":"DQI-125116"},"DQI"]
[null,"Falardeau Fernand",{"$f":"VLOOKUP(B2894,[1]export_1465921594229!$D2895:$G12155,4,FALSE)","v":"K55-125284"},"K55"]
[null,"Falardeau Fernand",{"$f":"VLOOKUP(B2895,[1]export_1465921594229!$D2896:$G12156,4,FALSE)","v":"DXA-660223"},"DXA"]
[null,"Falardeau Jean-Louis",{"$f":"VLOOKUP(B2896,[1]export_1465921594229!$D2897:$G12157,4,FALSE)","v":"168-122502"},"168"]
[null,"Falcone Miguel",{"$f":"VLOOKUP(B2897,[1]export_1465921594229!$D2898:$G12158,4,FALSE)","v":"DRQ-125148"},"DRQ"]
[null,"Famelart Pierre",{"$f":"VLOOKUP(B2898,[1]export_1465921594229!$D2899:$G12159,4,FALSE)","v":"I49-121224"},"I49"]
[null,"Famero Myra Fe",{"$f":"VLOOKUP(B2899,[1]export_1465921594229!$D2900:$G12160,4,FALSE)","v":"DW8-121428"},"DW8"]
[null,"Faner Vincent",{"$f":"VLOOKUP(B2900,[1]export_1465921594229!$D2901:$G12161,4,FALSE)","v":"DCU-124774"},"DCU"]
[null,"Faniel Manon",{"$f":"VLOOKUP(B2901,[1]export_1465921594229!$D2902:$G12162,4,FALSE)","v":"203-120418"},"203"]
[null,"Fantin Amanda",{"$f":"VLOOKUP(B2902,[1]export_1465921594229!$D2903:$G12163,4,FALSE)","v":"CTB-124284"},"CTB"]
[null,"Farah Lajoie Luc",{"$f":"VLOOKUP(B2903,[1]export_1465921594229!$D2904:$G12164,4,FALSE)","v":"CC3-118281"},"CC3"]
[null,"Fard Bijan",{"$f":"VLOOKUP(B2904,[1]export_1465921594229!$D2905:$G12165,4,FALSE)","v":"S38-119848"},"S38"]
[null,"Farenhorst Christopher",{"$f":"VLOOKUP(B2905,[1]export_1465921594229!$D2906:$G12166,4,FALSE)","v":"DVK-125242"},"DVK"]
[null,"Farkas Hailey",{"$f":"VLOOKUP(B2906,[1]export_1465921594229!$D2907:$G12167,4,FALSE)","v":"C7J-124636"},"C7J"]
[null,"Farley Luc",{"$f":"VLOOKUP(B2907,[1]export_1465921594229!$D2908:$G12168,4,FALSE)","v":"255-122436"},"255"]
[null,"Farley Luc",{"$f":"VLOOKUP(B2908,[1]export_1465921594229!$D2909:$G12169,4,FALSE)","v":"D2H-125416"},"D2H"]
[null,"Farley Marie",{"$f":"VLOOKUP(B2909,[1]export_1465921594229!$D2910:$G12170,4,FALSE)","v":"267-120433"},"267"]
[null,"Farmakidis Pavlo",{"$f":"VLOOKUP(B2910,[1]export_1465921594229!$D2911:$G12171,4,FALSE)","v":"CGE-123970"},"CGE"]
[null,"Farmer Arlene",{"$f":"VLOOKUP(B2911,[1]export_1465921594229!$D2912:$G12172,4,FALSE)","v":"C8M-124665"},"C8M"]
[null,"Fata Pascal",{"$f":"VLOOKUP(B2912,[1]export_1465921594229!$D2913:$G12173,4,FALSE)","v":"QM7-660392"},"QM7"]
[null,"Fathallah Tarik",{"$f":"VLOOKUP(B2913,[1]export_1465921594229!$D2914:$G12174,4,FALSE)","v":"HO5-121199"},"HO5"]
[null,"Faucher Carole",{"$f":"VLOOKUP(B2914,[1]export_1465921594229!$D2915:$G12175,4,FALSE)","v":"HM3-119044"},"HM3"]
[null,"Faucher Jean",{"$f":"VLOOKUP(B2915,[1]export_1465921594229!$D2916:$G12176,4,FALSE)","v":"KS3-660619"},"KS3"]
[null,"Fauteux Sophie",{"$f":"VLOOKUP(B2916,[1]export_1465921594229!$D2917:$G12177,4,FALSE)","v":"527-122220"},"527"]
[null,"Favreau Colette",{"$f":"VLOOKUP(B2917,[1]export_1465921594229!$D2918:$G12178,4,FALSE)","v":"P40-120658"},"P40"]
[null,"Favreau Veronique",{"$f":"VLOOKUP(B2918,[1]export_1465921594229!$D2919:$G12179,4,FALSE)","v":{"$error":"#N/A"}},{"$error":"#N/A"}]
[null,"Fecteau Marc-Olivier",{"$f":"VLOOKUP(B2919,[1]export_1465921594229!$D2920:$G12180,4,FALSE)","v":"I87-121114"},"I87"]
[null,"Fecteau Rene",{"$f":"VLOOKUP(B2920,[1]export_1465921594229!$D2921:$G12181,4,FALSE)","v":"214-122409"},"214"]
[null,"Fedder David",{"$f":"VLOOKUP(B2921,[1]export_1465921594229!$D2922:$G12182,4,FALSE)","v":"LG4-116842"},"LG4"]
[null,"Fedoriuk Dwayne",{"$f":"VLOOKUP(B2922,[1]export_1465921594229!$D2923:$G12183,4,FALSE)","v":"DA3-118372"},"DA3"]
[null,"Fehr Steven",{"$f":"VLOOKUP(B2923,[1]export_1465921594229!$D2924:$G12184,4,FALSE)","v":"AD4-122042"},"AD4"]
[null,"Fehr-Krahn Daniel",{"$f":"VLOOKUP(B2924,[1]export_1465921594229!$D2925:$G12185,4,FALSE)","v":"B2X-123641"},"B2X"]
[null,"Feig Judith",{"$f":"VLOOKUP(B2925,[1]export_1465921594229!$D2926:$G12186,4,FALSE)","v":"X09-550191"},"X09"]
[null,"Feist(Ray P. Feist H Ltd) Raymond",{"$f":"VLOOKUP(B2926,[1]export_1465921594229!$D2927:$G12187,4,FALSE)","v":"OE9-117310"},"OE9"]
[null,"Felix Brent",{"$f":"VLOOKUP(B2927,[1]export_1465921594229!$D2928:$G12188,4,FALSE)","v":"FW0-500924"},"FW0"]
[null,"Felix Brent",{"$f":"VLOOKUP(B2928,[1]export_1465921594229!$D2929:$G12189,4,FALSE)","v":"N67-120820"},"N67"]
[null,"Fellin Michael",{"$f":"VLOOKUP(B2929,[1]export_1465921594229!$D2930:$G12190,4,FALSE)","v":"BQ6-121748"},"BQ6"]
[null,"Fellin Michael",{"$f":"VLOOKUP(B2930,[1]export_1465921594229!$D2931:$G12191,4,FALSE)","v":"BQ7-121749"},"BQ7"]
[null,"Feltham Geoffrey",{"$f":"VLOOKUP(B2931,[1]export_1465921594229!$D2932:$G12192,4,FALSE)","v":"HH9-027561"},"HH9"]
[null,"Fenjiro Abdelfattah",{"$f":"VLOOKUP(B2932,[1]export_1465921594229!$D2933:$G12193,4,FALSE)","v":"U43-120553"},"U43"]
[null,"Ferguson Amy",{"$f":"VLOOKUP(B2933,[1]export_1465921594229!$D2934:$G12194,4,FALSE)","v":"MS1-117089"},"MS1"]
[null,"Ferguson Chelsey",{"$f":"VLOOKUP(B2934,[1]export_1465921594229!$D2935:$G12195,4,FALSE)","v":"IM5-116380"},"IM5"]
[null,"Ferguson John",{"$f":"VLOOKUP(B2935,[1]export_1465921594229!$D2936:$G12196,4,FALSE)","v":"N17-120784"},"N17"]
[null,"Ferguson Matthew",{"$f":"VLOOKUP(B2936,[1]export_1465921594229!$D2937:$G12197,4,FALSE)","v":"A6L-123012"},"A6L"]
[null,"Ferguson Scott",{"$f":"VLOOKUP(B2937,[1]export_1465921594229!$D2938:$G12198,4,FALSE)","v":"HI8-116204"},"HI8"]
[null,"Feria Milagros",{"$f":"VLOOKUP(B2938,[1]export_1465921594229!$D2939:$G12199,4,FALSE)","v":"CHY-124014"},"CHY"]
[null,"Ferland Anthony",{"$f":"VLOOKUP(B2939,[1]export_1465921594229!$D2940:$G12200,4,FALSE)","v":"BWE-660408"},"BWE"]
[null,"Ferland Dave",{"$f":"VLOOKUP(B2940,[1]export_1465921594229!$D2941:$G12201,4,FALSE)","v":"A9Z-660285"},"A9Z"]
[null,"Ferland Dave",{"$f":"VLOOKUP(B2941,[1]export_1465921594229!$D2942:$G12202,4,FALSE)","v":"KM8-116726"},"KM8"]
[null,"Ferland Gabriel",{"$f":"VLOOKUP(B2942,[1]export_1465921594229!$D2943:$G12203,4,FALSE)","v":"IF8-660552"},"IF8"]
[null,"Ferland Guylaine",{"$f":"VLOOKUP(B2943,[1]export_1465921594229!$D2944:$G12204,4,FALSE)","v":"DP7-115905"},"DP7"]
[null,"Ferland Jason",{"$f":"VLOOKUP(B2944,[1]export_1465921594229!$D2945:$G12205,4,FALSE)","v":"DEF-124810"},"DEF"]
[null,"Fernandes Alaric",{"$f":"VLOOKUP(B2945,[1]export_1465921594229!$D2946:$G12206,4,FALSE)","v":"OE7-117308"},"OE7"]
[null,"Fernandes Conceicao",{"$f":"VLOOKUP(B2946,[1]export_1465921594229!$D2947:$G12207,4,FALSE)","v":"CK2-118316"},{"$f":"LEFT(C2946,3)","v":"CK2"}]
[null,"Fernandes Maximus",{"$f":"VLOOKUP(B2947,[1]export_1465921594229!$D2948:$G12208,4,FALSE)","v":"JE4-119193"},"JE4"]
[null,"Fernandez 62pckc Dely U",{"$f":"VLOOKUP(B2948,[1]export_1465921594229!$D2949:$G12209,4,FALSE)","v":"KX2-116782"},"KX2"]
[null,"Fernandez Anne Kathryn",{"$f":"VLOOKUP(B2949,[1]export_1465921594229!$D2950:$G12210,4,FALSE)","v":"MA3-116970"},"MA3"]
[null,"Fernandez Lynette",{"$f":"VLOOKUP(B2950,[1]export_1465921594229!$D2951:$G12211,4,FALSE)","v":"IF2-116345"},"IF2"]
[null,"Fernandez Mary",{"$f":"VLOOKUP(B2951,[1]export_1465921594229!$D2952:$G12212,4,FALSE)","v":"HG9-116193"},"HG9"]
[null,"Fernandez Badilla Alejandro",{"$f":"VLOOKUP(B2952,[1]export_1465921594229!$D2953:$G12213,4,FALSE)","v":"CDY-123913"},"CDY"]
[null,"Fernando Deborah",{"$f":"VLOOKUP(B2953,[1]export_1465921594229!$D2954:$G12214,4,FALSE)","v":"DSF-125163"},"DSF"]
[null,"Ferrara Carlo",{"$f":"VLOOKUP(B2954,[1]export_1465921594229!$D2955:$G12215,4,FALSE)","v":"QM9-660264"},"QM9"]
[null,"Ferreira Victor",{"$f":"VLOOKUP(B2955,[1]export_1465921594229!$D2956:$G12216,4,FALSE)","v":"BBK-550199"},"BBK"]
[null,"Ferris-Drost Pamela",{"$f":"VLOOKUP(B2956,[1]export_1465921594229!$D2957:$G12217,4,FALSE)","v":"MW2-117117"},"MW2"]
[null,"Ferron Claude",{"$f":"VLOOKUP(B2957,[1]export_1465921594229!$D2958:$G12218,4,FALSE)","v":"GB3-116074"},"GB3"]
[null,"Ferron Rachel",{"$f":"VLOOKUP(B2958,[1]export_1465921594229!$D2959:$G12219,4,FALSE)","v":"X84-120444"},"X84"]
[null,"Ferron Stacy",{"$f":"VLOOKUP(B2959,[1]export_1465921594229!$D2960:$G12220,4,FALSE)","v":"CHF-123990"},"CHF"]
[null,"Ferron Stacy",{"$f":"VLOOKUP(B2960,[1]export_1465921594229!$D2961:$G12221,4,FALSE)","v":"CGY-000000"},"CGY"]
[null,"Ferron Stacy",{"$f":"VLOOKUP(B2961,[1]export_1465921594229!$D2962:$G12222,4,FALSE)","v":"HG7-116191"},"HG7"]
[null,"Ficek Peter",{"$f":"VLOOKUP(B2962,[1]export_1465921594229!$D2963:$G12223,4,FALSE)","v":"KH7-119246"},"KH7"]
[null,"Fidaali Aftab",{"$f":"VLOOKUP(B2963,[1]export_1465921594229!$D2964:$G12224,4,FALSE)","v":"AG2-118116"},"AG2"]
[null,"Fidaali Aftab",{"$f":"VLOOKUP(B2964,[1]export_1465921594229!$D2965:$G12225,4,FALSE)","v":"AG1-122052"},"AG1"]
[null,"Fighel Ran",{"$f":"VLOOKUP(B2965,[1]export_1465921594229!$D2966:$G12226,4,FALSE)","v":"KG6-116690"},"KG6"]
[null,"Filali Meknassi Karim",{"$f":"VLOOKUP(B2966,[1]export_1465921594229!$D2967:$G12227,4,FALSE)","v":"B38-121895"},"B38"]
[null,"Filion Sylvie",{"$f":"VLOOKUP(B2967,[1]export_1465921594229!$D2968:$G12228,4,FALSE)","v":"ES7-121368"},"ES7"]
[null,"Filion Sylvie",{"$f":"VLOOKUP(B2968,[1]export_1465921594229!$D2969:$G12229,4,FALSE)","v":"EG7-121466"},"EG7"]
[null,"Filiplic Marino",{"$f":"VLOOKUP(B2969,[1]export_1465921594229!$D2970:$G12230,4,FALSE)","v":"A5Y-550823"},"A5Y"]
[null,"Fillion France",{"$f":"VLOOKUP(B2970,[1]export_1465921594229!$D2971:$G12231,4,FALSE)","v":"K04-121070"},"K04"]
[null,"Fillion Rejean",{"$f":"VLOOKUP(B2971,[1]export_1465921594229!$D2972:$G12232,4,FALSE)","v":"F36-118653"},"F36"]
[null,"Fillion Roger",{"$f":"VLOOKUP(B2972,[1]export_1465921594229!$D2973:$G12233,4,FALSE)","v":"B3X-123665"},"B3X"]
[null,"Financial Blue Water",{"$f":"VLOOKUP(B2973,[1]export_1465921594229!$D2974:$G12234,4,FALSE)","v":"BT2-550261"},"BT2"]
[null,"Financial Blue Water",{"$f":"VLOOKUP(B2974,[1]export_1465921594229!$D2975:$G12235,4,FALSE)","v":"U86-120568"},"U86"]
[null,"Financiers Inc. Carrefour Des Services",{"$f":"VLOOKUP(B2975,[1]export_1465921594229!$D2976:$G12236,4,FALSE)","v":"Q81-120703"},"Q81"]
[null,"Finnegan Iris",{"$f":"VLOOKUP(B2976,[1]export_1465921594229!$D2977:$G12237,4,FALSE)","v":"QA1-119719"},"QA1"]
[null,"Finnegan Iris",{"$f":"VLOOKUP(B2977,[1]export_1465921594229!$D2978:$G12238,4,FALSE)","v":"PX8-119665"},"PX8"]
[null,"Finnegan Iris",{"$f":"VLOOKUP(B2978,[1]export_1465921594229!$D2979:$G12239,4,FALSE)","v":"LE2-119317"},"LE2"]
[null,"Finnikin Horace",{"$f":"VLOOKUP(B2979,[1]export_1465921594229!$D2980:$G12240,4,FALSE)","v":"LD0-120958"},"LD0"]
[null,"Finnikin Horace",{"$f":"VLOOKUP(B2980,[1]export_1465921594229!$D2981:$G12241,4,FALSE)","v":"NS8-120726"},"NS8"]
[null,"Finnikin Horace",{"$f":"VLOOKUP(B2981,[1]export_1465921594229!$D2982:$G12242,4,FALSE)","v":"NP9-120722"},"NP9"]
[null,"Fiset Alexis",{"$f":"VLOOKUP(B2982,[1]export_1465921594229!$D2983:$G12243,4,FALSE)","v":"BZU-660434"},"BZU"]
[null,"Fitzgerald Louis",{"$f":"VLOOKUP(B2983,[1]export_1465921594229!$D2984:$G12244,4,FALSE)","v":"QH7-117693"},"QH7"]
[null,"Fitzmorris Jacqueline",{"$f":"VLOOKUP(B2984,[1]export_1465921594229!$D2985:$G12245,4,FALSE)","v":"FV0-118790"},"FV0"]
[null,"Fitzpatrick Wayne",{"$f":"VLOOKUP(B2985,[1]export_1465921594229!$D2986:$G12246,4,FALSE)","v":"HK0-119038"},"HK0"]
[null,"Fitzpatrick Wayne",{"$f":"VLOOKUP(B2986,[1]export_1465921594229!$D2987:$G12247,4,FALSE)","v":"MH6-119418"},"MH6"]
[null,"Flagg Todd",{"$f":"VLOOKUP(B2987,[1]export_1465921594229!$D2988:$G12248,4,FALSE)","v":"QT4-117785"},"QT4"]
[null,"Flamand François",{"$f":"VLOOKUP(B2988,[1]export_1465921594229!$D2989:$G12249,4,FALSE)","v":"B9G-123796"},"B9G"]
[null,"Flaxman Fred",{"$f":"VLOOKUP(B2989,[1]export_1465921594229!$D2990:$G12250,4,FALSE)","v":"GZ2-327436"},"GZ2"]
[null,"Flaxman Fred",{"$f":"VLOOKUP(B2990,[1]export_1465921594229!$D2991:$G12251,4,FALSE)","v":"GZ6-118960"},"GZ6"]
[null,"Flaxman Fred",{"$f":"VLOOKUP(B2991,[1]export_1465921594229!$D2992:$G12252,4,FALSE)","v":"HU5-115599"},"HU5"]
[null,"Flaxman Fred",{"$f":"VLOOKUP(B2992,[1]export_1465921594229!$D2993:$G12253,4,FALSE)","v":"LE7-115604"},"LE7"]
[null,"Flaxman Fred",{"$f":"VLOOKUP(B2993,[1]export_1465921594229!$D2994:$G12254,4,FALSE)","v":"AF5-115586"},"AF5"]
[null,"Flaxman Fred",{"$f":"VLOOKUP(B2994,[1]export_1465921594229!$D2995:$G12255,4,FALSE)","v":"R95-027436"},"R95"]
[null,"Flaxman Fred",{"$f":"VLOOKUP(B2995,[1]export_1465921594229!$D2996:$G12256,4,FALSE)","v":"BOF-F27436"},"BOF"]
[null,"Flaxman Fred",{"$f":"VLOOKUP(B2996,[1]export_1465921594229!$D2997:$G12257,4,FALSE)","v":"GZ1-115595"},"GZ1"]
[null,"Flaxman Fred",{"$f":"VLOOKUP(B2997,[1]export_1465921594229!$D2998:$G12258,4,FALSE)","v":"BOI-427436"},"BOI"]
[null,"Flaxman Fred",{"$f":"VLOOKUP(B2998,[1]export_1465921594229!$D2999:$G12259,4,FALSE)","v":"KI1-119248"},"KI1"]
[null,"Fleming Donald",{"$f":"VLOOKUP(B2999,[1]export_1465921594229!$D3000:$G12260,4,FALSE)","v":"538-122227"},"538"]
[null,"Flemington Wayne",{"$f":"VLOOKUP(B3000,[1]export_1465921594229!$D3001:$G12261,4,FALSE)","v":"S66-120630"},"S66"]
[null,"Fleurant Estelle",{"$f":"VLOOKUP(B3001,[1]export_1465921594229!$D3002:$G12262,4,FALSE)","v":"B03-121875"},"B03"]
[null,"Flipot Brigitte",{"$f":"VLOOKUP(B3002,[1]export_1465921594229!$D3003:$G12263,4,FALSE)","v":"GI3-118887"},"GI3"]
[null,"Flood James",{"$f":"VLOOKUP(B3003,[1]export_1465921594229!$D3004:$G12264,4,FALSE)","v":"AU2-118171"},"AU2"]
[null,"Floreal Eveline",{"$f":"VLOOKUP(B3004,[1]export_1465921594229!$D3005:$G12265,4,FALSE)","v":"GR0-118931"},"GR0"]
[null,"Flores Santiago Vianey",{"$f":"VLOOKUP(B3005,[1]export_1465921594229!$D3006:$G12266,4,FALSE)","v":"CGJ-123975"},"CGJ"]
[null,"Flores Santiago Vianey",{"$f":"VLOOKUP(B3006,[1]export_1465921594229!$D3007:$G12267,4,FALSE)","v":"RF1-117892"},"RF1"]
[null,"Foe Eleni",{"$f":"VLOOKUP(B3007,[1]export_1465921594229!$D3008:$G12268,4,FALSE)","v":"C3G-124539"},"C3G"]
[null,"Foisy Chantale",{"$f":"VLOOKUP(B3008,[1]export_1465921594229!$D3009:$G12269,4,FALSE)","v":"S30-120618"},"S30"]
[null,"Fokas Aida",{"$f":"VLOOKUP(B3009,[1]export_1465921594229!$D3010:$G12270,4,FALSE)","v":"BWF-660407"},"BWF"]
[null,"Foldes Ildiko",{"$f":"VLOOKUP(B3010,[1]export_1465921594229!$D3011:$G12271,4,FALSE)","v":"055-122549"},{"$f":"LEFT(C3010,3)","v":"055"}]
[null,"Foley Rejeanne",{"$f":"VLOOKUP(B3011,[1]export_1465921594229!$D3012:$G12272,4,FALSE)","v":"GJ6-118895"},"GJ6"]
[null,"Foley Rejeanne",{"$f":"VLOOKUP(B3012,[1]export_1465921594229!$D3013:$G12273,4,FALSE)","v":"HK9-121195"},"HK9"]
[null,"Folkins Berton",{"$f":"VLOOKUP(B3013,[1]export_1465921594229!$D3014:$G12274,4,FALSE)","v":"BLL-123277"},"BLL"]
[null,"Folkins Berton",{"$f":"VLOOKUP(B3014,[1]export_1465921594229!$D3015:$G12275,4,FALSE)","v":"KI8-121006"},"KI8"]
[null,"Fonar Arnold",{"$f":"VLOOKUP(B3015,[1]export_1465921594229!$D3016:$G12276,4,FALSE)","v":"ON8-029180"},"ON8"]
[null,"Fonar Arnold",{"$f":"VLOOKUP(B3016,[1]export_1465921594229!$D3017:$G12277,4,FALSE)","v":"N87-119471"},"N87"]
[null,"Fonar Arnold",{"$f":"VLOOKUP(B3017,[1]export_1465921594229!$D3018:$G12278,4,FALSE)","v":"MH5-119417"},"MH5"]
[null,"Fonseka Sujayanthie",{"$f":"VLOOKUP(B3018,[1]export_1465921594229!$D3019:$G12279,4,FALSE)","v":"BMR-502282"},"BMR"]
[null,"Fontaine Carl",{"$f":"VLOOKUP(B3019,[1]export_1465921594229!$D3020:$G12280,4,FALSE)","v":"C4Q-124570"},"C4Q"]
[null,"Fontaine Caroline",{"$f":"VLOOKUP(B3020,[1]export_1465921594229!$D3021:$G12281,4,FALSE)","v":"C6H-124609"},"C6H"]
[null,"Fontaine Francis",{"$f":"VLOOKUP(B3021,[1]export_1465921594229!$D3022:$G12282,4,FALSE)","v":"HW8-660279"},"HW8"]
[null,"Fontaine Francois",{"$f":"VLOOKUP(B3022,[1]export_1465921594229!$D3023:$G12283,4,FALSE)","v":"DZY-660166"},"DZY"]
[null,"Fontaine Francois",{"$f":"VLOOKUP(B3023,[1]export_1465921594229!$D3024:$G12284,4,FALSE)","v":"K84-116639"},"K84"]
[null,"Fontaine Guy",{"$f":"VLOOKUP(B3024,[1]export_1465921594229!$D3025:$G12285,4,FALSE)","v":"BSP-660376"},"BSP"]
[null,"Fontaine Louis-Philippe",{"$f":"VLOOKUP(B3025,[1]export_1465921594229!$D3026:$G12286,4,FALSE)","v":"CL8-660143"},"CL8"]
[null,"Fontaine Mario",{"$f":"VLOOKUP(B3026,[1]export_1465921594229!$D3027:$G12287,4,FALSE)","v":"GE9-118865"},"GE9"]
[null,"Fontaine Pierre",{"$f":"VLOOKUP(B3027,[1]export_1465921594229!$D3028:$G12288,4,FALSE)","v":"H86-118992"},"H86"]
[null,"Forcier Andre",{"$f":"VLOOKUP(B3028,[1]export_1465921594229!$D3029:$G12289,4,FALSE)","v":"HT0-119067"},"HT0"]
[null,"Ford Terrance",{"$f":"VLOOKUP(B3029,[1]export_1465921594229!$D3030:$G12290,4,FALSE)","v":"B7M-123754"},"B7M"]
[null,"Forde Terry",{"$f":"VLOOKUP(B3030,[1]export_1465921594229!$D3031:$G12291,4,FALSE)","v":"T34-120652"},"T34"]
[null,"Forest Caroline",{"$f":"VLOOKUP(B3031,[1]export_1465921594229!$D3032:$G12292,4,FALSE)","v":"LQ4-570195"},"LQ4"]
[null,"Forest Pierre",{"$f":"VLOOKUP(B3032,[1]export_1465921594229!$D3033:$G12293,4,FALSE)","v":"K09-121072"},"K09"]
[null,"Forest Pierre",{"$f":"VLOOKUP(B3033,[1]export_1465921594229!$D3034:$G12294,4,FALSE)","v":"IZ0-116441"},"IZ0"]
[null,"Forest Serge",{"$f":"VLOOKUP(B3034,[1]export_1465921594229!$D3035:$G12295,4,FALSE)","v":"232-122419"},"232"]
[null,"Forester Georges",{"$f":"VLOOKUP(B3035,[1]export_1465921594229!$D3036:$G12296,4,FALSE)","v":"FH3-660596"},"FH3"]
[null,"Forget Francine",{"$f":"VLOOKUP(B3036,[1]export_1465921594229!$D3037:$G12297,4,FALSE)","v":"E49-118500"},"E49"]
[null,"Forget Joseph Andre",{"$f":"VLOOKUP(B3037,[1]export_1465921594229!$D3038:$G12298,4,FALSE)","v":"I96-121117"},"I96"]
[null,"Forget Karl",{"$f":"VLOOKUP(B3038,[1]export_1465921594229!$D3039:$G12299,4,FALSE)","v":"CG9-550331"},"CG9"]
[null,"Forget Martin",{"$f":"VLOOKUP(B3039,[1]export_1465921594229!$D3040:$G12300,4,FALSE)","v":"CCD-123870"},"CCD"]
[null,"Forget Micheline",{"$f":"VLOOKUP(B3040,[1]export_1465921594229!$D3041:$G12301,4,FALSE)","v":"609-122142"},"609"]
[null,"Forget Stephane",{"$f":"VLOOKUP(B3041,[1]export_1465921594229!$D3042:$G12302,4,FALSE)","v":"BFA-550863"},"BFA"]
[null,"Forgues Patrick",{"$f":"VLOOKUP(B3042,[1]export_1465921594229!$D3043:$G12303,4,FALSE)","v":"F72-118670"},"F72"]
[null,"Forrester Ryan",{"$f":"VLOOKUP(B3043,[1]export_1465921594229!$D3044:$G12304,4,FALSE)","v":"EH9-118563"},"EH9"]
[null,"Forrester Ryan",{"$f":"VLOOKUP(B3044,[1]export_1465921594229!$D3045:$G12305,4,FALSE)","v":"NQ8-119503"},"NQ8"]
[null,"Forrester Ryan",{"$f":"VLOOKUP(B3045,[1]export_1465921594229!$D3046:$G12306,4,FALSE)","v":"QB5-300736"},"QB5"]
[null,"Forrester Ryan",{"$f":"VLOOKUP(B3046,[1]export_1465921594229!$D3047:$G12307,4,FALSE)","v":"NQ9-119504"},"NQ9"]
[null,"Forrester Ryan",{"$f":"VLOOKUP(B3047,[1]export_1465921594229!$D3048:$G12308,4,FALSE)","v":"BO3-500736"},"BO3"]
[null,"Forster Timothy",{"$f":"VLOOKUP(B3048,[1]export_1465921594229!$D3049:$G12309,4,FALSE)","v":"JU7-550633"},"JU7"]
[null,"Fortaleza Gemma",{"$f":"VLOOKUP(B3049,[1]export_1465921594229!$D3050:$G12310,4,FALSE)","v":"LJ7-116858"},"LJ7"]
[null,"Forte Ferdinand",{"$f":"VLOOKUP(B3050,[1]export_1465921594229!$D3051:$G12311,4,FALSE)","v":"DNY-125054"},"DNY"]
[null,"Fortes Rhea",{"$f":"VLOOKUP(B3051,[1]export_1465921594229!$D3052:$G12312,4,FALSE)","v":"IK0-116370"},"IK0"]
[null,"Fortier Andre",{"$f":"VLOOKUP(B3052,[1]export_1465921594229!$D3053:$G12313,4,FALSE)","v":"M24-119372"},"M24"]
[null,"Fortier Carole",{"$f":"VLOOKUP(B3053,[1]export_1465921594229!$D3054:$G12314,4,FALSE)","v":"C59-115811"},"C59"]
[null,"Fortier Charles",{"$f":"VLOOKUP(B3054,[1]export_1465921594229!$D3055:$G12315,4,FALSE)","v":"C8A-124653"},"C8A"]
[null,"Fortier Charles",{"$f":"VLOOKUP(B3055,[1]export_1465921594229!$D3056:$G12316,4,FALSE)","v":"EL0-660299"},"EL0"]
[null,"Fortier Jacinthe",{"$f":"VLOOKUP(B3056,[1]export_1465921594229!$D3057:$G12317,4,FALSE)","v":"030-120377"},"030"]
[null,"Fortier Jean-Claude",{"$f":"VLOOKUP(B3057,[1]export_1465921594229!$D3058:$G12318,4,FALSE)","v":"007-115624"},"007"]
[null,"Fortier Jean-Claude",{"$f":"VLOOKUP(B3058,[1]export_1465921594229!$D3059:$G12319,4,FALSE)","v":"187-122387"},"187"]
[null,"Fortier Liza",{"$f":"VLOOKUP(B3059,[1]export_1465921594229!$D3060:$G12320,4,FALSE)","v":"353-122377"},"353"]
[null,"Fortier Mario",{"$f":"VLOOKUP(B3060,[1]export_1465921594229!$D3061:$G12321,4,FALSE)","v":"EP7-115969"},"EP7"]
[null,"Fortier Renee",{"$f":"VLOOKUP(B3061,[1]export_1465921594229!$D3062:$G12322,4,FALSE)","v":"087-122570"},"087"]
[null,"Fortier Sandra",{"$f":"VLOOKUP(B3062,[1]export_1465921594229!$D3063:$G12323,4,FALSE)","v":"C24-121798"},"C24"]
[null,"Fortin Bernard",{"$f":"VLOOKUP(B3063,[1]export_1465921594229!$D3064:$G12324,4,FALSE)","v":"650-120300"},"650"]
[null,"Fortin Bernard",{"$f":"VLOOKUP(B3064,[1]export_1465921594229!$D3065:$G12325,4,FALSE)","v":"M68-116962"},"M68"]
[null,"Fortin Caroline",{"$f":"VLOOKUP(B3065,[1]export_1465921594229!$D3066:$G12326,4,FALSE)","v":"BKX-660333"},"BKX"]
[null,"Fortin Francine",{"$f":"VLOOKUP(B3066,[1]export_1465921594229!$D3067:$G12327,4,FALSE)","v":"H21-121282"},"H21"]
[null,"Fortin Gaetan",{"$f":"VLOOKUP(B3067,[1]export_1465921594229!$D3068:$G12328,4,FALSE)","v":{"$error":"#N/A"}},{"$error":"#N/A"}]
[null,"Fortin Genevieve",{"$f":"VLOOKUP(B3068,[1]export_1465921594229!$D3069:$G12329,4,FALSE)","v":"B62-121917"},"B62"]
[null,"Fortin Gina",{"$f":"VLOOKUP(B3069,[1]export_1465921594229!$D3070:$G12330,4,FALSE)","v":"CF1-115828"},"CF1"]
[null,"Fortin Jean-Guy",{"$f":"VLOOKUP(B3070,[1]export_1465921594229!$D3071:$G12331,4,FALSE)","v":"DDA-124780"},"DDA"]
[null,"Fortin Jean-Pierre",{"$f":"VLOOKUP(B3071,[1]export_1465921594229!$D3072:$G12332,4,FALSE)","v":"U81-119942"},"U81"]
[null,"Fortin Louis",{"$f":"VLOOKUP(B3072,[1]export_1465921594229!$D3073:$G12333,4,FALSE)","v":"C20-121795"},"C20"]
[null,"Fortin Maxime",{"$f":"VLOOKUP(B3073,[1]export_1465921594229!$D3074:$G12334,4,FALSE)","v":"QF1-117683"},"QF1"]
[null,"Fortin Pierre",{"$f":"VLOOKUP(B3074,[1]export_1465921594229!$D3075:$G12335,4,FALSE)","v":"BJ6-118215"},{"$f":"LEFT(C3074,3)","v":"BJ6"}]
[null,"Fortin Remi",{"$f":"VLOOKUP(B3075,[1]export_1465921594229!$D3076:$G12336,4,FALSE)","v":"G21-120171"},"G21"]
[null,"Fortin Simon",{"$f":"VLOOKUP(B3076,[1]export_1465921594229!$D3077:$G12337,4,FALSE)","v":"DZ3-121432"},"DZ3"]
[null,"Fortin Stephane",{"$f":"VLOOKUP(B3077,[1]export_1465921594229!$D3078:$G12338,4,FALSE)","v":"CP3-121643"},"CP3"]
[null,"Fortin Valerie",{"$f":"VLOOKUP(B3078,[1]export_1465921594229!$D3079:$G12339,4,FALSE)","v":{"$error":"#N/A"}},{"$error":"#N/A"}]
[null,"Fortin & Associes Inc J. Gerard",{"$f":"VLOOKUP(B3079,[1]export_1465921594229!$D3080:$G12340,4,FALSE)","v":"P99-120678"},"P99"]
[null,"Foss eric",{"$f":"VLOOKUP(B3080,[1]export_1465921594229!$D3081:$G12341,4,FALSE)","v":{"$error":"#N/A"}},{"$error":"#N/A"}]
[null,"Foster Barry",{"$f":"VLOOKUP(B3081,[1]export_1465921594229!$D3082:$G12342,4,FALSE)","v":"DWU-125278"},"DWU"]
[null,"Fothergill Lindsay",{"$f":"VLOOKUP(B3082,[1]export_1465921594229!$D3083:$G12343,4,FALSE)","v":"DAR-124720"},"DAR"]
[null,"Foucard Arnaud Serge",{"$f":"VLOOKUP(B3083,[1]export_1465921594229!$D3084:$G12344,4,FALSE)","v":"DER-124822"},"DER"]
[null,"Foucault Steve",{"$f":"VLOOKUP(B3084,[1]export_1465921594229!$D3085:$G12345,4,FALSE)","v":"DA8-120155"},"DA8"]
[null,"Foucreault Benoit",{"$f":"VLOOKUP(B3085,[1]export_1465921594229!$D3086:$G12346,4,FALSE)","v":"P21-120779"},"P21"]
[null,"Foucreault Benoit",{"$f":"VLOOKUP(B3086,[1]export_1465921594229!$D3087:$G12347,4,FALSE)","v":"S57-120625"},"S57"]
[null,"Fouquet Lise",{"$f":"VLOOKUP(B3087,[1]export_1465921594229!$D3088:$G12348,4,FALSE)","v":"431-122305"},"431"]
[null,"Fournier Daniel",{"$f":"VLOOKUP(B3088,[1]export_1465921594229!$D3089:$G12349,4,FALSE)","v":"IH1-116357"},"IH1"]
[null,"Fournier Dominic",{"$f":"VLOOKUP(B3089,[1]export_1465921594229!$D3090:$G12350,4,FALSE)","v":"GV1-121269"},"GV1"]
[null,"Fournier Dominic",{"$f":"VLOOKUP(B3090,[1]export_1465921594229!$D3091:$G12351,4,FALSE)","v":"P09-120771"},"P09"]
[null,"Fournier Josette Karine",{"$f":"VLOOKUP(B3091,[1]export_1465921594229!$D3092:$G12352,4,FALSE)","v":"DL9-121531"},"DL9"]
[null,"Fournier Manon",{"$f":"VLOOKUP(B3092,[1]export_1465921594229!$D3093:$G12353,4,FALSE)","v":"AQ2-660284"},"AQ2"]
[null,"Fournier Mariette",{"$f":"VLOOKUP(B3093,[1]export_1465921594229!$D3094:$G12354,4,FALSE)","v":"B30-115758"},"B30"]
[null,"Fournier Mariette",{"$f":"VLOOKUP(B3094,[1]export_1465921594229!$D3095:$G12355,4,FALSE)","v":"575-122250"},"575"]
[null,"Fournier Michel",{"$f":"VLOOKUP(B3095,[1]export_1465921594229!$D3096:$G12356,4,FALSE)","v":"J00-116447"},"J00"]
[null,"Fournier Rejean",{"$f":"VLOOKUP(B3096,[1]export_1465921594229!$D3097:$G12357,4,FALSE)","v":"O40-119540"},"O40"]
[null,"Fournier Reynald",{"$f":"VLOOKUP(B3097,[1]export_1465921594229!$D3098:$G12358,4,FALSE)","v":"A13-120184"},"A13"]
[null,"Fournier Sylvain",{"$f":"VLOOKUP(B3098,[1]export_1465921594229!$D3099:$G12359,4,FALSE)","v":"V32-117954"},"V32"]
[null,"Fournier Valery",{"$f":"VLOOKUP(B3099,[1]export_1465921594229!$D3100:$G12360,4,FALSE)","v":{"$error":"#N/A"}},{"$error":"#N/A"}]
[null,"Fowler Bruce",{"$f":"VLOOKUP(B3100,[1]export_1465921594229!$D3101:$G12361,4,FALSE)","v":"N48-120806"},"N48"]
[null,"Fox Richard",{"$f":"VLOOKUP(B3101,[1]export_1465921594229!$D3102:$G12362,4,FALSE)","v":"PG8-117510"},"PG8"]
[null,"Foyo Ludovic Martial",{"$f":"VLOOKUP(B3102,[1]export_1465921594229!$D3103:$G12363,4,FALSE)","v":"LU6-660170"},"LU6"]
[null,"Foyo Ludovic Martial",{"$f":"VLOOKUP(B3103,[1]export_1465921594229!$D3104:$G12364,4,FALSE)","v":"GW3-121272"},"GW3"]
[null,"Frabot Bertrand",{"$f":"VLOOKUP(B3104,[1]export_1465921594229!$D3105:$G12365,4,FALSE)","v":"EU7-118616"},"EU7"]
[null,"Francis Darryl",{"$f":"VLOOKUP(B3105,[1]export_1465921594229!$D3106:$G12366,4,FALSE)","v":"DFL-124842"},"DFL"]
[null,"Francis Je-Vohn",{"$f":"VLOOKUP(B3106,[1]export_1465921594229!$D3107:$G12367,4,FALSE)","v":"A6K-123011"},"A6K"]
[null,"Francis Roland",{"$f":"VLOOKUP(B3107,[1]export_1465921594229!$D3108:$G12368,4,FALSE)","v":"CB4-118279"},"CB4"]
[null,"Francoeur Lisa-Kim",{"$f":"VLOOKUP(B3108,[1]export_1465921594229!$D3109:$G12369,4,FALSE)","v":"D4X-125481"},"D4X"]
[null,"Francoeur Theogene",{"$f":"VLOOKUP(B3109,[1]export_1465921594229!$D3110:$G12370,4,FALSE)","v":{"$error":"#N/A"}},{"$error":"#N/A"}]
[null,"Francois Giovanni",{"$f":"VLOOKUP(B3110,[1]export_1465921594229!$D3111:$G12371,4,FALSE)","v":"NV9-600063"},"NV9"]
[null,"Francois Ralph",{"$f":"VLOOKUP(B3111,[1]export_1465921594229!$D3112:$G12372,4,FALSE)","v":"C85-121714"},"C85"]
[null,"Francois Sonny Emanuel",{"$f":"VLOOKUP(B3112,[1]export_1465921594229!$D3113:$G12373,4,FALSE)","v":"B6L-123727"},"B6L"]
[null,"Frandle Patrick",{"$f":"VLOOKUP(B3113,[1]export_1465921594229!$D3114:$G12374,4,FALSE)","v":"AV7-027340"},"AV7"]
[null,"Frappier Francis",{"$f":"VLOOKUP(B3114,[1]export_1465921594229!$D3115:$G12375,4,FALSE)","v":"DX7-660662"},"DX7"]
[null,"Frasca Roberto",{"$f":"VLOOKUP(B3115,[1]export_1465921594229!$D3116:$G12376,4,FALSE)","v":"QO7-117745"},"QO7"]
[null,"Frasca Tanya",{"$f":"VLOOKUP(B3116,[1]export_1465921594229!$D3117:$G12377,4,FALSE)","v":"BMV-502288"},"BMV"]
[null,"Fraser Aubrey",{"$f":"VLOOKUP(B3117,[1]export_1465921594229!$D3118:$G12378,4,FALSE)","v":"JB4-116471"},"JB4"]
[null,"Fraser Kaitlin",{"$f":"VLOOKUP(B3118,[1]export_1465921594229!$D3119:$G12379,4,FALSE)","v":"AX3-121993"},"AX3"]
[null,"Fraser Kalip",{"$f":"VLOOKUP(B3119,[1]export_1465921594229!$D3120:$G12380,4,FALSE)","v":"DC3-121493"},"DC3"]
[null,"Fraser Sonia",{"$f":"VLOOKUP(B3120,[1]export_1465921594229!$D3121:$G12381,4,FALSE)","v":"268-122442"},"268"]
[null,"Frater Paulette",{"$f":"VLOOKUP(B3121,[1]export_1465921594229!$D3122:$G12382,4,FALSE)","v":"MM9-550723"},"MM9"]
[null,"Frechette Jean-Luc",{"$f":"VLOOKUP(B3122,[1]export_1465921594229!$D3123:$G12383,4,FALSE)","v":"M44-120864"},"M44"]
[null,"Frechette Linda",{"$f":"VLOOKUP(B3123,[1]export_1465921594229!$D3124:$G12384,4,FALSE)","v":"278-122321"},"278"]
[null,"Frederick Joanne",{"$f":"VLOOKUP(B3124,[1]export_1465921594229!$D3125:$G12385,4,FALSE)","v":"O32-119537"},"O32"]
[null,"Fredette Elisabeth",{"$f":"VLOOKUP(B3125,[1]export_1465921594229!$D3126:$G12386,4,FALSE)","v":"QK2-660293"},"QK2"]
[null,"Fredette Nancy",{"$f":"VLOOKUP(B3126,[1]export_1465921594229!$D3127:$G12387,4,FALSE)","v":"G27-118822"},"G27"]
[null,"Freeman Miranda",{"$f":"VLOOKUP(B3127,[1]export_1465921594229!$D3128:$G12388,4,FALSE)","v":"BZ5-118272"},"BZ5"]
[null,"Frei Adrian",{"$f":"VLOOKUP(B3128,[1]export_1465921594229!$D3129:$G12389,4,FALSE)","v":"BUG-550875"},"BUG"]
[null,"Frenette Mario",{"$f":"VLOOKUP(B3129,[1]export_1465921594229!$D3130:$G12390,4,FALSE)","v":"AL5-660318"},"AL5"]
[null,"Frenza Daniel",{"$f":"VLOOKUP(B3130,[1]export_1465921594229!$D3131:$G12391,4,FALSE)","v":"L76-660736"},"L76"]
[null,"Fresco Sara M.",{"$f":"VLOOKUP(B3131,[1]export_1465921594229!$D3132:$G12392,4,FALSE)","v":"KC2-550655"},"KC2"]
[null,"Frever Farid",{"$f":"VLOOKUP(B3132,[1]export_1465921594229!$D3133:$G12393,4,FALSE)","v":"EX9-118636"},"EX9"]
[null,"Frialde Maria Luisa",{"$f":"VLOOKUP(B3133,[1]export_1465921594229!$D3134:$G12394,4,FALSE)","v":"LZ6-116946"},"LZ6"]
[null,"Frialde Maria Luisa",{"$f":"VLOOKUP(B3134,[1]export_1465921594229!$D3135:$G12395,4,FALSE)","v":"CFS-123958"},"CFS"]
[null,"Frias Serge",{"$f":"VLOOKUP(B3135,[1]export_1465921594229!$D3136:$G12396,4,FALSE)","v":"L77-120936"},"L77"]
[null,"Friedman Harry",{"$f":"VLOOKUP(B3136,[1]export_1465921594229!$D3137:$G12397,4,FALSE)","v":"AK0-118128"},"AK0"]
[null,"Friedman Harry",{"$f":"VLOOKUP(B3137,[1]export_1465921594229!$D3138:$G12398,4,FALSE)","v":"LM3-119335"},"LM3"]
[null,"Friedman Harry",{"$f":"VLOOKUP(B3138,[1]export_1465921594229!$D3139:$G12399,4,FALSE)","v":"IT3-119157"},{"$f":"LEFT(C3138,3)","v":"IT3"}]
[null,"Friedman Harry",{"$f":"VLOOKUP(B3139,[1]export_1465921594229!$D3140:$G12400,4,FALSE)","v":"QD7-119747"},"QD7"]
[null,"Friedman Harry",{"$f":"VLOOKUP(B3140,[1]export_1465921594229!$D3141:$G12401,4,FALSE)","v":"LM4-119336"},"LM4"]
[null,"Friedman Harry",{"$f":"VLOOKUP(B3141,[1]export_1465921594229!$D3142:$G12402,4,FALSE)","v":"AJ9-118127"},"AJ9"]
[null,"Friedman Harry",{"$f":"VLOOKUP(B3142,[1]export_1465921594229!$D3143:$G12403,4,FALSE)","v":"KK9-119254"},"KK9"]
[null,"Friedman Harry",{"$f":"VLOOKUP(B3143,[1]export_1465921594229!$D3144:$G12404,4,FALSE)","v":"QF9-119757"},"QF9"]
[null,"Friedman Orly",{"$f":"VLOOKUP(B3144,[1]export_1465921594229!$D3145:$G12405,4,FALSE)","v":"R63-120105"},"R63"]
[null,"Friedrichs Kari",{"$f":"VLOOKUP(B3145,[1]export_1465921594229!$D3146:$G12406,4,FALSE)","v":"A9C-123069"},"A9C"]
[null,"Friesen John",{"$f":"VLOOKUP(B3146,[1]export_1465921594229!$D3147:$G12407,4,FALSE)","v":"N63-120816"},"N63"]
[null,"Frost Dean",{"$f":"VLOOKUP(B3147,[1]export_1465921594229!$D3148:$G12408,4,FALSE)","v":"FQ2-118767"},"FQ2"]
[null,"Fry Shilo",{"$f":"VLOOKUP(B3148,[1]export_1465921594229!$D3149:$G12409,4,FALSE)","v":"MG7-117018"},"MG7"]
[null,"Fugere Gabriel",{"$f":"VLOOKUP(B3149,[1]export_1465921594229!$D3150:$G12410,4,FALSE)","v":"510-122210"},"510"]
[null,"Fugere Michel",{"$f":"VLOOKUP(B3150,[1]export_1465921594229!$D3151:$G12411,4,FALSE)","v":"P67-120666"},"P67"]
[null,"Fugere Michel",{"$f":"VLOOKUP(B3151,[1]export_1465921594229!$D3152:$G12412,4,FALSE)","v":"A83-122018"},"A83"]
[null,"Fuks Joseph",{"$f":"VLOOKUP(B3152,[1]export_1465921594229!$D3153:$G12413,4,FALSE)","v":"KM5-116724"},"KM5"]
[null,"Fuller Lawrence",{"$f":"VLOOKUP(B3153,[1]export_1465921594229!$D3154:$G12414,4,FALSE)","v":"DZ7-550385"},"DZ7"]
[null,"Fung Kam fun (Linda)",{"$f":"VLOOKUP(B3154,[1]export_1465921594229!$D3155:$G12415,4,FALSE)","v":"A8C-123045"},"A8C"]
[null,"Funtanilla Maria Marivic",{"$f":"VLOOKUP(B3155,[1]export_1465921594229!$D3156:$G12416,4,FALSE)","v":"BTB-123423"},"BTB"]
[null,"Furlatt Lise",{"$f":"VLOOKUP(B3156,[1]export_1465921594229!$D3157:$G12417,4,FALSE)","v":"S43-117902"},"S43"]
[null,"Fyfe Jacqueline",{"$f":"VLOOKUP(B3157,[1]export_1465921594229!$D3158:$G12418,4,FALSE)","v":"C0C-124457"},"C0C"]
[null,"Fyfe Jean-Marc",{"$f":"VLOOKUP(B3158,[1]export_1465921594229!$D3159:$G12419,4,FALSE)","v":"KS0-116752"},"KS0"]
[null,"G. Bourgeois Liliane",{"$f":"VLOOKUP(B3159,[1]export_1465921594229!$D3160:$G12420,4,FALSE)","v":"153-122491"},"153"]
[null,"G. Durand Johanne",{"$f":"VLOOKUP(B3160,[1]export_1465921594229!$D3161:$G12421,4,FALSE)","v":"050-120380"},"050"]
[null,"Gabison Venia",{"$f":"VLOOKUP(B3161,[1]export_1465921594229!$D3162:$G12422,4,FALSE)","v":"BMF-123292"},"BMF"]
[null,"Gaby Jean Wisler",{"$f":"VLOOKUP(B3162,[1]export_1465921594229!$D3163:$G12423,4,FALSE)","v":"MJ7-117034"},"MJ7"]
[null,"Gadbois Diane",{"$f":"VLOOKUP(B3163,[1]export_1465921594229!$D3164:$G12424,4,FALSE)","v":"256-120428"},"256"]
[null,"Gadbois Vincent",{"$f":"VLOOKUP(B3164,[1]export_1465921594229!$D3165:$G12425,4,FALSE)","v":"QW0-117806"},"QW0"]
[null,"Gaëtan Georges",{"$f":"VLOOKUP(B3165,[1]export_1465921594229!$D3166:$G12426,4,FALSE)","v":"DG5-121509"},"DG5"]
[null,"Gaetano Sistina",{"$f":"VLOOKUP(B3166,[1]export_1465921594229!$D3167:$G12427,4,FALSE)","v":"CQ4-115848"},"CQ4"]
[null,"Gagne Chantal",{"$f":"VLOOKUP(B3167,[1]export_1465921594229!$D3168:$G12428,4,FALSE)","v":"E95-118530"},"E95"]
[null,"Gagne Claude",{"$f":"VLOOKUP(B3168,[1]export_1465921594229!$D3169:$G12429,4,FALSE)","v":"612-122145"},"612"]
[null,"Gagne Claude",{"$f":"VLOOKUP(B3169,[1]export_1465921594229!$D3170:$G12430,4,FALSE)","v":"610-122143"},"610"]
[null,"Gagne Denis",{"$f":"VLOOKUP(B3170,[1]export_1465921594229!$D3171:$G12431,4,FALSE)","v":"J80-120175"},"J80"]
[null,"Gagne Denis",{"$f":"VLOOKUP(B3171,[1]export_1465921594229!$D3172:$G12432,4,FALSE)","v":"D51-121589"},"D51"]
[null,"Gagne Diane",{"$f":"VLOOKUP(B3172,[1]export_1465921594229!$D3173:$G12433,4,FALSE)","v":"E76-118517"},"E76"]
[null,"Gagne Eric",{"$f":"VLOOKUP(B3173,[1]export_1465921594229!$D3174:$G12434,4,FALSE)","v":"AT2-118169"},"AT2"]
[null,"Gagne Gilles C.",{"$f":"VLOOKUP(B3174,[1]export_1465921594229!$D3175:$G12435,4,FALSE)","v":"AQ4-121958"},"AQ4"]
[null,"Gagne Gilles C.",{"$f":"VLOOKUP(B3175,[1]export_1465921594229!$D3176:$G12436,4,FALSE)","v":"A92-122024"},"A92"]
[null,"Gagne Jean-Francois",{"$f":"VLOOKUP(B3176,[1]export_1465921594229!$D3177:$G12437,4,FALSE)","v":"C4N-660113"},"C4N"]
[null,"Gagne Jean-Guy",{"$f":"VLOOKUP(B3177,[1]export_1465921594229!$D3178:$G12438,4,FALSE)","v":"DG1-121506"},"DG1"]
[null,"Gagne Luc",{"$f":"VLOOKUP(B3178,[1]export_1465921594229!$D3179:$G12439,4,FALSE)","v":"AE2-115732"},"AE2"]
[null,"Gagne Marco",{"$f":"VLOOKUP(B3179,[1]export_1465921594229!$D3180:$G12440,4,FALSE)","v":"BKE-660261"},"BKE"]
[null,"Gagne Melanie",{"$f":"VLOOKUP(B3180,[1]export_1465921594229!$D3181:$G12441,4,FALSE)","v":"EN3-121483"},"EN3"]
[null,"Gagne Melanie",{"$f":"VLOOKUP(B3181,[1]export_1465921594229!$D3182:$G12442,4,FALSE)","v":"ET2-121373"},"ET2"]
[null,"Gagne Michael",{"$f":"VLOOKUP(B3182,[1]export_1465921594229!$D3183:$G12443,4,FALSE)","v":"DO6-660695"},"DO6"]
[null,"Gagne Nathalie",{"$f":"VLOOKUP(B3183,[1]export_1465921594229!$D3184:$G12444,4,FALSE)","v":"A20-120186"},"A20"]
[null,"Gagne Pascale",{"$f":"VLOOKUP(B3184,[1]export_1465921594229!$D3185:$G12445,4,FALSE)","v":"RF8-660527"},"RF8"]
[null,"Gagne Robert",{"$f":"VLOOKUP(B3185,[1]export_1465921594229!$D3186:$G12446,4,FALSE)","v":"LM9-116877"},"LM9"]
[null,"Gagne Shirley",{"$f":"VLOOKUP(B3186,[1]export_1465921594229!$D3187:$G12447,4,FALSE)","v":"U39-120551"},"U39"]
[null,"Gagne Sylvie",{"$f":"VLOOKUP(B3187,[1]export_1465921594229!$D3188:$G12448,4,FALSE)","v":"G23-121337"},"G23"]
[null,"Gagne-Bouchard Alexandre",{"$f":"VLOOKUP(B3188,[1]export_1465921594229!$D3189:$G12449,4,FALSE)","v":"PN8-117566"},"PN8"]
[null,"Gagne-Laflamme Alexandre",{"$f":"VLOOKUP(B3189,[1]export_1465921594229!$D3190:$G12450,4,FALSE)","v":{"$error":"#N/A"}},{"$error":"#N/A"}]
[null,"Gagner Marieva",{"$f":"VLOOKUP(B3190,[1]export_1465921594229!$D3191:$G12451,4,FALSE)","v":"BJK-660208"},"BJK"]
[null,"Gagner Renauld",{"$f":"VLOOKUP(B3191,[1]export_1465921594229!$D3192:$G12452,4,FALSE)","v":"C2U-124527"},"C2U"]
[null,"Gagnon Andre",{"$f":"VLOOKUP(B3192,[1]export_1465921594229!$D3193:$G12453,4,FALSE)","v":"L27-660416"},"L27"]
[null,"Gagnon Armand",{"$f":"VLOOKUP(B3193,[1]export_1465921594229!$D3194:$G12454,4,FALSE)","v":"M67-120871"},"M67"]
[null,"Gagnon Armand",{"$f":"VLOOKUP(B3194,[1]export_1465921594229!$D3195:$G12455,4,FALSE)","v":"L79-119306"},"L79"]
[null,"Gagnon Benoit",{"$f":"VLOOKUP(B3195,[1]export_1465921594229!$D3196:$G12456,4,FALSE)","v":"B94-121813"},"B94"]
[null,"Gagnon Benoit",{"$f":"VLOOKUP(B3196,[1]export_1465921594229!$D3197:$G12457,4,FALSE)","v":"GM7-116096"},"GM7"]
[null,"Gagnon Caroline",{"$f":"VLOOKUP(B3197,[1]export_1465921594229!$D3198:$G12458,4,FALSE)","v":"DS5-660626"},"DS5"]
[null,"Gagnon Claudine",{"$f":"VLOOKUP(B3198,[1]export_1465921594229!$D3199:$G12459,4,FALSE)","v":"DBJ-124738"},"DBJ"]
[null,"Gagnon Dominique",{"$f":"VLOOKUP(B3199,[1]export_1465921594229!$D3200:$G12460,4,FALSE)","v":"CF7-118294"},"CF7"]
[null,"Gagnon Eric",{"$f":"VLOOKUP(B3200,[1]export_1465921594229!$D3201:$G12461,4,FALSE)","v":"576-120275"},"576"]
[null,"Gagnon Francine",{"$f":"VLOOKUP(B3201,[1]export_1465921594229!$D3202:$G12462,4,FALSE)","v":"127-120402"},"127"]
[null,"Gagnon Francis",{"$f":"VLOOKUP(B3202,[1]export_1465921594229!$D3203:$G12463,4,FALSE)","v":"G62-116061"},{"$f":"LEFT(C3202,3)","v":"G62"}]
[null,"Gagnon Gervais",{"$f":"VLOOKUP(B3203,[1]export_1465921594229!$D3204:$G12464,4,FALSE)","v":"K39-121089"},"K39"]
[null,"Gagnon Gilles",{"$f":"VLOOKUP(B3204,[1]export_1465921594229!$D3205:$G12465,4,FALSE)","v":"DJ7-121517"},"DJ7"]
[null,"Gagnon Hildebrand",{"$f":"VLOOKUP(B3205,[1]export_1465921594229!$D3206:$G12466,4,FALSE)","v":"Q35-119687"},"Q35"]
[null,"Gagnon Isabelle",{"$f":"VLOOKUP(B3206,[1]export_1465921594229!$D3207:$G12467,4,FALSE)","v":"C16-121793"},"C16"]
[null,"Gagnon Isabelle",{"$f":"VLOOKUP(B3207,[1]export_1465921594229!$D3208:$G12468,4,FALSE)","v":"T48-119891"},"T48"]
[null,"Gagnon Jacqueline",{"$f":"VLOOKUP(B3208,[1]export_1465921594229!$D3209:$G12469,4,FALSE)","v":"LI6-119324"},"LI6"]
[null,"Gagnon Jacqueline",{"$f":"VLOOKUP(B3209,[1]export_1465921594229!$D3210:$G12470,4,FALSE)","v":"QH1-119767"},"QH1"]
[null,"Gagnon Jacqueline",{"$f":"VLOOKUP(B3210,[1]export_1465921594229!$D3211:$G12471,4,FALSE)","v":"QC8-119740"},"QC8"]
[null,"Gagnon Jean-Rene",{"$f":"VLOOKUP(B3211,[1]export_1465921594229!$D3212:$G12472,4,FALSE)","v":{"$error":"#N/A"}},{"$error":"#N/A"}]
[null,"Gagnon Jerome",{"$f":"VLOOKUP(B3212,[1]export_1465921594229!$D3213:$G12473,4,FALSE)","v":"O11-660224"},"O11"]
[null,"Gagnon Josee",{"$f":"VLOOKUP(B3213,[1]export_1465921594229!$D3214:$G12474,4,FALSE)","v":"240-120426"},"240"]
[null,"Gagnon Julie",{"$f":"VLOOKUP(B3214,[1]export_1465921594229!$D3215:$G12475,4,FALSE)","v":"FN9-121307"},"FN9"]
[null,"Gagnon Karine",{"$f":"VLOOKUP(B3215,[1]export_1465921594229!$D3216:$G12476,4,FALSE)","v":"H25-116151"},"H25"]
[null,"Gagnon Karine",{"$f":"VLOOKUP(B3216,[1]export_1465921594229!$D3217:$G12477,4,FALSE)","v":"G34-121339"},"G34"]
[null,"Gagnon Kaverly",{"$f":"VLOOKUP(B3217,[1]export_1465921594229!$D3218:$G12478,4,FALSE)","v":"LR6-660159"},"LR6"]
[null,"Gagnon Lisette",{"$f":"VLOOKUP(B3218,[1]export_1465921594229!$D3219:$G12479,4,FALSE)","v":"V90-119977"},"V90"]
[null,"Gagnon Louis",{"$f":"VLOOKUP(B3219,[1]export_1465921594229!$D3220:$G12480,4,FALSE)","v":"I17-119083"},"I17"]
[null,"Gagnon Louis",{"$f":"VLOOKUP(B3220,[1]export_1465921594229!$D3221:$G12481,4,FALSE)","v":"I38-660539"},"I38"]
[null,"Gagnon Lynda",{"$f":"VLOOKUP(B3221,[1]export_1465921594229!$D3222:$G12482,4,FALSE)","v":"385-122272"},"385"]
[null,"Gagnon Lynda",{"$f":"VLOOKUP(B3222,[1]export_1465921594229!$D3223:$G12483,4,FALSE)","v":"511-115709"},"511"]
[null,"Gagnon Marc",{"$f":"VLOOKUP(B3223,[1]export_1465921594229!$D3224:$G12484,4,FALSE)","v":"Z22-660664"},"Z22"]
[null,"Gagnon Marie",{"$f":"VLOOKUP(B3224,[1]export_1465921594229!$D3225:$G12485,4,FALSE)","v":"204-122400"},"204"]
[null,"Gagnon Marie-France",{"$f":"VLOOKUP(B3225,[1]export_1465921594229!$D3226:$G12486,4,FALSE)","v":"BVH-660405"},"BVH"]
[null,"Gagnon Marie-Helene",{"$f":"VLOOKUP(B3226,[1]export_1465921594229!$D3227:$G12487,4,FALSE)","v":"B46-121902"},"B46"]
[null,"Gagnon Marie-Helene",{"$f":"VLOOKUP(B3227,[1]export_1465921594229!$D3228:$G12488,4,FALSE)","v":{"$error":"#N/A"}},{"$error":"#N/A"}]
[null,"Gagnon Marquis",{"$f":"VLOOKUP(B3228,[1]export_1465921594229!$D3229:$G12489,4,FALSE)","v":"L80-120938"},"L80"]
[null,"Gagnon Martin",{"$f":"VLOOKUP(B3229,[1]export_1465921594229!$D3230:$G12490,4,FALSE)","v":"C7T-600105"},"C7T"]
[null,"Gagnon Michel",{"$f":"VLOOKUP(B3230,[1]export_1465921594229!$D3231:$G12491,4,FALSE)","v":"R32-119797"},"R32"]
[null,"Gagnon Micheline",{"$f":"VLOOKUP(B3231,[1]export_1465921594229!$D3232:$G12492,4,FALSE)","v":"205-122401"},"205"]
[null,"Gagnon Olivier",{"$f":"VLOOKUP(B3232,[1]export_1465921594229!$D3233:$G12493,4,FALSE)","v":"X98-120446"},"X98"]
[null,"Gagnon Patrick",{"$f":"VLOOKUP(B3233,[1]export_1465921594229!$D3234:$G12494,4,FALSE)","v":"CC9-118285"},"CC9"]
[null,"Gagnon Pierre",{"$f":"VLOOKUP(B3234,[1]export_1465921594229!$D3235:$G12495,4,FALSE)","v":"BGR-123177"},"BGR"]
[null,"Gagnon Raymond",{"$f":"VLOOKUP(B3235,[1]export_1465921594229!$D3236:$G12496,4,FALSE)","v":"B84-121806"},"B84"]
[null,"Gagnon Raymond",{"$f":"VLOOKUP(B3236,[1]export_1465921594229!$D3237:$G12497,4,FALSE)","v":"LD9-116826"},"LD9"]
[null,"Gagnon Rene",{"$f":"VLOOKUP(B3237,[1]export_1465921594229!$D3238:$G12498,4,FALSE)","v":{"$error":"#N/A"}},{"$error":"#N/A"}]
[null,"Gagnon Robert",{"$f":"VLOOKUP(B3238,[1]export_1465921594229!$D3239:$G12499,4,FALSE)","v":"L78-120937"},"L78"]
[null,"Gagnon Robin",{"$f":"VLOOKUP(B3239,[1]export_1465921594229!$D3240:$G12500,4,FALSE)","v":"H67-118983"},"H67"]
[null,"Gagnon Rock",{"$f":"VLOOKUP(B3240,[1]export_1465921594229!$D3241:$G12501,4,FALSE)","v":"G95-116069"},"G95"]
[null,"Gagnon Roland",{"$f":"VLOOKUP(B3241,[1]export_1465921594229!$D3242:$G12502,4,FALSE)","v":"IH9-119131"},"IH9"]
[null,"Gagnon Serge",{"$f":"VLOOKUP(B3242,[1]export_1465921594229!$D3243:$G12503,4,FALSE)","v":"473-122195"},"473"]
[null,"Gagnon Serge",{"$f":"VLOOKUP(B3243,[1]export_1465921594229!$D3244:$G12504,4,FALSE)","v":"CG4-121740"},"CG4"]
[null,"Gagnon Serge",{"$f":"VLOOKUP(B3244,[1]export_1465921594229!$D3245:$G12505,4,FALSE)","v":"CN3-121629"},"CN3"]
[null,"Gagnon (Mg Conseils Inc.) Michel",{"$f":"VLOOKUP(B3245,[1]export_1465921594229!$D3246:$G12506,4,FALSE)","v":"L04-119293"},"L04"]
[null,"Gaines Nigel",{"$f":"VLOOKUP(B3246,[1]export_1465921594229!$D3247:$G12507,4,FALSE)","v":"KX9-116786"},"KX9"]
[null,"Gakhar (JMD Insurance) Pranav",{"$f":"VLOOKUP(B3247,[1]export_1465921594229!$D3248:$G12508,4,FALSE)","v":"BGI-123169"},"BGI"]
[null,"Gal Jonathan",{"$f":"VLOOKUP(B3248,[1]export_1465921594229!$D3249:$G12509,4,FALSE)","v":"B1A-660456"},"B1A"]
[null,"Galang Victoria",{"$f":"VLOOKUP(B3249,[1]export_1465921594229!$D3250:$G12510,4,FALSE)","v":"BUR-123454"},"BUR"]
[null,"Gale Sheldon",{"$f":"VLOOKUP(B3250,[1]export_1465921594229!$D3251:$G12511,4,FALSE)","v":"QA5-117671"},"QA5"]
[null,"Gale Sheldon",{"$f":"VLOOKUP(B3251,[1]export_1465921594229!$D3252:$G12512,4,FALSE)","v":"DAO-124717"},"DAO"]
[null,"Galipeau Pascale",{"$f":"VLOOKUP(B3252,[1]export_1465921594229!$D3253:$G12513,4,FALSE)","v":"B9N-570187"},"B9N"]
[null,"Gallagher Cecile",{"$f":"VLOOKUP(B3253,[1]export_1465921594229!$D3254:$G12514,4,FALSE)","v":"C9E-124681"},"C9E"]
[null,"Gallagher Mark",{"$f":"VLOOKUP(B3254,[1]export_1465921594229!$D3255:$G12515,4,FALSE)","v":"KO3-116736"},"KO3"]
[null,"Gallagher Richard",{"$f":"VLOOKUP(B3255,[1]export_1465921594229!$D3256:$G12516,4,FALSE)","v":"BN7-121865"},"BN7"]
[null,"Gallant Dan",{"$f":"VLOOKUP(B3256,[1]export_1465921594229!$D3257:$G12517,4,FALSE)","v":"GH0-121245"},"GH0"]
[null,"Gallant Leo",{"$f":"VLOOKUP(B3257,[1]export_1465921594229!$D3258:$G12518,4,FALSE)","v":"BMD-550889"},"BMD"]
[null,"Gallant Leo J.G.",{"$f":"VLOOKUP(B3258,[1]export_1465921594229!$D3259:$G12519,4,FALSE)","v":"W34-117974"},"W34"]
[null,"Gallant Robert",{"$f":"VLOOKUP(B3259,[1]export_1465921594229!$D3260:$G12520,4,FALSE)","v":"D4K-125468"},"D4K"]
[null,"Gallant Serge",{"$f":"VLOOKUP(B3260,[1]export_1465921594229!$D3261:$G12521,4,FALSE)","v":"DZ0-660057"},"DZ0"]
[null,"Gallegos Angarita Edgard Orlando",{"$f":"VLOOKUP(B3261,[1]export_1465921594229!$D3262:$G12522,4,FALSE)","v":"PZ2-660377"},"PZ2"]
[null,"Gallo Maurice",{"$f":"VLOOKUP(B3262,[1]export_1465921594229!$D3263:$G12523,4,FALSE)","v":"S92-119871"},"S92"]
[null,"Galvan Ireida",{"$f":"VLOOKUP(B3263,[1]export_1465921594229!$D3264:$G12524,4,FALSE)","v":"IO5-116390"},"IO5"]
[null,"Galvan Nielda",{"$f":"VLOOKUP(B3264,[1]export_1465921594229!$D3265:$G12525,4,FALSE)","v":"IU4-116421"},"IU4"]
[null,"Galvez de Dejo Rubi",{"$f":"VLOOKUP(B3265,[1]export_1465921594229!$D3266:$G12526,4,FALSE)","v":"EI6-660330"},"EI6"]
[null,"Galway Zenaida",{"$f":"VLOOKUP(B3266,[1]export_1465921594229!$D3267:$G12527,4,FALSE)","v":"BSQ-123414"},{"$f":"LEFT(C3266,3)","v":"BSQ"}]
[null,"Gamache Amelie",{"$f":"VLOOKUP(B3267,[1]export_1465921594229!$D3268:$G12528,4,FALSE)","v":"HR6-600042"},"HR6"]
[null,"Gamambaye Dionlalneel",{"$f":"VLOOKUP(B3268,[1]export_1465921594229!$D3269:$G12529,4,FALSE)","v":"BA9-121820"},"BA9"]
[null,"Gamboa Alexander",{"$f":"VLOOKUP(B3269,[1]export_1465921594229!$D3270:$G12530,4,FALSE)","v":"AP4-121954"},"AP4"]
[null,"Gamboa Olga",{"$f":"VLOOKUP(B3270,[1]export_1465921594229!$D3271:$G12531,4,FALSE)","v":"B7P-123757"},"B7P"]
[null,"Gamelin Carole",{"$f":"VLOOKUP(B3271,[1]export_1465921594229!$D3272:$G12532,4,FALSE)","v":"D0E-125361"},"D0E"]
[null,"Gamelin Gilles",{"$f":"VLOOKUP(B3272,[1]export_1465921594229!$D3273:$G12533,4,FALSE)","v":"A80-120203"},"A80"]
[null,"Gamelin Huguette",{"$f":"VLOOKUP(B3273,[1]export_1465921594229!$D3274:$G12534,4,FALSE)","v":"G17-120169"},"G17"]
[null,"Gamelin Mathieu",{"$f":"VLOOKUP(B3274,[1]export_1465921594229!$D3275:$G12535,4,FALSE)","v":"Z69-120084"},"Z69"]
[null,"Ganal Noemi",{"$f":"VLOOKUP(B3275,[1]export_1465921594229!$D3276:$G12536,4,FALSE)","v":"DLF-124986"},"DLF"]
[null,"Gandhi Arjun",{"$f":"VLOOKUP(B3276,[1]export_1465921594229!$D3277:$G12537,4,FALSE)","v":"EW9-118632"},"EW9"]
[null,"Gandhi Jay Dilipkumar",{"$f":"VLOOKUP(B3277,[1]export_1465921594229!$D3278:$G12538,4,FALSE)","v":"CVN-124343"},"CVN"]
[null,"Gandhi Jay Dilipkumar",{"$f":"VLOOKUP(B3278,[1]export_1465921594229!$D3279:$G12539,4,FALSE)","v":"QS9-117780"},"QS9"]
[null,"Gandhiram Murugiah",{"$f":"VLOOKUP(B3279,[1]export_1465921594229!$D3280:$G12540,4,FALSE)","v":"NX0-550907"},"NX0"]
[null,"Ganeshan Sugeertha",{"$f":"VLOOKUP(B3280,[1]export_1465921594229!$D3281:$G12541,4,FALSE)","v":"C4U-124574"},"C4U"]
[null,"Ganeshmoorthy Manjari",{"$f":"VLOOKUP(B3281,[1]export_1465921594229!$D3282:$G12542,4,FALSE)","v":"BPX-123353"},"BPX"]
[null,"Gao Yinan",{"$f":"VLOOKUP(B3282,[1]export_1465921594229!$D3283:$G12543,4,FALSE)","v":"N60-120814"},"N60"]
[null,"Garabedian George S.",{"$f":"VLOOKUP(B3283,[1]export_1465921594229!$D3284:$G12544,4,FALSE)","v":"K29-116626"},"K29"]
[null,"Garbutt Janice",{"$f":"VLOOKUP(B3284,[1]export_1465921594229!$D3285:$G12545,4,FALSE)","v":"EI5-118568"},"EI5"]
[null,"Garbutt Patrick",{"$f":"VLOOKUP(B3285,[1]export_1465921594229!$D3286:$G12546,4,FALSE)","v":"DR9-550454"},"DR9"]
[null,"Garceau Carolle",{"$f":"VLOOKUP(B3286,[1]export_1465921594229!$D3287:$G12547,4,FALSE)","v":"DOQ-125072"},"DOQ"]
[null,"Garceau Suzanne",{"$f":"VLOOKUP(B3287,[1]export_1465921594229!$D3288:$G12548,4,FALSE)","v":"CX3-121675"},"CX3"]
[null,"Garceau Suzanne",{"$f":"VLOOKUP(B3288,[1]export_1465921594229!$D3289:$G12549,4,FALSE)","v":"BZA-123546"},"BZA"]
[null,"Garceau Suzanne",{"$f":"VLOOKUP(B3289,[1]export_1465921594229!$D3290:$G12550,4,FALSE)","v":"JJ6-115570"},"JJ6"]
[null,"Garcia Charisse",{"$f":"VLOOKUP(B3290,[1]export_1465921594229!$D3291:$G12551,4,FALSE)","v":"BLO-123280"},"BLO"]
[null,"Garcia Joselito",{"$f":"VLOOKUP(B3291,[1]export_1465921594229!$D3292:$G12552,4,FALSE)","v":"C3E-124537"},"C3E"]
[null,"Garcia Maria",{"$f":"VLOOKUP(B3292,[1]export_1465921594229!$D3293:$G12553,4,FALSE)","v":"DYX-125332"},"DYX"]
[null,"Garcia Martin Leandro",{"$f":"VLOOKUP(B3293,[1]export_1465921594229!$D3294:$G12554,4,FALSE)","v":"PL4-117549"},"PL4"]
[null,"Garcia Osman",{"$f":"VLOOKUP(B3294,[1]export_1465921594229!$D3295:$G12555,4,FALSE)","v":"CVF-124335"},"CVF"]
[null,"Garcia-Vique Martha",{"$f":"VLOOKUP(B3295,[1]export_1465921594229!$D3296:$G12556,4,FALSE)","v":"KE9-116675"},"KE9"]
[null,"Gardner Amber",{"$f":"VLOOKUP(B3296,[1]export_1465921594229!$D3297:$G12557,4,FALSE)","v":"JB9-119183"},"JB9"]
[null,"Gareau Francois",{"$f":"VLOOKUP(B3297,[1]export_1465921594229!$D3298:$G12558,4,FALSE)","v":"H60-121168"},"H60"]
[null,"Garfinkle Andrew",{"$f":"VLOOKUP(B3298,[1]export_1465921594229!$D3299:$G12559,4,FALSE)","v":"GJ0-121251"},"GJ0"]
[null,"Gariepy Ladouceur Frederic",{"$f":"VLOOKUP(B3299,[1]export_1465921594229!$D3300:$G12560,4,FALSE)","v":{"$error":"#N/A"}},{"$error":"#N/A"}]
[null,"Garneau Alain",{"$f":"VLOOKUP(B3300,[1]export_1465921594229!$D3301:$G12561,4,FALSE)","v":"660-122177"},"660"]
[null,"Garneau Conrad",{"$f":"VLOOKUP(B3301,[1]export_1465921594229!$D3302:$G12562,4,FALSE)","v":"U03-026309"},"U03"]
[null,"Garneau Marie-Claude",{"$f":"VLOOKUP(B3302,[1]export_1465921594229!$D3303:$G12563,4,FALSE)","v":"DSU-125175"},"DSU"]
[null,"Garneau Maryse",{"$f":"VLOOKUP(B3303,[1]export_1465921594229!$D3304:$G12564,4,FALSE)","v":"D19-121566"},"D19"]
[null,"Garneau Maryse",{"$f":"VLOOKUP(B3304,[1]export_1465921594229!$D3305:$G12565,4,FALSE)","v":"E43-118496"},"E43"]
[null,"Garnier Francis",{"$f":"VLOOKUP(B3305,[1]export_1465921594229!$D3306:$G12566,4,FALSE)","v":"FV3-121326"},"FV3"]
[null,"Garofalo Maurizio",{"$f":"VLOOKUP(B3306,[1]export_1465921594229!$D3307:$G12567,4,FALSE)","v":"A9B-123068"},"A9B"]
[null,"Garoonanedhi Bruntha",{"$f":"VLOOKUP(B3307,[1]export_1465921594229!$D3308:$G12568,4,FALSE)","v":"A7K-123031"},"A7K"]
[null,"Garrido Hernandez Erick Joel",{"$f":"VLOOKUP(B3308,[1]export_1465921594229!$D3309:$G12569,4,FALSE)","v":"BHI-123190"},"BHI"]
[null,"Garrido Hernandez Erick Joel",{"$f":"VLOOKUP(B3309,[1]export_1465921594229!$D3310:$G12570,4,FALSE)","v":"CER-123932"},"CER"]
[null,"Garvida Shiela",{"$f":"VLOOKUP(B3310,[1]export_1465921594229!$D3311:$G12571,4,FALSE)","v":"C5H-124585"},"C5H"]
[null,"Gasmi Anis",{"$f":"VLOOKUP(B3311,[1]export_1465921594229!$D3312:$G12572,4,FALSE)","v":"B23-121889"},"B23"]
[null,"Gaspar Peter",{"$f":"VLOOKUP(B3312,[1]export_1465921594229!$D3313:$G12573,4,FALSE)","v":"S91-119870"},"S91"]
[null,"Gaudet Annie",{"$f":"VLOOKUP(B3313,[1]export_1465921594229!$D3314:$G12574,4,FALSE)","v":"Z25-550145"},"Z25"]
[null,"Gaudet John",{"$f":"VLOOKUP(B3314,[1]export_1465921594229!$D3315:$G12575,4,FALSE)","v":"IL7-116378"},"IL7"]
[null,"Gaudet Bergeron Diane",{"$f":"VLOOKUP(B3315,[1]export_1465921594229!$D3316:$G12576,4,FALSE)","v":"021-122526"},"021"]
[null,"Gaudet Bergeron Diane",{"$f":"VLOOKUP(B3316,[1]export_1465921594229!$D3317:$G12577,4,FALSE)","v":"251-122433"},"251"]
[null,"Gaudette Gilles",{"$f":"VLOOKUP(B3317,[1]export_1465921594229!$D3318:$G12578,4,FALSE)","v":"GJ1-118891"},"GJ1"]
[null,"Gaudreault Denis",{"$f":"VLOOKUP(B3318,[1]export_1465921594229!$D3319:$G12579,4,FALSE)","v":"611-122144"},"611"]
[null,"Gaudreault Ginette",{"$f":"VLOOKUP(B3319,[1]export_1465921594229!$D3320:$G12580,4,FALSE)","v":"208-120419"},"208"]
[null,"Gaudreault Judith",{"$f":"VLOOKUP(B3320,[1]export_1465921594229!$D3321:$G12581,4,FALSE)","v":"035-120378"},"035"]
[null,"Gaudreault Leon",{"$f":"VLOOKUP(B3321,[1]export_1465921594229!$D3322:$G12582,4,FALSE)","v":"U90-117947"},"U90"]
[null,"Gaudreault Marie-Andree",{"$f":"VLOOKUP(B3322,[1]export_1465921594229!$D3323:$G12583,4,FALSE)","v":"L45-118082"},"L45"]
[null,"Gaudreault Marie-Andree",{"$f":"VLOOKUP(B3323,[1]export_1465921594229!$D3324:$G12584,4,FALSE)","v":"QV4-119785"},"QV4"]
[null,"Gaudreault Real",{"$f":"VLOOKUP(B3324,[1]export_1465921594229!$D3325:$G12585,4,FALSE)","v":"EN1-660507"},"EN1"]
[null,"Gaudreault Rita",{"$f":"VLOOKUP(B3325,[1]export_1465921594229!$D3326:$G12586,4,FALSE)","v":"H13-660244"},"H13"]
[null,"Gaudreault Stephanie",{"$f":"VLOOKUP(B3326,[1]export_1465921594229!$D3327:$G12587,4,FALSE)","v":{"$error":"#N/A"}},{"$error":"#N/A"}]
[null,"Gaumond Yvette",{"$f":"VLOOKUP(B3327,[1]export_1465921594229!$D3328:$G12588,4,FALSE)","v":"128-122471"},"128"]
[null,"Gaussiran Michel",{"$f":"VLOOKUP(B3328,[1]export_1465921594229!$D3329:$G12589,4,FALSE)","v":"FR8-116034"},"FR8"]
[null,"Gauthier Alain",{"$f":"VLOOKUP(B3329,[1]export_1465921594229!$D3330:$G12590,4,FALSE)","v":"K19-119230"},"K19"]
[null,"Gauthier Andre",{"$f":"VLOOKUP(B3330,[1]export_1465921594229!$D3331:$G12591,4,FALSE)","v":"GH7-121247"},{"$f":"LEFT(C3330,3)","v":"GH7"}]
[null,"Gauthier Andre Rene",{"$f":"VLOOKUP(B3331,[1]export_1465921594229!$D3332:$G12592,4,FALSE)","v":"BJ4-118214"},"BJ4"]
[null,"Gauthier Anne-Marie",{"$f":"VLOOKUP(B3332,[1]export_1465921594229!$D3333:$G12593,4,FALSE)","v":"RF7-660667"},"RF7"]
[null,"Gauthier Annie",{"$f":"VLOOKUP(B3333,[1]export_1465921594229!$D3334:$G12594,4,FALSE)","v":"X44-120034"},"X44"]
[null,"Gauthier Audrey",{"$f":"VLOOKUP(B3334,[1]export_1465921594229!$D3335:$G12595,4,FALSE)","v":"CM2-118325"},"CM2"]
[null,"Gauthier Camil",{"$f":"VLOOKUP(B3335,[1]export_1465921594229!$D3336:$G12596,4,FALSE)","v":"AT0-118168"},"AT0"]
[null,"Gauthier Carol",{"$f":"VLOOKUP(B3336,[1]export_1465921594229!$D3337:$G12597,4,FALSE)","v":"A32-120191"},"A32"]
[null,"Gauthier Charles-Olivier",{"$f":"VLOOKUP(B3337,[1]export_1465921594229!$D3338:$G12598,4,FALSE)","v":"DWE-125262"},"DWE"]
[null,"Gauthier Clement",{"$f":"VLOOKUP(B3338,[1]export_1465921594229!$D3339:$G12599,4,FALSE)","v":"269-122443"},"269"]
[null,"Gauthier Dave",{"$f":"VLOOKUP(B3339,[1]export_1465921594229!$D3340:$G12600,4,FALSE)","v":"HN1-121197"},"HN1"]
[null,"Gauthier Denis",{"$f":"VLOOKUP(B3340,[1]export_1465921594229!$D3341:$G12601,4,FALSE)","v":"058-122551"},"058"]
[null,"Gauthier Denis",{"$f":"VLOOKUP(B3341,[1]export_1465921594229!$D3342:$G12602,4,FALSE)","v":"EP1-118595"},"EP1"]
[null,"Gauthier Diane",{"$f":"VLOOKUP(B3342,[1]export_1465921594229!$D3343:$G12603,4,FALSE)","v":"B5X-123714"},"B5X"]
[null,"Gauthier France",{"$f":"VLOOKUP(B3343,[1]export_1465921594229!$D3344:$G12604,4,FALSE)","v":"AE4-115734"},"AE4"]
[null,"Gauthier Frederick",{"$f":"VLOOKUP(B3344,[1]export_1465921594229!$D3345:$G12605,4,FALSE)","v":{"$error":"#N/A"}},{"$error":"#N/A"}]
[null,"Gauthier Gary",{"$f":"VLOOKUP(B3345,[1]export_1465921594229!$D3346:$G12606,4,FALSE)","v":"EA3-118055"},"EA3"]
[null,"Gauthier Hubert J.",{"$f":"VLOOKUP(B3346,[1]export_1465921594229!$D3347:$G12607,4,FALSE)","v":"059-122552"},"059"]
[null,"Gauthier Jean",{"$f":"VLOOKUP(B3347,[1]export_1465921594229!$D3348:$G12608,4,FALSE)","v":"H91-116165"},"H91"]
[null,"Gauthier Jean-Francois",{"$f":"VLOOKUP(B3348,[1]export_1465921594229!$D3349:$G12609,4,FALSE)","v":"PT2-117610"},"PT2"]
[null,"Gauthier Jean-Francois",{"$f":"VLOOKUP(B3349,[1]export_1465921594229!$D3350:$G12610,4,FALSE)","v":"F31-660631"},"F31"]
[null,"Gauthier Jean-Pierre",{"$f":"VLOOKUP(B3350,[1]export_1465921594229!$D3351:$G12611,4,FALSE)","v":"044-122543"},"044"]
[null,"Gauthier Josee",{"$f":"VLOOKUP(B3351,[1]export_1465921594229!$D3352:$G12612,4,FALSE)","v":"MF5-117008"},"MF5"]
[null,"Gauthier Magalie",{"$f":"VLOOKUP(B3352,[1]export_1465921594229!$D3353:$G12613,4,FALSE)","v":"BX4-121771"},"BX4"]
[null,"Gauthier Pascal",{"$f":"VLOOKUP(B3353,[1]export_1465921594229!$D3354:$G12614,4,FALSE)","v":"K20-121078"},"K20"]
[null,"Gauthier Philippe J.",{"$f":"VLOOKUP(B3354,[1]export_1465921594229!$D3355:$G12615,4,FALSE)","v":"A21-122107"},"A21"]
[null,"Gauthier Pierre-Jacques",{"$f":"VLOOKUP(B3355,[1]export_1465921594229!$D3356:$G12616,4,FALSE)","v":"J88-116456"},"J88"]
[null,"Gauthier Pierre-Paul",{"$f":"VLOOKUP(B3356,[1]export_1465921594229!$D3357:$G12617,4,FALSE)","v":"U54-550095"},"U54"]
[null,"Gauthier Richard",{"$f":"VLOOKUP(B3357,[1]export_1465921594229!$D3358:$G12618,4,FALSE)","v":"CT8-121662"},"CT8"]
[null,"Gauthier Robert",{"$f":"VLOOKUP(B3358,[1]export_1465921594229!$D3359:$G12619,4,FALSE)","v":"P42-119620"},"P42"]
[null,"Gauthier Roger",{"$f":"VLOOKUP(B3359,[1]export_1465921594229!$D3360:$G12620,4,FALSE)","v":"DE8-115884"},"DE8"]
[null,"Gauthier Steve",{"$f":"VLOOKUP(B3360,[1]export_1465921594229!$D3361:$G12621,4,FALSE)","v":"QF2-660236"},"QF2"]
[null,"Gauthier Sylvain",{"$f":"VLOOKUP(B3361,[1]export_1465921594229!$D3362:$G12622,4,FALSE)","v":"EC4-121455"},"EC4"]
[null,"Gauthier Sylvain",{"$f":"VLOOKUP(B3362,[1]export_1465921594229!$D3363:$G12623,4,FALSE)","v":"QF4-119754"},"QF4"]
[null,"Gauthier Vickie",{"$f":"VLOOKUP(B3363,[1]export_1465921594229!$D3364:$G12624,4,FALSE)","v":"553-122239"},"553"]
[null,"Gauthier Westley",{"$f":"VLOOKUP(B3364,[1]export_1465921594229!$D3365:$G12625,4,FALSE)","v":"HE4-600039"},"HE4"]
[null,"Gauthier Westley",{"$f":"VLOOKUP(B3365,[1]export_1465921594229!$D3366:$G12626,4,FALSE)","v":"HE5-121187"},"HE5"]
[null,"Gauthier Hamelin Michael",{"$f":"VLOOKUP(B3366,[1]export_1465921594229!$D3367:$G12627,4,FALSE)","v":"CJ3-660670"},"CJ3"]
[null,"Gauvin Bruno",{"$f":"VLOOKUP(B3367,[1]export_1465921594229!$D3368:$G12628,4,FALSE)","v":"120-122467"},"120"]
[null,"Gauvin Eric",{"$f":"VLOOKUP(B3368,[1]export_1465921594229!$D3369:$G12629,4,FALSE)","v":"E56-118505"},"E56"]
[null,"Gauvin Guylaine",{"$f":"VLOOKUP(B3369,[1]export_1465921594229!$D3370:$G12630,4,FALSE)","v":"IC5-116327"},"IC5"]
[null,"Gauvin Louis",{"$f":"VLOOKUP(B3370,[1]export_1465921594229!$D3371:$G12631,4,FALSE)","v":"026-122529"},"026"]
[null,"Gauvin Marco",{"$f":"VLOOKUP(B3371,[1]export_1465921594229!$D3372:$G12632,4,FALSE)","v":"Q27-119683"},"Q27"]
[null,"Gauvin Suzanne",{"$f":"VLOOKUP(B3372,[1]export_1465921594229!$D3373:$G12633,4,FALSE)","v":"X73-660713"},"X73"]
[null,"Gauvin Letourneau Simon",{"$f":"VLOOKUP(B3373,[1]export_1465921594229!$D3374:$G12634,4,FALSE)","v":"GB9-116076"},"GB9"]
[null,"Gauvreau Jean-Pierre",{"$f":"VLOOKUP(B3374,[1]export_1465921594229!$D3375:$G12635,4,FALSE)","v":"DP8-115906"},"DP8"]
[null,"Gauvreau Michel",{"$f":"VLOOKUP(B3375,[1]export_1465921594229!$D3376:$G12636,4,FALSE)","v":"DD2-660187"},"DD2"]
[null,"Gavard Nicole",{"$f":"VLOOKUP(B3376,[1]export_1465921594229!$D3377:$G12637,4,FALSE)","v":"062-122555"},"062"]
[null,"Geenen Thomas",{"$f":"VLOOKUP(B3377,[1]export_1465921594229!$D3378:$G12638,4,FALSE)","v":"BAM-550050"},"BAM"]
[null,"Geenen Thomas",{"$f":"VLOOKUP(B3378,[1]export_1465921594229!$D3379:$G12639,4,FALSE)","v":"N57-500967"},"N57"]
[null,"Gehrels Jason",{"$f":"VLOOKUP(B3379,[1]export_1465921594229!$D3380:$G12640,4,FALSE)","v":"BPA-123337"},"BPA"]
[null,"Geiger Ralph",{"$f":"VLOOKUP(B3380,[1]export_1465921594229!$D3381:$G12641,4,FALSE)","v":"C9K-124687"},"C9K"]
[null,"Gelacio Marilou",{"$f":"VLOOKUP(B3381,[1]export_1465921594229!$D3382:$G12642,4,FALSE)","v":"CXK-124391"},"CXK"]
[null,"Gelgoot Stephane",{"$f":"VLOOKUP(B3382,[1]export_1465921594229!$D3383:$G12643,4,FALSE)","v":"KZ2-116787"},"KZ2"]
[null,"Gelgoot Stephane",{"$f":"VLOOKUP(B3383,[1]export_1465921594229!$D3384:$G12644,4,FALSE)","v":"C50-121690"},"C50"]
[null,"Gelinas Alain",{"$f":"VLOOKUP(B3384,[1]export_1465921594229!$D3385:$G12645,4,FALSE)","v":"L33-119301"},"L33"]
[null,"Gelinas Marcel",{"$f":"VLOOKUP(B3385,[1]export_1465921594229!$D3386:$G12646,4,FALSE)","v":"W80-660597"},"W80"]
[null,"Gelinas Marcelle",{"$f":"VLOOKUP(B3386,[1]export_1465921594229!$D3387:$G12647,4,FALSE)","v":"441-120345"},"441"]
[null,"Gelinas Nathalie",{"$f":"VLOOKUP(B3387,[1]export_1465921594229!$D3388:$G12648,4,FALSE)","v":"554-120265"},"554"]
[null,"Gelinas Sylvain",{"$f":"VLOOKUP(B3388,[1]export_1465921594229!$D3389:$G12649,4,FALSE)","v":"M10-120855"},"M10"]
[null,"Gelinas Sylvain",{"$f":"VLOOKUP(B3389,[1]export_1465921594229!$D3390:$G12650,4,FALSE)","v":"H11-660518"},"H11"]
[null,"Gelineau Myriam",{"$f":"VLOOKUP(B3390,[1]export_1465921594229!$D3391:$G12651,4,FALSE)","v":"E67-118509"},"E67"]
[null,"Gemme Pierre",{"$f":"VLOOKUP(B3391,[1]export_1465921594229!$D3392:$G12652,4,FALSE)","v":"NH2-119485"},"NH2"]
[null,"Gendreau Jacinthe",{"$f":"VLOOKUP(B3392,[1]export_1465921594229!$D3393:$G12653,4,FALSE)","v":"410-122291"},"410"]
[null,"Gendron Jean",{"$f":"VLOOKUP(B3393,[1]export_1465921594229!$D3394:$G12654,4,FALSE)","v":"LA9-119313"},"LA9"]
[null,"Gendron Jean",{"$f":"VLOOKUP(B3394,[1]export_1465921594229!$D3395:$G12655,4,FALSE)","v":"LA8-119312"},{"$f":"LEFT(C3394,3)","v":"LA8"}]
[null,"Gendron Pierre",{"$f":"VLOOKUP(B3395,[1]export_1465921594229!$D3396:$G12656,4,FALSE)","v":"539-122228"},"539"]
[null,"Gendron Remi",{"$f":"VLOOKUP(B3396,[1]export_1465921594229!$D3397:$G12657,4,FALSE)","v":"U01-119910"},"U01"]
[null,"Gendron Sebastien",{"$f":"VLOOKUP(B3397,[1]export_1465921594229!$D3398:$G12658,4,FALSE)","v":"E27-118483"},"E27"]
[null,"Gendron Sylvain",{"$f":"VLOOKUP(B3398,[1]export_1465921594229!$D3399:$G12659,4,FALSE)","v":"167-122501"},"167"]
[null,"Gendron Sylvie",{"$f":"VLOOKUP(B3399,[1]export_1465921594229!$D3400:$G12660,4,FALSE)","v":"BHT-660316"},"BHT"]
[null,"Geneau Eric",{"$f":"VLOOKUP(B3400,[1]export_1465921594229!$D3401:$G12661,4,FALSE)","v":"A42-122117"},"A42"]
[null,"Generaux Agents",{"$f":"VLOOKUP(B3401,[1]export_1465921594229!$D3402:$G12662,4,FALSE)","v":"890-122090"},"890"]
[null,"Genest Clement",{"$f":"VLOOKUP(B3402,[1]export_1465921594229!$D3403:$G12663,4,FALSE)","v":"Z59-660485"},"Z59"]
[null,"Genest Jean-Paul",{"$f":"VLOOKUP(B3403,[1]export_1465921594229!$D3404:$G12664,4,FALSE)","v":"343-120317"},"343"]
[null,"Genest Jean-Paul",{"$f":"VLOOKUP(B3404,[1]export_1465921594229!$D3405:$G12665,4,FALSE)","v":"E90-118528"},"E90"]
[null,"Genest Johanne",{"$f":"VLOOKUP(B3405,[1]export_1465921594229!$D3406:$G12666,4,FALSE)","v":"K78-119234"},"K78"]
[null,"Genest Michel",{"$f":"VLOOKUP(B3406,[1]export_1465921594229!$D3407:$G12667,4,FALSE)","v":"201-115695"},"201"]
[null,"Genest Patrick",{"$f":"VLOOKUP(B3407,[1]export_1465921594229!$D3408:$G12668,4,FALSE)","v":"LN1-116879"},"LN1"]
[null,"Genest Sylvain",{"$f":"VLOOKUP(B3408,[1]export_1465921594229!$D3409:$G12669,4,FALSE)","v":"OX6-660134"},"OX6"]
[null,"Genest Yoland",{"$f":"VLOOKUP(B3409,[1]export_1465921594229!$D3410:$G12670,4,FALSE)","v":"H33-660024"},"H33"]
[null,"Genier Jules Edgar",{"$f":"VLOOKUP(B3410,[1]export_1465921594229!$D3411:$G12671,4,FALSE)","v":"HS0-116252"},"HS0"]
[null,"Gentes Michael",{"$f":"VLOOKUP(B3411,[1]export_1465921594229!$D3412:$G12672,4,FALSE)","v":"CWJ-124364"},"CWJ"]
[null,"Gentile Ralph",{"$f":"VLOOKUP(B3412,[1]export_1465921594229!$D3413:$G12673,4,FALSE)","v":"LW4-116929"},"LW4"]
[null,"Gentile(Gentile Finan) Shantelle",{"$f":"VLOOKUP(B3413,[1]export_1465921594229!$D3414:$G12674,4,FALSE)","v":"C6D-124605"},"C6D"]
[null,"Gentile(Gentile&Associat) George",{"$f":"VLOOKUP(B3414,[1]export_1465921594229!$D3415:$G12675,4,FALSE)","v":"MU6-117107"},"MU6"]
[null,"Geoffroy Mylene",{"$f":"VLOOKUP(B3415,[1]export_1465921594229!$D3416:$G12676,4,FALSE)","v":{"$error":"#N/A"}},{"$error":"#N/A"}]
[null,"George Antoinette",{"$f":"VLOOKUP(B3416,[1]export_1465921594229!$D3417:$G12677,4,FALSE)","v":"DRP-125147"},"DRP"]
[null,"George Basil",{"$f":"VLOOKUP(B3417,[1]export_1465921594229!$D3418:$G12678,4,FALSE)","v":"B9Y-123814"},"B9Y"]
[null,"George Brian",{"$f":"VLOOKUP(B3418,[1]export_1465921594229!$D3419:$G12679,4,FALSE)","v":"FZ2-118809"},"FZ2"]
[null,"George Niranjan",{"$f":"VLOOKUP(B3419,[1]export_1465921594229!$D3420:$G12680,4,FALSE)","v":"B5I-123701"},"B5I"]
[null,"George Sean",{"$f":"VLOOKUP(B3420,[1]export_1465921594229!$D3421:$G12681,4,FALSE)","v":"D7F-125538"},"D7F"]
[null,"George-Lodge Selucia",{"$f":"VLOOKUP(B3421,[1]export_1465921594229!$D3422:$G12682,4,FALSE)","v":"CB1-121731"},"CB1"]
[null,"George-Lodge Selucia",{"$f":"VLOOKUP(B3422,[1]export_1465921594229!$D3423:$G12683,4,FALSE)","v":"CB2-118278"},"CB2"]
[null,"Georgiopoulos George",{"$f":"VLOOKUP(B3423,[1]export_1465921594229!$D3424:$G12684,4,FALSE)","v":"BDC-550641"},"BDC"]
[null,"Gera Manoj Kumar",{"$f":"VLOOKUP(B3424,[1]export_1465921594229!$D3425:$G12685,4,FALSE)","v":"JM3-116536"},"JM3"]
[null,"Geraci Anthony",{"$f":"VLOOKUP(B3425,[1]export_1465921594229!$D3426:$G12686,4,FALSE)","v":"T65-120533"},"T65"]
[null,"Gerard Michel",{"$f":"VLOOKUP(B3426,[1]export_1465921594229!$D3427:$G12687,4,FALSE)","v":"211-122406"},"211"]
[null,"Gerencser Karen",{"$f":"VLOOKUP(B3427,[1]export_1465921594229!$D3428:$G12688,4,FALSE)","v":"CRQ-124247"},"CRQ"]
[null,"Germain Alain",{"$f":"VLOOKUP(B3428,[1]export_1465921594229!$D3429:$G12689,4,FALSE)","v":"D08-121561"},"D08"]
[null,"Germain Dany",{"$f":"VLOOKUP(B3429,[1]export_1465921594229!$D3430:$G12690,4,FALSE)","v":"I67-121105"},"I67"]
[null,"Germain Eveline",{"$f":"VLOOKUP(B3430,[1]export_1465921594229!$D3431:$G12691,4,FALSE)","v":"C60-120120"},"C60"]
[null,"Germain Ronald",{"$f":"VLOOKUP(B3431,[1]export_1465921594229!$D3432:$G12692,4,FALSE)","v":"D7B-125534"},"D7B"]
[null,"GERRETT LISA",{"$f":"VLOOKUP(B3432,[1]export_1465921594229!$D3433:$G12693,4,FALSE)","v":"DQR-125125"},"DQR"]
[null,"GERRETT LISA",{"$f":"VLOOKUP(B3433,[1]export_1465921594229!$D3434:$G12694,4,FALSE)","v":"CMB-502194"},"CMB"]
[null,"GERRETT LISA",{"$f":"VLOOKUP(B3434,[1]export_1465921594229!$D3435:$G12695,4,FALSE)","v":"DQS-125126"},"DQS"]
[null,"Gerrior Arthur B",{"$f":"VLOOKUP(B3435,[1]export_1465921594229!$D3436:$G12696,4,FALSE)","v":"MQ6-119435"},"MQ6"]
[null,"Gerrior Arthur B",{"$f":"VLOOKUP(B3436,[1]export_1465921594229!$D3437:$G12697,4,FALSE)","v":"MQ5-119434"},"MQ5"]
[null,"Gervais Carole",{"$f":"VLOOKUP(B3437,[1]export_1465921594229!$D3438:$G12698,4,FALSE)","v":"JX4-116607"},"JX4"]
[null,"Gervais Claire",{"$f":"VLOOKUP(B3438,[1]export_1465921594229!$D3439:$G12699,4,FALSE)","v":"555-120266"},"555"]
[null,"Gervais Emilien",{"$f":"VLOOKUP(B3439,[1]export_1465921594229!$D3440:$G12700,4,FALSE)","v":"H53-121291"},"H53"]
[null,"Gervais Jonathan",{"$f":"VLOOKUP(B3440,[1]export_1465921594229!$D3441:$G12701,4,FALSE)","v":"A67-122007"},"A67"]
[null,"Gervais Louise",{"$f":"VLOOKUP(B3441,[1]export_1465921594229!$D3442:$G12702,4,FALSE)","v":"652-122170"},"652"]
[null,"Gestion F.A.R. Inc. Robert Ladouceur",{"$f":"VLOOKUP(B3442,[1]export_1465921594229!$D3443:$G12703,4,FALSE)","v":"L13-116791"},"L13"]
[null,"Ghabeli Fatah",{"$f":"VLOOKUP(B3443,[1]export_1465921594229!$D3444:$G12704,4,FALSE)","v":"DHU-124900"},"DHU"]
[null,"GHALAKHANI SHAHNAZ",{"$f":"VLOOKUP(B3444,[1]export_1465921594229!$D3445:$G12705,4,FALSE)","v":"CBX-123864"},"CBX"]
[null,"Ghandour Alexandre",{"$f":"VLOOKUP(B3445,[1]export_1465921594229!$D3446:$G12706,4,FALSE)","v":"B9Q-123806"},"B9Q"]
[null,"Ghofari Alfred",{"$f":"VLOOKUP(B3446,[1]export_1465921594229!$D3447:$G12707,4,FALSE)","v":"QV9-117805"},"QV9"]
[null,"Ghuman Varinderpal",{"$f":"VLOOKUP(B3447,[1]export_1465921594229!$D3448:$G12708,4,FALSE)","v":"CJA-124040"},"CJA"]
[null,"Giannini Alessandra",{"$f":"VLOOKUP(B3448,[1]export_1465921594229!$D3449:$G12709,4,FALSE)","v":"B6C-123719"},"B6C"]
[null,"Giannini Alessandra",{"$f":"VLOOKUP(B3449,[1]export_1465921594229!$D3450:$G12710,4,FALSE)","v":"CED-123918"},"CED"]
[null,"Giard Pierre",{"$f":"VLOOKUP(B3450,[1]export_1465921594229!$D3451:$G12711,4,FALSE)","v":"P81-120671"},"P81"]
[null,"Gibara Steven",{"$f":"VLOOKUP(B3451,[1]export_1465921594229!$D3452:$G12712,4,FALSE)","v":"DWI-125266"},"DWI"]
[null,"Gibb Marian",{"$f":"VLOOKUP(B3452,[1]export_1465921594229!$D3453:$G12713,4,FALSE)","v":"OF9-117317"},"OF9"]
[null,"Gibbons Roger",{"$f":"VLOOKUP(B3453,[1]export_1465921594229!$D3454:$G12714,4,FALSE)","v":"LZ1-116942"},"LZ1"]
[null,"Gibeault Carole",{"$f":"VLOOKUP(B3454,[1]export_1465921594229!$D3455:$G12715,4,FALSE)","v":"241-122424"},"241"]
[null,"Gibeault Guy",{"$f":"VLOOKUP(B3455,[1]export_1465921594229!$D3456:$G12716,4,FALSE)","v":"156-120407"},"156"]
[null,"Gibouleau Chantal",{"$f":"VLOOKUP(B3456,[1]export_1465921594229!$D3457:$G12717,4,FALSE)","v":"DW6-115922"},"DW6"]
[null,"Gibson Earl",{"$f":"VLOOKUP(B3457,[1]export_1465921594229!$D3458:$G12718,4,FALSE)","v":"IK6-121135"},"IK6"]
[null,"Gibson Earl",{"$f":"VLOOKUP(B3458,[1]export_1465921594229!$D3459:$G12719,4,FALSE)","v":"QB4-120709"},{"$f":"LEFT(C3458,3)","v":"QB4"}]
[null,"Gibson Earl",{"$f":"VLOOKUP(B3459,[1]export_1465921594229!$D3460:$G12720,4,FALSE)","v":"JN8-121054"},"JN8"]
[null,"Gibson Earl",{"$f":"VLOOKUP(B3460,[1]export_1465921594229!$D3461:$G12721,4,FALSE)","v":"NS6-120725"},"NS6"]
[null,"Gibson Earl",{"$f":"VLOOKUP(B3461,[1]export_1465921594229!$D3462:$G12722,4,FALSE)","v":"LG0-120960"},"LG0"]
[null,"Gibson Earl",{"$f":"VLOOKUP(B3462,[1]export_1465921594229!$D3463:$G12723,4,FALSE)","v":"NS5-120724"},"NS5"]
[null,"Gibson Gregory",{"$f":"VLOOKUP(B3463,[1]export_1465921594229!$D3464:$G12724,4,FALSE)","v":"AI7-122060"},"AI7"]
[null,"Gibson Patrick",{"$f":"VLOOKUP(B3464,[1]export_1465921594229!$D3465:$G12725,4,FALSE)","v":"BGW-600075"},"BGW"]
[null,"Giffin(The Giffin Group) James",{"$f":"VLOOKUP(B3465,[1]export_1465921594229!$D3466:$G12726,4,FALSE)","v":"DAU-124723"},"DAU"]
[null,"Giganto Mercy Grace",{"$f":"VLOOKUP(B3466,[1]export_1465921594229!$D3467:$G12727,4,FALSE)","v":"DHE-124886"},"DHE"]
[null,"Gignac Bruno",{"$f":"VLOOKUP(B3467,[1]export_1465921594229!$D3468:$G12728,4,FALSE)","v":"DR0-118428"},"DR0"]
[null,"Gignac Christian",{"$f":"VLOOKUP(B3468,[1]export_1465921594229!$D3469:$G12729,4,FALSE)","v":"RG5-119836"},"RG5"]
[null,"Gignac Guy",{"$f":"VLOOKUP(B3469,[1]export_1465921594229!$D3470:$G12730,4,FALSE)","v":"BX0-118266"},"BX0"]
[null,"Gignac Michel",{"$f":"VLOOKUP(B3470,[1]export_1465921594229!$D3471:$G12731,4,FALSE)","v":"F90-118676"},"F90"]
[null,"Gignac Michel",{"$f":"VLOOKUP(B3471,[1]export_1465921594229!$D3472:$G12732,4,FALSE)","v":"C02-115809"},"C02"]
[null,"Giguere Charles-Etienne",{"$f":"VLOOKUP(B3472,[1]export_1465921594229!$D3473:$G12733,4,FALSE)","v":"CE5-118288"},"CE5"]
[null,"Giguere Francois",{"$f":"VLOOKUP(B3473,[1]export_1465921594229!$D3474:$G12734,4,FALSE)","v":"235-122420"},"235"]
[null,"Giguere Huguette",{"$f":"VLOOKUP(B3474,[1]export_1465921594229!$D3475:$G12735,4,FALSE)","v":"J04-119169"},"J04"]
[null,"Giguere Jean-Denis",{"$f":"VLOOKUP(B3475,[1]export_1465921594229!$D3476:$G12736,4,FALSE)","v":"GN1-118912"},"GN1"]
[null,"Giguere Nicole",{"$f":"VLOOKUP(B3476,[1]export_1465921594229!$D3477:$G12737,4,FALSE)","v":"528-122221"},"528"]
[null,"Gilbert Chantal",{"$f":"VLOOKUP(B3477,[1]export_1465921594229!$D3478:$G12738,4,FALSE)","v":"X11-120506"},"X11"]
[null,"Gilbert Chantal",{"$f":"VLOOKUP(B3478,[1]export_1465921594229!$D3479:$G12739,4,FALSE)","v":"638-122161"},"638"]
[null,"Gilbert Denis",{"$f":"VLOOKUP(B3479,[1]export_1465921594229!$D3480:$G12740,4,FALSE)","v":"QS8-117779"},"QS8"]
[null,"Gilbert Esthel",{"$f":"VLOOKUP(B3480,[1]export_1465921594229!$D3481:$G12741,4,FALSE)","v":"G91-660401"},"G91"]
[null,"Gilbert Esthel",{"$f":"VLOOKUP(B3481,[1]export_1465921594229!$D3482:$G12742,4,FALSE)","v":"GO1-118919"},"GO1"]
[null,"Gilbert Jean-Sebastien",{"$f":"VLOOKUP(B3482,[1]export_1465921594229!$D3483:$G12743,4,FALSE)","v":"O86-660586"},"O86"]
[null,"Gilbert Michel",{"$f":"VLOOKUP(B3483,[1]export_1465921594229!$D3484:$G12744,4,FALSE)","v":"U12-120544"},"U12"]
[null,"Gilbert Pierre",{"$f":"VLOOKUP(B3484,[1]export_1465921594229!$D3485:$G12745,4,FALSE)","v":"H28-660457"},"H28"]
[null,"Gilbert Richard",{"$f":"VLOOKUP(B3485,[1]export_1465921594229!$D3486:$G12746,4,FALSE)","v":"N88-117139"},"N88"]
[null,"Gill Ajay",{"$f":"VLOOKUP(B3486,[1]export_1465921594229!$D3487:$G12747,4,FALSE)","v":"KJ2-116705"},"KJ2"]
[null,"Gill Angella",{"$f":"VLOOKUP(B3487,[1]export_1465921594229!$D3488:$G12748,4,FALSE)","v":"B0X-123590"},"B0X"]
[null,"Gill Bakhshish",{"$f":"VLOOKUP(B3488,[1]export_1465921594229!$D3489:$G12749,4,FALSE)","v":"DNL-125041"},"DNL"]
[null,"Gill Balvir",{"$f":"VLOOKUP(B3489,[1]export_1465921594229!$D3490:$G12750,4,FALSE)","v":"PD5-117479"},"PD5"]
[null,"Gill Davinder",{"$f":"VLOOKUP(B3490,[1]export_1465921594229!$D3491:$G12751,4,FALSE)","v":"HF7-119027"},"HF7"]
[null,"Gill Harjinder",{"$f":"VLOOKUP(B3491,[1]export_1465921594229!$D3492:$G12752,4,FALSE)","v":"BCI-550409"},"BCI"]
[null,"Gill Harjit Singh",{"$f":"VLOOKUP(B3492,[1]export_1465921594229!$D3493:$G12753,4,FALSE)","v":"IG5-116353"},"IG5"]
[null,"Gill Jasdip",{"$f":"VLOOKUP(B3493,[1]export_1465921594229!$D3494:$G12754,4,FALSE)","v":"CBD-123844"},"CBD"]
[null,"Gill Jaspreet",{"$f":"VLOOKUP(B3494,[1]export_1465921594229!$D3495:$G12755,4,FALSE)","v":"KO6-116738"},"KO6"]
[null,"Gill Kuldeep",{"$f":"VLOOKUP(B3495,[1]export_1465921594229!$D3496:$G12756,4,FALSE)","v":"BCG-550408"},"BCG"]
[null,"Gill Pawandeep",{"$f":"VLOOKUP(B3496,[1]export_1465921594229!$D3497:$G12757,4,FALSE)","v":"BIQ-123220"},"BIQ"]
[null,"Gillespie Robert",{"$f":"VLOOKUP(B3497,[1]export_1465921594229!$D3498:$G12758,4,FALSE)","v":"BNQ-020877"},"BNQ"]
[null,"Ginchereau Richard",{"$f":"VLOOKUP(B3498,[1]export_1465921594229!$D3499:$G12759,4,FALSE)","v":"247-122429"},"247"]
[null,"Gingras Chantal",{"$f":"VLOOKUP(B3499,[1]export_1465921594229!$D3500:$G12760,4,FALSE)","v":"A62-122004"},"A62"]
[null,"Gingras Christian",{"$f":"VLOOKUP(B3500,[1]export_1465921594229!$D3501:$G12761,4,FALSE)","v":"C4R-124571"},"C4R"]
[null,"Gingras Eric",{"$f":"VLOOKUP(B3501,[1]export_1465921594229!$D3502:$G12762,4,FALSE)","v":"BE8-121838"},"BE8"]
[null,"Gingras Jacqueline",{"$f":"VLOOKUP(B3502,[1]export_1465921594229!$D3503:$G12763,4,FALSE)","v":"131-122473"},"131"]
[null,"Gingras Paul-Andre",{"$f":"VLOOKUP(B3503,[1]export_1465921594229!$D3504:$G12764,4,FALSE)","v":"GL7-118902"},"GL7"]
[null,"Gique Leo",{"$f":"VLOOKUP(B3504,[1]export_1465921594229!$D3505:$G12765,4,FALSE)","v":"CN4-121630"},"CN4"]
[null,"Girard Alain Patrick",{"$f":"VLOOKUP(B3505,[1]export_1465921594229!$D3506:$G12766,4,FALSE)","v":"A02-122093"},"A02"]
[null,"Girard Christian",{"$f":"VLOOKUP(B3506,[1]export_1465921594229!$D3507:$G12767,4,FALSE)","v":"AP0-660508"},"AP0"]
[null,"Girard Crystal",{"$f":"VLOOKUP(B3507,[1]export_1465921594229!$D3508:$G12768,4,FALSE)","v":"D6H-125515"},"D6H"]
[null,"Girard Jean-Denis",{"$f":"VLOOKUP(B3508,[1]export_1465921594229!$D3509:$G12769,4,FALSE)","v":"432-120340"},"432"]
[null,"Girard Johanne",{"$f":"VLOOKUP(B3509,[1]export_1465921594229!$D3510:$G12770,4,FALSE)","v":"X59-120521"},"X59"]
[null,"Girard Lina",{"$f":"VLOOKUP(B3510,[1]export_1465921594229!$D3511:$G12771,4,FALSE)","v":"M29-120859"},"M29"]
[null,"Girard Luc",{"$f":"VLOOKUP(B3511,[1]export_1465921594229!$D3512:$G12772,4,FALSE)","v":"I63-121103"},"I63"]
[null,"Girard Marc-Andre",{"$f":"VLOOKUP(B3512,[1]export_1465921594229!$D3513:$G12773,4,FALSE)","v":"P58-660020"},"P58"]
[null,"Girard Nathalie",{"$f":"VLOOKUP(B3513,[1]export_1465921594229!$D3514:$G12774,4,FALSE)","v":"GD2-121241"},"GD2"]
[null,"Girard Nicole",{"$f":"VLOOKUP(B3514,[1]export_1465921594229!$D3515:$G12775,4,FALSE)","v":"433-122306"},"433"]
[null,"Girard Sylvain",{"$f":"VLOOKUP(B3515,[1]export_1465921594229!$D3516:$G12776,4,FALSE)","v":"BT1-121756"},"BT1"]
[null,"Girgis Maira",{"$f":"VLOOKUP(B3516,[1]export_1465921594229!$D3517:$G12777,4,FALSE)","v":"D0K-125367"},"D0K"]
[null,"Girolamo John",{"$f":"VLOOKUP(B3517,[1]export_1465921594229!$D3518:$G12778,4,FALSE)","v":"E47-118499"},"E47"]
[null,"Girouard Guy",{"$f":"VLOOKUP(B3518,[1]export_1465921594229!$D3519:$G12779,4,FALSE)","v":"DGE-124861"},"DGE"]
[null,"Girouard Marcel",{"$f":"VLOOKUP(B3519,[1]export_1465921594229!$D3520:$G12780,4,FALSE)","v":"K56-121097"},"K56"]
[null,"Giroux Chantale",{"$f":"VLOOKUP(B3520,[1]export_1465921594229!$D3521:$G12781,4,FALSE)","v":"H43-660412"},"H43"]
[null,"Giroux Denis",{"$f":"VLOOKUP(B3521,[1]export_1465921594229!$D3522:$G12782,4,FALSE)","v":"953-115630"},"953"]
[null,"Giroux Denis",{"$f":"VLOOKUP(B3522,[1]export_1465921594229!$D3523:$G12783,4,FALSE)","v":"DZI-125340"},{"$f":"LEFT(C3522,3)","v":"DZI"}]
[null,"Giroux Eric",{"$f":"VLOOKUP(B3523,[1]export_1465921594229!$D3524:$G12784,4,FALSE)","v":"C1P-124496"},"C1P"]
[null,"Giroux Francois",{"$f":"VLOOKUP(B3524,[1]export_1465921594229!$D3525:$G12785,4,FALSE)","v":"HL9-116222"},"HL9"]
[null,"Giroux Helene",{"$f":"VLOOKUP(B3525,[1]export_1465921594229!$D3526:$G12786,4,FALSE)","v":"B24-121890"},"B24"]
[null,"Giroux Jean-Francoys",{"$f":"VLOOKUP(B3526,[1]export_1465921594229!$D3527:$G12787,4,FALSE)","v":"132-122474"},"132"]
[null,"Giroux Josee",{"$f":"VLOOKUP(B3527,[1]export_1465921594229!$D3528:$G12788,4,FALSE)","v":"626-122152"},"626"]
[null,"Giroux Miguel",{"$f":"VLOOKUP(B3528,[1]export_1465921594229!$D3529:$G12789,4,FALSE)","v":"DPU-125102"},"DPU"]
[null,"Giroux Simon",{"$f":"VLOOKUP(B3529,[1]export_1465921594229!$D3530:$G12790,4,FALSE)","v":"AS3-660643"},"AS3"]
[null,"Giroux Suzanne",{"$f":"VLOOKUP(B3530,[1]export_1465921594229!$D3531:$G12791,4,FALSE)","v":"V24-119955"},"V24"]
[null,"Giroux Suzie",{"$f":"VLOOKUP(B3531,[1]export_1465921594229!$D3532:$G12792,4,FALSE)","v":"FI1-116022"},"FI1"]
[null,"Giroux Suzie",{"$f":"VLOOKUP(B3532,[1]export_1465921594229!$D3533:$G12793,4,FALSE)","v":"G78-120172"},"G78"]
[null,"Gisbert Suzanne",{"$f":"VLOOKUP(B3533,[1]export_1465921594229!$D3534:$G12794,4,FALSE)","v":"U66-550104"},"U66"]
[null,"Gladstone David Philip",{"$f":"VLOOKUP(B3534,[1]export_1465921594229!$D3535:$G12795,4,FALSE)","v":"Z13-120056"},"Z13"]
[null,"Glass David",{"$f":"VLOOKUP(B3535,[1]export_1465921594229!$D3536:$G12796,4,FALSE)","v":"BGC-550478"},"BGC"]
[null,"Glassman Randi",{"$f":"VLOOKUP(B3536,[1]export_1465921594229!$D3537:$G12797,4,FALSE)","v":"KT5-116758"},"KT5"]
[null,"Gleeson Nora",{"$f":"VLOOKUP(B3537,[1]export_1465921594229!$D3538:$G12798,4,FALSE)","v":"BTJ-123426"},"BTJ"]
[null,"Gleeson Nora",{"$f":"VLOOKUP(B3538,[1]export_1465921594229!$D3539:$G12799,4,FALSE)","v":"PA8-502198"},"PA8"]
[null,"Globensky Curadeau Stephanie",{"$f":"VLOOKUP(B3539,[1]export_1465921594229!$D3540:$G12800,4,FALSE)","v":"QF0-117682"},"QF0"]
[null,"Glukhareva Iryna",{"$f":"VLOOKUP(B3540,[1]export_1465921594229!$D3541:$G12801,4,FALSE)","v":"P06-120769"},"P06"]
[null,"Gluska Dennis",{"$f":"VLOOKUP(B3541,[1]export_1465921594229!$D3542:$G12802,4,FALSE)","v":"U09-119913"},"U09"]
[null,"Gnanachchemmal Arththik",{"$f":"VLOOKUP(B3542,[1]export_1465921594229!$D3543:$G12803,4,FALSE)","v":"DUM-125218"},"DUM"]
[null,"Gobeil Marc",{"$f":"VLOOKUP(B3543,[1]export_1465921594229!$D3544:$G12804,4,FALSE)","v":"C70-120123"},"C70"]
[null,"Goberdhan Mohan",{"$f":"VLOOKUP(B3544,[1]export_1465921594229!$D3545:$G12805,4,FALSE)","v":"BAK-550044"},"BAK"]
[null,"Gobin Guruduth",{"$f":"VLOOKUP(B3545,[1]export_1465921594229!$D3546:$G12806,4,FALSE)","v":"AC3-115728"},"AC3"]
[null,"Goddard Paul",{"$f":"VLOOKUP(B3546,[1]export_1465921594229!$D3547:$G12807,4,FALSE)","v":"JP7-119217"},"JP7"]
[null,"Godfrey Sheri",{"$f":"VLOOKUP(B3547,[1]export_1465921594229!$D3548:$G12808,4,FALSE)","v":"DDJ-502244"},"DDJ"]
[null,"Godin Gilles",{"$f":"VLOOKUP(B3548,[1]export_1465921594229!$D3549:$G12809,4,FALSE)","v":"M74-120876"},"M74"]
[null,"Godin Gisele",{"$f":"VLOOKUP(B3549,[1]export_1465921594229!$D3550:$G12810,4,FALSE)","v":"F80-118673"},"F80"]
[null,"Godin Louise",{"$f":"VLOOKUP(B3550,[1]export_1465921594229!$D3551:$G12811,4,FALSE)","v":"038-122537"},"038"]
[null,"Godin Preston",{"$f":"VLOOKUP(B3551,[1]export_1465921594229!$D3552:$G12812,4,FALSE)","v":"AV2-660581"},"AV2"]
[null,"Godin Romeo",{"$f":"VLOOKUP(B3552,[1]export_1465921594229!$D3553:$G12813,4,FALSE)","v":{"$error":"#N/A"}},{"$error":"#N/A"}]
[null,"Godin Yves",{"$f":"VLOOKUP(B3553,[1]export_1465921594229!$D3554:$G12814,4,FALSE)","v":"BF1-121839"},"BF1"]
[null,"Goel Ashwani",{"$f":"VLOOKUP(B3554,[1]export_1465921594229!$D3555:$G12815,4,FALSE)","v":"BW2-550334"},"BW2"]
[null,"Goel Sagun",{"$f":"VLOOKUP(B3555,[1]export_1465921594229!$D3556:$G12816,4,FALSE)","v":"CYT-124423"},"CYT"]
[null,"Goffart Guy",{"$f":"VLOOKUP(B3556,[1]export_1465921594229!$D3557:$G12817,4,FALSE)","v":"C11-121788"},"C11"]
[null,"Goffart Guy",{"$f":"VLOOKUP(B3557,[1]export_1465921594229!$D3558:$G12818,4,FALSE)","v":"D35-121577"},"D35"]
[null,"Gohier Josee",{"$f":"VLOOKUP(B3558,[1]export_1465921594229!$D3559:$G12819,4,FALSE)","v":"463-120357"},"463"]
[null,"Goldhar Daniel",{"$f":"VLOOKUP(B3559,[1]export_1465921594229!$D3560:$G12820,4,FALSE)","v":"B7E-123746"},"B7E"]
[null,"Goldshmidt Gary",{"$f":"VLOOKUP(B3560,[1]export_1465921594229!$D3561:$G12821,4,FALSE)","v":"NK6-117207"},"NK6"]
[null,"Golizadeh Peyman",{"$f":"VLOOKUP(B3561,[1]export_1465921594229!$D3562:$G12822,4,FALSE)","v":"GP2-118924"},"GP2"]
[null,"Goloborodov Igor",{"$f":"VLOOKUP(B3562,[1]export_1465921594229!$D3563:$G12823,4,FALSE)","v":"CUV-124325"},"CUV"]
[null,"Golzay Attal",{"$f":"VLOOKUP(B3563,[1]export_1465921594229!$D3564:$G12824,4,FALSE)","v":"IP4-116397"},"IP4"]
[null,"Gomes Maria Gloria C",{"$f":"VLOOKUP(B3564,[1]export_1465921594229!$D3565:$G12825,4,FALSE)","v":"MS3-117091"},"MS3"]
[null,"Gomes Paulo",{"$f":"VLOOKUP(B3565,[1]export_1465921594229!$D3566:$G12826,4,FALSE)","v":"DQV-125129"},"DQV"]
[null,"Gomez Julio",{"$f":"VLOOKUP(B3566,[1]export_1465921594229!$D3567:$G12827,4,FALSE)","v":"LR2-116894"},"LR2"]
[null,"Gomez Mary A.",{"$f":"VLOOKUP(B3567,[1]export_1465921594229!$D3568:$G12828,4,FALSE)","v":"D4B-125459"},"D4B"]
[null,"Gomez Paulo Cesar",{"$f":"VLOOKUP(B3568,[1]export_1465921594229!$D3569:$G12829,4,FALSE)","v":"CZ0-660135"},"CZ0"]
[null,"Goncharenko Tetyana",{"$f":"VLOOKUP(B3569,[1]export_1465921594229!$D3570:$G12830,4,FALSE)","v":"MN1-117059"},"MN1"]
[null,"Goneau Jacques",{"$f":"VLOOKUP(B3570,[1]export_1465921594229!$D3571:$G12831,4,FALSE)","v":"M36-660108"},"M36"]
[null,"Gonio Wilmirissa",{"$f":"VLOOKUP(B3571,[1]export_1465921594229!$D3572:$G12832,4,FALSE)","v":"CGL-123977"},"CGL"]
[null,"Gonio Wilmirissa",{"$f":"VLOOKUP(B3572,[1]export_1465921594229!$D3573:$G12833,4,FALSE)","v":"LX4-116936"},"LX4"]
[null,"Gonthier Danielle",{"$f":"VLOOKUP(B3573,[1]export_1465921594229!$D3574:$G12834,4,FALSE)","v":"C2E-660052"},"C2E"]
[null,"Gonthier Danielle",{"$f":"VLOOKUP(B3574,[1]export_1465921594229!$D3575:$G12835,4,FALSE)","v":"EB8-124511"},"EB8"]
[null,"Gonthier Martin",{"$f":"VLOOKUP(B3575,[1]export_1465921594229!$D3576:$G12836,4,FALSE)","v":"DXG-660033"},"DXG"]
[null,"Gonthier Martin",{"$f":"VLOOKUP(B3576,[1]export_1465921594229!$D3577:$G12837,4,FALSE)","v":"DH9-115890"},"DH9"]
[null,"Gonzales George",{"$f":"VLOOKUP(B3577,[1]export_1465921594229!$D3578:$G12838,4,FALSE)","v":"LX0-116933"},"LX0"]
[null,"Gonzales Sherwin",{"$f":"VLOOKUP(B3578,[1]export_1465921594229!$D3579:$G12839,4,FALSE)","v":"JB5-118068"},"JB5"]
[null,"Gonzales Suzette",{"$f":"VLOOKUP(B3579,[1]export_1465921594229!$D3580:$G12840,4,FALSE)","v":"IZ9-121158"},"IZ9"]
[null,"Gonzales Yolanda",{"$f":"VLOOKUP(B3580,[1]export_1465921594229!$D3581:$G12841,4,FALSE)","v":"KE6-119244"},"KE6"]
[null,"Goode Jacqueline",{"$f":"VLOOKUP(B3581,[1]export_1465921594229!$D3582:$G12842,4,FALSE)","v":"487-122198"},"487"]
[null,"Goodfellow Skutezky Gail Evelyn",{"$f":"VLOOKUP(B3582,[1]export_1465921594229!$D3583:$G12843,4,FALSE)","v":"IH8-116361"},"IH8"]
[null,"Gopal Jeffrey",{"$f":"VLOOKUP(B3583,[1]export_1465921594229!$D3584:$G12844,4,FALSE)","v":"HB4-121184"},"HB4"]
[null,"Gopal Jeffrey",{"$f":"VLOOKUP(B3584,[1]export_1465921594229!$D3585:$G12845,4,FALSE)","v":"DC4-121494"},"DC4"]
[null,"Gopaul Anoshka",{"$f":"VLOOKUP(B3585,[1]export_1465921594229!$D3586:$G12846,4,FALSE)","v":"B6I-502141"},"B6I"]
[null,"Goraya Gaganpreet",{"$f":"VLOOKUP(B3586,[1]export_1465921594229!$D3587:$G12847,4,FALSE)","v":"CGT-123985"},{"$f":"LEFT(C3586,3)","v":"CGT"}]
[null,"Goraya Harpreet",{"$f":"VLOOKUP(B3587,[1]export_1465921594229!$D3588:$G12848,4,FALSE)","v":"BP5-550208"},"BP5"]
[null,"Gordon James",{"$f":"VLOOKUP(B3588,[1]export_1465921594229!$D3589:$G12849,4,FALSE)","v":"BVP-502325"},"BVP"]
[null,"Gorley Jean-Francois",{"$f":"VLOOKUP(B3589,[1]export_1465921594229!$D3590:$G12850,4,FALSE)","v":"C7Z-124652"},"C7Z"]
[null,"Gorodovych Valentyna",{"$f":"VLOOKUP(B3590,[1]export_1465921594229!$D3591:$G12851,4,FALSE)","v":"BFT-502305"},"BFT"]
[null,"Gosbee Donna",{"$f":"VLOOKUP(B3591,[1]export_1465921594229!$D3592:$G12852,4,FALSE)","v":"FF3-118709"},"FF3"]
[null,"Gosbee Donna",{"$f":"VLOOKUP(B3592,[1]export_1465921594229!$D3593:$G12853,4,FALSE)","v":"DBD-124732"},"DBD"]
[null,"Gosine Chaitanand",{"$f":"VLOOKUP(B3593,[1]export_1465921594229!$D3594:$G12854,4,FALSE)","v":"A7X-550836"},"A7X"]
[null,"Gosling Jordan",{"$f":"VLOOKUP(B3594,[1]export_1465921594229!$D3595:$G12855,4,FALSE)","v":"PN4-119654"},"PN4"]
[null,"Gosselin Andre",{"$f":"VLOOKUP(B3595,[1]export_1465921594229!$D3596:$G12856,4,FALSE)","v":"F85-121415"},"F85"]
[null,"Gosselin Eric F.",{"$f":"VLOOKUP(B3596,[1]export_1465921594229!$D3597:$G12857,4,FALSE)","v":"MP4-117070"},"MP4"]
[null,"Gosselin Gerard",{"$f":"VLOOKUP(B3597,[1]export_1465921594229!$D3598:$G12858,4,FALSE)","v":"I52-119104"},"I52"]
[null,"Gosselin Joe",{"$f":"VLOOKUP(B3598,[1]export_1465921594229!$D3599:$G12859,4,FALSE)","v":"DVF-125237"},"DVF"]
[null,"Gosselin Johanne",{"$f":"VLOOKUP(B3599,[1]export_1465921594229!$D3600:$G12860,4,FALSE)","v":"CG7-115833"},"CG7"]
[null,"Gosselin Marie Helsa",{"$f":"VLOOKUP(B3600,[1]export_1465921594229!$D3601:$G12861,4,FALSE)","v":"C07-121784"},"C07"]
[null,"Gosselin Michel",{"$f":"VLOOKUP(B3601,[1]export_1465921594229!$D3602:$G12862,4,FALSE)","v":"163-120410"},"163"]
[null,"Gosselin Michel",{"$f":"VLOOKUP(B3602,[1]export_1465921594229!$D3603:$G12863,4,FALSE)","v":"MV3-120897"},"MV3"]
[null,"Gosselin Michel",{"$f":"VLOOKUP(B3603,[1]export_1465921594229!$D3604:$G12864,4,FALSE)","v":"A05-122096"},"A05"]
[null,"Gosselin Nancy-Helene",{"$f":"VLOOKUP(B3604,[1]export_1465921594229!$D3605:$G12865,4,FALSE)","v":"K57-121098"},"K57"]
[null,"Gosselin Raynald",{"$f":"VLOOKUP(B3605,[1]export_1465921594229!$D3606:$G12866,4,FALSE)","v":"P70-120668"},"P70"]
[null,"Gosselin Steve",{"$f":"VLOOKUP(B3606,[1]export_1465921594229!$D3607:$G12867,4,FALSE)","v":"MV2-115635"},"MV2"]
[null,"Gosselin Steve",{"$f":"VLOOKUP(B3607,[1]export_1465921594229!$D3608:$G12868,4,FALSE)","v":"R29-117841"},"R29"]
[null,"Gosselin Yannick",{"$f":"VLOOKUP(B3608,[1]export_1465921594229!$D3609:$G12869,4,FALSE)","v":"CDP-123904"},"CDP"]
[null,"Gosselin Labrie Vincent",{"$f":"VLOOKUP(B3609,[1]export_1465921594229!$D3610:$G12870,4,FALSE)","v":"MW1-117116"},"MW1"]
[null,"Gotsulsky Lev",{"$f":"VLOOKUP(B3610,[1]export_1465921594229!$D3611:$G12871,4,FALSE)","v":"T54-119894"},"T54"]
[null,"Goudas Adrian",{"$f":"VLOOKUP(B3611,[1]export_1465921594229!$D3612:$G12872,4,FALSE)","v":"KI2-121005"},"KI2"]
[null,"Goudas Adrian",{"$f":"VLOOKUP(B3612,[1]export_1465921594229!$D3613:$G12873,4,FALSE)","v":"KO4-121015"},"KO4"]
[null,"Goudreau Maryse",{"$f":"VLOOKUP(B3613,[1]export_1465921594229!$D3614:$G12874,4,FALSE)","v":"CR1-115849"},"CR1"]
[null,"Goudreau Micheline",{"$f":"VLOOKUP(B3614,[1]export_1465921594229!$D3615:$G12875,4,FALSE)","v":"GR6-118935"},"GR6"]
[null,"Gough Joseph",{"$f":"VLOOKUP(B3615,[1]export_1465921594229!$D3616:$G12876,4,FALSE)","v":"IJ0-119134"},"IJ0"]
[null,"Gough Joseph",{"$f":"VLOOKUP(B3616,[1]export_1465921594229!$D3617:$G12877,4,FALSE)","v":"MH3-500615"},"MH3"]
[null,"Gouin Marie-Josee",{"$f":"VLOOKUP(B3617,[1]export_1465921594229!$D3618:$G12878,4,FALSE)","v":{"$error":"#N/A"}},{"$error":"#N/A"}]
[null,"Goulet Adrian",{"$f":"VLOOKUP(B3618,[1]export_1465921594229!$D3619:$G12879,4,FALSE)","v":"CRF-124236"},"CRF"]
[null,"Goulet Andre",{"$f":"VLOOKUP(B3619,[1]export_1465921594229!$D3620:$G12880,4,FALSE)","v":"EN5-115964"},"EN5"]
[null,"Goulet Benoit",{"$f":"VLOOKUP(B3620,[1]export_1465921594229!$D3621:$G12881,4,FALSE)","v":"732-115656"},"732"]
[null,"Goulet Benoit",{"$f":"VLOOKUP(B3621,[1]export_1465921594229!$D3622:$G12882,4,FALSE)","v":"AH4-118121"},"AH4"]
[null,"Goulet Daniel",{"$f":"VLOOKUP(B3622,[1]export_1465921594229!$D3623:$G12883,4,FALSE)","v":"EI9-660573"},"EI9"]
[null,"Goulet Daniel",{"$f":"VLOOKUP(B3623,[1]export_1465921594229!$D3624:$G12884,4,FALSE)","v":"DGG-124863"},"DGG"]
[null,"Goulet Danielle",{"$f":"VLOOKUP(B3624,[1]export_1465921594229!$D3625:$G12885,4,FALSE)","v":"063-120382"},"063"]
[null,"Goulet Louis",{"$f":"VLOOKUP(B3625,[1]export_1465921594229!$D3626:$G12886,4,FALSE)","v":"CRE-124235"},"CRE"]
[null,"Goulet Martin",{"$f":"VLOOKUP(B3626,[1]export_1465921594229!$D3627:$G12887,4,FALSE)","v":"FV5-116040"},"FV5"]
[null,"Goulet Pierre H.",{"$f":"VLOOKUP(B3627,[1]export_1465921594229!$D3628:$G12888,4,FALSE)","v":"AW0-118176"},"AW0"]
[null,"Goulet Roger",{"$f":"VLOOKUP(B3628,[1]export_1465921594229!$D3629:$G12889,4,FALSE)","v":"J14-116451"},"J14"]
[null,"Goulet Steve",{"$f":"VLOOKUP(B3629,[1]export_1465921594229!$D3630:$G12890,4,FALSE)","v":"T82-117923"},"T82"]
[null,"Goulet Sylvain",{"$f":"VLOOKUP(B3630,[1]export_1465921594229!$D3631:$G12891,4,FALSE)","v":"T81-117922"},"T81"]
[null,"Goulet Yvan",{"$f":"VLOOKUP(B3631,[1]export_1465921594229!$D3632:$G12892,4,FALSE)","v":"GG7-660321"},"GG7"]
[null,"Gounden Chandrarakanthi",{"$f":"VLOOKUP(B3632,[1]export_1465921594229!$D3633:$G12893,4,FALSE)","v":"JC5-119186"},"JC5"]
[null,"Gounden Chandrarakanthi",{"$f":"VLOOKUP(B3633,[1]export_1465921594229!$D3634:$G12894,4,FALSE)","v":"IN9-121140"},"IN9"]
[null,"Goupil Magalie",{"$f":"VLOOKUP(B3634,[1]export_1465921594229!$D3635:$G12895,4,FALSE)","v":"CUJ-600099"},"CUJ"]
[null,"Gourde Sarah-Sophie",{"$f":"VLOOKUP(B3635,[1]export_1465921594229!$D3636:$G12896,4,FALSE)","v":"C6B-124603"},"C6B"]
[null,"Gourdeau Godfrey de Beaulieu",{"$f":"VLOOKUP(B3636,[1]export_1465921594229!$D3637:$G12897,4,FALSE)","v":"Q84-119711"},"Q84"]
[null,"Gourgues Mario",{"$f":"VLOOKUP(B3637,[1]export_1465921594229!$D3638:$G12898,4,FALSE)","v":"615-120286"},"615"]
[null,"Govindasamy Dilipkumar",{"$f":"VLOOKUP(B3638,[1]export_1465921594229!$D3639:$G12899,4,FALSE)","v":"NH5-117186"},"NH5"]
[null,"Gowie Kevin",{"$f":"VLOOKUP(B3639,[1]export_1465921594229!$D3640:$G12900,4,FALSE)","v":"BRI-123382"},"BRI"]
[null,"Gowie Kevin",{"$f":"VLOOKUP(B3640,[1]export_1465921594229!$D3641:$G12901,4,FALSE)","v":"HC6-028349"},"HC6"]
[null,"Gowie Kevin",{"$f":"VLOOKUP(B3641,[1]export_1465921594229!$D3642:$G12902,4,FALSE)","v":"R94-119815"},"R94"]
[null,"Goyal Vibha",{"$f":"VLOOKUP(B3642,[1]export_1465921594229!$D3643:$G12903,4,FALSE)","v":"QN4-117736"},"QN4"]
[null,"Goyer Yves",{"$f":"VLOOKUP(B3643,[1]export_1465921594229!$D3644:$G12904,4,FALSE)","v":"069-120384"},"069"]
[null,"Goyette Denis",{"$f":"VLOOKUP(B3644,[1]export_1465921594229!$D3645:$G12905,4,FALSE)","v":"DU1-118441"},"DU1"]
[null,"Goyette Jocelyn",{"$f":"VLOOKUP(B3645,[1]export_1465921594229!$D3646:$G12906,4,FALSE)","v":"594-120281"},"594"]
[null,"Goyette Stephane",{"$f":"VLOOKUP(B3646,[1]export_1465921594229!$D3647:$G12907,4,FALSE)","v":"DL5-121529"},"DL5"]
[null,"Grabill Mark",{"$f":"VLOOKUP(B3647,[1]export_1465921594229!$D3648:$G12908,4,FALSE)","v":"PQ6-117592"},"PQ6"]
[null,"Graceffa Peter",{"$f":"VLOOKUP(B3648,[1]export_1465921594229!$D3649:$G12909,4,FALSE)","v":"RF5-550819"},"RF5"]
[null,"Grado Valerie",{"$f":"VLOOKUP(B3649,[1]export_1465921594229!$D3650:$G12910,4,FALSE)","v":{"$error":"#N/A"}},{"$error":"#N/A"}]
[null,"Graham Andre",{"$f":"VLOOKUP(B3650,[1]export_1465921594229!$D3651:$G12911,4,FALSE)","v":"BUI-123446"},{"$f":"LEFT(C3650,3)","v":"BUI"}]
[null,"Graham Charlotte",{"$f":"VLOOKUP(B3651,[1]export_1465921594229!$D3652:$G12912,4,FALSE)","v":"QS6-550905"},"QS6"]
[null,"Graham Nathaniel",{"$f":"VLOOKUP(B3652,[1]export_1465921594229!$D3653:$G12913,4,FALSE)","v":"JU6-116587"},"JU6"]
[null,"Graham Nicole",{"$f":"VLOOKUP(B3653,[1]export_1465921594229!$D3654:$G12914,4,FALSE)","v":"BON-123326"},"BON"]
[null,"Graillon Viviane",{"$f":"VLOOKUP(B3654,[1]export_1465921594229!$D3655:$G12915,4,FALSE)","v":"FR7-121316"},"FR7"]
[null,"Grainger Patricia",{"$f":"VLOOKUP(B3655,[1]export_1465921594229!$D3656:$G12916,4,FALSE)","v":"GR1-118932"},"GR1"]
[null,"Granada Glorina",{"$f":"VLOOKUP(B3656,[1]export_1465921594229!$D3657:$G12917,4,FALSE)","v":"LE6-116829"},"LE6"]
[null,"Granatstein Neil",{"$f":"VLOOKUP(B3657,[1]export_1465921594229!$D3658:$G12918,4,FALSE)","v":"S68-120632"},"S68"]
[null,"Grand Maison Danielle",{"$f":"VLOOKUP(B3658,[1]export_1465921594229!$D3659:$G12919,4,FALSE)","v":"H85-118991"},"H85"]
[null,"Grandmont Serge",{"$f":"VLOOKUP(B3659,[1]export_1465921594229!$D3660:$G12920,4,FALSE)","v":"W55-120489"},"W55"]
[null,"Granger Dayna",{"$f":"VLOOKUP(B3660,[1]export_1465921594229!$D3661:$G12921,4,FALSE)","v":"LG1-116839"},"LG1"]
[null,"Granger Francine",{"$f":"VLOOKUP(B3661,[1]export_1465921594229!$D3662:$G12922,4,FALSE)","v":"BJY-660325"},"BJY"]
[null,"Grant Bradley",{"$f":"VLOOKUP(B3662,[1]export_1465921594229!$D3663:$G12923,4,FALSE)","v":"HS3-329499"},"HS3"]
[null,"Grant Bradley",{"$f":"VLOOKUP(B3663,[1]export_1465921594229!$D3664:$G12924,4,FALSE)","v":"KA5-119238"},"KA5"]
[null,"Grant Bradley",{"$f":"VLOOKUP(B3664,[1]export_1465921594229!$D3665:$G12925,4,FALSE)","v":"DSA-429499"},"DSA"]
[null,"Grant Bradley",{"$f":"VLOOKUP(B3665,[1]export_1465921594229!$D3666:$G12926,4,FALSE)","v":"BRD-123377"},"BRD"]
[null,"Grant Bradley",{"$f":"VLOOKUP(B3666,[1]export_1465921594229!$D3667:$G12927,4,FALSE)","v":"BPV-029499"},"BPV"]
[null,"Grant Bradley",{"$f":"VLOOKUP(B3667,[1]export_1465921594229!$D3668:$G12928,4,FALSE)","v":"BRE-123378"},"BRE"]
[null,"Grant Eaton",{"$f":"VLOOKUP(B3668,[1]export_1465921594229!$D3669:$G12929,4,FALSE)","v":"CMJ-550320"},"CMJ"]
[null,"Grant Paul G.",{"$f":"VLOOKUP(B3669,[1]export_1465921594229!$D3670:$G12930,4,FALSE)","v":"AI8-118124"},"AI8"]
[null,"Gratton Linda Christine",{"$f":"VLOOKUP(B3670,[1]export_1465921594229!$D3671:$G12931,4,FALSE)","v":"Z83-120087"},"Z83"]
[null,"Gratton Sylvain",{"$f":"VLOOKUP(B3671,[1]export_1465921594229!$D3672:$G12932,4,FALSE)","v":"G05-118813"},"G05"]
[null,"Graunitz Lutz",{"$f":"VLOOKUP(B3672,[1]export_1465921594229!$D3673:$G12933,4,FALSE)","v":"N85-029381"},"N85"]
[null,"Graunitz Lutz",{"$f":"VLOOKUP(B3673,[1]export_1465921594229!$D3674:$G12934,4,FALSE)","v":"NP6-119498"},"NP6"]
[null,"Graunitz Lutz",{"$f":"VLOOKUP(B3674,[1]export_1465921594229!$D3675:$G12935,4,FALSE)","v":"JO3-329381"},"JO3"]
[null,"Graunitz Lutz",{"$f":"VLOOKUP(B3675,[1]export_1465921594229!$D3676:$G12936,4,FALSE)","v":"QB3-429381"},"QB3"]
[null,"Graunitz Lutz",{"$f":"VLOOKUP(B3676,[1]export_1465921594229!$D3677:$G12937,4,FALSE)","v":"NP3-119495"},"NP3"]
[null,"Gravel Celine",{"$f":"VLOOKUP(B3677,[1]export_1465921594229!$D3678:$G12938,4,FALSE)","v":"218-122412"},"218"]
[null,"Gravel Joceline",{"$f":"VLOOKUP(B3678,[1]export_1465921594229!$D3679:$G12939,4,FALSE)","v":"A84-122019"},"A84"]
[null,"Gravel Michel",{"$f":"VLOOKUP(B3679,[1]export_1465921594229!$D3680:$G12940,4,FALSE)","v":"K10-116622"},"K10"]
[null,"Gravel Rejean",{"$f":"VLOOKUP(B3680,[1]export_1465921594229!$D3681:$G12941,4,FALSE)","v":"Z12-660154"},"Z12"]
[null,"Gravelle Denis",{"$f":"VLOOKUP(B3681,[1]export_1465921594229!$D3682:$G12942,4,FALSE)","v":"S27-117899"},"S27"]
[null,"Gravelle Erik",{"$f":"VLOOKUP(B3682,[1]export_1465921594229!$D3683:$G12943,4,FALSE)","v":"Q78-119708"},"Q78"]
[null,"Gravenhorst Charry Karl Lenz",{"$f":"VLOOKUP(B3683,[1]export_1465921594229!$D3684:$G12944,4,FALSE)","v":"D0V-125378"},"D0V"]
[null,"Gray Melvin",{"$f":"VLOOKUP(B3684,[1]export_1465921594229!$D3685:$G12945,4,FALSE)","v":"CIF-124021"},"CIF"]
[null,"Gray Vinanso",{"$f":"VLOOKUP(B3685,[1]export_1465921594229!$D3686:$G12946,4,FALSE)","v":"CVG-124336"},"CVG"]
[null,"Greco Luigi",{"$f":"VLOOKUP(B3686,[1]export_1465921594229!$D3687:$G12947,4,FALSE)","v":"947-115628"},"947"]
[null,"Greco Luigi",{"$f":"VLOOKUP(B3687,[1]export_1465921594229!$D3688:$G12948,4,FALSE)","v":"AZ7-120212"},"AZ7"]
[null,"Green David",{"$f":"VLOOKUP(B3688,[1]export_1465921594229!$D3689:$G12949,4,FALSE)","v":"LH7-116852"},"LH7"]
[null,"Green Jonathan",{"$f":"VLOOKUP(B3689,[1]export_1465921594229!$D3690:$G12950,4,FALSE)","v":"D0O-125371"},"D0O"]
[null,"Greenberg Joel",{"$f":"VLOOKUP(B3690,[1]export_1465921594229!$D3691:$G12951,4,FALSE)","v":"KU0-116763"},"KU0"]
[null,"Greenham Jermaine",{"$f":"VLOOKUP(B3691,[1]export_1465921594229!$D3692:$G12952,4,FALSE)","v":"BHB-501690"},"BHB"]
[null,"Greer Martin",{"$f":"VLOOKUP(B3692,[1]export_1465921594229!$D3693:$G12953,4,FALSE)","v":"C27-121801"},"C27"]
[null,"Grefford Claude",{"$f":"VLOOKUP(B3693,[1]export_1465921594229!$D3694:$G12954,4,FALSE)","v":"GJ2-118892"},"GJ2"]
[null,"Grefford Guy",{"$f":"VLOOKUP(B3694,[1]export_1465921594229!$D3695:$G12955,4,FALSE)","v":"R91-550124"},"R91"]
[null,"Gregoire Andre",{"$f":"VLOOKUP(B3695,[1]export_1465921594229!$D3696:$G12956,4,FALSE)","v":"K15-121076"},"K15"]
[null,"Gregoire Eric",{"$f":"VLOOKUP(B3696,[1]export_1465921594229!$D3697:$G12957,4,FALSE)","v":"L17-121032"},"L17"]
[null,"Gregoire Jean",{"$f":"VLOOKUP(B3697,[1]export_1465921594229!$D3698:$G12958,4,FALSE)","v":"556-122240"},"556"]
[null,"Gregoire Jean-Jacques",{"$f":"VLOOKUP(B3698,[1]export_1465921594229!$D3699:$G12959,4,FALSE)","v":"683-120305"},"683"]
[null,"Gregoire Tommy",{"$f":"VLOOKUP(B3699,[1]export_1465921594229!$D3700:$G12960,4,FALSE)","v":"QS4-117775"},"QS4"]
[null,"Gregoire Louis",{"$f":"VLOOKUP(B3700,[1]export_1465921594229!$D3701:$G12961,4,FALSE)","v":{"$error":"#N/A"}},{"$error":"#N/A"}]
[null,"Gregoire Vincent",{"$f":"VLOOKUP(B3701,[1]export_1465921594229!$D3702:$G12962,4,FALSE)","v":{"$error":"#N/A"}},{"$error":"#N/A"}]
[null,"Greig Kenneth",{"$f":"VLOOKUP(B3702,[1]export_1465921594229!$D3703:$G12963,4,FALSE)","v":"BI7-118212"},"BI7"]
[null,"Greigson Brian",{"$f":"VLOOKUP(B3703,[1]export_1465921594229!$D3704:$G12964,4,FALSE)","v":"S45-119850"},"S45"]
[null,"Grenier Alain",{"$f":"VLOOKUP(B3704,[1]export_1465921594229!$D3705:$G12965,4,FALSE)","v":"L81-120939"},"L81"]
[null,"Grenier Annie",{"$f":"VLOOKUP(B3705,[1]export_1465921594229!$D3706:$G12966,4,FALSE)","v":"EZ6-121387"},"EZ6"]
[null,"Grenier Eric",{"$f":"VLOOKUP(B3706,[1]export_1465921594229!$D3707:$G12967,4,FALSE)","v":"Z58-118026"},"Z58"]
[null,"Grenier Jacques",{"$f":"VLOOKUP(B3707,[1]export_1465921594229!$D3708:$G12968,4,FALSE)","v":"BP3-118236"},"BP3"]
[null,"Grenier Janick",{"$f":"VLOOKUP(B3708,[1]export_1465921594229!$D3709:$G12969,4,FALSE)","v":"640-120297"},"640"]
[null,"Grenier Jocelyn",{"$f":"VLOOKUP(B3709,[1]export_1465921594229!$D3710:$G12970,4,FALSE)","v":"452-120351"},"452"]
[null,"Grenier Louise",{"$f":"VLOOKUP(B3710,[1]export_1465921594229!$D3711:$G12971,4,FALSE)","v":"222-122414"},"222"]
[null,"Grenier Melissa",{"$f":"VLOOKUP(B3711,[1]export_1465921594229!$D3712:$G12972,4,FALSE)","v":"E98-118533"},"E98"]
[null,"Grenon Serge",{"$f":"VLOOKUP(B3712,[1]export_1465921594229!$D3713:$G12973,4,FALSE)","v":"DNQ-125046"},"DNQ"]
[null,"Greschik Tanja",{"$f":"VLOOKUP(B3713,[1]export_1465921594229!$D3714:$G12974,4,FALSE)","v":"RC4-117871"},"RC4"]
[null,"Grewal Amardeep",{"$f":"VLOOKUP(B3714,[1]export_1465921594229!$D3715:$G12975,4,FALSE)","v":"CSG-124263"},{"$f":"LEFT(C3714,3)","v":"CSG"}]
[null,"Grewal Balraj Singh",{"$f":"VLOOKUP(B3715,[1]export_1465921594229!$D3716:$G12976,4,FALSE)","v":"NI7-117195"},"NI7"]
[null,"Grewal Gurpreet Kaur",{"$f":"VLOOKUP(B3716,[1]export_1465921594229!$D3717:$G12977,4,FALSE)","v":"BUT-123456"},"BUT"]
[null,"Grewal Jodhbir Singh",{"$f":"VLOOKUP(B3717,[1]export_1465921594229!$D3718:$G12978,4,FALSE)","v":"FF7-118711"},"FF7"]
[null,"Grewal Sajjan",{"$f":"VLOOKUP(B3718,[1]export_1465921594229!$D3719:$G12979,4,FALSE)","v":"JM9-119211"},"JM9"]
[null,"Grey Taryn",{"$f":"VLOOKUP(B3719,[1]export_1465921594229!$D3720:$G12980,4,FALSE)","v":"B6E-123721"},"B6E"]
[null,"Griffith Kenneth",{"$f":"VLOOKUP(B3720,[1]export_1465921594229!$D3721:$G12981,4,FALSE)","v":"OK9-119572"},"OK9"]
[null,"Griffith Kenneth",{"$f":"VLOOKUP(B3721,[1]export_1465921594229!$D3722:$G12982,4,FALSE)","v":"QE0-119750"},"QE0"]
[null,"Griffith Kenneth",{"$f":"VLOOKUP(B3722,[1]export_1465921594229!$D3723:$G12983,4,FALSE)","v":"QG4-119760"},"QG4"]
[null,"Griffith Merlene",{"$f":"VLOOKUP(B3723,[1]export_1465921594229!$D3724:$G12984,4,FALSE)","v":"CCR-123884"},"CCR"]
[null,"Grill Joseph",{"$f":"VLOOKUP(B3724,[1]export_1465921594229!$D3725:$G12985,4,FALSE)","v":"QT2-117783"},"QT2"]
[null,"Grimaldo Eduardo",{"$f":"VLOOKUP(B3725,[1]export_1465921594229!$D3726:$G12986,4,FALSE)","v":"B3B-123645"},"B3B"]
[null,"Grimard Roger",{"$f":"VLOOKUP(B3726,[1]export_1465921594229!$D3727:$G12987,4,FALSE)","v":"DXO-660078"},"DXO"]
[null,"Grimard Roger",{"$f":"VLOOKUP(B3727,[1]export_1465921594229!$D3728:$G12988,4,FALSE)","v":"R28-125298"},"R28"]
[null,"Groleau Jessika",{"$f":"VLOOKUP(B3728,[1]export_1465921594229!$D3729:$G12989,4,FALSE)","v":"A5G-122574"},"A5G"]
[null,"Groleau Martine",{"$f":"VLOOKUP(B3729,[1]export_1465921594229!$D3730:$G12990,4,FALSE)","v":"EG2-121464"},"EG2"]
[null,"Grondin Mathieu",{"$f":"VLOOKUP(B3730,[1]export_1465921594229!$D3731:$G12991,4,FALSE)","v":"QM5-117727"},"QM5"]
[null,"Grondin Michel",{"$f":"VLOOKUP(B3731,[1]export_1465921594229!$D3732:$G12992,4,FALSE)","v":"Q62-120695"},"Q62"]
[null,"Gronvold Diane",{"$f":"VLOOKUP(B3732,[1]export_1465921594229!$D3733:$G12993,4,FALSE)","v":"AP3-118153"},"AP3"]
[null,"Grosso Andre",{"$f":"VLOOKUP(B3733,[1]export_1465921594229!$D3734:$G12994,4,FALSE)","v":"Z16-118017"},"Z16"]
[null,"Groupe Conseil Giguere & Frechette Inc.",{"$f":"VLOOKUP(B3734,[1]export_1465921594229!$D3735:$G12995,4,FALSE)","v":"M60-116958"},"M60"]
[null,"Groupe Vezina & Associes Ltee",{"$f":"VLOOKUP(B3735,[1]export_1465921594229!$D3736:$G12996,4,FALSE)","v":"M98-120881"},"M98"]
[null,"Guay Danielle",{"$f":"VLOOKUP(B3736,[1]export_1465921594229!$D3737:$G12997,4,FALSE)","v":"R80-119811"},"R80"]
[null,"Guay Julie",{"$f":"VLOOKUP(B3737,[1]export_1465921594229!$D3738:$G12998,4,FALSE)","v":"DV3-660576"},"DV3"]
[null,"Guay Richard",{"$f":"VLOOKUP(B3738,[1]export_1465921594229!$D3739:$G12999,4,FALSE)","v":"Z43-120072"},"Z43"]
[null,"Guay Sebastien",{"$f":"VLOOKUP(B3739,[1]export_1465921594229!$D3740:$G13000,4,FALSE)","v":"BJ7-115782"},"BJ7"]
[null,"Guay Solange",{"$f":"VLOOKUP(B3740,[1]export_1465921594229!$D3741:$G13001,4,FALSE)","v":"DFC-124833"},"DFC"]
[null,"Guechida Mustapha",{"$f":"VLOOKUP(B3741,[1]export_1465921594229!$D3742:$G13002,4,FALSE)","v":"KX8-116785"},"KX8"]
[null,"Gueco Marivel",{"$f":"VLOOKUP(B3742,[1]export_1465921594229!$D3743:$G13003,4,FALSE)","v":"JH3-116502"},"JH3"]
[null,"Guenard Peter",{"$f":"VLOOKUP(B3743,[1]export_1465921594229!$D3744:$G13004,4,FALSE)","v":"MC6-116987"},"MC6"]
[null,"Guenette Marc",{"$f":"VLOOKUP(B3744,[1]export_1465921594229!$D3745:$G13005,4,FALSE)","v":"EN8-115965"},"EN8"]
[null,"Guerard Gilles",{"$f":"VLOOKUP(B3745,[1]export_1465921594229!$D3746:$G13006,4,FALSE)","v":"Z49-120075"},"Z49"]
[null,"Guerette Danielle",{"$f":"VLOOKUP(B3746,[1]export_1465921594229!$D3747:$G13007,4,FALSE)","v":"P47-120660"},"P47"]
[null,"Guerin Pierre",{"$f":"VLOOKUP(B3747,[1]export_1465921594229!$D3748:$G13008,4,FALSE)","v":"068-122559"},"068"]
[null,"Guerin Pierre",{"$f":"VLOOKUP(B3748,[1]export_1465921594229!$D3749:$G13009,4,FALSE)","v":"K33-121085"},"K33"]
[null,"Guerin Marc",{"$f":"VLOOKUP(B3749,[1]export_1465921594229!$D3750:$G13010,4,FALSE)","v":{"$error":"#N/A"}},{"$error":"#N/A"}]
[null,"Guerrero Brenda",{"$f":"VLOOKUP(B3750,[1]export_1465921594229!$D3751:$G13011,4,FALSE)","v":"LL1-116867"},"LL1"]
[null,"Guertin Denis",{"$f":"VLOOKUP(B3751,[1]export_1465921594229!$D3752:$G13012,4,FALSE)","v":"D98-118370"},"D98"]
[null,"Guevara Jorge",{"$f":"VLOOKUP(B3752,[1]export_1465921594229!$D3753:$G13013,4,FALSE)","v":"CWC-124357"},"CWC"]
[null,"Guevin Rejean",{"$f":"VLOOKUP(B3753,[1]export_1465921594229!$D3754:$G13014,4,FALSE)","v":"H87-118993"},"H87"]
[null,"Guevin Rejean",{"$f":"VLOOKUP(B3754,[1]export_1465921594229!$D3755:$G13015,4,FALSE)","v":"O31-120736"},"O31"]
[null,"Guilbault Chantal",{"$f":"VLOOKUP(B3755,[1]export_1465921594229!$D3756:$G13016,4,FALSE)","v":"S78-120636"},"S78"]
[null,"Guilbault Pauline",{"$f":"VLOOKUP(B3756,[1]export_1465921594229!$D3757:$G13017,4,FALSE)","v":"653-122171"},"653"]
[null,"Guilbert Michel",{"$f":"VLOOKUP(B3757,[1]export_1465921594229!$D3758:$G13018,4,FALSE)","v":"DP3-118420"},"DP3"]
[null,"Guilfoyle Ann",{"$f":"VLOOKUP(B3758,[1]export_1465921594229!$D3759:$G13019,4,FALSE)","v":"N21-500449"},"N21"]
[null,"Guillaume Stephane",{"$f":"VLOOKUP(B3759,[1]export_1465921594229!$D3760:$G13020,4,FALSE)","v":{"$error":"#N/A"}},{"$error":"#N/A"}]
[null,"Guillemette Alexandre",{"$f":"VLOOKUP(B3760,[1]export_1465921594229!$D3761:$G13021,4,FALSE)","v":"D5J-600114"},"D5J"]
[null,"Guillemette Charles",{"$f":"VLOOKUP(B3761,[1]export_1465921594229!$D3762:$G13022,4,FALSE)","v":"PV2-117627"},"PV2"]
[null,"Guillemette Daniel",{"$f":"VLOOKUP(B3762,[1]export_1465921594229!$D3763:$G13023,4,FALSE)","v":"HA3-119000"},"HA3"]
[null,"Guillemette Jeremie",{"$f":"VLOOKUP(B3763,[1]export_1465921594229!$D3764:$G13024,4,FALSE)","v":{"$error":"#N/A"}},{"$error":"#N/A"}]
[null,"Guillot Yves",{"$f":"VLOOKUP(B3764,[1]export_1465921594229!$D3765:$G13025,4,FALSE)","v":"Q89-119712"},"Q89"]
[null,"Guimond Daniel",{"$f":"VLOOKUP(B3765,[1]export_1465921594229!$D3766:$G13026,4,FALSE)","v":"089-120392"},"089"]
[null,"Guimont Diane",{"$f":"VLOOKUP(B3766,[1]export_1465921594229!$D3767:$G13027,4,FALSE)","v":"649-122168"},"649"]
[null,"Guimont Raymond",{"$f":"VLOOKUP(B3767,[1]export_1465921594229!$D3768:$G13028,4,FALSE)","v":"B15-121884"},"B15"]
[null,"Guitard Sylvain",{"$f":"VLOOKUP(B3768,[1]export_1465921594229!$D3769:$G13029,4,FALSE)","v":"U00-119909"},"U00"]
[null,"Gulati Ravinder",{"$f":"VLOOKUP(B3769,[1]export_1465921594229!$D3770:$G13030,4,FALSE)","v":"DS7-550590"},"DS7"]
[null,"Gulbet Tigest",{"$f":"VLOOKUP(B3770,[1]export_1465921594229!$D3771:$G13031,4,FALSE)","v":"KE4-116672"},"KE4"]
[null,"Gunam Ellalan",{"$f":"VLOOKUP(B3771,[1]export_1465921594229!$D3772:$G13032,4,FALSE)","v":"DR4-550392"},"DR4"]
[null,"Guntin Cowan Fabian",{"$f":"VLOOKUP(B3772,[1]export_1465921594229!$D3773:$G13033,4,FALSE)","v":"DJF-124936"},"DJF"]
[null,"Guo Zhenni",{"$f":"VLOOKUP(B3773,[1]export_1465921594229!$D3774:$G13034,4,FALSE)","v":"GN8-118917"},"GN8"]
[null,"Gupta Ankur",{"$f":"VLOOKUP(B3774,[1]export_1465921594229!$D3775:$G13035,4,FALSE)","v":"P26-120654"},"P26"]
[null,"Gupta Nandan",{"$f":"VLOOKUP(B3775,[1]export_1465921594229!$D3776:$G13036,4,FALSE)","v":"ON5-117363"},"ON5"]
[null,"Gupta Vinod",{"$f":"VLOOKUP(B3776,[1]export_1465921594229!$D3777:$G13037,4,FALSE)","v":"EQ4-118599"},"EQ4"]
[null,"Gupta Vivek",{"$f":"VLOOKUP(B3777,[1]export_1465921594229!$D3778:$G13038,4,FALSE)","v":"BP7-115796"},"BP7"]
[null,"Gurijala Vinod",{"$f":"VLOOKUP(B3778,[1]export_1465921594229!$D3779:$G13039,4,FALSE)","v":"IC8-116329"},{"$f":"LEFT(C3778,3)","v":"IC8"}]
[null,"Gurung Sobha",{"$f":"VLOOKUP(B3779,[1]export_1465921594229!$D3780:$G13040,4,FALSE)","v":"MU4-117106"},"MU4"]
[null,"Gutierrez Mario",{"$f":"VLOOKUP(B3780,[1]export_1465921594229!$D3781:$G13041,4,FALSE)","v":"CG1-118297"},"CG1"]
[null,"Gutierrez Cardenas Marcos Jose",{"$f":"VLOOKUP(B3781,[1]export_1465921594229!$D3782:$G13042,4,FALSE)","v":"X14-117990"},"X14"]
[null,"Gutierrez Urbina Arister",{"$f":"VLOOKUP(B3782,[1]export_1465921594229!$D3783:$G13043,4,FALSE)","v":"IN4-660402"},"IN4"]
[null,"Gutscher Brian",{"$f":"VLOOKUP(B3783,[1]export_1465921594229!$D3784:$G13044,4,FALSE)","v":"BQK-123359"},"BQK"]
[null,"Guyot Richard",{"$f":"VLOOKUP(B3784,[1]export_1465921594229!$D3785:$G13045,4,FALSE)","v":"BB9-118194"},"BB9"]
[null,"Guzman Osvaldo",{"$f":"VLOOKUP(B3785,[1]export_1465921594229!$D3786:$G13046,4,FALSE)","v":"BBR-123106"},"BBR"]
[null,"Ha Trong Cuong",{"$f":"VLOOKUP(B3786,[1]export_1465921594229!$D3787:$G13047,4,FALSE)","v":"CNC-124136"},"CNC"]
[null,"Habon Eugenio",{"$f":"VLOOKUP(B3787,[1]export_1465921594229!$D3788:$G13048,4,FALSE)","v":"B0D-123574"},"B0D"]
[null,"Hache Amedee",{"$f":"VLOOKUP(B3788,[1]export_1465921594229!$D3789:$G13049,4,FALSE)","v":"M18-116952"},"M18"]
[null,"Hache Benoit",{"$f":"VLOOKUP(B3789,[1]export_1465921594229!$D3790:$G13050,4,FALSE)","v":"M33-120861"},"M33"]
[null,"Hache Christian",{"$f":"VLOOKUP(B3790,[1]export_1465921594229!$D3791:$G13051,4,FALSE)","v":"U16-120546"},"U16"]
[null,"Hache Georges",{"$f":"VLOOKUP(B3791,[1]export_1465921594229!$D3792:$G13052,4,FALSE)","v":"LG3-116841"},"LG3"]
[null,"Hache Rene",{"$f":"VLOOKUP(B3792,[1]export_1465921594229!$D3793:$G13053,4,FALSE)","v":"LV4-116922"},"LV4"]
[null,"Haddad Pauline",{"$f":"VLOOKUP(B3793,[1]export_1465921594229!$D3794:$G13054,4,FALSE)","v":"X79-120045"},"X79"]
[null,"Haddaoui Noureddine",{"$f":"VLOOKUP(B3794,[1]export_1465921594229!$D3795:$G13055,4,FALSE)","v":"X17-117991"},"X17"]
[null,"Hader Christopher",{"$f":"VLOOKUP(B3795,[1]export_1465921594229!$D3796:$G13056,4,FALSE)","v":"BX9-121773"},"BX9"]
[null,"Hadloc Eliza",{"$f":"VLOOKUP(B3796,[1]export_1465921594229!$D3797:$G13057,4,FALSE)","v":"NH1-117184"},"NH1"]
[null,"Hadloc Eliza",{"$f":"VLOOKUP(B3797,[1]export_1465921594229!$D3798:$G13058,4,FALSE)","v":"CEQ-123931"},"CEQ"]
[null,"Haeck Michel",{"$f":"VLOOKUP(B3798,[1]export_1465921594229!$D3799:$G13059,4,FALSE)","v":"EX3-121382"},"EX3"]
[null,"Hael Charlito",{"$f":"VLOOKUP(B3799,[1]export_1465921594229!$D3800:$G13060,4,FALSE)","v":"U55-120558"},"U55"]
[null,"Hagan Andrew",{"$f":"VLOOKUP(B3800,[1]export_1465921594229!$D3801:$G13061,4,FALSE)","v":"LO0-120969"},"LO0"]
[null,"Hagan Andrew",{"$f":"VLOOKUP(B3801,[1]export_1465921594229!$D3802:$G13062,4,FALSE)","v":"LN9-550726"},"LN9"]
[null,"Hage-Chahine Jean",{"$f":"VLOOKUP(B3802,[1]export_1465921594229!$D3803:$G13063,4,FALSE)","v":"D44-121583"},"D44"]
[null,"Hagen Lane",{"$f":"VLOOKUP(B3803,[1]export_1465921594229!$D3804:$G13064,4,FALSE)","v":"LL8-116872"},"LL8"]
[null,"Haghnejat Majid",{"$f":"VLOOKUP(B3804,[1]export_1465921594229!$D3805:$G13065,4,FALSE)","v":"BKL-502277"},"BKL"]
[null,"Haines Paulette",{"$f":"VLOOKUP(B3805,[1]export_1465921594229!$D3806:$G13066,4,FALSE)","v":"OT7-120764"},"OT7"]
[null,"Hajduk Michael",{"$f":"VLOOKUP(B3806,[1]export_1465921594229!$D3807:$G13067,4,FALSE)","v":"CV1-550290"},"CV1"]
[null,"Hajduk Michael",{"$f":"VLOOKUP(B3807,[1]export_1465921594229!$D3808:$G13068,4,FALSE)","v":"N70-500577"},"N70"]
[null,"Hak Claude Ismaël",{"$f":"VLOOKUP(B3808,[1]export_1465921594229!$D3809:$G13069,4,FALSE)","v":"BGS-123178"},"BGS"]
[null,"Halabi Eddie",{"$f":"VLOOKUP(B3809,[1]export_1465921594229!$D3810:$G13070,4,FALSE)","v":"FL6-121305"},"FL6"]
[null,"Hall Nancy",{"$f":"VLOOKUP(B3810,[1]export_1465921594229!$D3811:$G13071,4,FALSE)","v":"BMS-502287"},"BMS"]
[null,"Hallal Andre",{"$f":"VLOOKUP(B3811,[1]export_1465921594229!$D3812:$G13072,4,FALSE)","v":"GU6-118946"},"GU6"]
[null,"Hallan Shivani",{"$f":"VLOOKUP(B3812,[1]export_1465921594229!$D3813:$G13073,4,FALSE)","v":"QJ1-550793"},"QJ1"]
[null,"Halle David",{"$f":"VLOOKUP(B3813,[1]export_1465921594229!$D3814:$G13074,4,FALSE)","v":"V91-120470"},"V91"]
[null,"Halle Josee",{"$f":"VLOOKUP(B3814,[1]export_1465921594229!$D3815:$G13075,4,FALSE)","v":"E19-118477"},"E19"]
[null,"Halle Vincent",{"$f":"VLOOKUP(B3815,[1]export_1465921594229!$D3816:$G13076,4,FALSE)","v":"V72-117958"},"V72"]
[null,"Hallee Guillaume",{"$f":"VLOOKUP(B3816,[1]export_1465921594229!$D3817:$G13077,4,FALSE)","v":"GW8-116134"},"GW8"]
[null,"Hallett P. Ross",{"$f":"VLOOKUP(B3817,[1]export_1465921594229!$D3818:$G13078,4,FALSE)","v":"AL7-118136"},"AL7"]
[null,"Halperin Asaf",{"$f":"VLOOKUP(B3818,[1]export_1465921594229!$D3819:$G13079,4,FALSE)","v":"DBF-124734"},"DBF"]
[null,"Halsey Michael",{"$f":"VLOOKUP(B3819,[1]export_1465921594229!$D3820:$G13080,4,FALSE)","v":"U24-119921"},"U24"]
[null,"Halstrom Wilma",{"$f":"VLOOKUP(B3820,[1]export_1465921594229!$D3821:$G13081,4,FALSE)","v":"DST-125174"},"DST"]
[null,"Hamadache Mohamed",{"$f":"VLOOKUP(B3821,[1]export_1465921594229!$D3822:$G13082,4,FALSE)","v":"CDB-123894"},"CDB"]
[null,"Hamaideh Amjad",{"$f":"VLOOKUP(B3822,[1]export_1465921594229!$D3823:$G13083,4,FALSE)","v":"B6F-123722"},"B6F"]
[null,"Hambarchian Edward",{"$f":"VLOOKUP(B3823,[1]export_1465921594229!$D3824:$G13084,4,FALSE)","v":"KQ5-550646"},"KQ5"]
[null,"Hamel Francois",{"$f":"VLOOKUP(B3824,[1]export_1465921594229!$D3825:$G13085,4,FALSE)","v":"BO2-118233"},"BO2"]
[null,"Hamel Gerald",{"$f":"VLOOKUP(B3825,[1]export_1465921594229!$D3826:$G13086,4,FALSE)","v":"I28-121221"},"I28"]
[null,"Hamel Jacques",{"$f":"VLOOKUP(B3826,[1]export_1465921594229!$D3827:$G13087,4,FALSE)","v":"P95-119642"},"P95"]
[null,"Hamel Jean-Francois",{"$f":"VLOOKUP(B3827,[1]export_1465921594229!$D3828:$G13088,4,FALSE)","v":"OU6-117408"},"OU6"]
[null,"Hamel Maryse",{"$f":"VLOOKUP(B3828,[1]export_1465921594229!$D3829:$G13089,4,FALSE)","v":"CLW-124110"},"CLW"]
[null,"Hamel Patrick",{"$f":"VLOOKUP(B3829,[1]export_1465921594229!$D3830:$G13090,4,FALSE)","v":"D5M-125496"},"D5M"]
[null,"Hamel Paul",{"$f":"VLOOKUP(B3830,[1]export_1465921594229!$D3831:$G13091,4,FALSE)","v":"041-122540"},"041"]
[null,"Hamel Remi",{"$f":"VLOOKUP(B3831,[1]export_1465921594229!$D3832:$G13092,4,FALSE)","v":"346-120318"},"346"]
[null,"Hamel Richard",{"$f":"VLOOKUP(B3832,[1]export_1465921594229!$D3833:$G13093,4,FALSE)","v":"DX6-115925"},"DX6"]
[null,"Hamel Sylvain",{"$f":"VLOOKUP(B3833,[1]export_1465921594229!$D3834:$G13094,4,FALSE)","v":"091-120393"},"091"]
[null,"Hamelin Serge",{"$f":"VLOOKUP(B3834,[1]export_1465921594229!$D3835:$G13095,4,FALSE)","v":"I02-119080"},"I02"]
[null,"Hamilton Audrey",{"$f":"VLOOKUP(B3835,[1]export_1465921594229!$D3836:$G13096,4,FALSE)","v":"PR8-117601"},"PR8"]
[null,"Hamlet Johanne",{"$f":"VLOOKUP(B3836,[1]export_1465921594229!$D3837:$G13097,4,FALSE)","v":"453-122314"},"453"]
[null,"Hammond Richard",{"$f":"VLOOKUP(B3837,[1]export_1465921594229!$D3838:$G13098,4,FALSE)","v":"EW6-115979"},"EW6"]
[null,"Hammoud Yasser",{"$f":"VLOOKUP(B3838,[1]export_1465921594229!$D3839:$G13099,4,FALSE)","v":"R25-120595"},"R25"]
[null,"Hamper Meagan",{"$f":"VLOOKUP(B3839,[1]export_1465921594229!$D3840:$G13100,4,FALSE)","v":"GS9-116116"},"GS9"]
[null,"Handfield Suzanne",{"$f":"VLOOKUP(B3840,[1]export_1465921594229!$D3841:$G13101,4,FALSE)","v":"654-122172"},"654"]
[null,"Handsor Warren",{"$f":"VLOOKUP(B3841,[1]export_1465921594229!$D3842:$G13102,4,FALSE)","v":"ME4-117000"},"ME4"]
[null,"Hani Zahir",{"$f":"VLOOKUP(B3842,[1]export_1465921594229!$D3843:$G13103,4,FALSE)","v":"QZ9-660345"},{"$f":"LEFT(C3842,3)","v":"QZ9"}]
[null,"Hankins Denis",{"$f":"VLOOKUP(B3843,[1]export_1465921594229!$D3844:$G13104,4,FALSE)","v":"K25-121080"},"K25"]
[null,"Hannah Cody",{"$f":"VLOOKUP(B3844,[1]export_1465921594229!$D3845:$G13105,4,FALSE)","v":"AO6-121951"},"AO6"]
[null,"Hansen Tyler",{"$f":"VLOOKUP(B3845,[1]export_1465921594229!$D3846:$G13106,4,FALSE)","v":"CME-124116"},"CME"]
[null,"Hanson Donald",{"$f":"VLOOKUP(B3846,[1]export_1465921594229!$D3847:$G13107,4,FALSE)","v":"GV7-116128"},"GV7"]
[null,"Hanson Robb",{"$f":"VLOOKUP(B3847,[1]export_1465921594229!$D3848:$G13108,4,FALSE)","v":"EP0-118594"},"EP0"]
[null,"Hanuska Kendall",{"$f":"VLOOKUP(B3848,[1]export_1465921594229!$D3849:$G13109,4,FALSE)","v":"BF6-121840"},"BF6"]
[null,"Haouach Ilham",{"$f":"VLOOKUP(B3849,[1]export_1465921594229!$D3850:$G13110,4,FALSE)","v":"A41-120197"},"A41"]
[null,"Haoues Mourad",{"$f":"VLOOKUP(B3850,[1]export_1465921594229!$D3851:$G13111,4,FALSE)","v":"W59-120001"},"W59"]
[null,"Hardie David",{"$f":"VLOOKUP(B3851,[1]export_1465921594229!$D3852:$G13112,4,FALSE)","v":"N41-028815"},"N41"]
[null,"Hardy Claude",{"$f":"VLOOKUP(B3852,[1]export_1465921594229!$D3853:$G13113,4,FALSE)","v":"BS3-121755"},"BS3"]
[null,"Hardy Martin",{"$f":"VLOOKUP(B3853,[1]export_1465921594229!$D3854:$G13114,4,FALSE)","v":"O99-120760"},"O99"]
[null,"Harel Shirley",{"$f":"VLOOKUP(B3854,[1]export_1465921594229!$D3855:$G13115,4,FALSE)","v":"C6E-570202"},"C6E"]
[null,"Harnois Sylvie",{"$f":"VLOOKUP(B3855,[1]export_1465921594229!$D3856:$G13116,4,FALSE)","v":"KO0-121014"},"KO0"]
[null,"Harris Chaka",{"$f":"VLOOKUP(B3856,[1]export_1465921594229!$D3857:$G13117,4,FALSE)","v":"BAX-123102"},"BAX"]
[null,"Harris Dean",{"$f":"VLOOKUP(B3857,[1]export_1465921594229!$D3858:$G13118,4,FALSE)","v":"D1U-125403"},"D1U"]
[null,"Harris Ewart",{"$f":"VLOOKUP(B3858,[1]export_1465921594229!$D3859:$G13119,4,FALSE)","v":"AT4-118170"},"AT4"]
[null,"Harris Ewart",{"$f":"VLOOKUP(B3859,[1]export_1465921594229!$D3860:$G13120,4,FALSE)","v":"AT5-121974"},"AT5"]
[null,"Harris Ewart",{"$f":"VLOOKUP(B3860,[1]export_1465921594229!$D3861:$G13121,4,FALSE)","v":"IT5-121150"},"IT5"]
[null,"Harris Sheryl",{"$f":"VLOOKUP(B3861,[1]export_1465921594229!$D3862:$G13122,4,FALSE)","v":"X27-120511"},"X27"]
[null,"Harrison Bernadette",{"$f":"VLOOKUP(B3862,[1]export_1465921594229!$D3863:$G13123,4,FALSE)","v":"BDB-123114"},"BDB"]
[null,"Harrisson Pauline",{"$f":"VLOOKUP(B3863,[1]export_1465921594229!$D3864:$G13124,4,FALSE)","v":"D39-121581"},"D39"]
[null,"Hart Elizabeth",{"$f":"VLOOKUP(B3864,[1]export_1465921594229!$D3865:$G13125,4,FALSE)","v":"BUL-123448"},"BUL"]
[null,"Hart Michael",{"$f":"VLOOKUP(B3865,[1]export_1465921594229!$D3866:$G13126,4,FALSE)","v":"MB5-116979"},"MB5"]
[null,"Harvey Benoit",{"$f":"VLOOKUP(B3866,[1]export_1465921594229!$D3867:$G13127,4,FALSE)","v":"BRR-600083"},"BRR"]
[null,"Harvey Eric",{"$f":"VLOOKUP(B3867,[1]export_1465921594229!$D3868:$G13128,4,FALSE)","v":"L51-120914"},"L51"]
[null,"Harvey Eric",{"$f":"VLOOKUP(B3868,[1]export_1465921594229!$D3869:$G13129,4,FALSE)","v":"J75-660410"},"J75"]
[null,"Harvey Grant",{"$f":"VLOOKUP(B3869,[1]export_1465921594229!$D3870:$G13130,4,FALSE)","v":"NG7-119484"},"NG7"]
[null,"Harvey Grant",{"$f":"VLOOKUP(B3870,[1]export_1465921594229!$D3871:$G13131,4,FALSE)","v":"NG6-119483"},"NG6"]
[null,"Harvey Helene",{"$f":"VLOOKUP(B3871,[1]export_1465921594229!$D3872:$G13132,4,FALSE)","v":"S18-120614"},"S18"]
[null,"Harvey Nicholas",{"$f":"VLOOKUP(B3872,[1]export_1465921594229!$D3873:$G13133,4,FALSE)","v":"BDA-123113"},"BDA"]
[null,"Harvey Robert",{"$f":"VLOOKUP(B3873,[1]export_1465921594229!$D3874:$G13134,4,FALSE)","v":"R13-120715"},"R13"]
[null,"Harvey Tremblay Jean-Philippe",{"$f":"VLOOKUP(B3874,[1]export_1465921594229!$D3875:$G13135,4,FALSE)","v":"BE5-121835"},"BE5"]
[null,"Hasenack Carrie",{"$f":"VLOOKUP(B3875,[1]export_1465921594229!$D3876:$G13136,4,FALSE)","v":"B9W-123812"},"B9W"]
[null,"Haskings(Haskings Finan) Howard",{"$f":"VLOOKUP(B3876,[1]export_1465921594229!$D3877:$G13137,4,FALSE)","v":"DEW-124827"},"DEW"]
[null,"Hassan Mohamed",{"$f":"VLOOKUP(B3877,[1]export_1465921594229!$D3878:$G13138,4,FALSE)","v":"CLO-124102"},"CLO"]
[null,"Hatt Mark",{"$f":"VLOOKUP(B3878,[1]export_1465921594229!$D3879:$G13139,4,FALSE)","v":"V80-120466"},"V80"]
[null,"Haussman Patrick",{"$f":"VLOOKUP(B3879,[1]export_1465921594229!$D3880:$G13140,4,FALSE)","v":"W10-119985"},"W10"]
[null,"Hay Barbara",{"$f":"VLOOKUP(B3880,[1]export_1465921594229!$D3881:$G13141,4,FALSE)","v":"NK9-117208"},"NK9"]
[null,"Hay Clinton",{"$f":"VLOOKUP(B3881,[1]export_1465921594229!$D3882:$G13142,4,FALSE)","v":"FO8-118761"},"FO8"]
[null,"Hay Paul",{"$f":"VLOOKUP(B3882,[1]export_1465921594229!$D3883:$G13143,4,FALSE)","v":"N69-120822"},"N69"]
[null,"Hay Yannik",{"$f":"VLOOKUP(B3883,[1]export_1465921594229!$D3884:$G13144,4,FALSE)","v":"I73-116310"},"I73"]
[null,"Haye James",{"$f":"VLOOKUP(B3884,[1]export_1465921594229!$D3885:$G13145,4,FALSE)","v":"N35-120796"},"N35"]
[null,"Haye James",{"$f":"VLOOKUP(B3885,[1]export_1465921594229!$D3886:$G13146,4,FALSE)","v":"Q04-119674"},"Q04"]
[null,"Haye James",{"$f":"VLOOKUP(B3886,[1]export_1465921594229!$D3887:$G13147,4,FALSE)","v":"Q05-120681"},"Q05"]
[null,"Haye James",{"$f":"VLOOKUP(B3887,[1]export_1465921594229!$D3888:$G13148,4,FALSE)","v":"N34-120795"},"N34"]
[null,"Hayes Kevin",{"$f":"VLOOKUP(B3888,[1]export_1465921594229!$D3889:$G13149,4,FALSE)","v":"Q52-119701"},"Q52"]
[null,"Hayes Shawn",{"$f":"VLOOKUP(B3889,[1]export_1465921594229!$D3890:$G13150,4,FALSE)","v":"BHC-550849"},"BHC"]
[null,"Haylin Justin",{"$f":"VLOOKUP(B3890,[1]export_1465921594229!$D3891:$G13151,4,FALSE)","v":"HI1-116200"},"HI1"]
[null,"Hayre Kuljinder",{"$f":"VLOOKUP(B3891,[1]export_1465921594229!$D3892:$G13152,4,FALSE)","v":"QG0-117688"},"QG0"]
[null,"Hayter Richard Dale",{"$f":"VLOOKUP(B3892,[1]export_1465921594229!$D3893:$G13153,4,FALSE)","v":"AB1-122033"},"AB1"]
[null,"Hayter Richard Dale",{"$f":"VLOOKUP(B3893,[1]export_1465921594229!$D3894:$G13154,4,FALSE)","v":"BZZ-550900"},"BZZ"]
[null,"Hazlitt William",{"$f":"VLOOKUP(B3894,[1]export_1465921594229!$D3895:$G13155,4,FALSE)","v":"IA6-121121"},"IA6"]
[null,"Hearns Jenny Camille",{"$f":"VLOOKUP(B3895,[1]export_1465921594229!$D3896:$G13156,4,FALSE)","v":"PO2-117570"},"PO2"]
[null,"Hebert Claude",{"$f":"VLOOKUP(B3896,[1]export_1465921594229!$D3897:$G13157,4,FALSE)","v":"073-122560"},"073"]
[null,"Hebert Francois",{"$f":"VLOOKUP(B3897,[1]export_1465921594229!$D3898:$G13158,4,FALSE)","v":"AH6-660541"},"AH6"]
[null,"Hebert Jocelyne",{"$f":"VLOOKUP(B3898,[1]export_1465921594229!$D3899:$G13159,4,FALSE)","v":"AX9-121869"},"AX9"]
[null,"Hebert Johanne",{"$f":"VLOOKUP(B3899,[1]export_1465921594229!$D3900:$G13160,4,FALSE)","v":"C08-121785"},"C08"]
[null,"Hebert Louise",{"$f":"VLOOKUP(B3900,[1]export_1465921594229!$D3901:$G13161,4,FALSE)","v":"039-122538"},"039"]
[null,"Hebert Martin",{"$f":"VLOOKUP(B3901,[1]export_1465921594229!$D3902:$G13162,4,FALSE)","v":"F65-121405"},"F65"]
[null,"Hebert Mathieu",{"$f":"VLOOKUP(B3902,[1]export_1465921594229!$D3903:$G13163,4,FALSE)","v":"M66-119391"},"M66"]
[null,"Hebert Yves",{"$f":"VLOOKUP(B3903,[1]export_1465921594229!$D3904:$G13164,4,FALSE)","v":"Z74-118033"},"Z74"]
[null,"Hebert Jonathan",{"$f":"VLOOKUP(B3904,[1]export_1465921594229!$D3905:$G13165,4,FALSE)","v":{"$error":"#N/A"}},{"$error":"#N/A"}]
[null,"Hebert Rosaire",{"$f":"VLOOKUP(B3905,[1]export_1465921594229!$D3906:$G13166,4,FALSE)","v":{"$error":"#N/A"}},{"$error":"#N/A"}]
[null,"Hebert Steven",{"$f":"VLOOKUP(B3906,[1]export_1465921594229!$D3907:$G13167,4,FALSE)","v":{"$error":"#N/A"}},{"$f":"LEFT(C3906,3)","v":{"$error":"#N/A"}}]
[null,"Hebraud Nicolas",{"$f":"VLOOKUP(B3907,[1]export_1465921594229!$D3908:$G13168,4,FALSE)","v":"IW6-660319"},"IW6"]
[null,"Heck Dwight",{"$f":"VLOOKUP(B3908,[1]export_1465921594229!$D3909:$G13169,4,FALSE)","v":"AS0-118162"},"AS0"]
[null,"Heckbert John",{"$f":"VLOOKUP(B3909,[1]export_1465921594229!$D3910:$G13170,4,FALSE)","v":"DI9-550369"},"DI9"]
[null,"Hecktor Kathryn",{"$f":"VLOOKUP(B3910,[1]export_1465921594229!$D3911:$G13171,4,FALSE)","v":"FQ4-116032"},"FQ4"]
[null,"Hehar Sukhdev",{"$f":"VLOOKUP(B3911,[1]export_1465921594229!$D3912:$G13172,4,FALSE)","v":"MM3-119425"},"MM3"]
[null,"Hehn John",{"$f":"VLOOKUP(B3912,[1]export_1465921594229!$D3913:$G13173,4,FALSE)","v":"DP4-550398"},"DP4"]
[null,"Heintzman Ronald",{"$f":"VLOOKUP(B3913,[1]export_1465921594229!$D3914:$G13174,4,FALSE)","v":"LT1-119360"},"LT1"]
[null,"Heintzman Ronald",{"$f":"VLOOKUP(B3914,[1]export_1465921594229!$D3915:$G13175,4,FALSE)","v":"QD8-119748"},"QD8"]
[null,"Heintzman Ronald",{"$f":"VLOOKUP(B3915,[1]export_1465921594229!$D3916:$G13176,4,FALSE)","v":"LT0-119359"},"LT0"]
[null,"Heintzman Ronald",{"$f":"VLOOKUP(B3916,[1]export_1465921594229!$D3917:$G13177,4,FALSE)","v":"QG1-119758"},"QG1"]
[null,"Heisler Daryl",{"$f":"VLOOKUP(B3917,[1]export_1465921594229!$D3918:$G13178,4,FALSE)","v":"O80-500028"},"O80"]
[null,"Helcl George",{"$f":"VLOOKUP(B3918,[1]export_1465921594229!$D3919:$G13179,4,FALSE)","v":"EP4-115968"},"EP4"]
[null,"Hema Salia",{"$f":"VLOOKUP(B3919,[1]export_1465921594229!$D3920:$G13180,4,FALSE)","v":"A9I-660484"},"A9I"]
[null,"Hemery Gwenola Gaëlle",{"$f":"VLOOKUP(B3920,[1]export_1465921594229!$D3921:$G13181,4,FALSE)","v":"D71-121602"},"D71"]
[null,"Hemmings Marlon",{"$f":"VLOOKUP(B3921,[1]export_1465921594229!$D3922:$G13182,4,FALSE)","v":"CR8-121654"},"CR8"]
[null,"Hemmings Marlon",{"$f":"VLOOKUP(B3922,[1]export_1465921594229!$D3923:$G13183,4,FALSE)","v":"A9U-550879"},"A9U"]
[null,"Hemmings Marlon",{"$f":"VLOOKUP(B3923,[1]export_1465921594229!$D3924:$G13184,4,FALSE)","v":"AN2-118143"},"AN2"]
[null,"Hemmings Marlon",{"$f":"VLOOKUP(B3924,[1]export_1465921594229!$D3925:$G13185,4,FALSE)","v":"AN3-118144"},"AN3"]
[null,"Hemond Pierre",{"$f":"VLOOKUP(B3925,[1]export_1465921594229!$D3926:$G13186,4,FALSE)","v":"F76-118671"},"F76"]
[null,"Henault Christian",{"$f":"VLOOKUP(B3926,[1]export_1465921594229!$D3927:$G13187,4,FALSE)","v":"Z72-125461"},"Z72"]
[null,"Henault Christian",{"$f":"VLOOKUP(B3927,[1]export_1465921594229!$D3928:$G13188,4,FALSE)","v":"D4D-660048"},"D4D"]
[null,"Henault Liliane",{"$f":"VLOOKUP(B3928,[1]export_1465921594229!$D3929:$G13189,4,FALSE)","v":"T33-120651"},"T33"]
[null,"Hendriks Ferdinand",{"$f":"VLOOKUP(B3929,[1]export_1465921594229!$D3930:$G13190,4,FALSE)","v":"X46-660725"},"X46"]
[null,"Hennebery Shanna",{"$f":"VLOOKUP(B3930,[1]export_1465921594229!$D3931:$G13191,4,FALSE)","v":"GF3-118867"},"GF3"]
[null,"Henri Louise",{"$f":"VLOOKUP(B3931,[1]export_1465921594229!$D3932:$G13192,4,FALSE)","v":"378-122265"},"378"]
[null,"Henry Nathalie",{"$f":"VLOOKUP(B3932,[1]export_1465921594229!$D3933:$G13193,4,FALSE)","v":"QZ7-660555"},"QZ7"]
[null,"Henry Nere",{"$f":"VLOOKUP(B3933,[1]export_1465921594229!$D3934:$G13194,4,FALSE)","v":"W05-660554"},"W05"]
[null,"Henry Sarah",{"$f":"VLOOKUP(B3934,[1]export_1465921594229!$D3935:$G13195,4,FALSE)","v":"LR0-119356"},"LR0"]
[null,"Henry Sarah",{"$f":"VLOOKUP(B3935,[1]export_1465921594229!$D3936:$G13196,4,FALSE)","v":"QA3-119721"},"QA3"]
[null,"Henry Sarah",{"$f":"VLOOKUP(B3936,[1]export_1465921594229!$D3937:$G13197,4,FALSE)","v":"PZ0-119667"},"PZ0"]
[null,"Henry Sarah",{"$f":"VLOOKUP(B3937,[1]export_1465921594229!$D3938:$G13198,4,FALSE)","v":"MH9-119420"},"MH9"]
[null,"Henry Travis",{"$f":"VLOOKUP(B3938,[1]export_1465921594229!$D3939:$G13199,4,FALSE)","v":"DRO-125146"},"DRO"]
[null,"Heppell Sylvie",{"$f":"VLOOKUP(B3939,[1]export_1465921594229!$D3940:$G13200,4,FALSE)","v":"318-122347"},"318"]
[null,"Heppell Francoeur Madeleine",{"$f":"VLOOKUP(B3940,[1]export_1465921594229!$D3941:$G13201,4,FALSE)","v":"192-122392"},"192"]
[null,"Her Vijcie-Moto",{"$f":"VLOOKUP(B3941,[1]export_1465921594229!$D3942:$G13202,4,FALSE)","v":"DRN-125145"},"DRN"]
[null,"Herman Robert",{"$f":"VLOOKUP(B3942,[1]export_1465921594229!$D3943:$G13203,4,FALSE)","v":"MC4-116985"},"MC4"]
[null,"Hermanez Emmanuel",{"$f":"VLOOKUP(B3943,[1]export_1465921594229!$D3944:$G13204,4,FALSE)","v":"OW5-117421"},"OW5"]
[null,"Hermanson Gloria",{"$f":"VLOOKUP(B3944,[1]export_1465921594229!$D3945:$G13205,4,FALSE)","v":"CA4-121726"},"CA4"]
[null,"Hermina Owen",{"$f":"VLOOKUP(B3945,[1]export_1465921594229!$D3946:$G13206,4,FALSE)","v":"NI9-117197"},"NI9"]
[null,"Hermina Owen",{"$f":"VLOOKUP(B3946,[1]export_1465921594229!$D3947:$G13207,4,FALSE)","v":"NJ0-120843"},"NJ0"]
[null,"Hernandez Araceli",{"$f":"VLOOKUP(B3947,[1]export_1465921594229!$D3948:$G13208,4,FALSE)","v":"B6O-123730"},"B6O"]
[null,"Hernandez Valerie",{"$f":"VLOOKUP(B3948,[1]export_1465921594229!$D3949:$G13209,4,FALSE)","v":"N92-120097"},"N92"]
[null,"Heroux Daniel",{"$f":"VLOOKUP(B3949,[1]export_1465921594229!$D3950:$G13210,4,FALSE)","v":"564-122244"},"564"]
[null,"Heroux Gilles",{"$f":"VLOOKUP(B3950,[1]export_1465921594229!$D3951:$G13211,4,FALSE)","v":"A56-121998"},"A56"]
[null,"Herrera Veronica",{"$f":"VLOOKUP(B3951,[1]export_1465921594229!$D3952:$G13212,4,FALSE)","v":"C61-121696"},"C61"]
[null,"Herrera-Sosa Maryuri",{"$f":"VLOOKUP(B3952,[1]export_1465921594229!$D3953:$G13213,4,FALSE)","v":"CPL-124195"},"CPL"]
[null,"Herriman Graham",{"$f":"VLOOKUP(B3953,[1]export_1465921594229!$D3954:$G13214,4,FALSE)","v":"OH9-117331"},"OH9"]
[null,"Herrmann Eric",{"$f":"VLOOKUP(B3954,[1]export_1465921594229!$D3955:$G13215,4,FALSE)","v":"D3G-125440"},"D3G"]
[null,"Hert Bob",{"$f":"VLOOKUP(B3955,[1]export_1465921594229!$D3956:$G13216,4,FALSE)","v":"CT7-118353"},"CT7"]
[null,"Hetherington Matthew",{"$f":"VLOOKUP(B3956,[1]export_1465921594229!$D3957:$G13217,4,FALSE)","v":"R83-120609"},"R83"]
[null,"Hetu Genevieve",{"$f":"VLOOKUP(B3957,[1]export_1465921594229!$D3958:$G13218,4,FALSE)","v":"DNU-125050"},"DNU"]
[null,"Hetu Jocelyne",{"$f":"VLOOKUP(B3958,[1]export_1465921594229!$D3959:$G13219,4,FALSE)","v":"631-120293"},"631"]
[null,"Hewitt Glenda",{"$f":"VLOOKUP(B3959,[1]export_1465921594229!$D3960:$G13220,4,FALSE)","v":"GE1-118058"},"GE1"]
[null,"Hewitt Randa",{"$f":"VLOOKUP(B3960,[1]export_1465921594229!$D3961:$G13221,4,FALSE)","v":"BQL-123360"},"BQL"]
[null,"Heydon Joan Denise",{"$f":"VLOOKUP(B3961,[1]export_1465921594229!$D3962:$G13222,4,FALSE)","v":"BUD-502317"},"BUD"]
[null,"Hickey James (Ted)",{"$f":"VLOOKUP(B3962,[1]export_1465921594229!$D3963:$G13223,4,FALSE)","v":"PZ5-115621"},"PZ5"]
[null,"Hickey James (Ted)",{"$f":"VLOOKUP(B3963,[1]export_1465921594229!$D3964:$G13224,4,FALSE)","v":"N46-119460"},"N46"]
[null,"Hickey James (Ted)",{"$f":"VLOOKUP(B3964,[1]export_1465921594229!$D3965:$G13225,4,FALSE)","v":"PZ6-427876"},"PZ6"]
[null,"Hickey James (Ted)",{"$f":"VLOOKUP(B3965,[1]export_1465921594229!$D3966:$G13226,4,FALSE)","v":"HA5-115596"},"HA5"]
[null,"Hickey James (Ted)",{"$f":"VLOOKUP(B3966,[1]export_1465921594229!$D3967:$G13227,4,FALSE)","v":"BX3-115590"},"BX3"]
[null,"Hickey James (Ted)",{"$f":"VLOOKUP(B3967,[1]export_1465921594229!$D3968:$G13228,4,FALSE)","v":"BX5-118268"},"BX5"]
[null,"Hickey James (Ted)",{"$f":"VLOOKUP(B3968,[1]export_1465921594229!$D3969:$G13229,4,FALSE)","v":"HA4-027876"},"HA4"]
[null,"Hickey James (Ted)",{"$f":"VLOOKUP(B3969,[1]export_1465921594229!$D3970:$G13230,4,FALSE)","v":"IL6-327876"},"IL6"]
[null,"Hicks Merilee",{"$f":"VLOOKUP(B3970,[1]export_1465921594229!$D3971:$G13231,4,FALSE)","v":"BST-123416"},{"$f":"LEFT(C3970,3)","v":"BST"}]
[null,"Hicks Merilee",{"$f":"VLOOKUP(B3971,[1]export_1465921594229!$D3972:$G13232,4,FALSE)","v":"BHZ-502286"},"BHZ"]
[null,"Hiebert Regan",{"$f":"VLOOKUP(B3972,[1]export_1465921594229!$D3973:$G13233,4,FALSE)","v":"A9A-123067"},"A9A"]
[null,"Higgins Danny",{"$f":"VLOOKUP(B3973,[1]export_1465921594229!$D3974:$G13234,4,FALSE)","v":"595-120282"},"595"]
[null,"Higgins John Brent",{"$f":"VLOOKUP(B3974,[1]export_1465921594229!$D3975:$G13235,4,FALSE)","v":"DKJ-124964"},"DKJ"]
[null,"Hilario Elaine",{"$f":"VLOOKUP(B3975,[1]export_1465921594229!$D3976:$G13236,4,FALSE)","v":"ND2-117162"},"ND2"]
[null,"Hildebrandt Michael",{"$f":"VLOOKUP(B3976,[1]export_1465921594229!$D3977:$G13237,4,FALSE)","v":"D5W-125505"},"D5W"]
[null,"Hill James",{"$f":"VLOOKUP(B3977,[1]export_1465921594229!$D3978:$G13238,4,FALSE)","v":"O83-120755"},"O83"]
[null,"Hill John Roland",{"$f":"VLOOKUP(B3978,[1]export_1465921594229!$D3979:$G13239,4,FALSE)","v":"DR6-660116"},"DR6"]
[null,"Hill Yong Mei",{"$f":"VLOOKUP(B3979,[1]export_1465921594229!$D3980:$G13240,4,FALSE)","v":"KQ7-116751"},"KQ7"]
[null,"Hille Richard",{"$f":"VLOOKUP(B3980,[1]export_1465921594229!$D3981:$G13241,4,FALSE)","v":"BG5-121846"},"BG5"]
[null,"Hille Richard",{"$f":"VLOOKUP(B3981,[1]export_1465921594229!$D3982:$G13242,4,FALSE)","v":"GQ6-121263"},"GQ6"]
[null,"Hiller Derek",{"$f":"VLOOKUP(B3982,[1]export_1465921594229!$D3983:$G13243,4,FALSE)","v":"CML-124120"},"CML"]
[null,"Hillis William",{"$f":"VLOOKUP(B3983,[1]export_1465921594229!$D3984:$G13244,4,FALSE)","v":"IG4-121127"},"IG4"]
[null,"Hilton Lolita",{"$f":"VLOOKUP(B3984,[1]export_1465921594229!$D3985:$G13245,4,FALSE)","v":"PC2-119644"},"PC2"]
[null,"Hinkson Carol",{"$f":"VLOOKUP(B3985,[1]export_1465921594229!$D3986:$G13246,4,FALSE)","v":"BWQ-123497"},"BWQ"]
[null,"Hinton Thomas",{"$f":"VLOOKUP(B3986,[1]export_1465921594229!$D3987:$G13247,4,FALSE)","v":"N47-120805"},"N47"]
[null,"Hipkins Bruce",{"$f":"VLOOKUP(B3987,[1]export_1465921594229!$D3988:$G13248,4,FALSE)","v":"DF7-121504"},"DF7"]
[null,"Hitchlock Sara",{"$f":"VLOOKUP(B3988,[1]export_1465921594229!$D3989:$G13249,4,FALSE)","v":"DJP-124946"},"DJP"]
[null,"Hnatiw Dwayne",{"$f":"VLOOKUP(B3989,[1]export_1465921594229!$D3990:$G13250,4,FALSE)","v":"EF8-121463"},"EF8"]
[null,"Ho Belinda",{"$f":"VLOOKUP(B3990,[1]export_1465921594229!$D3991:$G13251,4,FALSE)","v":"IG9-550579"},"IG9"]
[null,"Ho Bernard Y.K.",{"$f":"VLOOKUP(B3991,[1]export_1465921594229!$D3992:$G13252,4,FALSE)","v":"HR0-119062"},"HR0"]
[null,"Ho Bernard Y.K.",{"$f":"VLOOKUP(B3992,[1]export_1465921594229!$D3993:$G13253,4,FALSE)","v":"X81-120442"},"X81"]
[null,"Ho Kenneth",{"$f":"VLOOKUP(B3993,[1]export_1465921594229!$D3994:$G13254,4,FALSE)","v":"IS8-116416"},"IS8"]
[null,"Ho Kevin",{"$f":"VLOOKUP(B3994,[1]export_1465921594229!$D3995:$G13255,4,FALSE)","v":"AG9-122053"},"AG9"]
[null,"Ho Louis K",{"$f":"VLOOKUP(B3995,[1]export_1465921594229!$D3996:$G13256,4,FALSE)","v":"IF4-119126"},"IF4"]
[null,"Ho Thomas",{"$f":"VLOOKUP(B3996,[1]export_1465921594229!$D3997:$G13257,4,FALSE)","v":"AG3-118117"},"AG3"]
[null,"Ho Thomas",{"$f":"VLOOKUP(B3997,[1]export_1465921594229!$D3998:$G13258,4,FALSE)","v":"AG4-118118"},"AG4"]
[null,"Ho Thomas",{"$f":"VLOOKUP(B3998,[1]export_1465921594229!$D3999:$G13259,4,FALSE)","v":"CR9-121655"},"CR9"]
[null,"Hobbs Patrick",{"$f":"VLOOKUP(B3999,[1]export_1465921594229!$D4000:$G13260,4,FALSE)","v":"N74-120825"},"N74"]
[null,"Hodge Rosemary",{"$f":"VLOOKUP(B4000,[1]export_1465921594229!$D4001:$G13261,4,FALSE)","v":"HM6-116227"},"HM6"]
[null,"Hodgins Anne-Marie",{"$f":"VLOOKUP(B4001,[1]export_1465921594229!$D4002:$G13262,4,FALSE)","v":"GJ8-121253"},"GJ8"]
[null,"Hodgson Zayne",{"$f":"VLOOKUP(B4002,[1]export_1465921594229!$D4003:$G13263,4,FALSE)","v":"BNK-502312"},"BNK"]
[null,"Hofmann Philippe",{"$f":"VLOOKUP(B4003,[1]export_1465921594229!$D4004:$G13264,4,FALSE)","v":"D43-120147"},"D43"]
[null,"Hogue David",{"$f":"VLOOKUP(B4004,[1]export_1465921594229!$D4005:$G13265,4,FALSE)","v":"R44-501372"},"R44"]
[null,"Hogue David",{"$f":"VLOOKUP(B4005,[1]export_1465921594229!$D4006:$G13266,4,FALSE)","v":"BFS-550333"},"BFS"]
[null,"Hogue Denis",{"$f":"VLOOKUP(B4006,[1]export_1465921594229!$D4007:$G13267,4,FALSE)","v":"HK3-660421"},"HK3"]
[null,"Hogue Denis",{"$f":"VLOOKUP(B4007,[1]export_1465921594229!$D4008:$G13268,4,FALSE)","v":"DK1-121521"},"DK1"]
[null,"Hogue Sylvie",{"$f":"VLOOKUP(B4008,[1]export_1465921594229!$D4009:$G13269,4,FALSE)","v":"D0F-125362"},"D0F"]
[null,"Holder Adam B",{"$f":"VLOOKUP(B4009,[1]export_1465921594229!$D4010:$G13270,4,FALSE)","v":"KQ9-119265"},"KQ9"]
[null,"Holder Adam B",{"$f":"VLOOKUP(B4010,[1]export_1465921594229!$D4011:$G13271,4,FALSE)","v":"KP5-119261"},"KP5"]
[null,"Holder Christopher",{"$f":"VLOOKUP(B4011,[1]export_1465921594229!$D4012:$G13272,4,FALSE)","v":"LL6-116870"},"LL6"]
[null,"Holland Ian",{"$f":"VLOOKUP(B4012,[1]export_1465921594229!$D4013:$G13273,4,FALSE)","v":"S74-119861"},"S74"]
[null,"Hollander Walter",{"$f":"VLOOKUP(B4013,[1]export_1465921594229!$D4014:$G13274,4,FALSE)","v":"NT1-119514"},"NT1"]
[null,"Hollander Walter",{"$f":"VLOOKUP(B4014,[1]export_1465921594229!$D4015:$G13275,4,FALSE)","v":"QB7-119731"},"QB7"]
[null,"Hollander Walter",{"$f":"VLOOKUP(B4015,[1]export_1465921594229!$D4016:$G13276,4,FALSE)","v":"MT1-119439"},"MT1"]
[null,"Hollander Walter",{"$f":"VLOOKUP(B4016,[1]export_1465921594229!$D4017:$G13277,4,FALSE)","v":"NS9-119512"},"NS9"]
[null,"Holmes Kevin",{"$f":"VLOOKUP(B4017,[1]export_1465921594229!$D4018:$G13278,4,FALSE)","v":"A6B-123002"},"A6B"]
[null,"Holt John E.A.",{"$f":"VLOOKUP(B4018,[1]export_1465921594229!$D4019:$G13279,4,FALSE)","v":"KF1-116677"},"KF1"]
[null,"Hon Nathan",{"$f":"VLOOKUP(B4019,[1]export_1465921594229!$D4020:$G13280,4,FALSE)","v":"FZ4-116046"},"FZ4"]
[null,"Hood David",{"$f":"VLOOKUP(B4020,[1]export_1465921594229!$D4021:$G13281,4,FALSE)","v":"JR0-116559"},"JR0"]
[null,"Hood Iyabo",{"$f":"VLOOKUP(B4021,[1]export_1465921594229!$D4022:$G13282,4,FALSE)","v":"NS0-117241"},"NS0"]
[null,"Hood Susan E",{"$f":"VLOOKUP(B4022,[1]export_1465921594229!$D4023:$G13283,4,FALSE)","v":"MK2-117038"},"MK2"]
[null,"Hopson Vanessa",{"$f":"VLOOKUP(B4023,[1]export_1465921594229!$D4024:$G13284,4,FALSE)","v":"NJ8-660307"},"NJ8"]
[null,"Horner Gary",{"$f":"VLOOKUP(B4024,[1]export_1465921594229!$D4025:$G13285,4,FALSE)","v":"KR0-119266"},"KR0"]
[null,"Horner Gary",{"$f":"VLOOKUP(B4025,[1]export_1465921594229!$D4026:$G13286,4,FALSE)","v":"EO4-118592"},"EO4"]
[null,"Horst R. Krebs",{"$f":"VLOOKUP(B4026,[1]export_1465921594229!$D4027:$G13287,4,FALSE)","v":"U52-120557"},"U52"]
[null,"Horth Yvon",{"$f":"VLOOKUP(B4027,[1]export_1465921594229!$D4028:$G13288,4,FALSE)","v":"I44-119100"},"I44"]
[null,"Hossain Muhammad Mofazzal",{"$f":"VLOOKUP(B4028,[1]export_1465921594229!$D4029:$G13289,4,FALSE)","v":"JR3-116562"},"JR3"]
[null,"Hostland Terry",{"$f":"VLOOKUP(B4029,[1]export_1465921594229!$D4030:$G13290,4,FALSE)","v":"IJ9-116369"},"IJ9"]
[null,"Hotte Micheline",{"$f":"VLOOKUP(B4030,[1]export_1465921594229!$D4031:$G13291,4,FALSE)","v":"GJ7-118896"},"GJ7"]
[null,"Houde Bernard",{"$f":"VLOOKUP(B4031,[1]export_1465921594229!$D4032:$G13292,4,FALSE)","v":"H49-118978"},"H49"]
[null,"Houde Bruno",{"$f":"VLOOKUP(B4032,[1]export_1465921594229!$D4033:$G13293,4,FALSE)","v":"B47-121903"},"B47"]
[null,"Houde Daniel",{"$f":"VLOOKUP(B4033,[1]export_1465921594229!$D4034:$G13294,4,FALSE)","v":"101-122453"},"101"]
[null,"Houde Dimitri",{"$f":"VLOOKUP(B4034,[1]export_1465921594229!$D4035:$G13295,4,FALSE)","v":"B9F-123795"},{"$f":"LEFT(C4034,3)","v":"B9F"}]
[null,"Houde Gilles",{"$f":"VLOOKUP(B4035,[1]export_1465921594229!$D4036:$G13296,4,FALSE)","v":"G20-118821"},"G20"]
[null,"Houde Helene",{"$f":"VLOOKUP(B4036,[1]export_1465921594229!$D4037:$G13297,4,FALSE)","v":"A36-120193"},"A36"]
[null,"Houde Helene",{"$f":"VLOOKUP(B4037,[1]export_1465921594229!$D4038:$G13298,4,FALSE)","v":"CI4-115838"},"CI4"]
[null,"Houde Helene",{"$f":"VLOOKUP(B4038,[1]export_1465921594229!$D4039:$G13299,4,FALSE)","v":"A72-122011"},"A72"]
[null,"Houde Jean-Claude",{"$f":"VLOOKUP(B4039,[1]export_1465921594229!$D4040:$G13300,4,FALSE)","v":"190-122390"},"190"]
[null,"Houde Julie",{"$f":"VLOOKUP(B4040,[1]export_1465921594229!$D4041:$G13301,4,FALSE)","v":"C99-121723"},"C99"]
[null,"Houde Martin",{"$f":"VLOOKUP(B4041,[1]export_1465921594229!$D4042:$G13302,4,FALSE)","v":"U20-119919"},"U20"]
[null,"Houde Pierre-Olivier",{"$f":"VLOOKUP(B4042,[1]export_1465921594229!$D4043:$G13303,4,FALSE)","v":"CRI-124239"},"CRI"]
[null,"Houle Daniel",{"$f":"VLOOKUP(B4043,[1]export_1465921594229!$D4044:$G13304,4,FALSE)","v":"B72-121925"},"B72"]
[null,"Houle Denis",{"$f":"VLOOKUP(B4044,[1]export_1465921594229!$D4045:$G13305,4,FALSE)","v":"H97-121180"},"H97"]
[null,"Houle Denise",{"$f":"VLOOKUP(B4045,[1]export_1465921594229!$D4046:$G13306,4,FALSE)","v":"G37-121340"},"G37"]
[null,"Houle Frederic",{"$f":"VLOOKUP(B4046,[1]export_1465921594229!$D4047:$G13307,4,FALSE)","v":{"$error":"#N/A"}},{"$error":"#N/A"}]
[null,"Houle Jean-Guy",{"$f":"VLOOKUP(B4047,[1]export_1465921594229!$D4048:$G13308,4,FALSE)","v":"A93-122025"},"A93"]
[null,"Houle Josee",{"$f":"VLOOKUP(B4048,[1]export_1465921594229!$D4049:$G13309,4,FALSE)","v":"O19-120733"},"O19"]
[null,"Houle Julien",{"$f":"VLOOKUP(B4049,[1]export_1465921594229!$D4050:$G13310,4,FALSE)","v":"V07-119950"},"V07"]
[null,"Houle Lucien",{"$f":"VLOOKUP(B4050,[1]export_1465921594229!$D4051:$G13311,4,FALSE)","v":"363-120323"},"363"]
[null,"Houle Monique",{"$f":"VLOOKUP(B4051,[1]export_1465921594229!$D4052:$G13312,4,FALSE)","v":"O72-120747"},"O72"]
[null,"Houle Pascale",{"$f":"VLOOKUP(B4052,[1]export_1465921594229!$D4053:$G13313,4,FALSE)","v":"I74-116311"},"I74"]
[null,"Houle Pierre-Paul",{"$f":"VLOOKUP(B4053,[1]export_1465921594229!$D4054:$G13314,4,FALSE)","v":"140-122481"},"140"]
[null,"Houle Raynald",{"$f":"VLOOKUP(B4054,[1]export_1465921594229!$D4055:$G13315,4,FALSE)","v":"AU1-121980"},"AU1"]
[null,"Houle Rene",{"$f":"VLOOKUP(B4055,[1]export_1465921594229!$D4056:$G13316,4,FALSE)","v":"EE3-121462"},"EE3"]
[null,"Houle Richard",{"$f":"VLOOKUP(B4056,[1]export_1465921594229!$D4057:$G13317,4,FALSE)","v":"EG5-118555"},"EG5"]
[null,"Housser John",{"$f":"VLOOKUP(B4057,[1]export_1465921594229!$D4058:$G13318,4,FALSE)","v":"DP5-118422"},"DP5"]
[null,"Hovington Fabien",{"$f":"VLOOKUP(B4058,[1]export_1465921594229!$D4059:$G13319,4,FALSE)","v":"M32-119376"},"M32"]
[null,"Hovington Julie",{"$f":"VLOOKUP(B4059,[1]export_1465921594229!$D4060:$G13320,4,FALSE)","v":"061-122554"},"061"]
[null,"Hovnanian Ani",{"$f":"VLOOKUP(B4060,[1]export_1465921594229!$D4061:$G13321,4,FALSE)","v":"A5S-122586"},"A5S"]
[null,"Howarth Daryl",{"$f":"VLOOKUP(B4061,[1]export_1465921594229!$D4062:$G13322,4,FALSE)","v":"BEP-550228"},"BEP"]
[null,"Howe Tasha",{"$f":"VLOOKUP(B4062,[1]export_1465921594229!$D4063:$G13323,4,FALSE)","v":"C8B-124654"},"C8B"]
[null,"Howell Cindy",{"$f":"VLOOKUP(B4063,[1]export_1465921594229!$D4064:$G13324,4,FALSE)","v":"GE8-116085"},"GE8"]
[null,"Hrechka Daniel",{"$f":"VLOOKUP(B4064,[1]export_1465921594229!$D4065:$G13325,4,FALSE)","v":"OA1-119558"},"OA1"]
[null,"Hrechka Daniel",{"$f":"VLOOKUP(B4065,[1]export_1465921594229!$D4066:$G13326,4,FALSE)","v":"OA2-119559"},"OA2"]
[null,"Hu Li-Ling",{"$f":"VLOOKUP(B4066,[1]export_1465921594229!$D4067:$G13327,4,FALSE)","v":"DC6-115878"},"DC6"]
[null,"Huang Chi Wei",{"$f":"VLOOKUP(B4067,[1]export_1465921594229!$D4068:$G13328,4,FALSE)","v":"EU9-118618"},"EU9"]
[null,"Huang Kin Fang",{"$f":"VLOOKUP(B4068,[1]export_1465921594229!$D4069:$G13329,4,FALSE)","v":"A5Z-550824"},"A5Z"]
[null,"Huard Eric",{"$f":"VLOOKUP(B4069,[1]export_1465921594229!$D4070:$G13330,4,FALSE)","v":"AM9-121945"},"AM9"]
[null,"Huard Jennie",{"$f":"VLOOKUP(B4070,[1]export_1465921594229!$D4071:$G13331,4,FALSE)","v":"HE1-660601"},"HE1"]
[null,"Huard Viola",{"$f":"VLOOKUP(B4071,[1]export_1465921594229!$D4072:$G13332,4,FALSE)","v":"341-122369"},"341"]
[null,"Huard Viola",{"$f":"VLOOKUP(B4072,[1]export_1465921594229!$D4073:$G13333,4,FALSE)","v":"291-122331"},"291"]
[null,"Hubbs Bradley",{"$f":"VLOOKUP(B4073,[1]export_1465921594229!$D4074:$G13334,4,FALSE)","v":"PJ6-117533"},"PJ6"]
[null,"Huberdeau Guy",{"$f":"VLOOKUP(B4074,[1]export_1465921594229!$D4075:$G13335,4,FALSE)","v":"DXC-660049"},"DXC"]
[null,"Huberdeau Guy",{"$f":"VLOOKUP(B4075,[1]export_1465921594229!$D4076:$G13336,4,FALSE)","v":"K28-125286"},"K28"]
[null,"Hudda Mohamed",{"$f":"VLOOKUP(B4076,[1]export_1465921594229!$D4077:$G13337,4,FALSE)","v":"DSI-125166"},"DSI"]
[null,"Hudon Mathieu",{"$f":"VLOOKUP(B4077,[1]export_1465921594229!$D4078:$G13338,4,FALSE)","v":"JQ2-121061"},"JQ2"]
[null,"Hudon Stephane",{"$f":"VLOOKUP(B4078,[1]export_1465921594229!$D4079:$G13339,4,FALSE)","v":{"$error":"#N/A"}},{"$error":"#N/A"}]
[null,"Huen Lawrence",{"$f":"VLOOKUP(B4079,[1]export_1465921594229!$D4080:$G13340,4,FALSE)","v":"BKU-123261"},"BKU"]
[null,"Huet Denis",{"$f":"VLOOKUP(B4080,[1]export_1465921594229!$D4081:$G13341,4,FALSE)","v":"084-122567"},"084"]
[null,"Huet Denis",{"$f":"VLOOKUP(B4081,[1]export_1465921594229!$D4082:$G13342,4,FALSE)","v":"401-122282"},"401"]
[null,"Hufty Francois",{"$f":"VLOOKUP(B4082,[1]export_1465921594229!$D4083:$G13343,4,FALSE)","v":"LK3-660681"},"LK3"]
[null,"Huggins Tracey",{"$f":"VLOOKUP(B4083,[1]export_1465921594229!$D4084:$G13344,4,FALSE)","v":"KL1-121010"},"KL1"]
[null,"Huggins Tracey",{"$f":"VLOOKUP(B4084,[1]export_1465921594229!$D4085:$G13345,4,FALSE)","v":"GL3-121260"},"GL3"]
[null,"Huggins Tracey",{"$f":"VLOOKUP(B4085,[1]export_1465921594229!$D4086:$G13346,4,FALSE)","v":"IT0-121147"},"IT0"]
[null,"Huggins Tracey",{"$f":"VLOOKUP(B4086,[1]export_1465921594229!$D4087:$G13347,4,FALSE)","v":"MP3-120894"},"MP3"]
[null,"Huggins Tracey",{"$f":"VLOOKUP(B4087,[1]export_1465921594229!$D4088:$G13348,4,FALSE)","v":"LM5-120966"},"LM5"]
[null,"Hughes Gordon E",{"$f":"VLOOKUP(B4088,[1]export_1465921594229!$D4089:$G13349,4,FALSE)","v":"JW9-116604"},"JW9"]
[null,"Hughes Ivon",{"$f":"VLOOKUP(B4089,[1]export_1465921594229!$D4090:$G13350,4,FALSE)","v":"W86-120015"},"W86"]
[null,"Hughes Patrick",{"$f":"VLOOKUP(B4090,[1]export_1465921594229!$D4091:$G13351,4,FALSE)","v":"BDK-550795"},"BDK"]
[null,"Hui Siu Mei",{"$f":"VLOOKUP(B4091,[1]export_1465921594229!$D4092:$G13352,4,FALSE)","v":"DBW-124751"},"DBW"]
[null,"Hujan Sewak",{"$f":"VLOOKUP(B4092,[1]export_1465921594229!$D4093:$G13353,4,FALSE)","v":"HR3-116248"},"HR3"]
[null,"Humphrey Colin",{"$f":"VLOOKUP(B4093,[1]export_1465921594229!$D4094:$G13354,4,FALSE)","v":"EP3-121359"},"EP3"]
[null,"Humphries Tamara",{"$f":"VLOOKUP(B4094,[1]export_1465921594229!$D4095:$G13355,4,FALSE)","v":"B0M-123581"},"B0M"]
[null,"Hunermund Mark",{"$f":"VLOOKUP(B4095,[1]export_1465921594229!$D4096:$G13356,4,FALSE)","v":"B5D-123696"},"B5D"]
[null,"Hunjan Naunidh Singh",{"$f":"VLOOKUP(B4096,[1]export_1465921594229!$D4097:$G13357,4,FALSE)","v":"A6T-123020"},"A6T"]
[null,"Hunt James",{"$f":"VLOOKUP(B4097,[1]export_1465921594229!$D4098:$G13358,4,FALSE)","v":"DAJ-124712"},"DAJ"]
[null,"Hunt James",{"$f":"VLOOKUP(B4098,[1]export_1465921594229!$D4099:$G13359,4,FALSE)","v":"QQ9-502246"},{"$f":"LEFT(C4098,3)","v":"QQ9"}]
[null,"Hunter Michael",{"$f":"VLOOKUP(B4099,[1]export_1465921594229!$D4100:$G13360,4,FALSE)","v":"PT4-117612"},"PT4"]
[null,"Huot Helene",{"$f":"VLOOKUP(B4100,[1]export_1465921594229!$D4101:$G13361,4,FALSE)","v":"I53-660375"},"I53"]
[null,"Huot Martine",{"$f":"VLOOKUP(B4101,[1]export_1465921594229!$D4102:$G13362,4,FALSE)","v":"AV3-115753"},"AV3"]
[null,"Huot Pierre",{"$f":"VLOOKUP(B4102,[1]export_1465921594229!$D4103:$G13363,4,FALSE)","v":"142-122483"},"142"]
[null,"Hureau Patrick",{"$f":"VLOOKUP(B4103,[1]export_1465921594229!$D4104:$G13364,4,FALSE)","v":"BEM-550164"},"BEM"]
[null,"Hurlburt James",{"$f":"VLOOKUP(B4104,[1]export_1465921594229!$D4105:$G13365,4,FALSE)","v":"GO4-116101"},"GO4"]
[null,"Hurley James",{"$f":"VLOOKUP(B4105,[1]export_1465921594229!$D4106:$G13366,4,FALSE)","v":"DM1-550295"},"DM1"]
[null,"Hurley Mike",{"$f":"VLOOKUP(B4106,[1]export_1465921594229!$D4107:$G13367,4,FALSE)","v":"IZ6-121156"},"IZ6"]
[null,"Hurley Mike",{"$f":"VLOOKUP(B4107,[1]export_1465921594229!$D4108:$G13368,4,FALSE)","v":"DQ9-121542"},"DQ9"]
[null,"Hurley Sean",{"$f":"VLOOKUP(B4108,[1]export_1465921594229!$D4109:$G13369,4,FALSE)","v":"OE5-117306"},"OE5"]
[null,"Husain Mazhar",{"$f":"VLOOKUP(B4109,[1]export_1465921594229!$D4110:$G13370,4,FALSE)","v":"DNF-125035"},"DNF"]
[null,"Hussain Syed",{"$f":"VLOOKUP(B4110,[1]export_1465921594229!$D4111:$G13371,4,FALSE)","v":"MX2-117124"},"MX2"]
[null,"Hussein Mehmet (Mike)",{"$f":"VLOOKUP(B4111,[1]export_1465921594229!$D4112:$G13372,4,FALSE)","v":"DTI-125188"},"DTI"]
[null,"Hussein Mehmet (Mike)",{"$f":"VLOOKUP(B4112,[1]export_1465921594229!$D4113:$G13373,4,FALSE)","v":"LH5-119320"},"LH5"]
[null,"Hussein Mehmet (Mike)",{"$f":"VLOOKUP(B4113,[1]export_1465921594229!$D4114:$G13374,4,FALSE)","v":"DNM-125042"},"DNM"]
[null,"Hussein Mehmet (Mike)",{"$f":"VLOOKUP(B4114,[1]export_1465921594229!$D4115:$G13375,4,FALSE)","v":"LQ1-301869"},"LQ1"]
[null,"Hyacinthe Gallop",{"$f":"VLOOKUP(B4115,[1]export_1465921594229!$D4116:$G13376,4,FALSE)","v":"B39-121896"},"B39"]
[null,"Hyette Marcel",{"$f":"VLOOKUP(B4116,[1]export_1465921594229!$D4117:$G13377,4,FALSE)","v":"IR3-119152"},"IR3"]
[null,"Hyppolite Carolyn",{"$f":"VLOOKUP(B4117,[1]export_1465921594229!$D4118:$G13378,4,FALSE)","v":"QC3-119735"},"QC3"]
[null,"Hyppolite Carolyn",{"$f":"VLOOKUP(B4118,[1]export_1465921594229!$D4119:$G13379,4,FALSE)","v":"MN6-119428"},"MN6"]
[null,"Iacobaccio Don",{"$f":"VLOOKUP(B4119,[1]export_1465921594229!$D4120:$G13380,4,FALSE)","v":"BLD-660337"},"BLD"]
[null,"Iancu Raluca",{"$f":"VLOOKUP(B4120,[1]export_1465921594229!$D4121:$G13381,4,FALSE)","v":"BYH-123530"},"BYH"]
[null,"Iannacci Antonio",{"$f":"VLOOKUP(B4121,[1]export_1465921594229!$D4122:$G13382,4,FALSE)","v":"KN6-116732"},"KN6"]
[null,"Ibagon Maria",{"$f":"VLOOKUP(B4122,[1]export_1465921594229!$D4123:$G13383,4,FALSE)","v":"DFF-124836"},"DFF"]
[null,"Ibarrientos Dante",{"$f":"VLOOKUP(B4123,[1]export_1465921594229!$D4124:$G13384,4,FALSE)","v":"BYL-123533"},"BYL"]
[null,"Ibnouzahir Loubna",{"$f":"VLOOKUP(B4124,[1]export_1465921594229!$D4125:$G13385,4,FALSE)","v":"C2D-124510"},"C2D"]
[null,"Ibrahim Abdul",{"$f":"VLOOKUP(B4125,[1]export_1465921594229!$D4126:$G13386,4,FALSE)","v":"QI6-117702"},"QI6"]
[null,"Ibrahim Almour",{"$f":"VLOOKUP(B4126,[1]export_1465921594229!$D4127:$G13387,4,FALSE)","v":"BV4-120234"},"BV4"]
[null,"Ijaz Asif",{"$f":"VLOOKUP(B4127,[1]export_1465921594229!$D4128:$G13388,4,FALSE)","v":"C2T-124526"},"C2T"]
[null,"Ijaz Asif",{"$f":"VLOOKUP(B4128,[1]export_1465921594229!$D4129:$G13389,4,FALSE)","v":"DVD-125235"},"DVD"]
[null,"Ilesic Rhyse K.",{"$f":"VLOOKUP(B4129,[1]export_1465921594229!$D4130:$G13390,4,FALSE)","v":"R22-120592"},"R22"]
[null,"Illich Timothy",{"$f":"VLOOKUP(B4130,[1]export_1465921594229!$D4131:$G13391,4,FALSE)","v":"DA5-660018"},"DA5"]
[null,"Illich Timothy",{"$f":"VLOOKUP(B4131,[1]export_1465921594229!$D4132:$G13392,4,FALSE)","v":"BIR-123221"},"BIR"]
[null,"Imbeau Carl",{"$f":"VLOOKUP(B4132,[1]export_1465921594229!$D4133:$G13393,4,FALSE)","v":"A37-120194"},"A37"]
[null,"Imbeault Marc-Andre",{"$f":"VLOOKUP(B4133,[1]export_1465921594229!$D4134:$G13394,4,FALSE)","v":"K03-116620"},"K03"]
[null,"Imbeault Sylvain",{"$f":"VLOOKUP(B4134,[1]export_1465921594229!$D4135:$G13395,4,FALSE)","v":"DJG-124937"},"DJG"]
[null,"Ing Cindy",{"$f":"VLOOKUP(B4135,[1]export_1465921594229!$D4136:$G13396,4,FALSE)","v":"LR9-119357"},"LR9"]
[null,"Ingram Jermaine",{"$f":"VLOOKUP(B4136,[1]export_1465921594229!$D4137:$G13397,4,FALSE)","v":"B7A-123742"},"B7A"]
[null,"Inoue Tomoko",{"$f":"VLOOKUP(B4137,[1]export_1465921594229!$D4138:$G13398,4,FALSE)","v":"KC4-116656"},"KC4"]
[null,"Iqbal Asad",{"$f":"VLOOKUP(B4138,[1]export_1465921594229!$D4139:$G13399,4,FALSE)","v":"IA0-121119"},"IA0"]
[null,"Iqbal Md",{"$f":"VLOOKUP(B4139,[1]export_1465921594229!$D4140:$G13400,4,FALSE)","v":"MG3-117015"},"MG3"]
[null,"Irani Ariz",{"$f":"VLOOKUP(B4140,[1]export_1465921594229!$D4141:$G13401,4,FALSE)","v":"BXV-123519"},"BXV"]
[null,"Irani Kaiwan",{"$f":"VLOOKUP(B4141,[1]export_1465921594229!$D4142:$G13402,4,FALSE)","v":"EC9-118542"},"EC9"]
[null,"Irani (2335125 ON Inc.) Kyle Dustin",{"$f":"VLOOKUP(B4142,[1]export_1465921594229!$D4143:$G13403,4,FALSE)","v":"BKI-123252"},"BKI"]
[null,"Ireland Sharon",{"$f":"VLOOKUP(B4143,[1]export_1465921594229!$D4144:$G13404,4,FALSE)","v":"GP1-550618"},"GP1"]
[null,"Isaacson Anne Marie",{"$f":"VLOOKUP(B4144,[1]export_1465921594229!$D4145:$G13405,4,FALSE)","v":"QE6-119753"},"QE6"]
[null,"Isabelle Martin",{"$f":"VLOOKUP(B4145,[1]export_1465921594229!$D4146:$G13406,4,FALSE)","v":"PV5-660534"},"PV5"]
[null,"Isabelle Yannick",{"$f":"VLOOKUP(B4146,[1]export_1465921594229!$D4147:$G13407,4,FALSE)","v":"R17-120716"},"R17"]
[null,"Isakovic Stevan",{"$f":"VLOOKUP(B4147,[1]export_1465921594229!$D4148:$G13408,4,FALSE)","v":"KD2-116662"},"KD2"]
[null,"Isakovic C/O Celesta Fina Judy",{"$f":"VLOOKUP(B4148,[1]export_1465921594229!$D4149:$G13409,4,FALSE)","v":"KQ3-116747"},"KQ3"]
[null,"Iseyemi Anthony",{"$f":"VLOOKUP(B4149,[1]export_1465921594229!$D4150:$G13410,4,FALSE)","v":"D3D-125437"},"D3D"]
[null,"Iskierski Edward",{"$f":"VLOOKUP(B4150,[1]export_1465921594229!$D4151:$G13411,4,FALSE)","v":"DAH-124710"},"DAH"]
[null,"Iskierski Edward",{"$f":"VLOOKUP(B4151,[1]export_1465921594229!$D4152:$G13412,4,FALSE)","v":"B4B-502237"},"B4B"]
[null,"Islam Tazul",{"$f":"VLOOKUP(B4152,[1]export_1465921594229!$D4153:$G13413,4,FALSE)","v":"MC5-116986"},"MC5"]
[null,"Isley George",{"$f":"VLOOKUP(B4153,[1]export_1465921594229!$D4154:$G13414,4,FALSE)","v":"X80-120046"},"X80"]
[null,"Itiaba Patrice",{"$f":"VLOOKUP(B4154,[1]export_1465921594229!$D4155:$G13415,4,FALSE)","v":"C7S-124645"},"C7S"]
[null,"Ivanovic Ivan",{"$f":"VLOOKUP(B4155,[1]export_1465921594229!$D4156:$G13416,4,FALSE)","v":"KH9-119247"},"KH9"]
[null,"J Freed Heather",{"$f":"VLOOKUP(B4156,[1]export_1465921594229!$D4157:$G13417,4,FALSE)","v":"FP1-121310"},"FP1"]
[null,"Jabrane Ahmed",{"$f":"VLOOKUP(B4157,[1]export_1465921594229!$D4158:$G13418,4,FALSE)","v":"J90-121041"},"J90"]
[null,"Jacinto Sonny",{"$f":"VLOOKUP(B4158,[1]export_1465921594229!$D4159:$G13419,4,FALSE)","v":"HG2-116189"},"HG2"]
[null,"Jacklin Eric",{"$f":"VLOOKUP(B4159,[1]export_1465921594229!$D4160:$G13420,4,FALSE)","v":"CPU-124204"},"CPU"]
[null,"Jackson Dwayne",{"$f":"VLOOKUP(B4160,[1]export_1465921594229!$D4161:$G13421,4,FALSE)","v":"DOV-125077"},"DOV"]
[null,"Jackson Kojo Edu",{"$f":"VLOOKUP(B4161,[1]export_1465921594229!$D4162:$G13422,4,FALSE)","v":"KS9-119276"},"KS9"]
[null,"Jackson Maurice",{"$f":"VLOOKUP(B4162,[1]export_1465921594229!$D4163:$G13423,4,FALSE)","v":"BRH-123381"},{"$f":"LEFT(C4162,3)","v":"BRH"}]
[null,"Jackson Maurice",{"$f":"VLOOKUP(B4163,[1]export_1465921594229!$D4164:$G13424,4,FALSE)","v":"OA3-119560"},"OA3"]
[null,"Jackson Maurice",{"$f":"VLOOKUP(B4164,[1]export_1465921594229!$D4165:$G13425,4,FALSE)","v":"DQG-125114"},"DQG"]
[null,"Jackson Maurice",{"$f":"VLOOKUP(B4165,[1]export_1465921594229!$D4166:$G13426,4,FALSE)","v":"HL3-115598"},"HL3"]
[null,"Jackson Maurice",{"$f":"VLOOKUP(B4166,[1]export_1465921594229!$D4167:$G13427,4,FALSE)","v":"DQF-125113"},"DQF"]
[null,"Jackson Maurice",{"$f":"VLOOKUP(B4167,[1]export_1465921594229!$D4168:$G13428,4,FALSE)","v":"HL5-119042"},"HL5"]
[null,"Jackson Nicholas",{"$f":"VLOOKUP(B4168,[1]export_1465921594229!$D4169:$G13429,4,FALSE)","v":"DTQ-125196"},"DTQ"]
[null,"Jackson Pierre",{"$f":"VLOOKUP(B4169,[1]export_1465921594229!$D4170:$G13430,4,FALSE)","v":"D57-120150"},"D57"]
[null,"Jackson Warren",{"$f":"VLOOKUP(B4170,[1]export_1465921594229!$D4171:$G13431,4,FALSE)","v":"OI9-119571"},"OI9"]
[null,"Jackson Warren",{"$f":"VLOOKUP(B4171,[1]export_1465921594229!$D4172:$G13432,4,FALSE)","v":"OI8-119570"},"OI8"]
[null,"Jacob Jacob Mazhavencherry",{"$f":"VLOOKUP(B4172,[1]export_1465921594229!$D4173:$G13433,4,FALSE)","v":"PP2-117580"},"PP2"]
[null,"Jacob Madeleine",{"$f":"VLOOKUP(B4173,[1]export_1465921594229!$D4174:$G13434,4,FALSE)","v":"130-122472"},"130"]
[null,"Jacob Parnell-Adler",{"$f":"VLOOKUP(B4174,[1]export_1465921594229!$D4175:$G13435,4,FALSE)","v":"RE3-660283"},"RE3"]
[null,"Jacob Steve",{"$f":"VLOOKUP(B4175,[1]export_1465921594229!$D4176:$G13436,4,FALSE)","v":"G14-118818"},"G14"]
[null,"Jacobs Jennifer",{"$f":"VLOOKUP(B4176,[1]export_1465921594229!$D4177:$G13437,4,FALSE)","v":"DYP-125325"},"DYP"]
[null,"Jacobson Martin",{"$f":"VLOOKUP(B4177,[1]export_1465921594229!$D4178:$G13438,4,FALSE)","v":"HC1-028124"},"HC1"]
[null,"Jacobson Martin",{"$f":"VLOOKUP(B4178,[1]export_1465921594229!$D4179:$G13439,4,FALSE)","v":"N02-119450"},"N02"]
[null,"Jacobson Martin",{"$f":"VLOOKUP(B4179,[1]export_1465921594229!$D4180:$G13440,4,FALSE)","v":"BQZ-123373"},"BQZ"]
[null,"Jacquelin Doucet",{"$f":"VLOOKUP(B4180,[1]export_1465921594229!$D4181:$G13441,4,FALSE)","v":"M81-116963"},"M81"]
[null,"Jacques Denis",{"$f":"VLOOKUP(B4181,[1]export_1465921594229!$D4182:$G13442,4,FALSE)","v":"P78-119633"},"P78"]
[null,"Jacques Francois",{"$f":"VLOOKUP(B4182,[1]export_1465921594229!$D4183:$G13443,4,FALSE)","v":"QU0-117788"},"QU0"]
[null,"Jacques Helene",{"$f":"VLOOKUP(B4183,[1]export_1465921594229!$D4184:$G13444,4,FALSE)","v":{"$error":"#N/A"}},{"$error":"#N/A"}]
[null,"Jacques Jean-Claude",{"$f":"VLOOKUP(B4184,[1]export_1465921594229!$D4185:$G13445,4,FALSE)","v":"H92-660129"},"H92"]
[null,"Jacques Jean-Philippe",{"$f":"VLOOKUP(B4185,[1]export_1465921594229!$D4186:$G13446,4,FALSE)","v":"AS7-121971"},"AS7"]
[null,"Jacques Kurtis",{"$f":"VLOOKUP(B4186,[1]export_1465921594229!$D4187:$G13447,4,FALSE)","v":"GC2-118857"},"GC2"]
[null,"Jacques Louiselle",{"$f":"VLOOKUP(B4187,[1]export_1465921594229!$D4188:$G13448,4,FALSE)","v":"L30-120179"},"L30"]
[null,"Jacques Patrice",{"$f":"VLOOKUP(B4188,[1]export_1465921594229!$D4189:$G13449,4,FALSE)","v":"DRE-125137"},"DRE"]
[null,"Jacques Thomas",{"$f":"VLOOKUP(B4189,[1]export_1465921594229!$D4190:$G13450,4,FALSE)","v":"DRM-125144"},"DRM"]
[null,"Jacques Veronique",{"$f":"VLOOKUP(B4190,[1]export_1465921594229!$D4191:$G13451,4,FALSE)","v":{"$error":"#N/A"}},{"$error":"#N/A"}]
[null,"Jacques Vincent",{"$f":"VLOOKUP(B4191,[1]export_1465921594229!$D4192:$G13452,4,FALSE)","v":"JO5-660310"},"JO5"]
[null,"Jadwani Joginder",{"$f":"VLOOKUP(B4192,[1]export_1465921594229!$D4193:$G13453,4,FALSE)","v":"DCP-124769"},"DCP"]
[null,"Jafarieh Khosro",{"$f":"VLOOKUP(B4193,[1]export_1465921594229!$D4194:$G13454,4,FALSE)","v":"QL1-117716"},"QL1"]
[null,"Jafri Saeed",{"$f":"VLOOKUP(B4194,[1]export_1465921594229!$D4195:$G13455,4,FALSE)","v":"LB1-550661"},"LB1"]
[null,"Jahanbin Shahrokh (Shan)",{"$f":"VLOOKUP(B4195,[1]export_1465921594229!$D4196:$G13456,4,FALSE)","v":"Q80-119710"},"Q80"]
[null,"Jain Pawan",{"$f":"VLOOKUP(B4196,[1]export_1465921594229!$D4197:$G13457,4,FALSE)","v":"EW8-118631"},"EW8"]
[null,"Jain Sumeer",{"$f":"VLOOKUP(B4197,[1]export_1465921594229!$D4198:$G13458,4,FALSE)","v":"GR7-118936"},"GR7"]
[null,"Jain C/O Superior Investm Sneh",{"$f":"VLOOKUP(B4198,[1]export_1465921594229!$D4199:$G13459,4,FALSE)","v":"KF2-116678"},"KF2"]
[null,"Jain-Fecteau Vanessa-Mayura",{"$f":"VLOOKUP(B4199,[1]export_1465921594229!$D4200:$G13460,4,FALSE)","v":"BMY-600082"},"BMY"]
[null,"Jairaj Cheryl",{"$f":"VLOOKUP(B4200,[1]export_1465921594229!$D4201:$G13461,4,FALSE)","v":"BDH-550719"},"BDH"]
[null,"Jairath Pankaj",{"$f":"VLOOKUP(B4201,[1]export_1465921594229!$D4202:$G13462,4,FALSE)","v":"GM5-118908"},"GM5"]
[null,"Jaison Jessy",{"$f":"VLOOKUP(B4202,[1]export_1465921594229!$D4203:$G13463,4,FALSE)","v":"FM6-118752"},"FM6"]
[null,"Jaitley Rakesh",{"$f":"VLOOKUP(B4203,[1]export_1465921594229!$D4204:$G13464,4,FALSE)","v":"RA5-117858"},"RA5"]
[null,"Jajo Wael",{"$f":"VLOOKUP(B4204,[1]export_1465921594229!$D4205:$G13465,4,FALSE)","v":"GO8-116102"},"GO8"]
[null,"Jakarsezian Abraham",{"$f":"VLOOKUP(B4205,[1]export_1465921594229!$D4206:$G13466,4,FALSE)","v":"B2C-123621"},"B2C"]
[null,"Jaklic Tina-Lee Margaretha",{"$f":"VLOOKUP(B4206,[1]export_1465921594229!$D4207:$G13467,4,FALSE)","v":"PS3-119659"},"PS3"]
[null,"Jaklic Tina-Lee Margaretha",{"$f":"VLOOKUP(B4207,[1]export_1465921594229!$D4208:$G13468,4,FALSE)","v":"PS2-119658"},"PS2"]
[null,"Jakma Esterina",{"$f":"VLOOKUP(B4208,[1]export_1465921594229!$D4209:$G13469,4,FALSE)","v":"C2F-124512"},"C2F"]
[null,"Jalali Qaseem",{"$f":"VLOOKUP(B4209,[1]export_1465921594229!$D4210:$G13470,4,FALSE)","v":"BSS-431099"},"BSS"]
[null,"Jalali Qaseem",{"$f":"VLOOKUP(B4210,[1]export_1465921594229!$D4211:$G13471,4,FALSE)","v":"BTA-502274"},"BTA"]
[null,"Jalbert Daniel",{"$f":"VLOOKUP(B4211,[1]export_1465921594229!$D4212:$G13472,4,FALSE)","v":"IN3-660353"},"IN3"]
[null,"Jalbert Jean-Paul",{"$f":"VLOOKUP(B4212,[1]export_1465921594229!$D4213:$G13473,4,FALSE)","v":"CC2-115817"},"CC2"]
[null,"Jalbert Mario",{"$f":"VLOOKUP(B4213,[1]export_1465921594229!$D4214:$G13474,4,FALSE)","v":"EU2-121377"},"EU2"]
[null,"Jalbert Mario",{"$f":"VLOOKUP(B4214,[1]export_1465921594229!$D4215:$G13475,4,FALSE)","v":"EU1-121376"},"EU1"]
[null,"Jalbert Martin",{"$f":"VLOOKUP(B4215,[1]export_1465921594229!$D4216:$G13476,4,FALSE)","v":"W61-120002"},"W61"]
[null,"Jamadar Dania",{"$f":"VLOOKUP(B4216,[1]export_1465921594229!$D4217:$G13477,4,FALSE)","v":"PX4-117648"},"PX4"]
[null,"Jambo Patricia",{"$f":"VLOOKUP(B4217,[1]export_1465921594229!$D4218:$G13478,4,FALSE)","v":"OM4-119578"},"OM4"]
[null,"Jambrosic(Sunrise Finan) Allan",{"$f":"VLOOKUP(B4218,[1]export_1465921594229!$D4219:$G13479,4,FALSE)","v":"QL6-117720"},"QL6"]
[null,"James Juleta",{"$f":"VLOOKUP(B4219,[1]export_1465921594229!$D4220:$G13480,4,FALSE)","v":"HO1-119051"},"HO1"]
[null,"James Juleta",{"$f":"VLOOKUP(B4220,[1]export_1465921594229!$D4221:$G13481,4,FALSE)","v":"IK5-119137"},"IK5"]
[null,"James Juleta",{"$f":"VLOOKUP(B4221,[1]export_1465921594229!$D4222:$G13482,4,FALSE)","v":"HO2-119052"},"HO2"]
[null,"James Juleta",{"$f":"VLOOKUP(B4222,[1]export_1465921594229!$D4223:$G13483,4,FALSE)","v":"PX7-119664"},"PX7"]
[null,"James Juleta",{"$f":"VLOOKUP(B4223,[1]export_1465921594229!$D4224:$G13484,4,FALSE)","v":"QA0-119718"},"QA0"]
[null,"James Larry",{"$f":"VLOOKUP(B4224,[1]export_1465921594229!$D4225:$G13485,4,FALSE)","v":"DXM-125296"},"DXM"]
[null,"James Michael",{"$f":"VLOOKUP(B4225,[1]export_1465921594229!$D4226:$G13486,4,FALSE)","v":"LF3-116834"},"LF3"]
[null,"James Sonja",{"$f":"VLOOKUP(B4226,[1]export_1465921594229!$D4227:$G13487,4,FALSE)","v":"LI5-116856"},{"$f":"LEFT(C4226,3)","v":"LI5"}]
[null,"Jamieson Dusty",{"$f":"VLOOKUP(B4227,[1]export_1465921594229!$D4228:$G13488,4,FALSE)","v":"QK3-117710"},"QK3"]
[null,"Jamieson Patrick",{"$f":"VLOOKUP(B4228,[1]export_1465921594229!$D4229:$G13489,4,FALSE)","v":"DQZ-125133"},"DQZ"]
[null,"Jamorabon Mario",{"$f":"VLOOKUP(B4229,[1]export_1465921594229!$D4230:$G13490,4,FALSE)","v":"IX0-119162"},"IX0"]
[null,"Jamshidi Keyvan",{"$f":"VLOOKUP(B4230,[1]export_1465921594229!$D4231:$G13491,4,FALSE)","v":"B0K-502333"},"B0K"]
[null,"Jamshidi Keyvan",{"$f":"VLOOKUP(B4231,[1]export_1465921594229!$D4232:$G13492,4,FALSE)","v":"CHK-124001"},"CHK"]
[null,"Jandu Paramjeet",{"$f":"VLOOKUP(B4232,[1]export_1465921594229!$D4233:$G13493,4,FALSE)","v":"BBL-550212"},"BBL"]
[null,"Janecki Margaret",{"$f":"VLOOKUP(B4233,[1]export_1465921594229!$D4234:$G13494,4,FALSE)","v":"LS5-116901"},"LS5"]
[null,"Jangir Mahendra",{"$f":"VLOOKUP(B4234,[1]export_1465921594229!$D4235:$G13495,4,FALSE)","v":"PF9-117501"},"PF9"]
[null,"Janzen Eric",{"$f":"VLOOKUP(B4235,[1]export_1465921594229!$D4236:$G13496,4,FALSE)","v":"HC2-028365"},"HC2"]
[null,"Janzen Eric",{"$f":"VLOOKUP(B4236,[1]export_1465921594229!$D4237:$G13497,4,FALSE)","v":"LH8-119321"},"LH8"]
[null,"Janzen Eric",{"$f":"VLOOKUP(B4237,[1]export_1465921594229!$D4238:$G13498,4,FALSE)","v":"BRA-123374"},"BRA"]
[null,"Janzen Eric",{"$f":"VLOOKUP(B4238,[1]export_1465921594229!$D4239:$G13499,4,FALSE)","v":"N03-119451"},"N03"]
[null,"Jarayaj David",{"$f":"VLOOKUP(B4239,[1]export_1465921594229!$D4240:$G13500,4,FALSE)","v":"R08-120713"},"R08"]
[null,"Jarry François",{"$f":"VLOOKUP(B4240,[1]export_1465921594229!$D4241:$G13501,4,FALSE)","v":"C4E-124559"},"C4E"]
[null,"Jarry Philippe",{"$f":"VLOOKUP(B4241,[1]export_1465921594229!$D4242:$G13502,4,FALSE)","v":"C71-120124"},"C71"]
[null,"Jarvie Scott",{"$f":"VLOOKUP(B4242,[1]export_1465921594229!$D4243:$G13503,4,FALSE)","v":"MD8-120886"},"MD8"]
[null,"Jarvis Stanley",{"$f":"VLOOKUP(B4243,[1]export_1465921594229!$D4244:$G13504,4,FALSE)","v":"V68-119967"},"V68"]
[null,"Jasmin Alain",{"$f":"VLOOKUP(B4244,[1]export_1465921594229!$D4245:$G13505,4,FALSE)","v":"GJ3-118893"},"GJ3"]
[null,"Jastaniah Awse",{"$f":"VLOOKUP(B4245,[1]export_1465921594229!$D4246:$G13506,4,FALSE)","v":"CDV-123910"},"CDV"]
[null,"Javadi Nejad Saeid",{"$f":"VLOOKUP(B4246,[1]export_1465921594229!$D4247:$G13507,4,FALSE)","v":"DHY-124904"},"DHY"]
[null,"Javed Jane",{"$f":"VLOOKUP(B4247,[1]export_1465921594229!$D4248:$G13508,4,FALSE)","v":"ML7-117052"},"ML7"]
[null,"Jayakanth Wignarajah",{"$f":"VLOOKUP(B4248,[1]export_1465921594229!$D4249:$G13509,4,FALSE)","v":"KZ5-116789"},"KZ5"]
[null,"Jayaratnam Kalaichelvi",{"$f":"VLOOKUP(B4249,[1]export_1465921594229!$D4250:$G13510,4,FALSE)","v":"DMO-125018"},"DMO"]
[null,"Jean Bernard",{"$f":"VLOOKUP(B4250,[1]export_1465921594229!$D4251:$G13511,4,FALSE)","v":"M94-020407"},"M94"]
[null,"Jean Bernard",{"$f":"VLOOKUP(B4251,[1]export_1465921594229!$D4252:$G13512,4,FALSE)","v":"920-122092"},"920"]
[null,"Jean Johanne",{"$f":"VLOOKUP(B4252,[1]export_1465921594229!$D4253:$G13513,4,FALSE)","v":"LK5-116863"},"LK5"]
[null,"Jean Roody",{"$f":"VLOOKUP(B4253,[1]export_1465921594229!$D4254:$G13514,4,FALSE)","v":"LO5-116887"},"LO5"]
[null,"Jean Sylvia",{"$f":"VLOOKUP(B4254,[1]export_1465921594229!$D4255:$G13515,4,FALSE)","v":"A48-122122"},"A48"]
[null,"Jean Woodly",{"$f":"VLOOKUP(B4255,[1]export_1465921594229!$D4256:$G13516,4,FALSE)","v":"DFE-124835"},"DFE"]
[null,"Jean-Baptiste Leopold",{"$f":"VLOOKUP(B4256,[1]export_1465921594229!$D4257:$G13517,4,FALSE)","v":"HE8-660138"},"HE8"]
[null,"jean-noel marc",{"$f":"VLOOKUP(B4257,[1]export_1465921594229!$D4258:$G13518,4,FALSE)","v":"CRW-124253"},"CRW"]
[null,"Jeanrie Sylvain",{"$f":"VLOOKUP(B4258,[1]export_1465921594229!$D4259:$G13519,4,FALSE)","v":"C8Q-124669"},"C8Q"]
[null,"Jeanson Jerry",{"$f":"VLOOKUP(B4259,[1]export_1465921594229!$D4260:$G13520,4,FALSE)","v":"Q29-119684"},"Q29"]
[null,"Jeaurond Dominique",{"$f":"VLOOKUP(B4260,[1]export_1465921594229!$D4261:$G13521,4,FALSE)","v":"LH1-550874"},"LH1"]
[null,"Jeevaratnam Pratap",{"$f":"VLOOKUP(B4261,[1]export_1465921594229!$D4262:$G13522,4,FALSE)","v":"PW2-117637"},"PW2"]
[null,"Jeffray Beverly",{"$f":"VLOOKUP(B4262,[1]export_1465921594229!$D4263:$G13523,4,FALSE)","v":"HJ5-116208"},"HJ5"]
[null,"Jeffray Brian",{"$f":"VLOOKUP(B4263,[1]export_1465921594229!$D4264:$G13524,4,FALSE)","v":"BN5-118231"},"BN5"]
[null,"Jeffries Elvira",{"$f":"VLOOKUP(B4264,[1]export_1465921594229!$D4265:$G13525,4,FALSE)","v":"DAK-124713"},"DAK"]
[null,"Jeffries Elvira",{"$f":"VLOOKUP(B4265,[1]export_1465921594229!$D4266:$G13526,4,FALSE)","v":"GJ4-028488"},"GJ4"]
[null,"Jeffries Elvira",{"$f":"VLOOKUP(B4266,[1]export_1465921594229!$D4267:$G13527,4,FALSE)","v":"N77-328488"},"N77"]
[null,"Jeganmohan Kalaivany",{"$f":"VLOOKUP(B4267,[1]export_1465921594229!$D4268:$G13528,4,FALSE)","v":"NZ1-117265"},"NZ1"]
[null,"Jenkins Beverley",{"$f":"VLOOKUP(B4268,[1]export_1465921594229!$D4269:$G13529,4,FALSE)","v":"D3K-125443"},"D3K"]
[null,"Jennings Gail",{"$f":"VLOOKUP(B4269,[1]export_1465921594229!$D4270:$G13530,4,FALSE)","v":"FW6-116042"},"FW6"]
[null,"Jennings Gail",{"$f":"VLOOKUP(B4270,[1]export_1465921594229!$D4271:$G13531,4,FALSE)","v":"BSD-123401"},"BSD"]
[null,"Jennings Gail",{"$f":"VLOOKUP(B4271,[1]export_1465921594229!$D4272:$G13532,4,FALSE)","v":"N11-120907"},"N11"]
[null,"Jensen Brian",{"$f":"VLOOKUP(B4272,[1]export_1465921594229!$D4273:$G13533,4,FALSE)","v":"QN5-117737"},"QN5"]
[null,"Jensen Shirley",{"$f":"VLOOKUP(B4273,[1]export_1465921594229!$D4274:$G13534,4,FALSE)","v":"HC5-501163"},"HC5"]
[null,"Jensen Shirley",{"$f":"VLOOKUP(B4274,[1]export_1465921594229!$D4275:$G13535,4,FALSE)","v":"N15-120782"},"N15"]
[null,"Jeon Seong",{"$f":"VLOOKUP(B4275,[1]export_1465921594229!$D4276:$G13536,4,FALSE)","v":"N20-120787"},"N20"]
[null,"Jette Francis",{"$f":"VLOOKUP(B4276,[1]export_1465921594229!$D4277:$G13537,4,FALSE)","v":"D09-121562"},"D09"]
[null,"Jette Richard",{"$f":"VLOOKUP(B4277,[1]export_1465921594229!$D4278:$G13538,4,FALSE)","v":"AL4-660081"},"AL4"]
[null,"Jette Vanessa",{"$f":"VLOOKUP(B4278,[1]export_1465921594229!$D4279:$G13539,4,FALSE)","v":{"$error":"#N/A"}},{"$error":"#N/A"}]
[null,"Jeudy Moulalta",{"$f":"VLOOKUP(B4279,[1]export_1465921594229!$D4280:$G13540,4,FALSE)","v":"EN4-115963"},"EN4"]
[null,"Jeune Francis",{"$f":"VLOOKUP(B4280,[1]export_1465921594229!$D4281:$G13541,4,FALSE)","v":"BYJ-502340"},"BYJ"]
[null,"Jewell Charles",{"$f":"VLOOKUP(B4281,[1]export_1465921594229!$D4282:$G13542,4,FALSE)","v":"V60-120462"},"V60"]
[null,"Jeyakanthan Jayson",{"$f":"VLOOKUP(B4282,[1]export_1465921594229!$D4283:$G13543,4,FALSE)","v":"B0E-550917"},"B0E"]
[null,"Jeyanthan Anujah",{"$f":"VLOOKUP(B4283,[1]export_1465921594229!$D4284:$G13544,4,FALSE)","v":"CJJ-124048"},"CJJ"]
[null,"Jhagroo Horace",{"$f":"VLOOKUP(B4284,[1]export_1465921594229!$D4285:$G13545,4,FALSE)","v":"BD1-115767"},"BD1"]
[null,"Jhajj Harneet",{"$f":"VLOOKUP(B4285,[1]export_1465921594229!$D4286:$G13546,4,FALSE)","v":"BCM-550438"},"BCM"]
[null,"Jhajj Jagdeep",{"$f":"VLOOKUP(B4286,[1]export_1465921594229!$D4287:$G13547,4,FALSE)","v":"JF5-119196"},"JF5"]
[null,"Jhajj Kanwarpal",{"$f":"VLOOKUP(B4287,[1]export_1465921594229!$D4288:$G13548,4,FALSE)","v":"FZ1-118808"},"FZ1"]
[null,"Jimenez Rodolfo",{"$f":"VLOOKUP(B4288,[1]export_1465921594229!$D4289:$G13549,4,FALSE)","v":"MM2-119424"},"MM2"]
[null,"Jimenez Rodolfo",{"$f":"VLOOKUP(B4289,[1]export_1465921594229!$D4290:$G13550,4,FALSE)","v":"MM1-119423"},"MM1"]
[null,"Jindal Aditya",{"$f":"VLOOKUP(B4290,[1]export_1465921594229!$D4291:$G13551,4,FALSE)","v":"CYD-124409"},{"$f":"LEFT(C4290,3)","v":"CYD"}]
[null,"Jindal Aditya",{"$f":"VLOOKUP(B4291,[1]export_1465921594229!$D4292:$G13552,4,FALSE)","v":"DKD-124958"},"DKD"]
[null,"Joannette Alexandre",{"$f":"VLOOKUP(B4292,[1]export_1465921594229!$D4293:$G13553,4,FALSE)","v":"DM3-660726"},"DM3"]
[null,"Joannette Claude",{"$f":"VLOOKUP(B4293,[1]export_1465921594229!$D4294:$G13554,4,FALSE)","v":"BP0-118235"},"BP0"]
[null,"Joannette Francis",{"$f":"VLOOKUP(B4294,[1]export_1465921594229!$D4295:$G13555,4,FALSE)","v":"D70-121601"},"D70"]
[null,"Joannette Ginette",{"$f":"VLOOKUP(B4295,[1]export_1465921594229!$D4296:$G13556,4,FALSE)","v":"BFU-600078"},"BFU"]
[null,"Joannette Marie-Eve",{"$f":"VLOOKUP(B4296,[1]export_1465921594229!$D4297:$G13557,4,FALSE)","v":"HN8-116233"},"HN8"]
[null,"Joaquin Emelina",{"$f":"VLOOKUP(B4297,[1]export_1465921594229!$D4298:$G13558,4,FALSE)","v":"BA4-118189"},"BA4"]
[null,"Job Vivian",{"$f":"VLOOKUP(B4298,[1]export_1465921594229!$D4299:$G13559,4,FALSE)","v":"D1V-125404"},"D1V"]
[null,"Jobin Andre",{"$f":"VLOOKUP(B4299,[1]export_1465921594229!$D4300:$G13560,4,FALSE)","v":"302-122338"},"302"]
[null,"Jobin Lucie",{"$f":"VLOOKUP(B4300,[1]export_1465921594229!$D4301:$G13561,4,FALSE)","v":"DJY-124953"},"DJY"]
[null,"Jodoin Lucie",{"$f":"VLOOKUP(B4301,[1]export_1465921594229!$D4302:$G13562,4,FALSE)","v":"G86-118842"},"G86"]
[null,"Jodoin Marcel",{"$f":"VLOOKUP(B4302,[1]export_1465921594229!$D4303:$G13563,4,FALSE)","v":"JH9-116507"},"JH9"]
[null,"Jodoin Michel",{"$f":"VLOOKUP(B4303,[1]export_1465921594229!$D4304:$G13564,4,FALSE)","v":"CZU-124450"},"CZU"]
[null,"Johal Paramjeet",{"$f":"VLOOKUP(B4304,[1]export_1465921594229!$D4305:$G13565,4,FALSE)","v":"GX4-118953"},"GX4"]
[null,"Johal Perminder",{"$f":"VLOOKUP(B4305,[1]export_1465921594229!$D4306:$G13566,4,FALSE)","v":"EU4-118613"},"EU4"]
[null,"Johannson Sharon",{"$f":"VLOOKUP(B4306,[1]export_1465921594229!$D4307:$G13567,4,FALSE)","v":"EW4-115978"},"EW4"]
[null,"Johanson Patricia",{"$f":"VLOOKUP(B4307,[1]export_1465921594229!$D4308:$G13568,4,FALSE)","v":"B5A-123693"},"B5A"]
[null,"John Nadira",{"$f":"VLOOKUP(B4308,[1]export_1465921594229!$D4309:$G13569,4,FALSE)","v":"DVW-125254"},"DVW"]
[null,"Johnson Brian",{"$f":"VLOOKUP(B4309,[1]export_1465921594229!$D4310:$G13570,4,FALSE)","v":"S76-120635"},"S76"]
[null,"Johnson Courtney",{"$f":"VLOOKUP(B4310,[1]export_1465921594229!$D4311:$G13571,4,FALSE)","v":"D5P-125499"},"D5P"]
[null,"Johnson Laurent",{"$f":"VLOOKUP(B4311,[1]export_1465921594229!$D4312:$G13572,4,FALSE)","v":"BLM-123278"},"BLM"]
[null,"Johnson Linda",{"$f":"VLOOKUP(B4312,[1]export_1465921594229!$D4313:$G13573,4,FALSE)","v":"P75-120670"},"P75"]
[null,"Johnson Melissa",{"$f":"VLOOKUP(B4313,[1]export_1465921594229!$D4314:$G13574,4,FALSE)","v":"BYA-501890"},"BYA"]
[null,"Johnson Mikhail",{"$f":"VLOOKUP(B4314,[1]export_1465921594229!$D4315:$G13575,4,FALSE)","v":"CFW-123962"},"CFW"]
[null,"Johnson Mikhail",{"$f":"VLOOKUP(B4315,[1]export_1465921594229!$D4316:$G13576,4,FALSE)","v":"LW2-116927"},"LW2"]
[null,"Johnson Reid",{"$f":"VLOOKUP(B4316,[1]export_1465921594229!$D4317:$G13577,4,FALSE)","v":"BSJ-123407"},"BSJ"]
[null,"Johnson Reid",{"$f":"VLOOKUP(B4317,[1]export_1465921594229!$D4318:$G13578,4,FALSE)","v":"BSI-123406"},"BSI"]
[null,"Johnson Reid",{"$f":"VLOOKUP(B4318,[1]export_1465921594229!$D4319:$G13579,4,FALSE)","v":"QL9-117722"},"QL9"]
[null,"Johnson Robert G.",{"$f":"VLOOKUP(B4319,[1]export_1465921594229!$D4320:$G13580,4,FALSE)","v":"W29-550131"},"W29"]
[null,"Johnson Sherri",{"$f":"VLOOKUP(B4320,[1]export_1465921594229!$D4321:$G13581,4,FALSE)","v":"DBY-124753"},"DBY"]
[null,"Johnson Morris Gail",{"$f":"VLOOKUP(B4321,[1]export_1465921594229!$D4322:$G13582,4,FALSE)","v":"AT6-121975"},"AT6"]
[null,"Johnson Morris Gail",{"$f":"VLOOKUP(B4322,[1]export_1465921594229!$D4323:$G13583,4,FALSE)","v":"AT7-121976"},"AT7"]
[null,"Jolicoeur Daniel",{"$f":"VLOOKUP(B4323,[1]export_1465921594229!$D4324:$G13584,4,FALSE)","v":"JD1-116479"},"JD1"]
[null,"Jolicoeur Francois",{"$f":"VLOOKUP(B4324,[1]export_1465921594229!$D4325:$G13585,4,FALSE)","v":"FC9-118694"},"FC9"]
[null,"Jolin Diane",{"$f":"VLOOKUP(B4325,[1]export_1465921594229!$D4326:$G13586,4,FALSE)","v":"A03-122094"},"A03"]
[null,"Joly Dominique",{"$f":"VLOOKUP(B4326,[1]export_1465921594229!$D4327:$G13587,4,FALSE)","v":"557-120267"},"557"]
[null,"Joly Jean Andre",{"$f":"VLOOKUP(B4327,[1]export_1465921594229!$D4328:$G13588,4,FALSE)","v":"AO3-118148"},"AO3"]
[null,"Joly Martin",{"$f":"VLOOKUP(B4328,[1]export_1465921594229!$D4329:$G13589,4,FALSE)","v":"442-115704"},"442"]
[null,"Jomphe Viateur",{"$f":"VLOOKUP(B4329,[1]export_1465921594229!$D4330:$G13590,4,FALSE)","v":"F20-660558"},"F20"]
[null,"Joncas Daniel",{"$f":"VLOOKUP(B4330,[1]export_1465921594229!$D4331:$G13591,4,FALSE)","v":"B3V-123663"},"B3V"]
[null,"Jones Brent",{"$f":"VLOOKUP(B4331,[1]export_1465921594229!$D4332:$G13592,4,FALSE)","v":"D1X-125406"},"D1X"]
[null,"Jones Cheryl Lynn",{"$f":"VLOOKUP(B4332,[1]export_1465921594229!$D4333:$G13593,4,FALSE)","v":"MF3-119411"},"MF3"]
[null,"Jones Cheryl Lynn",{"$f":"VLOOKUP(B4333,[1]export_1465921594229!$D4334:$G13594,4,FALSE)","v":"MF2-119410"},"MF2"]
[null,"Jones David",{"$f":"VLOOKUP(B4334,[1]export_1465921594229!$D4335:$G13595,4,FALSE)","v":"Z39-120069"},"Z39"]
[null,"Jones Ellen",{"$f":"VLOOKUP(B4335,[1]export_1465921594229!$D4336:$G13596,4,FALSE)","v":"KW0-119281"},"KW0"]
[null,"Jones Ellen",{"$f":"VLOOKUP(B4336,[1]export_1465921594229!$D4337:$G13597,4,FALSE)","v":"KW7-119282"},"KW7"]
[null,"Jones Lance",{"$f":"VLOOKUP(B4337,[1]export_1465921594229!$D4338:$G13598,4,FALSE)","v":"CEY-123939"},"CEY"]
[null,"Jones Michel",{"$f":"VLOOKUP(B4338,[1]export_1465921594229!$D4339:$G13599,4,FALSE)","v":"IW3-121155"},"IW3"]
[null,"Jones Michel",{"$f":"VLOOKUP(B4339,[1]export_1465921594229!$D4340:$G13600,4,FALSE)","v":"E16-118474"},"E16"]
[null,"Jones Myran",{"$f":"VLOOKUP(B4340,[1]export_1465921594229!$D4341:$G13601,4,FALSE)","v":"N81-120830"},"N81"]
[null,"Jones Tamara",{"$f":"VLOOKUP(B4341,[1]export_1465921594229!$D4342:$G13602,4,FALSE)","v":"PU0-117616"},"PU0"]
[null,"Jonker Darryl J.",{"$f":"VLOOKUP(B4342,[1]export_1465921594229!$D4343:$G13603,4,FALSE)","v":"PA2-117456"},"PA2"]
[null,"Jorge Pratheepan Theshakshi",{"$f":"VLOOKUP(B4343,[1]export_1465921594229!$D4344:$G13604,4,FALSE)","v":"DIY-124929"},"DIY"]
[null,"Joron Ginette",{"$f":"VLOOKUP(B4344,[1]export_1465921594229!$D4345:$G13605,4,FALSE)","v":"IN0-116382"},"IN0"]
[null,"Jose Emily Jane",{"$f":"VLOOKUP(B4345,[1]export_1465921594229!$D4346:$G13606,4,FALSE)","v":"DDV-124800"},"DDV"]
[null,"Joseph Daisy",{"$f":"VLOOKUP(B4346,[1]export_1465921594229!$D4347:$G13607,4,FALSE)","v":"MP1-117069"},"MP1"]
[null,"Joseph Gerard Philip",{"$f":"VLOOKUP(B4347,[1]export_1465921594229!$D4348:$G13608,4,FALSE)","v":"IW1-118065"},"IW1"]
[null,"Joseph Marie-Christine",{"$f":"VLOOKUP(B4348,[1]export_1465921594229!$D4349:$G13609,4,FALSE)","v":"GK8-121258"},"GK8"]
[null,"Joseph Patrick",{"$f":"VLOOKUP(B4349,[1]export_1465921594229!$D4350:$G13610,4,FALSE)","v":"D1P-125398"},"D1P"]
[null,"Joseph Rajini",{"$f":"VLOOKUP(B4350,[1]export_1465921594229!$D4351:$G13611,4,FALSE)","v":"PO4-117572"},"PO4"]
[null,"Joseph Trevor",{"$f":"VLOOKUP(B4351,[1]export_1465921594229!$D4352:$G13612,4,FALSE)","v":"LK9-116866"},"LK9"]
[null,"Josson Jaswant",{"$f":"VLOOKUP(B4352,[1]export_1465921594229!$D4353:$G13613,4,FALSE)","v":"BDP-123122"},"BDP"]
[null,"Josue Caridad",{"$f":"VLOOKUP(B4353,[1]export_1465921594229!$D4354:$G13614,4,FALSE)","v":"C5C-124582"},"C5C"]
[null,"Josuee Ruel",{"$f":"VLOOKUP(B4354,[1]export_1465921594229!$D4355:$G13615,4,FALSE)","v":{"$error":"#N/A"}},{"$f":"LEFT(C4354,3)","v":{"$error":"#N/A"}}]
[null,"Joubert Nicolas",{"$f":"VLOOKUP(B4355,[1]export_1465921594229!$D4356:$G13616,4,FALSE)","v":"F70-121409"},"F70"]
[null,"Jouve Patrick",{"$f":"VLOOKUP(B4356,[1]export_1465921594229!$D4357:$G13617,4,FALSE)","v":"KE1-116670"},"KE1"]
[null,"Joyal Lucy",{"$f":"VLOOKUP(B4357,[1]export_1465921594229!$D4358:$G13618,4,FALSE)","v":"512-122211"},"512"]
[null,"Jubida Jonathan P.",{"$f":"VLOOKUP(B4358,[1]export_1465921594229!$D4359:$G13619,4,FALSE)","v":"QF6-117687"},"QF6"]
[null,"Jubinville Guillaume",{"$f":"VLOOKUP(B4359,[1]export_1465921594229!$D4360:$G13620,4,FALSE)","v":"DYG-125316"},"DYG"]
[null,"Jubinville Maurice",{"$f":"VLOOKUP(B4360,[1]export_1465921594229!$D4361:$G13621,4,FALSE)","v":"029-122532"},"029"]
[null,"Jugan Pierre-Yves",{"$f":"VLOOKUP(B4361,[1]export_1465921594229!$D4362:$G13622,4,FALSE)","v":"A9W-660277"},"A9W"]
[null,"Juhasz Richard",{"$f":"VLOOKUP(B4362,[1]export_1465921594229!$D4363:$G13623,4,FALSE)","v":"Q45-119695"},"Q45"]
[null,"Julian Cherrie Lyne",{"$f":"VLOOKUP(B4363,[1]export_1465921594229!$D4364:$G13624,4,FALSE)","v":"JV9-116596"},"JV9"]
[null,"Julian Rechiel",{"$f":"VLOOKUP(B4364,[1]export_1465921594229!$D4365:$G13625,4,FALSE)","v":"HD6-116174"},"HD6"]
[null,"Julien Denis",{"$f":"VLOOKUP(B4365,[1]export_1465921594229!$D4366:$G13626,4,FALSE)","v":"U38-119928"},"U38"]
[null,"Julien Nicolas",{"$f":"VLOOKUP(B4366,[1]export_1465921594229!$D4367:$G13627,4,FALSE)","v":"CO9-660536"},"CO9"]
[null,"Julien Simon-Pierre",{"$f":"VLOOKUP(B4367,[1]export_1465921594229!$D4368:$G13628,4,FALSE)","v":"M86-119399"},"M86"]
[null,"Juma Othman",{"$f":"VLOOKUP(B4368,[1]export_1465921594229!$D4369:$G13629,4,FALSE)","v":"BEY-502304"},"BEY"]
[null,"Jun Li",{"$f":"VLOOKUP(B4369,[1]export_1465921594229!$D4370:$G13630,4,FALSE)","v":"N65-120818"},"N65"]
[null,"Junaid Muhammad",{"$f":"VLOOKUP(B4370,[1]export_1465921594229!$D4371:$G13631,4,FALSE)","v":"QI5-117701"},"QI5"]
[null,"Juneau Claude",{"$f":"VLOOKUP(B4371,[1]export_1465921594229!$D4372:$G13632,4,FALSE)","v":"BU3-550155"},"BU3"]
[null,"Junkala(Junkala Wealth) Tina-Marie",{"$f":"VLOOKUP(B4372,[1]export_1465921594229!$D4373:$G13633,4,FALSE)","v":"QP1-117746"},"QP1"]
[null,"Juteau Mylaine",{"$f":"VLOOKUP(B4373,[1]export_1465921594229!$D4374:$G13634,4,FALSE)","v":"CTE-124287"},"CTE"]
[null,"Jutras Daniel",{"$f":"VLOOKUP(B4374,[1]export_1465921594229!$D4375:$G13635,4,FALSE)","v":"086-122569"},"086"]
[null,"Ka Wai Chu Robert",{"$f":"VLOOKUP(B4375,[1]export_1465921594229!$D4376:$G13636,4,FALSE)","v":"JS3-119220"},"JS3"]
[null,"Kabilov Khourched",{"$f":"VLOOKUP(B4376,[1]export_1465921594229!$D4377:$G13637,4,FALSE)","v":"JD0-121048"},"JD0"]
[null,"Kabongo Romeo",{"$f":"VLOOKUP(B4377,[1]export_1465921594229!$D4378:$G13638,4,FALSE)","v":"BKT-123260"},"BKT"]
[null,"Kacogo William",{"$f":"VLOOKUP(B4378,[1]export_1465921594229!$D4379:$G13639,4,FALSE)","v":"CSV-124278"},"CSV"]
[null,"Kadeshuk Donald",{"$f":"VLOOKUP(B4379,[1]export_1465921594229!$D4380:$G13640,4,FALSE)","v":"U69-120561"},"U69"]
[null,"Kadr Hamed (David)",{"$f":"VLOOKUP(B4380,[1]export_1465921594229!$D4381:$G13641,4,FALSE)","v":"ES1-115682"},"ES1"]
[null,"Kadr Hamed (David)",{"$f":"VLOOKUP(B4381,[1]export_1465921594229!$D4382:$G13642,4,FALSE)","v":"CS8-501618"},"CS8"]
[null,"Kahlon Suchneet",{"$f":"VLOOKUP(B4382,[1]export_1465921594229!$D4383:$G13643,4,FALSE)","v":"AZ3-118183"},"AZ3"]
[null,"Kalantar Esfandiar",{"$f":"VLOOKUP(B4383,[1]export_1465921594229!$D4384:$G13644,4,FALSE)","v":"BXU-123518"},"BXU"]
[null,"Kalapurakal Tessy",{"$f":"VLOOKUP(B4384,[1]export_1465921594229!$D4385:$G13645,4,FALSE)","v":"OE4-117305"},"OE4"]
[null,"Kalathoor Nadya",{"$f":"VLOOKUP(B4385,[1]export_1465921594229!$D4386:$G13646,4,FALSE)","v":"JX2-116606"},"JX2"]
[null,"Kaler Pawandeep K",{"$f":"VLOOKUP(B4386,[1]export_1465921594229!$D4387:$G13647,4,FALSE)","v":"MX5-117127"},"MX5"]
[null,"Kaliszczak Jakub",{"$f":"VLOOKUP(B4387,[1]export_1465921594229!$D4388:$G13648,4,FALSE)","v":"HN4-121198"},"HN4"]
[null,"Kalmin Paul",{"$f":"VLOOKUP(B4388,[1]export_1465921594229!$D4389:$G13649,4,FALSE)","v":"JR2-116561"},"JR2"]
[null,"Kalra Pushpinder",{"$f":"VLOOKUP(B4389,[1]export_1465921594229!$D4390:$G13650,4,FALSE)","v":"AO4-118149"},"AO4"]
[null,"Kalyn Brian",{"$f":"VLOOKUP(B4390,[1]export_1465921594229!$D4391:$G13651,4,FALSE)","v":"EO9-115967"},"EO9"]
[null,"Kamal Elie B.",{"$f":"VLOOKUP(B4391,[1]export_1465921594229!$D4392:$G13652,4,FALSE)","v":"BV5-115806"},"BV5"]
[null,"Kambo Jack",{"$f":"VLOOKUP(B4392,[1]export_1465921594229!$D4393:$G13653,4,FALSE)","v":"N22-120789"},"N22"]
[null,"Kammourieh Hind",{"$f":"VLOOKUP(B4393,[1]export_1465921594229!$D4394:$G13654,4,FALSE)","v":"CZE-124434"},"CZE"]
[null,"Kamran Shahid",{"$f":"VLOOKUP(B4394,[1]export_1465921594229!$D4395:$G13655,4,FALSE)","v":"QI0-117696"},"QI0"]
[null,"Kanaan Shazeeda",{"$f":"VLOOKUP(B4395,[1]export_1465921594229!$D4396:$G13656,4,FALSE)","v":"BSC-123400"},"BSC"]
[null,"Kanagalingam Kandepan",{"$f":"VLOOKUP(B4396,[1]export_1465921594229!$D4397:$G13657,4,FALSE)","v":"BZP-123561"},"BZP"]
[null,"Kanagaratnam Jegatheeswaran",{"$f":"VLOOKUP(B4397,[1]export_1465921594229!$D4398:$G13658,4,FALSE)","v":"RE5-550816"},"RE5"]
[null,"Kanagasabai Veeragathy",{"$f":"VLOOKUP(B4398,[1]export_1465921594229!$D4399:$G13659,4,FALSE)","v":"PT0-117608"},"PT0"]
[null,"Kanapathippillai Varnacumaaran",{"$f":"VLOOKUP(B4399,[1]export_1465921594229!$D4400:$G13660,4,FALSE)","v":"PA4-117458"},"PA4"]
[null,"Kanbar Dina",{"$f":"VLOOKUP(B4400,[1]export_1465921594229!$D4401:$G13661,4,FALSE)","v":"DVR-125249"},"DVR"]
[null,"Kandala Jean-Louis",{"$f":"VLOOKUP(B4401,[1]export_1465921594229!$D4402:$G13662,4,FALSE)","v":"D5I-600113"},"D5I"]
[null,"Kandiah Banumathy",{"$f":"VLOOKUP(B4402,[1]export_1465921594229!$D4403:$G13663,4,FALSE)","v":"DEL-124816"},"DEL"]
[null,"Kandiah Kethees",{"$f":"VLOOKUP(B4403,[1]export_1465921594229!$D4404:$G13664,4,FALSE)","v":"CSC-124259"},"CSC"]
[null,"Kandiah Sivanesarajah",{"$f":"VLOOKUP(B4404,[1]export_1465921594229!$D4405:$G13665,4,FALSE)","v":"OW1-550799"},"OW1"]
[null,"Kandiah Sivatharman",{"$f":"VLOOKUP(B4405,[1]export_1465921594229!$D4406:$G13666,4,FALSE)","v":"DIW-124927"},"DIW"]
[null,"Kandiah Thiruchchelvi",{"$f":"VLOOKUP(B4406,[1]export_1465921594229!$D4407:$G13667,4,FALSE)","v":"C0I-124463"},"C0I"]
[null,"Kang Govinder",{"$f":"VLOOKUP(B4407,[1]export_1465921594229!$D4408:$G13668,4,FALSE)","v":"N54-028740"},"N54"]
[null,"Kang Nilima",{"$f":"VLOOKUP(B4408,[1]export_1465921594229!$D4409:$G13669,4,FALSE)","v":"FJ9-118728"},"FJ9"]
[null,"Kang Ravtej Singh",{"$f":"VLOOKUP(B4409,[1]export_1465921594229!$D4410:$G13670,4,FALSE)","v":"D2W-125430"},"D2W"]
[null,"Kang Wishavjeet",{"$f":"VLOOKUP(B4410,[1]export_1465921594229!$D4411:$G13671,4,FALSE)","v":"GD6-118862"},"GD6"]
[null,"Kapanga Tshibola",{"$f":"VLOOKUP(B4411,[1]export_1465921594229!$D4412:$G13672,4,FALSE)","v":"CU1-118354"},"CU1"]
[null,"Kapanga Tshibola",{"$f":"VLOOKUP(B4412,[1]export_1465921594229!$D4413:$G13673,4,FALSE)","v":"IE8-116342"},"IE8"]
[null,"Kapil Kamal",{"$f":"VLOOKUP(B4413,[1]export_1465921594229!$D4414:$G13674,4,FALSE)","v":"JQ9-116558"},"JQ9"]
[null,"Kapur Aman",{"$f":"VLOOKUP(B4414,[1]export_1465921594229!$D4415:$G13675,4,FALSE)","v":"CD6-118287"},"CD6"]
[null,"Kapuralic Ivan",{"$f":"VLOOKUP(B4415,[1]export_1465921594229!$D4416:$G13676,4,FALSE)","v":"PH7-117518"},"PH7"]
[null,"Karam Sleiman",{"$f":"VLOOKUP(B4416,[1]export_1465921594229!$D4417:$G13677,4,FALSE)","v":"X18-120023"},"X18"]
[null,"Karamnia Amzajerdi Hamid",{"$f":"VLOOKUP(B4417,[1]export_1465921594229!$D4418:$G13678,4,FALSE)","v":"CHB-123993"},"CHB"]
[null,"Kardashian Seta",{"$f":"VLOOKUP(B4418,[1]export_1465921594229!$D4419:$G13679,4,FALSE)","v":"DN4-118414"},{"$f":"LEFT(C4418,3)","v":"DN4"}]
[null,"Kari Kulwinder",{"$f":"VLOOKUP(B4419,[1]export_1465921594229!$D4420:$G13680,4,FALSE)","v":"JD5-119188"},"JD5"]
[null,"Karim Lubna",{"$f":"VLOOKUP(B4420,[1]export_1465921594229!$D4421:$G13681,4,FALSE)","v":"BOV-123333"},"BOV"]
[null,"Karim Rezaul",{"$f":"VLOOKUP(B4421,[1]export_1465921594229!$D4422:$G13682,4,FALSE)","v":"JA8-116467"},"JA8"]
[null,"Karir Rajiv Pal Singh",{"$f":"VLOOKUP(B4422,[1]export_1465921594229!$D4423:$G13683,4,FALSE)","v":"CI8-115839"},"CI8"]
[null,"Kark Steven",{"$f":"VLOOKUP(B4423,[1]export_1465921594229!$D4424:$G13684,4,FALSE)","v":"FQ6-118769"},"FQ6"]
[null,"Karram Ann",{"$f":"VLOOKUP(B4424,[1]export_1465921594229!$D4425:$G13685,4,FALSE)","v":"BIB-123206"},"BIB"]
[null,"Karroum Nassim",{"$f":"VLOOKUP(B4425,[1]export_1465921594229!$D4426:$G13686,4,FALSE)","v":"QU7-660528"},"QU7"]
[null,"Karubara Habamungu Vedast",{"$f":"VLOOKUP(B4426,[1]export_1465921594229!$D4427:$G13687,4,FALSE)","v":"Q87-120705"},"Q87"]
[null,"Karunabalan Vasugi",{"$f":"VLOOKUP(B4427,[1]export_1465921594229!$D4428:$G13688,4,FALSE)","v":"QV5-117801"},"QV5"]
[null,"Karwal Jaswinder",{"$f":"VLOOKUP(B4428,[1]export_1465921594229!$D4429:$G13689,4,FALSE)","v":"BCJ-550410"},"BCJ"]
[null,"Kasinsky Jeremy",{"$f":"VLOOKUP(B4429,[1]export_1465921594229!$D4430:$G13690,4,FALSE)","v":"CG2-118298"},"CG2"]
[null,"Kassabian Vahan",{"$f":"VLOOKUP(B4430,[1]export_1465921594229!$D4431:$G13691,4,FALSE)","v":"NU9-117249"},"NU9"]
[null,"Katerenchuk Kyle",{"$f":"VLOOKUP(B4431,[1]export_1465921594229!$D4432:$G13692,4,FALSE)","v":"BUC-502318"},"BUC"]
[null,"Kathiara Bela",{"$f":"VLOOKUP(B4432,[1]export_1465921594229!$D4433:$G13693,4,FALSE)","v":"BMW-502289"},"BMW"]
[null,"Kathiravel Sivarooby",{"$f":"VLOOKUP(B4433,[1]export_1465921594229!$D4434:$G13694,4,FALSE)","v":"PI6-550815"},"PI6"]
[null,"Kathirgamanathan Mahesan",{"$f":"VLOOKUP(B4434,[1]export_1465921594229!$D4435:$G13695,4,FALSE)","v":"QG2-550792"},"QG2"]
[null,"Kathirgamanathan Yogaventhiny",{"$f":"VLOOKUP(B4435,[1]export_1465921594229!$D4436:$G13696,4,FALSE)","v":"BJN-123239"},"BJN"]
[null,"Katumbayi Kamvita Jean-Marie",{"$f":"VLOOKUP(B4436,[1]export_1465921594229!$D4437:$G13697,4,FALSE)","v":"EC0-118539"},"EC0"]
[null,"Kaufmanis Lynda",{"$f":"VLOOKUP(B4437,[1]export_1465921594229!$D4438:$G13698,4,FALSE)","v":"DDZ-124804"},"DDZ"]
[null,"Kaur Baljit",{"$f":"VLOOKUP(B4438,[1]export_1465921594229!$D4439:$G13699,4,FALSE)","v":"PN0-117559"},"PN0"]
[null,"Kaur Harvir",{"$f":"VLOOKUP(B4439,[1]export_1465921594229!$D4440:$G13700,4,FALSE)","v":"MS4-117092"},"MS4"]
[null,"Kaur Jasbir",{"$f":"VLOOKUP(B4440,[1]export_1465921594229!$D4441:$G13701,4,FALSE)","v":"NL5-120718"},"NL5"]
[null,"Kaur Bhullar Prabhjot",{"$f":"VLOOKUP(B4441,[1]export_1465921594229!$D4442:$G13702,4,FALSE)","v":"IL3-119139"},"IL3"]
[null,"Kaur-Dhinsa Baljit",{"$f":"VLOOKUP(B4442,[1]export_1465921594229!$D4443:$G13703,4,FALSE)","v":"CCI-123875"},"CCI"]
[null,"Kaushal Surinder Kumar",{"$f":"VLOOKUP(B4443,[1]export_1465921594229!$D4444:$G13704,4,FALSE)","v":"OS7-117400"},"OS7"]
[null,"Kavanagh Brian",{"$f":"VLOOKUP(B4444,[1]export_1465921594229!$D4445:$G13705,4,FALSE)","v":"R99-120612"},"R99"]
[null,"Kay Rebecca",{"$f":"VLOOKUP(B4445,[1]export_1465921594229!$D4446:$G13706,4,FALSE)","v":"DFR-124848"},"DFR"]
[null,"Kaye Martin",{"$f":"VLOOKUP(B4446,[1]export_1465921594229!$D4447:$G13707,4,FALSE)","v":"BPD-123340"},"BPD"]
[null,"Kayler Mary Elizabeth",{"$f":"VLOOKUP(B4447,[1]export_1465921594229!$D4448:$G13708,4,FALSE)","v":"MA1-116968"},"MA1"]
[null,"Kean Blair",{"$f":"VLOOKUP(B4448,[1]export_1465921594229!$D4449:$G13709,4,FALSE)","v":"IF3-116346"},"IF3"]
[null,"Kearns Shawn",{"$f":"VLOOKUP(B4449,[1]export_1465921594229!$D4450:$G13710,4,FALSE)","v":"CAA-123816"},"CAA"]
[null,"Keating Lloyd",{"$f":"VLOOKUP(B4450,[1]export_1465921594229!$D4451:$G13711,4,FALSE)","v":"OF4-117313"},"OF4"]
[null,"Keays Michael",{"$f":"VLOOKUP(B4451,[1]export_1465921594229!$D4452:$G13712,4,FALSE)","v":"922-022355"},"922"]
[null,"Keetch Mary",{"$f":"VLOOKUP(B4452,[1]export_1465921594229!$D4453:$G13713,4,FALSE)","v":"C4X-124577"},"C4X"]
[null,"Kelly Bernard",{"$f":"VLOOKUP(B4453,[1]export_1465921594229!$D4454:$G13714,4,FALSE)","v":"DI4-118397"},"DI4"]
[null,"Kelly Derek",{"$f":"VLOOKUP(B4454,[1]export_1465921594229!$D4455:$G13715,4,FALSE)","v":"DO1-118418"},"DO1"]
[null,"Kelly Michael",{"$f":"VLOOKUP(B4455,[1]export_1465921594229!$D4456:$G13716,4,FALSE)","v":"AJ8-121936"},"AJ8"]
[null,"Kelsey(Roger Kelsey Ins.) Roger",{"$f":"VLOOKUP(B4456,[1]export_1465921594229!$D4457:$G13717,4,FALSE)","v":"A8P-123057"},"A8P"]
[null,"Kennedy Brian",{"$f":"VLOOKUP(B4457,[1]export_1465921594229!$D4458:$G13718,4,FALSE)","v":"RD1-117877"},"RD1"]
[null,"Kennedy John",{"$f":"VLOOKUP(B4458,[1]export_1465921594229!$D4459:$G13719,4,FALSE)","v":"T07-119879"},"T07"]
[null,"Kennedy Richard",{"$f":"VLOOKUP(B4459,[1]export_1465921594229!$D4460:$G13720,4,FALSE)","v":"D2V-125429"},"D2V"]
[null,"Kenny James",{"$f":"VLOOKUP(B4460,[1]export_1465921594229!$D4461:$G13721,4,FALSE)","v":"DFQ-124847"},"DFQ"]
[null,"Kenol Henri Gerard",{"$f":"VLOOKUP(B4461,[1]export_1465921594229!$D4462:$G13722,4,FALSE)","v":{"$error":"#N/A"}},{"$error":"#N/A"}]
[null,"Keo Tanya",{"$f":"VLOOKUP(B4462,[1]export_1465921594229!$D4463:$G13723,4,FALSE)","v":"CLM-124100"},"CLM"]
[null,"Keogh Aaron",{"$f":"VLOOKUP(B4463,[1]export_1465921594229!$D4464:$G13724,4,FALSE)","v":"CGO-123980"},"CGO"]
[null,"Keohane Brandon",{"$f":"VLOOKUP(B4464,[1]export_1465921594229!$D4465:$G13725,4,FALSE)","v":"CQP-124220"},"CQP"]
[null,"Kepford Dann/ Nexgen Financial",{"$f":"VLOOKUP(B4465,[1]export_1465921594229!$D4466:$G13726,4,FALSE)","v":"JO4-116547"},"JO4"]
[null,"Kere Passowende",{"$f":"VLOOKUP(B4466,[1]export_1465921594229!$D4467:$G13727,4,FALSE)","v":"CJR-124056"},"CJR"]
[null,"Kerio Majd",{"$f":"VLOOKUP(B4467,[1]export_1465921594229!$D4468:$G13728,4,FALSE)","v":"JI2-116508"},"JI2"]
[null,"Kerlinger Jules-Jose",{"$f":"VLOOKUP(B4468,[1]export_1465921594229!$D4469:$G13729,4,FALSE)","v":"CZD-124433"},"CZD"]
[null,"Kerman Randall",{"$f":"VLOOKUP(B4469,[1]export_1465921594229!$D4470:$G13730,4,FALSE)","v":"B3J-123652"},"B3J"]
[null,"Kerr Moses",{"$f":"VLOOKUP(B4470,[1]export_1465921594229!$D4471:$G13731,4,FALSE)","v":"CFD-123943"},"CFD"]
[null,"Keshavarz Ghods Ali Asghar",{"$f":"VLOOKUP(B4471,[1]export_1465921594229!$D4472:$G13732,4,FALSE)","v":"C1I-124489"},"C1I"]
[null,"Kestle Jonathan",{"$f":"VLOOKUP(B4472,[1]export_1465921594229!$D4473:$G13733,4,FALSE)","v":"C2G-124513"},"C2G"]
[null,"Kewallal Christine",{"$f":"VLOOKUP(B4473,[1]export_1465921594229!$D4474:$G13734,4,FALSE)","v":"LL2-119332"},"LL2"]
[null,"Kewallal Christine",{"$f":"VLOOKUP(B4474,[1]export_1465921594229!$D4475:$G13735,4,FALSE)","v":"LL3-119333"},"LL3"]
[null,"Khabab Fatiha",{"$f":"VLOOKUP(B4475,[1]export_1465921594229!$D4476:$G13736,4,FALSE)","v":"G06-118814"},"G06"]
[null,"Khabbari Koot Sheikh Mohsen",{"$f":"VLOOKUP(B4476,[1]export_1465921594229!$D4477:$G13737,4,FALSE)","v":"DXT-125303"},"DXT"]
[null,"Khadri Abdelhafid",{"$f":"VLOOKUP(B4477,[1]export_1465921594229!$D4478:$G13738,4,FALSE)","v":"NC8-117160"},"NC8"]
[null,"Khalid Abdullah",{"$f":"VLOOKUP(B4478,[1]export_1465921594229!$D4479:$G13739,4,FALSE)","v":"BBW-550292"},"BBW"]
[null,"Khalsa Harjit Singh",{"$f":"VLOOKUP(B4479,[1]export_1465921594229!$D4480:$G13740,4,FALSE)","v":"B9L-123801"},"B9L"]
[null,"Khan Omar",{"$f":"VLOOKUP(B4480,[1]export_1465921594229!$D4481:$G13741,4,FALSE)","v":"NJ1-117198"},"NJ1"]
[null,"Khan Omar",{"$f":"VLOOKUP(B4481,[1]export_1465921594229!$D4482:$G13742,4,FALSE)","v":"NJ2-120844"},"NJ2"]
[null,"Khan Salma",{"$f":"VLOOKUP(B4482,[1]export_1465921594229!$D4483:$G13743,4,FALSE)","v":"IP7-119149"},{"$f":"LEFT(C4482,3)","v":"IP7"}]
[null,"Khan Tina",{"$f":"VLOOKUP(B4483,[1]export_1465921594229!$D4484:$G13744,4,FALSE)","v":"DLE-124985"},"DLE"]
[null,"Khan Umair",{"$f":"VLOOKUP(B4484,[1]export_1465921594229!$D4485:$G13745,4,FALSE)","v":"NF4-117174"},"NF4"]
[null,"Khanal Shankar",{"$f":"VLOOKUP(B4485,[1]export_1465921594229!$D4486:$G13746,4,FALSE)","v":"ME8-117004"},"ME8"]
[null,"Khatchadourian Raffi",{"$f":"VLOOKUP(B4486,[1]export_1465921594229!$D4487:$G13747,4,FALSE)","v":"V69-119968"},"V69"]
[null,"Khehra Amandeep",{"$f":"VLOOKUP(B4487,[1]export_1465921594229!$D4488:$G13748,4,FALSE)","v":"JK5-119207"},"JK5"]
[null,"Khela Satwinder",{"$f":"VLOOKUP(B4488,[1]export_1465921594229!$D4489:$G13749,4,FALSE)","v":"CLY-550280"},"CLY"]
[null,"Kheo Phi Diep",{"$f":"VLOOKUP(B4489,[1]export_1465921594229!$D4490:$G13750,4,FALSE)","v":"CJ1-118311"},"CJ1"]
[null,"Khind Inderjit",{"$f":"VLOOKUP(B4490,[1]export_1465921594229!$D4491:$G13751,4,FALSE)","v":"HL8-116221"},"HL8"]
[null,"Khinda Sukhjeet",{"$f":"VLOOKUP(B4491,[1]export_1465921594229!$D4492:$G13752,4,FALSE)","v":"BFQ-123156"},"BFQ"]
[null,"Khneisser Yvonne",{"$f":"VLOOKUP(B4492,[1]export_1465921594229!$D4493:$G13753,4,FALSE)","v":"NK1-117204"},"NK1"]
[null,"Khokhar Shahzad",{"$f":"VLOOKUP(B4493,[1]export_1465921594229!$D4494:$G13754,4,FALSE)","v":"Q71-120701"},"Q71"]
[null,"Khoshand Yashar",{"$f":"VLOOKUP(B4494,[1]export_1465921594229!$D4495:$G13755,4,FALSE)","v":"OP8-550787"},"OP8"]
[null,"Khosrozamiri Amir",{"$f":"VLOOKUP(B4495,[1]export_1465921594229!$D4496:$G13756,4,FALSE)","v":"C1H-124488"},"C1H"]
[null,"Khouri Merched",{"$f":"VLOOKUP(B4496,[1]export_1465921594229!$D4497:$G13757,4,FALSE)","v":"QF5-550811"},"QF5"]
[null,"Khushal Sadrudin",{"$f":"VLOOKUP(B4497,[1]export_1465921594229!$D4498:$G13758,4,FALSE)","v":"B2R-123635"},"B2R"]
[null,"Khuttan Manmohan",{"$f":"VLOOKUP(B4498,[1]export_1465921594229!$D4499:$G13759,4,FALSE)","v":"GG4-118875"},"GG4"]
[null,"Kiddinasamy Rajikaran",{"$f":"VLOOKUP(B4499,[1]export_1465921594229!$D4500:$G13760,4,FALSE)","v":"PJ1-117530"},"PJ1"]
[null,"Kidi Charles Kodjo",{"$f":"VLOOKUP(B4500,[1]export_1465921594229!$D4501:$G13761,4,FALSE)","v":"GS6-116115"},"GS6"]
[null,"Kiely Sean",{"$f":"VLOOKUP(B4501,[1]export_1465921594229!$D4502:$G13762,4,FALSE)","v":"IF6-119127"},"IF6"]
[null,"Kiely Sean",{"$f":"VLOOKUP(B4502,[1]export_1465921594229!$D4503:$G13763,4,FALSE)","v":"KR1-119267"},"KR1"]
[null,"Kierstead Anne-Marie",{"$f":"VLOOKUP(B4503,[1]export_1465921594229!$D4504:$G13764,4,FALSE)","v":"FR2-121315"},"FR2"]
[null,"Kierstead Anne-Marie",{"$f":"VLOOKUP(B4504,[1]export_1465921594229!$D4505:$G13765,4,FALSE)","v":"FS0-121318"},"FS0"]
[null,"Kierstead Anne-Marie",{"$f":"VLOOKUP(B4505,[1]export_1465921594229!$D4506:$G13766,4,FALSE)","v":"FR1-118771"},"FR1"]
[null,"Kierstead Anne-Marie",{"$f":"VLOOKUP(B4506,[1]export_1465921594229!$D4507:$G13767,4,FALSE)","v":"GB2-121234"},"GB2"]
[null,"Kiezik Penny",{"$f":"VLOOKUP(B4507,[1]export_1465921594229!$D4508:$G13768,4,FALSE)","v":"T02-119877"},"T02"]
[null,"Kiezik Penny",{"$f":"VLOOKUP(B4508,[1]export_1465921594229!$D4509:$G13769,4,FALSE)","v":"FW7-500964"},"FW7"]
[null,"Kiezik Penny",{"$f":"VLOOKUP(B4509,[1]export_1465921594229!$D4510:$G13770,4,FALSE)","v":"LQ0-300964"},"LQ0"]
[null,"Kiezik Penny",{"$f":"VLOOKUP(B4510,[1]export_1465921594229!$D4511:$G13771,4,FALSE)","v":"C7Q-124643"},"C7Q"]
[null,"Kilani Bedis",{"$f":"VLOOKUP(B4511,[1]export_1465921594229!$D4512:$G13772,4,FALSE)","v":"ES2-118605"},"ES2"]
[null,"Kim Gerald Jong-Keun",{"$f":"VLOOKUP(B4512,[1]export_1465921594229!$D4513:$G13773,4,FALSE)","v":"BVU-123476"},"BVU"]
[null,"Kim Hyo Sook",{"$f":"VLOOKUP(B4513,[1]export_1465921594229!$D4514:$G13774,4,FALSE)","v":"BUZ-550884"},"BUZ"]
[null,"Kim Hyun Jin",{"$f":"VLOOKUP(B4514,[1]export_1465921594229!$D4515:$G13775,4,FALSE)","v":"QF3-117685"},"QF3"]
[null,"Kim Jae Yoon",{"$f":"VLOOKUP(B4515,[1]export_1465921594229!$D4516:$G13776,4,FALSE)","v":"IX9-119165"},"IX9"]
[null,"Kim Jaewoo (Jimmy)",{"$f":"VLOOKUP(B4516,[1]export_1465921594229!$D4517:$G13777,4,FALSE)","v":"OH7-119561"},"OH7"]
[null,"Kim Kyung Tae",{"$f":"VLOOKUP(B4517,[1]export_1465921594229!$D4518:$G13778,4,FALSE)","v":"X57-120039"},"X57"]
[null,"Kim Mujong",{"$f":"VLOOKUP(B4518,[1]export_1465921594229!$D4519:$G13779,4,FALSE)","v":"KG5-116689"},"KG5"]
[null,"Kim Sang K",{"$f":"VLOOKUP(B4519,[1]export_1465921594229!$D4520:$G13780,4,FALSE)","v":"QO9-119780"},"QO9"]
[null,"Kim Sang K",{"$f":"VLOOKUP(B4520,[1]export_1465921594229!$D4521:$G13781,4,FALSE)","v":"QO8-119779"},"QO8"]
[null,"Kimbrell Lorraine",{"$f":"VLOOKUP(B4521,[1]export_1465921594229!$D4522:$G13782,4,FALSE)","v":"BXF-502322"},"BXF"]
[null,"Kimoto Michael",{"$f":"VLOOKUP(B4522,[1]export_1465921594229!$D4523:$G13783,4,FALSE)","v":"HC7-119018"},"HC7"]
[null,"Kimoto Michael",{"$f":"VLOOKUP(B4523,[1]export_1465921594229!$D4524:$G13784,4,FALSE)","v":"CK9-121620"},"CK9"]
[null,"King Abraham",{"$f":"VLOOKUP(B4524,[1]export_1465921594229!$D4525:$G13785,4,FALSE)","v":"PU2-117617"},"PU2"]
[null,"King Janice",{"$f":"VLOOKUP(B4525,[1]export_1465921594229!$D4526:$G13786,4,FALSE)","v":"T87-119904"},"T87"]
[null,"King Maria Dina",{"$f":"VLOOKUP(B4526,[1]export_1465921594229!$D4527:$G13787,4,FALSE)","v":"JL1-116525"},"JL1"]
[null,"King Paul",{"$f":"VLOOKUP(B4527,[1]export_1465921594229!$D4528:$G13788,4,FALSE)","v":"DHW-124902"},"DHW"]
[null,"King Veron",{"$f":"VLOOKUP(B4528,[1]export_1465921594229!$D4529:$G13789,4,FALSE)","v":"FH6-116019"},"FH6"]
[null,"Kinglock Worrel",{"$f":"VLOOKUP(B4529,[1]export_1465921594229!$D4530:$G13790,4,FALSE)","v":"T91-120540"},"T91"]
[null,"Kingsbury Michel",{"$f":"VLOOKUP(B4530,[1]export_1465921594229!$D4531:$G13791,4,FALSE)","v":"DSZ-125179"},"DSZ"]
[null,"Kinnear James",{"$f":"VLOOKUP(B4531,[1]export_1465921594229!$D4532:$G13792,4,FALSE)","v":"GU2-116123"},"GU2"]
[null,"Kipfer (Robinson) Jennifer",{"$f":"VLOOKUP(B4532,[1]export_1465921594229!$D4533:$G13793,4,FALSE)","v":"NE4-120837"},"NE4"]
[null,"Kipfer (Robinson) Jennifer",{"$f":"VLOOKUP(B4533,[1]export_1465921594229!$D4534:$G13794,4,FALSE)","v":"KD4-550745"},"KD4"]
[null,"Kira Eric Egide Dadau",{"$f":"VLOOKUP(B4534,[1]export_1465921594229!$D4535:$G13795,4,FALSE)","v":"BW6-121769"},"BW6"]
[null,"Kirk Paul",{"$f":"VLOOKUP(B4535,[1]export_1465921594229!$D4536:$G13796,4,FALSE)","v":"GM6-118909"},"GM6"]
[null,"Kirouac Michel",{"$f":"VLOOKUP(B4536,[1]export_1465921594229!$D4537:$G13797,4,FALSE)","v":"E84-118522"},"E84"]
[null,"Kirouac Paul",{"$f":"VLOOKUP(B4537,[1]export_1465921594229!$D4538:$G13798,4,FALSE)","v":"T53-117916"},"T53"]
[null,"Kirupa Ken",{"$f":"VLOOKUP(B4538,[1]export_1465921594229!$D4539:$G13799,4,FALSE)","v":"PD2-117477"},"PD2"]
[null,"Kiryk Wayne",{"$f":"VLOOKUP(B4539,[1]export_1465921594229!$D4540:$G13800,4,FALSE)","v":"BN6-118232"},"BN6"]
[null,"Kishore Amar",{"$f":"VLOOKUP(B4540,[1]export_1465921594229!$D4541:$G13801,4,FALSE)","v":"RD9-117883"},"RD9"]
[null,"Kiunisala-Santiago Cecille",{"$f":"VLOOKUP(B4541,[1]export_1465921594229!$D4542:$G13802,4,FALSE)","v":"JM7-116539"},"JM7"]
[null,"Kiviranta Kristin",{"$f":"VLOOKUP(B4542,[1]export_1465921594229!$D4543:$G13803,4,FALSE)","v":"IR0-116405"},"IR0"]
[null,"Klair Supreet",{"$f":"VLOOKUP(B4543,[1]export_1465921594229!$D4544:$G13804,4,FALSE)","v":"BXM-550891"},"BXM"]
[null,"Klassen Robert J",{"$f":"VLOOKUP(B4544,[1]export_1465921594229!$D4545:$G13805,4,FALSE)","v":"KE0-116669"},"KE0"]
[null,"Klassen (Walt Holdings) Walter",{"$f":"VLOOKUP(B4545,[1]export_1465921594229!$D4546:$G13806,4,FALSE)","v":"PG4-117506"},"PG4"]
[null,"Klein Robert",{"$f":"VLOOKUP(B4546,[1]export_1465921594229!$D4547:$G13807,4,FALSE)","v":"N55-500321"},{"$f":"LEFT(C4546,3)","v":"N55"}]
[null,"Knauft-Sztym Cecelia",{"$f":"VLOOKUP(B4547,[1]export_1465921594229!$D4548:$G13808,4,FALSE)","v":"HM8-119046"},"HM8"]
[null,"Knight Brian",{"$f":"VLOOKUP(B4548,[1]export_1465921594229!$D4549:$G13809,4,FALSE)","v":"N40-120801"},"N40"]
[null,"Knight Paul Orlando",{"$f":"VLOOKUP(B4549,[1]export_1465921594229!$D4550:$G13810,4,FALSE)","v":"AF7-118115"},"AF7"]
[null,"Knight Paul Orlando",{"$f":"VLOOKUP(B4550,[1]export_1465921594229!$D4551:$G13811,4,FALSE)","v":"CR7-121653"},"CR7"]
[null,"Knight Paul Orlando",{"$f":"VLOOKUP(B4551,[1]export_1465921594229!$D4552:$G13812,4,FALSE)","v":"AF6-118114"},"AF6"]
[null,"Knight Teresa",{"$f":"VLOOKUP(B4552,[1]export_1465921594229!$D4553:$G13813,4,FALSE)","v":"CKW-550041"},"CKW"]
[null,"Knippelberg Robb",{"$f":"VLOOKUP(B4553,[1]export_1465921594229!$D4554:$G13814,4,FALSE)","v":"OQ0-117379"},"OQ0"]
[null,"Knox Anthony",{"$f":"VLOOKUP(B4554,[1]export_1465921594229!$D4555:$G13815,4,FALSE)","v":"IM4-116379"},"IM4"]
[null,"Knudson Carrie",{"$f":"VLOOKUP(B4555,[1]export_1465921594229!$D4556:$G13816,4,FALSE)","v":"ID6-116334"},"ID6"]
[null,"Ko Patrick (Ka Fai)",{"$f":"VLOOKUP(B4556,[1]export_1465921594229!$D4557:$G13817,4,FALSE)","v":"V79-119972"},"V79"]
[null,"Kodama Donna",{"$f":"VLOOKUP(B4557,[1]export_1465921594229!$D4558:$G13818,4,FALSE)","v":"BND-123308"},"BND"]
[null,"Koh Kah Eng",{"$f":"VLOOKUP(B4558,[1]export_1465921594229!$D4559:$G13819,4,FALSE)","v":"OZ0-117431"},"OZ0"]
[null,"Kolomanski Elzbieta",{"$f":"VLOOKUP(B4559,[1]export_1465921594229!$D4560:$G13820,4,FALSE)","v":"BM5-550225"},"BM5"]
[null,"Kompasz Hans",{"$f":"VLOOKUP(B4560,[1]export_1465921594229!$D4561:$G13821,4,FALSE)","v":"CA7-121728"},"CA7"]
[null,"Konnik Edwin",{"$f":"VLOOKUP(B4561,[1]export_1465921594229!$D4562:$G13822,4,FALSE)","v":"GA8-116073"},"GA8"]
[null,"Konnik Gloria",{"$f":"VLOOKUP(B4562,[1]export_1465921594229!$D4563:$G13823,4,FALSE)","v":"DHJ-124891"},"DHJ"]
[null,"Kopti Nicola",{"$f":"VLOOKUP(B4563,[1]export_1465921594229!$D4564:$G13824,4,FALSE)","v":"DON-125069"},"DON"]
[null,"Korchinski Leslie",{"$f":"VLOOKUP(B4564,[1]export_1465921594229!$D4565:$G13825,4,FALSE)","v":"KJ6-116708"},"KJ6"]
[null,"Kormakov Natalia",{"$f":"VLOOKUP(B4565,[1]export_1465921594229!$D4566:$G13826,4,FALSE)","v":"P50-119624"},"P50"]
[null,"Kos Denis",{"$f":"VLOOKUP(B4566,[1]export_1465921594229!$D4567:$G13827,4,FALSE)","v":"LN0-116878"},"LN0"]
[null,"Koshman Rodney",{"$f":"VLOOKUP(B4567,[1]export_1465921594229!$D4568:$G13828,4,FALSE)","v":"CPN-124197"},"CPN"]
[null,"Koslowsky Ian",{"$f":"VLOOKUP(B4568,[1]export_1465921594229!$D4569:$G13829,4,FALSE)","v":"FF6-118710"},"FF6"]
[null,"Kossakowski Agnieszka",{"$f":"VLOOKUP(B4569,[1]export_1465921594229!$D4570:$G13830,4,FALSE)","v":"PO7-117575"},"PO7"]
[null,"Kost Michael Paul",{"$f":"VLOOKUP(B4570,[1]export_1465921594229!$D4571:$G13831,4,FALSE)","v":"V95-119978"},"V95"]
[null,"Kosterman Martin",{"$f":"VLOOKUP(B4571,[1]export_1465921594229!$D4572:$G13832,4,FALSE)","v":"DBE-124733"},"DBE"]
[null,"Kostrinsky Vladimir",{"$f":"VLOOKUP(B4572,[1]export_1465921594229!$D4573:$G13833,4,FALSE)","v":"B3O-123657"},"B3O"]
[null,"Kotliaroff Nicolas",{"$f":"VLOOKUP(B4573,[1]export_1465921594229!$D4574:$G13834,4,FALSE)","v":"S54-119854"},"S54"]
[null,"Kotschorek Shauna",{"$f":"VLOOKUP(B4574,[1]export_1465921594229!$D4575:$G13835,4,FALSE)","v":"FQ5-118768"},"FQ5"]
[null,"Kovalevskaya Anna",{"$f":"VLOOKUP(B4575,[1]export_1465921594229!$D4576:$G13836,4,FALSE)","v":"QA7-119723"},"QA7"]
[null,"Kowdrysh Carol",{"$f":"VLOOKUP(B4576,[1]export_1465921594229!$D4577:$G13837,4,FALSE)","v":"DWB-125259"},"DWB"]
[null,"Kozlowski(Bowboz Inv Inc) Cory L.",{"$f":"VLOOKUP(B4577,[1]export_1465921594229!$D4578:$G13838,4,FALSE)","v":"PU6-117621"},"PU6"]
[null,"Kramer Carlos",{"$f":"VLOOKUP(B4578,[1]export_1465921594229!$D4579:$G13839,4,FALSE)","v":"BGM-123172"},"BGM"]
[null,"Kratiuk Kris",{"$f":"VLOOKUP(B4579,[1]export_1465921594229!$D4580:$G13840,4,FALSE)","v":"JM8-119210"},"JM8"]
[null,"Kress Meaghan",{"$f":"VLOOKUP(B4580,[1]export_1465921594229!$D4581:$G13841,4,FALSE)","v":"FT3-118781"},"FT3"]
[null,"Krevenky Mark",{"$f":"VLOOKUP(B4581,[1]export_1465921594229!$D4582:$G13842,4,FALSE)","v":"EC5-121456"},"EC5"]
[null,"Kricievski Mark",{"$f":"VLOOKUP(B4582,[1]export_1465921594229!$D4583:$G13843,4,FALSE)","v":"AA4-550146"},"AA4"]
[null,"Krieger Paul",{"$f":"VLOOKUP(B4583,[1]export_1465921594229!$D4584:$G13844,4,FALSE)","v":"LL9-116873"},"LL9"]
[null,"Krige Abraham Ben",{"$f":"VLOOKUP(B4584,[1]export_1465921594229!$D4585:$G13845,4,FALSE)","v":"PK7-117543"},"PK7"]
[null,"Krikorian Anne",{"$f":"VLOOKUP(B4585,[1]export_1465921594229!$D4586:$G13846,4,FALSE)","v":"Q37-119689"},"Q37"]
[null,"Krishna Priya",{"$f":"VLOOKUP(B4586,[1]export_1465921594229!$D4587:$G13847,4,FALSE)","v":"DLL-124992"},"DLL"]
[null,"Krummen Claude",{"$f":"VLOOKUP(B4587,[1]export_1465921594229!$D4588:$G13848,4,FALSE)","v":"U93-120570"},"U93"]
[null,"Krzywiecka Sylwia",{"$f":"VLOOKUP(B4588,[1]export_1465921594229!$D4589:$G13849,4,FALSE)","v":"C0Q-124471"},"C0Q"]
[null,"Kuchka Darin",{"$f":"VLOOKUP(B4589,[1]export_1465921594229!$D4590:$G13850,4,FALSE)","v":"AS1-118163"},"AS1"]
[null,"Kuepfer Donald R",{"$f":"VLOOKUP(B4590,[1]export_1465921594229!$D4591:$G13851,4,FALSE)","v":"NK7-119487"},"NK7"]
[null,"Kulak Anna",{"$f":"VLOOKUP(B4591,[1]export_1465921594229!$D4592:$G13852,4,FALSE)","v":"QQ2-117756"},"QQ2"]
[null,"Kulanathan Stephen",{"$f":"VLOOKUP(B4592,[1]export_1465921594229!$D4593:$G13853,4,FALSE)","v":"MF7-117010"},"MF7"]
[null,"Kulasingam Arunasalam",{"$f":"VLOOKUP(B4593,[1]export_1465921594229!$D4594:$G13854,4,FALSE)","v":"OS2-550769"},"OS2"]
[null,"Kulumba Evelyn",{"$f":"VLOOKUP(B4594,[1]export_1465921594229!$D4595:$G13855,4,FALSE)","v":"D5S-125502"},"D5S"]
[null,"Kumar Annaji",{"$f":"VLOOKUP(B4595,[1]export_1465921594229!$D4596:$G13856,4,FALSE)","v":"C9B-124678"},"C9B"]
[null,"Kumar Bhushan",{"$f":"VLOOKUP(B4596,[1]export_1465921594229!$D4597:$G13857,4,FALSE)","v":"D5B-125485"},"D5B"]
[null,"Kumar Brijendra",{"$f":"VLOOKUP(B4597,[1]export_1465921594229!$D4598:$G13858,4,FALSE)","v":"HB0-121182"},"HB0"]
[null,"Kumar Brijendra",{"$f":"VLOOKUP(B4598,[1]export_1465921594229!$D4599:$G13859,4,FALSE)","v":"CH7-121615"},"CH7"]
[null,"Kumar Hari",{"$f":"VLOOKUP(B4599,[1]export_1465921594229!$D4600:$G13860,4,FALSE)","v":"HB2-119006"},"HB2"]
[null,"Kumar Hari",{"$f":"VLOOKUP(B4600,[1]export_1465921594229!$D4601:$G13861,4,FALSE)","v":"CO2-121636"},"CO2"]
[null,"Kumar Rajeev",{"$f":"VLOOKUP(B4601,[1]export_1465921594229!$D4602:$G13862,4,FALSE)","v":"CKE-124069"},"CKE"]
[null,"Kumar Satish",{"$f":"VLOOKUP(B4602,[1]export_1465921594229!$D4603:$G13863,4,FALSE)","v":"EV9-118627"},"EV9"]
[null,"Kumar Shalendra Sashi",{"$f":"VLOOKUP(B4603,[1]export_1465921594229!$D4604:$G13864,4,FALSE)","v":"BB5-115587"},"BB5"]
[null,"Kumar Shalendra Sashi",{"$f":"VLOOKUP(B4604,[1]export_1465921594229!$D4605:$G13865,4,FALSE)","v":"AW4-501524"},"AW4"]
[null,"Kumar Shalendra Sashi",{"$f":"VLOOKUP(B4605,[1]export_1465921594229!$D4606:$G13866,4,FALSE)","v":"HA9-119004"},"HA9"]
[null,"Kumar Shalendra Sashi",{"$f":"VLOOKUP(B4606,[1]export_1465921594229!$D4607:$G13867,4,FALSE)","v":"B7X-123765"},"B7X"]
[null,"Kumar Sushka",{"$f":"VLOOKUP(B4607,[1]export_1465921594229!$D4608:$G13868,4,FALSE)","v":"EV6-118624"},"EV6"]
[null,"Kumarasamy Anuja",{"$f":"VLOOKUP(B4608,[1]export_1465921594229!$D4609:$G13869,4,FALSE)","v":"BZY-123570"},"BZY"]
[null,"Kundra Manmohan",{"$f":"VLOOKUP(B4609,[1]export_1465921594229!$D4610:$G13870,4,FALSE)","v":"BEE-550065"},"BEE"]
[null,"Kurdi Waleed",{"$f":"VLOOKUP(B4610,[1]export_1465921594229!$D4611:$G13871,4,FALSE)","v":"B9H-123797"},{"$f":"LEFT(C4610,3)","v":"B9H"}]
[null,"Kusaian Jack Hagop",{"$f":"VLOOKUP(B4611,[1]export_1465921594229!$D4612:$G13872,4,FALSE)","v":"GV8-116129"},"GV8"]
[null,"Kutchhi Hanif",{"$f":"VLOOKUP(B4612,[1]export_1465921594229!$D4613:$G13873,4,FALSE)","v":"PJ7-117534"},"PJ7"]
[null,"Kwak Olga",{"$f":"VLOOKUP(B4613,[1]export_1465921594229!$D4614:$G13874,4,FALSE)","v":"BVT-123475"},"BVT"]
[null,"Kwan Sai Ho",{"$f":"VLOOKUP(B4614,[1]export_1465921594229!$D4615:$G13875,4,FALSE)","v":"LV2-116921"},"LV2"]
[null,"Kwan Sammy",{"$f":"VLOOKUP(B4615,[1]export_1465921594229!$D4616:$G13876,4,FALSE)","v":"MO4-119430"},"MO4"]
[null,"Kwatra Tony",{"$f":"VLOOKUP(B4616,[1]export_1465921594229!$D4617:$G13877,4,FALSE)","v":"IV0-116426"},"IV0"]
[null,"Kwong Alan",{"$f":"VLOOKUP(B4617,[1]export_1465921594229!$D4618:$G13878,4,FALSE)","v":"OL7-117355"},"OL7"]
[null,"Kyriakou Nathalie",{"$f":"VLOOKUP(B4618,[1]export_1465921594229!$D4619:$G13879,4,FALSE)","v":"BNB-123306"},"BNB"]
[null,"La Barbera Anthony",{"$f":"VLOOKUP(B4619,[1]export_1465921594229!$D4620:$G13880,4,FALSE)","v":"BLE-660336"},"BLE"]
[null,"La Capitale FS Unknown Director",{"$f":"VLOOKUP(B4620,[1]export_1465921594229!$D4621:$G13881,4,FALSE)","v":"D9Y-124701"},"D9Y"]
[null,"La Capitale FS Unknown Director",{"$f":"VLOOKUP(B4621,[1]export_1465921594229!$D4622:$G13882,4,FALSE)","v":"C5Q-124592"},"C5Q"]
[null,"La Capitale Fs Unknown Director",{"$f":"VLOOKUP(B4622,[1]export_1465921594229!$D4623:$G13883,4,FALSE)","v":"PB7-115618"},"PB7"]
[null,"La Capitale Fs Unknown Director",{"$f":"VLOOKUP(B4623,[1]export_1465921594229!$D4624:$G13884,4,FALSE)","v":"R68-115622"},"R68"]
[null,"La Capitale Fs Unknown Director",{"$f":"VLOOKUP(B4624,[1]export_1465921594229!$D4625:$G13885,4,FALSE)","v":"KB6-115603"},"KB6"]
[null,"La Capitale FS Unknown Director",{"$f":"VLOOKUP(B4625,[1]export_1465921594229!$D4626:$G13886,4,FALSE)","v":"BQU-123368"},"BQU"]
[null,"La Capitale FS Unknown Director",{"$f":"VLOOKUP(B4626,[1]export_1465921594229!$D4627:$G13887,4,FALSE)","v":"BQQ-123364"},"BQQ"]
[null,"La Capitale FS Unknown Director Rockies",{"$f":"VLOOKUP(B4627,[1]export_1465921594229!$D4628:$G13888,4,FALSE)","v":"BNC-123307"},"BNC"]
[null,"La Vigna Lucia",{"$f":"VLOOKUP(B4628,[1]export_1465921594229!$D4629:$G13889,4,FALSE)","v":"DSK-125168"},"DSK"]
[null,"La Violette-Cote Jerome",{"$f":"VLOOKUP(B4629,[1]export_1465921594229!$D4630:$G13890,4,FALSE)","v":"MV7-660566"},"MV7"]
[null,"Labad Driss",{"$f":"VLOOKUP(B4630,[1]export_1465921594229!$D4631:$G13891,4,FALSE)","v":"CVZ-124354"},"CVZ"]
[null,"Labaj Daryle James",{"$f":"VLOOKUP(B4631,[1]export_1465921594229!$D4632:$G13892,4,FALSE)","v":"PG9-117511"},"PG9"]
[null,"Labaj Mary",{"$f":"VLOOKUP(B4632,[1]export_1465921594229!$D4633:$G13893,4,FALSE)","v":"PQ0-117587"},"PQ0"]
[null,"Labayan Marie Grace",{"$f":"VLOOKUP(B4633,[1]export_1465921594229!$D4634:$G13894,4,FALSE)","v":"CGV-123987"},"CGV"]
[null,"Labbe Anthony",{"$f":"VLOOKUP(B4634,[1]export_1465921594229!$D4635:$G13895,4,FALSE)","v":"PF7-117499"},"PF7"]
[null,"Labbe Lisette",{"$f":"VLOOKUP(B4635,[1]export_1465921594229!$D4636:$G13896,4,FALSE)","v":"E66-118508"},"E66"]
[null,"Labbe Robert",{"$f":"VLOOKUP(B4636,[1]export_1465921594229!$D4637:$G13897,4,FALSE)","v":"CZ8-115866"},"CZ8"]
[null,"L'Abbe Helene",{"$f":"VLOOKUP(B4637,[1]export_1465921594229!$D4638:$G13898,4,FALSE)","v":"J84-121039"},"J84"]
[null,"Labelle Claire",{"$f":"VLOOKUP(B4638,[1]export_1465921594229!$D4639:$G13899,4,FALSE)","v":"E45-118498"},"E45"]
[null,"Labelle Deborah",{"$f":"VLOOKUP(B4639,[1]export_1465921594229!$D4640:$G13900,4,FALSE)","v":"OW2-119605"},"OW2"]
[null,"Labelle Deborah",{"$f":"VLOOKUP(B4640,[1]export_1465921594229!$D4641:$G13901,4,FALSE)","v":"QD3-119743"},"QD3"]
[null,"Labelle Deborah",{"$f":"VLOOKUP(B4641,[1]export_1465921594229!$D4642:$G13902,4,FALSE)","v":"NG3-119482"},"NG3"]
[null,"Labelle Deborah",{"$f":"VLOOKUP(B4642,[1]export_1465921594229!$D4643:$G13903,4,FALSE)","v":"OW3-119606"},"OW3"]
[null,"Labelle Dominique",{"$f":"VLOOKUP(B4643,[1]export_1465921594229!$D4644:$G13904,4,FALSE)","v":"B73-121926"},"B73"]
[null,"Labelle Jacques",{"$f":"VLOOKUP(B4644,[1]export_1465921594229!$D4645:$G13905,4,FALSE)","v":"443-122310"},"443"]
[null,"Labelle Rejean",{"$f":"VLOOKUP(B4645,[1]export_1465921594229!$D4646:$G13906,4,FALSE)","v":"072-120387"},"072"]
[null,"Laberge Annick",{"$f":"VLOOKUP(B4646,[1]export_1465921594229!$D4647:$G13907,4,FALSE)","v":"DMI-125013"},"DMI"]
[null,"Laberge Chantal",{"$f":"VLOOKUP(B4647,[1]export_1465921594229!$D4648:$G13908,4,FALSE)","v":"434-122307"},"434"]
[null,"Laberge Chantal",{"$f":"VLOOKUP(B4648,[1]export_1465921594229!$D4649:$G13909,4,FALSE)","v":"727-115626"},"727"]
[null,"Laberge Marc",{"$f":"VLOOKUP(B4649,[1]export_1465921594229!$D4650:$G13910,4,FALSE)","v":"M90-119401"},"M90"]
[null,"Laberge Pierre",{"$f":"VLOOKUP(B4650,[1]export_1465921594229!$D4651:$G13911,4,FALSE)","v":"CF6-115830"},"CF6"]
[null,"Labonte Guylaine",{"$f":"VLOOKUP(B4651,[1]export_1465921594229!$D4652:$G13912,4,FALSE)","v":"133-122475"},"133"]
[null,"Labonte Jacques",{"$f":"VLOOKUP(B4652,[1]export_1465921594229!$D4653:$G13913,4,FALSE)","v":"L82-120940"},"L82"]
[null,"Labonte Marcel",{"$f":"VLOOKUP(B4653,[1]export_1465921594229!$D4654:$G13914,4,FALSE)","v":"DS9-115914"},"DS9"]
[null,"Labonte Stephane",{"$f":"VLOOKUP(B4654,[1]export_1465921594229!$D4655:$G13915,4,FALSE)","v":"FS9-116038"},"FS9"]
[null,"Labonte Brigitte",{"$f":"VLOOKUP(B4655,[1]export_1465921594229!$D4656:$G13916,4,FALSE)","v":{"$error":"#N/A"}},{"$error":"#N/A"}]
[null,"Labonte Brigitte",{"$f":"VLOOKUP(B4656,[1]export_1465921594229!$D4657:$G13917,4,FALSE)","v":{"$error":"#N/A"}},{"$error":"#N/A"}]
[null,"Labossiere Joyce",{"$f":"VLOOKUP(B4657,[1]export_1465921594229!$D4658:$G13918,4,FALSE)","v":"KL7-116718"},"KL7"]
[null,"Labre Noel",{"$f":"VLOOKUP(B4658,[1]export_1465921594229!$D4659:$G13919,4,FALSE)","v":"PV1-117626"},"PV1"]
[null,"Labreche Pierre",{"$f":"VLOOKUP(B4659,[1]export_1465921594229!$D4660:$G13920,4,FALSE)","v":{"$error":"#N/A"}},{"$error":"#N/A"}]
[null,"Labrecque Gaby",{"$f":"VLOOKUP(B4660,[1]export_1465921594229!$D4661:$G13921,4,FALSE)","v":"R33-119798"},"R33"]
[null,"Labrecque Jacques",{"$f":"VLOOKUP(B4661,[1]export_1465921594229!$D4662:$G13922,4,FALSE)","v":"C8X-124675"},"C8X"]
[null,"Labrecque Mario",{"$f":"VLOOKUP(B4662,[1]export_1465921594229!$D4663:$G13923,4,FALSE)","v":"F89-118675"},"F89"]
[null,"Labrecque Nancy",{"$f":"VLOOKUP(B4663,[1]export_1465921594229!$D4664:$G13924,4,FALSE)","v":"A57-121999"},"A57"]
[null,"Labrecque Rejean",{"$f":"VLOOKUP(B4664,[1]export_1465921594229!$D4665:$G13925,4,FALSE)","v":{"$error":"#N/A"}},{"$error":"#N/A"}]
[null,"Labrecque Rene",{"$f":"VLOOKUP(B4665,[1]export_1465921594229!$D4666:$G13926,4,FALSE)","v":"HV6-660252"},"HV6"]
[null,"Labrie Dominic",{"$f":"VLOOKUP(B4666,[1]export_1465921594229!$D4667:$G13927,4,FALSE)","v":"GZ0-116140"},"GZ0"]
[null,"Labrie Guy",{"$f":"VLOOKUP(B4667,[1]export_1465921594229!$D4668:$G13928,4,FALSE)","v":"CS3-118345"},"CS3"]
[null,"Labrie Louis",{"$f":"VLOOKUP(B4668,[1]export_1465921594229!$D4669:$G13929,4,FALSE)","v":"MC8-116989"},"MC8"]
[null,"Labrie Normand",{"$f":"VLOOKUP(B4669,[1]export_1465921594229!$D4670:$G13930,4,FALSE)","v":"CM1-115843"},"CM1"]
[null,"Labrie Yolaine",{"$f":"VLOOKUP(B4670,[1]export_1465921594229!$D4671:$G13931,4,FALSE)","v":"K23-118074"},"K23"]
[null,"Lacaille Yves",{"$f":"VLOOKUP(B4671,[1]export_1465921594229!$D4672:$G13932,4,FALSE)","v":"H27-121284"},"H27"]
[null,"Lacasse Isabelle",{"$f":"VLOOKUP(B4672,[1]export_1465921594229!$D4673:$G13933,4,FALSE)","v":"D45-121584"},"D45"]
[null,"Lacasse Jean-Rock",{"$f":"VLOOKUP(B4673,[1]export_1465921594229!$D4674:$G13934,4,FALSE)","v":"411-122292"},"411"]
[null,"Lacelle Rene",{"$f":"VLOOKUP(B4674,[1]export_1465921594229!$D4675:$G13935,4,FALSE)","v":"DWN-125271"},{"$f":"LEFT(C4674,3)","v":"DWN"}]
[null,"Lachaine Annie",{"$f":"VLOOKUP(B4675,[1]export_1465921594229!$D4676:$G13936,4,FALSE)","v":"N94-119472"},"N94"]
[null,"Lachaine Diane",{"$f":"VLOOKUP(B4676,[1]export_1465921594229!$D4677:$G13937,4,FALSE)","v":"701-115639"},"701"]
[null,"Lachaine Diane",{"$f":"VLOOKUP(B4677,[1]export_1465921594229!$D4678:$G13938,4,FALSE)","v":"386-122273"},"386"]
[null,"Lachance Bernard-Antoine",{"$f":"VLOOKUP(B4678,[1]export_1465921594229!$D4679:$G13939,4,FALSE)","v":"G24-660013"},"G24"]
[null,"Lachance Bruno",{"$f":"VLOOKUP(B4679,[1]export_1465921594229!$D4680:$G13940,4,FALSE)","v":"BZ7-121777"},"BZ7"]
[null,"Lachance Chantale",{"$f":"VLOOKUP(B4680,[1]export_1465921594229!$D4681:$G13941,4,FALSE)","v":"B1R-660463"},"B1R"]
[null,"Lachance Christian",{"$f":"VLOOKUP(B4681,[1]export_1465921594229!$D4682:$G13942,4,FALSE)","v":"FM5-660012"},"FM5"]
[null,"Lachance Daniel",{"$f":"VLOOKUP(B4682,[1]export_1465921594229!$D4683:$G13943,4,FALSE)","v":"279-120435"},"279"]
[null,"Lachance Denis",{"$f":"VLOOKUP(B4683,[1]export_1465921594229!$D4684:$G13944,4,FALSE)","v":"V28-117953"},"V28"]
[null,"Lachance Julien",{"$f":"VLOOKUP(B4684,[1]export_1465921594229!$D4685:$G13945,4,FALSE)","v":"G97-118847"},"G97"]
[null,"Lachance Marc",{"$f":"VLOOKUP(B4685,[1]export_1465921594229!$D4686:$G13946,4,FALSE)","v":"JI8-116511"},"JI8"]
[null,"Lachance Marco",{"$f":"VLOOKUP(B4686,[1]export_1465921594229!$D4687:$G13947,4,FALSE)","v":"F93-121419"},"F93"]
[null,"Lachance Mario",{"$f":"VLOOKUP(B4687,[1]export_1465921594229!$D4688:$G13948,4,FALSE)","v":"C37-121682"},"C37"]
[null,"Lachance Martin",{"$f":"VLOOKUP(B4688,[1]export_1465921594229!$D4689:$G13949,4,FALSE)","v":"EF1-115948"},"EF1"]
[null,"Lachance Martin",{"$f":"VLOOKUP(B4689,[1]export_1465921594229!$D4690:$G13950,4,FALSE)","v":"O73-120748"},"O73"]
[null,"Lachance Martin",{"$f":"VLOOKUP(B4690,[1]export_1465921594229!$D4691:$G13951,4,FALSE)","v":"O00-119522"},"O00"]
[null,"Lachance Monique",{"$f":"VLOOKUP(B4691,[1]export_1465921594229!$D4692:$G13952,4,FALSE)","v":"B1T-660465"},"B1T"]
[null,"Lachance Normande",{"$f":"VLOOKUP(B4692,[1]export_1465921594229!$D4693:$G13953,4,FALSE)","v":"075-122561"},"075"]
[null,"Lachance Renald",{"$f":"VLOOKUP(B4693,[1]export_1465921594229!$D4694:$G13954,4,FALSE)","v":"O74-120749"},"O74"]
[null,"Lachance Sophie",{"$f":"VLOOKUP(B4694,[1]export_1465921594229!$D4695:$G13955,4,FALSE)","v":"DUR-125223"},"DUR"]
[null,"Lachance Steeve",{"$f":"VLOOKUP(B4695,[1]export_1465921594229!$D4696:$G13956,4,FALSE)","v":"EA0-115934"},"EA0"]
[null,"Lachance Yves",{"$f":"VLOOKUP(B4696,[1]export_1465921594229!$D4697:$G13957,4,FALSE)","v":"CX0-121674"},"CX0"]
[null,"Lachapelle Claude",{"$f":"VLOOKUP(B4697,[1]export_1465921594229!$D4698:$G13958,4,FALSE)","v":"GC0-121239"},"GC0"]
[null,"Lachapelle Luc",{"$f":"VLOOKUP(B4698,[1]export_1465921594229!$D4699:$G13959,4,FALSE)","v":"HK5-600041"},"HK5"]
[null,"Lachapelle Paul",{"$f":"VLOOKUP(B4699,[1]export_1465921594229!$D4700:$G13960,4,FALSE)","v":"X61-118001"},"X61"]
[null,"Lachapelle Thierry",{"$f":"VLOOKUP(B4700,[1]export_1465921594229!$D4701:$G13961,4,FALSE)","v":"HR7-600044"},"HR7"]
[null,"Lacharite Normand",{"$f":"VLOOKUP(B4701,[1]export_1465921594229!$D4702:$G13962,4,FALSE)","v":"684-120306"},"684"]
[null,"Lacharite Real",{"$f":"VLOOKUP(B4702,[1]export_1465921594229!$D4703:$G13963,4,FALSE)","v":"DQ2-115908"},"DQ2"]
[null,"Lacourciere Rodrigue",{"$f":"VLOOKUP(B4703,[1]export_1465921594229!$D4704:$G13964,4,FALSE)","v":"K58-119232"},"K58"]
[null,"Lacroix Genevieve",{"$f":"VLOOKUP(B4704,[1]export_1465921594229!$D4705:$G13965,4,FALSE)","v":"A33-120192"},"A33"]
[null,"Lacroix Leon",{"$f":"VLOOKUP(B4705,[1]export_1465921594229!$D4706:$G13966,4,FALSE)","v":"AC5-122038"},"AC5"]
[null,"Lacroix Marc-Andre",{"$f":"VLOOKUP(B4706,[1]export_1465921594229!$D4707:$G13967,4,FALSE)","v":"A5U-122588"},"A5U"]
[null,"Lacroix Nicole",{"$f":"VLOOKUP(B4707,[1]export_1465921594229!$D4708:$G13968,4,FALSE)","v":"664-122181"},"664"]
[null,"Lacroix Renald",{"$f":"VLOOKUP(B4708,[1]export_1465921594229!$D4709:$G13969,4,FALSE)","v":"BKQ-660329"},"BKQ"]
[null,"Lacroix Renald",{"$f":"VLOOKUP(B4709,[1]export_1465921594229!$D4710:$G13970,4,FALSE)","v":"F98-115998"},"F98"]
[null,"Lacroix Sylvain",{"$f":"VLOOKUP(B4710,[1]export_1465921594229!$D4711:$G13971,4,FALSE)","v":"EM9-121481"},"EM9"]
[null,"Lacroix Sylvain",{"$f":"VLOOKUP(B4711,[1]export_1465921594229!$D4712:$G13972,4,FALSE)","v":"HT1-121204"},"HT1"]
[null,"Lacroix-Briggs(Patriot G) Mario",{"$f":"VLOOKUP(B4712,[1]export_1465921594229!$D4713:$G13973,4,FALSE)","v":"GX9-116139"},"GX9"]
[null,"Lade Kevin",{"$f":"VLOOKUP(B4713,[1]export_1465921594229!$D4714:$G13974,4,FALSE)","v":"LO7-119340"},"LO7"]
[null,"Lade Kevin",{"$f":"VLOOKUP(B4714,[1]export_1465921594229!$D4715:$G13975,4,FALSE)","v":"LO8-119341"},"LO8"]
[null,"Laderoute Lina (Desneige)",{"$f":"VLOOKUP(B4715,[1]export_1465921594229!$D4716:$G13976,4,FALSE)","v":"B3A-550916"},"B3A"]
[null,"Ladora-Fallu Alexis",{"$f":"VLOOKUP(B4716,[1]export_1465921594229!$D4717:$G13977,4,FALSE)","v":"D2K-125419"},"D2K"]
[null,"Laferriere Louise",{"$f":"VLOOKUP(B4717,[1]export_1465921594229!$D4718:$G13978,4,FALSE)","v":"U15-120545"},"U15"]
[null,"Laferriere Louise",{"$f":"VLOOKUP(B4718,[1]export_1465921594229!$D4719:$G13979,4,FALSE)","v":"M07-119368"},"M07"]
[null,"Laflamme Cindy",{"$f":"VLOOKUP(B4719,[1]export_1465921594229!$D4720:$G13980,4,FALSE)","v":"CIT-124034"},"CIT"]
[null,"Laflamme Daniel",{"$f":"VLOOKUP(B4720,[1]export_1465921594229!$D4721:$G13981,4,FALSE)","v":"V26-119956"},"V26"]
[null,"Laflamme Eric",{"$f":"VLOOKUP(B4721,[1]export_1465921594229!$D4722:$G13982,4,FALSE)","v":"BF5-550211"},"BF5"]
[null,"Laflamme Francois",{"$f":"VLOOKUP(B4722,[1]export_1465921594229!$D4723:$G13983,4,FALSE)","v":"R31-119796"},"R31"]
[null,"Laflamme Jasmin",{"$f":"VLOOKUP(B4723,[1]export_1465921594229!$D4724:$G13984,4,FALSE)","v":"Q16-120686"},"Q16"]
[null,"Laflamme Maxime",{"$f":"VLOOKUP(B4724,[1]export_1465921594229!$D4725:$G13985,4,FALSE)","v":"R89-660348"},"R89"]
[null,"Laflamme Nicole",{"$f":"VLOOKUP(B4725,[1]export_1465921594229!$D4726:$G13986,4,FALSE)","v":"304-122339"},"304"]
[null,"Lafleur Daniel",{"$f":"VLOOKUP(B4726,[1]export_1465921594229!$D4727:$G13987,4,FALSE)","v":"H79-121177"},"H79"]
[null,"Lafleur Dominic",{"$f":"VLOOKUP(B4727,[1]export_1465921594229!$D4728:$G13988,4,FALSE)","v":"529-120259"},"529"]
[null,"Lafleur Marie-Josee",{"$f":"VLOOKUP(B4728,[1]export_1465921594229!$D4729:$G13989,4,FALSE)","v":{"$error":"#N/A"}},{"$error":"#N/A"}]
[null,"Lafond Eric",{"$f":"VLOOKUP(B4729,[1]export_1465921594229!$D4730:$G13990,4,FALSE)","v":"CU8-550284"},"CU8"]
[null,"Lafond Patrick",{"$f":"VLOOKUP(B4730,[1]export_1465921594229!$D4731:$G13991,4,FALSE)","v":"DQH-125115"},"DQH"]
[null,"Lafond Pierre",{"$f":"VLOOKUP(B4731,[1]export_1465921594229!$D4732:$G13992,4,FALSE)","v":"JK9-116524"},"JK9"]
[null,"Lafond Yves",{"$f":"VLOOKUP(B4732,[1]export_1465921594229!$D4733:$G13993,4,FALSE)","v":"C7V-124648"},"C7V"]
[null,"Lafontaine Josee",{"$f":"VLOOKUP(B4733,[1]export_1465921594229!$D4734:$G13994,4,FALSE)","v":"136-122478"},"136"]
[null,"Lafontaine Josee",{"$f":"VLOOKUP(B4734,[1]export_1465921594229!$D4735:$G13995,4,FALSE)","v":{"$error":"#N/A"}},{"$error":"#N/A"}]
[null,"Lafontaine Remi",{"$f":"VLOOKUP(B4735,[1]export_1465921594229!$D4736:$G13996,4,FALSE)","v":"EX7-118635"},"EX7"]
[null,"Lafontaine Sylvie",{"$f":"VLOOKUP(B4736,[1]export_1465921594229!$D4737:$G13997,4,FALSE)","v":"118-122465"},"118"]
[null,"Laforce Hubert",{"$f":"VLOOKUP(B4737,[1]export_1465921594229!$D4738:$G13998,4,FALSE)","v":"D0T-125376"},"D0T"]
[null,"Laforce Maude",{"$f":"VLOOKUP(B4738,[1]export_1465921594229!$D4739:$G13999,4,FALSE)","v":"DKR-124972"},{"$f":"LEFT(C4738,3)","v":"DKR"}]
[null,"Laforest Eric",{"$f":"VLOOKUP(B4739,[1]export_1465921594229!$D4740:$G14000,4,FALSE)","v":"B88-121810"},"B88"]
[null,"Laforest-Abraham Pierre-Olivier",{"$f":"VLOOKUP(B4740,[1]export_1465921594229!$D4741:$G14001,4,FALSE)","v":"CUZ-124329"},"CUZ"]
[null,"Laforge Francois",{"$f":"VLOOKUP(B4741,[1]export_1465921594229!$D4742:$G14002,4,FALSE)","v":"EQ6-115973"},"EQ6"]
[null,"Lafortune Yves",{"$f":"VLOOKUP(B4742,[1]export_1465921594229!$D4743:$G14003,4,FALSE)","v":"D77-118366"},"D77"]
[null,"Lafrance Julie",{"$f":"VLOOKUP(B4743,[1]export_1465921594229!$D4744:$G14004,4,FALSE)","v":"351-122375"},"351"]
[null,"Lafrance Nycole",{"$f":"VLOOKUP(B4744,[1]export_1465921594229!$D4745:$G14005,4,FALSE)","v":"045-120379"},"045"]
[null,"Lafrance Raymond Dominic Julien",{"$f":"VLOOKUP(B4745,[1]export_1465921594229!$D4746:$G14006,4,FALSE)","v":"HL6-116219"},"HL6"]
[null,"Lafrance Simard Cedrick",{"$f":"VLOOKUP(B4746,[1]export_1465921594229!$D4747:$G14007,4,FALSE)","v":{"$error":"#N/A"}},{"$error":"#N/A"}]
[null,"Lafrance-Desrochers Maxime",{"$f":"VLOOKUP(B4747,[1]export_1465921594229!$D4748:$G14008,4,FALSE)","v":"Z45-120073"},"Z45"]
[null,"Lafreniere Joan",{"$f":"VLOOKUP(B4748,[1]export_1465921594229!$D4749:$G14009,4,FALSE)","v":"150-120406"},"150"]
[null,"Lafreniere Luc",{"$f":"VLOOKUP(B4749,[1]export_1465921594229!$D4750:$G14010,4,FALSE)","v":"DFG-124837"},"DFG"]
[null,"Lafreniere Nelson",{"$f":"VLOOKUP(B4750,[1]export_1465921594229!$D4751:$G14011,4,FALSE)","v":"JC6-119187"},"JC6"]
[null,"Lagace Benoit",{"$f":"VLOOKUP(B4751,[1]export_1465921594229!$D4752:$G14012,4,FALSE)","v":"092-122445"},"092"]
[null,"Lagace Frederic",{"$f":"VLOOKUP(B4752,[1]export_1465921594229!$D4753:$G14013,4,FALSE)","v":"I09-116296"},"I09"]
[null,"Lagace Frederic",{"$f":"VLOOKUP(B4753,[1]export_1465921594229!$D4754:$G14014,4,FALSE)","v":"L52-120915"},"L52"]
[null,"Lagace Geatan",{"$f":"VLOOKUP(B4754,[1]export_1465921594229!$D4755:$G14015,4,FALSE)","v":"I99-119120"},"I99"]
[null,"Lagace Melanie",{"$f":"VLOOKUP(B4755,[1]export_1465921594229!$D4756:$G14016,4,FALSE)","v":"PM1-117554"},"PM1"]
[null,"Lagarde Pierre",{"$f":"VLOOKUP(B4756,[1]export_1465921594229!$D4757:$G14017,4,FALSE)","v":"EK0-121474"},"EK0"]
[null,"Lagarde Pierre",{"$f":"VLOOKUP(B4757,[1]export_1465921594229!$D4758:$G14018,4,FALSE)","v":"ET3-118607"},"ET3"]
[null,"Lagogiannis Stavros",{"$f":"VLOOKUP(B4758,[1]export_1465921594229!$D4759:$G14019,4,FALSE)","v":"CL1-121622"},"CL1"]
[null,"Lagos Anastasios",{"$f":"VLOOKUP(B4759,[1]export_1465921594229!$D4760:$G14020,4,FALSE)","v":"D5D-125487"},"D5D"]
[null,"Lagueux Andre",{"$f":"VLOOKUP(B4760,[1]export_1465921594229!$D4761:$G14021,4,FALSE)","v":"U08-119912"},"U08"]
[null,"Lagueux Francine",{"$f":"VLOOKUP(B4761,[1]export_1465921594229!$D4762:$G14022,4,FALSE)","v":"E32-118488"},"E32"]
[null,"Lahlou M'Hamed",{"$f":"VLOOKUP(B4762,[1]export_1465921594229!$D4763:$G14023,4,FALSE)","v":"CHR-600093"},"CHR"]
[null,"Lai Angel Ka-Ki",{"$f":"VLOOKUP(B4763,[1]export_1465921594229!$D4764:$G14024,4,FALSE)","v":"MT9-117101"},"MT9"]
[null,"Lai-Cheong Nicholas",{"$f":"VLOOKUP(B4764,[1]export_1465921594229!$D4765:$G14025,4,FALSE)","v":"JC4-119185"},"JC4"]
[null,"Laidler Jason",{"$f":"VLOOKUP(B4765,[1]export_1465921594229!$D4766:$G14026,4,FALSE)","v":"HZ6-550550"},"HZ6"]
[null,"Lail Jarnail",{"$f":"VLOOKUP(B4766,[1]export_1465921594229!$D4767:$G14027,4,FALSE)","v":"BBF-550175"},"BBF"]
[null,"Lair Rowann",{"$f":"VLOOKUP(B4767,[1]export_1465921594229!$D4768:$G14028,4,FALSE)","v":"C0N-600103"},"C0N"]
[null,"Laithier Maxime",{"$f":"VLOOKUP(B4768,[1]export_1465921594229!$D4769:$G14029,4,FALSE)","v":"HF5-119025"},"HF5"]
[null,"Lajoie Claude",{"$f":"VLOOKUP(B4769,[1]export_1465921594229!$D4770:$G14030,4,FALSE)","v":"C25-121799"},"C25"]
[null,"Lajoie Jenny",{"$f":"VLOOKUP(B4770,[1]export_1465921594229!$D4771:$G14031,4,FALSE)","v":"A68-122008"},"A68"]
[null,"Lajoie Louis-Philippe",{"$f":"VLOOKUP(B4771,[1]export_1465921594229!$D4772:$G14032,4,FALSE)","v":"IV7-660371"},"IV7"]
[null,"Lajoie Stephan",{"$f":"VLOOKUP(B4772,[1]export_1465921594229!$D4773:$G14033,4,FALSE)","v":"G99-118848"},"G99"]
[null,"Lake Michelle",{"$f":"VLOOKUP(B4773,[1]export_1465921594229!$D4774:$G14034,4,FALSE)","v":"FG1-118714"},"FG1"]
[null,"Lake Stuart",{"$f":"VLOOKUP(B4774,[1]export_1465921594229!$D4775:$G14035,4,FALSE)","v":"FG2-116011"},"FG2"]
[null,"Lakhal Chedli",{"$f":"VLOOKUP(B4775,[1]export_1465921594229!$D4776:$G14036,4,FALSE)","v":"BM1-121862"},"BM1"]
[null,"Lakhesar Baljinder",{"$f":"VLOOKUP(B4776,[1]export_1465921594229!$D4777:$G14037,4,FALSE)","v":"BVW-123478"},"BVW"]
[null,"Lalach Matthew",{"$f":"VLOOKUP(B4777,[1]export_1465921594229!$D4778:$G14038,4,FALSE)","v":"CQV-124226"},"CQV"]
[null,"Lalancette Annie",{"$f":"VLOOKUP(B4778,[1]export_1465921594229!$D4779:$G14039,4,FALSE)","v":"Q15-120685"},"Q15"]
[null,"Lalancette Frederic",{"$f":"VLOOKUP(B4779,[1]export_1465921594229!$D4780:$G14040,4,FALSE)","v":{"$error":"#N/A"}},{"$error":"#N/A"}]
[null,"Lalancette Josiane",{"$f":"VLOOKUP(B4780,[1]export_1465921594229!$D4781:$G14041,4,FALSE)","v":"B2B-660469"},"B2B"]
[null,"Lalancette Pierre",{"$f":"VLOOKUP(B4781,[1]export_1465921594229!$D4782:$G14042,4,FALSE)","v":"GH8-118882"},"GH8"]
[null,"Lalande Caroline",{"$f":"VLOOKUP(B4782,[1]export_1465921594229!$D4783:$G14043,4,FALSE)","v":"JK8-116523"},"JK8"]
[null,"Lalande Jean-Philippe",{"$f":"VLOOKUP(B4783,[1]export_1465921594229!$D4784:$G14044,4,FALSE)","v":"BFK-660300"},"BFK"]
[null,"Lalande Serge",{"$f":"VLOOKUP(B4784,[1]export_1465921594229!$D4785:$G14045,4,FALSE)","v":"E65-121445"},"E65"]
[null,"Lalande Serge",{"$f":"VLOOKUP(B4785,[1]export_1465921594229!$D4786:$G14046,4,FALSE)","v":"AH2-120209"},"AH2"]
[null,"Laliberte Andre",{"$f":"VLOOKUP(B4786,[1]export_1465921594229!$D4787:$G14047,4,FALSE)","v":"H09-121279"},"H09"]
[null,"Laliberte Andre",{"$f":"VLOOKUP(B4787,[1]export_1465921594229!$D4788:$G14048,4,FALSE)","v":"GQ9-118930"},"GQ9"]
[null,"Laliberte Carolyne",{"$f":"VLOOKUP(B4788,[1]export_1465921594229!$D4789:$G14049,4,FALSE)","v":"663-122180"},"663"]
[null,"Laliberte Denis",{"$f":"VLOOKUP(B4789,[1]export_1465921594229!$D4790:$G14050,4,FALSE)","v":"V73-660267"},"V73"]
[null,"Laliberte Jacques",{"$f":"VLOOKUP(B4790,[1]export_1465921594229!$D4791:$G14051,4,FALSE)","v":"DT3-118437"},"DT3"]
[null,"Laliberte Robert",{"$f":"VLOOKUP(B4791,[1]export_1465921594229!$D4792:$G14052,4,FALSE)","v":"BB2-660703"},"BB2"]
[null,"Laliberte Serge",{"$f":"VLOOKUP(B4792,[1]export_1465921594229!$D4793:$G14053,4,FALSE)","v":"BO9-115793"},"BO9"]
[null,"Laliberte Michel",{"$f":"VLOOKUP(B4793,[1]export_1465921594229!$D4794:$G14054,4,FALSE)","v":{"$error":"#N/A"}},{"$error":"#N/A"}]
[null,"Laliberte Steven",{"$f":"VLOOKUP(B4794,[1]export_1465921594229!$D4795:$G14055,4,FALSE)","v":{"$error":"#N/A"}},{"$error":"#N/A"}]
[null,"Lall Sheena",{"$f":"VLOOKUP(B4795,[1]export_1465921594229!$D4796:$G14056,4,FALSE)","v":"JJ2-116512"},"JJ2"]
[null,"Lalonde Ashley",{"$f":"VLOOKUP(B4796,[1]export_1465921594229!$D4797:$G14057,4,FALSE)","v":"NL0-117209"},"NL0"]
[null,"Lalonde Ashley",{"$f":"VLOOKUP(B4797,[1]export_1465921594229!$D4798:$G14058,4,FALSE)","v":"CEE-123919"},"CEE"]
[null,"Lalonde Chantal",{"$f":"VLOOKUP(B4798,[1]export_1465921594229!$D4799:$G14059,4,FALSE)","v":"EC2-115941"},"EC2"]
[null,"Lalonde Fernand Jr.",{"$f":"VLOOKUP(B4799,[1]export_1465921594229!$D4800:$G14060,4,FALSE)","v":"D81-118368"},"D81"]
[null,"Lalonde Genevieve",{"$f":"VLOOKUP(B4800,[1]export_1465921594229!$D4801:$G14061,4,FALSE)","v":"ML5-660674"},"ML5"]
[null,"Lalonde Jacques",{"$f":"VLOOKUP(B4801,[1]export_1465921594229!$D4802:$G14062,4,FALSE)","v":"D72-121603"},"D72"]
[null,"Lalonde Maxime",{"$f":"VLOOKUP(B4802,[1]export_1465921594229!$D4803:$G14063,4,FALSE)","v":"LQ6-116891"},{"$f":"LEFT(C4802,3)","v":"LQ6"}]
[null,"Lalri Avtar",{"$f":"VLOOKUP(B4803,[1]export_1465921594229!$D4804:$G14064,4,FALSE)","v":"HB7-025932"},"HB7"]
[null,"Lalri Avtar",{"$f":"VLOOKUP(B4804,[1]export_1465921594229!$D4805:$G14065,4,FALSE)","v":"M97-119403"},"M97"]
[null,"Lalri Avtar",{"$f":"VLOOKUP(B4805,[1]export_1465921594229!$D4806:$G14066,4,FALSE)","v":"BQV-123369"},"BQV"]
[null,"Lalumiere Johanne",{"$f":"VLOOKUP(B4806,[1]export_1465921594229!$D4807:$G14067,4,FALSE)","v":"139-120403"},"139"]
[null,"Lam Carina",{"$f":"VLOOKUP(B4807,[1]export_1465921594229!$D4808:$G14068,4,FALSE)","v":"MK9-117044"},"MK9"]
[null,"Lam Steven",{"$f":"VLOOKUP(B4808,[1]export_1465921594229!$D4809:$G14069,4,FALSE)","v":"R37-119800"},"R37"]
[null,"Lamarche Gilles",{"$f":"VLOOKUP(B4809,[1]export_1465921594229!$D4810:$G14070,4,FALSE)","v":"223-122415"},"223"]
[null,"Lamarche Pierre",{"$f":"VLOOKUP(B4810,[1]export_1465921594229!$D4811:$G14071,4,FALSE)","v":"BOJ-660351"},"BOJ"]
[null,"Lamarche Yvon H",{"$f":"VLOOKUP(B4811,[1]export_1465921594229!$D4812:$G14072,4,FALSE)","v":"LA2-550684"},"LA2"]
[null,"Lamarre Jean-Francois",{"$f":"VLOOKUP(B4812,[1]export_1465921594229!$D4813:$G14073,4,FALSE)","v":"577-120276"},"577"]
[null,"Lamarsh Leonard",{"$f":"VLOOKUP(B4813,[1]export_1465921594229!$D4814:$G14074,4,FALSE)","v":"BMM-502273"},"BMM"]
[null,"Lamarsh Leonard",{"$f":"VLOOKUP(B4814,[1]export_1465921594229!$D4815:$G14075,4,FALSE)","v":"C7P-124642"},"C7P"]
[null,"Lambe Anthony",{"$f":"VLOOKUP(B4815,[1]export_1465921594229!$D4816:$G14076,4,FALSE)","v":"LK1-120964"},"LK1"]
[null,"Lambert Annie",{"$f":"VLOOKUP(B4816,[1]export_1465921594229!$D4817:$G14077,4,FALSE)","v":"KJ4-116707"},"KJ4"]
[null,"Lambert Gisele",{"$f":"VLOOKUP(B4817,[1]export_1465921594229!$D4818:$G14078,4,FALSE)","v":"ES8-121369"},"ES8"]
[null,"Lambert Gisele",{"$f":"VLOOKUP(B4818,[1]export_1465921594229!$D4819:$G14079,4,FALSE)","v":"CV7-115854"},"CV7"]
[null,"Lambert Michel",{"$f":"VLOOKUP(B4819,[1]export_1465921594229!$D4820:$G14080,4,FALSE)","v":"BP2-115795"},"BP2"]
[null,"Lambert Richard",{"$f":"VLOOKUP(B4820,[1]export_1465921594229!$D4821:$G14081,4,FALSE)","v":"E86-118524"},"E86"]
[null,"Lamond Andre",{"$f":"VLOOKUP(B4821,[1]export_1465921594229!$D4822:$G14082,4,FALSE)","v":"B40-121897"},"B40"]
[null,"Lamont Caroline",{"$f":"VLOOKUP(B4822,[1]export_1465921594229!$D4823:$G14083,4,FALSE)","v":"A14-122103"},"A14"]
[null,"Lamontagne Gerard",{"$f":"VLOOKUP(B4823,[1]export_1465921594229!$D4824:$G14084,4,FALSE)","v":"292-120310"},"292"]
[null,"Lamontagne Jean-Guy",{"$f":"VLOOKUP(B4824,[1]export_1465921594229!$D4825:$G14085,4,FALSE)","v":"G39-660415"},"G39"]
[null,"Lamonth Andrea",{"$f":"VLOOKUP(B4825,[1]export_1465921594229!$D4826:$G14086,4,FALSE)","v":"ML3-117048"},"ML3"]
[null,"Lamothe Audrey",{"$f":"VLOOKUP(B4826,[1]export_1465921594229!$D4827:$G14087,4,FALSE)","v":"JL2-116526"},"JL2"]
[null,"Lamoureux Donald",{"$f":"VLOOKUP(B4827,[1]export_1465921594229!$D4828:$G14088,4,FALSE)","v":"ES0-115681"},"ES0"]
[null,"Lamoureux Donald",{"$f":"VLOOKUP(B4828,[1]export_1465921594229!$D4829:$G14089,4,FALSE)","v":"DL6-501645"},"DL6"]
[null,"Lamoureux Johane",{"$f":"VLOOKUP(B4829,[1]export_1465921594229!$D4830:$G14090,4,FALSE)","v":"A85-122020"},"A85"]
[null,"Lamoureux Stephane",{"$f":"VLOOKUP(B4830,[1]export_1465921594229!$D4831:$G14091,4,FALSE)","v":"057-122550"},"057"]
[null,"Lamouroux Kathleen",{"$f":"VLOOKUP(B4831,[1]export_1465921594229!$D4832:$G14092,4,FALSE)","v":"RD7-550847"},"RD7"]
[null,"Lampong Ana V",{"$f":"VLOOKUP(B4832,[1]export_1465921594229!$D4833:$G14093,4,FALSE)","v":"KO8-550666"},"KO8"]
[null,"Lampron Guy",{"$f":"VLOOKUP(B4833,[1]export_1465921594229!$D4834:$G14094,4,FALSE)","v":"QK4-117711"},"QK4"]
[null,"Lampron Jacques",{"$f":"VLOOKUP(B4834,[1]export_1465921594229!$D4835:$G14095,4,FALSE)","v":"CI0-115837"},"CI0"]
[null,"Lampron Yvon",{"$f":"VLOOKUP(B4835,[1]export_1465921594229!$D4836:$G14096,4,FALSE)","v":"B4V-123688"},"B4V"]
[null,"Lampron Yvon",{"$f":"VLOOKUP(B4836,[1]export_1465921594229!$D4837:$G14097,4,FALSE)","v":"N08-029118"},"N08"]
[null,"Lamy Richard",{"$f":"VLOOKUP(B4837,[1]export_1465921594229!$D4838:$G14098,4,FALSE)","v":"O52-119542"},"O52"]
[null,"Lanciault Luc",{"$f":"VLOOKUP(B4838,[1]export_1465921594229!$D4839:$G14099,4,FALSE)","v":"A51-122123"},"A51"]
[null,"Lanctot Bobby",{"$f":"VLOOKUP(B4839,[1]export_1465921594229!$D4840:$G14100,4,FALSE)","v":"CSQ-124273"},"CSQ"]
[null,"Landicho-Fernandez Michelle Liezel",{"$f":"VLOOKUP(B4840,[1]export_1465921594229!$D4841:$G14101,4,FALSE)","v":"D5Y-125507"},"D5Y"]
[null,"Landingin Hessymaye",{"$f":"VLOOKUP(B4841,[1]export_1465921594229!$D4842:$G14102,4,FALSE)","v":"DEK-124815"},"DEK"]
[null,"Lando Robert",{"$f":"VLOOKUP(B4842,[1]export_1465921594229!$D4843:$G14103,4,FALSE)","v":"CWP-124370"},"CWP"]
[null,"Landreville Patrick",{"$f":"VLOOKUP(B4843,[1]export_1465921594229!$D4844:$G14104,4,FALSE)","v":"C62-121697"},"C62"]
[null,"Landry Alain",{"$f":"VLOOKUP(B4844,[1]export_1465921594229!$D4845:$G14105,4,FALSE)","v":"959-115672"},"959"]
[null,"Landry Anne",{"$f":"VLOOKUP(B4845,[1]export_1465921594229!$D4846:$G14106,4,FALSE)","v":"558-120268"},"558"]
[null,"Landry Annie",{"$f":"VLOOKUP(B4846,[1]export_1465921594229!$D4847:$G14107,4,FALSE)","v":"S96-119875"},"S96"]
[null,"Landry Denis",{"$f":"VLOOKUP(B4847,[1]export_1465921594229!$D4848:$G14108,4,FALSE)","v":"M17-116951"},"M17"]
[null,"Landry Dominick",{"$f":"VLOOKUP(B4848,[1]export_1465921594229!$D4849:$G14109,4,FALSE)","v":"Q61-120694"},"Q61"]
[null,"Landry Francis",{"$f":"VLOOKUP(B4849,[1]export_1465921594229!$D4850:$G14110,4,FALSE)","v":"D40-120145"},"D40"]
[null,"Landry Gilles",{"$f":"VLOOKUP(B4850,[1]export_1465921594229!$D4851:$G14111,4,FALSE)","v":"LV8-119363"},"LV8"]
[null,"Landry Gilles",{"$f":"VLOOKUP(B4851,[1]export_1465921594229!$D4852:$G14112,4,FALSE)","v":"H58-118981"},"H58"]
[null,"Landry Gilles",{"$f":"VLOOKUP(B4852,[1]export_1465921594229!$D4853:$G14113,4,FALSE)","v":"F02-118641"},"F02"]
[null,"Landry Julienne",{"$f":"VLOOKUP(B4853,[1]export_1465921594229!$D4854:$G14114,4,FALSE)","v":"676-120304"},"676"]
[null,"Landry Lise",{"$f":"VLOOKUP(B4854,[1]export_1465921594229!$D4855:$G14115,4,FALSE)","v":"G88-118843"},"G88"]
[null,"Landry Michel",{"$f":"VLOOKUP(B4855,[1]export_1465921594229!$D4856:$G14116,4,FALSE)","v":"H66-116161"},"H66"]
[null,"Landry Patrick",{"$f":"VLOOKUP(B4856,[1]export_1465921594229!$D4857:$G14117,4,FALSE)","v":"D86-121609"},"D86"]
[null,"Landry Patrick",{"$f":"VLOOKUP(B4857,[1]export_1465921594229!$D4858:$G14118,4,FALSE)","v":"L03-116790"},"L03"]
[null,"Landry Reginald",{"$f":"VLOOKUP(B4858,[1]export_1465921594229!$D4859:$G14119,4,FALSE)","v":"D3Q-125449"},"D3Q"]
[null,"Landry Renee",{"$f":"VLOOKUP(B4859,[1]export_1465921594229!$D4860:$G14120,4,FALSE)","v":"D55-120149"},"D55"]
[null,"Landry Simon",{"$f":"VLOOKUP(B4860,[1]export_1465921594229!$D4861:$G14121,4,FALSE)","v":"H16-118966"},"H16"]
[null,"Landry Sylvain",{"$f":"VLOOKUP(B4861,[1]export_1465921594229!$D4862:$G14122,4,FALSE)","v":"X01-117986"},"X01"]
[null,"Landry Timothy",{"$f":"VLOOKUP(B4862,[1]export_1465921594229!$D4863:$G14123,4,FALSE)","v":"BAS-550058"},"BAS"]
[null,"Landry Falcati Diane",{"$f":"VLOOKUP(B4863,[1]export_1465921594229!$D4864:$G14124,4,FALSE)","v":"170-122504"},"170"]
[null,"Landry Falcati Diane",{"$f":"VLOOKUP(B4864,[1]export_1465921594229!$D4865:$G14125,4,FALSE)","v":"728-115652"},"728"]
[null,"Landry-Drolet Mathieu",{"$f":"VLOOKUP(B4865,[1]export_1465921594229!$D4866:$G14126,4,FALSE)","v":"CHQ-600092"},"CHQ"]
[null,"Lane Claude",{"$f":"VLOOKUP(B4866,[1]export_1465921594229!$D4867:$G14127,4,FALSE)","v":"Z57-118025"},{"$f":"LEFT(C4866,3)","v":"Z57"}]
[null,"Lane Heather",{"$f":"VLOOKUP(B4867,[1]export_1465921594229!$D4868:$G14128,4,FALSE)","v":"C5L-124589"},"C5L"]
[null,"Langdon John",{"$f":"VLOOKUP(B4868,[1]export_1465921594229!$D4869:$G14129,4,FALSE)","v":"DIG-124911"},"DIG"]
[null,"Langdon John",{"$f":"VLOOKUP(B4869,[1]export_1465921594229!$D4870:$G14130,4,FALSE)","v":"DM5-550399"},"DM5"]
[null,"Lange Quintin K.",{"$f":"VLOOKUP(B4870,[1]export_1465921594229!$D4871:$G14131,4,FALSE)","v":"AW2-121989"},"AW2"]
[null,"Langevin Claude",{"$f":"VLOOKUP(B4871,[1]export_1465921594229!$D4872:$G14132,4,FALSE)","v":"036-122535"},"036"]
[null,"Langevin Denis",{"$f":"VLOOKUP(B4872,[1]export_1465921594229!$D4873:$G14133,4,FALSE)","v":"AN8-115744"},"AN8"]
[null,"Langevin Juliette",{"$f":"VLOOKUP(B4873,[1]export_1465921594229!$D4874:$G14134,4,FALSE)","v":"V23-119954"},"V23"]
[null,"Langevin Juliette",{"$f":"VLOOKUP(B4874,[1]export_1465921594229!$D4875:$G14135,4,FALSE)","v":"596-122133"},"596"]
[null,"Langevin Lyne",{"$f":"VLOOKUP(B4875,[1]export_1465921594229!$D4876:$G14136,4,FALSE)","v":"E09-118467"},"E09"]
[null,"Langevin Martine",{"$f":"VLOOKUP(B4876,[1]export_1465921594229!$D4877:$G14137,4,FALSE)","v":"597-120283"},"597"]
[null,"Langevin Renaud",{"$f":"VLOOKUP(B4877,[1]export_1465921594229!$D4878:$G14138,4,FALSE)","v":"C63-121698"},"C63"]
[null,"Langevin Richard",{"$f":"VLOOKUP(B4878,[1]export_1465921594229!$D4879:$G14139,4,FALSE)","v":"B3H-660474"},"B3H"]
[null,"Langlais Gaston",{"$f":"VLOOKUP(B4879,[1]export_1465921594229!$D4880:$G14140,4,FALSE)","v":"LL7-116871"},"LL7"]
[null,"Langlais Marc",{"$f":"VLOOKUP(B4880,[1]export_1465921594229!$D4881:$G14141,4,FALSE)","v":"H64-116160"},"H64"]
[null,"Langlais Sylvain",{"$f":"VLOOKUP(B4881,[1]export_1465921594229!$D4882:$G14142,4,FALSE)","v":"143-122484"},"143"]
[null,"Langlois Alain",{"$f":"VLOOKUP(B4882,[1]export_1465921594229!$D4883:$G14143,4,FALSE)","v":"090-122572"},"090"]
[null,"Langlois Catherine",{"$f":"VLOOKUP(B4883,[1]export_1465921594229!$D4884:$G14144,4,FALSE)","v":"MU3-117105"},"MU3"]
[null,"Langlois Chantale",{"$f":"VLOOKUP(B4884,[1]export_1465921594229!$D4885:$G14145,4,FALSE)","v":"E68-118510"},"E68"]
[null,"Langlois Daniel",{"$f":"VLOOKUP(B4885,[1]export_1465921594229!$D4886:$G14146,4,FALSE)","v":"JX7-116609"},"JX7"]
[null,"Langlois Daniel",{"$f":"VLOOKUP(B4886,[1]export_1465921594229!$D4887:$G14147,4,FALSE)","v":"E00-115927"},"E00"]
[null,"Langlois Jean",{"$f":"VLOOKUP(B4887,[1]export_1465921594229!$D4888:$G14148,4,FALSE)","v":"071-120386"},"071"]
[null,"Langlois Jean-Pierre",{"$f":"VLOOKUP(B4888,[1]export_1465921594229!$D4889:$G14149,4,FALSE)","v":"H70-121173"},"H70"]
[null,"Langlois Michel",{"$f":"VLOOKUP(B4889,[1]export_1465921594229!$D4890:$G14150,4,FALSE)","v":"B08-121878"},"B08"]
[null,"Langlois Richard",{"$f":"VLOOKUP(B4890,[1]export_1465921594229!$D4891:$G14151,4,FALSE)","v":"AL3-118134"},"AL3"]
[null,"Langlois Picard Vincent",{"$f":"VLOOKUP(B4891,[1]export_1465921594229!$D4892:$G14152,4,FALSE)","v":"BK2-118216"},"BK2"]
[null,"Langs Amanda",{"$f":"VLOOKUP(B4892,[1]export_1465921594229!$D4893:$G14153,4,FALSE)","v":"CHP-124005"},"CHP"]
[null,"Laniel Normand",{"$f":"VLOOKUP(B4893,[1]export_1465921594229!$D4894:$G14154,4,FALSE)","v":"F94-118678"},"F94"]
[null,"Lanigan John",{"$f":"VLOOKUP(B4894,[1]export_1465921594229!$D4895:$G14155,4,FALSE)","v":"FL3-118741"},"FL3"]
[null,"Lanoie Dominique",{"$f":"VLOOKUP(B4895,[1]export_1465921594229!$D4896:$G14156,4,FALSE)","v":"NG2-117179"},"NG2"]
[null,"Lanoie Ginette",{"$f":"VLOOKUP(B4896,[1]export_1465921594229!$D4897:$G14157,4,FALSE)","v":"B21-115757"},"B21"]
[null,"Lanoie Vincent",{"$f":"VLOOKUP(B4897,[1]export_1465921594229!$D4898:$G14158,4,FALSE)","v":"DGQ-124872"},"DGQ"]
[null,"Lanouette Denis",{"$f":"VLOOKUP(B4898,[1]export_1465921594229!$D4899:$G14159,4,FALSE)","v":"D84-550091"},"D84"]
[null,"Lanthier Daniel",{"$f":"VLOOKUP(B4899,[1]export_1465921594229!$D4900:$G14160,4,FALSE)","v":"B74-121927"},"B74"]
[null,"Lanthier Ginette",{"$f":"VLOOKUP(B4900,[1]export_1465921594229!$D4901:$G14161,4,FALSE)","v":"720-115574"},"720"]
[null,"Lanthier Ginette",{"$f":"VLOOKUP(B4901,[1]export_1465921594229!$D4902:$G14162,4,FALSE)","v":"293-115698"},"293"]
[null,"Lanthier Louise",{"$f":"VLOOKUP(B4902,[1]export_1465921594229!$D4903:$G14163,4,FALSE)","v":"464-120358"},"464"]
[null,"Lanthier Melissa",{"$f":"VLOOKUP(B4903,[1]export_1465921594229!$D4904:$G14164,4,FALSE)","v":"W82-120012"},"W82"]
[null,"Lanthier Pauline",{"$f":"VLOOKUP(B4904,[1]export_1465921594229!$D4905:$G14165,4,FALSE)","v":"402-122283"},"402"]
[null,"Lanthier Inc Financiere",{"$f":"VLOOKUP(B4905,[1]export_1465921594229!$D4906:$G14166,4,FALSE)","v":"O88-120756"},"O88"]
[null,"Lapalme Marc",{"$f":"VLOOKUP(B4906,[1]export_1465921594229!$D4907:$G14167,4,FALSE)","v":"PB6-550777"},"PB6"]
[null,"Lapierre Claude",{"$f":"VLOOKUP(B4907,[1]export_1465921594229!$D4908:$G14168,4,FALSE)","v":"DBS-124747"},"DBS"]
[null,"Lapierre Francine",{"$f":"VLOOKUP(B4908,[1]export_1465921594229!$D4909:$G14169,4,FALSE)","v":"GM3-118907"},"GM3"]
[null,"Lapierre Jonathan",{"$f":"VLOOKUP(B4909,[1]export_1465921594229!$D4910:$G14170,4,FALSE)","v":"RG3-119834"},"RG3"]
[null,"Lapierre Olivier",{"$f":"VLOOKUP(B4910,[1]export_1465921594229!$D4911:$G14171,4,FALSE)","v":"KV7-660152"},"KV7"]
[null,"Lapierre Serge",{"$f":"VLOOKUP(B4911,[1]export_1465921594229!$D4912:$G14172,4,FALSE)","v":"540-122229"},"540"]
[null,"Laplante Yvon",{"$f":"VLOOKUP(B4912,[1]export_1465921594229!$D4913:$G14173,4,FALSE)","v":"M50-120866"},"M50"]
[null,"Lapointe Bernard",{"$f":"VLOOKUP(B4913,[1]export_1465921594229!$D4914:$G14174,4,FALSE)","v":"HP7-116240"},"HP7"]
[null,"Lapointe Bertrand",{"$f":"VLOOKUP(B4914,[1]export_1465921594229!$D4915:$G14175,4,FALSE)","v":"L25-116795"},"L25"]
[null,"Lapointe Bertrand",{"$f":"VLOOKUP(B4915,[1]export_1465921594229!$D4916:$G14176,4,FALSE)","v":"CXA-124381"},"CXA"]
[null,"Lapointe Carole",{"$f":"VLOOKUP(B4916,[1]export_1465921594229!$D4917:$G14177,4,FALSE)","v":"B63-120227"},"B63"]
[null,"Lapointe Christine",{"$f":"VLOOKUP(B4917,[1]export_1465921594229!$D4918:$G14178,4,FALSE)","v":"CRO-124245"},"CRO"]
[null,"Lapointe Dominic",{"$f":"VLOOKUP(B4918,[1]export_1465921594229!$D4919:$G14179,4,FALSE)","v":"Z28-118021"},"Z28"]
[null,"Lapointe France",{"$f":"VLOOKUP(B4919,[1]export_1465921594229!$D4920:$G14180,4,FALSE)","v":"454-120352"},"454"]
[null,"Lapointe Jasmin",{"$f":"VLOOKUP(B4920,[1]export_1465921594229!$D4921:$G14181,4,FALSE)","v":"CP4-121644"},"CP4"]
[null,"Lapointe Jean",{"$f":"VLOOKUP(B4921,[1]export_1465921594229!$D4922:$G14182,4,FALSE)","v":"742-115663"},"742"]
[null,"Lapointe Joël",{"$f":"VLOOKUP(B4922,[1]export_1465921594229!$D4923:$G14183,4,FALSE)","v":"DCZ-124779"},"DCZ"]
[null,"Lapointe Lucie",{"$f":"VLOOKUP(B4923,[1]export_1465921594229!$D4924:$G14184,4,FALSE)","v":"149-120405"},"149"]
[null,"Lapointe Marcel",{"$f":"VLOOKUP(B4924,[1]export_1465921594229!$D4925:$G14185,4,FALSE)","v":"I25-121220"},"I25"]
[null,"Lapointe Marcel",{"$f":"VLOOKUP(B4925,[1]export_1465921594229!$D4926:$G14186,4,FALSE)","v":"E13-118471"},"E13"]
[null,"Lapointe Michel",{"$f":"VLOOKUP(B4926,[1]export_1465921594229!$D4927:$G14187,4,FALSE)","v":"P79-117452"},"P79"]
[null,"Lapointe Noel",{"$f":"VLOOKUP(B4927,[1]export_1465921594229!$D4928:$G14188,4,FALSE)","v":"N09-120906"},"N09"]
[null,"Lapointe Pascal",{"$f":"VLOOKUP(B4928,[1]export_1465921594229!$D4929:$G14189,4,FALSE)","v":"D4S-125476"},"D4S"]
[null,"Lapointe Richard",{"$f":"VLOOKUP(B4929,[1]export_1465921594229!$D4930:$G14190,4,FALSE)","v":"706-122082"},"706"]
[null,"Lapointe Richard",{"$f":"VLOOKUP(B4930,[1]export_1465921594229!$D4931:$G14191,4,FALSE)","v":"285-122325"},{"$f":"LEFT(C4930,3)","v":"285"}]
[null,"Lapointe Roland",{"$f":"VLOOKUP(B4931,[1]export_1465921594229!$D4932:$G14192,4,FALSE)","v":"702-115640"},"702"]
[null,"Lapointe Veronique",{"$f":"VLOOKUP(B4932,[1]export_1465921594229!$D4933:$G14193,4,FALSE)","v":"QC0-117673"},"QC0"]
[null,"Lapointe Yves",{"$f":"VLOOKUP(B4933,[1]export_1465921594229!$D4934:$G14194,4,FALSE)","v":"G56-121349"},"G56"]
[null,"Lapointe-Gonthier Pierrette",{"$f":"VLOOKUP(B4934,[1]export_1465921594229!$D4935:$G14195,4,FALSE)","v":"B4A-123668"},"B4A"]
[null,"Lapolla Julio",{"$f":"VLOOKUP(B4935,[1]export_1465921594229!$D4936:$G14196,4,FALSE)","v":"S84-119866"},"S84"]
[null,"Laporte France",{"$f":"VLOOKUP(B4936,[1]export_1465921594229!$D4937:$G14197,4,FALSE)","v":"LE1-120959"},"LE1"]
[null,"Laporte Marlene",{"$f":"VLOOKUP(B4937,[1]export_1465921594229!$D4938:$G14198,4,FALSE)","v":"E41-118494"},"E41"]
[null,"Laporte Yolande",{"$f":"VLOOKUP(B4938,[1]export_1465921594229!$D4939:$G14199,4,FALSE)","v":"Z76-118034"},"Z76"]
[null,"Laprise Normand",{"$f":"VLOOKUP(B4939,[1]export_1465921594229!$D4940:$G14200,4,FALSE)","v":"QN0-660509"},"QN0"]
[null,"Larabie Amanda",{"$f":"VLOOKUP(B4940,[1]export_1465921594229!$D4941:$G14201,4,FALSE)","v":"FS2-116036"},"FS2"]
[null,"Larabie Francine",{"$f":"VLOOKUP(B4941,[1]export_1465921594229!$D4942:$G14202,4,FALSE)","v":"BPK-660356"},"BPK"]
[null,"Larbi Sarah",{"$f":"VLOOKUP(B4942,[1]export_1465921594229!$D4943:$G14203,4,FALSE)","v":"NP5-119497"},"NP5"]
[null,"Larbi Sarah",{"$f":"VLOOKUP(B4943,[1]export_1465921594229!$D4944:$G14204,4,FALSE)","v":"NP4-119496"},"NP4"]
[null,"L'Archeveque Monique",{"$f":"VLOOKUP(B4944,[1]export_1465921594229!$D4945:$G14205,4,FALSE)","v":"I11-121216"},"I11"]
[null,"Larivee Gaetan",{"$f":"VLOOKUP(B4945,[1]export_1465921594229!$D4946:$G14206,4,FALSE)","v":"KX0-660235"},"KX0"]
[null,"Larivee Renee",{"$f":"VLOOKUP(B4946,[1]export_1465921594229!$D4947:$G14207,4,FALSE)","v":"444-120346"},"444"]
[null,"Lariviere Marc",{"$f":"VLOOKUP(B4947,[1]export_1465921594229!$D4948:$G14208,4,FALSE)","v":"FN7-118757"},"FN7"]
[null,"Lariviere Pierre",{"$f":"VLOOKUP(B4948,[1]export_1465921594229!$D4949:$G14209,4,FALSE)","v":"PD7-660613"},"PD7"]
[null,"Laroche Alain",{"$f":"VLOOKUP(B4949,[1]export_1465921594229!$D4950:$G14210,4,FALSE)","v":"G60-118833"},"G60"]
[null,"Laroche Christian",{"$f":"VLOOKUP(B4950,[1]export_1465921594229!$D4951:$G14211,4,FALSE)","v":"OU1-660227"},"OU1"]
[null,"Laroche Jean-Guy",{"$f":"VLOOKUP(B4951,[1]export_1465921594229!$D4952:$G14212,4,FALSE)","v":"W01-119981"},"W01"]
[null,"Laroche Johanne",{"$f":"VLOOKUP(B4952,[1]export_1465921594229!$D4953:$G14213,4,FALSE)","v":"Z44-118023"},"Z44"]
[null,"Laroche Michel",{"$f":"VLOOKUP(B4953,[1]export_1465921594229!$D4954:$G14214,4,FALSE)","v":"DJ6-118403"},"DJ6"]
[null,"Larochelle Andre",{"$f":"VLOOKUP(B4954,[1]export_1465921594229!$D4955:$G14215,4,FALSE)","v":{"$error":"#N/A"}},{"$error":"#N/A"}]
[null,"Larochelle Denis",{"$f":"VLOOKUP(B4955,[1]export_1465921594229!$D4956:$G14216,4,FALSE)","v":"DH5-118394"},"DH5"]
[null,"Larochelle France",{"$f":"VLOOKUP(B4956,[1]export_1465921594229!$D4957:$G14217,4,FALSE)","v":"671-120303"},"671"]
[null,"Larochelle Francoise",{"$f":"VLOOKUP(B4957,[1]export_1465921594229!$D4958:$G14218,4,FALSE)","v":"348-122372"},"348"]
[null,"Larochelle Martine",{"$f":"VLOOKUP(B4958,[1]export_1465921594229!$D4959:$G14219,4,FALSE)","v":"D1Y-660275"},"D1Y"]
[null,"Larochelle Martine",{"$f":"VLOOKUP(B4959,[1]export_1465921594229!$D4960:$G14220,4,FALSE)","v":"A6R-125407"},"A6R"]
[null,"Larocque Edward",{"$f":"VLOOKUP(B4960,[1]export_1465921594229!$D4961:$G14221,4,FALSE)","v":"CTU-124299"},"CTU"]
[null,"Larocque Jean-Yves",{"$f":"VLOOKUP(B4961,[1]export_1465921594229!$D4962:$G14222,4,FALSE)","v":"DNI-125038"},"DNI"]
[null,"Larocque Nicole",{"$f":"VLOOKUP(B4962,[1]export_1465921594229!$D4963:$G14223,4,FALSE)","v":"B51-121906"},"B51"]
[null,"Larocque Patrice",{"$f":"VLOOKUP(B4963,[1]export_1465921594229!$D4964:$G14224,4,FALSE)","v":"KP2-116743"},"KP2"]
[null,"Larocque Grenier Eric",{"$f":"VLOOKUP(B4964,[1]export_1465921594229!$D4965:$G14225,4,FALSE)","v":"DXD-660292"},"DXD"]
[null,"Larocque Grenier Eric",{"$f":"VLOOKUP(B4965,[1]export_1465921594229!$D4966:$G14226,4,FALSE)","v":"G01-125287"},"G01"]
[null,"Larose Christian",{"$f":"VLOOKUP(B4966,[1]export_1465921594229!$D4967:$G14227,4,FALSE)","v":"207-122403"},"207"]
[null,"Larose Guy",{"$f":"VLOOKUP(B4967,[1]export_1465921594229!$D4968:$G14228,4,FALSE)","v":"JN4-660624"},"JN4"]
[null,"Larose Myriam",{"$f":"VLOOKUP(B4968,[1]export_1465921594229!$D4969:$G14229,4,FALSE)","v":"074-120388"},"074"]
[null,"Larose Sylvain",{"$f":"VLOOKUP(B4969,[1]export_1465921594229!$D4970:$G14230,4,FALSE)","v":"FA1-550226"},"FA1"]
[null,"Larouche Andre",{"$f":"VLOOKUP(B4970,[1]export_1465921594229!$D4971:$G14231,4,FALSE)","v":"C72-121703"},"C72"]
[null,"Larouche Andre",{"$f":"VLOOKUP(B4971,[1]export_1465921594229!$D4972:$G14232,4,FALSE)","v":"Q26-120687"},"Q26"]
[null,"Larouche Carol",{"$f":"VLOOKUP(B4972,[1]export_1465921594229!$D4973:$G14233,4,FALSE)","v":"M51-120867"},"M51"]
[null,"Larouche Carol",{"$f":"VLOOKUP(B4973,[1]export_1465921594229!$D4974:$G14234,4,FALSE)","v":"F62-660582"},"F62"]
[null,"Larouche Chantal",{"$f":"VLOOKUP(B4974,[1]export_1465921594229!$D4975:$G14235,4,FALSE)","v":"202-122399"},"202"]
[null,"Larouche Chantale",{"$f":"VLOOKUP(B4975,[1]export_1465921594229!$D4976:$G14236,4,FALSE)","v":"M55-119387"},"M55"]
[null,"Larouche Danielle",{"$f":"VLOOKUP(B4976,[1]export_1465921594229!$D4977:$G14237,4,FALSE)","v":"CH2-660493"},"CH2"]
[null,"Larouche Helene",{"$f":"VLOOKUP(B4977,[1]export_1465921594229!$D4978:$G14238,4,FALSE)","v":"ES6-121367"},"ES6"]
[null,"Larouche Helene",{"$f":"VLOOKUP(B4978,[1]export_1465921594229!$D4979:$G14239,4,FALSE)","v":"EG6-121465"},"EG6"]
[null,"Larouche Jean",{"$f":"VLOOKUP(B4979,[1]export_1465921594229!$D4980:$G14240,4,FALSE)","v":"M80-660604"},"M80"]
[null,"Larouche Jimmy",{"$f":"VLOOKUP(B4980,[1]export_1465921594229!$D4981:$G14241,4,FALSE)","v":"A34-122114"},"A34"]
[null,"Larouche Sandra",{"$f":"VLOOKUP(B4981,[1]export_1465921594229!$D4982:$G14242,4,FALSE)","v":"734-115627"},"734"]
[null,"Larouche Sylvain",{"$f":"VLOOKUP(B4982,[1]export_1465921594229!$D4983:$G14243,4,FALSE)","v":"P03-120767"},"P03"]
[null,"Larrivee Cindy",{"$f":"VLOOKUP(B4983,[1]export_1465921594229!$D4984:$G14244,4,FALSE)","v":{"$error":"#N/A"}},{"$error":"#N/A"}]
[null,"Larue Marc-Antoine",{"$f":"VLOOKUP(B4984,[1]export_1465921594229!$D4985:$G14245,4,FALSE)","v":"BE0-115770"},"BE0"]
[null,"Lasher (Ll Fin Planners) Dave",{"$f":"VLOOKUP(B4985,[1]export_1465921594229!$D4986:$G14246,4,FALSE)","v":"MP0-119431"},"MP0"]
[null,"Lataille Wendy",{"$f":"VLOOKUP(B4986,[1]export_1465921594229!$D4987:$G14247,4,FALSE)","v":"DZK-125342"},"DZK"]
[null,"Latinsky Lynette",{"$f":"VLOOKUP(B4987,[1]export_1465921594229!$D4988:$G14248,4,FALSE)","v":"ME9-117005"},"ME9"]
[null,"Latouche Erica",{"$f":"VLOOKUP(B4988,[1]export_1465921594229!$D4989:$G14249,4,FALSE)","v":"BID-123208"},"BID"]
[null,"Latour Laura",{"$f":"VLOOKUP(B4989,[1]export_1465921594229!$D4990:$G14250,4,FALSE)","v":"077-122563"},"077"]
[null,"Latour Suzanne",{"$f":"VLOOKUP(B4990,[1]export_1465921594229!$D4991:$G14251,4,FALSE)","v":"K70-120980"},"K70"]
[null,"Latreille Pierre",{"$f":"VLOOKUP(B4991,[1]export_1465921594229!$D4992:$G14252,4,FALSE)","v":"RG2-660169"},"RG2"]
[null,"Latry Guy Romero",{"$f":"VLOOKUP(B4992,[1]export_1465921594229!$D4993:$G14253,4,FALSE)","v":"D74-121605"},"D74"]
[null,"Latulippe Alain",{"$f":"VLOOKUP(B4993,[1]export_1465921594229!$D4994:$G14254,4,FALSE)","v":"IM0-119142"},"IM0"]
[null,"Latulippe Celine",{"$f":"VLOOKUP(B4994,[1]export_1465921594229!$D4995:$G14255,4,FALSE)","v":{"$error":"#N/A"}},{"$f":"LEFT(C4994,3)","v":{"$error":"#N/A"}}]
[null,"Latulippe Marc",{"$f":"VLOOKUP(B4995,[1]export_1465921594229!$D4996:$G14256,4,FALSE)","v":"O25-117280"},"O25"]
[null,"Latulippe Real",{"$f":"VLOOKUP(B4996,[1]export_1465921594229!$D4997:$G14257,4,FALSE)","v":"T77-660294"},"T77"]
[null,"Lau Jacqueline",{"$f":"VLOOKUP(B4997,[1]export_1465921594229!$D4998:$G14258,4,FALSE)","v":"R78-119810"},"R78"]
[null,"Lau Kue Kwan",{"$f":"VLOOKUP(B4998,[1]export_1465921594229!$D4999:$G14259,4,FALSE)","v":"V53-119963"},"V53"]
[null,"Lau Nelson",{"$f":"VLOOKUP(B4999,[1]export_1465921594229!$D5000:$G14260,4,FALSE)","v":"BIT-123223"},"BIT"]
[null,"Lau-Fan Monica",{"$f":"VLOOKUP(B5000,[1]export_1465921594229!$D5001:$G14261,4,FALSE)","v":"RB0-117861"},"RB0"]
[null,"Laundrie James",{"$f":"VLOOKUP(B5001,[1]export_1465921594229!$D5002:$G14262,4,FALSE)","v":"MR4-120896"},"MR4"]
[null,"Laundrie James",{"$f":"VLOOKUP(B5002,[1]export_1465921594229!$D5003:$G14263,4,FALSE)","v":"MR3-117084"},"MR3"]
[null,"Laurent Emmanuel",{"$f":"VLOOKUP(B5003,[1]export_1465921594229!$D5004:$G14264,4,FALSE)","v":"BRW-660374"},"BRW"]
[null,"Laurentino Danny",{"$f":"VLOOKUP(B5004,[1]export_1465921594229!$D5005:$G14265,4,FALSE)","v":"E30-118486"},"E30"]
[null,"Laurier Robert",{"$f":"VLOOKUP(B5005,[1]export_1465921594229!$D5006:$G14266,4,FALSE)","v":"CR3-121651"},"CR3"]
[null,"Laurier-Simard Frederic",{"$f":"VLOOKUP(B5006,[1]export_1465921594229!$D5007:$G14267,4,FALSE)","v":"E75-118516"},"E75"]
[null,"Laurin Joel",{"$f":"VLOOKUP(B5007,[1]export_1465921594229!$D5008:$G14268,4,FALSE)","v":"B8P-123781"},"B8P"]
[null,"Laurin Robert",{"$f":"VLOOKUP(B5008,[1]export_1465921594229!$D5009:$G14269,4,FALSE)","v":"F82-660466"},"F82"]
[null,"Laurin Simon",{"$f":"VLOOKUP(B5009,[1]export_1465921594229!$D5010:$G14270,4,FALSE)","v":"A07-122097"},"A07"]
[null,"Lauture Pascal",{"$f":"VLOOKUP(B5010,[1]export_1465921594229!$D5011:$G14271,4,FALSE)","v":"A9L-660612"},"A9L"]
[null,"Lauzier Michel",{"$f":"VLOOKUP(B5011,[1]export_1465921594229!$D5012:$G14272,4,FALSE)","v":"Z00-120052"},"Z00"]
[null,"Lauziere Sebastien",{"$f":"VLOOKUP(B5012,[1]export_1465921594229!$D5013:$G14273,4,FALSE)","v":"RC5-117872"},"RC5"]
[null,"Lauzon Gaetan",{"$f":"VLOOKUP(B5013,[1]export_1465921594229!$D5014:$G14274,4,FALSE)","v":"C43-121686"},"C43"]
[null,"Lauzon Jean",{"$f":"VLOOKUP(B5014,[1]export_1465921594229!$D5015:$G14275,4,FALSE)","v":"AL8-118137"},"AL8"]
[null,"Lavalle John",{"$f":"VLOOKUP(B5015,[1]export_1465921594229!$D5016:$G14276,4,FALSE)","v":"PA3-502301"},"PA3"]
[null,"Lavalle John",{"$f":"VLOOKUP(B5016,[1]export_1465921594229!$D5017:$G14277,4,FALSE)","v":"BSK-123408"},"BSK"]
[null,"Lavallee Lawra-Lynn",{"$f":"VLOOKUP(B5017,[1]export_1465921594229!$D5018:$G14278,4,FALSE)","v":"GS7-121265"},"GS7"]
[null,"Lavallee Mathieu",{"$f":"VLOOKUP(B5018,[1]export_1465921594229!$D5019:$G14279,4,FALSE)","v":"B85-121807"},"B85"]
[null,"Lavallee Pierre",{"$f":"VLOOKUP(B5019,[1]export_1465921594229!$D5020:$G14280,4,FALSE)","v":"BM7-115789"},"BM7"]
[null,"Lavallee Rick",{"$f":"VLOOKUP(B5020,[1]export_1465921594229!$D5021:$G14281,4,FALSE)","v":"W41-120484"},"W41"]
[null,"Lavallee Martine",{"$f":"VLOOKUP(B5021,[1]export_1465921594229!$D5022:$G14282,4,FALSE)","v":{"$error":"#N/A"}},{"$error":"#N/A"}]
[null,"Laveault Stephane",{"$f":"VLOOKUP(B5022,[1]export_1465921594229!$D5023:$G14283,4,FALSE)","v":"QS7-117778"},"QS7"]
[null,"Laverdure Michel",{"$f":"VLOOKUP(B5023,[1]export_1465921594229!$D5024:$G14284,4,FALSE)","v":"HI4-119035"},"HI4"]
[null,"Lavergne Pierre E.",{"$f":"VLOOKUP(B5024,[1]export_1465921594229!$D5025:$G14285,4,FALSE)","v":"238-122422"},"238"]
[null,"Laverty Paul",{"$f":"VLOOKUP(B5025,[1]export_1465921594229!$D5026:$G14286,4,FALSE)","v":"OG9-117325"},"OG9"]
[null,"Lavigne Andre",{"$f":"VLOOKUP(B5026,[1]export_1465921594229!$D5027:$G14287,4,FALSE)","v":"D36-121578"},"D36"]
[null,"Lavigne Andre",{"$f":"VLOOKUP(B5027,[1]export_1465921594229!$D5028:$G14288,4,FALSE)","v":"B14-121883"},"B14"]
[null,"Lavigne Andre",{"$f":"VLOOKUP(B5028,[1]export_1465921594229!$D5029:$G14289,4,FALSE)","v":"C10-121787"},"C10"]
[null,"Lavigne Johanne",{"$f":"VLOOKUP(B5029,[1]export_1465921594229!$D5030:$G14290,4,FALSE)","v":"H55-121165"},"H55"]
[null,"Lavigne Johanne",{"$f":"VLOOKUP(B5030,[1]export_1465921594229!$D5031:$G14291,4,FALSE)","v":"FO6-116030"},"FO6"]
[null,"Lavigne Marie-Claude",{"$f":"VLOOKUP(B5031,[1]export_1465921594229!$D5032:$G14292,4,FALSE)","v":"Q34-660591"},"Q34"]
[null,"Lavigne Steve",{"$f":"VLOOKUP(B5032,[1]export_1465921594229!$D5033:$G14293,4,FALSE)","v":"G35-660340"},"G35"]
[null,"Lavigne Yves",{"$f":"VLOOKUP(B5033,[1]export_1465921594229!$D5034:$G14294,4,FALSE)","v":"IO4-116389"},"IO4"]
[null,"Lavoie Angelo",{"$f":"VLOOKUP(B5034,[1]export_1465921594229!$D5035:$G14295,4,FALSE)","v":"117-122464"},"117"]
[null,"Lavoie Bertrand",{"$f":"VLOOKUP(B5035,[1]export_1465921594229!$D5036:$G14296,4,FALSE)","v":"708-115643"},"708"]
[null,"Lavoie Claude",{"$f":"VLOOKUP(B5036,[1]export_1465921594229!$D5037:$G14297,4,FALSE)","v":"P53-119625"},"P53"]
[null,"Lavoie Claude",{"$f":"VLOOKUP(B5037,[1]export_1465921594229!$D5038:$G14298,4,FALSE)","v":"B2Y-123642"},"B2Y"]
[null,"Lavoie Claude",{"$f":"VLOOKUP(B5038,[1]export_1465921594229!$D5039:$G14299,4,FALSE)","v":"H12-660118"},"H12"]
[null,"Lavoie Denise",{"$f":"VLOOKUP(B5039,[1]export_1465921594229!$D5040:$G14300,4,FALSE)","v":"DI0-115891"},"DI0"]
[null,"Lavoie Dominic",{"$f":"VLOOKUP(B5040,[1]export_1465921594229!$D5041:$G14301,4,FALSE)","v":"C7N-124640"},"C7N"]
[null,"Lavoie Etienne",{"$f":"VLOOKUP(B5041,[1]export_1465921594229!$D5042:$G14302,4,FALSE)","v":"T73-117920"},"T73"]
[null,"Lavoie France",{"$f":"VLOOKUP(B5042,[1]export_1465921594229!$D5043:$G14303,4,FALSE)","v":"PD6-117480"},"PD6"]
[null,"Lavoie Gervais",{"$f":"VLOOKUP(B5043,[1]export_1465921594229!$D5044:$G14304,4,FALSE)","v":"J17-660583"},"J17"]
[null,"Lavoie Gino",{"$f":"VLOOKUP(B5044,[1]export_1465921594229!$D5045:$G14305,4,FALSE)","v":"RE6-117888"},"RE6"]
[null,"Lavoie Helene",{"$f":"VLOOKUP(B5045,[1]export_1465921594229!$D5046:$G14306,4,FALSE)","v":"LR5-116896"},"LR5"]
[null,"Lavoie Helene",{"$f":"VLOOKUP(B5046,[1]export_1465921594229!$D5047:$G14307,4,FALSE)","v":"496-122203"},"496"]
[null,"Lavoie Isabelle",{"$f":"VLOOKUP(B5047,[1]export_1465921594229!$D5048:$G14308,4,FALSE)","v":"076-122562"},"076"]
[null,"Lavoie Jennyfer",{"$f":"VLOOKUP(B5048,[1]export_1465921594229!$D5049:$G14309,4,FALSE)","v":"D3E-125438"},"D3E"]
[null,"Lavoie Julien",{"$f":"VLOOKUP(B5049,[1]export_1465921594229!$D5050:$G14310,4,FALSE)","v":"G98-660004"},"G98"]
[null,"Lavoie Line",{"$f":"VLOOKUP(B5050,[1]export_1465921594229!$D5051:$G14311,4,FALSE)","v":"OG2-660545"},"OG2"]
[null,"Lavoie Lory",{"$f":"VLOOKUP(B5051,[1]export_1465921594229!$D5052:$G14312,4,FALSE)","v":"HN0-119047"},"HN0"]
[null,"Lavoie Marcel",{"$f":"VLOOKUP(B5052,[1]export_1465921594229!$D5053:$G14313,4,FALSE)","v":"FE2-660629"},"FE2"]
[null,"Lavoie Martin",{"$f":"VLOOKUP(B5053,[1]export_1465921594229!$D5054:$G14314,4,FALSE)","v":"OL2-119574"},"OL2"]
[null,"Lavoie Michel",{"$f":"VLOOKUP(B5054,[1]export_1465921594229!$D5055:$G14315,4,FALSE)","v":"HJ7-116209"},"HJ7"]
[null,"Lavoie Michele",{"$f":"VLOOKUP(B5055,[1]export_1465921594229!$D5056:$G14316,4,FALSE)","v":"W20-119989"},"W20"]
[null,"Lavoie Richard",{"$f":"VLOOKUP(B5056,[1]export_1465921594229!$D5057:$G14317,4,FALSE)","v":"O54-120743"},"O54"]
[null,"Lavoie Robert",{"$f":"VLOOKUP(B5057,[1]export_1465921594229!$D5058:$G14318,4,FALSE)","v":"707-115642"},"707"]
[null,"Lavoie Rodrigue",{"$f":"VLOOKUP(B5058,[1]export_1465921594229!$D5059:$G14319,4,FALSE)","v":"O50-660724"},{"$f":"LEFT(C5058,3)","v":"O50"}]
[null,"Lavoie Serge",{"$f":"VLOOKUP(B5059,[1]export_1465921594229!$D5060:$G14320,4,FALSE)","v":"C64-120121"},"C64"]
[null,"Lavoie Simon",{"$f":"VLOOKUP(B5060,[1]export_1465921594229!$D5061:$G14321,4,FALSE)","v":"AS6-121970"},"AS6"]
[null,"Lavoie Suzanne",{"$f":"VLOOKUP(B5061,[1]export_1465921594229!$D5062:$G14322,4,FALSE)","v":"BW5-118264"},"BW5"]
[null,"Lavoie Yves",{"$f":"VLOOKUP(B5062,[1]export_1465921594229!$D5063:$G14323,4,FALSE)","v":"958-115632"},"958"]
[null,"Lavoie-Morency Mathilde",{"$f":"VLOOKUP(B5063,[1]export_1465921594229!$D5064:$G14324,4,FALSE)","v":"FM9-118754"},"FM9"]
[null,"Law Elsa Yuen Yee",{"$f":"VLOOKUP(B5064,[1]export_1465921594229!$D5065:$G14325,4,FALSE)","v":"JZ7-116617"},"JZ7"]
[null,"Law Norman C. K.",{"$f":"VLOOKUP(B5065,[1]export_1465921594229!$D5066:$G14326,4,FALSE)","v":"CW6-550332"},"CW6"]
[null,"Lawal Sam",{"$f":"VLOOKUP(B5066,[1]export_1465921594229!$D5067:$G14327,4,FALSE)","v":"FC6-118692"},"FC6"]
[null,"Lawrance Claudia",{"$f":"VLOOKUP(B5067,[1]export_1465921594229!$D5068:$G14328,4,FALSE)","v":"FJ7-118726"},"FJ7"]
[null,"Lawrance Shibu",{"$f":"VLOOKUP(B5068,[1]export_1465921594229!$D5069:$G14329,4,FALSE)","v":"FJ5-118725"},"FJ5"]
[null,"Lawrence Anil",{"$f":"VLOOKUP(B5069,[1]export_1465921594229!$D5070:$G14330,4,FALSE)","v":"OF2-117312"},"OF2"]
[null,"Lawrence Carlton",{"$f":"VLOOKUP(B5070,[1]export_1465921594229!$D5071:$G14331,4,FALSE)","v":"N24-028635"},"N24"]
[null,"Lawrence Carlton",{"$f":"VLOOKUP(B5071,[1]export_1465921594229!$D5072:$G14332,4,FALSE)","v":"NO5-428635"},"NO5"]
[null,"Lawrence Carlton",{"$f":"VLOOKUP(B5072,[1]export_1465921594229!$D5073:$G14333,4,FALSE)","v":"QB0-119725"},"QB0"]
[null,"Lawrence Carlton",{"$f":"VLOOKUP(B5073,[1]export_1465921594229!$D5074:$G14334,4,FALSE)","v":"NO4-328635"},"NO4"]
[null,"Lawrence Carlton",{"$f":"VLOOKUP(B5074,[1]export_1465921594229!$D5075:$G14335,4,FALSE)","v":"Q03-119673"},"Q03"]
[null,"Lawrence Roy",{"$f":"VLOOKUP(B5075,[1]export_1465921594229!$D5076:$G14336,4,FALSE)","v":"DJO-124945"},"DJO"]
[null,"Lawrence Xavier",{"$f":"VLOOKUP(B5076,[1]export_1465921594229!$D5077:$G14337,4,FALSE)","v":"CDA-123893"},"CDA"]
[null,"Layal Jagjit",{"$f":"VLOOKUP(B5077,[1]export_1465921594229!$D5078:$G14338,4,FALSE)","v":"DNN-125043"},"DNN"]
[null,"Lazare (Lazare Financial) Eric A.",{"$f":"VLOOKUP(B5078,[1]export_1465921594229!$D5079:$G14339,4,FALSE)","v":"PW5-117640"},"PW5"]
[null,"Lazarus Sandra",{"$f":"VLOOKUP(B5079,[1]export_1465921594229!$D5080:$G14340,4,FALSE)","v":"DIC-124908"},"DIC"]
[null,"Lazic Oliver",{"$f":"VLOOKUP(B5080,[1]export_1465921594229!$D5081:$G14341,4,FALSE)","v":"QJ9-117707"},"QJ9"]
[null,"Le Hien",{"$f":"VLOOKUP(B5081,[1]export_1465921594229!$D5082:$G14342,4,FALSE)","v":"FH7-118719"},"FH7"]
[null,"Le Phuc (Michael)",{"$f":"VLOOKUP(B5082,[1]export_1465921594229!$D5083:$G14343,4,FALSE)","v":"PU8-117623"},"PU8"]
[null,"Le Blanc Jacques L.",{"$f":"VLOOKUP(B5083,[1]export_1465921594229!$D5084:$G14344,4,FALSE)","v":"151-122489"},"151"]
[null,"Le Blanc Pierre",{"$f":"VLOOKUP(B5084,[1]export_1465921594229!$D5085:$G14345,4,FALSE)","v":"CX8-121549"},"CX8"]
[null,"Le Blanc Pierre",{"$f":"VLOOKUP(B5085,[1]export_1465921594229!$D5086:$G14346,4,FALSE)","v":"L83-120941"},"L83"]
[null,"Le Blanc Pierre",{"$f":"VLOOKUP(B5086,[1]export_1465921594229!$D5087:$G14347,4,FALSE)","v":"AU5-118172"},"AU5"]
[null,"Le Blanc Pierre",{"$f":"VLOOKUP(B5087,[1]export_1465921594229!$D5088:$G14348,4,FALSE)","v":"T13-120644"},"T13"]
[null,"Le Bouar Jean-Pierre",{"$f":"VLOOKUP(B5088,[1]export_1465921594229!$D5089:$G14349,4,FALSE)","v":"B48-121904"},"B48"]
[null,"Le Breton Pascal",{"$f":"VLOOKUP(B5089,[1]export_1465921594229!$D5090:$G14350,4,FALSE)","v":"R76-120607"},"R76"]
[null,"Le Breton Pascal",{"$f":"VLOOKUP(B5090,[1]export_1465921594229!$D5091:$G14351,4,FALSE)","v":"NN7-117225"},"NN7"]
[null,"Le Pêcheur Marie",{"$f":"VLOOKUP(B5091,[1]export_1465921594229!$D5092:$G14352,4,FALSE)","v":"D5A-600112"},"D5A"]
[null,"Le Siege Philippe",{"$f":"VLOOKUP(B5092,[1]export_1465921594229!$D5093:$G14353,4,FALSE)","v":"078-120389"},"078"]
[null,"Le Sieur Jacques",{"$f":"VLOOKUP(B5093,[1]export_1465921594229!$D5094:$G14354,4,FALSE)","v":"D6L-125519"},"D6L"]
[null,"Leahy Catherine",{"$f":"VLOOKUP(B5094,[1]export_1465921594229!$D5095:$G14355,4,FALSE)","v":"DBG-124735"},"DBG"]
[null,"Lebeau Sebastien",{"$f":"VLOOKUP(B5095,[1]export_1465921594229!$D5096:$G14356,4,FALSE)","v":{"$error":"#N/A"}},{"$error":"#N/A"}]
[null,"Lebel Annie",{"$f":"VLOOKUP(B5096,[1]export_1465921594229!$D5097:$G14357,4,FALSE)","v":"CPD-124187"},"CPD"]
[null,"Lebel Frederick",{"$f":"VLOOKUP(B5097,[1]export_1465921594229!$D5098:$G14358,4,FALSE)","v":"QE9-117681"},"QE9"]
[null,"Lebel Josee",{"$f":"VLOOKUP(B5098,[1]export_1465921594229!$D5099:$G14359,4,FALSE)","v":"HH1-116195"},"HH1"]
[null,"Leblanc Alain",{"$f":"VLOOKUP(B5099,[1]export_1465921594229!$D5100:$G14360,4,FALSE)","v":"EA8-660560"},"EA8"]
[null,"Leblanc Alain",{"$f":"VLOOKUP(B5100,[1]export_1465921594229!$D5101:$G14361,4,FALSE)","v":"A8R-660216"},"A8R"]
[null,"Leblanc Andre",{"$f":"VLOOKUP(B5101,[1]export_1465921594229!$D5102:$G14362,4,FALSE)","v":"DQ4-118424"},"DQ4"]
[null,"Leblanc Bernard",{"$f":"VLOOKUP(B5102,[1]export_1465921594229!$D5103:$G14363,4,FALSE)","v":"A94-122026"},"A94"]
[null,"Leblanc Carole",{"$f":"VLOOKUP(B5103,[1]export_1465921594229!$D5104:$G14364,4,FALSE)","v":"CT1-660070"},"CT1"]
[null,"Leblanc Carole",{"$f":"VLOOKUP(B5104,[1]export_1465921594229!$D5105:$G14365,4,FALSE)","v":"D2N-125422"},"D2N"]
[null,"Leblanc Carole",{"$f":"VLOOKUP(B5105,[1]export_1465921594229!$D5106:$G14366,4,FALSE)","v":"L02-119292"},"L02"]
[null,"Leblanc Dominique",{"$f":"VLOOKUP(B5106,[1]export_1465921594229!$D5107:$G14367,4,FALSE)","v":"HH4-116197"},"HH4"]
[null,"Leblanc Eric",{"$f":"VLOOKUP(B5107,[1]export_1465921594229!$D5108:$G14368,4,FALSE)","v":"JC9-116478"},"JC9"]
[null,"LeBlanc Felix",{"$f":"VLOOKUP(B5108,[1]export_1465921594229!$D5109:$G14369,4,FALSE)","v":"DNJ-125039"},"DNJ"]
[null,"Leblanc Jacques",{"$f":"VLOOKUP(B5109,[1]export_1465921594229!$D5110:$G14370,4,FALSE)","v":"HN2-660119"},"HN2"]
[null,"Leblanc Jean-Yves",{"$f":"VLOOKUP(B5110,[1]export_1465921594229!$D5111:$G14371,4,FALSE)","v":"N99-119475"},"N99"]
[null,"Leblanc Laidia",{"$f":"VLOOKUP(B5111,[1]export_1465921594229!$D5112:$G14372,4,FALSE)","v":"DD5-121498"},"DD5"]
[null,"Leblanc Mado",{"$f":"VLOOKUP(B5112,[1]export_1465921594229!$D5113:$G14373,4,FALSE)","v":"BDT-660206"},"BDT"]
[null,"Leblanc Nathalie",{"$f":"VLOOKUP(B5113,[1]export_1465921594229!$D5114:$G14374,4,FALSE)","v":"BL8-118222"},"BL8"]
[null,"Leblanc Nicole",{"$f":"VLOOKUP(B5114,[1]export_1465921594229!$D5115:$G14375,4,FALSE)","v":"474-120362"},"474"]
[null,"Leblanc Pierre-Luc",{"$f":"VLOOKUP(B5115,[1]export_1465921594229!$D5116:$G14376,4,FALSE)","v":"MU0-117102"},"MU0"]
[null,"Leblanc Rejean",{"$f":"VLOOKUP(B5116,[1]export_1465921594229!$D5117:$G14377,4,FALSE)","v":"E25-115929"},"E25"]
[null,"Leblanc Stephane",{"$f":"VLOOKUP(B5117,[1]export_1465921594229!$D5118:$G14378,4,FALSE)","v":"616-122148"},"616"]
[null,"Leblanc Doiron Tanya",{"$f":"VLOOKUP(B5118,[1]export_1465921594229!$D5119:$G14379,4,FALSE)","v":"FC3-118690"},"FC3"]
[null,"Leblanc Hamel Philippe",{"$f":"VLOOKUP(B5119,[1]export_1465921594229!$D5120:$G14380,4,FALSE)","v":"K96-660122"},"K96"]
[null,"Leblanc Hamel Philippe",{"$f":"VLOOKUP(B5120,[1]export_1465921594229!$D5121:$G14381,4,FALSE)","v":"A61-122003"},"A61"]
[null,"Leblanc Hamel Philippe",{"$f":"VLOOKUP(B5121,[1]export_1465921594229!$D5122:$G14382,4,FALSE)","v":"B6X-123739"},"B6X"]
[null,"Leblanc(Simplicity Ins S) Daniel",{"$f":"VLOOKUP(B5122,[1]export_1465921594229!$D5123:$G14383,4,FALSE)","v":"NU4-117246"},{"$f":"LEFT(C5122,3)","v":"NU4"}]
[null,"Leblond Marie-Pierre",{"$f":"VLOOKUP(B5123,[1]export_1465921594229!$D5124:$G14384,4,FALSE)","v":"D2C-125411"},"D2C"]
[null,"Leboutillier Yves",{"$f":"VLOOKUP(B5124,[1]export_1465921594229!$D5125:$G14385,4,FALSE)","v":"NC2-117157"},"NC2"]
[null,"Lebrasseur Guylaine",{"$f":"VLOOKUP(B5125,[1]export_1465921594229!$D5126:$G14386,4,FALSE)","v":"345-122371"},"345"]
[null,"Lebrun Antoine",{"$f":"VLOOKUP(B5126,[1]export_1465921594229!$D5127:$G14387,4,FALSE)","v":"DVL-125243"},"DVL"]
[null,"Lebrun Eric",{"$f":"VLOOKUP(B5127,[1]export_1465921594229!$D5128:$G14388,4,FALSE)","v":"LC3-660136"},"LC3"]
[null,"Lebrun Eric",{"$f":"VLOOKUP(B5128,[1]export_1465921594229!$D5129:$G14389,4,FALSE)","v":"DD9-121499"},"DD9"]
[null,"Lebrun Eric",{"$f":"VLOOKUP(B5129,[1]export_1465921594229!$D5130:$G14390,4,FALSE)","v":"C86-121715"},"C86"]
[null,"Lebrun Lucie",{"$f":"VLOOKUP(B5130,[1]export_1465921594229!$D5131:$G14391,4,FALSE)","v":"520-120257"},"520"]
[null,"Lebrun Serge",{"$f":"VLOOKUP(B5131,[1]export_1465921594229!$D5132:$G14392,4,FALSE)","v":"QL5-117719"},"QL5"]
[null,"Lebrun Sophie",{"$f":"VLOOKUP(B5132,[1]export_1465921594229!$D5133:$G14393,4,FALSE)","v":"MJ0-115610"},"MJ0"]
[null,"Lechasseur Sylvain",{"$f":"VLOOKUP(B5133,[1]export_1465921594229!$D5134:$G14394,4,FALSE)","v":"B00-120213"},"B00"]
[null,"Leclair Maxym",{"$f":"VLOOKUP(B5134,[1]export_1465921594229!$D5135:$G14395,4,FALSE)","v":"B2H-660471"},"B2H"]
[null,"LeClair-Day Christine",{"$f":"VLOOKUP(B5135,[1]export_1465921594229!$D5136:$G14396,4,FALSE)","v":"CLF-124093"},"CLF"]
[null,"Leclerc Andre",{"$f":"VLOOKUP(B5136,[1]export_1465921594229!$D5137:$G14397,4,FALSE)","v":"M16-116950"},"M16"]
[null,"Leclerc Antoine",{"$f":"VLOOKUP(B5137,[1]export_1465921594229!$D5138:$G14398,4,FALSE)","v":"W81-660737"},"W81"]
[null,"Leclerc Eric",{"$f":"VLOOKUP(B5138,[1]export_1465921594229!$D5139:$G14399,4,FALSE)","v":"Z91-120459"},"Z91"]
[null,"Leclerc Eric",{"$f":"VLOOKUP(B5139,[1]export_1465921594229!$D5140:$G14400,4,FALSE)","v":"S49-120623"},"S49"]
[null,"Leclerc Frederic",{"$f":"VLOOKUP(B5140,[1]export_1465921594229!$D5141:$G14401,4,FALSE)","v":{"$error":"#N/A"}},{"$error":"#N/A"}]
[null,"Leclerc Jean",{"$f":"VLOOKUP(B5141,[1]export_1465921594229!$D5142:$G14402,4,FALSE)","v":"Q55-119702"},"Q55"]
[null,"Leclerc Jean-Francois",{"$f":"VLOOKUP(B5142,[1]export_1465921594229!$D5143:$G14403,4,FALSE)","v":"HU0-660082"},"HU0"]
[null,"Leclerc Jean-Francois",{"$f":"VLOOKUP(B5143,[1]export_1465921594229!$D5144:$G14404,4,FALSE)","v":"A08-122098"},"A08"]
[null,"Leclerc Jean-Pierre",{"$f":"VLOOKUP(B5144,[1]export_1465921594229!$D5145:$G14405,4,FALSE)","v":"422-120337"},"422"]
[null,"Leclerc Katleen",{"$f":"VLOOKUP(B5145,[1]export_1465921594229!$D5146:$G14406,4,FALSE)","v":"P85-120674"},"P85"]
[null,"Leclerc Marcel",{"$f":"VLOOKUP(B5146,[1]export_1465921594229!$D5147:$G14407,4,FALSE)","v":"962-115584"},"962"]
[null,"Leclerc Michel",{"$f":"VLOOKUP(B5147,[1]export_1465921594229!$D5148:$G14408,4,FALSE)","v":"A35-122115"},"A35"]
[null,"Leclerc Ralph",{"$f":"VLOOKUP(B5148,[1]export_1465921594229!$D5149:$G14409,4,FALSE)","v":"DSB-125159"},"DSB"]
[null,"Leclerc Robert",{"$f":"VLOOKUP(B5149,[1]export_1465921594229!$D5150:$G14410,4,FALSE)","v":"FB7-116004"},"FB7"]
[null,"Leclerc Sylvio",{"$f":"VLOOKUP(B5150,[1]export_1465921594229!$D5151:$G14411,4,FALSE)","v":"QX1-119786"},"QX1"]
[null,"Leclerc Sylvio",{"$f":"VLOOKUP(B5151,[1]export_1465921594229!$D5152:$G14412,4,FALSE)","v":"F57-115991"},"F57"]
[null,"Leclerc Yves",{"$f":"VLOOKUP(B5152,[1]export_1465921594229!$D5153:$G14413,4,FALSE)","v":"CC1-118280"},"CC1"]
[null,"Lecompte Pierre",{"$f":"VLOOKUP(B5153,[1]export_1465921594229!$D5154:$G14414,4,FALSE)","v":"QK9-117715"},"QK9"]
[null,"Lecomte Jacques",{"$f":"VLOOKUP(B5154,[1]export_1465921594229!$D5155:$G14415,4,FALSE)","v":"636-122159"},"636"]
[null,"Leconte Karina",{"$f":"VLOOKUP(B5155,[1]export_1465921594229!$D5156:$G14416,4,FALSE)","v":"BRM-123386"},"BRM"]
[null,"Lecourtois Joseph",{"$f":"VLOOKUP(B5156,[1]export_1465921594229!$D5157:$G14417,4,FALSE)","v":"DYW-125331"},"DYW"]
[null,"Ledingham Anthony",{"$f":"VLOOKUP(B5157,[1]export_1465921594229!$D5158:$G14418,4,FALSE)","v":"BN1-501140"},"BN1"]
[null,"Ledoux Isabelle",{"$f":"VLOOKUP(B5158,[1]export_1465921594229!$D5159:$G14419,4,FALSE)","v":"578-122251"},"578"]
[null,"LEDOUX LUCIEN",{"$f":"VLOOKUP(B5159,[1]export_1465921594229!$D5160:$G14420,4,FALSE)","v":"M40-660441"},"M40"]
[null,"Ledoux Stephane",{"$f":"VLOOKUP(B5160,[1]export_1465921594229!$D5161:$G14421,4,FALSE)","v":"BL3-115785"},"BL3"]
[null,"Leduc Gaston",{"$f":"VLOOKUP(B5161,[1]export_1465921594229!$D5162:$G14422,4,FALSE)","v":"S99-120640"},"S99"]
[null,"Leduc Jean-Francois",{"$f":"VLOOKUP(B5162,[1]export_1465921594229!$D5163:$G14423,4,FALSE)","v":"CE2-121735"},"CE2"]
[null,"Leduc Marc",{"$f":"VLOOKUP(B5163,[1]export_1465921594229!$D5164:$G14424,4,FALSE)","v":"BU5-118257"},"BU5"]
[null,"Leduc Martin",{"$f":"VLOOKUP(B5164,[1]export_1465921594229!$D5165:$G14425,4,FALSE)","v":"Q25-119682"},"Q25"]
[null,"Leduc Nathalie",{"$f":"VLOOKUP(B5165,[1]export_1465921594229!$D5166:$G14426,4,FALSE)","v":"145-122485"},"145"]
[null,"Leduc Roger",{"$f":"VLOOKUP(B5166,[1]export_1465921594229!$D5167:$G14427,4,FALSE)","v":"A69-122009"},"A69"]
[null,"Leduc Roger",{"$f":"VLOOKUP(B5167,[1]export_1465921594229!$D5168:$G14428,4,FALSE)","v":"P80-117453"},"P80"]
[null,"Leduc Suzanne",{"$f":"VLOOKUP(B5168,[1]export_1465921594229!$D5169:$G14429,4,FALSE)","v":"CL9-121627"},"CL9"]
[null,"Lee Aric",{"$f":"VLOOKUP(B5169,[1]export_1465921594229!$D5170:$G14430,4,FALSE)","v":"QX7-117820"},"QX7"]
[null,"Lee Changhee (Jimmy)",{"$f":"VLOOKUP(B5170,[1]export_1465921594229!$D5171:$G14431,4,FALSE)","v":"PH1-117512"},"PH1"]
[null,"Lee Chedmund",{"$f":"VLOOKUP(B5171,[1]export_1465921594229!$D5172:$G14432,4,FALSE)","v":"GL2-116093"},"GL2"]
[null,"Lee Dongeon",{"$f":"VLOOKUP(B5172,[1]export_1465921594229!$D5173:$G14433,4,FALSE)","v":"IZ1-116442"},"IZ1"]
[null,"Lee Elijah",{"$f":"VLOOKUP(B5173,[1]export_1465921594229!$D5174:$G14434,4,FALSE)","v":"FU9-118789"},"FU9"]
[null,"Lee Hae Sun",{"$f":"VLOOKUP(B5174,[1]export_1465921594229!$D5175:$G14435,4,FALSE)","v":"JM0-116533"},"JM0"]
[null,"Lee Haewon",{"$f":"VLOOKUP(B5175,[1]export_1465921594229!$D5176:$G14436,4,FALSE)","v":"MA7-116973"},"MA7"]
[null,"Lee Hye-Young Lucia",{"$f":"VLOOKUP(B5176,[1]export_1465921594229!$D5177:$G14437,4,FALSE)","v":"LM1-119334"},"LM1"]
[null,"Lee June",{"$f":"VLOOKUP(B5177,[1]export_1465921594229!$D5178:$G14438,4,FALSE)","v":"T88-119905"},"T88"]
[null,"Lee Jung Hwa",{"$f":"VLOOKUP(B5178,[1]export_1465921594229!$D5179:$G14439,4,FALSE)","v":"IZ3-116444"},"IZ3"]
[null,"Lee Jungkil",{"$f":"VLOOKUP(B5179,[1]export_1465921594229!$D5180:$G14440,4,FALSE)","v":"NV6-117252"},"NV6"]
[null,"Lee Kam Yin",{"$f":"VLOOKUP(B5180,[1]export_1465921594229!$D5181:$G14441,4,FALSE)","v":"BWT-123500"},"BWT"]
[null,"Lee Mimi",{"$f":"VLOOKUP(B5181,[1]export_1465921594229!$D5182:$G14442,4,FALSE)","v":"RA7-550845"},"RA7"]
[null,"Lee Morgiana",{"$f":"VLOOKUP(B5182,[1]export_1465921594229!$D5183:$G14443,4,FALSE)","v":"BXY-123522"},"BXY"]
[null,"Lee Raymond",{"$f":"VLOOKUP(B5183,[1]export_1465921594229!$D5184:$G14444,4,FALSE)","v":"IT1-121148"},"IT1"]
[null,"Lee Raymond",{"$f":"VLOOKUP(B5184,[1]export_1465921594229!$D5185:$G14445,4,FALSE)","v":"LM6-119337"},"LM6"]
[null,"Lee Raymond",{"$f":"VLOOKUP(B5185,[1]export_1465921594229!$D5186:$G14446,4,FALSE)","v":"FO5-121309"},"FO5"]
[null,"Lee Raymond",{"$f":"VLOOKUP(B5186,[1]export_1465921594229!$D5187:$G14447,4,FALSE)","v":"KK6-121008"},{"$f":"LEFT(C5186,3)","v":"KK6"}]
[null,"Lee Victor",{"$f":"VLOOKUP(B5187,[1]export_1465921594229!$D5188:$G14448,4,FALSE)","v":"BDE-550648"},"BDE"]
[null,"Lee (Lee Financial Inc.) John Paul",{"$f":"VLOOKUP(B5188,[1]export_1465921594229!$D5189:$G14449,4,FALSE)","v":"OP6-117375"},"OP6"]
[null,"Lees Christopher",{"$f":"VLOOKUP(B5189,[1]export_1465921594229!$D5190:$G14450,4,FALSE)","v":"N13-120908"},"N13"]
[null,"Lefaivre Romeo",{"$f":"VLOOKUP(B5190,[1]export_1465921594229!$D5191:$G14451,4,FALSE)","v":"OK7-117349"},"OK7"]
[null,"Lefebvre Benoit",{"$f":"VLOOKUP(B5191,[1]export_1465921594229!$D5192:$G14452,4,FALSE)","v":"DOT-125075"},"DOT"]
[null,"Lefebvre Dany",{"$f":"VLOOKUP(B5192,[1]export_1465921594229!$D5193:$G14453,4,FALSE)","v":"C4I-124563"},"C4I"]
[null,"Lefebvre Francois",{"$f":"VLOOKUP(B5193,[1]export_1465921594229!$D5194:$G14454,4,FALSE)","v":"DJ5-115893"},"DJ5"]
[null,"Lefebvre Jean-Jacques",{"$f":"VLOOKUP(B5194,[1]export_1465921594229!$D5195:$G14455,4,FALSE)","v":"DRY-125156"},"DRY"]
[null,"Lefebvre Joan",{"$f":"VLOOKUP(B5195,[1]export_1465921594229!$D5196:$G14456,4,FALSE)","v":"B75-121928"},"B75"]
[null,"Lefebvre Joel",{"$f":"VLOOKUP(B5196,[1]export_1465921594229!$D5197:$G14457,4,FALSE)","v":"R11-117837"},"R11"]
[null,"Lefebvre Katie",{"$f":"VLOOKUP(B5197,[1]export_1465921594229!$D5198:$G14458,4,FALSE)","v":"CPM-124196"},"CPM"]
[null,"Lefebvre Katie",{"$f":"VLOOKUP(B5198,[1]export_1465921594229!$D5199:$G14459,4,FALSE)","v":"C87-121716"},"C87"]
[null,"Lefebvre Louise",{"$f":"VLOOKUP(B5199,[1]export_1465921594229!$D5200:$G14460,4,FALSE)","v":"L84-120942"},"L84"]
[null,"Lefebvre Louise",{"$f":"VLOOKUP(B5200,[1]export_1465921594229!$D5201:$G14461,4,FALSE)","v":"P39-120657"},"P39"]
[null,"Lefebvre Marie-Chantal",{"$f":"VLOOKUP(B5201,[1]export_1465921594229!$D5202:$G14462,4,FALSE)","v":"I54-121226"},"I54"]
[null,"Lefebvre Marie-Chantal",{"$f":"VLOOKUP(B5202,[1]export_1465921594229!$D5203:$G14463,4,FALSE)","v":"GK7-118898"},"GK7"]
[null,"Lefebvre Martin",{"$f":"VLOOKUP(B5203,[1]export_1465921594229!$D5204:$G14464,4,FALSE)","v":"CVR-124346"},"CVR"]
[null,"Lefebvre Martin",{"$f":"VLOOKUP(B5204,[1]export_1465921594229!$D5205:$G14465,4,FALSE)","v":"521-120258"},"521"]
[null,"Lefebvre Mathieu",{"$f":"VLOOKUP(B5205,[1]export_1465921594229!$D5206:$G14466,4,FALSE)","v":"EE8-118549"},"EE8"]
[null,"Lefebvre Michel",{"$f":"VLOOKUP(B5206,[1]export_1465921594229!$D5207:$G14467,4,FALSE)","v":"BOH-123322"},"BOH"]
[null,"Lefebvre Michel",{"$f":"VLOOKUP(B5207,[1]export_1465921594229!$D5208:$G14468,4,FALSE)","v":"LF8-116838"},"LF8"]
[null,"Lefebvre Michel-David",{"$f":"VLOOKUP(B5208,[1]export_1465921594229!$D5209:$G14469,4,FALSE)","v":"RE2-117886"},"RE2"]
[null,"Lefebvre Monique",{"$f":"VLOOKUP(B5209,[1]export_1465921594229!$D5210:$G14470,4,FALSE)","v":"522-122215"},"522"]
[null,"Lefebvre Rafael",{"$f":"VLOOKUP(B5210,[1]export_1465921594229!$D5211:$G14471,4,FALSE)","v":"CVQ-124345"},"CVQ"]
[null,"Lefebvre Richard",{"$f":"VLOOKUP(B5211,[1]export_1465921594229!$D5212:$G14472,4,FALSE)","v":"D83-118369"},"D83"]
[null,"Lefrancois Andre",{"$f":"VLOOKUP(B5212,[1]export_1465921594229!$D5213:$G14473,4,FALSE)","v":"159-120408"},"159"]
[null,"Lefrancois Christiane",{"$f":"VLOOKUP(B5213,[1]export_1465921594229!$D5214:$G14474,4,FALSE)","v":"F05-115983"},"F05"]
[null,"Lefrancois Louis-Philippe",{"$f":"VLOOKUP(B5214,[1]export_1465921594229!$D5215:$G14475,4,FALSE)","v":"O53-119543"},"O53"]
[null,"Lefrancois Louis-Philippe",{"$f":"VLOOKUP(B5215,[1]export_1465921594229!$D5216:$G14476,4,FALSE)","v":"L85-120943"},"L85"]
[null,"Lefrancois Simon",{"$f":"VLOOKUP(B5216,[1]export_1465921594229!$D5217:$G14477,4,FALSE)","v":"NA8-117144"},"NA8"]
[null,"Lefrancois Yves",{"$f":"VLOOKUP(B5217,[1]export_1465921594229!$D5218:$G14478,4,FALSE)","v":"LB3-116805"},"LB3"]
[null,"Lefrancois Yves",{"$f":"VLOOKUP(B5218,[1]export_1465921594229!$D5219:$G14479,4,FALSE)","v":"D97-121487"},"D97"]
[null,"Lefrancois Yves",{"$f":"VLOOKUP(B5219,[1]export_1465921594229!$D5220:$G14480,4,FALSE)","v":"733-115657"},"733"]
[null,"Legagneur Pierre-Frantz",{"$f":"VLOOKUP(B5220,[1]export_1465921594229!$D5221:$G14481,4,FALSE)","v":"KJ7-116709"},"KJ7"]
[null,"Legare Sylvain",{"$f":"VLOOKUP(B5221,[1]export_1465921594229!$D5222:$G14482,4,FALSE)","v":"Q79-119709"},"Q79"]
[null,"Legaspi Conrad",{"$f":"VLOOKUP(B5222,[1]export_1465921594229!$D5223:$G14483,4,FALSE)","v":"COB-124159"},"COB"]
[null,"Legault Alain",{"$f":"VLOOKUP(B5223,[1]export_1465921594229!$D5224:$G14484,4,FALSE)","v":"955-115670"},"955"]
[null,"Legault Alain",{"$f":"VLOOKUP(B5224,[1]export_1465921594229!$D5225:$G14485,4,FALSE)","v":"B76-121929"},"B76"]
[null,"Legault Andre",{"$f":"VLOOKUP(B5225,[1]export_1465921594229!$D5226:$G14486,4,FALSE)","v":"T31-120650"},"T31"]
[null,"Legault Gerard",{"$f":"VLOOKUP(B5226,[1]export_1465921594229!$D5227:$G14487,4,FALSE)","v":"CH3-118301"},"CH3"]
[null,"Legault Helene",{"$f":"VLOOKUP(B5227,[1]export_1465921594229!$D5228:$G14488,4,FALSE)","v":"513-120253"},"513"]
[null,"Legault Karine",{"$f":"VLOOKUP(B5228,[1]export_1465921594229!$D5229:$G14489,4,FALSE)","v":"F97-118680"},"F97"]
[null,"Legault Karine",{"$f":"VLOOKUP(B5229,[1]export_1465921594229!$D5230:$G14490,4,FALSE)","v":"GW1-116131"},"GW1"]
[null,"Legault Lorraine",{"$f":"VLOOKUP(B5230,[1]export_1465921594229!$D5231:$G14491,4,FALSE)","v":"GJ5-121252"},"GJ5"]
[null,"Legault Marc",{"$f":"VLOOKUP(B5231,[1]export_1465921594229!$D5232:$G14492,4,FALSE)","v":"417-122296"},"417"]
[null,"Legault Marc",{"$f":"VLOOKUP(B5232,[1]export_1465921594229!$D5233:$G14493,4,FALSE)","v":"350-122374"},"350"]
[null,"Legault Marc",{"$f":"VLOOKUP(B5233,[1]export_1465921594229!$D5234:$G14494,4,FALSE)","v":"711-122085"},"711"]
[null,"Legault Michel",{"$f":"VLOOKUP(B5234,[1]export_1465921594229!$D5235:$G14495,4,FALSE)","v":"LC0-660181"},"LC0"]
[null,"Legault-Salvail Marc-Etienne",{"$f":"VLOOKUP(B5235,[1]export_1465921594229!$D5236:$G14496,4,FALSE)","v":"DWJ-125267"},"DWJ"]
[null,"Leger Marc",{"$f":"VLOOKUP(B5236,[1]export_1465921594229!$D5237:$G14497,4,FALSE)","v":"IC2-116325"},"IC2"]
[null,"Leger Melanie",{"$f":"VLOOKUP(B5237,[1]export_1465921594229!$D5238:$G14498,4,FALSE)","v":"GG8-116089"},"GG8"]
[null,"Leger Gerald",{"$f":"VLOOKUP(B5238,[1]export_1465921594229!$D5239:$G14499,4,FALSE)","v":{"$error":"#N/A"}},{"$error":"#N/A"}]
[null,"Legresley Nancy",{"$f":"VLOOKUP(B5239,[1]export_1465921594229!$D5240:$G14500,4,FALSE)","v":"233-120423"},"233"]
[null,"Lehal Gurvinder",{"$f":"VLOOKUP(B5240,[1]export_1465921594229!$D5241:$G14501,4,FALSE)","v":"A9V-550031"},"A9V"]
[null,"Lehman Heather",{"$f":"VLOOKUP(B5241,[1]export_1465921594229!$D5242:$G14502,4,FALSE)","v":"W23-119990"},"W23"]
[null,"Lehouillier Patrick",{"$f":"VLOOKUP(B5242,[1]export_1465921594229!$D5243:$G14503,4,FALSE)","v":"X04-120019"},"X04"]
[null,"Lehoux Guy",{"$f":"VLOOKUP(B5243,[1]export_1465921594229!$D5244:$G14504,4,FALSE)","v":"DN5-115901"},"DN5"]
[null,"Lehr Guillermo",{"$f":"VLOOKUP(B5244,[1]export_1465921594229!$D5245:$G14505,4,FALSE)","v":"HD7-119022"},"HD7"]
[null,"Lehri (terminated) Zahir",{"$f":"VLOOKUP(B5245,[1]export_1465921594229!$D5246:$G14506,4,FALSE)","v":"A5R-122585"},"A5R"]
[null,"Leishman Michael",{"$f":"VLOOKUP(B5246,[1]export_1465921594229!$D5247:$G14507,4,FALSE)","v":"BLV-502311"},"BLV"]
[null,"Leleji Austine",{"$f":"VLOOKUP(B5247,[1]export_1465921594229!$D5248:$G14508,4,FALSE)","v":"DIZ-124930"},"DIZ"]
[null,"Lemaire Ginette Ruest",{"$f":"VLOOKUP(B5248,[1]export_1465921594229!$D5249:$G14509,4,FALSE)","v":"559-122241"},"559"]
[null,"Leman Johanne",{"$f":"VLOOKUP(B5249,[1]export_1465921594229!$D5250:$G14510,4,FALSE)","v":"KX4-116783"},"KX4"]
[null,"Leman Richard",{"$f":"VLOOKUP(B5250,[1]export_1465921594229!$D5251:$G14511,4,FALSE)","v":"KX5-116784"},{"$f":"LEFT(C5250,3)","v":"KX5"}]
[null,"Lemasson Laurent",{"$f":"VLOOKUP(B5251,[1]export_1465921594229!$D5252:$G14512,4,FALSE)","v":"DDK-124789"},"DDK"]
[null,"Lemasson Laurent",{"$f":"VLOOKUP(B5252,[1]export_1465921594229!$D5253:$G14513,4,FALSE)","v":"JW1-116598"},"JW1"]
[null,"Lemasson Laurent",{"$f":"VLOOKUP(B5253,[1]export_1465921594229!$D5254:$G14514,4,FALSE)","v":"DDL-124790"},"DDL"]
[null,"Lemay Francois",{"$f":"VLOOKUP(B5254,[1]export_1465921594229!$D5255:$G14515,4,FALSE)","v":"435-122308"},"435"]
[null,"Lemay Helene",{"$f":"VLOOKUP(B5255,[1]export_1465921594229!$D5256:$G14516,4,FALSE)","v":"D37-121579"},"D37"]
[null,"Lemay Jean",{"$f":"VLOOKUP(B5256,[1]export_1465921594229!$D5257:$G14517,4,FALSE)","v":"160-120409"},"160"]
[null,"lemay Jimmy",{"$f":"VLOOKUP(B5257,[1]export_1465921594229!$D5258:$G14518,4,FALSE)","v":"CMY-570201"},"CMY"]
[null,"Lemay Jules",{"$f":"VLOOKUP(B5258,[1]export_1465921594229!$D5259:$G14519,4,FALSE)","v":"V25-120579"},"V25"]
[null,"Lemay Louis",{"$f":"VLOOKUP(B5259,[1]export_1465921594229!$D5260:$G14520,4,FALSE)","v":"K67-120977"},"K67"]
[null,"Lemay Louise Richard",{"$f":"VLOOKUP(B5260,[1]export_1465921594229!$D5261:$G14521,4,FALSE)","v":"560-120269"},"560"]
[null,"Lemay Marc",{"$f":"VLOOKUP(B5261,[1]export_1465921594229!$D5262:$G14522,4,FALSE)","v":"PP8-660676"},"PP8"]
[null,"Lemay Martine",{"$f":"VLOOKUP(B5262,[1]export_1465921594229!$D5263:$G14523,4,FALSE)","v":"598-120284"},"598"]
[null,"Lemay Rachel",{"$f":"VLOOKUP(B5263,[1]export_1465921594229!$D5264:$G14524,4,FALSE)","v":"MI2-117022"},"MI2"]
[null,"Lemay Robert",{"$f":"VLOOKUP(B5264,[1]export_1465921594229!$D5265:$G14525,4,FALSE)","v":"465-120359"},"465"]
[null,"Lemay Yves",{"$f":"VLOOKUP(B5265,[1]export_1465921594229!$D5266:$G14526,4,FALSE)","v":"T61-119896"},"T61"]
[null,"Lemelin Andre",{"$f":"VLOOKUP(B5266,[1]export_1465921594229!$D5267:$G14527,4,FALSE)","v":"EE4-118546"},"EE4"]
[null,"Lemelin Jonathan",{"$f":"VLOOKUP(B5267,[1]export_1465921594229!$D5268:$G14528,4,FALSE)","v":"M92-120880"},"M92"]
[null,"Lemelin Jonathan",{"$f":"VLOOKUP(B5268,[1]export_1465921594229!$D5269:$G14529,4,FALSE)","v":"G41-121342"},"G41"]
[null,"Lemelin Josee",{"$f":"VLOOKUP(B5269,[1]export_1465921594229!$D5270:$G14530,4,FALSE)","v":"B86-121808"},"B86"]
[null,"Lemelin Josee",{"$f":"VLOOKUP(B5270,[1]export_1465921594229!$D5271:$G14531,4,FALSE)","v":"475-120363"},"475"]
[null,"Lemghalef Brahim",{"$f":"VLOOKUP(B5271,[1]export_1465921594229!$D5272:$G14532,4,FALSE)","v":"X82-120443"},"X82"]
[null,"Lemieux Dave",{"$f":"VLOOKUP(B5272,[1]export_1465921594229!$D5273:$G14533,4,FALSE)","v":"CD0-115820"},"CD0"]
[null,"Lemieux Denis",{"$f":"VLOOKUP(B5273,[1]export_1465921594229!$D5274:$G14534,4,FALSE)","v":"IW5-119161"},"IW5"]
[null,"Lemieux Doris",{"$f":"VLOOKUP(B5274,[1]export_1465921594229!$D5275:$G14535,4,FALSE)","v":"115-120398"},"115"]
[null,"Lemieux Jacques",{"$f":"VLOOKUP(B5275,[1]export_1465921594229!$D5276:$G14536,4,FALSE)","v":"R77-117849"},"R77"]
[null,"Lemieux Jean-Philippe",{"$f":"VLOOKUP(B5276,[1]export_1465921594229!$D5277:$G14537,4,FALSE)","v":"BLU-123286"},"BLU"]
[null,"Lemieux Joel",{"$f":"VLOOKUP(B5277,[1]export_1465921594229!$D5278:$G14538,4,FALSE)","v":"PT3-117611"},"PT3"]
[null,"Lemieux Michel",{"$f":"VLOOKUP(B5278,[1]export_1465921594229!$D5279:$G14539,4,FALSE)","v":"GN3-660109"},"GN3"]
[null,"Lemieux Nancy",{"$f":"VLOOKUP(B5279,[1]export_1465921594229!$D5280:$G14540,4,FALSE)","v":"I00-119079"},"I00"]
[null,"Lemieux Pascal",{"$f":"VLOOKUP(B5280,[1]export_1465921594229!$D5281:$G14541,4,FALSE)","v":"CM6-115845"},"CM6"]
[null,"Lemieux Robert",{"$f":"VLOOKUP(B5281,[1]export_1465921594229!$D5282:$G14542,4,FALSE)","v":"Q50-119699"},"Q50"]
[null,"Lemieux Robert",{"$f":"VLOOKUP(B5282,[1]export_1465921594229!$D5283:$G14543,4,FALSE)","v":"U34-660704"},"U34"]
[null,"Lemieux Sylvain",{"$f":"VLOOKUP(B5283,[1]export_1465921594229!$D5284:$G14544,4,FALSE)","v":"CXZ-124405"},"CXZ"]
[null,"Lemieux Yves",{"$f":"VLOOKUP(B5284,[1]export_1465921594229!$D5285:$G14545,4,FALSE)","v":"227-122417"},"227"]
[null,"Lemieux Ganley Diane",{"$f":"VLOOKUP(B5285,[1]export_1465921594229!$D5286:$G14546,4,FALSE)","v":"A89-122022"},"A89"]
[null,"Lemire Alain",{"$f":"VLOOKUP(B5286,[1]export_1465921594229!$D5287:$G14547,4,FALSE)","v":"U40-117938"},"U40"]
[null,"Lemire Dominique",{"$f":"VLOOKUP(B5287,[1]export_1465921594229!$D5288:$G14548,4,FALSE)","v":"466-122190"},"466"]
[null,"Lemire Dominique",{"$f":"VLOOKUP(B5288,[1]export_1465921594229!$D5289:$G14549,4,FALSE)","v":"A52-122124"},"A52"]
[null,"Lemire Linda",{"$f":"VLOOKUP(B5289,[1]export_1465921594229!$D5290:$G14550,4,FALSE)","v":"Q39-119690"},"Q39"]
[null,"Lemire Michel",{"$f":"VLOOKUP(B5290,[1]export_1465921594229!$D5291:$G14551,4,FALSE)","v":"M23-120857"},"M23"]
[null,"Lemire Yves",{"$f":"VLOOKUP(B5291,[1]export_1465921594229!$D5292:$G14552,4,FALSE)","v":"O63-119546"},"O63"]
[null,"Lemoine Renaud",{"$f":"VLOOKUP(B5292,[1]export_1465921594229!$D5293:$G14553,4,FALSE)","v":"D7A-125533"},"D7A"]
[null,"LeNeveu David",{"$f":"VLOOKUP(B5293,[1]export_1465921594229!$D5294:$G14554,4,FALSE)","v":"CBZ-123866"},"CBZ"]
[null,"Leogo Elizabeth",{"$f":"VLOOKUP(B5294,[1]export_1465921594229!$D5295:$G14555,4,FALSE)","v":"GH6-118881"},"GH6"]
[null,"Leogo Kevin Lorenz",{"$f":"VLOOKUP(B5295,[1]export_1465921594229!$D5296:$G14556,4,FALSE)","v":"GT0-118942"},"GT0"]
[null,"Leon Benites Veronica",{"$f":"VLOOKUP(B5296,[1]export_1465921594229!$D5297:$G14557,4,FALSE)","v":"B9P-123805"},"B9P"]
[null,"Leon Leon Hugo",{"$f":"VLOOKUP(B5297,[1]export_1465921594229!$D5298:$G14558,4,FALSE)","v":"CBL-600090"},"CBL"]
[null,"Leonard Christian",{"$f":"VLOOKUP(B5298,[1]export_1465921594229!$D5299:$G14559,4,FALSE)","v":"395-122280"},"395"]
[null,"Leonard Jean",{"$f":"VLOOKUP(B5299,[1]export_1465921594229!$D5300:$G14560,4,FALSE)","v":"093-120394"},"093"]
[null,"Leonard Jean-Paul",{"$f":"VLOOKUP(B5300,[1]export_1465921594229!$D5301:$G14561,4,FALSE)","v":"K65-120975"},"K65"]
[null,"Leonard Lois",{"$f":"VLOOKUP(B5301,[1]export_1465921594229!$D5302:$G14562,4,FALSE)","v":"HB6-119008"},"HB6"]
[null,"Leonard Lois",{"$f":"VLOOKUP(B5302,[1]export_1465921594229!$D5303:$G14563,4,FALSE)","v":"HB5-119007"},"HB5"]
[null,"Leonard Lois",{"$f":"VLOOKUP(B5303,[1]export_1465921594229!$D5304:$G14564,4,FALSE)","v":"GT6-121267"},"GT6"]
[null,"LEONARDO JUDITHA",{"$f":"VLOOKUP(B5304,[1]export_1465921594229!$D5305:$G14565,4,FALSE)","v":"CKN-124078"},"CKN"]
[null,"Leoncio Cynthia",{"$f":"VLOOKUP(B5305,[1]export_1465921594229!$D5306:$G14566,4,FALSE)","v":"LW7-116931"},"LW7"]
[null,"Leow Bredy",{"$f":"VLOOKUP(B5306,[1]export_1465921594229!$D5307:$G14567,4,FALSE)","v":"CEI-123923"},"CEI"]
[null,"Leow Bredy",{"$f":"VLOOKUP(B5307,[1]export_1465921594229!$D5308:$G14568,4,FALSE)","v":"RC1-117868"},"RC1"]
[null,"Lepage Denyse",{"$f":"VLOOKUP(B5308,[1]export_1465921594229!$D5309:$G14569,4,FALSE)","v":"D85-115873"},"D85"]
[null,"Lepage Guy",{"$f":"VLOOKUP(B5309,[1]export_1465921594229!$D5310:$G14570,4,FALSE)","v":"O01-660679"},"O01"]
[null,"Lepage Jean-Philippe",{"$f":"VLOOKUP(B5310,[1]export_1465921594229!$D5311:$G14571,4,FALSE)","v":"AB8-660675"},"AB8"]
[null,"Lepage Marc",{"$f":"VLOOKUP(B5311,[1]export_1465921594229!$D5312:$G14572,4,FALSE)","v":"299-122335"},"299"]
[null,"Lepage Pierre",{"$f":"VLOOKUP(B5312,[1]export_1465921594229!$D5313:$G14573,4,FALSE)","v":"C41-121684"},"C41"]
[null,"Lepage Sylvie",{"$f":"VLOOKUP(B5313,[1]export_1465921594229!$D5314:$G14574,4,FALSE)","v":"D10-121563"},"D10"]
[null,"Lepage Sylvie K",{"$f":"VLOOKUP(B5314,[1]export_1465921594229!$D5315:$G14575,4,FALSE)","v":"J06-121159"},{"$f":"LEFT(C5314,3)","v":"J06"}]
[null,"Lepage-Gauvin Irka",{"$f":"VLOOKUP(B5315,[1]export_1465921594229!$D5316:$G14576,4,FALSE)","v":"DWL-125269"},"DWL"]
[null,"Lepine Denis",{"$f":"VLOOKUP(B5316,[1]export_1465921594229!$D5317:$G14577,4,FALSE)","v":"P64-119630"},"P64"]
[null,"Lepine Denis",{"$f":"VLOOKUP(B5317,[1]export_1465921594229!$D5318:$G14578,4,FALSE)","v":"G79-121356"},"G79"]
[null,"Lepine Derek",{"$f":"VLOOKUP(B5318,[1]export_1465921594229!$D5319:$G14579,4,FALSE)","v":"JT8-116579"},"JT8"]
[null,"Lepine Serge",{"$f":"VLOOKUP(B5319,[1]export_1465921594229!$D5320:$G14580,4,FALSE)","v":"119-122466"},"119"]
[null,"Leroux Catherine",{"$f":"VLOOKUP(B5320,[1]export_1465921594229!$D5321:$G14581,4,FALSE)","v":"FI9-116023"},"FI9"]
[null,"Leroux Chantal",{"$f":"VLOOKUP(B5321,[1]export_1465921594229!$D5322:$G14582,4,FALSE)","v":"B50-121905"},"B50"]
[null,"Leroyer Lisa",{"$f":"VLOOKUP(B5322,[1]export_1465921594229!$D5323:$G14583,4,FALSE)","v":"F79-121413"},"F79"]
[null,"Leschied Christina",{"$f":"VLOOKUP(B5323,[1]export_1465921594229!$D5324:$G14584,4,FALSE)","v":"CQO-124219"},"CQO"]
[null,"Leshchik Alexander",{"$f":"VLOOKUP(B5324,[1]export_1465921594229!$D5325:$G14585,4,FALSE)","v":"CFQ-123956"},"CFQ"]
[null,"Lesperance Brian",{"$f":"VLOOKUP(B5325,[1]export_1465921594229!$D5326:$G14586,4,FALSE)","v":"OO1-120763"},"OO1"]
[null,"Lesperance Brian",{"$f":"VLOOKUP(B5326,[1]export_1465921594229!$D5327:$G14587,4,FALSE)","v":"HN5-119048"},"HN5"]
[null,"Lesperance Brian",{"$f":"VLOOKUP(B5327,[1]export_1465921594229!$D5328:$G14588,4,FALSE)","v":"MH8-120887"},"MH8"]
[null,"L'Esperance Louis",{"$f":"VLOOKUP(B5328,[1]export_1465921594229!$D5329:$G14589,4,FALSE)","v":"T74-660710"},"T74"]
[null,"L'Esperance Nicolas",{"$f":"VLOOKUP(B5329,[1]export_1465921594229!$D5330:$G14590,4,FALSE)","v":"HJ3-121193"},"HJ3"]
[null,"Lessard Amelie",{"$f":"VLOOKUP(B5330,[1]export_1465921594229!$D5331:$G14591,4,FALSE)","v":"HE3-121186"},"HE3"]
[null,"Lessard Christine",{"$f":"VLOOKUP(B5331,[1]export_1465921594229!$D5332:$G14592,4,FALSE)","v":"B7G-123748"},"B7G"]
[null,"Lessard Denis",{"$f":"VLOOKUP(B5332,[1]export_1465921594229!$D5333:$G14593,4,FALSE)","v":"U19-117933"},"U19"]
[null,"Lessard Francine",{"$f":"VLOOKUP(B5333,[1]export_1465921594229!$D5334:$G14594,4,FALSE)","v":"BVB-660398"},"BVB"]
[null,"Lessard Francine",{"$f":"VLOOKUP(B5334,[1]export_1465921594229!$D5335:$G14595,4,FALSE)","v":"BLR-123283"},"BLR"]
[null,"Lessard Frederic",{"$f":"VLOOKUP(B5335,[1]export_1465921594229!$D5336:$G14596,4,FALSE)","v":{"$error":"#N/A"}},{"$error":"#N/A"}]
[null,"Lessard Hollande",{"$f":"VLOOKUP(B5336,[1]export_1465921594229!$D5337:$G14597,4,FALSE)","v":"LF5-116836"},"LF5"]
[null,"Lessard Jean-Francois",{"$f":"VLOOKUP(B5337,[1]export_1465921594229!$D5338:$G14598,4,FALSE)","v":"Q59-119704"},"Q59"]
[null,"Lessard Jean-Jacques",{"$f":"VLOOKUP(B5338,[1]export_1465921594229!$D5339:$G14599,4,FALSE)","v":"I82-121110"},"I82"]
[null,"Lessard Johanne",{"$f":"VLOOKUP(B5339,[1]export_1465921594229!$D5340:$G14600,4,FALSE)","v":"EZ1-121385"},"EZ1"]
[null,"Lessard Johanne",{"$f":"VLOOKUP(B5340,[1]export_1465921594229!$D5341:$G14601,4,FALSE)","v":"EZ0-121384"},"EZ0"]
[null,"Lessard Louis",{"$f":"VLOOKUP(B5341,[1]export_1465921594229!$D5342:$G14602,4,FALSE)","v":"I40-116304"},"I40"]
[null,"Lessard Lucie",{"$f":"VLOOKUP(B5342,[1]export_1465921594229!$D5343:$G14603,4,FALSE)","v":"080-122565"},"080"]
[null,"Lessard Marc",{"$f":"VLOOKUP(B5343,[1]export_1465921594229!$D5344:$G14604,4,FALSE)","v":"I32-119091"},"I32"]
[null,"Lessard Marc",{"$f":"VLOOKUP(B5344,[1]export_1465921594229!$D5345:$G14605,4,FALSE)","v":"322-122351"},"322"]
[null,"Lessard Marie-Eve",{"$f":"VLOOKUP(B5345,[1]export_1465921594229!$D5346:$G14606,4,FALSE)","v":"B2V-123639"},"B2V"]
[null,"Lessard Melanie",{"$f":"VLOOKUP(B5346,[1]export_1465921594229!$D5347:$G14607,4,FALSE)","v":{"$error":"#N/A"}},{"$error":"#N/A"}]
[null,"Lessard Patrick",{"$f":"VLOOKUP(B5347,[1]export_1465921594229!$D5348:$G14608,4,FALSE)","v":"H54-121292"},"H54"]
[null,"Lessard Rene",{"$f":"VLOOKUP(B5348,[1]export_1465921594229!$D5349:$G14609,4,FALSE)","v":"BL9-118223"},"BL9"]
[null,"Lessard Yann",{"$f":"VLOOKUP(B5349,[1]export_1465921594229!$D5350:$G14610,4,FALSE)","v":"C26-121800"},"C26"]
[null,"Letang Vladimir",{"$f":"VLOOKUP(B5350,[1]export_1465921594229!$D5351:$G14611,4,FALSE)","v":{"$error":"#N/A"}},{"$error":"#N/A"}]
[null,"Letendre Julie",{"$f":"VLOOKUP(B5351,[1]export_1465921594229!$D5352:$G14612,4,FALSE)","v":"Q12-120684"},"Q12"]
[null,"Letourneau Guy",{"$f":"VLOOKUP(B5352,[1]export_1465921594229!$D5353:$G14613,4,FALSE)","v":"144-120404"},"144"]
[null,"Letourneau Jacques",{"$f":"VLOOKUP(B5353,[1]export_1465921594229!$D5354:$G14614,4,FALSE)","v":"579-120277"},"579"]
[null,"Letourneau Michel",{"$f":"VLOOKUP(B5354,[1]export_1465921594229!$D5355:$G14615,4,FALSE)","v":"952-115629"},"952"]
[null,"Letourneau Yves",{"$f":"VLOOKUP(B5355,[1]export_1465921594229!$D5356:$G14616,4,FALSE)","v":"DI1-121514"},"DI1"]
[null,"Letourneau David",{"$f":"VLOOKUP(B5356,[1]export_1465921594229!$D5357:$G14617,4,FALSE)","v":{"$error":"#N/A"}},{"$error":"#N/A"}]
[null,"Letourneau Katherine",{"$f":"VLOOKUP(B5357,[1]export_1465921594229!$D5358:$G14618,4,FALSE)","v":{"$error":"#N/A"}},{"$error":"#N/A"}]
[null,"Letourneau Sarah",{"$f":"VLOOKUP(B5358,[1]export_1465921594229!$D5359:$G14619,4,FALSE)","v":{"$error":"#N/A"}},{"$error":"#N/A"}]
[null,"Letourneau Fillion Claudia",{"$f":"VLOOKUP(B5359,[1]export_1465921594229!$D5360:$G14620,4,FALSE)","v":"X66-550140"},"X66"]
[null,"Leung Johnathan",{"$f":"VLOOKUP(B5360,[1]export_1465921594229!$D5361:$G14621,4,FALSE)","v":"JA6-116465"},"JA6"]
[null,"Leung Kevin",{"$f":"VLOOKUP(B5361,[1]export_1465921594229!$D5362:$G14622,4,FALSE)","v":"JM6-119209"},"JM6"]
[null,"Leusink Doug",{"$f":"VLOOKUP(B5362,[1]export_1465921594229!$D5363:$G14623,4,FALSE)","v":"BNI-500477"},"BNI"]
[null,"Leusink Doug",{"$f":"VLOOKUP(B5363,[1]export_1465921594229!$D5364:$G14624,4,FALSE)","v":"BCA-400477"},"BCA"]
[null,"Leusink Doug",{"$f":"VLOOKUP(B5364,[1]export_1465921594229!$D5365:$G14625,4,FALSE)","v":"BNJ-300477"},"BNJ"]
[null,"Levallois Dominique Henri",{"$f":"VLOOKUP(B5365,[1]export_1465921594229!$D5366:$G14626,4,FALSE)","v":"F53-118661"},"F53"]
[null,"Levasseur Andre",{"$f":"VLOOKUP(B5366,[1]export_1465921594229!$D5367:$G14627,4,FALSE)","v":"Z71-660639"},"Z71"]
[null,"Levasseur Antoine",{"$f":"VLOOKUP(B5367,[1]export_1465921594229!$D5368:$G14628,4,FALSE)","v":"AI2-122057"},"AI2"]
[null,"Levasseur Daniel",{"$f":"VLOOKUP(B5368,[1]export_1465921594229!$D5369:$G14629,4,FALSE)","v":"W19-120479"},"W19"]
[null,"Levasseur Jocelyn",{"$f":"VLOOKUP(B5369,[1]export_1465921594229!$D5370:$G14630,4,FALSE)","v":"CBA-123841"},"CBA"]
[null,"Levasseur Samuel",{"$f":"VLOOKUP(B5370,[1]export_1465921594229!$D5371:$G14631,4,FALSE)","v":"CJ5-115841"},"CJ5"]
[null,"Levchenko Sergey",{"$f":"VLOOKUP(B5371,[1]export_1465921594229!$D5372:$G14632,4,FALSE)","v":"IC4-116326"},"IC4"]
[null,"Leveille Andre",{"$f":"VLOOKUP(B5372,[1]export_1465921594229!$D5373:$G14633,4,FALSE)","v":"IM9-116381"},"IM9"]
[null,"Leveille Claude",{"$f":"VLOOKUP(B5373,[1]export_1465921594229!$D5374:$G14634,4,FALSE)","v":"R52-120103"},"R52"]
[null,"Leveille Robert",{"$f":"VLOOKUP(B5374,[1]export_1465921594229!$D5375:$G14635,4,FALSE)","v":"MW6-117120"},"MW6"]
[null,"Levert Normand",{"$f":"VLOOKUP(B5375,[1]export_1465921594229!$D5376:$G14636,4,FALSE)","v":"158-122495"},"158"]
[null,"Levesque Adrien",{"$f":"VLOOKUP(B5376,[1]export_1465921594229!$D5377:$G14637,4,FALSE)","v":"O04-660225"},"O04"]
[null,"Levesque Alain",{"$f":"VLOOKUP(B5377,[1]export_1465921594229!$D5378:$G14638,4,FALSE)","v":"HO9-116236"},"HO9"]
[null,"Levesque Alain",{"$f":"VLOOKUP(B5378,[1]export_1465921594229!$D5379:$G14639,4,FALSE)","v":"AD8-118110"},{"$f":"LEFT(C5378,3)","v":"AD8"}]
[null,"Levesque Andre",{"$f":"VLOOKUP(B5379,[1]export_1465921594229!$D5380:$G14640,4,FALSE)","v":"DU0-121423"},"DU0"]
[null,"Levesque Andree",{"$f":"VLOOKUP(B5380,[1]export_1465921594229!$D5381:$G14641,4,FALSE)","v":"JC2-660698"},"JC2"]
[null,"Levesque Aurele",{"$f":"VLOOKUP(B5381,[1]export_1465921594229!$D5382:$G14642,4,FALSE)","v":"014-122519"},"014"]
[null,"Levesque Christian",{"$f":"VLOOKUP(B5382,[1]export_1465921594229!$D5383:$G14643,4,FALSE)","v":"Z35-120066"},"Z35"]
[null,"Levesque Claude",{"$f":"VLOOKUP(B5383,[1]export_1465921594229!$D5384:$G14644,4,FALSE)","v":"MO7-117066"},"MO7"]
[null,"Levesque Claude",{"$f":"VLOOKUP(B5384,[1]export_1465921594229!$D5385:$G14645,4,FALSE)","v":"F42-121399"},"F42"]
[null,"Levesque Denise",{"$f":"VLOOKUP(B5385,[1]export_1465921594229!$D5386:$G14646,4,FALSE)","v":"359-122253"},"359"]
[null,"Levesque Eric",{"$f":"VLOOKUP(B5386,[1]export_1465921594229!$D5387:$G14647,4,FALSE)","v":"M38-119379"},"M38"]
[null,"Levesque Eric",{"$f":"VLOOKUP(B5387,[1]export_1465921594229!$D5388:$G14648,4,FALSE)","v":"W44-119996"},"W44"]
[null,"Levesque Francois",{"$f":"VLOOKUP(B5388,[1]export_1465921594229!$D5389:$G14649,4,FALSE)","v":"686-122069"},"686"]
[null,"Levesque Ghislaine",{"$f":"VLOOKUP(B5389,[1]export_1465921594229!$D5390:$G14650,4,FALSE)","v":"HF4-119024"},"HF4"]
[null,"Levesque Harold",{"$f":"VLOOKUP(B5390,[1]export_1465921594229!$D5391:$G14651,4,FALSE)","v":"DXF-660050"},"DXF"]
[null,"Levesque Harold",{"$f":"VLOOKUP(B5391,[1]export_1465921594229!$D5392:$G14652,4,FALSE)","v":"P72-125289"},"P72"]
[null,"Levesque Jacques",{"$f":"VLOOKUP(B5392,[1]export_1465921594229!$D5393:$G14653,4,FALSE)","v":"455-120353"},"455"]
[null,"Levesque Jean-Claude",{"$f":"VLOOKUP(B5393,[1]export_1465921594229!$D5394:$G14654,4,FALSE)","v":"E94-550148"},"E94"]
[null,"Levesque Jeannot",{"$f":"VLOOKUP(B5394,[1]export_1465921594229!$D5395:$G14655,4,FALSE)","v":"P94-119641"},"P94"]
[null,"Levesque Jonathan",{"$f":"VLOOKUP(B5395,[1]export_1465921594229!$D5396:$G14656,4,FALSE)","v":"EQ1-660029"},"EQ1"]
[null,"Levesque Julie",{"$f":"VLOOKUP(B5396,[1]export_1465921594229!$D5397:$G14657,4,FALSE)","v":"K44-118075"},"K44"]
[null,"Levesque Martine",{"$f":"VLOOKUP(B5397,[1]export_1465921594229!$D5398:$G14658,4,FALSE)","v":"109-122459"},"109"]
[null,"Levesque Mathieu",{"$f":"VLOOKUP(B5398,[1]export_1465921594229!$D5399:$G14659,4,FALSE)","v":"EG1-115951"},"EG1"]
[null,"Levesque Michel",{"$f":"VLOOKUP(B5399,[1]export_1465921594229!$D5400:$G14660,4,FALSE)","v":"I34-660162"},"I34"]
[null,"Levesque Pascal",{"$f":"VLOOKUP(B5400,[1]export_1465921594229!$D5401:$G14661,4,FALSE)","v":"Q32-119685"},"Q32"]
[null,"Levesque Philippe",{"$f":"VLOOKUP(B5401,[1]export_1465921594229!$D5402:$G14662,4,FALSE)","v":"D3S-125451"},"D3S"]
[null,"Levesque Rene",{"$f":"VLOOKUP(B5402,[1]export_1465921594229!$D5403:$G14663,4,FALSE)","v":"HS7-116258"},"HS7"]
[null,"Levesque Simon",{"$f":"VLOOKUP(B5403,[1]export_1465921594229!$D5404:$G14664,4,FALSE)","v":"W78-660741"},"W78"]
[null,"Levesque Sylvie",{"$f":"VLOOKUP(B5404,[1]export_1465921594229!$D5405:$G14665,4,FALSE)","v":"DF9-118392"},"DF9"]
[null,"Levesque Sylvie",{"$f":"VLOOKUP(B5405,[1]export_1465921594229!$D5406:$G14666,4,FALSE)","v":"B64-121918"},"B64"]
[null,"Levesque Dominic",{"$f":"VLOOKUP(B5406,[1]export_1465921594229!$D5407:$G14667,4,FALSE)","v":{"$error":"#N/A"}},{"$error":"#N/A"}]
[null,"Levesque Josee",{"$f":"VLOOKUP(B5407,[1]export_1465921594229!$D5408:$G14668,4,FALSE)","v":{"$error":"#N/A"}},{"$error":"#N/A"}]
[null,"Levesque Marc",{"$f":"VLOOKUP(B5408,[1]export_1465921594229!$D5409:$G14669,4,FALSE)","v":{"$error":"#N/A"}},{"$error":"#N/A"}]
[null,"Levesque (Servi Financie) Alain C.",{"$f":"VLOOKUP(B5409,[1]export_1465921594229!$D5410:$G14670,4,FALSE)","v":"LT3-116905"},"LT3"]
[null,"Levie Diane",{"$f":"VLOOKUP(B5410,[1]export_1465921594229!$D5411:$G14671,4,FALSE)","v":"U65-550102"},"U65"]
[null,"Levy David",{"$f":"VLOOKUP(B5411,[1]export_1465921594229!$D5412:$G14672,4,FALSE)","v":"RB2-117863"},"RB2"]
[null,"Levy Garry M",{"$f":"VLOOKUP(B5412,[1]export_1465921594229!$D5413:$G14673,4,FALSE)","v":"KQ4-116748"},"KQ4"]
[null,"Levy Leroy",{"$f":"VLOOKUP(B5413,[1]export_1465921594229!$D5414:$G14674,4,FALSE)","v":"QC2-119734"},"QC2"]
[null,"Levy Leroy",{"$f":"VLOOKUP(B5414,[1]export_1465921594229!$D5415:$G14675,4,FALSE)","v":"MD0-115608"},"MD0"]
[null,"Levy Leroy",{"$f":"VLOOKUP(B5415,[1]export_1465921594229!$D5416:$G14676,4,FALSE)","v":"MD1-119409"},"MD1"]
[null,"Lewicki Steven",{"$f":"VLOOKUP(B5416,[1]export_1465921594229!$D5417:$G14677,4,FALSE)","v":"CJV-124060"},"CJV"]
[null,"Lewis Clyde",{"$f":"VLOOKUP(B5417,[1]export_1465921594229!$D5418:$G14678,4,FALSE)","v":"BSN-123411"},"BSN"]
[null,"Lewis Clyde",{"$f":"VLOOKUP(B5418,[1]export_1465921594229!$D5419:$G14679,4,FALSE)","v":"A7Z-502268"},"A7Z"]
[null,"Lewis Garen",{"$f":"VLOOKUP(B5419,[1]export_1465921594229!$D5420:$G14680,4,FALSE)","v":"MD9-116995"},"MD9"]
[null,"Lewis Kevin",{"$f":"VLOOKUP(B5420,[1]export_1465921594229!$D5421:$G14681,4,FALSE)","v":"BWY-123505"},"BWY"]
[null,"Lewis Shepherd",{"$f":"VLOOKUP(B5421,[1]export_1465921594229!$D5422:$G14682,4,FALSE)","v":"D3Y-125456"},"D3Y"]
[null,"Lewis Zoila",{"$f":"VLOOKUP(B5422,[1]export_1465921594229!$D5423:$G14683,4,FALSE)","v":"CMC-124114"},"CMC"]
[null,"Lewis(Silverstone Financ) Scott",{"$f":"VLOOKUP(B5423,[1]export_1465921594229!$D5424:$G14684,4,FALSE)","v":"QR9-117770"},"QR9"]
[null,"Ley Jeffrey",{"$f":"VLOOKUP(B5424,[1]export_1465921594229!$D5425:$G14685,4,FALSE)","v":"MZ4-117134"},"MZ4"]
[null,"Ley Jeffrey",{"$f":"VLOOKUP(B5425,[1]export_1465921594229!$D5426:$G14686,4,FALSE)","v":"FC7-118693"},"FC7"]
[null,"Ley Jeffrey",{"$f":"VLOOKUP(B5426,[1]export_1465921594229!$D5427:$G14687,4,FALSE)","v":"CV2-121668"},"CV2"]
[null,"L'Heureux Daniel",{"$f":"VLOOKUP(B5427,[1]export_1465921594229!$D5428:$G14688,4,FALSE)","v":"L26-119299"},"L26"]
[null,"L'Heureux Louis",{"$f":"VLOOKUP(B5428,[1]export_1465921594229!$D5429:$G14689,4,FALSE)","v":"RG1-119832"},"RG1"]
[null,"Li Ching Kit",{"$f":"VLOOKUP(B5429,[1]export_1465921594229!$D5430:$G14690,4,FALSE)","v":"CSW-124279"},"CSW"]
[null,"Li Han",{"$f":"VLOOKUP(B5430,[1]export_1465921594229!$D5431:$G14691,4,FALSE)","v":"BMP-123298"},"BMP"]
[null,"Li Han",{"$f":"VLOOKUP(B5431,[1]export_1465921594229!$D5432:$G14692,4,FALSE)","v":"CFK-123950"},"CFK"]
[null,"Li Sin Ping",{"$f":"VLOOKUP(B5432,[1]export_1465921594229!$D5433:$G14693,4,FALSE)","v":"CST-124276"},"CST"]
[null,"Liberge Clement",{"$f":"VLOOKUP(B5433,[1]export_1465921594229!$D5434:$G14694,4,FALSE)","v":"R75-117848"},"R75"]
[null,"Liberty Mathieu",{"$f":"VLOOKUP(B5434,[1]export_1465921594229!$D5435:$G14695,4,FALSE)","v":"AA6-120208"},"AA6"]
[null,"Liboiron Pascal",{"$f":"VLOOKUP(B5435,[1]export_1465921594229!$D5436:$G14696,4,FALSE)","v":"DOM-125068"},"DOM"]
[null,"Lichtenegger Karen",{"$f":"VLOOKUP(B5436,[1]export_1465921594229!$D5437:$G14697,4,FALSE)","v":"C73-120125"},"C73"]
[null,"Lidder Gurpreet",{"$f":"VLOOKUP(B5437,[1]export_1465921594229!$D5438:$G14698,4,FALSE)","v":"BEH-550073"},"BEH"]
[null,"Lidder Harminder",{"$f":"VLOOKUP(B5438,[1]export_1465921594229!$D5439:$G14699,4,FALSE)","v":"BES-502098"},"BES"]
[null,"Lieu Hammond",{"$f":"VLOOKUP(B5439,[1]export_1465921594229!$D5440:$G14700,4,FALSE)","v":"NR0-117239"},"NR0"]
[null,"Light John Anthony",{"$f":"VLOOKUP(B5440,[1]export_1465921594229!$D5441:$G14701,4,FALSE)","v":"PS4-117604"},"PS4"]
[null,"Ligris Bill",{"$f":"VLOOKUP(B5441,[1]export_1465921594229!$D5442:$G14702,4,FALSE)","v":"EM2-118582"},"EM2"]
[null,"Lim David",{"$f":"VLOOKUP(B5442,[1]export_1465921594229!$D5443:$G14703,4,FALSE)","v":"B4L-123678"},{"$f":"LEFT(C5442,3)","v":"B4L"}]
[null,"Lima Juliene",{"$f":"VLOOKUP(B5443,[1]export_1465921594229!$D5444:$G14704,4,FALSE)","v":"IP5-116398"},"IP5"]
[null,"Limoges-Daigneault Julien",{"$f":"VLOOKUP(B5444,[1]export_1465921594229!$D5445:$G14705,4,FALSE)","v":"DSS-125173"},"DSS"]
[null,"Linag Merlinda",{"$f":"VLOOKUP(B5445,[1]export_1465921594229!$D5446:$G14706,4,FALSE)","v":"C1L-124492"},"C1L"]
[null,"Lindsay Emile",{"$f":"VLOOKUP(B5446,[1]export_1465921594229!$D5447:$G14707,4,FALSE)","v":"PK5-117542"},"PK5"]
[null,"Lindsay Emile",{"$f":"VLOOKUP(B5447,[1]export_1465921594229!$D5448:$G14708,4,FALSE)","v":"PK6-119652"},"PK6"]
[null,"Lindsay James",{"$f":"VLOOKUP(B5448,[1]export_1465921594229!$D5449:$G14709,4,FALSE)","v":"BNO-400548"},"BNO"]
[null,"Lindsay James",{"$f":"VLOOKUP(B5449,[1]export_1465921594229!$D5450:$G14710,4,FALSE)","v":"BNM-500548"},"BNM"]
[null,"Lindsay James",{"$f":"VLOOKUP(B5450,[1]export_1465921594229!$D5451:$G14711,4,FALSE)","v":"BNN-300548"},"BNN"]
[null,"Lindsay Robin",{"$f":"VLOOKUP(B5451,[1]export_1465921594229!$D5452:$G14712,4,FALSE)","v":"PQ3-117589"},"PQ3"]
[null,"Lindsay Robin",{"$f":"VLOOKUP(B5452,[1]export_1465921594229!$D5453:$G14713,4,FALSE)","v":"CN8-121632"},"CN8"]
[null,"Lindsay Staci",{"$f":"VLOOKUP(B5453,[1]export_1465921594229!$D5454:$G14714,4,FALSE)","v":"JJ3-119205"},"JJ3"]
[null,"Lingam Ruban",{"$f":"VLOOKUP(B5454,[1]export_1465921594229!$D5455:$G14715,4,FALSE)","v":"PW3-117638"},"PW3"]
[null,"Linteau Carmen",{"$f":"VLOOKUP(B5455,[1]export_1465921594229!$D5456:$G14716,4,FALSE)","v":"154-122492"},"154"]
[null,"Linteau Claire",{"$f":"VLOOKUP(B5456,[1]export_1465921594229!$D5457:$G14717,4,FALSE)","v":"687-120307"},"687"]
[null,"Linteau Lapierre Marie-Andree",{"$f":"VLOOKUP(B5457,[1]export_1465921594229!$D5458:$G14718,4,FALSE)","v":"FB5-660140"},"FB5"]
[null,"Linteau Lapierre Marie-Andree",{"$f":"VLOOKUP(B5458,[1]export_1465921594229!$D5459:$G14719,4,FALSE)","v":"C6U-124622"},"C6U"]
[null,"Listwin Craig",{"$f":"VLOOKUP(B5459,[1]export_1465921594229!$D5460:$G14720,4,FALSE)","v":"CV4-121670"},"CV4"]
[null,"Litt Varinder",{"$f":"VLOOKUP(B5460,[1]export_1465921594229!$D5461:$G14721,4,FALSE)","v":"FD6-118698"},"FD6"]
[null,"Little Charles",{"$f":"VLOOKUP(B5461,[1]export_1465921594229!$D5462:$G14722,4,FALSE)","v":"T38-120526"},"T38"]
[null,"Little Janice",{"$f":"VLOOKUP(B5462,[1]export_1465921594229!$D5463:$G14723,4,FALSE)","v":"IQ3-119151"},"IQ3"]
[null,"Livingston Edward",{"$f":"VLOOKUP(B5463,[1]export_1465921594229!$D5464:$G14724,4,FALSE)","v":"JH1-119199"},"JH1"]
[null,"Livingston Edward",{"$f":"VLOOKUP(B5464,[1]export_1465921594229!$D5465:$G14725,4,FALSE)","v":"JQ4-119218"},"JQ4"]
[null,"Livingston Edward",{"$f":"VLOOKUP(B5465,[1]export_1465921594229!$D5466:$G14726,4,FALSE)","v":"LI9-119326"},"LI9"]
[null,"Livingston Edward",{"$f":"VLOOKUP(B5466,[1]export_1465921594229!$D5467:$G14727,4,FALSE)","v":"HP5-119056"},"HP5"]
[null,"Livingston Edward",{"$f":"VLOOKUP(B5467,[1]export_1465921594229!$D5468:$G14728,4,FALSE)","v":"HP6-119057"},"HP6"]
[null,"Livingston Edward",{"$f":"VLOOKUP(B5468,[1]export_1465921594229!$D5469:$G14729,4,FALSE)","v":"KI4-119249"},"KI4"]
[null,"Lizee Benoit",{"$f":"VLOOKUP(B5469,[1]export_1465921594229!$D5470:$G14730,4,FALSE)","v":"GG6-118877"},"GG6"]
[null,"Lizotte Denyse",{"$f":"VLOOKUP(B5470,[1]export_1465921594229!$D5471:$G14731,4,FALSE)","v":"355-122378"},"355"]
[null,"Lizotte Francis",{"$f":"VLOOKUP(B5471,[1]export_1465921594229!$D5472:$G14732,4,FALSE)","v":"393-120328"},"393"]
[null,"Lizotte Jean-Claude",{"$f":"VLOOKUP(B5472,[1]export_1465921594229!$D5473:$G14733,4,FALSE)","v":"DT9-118440"},"DT9"]
[null,"Lizotte Marc-Rene",{"$f":"VLOOKUP(B5473,[1]export_1465921594229!$D5474:$G14734,4,FALSE)","v":"P00-119609"},"P00"]
[null,"Lizotte Patrick",{"$f":"VLOOKUP(B5474,[1]export_1465921594229!$D5475:$G14735,4,FALSE)","v":"BK0-115784"},"BK0"]
[null,"Lizotte Patrick",{"$f":"VLOOKUP(B5475,[1]export_1465921594229!$D5476:$G14736,4,FALSE)","v":"CQD-550182"},"CQD"]
[null,"Llacer Conchita",{"$f":"VLOOKUP(B5476,[1]export_1465921594229!$D5477:$G14737,4,FALSE)","v":"JB7-119182"},"JB7"]
[null,"Llorente Armia Alma",{"$f":"VLOOKUP(B5477,[1]export_1465921594229!$D5478:$G14738,4,FALSE)","v":"BKJ-123253"},"BKJ"]
[null,"Lo Grasso Joseph",{"$f":"VLOOKUP(B5478,[1]export_1465921594229!$D5479:$G14739,4,FALSE)","v":"BNS-022534"},"BNS"]
[null,"Lo Grasso Joseph",{"$f":"VLOOKUP(B5479,[1]export_1465921594229!$D5480:$G14740,4,FALSE)","v":"BNT-322534"},"BNT"]
[null,"Lobo Jasmine",{"$f":"VLOOKUP(B5480,[1]export_1465921594229!$D5481:$G14741,4,FALSE)","v":"DYS-125328"},"DYS"]
[null,"Locas Eric",{"$f":"VLOOKUP(B5481,[1]export_1465921594229!$D5482:$G14742,4,FALSE)","v":"P92-119639"},"P92"]
[null,"Loerick Stephane",{"$f":"VLOOKUP(B5482,[1]export_1465921594229!$D5483:$G14743,4,FALSE)","v":"D4T-125477"},"D4T"]
[null,"Logan Grant",{"$f":"VLOOKUP(B5483,[1]export_1465921594229!$D5484:$G14744,4,FALSE)","v":"OV1-119604"},"OV1"]
[null,"Loganathan Velumailum",{"$f":"VLOOKUP(B5484,[1]export_1465921594229!$D5485:$G14745,4,FALSE)","v":"NW8-117261"},"NW8"]
[null,"Loiseau Alain",{"$f":"VLOOKUP(B5485,[1]export_1465921594229!$D5486:$G14746,4,FALSE)","v":"098-122450"},"098"]
[null,"Loisel Andre",{"$f":"VLOOKUP(B5486,[1]export_1465921594229!$D5487:$G14747,4,FALSE)","v":"H29-116152"},"H29"]
[null,"Loiselle Kim",{"$f":"VLOOKUP(B5487,[1]export_1465921594229!$D5488:$G14748,4,FALSE)","v":"BDU-660220"},"BDU"]
[null,"Loiselle Robert",{"$f":"VLOOKUP(B5488,[1]export_1465921594229!$D5489:$G14749,4,FALSE)","v":"K92-120996"},"K92"]
[null,"Loku Liyana Waduge Somasiri",{"$f":"VLOOKUP(B5489,[1]export_1465921594229!$D5490:$G14750,4,FALSE)","v":"S33-119846"},"S33"]
[null,"Lokuliyana Helasiri",{"$f":"VLOOKUP(B5490,[1]export_1465921594229!$D5491:$G14751,4,FALSE)","v":"BIH-123212"},"BIH"]
[null,"Loloy Emmanuel",{"$f":"VLOOKUP(B5491,[1]export_1465921594229!$D5492:$G14752,4,FALSE)","v":"BWH-123488"},"BWH"]
[null,"Lombard Johan",{"$f":"VLOOKUP(B5492,[1]export_1465921594229!$D5493:$G14753,4,FALSE)","v":"JN0-119212"},"JN0"]
[null,"Lombard John",{"$f":"VLOOKUP(B5493,[1]export_1465921594229!$D5494:$G14754,4,FALSE)","v":"B4K-123677"},"B4K"]
[null,"Loncar Milan",{"$f":"VLOOKUP(B5494,[1]export_1465921594229!$D5495:$G14755,4,FALSE)","v":"AX6-121995"},"AX6"]
[null,"Loncar Milan",{"$f":"VLOOKUP(B5495,[1]export_1465921594229!$D5496:$G14756,4,FALSE)","v":"AX5-121994"},"AX5"]
[null,"London Allan",{"$f":"VLOOKUP(B5496,[1]export_1465921594229!$D5497:$G14757,4,FALSE)","v":"D3B-125435"},"D3B"]
[null,"Loney Cheryl Connie",{"$f":"VLOOKUP(B5497,[1]export_1465921594229!$D5498:$G14758,4,FALSE)","v":"N61-120815"},"N61"]
[null,"Loney Irene",{"$f":"VLOOKUP(B5498,[1]export_1465921594229!$D5499:$G14759,4,FALSE)","v":"PG0-117502"},"PG0"]
[null,"Loney Irene",{"$f":"VLOOKUP(B5499,[1]export_1465921594229!$D5500:$G14760,4,FALSE)","v":"PG1-117503"},"PG1"]
[null,"Longmore David",{"$f":"VLOOKUP(B5500,[1]export_1465921594229!$D5501:$G14761,4,FALSE)","v":"DRS-125150"},"DRS"]
[null,"Longpre Carl",{"$f":"VLOOKUP(B5501,[1]export_1465921594229!$D5502:$G14762,4,FALSE)","v":"BM0-118224"},"BM0"]
[null,"Longpre Sebastien",{"$f":"VLOOKUP(B5502,[1]export_1465921594229!$D5503:$G14763,4,FALSE)","v":{"$error":"#N/A"}},{"$error":"#N/A"}]
[null,"Longtin Guy",{"$f":"VLOOKUP(B5503,[1]export_1465921594229!$D5504:$G14764,4,FALSE)","v":"T85-117925"},"T85"]
[null,"Lopez Arnel",{"$f":"VLOOKUP(B5504,[1]export_1465921594229!$D5505:$G14765,4,FALSE)","v":"CFF-123945"},"CFF"]
[null,"Lopez Catherine",{"$f":"VLOOKUP(B5505,[1]export_1465921594229!$D5506:$G14766,4,FALSE)","v":"CYS-124422"},"CYS"]
[null,"Lopez Noel",{"$f":"VLOOKUP(B5506,[1]export_1465921594229!$D5507:$G14767,4,FALSE)","v":"BJA-123229"},{"$f":"LEFT(C5506,3)","v":"BJA"}]
[null,"Lopez Oliver",{"$f":"VLOOKUP(B5507,[1]export_1465921594229!$D5508:$G14768,4,FALSE)","v":"A6I-550822"},"A6I"]
[null,"Lopez Oscar",{"$f":"VLOOKUP(B5508,[1]export_1465921594229!$D5509:$G14769,4,FALSE)","v":"DTC-125182"},"DTC"]
[null,"Loranger Elise",{"$f":"VLOOKUP(B5509,[1]export_1465921594229!$D5510:$G14770,4,FALSE)","v":"GI4-121248"},"GI4"]
[null,"Loranger Yves",{"$f":"VLOOKUP(B5510,[1]export_1465921594229!$D5511:$G14771,4,FALSE)","v":"B5C-123695"},"B5C"]
[null,"Lord Gaston",{"$f":"VLOOKUP(B5511,[1]export_1465921594229!$D5512:$G14772,4,FALSE)","v":"DVA-125232"},"DVA"]
[null,"Lord Julie",{"$f":"VLOOKUP(B5512,[1]export_1465921594229!$D5513:$G14773,4,FALSE)","v":"A43-122118"},"A43"]
[null,"Lord Philippe",{"$f":"VLOOKUP(B5513,[1]export_1465921594229!$D5514:$G14774,4,FALSE)","v":"B0Y-123591"},"B0Y"]
[null,"Lord Philippe",{"$f":"VLOOKUP(B5514,[1]export_1465921594229!$D5515:$G14775,4,FALSE)","v":"D6T-125526"},"D6T"]
[null,"Lorenzo Liezel",{"$f":"VLOOKUP(B5515,[1]export_1465921594229!$D5516:$G14776,4,FALSE)","v":"MC7-116988"},"MC7"]
[null,"Lortie Josiane",{"$f":"VLOOKUP(B5516,[1]export_1465921594229!$D5517:$G14777,4,FALSE)","v":"DUO-125220"},"DUO"]
[null,"Loubert Christian",{"$f":"VLOOKUP(B5517,[1]export_1465921594229!$D5518:$G14778,4,FALSE)","v":"I18-119084"},"I18"]
[null,"Louhichi Ali",{"$f":"VLOOKUP(B5518,[1]export_1465921594229!$D5519:$G14779,4,FALSE)","v":"DV9-120157"},"DV9"]
[null,"Louis David",{"$f":"VLOOKUP(B5519,[1]export_1465921594229!$D5520:$G14780,4,FALSE)","v":"BQD-550862"},"BQD"]
[null,"Louis Joseph",{"$f":"VLOOKUP(B5520,[1]export_1465921594229!$D5521:$G14781,4,FALSE)","v":"DH1-660008"},"DH1"]
[null,"Louis Romain",{"$f":"VLOOKUP(B5521,[1]export_1465921594229!$D5522:$G14782,4,FALSE)","v":"D6G-125514"},"D6G"]
[null,"Loukili Sara",{"$f":"VLOOKUP(B5522,[1]export_1465921594229!$D5523:$G14783,4,FALSE)","v":"LD6-116824"},"LD6"]
[null,"Loupret Simon",{"$f":"VLOOKUP(B5523,[1]export_1465921594229!$D5524:$G14784,4,FALSE)","v":"CM5-118326"},"CM5"]
[null,"Love Melissa",{"$f":"VLOOKUP(B5524,[1]export_1465921594229!$D5525:$G14785,4,FALSE)","v":{"$error":"#N/A"}},{"$error":"#N/A"}]
[null,"Lovelace-Dodoo Godfried",{"$f":"VLOOKUP(B5525,[1]export_1465921594229!$D5526:$G14786,4,FALSE)","v":"OP3-117372"},"OP3"]
[null,"Lovitos-Markham Jocelyn",{"$f":"VLOOKUP(B5526,[1]export_1465921594229!$D5527:$G14787,4,FALSE)","v":"NZ4-117268"},"NZ4"]
[null,"Low Bruce",{"$f":"VLOOKUP(B5527,[1]export_1465921594229!$D5528:$G14788,4,FALSE)","v":"KM2-116721"},"KM2"]
[null,"Low Jason",{"$f":"VLOOKUP(B5528,[1]export_1465921594229!$D5529:$G14789,4,FALSE)","v":"V93-120471"},"V93"]
[null,"Lowe Gary",{"$f":"VLOOKUP(B5529,[1]export_1465921594229!$D5530:$G14790,4,FALSE)","v":"HR1-116246"},"HR1"]
[null,"Lowery Andrew",{"$f":"VLOOKUP(B5530,[1]export_1465921594229!$D5531:$G14791,4,FALSE)","v":"A7S-123036"},"A7S"]
[null,"Lowry Todd",{"$f":"VLOOKUP(B5531,[1]export_1465921594229!$D5532:$G14792,4,FALSE)","v":"OM2-119576"},"OM2"]
[null,"Lowry Todd",{"$f":"VLOOKUP(B5532,[1]export_1465921594229!$D5533:$G14793,4,FALSE)","v":"OM3-119577"},"OM3"]
[null,"Lozano Maria Elena",{"$f":"VLOOKUP(B5533,[1]export_1465921594229!$D5534:$G14794,4,FALSE)","v":"MG0-117012"},"MG0"]
[null,"Lu Pei-Shan",{"$f":"VLOOKUP(B5534,[1]export_1465921594229!$D5535:$G14795,4,FALSE)","v":"HF2-600032"},"HF2"]
[null,"Lu Tham",{"$f":"VLOOKUP(B5535,[1]export_1465921594229!$D5536:$G14796,4,FALSE)","v":"ER7-118603"},"ER7"]
[null,"Lubay Nestor",{"$f":"VLOOKUP(B5536,[1]export_1465921594229!$D5537:$G14797,4,FALSE)","v":"MI0-550714"},"MI0"]
[null,"Luby Ryan",{"$f":"VLOOKUP(B5537,[1]export_1465921594229!$D5538:$G14798,4,FALSE)","v":"FQ7-121313"},"FQ7"]
[null,"Lucas Candace Joan",{"$f":"VLOOKUP(B5538,[1]export_1465921594229!$D5539:$G14799,4,FALSE)","v":"OK0-117342"},"OK0"]
[null,"Lucas Jonathan",{"$f":"VLOOKUP(B5539,[1]export_1465921594229!$D5540:$G14800,4,FALSE)","v":"IJ8-121134"},"IJ8"]
[null,"Ludhar Sarabjeet",{"$f":"VLOOKUP(B5540,[1]export_1465921594229!$D5541:$G14801,4,FALSE)","v":"BCF-550405"},"BCF"]
[null,"Ludtke Keith",{"$f":"VLOOKUP(B5541,[1]export_1465921594229!$D5542:$G14802,4,FALSE)","v":"W26-120481"},"W26"]
[null,"Lui Sunny",{"$f":"VLOOKUP(B5542,[1]export_1465921594229!$D5543:$G14803,4,FALSE)","v":"NO2-117228"},"NO2"]
[null,"Lunn Troy",{"$f":"VLOOKUP(B5543,[1]export_1465921594229!$D5544:$G14804,4,FALSE)","v":"B77-121930"},"B77"]
[null,"Luo Wei Wen",{"$f":"VLOOKUP(B5544,[1]export_1465921594229!$D5545:$G14805,4,FALSE)","v":"BIV-123224"},"BIV"]
[null,"Luo Yiqing",{"$f":"VLOOKUP(B5545,[1]export_1465921594229!$D5546:$G14806,4,FALSE)","v":"OK8-117350"},"OK8"]
[null,"Luong Cam-Phuong",{"$f":"VLOOKUP(B5546,[1]export_1465921594229!$D5547:$G14807,4,FALSE)","v":"JF4-116491"},"JF4"]
[null,"Lupe Bryan",{"$f":"VLOOKUP(B5547,[1]export_1465921594229!$D5548:$G14808,4,FALSE)","v":"CIP-124031"},"CIP"]
[null,"Lupkovics Gabor",{"$f":"VLOOKUP(B5548,[1]export_1465921594229!$D5549:$G14809,4,FALSE)","v":"U98-120572"},"U98"]
[null,"Lussier Andre",{"$f":"VLOOKUP(B5549,[1]export_1465921594229!$D5550:$G14810,4,FALSE)","v":"I48-121223"},"I48"]
[null,"Lussier Cecile",{"$f":"VLOOKUP(B5550,[1]export_1465921594229!$D5551:$G14811,4,FALSE)","v":"GF0-118866"},"GF0"]
[null,"Lussier Christian",{"$f":"VLOOKUP(B5551,[1]export_1465921594229!$D5552:$G14812,4,FALSE)","v":"V02-120574"},"V02"]
[null,"Lussier Wayne",{"$f":"VLOOKUP(B5552,[1]export_1465921594229!$D5553:$G14813,4,FALSE)","v":"EO7-121358"},"EO7"]
[null,"Luthra Manoj",{"$f":"VLOOKUP(B5553,[1]export_1465921594229!$D5554:$G14814,4,FALSE)","v":"BEI-502297"},"BEI"]
[null,"Luthra Manoj",{"$f":"VLOOKUP(B5554,[1]export_1465921594229!$D5555:$G14815,4,FALSE)","v":"D3V-125453"},"D3V"]
[null,"Lutzko Darrell",{"$f":"VLOOKUP(B5555,[1]export_1465921594229!$D5556:$G14816,4,FALSE)","v":"AP2-118152"},"AP2"]
[null,"Luu Cuong",{"$f":"VLOOKUP(B5556,[1]export_1465921594229!$D5557:$G14817,4,FALSE)","v":"DMZ-125029"},"DMZ"]
[null,"Luu Jennifer",{"$f":"VLOOKUP(B5557,[1]export_1465921594229!$D5558:$G14818,4,FALSE)","v":"BIG-123211"},"BIG"]
[null,"Luu Leanne",{"$f":"VLOOKUP(B5558,[1]export_1465921594229!$D5559:$G14819,4,FALSE)","v":"D1I-125391"},"D1I"]
[null,"Luz Lorena",{"$f":"VLOOKUP(B5559,[1]export_1465921594229!$D5560:$G14820,4,FALSE)","v":"CBN-123854"},"CBN"]
[null,"Ly Phuong",{"$f":"VLOOKUP(B5560,[1]export_1465921594229!$D5561:$G14821,4,FALSE)","v":"BCW-123110"},"BCW"]
[null,"Lycopolus Stephen",{"$f":"VLOOKUP(B5561,[1]export_1465921594229!$D5562:$G14822,4,FALSE)","v":"GO9-116103"},"GO9"]
[null,"Lynch Patrick",{"$f":"VLOOKUP(B5562,[1]export_1465921594229!$D5563:$G14823,4,FALSE)","v":"KW5-121025"},"KW5"]
[null,"Lynch Patrick",{"$f":"VLOOKUP(B5563,[1]export_1465921594229!$D5564:$G14824,4,FALSE)","v":"LN6-120968"},"LN6"]
[null,"Lynch Patrick",{"$f":"VLOOKUP(B5564,[1]export_1465921594229!$D5565:$G14825,4,FALSE)","v":"KW6-121026"},"KW6"]
[null,"Lynden Howard",{"$f":"VLOOKUP(B5565,[1]export_1465921594229!$D5566:$G14826,4,FALSE)","v":"LU7-550740"},"LU7"]
[null,"Lyons Katrina",{"$f":"VLOOKUP(B5566,[1]export_1465921594229!$D5567:$G14827,4,FALSE)","v":"DXZ-125309"},"DXZ"]
[null,"Lyras (Groupe) Serge",{"$f":"VLOOKUP(B5567,[1]export_1465921594229!$D5568:$G14828,4,FALSE)","v":"F67-121406"},"F67"]
[null,"Lytvyn Nadiya",{"$f":"VLOOKUP(B5568,[1]export_1465921594229!$D5569:$G14829,4,FALSE)","v":"BWB-123482"},"BWB"]
[null,"Macala Jonathan",{"$f":"VLOOKUP(B5569,[1]export_1465921594229!$D5570:$G14830,4,FALSE)","v":"B0J-123579"},"B0J"]
[null,"Macapagal Maribel",{"$f":"VLOOKUP(B5570,[1]export_1465921594229!$D5571:$G14831,4,FALSE)","v":"MR1-117082"},{"$f":"LEFT(C5570,3)","v":"MR1"}]
[null,"Macapagal Maribel",{"$f":"VLOOKUP(B5571,[1]export_1465921594229!$D5572:$G14832,4,FALSE)","v":"CFU-123960"},"CFU"]
[null,"Macaraeg Laila",{"$f":"VLOOKUP(B5572,[1]export_1465921594229!$D5573:$G14833,4,FALSE)","v":"MA5-116971"},"MA5"]
[null,"MacDonald Barrie",{"$f":"VLOOKUP(B5573,[1]export_1465921594229!$D5574:$G14834,4,FALSE)","v":"CIY-550312"},"CIY"]
[null,"Macdonald Hugh",{"$f":"VLOOKUP(B5574,[1]export_1465921594229!$D5575:$G14835,4,FALSE)","v":"N78-120828"},"N78"]
[null,"MacDonald J. Kevin",{"$f":"VLOOKUP(B5575,[1]export_1465921594229!$D5576:$G14836,4,FALSE)","v":"BJL-123237"},"BJL"]
[null,"MacGillivray Geoffrey",{"$f":"VLOOKUP(B5576,[1]export_1465921594229!$D5577:$G14837,4,FALSE)","v":"CDZ-123914"},"CDZ"]
[null,"Machan Leslie",{"$f":"VLOOKUP(B5577,[1]export_1465921594229!$D5578:$G14838,4,FALSE)","v":"W45-550193"},"W45"]
[null,"Machan Leslie Jr",{"$f":"VLOOKUP(B5578,[1]export_1465921594229!$D5579:$G14839,4,FALSE)","v":"CU3-550355"},"CU3"]
[null,"Maciel Jorge",{"$f":"VLOOKUP(B5579,[1]export_1465921594229!$D5580:$G14840,4,FALSE)","v":"X02-117987"},"X02"]
[null,"Macintosh Richard",{"$f":"VLOOKUP(B5580,[1]export_1465921594229!$D5581:$G14841,4,FALSE)","v":"PC7-117473"},"PC7"]
[null,"Macintyre 2228982 On Ltd Shelley",{"$f":"VLOOKUP(B5581,[1]export_1465921594229!$D5582:$G14842,4,FALSE)","v":"LZ7-119364"},"LZ7"]
[null,"MacIsaac Lisa",{"$f":"VLOOKUP(B5582,[1]export_1465921594229!$D5583:$G14843,4,FALSE)","v":"JJ0-119203"},"JJ0"]
[null,"Mackness Chad",{"$f":"VLOOKUP(B5583,[1]export_1465921594229!$D5584:$G14844,4,FALSE)","v":"OF8-117316"},"OF8"]
[null,"MacLaren Cynthia",{"$f":"VLOOKUP(B5584,[1]export_1465921594229!$D5585:$G14845,4,FALSE)","v":"DGL-124867"},"DGL"]
[null,"MacLaren Larry",{"$f":"VLOOKUP(B5585,[1]export_1465921594229!$D5586:$G14846,4,FALSE)","v":"JT0-119222"},"JT0"]
[null,"MacLaren Larry",{"$f":"VLOOKUP(B5586,[1]export_1465921594229!$D5587:$G14847,4,FALSE)","v":"QC7-119739"},"QC7"]
[null,"MacLaren Larry",{"$f":"VLOOKUP(B5587,[1]export_1465921594229!$D5588:$G14848,4,FALSE)","v":"QH0-119766"},"QH0"]
[null,"MacLaren Larry",{"$f":"VLOOKUP(B5588,[1]export_1465921594229!$D5589:$G14849,4,FALSE)","v":"BJC-123231"},"BJC"]
[null,"Maclean Paul",{"$f":"VLOOKUP(B5589,[1]export_1465921594229!$D5590:$G14850,4,FALSE)","v":"MD5-120885"},"MD5"]
[null,"Maclean Paul",{"$f":"VLOOKUP(B5590,[1]export_1465921594229!$D5591:$G14851,4,FALSE)","v":"MD3-120884"},"MD3"]
[null,"Macleod Blake",{"$f":"VLOOKUP(B5591,[1]export_1465921594229!$D5592:$G14852,4,FALSE)","v":"PO6-117574"},"PO6"]
[null,"Macleod Rory",{"$f":"VLOOKUP(B5592,[1]export_1465921594229!$D5593:$G14853,4,FALSE)","v":"T21-120649"},"T21"]
[null,"Macleod Todd",{"$f":"VLOOKUP(B5593,[1]export_1465921594229!$D5594:$G14854,4,FALSE)","v":"OJ2-117334"},"OJ2"]
[null,"Macphee Barry",{"$f":"VLOOKUP(B5594,[1]export_1465921594229!$D5595:$G14855,4,FALSE)","v":"DLQ-124997"},"DLQ"]
[null,"Macphee Barry",{"$f":"VLOOKUP(B5595,[1]export_1465921594229!$D5596:$G14856,4,FALSE)","v":"MB1-502104"},"MB1"]
[null,"Macpherson Daniel",{"$f":"VLOOKUP(B5596,[1]export_1465921594229!$D5597:$G14857,4,FALSE)","v":"KD5-119242"},"KD5"]
[null,"Macpherson Daniel",{"$f":"VLOOKUP(B5597,[1]export_1465921594229!$D5598:$G14858,4,FALSE)","v":"KR2-119268"},"KR2"]
[null,"Macrae John Kenneth",{"$f":"VLOOKUP(B5598,[1]export_1465921594229!$D5599:$G14859,4,FALSE)","v":"QP7-117752"},"QP7"]
[null,"Maddin Susan",{"$f":"VLOOKUP(B5599,[1]export_1465921594229!$D5600:$G14860,4,FALSE)","v":"CWD-124358"},"CWD"]
[null,"Madore Chantale",{"$f":"VLOOKUP(B5600,[1]export_1465921594229!$D5601:$G14861,4,FALSE)","v":"950-115668"},"950"]
[null,"Madore Chantale",{"$f":"VLOOKUP(B5601,[1]export_1465921594229!$D5602:$G14862,4,FALSE)","v":"JI9-119202"},"JI9"]
[null,"Madore Chantale",{"$f":"VLOOKUP(B5602,[1]export_1465921594229!$D5603:$G14863,4,FALSE)","v":"R09-120714"},"R09"]
[null,"Mafi Pouria",{"$f":"VLOOKUP(B5603,[1]export_1465921594229!$D5604:$G14864,4,FALSE)","v":"CXU-124400"},"CXU"]
[null,"Magee David",{"$f":"VLOOKUP(B5604,[1]export_1465921594229!$D5605:$G14865,4,FALSE)","v":"R24-120594"},"R24"]
[null,"Maghnoune Hassan",{"$f":"VLOOKUP(B5605,[1]export_1465921594229!$D5606:$G14866,4,FALSE)","v":"W00-660001"},"W00"]
[null,"Maghraby Mohamed",{"$f":"VLOOKUP(B5606,[1]export_1465921594229!$D5607:$G14867,4,FALSE)","v":"BWZ-502327"},"BWZ"]
[null,"Magnan Claude",{"$f":"VLOOKUP(B5607,[1]export_1465921594229!$D5608:$G14868,4,FALSE)","v":"U97-117950"},"U97"]
[null,"Magno Freddie",{"$f":"VLOOKUP(B5608,[1]export_1465921594229!$D5609:$G14869,4,FALSE)","v":"BHS-550899"},"BHS"]
[null,"Magny Gaetan",{"$f":"VLOOKUP(B5609,[1]export_1465921594229!$D5610:$G14870,4,FALSE)","v":"Z34-120065"},"Z34"]
[null,"Magon Amar Preet",{"$f":"VLOOKUP(B5610,[1]export_1465921594229!$D5611:$G14871,4,FALSE)","v":"AZ2-118182"},"AZ2"]
[null,"Magon Pavandeep",{"$f":"VLOOKUP(B5611,[1]export_1465921594229!$D5612:$G14872,4,FALSE)","v":"AZ1-115756"},"AZ1"]
[null,"Magtalas Russell A.",{"$f":"VLOOKUP(B5612,[1]export_1465921594229!$D5613:$G14873,4,FALSE)","v":"PW0-117635"},"PW0"]
[null,"Mahailet Willy",{"$f":"VLOOKUP(B5613,[1]export_1465921594229!$D5614:$G14874,4,FALSE)","v":"C3R-124549"},"C3R"]
[null,"Mahalingam Tharmalingam (Rajan)",{"$f":"VLOOKUP(B5614,[1]export_1465921594229!$D5615:$G14875,4,FALSE)","v":"PJ2-117531"},"PJ2"]
[null,"Mahallati Maryam",{"$f":"VLOOKUP(B5615,[1]export_1465921594229!$D5616:$G14876,4,FALSE)","v":"C1K-124491"},"C1K"]
[null,"Mahendiran Ariyaratnam",{"$f":"VLOOKUP(B5616,[1]export_1465921594229!$D5617:$G14877,4,FALSE)","v":"X20-120025"},"X20"]
[null,"Mahendran Amalan",{"$f":"VLOOKUP(B5617,[1]export_1465921594229!$D5618:$G14878,4,FALSE)","v":"QI2-117698"},"QI2"]
[null,"Mahendranathan Sinnadurai",{"$f":"VLOOKUP(B5618,[1]export_1465921594229!$D5619:$G14879,4,FALSE)","v":"DCE-124759"},"DCE"]
[null,"Maheu Francis",{"$f":"VLOOKUP(B5619,[1]export_1465921594229!$D5620:$G14880,4,FALSE)","v":"D7E-125537"},"D7E"]
[null,"Maheu-Giroux Nicolas",{"$f":"VLOOKUP(B5620,[1]export_1465921594229!$D5621:$G14881,4,FALSE)","v":"DUS-125224"},"DUS"]
[null,"Maheux Yves",{"$f":"VLOOKUP(B5621,[1]export_1465921594229!$D5622:$G14882,4,FALSE)","v":"AJ0-115740"},"AJ0"]
[null,"Mahil Balihar",{"$f":"VLOOKUP(B5622,[1]export_1465921594229!$D5623:$G14883,4,FALSE)","v":"KU2-116765"},"KU2"]
[null,"Mahindan Mailvaganam",{"$f":"VLOOKUP(B5623,[1]export_1465921594229!$D5624:$G14884,4,FALSE)","v":"PO0-117568"},"PO0"]
[null,"Mahmood Omer",{"$f":"VLOOKUP(B5624,[1]export_1465921594229!$D5625:$G14885,4,FALSE)","v":"CZV-124451"},"CZV"]
[null,"Mahoney Ambrose",{"$f":"VLOOKUP(B5625,[1]export_1465921594229!$D5626:$G14886,4,FALSE)","v":"O97-120758"},"O97"]
[null,"Mahoney Ambrose",{"$f":"VLOOKUP(B5626,[1]export_1465921594229!$D5627:$G14887,4,FALSE)","v":"G55-121348"},"G55"]
[null,"Mahoney Arnold",{"$f":"VLOOKUP(B5627,[1]export_1465921594229!$D5628:$G14888,4,FALSE)","v":"MF0-117006"},"MF0"]
[null,"Mai Hong Hai",{"$f":"VLOOKUP(B5628,[1]export_1465921594229!$D5629:$G14889,4,FALSE)","v":"KA3-116645"},"KA3"]
[null,"Maida Tommy",{"$f":"VLOOKUP(B5629,[1]export_1465921594229!$D5630:$G14890,4,FALSE)","v":"F32-121397"},"F32"]
[null,"Maignien Genevieve",{"$f":"VLOOKUP(B5630,[1]export_1465921594229!$D5631:$G14891,4,FALSE)","v":"B31-120222"},"B31"]
[null,"Mailhiot Michel",{"$f":"VLOOKUP(B5631,[1]export_1465921594229!$D5632:$G14892,4,FALSE)","v":"580-122252"},"580"]
[null,"Mailhot Betty",{"$f":"VLOOKUP(B5632,[1]export_1465921594229!$D5633:$G14893,4,FALSE)","v":"F71-121410"},"F71"]
[null,"Mailhot Camille",{"$f":"VLOOKUP(B5633,[1]export_1465921594229!$D5634:$G14894,4,FALSE)","v":"390-122277"},"390"]
[null,"Mailhot Leo-Paul",{"$f":"VLOOKUP(B5634,[1]export_1465921594229!$D5635:$G14895,4,FALSE)","v":"FW3-118794"},{"$f":"LEFT(C5634,3)","v":"FW3"}]
[null,"Mailhot Marc-Andre",{"$f":"VLOOKUP(B5635,[1]export_1465921594229!$D5636:$G14896,4,FALSE)","v":"CH9-118304"},"CH9"]
[null,"Maille Martin",{"$f":"VLOOKUP(B5636,[1]export_1465921594229!$D5637:$G14897,4,FALSE)","v":{"$error":"#N/A"}},{"$error":"#N/A"}]
[null,"Mailloux Johanne",{"$f":"VLOOKUP(B5637,[1]export_1465921594229!$D5638:$G14898,4,FALSE)","v":"GF1-116086"},"GF1"]
[null,"Mailloux Jonathan",{"$f":"VLOOKUP(B5638,[1]export_1465921594229!$D5639:$G14899,4,FALSE)","v":"CBP-123856"},"CBP"]
[null,"Mailloux Lise",{"$f":"VLOOKUP(B5639,[1]export_1465921594229!$D5640:$G14900,4,FALSE)","v":"561-122242"},"561"]
[null,"Mailvaganam Thangarajah",{"$f":"VLOOKUP(B5640,[1]export_1465921594229!$D5641:$G14901,4,FALSE)","v":"MX1-117123"},"MX1"]
[null,"Mainguy Catherine",{"$f":"VLOOKUP(B5641,[1]export_1465921594229!$D5642:$G14902,4,FALSE)","v":"AC8-660489"},"AC8"]
[null,"Mainguy Joseph",{"$f":"VLOOKUP(B5642,[1]export_1465921594229!$D5643:$G14903,4,FALSE)","v":"G03-121333"},"G03"]
[null,"Mainguy Rochette Philippe",{"$f":"VLOOKUP(B5643,[1]export_1465921594229!$D5644:$G14904,4,FALSE)","v":"KT7-660491"},"KT7"]
[null,"mainville dominik",{"$f":"VLOOKUP(B5644,[1]export_1465921594229!$D5645:$G14905,4,FALSE)","v":"DRV-125153"},"DRV"]
[null,"Mainville Josee",{"$f":"VLOOKUP(B5645,[1]export_1465921594229!$D5646:$G14906,4,FALSE)","v":{"$error":"#N/A"}},{"$error":"#N/A"}]
[null,"Mainville Michel",{"$f":"VLOOKUP(B5646,[1]export_1465921594229!$D5647:$G14907,4,FALSE)","v":"E35-118489"},"E35"]
[null,"Maione Antonietta",{"$f":"VLOOKUP(B5647,[1]export_1465921594229!$D5648:$G14908,4,FALSE)","v":"DZT-125350"},"DZT"]
[null,"Maitre Yvon",{"$f":"VLOOKUP(B5648,[1]export_1465921594229!$D5649:$G14909,4,FALSE)","v":"G29-550196"},"G29"]
[null,"Majd Narges",{"$f":"VLOOKUP(B5649,[1]export_1465921594229!$D5650:$G14910,4,FALSE)","v":"KW8-116779"},"KW8"]
[null,"Majdalani Elias",{"$f":"VLOOKUP(B5650,[1]export_1465921594229!$D5651:$G14911,4,FALSE)","v":"DYI-125318"},"DYI"]
[null,"Majdoub Meiz",{"$f":"VLOOKUP(B5651,[1]export_1465921594229!$D5652:$G14912,4,FALSE)","v":"NR6-119505"},"NR6"]
[null,"Majeau Marie-France",{"$f":"VLOOKUP(B5652,[1]export_1465921594229!$D5653:$G14913,4,FALSE)","v":"K71-120981"},"K71"]
[null,"Majlesi Shahnam",{"$f":"VLOOKUP(B5653,[1]export_1465921594229!$D5654:$G14914,4,FALSE)","v":"HC4-500979"},"HC4"]
[null,"Majlesi Shahnam",{"$f":"VLOOKUP(B5654,[1]export_1465921594229!$D5655:$G14915,4,FALSE)","v":"W87-120498"},"W87"]
[null,"Major Louis-Francois",{"$f":"VLOOKUP(B5655,[1]export_1465921594229!$D5656:$G14916,4,FALSE)","v":"O93-119554"},"O93"]
[null,"Major Richard",{"$f":"VLOOKUP(B5656,[1]export_1465921594229!$D5657:$G14917,4,FALSE)","v":"AS5-118166"},"AS5"]
[null,"Makohoniuk George",{"$f":"VLOOKUP(B5657,[1]export_1465921594229!$D5658:$G14918,4,FALSE)","v":"BK9-121859"},"BK9"]
[null,"Malabanti Abraham",{"$f":"VLOOKUP(B5658,[1]export_1465921594229!$D5659:$G14919,4,FALSE)","v":"BWA-123481"},"BWA"]
[null,"Malboeuf Annie",{"$f":"VLOOKUP(B5659,[1]export_1465921594229!$D5660:$G14920,4,FALSE)","v":"RG4-660707"},"RG4"]
[null,"Malcolm Maria Lolibeth",{"$f":"VLOOKUP(B5660,[1]export_1465921594229!$D5661:$G14921,4,FALSE)","v":"LX2-116934"},"LX2"]
[null,"Maldonado Ramirez Yirme",{"$f":"VLOOKUP(B5661,[1]export_1465921594229!$D5662:$G14922,4,FALSE)","v":"D6K-125518"},"D6K"]
[null,"Malek Doris",{"$f":"VLOOKUP(B5662,[1]export_1465921594229!$D5663:$G14923,4,FALSE)","v":"QZ1-117823"},"QZ1"]
[null,"Malenfant Jean-Marie",{"$f":"VLOOKUP(B5663,[1]export_1465921594229!$D5664:$G14924,4,FALSE)","v":"S88-119868"},"S88"]
[null,"Malenfant Julie",{"$f":"VLOOKUP(B5664,[1]export_1465921594229!$D5665:$G14925,4,FALSE)","v":"PP0-117578"},"PP0"]
[null,"Malenfant Luce",{"$f":"VLOOKUP(B5665,[1]export_1465921594229!$D5666:$G14926,4,FALSE)","v":"097-122449"},"097"]
[null,"Malenfant Martin",{"$f":"VLOOKUP(B5666,[1]export_1465921594229!$D5667:$G14927,4,FALSE)","v":"RB1-117862"},"RB1"]
[null,"Malette Succursale",{"$f":"VLOOKUP(B5667,[1]export_1465921594229!$D5668:$G14928,4,FALSE)","v":"714-122086"},"714"]
[null,"Malewski Monette Simonne",{"$f":"VLOOKUP(B5668,[1]export_1465921594229!$D5669:$G14929,4,FALSE)","v":"V45-119961"},"V45"]
[null,"Malhi Amanjot",{"$f":"VLOOKUP(B5669,[1]export_1465921594229!$D5670:$G14930,4,FALSE)","v":"HP1-121200"},"HP1"]
[null,"Malhi Amritpal",{"$f":"VLOOKUP(B5670,[1]export_1465921594229!$D5671:$G14931,4,FALSE)","v":"MQ2-117075"},"MQ2"]
[null,"Malhi Ranjit",{"$f":"VLOOKUP(B5671,[1]export_1465921594229!$D5672:$G14932,4,FALSE)","v":"IV2-119160"},"IV2"]
[null,"Malhi Rimi",{"$f":"VLOOKUP(B5672,[1]export_1465921594229!$D5673:$G14933,4,FALSE)","v":"B3F-502338"},"B3F"]
[null,"Malhi Rimi",{"$f":"VLOOKUP(B5673,[1]export_1465921594229!$D5674:$G14934,4,FALSE)","v":"CHI-123999"},"CHI"]
[null,"Maligaya Doyeth",{"$f":"VLOOKUP(B5674,[1]export_1465921594229!$D5675:$G14935,4,FALSE)","v":"CSY-124281"},"CSY"]
[null,"Malik Sanjeev",{"$f":"VLOOKUP(B5675,[1]export_1465921594229!$D5676:$G14936,4,FALSE)","v":"BAW-550843"},"BAW"]
[null,"Malik Taj (Ismat)",{"$f":"VLOOKUP(B5676,[1]export_1465921594229!$D5677:$G14937,4,FALSE)","v":"DNG-125036"},"DNG"]
[null,"Malikzada Osman",{"$f":"VLOOKUP(B5677,[1]export_1465921594229!$D5678:$G14938,4,FALSE)","v":"IP3-119147"},"IP3"]
[null,"Malixi-Yap Charlene",{"$f":"VLOOKUP(B5678,[1]export_1465921594229!$D5679:$G14939,4,FALSE)","v":"C2P-124522"},"C2P"]
[null,"Mallet Gabriel",{"$f":"VLOOKUP(B5679,[1]export_1465921594229!$D5680:$G14940,4,FALSE)","v":"NI2-117192"},"NI2"]
[null,"Mallhi Gurjit",{"$f":"VLOOKUP(B5680,[1]export_1465921594229!$D5681:$G14941,4,FALSE)","v":"CKG-124071"},"CKG"]
[null,"Malloy Kelly",{"$f":"VLOOKUP(B5681,[1]export_1465921594229!$D5682:$G14942,4,FALSE)","v":"DUW-550945"},"DUW"]
[null,"Malo Yvan",{"$f":"VLOOKUP(B5682,[1]export_1465921594229!$D5683:$G14943,4,FALSE)","v":"I36-119095"},"I36"]
[null,"Maloney James",{"$f":"VLOOKUP(B5683,[1]export_1465921594229!$D5684:$G14944,4,FALSE)","v":"GB5-121236"},"GB5"]
[null,"Malouin Mario",{"$f":"VLOOKUP(B5684,[1]export_1465921594229!$D5685:$G14945,4,FALSE)","v":"CD9-660750"},"CD9"]
[null,"Malouin Michel",{"$f":"VLOOKUP(B5685,[1]export_1465921594229!$D5686:$G14946,4,FALSE)","v":"S34-117900"},"S34"]
[null,"Malouin Pierre-Yves",{"$f":"VLOOKUP(B5686,[1]export_1465921594229!$D5687:$G14947,4,FALSE)","v":"L44-118081"},"L44"]
[null,"Malouin Yvan",{"$f":"VLOOKUP(B5687,[1]export_1465921594229!$D5688:$G14948,4,FALSE)","v":"Q42-119692"},"Q42"]
[null,"Maltais Alain",{"$f":"VLOOKUP(B5688,[1]export_1465921594229!$D5689:$G14949,4,FALSE)","v":"A22-122108"},"A22"]
[null,"Maltais Claude",{"$f":"VLOOKUP(B5689,[1]export_1465921594229!$D5690:$G14950,4,FALSE)","v":"123-120400"},"123"]
[null,"Maltais Nicolas",{"$f":"VLOOKUP(B5690,[1]export_1465921594229!$D5691:$G14951,4,FALSE)","v":"412-122293"},"412"]
[null,"Maltais Patrice",{"$f":"VLOOKUP(B5691,[1]export_1465921594229!$D5692:$G14952,4,FALSE)","v":"D11-120135"},"D11"]
[null,"Maltais Pierre",{"$f":"VLOOKUP(B5692,[1]export_1465921594229!$D5693:$G14953,4,FALSE)","v":"900-115576"},"900"]
[null,"Maltais Pierre",{"$f":"VLOOKUP(B5693,[1]export_1465921594229!$D5694:$G14954,4,FALSE)","v":"EN7-118589"},"EN7"]
[null,"Maltais Pierre",{"$f":"VLOOKUP(B5694,[1]export_1465921594229!$D5695:$G14955,4,FALSE)","v":"258-122438"},"258"]
[null,"Maltais Regis",{"$f":"VLOOKUP(B5695,[1]export_1465921594229!$D5696:$G14956,4,FALSE)","v":"CT5-118351"},"CT5"]
[null,"Maltais Roger",{"$f":"VLOOKUP(B5696,[1]export_1465921594229!$D5697:$G14957,4,FALSE)","v":"M42-120093"},"M42"]
[null,"Maltais Steeve",{"$f":"VLOOKUP(B5697,[1]export_1465921594229!$D5698:$G14958,4,FALSE)","v":"AC7-122039"},"AC7"]
[null,"Mamba Pierre",{"$f":"VLOOKUP(B5698,[1]export_1465921594229!$D5699:$G14959,4,FALSE)","v":"DTZ-125205"},{"$f":"LEFT(C5698,3)","v":"DTZ"}]
[null,"Mamhikoff Amira",{"$f":"VLOOKUP(B5699,[1]export_1465921594229!$D5700:$G14960,4,FALSE)","v":"OZ1-117432"},"OZ1"]
[null,"Mammadli Elnar",{"$f":"VLOOKUP(B5700,[1]export_1465921594229!$D5701:$G14961,4,FALSE)","v":"D6B-125509"},"D6B"]
[null,"Mamros Richard",{"$f":"VLOOKUP(B5701,[1]export_1465921594229!$D5702:$G14962,4,FALSE)","v":"CJ6-118314"},"CJ6"]
[null,"Managuelod-Palattao Elisa",{"$f":"VLOOKUP(B5702,[1]export_1465921594229!$D5703:$G14963,4,FALSE)","v":"CPJ-124193"},"CPJ"]
[null,"Manaigre Breanne",{"$f":"VLOOKUP(B5703,[1]export_1465921594229!$D5704:$G14964,4,FALSE)","v":"C2S-124525"},"C2S"]
[null,"Manalansan Bernadette",{"$f":"VLOOKUP(B5704,[1]export_1465921594229!$D5705:$G14965,4,FALSE)","v":"HS2-116254"},"HS2"]
[null,"Manalili Jessielyn",{"$f":"VLOOKUP(B5705,[1]export_1465921594229!$D5706:$G14966,4,FALSE)","v":"QO5-117743"},"QO5"]
[null,"Manansala Jose",{"$f":"VLOOKUP(B5706,[1]export_1465921594229!$D5707:$G14967,4,FALSE)","v":"W07-119983"},"W07"]
[null,"Manary Tanya",{"$f":"VLOOKUP(B5707,[1]export_1465921594229!$D5708:$G14968,4,FALSE)","v":"BMK-123296"},"BMK"]
[null,"Manawala Ravinder",{"$f":"VLOOKUP(B5708,[1]export_1465921594229!$D5709:$G14969,4,FALSE)","v":"GP3-118925"},"GP3"]
[null,"Mandel Gary",{"$f":"VLOOKUP(B5709,[1]export_1465921594229!$D5710:$G14970,4,FALSE)","v":"D5H-125491"},"D5H"]
[null,"Manera Giuliano",{"$f":"VLOOKUP(B5710,[1]export_1465921594229!$D5711:$G14971,4,FALSE)","v":"CI2-118306"},"CI2"]
[null,"Manera Sabrina",{"$f":"VLOOKUP(B5711,[1]export_1465921594229!$D5712:$G14972,4,FALSE)","v":"IK7-116374"},"IK7"]
[null,"Manfredi Giovanni",{"$f":"VLOOKUP(B5712,[1]export_1465921594229!$D5713:$G14973,4,FALSE)","v":"BK3-118217"},"BK3"]
[null,"Mangat Ajinderpal",{"$f":"VLOOKUP(B5713,[1]export_1465921594229!$D5714:$G14974,4,FALSE)","v":"BWU-123501"},"BWU"]
[null,"Mangat Gurjot",{"$f":"VLOOKUP(B5714,[1]export_1465921594229!$D5715:$G14975,4,FALSE)","v":"QK5-117712"},"QK5"]
[null,"Mangat Jasbir",{"$f":"VLOOKUP(B5715,[1]export_1465921594229!$D5716:$G14976,4,FALSE)","v":"KK5-116715"},"KK5"]
[null,"Manickam Prince",{"$f":"VLOOKUP(B5716,[1]export_1465921594229!$D5717:$G14977,4,FALSE)","v":"BMU-123301"},"BMU"]
[null,"Manickavasagar Thanabalachandran",{"$f":"VLOOKUP(B5717,[1]export_1465921594229!$D5718:$G14978,4,FALSE)","v":"MW0-117115"},"MW0"]
[null,"Manickavasagar Thanahanthan",{"$f":"VLOOKUP(B5718,[1]export_1465921594229!$D5719:$G14979,4,FALSE)","v":"DNE-125034"},"DNE"]
[null,"Maniego Jacqueline",{"$f":"VLOOKUP(B5719,[1]export_1465921594229!$D5720:$G14980,4,FALSE)","v":"CJP-124054"},"CJP"]
[null,"Manioudakis Nikiforos",{"$f":"VLOOKUP(B5720,[1]export_1465921594229!$D5721:$G14981,4,FALSE)","v":"FN8-660622"},"FN8"]
[null,"Manji Mehboob",{"$f":"VLOOKUP(B5721,[1]export_1465921594229!$D5722:$G14982,4,FALSE)","v":"NZ9-119521"},"NZ9"]
[null,"Manji Mehboob",{"$f":"VLOOKUP(B5722,[1]export_1465921594229!$D5723:$G14983,4,FALSE)","v":"NZ8-119520"},"NZ8"]
[null,"Manmohan Singh Ranjit",{"$f":"VLOOKUP(B5723,[1]export_1465921594229!$D5724:$G14984,4,FALSE)","v":"CD4-115821"},"CD4"]
[null,"Mann James",{"$f":"VLOOKUP(B5724,[1]export_1465921594229!$D5725:$G14985,4,FALSE)","v":"FV7-115593"},"FV7"]
[null,"Mann James",{"$f":"VLOOKUP(B5725,[1]export_1465921594229!$D5726:$G14986,4,FALSE)","v":"927-115583"},"927"]
[null,"Mann James",{"$f":"VLOOKUP(B5726,[1]export_1465921594229!$D5727:$G14987,4,FALSE)","v":"923-115580"},"923"]
[null,"Mann James",{"$f":"VLOOKUP(B5727,[1]export_1465921594229!$D5728:$G14988,4,FALSE)","v":"925-115582"},"925"]
[null,"Mann James",{"$f":"VLOOKUP(B5728,[1]export_1465921594229!$D5729:$G14989,4,FALSE)","v":"N53-028469"},"N53"]
[null,"Mann Leander",{"$f":"VLOOKUP(B5729,[1]export_1465921594229!$D5730:$G14990,4,FALSE)","v":"A8M-123054"},"A8M"]
[null,"Mann Prempaul",{"$f":"VLOOKUP(B5730,[1]export_1465921594229!$D5731:$G14991,4,FALSE)","v":"BHY-123204"},"BHY"]
[null,"Mann Sukhwant",{"$f":"VLOOKUP(B5731,[1]export_1465921594229!$D5732:$G14992,4,FALSE)","v":"BRT-502294"},"BRT"]
[null,"Mannan Tanvir",{"$f":"VLOOKUP(B5732,[1]export_1465921594229!$D5733:$G14993,4,FALSE)","v":"DRJ-125142"},"DRJ"]
[null,"Manning Lynda",{"$f":"VLOOKUP(B5733,[1]export_1465921594229!$D5734:$G14994,4,FALSE)","v":"QA2-119720"},"QA2"]
[null,"Manning Lynda",{"$f":"VLOOKUP(B5734,[1]export_1465921594229!$D5735:$G14995,4,FALSE)","v":"PX9-119666"},"PX9"]
[null,"Manning Lynda",{"$f":"VLOOKUP(B5735,[1]export_1465921594229!$D5736:$G14996,4,FALSE)","v":"C0D-124458"},"C0D"]
[null,"Manning Lynda",{"$f":"VLOOKUP(B5736,[1]export_1465921594229!$D5737:$G14997,4,FALSE)","v":"QI9-119770"},"QI9"]
[null,"Manning Lynda",{"$f":"VLOOKUP(B5737,[1]export_1465921594229!$D5738:$G14998,4,FALSE)","v":"O34-025739"},"O34"]
[null,"Manning Lynda",{"$f":"VLOOKUP(B5738,[1]export_1465921594229!$D5739:$G14999,4,FALSE)","v":"DOD-125059"},"DOD"]
[null,"Manning Lynda",{"$f":"VLOOKUP(B5739,[1]export_1465921594229!$D5740:$G15000,4,FALSE)","v":"C5R-124593"},"C5R"]
[null,"Manning Lynda",{"$f":"VLOOKUP(B5740,[1]export_1465921594229!$D5741:$G15001,4,FALSE)","v":"QJ0-325739"},"QJ0"]
[null,"Manning Lynda",{"$f":"VLOOKUP(B5741,[1]export_1465921594229!$D5742:$G15002,4,FALSE)","v":"KD0-119241"},"KD0"]
[null,"Manotham Jonah",{"$f":"VLOOKUP(B5742,[1]export_1465921594229!$D5743:$G15003,4,FALSE)","v":"BKS-123259"},"BKS"]
[null,"Manseau Robert",{"$f":"VLOOKUP(B5743,[1]export_1465921594229!$D5744:$G15004,4,FALSE)","v":"BN4-660370"},"BN4"]
[null,"Mansour Hany",{"$f":"VLOOKUP(B5744,[1]export_1465921594229!$D5745:$G15005,4,FALSE)","v":"DLR-124998"},"DLR"]
[null,"Mantha Louis-Roland",{"$f":"VLOOKUP(B5745,[1]export_1465921594229!$D5746:$G15006,4,FALSE)","v":"B9O-123804"},"B9O"]
[null,"Mantha Pierre",{"$f":"VLOOKUP(B5746,[1]export_1465921594229!$D5747:$G15007,4,FALSE)","v":"FV6-660719"},"FV6"]
[null,"Mantha Sylvain",{"$f":"VLOOKUP(B5747,[1]export_1465921594229!$D5748:$G15008,4,FALSE)","v":"S23-117898"},"S23"]
[null,"Manuel Conrad",{"$f":"VLOOKUP(B5748,[1]export_1465921594229!$D5749:$G15009,4,FALSE)","v":"CZ1-118365"},"CZ1"]
[null,"Manuel Maria Luningning",{"$f":"VLOOKUP(B5749,[1]export_1465921594229!$D5750:$G15010,4,FALSE)","v":"KF5-116681"},"KF5"]
[null,"Manuyag Jovyna",{"$f":"VLOOKUP(B5750,[1]export_1465921594229!$D5751:$G15011,4,FALSE)","v":"PK2-117539"},"PK2"]
[null,"Marceau Karel",{"$f":"VLOOKUP(B5751,[1]export_1465921594229!$D5752:$G15012,4,FALSE)","v":"IU1-121151"},"IU1"]
[null,"Marceau Suzanne",{"$f":"VLOOKUP(B5752,[1]export_1465921594229!$D5753:$G15013,4,FALSE)","v":"259-122439"},"259"]
[null,"Marchand Anne",{"$f":"VLOOKUP(B5753,[1]export_1465921594229!$D5754:$G15014,4,FALSE)","v":"K34-660067"},"K34"]
[null,"Marchand Claire",{"$f":"VLOOKUP(B5754,[1]export_1465921594229!$D5755:$G15015,4,FALSE)","v":"ED5-115945"},"ED5"]
[null,"Marchand Gilles",{"$f":"VLOOKUP(B5755,[1]export_1465921594229!$D5756:$G15016,4,FALSE)","v":"C94-120129"},"C94"]
[null,"Marchand Guy",{"$f":"VLOOKUP(B5756,[1]export_1465921594229!$D5757:$G15017,4,FALSE)","v":"F88-115997"},"F88"]
[null,"Marchand Paul",{"$f":"VLOOKUP(B5757,[1]export_1465921594229!$D5758:$G15018,4,FALSE)","v":"K35-121086"},"K35"]
[null,"Marchand Pierre",{"$f":"VLOOKUP(B5758,[1]export_1465921594229!$D5759:$G15019,4,FALSE)","v":"AT1-120211"},"AT1"]
[null,"Marchand Roger",{"$f":"VLOOKUP(B5759,[1]export_1465921594229!$D5760:$G15020,4,FALSE)","v":"QK0-117708"},"QK0"]
[null,"Marchant Eric",{"$f":"VLOOKUP(B5760,[1]export_1465921594229!$D5761:$G15021,4,FALSE)","v":"H41-118060"},"H41"]
[null,"Marchetta Liborio",{"$f":"VLOOKUP(B5761,[1]export_1465921594229!$D5762:$G15022,4,FALSE)","v":"X77-118007"},"X77"]
[null,"Marcil Chantal",{"$f":"VLOOKUP(B5762,[1]export_1465921594229!$D5763:$G15023,4,FALSE)","v":"B95-121814"},{"$f":"LEFT(C5762,3)","v":"B95"}]
[null,"Marcil Luc",{"$f":"VLOOKUP(B5763,[1]export_1465921594229!$D5764:$G15024,4,FALSE)","v":"V29-119957"},"V29"]
[null,"Marcil Robert",{"$f":"VLOOKUP(B5764,[1]export_1465921594229!$D5765:$G15025,4,FALSE)","v":"CSO-124271"},"CSO"]
[null,"Marco Doreen",{"$f":"VLOOKUP(B5765,[1]export_1465921594229!$D5766:$G15026,4,FALSE)","v":"NM2-117217"},"NM2"]
[null,"Marcotte Andre",{"$f":"VLOOKUP(B5766,[1]export_1465921594229!$D5767:$G15027,4,FALSE)","v":"KU7-660561"},"KU7"]
[null,"Marcotte Guy",{"$f":"VLOOKUP(B5767,[1]export_1465921594229!$D5768:$G15028,4,FALSE)","v":"F99-121293"},"F99"]
[null,"Marcotte Tommy",{"$f":"VLOOKUP(B5768,[1]export_1465921594229!$D5769:$G15029,4,FALSE)","v":"CQ5-121648"},"CQ5"]
[null,"Marcouiller Dominic",{"$f":"VLOOKUP(B5769,[1]export_1465921594229!$D5770:$G15030,4,FALSE)","v":"IO3-660504"},"IO3"]
[null,"Marcoux Andre",{"$f":"VLOOKUP(B5770,[1]export_1465921594229!$D5771:$G15031,4,FALSE)","v":"Q38-120690"},"Q38"]
[null,"Marcoux Dave",{"$f":"VLOOKUP(B5771,[1]export_1465921594229!$D5772:$G15032,4,FALSE)","v":"Z86-120089"},"Z86"]
[null,"Marcoux Jacques-Andre",{"$f":"VLOOKUP(B5772,[1]export_1465921594229!$D5773:$G15033,4,FALSE)","v":"G32-118824"},"G32"]
[null,"Marcoux Jean-Luc",{"$f":"VLOOKUP(B5773,[1]export_1465921594229!$D5774:$G15034,4,FALSE)","v":"W27-660735"},"W27"]
[null,"Marcoux Marie-Claude",{"$f":"VLOOKUP(B5774,[1]export_1465921594229!$D5775:$G15035,4,FALSE)","v":"C65-121699"},"C65"]
[null,"Marcoux Nathalie",{"$f":"VLOOKUP(B5775,[1]export_1465921594229!$D5776:$G15036,4,FALSE)","v":"DJL-124942"},"DJL"]
[null,"Marcoux Sebastien",{"$f":"VLOOKUP(B5776,[1]export_1465921594229!$D5777:$G15037,4,FALSE)","v":{"$error":"#N/A"}},{"$error":"#N/A"}]
[null,"Marcoux Yvan",{"$f":"VLOOKUP(B5777,[1]export_1465921594229!$D5778:$G15038,4,FALSE)","v":"T50-117915"},"T50"]
[null,"Marechal Olivier",{"$f":"VLOOKUP(B5778,[1]export_1465921594229!$D5779:$G15039,4,FALSE)","v":"HK4-116213"},"HK4"]
[null,"Marenger Marcel",{"$f":"VLOOKUP(B5779,[1]export_1465921594229!$D5780:$G15040,4,FALSE)","v":"P46-119623"},"P46"]
[null,"Marenger Marcel",{"$f":"VLOOKUP(B5780,[1]export_1465921594229!$D5781:$G15041,4,FALSE)","v":"J15-121162"},"J15"]
[null,"MariaFrancis Mary Merika",{"$f":"VLOOKUP(B5781,[1]export_1465921594229!$D5782:$G15042,4,FALSE)","v":"CRX-124254"},"CRX"]
[null,"Marianesan Emmanuel",{"$f":"VLOOKUP(B5782,[1]export_1465921594229!$D5783:$G15043,4,FALSE)","v":"OJ4-117336"},"OJ4"]
[null,"Marier Marie-Eve",{"$f":"VLOOKUP(B5783,[1]export_1465921594229!$D5784:$G15044,4,FALSE)","v":"MT4-117097"},"MT4"]
[null,"Marinaccio Jeannie",{"$f":"VLOOKUP(B5784,[1]export_1465921594229!$D5785:$G15045,4,FALSE)","v":"CMS-124126"},"CMS"]
[null,"Marincic Alexander",{"$f":"VLOOKUP(B5785,[1]export_1465921594229!$D5786:$G15046,4,FALSE)","v":"ML2-117047"},"ML2"]
[null,"Maris Magdalena",{"$f":"VLOOKUP(B5786,[1]export_1465921594229!$D5787:$G15047,4,FALSE)","v":"LU4-116914"},"LU4"]
[null,"Markanastasakis Joanne",{"$f":"VLOOKUP(B5787,[1]export_1465921594229!$D5788:$G15048,4,FALSE)","v":"DOW-125078"},"DOW"]
[null,"Markandu Vasanthakumaran",{"$f":"VLOOKUP(B5788,[1]export_1465921594229!$D5789:$G15049,4,FALSE)","v":"OZ6-117437"},"OZ6"]
[null,"Markewich Doug",{"$f":"VLOOKUP(B5789,[1]export_1465921594229!$D5790:$G15050,4,FALSE)","v":"AR0-550185"},"AR0"]
[null,"Markvoort Arie",{"$f":"VLOOKUP(B5790,[1]export_1465921594229!$D5791:$G15051,4,FALSE)","v":"PU5-117620"},"PU5"]
[null,"Marois Christine",{"$f":"VLOOKUP(B5791,[1]export_1465921594229!$D5792:$G15052,4,FALSE)","v":"BJ9-121857"},"BJ9"]
[null,"Marois Berthiaume Patrick",{"$f":"VLOOKUP(B5792,[1]export_1465921594229!$D5793:$G15053,4,FALSE)","v":"C74-120126"},"C74"]
[null,"Marquez Allan",{"$f":"VLOOKUP(B5793,[1]export_1465921594229!$D5794:$G15054,4,FALSE)","v":"JS7-116571"},"JS7"]
[null,"Marquez Hermie",{"$f":"VLOOKUP(B5794,[1]export_1465921594229!$D5795:$G15055,4,FALSE)","v":"GA3-118852"},"GA3"]
[null,"Marquez Leilani",{"$f":"VLOOKUP(B5795,[1]export_1465921594229!$D5796:$G15056,4,FALSE)","v":"IT6-116417"},"IT6"]
[null,"Marquis Shirley",{"$f":"VLOOKUP(B5796,[1]export_1465921594229!$D5797:$G15057,4,FALSE)","v":"967-115568"},"967"]
[null,"Marquis Shirley",{"$f":"VLOOKUP(B5797,[1]export_1465921594229!$D5798:$G15058,4,FALSE)","v":"BZF-123551"},"BZF"]
[null,"marquis vincent",{"$f":"VLOOKUP(B5798,[1]export_1465921594229!$D5799:$G15059,4,FALSE)","v":"DWV-125279"},"DWV"]
[null,"Marr Chantal",{"$f":"VLOOKUP(B5799,[1]export_1465921594229!$D5800:$G15060,4,FALSE)","v":"BT3-115801"},"BT3"]
[null,"Marr Lorne S.",{"$f":"VLOOKUP(B5800,[1]export_1465921594229!$D5801:$G15061,4,FALSE)","v":"BT4-118253"},"BT4"]
[null,"Marrella Francesco",{"$f":"VLOOKUP(B5801,[1]export_1465921594229!$D5802:$G15062,4,FALSE)","v":"T05-119878"},"T05"]
[null,"Marriott Robert",{"$f":"VLOOKUP(B5802,[1]export_1465921594229!$D5803:$G15063,4,FALSE)","v":"BZ8-121778"},"BZ8"]
[null,"Marroquin Ernesto",{"$f":"VLOOKUP(B5803,[1]export_1465921594229!$D5804:$G15064,4,FALSE)","v":"C28-121802"},"C28"]
[null,"Marshall Elizabeth",{"$f":"VLOOKUP(B5804,[1]export_1465921594229!$D5805:$G15065,4,FALSE)","v":"CGP-123981"},"CGP"]
[null,"Marshall Glen",{"$f":"VLOOKUP(B5805,[1]export_1465921594229!$D5806:$G15066,4,FALSE)","v":"OT8-119601"},"OT8"]
[null,"Marshall Karl",{"$f":"VLOOKUP(B5806,[1]export_1465921594229!$D5807:$G15067,4,FALSE)","v":"KO7-550644"},"KO7"]
[null,"Marshall Kyle",{"$f":"VLOOKUP(B5807,[1]export_1465921594229!$D5808:$G15068,4,FALSE)","v":"FQ0-121311"},"FQ0"]
[null,"Marshall Nikolai",{"$f":"VLOOKUP(B5808,[1]export_1465921594229!$D5809:$G15069,4,FALSE)","v":"S40-119849"},"S40"]
[null,"Marsillo Michael",{"$f":"VLOOKUP(B5809,[1]export_1465921594229!$D5810:$G15070,4,FALSE)","v":"W02-119982"},"W02"]
[null,"Marsolais Nadia",{"$f":"VLOOKUP(B5810,[1]export_1465921594229!$D5811:$G15071,4,FALSE)","v":"H50-116157"},"H50"]
[null,"Martel Andre",{"$f":"VLOOKUP(B5811,[1]export_1465921594229!$D5812:$G15072,4,FALSE)","v":"CW4-118361"},"CW4"]
[null,"Martel Charles",{"$f":"VLOOKUP(B5812,[1]export_1465921594229!$D5813:$G15073,4,FALSE)","v":"J96-121042"},"J96"]
[null,"Martel Charles",{"$f":"VLOOKUP(B5813,[1]export_1465921594229!$D5814:$G15074,4,FALSE)","v":"100-122452"},"100"]
[null,"Martel Claude",{"$f":"VLOOKUP(B5814,[1]export_1465921594229!$D5815:$G15075,4,FALSE)","v":"V33-117955"},"V33"]
[null,"Martel Clermont",{"$f":"VLOOKUP(B5815,[1]export_1465921594229!$D5816:$G15076,4,FALSE)","v":"Z51-120077"},"Z51"]
[null,"Martel Helene",{"$f":"VLOOKUP(B5816,[1]export_1465921594229!$D5817:$G15077,4,FALSE)","v":"134-122476"},"134"]
[null,"Martel Jacques",{"$f":"VLOOKUP(B5817,[1]export_1465921594229!$D5818:$G15078,4,FALSE)","v":"523-122216"},"523"]
[null,"Martel Jean-Pierre",{"$f":"VLOOKUP(B5818,[1]export_1465921594229!$D5819:$G15079,4,FALSE)","v":"BR1-550281"},"BR1"]
[null,"Martel Jocelyn",{"$f":"VLOOKUP(B5819,[1]export_1465921594229!$D5820:$G15080,4,FALSE)","v":"Z70-118030"},"Z70"]
[null,"Martel Justin",{"$f":"VLOOKUP(B5820,[1]export_1465921594229!$D5821:$G15081,4,FALSE)","v":"AI6-122059"},"AI6"]
[null,"Martel Luc",{"$f":"VLOOKUP(B5821,[1]export_1465921594229!$D5822:$G15082,4,FALSE)","v":"M54-119386"},"M54"]
[null,"Martel Manon",{"$f":"VLOOKUP(B5822,[1]export_1465921594229!$D5823:$G15083,4,FALSE)","v":"E18-118476"},"E18"]
[null,"Martel Marc-Andre",{"$f":"VLOOKUP(B5823,[1]export_1465921594229!$D5824:$G15084,4,FALSE)","v":"Z98-660494"},"Z98"]
[null,"Martel Mario",{"$f":"VLOOKUP(B5824,[1]export_1465921594229!$D5825:$G15085,4,FALSE)","v":"F84-660247"},"F84"]
[null,"Martel Nathalie",{"$f":"VLOOKUP(B5825,[1]export_1465921594229!$D5826:$G15086,4,FALSE)","v":"JF1-116490"},"JF1"]
[null,"Martel Richard",{"$f":"VLOOKUP(B5826,[1]export_1465921594229!$D5827:$G15087,4,FALSE)","v":"Q53-117660"},{"$f":"LEFT(C5826,3)","v":"Q53"}]
[null,"Martel Vanessa",{"$f":"VLOOKUP(B5827,[1]export_1465921594229!$D5828:$G15088,4,FALSE)","v":"LQ5-119353"},"LQ5"]
[null,"Martell Johanne",{"$f":"VLOOKUP(B5828,[1]export_1465921594229!$D5829:$G15089,4,FALSE)","v":"530-122222"},"530"]
[null,"Martens Katherine",{"$f":"VLOOKUP(B5829,[1]export_1465921594229!$D5830:$G15090,4,FALSE)","v":"QZ2-117824"},"QZ2"]
[null,"Martey Samuel",{"$f":"VLOOKUP(B5830,[1]export_1465921594229!$D5831:$G15091,4,FALSE)","v":"Z37-120068"},"Z37"]
[null,"Martey Samuel",{"$f":"VLOOKUP(B5831,[1]export_1465921594229!$D5832:$G15092,4,FALSE)","v":"S67-120631"},"S67"]
[null,"Martin Andre",{"$f":"VLOOKUP(B5832,[1]export_1465921594229!$D5833:$G15093,4,FALSE)","v":"L87-120945"},"L87"]
[null,"Martin Andre",{"$f":"VLOOKUP(B5833,[1]export_1465921594229!$D5834:$G15094,4,FALSE)","v":"O20-660366"},"O20"]
[null,"Martin Christiane",{"$f":"VLOOKUP(B5834,[1]export_1465921594229!$D5835:$G15095,4,FALSE)","v":"716-115646"},"716"]
[null,"Martin Christiane",{"$f":"VLOOKUP(B5835,[1]export_1465921594229!$D5836:$G15096,4,FALSE)","v":"104-122455"},"104"]
[null,"Martin Claudette",{"$f":"VLOOKUP(B5836,[1]export_1465921594229!$D5837:$G15097,4,FALSE)","v":"A09-122099"},"A09"]
[null,"Martin Dean",{"$f":"VLOOKUP(B5837,[1]export_1465921594229!$D5838:$G15098,4,FALSE)","v":"BWG-123487"},"BWG"]
[null,"Martin Effie L",{"$f":"VLOOKUP(B5838,[1]export_1465921594229!$D5839:$G15099,4,FALSE)","v":"KW4-121024"},"KW4"]
[null,"Martin Effie L",{"$f":"VLOOKUP(B5839,[1]export_1465921594229!$D5840:$G15100,4,FALSE)","v":"KW1-550813"},"KW1"]
[null,"Martin Effie L",{"$f":"VLOOKUP(B5840,[1]export_1465921594229!$D5841:$G15101,4,FALSE)","v":"KW2-121023"},"KW2"]
[null,"Martin Ghislain",{"$f":"VLOOKUP(B5841,[1]export_1465921594229!$D5842:$G15102,4,FALSE)","v":"CV5-660669"},"CV5"]
[null,"Martin James",{"$f":"VLOOKUP(B5842,[1]export_1465921594229!$D5843:$G15103,4,FALSE)","v":"BBQ-550223"},"BBQ"]
[null,"Martin Jean Pascal",{"$f":"VLOOKUP(B5843,[1]export_1465921594229!$D5844:$G15104,4,FALSE)","v":"CW3-115856"},"CW3"]
[null,"Martin Lara",{"$f":"VLOOKUP(B5844,[1]export_1465921594229!$D5845:$G15105,4,FALSE)","v":"FA8-121294"},"FA8"]
[null,"Martin Lara",{"$f":"VLOOKUP(B5845,[1]export_1465921594229!$D5846:$G15106,4,FALSE)","v":"FA7-600028"},"FA7"]
[null,"Martin Lucie",{"$f":"VLOOKUP(B5846,[1]export_1465921594229!$D5847:$G15107,4,FALSE)","v":"O55-119544"},"O55"]
[null,"Martin Marc-Andre",{"$f":"VLOOKUP(B5847,[1]export_1465921594229!$D5848:$G15108,4,FALSE)","v":"ES3-121366"},"ES3"]
[null,"Martin Marc-Andre",{"$f":"VLOOKUP(B5848,[1]export_1465921594229!$D5849:$G15109,4,FALSE)","v":"ES9-121370"},"ES9"]
[null,"Martin Mario",{"$f":"VLOOKUP(B5849,[1]export_1465921594229!$D5850:$G15110,4,FALSE)","v":"D12-120136"},"D12"]
[null,"Martin Maurice",{"$f":"VLOOKUP(B5850,[1]export_1465921594229!$D5851:$G15111,4,FALSE)","v":"IU3-119158"},"IU3"]
[null,"Martin Noemie",{"$f":"VLOOKUP(B5851,[1]export_1465921594229!$D5852:$G15112,4,FALSE)","v":{"$error":"#N/A"}},{"$error":"#N/A"}]
[null,"Martin Philippe M.",{"$f":"VLOOKUP(B5852,[1]export_1465921594229!$D5853:$G15113,4,FALSE)","v":"BG9-115778"},"BG9"]
[null,"Martin Renaud",{"$f":"VLOOKUP(B5853,[1]export_1465921594229!$D5854:$G15114,4,FALSE)","v":"488-122199"},"488"]
[null,"Martin Yvon",{"$f":"VLOOKUP(B5854,[1]export_1465921594229!$D5855:$G15115,4,FALSE)","v":"JI3-116509"},"JI3"]
[null,"Martineau Claude",{"$f":"VLOOKUP(B5855,[1]export_1465921594229!$D5856:$G15116,4,FALSE)","v":"BX7-121772"},"BX7"]
[null,"Martineau Daniel",{"$f":"VLOOKUP(B5856,[1]export_1465921594229!$D5857:$G15117,4,FALSE)","v":"F47-660044"},"F47"]
[null,"Martinez Edison",{"$f":"VLOOKUP(B5857,[1]export_1465921594229!$D5858:$G15118,4,FALSE)","v":"KI7-116702"},"KI7"]
[null,"Martinich Estefania",{"$f":"VLOOKUP(B5858,[1]export_1465921594229!$D5859:$G15119,4,FALSE)","v":"CS9-121659"},"CS9"]
[null,"Martinot Arthur",{"$f":"VLOOKUP(B5859,[1]export_1465921594229!$D5860:$G15120,4,FALSE)","v":"IQ6-121143"},"IQ6"]
[null,"MARTINS PAULA",{"$f":"VLOOKUP(B5860,[1]export_1465921594229!$D5861:$G15121,4,FALSE)","v":"IP6-119148"},"IP6"]
[null,"Martirosyan Armen",{"$f":"VLOOKUP(B5861,[1]export_1465921594229!$D5862:$G15122,4,FALSE)","v":"KC7-116658"},"KC7"]
[null,"Marulanda Yadira",{"$f":"VLOOKUP(B5862,[1]export_1465921594229!$D5863:$G15123,4,FALSE)","v":"CVY-124353"},"CVY"]
[null,"Marzouki Fouad",{"$f":"VLOOKUP(B5863,[1]export_1465921594229!$D5864:$G15124,4,FALSE)","v":"B54-121909"},"B54"]
[null,"Masciarelli Giancarlo",{"$f":"VLOOKUP(B5864,[1]export_1465921594229!$D5865:$G15125,4,FALSE)","v":"CYE-124410"},"CYE"]
[null,"Mascioli Leo",{"$f":"VLOOKUP(B5865,[1]export_1465921594229!$D5866:$G15126,4,FALSE)","v":"HU1-116267"},"HU1"]
[null,"Masic Bozana",{"$f":"VLOOKUP(B5866,[1]export_1465921594229!$D5867:$G15127,4,FALSE)","v":"BC5-118197"},"BC5"]
[null,"Mason Margaret",{"$f":"VLOOKUP(B5867,[1]export_1465921594229!$D5868:$G15128,4,FALSE)","v":"ON9-500407"},"ON9"]
[null,"Mason Margaret",{"$f":"VLOOKUP(B5868,[1]export_1465921594229!$D5869:$G15129,4,FALSE)","v":"N83-119469"},"N83"]
[null,"Mason Margaret",{"$f":"VLOOKUP(B5869,[1]export_1465921594229!$D5870:$G15130,4,FALSE)","v":"ML8-119421"},"ML8"]
[null,"Mason Sandra",{"$f":"VLOOKUP(B5870,[1]export_1465921594229!$D5871:$G15131,4,FALSE)","v":"LT4-116906"},"LT4"]
[null,"Masood Andaleeb",{"$f":"VLOOKUP(B5871,[1]export_1465921594229!$D5872:$G15132,4,FALSE)","v":"GW0-118949"},"GW0"]
[null,"Massaad Simon",{"$f":"VLOOKUP(B5872,[1]export_1465921594229!$D5873:$G15133,4,FALSE)","v":"BW8-121770"},"BW8"]
[null,"Masse Liette",{"$f":"VLOOKUP(B5873,[1]export_1465921594229!$D5874:$G15134,4,FALSE)","v":"U02-660379"},"U02"]
[null,"Masse Martial",{"$f":"VLOOKUP(B5874,[1]export_1465921594229!$D5875:$G15135,4,FALSE)","v":"H81-116164"},"H81"]
[null,"Masse Charles-Antoine",{"$f":"VLOOKUP(B5875,[1]export_1465921594229!$D5876:$G15136,4,FALSE)","v":{"$error":"#N/A"}},{"$error":"#N/A"}]
[null,"Masse Ginette",{"$f":"VLOOKUP(B5876,[1]export_1465921594229!$D5877:$G15137,4,FALSE)","v":{"$error":"#N/A"}},{"$error":"#N/A"}]
[null,"Masse Marc",{"$f":"VLOOKUP(B5877,[1]export_1465921594229!$D5878:$G15138,4,FALSE)","v":{"$error":"#N/A"}},{"$error":"#N/A"}]
[null,"Masseo Victor",{"$f":"VLOOKUP(B5878,[1]export_1465921594229!$D5879:$G15139,4,FALSE)","v":"LC6-116816"},"LC6"]
[null,"Massiah Karen",{"$f":"VLOOKUP(B5879,[1]export_1465921594229!$D5880:$G15140,4,FALSE)","v":"OH1-117327"},"OH1"]
[null,"Massicotte Pascal",{"$f":"VLOOKUP(B5880,[1]export_1465921594229!$D5881:$G15141,4,FALSE)","v":"G00-118811"},"G00"]
[null,"Massie Darrell",{"$f":"VLOOKUP(B5881,[1]export_1465921594229!$D5882:$G15142,4,FALSE)","v":"PT5-117613"},"PT5"]
[null,"Massie Francis",{"$f":"VLOOKUP(B5882,[1]export_1465921594229!$D5883:$G15143,4,FALSE)","v":"QU6-660251"},"QU6"]
[null,"Masson Lorraine",{"$f":"VLOOKUP(B5883,[1]export_1465921594229!$D5884:$G15144,4,FALSE)","v":"M73-120875"},"M73"]
[null,"Masson Louise",{"$f":"VLOOKUP(B5884,[1]export_1465921594229!$D5885:$G15145,4,FALSE)","v":"Q48-119697"},"Q48"]
[null,"Masson Pierre",{"$f":"VLOOKUP(B5885,[1]export_1465921594229!$D5886:$G15146,4,FALSE)","v":"ED1-118543"},"ED1"]
[null,"Massy Danny",{"$f":"VLOOKUP(B5886,[1]export_1465921594229!$D5887:$G15147,4,FALSE)","v":"D2Q-660394"},"D2Q"]
[null,"Massy Danny",{"$f":"VLOOKUP(B5887,[1]export_1465921594229!$D5888:$G15148,4,FALSE)","v":"V55-125425"},"V55"]
[null,"Mastrocola Frank",{"$f":"VLOOKUP(B5888,[1]export_1465921594229!$D5889:$G15149,4,FALSE)","v":"X78-120441"},"X78"]
[null,"Matera Evangeline",{"$f":"VLOOKUP(B5889,[1]export_1465921594229!$D5890:$G15150,4,FALSE)","v":"EL9-118580"},"EL9"]
[null,"Matheson Teriann",{"$f":"VLOOKUP(B5890,[1]export_1465921594229!$D5891:$G15151,4,FALSE)","v":"B5E-123697"},{"$f":"LEFT(C5890,3)","v":"B5E"}]
[null,"Mathew Jomon",{"$f":"VLOOKUP(B5891,[1]export_1465921594229!$D5892:$G15152,4,FALSE)","v":"NV2-117250"},"NV2"]
[null,"Mathew Majo",{"$f":"VLOOKUP(B5892,[1]export_1465921594229!$D5893:$G15153,4,FALSE)","v":"OF5-117314"},"OF5"]
[null,"Mathew Majo",{"$f":"VLOOKUP(B5893,[1]export_1465921594229!$D5894:$G15154,4,FALSE)","v":"GO7-118922"},"GO7"]
[null,"Mathew Nelson",{"$f":"VLOOKUP(B5894,[1]export_1465921594229!$D5895:$G15155,4,FALSE)","v":"NO8-117231"},"NO8"]
[null,"Mathieson Neil S.",{"$f":"VLOOKUP(B5895,[1]export_1465921594229!$D5896:$G15156,4,FALSE)","v":"LR1-116893"},"LR1"]
[null,"Mathieu Alain",{"$f":"VLOOKUP(B5896,[1]export_1465921594229!$D5897:$G15157,4,FALSE)","v":"CG0-115831"},"CG0"]
[null,"Mathieu Helene",{"$f":"VLOOKUP(B5897,[1]export_1465921594229!$D5898:$G15158,4,FALSE)","v":"A53-118097"},"A53"]
[null,"Mathieu Helene",{"$f":"VLOOKUP(B5898,[1]export_1465921594229!$D5899:$G15159,4,FALSE)","v":"372-122261"},"372"]
[null,"Mathieu Yolande B.",{"$f":"VLOOKUP(B5899,[1]export_1465921594229!$D5900:$G15160,4,FALSE)","v":"260-120429"},"260"]
[null,"Mathieu Yvan",{"$f":"VLOOKUP(B5900,[1]export_1465921594229!$D5901:$G15161,4,FALSE)","v":"HN9-119049"},"HN9"]
[null,"Mathieyaparanam Gopalakrishnan",{"$f":"VLOOKUP(B5901,[1]export_1465921594229!$D5902:$G15162,4,FALSE)","v":"OZ8-117439"},"OZ8"]
[null,"Mathitharan Kandiah",{"$f":"VLOOKUP(B5902,[1]export_1465921594229!$D5903:$G15163,4,FALSE)","v":"KQ0-116746"},"KQ0"]
[null,"Mathson Christopher",{"$f":"VLOOKUP(B5903,[1]export_1465921594229!$D5904:$G15164,4,FALSE)","v":"A6Z-123026"},"A6Z"]
[null,"Mathson Christopher",{"$f":"VLOOKUP(B5904,[1]export_1465921594229!$D5905:$G15165,4,FALSE)","v":"CEN-123928"},"CEN"]
[null,"Matmari Prabhakar",{"$f":"VLOOKUP(B5905,[1]export_1465921594229!$D5906:$G15166,4,FALSE)","v":"MH1-117020"},"MH1"]
[null,"Matte Dolcee",{"$f":"VLOOKUP(B5906,[1]export_1465921594229!$D5907:$G15167,4,FALSE)","v":"300-122336"},"300"]
[null,"Matte Isabelle",{"$f":"VLOOKUP(B5907,[1]export_1465921594229!$D5908:$G15168,4,FALSE)","v":"Q72-119706"},"Q72"]
[null,"Matte Josee",{"$f":"VLOOKUP(B5908,[1]export_1465921594229!$D5909:$G15169,4,FALSE)","v":"L14-121030"},"L14"]
[null,"Matte Josee",{"$f":"VLOOKUP(B5909,[1]export_1465921594229!$D5910:$G15170,4,FALSE)","v":"E55-121440"},"E55"]
[null,"Matte Bourdages Christian",{"$f":"VLOOKUP(B5910,[1]export_1465921594229!$D5911:$G15171,4,FALSE)","v":"MX9-120899"},"MX9"]
[null,"Matteau Richard",{"$f":"VLOOKUP(B5911,[1]export_1465921594229!$D5912:$G15172,4,FALSE)","v":"W75-120496"},"W75"]
[null,"Matthews Julia",{"$f":"VLOOKUP(B5912,[1]export_1465921594229!$D5913:$G15173,4,FALSE)","v":"CPZ-124209"},"CPZ"]
[null,"Matthews Patrick",{"$f":"VLOOKUP(B5913,[1]export_1465921594229!$D5914:$G15174,4,FALSE)","v":"CGN-123979"},"CGN"]
[null,"Matton Claude",{"$f":"VLOOKUP(B5914,[1]export_1465921594229!$D5915:$G15175,4,FALSE)","v":"541-122230"},"541"]
[null,"Mattu Harwinder",{"$f":"VLOOKUP(B5915,[1]export_1465921594229!$D5916:$G15176,4,FALSE)","v":"IV9-116430"},"IV9"]
[null,"Mauve Pascal",{"$f":"VLOOKUP(B5916,[1]export_1465921594229!$D5917:$G15177,4,FALSE)","v":"495-120247"},"495"]
[null,"Mavi Karmjit",{"$f":"VLOOKUP(B5917,[1]export_1465921594229!$D5918:$G15178,4,FALSE)","v":"BXK-123512"},"BXK"]
[null,"Mawbey Lorianne",{"$f":"VLOOKUP(B5918,[1]export_1465921594229!$D5919:$G15179,4,FALSE)","v":"BME-502238"},"BME"]
[null,"Maximiliano Iriarte Carlos Enrique",{"$f":"VLOOKUP(B5919,[1]export_1465921594229!$D5920:$G15180,4,FALSE)","v":"BLT-600081"},"BLT"]
[null,"Maycock Donald",{"$f":"VLOOKUP(B5920,[1]export_1465921594229!$D5921:$G15181,4,FALSE)","v":"MC0-116983"},"MC0"]
[null,"Mayer Gerard",{"$f":"VLOOKUP(B5921,[1]export_1465921594229!$D5922:$G15182,4,FALSE)","v":"K68-120978"},"K68"]
[null,"Mayer Marcel",{"$f":"VLOOKUP(B5922,[1]export_1465921594229!$D5923:$G15183,4,FALSE)","v":"K72-120982"},"K72"]
[null,"Mayrand Francois",{"$f":"VLOOKUP(B5923,[1]export_1465921594229!$D5924:$G15184,4,FALSE)","v":"BT5-118254"},"BT5"]
[null,"Mayrand-Lefebvre Dominique",{"$f":"VLOOKUP(B5924,[1]export_1465921594229!$D5925:$G15185,4,FALSE)","v":"D33-121575"},"D33"]
[null,"Mazraani Collins",{"$f":"VLOOKUP(B5925,[1]export_1465921594229!$D5926:$G15186,4,FALSE)","v":"D38-121580"},"D38"]
[null,"Mazur Richard",{"$f":"VLOOKUP(B5926,[1]export_1465921594229!$D5927:$G15187,4,FALSE)","v":"688-120308"},"688"]
[null,"Mazzella Arcangelo",{"$f":"VLOOKUP(B5927,[1]export_1465921594229!$D5928:$G15188,4,FALSE)","v":"QQ7-660245"},"QQ7"]
[null,"Mc Grath Kevin",{"$f":"VLOOKUP(B5928,[1]export_1465921594229!$D5929:$G15189,4,FALSE)","v":"Q02-120680"},"Q02"]
[null,"Mc Kenna Michael",{"$f":"VLOOKUP(B5929,[1]export_1465921594229!$D5930:$G15190,4,FALSE)","v":"B7V-123763"},"B7V"]
[null,"Mc Kenna Michael",{"$f":"VLOOKUP(B5930,[1]export_1465921594229!$D5931:$G15191,4,FALSE)","v":"N73-119465"},"N73"]
[null,"Mc Kenna Michael",{"$f":"VLOOKUP(B5931,[1]export_1465921594229!$D5932:$G15192,4,FALSE)","v":"GF7-025335"},"GF7"]
[null,"Mc Kinnon Josee",{"$f":"VLOOKUP(B5932,[1]export_1465921594229!$D5933:$G15193,4,FALSE)","v":"C96-120130"},"C96"]
[null,"Mc Manus John",{"$f":"VLOOKUP(B5933,[1]export_1465921594229!$D5934:$G15194,4,FALSE)","v":"Q31-120688"},"Q31"]
[null,"Mc Rae(Quoterm Insurance) John",{"$f":"VLOOKUP(B5934,[1]export_1465921594229!$D5935:$G15195,4,FALSE)","v":"Q51-119700"},"Q51"]
[null,"McArdle Cheryl",{"$f":"VLOOKUP(B5935,[1]export_1465921594229!$D5936:$G15196,4,FALSE)","v":"B9X-123813"},"B9X"]
[null,"Mcateer Tiffany",{"$f":"VLOOKUP(B5936,[1]export_1465921594229!$D5937:$G15197,4,FALSE)","v":"LJ4-119328"},"LJ4"]
[null,"Mccabe Carmen",{"$f":"VLOOKUP(B5937,[1]export_1465921594229!$D5938:$G15198,4,FALSE)","v":"369-122259"},"369"]
[null,"Mccabe Justyn",{"$f":"VLOOKUP(B5938,[1]export_1465921594229!$D5939:$G15199,4,FALSE)","v":"CB6-115814"},"CB6"]
[null,"Mccann Michael",{"$f":"VLOOKUP(B5939,[1]export_1465921594229!$D5940:$G15200,4,FALSE)","v":"OX1-119607"},"OX1"]
[null,"Mccann Michael",{"$f":"VLOOKUP(B5940,[1]export_1465921594229!$D5941:$G15201,4,FALSE)","v":"MH2-119415"},"MH2"]
[null,"Mccann Michael",{"$f":"VLOOKUP(B5941,[1]export_1465921594229!$D5942:$G15202,4,FALSE)","v":"AD5-118107"},"AD5"]
[null,"Mccann Michael",{"$f":"VLOOKUP(B5942,[1]export_1465921594229!$D5943:$G15203,4,FALSE)","v":"CVI-124338"},"CVI"]
[null,"Mccann Michael",{"$f":"VLOOKUP(B5943,[1]export_1465921594229!$D5944:$G15204,4,FALSE)","v":"MG6-115609"},"MG6"]
[null,"Mccann Michael",{"$f":"VLOOKUP(B5944,[1]export_1465921594229!$D5945:$G15205,4,FALSE)","v":"CHX-124013"},"CHX"]
[null,"McColm Sharon",{"$f":"VLOOKUP(B5945,[1]export_1465921594229!$D5946:$G15206,4,FALSE)","v":"CDR-123906"},"CDR"]
[null,"Mccotter George",{"$f":"VLOOKUP(B5946,[1]export_1465921594229!$D5947:$G15207,4,FALSE)","v":"AU0-121979"},"AU0"]
[null,"Mccoy Benjamin",{"$f":"VLOOKUP(B5947,[1]export_1465921594229!$D5948:$G15208,4,FALSE)","v":"AI5-122058"},"AI5"]
[null,"McCoy Tyler",{"$f":"VLOOKUP(B5948,[1]export_1465921594229!$D5949:$G15209,4,FALSE)","v":"C8J-124662"},"C8J"]
[null,"Mcculloch Sheryl",{"$f":"VLOOKUP(B5949,[1]export_1465921594229!$D5950:$G15210,4,FALSE)","v":"BC3-121825"},"BC3"]
[null,"Mccullough Margaret M",{"$f":"VLOOKUP(B5950,[1]export_1465921594229!$D5951:$G15211,4,FALSE)","v":"P13-120772"},"P13"]
[null,"Mccutchin Douglas",{"$f":"VLOOKUP(B5951,[1]export_1465921594229!$D5952:$G15212,4,FALSE)","v":"JT4-116575"},"JT4"]
[null,"McDermid Mark G.",{"$f":"VLOOKUP(B5952,[1]export_1465921594229!$D5953:$G15213,4,FALSE)","v":"X65-120523"},"X65"]
[null,"Mcdonald James",{"$f":"VLOOKUP(B5953,[1]export_1465921594229!$D5954:$G15214,4,FALSE)","v":"KD3-550623"},"KD3"]
[null,"McDonald Robert",{"$f":"VLOOKUP(B5954,[1]export_1465921594229!$D5955:$G15215,4,FALSE)","v":"CYZ-124429"},{"$f":"LEFT(C5954,3)","v":"CYZ"}]
[null,"McDougall Terri",{"$f":"VLOOKUP(B5955,[1]export_1465921594229!$D5956:$G15216,4,FALSE)","v":"CCF-123872"},"CCF"]
[null,"McFarlane Peter",{"$f":"VLOOKUP(B5956,[1]export_1465921594229!$D5957:$G15217,4,FALSE)","v":"BPW-500640"},"BPW"]
[null,"McFater Brendan",{"$f":"VLOOKUP(B5957,[1]export_1465921594229!$D5958:$G15218,4,FALSE)","v":"BQJ-502314"},"BQJ"]
[null,"Mcgowan Kenneth",{"$f":"VLOOKUP(B5958,[1]export_1465921594229!$D5959:$G15219,4,FALSE)","v":"AM3-118140"},"AM3"]
[null,"Mcgraw Colette",{"$f":"VLOOKUP(B5959,[1]export_1465921594229!$D5960:$G15220,4,FALSE)","v":"FM2-118749"},"FM2"]
[null,"Mcgraw Karine",{"$f":"VLOOKUP(B5960,[1]export_1465921594229!$D5961:$G15221,4,FALSE)","v":"FM1-118748"},"FM1"]
[null,"Mcgregor Hector",{"$f":"VLOOKUP(B5961,[1]export_1465921594229!$D5962:$G15222,4,FALSE)","v":"W50-120486"},"W50"]
[null,"Mcintyre Gregory",{"$f":"VLOOKUP(B5962,[1]export_1465921594229!$D5963:$G15223,4,FALSE)","v":"N38-120799"},"N38"]
[null,"Mckenna Gabrielle",{"$f":"VLOOKUP(B5963,[1]export_1465921594229!$D5964:$G15224,4,FALSE)","v":"LN4-550867"},"LN4"]
[null,"Mckenna Gabrielle",{"$f":"VLOOKUP(B5964,[1]export_1465921594229!$D5965:$G15225,4,FALSE)","v":"LN5-120967"},"LN5"]
[null,"McKenna Nancy",{"$f":"VLOOKUP(B5965,[1]export_1465921594229!$D5966:$G15226,4,FALSE)","v":"A7W-123040"},"A7W"]
[null,"McKenzie Katherine",{"$f":"VLOOKUP(B5966,[1]export_1465921594229!$D5967:$G15227,4,FALSE)","v":"C0B-124456"},"C0B"]
[null,"McKibben Michael",{"$f":"VLOOKUP(B5967,[1]export_1465921594229!$D5968:$G15228,4,FALSE)","v":"D0I-125365"},"D0I"]
[null,"Mckillop Lawrence Alan",{"$f":"VLOOKUP(B5968,[1]export_1465921594229!$D5969:$G15229,4,FALSE)","v":"BI8-121852"},"BI8"]
[null,"Mcknight Judy",{"$f":"VLOOKUP(B5969,[1]export_1465921594229!$D5970:$G15230,4,FALSE)","v":"BV8-121766"},"BV8"]
[null,"Mckoy Nardia",{"$f":"VLOOKUP(B5970,[1]export_1465921594229!$D5971:$G15231,4,FALSE)","v":"FU8-116039"},"FU8"]
[null,"Mclaren Penelope S.",{"$f":"VLOOKUP(B5971,[1]export_1465921594229!$D5972:$G15232,4,FALSE)","v":"AR4-121965"},"AR4"]
[null,"Mclaren Penelope S.",{"$f":"VLOOKUP(B5972,[1]export_1465921594229!$D5973:$G15233,4,FALSE)","v":"AR3-121964"},"AR3"]
[null,"Mclaughlin John Joseph",{"$f":"VLOOKUP(B5973,[1]export_1465921594229!$D5974:$G15234,4,FALSE)","v":"OC4-550760"},"OC4"]
[null,"Mclean Brian",{"$f":"VLOOKUP(B5974,[1]export_1465921594229!$D5975:$G15235,4,FALSE)","v":"CT6-118352"},"CT6"]
[null,"McLean Doreen",{"$f":"VLOOKUP(B5975,[1]export_1465921594229!$D5976:$G15236,4,FALSE)","v":"CVM-124342"},"CVM"]
[null,"Mclean John",{"$f":"VLOOKUP(B5976,[1]export_1465921594229!$D5977:$G15237,4,FALSE)","v":"N84-118086"},"N84"]
[null,"Mclean John",{"$f":"VLOOKUP(B5977,[1]export_1465921594229!$D5978:$G15238,4,FALSE)","v":"MN3-500397"},"MN3"]
[null,"Mclean Kim",{"$f":"VLOOKUP(B5978,[1]export_1465921594229!$D5979:$G15239,4,FALSE)","v":"AM2-121942"},"AM2"]
[null,"McLean Timothy",{"$f":"VLOOKUP(B5979,[1]export_1465921594229!$D5980:$G15240,4,FALSE)","v":"DUB-125207"},"DUB"]
[null,"McMahon James",{"$f":"VLOOKUP(B5980,[1]export_1465921594229!$D5981:$G15241,4,FALSE)","v":"BAG-660273"},"BAG"]
[null,"Mcmenamin Mary Judith",{"$f":"VLOOKUP(B5981,[1]export_1465921594229!$D5982:$G15242,4,FALSE)","v":"AT9-121978"},"AT9"]
[null,"Mcnair Laurie",{"$f":"VLOOKUP(B5982,[1]export_1465921594229!$D5983:$G15243,4,FALSE)","v":"HS8-119066"},"HS8"]
[null,"Mcneely Connor",{"$f":"VLOOKUP(B5983,[1]export_1465921594229!$D5984:$G15244,4,FALSE)","v":"DP9-118423"},"DP9"]
[null,"Mcnicoll Danny",{"$f":"VLOOKUP(B5984,[1]export_1465921594229!$D5985:$G15245,4,FALSE)","v":"B96-121815"},"B96"]
[null,"McQuirter Timothy John",{"$f":"VLOOKUP(B5985,[1]export_1465921594229!$D5986:$G15246,4,FALSE)","v":"DBU-124749"},"DBU"]
[null,"Meagher Gareth",{"$f":"VLOOKUP(B5986,[1]export_1465921594229!$D5987:$G15247,4,FALSE)","v":"BXA-502319"},"BXA"]
[null,"Meana Maria Katherine",{"$f":"VLOOKUP(B5987,[1]export_1465921594229!$D5988:$G15248,4,FALSE)","v":"CVB-124331"},"CVB"]
[null,"Mears Patricia",{"$f":"VLOOKUP(B5988,[1]export_1465921594229!$D5989:$G15249,4,FALSE)","v":"BCV-550588"},"BCV"]
[null,"Medeiros Antonio",{"$f":"VLOOKUP(B5989,[1]export_1465921594229!$D5990:$G15250,4,FALSE)","v":"CQ6-121649"},"CQ6"]
[null,"Medeiros David Dorvailno",{"$f":"VLOOKUP(B5990,[1]export_1465921594229!$D5991:$G15251,4,FALSE)","v":"G70-660660"},"G70"]
[null,"Medeiros Sandy",{"$f":"VLOOKUP(B5991,[1]export_1465921594229!$D5992:$G15252,4,FALSE)","v":"CCC-123869"},"CCC"]
[null,"Medeiros Sandy",{"$f":"VLOOKUP(B5992,[1]export_1465921594229!$D5993:$G15253,4,FALSE)","v":"CGD-123969"},"CGD"]
[null,"Medina Angelina",{"$f":"VLOOKUP(B5993,[1]export_1465921594229!$D5994:$G15254,4,FALSE)","v":"D0H-125364"},"D0H"]
[null,"Meelu Manbir",{"$f":"VLOOKUP(B5994,[1]export_1465921594229!$D5995:$G15255,4,FALSE)","v":"FF0-118707"},"FF0"]
[null,"Meesen Charles-Hubert",{"$f":"VLOOKUP(B5995,[1]export_1465921594229!$D5996:$G15256,4,FALSE)","v":"C0U-124475"},"C0U"]
[null,"Mehmi Bachitter",{"$f":"VLOOKUP(B5996,[1]export_1465921594229!$D5997:$G15257,4,FALSE)","v":"DS3-550393"},"DS3"]
[null,"Mehta Aman Deep",{"$f":"VLOOKUP(B5997,[1]export_1465921594229!$D5998:$G15258,4,FALSE)","v":"OG8-117324"},"OG8"]
[null,"Mehta Rohit",{"$f":"VLOOKUP(B5998,[1]export_1465921594229!$D5999:$G15259,4,FALSE)","v":"NG9-117182"},"NG9"]
[null,"Meihm David",{"$f":"VLOOKUP(B5999,[1]export_1465921594229!$D6000:$G15260,4,FALSE)","v":"CO5-121639"},"CO5"]
[null,"Meilleur Daniel",{"$f":"VLOOKUP(B6000,[1]export_1465921594229!$D6001:$G15261,4,FALSE)","v":"EA5-118536"},"EA5"]
[null,"Melancon Jacques",{"$f":"VLOOKUP(B6001,[1]export_1465921594229!$D6002:$G15262,4,FALSE)","v":"F77-115994"},"F77"]
[null,"Meli Wagoum Paul Valery",{"$f":"VLOOKUP(B6002,[1]export_1465921594229!$D6003:$G15263,4,FALSE)","v":"LO3-660163"},"LO3"]
[null,"Melo Richard",{"$f":"VLOOKUP(B6003,[1]export_1465921594229!$D6004:$G15264,4,FALSE)","v":"NA3-117141"},"NA3"]
[null,"Menard Gisele",{"$f":"VLOOKUP(B6004,[1]export_1465921594229!$D6005:$G15265,4,FALSE)","v":"B78-121931"},"B78"]
[null,"Menard Hugues",{"$f":"VLOOKUP(B6005,[1]export_1465921594229!$D6006:$G15266,4,FALSE)","v":"CK5-118318"},"CK5"]
[null,"Menard Liliane",{"$f":"VLOOKUP(B6006,[1]export_1465921594229!$D6007:$G15267,4,FALSE)","v":"562-120270"},"562"]
[null,"Menard Rene",{"$f":"VLOOKUP(B6007,[1]export_1465921594229!$D6008:$G15268,4,FALSE)","v":"722-115648"},"722"]
[null,"Menard Rene",{"$f":"VLOOKUP(B6008,[1]export_1465921594229!$D6009:$G15269,4,FALSE)","v":"614-122147"},"614"]
[null,"Menard Stephane",{"$f":"VLOOKUP(B6009,[1]export_1465921594229!$D6010:$G15270,4,FALSE)","v":"AE1-122043"},"AE1"]
[null,"Menard Suzanne",{"$f":"VLOOKUP(B6010,[1]export_1465921594229!$D6011:$G15271,4,FALSE)","v":"581-122125"},"581"]
[null,"Menard Stefanie",{"$f":"VLOOKUP(B6011,[1]export_1465921594229!$D6012:$G15272,4,FALSE)","v":{"$error":"#N/A"}},{"$error":"#N/A"}]
[null,"Mendenhall David",{"$f":"VLOOKUP(B6012,[1]export_1465921594229!$D6013:$G15273,4,FALSE)","v":"OR2-117387"},"OR2"]
[null,"Mendes Meloiza",{"$f":"VLOOKUP(B6013,[1]export_1465921594229!$D6014:$G15274,4,FALSE)","v":"BUM-123449"},"BUM"]
[null,"Mendigoria Freddy Lita",{"$f":"VLOOKUP(B6014,[1]export_1465921594229!$D6015:$G15275,4,FALSE)","v":"CET-123934"},"CET"]
[null,"Mendigoria Freddy Lita",{"$f":"VLOOKUP(B6015,[1]export_1465921594229!$D6016:$G15276,4,FALSE)","v":"MM5-117055"},"MM5"]
[null,"Mendizabal Marcelino",{"$f":"VLOOKUP(B6016,[1]export_1465921594229!$D6017:$G15277,4,FALSE)","v":"DDX-124802"},"DDX"]
[null,"Mendoza Jennifer",{"$f":"VLOOKUP(B6017,[1]export_1465921594229!$D6018:$G15278,4,FALSE)","v":"BYY-123544"},"BYY"]
[null,"Mengi Mona",{"$f":"VLOOKUP(B6018,[1]export_1465921594229!$D6019:$G15279,4,FALSE)","v":"BCX-550630"},{"$f":"LEFT(C6018,3)","v":"BCX"}]
[null,"Menon Sajeevkumar",{"$f":"VLOOKUP(B6019,[1]export_1465921594229!$D6020:$G15280,4,FALSE)","v":"NB4-117150"},"NB4"]
[null,"Mensah Sandra B",{"$f":"VLOOKUP(B6020,[1]export_1465921594229!$D6021:$G15281,4,FALSE)","v":"NN0-117220"},"NN0"]
[null,"Mensah-Acheampong Nabil",{"$f":"VLOOKUP(B6021,[1]export_1465921594229!$D6022:$G15282,4,FALSE)","v":"FZ8-121331"},"FZ8"]
[null,"Menzelefsky Reuben",{"$f":"VLOOKUP(B6022,[1]export_1465921594229!$D6023:$G15283,4,FALSE)","v":"OM9-117360"},"OM9"]
[null,"Menzies Richard",{"$f":"VLOOKUP(B6023,[1]export_1465921594229!$D6024:$G15284,4,FALSE)","v":"KT1-116756"},"KT1"]
[null,"Mercer Edward Allen",{"$f":"VLOOKUP(B6024,[1]export_1465921594229!$D6025:$G15285,4,FALSE)","v":"BSF-123403"},"BSF"]
[null,"Mercer Gerry",{"$f":"VLOOKUP(B6025,[1]export_1465921594229!$D6026:$G15286,4,FALSE)","v":"W25-120480"},"W25"]
[null,"Mercier Benoit",{"$f":"VLOOKUP(B6026,[1]export_1465921594229!$D6027:$G15287,4,FALSE)","v":"O90-120757"},"O90"]
[null,"Mercier Claude",{"$f":"VLOOKUP(B6027,[1]export_1465921594229!$D6028:$G15288,4,FALSE)","v":"D63-121597"},"D63"]
[null,"Mercier Daniel",{"$f":"VLOOKUP(B6028,[1]export_1465921594229!$D6029:$G15289,4,FALSE)","v":"T14-119881"},"T14"]
[null,"Mercier Daniel",{"$f":"VLOOKUP(B6029,[1]export_1465921594229!$D6030:$G15290,4,FALSE)","v":"689-122070"},"689"]
[null,"Mercier David",{"$f":"VLOOKUP(B6030,[1]export_1465921594229!$D6031:$G15291,4,FALSE)","v":"PZ3-660250"},"PZ3"]
[null,"Mercier Jean-Luc",{"$f":"VLOOKUP(B6031,[1]export_1465921594229!$D6032:$G15292,4,FALSE)","v":"S87-117905"},"S87"]
[null,"Mercier Jonathan",{"$f":"VLOOKUP(B6032,[1]export_1465921594229!$D6033:$G15293,4,FALSE)","v":"G69-121354"},"G69"]
[null,"Mercier Kevin",{"$f":"VLOOKUP(B6033,[1]export_1465921594229!$D6034:$G15294,4,FALSE)","v":"DBO-124743"},"DBO"]
[null,"Mercier Marc",{"$f":"VLOOKUP(B6034,[1]export_1465921594229!$D6035:$G15295,4,FALSE)","v":"HQ0-116242"},"HQ0"]
[null,"Mercier Pierre",{"$f":"VLOOKUP(B6035,[1]export_1465921594229!$D6036:$G15296,4,FALSE)","v":"Q85-660584"},"Q85"]
[null,"Mercier Sharon",{"$f":"VLOOKUP(B6036,[1]export_1465921594229!$D6037:$G15297,4,FALSE)","v":"BLX-500179"},"BLX"]
[null,"Mercier Sheila",{"$f":"VLOOKUP(B6037,[1]export_1465921594229!$D6038:$G15298,4,FALSE)","v":"AA8-115724"},"AA8"]
[null,"Mercier Stephan",{"$f":"VLOOKUP(B6038,[1]export_1465921594229!$D6039:$G15299,4,FALSE)","v":"ID1-660686"},"ID1"]
[null,"Mercier Sylvain",{"$f":"VLOOKUP(B6039,[1]export_1465921594229!$D6040:$G15300,4,FALSE)","v":"NN5-117223"},"NN5"]
[null,"Mercure Jean",{"$f":"VLOOKUP(B6040,[1]export_1465921594229!$D6041:$G15301,4,FALSE)","v":"228-120421"},"228"]
[null,"Mercure Yves",{"$f":"VLOOKUP(B6041,[1]export_1465921594229!$D6042:$G15302,4,FALSE)","v":"A10-122100"},"A10"]
[null,"Merlini Myrtha Laesa",{"$f":"VLOOKUP(B6042,[1]export_1465921594229!$D6043:$G15303,4,FALSE)","v":"LS3-116900"},"LS3"]
[null,"Merrick Richard",{"$f":"VLOOKUP(B6043,[1]export_1465921594229!$D6044:$G15304,4,FALSE)","v":"HL7-116220"},"HL7"]
[null,"Merritt William",{"$f":"VLOOKUP(B6044,[1]export_1465921594229!$D6045:$G15305,4,FALSE)","v":"DB1-118375"},"DB1"]
[null,"Mesa Oscar",{"$f":"VLOOKUP(B6045,[1]export_1465921594229!$D6046:$G15306,4,FALSE)","v":"C9V-124698"},"C9V"]
[null,"Mesina Edgar",{"$f":"VLOOKUP(B6046,[1]export_1465921594229!$D6047:$G15307,4,FALSE)","v":"B6G-123723"},"B6G"]
[null,"Messam Ann Marie",{"$f":"VLOOKUP(B6047,[1]export_1465921594229!$D6048:$G15308,4,FALSE)","v":"FS5-116037"},"FS5"]
[null,"Messier Daniel",{"$f":"VLOOKUP(B6048,[1]export_1465921594229!$D6049:$G15309,4,FALSE)","v":"S00-120613"},"S00"]
[null,"Messier Lacombe Olivier",{"$f":"VLOOKUP(B6049,[1]export_1465921594229!$D6050:$G15310,4,FALSE)","v":"DF2-121503"},"DF2"]
[null,"Metcalfe Linda",{"$f":"VLOOKUP(B6050,[1]export_1465921594229!$D6051:$G15311,4,FALSE)","v":"OP1-117370"},"OP1"]
[null,"Metellus Jean Patrick",{"$f":"VLOOKUP(B6051,[1]export_1465921594229!$D6052:$G15312,4,FALSE)","v":"KM3-116722"},"KM3"]
[null,"Methot Ghislaine",{"$f":"VLOOKUP(B6052,[1]export_1465921594229!$D6053:$G15313,4,FALSE)","v":"637-122160"},"637"]
[null,"Methot Paul-Emile",{"$f":"VLOOKUP(B6053,[1]export_1465921594229!$D6054:$G15314,4,FALSE)","v":"C36-121681"},"C36"]
[null,"Meulmeester Peter",{"$f":"VLOOKUP(B6054,[1]export_1465921594229!$D6055:$G15315,4,FALSE)","v":"W94-120502"},"W94"]
[null,"Meunier Ghislaine",{"$f":"VLOOKUP(B6055,[1]export_1465921594229!$D6056:$G15316,4,FALSE)","v":"HO4-119053"},"HO4"]
[null,"Meunier Lorraine",{"$f":"VLOOKUP(B6056,[1]export_1465921594229!$D6057:$G15317,4,FALSE)","v":"G08-121334"},"G08"]
[null,"Meunier Louis-Philippe",{"$f":"VLOOKUP(B6057,[1]export_1465921594229!$D6058:$G15318,4,FALSE)","v":"IH3-116358"},"IH3"]
[null,"Meunier Noel",{"$f":"VLOOKUP(B6058,[1]export_1465921594229!$D6059:$G15319,4,FALSE)","v":"H74-118985"},"H74"]
[null,"Meunier Stephen",{"$f":"VLOOKUP(B6059,[1]export_1465921594229!$D6060:$G15320,4,FALSE)","v":"B65-121919"},"B65"]
[null,"Meury Denis",{"$f":"VLOOKUP(B6060,[1]export_1465921594229!$D6061:$G15321,4,FALSE)","v":"E88-118526"},"E88"]
[null,"Meyang Charles",{"$f":"VLOOKUP(B6061,[1]export_1465921594229!$D6062:$G15322,4,FALSE)","v":"EV3-118622"},"EV3"]
[null,"Meyer Elsie",{"$f":"VLOOKUP(B6062,[1]export_1465921594229!$D6063:$G15323,4,FALSE)","v":"BQ0-118238"},"BQ0"]
[null,"Meyer(Gene Meyer Insu Ag) Gene",{"$f":"VLOOKUP(B6063,[1]export_1465921594229!$D6064:$G15324,4,FALSE)","v":"NU6-117248"},"NU6"]
[null,"Mezher Chafic",{"$f":"VLOOKUP(B6064,[1]export_1465921594229!$D6065:$G15325,4,FALSE)","v":"HE2-660180"},"HE2"]
[null,"Miano Agatha",{"$f":"VLOOKUP(B6065,[1]export_1465921594229!$D6066:$G15326,4,FALSE)","v":"BXZ-123523"},"BXZ"]
[null,"Michael McEniry",{"$f":"VLOOKUP(B6066,[1]export_1465921594229!$D6067:$G15327,4,FALSE)","v":"DNH-125037"},"DNH"]
[null,"Michael Minar",{"$f":"VLOOKUP(B6067,[1]export_1465921594229!$D6068:$G15328,4,FALSE)","v":"IU2-121152"},"IU2"]
[null,"Michaud Amedee",{"$f":"VLOOKUP(B6068,[1]export_1465921594229!$D6069:$G15329,4,FALSE)","v":"690-122071"},"690"]
[null,"Michaud Denis",{"$f":"VLOOKUP(B6069,[1]export_1465921594229!$D6070:$G15330,4,FALSE)","v":"627-122153"},"627"]
[null,"Michaud Francois",{"$f":"VLOOKUP(B6070,[1]export_1465921594229!$D6071:$G15331,4,FALSE)","v":"164-122498"},"164"]
[null,"Michaud Francois",{"$f":"VLOOKUP(B6071,[1]export_1465921594229!$D6072:$G15332,4,FALSE)","v":"704-122081"},"704"]
[null,"Michaud Guillaume",{"$f":"VLOOKUP(B6072,[1]export_1465921594229!$D6073:$G15333,4,FALSE)","v":"DZ9-121435"},"DZ9"]
[null,"Michaud Jean-Francois",{"$f":"VLOOKUP(B6073,[1]export_1465921594229!$D6074:$G15334,4,FALSE)","v":"IR1-116406"},"IR1"]
[null,"Michaud Lise",{"$f":"VLOOKUP(B6074,[1]export_1465921594229!$D6075:$G15335,4,FALSE)","v":"174-122508"},"174"]
[null,"Michaud Louise",{"$f":"VLOOKUP(B6075,[1]export_1465921594229!$D6076:$G15336,4,FALSE)","v":"R42-119802"},"R42"]
[null,"Michaud Marc",{"$f":"VLOOKUP(B6076,[1]export_1465921594229!$D6077:$G15337,4,FALSE)","v":"DZ8-121434"},"DZ8"]
[null,"Michaud Marie-Eve",{"$f":"VLOOKUP(B6077,[1]export_1465921594229!$D6078:$G15338,4,FALSE)","v":"CRJ-124240"},"CRJ"]
[null,"Michaud Michel",{"$f":"VLOOKUP(B6078,[1]export_1465921594229!$D6079:$G15339,4,FALSE)","v":"F23-115986"},"F23"]
[null,"Michaud Sacha",{"$f":"VLOOKUP(B6079,[1]export_1465921594229!$D6080:$G15340,4,FALSE)","v":"DED-124808"},"DED"]
[null,"Michaud Serge",{"$f":"VLOOKUP(B6080,[1]export_1465921594229!$D6081:$G15341,4,FALSE)","v":"L53-120916"},"L53"]
[null,"Michaud Serge",{"$f":"VLOOKUP(B6081,[1]export_1465921594229!$D6082:$G15342,4,FALSE)","v":"H75-121176"},"H75"]
[null,"Michaud Racine Stephanie",{"$f":"VLOOKUP(B6082,[1]export_1465921594229!$D6083:$G15343,4,FALSE)","v":"NK3-120717"},{"$f":"LEFT(C6082,3)","v":"NK3"}]
[null,"Michel Marilyn",{"$f":"VLOOKUP(B6083,[1]export_1465921594229!$D6084:$G15344,4,FALSE)","v":"CV9-121672"},"CV9"]
[null,"Michel Stafford",{"$f":"VLOOKUP(B6084,[1]export_1465921594229!$D6085:$G15345,4,FALSE)","v":"T62-120107"},"T62"]
[null,"Michel Stafford",{"$f":"VLOOKUP(B6085,[1]export_1465921594229!$D6086:$G15346,4,FALSE)","v":"T37-120525"},"T37"]
[null,"Michels Manfrin Marco Aurelio",{"$f":"VLOOKUP(B6086,[1]export_1465921594229!$D6087:$G15347,4,FALSE)","v":"ER2-115974"},"ER2"]
[null,"Mienwipia Dawn D",{"$f":"VLOOKUP(B6087,[1]export_1465921594229!$D6088:$G15348,4,FALSE)","v":"EL8-118579"},"EL8"]
[null,"Mienwipia Wuah Dave",{"$f":"VLOOKUP(B6088,[1]export_1465921594229!$D6089:$G15349,4,FALSE)","v":"OV0-117411"},"OV0"]
[null,"Miersch Tracy",{"$f":"VLOOKUP(B6089,[1]export_1465921594229!$D6090:$G15350,4,FALSE)","v":"GZ8-121275"},"GZ8"]
[null,"Migie Aaron",{"$f":"VLOOKUP(B6090,[1]export_1465921594229!$D6091:$G15351,4,FALSE)","v":"OZ3-117434"},"OZ3"]
[null,"Mignault Benoit",{"$f":"VLOOKUP(B6091,[1]export_1465921594229!$D6092:$G15352,4,FALSE)","v":"DOP-125071"},"DOP"]
[null,"Migneault Michel",{"$f":"VLOOKUP(B6092,[1]export_1465921594229!$D6093:$G15353,4,FALSE)","v":"CH8-121616"},"CH8"]
[null,"Migneault Mireille",{"$f":"VLOOKUP(B6093,[1]export_1465921594229!$D6094:$G15354,4,FALSE)","v":"R39-120598"},"R39"]
[null,"Migneault Richard",{"$f":"VLOOKUP(B6094,[1]export_1465921594229!$D6095:$G15355,4,FALSE)","v":"DV2-115918"},"DV2"]
[null,"Miguel Marlene",{"$f":"VLOOKUP(B6095,[1]export_1465921594229!$D6096:$G15356,4,FALSE)","v":"OE2-117303"},"OE2"]
[null,"Mihai Nadejda",{"$f":"VLOOKUP(B6096,[1]export_1465921594229!$D6097:$G15357,4,FALSE)","v":"D46-121585"},"D46"]
[null,"Mihaila Daniel",{"$f":"VLOOKUP(B6097,[1]export_1465921594229!$D6098:$G15358,4,FALSE)","v":"N25-029340"},"N25"]
[null,"Mihaila Daniel",{"$f":"VLOOKUP(B6098,[1]export_1465921594229!$D6099:$G15359,4,FALSE)","v":"PX5-429340"},"PX5"]
[null,"Mihaila Daniel",{"$f":"VLOOKUP(B6099,[1]export_1465921594229!$D6100:$G15360,4,FALSE)","v":"FJ3-118724"},"FJ3"]
[null,"Mihaila Daniel",{"$f":"VLOOKUP(B6100,[1]export_1465921594229!$D6101:$G15361,4,FALSE)","v":"IA4-329340"},"IA4"]
[null,"Mihaila Daniel",{"$f":"VLOOKUP(B6101,[1]export_1465921594229!$D6102:$G15362,4,FALSE)","v":"PZ9-119671"},"PZ9"]
[null,"Mihigo Patrick",{"$f":"VLOOKUP(B6102,[1]export_1465921594229!$D6103:$G15363,4,FALSE)","v":"FK7-118735"},"FK7"]
[null,"Mijares Mirma",{"$f":"VLOOKUP(B6103,[1]export_1465921594229!$D6104:$G15364,4,FALSE)","v":"IR8-116410"},"IR8"]
[null,"Mikhail Paul",{"$f":"VLOOKUP(B6104,[1]export_1465921594229!$D6105:$G15365,4,FALSE)","v":"CN7-121631"},"CN7"]
[null,"Milanovic Steven",{"$f":"VLOOKUP(B6105,[1]export_1465921594229!$D6106:$G15366,4,FALSE)","v":"JO9-116549"},"JO9"]
[null,"Miljour Cristeta",{"$f":"VLOOKUP(B6106,[1]export_1465921594229!$D6107:$G15367,4,FALSE)","v":"BVY-123479"},"BVY"]
[null,"Millaire Stephane",{"$f":"VLOOKUP(B6107,[1]export_1465921594229!$D6108:$G15368,4,FALSE)","v":"383-122270"},"383"]
[null,"Millena Maria Corazon",{"$f":"VLOOKUP(B6108,[1]export_1465921594229!$D6109:$G15369,4,FALSE)","v":"CPT-124203"},"CPT"]
[null,"Millena Renato Rafael",{"$f":"VLOOKUP(B6109,[1]export_1465921594229!$D6110:$G15370,4,FALSE)","v":"CPS-124202"},"CPS"]
[null,"Miller Daniel",{"$f":"VLOOKUP(B6110,[1]export_1465921594229!$D6111:$G15371,4,FALSE)","v":"DZR-125348"},"DZR"]
[null,"Miller Sherry Anne",{"$f":"VLOOKUP(B6111,[1]export_1465921594229!$D6112:$G15372,4,FALSE)","v":"OO7-117366"},"OO7"]
[null,"Miller Steve",{"$f":"VLOOKUP(B6112,[1]export_1465921594229!$D6113:$G15373,4,FALSE)","v":"ID9-116337"},"ID9"]
[null,"Miller Stuart",{"$f":"VLOOKUP(B6113,[1]export_1465921594229!$D6114:$G15374,4,FALSE)","v":"DWP-125273"},"DWP"]
[null,"Miller Stuart",{"$f":"VLOOKUP(B6114,[1]export_1465921594229!$D6115:$G15375,4,FALSE)","v":"DKE-124959"},"DKE"]
[null,"Millington Frank",{"$f":"VLOOKUP(B6115,[1]export_1465921594229!$D6116:$G15376,4,FALSE)","v":"GD9-116082"},"GD9"]
[null,"Millis Mardell",{"$f":"VLOOKUP(B6116,[1]export_1465921594229!$D6117:$G15377,4,FALSE)","v":"GO6-118921"},"GO6"]
[null,"Mills Cynthia",{"$f":"VLOOKUP(B6117,[1]export_1465921594229!$D6118:$G15378,4,FALSE)","v":"MO9-117068"},"MO9"]
[null,"Minassian Nadia-Karina",{"$f":"VLOOKUP(B6118,[1]export_1465921594229!$D6119:$G15379,4,FALSE)","v":"C88-121717"},"C88"]
[null,"Mineau Jacques",{"$f":"VLOOKUP(B6119,[1]export_1465921594229!$D6120:$G15380,4,FALSE)","v":"413-122294"},"413"]
[null,"Mink Diana",{"$f":"VLOOKUP(B6120,[1]export_1465921594229!$D6121:$G15381,4,FALSE)","v":"W68-120493"},"W68"]
[null,"Minkovski Olga",{"$f":"VLOOKUP(B6121,[1]export_1465921594229!$D6122:$G15382,4,FALSE)","v":"EU5-118614"},"EU5"]
[null,"Mino Jean-Louis",{"$f":"VLOOKUP(B6122,[1]export_1465921594229!$D6123:$G15383,4,FALSE)","v":"IJ7-660086"},"IJ7"]
[null,"Minoza Loida",{"$f":"VLOOKUP(B6123,[1]export_1465921594229!$D6124:$G15384,4,FALSE)","v":"D3M-125445"},"D3M"]
[null,"Minville Mike",{"$f":"VLOOKUP(B6124,[1]export_1465921594229!$D6125:$G15385,4,FALSE)","v":"C1X-124504"},"C1X"]
[null,"Miranda Mildred",{"$f":"VLOOKUP(B6125,[1]export_1465921594229!$D6126:$G15386,4,FALSE)","v":"RB3-660291"},"RB3"]
[null,"Mireault Guy",{"$f":"VLOOKUP(B6126,[1]export_1465921594229!$D6127:$G15387,4,FALSE)","v":"W66-660637"},"W66"]
[null,"Mireault Jacques",{"$f":"VLOOKUP(B6127,[1]export_1465921594229!$D6128:$G15388,4,FALSE)","v":"317-120316"},"317"]
[null,"Mirjat Sohail",{"$f":"VLOOKUP(B6128,[1]export_1465921594229!$D6129:$G15389,4,FALSE)","v":"IS2-550585"},"IS2"]
[null,"Mirjat Sohail",{"$f":"VLOOKUP(B6129,[1]export_1465921594229!$D6130:$G15390,4,FALSE)","v":"LU0-550691"},"LU0"]
[null,"Miron Jennifer",{"$f":"VLOOKUP(B6130,[1]export_1465921594229!$D6131:$G15391,4,FALSE)","v":"CSI-124265"},"CSI"]
[null,"Mirza Arshad",{"$f":"VLOOKUP(B6131,[1]export_1465921594229!$D6132:$G15392,4,FALSE)","v":"D0P-125372"},"D0P"]
[null,"Mishra Sudhakar",{"$f":"VLOOKUP(B6132,[1]export_1465921594229!$D6133:$G15393,4,FALSE)","v":"CAM-123828"},"CAM"]
[null,"Misk Nawal",{"$f":"VLOOKUP(B6133,[1]export_1465921594229!$D6134:$G15394,4,FALSE)","v":"JW4-121068"},"JW4"]
[null,"Misra Abhijoy",{"$f":"VLOOKUP(B6134,[1]export_1465921594229!$D6135:$G15395,4,FALSE)","v":"CKX-124086"},"CKX"]
[null,"Mission Jugesh",{"$f":"VLOOKUP(B6135,[1]export_1465921594229!$D6136:$G15396,4,FALSE)","v":"QR8-117769"},"QR8"]
[null,"Mitchell Lisa",{"$f":"VLOOKUP(B6136,[1]export_1465921594229!$D6137:$G15397,4,FALSE)","v":"BCP-550476"},"BCP"]
[null,"Miteff Barbara",{"$f":"VLOOKUP(B6137,[1]export_1465921594229!$D6138:$G15398,4,FALSE)","v":"BUJ-502316"},"BUJ"]
[null,"Miteff Barbara",{"$f":"VLOOKUP(B6138,[1]export_1465921594229!$D6139:$G15399,4,FALSE)","v":"KL2-116716"},"KL2"]
[null,"Miton Thierry",{"$f":"VLOOKUP(B6139,[1]export_1465921594229!$D6140:$G15400,4,FALSE)","v":"DU2-115917"},"DU2"]
[null,"Miyazaki Yuko",{"$f":"VLOOKUP(B6140,[1]export_1465921594229!$D6141:$G15401,4,FALSE)","v":"JB6-116472"},"JB6"]
[null,"Mlotek Michael",{"$f":"VLOOKUP(B6141,[1]export_1465921594229!$D6142:$G15402,4,FALSE)","v":"NN9-117227"},"NN9"]
[null,"Modaffari Joseph",{"$f":"VLOOKUP(B6142,[1]export_1465921594229!$D6143:$G15403,4,FALSE)","v":"BL5-550219"},"BL5"]
[null,"Modelevsky Michael",{"$f":"VLOOKUP(B6143,[1]export_1465921594229!$D6144:$G15404,4,FALSE)","v":"CMV-124129"},"CMV"]
[null,"Modi Neilay",{"$f":"VLOOKUP(B6144,[1]export_1465921594229!$D6145:$G15405,4,FALSE)","v":"O79-120752"},"O79"]
[null,"Mody Piyush",{"$f":"VLOOKUP(B6145,[1]export_1465921594229!$D6146:$G15406,4,FALSE)","v":"DF5-118390"},"DF5"]
[null,"Moffet Benjamin",{"$f":"VLOOKUP(B6146,[1]export_1465921594229!$D6147:$G15407,4,FALSE)","v":"MI3-117023"},{"$f":"LEFT(C6146,3)","v":"MI3"}]
[null,"Mohamed Gad Sherif",{"$f":"VLOOKUP(B6147,[1]export_1465921594229!$D6148:$G15408,4,FALSE)","v":"KK0-116711"},"KK0"]
[null,"Moir David",{"$f":"VLOOKUP(B6148,[1]export_1465921594229!$D6149:$G15409,4,FALSE)","v":"FQ1-121312"},"FQ1"]
[null,"Moisan Danford",{"$f":"VLOOKUP(B6149,[1]export_1465921594229!$D6150:$G15410,4,FALSE)","v":"C89-115812"},"C89"]
[null,"Moisan Rene",{"$f":"VLOOKUP(B6150,[1]export_1465921594229!$D6151:$G15411,4,FALSE)","v":"B99-120232"},"B99"]
[null,"Molina Mario",{"$f":"VLOOKUP(B6151,[1]export_1465921594229!$D6152:$G15412,4,FALSE)","v":"N12-118085"},"N12"]
[null,"Molina Mario",{"$f":"VLOOKUP(B6152,[1]export_1465921594229!$D6153:$G15413,4,FALSE)","v":"BSL-123409"},"BSL"]
[null,"Molina Mario",{"$f":"VLOOKUP(B6153,[1]export_1465921594229!$D6154:$G15414,4,FALSE)","v":"QT5-119783"},"QT5"]
[null,"Monahan Sean",{"$f":"VLOOKUP(B6154,[1]export_1465921594229!$D6155:$G15415,4,FALSE)","v":"C9I-550755"},"C9I"]
[null,"Monast Sandra",{"$f":"VLOOKUP(B6155,[1]export_1465921594229!$D6156:$G15416,4,FALSE)","v":"PB4-115617"},"PB4"]
[null,"Monast Sandra",{"$f":"VLOOKUP(B6156,[1]export_1465921594229!$D6157:$G15417,4,FALSE)","v":"739-115623"},"739"]
[null,"Monast Sandra",{"$f":"VLOOKUP(B6157,[1]export_1465921594229!$D6158:$G15418,4,FALSE)","v":"OW8-115614"},"OW8"]
[null,"Monast Sandra",{"$f":"VLOOKUP(B6158,[1]export_1465921594229!$D6159:$G15419,4,FALSE)","v":"NN2-115613"},"NN2"]
[null,"Monast Sandra",{"$f":"VLOOKUP(B6159,[1]export_1465921594229!$D6160:$G15420,4,FALSE)","v":"PB3-115616"},"PB3"]
[null,"Monette Josee",{"$f":"VLOOKUP(B6160,[1]export_1465921594229!$D6161:$G15421,4,FALSE)","v":"542-122231"},"542"]
[null,"Monette Luc",{"$f":"VLOOKUP(B6161,[1]export_1465921594229!$D6162:$G15422,4,FALSE)","v":"L42-120909"},"L42"]
[null,"Monette Luc",{"$f":"VLOOKUP(B6162,[1]export_1465921594229!$D6163:$G15423,4,FALSE)","v":"O05-550069"},"O05"]
[null,"Monga(Pankaj Monga G Inc) Pankaj",{"$f":"VLOOKUP(B6163,[1]export_1465921594229!$D6164:$G15424,4,FALSE)","v":"OC1-117297"},"OC1"]
[null,"Mongeau Francine",{"$f":"VLOOKUP(B6164,[1]export_1465921594229!$D6165:$G15425,4,FALSE)","v":"W90-120500"},"W90"]
[null,"Mongrain Michel",{"$f":"VLOOKUP(B6165,[1]export_1465921594229!$D6166:$G15426,4,FALSE)","v":"K59-121099"},"K59"]
[null,"Mongrain Suzanne",{"$f":"VLOOKUP(B6166,[1]export_1465921594229!$D6167:$G15427,4,FALSE)","v":"W60-117980"},"W60"]
[null,"Monsef Mohammad (Johnny)",{"$f":"VLOOKUP(B6167,[1]export_1465921594229!$D6168:$G15428,4,FALSE)","v":"PA7-117459"},"PA7"]
[null,"Montana Letitia",{"$f":"VLOOKUP(B6168,[1]export_1465921594229!$D6169:$G15429,4,FALSE)","v":"JE6-116486"},"JE6"]
[null,"Monteiro Francisco",{"$f":"VLOOKUP(B6169,[1]export_1465921594229!$D6170:$G15430,4,FALSE)","v":"BKW-550866"},"BKW"]
[null,"Monteith Gregory-Marc",{"$f":"VLOOKUP(B6170,[1]export_1465921594229!$D6171:$G15431,4,FALSE)","v":"B41-121898"},"B41"]
[null,"Monteith John",{"$f":"VLOOKUP(B6171,[1]export_1465921594229!$D6172:$G15432,4,FALSE)","v":"B2W-550912"},"B2W"]
[null,"Monteleone Claudio",{"$f":"VLOOKUP(B6172,[1]export_1465921594229!$D6173:$G15433,4,FALSE)","v":"N39-120800"},"N39"]
[null,"Montero Arias Carlos Andres",{"$f":"VLOOKUP(B6173,[1]export_1465921594229!$D6174:$G15434,4,FALSE)","v":"CEK-123925"},"CEK"]
[null,"Montero Arias Carlos Andres",{"$f":"VLOOKUP(B6174,[1]export_1465921594229!$D6175:$G15435,4,FALSE)","v":"B4H-123674"},"B4H"]
[null,"Montminy Claude",{"$f":"VLOOKUP(B6175,[1]export_1465921594229!$D6176:$G15436,4,FALSE)","v":"Z84-118039"},"Z84"]
[null,"Montminy David",{"$f":"VLOOKUP(B6176,[1]export_1465921594229!$D6177:$G15437,4,FALSE)","v":"CJ0-660011"},"CJ0"]
[null,"Montminy David",{"$f":"VLOOKUP(B6177,[1]export_1465921594229!$D6178:$G15438,4,FALSE)","v":"T95-550074"},"T95"]
[null,"Montour Bryan",{"$f":"VLOOKUP(B6178,[1]export_1465921594229!$D6179:$G15439,4,FALSE)","v":"A88-120206"},"A88"]
[null,"Montour Gilles",{"$f":"VLOOKUP(B6179,[1]export_1465921594229!$D6180:$G15440,4,FALSE)","v":"AS4-118165"},"AS4"]
[null,"Montpetit Jean-Guy",{"$f":"VLOOKUP(B6180,[1]export_1465921594229!$D6181:$G15441,4,FALSE)","v":"497-120248"},"497"]
[null,"Montpetit Louis-Marie",{"$f":"VLOOKUP(B6181,[1]export_1465921594229!$D6182:$G15442,4,FALSE)","v":"L43-660047"},"L43"]
[null,"Montpetit Paul",{"$f":"VLOOKUP(B6182,[1]export_1465921594229!$D6183:$G15443,4,FALSE)","v":"966-115677"},"966"]
[null,"Montpetit Paul",{"$f":"VLOOKUP(B6183,[1]export_1465921594229!$D6184:$G15444,4,FALSE)","v":"BW9-118265"},"BW9"]
[null,"Montreuil Claude",{"$f":"VLOOKUP(B6184,[1]export_1465921594229!$D6185:$G15445,4,FALSE)","v":"X07-120020"},"X07"]
[null,"Monzerol Danny",{"$f":"VLOOKUP(B6185,[1]export_1465921594229!$D6186:$G15446,4,FALSE)","v":"EE2-121461"},"EE2"]
[null,"Monzerol Danny",{"$f":"VLOOKUP(B6186,[1]export_1465921594229!$D6187:$G15447,4,FALSE)","v":"CE4-660076"},"CE4"]
[null,"Moore Debrah",{"$f":"VLOOKUP(B6187,[1]export_1465921594229!$D6188:$G15448,4,FALSE)","v":"HL4-116218"},"HL4"]
[null,"Moore Devon",{"$f":"VLOOKUP(B6188,[1]export_1465921594229!$D6189:$G15449,4,FALSE)","v":"B3C-123646"},"B3C"]
[null,"Moore Drenna",{"$f":"VLOOKUP(B6189,[1]export_1465921594229!$D6190:$G15450,4,FALSE)","v":"B8S-123784"},"B8S"]
[null,"Moore Janette",{"$f":"VLOOKUP(B6190,[1]export_1465921594229!$D6191:$G15451,4,FALSE)","v":"DI3-118396"},"DI3"]
[null,"Morabet Tarik",{"$f":"VLOOKUP(B6191,[1]export_1465921594229!$D6192:$G15452,4,FALSE)","v":"BAD-123094"},"BAD"]
[null,"Moravec Richard",{"$f":"VLOOKUP(B6192,[1]export_1465921594229!$D6193:$G15453,4,FALSE)","v":"NE5-501145"},"NE5"]
[null,"Moravec Richard",{"$f":"VLOOKUP(B6193,[1]export_1465921594229!$D6194:$G15454,4,FALSE)","v":"BSH-123405"},"BSH"]
[null,"Moravec Richard",{"$f":"VLOOKUP(B6194,[1]export_1465921594229!$D6195:$G15455,4,FALSE)","v":"C7L-124638"},"C7L"]
[null,"Moravec Richard",{"$f":"VLOOKUP(B6195,[1]export_1465921594229!$D6196:$G15456,4,FALSE)","v":"N89-301145"},"N89"]
[null,"Moravec Richard",{"$f":"VLOOKUP(B6196,[1]export_1465921594229!$D6197:$G15457,4,FALSE)","v":"COI-124166"},"COI"]
[null,"Moreau Alain",{"$f":"VLOOKUP(B6197,[1]export_1465921594229!$D6198:$G15458,4,FALSE)","v":"FJ4-116024"},"FJ4"]
[null,"Moreau Alain",{"$f":"VLOOKUP(B6198,[1]export_1465921594229!$D6199:$G15459,4,FALSE)","v":"BX1-115808"},"BX1"]
[null,"Moreau Andre",{"$f":"VLOOKUP(B6199,[1]export_1465921594229!$D6200:$G15460,4,FALSE)","v":"AJ5-660419"},"AJ5"]
[null,"Moreau Christian",{"$f":"VLOOKUP(B6200,[1]export_1465921594229!$D6201:$G15461,4,FALSE)","v":"I80-121109"},"I80"]
[null,"Moreau Fernand",{"$f":"VLOOKUP(B6201,[1]export_1465921594229!$D6202:$G15462,4,FALSE)","v":"352-122376"},"352"]
[null,"Moreau Jacques",{"$f":"VLOOKUP(B6202,[1]export_1465921594229!$D6203:$G15463,4,FALSE)","v":"N07-029507"},"N07"]
[null,"Moreau Janine",{"$f":"VLOOKUP(B6203,[1]export_1465921594229!$D6204:$G15464,4,FALSE)","v":"489-120372"},"489"]
[null,"Moreau Julie",{"$f":"VLOOKUP(B6204,[1]export_1465921594229!$D6205:$G15465,4,FALSE)","v":"M93-119402"},"M93"]
[null,"Moreau Yves",{"$f":"VLOOKUP(B6205,[1]export_1465921594229!$D6206:$G15466,4,FALSE)","v":"BK4-118218"},"BK4"]
[null,"Morel Rene",{"$f":"VLOOKUP(B6206,[1]export_1465921594229!$D6207:$G15467,4,FALSE)","v":"D96-121486"},"D96"]
[null,"Morel Serge",{"$f":"VLOOKUP(B6207,[1]export_1465921594229!$D6208:$G15468,4,FALSE)","v":"Q10-117655"},"Q10"]
[null,"Moren Trent",{"$f":"VLOOKUP(B6208,[1]export_1465921594229!$D6209:$G15469,4,FALSE)","v":"CHH-123998"},"CHH"]
[null,"Moren Trent",{"$f":"VLOOKUP(B6209,[1]export_1465921594229!$D6210:$G15470,4,FALSE)","v":"CAH-123823"},"CAH"]
[null,"Morency Jacinthe",{"$f":"VLOOKUP(B6210,[1]export_1465921594229!$D6211:$G15471,4,FALSE)","v":"129-115694"},{"$f":"LEFT(C6210,3)","v":"129"}]
[null,"Morency Michel",{"$f":"VLOOKUP(B6211,[1]export_1465921594229!$D6212:$G15472,4,FALSE)","v":"H26-118969"},"H26"]
[null,"Morency Pierre",{"$f":"VLOOKUP(B6212,[1]export_1465921594229!$D6213:$G15473,4,FALSE)","v":"FS7-118776"},"FS7"]
[null,"Morgan James",{"$f":"VLOOKUP(B6213,[1]export_1465921594229!$D6214:$G15474,4,FALSE)","v":"DPT-125101"},"DPT"]
[null,"Morgan Kamila",{"$f":"VLOOKUP(B6214,[1]export_1465921594229!$D6215:$G15475,4,FALSE)","v":"D3H-125441"},"D3H"]
[null,"Morier Frederic",{"$f":"VLOOKUP(B6215,[1]export_1465921594229!$D6216:$G15476,4,FALSE)","v":"G76-118838"},"G76"]
[null,"Morin Andre",{"$f":"VLOOKUP(B6216,[1]export_1465921594229!$D6217:$G15477,4,FALSE)","v":"H57-121167"},"H57"]
[null,"Morin Claude",{"$f":"VLOOKUP(B6217,[1]export_1465921594229!$D6218:$G15478,4,FALSE)","v":"E52-118503"},"E52"]
[null,"Morin Daniel",{"$f":"VLOOKUP(B6218,[1]export_1465921594229!$D6219:$G15479,4,FALSE)","v":"CTM-660564"},"CTM"]
[null,"Morin Danielle",{"$f":"VLOOKUP(B6219,[1]export_1465921594229!$D6220:$G15480,4,FALSE)","v":"QW7-117812"},"QW7"]
[null,"Morin Fernand",{"$f":"VLOOKUP(B6220,[1]export_1465921594229!$D6221:$G15481,4,FALSE)","v":"G75-116065"},"G75"]
[null,"Morin Francine",{"$f":"VLOOKUP(B6221,[1]export_1465921594229!$D6222:$G15482,4,FALSE)","v":"G81-118839"},"G81"]
[null,"Morin François",{"$f":"VLOOKUP(B6222,[1]export_1465921594229!$D6223:$G15483,4,FALSE)","v":"W92-120501"},"W92"]
[null,"Morin Ghislain",{"$f":"VLOOKUP(B6223,[1]export_1465921594229!$D6224:$G15484,4,FALSE)","v":"H78-660063"},"H78"]
[null,"Morin Ghislain",{"$f":"VLOOKUP(B6224,[1]export_1465921594229!$D6225:$G15485,4,FALSE)","v":"M09-120854"},"M09"]
[null,"Morin Isabelle",{"$f":"VLOOKUP(B6225,[1]export_1465921594229!$D6226:$G15486,4,FALSE)","v":"K13-121074"},"K13"]
[null,"Morin Jacques",{"$f":"VLOOKUP(B6226,[1]export_1465921594229!$D6227:$G15487,4,FALSE)","v":"648-120299"},"648"]
[null,"Morin Jean",{"$f":"VLOOKUP(B6227,[1]export_1465921594229!$D6228:$G15488,4,FALSE)","v":"445-120347"},"445"]
[null,"Morin Jean",{"$f":"VLOOKUP(B6228,[1]export_1465921594229!$D6229:$G15489,4,FALSE)","v":"659-120301"},"659"]
[null,"Morin Jean-Francois",{"$f":"VLOOKUP(B6229,[1]export_1465921594229!$D6230:$G15490,4,FALSE)","v":"A5Q-122584"},"A5Q"]
[null,"Morin Jules",{"$f":"VLOOKUP(B6230,[1]export_1465921594229!$D6231:$G15491,4,FALSE)","v":"K36-660036"},"K36"]
[null,"Morin Lise",{"$f":"VLOOKUP(B6231,[1]export_1465921594229!$D6232:$G15492,4,FALSE)","v":"A11-122101"},"A11"]
[null,"Morin Marc",{"$f":"VLOOKUP(B6232,[1]export_1465921594229!$D6233:$G15493,4,FALSE)","v":"JC0-119184"},"JC0"]
[null,"Morin Mario",{"$f":"VLOOKUP(B6233,[1]export_1465921594229!$D6234:$G15494,4,FALSE)","v":"HW6-116282"},"HW6"]
[null,"Morin Michel",{"$f":"VLOOKUP(B6234,[1]export_1465921594229!$D6235:$G15495,4,FALSE)","v":"FS1-116035"},"FS1"]
[null,"Morin Micheline",{"$f":"VLOOKUP(B6235,[1]export_1465921594229!$D6236:$G15496,4,FALSE)","v":"O10-117275"},"O10"]
[null,"Morin Miguel",{"$f":"VLOOKUP(B6236,[1]export_1465921594229!$D6237:$G15497,4,FALSE)","v":"EI8-121470"},"EI8"]
[null,"Morin Nancy",{"$f":"VLOOKUP(B6237,[1]export_1465921594229!$D6238:$G15498,4,FALSE)","v":"C1W-124503"},"C1W"]
[null,"Morin Nicole",{"$f":"VLOOKUP(B6238,[1]export_1465921594229!$D6239:$G15499,4,FALSE)","v":"K40-121090"},"K40"]
[null,"Morin Normand",{"$f":"VLOOKUP(B6239,[1]export_1465921594229!$D6240:$G15500,4,FALSE)","v":"DLZ-125005"},"DLZ"]
[null,"Morin Patrick",{"$f":"VLOOKUP(B6240,[1]export_1465921594229!$D6241:$G15501,4,FALSE)","v":"H22-116149"},"H22"]
[null,"Morin Paul",{"$f":"VLOOKUP(B6241,[1]export_1465921594229!$D6242:$G15502,4,FALSE)","v":"J03-119168"},"J03"]
[null,"Morin Philippe",{"$f":"VLOOKUP(B6242,[1]export_1465921594229!$D6243:$G15503,4,FALSE)","v":"CE9-118289"},"CE9"]
[null,"Morin Pierre H.",{"$f":"VLOOKUP(B6243,[1]export_1465921594229!$D6244:$G15504,4,FALSE)","v":"M06-116948"},"M06"]
[null,"Morin Richard",{"$f":"VLOOKUP(B6244,[1]export_1465921594229!$D6245:$G15505,4,FALSE)","v":"FA6-660529"},"FA6"]
[null,"Morin Richard",{"$f":"VLOOKUP(B6245,[1]export_1465921594229!$D6246:$G15506,4,FALSE)","v":"BQ9-121750"},"BQ9"]
[null,"Morin Suzanne",{"$f":"VLOOKUP(B6246,[1]export_1465921594229!$D6247:$G15507,4,FALSE)","v":"B12-121881"},"B12"]
[null,"Morinville Steven",{"$f":"VLOOKUP(B6247,[1]export_1465921594229!$D6248:$G15508,4,FALSE)","v":"476-120364"},"476"]
[null,"Morissette Julie",{"$f":"VLOOKUP(B6248,[1]export_1465921594229!$D6249:$G15509,4,FALSE)","v":"N27-119454"},"N27"]
[null,"Morissette Maryse",{"$f":"VLOOKUP(B6249,[1]export_1465921594229!$D6250:$G15510,4,FALSE)","v":"BV9-121767"},"BV9"]
[null,"Morissette Maryse",{"$f":"VLOOKUP(B6250,[1]export_1465921594229!$D6251:$G15511,4,FALSE)","v":"M75-119393"},"M75"]
[null,"Morissette Nathalie",{"$f":"VLOOKUP(B6251,[1]export_1465921594229!$D6252:$G15512,4,FALSE)","v":"DOR-125073"},"DOR"]
[null,"Morissette Yan",{"$f":"VLOOKUP(B6252,[1]export_1465921594229!$D6253:$G15513,4,FALSE)","v":"K60-121100"},"K60"]
[null,"Morlese Paula",{"$f":"VLOOKUP(B6253,[1]export_1465921594229!$D6254:$G15514,4,FALSE)","v":"BMG-123293"},"BMG"]
[null,"Morneau Frederic",{"$f":"VLOOKUP(B6254,[1]export_1465921594229!$D6255:$G15515,4,FALSE)","v":"565-120271"},"565"]
[null,"Morneau Sylvie",{"$f":"VLOOKUP(B6255,[1]export_1465921594229!$D6256:$G15516,4,FALSE)","v":"490-120373"},"490"]
[null,"Morneau Sylvie",{"$f":"VLOOKUP(B6256,[1]export_1465921594229!$D6257:$G15517,4,FALSE)","v":"E63-121443"},"E63"]
[null,"Morris Jacob",{"$f":"VLOOKUP(B6257,[1]export_1465921594229!$D6258:$G15518,4,FALSE)","v":"B7T-123761"},"B7T"]
[null,"Morris Michael",{"$f":"VLOOKUP(B6258,[1]export_1465921594229!$D6259:$G15519,4,FALSE)","v":"FZ6-118057"},"FZ6"]
[null,"Morrissette Sylvie",{"$f":"VLOOKUP(B6259,[1]export_1465921594229!$D6260:$G15520,4,FALSE)","v":"467-120360"},"467"]
[null,"Morrissette Sylvie",{"$f":"VLOOKUP(B6260,[1]export_1465921594229!$D6261:$G15521,4,FALSE)","v":"236-122421"},"236"]
[null,"Morrow Jeffrey",{"$f":"VLOOKUP(B6261,[1]export_1465921594229!$D6262:$G15522,4,FALSE)","v":"QK7-117714"},"QK7"]
[null,"Morteau Stephane",{"$f":"VLOOKUP(B6262,[1]export_1465921594229!$D6263:$G15523,4,FALSE)","v":"LC8-116818"},"LC8"]
[null,"Mortelliti Salvatore",{"$f":"VLOOKUP(B6263,[1]export_1465921594229!$D6264:$G15524,4,FALSE)","v":"IX1-116436"},"IX1"]
[null,"Mortera Belinda",{"$f":"VLOOKUP(B6264,[1]export_1465921594229!$D6265:$G15525,4,FALSE)","v":"CEG-123921"},"CEG"]
[null,"Mortera Belinda",{"$f":"VLOOKUP(B6265,[1]export_1465921594229!$D6266:$G15526,4,FALSE)","v":"MP6-117071"},"MP6"]
[null,"Morton Brian",{"$f":"VLOOKUP(B6266,[1]export_1465921594229!$D6267:$G15527,4,FALSE)","v":"C9C-124679"},"C9C"]
[null,"Moryoussef Sophie",{"$f":"VLOOKUP(B6267,[1]export_1465921594229!$D6268:$G15528,4,FALSE)","v":"DFW-124853"},"DFW"]
[null,"Moss Emily",{"$f":"VLOOKUP(B6268,[1]export_1465921594229!$D6269:$G15529,4,FALSE)","v":"MG1-117013"},"MG1"]
[null,"Moti Kanwaljit",{"$f":"VLOOKUP(B6269,[1]export_1465921594229!$D6270:$G15530,4,FALSE)","v":"B8A-123768"},"B8A"]
[null,"Moti Kanwaljit",{"$f":"VLOOKUP(B6270,[1]export_1465921594229!$D6271:$G15531,4,FALSE)","v":"NH7-117188"},"NH7"]
[null,"Mottashed Bradley",{"$f":"VLOOKUP(B6271,[1]export_1465921594229!$D6272:$G15532,4,FALSE)","v":"DHI-124890"},"DHI"]
[null,"Mouhteros Helen",{"$f":"VLOOKUP(B6272,[1]export_1465921594229!$D6273:$G15533,4,FALSE)","v":"QM8-660265"},"QM8"]
[null,"Moulds David",{"$f":"VLOOKUP(B6273,[1]export_1465921594229!$D6274:$G15534,4,FALSE)","v":"AL6-121940"},"AL6"]
[null,"Moulton(Manion Wilkins&A) Jacqueline",{"$f":"VLOOKUP(B6274,[1]export_1465921594229!$D6275:$G15535,4,FALSE)","v":"NC1-117156"},{"$f":"LEFT(C6274,3)","v":"NC1"}]
[null,"Mourieras Jean-Francois",{"$f":"VLOOKUP(B6275,[1]export_1465921594229!$D6276:$G15536,4,FALSE)","v":"C75-121704"},"C75"]
[null,"Moushi Wisam",{"$f":"VLOOKUP(B6276,[1]export_1465921594229!$D6277:$G15537,4,FALSE)","v":"C8C-124655"},"C8C"]
[null,"Moussaoui Mohand",{"$f":"VLOOKUP(B6277,[1]export_1465921594229!$D6278:$G15538,4,FALSE)","v":"AM1-121941"},"AM1"]
[null,"Moutenet Jean-Philibert",{"$f":"VLOOKUP(B6278,[1]export_1465921594229!$D6279:$G15539,4,FALSE)","v":"CCU-123887"},"CCU"]
[null,"Movick Sabrina",{"$f":"VLOOKUP(B6279,[1]export_1465921594229!$D6280:$G15540,4,FALSE)","v":"C2M-124519"},"C2M"]
[null,"Moyer Ian",{"$f":"VLOOKUP(B6280,[1]export_1465921594229!$D6281:$G15541,4,FALSE)","v":"C0P-124470"},"C0P"]
[null,"Moz Julio",{"$f":"VLOOKUP(B6281,[1]export_1465921594229!$D6282:$G15542,4,FALSE)","v":"CZJ-124439"},"CZJ"]
[null,"Mridha Md Alamgir",{"$f":"VLOOKUP(B6282,[1]export_1465921594229!$D6283:$G15543,4,FALSE)","v":"DKB-124956"},"DKB"]
[null,"Mridha Md Alamgir",{"$f":"VLOOKUP(B6283,[1]export_1465921594229!$D6284:$G15544,4,FALSE)","v":"DU3-118442"},"DU3"]
[null,"Mridha Md Alamgir",{"$f":"VLOOKUP(B6284,[1]export_1465921594229!$D6285:$G15545,4,FALSE)","v":"CBJ-123850"},"CBJ"]
[null,"Mridha Md Alamgir",{"$f":"VLOOKUP(B6285,[1]export_1465921594229!$D6286:$G15546,4,FALSE)","v":"CBF-123846"},"CBF"]
[null,"Mridha Md Alamgir",{"$f":"VLOOKUP(B6286,[1]export_1465921594229!$D6287:$G15547,4,FALSE)","v":"BUE-301726"},"BUE"]
[null,"Mridha Md Alamgir",{"$f":"VLOOKUP(B6287,[1]export_1465921594229!$D6288:$G15548,4,FALSE)","v":"FX2-118802"},"FX2"]
[null,"Mridha Md Alamgir",{"$f":"VLOOKUP(B6288,[1]export_1465921594229!$D6289:$G15549,4,FALSE)","v":"CBM-123853"},"CBM"]
[null,"Muhlbock Christopher",{"$f":"VLOOKUP(B6289,[1]export_1465921594229!$D6290:$G15550,4,FALSE)","v":"CUD-124308"},"CUD"]
[null,"Mukelova Tamila",{"$f":"VLOOKUP(B6290,[1]export_1465921594229!$D6291:$G15551,4,FALSE)","v":"BG3-115774"},"BG3"]
[null,"Mukhija Paramjeet Kaur",{"$f":"VLOOKUP(B6291,[1]export_1465921594229!$D6292:$G15552,4,FALSE)","v":"RD4-117879"},"RD4"]
[null,"Mula Cruz Zeus",{"$f":"VLOOKUP(B6292,[1]export_1465921594229!$D6293:$G15553,4,FALSE)","v":"BYM-123534"},"BYM"]
[null,"Mulders Anne-Marie",{"$f":"VLOOKUP(B6293,[1]export_1465921594229!$D6294:$G15554,4,FALSE)","v":"C9O-124691"},"C9O"]
[null,"Muller Eric",{"$f":"VLOOKUP(B6294,[1]export_1465921594229!$D6295:$G15555,4,FALSE)","v":"DV7-115920"},"DV7"]
[null,"Muller Viola",{"$f":"VLOOKUP(B6295,[1]export_1465921594229!$D6296:$G15556,4,FALSE)","v":"CA2-121725"},"CA2"]
[null,"Muller Viola",{"$f":"VLOOKUP(B6296,[1]export_1465921594229!$D6297:$G15557,4,FALSE)","v":"CA3-118275"},"CA3"]
[null,"Mun Yee Ho Jane",{"$f":"VLOOKUP(B6297,[1]export_1465921594229!$D6298:$G15558,4,FALSE)","v":"GI9-121250"},"GI9"]
[null,"Munger Andree",{"$f":"VLOOKUP(B6298,[1]export_1465921594229!$D6299:$G15559,4,FALSE)","v":"477-120365"},"477"]
[null,"Munger Daniel",{"$f":"VLOOKUP(B6299,[1]export_1465921594229!$D6300:$G15560,4,FALSE)","v":"F21-118647"},"F21"]
[null,"Munger Nicholas",{"$f":"VLOOKUP(B6300,[1]export_1465921594229!$D6301:$G15561,4,FALSE)","v":"OW4-117420"},"OW4"]
[null,"Mungiello Pamela",{"$f":"VLOOKUP(B6301,[1]export_1465921594229!$D6302:$G15562,4,FALSE)","v":"NW0-117255"},"NW0"]
[null,"Munjal Devender",{"$f":"VLOOKUP(B6302,[1]export_1465921594229!$D6303:$G15563,4,FALSE)","v":"KC3-116655"},"KC3"]
[null,"Munn Jody",{"$f":"VLOOKUP(B6303,[1]export_1465921594229!$D6304:$G15564,4,FALSE)","v":"HR4-119063"},"HR4"]
[null,"Munn Michel",{"$f":"VLOOKUP(B6304,[1]export_1465921594229!$D6305:$G15565,4,FALSE)","v":"HP3-116239"},"HP3"]
[null,"Munro Kevin",{"$f":"VLOOKUP(B6305,[1]export_1465921594229!$D6306:$G15566,4,FALSE)","v":"B7Z-123767"},"B7Z"]
[null,"Munro Robert",{"$f":"VLOOKUP(B6306,[1]export_1465921594229!$D6307:$G15567,4,FALSE)","v":"CCZ-123892"},"CCZ"]
[null,"Munro Robert",{"$f":"VLOOKUP(B6307,[1]export_1465921594229!$D6308:$G15568,4,FALSE)","v":"HW9-121210"},"HW9"]
[null,"Munshi Sunny",{"$f":"VLOOKUP(B6308,[1]export_1465921594229!$D6309:$G15569,4,FALSE)","v":"R60-119807"},"R60"]
[null,"Muralla Guillerma",{"$f":"VLOOKUP(B6309,[1]export_1465921594229!$D6310:$G15570,4,FALSE)","v":"II1-116363"},"II1"]
[null,"Murano Mark Mario",{"$f":"VLOOKUP(B6310,[1]export_1465921594229!$D6311:$G15571,4,FALSE)","v":"OS5-117399"},"OS5"]
[null,"Murchie Vincent",{"$f":"VLOOKUP(B6311,[1]export_1465921594229!$D6312:$G15572,4,FALSE)","v":"A5W-550831"},"A5W"]
[null,"Murdoch Andrew",{"$f":"VLOOKUP(B6312,[1]export_1465921594229!$D6313:$G15573,4,FALSE)","v":"DT2-115915"},"DT2"]
[null,"Murphy Arthur",{"$f":"VLOOKUP(B6313,[1]export_1465921594229!$D6314:$G15574,4,FALSE)","v":"EA9-550452"},"EA9"]
[null,"Murphy Donald",{"$f":"VLOOKUP(B6314,[1]export_1465921594229!$D6315:$G15575,4,FALSE)","v":"I13-550299"},"I13"]
[null,"Murphy Johanne",{"$f":"VLOOKUP(B6315,[1]export_1465921594229!$D6316:$G15576,4,FALSE)","v":"MJ1-117028"},"MJ1"]
[null,"Murray Anny",{"$f":"VLOOKUP(B6316,[1]export_1465921594229!$D6317:$G15577,4,FALSE)","v":"NE6-120838"},"NE6"]
[null,"Murray David",{"$f":"VLOOKUP(B6317,[1]export_1465921594229!$D6318:$G15578,4,FALSE)","v":"BMO-502279"},"BMO"]
[null,"Murray Langis",{"$f":"VLOOKUP(B6318,[1]export_1465921594229!$D6319:$G15579,4,FALSE)","v":"JB3-116470"},"JB3"]
[null,"Murray Lise",{"$f":"VLOOKUP(B6319,[1]export_1465921594229!$D6320:$G15580,4,FALSE)","v":"DH0-115888"},"DH0"]
[null,"Murray Michael",{"$f":"VLOOKUP(B6320,[1]export_1465921594229!$D6321:$G15581,4,FALSE)","v":"CK4-118317"},"CK4"]
[null,"Murray (Thom & Asso. Fin) Pauline",{"$f":"VLOOKUP(B6321,[1]export_1465921594229!$D6322:$G15582,4,FALSE)","v":"OO8-117367"},"OO8"]
[null,"Murti Rohini",{"$f":"VLOOKUP(B6322,[1]export_1465921594229!$D6323:$G15583,4,FALSE)","v":"CZ5-121552"},"CZ5"]
[null,"Murti Rohini",{"$f":"VLOOKUP(B6323,[1]export_1465921594229!$D6324:$G15584,4,FALSE)","v":"HB3-121183"},"HB3"]
[null,"MURTI SANDHYA",{"$f":"VLOOKUP(B6324,[1]export_1465921594229!$D6325:$G15585,4,FALSE)","v":"EU8-118617"},"EU8"]
[null,"Mussar Monique",{"$f":"VLOOKUP(B6325,[1]export_1465921594229!$D6326:$G15586,4,FALSE)","v":"DW9-550708"},"DW9"]
[null,"Mussel Katia",{"$f":"VLOOKUP(B6326,[1]export_1465921594229!$D6327:$G15587,4,FALSE)","v":"Q60-120693"},"Q60"]
[null,"Muthiah Sathiyendra",{"$f":"VLOOKUP(B6327,[1]export_1465921594229!$D6328:$G15588,4,FALSE)","v":"PT8-117615"},"PT8"]
[null,"Muttalib Abdul",{"$f":"VLOOKUP(B6328,[1]export_1465921594229!$D6329:$G15589,4,FALSE)","v":"AB6-118102"},"AB6"]
[null,"Myatt Patricia",{"$f":"VLOOKUP(B6329,[1]export_1465921594229!$D6330:$G15590,4,FALSE)","v":"ID4-116332"},"ID4"]
[null,"Myers Gary",{"$f":"VLOOKUP(B6330,[1]export_1465921594229!$D6331:$G15591,4,FALSE)","v":"DVO-125246"},"DVO"]
[null,"Myers Melissa",{"$f":"VLOOKUP(B6331,[1]export_1465921594229!$D6332:$G15592,4,FALSE)","v":"FP7-116031"},"FP7"]
[null,"Myles John David",{"$f":"VLOOKUP(B6332,[1]export_1465921594229!$D6333:$G15593,4,FALSE)","v":"BR8-118244"},"BR8"]
[null,"Myles Richard",{"$f":"VLOOKUP(B6333,[1]export_1465921594229!$D6334:$G15594,4,FALSE)","v":"DGA-124857"},"DGA"]
[null,"Mylvaganam Vijitha",{"$f":"VLOOKUP(B6334,[1]export_1465921594229!$D6335:$G15595,4,FALSE)","v":"CIU-124035"},"CIU"]
[null,"Myrand Alain",{"$f":"VLOOKUP(B6335,[1]export_1465921594229!$D6336:$G15596,4,FALSE)","v":"CC4-115818"},"CC4"]
[null,"Myre Jean-Marc",{"$f":"VLOOKUP(B6336,[1]export_1465921594229!$D6337:$G15597,4,FALSE)","v":"M39-119380"},"M39"]
[null,"N. Trudel Nicole",{"$f":"VLOOKUP(B6337,[1]export_1465921594229!$D6338:$G15598,4,FALSE)","v":"705-115641"},"705"]
[null,"N. Trudel Nicole",{"$f":"VLOOKUP(B6338,[1]export_1465921594229!$D6339:$G15599,4,FALSE)","v":"394-122279"},{"$f":"LEFT(C6338,3)","v":"394"}]
[null,"Nabi Mohammad Rafi",{"$f":"VLOOKUP(B6339,[1]export_1465921594229!$D6340:$G15600,4,FALSE)","v":"QR4-117765"},"QR4"]
[null,"Nachar Stephanie",{"$f":"VLOOKUP(B6340,[1]export_1465921594229!$D6341:$G15601,4,FALSE)","v":{"$error":"#N/A"}},{"$error":"#N/A"}]
[null,"Nadarajah Balaratnam",{"$f":"VLOOKUP(B6341,[1]export_1465921594229!$D6342:$G15602,4,FALSE)","v":"NZ5-117269"},"NZ5"]
[null,"Nadarajah Hariharan",{"$f":"VLOOKUP(B6342,[1]export_1465921594229!$D6343:$G15603,4,FALSE)","v":"C5V-124597"},"C5V"]
[null,"Nadarajah Jayakumar",{"$f":"VLOOKUP(B6343,[1]export_1465921594229!$D6344:$G15604,4,FALSE)","v":"OZ5-550850"},"OZ5"]
[null,"Nadarajah Rajeswaran Raj",{"$f":"VLOOKUP(B6344,[1]export_1465921594229!$D6345:$G15605,4,FALSE)","v":"NF1-117172"},"NF1"]
[null,"Nadarajah Ramanan",{"$f":"VLOOKUP(B6345,[1]export_1465921594229!$D6346:$G15606,4,FALSE)","v":"CDE-123897"},"CDE"]
[null,"Nadarajah Sutharsiny",{"$f":"VLOOKUP(B6346,[1]export_1465921594229!$D6347:$G15607,4,FALSE)","v":"QM2-117724"},"QM2"]
[null,"Nadeau Carl",{"$f":"VLOOKUP(B6347,[1]export_1465921594229!$D6348:$G15608,4,FALSE)","v":"NB1-660197"},"NB1"]
[null,"Nadeau Eric",{"$f":"VLOOKUP(B6348,[1]export_1465921594229!$D6349:$G15609,4,FALSE)","v":"IS5-660352"},"IS5"]
[null,"Nadeau Ghislain",{"$f":"VLOOKUP(B6349,[1]export_1465921594229!$D6350:$G15610,4,FALSE)","v":"DP1-121538"},"DP1"]
[null,"Nadeau Gilles",{"$f":"VLOOKUP(B6350,[1]export_1465921594229!$D6351:$G15611,4,FALSE)","v":"703-122080"},"703"]
[null,"Nadeau Guy",{"$f":"VLOOKUP(B6351,[1]export_1465921594229!$D6352:$G15612,4,FALSE)","v":"HZ7-116290"},"HZ7"]
[null,"Nadeau Guylaine",{"$f":"VLOOKUP(B6352,[1]export_1465921594229!$D6353:$G15613,4,FALSE)","v":"S26-120616"},"S26"]
[null,"Nadeau Guylaine",{"$f":"VLOOKUP(B6353,[1]export_1465921594229!$D6354:$G15614,4,FALSE)","v":"298-122334"},"298"]
[null,"Nadeau Jacques R.",{"$f":"VLOOKUP(B6354,[1]export_1465921594229!$D6355:$G15615,4,FALSE)","v":"B32-120223"},"B32"]
[null,"Nadeau Julien",{"$f":"VLOOKUP(B6355,[1]export_1465921594229!$D6356:$G15616,4,FALSE)","v":"AR2-118160"},"AR2"]
[null,"Nadeau Marylene",{"$f":"VLOOKUP(B6356,[1]export_1465921594229!$D6357:$G15617,4,FALSE)","v":{"$error":"#N/A"}},{"$error":"#N/A"}]
[null,"Nadeau Pierre-Luc",{"$f":"VLOOKUP(B6357,[1]export_1465921594229!$D6358:$G15618,4,FALSE)","v":"PD8-117482"},"PD8"]
[null,"Nadeau Raymond",{"$f":"VLOOKUP(B6358,[1]export_1465921594229!$D6359:$G15619,4,FALSE)","v":"V21-120577"},"V21"]
[null,"Nader Hind (Heidi)",{"$f":"VLOOKUP(B6359,[1]export_1465921594229!$D6360:$G15620,4,FALSE)","v":"LC2-116814"},"LC2"]
[null,"Nadesu Vasantharani",{"$f":"VLOOKUP(B6360,[1]export_1465921594229!$D6361:$G15621,4,FALSE)","v":"OS4-550806"},"OS4"]
[null,"Nadon Maurice",{"$f":"VLOOKUP(B6361,[1]export_1465921594229!$D6362:$G15622,4,FALSE)","v":"CP1-121642"},"CP1"]
[null,"Nagarajah Thirukumaran",{"$f":"VLOOKUP(B6362,[1]export_1465921594229!$D6363:$G15623,4,FALSE)","v":"PJ0-117529"},"PJ0"]
[null,"Nagendrarajah Subramaniam",{"$f":"VLOOKUP(B6363,[1]export_1465921594229!$D6364:$G15624,4,FALSE)","v":"BQR-123365"},"BQR"]
[null,"Nagle Paul",{"$f":"VLOOKUP(B6364,[1]export_1465921594229!$D6365:$G15625,4,FALSE)","v":"N76-120827"},"N76"]
[null,"Nagra Jasbir",{"$f":"VLOOKUP(B6365,[1]export_1465921594229!$D6366:$G15626,4,FALSE)","v":"FD5-118697"},"FD5"]
[null,"Nagra Rajdeep Kaur",{"$f":"VLOOKUP(B6366,[1]export_1465921594229!$D6367:$G15627,4,FALSE)","v":"MX0-117122"},"MX0"]
[null,"Nagy Thomas",{"$f":"VLOOKUP(B6367,[1]export_1465921594229!$D6368:$G15628,4,FALSE)","v":"JV3-119223"},"JV3"]
[null,"Nagy Thomas",{"$f":"VLOOKUP(B6368,[1]export_1465921594229!$D6369:$G15629,4,FALSE)","v":"KR3-119269"},"KR3"]
[null,"Naipaul Vedyam",{"$f":"VLOOKUP(B6369,[1]export_1465921594229!$D6370:$G15630,4,FALSE)","v":"C7H-124634"},"C7H"]
[null,"Najjar Roy",{"$f":"VLOOKUP(B6370,[1]export_1465921594229!$D6371:$G15631,4,FALSE)","v":"C17-120238"},"C17"]
[null,"Nakeenthiran Niruban",{"$f":"VLOOKUP(B6371,[1]export_1465921594229!$D6372:$G15632,4,FALSE)","v":"OL6-117354"},"OL6"]
[null,"Nallathamby Pirabagaran",{"$f":"VLOOKUP(B6372,[1]export_1465921594229!$D6373:$G15633,4,FALSE)","v":"OM5-117358"},"OM5"]
[null,"Nalliah Arulpirabakar",{"$f":"VLOOKUP(B6373,[1]export_1465921594229!$D6374:$G15634,4,FALSE)","v":"DBH-124736"},"DBH"]
[null,"Namu Hilda",{"$f":"VLOOKUP(B6374,[1]export_1465921594229!$D6375:$G15635,4,FALSE)","v":"JQ5-116556"},"JQ5"]
[null,"Nanda Kulvinder Singh",{"$f":"VLOOKUP(B6375,[1]export_1465921594229!$D6376:$G15636,4,FALSE)","v":"B4F-123672"},"B4F"]
[null,"Nandakumar Paramjothy",{"$f":"VLOOKUP(B6376,[1]export_1465921594229!$D6377:$G15637,4,FALSE)","v":"PI4-117523"},"PI4"]
[null,"Nandlal Keith",{"$f":"VLOOKUP(B6377,[1]export_1465921594229!$D6378:$G15638,4,FALSE)","v":"D2T-125427"},"D2T"]
[null,"Nanithamby Selvarajah",{"$f":"VLOOKUP(B6378,[1]export_1465921594229!$D6379:$G15639,4,FALSE)","v":"B3R-123659"},"B3R"]
[null,"Nantel Pierre",{"$f":"VLOOKUP(B6379,[1]export_1465921594229!$D6380:$G15640,4,FALSE)","v":"O91-660497"},"O91"]
[null,"Nanthakumar Sukitha",{"$f":"VLOOKUP(B6380,[1]export_1465921594229!$D6381:$G15641,4,FALSE)","v":"JX8-116610"},"JX8"]
[null,"Napky Sandra",{"$f":"VLOOKUP(B6381,[1]export_1465921594229!$D6382:$G15642,4,FALSE)","v":"965-115676"},"965"]
[null,"Napky Sandra",{"$f":"VLOOKUP(B6382,[1]export_1465921594229!$D6383:$G15643,4,FALSE)","v":"OU4-117406"},"OU4"]
[null,"Napky Sandra",{"$f":"VLOOKUP(B6383,[1]export_1465921594229!$D6384:$G15644,4,FALSE)","v":"349-122373"},"349"]
[null,"Narayan Shansha",{"$f":"VLOOKUP(B6384,[1]export_1465921594229!$D6385:$G15645,4,FALSE)","v":"C5S-124594"},"C5S"]
[null,"Nareau Richard",{"$f":"VLOOKUP(B6385,[1]export_1465921594229!$D6386:$G15646,4,FALSE)","v":"DE9-118053"},"DE9"]
[null,"Narwani Shyamsunder",{"$f":"VLOOKUP(B6386,[1]export_1465921594229!$D6387:$G15647,4,FALSE)","v":"KV3-116771"},"KV3"]
[null,"Nascimento Ayrom",{"$f":"VLOOKUP(B6387,[1]export_1465921594229!$D6388:$G15648,4,FALSE)","v":"T17-120646"},"T17"]
[null,"Nasiri Bijan",{"$f":"VLOOKUP(B6388,[1]export_1465921594229!$D6389:$G15649,4,FALSE)","v":"B0G-123577"},"B0G"]
[null,"Nasrat Elie",{"$f":"VLOOKUP(B6389,[1]export_1465921594229!$D6390:$G15650,4,FALSE)","v":"D9Z-124702"},"D9Z"]
[null,"Nassif Raymond",{"$f":"VLOOKUP(B6390,[1]export_1465921594229!$D6391:$G15651,4,FALSE)","v":"261-120430"},"261"]
[null,"Naugler Grant",{"$f":"VLOOKUP(B6391,[1]export_1465921594229!$D6392:$G15652,4,FALSE)","v":"O33-120737"},"O33"]
[null,"Nault Alain",{"$f":"VLOOKUP(B6392,[1]export_1465921594229!$D6393:$G15653,4,FALSE)","v":"U63-119936"},"U63"]
[null,"Nault Cedric",{"$f":"VLOOKUP(B6393,[1]export_1465921594229!$D6394:$G15654,4,FALSE)","v":"V64-118094"},"V64"]
[null,"Navarathinam Rathimala",{"$f":"VLOOKUP(B6394,[1]export_1465921594229!$D6395:$G15655,4,FALSE)","v":"MM7-550724"},"MM7"]
[null,"Navaratnam Manimohan",{"$f":"VLOOKUP(B6395,[1]export_1465921594229!$D6396:$G15656,4,FALSE)","v":"DX1-121429"},"DX1"]
[null,"Nayak Nilmani",{"$f":"VLOOKUP(B6396,[1]export_1465921594229!$D6397:$G15657,4,FALSE)","v":"NO3-117229"},"NO3"]
[null,"Nazare Pedro",{"$f":"VLOOKUP(B6397,[1]export_1465921594229!$D6398:$G15658,4,FALSE)","v":"B8H-123775"},"B8H"]
[null,"Nazari Parimah",{"$f":"VLOOKUP(B6398,[1]export_1465921594229!$D6399:$G15659,4,FALSE)","v":"FL0-118738"},"FL0"]
[null,"Ndemanou Passo Leodine Sorelle",{"$f":"VLOOKUP(B6399,[1]export_1465921594229!$D6400:$G15660,4,FALSE)","v":"CZY-124453"},"CZY"]
[null,"Ndzana Jean-Marie  Floriant",{"$f":"VLOOKUP(B6400,[1]export_1465921594229!$D6401:$G15661,4,FALSE)","v":"HS6-116257"},"HS6"]
[null,"Neamtiu Aurel",{"$f":"VLOOKUP(B6401,[1]export_1465921594229!$D6402:$G15662,4,FALSE)","v":"IF7-660577"},"IF7"]
[null,"Neddow Dwight",{"$f":"VLOOKUP(B6402,[1]export_1465921594229!$D6403:$G15663,4,FALSE)","v":"KU8-116768"},{"$f":"LEFT(C6402,3)","v":"KU8"}]
[null,"Neely Shannon",{"$f":"VLOOKUP(B6403,[1]export_1465921594229!$D6404:$G15664,4,FALSE)","v":"BHL-550842"},"BHL"]
[null,"Neleishkumar Sharmila",{"$f":"VLOOKUP(B6404,[1]export_1465921594229!$D6405:$G15665,4,FALSE)","v":"PL0-117545"},"PL0"]
[null,"Nelson Edeline",{"$f":"VLOOKUP(B6405,[1]export_1465921594229!$D6406:$G15666,4,FALSE)","v":"G87-121230"},"G87"]
[null,"Nembhard Steve",{"$f":"VLOOKUP(B6406,[1]export_1465921594229!$D6407:$G15667,4,FALSE)","v":"OZ2-550770"},"OZ2"]
[null,"Nemeth Steven",{"$f":"VLOOKUP(B6407,[1]export_1465921594229!$D6408:$G15668,4,FALSE)","v":"L31-116797"},"L31"]
[null,"Nephin Linda",{"$f":"VLOOKUP(B6408,[1]export_1465921594229!$D6409:$G15669,4,FALSE)","v":"QV8-117804"},"QV8"]
[null,"Neron Denis",{"$f":"VLOOKUP(B6409,[1]export_1465921594229!$D6410:$G15670,4,FALSE)","v":"HA1-118999"},"HA1"]
[null,"Neufeld Chantel",{"$f":"VLOOKUP(B6410,[1]export_1465921594229!$D6411:$G15671,4,FALSE)","v":"S65-120629"},"S65"]
[null,"Neufeld John",{"$f":"VLOOKUP(B6411,[1]export_1465921594229!$D6412:$G15672,4,FALSE)","v":"GU5-116124"},"GU5"]
[null,"Neves Carla",{"$f":"VLOOKUP(B6412,[1]export_1465921594229!$D6413:$G15673,4,FALSE)","v":"PC5-117471"},"PC5"]
[null,"Neveu Benoit",{"$f":"VLOOKUP(B6413,[1]export_1465921594229!$D6414:$G15674,4,FALSE)","v":"HF9-116186"},"HF9"]
[null,"Neveu Hugo",{"$f":"VLOOKUP(B6414,[1]export_1465921594229!$D6415:$G15675,4,FALSE)","v":"V76-660389"},"V76"]
[null,"Neveu Isabelle",{"$f":"VLOOKUP(B6415,[1]export_1465921594229!$D6416:$G15676,4,FALSE)","v":"604-122138"},"604"]
[null,"Neveu Martin",{"$f":"VLOOKUP(B6416,[1]export_1465921594229!$D6417:$G15677,4,FALSE)","v":"M56-660594"},"M56"]
[null,"Neveu Simon",{"$f":"VLOOKUP(B6417,[1]export_1465921594229!$D6418:$G15678,4,FALSE)","v":"OQ5-660731"},"OQ5"]
[null,"Nevokshonoff John",{"$f":"VLOOKUP(B6418,[1]export_1465921594229!$D6419:$G15679,4,FALSE)","v":"N00-119448"},"N00"]
[null,"Nevokshonoff John",{"$f":"VLOOKUP(B6419,[1]export_1465921594229!$D6420:$G15680,4,FALSE)","v":"BQW-123370"},"BQW"]
[null,"Nevokshonoff John",{"$f":"VLOOKUP(B6420,[1]export_1465921594229!$D6421:$G15681,4,FALSE)","v":"HB8-026492"},"HB8"]
[null,"Newell Ronie",{"$f":"VLOOKUP(B6421,[1]export_1465921594229!$D6422:$G15682,4,FALSE)","v":"GP8-118059"},"GP8"]
[null,"Ng Andrew",{"$f":"VLOOKUP(B6422,[1]export_1465921594229!$D6423:$G15683,4,FALSE)","v":"AK8-118132"},"AK8"]
[null,"Ngalot Alicia",{"$f":"VLOOKUP(B6423,[1]export_1465921594229!$D6424:$G15684,4,FALSE)","v":"BIO-123219"},"BIO"]
[null,"Ngalot Michael",{"$f":"VLOOKUP(B6424,[1]export_1465921594229!$D6425:$G15685,4,FALSE)","v":"BIN-123218"},"BIN"]
[null,"Nguy Duc Thien",{"$f":"VLOOKUP(B6425,[1]export_1465921594229!$D6426:$G15686,4,FALSE)","v":"QT6-117786"},"QT6"]
[null,"Nguy Duc Thien",{"$f":"VLOOKUP(B6426,[1]export_1465921594229!$D6427:$G15687,4,FALSE)","v":"CEP-123930"},"CEP"]
[null,"Nguyen An",{"$f":"VLOOKUP(B6427,[1]export_1465921594229!$D6428:$G15688,4,FALSE)","v":"EJ0-118570"},"EJ0"]
[null,"Nguyen Antoine",{"$f":"VLOOKUP(B6428,[1]export_1465921594229!$D6429:$G15689,4,FALSE)","v":"C35-121680"},"C35"]
[null,"Nguyen Cam",{"$f":"VLOOKUP(B6429,[1]export_1465921594229!$D6430:$G15690,4,FALSE)","v":"DM8-118410"},"DM8"]
[null,"Nguyen Dao",{"$f":"VLOOKUP(B6430,[1]export_1465921594229!$D6431:$G15691,4,FALSE)","v":"LO4-116886"},"LO4"]
[null,"Nguyen Le",{"$f":"VLOOKUP(B6431,[1]export_1465921594229!$D6432:$G15692,4,FALSE)","v":"A9E-123071"},"A9E"]
[null,"Nguyen Quan",{"$f":"VLOOKUP(B6432,[1]export_1465921594229!$D6433:$G15693,4,FALSE)","v":"OR8-117392"},"OR8"]
[null,"Nguyen Trong V",{"$f":"VLOOKUP(B6433,[1]export_1465921594229!$D6434:$G15694,4,FALSE)","v":"CTT-124298"},"CTT"]
[null,"Nguyen Yann",{"$f":"VLOOKUP(B6434,[1]export_1465921594229!$D6435:$G15695,4,FALSE)","v":"R73-660328"},"R73"]
[null,"Nguyen Yann",{"$f":"VLOOKUP(B6435,[1]export_1465921594229!$D6436:$G15696,4,FALSE)","v":"CQ7-120131"},"CQ7"]
[null,"Nhan Kyle",{"$f":"VLOOKUP(B6436,[1]export_1465921594229!$D6437:$G15697,4,FALSE)","v":"BPR-123351"},"BPR"]
[null,"Nhan Phuoc",{"$f":"VLOOKUP(B6437,[1]export_1465921594229!$D6438:$G15698,4,FALSE)","v":"HM5-116226"},"HM5"]
[null,"Nhan Tran",{"$f":"VLOOKUP(B6438,[1]export_1465921594229!$D6439:$G15699,4,FALSE)","v":"IW0-116431"},"IW0"]
[null,"Niaraki Asli Iliad",{"$f":"VLOOKUP(B6439,[1]export_1465921594229!$D6440:$G15700,4,FALSE)","v":"FC1-118689"},"FC1"]
[null,"Niaraki-Asli Izad",{"$f":"VLOOKUP(B6440,[1]export_1465921594229!$D6441:$G15701,4,FALSE)","v":"CPG-124190"},"CPG"]
[null,"Nichilo George",{"$f":"VLOOKUP(B6441,[1]export_1465921594229!$D6442:$G15702,4,FALSE)","v":"HX1-121211"},"HX1"]
[null,"Nichols Ian",{"$f":"VLOOKUP(B6442,[1]export_1465921594229!$D6443:$G15703,4,FALSE)","v":"DSJ-125167"},"DSJ"]
[null,"Nichols (Nichols Wealth) Scott",{"$f":"VLOOKUP(B6443,[1]export_1465921594229!$D6444:$G15704,4,FALSE)","v":"BDI-123117"},"BDI"]
[null,"Nicholson C/O Vision Fina Natalya",{"$f":"VLOOKUP(B6444,[1]export_1465921594229!$D6445:$G15705,4,FALSE)","v":"JA7-550605"},"JA7"]
[null,"Nicholson(Nicholson Weal) Richard",{"$f":"VLOOKUP(B6445,[1]export_1465921594229!$D6446:$G15706,4,FALSE)","v":"RD5-117880"},"RD5"]
[null,"Nicole Odilon",{"$f":"VLOOKUP(B6446,[1]export_1465921594229!$D6447:$G15707,4,FALSE)","v":"391-122278"},"391"]
[null,"Nicole Sylvain",{"$f":"VLOOKUP(B6447,[1]export_1465921594229!$D6448:$G15708,4,FALSE)","v":"B7K-123752"},"B7K"]
[null,"Niita Teruko",{"$f":"VLOOKUP(B6448,[1]export_1465921594229!$D6449:$G15709,4,FALSE)","v":"GM1-118905"},"GM1"]
[null,"Nijjar Amarjit Singh",{"$f":"VLOOKUP(B6449,[1]export_1465921594229!$D6450:$G15710,4,FALSE)","v":"GC6-116078"},"GC6"]
[null,"Nijjar Jasvir",{"$f":"VLOOKUP(B6450,[1]export_1465921594229!$D6451:$G15711,4,FALSE)","v":"BAQ-550051"},"BAQ"]
[null,"Nijjar Narinderjit",{"$f":"VLOOKUP(B6451,[1]export_1465921594229!$D6452:$G15712,4,FALSE)","v":"BCL-550431"},"BCL"]
[null,"Nikalaichyk Alena",{"$f":"VLOOKUP(B6452,[1]export_1465921594229!$D6453:$G15713,4,FALSE)","v":"QO0-117741"},"QO0"]
[null,"Nillo Aida",{"$f":"VLOOKUP(B6453,[1]export_1465921594229!$D6454:$G15714,4,FALSE)","v":"EI1-118565"},"EI1"]
[null,"Nillo Aida",{"$f":"VLOOKUP(B6454,[1]export_1465921594229!$D6455:$G15715,4,FALSE)","v":"CN5-118330"},"CN5"]
[null,"Niquette Gilles",{"$f":"VLOOKUP(B6455,[1]export_1465921594229!$D6456:$G15716,4,FALSE)","v":"T43-117913"},"T43"]
[null,"Nixon Cameron Robert",{"$f":"VLOOKUP(B6456,[1]export_1465921594229!$D6457:$G15717,4,FALSE)","v":"AG0-122051"},"AG0"]
[null,"Nixon Cameron Robert",{"$f":"VLOOKUP(B6457,[1]export_1465921594229!$D6458:$G15718,4,FALSE)","v":"AB2-122034"},"AB2"]
[null,"Nixon Faustin",{"$f":"VLOOKUP(B6458,[1]export_1465921594229!$D6459:$G15719,4,FALSE)","v":"FC5-118691"},"FC5"]
[null,"Njovana Farai",{"$f":"VLOOKUP(B6459,[1]export_1465921594229!$D6460:$G15720,4,FALSE)","v":"DQW-125130"},"DQW"]
[null,"Njovana Farai",{"$f":"VLOOKUP(B6460,[1]export_1465921594229!$D6461:$G15721,4,FALSE)","v":"CTV-124300"},"CTV"]
[null,"Nkansah Kingsley",{"$f":"VLOOKUP(B6461,[1]export_1465921594229!$D6462:$G15722,4,FALSE)","v":"GW4-116132"},"GW4"]
[null,"Nnabuihe Lawrencene",{"$f":"VLOOKUP(B6462,[1]export_1465921594229!$D6463:$G15723,4,FALSE)","v":"BZ0-121774"},"BZ0"]
[null,"Nobert Claude",{"$f":"VLOOKUP(B6463,[1]export_1465921594229!$D6464:$G15724,4,FALSE)","v":"EM0-660739"},"EM0"]
[null,"Noel Larcen",{"$f":"VLOOKUP(B6464,[1]export_1465921594229!$D6465:$G15725,4,FALSE)","v":"Q88-117668"},"Q88"]
[null,"Noel Marcel",{"$f":"VLOOKUP(B6465,[1]export_1465921594229!$D6466:$G15726,4,FALSE)","v":"S85-120639"},"S85"]
[null,"Noel Robert",{"$f":"VLOOKUP(B6466,[1]export_1465921594229!$D6467:$G15727,4,FALSE)","v":"EL3-118576"},{"$f":"LEFT(C6466,3)","v":"EL3"}]
[null,"Noel Yvon",{"$f":"VLOOKUP(B6467,[1]export_1465921594229!$D6468:$G15728,4,FALSE)","v":"X99-120051"},"X99"]
[null,"Noël Chantal",{"$f":"VLOOKUP(B6468,[1]export_1465921594229!$D6469:$G15729,4,FALSE)","v":"AU6-115751"},"AU6"]
[null,"Noël Rejean",{"$f":"VLOOKUP(B6469,[1]export_1465921594229!$D6470:$G15730,4,FALSE)","v":{"$error":"#N/A"}},{"$error":"#N/A"}]
[null,"Nolet Veronique",{"$f":"VLOOKUP(B6470,[1]export_1465921594229!$D6471:$G15731,4,FALSE)","v":"178-120412"},"178"]
[null,"Nolin Stephane",{"$f":"VLOOKUP(B6471,[1]export_1465921594229!$D6472:$G15732,4,FALSE)","v":"D82-121608"},"D82"]
[null,"Nordstrom Trevor",{"$f":"VLOOKUP(B6472,[1]export_1465921594229!$D6473:$G15733,4,FALSE)","v":"JJ8-116516"},"JJ8"]
[null,"Normand Claude",{"$f":"VLOOKUP(B6473,[1]export_1465921594229!$D6474:$G15734,4,FALSE)","v":"D76-121607"},"D76"]
[null,"Normand Claude",{"$f":"VLOOKUP(B6474,[1]export_1465921594229!$D6475:$G15735,4,FALSE)","v":"W88-120499"},"W88"]
[null,"Normand Claude",{"$f":"VLOOKUP(B6475,[1]export_1465921594229!$D6476:$G15736,4,FALSE)","v":"Z42-118022"},"Z42"]
[null,"Normand Lina",{"$f":"VLOOKUP(B6476,[1]export_1465921594229!$D6477:$G15737,4,FALSE)","v":"456-120354"},"456"]
[null,"Normand Marie-Josee",{"$f":"VLOOKUP(B6477,[1]export_1465921594229!$D6478:$G15738,4,FALSE)","v":"OX4-117426"},"OX4"]
[null,"Normand Valerie",{"$f":"VLOOKUP(B6478,[1]export_1465921594229!$D6479:$G15739,4,FALSE)","v":"EX2-121381"},"EX2"]
[null,"Normandeau Marc",{"$f":"VLOOKUP(B6479,[1]export_1465921594229!$D6480:$G15740,4,FALSE)","v":"F28-660673"},"F28"]
[null,"Normandin Helene",{"$f":"VLOOKUP(B6480,[1]export_1465921594229!$D6481:$G15741,4,FALSE)","v":"543-122232"},"543"]
[null,"Noronha Patrick",{"$f":"VLOOKUP(B6481,[1]export_1465921594229!$D6482:$G15742,4,FALSE)","v":"CVS-124347"},"CVS"]
[null,"Northcott Mary",{"$f":"VLOOKUP(B6482,[1]export_1465921594229!$D6483:$G15743,4,FALSE)","v":"DV0-121426"},"DV0"]
[null,"Noufi Houssemeddine",{"$f":"VLOOKUP(B6483,[1]export_1465921594229!$D6484:$G15744,4,FALSE)","v":"PV4-117629"},"PV4"]
[null,"Nour Yacob",{"$f":"VLOOKUP(B6484,[1]export_1465921594229!$D6485:$G15745,4,FALSE)","v":"IC9-119124"},"IC9"]
[null,"Noury Pierre",{"$f":"VLOOKUP(B6485,[1]export_1465921594229!$D6486:$G15746,4,FALSE)","v":"HI2-119033"},"HI2"]
[null,"Novak-Garrod Lynne",{"$f":"VLOOKUP(B6486,[1]export_1465921594229!$D6487:$G15747,4,FALSE)","v":"OT9-117403"},"OT9"]
[null,"Nowicki Marek",{"$f":"VLOOKUP(B6487,[1]export_1465921594229!$D6488:$G15748,4,FALSE)","v":"CQJ-550358"},"CQJ"]
[null,"Nuckle Guy",{"$f":"VLOOKUP(B6488,[1]export_1465921594229!$D6489:$G15749,4,FALSE)","v":"EJ9-121473"},"EJ9"]
[null,"Nugent Conroy",{"$f":"VLOOKUP(B6489,[1]export_1465921594229!$D6490:$G15750,4,FALSE)","v":"LC7-116817"},"LC7"]
[null,"Nunes Franca Miguel",{"$f":"VLOOKUP(B6490,[1]export_1465921594229!$D6491:$G15751,4,FALSE)","v":"BEA-502302"},"BEA"]
[null,"Nunez Agrifina",{"$f":"VLOOKUP(B6491,[1]export_1465921594229!$D6492:$G15752,4,FALSE)","v":"DMC-125007"},"DMC"]
[null,"Nunez Iriarte Hecsy Nuyr",{"$f":"VLOOKUP(B6492,[1]export_1465921594229!$D6493:$G15753,4,FALSE)","v":"S73-119860"},"S73"]
[null,"Nuss Robert",{"$f":"VLOOKUP(B6493,[1]export_1465921594229!$D6494:$G15754,4,FALSE)","v":"HW1-116279"},"HW1"]
[null,"Nyarko Samuel",{"$f":"VLOOKUP(B6494,[1]export_1465921594229!$D6495:$G15755,4,FALSE)","v":"QL7-119775"},"QL7"]
[null,"Nyarko Samuel",{"$f":"VLOOKUP(B6495,[1]export_1465921594229!$D6496:$G15756,4,FALSE)","v":"QM1-119776"},"QM1"]
[null,"Nywening Travis",{"$f":"VLOOKUP(B6496,[1]export_1465921594229!$D6497:$G15757,4,FALSE)","v":"BBZ-502280"},"BBZ"]
[null,"Nzokira Blaise",{"$f":"VLOOKUP(B6497,[1]export_1465921594229!$D6498:$G15758,4,FALSE)","v":"C9W-124699"},"C9W"]
[null,"Oakes Myriam",{"$f":"VLOOKUP(B6498,[1]export_1465921594229!$D6499:$G15759,4,FALSE)","v":"DJA-124931"},"DJA"]
[null,"Oancea Ioan",{"$f":"VLOOKUP(B6499,[1]export_1465921594229!$D6500:$G15760,4,FALSE)","v":"X47-120517"},"X47"]
[null,"Oberoi Neeraj",{"$f":"VLOOKUP(B6500,[1]export_1465921594229!$D6501:$G15761,4,FALSE)","v":"CE8-121738"},"CE8"]
[null,"Oberoi Sanjeev",{"$f":"VLOOKUP(B6501,[1]export_1465921594229!$D6502:$G15762,4,FALSE)","v":"KU1-116764"},"KU1"]
[null,"Oberoi Shiv",{"$f":"VLOOKUP(B6502,[1]export_1465921594229!$D6503:$G15763,4,FALSE)","v":"CE6-121736"},"CE6"]
[null,"Oberoi Shivani",{"$f":"VLOOKUP(B6503,[1]export_1465921594229!$D6504:$G15764,4,FALSE)","v":"CE7-121737"},"CE7"]
[null,"O'Callaghan Angele",{"$f":"VLOOKUP(B6504,[1]export_1465921594229!$D6505:$G15765,4,FALSE)","v":"B9V-123811"},"B9V"]
[null,"Ococi Ocir",{"$f":"VLOOKUP(B6505,[1]export_1465921594229!$D6506:$G15766,4,FALSE)","v":"X34-120514"},"X34"]
[null,"O'Donnell Cynthia",{"$f":"VLOOKUP(B6506,[1]export_1465921594229!$D6507:$G15767,4,FALSE)","v":"EJ5-121472"},"EJ5"]
[null,"Odulio Sheila",{"$f":"VLOOKUP(B6507,[1]export_1465921594229!$D6508:$G15768,4,FALSE)","v":"C3N-124545"},"C3N"]
[null,"Ogalino Estrella",{"$f":"VLOOKUP(B6508,[1]export_1465921594229!$D6509:$G15769,4,FALSE)","v":"MC3-550701"},"MC3"]
[null,"Ogilvie Brian",{"$f":"VLOOKUP(B6509,[1]export_1465921594229!$D6510:$G15770,4,FALSE)","v":"DW1-118449"},"DW1"]
[null,"Ogouyemi Valere",{"$f":"VLOOKUP(B6510,[1]export_1465921594229!$D6511:$G15771,4,FALSE)","v":"CJU-124059"},"CJU"]
[null,"Ogundipe Olayinka",{"$f":"VLOOKUP(B6511,[1]export_1465921594229!$D6512:$G15772,4,FALSE)","v":"CLV-124109"},"CLV"]
[null,"Oguntala John",{"$f":"VLOOKUP(B6512,[1]export_1465921594229!$D6513:$G15773,4,FALSE)","v":"HM4-116225"},"HM4"]
[null,"Ohlmann Stephen",{"$f":"VLOOKUP(B6513,[1]export_1465921594229!$D6514:$G15774,4,FALSE)","v":"D3C-125436"},"D3C"]
[null,"Ohonsi Patrick",{"$f":"VLOOKUP(B6514,[1]export_1465921594229!$D6515:$G15775,4,FALSE)","v":"EK7-115959"},"EK7"]
[null,"O'Kane Brianne J.",{"$f":"VLOOKUP(B6515,[1]export_1465921594229!$D6516:$G15776,4,FALSE)","v":"OH3-117329"},"OH3"]
[null,"O'Keefe John",{"$f":"VLOOKUP(B6516,[1]export_1465921594229!$D6517:$G15777,4,FALSE)","v":"BA0-118187"},"BA0"]
[null,"Olagunju Babatope",{"$f":"VLOOKUP(B6517,[1]export_1465921594229!$D6518:$G15778,4,FALSE)","v":"DII-124913"},"DII"]
[null,"Olaniyi Johnson",{"$f":"VLOOKUP(B6518,[1]export_1465921594229!$D6519:$G15779,4,FALSE)","v":"FE0-116008"},"FE0"]
[null,"Olatiregun Joseph",{"$f":"VLOOKUP(B6519,[1]export_1465921594229!$D6520:$G15780,4,FALSE)","v":"ER1-118601"},"ER1"]
[null,"Olivares-Araica Douglas J.",{"$f":"VLOOKUP(B6520,[1]export_1465921594229!$D6521:$G15781,4,FALSE)","v":"CEO-123929"},"CEO"]
[null,"Olivares-Araica Douglas J.",{"$f":"VLOOKUP(B6521,[1]export_1465921594229!$D6522:$G15782,4,FALSE)","v":"B4I-123675"},"B4I"]
[null,"Oliveira Helena",{"$f":"VLOOKUP(B6522,[1]export_1465921594229!$D6523:$G15783,4,FALSE)","v":"S12-660215"},"S12"]
[null,"Oliver Beverly",{"$f":"VLOOKUP(B6523,[1]export_1465921594229!$D6524:$G15784,4,FALSE)","v":"OT2-119598"},"OT2"]
[null,"Oliver Beverly",{"$f":"VLOOKUP(B6524,[1]export_1465921594229!$D6525:$G15785,4,FALSE)","v":"OT1-550895"},"OT1"]
[null,"Oliver Dean",{"$f":"VLOOKUP(B6525,[1]export_1465921594229!$D6526:$G15786,4,FALSE)","v":"OI4-550896"},"OI4"]
[null,"Oliver Dean",{"$f":"VLOOKUP(B6526,[1]export_1465921594229!$D6527:$G15787,4,FALSE)","v":"OI5-119567"},"OI5"]
[null,"Olivier Ghislaine",{"$f":"VLOOKUP(B6527,[1]export_1465921594229!$D6528:$G15788,4,FALSE)","v":"K76-120986"},"K76"]
[null,"Olivier Sati",{"$f":"VLOOKUP(B6528,[1]export_1465921594229!$D6529:$G15789,4,FALSE)","v":"D49-121588"},"D49"]
[null,"Olmos Marco Antonio",{"$f":"VLOOKUP(B6529,[1]export_1465921594229!$D6530:$G15790,4,FALSE)","v":"HZ9-660239"},"HZ9"]
[null,"Olshansky Inessa",{"$f":"VLOOKUP(B6530,[1]export_1465921594229!$D6531:$G15791,4,FALSE)","v":"CJ2-118312"},{"$f":"LEFT(C6530,3)","v":"CJ2"}]
[null,"Olver Cecilia",{"$f":"VLOOKUP(B6531,[1]export_1465921594229!$D6532:$G15792,4,FALSE)","v":"RB7-117867"},"RB7"]
[null,"Omoregie Davies",{"$f":"VLOOKUP(B6532,[1]export_1465921594229!$D6533:$G15793,4,FALSE)","v":"GW9-116135"},"GW9"]
[null,"Omoth Jr. Calvin",{"$f":"VLOOKUP(B6533,[1]export_1465921594229!$D6534:$G15794,4,FALSE)","v":"B3S-123660"},"B3S"]
[null,"Onah Godfrey",{"$f":"VLOOKUP(B6534,[1]export_1465921594229!$D6535:$G15795,4,FALSE)","v":"EJ2-115956"},"EJ2"]
[null,"O'Neil Guy",{"$f":"VLOOKUP(B6535,[1]export_1465921594229!$D6536:$G15796,4,FALSE)","v":"X85-120047"},"X85"]
[null,"O'Neill Bonnee",{"$f":"VLOOKUP(B6536,[1]export_1465921594229!$D6537:$G15797,4,FALSE)","v":"PP3-117581"},"PP3"]
[null,"Ong Sheena",{"$f":"VLOOKUP(B6537,[1]export_1465921594229!$D6538:$G15798,4,FALSE)","v":"IW8-116434"},"IW8"]
[null,"Ong Veronica",{"$f":"VLOOKUP(B6538,[1]export_1465921594229!$D6539:$G15799,4,FALSE)","v":"DBZ-124754"},"DBZ"]
[null,"Onishi Keiko",{"$f":"VLOOKUP(B6539,[1]export_1465921594229!$D6540:$G15800,4,FALSE)","v":"GD1-118860"},"GD1"]
[null,"Onofrychuk Dean",{"$f":"VLOOKUP(B6540,[1]export_1465921594229!$D6541:$G15801,4,FALSE)","v":"BML-502292"},"BML"]
[null,"Onwuanimkwu Martins",{"$f":"VLOOKUP(B6541,[1]export_1465921594229!$D6542:$G15802,4,FALSE)","v":"BRS-123392"},"BRS"]
[null,"Oracheski Linda",{"$f":"VLOOKUP(B6542,[1]export_1465921594229!$D6543:$G15803,4,FALSE)","v":"OJ3-117335"},"OJ3"]
[null,"Orankan Adam",{"$f":"VLOOKUP(B6543,[1]export_1465921594229!$D6544:$G15804,4,FALSE)","v":"KI5-116700"},"KI5"]
[null,"Orbillo Danilo",{"$f":"VLOOKUP(B6544,[1]export_1465921594229!$D6545:$G15805,4,FALSE)","v":"A8L-123053"},"A8L"]
[null,"Ordona Arceli",{"$f":"VLOOKUP(B6545,[1]export_1465921594229!$D6546:$G15806,4,FALSE)","v":"BKR-123258"},"BKR"]
[null,"O'Regan Doreen",{"$f":"VLOOKUP(B6546,[1]export_1465921594229!$D6547:$G15807,4,FALSE)","v":"BNW-026098"},"BNW"]
[null,"O'Regan Doreen",{"$f":"VLOOKUP(B6547,[1]export_1465921594229!$D6548:$G15808,4,FALSE)","v":"DLO-124995"},"DLO"]
[null,"Orense Robelita",{"$f":"VLOOKUP(B6548,[1]export_1465921594229!$D6549:$G15809,4,FALSE)","v":"OH0-117326"},"OH0"]
[null,"Orfali Paul",{"$f":"VLOOKUP(B6549,[1]export_1465921594229!$D6550:$G15810,4,FALSE)","v":"B5Z-123716"},"B5Z"]
[null,"Orfanakos Samuel",{"$f":"VLOOKUP(B6550,[1]export_1465921594229!$D6551:$G15811,4,FALSE)","v":"CAG-123822"},"CAG"]
[null,"O'Rourke Alfred",{"$f":"VLOOKUP(B6551,[1]export_1465921594229!$D6552:$G15812,4,FALSE)","v":"PH9-119649"},"PH9"]
[null,"O'Rourke Alfred",{"$f":"VLOOKUP(B6552,[1]export_1465921594229!$D6553:$G15813,4,FALSE)","v":"PH8-119648"},"PH8"]
[null,"Orpiada Marvin Agustin",{"$f":"VLOOKUP(B6553,[1]export_1465921594229!$D6554:$G15814,4,FALSE)","v":"B0L-123580"},"B0L"]
[null,"Osborne Noah",{"$f":"VLOOKUP(B6554,[1]export_1465921594229!$D6555:$G15815,4,FALSE)","v":"DMG-125011"},"DMG"]
[null,"Ostare Kenneth",{"$f":"VLOOKUP(B6555,[1]export_1465921594229!$D6556:$G15816,4,FALSE)","v":"T90-501401"},"T90"]
[null,"Ostare William J",{"$f":"VLOOKUP(B6556,[1]export_1465921594229!$D6557:$G15817,4,FALSE)","v":"N71-500318"},"N71"]
[null,"Ostare William J",{"$f":"VLOOKUP(B6557,[1]export_1465921594229!$D6558:$G15818,4,FALSE)","v":"918-115665"},"918"]
[null,"Ostare William J",{"$f":"VLOOKUP(B6558,[1]export_1465921594229!$D6559:$G15819,4,FALSE)","v":"JP9-550601"},"JP9"]
[null,"Ostare William J",{"$f":"VLOOKUP(B6559,[1]export_1465921594229!$D6560:$G15820,4,FALSE)","v":"FN1-300318"},"FN1"]
[null,"Oster Darryl",{"$f":"VLOOKUP(B6560,[1]export_1465921594229!$D6561:$G15821,4,FALSE)","v":"GI1-118885"},"GI1"]
[null,"Ostiguy Henri-Paul",{"$f":"VLOOKUP(B6561,[1]export_1465921594229!$D6562:$G15822,4,FALSE)","v":"CSP-124272"},"CSP"]
[null,"Ostridge Carl",{"$f":"VLOOKUP(B6562,[1]export_1465921594229!$D6563:$G15823,4,FALSE)","v":"HJ8-121194"},"HJ8"]
[null,"Otal Mukhtiar",{"$f":"VLOOKUP(B6563,[1]export_1465921594229!$D6564:$G15824,4,FALSE)","v":"JD4-116481"},"JD4"]
[null,"Otto Isabel",{"$f":"VLOOKUP(B6564,[1]export_1465921594229!$D6565:$G15825,4,FALSE)","v":"X96-550173"},"X96"]
[null,"Ouellet Bernard",{"$f":"VLOOKUP(B6565,[1]export_1465921594229!$D6566:$G15826,4,FALSE)","v":"198-122396"},"198"]
[null,"Ouellet Denis",{"$f":"VLOOKUP(B6566,[1]export_1465921594229!$D6567:$G15827,4,FALSE)","v":"QW2-660611"},"QW2"]
[null,"Ouellet Denis",{"$f":"VLOOKUP(B6567,[1]export_1465921594229!$D6568:$G15828,4,FALSE)","v":"C1Q-124497"},"C1Q"]
[null,"Ouellet Germain",{"$f":"VLOOKUP(B6568,[1]export_1465921594229!$D6569:$G15829,4,FALSE)","v":"E02-115928"},"E02"]
[null,"Ouellet Germain",{"$f":"VLOOKUP(B6569,[1]export_1465921594229!$D6570:$G15830,4,FALSE)","v":"E03-121436"},"E03"]
[null,"Ouellet Isabelle",{"$f":"VLOOKUP(B6570,[1]export_1465921594229!$D6571:$G15831,4,FALSE)","v":"Z33-118046"},"Z33"]
[null,"Ouellet Kathleen",{"$f":"VLOOKUP(B6571,[1]export_1465921594229!$D6572:$G15832,4,FALSE)","v":"V83-120467"},"V83"]
[null,"Ouellet Marc-Andre",{"$f":"VLOOKUP(B6572,[1]export_1465921594229!$D6573:$G15833,4,FALSE)","v":"QQ6-117759"},"QQ6"]
[null,"Ouellet Marie-Eve",{"$f":"VLOOKUP(B6573,[1]export_1465921594229!$D6574:$G15834,4,FALSE)","v":"F91-121418"},"F91"]
[null,"Ouellet Mario",{"$f":"VLOOKUP(B6574,[1]export_1465921594229!$D6575:$G15835,4,FALSE)","v":"D02-115868"},"D02"]
[null,"Ouellet Martin",{"$f":"VLOOKUP(B6575,[1]export_1465921594229!$D6576:$G15836,4,FALSE)","v":"K90-120994"},"K90"]
[null,"Ouellet Matthieu",{"$f":"VLOOKUP(B6576,[1]export_1465921594229!$D6577:$G15837,4,FALSE)","v":"CXD-124384"},"CXD"]
[null,"Ouellet Noella",{"$f":"VLOOKUP(B6577,[1]export_1465921594229!$D6578:$G15838,4,FALSE)","v":"AM5-660694"},"AM5"]
[null,"Ouellet Pauline",{"$f":"VLOOKUP(B6578,[1]export_1465921594229!$D6579:$G15839,4,FALSE)","v":"J05-119170"},"J05"]
[null,"Ouellet Roland",{"$f":"VLOOKUP(B6579,[1]export_1465921594229!$D6580:$G15840,4,FALSE)","v":"HR8-116251"},"HR8"]
[null,"Ouellette Claude",{"$f":"VLOOKUP(B6580,[1]export_1465921594229!$D6581:$G15841,4,FALSE)","v":"G42-116055"},"G42"]
[null,"Ouellette Kandace",{"$f":"VLOOKUP(B6581,[1]export_1465921594229!$D6582:$G15842,4,FALSE)","v":"IL1-119138"},"IL1"]
[null,"Ouellette Nicole",{"$f":"VLOOKUP(B6582,[1]export_1465921594229!$D6583:$G15843,4,FALSE)","v":"COY-600095"},"COY"]
[null,"Ouellette Pierre",{"$f":"VLOOKUP(B6583,[1]export_1465921594229!$D6584:$G15844,4,FALSE)","v":"K85-120991"},"K85"]
[null,"Ouellette Rejean",{"$f":"VLOOKUP(B6584,[1]export_1465921594229!$D6585:$G15845,4,FALSE)","v":"066-120383"},"066"]
[null,"Ougaf Khalid",{"$f":"VLOOKUP(B6585,[1]export_1465921594229!$D6586:$G15846,4,FALSE)","v":"CL0-121621"},"CL0"]
[null,"Ouhachi Fadela",{"$f":"VLOOKUP(B6586,[1]export_1465921594229!$D6587:$G15847,4,FALSE)","v":{"$error":"#N/A"}},{"$error":"#N/A"}]
[null,"Ouimet Hugues",{"$f":"VLOOKUP(B6587,[1]export_1465921594229!$D6588:$G15848,4,FALSE)","v":"514-122212"},"514"]
[null,"Ouimet Jacques",{"$f":"VLOOKUP(B6588,[1]export_1465921594229!$D6589:$G15849,4,FALSE)","v":"W35-550130"},"W35"]
[null,"Ouimet Michel",{"$f":"VLOOKUP(B6589,[1]export_1465921594229!$D6590:$G15850,4,FALSE)","v":"K26-121081"},"K26"]
[null,"Ouimet Yves",{"$f":"VLOOKUP(B6590,[1]export_1465921594229!$D6591:$G15851,4,FALSE)","v":"GF6-121244"},"GF6"]
[null,"Oulton Rebecca",{"$f":"VLOOKUP(B6591,[1]export_1465921594229!$D6592:$G15852,4,FALSE)","v":"GP0-118923"},"GP0"]
[null,"Outhavong Outhixay",{"$f":"VLOOKUP(B6592,[1]export_1465921594229!$D6593:$G15853,4,FALSE)","v":"JH5-116503"},"JH5"]
[null,"Owen Jocelyn",{"$f":"VLOOKUP(B6593,[1]export_1465921594229!$D6594:$G15854,4,FALSE)","v":"P34-120655"},"P34"]
[null,"Owolagba Michael",{"$f":"VLOOKUP(B6594,[1]export_1465921594229!$D6595:$G15855,4,FALSE)","v":"AW3-121990"},{"$f":"LEFT(C6594,3)","v":"AW3"}]
[null,"Paat Rosalino",{"$f":"VLOOKUP(B6595,[1]export_1465921594229!$D6596:$G15856,4,FALSE)","v":"GU7-118947"},"GU7"]
[null,"Pabla Swarn Singh",{"$f":"VLOOKUP(B6596,[1]export_1465921594229!$D6597:$G15857,4,FALSE)","v":"AD2-122040"},"AD2"]
[null,"Pacquiao Teodorico",{"$f":"VLOOKUP(B6597,[1]export_1465921594229!$D6598:$G15858,4,FALSE)","v":"HJ2-121192"},"HJ2"]
[null,"Padilla Roberto",{"$f":"VLOOKUP(B6598,[1]export_1465921594229!$D6599:$G15859,4,FALSE)","v":"PO1-117569"},"PO1"]
[null,"Padua Jonathan",{"$f":"VLOOKUP(B6599,[1]export_1465921594229!$D6600:$G15860,4,FALSE)","v":"DZL-125343"},"DZL"]
[null,"Pagala Lourdes",{"$f":"VLOOKUP(B6600,[1]export_1465921594229!$D6601:$G15861,4,FALSE)","v":"PD3-117478"},"PD3"]
[null,"Page Jacques",{"$f":"VLOOKUP(B6601,[1]export_1465921594229!$D6602:$G15862,4,FALSE)","v":"J72-121164"},"J72"]
[null,"Page Luc",{"$f":"VLOOKUP(B6602,[1]export_1465921594229!$D6603:$G15863,4,FALSE)","v":"CS2-660696"},"CS2"]
[null,"Page Nicole",{"$f":"VLOOKUP(B6603,[1]export_1465921594229!$D6604:$G15864,4,FALSE)","v":"897-122091"},"897"]
[null,"Page Pierre",{"$f":"VLOOKUP(B6604,[1]export_1465921594229!$D6605:$G15865,4,FALSE)","v":"G50-121345"},"G50"]
[null,"Pageau Lise",{"$f":"VLOOKUP(B6605,[1]export_1465921594229!$D6606:$G15866,4,FALSE)","v":"110-122460"},"110"]
[null,"Pagliuso Fiori",{"$f":"VLOOKUP(B6606,[1]export_1465921594229!$D6607:$G15867,4,FALSE)","v":"CES-123933"},"CES"]
[null,"Pagliuso Fiori",{"$f":"VLOOKUP(B6607,[1]export_1465921594229!$D6608:$G15868,4,FALSE)","v":"LU1-116911"},"LU1"]
[null,"Paiement Benoit",{"$f":"VLOOKUP(B6608,[1]export_1465921594229!$D6609:$G15869,4,FALSE)","v":"W79-660061"},"W79"]
[null,"Paiement Myreille",{"$f":"VLOOKUP(B6609,[1]export_1465921594229!$D6610:$G15870,4,FALSE)","v":"HQ5-119059"},"HQ5"]
[null,"Paille Marie-Therese",{"$f":"VLOOKUP(B6610,[1]export_1465921594229!$D6611:$G15871,4,FALSE)","v":"A95-122027"},"A95"]
[null,"Paille Pierre",{"$f":"VLOOKUP(B6611,[1]export_1465921594229!$D6612:$G15872,4,FALSE)","v":"IT7-116418"},"IT7"]
[null,"Painchaud Christian",{"$f":"VLOOKUP(B6612,[1]export_1465921594229!$D6613:$G15873,4,FALSE)","v":"L88-660315"},"L88"]
[null,"Painchaud Mathieu",{"$f":"VLOOKUP(B6613,[1]export_1465921594229!$D6614:$G15874,4,FALSE)","v":"CWY-570196"},"CWY"]
[null,"Painchaud Stephane",{"$f":"VLOOKUP(B6614,[1]export_1465921594229!$D6615:$G15875,4,FALSE)","v":"P56-120662"},"P56"]
[null,"Paink Jaswinder",{"$f":"VLOOKUP(B6615,[1]export_1465921594229!$D6616:$G15876,4,FALSE)","v":"BCC-550344"},"BCC"]
[null,"Pais Aaron",{"$f":"VLOOKUP(B6616,[1]export_1465921594229!$D6617:$G15877,4,FALSE)","v":"FJ8-118727"},"FJ8"]
[null,"Pais Ritesh",{"$f":"VLOOKUP(B6617,[1]export_1465921594229!$D6618:$G15878,4,FALSE)","v":"FL8-118745"},"FL8"]
[null,"Pais Rohit",{"$f":"VLOOKUP(B6618,[1]export_1465921594229!$D6619:$G15879,4,FALSE)","v":"FK9-118737"},"FK9"]
[null,"Pakbaz Saman",{"$f":"VLOOKUP(B6619,[1]export_1465921594229!$D6620:$G15880,4,FALSE)","v":"CAQ-123832"},"CAQ"]
[null,"Palma Mai Rose",{"$f":"VLOOKUP(B6620,[1]export_1465921594229!$D6621:$G15881,4,FALSE)","v":"CFR-123957"},"CFR"]
[null,"Palma Mai Rose",{"$f":"VLOOKUP(B6621,[1]export_1465921594229!$D6622:$G15882,4,FALSE)","v":"PC3-117469"},"PC3"]
[null,"Palmares Fely Grace",{"$f":"VLOOKUP(B6622,[1]export_1465921594229!$D6623:$G15883,4,FALSE)","v":"B8Z-123790"},"B8Z"]
[null,"Palmer Harvey",{"$f":"VLOOKUP(B6623,[1]export_1465921594229!$D6624:$G15884,4,FALSE)","v":"RC2-117869"},"RC2"]
[null,"Palmer Jeremiah",{"$f":"VLOOKUP(B6624,[1]export_1465921594229!$D6625:$G15885,4,FALSE)","v":"DTU-125200"},"DTU"]
[null,"Palmer John M",{"$f":"VLOOKUP(B6625,[1]export_1465921594229!$D6626:$G15886,4,FALSE)","v":"U71-120563"},"U71"]
[null,"Palmer Paul",{"$f":"VLOOKUP(B6626,[1]export_1465921594229!$D6627:$G15887,4,FALSE)","v":"CYX-124427"},"CYX"]
[null,"Pamplona Mary Ann",{"$f":"VLOOKUP(B6627,[1]export_1465921594229!$D6628:$G15888,4,FALSE)","v":"KN0-116728"},"KN0"]
[null,"Panboon Bounheuang 022elc",{"$f":"VLOOKUP(B6628,[1]export_1465921594229!$D6629:$G15889,4,FALSE)","v":"NF7-117175"},"NF7"]
[null,"Pancratius Joseph",{"$f":"VLOOKUP(B6629,[1]export_1465921594229!$D6630:$G15890,4,FALSE)","v":"DVX-125255"},"DVX"]
[null,"Pandher Harpreet",{"$f":"VLOOKUP(B6630,[1]export_1465921594229!$D6631:$G15891,4,FALSE)","v":"IV5-116428"},"IV5"]
[null,"Pandher Khushdeep",{"$f":"VLOOKUP(B6631,[1]export_1465921594229!$D6632:$G15892,4,FALSE)","v":"CLZ-550297"},"CLZ"]
[null,"Pangan Leandro",{"$f":"VLOOKUP(B6632,[1]export_1465921594229!$D6633:$G15893,4,FALSE)","v":"CWT-124374"},"CWT"]
[null,"Panganiban Bryan",{"$f":"VLOOKUP(B6633,[1]export_1465921594229!$D6634:$G15894,4,FALSE)","v":"AD7-118109"},"AD7"]
[null,"Pannozzo Maria Teresa",{"$f":"VLOOKUP(B6634,[1]export_1465921594229!$D6635:$G15895,4,FALSE)","v":"CFT-123959"},"CFT"]
[null,"Pannozzo Maria Teresa",{"$f":"VLOOKUP(B6635,[1]export_1465921594229!$D6636:$G15896,4,FALSE)","v":"MS2-117090"},"MS2"]
[null,"Panov Wesselin",{"$f":"VLOOKUP(B6636,[1]export_1465921594229!$D6637:$G15897,4,FALSE)","v":"BQB-500962"},"BQB"]
[null,"Panov Wesselin",{"$f":"VLOOKUP(B6637,[1]export_1465921594229!$D6638:$G15898,4,FALSE)","v":"BQC-400962"},"BQC"]
[null,"Panthaky Cavas",{"$f":"VLOOKUP(B6638,[1]export_1465921594229!$D6639:$G15899,4,FALSE)","v":"DTD-125183"},"DTD"]
[null,"Papa Mercy",{"$f":"VLOOKUP(B6639,[1]export_1465921594229!$D6640:$G15900,4,FALSE)","v":"NM1-117216"},"NM1"]
[null,"Papillon Alain",{"$f":"VLOOKUP(B6640,[1]export_1465921594229!$D6641:$G15901,4,FALSE)","v":"271-122317"},"271"]
[null,"Papineau Yanick",{"$f":"VLOOKUP(B6641,[1]export_1465921594229!$D6642:$G15902,4,FALSE)","v":"D4F-125463"},"D4F"]
[null,"Paquet Christian",{"$f":"VLOOKUP(B6642,[1]export_1465921594229!$D6643:$G15903,4,FALSE)","v":"A9J-660286"},"A9J"]
[null,"Paquet Jean-Claude",{"$f":"VLOOKUP(B6643,[1]export_1465921594229!$D6644:$G15904,4,FALSE)","v":"H20-116148"},"H20"]
[null,"Paquet Joe",{"$f":"VLOOKUP(B6644,[1]export_1465921594229!$D6645:$G15905,4,FALSE)","v":{"$error":"#N/A"}},{"$error":"#N/A"}]
[null,"Paquet Lyne",{"$f":"VLOOKUP(B6645,[1]export_1465921594229!$D6646:$G15906,4,FALSE)","v":"MJ6-117033"},"MJ6"]
[null,"Paquet Michel",{"$f":"VLOOKUP(B6646,[1]export_1465921594229!$D6647:$G15907,4,FALSE)","v":"V89-117962"},"V89"]
[null,"Paquet Miranda",{"$f":"VLOOKUP(B6647,[1]export_1465921594229!$D6648:$G15908,4,FALSE)","v":"HT4-116262"},"HT4"]
[null,"Paquet Nathalie",{"$f":"VLOOKUP(B6648,[1]export_1465921594229!$D6649:$G15909,4,FALSE)","v":"CG3-121739"},"CG3"]
[null,"Paquet Warren",{"$f":"VLOOKUP(B6649,[1]export_1465921594229!$D6650:$G15910,4,FALSE)","v":"CV8-118359"},"CV8"]
[null,"Paquette Dany",{"$f":"VLOOKUP(B6650,[1]export_1465921594229!$D6651:$G15911,4,FALSE)","v":"FG6-118716"},"FG6"]
[null,"Paquette Eric",{"$f":"VLOOKUP(B6651,[1]export_1465921594229!$D6652:$G15912,4,FALSE)","v":"G80-121229"},"G80"]
[null,"Paquette Hugo",{"$f":"VLOOKUP(B6652,[1]export_1465921594229!$D6653:$G15913,4,FALSE)","v":"C4G-124561"},"C4G"]
[null,"Paquette Jacques",{"$f":"VLOOKUP(B6653,[1]export_1465921594229!$D6654:$G15914,4,FALSE)","v":"X89-120445"},"X89"]
[null,"Paquette Jacques",{"$f":"VLOOKUP(B6654,[1]export_1465921594229!$D6655:$G15915,4,FALSE)","v":"R26-550122"},"R26"]
[null,"Paquette Joyce",{"$f":"VLOOKUP(B6655,[1]export_1465921594229!$D6656:$G15916,4,FALSE)","v":"DL2-118406"},"DL2"]
[null,"Paquette Lisane",{"$f":"VLOOKUP(B6656,[1]export_1465921594229!$D6657:$G15917,4,FALSE)","v":"MO8-117067"},"MO8"]
[null,"Paquette Michel A.",{"$f":"VLOOKUP(B6657,[1]export_1465921594229!$D6658:$G15918,4,FALSE)","v":"EC7-660088"},"EC7"]
[null,"Paquette Michel A.",{"$f":"VLOOKUP(B6658,[1]export_1465921594229!$D6659:$G15919,4,FALSE)","v":"D2L-125420"},{"$f":"LEFT(C6658,3)","v":"D2L"}]
[null,"Paquette Normand",{"$f":"VLOOKUP(B6659,[1]export_1465921594229!$D6660:$G15920,4,FALSE)","v":"DZP-125347"},"DZP"]
[null,"Paquette Pierre",{"$f":"VLOOKUP(B6660,[1]export_1465921594229!$D6661:$G15921,4,FALSE)","v":"X63-118003"},"X63"]
[null,"Paquette Serge",{"$f":"VLOOKUP(B6661,[1]export_1465921594229!$D6662:$G15922,4,FALSE)","v":"BXL-660420"},"BXL"]
[null,"Paquette Serge",{"$f":"VLOOKUP(B6662,[1]export_1465921594229!$D6663:$G15923,4,FALSE)","v":"D2M-125421"},"D2M"]
[null,"Paquin Andre",{"$f":"VLOOKUP(B6663,[1]export_1465921594229!$D6664:$G15924,4,FALSE)","v":"K37-121087"},"K37"]
[null,"Paquin Andre",{"$f":"VLOOKUP(B6664,[1]export_1465921594229!$D6665:$G15925,4,FALSE)","v":"LD1-660559"},"LD1"]
[null,"Paquin Audrey",{"$f":"VLOOKUP(B6665,[1]export_1465921594229!$D6666:$G15926,4,FALSE)","v":"DXJ-125293"},"DXJ"]
[null,"Paquin Audrey",{"$f":"VLOOKUP(B6666,[1]export_1465921594229!$D6667:$G15927,4,FALSE)","v":"F54-118662"},"F54"]
[null,"Paquin Audrey",{"$f":"VLOOKUP(B6667,[1]export_1465921594229!$D6668:$G15928,4,FALSE)","v":"EB4-115939"},"EB4"]
[null,"Paquin Dany",{"$f":"VLOOKUP(B6668,[1]export_1465921594229!$D6669:$G15929,4,FALSE)","v":"G66-118835"},"G66"]
[null,"Paquin Devon",{"$f":"VLOOKUP(B6669,[1]export_1465921594229!$D6670:$G15930,4,FALSE)","v":"CVD-124333"},"CVD"]
[null,"Paquin Diane",{"$f":"VLOOKUP(B6670,[1]export_1465921594229!$D6671:$G15931,4,FALSE)","v":"B33-121893"},"B33"]
[null,"Paquin Frederic",{"$f":"VLOOKUP(B6671,[1]export_1465921594229!$D6672:$G15932,4,FALSE)","v":"C4K-124565"},"C4K"]
[null,"Paquin Real",{"$f":"VLOOKUP(B6672,[1]export_1465921594229!$D6673:$G15933,4,FALSE)","v":"632-120294"},"632"]
[null,"Parada Nelson",{"$f":"VLOOKUP(B6673,[1]export_1465921594229!$D6674:$G15934,4,FALSE)","v":"KZ1-119287"},"KZ1"]
[null,"Parada Nelson",{"$f":"VLOOKUP(B6674,[1]export_1465921594229!$D6675:$G15935,4,FALSE)","v":"KZ0-119286"},"KZ0"]
[null,"Paradis Charline",{"$f":"VLOOKUP(B6675,[1]export_1465921594229!$D6676:$G15936,4,FALSE)","v":"625-122151"},"625"]
[null,"Paradis Denis",{"$f":"VLOOKUP(B6676,[1]export_1465921594229!$D6677:$G15937,4,FALSE)","v":"414-120333"},"414"]
[null,"Paradis Genevieve",{"$f":"VLOOKUP(B6677,[1]export_1465921594229!$D6678:$G15938,4,FALSE)","v":{"$error":"#N/A"}},{"$error":"#N/A"}]
[null,"Paradis Linda",{"$f":"VLOOKUP(B6678,[1]export_1465921594229!$D6679:$G15939,4,FALSE)","v":"E05-118463"},"E05"]
[null,"Paradis Michel",{"$f":"VLOOKUP(B6679,[1]export_1465921594229!$D6680:$G15940,4,FALSE)","v":"L89-120946"},"L89"]
[null,"Paradis Michel",{"$f":"VLOOKUP(B6680,[1]export_1465921594229!$D6681:$G15941,4,FALSE)","v":"O21-119532"},"O21"]
[null,"Paradis Nathalie",{"$f":"VLOOKUP(B6681,[1]export_1465921594229!$D6682:$G15942,4,FALSE)","v":"A15-122104"},"A15"]
[null,"Paradis Rock",{"$f":"VLOOKUP(B6682,[1]export_1465921594229!$D6683:$G15943,4,FALSE)","v":"AB9-118103"},"AB9"]
[null,"Paradis Roger",{"$f":"VLOOKUP(B6683,[1]export_1465921594229!$D6684:$G15944,4,FALSE)","v":"R02-117833"},"R02"]
[null,"Paradis Yves",{"$f":"VLOOKUP(B6684,[1]export_1465921594229!$D6685:$G15945,4,FALSE)","v":"BAH-550040"},"BAH"]
[null,"Paradisis Demetrios",{"$f":"VLOOKUP(B6685,[1]export_1465921594229!$D6686:$G15946,4,FALSE)","v":"DAV-124724"},"DAV"]
[null,"Parago Angelo",{"$f":"VLOOKUP(B6686,[1]export_1465921594229!$D6687:$G15947,4,FALSE)","v":"DTS-125198"},"DTS"]
[null,"Paras Angel",{"$f":"VLOOKUP(B6687,[1]export_1465921594229!$D6688:$G15948,4,FALSE)","v":"LS0-116898"},"LS0"]
[null,"Paras Angel",{"$f":"VLOOKUP(B6688,[1]export_1465921594229!$D6689:$G15949,4,FALSE)","v":"LS1-120971"},"LS1"]
[null,"Paras Cecilia",{"$f":"VLOOKUP(B6689,[1]export_1465921594229!$D6690:$G15950,4,FALSE)","v":"MH0-119414"},"MH0"]
[null,"Paras Cecilia",{"$f":"VLOOKUP(B6690,[1]export_1465921594229!$D6691:$G15951,4,FALSE)","v":"MG9-119413"},"MG9"]
[null,"Pare Alain",{"$f":"VLOOKUP(B6691,[1]export_1465921594229!$D6692:$G15952,4,FALSE)","v":"J18-121163"},"J18"]
[null,"Pare Alain",{"$f":"VLOOKUP(B6692,[1]export_1465921594229!$D6693:$G15953,4,FALSE)","v":"L54-120917"},"L54"]
[null,"Pare Benoit",{"$f":"VLOOKUP(B6693,[1]export_1465921594229!$D6694:$G15954,4,FALSE)","v":"KV8-116776"},"KV8"]
[null,"Pare Gerard",{"$f":"VLOOKUP(B6694,[1]export_1465921594229!$D6695:$G15955,4,FALSE)","v":"L32-121035"},"L32"]
[null,"Pare Louis",{"$f":"VLOOKUP(B6695,[1]export_1465921594229!$D6696:$G15956,4,FALSE)","v":"ID2-116331"},"ID2"]
[null,"Pare Louis",{"$f":"VLOOKUP(B6696,[1]export_1465921594229!$D6697:$G15957,4,FALSE)","v":"CXJ-124390"},"CXJ"]
[null,"Pare Marie-France",{"$f":"VLOOKUP(B6697,[1]export_1465921594229!$D6698:$G15958,4,FALSE)","v":"BO8-115792"},"BO8"]
[null,"Pare Olivier",{"$f":"VLOOKUP(B6698,[1]export_1465921594229!$D6699:$G15959,4,FALSE)","v":"CP9-115847"},"CP9"]
[null,"Pare Pierre",{"$f":"VLOOKUP(B6699,[1]export_1465921594229!$D6700:$G15960,4,FALSE)","v":"AI9-660038"},"AI9"]
[null,"Pare Sylvie",{"$f":"VLOOKUP(B6700,[1]export_1465921594229!$D6701:$G15961,4,FALSE)","v":"B01-121873"},"B01"]
[null,"Pare Yvonne",{"$f":"VLOOKUP(B6701,[1]export_1465921594229!$D6702:$G15962,4,FALSE)","v":"EI3-118567"},"EI3"]
[null,"Pare Eric",{"$f":"VLOOKUP(B6702,[1]export_1465921594229!$D6703:$G15963,4,FALSE)","v":{"$error":"#N/A"}},{"$error":"#N/A"}]
[null,"Paredes Silvia",{"$f":"VLOOKUP(B6703,[1]export_1465921594229!$D6704:$G15964,4,FALSE)","v":"QI8-117704"},"QI8"]
[null,"Paredes Silvia",{"$f":"VLOOKUP(B6704,[1]export_1465921594229!$D6705:$G15965,4,FALSE)","v":"CGG-123972"},"CGG"]
[null,"Parekh Surekha",{"$f":"VLOOKUP(B6705,[1]export_1465921594229!$D6706:$G15966,4,FALSE)","v":"BL6-118221"},"BL6"]
[null,"Parent Bernard",{"$f":"VLOOKUP(B6706,[1]export_1465921594229!$D6707:$G15967,4,FALSE)","v":"L90-120947"},"L90"]
[null,"Parent Bernard",{"$f":"VLOOKUP(B6707,[1]export_1465921594229!$D6708:$G15968,4,FALSE)","v":"176-122381"},"176"]
[null,"Parent Claude",{"$f":"VLOOKUP(B6708,[1]export_1465921594229!$D6709:$G15969,4,FALSE)","v":"630-122156"},"630"]
[null,"Parent Dominique",{"$f":"VLOOKUP(B6709,[1]export_1465921594229!$D6710:$G15970,4,FALSE)","v":"HU9-116271"},"HU9"]
[null,"Parent Marie-Bregitte",{"$f":"VLOOKUP(B6710,[1]export_1465921594229!$D6711:$G15971,4,FALSE)","v":"GB7-121238"},"GB7"]
[null,"Parent Martine",{"$f":"VLOOKUP(B6711,[1]export_1465921594229!$D6712:$G15972,4,FALSE)","v":"CB7-115815"},"CB7"]
[null,"Parent Patrick",{"$f":"VLOOKUP(B6712,[1]export_1465921594229!$D6713:$G15973,4,FALSE)","v":"S32-120619"},"S32"]
[null,"Parent Real",{"$f":"VLOOKUP(B6713,[1]export_1465921594229!$D6714:$G15974,4,FALSE)","v":{"$error":"#N/A"}},{"$error":"#N/A"}]
[null,"Parenteau Sylvie",{"$f":"VLOOKUP(B6714,[1]export_1465921594229!$D6715:$G15975,4,FALSE)","v":"I41-119098"},"I41"]
[null,"Paret Celine",{"$f":"VLOOKUP(B6715,[1]export_1465921594229!$D6716:$G15976,4,FALSE)","v":{"$error":"#N/A"}},{"$error":"#N/A"}]
[null,"Parihar Harjit",{"$f":"VLOOKUP(B6716,[1]export_1465921594229!$D6717:$G15977,4,FALSE)","v":"FX8-118806"},"FX8"]
[null,"Parise Marcel",{"$f":"VLOOKUP(B6717,[1]export_1465921594229!$D6718:$G15978,4,FALSE)","v":{"$error":"#N/A"}},{"$error":"#N/A"}]
[null,"Parish Patricia",{"$f":"VLOOKUP(B6718,[1]export_1465921594229!$D6719:$G15979,4,FALSE)","v":"JW2-121067"},"JW2"]
[null,"Parisien Veronique",{"$f":"VLOOKUP(B6719,[1]export_1465921594229!$D6720:$G15980,4,FALSE)","v":"D88-120154"},"D88"]
[null,"Park Gunmin",{"$f":"VLOOKUP(B6720,[1]export_1465921594229!$D6721:$G15981,4,FALSE)","v":"IQ8-116404"},"IQ8"]
[null,"Park Michael A",{"$f":"VLOOKUP(B6721,[1]export_1465921594229!$D6722:$G15982,4,FALSE)","v":"OJ8-117340"},"OJ8"]
[null,"Park Miyoung",{"$f":"VLOOKUP(B6722,[1]export_1465921594229!$D6723:$G15983,4,FALSE)","v":"X56-120520"},{"$f":"LEFT(C6722,3)","v":"X56"}]
[null,"Park Miyoung",{"$f":"VLOOKUP(B6723,[1]export_1465921594229!$D6724:$G15984,4,FALSE)","v":"BIL-123216"},"BIL"]
[null,"Park Seonglim",{"$f":"VLOOKUP(B6724,[1]export_1465921594229!$D6725:$G15985,4,FALSE)","v":"NK5-117206"},"NK5"]
[null,"Park Tahnee",{"$f":"VLOOKUP(B6725,[1]export_1465921594229!$D6726:$G15986,4,FALSE)","v":"BVM-502324"},"BVM"]
[null,"Park(Park&Associ Insur A) Sorel",{"$f":"VLOOKUP(B6726,[1]export_1465921594229!$D6727:$G15987,4,FALSE)","v":"NU5-117247"},"NU5"]
[null,"Parkin Brien",{"$f":"VLOOKUP(B6727,[1]export_1465921594229!$D6728:$G15988,4,FALSE)","v":"CB5-550272"},"CB5"]
[null,"Parmar Baljit",{"$f":"VLOOKUP(B6728,[1]export_1465921594229!$D6729:$G15989,4,FALSE)","v":"C6I-124610"},"C6I"]
[null,"Parmar Gurpreet Kaur",{"$f":"VLOOKUP(B6729,[1]export_1465921594229!$D6730:$G15990,4,FALSE)","v":"PX3-117647"},"PX3"]
[null,"Parmar Hardip Singh",{"$f":"VLOOKUP(B6730,[1]export_1465921594229!$D6731:$G15991,4,FALSE)","v":"FP3-118762"},"FP3"]
[null,"Parschauer Simon",{"$f":"VLOOKUP(B6731,[1]export_1465921594229!$D6732:$G15992,4,FALSE)","v":"S63-120627"},"S63"]
[null,"Parthenais Robert",{"$f":"VLOOKUP(B6732,[1]export_1465921594229!$D6733:$G15993,4,FALSE)","v":"S01-119838"},"S01"]
[null,"Pasche Jean-Claude",{"$f":"VLOOKUP(B6733,[1]export_1465921594229!$D6734:$G15994,4,FALSE)","v":"B5K-123703"},"B5K"]
[null,"Pascuas Cabrera Jose Augusto",{"$f":"VLOOKUP(B6734,[1]export_1465921594229!$D6735:$G15995,4,FALSE)","v":"DF3-660599"},"DF3"]
[null,"Pasichnyk Helga",{"$f":"VLOOKUP(B6735,[1]export_1465921594229!$D6736:$G15996,4,FALSE)","v":"O30-500728"},"O30"]
[null,"Pasricha(Today'S Financi) Gurdeep",{"$f":"VLOOKUP(B6736,[1]export_1465921594229!$D6737:$G15997,4,FALSE)","v":"MJ3-117030"},"MJ3"]
[null,"Patel Bhupendra",{"$f":"VLOOKUP(B6737,[1]export_1465921594229!$D6738:$G15998,4,FALSE)","v":"DN2-118413"},"DN2"]
[null,"Patel Zubeda",{"$f":"VLOOKUP(B6738,[1]export_1465921594229!$D6739:$G15999,4,FALSE)","v":"CTG-124288"},"CTG"]
[null,"Patel (terminated) Maheshkumar",{"$f":"VLOOKUP(B6739,[1]export_1465921594229!$D6740:$G16000,4,FALSE)","v":"OJ1-117333"},"OJ1"]
[null,"Patenaude Kevin",{"$f":"VLOOKUP(B6740,[1]export_1465921594229!$D6741:$G16001,4,FALSE)","v":"E34-121438"},"E34"]
[null,"Paterson Donna",{"$f":"VLOOKUP(B6741,[1]export_1465921594229!$D6742:$G16002,4,FALSE)","v":"D6P-125523"},"D6P"]
[null,"Patgunarajah Darlene",{"$f":"VLOOKUP(B6742,[1]export_1465921594229!$D6743:$G16003,4,FALSE)","v":"DRL-125143"},"DRL"]
[null,"Pathak Anuj",{"$f":"VLOOKUP(B6743,[1]export_1465921594229!$D6744:$G16004,4,FALSE)","v":"DJ1-121516"},"DJ1"]
[null,"Pathmanathan Rakurakavan",{"$f":"VLOOKUP(B6744,[1]export_1465921594229!$D6745:$G16005,4,FALSE)","v":"OJ0-117332"},"OJ0"]
[null,"Patry Marc",{"$f":"VLOOKUP(B6745,[1]export_1465921594229!$D6746:$G16006,4,FALSE)","v":"P89-119636"},"P89"]
[null,"Patry Marc-Andre",{"$f":"VLOOKUP(B6746,[1]export_1465921594229!$D6747:$G16007,4,FALSE)","v":"W58-117979"},"W58"]
[null,"Patteson Brian",{"$f":"VLOOKUP(B6747,[1]export_1465921594229!$D6748:$G16008,4,FALSE)","v":"QS1-117772"},"QS1"]
[null,"Patwardhan Sudhir",{"$f":"VLOOKUP(B6748,[1]export_1465921594229!$D6749:$G16009,4,FALSE)","v":"NK8-119488"},"NK8"]
[null,"Patwardhan Sudhir",{"$f":"VLOOKUP(B6749,[1]export_1465921594229!$D6750:$G16010,4,FALSE)","v":"QG3-119759"},"QG3"]
[null,"Patwardhan Sudhir",{"$f":"VLOOKUP(B6750,[1]export_1465921594229!$D6751:$G16011,4,FALSE)","v":"QD9-119749"},"QD9"]
[null,"Paul Jean-Nicol",{"$f":"VLOOKUP(B6751,[1]export_1465921594229!$D6752:$G16012,4,FALSE)","v":"ML4-117049"},"ML4"]
[null,"Paul Dharshan Nithianandan",{"$f":"VLOOKUP(B6752,[1]export_1465921594229!$D6753:$G16013,4,FALSE)","v":"DUV-125227"},"DUV"]
[null,"Paulin Michele",{"$f":"VLOOKUP(B6753,[1]export_1465921594229!$D6754:$G16014,4,FALSE)","v":"498-120249"},"498"]
[null,"Pawis Michelle",{"$f":"VLOOKUP(B6754,[1]export_1465921594229!$D6755:$G16015,4,FALSE)","v":"KL8-119256"},"KL8"]
[null,"Pawis Michelle",{"$f":"VLOOKUP(B6755,[1]export_1465921594229!$D6756:$G16016,4,FALSE)","v":"KR4-119270"},"KR4"]
[null,"Payette David",{"$f":"VLOOKUP(B6756,[1]export_1465921594229!$D6757:$G16017,4,FALSE)","v":"B8Q-123782"},"B8Q"]
[null,"Payette Evelyne",{"$f":"VLOOKUP(B6757,[1]export_1465921594229!$D6758:$G16018,4,FALSE)","v":"B42-121899"},"B42"]
[null,"Payette Gilles",{"$f":"VLOOKUP(B6758,[1]export_1465921594229!$D6759:$G16019,4,FALSE)","v":"B92-120230"},"B92"]
[null,"Payeur Andre",{"$f":"VLOOKUP(B6759,[1]export_1465921594229!$D6760:$G16020,4,FALSE)","v":"250-122432"},"250"]
[null,"Payeur Andre",{"$f":"VLOOKUP(B6760,[1]export_1465921594229!$D6761:$G16021,4,FALSE)","v":"138-122480"},"138"]
[null,"Payeur Andre",{"$f":"VLOOKUP(B6761,[1]export_1465921594229!$D6762:$G16022,4,FALSE)","v":"DE1-118385"},"DE1"]
[null,"Payeur Josee",{"$f":"VLOOKUP(B6762,[1]export_1465921594229!$D6763:$G16023,4,FALSE)","v":"CZ6-121553"},"CZ6"]
[null,"Payne Jeffrey",{"$f":"VLOOKUP(B6763,[1]export_1465921594229!$D6764:$G16024,4,FALSE)","v":"GI7-118889"},"GI7"]
[null,"Payne Jeffrey",{"$f":"VLOOKUP(B6764,[1]export_1465921594229!$D6765:$G16025,4,FALSE)","v":"JP5-121059"},"JP5"]
[null,"Pearson Daniel",{"$f":"VLOOKUP(B6765,[1]export_1465921594229!$D6766:$G16026,4,FALSE)","v":"NW4-120729"},"NW4"]
[null,"Pearson Daniel",{"$f":"VLOOKUP(B6766,[1]export_1465921594229!$D6767:$G16027,4,FALSE)","v":"NW3-117258"},"NW3"]
[null,"Pearson Denis",{"$f":"VLOOKUP(B6767,[1]export_1465921594229!$D6768:$G16028,4,FALSE)","v":"K61-120973"},"K61"]
[null,"Pearson Jacques",{"$f":"VLOOKUP(B6768,[1]export_1465921594229!$D6769:$G16029,4,FALSE)","v":"L91-120948"},"L91"]
[null,"Peart Delroy",{"$f":"VLOOKUP(B6769,[1]export_1465921594229!$D6770:$G16030,4,FALSE)","v":"BD3-115768"},"BD3"]
[null,"Peclet Marc",{"$f":"VLOOKUP(B6770,[1]export_1465921594229!$D6771:$G16031,4,FALSE)","v":"639-120296"},"639"]
[null,"Peddie Patrick",{"$f":"VLOOKUP(B6771,[1]export_1465921594229!$D6772:$G16032,4,FALSE)","v":"QN2-117734"},"QN2"]
[null,"Pede Garry",{"$f":"VLOOKUP(B6772,[1]export_1465921594229!$D6773:$G16033,4,FALSE)","v":"R21-120591"},"R21"]
[null,"Pednault Yvan",{"$f":"VLOOKUP(B6773,[1]export_1465921594229!$D6774:$G16034,4,FALSE)","v":"X76-118006"},"X76"]
[null,"Peebles Doug S",{"$f":"VLOOKUP(B6774,[1]export_1465921594229!$D6775:$G16035,4,FALSE)","v":"KO2-119258"},"KO2"]
[null,"Peebles Doug S",{"$f":"VLOOKUP(B6775,[1]export_1465921594229!$D6776:$G16036,4,FALSE)","v":"KR5-119271"},"KR5"]
[null,"Pelayo Joel",{"$f":"VLOOKUP(B6776,[1]export_1465921594229!$D6777:$G16037,4,FALSE)","v":"BVX-502326"},"BVX"]
[null,"Pelchat Gerard",{"$f":"VLOOKUP(B6777,[1]export_1465921594229!$D6778:$G16038,4,FALSE)","v":"CYQ-124420"},"CYQ"]
[null,"Pelchat Gerard",{"$f":"VLOOKUP(B6778,[1]export_1465921594229!$D6779:$G16039,4,FALSE)","v":"X72-120042"},"X72"]
[null,"Pelchat Marc",{"$f":"VLOOKUP(B6779,[1]export_1465921594229!$D6780:$G16040,4,FALSE)","v":"Q90-117669"},"Q90"]
[null,"Pelchat Mario",{"$f":"VLOOKUP(B6780,[1]export_1465921594229!$D6781:$G16041,4,FALSE)","v":"C29-121803"},"C29"]
[null,"Pelchat Paul-Andre",{"$f":"VLOOKUP(B6781,[1]export_1465921594229!$D6782:$G16042,4,FALSE)","v":"X52-660650"},"X52"]
[null,"Pelchat Sylvain",{"$f":"VLOOKUP(B6782,[1]export_1465921594229!$D6783:$G16043,4,FALSE)","v":"JL3-121052"},"JL3"]
[null,"Pellerin Donald",{"$f":"VLOOKUP(B6783,[1]export_1465921594229!$D6784:$G16044,4,FALSE)","v":"NT9-117244"},"NT9"]
[null,"Pellerin François",{"$f":"VLOOKUP(B6784,[1]export_1465921594229!$D6785:$G16045,4,FALSE)","v":"CAU-123836"},"CAU"]
[null,"Pellerin Lyne",{"$f":"VLOOKUP(B6785,[1]export_1465921594229!$D6786:$G16046,4,FALSE)","v":"A81-122017"},"A81"]
[null,"Pellerin Nathalie",{"$f":"VLOOKUP(B6786,[1]export_1465921594229!$D6787:$G16047,4,FALSE)","v":"MK6-660403"},{"$f":"LEFT(C6786,3)","v":"MK6"}]
[null,"Pellerin Nathalie",{"$f":"VLOOKUP(B6787,[1]export_1465921594229!$D6788:$G16048,4,FALSE)","v":"D2R-125426"},"D2R"]
[null,"Pellerin Roger",{"$f":"VLOOKUP(B6788,[1]export_1465921594229!$D6789:$G16049,4,FALSE)","v":"493-120246"},"493"]
[null,"Pelletier Anne",{"$f":"VLOOKUP(B6789,[1]export_1465921594229!$D6790:$G16050,4,FALSE)","v":"I75-660147"},"I75"]
[null,"Pelletier Anny-Claude",{"$f":"VLOOKUP(B6790,[1]export_1465921594229!$D6791:$G16051,4,FALSE)","v":"BGU-660313"},"BGU"]
[null,"Pelletier Caroline",{"$f":"VLOOKUP(B6791,[1]export_1465921594229!$D6792:$G16052,4,FALSE)","v":"181-120413"},"181"]
[null,"Pelletier Chantal",{"$f":"VLOOKUP(B6792,[1]export_1465921594229!$D6793:$G16053,4,FALSE)","v":"A90-122023"},"A90"]
[null,"Pelletier Chantale",{"$f":"VLOOKUP(B6793,[1]export_1465921594229!$D6794:$G16054,4,FALSE)","v":"294-120311"},"294"]
[null,"Pelletier Cindy",{"$f":"VLOOKUP(B6794,[1]export_1465921594229!$D6795:$G16055,4,FALSE)","v":"B66-121920"},"B66"]
[null,"Pelletier Claude",{"$f":"VLOOKUP(B6795,[1]export_1465921594229!$D6796:$G16056,4,FALSE)","v":"HS4-116255"},"HS4"]
[null,"Pelletier Daniel",{"$f":"VLOOKUP(B6796,[1]export_1465921594229!$D6797:$G16057,4,FALSE)","v":"DD3-118382"},"DD3"]
[null,"Pelletier Diane",{"$f":"VLOOKUP(B6797,[1]export_1465921594229!$D6798:$G16058,4,FALSE)","v":"B43-121900"},"B43"]
[null,"Pelletier Germain",{"$f":"VLOOKUP(B6798,[1]export_1465921594229!$D6799:$G16059,4,FALSE)","v":"P66-120665"},"P66"]
[null,"Pelletier Germain",{"$f":"VLOOKUP(B6799,[1]export_1465921594229!$D6800:$G16060,4,FALSE)","v":"GO5-121261"},"GO5"]
[null,"Pelletier Guy",{"$f":"VLOOKUP(B6800,[1]export_1465921594229!$D6801:$G16061,4,FALSE)","v":"B0S-660448"},"B0S"]
[null,"Pelletier Guy",{"$f":"VLOOKUP(B6801,[1]export_1465921594229!$D6802:$G16062,4,FALSE)","v":"BJ5-660506"},"BJ5"]
[null,"Pelletier Helene",{"$f":"VLOOKUP(B6802,[1]export_1465921594229!$D6803:$G16063,4,FALSE)","v":"566-122245"},"566"]
[null,"Pelletier Isabelle",{"$f":"VLOOKUP(B6803,[1]export_1465921594229!$D6804:$G16064,4,FALSE)","v":"GV2-600038"},"GV2"]
[null,"Pelletier Julie",{"$f":"VLOOKUP(B6804,[1]export_1465921594229!$D6805:$G16065,4,FALSE)","v":"D25-121570"},"D25"]
[null,"Pelletier Michel",{"$f":"VLOOKUP(B6805,[1]export_1465921594229!$D6806:$G16066,4,FALSE)","v":"AH5-660640"},"AH5"]
[null,"Pelletier Patrick",{"$f":"VLOOKUP(B6806,[1]export_1465921594229!$D6807:$G16067,4,FALSE)","v":"JV2-116593"},"JV2"]
[null,"Pelletier Raynald",{"$f":"VLOOKUP(B6807,[1]export_1465921594229!$D6808:$G16068,4,FALSE)","v":"366-122257"},"366"]
[null,"Pelletier Regis",{"$f":"VLOOKUP(B6808,[1]export_1465921594229!$D6809:$G16069,4,FALSE)","v":"C90-121718"},"C90"]
[null,"Pelletier Renaud",{"$f":"VLOOKUP(B6809,[1]export_1465921594229!$D6810:$G16070,4,FALSE)","v":"295-122332"},"295"]
[null,"Pelletier Rene",{"$f":"VLOOKUP(B6810,[1]export_1465921594229!$D6811:$G16071,4,FALSE)","v":{"$error":"#N/A"}},{"$error":"#N/A"}]
[null,"Pelletier Richard",{"$f":"VLOOKUP(B6811,[1]export_1465921594229!$D6812:$G16072,4,FALSE)","v":"102-115693"},"102"]
[null,"Pelletier Simonne",{"$f":"VLOOKUP(B6812,[1]export_1465921594229!$D6813:$G16073,4,FALSE)","v":"I35-119094"},"I35"]
[null,"Pelletier Yves",{"$f":"VLOOKUP(B6813,[1]export_1465921594229!$D6814:$G16074,4,FALSE)","v":"499-120250"},"499"]
[null,"Peloquin Carole",{"$f":"VLOOKUP(B6814,[1]export_1465921594229!$D6815:$G16075,4,FALSE)","v":"DB9-115877"},"DB9"]
[null,"Peloquin Claudine",{"$f":"VLOOKUP(B6815,[1]export_1465921594229!$D6816:$G16076,4,FALSE)","v":"PX1-660276"},"PX1"]
[null,"Peloquin Chantal",{"$f":"VLOOKUP(B6816,[1]export_1465921594229!$D6817:$G16077,4,FALSE)","v":{"$error":"#N/A"}},{"$error":"#N/A"}]
[null,"Pelosi Vincenzo",{"$f":"VLOOKUP(B6817,[1]export_1465921594229!$D6818:$G16078,4,FALSE)","v":"CGK-123976"},"CGK"]
[null,"Pelosi Vincenzo",{"$f":"VLOOKUP(B6818,[1]export_1465921594229!$D6819:$G16079,4,FALSE)","v":"BCE-123108"},"BCE"]
[null,"Penaflor Ophelia M",{"$f":"VLOOKUP(B6819,[1]export_1465921594229!$D6820:$G16080,4,FALSE)","v":"KJ9-116710"},"KJ9"]
[null,"Penalosa Hilda",{"$f":"VLOOKUP(B6820,[1]export_1465921594229!$D6821:$G16081,4,FALSE)","v":"DDN-124792"},"DDN"]
[null,"Penalosa Julio Cesar",{"$f":"VLOOKUP(B6821,[1]export_1465921594229!$D6822:$G16082,4,FALSE)","v":"R79-120608"},"R79"]
[null,"Peng Ying",{"$f":"VLOOKUP(B6822,[1]export_1465921594229!$D6823:$G16083,4,FALSE)","v":"BYE-123527"},"BYE"]
[null,"Penner Oddmund",{"$f":"VLOOKUP(B6823,[1]export_1465921594229!$D6824:$G16084,4,FALSE)","v":"CRY-124255"},"CRY"]
[null,"Penney John",{"$f":"VLOOKUP(B6824,[1]export_1465921594229!$D6825:$G16085,4,FALSE)","v":"COD-124161"},"COD"]
[null,"Pepin Jacques",{"$f":"VLOOKUP(B6825,[1]export_1465921594229!$D6826:$G16086,4,FALSE)","v":"X68-120041"},"X68"]
[null,"Pepin Luc",{"$f":"VLOOKUP(B6826,[1]export_1465921594229!$D6827:$G16087,4,FALSE)","v":"X38-120032"},"X38"]
[null,"Pepin Lyne",{"$f":"VLOOKUP(B6827,[1]export_1465921594229!$D6828:$G16088,4,FALSE)","v":"E72-118514"},"E72"]
[null,"Pepin Yves",{"$f":"VLOOKUP(B6828,[1]export_1465921594229!$D6829:$G16089,4,FALSE)","v":"M21-119371"},"M21"]
[null,"Pepin Cindy",{"$f":"VLOOKUP(B6829,[1]export_1465921594229!$D6830:$G16090,4,FALSE)","v":{"$error":"#N/A"}},{"$error":"#N/A"}]
[null,"Pepin Seguin Pauline",{"$f":"VLOOKUP(B6830,[1]export_1465921594229!$D6831:$G16091,4,FALSE)","v":"272-122318"},"272"]
[null,"Pereira Adelio",{"$f":"VLOOKUP(B6831,[1]export_1465921594229!$D6832:$G16092,4,FALSE)","v":"KD7-116666"},"KD7"]
[null,"Pereira Brian",{"$f":"VLOOKUP(B6832,[1]export_1465921594229!$D6833:$G16093,4,FALSE)","v":"KI3-116699"},"KI3"]
[null,"Pereira Brian",{"$f":"VLOOKUP(B6833,[1]export_1465921594229!$D6834:$G16094,4,FALSE)","v":"IJ1-119135"},"IJ1"]
[null,"Perera Ruvini",{"$f":"VLOOKUP(B6834,[1]export_1465921594229!$D6835:$G16095,4,FALSE)","v":"LJ9-119330"},"LJ9"]
[null,"Pereux Lianne",{"$f":"VLOOKUP(B6835,[1]export_1465921594229!$D6836:$G16096,4,FALSE)","v":"BGG-550537"},"BGG"]
[null,"Perez Domingo",{"$f":"VLOOKUP(B6836,[1]export_1465921594229!$D6837:$G16097,4,FALSE)","v":"CCA-123867"},"CCA"]
[null,"Perez Edwin",{"$f":"VLOOKUP(B6837,[1]export_1465921594229!$D6838:$G16098,4,FALSE)","v":"HU6-116270"},"HU6"]
[null,"Perez Gonzalez Jose Manuel",{"$f":"VLOOKUP(B6838,[1]export_1465921594229!$D6839:$G16099,4,FALSE)","v":"DL3-121528"},"DL3"]
[null,"Perigny Doris",{"$f":"VLOOKUP(B6839,[1]export_1465921594229!$D6840:$G16100,4,FALSE)","v":"Q11-120683"},"Q11"]
[null,"Perinpanathan Mariampillai",{"$f":"VLOOKUP(B6840,[1]export_1465921594229!$D6841:$G16101,4,FALSE)","v":"DQ0-115907"},"DQ0"]
[null,"Perman Frederic",{"$f":"VLOOKUP(B6841,[1]export_1465921594229!$D6842:$G16102,4,FALSE)","v":"S48-119851"},"S48"]
[null,"Perrault Lucille",{"$f":"VLOOKUP(B6842,[1]export_1465921594229!$D6843:$G16103,4,FALSE)","v":"B09-120216"},"B09"]
[null,"Perreault Jessica",{"$f":"VLOOKUP(B6843,[1]export_1465921594229!$D6844:$G16104,4,FALSE)","v":"DWK-125268"},"DWK"]
[null,"Perreault Jocelyne",{"$f":"VLOOKUP(B6844,[1]export_1465921594229!$D6845:$G16105,4,FALSE)","v":"361-120322"},"361"]
[null,"Perreault Jovette D",{"$f":"VLOOKUP(B6845,[1]export_1465921594229!$D6846:$G16106,4,FALSE)","v":"K24-121079"},"K24"]
[null,"Perreault Karl",{"$f":"VLOOKUP(B6846,[1]export_1465921594229!$D6847:$G16107,4,FALSE)","v":"C30-121804"},"C30"]
[null,"Perreault Michelle",{"$f":"VLOOKUP(B6847,[1]export_1465921594229!$D6848:$G16108,4,FALSE)","v":"CC7-118283"},"CC7"]
[null,"Perreault Raymond Normand",{"$f":"VLOOKUP(B6848,[1]export_1465921594229!$D6849:$G16109,4,FALSE)","v":"GI5-121249"},"GI5"]
[null,"Perreault Rejean",{"$f":"VLOOKUP(B6849,[1]export_1465921594229!$D6850:$G16110,4,FALSE)","v":"K69-120979"},"K69"]
[null,"Perreault Robert",{"$f":"VLOOKUP(B6850,[1]export_1465921594229!$D6851:$G16111,4,FALSE)","v":"M12-119369"},{"$f":"LEFT(C6850,3)","v":"M12"}]
[null,"Perreault Stephane",{"$f":"VLOOKUP(B6851,[1]export_1465921594229!$D6852:$G16112,4,FALSE)","v":"MB8-660654"},"MB8"]
[null,"Perreault Stephanie",{"$f":"VLOOKUP(B6852,[1]export_1465921594229!$D6853:$G16113,4,FALSE)","v":"KS4-660228"},"KS4"]
[null,"Perrier Louise",{"$f":"VLOOKUP(B6853,[1]export_1465921594229!$D6854:$G16114,4,FALSE)","v":"657-122175"},"657"]
[null,"Perrier Sylvie",{"$f":"VLOOKUP(B6854,[1]export_1465921594229!$D6855:$G16115,4,FALSE)","v":"DB5-118376"},"DB5"]
[null,"Perron Anne-Marie",{"$f":"VLOOKUP(B6855,[1]export_1465921594229!$D6856:$G16116,4,FALSE)","v":"MP8-119433"},"MP8"]
[null,"Perron Anne-Marie",{"$f":"VLOOKUP(B6856,[1]export_1465921594229!$D6857:$G16117,4,FALSE)","v":"AV5-121985"},"AV5"]
[null,"Perron Bruno",{"$f":"VLOOKUP(B6857,[1]export_1465921594229!$D6858:$G16118,4,FALSE)","v":"A45-120198"},"A45"]
[null,"Perron Claude",{"$f":"VLOOKUP(B6858,[1]export_1465921594229!$D6859:$G16119,4,FALSE)","v":"373-120326"},"373"]
[null,"Perron Daniel",{"$f":"VLOOKUP(B6859,[1]export_1465921594229!$D6860:$G16120,4,FALSE)","v":"S15-117896"},"S15"]
[null,"Perron Gilles",{"$f":"VLOOKUP(B6860,[1]export_1465921594229!$D6861:$G16121,4,FALSE)","v":"A6O-123015"},"A6O"]
[null,"Perron Jean-Yves",{"$f":"VLOOKUP(B6861,[1]export_1465921594229!$D6862:$G16122,4,FALSE)","v":"103-122454"},"103"]
[null,"Perron Jocelyn",{"$f":"VLOOKUP(B6862,[1]export_1465921594229!$D6863:$G16123,4,FALSE)","v":"685-122068"},"685"]
[null,"Perron Laurie",{"$f":"VLOOKUP(B6863,[1]export_1465921594229!$D6864:$G16124,4,FALSE)","v":"T44-120529"},"T44"]
[null,"Perron Marina",{"$f":"VLOOKUP(B6864,[1]export_1465921594229!$D6865:$G16125,4,FALSE)","v":"JQ0-116554"},"JQ0"]
[null,"Perron Michel",{"$f":"VLOOKUP(B6865,[1]export_1465921594229!$D6866:$G16126,4,FALSE)","v":"B68-121922"},"B68"]
[null,"Perron Michel",{"$f":"VLOOKUP(B6866,[1]export_1465921594229!$D6867:$G16127,4,FALSE)","v":"199-122397"},"199"]
[null,"Perron Sylvain",{"$f":"VLOOKUP(B6867,[1]export_1465921594229!$D6868:$G16128,4,FALSE)","v":"D47-121586"},"D47"]
[null,"Perry Frederick",{"$f":"VLOOKUP(B6868,[1]export_1465921594229!$D6869:$G16129,4,FALSE)","v":"GB0-118855"},"GB0"]
[null,"Perry Jeffrey",{"$f":"VLOOKUP(B6869,[1]export_1465921594229!$D6870:$G16130,4,FALSE)","v":"BF9-121843"},"BF9"]
[null,"Persaud Sukhdeo",{"$f":"VLOOKUP(B6870,[1]export_1465921594229!$D6871:$G16131,4,FALSE)","v":"DI8-121515"},"DI8"]
[null,"Pesant Loraine",{"$f":"VLOOKUP(B6871,[1]export_1465921594229!$D6872:$G16132,4,FALSE)","v":"BGN-660308"},"BGN"]
[null,"Pesant Loraine",{"$f":"VLOOKUP(B6872,[1]export_1465921594229!$D6873:$G16133,4,FALSE)","v":"D2O-125423"},"D2O"]
[null,"Petersen Frank",{"$f":"VLOOKUP(B6873,[1]export_1465921594229!$D6874:$G16134,4,FALSE)","v":"KA6-119239"},"KA6"]
[null,"Petersen Frank",{"$f":"VLOOKUP(B6874,[1]export_1465921594229!$D6875:$G16135,4,FALSE)","v":"BRF-123379"},"BRF"]
[null,"Petersen Frank",{"$f":"VLOOKUP(B6875,[1]export_1465921594229!$D6876:$G16136,4,FALSE)","v":"HG5-119031"},"HG5"]
[null,"Petersen Sean",{"$f":"VLOOKUP(B6876,[1]export_1465921594229!$D6877:$G16137,4,FALSE)","v":"CM8-118048"},"CM8"]
[null,"Peterson Daniela",{"$f":"VLOOKUP(B6877,[1]export_1465921594229!$D6878:$G16138,4,FALSE)","v":"DJ8-121518"},"DJ8"]
[null,"Petit Cynthia",{"$f":"VLOOKUP(B6878,[1]export_1465921594229!$D6879:$G16139,4,FALSE)","v":"IV6-121153"},"IV6"]
[null,"Petit Isabelle",{"$f":"VLOOKUP(B6879,[1]export_1465921594229!$D6880:$G16140,4,FALSE)","v":"A6P-123016"},"A6P"]
[null,"Petitclerc Denis",{"$f":"VLOOKUP(B6880,[1]export_1465921594229!$D6881:$G16141,4,FALSE)","v":"I01-121213"},"I01"]
[null,"Petlaha Svetlana",{"$f":"VLOOKUP(B6881,[1]export_1465921594229!$D6882:$G16142,4,FALSE)","v":"CMH-124119"},"CMH"]
[null,"Petrin Danielle",{"$f":"VLOOKUP(B6882,[1]export_1465921594229!$D6883:$G16143,4,FALSE)","v":"S36-117901"},"S36"]
[null,"Pettipas M. Diane",{"$f":"VLOOKUP(B6883,[1]export_1465921594229!$D6884:$G16144,4,FALSE)","v":"HU3-116269"},"HU3"]
[null,"Peyawary Mohammed",{"$f":"VLOOKUP(B6884,[1]export_1465921594229!$D6885:$G16145,4,FALSE)","v":"EF2-118550"},"EF2"]
[null,"Pezillier Florence",{"$f":"VLOOKUP(B6885,[1]export_1465921594229!$D6886:$G16146,4,FALSE)","v":"D28-121571"},"D28"]
[null,"Pfeifle Daine",{"$f":"VLOOKUP(B6886,[1]export_1465921594229!$D6887:$G16147,4,FALSE)","v":"FT1-118779"},"FT1"]
[null,"Pham Marie-Anne",{"$f":"VLOOKUP(B6887,[1]export_1465921594229!$D6888:$G16148,4,FALSE)","v":"O39-120740"},"O39"]
[null,"Pham Tan",{"$f":"VLOOKUP(B6888,[1]export_1465921594229!$D6889:$G16149,4,FALSE)","v":"L92-120949"},"L92"]
[null,"Pham William Van",{"$f":"VLOOKUP(B6889,[1]export_1465921594229!$D6890:$G16150,4,FALSE)","v":"PW6-117641"},"PW6"]
[null,"Philibert Guy",{"$f":"VLOOKUP(B6890,[1]export_1465921594229!$D6891:$G16151,4,FALSE)","v":"EP9-660022"},"EP9"]
[null,"Philion Richard",{"$f":"VLOOKUP(B6891,[1]export_1465921594229!$D6892:$G16152,4,FALSE)","v":"AE3-115733"},"AE3"]
[null,"Philipiah Harry Chandrarajan",{"$f":"VLOOKUP(B6892,[1]export_1465921594229!$D6893:$G16153,4,FALSE)","v":"B0C-123573"},"B0C"]
[null,"Philippe Blondine",{"$f":"VLOOKUP(B6893,[1]export_1465921594229!$D6894:$G16154,4,FALSE)","v":"CQ8-120132"},"CQ8"]
[null,"Philippe Jacques",{"$f":"VLOOKUP(B6894,[1]export_1465921594229!$D6895:$G16155,4,FALSE)","v":"BD7-118201"},"BD7"]
[null,"Philippe Pinault-Reid",{"$f":"VLOOKUP(B6895,[1]export_1465921594229!$D6896:$G16156,4,FALSE)","v":"DQD-125111"},"DQD"]
[null,"Phillip Matthew Julien",{"$f":"VLOOKUP(B6896,[1]export_1465921594229!$D6897:$G16157,4,FALSE)","v":"DOB-125057"},"DOB"]
[null,"Phillips Gerald",{"$f":"VLOOKUP(B6897,[1]export_1465921594229!$D6898:$G16158,4,FALSE)","v":"DCS-124772"},"DCS"]
[null,"Phillips James",{"$f":"VLOOKUP(B6898,[1]export_1465921594229!$D6899:$G16159,4,FALSE)","v":"CZB-124431"},"CZB"]
[null,"Phillips Martin",{"$f":"VLOOKUP(B6899,[1]export_1465921594229!$D6900:$G16160,4,FALSE)","v":"GT4-116117"},"GT4"]
[null,"Phillips-Brown Matthew",{"$f":"VLOOKUP(B6900,[1]export_1465921594229!$D6901:$G16161,4,FALSE)","v":"BWR-123498"},"BWR"]
[null,"Phonevilay Douang",{"$f":"VLOOKUP(B6901,[1]export_1465921594229!$D6902:$G16162,4,FALSE)","v":"BZ9-121779"},"BZ9"]
[null,"Phonlasouk Soudathip",{"$f":"VLOOKUP(B6902,[1]export_1465921594229!$D6903:$G16163,4,FALSE)","v":"BJQ-123242"},"BJQ"]
[null,"Phuong Peter",{"$f":"VLOOKUP(B6903,[1]export_1465921594229!$D6904:$G16164,4,FALSE)","v":"BYO-123536"},"BYO"]
[null,"Piacente Giuseppe",{"$f":"VLOOKUP(B6904,[1]export_1465921594229!$D6905:$G16165,4,FALSE)","v":"DTN-125193"},"DTN"]
[null,"Picard Frederic",{"$f":"VLOOKUP(B6905,[1]export_1465921594229!$D6906:$G16166,4,FALSE)","v":"RF6-660537"},"RF6"]
[null,"Picard Ludovic",{"$f":"VLOOKUP(B6906,[1]export_1465921594229!$D6907:$G16167,4,FALSE)","v":"KF8-116684"},"KF8"]
[null,"Piccini Natasha",{"$f":"VLOOKUP(B6907,[1]export_1465921594229!$D6908:$G16168,4,FALSE)","v":"HX5-119074"},"HX5"]
[null,"Piche Eric",{"$f":"VLOOKUP(B6908,[1]export_1465921594229!$D6909:$G16169,4,FALSE)","v":"H36-121287"},"H36"]
[null,"Piche Eric",{"$f":"VLOOKUP(B6909,[1]export_1465921594229!$D6910:$G16170,4,FALSE)","v":"W85-660730"},"W85"]
[null,"Piche Harold",{"$f":"VLOOKUP(B6910,[1]export_1465921594229!$D6911:$G16171,4,FALSE)","v":"396-120329"},"396"]
[null,"Piche Nathalie",{"$f":"VLOOKUP(B6911,[1]export_1465921594229!$D6912:$G16172,4,FALSE)","v":"E20-118478"},"E20"]
[null,"Piche Sylvie",{"$f":"VLOOKUP(B6912,[1]export_1465921594229!$D6913:$G16173,4,FALSE)","v":"EC3-660237"},"EC3"]
[null,"Piche Simon",{"$f":"VLOOKUP(B6913,[1]export_1465921594229!$D6914:$G16174,4,FALSE)","v":{"$error":"#N/A"}},{"$error":"#N/A"}]
[null,"Picher Raymond",{"$f":"VLOOKUP(B6914,[1]export_1465921594229!$D6915:$G16175,4,FALSE)","v":"F87-121417"},{"$f":"LEFT(C6914,3)","v":"F87"}]
[null,"Pichette Celine",{"$f":"VLOOKUP(B6915,[1]export_1465921594229!$D6916:$G16176,4,FALSE)","v":"F63-118667"},"F63"]
[null,"Pichette Louise",{"$f":"VLOOKUP(B6916,[1]export_1465921594229!$D6917:$G16177,4,FALSE)","v":"280-122322"},"280"]
[null,"Pickering Daryl",{"$f":"VLOOKUP(B6917,[1]export_1465921594229!$D6918:$G16178,4,FALSE)","v":"EW5-118629"},"EW5"]
[null,"Picotte Manon",{"$f":"VLOOKUP(B6918,[1]export_1465921594229!$D6919:$G16179,4,FALSE)","v":"EA6-115936"},"EA6"]
[null,"Pierre Eric",{"$f":"VLOOKUP(B6919,[1]export_1465921594229!$D6920:$G16180,4,FALSE)","v":"B44-120226"},"B44"]
[null,"Pierre Cauchon Inc. Les Assurances",{"$f":"VLOOKUP(B6920,[1]export_1465921594229!$D6921:$G16181,4,FALSE)","v":"E77-118518"},"E77"]
[null,"Pigeon Gilbert",{"$f":"VLOOKUP(B6921,[1]export_1465921594229!$D6922:$G16182,4,FALSE)","v":"K91-120995"},"K91"]
[null,"Pilon Bruno",{"$f":"VLOOKUP(B6922,[1]export_1465921594229!$D6923:$G16183,4,FALSE)","v":"PN9-660199"},"PN9"]
[null,"Pilon Frederic",{"$f":"VLOOKUP(B6923,[1]export_1465921594229!$D6924:$G16184,4,FALSE)","v":"C52-121691"},"C52"]
[null,"Pilon Katy",{"$f":"VLOOKUP(B6924,[1]export_1465921594229!$D6925:$G16185,4,FALSE)","v":"X05-120504"},"X05"]
[null,"Pilon Katy",{"$f":"VLOOKUP(B6925,[1]export_1465921594229!$D6926:$G16186,4,FALSE)","v":"T89-660257"},"T89"]
[null,"Pilon Michel",{"$f":"VLOOKUP(B6926,[1]export_1465921594229!$D6927:$G16187,4,FALSE)","v":"D64-121598"},"D64"]
[null,"Pilon Michel",{"$f":"VLOOKUP(B6927,[1]export_1465921594229!$D6928:$G16188,4,FALSE)","v":"W84-120013"},"W84"]
[null,"Pilon Michel",{"$f":"VLOOKUP(B6928,[1]export_1465921594229!$D6929:$G16189,4,FALSE)","v":"262-115696"},"262"]
[null,"Pilon Michel",{"$f":"VLOOKUP(B6929,[1]export_1465921594229!$D6930:$G16190,4,FALSE)","v":"737-115660"},"737"]
[null,"Pilote Manon",{"$f":"VLOOKUP(B6930,[1]export_1465921594229!$D6931:$G16191,4,FALSE)","v":"H17-118967"},"H17"]
[null,"Pin Eric",{"$f":"VLOOKUP(B6931,[1]export_1465921594229!$D6932:$G16192,4,FALSE)","v":"C31-121677"},"C31"]
[null,"Pinard Frederic",{"$f":"VLOOKUP(B6932,[1]export_1465921594229!$D6933:$G16193,4,FALSE)","v":"D00-121554"},"D00"]
[null,"Pinard Guy",{"$f":"VLOOKUP(B6933,[1]export_1465921594229!$D6934:$G16194,4,FALSE)","v":"691-122072"},"691"]
[null,"Pinard Allard Jocelyne",{"$f":"VLOOKUP(B6934,[1]export_1465921594229!$D6935:$G16195,4,FALSE)","v":"Z60-120455"},"Z60"]
[null,"Pineau Benoit",{"$f":"VLOOKUP(B6935,[1]export_1465921594229!$D6936:$G16196,4,FALSE)","v":"J02-119167"},"J02"]
[null,"Pineau Benoit",{"$f":"VLOOKUP(B6936,[1]export_1465921594229!$D6937:$G16197,4,FALSE)","v":"531-120260"},"531"]
[null,"Pineau Gilles",{"$f":"VLOOKUP(B6937,[1]export_1465921594229!$D6938:$G16198,4,FALSE)","v":"L23-660087"},"L23"]
[null,"Pineault Hugue",{"$f":"VLOOKUP(B6938,[1]export_1465921594229!$D6939:$G16199,4,FALSE)","v":"X22-120509"},"X22"]
[null,"Pineault Julie",{"$f":"VLOOKUP(B6939,[1]export_1465921594229!$D6940:$G16200,4,FALSE)","v":"AN1-121947"},"AN1"]
[null,"Pineda Diana",{"$f":"VLOOKUP(B6940,[1]export_1465921594229!$D6941:$G16201,4,FALSE)","v":"JO0-119213"},"JO0"]
[null,"Pineiro-Alvarez Rene",{"$f":"VLOOKUP(B6941,[1]export_1465921594229!$D6942:$G16202,4,FALSE)","v":{"$error":"#N/A"}},{"$error":"#N/A"}]
[null,"Pinet Jean-Marie",{"$f":"VLOOKUP(B6942,[1]export_1465921594229!$D6943:$G16203,4,FALSE)","v":"DW5-118452"},"DW5"]
[null,"Pinet Marcel",{"$f":"VLOOKUP(B6943,[1]export_1465921594229!$D6944:$G16204,4,FALSE)","v":"AJ7-118126"},"AJ7"]
[null,"Pinet Wanda",{"$f":"VLOOKUP(B6944,[1]export_1465921594229!$D6945:$G16205,4,FALSE)","v":"BB3-118192"},"BB3"]
[null,"Pinkney Eric",{"$f":"VLOOKUP(B6945,[1]export_1465921594229!$D6946:$G16206,4,FALSE)","v":"P16-120775"},"P16"]
[null,"Pinnell Douglas",{"$f":"VLOOKUP(B6946,[1]export_1465921594229!$D6947:$G16207,4,FALSE)","v":"AC4-115729"},"AC4"]
[null,"Pinsonneault Andre",{"$f":"VLOOKUP(B6947,[1]export_1465921594229!$D6948:$G16208,4,FALSE)","v":"R18-660202"},"R18"]
[null,"Pinto Mark",{"$f":"VLOOKUP(B6948,[1]export_1465921594229!$D6949:$G16209,4,FALSE)","v":"LA3-119309"},"LA3"]
[null,"Pinumalla Tarunmayi",{"$f":"VLOOKUP(B6949,[1]export_1465921594229!$D6950:$G16210,4,FALSE)","v":"DUD-125209"},"DUD"]
[null,"Pio Spada Antonio",{"$f":"VLOOKUP(B6950,[1]export_1465921594229!$D6951:$G16211,4,FALSE)","v":"BJG-660182"},"BJG"]
[null,"Pion Michele",{"$f":"VLOOKUP(B6951,[1]export_1465921594229!$D6952:$G16212,4,FALSE)","v":"400-122281"},"400"]
[null,"Piper Leanne",{"$f":"VLOOKUP(B6952,[1]export_1465921594229!$D6953:$G16213,4,FALSE)","v":"PT6-117614"},"PT6"]
[null,"Pipon Lorraine",{"$f":"VLOOKUP(B6953,[1]export_1465921594229!$D6954:$G16214,4,FALSE)","v":"I88-121115"},"I88"]
[null,"Piranavam Thiruchelvan",{"$f":"VLOOKUP(B6954,[1]export_1465921594229!$D6955:$G16215,4,FALSE)","v":"QL3-117718"},"QL3"]
[null,"Pirhonen James",{"$f":"VLOOKUP(B6955,[1]export_1465921594229!$D6956:$G16216,4,FALSE)","v":"B0I-123578"},"B0I"]
[null,"Piruchta Libor",{"$f":"VLOOKUP(B6956,[1]export_1465921594229!$D6957:$G16217,4,FALSE)","v":"AK7-118131"},"AK7"]
[null,"Pitt Pierrick",{"$f":"VLOOKUP(B6957,[1]export_1465921594229!$D6958:$G16218,4,FALSE)","v":"CSX-124280"},"CSX"]
[null,"Pittana Paul",{"$f":"VLOOKUP(B6958,[1]export_1465921594229!$D6959:$G16219,4,FALSE)","v":"HU2-116268"},"HU2"]
[null,"Piuze Andre",{"$f":"VLOOKUP(B6959,[1]export_1465921594229!$D6960:$G16220,4,FALSE)","v":{"$error":"#N/A"}},{"$error":"#N/A"}]
[null,"Plaisance Claude",{"$f":"VLOOKUP(B6960,[1]export_1465921594229!$D6961:$G16221,4,FALSE)","v":"692-122073"},"692"]
[null,"Plamondon Anny",{"$f":"VLOOKUP(B6961,[1]export_1465921594229!$D6962:$G16222,4,FALSE)","v":"HL1-119041"},"HL1"]
[null,"Plamondon Ghislaine",{"$f":"VLOOKUP(B6962,[1]export_1465921594229!$D6963:$G16223,4,FALSE)","v":"E07-118465"},"E07"]
[null,"Plamondon Lucie",{"$f":"VLOOKUP(B6963,[1]export_1465921594229!$D6964:$G16224,4,FALSE)","v":"B5Q-123708"},"B5Q"]
[null,"Plamondon Pierre",{"$f":"VLOOKUP(B6964,[1]export_1465921594229!$D6965:$G16225,4,FALSE)","v":"F04-121390"},"F04"]
[null,"Plamondon Pierre",{"$f":"VLOOKUP(B6965,[1]export_1465921594229!$D6966:$G16226,4,FALSE)","v":"CZ2-115863"},"CZ2"]
[null,"Plante Alain",{"$f":"VLOOKUP(B6966,[1]export_1465921594229!$D6967:$G16227,4,FALSE)","v":"S95-119874"},"S95"]
[null,"Plante Carole",{"$f":"VLOOKUP(B6967,[1]export_1465921594229!$D6968:$G16228,4,FALSE)","v":"423-120338"},"423"]
[null,"Plante Daniel",{"$f":"VLOOKUP(B6968,[1]export_1465921594229!$D6969:$G16229,4,FALSE)","v":"C91-120127"},"C91"]
[null,"Plante Denis",{"$f":"VLOOKUP(B6969,[1]export_1465921594229!$D6970:$G16230,4,FALSE)","v":"JG2-116496"},"JG2"]
[null,"Plante Gaetan",{"$f":"VLOOKUP(B6970,[1]export_1465921594229!$D6971:$G16231,4,FALSE)","v":"V74-119970"},"V74"]
[null,"Plante Jacques",{"$f":"VLOOKUP(B6971,[1]export_1465921594229!$D6972:$G16232,4,FALSE)","v":"BDY-660262"},"BDY"]
[null,"Plante Jean-Claude",{"$f":"VLOOKUP(B6972,[1]export_1465921594229!$D6973:$G16233,4,FALSE)","v":"BJR-660324"},"BJR"]
[null,"Plante Josee",{"$f":"VLOOKUP(B6973,[1]export_1465921594229!$D6974:$G16234,4,FALSE)","v":{"$error":"#N/A"}},{"$error":"#N/A"}]
[null,"Plante Lynda",{"$f":"VLOOKUP(B6974,[1]export_1465921594229!$D6975:$G16235,4,FALSE)","v":"BTF-660382"},"BTF"]
[null,"Plante Melissa",{"$f":"VLOOKUP(B6975,[1]export_1465921594229!$D6976:$G16236,4,FALSE)","v":{"$error":"#N/A"}},{"$error":"#N/A"}]
[null,"Plante Philipe",{"$f":"VLOOKUP(B6976,[1]export_1465921594229!$D6977:$G16237,4,FALSE)","v":"KE2-660432"},"KE2"]
[null,"Plante Philippe",{"$f":"VLOOKUP(B6977,[1]export_1465921594229!$D6978:$G16238,4,FALSE)","v":"JG3-660628"},"JG3"]
[null,"Plante Yolande",{"$f":"VLOOKUP(B6978,[1]export_1465921594229!$D6979:$G16239,4,FALSE)","v":"693-122074"},{"$f":"LEFT(C6978,3)","v":"693"}]
[null,"Platon Opris Doina",{"$f":"VLOOKUP(B6979,[1]export_1465921594229!$D6980:$G16240,4,FALSE)","v":"A44-122119"},"A44"]
[null,"Platsko Allan",{"$f":"VLOOKUP(B6980,[1]export_1465921594229!$D6981:$G16241,4,FALSE)","v":"DAG-124709"},"DAG"]
[null,"Platsko Allan",{"$f":"VLOOKUP(B6981,[1]export_1465921594229!$D6982:$G16242,4,FALSE)","v":"CH6-118303"},"CH6"]
[null,"Platsko Allan",{"$f":"VLOOKUP(B6982,[1]export_1465921594229!$D6983:$G16243,4,FALSE)","v":"LI1-119323"},"LI1"]
[null,"Platsko Allan",{"$f":"VLOOKUP(B6983,[1]export_1465921594229!$D6984:$G16244,4,FALSE)","v":"FE8-118705"},"FE8"]
[null,"Pleet Harris",{"$f":"VLOOKUP(B6984,[1]export_1465921594229!$D6985:$G16245,4,FALSE)","v":"GL6-550485"},"GL6"]
[null,"Pleydell-Pearce Oliver",{"$f":"VLOOKUP(B6985,[1]export_1465921594229!$D6986:$G16246,4,FALSE)","v":"BLK-502276"},"BLK"]
[null,"Plouffe Mario",{"$f":"VLOOKUP(B6986,[1]export_1465921594229!$D6987:$G16247,4,FALSE)","v":"B34-120224"},"B34"]
[null,"Plourde Jean",{"$f":"VLOOKUP(B6987,[1]export_1465921594229!$D6988:$G16248,4,FALSE)","v":"BQ3-121745"},"BQ3"]
[null,"Plourde Stephanie",{"$f":"VLOOKUP(B6988,[1]export_1465921594229!$D6989:$G16249,4,FALSE)","v":"CRU-124251"},"CRU"]
[null,"Plume Michael G.",{"$f":"VLOOKUP(B6989,[1]export_1465921594229!$D6990:$G16250,4,FALSE)","v":"OK1-117343"},"OK1"]
[null,"Plummer Patrick",{"$f":"VLOOKUP(B6990,[1]export_1465921594229!$D6991:$G16251,4,FALSE)","v":"BC4-121826"},"BC4"]
[null,"Plummer Patrick",{"$f":"VLOOKUP(B6991,[1]export_1465921594229!$D6992:$G16252,4,FALSE)","v":"IR6-119153"},"IR6"]
[null,"Pobihushchy Patricia",{"$f":"VLOOKUP(B6992,[1]export_1465921594229!$D6993:$G16253,4,FALSE)","v":"CVE-124334"},"CVE"]
[null,"Pocha Jamie",{"$f":"VLOOKUP(B6993,[1]export_1465921594229!$D6994:$G16254,4,FALSE)","v":"C8F-124658"},"C8F"]
[null,"Pociurko Andre",{"$f":"VLOOKUP(B6994,[1]export_1465921594229!$D6995:$G16255,4,FALSE)","v":"DSW-125176"},"DSW"]
[null,"Poirier Alain",{"$f":"VLOOKUP(B6995,[1]export_1465921594229!$D6996:$G16256,4,FALSE)","v":"C4T-124573"},"C4T"]
[null,"Poirier Albert",{"$f":"VLOOKUP(B6996,[1]export_1465921594229!$D6997:$G16257,4,FALSE)","v":"LU3-116913"},"LU3"]
[null,"Poirier Armand",{"$f":"VLOOKUP(B6997,[1]export_1465921594229!$D6998:$G16258,4,FALSE)","v":"397-120330"},"397"]
[null,"Poirier Dannik",{"$f":"VLOOKUP(B6998,[1]export_1465921594229!$D6999:$G16259,4,FALSE)","v":"PS8-117606"},"PS8"]
[null,"Poirier Denyse",{"$f":"VLOOKUP(B6999,[1]export_1465921594229!$D7000:$G16260,4,FALSE)","v":"186-122386"},"186"]
[null,"Poirier Johanne",{"$f":"VLOOKUP(B7000,[1]export_1465921594229!$D7001:$G16261,4,FALSE)","v":"281-120436"},"281"]
[null,"Poirier Lise",{"$f":"VLOOKUP(B7001,[1]export_1465921594229!$D7002:$G16262,4,FALSE)","v":"661-122178"},"661"]
[null,"Poirier Lucie",{"$f":"VLOOKUP(B7002,[1]export_1465921594229!$D7003:$G16263,4,FALSE)","v":"567-122246"},"567"]
[null,"Poirier Lynda",{"$f":"VLOOKUP(B7003,[1]export_1465921594229!$D7004:$G16264,4,FALSE)","v":"697-122078"},"697"]
[null,"Poirier Normand",{"$f":"VLOOKUP(B7004,[1]export_1465921594229!$D7005:$G16265,4,FALSE)","v":"MU2-660195"},"MU2"]
[null,"Poirier Pascal",{"$f":"VLOOKUP(B7005,[1]export_1465921594229!$D7006:$G16266,4,FALSE)","v":"B67-121921"},"B67"]
[null,"Poirier Paulette",{"$f":"VLOOKUP(B7006,[1]export_1465921594229!$D7007:$G16267,4,FALSE)","v":"334-122362"},"334"]
[null,"Poirier Pierre",{"$f":"VLOOKUP(B7007,[1]export_1465921594229!$D7008:$G16268,4,FALSE)","v":"C7W-124649"},"C7W"]
[null,"Poirier Rachel",{"$f":"VLOOKUP(B7008,[1]export_1465921594229!$D7009:$G16269,4,FALSE)","v":"367-115702"},"367"]
[null,"Poirier Rejean",{"$f":"VLOOKUP(B7009,[1]export_1465921594229!$D7010:$G16270,4,FALSE)","v":"W48-117977"},"W48"]
[null,"Poirier Robert",{"$f":"VLOOKUP(B7010,[1]export_1465921594229!$D7011:$G16271,4,FALSE)","v":"X88-120048"},"X88"]
[null,"Poirier Serge",{"$f":"VLOOKUP(B7011,[1]export_1465921594229!$D7012:$G16272,4,FALSE)","v":"FH4-116018"},"FH4"]
[null,"Poirier Steven",{"$f":"VLOOKUP(B7012,[1]export_1465921594229!$D7013:$G16273,4,FALSE)","v":"P29-117444"},"P29"]
[null,"Poirier Yves",{"$f":"VLOOKUP(B7013,[1]export_1465921594229!$D7014:$G16274,4,FALSE)","v":"LL0-119331"},"LL0"]
[null,"Poirier Bourdages Jonathan",{"$f":"VLOOKUP(B7014,[1]export_1465921594229!$D7015:$G16275,4,FALSE)","v":"BC1-121824"},"BC1"]
[null,"Poirier Bourdages Jonathan",{"$f":"VLOOKUP(B7015,[1]export_1465921594229!$D7016:$G16276,4,FALSE)","v":"BDM-123119"},"BDM"]
[null,"Poissant Chantal",{"$f":"VLOOKUP(B7016,[1]export_1465921594229!$D7017:$G16277,4,FALSE)","v":"AH9-122056"},"AH9"]
[null,"Poitras Denis",{"$f":"VLOOKUP(B7017,[1]export_1465921594229!$D7018:$G16278,4,FALSE)","v":"CHL-124002"},"CHL"]
[null,"Poitras Guy",{"$f":"VLOOKUP(B7018,[1]export_1465921594229!$D7019:$G16279,4,FALSE)","v":"N97-120835"},"N97"]
[null,"Pollard James",{"$f":"VLOOKUP(B7019,[1]export_1465921594229!$D7020:$G16280,4,FALSE)","v":"FE5-029537"},"FE5"]
[null,"Pollard James",{"$f":"VLOOKUP(B7020,[1]export_1465921594229!$D7021:$G16281,4,FALSE)","v":"P23-119613"},"P23"]
[null,"Pollard James",{"$f":"VLOOKUP(B7021,[1]export_1465921594229!$D7022:$G16282,4,FALSE)","v":"DAL-124714"},"DAL"]
[null,"Pollard James",{"$f":"VLOOKUP(B7022,[1]export_1465921594229!$D7023:$G16283,4,FALSE)","v":"FQ3-115592"},"FQ3"]
[null,"Pollender Robert",{"$f":"VLOOKUP(B7023,[1]export_1465921594229!$D7024:$G16284,4,FALSE)","v":"V06-120576"},"V06"]
[null,"Pollock Tina",{"$f":"VLOOKUP(B7024,[1]export_1465921594229!$D7025:$G16285,4,FALSE)","v":"DHC-124884"},"DHC"]
[null,"Pollon Mark",{"$f":"VLOOKUP(B7025,[1]export_1465921594229!$D7026:$G16286,4,FALSE)","v":"FE4-118702"},"FE4"]
[null,"Pomerleau Annick",{"$f":"VLOOKUP(B7026,[1]export_1465921594229!$D7027:$G16287,4,FALSE)","v":"F83-118674"},"F83"]
[null,"Pomerleau Cecile",{"$f":"VLOOKUP(B7027,[1]export_1465921594229!$D7028:$G16288,4,FALSE)","v":"666-122183"},"666"]
[null,"Pomerleau Christian",{"$f":"VLOOKUP(B7028,[1]export_1465921594229!$D7029:$G16289,4,FALSE)","v":"CP5-121645"},"CP5"]
[null,"Ponce Ann",{"$f":"VLOOKUP(B7029,[1]export_1465921594229!$D7030:$G16290,4,FALSE)","v":"NA6-117143"},"NA6"]
[null,"Ponnudurai Ravichandiranesan",{"$f":"VLOOKUP(B7030,[1]export_1465921594229!$D7031:$G16291,4,FALSE)","v":"PD0-117476"},"PD0"]
[null,"Pontanilla Doris",{"$f":"VLOOKUP(B7031,[1]export_1465921594229!$D7032:$G16292,4,FALSE)","v":"LE5-116828"},"LE5"]
[null,"Pontbriand Claude",{"$f":"VLOOKUP(B7032,[1]export_1465921594229!$D7033:$G16293,4,FALSE)","v":"X92-120049"},"X92"]
[null,"Pop-Otrocol Cornel",{"$f":"VLOOKUP(B7033,[1]export_1465921594229!$D7034:$G16294,4,FALSE)","v":"DLG-124987"},"DLG"]
[null,"Popovici Cristina",{"$f":"VLOOKUP(B7034,[1]export_1465921594229!$D7035:$G16295,4,FALSE)","v":"C9Z-123815"},"C9Z"]
[null,"Pornillos Susana",{"$f":"VLOOKUP(B7035,[1]export_1465921594229!$D7036:$G16296,4,FALSE)","v":"DQT-125127"},"DQT"]
[null,"Porras Marivic C",{"$f":"VLOOKUP(B7036,[1]export_1465921594229!$D7037:$G16297,4,FALSE)","v":"CFV-123961"},"CFV"]
[null,"Porras Marivic C",{"$f":"VLOOKUP(B7037,[1]export_1465921594229!$D7038:$G16298,4,FALSE)","v":"MA2-116969"},"MA2"]
[null,"Porter Jacquelene",{"$f":"VLOOKUP(B7038,[1]export_1465921594229!$D7039:$G16299,4,FALSE)","v":"D5Q-125500"},"D5Q"]
[null,"Portmann Amanda",{"$f":"VLOOKUP(B7039,[1]export_1465921594229!$D7040:$G16300,4,FALSE)","v":"KC9-116660"},"KC9"]
[null,"Post Brian",{"$f":"VLOOKUP(B7040,[1]export_1465921594229!$D7041:$G16301,4,FALSE)","v":"KK1-116712"},"KK1"]
[null,"Postma Robin",{"$f":"VLOOKUP(B7041,[1]export_1465921594229!$D7042:$G16302,4,FALSE)","v":"Q44-119694"},"Q44"]
[null,"Pothier Mario",{"$f":"VLOOKUP(B7042,[1]export_1465921594229!$D7043:$G16303,4,FALSE)","v":"L93-120950"},{"$f":"LEFT(C7042,3)","v":"L93"}]
[null,"Pothier Mario",{"$f":"VLOOKUP(B7043,[1]export_1465921594229!$D7044:$G16304,4,FALSE)","v":"O57-660603"},"O57"]
[null,"Pothier Martin",{"$f":"VLOOKUP(B7044,[1]export_1465921594229!$D7045:$G16305,4,FALSE)","v":"T40-120528"},"T40"]
[null,"Potvin Francine",{"$f":"VLOOKUP(B7045,[1]export_1465921594229!$D7046:$G16306,4,FALSE)","v":"282-122323"},"282"]
[null,"Potvin Jonathan",{"$f":"VLOOKUP(B7046,[1]export_1465921594229!$D7047:$G16307,4,FALSE)","v":"I71-660651"},"I71"]
[null,"Potvin Kevin John",{"$f":"VLOOKUP(B7047,[1]export_1465921594229!$D7048:$G16308,4,FALSE)","v":"JL4-116527"},"JL4"]
[null,"Potvin Marie-Christine",{"$f":"VLOOKUP(B7048,[1]export_1465921594229!$D7049:$G16309,4,FALSE)","v":"582-122126"},"582"]
[null,"Potvin Maryse",{"$f":"VLOOKUP(B7049,[1]export_1465921594229!$D7050:$G16310,4,FALSE)","v":"C32-121678"},"C32"]
[null,"Potvin Michel",{"$f":"VLOOKUP(B7050,[1]export_1465921594229!$D7051:$G16311,4,FALSE)","v":"GD4-118861"},"GD4"]
[null,"Potvin Richard J",{"$f":"VLOOKUP(B7051,[1]export_1465921594229!$D7052:$G16312,4,FALSE)","v":"JU5-116586"},"JU5"]
[null,"Poudrier Carmen",{"$f":"VLOOKUP(B7052,[1]export_1465921594229!$D7053:$G16313,4,FALSE)","v":"U21-119920"},"U21"]
[null,"Poudrier Patrick",{"$f":"VLOOKUP(B7053,[1]export_1465921594229!$D7054:$G16314,4,FALSE)","v":"JD7-116483"},"JD7"]
[null,"Poudrier Yvon",{"$f":"VLOOKUP(B7054,[1]export_1465921594229!$D7055:$G16315,4,FALSE)","v":"Z27-118020"},"Z27"]
[null,"Poulin Anne",{"$f":"VLOOKUP(B7055,[1]export_1465921594229!$D7056:$G16316,4,FALSE)","v":"CVA-124330"},"CVA"]
[null,"Poulin Carolle",{"$f":"VLOOKUP(B7056,[1]export_1465921594229!$D7057:$G16317,4,FALSE)","v":"067-122558"},"067"]
[null,"Poulin Claude",{"$f":"VLOOKUP(B7057,[1]export_1465921594229!$D7058:$G16318,4,FALSE)","v":"P69-660021"},"P69"]
[null,"Poulin Diane",{"$f":"VLOOKUP(B7058,[1]export_1465921594229!$D7059:$G16319,4,FALSE)","v":"G26-121338"},"G26"]
[null,"Poulin Diane",{"$f":"VLOOKUP(B7059,[1]export_1465921594229!$D7060:$G16320,4,FALSE)","v":"141-122482"},"141"]
[null,"Poulin Etienne",{"$f":"VLOOKUP(B7060,[1]export_1465921594229!$D7061:$G16321,4,FALSE)","v":"PX0-117644"},"PX0"]
[null,"Poulin Francois",{"$f":"VLOOKUP(B7061,[1]export_1465921594229!$D7062:$G16322,4,FALSE)","v":"GF8-660423"},"GF8"]
[null,"Poulin Jean-William",{"$f":"VLOOKUP(B7062,[1]export_1465921594229!$D7063:$G16323,4,FALSE)","v":"I60-121101"},"I60"]
[null,"Poulin Jean-William",{"$f":"VLOOKUP(B7063,[1]export_1465921594229!$D7064:$G16324,4,FALSE)","v":"G18-120170"},"G18"]
[null,"Poulin Jean-William",{"$f":"VLOOKUP(B7064,[1]export_1465921594229!$D7065:$G16325,4,FALSE)","v":"D20-121567"},"D20"]
[null,"Poulin Jean-William",{"$f":"VLOOKUP(B7065,[1]export_1465921594229!$D7066:$G16326,4,FALSE)","v":"D15-121564"},"D15"]
[null,"Poulin Jean-Yves",{"$f":"VLOOKUP(B7066,[1]export_1465921594229!$D7067:$G16327,4,FALSE)","v":"083-120391"},"083"]
[null,"Poulin Madeleine",{"$f":"VLOOKUP(B7067,[1]export_1465921594229!$D7068:$G16328,4,FALSE)","v":"667-120302"},"667"]
[null,"Poulin Mario",{"$f":"VLOOKUP(B7068,[1]export_1465921594229!$D7069:$G16329,4,FALSE)","v":"D56-121593"},"D56"]
[null,"Poulin Patrick",{"$f":"VLOOKUP(B7069,[1]export_1465921594229!$D7070:$G16330,4,FALSE)","v":"W31-550126"},"W31"]
[null,"Poulin Raymond",{"$f":"VLOOKUP(B7070,[1]export_1465921594229!$D7071:$G16331,4,FALSE)","v":"AA9-660723"},"AA9"]
[null,"Poulin Rejean",{"$f":"VLOOKUP(B7071,[1]export_1465921594229!$D7072:$G16332,4,FALSE)","v":"W32-550125"},"W32"]
[null,"Poulin Renaud",{"$f":"VLOOKUP(B7072,[1]export_1465921594229!$D7073:$G16333,4,FALSE)","v":"306-122340"},"306"]
[null,"Poulin Richard",{"$f":"VLOOKUP(B7073,[1]export_1465921594229!$D7074:$G16334,4,FALSE)","v":"M85-119398"},"M85"]
[null,"Poulin Rock",{"$f":"VLOOKUP(B7074,[1]export_1465921594229!$D7075:$G16335,4,FALSE)","v":"P90-119637"},"P90"]
[null,"Poulin Steeve",{"$f":"VLOOKUP(B7075,[1]export_1465921594229!$D7076:$G16336,4,FALSE)","v":"CF3-660526"},"CF3"]
[null,"Poulin Stephanie",{"$f":"VLOOKUP(B7076,[1]export_1465921594229!$D7077:$G16337,4,FALSE)","v":{"$error":"#N/A"}},{"$error":"#N/A"}]
[null,"Poulin Stephanie",{"$f":"VLOOKUP(B7077,[1]export_1465921594229!$D7078:$G16338,4,FALSE)","v":{"$error":"#N/A"}},{"$error":"#N/A"}]
[null,"Poulin Yannick",{"$f":"VLOOKUP(B7078,[1]export_1465921594229!$D7079:$G16339,4,FALSE)","v":"BTZ-600085"},"BTZ"]
[null,"Poulin Yves",{"$f":"VLOOKUP(B7079,[1]export_1465921594229!$D7080:$G16340,4,FALSE)","v":"ED9-121460"},"ED9"]
[null,"Poulin (Al P.& Asso. Fin) Alain",{"$f":"VLOOKUP(B7080,[1]export_1465921594229!$D7081:$G16341,4,FALSE)","v":"PB8-117465"},"PB8"]
[null,"Pouliot Carolle",{"$f":"VLOOKUP(B7081,[1]export_1465921594229!$D7082:$G16342,4,FALSE)","v":"263-122440"},"263"]
[null,"Pouliot Gilles",{"$f":"VLOOKUP(B7082,[1]export_1465921594229!$D7083:$G16343,4,FALSE)","v":"DPM-125094"},"DPM"]
[null,"Pouliot Josiane",{"$f":"VLOOKUP(B7083,[1]export_1465921594229!$D7084:$G16344,4,FALSE)","v":"D6X-125530"},"D6X"]
[null,"Pouliot Madeleine",{"$f":"VLOOKUP(B7084,[1]export_1465921594229!$D7085:$G16345,4,FALSE)","v":"CCT-123886"},"CCT"]
[null,"Pouliot Maxime",{"$f":"VLOOKUP(B7085,[1]export_1465921594229!$D7086:$G16346,4,FALSE)","v":"BOA-660361"},"BOA"]
[null,"Pouliot Patrice",{"$f":"VLOOKUP(B7086,[1]export_1465921594229!$D7087:$G16347,4,FALSE)","v":"AZ6-121870"},"AZ6"]
[null,"Pouliot Pierre",{"$f":"VLOOKUP(B7087,[1]export_1465921594229!$D7088:$G16348,4,FALSE)","v":"M30-120860"},"M30"]
[null,"Pouliot Pierre",{"$f":"VLOOKUP(B7088,[1]export_1465921594229!$D7089:$G16349,4,FALSE)","v":"PR4-550180"},"PR4"]
[null,"Pouliot Pierre",{"$f":"VLOOKUP(B7089,[1]export_1465921594229!$D7090:$G16350,4,FALSE)","v":"R12-119792"},"R12"]
[null,"Powell David",{"$f":"VLOOKUP(B7090,[1]export_1465921594229!$D7091:$G16351,4,FALSE)","v":"AW6-118178"},"AW6"]
[null,"Powers Anthony",{"$f":"VLOOKUP(B7091,[1]export_1465921594229!$D7092:$G16352,4,FALSE)","v":"M78-660632"},"M78"]
[null,"Powers Michael Wayne",{"$f":"VLOOKUP(B7092,[1]export_1465921594229!$D7093:$G16353,4,FALSE)","v":"EO3-121357"},"EO3"]
[null,"Powers Richard",{"$f":"VLOOKUP(B7093,[1]export_1465921594229!$D7094:$G16354,4,FALSE)","v":"I72-660677"},"I72"]
[null,"Prabagaran Shanthiny",{"$f":"VLOOKUP(B7094,[1]export_1465921594229!$D7095:$G16355,4,FALSE)","v":"B6S-123734"},"B6S"]
[null,"Prakasan Kelvin",{"$f":"VLOOKUP(B7095,[1]export_1465921594229!$D7096:$G16356,4,FALSE)","v":"B8E-123772"},"B8E"]
[null,"Prakash Annal",{"$f":"VLOOKUP(B7096,[1]export_1465921594229!$D7097:$G16357,4,FALSE)","v":"BYX-123543"},"BYX"]
[null,"Prakash Rohit",{"$f":"VLOOKUP(B7097,[1]export_1465921594229!$D7098:$G16358,4,FALSE)","v":"BAT-550064"},"BAT"]
[null,"Prakash Vijay",{"$f":"VLOOKUP(B7098,[1]export_1465921594229!$D7099:$G16359,4,FALSE)","v":"CA9-118277"},"CA9"]
[null,"Prakash Vijay",{"$f":"VLOOKUP(B7099,[1]export_1465921594229!$D7100:$G16360,4,FALSE)","v":"B8B-123769"},"B8B"]
[null,"Prakash Vijay",{"$f":"VLOOKUP(B7100,[1]export_1465921594229!$D7101:$G16361,4,FALSE)","v":"HB1-119005"},"HB1"]
[null,"Pranszke Michel",{"$f":"VLOOKUP(B7101,[1]export_1465921594229!$D7102:$G16362,4,FALSE)","v":"S35-550150"},"S35"]
[null,"Prasad Vicky",{"$f":"VLOOKUP(B7102,[1]export_1465921594229!$D7103:$G16363,4,FALSE)","v":"GP7-118927"},"GP7"]
[null,"Prathapasinghe Swarna",{"$f":"VLOOKUP(B7103,[1]export_1465921594229!$D7104:$G16364,4,FALSE)","v":"DQ8-550389"},"DQ8"]
[null,"Pratt Donald",{"$f":"VLOOKUP(B7104,[1]export_1465921594229!$D7105:$G16365,4,FALSE)","v":"CWI-124363"},"CWI"]
[null,"Pratte Serge",{"$f":"VLOOKUP(B7105,[1]export_1465921594229!$D7106:$G16366,4,FALSE)","v":"P83-120672"},"P83"]
[null,"Prefontaine Simon",{"$f":"VLOOKUP(B7106,[1]export_1465921594229!$D7107:$G16367,4,FALSE)","v":"KS1-119273"},{"$f":"LEFT(C7106,3)","v":"KS1"}]
[null,"Prekaski Jeffrey",{"$f":"VLOOKUP(B7107,[1]export_1465921594229!$D7108:$G16368,4,FALSE)","v":"CT2-118350"},"CT2"]
[null,"Premont Bruno",{"$f":"VLOOKUP(B7108,[1]export_1465921594229!$D7109:$G16369,4,FALSE)","v":"D24-120142"},"D24"]
[null,"Premont Francine",{"$f":"VLOOKUP(B7109,[1]export_1465921594229!$D7110:$G16370,4,FALSE)","v":"196-122395"},"196"]
[null,"Presseau Gilbert",{"$f":"VLOOKUP(B7110,[1]export_1465921594229!$D7111:$G16371,4,FALSE)","v":"V01-660006"},"V01"]
[null,"Presseau Gilbert",{"$f":"VLOOKUP(B7111,[1]export_1465921594229!$D7112:$G16372,4,FALSE)","v":"C1A-124481"},"C1A"]
[null,"Presz Samantha",{"$f":"VLOOKUP(B7112,[1]export_1465921594229!$D7113:$G16373,4,FALSE)","v":"QD1-120710"},"QD1"]
[null,"Prete Daniel",{"$f":"VLOOKUP(B7113,[1]export_1465921594229!$D7114:$G16374,4,FALSE)","v":"DLM-124993"},"DLM"]
[null,"Prete Nadia",{"$f":"VLOOKUP(B7114,[1]export_1465921594229!$D7115:$G16375,4,FALSE)","v":"DSX-125177"},"DSX"]
[null,"Prevost David",{"$f":"VLOOKUP(B7115,[1]export_1465921594229!$D7116:$G16376,4,FALSE)","v":"QU1-117789"},"QU1"]
[null,"Prevost Jean-Jaures",{"$f":"VLOOKUP(B7116,[1]export_1465921594229!$D7117:$G16377,4,FALSE)","v":"PA5-115615"},"PA5"]
[null,"Prevost Jean-Jaures",{"$f":"VLOOKUP(B7117,[1]export_1465921594229!$D7118:$G16378,4,FALSE)","v":"GB6-121237"},"GB6"]
[null,"Prevost Jean-Jaures",{"$f":"VLOOKUP(B7118,[1]export_1465921594229!$D7119:$G16379,4,FALSE)","v":"C4Y-124578"},"C4Y"]
[null,"Prevost Jean-Jaures",{"$f":"VLOOKUP(B7119,[1]export_1465921594229!$D7120:$G16380,4,FALSE)","v":"BZB-123547"},"BZB"]
[null,"Prevost Luc",{"$f":"VLOOKUP(B7120,[1]export_1465921594229!$D7121:$G16381,4,FALSE)","v":"R71-120604"},"R71"]
[null,"Prevost Michel",{"$f":"VLOOKUP(B7121,[1]export_1465921594229!$D7122:$G16382,4,FALSE)","v":"I42-116305"},"I42"]
[null,"Prevost Stephane",{"$f":"VLOOKUP(B7122,[1]export_1465921594229!$D7123:$G16383,4,FALSE)","v":"L00-119291"},"L00"]
[null,"Price Brian Allen",{"$f":"VLOOKUP(B7123,[1]export_1465921594229!$D7124:$G16384,4,FALSE)","v":"OC6-117302"},"OC6"]
[null,"Prickett Brenda (Lee-Ann)",{"$f":"VLOOKUP(B7124,[1]export_1465921594229!$D7125:$G16385,4,FALSE)","v":"PF4-117496"},"PF4"]
[null,"Prickett James",{"$f":"VLOOKUP(B7125,[1]export_1465921594229!$D7126:$G16386,4,FALSE)","v":"KR6-121018"},"KR6"]
[null,"Prickett James",{"$f":"VLOOKUP(B7126,[1]export_1465921594229!$D7127:$G16387,4,FALSE)","v":"JT5-550741"},"JT5"]
[null,"Priebe James",{"$f":"VLOOKUP(B7127,[1]export_1465921594229!$D7128:$G16388,4,FALSE)","v":"BF7-121841"},"BF7"]
[null,"Priebe James",{"$f":"VLOOKUP(B7128,[1]export_1465921594229!$D7129:$G16389,4,FALSE)","v":"JP4-121058"},"JP4"]
[null,"Priebe James",{"$f":"VLOOKUP(B7129,[1]export_1465921594229!$D7130:$G16390,4,FALSE)","v":"BF8-121842"},"BF8"]
[null,"Prince Manon",{"$f":"VLOOKUP(B7130,[1]export_1465921594229!$D7131:$G16391,4,FALSE)","v":"C8P-124668"},"C8P"]
[null,"Prince Nancy",{"$f":"VLOOKUP(B7131,[1]export_1465921594229!$D7132:$G16392,4,FALSE)","v":"KM7-121012"},"KM7"]
[null,"Proteau Martin",{"$f":"VLOOKUP(B7132,[1]export_1465921594229!$D7133:$G16393,4,FALSE)","v":"DK3-118054"},"DK3"]
[null,"Proteau Martin",{"$f":"VLOOKUP(B7133,[1]export_1465921594229!$D7134:$G16394,4,FALSE)","v":"C5J-124587"},"C5J"]
[null,"Proteau Michel",{"$f":"VLOOKUP(B7134,[1]export_1465921594229!$D7135:$G16395,4,FALSE)","v":"O23-117279"},"O23"]
[null,"Proteau Robert",{"$f":"VLOOKUP(B7135,[1]export_1465921594229!$D7136:$G16396,4,FALSE)","v":"DK2-121522"},"DK2"]
[null,"Proteau Robert",{"$f":"VLOOKUP(B7136,[1]export_1465921594229!$D7137:$G16397,4,FALSE)","v":"CUH-124311"},"CUH"]
[null,"Proudfoot Brent",{"$f":"VLOOKUP(B7137,[1]export_1465921594229!$D7138:$G16398,4,FALSE)","v":"QC4-119736"},"QC4"]
[null,"Proudfoot Brent",{"$f":"VLOOKUP(B7138,[1]export_1465921594229!$D7139:$G16399,4,FALSE)","v":"FD9-121298"},"FD9"]
[null,"Proudfoot Brent",{"$f":"VLOOKUP(B7139,[1]export_1465921594229!$D7140:$G16400,4,FALSE)","v":"LI2-120961"},"LI2"]
[null,"Proudfoot Brent",{"$f":"VLOOKUP(B7140,[1]export_1465921594229!$D7141:$G16401,4,FALSE)","v":"MR7-119436"},"MR7"]
[null,"Proulx Alain",{"$f":"VLOOKUP(B7141,[1]export_1465921594229!$D7142:$G16402,4,FALSE)","v":"M61-660709"},"M61"]
[null,"Proulx Michele",{"$f":"VLOOKUP(B7142,[1]export_1465921594229!$D7143:$G16403,4,FALSE)","v":"A5H-122575"},"A5H"]
[null,"Proulx Micheline",{"$f":"VLOOKUP(B7143,[1]export_1465921594229!$D7144:$G16404,4,FALSE)","v":"006-122514"},"006"]
[null,"Proulx Nathalie",{"$f":"VLOOKUP(B7144,[1]export_1465921594229!$D7145:$G16405,4,FALSE)","v":"A96-122028"},"A96"]
[null,"Proulx Rene",{"$f":"VLOOKUP(B7145,[1]export_1465921594229!$D7146:$G16406,4,FALSE)","v":"HK2-119039"},"HK2"]
[null,"Proulx-Cholette Emmanuelle",{"$f":"VLOOKUP(B7146,[1]export_1465921594229!$D7147:$G16407,4,FALSE)","v":"CJT-124058"},"CJT"]
[null,"Proux-Martin Philippe",{"$f":"VLOOKUP(B7147,[1]export_1465921594229!$D7148:$G16408,4,FALSE)","v":"QZ4-117826"},"QZ4"]
[null,"Provencher Diane",{"$f":"VLOOKUP(B7148,[1]export_1465921594229!$D7149:$G16409,4,FALSE)","v":"618-122149"},"618"]
[null,"Provencher Jean-Sebastien",{"$f":"VLOOKUP(B7149,[1]export_1465921594229!$D7150:$G16410,4,FALSE)","v":{"$error":"#N/A"}},{"$error":"#N/A"}]
[null,"Provencher Nicole",{"$f":"VLOOKUP(B7150,[1]export_1465921594229!$D7151:$G16411,4,FALSE)","v":"439-120343"},"439"]
[null,"Provo Derrick",{"$f":"VLOOKUP(B7151,[1]export_1465921594229!$D7152:$G16412,4,FALSE)","v":"CBK-123851"},"CBK"]
[null,"Provost Claude Emile",{"$f":"VLOOKUP(B7152,[1]export_1465921594229!$D7153:$G16413,4,FALSE)","v":"GO2-116100"},"GO2"]
[null,"Provost Helene",{"$f":"VLOOKUP(B7153,[1]export_1465921594229!$D7154:$G16414,4,FALSE)","v":{"$error":"#N/A"}},{"$error":"#N/A"}]
[null,"Provost Martin",{"$f":"VLOOKUP(B7154,[1]export_1465921594229!$D7155:$G16415,4,FALSE)","v":"Z29-120063"},"Z29"]
[null,"Provost Richard",{"$f":"VLOOKUP(B7155,[1]export_1465921594229!$D7156:$G16416,4,FALSE)","v":"DE7-118388"},"DE7"]
[null,"Prud'homme Alayn",{"$f":"VLOOKUP(B7156,[1]export_1465921594229!$D7157:$G16417,4,FALSE)","v":"B0T-123586"},"B0T"]
[null,"Prud'Homme Monique",{"$f":"VLOOKUP(B7157,[1]export_1465921594229!$D7158:$G16418,4,FALSE)","v":"GA0-118849"},"GA0"]
[null,"Prud'Homme Nicolas",{"$f":"VLOOKUP(B7158,[1]export_1465921594229!$D7159:$G16419,4,FALSE)","v":"IJ3-121131"},"IJ3"]
[null,"Pruneau Louise",{"$f":"VLOOKUP(B7159,[1]export_1465921594229!$D7160:$G16420,4,FALSE)","v":"DK6-660571"},"DK6"]
[null,"Pruneau Monique",{"$f":"VLOOKUP(B7160,[1]export_1465921594229!$D7161:$G16421,4,FALSE)","v":"DX3-118455"},"DX3"]
[null,"Pryce Adrian",{"$f":"VLOOKUP(B7161,[1]export_1465921594229!$D7162:$G16422,4,FALSE)","v":"DK8-121525"},"DK8"]
[null,"Pswarayi Sekayi",{"$f":"VLOOKUP(B7162,[1]export_1465921594229!$D7163:$G16423,4,FALSE)","v":"BKG-502310"},"BKG"]
[null,"Pudja Nenad",{"$f":"VLOOKUP(B7163,[1]export_1465921594229!$D7164:$G16424,4,FALSE)","v":"QU8-117795"},"QU8"]
[null,"Pugong Abigail",{"$f":"VLOOKUP(B7164,[1]export_1465921594229!$D7165:$G16425,4,FALSE)","v":"JZ6-116616"},"JZ6"]
[null,"Pulinckx Francine",{"$f":"VLOOKUP(B7165,[1]export_1465921594229!$D7166:$G16426,4,FALSE)","v":"FO1-118758"},"FO1"]
[null,"Punia Virender",{"$f":"VLOOKUP(B7166,[1]export_1465921594229!$D7167:$G16427,4,FALSE)","v":"AV8-115754"},"AV8"]
[null,"Punia Virender",{"$f":"VLOOKUP(B7167,[1]export_1465921594229!$D7168:$G16428,4,FALSE)","v":"CQQ-301560"},"CQQ"]
[null,"Purai Kirk",{"$f":"VLOOKUP(B7168,[1]export_1465921594229!$D7169:$G16429,4,FALSE)","v":"QV1-550903"},"QV1"]
[null,"Purba Parminder",{"$f":"VLOOKUP(B7169,[1]export_1465921594229!$D7170:$G16430,4,FALSE)","v":"FK8-118736"},"FK8"]
[null,"Purba Satinder",{"$f":"VLOOKUP(B7170,[1]export_1465921594229!$D7171:$G16431,4,FALSE)","v":"FK3-118732"},{"$f":"LEFT(C7170,3)","v":"FK3"}]
[null,"Purdy Timothy",{"$f":"VLOOKUP(B7171,[1]export_1465921594229!$D7172:$G16432,4,FALSE)","v":"BJE-502309"},"BJE"]
[null,"Purihin Embert",{"$f":"VLOOKUP(B7172,[1]export_1465921594229!$D7173:$G16433,4,FALSE)","v":"EH7-118561"},"EH7"]
[null,"Puvanaraveendran Roshaan",{"$f":"VLOOKUP(B7173,[1]export_1465921594229!$D7174:$G16434,4,FALSE)","v":"CPH-124191"},"CPH"]
[null,"Quach Brian",{"$f":"VLOOKUP(B7174,[1]export_1465921594229!$D7175:$G16435,4,FALSE)","v":"DBX-124752"},"DBX"]
[null,"Quan Bryan",{"$f":"VLOOKUP(B7175,[1]export_1465921594229!$D7176:$G16436,4,FALSE)","v":"C2R-124524"},"C2R"]
[null,"Quan May",{"$f":"VLOOKUP(B7176,[1]export_1465921594229!$D7177:$G16437,4,FALSE)","v":"DZG-125338"},"DZG"]
[null,"Quennell David",{"$f":"VLOOKUP(B7177,[1]export_1465921594229!$D7178:$G16438,4,FALSE)","v":"BI9-121853"},"BI9"]
[null,"Quenneville Julie",{"$f":"VLOOKUP(B7178,[1]export_1465921594229!$D7179:$G16439,4,FALSE)","v":"DMY-125028"},"DMY"]
[null,"Quenneville Suzanne",{"$f":"VLOOKUP(B7179,[1]export_1465921594229!$D7180:$G16440,4,FALSE)","v":"C8D-124656"},"C8D"]
[null,"Quero Gerlie",{"$f":"VLOOKUP(B7180,[1]export_1465921594229!$D7181:$G16441,4,FALSE)","v":"GR9-118937"},"GR9"]
[null,"Querry Eric",{"$f":"VLOOKUP(B7181,[1]export_1465921594229!$D7182:$G16442,4,FALSE)","v":"GL5-118900"},"GL5"]
[null,"Quesnel Normand",{"$f":"VLOOKUP(B7182,[1]export_1465921594229!$D7183:$G16443,4,FALSE)","v":"CC8-118284"},"CC8"]
[null,"Quessy Marc-Olivier",{"$f":"VLOOKUP(B7183,[1]export_1465921594229!$D7184:$G16444,4,FALSE)","v":"BPL-660360"},"BPL"]
[null,"Quevillon Felix",{"$f":"VLOOKUP(B7184,[1]export_1465921594229!$D7185:$G16445,4,FALSE)","v":"KA1-660233"},"KA1"]
[null,"Quiambao Annabelle",{"$f":"VLOOKUP(B7185,[1]export_1465921594229!$D7186:$G16446,4,FALSE)","v":"DZN-125345"},"DZN"]
[null,"Quiane Virginia",{"$f":"VLOOKUP(B7186,[1]export_1465921594229!$D7187:$G16447,4,FALSE)","v":"BBY-550854"},"BBY"]
[null,"Quibrantar Marilou",{"$f":"VLOOKUP(B7187,[1]export_1465921594229!$D7188:$G16448,4,FALSE)","v":"BVZ-123480"},"BVZ"]
[null,"Quick Vashti Blossom",{"$f":"VLOOKUP(B7188,[1]export_1465921594229!$D7189:$G16449,4,FALSE)","v":"DTX-125203"},"DTX"]
[null,"Quilay Alberto",{"$f":"VLOOKUP(B7189,[1]export_1465921594229!$D7190:$G16450,4,FALSE)","v":"OJ6-117338"},"OJ6"]
[null,"Quinlan Aaron",{"$f":"VLOOKUP(B7190,[1]export_1465921594229!$D7191:$G16451,4,FALSE)","v":"ER6-121365"},"ER6"]
[null,"Quinn Gareth",{"$f":"VLOOKUP(B7191,[1]export_1465921594229!$D7192:$G16452,4,FALSE)","v":"X39-117994"},"X39"]
[null,"Quinn Marlene",{"$f":"VLOOKUP(B7192,[1]export_1465921594229!$D7193:$G16453,4,FALSE)","v":"D29-120144"},"D29"]
[null,"Quintal Luc",{"$f":"VLOOKUP(B7193,[1]export_1465921594229!$D7194:$G16454,4,FALSE)","v":"515-120254"},"515"]
[null,"Quintana Espinoza Ricardo",{"$f":"VLOOKUP(B7194,[1]export_1465921594229!$D7195:$G16455,4,FALSE)","v":"HD8-660139"},"HD8"]
[null,"Quintas David",{"$f":"VLOOKUP(B7195,[1]export_1465921594229!$D7196:$G16456,4,FALSE)","v":"D6E-125512"},"D6E"]
[null,"Quirion Jean-Luc",{"$f":"VLOOKUP(B7196,[1]export_1465921594229!$D7197:$G16457,4,FALSE)","v":"DK4-121523"},"DK4"]
[null,"Quirion Jean-Luc",{"$f":"VLOOKUP(B7197,[1]export_1465921594229!$D7198:$G16458,4,FALSE)","v":"P31-119616"},"P31"]
[null,"Quirion Josee",{"$f":"VLOOKUP(B7198,[1]export_1465921594229!$D7199:$G16459,4,FALSE)","v":"162-122497"},"162"]
[null,"Quirion Steve",{"$f":"VLOOKUP(B7199,[1]export_1465921594229!$D7200:$G16460,4,FALSE)","v":"AA5-115722"},"AA5"]
[null,"Quiroz Diaz Miriam Janett",{"$f":"VLOOKUP(B7200,[1]export_1465921594229!$D7201:$G16461,4,FALSE)","v":"CFX-123963"},"CFX"]
[null,"Quiroz Diaz Miriam Janett",{"$f":"VLOOKUP(B7201,[1]export_1465921594229!$D7202:$G16462,4,FALSE)","v":"OV7-117415"},"OV7"]
[null,"Quiza Romualdo",{"$f":"VLOOKUP(B7202,[1]export_1465921594229!$D7203:$G16463,4,FALSE)","v":"D1S-125401"},"D1S"]
[null,"Quiza Romualdo",{"$f":"VLOOKUP(B7203,[1]export_1465921594229!$D7204:$G16464,4,FALSE)","v":"D1T-125402"},"D1T"]
[null,"Quizon Ligaya",{"$f":"VLOOKUP(B7204,[1]export_1465921594229!$D7205:$G16465,4,FALSE)","v":"X58-118000"},"X58"]
[null,"Rabbat Farid",{"$f":"VLOOKUP(B7205,[1]export_1465921594229!$D7206:$G16466,4,FALSE)","v":"ED3-118544"},"ED3"]
[null,"Raby Philip",{"$f":"VLOOKUP(B7206,[1]export_1465921594229!$D7207:$G16467,4,FALSE)","v":"F26-118650"},"F26"]
[null,"Racette Andre",{"$f":"VLOOKUP(B7207,[1]export_1465921594229!$D7208:$G16468,4,FALSE)","v":"G93-118845"},"G93"]
[null,"Racicot Andre",{"$f":"VLOOKUP(B7208,[1]export_1465921594229!$D7209:$G16469,4,FALSE)","v":"O43-120741"},"O43"]
[null,"Racine Michel",{"$f":"VLOOKUP(B7209,[1]export_1465921594229!$D7210:$G16470,4,FALSE)","v":"HO6-119054"},"HO6"]
[null,"Racine Michel",{"$f":"VLOOKUP(B7210,[1]export_1465921594229!$D7211:$G16471,4,FALSE)","v":"AW1-501522"},"AW1"]
[null,"Racine Pierre-Alexandre",{"$f":"VLOOKUP(B7211,[1]export_1465921594229!$D7212:$G16472,4,FALSE)","v":"CHG-123997"},"CHG"]
[null,"Rafiuddin Najam",{"$f":"VLOOKUP(B7212,[1]export_1465921594229!$D7213:$G16473,4,FALSE)","v":"CP7-118335"},"CP7"]
[null,"Ragbeer Pushpa",{"$f":"VLOOKUP(B7213,[1]export_1465921594229!$D7214:$G16474,4,FALSE)","v":"A7A-123027"},"A7A"]
[null,"Rahim (Southmead Wealth) Nabeel",{"$f":"VLOOKUP(B7214,[1]export_1465921594229!$D7215:$G16475,4,FALSE)","v":"JS6-116570"},"JS6"]
[null,"Rahman Zeba",{"$f":"VLOOKUP(B7215,[1]export_1465921594229!$D7216:$G16476,4,FALSE)","v":"BXO-502328"},"BXO"]
[null,"Rai Amandeep",{"$f":"VLOOKUP(B7216,[1]export_1465921594229!$D7217:$G16477,4,FALSE)","v":"DFV-124852"},"DFV"]
[null,"Rai Ripudaman Kaur",{"$f":"VLOOKUP(B7217,[1]export_1465921594229!$D7218:$G16478,4,FALSE)","v":"JU3-116584"},"JU3"]
[null,"Rai Sarabjit Kaur",{"$f":"VLOOKUP(B7218,[1]export_1465921594229!$D7219:$G16479,4,FALSE)","v":"FB1-118686"},"FB1"]
[null,"Raiche Rene",{"$f":"VLOOKUP(B7219,[1]export_1465921594229!$D7220:$G16480,4,FALSE)","v":"368-122258"},"368"]
[null,"Raif Iris",{"$f":"VLOOKUP(B7220,[1]export_1465921594229!$D7221:$G16481,4,FALSE)","v":"OP9-117378"},"OP9"]
[null,"Rail Michel",{"$f":"VLOOKUP(B7221,[1]export_1465921594229!$D7222:$G16482,4,FALSE)","v":"L19-116793"},"L19"]
[null,"Rainville Jean-Philippe",{"$f":"VLOOKUP(B7222,[1]export_1465921594229!$D7223:$G16483,4,FALSE)","v":"BLG-660331"},"BLG"]
[null,"Rainville Marc",{"$f":"VLOOKUP(B7223,[1]export_1465921594229!$D7224:$G16484,4,FALSE)","v":"N49-120807"},"N49"]
[null,"Rainville Marc",{"$f":"VLOOKUP(B7224,[1]export_1465921594229!$D7225:$G16485,4,FALSE)","v":"LG8-116845"},"LG8"]
[null,"Rajadurai Arujuhna",{"$f":"VLOOKUP(B7225,[1]export_1465921594229!$D7226:$G16486,4,FALSE)","v":"B3K-123653"},"B3K"]
[null,"Rajalingam Janarththanan",{"$f":"VLOOKUP(B7226,[1]export_1465921594229!$D7227:$G16487,4,FALSE)","v":"OJ5-117337"},"OJ5"]
[null,"Rajalingam Sivayotheivi",{"$f":"VLOOKUP(B7227,[1]export_1465921594229!$D7228:$G16488,4,FALSE)","v":"A8N-123055"},"A8N"]
[null,"Rajani Rahim",{"$f":"VLOOKUP(B7228,[1]export_1465921594229!$D7229:$G16489,4,FALSE)","v":"A9F-123072"},"A9F"]
[null,"Rajathurai Sumathy",{"$f":"VLOOKUP(B7229,[1]export_1465921594229!$D7230:$G16490,4,FALSE)","v":"CUA-124305"},"CUA"]
[null,"Rajchel C/O K2 Group Kazimierz",{"$f":"VLOOKUP(B7230,[1]export_1465921594229!$D7231:$G16491,4,FALSE)","v":"JX0-116605"},"JX0"]
[null,"Rajkumar Bexell",{"$f":"VLOOKUP(B7231,[1]export_1465921594229!$D7232:$G16492,4,FALSE)","v":"EV0-118619"},"EV0"]
[null,"Rajkumar Jegatha",{"$f":"VLOOKUP(B7232,[1]export_1465921594229!$D7233:$G16493,4,FALSE)","v":"EV1-118620"},"EV1"]
[null,"Rajpal Binni",{"$f":"VLOOKUP(B7233,[1]export_1465921594229!$D7234:$G16494,4,FALSE)","v":"CK1-550153"},"CK1"]
[null,"Raju Resham Singh",{"$f":"VLOOKUP(B7234,[1]export_1465921594229!$D7235:$G16495,4,FALSE)","v":"EC8-118541"},{"$f":"LEFT(C7234,3)","v":"EC8"}]
[null,"Rakotonjanahary Mireille",{"$f":"VLOOKUP(B7235,[1]export_1465921594229!$D7236:$G16496,4,FALSE)","v":"CAP-123831"},"CAP"]
[null,"Ralon Otto",{"$f":"VLOOKUP(B7236,[1]export_1465921594229!$D7237:$G16497,4,FALSE)","v":"GV0-116125"},"GV0"]
[null,"Ralston Patricia",{"$f":"VLOOKUP(B7237,[1]export_1465921594229!$D7238:$G16498,4,FALSE)","v":"DVQ-125248"},"DVQ"]
[null,"Ram Sarla",{"$f":"VLOOKUP(B7238,[1]export_1465921594229!$D7239:$G16499,4,FALSE)","v":"GN2-118913"},"GN2"]
[null,"Ram(Eagle Star Insurance) Amos Suresh Kishindas",{"$f":"VLOOKUP(B7239,[1]export_1465921594229!$D7240:$G16500,4,FALSE)","v":"PI7-117526"},"PI7"]
[null,"Ramakrishna Chandrakumar",{"$f":"VLOOKUP(B7240,[1]export_1465921594229!$D7241:$G16501,4,FALSE)","v":"MF9-550706"},"MF9"]
[null,"Ramanathan Thileepan",{"$f":"VLOOKUP(B7241,[1]export_1465921594229!$D7242:$G16502,4,FALSE)","v":"OX0-550809"},"OX0"]
[null,"Ramasamy Raj",{"$f":"VLOOKUP(B7242,[1]export_1465921594229!$D7243:$G16503,4,FALSE)","v":"NI1-119486"},"NI1"]
[null,"Ramboanga Rosabelle",{"$f":"VLOOKUP(B7243,[1]export_1465921594229!$D7244:$G16504,4,FALSE)","v":"JW3-116599"},"JW3"]
[null,"Ramdyal Ramlall",{"$f":"VLOOKUP(B7244,[1]export_1465921594229!$D7245:$G16505,4,FALSE)","v":"Q67-119705"},"Q67"]
[null,"Ramil Editha",{"$f":"VLOOKUP(B7245,[1]export_1465921594229!$D7246:$G16506,4,FALSE)","v":"JH2-116501"},"JH2"]
[null,"Ramjohn Zanecia",{"$f":"VLOOKUP(B7246,[1]export_1465921594229!$D7247:$G16507,4,FALSE)","v":"DBV-124750"},"DBV"]
[null,"Ramkhalawan Keivan",{"$f":"VLOOKUP(B7247,[1]export_1465921594229!$D7248:$G16508,4,FALSE)","v":"II8-116367"},"II8"]
[null,"Ramnarayan(Money Freedom) Chanderpaul",{"$f":"VLOOKUP(B7248,[1]export_1465921594229!$D7249:$G16509,4,FALSE)","v":"NH8-117189"},"NH8"]
[null,"Ramolete Maria Fatima",{"$f":"VLOOKUP(B7249,[1]export_1465921594229!$D7250:$G16510,4,FALSE)","v":"BIS-123222"},"BIS"]
[null,"Ramos Ae Sook",{"$f":"VLOOKUP(B7250,[1]export_1465921594229!$D7251:$G16511,4,FALSE)","v":"IX8-116440"},"IX8"]
[null,"Ramos Angelita",{"$f":"VLOOKUP(B7251,[1]export_1465921594229!$D7252:$G16512,4,FALSE)","v":"NB5-117151"},"NB5"]
[null,"Ramos Ian Ver",{"$f":"VLOOKUP(B7252,[1]export_1465921594229!$D7253:$G16513,4,FALSE)","v":"JJ5-116514"},"JJ5"]
[null,"Ramos Noemi",{"$f":"VLOOKUP(B7253,[1]export_1465921594229!$D7254:$G16514,4,FALSE)","v":"B7Y-123766"},"B7Y"]
[null,"Rampersad Kelvin",{"$f":"VLOOKUP(B7254,[1]export_1465921594229!$D7255:$G16515,4,FALSE)","v":"B1U-123613"},"B1U"]
[null,"Rampersaud Kunti",{"$f":"VLOOKUP(B7255,[1]export_1465921594229!$D7256:$G16516,4,FALSE)","v":"BH5-118207"},"BH5"]
[null,"Ramthas Bamathi",{"$f":"VLOOKUP(B7256,[1]export_1465921594229!$D7257:$G16517,4,FALSE)","v":"PK3-117540"},"PK3"]
[null,"Rana Rekha Rani",{"$f":"VLOOKUP(B7257,[1]export_1465921594229!$D7258:$G16518,4,FALSE)","v":"EV2-118621"},"EV2"]
[null,"Rana Sherjang Singh",{"$f":"VLOOKUP(B7258,[1]export_1465921594229!$D7259:$G16519,4,FALSE)","v":"CJL-124050"},"CJL"]
[null,"Rancourt Marcel",{"$f":"VLOOKUP(B7259,[1]export_1465921594229!$D7260:$G16520,4,FALSE)","v":"R96-117854"},"R96"]
[null,"Rancourt Melody",{"$f":"VLOOKUP(B7260,[1]export_1465921594229!$D7261:$G16521,4,FALSE)","v":{"$error":"#N/A"}},{"$error":"#N/A"}]
[null,"Randhawa Charanjeev Singh",{"$f":"VLOOKUP(B7261,[1]export_1465921594229!$D7262:$G16522,4,FALSE)","v":"B1O-550908"},"B1O"]
[null,"Randhawa Jagdeep",{"$f":"VLOOKUP(B7262,[1]export_1465921594229!$D7263:$G16523,4,FALSE)","v":"DUE-125210"},"DUE"]
[null,"Randhawa Kulbir (Patty)",{"$f":"VLOOKUP(B7263,[1]export_1465921594229!$D7264:$G16524,4,FALSE)","v":"DS6-115913"},"DS6"]
[null,"Randhawa Major Singh",{"$f":"VLOOKUP(B7264,[1]export_1465921594229!$D7265:$G16525,4,FALSE)","v":"JW5-116600"},"JW5"]
[null,"Rangrizian Shadi",{"$f":"VLOOKUP(B7265,[1]export_1465921594229!$D7266:$G16526,4,FALSE)","v":"C1J-124490"},"C1J"]
[null,"Ransome Jason Dwight",{"$f":"VLOOKUP(B7266,[1]export_1465921594229!$D7267:$G16527,4,FALSE)","v":"PP9-117586"},"PP9"]
[null,"Ransome Melanie",{"$f":"VLOOKUP(B7267,[1]export_1465921594229!$D7268:$G16528,4,FALSE)","v":"BI6-118211"},"BI6"]
[null,"Ranz Tabatha",{"$f":"VLOOKUP(B7268,[1]export_1465921594229!$D7269:$G16529,4,FALSE)","v":"IU7-116424"},"IU7"]
[null,"Rasalingam Gnanachandran",{"$f":"VLOOKUP(B7269,[1]export_1465921594229!$D7270:$G16530,4,FALSE)","v":"PB9-117466"},"PB9"]
[null,"Rasappah Luxmihaasan",{"$f":"VLOOKUP(B7270,[1]export_1465921594229!$D7271:$G16531,4,FALSE)","v":"MJ2-117029"},"MJ2"]
[null,"Rasasothy Kishokkumar",{"$f":"VLOOKUP(B7271,[1]export_1465921594229!$D7272:$G16532,4,FALSE)","v":"ND1-119479"},"ND1"]
[null,"Raschle Michael",{"$f":"VLOOKUP(B7272,[1]export_1465921594229!$D7273:$G16533,4,FALSE)","v":"EN2-121482"},"EN2"]
[null,"Rasul Adrian",{"$f":"VLOOKUP(B7273,[1]export_1465921594229!$D7274:$G16534,4,FALSE)","v":"NF5-119480"},"NF5"]
[null,"Rasul Adrian",{"$f":"VLOOKUP(B7274,[1]export_1465921594229!$D7275:$G16535,4,FALSE)","v":"NF6-119481"},"NF6"]
[null,"Ratelle Jean-Guy",{"$f":"VLOOKUP(B7275,[1]export_1465921594229!$D7276:$G16536,4,FALSE)","v":"NA0-117140"},"NA0"]
[null,"Rath Mark",{"$f":"VLOOKUP(B7276,[1]export_1465921594229!$D7277:$G16537,4,FALSE)","v":"CLH-550922"},"CLH"]
[null,"Rath Mark",{"$f":"VLOOKUP(B7277,[1]export_1465921594229!$D7278:$G16538,4,FALSE)","v":"CVO-124344"},"CVO"]
[null,"Rathore Prabhjot",{"$f":"VLOOKUP(B7278,[1]export_1465921594229!$D7279:$G16539,4,FALSE)","v":"GG3-550209"},"GG3"]
[null,"Ratnasingam Suthakaran",{"$f":"VLOOKUP(B7279,[1]export_1465921594229!$D7280:$G16540,4,FALSE)","v":"CYB-124407"},"CYB"]
[null,"Ratte Lyse",{"$f":"VLOOKUP(B7280,[1]export_1465921594229!$D7281:$G16541,4,FALSE)","v":"U41-117939"},"U41"]
[null,"Ratte Marcel",{"$f":"VLOOKUP(B7281,[1]export_1465921594229!$D7282:$G16542,4,FALSE)","v":"BC0-118195"},"BC0"]
[null,"Ratte Jeremie",{"$f":"VLOOKUP(B7282,[1]export_1465921594229!$D7283:$G16543,4,FALSE)","v":{"$error":"#N/A"}},{"$error":"#N/A"}]
[null,"Ratte Jeremie",{"$f":"VLOOKUP(B7283,[1]export_1465921594229!$D7284:$G16544,4,FALSE)","v":{"$error":"#N/A"}},{"$error":"#N/A"}]
[null,"Raven Gerry",{"$f":"VLOOKUP(B7284,[1]export_1465921594229!$D7285:$G16545,4,FALSE)","v":"503-115708"},"503"]
[null,"Ravichandradeva Sivanesam",{"$f":"VLOOKUP(B7285,[1]export_1465921594229!$D7286:$G16546,4,FALSE)","v":"PC9-117475"},"PC9"]
[null,"Ravindran Ramalingam",{"$f":"VLOOKUP(B7286,[1]export_1465921594229!$D7287:$G16547,4,FALSE)","v":"CS4-550307"},"CS4"]
[null,"Rawani Shameel",{"$f":"VLOOKUP(B7287,[1]export_1465921594229!$D7288:$G16548,4,FALSE)","v":"IQ4-116402"},"IQ4"]
[null,"Raymond Denis",{"$f":"VLOOKUP(B7288,[1]export_1465921594229!$D7289:$G16549,4,FALSE)","v":"DA9-121491"},"DA9"]
[null,"Raymond Dustin",{"$f":"VLOOKUP(B7289,[1]export_1465921594229!$D7290:$G16550,4,FALSE)","v":"BMH-502293"},"BMH"]
[null,"Raymond Georges-Michel",{"$f":"VLOOKUP(B7290,[1]export_1465921594229!$D7291:$G16551,4,FALSE)","v":"JI0-119200"},"JI0"]
[null,"Raymond Hugues",{"$f":"VLOOKUP(B7291,[1]export_1465921594229!$D7292:$G16552,4,FALSE)","v":"I93-119118"},"I93"]
[null,"Raymond Julie",{"$f":"VLOOKUP(B7292,[1]export_1465921594229!$D7293:$G16553,4,FALSE)","v":"C76-121705"},"C76"]
[null,"Raymond Mario",{"$f":"VLOOKUP(B7293,[1]export_1465921594229!$D7294:$G16554,4,FALSE)","v":"IC0-116323"},"IC0"]
[null,"Raymond Martin",{"$f":"VLOOKUP(B7294,[1]export_1465921594229!$D7295:$G16555,4,FALSE)","v":"JE8-116487"},"JE8"]
[null,"Raymond Nathalie",{"$f":"VLOOKUP(B7295,[1]export_1465921594229!$D7296:$G16556,4,FALSE)","v":"C05-121782"},"C05"]
[null,"Raymond Patrick",{"$f":"VLOOKUP(B7296,[1]export_1465921594229!$D7297:$G16557,4,FALSE)","v":"QK1-119774"},"QK1"]
[null,"Raymond Pierre",{"$f":"VLOOKUP(B7297,[1]export_1465921594229!$D7298:$G16558,4,FALSE)","v":"AH7-660729"},"AH7"]
[null,"Raynault Jacques",{"$f":"VLOOKUP(B7298,[1]export_1465921594229!$D7299:$G16559,4,FALSE)","v":"L94-120951"},{"$f":"LEFT(C7298,3)","v":"L94"}]
[null,"Raynault Jacques",{"$f":"VLOOKUP(B7299,[1]export_1465921594229!$D7300:$G16560,4,FALSE)","v":"O14-119529"},"O14"]
[null,"Raza Muhammad",{"$f":"VLOOKUP(B7300,[1]export_1465921594229!$D7301:$G16561,4,FALSE)","v":"BXT-123517"},"BXT"]
[null,"Raza Syed",{"$f":"VLOOKUP(B7301,[1]export_1465921594229!$D7302:$G16562,4,FALSE)","v":"BR4-118243"},"BR4"]
[null,"Reay Robert",{"$f":"VLOOKUP(B7302,[1]export_1465921594229!$D7303:$G16563,4,FALSE)","v":"II2-550564"},"II2"]
[null,"Rebulanan Marieta",{"$f":"VLOOKUP(B7303,[1]export_1465921594229!$D7304:$G16564,4,FALSE)","v":"JA9-121046"},"JA9"]
[null,"Recuenco Rubilinda",{"$f":"VLOOKUP(B7304,[1]export_1465921594229!$D7305:$G16565,4,FALSE)","v":"QQ0-117754"},"QQ0"]
[null,"Reddick Dean",{"$f":"VLOOKUP(B7305,[1]export_1465921594229!$D7306:$G16566,4,FALSE)","v":"C2N-124520"},"C2N"]
[null,"Redmond Alan",{"$f":"VLOOKUP(B7306,[1]export_1465921594229!$D7307:$G16567,4,FALSE)","v":"W13-120478"},"W13"]
[null,"Reed Chad",{"$f":"VLOOKUP(B7307,[1]export_1465921594229!$D7308:$G16568,4,FALSE)","v":"FT0-118778"},"FT0"]
[null,"Rees Brett D.",{"$f":"VLOOKUP(B7308,[1]export_1465921594229!$D7309:$G16569,4,FALSE)","v":"U72-119937"},"U72"]
[null,"Rees Brett D.",{"$f":"VLOOKUP(B7309,[1]export_1465921594229!$D7310:$G16570,4,FALSE)","v":"BV2-118260"},"BV2"]
[null,"Regaudie Sylvain",{"$f":"VLOOKUP(B7310,[1]export_1465921594229!$D7311:$G16571,4,FALSE)","v":"491-122200"},"491"]
[null,"Regio Pio",{"$f":"VLOOKUP(B7311,[1]export_1465921594229!$D7312:$G16572,4,FALSE)","v":"JM1-116534"},"JM1"]
[null,"Regy Aurelie",{"$f":"VLOOKUP(B7312,[1]export_1465921594229!$D7313:$G16573,4,FALSE)","v":"D22-121569"},"D22"]
[null,"Rehinsi Satinderjit",{"$f":"VLOOKUP(B7313,[1]export_1465921594229!$D7314:$G16574,4,FALSE)","v":"CR0-118341"},"CR0"]
[null,"Reid-Turgeon Debbra",{"$f":"VLOOKUP(B7314,[1]export_1465921594229!$D7315:$G16575,4,FALSE)","v":"P55-119626"},"P55"]
[null,"Reilly Tyson",{"$f":"VLOOKUP(B7315,[1]export_1465921594229!$D7316:$G16576,4,FALSE)","v":"BC7-121828"},"BC7"]
[null,"Reimer Timothy Dean",{"$f":"VLOOKUP(B7316,[1]export_1465921594229!$D7317:$G16577,4,FALSE)","v":"DKK-124965"},"DKK"]
[null,"Rein Ervin",{"$f":"VLOOKUP(B7317,[1]export_1465921594229!$D7318:$G16578,4,FALSE)","v":"C7M-124639"},"C7M"]
[null,"Rein Ervin",{"$f":"VLOOKUP(B7318,[1]export_1465921594229!$D7319:$G16579,4,FALSE)","v":"GX7-026982"},"GX7"]
[null,"Rein Ervin",{"$f":"VLOOKUP(B7319,[1]export_1465921594229!$D7320:$G16580,4,FALSE)","v":"LP8-326982"},"LP8"]
[null,"Rein Ervin",{"$f":"VLOOKUP(B7320,[1]export_1465921594229!$D7321:$G16581,4,FALSE)","v":"O29-119535"},"O29"]
[null,"Reinhardt Luc",{"$f":"VLOOKUP(B7321,[1]export_1465921594229!$D7322:$G16582,4,FALSE)","v":"662-122179"},"662"]
[null,"Remillard Christian",{"$f":"VLOOKUP(B7322,[1]export_1465921594229!$D7323:$G16583,4,FALSE)","v":"O46-117285"},"O46"]
[null,"Remillard Jean-Francois",{"$f":"VLOOKUP(B7323,[1]export_1465921594229!$D7324:$G16584,4,FALSE)","v":"LB8-660533"},"LB8"]
[null,"Remillard Christian",{"$f":"VLOOKUP(B7324,[1]export_1465921594229!$D7325:$G16585,4,FALSE)","v":{"$error":"#N/A"}},{"$error":"#N/A"}]
[null,"Remillard Simon",{"$f":"VLOOKUP(B7325,[1]export_1465921594229!$D7326:$G16586,4,FALSE)","v":{"$error":"#N/A"}},{"$error":"#N/A"}]
[null,"Renaud Michel",{"$f":"VLOOKUP(B7326,[1]export_1465921594229!$D7327:$G16587,4,FALSE)","v":"524-122217"},"524"]
[null,"Renaud Valerie",{"$f":"VLOOKUP(B7327,[1]export_1465921594229!$D7328:$G16588,4,FALSE)","v":"B91-121812"},"B91"]
[null,"Renauld Daniel",{"$f":"VLOOKUP(B7328,[1]export_1465921594229!$D7329:$G16589,4,FALSE)","v":"736-115659"},"736"]
[null,"Renauld Daniel",{"$f":"VLOOKUP(B7329,[1]export_1465921594229!$D7330:$G16590,4,FALSE)","v":"V84-120468"},"V84"]
[null,"Renauld Daniel",{"$f":"VLOOKUP(B7330,[1]export_1465921594229!$D7331:$G16591,4,FALSE)","v":"478-122196"},"478"]
[null,"Resendes Manuel",{"$f":"VLOOKUP(B7331,[1]export_1465921594229!$D7332:$G16592,4,FALSE)","v":"JN3-116542"},"JN3"]
[null,"Resther Louis-Simon",{"$f":"VLOOKUP(B7332,[1]export_1465921594229!$D7333:$G16593,4,FALSE)","v":"LF6-660155"},"LF6"]
[null,"Restua Maribeth",{"$f":"VLOOKUP(B7333,[1]export_1465921594229!$D7334:$G16594,4,FALSE)","v":"CWF-124360"},"CWF"]
[null,"Retchkiman Corona Manuel",{"$f":"VLOOKUP(B7334,[1]export_1465921594229!$D7335:$G16595,4,FALSE)","v":"RB9-119820"},"RB9"]
[null,"Rey Guillaume",{"$f":"VLOOKUP(B7335,[1]export_1465921594229!$D7336:$G16596,4,FALSE)","v":"B7H-123749"},"B7H"]
[null,"Reyes Reynold",{"$f":"VLOOKUP(B7336,[1]export_1465921594229!$D7337:$G16597,4,FALSE)","v":"PV7-117632"},"PV7"]
[null,"Reyes Romeo",{"$f":"VLOOKUP(B7337,[1]export_1465921594229!$D7338:$G16598,4,FALSE)","v":"QI3-117699"},"QI3"]
[null,"Reyes Teresita",{"$f":"VLOOKUP(B7338,[1]export_1465921594229!$D7339:$G16599,4,FALSE)","v":"LZ5-116945"},"LZ5"]
[null,"Reyes Teresita",{"$f":"VLOOKUP(B7339,[1]export_1465921594229!$D7340:$G16600,4,FALSE)","v":"CGH-123973"},"CGH"]
[null,"Reynolds Andrew",{"$f":"VLOOKUP(B7340,[1]export_1465921594229!$D7341:$G16601,4,FALSE)","v":"W67-120492"},"W67"]
[null,"Reynolds Timothy",{"$f":"VLOOKUP(B7341,[1]export_1465921594229!$D7342:$G16602,4,FALSE)","v":"C4L-124566"},"C4L"]
[null,"Rhea Ann Marirose",{"$f":"VLOOKUP(B7342,[1]export_1465921594229!$D7343:$G16603,4,FALSE)","v":"BDG-123116"},"BDG"]
[null,"Rho Kyungsoo (Danny)",{"$f":"VLOOKUP(B7343,[1]export_1465921594229!$D7344:$G16604,4,FALSE)","v":"BUB-502315"},"BUB"]
[null,"Rhule Patricia",{"$f":"VLOOKUP(B7344,[1]export_1465921594229!$D7345:$G16605,4,FALSE)","v":"EM4-121480"},"EM4"]
[null,"Ribiere Dominique",{"$f":"VLOOKUP(B7345,[1]export_1465921594229!$D7346:$G16606,4,FALSE)","v":"HT3-116261"},"HT3"]
[null,"Ricamara Maria",{"$f":"VLOOKUP(B7346,[1]export_1465921594229!$D7347:$G16607,4,FALSE)","v":"JK2-116519"},"JK2"]
[null,"Ricard Lysanne",{"$f":"VLOOKUP(B7347,[1]export_1465921594229!$D7348:$G16608,4,FALSE)","v":"DCL-124765"},"DCL"]
[null,"Ricard Monique",{"$f":"VLOOKUP(B7348,[1]export_1465921594229!$D7349:$G16609,4,FALSE)","v":"183-122384"},"183"]
[null,"Ricci Karina",{"$f":"VLOOKUP(B7349,[1]export_1465921594229!$D7350:$G16610,4,FALSE)","v":"A97-122029"},"A97"]
[null,"Ricci Karina",{"$f":"VLOOKUP(B7350,[1]export_1465921594229!$D7351:$G16611,4,FALSE)","v":"Q74-660593"},"Q74"]
[null,"Ricci Livio",{"$f":"VLOOKUP(B7351,[1]export_1465921594229!$D7352:$G16612,4,FALSE)","v":"PN6-117564"},"PN6"]
[null,"Rice Barbara",{"$f":"VLOOKUP(B7352,[1]export_1465921594229!$D7353:$G16613,4,FALSE)","v":"BD5-118200"},"BD5"]
[null,"Richard Alexandre",{"$f":"VLOOKUP(B7353,[1]export_1465921594229!$D7354:$G16614,4,FALSE)","v":"CP6-121646"},"CP6"]
[null,"Richard Charles",{"$f":"VLOOKUP(B7354,[1]export_1465921594229!$D7355:$G16615,4,FALSE)","v":"NP2-117234"},"NP2"]
[null,"Richard Daniel",{"$f":"VLOOKUP(B7355,[1]export_1465921594229!$D7356:$G16616,4,FALSE)","v":"G44-660683"},"G44"]
[null,"Richard Dany",{"$f":"VLOOKUP(B7356,[1]export_1465921594229!$D7357:$G16617,4,FALSE)","v":"E83-118521"},"E83"]
[null,"Richard Diane",{"$f":"VLOOKUP(B7357,[1]export_1465921594229!$D7358:$G16618,4,FALSE)","v":"CGZ-123991"},"CGZ"]
[null,"Richard Diane",{"$f":"VLOOKUP(B7358,[1]export_1465921594229!$D7359:$G16619,4,FALSE)","v":"H15-121280"},"H15"]
[null,"Richard Joanne",{"$f":"VLOOKUP(B7359,[1]export_1465921594229!$D7360:$G16620,4,FALSE)","v":"T19-120648"},"T19"]
[null,"Richard Line",{"$f":"VLOOKUP(B7360,[1]export_1465921594229!$D7361:$G16621,4,FALSE)","v":"CN1-118329"},"CN1"]
[null,"Richard Maurice",{"$f":"VLOOKUP(B7361,[1]export_1465921594229!$D7362:$G16622,4,FALSE)","v":"A16-122105"},"A16"]
[null,"Richard Nicolas",{"$f":"VLOOKUP(B7362,[1]export_1465921594229!$D7363:$G16623,4,FALSE)","v":"E57-118506"},{"$f":"LEFT(C7362,3)","v":"E57"}]
[null,"Richard Pierre",{"$f":"VLOOKUP(B7363,[1]export_1465921594229!$D7364:$G16624,4,FALSE)","v":"PW8-117642"},"PW8"]
[null,"Richard Simon",{"$f":"VLOOKUP(B7364,[1]export_1465921594229!$D7365:$G16625,4,FALSE)","v":"T41-117912"},"T41"]
[null,"Richards Stephen",{"$f":"VLOOKUP(B7365,[1]export_1465921594229!$D7366:$G16626,4,FALSE)","v":"BBP-502299"},"BBP"]
[null,"Richardson Ingrid",{"$f":"VLOOKUP(B7366,[1]export_1465921594229!$D7367:$G16627,4,FALSE)","v":"JE1-119191"},"JE1"]
[null,"Richardson Susan",{"$f":"VLOOKUP(B7367,[1]export_1465921594229!$D7368:$G16628,4,FALSE)","v":"IC6-116328"},"IC6"]
[null,"Richer Marc",{"$f":"VLOOKUP(B7368,[1]export_1465921594229!$D7369:$G16629,4,FALSE)","v":"C01-121781"},"C01"]
[null,"Richer Suzanne",{"$f":"VLOOKUP(B7369,[1]export_1465921594229!$D7370:$G16630,4,FALSE)","v":"651-122169"},"651"]
[null,"Rickards Oral",{"$f":"VLOOKUP(B7370,[1]export_1465921594229!$D7371:$G16631,4,FALSE)","v":"QR5-117766"},"QR5"]
[null,"Ricketts Susan",{"$f":"VLOOKUP(B7371,[1]export_1465921594229!$D7372:$G16632,4,FALSE)","v":"OP4-117373"},"OP4"]
[null,"Rieger Ryan",{"$f":"VLOOKUP(B7372,[1]export_1465921594229!$D7373:$G16633,4,FALSE)","v":"DGY-124880"},"DGY"]
[null,"Rigin Mirlande",{"$f":"VLOOKUP(B7373,[1]export_1465921594229!$D7374:$G16634,4,FALSE)","v":"X03-120503"},"X03"]
[null,"Riley Christopher",{"$f":"VLOOKUP(B7374,[1]export_1465921594229!$D7375:$G16635,4,FALSE)","v":"N18-120785"},"N18"]
[null,"Riley James",{"$f":"VLOOKUP(B7375,[1]export_1465921594229!$D7376:$G16636,4,FALSE)","v":"CTO-124296"},"CTO"]
[null,"Rillamas Verona",{"$f":"VLOOKUP(B7376,[1]export_1465921594229!$D7377:$G16637,4,FALSE)","v":"DYA-125310"},"DYA"]
[null,"Rina Rosalie",{"$f":"VLOOKUP(B7377,[1]export_1465921594229!$D7378:$G16638,4,FALSE)","v":"GH5-118880"},"GH5"]
[null,"Rincon Gama Nohra Lucia",{"$f":"VLOOKUP(B7378,[1]export_1465921594229!$D7379:$G16639,4,FALSE)","v":"CFY-123964"},"CFY"]
[null,"Rincon Gama Nohra Lucia",{"$f":"VLOOKUP(B7379,[1]export_1465921594229!$D7380:$G16640,4,FALSE)","v":"ME7-117003"},"ME7"]
[null,"Ringuet Andre",{"$f":"VLOOKUP(B7380,[1]export_1465921594229!$D7381:$G16641,4,FALSE)","v":"633-122157"},"633"]
[null,"Ringuet Jocelyn",{"$f":"VLOOKUP(B7381,[1]export_1465921594229!$D7382:$G16642,4,FALSE)","v":"X50-120519"},"X50"]
[null,"Ringuet Jocelyn",{"$f":"VLOOKUP(B7382,[1]export_1465921594229!$D7383:$G16643,4,FALSE)","v":"M71-120873"},"M71"]
[null,"Ringuet Jocelyn",{"$f":"VLOOKUP(B7383,[1]export_1465921594229!$D7384:$G16644,4,FALSE)","v":"P65-120664"},"P65"]
[null,"Ringuette Danielle",{"$f":"VLOOKUP(B7384,[1]export_1465921594229!$D7385:$G16645,4,FALSE)","v":"U68-120560"},"U68"]
[null,"Ringuette Marianne",{"$f":"VLOOKUP(B7385,[1]export_1465921594229!$D7386:$G16646,4,FALSE)","v":"CJ4-121617"},"CJ4"]
[null,"Riolo John",{"$f":"VLOOKUP(B7386,[1]export_1465921594229!$D7387:$G16647,4,FALSE)","v":"MQ1-117074"},"MQ1"]
[null,"Riopel Daniel",{"$f":"VLOOKUP(B7387,[1]export_1465921594229!$D7388:$G16648,4,FALSE)","v":"S24-119843"},"S24"]
[null,"Riopel Francine",{"$f":"VLOOKUP(B7388,[1]export_1465921594229!$D7389:$G16649,4,FALSE)","v":"A04-122095"},"A04"]
[null,"Rios Bendezu Elizabeth",{"$f":"VLOOKUP(B7389,[1]export_1465921594229!$D7390:$G16650,4,FALSE)","v":"DT4-115916"},"DT4"]
[null,"Rioux Francois",{"$f":"VLOOKUP(B7390,[1]export_1465921594229!$D7391:$G16651,4,FALSE)","v":"D0Q-660168"},"D0Q"]
[null,"Rioux Francois",{"$f":"VLOOKUP(B7391,[1]export_1465921594229!$D7392:$G16652,4,FALSE)","v":"K45-125373"},"K45"]
[null,"Rioux Ginette",{"$f":"VLOOKUP(B7392,[1]export_1465921594229!$D7393:$G16653,4,FALSE)","v":"O95-660026"},"O95"]
[null,"Rioux Guillaume",{"$f":"VLOOKUP(B7393,[1]export_1465921594229!$D7394:$G16654,4,FALSE)","v":"CSZ-124282"},"CSZ"]
[null,"Rioux Harold",{"$f":"VLOOKUP(B7394,[1]export_1465921594229!$D7395:$G16655,4,FALSE)","v":"T94-119906"},"T94"]
[null,"Rioux Jean-Francois",{"$f":"VLOOKUP(B7395,[1]export_1465921594229!$D7396:$G16656,4,FALSE)","v":"IH2-121129"},"IH2"]
[null,"Rioux Jean-Sebastien",{"$f":"VLOOKUP(B7396,[1]export_1465921594229!$D7397:$G16657,4,FALSE)","v":"Q09-660177"},"Q09"]
[null,"Rioux Lysane",{"$f":"VLOOKUP(B7397,[1]export_1465921594229!$D7398:$G16658,4,FALSE)","v":"500-115707"},"500"]
[null,"Rioux Micheline",{"$f":"VLOOKUP(B7398,[1]export_1465921594229!$D7399:$G16659,4,FALSE)","v":"CC5-115819"},"CC5"]
[null,"Rita (Kaith) Rita",{"$f":"VLOOKUP(B7399,[1]export_1465921594229!$D7400:$G16660,4,FALSE)","v":"IO0-116387"},"IO0"]
[null,"Ritchie Mike",{"$f":"VLOOKUP(B7400,[1]export_1465921594229!$D7401:$G16661,4,FALSE)","v":"AF3-028160"},"AF3"]
[null,"Ritchie Vaisberg Rosalind",{"$f":"VLOOKUP(B7401,[1]export_1465921594229!$D7402:$G16662,4,FALSE)","v":"NJ4-117200"},"NJ4"]
[null,"Rivard Benjamin",{"$f":"VLOOKUP(B7402,[1]export_1465921594229!$D7403:$G16663,4,FALSE)","v":"C1T-124500"},"C1T"]
[null,"Rivard Karine",{"$f":"VLOOKUP(B7403,[1]export_1465921594229!$D7404:$G16664,4,FALSE)","v":"DNV-125051"},"DNV"]
[null,"Rivard Lorraine",{"$f":"VLOOKUP(B7404,[1]export_1465921594229!$D7405:$G16665,4,FALSE)","v":"I10-116297"},"I10"]
[null,"Rivera Edsel",{"$f":"VLOOKUP(B7405,[1]export_1465921594229!$D7406:$G16666,4,FALSE)","v":"C7R-124644"},"C7R"]
[null,"Riverin Lise",{"$f":"VLOOKUP(B7406,[1]export_1465921594229!$D7407:$G16667,4,FALSE)","v":"E61-115931"},"E61"]
[null,"Rivest Manon",{"$f":"VLOOKUP(B7407,[1]export_1465921594229!$D7408:$G16668,4,FALSE)","v":"D17-120140"},"D17"]
[null,"Rivest Manon",{"$f":"VLOOKUP(B7408,[1]export_1465921594229!$D7409:$G16669,4,FALSE)","v":"AE0-660075"},"AE0"]
[null,"Rivest Raymond",{"$f":"VLOOKUP(B7409,[1]export_1465921594229!$D7410:$G16670,4,FALSE)","v":"KM4-116723"},"KM4"]
[null,"Rivet Ernest",{"$f":"VLOOKUP(B7410,[1]export_1465921594229!$D7411:$G16671,4,FALSE)","v":"U30-119924"},"U30"]
[null,"Rivet Lynes",{"$f":"VLOOKUP(B7411,[1]export_1465921594229!$D7412:$G16672,4,FALSE)","v":"G57-118832"},"G57"]
[null,"Riyahi Abolfazl",{"$f":"VLOOKUP(B7412,[1]export_1465921594229!$D7413:$G16673,4,FALSE)","v":"IO2-116388"},"IO2"]
[null,"Rizk Jennifer",{"$f":"VLOOKUP(B7413,[1]export_1465921594229!$D7414:$G16674,4,FALSE)","v":"CEZ-123940"},"CEZ"]
[null,"Robbescheuten Michael (Mike) John",{"$f":"VLOOKUP(B7414,[1]export_1465921594229!$D7415:$G16675,4,FALSE)","v":"PS0-117602"},"PS0"]
[null,"Roberge David",{"$f":"VLOOKUP(B7415,[1]export_1465921594229!$D7416:$G16676,4,FALSE)","v":"AZ8-121871"},"AZ8"]
[null,"Roberge Jacinte",{"$f":"VLOOKUP(B7416,[1]export_1465921594229!$D7417:$G16677,4,FALSE)","v":"239-122423"},"239"]
[null,"Roberge Michel",{"$f":"VLOOKUP(B7417,[1]export_1465921594229!$D7418:$G16678,4,FALSE)","v":"X97-118095"},"X97"]
[null,"Roberge Roland",{"$f":"VLOOKUP(B7418,[1]export_1465921594229!$D7419:$G16679,4,FALSE)","v":"212-122407"},"212"]
[null,"Roberge Charbonneau Philippe-Olivier",{"$f":"VLOOKUP(B7419,[1]export_1465921594229!$D7420:$G16680,4,FALSE)","v":"PJ9-117536"},"PJ9"]
[null,"Roberge Charbonneau Philippe-Olivier",{"$f":"VLOOKUP(B7420,[1]export_1465921594229!$D7421:$G16681,4,FALSE)","v":"C2Q-124523"},"C2Q"]
[null,"Robert Chantal",{"$f":"VLOOKUP(B7421,[1]export_1465921594229!$D7422:$G16682,4,FALSE)","v":"A38-122116"},"A38"]
[null,"Robert Chantal",{"$f":"VLOOKUP(B7422,[1]export_1465921594229!$D7423:$G16683,4,FALSE)","v":"DE6-118387"},"DE6"]
[null,"Robert Daniel",{"$f":"VLOOKUP(B7423,[1]export_1465921594229!$D7424:$G16684,4,FALSE)","v":"D48-121587"},"D48"]
[null,"Robert Frances Darlene",{"$f":"VLOOKUP(B7424,[1]export_1465921594229!$D7425:$G16685,4,FALSE)","v":"BIX-123226"},"BIX"]
[null,"Robert Jean-Marie",{"$f":"VLOOKUP(B7425,[1]export_1465921594229!$D7426:$G16686,4,FALSE)","v":"FM4-118750"},"FM4"]
[null,"Robert Jocelyn",{"$f":"VLOOKUP(B7426,[1]export_1465921594229!$D7427:$G16687,4,FALSE)","v":"BZR-660445"},{"$f":"LEFT(C7426,3)","v":"BZR"}]
[null,"Robert Louis",{"$f":"VLOOKUP(B7427,[1]export_1465921594229!$D7428:$G16688,4,FALSE)","v":"DW0-115921"},"DW0"]
[null,"Robert Manon",{"$f":"VLOOKUP(B7428,[1]export_1465921594229!$D7429:$G16689,4,FALSE)","v":"Z56-660680"},"Z56"]
[null,"Robert Marc",{"$f":"VLOOKUP(B7429,[1]export_1465921594229!$D7430:$G16690,4,FALSE)","v":"JK4-660486"},"JK4"]
[null,"Robert Michel",{"$f":"VLOOKUP(B7430,[1]export_1465921594229!$D7431:$G16691,4,FALSE)","v":"R36-120597"},"R36"]
[null,"Robert Raymond",{"$f":"VLOOKUP(B7431,[1]export_1465921594229!$D7432:$G16692,4,FALSE)","v":"DO5-115904"},"DO5"]
[null,"Robert Roger",{"$f":"VLOOKUP(B7432,[1]export_1465921594229!$D7433:$G16693,4,FALSE)","v":"U14-119917"},"U14"]
[null,"Robert Yvan",{"$f":"VLOOKUP(B7433,[1]export_1465921594229!$D7434:$G16694,4,FALSE)","v":"DXN-660041"},"DXN"]
[null,"Robert Yvan",{"$f":"VLOOKUP(B7434,[1]export_1465921594229!$D7435:$G16695,4,FALSE)","v":"K21-125297"},"K21"]
[null,"Robert Yves",{"$f":"VLOOKUP(B7435,[1]export_1465921594229!$D7436:$G16696,4,FALSE)","v":"A6A-123001"},"A6A"]
[null,"Roberts Carol",{"$f":"VLOOKUP(B7436,[1]export_1465921594229!$D7437:$G16697,4,FALSE)","v":"N51-120809"},"N51"]
[null,"Roberts Chris",{"$f":"VLOOKUP(B7437,[1]export_1465921594229!$D7438:$G16698,4,FALSE)","v":"AB5-122037"},"AB5"]
[null,"Robichaud France",{"$f":"VLOOKUP(B7438,[1]export_1465921594229!$D7439:$G16699,4,FALSE)","v":"M96-116967"},"M96"]
[null,"Robichaud Jacqueline (Jackie)",{"$f":"VLOOKUP(B7439,[1]export_1465921594229!$D7440:$G16700,4,FALSE)","v":"CHA-123992"},"CHA"]
[null,"Robidas Luc Alcide",{"$f":"VLOOKUP(B7440,[1]export_1465921594229!$D7441:$G16701,4,FALSE)","v":"Z07-120053"},"Z07"]
[null,"Robillard Michel",{"$f":"VLOOKUP(B7441,[1]export_1465921594229!$D7442:$G16702,4,FALSE)","v":"EE1-660523"},"EE1"]
[null,"Robillard Michel",{"$f":"VLOOKUP(B7442,[1]export_1465921594229!$D7443:$G16703,4,FALSE)","v":"C7U-600106"},"C7U"]
[null,"Robillard Sacha",{"$f":"VLOOKUP(B7443,[1]export_1465921594229!$D7444:$G16704,4,FALSE)","v":"A5X-122591"},"A5X"]
[null,"Robillard Tommy",{"$f":"VLOOKUP(B7444,[1]export_1465921594229!$D7445:$G16705,4,FALSE)","v":"LX7-660219"},"LX7"]
[null,"Robillard Tommy",{"$f":"VLOOKUP(B7445,[1]export_1465921594229!$D7446:$G16706,4,FALSE)","v":"BFZ-123162"},"BFZ"]
[null,"Robin Nicolas",{"$f":"VLOOKUP(B7446,[1]export_1465921594229!$D7447:$G16707,4,FALSE)","v":"BJT-660326"},"BJT"]
[null,"Robinette Eric",{"$f":"VLOOKUP(B7447,[1]export_1465921594229!$D7448:$G16708,4,FALSE)","v":"GK5-121256"},"GK5"]
[null,"Robinson Glendon",{"$f":"VLOOKUP(B7448,[1]export_1465921594229!$D7449:$G16709,4,FALSE)","v":"A6W-550827"},"A6W"]
[null,"Robinson Ian",{"$f":"VLOOKUP(B7449,[1]export_1465921594229!$D7450:$G16710,4,FALSE)","v":"BFW-550357"},"BFW"]
[null,"Robinson Larry",{"$f":"VLOOKUP(B7450,[1]export_1465921594229!$D7451:$G16711,4,FALSE)","v":"FU3-118786"},"FU3"]
[null,"Robinson Pat",{"$f":"VLOOKUP(B7451,[1]export_1465921594229!$D7452:$G16712,4,FALSE)","v":"B2M-123630"},"B2M"]
[null,"Robinson Stephen",{"$f":"VLOOKUP(B7452,[1]export_1465921594229!$D7453:$G16713,4,FALSE)","v":"LC4-119314"},"LC4"]
[null,"Robitaille Cassandra",{"$f":"VLOOKUP(B7453,[1]export_1465921594229!$D7454:$G16714,4,FALSE)","v":"PM7-120679"},"PM7"]
[null,"Robitaille Daniel",{"$f":"VLOOKUP(B7454,[1]export_1465921594229!$D7455:$G16715,4,FALSE)","v":"532-120261"},"532"]
[null,"Robitaille Jean-Francois",{"$f":"VLOOKUP(B7455,[1]export_1465921594229!$D7456:$G16716,4,FALSE)","v":"Q54-120691"},"Q54"]
[null,"Robitaille Marie-France",{"$f":"VLOOKUP(B7456,[1]export_1465921594229!$D7457:$G16717,4,FALSE)","v":"165-122499"},"165"]
[null,"Robitaille Monique",{"$f":"VLOOKUP(B7457,[1]export_1465921594229!$D7458:$G16718,4,FALSE)","v":"BDN-660314"},"BDN"]
[null,"Robitaille Patrick",{"$f":"VLOOKUP(B7458,[1]export_1465921594229!$D7459:$G16719,4,FALSE)","v":"CO8-118333"},"CO8"]
[null,"Robitaille Sonia",{"$f":"VLOOKUP(B7459,[1]export_1465921594229!$D7460:$G16720,4,FALSE)","v":"A23-120187"},"A23"]
[null,"Robitaille Yves",{"$f":"VLOOKUP(B7460,[1]export_1465921594229!$D7461:$G16721,4,FALSE)","v":"H76-660372"},"H76"]
[null,"Roblero-Zuniga Cesar",{"$f":"VLOOKUP(B7461,[1]export_1465921594229!$D7462:$G16722,4,FALSE)","v":"CEL-123926"},"CEL"]
[null,"Roblero-Zuniga Cesar",{"$f":"VLOOKUP(B7462,[1]export_1465921594229!$D7463:$G16723,4,FALSE)","v":"CFJ-123949"},"CFJ"]
[null,"Roblero-Zuniga Cesar",{"$f":"VLOOKUP(B7463,[1]export_1465921594229!$D7464:$G16724,4,FALSE)","v":"OV6-117414"},"OV6"]
[null,"Roch Michel",{"$f":"VLOOKUP(B7464,[1]export_1465921594229!$D7465:$G16725,4,FALSE)","v":"NO9-117232"},"NO9"]
[null,"Rocha Nelson",{"$f":"VLOOKUP(B7465,[1]export_1465921594229!$D7466:$G16726,4,FALSE)","v":"PZ7-117652"},"PZ7"]
[null,"Rocha Nelson",{"$f":"VLOOKUP(B7466,[1]export_1465921594229!$D7467:$G16727,4,FALSE)","v":"CFZ-123965"},"CFZ"]
[null,"Rochefort Yves",{"$f":"VLOOKUP(B7467,[1]export_1465921594229!$D7468:$G16728,4,FALSE)","v":"L95-120952"},"L95"]
[null,"Rocheleau Claudette",{"$f":"VLOOKUP(B7468,[1]export_1465921594229!$D7469:$G16729,4,FALSE)","v":"U53-117941"},"U53"]
[null,"Rocheleau Pierre",{"$f":"VLOOKUP(B7469,[1]export_1465921594229!$D7470:$G16730,4,FALSE)","v":"E69-118511"},"E69"]
[null,"Rocheleau Pierre",{"$f":"VLOOKUP(B7470,[1]export_1465921594229!$D7471:$G16731,4,FALSE)","v":"F96-121420"},"F96"]
[null,"Rocheleau Richard",{"$f":"VLOOKUP(B7471,[1]export_1465921594229!$D7472:$G16732,4,FALSE)","v":"G58-116059"},"G58"]
[null,"Rochette Anne",{"$f":"VLOOKUP(B7472,[1]export_1465921594229!$D7473:$G16733,4,FALSE)","v":"424-122299"},"424"]
[null,"Rochette Charles",{"$f":"VLOOKUP(B7473,[1]export_1465921594229!$D7474:$G16734,4,FALSE)","v":"583-122127"},"583"]
[null,"Rochette Dominique",{"$f":"VLOOKUP(B7474,[1]export_1465921594229!$D7475:$G16735,4,FALSE)","v":"PP1-117579"},"PP1"]
[null,"Rochon Christian",{"$f":"VLOOKUP(B7475,[1]export_1465921594229!$D7476:$G16736,4,FALSE)","v":"CV6-121671"},"CV6"]
[null,"Rochon Lucie",{"$f":"VLOOKUP(B7476,[1]export_1465921594229!$D7477:$G16737,4,FALSE)","v":"X91-660607"},"X91"]
[null,"Rodier Pierre",{"$f":"VLOOKUP(B7477,[1]export_1465921594229!$D7478:$G16738,4,FALSE)","v":"T46-120530"},"T46"]
[null,"Rodmore Scott",{"$f":"VLOOKUP(B7478,[1]export_1465921594229!$D7479:$G16739,4,FALSE)","v":"BDD-123115"},"BDD"]
[null,"Rodrigo Aileen",{"$f":"VLOOKUP(B7479,[1]export_1465921594229!$D7480:$G16740,4,FALSE)","v":"IO6-118063"},"IO6"]
[null,"Rodrigue Annie",{"$f":"VLOOKUP(B7480,[1]export_1465921594229!$D7481:$G16741,4,FALSE)","v":"Z11-118016"},"Z11"]
[null,"Rodrigue Gilles",{"$f":"VLOOKUP(B7481,[1]export_1465921594229!$D7482:$G16742,4,FALSE)","v":"CP8-118336"},"CP8"]
[null,"Rodrigue Martin",{"$f":"VLOOKUP(B7482,[1]export_1465921594229!$D7483:$G16743,4,FALSE)","v":"P10-660682"},"P10"]
[null,"Rodrigue Martin",{"$f":"VLOOKUP(B7483,[1]export_1465921594229!$D7484:$G16744,4,FALSE)","v":"IJ6-121133"},"IJ6"]
[null,"Rodrigue Pierre",{"$f":"VLOOKUP(B7484,[1]export_1465921594229!$D7485:$G16745,4,FALSE)","v":"G65-660365"},"G65"]
[null,"Rodrigue Sylvie",{"$f":"VLOOKUP(B7485,[1]export_1465921594229!$D7486:$G16746,4,FALSE)","v":"E81-121449"},"E81"]
[null,"Rodrigues Isabel",{"$f":"VLOOKUP(B7486,[1]export_1465921594229!$D7487:$G16747,4,FALSE)","v":"DNT-125049"},"DNT"]
[null,"Rogers Andrea",{"$f":"VLOOKUP(B7487,[1]export_1465921594229!$D7488:$G16748,4,FALSE)","v":"BD2-118199"},"BD2"]
[null,"Rogers Daniel",{"$f":"VLOOKUP(B7488,[1]export_1465921594229!$D7489:$G16749,4,FALSE)","v":"CDO-123903"},"CDO"]
[null,"Rogers Daniel",{"$f":"VLOOKUP(B7489,[1]export_1465921594229!$D7490:$G16750,4,FALSE)","v":"C8U-124673"},"C8U"]
[null,"Roiati Marcel",{"$f":"VLOOKUP(B7490,[1]export_1465921594229!$D7491:$G16751,4,FALSE)","v":"CG8-115834"},{"$f":"LEFT(C7490,3)","v":"CG8"}]
[null,"Roj Sebastian",{"$f":"VLOOKUP(B7491,[1]export_1465921594229!$D7492:$G16752,4,FALSE)","v":"BH0-115779"},"BH0"]
[null,"Rolfe Dean",{"$f":"VLOOKUP(B7492,[1]export_1465921594229!$D7493:$G16753,4,FALSE)","v":"FE7-118704"},"FE7"]
[null,"Rolfe Dean",{"$f":"VLOOKUP(B7493,[1]export_1465921594229!$D7494:$G16754,4,FALSE)","v":"P82-119634"},"P82"]
[null,"Rolfe Dean",{"$f":"VLOOKUP(B7494,[1]export_1465921594229!$D7495:$G16755,4,FALSE)","v":"DAE-124707"},"DAE"]
[null,"Rolland Johanne",{"$f":"VLOOKUP(B7495,[1]export_1465921594229!$D7496:$G16756,4,FALSE)","v":"U91-119945"},"U91"]
[null,"Rollin Gaston",{"$f":"VLOOKUP(B7496,[1]export_1465921594229!$D7497:$G16757,4,FALSE)","v":"KB4-660212"},"KB4"]
[null,"Rollock Rodney A.",{"$f":"VLOOKUP(B7497,[1]export_1465921594229!$D7498:$G16758,4,FALSE)","v":"HU7-121207"},"HU7"]
[null,"Romero Lynne",{"$f":"VLOOKUP(B7498,[1]export_1465921594229!$D7499:$G16759,4,FALSE)","v":"JJ4-116513"},"JJ4"]
[null,"Romero Ronell",{"$f":"VLOOKUP(B7499,[1]export_1465921594229!$D7500:$G16760,4,FALSE)","v":"JZ5-116615"},"JZ5"]
[null,"Romero Morales Edmar Alfonso",{"$f":"VLOOKUP(B7500,[1]export_1465921594229!$D7501:$G16761,4,FALSE)","v":"PR7-117600"},"PR7"]
[null,"Rondeau Alain",{"$f":"VLOOKUP(B7501,[1]export_1465921594229!$D7502:$G16762,4,FALSE)","v":"600-122134"},"600"]
[null,"Rondeau Jean",{"$f":"VLOOKUP(B7502,[1]export_1465921594229!$D7503:$G16763,4,FALSE)","v":"264-120431"},"264"]
[null,"Rondeau Jean",{"$f":"VLOOKUP(B7503,[1]export_1465921594229!$D7504:$G16764,4,FALSE)","v":"K05-116621"},"K05"]
[null,"Rondeau Manon",{"$f":"VLOOKUP(B7504,[1]export_1465921594229!$D7505:$G16765,4,FALSE)","v":"646-122167"},"646"]
[null,"Rondy Mireille",{"$f":"VLOOKUP(B7505,[1]export_1465921594229!$D7506:$G16766,4,FALSE)","v":"HV1-116273"},"HV1"]
[null,"Rooplall Rosetta",{"$f":"VLOOKUP(B7506,[1]export_1465921594229!$D7507:$G16767,4,FALSE)","v":"V36-120581"},"V36"]
[null,"Rooprai Davinder",{"$f":"VLOOKUP(B7507,[1]export_1465921594229!$D7508:$G16768,4,FALSE)","v":"RC6-117873"},"RC6"]
[null,"Rosa Laurent",{"$f":"VLOOKUP(B7508,[1]export_1465921594229!$D7509:$G16769,4,FALSE)","v":"X40-120033"},"X40"]
[null,"Rosa Lise",{"$f":"VLOOKUP(B7509,[1]export_1465921594229!$D7510:$G16770,4,FALSE)","v":"415-120334"},"415"]
[null,"Rosacena Irene",{"$f":"VLOOKUP(B7510,[1]export_1465921594229!$D7511:$G16771,4,FALSE)","v":"IB4-116319"},"IB4"]
[null,"Rosacena Voltaire",{"$f":"VLOOKUP(B7511,[1]export_1465921594229!$D7512:$G16772,4,FALSE)","v":"IB5-116320"},"IB5"]
[null,"Rosales Emelda",{"$f":"VLOOKUP(B7512,[1]export_1465921594229!$D7513:$G16773,4,FALSE)","v":"QP6-117751"},"QP6"]
[null,"Rosario Jesus Del",{"$f":"VLOOKUP(B7513,[1]export_1465921594229!$D7514:$G16774,4,FALSE)","v":"HX8-116289"},"HX8"]
[null,"Rose Gary",{"$f":"VLOOKUP(B7514,[1]export_1465921594229!$D7515:$G16775,4,FALSE)","v":"OK2-117344"},"OK2"]
[null,"Rosenthal Lowen",{"$f":"VLOOKUP(B7515,[1]export_1465921594229!$D7516:$G16776,4,FALSE)","v":"C4B-124556"},"C4B"]
[null,"Rosney Bernard",{"$f":"VLOOKUP(B7516,[1]export_1465921594229!$D7517:$G16777,4,FALSE)","v":"BV0-121763"},"BV0"]
[null,"Rosos Russell",{"$f":"VLOOKUP(B7517,[1]export_1465921594229!$D7518:$G16778,4,FALSE)","v":"BLP-123281"},"BLP"]
[null,"Ross Ashley",{"$f":"VLOOKUP(B7518,[1]export_1465921594229!$D7519:$G16779,4,FALSE)","v":"FH1-118717"},"FH1"]
[null,"Ross Donald",{"$f":"VLOOKUP(B7519,[1]export_1465921594229!$D7520:$G16780,4,FALSE)","v":"GX8-118956"},"GX8"]
[null,"Ross Jacques",{"$f":"VLOOKUP(B7520,[1]export_1465921594229!$D7521:$G16781,4,FALSE)","v":"K73-120983"},"K73"]
[null,"Ross Norma",{"$f":"VLOOKUP(B7521,[1]export_1465921594229!$D7522:$G16782,4,FALSE)","v":"N75-120826"},"N75"]
[null,"Ross Richard James",{"$f":"VLOOKUP(B7522,[1]export_1465921594229!$D7523:$G16783,4,FALSE)","v":"C8G-124659"},"C8G"]
[null,"Ross Warren",{"$f":"VLOOKUP(B7523,[1]export_1465921594229!$D7524:$G16784,4,FALSE)","v":"R10-119791"},"R10"]
[null,"Rossel-Vasquez Hugo",{"$f":"VLOOKUP(B7524,[1]export_1465921594229!$D7525:$G16785,4,FALSE)","v":"CFL-123951"},"CFL"]
[null,"Rossel-Vasquez Hugo",{"$f":"VLOOKUP(B7525,[1]export_1465921594229!$D7526:$G16786,4,FALSE)","v":"NL1-117210"},"NL1"]
[null,"Rossignol Carl",{"$f":"VLOOKUP(B7526,[1]export_1465921594229!$D7527:$G16787,4,FALSE)","v":"B7O-123756"},"B7O"]
[null,"Rossignol Jean-Marie",{"$f":"VLOOKUP(B7527,[1]export_1465921594229!$D7528:$G16788,4,FALSE)","v":"G07-118815"},"G07"]
[null,"Rossignol Luc",{"$f":"VLOOKUP(B7528,[1]export_1465921594229!$D7529:$G16789,4,FALSE)","v":"GR5-116113"},"GR5"]
[null,"Rotenberg (GIC Wealth) Kevin",{"$f":"VLOOKUP(B7529,[1]export_1465921594229!$D7530:$G16790,4,FALSE)","v":"CZG-124436"},"CZG"]
[null,"Roter Ari",{"$f":"VLOOKUP(B7530,[1]export_1465921594229!$D7531:$G16791,4,FALSE)","v":"BUH-660390"},"BUH"]
[null,"Rouillard Michel",{"$f":"VLOOKUP(B7531,[1]export_1465921594229!$D7532:$G16792,4,FALSE)","v":"J13-116450"},"J13"]
[null,"Rouire Mireille",{"$f":"VLOOKUP(B7532,[1]export_1465921594229!$D7533:$G16793,4,FALSE)","v":"GU4-118945"},"GU4"]
[null,"Rouleau Philippe",{"$f":"VLOOKUP(B7533,[1]export_1465921594229!$D7534:$G16794,4,FALSE)","v":"CGW-123988"},"CGW"]
[null,"Rouleau Pierre R.",{"$f":"VLOOKUP(B7534,[1]export_1465921594229!$D7535:$G16795,4,FALSE)","v":"544-122233"},"544"]
[null,"Rousseau Bertrand",{"$f":"VLOOKUP(B7535,[1]export_1465921594229!$D7536:$G16796,4,FALSE)","v":"111-120396"},"111"]
[null,"Rousseau Denis",{"$f":"VLOOKUP(B7536,[1]export_1465921594229!$D7537:$G16797,4,FALSE)","v":"Z87-120090"},"Z87"]
[null,"Rousseau Francois",{"$f":"VLOOKUP(B7537,[1]export_1465921594229!$D7538:$G16798,4,FALSE)","v":"JG4-660094"},"JG4"]
[null,"Rousseau Patricia",{"$f":"VLOOKUP(B7538,[1]export_1465921594229!$D7539:$G16799,4,FALSE)","v":"M88-119400"},"M88"]
[null,"Roussel Jean-Philippe",{"$f":"VLOOKUP(B7539,[1]export_1465921594229!$D7540:$G16800,4,FALSE)","v":"JA0-660207"},"JA0"]
[null,"Rousselet Maria Estela",{"$f":"VLOOKUP(B7540,[1]export_1465921594229!$D7541:$G16801,4,FALSE)","v":"DOX-125079"},"DOX"]
[null,"Roussin Jacques",{"$f":"VLOOKUP(B7541,[1]export_1465921594229!$D7542:$G16802,4,FALSE)","v":"A70-122010"},"A70"]
[null,"Roussos Andreas",{"$f":"VLOOKUP(B7542,[1]export_1465921594229!$D7543:$G16803,4,FALSE)","v":"OZ9-117440"},"OZ9"]
[null,"Roux Laurent",{"$f":"VLOOKUP(B7543,[1]export_1465921594229!$D7544:$G16804,4,FALSE)","v":"O06-119526"},"O06"]
[null,"Roux Timothy R",{"$f":"VLOOKUP(B7544,[1]export_1465921594229!$D7545:$G16805,4,FALSE)","v":"KR7-121019"},"KR7"]
[null,"Roux Timothy R",{"$f":"VLOOKUP(B7545,[1]export_1465921594229!$D7546:$G16806,4,FALSE)","v":"KF0-116676"},"KF0"]
[null,"Rowe Cameron",{"$f":"VLOOKUP(B7546,[1]export_1465921594229!$D7547:$G16807,4,FALSE)","v":"OU8-117409"},"OU8"]
[null,"Rowe Rohan Gilbert",{"$f":"VLOOKUP(B7547,[1]export_1465921594229!$D7548:$G16808,4,FALSE)","v":"LB0-116802"},"LB0"]
[null,"Rowell David",{"$f":"VLOOKUP(B7548,[1]export_1465921594229!$D7549:$G16809,4,FALSE)","v":"W76-120497"},"W76"]
[null,"Rowell Kelly",{"$f":"VLOOKUP(B7549,[1]export_1465921594229!$D7550:$G16810,4,FALSE)","v":"GO0-116099"},"GO0"]
[null,"Rowley Francois",{"$f":"VLOOKUP(B7550,[1]export_1465921594229!$D7551:$G16811,4,FALSE)","v":"E42-118495"},"E42"]
[null,"Roxas Ronald",{"$f":"VLOOKUP(B7551,[1]export_1465921594229!$D7552:$G16812,4,FALSE)","v":"BKP-123256"},"BKP"]
[null,"Roy Alain C.",{"$f":"VLOOKUP(B7552,[1]export_1465921594229!$D7553:$G16813,4,FALSE)","v":"Q01-117653"},"Q01"]
[null,"Roy Alain C.",{"$f":"VLOOKUP(B7553,[1]export_1465921594229!$D7554:$G16814,4,FALSE)","v":"L96-120953"},"L96"]
[null,"Roy Andre",{"$f":"VLOOKUP(B7554,[1]export_1465921594229!$D7555:$G16815,4,FALSE)","v":"695-122076"},{"$f":"LEFT(C7554,3)","v":"695"}]
[null,"Roy Andre",{"$f":"VLOOKUP(B7555,[1]export_1465921594229!$D7556:$G16816,4,FALSE)","v":"T27-117909"},"T27"]
[null,"Roy Anthony",{"$f":"VLOOKUP(B7556,[1]export_1465921594229!$D7557:$G16817,4,FALSE)","v":"IE5-121126"},"IE5"]
[null,"Roy Benjamin",{"$f":"VLOOKUP(B7557,[1]export_1465921594229!$D7558:$G16818,4,FALSE)","v":"DVG-125238"},"DVG"]
[null,"Roy Chantal",{"$f":"VLOOKUP(B7558,[1]export_1465921594229!$D7559:$G16819,4,FALSE)","v":"K14-121075"},"K14"]
[null,"Roy Christiane",{"$f":"VLOOKUP(B7559,[1]export_1465921594229!$D7560:$G16820,4,FALSE)","v":"B10-121879"},"B10"]
[null,"Roy Daniel",{"$f":"VLOOKUP(B7560,[1]export_1465921594229!$D7561:$G16821,4,FALSE)","v":"CZF-124435"},"CZF"]
[null,"Roy Denis",{"$f":"VLOOKUP(B7561,[1]export_1465921594229!$D7562:$G16822,4,FALSE)","v":"V87-550120"},"V87"]
[null,"Roy Diane",{"$f":"VLOOKUP(B7562,[1]export_1465921594229!$D7563:$G16823,4,FALSE)","v":"OX3-119608"},"OX3"]
[null,"Roy Eric",{"$f":"VLOOKUP(B7563,[1]export_1465921594229!$D7564:$G16824,4,FALSE)","v":"H45-121290"},"H45"]
[null,"Roy Eric",{"$f":"VLOOKUP(B7564,[1]export_1465921594229!$D7565:$G16825,4,FALSE)","v":"IR4-116408"},"IR4"]
[null,"Roy Georges-Aime",{"$f":"VLOOKUP(B7565,[1]export_1465921594229!$D7566:$G16826,4,FALSE)","v":"V43-120582"},"V43"]
[null,"Roy Ghislain",{"$f":"VLOOKUP(B7566,[1]export_1465921594229!$D7567:$G16827,4,FALSE)","v":"K62-120974"},"K62"]
[null,"Roy Gilbert",{"$f":"VLOOKUP(B7567,[1]export_1465921594229!$D7568:$G16828,4,FALSE)","v":"J79-119177"},"J79"]
[null,"Roy Ian",{"$f":"VLOOKUP(B7568,[1]export_1465921594229!$D7569:$G16829,4,FALSE)","v":"G47-121343"},"G47"]
[null,"Roy Jacques",{"$f":"VLOOKUP(B7569,[1]export_1465921594229!$D7570:$G16830,4,FALSE)","v":"O77-119550"},"O77"]
[null,"Roy Jacques",{"$f":"VLOOKUP(B7570,[1]export_1465921594229!$D7571:$G16831,4,FALSE)","v":"L97-120954"},"L97"]
[null,"Roy Jacques",{"$f":"VLOOKUP(B7571,[1]export_1465921594229!$D7572:$G16832,4,FALSE)","v":"362-122255"},"362"]
[null,"Roy Jean-Denis",{"$f":"VLOOKUP(B7572,[1]export_1465921594229!$D7573:$G16833,4,FALSE)","v":"O61-119545"},"O61"]
[null,"Roy Josee",{"$f":"VLOOKUP(B7573,[1]export_1465921594229!$D7574:$G16834,4,FALSE)","v":"HQ3-660567"},"HQ3"]
[null,"Roy Jules",{"$f":"VLOOKUP(B7574,[1]export_1465921594229!$D7575:$G16835,4,FALSE)","v":"376-120327"},"376"]
[null,"Roy Julie",{"$f":"VLOOKUP(B7575,[1]export_1465921594229!$D7576:$G16836,4,FALSE)","v":"OQ7-660587"},"OQ7"]
[null,"Roy Julie",{"$f":"VLOOKUP(B7576,[1]export_1465921594229!$D7577:$G16837,4,FALSE)","v":"DLY-125004"},"DLY"]
[null,"Roy Kathia",{"$f":"VLOOKUP(B7577,[1]export_1465921594229!$D7578:$G16838,4,FALSE)","v":"COW-600094"},"COW"]
[null,"Roy Leonce",{"$f":"VLOOKUP(B7578,[1]export_1465921594229!$D7579:$G16839,4,FALSE)","v":"296-120312"},"296"]
[null,"Roy Litly",{"$f":"VLOOKUP(B7579,[1]export_1465921594229!$D7580:$G16840,4,FALSE)","v":"HD3-116172"},"HD3"]
[null,"Roy Louis",{"$f":"VLOOKUP(B7580,[1]export_1465921594229!$D7581:$G16841,4,FALSE)","v":"O94-119555"},"O94"]
[null,"Roy Louis",{"$f":"VLOOKUP(B7581,[1]export_1465921594229!$D7582:$G16842,4,FALSE)","v":"OL1-119573"},"OL1"]
[null,"Roy Marquis",{"$f":"VLOOKUP(B7582,[1]export_1465921594229!$D7583:$G16843,4,FALSE)","v":"QW8-660344"},"QW8"]
[null,"Roy Mathieu",{"$f":"VLOOKUP(B7583,[1]export_1465921594229!$D7584:$G16844,4,FALSE)","v":"W63-120491"},"W63"]
[null,"Roy Mathieu",{"$f":"VLOOKUP(B7584,[1]export_1465921594229!$D7585:$G16845,4,FALSE)","v":"D42-121582"},"D42"]
[null,"Roy Michel",{"$f":"VLOOKUP(B7585,[1]export_1465921594229!$D7586:$G16846,4,FALSE)","v":"M26-119374"},"M26"]
[null,"Roy Nicolas",{"$f":"VLOOKUP(B7586,[1]export_1465921594229!$D7587:$G16847,4,FALSE)","v":"O96-660304"},"O96"]
[null,"Roy Pauline",{"$f":"VLOOKUP(B7587,[1]export_1465921594229!$D7588:$G16848,4,FALSE)","v":"M35-119377"},"M35"]
[null,"Roy Pierre",{"$f":"VLOOKUP(B7588,[1]export_1465921594229!$D7589:$G16849,4,FALSE)","v":"D3O-125447"},"D3O"]
[null,"Roy Renaud",{"$f":"VLOOKUP(B7589,[1]export_1465921594229!$D7590:$G16850,4,FALSE)","v":"DYF-125315"},"DYF"]
[null,"Roy Rita",{"$f":"VLOOKUP(B7590,[1]export_1465921594229!$D7591:$G16851,4,FALSE)","v":"243-122425"},"243"]
[null,"Roy Yves",{"$f":"VLOOKUP(B7591,[1]export_1465921594229!$D7592:$G16852,4,FALSE)","v":"KM9-116727"},"KM9"]
[null,"Roy St-Onge Mathieu",{"$f":"VLOOKUP(B7592,[1]export_1465921594229!$D7593:$G16853,4,FALSE)","v":"C2V-124528"},"C2V"]
[null,"Royer Gilbert",{"$f":"VLOOKUP(B7593,[1]export_1465921594229!$D7594:$G16854,4,FALSE)","v":"BU4-550156"},"BU4"]
[null,"Royer Jean-Francois",{"$f":"VLOOKUP(B7594,[1]export_1465921594229!$D7595:$G16855,4,FALSE)","v":"ML6-117051"},"ML6"]
[null,"Royer Marie-Helene",{"$f":"VLOOKUP(B7595,[1]export_1465921594229!$D7596:$G16856,4,FALSE)","v":{"$error":"#N/A"}},{"$error":"#N/A"}]
[null,"Royer Sebastien",{"$f":"VLOOKUP(B7596,[1]export_1465921594229!$D7597:$G16857,4,FALSE)","v":"E96-118531"},"E96"]
[null,"Royer Steve",{"$f":"VLOOKUP(B7597,[1]export_1465921594229!$D7598:$G16858,4,FALSE)","v":"J97-118067"},"J97"]
[null,"Royer Delisle Les Assurances",{"$f":"VLOOKUP(B7598,[1]export_1465921594229!$D7599:$G16859,4,FALSE)","v":"E21-118479"},"E21"]
[null,"Rozon Francine",{"$f":"VLOOKUP(B7599,[1]export_1465921594229!$D7600:$G16860,4,FALSE)","v":"HI3-660580"},"HI3"]
[null,"Rubin Bryan",{"$f":"VLOOKUP(B7600,[1]export_1465921594229!$D7601:$G16861,4,FALSE)","v":"BQY-123372"},"BQY"]
[null,"Rubin Bryan",{"$f":"VLOOKUP(B7601,[1]export_1465921594229!$D7602:$G16862,4,FALSE)","v":"N01-119449"},"N01"]
[null,"Rubin Bryan",{"$f":"VLOOKUP(B7602,[1]export_1465921594229!$D7603:$G16863,4,FALSE)","v":"924-115581"},"924"]
[null,"Rubin Bryan",{"$f":"VLOOKUP(B7603,[1]export_1465921594229!$D7604:$G16864,4,FALSE)","v":"HC0-026750"},"HC0"]
[null,"Rubina Espinoza Jocelyn Paola",{"$f":"VLOOKUP(B7604,[1]export_1465921594229!$D7605:$G16865,4,FALSE)","v":"CFN-123953"},"CFN"]
[null,"Rubina Espinoza Jocelyn Paola",{"$f":"VLOOKUP(B7605,[1]export_1465921594229!$D7606:$G16866,4,FALSE)","v":"BGA-123163"},"BGA"]
[null,"Rubinoff(Brash Finan Inc) Miles",{"$f":"VLOOKUP(B7606,[1]export_1465921594229!$D7607:$G16867,4,FALSE)","v":"QM0-550768"},"QM0"]
[null,"Rubinstein Gerald",{"$f":"VLOOKUP(B7607,[1]export_1465921594229!$D7608:$G16868,4,FALSE)","v":"OK6-117348"},"OK6"]
[null,"Rueckert Steven",{"$f":"VLOOKUP(B7608,[1]export_1465921594229!$D7609:$G16869,4,FALSE)","v":"DHS-124898"},"DHS"]
[null,"Ruel Gaetan",{"$f":"VLOOKUP(B7609,[1]export_1465921594229!$D7610:$G16870,4,FALSE)","v":"Z81-118037"},"Z81"]
[null,"Ruel Mylene",{"$f":"VLOOKUP(B7610,[1]export_1465921594229!$D7611:$G16871,4,FALSE)","v":{"$error":"#N/A"}},{"$error":"#N/A"}]
[null,"Ruel Mylene",{"$f":"VLOOKUP(B7611,[1]export_1465921594229!$D7612:$G16872,4,FALSE)","v":{"$error":"#N/A"}},{"$error":"#N/A"}]
[null,"Ruel Nathalie",{"$f":"VLOOKUP(B7612,[1]export_1465921594229!$D7613:$G16873,4,FALSE)","v":"O37-120739"},"O37"]
[null,"Ruel Sylvain",{"$f":"VLOOKUP(B7613,[1]export_1465921594229!$D7614:$G16874,4,FALSE)","v":"G19-118820"},"G19"]
[null,"Ruel Yves",{"$f":"VLOOKUP(B7614,[1]export_1465921594229!$D7615:$G16875,4,FALSE)","v":"FZ0-116044"},"FZ0"]
[null,"Ruel Yves",{"$f":"VLOOKUP(B7615,[1]export_1465921594229!$D7616:$G16876,4,FALSE)","v":"W17-119988"},"W17"]
[null,"Ruelland Simon",{"$f":"VLOOKUP(B7616,[1]export_1465921594229!$D7617:$G16877,4,FALSE)","v":"Z80-118036"},"Z80"]
[null,"Ruest Suzanne",{"$f":"VLOOKUP(B7617,[1]export_1465921594229!$D7618:$G16878,4,FALSE)","v":"K81-120990"},"K81"]
[null,"Ruest Brisson Denise",{"$f":"VLOOKUP(B7618,[1]export_1465921594229!$D7619:$G16879,4,FALSE)","v":"H01-118961"},{"$f":"LEFT(C7618,3)","v":"H01"}]
[null,"Rumleskie Lisa",{"$f":"VLOOKUP(B7619,[1]export_1465921594229!$D7620:$G16880,4,FALSE)","v":"DP6-121540"},"DP6"]
[null,"Rumley Nicole",{"$f":"VLOOKUP(B7620,[1]export_1465921594229!$D7621:$G16881,4,FALSE)","v":"BDF-550677"},"BDF"]
[null,"Rupasinghe Alma",{"$f":"VLOOKUP(B7621,[1]export_1465921594229!$D7622:$G16882,4,FALSE)","v":"PH2-117513"},"PH2"]
[null,"Rupasinghe Don",{"$f":"VLOOKUP(B7622,[1]export_1465921594229!$D7623:$G16883,4,FALSE)","v":"LH4-116850"},"LH4"]
[null,"Rusinek Maggie",{"$f":"VLOOKUP(B7623,[1]export_1465921594229!$D7624:$G16884,4,FALSE)","v":"N05-500196"},"N05"]
[null,"Russell Howard",{"$f":"VLOOKUP(B7624,[1]export_1465921594229!$D7625:$G16885,4,FALSE)","v":"BEQ-123133"},"BEQ"]
[null,"Russell Rohan",{"$f":"VLOOKUP(B7625,[1]export_1465921594229!$D7626:$G16886,4,FALSE)","v":"RD6-117881"},"RD6"]
[null,"Russell Timothy",{"$f":"VLOOKUP(B7626,[1]export_1465921594229!$D7627:$G16887,4,FALSE)","v":"MC2-119408"},"MC2"]
[null,"Russell Timothy",{"$f":"VLOOKUP(B7627,[1]export_1465921594229!$D7628:$G16888,4,FALSE)","v":"MC1-119407"},"MC1"]
[null,"Ruten Krystal",{"$f":"VLOOKUP(B7628,[1]export_1465921594229!$D7629:$G16889,4,FALSE)","v":"DYQ-125326"},"DYQ"]
[null,"Ruus Corina",{"$f":"VLOOKUP(B7629,[1]export_1465921594229!$D7630:$G16890,4,FALSE)","v":"JR1-116560"},"JR1"]
[null,"Ruzsa David",{"$f":"VLOOKUP(B7630,[1]export_1465921594229!$D7631:$G16891,4,FALSE)","v":"B6T-123735"},"B6T"]
[null,"Ryan John",{"$f":"VLOOKUP(B7631,[1]export_1465921594229!$D7632:$G16892,4,FALSE)","v":"IS0-116412"},"IS0"]
[null,"Ryckman Lisa",{"$f":"VLOOKUP(B7632,[1]export_1465921594229!$D7633:$G16893,4,FALSE)","v":"IO7-550580"},"IO7"]
[null,"Ryper Matthew",{"$f":"VLOOKUP(B7633,[1]export_1465921594229!$D7634:$G16894,4,FALSE)","v":"II7-119132"},"II7"]
[null,"Sabourin Genna",{"$f":"VLOOKUP(B7634,[1]export_1465921594229!$D7635:$G16895,4,FALSE)","v":"BXJ-123511"},"BXJ"]
[null,"Sabourin Mario",{"$f":"VLOOKUP(B7635,[1]export_1465921594229!$D7636:$G16896,4,FALSE)","v":"BT9-115803"},"BT9"]
[null,"Sabourin Pierre",{"$f":"VLOOKUP(B7636,[1]export_1465921594229!$D7637:$G16897,4,FALSE)","v":"033-115691"},"033"]
[null,"Sabri Omar",{"$f":"VLOOKUP(B7637,[1]export_1465921594229!$D7638:$G16898,4,FALSE)","v":"K01-120177"},"K01"]
[null,"Sabuelba Shy Desvarro",{"$f":"VLOOKUP(B7638,[1]export_1465921594229!$D7639:$G16899,4,FALSE)","v":"CGF-123971"},"CGF"]
[null,"Sabuelba Shy Desvarro",{"$f":"VLOOKUP(B7639,[1]export_1465921594229!$D7640:$G16900,4,FALSE)","v":"NT8-117243"},"NT8"]
[null,"Sachdeva Sanjay",{"$f":"VLOOKUP(B7640,[1]export_1465921594229!$D7641:$G16901,4,FALSE)","v":"QM4-117726"},"QM4"]
[null,"Sacramento Arsenia Mendoza",{"$f":"VLOOKUP(B7641,[1]export_1465921594229!$D7642:$G16902,4,FALSE)","v":"JW7-116602"},"JW7"]
[null,"Sadhu Ganesh Narine",{"$f":"VLOOKUP(B7642,[1]export_1465921594229!$D7643:$G16903,4,FALSE)","v":"DGZ-124881"},"DGZ"]
[null,"Sagor Shaugat Ali",{"$f":"VLOOKUP(B7643,[1]export_1465921594229!$D7644:$G16904,4,FALSE)","v":"IR9-550586"},"IR9"]
[null,"Saha Kamal",{"$f":"VLOOKUP(B7644,[1]export_1465921594229!$D7645:$G16905,4,FALSE)","v":"HD4-116173"},"HD4"]
[null,"Sahni Davinder",{"$f":"VLOOKUP(B7645,[1]export_1465921594229!$D7646:$G16906,4,FALSE)","v":"FK4-118733"},"FK4"]
[null,"Sahota Jaswinder",{"$f":"VLOOKUP(B7646,[1]export_1465921594229!$D7647:$G16907,4,FALSE)","v":"EJ8-115957"},"EJ8"]
[null,"Sahota Pervinder",{"$f":"VLOOKUP(B7647,[1]export_1465921594229!$D7648:$G16908,4,FALSE)","v":"LK2-550670"},"LK2"]
[null,"Sahyoun Fadi",{"$f":"VLOOKUP(B7648,[1]export_1465921594229!$D7649:$G16909,4,FALSE)","v":"U56-120110"},"U56"]
[null,"Said Alaoui Moulay Younes",{"$f":"VLOOKUP(B7649,[1]export_1465921594229!$D7650:$G16910,4,FALSE)","v":"O56-120098"},"O56"]
[null,"Saiepour Mohammed",{"$f":"VLOOKUP(B7650,[1]export_1465921594229!$D7651:$G16911,4,FALSE)","v":"PG7-117509"},"PG7"]
[null,"Saillant Eric",{"$f":"VLOOKUP(B7651,[1]export_1465921594229!$D7652:$G16912,4,FALSE)","v":"O38-117282"},"O38"]
[null,"Saindon Bruno",{"$f":"VLOOKUP(B7652,[1]export_1465921594229!$D7653:$G16913,4,FALSE)","v":"JN5-660430"},"JN5"]
[null,"Saini Barkha",{"$f":"VLOOKUP(B7653,[1]export_1465921594229!$D7654:$G16914,4,FALSE)","v":"BBI-550192"},"BBI"]
[null,"Saini Kavneet",{"$f":"VLOOKUP(B7654,[1]export_1465921594229!$D7655:$G16915,4,FALSE)","v":"QA8-117672"},"QA8"]
[null,"Saint-Cluque Julie",{"$f":"VLOOKUP(B7655,[1]export_1465921594229!$D7656:$G16916,4,FALSE)","v":"NV3-117251"},"NV3"]
[null,"Saint-Onge Elaine",{"$f":"VLOOKUP(B7656,[1]export_1465921594229!$D7657:$G16917,4,FALSE)","v":"U35-120549"},"U35"]
[null,"Saint-Pierre Alain",{"$f":"VLOOKUP(B7657,[1]export_1465921594229!$D7658:$G16918,4,FALSE)","v":"DS4-118434"},"DS4"]
[null,"Sairally Furhad",{"$f":"VLOOKUP(B7658,[1]export_1465921594229!$D7659:$G16919,4,FALSE)","v":"FU6-118788"},"FU6"]
[null,"Sakaris Peter",{"$f":"VLOOKUP(B7659,[1]export_1465921594229!$D7660:$G16920,4,FALSE)","v":"RB8-660260"},"RB8"]
[null,"Salapang Gerry",{"$f":"VLOOKUP(B7660,[1]export_1465921594229!$D7661:$G16921,4,FALSE)","v":"B6B-123718"},"B6B"]
[null,"Salazar Alfroide",{"$f":"VLOOKUP(B7661,[1]export_1465921594229!$D7662:$G16922,4,FALSE)","v":"LX5-660234"},"LX5"]
[null,"Salazar Gamboa Alexander",{"$f":"VLOOKUP(B7662,[1]export_1465921594229!$D7663:$G16923,4,FALSE)","v":"LW1-120847"},"LW1"]
[null,"Salbo Carole D.",{"$f":"VLOOKUP(B7663,[1]export_1465921594229!$D7664:$G16924,4,FALSE)","v":"A24-120188"},"A24"]
[null,"Saleh Mohamed",{"$f":"VLOOKUP(B7664,[1]export_1465921594229!$D7665:$G16925,4,FALSE)","v":"NP8-120721"},"NP8"]
[null,"Saleh Mohamed",{"$f":"VLOOKUP(B7665,[1]export_1465921594229!$D7666:$G16926,4,FALSE)","v":"NP7-120720"},"NP7"]
[null,"Saleh Mohamed",{"$f":"VLOOKUP(B7666,[1]export_1465921594229!$D7667:$G16927,4,FALSE)","v":"GX1-121273"},"GX1"]
[null,"Saleh Mohamed",{"$f":"VLOOKUP(B7667,[1]export_1465921594229!$D7668:$G16928,4,FALSE)","v":"JP3-121057"},"JP3"]
[null,"Salembier Jacques",{"$f":"VLOOKUP(B7668,[1]export_1465921594229!$D7669:$G16929,4,FALSE)","v":"DU6-118443"},"DU6"]
[null,"Salera Estolia",{"$f":"VLOOKUP(B7669,[1]export_1465921594229!$D7670:$G16930,4,FALSE)","v":"KO9-116740"},"KO9"]
[null,"Salera Henry C",{"$f":"VLOOKUP(B7670,[1]export_1465921594229!$D7671:$G16931,4,FALSE)","v":"KP0-116741"},"KP0"]
[null,"Salerno Cesare",{"$f":"VLOOKUP(B7671,[1]export_1465921594229!$D7672:$G16932,4,FALSE)","v":"JQ7-116557"},"JQ7"]
[null,"Saley Roberta",{"$f":"VLOOKUP(B7672,[1]export_1465921594229!$D7673:$G16933,4,FALSE)","v":"FU0-121323"},"FU0"]
[null,"Salhotra Ved",{"$f":"VLOOKUP(B7673,[1]export_1465921594229!$D7674:$G16934,4,FALSE)","v":"IX6-116439"},"IX6"]
[null,"Sallah Fredmund",{"$f":"VLOOKUP(B7674,[1]export_1465921594229!$D7675:$G16935,4,FALSE)","v":"BRP-123389"},"BRP"]
[null,"Sallah Gurmeet",{"$f":"VLOOKUP(B7675,[1]export_1465921594229!$D7676:$G16936,4,FALSE)","v":"MF6-117009"},"MF6"]
[null,"Salloum Jose Miguel",{"$f":"VLOOKUP(B7676,[1]export_1465921594229!$D7677:$G16937,4,FALSE)","v":"PI1-660617"},"PI1"]
[null,"Salmon Michel",{"$f":"VLOOKUP(B7677,[1]export_1465921594229!$D7678:$G16938,4,FALSE)","v":"NN6-660502"},"NN6"]
[null,"Salois Christian",{"$f":"VLOOKUP(B7678,[1]export_1465921594229!$D7679:$G16939,4,FALSE)","v":"C09-121786"},"C09"]
[null,"Salomon Maud",{"$f":"VLOOKUP(B7679,[1]export_1465921594229!$D7680:$G16940,4,FALSE)","v":"DA7-118374"},"DA7"]
[null,"Salonga Maria Rodora",{"$f":"VLOOKUP(B7680,[1]export_1465921594229!$D7681:$G16941,4,FALSE)","v":"D0M-125369"},"D0M"]
[null,"Salpietro Rosetta",{"$f":"VLOOKUP(B7681,[1]export_1465921594229!$D7682:$G16942,4,FALSE)","v":"LZ4-116944"},"LZ4"]
[null,"Salter Kristan",{"$f":"VLOOKUP(B7682,[1]export_1465921594229!$D7683:$G16943,4,FALSE)","v":"CDW-123911"},{"$f":"LEFT(C7682,3)","v":"CDW"}]
[null,"Salvador Leonora",{"$f":"VLOOKUP(B7683,[1]export_1465921594229!$D7684:$G16944,4,FALSE)","v":"JN7-116545"},"JN7"]
[null,"Salvador Melba",{"$f":"VLOOKUP(B7684,[1]export_1465921594229!$D7685:$G16945,4,FALSE)","v":"HV8-116277"},"HV8"]
[null,"Sam Alice",{"$f":"VLOOKUP(B7685,[1]export_1465921594229!$D7686:$G16946,4,FALSE)","v":"CZS-124448"},"CZS"]
[null,"Sammut Benjamin",{"$f":"VLOOKUP(B7686,[1]export_1465921594229!$D7687:$G16947,4,FALSE)","v":"DWA-125258"},"DWA"]
[null,"Sampson Allison",{"$f":"VLOOKUP(B7687,[1]export_1465921594229!$D7688:$G16948,4,FALSE)","v":"T01-120642"},"T01"]
[null,"Sampson Darryl",{"$f":"VLOOKUP(B7688,[1]export_1465921594229!$D7689:$G16949,4,FALSE)","v":"DH7-121513"},"DH7"]
[null,"Samra Balkar",{"$f":"VLOOKUP(B7689,[1]export_1465921594229!$D7690:$G16950,4,FALSE)","v":"GC4-116077"},"GC4"]
[null,"Samsam Salim",{"$f":"VLOOKUP(B7690,[1]export_1465921594229!$D7691:$G16951,4,FALSE)","v":"JB1-121047"},"JB1"]
[null,"Samson Dany",{"$f":"VLOOKUP(B7691,[1]export_1465921594229!$D7692:$G16952,4,FALSE)","v":"Q99-119717"},"Q99"]
[null,"Samson Gabriel",{"$f":"VLOOKUP(B7692,[1]export_1465921594229!$D7693:$G16953,4,FALSE)","v":"CCY-123891"},"CCY"]
[null,"Samson Louis",{"$f":"VLOOKUP(B7693,[1]export_1465921594229!$D7694:$G16954,4,FALSE)","v":"DDC-124782"},"DDC"]
[null,"Samson Louis",{"$f":"VLOOKUP(B7694,[1]export_1465921594229!$D7695:$G16955,4,FALSE)","v":"FV4-121327"},"FV4"]
[null,"Samson Luc",{"$f":"VLOOKUP(B7695,[1]export_1465921594229!$D7696:$G16956,4,FALSE)","v":"R55-119804"},"R55"]
[null,"Samuel David",{"$f":"VLOOKUP(B7696,[1]export_1465921594229!$D7697:$G16957,4,FALSE)","v":"GN0-116097"},"GN0"]
[null,"Samuel Wendy",{"$f":"VLOOKUP(B7697,[1]export_1465921594229!$D7698:$G16958,4,FALSE)","v":"CGR-123983"},"CGR"]
[null,"San Antonio Thelma",{"$f":"VLOOKUP(B7698,[1]export_1465921594229!$D7699:$G16959,4,FALSE)","v":"PR1-117596"},"PR1"]
[null,"San Diego Alexander",{"$f":"VLOOKUP(B7699,[1]export_1465921594229!$D7700:$G16960,4,FALSE)","v":"PI9-117528"},"PI9"]
[null,"Sanche Dominic",{"$f":"VLOOKUP(B7700,[1]export_1465921594229!$D7701:$G16961,4,FALSE)","v":"JH6-116504"},"JH6"]
[null,"Sanchez Antonio",{"$f":"VLOOKUP(B7701,[1]export_1465921594229!$D7702:$G16962,4,FALSE)","v":"F24-118648"},"F24"]
[null,"Sanchez Karina",{"$f":"VLOOKUP(B7702,[1]export_1465921594229!$D7703:$G16963,4,FALSE)","v":"BHA-502306"},"BHA"]
[null,"Sanchez Jimenez Gustavo",{"$f":"VLOOKUP(B7703,[1]export_1465921594229!$D7704:$G16964,4,FALSE)","v":"C9A-124677"},"C9A"]
[null,"Sandal Ram",{"$f":"VLOOKUP(B7704,[1]export_1465921594229!$D7705:$G16965,4,FALSE)","v":"FA4-115999"},"FA4"]
[null,"Sanders Milton",{"$f":"VLOOKUP(B7705,[1]export_1465921594229!$D7706:$G16966,4,FALSE)","v":"B2F-123624"},"B2F"]
[null,"Sandhu Basant",{"$f":"VLOOKUP(B7706,[1]export_1465921594229!$D7707:$G16967,4,FALSE)","v":"NJ6-117202"},"NJ6"]
[null,"Sandhu Heera",{"$f":"VLOOKUP(B7707,[1]export_1465921594229!$D7708:$G16968,4,FALSE)","v":"BOZ-123336"},"BOZ"]
[null,"Sandhu Jasdev",{"$f":"VLOOKUP(B7708,[1]export_1465921594229!$D7709:$G16969,4,FALSE)","v":"ET9-118611"},"ET9"]
[null,"Sandhu Lakhwinder",{"$f":"VLOOKUP(B7709,[1]export_1465921594229!$D7710:$G16970,4,FALSE)","v":"EU0-118612"},"EU0"]
[null,"Sandhu Ravinder",{"$f":"VLOOKUP(B7710,[1]export_1465921594229!$D7711:$G16971,4,FALSE)","v":"GT1-118943"},"GT1"]
[null,"Sandhu Sukhwinder",{"$f":"VLOOKUP(B7711,[1]export_1465921594229!$D7712:$G16972,4,FALSE)","v":"JE0-116484"},"JE0"]
[null,"Sandhu Surgeet",{"$f":"VLOOKUP(B7712,[1]export_1465921594229!$D7713:$G16973,4,FALSE)","v":"BCK-550415"},"BCK"]
[null,"Sanfacon Lyne",{"$f":"VLOOKUP(B7713,[1]export_1465921594229!$D7714:$G16974,4,FALSE)","v":"Q28-117657"},"Q28"]
[null,"Sangha Raminderjeet",{"$f":"VLOOKUP(B7714,[1]export_1465921594229!$D7715:$G16975,4,FALSE)","v":"BOY-123335"},"BOY"]
[null,"Sangraha Rekha",{"$f":"VLOOKUP(B7715,[1]export_1465921594229!$D7716:$G16976,4,FALSE)","v":"B3W-123664"},"B3W"]
[null,"Sangster Gertrude",{"$f":"VLOOKUP(B7716,[1]export_1465921594229!$D7717:$G16977,4,FALSE)","v":"CEA-123915"},"CEA"]
[null,"Sanmugarajah Kannan",{"$f":"VLOOKUP(B7717,[1]export_1465921594229!$D7718:$G16978,4,FALSE)","v":"DLH-124988"},"DLH"]
[null,"Sanque Evelyn",{"$f":"VLOOKUP(B7718,[1]export_1465921594229!$D7719:$G16979,4,FALSE)","v":"CJX-124062"},"CJX"]
[null,"Sanscartier Christiane",{"$f":"VLOOKUP(B7719,[1]export_1465921594229!$D7720:$G16980,4,FALSE)","v":"678-122064"},"678"]
[null,"Sanscartier Line",{"$f":"VLOOKUP(B7720,[1]export_1465921594229!$D7721:$G16981,4,FALSE)","v":"094-122446"},"094"]
[null,"Sanschagrin Daniel",{"$f":"VLOOKUP(B7721,[1]export_1465921594229!$D7722:$G16982,4,FALSE)","v":"V58-120588"},"V58"]
[null,"Sanschagrin Michel",{"$f":"VLOOKUP(B7722,[1]export_1465921594229!$D7723:$G16983,4,FALSE)","v":"BG8-115777"},"BG8"]
[null,"Santarelli Adrien",{"$f":"VLOOKUP(B7723,[1]export_1465921594229!$D7724:$G16984,4,FALSE)","v":"A71-120202"},"A71"]
[null,"Santaromita-Villa Biagino",{"$f":"VLOOKUP(B7724,[1]export_1465921594229!$D7725:$G16985,4,FALSE)","v":"BCR-550496"},"BCR"]
[null,"Santiago Adoracion",{"$f":"VLOOKUP(B7725,[1]export_1465921594229!$D7726:$G16986,4,FALSE)","v":"DFZ-124856"},"DFZ"]
[null,"Santiago Hazel",{"$f":"VLOOKUP(B7726,[1]export_1465921594229!$D7727:$G16987,4,FALSE)","v":"C0K-124465"},"C0K"]
[null,"Santiago Ryan C",{"$f":"VLOOKUP(B7727,[1]export_1465921594229!$D7728:$G16988,4,FALSE)","v":"KE8-116674"},"KE8"]
[null,"Santos Clement",{"$f":"VLOOKUP(B7728,[1]export_1465921594229!$D7729:$G16989,4,FALSE)","v":"P57-119627"},"P57"]
[null,"Santos Daniel",{"$f":"VLOOKUP(B7729,[1]export_1465921594229!$D7730:$G16990,4,FALSE)","v":"A6G-123007"},"A6G"]
[null,"Santos Edelyn",{"$f":"VLOOKUP(B7730,[1]export_1465921594229!$D7731:$G16991,4,FALSE)","v":"CLG-124094"},"CLG"]
[null,"Santos Fernando",{"$f":"VLOOKUP(B7731,[1]export_1465921594229!$D7732:$G16992,4,FALSE)","v":"L98-120955"},"L98"]
[null,"Santos Jennifer",{"$f":"VLOOKUP(B7732,[1]export_1465921594229!$D7733:$G16993,4,FALSE)","v":"CQB-124211"},"CQB"]
[null,"Santos Lucia",{"$f":"VLOOKUP(B7733,[1]export_1465921594229!$D7734:$G16994,4,FALSE)","v":"CDG-123899"},"CDG"]
[null,"Santos Maria Fernanda",{"$f":"VLOOKUP(B7734,[1]export_1465921594229!$D7735:$G16995,4,FALSE)","v":"DNO-125044"},"DNO"]
[null,"Santos Matthew",{"$f":"VLOOKUP(B7735,[1]export_1465921594229!$D7736:$G16996,4,FALSE)","v":"PV9-117634"},"PV9"]
[null,"Santos Niro Andre H.",{"$f":"VLOOKUP(B7736,[1]export_1465921594229!$D7737:$G16997,4,FALSE)","v":"DTW-125202"},"DTW"]
[null,"Santos Peter Paul",{"$f":"VLOOKUP(B7737,[1]export_1465921594229!$D7738:$G16998,4,FALSE)","v":"BYI-123531"},"BYI"]
[null,"Sapra Prakash",{"$f":"VLOOKUP(B7738,[1]export_1465921594229!$D7739:$G16999,4,FALSE)","v":"DME-125009"},"DME"]
[null,"Saraswat Vikas",{"$f":"VLOOKUP(B7739,[1]export_1465921594229!$D7740:$G17000,4,FALSE)","v":"CTH-124289"},"CTH"]
[null,"Sarawan Shanti",{"$f":"VLOOKUP(B7740,[1]export_1465921594229!$D7741:$G17001,4,FALSE)","v":"B0A-502332"},"B0A"]
[null,"Sardi Francois Derek",{"$f":"VLOOKUP(B7741,[1]export_1465921594229!$D7742:$G17002,4,FALSE)","v":"JA1-121045"},"JA1"]
[null,"Sarkissian Bedros",{"$f":"VLOOKUP(B7742,[1]export_1465921594229!$D7743:$G17003,4,FALSE)","v":"DUU-125226"},"DUU"]
[null,"Sarkissian Vahan",{"$f":"VLOOKUP(B7743,[1]export_1465921594229!$D7744:$G17004,4,FALSE)","v":"DCJ-124763"},"DCJ"]
[null,"Sarmiento Loreta",{"$f":"VLOOKUP(B7744,[1]export_1465921594229!$D7745:$G17005,4,FALSE)","v":"IS6-116415"},"IS6"]
[null,"Sarrasin Philippe",{"$f":"VLOOKUP(B7745,[1]export_1465921594229!$D7746:$G17006,4,FALSE)","v":"665-122182"},"665"]
[null,"Sarty(Sarty Financial) Stephen",{"$f":"VLOOKUP(B7746,[1]export_1465921594229!$D7747:$G17007,4,FALSE)","v":"MA4-119404"},{"$f":"LEFT(C7746,3)","v":"MA4"}]
[null,"Sarvanandan Nalayini",{"$f":"VLOOKUP(B7747,[1]export_1465921594229!$D7748:$G17008,4,FALSE)","v":"MV6-117111"},"MV6"]
[null,"Sarvestani Fahimeh",{"$f":"VLOOKUP(B7748,[1]export_1465921594229!$D7749:$G17009,4,FALSE)","v":"DHR-124897"},"DHR"]
[null,"Sasaki David",{"$f":"VLOOKUP(B7749,[1]export_1465921594229!$D7750:$G17010,4,FALSE)","v":"N36-028573"},"N36"]
[null,"Sasaki David",{"$f":"VLOOKUP(B7750,[1]export_1465921594229!$D7751:$G17011,4,FALSE)","v":"BOT-328573"},"BOT"]
[null,"Sasaki David",{"$f":"VLOOKUP(B7751,[1]export_1465921594229!$D7752:$G17012,4,FALSE)","v":"926-115666"},"926"]
[null,"Saseelan Thulasi",{"$f":"VLOOKUP(B7752,[1]export_1465921594229!$D7753:$G17013,4,FALSE)","v":"BBC-123104"},"BBC"]
[null,"Sasseville Jean",{"$f":"VLOOKUP(B7753,[1]export_1465921594229!$D7754:$G17014,4,FALSE)","v":"KS2-118077"},"KS2"]
[null,"Sasseville Nathalie",{"$f":"VLOOKUP(B7754,[1]export_1465921594229!$D7755:$G17015,4,FALSE)","v":"ME0-116996"},"ME0"]
[null,"Satnik Ryan",{"$f":"VLOOKUP(B7755,[1]export_1465921594229!$D7756:$G17016,4,FALSE)","v":"C6M-124614"},"C6M"]
[null,"Sattar Rauf",{"$f":"VLOOKUP(B7756,[1]export_1465921594229!$D7757:$G17017,4,FALSE)","v":"C6Z-124626"},"C6Z"]
[null,"Saucier Rene J",{"$f":"VLOOKUP(B7757,[1]export_1465921594229!$D7758:$G17018,4,FALSE)","v":"H51-118979"},"H51"]
[null,"Saucier Boucher Maxime",{"$f":"VLOOKUP(B7758,[1]export_1465921594229!$D7759:$G17019,4,FALSE)","v":"PV3-660400"},"PV3"]
[null,"Sauer William",{"$f":"VLOOKUP(B7759,[1]export_1465921594229!$D7760:$G17020,4,FALSE)","v":"OG1-117319"},"OG1"]
[null,"Sauer William",{"$f":"VLOOKUP(B7760,[1]export_1465921594229!$D7761:$G17021,4,FALSE)","v":"BRG-123380"},"BRG"]
[null,"Saul Manuel",{"$f":"VLOOKUP(B7761,[1]export_1465921594229!$D7762:$G17022,4,FALSE)","v":"GL4-118899"},"GL4"]
[null,"Saulnier Clinton",{"$f":"VLOOKUP(B7762,[1]export_1465921594229!$D7763:$G17023,4,FALSE)","v":"CJM-124051"},"CJM"]
[null,"Sauvageau Jimmy",{"$f":"VLOOKUP(B7763,[1]export_1465921594229!$D7764:$G17024,4,FALSE)","v":"KW3-116778"},"KW3"]
[null,"Sauve France",{"$f":"VLOOKUP(B7764,[1]export_1465921594229!$D7765:$G17025,4,FALSE)","v":"M47-119383"},"M47"]
[null,"Sauve Gino",{"$f":"VLOOKUP(B7765,[1]export_1465921594229!$D7766:$G17026,4,FALSE)","v":"X60-120522"},"X60"]
[null,"Sauve Jean",{"$f":"VLOOKUP(B7766,[1]export_1465921594229!$D7767:$G17027,4,FALSE)","v":"AE6-118111"},"AE6"]
[null,"Sauve Lyne",{"$f":"VLOOKUP(B7767,[1]export_1465921594229!$D7768:$G17028,4,FALSE)","v":"I29-119089"},"I29"]
[null,"Sauve Yves",{"$f":"VLOOKUP(B7768,[1]export_1465921594229!$D7769:$G17029,4,FALSE)","v":"OQ6-660253"},"OQ6"]
[null,"Sauve Yves",{"$f":"VLOOKUP(B7769,[1]export_1465921594229!$D7770:$G17030,4,FALSE)","v":"K98-120998"},"K98"]
[null,"Savard Andre",{"$f":"VLOOKUP(B7770,[1]export_1465921594229!$D7771:$G17031,4,FALSE)","v":"457-120355"},"457"]
[null,"Savard Claude",{"$f":"VLOOKUP(B7771,[1]export_1465921594229!$D7772:$G17032,4,FALSE)","v":"DFN-124844"},"DFN"]
[null,"Savard Gino-Sebastien",{"$f":"VLOOKUP(B7772,[1]export_1465921594229!$D7773:$G17033,4,FALSE)","v":"H98-660668"},"H98"]
[null,"Savard Lise",{"$f":"VLOOKUP(B7773,[1]export_1465921594229!$D7774:$G17034,4,FALSE)","v":"398-120331"},"398"]
[null,"Savard Louis-Xavier",{"$f":"VLOOKUP(B7774,[1]export_1465921594229!$D7775:$G17035,4,FALSE)","v":"BJI-660190"},"BJI"]
[null,"Savard Louis-Xavier",{"$f":"VLOOKUP(B7775,[1]export_1465921594229!$D7776:$G17036,4,FALSE)","v":"KG0-660241"},"KG0"]
[null,"Savard Martin",{"$f":"VLOOKUP(B7776,[1]export_1465921594229!$D7777:$G17037,4,FALSE)","v":"CW1-118360"},"CW1"]
[null,"Savard Martin",{"$f":"VLOOKUP(B7777,[1]export_1465921594229!$D7778:$G17038,4,FALSE)","v":"R47-660665"},"R47"]
[null,"Savard Martin",{"$f":"VLOOKUP(B7778,[1]export_1465921594229!$D7779:$G17039,4,FALSE)","v":"MZ2-117132"},"MZ2"]
[null,"Savard Mathieu",{"$f":"VLOOKUP(B7779,[1]export_1465921594229!$D7780:$G17040,4,FALSE)","v":"PC0-117467"},"PC0"]
[null,"Savard Roseline",{"$f":"VLOOKUP(B7780,[1]export_1465921594229!$D7781:$G17041,4,FALSE)","v":"375-122263"},"375"]
[null,"Savard Sophie",{"$f":"VLOOKUP(B7781,[1]export_1465921594229!$D7782:$G17042,4,FALSE)","v":"B13-121882"},"B13"]
[null,"Savard Sylvie",{"$f":"VLOOKUP(B7782,[1]export_1465921594229!$D7783:$G17043,4,FALSE)","v":"BFN-123153"},"BFN"]
[null,"Savard Willie",{"$f":"VLOOKUP(B7783,[1]export_1465921594229!$D7784:$G17044,4,FALSE)","v":"EM5-118584"},"EM5"]
[null,"Savard Yannick",{"$f":"VLOOKUP(B7784,[1]export_1465921594229!$D7785:$G17045,4,FALSE)","v":"C93-120128"},"C93"]
[null,"Savard Yves",{"$f":"VLOOKUP(B7785,[1]export_1465921594229!$D7786:$G17046,4,FALSE)","v":"436-120341"},"436"]
[null,"Savaria Mario",{"$f":"VLOOKUP(B7786,[1]export_1465921594229!$D7787:$G17047,4,FALSE)","v":"479-120366"},"479"]
[null,"Savaria Martine",{"$f":"VLOOKUP(B7787,[1]export_1465921594229!$D7788:$G17048,4,FALSE)","v":"BZ2-120236"},"BZ2"]
[null,"Savaris Antonio",{"$f":"VLOOKUP(B7788,[1]export_1465921594229!$D7789:$G17049,4,FALSE)","v":"J82-120176"},"J82"]
[null,"Savin Magda",{"$f":"VLOOKUP(B7789,[1]export_1465921594229!$D7790:$G17050,4,FALSE)","v":"IE2-119125"},"IE2"]
[null,"Savoie Ginette",{"$f":"VLOOKUP(B7790,[1]export_1465921594229!$D7791:$G17051,4,FALSE)","v":"CLS-124106"},"CLS"]
[null,"Savoie Jacques",{"$f":"VLOOKUP(B7791,[1]export_1465921594229!$D7792:$G17052,4,FALSE)","v":"IC3-121124"},"IC3"]
[null,"Savoie Pierre",{"$f":"VLOOKUP(B7792,[1]export_1465921594229!$D7793:$G17053,4,FALSE)","v":"377-122264"},"377"]
[null,"Savoie Pierrette",{"$f":"VLOOKUP(B7793,[1]export_1465921594229!$D7794:$G17054,4,FALSE)","v":"A6M-123013"},"A6M"]
[null,"Saw 01xbpc Kheng Sin",{"$f":"VLOOKUP(B7794,[1]export_1465921594229!$D7795:$G17055,4,FALSE)","v":"OX9-117430"},"OX9"]
[null,"Saw Wendy",{"$f":"VLOOKUP(B7795,[1]export_1465921594229!$D7796:$G17056,4,FALSE)","v":"IG6-116354"},"IG6"]
[null,"Sawant Vishwas",{"$f":"VLOOKUP(B7796,[1]export_1465921594229!$D7797:$G17057,4,FALSE)","v":"JP6-121060"},"JP6"]
[null,"Sawant Vishwas",{"$f":"VLOOKUP(B7797,[1]export_1465921594229!$D7798:$G17058,4,FALSE)","v":"EK9-121477"},"EK9"]
[null,"Sawatsky Gerry",{"$f":"VLOOKUP(B7798,[1]export_1465921594229!$D7799:$G17059,4,FALSE)","v":"L99-120956"},"L99"]
[null,"Sawatzky Steven",{"$f":"VLOOKUP(B7799,[1]export_1465921594229!$D7800:$G17060,4,FALSE)","v":"CJO-124053"},"CJO"]
[null,"Sawras Cindy",{"$f":"VLOOKUP(B7800,[1]export_1465921594229!$D7801:$G17061,4,FALSE)","v":"DQN-125121"},"DQN"]
[null,"Sawyer Sylvain",{"$f":"VLOOKUP(B7801,[1]export_1465921594229!$D7802:$G17062,4,FALSE)","v":"BA8-660025"},"BA8"]
[null,"Sawyer Sylvain",{"$f":"VLOOKUP(B7802,[1]export_1465921594229!$D7803:$G17063,4,FALSE)","v":"HZ5-660095"},"HZ5"]
[null,"Sawyer Sylvain",{"$f":"VLOOKUP(B7803,[1]export_1465921594229!$D7804:$G17064,4,FALSE)","v":"CCP-123882"},"CCP"]
[null,"Sayegh Adel",{"$f":"VLOOKUP(B7804,[1]export_1465921594229!$D7805:$G17065,4,FALSE)","v":"BYS-123538"},"BYS"]
[null,"Saynes Maria",{"$f":"VLOOKUP(B7805,[1]export_1465921594229!$D7806:$G17066,4,FALSE)","v":"CNA-124134"},"CNA"]
[null,"Sbeiti Ahmad",{"$f":"VLOOKUP(B7806,[1]export_1465921594229!$D7807:$G17067,4,FALSE)","v":"JQ3-121062"},"JQ3"]
[null,"Scabar Joseph",{"$f":"VLOOKUP(B7807,[1]export_1465921594229!$D7808:$G17068,4,FALSE)","v":"JM5-550619"},"JM5"]
[null,"Scanlan Richard",{"$f":"VLOOKUP(B7808,[1]export_1465921594229!$D7809:$G17069,4,FALSE)","v":"Q95-120707"},"Q95"]
[null,"Scarisbrick Christine",{"$f":"VLOOKUP(B7809,[1]export_1465921594229!$D7810:$G17070,4,FALSE)","v":"DXV-125305"},"DXV"]
[null,"Scarpino Denis",{"$f":"VLOOKUP(B7810,[1]export_1465921594229!$D7811:$G17071,4,FALSE)","v":"G77-121355"},{"$f":"LEFT(C7810,3)","v":"G77"}]
[null,"Scarpino Denis",{"$f":"VLOOKUP(B7811,[1]export_1465921594229!$D7812:$G17072,4,FALSE)","v":"W52-120488"},"W52"]
[null,"Schajnoha Christina",{"$f":"VLOOKUP(B7812,[1]export_1465921594229!$D7813:$G17073,4,FALSE)","v":"C0H-124462"},"C0H"]
[null,"Schatia Spencer",{"$f":"VLOOKUP(B7813,[1]export_1465921594229!$D7814:$G17074,4,FALSE)","v":"M91-120879"},"M91"]
[null,"Scheidler Frederick",{"$f":"VLOOKUP(B7814,[1]export_1465921594229!$D7815:$G17075,4,FALSE)","v":"O42-660214"},"O42"]
[null,"Schimnosky Alfred",{"$f":"VLOOKUP(B7815,[1]export_1465921594229!$D7816:$G17076,4,FALSE)","v":"P73-027213"},"P73"]
[null,"Schmid Lambert",{"$f":"VLOOKUP(B7816,[1]export_1465921594229!$D7817:$G17077,4,FALSE)","v":"HD5-029649"},"HD5"]
[null,"Schmidt Lee",{"$f":"VLOOKUP(B7817,[1]export_1465921594229!$D7818:$G17078,4,FALSE)","v":"GC1-118856"},"GC1"]
[null,"Schmidt Zachary",{"$f":"VLOOKUP(B7818,[1]export_1465921594229!$D7819:$G17079,4,FALSE)","v":"DFP-124846"},"DFP"]
[null,"Schmitt Erin",{"$f":"VLOOKUP(B7819,[1]export_1465921594229!$D7820:$G17080,4,FALSE)","v":"BIU-502308"},"BIU"]
[null,"Schmitt Erin",{"$f":"VLOOKUP(B7820,[1]export_1465921594229!$D7821:$G17081,4,FALSE)","v":"B8U-302308"},"B8U"]
[null,"Schnarr Carmen",{"$f":"VLOOKUP(B7821,[1]export_1465921594229!$D7822:$G17082,4,FALSE)","v":"CGX-123989"},"CGX"]
[null,"Schneider Gary M",{"$f":"VLOOKUP(B7822,[1]export_1465921594229!$D7823:$G17083,4,FALSE)","v":"LW3-116928"},"LW3"]
[null,"Schneider Shelley",{"$f":"VLOOKUP(B7823,[1]export_1465921594229!$D7824:$G17084,4,FALSE)","v":"CMP-124124"},"CMP"]
[null,"Schreider Ronald",{"$f":"VLOOKUP(B7824,[1]export_1465921594229!$D7825:$G17085,4,FALSE)","v":"QG5-119761"},"QG5"]
[null,"Schreider Ronald",{"$f":"VLOOKUP(B7825,[1]export_1465921594229!$D7826:$G17086,4,FALSE)","v":"OT5-119600"},"OT5"]
[null,"Schreider Ronald",{"$f":"VLOOKUP(B7826,[1]export_1465921594229!$D7827:$G17087,4,FALSE)","v":"QE1-119751"},"QE1"]
[null,"Schultz Catherine",{"$f":"VLOOKUP(B7827,[1]export_1465921594229!$D7828:$G17088,4,FALSE)","v":"PC8-117474"},"PC8"]
[null,"Schulz Willi",{"$f":"VLOOKUP(B7828,[1]export_1465921594229!$D7829:$G17089,4,FALSE)","v":"OM6-550788"},"OM6"]
[null,"SCODELLARO WALTER",{"$f":"VLOOKUP(B7829,[1]export_1465921594229!$D7830:$G17090,4,FALSE)","v":"CHN-124003"},"CHN"]
[null,"Scott Paul",{"$f":"VLOOKUP(B7830,[1]export_1465921594229!$D7831:$G17091,4,FALSE)","v":"BYQ-502331"},"BYQ"]
[null,"Scott Robert",{"$f":"VLOOKUP(B7831,[1]export_1465921594229!$D7832:$G17092,4,FALSE)","v":"LX6-116938"},"LX6"]
[null,"Scott Stephan",{"$f":"VLOOKUP(B7832,[1]export_1465921594229!$D7833:$G17093,4,FALSE)","v":"B0H-502334"},"B0H"]
[null,"Scott William",{"$f":"VLOOKUP(B7833,[1]export_1465921594229!$D7834:$G17094,4,FALSE)","v":"RD2-117878"},"RD2"]
[null,"Scramstad Ryan",{"$f":"VLOOKUP(B7834,[1]export_1465921594229!$D7835:$G17095,4,FALSE)","v":"D3Z-125457"},"D3Z"]
[null,"Sea Boitrin Stephane",{"$f":"VLOOKUP(B7835,[1]export_1465921594229!$D7836:$G17096,4,FALSE)","v":"CAK-123826"},"CAK"]
[null,"Sealtiel Rufina Lolita",{"$f":"VLOOKUP(B7836,[1]export_1465921594229!$D7837:$G17097,4,FALSE)","v":"C6X-124624"},"C6X"]
[null,"Searles Terry",{"$f":"VLOOKUP(B7837,[1]export_1465921594229!$D7838:$G17098,4,FALSE)","v":"DVH-125239"},"DVH"]
[null,"Sebastiani Mario",{"$f":"VLOOKUP(B7838,[1]export_1465921594229!$D7839:$G17099,4,FALSE)","v":"E80-118519"},"E80"]
[null,"Sedaghat Laleh",{"$f":"VLOOKUP(B7839,[1]export_1465921594229!$D7840:$G17100,4,FALSE)","v":"JO7-116548"},"JO7"]
[null,"Sediq(Endliess Financial) Maiwand",{"$f":"VLOOKUP(B7840,[1]export_1465921594229!$D7841:$G17101,4,FALSE)","v":"LV3-120846"},"LV3"]
[null,"Seebalack Rampath",{"$f":"VLOOKUP(B7841,[1]export_1465921594229!$D7842:$G17102,4,FALSE)","v":"PJ8-117535"},"PJ8"]
[null,"Seebold Jack",{"$f":"VLOOKUP(B7842,[1]export_1465921594229!$D7843:$G17103,4,FALSE)","v":"S37-550037"},"S37"]
[null,"Seesahai Michael",{"$f":"VLOOKUP(B7843,[1]export_1465921594229!$D7844:$G17104,4,FALSE)","v":"CKZ-124088"},"CKZ"]
[null,"Seevaratnam Thirumaran",{"$f":"VLOOKUP(B7844,[1]export_1465921594229!$D7845:$G17105,4,FALSE)","v":"QR2-117763"},"QR2"]
[null,"Segal Stephen",{"$f":"VLOOKUP(B7845,[1]export_1465921594229!$D7846:$G17106,4,FALSE)","v":"II4-116366"},"II4"]
[null,"Segla Pascal",{"$f":"VLOOKUP(B7846,[1]export_1465921594229!$D7847:$G17107,4,FALSE)","v":"M79-120095"},"M79"]
[null,"Seguin Benoit",{"$f":"VLOOKUP(B7847,[1]export_1465921594229!$D7848:$G17108,4,FALSE)","v":"CKT-124084"},"CKT"]
[null,"Seguin Claude",{"$f":"VLOOKUP(B7848,[1]export_1465921594229!$D7849:$G17109,4,FALSE)","v":"PB2-660218"},"PB2"]
[null,"Seguin Claude",{"$f":"VLOOKUP(B7849,[1]export_1465921594229!$D7850:$G17110,4,FALSE)","v":"T55-660500"},"T55"]
[null,"Seguin Francis",{"$f":"VLOOKUP(B7850,[1]export_1465921594229!$D7851:$G17111,4,FALSE)","v":"MR2-117083"},"MR2"]
[null,"Seguin Gregory",{"$f":"VLOOKUP(B7851,[1]export_1465921594229!$D7852:$G17112,4,FALSE)","v":"DTJ-125189"},"DTJ"]
[null,"Seguin Karl-Erik",{"$f":"VLOOKUP(B7852,[1]export_1465921594229!$D7853:$G17113,4,FALSE)","v":"I47-660246"},"I47"]
[null,"Seguin Laurent",{"$f":"VLOOKUP(B7853,[1]export_1465921594229!$D7854:$G17114,4,FALSE)","v":"112-120397"},"112"]
[null,"Seguin Michel Mario",{"$f":"VLOOKUP(B7854,[1]export_1465921594229!$D7855:$G17115,4,FALSE)","v":"I46-119101"},"I46"]
[null,"Seguin Paul",{"$f":"VLOOKUP(B7855,[1]export_1465921594229!$D7856:$G17116,4,FALSE)","v":"G61-116060"},"G61"]
[null,"Seguin Robert",{"$f":"VLOOKUP(B7856,[1]export_1465921594229!$D7857:$G17117,4,FALSE)","v":"CD7-115822"},"CD7"]
[null,"Seguin Samuel",{"$f":"VLOOKUP(B7857,[1]export_1465921594229!$D7858:$G17118,4,FALSE)","v":"AB7-115725"},"AB7"]
[null,"Seguin Jacques",{"$f":"VLOOKUP(B7858,[1]export_1465921594229!$D7859:$G17119,4,FALSE)","v":{"$error":"#N/A"}},{"$error":"#N/A"}]
[null,"Seide Yves-Martin",{"$f":"VLOOKUP(B7859,[1]export_1465921594229!$D7860:$G17120,4,FALSE)","v":"DT5-660598"},"DT5"]
[null,"Sekhon Gurdip",{"$f":"VLOOKUP(B7860,[1]export_1465921594229!$D7861:$G17121,4,FALSE)","v":"EU6-118615"},"EU6"]
[null,"Sekhon Navjot",{"$f":"VLOOKUP(B7861,[1]export_1465921594229!$D7862:$G17122,4,FALSE)","v":"EV7-118625"},"EV7"]
[null,"Seliger Albert",{"$f":"VLOOKUP(B7862,[1]export_1465921594229!$D7863:$G17123,4,FALSE)","v":"RE0-660521"},"RE0"]
[null,"Selliah Guna",{"$f":"VLOOKUP(B7863,[1]export_1465921594229!$D7864:$G17124,4,FALSE)","v":"MT5-550864"},"MT5"]
[null,"Selliah Rajmogan",{"$f":"VLOOKUP(B7864,[1]export_1465921594229!$D7865:$G17125,4,FALSE)","v":"B5L-123704"},"B5L"]
[null,"Selvanayagam Suvendran",{"$f":"VLOOKUP(B7865,[1]export_1465921594229!$D7866:$G17126,4,FALSE)","v":"OW6-117422"},"OW6"]
[null,"Selvathurai Chandrakumary",{"$f":"VLOOKUP(B7866,[1]export_1465921594229!$D7867:$G17127,4,FALSE)","v":"RA9-550814"},"RA9"]
[null,"Sembrano Hilda",{"$f":"VLOOKUP(B7867,[1]export_1465921594229!$D7868:$G17128,4,FALSE)","v":"NE1-117166"},"NE1"]
[null,"Senat Louis-Clement",{"$f":"VLOOKUP(B7868,[1]export_1465921594229!$D7869:$G17129,4,FALSE)","v":"CR2-501640"},"CR2"]
[null,"Senecal Andree",{"$f":"VLOOKUP(B7869,[1]export_1465921594229!$D7870:$G17130,4,FALSE)","v":"189-122389"},"189"]
[null,"Senecal Doris",{"$f":"VLOOKUP(B7870,[1]export_1465921594229!$D7871:$G17131,4,FALSE)","v":{"$error":"#N/A"}},{"$error":"#N/A"}]
[null,"Senechal Dany",{"$f":"VLOOKUP(B7871,[1]export_1465921594229!$D7872:$G17132,4,FALSE)","v":"IN7-660505"},"IN7"]
[null,"Senechal Ian",{"$f":"VLOOKUP(B7872,[1]export_1465921594229!$D7873:$G17133,4,FALSE)","v":"KT8-660480"},"KT8"]
[null,"Seneron Mehdi",{"$f":"VLOOKUP(B7873,[1]export_1465921594229!$D7874:$G17134,4,FALSE)","v":"C5A-124580"},"C5A"]
[null,"Senneville Jeanne",{"$f":"VLOOKUP(B7874,[1]export_1465921594229!$D7875:$G17135,4,FALSE)","v":"Q30-117658"},{"$f":"LEFT(C7874,3)","v":"Q30"}]
[null,"Senthilmany Pirakasini",{"$f":"VLOOKUP(B7875,[1]export_1465921594229!$D7876:$G17136,4,FALSE)","v":"PF5-117497"},"PF5"]
[null,"Senthilmurugan Kavitha",{"$f":"VLOOKUP(B7876,[1]export_1465921594229!$D7877:$G17137,4,FALSE)","v":"OU9-117410"},"OU9"]
[null,"Sergerie Patrice",{"$f":"VLOOKUP(B7877,[1]export_1465921594229!$D7878:$G17138,4,FALSE)","v":"QW6-660255"},"QW6"]
[null,"Seriki Olajumoke",{"$f":"VLOOKUP(B7878,[1]export_1465921594229!$D7879:$G17139,4,FALSE)","v":"GX5-118954"},"GX5"]
[null,"Serri Afsoon",{"$f":"VLOOKUP(B7879,[1]export_1465921594229!$D7880:$G17140,4,FALSE)","v":"GV6-116127"},"GV6"]
[null,"Seto Michael",{"$f":"VLOOKUP(B7880,[1]export_1465921594229!$D7881:$G17141,4,FALSE)","v":"FN5-118755"},"FN5"]
[null,"Setton Alison J.",{"$f":"VLOOKUP(B7881,[1]export_1465921594229!$D7882:$G17142,4,FALSE)","v":"B9I-123798"},"B9I"]
[null,"Sevigny Robert",{"$f":"VLOOKUP(B7882,[1]export_1465921594229!$D7883:$G17143,4,FALSE)","v":"DD7-118383"},"DD7"]
[null,"Shaaya Khaled",{"$f":"VLOOKUP(B7883,[1]export_1465921594229!$D7884:$G17144,4,FALSE)","v":"DTR-125197"},"DTR"]
[null,"Shaftoe Maura",{"$f":"VLOOKUP(B7884,[1]export_1465921594229!$D7885:$G17145,4,FALSE)","v":"A7C-123029"},"A7C"]
[null,"Shah Banasha",{"$f":"VLOOKUP(B7885,[1]export_1465921594229!$D7886:$G17146,4,FALSE)","v":"CUU-124324"},"CUU"]
[null,"Shah Carole Eve",{"$f":"VLOOKUP(B7886,[1]export_1465921594229!$D7887:$G17147,4,FALSE)","v":"BD4-121831"},"BD4"]
[null,"Shah Dipak",{"$f":"VLOOKUP(B7887,[1]export_1465921594229!$D7888:$G17148,4,FALSE)","v":"BJ1-121855"},"BJ1"]
[null,"Shah Dipak",{"$f":"VLOOKUP(B7888,[1]export_1465921594229!$D7889:$G17149,4,FALSE)","v":"BVE-550881"},"BVE"]
[null,"Shah Hemal",{"$f":"VLOOKUP(B7889,[1]export_1465921594229!$D7890:$G17150,4,FALSE)","v":"JL9-116532"},"JL9"]
[null,"Shah Nirmal",{"$f":"VLOOKUP(B7890,[1]export_1465921594229!$D7891:$G17151,4,FALSE)","v":"DYN-125323"},"DYN"]
[null,"Shah Nirmal",{"$f":"VLOOKUP(B7891,[1]export_1465921594229!$D7892:$G17152,4,FALSE)","v":"X71-120440"},"X71"]
[null,"Shah Samir",{"$f":"VLOOKUP(B7892,[1]export_1465921594229!$D7893:$G17153,4,FALSE)","v":"BPF-123341"},"BPF"]
[null,"Shah Sanjaykumar",{"$f":"VLOOKUP(B7893,[1]export_1465921594229!$D7894:$G17154,4,FALSE)","v":"LP5-119344"},"LP5"]
[null,"Shahba Abdolreza",{"$f":"VLOOKUP(B7894,[1]export_1465921594229!$D7895:$G17155,4,FALSE)","v":"QM3-117725"},"QM3"]
[null,"Shahi Daljit",{"$f":"VLOOKUP(B7895,[1]export_1465921594229!$D7896:$G17156,4,FALSE)","v":"PO3-117571"},"PO3"]
[null,"Shahzad Aimen",{"$f":"VLOOKUP(B7896,[1]export_1465921594229!$D7897:$G17157,4,FALSE)","v":"CMK-550348"},"CMK"]
[null,"Shaikh Arif",{"$f":"VLOOKUP(B7897,[1]export_1465921594229!$D7898:$G17158,4,FALSE)","v":"A5L-550878"},"A5L"]
[null,"Shamoun Robert",{"$f":"VLOOKUP(B7898,[1]export_1465921594229!$D7899:$G17159,4,FALSE)","v":"FB2-116002"},"FB2"]
[null,"Shamsi (Invest Now) Syed",{"$f":"VLOOKUP(B7899,[1]export_1465921594229!$D7900:$G17160,4,FALSE)","v":"MS7-119437"},"MS7"]
[null,"Shamsuddoha Anm",{"$f":"VLOOKUP(B7900,[1]export_1465921594229!$D7901:$G17161,4,FALSE)","v":"DJR-124948"},"DJR"]
[null,"Shanahan William",{"$f":"VLOOKUP(B7901,[1]export_1465921594229!$D7902:$G17162,4,FALSE)","v":"BLW-500097"},"BLW"]
[null,"Shanks Mark",{"$f":"VLOOKUP(B7902,[1]export_1465921594229!$D7903:$G17163,4,FALSE)","v":"R14-550503"},"R14"]
[null,"Shanks Mark",{"$f":"VLOOKUP(B7903,[1]export_1465921594229!$D7904:$G17164,4,FALSE)","v":"GC5-118858"},"GC5"]
[null,"Shanmuganathan Abiramie",{"$f":"VLOOKUP(B7904,[1]export_1465921594229!$D7905:$G17165,4,FALSE)","v":"C9R-124694"},"C9R"]
[null,"Shanmuganathan Sureshwaran",{"$f":"VLOOKUP(B7905,[1]export_1465921594229!$D7906:$G17166,4,FALSE)","v":"PP4-117582"},"PP4"]
[null,"Sharda Rajiv",{"$f":"VLOOKUP(B7906,[1]export_1465921594229!$D7907:$G17167,4,FALSE)","v":"MS6-117094"},"MS6"]
[null,"Sharma Amrit",{"$f":"VLOOKUP(B7907,[1]export_1465921594229!$D7908:$G17168,4,FALSE)","v":"GI2-118886"},"GI2"]
[null,"Sharma Karan",{"$f":"VLOOKUP(B7908,[1]export_1465921594229!$D7909:$G17169,4,FALSE)","v":"KL4-116717"},"KL4"]
[null,"Sharma Neeru",{"$f":"VLOOKUP(B7909,[1]export_1465921594229!$D7910:$G17170,4,FALSE)","v":"C9P-124692"},"C9P"]
[null,"Sharma Peeyush",{"$f":"VLOOKUP(B7910,[1]export_1465921594229!$D7911:$G17171,4,FALSE)","v":"FV8-329225"},"FV8"]
[null,"Sharma Peeyush",{"$f":"VLOOKUP(B7911,[1]export_1465921594229!$D7912:$G17172,4,FALSE)","v":"N37-120798"},"N37"]
[null,"Sharma Peeyush",{"$f":"VLOOKUP(B7912,[1]export_1465921594229!$D7913:$G17173,4,FALSE)","v":"Q07-029225"},"Q07"]
[null,"Sharma Raj",{"$f":"VLOOKUP(B7913,[1]export_1465921594229!$D7914:$G17174,4,FALSE)","v":"BBS-550252"},"BBS"]
[null,"Sharma Ruchi",{"$f":"VLOOKUP(B7914,[1]export_1465921594229!$D7915:$G17175,4,FALSE)","v":"LZ2-116943"},"LZ2"]
[null,"Sharma Satya",{"$f":"VLOOKUP(B7915,[1]export_1465921594229!$D7916:$G17176,4,FALSE)","v":"CMX-124131"},"CMX"]
[null,"Sharma Sunita",{"$f":"VLOOKUP(B7916,[1]export_1465921594229!$D7917:$G17177,4,FALSE)","v":"CNR-124150"},"CNR"]
[null,"Sharp Ivan",{"$f":"VLOOKUP(B7917,[1]export_1465921594229!$D7918:$G17178,4,FALSE)","v":"CN6-118331"},"CN6"]
[null,"Sharpe Bryan",{"$f":"VLOOKUP(B7918,[1]export_1465921594229!$D7919:$G17179,4,FALSE)","v":"BZ4-118271"},"BZ4"]
[null,"Shaukat Jackson",{"$f":"VLOOKUP(B7919,[1]export_1465921594229!$D7920:$G17180,4,FALSE)","v":"DL1-121527"},"DL1"]
[null,"Shaukat Jackson",{"$f":"VLOOKUP(B7920,[1]export_1465921594229!$D7921:$G17181,4,FALSE)","v":"B2G-550909"},"B2G"]
[null,"Shaw Daniel",{"$f":"VLOOKUP(B7921,[1]export_1465921594229!$D7922:$G17182,4,FALSE)","v":"CT4-121661"},"CT4"]
[null,"Shaw Shirley",{"$f":"VLOOKUP(B7922,[1]export_1465921594229!$D7923:$G17183,4,FALSE)","v":"W69-120494"},"W69"]
[null,"Shawotaully Javed",{"$f":"VLOOKUP(B7923,[1]export_1465921594229!$D7924:$G17184,4,FALSE)","v":"DOE-125060"},"DOE"]
[null,"Sheard Michael",{"$f":"VLOOKUP(B7924,[1]export_1465921594229!$D7925:$G17185,4,FALSE)","v":"C1S-124499"},"C1S"]
[null,"Shearer Michael",{"$f":"VLOOKUP(B7925,[1]export_1465921594229!$D7926:$G17186,4,FALSE)","v":"DDW-124801"},"DDW"]
[null,"Shedlack Mark",{"$f":"VLOOKUP(B7926,[1]export_1465921594229!$D7927:$G17187,4,FALSE)","v":"HH8-119032"},"HH8"]
[null,"Shedlack Teron",{"$f":"VLOOKUP(B7927,[1]export_1465921594229!$D7928:$G17188,4,FALSE)","v":"DBC-124731"},"DBC"]
[null,"Sheikh Athar",{"$f":"VLOOKUP(B7928,[1]export_1465921594229!$D7929:$G17189,4,FALSE)","v":"ID8-550556"},"ID8"]
[null,"Sheikh Haseeb",{"$f":"VLOOKUP(B7929,[1]export_1465921594229!$D7930:$G17190,4,FALSE)","v":"GL9-118903"},"GL9"]
[null,"Shen Ching",{"$f":"VLOOKUP(B7930,[1]export_1465921594229!$D7931:$G17191,4,FALSE)","v":"FQ8-116033"},"FQ8"]
[null,"Shen Jun",{"$f":"VLOOKUP(B7931,[1]export_1465921594229!$D7932:$G17192,4,FALSE)","v":"T96-120542"},"T96"]
[null,"Sheppard Sherry",{"$f":"VLOOKUP(B7932,[1]export_1465921594229!$D7933:$G17193,4,FALSE)","v":"JS1-121064"},"JS1"]
[null,"Sherboneau Mark",{"$f":"VLOOKUP(B7933,[1]export_1465921594229!$D7934:$G17194,4,FALSE)","v":"BHE-550802"},"BHE"]
[null,"Sherkhan Nasir",{"$f":"VLOOKUP(B7934,[1]export_1465921594229!$D7935:$G17195,4,FALSE)","v":"BL7-550218"},"BL7"]
[null,"Sheth Mukund",{"$f":"VLOOKUP(B7935,[1]export_1465921594229!$D7936:$G17196,4,FALSE)","v":"BGV-550848"},"BGV"]
[null,"Shields Alain",{"$f":"VLOOKUP(B7936,[1]export_1465921594229!$D7937:$G17197,4,FALSE)","v":"034-122534"},"034"]
[null,"Shields Alain",{"$f":"VLOOKUP(B7937,[1]export_1465921594229!$D7938:$G17198,4,FALSE)","v":"335-122363"},"335"]
[null,"Shields John",{"$f":"VLOOKUP(B7938,[1]export_1465921594229!$D7939:$G17199,4,FALSE)","v":"Z50-120076"},{"$f":"LEFT(C7938,3)","v":"Z50"}]
[null,"Shink Jonathan",{"$f":"VLOOKUP(B7939,[1]export_1465921594229!$D7940:$G17200,4,FALSE)","v":"HV2-116274"},"HV2"]
[null,"Shiraz Mohamed",{"$f":"VLOOKUP(B7940,[1]export_1465921594229!$D7941:$G17201,4,FALSE)","v":"QL8-117721"},"QL8"]
[null,"Shirvanian Gregory",{"$f":"VLOOKUP(B7941,[1]export_1465921594229!$D7942:$G17202,4,FALSE)","v":"MQ0-120895"},"MQ0"]
[null,"Shivananthan Kuhan",{"$f":"VLOOKUP(B7942,[1]export_1465921594229!$D7943:$G17203,4,FALSE)","v":"CMU-124128"},"CMU"]
[null,"Shiwji Judy",{"$f":"VLOOKUP(B7943,[1]export_1465921594229!$D7944:$G17204,4,FALSE)","v":"OR7-117391"},"OR7"]
[null,"Shoker Tejinderpal",{"$f":"VLOOKUP(B7944,[1]export_1465921594229!$D7945:$G17205,4,FALSE)","v":"FL7-118744"},"FL7"]
[null,"Shoker Tejinderpal",{"$f":"VLOOKUP(B7945,[1]export_1465921594229!$D7946:$G17206,4,FALSE)","v":"FX6-116043"},"FX6"]
[null,"Shuart Doug",{"$f":"VLOOKUP(B7946,[1]export_1465921594229!$D7947:$G17207,4,FALSE)","v":"U76-119939"},"U76"]
[null,"Shung Edmund",{"$f":"VLOOKUP(B7947,[1]export_1465921594229!$D7948:$G17208,4,FALSE)","v":"NT5-119518"},"NT5"]
[null,"Shung Edmund",{"$f":"VLOOKUP(B7948,[1]export_1465921594229!$D7949:$G17209,4,FALSE)","v":"NC3-119478"},"NC3"]
[null,"Shung Edmund",{"$f":"VLOOKUP(B7949,[1]export_1465921594229!$D7950:$G17210,4,FALSE)","v":"NT4-119517"},"NT4"]
[null,"Shung Edmund",{"$f":"VLOOKUP(B7950,[1]export_1465921594229!$D7951:$G17211,4,FALSE)","v":"QB9-119733"},"QB9"]
[null,"Shurrock Peter",{"$f":"VLOOKUP(B7951,[1]export_1465921594229!$D7952:$G17212,4,FALSE)","v":"ON2-117362"},"ON2"]
[null,"Shurrock Peter",{"$f":"VLOOKUP(B7952,[1]export_1465921594229!$D7953:$G17213,4,FALSE)","v":"ON4-119582"},"ON4"]
[null,"Siau Thomas",{"$f":"VLOOKUP(B7953,[1]export_1465921594229!$D7954:$G17214,4,FALSE)","v":"AS8-121972"},"AS8"]
[null,"Siberry Louise",{"$f":"VLOOKUP(B7954,[1]export_1465921594229!$D7955:$G17215,4,FALSE)","v":"D6Q-125524"},"D6Q"]
[null,"Sid Reisner",{"$f":"VLOOKUP(B7955,[1]export_1465921594229!$D7956:$G17216,4,FALSE)","v":"IA5-121120"},"IA5"]
[null,"Sidaros Kaddis",{"$f":"VLOOKUP(B7956,[1]export_1465921594229!$D7957:$G17217,4,FALSE)","v":"U58-119933"},"U58"]
[null,"Siddall Cara",{"$f":"VLOOKUP(B7957,[1]export_1465921594229!$D7958:$G17218,4,FALSE)","v":"S29-120617"},"S29"]
[null,"Siddall Jeremy",{"$f":"VLOOKUP(B7958,[1]export_1465921594229!$D7959:$G17219,4,FALSE)","v":"DB2-118050"},"DB2"]
[null,"Siddiqui Khaleda",{"$f":"VLOOKUP(B7959,[1]export_1465921594229!$D7960:$G17220,4,FALSE)","v":"EH4-118558"},"EH4"]
[null,"Siddiqui Mohammad Naeem",{"$f":"VLOOKUP(B7960,[1]export_1465921594229!$D7961:$G17221,4,FALSE)","v":"C3J-124542"},"C3J"]
[null,"Sidhu Amandeep",{"$f":"VLOOKUP(B7961,[1]export_1465921594229!$D7962:$G17222,4,FALSE)","v":"CSU-124277"},"CSU"]
[null,"Sidhu Davejot",{"$f":"VLOOKUP(B7962,[1]export_1465921594229!$D7963:$G17223,4,FALSE)","v":"C2K-124517"},"C2K"]
[null,"Sidhu Gurpal",{"$f":"VLOOKUP(B7963,[1]export_1465921594229!$D7964:$G17224,4,FALSE)","v":"FK2-118731"},"FK2"]
[null,"Sidhu Jagdev",{"$f":"VLOOKUP(B7964,[1]export_1465921594229!$D7965:$G17225,4,FALSE)","v":"IJ4-121132"},"IJ4"]
[null,"Sidhu Jaskaranjit",{"$f":"VLOOKUP(B7965,[1]export_1465921594229!$D7966:$G17226,4,FALSE)","v":"CJW-124061"},"CJW"]
[null,"Sidhu Navdeep",{"$f":"VLOOKUP(B7966,[1]export_1465921594229!$D7967:$G17227,4,FALSE)","v":"GM0-118904"},"GM0"]
[null,"Sidhu Rajvinder",{"$f":"VLOOKUP(B7967,[1]export_1465921594229!$D7968:$G17228,4,FALSE)","v":"GS5-118940"},"GS5"]
[null,"Sidhu Samarjeet",{"$f":"VLOOKUP(B7968,[1]export_1465921594229!$D7969:$G17229,4,FALSE)","v":"JU4-116585"},"JU4"]
[null,"Sidhu Sarabjit",{"$f":"VLOOKUP(B7969,[1]export_1465921594229!$D7970:$G17230,4,FALSE)","v":"QX2-117816"},"QX2"]
[null,"Siemens David",{"$f":"VLOOKUP(B7970,[1]export_1465921594229!$D7971:$G17231,4,FALSE)","v":"KG7-116691"},"KG7"]
[null,"Siemens Ryan",{"$f":"VLOOKUP(B7971,[1]export_1465921594229!$D7972:$G17232,4,FALSE)","v":"BHN-502307"},"BHN"]
[null,"Siemens Stephen",{"$f":"VLOOKUP(B7972,[1]export_1465921594229!$D7973:$G17233,4,FALSE)","v":"BQO-502313"},"BQO"]
[null,"Sierra Cerquera Olga",{"$f":"VLOOKUP(B7973,[1]export_1465921594229!$D7974:$G17234,4,FALSE)","v":"DEM-124817"},"DEM"]
[null,"Sigouin Stephane",{"$f":"VLOOKUP(B7974,[1]export_1465921594229!$D7975:$G17235,4,FALSE)","v":"HI5-116201"},"HI5"]
[null,"Sikender Alex",{"$f":"VLOOKUP(B7975,[1]export_1465921594229!$D7976:$G17236,4,FALSE)","v":"CI1-118305"},"CI1"]
[null,"Siless Daniel",{"$f":"VLOOKUP(B7976,[1]export_1465921594229!$D7977:$G17237,4,FALSE)","v":"DQ3-115909"},"DQ3"]
[null,"Silva Lucinda",{"$f":"VLOOKUP(B7977,[1]export_1465921594229!$D7978:$G17238,4,FALSE)","v":"AN7-121949"},"AN7"]
[null,"Silva Lucinda",{"$f":"VLOOKUP(B7978,[1]export_1465921594229!$D7979:$G17239,4,FALSE)","v":"AN6-121948"},"AN6"]
[null,"Silva Nick",{"$f":"VLOOKUP(B7979,[1]export_1465921594229!$D7980:$G17240,4,FALSE)","v":"FB4-116003"},"FB4"]
[null,"Silver Patricia",{"$f":"VLOOKUP(B7980,[1]export_1465921594229!$D7981:$G17241,4,FALSE)","v":"C7C-124629"},"C7C"]
[null,"Simard Andre",{"$f":"VLOOKUP(B7981,[1]export_1465921594229!$D7982:$G17242,4,FALSE)","v":{"$error":"#N/A"}},{"$error":"#N/A"}]
[null,"Simard Andre R.",{"$f":"VLOOKUP(B7982,[1]export_1465921594229!$D7983:$G17243,4,FALSE)","v":{"$error":"#N/A"}},{"$error":"#N/A"}]
[null,"Simard Aurelien",{"$f":"VLOOKUP(B7983,[1]export_1465921594229!$D7984:$G17244,4,FALSE)","v":"Z40-120070"},"Z40"]
[null,"Simard Chantal",{"$f":"VLOOKUP(B7984,[1]export_1465921594229!$D7985:$G17245,4,FALSE)","v":"364-122256"},"364"]
[null,"Simard Chantal",{"$f":"VLOOKUP(B7985,[1]export_1465921594229!$D7986:$G17246,4,FALSE)","v":"A58-122000"},"A58"]
[null,"Simard Claudine",{"$f":"VLOOKUP(B7986,[1]export_1465921594229!$D7987:$G17247,4,FALSE)","v":"C97-121721"},"C97"]
[null,"Simard Daniel",{"$f":"VLOOKUP(B7987,[1]export_1465921594229!$D7988:$G17248,4,FALSE)","v":"A17-122106"},"A17"]
[null,"Simard Dominique",{"$f":"VLOOKUP(B7988,[1]export_1465921594229!$D7989:$G17249,4,FALSE)","v":"A25-120189"},"A25"]
[null,"Simard Gerald",{"$f":"VLOOKUP(B7989,[1]export_1465921594229!$D7990:$G17250,4,FALSE)","v":"380-122267"},"380"]
[null,"Simard Gilles",{"$f":"VLOOKUP(B7990,[1]export_1465921594229!$D7991:$G17251,4,FALSE)","v":"Z75-120457"},"Z75"]
[null,"Simard Ginette",{"$f":"VLOOKUP(B7991,[1]export_1465921594229!$D7992:$G17252,4,FALSE)","v":"A49-115717"},"A49"]
[null,"Simard Jean-Denis",{"$f":"VLOOKUP(B7992,[1]export_1465921594229!$D7993:$G17253,4,FALSE)","v":"234-120424"},"234"]
[null,"Simard Lynda",{"$f":"VLOOKUP(B7993,[1]export_1465921594229!$D7994:$G17254,4,FALSE)","v":"E38-118491"},"E38"]
[null,"Simard Michel-A.",{"$f":"VLOOKUP(B7994,[1]export_1465921594229!$D7995:$G17255,4,FALSE)","v":"333-122361"},"333"]
[null,"Simard Raynald",{"$f":"VLOOKUP(B7995,[1]export_1465921594229!$D7996:$G17256,4,FALSE)","v":"X42-117996"},"X42"]
[null,"Simard Richard",{"$f":"VLOOKUP(B7996,[1]export_1465921594229!$D7997:$G17257,4,FALSE)","v":"GE2-660175"},"GE2"]
[null,"Simard Richard",{"$f":"VLOOKUP(B7997,[1]export_1465921594229!$D7998:$G17258,4,FALSE)","v":"BBM-123105"},"BBM"]
[null,"Simard Richard",{"$f":"VLOOKUP(B7998,[1]export_1465921594229!$D7999:$G17259,4,FALSE)","v":"EA2-121451"},"EA2"]
[null,"Simard Sheila",{"$f":"VLOOKUP(B7999,[1]export_1465921594229!$D8000:$G17260,4,FALSE)","v":"ED0-121457"},"ED0"]
[null,"Simard Sheila",{"$f":"VLOOKUP(B8000,[1]export_1465921594229!$D8001:$G17261,4,FALSE)","v":"682-122067"},"682"]
[null,"Simard Thecla",{"$f":"VLOOKUP(B8001,[1]export_1465921594229!$D8002:$G17262,4,FALSE)","v":"I04-116293"},"I04"]
[null,"Simard Lapointe Michael",{"$f":"VLOOKUP(B8002,[1]export_1465921594229!$D8003:$G17263,4,FALSE)","v":"D2Y-125432"},{"$f":"LEFT(C8002,3)","v":"D2Y"}]
[null,"Simeon Alex",{"$f":"VLOOKUP(B8003,[1]export_1465921594229!$D8004:$G17264,4,FALSE)","v":"IC1-116324"},"IC1"]
[null,"Simeonidis Costas",{"$f":"VLOOKUP(B8004,[1]export_1465921594229!$D8005:$G17265,4,FALSE)","v":"W65-660663"},"W65"]
[null,"Simkin Svetlana",{"$f":"VLOOKUP(B8005,[1]export_1465921594229!$D8006:$G17266,4,FALSE)","v":"O81-120753"},"O81"]
[null,"Simms Robert",{"$f":"VLOOKUP(B8006,[1]export_1465921594229!$D8007:$G17267,4,FALSE)","v":"KV0-121022"},"KV0"]
[null,"Simms Robert",{"$f":"VLOOKUP(B8007,[1]export_1465921594229!$D8008:$G17268,4,FALSE)","v":"KU9-116769"},"KU9"]
[null,"Simon Charles",{"$f":"VLOOKUP(B8008,[1]export_1465921594229!$D8009:$G17269,4,FALSE)","v":"Q49-119698"},"Q49"]
[null,"Simon Elisea",{"$f":"VLOOKUP(B8009,[1]export_1465921594229!$D8010:$G17270,4,FALSE)","v":"HG8-116192"},"HG8"]
[null,"Simon Francis",{"$f":"VLOOKUP(B8010,[1]export_1465921594229!$D8011:$G17271,4,FALSE)","v":"DDR-124796"},"DDR"]
[null,"Simon Guillen",{"$f":"VLOOKUP(B8011,[1]export_1465921594229!$D8012:$G17272,4,FALSE)","v":"B4E-123671"},"B4E"]
[null,"Simon Yvette",{"$f":"VLOOKUP(B8012,[1]export_1465921594229!$D8013:$G17273,4,FALSE)","v":"KD9-116668"},"KD9"]
[null,"Simoneau Annie",{"$f":"VLOOKUP(B8013,[1]export_1465921594229!$D8014:$G17274,4,FALSE)","v":"BD8-121832"},"BD8"]
[null,"Simoneau Frederic",{"$f":"VLOOKUP(B8014,[1]export_1465921594229!$D8015:$G17275,4,FALSE)","v":"AO5-115746"},"AO5"]
[null,"Simoneau Michel",{"$f":"VLOOKUP(B8015,[1]export_1465921594229!$D8016:$G17276,4,FALSE)","v":"HX3-116287"},"HX3"]
[null,"Simoneau Yannick",{"$f":"VLOOKUP(B8016,[1]export_1465921594229!$D8017:$G17277,4,FALSE)","v":"D68-121599"},"D68"]
[null,"Simpkin Denis",{"$f":"VLOOKUP(B8017,[1]export_1465921594229!$D8018:$G17278,4,FALSE)","v":"BPY-500754"},"BPY"]
[null,"Simpkiss April D",{"$f":"VLOOKUP(B8018,[1]export_1465921594229!$D8019:$G17279,4,FALSE)","v":"FD2-550727"},"FD2"]
[null,"Simpkiss April D",{"$f":"VLOOKUP(B8019,[1]export_1465921594229!$D8020:$G17280,4,FALSE)","v":"LX1-120848"},"LX1"]
[null,"Simpson Lina",{"$f":"VLOOKUP(B8020,[1]export_1465921594229!$D8021:$G17281,4,FALSE)","v":"CMT-124127"},"CMT"]
[null,"Simpson Paul",{"$f":"VLOOKUP(B8021,[1]export_1465921594229!$D8022:$G17282,4,FALSE)","v":"Q23-660320"},"Q23"]
[null,"Simpson Scott",{"$f":"VLOOKUP(B8022,[1]export_1465921594229!$D8023:$G17283,4,FALSE)","v":"GG0-118871"},"GG0"]
[null,"Simpson Simone",{"$f":"VLOOKUP(B8023,[1]export_1465921594229!$D8024:$G17284,4,FALSE)","v":"RE9-119823"},"RE9"]
[null,"Simpson Trisha",{"$f":"VLOOKUP(B8024,[1]export_1465921594229!$D8025:$G17285,4,FALSE)","v":"BQE-123357"},"BQE"]
[null,"Sims Andrew James",{"$f":"VLOOKUP(B8025,[1]export_1465921594229!$D8026:$G17286,4,FALSE)","v":"C5N-124590"},"C5N"]
[null,"Sims Dan",{"$f":"VLOOKUP(B8026,[1]export_1465921594229!$D8027:$G17287,4,FALSE)","v":"FS8-118777"},"FS8"]
[null,"Sims Ryan",{"$f":"VLOOKUP(B8027,[1]export_1465921594229!$D8028:$G17288,4,FALSE)","v":"T22-119884"},"T22"]
[null,"Singarajah Mahenthirarajan",{"$f":"VLOOKUP(B8028,[1]export_1465921594229!$D8029:$G17289,4,FALSE)","v":"DIX-124928"},"DIX"]
[null,"Singh Ajmer",{"$f":"VLOOKUP(B8029,[1]export_1465921594229!$D8030:$G17290,4,FALSE)","v":"NQ5-119500"},"NQ5"]
[null,"Singh Ajmer",{"$f":"VLOOKUP(B8030,[1]export_1465921594229!$D8031:$G17291,4,FALSE)","v":"W47-119998"},"W47"]
[null,"Singh Ajmer",{"$f":"VLOOKUP(B8031,[1]export_1465921594229!$D8032:$G17292,4,FALSE)","v":"QB6-119730"},"QB6"]
[null,"Singh Ajmer",{"$f":"VLOOKUP(B8032,[1]export_1465921594229!$D8033:$G17293,4,FALSE)","v":"BJ3-118213"},"BJ3"]
[null,"Singh Ajmer",{"$f":"VLOOKUP(B8033,[1]export_1465921594229!$D8034:$G17294,4,FALSE)","v":"NQ4-119499"},"NQ4"]
[null,"Singh Avtar",{"$f":"VLOOKUP(B8034,[1]export_1465921594229!$D8035:$G17295,4,FALSE)","v":"B5F-123698"},"B5F"]
[null,"Singh Avtar",{"$f":"VLOOKUP(B8035,[1]export_1465921594229!$D8036:$G17296,4,FALSE)","v":"D4C-125460"},"D4C"]
[null,"Singh Bhupender",{"$f":"VLOOKUP(B8036,[1]export_1465921594229!$D8037:$G17297,4,FALSE)","v":"CI6-118308"},"CI6"]
[null,"Singh Gurcharan",{"$f":"VLOOKUP(B8037,[1]export_1465921594229!$D8038:$G17298,4,FALSE)","v":"MQ7-117078"},"MQ7"]
[null,"Singh Heera",{"$f":"VLOOKUP(B8038,[1]export_1465921594229!$D8039:$G17299,4,FALSE)","v":"B2P-123633"},"B2P"]
[null,"Singh Jagdish Kaur",{"$f":"VLOOKUP(B8039,[1]export_1465921594229!$D8040:$G17300,4,FALSE)","v":"LV7-116924"},"LV7"]
[null,"Singh Jarnail",{"$f":"VLOOKUP(B8040,[1]export_1465921594229!$D8041:$G17301,4,FALSE)","v":"GI8-118890"},"GI8"]
[null,"Singh Kanwal",{"$f":"VLOOKUP(B8041,[1]export_1465921594229!$D8042:$G17302,4,FALSE)","v":"CGQ-123982"},"CGQ"]
[null,"Singh Manjinder",{"$f":"VLOOKUP(B8042,[1]export_1465921594229!$D8043:$G17303,4,FALSE)","v":"NI4-550837"},"NI4"]
[null,"Singh Mannu",{"$f":"VLOOKUP(B8043,[1]export_1465921594229!$D8044:$G17304,4,FALSE)","v":"DX5-118456"},"DX5"]
[null,"Singh Mewa",{"$f":"VLOOKUP(B8044,[1]export_1465921594229!$D8045:$G17305,4,FALSE)","v":"BBG-550179"},"BBG"]
[null,"Singh Navjot",{"$f":"VLOOKUP(B8045,[1]export_1465921594229!$D8046:$G17306,4,FALSE)","v":"C9S-124695"},"C9S"]
[null,"Singh Onkar",{"$f":"VLOOKUP(B8046,[1]export_1465921594229!$D8047:$G17307,4,FALSE)","v":"HT6-550527"},"HT6"]
[null,"Singh Parbhu",{"$f":"VLOOKUP(B8047,[1]export_1465921594229!$D8048:$G17308,4,FALSE)","v":"FR9-121317"},"FR9"]
[null,"Singh Parbhu",{"$f":"VLOOKUP(B8048,[1]export_1465921594229!$D8049:$G17309,4,FALSE)","v":"FR0-121314"},"FR0"]
[null,"Singh Rajendra",{"$f":"VLOOKUP(B8049,[1]export_1465921594229!$D8050:$G17310,4,FALSE)","v":"LT9-116910"},"LT9"]
[null,"Singh Raminder",{"$f":"VLOOKUP(B8050,[1]export_1465921594229!$D8051:$G17311,4,FALSE)","v":"FE9-118706"},"FE9"]
[null,"Singh Sarabjit",{"$f":"VLOOKUP(B8051,[1]export_1465921594229!$D8052:$G17312,4,FALSE)","v":"IK1-116371"},"IK1"]
[null,"Singh Soma",{"$f":"VLOOKUP(B8052,[1]export_1465921594229!$D8053:$G17313,4,FALSE)","v":"QX0-117815"},"QX0"]
[null,"Singh Sukhvinder",{"$f":"VLOOKUP(B8053,[1]export_1465921594229!$D8054:$G17314,4,FALSE)","v":"ND9-117165"},"ND9"]
[null,"Singh Surjit",{"$f":"VLOOKUP(B8054,[1]export_1465921594229!$D8055:$G17315,4,FALSE)","v":"QP5-660242"},"QP5"]
[null,"Singh Braich Rajdeep",{"$f":"VLOOKUP(B8055,[1]export_1465921594229!$D8056:$G17316,4,FALSE)","v":"GG9-118878"},"GG9"]
[null,"Singh Gill Nirmal",{"$f":"VLOOKUP(B8056,[1]export_1465921594229!$D8057:$G17317,4,FALSE)","v":"GG1-118872"},"GG1"]
[null,"Singh Sehmbi Jeetender",{"$f":"VLOOKUP(B8057,[1]export_1465921594229!$D8058:$G17318,4,FALSE)","v":"PQ5-117591"},"PQ5"]
[null,"Singha Gurjit",{"$f":"VLOOKUP(B8058,[1]export_1465921594229!$D8059:$G17319,4,FALSE)","v":"IV1-116427"},"IV1"]
[null,"Singhmar Bijender",{"$f":"VLOOKUP(B8059,[1]export_1465921594229!$D8060:$G17320,4,FALSE)","v":"DF4-118389"},"DF4"]
[null,"Sinha Shweta",{"$f":"VLOOKUP(B8060,[1]export_1465921594229!$D8061:$G17321,4,FALSE)","v":"MP9-117073"},"MP9"]
[null,"Sinlao Noel",{"$f":"VLOOKUP(B8061,[1]export_1465921594229!$D8062:$G17322,4,FALSE)","v":"IP2-116396"},"IP2"]
[null,"Sinnett Denis",{"$f":"VLOOKUP(B8062,[1]export_1465921594229!$D8063:$G17323,4,FALSE)","v":"244-122426"},"244"]
[null,"Siobal Evelyn",{"$f":"VLOOKUP(B8063,[1]export_1465921594229!$D8064:$G17324,4,FALSE)","v":"IN5-116385"},"IN5"]
[null,"Sirois Marcel",{"$f":"VLOOKUP(B8064,[1]export_1465921594229!$D8065:$G17325,4,FALSE)","v":"E78-121447"},"E78"]
[null,"Sirois Richard",{"$f":"VLOOKUP(B8065,[1]export_1465921594229!$D8066:$G17326,4,FALSE)","v":"354-120320"},"354"]
[null,"Sirois Richard",{"$f":"VLOOKUP(B8066,[1]export_1465921594229!$D8067:$G17327,4,FALSE)","v":"347-120319"},{"$f":"LEFT(C8066,3)","v":"347"}]
[null,"Siroosi Ramin",{"$f":"VLOOKUP(B8067,[1]export_1465921594229!$D8068:$G17328,4,FALSE)","v":"R61-119808"},"R61"]
[null,"Sison Leon",{"$f":"VLOOKUP(B8068,[1]export_1465921594229!$D8069:$G17329,4,FALSE)","v":"LW8-116932"},"LW8"]
[null,"Sivagnanam Sivakanthan",{"$f":"VLOOKUP(B8069,[1]export_1465921594229!$D8070:$G17330,4,FALSE)","v":"QZ0-117822"},"QZ0"]
[null,"Sivalingam Baskaran",{"$f":"VLOOKUP(B8070,[1]export_1465921594229!$D8071:$G17331,4,FALSE)","v":"OL5-117353"},"OL5"]
[null,"Sivarajah Janarthan",{"$f":"VLOOKUP(B8071,[1]export_1465921594229!$D8072:$G17332,4,FALSE)","v":"PK1-117538"},"PK1"]
[null,"Sivarajapillai Jeyavana",{"$f":"VLOOKUP(B8072,[1]export_1465921594229!$D8073:$G17333,4,FALSE)","v":"MX4-117126"},"MX4"]
[null,"Slabodkin Isadore",{"$f":"VLOOKUP(B8073,[1]export_1465921594229!$D8074:$G17334,4,FALSE)","v":"S51-119853"},"S51"]
[null,"Slater 01hjzc Elliot",{"$f":"VLOOKUP(B8074,[1]export_1465921594229!$D8075:$G17335,4,FALSE)","v":"KQ1-119263"},"KQ1"]
[null,"Sleiman Cathy",{"$f":"VLOOKUP(B8075,[1]export_1465921594229!$D8076:$G17336,4,FALSE)","v":"D27-120143"},"D27"]
[null,"Sleiman Georges",{"$f":"VLOOKUP(B8076,[1]export_1465921594229!$D8077:$G17337,4,FALSE)","v":"DHH-124889"},"DHH"]
[null,"Sloan Gregory",{"$f":"VLOOKUP(B8077,[1]export_1465921594229!$D8078:$G17338,4,FALSE)","v":"B6H-123724"},"B6H"]
[null,"Sloan Julie",{"$f":"VLOOKUP(B8078,[1]export_1465921594229!$D8079:$G17339,4,FALSE)","v":"IN2-119144"},"IN2"]
[null,"Sloan Julie",{"$f":"VLOOKUP(B8079,[1]export_1465921594229!$D8080:$G17340,4,FALSE)","v":"N32-120793"},"N32"]
[null,"Slywchuk Garry",{"$f":"VLOOKUP(B8080,[1]export_1465921594229!$D8081:$G17341,4,FALSE)","v":"QU9-117796"},"QU9"]
[null,"Slywchuk Garry",{"$f":"VLOOKUP(B8081,[1]export_1465921594229!$D8082:$G17342,4,FALSE)","v":"DAI-124711"},"DAI"]
[null,"Smalling Chevon",{"$f":"VLOOKUP(B8082,[1]export_1465921594229!$D8083:$G17343,4,FALSE)","v":"CHZ-124015"},"CHZ"]
[null,"Smith Allan",{"$f":"VLOOKUP(B8083,[1]export_1465921594229!$D8084:$G17344,4,FALSE)","v":"LP1-119342"},"LP1"]
[null,"Smith Allan",{"$f":"VLOOKUP(B8084,[1]export_1465921594229!$D8085:$G17345,4,FALSE)","v":"LP2-119343"},"LP2"]
[null,"Smith Allison",{"$f":"VLOOKUP(B8085,[1]export_1465921594229!$D8086:$G17346,4,FALSE)","v":"FU2-118785"},"FU2"]
[null,"Smith Andrew",{"$f":"VLOOKUP(B8086,[1]export_1465921594229!$D8087:$G17347,4,FALSE)","v":"HE6-116180"},"HE6"]
[null,"Smith Bryce",{"$f":"VLOOKUP(B8087,[1]export_1465921594229!$D8088:$G17348,4,FALSE)","v":"DEQ-124821"},"DEQ"]
[null,"Smith Carla",{"$f":"VLOOKUP(B8088,[1]export_1465921594229!$D8089:$G17349,4,FALSE)","v":"QC1-117674"},"QC1"]
[null,"Smith Chelsey",{"$f":"VLOOKUP(B8089,[1]export_1465921594229!$D8090:$G17350,4,FALSE)","v":"R46-120602"},"R46"]
[null,"Smith Kayla",{"$f":"VLOOKUP(B8090,[1]export_1465921594229!$D8091:$G17351,4,FALSE)","v":"JL7-116530"},"JL7"]
[null,"Smith Kenneth",{"$f":"VLOOKUP(B8091,[1]export_1465921594229!$D8092:$G17352,4,FALSE)","v":"QN6-117738"},"QN6"]
[null,"Smith Lane",{"$f":"VLOOKUP(B8092,[1]export_1465921594229!$D8093:$G17353,4,FALSE)","v":"AV6-118175"},"AV6"]
[null,"Smith Manuel",{"$f":"VLOOKUP(B8093,[1]export_1465921594229!$D8094:$G17354,4,FALSE)","v":"CS7-121658"},"CS7"]
[null,"Smith Michel",{"$f":"VLOOKUP(B8094,[1]export_1465921594229!$D8095:$G17355,4,FALSE)","v":"EP6-118597"},"EP6"]
[null,"Smith Owen",{"$f":"VLOOKUP(B8095,[1]export_1465921594229!$D8096:$G17356,4,FALSE)","v":"D4P-125473"},"D4P"]
[null,"Smith Shayne",{"$f":"VLOOKUP(B8096,[1]export_1465921594229!$D8097:$G17357,4,FALSE)","v":"C2B-124508"},"C2B"]
[null,"Smith Stephen",{"$f":"VLOOKUP(B8097,[1]export_1465921594229!$D8098:$G17358,4,FALSE)","v":"C1B-124482"},"C1B"]
[null,"Smithyman Robert",{"$f":"VLOOKUP(B8098,[1]export_1465921594229!$D8099:$G17359,4,FALSE)","v":"U11-119915"},"U11"]
[null,"Smollan Jacqueline",{"$f":"VLOOKUP(B8099,[1]export_1465921594229!$D8100:$G17360,4,FALSE)","v":"OC3-117299"},"OC3"]
[null,"Smollan Shelden",{"$f":"VLOOKUP(B8100,[1]export_1465921594229!$D8101:$G17361,4,FALSE)","v":"PM9-117558"},"PM9"]
[null,"Smrekar Thomas",{"$f":"VLOOKUP(B8101,[1]export_1465921594229!$D8102:$G17362,4,FALSE)","v":"BU8-121761"},"BU8"]
[null,"Smythe James D",{"$f":"VLOOKUP(B8102,[1]export_1465921594229!$D8103:$G17363,4,FALSE)","v":"EL5-029452"},"EL5"]
[null,"Smythe James D",{"$f":"VLOOKUP(B8103,[1]export_1465921594229!$D8104:$G17364,4,FALSE)","v":"BB6-115588"},"BB6"]
[null,"Smythe James D",{"$f":"VLOOKUP(B8104,[1]export_1465921594229!$D8105:$G17365,4,FALSE)","v":"BB7-329452"},"BB7"]
[null,"Snelgrove Brent",{"$f":"VLOOKUP(B8105,[1]export_1465921594229!$D8106:$G17366,4,FALSE)","v":"DZU-125351"},"DZU"]
[null,"Snider J. David",{"$f":"VLOOKUP(B8106,[1]export_1465921594229!$D8107:$G17367,4,FALSE)","v":"CDJ-123901"},"CDJ"]
[null,"Snow Phelan C. Howard",{"$f":"VLOOKUP(B8107,[1]export_1465921594229!$D8108:$G17368,4,FALSE)","v":"PL6-117551"},"PL6"]
[null,"Sobolta Diane",{"$f":"VLOOKUP(B8108,[1]export_1465921594229!$D8109:$G17369,4,FALSE)","v":"283-120437"},"283"]
[null,"Sodhi Mohinder",{"$f":"VLOOKUP(B8109,[1]export_1465921594229!$D8110:$G17370,4,FALSE)","v":"EW0-118628"},"EW0"]
[null,"Solanke Mardea",{"$f":"VLOOKUP(B8110,[1]export_1465921594229!$D8111:$G17371,4,FALSE)","v":"GX3-118952"},"GX3"]
[null,"Solano Marissa",{"$f":"VLOOKUP(B8111,[1]export_1465921594229!$D8112:$G17372,4,FALSE)","v":"HV9-119071"},"HV9"]
[null,"Soldera Fulvio Antonio",{"$f":"VLOOKUP(B8112,[1]export_1465921594229!$D8113:$G17373,4,FALSE)","v":"957-115631"},"957"]
[null,"Solis François",{"$f":"VLOOKUP(B8113,[1]export_1465921594229!$D8114:$G17374,4,FALSE)","v":"OU3-117405"},"OU3"]
[null,"Solis François",{"$f":"VLOOKUP(B8114,[1]export_1465921594229!$D8115:$G17375,4,FALSE)","v":"G90-121231"},"G90"]
[null,"Solis François",{"$f":"VLOOKUP(B8115,[1]export_1465921594229!$D8116:$G17376,4,FALSE)","v":"DCD-124758"},"DCD"]
[null,"Solis François",{"$f":"VLOOKUP(B8116,[1]export_1465921594229!$D8117:$G17377,4,FALSE)","v":"HI0-115684"},"HI0"]
[null,"Solis François",{"$f":"VLOOKUP(B8117,[1]export_1465921594229!$D8118:$G17378,4,FALSE)","v":"CXN-124394"},"CXN"]
[null,"Somai Nakhwattie",{"$f":"VLOOKUP(B8118,[1]export_1465921594229!$D8119:$G17379,4,FALSE)","v":"DCC-124757"},"DCC"]
[null,"Somaskandarajah Anandarajah",{"$f":"VLOOKUP(B8119,[1]export_1465921594229!$D8120:$G17380,4,FALSE)","v":"CLX-124111"},"CLX"]
[null,"Somers David",{"$f":"VLOOKUP(B8120,[1]export_1465921594229!$D8121:$G17381,4,FALSE)","v":"CYF-124411"},"CYF"]
[null,"Sommer Richard",{"$f":"VLOOKUP(B8121,[1]export_1465921594229!$D8122:$G17382,4,FALSE)","v":"HL2-121196"},"HL2"]
[null,"Song David",{"$f":"VLOOKUP(B8122,[1]export_1465921594229!$D8123:$G17383,4,FALSE)","v":"BM4-118227"},"BM4"]
[null,"Song Jing",{"$f":"VLOOKUP(B8123,[1]export_1465921594229!$D8124:$G17384,4,FALSE)","v":"CCO-123881"},"CCO"]
[null,"Sood Bhushan L",{"$f":"VLOOKUP(B8124,[1]export_1465921594229!$D8125:$G17385,4,FALSE)","v":"BF2-550203"},"BF2"]
[null,"Sood Inderjote",{"$f":"VLOOKUP(B8125,[1]export_1465921594229!$D8126:$G17386,4,FALSE)","v":"BF3-118203"},"BF3"]
[null,"Sookwah Nadene",{"$f":"VLOOKUP(B8126,[1]export_1465921594229!$D8127:$G17387,4,FALSE)","v":"LG2-116840"},"LG2"]
[null,"Soomro Abdul Rasheed",{"$f":"VLOOKUP(B8127,[1]export_1465921594229!$D8128:$G17388,4,FALSE)","v":"DRH-125140"},"DRH"]
[null,"Sorel Daniel",{"$f":"VLOOKUP(B8128,[1]export_1465921594229!$D8129:$G17389,4,FALSE)","v":"563-122243"},"563"]
[null,"Sorensen Terry",{"$f":"VLOOKUP(B8129,[1]export_1465921594229!$D8130:$G17390,4,FALSE)","v":"OS0-117394"},"OS0"]
[null,"Sorto Elsie",{"$f":"VLOOKUP(B8130,[1]export_1465921594229!$D8131:$G17391,4,FALSE)","v":"NJ5-117201"},{"$f":"LEFT(C8130,3)","v":"NJ5"}]
[null,"Sotelo Elizabeth",{"$f":"VLOOKUP(B8131,[1]export_1465921594229!$D8132:$G17392,4,FALSE)","v":"JZ4-116614"},"JZ4"]
[null,"Soto Ana",{"$f":"VLOOKUP(B8132,[1]export_1465921594229!$D8133:$G17393,4,FALSE)","v":"CLI-124096"},"CLI"]
[null,"Soto Sotelo Eduardo Antonio",{"$f":"VLOOKUP(B8133,[1]export_1465921594229!$D8134:$G17394,4,FALSE)","v":"U25-117935"},"U25"]
[null,"Sott Peter",{"$f":"VLOOKUP(B8134,[1]export_1465921594229!$D8135:$G17395,4,FALSE)","v":"BW1-121768"},"BW1"]
[null,"Sottile Vince",{"$f":"VLOOKUP(B8135,[1]export_1465921594229!$D8136:$G17396,4,FALSE)","v":"BS6-118248"},"BS6"]
[null,"Soucy Jean-Guy",{"$f":"VLOOKUP(B8136,[1]export_1465921594229!$D8137:$G17397,4,FALSE)","v":"GE5-118864"},"GE5"]
[null,"Soucy Joel",{"$f":"VLOOKUP(B8137,[1]export_1465921594229!$D8138:$G17398,4,FALSE)","v":"C77-121706"},"C77"]
[null,"Soucy Micheline B.",{"$f":"VLOOKUP(B8138,[1]export_1465921594229!$D8139:$G17399,4,FALSE)","v":"J93-119181"},"J93"]
[null,"Soulieres Gilles",{"$f":"VLOOKUP(B8139,[1]export_1465921594229!$D8140:$G17400,4,FALSE)","v":"S60-119857"},"S60"]
[null,"Soulieres Sylvain",{"$f":"VLOOKUP(B8140,[1]export_1465921594229!$D8141:$G17401,4,FALSE)","v":"R03-660644"},"R03"]
[null,"Souligny Johanne",{"$f":"VLOOKUP(B8141,[1]export_1465921594229!$D8142:$G17402,4,FALSE)","v":"C0W-124477"},"C0W"]
[null,"Sourdif Luc",{"$f":"VLOOKUP(B8142,[1]export_1465921594229!$D8143:$G17403,4,FALSE)","v":"CZ4-121551"},"CZ4"]
[null,"Sousa Denise",{"$f":"VLOOKUP(B8143,[1]export_1465921594229!$D8144:$G17404,4,FALSE)","v":"ND4-117164"},"ND4"]
[null,"Souter Tamara",{"$f":"VLOOKUP(B8144,[1]export_1465921594229!$D8145:$G17405,4,FALSE)","v":"N33-120794"},"N33"]
[null,"Southall Joseph",{"$f":"VLOOKUP(B8145,[1]export_1465921594229!$D8146:$G17406,4,FALSE)","v":"CA5-121727"},"CA5"]
[null,"Southall Joseph",{"$f":"VLOOKUP(B8146,[1]export_1465921594229!$D8147:$G17407,4,FALSE)","v":"CA6-118276"},"CA6"]
[null,"Southidara Vathavong",{"$f":"VLOOKUP(B8147,[1]export_1465921594229!$D8148:$G17408,4,FALSE)","v":"NZ2-117266"},"NZ2"]
[null,"Sowunmi Sofela",{"$f":"VLOOKUP(B8148,[1]export_1465921594229!$D8149:$G17409,4,FALSE)","v":"GU0-116122"},"GU0"]
[null,"Spenard Michel",{"$f":"VLOOKUP(B8149,[1]export_1465921594229!$D8150:$G17410,4,FALSE)","v":"425-122300"},"425"]
[null,"Spenard Nicole",{"$f":"VLOOKUP(B8150,[1]export_1465921594229!$D8151:$G17411,4,FALSE)","v":"525-122218"},"525"]
[null,"Spence Suzanne",{"$f":"VLOOKUP(B8151,[1]export_1465921594229!$D8152:$G17412,4,FALSE)","v":"AM8-118142"},"AM8"]
[null,"Spencer Kelsey",{"$f":"VLOOKUP(B8152,[1]export_1465921594229!$D8153:$G17413,4,FALSE)","v":"DWS-125276"},"DWS"]
[null,"Spergel Gary",{"$f":"VLOOKUP(B8153,[1]export_1465921594229!$D8154:$G17414,4,FALSE)","v":"HF0-116183"},"HF0"]
[null,"Spindler(Asso.Finan Serv) Karin",{"$f":"VLOOKUP(B8154,[1]export_1465921594229!$D8155:$G17415,4,FALSE)","v":"OJ7-117339"},"OJ7"]
[null,"Spitzig Stephen",{"$f":"VLOOKUP(B8155,[1]export_1465921594229!$D8156:$G17416,4,FALSE)","v":"N44-120803"},"N44"]
[null,"Springer Glyn",{"$f":"VLOOKUP(B8156,[1]export_1465921594229!$D8157:$G17417,4,FALSE)","v":"DO2-550381"},"DO2"]
[null,"Squires Martin",{"$f":"VLOOKUP(B8157,[1]export_1465921594229!$D8158:$G17418,4,FALSE)","v":"CNB-124135"},"CNB"]
[null,"Sran Jagwinder",{"$f":"VLOOKUP(B8158,[1]export_1465921594229!$D8159:$G17419,4,FALSE)","v":"IL5-116377"},"IL5"]
[null,"Sreenivasa Govindaraj",{"$f":"VLOOKUP(B8159,[1]export_1465921594229!$D8160:$G17420,4,FALSE)","v":"BGK-123170"},"BGK"]
[null,"Sridharan Tharmalingam",{"$f":"VLOOKUP(B8160,[1]export_1465921594229!$D8161:$G17421,4,FALSE)","v":"DJK-124941"},"DJK"]
[null,"Srikrishnarajah Sajepan",{"$f":"VLOOKUP(B8161,[1]export_1465921594229!$D8162:$G17422,4,FALSE)","v":"BKH-123251"},"BKH"]
[null,"Srithar Daneeshan",{"$f":"VLOOKUP(B8162,[1]export_1465921594229!$D8163:$G17423,4,FALSE)","v":"D3T-125452"},"D3T"]
[null,"Srithar Neroshan",{"$f":"VLOOKUP(B8163,[1]export_1465921594229!$D8164:$G17424,4,FALSE)","v":"D6D-125511"},"D6D"]
[null,"Srivastava Prasoon",{"$f":"VLOOKUP(B8164,[1]export_1465921594229!$D8165:$G17425,4,FALSE)","v":"CHJ-124000"},"CHJ"]
[null,"St.Germain Mireille",{"$f":"VLOOKUP(B8165,[1]export_1465921594229!$D8166:$G17426,4,FALSE)","v":"LI7-116857"},"LI7"]
[null,"Stacey Leo Patrick",{"$f":"VLOOKUP(B8166,[1]export_1465921594229!$D8167:$G17427,4,FALSE)","v":"T98-119907"},"T98"]
[null,"Stadler Lina",{"$f":"VLOOKUP(B8167,[1]export_1465921594229!$D8168:$G17428,4,FALSE)","v":"PD1-119645"},"PD1"]
[null,"St-Amand Jonathan",{"$f":"VLOOKUP(B8168,[1]export_1465921594229!$D8169:$G17429,4,FALSE)","v":"M05-119367"},"M05"]
[null,"St-Amour Alain",{"$f":"VLOOKUP(B8169,[1]export_1465921594229!$D8170:$G17430,4,FALSE)","v":"265-122441"},"265"]
[null,"St-Amour Jean-Marc",{"$f":"VLOOKUP(B8170,[1]export_1465921594229!$D8171:$G17431,4,FALSE)","v":"T99-119908"},"T99"]
[null,"St-Amour Norman",{"$f":"VLOOKUP(B8171,[1]export_1465921594229!$D8172:$G17432,4,FALSE)","v":"EH0-660562"},"EH0"]
[null,"Standish Richard M",{"$f":"VLOOKUP(B8172,[1]export_1465921594229!$D8173:$G17433,4,FALSE)","v":"Q20-120102"},"Q20"]
[null,"Stanley Jennifer",{"$f":"VLOOKUP(B8173,[1]export_1465921594229!$D8174:$G17434,4,FALSE)","v":"LA5-119310"},"LA5"]
[null,"Stanley Jennifer",{"$f":"VLOOKUP(B8174,[1]export_1465921594229!$D8175:$G17435,4,FALSE)","v":"LA6-119311"},"LA6"]
[null,"Stanley Kimberly",{"$f":"VLOOKUP(B8175,[1]export_1465921594229!$D8176:$G17436,4,FALSE)","v":"BEC-550043"},"BEC"]
[null,"Stapleton Daniel",{"$f":"VLOOKUP(B8176,[1]export_1465921594229!$D8177:$G17437,4,FALSE)","v":"BXI-550892"},"BXI"]
[null,"Stapleton Norecia",{"$f":"VLOOKUP(B8177,[1]export_1465921594229!$D8178:$G17438,4,FALSE)","v":"JU0-116581"},"JU0"]
[null,"Stark Dan",{"$f":"VLOOKUP(B8178,[1]export_1465921594229!$D8179:$G17439,4,FALSE)","v":"QG7-119763"},"QG7"]
[null,"Stark Dan",{"$f":"VLOOKUP(B8179,[1]export_1465921594229!$D8180:$G17440,4,FALSE)","v":"QC5-119737"},"QC5"]
[null,"Stark Dan",{"$f":"VLOOKUP(B8180,[1]export_1465921594229!$D8181:$G17441,4,FALSE)","v":"FJ2-121304"},"FJ2"]
[null,"Stark Dan",{"$f":"VLOOKUP(B8181,[1]export_1465921594229!$D8182:$G17442,4,FALSE)","v":"EM6-115591"},"EM6"]
[null,"Stark Dan",{"$f":"VLOOKUP(B8182,[1]export_1465921594229!$D8183:$G17443,4,FALSE)","v":"FJ1-118723"},"FJ1"]
[null,"Stark Dan",{"$f":"VLOOKUP(B8183,[1]export_1465921594229!$D8184:$G17444,4,FALSE)","v":"EN0-118587"},"EN0"]
[null,"Stark Murray",{"$f":"VLOOKUP(B8184,[1]export_1465921594229!$D8185:$G17445,4,FALSE)","v":"BDV-660222"},"BDV"]
[null,"St-Aubin Maude",{"$f":"VLOOKUP(B8185,[1]export_1465921594229!$D8186:$G17446,4,FALSE)","v":"A7J-123030"},"A7J"]
[null,"Staviss Harland",{"$f":"VLOOKUP(B8186,[1]export_1465921594229!$D8187:$G17447,4,FALSE)","v":"T72-119899"},"T72"]
[null,"Staykov Dimitar",{"$f":"VLOOKUP(B8187,[1]export_1465921594229!$D8188:$G17448,4,FALSE)","v":"IF5-116347"},"IF5"]
[null,"Stearns Michael",{"$f":"VLOOKUP(B8188,[1]export_1465921594229!$D8189:$G17449,4,FALSE)","v":"C6V-124623"},"C6V"]
[null,"Steciuk Elzbieta",{"$f":"VLOOKUP(B8189,[1]export_1465921594229!$D8190:$G17450,4,FALSE)","v":"C9M-124689"},"C9M"]
[null,"Steciuk Elzbieta",{"$f":"VLOOKUP(B8190,[1]export_1465921594229!$D8191:$G17451,4,FALSE)","v":"CPI-124192"},"CPI"]
[null,"Ste-Croix Nicolas",{"$f":"VLOOKUP(B8191,[1]export_1465921594229!$D8192:$G17452,4,FALSE)","v":"655-122173"},"655"]
[null,"Ste-Croix Reno",{"$f":"VLOOKUP(B8192,[1]export_1465921594229!$D8193:$G17453,4,FALSE)","v":"CF8-118295"},"CF8"]
[null,"Steen Rebecca",{"$f":"VLOOKUP(B8193,[1]export_1465921594229!$D8194:$G17454,4,FALSE)","v":"LZ9-119366"},"LZ9"]
[null,"Steen Rebecca",{"$f":"VLOOKUP(B8194,[1]export_1465921594229!$D8195:$G17455,4,FALSE)","v":"LZ8-119365"},{"$f":"LEFT(C8194,3)","v":"LZ8"}]
[null,"Steer Ulett",{"$f":"VLOOKUP(B8195,[1]export_1465921594229!$D8196:$G17456,4,FALSE)","v":"B6K-123726"},"B6K"]
[null,"Stefanescu Gabriela",{"$f":"VLOOKUP(B8196,[1]export_1465921594229!$D8197:$G17457,4,FALSE)","v":"R06-119790"},"R06"]
[null,"Steidl Greg",{"$f":"VLOOKUP(B8197,[1]export_1465921594229!$D8198:$G17458,4,FALSE)","v":"Z15-120058"},"Z15"]
[null,"Steinburg David",{"$f":"VLOOKUP(B8198,[1]export_1465921594229!$D8199:$G17459,4,FALSE)","v":"BDX-502291"},"BDX"]
[null,"Stel Michael",{"$f":"VLOOKUP(B8199,[1]export_1465921594229!$D8200:$G17460,4,FALSE)","v":"HP4-119055"},"HP4"]
[null,"Stel Michael",{"$f":"VLOOKUP(B8200,[1]export_1465921594229!$D8201:$G17461,4,FALSE)","v":"QG8-119764"},"QG8"]
[null,"Stel Michael",{"$f":"VLOOKUP(B8201,[1]export_1465921594229!$D8202:$G17462,4,FALSE)","v":"QC6-119738"},"QC6"]
[null,"Ste-Marie Andre",{"$f":"VLOOKUP(B8202,[1]export_1465921594229!$D8203:$G17463,4,FALSE)","v":"K63-119233"},"K63"]
[null,"Ste-Marie Pierre",{"$f":"VLOOKUP(B8203,[1]export_1465921594229!$D8204:$G17464,4,FALSE)","v":"H31-118972"},"H31"]
[null,"Stengel Jeffrey",{"$f":"VLOOKUP(B8204,[1]export_1465921594229!$D8205:$G17465,4,FALSE)","v":"BVD-502247"},"BVD"]
[null,"Stengel Jeffrey",{"$f":"VLOOKUP(B8205,[1]export_1465921594229!$D8206:$G17466,4,FALSE)","v":"CUE-124309"},"CUE"]
[null,"Stephen Alexander",{"$f":"VLOOKUP(B8206,[1]export_1465921594229!$D8207:$G17467,4,FALSE)","v":"B5H-123700"},"B5H"]
[null,"Stewart Audrey",{"$f":"VLOOKUP(B8207,[1]export_1465921594229!$D8208:$G17468,4,FALSE)","v":"GX0-116136"},"GX0"]
[null,"Stewart Craig",{"$f":"VLOOKUP(B8208,[1]export_1465921594229!$D8209:$G17469,4,FALSE)","v":"AN5-118146"},"AN5"]
[null,"Stewart Craig",{"$f":"VLOOKUP(B8209,[1]export_1465921594229!$D8210:$G17470,4,FALSE)","v":"AN4-118145"},"AN4"]
[null,"Stewart Craig",{"$f":"VLOOKUP(B8210,[1]export_1465921594229!$D8211:$G17471,4,FALSE)","v":"CS0-121656"},"CS0"]
[null,"Stewart David",{"$f":"VLOOKUP(B8211,[1]export_1465921594229!$D8212:$G17472,4,FALSE)","v":"X55-120038"},"X55"]
[null,"St-Francois Denis",{"$f":"VLOOKUP(B8212,[1]export_1465921594229!$D8213:$G17473,4,FALSE)","v":"AC0-115727"},"AC0"]
[null,"St-Georges Sebastien",{"$f":"VLOOKUP(B8213,[1]export_1465921594229!$D8214:$G17474,4,FALSE)","v":{"$error":"#N/A"}},{"$error":"#N/A"}]
[null,"St-Georges Yolande",{"$f":"VLOOKUP(B8214,[1]export_1465921594229!$D8215:$G17475,4,FALSE)","v":"248-122430"},"248"]
[null,"St-Germain Guy",{"$f":"VLOOKUP(B8215,[1]export_1465921594229!$D8216:$G17476,4,FALSE)","v":"PI2-117521"},"PI2"]
[null,"St-Germain Vincent",{"$f":"VLOOKUP(B8216,[1]export_1465921594229!$D8217:$G17477,4,FALSE)","v":"EZ5-115980"},"EZ5"]
[null,"St-Hilaire Martin",{"$f":"VLOOKUP(B8217,[1]export_1465921594229!$D8218:$G17478,4,FALSE)","v":"EO1-118591"},"EO1"]
[null,"St-Hilaire Yves",{"$f":"VLOOKUP(B8218,[1]export_1465921594229!$D8219:$G17479,4,FALSE)","v":"P28-119615"},"P28"]
[null,"St-Jacques Paul",{"$f":"VLOOKUP(B8219,[1]export_1465921594229!$D8220:$G17480,4,FALSE)","v":"DIO-124919"},"DIO"]
[null,"St-Jean Isabelle",{"$f":"VLOOKUP(B8220,[1]export_1465921594229!$D8221:$G17481,4,FALSE)","v":"BTU-660386"},"BTU"]
[null,"St-Laurent Carol",{"$f":"VLOOKUP(B8221,[1]export_1465921594229!$D8222:$G17482,4,FALSE)","v":"F75-115993"},"F75"]
[null,"St-Laurent Elaine",{"$f":"VLOOKUP(B8222,[1]export_1465921594229!$D8223:$G17483,4,FALSE)","v":"A59-122001"},"A59"]
[null,"St-Laurent Jean-Philippe",{"$f":"VLOOKUP(B8223,[1]export_1465921594229!$D8224:$G17484,4,FALSE)","v":"B60-121915"},"B60"]
[null,"St-Laurent Jocelyne",{"$f":"VLOOKUP(B8224,[1]export_1465921594229!$D8225:$G17485,4,FALSE)","v":"H19-118968"},"H19"]
[null,"St-Laurent Mathieu",{"$f":"VLOOKUP(B8225,[1]export_1465921594229!$D8226:$G17486,4,FALSE)","v":"JR8-660653"},"JR8"]
[null,"St-Laurent Nancy",{"$f":"VLOOKUP(B8226,[1]export_1465921594229!$D8227:$G17487,4,FALSE)","v":"M11-550282"},"M11"]
[null,"St-Laurent Rene",{"$f":"VLOOKUP(B8227,[1]export_1465921594229!$D8228:$G17488,4,FALSE)","v":"JH7-116505"},"JH7"]
[null,"Stobbs Derrick",{"$f":"VLOOKUP(B8228,[1]export_1465921594229!$D8229:$G17489,4,FALSE)","v":"CDX-123912"},"CDX"]
[null,"Stoesser Silvana",{"$f":"VLOOKUP(B8229,[1]export_1465921594229!$D8230:$G17490,4,FALSE)","v":"DJB-124932"},"DJB"]
[null,"Stokowski James",{"$f":"VLOOKUP(B8230,[1]export_1465921594229!$D8231:$G17491,4,FALSE)","v":"FH9-116020"},"FH9"]
[null,"Stoltz Daniel",{"$f":"VLOOKUP(B8231,[1]export_1465921594229!$D8232:$G17492,4,FALSE)","v":"KK8-501021"},"KK8"]
[null,"Stoltz Daniel",{"$f":"VLOOKUP(B8232,[1]export_1465921594229!$D8233:$G17493,4,FALSE)","v":"BRC-123376"},"BRC"]
[null,"Stoltz Daniel",{"$f":"VLOOKUP(B8233,[1]export_1465921594229!$D8234:$G17494,4,FALSE)","v":"R97-119817"},"R97"]
[null,"Stolzman Morton",{"$f":"VLOOKUP(B8234,[1]export_1465921594229!$D8235:$G17495,4,FALSE)","v":"Z36-120067"},"Z36"]
[null,"Stone Fiona",{"$f":"VLOOKUP(B8235,[1]export_1465921594229!$D8236:$G17496,4,FALSE)","v":"B1J-550906"},"B1J"]
[null,"St-Onge Jacinthe",{"$f":"VLOOKUP(B8236,[1]export_1465921594229!$D8237:$G17497,4,FALSE)","v":"BAA-660290"},"BAA"]
[null,"St-Onge Jean-Pierre",{"$f":"VLOOKUP(B8237,[1]export_1465921594229!$D8238:$G17498,4,FALSE)","v":"U64-117942"},"U64"]
[null,"St-Onge Luc",{"$f":"VLOOKUP(B8238,[1]export_1465921594229!$D8239:$G17499,4,FALSE)","v":"E91-121450"},"E91"]
[null,"St-Onge Marc",{"$f":"VLOOKUP(B8239,[1]export_1465921594229!$D8240:$G17500,4,FALSE)","v":"O22-660204"},"O22"]
[null,"St-Onge Marc",{"$f":"VLOOKUP(B8240,[1]export_1465921594229!$D8241:$G17501,4,FALSE)","v":"QM6-117728"},"QM6"]
[null,"St-Pierre Anne",{"$f":"VLOOKUP(B8241,[1]export_1465921594229!$D8242:$G17502,4,FALSE)","v":"C33-121679"},"C33"]
[null,"St-Pierre Michel",{"$f":"VLOOKUP(B8242,[1]export_1465921594229!$D8243:$G17503,4,FALSE)","v":"379-122266"},"379"]
[null,"St-Pierre Michel",{"$f":"VLOOKUP(B8243,[1]export_1465921594229!$D8244:$G17504,4,FALSE)","v":"010-122516"},"010"]
[null,"St-Pierre Paul",{"$f":"VLOOKUP(B8244,[1]export_1465921594229!$D8245:$G17505,4,FALSE)","v":"399-120332"},"399"]
[null,"St-Pierre Sandra-Lee",{"$f":"VLOOKUP(B8245,[1]export_1465921594229!$D8246:$G17506,4,FALSE)","v":"D6M-125520"},"D6M"]
[null,"Strangleman Ashley",{"$f":"VLOOKUP(B8246,[1]export_1465921594229!$D8247:$G17507,4,FALSE)","v":"PE7-119646"},"PE7"]
[null,"Strangleman Laura",{"$f":"VLOOKUP(B8247,[1]export_1465921594229!$D8248:$G17508,4,FALSE)","v":"NM9-119490"},"NM9"]
[null,"Strangleman Laura",{"$f":"VLOOKUP(B8248,[1]export_1465921594229!$D8249:$G17509,4,FALSE)","v":"AV9-121987"},"AV9"]
[null,"Streltsov Svetlana",{"$f":"VLOOKUP(B8249,[1]export_1465921594229!$D8250:$G17510,4,FALSE)","v":"CRR-124248"},"CRR"]
[null,"Strickland Jemile",{"$f":"VLOOKUP(B8250,[1]export_1465921594229!$D8251:$G17511,4,FALSE)","v":"NM4-117218"},"NM4"]
[null,"Strong Peter",{"$f":"VLOOKUP(B8251,[1]export_1465921594229!$D8252:$G17512,4,FALSE)","v":"AF8-122049"},"AF8"]
[null,"Strong Peter",{"$f":"VLOOKUP(B8252,[1]export_1465921594229!$D8253:$G17513,4,FALSE)","v":"KH6-115686"},"KH6"]
[null,"Strong Peter",{"$f":"VLOOKUP(B8253,[1]export_1465921594229!$D8254:$G17514,4,FALSE)","v":"DFY-124855"},"DFY"]
[null,"Strong Peter",{"$f":"VLOOKUP(B8254,[1]export_1465921594229!$D8255:$G17515,4,FALSE)","v":"Z17-120448"},"Z17"]
[null,"Strong Peter",{"$f":"VLOOKUP(B8255,[1]export_1465921594229!$D8256:$G17516,4,FALSE)","v":"LJ1-120963"},"LJ1"]
[null,"Strong Peter",{"$f":"VLOOKUP(B8256,[1]export_1465921594229!$D8257:$G17517,4,FALSE)","v":"LJ0-120962"},"LJ0"]
[null,"Strong Peter",{"$f":"VLOOKUP(B8257,[1]export_1465921594229!$D8258:$G17518,4,FALSE)","v":"LF1-115688"},"LF1"]
[null,"Strong Peter",{"$f":"VLOOKUP(B8258,[1]export_1465921594229!$D8259:$G17519,4,FALSE)","v":"CR6-121652"},{"$f":"LEFT(C8258,3)","v":"CR6"}]
[null,"Strong Peter",{"$f":"VLOOKUP(B8259,[1]export_1465921594229!$D8260:$G17520,4,FALSE)","v":"KH8-121004"},"KH8"]
[null,"Strong Peter",{"$f":"VLOOKUP(B8260,[1]export_1465921594229!$D8261:$G17521,4,FALSE)","v":"GZ4-121274"},"GZ4"]
[null,"Strong Peter",{"$f":"VLOOKUP(B8261,[1]export_1465921594229!$D8262:$G17522,4,FALSE)","v":"GZ5-118959"},"GZ5"]
[null,"Strum(Roger E Strum Ltd.) John",{"$f":"VLOOKUP(B8262,[1]export_1465921594229!$D8263:$G17523,4,FALSE)","v":"NN1-117221"},"NN1"]
[null,"Stuart Jimmy",{"$f":"VLOOKUP(B8263,[1]export_1465921594229!$D8264:$G17524,4,FALSE)","v":"L55-120918"},"L55"]
[null,"Stuart Jimmy",{"$f":"VLOOKUP(B8264,[1]export_1465921594229!$D8265:$G17525,4,FALSE)","v":"I21-119087"},"I21"]
[null,"Stump Richard",{"$f":"VLOOKUP(B8265,[1]export_1465921594229!$D8266:$G17526,4,FALSE)","v":"480-122197"},"480"]
[null,"Sturge Ross",{"$f":"VLOOKUP(B8266,[1]export_1465921594229!$D8267:$G17527,4,FALSE)","v":"OO3-500244"},"OO3"]
[null,"Sturge Ross",{"$f":"VLOOKUP(B8267,[1]export_1465921594229!$D8268:$G17528,4,FALSE)","v":"MN5-119427"},"MN5"]
[null,"Sturge Ross",{"$f":"VLOOKUP(B8268,[1]export_1465921594229!$D8269:$G17529,4,FALSE)","v":"GA4-300244"},"GA4"]
[null,"Sturgeon Brenda",{"$f":"VLOOKUP(B8269,[1]export_1465921594229!$D8270:$G17530,4,FALSE)","v":"FW1-501149"},"FW1"]
[null,"Sturgeon Brenda",{"$f":"VLOOKUP(B8270,[1]export_1465921594229!$D8271:$G17531,4,FALSE)","v":"N62-119463"},"N62"]
[null,"Sturgeon Brenda",{"$f":"VLOOKUP(B8271,[1]export_1465921594229!$D8272:$G17532,4,FALSE)","v":"BRX-123395"},"BRX"]
[null,"Sturgeon Brenda",{"$f":"VLOOKUP(B8272,[1]export_1465921594229!$D8273:$G17533,4,FALSE)","v":"DZS-125349"},"DZS"]
[null,"St-Yves Manon",{"$f":"VLOOKUP(B8273,[1]export_1465921594229!$D8274:$G17534,4,FALSE)","v":"CW8-120133"},"CW8"]
[null,"Suarez Carmelita",{"$f":"VLOOKUP(B8274,[1]export_1465921594229!$D8275:$G17535,4,FALSE)","v":"LK6-116864"},"LK6"]
[null,"Subba Naveen",{"$f":"VLOOKUP(B8275,[1]export_1465921594229!$D8276:$G17536,4,FALSE)","v":"LC5-119315"},"LC5"]
[null,"Subramaniam Govinthasamy V.",{"$f":"VLOOKUP(B8276,[1]export_1465921594229!$D8277:$G17537,4,FALSE)","v":"PS9-117607"},"PS9"]
[null,"Subramaniam Nimalraj",{"$f":"VLOOKUP(B8277,[1]export_1465921594229!$D8278:$G17538,4,FALSE)","v":"C0F-124460"},"C0F"]
[null,"Subramaniyam (Ins. Ocean) Mohavarothayarajah",{"$f":"VLOOKUP(B8278,[1]export_1465921594229!$D8279:$G17539,4,FALSE)","v":"PB5-117463"},"PB5"]
[null,"Sukhera Tariq",{"$f":"VLOOKUP(B8279,[1]export_1465921594229!$D8280:$G17540,4,FALSE)","v":"EZ3-121386"},"EZ3"]
[null,"Sulaiman Ann",{"$f":"VLOOKUP(B8280,[1]export_1465921594229!$D8281:$G17541,4,FALSE)","v":"C2Y-124531"},"C2Y"]
[null,"Sulur Subramaniam",{"$f":"VLOOKUP(B8281,[1]export_1465921594229!$D8282:$G17542,4,FALSE)","v":"PF0-117492"},"PF0"]
[null,"Suman Tania",{"$f":"VLOOKUP(B8282,[1]export_1465921594229!$D8283:$G17543,4,FALSE)","v":"B0O-123583"},"B0O"]
[null,"Sun Sheng Fen Calvin",{"$f":"VLOOKUP(B8283,[1]export_1465921594229!$D8284:$G17544,4,FALSE)","v":"AP8-115749"},"AP8"]
[null,"Suril Karen",{"$f":"VLOOKUP(B8284,[1]export_1465921594229!$D8285:$G17545,4,FALSE)","v":"KF7-116683"},"KF7"]
[null,"Sustrate Jenni",{"$f":"VLOOKUP(B8285,[1]export_1465921594229!$D8286:$G17546,4,FALSE)","v":"EJ3-118572"},"EJ3"]
[null,"Suthagaran Terrance",{"$f":"VLOOKUP(B8286,[1]export_1465921594229!$D8287:$G17547,4,FALSE)","v":"CDD-123896"},"CDD"]
[null,"Sutton Albert",{"$f":"VLOOKUP(B8287,[1]export_1465921594229!$D8288:$G17548,4,FALSE)","v":"KB2-121000"},"KB2"]
[null,"Svingen Louise",{"$f":"VLOOKUP(B8288,[1]export_1465921594229!$D8289:$G17549,4,FALSE)","v":"FF4-121299"},"FF4"]
[null,"Swanson Daisylyn",{"$f":"VLOOKUP(B8289,[1]export_1465921594229!$D8290:$G17550,4,FALSE)","v":"KF6-116682"},"KF6"]
[null,"Swoboda Roman",{"$f":"VLOOKUP(B8290,[1]export_1465921594229!$D8291:$G17551,4,FALSE)","v":"QW3-117808"},"QW3"]
[null,"Sy Evangeline",{"$f":"VLOOKUP(B8291,[1]export_1465921594229!$D8292:$G17552,4,FALSE)","v":"C7I-124635"},"C7I"]
[null,"Syed Sadia",{"$f":"VLOOKUP(B8292,[1]export_1465921594229!$D8293:$G17553,4,FALSE)","v":"PH0-119647"},"PH0"]
[null,"Sylvain Raymond",{"$f":"VLOOKUP(B8293,[1]export_1465921594229!$D8294:$G17554,4,FALSE)","v":"DR2-118429"},"DR2"]
[null,"Sylvain-Hinse Diane",{"$f":"VLOOKUP(B8294,[1]export_1465921594229!$D8295:$G17555,4,FALSE)","v":"W56-120490"},"W56"]
[null,"Sylvester Austin",{"$f":"VLOOKUP(B8295,[1]export_1465921594229!$D8296:$G17556,4,FALSE)","v":"DX9-121430"},"DX9"]
[null,"Sylvestre Johanne",{"$f":"VLOOKUP(B8296,[1]export_1465921594229!$D8297:$G17557,4,FALSE)","v":"O03-119525"},"O03"]
[null,"Synnott Gilles",{"$f":"VLOOKUP(B8297,[1]export_1465921594229!$D8298:$G17558,4,FALSE)","v":"459-122316"},"459"]
[null,"Synnott Gilles",{"$f":"VLOOKUP(B8298,[1]export_1465921594229!$D8299:$G17559,4,FALSE)","v":"096-122448"},"096"]
[null,"Sztym Allan",{"$f":"VLOOKUP(B8299,[1]export_1465921594229!$D8300:$G17560,4,FALSE)","v":"FO7-118760"},"FO7"]
[null,"Szubert Sabina",{"$f":"VLOOKUP(B8300,[1]export_1465921594229!$D8301:$G17561,4,FALSE)","v":"A6V-123022"},"A6V"]
[null,"Szybunka Christopher",{"$f":"VLOOKUP(B8301,[1]export_1465921594229!$D8302:$G17562,4,FALSE)","v":"BYP-502330"},"BYP"]
[null,"Tabaldo Pureza",{"$f":"VLOOKUP(B8302,[1]export_1465921594229!$D8303:$G17563,4,FALSE)","v":"PG3-117505"},"PG3"]
[null,"Taber Aaron",{"$f":"VLOOKUP(B8303,[1]export_1465921594229!$D8304:$G17564,4,FALSE)","v":"MQ9-117080"},"MQ9"]
[null,"Tabesh Sama",{"$f":"VLOOKUP(B8304,[1]export_1465921594229!$D8305:$G17565,4,FALSE)","v":"IX7-119164"},"IX7"]
[null,"Tache Jacynthe",{"$f":"VLOOKUP(B8305,[1]export_1465921594229!$D8306:$G17566,4,FALSE)","v":"437-122309"},"437"]
[null,"Tache Michel",{"$f":"VLOOKUP(B8306,[1]export_1465921594229!$D8307:$G17567,4,FALSE)","v":"I08-116295"},"I08"]
[null,"Tadeo Delfin",{"$f":"VLOOKUP(B8307,[1]export_1465921594229!$D8308:$G17568,4,FALSE)","v":"DJN-124944"},"DJN"]
[null,"Tagomata Noemi",{"$f":"VLOOKUP(B8308,[1]export_1465921594229!$D8309:$G17569,4,FALSE)","v":"BSR-123415"},"BSR"]
[null,"Taillefer Jean-Nagual",{"$f":"VLOOKUP(B8309,[1]export_1465921594229!$D8310:$G17570,4,FALSE)","v":"CRN-124244"},"CRN"]
[null,"Taillefer Vanessa",{"$f":"VLOOKUP(B8310,[1]export_1465921594229!$D8311:$G17571,4,FALSE)","v":"NA4-117142"},"NA4"]
[null,"Taillon Jean-Claude",{"$f":"VLOOKUP(B8311,[1]export_1465921594229!$D8312:$G17572,4,FALSE)","v":"E06-118464"},"E06"]
[null,"Taillon Pierette",{"$f":"VLOOKUP(B8312,[1]export_1465921594229!$D8313:$G17573,4,FALSE)","v":"AJ6-118125"},"AJ6"]
[null,"Taillon Richard",{"$f":"VLOOKUP(B8313,[1]export_1465921594229!$D8314:$G17574,4,FALSE)","v":"IX4-116438"},"IX4"]
[null,"Taillon Richard",{"$f":"VLOOKUP(B8314,[1]export_1465921594229!$D8315:$G17575,4,FALSE)","v":"BU0-118256"},"BU0"]
[null,"Tailor Bhaveshkumar",{"$f":"VLOOKUP(B8315,[1]export_1465921594229!$D8316:$G17576,4,FALSE)","v":"DKS-124973"},"DKS"]
[null,"Takche Toufic",{"$f":"VLOOKUP(B8316,[1]export_1465921594229!$D8317:$G17577,4,FALSE)","v":"KW9-116780"},"KW9"]
[null,"Takhar Harpreet",{"$f":"VLOOKUP(B8317,[1]export_1465921594229!$D8318:$G17578,4,FALSE)","v":"IK2-116372"},"IK2"]
[null,"Takhar Ranjit",{"$f":"VLOOKUP(B8318,[1]export_1465921594229!$D8319:$G17579,4,FALSE)","v":"NW7-117260"},"NW7"]
[null,"Takore Marie Rachel",{"$f":"VLOOKUP(B8319,[1]export_1465921594229!$D8320:$G17580,4,FALSE)","v":"A8I-123050"},"A8I"]
[null,"Takore Marie Rachel",{"$f":"VLOOKUP(B8320,[1]export_1465921594229!$D8321:$G17581,4,FALSE)","v":"NQ1-660221"},"NQ1"]
[null,"Talbot Claire",{"$f":"VLOOKUP(B8321,[1]export_1465921594229!$D8322:$G17582,4,FALSE)","v":"012-120375"},"012"]
[null,"Talbot Claude",{"$f":"VLOOKUP(B8322,[1]export_1465921594229!$D8323:$G17583,4,FALSE)","v":"416-122295"},{"$f":"LEFT(C8322,3)","v":"416"}]
[null,"Talbot Daniel",{"$f":"VLOOKUP(B8323,[1]export_1465921594229!$D8324:$G17584,4,FALSE)","v":"BA6-660160"},"BA6"]
[null,"Talbot Hugo",{"$f":"VLOOKUP(B8324,[1]export_1465921594229!$D8325:$G17585,4,FALSE)","v":"DFA-124831"},"DFA"]
[null,"Talbot Mario",{"$f":"VLOOKUP(B8325,[1]export_1465921594229!$D8326:$G17586,4,FALSE)","v":"381-122268"},"381"]
[null,"Talbot(Abraxas Insurance) Rick",{"$f":"VLOOKUP(B8326,[1]export_1465921594229!$D8327:$G17587,4,FALSE)","v":"OQ3-117380"},"OQ3"]
[null,"Tam Alan",{"$f":"VLOOKUP(B8327,[1]export_1465921594229!$D8328:$G17588,4,FALSE)","v":"FI5-118721"},"FI5"]
[null,"Tam Edwin Hoi Him",{"$f":"VLOOKUP(B8328,[1]export_1465921594229!$D8329:$G17589,4,FALSE)","v":"CVL-124341"},"CVL"]
[null,"Tam Zachary",{"$f":"VLOOKUP(B8329,[1]export_1465921594229!$D8330:$G17590,4,FALSE)","v":"MB9-116982"},"MB9"]
[null,"Tambekou Alain",{"$f":"VLOOKUP(B8330,[1]export_1465921594229!$D8331:$G17591,4,FALSE)","v":"DT0-600008"},"DT0"]
[null,"Tamburini Marcel",{"$f":"VLOOKUP(B8331,[1]export_1465921594229!$D8332:$G17592,4,FALSE)","v":"CRV-124252"},"CRV"]
[null,"Tamse Rezka",{"$f":"VLOOKUP(B8332,[1]export_1465921594229!$D8333:$G17593,4,FALSE)","v":"OW9-120766"},"OW9"]
[null,"Tan Eunice",{"$f":"VLOOKUP(B8333,[1]export_1465921594229!$D8334:$G17594,4,FALSE)","v":"LK8-120965"},"LK8"]
[null,"Tan Eunice",{"$f":"VLOOKUP(B8334,[1]export_1465921594229!$D8335:$G17595,4,FALSE)","v":"LQ2-119351"},"LQ2"]
[null,"Tan Felix",{"$f":"VLOOKUP(B8335,[1]export_1465921594229!$D8336:$G17596,4,FALSE)","v":"JN1-116540"},"JN1"]
[null,"Tan Grace Margaret",{"$f":"VLOOKUP(B8336,[1]export_1465921594229!$D8337:$G17597,4,FALSE)","v":"OR4-117388"},"OR4"]
[null,"Tan Jocelyn",{"$f":"VLOOKUP(B8337,[1]export_1465921594229!$D8338:$G17598,4,FALSE)","v":"C5F-124584"},"C5F"]
[null,"Tan Rogelio",{"$f":"VLOOKUP(B8338,[1]export_1465921594229!$D8339:$G17599,4,FALSE)","v":"QV2-117799"},"QV2"]
[null,"Tandal Amardeep",{"$f":"VLOOKUP(B8339,[1]export_1465921594229!$D8340:$G17600,4,FALSE)","v":"DE5-550364"},"DE5"]
[null,"Tang Samuel",{"$f":"VLOOKUP(B8340,[1]export_1465921594229!$D8341:$G17601,4,FALSE)","v":"MS9-117095"},"MS9"]
[null,"Tangco Elmer",{"$f":"VLOOKUP(B8341,[1]export_1465921594229!$D8342:$G17602,4,FALSE)","v":"PH4-117515"},"PH4"]
[null,"Tangco Imelda",{"$f":"VLOOKUP(B8342,[1]export_1465921594229!$D8343:$G17603,4,FALSE)","v":"PH3-117514"},"PH3"]
[null,"Tanguay Alex",{"$f":"VLOOKUP(B8343,[1]export_1465921594229!$D8344:$G17604,4,FALSE)","v":"HD9-660649"},"HD9"]
[null,"Tanguay Gilles",{"$f":"VLOOKUP(B8344,[1]export_1465921594229!$D8345:$G17605,4,FALSE)","v":"249-122431"},"249"]
[null,"Tanguay Helene",{"$f":"VLOOKUP(B8345,[1]export_1465921594229!$D8346:$G17606,4,FALSE)","v":"X25-660575"},"X25"]
[null,"Tanguay Kim",{"$f":"VLOOKUP(B8346,[1]export_1465921594229!$D8347:$G17607,4,FALSE)","v":"M84-119397"},"M84"]
[null,"Tanguay Michel",{"$f":"VLOOKUP(B8347,[1]export_1465921594229!$D8348:$G17608,4,FALSE)","v":"U22-120547"},"U22"]
[null,"Tanguay Sylvain",{"$f":"VLOOKUP(B8348,[1]export_1465921594229!$D8349:$G17609,4,FALSE)","v":"IW2-121154"},"IW2"]
[null,"Tanielian Gabriel",{"$f":"VLOOKUP(B8349,[1]export_1465921594229!$D8350:$G17610,4,FALSE)","v":"GB1-121233"},"GB1"]
[null,"Tanner Jaclyn",{"$f":"VLOOKUP(B8350,[1]export_1465921594229!$D8351:$G17611,4,FALSE)","v":"FR6-118773"},"FR6"]
[null,"Tanner-Deland Inc. Le Groupe Financier",{"$f":"VLOOKUP(B8351,[1]export_1465921594229!$D8352:$G17612,4,FALSE)","v":"F58-118665"},"F58"]
[null,"Tannous Jacqueline",{"$f":"VLOOKUP(B8352,[1]export_1465921594229!$D8353:$G17613,4,FALSE)","v":"BLS-123284"},"BLS"]
[null,"Tannous Jacqueline",{"$f":"VLOOKUP(B8353,[1]export_1465921594229!$D8354:$G17614,4,FALSE)","v":"DDB-124781"},"DDB"]
[null,"Tansey Bill",{"$f":"VLOOKUP(B8354,[1]export_1465921594229!$D8355:$G17615,4,FALSE)","v":"U88-550101"},"U88"]
[null,"Tardif Alain",{"$f":"VLOOKUP(B8355,[1]export_1465921594229!$D8356:$G17616,4,FALSE)","v":"DZ2-660532"},"DZ2"]
[null,"Tardif Bernard",{"$f":"VLOOKUP(B8356,[1]export_1465921594229!$D8357:$G17617,4,FALSE)","v":"DA0-121488"},"DA0"]
[null,"Tardif Jean",{"$f":"VLOOKUP(B8357,[1]export_1465921594229!$D8358:$G17618,4,FALSE)","v":"P12-550335"},"P12"]
[null,"Tardif Patrice",{"$f":"VLOOKUP(B8358,[1]export_1465921594229!$D8359:$G17619,4,FALSE)","v":"I23-550283"},"I23"]
[null,"Tardif Simon",{"$f":"VLOOKUP(B8359,[1]export_1465921594229!$D8360:$G17620,4,FALSE)","v":"X00-120018"},"X00"]
[null,"Tari Joseph",{"$f":"VLOOKUP(B8360,[1]export_1465921594229!$D8361:$G17621,4,FALSE)","v":"II9-550296"},"II9"]
[null,"Tarnava Ryan",{"$f":"VLOOKUP(B8361,[1]export_1465921594229!$D8362:$G17622,4,FALSE)","v":"DAC-124705"},"DAC"]
[null,"Taschereau Jean-François",{"$f":"VLOOKUP(B8362,[1]export_1465921594229!$D8363:$G17623,4,FALSE)","v":"C42-121685"},"C42"]
[null,"Tasevski Andrea",{"$f":"VLOOKUP(B8363,[1]export_1465921594229!$D8364:$G17624,4,FALSE)","v":"IH4-116359"},"IH4"]
[null,"Tasse Jean-Marc",{"$f":"VLOOKUP(B8364,[1]export_1465921594229!$D8365:$G17625,4,FALSE)","v":"P41-120659"},"P41"]
[null,"Tasse Jean-Marc",{"$f":"VLOOKUP(B8365,[1]export_1465921594229!$D8366:$G17626,4,FALSE)","v":"QN3-600069"},"QN3"]
[null,"Tasse Sylvie",{"$f":"VLOOKUP(B8366,[1]export_1465921594229!$D8367:$G17627,4,FALSE)","v":"V59-120461"},"V59"]
[null,"Tate Morris",{"$f":"VLOOKUP(B8367,[1]export_1465921594229!$D8368:$G17628,4,FALSE)","v":"CXV-124401"},"CXV"]
[null,"Taub Charles S",{"$f":"VLOOKUP(B8368,[1]export_1465921594229!$D8369:$G17629,4,FALSE)","v":"LL5-116869"},"LL5"]
[null,"Tawar Girish",{"$f":"VLOOKUP(B8369,[1]export_1465921594229!$D8370:$G17630,4,FALSE)","v":"CX2-118364"},"CX2"]
[null,"Taylor Aaron",{"$f":"VLOOKUP(B8370,[1]export_1465921594229!$D8371:$G17631,4,FALSE)","v":"DQM-125120"},"DQM"]
[null,"Taylor Frederick",{"$f":"VLOOKUP(B8371,[1]export_1465921594229!$D8372:$G17632,4,FALSE)","v":"D6U-125527"},"D6U"]
[null,"Taylor Jonathan",{"$f":"VLOOKUP(B8372,[1]export_1465921594229!$D8373:$G17633,4,FALSE)","v":"KD8-116667"},"KD8"]
[null,"Taylor Jonathan",{"$f":"VLOOKUP(B8373,[1]export_1465921594229!$D8374:$G17634,4,FALSE)","v":"KR8-121020"},"KR8"]
[null,"Taylor Joseph",{"$f":"VLOOKUP(B8374,[1]export_1465921594229!$D8375:$G17635,4,FALSE)","v":"KI9-550638"},"KI9"]
[null,"Taylor Patrick",{"$f":"VLOOKUP(B8375,[1]export_1465921594229!$D8376:$G17636,4,FALSE)","v":"MT0-119438"},"MT0"]
[null,"Taylor Richard",{"$f":"VLOOKUP(B8376,[1]export_1465921594229!$D8377:$G17637,4,FALSE)","v":"DFJ-124840"},"DFJ"]
[null,"Tchassom Louis Lazare",{"$f":"VLOOKUP(B8377,[1]export_1465921594229!$D8378:$G17638,4,FALSE)","v":"DIN-124918"},"DIN"]
[null,"Tcherni Shachaf (Shaq)",{"$f":"VLOOKUP(B8378,[1]export_1465921594229!$D8379:$G17639,4,FALSE)","v":"DFS-124849"},"DFS"]
[null,"Tchoryk Julia",{"$f":"VLOOKUP(B8379,[1]export_1465921594229!$D8380:$G17640,4,FALSE)","v":"BMZ-123304"},"BMZ"]
[null,"Tchoryk Julia",{"$f":"VLOOKUP(B8380,[1]export_1465921594229!$D8381:$G17641,4,FALSE)","v":"BGH-123168"},"BGH"]
[null,"Teano 57wpjc James Redo",{"$f":"VLOOKUP(B8381,[1]export_1465921594229!$D8382:$G17642,4,FALSE)","v":"KS6-119275"},"KS6"]
[null,"Teano Elizabeth",{"$f":"VLOOKUP(B8382,[1]export_1465921594229!$D8383:$G17643,4,FALSE)","v":"JM2-116535"},"JM2"]
[null,"Ted Herman Edward",{"$f":"VLOOKUP(B8383,[1]export_1465921594229!$D8384:$G17644,4,FALSE)","v":"H32-121285"},"H32"]
[null,"Teed Sebastien",{"$f":"VLOOKUP(B8384,[1]export_1465921594229!$D8385:$G17645,4,FALSE)","v":{"$error":"#N/A"}},{"$error":"#N/A"}]
[null,"Teeka Lakshmi Davi",{"$f":"VLOOKUP(B8385,[1]export_1465921594229!$D8386:$G17646,4,FALSE)","v":"B8Y-123789"},"B8Y"]
[null,"Teitelbaum Jason",{"$f":"VLOOKUP(B8386,[1]export_1465921594229!$D8387:$G17647,4,FALSE)","v":"EK1-121475"},{"$f":"LEFT(C8386,3)","v":"EK1"}]
[null,"Tejnani Bharat",{"$f":"VLOOKUP(B8387,[1]export_1465921594229!$D8388:$G17648,4,FALSE)","v":"LW5-116930"},"LW5"]
[null,"Tejpal Sanjeev",{"$f":"VLOOKUP(B8388,[1]export_1465921594229!$D8389:$G17649,4,FALSE)","v":"IB2-116317"},"IB2"]
[null,"Tela Maryjane",{"$f":"VLOOKUP(B8389,[1]export_1465921594229!$D8390:$G17650,4,FALSE)","v":"C3H-124540"},"C3H"]
[null,"Tellier Frederic",{"$f":"VLOOKUP(B8390,[1]export_1465921594229!$D8391:$G17651,4,FALSE)","v":"G72-116063"},"G72"]
[null,"Templo Maryanne",{"$f":"VLOOKUP(B8391,[1]export_1465921594229!$D8392:$G17652,4,FALSE)","v":"NF2-117173"},"NF2"]
[null,"Teodoro Jason",{"$f":"VLOOKUP(B8392,[1]export_1465921594229!$D8393:$G17653,4,FALSE)","v":"DSH-125165"},"DSH"]
[null,"Terceira Janet E.",{"$f":"VLOOKUP(B8393,[1]export_1465921594229!$D8394:$G17654,4,FALSE)","v":"R84-119812"},"R84"]
[null,"Tercero Paola",{"$f":"VLOOKUP(B8394,[1]export_1465921594229!$D8395:$G17655,4,FALSE)","v":"S71-120633"},"S71"]
[null,"Terkia-Derdra Nawel",{"$f":"VLOOKUP(B8395,[1]export_1465921594229!$D8396:$G17656,4,FALSE)","v":"KB9-116651"},"KB9"]
[null,"Ternes Allen",{"$f":"VLOOKUP(B8396,[1]export_1465921594229!$D8397:$G17657,4,FALSE)","v":"N58-501099"},"N58"]
[null,"Terpsis Jack",{"$f":"VLOOKUP(B8397,[1]export_1465921594229!$D8398:$G17658,4,FALSE)","v":"DRR-125149"},"DRR"]
[null,"Tessier Christiane",{"$f":"VLOOKUP(B8398,[1]export_1465921594229!$D8399:$G17659,4,FALSE)","v":"301-122337"},"301"]
[null,"Tessier Guy",{"$f":"VLOOKUP(B8399,[1]export_1465921594229!$D8400:$G17660,4,FALSE)","v":"635-122158"},"635"]
[null,"Tessier Jacques",{"$f":"VLOOKUP(B8400,[1]export_1465921594229!$D8401:$G17661,4,FALSE)","v":"309-120315"},"309"]
[null,"Tessier Jocelyn",{"$f":"VLOOKUP(B8401,[1]export_1465921594229!$D8402:$G17662,4,FALSE)","v":"U78-119940"},"U78"]
[null,"Tessier Lyne",{"$f":"VLOOKUP(B8402,[1]export_1465921594229!$D8403:$G17663,4,FALSE)","v":"CE3-115826"},"CE3"]
[null,"Tessier Mario",{"$f":"VLOOKUP(B8403,[1]export_1465921594229!$D8404:$G17664,4,FALSE)","v":"ES4-115975"},"ES4"]
[null,"Tessier Pierre",{"$f":"VLOOKUP(B8404,[1]export_1465921594229!$D8405:$G17665,4,FALSE)","v":"B22-120218"},"B22"]
[null,"Tessier Steven",{"$f":"VLOOKUP(B8405,[1]export_1465921594229!$D8406:$G17666,4,FALSE)","v":"DMK-125015"},"DMK"]
[null,"Tessier Steven",{"$f":"VLOOKUP(B8406,[1]export_1465921594229!$D8407:$G17667,4,FALSE)","v":"Z99-118044"},"Z99"]
[null,"Testulat Jean-Claude",{"$f":"VLOOKUP(B8407,[1]export_1465921594229!$D8408:$G17668,4,FALSE)","v":"DB7-118377"},"DB7"]
[null,"Tetrault Denise",{"$f":"VLOOKUP(B8408,[1]export_1465921594229!$D8409:$G17669,4,FALSE)","v":"DXH-660149"},"DXH"]
[null,"Tetrault Denise",{"$f":"VLOOKUP(B8409,[1]export_1465921594229!$D8410:$G17670,4,FALSE)","v":"M22-125291"},"M22"]
[null,"Tetreault Jeannine",{"$f":"VLOOKUP(B8410,[1]export_1465921594229!$D8411:$G17671,4,FALSE)","v":"641-122162"},"641"]
[null,"Tetreault Jeannine",{"$f":"VLOOKUP(B8411,[1]export_1465921594229!$D8412:$G17672,4,FALSE)","v":"307-120313"},"307"]
[null,"Tetreault Alain",{"$f":"VLOOKUP(B8412,[1]export_1465921594229!$D8413:$G17673,4,FALSE)","v":{"$error":"#N/A"}},{"$error":"#N/A"}]
[null,"Thakre Dilip",{"$f":"VLOOKUP(B8413,[1]export_1465921594229!$D8414:$G17674,4,FALSE)","v":"U83-120567"},"U83"]
[null,"Thakur Balbir",{"$f":"VLOOKUP(B8414,[1]export_1465921594229!$D8415:$G17675,4,FALSE)","v":"KO1-116735"},"KO1"]
[null,"Thakuria Hitesh",{"$f":"VLOOKUP(B8415,[1]export_1465921594229!$D8416:$G17676,4,FALSE)","v":"AU4-121982"},"AU4"]
[null,"Thambirajah Nesharaashaa",{"$f":"VLOOKUP(B8416,[1]export_1465921594229!$D8417:$G17677,4,FALSE)","v":"DYK-125320"},"DYK"]
[null,"Thangarajah Thayalini",{"$f":"VLOOKUP(B8417,[1]export_1465921594229!$D8418:$G17678,4,FALSE)","v":"DSD-125161"},"DSD"]
[null,"Thangaratnam Vijitha",{"$f":"VLOOKUP(B8418,[1]export_1465921594229!$D8419:$G17679,4,FALSE)","v":"OW7-117423"},"OW7"]
[null,"Thanigasalam Jeyapushpa",{"$f":"VLOOKUP(B8419,[1]export_1465921594229!$D8420:$G17680,4,FALSE)","v":"PJ3-117532"},"PJ3"]
[null,"Thaninayagam Panchasri",{"$f":"VLOOKUP(B8420,[1]export_1465921594229!$D8421:$G17681,4,FALSE)","v":"MZ0-119445"},"MZ0"]
[null,"Thapar Sanjeev",{"$f":"VLOOKUP(B8421,[1]export_1465921594229!$D8422:$G17682,4,FALSE)","v":"KM0-116720"},"KM0"]
[null,"Thapar Vikas",{"$f":"VLOOKUP(B8422,[1]export_1465921594229!$D8423:$G17683,4,FALSE)","v":"RA3-117857"},"RA3"]
[null,"Tharmakulasingam Vasugi",{"$f":"VLOOKUP(B8423,[1]export_1465921594229!$D8424:$G17684,4,FALSE)","v":"PE6-117490"},"PE6"]
[null,"Tharmalingam Sivayogalingam",{"$f":"VLOOKUP(B8424,[1]export_1465921594229!$D8425:$G17685,4,FALSE)","v":"C5U-124596"},"C5U"]
[null,"Thatparan Sharmely",{"$f":"VLOOKUP(B8425,[1]export_1465921594229!$D8426:$G17686,4,FALSE)","v":"PZ4-117651"},"PZ4"]
[null,"Thayaparan Sanjievaa",{"$f":"VLOOKUP(B8426,[1]export_1465921594229!$D8427:$G17687,4,FALSE)","v":"BHV-123201"},"BHV"]
[null,"Theberge Jacques",{"$f":"VLOOKUP(B8427,[1]export_1465921594229!$D8428:$G17688,4,FALSE)","v":"HK1-116211"},"HK1"]
[null,"Theberge Jacques",{"$f":"VLOOKUP(B8428,[1]export_1465921594229!$D8429:$G17689,4,FALSE)","v":"356-122379"},"356"]
[null,"Theberge Mary",{"$f":"VLOOKUP(B8429,[1]export_1465921594229!$D8430:$G17690,4,FALSE)","v":"166-122500"},"166"]
[null,"Theberge Maxime",{"$f":"VLOOKUP(B8430,[1]export_1465921594229!$D8431:$G17691,4,FALSE)","v":"D04-121557"},"D04"]
[null,"Theberge Gaetan",{"$f":"VLOOKUP(B8431,[1]export_1465921594229!$D8432:$G17692,4,FALSE)","v":{"$error":"#N/A"}},{"$error":"#N/A"}]
[null,"Theberge Jaimie",{"$f":"VLOOKUP(B8432,[1]export_1465921594229!$D8433:$G17693,4,FALSE)","v":{"$error":"#N/A"}},{"$error":"#N/A"}]
[null,"Thenot Franck",{"$f":"VLOOKUP(B8433,[1]export_1465921594229!$D8434:$G17694,4,FALSE)","v":"JB0-660079"},"JB0"]
[null,"Theodonis Dimitrios",{"$f":"VLOOKUP(B8434,[1]export_1465921594229!$D8435:$G17695,4,FALSE)","v":"FG5-116013"},"FG5"]
[null,"Theoret Bernard",{"$f":"VLOOKUP(B8435,[1]export_1465921594229!$D8436:$G17696,4,FALSE)","v":"M00-660658"},"M00"]
[null,"Theriault Caroline",{"$f":"VLOOKUP(B8436,[1]export_1465921594229!$D8437:$G17697,4,FALSE)","v":"HT2-116260"},"HT2"]
[null,"Theriault Daniel",{"$f":"VLOOKUP(B8437,[1]export_1465921594229!$D8438:$G17698,4,FALSE)","v":"X74-118005"},"X74"]
[null,"Theriault Danielle",{"$f":"VLOOKUP(B8438,[1]export_1465921594229!$D8439:$G17699,4,FALSE)","v":"A60-122002"},"A60"]
[null,"Theriault Jean-Claude",{"$f":"VLOOKUP(B8439,[1]export_1465921594229!$D8440:$G17700,4,FALSE)","v":"P17-120776"},"P17"]
[null,"Theriault Lili",{"$f":"VLOOKUP(B8440,[1]export_1465921594229!$D8441:$G17701,4,FALSE)","v":"K74-120984"},"K74"]
[null,"Theriault Lisette",{"$f":"VLOOKUP(B8441,[1]export_1465921594229!$D8442:$G17702,4,FALSE)","v":"310-122341"},"310"]
[null,"Theriault Luc",{"$f":"VLOOKUP(B8442,[1]export_1465921594229!$D8443:$G17703,4,FALSE)","v":"Q24-660003"},"Q24"]
[null,"Theriault Luc",{"$f":"VLOOKUP(B8443,[1]export_1465921594229!$D8444:$G17704,4,FALSE)","v":"AA7-660037"},"AA7"]
[null,"Theriault Marc",{"$f":"VLOOKUP(B8444,[1]export_1465921594229!$D8445:$G17705,4,FALSE)","v":"V82-119973"},"V82"]
[null,"Theriault Jean-Claude",{"$f":"VLOOKUP(B8445,[1]export_1465921594229!$D8446:$G17706,4,FALSE)","v":{"$error":"#N/A"}},{"$error":"#N/A"}]
[null,"Theriault Marc",{"$f":"VLOOKUP(B8446,[1]export_1465921594229!$D8447:$G17707,4,FALSE)","v":{"$error":"#N/A"}},{"$error":"#N/A"}]
[null,"Therien Ginette",{"$f":"VLOOKUP(B8447,[1]export_1465921594229!$D8448:$G17708,4,FALSE)","v":"AA2-115720"},"AA2"]
[null,"Theroux Benoit",{"$f":"VLOOKUP(B8448,[1]export_1465921594229!$D8449:$G17709,4,FALSE)","v":"DZ5-118460"},"DZ5"]
[null,"Theroux Michel-Paul",{"$f":"VLOOKUP(B8449,[1]export_1465921594229!$D8450:$G17710,4,FALSE)","v":"642-122163"},"642"]
[null,"Therrien Andre",{"$f":"VLOOKUP(B8450,[1]export_1465921594229!$D8451:$G17711,4,FALSE)","v":"V09-119952"},{"$f":"LEFT(C8450,3)","v":"V09"}]
[null,"Therrien Benoit",{"$f":"VLOOKUP(B8451,[1]export_1465921594229!$D8452:$G17712,4,FALSE)","v":"QJ8-120711"},"QJ8"]
[null,"Therrien Benoit",{"$f":"VLOOKUP(B8452,[1]export_1465921594229!$D8453:$G17713,4,FALSE)","v":"NM8-115612"},"NM8"]
[null,"Therrien Benoit",{"$f":"VLOOKUP(B8453,[1]export_1465921594229!$D8454:$G17714,4,FALSE)","v":"JN9-121055"},"JN9"]
[null,"Therrien Benoit",{"$f":"VLOOKUP(B8454,[1]export_1465921594229!$D8455:$G17715,4,FALSE)","v":"AB3-122035"},"AB3"]
[null,"Therrien Benoit",{"$f":"VLOOKUP(B8455,[1]export_1465921594229!$D8456:$G17716,4,FALSE)","v":"NT7-120727"},"NT7"]
[null,"Therrien Benoit",{"$f":"VLOOKUP(B8456,[1]export_1465921594229!$D8457:$G17717,4,FALSE)","v":"JE2-115685"},"JE2"]
[null,"Therrien Ginette",{"$f":"VLOOKUP(B8457,[1]export_1465921594229!$D8458:$G17718,4,FALSE)","v":"B87-121809"},"B87"]
[null,"Therrien Ginette",{"$f":"VLOOKUP(B8458,[1]export_1465921594229!$D8459:$G17719,4,FALSE)","v":"Q83-117666"},"Q83"]
[null,"Therrien Jasmin",{"$f":"VLOOKUP(B8459,[1]export_1465921594229!$D8460:$G17720,4,FALSE)","v":"O68-119549"},"O68"]
[null,"Therrien Laurie",{"$f":"VLOOKUP(B8460,[1]export_1465921594229!$D8461:$G17721,4,FALSE)","v":"CF4-118293"},"CF4"]
[null,"Therrien Mario",{"$f":"VLOOKUP(B8461,[1]export_1465921594229!$D8462:$G17722,4,FALSE)","v":"O64-117290"},"O64"]
[null,"Therrien Nancy",{"$f":"VLOOKUP(B8462,[1]export_1465921594229!$D8463:$G17723,4,FALSE)","v":"B58-121913"},"B58"]
[null,"Therrien Raynald",{"$f":"VLOOKUP(B8463,[1]export_1465921594229!$D8464:$G17724,4,FALSE)","v":"AA3-118100"},"AA3"]
[null,"Therrien Ricky",{"$f":"VLOOKUP(B8464,[1]export_1465921594229!$D8465:$G17725,4,FALSE)","v":"F30-118651"},"F30"]
[null,"Therrien Sylvie",{"$f":"VLOOKUP(B8465,[1]export_1465921594229!$D8466:$G17726,4,FALSE)","v":"JG7-118069"},"JG7"]
[null,"Thesen Justin",{"$f":"VLOOKUP(B8466,[1]export_1465921594229!$D8467:$G17727,4,FALSE)","v":"KC6-116657"},"KC6"]
[null,"Thevakumar Tharmini",{"$f":"VLOOKUP(B8467,[1]export_1465921594229!$D8468:$G17728,4,FALSE)","v":"PN7-117565"},"PN7"]
[null,"Thevarajah Kajan",{"$f":"VLOOKUP(B8468,[1]export_1465921594229!$D8469:$G17729,4,FALSE)","v":"PC4-550856"},"PC4"]
[null,"Thevarajan Gurunathan",{"$f":"VLOOKUP(B8469,[1]export_1465921594229!$D8470:$G17730,4,FALSE)","v":"PA0-117454"},"PA0"]
[null,"Thibault Alain",{"$f":"VLOOKUP(B8470,[1]export_1465921594229!$D8471:$G17731,4,FALSE)","v":"A98-122030"},"A98"]
[null,"Thibault Brenda",{"$f":"VLOOKUP(B8471,[1]export_1465921594229!$D8472:$G17732,4,FALSE)","v":"FZ9-118810"},"FZ9"]
[null,"Thibault Claude",{"$f":"VLOOKUP(B8472,[1]export_1465921594229!$D8473:$G17733,4,FALSE)","v":"DKU-124975"},"DKU"]
[null,"Thibault Denis",{"$f":"VLOOKUP(B8473,[1]export_1465921594229!$D8474:$G17734,4,FALSE)","v":"A86-120205"},"A86"]
[null,"Thibault Josee",{"$f":"VLOOKUP(B8474,[1]export_1465921594229!$D8475:$G17735,4,FALSE)","v":"QP3-117748"},"QP3"]
[null,"Thibault Lise",{"$f":"VLOOKUP(B8475,[1]export_1465921594229!$D8476:$G17736,4,FALSE)","v":"679-122065"},"679"]
[null,"Thibault Louis",{"$f":"VLOOKUP(B8476,[1]export_1465921594229!$D8477:$G17737,4,FALSE)","v":"J78-119176"},"J78"]
[null,"Thibault Lyne",{"$f":"VLOOKUP(B8477,[1]export_1465921594229!$D8478:$G17738,4,FALSE)","v":"BKD-660254"},"BKD"]
[null,"Thibault Marcel",{"$f":"VLOOKUP(B8478,[1]export_1465921594229!$D8479:$G17739,4,FALSE)","v":"CWR-124372"},"CWR"]
[null,"Thibault Mario",{"$f":"VLOOKUP(B8479,[1]export_1465921594229!$D8480:$G17740,4,FALSE)","v":"P91-119638"},"P91"]
[null,"Thibault Nicole",{"$f":"VLOOKUP(B8480,[1]export_1465921594229!$D8481:$G17741,4,FALSE)","v":"PN3-117562"},"PN3"]
[null,"Thibault Serge",{"$f":"VLOOKUP(B8481,[1]export_1465921594229!$D8482:$G17742,4,FALSE)","v":"I84-119114"},"I84"]
[null,"Thibault Steve",{"$f":"VLOOKUP(B8482,[1]export_1465921594229!$D8483:$G17743,4,FALSE)","v":"GQ8-121264"},"GQ8"]
[null,"Thibeault Caroline",{"$f":"VLOOKUP(B8483,[1]export_1465921594229!$D8484:$G17744,4,FALSE)","v":"DKP-124970"},"DKP"]
[null,"Thibeault David",{"$f":"VLOOKUP(B8484,[1]export_1465921594229!$D8485:$G17745,4,FALSE)","v":"W57-660056"},"W57"]
[null,"Thibeault Gerald",{"$f":"VLOOKUP(B8485,[1]export_1465921594229!$D8486:$G17746,4,FALSE)","v":"V03-119948"},"V03"]
[null,"Thibeault Jacinthe",{"$f":"VLOOKUP(B8486,[1]export_1465921594229!$D8487:$G17747,4,FALSE)","v":"W14-660684"},"W14"]
[null,"Thibeault Joe",{"$f":"VLOOKUP(B8487,[1]export_1465921594229!$D8488:$G17748,4,FALSE)","v":"IM6-121137"},"IM6"]
[null,"Thibeault Richard",{"$f":"VLOOKUP(B8488,[1]export_1465921594229!$D8489:$G17749,4,FALSE)","v":"W15-660010"},"W15"]
[null,"Thibodeau Alain",{"$f":"VLOOKUP(B8489,[1]export_1465921594229!$D8490:$G17750,4,FALSE)","v":"N96-119474"},"N96"]
[null,"Thibodeau Dany",{"$f":"VLOOKUP(B8490,[1]export_1465921594229!$D8491:$G17751,4,FALSE)","v":"IO9-116393"},"IO9"]
[null,"Thibodeau Guimond",{"$f":"VLOOKUP(B8491,[1]export_1465921594229!$D8492:$G17752,4,FALSE)","v":"DYH-125317"},"DYH"]
[null,"Thibodeau Marco",{"$f":"VLOOKUP(B8492,[1]export_1465921594229!$D8493:$G17753,4,FALSE)","v":"R35-660404"},"R35"]
[null,"Thibodeau Michael",{"$f":"VLOOKUP(B8493,[1]export_1465921594229!$D8494:$G17754,4,FALSE)","v":"IG2-119128"},"IG2"]
[null,"Thibodeau-Fortin Antoine",{"$f":"VLOOKUP(B8494,[1]export_1465921594229!$D8495:$G17755,4,FALSE)","v":"DIE-124909"},"DIE"]
[null,"Thickett Nicholas",{"$f":"VLOOKUP(B8495,[1]export_1465921594229!$D8496:$G17756,4,FALSE)","v":"FX1-118801"},"FX1"]
[null,"Thickett Nicholas",{"$f":"VLOOKUP(B8496,[1]export_1465921594229!$D8497:$G17757,4,FALSE)","v":"EX0-121379"},"EX0"]
[null,"Thiessen Gillian",{"$f":"VLOOKUP(B8497,[1]export_1465921594229!$D8498:$G17758,4,FALSE)","v":"CFE-123944"},"CFE"]
[null,"Thiffault Helene",{"$f":"VLOOKUP(B8498,[1]export_1465921594229!$D8499:$G17759,4,FALSE)","v":"U95-117949"},"U95"]
[null,"Thiffault Helene",{"$f":"VLOOKUP(B8499,[1]export_1465921594229!$D8500:$G17760,4,FALSE)","v":"G09-121335"},"G09"]
[null,"Thiffault Lionel",{"$f":"VLOOKUP(B8500,[1]export_1465921594229!$D8501:$G17761,4,FALSE)","v":"CHT-124009"},"CHT"]
[null,"Thillainathan Parimalakanthan",{"$f":"VLOOKUP(B8501,[1]export_1465921594229!$D8502:$G17762,4,FALSE)","v":"PE1-117485"},"PE1"]
[null,"Thirunavukarasu Supasgaran",{"$f":"VLOOKUP(B8502,[1]export_1465921594229!$D8503:$G17763,4,FALSE)","v":"QS5-117776"},"QS5"]
[null,"Thiruvarudchelvam Subramaniam",{"$f":"VLOOKUP(B8503,[1]export_1465921594229!$D8504:$G17764,4,FALSE)","v":"QU4-117791"},"QU4"]
[null,"Thivierge Andre",{"$f":"VLOOKUP(B8504,[1]export_1465921594229!$D8505:$G17765,4,FALSE)","v":"D21-121568"},"D21"]
[null,"Thivierge Danielle",{"$f":"VLOOKUP(B8505,[1]export_1465921594229!$D8506:$G17766,4,FALSE)","v":"191-122391"},"191"]
[null,"Thivierge Guy",{"$f":"VLOOKUP(B8506,[1]export_1465921594229!$D8507:$G17767,4,FALSE)","v":"621-120290"},"621"]
[null,"Thom (Thom & Asso. Finan) Kenneth",{"$f":"VLOOKUP(B8507,[1]export_1465921594229!$D8508:$G17768,4,FALSE)","v":"OO9-117368"},"OO9"]
[null,"Thomas Jason",{"$f":"VLOOKUP(B8508,[1]export_1465921594229!$D8509:$G17769,4,FALSE)","v":"LG5-116843"},"LG5"]
[null,"Thomas Kurian",{"$f":"VLOOKUP(B8509,[1]export_1465921594229!$D8510:$G17770,4,FALSE)","v":"QW9-117814"},"QW9"]
[null,"Thomas Mathew",{"$f":"VLOOKUP(B8510,[1]export_1465921594229!$D8511:$G17771,4,FALSE)","v":"FS6-118775"},"FS6"]
[null,"Thomas Nathalie",{"$f":"VLOOKUP(B8511,[1]export_1465921594229!$D8512:$G17772,4,FALSE)","v":"I14-121218"},"I14"]
[null,"Thomey Krista",{"$f":"VLOOKUP(B8512,[1]export_1465921594229!$D8513:$G17773,4,FALSE)","v":"Z18-120449"},"Z18"]
[null,"Thompson Brad",{"$f":"VLOOKUP(B8513,[1]export_1465921594229!$D8514:$G17774,4,FALSE)","v":"IM2-115600"},"IM2"]
[null,"Thompson Brad",{"$f":"VLOOKUP(B8514,[1]export_1465921594229!$D8515:$G17775,4,FALSE)","v":"N86-029229"},{"$f":"LEFT(C8514,3)","v":"N86"}]
[null,"Thompson Brad",{"$f":"VLOOKUP(B8515,[1]export_1465921594229!$D8516:$G17776,4,FALSE)","v":"916-115577"},"916"]
[null,"Thompson Neil",{"$f":"VLOOKUP(B8516,[1]export_1465921594229!$D8517:$G17777,4,FALSE)","v":"OO0-300489"},"OO0"]
[null,"Thompson Neil",{"$f":"VLOOKUP(B8517,[1]export_1465921594229!$D8518:$G17778,4,FALSE)","v":"MM0-119422"},"MM0"]
[null,"Thompson Neil",{"$f":"VLOOKUP(B8518,[1]export_1465921594229!$D8519:$G17779,4,FALSE)","v":"N82-500489"},"N82"]
[null,"Thompson Rod",{"$f":"VLOOKUP(B8519,[1]export_1465921594229!$D8520:$G17780,4,FALSE)","v":"EM3-118583"},"EM3"]
[null,"Thompson Scott",{"$f":"VLOOKUP(B8520,[1]export_1465921594229!$D8521:$G17781,4,FALSE)","v":"CM9-121628"},"CM9"]
[null,"Thompson Winston",{"$f":"VLOOKUP(B8521,[1]export_1465921594229!$D8522:$G17782,4,FALSE)","v":"B7S-123760"},"B7S"]
[null,"Thomson Ken",{"$f":"VLOOKUP(B8522,[1]export_1465921594229!$D8523:$G17783,4,FALSE)","v":"C0O-124469"},"C0O"]
[null,"Thomson Nathan",{"$f":"VLOOKUP(B8523,[1]export_1465921594229!$D8524:$G17784,4,FALSE)","v":"QH5-117691"},"QH5"]
[null,"Thorne Meghan",{"$f":"VLOOKUP(B8524,[1]export_1465921594229!$D8525:$G17785,4,FALSE)","v":"DDE-124784"},"DDE"]
[null,"Thorne Robert",{"$f":"VLOOKUP(B8525,[1]export_1465921594229!$D8526:$G17786,4,FALSE)","v":"EN9-118590"},"EN9"]
[null,"Thorne Robert",{"$f":"VLOOKUP(B8526,[1]export_1465921594229!$D8527:$G17787,4,FALSE)","v":"917-115578"},"917"]
[null,"Thorne Robert",{"$f":"VLOOKUP(B8527,[1]export_1465921594229!$D8528:$G17788,4,FALSE)","v":"PX6-119663"},"PX6"]
[null,"Thorne Robert",{"$f":"VLOOKUP(B8528,[1]export_1465921594229!$D8529:$G17789,4,FALSE)","v":"PS5-115619"},"PS5"]
[null,"Thornton Evelyn",{"$f":"VLOOKUP(B8529,[1]export_1465921594229!$D8530:$G17790,4,FALSE)","v":"BLZ-500217"},"BLZ"]
[null,"Thouin Jocelyn",{"$f":"VLOOKUP(B8530,[1]export_1465921594229!$D8531:$G17791,4,FALSE)","v":"BL2-121861"},"BL2"]
[null,"Thouin Louis-Charles",{"$f":"VLOOKUP(B8531,[1]export_1465921594229!$D8532:$G17792,4,FALSE)","v":"P96-120675"},"P96"]
[null,"Thouin Louis-Charles",{"$f":"VLOOKUP(B8532,[1]export_1465921594229!$D8533:$G17793,4,FALSE)","v":"M01-120850"},"M01"]
[null,"Thuan Cuong",{"$f":"VLOOKUP(B8533,[1]export_1465921594229!$D8534:$G17794,4,FALSE)","v":"BBB-502235"},"BBB"]
[null,"Thurairajah Mayooran",{"$f":"VLOOKUP(B8534,[1]export_1465921594229!$D8535:$G17795,4,FALSE)","v":"DKV-124976"},"DKV"]
[null,"Thurairajah Sritharan",{"$f":"VLOOKUP(B8535,[1]export_1465921594229!$D8536:$G17796,4,FALSE)","v":"OF0-550808"},"OF0"]
[null,"Thurairajah Vinasithamby",{"$f":"VLOOKUP(B8536,[1]export_1465921594229!$D8537:$G17797,4,FALSE)","v":"CFH-123947"},"CFH"]
[null,"Thuraisingham Gunaraja",{"$f":"VLOOKUP(B8537,[1]export_1465921594229!$D8538:$G17798,4,FALSE)","v":"CDF-123898"},"CDF"]
[null,"Tiangha Melania",{"$f":"VLOOKUP(B8538,[1]export_1465921594229!$D8539:$G17799,4,FALSE)","v":"FL4-118742"},"FL4"]
[null,"Tiberghien Mathieu",{"$f":"VLOOKUP(B8539,[1]export_1465921594229!$D8540:$G17800,4,FALSE)","v":"C15-121792"},"C15"]
[null,"Tiessen Dietrich",{"$f":"VLOOKUP(B8540,[1]export_1465921594229!$D8541:$G17801,4,FALSE)","v":"D7G-125539"},"D7G"]
[null,"Timbol Joselito",{"$f":"VLOOKUP(B8541,[1]export_1465921594229!$D8542:$G17802,4,FALSE)","v":"LS2-116899"},"LS2"]
[null,"Timbol Maria C. A.",{"$f":"VLOOKUP(B8542,[1]export_1465921594229!$D8543:$G17803,4,FALSE)","v":"LR4-116895"},"LR4"]
[null,"Timbol Ricardo",{"$f":"VLOOKUP(B8543,[1]export_1465921594229!$D8544:$G17804,4,FALSE)","v":"MB4-119405"},"MB4"]
[null,"Timsina Manju",{"$f":"VLOOKUP(B8544,[1]export_1465921594229!$D8545:$G17805,4,FALSE)","v":"MS5-117093"},"MS5"]
[null,"Tinafar Ryan",{"$f":"VLOOKUP(B8545,[1]export_1465921594229!$D8546:$G17806,4,FALSE)","v":"B3U-123662"},"B3U"]
[null,"Tino Teresina",{"$f":"VLOOKUP(B8546,[1]export_1465921594229!$D8547:$G17807,4,FALSE)","v":"DQU-125128"},"DQU"]
[null,"Tiszauer Lynnett",{"$f":"VLOOKUP(B8547,[1]export_1465921594229!$D8548:$G17808,4,FALSE)","v":"NO0-119492"},"NO0"]
[null,"To Elaine",{"$f":"VLOOKUP(B8548,[1]export_1465921594229!$D8549:$G17809,4,FALSE)","v":"LH9-116853"},"LH9"]
[null,"To Van Thi",{"$f":"VLOOKUP(B8549,[1]export_1465921594229!$D8550:$G17810,4,FALSE)","v":"DGD-124860"},"DGD"]
[null,"To Yvonne K.Y.",{"$f":"VLOOKUP(B8550,[1]export_1465921594229!$D8551:$G17811,4,FALSE)","v":"LJ5-119329"},"LJ5"]
[null,"Tobin Robert",{"$f":"VLOOKUP(B8551,[1]export_1465921594229!$D8552:$G17812,4,FALSE)","v":"N50-120808"},"N50"]
[null,"Toledo Lopez Johanna",{"$f":"VLOOKUP(B8552,[1]export_1465921594229!$D8553:$G17813,4,FALSE)","v":"CFO-123954"},"CFO"]
[null,"Toledo Lopez Johanna",{"$f":"VLOOKUP(B8553,[1]export_1465921594229!$D8554:$G17814,4,FALSE)","v":"OR6-117390"},"OR6"]
[null,"Tolentino Anna Charisse",{"$f":"VLOOKUP(B8554,[1]export_1465921594229!$D8555:$G17815,4,FALSE)","v":"EG4-118554"},"EG4"]
[null,"Tong Anthony",{"$f":"VLOOKUP(B8555,[1]export_1465921594229!$D8556:$G17816,4,FALSE)","v":"PG5-117507"},"PG5"]
[null,"Tongol Arnold",{"$f":"VLOOKUP(B8556,[1]export_1465921594229!$D8557:$G17817,4,FALSE)","v":"KD1-116661"},"KD1"]
[null,"Toonders Jessica",{"$f":"VLOOKUP(B8557,[1]export_1465921594229!$D8558:$G17818,4,FALSE)","v":"BQ1-121744"},"BQ1"]
[null,"Toovey Larry",{"$f":"VLOOKUP(B8558,[1]export_1465921594229!$D8559:$G17819,4,FALSE)","v":"P97-120676"},"P97"]
[null,"Toppi Michel",{"$f":"VLOOKUP(B8559,[1]export_1465921594229!$D8560:$G17820,4,FALSE)","v":"QX5-660499"},"QX5"]
[null,"Toreja-Benito Sharon",{"$f":"VLOOKUP(B8560,[1]export_1465921594229!$D8561:$G17821,4,FALSE)","v":"DVV-125253"},"DVV"]
[null,"Torre Felice",{"$f":"VLOOKUP(B8561,[1]export_1465921594229!$D8562:$G17822,4,FALSE)","v":"Z14-120057"},"Z14"]
[null,"Torres Berenia",{"$f":"VLOOKUP(B8562,[1]export_1465921594229!$D8563:$G17823,4,FALSE)","v":"A6Y-123025"},"A6Y"]
[null,"Torres Berenia",{"$f":"VLOOKUP(B8563,[1]export_1465921594229!$D8564:$G17824,4,FALSE)","v":"CEH-123922"},"CEH"]
[null,"Torres Tiffany",{"$f":"VLOOKUP(B8564,[1]export_1465921594229!$D8565:$G17825,4,FALSE)","v":"CHM-501932"},"CHM"]
[null,"Toth Diane L.",{"$f":"VLOOKUP(B8565,[1]export_1465921594229!$D8566:$G17826,4,FALSE)","v":"P22-029832"},"P22"]
[null,"Toth Diane L.",{"$f":"VLOOKUP(B8566,[1]export_1465921594229!$D8567:$G17827,4,FALSE)","v":"HA6-119002"},"HA6"]
[null,"Touchette Simon",{"$f":"VLOOKUP(B8567,[1]export_1465921594229!$D8568:$G17828,4,FALSE)","v":"Z53-660542"},"Z53"]
[null,"Toulouse Adrien",{"$f":"VLOOKUP(B8568,[1]export_1465921594229!$D8569:$G17829,4,FALSE)","v":"D14-120138"},"D14"]
[null,"Toulouse Francois",{"$f":"VLOOKUP(B8569,[1]export_1465921594229!$D8570:$G17830,4,FALSE)","v":"Q58-120692"},"Q58"]
[null,"Toulouse Marcel",{"$f":"VLOOKUP(B8570,[1]export_1465921594229!$D8571:$G17831,4,FALSE)","v":"G96-116070"},"G96"]
[null,"Tousignant Jean-Francois",{"$f":"VLOOKUP(B8571,[1]export_1465921594229!$D8572:$G17832,4,FALSE)","v":"X86-660595"},"X86"]
[null,"Tousignant Michel",{"$f":"VLOOKUP(B8572,[1]export_1465921594229!$D8573:$G17833,4,FALSE)","v":"BI4-118209"},"BI4"]
[null,"Tousignant-Joseph Dominique",{"$f":"VLOOKUP(B8573,[1]export_1465921594229!$D8574:$G17834,4,FALSE)","v":"NE2-117167"},"NE2"]
[null,"Toussaint Benoit",{"$f":"VLOOKUP(B8574,[1]export_1465921594229!$D8575:$G17835,4,FALSE)","v":"O48-119541"},"O48"]
[null,"Touyer Lyne",{"$f":"VLOOKUP(B8575,[1]export_1465921594229!$D8576:$G17836,4,FALSE)","v":"BS2-121754"},"BS2"]
[null,"Townend Terry",{"$f":"VLOOKUP(B8576,[1]export_1465921594229!$D8577:$G17837,4,FALSE)","v":"NG0-117177"},"NG0"]
[null,"Townson M.Paul",{"$f":"VLOOKUP(B8577,[1]export_1465921594229!$D8578:$G17838,4,FALSE)","v":"N16-120783"},"N16"]
[null,"Townson Timothy",{"$f":"VLOOKUP(B8578,[1]export_1465921594229!$D8579:$G17839,4,FALSE)","v":"IZ4-116445"},{"$f":"LEFT(C8578,3)","v":"IZ4"}]
[null,"Townson Timothy",{"$f":"VLOOKUP(B8579,[1]export_1465921594229!$D8580:$G17840,4,FALSE)","v":"BS7-118249"},"BS7"]
[null,"Townson Timothy",{"$f":"VLOOKUP(B8580,[1]export_1465921594229!$D8581:$G17841,4,FALSE)","v":"W38-120483"},"W38"]
[null,"Trahan Jean-Claude",{"$f":"VLOOKUP(B8581,[1]export_1465921594229!$D8582:$G17842,4,FALSE)","v":"G59-121350"},"G59"]
[null,"Trahan Jean-Francois",{"$f":"VLOOKUP(B8582,[1]export_1465921594229!$D8583:$G17843,4,FALSE)","v":"GK2-660054"},"GK2"]
[null,"Trahan Marcel",{"$f":"VLOOKUP(B8583,[1]export_1465921594229!$D8584:$G17844,4,FALSE)","v":"FZ5-125321"},"FZ5"]
[null,"Trahan Marcel",{"$f":"VLOOKUP(B8584,[1]export_1465921594229!$D8585:$G17845,4,FALSE)","v":"DYL-660516"},"DYL"]
[null,"Trahan Michel",{"$f":"VLOOKUP(B8585,[1]export_1465921594229!$D8586:$G17846,4,FALSE)","v":"CW9-660678"},"CW9"]
[null,"Trainor Ryan John A",{"$f":"VLOOKUP(B8586,[1]export_1465921594229!$D8587:$G17847,4,FALSE)","v":"NS7-117242"},"NS7"]
[null,"Tran Chau Phung Annie",{"$f":"VLOOKUP(B8587,[1]export_1465921594229!$D8588:$G17848,4,FALSE)","v":"C3O-124546"},"C3O"]
[null,"Tran Chau Phung Annie",{"$f":"VLOOKUP(B8588,[1]export_1465921594229!$D8589:$G17849,4,FALSE)","v":"GI0-118884"},"GI0"]
[null,"Tran Cindy",{"$f":"VLOOKUP(B8589,[1]export_1465921594229!$D8590:$G17850,4,FALSE)","v":"FG7-116014"},"FG7"]
[null,"Tran Linh",{"$f":"VLOOKUP(B8590,[1]export_1465921594229!$D8591:$G17851,4,FALSE)","v":"GH3-116090"},"GH3"]
[null,"Tran Thai Thien-Van",{"$f":"VLOOKUP(B8591,[1]export_1465921594229!$D8592:$G17852,4,FALSE)","v":"D31-121573"},"D31"]
[null,"Tranquille Johanne",{"$f":"VLOOKUP(B8592,[1]export_1465921594229!$D8593:$G17853,4,FALSE)","v":"U67-117945"},"U67"]
[null,"Traunero Mark",{"$f":"VLOOKUP(B8593,[1]export_1465921594229!$D8594:$G17854,4,FALSE)","v":"BU7-115805"},"BU7"]
[null,"Traverso Silvana",{"$f":"VLOOKUP(B8594,[1]export_1465921594229!$D8595:$G17855,4,FALSE)","v":"CC0-121733"},"CC0"]
[null,"Treacy Ted",{"$f":"VLOOKUP(B8595,[1]export_1465921594229!$D8596:$G17856,4,FALSE)","v":"BH4-121849"},"BH4"]
[null,"Treacy Ted",{"$f":"VLOOKUP(B8596,[1]export_1465921594229!$D8597:$G17857,4,FALSE)","v":"BH3-121848"},"BH3"]
[null,"Trejo Otniel J",{"$f":"VLOOKUP(B8597,[1]export_1465921594229!$D8598:$G17858,4,FALSE)","v":"KP6-116744"},"KP6"]
[null,"Tremblay Andre",{"$f":"VLOOKUP(B8598,[1]export_1465921594229!$D8599:$G17859,4,FALSE)","v":"O78-120751"},"O78"]
[null,"Tremblay Andre",{"$f":"VLOOKUP(B8599,[1]export_1465921594229!$D8600:$G17860,4,FALSE)","v":"M02-120851"},"M02"]
[null,"Tremblay Andre",{"$f":"VLOOKUP(B8600,[1]export_1465921594229!$D8601:$G17861,4,FALSE)","v":"IP0-116394"},"IP0"]
[null,"Tremblay Andre-Michel",{"$f":"VLOOKUP(B8601,[1]export_1465921594229!$D8602:$G17862,4,FALSE)","v":{"$error":"#N/A"}},{"$error":"#N/A"}]
[null,"Tremblay Ann",{"$f":"VLOOKUP(B8602,[1]export_1465921594229!$D8603:$G17863,4,FALSE)","v":"A26-122109"},"A26"]
[null,"Tremblay Annick",{"$f":"VLOOKUP(B8603,[1]export_1465921594229!$D8604:$G17864,4,FALSE)","v":"PE0-600066"},"PE0"]
[null,"Tremblay Benoit",{"$f":"VLOOKUP(B8604,[1]export_1465921594229!$D8605:$G17865,4,FALSE)","v":"U59-120559"},"U59"]
[null,"Tremblay Benoit",{"$f":"VLOOKUP(B8605,[1]export_1465921594229!$D8606:$G17866,4,FALSE)","v":"LB2-116804"},"LB2"]
[null,"Tremblay Benoit",{"$f":"VLOOKUP(B8606,[1]export_1465921594229!$D8607:$G17867,4,FALSE)","v":"H99-121181"},"H99"]
[null,"Tremblay Bernard",{"$f":"VLOOKUP(B8607,[1]export_1465921594229!$D8608:$G17868,4,FALSE)","v":"DZ4-118459"},"DZ4"]
[null,"Tremblay Cassandra",{"$f":"VLOOKUP(B8608,[1]export_1465921594229!$D8609:$G17869,4,FALSE)","v":"DGM-124868"},"DGM"]
[null,"Tremblay Celine",{"$f":"VLOOKUP(B8609,[1]export_1465921594229!$D8610:$G17870,4,FALSE)","v":"082-120390"},"082"]
[null,"Tremblay Chantale",{"$f":"VLOOKUP(B8610,[1]export_1465921594229!$D8611:$G17871,4,FALSE)","v":"AH1-118120"},"AH1"]
[null,"Tremblay Danielle",{"$f":"VLOOKUP(B8611,[1]export_1465921594229!$D8612:$G17872,4,FALSE)","v":"694-122075"},"694"]
[null,"Tremblay Denis",{"$f":"VLOOKUP(B8612,[1]export_1465921594229!$D8613:$G17873,4,FALSE)","v":"286-122326"},"286"]
[null,"Tremblay Denis",{"$f":"VLOOKUP(B8613,[1]export_1465921594229!$D8614:$G17874,4,FALSE)","v":"175-115636"},"175"]
[null,"Tremblay Diane",{"$f":"VLOOKUP(B8614,[1]export_1465921594229!$D8615:$G17875,4,FALSE)","v":"CI7-118309"},"CI7"]
[null,"Tremblay Dick",{"$f":"VLOOKUP(B8615,[1]export_1465921594229!$D8616:$G17876,4,FALSE)","v":"426-122301"},"426"]
[null,"Tremblay Donald",{"$f":"VLOOKUP(B8616,[1]export_1465921594229!$D8617:$G17877,4,FALSE)","v":"C51-120245"},"C51"]
[null,"Tremblay Doris",{"$f":"VLOOKUP(B8617,[1]export_1465921594229!$D8618:$G17878,4,FALSE)","v":"DT6-660115"},"DT6"]
[null,"Tremblay Fanny",{"$f":"VLOOKUP(B8618,[1]export_1465921594229!$D8619:$G17879,4,FALSE)","v":"AJ4-121935"},"AJ4"]
[null,"Tremblay Fanny",{"$f":"VLOOKUP(B8619,[1]export_1465921594229!$D8620:$G17880,4,FALSE)","v":"GR2-116112"},"GR2"]
[null,"Tremblay François",{"$f":"VLOOKUP(B8620,[1]export_1465921594229!$D8621:$G17881,4,FALSE)","v":"CAW-123838"},"CAW"]
[null,"Tremblay Frank",{"$f":"VLOOKUP(B8621,[1]export_1465921594229!$D8622:$G17882,4,FALSE)","v":"CU6-660712"},"CU6"]
[null,"Tremblay Frederic",{"$f":"VLOOKUP(B8622,[1]export_1465921594229!$D8623:$G17883,4,FALSE)","v":"R62-120104"},"R62"]
[null,"Tremblay Frederick",{"$f":"VLOOKUP(B8623,[1]export_1465921594229!$D8624:$G17884,4,FALSE)","v":"HH0-660512"},"HH0"]
[null,"Tremblay Gaetan",{"$f":"VLOOKUP(B8624,[1]export_1465921594229!$D8625:$G17885,4,FALSE)","v":"G15-118819"},"G15"]
[null,"Tremblay Gervais",{"$f":"VLOOKUP(B8625,[1]export_1465921594229!$D8626:$G17886,4,FALSE)","v":"BRL-660369"},"BRL"]
[null,"Tremblay Gilbert",{"$f":"VLOOKUP(B8626,[1]export_1465921594229!$D8627:$G17887,4,FALSE)","v":"L21-121033"},"L21"]
[null,"Tremblay Hughes",{"$f":"VLOOKUP(B8627,[1]export_1465921594229!$D8628:$G17888,4,FALSE)","v":"DA2-660373"},"DA2"]
[null,"Tremblay Hugo",{"$f":"VLOOKUP(B8628,[1]export_1465921594229!$D8629:$G17889,4,FALSE)","v":"BJ2-121856"},"BJ2"]
[null,"Tremblay Jacques",{"$f":"VLOOKUP(B8629,[1]export_1465921594229!$D8630:$G17890,4,FALSE)","v":"R87-660492"},"R87"]
[null,"Tremblay Jean-Claude",{"$f":"VLOOKUP(B8630,[1]export_1465921594229!$D8631:$G17891,4,FALSE)","v":"C44-121687"},"C44"]
[null,"Tremblay Jean-Francois",{"$f":"VLOOKUP(B8631,[1]export_1465921594229!$D8632:$G17892,4,FALSE)","v":"V88-550119"},"V88"]
[null,"Tremblay Jean-Francois",{"$f":"VLOOKUP(B8632,[1]export_1465921594229!$D8633:$G17893,4,FALSE)","v":"J73-119174"},"J73"]
[null,"Tremblay Jean-Guy",{"$f":"VLOOKUP(B8633,[1]export_1465921594229!$D8634:$G17894,4,FALSE)","v":"L56-120919"},"L56"]
[null,"Tremblay Jean-Guy",{"$f":"VLOOKUP(B8634,[1]export_1465921594229!$D8635:$G17895,4,FALSE)","v":"J85-116455"},"J85"]
[null,"Tremblay Jean-Marc",{"$f":"VLOOKUP(B8635,[1]export_1465921594229!$D8636:$G17896,4,FALSE)","v":"492-122201"},"492"]
[null,"Tremblay Jean-Pierre",{"$f":"VLOOKUP(B8636,[1]export_1465921594229!$D8637:$G17897,4,FALSE)","v":"458-122315"},"458"]
[null,"Tremblay Jean-Pierre",{"$f":"VLOOKUP(B8637,[1]export_1465921594229!$D8638:$G17898,4,FALSE)","v":"738-115661"},"738"]
[null,"Tremblay Jean-Pierre",{"$f":"VLOOKUP(B8638,[1]export_1465921594229!$D8639:$G17899,4,FALSE)","v":"712-115644"},"712"]
[null,"Tremblay Jean-Pierre",{"$f":"VLOOKUP(B8639,[1]export_1465921594229!$D8640:$G17900,4,FALSE)","v":"052-115689"},"052"]
[null,"Tremblay Jean-Pierre",{"$f":"VLOOKUP(B8640,[1]export_1465921594229!$D8641:$G17901,4,FALSE)","v":"658-122176"},"658"]
[null,"Tremblay Kevin",{"$f":"VLOOKUP(B8641,[1]export_1465921594229!$D8642:$G17902,4,FALSE)","v":"BB4-121823"},"BB4"]
[null,"Tremblay Lorraine",{"$f":"VLOOKUP(B8642,[1]export_1465921594229!$D8643:$G17903,4,FALSE)","v":"HT9-660606"},{"$f":"LEFT(C8642,3)","v":"HT9"}]
[null,"Tremblay Louise",{"$f":"VLOOKUP(B8643,[1]export_1465921594229!$D8644:$G17904,4,FALSE)","v":"313-122343"},"313"]
[null,"Tremblay Louis-Philippe",{"$f":"VLOOKUP(B8644,[1]export_1465921594229!$D8645:$G17905,4,FALSE)","v":"MT6-660548"},"MT6"]
[null,"Tremblay Manon",{"$f":"VLOOKUP(B8645,[1]export_1465921594229!$D8646:$G17906,4,FALSE)","v":"C0Z-570198"},"C0Z"]
[null,"Tremblay Marc",{"$f":"VLOOKUP(B8646,[1]export_1465921594229!$D8647:$G17907,4,FALSE)","v":"HR9-119064"},"HR9"]
[null,"Tremblay Marc",{"$f":"VLOOKUP(B8647,[1]export_1465921594229!$D8648:$G17908,4,FALSE)","v":"HF1-121188"},"HF1"]
[null,"Tremblay Marc-Andre",{"$f":"VLOOKUP(B8648,[1]export_1465921594229!$D8649:$G17909,4,FALSE)","v":{"$error":"#N/A"}},{"$error":"#N/A"}]
[null,"Tremblay Marc-Eric",{"$f":"VLOOKUP(B8649,[1]export_1465921594229!$D8650:$G17910,4,FALSE)","v":"P07-117441"},"P07"]
[null,"Tremblay Marie-Eve",{"$f":"VLOOKUP(B8650,[1]export_1465921594229!$D8651:$G17911,4,FALSE)","v":"Q47-119696"},"Q47"]
[null,"Tremblay Marie-Josee",{"$f":"VLOOKUP(B8651,[1]export_1465921594229!$D8652:$G17912,4,FALSE)","v":{"$error":"#N/A"}},{"$error":"#N/A"}]
[null,"Tremblay Martine",{"$f":"VLOOKUP(B8652,[1]export_1465921594229!$D8653:$G17913,4,FALSE)","v":"213-122408"},"213"]
[null,"Tremblay Melanie",{"$f":"VLOOKUP(B8653,[1]export_1465921594229!$D8654:$G17914,4,FALSE)","v":"H03-121277"},"H03"]
[null,"Tremblay Michel",{"$f":"VLOOKUP(B8654,[1]export_1465921594229!$D8655:$G17915,4,FALSE)","v":"656-122174"},"656"]
[null,"Tremblay Nancy",{"$f":"VLOOKUP(B8655,[1]export_1465921594229!$D8656:$G17916,4,FALSE)","v":"W77-117984"},"W77"]
[null,"Tremblay Robert",{"$f":"VLOOKUP(B8656,[1]export_1465921594229!$D8657:$G17917,4,FALSE)","v":"B97-121816"},"B97"]
[null,"Tremblay Ronald",{"$f":"VLOOKUP(B8657,[1]export_1465921594229!$D8658:$G17918,4,FALSE)","v":"V46-119962"},"V46"]
[null,"Tremblay Samuel",{"$f":"VLOOKUP(B8658,[1]export_1465921594229!$D8659:$G17919,4,FALSE)","v":"BZT-123565"},"BZT"]
[null,"Tremblay Sandy",{"$f":"VLOOKUP(B8659,[1]export_1465921594229!$D8660:$G17920,4,FALSE)","v":"KN9-121013"},"KN9"]
[null,"Tremblay Sebastien",{"$f":"VLOOKUP(B8660,[1]export_1465921594229!$D8661:$G17921,4,FALSE)","v":"L22-116794"},"L22"]
[null,"Tremblay Suzanne",{"$f":"VLOOKUP(B8661,[1]export_1465921594229!$D8662:$G17922,4,FALSE)","v":"387-122274"},"387"]
[null,"Tremblay Sylvain",{"$f":"VLOOKUP(B8662,[1]export_1465921594229!$D8663:$G17923,4,FALSE)","v":"AD6-118108"},"AD6"]
[null,"Tremblay Sylvie",{"$f":"VLOOKUP(B8663,[1]export_1465921594229!$D8664:$G17924,4,FALSE)","v":"681-122066"},"681"]
[null,"Tremblay Yannick",{"$f":"VLOOKUP(B8664,[1]export_1465921594229!$D8665:$G17925,4,FALSE)","v":"DXP-125299"},"DXP"]
[null,"Tremblay Yannick",{"$f":"VLOOKUP(B8665,[1]export_1465921594229!$D8666:$G17926,4,FALSE)","v":"DPO-125096"},"DPO"]
[null,"Trempe Alain",{"$f":"VLOOKUP(B8666,[1]export_1465921594229!$D8667:$G17927,4,FALSE)","v":"AQ3-121957"},"AQ3"]
[null,"Trepanier Carmelle",{"$f":"VLOOKUP(B8667,[1]export_1465921594229!$D8668:$G17928,4,FALSE)","v":"CE0-660623"},"CE0"]
[null,"Trepanier Dominic",{"$f":"VLOOKUP(B8668,[1]export_1465921594229!$D8669:$G17929,4,FALSE)","v":"CF0-118290"},"CF0"]
[null,"Trepanier Eric",{"$f":"VLOOKUP(B8669,[1]export_1465921594229!$D8670:$G17930,4,FALSE)","v":"QP4-117749"},"QP4"]
[null,"Trepanier Luce",{"$f":"VLOOKUP(B8670,[1]export_1465921594229!$D8671:$G17931,4,FALSE)","v":"QI1-117697"},"QI1"]
[null,"Trepanier Isabelle",{"$f":"VLOOKUP(B8671,[1]export_1465921594229!$D8672:$G17932,4,FALSE)","v":{"$error":"#N/A"}},{"$error":"#N/A"}]
[null,"Triffon Amiel",{"$f":"VLOOKUP(B8672,[1]export_1465921594229!$D8673:$G17933,4,FALSE)","v":"KP3-119260"},"KP3"]
[null,"Trigiani Giovanni",{"$f":"VLOOKUP(B8673,[1]export_1465921594229!$D8674:$G17934,4,FALSE)","v":"DUH-125213"},"DUH"]
[null,"Trinidad Gilbert",{"$f":"VLOOKUP(B8674,[1]export_1465921594229!$D8675:$G17935,4,FALSE)","v":"DSC-125160"},"DSC"]
[null,"Tronchin Andrew",{"$f":"VLOOKUP(B8675,[1]export_1465921594229!$D8676:$G17936,4,FALSE)","v":"DA1-121489"},"DA1"]
[null,"Trottier Marc-Andre",{"$f":"VLOOKUP(B8676,[1]export_1465921594229!$D8677:$G17937,4,FALSE)","v":"H69-660120"},"H69"]
[null,"Trottier Raymond",{"$f":"VLOOKUP(B8677,[1]export_1465921594229!$D8678:$G17938,4,FALSE)","v":"AU3-121981"},"AU3"]
[null,"Trottier Suzanne",{"$f":"VLOOKUP(B8678,[1]export_1465921594229!$D8679:$G17939,4,FALSE)","v":"I83-121111"},"I83"]
[null,"Trudeau Serge",{"$f":"VLOOKUP(B8679,[1]export_1465921594229!$D8680:$G17940,4,FALSE)","v":"643-122164"},"643"]
[null,"Trudeau Elliott David",{"$f":"VLOOKUP(B8680,[1]export_1465921594229!$D8681:$G17941,4,FALSE)","v":"DCX-124777"},"DCX"]
[null,"Trudel Jacques",{"$f":"VLOOKUP(B8681,[1]export_1465921594229!$D8682:$G17942,4,FALSE)","v":"K64-116637"},"K64"]
[null,"Trudel Mario",{"$f":"VLOOKUP(B8682,[1]export_1465921594229!$D8683:$G17943,4,FALSE)","v":"533-122223"},"533"]
[null,"Trudel Martine",{"$f":"VLOOKUP(B8683,[1]export_1465921594229!$D8684:$G17944,4,FALSE)","v":"X24-120027"},"X24"]
[null,"Trudel Sebastien",{"$f":"VLOOKUP(B8684,[1]export_1465921594229!$D8685:$G17945,4,FALSE)","v":"504-122205"},"504"]
[null,"Trudel Sebastien",{"$f":"VLOOKUP(B8685,[1]export_1465921594229!$D8686:$G17946,4,FALSE)","v":"DD4-115880"},"DD4"]
[null,"Truong Alan",{"$f":"VLOOKUP(B8686,[1]export_1465921594229!$D8687:$G17947,4,FALSE)","v":"GH4-118879"},"GH4"]
[null,"Tsafaras Pat",{"$f":"VLOOKUP(B8687,[1]export_1465921594229!$D8688:$G17948,4,FALSE)","v":"CII-124024"},"CII"]
[null,"Tsakiris Panagiotis",{"$f":"VLOOKUP(B8688,[1]export_1465921594229!$D8689:$G17949,4,FALSE)","v":"B1M-660462"},"B1M"]
[null,"Tsang Daphne",{"$f":"VLOOKUP(B8689,[1]export_1465921594229!$D8690:$G17950,4,FALSE)","v":"B9C-123792"},"B9C"]
[null,"Tsang Kelly",{"$f":"VLOOKUP(B8690,[1]export_1465921594229!$D8691:$G17951,4,FALSE)","v":"BAP-123100"},"BAP"]
[null,"Tsang Ronald",{"$f":"VLOOKUP(B8691,[1]export_1465921594229!$D8692:$G17952,4,FALSE)","v":"BAO-123099"},"BAO"]
[null,"Tse Steven",{"$f":"VLOOKUP(B8692,[1]export_1465921594229!$D8693:$G17953,4,FALSE)","v":"JG9-116500"},"JG9"]
[null,"Tsui Chun-Wai Kearny",{"$f":"VLOOKUP(B8693,[1]export_1465921594229!$D8694:$G17954,4,FALSE)","v":"W39-119994"},"W39"]
[null,"Tsui Wendy Shun Yee",{"$f":"VLOOKUP(B8694,[1]export_1465921594229!$D8695:$G17955,4,FALSE)","v":"DTO-125194"},"DTO"]
[null,"Tuck Bradley",{"$f":"VLOOKUP(B8695,[1]export_1465921594229!$D8696:$G17956,4,FALSE)","v":"OF7-120761"},"OF7"]
[null,"Tucker Giuseppina",{"$f":"VLOOKUP(B8696,[1]export_1465921594229!$D8697:$G17957,4,FALSE)","v":"DA4-501636"},"DA4"]
[null,"Tucker Richard",{"$f":"VLOOKUP(B8697,[1]export_1465921594229!$D8698:$G17958,4,FALSE)","v":"Q86-120704"},"Q86"]
[null,"Tull 83nvec Rudyard",{"$f":"VLOOKUP(B8698,[1]export_1465921594229!$D8699:$G17959,4,FALSE)","v":"LM0-116874"},"LM0"]
[null,"Tullio Frank",{"$f":"VLOOKUP(B8699,[1]export_1465921594229!$D8700:$G17960,4,FALSE)","v":"AT3-121973"},"AT3"]
[null,"Tulloch Franklyn",{"$f":"VLOOKUP(B8700,[1]export_1465921594229!$D8701:$G17961,4,FALSE)","v":"A7B-550828"},"A7B"]
[null,"Turbide Linda",{"$f":"VLOOKUP(B8701,[1]export_1465921594229!$D8702:$G17962,4,FALSE)","v":"FO0-121308"},"FO0"]
[null,"Turbide Paul-Henri",{"$f":"VLOOKUP(B8702,[1]export_1465921594229!$D8703:$G17963,4,FALSE)","v":"Q73-120702"},"Q73"]
[null,"Turcotte Audrey",{"$f":"VLOOKUP(B8703,[1]export_1465921594229!$D8704:$G17964,4,FALSE)","v":"JX6-660126"},"JX6"]
[null,"Turcotte Audrey",{"$f":"VLOOKUP(B8704,[1]export_1465921594229!$D8705:$G17965,4,FALSE)","v":"MP2-119432"},"MP2"]
[null,"Turcotte Bernard",{"$f":"VLOOKUP(B8705,[1]export_1465921594229!$D8706:$G17966,4,FALSE)","v":"CMZ-124133"},"CMZ"]
[null,"Turcotte Chantal",{"$f":"VLOOKUP(B8706,[1]export_1465921594229!$D8707:$G17967,4,FALSE)","v":"FI8-120165"},{"$f":"LEFT(C8706,3)","v":"FI8"}]
[null,"Turcotte Jonathan",{"$f":"VLOOKUP(B8707,[1]export_1465921594229!$D8708:$G17968,4,FALSE)","v":"DX2-115924"},"DX2"]
[null,"Turcotte Melanie",{"$f":"VLOOKUP(B8708,[1]export_1465921594229!$D8709:$G17969,4,FALSE)","v":"DWZ-660671"},"DWZ"]
[null,"Turcotte Melanie",{"$f":"VLOOKUP(B8709,[1]export_1465921594229!$D8710:$G17970,4,FALSE)","v":"Z66-125283"},"Z66"]
[null,"Turcotte Michel",{"$f":"VLOOKUP(B8710,[1]export_1465921594229!$D8711:$G17971,4,FALSE)","v":"Z19-118018"},"Z19"]
[null,"Turcotte Michel",{"$f":"VLOOKUP(B8711,[1]export_1465921594229!$D8712:$G17972,4,FALSE)","v":"C7K-600104"},"C7K"]
[null,"Turcotte Nathalie",{"$f":"VLOOKUP(B8712,[1]export_1465921594229!$D8713:$G17973,4,FALSE)","v":"CMO-124123"},"CMO"]
[null,"Turcotte Patricia",{"$f":"VLOOKUP(B8713,[1]export_1465921594229!$D8714:$G17974,4,FALSE)","v":"LE3-115687"},"LE3"]
[null,"Turcotte Patricia",{"$f":"VLOOKUP(B8714,[1]export_1465921594229!$D8715:$G17975,4,FALSE)","v":"B7D-123745"},"B7D"]
[null,"Turcotte Patricia",{"$f":"VLOOKUP(B8715,[1]export_1465921594229!$D8716:$G17976,4,FALSE)","v":"MI7-120889"},"MI7"]
[null,"Turcotte Marchand Pierre",{"$f":"VLOOKUP(B8716,[1]export_1465921594229!$D8717:$G17977,4,FALSE)","v":"F08-121391"},"F08"]
[null,"Turgeon Jean-François",{"$f":"VLOOKUP(B8717,[1]export_1465921594229!$D8718:$G17978,4,FALSE)","v":"D90-121612"},"D90"]
[null,"Turgeon Jeannot",{"$f":"VLOOKUP(B8718,[1]export_1465921594229!$D8719:$G17979,4,FALSE)","v":"F37-115988"},"F37"]
[null,"Turgeon Lise",{"$f":"VLOOKUP(B8719,[1]export_1465921594229!$D8720:$G17980,4,FALSE)","v":"A73-122012"},"A73"]
[null,"Turgeon Rejean",{"$f":"VLOOKUP(B8720,[1]export_1465921594229!$D8721:$G17981,4,FALSE)","v":"DG0-121505"},"DG0"]
[null,"Turgeon Sara",{"$f":"VLOOKUP(B8721,[1]export_1465921594229!$D8722:$G17982,4,FALSE)","v":"A9G-123073"},"A9G"]
[null,"Turgeon William",{"$f":"VLOOKUP(B8722,[1]export_1465921594229!$D8723:$G17983,4,FALSE)","v":"G11-120168"},"G11"]
[null,"Turmel Judith",{"$f":"VLOOKUP(B8723,[1]export_1465921594229!$D8724:$G17984,4,FALSE)","v":"QX4-117818"},"QX4"]
[null,"Turner Monte",{"$f":"VLOOKUP(B8724,[1]export_1465921594229!$D8725:$G17985,4,FALSE)","v":"DYR-125327"},"DYR"]
[null,"Turner Yvan",{"$f":"VLOOKUP(B8725,[1]export_1465921594229!$D8726:$G17986,4,FALSE)","v":"U60-119934"},"U60"]
[null,"Turosky Robert",{"$f":"VLOOKUP(B8726,[1]export_1465921594229!$D8727:$G17987,4,FALSE)","v":"CO4-121638"},"CO4"]
[null,"Turpin Stephane",{"$f":"VLOOKUP(B8727,[1]export_1465921594229!$D8728:$G17988,4,FALSE)","v":"LV0-660145"},"LV0"]
[null,"Tward O/A Tridelta Insura Josh",{"$f":"VLOOKUP(B8728,[1]export_1465921594229!$D8729:$G17989,4,FALSE)","v":"LH0-116847"},"LH0"]
[null,"Tynes Tyler",{"$f":"VLOOKUP(B8729,[1]export_1465921594229!$D8730:$G17990,4,FALSE)","v":"EH3-118557"},"EH3"]
[null,"Uddin MD Moyeen",{"$f":"VLOOKUP(B8730,[1]export_1465921594229!$D8731:$G17991,4,FALSE)","v":"BQF-401233"},"BQF"]
[null,"Uddin MD Moyeen",{"$f":"VLOOKUP(B8731,[1]export_1465921594229!$D8732:$G17992,4,FALSE)","v":"BQG-301233"},"BQG"]
[null,"Uddin MD Moyeen",{"$f":"VLOOKUP(B8732,[1]export_1465921594229!$D8733:$G17993,4,FALSE)","v":"BQH-501233"},"BQH"]
[null,"Upshaw Corinna",{"$f":"VLOOKUP(B8733,[1]export_1465921594229!$D8734:$G17994,4,FALSE)","v":"QX9-117821"},"QX9"]
[null,"Upshaw Hilary",{"$f":"VLOOKUP(B8734,[1]export_1465921594229!$D8735:$G17995,4,FALSE)","v":"MI5-117025"},"MI5"]
[null,"Upshaw Kenneth",{"$f":"VLOOKUP(B8735,[1]export_1465921594229!$D8736:$G17996,4,FALSE)","v":"QR6-117767"},"QR6"]
[null,"Uram David",{"$f":"VLOOKUP(B8736,[1]export_1465921594229!$D8737:$G17997,4,FALSE)","v":"DR3-121544"},"DR3"]
[null,"Usana Joel",{"$f":"VLOOKUP(B8737,[1]export_1465921594229!$D8738:$G17998,4,FALSE)","v":"HK8-116216"},"HK8"]
[null,"Uson Benoit",{"$f":"VLOOKUP(B8738,[1]export_1465921594229!$D8739:$G17999,4,FALSE)","v":"C53-120118"},"C53"]
[null,"Uwamaliya Christine",{"$f":"VLOOKUP(B8739,[1]export_1465921594229!$D8740:$G18000,4,FALSE)","v":"GV3-116126"},"GV3"]
[null,"Vachon Claude",{"$f":"VLOOKUP(B8740,[1]export_1465921594229!$D8741:$G18001,4,FALSE)","v":"MN2-117060"},"MN2"]
[null,"Vachon Denis",{"$f":"VLOOKUP(B8741,[1]export_1465921594229!$D8742:$G18002,4,FALSE)","v":"J95-660043"},"J95"]
[null,"Vachon Derek",{"$f":"VLOOKUP(B8742,[1]export_1465921594229!$D8743:$G18003,4,FALSE)","v":"C2X-124530"},"C2X"]
[null,"Vachon Gervais",{"$f":"VLOOKUP(B8743,[1]export_1465921594229!$D8744:$G18004,4,FALSE)","v":"BDW-660232"},"BDW"]
[null,"Vachon Lucille",{"$f":"VLOOKUP(B8744,[1]export_1465921594229!$D8745:$G18005,4,FALSE)","v":"DE0-118384"},"DE0"]
[null,"Vachon Lynda",{"$f":"VLOOKUP(B8745,[1]export_1465921594229!$D8746:$G18006,4,FALSE)","v":"G83-118841"},"G83"]
[null,"Vachon Manon",{"$f":"VLOOKUP(B8746,[1]export_1465921594229!$D8747:$G18007,4,FALSE)","v":"P54-120661"},"P54"]
[null,"Vachon Michel",{"$f":"VLOOKUP(B8747,[1]export_1465921594229!$D8748:$G18008,4,FALSE)","v":"CH5-115836"},"CH5"]
[null,"Vachon Sebastien",{"$f":"VLOOKUP(B8748,[1]export_1465921594229!$D8749:$G18009,4,FALSE)","v":"R74-120606"},"R74"]
[null,"Vachon Sylvie",{"$f":"VLOOKUP(B8749,[1]export_1465921594229!$D8750:$G18010,4,FALSE)","v":"H89-120173"},"H89"]
[null,"Vachon Sylvie",{"$f":"VLOOKUP(B8750,[1]export_1465921594229!$D8751:$G18011,4,FALSE)","v":"BXX-123521"},"BXX"]
[null,"Vachon Sylvie",{"$f":"VLOOKUP(B8751,[1]export_1465921594229!$D8752:$G18012,4,FALSE)","v":"E15-118473"},"E15"]
[null,"Vadeboncoeur Francois",{"$f":"VLOOKUP(B8752,[1]export_1465921594229!$D8753:$G18013,4,FALSE)","v":"H73-121175"},"H73"]
[null,"Vadnais Michel",{"$f":"VLOOKUP(B8753,[1]export_1465921594229!$D8754:$G18014,4,FALSE)","v":"P08-120770"},"P08"]
[null,"Vafaei Fariba",{"$f":"VLOOKUP(B8754,[1]export_1465921594229!$D8755:$G18015,4,FALSE)","v":"BWX-550890"},"BWX"]
[null,"Vaillancourt Denise",{"$f":"VLOOKUP(B8755,[1]export_1465921594229!$D8756:$G18016,4,FALSE)","v":"481-115706"},"481"]
[null,"Vaillancourt Henri",{"$f":"VLOOKUP(B8756,[1]export_1465921594229!$D8757:$G18017,4,FALSE)","v":"T49-119892"},"T49"]
[null,"Vaillancourt Jacques",{"$f":"VLOOKUP(B8757,[1]export_1465921594229!$D8758:$G18018,4,FALSE)","v":"M03-120852"},"M03"]
[null,"Vaillancourt Jacques",{"$f":"VLOOKUP(B8758,[1]export_1465921594229!$D8759:$G18019,4,FALSE)","v":"K51-121094"},"K51"]
[null,"Vaillancourt Jason",{"$f":"VLOOKUP(B8759,[1]export_1465921594229!$D8760:$G18020,4,FALSE)","v":"CQH-124215"},"CQH"]
[null,"Vaillancourt Leo",{"$f":"VLOOKUP(B8760,[1]export_1465921594229!$D8761:$G18021,4,FALSE)","v":"BP1-115794"},"BP1"]
[null,"Vaillancourt Louise",{"$f":"VLOOKUP(B8761,[1]export_1465921594229!$D8762:$G18022,4,FALSE)","v":"505-122206"},"505"]
[null,"Vaillancourt Marcel",{"$f":"VLOOKUP(B8762,[1]export_1465921594229!$D8763:$G18023,4,FALSE)","v":"H84-118990"},"H84"]
[null,"Vaillancourt Pierre-Mathieu",{"$f":"VLOOKUP(B8763,[1]export_1465921594229!$D8764:$G18024,4,FALSE)","v":"E64-121444"},"E64"]
[null,"Vaillant Jean-Georges",{"$f":"VLOOKUP(B8764,[1]export_1465921594229!$D8765:$G18025,4,FALSE)","v":"BU2-115804"},"BU2"]
[null,"vaillant Tamar",{"$f":"VLOOKUP(B8765,[1]export_1465921594229!$D8766:$G18026,4,FALSE)","v":"CXO-124395"},"CXO"]
[null,"Vaithilingam Gunaratnam",{"$f":"VLOOKUP(B8766,[1]export_1465921594229!$D8767:$G18027,4,FALSE)","v":"DRI-125141"},"DRI"]
[null,"Vakharia Dhaval",{"$f":"VLOOKUP(B8767,[1]export_1465921594229!$D8768:$G18028,4,FALSE)","v":"QQ5-117758"},"QQ5"]
[null,"Vakharia Vishranti",{"$f":"VLOOKUP(B8768,[1]export_1465921594229!$D8769:$G18029,4,FALSE)","v":"MC9-116990"},"MC9"]
[null,"Valade Claude",{"$f":"VLOOKUP(B8769,[1]export_1465921594229!$D8770:$G18030,4,FALSE)","v":"182-120414"},"182"]
[null,"Valardo (Atlantic Wealth) Chris",{"$f":"VLOOKUP(B8770,[1]export_1465921594229!$D8771:$G18031,4,FALSE)","v":"C1O-124495"},{"$f":"LEFT(C8770,3)","v":"C1O"}]
[null,"Valdez Gloria",{"$f":"VLOOKUP(B8771,[1]export_1465921594229!$D8772:$G18032,4,FALSE)","v":"GK9-121259"},"GK9"]
[null,"Valdez Jonathan",{"$f":"VLOOKUP(B8772,[1]export_1465921594229!$D8773:$G18033,4,FALSE)","v":"CFC-123942"},"CFC"]
[null,"Valentino Joseph",{"$f":"VLOOKUP(B8773,[1]export_1465921594229!$D8774:$G18034,4,FALSE)","v":"AQ8-121962"},"AQ8"]
[null,"Valentino Joseph",{"$f":"VLOOKUP(B8774,[1]export_1465921594229!$D8775:$G18035,4,FALSE)","v":"AQ7-121961"},"AQ7"]
[null,"Valenzuela Librada",{"$f":"VLOOKUP(B8775,[1]export_1465921594229!$D8776:$G18036,4,FALSE)","v":"FF2-118708"},"FF2"]
[null,"Valerio Antonia",{"$f":"VLOOKUP(B8776,[1]export_1465921594229!$D8777:$G18037,4,FALSE)","v":"RC9-117875"},"RC9"]
[null,"Valledor Teresita",{"$f":"VLOOKUP(B8777,[1]export_1465921594229!$D8778:$G18038,4,FALSE)","v":"D4A-125458"},"D4A"]
[null,"Vallee Bernard",{"$f":"VLOOKUP(B8778,[1]export_1465921594229!$D8779:$G18039,4,FALSE)","v":"CH4-118302"},"CH4"]
[null,"Vallee Cleo",{"$f":"VLOOKUP(B8779,[1]export_1465921594229!$D8780:$G18040,4,FALSE)","v":"P19-550085"},"P19"]
[null,"Vallee Jean",{"$f":"VLOOKUP(B8780,[1]export_1465921594229!$D8781:$G18041,4,FALSE)","v":"M04-120853"},"M04"]
[null,"Vallee Laurent",{"$f":"VLOOKUP(B8781,[1]export_1465921594229!$D8782:$G18042,4,FALSE)","v":"DN3-600001"},"DN3"]
[null,"Vallee Luc",{"$f":"VLOOKUP(B8782,[1]export_1465921594229!$D8783:$G18043,4,FALSE)","v":"BT7-121757"},"BT7"]
[null,"Vallee Marilyn",{"$f":"VLOOKUP(B8783,[1]export_1465921594229!$D8784:$G18044,4,FALSE)","v":"KE3-660517"},"KE3"]
[null,"Vallee eric",{"$f":"VLOOKUP(B8784,[1]export_1465921594229!$D8785:$G18045,4,FALSE)","v":{"$error":"#N/A"}},{"$error":"#N/A"}]
[null,"Vallier Nicolas",{"$f":"VLOOKUP(B8785,[1]export_1465921594229!$D8786:$G18046,4,FALSE)","v":"D69-121600"},"D69"]
[null,"Vallier Nicolas",{"$f":"VLOOKUP(B8786,[1]export_1465921594229!$D8787:$G18047,4,FALSE)","v":"BB8-115766"},"BB8"]
[null,"Vallieres Alain",{"$f":"VLOOKUP(B8787,[1]export_1465921594229!$D8788:$G18048,4,FALSE)","v":"D80-118367"},"D80"]
[null,"Vallieres Julie",{"$f":"VLOOKUP(B8788,[1]export_1465921594229!$D8789:$G18049,4,FALSE)","v":"HN7-116232"},"HN7"]
[null,"Vallieres Luc",{"$f":"VLOOKUP(B8789,[1]export_1465921594229!$D8790:$G18050,4,FALSE)","v":"EH5-118559"},"EH5"]
[null,"Vallieres Maxime",{"$f":"VLOOKUP(B8790,[1]export_1465921594229!$D8791:$G18051,4,FALSE)","v":"RD8-115575"},"RD8"]
[null,"Vallieres Maxime",{"$f":"VLOOKUP(B8791,[1]export_1465921594229!$D8792:$G18052,4,FALSE)","v":"BA5-115763"},"BA5"]
[null,"Vallieres Maxime",{"$f":"VLOOKUP(B8792,[1]export_1465921594229!$D8793:$G18053,4,FALSE)","v":"BZC-123548"},"BZC"]
[null,"Vallipuram Edward Jeyaseelan",{"$f":"VLOOKUP(B8793,[1]export_1465921594229!$D8794:$G18054,4,FALSE)","v":"BHU-550913"},"BHU"]
[null,"Valois Charles",{"$f":"VLOOKUP(B8794,[1]export_1465921594229!$D8795:$G18055,4,FALSE)","v":"BAB-660289"},"BAB"]
[null,"Valois Pierre",{"$f":"VLOOKUP(B8795,[1]export_1465921594229!$D8796:$G18056,4,FALSE)","v":"DGI-124865"},"DGI"]
[null,"Valverde Raul",{"$f":"VLOOKUP(B8796,[1]export_1465921594229!$D8797:$G18057,4,FALSE)","v":"ME2-116998"},"ME2"]
[null,"van der Hoek Sylvia",{"$f":"VLOOKUP(B8797,[1]export_1465921594229!$D8798:$G18058,4,FALSE)","v":"DEP-124820"},"DEP"]
[null,"van Middlekoop Tyler",{"$f":"VLOOKUP(B8798,[1]export_1465921594229!$D8799:$G18059,4,FALSE)","v":"BBX-550328"},"BBX"]
[null,"Van Parys Justin",{"$f":"VLOOKUP(B8799,[1]export_1465921594229!$D8800:$G18060,4,FALSE)","v":"EZ8-118639"},"EZ8"]
[null,"Van Tassel Ronelie",{"$f":"VLOOKUP(B8800,[1]export_1465921594229!$D8801:$G18061,4,FALSE)","v":"BNG-500445"},"BNG"]
[null,"Vancha Andrew",{"$f":"VLOOKUP(B8801,[1]export_1465921594229!$D8802:$G18062,4,FALSE)","v":"AD3-122041"},"AD3"]
[null,"Vandamme Christophe",{"$f":"VLOOKUP(B8802,[1]export_1465921594229!$D8803:$G18063,4,FALSE)","v":"P61-120100"},"P61"]
[null,"Vander Ende Joseph",{"$f":"VLOOKUP(B8803,[1]export_1465921594229!$D8804:$G18064,4,FALSE)","v":"LZ0-116941"},"LZ0"]
[null,"Vanhove Carla",{"$f":"VLOOKUP(B8804,[1]export_1465921594229!$D8805:$G18065,4,FALSE)","v":"DVC-125234"},"DVC"]
[null,"Vanier Jo-Anne Marie",{"$f":"VLOOKUP(B8805,[1]export_1465921594229!$D8806:$G18066,4,FALSE)","v":"427-122302"},"427"]
[null,"Vanniasinghe Dorothy",{"$f":"VLOOKUP(B8806,[1]export_1465921594229!$D8807:$G18067,4,FALSE)","v":"OW0-117418"},"OW0"]
[null,"Varatharajah Vaykunthan",{"$f":"VLOOKUP(B8807,[1]export_1465921594229!$D8808:$G18068,4,FALSE)","v":"PC6-117472"},"PC6"]
[null,"Varatharajan Jeyaseelan",{"$f":"VLOOKUP(B8808,[1]export_1465921594229!$D8809:$G18069,4,FALSE)","v":"NW2-117257"},"NW2"]
[null,"Varennes Bernard",{"$f":"VLOOKUP(B8809,[1]export_1465921594229!$D8810:$G18070,4,FALSE)","v":"Z31-120064"},"Z31"]
[null,"Varmani Manhar",{"$f":"VLOOKUP(B8810,[1]export_1465921594229!$D8811:$G18071,4,FALSE)","v":"A7L-550832"},"A7L"]
[null,"Vasdev Bhagwan",{"$f":"VLOOKUP(B8811,[1]export_1465921594229!$D8812:$G18072,4,FALSE)","v":"FD4-118696"},"FD4"]
[null,"Vasikaran Komaleswari",{"$f":"VLOOKUP(B8812,[1]export_1465921594229!$D8813:$G18073,4,FALSE)","v":"BZM-123558"},"BZM"]
[null,"Vasoyan Philippe",{"$f":"VLOOKUP(B8813,[1]export_1465921594229!$D8814:$G18074,4,FALSE)","v":"BZI-123554"},"BZI"]
[null,"Vasoyan Philippe",{"$f":"VLOOKUP(B8814,[1]export_1465921594229!$D8815:$G18075,4,FALSE)","v":"LC9-115572"},"LC9"]
[null,"Vasoyan Philippe",{"$f":"VLOOKUP(B8815,[1]export_1465921594229!$D8816:$G18076,4,FALSE)","v":"V48-120584"},"V48"]
[null,"Vasquez Walkira",{"$f":"VLOOKUP(B8816,[1]export_1465921594229!$D8817:$G18077,4,FALSE)","v":"OO4-117364"},"OO4"]
[null,"Vasquez Walkira",{"$f":"VLOOKUP(B8817,[1]export_1465921594229!$D8818:$G18078,4,FALSE)","v":"OO5-119590"},"OO5"]
[null,"Vasudeva Anieshia",{"$f":"VLOOKUP(B8818,[1]export_1465921594229!$D8819:$G18079,4,FALSE)","v":"DDI-124787"},"DDI"]
[null,"Vasuthevan Senthuran",{"$f":"VLOOKUP(B8819,[1]export_1465921594229!$D8820:$G18080,4,FALSE)","v":"A5T-122587"},"A5T"]
[null,"Vattavayalil Antoney",{"$f":"VLOOKUP(B8820,[1]export_1465921594229!$D8821:$G18081,4,FALSE)","v":"FL2-118740"},"FL2"]
[null,"Vaughan Kevin",{"$f":"VLOOKUP(B8821,[1]export_1465921594229!$D8822:$G18082,4,FALSE)","v":"CDC-123895"},"CDC"]
[null,"Vavrik Gerald",{"$f":"VLOOKUP(B8822,[1]export_1465921594229!$D8823:$G18083,4,FALSE)","v":"B9S-123808"},"B9S"]
[null,"Vaz Praxedes",{"$f":"VLOOKUP(B8823,[1]export_1465921594229!$D8824:$G18084,4,FALSE)","v":"OE8-117309"},"OE8"]
[null,"Vedo Nenad",{"$f":"VLOOKUP(B8824,[1]export_1465921594229!$D8825:$G18085,4,FALSE)","v":"FO4-118759"},"FO4"]
[null,"Veillette Aline",{"$f":"VLOOKUP(B8825,[1]export_1465921594229!$D8826:$G18086,4,FALSE)","v":"T25-119886"},"T25"]
[null,"Veillette Chantal",{"$f":"VLOOKUP(B8826,[1]export_1465921594229!$D8827:$G18087,4,FALSE)","v":"731-115655"},"731"]
[null,"Veillette Denis",{"$f":"VLOOKUP(B8827,[1]export_1465921594229!$D8828:$G18088,4,FALSE)","v":"ED4-660064"},"ED4"]
[null,"Veillette Guy",{"$f":"VLOOKUP(B8828,[1]export_1465921594229!$D8829:$G18089,4,FALSE)","v":"696-122077"},"696"]
[null,"Veillette Marc",{"$f":"VLOOKUP(B8829,[1]export_1465921594229!$D8830:$G18090,4,FALSE)","v":"I92-119117"},"I92"]
[null,"Veillette Mario",{"$f":"VLOOKUP(B8830,[1]export_1465921594229!$D8831:$G18091,4,FALSE)","v":"W53-119999"},"W53"]
[null,"Veillette Pierre",{"$f":"VLOOKUP(B8831,[1]export_1465921594229!$D8832:$G18092,4,FALSE)","v":"070-120385"},"070"]
[null,"Veilleux Alain",{"$f":"VLOOKUP(B8832,[1]export_1465921594229!$D8833:$G18093,4,FALSE)","v":"M53-119385"},"M53"]
[null,"Veilleux Aline",{"$f":"VLOOKUP(B8833,[1]export_1465921594229!$D8834:$G18094,4,FALSE)","v":"CWM-124367"},"CWM"]
[null,"Veilleux Catherine",{"$f":"VLOOKUP(B8834,[1]export_1465921594229!$D8835:$G18095,4,FALSE)","v":"IO8-660144"},{"$f":"LEFT(C8834,3)","v":"IO8"}]
[null,"Veilleux Eric",{"$f":"VLOOKUP(B8835,[1]export_1465921594229!$D8836:$G18096,4,FALSE)","v":"U23-660690"},"U23"]
[null,"Veilleux France",{"$f":"VLOOKUP(B8836,[1]export_1465921594229!$D8837:$G18097,4,FALSE)","v":"V92-117963"},"V92"]
[null,"Veilleux Francois",{"$f":"VLOOKUP(B8837,[1]export_1465921594229!$D8838:$G18098,4,FALSE)","v":"A87-122021"},"A87"]
[null,"Veilleux François",{"$f":"VLOOKUP(B8838,[1]export_1465921594229!$D8839:$G18099,4,FALSE)","v":"BOE-660346"},"BOE"]
[null,"Veilleux Gaetan",{"$f":"VLOOKUP(B8839,[1]export_1465921594229!$D8840:$G18100,4,FALSE)","v":"X90-118011"},"X90"]
[null,"Veilleux Louis Gerard",{"$f":"VLOOKUP(B8840,[1]export_1465921594229!$D8841:$G18101,4,FALSE)","v":"M82-660092"},"M82"]
[null,"Veilleux Manon",{"$f":"VLOOKUP(B8841,[1]export_1465921594229!$D8842:$G18102,4,FALSE)","v":"X69-660422"},"X69"]
[null,"Veilleux Mario",{"$f":"VLOOKUP(B8842,[1]export_1465921594229!$D8843:$G18103,4,FALSE)","v":"R82-117850"},"R82"]
[null,"Veilleux Marise",{"$f":"VLOOKUP(B8843,[1]export_1465921594229!$D8844:$G18104,4,FALSE)","v":"E10-118468"},"E10"]
[null,"Veilleux Maurice",{"$f":"VLOOKUP(B8844,[1]export_1465921594229!$D8845:$G18105,4,FALSE)","v":"284-122324"},"284"]
[null,"Veilleux Mondy",{"$f":"VLOOKUP(B8845,[1]export_1465921594229!$D8846:$G18106,4,FALSE)","v":"NL3-119489"},"NL3"]
[null,"veilleux Pascal",{"$f":"VLOOKUP(B8846,[1]export_1465921594229!$D8847:$G18107,4,FALSE)","v":"CWU-124375"},"CWU"]
[null,"Veilleux Simon",{"$f":"VLOOKUP(B8847,[1]export_1465921594229!$D8848:$G18108,4,FALSE)","v":"BKB-660248"},"BKB"]
[null,"Velarde Maria Liza",{"$f":"VLOOKUP(B8848,[1]export_1465921594229!$D8849:$G18109,4,FALSE)","v":"QP8-117753"},"QP8"]
[null,"Velasquez Ricaurte",{"$f":"VLOOKUP(B8849,[1]export_1465921594229!$D8850:$G18110,4,FALSE)","v":"V94-120472"},"V94"]
[null,"Velautham Sivanatham",{"$f":"VLOOKUP(B8850,[1]export_1465921594229!$D8851:$G18111,4,FALSE)","v":"ML1-550720"},"ML1"]
[null,"Velayuthampillai Kannan",{"$f":"VLOOKUP(B8851,[1]export_1465921594229!$D8852:$G18112,4,FALSE)","v":"OL3-117352"},"OL3"]
[null,"Veliz Diaz Victor Manuel",{"$f":"VLOOKUP(B8852,[1]export_1465921594229!$D8853:$G18113,4,FALSE)","v":"HX7-116288"},"HX7"]
[null,"Venerayan Vilmar",{"$f":"VLOOKUP(B8853,[1]export_1465921594229!$D8854:$G18114,4,FALSE)","v":"HS1-116253"},"HS1"]
[null,"Venne Paul",{"$f":"VLOOKUP(B8854,[1]export_1465921594229!$D8855:$G18115,4,FALSE)","v":"W62-120003"},"W62"]
[null,"Venne Sylvain",{"$f":"VLOOKUP(B8855,[1]export_1465921594229!$D8856:$G18116,4,FALSE)","v":"CUQ-124320"},"CUQ"]
[null,"Vera-Canaon Antonia",{"$f":"VLOOKUP(B8856,[1]export_1465921594229!$D8857:$G18117,4,FALSE)","v":"IE7-116341"},"IE7"]
[null,"Vergara Emilie",{"$f":"VLOOKUP(B8857,[1]export_1465921594229!$D8858:$G18118,4,FALSE)","v":"CXM-124393"},"CXM"]
[null,"Verge Jean",{"$f":"VLOOKUP(B8858,[1]export_1465921594229!$D8859:$G18119,4,FALSE)","v":"F49-121402"},"F49"]
[null,"Verger Patricia",{"$f":"VLOOKUP(B8859,[1]export_1465921594229!$D8860:$G18120,4,FALSE)","v":"H34-121286"},"H34"]
[null,"Verma Sunita",{"$f":"VLOOKUP(B8860,[1]export_1465921594229!$D8861:$G18121,4,FALSE)","v":"GW7-550528"},"GW7"]
[null,"Verner Melanie",{"$f":"VLOOKUP(B8861,[1]export_1465921594229!$D8862:$G18122,4,FALSE)","v":{"$error":"#N/A"}},{"$error":"#N/A"}]
[null,"Vernier Claude",{"$f":"VLOOKUP(B8862,[1]export_1465921594229!$D8863:$G18123,4,FALSE)","v":"K93-116641"},"K93"]
[null,"Veroni Bernard Anthony",{"$f":"VLOOKUP(B8863,[1]export_1465921594229!$D8864:$G18124,4,FALSE)","v":"Q43-119693"},"Q43"]
[null,"Verreault Louis",{"$f":"VLOOKUP(B8864,[1]export_1465921594229!$D8865:$G18125,4,FALSE)","v":"M83-660131"},"M83"]
[null,"Verreault Louis",{"$f":"VLOOKUP(B8865,[1]export_1465921594229!$D8866:$G18126,4,FALSE)","v":"C8R-124670"},"C8R"]
[null,"Verreault Samuel",{"$f":"VLOOKUP(B8866,[1]export_1465921594229!$D8867:$G18127,4,FALSE)","v":"BPQ-660357"},"BPQ"]
[null,"Verret Carolle",{"$f":"VLOOKUP(B8867,[1]export_1465921594229!$D8868:$G18128,4,FALSE)","v":"F69-121408"},"F69"]
[null,"Verret-Tremblay Dave",{"$f":"VLOOKUP(B8868,[1]export_1465921594229!$D8869:$G18129,4,FALSE)","v":"D2Z-125433"},"D2Z"]
[null,"Verrier Jonathan",{"$f":"VLOOKUP(B8869,[1]export_1465921594229!$D8870:$G18130,4,FALSE)","v":"FT8-121321"},"FT8"]
[null,"Verrier Jonathan",{"$f":"VLOOKUP(B8870,[1]export_1465921594229!$D8871:$G18131,4,FALSE)","v":"FT9-121322"},"FT9"]
[null,"Vezina Claude",{"$f":"VLOOKUP(B8871,[1]export_1465921594229!$D8872:$G18132,4,FALSE)","v":"L20-660454"},"L20"]
[null,"Vezina Jean-Guy",{"$f":"VLOOKUP(B8872,[1]export_1465921594229!$D8873:$G18133,4,FALSE)","v":"K77-120987"},"K77"]
[null,"Vezina Jocelyne",{"$f":"VLOOKUP(B8873,[1]export_1465921594229!$D8874:$G18134,4,FALSE)","v":"297-122333"},"297"]
[null,"Vezina Leon",{"$f":"VLOOKUP(B8874,[1]export_1465921594229!$D8875:$G18135,4,FALSE)","v":"051-115634"},"051"]
[null,"Vezina Leon",{"$f":"VLOOKUP(B8875,[1]export_1465921594229!$D8876:$G18136,4,FALSE)","v":"715-122087"},"715"]
[null,"Vezina Maurice",{"$f":"VLOOKUP(B8876,[1]export_1465921594229!$D8877:$G18137,4,FALSE)","v":"AA0-118098"},"AA0"]
[null,"Vezina Robert",{"$f":"VLOOKUP(B8877,[1]export_1465921594229!$D8878:$G18138,4,FALSE)","v":"EX4-118633"},"EX4"]
[null,"Vezina Sylvia",{"$f":"VLOOKUP(B8878,[1]export_1465921594229!$D8879:$G18139,4,FALSE)","v":"C04-120237"},"C04"]
[null,"Vezina Denis",{"$f":"VLOOKUP(B8879,[1]export_1465921594229!$D8880:$G18140,4,FALSE)","v":{"$error":"#N/A"}},{"$error":"#N/A"}]
[null,"Vezina Valerie",{"$f":"VLOOKUP(B8880,[1]export_1465921594229!$D8881:$G18141,4,FALSE)","v":{"$error":"#N/A"}},{"$error":"#N/A"}]
[null,"Viaene Charles",{"$f":"VLOOKUP(B8881,[1]export_1465921594229!$D8882:$G18142,4,FALSE)","v":"QA4-027447"},"QA4"]
[null,"Viaene Charles",{"$f":"VLOOKUP(B8882,[1]export_1465921594229!$D8883:$G18143,4,FALSE)","v":"AX4-118180"},"AX4"]
[null,"Viaene Charles",{"$f":"VLOOKUP(B8883,[1]export_1465921594229!$D8884:$G18144,4,FALSE)","v":"JZ0-119225"},"JZ0"]
[null,"Viaene Charles",{"$f":"VLOOKUP(B8884,[1]export_1465921594229!$D8885:$G18145,4,FALSE)","v":"PZ1-327447"},"PZ1"]
[null,"Viau Robert",{"$f":"VLOOKUP(B8885,[1]export_1465921594229!$D8886:$G18146,4,FALSE)","v":"MR9-660114"},"MR9"]
[null,"Viau Robert",{"$f":"VLOOKUP(B8886,[1]export_1465921594229!$D8887:$G18147,4,FALSE)","v":"EM1-121479"},"EM1"]
[null,"Vicente Joselito Arnel",{"$f":"VLOOKUP(B8887,[1]export_1465921594229!$D8888:$G18148,4,FALSE)","v":"GM4-116095"},"GM4"]
[null,"Vicente Lilibeth",{"$f":"VLOOKUP(B8888,[1]export_1465921594229!$D8889:$G18149,4,FALSE)","v":"LI3-116854"},"LI3"]
[null,"Vicioso Frank",{"$f":"VLOOKUP(B8889,[1]export_1465921594229!$D8890:$G18150,4,FALSE)","v":"LS7-120972"},"LS7"]
[null,"Vicioso Frank",{"$f":"VLOOKUP(B8890,[1]export_1465921594229!$D8891:$G18151,4,FALSE)","v":"LS8-120845"},"LS8"]
[null,"Victoria Rubemar",{"$f":"VLOOKUP(B8891,[1]export_1465921594229!$D8892:$G18152,4,FALSE)","v":"GK6-121257"},"GK6"]
[null,"Vidal Maria Luzbella",{"$f":"VLOOKUP(B8892,[1]export_1465921594229!$D8893:$G18153,4,FALSE)","v":"AP9-118155"},"AP9"]
[null,"Vidanes 00stlc D Paulo",{"$f":"VLOOKUP(B8893,[1]export_1465921594229!$D8894:$G18154,4,FALSE)","v":"MB0-116975"},"MB0"]
[null,"Viel Gilles",{"$f":"VLOOKUP(B8894,[1]export_1465921594229!$D8895:$G18155,4,FALSE)","v":"AZ5-118185"},"AZ5"]
[null,"Viens Camille",{"$f":"VLOOKUP(B8895,[1]export_1465921594229!$D8896:$G18156,4,FALSE)","v":"A9T-123085"},"A9T"]
[null,"Viens Luc",{"$f":"VLOOKUP(B8896,[1]export_1465921594229!$D8897:$G18157,4,FALSE)","v":"W42-660556"},"W42"]
[null,"Vigneault Annie",{"$f":"VLOOKUP(B8897,[1]export_1465921594229!$D8898:$G18158,4,FALSE)","v":"DPB-125083"},"DPB"]
[null,"Vigneault Annie",{"$f":"VLOOKUP(B8898,[1]export_1465921594229!$D8899:$G18159,4,FALSE)","v":"X75-120044"},{"$f":"LEFT(C8898,3)","v":"X75"}]
[null,"Vigneault Chantal",{"$f":"VLOOKUP(B8899,[1]export_1465921594229!$D8900:$G18160,4,FALSE)","v":"R04-117835"},"R04"]
[null,"Vigneault Claude",{"$f":"VLOOKUP(B8900,[1]export_1465921594229!$D8901:$G18161,4,FALSE)","v":"O76-118088"},"O76"]
[null,"Vigneault Helene",{"$f":"VLOOKUP(B8901,[1]export_1465921594229!$D8902:$G18162,4,FALSE)","v":"O75-120750"},"O75"]
[null,"Vijayan Vivek",{"$f":"VLOOKUP(B8902,[1]export_1465921594229!$D8903:$G18163,4,FALSE)","v":"BA3-121819"},"BA3"]
[null,"Vijayaseelan Thiagarajah",{"$f":"VLOOKUP(B8903,[1]export_1465921594229!$D8904:$G18164,4,FALSE)","v":"B6D-123720"},"B6D"]
[null,"Villanueva Guadalupe",{"$f":"VLOOKUP(B8904,[1]export_1465921594229!$D8905:$G18165,4,FALSE)","v":"C9J-124686"},"C9J"]
[null,"Villanueva Joel",{"$f":"VLOOKUP(B8905,[1]export_1465921594229!$D8906:$G18166,4,FALSE)","v":"DSE-125162"},"DSE"]
[null,"Villar-Cisneros Leilani",{"$f":"VLOOKUP(B8906,[1]export_1465921594229!$D8907:$G18167,4,FALSE)","v":"C9D-124680"},"C9D"]
[null,"Villarojo Myra",{"$f":"VLOOKUP(B8907,[1]export_1465921594229!$D8908:$G18168,4,FALSE)","v":"A7Q-123035"},"A7Q"]
[null,"Villeneuve Jacques",{"$f":"VLOOKUP(B8908,[1]export_1465921594229!$D8909:$G18169,4,FALSE)","v":"HM2-119043"},"HM2"]
[null,"Villeneuve Janick",{"$f":"VLOOKUP(B8909,[1]export_1465921594229!$D8910:$G18170,4,FALSE)","v":"DP2-121539"},"DP2"]
[null,"Villeneuve Lise",{"$f":"VLOOKUP(B8910,[1]export_1465921594229!$D8911:$G18171,4,FALSE)","v":"F95-118679"},"F95"]
[null,"Villeneuve Monique",{"$f":"VLOOKUP(B8911,[1]export_1465921594229!$D8912:$G18172,4,FALSE)","v":"438-120342"},"438"]
[null,"Vilvaratnam Siritharan",{"$f":"VLOOKUP(B8912,[1]export_1465921594229!$D8913:$G18173,4,FALSE)","v":"A9Y-123089"},"A9Y"]
[null,"Vilvaratnam Vijayabaskaran",{"$f":"VLOOKUP(B8913,[1]export_1465921594229!$D8914:$G18174,4,FALSE)","v":"DFU-124851"},"DFU"]
[null,"Vimalarajan Placid",{"$f":"VLOOKUP(B8914,[1]export_1465921594229!$D8915:$G18175,4,FALSE)","v":"CZH-124437"},"CZH"]
[null,"Vimalathas Manga",{"$f":"VLOOKUP(B8915,[1]export_1465921594229!$D8916:$G18176,4,FALSE)","v":"PF1-117493"},"PF1"]
[null,"Vina Nancy Dela",{"$f":"VLOOKUP(B8916,[1]export_1465921594229!$D8917:$G18177,4,FALSE)","v":"ML0-550715"},"ML0"]
[null,"Vinayagam Vinothini",{"$f":"VLOOKUP(B8917,[1]export_1465921594229!$D8918:$G18178,4,FALSE)","v":"PK4-117541"},"PK4"]
[null,"Vinayagamoorthy Vasantharajah",{"$f":"VLOOKUP(B8918,[1]export_1465921594229!$D8919:$G18179,4,FALSE)","v":"B6Q-123732"},"B6Q"]
[null,"Vincent-Girard Christine",{"$f":"VLOOKUP(B8919,[1]export_1465921594229!$D8920:$G18180,4,FALSE)","v":"584-122128"},"584"]
[null,"Vininsky Barry",{"$f":"VLOOKUP(B8920,[1]export_1465921594229!$D8921:$G18181,4,FALSE)","v":"DH8-118395"},"DH8"]
[null,"Vintimilla Lupe",{"$f":"VLOOKUP(B8921,[1]export_1465921594229!$D8922:$G18182,4,FALSE)","v":"CXG-124387"},"CXG"]
[null,"Virdi Sukhdev",{"$f":"VLOOKUP(B8922,[1]export_1465921594229!$D8923:$G18183,4,FALSE)","v":"QB2-119727"},"QB2"]
[null,"Virdi Sukhdev",{"$f":"VLOOKUP(B8923,[1]export_1465921594229!$D8924:$G18184,4,FALSE)","v":"NR8-119507"},"NR8"]
[null,"Virdi Sukhdev",{"$f":"VLOOKUP(B8924,[1]export_1465921594229!$D8925:$G18185,4,FALSE)","v":"NR9-119508"},"NR9"]
[null,"Virdi Sukhdev",{"$f":"VLOOKUP(B8925,[1]export_1465921594229!$D8926:$G18186,4,FALSE)","v":"KA7-119240"},"KA7"]
[null,"Visvanathan Vimalarajah",{"$f":"VLOOKUP(B8926,[1]export_1465921594229!$D8927:$G18187,4,FALSE)","v":"BHW-123202"},"BHW"]
[null,"Von Rossum Patricia",{"$f":"VLOOKUP(B8927,[1]export_1465921594229!$D8928:$G18188,4,FALSE)","v":"R98-120611"},"R98"]
[null,"Vongprachanh Moneviseth",{"$f":"VLOOKUP(B8928,[1]export_1465921594229!$D8929:$G18189,4,FALSE)","v":"NB2-117148"},"NB2"]
[null,"Voyer Andre",{"$f":"VLOOKUP(B8929,[1]export_1465921594229!$D8930:$G18190,4,FALSE)","v":"J08-121161"},"J08"]
[null,"Voyer Carol",{"$f":"VLOOKUP(B8930,[1]export_1465921594229!$D8931:$G18191,4,FALSE)","v":"V86-550121"},"V86"]
[null,"Voyer Carol",{"$f":"VLOOKUP(B8931,[1]export_1465921594229!$D8932:$G18192,4,FALSE)","v":"I39-121222"},"I39"]
[null,"Voyer Sylvie",{"$f":"VLOOKUP(B8932,[1]export_1465921594229!$D8933:$G18193,4,FALSE)","v":"CU7-121664"},"CU7"]
[null,"Vu Thi Hien",{"$f":"VLOOKUP(B8933,[1]export_1465921594229!$D8934:$G18194,4,FALSE)","v":"HE7-116181"},"HE7"]
[null,"Vyas Kamlesh",{"$f":"VLOOKUP(B8934,[1]export_1465921594229!$D8935:$G18195,4,FALSE)","v":"B2S-123636"},"B2S"]
[null,"Wadhwani Anita",{"$f":"VLOOKUP(B8935,[1]export_1465921594229!$D8936:$G18196,4,FALSE)","v":"OJ9-117341"},"OJ9"]
[null,"Wahib Mina",{"$f":"VLOOKUP(B8936,[1]export_1465921594229!$D8937:$G18197,4,FALSE)","v":"DEY-124829"},"DEY"]
[null,"Waldbauer Valeria Agnes",{"$f":"VLOOKUP(B8937,[1]export_1465921594229!$D8938:$G18198,4,FALSE)","v":"AE5-115735"},"AE5"]
[null,"Walia Amit",{"$f":"VLOOKUP(B8938,[1]export_1465921594229!$D8939:$G18199,4,FALSE)","v":"PA1-550855"},"PA1"]
[null,"Walimohamed Navazali Abdulmalik",{"$f":"VLOOKUP(B8939,[1]export_1465921594229!$D8940:$G18200,4,FALSE)","v":"PK9-117544"},"PK9"]
[null,"Walker Norris",{"$f":"VLOOKUP(B8940,[1]export_1465921594229!$D8941:$G18201,4,FALSE)","v":"PV8-550880"},"PV8"]
[null,"Walker-Trail Anne",{"$f":"VLOOKUP(B8941,[1]export_1465921594229!$D8942:$G18202,4,FALSE)","v":"B0P-502336"},"B0P"]
[null,"Walkiewicz Halina",{"$f":"VLOOKUP(B8942,[1]export_1465921594229!$D8943:$G18203,4,FALSE)","v":"DTP-125195"},"DTP"]
[null,"Walkinshaw Neil",{"$f":"VLOOKUP(B8943,[1]export_1465921594229!$D8944:$G18204,4,FALSE)","v":"BNL-500516"},"BNL"]
[null,"Walling Donald",{"$f":"VLOOKUP(B8944,[1]export_1465921594229!$D8945:$G18205,4,FALSE)","v":"MQ3-117076"},"MQ3"]
[null,"Walling Donald",{"$f":"VLOOKUP(B8945,[1]export_1465921594229!$D8946:$G18206,4,FALSE)","v":"BSE-123402"},"BSE"]
[null,"Walsh David F",{"$f":"VLOOKUP(B8946,[1]export_1465921594229!$D8947:$G18207,4,FALSE)","v":"NM6-550761"},"NM6"]
[null,"Walsh, Jr. Jerome Wayne",{"$f":"VLOOKUP(B8947,[1]export_1465921594229!$D8948:$G18208,4,FALSE)","v":"OL8-117356"},"OL8"]
[null,"Walter Bonnie",{"$f":"VLOOKUP(B8948,[1]export_1465921594229!$D8949:$G18209,4,FALSE)","v":"BQ4-121746"},"BQ4"]
[null,"Walton Kirby",{"$f":"VLOOKUP(B8949,[1]export_1465921594229!$D8950:$G18210,4,FALSE)","v":"BUK-123447"},"BUK"]
[null,"Walusimbi Elijah",{"$f":"VLOOKUP(B8950,[1]export_1465921594229!$D8951:$G18211,4,FALSE)","v":"V47-120583"},"V47"]
[null,"Wang Brian",{"$f":"VLOOKUP(B8951,[1]export_1465921594229!$D8952:$G18212,4,FALSE)","v":"CEJ-123924"},"CEJ"]
[null,"Wang Brian",{"$f":"VLOOKUP(B8952,[1]export_1465921594229!$D8953:$G18213,4,FALSE)","v":"QR7-117768"},"QR7"]
[null,"Wang Hong",{"$f":"VLOOKUP(B8953,[1]export_1465921594229!$D8954:$G18214,4,FALSE)","v":"AQ5-121959"},"AQ5"]
[null,"Wang John",{"$f":"VLOOKUP(B8954,[1]export_1465921594229!$D8955:$G18215,4,FALSE)","v":"IZ5-116446"},"IZ5"]
[null,"Ward Bryan",{"$f":"VLOOKUP(B8955,[1]export_1465921594229!$D8956:$G18216,4,FALSE)","v":"JV6-116595"},"JV6"]
[null,"Ward Delwyn",{"$f":"VLOOKUP(B8956,[1]export_1465921594229!$D8957:$G18217,4,FALSE)","v":"CL2-121623"},"CL2"]
[null,"Ward Kimberley",{"$f":"VLOOKUP(B8957,[1]export_1465921594229!$D8958:$G18218,4,FALSE)","v":"HZ0-119075"},"HZ0"]
[null,"Ward Kimberley",{"$f":"VLOOKUP(B8958,[1]export_1465921594229!$D8959:$G18219,4,FALSE)","v":"U42-120552"},"U42"]
[null,"Ward Linda",{"$f":"VLOOKUP(B8959,[1]export_1465921594229!$D8960:$G18220,4,FALSE)","v":"HP0-116237"},"HP0"]
[null,"Warner Elizabeth",{"$f":"VLOOKUP(B8960,[1]export_1465921594229!$D8961:$G18221,4,FALSE)","v":"CWV-124376"},"CWV"]
[null,"Warnock Riley",{"$f":"VLOOKUP(B8961,[1]export_1465921594229!$D8962:$G18222,4,FALSE)","v":"C1D-124484"},"C1D"]
[null,"Warsi Ashhar",{"$f":"VLOOKUP(B8962,[1]export_1465921594229!$D8963:$G18223,4,FALSE)","v":"CWE-124359"},{"$f":"LEFT(C8962,3)","v":"CWE"}]
[null,"Washikar Raj",{"$f":"VLOOKUP(B8963,[1]export_1465921594229!$D8964:$G18224,4,FALSE)","v":"AK2-121938"},"AK2"]
[null,"Washikar Raj",{"$f":"VLOOKUP(B8964,[1]export_1465921594229!$D8965:$G18225,4,FALSE)","v":"AK1-121937"},"AK1"]
[null,"Washington Ebrahim",{"$f":"VLOOKUP(B8965,[1]export_1465921594229!$D8966:$G18226,4,FALSE)","v":"DB3-118051"},"DB3"]
[null,"Waterman Lynn",{"$f":"VLOOKUP(B8966,[1]export_1465921594229!$D8967:$G18227,4,FALSE)","v":"AZ9-121872"},"AZ9"]
[null,"Waters Mark",{"$f":"VLOOKUP(B8967,[1]export_1465921594229!$D8968:$G18228,4,FALSE)","v":"N66-120819"},"N66"]
[null,"Watier Richard",{"$f":"VLOOKUP(B8968,[1]export_1465921594229!$D8969:$G18229,4,FALSE)","v":"W70-117982"},"W70"]
[null,"Watson Andrew",{"$f":"VLOOKUP(B8969,[1]export_1465921594229!$D8970:$G18230,4,FALSE)","v":"D0J-125366"},"D0J"]
[null,"Watson Jason",{"$f":"VLOOKUP(B8970,[1]export_1465921594229!$D8971:$G18231,4,FALSE)","v":"QV6-117802"},"QV6"]
[null,"Watterson O/A Watterson F Robert",{"$f":"VLOOKUP(B8971,[1]export_1465921594229!$D8972:$G18232,4,FALSE)","v":"LC1-116813"},"LC1"]
[null,"Watts Garret",{"$f":"VLOOKUP(B8972,[1]export_1465921594229!$D8973:$G18233,4,FALSE)","v":"DXW-125306"},"DXW"]
[null,"Wayne Barry",{"$f":"VLOOKUP(B8973,[1]export_1465921594229!$D8974:$G18234,4,FALSE)","v":"OR9-117393"},"OR9"]
[null,"Weber Timothy",{"$f":"VLOOKUP(B8974,[1]export_1465921594229!$D8975:$G18235,4,FALSE)","v":"NW1-117256"},"NW1"]
[null,"Webster Ian",{"$f":"VLOOKUP(B8975,[1]export_1465921594229!$D8976:$G18236,4,FALSE)","v":"BJD-123232"},"BJD"]
[null,"Webster Pauline",{"$f":"VLOOKUP(B8976,[1]export_1465921594229!$D8977:$G18237,4,FALSE)","v":"MQ4-117077"},"MQ4"]
[null,"Weese William",{"$f":"VLOOKUP(B8977,[1]export_1465921594229!$D8978:$G18238,4,FALSE)","v":"C0R-124472"},"C0R"]
[null,"Weinberg Melanie",{"$f":"VLOOKUP(B8978,[1]export_1465921594229!$D8979:$G18239,4,FALSE)","v":"D1Q-125399"},"D1Q"]
[null,"Weinberger Constance",{"$f":"VLOOKUP(B8979,[1]export_1465921594229!$D8980:$G18240,4,FALSE)","v":"CUI-124312"},"CUI"]
[null,"Weiser Chaim",{"$f":"VLOOKUP(B8980,[1]export_1465921594229!$D8981:$G18241,4,FALSE)","v":"W93-120017"},"W93"]
[null,"Weiser Sharon",{"$f":"VLOOKUP(B8981,[1]export_1465921594229!$D8982:$G18242,4,FALSE)","v":"QH4-117690"},"QH4"]
[null,"Weldon Timothy",{"$f":"VLOOKUP(B8982,[1]export_1465921594229!$D8983:$G18243,4,FALSE)","v":"JF3-119195"},"JF3"]
[null,"Wenghofer Susan",{"$f":"VLOOKUP(B8983,[1]export_1465921594229!$D8984:$G18244,4,FALSE)","v":"BQS-123366"},"BQS"]
[null,"Wentworth Orville",{"$f":"VLOOKUP(B8984,[1]export_1465921594229!$D8985:$G18245,4,FALSE)","v":"GT2-121266"},"GT2"]
[null,"Wentworth Orville",{"$f":"VLOOKUP(B8985,[1]export_1465921594229!$D8986:$G18246,4,FALSE)","v":"RC3-117870"},"RC3"]
[null,"Werz Oliver",{"$f":"VLOOKUP(B8986,[1]export_1465921594229!$D8987:$G18247,4,FALSE)","v":"E74-118515"},"E74"]
[null,"West Cory",{"$f":"VLOOKUP(B8987,[1]export_1465921594229!$D8988:$G18248,4,FALSE)","v":"BTP-550872"},"BTP"]
[null,"West Daniel",{"$f":"VLOOKUP(B8988,[1]export_1465921594229!$D8989:$G18249,4,FALSE)","v":"DB0-501669"},"DB0"]
[null,"West Jacqueline",{"$f":"VLOOKUP(B8989,[1]export_1465921594229!$D8990:$G18250,4,FALSE)","v":"DWT-125277"},"DWT"]
[null,"Whelan Carolyn",{"$f":"VLOOKUP(B8990,[1]export_1465921594229!$D8991:$G18251,4,FALSE)","v":"DAQ-124719"},"DAQ"]
[null,"Whelan Jim",{"$f":"VLOOKUP(B8991,[1]export_1465921594229!$D8992:$G18252,4,FALSE)","v":"BI5-118210"},"BI5"]
[null,"Whibbs Steven",{"$f":"VLOOKUP(B8992,[1]export_1465921594229!$D8993:$G18253,4,FALSE)","v":"P38-120656"},"P38"]
[null,"White Adrian",{"$f":"VLOOKUP(B8993,[1]export_1465921594229!$D8994:$G18254,4,FALSE)","v":"Z01-118015"},"Z01"]
[null,"White Jason",{"$f":"VLOOKUP(B8994,[1]export_1465921594229!$D8995:$G18255,4,FALSE)","v":"QX3-117817"},"QX3"]
[null,"White Michelle",{"$f":"VLOOKUP(B8995,[1]export_1465921594229!$D8996:$G18256,4,FALSE)","v":"606-122140"},"606"]
[null,"White Steeve",{"$f":"VLOOKUP(B8996,[1]export_1465921594229!$D8997:$G18257,4,FALSE)","v":"R54-117846"},"R54"]
[null,"Whitney Steve",{"$f":"VLOOKUP(B8997,[1]export_1465921594229!$D8998:$G18258,4,FALSE)","v":"L24-119298"},"L24"]
[null,"Whittier-Haswell Jennifer",{"$f":"VLOOKUP(B8998,[1]export_1465921594229!$D8999:$G18259,4,FALSE)","v":"CXQ-124397"},"CXQ"]
[null,"Whyte Rayon S.",{"$f":"VLOOKUP(B8999,[1]export_1465921594229!$D9000:$G18260,4,FALSE)","v":"DKL-124966"},"DKL"]
[null,"Wicke Kelly",{"$f":"VLOOKUP(B9000,[1]export_1465921594229!$D9001:$G18261,4,FALSE)","v":"FF5-121300"},"FF5"]
[null,"Wiegand Roger",{"$f":"VLOOKUP(B9001,[1]export_1465921594229!$D9002:$G18262,4,FALSE)","v":"KT3-119278"},"KT3"]
[null,"Wiegand Roger",{"$f":"VLOOKUP(B9002,[1]export_1465921594229!$D9003:$G18263,4,FALSE)","v":"KT2-119277"},"KT2"]
[null,"Wiegel Darrell",{"$f":"VLOOKUP(B9003,[1]export_1465921594229!$D9004:$G18264,4,FALSE)","v":"AR5-121966"},"AR5"]
[null,"Wiggins Raymond",{"$f":"VLOOKUP(B9004,[1]export_1465921594229!$D9005:$G18265,4,FALSE)","v":"HO3-660477"},"HO3"]
[null,"Wiggins Roy",{"$f":"VLOOKUP(B9005,[1]export_1465921594229!$D9006:$G18266,4,FALSE)","v":"KL6-119255"},"KL6"]
[null,"Wignarajah Ravindra",{"$f":"VLOOKUP(B9006,[1]export_1465921594229!$D9007:$G18267,4,FALSE)","v":"EB0-118538"},"EB0"]
[null,"Wignarajah Roy Harold Gardiner",{"$f":"VLOOKUP(B9007,[1]export_1465921594229!$D9008:$G18268,4,FALSE)","v":"QN7-550818"},"QN7"]
[null,"Wijayawickrama Asha",{"$f":"VLOOKUP(B9008,[1]export_1465921594229!$D9009:$G18269,4,FALSE)","v":"CQE-124212"},"CQE"]
[null,"Wilhelm Steve",{"$f":"VLOOKUP(B9009,[1]export_1465921594229!$D9010:$G18270,4,FALSE)","v":"CN0-118328"},"CN0"]
[null,"Wilkie Steven",{"$f":"VLOOKUP(B9010,[1]export_1465921594229!$D9011:$G18271,4,FALSE)","v":"D4O-125472"},"D4O"]
[null,"Williams Danny James",{"$f":"VLOOKUP(B9011,[1]export_1465921594229!$D9012:$G18272,4,FALSE)","v":"CAT-123835"},"CAT"]
[null,"Williams Dennis",{"$f":"VLOOKUP(B9012,[1]export_1465921594229!$D9013:$G18273,4,FALSE)","v":"CLN-124101"},"CLN"]
[null,"Williams Donna",{"$f":"VLOOKUP(B9013,[1]export_1465921594229!$D9014:$G18274,4,FALSE)","v":"BGD-123165"},"BGD"]
[null,"Williams Katherine",{"$f":"VLOOKUP(B9014,[1]export_1465921594229!$D9015:$G18275,4,FALSE)","v":"DAP-124718"},"DAP"]
[null,"Williams Larkland",{"$f":"VLOOKUP(B9015,[1]export_1465921594229!$D9016:$G18276,4,FALSE)","v":"BIC-123207"},"BIC"]
[null,"Williams Lyndon",{"$f":"VLOOKUP(B9016,[1]export_1465921594229!$D9017:$G18277,4,FALSE)","v":"GZ9-116142"},"GZ9"]
[null,"Williams Michael",{"$f":"VLOOKUP(B9017,[1]export_1465921594229!$D9018:$G18278,4,FALSE)","v":"OS3-117397"},"OS3"]
[null,"Williams Raymond",{"$f":"VLOOKUP(B9018,[1]export_1465921594229!$D9019:$G18279,4,FALSE)","v":"PE3-117487"},"PE3"]
[null,"Williams Ryan",{"$f":"VLOOKUP(B9019,[1]export_1465921594229!$D9020:$G18280,4,FALSE)","v":"DKF-124960"},"DKF"]
[null,"Williams Tara",{"$f":"VLOOKUP(B9020,[1]export_1465921594229!$D9021:$G18281,4,FALSE)","v":"NT2-119515"},"NT2"]
[null,"Williams Tara",{"$f":"VLOOKUP(B9021,[1]export_1465921594229!$D9022:$G18282,4,FALSE)","v":"NT3-119516"},"NT3"]
[null,"Williams Tara",{"$f":"VLOOKUP(B9022,[1]export_1465921594229!$D9023:$G18283,4,FALSE)","v":"MH4-119416"},"MH4"]
[null,"Williams Tara",{"$f":"VLOOKUP(B9023,[1]export_1465921594229!$D9024:$G18284,4,FALSE)","v":"QB8-119732"},"QB8"]
[null,"Williams Tara",{"$f":"VLOOKUP(B9024,[1]export_1465921594229!$D9025:$G18285,4,FALSE)","v":"GA6-116072"},"GA6"]
[null,"Williams Winston",{"$f":"VLOOKUP(B9025,[1]export_1465921594229!$D9026:$G18286,4,FALSE)","v":"DKC-124957"},"DKC"]
[null,"Williamson Denis",{"$f":"VLOOKUP(B9026,[1]export_1465921594229!$D9027:$G18287,4,FALSE)","v":"122-122468"},{"$f":"LEFT(C9026,3)","v":"122"}]
[null,"Williamson Denis",{"$f":"VLOOKUP(B9027,[1]export_1465921594229!$D9028:$G18288,4,FALSE)","v":"371-122260"},"371"]
[null,"Williamson Ryan",{"$f":"VLOOKUP(B9028,[1]export_1465921594229!$D9029:$G18289,4,FALSE)","v":"FH5-121301"},"FH5"]
[null,"Williamson Ryan",{"$f":"VLOOKUP(B9029,[1]export_1465921594229!$D9030:$G18290,4,FALSE)","v":"HD0-119021"},"HD0"]
[null,"Willis Rodney S.",{"$f":"VLOOKUP(B9030,[1]export_1465921594229!$D9031:$G18291,4,FALSE)","v":"PM8-117557"},"PM8"]
[null,"Willms John R",{"$f":"VLOOKUP(B9031,[1]export_1465921594229!$D9032:$G18292,4,FALSE)","v":"CP0-118334"},"CP0"]
[null,"Wills Joseph",{"$f":"VLOOKUP(B9032,[1]export_1465921594229!$D9033:$G18293,4,FALSE)","v":"KR9-119272"},"KR9"]
[null,"Wills Joseph",{"$f":"VLOOKUP(B9033,[1]export_1465921594229!$D9034:$G18294,4,FALSE)","v":"EM7-118585"},"EM7"]
[null,"Wilson Bryan",{"$f":"VLOOKUP(B9034,[1]export_1465921594229!$D9035:$G18295,4,FALSE)","v":"CVU-124349"},"CVU"]
[null,"Wilson Douglas",{"$f":"VLOOKUP(B9035,[1]export_1465921594229!$D9036:$G18296,4,FALSE)","v":"C8L-124664"},"C8L"]
[null,"Wilson Gregory",{"$f":"VLOOKUP(B9036,[1]export_1465921594229!$D9037:$G18297,4,FALSE)","v":"DZD-125335"},"DZD"]
[null,"Wilson Jean",{"$f":"VLOOKUP(B9037,[1]export_1465921594229!$D9038:$G18298,4,FALSE)","v":"BJ0-121854"},"BJ0"]
[null,"Wilson Leonard",{"$f":"VLOOKUP(B9038,[1]export_1465921594229!$D9039:$G18299,4,FALSE)","v":"A6H-123008"},"A6H"]
[null,"Wilton Carol",{"$f":"VLOOKUP(B9039,[1]export_1465921594229!$D9040:$G18300,4,FALSE)","v":"N79-028231"},"N79"]
[null,"Wilton Carol",{"$f":"VLOOKUP(B9040,[1]export_1465921594229!$D9041:$G18301,4,FALSE)","v":"OL9-328231"},"OL9"]
[null,"Wilton Carol",{"$f":"VLOOKUP(B9041,[1]export_1465921594229!$D9042:$G18302,4,FALSE)","v":"MN7-119429"},"MN7"]
[null,"Wilvers Gilles",{"$f":"VLOOKUP(B9042,[1]export_1465921594229!$D9043:$G18303,4,FALSE)","v":"EF9-118553"},"EF9"]
[null,"Wilvers Gilles",{"$f":"VLOOKUP(B9043,[1]export_1465921594229!$D9044:$G18304,4,FALSE)","v":"QO3-117742"},"QO3"]
[null,"Winchester Denise",{"$f":"VLOOKUP(B9044,[1]export_1465921594229!$D9045:$G18305,4,FALSE)","v":"KZ3-116788"},"KZ3"]
[null,"Winchester Denise",{"$f":"VLOOKUP(B9045,[1]export_1465921594229!$D9046:$G18306,4,FALSE)","v":"KZ4-121027"},"KZ4"]
[null,"Winstok Felix",{"$f":"VLOOKUP(B9046,[1]export_1465921594229!$D9047:$G18307,4,FALSE)","v":"IW9-116435"},"IW9"]
[null,"Wionzek Lawrence",{"$f":"VLOOKUP(B9047,[1]export_1465921594229!$D9048:$G18308,4,FALSE)","v":"R19-120589"},"R19"]
[null,"Wisdom Omar",{"$f":"VLOOKUP(B9048,[1]export_1465921594229!$D9049:$G18309,4,FALSE)","v":"D4M-125470"},"D4M"]
[null,"Witkowski Peter",{"$f":"VLOOKUP(B9049,[1]export_1465921594229!$D9050:$G18310,4,FALSE)","v":"JS5-119221"},"JS5"]
[null,"Witteveen Trevor J.",{"$f":"VLOOKUP(B9050,[1]export_1465921594229!$D9051:$G18311,4,FALSE)","v":"B4O-123681"},"B4O"]
[null,"Witwicki Kathryn",{"$f":"VLOOKUP(B9051,[1]export_1465921594229!$D9052:$G18312,4,FALSE)","v":"DTA-125180"},"DTA"]
[null,"Wojcik Marian",{"$f":"VLOOKUP(B9052,[1]export_1465921594229!$D9053:$G18313,4,FALSE)","v":"BW7-115807"},"BW7"]
[null,"Wolfe Martine",{"$f":"VLOOKUP(B9053,[1]export_1465921594229!$D9054:$G18314,4,FALSE)","v":"148-122488"},"148"]
[null,"Wolfshout Avshalom",{"$f":"VLOOKUP(B9054,[1]export_1465921594229!$D9055:$G18315,4,FALSE)","v":"JP2-121056"},"JP2"]
[null,"Wolfshout Avshalom",{"$f":"VLOOKUP(B9055,[1]export_1465921594229!$D9056:$G18316,4,FALSE)","v":"HQ7-119061"},"HQ7"]
[null,"Wong Jeffery",{"$f":"VLOOKUP(B9056,[1]export_1465921594229!$D9057:$G18317,4,FALSE)","v":"PU4-117619"},"PU4"]
[null,"Wong Kaman(Ralph)",{"$f":"VLOOKUP(B9057,[1]export_1465921594229!$D9058:$G18318,4,FALSE)","v":"N56-120811"},"N56"]
[null,"Wong Patricia",{"$f":"VLOOKUP(B9058,[1]export_1465921594229!$D9059:$G18319,4,FALSE)","v":"AI3-118122"},"AI3"]
[null,"Wong Perry",{"$f":"VLOOKUP(B9059,[1]export_1465921594229!$D9060:$G18320,4,FALSE)","v":"MB3-116978"},"MB3"]
[null,"Wong Rebecca",{"$f":"VLOOKUP(B9060,[1]export_1465921594229!$D9061:$G18321,4,FALSE)","v":"OF6-117315"},"OF6"]
[null,"Wong Tommy Kam Hong",{"$f":"VLOOKUP(B9061,[1]export_1465921594229!$D9062:$G18322,4,FALSE)","v":"DVB-125233"},"DVB"]
[null,"Wood Blake",{"$f":"VLOOKUP(B9062,[1]export_1465921594229!$D9063:$G18323,4,FALSE)","v":"QV7-117803"},"QV7"]
[null,"Woodall Richard",{"$f":"VLOOKUP(B9063,[1]export_1465921594229!$D9064:$G18324,4,FALSE)","v":"B2Z-123643"},"B2Z"]
[null,"Woodcroft Gregory",{"$f":"VLOOKUP(B9064,[1]export_1465921594229!$D9065:$G18325,4,FALSE)","v":"B8V-123786"},"B8V"]
[null,"Woodman David",{"$f":"VLOOKUP(B9065,[1]export_1465921594229!$D9066:$G18326,4,FALSE)","v":"V00-120573"},"V00"]
[null,"Woods Melodie",{"$f":"VLOOKUP(B9066,[1]export_1465921594229!$D9067:$G18327,4,FALSE)","v":"FQ9-118770"},"FQ9"]
[null,"Woods Nathan",{"$f":"VLOOKUP(B9067,[1]export_1465921594229!$D9068:$G18328,4,FALSE)","v":"CQF-124213"},"CQF"]
[null,"Woodyatt Mari-Jayne",{"$f":"VLOOKUP(B9068,[1]export_1465921594229!$D9069:$G18329,4,FALSE)","v":"U10-119914"},"U10"]
[null,"Woolley Edwin",{"$f":"VLOOKUP(B9069,[1]export_1465921594229!$D9070:$G18330,4,FALSE)","v":"DVM-125244"},"DVM"]
[null,"Woolley Jeffrey",{"$f":"VLOOKUP(B9070,[1]export_1465921594229!$D9071:$G18331,4,FALSE)","v":"C0G-124461"},"C0G"]
[null,"Wright Bruce",{"$f":"VLOOKUP(B9071,[1]export_1465921594229!$D9072:$G18332,4,FALSE)","v":"S75-119862"},"S75"]
[null,"Wright Dale",{"$f":"VLOOKUP(B9072,[1]export_1465921594229!$D9073:$G18333,4,FALSE)","v":"BVO-123471"},"BVO"]
[null,"Wright Donovan",{"$f":"VLOOKUP(B9073,[1]export_1465921594229!$D9074:$G18334,4,FALSE)","v":"DH6-121512"},"DH6"]
[null,"Wright Trevor",{"$f":"VLOOKUP(B9074,[1]export_1465921594229!$D9075:$G18335,4,FALSE)","v":"BHD-550954"},"BHD"]
[null,"Wu David Han Jun",{"$f":"VLOOKUP(B9075,[1]export_1465921594229!$D9076:$G18336,4,FALSE)","v":"C4O-124568"},"C4O"]
[null,"Wurz Cora-Lee",{"$f":"VLOOKUP(B9076,[1]export_1465921594229!$D9077:$G18337,4,FALSE)","v":"Q68-120698"},"Q68"]
[null,"Xavier Maria",{"$f":"VLOOKUP(B9077,[1]export_1465921594229!$D9078:$G18338,4,FALSE)","v":"RA8-119818"},"RA8"]
[null,"Xavier Rosilda",{"$f":"VLOOKUP(B9078,[1]export_1465921594229!$D9079:$G18339,4,FALSE)","v":"CWG-124361"},"CWG"]
[null,"Xhakolli Entela",{"$f":"VLOOKUP(B9079,[1]export_1465921594229!$D9080:$G18340,4,FALSE)","v":"LB6-116808"},"LB6"]
[null,"Xu Jiaji(Jason)",{"$f":"VLOOKUP(B9080,[1]export_1465921594229!$D9081:$G18341,4,FALSE)","v":"N59-120813"},"N59"]
[null,"Yabut Maria Isabel",{"$f":"VLOOKUP(B9081,[1]export_1465921594229!$D9082:$G18342,4,FALSE)","v":"JS8-116572"},"JS8"]
[null,"Yabut Sharlene",{"$f":"VLOOKUP(B9082,[1]export_1465921594229!$D9083:$G18343,4,FALSE)","v":"DFX-124854"},"DFX"]
[null,"Yacoub Michel",{"$f":"VLOOKUP(B9083,[1]export_1465921594229!$D9084:$G18344,4,FALSE)","v":"H37-118974"},"H37"]
[null,"Yamat Wilhilfreda",{"$f":"VLOOKUP(B9084,[1]export_1465921594229!$D9085:$G18345,4,FALSE)","v":"KO5-116737"},"KO5"]
[null,"Yan Norman",{"$f":"VLOOKUP(B9085,[1]export_1465921594229!$D9086:$G18346,4,FALSE)","v":"MV0-119442"},"MV0"]
[null,"Yan Norman",{"$f":"VLOOKUP(B9086,[1]export_1465921594229!$D9087:$G18347,4,FALSE)","v":"MV1-119443"},"MV1"]
[null,"Yanaky Dan W",{"$f":"VLOOKUP(B9087,[1]export_1465921594229!$D9088:$G18348,4,FALSE)","v":"MX7-117129"},"MX7"]
[null,"Yang Hak Boon",{"$f":"VLOOKUP(B9088,[1]export_1465921594229!$D9089:$G18349,4,FALSE)","v":"B0B-123572"},"B0B"]
[null,"Yankey Angela",{"$f":"VLOOKUP(B9089,[1]export_1465921594229!$D9090:$G18350,4,FALSE)","v":"QT8-117787"},"QT8"]
[null,"Yargeau Miguel",{"$f":"VLOOKUP(B9090,[1]export_1465921594229!$D9091:$G18351,4,FALSE)","v":"FI0-116021"},{"$f":"LEFT(C9090,3)","v":"FI0"}]
[null,"Yargeau Miguel",{"$f":"VLOOKUP(B9091,[1]export_1465921594229!$D9092:$G18352,4,FALSE)","v":"C18-121794"},"C18"]
[null,"Yazbeck Sami",{"$f":"VLOOKUP(B9092,[1]export_1465921594229!$D9093:$G18353,4,FALSE)","v":"JD2-116480"},"JD2"]
[null,"Yazdani John",{"$f":"VLOOKUP(B9093,[1]export_1465921594229!$D9094:$G18354,4,FALSE)","v":"IQ1-116400"},"IQ1"]
[null,"Yeboah Christian",{"$f":"VLOOKUP(B9094,[1]export_1465921594229!$D9095:$G18355,4,FALSE)","v":"OG6-550794"},"OG6"]
[null,"Yee Ted",{"$f":"VLOOKUP(B9095,[1]export_1465921594229!$D9096:$G18356,4,FALSE)","v":"HS9-116259"},"HS9"]
[null,"Yelle Dominic",{"$f":"VLOOKUP(B9096,[1]export_1465921594229!$D9097:$G18357,4,FALSE)","v":"R49-550231"},"R49"]
[null,"Yelle Michel",{"$f":"VLOOKUP(B9097,[1]export_1465921594229!$D9098:$G18358,4,FALSE)","v":"H39-118975"},"H39"]
[null,"Yelle Raymond",{"$f":"VLOOKUP(B9098,[1]export_1465921594229!$D9099:$G18359,4,FALSE)","v":"S79-120637"},"S79"]
[null,"Yeung Teresa",{"$f":"VLOOKUP(B9099,[1]export_1465921594229!$D9100:$G18360,4,FALSE)","v":"IG7-116355"},"IG7"]
[null,"Yik Dennis",{"$f":"VLOOKUP(B9100,[1]export_1465921594229!$D9101:$G18361,4,FALSE)","v":"T70-119898"},"T70"]
[null,"Yim Grace",{"$f":"VLOOKUP(B9101,[1]export_1465921594229!$D9102:$G18362,4,FALSE)","v":"KJ1-116704"},"KJ1"]
[null,"Yin Xiang",{"$f":"VLOOKUP(B9102,[1]export_1465921594229!$D9103:$G18363,4,FALSE)","v":"N64-120817"},"N64"]
[null,"Yogeswaran Subramaniam",{"$f":"VLOOKUP(B9103,[1]export_1465921594229!$D9104:$G18364,4,FALSE)","v":"GF4-121242"},"GF4"]
[null,"Yoon Sung Min",{"$f":"VLOOKUP(B9104,[1]export_1465921594229!$D9105:$G18365,4,FALSE)","v":"NL7-117213"},"NL7"]
[null,"Youb(T Rex Insurance Ltd) Bruce",{"$f":"VLOOKUP(B9105,[1]export_1465921594229!$D9106:$G18366,4,FALSE)","v":"QV0-117797"},"QV0"]
[null,"Young Andrew Dawson",{"$f":"VLOOKUP(B9106,[1]export_1465921594229!$D9107:$G18367,4,FALSE)","v":"AM4-118141"},"AM4"]
[null,"Young Daryl",{"$f":"VLOOKUP(B9107,[1]export_1465921594229!$D9108:$G18368,4,FALSE)","v":"D3W-125454"},"D3W"]
[null,"Young Jeffrey",{"$f":"VLOOKUP(B9108,[1]export_1465921594229!$D9109:$G18369,4,FALSE)","v":"BW0-118261"},"BW0"]
[null,"Young Michelle",{"$f":"VLOOKUP(B9109,[1]export_1465921594229!$D9110:$G18370,4,FALSE)","v":"LF2-116833"},"LF2"]
[null,"Young Choang Wong Kim Ling",{"$f":"VLOOKUP(B9110,[1]export_1465921594229!$D9111:$G18371,4,FALSE)","v":"DLI-124989"},"DLI"]
[null,"Younger Marc",{"$f":"VLOOKUP(B9111,[1]export_1465921594229!$D9112:$G18372,4,FALSE)","v":"CX1-660058"},"CX1"]
[null,"Younghusband Ryan",{"$f":"VLOOKUP(B9112,[1]export_1465921594229!$D9113:$G18373,4,FALSE)","v":"CA8-121729"},"CA8"]
[null,"Yu Alan",{"$f":"VLOOKUP(B9113,[1]export_1465921594229!$D9114:$G18374,4,FALSE)","v":"CZZ-124454"},"CZZ"]
[null,"Yu Jian",{"$f":"VLOOKUP(B9114,[1]export_1465921594229!$D9115:$G18375,4,FALSE)","v":"N90-120833"},"N90"]
[null,"Yu Michelle",{"$f":"VLOOKUP(B9115,[1]export_1465921594229!$D9116:$G18376,4,FALSE)","v":"RB6-117866"},"RB6"]
[null,"Yu Vicki",{"$f":"VLOOKUP(B9116,[1]export_1465921594229!$D9117:$G18377,4,FALSE)","v":"HW4-119072"},"HW4"]
[null,"Yua Yvonne",{"$f":"VLOOKUP(B9117,[1]export_1465921594229!$D9118:$G18378,4,FALSE)","v":"HW3-116280"},"HW3"]
[null,"Yuill-Fletcher Christa",{"$f":"VLOOKUP(B9118,[1]export_1465921594229!$D9119:$G18379,4,FALSE)","v":"FR4-118772"},"FR4"]
[null,"Yvon Andre",{"$f":"VLOOKUP(B9119,[1]export_1465921594229!$D9120:$G18380,4,FALSE)","v":"G73-118837"},"G73"]
[null,"Zahabi Nahdi",{"$f":"VLOOKUP(B9120,[1]export_1465921594229!$D9121:$G18381,4,FALSE)","v":"Q36-119688"},"Q36"]
[null,"Zahedi Dilawar",{"$f":"VLOOKUP(B9121,[1]export_1465921594229!$D9122:$G18382,4,FALSE)","v":"GX6-116138"},"GX6"]
[null,"Zaher Christina",{"$f":"VLOOKUP(B9122,[1]export_1465921594229!$D9123:$G18383,4,FALSE)","v":"CEM-123927"},"CEM"]
[null,"Zaher Christina",{"$f":"VLOOKUP(B9123,[1]export_1465921594229!$D9124:$G18384,4,FALSE)","v":"CCH-123874"},"CCH"]
[null,"Zalatan Michel",{"$f":"VLOOKUP(B9124,[1]export_1465921594229!$D9125:$G18385,4,FALSE)","v":"C98-121722"},"C98"]
[null,"Zamora Luis",{"$f":"VLOOKUP(B9125,[1]export_1465921594229!$D9126:$G18386,4,FALSE)","v":"BR7-115800"},"BR7"]
[null,"Zamora Ma Reggie Villasis",{"$f":"VLOOKUP(B9126,[1]export_1465921594229!$D9127:$G18387,4,FALSE)","v":"DVI-125240"},"DVI"]
[null,"Zamora Thelma Lina",{"$f":"VLOOKUP(B9127,[1]export_1465921594229!$D9128:$G18388,4,FALSE)","v":"DHB-124883"},"DHB"]
[null,"Zanellato Marius",{"$f":"VLOOKUP(B9128,[1]export_1465921594229!$D9129:$G18389,4,FALSE)","v":"H23-121283"},"H23"]
[null,"Zaouaga Tidjani",{"$f":"VLOOKUP(B9129,[1]export_1465921594229!$D9130:$G18390,4,FALSE)","v":"M49-120865"},"M49"]
[null,"Zaouaga Tidjani",{"$f":"VLOOKUP(B9130,[1]export_1465921594229!$D9131:$G18391,4,FALSE)","v":"G52-121346"},"G52"]
[null,"Zarow Paul A.",{"$f":"VLOOKUP(B9131,[1]export_1465921594229!$D9132:$G18392,4,FALSE)","v":"F55-118663"},"F55"]
[null,"Zaydel Irina",{"$f":"VLOOKUP(B9132,[1]export_1465921594229!$D9133:$G18393,4,FALSE)","v":"MB2-116977"},"MB2"]
[null,"Zehr John",{"$f":"VLOOKUP(B9133,[1]export_1465921594229!$D9134:$G18394,4,FALSE)","v":"DS0-118432"},"DS0"]
[null,"Zehr Robert",{"$f":"VLOOKUP(B9134,[1]export_1465921594229!$D9135:$G18395,4,FALSE)","v":"QT1-117782"},"QT1"]
[null,"Zehri Zarak",{"$f":"VLOOKUP(B9135,[1]export_1465921594229!$D9136:$G18396,4,FALSE)","v":"ED7-118545"},"ED7"]
[null,"Zeidel Jonathan",{"$f":"VLOOKUP(B9136,[1]export_1465921594229!$D9137:$G18397,4,FALSE)","v":"B3M-660476"},"B3M"]
[null,"Zeise Kenneth",{"$f":"VLOOKUP(B9137,[1]export_1465921594229!$D9138:$G18398,4,FALSE)","v":"MR0-117081"},"MR0"]
[null,"Zepeda Eduardo",{"$f":"VLOOKUP(B9138,[1]export_1465921594229!$D9139:$G18399,4,FALSE)","v":"CO0-121634"},"CO0"]
[null,"Zerdani Omar",{"$f":"VLOOKUP(B9139,[1]export_1465921594229!$D9140:$G18400,4,FALSE)","v":"BN8-121866"},"BN8"]
[null,"Zetazate Elizabeth",{"$f":"VLOOKUP(B9140,[1]export_1465921594229!$D9141:$G18401,4,FALSE)","v":"JS4-116569"},"JS4"]
[null,"Zhan Yan Yan",{"$f":"VLOOKUP(B9141,[1]export_1465921594229!$D9142:$G18402,4,FALSE)","v":"BVS-123474"},"BVS"]
[null,"Zhang Hongze",{"$f":"VLOOKUP(B9142,[1]export_1465921594229!$D9143:$G18403,4,FALSE)","v":"N68-120821"},"N68"]
[null,"Zhao 82sddc Wenling",{"$f":"VLOOKUP(B9143,[1]export_1465921594229!$D9144:$G18404,4,FALSE)","v":"LU5-116915"},"LU5"]
[null,"Zhong Huan",{"$f":"VLOOKUP(B9144,[1]export_1465921594229!$D9145:$G18405,4,FALSE)","v":"GN9-118918"},"GN9"]
[null,"Zhu Jia Li",{"$f":"VLOOKUP(B9145,[1]export_1465921594229!$D9146:$G18406,4,FALSE)","v":"LO2-116884"},"LO2"]
[null,"Zimmerman Blayne",{"$f":"VLOOKUP(B9146,[1]export_1465921594229!$D9147:$G18407,4,FALSE)","v":"DGX-124879"},"DGX"]
[null,"Zimmerman Mervyn",{"$f":"VLOOKUP(B9147,[1]export_1465921594229!$D9148:$G18408,4,FALSE)","v":"A6J-123010"},"A6J"]
[null,"Ziola Sean",{"$f":"VLOOKUP(B9148,[1]export_1465921594229!$D9149:$G18409,4,FALSE)","v":"DL0-121526"},"DL0"]
[null,"Zonio John Erickson",{"$f":"VLOOKUP(B9149,[1]export_1465921594229!$D9150:$G18410,4,FALSE)","v":"DXR-125301"},"DXR"]
[null,"Zoudina Natalia",{"$f":"VLOOKUP(B9150,[1]export_1465921594229!$D9151:$G18411,4,FALSE)","v":"HW5-116281"},"HW5"]
[null," ",{"$f":"VLOOKUP(B9151,[1]export_1465921594229!$D9152:$G18412,4,FALSE)","v":"V15-115557"},"V15"]
[null," ",{"$f":"VLOOKUP(B9152,[1]export_1465921594229!$D9153:$G18413,4,FALSE)","v":"AX0-550194"},"AX0"]
[null," ",{"$f":"VLOOKUP(B9153,[1]export_1465921594229!$D9154:$G18414,4,FALSE)","v":"V14-115556"},"V14"]
[null," ",{"$f":"VLOOKUP(B9154,[1]export_1465921594229!$D9155:$G18415,4,FALSE)","v":"D93-115467"},{"$f":"LEFT(C9154,3)","v":"D93"}]
[null," ",{"$f":"VLOOKUP(B9155,[1]export_1465921594229!$D9156:$G18416,4,FALSE)","v":"F35-115541"},"F35"]
[null," ",{"$f":"VLOOKUP(B9156,[1]export_1465921594229!$D9157:$G18417,4,FALSE)","v":"990-115527"},"990"]
[null," ",{"$f":"VLOOKUP(B9157,[1]export_1465921594229!$D9158:$G18418,4,FALSE)","v":"973-115510"},"973"]
[null," ",{"$f":"VLOOKUP(B9158,[1]export_1465921594229!$D9159:$G18419,4,FALSE)","v":"977-115514"},"977"]
[null," ",{"$f":"VLOOKUP(B9159,[1]export_1465921594229!$D9160:$G18420,4,FALSE)","v":"P30-115481"},"P30"]
[null," ",{"$f":"VLOOKUP(B9160,[1]export_1465921594229!$D9161:$G18421,4,FALSE)","v":"GK1-115544"},"GK1"]
[null," ",{"$f":"VLOOKUP(B9161,[1]export_1465921594229!$D9162:$G18422,4,FALSE)","v":"G63-115543"},"G63"]
[null," ",{"$f":"VLOOKUP(B9162,[1]export_1465921594229!$D9163:$G18423,4,FALSE)","v":"S19-115551"},"S19"]
[null," ",{"$f":"VLOOKUP(B9163,[1]export_1465921594229!$D9164:$G18424,4,FALSE)","v":"EK4-115470"},"EK4"]
[null," ",{"$f":"VLOOKUP(B9164,[1]export_1465921594229!$D9165:$G18425,4,FALSE)","v":"896-115456"},"896"]
[null," ",{"$f":"VLOOKUP(B9165,[1]export_1465921594229!$D9166:$G18426,4,FALSE)","v":"898-115459"},"898"]
[null," ",{"$f":"VLOOKUP(B9166,[1]export_1465921594229!$D9167:$G18427,4,FALSE)","v":"KA9-115473"},"KA9"]
[null," ",{"$f":"VLOOKUP(B9167,[1]export_1465921594229!$D9168:$G18428,4,FALSE)","v":"996-115533"},"996"]
[null," ",{"$f":"VLOOKUP(B9168,[1]export_1465921594229!$D9169:$G18429,4,FALSE)","v":"HZ4-115471"},"HZ4"]
[null," ",{"$f":"VLOOKUP(B9169,[1]export_1465921594229!$D9170:$G18430,4,FALSE)","v":"NR3-115479"},"NR3"]
[null," ",{"$f":"VLOOKUP(B9170,[1]export_1465921594229!$D9171:$G18431,4,FALSE)","v":"MF4-115476"},"MF4"]
[null," ",{"$f":"VLOOKUP(B9171,[1]export_1465921594229!$D9172:$G18432,4,FALSE)","v":"CIE-124020"},"CIE"]
[null," ",{"$f":"VLOOKUP(B9172,[1]export_1465921594229!$D9173:$G18433,4,FALSE)","v":"931-115494"},"931"]
[null," ",{"$f":"VLOOKUP(B9173,[1]export_1465921594229!$D9174:$G18434,4,FALSE)","v":"901-115502"},"901"]
[null," ",{"$f":"VLOOKUP(B9174,[1]export_1465921594229!$D9175:$G18435,4,FALSE)","v":"951-115506"},"951"]
[null," ",{"$f":"VLOOKUP(B9175,[1]export_1465921594229!$D9176:$G18436,4,FALSE)","v":"K95-115472"},"K95"]
[null," ",{"$f":"VLOOKUP(B9176,[1]export_1465921594229!$D9177:$G18437,4,FALSE)","v":"P43-115546"},"P43"]
[null," ",{"$f":"VLOOKUP(B9177,[1]export_1465921594229!$D9178:$G18438,4,FALSE)","v":"994-115531"},"994"]
[null," ",{"$f":"VLOOKUP(B9178,[1]export_1465921594229!$D9179:$G18439,4,FALSE)","v":"V20-115562"},"V20"]
[null," ",{"$f":"VLOOKUP(B9179,[1]export_1465921594229!$D9180:$G18440,4,FALSE)","v":"BTM-123429"},"BTM"]
[null," ",{"$f":"VLOOKUP(B9180,[1]export_1465921594229!$D9181:$G18441,4,FALSE)","v":"R69-115549"},"R69"]
[null," ",{"$f":"VLOOKUP(B9181,[1]export_1465921594229!$D9182:$G18442,4,FALSE)","v":"986-115523"},"986"]
[null," ",{"$f":"VLOOKUP(B9182,[1]export_1465921594229!$D9183:$G18443,4,FALSE)","v":"E26-115539"},"E26"]
[null," ",{"$f":"VLOOKUP(B9183,[1]export_1465921594229!$D9184:$G18444,4,FALSE)","v":"984-115521"},"984"]
[null," ",{"$f":"VLOOKUP(B9184,[1]export_1465921594229!$D9185:$G18445,4,FALSE)","v":"988-115525"},"988"]
[null," ",{"$f":"VLOOKUP(B9185,[1]export_1465921594229!$D9186:$G18446,4,FALSE)","v":"DU4-115469"},"DU4"]
[null," ",{"$f":"VLOOKUP(B9186,[1]export_1465921594229!$D9187:$G18447,4,FALSE)","v":"W43-115488"},"W43"]
[null," ",{"$f":"VLOOKUP(B9187,[1]export_1465921594229!$D9188:$G18448,4,FALSE)","v":"971-115508"},"971"]
[null," ",{"$f":"VLOOKUP(B9188,[1]export_1465921594229!$D9189:$G18449,4,FALSE)","v":"V67-115486"},"V67"]
[null," ",{"$f":"VLOOKUP(B9189,[1]export_1465921594229!$D9190:$G18450,4,FALSE)","v":"980-115517"},"980"]
[null," ",{"$f":"VLOOKUP(B9190,[1]export_1465921594229!$D9191:$G18451,4,FALSE)","v":"DK5-115537"},"DK5"]
[null," ",{"$f":"VLOOKUP(B9191,[1]export_1465921594229!$D9192:$G18452,4,FALSE)","v":"989-115526"},"989"]
[null," ",{"$f":"VLOOKUP(B9192,[1]export_1465921594229!$D9193:$G18453,4,FALSE)","v":"R70-115550"},"R70"]
[null," ",{"$f":"VLOOKUP(B9193,[1]export_1465921594229!$D9194:$G18454,4,FALSE)","v":"V16-115558"},"V16"]
[null," ",{"$f":"VLOOKUP(B9194,[1]export_1465921594229!$D9195:$G18455,4,FALSE)","v":"995-115532"},"995"]
[null," ",{"$f":"VLOOKUP(B9195,[1]export_1465921594229!$D9196:$G18456,4,FALSE)","v":"Z67-550486"},"Z67"]
[null," ",{"$f":"VLOOKUP(B9196,[1]export_1465921594229!$D9197:$G18457,4,FALSE)","v":"992-115529"},"992"]
[null," ",{"$f":"VLOOKUP(B9197,[1]export_1465921594229!$D9198:$G18458,4,FALSE)","v":"V19-115561"},"V19"]
[null," ",{"$f":"VLOOKUP(B9198,[1]export_1465921594229!$D9199:$G18459,4,FALSE)","v":"V18-115560"},"V18"]
[null," ",{"$f":"VLOOKUP(B9199,[1]export_1465921594229!$D9200:$G18460,4,FALSE)","v":"943-550518"},"943"]
[null," ",{"$f":"VLOOKUP(B9200,[1]export_1465921594229!$D9201:$G18461,4,FALSE)","v":"982-550500"},"982"]
[null," ",{"$f":"VLOOKUP(B9201,[1]export_1465921594229!$D9202:$G18462,4,FALSE)","v":"EG0-115540"},"EG0"]
[null," ",{"$f":"VLOOKUP(B9202,[1]export_1465921594229!$D9203:$G18463,4,FALSE)","v":"975-550490"},"975"]
[null," ",{"$f":"VLOOKUP(B9203,[1]export_1465921594229!$D9204:$G18464,4,FALSE)","v":"991-115528"},"991"]
[null," ",{"$f":"VLOOKUP(B9204,[1]export_1465921594229!$D9205:$G18465,4,FALSE)","v":"V12-115554"},"V12"]
[null," ",{"$f":"VLOOKUP(B9205,[1]export_1465921594229!$D9206:$G18466,4,FALSE)","v":"W03-115487"},"W03"]
[null," ",{"$f":"VLOOKUP(B9206,[1]export_1465921594229!$D9207:$G18467,4,FALSE)","v":"MW3-115478"},"MW3"]
[null," ",{"$f":"VLOOKUP(B9207,[1]export_1465921594229!$D9208:$G18468,4,FALSE)","v":"LJ3-115474"},"LJ3"]
[null," ",{"$f":"VLOOKUP(B9208,[1]export_1465921594229!$D9209:$G18469,4,FALSE)","v":"987-115524"},"987"]
[null," ",{"$f":"VLOOKUP(B9209,[1]export_1465921594229!$D9210:$G18470,4,FALSE)","v":"978-550507"},"978"]
[null," ",{"$f":"VLOOKUP(B9210,[1]export_1465921594229!$D9211:$G18471,4,FALSE)","v":"979-550483"},"979"]
[null," ",{"$f":"VLOOKUP(B9211,[1]export_1465921594229!$D9212:$G18472,4,FALSE)","v":"972-115509"},"972"]
[null," ",{"$f":"VLOOKUP(B9212,[1]export_1465921594229!$D9213:$G18473,4,FALSE)","v":"933-115493"},"933"]
[null," ",{"$f":"VLOOKUP(B9213,[1]export_1465921594229!$D9214:$G18474,4,FALSE)","v":"998-115535"},"998"]
[null," ",{"$f":"VLOOKUP(B9214,[1]export_1465921594229!$D9215:$G18475,4,FALSE)","v":"V17-115559"},"V17"]
[null," ",{"$f":"VLOOKUP(B9215,[1]export_1465921594229!$D9216:$G18476,4,FALSE)","v":"DC5-115468"},"DC5"]
[null," ",{"$f":"VLOOKUP(B9216,[1]export_1465921594229!$D9217:$G18477,4,FALSE)","v":"PL7-115482"},"PL7"]
[null," ",{"$f":"VLOOKUP(B9217,[1]export_1465921594229!$D9218:$G18478,4,FALSE)","v":"RD3-115483"},"RD3"]
[null," ",{"$f":"VLOOKUP(B9218,[1]export_1465921594229!$D9219:$G18479,4,FALSE)","v":"LO9-115475"},{"$f":"LEFT(C9218,3)","v":"LO9"}]
[null," ",{"$f":"VLOOKUP(B9219,[1]export_1465921594229!$D9220:$G18480,4,FALSE)","v":"Z77-115564"},"Z77"]
[null," ",{"$f":"VLOOKUP(B9220,[1]export_1465921594229!$D9221:$G18481,4,FALSE)","v":"983-550481"},"983"]
[null," ",{"$f":"VLOOKUP(B9221,[1]export_1465921594229!$D9222:$G18482,4,FALSE)","v":"997-115534"},"997"]
[null," ",{"$f":"VLOOKUP(B9222,[1]export_1465921594229!$D9223:$G18483,4,FALSE)","v":"934-115504"},"934"]
[null," ",{"$f":"VLOOKUP(B9223,[1]export_1465921594229!$D9224:$G18484,4,FALSE)","v":"S56-115552"},"S56"]
[null," ",{"$f":"VLOOKUP(B9224,[1]export_1465921594229!$D9225:$G18485,4,FALSE)","v":"OG5-115480"},"OG5"]
[null," ",{"$f":"VLOOKUP(B9225,[1]export_1465921594229!$D9226:$G18486,4,FALSE)","v":"Q14-115548"},"Q14"]
[null," ",{"$f":"VLOOKUP(B9226,[1]export_1465921594229!$D9227:$G18487,4,FALSE)","v":"974-115511"},"974"]
[null," ",{"$f":"VLOOKUP(B9227,[1]export_1465921594229!$D9228:$G18488,4,FALSE)","v":"902-115503"},"902"]
[null," ",{"$f":"VLOOKUP(B9228,[1]export_1465921594229!$D9229:$G18489,4,FALSE)","v":"221-115497"},"221"]
[null," ",{"$f":"VLOOKUP(B9229,[1]export_1465921594229!$D9230:$G18490,4,FALSE)","v":"225-115498"},"225"]
[null," ",{"$f":"VLOOKUP(B9230,[1]export_1465921594229!$D9231:$G18491,4,FALSE)","v":"303-115501"},"303"]
[null," ",{"$f":"VLOOKUP(B9231,[1]export_1465921594229!$D9232:$G18492,4,FALSE)","v":"242-115500"},"242"]
[null," ",{"$f":"VLOOKUP(B9232,[1]export_1465921594229!$D9233:$G18493,4,FALSE)","v":"230-115499"},"230"]
[null," ",{"$f":"VLOOKUP(B9233,[1]export_1465921594229!$D9234:$G18494,4,FALSE)","v":"219-115496"},"219"]
[null," ",{"$f":"VLOOKUP(B9234,[1]export_1465921594229!$D9235:$G18495,4,FALSE)","v":"216-115495"},"216"]
[null," ",{"$f":"VLOOKUP(B9235,[1]export_1465921594229!$D9236:$G18496,4,FALSE)","v":"V51-115485"},"V51"]
[null," ",{"$f":"VLOOKUP(B9236,[1]export_1465921594229!$D9237:$G18497,4,FALSE)","v":"V13-115555"},"V13"]
[null," ",{"$f":"VLOOKUP(B9237,[1]export_1465921594229!$D9238:$G18498,4,FALSE)","v":"985-115522"},"985"]
[null," ",{"$f":"VLOOKUP(B9238,[1]export_1465921594229!$D9239:$G18499,4,FALSE)","v":"976-115513"},"976"]
[null," ",{"$f":"VLOOKUP(B9239,[1]export_1465921594229!$D9240:$G18500,4,FALSE)","v":"V50-115484"},"V50"]
[null," ",{"$f":"VLOOKUP(B9240,[1]export_1465921594229!$D9241:$G18501,4,FALSE)","v":"970-115507"},"970"]
[null," ",{"$f":"VLOOKUP(B9241,[1]export_1465921594229!$D9242:$G18502,4,FALSE)","v":"O41-115545"},"O41"]
[null," ",{"$f":"VLOOKUP(B9242,[1]export_1465921594229!$D9243:$G18503,4,FALSE)","v":"BNR-123312"},"BNR"]
[null," ",{"$f":"VLOOKUP(B9243,[1]export_1465921594229!$D9244:$G18504,4,FALSE)","v":"D78-115466"},"D78"]
[null," ",{"$f":"VLOOKUP(B9244,[1]export_1465921594229!$D9245:$G18505,4,FALSE)","v":"P48-115547"},"P48"]
[null," ",{"$f":"VLOOKUP(B9245,[1]export_1465921594229!$D9246:$G18506,4,FALSE)","v":"L40-115492"},"L40"]
[null," ",{"$f":"VLOOKUP(B9246,[1]export_1465921594229!$D9247:$G18507,4,FALSE)","v":"B7R-123759"},"B7R"]
[null," ",{"$f":"VLOOKUP(B9247,[1]export_1465921594229!$D9248:$G18508,4,FALSE)","v":"V11-115553"},"V11"]
[null," ",{"$f":"VLOOKUP(B9248,[1]export_1465921594229!$D9249:$G18509,4,FALSE)","v":"981-115518"},"981"]
[null," ",{"$f":"VLOOKUP(B9249,[1]export_1465921594229!$D9250:$G18510,4,FALSE)","v":"AG7-115464"},"AG7"]
[null," ",{"$f":"VLOOKUP(B9250,[1]export_1465921594229!$D9251:$G18511,4,FALSE)","v":"AG6-115463"},"AG6"]
[null," ",{"$f":"VLOOKUP(B9251,[1]export_1465921594229!$D9252:$G18512,4,FALSE)","v":"X54-115489"},"X54"]
[null," ",{"$f":"VLOOKUP(B9252,[1]export_1465921594229!$D9253:$G18513,4,FALSE)","v":"Z05-115460"},"Z05"]
[null," ",{"$f":"VLOOKUP(B9253,[1]export_1465921594229!$D9254:$G18514,4,FALSE)","v":"Z02-115490"},"Z02"]
[null," ",{"$f":"VLOOKUP(B9254,[1]export_1465921594229!$D9255:$G18515,4,FALSE)","v":"AD1-115462"},"AD1"]
[null," ",{"$f":"VLOOKUP(B9255,[1]export_1465921594229!$D9256:$G18516,4,FALSE)","v":"Z04-115461"},"Z04"]
[null," ",{"$f":"VLOOKUP(B9256,[1]export_1465921594229!$D9257:$G18517,4,FALSE)","v":"Z03-115491"},"Z03"]
[null," ",{"$f":"VLOOKUP(B9257,[1]export_1465921594229!$D9258:$G18518,4,FALSE)","v":"Z06-115457"},"Z06"]
[null," ",{"$f":"VLOOKUP(B9258,[1]export_1465921594229!$D9259:$G18519,4,FALSE)","v":"DX4-115538"},"DX4"]
[null," ",{"$f":"VLOOKUP(B9259,[1]export_1465921594229!$D9260:$G18520,4,FALSE)","v":"993-550489"},"993"]
[null," ",{"$f":"VLOOKUP(B9260,[1]export_1465921594229!$D9261:$G18521,4,FALSE)","v":"DPX-125105"},"DPX"]
[null," ",{"$f":"VLOOKUP(B9261,[1]export_1465921594229!$D9262:$G18522,4,FALSE)","v":"MI8-115477"},"MI8"]