{"text_format":"1","workbook":"xlsx","n_sheets":3,"sheets":["Jaugeage","Météo","BDDG"],"not_rendered":{"charts":0,"images":0,"macros":1,"external_links":0,"defined_names":57,"comments":0,"pivot_tables":0},"unopened":[],"bounds":{"document_bytes":16777216,"sheet_cells":100000,"rows_first":2000,"rows_last":500,"rows_between":2000,"halvings":0,"cell_chars":16384,"cell_head_chars":4096},"cells_cut":0,"cells_raw":0,"read":"whole","date_system":"1900"}

{"sheet":"Jaugeage","index":0,"n_rows":1123,"n_cols":26,"rows_kept":1123,"cut":false,"hidden":false,"merged":[]}
["Date","Météo","Code","N° Ars","Syndicat","Sect","Commune","Captages","Arrivée Nbrs","Nom ou N° source 1 (DROITE)","Vol 1","Temps 1","M3 /J 1","Nom ou N° source 2 (GAUCHE)","Vol 2","Temps 2","M3 /J 2","Nom ou N° source 3 (MILIEU)","Vol 3","Temps 3","M3 /J 3","Total M3/J ","Mois","Année","Différence","Observations"]
["1969-06-24",null,838,{"$f":"IF(ISNA(VLOOKUP(C2,BDDG!$A$2:$F$100,2,FALSE)),\"\",VLOOKUP(C2,BDDG!$A$2:$F$100,2,FALSE))","v":0},{"$f":"IF(ISNA(VLOOKUP(C2,BDDG!$A$3:$J$102,3,FALSE)),\"\",VLOOKUP(C2,BDDG!$A$3:$J$102,3,FALSE))","v":"A"},{"$f":"IF(ISNA(VLOOKUP(C2,BDDG!$A$3:$J$102,4,FALSE)),\"\",VLOOKUP(C2,BDDG!$A$3:$J$102,4,FALSE))","v":106},{"$f":"IF(ISNA(VLOOKUP(C2,BDDG!$A$2:$F$100,5,FALSE)),\"\",VLOOKUP(C2,BDDG!$A$2:$F$100,5,FALSE))","v":"A3"},{"$f":"IF(ISNA(VLOOKUP(C2,BDDG!$A$2:$F$100,6,FALSE)),\"\",VLOOKUP(C2,BDDG!$A$2:$F$100,6,FALSE))","v":"AA8"},{"$f":"IF(ISERROR(VLOOKUP(C2,BDDG!$A$2:$G$100,7,FALSE)),\"\",VLOOKUP(C2,BDDG!$A$2:$G$100,7,FALSE))","v":1},{"$f":"IF(ISERROR(VLOOKUP(C2,BDDG!$A$2:$H$100,8,FALSE)),\"\",VLOOKUP(C2,BDDG!$A$2:$H$100,8,FALSE))","v":"BB8"},20,60,{"$f":" IF(ISERROR(K2/L2*86.4),\"\",K2/L2*86.4)","v":28.8},{"$f":"IF(ISERROR(VLOOKUP(C2,BDDG!$A$2:$I$100,9,FALSE)),\"\",VLOOKUP(C2,BDDG!$A$2:$I$100,9,FALSE))","v":"CC8"},null,null,{"$f":" IF(ISERROR(O2/P2*86.4),\"\",O2/P2*86.4)","v":""},{"$f":"IF(ISERROR(VLOOKUP(C2,BDDG!$A$2:$J$100,10,FALSE)),\"\",VLOOKUP(C2,BDDG!$A$2:$J$100,10,FALSE))","v":"DD8"},null,null,{"$f":" IF(ISERROR(S2/T2*86.4),\"\",S2/T2*86.4)","v":""},{"$f":"IF(ISERROR(SUM(M2,Q2,U2)),\"\",SUM(M2,Q2,U2))","v":28.8},{"$f":"MONTH(A:A)","v":6},{"$f":"YEAR(A:A)","v":1969},{"$f":"IFERROR(INDEX($V$2:V2,MATCH(H2&MAX(IF($H1:H$1=H2,$A$1:A1)),$H$2:H2&$A$2:A2,0))-V2,\"\")","v":""}]
["1969-06-24",null,837,{"$f":"IF(ISNA(VLOOKUP(C3,BDDG!$A$2:$F$100,2,FALSE)),\"\",VLOOKUP(C3,BDDG!$A$2:$F$100,2,FALSE))","v":0},{"$f":"IF(ISNA(VLOOKUP(C3,BDDG!$A$3:$J$102,3,FALSE)),\"\",VLOOKUP(C3,BDDG!$A$3:$J$102,3,FALSE))","v":"A"},{"$f":"IF(ISNA(VLOOKUP(C3,BDDG!$A$3:$J$102,4,FALSE)),\"\",VLOOKUP(C3,BDDG!$A$3:$J$102,4,FALSE))","v":106},{"$f":"IF(ISNA(VLOOKUP(C3,BDDG!$A$2:$F$100,5,FALSE)),\"\",VLOOKUP(C3,BDDG!$A$2:$F$100,5,FALSE))","v":"A3"},{"$f":"IF(ISNA(VLOOKUP(C3,BDDG!$A$2:$F$100,6,FALSE)),\"\",VLOOKUP(C3,BDDG!$A$2:$F$100,6,FALSE))","v":"AA7"},{"$f":"IF(ISERROR(VLOOKUP(C3,BDDG!$A$2:$G$100,7,FALSE)),\"\",VLOOKUP(C3,BDDG!$A$2:$G$100,7,FALSE))","v":1},{"$f":"IF(ISERROR(VLOOKUP(C3,BDDG!$A$2:$H$100,8,FALSE)),\"\",VLOOKUP(C3,BDDG!$A$2:$H$100,8,FALSE))","v":"BB7"},40,60,{"$f":" IF(ISERROR(K3/L3*86.4),\"\",K3/L3*86.4)","v":57.6},{"$f":"IF(ISERROR(VLOOKUP(C3,BDDG!$A$2:$I$100,9,FALSE)),\"\",VLOOKUP(C3,BDDG!$A$2:$I$100,9,FALSE))","v":"CC7"},null,null,"",{"$f":"IF(ISERROR(VLOOKUP(C3,BDDG!$A$2:$J$100,10,FALSE)),\"\",VLOOKUP(C3,BDDG!$A$2:$J$100,10,FALSE))","v":"DD7"},null,null,"",57.6,6,1969,{"$f":"IFERROR(INDEX($V$2:V3,MATCH(H3&MAX(IF($H$1:H2=H3,$A$1:A2)),$H$2:H3&$A$2:A3,0))-V3,\"\")","v":""}]
["1969-06-24",null,836,{"$f":"IF(ISNA(VLOOKUP(C4,BDDG!$A$2:$F$100,2,FALSE)),\"\",VLOOKUP(C4,BDDG!$A$2:$F$100,2,FALSE))","v":0},{"$f":"IF(ISNA(VLOOKUP(C4,BDDG!$A$3:$J$102,3,FALSE)),\"\",VLOOKUP(C4,BDDG!$A$3:$J$102,3,FALSE))","v":"A"},{"$f":"IF(ISNA(VLOOKUP(C4,BDDG!$A$3:$J$102,4,FALSE)),\"\",VLOOKUP(C4,BDDG!$A$3:$J$102,4,FALSE))","v":106},{"$f":"IF(ISNA(VLOOKUP(C4,BDDG!$A$2:$F$100,5,FALSE)),\"\",VLOOKUP(C4,BDDG!$A$2:$F$100,5,FALSE))","v":"A3"},{"$f":"IF(ISNA(VLOOKUP(C4,BDDG!$A$2:$F$100,6,FALSE)),\"\",VLOOKUP(C4,BDDG!$A$2:$F$100,6,FALSE))","v":"AA6"},{"$f":"IF(ISERROR(VLOOKUP(C4,BDDG!$A$2:$G$100,7,FALSE)),\"\",VLOOKUP(C4,BDDG!$A$2:$G$100,7,FALSE))","v":1},{"$f":"IF(ISERROR(VLOOKUP(C4,BDDG!$A$2:$H$100,8,FALSE)),\"\",VLOOKUP(C4,BDDG!$A$2:$H$100,8,FALSE))","v":"BB6"},120,60,{"$f":" IF(ISERROR(K4/L4*86.4),\"\",K4/L4*86.4)","v":172.8},{"$f":"IF(ISERROR(VLOOKUP(C4,BDDG!$A$2:$I$100,9,FALSE)),\"\",VLOOKUP(C4,BDDG!$A$2:$I$100,9,FALSE))","v":"CC6"},null,null,"",{"$f":"IF(ISERROR(VLOOKUP(C4,BDDG!$A$2:$J$100,10,FALSE)),\"\",VLOOKUP(C4,BDDG!$A$2:$J$100,10,FALSE))","v":"DD6"},null,null,"",172.8,6,1969,{"$f":"IFERROR(INDEX($V$2:V4,MATCH(H4&MAX(IF($H$1:H3=H4,$A$1:A3)),$H$2:H4&$A$2:A4,0))-V4,\"\")","v":""}]
["1969-06-24",null,839,{"$f":"IF(ISNA(VLOOKUP(C5,BDDG!$A$2:$F$100,2,FALSE)),\"\",VLOOKUP(C5,BDDG!$A$2:$F$100,2,FALSE))","v":0},{"$f":"IF(ISNA(VLOOKUP(C5,BDDG!$A$3:$J$102,3,FALSE)),\"\",VLOOKUP(C5,BDDG!$A$3:$J$102,3,FALSE))","v":"A"},{"$f":"IF(ISNA(VLOOKUP(C5,BDDG!$A$3:$J$102,4,FALSE)),\"\",VLOOKUP(C5,BDDG!$A$3:$J$102,4,FALSE))","v":106},{"$f":"IF(ISNA(VLOOKUP(C5,BDDG!$A$2:$F$100,5,FALSE)),\"\",VLOOKUP(C5,BDDG!$A$2:$F$100,5,FALSE))","v":"A3"},{"$f":"IF(ISNA(VLOOKUP(C5,BDDG!$A$2:$F$100,6,FALSE)),\"\",VLOOKUP(C5,BDDG!$A$2:$F$100,6,FALSE))","v":"AA10"},{"$f":"IF(ISERROR(VLOOKUP(C5,BDDG!$A$2:$G$100,7,FALSE)),\"\",VLOOKUP(C5,BDDG!$A$2:$G$100,7,FALSE))","v":2},{"$f":"IF(ISERROR(VLOOKUP(C5,BDDG!$A$2:$H$100,8,FALSE)),\"\",VLOOKUP(C5,BDDG!$A$2:$H$100,8,FALSE))","v":"BB10"},null,null,230.4,{"$f":"IF(ISERROR(VLOOKUP(C5,BDDG!$A$2:$I$100,9,FALSE)),\"\",VLOOKUP(C5,BDDG!$A$2:$I$100,9,FALSE))","v":"CC10"},null,null,"",{"$f":"IF(ISERROR(VLOOKUP(C5,BDDG!$A$2:$J$100,10,FALSE)),\"\",VLOOKUP(C5,BDDG!$A$2:$J$100,10,FALSE))","v":"DD10"},null,null,"",230.4,6,1969,{"$f":"IFERROR(INDEX($V$2:V5,MATCH(H5&MAX(IF($H$1:H4=H5,$A$1:A4)),$H$2:H5&$A$2:A5,0))-V5,\"\")","v":""}]
["1993-03-23",null,861,{"$f":"IF(ISNA(VLOOKUP(C6,BDDG!$A$2:$F$100,2,FALSE)),\"\",VLOOKUP(C6,BDDG!$A$2:$F$100,2,FALSE))","v":0},{"$f":"IF(ISNA(VLOOKUP(C6,BDDG!$A$3:$J$102,3,FALSE)),\"\",VLOOKUP(C6,BDDG!$A$3:$J$102,3,FALSE))","v":"A"},{"$f":"IF(ISNA(VLOOKUP(C6,BDDG!$A$3:$J$102,4,FALSE)),\"\",VLOOKUP(C6,BDDG!$A$3:$J$102,4,FALSE))","v":106},{"$f":"IF(ISNA(VLOOKUP(C6,BDDG!$A$2:$F$100,5,FALSE)),\"\",VLOOKUP(C6,BDDG!$A$2:$F$100,5,FALSE))","v":"A11"},{"$f":"IF(ISNA(VLOOKUP(C6,BDDG!$A$2:$F$100,6,FALSE)),\"\",VLOOKUP(C6,BDDG!$A$2:$F$100,6,FALSE))","v":"AA33"},{"$f":"IF(ISERROR(VLOOKUP(C6,BDDG!$A$2:$G$100,7,FALSE)),\"\",VLOOKUP(C6,BDDG!$A$2:$G$100,7,FALSE))","v":2},{"$f":"IF(ISERROR(VLOOKUP(C6,BDDG!$A$2:$H$100,8,FALSE)),\"\",VLOOKUP(C6,BDDG!$A$2:$H$100,8,FALSE))","v":"BB33"},null,null,null,{"$f":"IF(ISERROR(VLOOKUP(C6,BDDG!$A$2:$I$100,9,FALSE)),\"\",VLOOKUP(C6,BDDG!$A$2:$I$100,9,FALSE))","v":"CC33"},87,60,125.28,{"$f":"IF(ISERROR(VLOOKUP(C6,BDDG!$A$2:$J$100,10,FALSE)),\"\",VLOOKUP(C6,BDDG!$A$2:$J$100,10,FALSE))","v":"DD33"},null,null,"",{"$f":"IF(ISERROR(SUM(M6,Q6,U6)),\"\",SUM((M6,Q6,U6)))","v":125.28},3,1993,{"$f":"IFERROR(INDEX($V$2:V6,MATCH(H6&MAX(IF($H$1:H5=H6,$A$1:A5)),$H$2:H6&$A$2:A6,0))-V6,\"\")","v":""}]
["1993-03-23",null,862,{"$f":"IF(ISNA(VLOOKUP(C7,BDDG!$A$2:$F$100,2,FALSE)),\"\",VLOOKUP(C7,BDDG!$A$2:$F$100,2,FALSE))","v":0},{"$f":"IF(ISNA(VLOOKUP(C7,BDDG!$A$3:$J$102,3,FALSE)),\"\",VLOOKUP(C7,BDDG!$A$3:$J$102,3,FALSE))","v":"A"},{"$f":"IF(ISNA(VLOOKUP(C7,BDDG!$A$3:$J$102,4,FALSE)),\"\",VLOOKUP(C7,BDDG!$A$3:$J$102,4,FALSE))","v":106},{"$f":"IF(ISNA(VLOOKUP(C7,BDDG!$A$2:$F$100,5,FALSE)),\"\",VLOOKUP(C7,BDDG!$A$2:$F$100,5,FALSE))","v":"A12"},{"$f":"IF(ISNA(VLOOKUP(C7,BDDG!$A$2:$F$100,6,FALSE)),\"\",VLOOKUP(C7,BDDG!$A$2:$F$100,6,FALSE))","v":"AA34"},{"$f":"IF(ISERROR(VLOOKUP(C7,BDDG!$A$2:$G$100,7,FALSE)),\"\",VLOOKUP(C7,BDDG!$A$2:$G$100,7,FALSE))","v":1},{"$f":"IF(ISERROR(VLOOKUP(C7,BDDG!$A$2:$H$100,8,FALSE)),\"\",VLOOKUP(C7,BDDG!$A$2:$H$100,8,FALSE))","v":"BB34"},22,60,{"$f":" IF(ISERROR(K7/L7*86.4),\"\",K7/L7*86.4)","v":31.68},{"$f":"IF(ISERROR(VLOOKUP(C7,BDDG!$A$2:$I$100,9,FALSE)),\"\",VLOOKUP(C7,BDDG!$A$2:$I$100,9,FALSE))","v":"CC34"},null,null,"",{"$f":"IF(ISERROR(VLOOKUP(C7,BDDG!$A$2:$J$100,10,FALSE)),\"\",VLOOKUP(C7,BDDG!$A$2:$J$100,10,FALSE))","v":"DD34"},null,null,"",{"$f":"IF(ISERROR(SUM(M7,Q7,U7)),\"\",SUM(M7,Q7,U7))","v":31.68},3,1993,{"$f":"IFERROR(INDEX($V$2:V7,MATCH(H7&MAX(IF($H$1:H6=H7,$A$1:A6)),$H$2:H7&$A$2:A7,0))-V7,\"\")","v":""}]
["1993-11-29",null,835,{"$f":"IF(ISNA(VLOOKUP(C8,BDDG!$A$2:$F$100,2,FALSE)),\"\",VLOOKUP(C8,BDDG!$A$2:$F$100,2,FALSE))","v":0},{"$f":"IF(ISNA(VLOOKUP(C8,BDDG!$A$3:$J$102,3,FALSE)),\"\",VLOOKUP(C8,BDDG!$A$3:$J$102,3,FALSE))","v":"A"},{"$f":"IF(ISNA(VLOOKUP(C8,BDDG!$A$3:$J$102,4,FALSE)),\"\",VLOOKUP(C8,BDDG!$A$3:$J$102,4,FALSE))","v":106},{"$f":"IF(ISNA(VLOOKUP(C8,BDDG!$A$2:$F$100,5,FALSE)),\"\",VLOOKUP(C8,BDDG!$A$2:$F$100,5,FALSE))","v":"A3"},{"$f":"IF(ISNA(VLOOKUP(C8,BDDG!$A$2:$F$100,6,FALSE)),\"\",VLOOKUP(C8,BDDG!$A$2:$F$100,6,FALSE))","v":"AA5"},{"$f":"IF(ISERROR(VLOOKUP(C8,BDDG!$A$2:$G$100,7,FALSE)),\"\",VLOOKUP(C8,BDDG!$A$2:$G$100,7,FALSE))","v":1},{"$f":"IF(ISERROR(VLOOKUP(C8,BDDG!$A$2:$H$100,8,FALSE)),\"\",VLOOKUP(C8,BDDG!$A$2:$H$100,8,FALSE))","v":"BB5"},5,60,7.2,{"$f":"IF(ISERROR(VLOOKUP(C8,BDDG!$A$2:$I$100,9,FALSE)),\"\",VLOOKUP(C8,BDDG!$A$2:$I$100,9,FALSE))","v":"CC5"},null,null,"",{"$f":"IF(ISERROR(VLOOKUP(C8,BDDG!$A$2:$J$100,10,FALSE)),\"\",VLOOKUP(C8,BDDG!$A$2:$J$100,10,FALSE))","v":"DD5"},null,null,"",7.2,11,1993,{"$f":"IFERROR(INDEX($V$2:V8,MATCH(H8&MAX(IF($H$1:H7=H8,$A$1:A7)),$H$2:H8&$A$2:A8,0))-V8,\"\")","v":""}]
["1995-05-09",null,856,{"$f":"IF(ISNA(VLOOKUP(C9,BDDG!$A$2:$F$100,2,FALSE)),\"\",VLOOKUP(C9,BDDG!$A$2:$F$100,2,FALSE))","v":0},{"$f":"IF(ISNA(VLOOKUP(C9,BDDG!$A$3:$J$102,3,FALSE)),\"\",VLOOKUP(C9,BDDG!$A$3:$J$102,3,FALSE))","v":"A"},{"$f":"IF(ISNA(VLOOKUP(C9,BDDG!$A$3:$J$102,4,FALSE)),\"\",VLOOKUP(C9,BDDG!$A$3:$J$102,4,FALSE))","v":106},{"$f":"IF(ISNA(VLOOKUP(C9,BDDG!$A$2:$F$100,5,FALSE)),\"\",VLOOKUP(C9,BDDG!$A$2:$F$100,5,FALSE))","v":"A9"},{"$f":"IF(ISNA(VLOOKUP(C9,BDDG!$A$2:$F$100,6,FALSE)),\"\",VLOOKUP(C9,BDDG!$A$2:$F$100,6,FALSE))","v":"AA27"},{"$f":"IF(ISERROR(VLOOKUP(C9,BDDG!$A$2:$G$100,7,FALSE)),\"\",VLOOKUP(C9,BDDG!$A$2:$G$100,7,FALSE))","v":2},{"$f":"IF(ISERROR(VLOOKUP(C9,BDDG!$A$2:$H$100,8,FALSE)),\"\",VLOOKUP(C9,BDDG!$A$2:$H$100,8,FALSE))","v":"BB27"},10,21,41.142857142857146,{"$f":"IF(ISERROR(VLOOKUP(C9,BDDG!$A$2:$I$100,9,FALSE)),\"\",VLOOKUP(C9,BDDG!$A$2:$I$100,9,FALSE))","v":"CC27"},4,1,345.6,{"$f":"IF(ISERROR(VLOOKUP(C9,BDDG!$A$2:$J$100,10,FALSE)),\"\",VLOOKUP(C9,BDDG!$A$2:$J$100,10,FALSE))","v":"DD27"},null,null,"",386.74285714285719,5,1995,{"$f":"IFERROR(INDEX($V$2:V9,MATCH(H9&MAX(IF($H$1:H8=H9,$A$1:A8)),$H$2:H9&$A$2:A9,0))-V9,\"\")","v":""}]
["1996-08-01",null,860,{"$f":"IF(ISNA(VLOOKUP(C10,BDDG!$A$2:$F$100,2,FALSE)),\"\",VLOOKUP(C10,BDDG!$A$2:$F$100,2,FALSE))","v":0},{"$f":"IF(ISNA(VLOOKUP(C10,BDDG!$A$3:$J$102,3,FALSE)),\"\",VLOOKUP(C10,BDDG!$A$3:$J$102,3,FALSE))","v":"A"},{"$f":"IF(ISNA(VLOOKUP(C10,BDDG!$A$3:$J$102,4,FALSE)),\"\",VLOOKUP(C10,BDDG!$A$3:$J$102,4,FALSE))","v":106},{"$f":"IF(ISNA(VLOOKUP(C10,BDDG!$A$2:$F$100,5,FALSE)),\"\",VLOOKUP(C10,BDDG!$A$2:$F$100,5,FALSE))","v":"A11"},{"$f":"IF(ISNA(VLOOKUP(C10,BDDG!$A$2:$F$100,6,FALSE)),\"\",VLOOKUP(C10,BDDG!$A$2:$F$100,6,FALSE))","v":"AA32"},{"$f":"IF(ISERROR(VLOOKUP(C10,BDDG!$A$2:$G$100,7,FALSE)),\"\",VLOOKUP(C10,BDDG!$A$2:$G$100,7,FALSE))","v":2},{"$f":"IF(ISERROR(VLOOKUP(C10,BDDG!$A$2:$H$100,8,FALSE)),\"\",VLOOKUP(C10,BDDG!$A$2:$H$100,8,FALSE))","v":"BB32"},10,16,54,{"$f":"IF(ISERROR(VLOOKUP(C10,BDDG!$A$2:$I$100,9,FALSE)),\"\",VLOOKUP(C10,BDDG!$A$2:$I$100,9,FALSE))","v":"CC32"},null,null,"",{"$f":"IF(ISERROR(VLOOKUP(C10,BDDG!$A$2:$J$100,10,FALSE)),\"\",VLOOKUP(C10,BDDG!$A$2:$J$100,10,FALSE))","v":"DD32"},null,null,"",54,8,1996,{"$f":"IFERROR(INDEX($V$2:V10,MATCH(H10&MAX(IF($H$1:H9=H10,$A$1:A9)),$H$2:H10&$A$2:A10,0))-V10,\"\")","v":""}]
["1996-09-17",null,832,{"$f":"IF(ISNA(VLOOKUP(C11,BDDG!$A$2:$F$100,2,FALSE)),\"\",VLOOKUP(C11,BDDG!$A$2:$F$100,2,FALSE))","v":0},{"$f":"IF(ISNA(VLOOKUP(C11,BDDG!$A$3:$J$102,3,FALSE)),\"\",VLOOKUP(C11,BDDG!$A$3:$J$102,3,FALSE))","v":"A"},{"$f":"IF(ISNA(VLOOKUP(C11,BDDG!$A$3:$J$102,4,FALSE)),\"\",VLOOKUP(C11,BDDG!$A$3:$J$102,4,FALSE))","v":106},{"$f":"IF(ISNA(VLOOKUP(C11,BDDG!$A$2:$F$100,5,FALSE)),\"\",VLOOKUP(C11,BDDG!$A$2:$F$100,5,FALSE))","v":"A2"},{"$f":"IF(ISNA(VLOOKUP(C11,BDDG!$A$2:$F$100,6,FALSE)),\"\",VLOOKUP(C11,BDDG!$A$2:$F$100,6,FALSE))","v":"AA2"},{"$f":"IF(ISERROR(VLOOKUP(C11,BDDG!$A$2:$G$100,7,FALSE)),\"\",VLOOKUP(C11,BDDG!$A$2:$G$100,7,FALSE))","v":1},{"$f":"IF(ISERROR(VLOOKUP(C11,BDDG!$A$2:$H$100,8,FALSE)),\"\",VLOOKUP(C11,BDDG!$A$2:$H$100,8,FALSE))","v":"BB2"},10,7,123.42857142857144,{"$f":"IF(ISERROR(VLOOKUP(C11,BDDG!$A$2:$I$100,9,FALSE)),\"\",VLOOKUP(C11,BDDG!$A$2:$I$100,9,FALSE))","v":"CC2"},null,null,"",{"$f":"IF(ISERROR(VLOOKUP(C11,BDDG!$A$2:$J$100,10,FALSE)),\"\",VLOOKUP(C11,BDDG!$A$2:$J$100,10,FALSE))","v":"DD2"},null,null,"",123.42857142857144,9,1996,{"$f":"IFERROR(INDEX($V$2:V11,MATCH(H11&MAX(IF($H$1:H10=H11,$A$1:A10)),$H$2:H11&$A$2:A11,0))-V11,\"\")","v":""}]
["1996-09-17",null,833,{"$f":"IF(ISNA(VLOOKUP(C12,BDDG!$A$2:$F$100,2,FALSE)),\"\",VLOOKUP(C12,BDDG!$A$2:$F$100,2,FALSE))","v":0},{"$f":"IF(ISNA(VLOOKUP(C12,BDDG!$A$3:$J$102,3,FALSE)),\"\",VLOOKUP(C12,BDDG!$A$3:$J$102,3,FALSE))","v":"A"},{"$f":"IF(ISNA(VLOOKUP(C12,BDDG!$A$3:$J$102,4,FALSE)),\"\",VLOOKUP(C12,BDDG!$A$3:$J$102,4,FALSE))","v":106},{"$f":"IF(ISNA(VLOOKUP(C12,BDDG!$A$2:$F$100,5,FALSE)),\"\",VLOOKUP(C12,BDDG!$A$2:$F$100,5,FALSE))","v":"A2"},{"$f":"IF(ISNA(VLOOKUP(C12,BDDG!$A$2:$F$100,6,FALSE)),\"\",VLOOKUP(C12,BDDG!$A$2:$F$100,6,FALSE))","v":"AA3"},{"$f":"IF(ISERROR(VLOOKUP(C12,BDDG!$A$2:$G$100,7,FALSE)),\"\",VLOOKUP(C12,BDDG!$A$2:$G$100,7,FALSE))","v":1},{"$f":"IF(ISERROR(VLOOKUP(C12,BDDG!$A$2:$H$100,8,FALSE)),\"\",VLOOKUP(C12,BDDG!$A$2:$H$100,8,FALSE))","v":"BB3"},10,33,26.181818181818183,{"$f":"IF(ISERROR(VLOOKUP(C12,BDDG!$A$2:$I$100,9,FALSE)),\"\",VLOOKUP(C12,BDDG!$A$2:$I$100,9,FALSE))","v":"CC3"},null,null,"",{"$f":"IF(ISERROR(VLOOKUP(C12,BDDG!$A$2:$J$100,10,FALSE)),\"\",VLOOKUP(C12,BDDG!$A$2:$J$100,10,FALSE))","v":"DD3"},null,null,"",26.181818181818183,9,1996,{"$f":"IFERROR(INDEX($V$2:V12,MATCH(H12&MAX(IF($H$1:H11=H12,$A$1:A11)),$H$2:H12&$A$2:A12,0))-V12,\"\")","v":""}]
["1996-09-17",null,834,{"$f":"IF(ISNA(VLOOKUP(C13,BDDG!$A$2:$F$100,2,FALSE)),\"\",VLOOKUP(C13,BDDG!$A$2:$F$100,2,FALSE))","v":0},{"$f":"IF(ISNA(VLOOKUP(C13,BDDG!$A$3:$J$102,3,FALSE)),\"\",VLOOKUP(C13,BDDG!$A$3:$J$102,3,FALSE))","v":"A"},{"$f":"IF(ISNA(VLOOKUP(C13,BDDG!$A$3:$J$102,4,FALSE)),\"\",VLOOKUP(C13,BDDG!$A$3:$J$102,4,FALSE))","v":106},{"$f":"IF(ISNA(VLOOKUP(C13,BDDG!$A$2:$F$100,5,FALSE)),\"\",VLOOKUP(C13,BDDG!$A$2:$F$100,5,FALSE))","v":"A2"},{"$f":"IF(ISNA(VLOOKUP(C13,BDDG!$A$2:$F$100,6,FALSE)),\"\",VLOOKUP(C13,BDDG!$A$2:$F$100,6,FALSE))","v":"AA4"},{"$f":"IF(ISERROR(VLOOKUP(C13,BDDG!$A$2:$G$100,7,FALSE)),\"\",VLOOKUP(C13,BDDG!$A$2:$G$100,7,FALSE))","v":1},{"$f":"IF(ISERROR(VLOOKUP(C13,BDDG!$A$2:$H$100,8,FALSE)),\"\",VLOOKUP(C13,BDDG!$A$2:$H$100,8,FALSE))","v":"BB4"},10,36,24.000000000000004,{"$f":"IF(ISERROR(VLOOKUP(C13,BDDG!$A$2:$I$100,9,FALSE)),\"\",VLOOKUP(C13,BDDG!$A$2:$I$100,9,FALSE))","v":"CC4"},null,null,"",{"$f":"IF(ISERROR(VLOOKUP(C13,BDDG!$A$2:$J$100,10,FALSE)),\"\",VLOOKUP(C13,BDDG!$A$2:$J$100,10,FALSE))","v":"DD4"},null,null,"",24.000000000000004,9,1996,{"$f":"IFERROR(INDEX($V$2:V13,MATCH(H13&MAX(IF($H$1:H12=H13,$A$1:A12)),$H$2:H13&$A$2:A13,0))-V13,\"\")","v":""}]
["1996-10-31",null,835,{"$f":"IF(ISNA(VLOOKUP(C14,BDDG!$A$2:$F$100,2,FALSE)),\"\",VLOOKUP(C14,BDDG!$A$2:$F$100,2,FALSE))","v":0},{"$f":"IF(ISNA(VLOOKUP(C14,BDDG!$A$3:$J$102,3,FALSE)),\"\",VLOOKUP(C14,BDDG!$A$3:$J$102,3,FALSE))","v":"A"},{"$f":"IF(ISNA(VLOOKUP(C14,BDDG!$A$3:$J$102,4,FALSE)),\"\",VLOOKUP(C14,BDDG!$A$3:$J$102,4,FALSE))","v":106},{"$f":"IF(ISNA(VLOOKUP(C14,BDDG!$A$2:$F$100,5,FALSE)),\"\",VLOOKUP(C14,BDDG!$A$2:$F$100,5,FALSE))","v":"A3"},{"$f":"IF(ISNA(VLOOKUP(C14,BDDG!$A$2:$F$100,6,FALSE)),\"\",VLOOKUP(C14,BDDG!$A$2:$F$100,6,FALSE))","v":"AA5"},{"$f":"IF(ISERROR(VLOOKUP(C14,BDDG!$A$2:$G$100,7,FALSE)),\"\",VLOOKUP(C14,BDDG!$A$2:$G$100,7,FALSE))","v":1},{"$f":"IF(ISERROR(VLOOKUP(C14,BDDG!$A$2:$H$100,8,FALSE)),\"\",VLOOKUP(C14,BDDG!$A$2:$H$100,8,FALSE))","v":"BB5"},10,{"$f":"4*60+30","v":270},3.2,{"$f":"IF(ISERROR(VLOOKUP(C14,BDDG!$A$2:$I$100,9,FALSE)),\"\",VLOOKUP(C14,BDDG!$A$2:$I$100,9,FALSE))","v":"CC5"},null,null,"",{"$f":"IF(ISERROR(VLOOKUP(C14,BDDG!$A$2:$J$100,10,FALSE)),\"\",VLOOKUP(C14,BDDG!$A$2:$J$100,10,FALSE))","v":"DD5"},null,null,"",3.2,10,1996,{"$f":"IFERROR(INDEX($V$2:V14,MATCH(H14&MAX(IF($H$1:H13=H14,$A$1:A13)),$H$2:H14&$A$2:A14,0))-V14,\"\")","v":4}]
["1996-11-04",null,833,{"$f":"IF(ISNA(VLOOKUP(C15,BDDG!$A$2:$F$100,2,FALSE)),\"\",VLOOKUP(C15,BDDG!$A$2:$F$100,2,FALSE))","v":0},{"$f":"IF(ISNA(VLOOKUP(C15,BDDG!$A$3:$J$102,3,FALSE)),\"\",VLOOKUP(C15,BDDG!$A$3:$J$102,3,FALSE))","v":"A"},{"$f":"IF(ISNA(VLOOKUP(C15,BDDG!$A$3:$J$102,4,FALSE)),\"\",VLOOKUP(C15,BDDG!$A$3:$J$102,4,FALSE))","v":106},{"$f":"IF(ISNA(VLOOKUP(C15,BDDG!$A$2:$F$100,5,FALSE)),\"\",VLOOKUP(C15,BDDG!$A$2:$F$100,5,FALSE))","v":"A2"},{"$f":"IF(ISNA(VLOOKUP(C15,BDDG!$A$2:$F$100,6,FALSE)),\"\",VLOOKUP(C15,BDDG!$A$2:$F$100,6,FALSE))","v":"AA3"},{"$f":"IF(ISERROR(VLOOKUP(C15,BDDG!$A$2:$G$100,7,FALSE)),\"\",VLOOKUP(C15,BDDG!$A$2:$G$100,7,FALSE))","v":1},{"$f":"IF(ISERROR(VLOOKUP(C15,BDDG!$A$2:$H$100,8,FALSE)),\"\",VLOOKUP(C15,BDDG!$A$2:$H$100,8,FALSE))","v":"BB3"},10,20,43.2,{"$f":"IF(ISERROR(VLOOKUP(C15,BDDG!$A$2:$I$100,9,FALSE)),\"\",VLOOKUP(C15,BDDG!$A$2:$I$100,9,FALSE))","v":"CC3"},null,null,"",{"$f":"IF(ISERROR(VLOOKUP(C15,BDDG!$A$2:$J$100,10,FALSE)),\"\",VLOOKUP(C15,BDDG!$A$2:$J$100,10,FALSE))","v":"DD3"},null,null,"",43.2,11,1996,{"$f":"IFERROR(INDEX($V$2:V15,MATCH(H15&MAX(IF($H$1:H14=H15,$A$1:A14)),$H$2:H15&$A$2:A15,0))-V15,\"\")","v":-17.018181818181819}]
["1996-11-04",null,834,{"$f":"IF(ISNA(VLOOKUP(C16,BDDG!$A$2:$F$100,2,FALSE)),\"\",VLOOKUP(C16,BDDG!$A$2:$F$100,2,FALSE))","v":0},{"$f":"IF(ISNA(VLOOKUP(C16,BDDG!$A$3:$J$102,3,FALSE)),\"\",VLOOKUP(C16,BDDG!$A$3:$J$102,3,FALSE))","v":"A"},{"$f":"IF(ISNA(VLOOKUP(C16,BDDG!$A$3:$J$102,4,FALSE)),\"\",VLOOKUP(C16,BDDG!$A$3:$J$102,4,FALSE))","v":106},{"$f":"IF(ISNA(VLOOKUP(C16,BDDG!$A$2:$F$100,5,FALSE)),\"\",VLOOKUP(C16,BDDG!$A$2:$F$100,5,FALSE))","v":"A2"},{"$f":"IF(ISNA(VLOOKUP(C16,BDDG!$A$2:$F$100,6,FALSE)),\"\",VLOOKUP(C16,BDDG!$A$2:$F$100,6,FALSE))","v":"AA4"},{"$f":"IF(ISERROR(VLOOKUP(C16,BDDG!$A$2:$G$100,7,FALSE)),\"\",VLOOKUP(C16,BDDG!$A$2:$G$100,7,FALSE))","v":1},{"$f":"IF(ISERROR(VLOOKUP(C16,BDDG!$A$2:$H$100,8,FALSE)),\"\",VLOOKUP(C16,BDDG!$A$2:$H$100,8,FALSE))","v":"BB4"},10,50,17.28,{"$f":"IF(ISERROR(VLOOKUP(C16,BDDG!$A$2:$I$100,9,FALSE)),\"\",VLOOKUP(C16,BDDG!$A$2:$I$100,9,FALSE))","v":"CC4"},null,null,"",{"$f":"IF(ISERROR(VLOOKUP(C16,BDDG!$A$2:$J$100,10,FALSE)),\"\",VLOOKUP(C16,BDDG!$A$2:$J$100,10,FALSE))","v":"DD4"},null,null,"",17.28,11,1996,{"$f":"IFERROR(INDEX($V$2:V16,MATCH(H16&MAX(IF($H$1:H15=H16,$A$1:A15)),$H$2:H16&$A$2:A16,0))-V16,\"\")","v":6.7200000000000024}]
["1997-04-24",null,856,{"$f":"IF(ISNA(VLOOKUP(C17,BDDG!$A$2:$F$100,2,FALSE)),\"\",VLOOKUP(C17,BDDG!$A$2:$F$100,2,FALSE))","v":0},{"$f":"IF(ISNA(VLOOKUP(C17,BDDG!$A$3:$J$102,3,FALSE)),\"\",VLOOKUP(C17,BDDG!$A$3:$J$102,3,FALSE))","v":"A"},{"$f":"IF(ISNA(VLOOKUP(C17,BDDG!$A$3:$J$102,4,FALSE)),\"\",VLOOKUP(C17,BDDG!$A$3:$J$102,4,FALSE))","v":106},{"$f":"IF(ISNA(VLOOKUP(C17,BDDG!$A$2:$F$100,5,FALSE)),\"\",VLOOKUP(C17,BDDG!$A$2:$F$100,5,FALSE))","v":"A9"},{"$f":"IF(ISNA(VLOOKUP(C17,BDDG!$A$2:$F$100,6,FALSE)),\"\",VLOOKUP(C17,BDDG!$A$2:$F$100,6,FALSE))","v":"AA27"},{"$f":"IF(ISERROR(VLOOKUP(C17,BDDG!$A$2:$G$100,7,FALSE)),\"\",VLOOKUP(C17,BDDG!$A$2:$G$100,7,FALSE))","v":2},{"$f":"IF(ISERROR(VLOOKUP(C17,BDDG!$A$2:$H$100,8,FALSE)),\"\",VLOOKUP(C17,BDDG!$A$2:$H$100,8,FALSE))","v":"BB27"},10,70,12.342857142857143,{"$f":"IF(ISERROR(VLOOKUP(C17,BDDG!$A$2:$I$100,9,FALSE)),\"\",VLOOKUP(C17,BDDG!$A$2:$I$100,9,FALSE))","v":"CC27"},null,null,null,{"$f":"IF(ISERROR(VLOOKUP(C17,BDDG!$A$2:$J$100,10,FALSE)),\"\",VLOOKUP(C17,BDDG!$A$2:$J$100,10,FALSE))","v":"DD27"},null,null,"",12.342857142857143,4,1997,{"$f":"IFERROR(INDEX($V$2:V17,MATCH(H17&MAX(IF($H$1:H16=H17,$A$1:A16)),$H$2:H17&$A$2:A17,0))-V17,\"\")","v":374.40000000000003}]
["1997-05-13",null,822,{"$f":"IF(ISNA(VLOOKUP(C18,BDDG!$A$2:$F$100,2,FALSE)),\"\",VLOOKUP(C18,BDDG!$A$2:$F$100,2,FALSE))","v":0},{"$f":"IF(ISNA(VLOOKUP(C18,BDDG!$A$3:$J$102,3,FALSE)),\"\",VLOOKUP(C18,BDDG!$A$3:$J$102,3,FALSE))","v":"A"},{"$f":"IF(ISNA(VLOOKUP(C18,BDDG!$A$3:$J$102,4,FALSE)),\"\",VLOOKUP(C18,BDDG!$A$3:$J$102,4,FALSE))","v":106},{"$f":"IF(ISNA(VLOOKUP(C18,BDDG!$A$2:$F$100,5,FALSE)),\"\",VLOOKUP(C18,BDDG!$A$2:$F$100,5,FALSE))","v":"A4"},{"$f":"IF(ISNA(VLOOKUP(C18,BDDG!$A$2:$F$100,6,FALSE)),\"\",VLOOKUP(C18,BDDG!$A$2:$F$100,6,FALSE))","v":"AA12"},{"$f":"IF(ISERROR(VLOOKUP(C18,BDDG!$A$2:$G$100,7,FALSE)),\"\",VLOOKUP(C18,BDDG!$A$2:$G$100,7,FALSE))","v":1},{"$f":"IF(ISERROR(VLOOKUP(C18,BDDG!$A$2:$H$100,8,FALSE)),\"\",VLOOKUP(C18,BDDG!$A$2:$H$100,8,FALSE))","v":"BB12"},10,10,{"$f":" IF(ISERROR(K18/L18*86.4),\"\",K18/L18*86.4)","v":86.4},{"$f":"IF(ISERROR(VLOOKUP(C18,BDDG!$A$2:$I$100,9,FALSE)),\"\",VLOOKUP(C18,BDDG!$A$2:$I$100,9,FALSE))","v":"CC12"},null,null,{"$f":" IF(ISERROR(O18/P18*86.4),\"\",O18/P18*86.4)","v":""},{"$f":"IF(ISERROR(VLOOKUP(C18,BDDG!$A$2:$J$100,10,FALSE)),\"\",VLOOKUP(C18,BDDG!$A$2:$J$100,10,FALSE))","v":"DD12"},null,null,"",86.4,5,1997,{"$f":"IFERROR(INDEX($V$2:V18,MATCH(H18&MAX(IF($H$1:H17=H18,$A$1:A17)),$H$2:H18&$A$2:A18,0))-V18,\"\")","v":""}]
["1997-07-15",null,860,{"$f":"IF(ISNA(VLOOKUP(C19,BDDG!$A$2:$F$100,2,FALSE)),\"\",VLOOKUP(C19,BDDG!$A$2:$F$100,2,FALSE))","v":0},{"$f":"IF(ISNA(VLOOKUP(C19,BDDG!$A$3:$J$102,3,FALSE)),\"\",VLOOKUP(C19,BDDG!$A$3:$J$102,3,FALSE))","v":"A"},{"$f":"IF(ISNA(VLOOKUP(C19,BDDG!$A$3:$J$102,4,FALSE)),\"\",VLOOKUP(C19,BDDG!$A$3:$J$102,4,FALSE))","v":106},{"$f":"IF(ISNA(VLOOKUP(C19,BDDG!$A$2:$F$100,5,FALSE)),\"\",VLOOKUP(C19,BDDG!$A$2:$F$100,5,FALSE))","v":"A11"},{"$f":"IF(ISNA(VLOOKUP(C19,BDDG!$A$2:$F$100,6,FALSE)),\"\",VLOOKUP(C19,BDDG!$A$2:$F$100,6,FALSE))","v":"AA32"},{"$f":"IF(ISERROR(VLOOKUP(C19,BDDG!$A$2:$G$100,7,FALSE)),\"\",VLOOKUP(C19,BDDG!$A$2:$G$100,7,FALSE))","v":2},{"$f":"IF(ISERROR(VLOOKUP(C19,BDDG!$A$2:$H$100,8,FALSE)),\"\",VLOOKUP(C19,BDDG!$A$2:$H$100,8,FALSE))","v":"BB32"},10,4,216,{"$f":"IF(ISERROR(VLOOKUP(C19,BDDG!$A$2:$I$100,9,FALSE)),\"\",VLOOKUP(C19,BDDG!$A$2:$I$100,9,FALSE))","v":"CC32"},null,null,"",{"$f":"IF(ISERROR(VLOOKUP(C19,BDDG!$A$2:$J$100,10,FALSE)),\"\",VLOOKUP(C19,BDDG!$A$2:$J$100,10,FALSE))","v":"DD32"},null,null,"",216,7,1997,{"$f":"IFERROR(INDEX($V$2:V19,MATCH(H19&MAX(IF($H$1:H18=H19,$A$1:A18)),$H$2:H19&$A$2:A19,0))-V19,\"\")","v":-162}]
["1997-08-08",null,835,{"$f":"IF(ISNA(VLOOKUP(C20,BDDG!$A$2:$F$100,2,FALSE)),\"\",VLOOKUP(C20,BDDG!$A$2:$F$100,2,FALSE))","v":0},{"$f":"IF(ISNA(VLOOKUP(C20,BDDG!$A$3:$J$102,3,FALSE)),\"\",VLOOKUP(C20,BDDG!$A$3:$J$102,3,FALSE))","v":"A"},{"$f":"IF(ISNA(VLOOKUP(C20,BDDG!$A$3:$J$102,4,FALSE)),\"\",VLOOKUP(C20,BDDG!$A$3:$J$102,4,FALSE))","v":106},{"$f":"IF(ISNA(VLOOKUP(C20,BDDG!$A$2:$F$100,5,FALSE)),\"\",VLOOKUP(C20,BDDG!$A$2:$F$100,5,FALSE))","v":"A3"},{"$f":"IF(ISNA(VLOOKUP(C20,BDDG!$A$2:$F$100,6,FALSE)),\"\",VLOOKUP(C20,BDDG!$A$2:$F$100,6,FALSE))","v":"AA5"},{"$f":"IF(ISERROR(VLOOKUP(C20,BDDG!$A$2:$G$100,7,FALSE)),\"\",VLOOKUP(C20,BDDG!$A$2:$G$100,7,FALSE))","v":1},{"$f":"IF(ISERROR(VLOOKUP(C20,BDDG!$A$2:$H$100,8,FALSE)),\"\",VLOOKUP(C20,BDDG!$A$2:$H$100,8,FALSE))","v":"BB5"},10,240,3.6,{"$f":"IF(ISERROR(VLOOKUP(C20,BDDG!$A$2:$I$100,9,FALSE)),\"\",VLOOKUP(C20,BDDG!$A$2:$I$100,9,FALSE))","v":"CC5"},null,null,"",{"$f":"IF(ISERROR(VLOOKUP(C20,BDDG!$A$2:$J$100,10,FALSE)),\"\",VLOOKUP(C20,BDDG!$A$2:$J$100,10,FALSE))","v":"DD5"},null,null,"",3.6,8,1997,{"$f":"IFERROR(INDEX($V$2:V20,MATCH(H20&MAX(IF($H$1:H19=H20,$A$1:A19)),$H$2:H20&$A$2:A20,0))-V20,\"\")","v":-0.39999999999999991}]
["1997-11-04",null,834,{"$f":"IF(ISNA(VLOOKUP(C21,BDDG!$A$2:$F$100,2,FALSE)),\"\",VLOOKUP(C21,BDDG!$A$2:$F$100,2,FALSE))","v":0},{"$f":"IF(ISNA(VLOOKUP(C21,BDDG!$A$3:$J$102,3,FALSE)),\"\",VLOOKUP(C21,BDDG!$A$3:$J$102,3,FALSE))","v":"A"},{"$f":"IF(ISNA(VLOOKUP(C21,BDDG!$A$3:$J$102,4,FALSE)),\"\",VLOOKUP(C21,BDDG!$A$3:$J$102,4,FALSE))","v":106},{"$f":"IF(ISNA(VLOOKUP(C21,BDDG!$A$2:$F$100,5,FALSE)),\"\",VLOOKUP(C21,BDDG!$A$2:$F$100,5,FALSE))","v":"A2"},{"$f":"IF(ISNA(VLOOKUP(C21,BDDG!$A$2:$F$100,6,FALSE)),\"\",VLOOKUP(C21,BDDG!$A$2:$F$100,6,FALSE))","v":"AA4"},{"$f":"IF(ISERROR(VLOOKUP(C21,BDDG!$A$2:$G$100,7,FALSE)),\"\",VLOOKUP(C21,BDDG!$A$2:$G$100,7,FALSE))","v":1},{"$f":"IF(ISERROR(VLOOKUP(C21,BDDG!$A$2:$H$100,8,FALSE)),\"\",VLOOKUP(C21,BDDG!$A$2:$H$100,8,FALSE))","v":"BB4"},10,55,15.709090909090911,{"$f":"IF(ISERROR(VLOOKUP(C21,BDDG!$A$2:$I$100,9,FALSE)),\"\",VLOOKUP(C21,BDDG!$A$2:$I$100,9,FALSE))","v":"CC4"},null,null,"",{"$f":"IF(ISERROR(VLOOKUP(C21,BDDG!$A$2:$J$100,10,FALSE)),\"\",VLOOKUP(C21,BDDG!$A$2:$J$100,10,FALSE))","v":"DD4"},null,null,"",15.709090909090911,11,1997,{"$f":"IFERROR(INDEX($V$2:V21,MATCH(H21&MAX(IF($H$1:H20=H21,$A$1:A20)),$H$2:H21&$A$2:A21,0))-V21,\"\")","v":1.5709090909090904}]
["1997-11-07",null,833,{"$f":"IF(ISNA(VLOOKUP(C22,BDDG!$A$2:$F$100,2,FALSE)),\"\",VLOOKUP(C22,BDDG!$A$2:$F$100,2,FALSE))","v":0},{"$f":"IF(ISNA(VLOOKUP(C22,BDDG!$A$3:$J$102,3,FALSE)),\"\",VLOOKUP(C22,BDDG!$A$3:$J$102,3,FALSE))","v":"A"},{"$f":"IF(ISNA(VLOOKUP(C22,BDDG!$A$3:$J$102,4,FALSE)),\"\",VLOOKUP(C22,BDDG!$A$3:$J$102,4,FALSE))","v":106},{"$f":"IF(ISNA(VLOOKUP(C22,BDDG!$A$2:$F$100,5,FALSE)),\"\",VLOOKUP(C22,BDDG!$A$2:$F$100,5,FALSE))","v":"A2"},{"$f":"IF(ISNA(VLOOKUP(C22,BDDG!$A$2:$F$100,6,FALSE)),\"\",VLOOKUP(C22,BDDG!$A$2:$F$100,6,FALSE))","v":"AA3"},{"$f":"IF(ISERROR(VLOOKUP(C22,BDDG!$A$2:$G$100,7,FALSE)),\"\",VLOOKUP(C22,BDDG!$A$2:$G$100,7,FALSE))","v":1},{"$f":"IF(ISERROR(VLOOKUP(C22,BDDG!$A$2:$H$100,8,FALSE)),\"\",VLOOKUP(C22,BDDG!$A$2:$H$100,8,FALSE))","v":"BB3"},10,25,34.56,{"$f":"IF(ISERROR(VLOOKUP(C22,BDDG!$A$2:$I$100,9,FALSE)),\"\",VLOOKUP(C22,BDDG!$A$2:$I$100,9,FALSE))","v":"CC3"},null,null,"",{"$f":"IF(ISERROR(VLOOKUP(C22,BDDG!$A$2:$J$100,10,FALSE)),\"\",VLOOKUP(C22,BDDG!$A$2:$J$100,10,FALSE))","v":"DD3"},null,null,"",34.56,11,1997,{"$f":"IFERROR(INDEX($V$2:V22,MATCH(H22&MAX(IF($H$1:H21=H22,$A$1:A21)),$H$2:H22&$A$2:A22,0))-V22,\"\")","v":8.64}]
["1998-03-27",null,862,{"$f":"IF(ISNA(VLOOKUP(C23,BDDG!$A$2:$F$100,2,FALSE)),\"\",VLOOKUP(C23,BDDG!$A$2:$F$100,2,FALSE))","v":0},{"$f":"IF(ISNA(VLOOKUP(C23,BDDG!$A$3:$J$102,3,FALSE)),\"\",VLOOKUP(C23,BDDG!$A$3:$J$102,3,FALSE))","v":"A"},{"$f":"IF(ISNA(VLOOKUP(C23,BDDG!$A$3:$J$102,4,FALSE)),\"\",VLOOKUP(C23,BDDG!$A$3:$J$102,4,FALSE))","v":106},{"$f":"IF(ISNA(VLOOKUP(C23,BDDG!$A$2:$F$100,5,FALSE)),\"\",VLOOKUP(C23,BDDG!$A$2:$F$100,5,FALSE))","v":"A12"},{"$f":"IF(ISNA(VLOOKUP(C23,BDDG!$A$2:$F$100,6,FALSE)),\"\",VLOOKUP(C23,BDDG!$A$2:$F$100,6,FALSE))","v":"AA34"},{"$f":"IF(ISERROR(VLOOKUP(C23,BDDG!$A$2:$G$100,7,FALSE)),\"\",VLOOKUP(C23,BDDG!$A$2:$G$100,7,FALSE))","v":1},{"$f":"IF(ISERROR(VLOOKUP(C23,BDDG!$A$2:$H$100,8,FALSE)),\"\",VLOOKUP(C23,BDDG!$A$2:$H$100,8,FALSE))","v":"BB34"},10,16,54,{"$f":"IF(ISERROR(VLOOKUP(C23,BDDG!$A$2:$I$100,9,FALSE)),\"\",VLOOKUP(C23,BDDG!$A$2:$I$100,9,FALSE))","v":"CC34"},null,null,"",{"$f":"IF(ISERROR(VLOOKUP(C23,BDDG!$A$2:$J$100,10,FALSE)),\"\",VLOOKUP(C23,BDDG!$A$2:$J$100,10,FALSE))","v":"DD34"},null,null,"",54,3,1998,{"$f":"IFERROR(INDEX($V$2:V23,MATCH(H23&MAX(IF($H$1:H22=H23,$A$1:A22)),$H$2:H23&$A$2:A23,0))-V23,\"\")","v":-22.32}]
["1998-04-23",null,836,{"$f":"IF(ISNA(VLOOKUP(C24,BDDG!$A$2:$F$100,2,FALSE)),\"\",VLOOKUP(C24,BDDG!$A$2:$F$100,2,FALSE))","v":0},{"$f":"IF(ISNA(VLOOKUP(C24,BDDG!$A$3:$J$102,3,FALSE)),\"\",VLOOKUP(C24,BDDG!$A$3:$J$102,3,FALSE))","v":"A"},{"$f":"IF(ISNA(VLOOKUP(C24,BDDG!$A$3:$J$102,4,FALSE)),\"\",VLOOKUP(C24,BDDG!$A$3:$J$102,4,FALSE))","v":106},{"$f":"IF(ISNA(VLOOKUP(C24,BDDG!$A$2:$F$100,5,FALSE)),\"\",VLOOKUP(C24,BDDG!$A$2:$F$100,5,FALSE))","v":"A3"},{"$f":"IF(ISNA(VLOOKUP(C24,BDDG!$A$2:$F$100,6,FALSE)),\"\",VLOOKUP(C24,BDDG!$A$2:$F$100,6,FALSE))","v":"AA6"},{"$f":"IF(ISERROR(VLOOKUP(C24,BDDG!$A$2:$G$100,7,FALSE)),\"\",VLOOKUP(C24,BDDG!$A$2:$G$100,7,FALSE))","v":1},{"$f":"IF(ISERROR(VLOOKUP(C24,BDDG!$A$2:$H$100,8,FALSE)),\"\",VLOOKUP(C24,BDDG!$A$2:$H$100,8,FALSE))","v":"BB6"},10,5,172.8,{"$f":"IF(ISERROR(VLOOKUP(C24,BDDG!$A$2:$I$100,9,FALSE)),\"\",VLOOKUP(C24,BDDG!$A$2:$I$100,9,FALSE))","v":"CC6"},null,null,"",{"$f":"IF(ISERROR(VLOOKUP(C24,BDDG!$A$2:$J$100,10,FALSE)),\"\",VLOOKUP(C24,BDDG!$A$2:$J$100,10,FALSE))","v":"DD6"},null,null,"",172.8,4,1998,{"$f":"IFERROR(INDEX($V$2:V24,MATCH(H24&MAX(IF($H$1:H23=H24,$A$1:A23)),$H$2:H24&$A$2:A24,0))-V24,\"\")","v":0}]
["1998-04-23",null,856,{"$f":"IF(ISNA(VLOOKUP(C25,BDDG!$A$2:$F$100,2,FALSE)),\"\",VLOOKUP(C25,BDDG!$A$2:$F$100,2,FALSE))","v":0},{"$f":"IF(ISNA(VLOOKUP(C25,BDDG!$A$3:$J$102,3,FALSE)),\"\",VLOOKUP(C25,BDDG!$A$3:$J$102,3,FALSE))","v":"A"},{"$f":"IF(ISNA(VLOOKUP(C25,BDDG!$A$3:$J$102,4,FALSE)),\"\",VLOOKUP(C25,BDDG!$A$3:$J$102,4,FALSE))","v":106},{"$f":"IF(ISNA(VLOOKUP(C25,BDDG!$A$2:$F$100,5,FALSE)),\"\",VLOOKUP(C25,BDDG!$A$2:$F$100,5,FALSE))","v":"A9"},{"$f":"IF(ISNA(VLOOKUP(C25,BDDG!$A$2:$F$100,6,FALSE)),\"\",VLOOKUP(C25,BDDG!$A$2:$F$100,6,FALSE))","v":"AA27"},{"$f":"IF(ISERROR(VLOOKUP(C25,BDDG!$A$2:$G$100,7,FALSE)),\"\",VLOOKUP(C25,BDDG!$A$2:$G$100,7,FALSE))","v":2},{"$f":"IF(ISERROR(VLOOKUP(C25,BDDG!$A$2:$H$100,8,FALSE)),\"\",VLOOKUP(C25,BDDG!$A$2:$H$100,8,FALSE))","v":"BB27"},10,17,50.82352941176471,{"$f":"IF(ISERROR(VLOOKUP(C25,BDDG!$A$2:$I$100,9,FALSE)),\"\",VLOOKUP(C25,BDDG!$A$2:$I$100,9,FALSE))","v":"CC27"},10,3,288.00000000000006,{"$f":"IF(ISERROR(VLOOKUP(C25,BDDG!$A$2:$J$100,10,FALSE)),\"\",VLOOKUP(C25,BDDG!$A$2:$J$100,10,FALSE))","v":"DD27"},null,null,"",338.82352941176475,4,1998,{"$f":"IFERROR(INDEX($V$2:V25,MATCH(H25&MAX(IF($H$1:H24=H25,$A$1:A24)),$H$2:H25&$A$2:A25,0))-V25,\"\")","v":-326.4806722689076}]
["1998-04-23",null,835,{"$f":"IF(ISNA(VLOOKUP(C26,BDDG!$A$2:$F$100,2,FALSE)),\"\",VLOOKUP(C26,BDDG!$A$2:$F$100,2,FALSE))","v":0},{"$f":"IF(ISNA(VLOOKUP(C26,BDDG!$A$3:$J$102,3,FALSE)),\"\",VLOOKUP(C26,BDDG!$A$3:$J$102,3,FALSE))","v":"A"},{"$f":"IF(ISNA(VLOOKUP(C26,BDDG!$A$3:$J$102,4,FALSE)),\"\",VLOOKUP(C26,BDDG!$A$3:$J$102,4,FALSE))","v":106},{"$f":"IF(ISNA(VLOOKUP(C26,BDDG!$A$2:$F$100,5,FALSE)),\"\",VLOOKUP(C26,BDDG!$A$2:$F$100,5,FALSE))","v":"A3"},{"$f":"IF(ISNA(VLOOKUP(C26,BDDG!$A$2:$F$100,6,FALSE)),\"\",VLOOKUP(C26,BDDG!$A$2:$F$100,6,FALSE))","v":"AA5"},{"$f":"IF(ISERROR(VLOOKUP(C26,BDDG!$A$2:$G$100,7,FALSE)),\"\",VLOOKUP(C26,BDDG!$A$2:$G$100,7,FALSE))","v":1},{"$f":"IF(ISERROR(VLOOKUP(C26,BDDG!$A$2:$H$100,8,FALSE)),\"\",VLOOKUP(C26,BDDG!$A$2:$H$100,8,FALSE))","v":"BB5"},10,77,11.220779220779221,{"$f":"IF(ISERROR(VLOOKUP(C26,BDDG!$A$2:$I$100,9,FALSE)),\"\",VLOOKUP(C26,BDDG!$A$2:$I$100,9,FALSE))","v":"CC5"},null,null,"",{"$f":"IF(ISERROR(VLOOKUP(C26,BDDG!$A$2:$J$100,10,FALSE)),\"\",VLOOKUP(C26,BDDG!$A$2:$J$100,10,FALSE))","v":"DD5"},null,null,"",11.220779220779221,4,1998,{"$f":"IFERROR(INDEX($V$2:V26,MATCH(H26&MAX(IF($H$1:H25=H26,$A$1:A25)),$H$2:H26&$A$2:A26,0))-V26,\"\")","v":-7.6207792207792213}]
["1998-09-04",null,856,{"$f":"IF(ISNA(VLOOKUP(C27,BDDG!$A$2:$F$100,2,FALSE)),\"\",VLOOKUP(C27,BDDG!$A$2:$F$100,2,FALSE))","v":0},{"$f":"IF(ISNA(VLOOKUP(C27,BDDG!$A$3:$J$102,3,FALSE)),\"\",VLOOKUP(C27,BDDG!$A$3:$J$102,3,FALSE))","v":"A"},{"$f":"IF(ISNA(VLOOKUP(C27,BDDG!$A$3:$J$102,4,FALSE)),\"\",VLOOKUP(C27,BDDG!$A$3:$J$102,4,FALSE))","v":106},{"$f":"IF(ISNA(VLOOKUP(C27,BDDG!$A$2:$F$100,5,FALSE)),\"\",VLOOKUP(C27,BDDG!$A$2:$F$100,5,FALSE))","v":"A9"},{"$f":"IF(ISNA(VLOOKUP(C27,BDDG!$A$2:$F$100,6,FALSE)),\"\",VLOOKUP(C27,BDDG!$A$2:$F$100,6,FALSE))","v":"AA27"},{"$f":"IF(ISERROR(VLOOKUP(C27,BDDG!$A$2:$G$100,7,FALSE)),\"\",VLOOKUP(C27,BDDG!$A$2:$G$100,7,FALSE))","v":2},{"$f":"IF(ISERROR(VLOOKUP(C27,BDDG!$A$2:$H$100,8,FALSE)),\"\",VLOOKUP(C27,BDDG!$A$2:$H$100,8,FALSE))","v":"BB27"},null,null,"",{"$f":"IF(ISERROR(VLOOKUP(C27,BDDG!$A$2:$I$100,9,FALSE)),\"\",VLOOKUP(C27,BDDG!$A$2:$I$100,9,FALSE))","v":"CC27"},1,1,86.4,{"$f":"IF(ISERROR(VLOOKUP(C27,BDDG!$A$2:$J$100,10,FALSE)),\"\",VLOOKUP(C27,BDDG!$A$2:$J$100,10,FALSE))","v":"DD27"},null,null,"",86.4,9,1998,{"$f":"IFERROR(INDEX($V$2:V27,MATCH(H27&MAX(IF($H$1:H26=H27,$A$1:A26)),$H$2:H27&$A$2:A27,0))-V27,\"\")","v":252.42352941176475}]
["1998-09-08",null,838,{"$f":"IF(ISNA(VLOOKUP(C28,BDDG!$A$2:$F$100,2,FALSE)),\"\",VLOOKUP(C28,BDDG!$A$2:$F$100,2,FALSE))","v":0},{"$f":"IF(ISNA(VLOOKUP(C28,BDDG!$A$3:$J$102,3,FALSE)),\"\",VLOOKUP(C28,BDDG!$A$3:$J$102,3,FALSE))","v":"A"},{"$f":"IF(ISNA(VLOOKUP(C28,BDDG!$A$3:$J$102,4,FALSE)),\"\",VLOOKUP(C28,BDDG!$A$3:$J$102,4,FALSE))","v":106},{"$f":"IF(ISNA(VLOOKUP(C28,BDDG!$A$2:$F$100,5,FALSE)),\"\",VLOOKUP(C28,BDDG!$A$2:$F$100,5,FALSE))","v":"A3"},{"$f":"IF(ISNA(VLOOKUP(C28,BDDG!$A$2:$F$100,6,FALSE)),\"\",VLOOKUP(C28,BDDG!$A$2:$F$100,6,FALSE))","v":"AA8"},{"$f":"IF(ISERROR(VLOOKUP(C28,BDDG!$A$2:$G$100,7,FALSE)),\"\",VLOOKUP(C28,BDDG!$A$2:$G$100,7,FALSE))","v":1},{"$f":"IF(ISERROR(VLOOKUP(C28,BDDG!$A$2:$H$100,8,FALSE)),\"\",VLOOKUP(C28,BDDG!$A$2:$H$100,8,FALSE))","v":"BB8"},4,60,5.7600000000000007,{"$f":"IF(ISERROR(VLOOKUP(C28,BDDG!$A$2:$I$100,9,FALSE)),\"\",VLOOKUP(C28,BDDG!$A$2:$I$100,9,FALSE))","v":"CC8"},null,null,"",{"$f":"IF(ISERROR(VLOOKUP(C28,BDDG!$A$2:$J$100,10,FALSE)),\"\",VLOOKUP(C28,BDDG!$A$2:$J$100,10,FALSE))","v":"DD8"},null,null,"",5.7600000000000007,9,1998,{"$f":"IFERROR(INDEX($V$2:V28,MATCH(H28&MAX(IF($H$1:H27=H28,$A$1:A27)),$H$2:H28&$A$2:A28,0))-V28,\"\")","v":23.04}]
["1998-09-08",null,837,{"$f":"IF(ISNA(VLOOKUP(C29,BDDG!$A$2:$F$100,2,FALSE)),\"\",VLOOKUP(C29,BDDG!$A$2:$F$100,2,FALSE))","v":0},{"$f":"IF(ISNA(VLOOKUP(C29,BDDG!$A$3:$J$102,3,FALSE)),\"\",VLOOKUP(C29,BDDG!$A$3:$J$102,3,FALSE))","v":"A"},{"$f":"IF(ISNA(VLOOKUP(C29,BDDG!$A$3:$J$102,4,FALSE)),\"\",VLOOKUP(C29,BDDG!$A$3:$J$102,4,FALSE))","v":106},{"$f":"IF(ISNA(VLOOKUP(C29,BDDG!$A$2:$F$100,5,FALSE)),\"\",VLOOKUP(C29,BDDG!$A$2:$F$100,5,FALSE))","v":"A3"},{"$f":"IF(ISNA(VLOOKUP(C29,BDDG!$A$2:$F$100,6,FALSE)),\"\",VLOOKUP(C29,BDDG!$A$2:$F$100,6,FALSE))","v":"AA7"},{"$f":"IF(ISERROR(VLOOKUP(C29,BDDG!$A$2:$G$100,7,FALSE)),\"\",VLOOKUP(C29,BDDG!$A$2:$G$100,7,FALSE))","v":1},{"$f":"IF(ISERROR(VLOOKUP(C29,BDDG!$A$2:$H$100,8,FALSE)),\"\",VLOOKUP(C29,BDDG!$A$2:$H$100,8,FALSE))","v":"BB7"},7,60,10.08,{"$f":"IF(ISERROR(VLOOKUP(C29,BDDG!$A$2:$I$100,9,FALSE)),\"\",VLOOKUP(C29,BDDG!$A$2:$I$100,9,FALSE))","v":"CC7"},null,null,"",{"$f":"IF(ISERROR(VLOOKUP(C29,BDDG!$A$2:$J$100,10,FALSE)),\"\",VLOOKUP(C29,BDDG!$A$2:$J$100,10,FALSE))","v":"DD7"},null,null,"",10.08,9,1998,{"$f":"IFERROR(INDEX($V$2:V29,MATCH(H29&MAX(IF($H$1:H28=H29,$A$1:A28)),$H$2:H29&$A$2:A29,0))-V29,\"\")","v":47.52}]
["1998-09-08",null,836,{"$f":"IF(ISNA(VLOOKUP(C30,BDDG!$A$2:$F$100,2,FALSE)),\"\",VLOOKUP(C30,BDDG!$A$2:$F$100,2,FALSE))","v":0},{"$f":"IF(ISNA(VLOOKUP(C30,BDDG!$A$3:$J$102,3,FALSE)),\"\",VLOOKUP(C30,BDDG!$A$3:$J$102,3,FALSE))","v":"A"},{"$f":"IF(ISNA(VLOOKUP(C30,BDDG!$A$3:$J$102,4,FALSE)),\"\",VLOOKUP(C30,BDDG!$A$3:$J$102,4,FALSE))","v":106},{"$f":"IF(ISNA(VLOOKUP(C30,BDDG!$A$2:$F$100,5,FALSE)),\"\",VLOOKUP(C30,BDDG!$A$2:$F$100,5,FALSE))","v":"A3"},{"$f":"IF(ISNA(VLOOKUP(C30,BDDG!$A$2:$F$100,6,FALSE)),\"\",VLOOKUP(C30,BDDG!$A$2:$F$100,6,FALSE))","v":"AA6"},{"$f":"IF(ISERROR(VLOOKUP(C30,BDDG!$A$2:$G$100,7,FALSE)),\"\",VLOOKUP(C30,BDDG!$A$2:$G$100,7,FALSE))","v":1},{"$f":"IF(ISERROR(VLOOKUP(C30,BDDG!$A$2:$H$100,8,FALSE)),\"\",VLOOKUP(C30,BDDG!$A$2:$H$100,8,FALSE))","v":"BB6"},10,35,24.685714285714287,{"$f":"IF(ISERROR(VLOOKUP(C30,BDDG!$A$2:$I$100,9,FALSE)),\"\",VLOOKUP(C30,BDDG!$A$2:$I$100,9,FALSE))","v":"CC6"},null,null,"",{"$f":"IF(ISERROR(VLOOKUP(C30,BDDG!$A$2:$J$100,10,FALSE)),\"\",VLOOKUP(C30,BDDG!$A$2:$J$100,10,FALSE))","v":"DD6"},null,null,"",24.685714285714287,9,1998,{"$f":"IFERROR(INDEX($V$2:V30,MATCH(H30&MAX(IF($H$1:H29=H30,$A$1:A29)),$H$2:H30&$A$2:A30,0))-V30,\"\")","v":148.11428571428573}]
["1998-09-08",null,856,{"$f":"IF(ISNA(VLOOKUP(C31,BDDG!$A$2:$F$100,2,FALSE)),\"\",VLOOKUP(C31,BDDG!$A$2:$F$100,2,FALSE))","v":0},{"$f":"IF(ISNA(VLOOKUP(C31,BDDG!$A$3:$J$102,3,FALSE)),\"\",VLOOKUP(C31,BDDG!$A$3:$J$102,3,FALSE))","v":"A"},{"$f":"IF(ISNA(VLOOKUP(C31,BDDG!$A$3:$J$102,4,FALSE)),\"\",VLOOKUP(C31,BDDG!$A$3:$J$102,4,FALSE))","v":106},{"$f":"IF(ISNA(VLOOKUP(C31,BDDG!$A$2:$F$100,5,FALSE)),\"\",VLOOKUP(C31,BDDG!$A$2:$F$100,5,FALSE))","v":"A9"},{"$f":"IF(ISNA(VLOOKUP(C31,BDDG!$A$2:$F$100,6,FALSE)),\"\",VLOOKUP(C31,BDDG!$A$2:$F$100,6,FALSE))","v":"AA27"},{"$f":"IF(ISERROR(VLOOKUP(C31,BDDG!$A$2:$G$100,7,FALSE)),\"\",VLOOKUP(C31,BDDG!$A$2:$G$100,7,FALSE))","v":2},{"$f":"IF(ISERROR(VLOOKUP(C31,BDDG!$A$2:$H$100,8,FALSE)),\"\",VLOOKUP(C31,BDDG!$A$2:$H$100,8,FALSE))","v":"BB27"},6,60,8.64,{"$f":"IF(ISERROR(VLOOKUP(C31,BDDG!$A$2:$I$100,9,FALSE)),\"\",VLOOKUP(C31,BDDG!$A$2:$I$100,9,FALSE))","v":"CC27"},null,null,"",{"$f":"IF(ISERROR(VLOOKUP(C31,BDDG!$A$2:$J$100,10,FALSE)),\"\",VLOOKUP(C31,BDDG!$A$2:$J$100,10,FALSE))","v":"DD27"},null,null,"",{"$f":"IF(ISERROR(SUM(M31,Q31,U31)),\"\",SUM(M31,Q31,U31))","v":8.64},9,1998,{"$f":"IFERROR(INDEX($V$2:V31,MATCH(H31&MAX(IF($H$1:H30=H31,$A$1:A30)),$H$2:H31&$A$2:A31,0))-V31,\"\")","v":77.760000000000005}]
["1998-09-08",null,835,{"$f":"IF(ISNA(VLOOKUP(C32,BDDG!$A$2:$F$100,2,FALSE)),\"\",VLOOKUP(C32,BDDG!$A$2:$F$100,2,FALSE))","v":0},{"$f":"IF(ISNA(VLOOKUP(C32,BDDG!$A$3:$J$102,3,FALSE)),\"\",VLOOKUP(C32,BDDG!$A$3:$J$102,3,FALSE))","v":"A"},{"$f":"IF(ISNA(VLOOKUP(C32,BDDG!$A$3:$J$102,4,FALSE)),\"\",VLOOKUP(C32,BDDG!$A$3:$J$102,4,FALSE))","v":106},{"$f":"IF(ISNA(VLOOKUP(C32,BDDG!$A$2:$F$100,5,FALSE)),\"\",VLOOKUP(C32,BDDG!$A$2:$F$100,5,FALSE))","v":"A3"},{"$f":"IF(ISNA(VLOOKUP(C32,BDDG!$A$2:$F$100,6,FALSE)),\"\",VLOOKUP(C32,BDDG!$A$2:$F$100,6,FALSE))","v":"AA5"},{"$f":"IF(ISERROR(VLOOKUP(C32,BDDG!$A$2:$G$100,7,FALSE)),\"\",VLOOKUP(C32,BDDG!$A$2:$G$100,7,FALSE))","v":1},{"$f":"IF(ISERROR(VLOOKUP(C32,BDDG!$A$2:$H$100,8,FALSE)),\"\",VLOOKUP(C32,BDDG!$A$2:$H$100,8,FALSE))","v":"BB5"},2,60,2.8800000000000003,{"$f":"IF(ISERROR(VLOOKUP(C32,BDDG!$A$2:$I$100,9,FALSE)),\"\",VLOOKUP(C32,BDDG!$A$2:$I$100,9,FALSE))","v":"CC5"},null,null,"",{"$f":"IF(ISERROR(VLOOKUP(C32,BDDG!$A$2:$J$100,10,FALSE)),\"\",VLOOKUP(C32,BDDG!$A$2:$J$100,10,FALSE))","v":"DD5"},null,null,"",2.8800000000000003,9,1998,{"$f":"IFERROR(INDEX($V$2:V32,MATCH(H32&MAX(IF($H$1:H31=H32,$A$1:A31)),$H$2:H32&$A$2:A32,0))-V32,\"\")","v":8.3407792207792202}]
["1998-09-08",null,839,{"$f":"IF(ISNA(VLOOKUP(C33,BDDG!$A$2:$F$100,2,FALSE)),\"\",VLOOKUP(C33,BDDG!$A$2:$F$100,2,FALSE))","v":0},{"$f":"IF(ISNA(VLOOKUP(C33,BDDG!$A$3:$J$102,3,FALSE)),\"\",VLOOKUP(C33,BDDG!$A$3:$J$102,3,FALSE))","v":"A"},{"$f":"IF(ISNA(VLOOKUP(C33,BDDG!$A$3:$J$102,4,FALSE)),\"\",VLOOKUP(C33,BDDG!$A$3:$J$102,4,FALSE))","v":106},{"$f":"IF(ISNA(VLOOKUP(C33,BDDG!$A$2:$F$100,5,FALSE)),\"\",VLOOKUP(C33,BDDG!$A$2:$F$100,5,FALSE))","v":"A3"},{"$f":"IF(ISNA(VLOOKUP(C33,BDDG!$A$2:$F$100,6,FALSE)),\"\",VLOOKUP(C33,BDDG!$A$2:$F$100,6,FALSE))","v":"AA10"},{"$f":"IF(ISERROR(VLOOKUP(C33,BDDG!$A$2:$G$100,7,FALSE)),\"\",VLOOKUP(C33,BDDG!$A$2:$G$100,7,FALSE))","v":2},{"$f":"IF(ISERROR(VLOOKUP(C33,BDDG!$A$2:$H$100,8,FALSE)),\"\",VLOOKUP(C33,BDDG!$A$2:$H$100,8,FALSE))","v":"BB10"},null,null,34.770000000000003,{"$f":"IF(ISERROR(VLOOKUP(C33,BDDG!$A$2:$I$100,9,FALSE)),\"\",VLOOKUP(C33,BDDG!$A$2:$I$100,9,FALSE))","v":"CC10"},null,null,"",{"$f":"IF(ISERROR(VLOOKUP(C33,BDDG!$A$2:$J$100,10,FALSE)),\"\",VLOOKUP(C33,BDDG!$A$2:$J$100,10,FALSE))","v":"DD10"},null,null,"",34.770000000000003,9,1998,{"$f":"IFERROR(INDEX($V$2:V33,MATCH(H33&MAX(IF($H$1:H32=H33,$A$1:A32)),$H$2:H33&$A$2:A33,0))-V33,\"\")","v":195.63}]
["1998-09-09",null,832,{"$f":"IF(ISNA(VLOOKUP(C34,BDDG!$A$2:$F$100,2,FALSE)),\"\",VLOOKUP(C34,BDDG!$A$2:$F$100,2,FALSE))","v":0},{"$f":"IF(ISNA(VLOOKUP(C34,BDDG!$A$3:$J$102,3,FALSE)),\"\",VLOOKUP(C34,BDDG!$A$3:$J$102,3,FALSE))","v":"A"},{"$f":"IF(ISNA(VLOOKUP(C34,BDDG!$A$3:$J$102,4,FALSE)),\"\",VLOOKUP(C34,BDDG!$A$3:$J$102,4,FALSE))","v":106},{"$f":"IF(ISNA(VLOOKUP(C34,BDDG!$A$2:$F$100,5,FALSE)),\"\",VLOOKUP(C34,BDDG!$A$2:$F$100,5,FALSE))","v":"A2"},{"$f":"IF(ISNA(VLOOKUP(C34,BDDG!$A$2:$F$100,6,FALSE)),\"\",VLOOKUP(C34,BDDG!$A$2:$F$100,6,FALSE))","v":"AA2"},{"$f":"IF(ISERROR(VLOOKUP(C34,BDDG!$A$2:$G$100,7,FALSE)),\"\",VLOOKUP(C34,BDDG!$A$2:$G$100,7,FALSE))","v":1},{"$f":"IF(ISERROR(VLOOKUP(C34,BDDG!$A$2:$H$100,8,FALSE)),\"\",VLOOKUP(C34,BDDG!$A$2:$H$100,8,FALSE))","v":"BB2"},10,35,{"$f":" IF(ISERROR(K34/L34*86.4),\"\",K34/L34*86.4)","v":24.685714285714287},{"$f":"IF(ISERROR(VLOOKUP(C34,BDDG!$A$2:$I$100,9,FALSE)),\"\",VLOOKUP(C34,BDDG!$A$2:$I$100,9,FALSE))","v":"CC2"},null,null,"",{"$f":"IF(ISERROR(VLOOKUP(C34,BDDG!$A$2:$J$100,10,FALSE)),\"\",VLOOKUP(C34,BDDG!$A$2:$J$100,10,FALSE))","v":"DD2"},null,null,"",24.685714285714287,9,1998,{"$f":"IFERROR(INDEX($V$2:V34,MATCH(H34&MAX(IF($H$1:H33=H34,$A$1:A33)),$H$2:H34&$A$2:A34,0))-V34,\"\")","v":98.742857142857162}]
["1998-09-09",null,833,{"$f":"IF(ISNA(VLOOKUP(C35,BDDG!$A$2:$F$100,2,FALSE)),\"\",VLOOKUP(C35,BDDG!$A$2:$F$100,2,FALSE))","v":0},{"$f":"IF(ISNA(VLOOKUP(C35,BDDG!$A$3:$J$102,3,FALSE)),\"\",VLOOKUP(C35,BDDG!$A$3:$J$102,3,FALSE))","v":"A"},{"$f":"IF(ISNA(VLOOKUP(C35,BDDG!$A$3:$J$102,4,FALSE)),\"\",VLOOKUP(C35,BDDG!$A$3:$J$102,4,FALSE))","v":106},{"$f":"IF(ISNA(VLOOKUP(C35,BDDG!$A$2:$F$100,5,FALSE)),\"\",VLOOKUP(C35,BDDG!$A$2:$F$100,5,FALSE))","v":"A2"},{"$f":"IF(ISNA(VLOOKUP(C35,BDDG!$A$2:$F$100,6,FALSE)),\"\",VLOOKUP(C35,BDDG!$A$2:$F$100,6,FALSE))","v":"AA3"},{"$f":"IF(ISERROR(VLOOKUP(C35,BDDG!$A$2:$G$100,7,FALSE)),\"\",VLOOKUP(C35,BDDG!$A$2:$G$100,7,FALSE))","v":1},{"$f":"IF(ISERROR(VLOOKUP(C35,BDDG!$A$2:$H$100,8,FALSE)),\"\",VLOOKUP(C35,BDDG!$A$2:$H$100,8,FALSE))","v":"BB3"},10,65,13.292307692307693,{"$f":"IF(ISERROR(VLOOKUP(C35,BDDG!$A$2:$I$100,9,FALSE)),\"\",VLOOKUP(C35,BDDG!$A$2:$I$100,9,FALSE))","v":"CC3"},null,null,"",{"$f":"IF(ISERROR(VLOOKUP(C35,BDDG!$A$2:$J$100,10,FALSE)),\"\",VLOOKUP(C35,BDDG!$A$2:$J$100,10,FALSE))","v":"DD3"},null,null,"",13.292307692307693,9,1998,{"$f":"IFERROR(INDEX($V$2:V35,MATCH(H35&MAX(IF($H$1:H34=H35,$A$1:A34)),$H$2:H35&$A$2:A35,0))-V35,\"\")","v":21.267692307692307}]
["1998-09-09",null,834,{"$f":"IF(ISNA(VLOOKUP(C36,BDDG!$A$2:$F$100,2,FALSE)),\"\",VLOOKUP(C36,BDDG!$A$2:$F$100,2,FALSE))","v":0},{"$f":"IF(ISNA(VLOOKUP(C36,BDDG!$A$3:$J$102,3,FALSE)),\"\",VLOOKUP(C36,BDDG!$A$3:$J$102,3,FALSE))","v":"A"},{"$f":"IF(ISNA(VLOOKUP(C36,BDDG!$A$3:$J$102,4,FALSE)),\"\",VLOOKUP(C36,BDDG!$A$3:$J$102,4,FALSE))","v":106},{"$f":"IF(ISNA(VLOOKUP(C36,BDDG!$A$2:$F$100,5,FALSE)),\"\",VLOOKUP(C36,BDDG!$A$2:$F$100,5,FALSE))","v":"A2"},{"$f":"IF(ISNA(VLOOKUP(C36,BDDG!$A$2:$F$100,6,FALSE)),\"\",VLOOKUP(C36,BDDG!$A$2:$F$100,6,FALSE))","v":"AA4"},{"$f":"IF(ISERROR(VLOOKUP(C36,BDDG!$A$2:$G$100,7,FALSE)),\"\",VLOOKUP(C36,BDDG!$A$2:$G$100,7,FALSE))","v":1},{"$f":"IF(ISERROR(VLOOKUP(C36,BDDG!$A$2:$H$100,8,FALSE)),\"\",VLOOKUP(C36,BDDG!$A$2:$H$100,8,FALSE))","v":"BB4"},10,50,17.28,{"$f":"IF(ISERROR(VLOOKUP(C36,BDDG!$A$2:$I$100,9,FALSE)),\"\",VLOOKUP(C36,BDDG!$A$2:$I$100,9,FALSE))","v":"CC4"},null,null,"",{"$f":"IF(ISERROR(VLOOKUP(C36,BDDG!$A$2:$J$100,10,FALSE)),\"\",VLOOKUP(C36,BDDG!$A$2:$J$100,10,FALSE))","v":"DD4"},null,null,"",17.28,9,1998,{"$f":"IFERROR(INDEX($V$2:V36,MATCH(H36&MAX(IF($H$1:H35=H36,$A$1:A35)),$H$2:H36&$A$2:A36,0))-V36,\"\")","v":-1.5709090909090904}]
["1999-09-19",null,856,{"$f":"IF(ISNA(VLOOKUP(C37,BDDG!$A$2:$F$100,2,FALSE)),\"\",VLOOKUP(C37,BDDG!$A$2:$F$100,2,FALSE))","v":0},{"$f":"IF(ISNA(VLOOKUP(C37,BDDG!$A$3:$J$102,3,FALSE)),\"\",VLOOKUP(C37,BDDG!$A$3:$J$102,3,FALSE))","v":"A"},{"$f":"IF(ISNA(VLOOKUP(C37,BDDG!$A$3:$J$102,4,FALSE)),\"\",VLOOKUP(C37,BDDG!$A$3:$J$102,4,FALSE))","v":106},{"$f":"IF(ISNA(VLOOKUP(C37,BDDG!$A$2:$F$100,5,FALSE)),\"\",VLOOKUP(C37,BDDG!$A$2:$F$100,5,FALSE))","v":"A9"},{"$f":"IF(ISNA(VLOOKUP(C37,BDDG!$A$2:$F$100,6,FALSE)),\"\",VLOOKUP(C37,BDDG!$A$2:$F$100,6,FALSE))","v":"AA27"},{"$f":"IF(ISERROR(VLOOKUP(C37,BDDG!$A$2:$G$100,7,FALSE)),\"\",VLOOKUP(C37,BDDG!$A$2:$G$100,7,FALSE))","v":2},{"$f":"IF(ISERROR(VLOOKUP(C37,BDDG!$A$2:$H$100,8,FALSE)),\"\",VLOOKUP(C37,BDDG!$A$2:$H$100,8,FALSE))","v":"BB27"},10,90,9.6,{"$f":"IF(ISERROR(VLOOKUP(C37,BDDG!$A$2:$I$100,9,FALSE)),\"\",VLOOKUP(C37,BDDG!$A$2:$I$100,9,FALSE))","v":"CC27"},null,null,86.4,{"$f":"IF(ISERROR(VLOOKUP(C37,BDDG!$A$2:$J$100,10,FALSE)),\"\",VLOOKUP(C37,BDDG!$A$2:$J$100,10,FALSE))","v":"DD27"},null,null,"",96,9,1999,{"$f":"IFERROR(INDEX($V$2:V37,MATCH(H37&MAX(IF($H$1:H36=H37,$A$1:A36)),$H$2:H37&$A$2:A37,0))-V37,\"\")","v":-87.36}]
["1999-09-19",null,835,{"$f":"IF(ISNA(VLOOKUP(C38,BDDG!$A$2:$F$100,2,FALSE)),\"\",VLOOKUP(C38,BDDG!$A$2:$F$100,2,FALSE))","v":0},{"$f":"IF(ISNA(VLOOKUP(C38,BDDG!$A$3:$J$102,3,FALSE)),\"\",VLOOKUP(C38,BDDG!$A$3:$J$102,3,FALSE))","v":"A"},{"$f":"IF(ISNA(VLOOKUP(C38,BDDG!$A$3:$J$102,4,FALSE)),\"\",VLOOKUP(C38,BDDG!$A$3:$J$102,4,FALSE))","v":106},{"$f":"IF(ISNA(VLOOKUP(C38,BDDG!$A$2:$F$100,5,FALSE)),\"\",VLOOKUP(C38,BDDG!$A$2:$F$100,5,FALSE))","v":"A3"},{"$f":"IF(ISNA(VLOOKUP(C38,BDDG!$A$2:$F$100,6,FALSE)),\"\",VLOOKUP(C38,BDDG!$A$2:$F$100,6,FALSE))","v":"AA5"},{"$f":"IF(ISERROR(VLOOKUP(C38,BDDG!$A$2:$G$100,7,FALSE)),\"\",VLOOKUP(C38,BDDG!$A$2:$G$100,7,FALSE))","v":1},{"$f":"IF(ISERROR(VLOOKUP(C38,BDDG!$A$2:$H$100,8,FALSE)),\"\",VLOOKUP(C38,BDDG!$A$2:$H$100,8,FALSE))","v":"BB5"},5,60,7.2,{"$f":"IF(ISERROR(VLOOKUP(C38,BDDG!$A$2:$I$100,9,FALSE)),\"\",VLOOKUP(C38,BDDG!$A$2:$I$100,9,FALSE))","v":"CC5"},null,null,{"$f":" IF(ISERROR(O38/P38*86.4),\"\",O38/P38*86.4)","v":""},{"$f":"IF(ISERROR(VLOOKUP(C38,BDDG!$A$2:$J$100,10,FALSE)),\"\",VLOOKUP(C38,BDDG!$A$2:$J$100,10,FALSE))","v":"DD5"},null,null,"",7.2,9,1999,{"$f":"IFERROR(INDEX($V$2:V38,MATCH(H38&MAX(IF($H$1:H37=H38,$A$1:A37)),$H$2:H38&$A$2:A38,0))-V38,\"\")","v":-4.32}]
["1999-09-29",null,832,{"$f":"IF(ISNA(VLOOKUP(C39,BDDG!$A$2:$F$100,2,FALSE)),\"\",VLOOKUP(C39,BDDG!$A$2:$F$100,2,FALSE))","v":0},{"$f":"IF(ISNA(VLOOKUP(C39,BDDG!$A$3:$J$102,3,FALSE)),\"\",VLOOKUP(C39,BDDG!$A$3:$J$102,3,FALSE))","v":"A"},{"$f":"IF(ISNA(VLOOKUP(C39,BDDG!$A$3:$J$102,4,FALSE)),\"\",VLOOKUP(C39,BDDG!$A$3:$J$102,4,FALSE))","v":106},{"$f":"IF(ISNA(VLOOKUP(C39,BDDG!$A$2:$F$100,5,FALSE)),\"\",VLOOKUP(C39,BDDG!$A$2:$F$100,5,FALSE))","v":"A2"},{"$f":"IF(ISNA(VLOOKUP(C39,BDDG!$A$2:$F$100,6,FALSE)),\"\",VLOOKUP(C39,BDDG!$A$2:$F$100,6,FALSE))","v":"AA2"},{"$f":"IF(ISERROR(VLOOKUP(C39,BDDG!$A$2:$G$100,7,FALSE)),\"\",VLOOKUP(C39,BDDG!$A$2:$G$100,7,FALSE))","v":1},{"$f":"IF(ISERROR(VLOOKUP(C39,BDDG!$A$2:$H$100,8,FALSE)),\"\",VLOOKUP(C39,BDDG!$A$2:$H$100,8,FALSE))","v":"BB2"},40,60,57.6,{"$f":"IF(ISERROR(VLOOKUP(C39,BDDG!$A$2:$I$100,9,FALSE)),\"\",VLOOKUP(C39,BDDG!$A$2:$I$100,9,FALSE))","v":"CC2"},null,null,"",{"$f":"IF(ISERROR(VLOOKUP(C39,BDDG!$A$2:$J$100,10,FALSE)),\"\",VLOOKUP(C39,BDDG!$A$2:$J$100,10,FALSE))","v":"DD2"},null,null,"",57.6,9,1999,{"$f":"IFERROR(INDEX($V$2:V39,MATCH(H39&MAX(IF($H$1:H38=H39,$A$1:A38)),$H$2:H39&$A$2:A39,0))-V39,\"\")","v":-32.914285714285711}]
["1999-09-29",null,833,{"$f":"IF(ISNA(VLOOKUP(C40,BDDG!$A$2:$F$100,2,FALSE)),\"\",VLOOKUP(C40,BDDG!$A$2:$F$100,2,FALSE))","v":0},{"$f":"IF(ISNA(VLOOKUP(C40,BDDG!$A$3:$J$102,3,FALSE)),\"\",VLOOKUP(C40,BDDG!$A$3:$J$102,3,FALSE))","v":"A"},{"$f":"IF(ISNA(VLOOKUP(C40,BDDG!$A$3:$J$102,4,FALSE)),\"\",VLOOKUP(C40,BDDG!$A$3:$J$102,4,FALSE))","v":106},{"$f":"IF(ISNA(VLOOKUP(C40,BDDG!$A$2:$F$100,5,FALSE)),\"\",VLOOKUP(C40,BDDG!$A$2:$F$100,5,FALSE))","v":"A2"},{"$f":"IF(ISNA(VLOOKUP(C40,BDDG!$A$2:$F$100,6,FALSE)),\"\",VLOOKUP(C40,BDDG!$A$2:$F$100,6,FALSE))","v":"AA3"},{"$f":"IF(ISERROR(VLOOKUP(C40,BDDG!$A$2:$G$100,7,FALSE)),\"\",VLOOKUP(C40,BDDG!$A$2:$G$100,7,FALSE))","v":1},{"$f":"IF(ISERROR(VLOOKUP(C40,BDDG!$A$2:$H$100,8,FALSE)),\"\",VLOOKUP(C40,BDDG!$A$2:$H$100,8,FALSE))","v":"BB3"},85,60,122.40000000000002,{"$f":"IF(ISERROR(VLOOKUP(C40,BDDG!$A$2:$I$100,9,FALSE)),\"\",VLOOKUP(C40,BDDG!$A$2:$I$100,9,FALSE))","v":"CC3"},null,null,"",{"$f":"IF(ISERROR(VLOOKUP(C40,BDDG!$A$2:$J$100,10,FALSE)),\"\",VLOOKUP(C40,BDDG!$A$2:$J$100,10,FALSE))","v":"DD3"},null,null,"",122.40000000000002,9,1999,{"$f":"IFERROR(INDEX($V$2:V40,MATCH(H40&MAX(IF($H$1:H39=H40,$A$1:A39)),$H$2:H40&$A$2:A40,0))-V40,\"\")","v":-109.10769230769233}]
["1999-09-29",null,834,{"$f":"IF(ISNA(VLOOKUP(C41,BDDG!$A$2:$F$100,2,FALSE)),\"\",VLOOKUP(C41,BDDG!$A$2:$F$100,2,FALSE))","v":0},{"$f":"IF(ISNA(VLOOKUP(C41,BDDG!$A$3:$J$102,3,FALSE)),\"\",VLOOKUP(C41,BDDG!$A$3:$J$102,3,FALSE))","v":"A"},{"$f":"IF(ISNA(VLOOKUP(C41,BDDG!$A$3:$J$102,4,FALSE)),\"\",VLOOKUP(C41,BDDG!$A$3:$J$102,4,FALSE))","v":106},{"$f":"IF(ISNA(VLOOKUP(C41,BDDG!$A$2:$F$100,5,FALSE)),\"\",VLOOKUP(C41,BDDG!$A$2:$F$100,5,FALSE))","v":"A2"},{"$f":"IF(ISNA(VLOOKUP(C41,BDDG!$A$2:$F$100,6,FALSE)),\"\",VLOOKUP(C41,BDDG!$A$2:$F$100,6,FALSE))","v":"AA4"},{"$f":"IF(ISERROR(VLOOKUP(C41,BDDG!$A$2:$G$100,7,FALSE)),\"\",VLOOKUP(C41,BDDG!$A$2:$G$100,7,FALSE))","v":1},{"$f":"IF(ISERROR(VLOOKUP(C41,BDDG!$A$2:$H$100,8,FALSE)),\"\",VLOOKUP(C41,BDDG!$A$2:$H$100,8,FALSE))","v":"BB4"},17,60,24.48,{"$f":"IF(ISERROR(VLOOKUP(C41,BDDG!$A$2:$I$100,9,FALSE)),\"\",VLOOKUP(C41,BDDG!$A$2:$I$100,9,FALSE))","v":"CC4"},null,null,"",{"$f":"IF(ISERROR(VLOOKUP(C41,BDDG!$A$2:$J$100,10,FALSE)),\"\",VLOOKUP(C41,BDDG!$A$2:$J$100,10,FALSE))","v":"DD4"},null,null,"",24.48,9,1999,{"$f":"IFERROR(INDEX($V$2:V41,MATCH(H41&MAX(IF($H$1:H40=H41,$A$1:A40)),$H$2:H41&$A$2:A41,0))-V41,\"\")","v":-7.1999999999999993}]
["1999-10-11",null,838,{"$f":"IF(ISNA(VLOOKUP(C42,BDDG!$A$2:$F$100,2,FALSE)),\"\",VLOOKUP(C42,BDDG!$A$2:$F$100,2,FALSE))","v":0},{"$f":"IF(ISNA(VLOOKUP(C42,BDDG!$A$3:$J$102,3,FALSE)),\"\",VLOOKUP(C42,BDDG!$A$3:$J$102,3,FALSE))","v":"A"},{"$f":"IF(ISNA(VLOOKUP(C42,BDDG!$A$3:$J$102,4,FALSE)),\"\",VLOOKUP(C42,BDDG!$A$3:$J$102,4,FALSE))","v":106},{"$f":"IF(ISNA(VLOOKUP(C42,BDDG!$A$2:$F$100,5,FALSE)),\"\",VLOOKUP(C42,BDDG!$A$2:$F$100,5,FALSE))","v":"A3"},{"$f":"IF(ISNA(VLOOKUP(C42,BDDG!$A$2:$F$100,6,FALSE)),\"\",VLOOKUP(C42,BDDG!$A$2:$F$100,6,FALSE))","v":"AA8"},{"$f":"IF(ISERROR(VLOOKUP(C42,BDDG!$A$2:$G$100,7,FALSE)),\"\",VLOOKUP(C42,BDDG!$A$2:$G$100,7,FALSE))","v":1},{"$f":"IF(ISERROR(VLOOKUP(C42,BDDG!$A$2:$H$100,8,FALSE)),\"\",VLOOKUP(C42,BDDG!$A$2:$H$100,8,FALSE))","v":"BB8"},4,60,5.7600000000000007,{"$f":"IF(ISERROR(VLOOKUP(C42,BDDG!$A$2:$I$100,9,FALSE)),\"\",VLOOKUP(C42,BDDG!$A$2:$I$100,9,FALSE))","v":"CC8"},null,null,"",{"$f":"IF(ISERROR(VLOOKUP(C42,BDDG!$A$2:$J$100,10,FALSE)),\"\",VLOOKUP(C42,BDDG!$A$2:$J$100,10,FALSE))","v":"DD8"},null,null,"",5.7600000000000007,10,1999,{"$f":"IFERROR(INDEX($V$2:V42,MATCH(H42&MAX(IF($H$1:H41=H42,$A$1:A41)),$H$2:H42&$A$2:A42,0))-V42,\"\")","v":0}]
["1999-10-11",null,837,{"$f":"IF(ISNA(VLOOKUP(C43,BDDG!$A$2:$F$100,2,FALSE)),\"\",VLOOKUP(C43,BDDG!$A$2:$F$100,2,FALSE))","v":0},{"$f":"IF(ISNA(VLOOKUP(C43,BDDG!$A$3:$J$102,3,FALSE)),\"\",VLOOKUP(C43,BDDG!$A$3:$J$102,3,FALSE))","v":"A"},{"$f":"IF(ISNA(VLOOKUP(C43,BDDG!$A$3:$J$102,4,FALSE)),\"\",VLOOKUP(C43,BDDG!$A$3:$J$102,4,FALSE))","v":106},{"$f":"IF(ISNA(VLOOKUP(C43,BDDG!$A$2:$F$100,5,FALSE)),\"\",VLOOKUP(C43,BDDG!$A$2:$F$100,5,FALSE))","v":"A3"},{"$f":"IF(ISNA(VLOOKUP(C43,BDDG!$A$2:$F$100,6,FALSE)),\"\",VLOOKUP(C43,BDDG!$A$2:$F$100,6,FALSE))","v":"AA7"},{"$f":"IF(ISERROR(VLOOKUP(C43,BDDG!$A$2:$G$100,7,FALSE)),\"\",VLOOKUP(C43,BDDG!$A$2:$G$100,7,FALSE))","v":1},{"$f":"IF(ISERROR(VLOOKUP(C43,BDDG!$A$2:$H$100,8,FALSE)),\"\",VLOOKUP(C43,BDDG!$A$2:$H$100,8,FALSE))","v":"BB7"},10,60,14.4,{"$f":"IF(ISERROR(VLOOKUP(C43,BDDG!$A$2:$I$100,9,FALSE)),\"\",VLOOKUP(C43,BDDG!$A$2:$I$100,9,FALSE))","v":"CC7"},null,null,"",{"$f":"IF(ISERROR(VLOOKUP(C43,BDDG!$A$2:$J$100,10,FALSE)),\"\",VLOOKUP(C43,BDDG!$A$2:$J$100,10,FALSE))","v":"DD7"},null,null,"",14.4,10,1999,{"$f":"IFERROR(INDEX($V$2:V43,MATCH(H43&MAX(IF($H$1:H42=H43,$A$1:A42)),$H$2:H43&$A$2:A43,0))-V43,\"\")","v":-4.32}]
["1999-10-11",null,836,{"$f":"IF(ISNA(VLOOKUP(C44,BDDG!$A$2:$F$100,2,FALSE)),\"\",VLOOKUP(C44,BDDG!$A$2:$F$100,2,FALSE))","v":0},{"$f":"IF(ISNA(VLOOKUP(C44,BDDG!$A$3:$J$102,3,FALSE)),\"\",VLOOKUP(C44,BDDG!$A$3:$J$102,3,FALSE))","v":"A"},{"$f":"IF(ISNA(VLOOKUP(C44,BDDG!$A$3:$J$102,4,FALSE)),\"\",VLOOKUP(C44,BDDG!$A$3:$J$102,4,FALSE))","v":106},{"$f":"IF(ISNA(VLOOKUP(C44,BDDG!$A$2:$F$100,5,FALSE)),\"\",VLOOKUP(C44,BDDG!$A$2:$F$100,5,FALSE))","v":"A3"},{"$f":"IF(ISNA(VLOOKUP(C44,BDDG!$A$2:$F$100,6,FALSE)),\"\",VLOOKUP(C44,BDDG!$A$2:$F$100,6,FALSE))","v":"AA6"},{"$f":"IF(ISERROR(VLOOKUP(C44,BDDG!$A$2:$G$100,7,FALSE)),\"\",VLOOKUP(C44,BDDG!$A$2:$G$100,7,FALSE))","v":1},{"$f":"IF(ISERROR(VLOOKUP(C44,BDDG!$A$2:$H$100,8,FALSE)),\"\",VLOOKUP(C44,BDDG!$A$2:$H$100,8,FALSE))","v":"BB6"},16,60,23.040000000000003,{"$f":"IF(ISERROR(VLOOKUP(C44,BDDG!$A$2:$I$100,9,FALSE)),\"\",VLOOKUP(C44,BDDG!$A$2:$I$100,9,FALSE))","v":"CC6"},null,null,"",{"$f":"IF(ISERROR(VLOOKUP(C44,BDDG!$A$2:$J$100,10,FALSE)),\"\",VLOOKUP(C44,BDDG!$A$2:$J$100,10,FALSE))","v":"DD6"},null,null,{"$f":" IF(ISERROR(S44/T44*86.4),\"\",S44/T44*86.4)","v":""},23.040000000000003,10,1999,{"$f":"IFERROR(INDEX($V$2:V44,MATCH(H44&MAX(IF($H$1:H43=H44,$A$1:A43)),$H$2:H44&$A$2:A44,0))-V44,\"\")","v":1.6457142857142841}]
["1999-10-11",null,839,{"$f":"IF(ISNA(VLOOKUP(C45,BDDG!$A$2:$F$100,2,FALSE)),\"\",VLOOKUP(C45,BDDG!$A$2:$F$100,2,FALSE))","v":0},{"$f":"IF(ISNA(VLOOKUP(C45,BDDG!$A$3:$J$102,3,FALSE)),\"\",VLOOKUP(C45,BDDG!$A$3:$J$102,3,FALSE))","v":"A"},{"$f":"IF(ISNA(VLOOKUP(C45,BDDG!$A$3:$J$102,4,FALSE)),\"\",VLOOKUP(C45,BDDG!$A$3:$J$102,4,FALSE))","v":106},{"$f":"IF(ISNA(VLOOKUP(C45,BDDG!$A$2:$F$100,5,FALSE)),\"\",VLOOKUP(C45,BDDG!$A$2:$F$100,5,FALSE))","v":"A3"},{"$f":"IF(ISNA(VLOOKUP(C45,BDDG!$A$2:$F$100,6,FALSE)),\"\",VLOOKUP(C45,BDDG!$A$2:$F$100,6,FALSE))","v":"AA10"},{"$f":"IF(ISERROR(VLOOKUP(C45,BDDG!$A$2:$G$100,7,FALSE)),\"\",VLOOKUP(C45,BDDG!$A$2:$G$100,7,FALSE))","v":2},{"$f":"IF(ISERROR(VLOOKUP(C45,BDDG!$A$2:$H$100,8,FALSE)),\"\",VLOOKUP(C45,BDDG!$A$2:$H$100,8,FALSE))","v":"BB10"},null,null,37.44,{"$f":"IF(ISERROR(VLOOKUP(C45,BDDG!$A$2:$I$100,9,FALSE)),\"\",VLOOKUP(C45,BDDG!$A$2:$I$100,9,FALSE))","v":"CC10"},null,null,"",{"$f":"IF(ISERROR(VLOOKUP(C45,BDDG!$A$2:$J$100,10,FALSE)),\"\",VLOOKUP(C45,BDDG!$A$2:$J$100,10,FALSE))","v":"DD10"},null,null,"",37.44,10,1999,{"$f":"IFERROR(INDEX($V$2:V45,MATCH(H45&MAX(IF($H$1:H44=H45,$A$1:A44)),$H$2:H45&$A$2:A45,0))-V45,\"\")","v":-2.6699999999999946}]
["1999-11-17",null,832,{"$f":"IF(ISNA(VLOOKUP(C46,BDDG!$A$2:$F$100,2,FALSE)),\"\",VLOOKUP(C46,BDDG!$A$2:$F$100,2,FALSE))","v":0},{"$f":"IF(ISNA(VLOOKUP(C46,BDDG!$A$3:$J$102,3,FALSE)),\"\",VLOOKUP(C46,BDDG!$A$3:$J$102,3,FALSE))","v":"A"},{"$f":"IF(ISNA(VLOOKUP(C46,BDDG!$A$3:$J$102,4,FALSE)),\"\",VLOOKUP(C46,BDDG!$A$3:$J$102,4,FALSE))","v":106},{"$f":"IF(ISNA(VLOOKUP(C46,BDDG!$A$2:$F$100,5,FALSE)),\"\",VLOOKUP(C46,BDDG!$A$2:$F$100,5,FALSE))","v":"A2"},{"$f":"IF(ISNA(VLOOKUP(C46,BDDG!$A$2:$F$100,6,FALSE)),\"\",VLOOKUP(C46,BDDG!$A$2:$F$100,6,FALSE))","v":"AA2"},{"$f":"IF(ISERROR(VLOOKUP(C46,BDDG!$A$2:$G$100,7,FALSE)),\"\",VLOOKUP(C46,BDDG!$A$2:$G$100,7,FALSE))","v":1},{"$f":"IF(ISERROR(VLOOKUP(C46,BDDG!$A$2:$H$100,8,FALSE)),\"\",VLOOKUP(C46,BDDG!$A$2:$H$100,8,FALSE))","v":"BB2"},66,60,{"$f":" IF(ISERROR(K46/L46*86.4),\"\",K46/L46*86.4)","v":95.04000000000002},{"$f":"IF(ISERROR(VLOOKUP(C46,BDDG!$A$2:$I$100,9,FALSE)),\"\",VLOOKUP(C46,BDDG!$A$2:$I$100,9,FALSE))","v":"CC2"},null,null,"",{"$f":"IF(ISERROR(VLOOKUP(C46,BDDG!$A$2:$J$100,10,FALSE)),\"\",VLOOKUP(C46,BDDG!$A$2:$J$100,10,FALSE))","v":"DD2"},null,null,"",95.04000000000002,11,1999,{"$f":"IFERROR(INDEX($V$2:V46,MATCH(H46&MAX(IF($H$1:H45=H46,$A$1:A45)),$H$2:H46&$A$2:A46,0))-V46,\"\")","v":-37.440000000000019}]
["1999-11-17",null,833,{"$f":"IF(ISNA(VLOOKUP(C47,BDDG!$A$2:$F$100,2,FALSE)),\"\",VLOOKUP(C47,BDDG!$A$2:$F$100,2,FALSE))","v":0},{"$f":"IF(ISNA(VLOOKUP(C47,BDDG!$A$3:$J$102,3,FALSE)),\"\",VLOOKUP(C47,BDDG!$A$3:$J$102,3,FALSE))","v":"A"},{"$f":"IF(ISNA(VLOOKUP(C47,BDDG!$A$3:$J$102,4,FALSE)),\"\",VLOOKUP(C47,BDDG!$A$3:$J$102,4,FALSE))","v":106},{"$f":"IF(ISNA(VLOOKUP(C47,BDDG!$A$2:$F$100,5,FALSE)),\"\",VLOOKUP(C47,BDDG!$A$2:$F$100,5,FALSE))","v":"A2"},{"$f":"IF(ISNA(VLOOKUP(C47,BDDG!$A$2:$F$100,6,FALSE)),\"\",VLOOKUP(C47,BDDG!$A$2:$F$100,6,FALSE))","v":"AA3"},{"$f":"IF(ISERROR(VLOOKUP(C47,BDDG!$A$2:$G$100,7,FALSE)),\"\",VLOOKUP(C47,BDDG!$A$2:$G$100,7,FALSE))","v":1},{"$f":"IF(ISERROR(VLOOKUP(C47,BDDG!$A$2:$H$100,8,FALSE)),\"\",VLOOKUP(C47,BDDG!$A$2:$H$100,8,FALSE))","v":"BB3"},66,60,95.04000000000002,{"$f":"IF(ISERROR(VLOOKUP(C47,BDDG!$A$2:$I$100,9,FALSE)),\"\",VLOOKUP(C47,BDDG!$A$2:$I$100,9,FALSE))","v":"CC3"},null,null,"",{"$f":"IF(ISERROR(VLOOKUP(C47,BDDG!$A$2:$J$100,10,FALSE)),\"\",VLOOKUP(C47,BDDG!$A$2:$J$100,10,FALSE))","v":"DD3"},null,null,"",95.04000000000002,11,1999,{"$f":"IFERROR(INDEX($V$2:V47,MATCH(H47&MAX(IF($H$1:H46=H47,$A$1:A46)),$H$2:H47&$A$2:A47,0))-V47,\"\")","v":27.36}]
["1999-11-17",null,834,{"$f":"IF(ISNA(VLOOKUP(C48,BDDG!$A$2:$F$100,2,FALSE)),\"\",VLOOKUP(C48,BDDG!$A$2:$F$100,2,FALSE))","v":0},{"$f":"IF(ISNA(VLOOKUP(C48,BDDG!$A$3:$J$102,3,FALSE)),\"\",VLOOKUP(C48,BDDG!$A$3:$J$102,3,FALSE))","v":"A"},{"$f":"IF(ISNA(VLOOKUP(C48,BDDG!$A$3:$J$102,4,FALSE)),\"\",VLOOKUP(C48,BDDG!$A$3:$J$102,4,FALSE))","v":106},{"$f":"IF(ISNA(VLOOKUP(C48,BDDG!$A$2:$F$100,5,FALSE)),\"\",VLOOKUP(C48,BDDG!$A$2:$F$100,5,FALSE))","v":"A2"},{"$f":"IF(ISNA(VLOOKUP(C48,BDDG!$A$2:$F$100,6,FALSE)),\"\",VLOOKUP(C48,BDDG!$A$2:$F$100,6,FALSE))","v":"AA4"},{"$f":"IF(ISERROR(VLOOKUP(C48,BDDG!$A$2:$G$100,7,FALSE)),\"\",VLOOKUP(C48,BDDG!$A$2:$G$100,7,FALSE))","v":1},{"$f":"IF(ISERROR(VLOOKUP(C48,BDDG!$A$2:$H$100,8,FALSE)),\"\",VLOOKUP(C48,BDDG!$A$2:$H$100,8,FALSE))","v":"BB4"},30,60,43.2,{"$f":"IF(ISERROR(VLOOKUP(C48,BDDG!$A$2:$I$100,9,FALSE)),\"\",VLOOKUP(C48,BDDG!$A$2:$I$100,9,FALSE))","v":"CC4"},null,null,"",{"$f":"IF(ISERROR(VLOOKUP(C48,BDDG!$A$2:$J$100,10,FALSE)),\"\",VLOOKUP(C48,BDDG!$A$2:$J$100,10,FALSE))","v":"DD4"},null,null,"",43.2,11,1999,{"$f":"IFERROR(INDEX($V$2:V48,MATCH(H48&MAX(IF($H$1:H47=H48,$A$1:A47)),$H$2:H48&$A$2:A48,0))-V48,\"\")","v":-18.720000000000002}]
["2000-08-25",null,832,{"$f":"IF(ISNA(VLOOKUP(C49,BDDG!$A$2:$F$100,2,FALSE)),\"\",VLOOKUP(C49,BDDG!$A$2:$F$100,2,FALSE))","v":0},{"$f":"IF(ISNA(VLOOKUP(C49,BDDG!$A$3:$J$102,3,FALSE)),\"\",VLOOKUP(C49,BDDG!$A$3:$J$102,3,FALSE))","v":"A"},{"$f":"IF(ISNA(VLOOKUP(C49,BDDG!$A$3:$J$102,4,FALSE)),\"\",VLOOKUP(C49,BDDG!$A$3:$J$102,4,FALSE))","v":106},{"$f":"IF(ISNA(VLOOKUP(C49,BDDG!$A$2:$F$100,5,FALSE)),\"\",VLOOKUP(C49,BDDG!$A$2:$F$100,5,FALSE))","v":"A2"},{"$f":"IF(ISNA(VLOOKUP(C49,BDDG!$A$2:$F$100,6,FALSE)),\"\",VLOOKUP(C49,BDDG!$A$2:$F$100,6,FALSE))","v":"AA2"},{"$f":"IF(ISERROR(VLOOKUP(C49,BDDG!$A$2:$G$100,7,FALSE)),\"\",VLOOKUP(C49,BDDG!$A$2:$G$100,7,FALSE))","v":1},{"$f":"IF(ISERROR(VLOOKUP(C49,BDDG!$A$2:$H$100,8,FALSE)),\"\",VLOOKUP(C49,BDDG!$A$2:$H$100,8,FALSE))","v":"BB2"},18,60,25.92,{"$f":"IF(ISERROR(VLOOKUP(C49,BDDG!$A$2:$I$100,9,FALSE)),\"\",VLOOKUP(C49,BDDG!$A$2:$I$100,9,FALSE))","v":"CC2"},null,null,"",{"$f":"IF(ISERROR(VLOOKUP(C49,BDDG!$A$2:$J$100,10,FALSE)),\"\",VLOOKUP(C49,BDDG!$A$2:$J$100,10,FALSE))","v":"DD2"},null,null,"",25.92,8,2000,{"$f":"IFERROR(INDEX($V$2:V49,MATCH(H49&MAX(IF($H$1:H48=H49,$A$1:A48)),$H$2:H49&$A$2:A49,0))-V49,\"\")","v":69.120000000000019}]
["2000-08-25",null,833,{"$f":"IF(ISNA(VLOOKUP(C50,BDDG!$A$2:$F$100,2,FALSE)),\"\",VLOOKUP(C50,BDDG!$A$2:$F$100,2,FALSE))","v":0},{"$f":"IF(ISNA(VLOOKUP(C50,BDDG!$A$3:$J$102,3,FALSE)),\"\",VLOOKUP(C50,BDDG!$A$3:$J$102,3,FALSE))","v":"A"},{"$f":"IF(ISNA(VLOOKUP(C50,BDDG!$A$3:$J$102,4,FALSE)),\"\",VLOOKUP(C50,BDDG!$A$3:$J$102,4,FALSE))","v":106},{"$f":"IF(ISNA(VLOOKUP(C50,BDDG!$A$2:$F$100,5,FALSE)),\"\",VLOOKUP(C50,BDDG!$A$2:$F$100,5,FALSE))","v":"A2"},{"$f":"IF(ISNA(VLOOKUP(C50,BDDG!$A$2:$F$100,6,FALSE)),\"\",VLOOKUP(C50,BDDG!$A$2:$F$100,6,FALSE))","v":"AA3"},{"$f":"IF(ISERROR(VLOOKUP(C50,BDDG!$A$2:$G$100,7,FALSE)),\"\",VLOOKUP(C50,BDDG!$A$2:$G$100,7,FALSE))","v":1},{"$f":"IF(ISERROR(VLOOKUP(C50,BDDG!$A$2:$H$100,8,FALSE)),\"\",VLOOKUP(C50,BDDG!$A$2:$H$100,8,FALSE))","v":"BB3"},34,60,48.96,{"$f":"IF(ISERROR(VLOOKUP(C50,BDDG!$A$2:$I$100,9,FALSE)),\"\",VLOOKUP(C50,BDDG!$A$2:$I$100,9,FALSE))","v":"CC3"},null,null,"",{"$f":"IF(ISERROR(VLOOKUP(C50,BDDG!$A$2:$J$100,10,FALSE)),\"\",VLOOKUP(C50,BDDG!$A$2:$J$100,10,FALSE))","v":"DD3"},null,null,"",48.96,8,2000,{"$f":"IFERROR(INDEX($V$2:V50,MATCH(H50&MAX(IF($H$1:H49=H50,$A$1:A49)),$H$2:H50&$A$2:A50,0))-V50,\"\")","v":46.08000000000002}]
["2000-08-28",null,834,{"$f":"IF(ISNA(VLOOKUP(C51,BDDG!$A$2:$F$100,2,FALSE)),\"\",VLOOKUP(C51,BDDG!$A$2:$F$100,2,FALSE))","v":0},{"$f":"IF(ISNA(VLOOKUP(C51,BDDG!$A$3:$J$102,3,FALSE)),\"\",VLOOKUP(C51,BDDG!$A$3:$J$102,3,FALSE))","v":"A"},{"$f":"IF(ISNA(VLOOKUP(C51,BDDG!$A$3:$J$102,4,FALSE)),\"\",VLOOKUP(C51,BDDG!$A$3:$J$102,4,FALSE))","v":106},{"$f":"IF(ISNA(VLOOKUP(C51,BDDG!$A$2:$F$100,5,FALSE)),\"\",VLOOKUP(C51,BDDG!$A$2:$F$100,5,FALSE))","v":"A2"},{"$f":"IF(ISNA(VLOOKUP(C51,BDDG!$A$2:$F$100,6,FALSE)),\"\",VLOOKUP(C51,BDDG!$A$2:$F$100,6,FALSE))","v":"AA4"},{"$f":"IF(ISERROR(VLOOKUP(C51,BDDG!$A$2:$G$100,7,FALSE)),\"\",VLOOKUP(C51,BDDG!$A$2:$G$100,7,FALSE))","v":1},{"$f":"IF(ISERROR(VLOOKUP(C51,BDDG!$A$2:$H$100,8,FALSE)),\"\",VLOOKUP(C51,BDDG!$A$2:$H$100,8,FALSE))","v":"BB4"},13,60,18.720000000000002,{"$f":"IF(ISERROR(VLOOKUP(C51,BDDG!$A$2:$I$100,9,FALSE)),\"\",VLOOKUP(C51,BDDG!$A$2:$I$100,9,FALSE))","v":"CC4"},null,null,"",{"$f":"IF(ISERROR(VLOOKUP(C51,BDDG!$A$2:$J$100,10,FALSE)),\"\",VLOOKUP(C51,BDDG!$A$2:$J$100,10,FALSE))","v":"DD4"},null,null,"",18.720000000000002,8,2000,{"$f":"IFERROR(INDEX($V$2:V51,MATCH(H51&MAX(IF($H$1:H50=H51,$A$1:A50)),$H$2:H51&$A$2:A51,0))-V51,\"\")","v":24.48}]
["2000-11-03",null,842,{"$f":"IF(ISNA(VLOOKUP(C52,BDDG!$A$2:$F$100,2,FALSE)),\"\",VLOOKUP(C52,BDDG!$A$2:$F$100,2,FALSE))","v":0},{"$f":"IF(ISNA(VLOOKUP(C52,BDDG!$A$3:$J$102,3,FALSE)),\"\",VLOOKUP(C52,BDDG!$A$3:$J$102,3,FALSE))","v":"B"},{"$f":"IF(ISNA(VLOOKUP(C52,BDDG!$A$3:$J$102,4,FALSE)),\"\",VLOOKUP(C52,BDDG!$A$3:$J$102,4,FALSE))","v":106},{"$f":"IF(ISNA(VLOOKUP(C52,BDDG!$A$2:$F$100,5,FALSE)),\"\",VLOOKUP(C52,BDDG!$A$2:$F$100,5,FALSE))","v":"A5"},{"$f":"IF(ISNA(VLOOKUP(C52,BDDG!$A$2:$F$100,6,FALSE)),\"\",VLOOKUP(C52,BDDG!$A$2:$F$100,6,FALSE))","v":"AA13"},{"$f":"IF(ISERROR(VLOOKUP(C52,BDDG!$A$2:$G$100,7,FALSE)),\"\",VLOOKUP(C52,BDDG!$A$2:$G$100,7,FALSE))","v":1},{"$f":"IF(ISERROR(VLOOKUP(C52,BDDG!$A$2:$H$100,8,FALSE)),\"\",VLOOKUP(C52,BDDG!$A$2:$H$100,8,FALSE))","v":"BB13"},10,60,14.4,{"$f":"IF(ISERROR(VLOOKUP(C52,BDDG!$A$2:$I$100,9,FALSE)),\"\",VLOOKUP(C52,BDDG!$A$2:$I$100,9,FALSE))","v":"CC13"},null,null,"",{"$f":"IF(ISERROR(VLOOKUP(C52,BDDG!$A$2:$J$100,10,FALSE)),\"\",VLOOKUP(C52,BDDG!$A$2:$J$100,10,FALSE))","v":"DD13"},null,null,"",14.4,11,2000,{"$f":"IFERROR(INDEX($V$2:V52,MATCH(H52&MAX(IF($H$1:H51=H52,$A$1:A51)),$H$2:H52&$A$2:A52,0))-V52,\"\")","v":""}]
["2001-09-21",null,859,{"$f":"IF(ISNA(VLOOKUP(C53,BDDG!$A$2:$F$100,2,FALSE)),\"\",VLOOKUP(C53,BDDG!$A$2:$F$100,2,FALSE))","v":0},{"$f":"IF(ISNA(VLOOKUP(C53,BDDG!$A$3:$J$102,3,FALSE)),\"\",VLOOKUP(C53,BDDG!$A$3:$J$102,3,FALSE))","v":"A"},{"$f":"IF(ISNA(VLOOKUP(C53,BDDG!$A$3:$J$102,4,FALSE)),\"\",VLOOKUP(C53,BDDG!$A$3:$J$102,4,FALSE))","v":106},{"$f":"IF(ISNA(VLOOKUP(C53,BDDG!$A$2:$F$100,5,FALSE)),\"\",VLOOKUP(C53,BDDG!$A$2:$F$100,5,FALSE))","v":"A10"},{"$f":"IF(ISNA(VLOOKUP(C53,BDDG!$A$2:$F$100,6,FALSE)),\"\",VLOOKUP(C53,BDDG!$A$2:$F$100,6,FALSE))","v":"AA30"},{"$f":"IF(ISERROR(VLOOKUP(C53,BDDG!$A$2:$G$100,7,FALSE)),\"\",VLOOKUP(C53,BDDG!$A$2:$G$100,7,FALSE))","v":1},{"$f":"IF(ISERROR(VLOOKUP(C53,BDDG!$A$2:$H$100,8,FALSE)),\"\",VLOOKUP(C53,BDDG!$A$2:$H$100,8,FALSE))","v":"BB30"},null,null,5.7,null,null,null,"",{"$f":"IF(ISERROR(VLOOKUP(C53,BDDG!$A$2:$J$100,10,FALSE)),\"\",VLOOKUP(C53,BDDG!$A$2:$J$100,10,FALSE))","v":"DD30"},null,null,"",5.7,9,2001,{"$f":"IFERROR(INDEX($V$2:V53,MATCH(H53&MAX(IF($H$1:H52=H53,$A$1:A52)),$H$2:H53&$A$2:A53,0))-V53,\"\")","v":""}]
["2001-09-22",null,859,{"$f":"IF(ISNA(VLOOKUP(C54,BDDG!$A$2:$F$100,2,FALSE)),\"\",VLOOKUP(C54,BDDG!$A$2:$F$100,2,FALSE))","v":0},{"$f":"IF(ISNA(VLOOKUP(C54,BDDG!$A$3:$J$102,3,FALSE)),\"\",VLOOKUP(C54,BDDG!$A$3:$J$102,3,FALSE))","v":"A"},{"$f":"IF(ISNA(VLOOKUP(C54,BDDG!$A$3:$J$102,4,FALSE)),\"\",VLOOKUP(C54,BDDG!$A$3:$J$102,4,FALSE))","v":106},{"$f":"IF(ISNA(VLOOKUP(C54,BDDG!$A$2:$F$100,5,FALSE)),\"\",VLOOKUP(C54,BDDG!$A$2:$F$100,5,FALSE))","v":"A10"},{"$f":"IF(ISNA(VLOOKUP(C54,BDDG!$A$2:$F$100,6,FALSE)),\"\",VLOOKUP(C54,BDDG!$A$2:$F$100,6,FALSE))","v":"AA30"},{"$f":"IF(ISERROR(VLOOKUP(C54,BDDG!$A$2:$G$100,7,FALSE)),\"\",VLOOKUP(C54,BDDG!$A$2:$G$100,7,FALSE))","v":1},{"$f":"IF(ISERROR(VLOOKUP(C54,BDDG!$A$2:$H$100,8,FALSE)),\"\",VLOOKUP(C54,BDDG!$A$2:$H$100,8,FALSE))","v":"BB30"},null,null,5.18,null,null,null,"",{"$f":"IF(ISERROR(VLOOKUP(C54,BDDG!$A$2:$J$100,10,FALSE)),\"\",VLOOKUP(C54,BDDG!$A$2:$J$100,10,FALSE))","v":"DD30"},null,null,"",5.18,9,2001,{"$f":"IFERROR(INDEX($V$2:V54,MATCH(H54&MAX(IF($H$1:H53=H54,$A$1:A53)),$H$2:H54&$A$2:A54,0))-V54,\"\")","v":0.52000000000000046}]
["2001-09-23",null,859,{"$f":"IF(ISNA(VLOOKUP(C55,BDDG!$A$2:$F$100,2,FALSE)),\"\",VLOOKUP(C55,BDDG!$A$2:$F$100,2,FALSE))","v":0},{"$f":"IF(ISNA(VLOOKUP(C55,BDDG!$A$3:$J$102,3,FALSE)),\"\",VLOOKUP(C55,BDDG!$A$3:$J$102,3,FALSE))","v":"A"},{"$f":"IF(ISNA(VLOOKUP(C55,BDDG!$A$3:$J$102,4,FALSE)),\"\",VLOOKUP(C55,BDDG!$A$3:$J$102,4,FALSE))","v":106},{"$f":"IF(ISNA(VLOOKUP(C55,BDDG!$A$2:$F$100,5,FALSE)),\"\",VLOOKUP(C55,BDDG!$A$2:$F$100,5,FALSE))","v":"A10"},{"$f":"IF(ISNA(VLOOKUP(C55,BDDG!$A$2:$F$100,6,FALSE)),\"\",VLOOKUP(C55,BDDG!$A$2:$F$100,6,FALSE))","v":"AA30"},{"$f":"IF(ISERROR(VLOOKUP(C55,BDDG!$A$2:$G$100,7,FALSE)),\"\",VLOOKUP(C55,BDDG!$A$2:$G$100,7,FALSE))","v":1},{"$f":"IF(ISERROR(VLOOKUP(C55,BDDG!$A$2:$H$100,8,FALSE)),\"\",VLOOKUP(C55,BDDG!$A$2:$H$100,8,FALSE))","v":"BB30"},null,null,6.65,null,null,null,"",{"$f":"IF(ISERROR(VLOOKUP(C55,BDDG!$A$2:$J$100,10,FALSE)),\"\",VLOOKUP(C55,BDDG!$A$2:$J$100,10,FALSE))","v":"DD30"},null,null,"",6.65,9,2001,{"$f":"IFERROR(INDEX($V$2:V55,MATCH(H55&MAX(IF($H$1:H54=H55,$A$1:A54)),$H$2:H55&$A$2:A55,0))-V55,\"\")","v":-1.4700000000000006}]
["2001-09-24",null,859,{"$f":"IF(ISNA(VLOOKUP(C56,BDDG!$A$2:$F$100,2,FALSE)),\"\",VLOOKUP(C56,BDDG!$A$2:$F$100,2,FALSE))","v":0},{"$f":"IF(ISNA(VLOOKUP(C56,BDDG!$A$3:$J$102,3,FALSE)),\"\",VLOOKUP(C56,BDDG!$A$3:$J$102,3,FALSE))","v":"A"},{"$f":"IF(ISNA(VLOOKUP(C56,BDDG!$A$3:$J$102,4,FALSE)),\"\",VLOOKUP(C56,BDDG!$A$3:$J$102,4,FALSE))","v":106},{"$f":"IF(ISNA(VLOOKUP(C56,BDDG!$A$2:$F$100,5,FALSE)),\"\",VLOOKUP(C56,BDDG!$A$2:$F$100,5,FALSE))","v":"A10"},{"$f":"IF(ISNA(VLOOKUP(C56,BDDG!$A$2:$F$100,6,FALSE)),\"\",VLOOKUP(C56,BDDG!$A$2:$F$100,6,FALSE))","v":"AA30"},{"$f":"IF(ISERROR(VLOOKUP(C56,BDDG!$A$2:$G$100,7,FALSE)),\"\",VLOOKUP(C56,BDDG!$A$2:$G$100,7,FALSE))","v":1},{"$f":"IF(ISERROR(VLOOKUP(C56,BDDG!$A$2:$H$100,8,FALSE)),\"\",VLOOKUP(C56,BDDG!$A$2:$H$100,8,FALSE))","v":"BB30"},null,null,5.79,null,null,null,"",{"$f":"IF(ISERROR(VLOOKUP(C56,BDDG!$A$2:$J$100,10,FALSE)),\"\",VLOOKUP(C56,BDDG!$A$2:$J$100,10,FALSE))","v":"DD30"},null,null,"",5.79,9,2001,{"$f":"IFERROR(INDEX($V$2:V56,MATCH(H56&MAX(IF($H$1:H55=H56,$A$1:A55)),$H$2:H56&$A$2:A56,0))-V56,\"\")","v":0.86000000000000032}]
["2001-09-25",null,859,{"$f":"IF(ISNA(VLOOKUP(C57,BDDG!$A$2:$F$100,2,FALSE)),\"\",VLOOKUP(C57,BDDG!$A$2:$F$100,2,FALSE))","v":0},{"$f":"IF(ISNA(VLOOKUP(C57,BDDG!$A$3:$J$102,3,FALSE)),\"\",VLOOKUP(C57,BDDG!$A$3:$J$102,3,FALSE))","v":"A"},{"$f":"IF(ISNA(VLOOKUP(C57,BDDG!$A$3:$J$102,4,FALSE)),\"\",VLOOKUP(C57,BDDG!$A$3:$J$102,4,FALSE))","v":106},{"$f":"IF(ISNA(VLOOKUP(C57,BDDG!$A$2:$F$100,5,FALSE)),\"\",VLOOKUP(C57,BDDG!$A$2:$F$100,5,FALSE))","v":"A10"},{"$f":"IF(ISNA(VLOOKUP(C57,BDDG!$A$2:$F$100,6,FALSE)),\"\",VLOOKUP(C57,BDDG!$A$2:$F$100,6,FALSE))","v":"AA30"},{"$f":"IF(ISERROR(VLOOKUP(C57,BDDG!$A$2:$G$100,7,FALSE)),\"\",VLOOKUP(C57,BDDG!$A$2:$G$100,7,FALSE))","v":1},{"$f":"IF(ISERROR(VLOOKUP(C57,BDDG!$A$2:$H$100,8,FALSE)),\"\",VLOOKUP(C57,BDDG!$A$2:$H$100,8,FALSE))","v":"BB30"},null,null,5.44,null,null,null,null,{"$f":"IF(ISERROR(VLOOKUP(C57,BDDG!$A$2:$J$100,10,FALSE)),\"\",VLOOKUP(C57,BDDG!$A$2:$J$100,10,FALSE))","v":"DD30"},null,null,"",5.44,9,2001,{"$f":"IFERROR(INDEX($V$2:V57,MATCH(H57&MAX(IF($H$1:H56=H57,$A$1:A56)),$H$2:H57&$A$2:A57,0))-V57,\"\")","v":0.34999999999999964}]
["2001-09-25",null,815,{"$f":"IF(ISNA(VLOOKUP(C58,BDDG!$A$2:$F$100,2,FALSE)),\"\",VLOOKUP(C58,BDDG!$A$2:$F$100,2,FALSE))","v":0},{"$f":"IF(ISNA(VLOOKUP(C58,BDDG!$A$3:$J$102,3,FALSE)),\"\",VLOOKUP(C58,BDDG!$A$3:$J$102,3,FALSE))","v":"A"},{"$f":"IF(ISNA(VLOOKUP(C58,BDDG!$A$3:$J$102,4,FALSE)),\"\",VLOOKUP(C58,BDDG!$A$3:$J$102,4,FALSE))","v":106},{"$f":"IF(ISNA(VLOOKUP(C58,BDDG!$A$2:$F$100,5,FALSE)),\"\",VLOOKUP(C58,BDDG!$A$2:$F$100,5,FALSE))","v":"A10"},{"$f":"IF(ISNA(VLOOKUP(C58,BDDG!$A$2:$F$100,6,FALSE)),\"\",VLOOKUP(C58,BDDG!$A$2:$F$100,6,FALSE))","v":"AA31"},{"$f":"IF(ISERROR(VLOOKUP(C58,BDDG!$A$2:$G$100,7,FALSE)),\"\",VLOOKUP(C58,BDDG!$A$2:$G$100,7,FALSE))","v":1},{"$f":"IF(ISERROR(VLOOKUP(C58,BDDG!$A$2:$H$100,8,FALSE)),\"\",VLOOKUP(C58,BDDG!$A$2:$H$100,8,FALSE))","v":"BB31"},null,null,11.2,{"$f":"IF(ISERROR(VLOOKUP(C58,BDDG!$A$2:$I$100,9,FALSE)),\"\",VLOOKUP(C58,BDDG!$A$2:$I$100,9,FALSE))","v":"CC31"},null,null,{"$f":" IF(ISERROR(O58/P58*86.4),\"\",O58/P58*86.4)","v":""},{"$f":"IF(ISERROR(VLOOKUP(C58,BDDG!$A$2:$J$100,10,FALSE)),\"\",VLOOKUP(C58,BDDG!$A$2:$J$100,10,FALSE))","v":"DD31"},null,null,"",11.2,9,2001,{"$f":"IFERROR(INDEX($V$2:V58,MATCH(H58&MAX(IF($H$1:H57=H58,$A$1:A57)),$H$2:H58&$A$2:A58,0))-V58,\"\")","v":""}]
["2001-09-26",null,859,{"$f":"IF(ISNA(VLOOKUP(C59,BDDG!$A$2:$F$100,2,FALSE)),\"\",VLOOKUP(C59,BDDG!$A$2:$F$100,2,FALSE))","v":0},{"$f":"IF(ISNA(VLOOKUP(C59,BDDG!$A$3:$J$102,3,FALSE)),\"\",VLOOKUP(C59,BDDG!$A$3:$J$102,3,FALSE))","v":"A"},{"$f":"IF(ISNA(VLOOKUP(C59,BDDG!$A$3:$J$102,4,FALSE)),\"\",VLOOKUP(C59,BDDG!$A$3:$J$102,4,FALSE))","v":106},{"$f":"IF(ISNA(VLOOKUP(C59,BDDG!$A$2:$F$100,5,FALSE)),\"\",VLOOKUP(C59,BDDG!$A$2:$F$100,5,FALSE))","v":"A10"},{"$f":"IF(ISNA(VLOOKUP(C59,BDDG!$A$2:$F$100,6,FALSE)),\"\",VLOOKUP(C59,BDDG!$A$2:$F$100,6,FALSE))","v":"AA30"},{"$f":"IF(ISERROR(VLOOKUP(C59,BDDG!$A$2:$G$100,7,FALSE)),\"\",VLOOKUP(C59,BDDG!$A$2:$G$100,7,FALSE))","v":1},{"$f":"IF(ISERROR(VLOOKUP(C59,BDDG!$A$2:$H$100,8,FALSE)),\"\",VLOOKUP(C59,BDDG!$A$2:$H$100,8,FALSE))","v":"BB30"},null,null,5.0999999999999996,null,null,null,{"$f":" IF(ISERROR(O59/P59*86.4),\"\",O59/P59*86.4)","v":""},{"$f":"IF(ISERROR(VLOOKUP(C59,BDDG!$A$2:$J$100,10,FALSE)),\"\",VLOOKUP(C59,BDDG!$A$2:$J$100,10,FALSE))","v":"DD30"},null,null,"",{"$f":"IF(ISERROR(SUM(M59,Q59,U59)),\"\",SUM(M59,Q59,U59))","v":5.0999999999999996},9,2001,{"$f":"IFERROR(INDEX($V$2:V59,MATCH(H59&MAX(IF($H$1:H58=H59,$A$1:A58)),$H$2:H59&$A$2:A59,0))-V59,\"\")","v":0.34000000000000075}]
["2001-09-27",null,859,{"$f":"IF(ISNA(VLOOKUP(C60,BDDG!$A$2:$F$100,2,FALSE)),\"\",VLOOKUP(C60,BDDG!$A$2:$F$100,2,FALSE))","v":0},{"$f":"IF(ISNA(VLOOKUP(C60,BDDG!$A$3:$J$102,3,FALSE)),\"\",VLOOKUP(C60,BDDG!$A$3:$J$102,3,FALSE))","v":"A"},{"$f":"IF(ISNA(VLOOKUP(C60,BDDG!$A$3:$J$102,4,FALSE)),\"\",VLOOKUP(C60,BDDG!$A$3:$J$102,4,FALSE))","v":106},{"$f":"IF(ISNA(VLOOKUP(C60,BDDG!$A$2:$F$100,5,FALSE)),\"\",VLOOKUP(C60,BDDG!$A$2:$F$100,5,FALSE))","v":"A10"},{"$f":"IF(ISNA(VLOOKUP(C60,BDDG!$A$2:$F$100,6,FALSE)),\"\",VLOOKUP(C60,BDDG!$A$2:$F$100,6,FALSE))","v":"AA30"},{"$f":"IF(ISERROR(VLOOKUP(C60,BDDG!$A$2:$G$100,7,FALSE)),\"\",VLOOKUP(C60,BDDG!$A$2:$G$100,7,FALSE))","v":1},{"$f":"IF(ISERROR(VLOOKUP(C60,BDDG!$A$2:$H$100,8,FALSE)),\"\",VLOOKUP(C60,BDDG!$A$2:$H$100,8,FALSE))","v":"BB30"},null,null,4.84,null,null,null,null,{"$f":"IF(ISERROR(VLOOKUP(C60,BDDG!$A$2:$J$100,10,FALSE)),\"\",VLOOKUP(C60,BDDG!$A$2:$J$100,10,FALSE))","v":"DD30"},null,null,"",4.84,9,2001,{"$f":"IFERROR(INDEX($V$2:V60,MATCH(H60&MAX(IF($H$1:H59=H60,$A$1:A59)),$H$2:H60&$A$2:A60,0))-V60,\"\")","v":0.25999999999999979}]
["2001-09-28",null,859,{"$f":"IF(ISNA(VLOOKUP(C61,BDDG!$A$2:$F$100,2,FALSE)),\"\",VLOOKUP(C61,BDDG!$A$2:$F$100,2,FALSE))","v":0},{"$f":"IF(ISNA(VLOOKUP(C61,BDDG!$A$3:$J$102,3,FALSE)),\"\",VLOOKUP(C61,BDDG!$A$3:$J$102,3,FALSE))","v":"A"},{"$f":"IF(ISNA(VLOOKUP(C61,BDDG!$A$3:$J$102,4,FALSE)),\"\",VLOOKUP(C61,BDDG!$A$3:$J$102,4,FALSE))","v":106},{"$f":"IF(ISNA(VLOOKUP(C61,BDDG!$A$2:$F$100,5,FALSE)),\"\",VLOOKUP(C61,BDDG!$A$2:$F$100,5,FALSE))","v":"A10"},{"$f":"IF(ISNA(VLOOKUP(C61,BDDG!$A$2:$F$100,6,FALSE)),\"\",VLOOKUP(C61,BDDG!$A$2:$F$100,6,FALSE))","v":"AA30"},{"$f":"IF(ISERROR(VLOOKUP(C61,BDDG!$A$2:$G$100,7,FALSE)),\"\",VLOOKUP(C61,BDDG!$A$2:$G$100,7,FALSE))","v":1},{"$f":"IF(ISERROR(VLOOKUP(C61,BDDG!$A$2:$H$100,8,FALSE)),\"\",VLOOKUP(C61,BDDG!$A$2:$H$100,8,FALSE))","v":"BB30"},null,null,4.75,null,null,null,null,{"$f":"IF(ISERROR(VLOOKUP(C61,BDDG!$A$2:$J$100,10,FALSE)),\"\",VLOOKUP(C61,BDDG!$A$2:$J$100,10,FALSE))","v":"DD30"},null,null,"",4.75,9,2001,{"$f":"IFERROR(INDEX($V$2:V61,MATCH(H61&MAX(IF($H$1:H60=H61,$A$1:A60)),$H$2:H61&$A$2:A61,0))-V61,\"\")","v":8.9999999999999858E-2}]
["2001-09-29",null,859,{"$f":"IF(ISNA(VLOOKUP(C62,BDDG!$A$2:$F$100,2,FALSE)),\"\",VLOOKUP(C62,BDDG!$A$2:$F$100,2,FALSE))","v":0},{"$f":"IF(ISNA(VLOOKUP(C62,BDDG!$A$3:$J$102,3,FALSE)),\"\",VLOOKUP(C62,BDDG!$A$3:$J$102,3,FALSE))","v":"A"},{"$f":"IF(ISNA(VLOOKUP(C62,BDDG!$A$3:$J$102,4,FALSE)),\"\",VLOOKUP(C62,BDDG!$A$3:$J$102,4,FALSE))","v":106},{"$f":"IF(ISNA(VLOOKUP(C62,BDDG!$A$2:$F$100,5,FALSE)),\"\",VLOOKUP(C62,BDDG!$A$2:$F$100,5,FALSE))","v":"A10"},{"$f":"IF(ISNA(VLOOKUP(C62,BDDG!$A$2:$F$100,6,FALSE)),\"\",VLOOKUP(C62,BDDG!$A$2:$F$100,6,FALSE))","v":"AA30"},{"$f":"IF(ISERROR(VLOOKUP(C62,BDDG!$A$2:$G$100,7,FALSE)),\"\",VLOOKUP(C62,BDDG!$A$2:$G$100,7,FALSE))","v":1},{"$f":"IF(ISERROR(VLOOKUP(C62,BDDG!$A$2:$H$100,8,FALSE)),\"\",VLOOKUP(C62,BDDG!$A$2:$H$100,8,FALSE))","v":"BB30"},null,null,4.75,null,null,null,null,{"$f":"IF(ISERROR(VLOOKUP(C62,BDDG!$A$2:$J$100,10,FALSE)),\"\",VLOOKUP(C62,BDDG!$A$2:$J$100,10,FALSE))","v":"DD30"},null,null,"",4.75,9,2001,{"$f":"IFERROR(INDEX($V$2:V62,MATCH(H62&MAX(IF($H$1:H61=H62,$A$1:A61)),$H$2:H62&$A$2:A62,0))-V62,\"\")","v":0}]
["2001-09-30",null,859,{"$f":"IF(ISNA(VLOOKUP(C63,BDDG!$A$2:$F$100,2,FALSE)),\"\",VLOOKUP(C63,BDDG!$A$2:$F$100,2,FALSE))","v":0},{"$f":"IF(ISNA(VLOOKUP(C63,BDDG!$A$3:$J$102,3,FALSE)),\"\",VLOOKUP(C63,BDDG!$A$3:$J$102,3,FALSE))","v":"A"},{"$f":"IF(ISNA(VLOOKUP(C63,BDDG!$A$3:$J$102,4,FALSE)),\"\",VLOOKUP(C63,BDDG!$A$3:$J$102,4,FALSE))","v":106},{"$f":"IF(ISNA(VLOOKUP(C63,BDDG!$A$2:$F$100,5,FALSE)),\"\",VLOOKUP(C63,BDDG!$A$2:$F$100,5,FALSE))","v":"A10"},{"$f":"IF(ISNA(VLOOKUP(C63,BDDG!$A$2:$F$100,6,FALSE)),\"\",VLOOKUP(C63,BDDG!$A$2:$F$100,6,FALSE))","v":"AA30"},{"$f":"IF(ISERROR(VLOOKUP(C63,BDDG!$A$2:$G$100,7,FALSE)),\"\",VLOOKUP(C63,BDDG!$A$2:$G$100,7,FALSE))","v":1},{"$f":"IF(ISERROR(VLOOKUP(C63,BDDG!$A$2:$H$100,8,FALSE)),\"\",VLOOKUP(C63,BDDG!$A$2:$H$100,8,FALSE))","v":"BB30"},null,null,4.75,null,null,null,null,{"$f":"IF(ISERROR(VLOOKUP(C63,BDDG!$A$2:$J$100,10,FALSE)),\"\",VLOOKUP(C63,BDDG!$A$2:$J$100,10,FALSE))","v":"DD30"},null,null,"",4.75,9,2001,{"$f":"IFERROR(INDEX($V$2:V63,MATCH(H63&MAX(IF($H$1:H62=H63,$A$1:A62)),$H$2:H63&$A$2:A63,0))-V63,\"\")","v":0}]
["2001-10-01",null,859,{"$f":"IF(ISNA(VLOOKUP(C64,BDDG!$A$2:$F$100,2,FALSE)),\"\",VLOOKUP(C64,BDDG!$A$2:$F$100,2,FALSE))","v":0},{"$f":"IF(ISNA(VLOOKUP(C64,BDDG!$A$3:$J$102,3,FALSE)),\"\",VLOOKUP(C64,BDDG!$A$3:$J$102,3,FALSE))","v":"A"},{"$f":"IF(ISNA(VLOOKUP(C64,BDDG!$A$3:$J$102,4,FALSE)),\"\",VLOOKUP(C64,BDDG!$A$3:$J$102,4,FALSE))","v":106},{"$f":"IF(ISNA(VLOOKUP(C64,BDDG!$A$2:$F$100,5,FALSE)),\"\",VLOOKUP(C64,BDDG!$A$2:$F$100,5,FALSE))","v":"A10"},{"$f":"IF(ISNA(VLOOKUP(C64,BDDG!$A$2:$F$100,6,FALSE)),\"\",VLOOKUP(C64,BDDG!$A$2:$F$100,6,FALSE))","v":"AA30"},{"$f":"IF(ISERROR(VLOOKUP(C64,BDDG!$A$2:$G$100,7,FALSE)),\"\",VLOOKUP(C64,BDDG!$A$2:$G$100,7,FALSE))","v":1},{"$f":"IF(ISERROR(VLOOKUP(C64,BDDG!$A$2:$H$100,8,FALSE)),\"\",VLOOKUP(C64,BDDG!$A$2:$H$100,8,FALSE))","v":"BB30"},null,null,4.84,null,null,null,null,{"$f":"IF(ISERROR(VLOOKUP(C64,BDDG!$A$2:$J$100,10,FALSE)),\"\",VLOOKUP(C64,BDDG!$A$2:$J$100,10,FALSE))","v":"DD30"},null,null,"",4.84,10,2001,{"$f":"IFERROR(INDEX($V$2:V64,MATCH(H64&MAX(IF($H$1:H63=H64,$A$1:A63)),$H$2:H64&$A$2:A64,0))-V64,\"\")","v":-8.9999999999999858E-2}]
["2001-10-02",null,859,{"$f":"IF(ISNA(VLOOKUP(C65,BDDG!$A$2:$F$100,2,FALSE)),\"\",VLOOKUP(C65,BDDG!$A$2:$F$100,2,FALSE))","v":0},{"$f":"IF(ISNA(VLOOKUP(C65,BDDG!$A$3:$J$102,3,FALSE)),\"\",VLOOKUP(C65,BDDG!$A$3:$J$102,3,FALSE))","v":"A"},{"$f":"IF(ISNA(VLOOKUP(C65,BDDG!$A$3:$J$102,4,FALSE)),\"\",VLOOKUP(C65,BDDG!$A$3:$J$102,4,FALSE))","v":106},{"$f":"IF(ISNA(VLOOKUP(C65,BDDG!$A$2:$F$100,5,FALSE)),\"\",VLOOKUP(C65,BDDG!$A$2:$F$100,5,FALSE))","v":"A10"},{"$f":"IF(ISNA(VLOOKUP(C65,BDDG!$A$2:$F$100,6,FALSE)),\"\",VLOOKUP(C65,BDDG!$A$2:$F$100,6,FALSE))","v":"AA30"},{"$f":"IF(ISERROR(VLOOKUP(C65,BDDG!$A$2:$G$100,7,FALSE)),\"\",VLOOKUP(C65,BDDG!$A$2:$G$100,7,FALSE))","v":1},{"$f":"IF(ISERROR(VLOOKUP(C65,BDDG!$A$2:$H$100,8,FALSE)),\"\",VLOOKUP(C65,BDDG!$A$2:$H$100,8,FALSE))","v":"BB30"},null,null,4.75,null,null,null,null,{"$f":"IF(ISERROR(VLOOKUP(C65,BDDG!$A$2:$J$100,10,FALSE)),\"\",VLOOKUP(C65,BDDG!$A$2:$J$100,10,FALSE))","v":"DD30"},null,null,"",4.75,10,2001,{"$f":"IFERROR(INDEX($V$2:V65,MATCH(H65&MAX(IF($H$1:H64=H65,$A$1:A64)),$H$2:H65&$A$2:A65,0))-V65,\"\")","v":8.9999999999999858E-2}]
["2001-10-02",null,815,{"$f":"IF(ISNA(VLOOKUP(C66,BDDG!$A$2:$F$100,2,FALSE)),\"\",VLOOKUP(C66,BDDG!$A$2:$F$100,2,FALSE))","v":0},{"$f":"IF(ISNA(VLOOKUP(C66,BDDG!$A$3:$J$102,3,FALSE)),\"\",VLOOKUP(C66,BDDG!$A$3:$J$102,3,FALSE))","v":"A"},{"$f":"IF(ISNA(VLOOKUP(C66,BDDG!$A$3:$J$102,4,FALSE)),\"\",VLOOKUP(C66,BDDG!$A$3:$J$102,4,FALSE))","v":106},{"$f":"IF(ISNA(VLOOKUP(C66,BDDG!$A$2:$F$100,5,FALSE)),\"\",VLOOKUP(C66,BDDG!$A$2:$F$100,5,FALSE))","v":"A10"},{"$f":"IF(ISNA(VLOOKUP(C66,BDDG!$A$2:$F$100,6,FALSE)),\"\",VLOOKUP(C66,BDDG!$A$2:$F$100,6,FALSE))","v":"AA31"},{"$f":"IF(ISERROR(VLOOKUP(C66,BDDG!$A$2:$G$100,7,FALSE)),\"\",VLOOKUP(C66,BDDG!$A$2:$G$100,7,FALSE))","v":1},{"$f":"IF(ISERROR(VLOOKUP(C66,BDDG!$A$2:$H$100,8,FALSE)),\"\",VLOOKUP(C66,BDDG!$A$2:$H$100,8,FALSE))","v":"BB31"},null,null,10.78,{"$f":"IF(ISERROR(VLOOKUP(C66,BDDG!$A$2:$I$100,9,FALSE)),\"\",VLOOKUP(C66,BDDG!$A$2:$I$100,9,FALSE))","v":"CC31"},null,null,{"$f":" IF(ISERROR(O66/P66*86.4),\"\",O66/P66*86.4)","v":""},{"$f":"IF(ISERROR(VLOOKUP(C66,BDDG!$A$2:$J$100,10,FALSE)),\"\",VLOOKUP(C66,BDDG!$A$2:$J$100,10,FALSE))","v":"DD31"},null,null,"",10.78,{"$f":"MONTH(A:A)","v":10},{"$f":"YEAR(A:A)","v":2001},{"$f":"IFERROR(INDEX($V$2:V66,MATCH(H66&MAX(IF($H$1:H65=H66,$A$1:A65)),$H$2:H66&$A$2:A66,0))-V66,\"\")","v":0.41999999999999993}]
["2001-10-03",null,859,{"$f":"IF(ISNA(VLOOKUP(C67,BDDG!$A$2:$F$100,2,FALSE)),\"\",VLOOKUP(C67,BDDG!$A$2:$F$100,2,FALSE))","v":0},{"$f":"IF(ISNA(VLOOKUP(C67,BDDG!$A$3:$J$102,3,FALSE)),\"\",VLOOKUP(C67,BDDG!$A$3:$J$102,3,FALSE))","v":"A"},{"$f":"IF(ISNA(VLOOKUP(C67,BDDG!$A$3:$J$102,4,FALSE)),\"\",VLOOKUP(C67,BDDG!$A$3:$J$102,4,FALSE))","v":106},{"$f":"IF(ISNA(VLOOKUP(C67,BDDG!$A$2:$F$100,5,FALSE)),\"\",VLOOKUP(C67,BDDG!$A$2:$F$100,5,FALSE))","v":"A10"},{"$f":"IF(ISNA(VLOOKUP(C67,BDDG!$A$2:$F$100,6,FALSE)),\"\",VLOOKUP(C67,BDDG!$A$2:$F$100,6,FALSE))","v":"AA30"},{"$f":"IF(ISERROR(VLOOKUP(C67,BDDG!$A$2:$G$100,7,FALSE)),\"\",VLOOKUP(C67,BDDG!$A$2:$G$100,7,FALSE))","v":1},{"$f":"IF(ISERROR(VLOOKUP(C67,BDDG!$A$2:$H$100,8,FALSE)),\"\",VLOOKUP(C67,BDDG!$A$2:$H$100,8,FALSE))","v":"BB30"},null,null,4.71,null,null,null,null,{"$f":"IF(ISERROR(VLOOKUP(C67,BDDG!$A$2:$J$100,10,FALSE)),\"\",VLOOKUP(C67,BDDG!$A$2:$J$100,10,FALSE))","v":"DD30"},null,null,"",4.71,10,2001,{"$f":"IFERROR(INDEX($V$2:V67,MATCH(H67&MAX(IF($H$1:H66=H67,$A$1:A66)),$H$2:H67&$A$2:A67,0))-V67,\"\")","v":4.0000000000000036E-2}]
["2001-10-04",null,859,{"$f":"IF(ISNA(VLOOKUP(C68,BDDG!$A$2:$F$100,2,FALSE)),\"\",VLOOKUP(C68,BDDG!$A$2:$F$100,2,FALSE))","v":0},{"$f":"IF(ISNA(VLOOKUP(C68,BDDG!$A$3:$J$102,3,FALSE)),\"\",VLOOKUP(C68,BDDG!$A$3:$J$102,3,FALSE))","v":"A"},{"$f":"IF(ISNA(VLOOKUP(C68,BDDG!$A$3:$J$102,4,FALSE)),\"\",VLOOKUP(C68,BDDG!$A$3:$J$102,4,FALSE))","v":106},{"$f":"IF(ISNA(VLOOKUP(C68,BDDG!$A$2:$F$100,5,FALSE)),\"\",VLOOKUP(C68,BDDG!$A$2:$F$100,5,FALSE))","v":"A10"},{"$f":"IF(ISNA(VLOOKUP(C68,BDDG!$A$2:$F$100,6,FALSE)),\"\",VLOOKUP(C68,BDDG!$A$2:$F$100,6,FALSE))","v":"AA30"},{"$f":"IF(ISERROR(VLOOKUP(C68,BDDG!$A$2:$G$100,7,FALSE)),\"\",VLOOKUP(C68,BDDG!$A$2:$G$100,7,FALSE))","v":1},{"$f":"IF(ISERROR(VLOOKUP(C68,BDDG!$A$2:$H$100,8,FALSE)),\"\",VLOOKUP(C68,BDDG!$A$2:$H$100,8,FALSE))","v":"BB30"},null,null,4.8,null,null,null,null,{"$f":"IF(ISERROR(VLOOKUP(C68,BDDG!$A$2:$J$100,10,FALSE)),\"\",VLOOKUP(C68,BDDG!$A$2:$J$100,10,FALSE))","v":"DD30"},null,null,"",4.8,10,2001,{"$f":"IFERROR(INDEX($V$2:V68,MATCH(H68&MAX(IF($H$1:H67=H68,$A$1:A67)),$H$2:H68&$A$2:A68,0))-V68,\"\")","v":-8.9999999999999858E-2}]
["2001-10-05",null,859,{"$f":"IF(ISNA(VLOOKUP(C69,BDDG!$A$2:$F$100,2,FALSE)),\"\",VLOOKUP(C69,BDDG!$A$2:$F$100,2,FALSE))","v":0},{"$f":"IF(ISNA(VLOOKUP(C69,BDDG!$A$3:$J$102,3,FALSE)),\"\",VLOOKUP(C69,BDDG!$A$3:$J$102,3,FALSE))","v":"A"},{"$f":"IF(ISNA(VLOOKUP(C69,BDDG!$A$3:$J$102,4,FALSE)),\"\",VLOOKUP(C69,BDDG!$A$3:$J$102,4,FALSE))","v":106},{"$f":"IF(ISNA(VLOOKUP(C69,BDDG!$A$2:$F$100,5,FALSE)),\"\",VLOOKUP(C69,BDDG!$A$2:$F$100,5,FALSE))","v":"A10"},{"$f":"IF(ISNA(VLOOKUP(C69,BDDG!$A$2:$F$100,6,FALSE)),\"\",VLOOKUP(C69,BDDG!$A$2:$F$100,6,FALSE))","v":"AA30"},{"$f":"IF(ISERROR(VLOOKUP(C69,BDDG!$A$2:$G$100,7,FALSE)),\"\",VLOOKUP(C69,BDDG!$A$2:$G$100,7,FALSE))","v":1},{"$f":"IF(ISERROR(VLOOKUP(C69,BDDG!$A$2:$H$100,8,FALSE)),\"\",VLOOKUP(C69,BDDG!$A$2:$H$100,8,FALSE))","v":"BB30"},null,null,4.8899999999999997,null,null,null,null,{"$f":"IF(ISERROR(VLOOKUP(C69,BDDG!$A$2:$J$100,10,FALSE)),\"\",VLOOKUP(C69,BDDG!$A$2:$J$100,10,FALSE))","v":"DD30"},null,null,"",4.8899999999999997,10,2001,{"$f":"IFERROR(INDEX($V$2:V69,MATCH(H69&MAX(IF($H$1:H68=H69,$A$1:A68)),$H$2:H69&$A$2:A69,0))-V69,\"\")","v":-8.9999999999999858E-2}]
["2001-10-06",null,859,{"$f":"IF(ISNA(VLOOKUP(C70,BDDG!$A$2:$F$100,2,FALSE)),\"\",VLOOKUP(C70,BDDG!$A$2:$F$100,2,FALSE))","v":0},{"$f":"IF(ISNA(VLOOKUP(C70,BDDG!$A$3:$J$102,3,FALSE)),\"\",VLOOKUP(C70,BDDG!$A$3:$J$102,3,FALSE))","v":"A"},{"$f":"IF(ISNA(VLOOKUP(C70,BDDG!$A$3:$J$102,4,FALSE)),\"\",VLOOKUP(C70,BDDG!$A$3:$J$102,4,FALSE))","v":106},{"$f":"IF(ISNA(VLOOKUP(C70,BDDG!$A$2:$F$100,5,FALSE)),\"\",VLOOKUP(C70,BDDG!$A$2:$F$100,5,FALSE))","v":"A10"},{"$f":"IF(ISNA(VLOOKUP(C70,BDDG!$A$2:$F$100,6,FALSE)),\"\",VLOOKUP(C70,BDDG!$A$2:$F$100,6,FALSE))","v":"AA30"},{"$f":"IF(ISERROR(VLOOKUP(C70,BDDG!$A$2:$G$100,7,FALSE)),\"\",VLOOKUP(C70,BDDG!$A$2:$G$100,7,FALSE))","v":1},{"$f":"IF(ISERROR(VLOOKUP(C70,BDDG!$A$2:$H$100,8,FALSE)),\"\",VLOOKUP(C70,BDDG!$A$2:$H$100,8,FALSE))","v":"BB30"},null,null,4.9800000000000004,null,null,null,null,{"$f":"IF(ISERROR(VLOOKUP(C70,BDDG!$A$2:$J$100,10,FALSE)),\"\",VLOOKUP(C70,BDDG!$A$2:$J$100,10,FALSE))","v":"DD30"},null,null,"",4.9800000000000004,10,2001,{"$f":"IFERROR(INDEX($V$2:V70,MATCH(H70&MAX(IF($H$1:H69=H70,$A$1:A69)),$H$2:H70&$A$2:A70,0))-V70,\"\")","v":-9.0000000000000746E-2}]
["2001-10-07",null,859,{"$f":"IF(ISNA(VLOOKUP(C71,BDDG!$A$2:$F$100,2,FALSE)),\"\",VLOOKUP(C71,BDDG!$A$2:$F$100,2,FALSE))","v":0},{"$f":"IF(ISNA(VLOOKUP(C71,BDDG!$A$3:$J$102,3,FALSE)),\"\",VLOOKUP(C71,BDDG!$A$3:$J$102,3,FALSE))","v":"A"},{"$f":"IF(ISNA(VLOOKUP(C71,BDDG!$A$3:$J$102,4,FALSE)),\"\",VLOOKUP(C71,BDDG!$A$3:$J$102,4,FALSE))","v":106},{"$f":"IF(ISNA(VLOOKUP(C71,BDDG!$A$2:$F$100,5,FALSE)),\"\",VLOOKUP(C71,BDDG!$A$2:$F$100,5,FALSE))","v":"A10"},{"$f":"IF(ISNA(VLOOKUP(C71,BDDG!$A$2:$F$100,6,FALSE)),\"\",VLOOKUP(C71,BDDG!$A$2:$F$100,6,FALSE))","v":"AA30"},{"$f":"IF(ISERROR(VLOOKUP(C71,BDDG!$A$2:$G$100,7,FALSE)),\"\",VLOOKUP(C71,BDDG!$A$2:$G$100,7,FALSE))","v":1},{"$f":"IF(ISERROR(VLOOKUP(C71,BDDG!$A$2:$H$100,8,FALSE)),\"\",VLOOKUP(C71,BDDG!$A$2:$H$100,8,FALSE))","v":"BB30"},null,null,4.9800000000000004,null,null,null,null,{"$f":"IF(ISERROR(VLOOKUP(C71,BDDG!$A$2:$J$100,10,FALSE)),\"\",VLOOKUP(C71,BDDG!$A$2:$J$100,10,FALSE))","v":"DD30"},null,null,"",4.9800000000000004,10,2001,{"$f":"IFERROR(INDEX($V$2:V71,MATCH(H71&MAX(IF($H$1:H70=H71,$A$1:A70)),$H$2:H71&$A$2:A71,0))-V71,\"\")","v":0}]
["2001-10-08",null,859,{"$f":"IF(ISNA(VLOOKUP(C72,BDDG!$A$2:$F$100,2,FALSE)),\"\",VLOOKUP(C72,BDDG!$A$2:$F$100,2,FALSE))","v":0},{"$f":"IF(ISNA(VLOOKUP(C72,BDDG!$A$3:$J$102,3,FALSE)),\"\",VLOOKUP(C72,BDDG!$A$3:$J$102,3,FALSE))","v":"A"},{"$f":"IF(ISNA(VLOOKUP(C72,BDDG!$A$3:$J$102,4,FALSE)),\"\",VLOOKUP(C72,BDDG!$A$3:$J$102,4,FALSE))","v":106},{"$f":"IF(ISNA(VLOOKUP(C72,BDDG!$A$2:$F$100,5,FALSE)),\"\",VLOOKUP(C72,BDDG!$A$2:$F$100,5,FALSE))","v":"A10"},{"$f":"IF(ISNA(VLOOKUP(C72,BDDG!$A$2:$F$100,6,FALSE)),\"\",VLOOKUP(C72,BDDG!$A$2:$F$100,6,FALSE))","v":"AA30"},{"$f":"IF(ISERROR(VLOOKUP(C72,BDDG!$A$2:$G$100,7,FALSE)),\"\",VLOOKUP(C72,BDDG!$A$2:$G$100,7,FALSE))","v":1},{"$f":"IF(ISERROR(VLOOKUP(C72,BDDG!$A$2:$H$100,8,FALSE)),\"\",VLOOKUP(C72,BDDG!$A$2:$H$100,8,FALSE))","v":"BB30"},null,null,4.9800000000000004,null,null,null,null,{"$f":"IF(ISERROR(VLOOKUP(C72,BDDG!$A$2:$J$100,10,FALSE)),\"\",VLOOKUP(C72,BDDG!$A$2:$J$100,10,FALSE))","v":"DD30"},null,null,"",4.9800000000000004,10,2001,{"$f":"IFERROR(INDEX($V$2:V72,MATCH(H72&MAX(IF($H$1:H71=H72,$A$1:A71)),$H$2:H72&$A$2:A72,0))-V72,\"\")","v":0}]
["2001-10-09",null,859,{"$f":"IF(ISNA(VLOOKUP(C73,BDDG!$A$2:$F$100,2,FALSE)),\"\",VLOOKUP(C73,BDDG!$A$2:$F$100,2,FALSE))","v":0},{"$f":"IF(ISNA(VLOOKUP(C73,BDDG!$A$3:$J$102,3,FALSE)),\"\",VLOOKUP(C73,BDDG!$A$3:$J$102,3,FALSE))","v":"A"},{"$f":"IF(ISNA(VLOOKUP(C73,BDDG!$A$3:$J$102,4,FALSE)),\"\",VLOOKUP(C73,BDDG!$A$3:$J$102,4,FALSE))","v":106},{"$f":"IF(ISNA(VLOOKUP(C73,BDDG!$A$2:$F$100,5,FALSE)),\"\",VLOOKUP(C73,BDDG!$A$2:$F$100,5,FALSE))","v":"A10"},{"$f":"IF(ISNA(VLOOKUP(C73,BDDG!$A$2:$F$100,6,FALSE)),\"\",VLOOKUP(C73,BDDG!$A$2:$F$100,6,FALSE))","v":"AA30"},{"$f":"IF(ISERROR(VLOOKUP(C73,BDDG!$A$2:$G$100,7,FALSE)),\"\",VLOOKUP(C73,BDDG!$A$2:$G$100,7,FALSE))","v":1},{"$f":"IF(ISERROR(VLOOKUP(C73,BDDG!$A$2:$H$100,8,FALSE)),\"\",VLOOKUP(C73,BDDG!$A$2:$H$100,8,FALSE))","v":"BB30"},null,null,4.9800000000000004,null,null,null,null,{"$f":"IF(ISERROR(VLOOKUP(C73,BDDG!$A$2:$J$100,10,FALSE)),\"\",VLOOKUP(C73,BDDG!$A$2:$J$100,10,FALSE))","v":"DD30"},null,null,"",4.9800000000000004,10,2001,{"$f":"IFERROR(INDEX($V$2:V73,MATCH(H73&MAX(IF($H$1:H72=H73,$A$1:A72)),$H$2:H73&$A$2:A73,0))-V73,\"\")","v":0}]
["2001-10-09",null,815,{"$f":"IF(ISNA(VLOOKUP(C74,BDDG!$A$2:$F$100,2,FALSE)),\"\",VLOOKUP(C74,BDDG!$A$2:$F$100,2,FALSE))","v":0},{"$f":"IF(ISNA(VLOOKUP(C74,BDDG!$A$3:$J$102,3,FALSE)),\"\",VLOOKUP(C74,BDDG!$A$3:$J$102,3,FALSE))","v":"A"},{"$f":"IF(ISNA(VLOOKUP(C74,BDDG!$A$3:$J$102,4,FALSE)),\"\",VLOOKUP(C74,BDDG!$A$3:$J$102,4,FALSE))","v":106},{"$f":"IF(ISNA(VLOOKUP(C74,BDDG!$A$2:$F$100,5,FALSE)),\"\",VLOOKUP(C74,BDDG!$A$2:$F$100,5,FALSE))","v":"A10"},{"$f":"IF(ISNA(VLOOKUP(C74,BDDG!$A$2:$F$100,6,FALSE)),\"\",VLOOKUP(C74,BDDG!$A$2:$F$100,6,FALSE))","v":"AA31"},{"$f":"IF(ISERROR(VLOOKUP(C74,BDDG!$A$2:$G$100,7,FALSE)),\"\",VLOOKUP(C74,BDDG!$A$2:$G$100,7,FALSE))","v":1},{"$f":"IF(ISERROR(VLOOKUP(C74,BDDG!$A$2:$H$100,8,FALSE)),\"\",VLOOKUP(C74,BDDG!$A$2:$H$100,8,FALSE))","v":"BB31"},null,null,10.74,{"$f":"IF(ISERROR(VLOOKUP(C74,BDDG!$A$2:$I$100,9,FALSE)),\"\",VLOOKUP(C74,BDDG!$A$2:$I$100,9,FALSE))","v":"CC31"},null,null,{"$f":" IF(ISERROR(O74/P74*86.4),\"\",O74/P74*86.4)","v":""},{"$f":"IF(ISERROR(VLOOKUP(C74,BDDG!$A$2:$J$100,10,FALSE)),\"\",VLOOKUP(C74,BDDG!$A$2:$J$100,10,FALSE))","v":"DD31"},null,null,"",10.74,10,2001,{"$f":"IFERROR(INDEX($V$2:V74,MATCH(H74&MAX(IF($H$1:H73=H74,$A$1:A73)),$H$2:H74&$A$2:A74,0))-V74,\"\")","v":3.9999999999999147E-2}]
["2001-10-10",null,859,{"$f":"IF(ISNA(VLOOKUP(C75,BDDG!$A$2:$F$100,2,FALSE)),\"\",VLOOKUP(C75,BDDG!$A$2:$F$100,2,FALSE))","v":0},{"$f":"IF(ISNA(VLOOKUP(C75,BDDG!$A$3:$J$102,3,FALSE)),\"\",VLOOKUP(C75,BDDG!$A$3:$J$102,3,FALSE))","v":"A"},{"$f":"IF(ISNA(VLOOKUP(C75,BDDG!$A$3:$J$102,4,FALSE)),\"\",VLOOKUP(C75,BDDG!$A$3:$J$102,4,FALSE))","v":106},{"$f":"IF(ISNA(VLOOKUP(C75,BDDG!$A$2:$F$100,5,FALSE)),\"\",VLOOKUP(C75,BDDG!$A$2:$F$100,5,FALSE))","v":"A10"},{"$f":"IF(ISNA(VLOOKUP(C75,BDDG!$A$2:$F$100,6,FALSE)),\"\",VLOOKUP(C75,BDDG!$A$2:$F$100,6,FALSE))","v":"AA30"},{"$f":"IF(ISERROR(VLOOKUP(C75,BDDG!$A$2:$G$100,7,FALSE)),\"\",VLOOKUP(C75,BDDG!$A$2:$G$100,7,FALSE))","v":1},{"$f":"IF(ISERROR(VLOOKUP(C75,BDDG!$A$2:$H$100,8,FALSE)),\"\",VLOOKUP(C75,BDDG!$A$2:$H$100,8,FALSE))","v":"BB30"},null,null,5.08,null,null,null,null,{"$f":"IF(ISERROR(VLOOKUP(C75,BDDG!$A$2:$J$100,10,FALSE)),\"\",VLOOKUP(C75,BDDG!$A$2:$J$100,10,FALSE))","v":"DD30"},null,null,"",5.08,10,2001,{"$f":"IFERROR(INDEX($V$2:V75,MATCH(H75&MAX(IF($H$1:H74=H75,$A$1:A74)),$H$2:H75&$A$2:A75,0))-V75,\"\")","v":-9.9999999999999645E-2}]
["2001-10-11",null,859,{"$f":"IF(ISNA(VLOOKUP(C76,BDDG!$A$2:$F$100,2,FALSE)),\"\",VLOOKUP(C76,BDDG!$A$2:$F$100,2,FALSE))","v":0},{"$f":"IF(ISNA(VLOOKUP(C76,BDDG!$A$3:$J$102,3,FALSE)),\"\",VLOOKUP(C76,BDDG!$A$3:$J$102,3,FALSE))","v":"A"},{"$f":"IF(ISNA(VLOOKUP(C76,BDDG!$A$3:$J$102,4,FALSE)),\"\",VLOOKUP(C76,BDDG!$A$3:$J$102,4,FALSE))","v":106},{"$f":"IF(ISNA(VLOOKUP(C76,BDDG!$A$2:$F$100,5,FALSE)),\"\",VLOOKUP(C76,BDDG!$A$2:$F$100,5,FALSE))","v":"A10"},{"$f":"IF(ISNA(VLOOKUP(C76,BDDG!$A$2:$F$100,6,FALSE)),\"\",VLOOKUP(C76,BDDG!$A$2:$F$100,6,FALSE))","v":"AA30"},{"$f":"IF(ISERROR(VLOOKUP(C76,BDDG!$A$2:$G$100,7,FALSE)),\"\",VLOOKUP(C76,BDDG!$A$2:$G$100,7,FALSE))","v":1},{"$f":"IF(ISERROR(VLOOKUP(C76,BDDG!$A$2:$H$100,8,FALSE)),\"\",VLOOKUP(C76,BDDG!$A$2:$H$100,8,FALSE))","v":"BB30"},null,null,5.08,null,null,null,null,{"$f":"IF(ISERROR(VLOOKUP(C76,BDDG!$A$2:$J$100,10,FALSE)),\"\",VLOOKUP(C76,BDDG!$A$2:$J$100,10,FALSE))","v":"DD30"},null,null,"",5.08,10,2001,{"$f":"IFERROR(INDEX($V$2:V76,MATCH(H76&MAX(IF($H$1:H75=H76,$A$1:A75)),$H$2:H76&$A$2:A76,0))-V76,\"\")","v":0}]
["2001-10-12",null,832,{"$f":"IF(ISNA(VLOOKUP(C77,BDDG!$A$2:$F$100,2,FALSE)),\"\",VLOOKUP(C77,BDDG!$A$2:$F$100,2,FALSE))","v":0},{"$f":"IF(ISNA(VLOOKUP(C77,BDDG!$A$3:$J$102,3,FALSE)),\"\",VLOOKUP(C77,BDDG!$A$3:$J$102,3,FALSE))","v":"A"},{"$f":"IF(ISNA(VLOOKUP(C77,BDDG!$A$3:$J$102,4,FALSE)),\"\",VLOOKUP(C77,BDDG!$A$3:$J$102,4,FALSE))","v":106},{"$f":"IF(ISNA(VLOOKUP(C77,BDDG!$A$2:$F$100,5,FALSE)),\"\",VLOOKUP(C77,BDDG!$A$2:$F$100,5,FALSE))","v":"A2"},{"$f":"IF(ISNA(VLOOKUP(C77,BDDG!$A$2:$F$100,6,FALSE)),\"\",VLOOKUP(C77,BDDG!$A$2:$F$100,6,FALSE))","v":"AA2"},{"$f":"IF(ISERROR(VLOOKUP(C77,BDDG!$A$2:$G$100,7,FALSE)),\"\",VLOOKUP(C77,BDDG!$A$2:$G$100,7,FALSE))","v":1},{"$f":"IF(ISERROR(VLOOKUP(C77,BDDG!$A$2:$H$100,8,FALSE)),\"\",VLOOKUP(C77,BDDG!$A$2:$H$100,8,FALSE))","v":"BB2"},32,60,{"$f":" IF(ISERROR(K77/L77*86.4),\"\",K77/L77*86.4)","v":46.080000000000005},{"$f":"IF(ISERROR(VLOOKUP(C77,BDDG!$A$2:$I$100,9,FALSE)),\"\",VLOOKUP(C77,BDDG!$A$2:$I$100,9,FALSE))","v":"CC2"},null,null,{"$f":" IF(ISERROR(O77/P77*86.4),\"\",O77/P77*86.4)","v":""},{"$f":"IF(ISERROR(VLOOKUP(C77,BDDG!$A$2:$J$100,10,FALSE)),\"\",VLOOKUP(C77,BDDG!$A$2:$J$100,10,FALSE))","v":"DD2"},null,null,"",46.080000000000005,10,2001,{"$f":"IFERROR(INDEX($V$2:V77,MATCH(H77&MAX(IF($H$1:H76=H77,$A$1:A76)),$H$2:H77&$A$2:A77,0))-V77,\"\")","v":-20.160000000000004}]
["2001-10-12",null,833,{"$f":"IF(ISNA(VLOOKUP(C78,BDDG!$A$2:$F$100,2,FALSE)),\"\",VLOOKUP(C78,BDDG!$A$2:$F$100,2,FALSE))","v":0},{"$f":"IF(ISNA(VLOOKUP(C78,BDDG!$A$3:$J$102,3,FALSE)),\"\",VLOOKUP(C78,BDDG!$A$3:$J$102,3,FALSE))","v":"A"},{"$f":"IF(ISNA(VLOOKUP(C78,BDDG!$A$3:$J$102,4,FALSE)),\"\",VLOOKUP(C78,BDDG!$A$3:$J$102,4,FALSE))","v":106},{"$f":"IF(ISNA(VLOOKUP(C78,BDDG!$A$2:$F$100,5,FALSE)),\"\",VLOOKUP(C78,BDDG!$A$2:$F$100,5,FALSE))","v":"A2"},{"$f":"IF(ISNA(VLOOKUP(C78,BDDG!$A$2:$F$100,6,FALSE)),\"\",VLOOKUP(C78,BDDG!$A$2:$F$100,6,FALSE))","v":"AA3"},{"$f":"IF(ISERROR(VLOOKUP(C78,BDDG!$A$2:$G$100,7,FALSE)),\"\",VLOOKUP(C78,BDDG!$A$2:$G$100,7,FALSE))","v":1},{"$f":"IF(ISERROR(VLOOKUP(C78,BDDG!$A$2:$H$100,8,FALSE)),\"\",VLOOKUP(C78,BDDG!$A$2:$H$100,8,FALSE))","v":"BB3"},22,60,{"$f":" IF(ISERROR(K78/L78*86.4),\"\",K78/L78*86.4)","v":31.68},{"$f":"IF(ISERROR(VLOOKUP(C78,BDDG!$A$2:$I$100,9,FALSE)),\"\",VLOOKUP(C78,BDDG!$A$2:$I$100,9,FALSE))","v":"CC3"},null,null,{"$f":" IF(ISERROR(O78/P78*86.4),\"\",O78/P78*86.4)","v":""},{"$f":"IF(ISERROR(VLOOKUP(C78,BDDG!$A$2:$J$100,10,FALSE)),\"\",VLOOKUP(C78,BDDG!$A$2:$J$100,10,FALSE))","v":"DD3"},null,null,"",31.68,10,2001,{"$f":"IFERROR(INDEX($V$2:V78,MATCH(H78&MAX(IF($H$1:H77=H78,$A$1:A77)),$H$2:H78&$A$2:A78,0))-V78,\"\")","v":17.28}]
["2001-10-12",null,859,{"$f":"IF(ISNA(VLOOKUP(C79,BDDG!$A$2:$F$100,2,FALSE)),\"\",VLOOKUP(C79,BDDG!$A$2:$F$100,2,FALSE))","v":0},{"$f":"IF(ISNA(VLOOKUP(C79,BDDG!$A$3:$J$102,3,FALSE)),\"\",VLOOKUP(C79,BDDG!$A$3:$J$102,3,FALSE))","v":"A"},{"$f":"IF(ISNA(VLOOKUP(C79,BDDG!$A$3:$J$102,4,FALSE)),\"\",VLOOKUP(C79,BDDG!$A$3:$J$102,4,FALSE))","v":106},{"$f":"IF(ISNA(VLOOKUP(C79,BDDG!$A$2:$F$100,5,FALSE)),\"\",VLOOKUP(C79,BDDG!$A$2:$F$100,5,FALSE))","v":"A10"},{"$f":"IF(ISNA(VLOOKUP(C79,BDDG!$A$2:$F$100,6,FALSE)),\"\",VLOOKUP(C79,BDDG!$A$2:$F$100,6,FALSE))","v":"AA30"},{"$f":"IF(ISERROR(VLOOKUP(C79,BDDG!$A$2:$G$100,7,FALSE)),\"\",VLOOKUP(C79,BDDG!$A$2:$G$100,7,FALSE))","v":1},{"$f":"IF(ISERROR(VLOOKUP(C79,BDDG!$A$2:$H$100,8,FALSE)),\"\",VLOOKUP(C79,BDDG!$A$2:$H$100,8,FALSE))","v":"BB30"},null,null,5.29,null,null,null,null,{"$f":"IF(ISERROR(VLOOKUP(C79,BDDG!$A$2:$J$100,10,FALSE)),\"\",VLOOKUP(C79,BDDG!$A$2:$J$100,10,FALSE))","v":"DD30"},null,null,"",5.29,10,2001,{"$f":"IFERROR(INDEX($V$2:V79,MATCH(H79&MAX(IF($H$1:H78=H79,$A$1:A78)),$H$2:H79&$A$2:A79,0))-V79,\"\")","v":-0.20999999999999996}]
["2001-10-15",null,859,{"$f":"IF(ISNA(VLOOKUP(C80,BDDG!$A$2:$F$100,2,FALSE)),\"\",VLOOKUP(C80,BDDG!$A$2:$F$100,2,FALSE))","v":0},{"$f":"IF(ISNA(VLOOKUP(C80,BDDG!$A$3:$J$102,3,FALSE)),\"\",VLOOKUP(C80,BDDG!$A$3:$J$102,3,FALSE))","v":"A"},{"$f":"IF(ISNA(VLOOKUP(C80,BDDG!$A$3:$J$102,4,FALSE)),\"\",VLOOKUP(C80,BDDG!$A$3:$J$102,4,FALSE))","v":106},{"$f":"IF(ISNA(VLOOKUP(C80,BDDG!$A$2:$F$100,5,FALSE)),\"\",VLOOKUP(C80,BDDG!$A$2:$F$100,5,FALSE))","v":"A10"},{"$f":"IF(ISNA(VLOOKUP(C80,BDDG!$A$2:$F$100,6,FALSE)),\"\",VLOOKUP(C80,BDDG!$A$2:$F$100,6,FALSE))","v":"AA30"},{"$f":"IF(ISERROR(VLOOKUP(C80,BDDG!$A$2:$G$100,7,FALSE)),\"\",VLOOKUP(C80,BDDG!$A$2:$G$100,7,FALSE))","v":1},{"$f":"IF(ISERROR(VLOOKUP(C80,BDDG!$A$2:$H$100,8,FALSE)),\"\",VLOOKUP(C80,BDDG!$A$2:$H$100,8,FALSE))","v":"BB30"},null,null,4.8,null,null,null,null,{"$f":"IF(ISERROR(VLOOKUP(C80,BDDG!$A$2:$J$100,10,FALSE)),\"\",VLOOKUP(C80,BDDG!$A$2:$J$100,10,FALSE))","v":"DD30"},null,null,"",4.8,10,2001,{"$f":"IFERROR(INDEX($V$2:V80,MATCH(H80&MAX(IF($H$1:H79=H80,$A$1:A79)),$H$2:H80&$A$2:A80,0))-V80,\"\")","v":0.49000000000000021}]
["2001-10-16",null,859,{"$f":"IF(ISNA(VLOOKUP(C81,BDDG!$A$2:$F$100,2,FALSE)),\"\",VLOOKUP(C81,BDDG!$A$2:$F$100,2,FALSE))","v":0},{"$f":"IF(ISNA(VLOOKUP(C81,BDDG!$A$3:$J$102,3,FALSE)),\"\",VLOOKUP(C81,BDDG!$A$3:$J$102,3,FALSE))","v":"A"},{"$f":"IF(ISNA(VLOOKUP(C81,BDDG!$A$3:$J$102,4,FALSE)),\"\",VLOOKUP(C81,BDDG!$A$3:$J$102,4,FALSE))","v":106},{"$f":"IF(ISNA(VLOOKUP(C81,BDDG!$A$2:$F$100,5,FALSE)),\"\",VLOOKUP(C81,BDDG!$A$2:$F$100,5,FALSE))","v":"A10"},{"$f":"IF(ISNA(VLOOKUP(C81,BDDG!$A$2:$F$100,6,FALSE)),\"\",VLOOKUP(C81,BDDG!$A$2:$F$100,6,FALSE))","v":"AA30"},{"$f":"IF(ISERROR(VLOOKUP(C81,BDDG!$A$2:$G$100,7,FALSE)),\"\",VLOOKUP(C81,BDDG!$A$2:$G$100,7,FALSE))","v":1},{"$f":"IF(ISERROR(VLOOKUP(C81,BDDG!$A$2:$H$100,8,FALSE)),\"\",VLOOKUP(C81,BDDG!$A$2:$H$100,8,FALSE))","v":"BB30"},null,null,4.8,null,null,null,null,{"$f":"IF(ISERROR(VLOOKUP(C81,BDDG!$A$2:$J$100,10,FALSE)),\"\",VLOOKUP(C81,BDDG!$A$2:$J$100,10,FALSE))","v":"DD30"},null,null,"",4.8,10,2001,{"$f":"IFERROR(INDEX($V$2:V81,MATCH(H81&MAX(IF($H$1:H80=H81,$A$1:A80)),$H$2:H81&$A$2:A81,0))-V81,\"\")","v":0}]
["2001-10-17",null,859,{"$f":"IF(ISNA(VLOOKUP(C82,BDDG!$A$2:$F$100,2,FALSE)),\"\",VLOOKUP(C82,BDDG!$A$2:$F$100,2,FALSE))","v":0},{"$f":"IF(ISNA(VLOOKUP(C82,BDDG!$A$3:$J$102,3,FALSE)),\"\",VLOOKUP(C82,BDDG!$A$3:$J$102,3,FALSE))","v":"A"},{"$f":"IF(ISNA(VLOOKUP(C82,BDDG!$A$3:$J$102,4,FALSE)),\"\",VLOOKUP(C82,BDDG!$A$3:$J$102,4,FALSE))","v":106},{"$f":"IF(ISNA(VLOOKUP(C82,BDDG!$A$2:$F$100,5,FALSE)),\"\",VLOOKUP(C82,BDDG!$A$2:$F$100,5,FALSE))","v":"A10"},{"$f":"IF(ISNA(VLOOKUP(C82,BDDG!$A$2:$F$100,6,FALSE)),\"\",VLOOKUP(C82,BDDG!$A$2:$F$100,6,FALSE))","v":"AA30"},{"$f":"IF(ISERROR(VLOOKUP(C82,BDDG!$A$2:$G$100,7,FALSE)),\"\",VLOOKUP(C82,BDDG!$A$2:$G$100,7,FALSE))","v":1},{"$f":"IF(ISERROR(VLOOKUP(C82,BDDG!$A$2:$H$100,8,FALSE)),\"\",VLOOKUP(C82,BDDG!$A$2:$H$100,8,FALSE))","v":"BB30"},null,null,4.8,null,null,null,null,{"$f":"IF(ISERROR(VLOOKUP(C82,BDDG!$A$2:$J$100,10,FALSE)),\"\",VLOOKUP(C82,BDDG!$A$2:$J$100,10,FALSE))","v":"DD30"},null,null,"",4.8,10,2001,{"$f":"IFERROR(INDEX($V$2:V82,MATCH(H82&MAX(IF($H$1:H81=H82,$A$1:A81)),$H$2:H82&$A$2:A82,0))-V82,\"\")","v":0}]
["2001-10-19",null,859,{"$f":"IF(ISNA(VLOOKUP(C83,BDDG!$A$2:$F$100,2,FALSE)),\"\",VLOOKUP(C83,BDDG!$A$2:$F$100,2,FALSE))","v":0},{"$f":"IF(ISNA(VLOOKUP(C83,BDDG!$A$3:$J$102,3,FALSE)),\"\",VLOOKUP(C83,BDDG!$A$3:$J$102,3,FALSE))","v":"A"},{"$f":"IF(ISNA(VLOOKUP(C83,BDDG!$A$3:$J$102,4,FALSE)),\"\",VLOOKUP(C83,BDDG!$A$3:$J$102,4,FALSE))","v":106},{"$f":"IF(ISNA(VLOOKUP(C83,BDDG!$A$2:$F$100,5,FALSE)),\"\",VLOOKUP(C83,BDDG!$A$2:$F$100,5,FALSE))","v":"A10"},{"$f":"IF(ISNA(VLOOKUP(C83,BDDG!$A$2:$F$100,6,FALSE)),\"\",VLOOKUP(C83,BDDG!$A$2:$F$100,6,FALSE))","v":"AA30"},{"$f":"IF(ISERROR(VLOOKUP(C83,BDDG!$A$2:$G$100,7,FALSE)),\"\",VLOOKUP(C83,BDDG!$A$2:$G$100,7,FALSE))","v":1},{"$f":"IF(ISERROR(VLOOKUP(C83,BDDG!$A$2:$H$100,8,FALSE)),\"\",VLOOKUP(C83,BDDG!$A$2:$H$100,8,FALSE))","v":"BB30"},null,null,4.8899999999999997,null,null,null,null,{"$f":"IF(ISERROR(VLOOKUP(C83,BDDG!$A$2:$J$100,10,FALSE)),\"\",VLOOKUP(C83,BDDG!$A$2:$J$100,10,FALSE))","v":"DD30"},null,null,"",4.8899999999999997,10,2001,{"$f":"IFERROR(INDEX($V$2:V83,MATCH(H83&MAX(IF($H$1:H82=H83,$A$1:A82)),$H$2:H83&$A$2:A83,0))-V83,\"\")","v":-8.9999999999999858E-2}]
["2001-10-19",null,815,{"$f":"IF(ISNA(VLOOKUP(C84,BDDG!$A$2:$F$100,2,FALSE)),\"\",VLOOKUP(C84,BDDG!$A$2:$F$100,2,FALSE))","v":0},{"$f":"IF(ISNA(VLOOKUP(C84,BDDG!$A$3:$J$102,3,FALSE)),\"\",VLOOKUP(C84,BDDG!$A$3:$J$102,3,FALSE))","v":"A"},{"$f":"IF(ISNA(VLOOKUP(C84,BDDG!$A$3:$J$102,4,FALSE)),\"\",VLOOKUP(C84,BDDG!$A$3:$J$102,4,FALSE))","v":106},{"$f":"IF(ISNA(VLOOKUP(C84,BDDG!$A$2:$F$100,5,FALSE)),\"\",VLOOKUP(C84,BDDG!$A$2:$F$100,5,FALSE))","v":"A10"},{"$f":"IF(ISNA(VLOOKUP(C84,BDDG!$A$2:$F$100,6,FALSE)),\"\",VLOOKUP(C84,BDDG!$A$2:$F$100,6,FALSE))","v":"AA31"},{"$f":"IF(ISERROR(VLOOKUP(C84,BDDG!$A$2:$G$100,7,FALSE)),\"\",VLOOKUP(C84,BDDG!$A$2:$G$100,7,FALSE))","v":1},{"$f":"IF(ISERROR(VLOOKUP(C84,BDDG!$A$2:$H$100,8,FALSE)),\"\",VLOOKUP(C84,BDDG!$A$2:$H$100,8,FALSE))","v":"BB31"},null,null,11.06,{"$f":"IF(ISERROR(VLOOKUP(C84,BDDG!$A$2:$I$100,9,FALSE)),\"\",VLOOKUP(C84,BDDG!$A$2:$I$100,9,FALSE))","v":"CC31"},null,null,{"$f":" IF(ISERROR(O84/P84*86.4),\"\",O84/P84*86.4)","v":""},{"$f":"IF(ISERROR(VLOOKUP(C84,BDDG!$A$2:$J$100,10,FALSE)),\"\",VLOOKUP(C84,BDDG!$A$2:$J$100,10,FALSE))","v":"DD31"},null,null,"",11.06,10,2001,{"$f":"IFERROR(INDEX($V$2:V84,MATCH(H84&MAX(IF($H$1:H83=H84,$A$1:A83)),$H$2:H84&$A$2:A84,0))-V84,\"\")","v":-0.32000000000000028}]
["2001-10-21",null,859,{"$f":"IF(ISNA(VLOOKUP(C85,BDDG!$A$2:$F$100,2,FALSE)),\"\",VLOOKUP(C85,BDDG!$A$2:$F$100,2,FALSE))","v":0},{"$f":"IF(ISNA(VLOOKUP(C85,BDDG!$A$3:$J$102,3,FALSE)),\"\",VLOOKUP(C85,BDDG!$A$3:$J$102,3,FALSE))","v":"A"},{"$f":"IF(ISNA(VLOOKUP(C85,BDDG!$A$3:$J$102,4,FALSE)),\"\",VLOOKUP(C85,BDDG!$A$3:$J$102,4,FALSE))","v":106},{"$f":"IF(ISNA(VLOOKUP(C85,BDDG!$A$2:$F$100,5,FALSE)),\"\",VLOOKUP(C85,BDDG!$A$2:$F$100,5,FALSE))","v":"A10"},{"$f":"IF(ISNA(VLOOKUP(C85,BDDG!$A$2:$F$100,6,FALSE)),\"\",VLOOKUP(C85,BDDG!$A$2:$F$100,6,FALSE))","v":"AA30"},{"$f":"IF(ISERROR(VLOOKUP(C85,BDDG!$A$2:$G$100,7,FALSE)),\"\",VLOOKUP(C85,BDDG!$A$2:$G$100,7,FALSE))","v":1},{"$f":"IF(ISERROR(VLOOKUP(C85,BDDG!$A$2:$H$100,8,FALSE)),\"\",VLOOKUP(C85,BDDG!$A$2:$H$100,8,FALSE))","v":"BB30"},null,null,5.4,null,null,null,null,{"$f":"IF(ISERROR(VLOOKUP(C85,BDDG!$A$2:$J$100,10,FALSE)),\"\",VLOOKUP(C85,BDDG!$A$2:$J$100,10,FALSE))","v":"DD30"},null,null,"",5.4,10,2001,{"$f":"IFERROR(INDEX($V$2:V85,MATCH(H85&MAX(IF($H$1:H84=H85,$A$1:A84)),$H$2:H85&$A$2:A85,0))-V85,\"\")","v":-0.51000000000000068}]
["2001-10-23",null,859,{"$f":"IF(ISNA(VLOOKUP(C86,BDDG!$A$2:$F$100,2,FALSE)),\"\",VLOOKUP(C86,BDDG!$A$2:$F$100,2,FALSE))","v":0},{"$f":"IF(ISNA(VLOOKUP(C86,BDDG!$A$3:$J$102,3,FALSE)),\"\",VLOOKUP(C86,BDDG!$A$3:$J$102,3,FALSE))","v":"A"},{"$f":"IF(ISNA(VLOOKUP(C86,BDDG!$A$3:$J$102,4,FALSE)),\"\",VLOOKUP(C86,BDDG!$A$3:$J$102,4,FALSE))","v":106},{"$f":"IF(ISNA(VLOOKUP(C86,BDDG!$A$2:$F$100,5,FALSE)),\"\",VLOOKUP(C86,BDDG!$A$2:$F$100,5,FALSE))","v":"A10"},{"$f":"IF(ISNA(VLOOKUP(C86,BDDG!$A$2:$F$100,6,FALSE)),\"\",VLOOKUP(C86,BDDG!$A$2:$F$100,6,FALSE))","v":"AA30"},{"$f":"IF(ISERROR(VLOOKUP(C86,BDDG!$A$2:$G$100,7,FALSE)),\"\",VLOOKUP(C86,BDDG!$A$2:$G$100,7,FALSE))","v":1},{"$f":"IF(ISERROR(VLOOKUP(C86,BDDG!$A$2:$H$100,8,FALSE)),\"\",VLOOKUP(C86,BDDG!$A$2:$H$100,8,FALSE))","v":"BB30"},null,null,5.4,null,null,null,null,{"$f":"IF(ISERROR(VLOOKUP(C86,BDDG!$A$2:$J$100,10,FALSE)),\"\",VLOOKUP(C86,BDDG!$A$2:$J$100,10,FALSE))","v":"DD30"},null,null,"",5.4,10,2001,{"$f":"IFERROR(INDEX($V$2:V86,MATCH(H86&MAX(IF($H$1:H85=H86,$A$1:A85)),$H$2:H86&$A$2:A86,0))-V86,\"\")","v":0}]
["2001-10-23",null,815,{"$f":"IF(ISNA(VLOOKUP(C87,BDDG!$A$2:$F$100,2,FALSE)),\"\",VLOOKUP(C87,BDDG!$A$2:$F$100,2,FALSE))","v":0},{"$f":"IF(ISNA(VLOOKUP(C87,BDDG!$A$3:$J$102,3,FALSE)),\"\",VLOOKUP(C87,BDDG!$A$3:$J$102,3,FALSE))","v":"A"},{"$f":"IF(ISNA(VLOOKUP(C87,BDDG!$A$3:$J$102,4,FALSE)),\"\",VLOOKUP(C87,BDDG!$A$3:$J$102,4,FALSE))","v":106},{"$f":"IF(ISNA(VLOOKUP(C87,BDDG!$A$2:$F$100,5,FALSE)),\"\",VLOOKUP(C87,BDDG!$A$2:$F$100,5,FALSE))","v":"A10"},{"$f":"IF(ISNA(VLOOKUP(C87,BDDG!$A$2:$F$100,6,FALSE)),\"\",VLOOKUP(C87,BDDG!$A$2:$F$100,6,FALSE))","v":"AA31"},{"$f":"IF(ISERROR(VLOOKUP(C87,BDDG!$A$2:$G$100,7,FALSE)),\"\",VLOOKUP(C87,BDDG!$A$2:$G$100,7,FALSE))","v":1},{"$f":"IF(ISERROR(VLOOKUP(C87,BDDG!$A$2:$H$100,8,FALSE)),\"\",VLOOKUP(C87,BDDG!$A$2:$H$100,8,FALSE))","v":"BB31"},null,null,11.57,{"$f":"IF(ISERROR(VLOOKUP(C87,BDDG!$A$2:$I$100,9,FALSE)),\"\",VLOOKUP(C87,BDDG!$A$2:$I$100,9,FALSE))","v":"CC31"},null,null,{"$f":" IF(ISERROR(O87/P87*86.4),\"\",O87/P87*86.4)","v":""},{"$f":"IF(ISERROR(VLOOKUP(C87,BDDG!$A$2:$J$100,10,FALSE)),\"\",VLOOKUP(C87,BDDG!$A$2:$J$100,10,FALSE))","v":"DD31"},null,null,"",11.57,10,2001,{"$f":"IFERROR(INDEX($V$2:V87,MATCH(H87&MAX(IF($H$1:H86=H87,$A$1:A86)),$H$2:H87&$A$2:A87,0))-V87,\"\")","v":-0.50999999999999979}]
["2001-10-26",null,859,{"$f":"IF(ISNA(VLOOKUP(C88,BDDG!$A$2:$F$100,2,FALSE)),\"\",VLOOKUP(C88,BDDG!$A$2:$F$100,2,FALSE))","v":0},{"$f":"IF(ISNA(VLOOKUP(C88,BDDG!$A$3:$J$102,3,FALSE)),\"\",VLOOKUP(C88,BDDG!$A$3:$J$102,3,FALSE))","v":"A"},{"$f":"IF(ISNA(VLOOKUP(C88,BDDG!$A$3:$J$102,4,FALSE)),\"\",VLOOKUP(C88,BDDG!$A$3:$J$102,4,FALSE))","v":106},{"$f":"IF(ISNA(VLOOKUP(C88,BDDG!$A$2:$F$100,5,FALSE)),\"\",VLOOKUP(C88,BDDG!$A$2:$F$100,5,FALSE))","v":"A10"},{"$f":"IF(ISNA(VLOOKUP(C88,BDDG!$A$2:$F$100,6,FALSE)),\"\",VLOOKUP(C88,BDDG!$A$2:$F$100,6,FALSE))","v":"AA30"},{"$f":"IF(ISERROR(VLOOKUP(C88,BDDG!$A$2:$G$100,7,FALSE)),\"\",VLOOKUP(C88,BDDG!$A$2:$G$100,7,FALSE))","v":1},{"$f":"IF(ISERROR(VLOOKUP(C88,BDDG!$A$2:$H$100,8,FALSE)),\"\",VLOOKUP(C88,BDDG!$A$2:$H$100,8,FALSE))","v":"BB30"},null,null,5.51,null,null,null,null,{"$f":"IF(ISERROR(VLOOKUP(C88,BDDG!$A$2:$J$100,10,FALSE)),\"\",VLOOKUP(C88,BDDG!$A$2:$J$100,10,FALSE))","v":"DD30"},null,null,"",5.51,10,2001,{"$f":"IFERROR(INDEX($V$2:V88,MATCH(H88&MAX(IF($H$1:H87=H88,$A$1:A87)),$H$2:H88&$A$2:A88,0))-V88,\"\")","v":-0.10999999999999943}]
["2001-10-26",null,815,{"$f":"IF(ISNA(VLOOKUP(C89,BDDG!$A$2:$F$100,2,FALSE)),\"\",VLOOKUP(C89,BDDG!$A$2:$F$100,2,FALSE))","v":0},{"$f":"IF(ISNA(VLOOKUP(C89,BDDG!$A$3:$J$102,3,FALSE)),\"\",VLOOKUP(C89,BDDG!$A$3:$J$102,3,FALSE))","v":"A"},{"$f":"IF(ISNA(VLOOKUP(C89,BDDG!$A$3:$J$102,4,FALSE)),\"\",VLOOKUP(C89,BDDG!$A$3:$J$102,4,FALSE))","v":106},{"$f":"IF(ISNA(VLOOKUP(C89,BDDG!$A$2:$F$100,5,FALSE)),\"\",VLOOKUP(C89,BDDG!$A$2:$F$100,5,FALSE))","v":"A10"},{"$f":"IF(ISNA(VLOOKUP(C89,BDDG!$A$2:$F$100,6,FALSE)),\"\",VLOOKUP(C89,BDDG!$A$2:$F$100,6,FALSE))","v":"AA31"},{"$f":"IF(ISERROR(VLOOKUP(C89,BDDG!$A$2:$G$100,7,FALSE)),\"\",VLOOKUP(C89,BDDG!$A$2:$G$100,7,FALSE))","v":1},{"$f":"IF(ISERROR(VLOOKUP(C89,BDDG!$A$2:$H$100,8,FALSE)),\"\",VLOOKUP(C89,BDDG!$A$2:$H$100,8,FALSE))","v":"BB31"},null,null,11.68,{"$f":"IF(ISERROR(VLOOKUP(C89,BDDG!$A$2:$I$100,9,FALSE)),\"\",VLOOKUP(C89,BDDG!$A$2:$I$100,9,FALSE))","v":"CC31"},null,null,{"$f":" IF(ISERROR(O89/P89*86.4),\"\",O89/P89*86.4)","v":""},{"$f":"IF(ISERROR(VLOOKUP(C89,BDDG!$A$2:$J$100,10,FALSE)),\"\",VLOOKUP(C89,BDDG!$A$2:$J$100,10,FALSE))","v":"DD31"},null,null,"",11.68,10,2001,{"$f":"IFERROR(INDEX($V$2:V89,MATCH(H89&MAX(IF($H$1:H88=H89,$A$1:A88)),$H$2:H89&$A$2:A89,0))-V89,\"\")","v":-0.10999999999999943}]
["2001-10-30",null,859,{"$f":"IF(ISNA(VLOOKUP(C90,BDDG!$A$2:$F$100,2,FALSE)),\"\",VLOOKUP(C90,BDDG!$A$2:$F$100,2,FALSE))","v":0},{"$f":"IF(ISNA(VLOOKUP(C90,BDDG!$A$3:$J$102,3,FALSE)),\"\",VLOOKUP(C90,BDDG!$A$3:$J$102,3,FALSE))","v":"A"},{"$f":"IF(ISNA(VLOOKUP(C90,BDDG!$A$3:$J$102,4,FALSE)),\"\",VLOOKUP(C90,BDDG!$A$3:$J$102,4,FALSE))","v":106},{"$f":"IF(ISNA(VLOOKUP(C90,BDDG!$A$2:$F$100,5,FALSE)),\"\",VLOOKUP(C90,BDDG!$A$2:$F$100,5,FALSE))","v":"A10"},{"$f":"IF(ISNA(VLOOKUP(C90,BDDG!$A$2:$F$100,6,FALSE)),\"\",VLOOKUP(C90,BDDG!$A$2:$F$100,6,FALSE))","v":"AA30"},{"$f":"IF(ISERROR(VLOOKUP(C90,BDDG!$A$2:$G$100,7,FALSE)),\"\",VLOOKUP(C90,BDDG!$A$2:$G$100,7,FALSE))","v":1},{"$f":"IF(ISERROR(VLOOKUP(C90,BDDG!$A$2:$H$100,8,FALSE)),\"\",VLOOKUP(C90,BDDG!$A$2:$H$100,8,FALSE))","v":"BB30"},null,null,4.9800000000000004,null,null,null,null,{"$f":"IF(ISERROR(VLOOKUP(C90,BDDG!$A$2:$J$100,10,FALSE)),\"\",VLOOKUP(C90,BDDG!$A$2:$J$100,10,FALSE))","v":"DD30"},null,null,"",4.9800000000000004,10,2001,{"$f":"IFERROR(INDEX($V$2:V90,MATCH(H90&MAX(IF($H$1:H89=H90,$A$1:A89)),$H$2:H90&$A$2:A90,0))-V90,\"\")","v":0.52999999999999936}]
["2001-10-30",null,815,{"$f":"IF(ISNA(VLOOKUP(C91,BDDG!$A$2:$F$100,2,FALSE)),\"\",VLOOKUP(C91,BDDG!$A$2:$F$100,2,FALSE))","v":0},{"$f":"IF(ISNA(VLOOKUP(C91,BDDG!$A$3:$J$102,3,FALSE)),\"\",VLOOKUP(C91,BDDG!$A$3:$J$102,3,FALSE))","v":"A"},{"$f":"IF(ISNA(VLOOKUP(C91,BDDG!$A$3:$J$102,4,FALSE)),\"\",VLOOKUP(C91,BDDG!$A$3:$J$102,4,FALSE))","v":106},{"$f":"IF(ISNA(VLOOKUP(C91,BDDG!$A$2:$F$100,5,FALSE)),\"\",VLOOKUP(C91,BDDG!$A$2:$F$100,5,FALSE))","v":"A10"},{"$f":"IF(ISNA(VLOOKUP(C91,BDDG!$A$2:$F$100,6,FALSE)),\"\",VLOOKUP(C91,BDDG!$A$2:$F$100,6,FALSE))","v":"AA31"},{"$f":"IF(ISERROR(VLOOKUP(C91,BDDG!$A$2:$G$100,7,FALSE)),\"\",VLOOKUP(C91,BDDG!$A$2:$G$100,7,FALSE))","v":1},{"$f":"IF(ISERROR(VLOOKUP(C91,BDDG!$A$2:$H$100,8,FALSE)),\"\",VLOOKUP(C91,BDDG!$A$2:$H$100,8,FALSE))","v":"BB31"},null,null,11.8,{"$f":"IF(ISERROR(VLOOKUP(C91,BDDG!$A$2:$I$100,9,FALSE)),\"\",VLOOKUP(C91,BDDG!$A$2:$I$100,9,FALSE))","v":"CC31"},null,null,{"$f":" IF(ISERROR(O91/P91*86.4),\"\",O91/P91*86.4)","v":""},{"$f":"IF(ISERROR(VLOOKUP(C91,BDDG!$A$2:$J$100,10,FALSE)),\"\",VLOOKUP(C91,BDDG!$A$2:$J$100,10,FALSE))","v":"DD31"},null,null,"",{"$f":"IF(ISERROR(SUM(M91,Q91,U91)),\"\",SUM(M91,Q91,U91))","v":11.8},10,2001,{"$f":"IFERROR(INDEX($V$2:V91,MATCH(H91&MAX(IF($H$1:H90=H91,$A$1:A90)),$H$2:H91&$A$2:A91,0))-V91,\"\")","v":-0.12000000000000099}]
["2001-11-08",null,859,{"$f":"IF(ISNA(VLOOKUP(C92,BDDG!$A$2:$F$100,2,FALSE)),\"\",VLOOKUP(C92,BDDG!$A$2:$F$100,2,FALSE))","v":0},{"$f":"IF(ISNA(VLOOKUP(C92,BDDG!$A$3:$J$102,3,FALSE)),\"\",VLOOKUP(C92,BDDG!$A$3:$J$102,3,FALSE))","v":"A"},{"$f":"IF(ISNA(VLOOKUP(C92,BDDG!$A$3:$J$102,4,FALSE)),\"\",VLOOKUP(C92,BDDG!$A$3:$J$102,4,FALSE))","v":106},{"$f":"IF(ISNA(VLOOKUP(C92,BDDG!$A$2:$F$100,5,FALSE)),\"\",VLOOKUP(C92,BDDG!$A$2:$F$100,5,FALSE))","v":"A10"},{"$f":"IF(ISNA(VLOOKUP(C92,BDDG!$A$2:$F$100,6,FALSE)),\"\",VLOOKUP(C92,BDDG!$A$2:$F$100,6,FALSE))","v":"AA30"},{"$f":"IF(ISERROR(VLOOKUP(C92,BDDG!$A$2:$G$100,7,FALSE)),\"\",VLOOKUP(C92,BDDG!$A$2:$G$100,7,FALSE))","v":1},{"$f":"IF(ISERROR(VLOOKUP(C92,BDDG!$A$2:$H$100,8,FALSE)),\"\",VLOOKUP(C92,BDDG!$A$2:$H$100,8,FALSE))","v":"BB30"},null,null,4.8899999999999997,null,null,null,null,{"$f":"IF(ISERROR(VLOOKUP(C92,BDDG!$A$2:$J$100,10,FALSE)),\"\",VLOOKUP(C92,BDDG!$A$2:$J$100,10,FALSE))","v":"DD30"},null,null,"",4.8899999999999997,11,2001,{"$f":"IFERROR(INDEX($V$2:V92,MATCH(H92&MAX(IF($H$1:H91=H92,$A$1:A91)),$H$2:H92&$A$2:A92,0))-V92,\"\")","v":9.0000000000000746E-2}]
["2001-11-08",null,815,{"$f":"IF(ISNA(VLOOKUP(C93,BDDG!$A$2:$F$100,2,FALSE)),\"\",VLOOKUP(C93,BDDG!$A$2:$F$100,2,FALSE))","v":0},{"$f":"IF(ISNA(VLOOKUP(C93,BDDG!$A$3:$J$102,3,FALSE)),\"\",VLOOKUP(C93,BDDG!$A$3:$J$102,3,FALSE))","v":"A"},{"$f":"IF(ISNA(VLOOKUP(C93,BDDG!$A$3:$J$102,4,FALSE)),\"\",VLOOKUP(C93,BDDG!$A$3:$J$102,4,FALSE))","v":106},{"$f":"IF(ISNA(VLOOKUP(C93,BDDG!$A$2:$F$100,5,FALSE)),\"\",VLOOKUP(C93,BDDG!$A$2:$F$100,5,FALSE))","v":"A10"},{"$f":"IF(ISNA(VLOOKUP(C93,BDDG!$A$2:$F$100,6,FALSE)),\"\",VLOOKUP(C93,BDDG!$A$2:$F$100,6,FALSE))","v":"AA31"},{"$f":"IF(ISERROR(VLOOKUP(C93,BDDG!$A$2:$G$100,7,FALSE)),\"\",VLOOKUP(C93,BDDG!$A$2:$G$100,7,FALSE))","v":1},{"$f":"IF(ISERROR(VLOOKUP(C93,BDDG!$A$2:$H$100,8,FALSE)),\"\",VLOOKUP(C93,BDDG!$A$2:$H$100,8,FALSE))","v":"BB31"},null,null,11.54,{"$f":"IF(ISERROR(VLOOKUP(C93,BDDG!$A$2:$I$100,9,FALSE)),\"\",VLOOKUP(C93,BDDG!$A$2:$I$100,9,FALSE))","v":"CC31"},null,null,{"$f":" IF(ISERROR(O93/P93*86.4),\"\",O93/P93*86.4)","v":""},{"$f":"IF(ISERROR(VLOOKUP(C93,BDDG!$A$2:$J$100,10,FALSE)),\"\",VLOOKUP(C93,BDDG!$A$2:$J$100,10,FALSE))","v":"DD31"},null,null,"",11.54,11,2001,{"$f":"IFERROR(INDEX($V$2:V93,MATCH(H93&MAX(IF($H$1:H92=H93,$A$1:A92)),$H$2:H93&$A$2:A93,0))-V93,\"\")","v":0.26000000000000156}]
["2002-05-17",null,856,{"$f":"IF(ISNA(VLOOKUP(C94,BDDG!$A$2:$F$100,2,FALSE)),\"\",VLOOKUP(C94,BDDG!$A$2:$F$100,2,FALSE))","v":0},{"$f":"IF(ISNA(VLOOKUP(C94,BDDG!$A$3:$J$102,3,FALSE)),\"\",VLOOKUP(C94,BDDG!$A$3:$J$102,3,FALSE))","v":"A"},{"$f":"IF(ISNA(VLOOKUP(C94,BDDG!$A$3:$J$102,4,FALSE)),\"\",VLOOKUP(C94,BDDG!$A$3:$J$102,4,FALSE))","v":106},{"$f":"IF(ISNA(VLOOKUP(C94,BDDG!$A$2:$F$100,5,FALSE)),\"\",VLOOKUP(C94,BDDG!$A$2:$F$100,5,FALSE))","v":"A9"},{"$f":"IF(ISNA(VLOOKUP(C94,BDDG!$A$2:$F$100,6,FALSE)),\"\",VLOOKUP(C94,BDDG!$A$2:$F$100,6,FALSE))","v":"AA27"},{"$f":"IF(ISERROR(VLOOKUP(C94,BDDG!$A$2:$G$100,7,FALSE)),\"\",VLOOKUP(C94,BDDG!$A$2:$G$100,7,FALSE))","v":2},{"$f":"IF(ISERROR(VLOOKUP(C94,BDDG!$A$2:$H$100,8,FALSE)),\"\",VLOOKUP(C94,BDDG!$A$2:$H$100,8,FALSE))","v":"BB27"},10,45,{"$f":" IF(ISERROR(K94/L94*86.4),\"\",K94/L94*86.4)","v":19.2},{"$f":"IF(ISERROR(VLOOKUP(C94,BDDG!$A$2:$I$100,9,FALSE)),\"\",VLOOKUP(C94,BDDG!$A$2:$I$100,9,FALSE))","v":"CC27"},10,5,172.8,{"$f":"IF(ISERROR(VLOOKUP(C94,BDDG!$A$2:$J$100,10,FALSE)),\"\",VLOOKUP(C94,BDDG!$A$2:$J$100,10,FALSE))","v":"DD27"},null,null,"",192,5,2002,{"$f":"IFERROR(INDEX($V$2:V94,MATCH(H94&MAX(IF($H$1:H93=H94,$A$1:A93)),$H$2:H94&$A$2:A94,0))-V94,\"\")","v":-96}]
["2002-05-21",null,842,{"$f":"IF(ISNA(VLOOKUP(C95,BDDG!$A$2:$F$100,2,FALSE)),\"\",VLOOKUP(C95,BDDG!$A$2:$F$100,2,FALSE))","v":0},{"$f":"IF(ISNA(VLOOKUP(C95,BDDG!$A$3:$J$102,3,FALSE)),\"\",VLOOKUP(C95,BDDG!$A$3:$J$102,3,FALSE))","v":"B"},{"$f":"IF(ISNA(VLOOKUP(C95,BDDG!$A$3:$J$102,4,FALSE)),\"\",VLOOKUP(C95,BDDG!$A$3:$J$102,4,FALSE))","v":106},{"$f":"IF(ISNA(VLOOKUP(C95,BDDG!$A$2:$F$100,5,FALSE)),\"\",VLOOKUP(C95,BDDG!$A$2:$F$100,5,FALSE))","v":"A5"},{"$f":"IF(ISNA(VLOOKUP(C95,BDDG!$A$2:$F$100,6,FALSE)),\"\",VLOOKUP(C95,BDDG!$A$2:$F$100,6,FALSE))","v":"AA13"},{"$f":"IF(ISERROR(VLOOKUP(C95,BDDG!$A$2:$G$100,7,FALSE)),\"\",VLOOKUP(C95,BDDG!$A$2:$G$100,7,FALSE))","v":1},{"$f":"IF(ISERROR(VLOOKUP(C95,BDDG!$A$2:$H$100,8,FALSE)),\"\",VLOOKUP(C95,BDDG!$A$2:$H$100,8,FALSE))","v":"BB13"},10,65,13.292307692307693,{"$f":"IF(ISERROR(VLOOKUP(C95,BDDG!$A$2:$I$100,9,FALSE)),\"\",VLOOKUP(C95,BDDG!$A$2:$I$100,9,FALSE))","v":"CC13"},null,null,"",{"$f":"IF(ISERROR(VLOOKUP(C95,BDDG!$A$2:$J$100,10,FALSE)),\"\",VLOOKUP(C95,BDDG!$A$2:$J$100,10,FALSE))","v":"DD13"},null,null,"",13.292307692307693,5,2002,{"$f":"IFERROR(INDEX($V$2:V95,MATCH(H95&MAX(IF($H$1:H94=H95,$A$1:A94)),$H$2:H95&$A$2:A95,0))-V95,\"\")","v":1.1076923076923073}]
["2002-05-21",null,848,{"$f":"IF(ISNA(VLOOKUP(C96,BDDG!$A$2:$F$100,2,FALSE)),\"\",VLOOKUP(C96,BDDG!$A$2:$F$100,2,FALSE))","v":0},{"$f":"IF(ISNA(VLOOKUP(C96,BDDG!$A$3:$J$102,3,FALSE)),\"\",VLOOKUP(C96,BDDG!$A$3:$J$102,3,FALSE))","v":"B"},{"$f":"IF(ISNA(VLOOKUP(C96,BDDG!$A$3:$J$102,4,FALSE)),\"\",VLOOKUP(C96,BDDG!$A$3:$J$102,4,FALSE))","v":106},{"$f":"IF(ISNA(VLOOKUP(C96,BDDG!$A$2:$F$100,5,FALSE)),\"\",VLOOKUP(C96,BDDG!$A$2:$F$100,5,FALSE))","v":"A7"},{"$f":"IF(ISNA(VLOOKUP(C96,BDDG!$A$2:$F$100,6,FALSE)),\"\",VLOOKUP(C96,BDDG!$A$2:$F$100,6,FALSE))","v":"AA19"},{"$f":"IF(ISERROR(VLOOKUP(C96,BDDG!$A$2:$G$100,7,FALSE)),\"\",VLOOKUP(C96,BDDG!$A$2:$G$100,7,FALSE))","v":2},{"$f":"IF(ISERROR(VLOOKUP(C96,BDDG!$A$2:$H$100,8,FALSE)),\"\",VLOOKUP(C96,BDDG!$A$2:$H$100,8,FALSE))","v":"BB19"},10,70,12.342857142857143,{"$f":"IF(ISERROR(VLOOKUP(C96,BDDG!$A$2:$I$100,9,FALSE)),\"\",VLOOKUP(C96,BDDG!$A$2:$I$100,9,FALSE))","v":"CC19"},null,null,"",{"$f":"IF(ISERROR(VLOOKUP(C96,BDDG!$A$2:$J$100,10,FALSE)),\"\",VLOOKUP(C96,BDDG!$A$2:$J$100,10,FALSE))","v":"DD19"},null,null,"",12.342857142857143,5,2002,{"$f":"IFERROR(INDEX($V$2:V96,MATCH(H96&MAX(IF($H$1:H95=H96,$A$1:A95)),$H$2:H96&$A$2:A96,0))-V96,\"\")","v":""}]
["2002-05-21",null,847,{"$f":"IF(ISNA(VLOOKUP(C97,BDDG!$A$2:$F$100,2,FALSE)),\"\",VLOOKUP(C97,BDDG!$A$2:$F$100,2,FALSE))","v":0},{"$f":"IF(ISNA(VLOOKUP(C97,BDDG!$A$3:$J$102,3,FALSE)),\"\",VLOOKUP(C97,BDDG!$A$3:$J$102,3,FALSE))","v":"B"},{"$f":"IF(ISNA(VLOOKUP(C97,BDDG!$A$3:$J$102,4,FALSE)),\"\",VLOOKUP(C97,BDDG!$A$3:$J$102,4,FALSE))","v":106},{"$f":"IF(ISNA(VLOOKUP(C97,BDDG!$A$2:$F$100,5,FALSE)),\"\",VLOOKUP(C97,BDDG!$A$2:$F$100,5,FALSE))","v":"A7"},{"$f":"IF(ISNA(VLOOKUP(C97,BDDG!$A$2:$F$100,6,FALSE)),\"\",VLOOKUP(C97,BDDG!$A$2:$F$100,6,FALSE))","v":"AA18"},{"$f":"IF(ISERROR(VLOOKUP(C97,BDDG!$A$2:$G$100,7,FALSE)),\"\",VLOOKUP(C97,BDDG!$A$2:$G$100,7,FALSE))","v":2},{"$f":"IF(ISERROR(VLOOKUP(C97,BDDG!$A$2:$H$100,8,FALSE)),\"\",VLOOKUP(C97,BDDG!$A$2:$H$100,8,FALSE))","v":"BB18"},10,70,12.342857142857143,{"$f":"IF(ISERROR(VLOOKUP(C97,BDDG!$A$2:$I$100,9,FALSE)),\"\",VLOOKUP(C97,BDDG!$A$2:$I$100,9,FALSE))","v":"CC18"},10,210,4.1142857142857148,{"$f":"IF(ISERROR(VLOOKUP(C97,BDDG!$A$2:$J$100,10,FALSE)),\"\",VLOOKUP(C97,BDDG!$A$2:$J$100,10,FALSE))","v":"DD18"},null,null,"",16.457142857142859,5,2002,{"$f":"IFERROR(INDEX($V$2:V97,MATCH(H97&MAX(IF($H$1:H96=H97,$A$1:A96)),$H$2:H97&$A$2:A97,0))-V97,\"\")","v":""}]
["2002-05-21",null,844,{"$f":"IF(ISNA(VLOOKUP(C98,BDDG!$A$2:$F$100,2,FALSE)),\"\",VLOOKUP(C98,BDDG!$A$2:$F$100,2,FALSE))","v":0},{"$f":"IF(ISNA(VLOOKUP(C98,BDDG!$A$3:$J$102,3,FALSE)),\"\",VLOOKUP(C98,BDDG!$A$3:$J$102,3,FALSE))","v":"B"},{"$f":"IF(ISNA(VLOOKUP(C98,BDDG!$A$3:$J$102,4,FALSE)),\"\",VLOOKUP(C98,BDDG!$A$3:$J$102,4,FALSE))","v":106},{"$f":"IF(ISNA(VLOOKUP(C98,BDDG!$A$2:$F$100,5,FALSE)),\"\",VLOOKUP(C98,BDDG!$A$2:$F$100,5,FALSE))","v":"A6"},{"$f":"IF(ISNA(VLOOKUP(C98,BDDG!$A$2:$F$100,6,FALSE)),\"\",VLOOKUP(C98,BDDG!$A$2:$F$100,6,FALSE))","v":"AA14"},{"$f":"IF(ISERROR(VLOOKUP(C98,BDDG!$A$2:$G$100,7,FALSE)),\"\",VLOOKUP(C98,BDDG!$A$2:$G$100,7,FALSE))","v":2},{"$f":"IF(ISERROR(VLOOKUP(C98,BDDG!$A$2:$H$100,8,FALSE)),\"\",VLOOKUP(C98,BDDG!$A$2:$H$100,8,FALSE))","v":"BB14"},10,10,86.4,{"$f":"IF(ISERROR(VLOOKUP(C98,BDDG!$A$2:$I$100,9,FALSE)),\"\",VLOOKUP(C98,BDDG!$A$2:$I$100,9,FALSE))","v":"CC14"},null,null,"",{"$f":"IF(ISERROR(VLOOKUP(C98,BDDG!$A$2:$J$100,10,FALSE)),\"\",VLOOKUP(C98,BDDG!$A$2:$J$100,10,FALSE))","v":"DD14"},null,null,{"$f":" IF(ISERROR(S98/T98*86.4),\"\",S98/T98*86.4)","v":""},86.4,5,2002,{"$f":"IFERROR(INDEX($V$2:V98,MATCH(H98&MAX(IF($H$1:H97=H98,$A$1:A97)),$H$2:H98&$A$2:A98,0))-V98,\"\")","v":""}]
["2002-05-21",null,849,{"$f":"IF(ISNA(VLOOKUP(C99,BDDG!$A$2:$F$100,2,FALSE)),\"\",VLOOKUP(C99,BDDG!$A$2:$F$100,2,FALSE))","v":0},{"$f":"IF(ISNA(VLOOKUP(C99,BDDG!$A$3:$J$102,3,FALSE)),\"\",VLOOKUP(C99,BDDG!$A$3:$J$102,3,FALSE))","v":"B"},{"$f":"IF(ISNA(VLOOKUP(C99,BDDG!$A$3:$J$102,4,FALSE)),\"\",VLOOKUP(C99,BDDG!$A$3:$J$102,4,FALSE))","v":106},{"$f":"IF(ISNA(VLOOKUP(C99,BDDG!$A$2:$F$100,5,FALSE)),\"\",VLOOKUP(C99,BDDG!$A$2:$F$100,5,FALSE))","v":"A7"},{"$f":"IF(ISNA(VLOOKUP(C99,BDDG!$A$2:$F$100,6,FALSE)),\"\",VLOOKUP(C99,BDDG!$A$2:$F$100,6,FALSE))","v":"AA15"},{"$f":"IF(ISERROR(VLOOKUP(C99,BDDG!$A$2:$G$100,7,FALSE)),\"\",VLOOKUP(C99,BDDG!$A$2:$G$100,7,FALSE))","v":2},{"$f":"IF(ISERROR(VLOOKUP(C99,BDDG!$A$2:$H$100,8,FALSE)),\"\",VLOOKUP(C99,BDDG!$A$2:$H$100,8,FALSE))","v":"BB15"},10,65,13.292307692307693,{"$f":"IF(ISERROR(VLOOKUP(C99,BDDG!$A$2:$I$100,9,FALSE)),\"\",VLOOKUP(C99,BDDG!$A$2:$I$100,9,FALSE))","v":"CC15"},null,null,"",{"$f":"IF(ISERROR(VLOOKUP(C99,BDDG!$A$2:$J$100,10,FALSE)),\"\",VLOOKUP(C99,BDDG!$A$2:$J$100,10,FALSE))","v":"DD15"},null,null,"",13.292307692307693,5,2002,{"$f":"IFERROR(INDEX($V$2:V99,MATCH(H99&MAX(IF($H$1:H98=H99,$A$1:A98)),$H$2:H99&$A$2:A99,0))-V99,\"\")","v":""}]
["2002-05-22",null,832,{"$f":"IF(ISNA(VLOOKUP(C100,BDDG!$A$2:$F$100,2,FALSE)),\"\",VLOOKUP(C100,BDDG!$A$2:$F$100,2,FALSE))","v":0},{"$f":"IF(ISNA(VLOOKUP(C100,BDDG!$A$3:$J$102,3,FALSE)),\"\",VLOOKUP(C100,BDDG!$A$3:$J$102,3,FALSE))","v":"A"},{"$f":"IF(ISNA(VLOOKUP(C100,BDDG!$A$3:$J$102,4,FALSE)),\"\",VLOOKUP(C100,BDDG!$A$3:$J$102,4,FALSE))","v":106},{"$f":"IF(ISNA(VLOOKUP(C100,BDDG!$A$2:$F$100,5,FALSE)),\"\",VLOOKUP(C100,BDDG!$A$2:$F$100,5,FALSE))","v":"A2"},{"$f":"IF(ISNA(VLOOKUP(C100,BDDG!$A$2:$F$100,6,FALSE)),\"\",VLOOKUP(C100,BDDG!$A$2:$F$100,6,FALSE))","v":"AA2"},{"$f":"IF(ISERROR(VLOOKUP(C100,BDDG!$A$2:$G$100,7,FALSE)),\"\",VLOOKUP(C100,BDDG!$A$2:$G$100,7,FALSE))","v":1},{"$f":"IF(ISERROR(VLOOKUP(C100,BDDG!$A$2:$H$100,8,FALSE)),\"\",VLOOKUP(C100,BDDG!$A$2:$H$100,8,FALSE))","v":"BB2"},10,25,34.56,{"$f":"IF(ISERROR(VLOOKUP(C100,BDDG!$A$2:$I$100,9,FALSE)),\"\",VLOOKUP(C100,BDDG!$A$2:$I$100,9,FALSE))","v":"CC2"},null,null,"",{"$f":"IF(ISERROR(VLOOKUP(C100,BDDG!$A$2:$J$100,10,FALSE)),\"\",VLOOKUP(C100,BDDG!$A$2:$J$100,10,FALSE))","v":"DD2"},null,null,"",34.56,5,2002,{"$f":"IFERROR(INDEX($V$2:V100,MATCH(H100&MAX(IF($H$1:H99=H100,$A$1:A99)),$H$2:H100&$A$2:A100,0))-V100,\"\")","v":11.520000000000003}]
["2002-05-22",null,833,{"$f":"IF(ISNA(VLOOKUP(C101,BDDG!$A$2:$F$100,2,FALSE)),\"\",VLOOKUP(C101,BDDG!$A$2:$F$100,2,FALSE))","v":0},{"$f":"IF(ISNA(VLOOKUP(C101,BDDG!$A$3:$J$102,3,FALSE)),\"\",VLOOKUP(C101,BDDG!$A$3:$J$102,3,FALSE))","v":"A"},{"$f":"IF(ISNA(VLOOKUP(C101,BDDG!$A$3:$J$102,4,FALSE)),\"\",VLOOKUP(C101,BDDG!$A$3:$J$102,4,FALSE))","v":106},{"$f":"IF(ISNA(VLOOKUP(C101,BDDG!$A$2:$F$100,5,FALSE)),\"\",VLOOKUP(C101,BDDG!$A$2:$F$100,5,FALSE))","v":"A2"},{"$f":"IF(ISNA(VLOOKUP(C101,BDDG!$A$2:$F$100,6,FALSE)),\"\",VLOOKUP(C101,BDDG!$A$2:$F$100,6,FALSE))","v":"AA3"},{"$f":"IF(ISERROR(VLOOKUP(C101,BDDG!$A$2:$G$100,7,FALSE)),\"\",VLOOKUP(C101,BDDG!$A$2:$G$100,7,FALSE))","v":1},{"$f":"IF(ISERROR(VLOOKUP(C101,BDDG!$A$2:$H$100,8,FALSE)),\"\",VLOOKUP(C101,BDDG!$A$2:$H$100,8,FALSE))","v":"BB3"},10,75,11.520000000000001,{"$f":"IF(ISERROR(VLOOKUP(C101,BDDG!$A$2:$I$100,9,FALSE)),\"\",VLOOKUP(C101,BDDG!$A$2:$I$100,9,FALSE))","v":"CC3"},null,null,"",{"$f":"IF(ISERROR(VLOOKUP(C101,BDDG!$A$2:$J$100,10,FALSE)),\"\",VLOOKUP(C101,BDDG!$A$2:$J$100,10,FALSE))","v":"DD3"},null,null,"",11.520000000000001,5,2002,{"$f":"IFERROR(INDEX($V$2:V101,MATCH(H101&MAX(IF($H$1:H100=H101,$A$1:A100)),$H$2:H101&$A$2:A101,0))-V101,\"\")","v":20.159999999999997}]
["2002-05-22",null,834,{"$f":"IF(ISNA(VLOOKUP(C102,BDDG!$A$2:$F$100,2,FALSE)),\"\",VLOOKUP(C102,BDDG!$A$2:$F$100,2,FALSE))","v":0},{"$f":"IF(ISNA(VLOOKUP(C102,BDDG!$A$3:$J$102,3,FALSE)),\"\",VLOOKUP(C102,BDDG!$A$3:$J$102,3,FALSE))","v":"A"},{"$f":"IF(ISNA(VLOOKUP(C102,BDDG!$A$3:$J$102,4,FALSE)),\"\",VLOOKUP(C102,BDDG!$A$3:$J$102,4,FALSE))","v":106},{"$f":"IF(ISNA(VLOOKUP(C102,BDDG!$A$2:$F$100,5,FALSE)),\"\",VLOOKUP(C102,BDDG!$A$2:$F$100,5,FALSE))","v":"A2"},{"$f":"IF(ISNA(VLOOKUP(C102,BDDG!$A$2:$F$100,6,FALSE)),\"\",VLOOKUP(C102,BDDG!$A$2:$F$100,6,FALSE))","v":"AA4"},{"$f":"IF(ISERROR(VLOOKUP(C102,BDDG!$A$2:$G$100,7,FALSE)),\"\",VLOOKUP(C102,BDDG!$A$2:$G$100,7,FALSE))","v":1},{"$f":"IF(ISERROR(VLOOKUP(C102,BDDG!$A$2:$H$100,8,FALSE)),\"\",VLOOKUP(C102,BDDG!$A$2:$H$100,8,FALSE))","v":"BB4"},10,60,14.4,{"$f":"IF(ISERROR(VLOOKUP(C102,BDDG!$A$2:$I$100,9,FALSE)),\"\",VLOOKUP(C102,BDDG!$A$2:$I$100,9,FALSE))","v":"CC4"},null,null,"",{"$f":"IF(ISERROR(VLOOKUP(C102,BDDG!$A$2:$J$100,10,FALSE)),\"\",VLOOKUP(C102,BDDG!$A$2:$J$100,10,FALSE))","v":"DD4"},null,null,"",14.4,5,2002,{"$f":"IFERROR(INDEX($V$2:V102,MATCH(H102&MAX(IF($H$1:H101=H102,$A$1:A101)),$H$2:H102&$A$2:A102,0))-V102,\"\")","v":4.3200000000000021}]
["2002-05-22",null,838,{"$f":"IF(ISNA(VLOOKUP(C103,BDDG!$A$2:$F$100,2,FALSE)),\"\",VLOOKUP(C103,BDDG!$A$2:$F$100,2,FALSE))","v":0},{"$f":"IF(ISNA(VLOOKUP(C103,BDDG!$A$3:$J$102,3,FALSE)),\"\",VLOOKUP(C103,BDDG!$A$3:$J$102,3,FALSE))","v":"A"},{"$f":"IF(ISNA(VLOOKUP(C103,BDDG!$A$3:$J$102,4,FALSE)),\"\",VLOOKUP(C103,BDDG!$A$3:$J$102,4,FALSE))","v":106},{"$f":"IF(ISNA(VLOOKUP(C103,BDDG!$A$2:$F$100,5,FALSE)),\"\",VLOOKUP(C103,BDDG!$A$2:$F$100,5,FALSE))","v":"A3"},{"$f":"IF(ISNA(VLOOKUP(C103,BDDG!$A$2:$F$100,6,FALSE)),\"\",VLOOKUP(C103,BDDG!$A$2:$F$100,6,FALSE))","v":"AA8"},{"$f":"IF(ISERROR(VLOOKUP(C103,BDDG!$A$2:$G$100,7,FALSE)),\"\",VLOOKUP(C103,BDDG!$A$2:$G$100,7,FALSE))","v":1},{"$f":"IF(ISERROR(VLOOKUP(C103,BDDG!$A$2:$H$100,8,FALSE)),\"\",VLOOKUP(C103,BDDG!$A$2:$H$100,8,FALSE))","v":"BB8"},5.5,60,7.92,{"$f":"IF(ISERROR(VLOOKUP(C103,BDDG!$A$2:$I$100,9,FALSE)),\"\",VLOOKUP(C103,BDDG!$A$2:$I$100,9,FALSE))","v":"CC8"},null,null,"",{"$f":"IF(ISERROR(VLOOKUP(C103,BDDG!$A$2:$J$100,10,FALSE)),\"\",VLOOKUP(C103,BDDG!$A$2:$J$100,10,FALSE))","v":"DD8"},null,null,"",7.92,5,2002,{"$f":"IFERROR(INDEX($V$2:V103,MATCH(H103&MAX(IF($H$1:H102=H103,$A$1:A102)),$H$2:H103&$A$2:A103,0))-V103,\"\")","v":-2.1599999999999993}]
["2002-05-22",null,837,{"$f":"IF(ISNA(VLOOKUP(C104,BDDG!$A$2:$F$100,2,FALSE)),\"\",VLOOKUP(C104,BDDG!$A$2:$F$100,2,FALSE))","v":0},{"$f":"IF(ISNA(VLOOKUP(C104,BDDG!$A$3:$J$102,3,FALSE)),\"\",VLOOKUP(C104,BDDG!$A$3:$J$102,3,FALSE))","v":"A"},{"$f":"IF(ISNA(VLOOKUP(C104,BDDG!$A$3:$J$102,4,FALSE)),\"\",VLOOKUP(C104,BDDG!$A$3:$J$102,4,FALSE))","v":106},{"$f":"IF(ISNA(VLOOKUP(C104,BDDG!$A$2:$F$100,5,FALSE)),\"\",VLOOKUP(C104,BDDG!$A$2:$F$100,5,FALSE))","v":"A3"},{"$f":"IF(ISNA(VLOOKUP(C104,BDDG!$A$2:$F$100,6,FALSE)),\"\",VLOOKUP(C104,BDDG!$A$2:$F$100,6,FALSE))","v":"AA7"},{"$f":"IF(ISERROR(VLOOKUP(C104,BDDG!$A$2:$G$100,7,FALSE)),\"\",VLOOKUP(C104,BDDG!$A$2:$G$100,7,FALSE))","v":1},{"$f":"IF(ISERROR(VLOOKUP(C104,BDDG!$A$2:$H$100,8,FALSE)),\"\",VLOOKUP(C104,BDDG!$A$2:$H$100,8,FALSE))","v":"BB7"},20,60,28.8,{"$f":"IF(ISERROR(VLOOKUP(C104,BDDG!$A$2:$I$100,9,FALSE)),\"\",VLOOKUP(C104,BDDG!$A$2:$I$100,9,FALSE))","v":"CC7"},null,null,"",{"$f":"IF(ISERROR(VLOOKUP(C104,BDDG!$A$2:$J$100,10,FALSE)),\"\",VLOOKUP(C104,BDDG!$A$2:$J$100,10,FALSE))","v":"DD7"},null,null,"",28.8,5,2002,{"$f":"IFERROR(INDEX($V$2:V104,MATCH(H104&MAX(IF($H$1:H103=H104,$A$1:A103)),$H$2:H104&$A$2:A104,0))-V104,\"\")","v":-14.4}]
["2002-05-22",null,836,{"$f":"IF(ISNA(VLOOKUP(C105,BDDG!$A$2:$F$100,2,FALSE)),\"\",VLOOKUP(C105,BDDG!$A$2:$F$100,2,FALSE))","v":0},{"$f":"IF(ISNA(VLOOKUP(C105,BDDG!$A$3:$J$102,3,FALSE)),\"\",VLOOKUP(C105,BDDG!$A$3:$J$102,3,FALSE))","v":"A"},{"$f":"IF(ISNA(VLOOKUP(C105,BDDG!$A$3:$J$102,4,FALSE)),\"\",VLOOKUP(C105,BDDG!$A$3:$J$102,4,FALSE))","v":106},{"$f":"IF(ISNA(VLOOKUP(C105,BDDG!$A$2:$F$100,5,FALSE)),\"\",VLOOKUP(C105,BDDG!$A$2:$F$100,5,FALSE))","v":"A3"},{"$f":"IF(ISNA(VLOOKUP(C105,BDDG!$A$2:$F$100,6,FALSE)),\"\",VLOOKUP(C105,BDDG!$A$2:$F$100,6,FALSE))","v":"AA6"},{"$f":"IF(ISERROR(VLOOKUP(C105,BDDG!$A$2:$G$100,7,FALSE)),\"\",VLOOKUP(C105,BDDG!$A$2:$G$100,7,FALSE))","v":1},{"$f":"IF(ISERROR(VLOOKUP(C105,BDDG!$A$2:$H$100,8,FALSE)),\"\",VLOOKUP(C105,BDDG!$A$2:$H$100,8,FALSE))","v":"BB6"},21,60,30.24,{"$f":"IF(ISERROR(VLOOKUP(C105,BDDG!$A$2:$I$100,9,FALSE)),\"\",VLOOKUP(C105,BDDG!$A$2:$I$100,9,FALSE))","v":"CC6"},null,null,"",{"$f":"IF(ISERROR(VLOOKUP(C105,BDDG!$A$2:$J$100,10,FALSE)),\"\",VLOOKUP(C105,BDDG!$A$2:$J$100,10,FALSE))","v":"DD6"},null,null,"",30.24,5,2002,{"$f":"IFERROR(INDEX($V$2:V105,MATCH(H105&MAX(IF($H$1:H104=H105,$A$1:A104)),$H$2:H105&$A$2:A105,0))-V105,\"\")","v":-7.1999999999999957}]
["2002-05-22",null,822,{"$f":"IF(ISNA(VLOOKUP(C106,BDDG!$A$2:$F$100,2,FALSE)),\"\",VLOOKUP(C106,BDDG!$A$2:$F$100,2,FALSE))","v":0},{"$f":"IF(ISNA(VLOOKUP(C106,BDDG!$A$3:$J$102,3,FALSE)),\"\",VLOOKUP(C106,BDDG!$A$3:$J$102,3,FALSE))","v":"A"},{"$f":"IF(ISNA(VLOOKUP(C106,BDDG!$A$3:$J$102,4,FALSE)),\"\",VLOOKUP(C106,BDDG!$A$3:$J$102,4,FALSE))","v":106},{"$f":"IF(ISNA(VLOOKUP(C106,BDDG!$A$2:$F$100,5,FALSE)),\"\",VLOOKUP(C106,BDDG!$A$2:$F$100,5,FALSE))","v":"A4"},{"$f":"IF(ISNA(VLOOKUP(C106,BDDG!$A$2:$F$100,6,FALSE)),\"\",VLOOKUP(C106,BDDG!$A$2:$F$100,6,FALSE))","v":"AA12"},{"$f":"IF(ISERROR(VLOOKUP(C106,BDDG!$A$2:$G$100,7,FALSE)),\"\",VLOOKUP(C106,BDDG!$A$2:$G$100,7,FALSE))","v":1},{"$f":"IF(ISERROR(VLOOKUP(C106,BDDG!$A$2:$H$100,8,FALSE)),\"\",VLOOKUP(C106,BDDG!$A$2:$H$100,8,FALSE))","v":"BB12"},0.83,1,71.712000000000003,{"$f":"IF(ISERROR(VLOOKUP(C106,BDDG!$A$2:$I$100,9,FALSE)),\"\",VLOOKUP(C106,BDDG!$A$2:$I$100,9,FALSE))","v":"CC12"},null,null,"",{"$f":"IF(ISERROR(VLOOKUP(C106,BDDG!$A$2:$J$100,10,FALSE)),\"\",VLOOKUP(C106,BDDG!$A$2:$J$100,10,FALSE))","v":"DD12"},null,null,"",71.712000000000003,5,2002,{"$f":"IFERROR(INDEX($V$2:V106,MATCH(H106&MAX(IF($H$1:H105=H106,$A$1:A105)),$H$2:H106&$A$2:A106,0))-V106,\"\")","v":14.688000000000002}]
["2002-05-23",null,850,{"$f":"IF(ISNA(VLOOKUP(C107,BDDG!$A$2:$F$100,2,FALSE)),\"\",VLOOKUP(C107,BDDG!$A$2:$F$100,2,FALSE))","v":0},{"$f":"IF(ISNA(VLOOKUP(C107,BDDG!$A$3:$J$102,3,FALSE)),\"\",VLOOKUP(C107,BDDG!$A$3:$J$102,3,FALSE))","v":"B"},{"$f":"IF(ISNA(VLOOKUP(C107,BDDG!$A$3:$J$102,4,FALSE)),\"\",VLOOKUP(C107,BDDG!$A$3:$J$102,4,FALSE))","v":106},{"$f":"IF(ISNA(VLOOKUP(C107,BDDG!$A$2:$F$100,5,FALSE)),\"\",VLOOKUP(C107,BDDG!$A$2:$F$100,5,FALSE))","v":"A8"},{"$f":"IF(ISNA(VLOOKUP(C107,BDDG!$A$2:$F$100,6,FALSE)),\"\",VLOOKUP(C107,BDDG!$A$2:$F$100,6,FALSE))","v":"AA20"},{"$f":"IF(ISERROR(VLOOKUP(C107,BDDG!$A$2:$G$100,7,FALSE)),\"\",VLOOKUP(C107,BDDG!$A$2:$G$100,7,FALSE))","v":1},{"$f":"IF(ISERROR(VLOOKUP(C107,BDDG!$A$2:$H$100,8,FALSE)),\"\",VLOOKUP(C107,BDDG!$A$2:$H$100,8,FALSE))","v":"BB20"},10,20,43.2,{"$f":"IF(ISERROR(VLOOKUP(C107,BDDG!$A$2:$I$100,9,FALSE)),\"\",VLOOKUP(C107,BDDG!$A$2:$I$100,9,FALSE))","v":"CC20"},null,null,"",{"$f":"IF(ISERROR(VLOOKUP(C107,BDDG!$A$2:$J$100,10,FALSE)),\"\",VLOOKUP(C107,BDDG!$A$2:$J$100,10,FALSE))","v":"DD20"},null,null,"",43.2,5,2002,{"$f":"IFERROR(INDEX($V$2:V107,MATCH(H107&MAX(IF($H$1:H106=H107,$A$1:A106)),$H$2:H107&$A$2:A107,0))-V107,\"\")","v":""}]
["2002-05-23",null,860,{"$f":"IF(ISNA(VLOOKUP(C108,BDDG!$A$2:$F$100,2,FALSE)),\"\",VLOOKUP(C108,BDDG!$A$2:$F$100,2,FALSE))","v":0},{"$f":"IF(ISNA(VLOOKUP(C108,BDDG!$A$3:$J$102,3,FALSE)),\"\",VLOOKUP(C108,BDDG!$A$3:$J$102,3,FALSE))","v":"A"},{"$f":"IF(ISNA(VLOOKUP(C108,BDDG!$A$3:$J$102,4,FALSE)),\"\",VLOOKUP(C108,BDDG!$A$3:$J$102,4,FALSE))","v":106},{"$f":"IF(ISNA(VLOOKUP(C108,BDDG!$A$2:$F$100,5,FALSE)),\"\",VLOOKUP(C108,BDDG!$A$2:$F$100,5,FALSE))","v":"A11"},{"$f":"IF(ISNA(VLOOKUP(C108,BDDG!$A$2:$F$100,6,FALSE)),\"\",VLOOKUP(C108,BDDG!$A$2:$F$100,6,FALSE))","v":"AA32"},{"$f":"IF(ISERROR(VLOOKUP(C108,BDDG!$A$2:$G$100,7,FALSE)),\"\",VLOOKUP(C108,BDDG!$A$2:$G$100,7,FALSE))","v":2},{"$f":"IF(ISERROR(VLOOKUP(C108,BDDG!$A$2:$H$100,8,FALSE)),\"\",VLOOKUP(C108,BDDG!$A$2:$H$100,8,FALSE))","v":"BB32"},10,15,57.6,{"$f":"IF(ISERROR(VLOOKUP(C108,BDDG!$A$2:$I$100,9,FALSE)),\"\",VLOOKUP(C108,BDDG!$A$2:$I$100,9,FALSE))","v":"CC32"},null,null,"",{"$f":"IF(ISERROR(VLOOKUP(C108,BDDG!$A$2:$J$100,10,FALSE)),\"\",VLOOKUP(C108,BDDG!$A$2:$J$100,10,FALSE))","v":"DD32"},null,null,"",57.6,5,2002,{"$f":"IFERROR(INDEX($V$2:V108,MATCH(H108&MAX(IF($H$1:H107=H108,$A$1:A107)),$H$2:H108&$A$2:A108,0))-V108,\"\")","v":158.4}]
["2002-05-23",null,861,{"$f":"IF(ISNA(VLOOKUP(C109,BDDG!$A$2:$F$100,2,FALSE)),\"\",VLOOKUP(C109,BDDG!$A$2:$F$100,2,FALSE))","v":0},{"$f":"IF(ISNA(VLOOKUP(C109,BDDG!$A$3:$J$102,3,FALSE)),\"\",VLOOKUP(C109,BDDG!$A$3:$J$102,3,FALSE))","v":"A"},{"$f":"IF(ISNA(VLOOKUP(C109,BDDG!$A$3:$J$102,4,FALSE)),\"\",VLOOKUP(C109,BDDG!$A$3:$J$102,4,FALSE))","v":106},{"$f":"IF(ISNA(VLOOKUP(C109,BDDG!$A$2:$F$100,5,FALSE)),\"\",VLOOKUP(C109,BDDG!$A$2:$F$100,5,FALSE))","v":"A11"},{"$f":"IF(ISNA(VLOOKUP(C109,BDDG!$A$2:$F$100,6,FALSE)),\"\",VLOOKUP(C109,BDDG!$A$2:$F$100,6,FALSE))","v":"AA33"},{"$f":"IF(ISERROR(VLOOKUP(C109,BDDG!$A$2:$G$100,7,FALSE)),\"\",VLOOKUP(C109,BDDG!$A$2:$G$100,7,FALSE))","v":2},{"$f":"IF(ISERROR(VLOOKUP(C109,BDDG!$A$2:$H$100,8,FALSE)),\"\",VLOOKUP(C109,BDDG!$A$2:$H$100,8,FALSE))","v":"BB33"},null,null,null,{"$f":"IF(ISERROR(VLOOKUP(C109,BDDG!$A$2:$I$100,9,FALSE)),\"\",VLOOKUP(C109,BDDG!$A$2:$I$100,9,FALSE))","v":"CC33"},10,5,172.8,{"$f":"IF(ISERROR(VLOOKUP(C109,BDDG!$A$2:$J$100,10,FALSE)),\"\",VLOOKUP(C109,BDDG!$A$2:$J$100,10,FALSE))","v":"DD33"},null,null,"",{"$f":"IF(ISERROR(SUM(M109,Q109,U109)),\"\",SUM((M109,Q109,U109)))","v":172.8},5,2002,{"$f":"IFERROR(INDEX($V$2:V109,MATCH(H109&MAX(IF($H$1:H108=H109,$A$1:A108)),$H$2:H109&$A$2:A109,0))-V109,\"\")","v":-47.52000000000001}]
["2002-05-23",null,862,{"$f":"IF(ISNA(VLOOKUP(C110,BDDG!$A$2:$F$100,2,FALSE)),\"\",VLOOKUP(C110,BDDG!$A$2:$F$100,2,FALSE))","v":0},{"$f":"IF(ISNA(VLOOKUP(C110,BDDG!$A$3:$J$102,3,FALSE)),\"\",VLOOKUP(C110,BDDG!$A$3:$J$102,3,FALSE))","v":"A"},{"$f":"IF(ISNA(VLOOKUP(C110,BDDG!$A$3:$J$102,4,FALSE)),\"\",VLOOKUP(C110,BDDG!$A$3:$J$102,4,FALSE))","v":106},{"$f":"IF(ISNA(VLOOKUP(C110,BDDG!$A$2:$F$100,5,FALSE)),\"\",VLOOKUP(C110,BDDG!$A$2:$F$100,5,FALSE))","v":"A12"},{"$f":"IF(ISNA(VLOOKUP(C110,BDDG!$A$2:$F$100,6,FALSE)),\"\",VLOOKUP(C110,BDDG!$A$2:$F$100,6,FALSE))","v":"AA34"},{"$f":"IF(ISERROR(VLOOKUP(C110,BDDG!$A$2:$G$100,7,FALSE)),\"\",VLOOKUP(C110,BDDG!$A$2:$G$100,7,FALSE))","v":1},{"$f":"IF(ISERROR(VLOOKUP(C110,BDDG!$A$2:$H$100,8,FALSE)),\"\",VLOOKUP(C110,BDDG!$A$2:$H$100,8,FALSE))","v":"BB34"},10,14,{"$f":" IF(ISERROR(K110/L110*86.4),\"\",K110/L110*86.4)","v":61.714285714285722},{"$f":"IF(ISERROR(VLOOKUP(C110,BDDG!$A$2:$I$100,9,FALSE)),\"\",VLOOKUP(C110,BDDG!$A$2:$I$100,9,FALSE))","v":"CC34"},null,null,"",{"$f":"IF(ISERROR(VLOOKUP(C110,BDDG!$A$2:$J$100,10,FALSE)),\"\",VLOOKUP(C110,BDDG!$A$2:$J$100,10,FALSE))","v":"DD34"},null,null,"",{"$f":"IF(ISERROR(SUM(M110,Q110,U110)),\"\",SUM(M110,Q110,U110))","v":61.714285714285722},5,2002,{"$f":"IFERROR(INDEX($V$2:V110,MATCH(H110&MAX(IF($H$1:H109=H110,$A$1:A109)),$H$2:H110&$A$2:A110,0))-V110,\"\")","v":-7.7142857142857224}]
["2003-02-04",null,850,{"$f":"IF(ISNA(VLOOKUP(C111,BDDG!$A$2:$F$100,2,FALSE)),\"\",VLOOKUP(C111,BDDG!$A$2:$F$100,2,FALSE))","v":0},{"$f":"IF(ISNA(VLOOKUP(C111,BDDG!$A$3:$J$102,3,FALSE)),\"\",VLOOKUP(C111,BDDG!$A$3:$J$102,3,FALSE))","v":"B"},{"$f":"IF(ISNA(VLOOKUP(C111,BDDG!$A$3:$J$102,4,FALSE)),\"\",VLOOKUP(C111,BDDG!$A$3:$J$102,4,FALSE))","v":106},{"$f":"IF(ISNA(VLOOKUP(C111,BDDG!$A$2:$F$100,5,FALSE)),\"\",VLOOKUP(C111,BDDG!$A$2:$F$100,5,FALSE))","v":"A8"},{"$f":"IF(ISNA(VLOOKUP(C111,BDDG!$A$2:$F$100,6,FALSE)),\"\",VLOOKUP(C111,BDDG!$A$2:$F$100,6,FALSE))","v":"AA20"},{"$f":"IF(ISERROR(VLOOKUP(C111,BDDG!$A$2:$G$100,7,FALSE)),\"\",VLOOKUP(C111,BDDG!$A$2:$G$100,7,FALSE))","v":1},{"$f":"IF(ISERROR(VLOOKUP(C111,BDDG!$A$2:$H$100,8,FALSE)),\"\",VLOOKUP(C111,BDDG!$A$2:$H$100,8,FALSE))","v":"BB20"},11,21,45.25714285714286,{"$f":"IF(ISERROR(VLOOKUP(C111,BDDG!$A$2:$I$100,9,FALSE)),\"\",VLOOKUP(C111,BDDG!$A$2:$I$100,9,FALSE))","v":"CC20"},null,null,{"$f":" IF(ISERROR(O111/P111*86.4),\"\",O111/P111*86.4)","v":""},{"$f":"IF(ISERROR(VLOOKUP(C111,BDDG!$A$2:$J$100,10,FALSE)),\"\",VLOOKUP(C111,BDDG!$A$2:$J$100,10,FALSE))","v":"DD20"},null,null,"",45.25714285714286,2,2003,{"$f":"IFERROR(INDEX($V$2:V111,MATCH(H111&MAX(IF($H$1:H110=H111,$A$1:A110)),$H$2:H111&$A$2:A111,0))-V111,\"\")","v":-2.0571428571428569}]
["2003-02-12",null,848,{"$f":"IF(ISNA(VLOOKUP(C112,BDDG!$A$2:$F$100,2,FALSE)),\"\",VLOOKUP(C112,BDDG!$A$2:$F$100,2,FALSE))","v":0},{"$f":"IF(ISNA(VLOOKUP(C112,BDDG!$A$3:$J$102,3,FALSE)),\"\",VLOOKUP(C112,BDDG!$A$3:$J$102,3,FALSE))","v":"B"},{"$f":"IF(ISNA(VLOOKUP(C112,BDDG!$A$3:$J$102,4,FALSE)),\"\",VLOOKUP(C112,BDDG!$A$3:$J$102,4,FALSE))","v":106},{"$f":"IF(ISNA(VLOOKUP(C112,BDDG!$A$2:$F$100,5,FALSE)),\"\",VLOOKUP(C112,BDDG!$A$2:$F$100,5,FALSE))","v":"A7"},{"$f":"IF(ISNA(VLOOKUP(C112,BDDG!$A$2:$F$100,6,FALSE)),\"\",VLOOKUP(C112,BDDG!$A$2:$F$100,6,FALSE))","v":"AA19"},{"$f":"IF(ISERROR(VLOOKUP(C112,BDDG!$A$2:$G$100,7,FALSE)),\"\",VLOOKUP(C112,BDDG!$A$2:$G$100,7,FALSE))","v":2},{"$f":"IF(ISERROR(VLOOKUP(C112,BDDG!$A$2:$H$100,8,FALSE)),\"\",VLOOKUP(C112,BDDG!$A$2:$H$100,8,FALSE))","v":"BB19"},40,60,57.6,{"$f":"IF(ISERROR(VLOOKUP(C112,BDDG!$A$2:$I$100,9,FALSE)),\"\",VLOOKUP(C112,BDDG!$A$2:$I$100,9,FALSE))","v":"CC19"},null,null,"",{"$f":"IF(ISERROR(VLOOKUP(C112,BDDG!$A$2:$J$100,10,FALSE)),\"\",VLOOKUP(C112,BDDG!$A$2:$J$100,10,FALSE))","v":"DD19"},null,null,"",57.6,2,2003,{"$f":"IFERROR(INDEX($V$2:V112,MATCH(H112&MAX(IF($H$1:H111=H112,$A$1:A111)),$H$2:H112&$A$2:A112,0))-V112,\"\")","v":-45.25714285714286}]
["2003-02-12",null,847,{"$f":"IF(ISNA(VLOOKUP(C113,BDDG!$A$2:$F$100,2,FALSE)),\"\",VLOOKUP(C113,BDDG!$A$2:$F$100,2,FALSE))","v":0},{"$f":"IF(ISNA(VLOOKUP(C113,BDDG!$A$3:$J$102,3,FALSE)),\"\",VLOOKUP(C113,BDDG!$A$3:$J$102,3,FALSE))","v":"B"},{"$f":"IF(ISNA(VLOOKUP(C113,BDDG!$A$3:$J$102,4,FALSE)),\"\",VLOOKUP(C113,BDDG!$A$3:$J$102,4,FALSE))","v":106},{"$f":"IF(ISNA(VLOOKUP(C113,BDDG!$A$2:$F$100,5,FALSE)),\"\",VLOOKUP(C113,BDDG!$A$2:$F$100,5,FALSE))","v":"A7"},{"$f":"IF(ISNA(VLOOKUP(C113,BDDG!$A$2:$F$100,6,FALSE)),\"\",VLOOKUP(C113,BDDG!$A$2:$F$100,6,FALSE))","v":"AA18"},{"$f":"IF(ISERROR(VLOOKUP(C113,BDDG!$A$2:$G$100,7,FALSE)),\"\",VLOOKUP(C113,BDDG!$A$2:$G$100,7,FALSE))","v":2},{"$f":"IF(ISERROR(VLOOKUP(C113,BDDG!$A$2:$H$100,8,FALSE)),\"\",VLOOKUP(C113,BDDG!$A$2:$H$100,8,FALSE))","v":"BB18"},40,60,57.6,{"$f":"IF(ISERROR(VLOOKUP(C113,BDDG!$A$2:$I$100,9,FALSE)),\"\",VLOOKUP(C113,BDDG!$A$2:$I$100,9,FALSE))","v":"CC18"},10,60,14.4,{"$f":"IF(ISERROR(VLOOKUP(C113,BDDG!$A$2:$J$100,10,FALSE)),\"\",VLOOKUP(C113,BDDG!$A$2:$J$100,10,FALSE))","v":"DD18"},null,null,"",72,2,2003,{"$f":"IFERROR(INDEX($V$2:V113,MATCH(H113&MAX(IF($H$1:H112=H113,$A$1:A112)),$H$2:H113&$A$2:A113,0))-V113,\"\")","v":-55.542857142857144}]
["2003-03-01",null,860,{"$f":"IF(ISNA(VLOOKUP(C114,BDDG!$A$2:$F$100,2,FALSE)),\"\",VLOOKUP(C114,BDDG!$A$2:$F$100,2,FALSE))","v":0},{"$f":"IF(ISNA(VLOOKUP(C114,BDDG!$A$3:$J$102,3,FALSE)),\"\",VLOOKUP(C114,BDDG!$A$3:$J$102,3,FALSE))","v":"A"},{"$f":"IF(ISNA(VLOOKUP(C114,BDDG!$A$3:$J$102,4,FALSE)),\"\",VLOOKUP(C114,BDDG!$A$3:$J$102,4,FALSE))","v":106},{"$f":"IF(ISNA(VLOOKUP(C114,BDDG!$A$2:$F$100,5,FALSE)),\"\",VLOOKUP(C114,BDDG!$A$2:$F$100,5,FALSE))","v":"A11"},{"$f":"IF(ISNA(VLOOKUP(C114,BDDG!$A$2:$F$100,6,FALSE)),\"\",VLOOKUP(C114,BDDG!$A$2:$F$100,6,FALSE))","v":"AA32"},{"$f":"IF(ISERROR(VLOOKUP(C114,BDDG!$A$2:$G$100,7,FALSE)),\"\",VLOOKUP(C114,BDDG!$A$2:$G$100,7,FALSE))","v":2},{"$f":"IF(ISERROR(VLOOKUP(C114,BDDG!$A$2:$H$100,8,FALSE)),\"\",VLOOKUP(C114,BDDG!$A$2:$H$100,8,FALSE))","v":"BB32"},34,60,48.96,{"$f":"IF(ISERROR(VLOOKUP(C114,BDDG!$A$2:$I$100,9,FALSE)),\"\",VLOOKUP(C114,BDDG!$A$2:$I$100,9,FALSE))","v":"CC32"},null,null,"",{"$f":"IF(ISERROR(VLOOKUP(C114,BDDG!$A$2:$J$100,10,FALSE)),\"\",VLOOKUP(C114,BDDG!$A$2:$J$100,10,FALSE))","v":"DD32"},null,null,"",48.96,3,2003,{"$f":"IFERROR(INDEX($V$2:V114,MATCH(H114&MAX(IF($H$1:H113=H114,$A$1:A113)),$H$2:H114&$A$2:A114,0))-V114,\"\")","v":8.64}]
["2003-03-03",null,815,{"$f":"IF(ISNA(VLOOKUP(C115,BDDG!$A$2:$F$100,2,FALSE)),\"\",VLOOKUP(C115,BDDG!$A$2:$F$100,2,FALSE))","v":0},{"$f":"IF(ISNA(VLOOKUP(C115,BDDG!$A$3:$J$102,3,FALSE)),\"\",VLOOKUP(C115,BDDG!$A$3:$J$102,3,FALSE))","v":"A"},{"$f":"IF(ISNA(VLOOKUP(C115,BDDG!$A$3:$J$102,4,FALSE)),\"\",VLOOKUP(C115,BDDG!$A$3:$J$102,4,FALSE))","v":106},{"$f":"IF(ISNA(VLOOKUP(C115,BDDG!$A$2:$F$100,5,FALSE)),\"\",VLOOKUP(C115,BDDG!$A$2:$F$100,5,FALSE))","v":"A10"},{"$f":"IF(ISNA(VLOOKUP(C115,BDDG!$A$2:$F$100,6,FALSE)),\"\",VLOOKUP(C115,BDDG!$A$2:$F$100,6,FALSE))","v":"AA31"},{"$f":"IF(ISERROR(VLOOKUP(C115,BDDG!$A$2:$G$100,7,FALSE)),\"\",VLOOKUP(C115,BDDG!$A$2:$G$100,7,FALSE))","v":1},{"$f":"IF(ISERROR(VLOOKUP(C115,BDDG!$A$2:$H$100,8,FALSE)),\"\",VLOOKUP(C115,BDDG!$A$2:$H$100,8,FALSE))","v":"BB31"},15,205,6.3219512195121954,{"$f":"IF(ISERROR(VLOOKUP(C115,BDDG!$A$2:$I$100,9,FALSE)),\"\",VLOOKUP(C115,BDDG!$A$2:$I$100,9,FALSE))","v":"CC31"},null,null,"",{"$f":"IF(ISERROR(VLOOKUP(C115,BDDG!$A$2:$J$100,10,FALSE)),\"\",VLOOKUP(C115,BDDG!$A$2:$J$100,10,FALSE))","v":"DD31"},null,null,"",6.3219512195121954,3,2003,{"$f":"IFERROR(INDEX($V$2:V115,MATCH(H115&MAX(IF($H$1:H114=H115,$A$1:A114)),$H$2:H115&$A$2:A115,0))-V115,\"\")","v":5.2180487804878037}]
["2003-05-01",null,832,{"$f":"IF(ISNA(VLOOKUP(C116,BDDG!$A$2:$F$100,2,FALSE)),\"\",VLOOKUP(C116,BDDG!$A$2:$F$100,2,FALSE))","v":0},{"$f":"IF(ISNA(VLOOKUP(C116,BDDG!$A$3:$J$102,3,FALSE)),\"\",VLOOKUP(C116,BDDG!$A$3:$J$102,3,FALSE))","v":"A"},{"$f":"IF(ISNA(VLOOKUP(C116,BDDG!$A$3:$J$102,4,FALSE)),\"\",VLOOKUP(C116,BDDG!$A$3:$J$102,4,FALSE))","v":106},{"$f":"IF(ISNA(VLOOKUP(C116,BDDG!$A$2:$F$100,5,FALSE)),\"\",VLOOKUP(C116,BDDG!$A$2:$F$100,5,FALSE))","v":"A2"},{"$f":"IF(ISNA(VLOOKUP(C116,BDDG!$A$2:$F$100,6,FALSE)),\"\",VLOOKUP(C116,BDDG!$A$2:$F$100,6,FALSE))","v":"AA2"},{"$f":"IF(ISERROR(VLOOKUP(C116,BDDG!$A$2:$G$100,7,FALSE)),\"\",VLOOKUP(C116,BDDG!$A$2:$G$100,7,FALSE))","v":1},{"$f":"IF(ISERROR(VLOOKUP(C116,BDDG!$A$2:$H$100,8,FALSE)),\"\",VLOOKUP(C116,BDDG!$A$2:$H$100,8,FALSE))","v":"BB2"},28,60,40.32,{"$f":"IF(ISERROR(VLOOKUP(C116,BDDG!$A$2:$I$100,9,FALSE)),\"\",VLOOKUP(C116,BDDG!$A$2:$I$100,9,FALSE))","v":"CC2"},null,null,"",{"$f":"IF(ISERROR(VLOOKUP(C116,BDDG!$A$2:$J$100,10,FALSE)),\"\",VLOOKUP(C116,BDDG!$A$2:$J$100,10,FALSE))","v":"DD2"},null,null,"",40.32,5,2003,{"$f":"IFERROR(INDEX($V$2:V116,MATCH(H116&MAX(IF($H$1:H115=H116,$A$1:A115)),$H$2:H116&$A$2:A116,0))-V116,\"\")","v":-5.759999999999998}]
["2003-05-01",null,833,{"$f":"IF(ISNA(VLOOKUP(C117,BDDG!$A$2:$F$100,2,FALSE)),\"\",VLOOKUP(C117,BDDG!$A$2:$F$100,2,FALSE))","v":0},{"$f":"IF(ISNA(VLOOKUP(C117,BDDG!$A$3:$J$102,3,FALSE)),\"\",VLOOKUP(C117,BDDG!$A$3:$J$102,3,FALSE))","v":"A"},{"$f":"IF(ISNA(VLOOKUP(C117,BDDG!$A$3:$J$102,4,FALSE)),\"\",VLOOKUP(C117,BDDG!$A$3:$J$102,4,FALSE))","v":106},{"$f":"IF(ISNA(VLOOKUP(C117,BDDG!$A$2:$F$100,5,FALSE)),\"\",VLOOKUP(C117,BDDG!$A$2:$F$100,5,FALSE))","v":"A2"},{"$f":"IF(ISNA(VLOOKUP(C117,BDDG!$A$2:$F$100,6,FALSE)),\"\",VLOOKUP(C117,BDDG!$A$2:$F$100,6,FALSE))","v":"AA3"},{"$f":"IF(ISERROR(VLOOKUP(C117,BDDG!$A$2:$G$100,7,FALSE)),\"\",VLOOKUP(C117,BDDG!$A$2:$G$100,7,FALSE))","v":1},{"$f":"IF(ISERROR(VLOOKUP(C117,BDDG!$A$2:$H$100,8,FALSE)),\"\",VLOOKUP(C117,BDDG!$A$2:$H$100,8,FALSE))","v":"BB3"},17,60,24.48,{"$f":"IF(ISERROR(VLOOKUP(C117,BDDG!$A$2:$I$100,9,FALSE)),\"\",VLOOKUP(C117,BDDG!$A$2:$I$100,9,FALSE))","v":"CC3"},null,null,"",{"$f":"IF(ISERROR(VLOOKUP(C117,BDDG!$A$2:$J$100,10,FALSE)),\"\",VLOOKUP(C117,BDDG!$A$2:$J$100,10,FALSE))","v":"DD3"},null,null,"",24.48,5,2003,{"$f":"IFERROR(INDEX($V$2:V117,MATCH(H117&MAX(IF($H$1:H116=H117,$A$1:A116)),$H$2:H117&$A$2:A117,0))-V117,\"\")","v":-12.959999999999999}]
["2003-05-01",null,834,{"$f":"IF(ISNA(VLOOKUP(C118,BDDG!$A$2:$F$100,2,FALSE)),\"\",VLOOKUP(C118,BDDG!$A$2:$F$100,2,FALSE))","v":0},{"$f":"IF(ISNA(VLOOKUP(C118,BDDG!$A$3:$J$102,3,FALSE)),\"\",VLOOKUP(C118,BDDG!$A$3:$J$102,3,FALSE))","v":"A"},{"$f":"IF(ISNA(VLOOKUP(C118,BDDG!$A$3:$J$102,4,FALSE)),\"\",VLOOKUP(C118,BDDG!$A$3:$J$102,4,FALSE))","v":106},{"$f":"IF(ISNA(VLOOKUP(C118,BDDG!$A$2:$F$100,5,FALSE)),\"\",VLOOKUP(C118,BDDG!$A$2:$F$100,5,FALSE))","v":"A2"},{"$f":"IF(ISNA(VLOOKUP(C118,BDDG!$A$2:$F$100,6,FALSE)),\"\",VLOOKUP(C118,BDDG!$A$2:$F$100,6,FALSE))","v":"AA4"},{"$f":"IF(ISERROR(VLOOKUP(C118,BDDG!$A$2:$G$100,7,FALSE)),\"\",VLOOKUP(C118,BDDG!$A$2:$G$100,7,FALSE))","v":1},{"$f":"IF(ISERROR(VLOOKUP(C118,BDDG!$A$2:$H$100,8,FALSE)),\"\",VLOOKUP(C118,BDDG!$A$2:$H$100,8,FALSE))","v":"BB4"},11,60,15.84,{"$f":"IF(ISERROR(VLOOKUP(C118,BDDG!$A$2:$I$100,9,FALSE)),\"\",VLOOKUP(C118,BDDG!$A$2:$I$100,9,FALSE))","v":"CC4"},null,null,"",{"$f":"IF(ISERROR(VLOOKUP(C118,BDDG!$A$2:$J$100,10,FALSE)),\"\",VLOOKUP(C118,BDDG!$A$2:$J$100,10,FALSE))","v":"DD4"},null,null,"",15.84,5,2003,{"$f":"IFERROR(INDEX($V$2:V118,MATCH(H118&MAX(IF($H$1:H117=H118,$A$1:A117)),$H$2:H118&$A$2:A118,0))-V118,\"\")","v":-1.4399999999999995}]
["2003-05-01",null,861,{"$f":"IF(ISNA(VLOOKUP(C119,BDDG!$A$2:$F$100,2,FALSE)),\"\",VLOOKUP(C119,BDDG!$A$2:$F$100,2,FALSE))","v":0},{"$f":"IF(ISNA(VLOOKUP(C119,BDDG!$A$3:$J$102,3,FALSE)),\"\",VLOOKUP(C119,BDDG!$A$3:$J$102,3,FALSE))","v":"A"},{"$f":"IF(ISNA(VLOOKUP(C119,BDDG!$A$3:$J$102,4,FALSE)),\"\",VLOOKUP(C119,BDDG!$A$3:$J$102,4,FALSE))","v":106},{"$f":"IF(ISNA(VLOOKUP(C119,BDDG!$A$2:$F$100,5,FALSE)),\"\",VLOOKUP(C119,BDDG!$A$2:$F$100,5,FALSE))","v":"A11"},{"$f":"IF(ISNA(VLOOKUP(C119,BDDG!$A$2:$F$100,6,FALSE)),\"\",VLOOKUP(C119,BDDG!$A$2:$F$100,6,FALSE))","v":"AA33"},{"$f":"IF(ISERROR(VLOOKUP(C119,BDDG!$A$2:$G$100,7,FALSE)),\"\",VLOOKUP(C119,BDDG!$A$2:$G$100,7,FALSE))","v":2},{"$f":"IF(ISERROR(VLOOKUP(C119,BDDG!$A$2:$H$100,8,FALSE)),\"\",VLOOKUP(C119,BDDG!$A$2:$H$100,8,FALSE))","v":"BB33"},null,null,null,{"$f":"IF(ISERROR(VLOOKUP(C119,BDDG!$A$2:$I$100,9,FALSE)),\"\",VLOOKUP(C119,BDDG!$A$2:$I$100,9,FALSE))","v":"CC33"},10,6,144.00000000000003,{"$f":"IF(ISERROR(VLOOKUP(C119,BDDG!$A$2:$J$100,10,FALSE)),\"\",VLOOKUP(C119,BDDG!$A$2:$J$100,10,FALSE))","v":"DD33"},null,null,"",{"$f":"IF(ISERROR(SUM(M119,Q119,U119)),\"\",SUM((M119,Q119,U119)))","v":144.00000000000003},5,2003,{"$f":"IFERROR(INDEX($V$2:V119,MATCH(H119&MAX(IF($H$1:H118=H119,$A$1:A118)),$H$2:H119&$A$2:A119,0))-V119,\"\")","v":28.799999999999983}]
["2003-05-01",null,862,{"$f":"IF(ISNA(VLOOKUP(C120,BDDG!$A$2:$F$100,2,FALSE)),\"\",VLOOKUP(C120,BDDG!$A$2:$F$100,2,FALSE))","v":0},{"$f":"IF(ISNA(VLOOKUP(C120,BDDG!$A$3:$J$102,3,FALSE)),\"\",VLOOKUP(C120,BDDG!$A$3:$J$102,3,FALSE))","v":"A"},{"$f":"IF(ISNA(VLOOKUP(C120,BDDG!$A$3:$J$102,4,FALSE)),\"\",VLOOKUP(C120,BDDG!$A$3:$J$102,4,FALSE))","v":106},{"$f":"IF(ISNA(VLOOKUP(C120,BDDG!$A$2:$F$100,5,FALSE)),\"\",VLOOKUP(C120,BDDG!$A$2:$F$100,5,FALSE))","v":"A12"},{"$f":"IF(ISNA(VLOOKUP(C120,BDDG!$A$2:$F$100,6,FALSE)),\"\",VLOOKUP(C120,BDDG!$A$2:$F$100,6,FALSE))","v":"AA34"},{"$f":"IF(ISERROR(VLOOKUP(C120,BDDG!$A$2:$G$100,7,FALSE)),\"\",VLOOKUP(C120,BDDG!$A$2:$G$100,7,FALSE))","v":1},{"$f":"IF(ISERROR(VLOOKUP(C120,BDDG!$A$2:$H$100,8,FALSE)),\"\",VLOOKUP(C120,BDDG!$A$2:$H$100,8,FALSE))","v":"BB34"},36,60,{"$f":" IF(ISERROR(K120/L120*86.4),\"\",K120/L120*86.4)","v":51.84},{"$f":"IF(ISERROR(VLOOKUP(C120,BDDG!$A$2:$I$100,9,FALSE)),\"\",VLOOKUP(C120,BDDG!$A$2:$I$100,9,FALSE))","v":"CC34"},null,null,"",{"$f":"IF(ISERROR(VLOOKUP(C120,BDDG!$A$2:$J$100,10,FALSE)),\"\",VLOOKUP(C120,BDDG!$A$2:$J$100,10,FALSE))","v":"DD34"},null,null,"",{"$f":"IF(ISERROR(SUM(M120,Q120,U120)),\"\",SUM(M120,Q120,U120))","v":51.84},5,2003,{"$f":"IFERROR(INDEX($V$2:V120,MATCH(H120&MAX(IF($H$1:H119=H120,$A$1:A119)),$H$2:H120&$A$2:A120,0))-V120,\"\")","v":9.874285714285719}]
["2003-05-02",null,835,{"$f":"IF(ISNA(VLOOKUP(C121,BDDG!$A$2:$F$100,2,FALSE)),\"\",VLOOKUP(C121,BDDG!$A$2:$F$100,2,FALSE))","v":0},{"$f":"IF(ISNA(VLOOKUP(C121,BDDG!$A$3:$J$102,3,FALSE)),\"\",VLOOKUP(C121,BDDG!$A$3:$J$102,3,FALSE))","v":"A"},{"$f":"IF(ISNA(VLOOKUP(C121,BDDG!$A$3:$J$102,4,FALSE)),\"\",VLOOKUP(C121,BDDG!$A$3:$J$102,4,FALSE))","v":106},{"$f":"IF(ISNA(VLOOKUP(C121,BDDG!$A$2:$F$100,5,FALSE)),\"\",VLOOKUP(C121,BDDG!$A$2:$F$100,5,FALSE))","v":"A3"},{"$f":"IF(ISNA(VLOOKUP(C121,BDDG!$A$2:$F$100,6,FALSE)),\"\",VLOOKUP(C121,BDDG!$A$2:$F$100,6,FALSE))","v":"AA5"},{"$f":"IF(ISERROR(VLOOKUP(C121,BDDG!$A$2:$G$100,7,FALSE)),\"\",VLOOKUP(C121,BDDG!$A$2:$G$100,7,FALSE))","v":1},{"$f":"IF(ISERROR(VLOOKUP(C121,BDDG!$A$2:$H$100,8,FALSE)),\"\",VLOOKUP(C121,BDDG!$A$2:$H$100,8,FALSE))","v":"BB5"},0.05,1,4.32,{"$f":"IF(ISERROR(VLOOKUP(C121,BDDG!$A$2:$I$100,9,FALSE)),\"\",VLOOKUP(C121,BDDG!$A$2:$I$100,9,FALSE))","v":"CC5"},null,null,"",{"$f":"IF(ISERROR(VLOOKUP(C121,BDDG!$A$2:$J$100,10,FALSE)),\"\",VLOOKUP(C121,BDDG!$A$2:$J$100,10,FALSE))","v":"DD5"},null,null,"",4.32,5,2003,{"$f":"IFERROR(INDEX($V$2:V121,MATCH(H121&MAX(IF($H$1:H120=H121,$A$1:A120)),$H$2:H121&$A$2:A121,0))-V121,\"\")","v":2.88}]
["2003-05-20",null,856,{"$f":"IF(ISNA(VLOOKUP(C122,BDDG!$A$2:$F$100,2,FALSE)),\"\",VLOOKUP(C122,BDDG!$A$2:$F$100,2,FALSE))","v":0},{"$f":"IF(ISNA(VLOOKUP(C122,BDDG!$A$3:$J$102,3,FALSE)),\"\",VLOOKUP(C122,BDDG!$A$3:$J$102,3,FALSE))","v":"A"},{"$f":"IF(ISNA(VLOOKUP(C122,BDDG!$A$3:$J$102,4,FALSE)),\"\",VLOOKUP(C122,BDDG!$A$3:$J$102,4,FALSE))","v":106},{"$f":"IF(ISNA(VLOOKUP(C122,BDDG!$A$2:$F$100,5,FALSE)),\"\",VLOOKUP(C122,BDDG!$A$2:$F$100,5,FALSE))","v":"A9"},{"$f":"IF(ISNA(VLOOKUP(C122,BDDG!$A$2:$F$100,6,FALSE)),\"\",VLOOKUP(C122,BDDG!$A$2:$F$100,6,FALSE))","v":"AA27"},{"$f":"IF(ISERROR(VLOOKUP(C122,BDDG!$A$2:$G$100,7,FALSE)),\"\",VLOOKUP(C122,BDDG!$A$2:$G$100,7,FALSE))","v":2},{"$f":"IF(ISERROR(VLOOKUP(C122,BDDG!$A$2:$H$100,8,FALSE)),\"\",VLOOKUP(C122,BDDG!$A$2:$H$100,8,FALSE))","v":"BB27"},null,null,"",{"$f":"IF(ISERROR(VLOOKUP(C122,BDDG!$A$2:$I$100,9,FALSE)),\"\",VLOOKUP(C122,BDDG!$A$2:$I$100,9,FALSE))","v":"CC27"},10,5,172.8,{"$f":"IF(ISERROR(VLOOKUP(C122,BDDG!$A$2:$J$100,10,FALSE)),\"\",VLOOKUP(C122,BDDG!$A$2:$J$100,10,FALSE))","v":"DD27"},null,null,"",172.8,5,2003,{"$f":"IFERROR(INDEX($V$2:V122,MATCH(H122&MAX(IF($H$1:H121=H122,$A$1:A121)),$H$2:H122&$A$2:A122,0))-V122,\"\")","v":19.199999999999989}]
["2003-05-22",null,852,{"$f":"IF(ISNA(VLOOKUP(C123,BDDG!$A$2:$F$100,2,FALSE)),\"\",VLOOKUP(C123,BDDG!$A$2:$F$100,2,FALSE))","v":0},{"$f":"IF(ISNA(VLOOKUP(C123,BDDG!$A$3:$J$102,3,FALSE)),\"\",VLOOKUP(C123,BDDG!$A$3:$J$102,3,FALSE))","v":"A"},{"$f":"IF(ISNA(VLOOKUP(C123,BDDG!$A$3:$J$102,4,FALSE)),\"\",VLOOKUP(C123,BDDG!$A$3:$J$102,4,FALSE))","v":106},{"$f":"IF(ISNA(VLOOKUP(C123,BDDG!$A$2:$F$100,5,FALSE)),\"\",VLOOKUP(C123,BDDG!$A$2:$F$100,5,FALSE))","v":"A9"},{"$f":"IF(ISNA(VLOOKUP(C123,BDDG!$A$2:$F$100,6,FALSE)),\"\",VLOOKUP(C123,BDDG!$A$2:$F$100,6,FALSE))","v":"AA22"},{"$f":"IF(ISERROR(VLOOKUP(C123,BDDG!$A$2:$G$100,7,FALSE)),\"\",VLOOKUP(C123,BDDG!$A$2:$G$100,7,FALSE))","v":1},{"$f":"IF(ISERROR(VLOOKUP(C123,BDDG!$A$2:$H$100,8,FALSE)),\"\",VLOOKUP(C123,BDDG!$A$2:$H$100,8,FALSE))","v":"BB22"},7.5,60,10.8,{"$f":"IF(ISERROR(VLOOKUP(C123,BDDG!$A$2:$I$100,9,FALSE)),\"\",VLOOKUP(C123,BDDG!$A$2:$I$100,9,FALSE))","v":"CC22"},null,null,"",{"$f":"IF(ISERROR(VLOOKUP(C123,BDDG!$A$2:$J$100,10,FALSE)),\"\",VLOOKUP(C123,BDDG!$A$2:$J$100,10,FALSE))","v":"DD22"},null,null,"",10.8,5,2003,{"$f":"IFERROR(INDEX($V$2:V123,MATCH(H123&MAX(IF($H$1:H122=H123,$A$1:A122)),$H$2:H123&$A$2:A123,0))-V123,\"\")","v":""}]
["2003-06-01",null,822,{"$f":"IF(ISNA(VLOOKUP(C124,BDDG!$A$2:$F$100,2,FALSE)),\"\",VLOOKUP(C124,BDDG!$A$2:$F$100,2,FALSE))","v":0},{"$f":"IF(ISNA(VLOOKUP(C124,BDDG!$A$3:$J$102,3,FALSE)),\"\",VLOOKUP(C124,BDDG!$A$3:$J$102,3,FALSE))","v":"A"},{"$f":"IF(ISNA(VLOOKUP(C124,BDDG!$A$3:$J$102,4,FALSE)),\"\",VLOOKUP(C124,BDDG!$A$3:$J$102,4,FALSE))","v":106},{"$f":"IF(ISNA(VLOOKUP(C124,BDDG!$A$2:$F$100,5,FALSE)),\"\",VLOOKUP(C124,BDDG!$A$2:$F$100,5,FALSE))","v":"A4"},{"$f":"IF(ISNA(VLOOKUP(C124,BDDG!$A$2:$F$100,6,FALSE)),\"\",VLOOKUP(C124,BDDG!$A$2:$F$100,6,FALSE))","v":"AA12"},{"$f":"IF(ISERROR(VLOOKUP(C124,BDDG!$A$2:$G$100,7,FALSE)),\"\",VLOOKUP(C124,BDDG!$A$2:$G$100,7,FALSE))","v":1},{"$f":"IF(ISERROR(VLOOKUP(C124,BDDG!$A$2:$H$100,8,FALSE)),\"\",VLOOKUP(C124,BDDG!$A$2:$H$100,8,FALSE))","v":"BB12"},10,12,72.000000000000014,{"$f":"IF(ISERROR(VLOOKUP(C124,BDDG!$A$2:$I$100,9,FALSE)),\"\",VLOOKUP(C124,BDDG!$A$2:$I$100,9,FALSE))","v":"CC12"},null,null,"",{"$f":"IF(ISERROR(VLOOKUP(C124,BDDG!$A$2:$J$100,10,FALSE)),\"\",VLOOKUP(C124,BDDG!$A$2:$J$100,10,FALSE))","v":"DD12"},null,null,"",72.000000000000014,6,2003,{"$f":"IFERROR(INDEX($V$2:V124,MATCH(H124&MAX(IF($H$1:H123=H124,$A$1:A123)),$H$2:H124&$A$2:A124,0))-V124,\"\")","v":-0.28800000000001091}]
["2003-06-02",null,833,{"$f":"IF(ISNA(VLOOKUP(C125,BDDG!$A$2:$F$100,2,FALSE)),\"\",VLOOKUP(C125,BDDG!$A$2:$F$100,2,FALSE))","v":0},{"$f":"IF(ISNA(VLOOKUP(C125,BDDG!$A$3:$J$102,3,FALSE)),\"\",VLOOKUP(C125,BDDG!$A$3:$J$102,3,FALSE))","v":"A"},{"$f":"IF(ISNA(VLOOKUP(C125,BDDG!$A$3:$J$102,4,FALSE)),\"\",VLOOKUP(C125,BDDG!$A$3:$J$102,4,FALSE))","v":106},{"$f":"IF(ISNA(VLOOKUP(C125,BDDG!$A$2:$F$100,5,FALSE)),\"\",VLOOKUP(C125,BDDG!$A$2:$F$100,5,FALSE))","v":"A2"},{"$f":"IF(ISNA(VLOOKUP(C125,BDDG!$A$2:$F$100,6,FALSE)),\"\",VLOOKUP(C125,BDDG!$A$2:$F$100,6,FALSE))","v":"AA3"},{"$f":"IF(ISERROR(VLOOKUP(C125,BDDG!$A$2:$G$100,7,FALSE)),\"\",VLOOKUP(C125,BDDG!$A$2:$G$100,7,FALSE))","v":1},{"$f":"IF(ISERROR(VLOOKUP(C125,BDDG!$A$2:$H$100,8,FALSE)),\"\",VLOOKUP(C125,BDDG!$A$2:$H$100,8,FALSE))","v":"BB3"},10,9,96.000000000000014,{"$f":"IF(ISERROR(VLOOKUP(C125,BDDG!$A$2:$I$100,9,FALSE)),\"\",VLOOKUP(C125,BDDG!$A$2:$I$100,9,FALSE))","v":"CC3"},null,null,"",{"$f":"IF(ISERROR(VLOOKUP(C125,BDDG!$A$2:$J$100,10,FALSE)),\"\",VLOOKUP(C125,BDDG!$A$2:$J$100,10,FALSE))","v":"DD3"},null,null,"",96.000000000000014,6,2003,{"$f":"IFERROR(INDEX($V$2:V125,MATCH(H125&MAX(IF($H$1:H124=H125,$A$1:A124)),$H$2:H125&$A$2:A125,0))-V125,\"\")","v":-71.52000000000001}]
["2003-06-27",null,838,{"$f":"IF(ISNA(VLOOKUP(C126,BDDG!$A$2:$F$100,2,FALSE)),\"\",VLOOKUP(C126,BDDG!$A$2:$F$100,2,FALSE))","v":0},{"$f":"IF(ISNA(VLOOKUP(C126,BDDG!$A$3:$J$102,3,FALSE)),\"\",VLOOKUP(C126,BDDG!$A$3:$J$102,3,FALSE))","v":"A"},{"$f":"IF(ISNA(VLOOKUP(C126,BDDG!$A$3:$J$102,4,FALSE)),\"\",VLOOKUP(C126,BDDG!$A$3:$J$102,4,FALSE))","v":106},{"$f":"IF(ISNA(VLOOKUP(C126,BDDG!$A$2:$F$100,5,FALSE)),\"\",VLOOKUP(C126,BDDG!$A$2:$F$100,5,FALSE))","v":"A3"},{"$f":"IF(ISNA(VLOOKUP(C126,BDDG!$A$2:$F$100,6,FALSE)),\"\",VLOOKUP(C126,BDDG!$A$2:$F$100,6,FALSE))","v":"AA8"},{"$f":"IF(ISERROR(VLOOKUP(C126,BDDG!$A$2:$G$100,7,FALSE)),\"\",VLOOKUP(C126,BDDG!$A$2:$G$100,7,FALSE))","v":1},{"$f":"IF(ISERROR(VLOOKUP(C126,BDDG!$A$2:$H$100,8,FALSE)),\"\",VLOOKUP(C126,BDDG!$A$2:$H$100,8,FALSE))","v":"BB8"},10,12,72.000000000000014,{"$f":"IF(ISERROR(VLOOKUP(C126,BDDG!$A$2:$I$100,9,FALSE)),\"\",VLOOKUP(C126,BDDG!$A$2:$I$100,9,FALSE))","v":"CC8"},null,null,"",{"$f":"IF(ISERROR(VLOOKUP(C126,BDDG!$A$2:$J$100,10,FALSE)),\"\",VLOOKUP(C126,BDDG!$A$2:$J$100,10,FALSE))","v":"DD8"},null,null,"",72.000000000000014,6,2003,{"$f":"IFERROR(INDEX($V$2:V126,MATCH(H126&MAX(IF($H$1:H125=H126,$A$1:A125)),$H$2:H126&$A$2:A126,0))-V126,\"\")","v":-64.080000000000013}]
["2003-06-27",null,837,{"$f":"IF(ISNA(VLOOKUP(C127,BDDG!$A$2:$F$100,2,FALSE)),\"\",VLOOKUP(C127,BDDG!$A$2:$F$100,2,FALSE))","v":0},{"$f":"IF(ISNA(VLOOKUP(C127,BDDG!$A$3:$J$102,3,FALSE)),\"\",VLOOKUP(C127,BDDG!$A$3:$J$102,3,FALSE))","v":"A"},{"$f":"IF(ISNA(VLOOKUP(C127,BDDG!$A$3:$J$102,4,FALSE)),\"\",VLOOKUP(C127,BDDG!$A$3:$J$102,4,FALSE))","v":106},{"$f":"IF(ISNA(VLOOKUP(C127,BDDG!$A$2:$F$100,5,FALSE)),\"\",VLOOKUP(C127,BDDG!$A$2:$F$100,5,FALSE))","v":"A3"},{"$f":"IF(ISNA(VLOOKUP(C127,BDDG!$A$2:$F$100,6,FALSE)),\"\",VLOOKUP(C127,BDDG!$A$2:$F$100,6,FALSE))","v":"AA7"},{"$f":"IF(ISERROR(VLOOKUP(C127,BDDG!$A$2:$G$100,7,FALSE)),\"\",VLOOKUP(C127,BDDG!$A$2:$G$100,7,FALSE))","v":1},{"$f":"IF(ISERROR(VLOOKUP(C127,BDDG!$A$2:$H$100,8,FALSE)),\"\",VLOOKUP(C127,BDDG!$A$2:$H$100,8,FALSE))","v":"BB7"},3,15,17.28,{"$f":"IF(ISERROR(VLOOKUP(C127,BDDG!$A$2:$I$100,9,FALSE)),\"\",VLOOKUP(C127,BDDG!$A$2:$I$100,9,FALSE))","v":"CC7"},null,null,"",{"$f":"IF(ISERROR(VLOOKUP(C127,BDDG!$A$2:$J$100,10,FALSE)),\"\",VLOOKUP(C127,BDDG!$A$2:$J$100,10,FALSE))","v":"DD7"},null,null,"",17.28,6,2003,{"$f":"IFERROR(INDEX($V$2:V127,MATCH(H127&MAX(IF($H$1:H126=H127,$A$1:A126)),$H$2:H127&$A$2:A127,0))-V127,\"\")","v":11.52}]
["2003-06-27",null,836,{"$f":"IF(ISNA(VLOOKUP(C128,BDDG!$A$2:$F$100,2,FALSE)),\"\",VLOOKUP(C128,BDDG!$A$2:$F$100,2,FALSE))","v":0},{"$f":"IF(ISNA(VLOOKUP(C128,BDDG!$A$3:$J$102,3,FALSE)),\"\",VLOOKUP(C128,BDDG!$A$3:$J$102,3,FALSE))","v":"A"},{"$f":"IF(ISNA(VLOOKUP(C128,BDDG!$A$3:$J$102,4,FALSE)),\"\",VLOOKUP(C128,BDDG!$A$3:$J$102,4,FALSE))","v":106},{"$f":"IF(ISNA(VLOOKUP(C128,BDDG!$A$2:$F$100,5,FALSE)),\"\",VLOOKUP(C128,BDDG!$A$2:$F$100,5,FALSE))","v":"A3"},{"$f":"IF(ISNA(VLOOKUP(C128,BDDG!$A$2:$F$100,6,FALSE)),\"\",VLOOKUP(C128,BDDG!$A$2:$F$100,6,FALSE))","v":"AA6"},{"$f":"IF(ISERROR(VLOOKUP(C128,BDDG!$A$2:$G$100,7,FALSE)),\"\",VLOOKUP(C128,BDDG!$A$2:$G$100,7,FALSE))","v":1},{"$f":"IF(ISERROR(VLOOKUP(C128,BDDG!$A$2:$H$100,8,FALSE)),\"\",VLOOKUP(C128,BDDG!$A$2:$H$100,8,FALSE))","v":"BB6"},4,5,69.12,{"$f":"IF(ISERROR(VLOOKUP(C128,BDDG!$A$2:$I$100,9,FALSE)),\"\",VLOOKUP(C128,BDDG!$A$2:$I$100,9,FALSE))","v":"CC6"},null,null,"",{"$f":"IF(ISERROR(VLOOKUP(C128,BDDG!$A$2:$J$100,10,FALSE)),\"\",VLOOKUP(C128,BDDG!$A$2:$J$100,10,FALSE))","v":"DD6"},null,null,"",69.12,6,2003,{"$f":"IFERROR(INDEX($V$2:V128,MATCH(H128&MAX(IF($H$1:H127=H128,$A$1:A127)),$H$2:H128&$A$2:A128,0))-V128,\"\")","v":-38.88000000000001}]
["2003-06-27",null,842,{"$f":"IF(ISNA(VLOOKUP(C129,BDDG!$A$2:$F$100,2,FALSE)),\"\",VLOOKUP(C129,BDDG!$A$2:$F$100,2,FALSE))","v":0},{"$f":"IF(ISNA(VLOOKUP(C129,BDDG!$A$3:$J$102,3,FALSE)),\"\",VLOOKUP(C129,BDDG!$A$3:$J$102,3,FALSE))","v":"B"},{"$f":"IF(ISNA(VLOOKUP(C129,BDDG!$A$3:$J$102,4,FALSE)),\"\",VLOOKUP(C129,BDDG!$A$3:$J$102,4,FALSE))","v":106},{"$f":"IF(ISNA(VLOOKUP(C129,BDDG!$A$2:$F$100,5,FALSE)),\"\",VLOOKUP(C129,BDDG!$A$2:$F$100,5,FALSE))","v":"A5"},{"$f":"IF(ISNA(VLOOKUP(C129,BDDG!$A$2:$F$100,6,FALSE)),\"\",VLOOKUP(C129,BDDG!$A$2:$F$100,6,FALSE))","v":"AA13"},{"$f":"IF(ISERROR(VLOOKUP(C129,BDDG!$A$2:$G$100,7,FALSE)),\"\",VLOOKUP(C129,BDDG!$A$2:$G$100,7,FALSE))","v":1},{"$f":"IF(ISERROR(VLOOKUP(C129,BDDG!$A$2:$H$100,8,FALSE)),\"\",VLOOKUP(C129,BDDG!$A$2:$H$100,8,FALSE))","v":"BB13"},10,65,13.292307692307693,{"$f":"IF(ISERROR(VLOOKUP(C129,BDDG!$A$2:$I$100,9,FALSE)),\"\",VLOOKUP(C129,BDDG!$A$2:$I$100,9,FALSE))","v":"CC13"},null,null,"",{"$f":"IF(ISERROR(VLOOKUP(C129,BDDG!$A$2:$J$100,10,FALSE)),\"\",VLOOKUP(C129,BDDG!$A$2:$J$100,10,FALSE))","v":"DD13"},null,null,"",13.292307692307693,6,2003,{"$f":"IFERROR(INDEX($V$2:V129,MATCH(H129&MAX(IF($H$1:H128=H129,$A$1:A128)),$H$2:H129&$A$2:A129,0))-V129,\"\")","v":0}]
["2003-06-27",null,848,{"$f":"IF(ISNA(VLOOKUP(C130,BDDG!$A$2:$F$100,2,FALSE)),\"\",VLOOKUP(C130,BDDG!$A$2:$F$100,2,FALSE))","v":0},{"$f":"IF(ISNA(VLOOKUP(C130,BDDG!$A$3:$J$102,3,FALSE)),\"\",VLOOKUP(C130,BDDG!$A$3:$J$102,3,FALSE))","v":"B"},{"$f":"IF(ISNA(VLOOKUP(C130,BDDG!$A$3:$J$102,4,FALSE)),\"\",VLOOKUP(C130,BDDG!$A$3:$J$102,4,FALSE))","v":106},{"$f":"IF(ISNA(VLOOKUP(C130,BDDG!$A$2:$F$100,5,FALSE)),\"\",VLOOKUP(C130,BDDG!$A$2:$F$100,5,FALSE))","v":"A7"},{"$f":"IF(ISNA(VLOOKUP(C130,BDDG!$A$2:$F$100,6,FALSE)),\"\",VLOOKUP(C130,BDDG!$A$2:$F$100,6,FALSE))","v":"AA19"},{"$f":"IF(ISERROR(VLOOKUP(C130,BDDG!$A$2:$G$100,7,FALSE)),\"\",VLOOKUP(C130,BDDG!$A$2:$G$100,7,FALSE))","v":2},{"$f":"IF(ISERROR(VLOOKUP(C130,BDDG!$A$2:$H$100,8,FALSE)),\"\",VLOOKUP(C130,BDDG!$A$2:$H$100,8,FALSE))","v":"BB19"},10,80,10.8,{"$f":"IF(ISERROR(VLOOKUP(C130,BDDG!$A$2:$I$100,9,FALSE)),\"\",VLOOKUP(C130,BDDG!$A$2:$I$100,9,FALSE))","v":"CC19"},null,null,"",{"$f":"IF(ISERROR(VLOOKUP(C130,BDDG!$A$2:$J$100,10,FALSE)),\"\",VLOOKUP(C130,BDDG!$A$2:$J$100,10,FALSE))","v":"DD19"},null,null,"",10.8,{"$f":"MONTH(A:A)","v":6},{"$f":"YEAR(A:A)","v":2003},{"$f":"IFERROR(INDEX($V$2:V130,MATCH(H130&MAX(IF($H$1:H129=H130,$A$1:A129)),$H$2:H130&$A$2:A130,0))-V130,\"\")","v":46.8}]
["2003-06-27",null,850,{"$f":"IF(ISNA(VLOOKUP(C131,BDDG!$A$2:$F$100,2,FALSE)),\"\",VLOOKUP(C131,BDDG!$A$2:$F$100,2,FALSE))","v":0},{"$f":"IF(ISNA(VLOOKUP(C131,BDDG!$A$3:$J$102,3,FALSE)),\"\",VLOOKUP(C131,BDDG!$A$3:$J$102,3,FALSE))","v":"B"},{"$f":"IF(ISNA(VLOOKUP(C131,BDDG!$A$3:$J$102,4,FALSE)),\"\",VLOOKUP(C131,BDDG!$A$3:$J$102,4,FALSE))","v":106},{"$f":"IF(ISNA(VLOOKUP(C131,BDDG!$A$2:$F$100,5,FALSE)),\"\",VLOOKUP(C131,BDDG!$A$2:$F$100,5,FALSE))","v":"A8"},{"$f":"IF(ISNA(VLOOKUP(C131,BDDG!$A$2:$F$100,6,FALSE)),\"\",VLOOKUP(C131,BDDG!$A$2:$F$100,6,FALSE))","v":"AA20"},{"$f":"IF(ISERROR(VLOOKUP(C131,BDDG!$A$2:$G$100,7,FALSE)),\"\",VLOOKUP(C131,BDDG!$A$2:$G$100,7,FALSE))","v":1},{"$f":"IF(ISERROR(VLOOKUP(C131,BDDG!$A$2:$H$100,8,FALSE)),\"\",VLOOKUP(C131,BDDG!$A$2:$H$100,8,FALSE))","v":"BB20"},10,35,24.685714285714287,{"$f":"IF(ISERROR(VLOOKUP(C131,BDDG!$A$2:$I$100,9,FALSE)),\"\",VLOOKUP(C131,BDDG!$A$2:$I$100,9,FALSE))","v":"CC20"},null,null,"",{"$f":"IF(ISERROR(VLOOKUP(C131,BDDG!$A$2:$J$100,10,FALSE)),\"\",VLOOKUP(C131,BDDG!$A$2:$J$100,10,FALSE))","v":"DD20"},null,null,"",24.685714285714287,6,2003,{"$f":"IFERROR(INDEX($V$2:V131,MATCH(H131&MAX(IF($H$1:H130=H131,$A$1:A130)),$H$2:H131&$A$2:A131,0))-V131,\"\")","v":20.571428571428573}]
["2003-06-27",null,847,{"$f":"IF(ISNA(VLOOKUP(C132,BDDG!$A$2:$F$100,2,FALSE)),\"\",VLOOKUP(C132,BDDG!$A$2:$F$100,2,FALSE))","v":0},{"$f":"IF(ISNA(VLOOKUP(C132,BDDG!$A$3:$J$102,3,FALSE)),\"\",VLOOKUP(C132,BDDG!$A$3:$J$102,3,FALSE))","v":"B"},{"$f":"IF(ISNA(VLOOKUP(C132,BDDG!$A$3:$J$102,4,FALSE)),\"\",VLOOKUP(C132,BDDG!$A$3:$J$102,4,FALSE))","v":106},{"$f":"IF(ISNA(VLOOKUP(C132,BDDG!$A$2:$F$100,5,FALSE)),\"\",VLOOKUP(C132,BDDG!$A$2:$F$100,5,FALSE))","v":"A7"},{"$f":"IF(ISNA(VLOOKUP(C132,BDDG!$A$2:$F$100,6,FALSE)),\"\",VLOOKUP(C132,BDDG!$A$2:$F$100,6,FALSE))","v":"AA18"},{"$f":"IF(ISERROR(VLOOKUP(C132,BDDG!$A$2:$G$100,7,FALSE)),\"\",VLOOKUP(C132,BDDG!$A$2:$G$100,7,FALSE))","v":2},{"$f":"IF(ISERROR(VLOOKUP(C132,BDDG!$A$2:$H$100,8,FALSE)),\"\",VLOOKUP(C132,BDDG!$A$2:$H$100,8,FALSE))","v":"BB18"},10,80,10.8,{"$f":"IF(ISERROR(VLOOKUP(C132,BDDG!$A$2:$I$100,9,FALSE)),\"\",VLOOKUP(C132,BDDG!$A$2:$I$100,9,FALSE))","v":"CC18"},2,60,2.8800000000000003,{"$f":"IF(ISERROR(VLOOKUP(C132,BDDG!$A$2:$J$100,10,FALSE)),\"\",VLOOKUP(C132,BDDG!$A$2:$J$100,10,FALSE))","v":"DD18"},null,null,"",13.680000000000001,6,2003,{"$f":"IFERROR(INDEX($V$2:V132,MATCH(H132&MAX(IF($H$1:H131=H132,$A$1:A131)),$H$2:H132&$A$2:A132,0))-V132,\"\")","v":58.32}]
["2003-06-27",null,844,{"$f":"IF(ISNA(VLOOKUP(C133,BDDG!$A$2:$F$100,2,FALSE)),\"\",VLOOKUP(C133,BDDG!$A$2:$F$100,2,FALSE))","v":0},{"$f":"IF(ISNA(VLOOKUP(C133,BDDG!$A$3:$J$102,3,FALSE)),\"\",VLOOKUP(C133,BDDG!$A$3:$J$102,3,FALSE))","v":"B"},{"$f":"IF(ISNA(VLOOKUP(C133,BDDG!$A$3:$J$102,4,FALSE)),\"\",VLOOKUP(C133,BDDG!$A$3:$J$102,4,FALSE))","v":106},{"$f":"IF(ISNA(VLOOKUP(C133,BDDG!$A$2:$F$100,5,FALSE)),\"\",VLOOKUP(C133,BDDG!$A$2:$F$100,5,FALSE))","v":"A6"},{"$f":"IF(ISNA(VLOOKUP(C133,BDDG!$A$2:$F$100,6,FALSE)),\"\",VLOOKUP(C133,BDDG!$A$2:$F$100,6,FALSE))","v":"AA14"},{"$f":"IF(ISERROR(VLOOKUP(C133,BDDG!$A$2:$G$100,7,FALSE)),\"\",VLOOKUP(C133,BDDG!$A$2:$G$100,7,FALSE))","v":2},{"$f":"IF(ISERROR(VLOOKUP(C133,BDDG!$A$2:$H$100,8,FALSE)),\"\",VLOOKUP(C133,BDDG!$A$2:$H$100,8,FALSE))","v":"BB14"},10,9,96.000000000000014,{"$f":"IF(ISERROR(VLOOKUP(C133,BDDG!$A$2:$I$100,9,FALSE)),\"\",VLOOKUP(C133,BDDG!$A$2:$I$100,9,FALSE))","v":"CC14"},null,null,"",{"$f":"IF(ISERROR(VLOOKUP(C133,BDDG!$A$2:$J$100,10,FALSE)),\"\",VLOOKUP(C133,BDDG!$A$2:$J$100,10,FALSE))","v":"DD14"},null,null,"",96.000000000000014,6,2003,{"$f":"IFERROR(INDEX($V$2:V133,MATCH(H133&MAX(IF($H$1:H132=H133,$A$1:A132)),$H$2:H133&$A$2:A133,0))-V133,\"\")","v":-9.6000000000000085}]
["2003-06-27",null,849,{"$f":"IF(ISNA(VLOOKUP(C134,BDDG!$A$2:$F$100,2,FALSE)),\"\",VLOOKUP(C134,BDDG!$A$2:$F$100,2,FALSE))","v":0},{"$f":"IF(ISNA(VLOOKUP(C134,BDDG!$A$3:$J$102,3,FALSE)),\"\",VLOOKUP(C134,BDDG!$A$3:$J$102,3,FALSE))","v":"B"},{"$f":"IF(ISNA(VLOOKUP(C134,BDDG!$A$3:$J$102,4,FALSE)),\"\",VLOOKUP(C134,BDDG!$A$3:$J$102,4,FALSE))","v":106},{"$f":"IF(ISNA(VLOOKUP(C134,BDDG!$A$2:$F$100,5,FALSE)),\"\",VLOOKUP(C134,BDDG!$A$2:$F$100,5,FALSE))","v":"A7"},{"$f":"IF(ISNA(VLOOKUP(C134,BDDG!$A$2:$F$100,6,FALSE)),\"\",VLOOKUP(C134,BDDG!$A$2:$F$100,6,FALSE))","v":"AA15"},{"$f":"IF(ISERROR(VLOOKUP(C134,BDDG!$A$2:$G$100,7,FALSE)),\"\",VLOOKUP(C134,BDDG!$A$2:$G$100,7,FALSE))","v":2},{"$f":"IF(ISERROR(VLOOKUP(C134,BDDG!$A$2:$H$100,8,FALSE)),\"\",VLOOKUP(C134,BDDG!$A$2:$H$100,8,FALSE))","v":"BB15"},10,65,13.292307692307693,{"$f":"IF(ISERROR(VLOOKUP(C134,BDDG!$A$2:$I$100,9,FALSE)),\"\",VLOOKUP(C134,BDDG!$A$2:$I$100,9,FALSE))","v":"CC15"},null,null,"",{"$f":"IF(ISERROR(VLOOKUP(C134,BDDG!$A$2:$J$100,10,FALSE)),\"\",VLOOKUP(C134,BDDG!$A$2:$J$100,10,FALSE))","v":"DD15"},null,null,"",13.292307692307693,6,2003,{"$f":"IFERROR(INDEX($V$2:V134,MATCH(H134&MAX(IF($H$1:H133=H134,$A$1:A133)),$H$2:H134&$A$2:A134,0))-V134,\"\")","v":0}]
["2003-06-27",null,839,{"$f":"IF(ISNA(VLOOKUP(C135,BDDG!$A$2:$F$100,2,FALSE)),\"\",VLOOKUP(C135,BDDG!$A$2:$F$100,2,FALSE))","v":0},{"$f":"IF(ISNA(VLOOKUP(C135,BDDG!$A$3:$J$102,3,FALSE)),\"\",VLOOKUP(C135,BDDG!$A$3:$J$102,3,FALSE))","v":"A"},{"$f":"IF(ISNA(VLOOKUP(C135,BDDG!$A$3:$J$102,4,FALSE)),\"\",VLOOKUP(C135,BDDG!$A$3:$J$102,4,FALSE))","v":106},{"$f":"IF(ISNA(VLOOKUP(C135,BDDG!$A$2:$F$100,5,FALSE)),\"\",VLOOKUP(C135,BDDG!$A$2:$F$100,5,FALSE))","v":"A3"},{"$f":"IF(ISNA(VLOOKUP(C135,BDDG!$A$2:$F$100,6,FALSE)),\"\",VLOOKUP(C135,BDDG!$A$2:$F$100,6,FALSE))","v":"AA10"},{"$f":"IF(ISERROR(VLOOKUP(C135,BDDG!$A$2:$G$100,7,FALSE)),\"\",VLOOKUP(C135,BDDG!$A$2:$G$100,7,FALSE))","v":2},{"$f":"IF(ISERROR(VLOOKUP(C135,BDDG!$A$2:$H$100,8,FALSE)),\"\",VLOOKUP(C135,BDDG!$A$2:$H$100,8,FALSE))","v":"BB10"},null,null,86.4,{"$f":"IF(ISERROR(VLOOKUP(C135,BDDG!$A$2:$I$100,9,FALSE)),\"\",VLOOKUP(C135,BDDG!$A$2:$I$100,9,FALSE))","v":"CC10"},null,null,"",{"$f":"IF(ISERROR(VLOOKUP(C135,BDDG!$A$2:$J$100,10,FALSE)),\"\",VLOOKUP(C135,BDDG!$A$2:$J$100,10,FALSE))","v":"DD10"},null,null,"",86.4,6,2003,{"$f":"IFERROR(INDEX($V$2:V135,MATCH(H135&MAX(IF($H$1:H134=H135,$A$1:A134)),$H$2:H135&$A$2:A135,0))-V135,\"\")","v":-48.960000000000008}]
["2003-08-09",null,815,{"$f":"IF(ISNA(VLOOKUP(C136,BDDG!$A$2:$F$100,2,FALSE)),\"\",VLOOKUP(C136,BDDG!$A$2:$F$100,2,FALSE))","v":0},{"$f":"IF(ISNA(VLOOKUP(C136,BDDG!$A$3:$J$102,3,FALSE)),\"\",VLOOKUP(C136,BDDG!$A$3:$J$102,3,FALSE))","v":"A"},{"$f":"IF(ISNA(VLOOKUP(C136,BDDG!$A$3:$J$102,4,FALSE)),\"\",VLOOKUP(C136,BDDG!$A$3:$J$102,4,FALSE))","v":106},{"$f":"IF(ISNA(VLOOKUP(C136,BDDG!$A$2:$F$100,5,FALSE)),\"\",VLOOKUP(C136,BDDG!$A$2:$F$100,5,FALSE))","v":"A10"},{"$f":"IF(ISNA(VLOOKUP(C136,BDDG!$A$2:$F$100,6,FALSE)),\"\",VLOOKUP(C136,BDDG!$A$2:$F$100,6,FALSE))","v":"AA31"},{"$f":"IF(ISERROR(VLOOKUP(C136,BDDG!$A$2:$G$100,7,FALSE)),\"\",VLOOKUP(C136,BDDG!$A$2:$G$100,7,FALSE))","v":1},{"$f":"IF(ISERROR(VLOOKUP(C136,BDDG!$A$2:$H$100,8,FALSE)),\"\",VLOOKUP(C136,BDDG!$A$2:$H$100,8,FALSE))","v":"BB31"},105,190,{"$f":" IF(ISERROR(K136/L136*86.4),\"\",K136/L136*86.4)","v":47.747368421052641},{"$f":"IF(ISERROR(VLOOKUP(C136,BDDG!$A$2:$I$100,9,FALSE)),\"\",VLOOKUP(C136,BDDG!$A$2:$I$100,9,FALSE))","v":"CC31"},null,null,"",{"$f":"IF(ISERROR(VLOOKUP(C136,BDDG!$A$2:$J$100,10,FALSE)),\"\",VLOOKUP(C136,BDDG!$A$2:$J$100,10,FALSE))","v":"DD31"},null,null,"",47.747368421052641,8,2003,{"$f":"IFERROR(INDEX($V$2:V136,MATCH(H136&MAX(IF($H$1:H135=H136,$A$1:A135)),$H$2:H136&$A$2:A136,0))-V136,\"\")","v":-41.425417201540448}]
["2003-09-18",null,856,{"$f":"IF(ISNA(VLOOKUP(C137,BDDG!$A$2:$F$100,2,FALSE)),\"\",VLOOKUP(C137,BDDG!$A$2:$F$100,2,FALSE))","v":0},{"$f":"IF(ISNA(VLOOKUP(C137,BDDG!$A$3:$J$102,3,FALSE)),\"\",VLOOKUP(C137,BDDG!$A$3:$J$102,3,FALSE))","v":"A"},{"$f":"IF(ISNA(VLOOKUP(C137,BDDG!$A$3:$J$102,4,FALSE)),\"\",VLOOKUP(C137,BDDG!$A$3:$J$102,4,FALSE))","v":106},{"$f":"IF(ISNA(VLOOKUP(C137,BDDG!$A$2:$F$100,5,FALSE)),\"\",VLOOKUP(C137,BDDG!$A$2:$F$100,5,FALSE))","v":"A9"},{"$f":"IF(ISNA(VLOOKUP(C137,BDDG!$A$2:$F$100,6,FALSE)),\"\",VLOOKUP(C137,BDDG!$A$2:$F$100,6,FALSE))","v":"AA27"},{"$f":"IF(ISERROR(VLOOKUP(C137,BDDG!$A$2:$G$100,7,FALSE)),\"\",VLOOKUP(C137,BDDG!$A$2:$G$100,7,FALSE))","v":2},{"$f":"IF(ISERROR(VLOOKUP(C137,BDDG!$A$2:$H$100,8,FALSE)),\"\",VLOOKUP(C137,BDDG!$A$2:$H$100,8,FALSE))","v":"BB27"},10,115,7.5130434782608697,{"$f":"IF(ISERROR(VLOOKUP(C137,BDDG!$A$2:$I$100,9,FALSE)),\"\",VLOOKUP(C137,BDDG!$A$2:$I$100,9,FALSE))","v":"CC27"},10,10,{"$f":" IF(ISERROR(O137/P137*86.4),\"\",O137/P137*86.4)","v":86.4},{"$f":"IF(ISERROR(VLOOKUP(C137,BDDG!$A$2:$J$100,10,FALSE)),\"\",VLOOKUP(C137,BDDG!$A$2:$J$100,10,FALSE))","v":"DD27"},null,null,"",93.913043478260875,9,2003,{"$f":"IFERROR(INDEX($V$2:V137,MATCH(H137&MAX(IF($H$1:H136=H137,$A$1:A136)),$H$2:H137&$A$2:A137,0))-V137,\"\")","v":78.886956521739137}]
["2003-09-18",null,815,{"$f":"IF(ISNA(VLOOKUP(C138,BDDG!$A$2:$F$100,2,FALSE)),\"\",VLOOKUP(C138,BDDG!$A$2:$F$100,2,FALSE))","v":0},{"$f":"IF(ISNA(VLOOKUP(C138,BDDG!$A$3:$J$102,3,FALSE)),\"\",VLOOKUP(C138,BDDG!$A$3:$J$102,3,FALSE))","v":"A"},{"$f":"IF(ISNA(VLOOKUP(C138,BDDG!$A$3:$J$102,4,FALSE)),\"\",VLOOKUP(C138,BDDG!$A$3:$J$102,4,FALSE))","v":106},{"$f":"IF(ISNA(VLOOKUP(C138,BDDG!$A$2:$F$100,5,FALSE)),\"\",VLOOKUP(C138,BDDG!$A$2:$F$100,5,FALSE))","v":"A10"},{"$f":"IF(ISNA(VLOOKUP(C138,BDDG!$A$2:$F$100,6,FALSE)),\"\",VLOOKUP(C138,BDDG!$A$2:$F$100,6,FALSE))","v":"AA31"},{"$f":"IF(ISERROR(VLOOKUP(C138,BDDG!$A$2:$G$100,7,FALSE)),\"\",VLOOKUP(C138,BDDG!$A$2:$G$100,7,FALSE))","v":1},{"$f":"IF(ISERROR(VLOOKUP(C138,BDDG!$A$2:$H$100,8,FALSE)),\"\",VLOOKUP(C138,BDDG!$A$2:$H$100,8,FALSE))","v":"BB31"},15,215,6.0279069767441866,{"$f":"IF(ISERROR(VLOOKUP(C138,BDDG!$A$2:$I$100,9,FALSE)),\"\",VLOOKUP(C138,BDDG!$A$2:$I$100,9,FALSE))","v":"CC31"},null,null,"",{"$f":"IF(ISERROR(VLOOKUP(C138,BDDG!$A$2:$J$100,10,FALSE)),\"\",VLOOKUP(C138,BDDG!$A$2:$J$100,10,FALSE))","v":"DD31"},null,null,"",6.0279069767441866,9,2003,{"$f":"IFERROR(INDEX($V$2:V138,MATCH(H138&MAX(IF($H$1:H137=H138,$A$1:A137)),$H$2:H138&$A$2:A138,0))-V138,\"\")","v":41.719461444308457}]
["2003-09-25",null,815,{"$f":"IF(ISNA(VLOOKUP(C139,BDDG!$A$2:$F$100,2,FALSE)),\"\",VLOOKUP(C139,BDDG!$A$2:$F$100,2,FALSE))","v":0},{"$f":"IF(ISNA(VLOOKUP(C139,BDDG!$A$3:$J$102,3,FALSE)),\"\",VLOOKUP(C139,BDDG!$A$3:$J$102,3,FALSE))","v":"A"},{"$f":"IF(ISNA(VLOOKUP(C139,BDDG!$A$3:$J$102,4,FALSE)),\"\",VLOOKUP(C139,BDDG!$A$3:$J$102,4,FALSE))","v":106},{"$f":"IF(ISNA(VLOOKUP(C139,BDDG!$A$2:$F$100,5,FALSE)),\"\",VLOOKUP(C139,BDDG!$A$2:$F$100,5,FALSE))","v":"A10"},{"$f":"IF(ISNA(VLOOKUP(C139,BDDG!$A$2:$F$100,6,FALSE)),\"\",VLOOKUP(C139,BDDG!$A$2:$F$100,6,FALSE))","v":"AA31"},{"$f":"IF(ISERROR(VLOOKUP(C139,BDDG!$A$2:$G$100,7,FALSE)),\"\",VLOOKUP(C139,BDDG!$A$2:$G$100,7,FALSE))","v":1},{"$f":"IF(ISERROR(VLOOKUP(C139,BDDG!$A$2:$H$100,8,FALSE)),\"\",VLOOKUP(C139,BDDG!$A$2:$H$100,8,FALSE))","v":"BB31"},15,135,9.6,{"$f":"IF(ISERROR(VLOOKUP(C139,BDDG!$A$2:$I$100,9,FALSE)),\"\",VLOOKUP(C139,BDDG!$A$2:$I$100,9,FALSE))","v":"CC31"},null,null,"",{"$f":"IF(ISERROR(VLOOKUP(C139,BDDG!$A$2:$J$100,10,FALSE)),\"\",VLOOKUP(C139,BDDG!$A$2:$J$100,10,FALSE))","v":"DD31"},null,null,"",9.6,9,2003,{"$f":"IFERROR(INDEX($V$2:V139,MATCH(H139&MAX(IF($H$1:H138=H139,$A$1:A138)),$H$2:H139&$A$2:A139,0))-V139,\"\")","v":-3.572093023255813}]
["2003-10-01",null,856,{"$f":"IF(ISNA(VLOOKUP(C140,BDDG!$A$2:$F$100,2,FALSE)),\"\",VLOOKUP(C140,BDDG!$A$2:$F$100,2,FALSE))","v":0},{"$f":"IF(ISNA(VLOOKUP(C140,BDDG!$A$3:$J$102,3,FALSE)),\"\",VLOOKUP(C140,BDDG!$A$3:$J$102,3,FALSE))","v":"A"},{"$f":"IF(ISNA(VLOOKUP(C140,BDDG!$A$3:$J$102,4,FALSE)),\"\",VLOOKUP(C140,BDDG!$A$3:$J$102,4,FALSE))","v":106},{"$f":"IF(ISNA(VLOOKUP(C140,BDDG!$A$2:$F$100,5,FALSE)),\"\",VLOOKUP(C140,BDDG!$A$2:$F$100,5,FALSE))","v":"A9"},{"$f":"IF(ISNA(VLOOKUP(C140,BDDG!$A$2:$F$100,6,FALSE)),\"\",VLOOKUP(C140,BDDG!$A$2:$F$100,6,FALSE))","v":"AA27"},{"$f":"IF(ISERROR(VLOOKUP(C140,BDDG!$A$2:$G$100,7,FALSE)),\"\",VLOOKUP(C140,BDDG!$A$2:$G$100,7,FALSE))","v":2},{"$f":"IF(ISERROR(VLOOKUP(C140,BDDG!$A$2:$H$100,8,FALSE)),\"\",VLOOKUP(C140,BDDG!$A$2:$H$100,8,FALSE))","v":"BB27"},4.5,60,6.48,{"$f":"IF(ISERROR(VLOOKUP(C140,BDDG!$A$2:$I$100,9,FALSE)),\"\",VLOOKUP(C140,BDDG!$A$2:$I$100,9,FALSE))","v":"CC27"},48,60,69.12,{"$f":"IF(ISERROR(VLOOKUP(C140,BDDG!$A$2:$J$100,10,FALSE)),\"\",VLOOKUP(C140,BDDG!$A$2:$J$100,10,FALSE))","v":"DD27"},null,null,"",75.600000000000009,10,2003,{"$f":"IFERROR(INDEX($V$2:V140,MATCH(H140&MAX(IF($H$1:H139=H140,$A$1:A139)),$H$2:H140&$A$2:A140,0))-V140,\"\")","v":18.313043478260866}]
["2003-10-02",null,815,{"$f":"IF(ISNA(VLOOKUP(C141,BDDG!$A$2:$F$100,2,FALSE)),\"\",VLOOKUP(C141,BDDG!$A$2:$F$100,2,FALSE))","v":0},{"$f":"IF(ISNA(VLOOKUP(C141,BDDG!$A$3:$J$102,3,FALSE)),\"\",VLOOKUP(C141,BDDG!$A$3:$J$102,3,FALSE))","v":"A"},{"$f":"IF(ISNA(VLOOKUP(C141,BDDG!$A$3:$J$102,4,FALSE)),\"\",VLOOKUP(C141,BDDG!$A$3:$J$102,4,FALSE))","v":106},{"$f":"IF(ISNA(VLOOKUP(C141,BDDG!$A$2:$F$100,5,FALSE)),\"\",VLOOKUP(C141,BDDG!$A$2:$F$100,5,FALSE))","v":"A10"},{"$f":"IF(ISNA(VLOOKUP(C141,BDDG!$A$2:$F$100,6,FALSE)),\"\",VLOOKUP(C141,BDDG!$A$2:$F$100,6,FALSE))","v":"AA31"},{"$f":"IF(ISERROR(VLOOKUP(C141,BDDG!$A$2:$G$100,7,FALSE)),\"\",VLOOKUP(C141,BDDG!$A$2:$G$100,7,FALSE))","v":1},{"$f":"IF(ISERROR(VLOOKUP(C141,BDDG!$A$2:$H$100,8,FALSE)),\"\",VLOOKUP(C141,BDDG!$A$2:$H$100,8,FALSE))","v":"BB31"},15,185,7.0054054054054067,{"$f":"IF(ISERROR(VLOOKUP(C141,BDDG!$A$2:$I$100,9,FALSE)),\"\",VLOOKUP(C141,BDDG!$A$2:$I$100,9,FALSE))","v":"CC31"},null,null,"",{"$f":"IF(ISERROR(VLOOKUP(C141,BDDG!$A$2:$J$100,10,FALSE)),\"\",VLOOKUP(C141,BDDG!$A$2:$J$100,10,FALSE))","v":"DD31"},null,null,"",7.0054054054054067,10,2003,{"$f":"IFERROR(INDEX($V$2:V141,MATCH(H141&MAX(IF($H$1:H140=H141,$A$1:A140)),$H$2:H141&$A$2:A141,0))-V141,\"\")","v":2.594594594594593}]
["2003-10-09",null,815,{"$f":"IF(ISNA(VLOOKUP(C142,BDDG!$A$2:$F$100,2,FALSE)),\"\",VLOOKUP(C142,BDDG!$A$2:$F$100,2,FALSE))","v":0},{"$f":"IF(ISNA(VLOOKUP(C142,BDDG!$A$3:$J$102,3,FALSE)),\"\",VLOOKUP(C142,BDDG!$A$3:$J$102,3,FALSE))","v":"A"},{"$f":"IF(ISNA(VLOOKUP(C142,BDDG!$A$3:$J$102,4,FALSE)),\"\",VLOOKUP(C142,BDDG!$A$3:$J$102,4,FALSE))","v":106},{"$f":"IF(ISNA(VLOOKUP(C142,BDDG!$A$2:$F$100,5,FALSE)),\"\",VLOOKUP(C142,BDDG!$A$2:$F$100,5,FALSE))","v":"A10"},{"$f":"IF(ISNA(VLOOKUP(C142,BDDG!$A$2:$F$100,6,FALSE)),\"\",VLOOKUP(C142,BDDG!$A$2:$F$100,6,FALSE))","v":"AA31"},{"$f":"IF(ISERROR(VLOOKUP(C142,BDDG!$A$2:$G$100,7,FALSE)),\"\",VLOOKUP(C142,BDDG!$A$2:$G$100,7,FALSE))","v":1},{"$f":"IF(ISERROR(VLOOKUP(C142,BDDG!$A$2:$H$100,8,FALSE)),\"\",VLOOKUP(C142,BDDG!$A$2:$H$100,8,FALSE))","v":"BB31"},15,165,7.8545454545454554,{"$f":"IF(ISERROR(VLOOKUP(C142,BDDG!$A$2:$I$100,9,FALSE)),\"\",VLOOKUP(C142,BDDG!$A$2:$I$100,9,FALSE))","v":"CC31"},null,null,"",{"$f":"IF(ISERROR(VLOOKUP(C142,BDDG!$A$2:$J$100,10,FALSE)),\"\",VLOOKUP(C142,BDDG!$A$2:$J$100,10,FALSE))","v":"DD31"},null,null,"",7.8545454545454554,10,2003,{"$f":"IFERROR(INDEX($V$2:V142,MATCH(H142&MAX(IF($H$1:H141=H142,$A$1:A141)),$H$2:H142&$A$2:A142,0))-V142,\"\")","v":-0.8491400491400487}]
["2003-10-19",null,815,{"$f":"IF(ISNA(VLOOKUP(C143,BDDG!$A$2:$F$100,2,FALSE)),\"\",VLOOKUP(C143,BDDG!$A$2:$F$100,2,FALSE))","v":0},{"$f":"IF(ISNA(VLOOKUP(C143,BDDG!$A$3:$J$102,3,FALSE)),\"\",VLOOKUP(C143,BDDG!$A$3:$J$102,3,FALSE))","v":"A"},{"$f":"IF(ISNA(VLOOKUP(C143,BDDG!$A$3:$J$102,4,FALSE)),\"\",VLOOKUP(C143,BDDG!$A$3:$J$102,4,FALSE))","v":106},{"$f":"IF(ISNA(VLOOKUP(C143,BDDG!$A$2:$F$100,5,FALSE)),\"\",VLOOKUP(C143,BDDG!$A$2:$F$100,5,FALSE))","v":"A10"},{"$f":"IF(ISNA(VLOOKUP(C143,BDDG!$A$2:$F$100,6,FALSE)),\"\",VLOOKUP(C143,BDDG!$A$2:$F$100,6,FALSE))","v":"AA31"},{"$f":"IF(ISERROR(VLOOKUP(C143,BDDG!$A$2:$G$100,7,FALSE)),\"\",VLOOKUP(C143,BDDG!$A$2:$G$100,7,FALSE))","v":1},{"$f":"IF(ISERROR(VLOOKUP(C143,BDDG!$A$2:$H$100,8,FALSE)),\"\",VLOOKUP(C143,BDDG!$A$2:$H$100,8,FALSE))","v":"BB31"},15,180,7.2,{"$f":"IF(ISERROR(VLOOKUP(C143,BDDG!$A$2:$I$100,9,FALSE)),\"\",VLOOKUP(C143,BDDG!$A$2:$I$100,9,FALSE))","v":"CC31"},null,null,"",{"$f":"IF(ISERROR(VLOOKUP(C143,BDDG!$A$2:$J$100,10,FALSE)),\"\",VLOOKUP(C143,BDDG!$A$2:$J$100,10,FALSE))","v":"DD31"},null,null,"",7.2,10,2003,{"$f":"IFERROR(INDEX($V$2:V143,MATCH(H143&MAX(IF($H$1:H142=H143,$A$1:A142)),$H$2:H143&$A$2:A143,0))-V143,\"\")","v":0.65454545454545521}]
["2003-10-23",null,815,{"$f":"IF(ISNA(VLOOKUP(C144,BDDG!$A$2:$F$100,2,FALSE)),\"\",VLOOKUP(C144,BDDG!$A$2:$F$100,2,FALSE))","v":0},{"$f":"IF(ISNA(VLOOKUP(C144,BDDG!$A$3:$J$102,3,FALSE)),\"\",VLOOKUP(C144,BDDG!$A$3:$J$102,3,FALSE))","v":"A"},{"$f":"IF(ISNA(VLOOKUP(C144,BDDG!$A$3:$J$102,4,FALSE)),\"\",VLOOKUP(C144,BDDG!$A$3:$J$102,4,FALSE))","v":106},{"$f":"IF(ISNA(VLOOKUP(C144,BDDG!$A$2:$F$100,5,FALSE)),\"\",VLOOKUP(C144,BDDG!$A$2:$F$100,5,FALSE))","v":"A10"},{"$f":"IF(ISNA(VLOOKUP(C144,BDDG!$A$2:$F$100,6,FALSE)),\"\",VLOOKUP(C144,BDDG!$A$2:$F$100,6,FALSE))","v":"AA31"},{"$f":"IF(ISERROR(VLOOKUP(C144,BDDG!$A$2:$G$100,7,FALSE)),\"\",VLOOKUP(C144,BDDG!$A$2:$G$100,7,FALSE))","v":1},{"$f":"IF(ISERROR(VLOOKUP(C144,BDDG!$A$2:$H$100,8,FALSE)),\"\",VLOOKUP(C144,BDDG!$A$2:$H$100,8,FALSE))","v":"BB31"},15,125,10.368,{"$f":"IF(ISERROR(VLOOKUP(C144,BDDG!$A$2:$I$100,9,FALSE)),\"\",VLOOKUP(C144,BDDG!$A$2:$I$100,9,FALSE))","v":"CC31"},null,null,"",{"$f":"IF(ISERROR(VLOOKUP(C144,BDDG!$A$2:$J$100,10,FALSE)),\"\",VLOOKUP(C144,BDDG!$A$2:$J$100,10,FALSE))","v":"DD31"},null,null,"",10.368,10,2003,{"$f":"IFERROR(INDEX($V$2:V144,MATCH(H144&MAX(IF($H$1:H143=H144,$A$1:A143)),$H$2:H144&$A$2:A144,0))-V144,\"\")","v":-3.1680000000000001}]
["2003-10-26",null,815,{"$f":"IF(ISNA(VLOOKUP(C145,BDDG!$A$2:$F$100,2,FALSE)),\"\",VLOOKUP(C145,BDDG!$A$2:$F$100,2,FALSE))","v":0},{"$f":"IF(ISNA(VLOOKUP(C145,BDDG!$A$3:$J$102,3,FALSE)),\"\",VLOOKUP(C145,BDDG!$A$3:$J$102,3,FALSE))","v":"A"},{"$f":"IF(ISNA(VLOOKUP(C145,BDDG!$A$3:$J$102,4,FALSE)),\"\",VLOOKUP(C145,BDDG!$A$3:$J$102,4,FALSE))","v":106},{"$f":"IF(ISNA(VLOOKUP(C145,BDDG!$A$2:$F$100,5,FALSE)),\"\",VLOOKUP(C145,BDDG!$A$2:$F$100,5,FALSE))","v":"A10"},{"$f":"IF(ISNA(VLOOKUP(C145,BDDG!$A$2:$F$100,6,FALSE)),\"\",VLOOKUP(C145,BDDG!$A$2:$F$100,6,FALSE))","v":"AA31"},{"$f":"IF(ISERROR(VLOOKUP(C145,BDDG!$A$2:$G$100,7,FALSE)),\"\",VLOOKUP(C145,BDDG!$A$2:$G$100,7,FALSE))","v":1},{"$f":"IF(ISERROR(VLOOKUP(C145,BDDG!$A$2:$H$100,8,FALSE)),\"\",VLOOKUP(C145,BDDG!$A$2:$H$100,8,FALSE))","v":"BB31"},15,135,9.6,{"$f":"IF(ISERROR(VLOOKUP(C145,BDDG!$A$2:$I$100,9,FALSE)),\"\",VLOOKUP(C145,BDDG!$A$2:$I$100,9,FALSE))","v":"CC31"},null,null,"",{"$f":"IF(ISERROR(VLOOKUP(C145,BDDG!$A$2:$J$100,10,FALSE)),\"\",VLOOKUP(C145,BDDG!$A$2:$J$100,10,FALSE))","v":"DD31"},null,null,"",9.6,10,2003,{"$f":"IFERROR(INDEX($V$2:V145,MATCH(H145&MAX(IF($H$1:H144=H145,$A$1:A144)),$H$2:H145&$A$2:A145,0))-V145,\"\")","v":0.76800000000000068}]
["2003-10-30",null,815,{"$f":"IF(ISNA(VLOOKUP(C146,BDDG!$A$2:$F$100,2,FALSE)),\"\",VLOOKUP(C146,BDDG!$A$2:$F$100,2,FALSE))","v":0},{"$f":"IF(ISNA(VLOOKUP(C146,BDDG!$A$3:$J$102,3,FALSE)),\"\",VLOOKUP(C146,BDDG!$A$3:$J$102,3,FALSE))","v":"A"},{"$f":"IF(ISNA(VLOOKUP(C146,BDDG!$A$3:$J$102,4,FALSE)),\"\",VLOOKUP(C146,BDDG!$A$3:$J$102,4,FALSE))","v":106},{"$f":"IF(ISNA(VLOOKUP(C146,BDDG!$A$2:$F$100,5,FALSE)),\"\",VLOOKUP(C146,BDDG!$A$2:$F$100,5,FALSE))","v":"A10"},{"$f":"IF(ISNA(VLOOKUP(C146,BDDG!$A$2:$F$100,6,FALSE)),\"\",VLOOKUP(C146,BDDG!$A$2:$F$100,6,FALSE))","v":"AA31"},{"$f":"IF(ISERROR(VLOOKUP(C146,BDDG!$A$2:$G$100,7,FALSE)),\"\",VLOOKUP(C146,BDDG!$A$2:$G$100,7,FALSE))","v":1},{"$f":"IF(ISERROR(VLOOKUP(C146,BDDG!$A$2:$H$100,8,FALSE)),\"\",VLOOKUP(C146,BDDG!$A$2:$H$100,8,FALSE))","v":"BB31"},15,140,9.257142857142858,{"$f":"IF(ISERROR(VLOOKUP(C146,BDDG!$A$2:$I$100,9,FALSE)),\"\",VLOOKUP(C146,BDDG!$A$2:$I$100,9,FALSE))","v":"CC31"},null,null,"",{"$f":"IF(ISERROR(VLOOKUP(C146,BDDG!$A$2:$J$100,10,FALSE)),\"\",VLOOKUP(C146,BDDG!$A$2:$J$100,10,FALSE))","v":"DD31"},null,null,"",{"$f":"IF(ISERROR(SUM(M146,Q146,U146)),\"\",SUM(M146,Q146,U146))","v":9.257142857142858},10,2003,{"$f":"IFERROR(INDEX($V$2:V146,MATCH(H146&MAX(IF($H$1:H145=H146,$A$1:A145)),$H$2:H146&$A$2:A146,0))-V146,\"\")","v":0.34285714285714164}]
["2003-11-06",null,815,{"$f":"IF(ISNA(VLOOKUP(C147,BDDG!$A$2:$F$100,2,FALSE)),\"\",VLOOKUP(C147,BDDG!$A$2:$F$100,2,FALSE))","v":0},{"$f":"IF(ISNA(VLOOKUP(C147,BDDG!$A$3:$J$102,3,FALSE)),\"\",VLOOKUP(C147,BDDG!$A$3:$J$102,3,FALSE))","v":"A"},{"$f":"IF(ISNA(VLOOKUP(C147,BDDG!$A$3:$J$102,4,FALSE)),\"\",VLOOKUP(C147,BDDG!$A$3:$J$102,4,FALSE))","v":106},{"$f":"IF(ISNA(VLOOKUP(C147,BDDG!$A$2:$F$100,5,FALSE)),\"\",VLOOKUP(C147,BDDG!$A$2:$F$100,5,FALSE))","v":"A10"},{"$f":"IF(ISNA(VLOOKUP(C147,BDDG!$A$2:$F$100,6,FALSE)),\"\",VLOOKUP(C147,BDDG!$A$2:$F$100,6,FALSE))","v":"AA31"},{"$f":"IF(ISERROR(VLOOKUP(C147,BDDG!$A$2:$G$100,7,FALSE)),\"\",VLOOKUP(C147,BDDG!$A$2:$G$100,7,FALSE))","v":1},{"$f":"IF(ISERROR(VLOOKUP(C147,BDDG!$A$2:$H$100,8,FALSE)),\"\",VLOOKUP(C147,BDDG!$A$2:$H$100,8,FALSE))","v":"BB31"},15,195,{"$f":" IF(ISERROR(K147/L147*86.4),\"\",K147/L147*86.4)","v":6.6461538461538465},{"$f":"IF(ISERROR(VLOOKUP(C147,BDDG!$A$2:$I$100,9,FALSE)),\"\",VLOOKUP(C147,BDDG!$A$2:$I$100,9,FALSE))","v":"CC31"},null,null,"",{"$f":"IF(ISERROR(VLOOKUP(C147,BDDG!$A$2:$J$100,10,FALSE)),\"\",VLOOKUP(C147,BDDG!$A$2:$J$100,10,FALSE))","v":"DD31"},null,null,"",6.6461538461538465,11,2003,{"$f":"IFERROR(INDEX($V$2:V147,MATCH(H147&MAX(IF($H$1:H146=H147,$A$1:A146)),$H$2:H147&$A$2:A147,0))-V147,\"\")","v":2.6109890109890115}]
["2004-03-30",null,835,{"$f":"IF(ISNA(VLOOKUP(C148,BDDG!$A$2:$F$100,2,FALSE)),\"\",VLOOKUP(C148,BDDG!$A$2:$F$100,2,FALSE))","v":0},{"$f":"IF(ISNA(VLOOKUP(C148,BDDG!$A$3:$J$102,3,FALSE)),\"\",VLOOKUP(C148,BDDG!$A$3:$J$102,3,FALSE))","v":"A"},{"$f":"IF(ISNA(VLOOKUP(C148,BDDG!$A$3:$J$102,4,FALSE)),\"\",VLOOKUP(C148,BDDG!$A$3:$J$102,4,FALSE))","v":106},{"$f":"IF(ISNA(VLOOKUP(C148,BDDG!$A$2:$F$100,5,FALSE)),\"\",VLOOKUP(C148,BDDG!$A$2:$F$100,5,FALSE))","v":"A3"},{"$f":"IF(ISNA(VLOOKUP(C148,BDDG!$A$2:$F$100,6,FALSE)),\"\",VLOOKUP(C148,BDDG!$A$2:$F$100,6,FALSE))","v":"AA5"},{"$f":"IF(ISERROR(VLOOKUP(C148,BDDG!$A$2:$G$100,7,FALSE)),\"\",VLOOKUP(C148,BDDG!$A$2:$G$100,7,FALSE))","v":1},{"$f":"IF(ISERROR(VLOOKUP(C148,BDDG!$A$2:$H$100,8,FALSE)),\"\",VLOOKUP(C148,BDDG!$A$2:$H$100,8,FALSE))","v":"BB5"},15,60,21.6,{"$f":"IF(ISERROR(VLOOKUP(C148,BDDG!$A$2:$I$100,9,FALSE)),\"\",VLOOKUP(C148,BDDG!$A$2:$I$100,9,FALSE))","v":"CC5"},null,null,"",{"$f":"IF(ISERROR(VLOOKUP(C148,BDDG!$A$2:$J$100,10,FALSE)),\"\",VLOOKUP(C148,BDDG!$A$2:$J$100,10,FALSE))","v":"DD5"},null,null,{"$f":" IF(ISERROR(S148/T148*86.4),\"\",S148/T148*86.4)","v":""},21.6,3,2004,{"$f":"IFERROR(INDEX($V$2:V148,MATCH(H148&MAX(IF($H$1:H147=H148,$A$1:A147)),$H$2:H148&$A$2:A148,0))-V148,\"\")","v":-17.28}]
["2004-03-30",null,852,{"$f":"IF(ISNA(VLOOKUP(C149,BDDG!$A$2:$F$100,2,FALSE)),\"\",VLOOKUP(C149,BDDG!$A$2:$F$100,2,FALSE))","v":0},{"$f":"IF(ISNA(VLOOKUP(C149,BDDG!$A$3:$J$102,3,FALSE)),\"\",VLOOKUP(C149,BDDG!$A$3:$J$102,3,FALSE))","v":"A"},{"$f":"IF(ISNA(VLOOKUP(C149,BDDG!$A$3:$J$102,4,FALSE)),\"\",VLOOKUP(C149,BDDG!$A$3:$J$102,4,FALSE))","v":106},{"$f":"IF(ISNA(VLOOKUP(C149,BDDG!$A$2:$F$100,5,FALSE)),\"\",VLOOKUP(C149,BDDG!$A$2:$F$100,5,FALSE))","v":"A9"},{"$f":"IF(ISNA(VLOOKUP(C149,BDDG!$A$2:$F$100,6,FALSE)),\"\",VLOOKUP(C149,BDDG!$A$2:$F$100,6,FALSE))","v":"AA22"},{"$f":"IF(ISERROR(VLOOKUP(C149,BDDG!$A$2:$G$100,7,FALSE)),\"\",VLOOKUP(C149,BDDG!$A$2:$G$100,7,FALSE))","v":1},{"$f":"IF(ISERROR(VLOOKUP(C149,BDDG!$A$2:$H$100,8,FALSE)),\"\",VLOOKUP(C149,BDDG!$A$2:$H$100,8,FALSE))","v":"BB22"},12,55,18.850909090909092,{"$f":"IF(ISERROR(VLOOKUP(C149,BDDG!$A$2:$I$100,9,FALSE)),\"\",VLOOKUP(C149,BDDG!$A$2:$I$100,9,FALSE))","v":"CC22"},null,null,"",{"$f":"IF(ISERROR(VLOOKUP(C149,BDDG!$A$2:$J$100,10,FALSE)),\"\",VLOOKUP(C149,BDDG!$A$2:$J$100,10,FALSE))","v":"DD22"},null,null,"",18.850909090909092,3,2004,{"$f":"IFERROR(INDEX($V$2:V149,MATCH(H149&MAX(IF($H$1:H148=H149,$A$1:A148)),$H$2:H149&$A$2:A149,0))-V149,\"\")","v":-8.0509090909090908}]
["2004-04-30",null,837,{"$f":"IF(ISNA(VLOOKUP(C150,BDDG!$A$2:$F$100,2,FALSE)),\"\",VLOOKUP(C150,BDDG!$A$2:$F$100,2,FALSE))","v":0},{"$f":"IF(ISNA(VLOOKUP(C150,BDDG!$A$3:$J$102,3,FALSE)),\"\",VLOOKUP(C150,BDDG!$A$3:$J$102,3,FALSE))","v":"A"},{"$f":"IF(ISNA(VLOOKUP(C150,BDDG!$A$3:$J$102,4,FALSE)),\"\",VLOOKUP(C150,BDDG!$A$3:$J$102,4,FALSE))","v":106},{"$f":"IF(ISNA(VLOOKUP(C150,BDDG!$A$2:$F$100,5,FALSE)),\"\",VLOOKUP(C150,BDDG!$A$2:$F$100,5,FALSE))","v":"A3"},{"$f":"IF(ISNA(VLOOKUP(C150,BDDG!$A$2:$F$100,6,FALSE)),\"\",VLOOKUP(C150,BDDG!$A$2:$F$100,6,FALSE))","v":"AA7"},{"$f":"IF(ISERROR(VLOOKUP(C150,BDDG!$A$2:$G$100,7,FALSE)),\"\",VLOOKUP(C150,BDDG!$A$2:$G$100,7,FALSE))","v":1},{"$f":"IF(ISERROR(VLOOKUP(C150,BDDG!$A$2:$H$100,8,FALSE)),\"\",VLOOKUP(C150,BDDG!$A$2:$H$100,8,FALSE))","v":"BB7"},5,60,7.2,{"$f":"IF(ISERROR(VLOOKUP(C150,BDDG!$A$2:$I$100,9,FALSE)),\"\",VLOOKUP(C150,BDDG!$A$2:$I$100,9,FALSE))","v":"CC7"},null,null,{"$f":" IF(ISERROR(O150/P150*86.4),\"\",O150/P150*86.4)","v":""},{"$f":"IF(ISERROR(VLOOKUP(C150,BDDG!$A$2:$J$100,10,FALSE)),\"\",VLOOKUP(C150,BDDG!$A$2:$J$100,10,FALSE))","v":"DD7"},null,null,"",7.2,4,2004,{"$f":"IFERROR(INDEX($V$2:V150,MATCH(H150&MAX(IF($H$1:H149=H150,$A$1:A149)),$H$2:H150&$A$2:A150,0))-V150,\"\")","v":10.080000000000002}]
["2004-04-30",null,836,{"$f":"IF(ISNA(VLOOKUP(C151,BDDG!$A$2:$F$100,2,FALSE)),\"\",VLOOKUP(C151,BDDG!$A$2:$F$100,2,FALSE))","v":0},{"$f":"IF(ISNA(VLOOKUP(C151,BDDG!$A$3:$J$102,3,FALSE)),\"\",VLOOKUP(C151,BDDG!$A$3:$J$102,3,FALSE))","v":"A"},{"$f":"IF(ISNA(VLOOKUP(C151,BDDG!$A$3:$J$102,4,FALSE)),\"\",VLOOKUP(C151,BDDG!$A$3:$J$102,4,FALSE))","v":106},{"$f":"IF(ISNA(VLOOKUP(C151,BDDG!$A$2:$F$100,5,FALSE)),\"\",VLOOKUP(C151,BDDG!$A$2:$F$100,5,FALSE))","v":"A3"},{"$f":"IF(ISNA(VLOOKUP(C151,BDDG!$A$2:$F$100,6,FALSE)),\"\",VLOOKUP(C151,BDDG!$A$2:$F$100,6,FALSE))","v":"AA6"},{"$f":"IF(ISERROR(VLOOKUP(C151,BDDG!$A$2:$G$100,7,FALSE)),\"\",VLOOKUP(C151,BDDG!$A$2:$G$100,7,FALSE))","v":1},{"$f":"IF(ISERROR(VLOOKUP(C151,BDDG!$A$2:$H$100,8,FALSE)),\"\",VLOOKUP(C151,BDDG!$A$2:$H$100,8,FALSE))","v":"BB6"},105,60,151.20000000000002,{"$f":"IF(ISERROR(VLOOKUP(C151,BDDG!$A$2:$I$100,9,FALSE)),\"\",VLOOKUP(C151,BDDG!$A$2:$I$100,9,FALSE))","v":"CC6"},null,null,{"$f":" IF(ISERROR(O151/P151*86.4),\"\",O151/P151*86.4)","v":""},{"$f":"IF(ISERROR(VLOOKUP(C151,BDDG!$A$2:$J$100,10,FALSE)),\"\",VLOOKUP(C151,BDDG!$A$2:$J$100,10,FALSE))","v":"DD6"},null,null,"",151.20000000000002,4,2004,{"$f":"IFERROR(INDEX($V$2:V151,MATCH(H151&MAX(IF($H$1:H150=H151,$A$1:A150)),$H$2:H151&$A$2:A151,0))-V151,\"\")","v":-82.080000000000013}]
["2004-04-30",null,835,{"$f":"IF(ISNA(VLOOKUP(C152,BDDG!$A$2:$F$100,2,FALSE)),\"\",VLOOKUP(C152,BDDG!$A$2:$F$100,2,FALSE))","v":0},{"$f":"IF(ISNA(VLOOKUP(C152,BDDG!$A$3:$J$102,3,FALSE)),\"\",VLOOKUP(C152,BDDG!$A$3:$J$102,3,FALSE))","v":"A"},{"$f":"IF(ISNA(VLOOKUP(C152,BDDG!$A$3:$J$102,4,FALSE)),\"\",VLOOKUP(C152,BDDG!$A$3:$J$102,4,FALSE))","v":106},{"$f":"IF(ISNA(VLOOKUP(C152,BDDG!$A$2:$F$100,5,FALSE)),\"\",VLOOKUP(C152,BDDG!$A$2:$F$100,5,FALSE))","v":"A3"},{"$f":"IF(ISNA(VLOOKUP(C152,BDDG!$A$2:$F$100,6,FALSE)),\"\",VLOOKUP(C152,BDDG!$A$2:$F$100,6,FALSE))","v":"AA5"},{"$f":"IF(ISERROR(VLOOKUP(C152,BDDG!$A$2:$G$100,7,FALSE)),\"\",VLOOKUP(C152,BDDG!$A$2:$G$100,7,FALSE))","v":1},{"$f":"IF(ISERROR(VLOOKUP(C152,BDDG!$A$2:$H$100,8,FALSE)),\"\",VLOOKUP(C152,BDDG!$A$2:$H$100,8,FALSE))","v":"BB5"},15,60,21.6,{"$f":"IF(ISERROR(VLOOKUP(C152,BDDG!$A$2:$I$100,9,FALSE)),\"\",VLOOKUP(C152,BDDG!$A$2:$I$100,9,FALSE))","v":"CC5"},null,null,{"$f":" IF(ISERROR(O152/P152*86.4),\"\",O152/P152*86.4)","v":""},{"$f":"IF(ISERROR(VLOOKUP(C152,BDDG!$A$2:$J$100,10,FALSE)),\"\",VLOOKUP(C152,BDDG!$A$2:$J$100,10,FALSE))","v":"DD5"},null,null,"",21.6,4,2004,{"$f":"IFERROR(INDEX($V$2:V152,MATCH(H152&MAX(IF($H$1:H151=H152,$A$1:A151)),$H$2:H152&$A$2:A152,0))-V152,\"\")","v":0}]
["2004-04-30",null,839,{"$f":"IF(ISNA(VLOOKUP(C153,BDDG!$A$2:$F$100,2,FALSE)),\"\",VLOOKUP(C153,BDDG!$A$2:$F$100,2,FALSE))","v":0},{"$f":"IF(ISNA(VLOOKUP(C153,BDDG!$A$3:$J$102,3,FALSE)),\"\",VLOOKUP(C153,BDDG!$A$3:$J$102,3,FALSE))","v":"A"},{"$f":"IF(ISNA(VLOOKUP(C153,BDDG!$A$3:$J$102,4,FALSE)),\"\",VLOOKUP(C153,BDDG!$A$3:$J$102,4,FALSE))","v":106},{"$f":"IF(ISNA(VLOOKUP(C153,BDDG!$A$2:$F$100,5,FALSE)),\"\",VLOOKUP(C153,BDDG!$A$2:$F$100,5,FALSE))","v":"A3"},{"$f":"IF(ISNA(VLOOKUP(C153,BDDG!$A$2:$F$100,6,FALSE)),\"\",VLOOKUP(C153,BDDG!$A$2:$F$100,6,FALSE))","v":"AA10"},{"$f":"IF(ISERROR(VLOOKUP(C153,BDDG!$A$2:$G$100,7,FALSE)),\"\",VLOOKUP(C153,BDDG!$A$2:$G$100,7,FALSE))","v":2},{"$f":"IF(ISERROR(VLOOKUP(C153,BDDG!$A$2:$H$100,8,FALSE)),\"\",VLOOKUP(C153,BDDG!$A$2:$H$100,8,FALSE))","v":"BB10"},null,null,158.4,{"$f":"IF(ISERROR(VLOOKUP(C153,BDDG!$A$2:$I$100,9,FALSE)),\"\",VLOOKUP(C153,BDDG!$A$2:$I$100,9,FALSE))","v":"CC10"},null,null,{"$f":" IF(ISERROR(O153/P153*86.4),\"\",O153/P153*86.4)","v":""},{"$f":"IF(ISERROR(VLOOKUP(C153,BDDG!$A$2:$J$100,10,FALSE)),\"\",VLOOKUP(C153,BDDG!$A$2:$J$100,10,FALSE))","v":"DD10"},null,null,"",158.4,4,2004,{"$f":"IFERROR(INDEX($V$2:V153,MATCH(H153&MAX(IF($H$1:H152=H153,$A$1:A152)),$H$2:H153&$A$2:A153,0))-V153,\"\")","v":-72}]
["2004-05-05",null,859,{"$f":"IF(ISNA(VLOOKUP(C154,BDDG!$A$2:$F$100,2,FALSE)),\"\",VLOOKUP(C154,BDDG!$A$2:$F$100,2,FALSE))","v":0},{"$f":"IF(ISNA(VLOOKUP(C154,BDDG!$A$3:$J$102,3,FALSE)),\"\",VLOOKUP(C154,BDDG!$A$3:$J$102,3,FALSE))","v":"A"},{"$f":"IF(ISNA(VLOOKUP(C154,BDDG!$A$3:$J$102,4,FALSE)),\"\",VLOOKUP(C154,BDDG!$A$3:$J$102,4,FALSE))","v":106},{"$f":"IF(ISNA(VLOOKUP(C154,BDDG!$A$2:$F$100,5,FALSE)),\"\",VLOOKUP(C154,BDDG!$A$2:$F$100,5,FALSE))","v":"A10"},{"$f":"IF(ISNA(VLOOKUP(C154,BDDG!$A$2:$F$100,6,FALSE)),\"\",VLOOKUP(C154,BDDG!$A$2:$F$100,6,FALSE))","v":"AA30"},{"$f":"IF(ISERROR(VLOOKUP(C154,BDDG!$A$2:$G$100,7,FALSE)),\"\",VLOOKUP(C154,BDDG!$A$2:$G$100,7,FALSE))","v":1},{"$f":"IF(ISERROR(VLOOKUP(C154,BDDG!$A$2:$H$100,8,FALSE)),\"\",VLOOKUP(C154,BDDG!$A$2:$H$100,8,FALSE))","v":"BB30"},10,43,{"$f":" IF(ISERROR(K154/L154*86.4),\"\",K154/L154*86.4)","v":20.093023255813954},null,null,null,null,{"$f":"IF(ISERROR(VLOOKUP(C154,BDDG!$A$2:$J$100,10,FALSE)),\"\",VLOOKUP(C154,BDDG!$A$2:$J$100,10,FALSE))","v":"DD30"},null,null,"",20.093023255813954,5,2004,{"$f":"IFERROR(INDEX($V$2:V154,MATCH(H154&MAX(IF($H$1:H153=H154,$A$1:A153)),$H$2:H154&$A$2:A154,0))-V154,\"\")","v":-15.203023255813953}]
["2004-05-05",null,815,{"$f":"IF(ISNA(VLOOKUP(C155,BDDG!$A$2:$F$100,2,FALSE)),\"\",VLOOKUP(C155,BDDG!$A$2:$F$100,2,FALSE))","v":0},{"$f":"IF(ISNA(VLOOKUP(C155,BDDG!$A$3:$J$102,3,FALSE)),\"\",VLOOKUP(C155,BDDG!$A$3:$J$102,3,FALSE))","v":"A"},{"$f":"IF(ISNA(VLOOKUP(C155,BDDG!$A$3:$J$102,4,FALSE)),\"\",VLOOKUP(C155,BDDG!$A$3:$J$102,4,FALSE))","v":106},{"$f":"IF(ISNA(VLOOKUP(C155,BDDG!$A$2:$F$100,5,FALSE)),\"\",VLOOKUP(C155,BDDG!$A$2:$F$100,5,FALSE))","v":"A10"},{"$f":"IF(ISNA(VLOOKUP(C155,BDDG!$A$2:$F$100,6,FALSE)),\"\",VLOOKUP(C155,BDDG!$A$2:$F$100,6,FALSE))","v":"AA31"},{"$f":"IF(ISERROR(VLOOKUP(C155,BDDG!$A$2:$G$100,7,FALSE)),\"\",VLOOKUP(C155,BDDG!$A$2:$G$100,7,FALSE))","v":1},{"$f":"IF(ISERROR(VLOOKUP(C155,BDDG!$A$2:$H$100,8,FALSE)),\"\",VLOOKUP(C155,BDDG!$A$2:$H$100,8,FALSE))","v":"BB31"},10,12,72.000000000000014,{"$f":"IF(ISERROR(VLOOKUP(C155,BDDG!$A$2:$I$100,9,FALSE)),\"\",VLOOKUP(C155,BDDG!$A$2:$I$100,9,FALSE))","v":"CC31"},null,null,{"$f":" IF(ISERROR(O155/P155*86.4),\"\",O155/P155*86.4)","v":""},{"$f":"IF(ISERROR(VLOOKUP(C155,BDDG!$A$2:$J$100,10,FALSE)),\"\",VLOOKUP(C155,BDDG!$A$2:$J$100,10,FALSE))","v":"DD31"},null,null,"",72.000000000000014,5,2004,{"$f":"IFERROR(INDEX($V$2:V155,MATCH(H155&MAX(IF($H$1:H154=H155,$A$1:A154)),$H$2:H155&$A$2:A155,0))-V155,\"\")","v":-65.353846153846163}]
["2004-06-10",null,856,{"$f":"IF(ISNA(VLOOKUP(C156,BDDG!$A$2:$F$100,2,FALSE)),\"\",VLOOKUP(C156,BDDG!$A$2:$F$100,2,FALSE))","v":0},{"$f":"IF(ISNA(VLOOKUP(C156,BDDG!$A$3:$J$102,3,FALSE)),\"\",VLOOKUP(C156,BDDG!$A$3:$J$102,3,FALSE))","v":"A"},{"$f":"IF(ISNA(VLOOKUP(C156,BDDG!$A$3:$J$102,4,FALSE)),\"\",VLOOKUP(C156,BDDG!$A$3:$J$102,4,FALSE))","v":106},{"$f":"IF(ISNA(VLOOKUP(C156,BDDG!$A$2:$F$100,5,FALSE)),\"\",VLOOKUP(C156,BDDG!$A$2:$F$100,5,FALSE))","v":"A9"},{"$f":"IF(ISNA(VLOOKUP(C156,BDDG!$A$2:$F$100,6,FALSE)),\"\",VLOOKUP(C156,BDDG!$A$2:$F$100,6,FALSE))","v":"AA27"},{"$f":"IF(ISERROR(VLOOKUP(C156,BDDG!$A$2:$G$100,7,FALSE)),\"\",VLOOKUP(C156,BDDG!$A$2:$G$100,7,FALSE))","v":2},{"$f":"IF(ISERROR(VLOOKUP(C156,BDDG!$A$2:$H$100,8,FALSE)),\"\",VLOOKUP(C156,BDDG!$A$2:$H$100,8,FALSE))","v":"BB27"},10,45,19.2,{"$f":"IF(ISERROR(VLOOKUP(C156,BDDG!$A$2:$I$100,9,FALSE)),\"\",VLOOKUP(C156,BDDG!$A$2:$I$100,9,FALSE))","v":"CC27"},10,4,216,{"$f":"IF(ISERROR(VLOOKUP(C156,BDDG!$A$2:$J$100,10,FALSE)),\"\",VLOOKUP(C156,BDDG!$A$2:$J$100,10,FALSE))","v":"DD27"},null,null,"",235.2,6,2004,{"$f":"IFERROR(INDEX($V$2:V156,MATCH(H156&MAX(IF($H$1:H155=H156,$A$1:A155)),$H$2:H156&$A$2:A156,0))-V156,\"\")","v":-159.59999999999997}]
["2004-06-15",null,842,{"$f":"IF(ISNA(VLOOKUP(C157,BDDG!$A$2:$F$100,2,FALSE)),\"\",VLOOKUP(C157,BDDG!$A$2:$F$100,2,FALSE))","v":0},{"$f":"IF(ISNA(VLOOKUP(C157,BDDG!$A$3:$J$102,3,FALSE)),\"\",VLOOKUP(C157,BDDG!$A$3:$J$102,3,FALSE))","v":"B"},{"$f":"IF(ISNA(VLOOKUP(C157,BDDG!$A$3:$J$102,4,FALSE)),\"\",VLOOKUP(C157,BDDG!$A$3:$J$102,4,FALSE))","v":106},{"$f":"IF(ISNA(VLOOKUP(C157,BDDG!$A$2:$F$100,5,FALSE)),\"\",VLOOKUP(C157,BDDG!$A$2:$F$100,5,FALSE))","v":"A5"},{"$f":"IF(ISNA(VLOOKUP(C157,BDDG!$A$2:$F$100,6,FALSE)),\"\",VLOOKUP(C157,BDDG!$A$2:$F$100,6,FALSE))","v":"AA13"},{"$f":"IF(ISERROR(VLOOKUP(C157,BDDG!$A$2:$G$100,7,FALSE)),\"\",VLOOKUP(C157,BDDG!$A$2:$G$100,7,FALSE))","v":1},{"$f":"IF(ISERROR(VLOOKUP(C157,BDDG!$A$2:$H$100,8,FALSE)),\"\",VLOOKUP(C157,BDDG!$A$2:$H$100,8,FALSE))","v":"BB13"},30,60,43.2,{"$f":"IF(ISERROR(VLOOKUP(C157,BDDG!$A$2:$I$100,9,FALSE)),\"\",VLOOKUP(C157,BDDG!$A$2:$I$100,9,FALSE))","v":"CC13"},null,null,"",{"$f":"IF(ISERROR(VLOOKUP(C157,BDDG!$A$2:$J$100,10,FALSE)),\"\",VLOOKUP(C157,BDDG!$A$2:$J$100,10,FALSE))","v":"DD13"},null,null,"",43.2,6,2004,{"$f":"IFERROR(INDEX($V$2:V157,MATCH(H157&MAX(IF($H$1:H156=H157,$A$1:A156)),$H$2:H157&$A$2:A157,0))-V157,\"\")","v":-29.907692307692308}]
["2004-06-15",null,848,{"$f":"IF(ISNA(VLOOKUP(C158,BDDG!$A$2:$F$100,2,FALSE)),\"\",VLOOKUP(C158,BDDG!$A$2:$F$100,2,FALSE))","v":0},{"$f":"IF(ISNA(VLOOKUP(C158,BDDG!$A$3:$J$102,3,FALSE)),\"\",VLOOKUP(C158,BDDG!$A$3:$J$102,3,FALSE))","v":"B"},{"$f":"IF(ISNA(VLOOKUP(C158,BDDG!$A$3:$J$102,4,FALSE)),\"\",VLOOKUP(C158,BDDG!$A$3:$J$102,4,FALSE))","v":106},{"$f":"IF(ISNA(VLOOKUP(C158,BDDG!$A$2:$F$100,5,FALSE)),\"\",VLOOKUP(C158,BDDG!$A$2:$F$100,5,FALSE))","v":"A7"},{"$f":"IF(ISNA(VLOOKUP(C158,BDDG!$A$2:$F$100,6,FALSE)),\"\",VLOOKUP(C158,BDDG!$A$2:$F$100,6,FALSE))","v":"AA19"},{"$f":"IF(ISERROR(VLOOKUP(C158,BDDG!$A$2:$G$100,7,FALSE)),\"\",VLOOKUP(C158,BDDG!$A$2:$G$100,7,FALSE))","v":2},{"$f":"IF(ISERROR(VLOOKUP(C158,BDDG!$A$2:$H$100,8,FALSE)),\"\",VLOOKUP(C158,BDDG!$A$2:$H$100,8,FALSE))","v":"BB19"},16,60,23.040000000000003,{"$f":"IF(ISERROR(VLOOKUP(C158,BDDG!$A$2:$I$100,9,FALSE)),\"\",VLOOKUP(C158,BDDG!$A$2:$I$100,9,FALSE))","v":"CC19"},null,null,"",{"$f":"IF(ISERROR(VLOOKUP(C158,BDDG!$A$2:$J$100,10,FALSE)),\"\",VLOOKUP(C158,BDDG!$A$2:$J$100,10,FALSE))","v":"DD19"},null,null,"",23.040000000000003,6,2004,{"$f":"IFERROR(INDEX($V$2:V158,MATCH(H158&MAX(IF($H$1:H157=H158,$A$1:A157)),$H$2:H158&$A$2:A158,0))-V158,\"\")","v":-12.240000000000002}]
["2004-06-15",null,847,{"$f":"IF(ISNA(VLOOKUP(C159,BDDG!$A$2:$F$100,2,FALSE)),\"\",VLOOKUP(C159,BDDG!$A$2:$F$100,2,FALSE))","v":0},{"$f":"IF(ISNA(VLOOKUP(C159,BDDG!$A$3:$J$102,3,FALSE)),\"\",VLOOKUP(C159,BDDG!$A$3:$J$102,3,FALSE))","v":"B"},{"$f":"IF(ISNA(VLOOKUP(C159,BDDG!$A$3:$J$102,4,FALSE)),\"\",VLOOKUP(C159,BDDG!$A$3:$J$102,4,FALSE))","v":106},{"$f":"IF(ISNA(VLOOKUP(C159,BDDG!$A$2:$F$100,5,FALSE)),\"\",VLOOKUP(C159,BDDG!$A$2:$F$100,5,FALSE))","v":"A7"},{"$f":"IF(ISNA(VLOOKUP(C159,BDDG!$A$2:$F$100,6,FALSE)),\"\",VLOOKUP(C159,BDDG!$A$2:$F$100,6,FALSE))","v":"AA18"},{"$f":"IF(ISERROR(VLOOKUP(C159,BDDG!$A$2:$G$100,7,FALSE)),\"\",VLOOKUP(C159,BDDG!$A$2:$G$100,7,FALSE))","v":2},{"$f":"IF(ISERROR(VLOOKUP(C159,BDDG!$A$2:$H$100,8,FALSE)),\"\",VLOOKUP(C159,BDDG!$A$2:$H$100,8,FALSE))","v":"BB18"},16,60,23.040000000000003,{"$f":"IF(ISERROR(VLOOKUP(C159,BDDG!$A$2:$I$100,9,FALSE)),\"\",VLOOKUP(C159,BDDG!$A$2:$I$100,9,FALSE))","v":"CC18"},12,60,17.28,{"$f":"IF(ISERROR(VLOOKUP(C159,BDDG!$A$2:$J$100,10,FALSE)),\"\",VLOOKUP(C159,BDDG!$A$2:$J$100,10,FALSE))","v":"DD18"},null,null,"",40.320000000000007,6,2004,{"$f":"IFERROR(INDEX($V$2:V159,MATCH(H159&MAX(IF($H$1:H158=H159,$A$1:A158)),$H$2:H159&$A$2:A159,0))-V159,\"\")","v":-26.640000000000008}]
["2004-06-17",null,835,{"$f":"IF(ISNA(VLOOKUP(C160,BDDG!$A$2:$F$100,2,FALSE)),\"\",VLOOKUP(C160,BDDG!$A$2:$F$100,2,FALSE))","v":0},{"$f":"IF(ISNA(VLOOKUP(C160,BDDG!$A$3:$J$102,3,FALSE)),\"\",VLOOKUP(C160,BDDG!$A$3:$J$102,3,FALSE))","v":"A"},{"$f":"IF(ISNA(VLOOKUP(C160,BDDG!$A$3:$J$102,4,FALSE)),\"\",VLOOKUP(C160,BDDG!$A$3:$J$102,4,FALSE))","v":106},{"$f":"IF(ISNA(VLOOKUP(C160,BDDG!$A$2:$F$100,5,FALSE)),\"\",VLOOKUP(C160,BDDG!$A$2:$F$100,5,FALSE))","v":"A3"},{"$f":"IF(ISNA(VLOOKUP(C160,BDDG!$A$2:$F$100,6,FALSE)),\"\",VLOOKUP(C160,BDDG!$A$2:$F$100,6,FALSE))","v":"AA5"},{"$f":"IF(ISERROR(VLOOKUP(C160,BDDG!$A$2:$G$100,7,FALSE)),\"\",VLOOKUP(C160,BDDG!$A$2:$G$100,7,FALSE))","v":1},{"$f":"IF(ISERROR(VLOOKUP(C160,BDDG!$A$2:$H$100,8,FALSE)),\"\",VLOOKUP(C160,BDDG!$A$2:$H$100,8,FALSE))","v":"BB5"},12,160,6.48,{"$f":"IF(ISERROR(VLOOKUP(C160,BDDG!$A$2:$I$100,9,FALSE)),\"\",VLOOKUP(C160,BDDG!$A$2:$I$100,9,FALSE))","v":"CC5"},null,null,"",{"$f":"IF(ISERROR(VLOOKUP(C160,BDDG!$A$2:$J$100,10,FALSE)),\"\",VLOOKUP(C160,BDDG!$A$2:$J$100,10,FALSE))","v":"DD5"},null,null,"",6.48,6,2004,{"$f":"IFERROR(INDEX($V$2:V160,MATCH(H160&MAX(IF($H$1:H159=H160,$A$1:A159)),$H$2:H160&$A$2:A160,0))-V160,\"\")","v":15.120000000000001}]
["2004-06-24",null,815,{"$f":"IF(ISNA(VLOOKUP(C161,BDDG!$A$2:$F$100,2,FALSE)),\"\",VLOOKUP(C161,BDDG!$A$2:$F$100,2,FALSE))","v":0},{"$f":"IF(ISNA(VLOOKUP(C161,BDDG!$A$3:$J$102,3,FALSE)),\"\",VLOOKUP(C161,BDDG!$A$3:$J$102,3,FALSE))","v":"A"},{"$f":"IF(ISNA(VLOOKUP(C161,BDDG!$A$3:$J$102,4,FALSE)),\"\",VLOOKUP(C161,BDDG!$A$3:$J$102,4,FALSE))","v":106},{"$f":"IF(ISNA(VLOOKUP(C161,BDDG!$A$2:$F$100,5,FALSE)),\"\",VLOOKUP(C161,BDDG!$A$2:$F$100,5,FALSE))","v":"A10"},{"$f":"IF(ISNA(VLOOKUP(C161,BDDG!$A$2:$F$100,6,FALSE)),\"\",VLOOKUP(C161,BDDG!$A$2:$F$100,6,FALSE))","v":"AA31"},{"$f":"IF(ISERROR(VLOOKUP(C161,BDDG!$A$2:$G$100,7,FALSE)),\"\",VLOOKUP(C161,BDDG!$A$2:$G$100,7,FALSE))","v":1},{"$f":"IF(ISERROR(VLOOKUP(C161,BDDG!$A$2:$H$100,8,FALSE)),\"\",VLOOKUP(C161,BDDG!$A$2:$H$100,8,FALSE))","v":"BB31"},10,35,24.685714285714287,{"$f":"IF(ISERROR(VLOOKUP(C161,BDDG!$A$2:$I$100,9,FALSE)),\"\",VLOOKUP(C161,BDDG!$A$2:$I$100,9,FALSE))","v":"CC31"},null,null,"",{"$f":"IF(ISERROR(VLOOKUP(C161,BDDG!$A$2:$J$100,10,FALSE)),\"\",VLOOKUP(C161,BDDG!$A$2:$J$100,10,FALSE))","v":"DD31"},null,null,"",24.685714285714287,6,2004,{"$f":"IFERROR(INDEX($V$2:V161,MATCH(H161&MAX(IF($H$1:H160=H161,$A$1:A160)),$H$2:H161&$A$2:A161,0))-V161,\"\")","v":47.314285714285731}]
["2004-07-02",null,837,{"$f":"IF(ISNA(VLOOKUP(C162,BDDG!$A$2:$F$100,2,FALSE)),\"\",VLOOKUP(C162,BDDG!$A$2:$F$100,2,FALSE))","v":0},{"$f":"IF(ISNA(VLOOKUP(C162,BDDG!$A$3:$J$102,3,FALSE)),\"\",VLOOKUP(C162,BDDG!$A$3:$J$102,3,FALSE))","v":"A"},{"$f":"IF(ISNA(VLOOKUP(C162,BDDG!$A$3:$J$102,4,FALSE)),\"\",VLOOKUP(C162,BDDG!$A$3:$J$102,4,FALSE))","v":106},{"$f":"IF(ISNA(VLOOKUP(C162,BDDG!$A$2:$F$100,5,FALSE)),\"\",VLOOKUP(C162,BDDG!$A$2:$F$100,5,FALSE))","v":"A3"},{"$f":"IF(ISNA(VLOOKUP(C162,BDDG!$A$2:$F$100,6,FALSE)),\"\",VLOOKUP(C162,BDDG!$A$2:$F$100,6,FALSE))","v":"AA7"},{"$f":"IF(ISERROR(VLOOKUP(C162,BDDG!$A$2:$G$100,7,FALSE)),\"\",VLOOKUP(C162,BDDG!$A$2:$G$100,7,FALSE))","v":1},{"$f":"IF(ISERROR(VLOOKUP(C162,BDDG!$A$2:$H$100,8,FALSE)),\"\",VLOOKUP(C162,BDDG!$A$2:$H$100,8,FALSE))","v":"BB7"},0.2,1,17.28,{"$f":"IF(ISERROR(VLOOKUP(C162,BDDG!$A$2:$I$100,9,FALSE)),\"\",VLOOKUP(C162,BDDG!$A$2:$I$100,9,FALSE))","v":"CC7"},null,null,"",{"$f":"IF(ISERROR(VLOOKUP(C162,BDDG!$A$2:$J$100,10,FALSE)),\"\",VLOOKUP(C162,BDDG!$A$2:$J$100,10,FALSE))","v":"DD7"},null,null,"",17.28,7,2004,{"$f":"IFERROR(INDEX($V$2:V162,MATCH(H162&MAX(IF($H$1:H161=H162,$A$1:A161)),$H$2:H162&$A$2:A162,0))-V162,\"\")","v":-10.080000000000002}]
["2004-07-02",null,836,{"$f":"IF(ISNA(VLOOKUP(C163,BDDG!$A$2:$F$100,2,FALSE)),\"\",VLOOKUP(C163,BDDG!$A$2:$F$100,2,FALSE))","v":0},{"$f":"IF(ISNA(VLOOKUP(C163,BDDG!$A$3:$J$102,3,FALSE)),\"\",VLOOKUP(C163,BDDG!$A$3:$J$102,3,FALSE))","v":"A"},{"$f":"IF(ISNA(VLOOKUP(C163,BDDG!$A$3:$J$102,4,FALSE)),\"\",VLOOKUP(C163,BDDG!$A$3:$J$102,4,FALSE))","v":106},{"$f":"IF(ISNA(VLOOKUP(C163,BDDG!$A$2:$F$100,5,FALSE)),\"\",VLOOKUP(C163,BDDG!$A$2:$F$100,5,FALSE))","v":"A3"},{"$f":"IF(ISNA(VLOOKUP(C163,BDDG!$A$2:$F$100,6,FALSE)),\"\",VLOOKUP(C163,BDDG!$A$2:$F$100,6,FALSE))","v":"AA6"},{"$f":"IF(ISERROR(VLOOKUP(C163,BDDG!$A$2:$G$100,7,FALSE)),\"\",VLOOKUP(C163,BDDG!$A$2:$G$100,7,FALSE))","v":1},{"$f":"IF(ISERROR(VLOOKUP(C163,BDDG!$A$2:$H$100,8,FALSE)),\"\",VLOOKUP(C163,BDDG!$A$2:$H$100,8,FALSE))","v":"BB6"},0.66,1,57.024000000000008,{"$f":"IF(ISERROR(VLOOKUP(C163,BDDG!$A$2:$I$100,9,FALSE)),\"\",VLOOKUP(C163,BDDG!$A$2:$I$100,9,FALSE))","v":"CC6"},null,null,"",{"$f":"IF(ISERROR(VLOOKUP(C163,BDDG!$A$2:$J$100,10,FALSE)),\"\",VLOOKUP(C163,BDDG!$A$2:$J$100,10,FALSE))","v":"DD6"},null,null,"",57.024000000000008,7,2004,{"$f":"IFERROR(INDEX($V$2:V163,MATCH(H163&MAX(IF($H$1:H162=H163,$A$1:A162)),$H$2:H163&$A$2:A163,0))-V163,\"\")","v":94.176000000000016}]
["2004-07-02",null,839,{"$f":"IF(ISNA(VLOOKUP(C164,BDDG!$A$2:$F$100,2,FALSE)),\"\",VLOOKUP(C164,BDDG!$A$2:$F$100,2,FALSE))","v":0},{"$f":"IF(ISNA(VLOOKUP(C164,BDDG!$A$3:$J$102,3,FALSE)),\"\",VLOOKUP(C164,BDDG!$A$3:$J$102,3,FALSE))","v":"A"},{"$f":"IF(ISNA(VLOOKUP(C164,BDDG!$A$3:$J$102,4,FALSE)),\"\",VLOOKUP(C164,BDDG!$A$3:$J$102,4,FALSE))","v":106},{"$f":"IF(ISNA(VLOOKUP(C164,BDDG!$A$2:$F$100,5,FALSE)),\"\",VLOOKUP(C164,BDDG!$A$2:$F$100,5,FALSE))","v":"A3"},{"$f":"IF(ISNA(VLOOKUP(C164,BDDG!$A$2:$F$100,6,FALSE)),\"\",VLOOKUP(C164,BDDG!$A$2:$F$100,6,FALSE))","v":"AA10"},{"$f":"IF(ISERROR(VLOOKUP(C164,BDDG!$A$2:$G$100,7,FALSE)),\"\",VLOOKUP(C164,BDDG!$A$2:$G$100,7,FALSE))","v":2},{"$f":"IF(ISERROR(VLOOKUP(C164,BDDG!$A$2:$H$100,8,FALSE)),\"\",VLOOKUP(C164,BDDG!$A$2:$H$100,8,FALSE))","v":"BB10"},null,null,74.3,{"$f":"IF(ISERROR(VLOOKUP(C164,BDDG!$A$2:$I$100,9,FALSE)),\"\",VLOOKUP(C164,BDDG!$A$2:$I$100,9,FALSE))","v":"CC10"},null,null,"",{"$f":"IF(ISERROR(VLOOKUP(C164,BDDG!$A$2:$J$100,10,FALSE)),\"\",VLOOKUP(C164,BDDG!$A$2:$J$100,10,FALSE))","v":"DD10"},null,null,"",74.3,7,2004,{"$f":"IFERROR(INDEX($V$2:V164,MATCH(H164&MAX(IF($H$1:H163=H164,$A$1:A163)),$H$2:H164&$A$2:A164,0))-V164,\"\")","v":84.100000000000009}]
["2004-09-21",null,815,{"$f":"IF(ISNA(VLOOKUP(C165,BDDG!$A$2:$F$100,2,FALSE)),\"\",VLOOKUP(C165,BDDG!$A$2:$F$100,2,FALSE))","v":0},{"$f":"IF(ISNA(VLOOKUP(C165,BDDG!$A$3:$J$102,3,FALSE)),\"\",VLOOKUP(C165,BDDG!$A$3:$J$102,3,FALSE))","v":"A"},{"$f":"IF(ISNA(VLOOKUP(C165,BDDG!$A$3:$J$102,4,FALSE)),\"\",VLOOKUP(C165,BDDG!$A$3:$J$102,4,FALSE))","v":106},{"$f":"IF(ISNA(VLOOKUP(C165,BDDG!$A$2:$F$100,5,FALSE)),\"\",VLOOKUP(C165,BDDG!$A$2:$F$100,5,FALSE))","v":"A10"},{"$f":"IF(ISNA(VLOOKUP(C165,BDDG!$A$2:$F$100,6,FALSE)),\"\",VLOOKUP(C165,BDDG!$A$2:$F$100,6,FALSE))","v":"AA31"},{"$f":"IF(ISERROR(VLOOKUP(C165,BDDG!$A$2:$G$100,7,FALSE)),\"\",VLOOKUP(C165,BDDG!$A$2:$G$100,7,FALSE))","v":1},{"$f":"IF(ISERROR(VLOOKUP(C165,BDDG!$A$2:$H$100,8,FALSE)),\"\",VLOOKUP(C165,BDDG!$A$2:$H$100,8,FALSE))","v":"BB31"},15,95,{"$f":" IF(ISERROR(K165/L165*86.4),\"\",K165/L165*86.4)","v":13.642105263157895},{"$f":"IF(ISERROR(VLOOKUP(C165,BDDG!$A$2:$I$100,9,FALSE)),\"\",VLOOKUP(C165,BDDG!$A$2:$I$100,9,FALSE))","v":"CC31"},null,null,"",{"$f":"IF(ISERROR(VLOOKUP(C165,BDDG!$A$2:$J$100,10,FALSE)),\"\",VLOOKUP(C165,BDDG!$A$2:$J$100,10,FALSE))","v":"DD31"},null,null,"",13.642105263157895,9,2004,{"$f":"IFERROR(INDEX($V$2:V165,MATCH(H165&MAX(IF($H$1:H164=H165,$A$1:A164)),$H$2:H165&$A$2:A165,0))-V165,\"\")","v":11.043609022556392}]
["2004-09-22",null,815,{"$f":"IF(ISNA(VLOOKUP(C166,BDDG!$A$2:$F$100,2,FALSE)),\"\",VLOOKUP(C166,BDDG!$A$2:$F$100,2,FALSE))","v":0},{"$f":"IF(ISNA(VLOOKUP(C166,BDDG!$A$3:$J$102,3,FALSE)),\"\",VLOOKUP(C166,BDDG!$A$3:$J$102,3,FALSE))","v":"A"},{"$f":"IF(ISNA(VLOOKUP(C166,BDDG!$A$3:$J$102,4,FALSE)),\"\",VLOOKUP(C166,BDDG!$A$3:$J$102,4,FALSE))","v":106},{"$f":"IF(ISNA(VLOOKUP(C166,BDDG!$A$2:$F$100,5,FALSE)),\"\",VLOOKUP(C166,BDDG!$A$2:$F$100,5,FALSE))","v":"A10"},{"$f":"IF(ISNA(VLOOKUP(C166,BDDG!$A$2:$F$100,6,FALSE)),\"\",VLOOKUP(C166,BDDG!$A$2:$F$100,6,FALSE))","v":"AA31"},{"$f":"IF(ISERROR(VLOOKUP(C166,BDDG!$A$2:$G$100,7,FALSE)),\"\",VLOOKUP(C166,BDDG!$A$2:$G$100,7,FALSE))","v":1},{"$f":"IF(ISERROR(VLOOKUP(C166,BDDG!$A$2:$H$100,8,FALSE)),\"\",VLOOKUP(C166,BDDG!$A$2:$H$100,8,FALSE))","v":"BB31"},15,250,{"$f":" IF(ISERROR(K166/L166*86.4),\"\",K166/L166*86.4)","v":5.1840000000000002},{"$f":"IF(ISERROR(VLOOKUP(C166,BDDG!$A$2:$I$100,9,FALSE)),\"\",VLOOKUP(C166,BDDG!$A$2:$I$100,9,FALSE))","v":"CC31"},null,null,"",{"$f":"IF(ISERROR(VLOOKUP(C166,BDDG!$A$2:$J$100,10,FALSE)),\"\",VLOOKUP(C166,BDDG!$A$2:$J$100,10,FALSE))","v":"DD31"},null,null,"",5.1840000000000002,9,2004,{"$f":"IFERROR(INDEX($V$2:V166,MATCH(H166&MAX(IF($H$1:H165=H166,$A$1:A165)),$H$2:H166&$A$2:A166,0))-V166,\"\")","v":8.4581052631578935}]
["2004-09-25",null,815,{"$f":"IF(ISNA(VLOOKUP(C167,BDDG!$A$2:$F$100,2,FALSE)),\"\",VLOOKUP(C167,BDDG!$A$2:$F$100,2,FALSE))","v":0},{"$f":"IF(ISNA(VLOOKUP(C167,BDDG!$A$3:$J$102,3,FALSE)),\"\",VLOOKUP(C167,BDDG!$A$3:$J$102,3,FALSE))","v":"A"},{"$f":"IF(ISNA(VLOOKUP(C167,BDDG!$A$3:$J$102,4,FALSE)),\"\",VLOOKUP(C167,BDDG!$A$3:$J$102,4,FALSE))","v":106},{"$f":"IF(ISNA(VLOOKUP(C167,BDDG!$A$2:$F$100,5,FALSE)),\"\",VLOOKUP(C167,BDDG!$A$2:$F$100,5,FALSE))","v":"A10"},{"$f":"IF(ISNA(VLOOKUP(C167,BDDG!$A$2:$F$100,6,FALSE)),\"\",VLOOKUP(C167,BDDG!$A$2:$F$100,6,FALSE))","v":"AA31"},{"$f":"IF(ISERROR(VLOOKUP(C167,BDDG!$A$2:$G$100,7,FALSE)),\"\",VLOOKUP(C167,BDDG!$A$2:$G$100,7,FALSE))","v":1},{"$f":"IF(ISERROR(VLOOKUP(C167,BDDG!$A$2:$H$100,8,FALSE)),\"\",VLOOKUP(C167,BDDG!$A$2:$H$100,8,FALSE))","v":"BB31"},15,240,{"$f":" IF(ISERROR(K167/L167*86.4),\"\",K167/L167*86.4)","v":5.4},{"$f":"IF(ISERROR(VLOOKUP(C167,BDDG!$A$2:$I$100,9,FALSE)),\"\",VLOOKUP(C167,BDDG!$A$2:$I$100,9,FALSE))","v":"CC31"},null,null,"",{"$f":"IF(ISERROR(VLOOKUP(C167,BDDG!$A$2:$J$100,10,FALSE)),\"\",VLOOKUP(C167,BDDG!$A$2:$J$100,10,FALSE))","v":"DD31"},null,null,"",5.4,9,2004,{"$f":"IFERROR(INDEX($V$2:V167,MATCH(H167&MAX(IF($H$1:H166=H167,$A$1:A166)),$H$2:H167&$A$2:A167,0))-V167,\"\")","v":-0.21600000000000019}]
["2004-09-26",null,815,{"$f":"IF(ISNA(VLOOKUP(C168,BDDG!$A$2:$F$100,2,FALSE)),\"\",VLOOKUP(C168,BDDG!$A$2:$F$100,2,FALSE))","v":0},{"$f":"IF(ISNA(VLOOKUP(C168,BDDG!$A$3:$J$102,3,FALSE)),\"\",VLOOKUP(C168,BDDG!$A$3:$J$102,3,FALSE))","v":"A"},{"$f":"IF(ISNA(VLOOKUP(C168,BDDG!$A$3:$J$102,4,FALSE)),\"\",VLOOKUP(C168,BDDG!$A$3:$J$102,4,FALSE))","v":106},{"$f":"IF(ISNA(VLOOKUP(C168,BDDG!$A$2:$F$100,5,FALSE)),\"\",VLOOKUP(C168,BDDG!$A$2:$F$100,5,FALSE))","v":"A10"},{"$f":"IF(ISNA(VLOOKUP(C168,BDDG!$A$2:$F$100,6,FALSE)),\"\",VLOOKUP(C168,BDDG!$A$2:$F$100,6,FALSE))","v":"AA31"},{"$f":"IF(ISERROR(VLOOKUP(C168,BDDG!$A$2:$G$100,7,FALSE)),\"\",VLOOKUP(C168,BDDG!$A$2:$G$100,7,FALSE))","v":1},{"$f":"IF(ISERROR(VLOOKUP(C168,BDDG!$A$2:$H$100,8,FALSE)),\"\",VLOOKUP(C168,BDDG!$A$2:$H$100,8,FALSE))","v":"BB31"},15,255,{"$f":" IF(ISERROR(K168/L167*86.4),\"\",K168/L167*86.4)","v":5.4},{"$f":"IF(ISERROR(VLOOKUP(C168,BDDG!$A$2:$I$100,9,FALSE)),\"\",VLOOKUP(C168,BDDG!$A$2:$I$100,9,FALSE))","v":"CC31"},null,null,"",{"$f":"IF(ISERROR(VLOOKUP(C168,BDDG!$A$2:$J$100,10,FALSE)),\"\",VLOOKUP(C168,BDDG!$A$2:$J$100,10,FALSE))","v":"DD31"},null,null,"",5.4,9,2004,{"$f":"IFERROR(INDEX($V$2:V168,MATCH(H168&MAX(IF($H$1:H167=H168,$A$1:A167)),$H$2:H168&$A$2:A168,0))-V168,\"\")","v":0}]
["2004-09-27",null,815,{"$f":"IF(ISNA(VLOOKUP(C169,BDDG!$A$2:$F$100,2,FALSE)),\"\",VLOOKUP(C169,BDDG!$A$2:$F$100,2,FALSE))","v":0},{"$f":"IF(ISNA(VLOOKUP(C169,BDDG!$A$3:$J$102,3,FALSE)),\"\",VLOOKUP(C169,BDDG!$A$3:$J$102,3,FALSE))","v":"A"},{"$f":"IF(ISNA(VLOOKUP(C169,BDDG!$A$3:$J$102,4,FALSE)),\"\",VLOOKUP(C169,BDDG!$A$3:$J$102,4,FALSE))","v":106},{"$f":"IF(ISNA(VLOOKUP(C169,BDDG!$A$2:$F$100,5,FALSE)),\"\",VLOOKUP(C169,BDDG!$A$2:$F$100,5,FALSE))","v":"A10"},{"$f":"IF(ISNA(VLOOKUP(C169,BDDG!$A$2:$F$100,6,FALSE)),\"\",VLOOKUP(C169,BDDG!$A$2:$F$100,6,FALSE))","v":"AA31"},{"$f":"IF(ISERROR(VLOOKUP(C169,BDDG!$A$2:$G$100,7,FALSE)),\"\",VLOOKUP(C169,BDDG!$A$2:$G$100,7,FALSE))","v":1},{"$f":"IF(ISERROR(VLOOKUP(C169,BDDG!$A$2:$H$100,8,FALSE)),\"\",VLOOKUP(C169,BDDG!$A$2:$H$100,8,FALSE))","v":"BB31"},15,270,{"$f":" IF(ISERROR(K169/L168*86.4),\"\",K169/L168*86.4)","v":5.0823529411764712},{"$f":"IF(ISERROR(VLOOKUP(C169,BDDG!$A$2:$I$100,9,FALSE)),\"\",VLOOKUP(C169,BDDG!$A$2:$I$100,9,FALSE))","v":"CC31"},null,null,"",{"$f":"IF(ISERROR(VLOOKUP(C169,BDDG!$A$2:$J$100,10,FALSE)),\"\",VLOOKUP(C169,BDDG!$A$2:$J$100,10,FALSE))","v":"DD31"},null,null,"",5.0823529411764712,9,2004,{"$f":"IFERROR(INDEX($V$2:V169,MATCH(H169&MAX(IF($H$1:H168=H169,$A$1:A168)),$H$2:H169&$A$2:A169,0))-V169,\"\")","v":0.31764705882352917}]
["2004-09-28",null,815,{"$f":"IF(ISNA(VLOOKUP(C170,BDDG!$A$2:$F$100,2,FALSE)),\"\",VLOOKUP(C170,BDDG!$A$2:$F$100,2,FALSE))","v":0},{"$f":"IF(ISNA(VLOOKUP(C170,BDDG!$A$3:$J$102,3,FALSE)),\"\",VLOOKUP(C170,BDDG!$A$3:$J$102,3,FALSE))","v":"A"},{"$f":"IF(ISNA(VLOOKUP(C170,BDDG!$A$3:$J$102,4,FALSE)),\"\",VLOOKUP(C170,BDDG!$A$3:$J$102,4,FALSE))","v":106},{"$f":"IF(ISNA(VLOOKUP(C170,BDDG!$A$2:$F$100,5,FALSE)),\"\",VLOOKUP(C170,BDDG!$A$2:$F$100,5,FALSE))","v":"A10"},{"$f":"IF(ISNA(VLOOKUP(C170,BDDG!$A$2:$F$100,6,FALSE)),\"\",VLOOKUP(C170,BDDG!$A$2:$F$100,6,FALSE))","v":"AA31"},{"$f":"IF(ISERROR(VLOOKUP(C170,BDDG!$A$2:$G$100,7,FALSE)),\"\",VLOOKUP(C170,BDDG!$A$2:$G$100,7,FALSE))","v":1},{"$f":"IF(ISERROR(VLOOKUP(C170,BDDG!$A$2:$H$100,8,FALSE)),\"\",VLOOKUP(C170,BDDG!$A$2:$H$100,8,FALSE))","v":"BB31"},15,275,{"$f":" IF(ISERROR(K170/L169*86.4),\"\",K170/L169*86.4)","v":4.8},{"$f":"IF(ISERROR(VLOOKUP(C170,BDDG!$A$2:$I$100,9,FALSE)),\"\",VLOOKUP(C170,BDDG!$A$2:$I$100,9,FALSE))","v":"CC31"},null,null,"",{"$f":"IF(ISERROR(VLOOKUP(C170,BDDG!$A$2:$J$100,10,FALSE)),\"\",VLOOKUP(C170,BDDG!$A$2:$J$100,10,FALSE))","v":"DD31"},null,null,"",{"$f":"IF(ISERROR(SUM(M170,Q170,U170)),\"\",SUM(M170,Q170,U170))","v":4.8},9,2004,{"$f":"IFERROR(INDEX($V$2:V170,MATCH(H170&MAX(IF($H$1:H169=H170,$A$1:A169)),$H$2:H170&$A$2:A170,0))-V170,\"\")","v":0.28235294117647136}]
["2004-09-29",null,815,{"$f":"IF(ISNA(VLOOKUP(C171,BDDG!$A$2:$F$100,2,FALSE)),\"\",VLOOKUP(C171,BDDG!$A$2:$F$100,2,FALSE))","v":0},{"$f":"IF(ISNA(VLOOKUP(C171,BDDG!$A$3:$J$102,3,FALSE)),\"\",VLOOKUP(C171,BDDG!$A$3:$J$102,3,FALSE))","v":"A"},{"$f":"IF(ISNA(VLOOKUP(C171,BDDG!$A$3:$J$102,4,FALSE)),\"\",VLOOKUP(C171,BDDG!$A$3:$J$102,4,FALSE))","v":106},{"$f":"IF(ISNA(VLOOKUP(C171,BDDG!$A$2:$F$100,5,FALSE)),\"\",VLOOKUP(C171,BDDG!$A$2:$F$100,5,FALSE))","v":"A10"},{"$f":"IF(ISNA(VLOOKUP(C171,BDDG!$A$2:$F$100,6,FALSE)),\"\",VLOOKUP(C171,BDDG!$A$2:$F$100,6,FALSE))","v":"AA31"},{"$f":"IF(ISERROR(VLOOKUP(C171,BDDG!$A$2:$G$100,7,FALSE)),\"\",VLOOKUP(C171,BDDG!$A$2:$G$100,7,FALSE))","v":1},{"$f":"IF(ISERROR(VLOOKUP(C171,BDDG!$A$2:$H$100,8,FALSE)),\"\",VLOOKUP(C171,BDDG!$A$2:$H$100,8,FALSE))","v":"BB31"},15,275,{"$f":" IF(ISERROR(K171/L170*86.4),\"\",K171/L170*86.4)","v":4.7127272727272729},{"$f":"IF(ISERROR(VLOOKUP(C171,BDDG!$A$2:$I$100,9,FALSE)),\"\",VLOOKUP(C171,BDDG!$A$2:$I$100,9,FALSE))","v":"CC31"},null,null,"",{"$f":"IF(ISERROR(VLOOKUP(C171,BDDG!$A$2:$J$100,10,FALSE)),\"\",VLOOKUP(C171,BDDG!$A$2:$J$100,10,FALSE))","v":"DD31"},null,null,"",4.7127272727272729,9,2004,{"$f":"IFERROR(INDEX($V$2:V171,MATCH(H171&MAX(IF($H$1:H170=H171,$A$1:A170)),$H$2:H171&$A$2:A171,0))-V171,\"\")","v":8.7272727272726947E-2}]
["2004-09-29",null,815,{"$f":"IF(ISNA(VLOOKUP(C172,BDDG!$A$2:$F$100,2,FALSE)),\"\",VLOOKUP(C172,BDDG!$A$2:$F$100,2,FALSE))","v":0},{"$f":"IF(ISNA(VLOOKUP(C172,BDDG!$A$3:$J$102,3,FALSE)),\"\",VLOOKUP(C172,BDDG!$A$3:$J$102,3,FALSE))","v":"A"},{"$f":"IF(ISNA(VLOOKUP(C172,BDDG!$A$3:$J$102,4,FALSE)),\"\",VLOOKUP(C172,BDDG!$A$3:$J$102,4,FALSE))","v":106},{"$f":"IF(ISNA(VLOOKUP(C172,BDDG!$A$2:$F$100,5,FALSE)),\"\",VLOOKUP(C172,BDDG!$A$2:$F$100,5,FALSE))","v":"A10"},{"$f":"IF(ISNA(VLOOKUP(C172,BDDG!$A$2:$F$100,6,FALSE)),\"\",VLOOKUP(C172,BDDG!$A$2:$F$100,6,FALSE))","v":"AA31"},{"$f":"IF(ISERROR(VLOOKUP(C172,BDDG!$A$2:$G$100,7,FALSE)),\"\",VLOOKUP(C172,BDDG!$A$2:$G$100,7,FALSE))","v":1},{"$f":"IF(ISERROR(VLOOKUP(C172,BDDG!$A$2:$H$100,8,FALSE)),\"\",VLOOKUP(C172,BDDG!$A$2:$H$100,8,FALSE))","v":"BB31"},15,275,4.71,{"$f":"IF(ISERROR(VLOOKUP(C172,BDDG!$A$2:$I$100,9,FALSE)),\"\",VLOOKUP(C172,BDDG!$A$2:$I$100,9,FALSE))","v":"CC31"},null,null,"",{"$f":"IF(ISERROR(VLOOKUP(C172,BDDG!$A$2:$J$100,10,FALSE)),\"\",VLOOKUP(C172,BDDG!$A$2:$J$100,10,FALSE))","v":"DD31"},null,null,"",4.71,9,2004,{"$f":"IFERROR(INDEX($V$2:V172,MATCH(H172&MAX(IF($H$1:H171=H172,$A$1:A171)),$H$2:H172&$A$2:A172,0))-V172,\"\")","v":2.7272727272729114E-3}]
["2004-10-01",null,815,{"$f":"IF(ISNA(VLOOKUP(C173,BDDG!$A$2:$F$100,2,FALSE)),\"\",VLOOKUP(C173,BDDG!$A$2:$F$100,2,FALSE))","v":0},{"$f":"IF(ISNA(VLOOKUP(C173,BDDG!$A$3:$J$102,3,FALSE)),\"\",VLOOKUP(C173,BDDG!$A$3:$J$102,3,FALSE))","v":"A"},{"$f":"IF(ISNA(VLOOKUP(C173,BDDG!$A$3:$J$102,4,FALSE)),\"\",VLOOKUP(C173,BDDG!$A$3:$J$102,4,FALSE))","v":106},{"$f":"IF(ISNA(VLOOKUP(C173,BDDG!$A$2:$F$100,5,FALSE)),\"\",VLOOKUP(C173,BDDG!$A$2:$F$100,5,FALSE))","v":"A10"},{"$f":"IF(ISNA(VLOOKUP(C173,BDDG!$A$2:$F$100,6,FALSE)),\"\",VLOOKUP(C173,BDDG!$A$2:$F$100,6,FALSE))","v":"AA31"},{"$f":"IF(ISERROR(VLOOKUP(C173,BDDG!$A$2:$G$100,7,FALSE)),\"\",VLOOKUP(C173,BDDG!$A$2:$G$100,7,FALSE))","v":1},{"$f":"IF(ISERROR(VLOOKUP(C173,BDDG!$A$2:$H$100,8,FALSE)),\"\",VLOOKUP(C173,BDDG!$A$2:$H$100,8,FALSE))","v":"BB31"},15,270,{"$f":" IF(ISERROR(K173/L172*86.4),\"\",K173/L172*86.4)","v":4.7127272727272729},{"$f":"IF(ISERROR(VLOOKUP(C173,BDDG!$A$2:$I$100,9,FALSE)),\"\",VLOOKUP(C173,BDDG!$A$2:$I$100,9,FALSE))","v":"CC31"},null,null,"",{"$f":"IF(ISERROR(VLOOKUP(C173,BDDG!$A$2:$J$100,10,FALSE)),\"\",VLOOKUP(C173,BDDG!$A$2:$J$100,10,FALSE))","v":"DD31"},null,null,"",4.7127272727272729,10,2004,{"$f":"IFERROR(INDEX($V$2:V173,MATCH(H173&MAX(IF($H$1:H172=H173,$A$1:A172)),$H$2:H173&$A$2:A173,0))-V173,\"\")","v":0}]
["2004-10-02",null,815,{"$f":"IF(ISNA(VLOOKUP(C174,BDDG!$A$2:$F$100,2,FALSE)),\"\",VLOOKUP(C174,BDDG!$A$2:$F$100,2,FALSE))","v":0},{"$f":"IF(ISNA(VLOOKUP(C174,BDDG!$A$3:$J$102,3,FALSE)),\"\",VLOOKUP(C174,BDDG!$A$3:$J$102,3,FALSE))","v":"A"},{"$f":"IF(ISNA(VLOOKUP(C174,BDDG!$A$3:$J$102,4,FALSE)),\"\",VLOOKUP(C174,BDDG!$A$3:$J$102,4,FALSE))","v":106},{"$f":"IF(ISNA(VLOOKUP(C174,BDDG!$A$2:$F$100,5,FALSE)),\"\",VLOOKUP(C174,BDDG!$A$2:$F$100,5,FALSE))","v":"A10"},{"$f":"IF(ISNA(VLOOKUP(C174,BDDG!$A$2:$F$100,6,FALSE)),\"\",VLOOKUP(C174,BDDG!$A$2:$F$100,6,FALSE))","v":"AA31"},{"$f":"IF(ISERROR(VLOOKUP(C174,BDDG!$A$2:$G$100,7,FALSE)),\"\",VLOOKUP(C174,BDDG!$A$2:$G$100,7,FALSE))","v":1},{"$f":"IF(ISERROR(VLOOKUP(C174,BDDG!$A$2:$H$100,8,FALSE)),\"\",VLOOKUP(C174,BDDG!$A$2:$H$100,8,FALSE))","v":"BB31"},15,280,4.8,{"$f":"IF(ISERROR(VLOOKUP(C174,BDDG!$A$2:$I$100,9,FALSE)),\"\",VLOOKUP(C174,BDDG!$A$2:$I$100,9,FALSE))","v":"CC31"},null,null,"",{"$f":"IF(ISERROR(VLOOKUP(C174,BDDG!$A$2:$J$100,10,FALSE)),\"\",VLOOKUP(C174,BDDG!$A$2:$J$100,10,FALSE))","v":"DD31"},null,null,"",4.8,10,2004,{"$f":"IFERROR(INDEX($V$2:V174,MATCH(H174&MAX(IF($H$1:H173=H174,$A$1:A173)),$H$2:H174&$A$2:A174,0))-V174,\"\")","v":-8.7272727272726947E-2}]
["2004-10-04",null,815,{"$f":"IF(ISNA(VLOOKUP(C175,BDDG!$A$2:$F$100,2,FALSE)),\"\",VLOOKUP(C175,BDDG!$A$2:$F$100,2,FALSE))","v":0},{"$f":"IF(ISNA(VLOOKUP(C175,BDDG!$A$3:$J$102,3,FALSE)),\"\",VLOOKUP(C175,BDDG!$A$3:$J$102,3,FALSE))","v":"A"},{"$f":"IF(ISNA(VLOOKUP(C175,BDDG!$A$3:$J$102,4,FALSE)),\"\",VLOOKUP(C175,BDDG!$A$3:$J$102,4,FALSE))","v":106},{"$f":"IF(ISNA(VLOOKUP(C175,BDDG!$A$2:$F$100,5,FALSE)),\"\",VLOOKUP(C175,BDDG!$A$2:$F$100,5,FALSE))","v":"A10"},{"$f":"IF(ISNA(VLOOKUP(C175,BDDG!$A$2:$F$100,6,FALSE)),\"\",VLOOKUP(C175,BDDG!$A$2:$F$100,6,FALSE))","v":"AA31"},{"$f":"IF(ISERROR(VLOOKUP(C175,BDDG!$A$2:$G$100,7,FALSE)),\"\",VLOOKUP(C175,BDDG!$A$2:$G$100,7,FALSE))","v":1},{"$f":"IF(ISERROR(VLOOKUP(C175,BDDG!$A$2:$H$100,8,FALSE)),\"\",VLOOKUP(C175,BDDG!$A$2:$H$100,8,FALSE))","v":"BB31"},15,270,4.628571428571429,{"$f":"IF(ISERROR(VLOOKUP(C175,BDDG!$A$2:$I$100,9,FALSE)),\"\",VLOOKUP(C175,BDDG!$A$2:$I$100,9,FALSE))","v":"CC31"},null,null,"",{"$f":"IF(ISERROR(VLOOKUP(C175,BDDG!$A$2:$J$100,10,FALSE)),\"\",VLOOKUP(C175,BDDG!$A$2:$J$100,10,FALSE))","v":"DD31"},null,null,"",4.628571428571429,10,2004,{"$f":"IFERROR(INDEX($V$2:V175,MATCH(H175&MAX(IF($H$1:H174=H175,$A$1:A174)),$H$2:H175&$A$2:A175,0))-V175,\"\")","v":0.17142857142857082}]
["2004-10-05",null,815,{"$f":"IF(ISNA(VLOOKUP(C176,BDDG!$A$2:$F$100,2,FALSE)),\"\",VLOOKUP(C176,BDDG!$A$2:$F$100,2,FALSE))","v":0},{"$f":"IF(ISNA(VLOOKUP(C176,BDDG!$A$3:$J$102,3,FALSE)),\"\",VLOOKUP(C176,BDDG!$A$3:$J$102,3,FALSE))","v":"A"},{"$f":"IF(ISNA(VLOOKUP(C176,BDDG!$A$3:$J$102,4,FALSE)),\"\",VLOOKUP(C176,BDDG!$A$3:$J$102,4,FALSE))","v":106},{"$f":"IF(ISNA(VLOOKUP(C176,BDDG!$A$2:$F$100,5,FALSE)),\"\",VLOOKUP(C176,BDDG!$A$2:$F$100,5,FALSE))","v":"A10"},{"$f":"IF(ISNA(VLOOKUP(C176,BDDG!$A$2:$F$100,6,FALSE)),\"\",VLOOKUP(C176,BDDG!$A$2:$F$100,6,FALSE))","v":"AA31"},{"$f":"IF(ISERROR(VLOOKUP(C176,BDDG!$A$2:$G$100,7,FALSE)),\"\",VLOOKUP(C176,BDDG!$A$2:$G$100,7,FALSE))","v":1},{"$f":"IF(ISERROR(VLOOKUP(C176,BDDG!$A$2:$H$100,8,FALSE)),\"\",VLOOKUP(C176,BDDG!$A$2:$H$100,8,FALSE))","v":"BB31"},15,265,4.8,{"$f":"IF(ISERROR(VLOOKUP(C176,BDDG!$A$2:$I$100,9,FALSE)),\"\",VLOOKUP(C176,BDDG!$A$2:$I$100,9,FALSE))","v":"CC31"},null,null,"",{"$f":"IF(ISERROR(VLOOKUP(C176,BDDG!$A$2:$J$100,10,FALSE)),\"\",VLOOKUP(C176,BDDG!$A$2:$J$100,10,FALSE))","v":"DD31"},null,null,"",4.8,10,2004,{"$f":"IFERROR(INDEX($V$2:V176,MATCH(H176&MAX(IF($H$1:H175=H176,$A$1:A175)),$H$2:H176&$A$2:A176,0))-V176,\"\")","v":-0.17142857142857082}]
["2004-10-06",null,815,{"$f":"IF(ISNA(VLOOKUP(C177,BDDG!$A$2:$F$100,2,FALSE)),\"\",VLOOKUP(C177,BDDG!$A$2:$F$100,2,FALSE))","v":0},{"$f":"IF(ISNA(VLOOKUP(C177,BDDG!$A$3:$J$102,3,FALSE)),\"\",VLOOKUP(C177,BDDG!$A$3:$J$102,3,FALSE))","v":"A"},{"$f":"IF(ISNA(VLOOKUP(C177,BDDG!$A$3:$J$102,4,FALSE)),\"\",VLOOKUP(C177,BDDG!$A$3:$J$102,4,FALSE))","v":106},{"$f":"IF(ISNA(VLOOKUP(C177,BDDG!$A$2:$F$100,5,FALSE)),\"\",VLOOKUP(C177,BDDG!$A$2:$F$100,5,FALSE))","v":"A10"},{"$f":"IF(ISNA(VLOOKUP(C177,BDDG!$A$2:$F$100,6,FALSE)),\"\",VLOOKUP(C177,BDDG!$A$2:$F$100,6,FALSE))","v":"AA31"},{"$f":"IF(ISERROR(VLOOKUP(C177,BDDG!$A$2:$G$100,7,FALSE)),\"\",VLOOKUP(C177,BDDG!$A$2:$G$100,7,FALSE))","v":1},{"$f":"IF(ISERROR(VLOOKUP(C177,BDDG!$A$2:$H$100,8,FALSE)),\"\",VLOOKUP(C177,BDDG!$A$2:$H$100,8,FALSE))","v":"BB31"},15,260,4.8905660377358497,{"$f":"IF(ISERROR(VLOOKUP(C177,BDDG!$A$2:$I$100,9,FALSE)),\"\",VLOOKUP(C177,BDDG!$A$2:$I$100,9,FALSE))","v":"CC31"},null,null,"",{"$f":"IF(ISERROR(VLOOKUP(C177,BDDG!$A$2:$J$100,10,FALSE)),\"\",VLOOKUP(C177,BDDG!$A$2:$J$100,10,FALSE))","v":"DD31"},null,null,"",4.8905660377358497,10,2004,{"$f":"IFERROR(INDEX($V$2:V177,MATCH(H177&MAX(IF($H$1:H176=H177,$A$1:A176)),$H$2:H177&$A$2:A177,0))-V177,\"\")","v":-9.0566037735849925E-2}]
["2004-10-07",null,815,{"$f":"IF(ISNA(VLOOKUP(C178,BDDG!$A$2:$F$100,2,FALSE)),\"\",VLOOKUP(C178,BDDG!$A$2:$F$100,2,FALSE))","v":0},{"$f":"IF(ISNA(VLOOKUP(C178,BDDG!$A$3:$J$102,3,FALSE)),\"\",VLOOKUP(C178,BDDG!$A$3:$J$102,3,FALSE))","v":"A"},{"$f":"IF(ISNA(VLOOKUP(C178,BDDG!$A$3:$J$102,4,FALSE)),\"\",VLOOKUP(C178,BDDG!$A$3:$J$102,4,FALSE))","v":106},{"$f":"IF(ISNA(VLOOKUP(C178,BDDG!$A$2:$F$100,5,FALSE)),\"\",VLOOKUP(C178,BDDG!$A$2:$F$100,5,FALSE))","v":"A10"},{"$f":"IF(ISNA(VLOOKUP(C178,BDDG!$A$2:$F$100,6,FALSE)),\"\",VLOOKUP(C178,BDDG!$A$2:$F$100,6,FALSE))","v":"AA31"},{"$f":"IF(ISERROR(VLOOKUP(C178,BDDG!$A$2:$G$100,7,FALSE)),\"\",VLOOKUP(C178,BDDG!$A$2:$G$100,7,FALSE))","v":1},{"$f":"IF(ISERROR(VLOOKUP(C178,BDDG!$A$2:$H$100,8,FALSE)),\"\",VLOOKUP(C178,BDDG!$A$2:$H$100,8,FALSE))","v":"BB31"},15,260,4.9846153846153856,{"$f":"IF(ISERROR(VLOOKUP(C178,BDDG!$A$2:$I$100,9,FALSE)),\"\",VLOOKUP(C178,BDDG!$A$2:$I$100,9,FALSE))","v":"CC31"},null,null,"",{"$f":"IF(ISERROR(VLOOKUP(C178,BDDG!$A$2:$J$100,10,FALSE)),\"\",VLOOKUP(C178,BDDG!$A$2:$J$100,10,FALSE))","v":"DD31"},null,null,"",4.9846153846153856,10,2004,{"$f":"IFERROR(INDEX($V$2:V178,MATCH(H178&MAX(IF($H$1:H177=H178,$A$1:A177)),$H$2:H178&$A$2:A178,0))-V178,\"\")","v":-9.4049346879535811E-2}]
["2004-10-09",null,815,{"$f":"IF(ISNA(VLOOKUP(C179,BDDG!$A$2:$F$100,2,FALSE)),\"\",VLOOKUP(C179,BDDG!$A$2:$F$100,2,FALSE))","v":0},{"$f":"IF(ISNA(VLOOKUP(C179,BDDG!$A$3:$J$102,3,FALSE)),\"\",VLOOKUP(C179,BDDG!$A$3:$J$102,3,FALSE))","v":"A"},{"$f":"IF(ISNA(VLOOKUP(C179,BDDG!$A$3:$J$102,4,FALSE)),\"\",VLOOKUP(C179,BDDG!$A$3:$J$102,4,FALSE))","v":106},{"$f":"IF(ISNA(VLOOKUP(C179,BDDG!$A$2:$F$100,5,FALSE)),\"\",VLOOKUP(C179,BDDG!$A$2:$F$100,5,FALSE))","v":"A10"},{"$f":"IF(ISNA(VLOOKUP(C179,BDDG!$A$2:$F$100,6,FALSE)),\"\",VLOOKUP(C179,BDDG!$A$2:$F$100,6,FALSE))","v":"AA31"},{"$f":"IF(ISERROR(VLOOKUP(C179,BDDG!$A$2:$G$100,7,FALSE)),\"\",VLOOKUP(C179,BDDG!$A$2:$G$100,7,FALSE))","v":1},{"$f":"IF(ISERROR(VLOOKUP(C179,BDDG!$A$2:$H$100,8,FALSE)),\"\",VLOOKUP(C179,BDDG!$A$2:$H$100,8,FALSE))","v":"BB31"},15,255,{"$f":" IF(ISERROR(K179/L179*86.4),\"\",K179/L179*86.4)","v":5.0823529411764712},{"$f":"IF(ISERROR(VLOOKUP(C179,BDDG!$A$2:$I$100,9,FALSE)),\"\",VLOOKUP(C179,BDDG!$A$2:$I$100,9,FALSE))","v":"CC31"},null,null,"",{"$f":"IF(ISERROR(VLOOKUP(C179,BDDG!$A$2:$J$100,10,FALSE)),\"\",VLOOKUP(C179,BDDG!$A$2:$J$100,10,FALSE))","v":"DD31"},null,null,"",5.0823529411764712,10,2004,{"$f":"IFERROR(INDEX($V$2:V179,MATCH(H179&MAX(IF($H$1:H178=H179,$A$1:A178)),$H$2:H179&$A$2:A179,0))-V179,\"\")","v":-9.7737556561085626E-2}]
["2004-10-10",null,815,{"$f":"IF(ISNA(VLOOKUP(C180,BDDG!$A$2:$F$100,2,FALSE)),\"\",VLOOKUP(C180,BDDG!$A$2:$F$100,2,FALSE))","v":0},{"$f":"IF(ISNA(VLOOKUP(C180,BDDG!$A$3:$J$102,3,FALSE)),\"\",VLOOKUP(C180,BDDG!$A$3:$J$102,3,FALSE))","v":"A"},{"$f":"IF(ISNA(VLOOKUP(C180,BDDG!$A$3:$J$102,4,FALSE)),\"\",VLOOKUP(C180,BDDG!$A$3:$J$102,4,FALSE))","v":106},{"$f":"IF(ISNA(VLOOKUP(C180,BDDG!$A$2:$F$100,5,FALSE)),\"\",VLOOKUP(C180,BDDG!$A$2:$F$100,5,FALSE))","v":"A10"},{"$f":"IF(ISNA(VLOOKUP(C180,BDDG!$A$2:$F$100,6,FALSE)),\"\",VLOOKUP(C180,BDDG!$A$2:$F$100,6,FALSE))","v":"AA31"},{"$f":"IF(ISERROR(VLOOKUP(C180,BDDG!$A$2:$G$100,7,FALSE)),\"\",VLOOKUP(C180,BDDG!$A$2:$G$100,7,FALSE))","v":1},{"$f":"IF(ISERROR(VLOOKUP(C180,BDDG!$A$2:$H$100,8,FALSE)),\"\",VLOOKUP(C180,BDDG!$A$2:$H$100,8,FALSE))","v":"BB31"},15,255,5.0823529411764712,{"$f":"IF(ISERROR(VLOOKUP(C180,BDDG!$A$2:$I$100,9,FALSE)),\"\",VLOOKUP(C180,BDDG!$A$2:$I$100,9,FALSE))","v":"CC31"},null,null,"",{"$f":"IF(ISERROR(VLOOKUP(C180,BDDG!$A$2:$J$100,10,FALSE)),\"\",VLOOKUP(C180,BDDG!$A$2:$J$100,10,FALSE))","v":"DD31"},null,null,"",5.0823529411764712,10,2004,{"$f":"IFERROR(INDEX($V$2:V180,MATCH(H180&MAX(IF($H$1:H179=H180,$A$1:A179)),$H$2:H180&$A$2:A180,0))-V180,\"\")","v":0}]
["2004-10-11",null,815,{"$f":"IF(ISNA(VLOOKUP(C181,BDDG!$A$2:$F$100,2,FALSE)),\"\",VLOOKUP(C181,BDDG!$A$2:$F$100,2,FALSE))","v":0},{"$f":"IF(ISNA(VLOOKUP(C181,BDDG!$A$3:$J$102,3,FALSE)),\"\",VLOOKUP(C181,BDDG!$A$3:$J$102,3,FALSE))","v":"A"},{"$f":"IF(ISNA(VLOOKUP(C181,BDDG!$A$3:$J$102,4,FALSE)),\"\",VLOOKUP(C181,BDDG!$A$3:$J$102,4,FALSE))","v":106},{"$f":"IF(ISNA(VLOOKUP(C181,BDDG!$A$2:$F$100,5,FALSE)),\"\",VLOOKUP(C181,BDDG!$A$2:$F$100,5,FALSE))","v":"A10"},{"$f":"IF(ISNA(VLOOKUP(C181,BDDG!$A$2:$F$100,6,FALSE)),\"\",VLOOKUP(C181,BDDG!$A$2:$F$100,6,FALSE))","v":"AA31"},{"$f":"IF(ISERROR(VLOOKUP(C181,BDDG!$A$2:$G$100,7,FALSE)),\"\",VLOOKUP(C181,BDDG!$A$2:$G$100,7,FALSE))","v":1},{"$f":"IF(ISERROR(VLOOKUP(C181,BDDG!$A$2:$H$100,8,FALSE)),\"\",VLOOKUP(C181,BDDG!$A$2:$H$100,8,FALSE))","v":"BB31"},15,250,5.1840000000000002,{"$f":"IF(ISERROR(VLOOKUP(C181,BDDG!$A$2:$I$100,9,FALSE)),\"\",VLOOKUP(C181,BDDG!$A$2:$I$100,9,FALSE))","v":"CC31"},null,null,"",{"$f":"IF(ISERROR(VLOOKUP(C181,BDDG!$A$2:$J$100,10,FALSE)),\"\",VLOOKUP(C181,BDDG!$A$2:$J$100,10,FALSE))","v":"DD31"},null,null,"",5.1840000000000002,10,2004,{"$f":"IFERROR(INDEX($V$2:V181,MATCH(H181&MAX(IF($H$1:H180=H181,$A$1:A180)),$H$2:H181&$A$2:A181,0))-V181,\"\")","v":-0.10164705882352898}]
["2004-10-12",null,815,{"$f":"IF(ISNA(VLOOKUP(C182,BDDG!$A$2:$F$100,2,FALSE)),\"\",VLOOKUP(C182,BDDG!$A$2:$F$100,2,FALSE))","v":0},{"$f":"IF(ISNA(VLOOKUP(C182,BDDG!$A$3:$J$102,3,FALSE)),\"\",VLOOKUP(C182,BDDG!$A$3:$J$102,3,FALSE))","v":"A"},{"$f":"IF(ISNA(VLOOKUP(C182,BDDG!$A$3:$J$102,4,FALSE)),\"\",VLOOKUP(C182,BDDG!$A$3:$J$102,4,FALSE))","v":106},{"$f":"IF(ISNA(VLOOKUP(C182,BDDG!$A$2:$F$100,5,FALSE)),\"\",VLOOKUP(C182,BDDG!$A$2:$F$100,5,FALSE))","v":"A10"},{"$f":"IF(ISNA(VLOOKUP(C182,BDDG!$A$2:$F$100,6,FALSE)),\"\",VLOOKUP(C182,BDDG!$A$2:$F$100,6,FALSE))","v":"AA31"},{"$f":"IF(ISERROR(VLOOKUP(C182,BDDG!$A$2:$G$100,7,FALSE)),\"\",VLOOKUP(C182,BDDG!$A$2:$G$100,7,FALSE))","v":1},{"$f":"IF(ISERROR(VLOOKUP(C182,BDDG!$A$2:$H$100,8,FALSE)),\"\",VLOOKUP(C182,BDDG!$A$2:$H$100,8,FALSE))","v":"BB31"},15,245,5.2897959183673473,{"$f":"IF(ISERROR(VLOOKUP(C182,BDDG!$A$2:$I$100,9,FALSE)),\"\",VLOOKUP(C182,BDDG!$A$2:$I$100,9,FALSE))","v":"CC31"},null,null,"",{"$f":"IF(ISERROR(VLOOKUP(C182,BDDG!$A$2:$J$100,10,FALSE)),\"\",VLOOKUP(C182,BDDG!$A$2:$J$100,10,FALSE))","v":"DD31"},null,null,"",5.2897959183673473,10,2004,{"$f":"IFERROR(INDEX($V$2:V182,MATCH(H182&MAX(IF($H$1:H181=H182,$A$1:A181)),$H$2:H182&$A$2:A182,0))-V182,\"\")","v":-0.10579591836734714}]
["2004-10-13",null,815,{"$f":"IF(ISNA(VLOOKUP(C183,BDDG!$A$2:$F$100,2,FALSE)),\"\",VLOOKUP(C183,BDDG!$A$2:$F$100,2,FALSE))","v":0},{"$f":"IF(ISNA(VLOOKUP(C183,BDDG!$A$3:$J$102,3,FALSE)),\"\",VLOOKUP(C183,BDDG!$A$3:$J$102,3,FALSE))","v":"A"},{"$f":"IF(ISNA(VLOOKUP(C183,BDDG!$A$3:$J$102,4,FALSE)),\"\",VLOOKUP(C183,BDDG!$A$3:$J$102,4,FALSE))","v":106},{"$f":"IF(ISNA(VLOOKUP(C183,BDDG!$A$2:$F$100,5,FALSE)),\"\",VLOOKUP(C183,BDDG!$A$2:$F$100,5,FALSE))","v":"A10"},{"$f":"IF(ISNA(VLOOKUP(C183,BDDG!$A$2:$F$100,6,FALSE)),\"\",VLOOKUP(C183,BDDG!$A$2:$F$100,6,FALSE))","v":"AA31"},{"$f":"IF(ISERROR(VLOOKUP(C183,BDDG!$A$2:$G$100,7,FALSE)),\"\",VLOOKUP(C183,BDDG!$A$2:$G$100,7,FALSE))","v":1},{"$f":"IF(ISERROR(VLOOKUP(C183,BDDG!$A$2:$H$100,8,FALSE)),\"\",VLOOKUP(C183,BDDG!$A$2:$H$100,8,FALSE))","v":"BB31"},15,250,5.1840000000000002,{"$f":"IF(ISERROR(VLOOKUP(C183,BDDG!$A$2:$I$100,9,FALSE)),\"\",VLOOKUP(C183,BDDG!$A$2:$I$100,9,FALSE))","v":"CC31"},null,null,"",{"$f":"IF(ISERROR(VLOOKUP(C183,BDDG!$A$2:$J$100,10,FALSE)),\"\",VLOOKUP(C183,BDDG!$A$2:$J$100,10,FALSE))","v":"DD31"},null,null,"",5.1840000000000002,10,2004,{"$f":"IFERROR(INDEX($V$2:V183,MATCH(H183&MAX(IF($H$1:H182=H183,$A$1:A182)),$H$2:H183&$A$2:A183,0))-V183,\"\")","v":0.10579591836734714}]
["2004-10-15",null,815,{"$f":"IF(ISNA(VLOOKUP(C184,BDDG!$A$2:$F$100,2,FALSE)),\"\",VLOOKUP(C184,BDDG!$A$2:$F$100,2,FALSE))","v":0},{"$f":"IF(ISNA(VLOOKUP(C184,BDDG!$A$3:$J$102,3,FALSE)),\"\",VLOOKUP(C184,BDDG!$A$3:$J$102,3,FALSE))","v":"A"},{"$f":"IF(ISNA(VLOOKUP(C184,BDDG!$A$3:$J$102,4,FALSE)),\"\",VLOOKUP(C184,BDDG!$A$3:$J$102,4,FALSE))","v":106},{"$f":"IF(ISNA(VLOOKUP(C184,BDDG!$A$2:$F$100,5,FALSE)),\"\",VLOOKUP(C184,BDDG!$A$2:$F$100,5,FALSE))","v":"A10"},{"$f":"IF(ISNA(VLOOKUP(C184,BDDG!$A$2:$F$100,6,FALSE)),\"\",VLOOKUP(C184,BDDG!$A$2:$F$100,6,FALSE))","v":"AA31"},{"$f":"IF(ISERROR(VLOOKUP(C184,BDDG!$A$2:$G$100,7,FALSE)),\"\",VLOOKUP(C184,BDDG!$A$2:$G$100,7,FALSE))","v":1},{"$f":"IF(ISERROR(VLOOKUP(C184,BDDG!$A$2:$H$100,8,FALSE)),\"\",VLOOKUP(C184,BDDG!$A$2:$H$100,8,FALSE))","v":"BB31"},15,270,4.8,{"$f":"IF(ISERROR(VLOOKUP(C184,BDDG!$A$2:$I$100,9,FALSE)),\"\",VLOOKUP(C184,BDDG!$A$2:$I$100,9,FALSE))","v":"CC31"},null,null,"",{"$f":"IF(ISERROR(VLOOKUP(C184,BDDG!$A$2:$J$100,10,FALSE)),\"\",VLOOKUP(C184,BDDG!$A$2:$J$100,10,FALSE))","v":"DD31"},null,null,"",4.8,10,2004,{"$f":"IFERROR(INDEX($V$2:V184,MATCH(H184&MAX(IF($H$1:H183=H184,$A$1:A183)),$H$2:H184&$A$2:A184,0))-V184,\"\")","v":0.38400000000000034}]
["2004-10-16",null,815,{"$f":"IF(ISNA(VLOOKUP(C185,BDDG!$A$2:$F$100,2,FALSE)),\"\",VLOOKUP(C185,BDDG!$A$2:$F$100,2,FALSE))","v":0},{"$f":"IF(ISNA(VLOOKUP(C185,BDDG!$A$3:$J$102,3,FALSE)),\"\",VLOOKUP(C185,BDDG!$A$3:$J$102,3,FALSE))","v":"A"},{"$f":"IF(ISNA(VLOOKUP(C185,BDDG!$A$3:$J$102,4,FALSE)),\"\",VLOOKUP(C185,BDDG!$A$3:$J$102,4,FALSE))","v":106},{"$f":"IF(ISNA(VLOOKUP(C185,BDDG!$A$2:$F$100,5,FALSE)),\"\",VLOOKUP(C185,BDDG!$A$2:$F$100,5,FALSE))","v":"A10"},{"$f":"IF(ISNA(VLOOKUP(C185,BDDG!$A$2:$F$100,6,FALSE)),\"\",VLOOKUP(C185,BDDG!$A$2:$F$100,6,FALSE))","v":"AA31"},{"$f":"IF(ISERROR(VLOOKUP(C185,BDDG!$A$2:$G$100,7,FALSE)),\"\",VLOOKUP(C185,BDDG!$A$2:$G$100,7,FALSE))","v":1},{"$f":"IF(ISERROR(VLOOKUP(C185,BDDG!$A$2:$H$100,8,FALSE)),\"\",VLOOKUP(C185,BDDG!$A$2:$H$100,8,FALSE))","v":"BB31"},15,270,4.8,{"$f":"IF(ISERROR(VLOOKUP(C185,BDDG!$A$2:$I$100,9,FALSE)),\"\",VLOOKUP(C185,BDDG!$A$2:$I$100,9,FALSE))","v":"CC31"},null,null,{"$f":" IF(ISERROR(O185/P185*86.4),\"\",O185/P185*86.4)","v":""},{"$f":"IF(ISERROR(VLOOKUP(C185,BDDG!$A$2:$J$100,10,FALSE)),\"\",VLOOKUP(C185,BDDG!$A$2:$J$100,10,FALSE))","v":"DD31"},null,null,"",4.8,10,2004,{"$f":"IFERROR(INDEX($V$2:V185,MATCH(H185&MAX(IF($H$1:H184=H185,$A$1:A184)),$H$2:H185&$A$2:A185,0))-V185,\"\")","v":0}]
["2004-10-17",null,815,{"$f":"IF(ISNA(VLOOKUP(C186,BDDG!$A$2:$F$100,2,FALSE)),\"\",VLOOKUP(C186,BDDG!$A$2:$F$100,2,FALSE))","v":0},{"$f":"IF(ISNA(VLOOKUP(C186,BDDG!$A$3:$J$102,3,FALSE)),\"\",VLOOKUP(C186,BDDG!$A$3:$J$102,3,FALSE))","v":"A"},{"$f":"IF(ISNA(VLOOKUP(C186,BDDG!$A$3:$J$102,4,FALSE)),\"\",VLOOKUP(C186,BDDG!$A$3:$J$102,4,FALSE))","v":106},{"$f":"IF(ISNA(VLOOKUP(C186,BDDG!$A$2:$F$100,5,FALSE)),\"\",VLOOKUP(C186,BDDG!$A$2:$F$100,5,FALSE))","v":"A10"},{"$f":"IF(ISNA(VLOOKUP(C186,BDDG!$A$2:$F$100,6,FALSE)),\"\",VLOOKUP(C186,BDDG!$A$2:$F$100,6,FALSE))","v":"AA31"},{"$f":"IF(ISERROR(VLOOKUP(C186,BDDG!$A$2:$G$100,7,FALSE)),\"\",VLOOKUP(C186,BDDG!$A$2:$G$100,7,FALSE))","v":1},{"$f":"IF(ISERROR(VLOOKUP(C186,BDDG!$A$2:$H$100,8,FALSE)),\"\",VLOOKUP(C186,BDDG!$A$2:$H$100,8,FALSE))","v":"BB31"},15,270,4.8,{"$f":"IF(ISERROR(VLOOKUP(C186,BDDG!$A$2:$I$100,9,FALSE)),\"\",VLOOKUP(C186,BDDG!$A$2:$I$100,9,FALSE))","v":"CC31"},null,null,"",{"$f":"IF(ISERROR(VLOOKUP(C186,BDDG!$A$2:$J$100,10,FALSE)),\"\",VLOOKUP(C186,BDDG!$A$2:$J$100,10,FALSE))","v":"DD31"},null,null,"",4.8,10,2004,{"$f":"IFERROR(INDEX($V$2:V186,MATCH(H186&MAX(IF($H$1:H185=H186,$A$1:A185)),$H$2:H186&$A$2:A186,0))-V186,\"\")","v":0}]
["2004-10-19",null,815,{"$f":"IF(ISNA(VLOOKUP(C187,BDDG!$A$2:$F$100,2,FALSE)),\"\",VLOOKUP(C187,BDDG!$A$2:$F$100,2,FALSE))","v":0},{"$f":"IF(ISNA(VLOOKUP(C187,BDDG!$A$3:$J$102,3,FALSE)),\"\",VLOOKUP(C187,BDDG!$A$3:$J$102,3,FALSE))","v":"A"},{"$f":"IF(ISNA(VLOOKUP(C187,BDDG!$A$3:$J$102,4,FALSE)),\"\",VLOOKUP(C187,BDDG!$A$3:$J$102,4,FALSE))","v":106},{"$f":"IF(ISNA(VLOOKUP(C187,BDDG!$A$2:$F$100,5,FALSE)),\"\",VLOOKUP(C187,BDDG!$A$2:$F$100,5,FALSE))","v":"A10"},{"$f":"IF(ISNA(VLOOKUP(C187,BDDG!$A$2:$F$100,6,FALSE)),\"\",VLOOKUP(C187,BDDG!$A$2:$F$100,6,FALSE))","v":"AA31"},{"$f":"IF(ISERROR(VLOOKUP(C187,BDDG!$A$2:$G$100,7,FALSE)),\"\",VLOOKUP(C187,BDDG!$A$2:$G$100,7,FALSE))","v":1},{"$f":"IF(ISERROR(VLOOKUP(C187,BDDG!$A$2:$H$100,8,FALSE)),\"\",VLOOKUP(C187,BDDG!$A$2:$H$100,8,FALSE))","v":"BB31"},15,265,4.8905660377358497,{"$f":"IF(ISERROR(VLOOKUP(C187,BDDG!$A$2:$I$100,9,FALSE)),\"\",VLOOKUP(C187,BDDG!$A$2:$I$100,9,FALSE))","v":"CC31"},null,null,"",{"$f":"IF(ISERROR(VLOOKUP(C187,BDDG!$A$2:$J$100,10,FALSE)),\"\",VLOOKUP(C187,BDDG!$A$2:$J$100,10,FALSE))","v":"DD31"},null,null,"",4.8905660377358497,10,2004,{"$f":"IFERROR(INDEX($V$2:V187,MATCH(H187&MAX(IF($H$1:H186=H187,$A$1:A186)),$H$2:H187&$A$2:A187,0))-V187,\"\")","v":-9.0566037735849925E-2}]
["2004-10-21",null,815,{"$f":"IF(ISNA(VLOOKUP(C188,BDDG!$A$2:$F$100,2,FALSE)),\"\",VLOOKUP(C188,BDDG!$A$2:$F$100,2,FALSE))","v":0},{"$f":"IF(ISNA(VLOOKUP(C188,BDDG!$A$3:$J$102,3,FALSE)),\"\",VLOOKUP(C188,BDDG!$A$3:$J$102,3,FALSE))","v":"A"},{"$f":"IF(ISNA(VLOOKUP(C188,BDDG!$A$3:$J$102,4,FALSE)),\"\",VLOOKUP(C188,BDDG!$A$3:$J$102,4,FALSE))","v":106},{"$f":"IF(ISNA(VLOOKUP(C188,BDDG!$A$2:$F$100,5,FALSE)),\"\",VLOOKUP(C188,BDDG!$A$2:$F$100,5,FALSE))","v":"A10"},{"$f":"IF(ISNA(VLOOKUP(C188,BDDG!$A$2:$F$100,6,FALSE)),\"\",VLOOKUP(C188,BDDG!$A$2:$F$100,6,FALSE))","v":"AA31"},{"$f":"IF(ISERROR(VLOOKUP(C188,BDDG!$A$2:$G$100,7,FALSE)),\"\",VLOOKUP(C188,BDDG!$A$2:$G$100,7,FALSE))","v":1},{"$f":"IF(ISERROR(VLOOKUP(C188,BDDG!$A$2:$H$100,8,FALSE)),\"\",VLOOKUP(C188,BDDG!$A$2:$H$100,8,FALSE))","v":"BB31"},15,240,5.4,{"$f":"IF(ISERROR(VLOOKUP(C188,BDDG!$A$2:$I$100,9,FALSE)),\"\",VLOOKUP(C188,BDDG!$A$2:$I$100,9,FALSE))","v":"CC31"},null,null,"",{"$f":"IF(ISERROR(VLOOKUP(C188,BDDG!$A$2:$J$100,10,FALSE)),\"\",VLOOKUP(C188,BDDG!$A$2:$J$100,10,FALSE))","v":"DD31"},null,null,"",5.4,10,2004,{"$f":"IFERROR(INDEX($V$2:V188,MATCH(H188&MAX(IF($H$1:H187=H188,$A$1:A187)),$H$2:H188&$A$2:A188,0))-V188,\"\")","v":-0.50943396226415061}]
["2004-10-23",null,815,{"$f":"IF(ISNA(VLOOKUP(C189,BDDG!$A$2:$F$100,2,FALSE)),\"\",VLOOKUP(C189,BDDG!$A$2:$F$100,2,FALSE))","v":0},{"$f":"IF(ISNA(VLOOKUP(C189,BDDG!$A$3:$J$102,3,FALSE)),\"\",VLOOKUP(C189,BDDG!$A$3:$J$102,3,FALSE))","v":"A"},{"$f":"IF(ISNA(VLOOKUP(C189,BDDG!$A$3:$J$102,4,FALSE)),\"\",VLOOKUP(C189,BDDG!$A$3:$J$102,4,FALSE))","v":106},{"$f":"IF(ISNA(VLOOKUP(C189,BDDG!$A$2:$F$100,5,FALSE)),\"\",VLOOKUP(C189,BDDG!$A$2:$F$100,5,FALSE))","v":"A10"},{"$f":"IF(ISNA(VLOOKUP(C189,BDDG!$A$2:$F$100,6,FALSE)),\"\",VLOOKUP(C189,BDDG!$A$2:$F$100,6,FALSE))","v":"AA31"},{"$f":"IF(ISERROR(VLOOKUP(C189,BDDG!$A$2:$G$100,7,FALSE)),\"\",VLOOKUP(C189,BDDG!$A$2:$G$100,7,FALSE))","v":1},{"$f":"IF(ISERROR(VLOOKUP(C189,BDDG!$A$2:$H$100,8,FALSE)),\"\",VLOOKUP(C189,BDDG!$A$2:$H$100,8,FALSE))","v":"BB31"},15,240,5.4,{"$f":"IF(ISERROR(VLOOKUP(C189,BDDG!$A$2:$I$100,9,FALSE)),\"\",VLOOKUP(C189,BDDG!$A$2:$I$100,9,FALSE))","v":"CC31"},null,null,"",{"$f":"IF(ISERROR(VLOOKUP(C189,BDDG!$A$2:$J$100,10,FALSE)),\"\",VLOOKUP(C189,BDDG!$A$2:$J$100,10,FALSE))","v":"DD31"},null,null,"",5.4,10,2004,{"$f":"IFERROR(INDEX($V$2:V189,MATCH(H189&MAX(IF($H$1:H188=H189,$A$1:A188)),$H$2:H189&$A$2:A189,0))-V189,\"\")","v":0}]
["2004-10-26",null,815,{"$f":"IF(ISNA(VLOOKUP(C190,BDDG!$A$2:$F$100,2,FALSE)),\"\",VLOOKUP(C190,BDDG!$A$2:$F$100,2,FALSE))","v":0},{"$f":"IF(ISNA(VLOOKUP(C190,BDDG!$A$3:$J$102,3,FALSE)),\"\",VLOOKUP(C190,BDDG!$A$3:$J$102,3,FALSE))","v":"A"},{"$f":"IF(ISNA(VLOOKUP(C190,BDDG!$A$3:$J$102,4,FALSE)),\"\",VLOOKUP(C190,BDDG!$A$3:$J$102,4,FALSE))","v":106},{"$f":"IF(ISNA(VLOOKUP(C190,BDDG!$A$2:$F$100,5,FALSE)),\"\",VLOOKUP(C190,BDDG!$A$2:$F$100,5,FALSE))","v":"A10"},{"$f":"IF(ISNA(VLOOKUP(C190,BDDG!$A$2:$F$100,6,FALSE)),\"\",VLOOKUP(C190,BDDG!$A$2:$F$100,6,FALSE))","v":"AA31"},{"$f":"IF(ISERROR(VLOOKUP(C190,BDDG!$A$2:$G$100,7,FALSE)),\"\",VLOOKUP(C190,BDDG!$A$2:$G$100,7,FALSE))","v":1},{"$f":"IF(ISERROR(VLOOKUP(C190,BDDG!$A$2:$H$100,8,FALSE)),\"\",VLOOKUP(C190,BDDG!$A$2:$H$100,8,FALSE))","v":"BB31"},15,235,5.5148936170212766,{"$f":"IF(ISERROR(VLOOKUP(C190,BDDG!$A$2:$I$100,9,FALSE)),\"\",VLOOKUP(C190,BDDG!$A$2:$I$100,9,FALSE))","v":"CC31"},null,null,"",{"$f":"IF(ISERROR(VLOOKUP(C190,BDDG!$A$2:$J$100,10,FALSE)),\"\",VLOOKUP(C190,BDDG!$A$2:$J$100,10,FALSE))","v":"DD31"},null,null,"",5.5148936170212766,10,2004,{"$f":"IFERROR(INDEX($V$2:V190,MATCH(H190&MAX(IF($H$1:H189=H190,$A$1:A189)),$H$2:H190&$A$2:A190,0))-V190,\"\")","v":-0.11489361702127621}]
["2004-10-30",null,815,{"$f":"IF(ISNA(VLOOKUP(C191,BDDG!$A$2:$F$100,2,FALSE)),\"\",VLOOKUP(C191,BDDG!$A$2:$F$100,2,FALSE))","v":0},{"$f":"IF(ISNA(VLOOKUP(C191,BDDG!$A$3:$J$102,3,FALSE)),\"\",VLOOKUP(C191,BDDG!$A$3:$J$102,3,FALSE))","v":"A"},{"$f":"IF(ISNA(VLOOKUP(C191,BDDG!$A$3:$J$102,4,FALSE)),\"\",VLOOKUP(C191,BDDG!$A$3:$J$102,4,FALSE))","v":106},{"$f":"IF(ISNA(VLOOKUP(C191,BDDG!$A$2:$F$100,5,FALSE)),\"\",VLOOKUP(C191,BDDG!$A$2:$F$100,5,FALSE))","v":"A10"},{"$f":"IF(ISNA(VLOOKUP(C191,BDDG!$A$2:$F$100,6,FALSE)),\"\",VLOOKUP(C191,BDDG!$A$2:$F$100,6,FALSE))","v":"AA31"},{"$f":"IF(ISERROR(VLOOKUP(C191,BDDG!$A$2:$G$100,7,FALSE)),\"\",VLOOKUP(C191,BDDG!$A$2:$G$100,7,FALSE))","v":1},{"$f":"IF(ISERROR(VLOOKUP(C191,BDDG!$A$2:$H$100,8,FALSE)),\"\",VLOOKUP(C191,BDDG!$A$2:$H$100,8,FALSE))","v":"BB31"},15,260,4.9846153846153856,{"$f":"IF(ISERROR(VLOOKUP(C191,BDDG!$A$2:$I$100,9,FALSE)),\"\",VLOOKUP(C191,BDDG!$A$2:$I$100,9,FALSE))","v":"CC31"},null,null,"",{"$f":"IF(ISERROR(VLOOKUP(C191,BDDG!$A$2:$J$100,10,FALSE)),\"\",VLOOKUP(C191,BDDG!$A$2:$J$100,10,FALSE))","v":"DD31"},null,null,"",4.9846153846153856,10,2004,{"$f":"IFERROR(INDEX($V$2:V191,MATCH(H191&MAX(IF($H$1:H190=H191,$A$1:A190)),$H$2:H191&$A$2:A191,0))-V191,\"\")","v":0.530278232405891}]
["2004-11-06",null,815,{"$f":"IF(ISNA(VLOOKUP(C192,BDDG!$A$2:$F$100,2,FALSE)),\"\",VLOOKUP(C192,BDDG!$A$2:$F$100,2,FALSE))","v":0},{"$f":"IF(ISNA(VLOOKUP(C192,BDDG!$A$3:$J$102,3,FALSE)),\"\",VLOOKUP(C192,BDDG!$A$3:$J$102,3,FALSE))","v":"A"},{"$f":"IF(ISNA(VLOOKUP(C192,BDDG!$A$3:$J$102,4,FALSE)),\"\",VLOOKUP(C192,BDDG!$A$3:$J$102,4,FALSE))","v":106},{"$f":"IF(ISNA(VLOOKUP(C192,BDDG!$A$2:$F$100,5,FALSE)),\"\",VLOOKUP(C192,BDDG!$A$2:$F$100,5,FALSE))","v":"A10"},{"$f":"IF(ISNA(VLOOKUP(C192,BDDG!$A$2:$F$100,6,FALSE)),\"\",VLOOKUP(C192,BDDG!$A$2:$F$100,6,FALSE))","v":"AA31"},{"$f":"IF(ISERROR(VLOOKUP(C192,BDDG!$A$2:$G$100,7,FALSE)),\"\",VLOOKUP(C192,BDDG!$A$2:$G$100,7,FALSE))","v":1},{"$f":"IF(ISERROR(VLOOKUP(C192,BDDG!$A$2:$H$100,8,FALSE)),\"\",VLOOKUP(C192,BDDG!$A$2:$H$100,8,FALSE))","v":"BB31"},15,265,4.8905660377358497,{"$f":"IF(ISERROR(VLOOKUP(C192,BDDG!$A$2:$I$100,9,FALSE)),\"\",VLOOKUP(C192,BDDG!$A$2:$I$100,9,FALSE))","v":"CC31"},null,null,"",{"$f":"IF(ISERROR(VLOOKUP(C192,BDDG!$A$2:$J$100,10,FALSE)),\"\",VLOOKUP(C192,BDDG!$A$2:$J$100,10,FALSE))","v":"DD31"},null,null,"",4.8905660377358497,11,2004,{"$f":"IFERROR(INDEX($V$2:V192,MATCH(H192&MAX(IF($H$1:H191=H192,$A$1:A191)),$H$2:H192&$A$2:A192,0))-V192,\"\")","v":9.4049346879535811E-2}]
["2005-05-25",null,860,{"$f":"IF(ISNA(VLOOKUP(C193,BDDG!$A$2:$F$100,2,FALSE)),\"\",VLOOKUP(C193,BDDG!$A$2:$F$100,2,FALSE))","v":0},{"$f":"IF(ISNA(VLOOKUP(C193,BDDG!$A$3:$J$102,3,FALSE)),\"\",VLOOKUP(C193,BDDG!$A$3:$J$102,3,FALSE))","v":"A"},{"$f":"IF(ISNA(VLOOKUP(C193,BDDG!$A$3:$J$102,4,FALSE)),\"\",VLOOKUP(C193,BDDG!$A$3:$J$102,4,FALSE))","v":106},{"$f":"IF(ISNA(VLOOKUP(C193,BDDG!$A$2:$F$100,5,FALSE)),\"\",VLOOKUP(C193,BDDG!$A$2:$F$100,5,FALSE))","v":"A11"},{"$f":"IF(ISNA(VLOOKUP(C193,BDDG!$A$2:$F$100,6,FALSE)),\"\",VLOOKUP(C193,BDDG!$A$2:$F$100,6,FALSE))","v":"AA32"},{"$f":"IF(ISERROR(VLOOKUP(C193,BDDG!$A$2:$G$100,7,FALSE)),\"\",VLOOKUP(C193,BDDG!$A$2:$G$100,7,FALSE))","v":2},{"$f":"IF(ISERROR(VLOOKUP(C193,BDDG!$A$2:$H$100,8,FALSE)),\"\",VLOOKUP(C193,BDDG!$A$2:$H$100,8,FALSE))","v":"BB32"},5,10,43.2,{"$f":"IF(ISERROR(VLOOKUP(C193,BDDG!$A$2:$I$100,9,FALSE)),\"\",VLOOKUP(C193,BDDG!$A$2:$I$100,9,FALSE))","v":"CC32"},null,null,"",{"$f":"IF(ISERROR(VLOOKUP(C193,BDDG!$A$2:$J$100,10,FALSE)),\"\",VLOOKUP(C193,BDDG!$A$2:$J$100,10,FALSE))","v":"DD32"},null,null,"",43.2,5,2005,{"$f":"IFERROR(INDEX($V$2:V193,MATCH(H193&MAX(IF($H$1:H192=H193,$A$1:A192)),$H$2:H193&$A$2:A193,0))-V193,\"\")","v":5.759999999999998}]
["2005-05-25",null,862,{"$f":"IF(ISNA(VLOOKUP(C194,BDDG!$A$2:$F$100,2,FALSE)),\"\",VLOOKUP(C194,BDDG!$A$2:$F$100,2,FALSE))","v":0},{"$f":"IF(ISNA(VLOOKUP(C194,BDDG!$A$3:$J$102,3,FALSE)),\"\",VLOOKUP(C194,BDDG!$A$3:$J$102,3,FALSE))","v":"A"},{"$f":"IF(ISNA(VLOOKUP(C194,BDDG!$A$3:$J$102,4,FALSE)),\"\",VLOOKUP(C194,BDDG!$A$3:$J$102,4,FALSE))","v":106},{"$f":"IF(ISNA(VLOOKUP(C194,BDDG!$A$2:$F$100,5,FALSE)),\"\",VLOOKUP(C194,BDDG!$A$2:$F$100,5,FALSE))","v":"A12"},{"$f":"IF(ISNA(VLOOKUP(C194,BDDG!$A$2:$F$100,6,FALSE)),\"\",VLOOKUP(C194,BDDG!$A$2:$F$100,6,FALSE))","v":"AA34"},{"$f":"IF(ISERROR(VLOOKUP(C194,BDDG!$A$2:$G$100,7,FALSE)),\"\",VLOOKUP(C194,BDDG!$A$2:$G$100,7,FALSE))","v":1},{"$f":"IF(ISERROR(VLOOKUP(C194,BDDG!$A$2:$H$100,8,FALSE)),\"\",VLOOKUP(C194,BDDG!$A$2:$H$100,8,FALSE))","v":"BB34"},10,15,57.6,{"$f":"IF(ISERROR(VLOOKUP(C194,BDDG!$A$2:$I$100,9,FALSE)),\"\",VLOOKUP(C194,BDDG!$A$2:$I$100,9,FALSE))","v":"CC34"},null,null,"",{"$f":"IF(ISERROR(VLOOKUP(C194,BDDG!$A$2:$J$100,10,FALSE)),\"\",VLOOKUP(C194,BDDG!$A$2:$J$100,10,FALSE))","v":"DD34"},null,null,"",57.6,{"$f":"MONTH(A:A)","v":5},{"$f":"YEAR(A:A)","v":2005},{"$f":"IFERROR(INDEX($V$2:V194,MATCH(H194&MAX(IF($H$1:H193=H194,$A$1:A193)),$H$2:H194&$A$2:A194,0))-V194,\"\")","v":-5.759999999999998}]
["2005-05-30",null,842,{"$f":"IF(ISNA(VLOOKUP(C195,BDDG!$A$2:$F$100,2,FALSE)),\"\",VLOOKUP(C195,BDDG!$A$2:$F$100,2,FALSE))","v":0},{"$f":"IF(ISNA(VLOOKUP(C195,BDDG!$A$3:$J$102,3,FALSE)),\"\",VLOOKUP(C195,BDDG!$A$3:$J$102,3,FALSE))","v":"B"},{"$f":"IF(ISNA(VLOOKUP(C195,BDDG!$A$3:$J$102,4,FALSE)),\"\",VLOOKUP(C195,BDDG!$A$3:$J$102,4,FALSE))","v":106},{"$f":"IF(ISNA(VLOOKUP(C195,BDDG!$A$2:$F$100,5,FALSE)),\"\",VLOOKUP(C195,BDDG!$A$2:$F$100,5,FALSE))","v":"A5"},{"$f":"IF(ISNA(VLOOKUP(C195,BDDG!$A$2:$F$100,6,FALSE)),\"\",VLOOKUP(C195,BDDG!$A$2:$F$100,6,FALSE))","v":"AA13"},{"$f":"IF(ISERROR(VLOOKUP(C195,BDDG!$A$2:$G$100,7,FALSE)),\"\",VLOOKUP(C195,BDDG!$A$2:$G$100,7,FALSE))","v":1},{"$f":"IF(ISERROR(VLOOKUP(C195,BDDG!$A$2:$H$100,8,FALSE)),\"\",VLOOKUP(C195,BDDG!$A$2:$H$100,8,FALSE))","v":"BB13"},33,60,47.52000000000001,{"$f":"IF(ISERROR(VLOOKUP(C195,BDDG!$A$2:$I$100,9,FALSE)),\"\",VLOOKUP(C195,BDDG!$A$2:$I$100,9,FALSE))","v":"CC13"},null,null,"",{"$f":"IF(ISERROR(VLOOKUP(C195,BDDG!$A$2:$J$100,10,FALSE)),\"\",VLOOKUP(C195,BDDG!$A$2:$J$100,10,FALSE))","v":"DD13"},null,null,"",47.52000000000001,5,2005,{"$f":"IFERROR(INDEX($V$2:V195,MATCH(H195&MAX(IF($H$1:H194=H195,$A$1:A194)),$H$2:H195&$A$2:A195,0))-V195,\"\")","v":-4.3200000000000074}]
["2005-05-30",null,848,{"$f":"IF(ISNA(VLOOKUP(C196,BDDG!$A$2:$F$100,2,FALSE)),\"\",VLOOKUP(C196,BDDG!$A$2:$F$100,2,FALSE))","v":0},{"$f":"IF(ISNA(VLOOKUP(C196,BDDG!$A$3:$J$102,3,FALSE)),\"\",VLOOKUP(C196,BDDG!$A$3:$J$102,3,FALSE))","v":"B"},{"$f":"IF(ISNA(VLOOKUP(C196,BDDG!$A$3:$J$102,4,FALSE)),\"\",VLOOKUP(C196,BDDG!$A$3:$J$102,4,FALSE))","v":106},{"$f":"IF(ISNA(VLOOKUP(C196,BDDG!$A$2:$F$100,5,FALSE)),\"\",VLOOKUP(C196,BDDG!$A$2:$F$100,5,FALSE))","v":"A7"},{"$f":"IF(ISNA(VLOOKUP(C196,BDDG!$A$2:$F$100,6,FALSE)),\"\",VLOOKUP(C196,BDDG!$A$2:$F$100,6,FALSE))","v":"AA19"},{"$f":"IF(ISERROR(VLOOKUP(C196,BDDG!$A$2:$G$100,7,FALSE)),\"\",VLOOKUP(C196,BDDG!$A$2:$G$100,7,FALSE))","v":2},{"$f":"IF(ISERROR(VLOOKUP(C196,BDDG!$A$2:$H$100,8,FALSE)),\"\",VLOOKUP(C196,BDDG!$A$2:$H$100,8,FALSE))","v":"BB19"},35,60,50.400000000000006,{"$f":"IF(ISERROR(VLOOKUP(C196,BDDG!$A$2:$I$100,9,FALSE)),\"\",VLOOKUP(C196,BDDG!$A$2:$I$100,9,FALSE))","v":"CC19"},null,null,"",{"$f":"IF(ISERROR(VLOOKUP(C196,BDDG!$A$2:$J$100,10,FALSE)),\"\",VLOOKUP(C196,BDDG!$A$2:$J$100,10,FALSE))","v":"DD19"},null,null,"",50.400000000000006,5,2005,{"$f":"IFERROR(INDEX($V$2:V196,MATCH(H196&MAX(IF($H$1:H195=H196,$A$1:A195)),$H$2:H196&$A$2:A196,0))-V196,\"\")","v":-27.360000000000003}]
["2005-06-01",null,861,{"$f":"IF(ISNA(VLOOKUP(C197,BDDG!$A$2:$F$100,2,FALSE)),\"\",VLOOKUP(C197,BDDG!$A$2:$F$100,2,FALSE))","v":0},{"$f":"IF(ISNA(VLOOKUP(C197,BDDG!$A$3:$J$102,3,FALSE)),\"\",VLOOKUP(C197,BDDG!$A$3:$J$102,3,FALSE))","v":"A"},{"$f":"IF(ISNA(VLOOKUP(C197,BDDG!$A$3:$J$102,4,FALSE)),\"\",VLOOKUP(C197,BDDG!$A$3:$J$102,4,FALSE))","v":106},{"$f":"IF(ISNA(VLOOKUP(C197,BDDG!$A$2:$F$100,5,FALSE)),\"\",VLOOKUP(C197,BDDG!$A$2:$F$100,5,FALSE))","v":"A11"},{"$f":"IF(ISNA(VLOOKUP(C197,BDDG!$A$2:$F$100,6,FALSE)),\"\",VLOOKUP(C197,BDDG!$A$2:$F$100,6,FALSE))","v":"AA33"},{"$f":"IF(ISERROR(VLOOKUP(C197,BDDG!$A$2:$G$100,7,FALSE)),\"\",VLOOKUP(C197,BDDG!$A$2:$G$100,7,FALSE))","v":2},{"$f":"IF(ISERROR(VLOOKUP(C197,BDDG!$A$2:$H$100,8,FALSE)),\"\",VLOOKUP(C197,BDDG!$A$2:$H$100,8,FALSE))","v":"BB33"},null,null,null,{"$f":"IF(ISERROR(VLOOKUP(C197,BDDG!$A$2:$I$100,9,FALSE)),\"\",VLOOKUP(C197,BDDG!$A$2:$I$100,9,FALSE))","v":"CC33"},10,5,172.8,{"$f":"IF(ISERROR(VLOOKUP(C197,BDDG!$A$2:$J$100,10,FALSE)),\"\",VLOOKUP(C197,BDDG!$A$2:$J$100,10,FALSE))","v":"DD33"},null,null,"",{"$f":"IF(ISERROR(SUM(M197,Q197,U197)),\"\",SUM((M197,Q197,U197)))","v":172.8},6,2005,{"$f":"IFERROR(INDEX($V$2:V197,MATCH(H197&MAX(IF($H$1:H196=H197,$A$1:A196)),$H$2:H197&$A$2:A197,0))-V197,\"\")","v":-28.799999999999983}]
["2005-06-02",null,832,{"$f":"IF(ISNA(VLOOKUP(C198,BDDG!$A$2:$F$100,2,FALSE)),\"\",VLOOKUP(C198,BDDG!$A$2:$F$100,2,FALSE))","v":0},{"$f":"IF(ISNA(VLOOKUP(C198,BDDG!$A$3:$J$102,3,FALSE)),\"\",VLOOKUP(C198,BDDG!$A$3:$J$102,3,FALSE))","v":"A"},{"$f":"IF(ISNA(VLOOKUP(C198,BDDG!$A$3:$J$102,4,FALSE)),\"\",VLOOKUP(C198,BDDG!$A$3:$J$102,4,FALSE))","v":106},{"$f":"IF(ISNA(VLOOKUP(C198,BDDG!$A$2:$F$100,5,FALSE)),\"\",VLOOKUP(C198,BDDG!$A$2:$F$100,5,FALSE))","v":"A2"},{"$f":"IF(ISNA(VLOOKUP(C198,BDDG!$A$2:$F$100,6,FALSE)),\"\",VLOOKUP(C198,BDDG!$A$2:$F$100,6,FALSE))","v":"AA2"},{"$f":"IF(ISERROR(VLOOKUP(C198,BDDG!$A$2:$G$100,7,FALSE)),\"\",VLOOKUP(C198,BDDG!$A$2:$G$100,7,FALSE))","v":1},{"$f":"IF(ISERROR(VLOOKUP(C198,BDDG!$A$2:$H$100,8,FALSE)),\"\",VLOOKUP(C198,BDDG!$A$2:$H$100,8,FALSE))","v":"BB2"},10,9,{"$f":" IF(ISERROR(K198/L198*86.4),\"\",K198/L198*86.4)","v":96.000000000000014},{"$f":"IF(ISERROR(VLOOKUP(C198,BDDG!$A$2:$I$100,9,FALSE)),\"\",VLOOKUP(C198,BDDG!$A$2:$I$100,9,FALSE))","v":"CC2"},null,null,"",{"$f":"IF(ISERROR(VLOOKUP(C198,BDDG!$A$2:$J$100,10,FALSE)),\"\",VLOOKUP(C198,BDDG!$A$2:$J$100,10,FALSE))","v":"DD2"},null,null,"",{"$f":"IF(ISERROR(SUM(M198,Q198,U198)),\"\",SUM(M198,Q198,U198))","v":96.000000000000014},6,2005,{"$f":"IFERROR(INDEX($V$2:V198,MATCH(H198&MAX(IF($H$1:H197=H198,$A$1:A197)),$H$2:H198&$A$2:A198,0))-V198,\"\")","v":-55.680000000000014}]
["2005-06-02",null,834,{"$f":"IF(ISNA(VLOOKUP(C199,BDDG!$A$2:$F$100,2,FALSE)),\"\",VLOOKUP(C199,BDDG!$A$2:$F$100,2,FALSE))","v":0},{"$f":"IF(ISNA(VLOOKUP(C199,BDDG!$A$3:$J$102,3,FALSE)),\"\",VLOOKUP(C199,BDDG!$A$3:$J$102,3,FALSE))","v":"A"},{"$f":"IF(ISNA(VLOOKUP(C199,BDDG!$A$3:$J$102,4,FALSE)),\"\",VLOOKUP(C199,BDDG!$A$3:$J$102,4,FALSE))","v":106},{"$f":"IF(ISNA(VLOOKUP(C199,BDDG!$A$2:$F$100,5,FALSE)),\"\",VLOOKUP(C199,BDDG!$A$2:$F$100,5,FALSE))","v":"A2"},{"$f":"IF(ISNA(VLOOKUP(C199,BDDG!$A$2:$F$100,6,FALSE)),\"\",VLOOKUP(C199,BDDG!$A$2:$F$100,6,FALSE))","v":"AA4"},{"$f":"IF(ISERROR(VLOOKUP(C199,BDDG!$A$2:$G$100,7,FALSE)),\"\",VLOOKUP(C199,BDDG!$A$2:$G$100,7,FALSE))","v":1},{"$f":"IF(ISERROR(VLOOKUP(C199,BDDG!$A$2:$H$100,8,FALSE)),\"\",VLOOKUP(C199,BDDG!$A$2:$H$100,8,FALSE))","v":"BB4"},10,33,26.181818181818183,{"$f":"IF(ISERROR(VLOOKUP(C199,BDDG!$A$2:$I$100,9,FALSE)),\"\",VLOOKUP(C199,BDDG!$A$2:$I$100,9,FALSE))","v":"CC4"},null,null,"",{"$f":"IF(ISERROR(VLOOKUP(C199,BDDG!$A$2:$J$100,10,FALSE)),\"\",VLOOKUP(C199,BDDG!$A$2:$J$100,10,FALSE))","v":"DD4"},null,null,"",26.181818181818183,6,2005,{"$f":"IFERROR(INDEX($V$2:V199,MATCH(H199&MAX(IF($H$1:H198=H199,$A$1:A198)),$H$2:H199&$A$2:A199,0))-V199,\"\")","v":-10.341818181818184}]
["2005-06-03",null,822,{"$f":"IF(ISNA(VLOOKUP(C200,BDDG!$A$2:$F$100,2,FALSE)),\"\",VLOOKUP(C200,BDDG!$A$2:$F$100,2,FALSE))","v":0},{"$f":"IF(ISNA(VLOOKUP(C200,BDDG!$A$3:$J$102,3,FALSE)),\"\",VLOOKUP(C200,BDDG!$A$3:$J$102,3,FALSE))","v":"A"},{"$f":"IF(ISNA(VLOOKUP(C200,BDDG!$A$3:$J$102,4,FALSE)),\"\",VLOOKUP(C200,BDDG!$A$3:$J$102,4,FALSE))","v":106},{"$f":"IF(ISNA(VLOOKUP(C200,BDDG!$A$2:$F$100,5,FALSE)),\"\",VLOOKUP(C200,BDDG!$A$2:$F$100,5,FALSE))","v":"A4"},{"$f":"IF(ISNA(VLOOKUP(C200,BDDG!$A$2:$F$100,6,FALSE)),\"\",VLOOKUP(C200,BDDG!$A$2:$F$100,6,FALSE))","v":"AA12"},{"$f":"IF(ISERROR(VLOOKUP(C200,BDDG!$A$2:$G$100,7,FALSE)),\"\",VLOOKUP(C200,BDDG!$A$2:$G$100,7,FALSE))","v":1},{"$f":"IF(ISERROR(VLOOKUP(C200,BDDG!$A$2:$H$100,8,FALSE)),\"\",VLOOKUP(C200,BDDG!$A$2:$H$100,8,FALSE))","v":"BB12"},10,11,78.545454545454547,{"$f":"IF(ISERROR(VLOOKUP(C200,BDDG!$A$2:$I$100,9,FALSE)),\"\",VLOOKUP(C200,BDDG!$A$2:$I$100,9,FALSE))","v":"CC12"},null,null,"",{"$f":"IF(ISERROR(VLOOKUP(C200,BDDG!$A$2:$J$100,10,FALSE)),\"\",VLOOKUP(C200,BDDG!$A$2:$J$100,10,FALSE))","v":"DD12"},null,null,"",78.545454545454547,6,2005,{"$f":"IFERROR(INDEX($V$2:V200,MATCH(H200&MAX(IF($H$1:H199=H200,$A$1:A199)),$H$2:H200&$A$2:A200,0))-V200,\"\")","v":-6.5454545454545325}]
["2005-09-08",null,856,{"$f":"IF(ISNA(VLOOKUP(C201,BDDG!$A$2:$F$100,2,FALSE)),\"\",VLOOKUP(C201,BDDG!$A$2:$F$100,2,FALSE))","v":0},{"$f":"IF(ISNA(VLOOKUP(C201,BDDG!$A$3:$J$102,3,FALSE)),\"\",VLOOKUP(C201,BDDG!$A$3:$J$102,3,FALSE))","v":"A"},{"$f":"IF(ISNA(VLOOKUP(C201,BDDG!$A$3:$J$102,4,FALSE)),\"\",VLOOKUP(C201,BDDG!$A$3:$J$102,4,FALSE))","v":106},{"$f":"IF(ISNA(VLOOKUP(C201,BDDG!$A$2:$F$100,5,FALSE)),\"\",VLOOKUP(C201,BDDG!$A$2:$F$100,5,FALSE))","v":"A9"},{"$f":"IF(ISNA(VLOOKUP(C201,BDDG!$A$2:$F$100,6,FALSE)),\"\",VLOOKUP(C201,BDDG!$A$2:$F$100,6,FALSE))","v":"AA27"},{"$f":"IF(ISERROR(VLOOKUP(C201,BDDG!$A$2:$G$100,7,FALSE)),\"\",VLOOKUP(C201,BDDG!$A$2:$G$100,7,FALSE))","v":2},{"$f":"IF(ISERROR(VLOOKUP(C201,BDDG!$A$2:$H$100,8,FALSE)),\"\",VLOOKUP(C201,BDDG!$A$2:$H$100,8,FALSE))","v":"BB27"},0.11,1,9.5040000000000013,{"$f":"IF(ISERROR(VLOOKUP(C201,BDDG!$A$2:$I$100,9,FALSE)),\"\",VLOOKUP(C201,BDDG!$A$2:$I$100,9,FALSE))","v":"CC27"},10,1,864,{"$f":"IF(ISERROR(VLOOKUP(C201,BDDG!$A$2:$J$100,10,FALSE)),\"\",VLOOKUP(C201,BDDG!$A$2:$J$100,10,FALSE))","v":"DD27"},null,null,"",873.50400000000002,9,2005,{"$f":"IFERROR(INDEX($V$2:V201,MATCH(H201&MAX(IF($H$1:H200=H201,$A$1:A200)),$H$2:H201&$A$2:A201,0))-V201,\"\")","v":-638.30400000000009}]
["2005-11-27",null,845,{"$f":"IF(ISNA(VLOOKUP(C202,BDDG!$A$2:$F$100,2,FALSE)),\"\",VLOOKUP(C202,BDDG!$A$2:$F$100,2,FALSE))","v":0},{"$f":"IF(ISNA(VLOOKUP(C202,BDDG!$A$3:$J$102,3,FALSE)),\"\",VLOOKUP(C202,BDDG!$A$3:$J$102,3,FALSE))","v":"B"},{"$f":"IF(ISNA(VLOOKUP(C202,BDDG!$A$3:$J$102,4,FALSE)),\"\",VLOOKUP(C202,BDDG!$A$3:$J$102,4,FALSE))","v":106},{"$f":"IF(ISNA(VLOOKUP(C202,BDDG!$A$2:$F$100,5,FALSE)),\"\",VLOOKUP(C202,BDDG!$A$2:$F$100,5,FALSE))","v":"A7"},{"$f":"IF(ISNA(VLOOKUP(C202,BDDG!$A$2:$F$100,6,FALSE)),\"\",VLOOKUP(C202,BDDG!$A$2:$F$100,6,FALSE))","v":"AA16"},{"$f":"IF(ISERROR(VLOOKUP(C202,BDDG!$A$2:$G$100,7,FALSE)),\"\",VLOOKUP(C202,BDDG!$A$2:$G$100,7,FALSE))","v":1},{"$f":"IF(ISERROR(VLOOKUP(C202,BDDG!$A$2:$H$100,8,FALSE)),\"\",VLOOKUP(C202,BDDG!$A$2:$H$100,8,FALSE))","v":"BB16"},10,75,11.520000000000001,{"$f":"IF(ISERROR(VLOOKUP(C202,BDDG!$A$2:$I$100,9,FALSE)),\"\",VLOOKUP(C202,BDDG!$A$2:$I$100,9,FALSE))","v":"CC16"},null,null,"",{"$f":"IF(ISERROR(VLOOKUP(C202,BDDG!$A$2:$J$100,10,FALSE)),\"\",VLOOKUP(C202,BDDG!$A$2:$J$100,10,FALSE))","v":"DD16"},null,null,"",11.520000000000001,11,2005,{"$f":"IFERROR(INDEX($V$2:V202,MATCH(H202&MAX(IF($H$1:H201=H202,$A$1:A201)),$H$2:H202&$A$2:A202,0))-V202,\"\")","v":""}]
["2006-03-02",null,856,{"$f":"IF(ISNA(VLOOKUP(C203,BDDG!$A$2:$F$100,2,FALSE)),\"\",VLOOKUP(C203,BDDG!$A$2:$F$100,2,FALSE))","v":0},{"$f":"IF(ISNA(VLOOKUP(C203,BDDG!$A$3:$J$102,3,FALSE)),\"\",VLOOKUP(C203,BDDG!$A$3:$J$102,3,FALSE))","v":"A"},{"$f":"IF(ISNA(VLOOKUP(C203,BDDG!$A$3:$J$102,4,FALSE)),\"\",VLOOKUP(C203,BDDG!$A$3:$J$102,4,FALSE))","v":106},{"$f":"IF(ISNA(VLOOKUP(C203,BDDG!$A$2:$F$100,5,FALSE)),\"\",VLOOKUP(C203,BDDG!$A$2:$F$100,5,FALSE))","v":"A9"},{"$f":"IF(ISNA(VLOOKUP(C203,BDDG!$A$2:$F$100,6,FALSE)),\"\",VLOOKUP(C203,BDDG!$A$2:$F$100,6,FALSE))","v":"AA27"},{"$f":"IF(ISERROR(VLOOKUP(C203,BDDG!$A$2:$G$100,7,FALSE)),\"\",VLOOKUP(C203,BDDG!$A$2:$G$100,7,FALSE))","v":2},{"$f":"IF(ISERROR(VLOOKUP(C203,BDDG!$A$2:$H$100,8,FALSE)),\"\",VLOOKUP(C203,BDDG!$A$2:$H$100,8,FALSE))","v":"BB27"},10,46,{"$f":" IF(ISERROR(K203/L203*86.4),\"\",K203/L203*86.4)","v":18.782608695652176},{"$f":"IF(ISERROR(VLOOKUP(C203,BDDG!$A$2:$I$100,9,FALSE)),\"\",VLOOKUP(C203,BDDG!$A$2:$I$100,9,FALSE))","v":"CC27"},null,null,192,{"$f":"IF(ISERROR(VLOOKUP(C203,BDDG!$A$2:$J$100,10,FALSE)),\"\",VLOOKUP(C203,BDDG!$A$2:$J$100,10,FALSE))","v":"DD27"},null,null,{"$f":" IF(ISERROR(S203/T203*86.4),\"\",S203/T203*86.4)","v":""},210.78260869565219,3,2006,{"$f":"IFERROR(INDEX($V$2:V203,MATCH(H203&MAX(IF($H$1:H202=H203,$A$1:A202)),$H$2:H203&$A$2:A203,0))-V203,\"\")","v":662.72139130434789}]
["2006-03-15",null,837,{"$f":"IF(ISNA(VLOOKUP(C204,BDDG!$A$2:$F$100,2,FALSE)),\"\",VLOOKUP(C204,BDDG!$A$2:$F$100,2,FALSE))","v":0},{"$f":"IF(ISNA(VLOOKUP(C204,BDDG!$A$3:$J$102,3,FALSE)),\"\",VLOOKUP(C204,BDDG!$A$3:$J$102,3,FALSE))","v":"A"},{"$f":"IF(ISNA(VLOOKUP(C204,BDDG!$A$3:$J$102,4,FALSE)),\"\",VLOOKUP(C204,BDDG!$A$3:$J$102,4,FALSE))","v":106},{"$f":"IF(ISNA(VLOOKUP(C204,BDDG!$A$2:$F$100,5,FALSE)),\"\",VLOOKUP(C204,BDDG!$A$2:$F$100,5,FALSE))","v":"A3"},{"$f":"IF(ISNA(VLOOKUP(C204,BDDG!$A$2:$F$100,6,FALSE)),\"\",VLOOKUP(C204,BDDG!$A$2:$F$100,6,FALSE))","v":"AA7"},{"$f":"IF(ISERROR(VLOOKUP(C204,BDDG!$A$2:$G$100,7,FALSE)),\"\",VLOOKUP(C204,BDDG!$A$2:$G$100,7,FALSE))","v":1},{"$f":"IF(ISERROR(VLOOKUP(C204,BDDG!$A$2:$H$100,8,FALSE)),\"\",VLOOKUP(C204,BDDG!$A$2:$H$100,8,FALSE))","v":"BB7"},67,60,96.48,{"$f":"IF(ISERROR(VLOOKUP(C204,BDDG!$A$2:$I$100,9,FALSE)),\"\",VLOOKUP(C204,BDDG!$A$2:$I$100,9,FALSE))","v":"CC7"},null,null,{"$f":" IF(ISERROR(O204/P204*86.4),\"\",O204/P204*86.4)","v":""},{"$f":"IF(ISERROR(VLOOKUP(C204,BDDG!$A$2:$J$100,10,FALSE)),\"\",VLOOKUP(C204,BDDG!$A$2:$J$100,10,FALSE))","v":"DD7"},null,null,"",96.48,3,2006,{"$f":"IFERROR(INDEX($V$2:V204,MATCH(H204&MAX(IF($H$1:H203=H204,$A$1:A203)),$H$2:H204&$A$2:A204,0))-V204,\"\")","v":-79.2}]
["2006-03-16",null,837,{"$f":"IF(ISNA(VLOOKUP(C205,BDDG!$A$2:$F$100,2,FALSE)),\"\",VLOOKUP(C205,BDDG!$A$2:$F$100,2,FALSE))","v":0},{"$f":"IF(ISNA(VLOOKUP(C205,BDDG!$A$3:$J$102,3,FALSE)),\"\",VLOOKUP(C205,BDDG!$A$3:$J$102,3,FALSE))","v":"A"},{"$f":"IF(ISNA(VLOOKUP(C205,BDDG!$A$3:$J$102,4,FALSE)),\"\",VLOOKUP(C205,BDDG!$A$3:$J$102,4,FALSE))","v":106},{"$f":"IF(ISNA(VLOOKUP(C205,BDDG!$A$2:$F$100,5,FALSE)),\"\",VLOOKUP(C205,BDDG!$A$2:$F$100,5,FALSE))","v":"A3"},{"$f":"IF(ISNA(VLOOKUP(C205,BDDG!$A$2:$F$100,6,FALSE)),\"\",VLOOKUP(C205,BDDG!$A$2:$F$100,6,FALSE))","v":"AA7"},{"$f":"IF(ISERROR(VLOOKUP(C205,BDDG!$A$2:$G$100,7,FALSE)),\"\",VLOOKUP(C205,BDDG!$A$2:$G$100,7,FALSE))","v":1},{"$f":"IF(ISERROR(VLOOKUP(C205,BDDG!$A$2:$H$100,8,FALSE)),\"\",VLOOKUP(C205,BDDG!$A$2:$H$100,8,FALSE))","v":"BB7"},10,9,96.000000000000014,{"$f":"IF(ISERROR(VLOOKUP(C205,BDDG!$A$2:$I$100,9,FALSE)),\"\",VLOOKUP(C205,BDDG!$A$2:$I$100,9,FALSE))","v":"CC7"},null,null,"",{"$f":"IF(ISERROR(VLOOKUP(C205,BDDG!$A$2:$J$100,10,FALSE)),\"\",VLOOKUP(C205,BDDG!$A$2:$J$100,10,FALSE))","v":"DD7"},null,null,"",96.000000000000014,3,2006,{"$f":"IFERROR(INDEX($V$2:V205,MATCH(H205&MAX(IF($H$1:H204=H205,$A$1:A204)),$H$2:H205&$A$2:A205,0))-V205,\"\")","v":0.47999999999998977}]
["2006-03-16",null,836,{"$f":"IF(ISNA(VLOOKUP(C206,BDDG!$A$2:$F$100,2,FALSE)),\"\",VLOOKUP(C206,BDDG!$A$2:$F$100,2,FALSE))","v":0},{"$f":"IF(ISNA(VLOOKUP(C206,BDDG!$A$3:$J$102,3,FALSE)),\"\",VLOOKUP(C206,BDDG!$A$3:$J$102,3,FALSE))","v":"A"},{"$f":"IF(ISNA(VLOOKUP(C206,BDDG!$A$3:$J$102,4,FALSE)),\"\",VLOOKUP(C206,BDDG!$A$3:$J$102,4,FALSE))","v":106},{"$f":"IF(ISNA(VLOOKUP(C206,BDDG!$A$2:$F$100,5,FALSE)),\"\",VLOOKUP(C206,BDDG!$A$2:$F$100,5,FALSE))","v":"A3"},{"$f":"IF(ISNA(VLOOKUP(C206,BDDG!$A$2:$F$100,6,FALSE)),\"\",VLOOKUP(C206,BDDG!$A$2:$F$100,6,FALSE))","v":"AA6"},{"$f":"IF(ISERROR(VLOOKUP(C206,BDDG!$A$2:$G$100,7,FALSE)),\"\",VLOOKUP(C206,BDDG!$A$2:$G$100,7,FALSE))","v":1},{"$f":"IF(ISERROR(VLOOKUP(C206,BDDG!$A$2:$H$100,8,FALSE)),\"\",VLOOKUP(C206,BDDG!$A$2:$H$100,8,FALSE))","v":"BB6"},10,6,144.00000000000003,{"$f":"IF(ISERROR(VLOOKUP(C206,BDDG!$A$2:$I$100,9,FALSE)),\"\",VLOOKUP(C206,BDDG!$A$2:$I$100,9,FALSE))","v":"CC6"},null,null,"",{"$f":"IF(ISERROR(VLOOKUP(C206,BDDG!$A$2:$J$100,10,FALSE)),\"\",VLOOKUP(C206,BDDG!$A$2:$J$100,10,FALSE))","v":"DD6"},null,null,"",144.00000000000003,3,2006,{"$f":"IFERROR(INDEX($V$2:V206,MATCH(H206&MAX(IF($H$1:H205=H206,$A$1:A205)),$H$2:H206&$A$2:A206,0))-V206,\"\")","v":-86.976000000000028}]
["2006-03-16",null,839,{"$f":"IF(ISNA(VLOOKUP(C207,BDDG!$A$2:$F$100,2,FALSE)),\"\",VLOOKUP(C207,BDDG!$A$2:$F$100,2,FALSE))","v":0},{"$f":"IF(ISNA(VLOOKUP(C207,BDDG!$A$3:$J$102,3,FALSE)),\"\",VLOOKUP(C207,BDDG!$A$3:$J$102,3,FALSE))","v":"A"},{"$f":"IF(ISNA(VLOOKUP(C207,BDDG!$A$3:$J$102,4,FALSE)),\"\",VLOOKUP(C207,BDDG!$A$3:$J$102,4,FALSE))","v":106},{"$f":"IF(ISNA(VLOOKUP(C207,BDDG!$A$2:$F$100,5,FALSE)),\"\",VLOOKUP(C207,BDDG!$A$2:$F$100,5,FALSE))","v":"A3"},{"$f":"IF(ISNA(VLOOKUP(C207,BDDG!$A$2:$F$100,6,FALSE)),\"\",VLOOKUP(C207,BDDG!$A$2:$F$100,6,FALSE))","v":"AA10"},{"$f":"IF(ISERROR(VLOOKUP(C207,BDDG!$A$2:$G$100,7,FALSE)),\"\",VLOOKUP(C207,BDDG!$A$2:$G$100,7,FALSE))","v":2},{"$f":"IF(ISERROR(VLOOKUP(C207,BDDG!$A$2:$H$100,8,FALSE)),\"\",VLOOKUP(C207,BDDG!$A$2:$H$100,8,FALSE))","v":"BB10"},null,null,240,{"$f":"IF(ISERROR(VLOOKUP(C207,BDDG!$A$2:$I$100,9,FALSE)),\"\",VLOOKUP(C207,BDDG!$A$2:$I$100,9,FALSE))","v":"CC10"},null,null,"",{"$f":"IF(ISERROR(VLOOKUP(C207,BDDG!$A$2:$J$100,10,FALSE)),\"\",VLOOKUP(C207,BDDG!$A$2:$J$100,10,FALSE))","v":"DD10"},null,null,"",240,3,2006,{"$f":"IFERROR(INDEX($V$2:V207,MATCH(H207&MAX(IF($H$1:H206=H207,$A$1:A206)),$H$2:H207&$A$2:A207,0))-V207,\"\")","v":-165.7}]
["2006-05-30",null,838,{"$f":"IF(ISNA(VLOOKUP(C208,BDDG!$A$2:$F$100,2,FALSE)),\"\",VLOOKUP(C208,BDDG!$A$2:$F$100,2,FALSE))","v":0},{"$f":"IF(ISNA(VLOOKUP(C208,BDDG!$A$3:$J$102,3,FALSE)),\"\",VLOOKUP(C208,BDDG!$A$3:$J$102,3,FALSE))","v":"A"},{"$f":"IF(ISNA(VLOOKUP(C208,BDDG!$A$3:$J$102,4,FALSE)),\"\",VLOOKUP(C208,BDDG!$A$3:$J$102,4,FALSE))","v":106},{"$f":"IF(ISNA(VLOOKUP(C208,BDDG!$A$2:$F$100,5,FALSE)),\"\",VLOOKUP(C208,BDDG!$A$2:$F$100,5,FALSE))","v":"A3"},{"$f":"IF(ISNA(VLOOKUP(C208,BDDG!$A$2:$F$100,6,FALSE)),\"\",VLOOKUP(C208,BDDG!$A$2:$F$100,6,FALSE))","v":"AA8"},{"$f":"IF(ISERROR(VLOOKUP(C208,BDDG!$A$2:$G$100,7,FALSE)),\"\",VLOOKUP(C208,BDDG!$A$2:$G$100,7,FALSE))","v":1},{"$f":"IF(ISERROR(VLOOKUP(C208,BDDG!$A$2:$H$100,8,FALSE)),\"\",VLOOKUP(C208,BDDG!$A$2:$H$100,8,FALSE))","v":"BB8"},5.5,60,{"$f":" IF(ISERROR(K208/L208*86.4),\"\",K208/L208*86.4)","v":7.92},{"$f":"IF(ISERROR(VLOOKUP(C208,BDDG!$A$2:$I$100,9,FALSE)),\"\",VLOOKUP(C208,BDDG!$A$2:$I$100,9,FALSE))","v":"CC8"},null,null,"",{"$f":"IF(ISERROR(VLOOKUP(C208,BDDG!$A$2:$J$100,10,FALSE)),\"\",VLOOKUP(C208,BDDG!$A$2:$J$100,10,FALSE))","v":"DD8"},null,null,"",7.92,5,2006,{"$f":"IFERROR(INDEX($V$2:V208,MATCH(H208&MAX(IF($H$1:H207=H208,$A$1:A207)),$H$2:H208&$A$2:A208,0))-V208,\"\")","v":64.080000000000013}]
["2006-05-30",null,837,{"$f":"IF(ISNA(VLOOKUP(C209,BDDG!$A$2:$F$100,2,FALSE)),\"\",VLOOKUP(C209,BDDG!$A$2:$F$100,2,FALSE))","v":0},{"$f":"IF(ISNA(VLOOKUP(C209,BDDG!$A$3:$J$102,3,FALSE)),\"\",VLOOKUP(C209,BDDG!$A$3:$J$102,3,FALSE))","v":"A"},{"$f":"IF(ISNA(VLOOKUP(C209,BDDG!$A$3:$J$102,4,FALSE)),\"\",VLOOKUP(C209,BDDG!$A$3:$J$102,4,FALSE))","v":106},{"$f":"IF(ISNA(VLOOKUP(C209,BDDG!$A$2:$F$100,5,FALSE)),\"\",VLOOKUP(C209,BDDG!$A$2:$F$100,5,FALSE))","v":"A3"},{"$f":"IF(ISNA(VLOOKUP(C209,BDDG!$A$2:$F$100,6,FALSE)),\"\",VLOOKUP(C209,BDDG!$A$2:$F$100,6,FALSE))","v":"AA7"},{"$f":"IF(ISERROR(VLOOKUP(C209,BDDG!$A$2:$G$100,7,FALSE)),\"\",VLOOKUP(C209,BDDG!$A$2:$G$100,7,FALSE))","v":1},{"$f":"IF(ISERROR(VLOOKUP(C209,BDDG!$A$2:$H$100,8,FALSE)),\"\",VLOOKUP(C209,BDDG!$A$2:$H$100,8,FALSE))","v":"BB7"},6,6,86.4,{"$f":"IF(ISERROR(VLOOKUP(C209,BDDG!$A$2:$I$100,9,FALSE)),\"\",VLOOKUP(C209,BDDG!$A$2:$I$100,9,FALSE))","v":"CC7"},null,null,"",{"$f":"IF(ISERROR(VLOOKUP(C209,BDDG!$A$2:$J$100,10,FALSE)),\"\",VLOOKUP(C209,BDDG!$A$2:$J$100,10,FALSE))","v":"DD7"},null,null,"",86.4,5,2006,{"$f":"IFERROR(INDEX($V$2:V209,MATCH(H209&MAX(IF($H$1:H208=H209,$A$1:A208)),$H$2:H209&$A$2:A209,0))-V209,\"\")","v":9.6000000000000085}]
["2006-05-30",null,836,{"$f":"IF(ISNA(VLOOKUP(C210,BDDG!$A$2:$F$100,2,FALSE)),\"\",VLOOKUP(C210,BDDG!$A$2:$F$100,2,FALSE))","v":0},{"$f":"IF(ISNA(VLOOKUP(C210,BDDG!$A$3:$J$102,3,FALSE)),\"\",VLOOKUP(C210,BDDG!$A$3:$J$102,3,FALSE))","v":"A"},{"$f":"IF(ISNA(VLOOKUP(C210,BDDG!$A$3:$J$102,4,FALSE)),\"\",VLOOKUP(C210,BDDG!$A$3:$J$102,4,FALSE))","v":106},{"$f":"IF(ISNA(VLOOKUP(C210,BDDG!$A$2:$F$100,5,FALSE)),\"\",VLOOKUP(C210,BDDG!$A$2:$F$100,5,FALSE))","v":"A3"},{"$f":"IF(ISNA(VLOOKUP(C210,BDDG!$A$2:$F$100,6,FALSE)),\"\",VLOOKUP(C210,BDDG!$A$2:$F$100,6,FALSE))","v":"AA6"},{"$f":"IF(ISERROR(VLOOKUP(C210,BDDG!$A$2:$G$100,7,FALSE)),\"\",VLOOKUP(C210,BDDG!$A$2:$G$100,7,FALSE))","v":1},{"$f":"IF(ISERROR(VLOOKUP(C210,BDDG!$A$2:$H$100,8,FALSE)),\"\",VLOOKUP(C210,BDDG!$A$2:$H$100,8,FALSE))","v":"BB6"},10,14,61.714285714285722,{"$f":"IF(ISERROR(VLOOKUP(C210,BDDG!$A$2:$I$100,9,FALSE)),\"\",VLOOKUP(C210,BDDG!$A$2:$I$100,9,FALSE))","v":"CC6"},null,null,"",{"$f":"IF(ISERROR(VLOOKUP(C210,BDDG!$A$2:$J$100,10,FALSE)),\"\",VLOOKUP(C210,BDDG!$A$2:$J$100,10,FALSE))","v":"DD6"},null,null,"",61.714285714285722,5,2006,{"$f":"IFERROR(INDEX($V$2:V210,MATCH(H210&MAX(IF($H$1:H209=H210,$A$1:A209)),$H$2:H210&$A$2:A210,0))-V210,\"\")","v":82.285714285714306}]
["2006-05-30",null,856,{"$f":"IF(ISNA(VLOOKUP(C211,BDDG!$A$2:$F$100,2,FALSE)),\"\",VLOOKUP(C211,BDDG!$A$2:$F$100,2,FALSE))","v":0},{"$f":"IF(ISNA(VLOOKUP(C211,BDDG!$A$3:$J$102,3,FALSE)),\"\",VLOOKUP(C211,BDDG!$A$3:$J$102,3,FALSE))","v":"A"},{"$f":"IF(ISNA(VLOOKUP(C211,BDDG!$A$3:$J$102,4,FALSE)),\"\",VLOOKUP(C211,BDDG!$A$3:$J$102,4,FALSE))","v":106},{"$f":"IF(ISNA(VLOOKUP(C211,BDDG!$A$2:$F$100,5,FALSE)),\"\",VLOOKUP(C211,BDDG!$A$2:$F$100,5,FALSE))","v":"A9"},{"$f":"IF(ISNA(VLOOKUP(C211,BDDG!$A$2:$F$100,6,FALSE)),\"\",VLOOKUP(C211,BDDG!$A$2:$F$100,6,FALSE))","v":"AA27"},{"$f":"IF(ISERROR(VLOOKUP(C211,BDDG!$A$2:$G$100,7,FALSE)),\"\",VLOOKUP(C211,BDDG!$A$2:$G$100,7,FALSE))","v":2},{"$f":"IF(ISERROR(VLOOKUP(C211,BDDG!$A$2:$H$100,8,FALSE)),\"\",VLOOKUP(C211,BDDG!$A$2:$H$100,8,FALSE))","v":"BB27"},12,60,17.28,{"$f":"IF(ISERROR(VLOOKUP(C211,BDDG!$A$2:$I$100,9,FALSE)),\"\",VLOOKUP(C211,BDDG!$A$2:$I$100,9,FALSE))","v":"CC27"},110,60,158.4,{"$f":"IF(ISERROR(VLOOKUP(C211,BDDG!$A$2:$J$100,10,FALSE)),\"\",VLOOKUP(C211,BDDG!$A$2:$J$100,10,FALSE))","v":"DD27"},null,null,"",175.68,5,2006,{"$f":"IFERROR(INDEX($V$2:V211,MATCH(H211&MAX(IF($H$1:H210=H211,$A$1:A210)),$H$2:H211&$A$2:A211,0))-V211,\"\")","v":35.102608695652179}]
["2006-05-30",null,839,{"$f":"IF(ISNA(VLOOKUP(C212,BDDG!$A$2:$F$100,2,FALSE)),\"\",VLOOKUP(C212,BDDG!$A$2:$F$100,2,FALSE))","v":0},{"$f":"IF(ISNA(VLOOKUP(C212,BDDG!$A$3:$J$102,3,FALSE)),\"\",VLOOKUP(C212,BDDG!$A$3:$J$102,3,FALSE))","v":"A"},{"$f":"IF(ISNA(VLOOKUP(C212,BDDG!$A$3:$J$102,4,FALSE)),\"\",VLOOKUP(C212,BDDG!$A$3:$J$102,4,FALSE))","v":106},{"$f":"IF(ISNA(VLOOKUP(C212,BDDG!$A$2:$F$100,5,FALSE)),\"\",VLOOKUP(C212,BDDG!$A$2:$F$100,5,FALSE))","v":"A3"},{"$f":"IF(ISNA(VLOOKUP(C212,BDDG!$A$2:$F$100,6,FALSE)),\"\",VLOOKUP(C212,BDDG!$A$2:$F$100,6,FALSE))","v":"AA10"},{"$f":"IF(ISERROR(VLOOKUP(C212,BDDG!$A$2:$G$100,7,FALSE)),\"\",VLOOKUP(C212,BDDG!$A$2:$G$100,7,FALSE))","v":2},{"$f":"IF(ISERROR(VLOOKUP(C212,BDDG!$A$2:$H$100,8,FALSE)),\"\",VLOOKUP(C212,BDDG!$A$2:$H$100,8,FALSE))","v":"BB10"},null,null,148.11000000000001,{"$f":"IF(ISERROR(VLOOKUP(C212,BDDG!$A$2:$I$100,9,FALSE)),\"\",VLOOKUP(C212,BDDG!$A$2:$I$100,9,FALSE))","v":"CC10"},null,null,"",{"$f":"IF(ISERROR(VLOOKUP(C212,BDDG!$A$2:$J$100,10,FALSE)),\"\",VLOOKUP(C212,BDDG!$A$2:$J$100,10,FALSE))","v":"DD10"},null,null,"",148.11000000000001,5,2006,{"$f":"IFERROR(INDEX($V$2:V212,MATCH(H212&MAX(IF($H$1:H211=H212,$A$1:A211)),$H$2:H212&$A$2:A212,0))-V212,\"\")","v":91.889999999999986}]
["2006-05-31",null,835,{"$f":"IF(ISNA(VLOOKUP(C213,BDDG!$A$2:$F$100,2,FALSE)),\"\",VLOOKUP(C213,BDDG!$A$2:$F$100,2,FALSE))","v":0},{"$f":"IF(ISNA(VLOOKUP(C213,BDDG!$A$3:$J$102,3,FALSE)),\"\",VLOOKUP(C213,BDDG!$A$3:$J$102,3,FALSE))","v":"A"},{"$f":"IF(ISNA(VLOOKUP(C213,BDDG!$A$3:$J$102,4,FALSE)),\"\",VLOOKUP(C213,BDDG!$A$3:$J$102,4,FALSE))","v":106},{"$f":"IF(ISNA(VLOOKUP(C213,BDDG!$A$2:$F$100,5,FALSE)),\"\",VLOOKUP(C213,BDDG!$A$2:$F$100,5,FALSE))","v":"A3"},{"$f":"IF(ISNA(VLOOKUP(C213,BDDG!$A$2:$F$100,6,FALSE)),\"\",VLOOKUP(C213,BDDG!$A$2:$F$100,6,FALSE))","v":"AA5"},{"$f":"IF(ISERROR(VLOOKUP(C213,BDDG!$A$2:$G$100,7,FALSE)),\"\",VLOOKUP(C213,BDDG!$A$2:$G$100,7,FALSE))","v":1},{"$f":"IF(ISERROR(VLOOKUP(C213,BDDG!$A$2:$H$100,8,FALSE)),\"\",VLOOKUP(C213,BDDG!$A$2:$H$100,8,FALSE))","v":"BB5"},10,{"$f":"2*60+20","v":140},{"$f":" IF(ISERROR(K213/L213*86.4),\"\",K213/L213*86.4)","v":6.1714285714285717},{"$f":"IF(ISERROR(VLOOKUP(C213,BDDG!$A$2:$I$100,9,FALSE)),\"\",VLOOKUP(C213,BDDG!$A$2:$I$100,9,FALSE))","v":"CC5"},null,null,"",{"$f":"IF(ISERROR(VLOOKUP(C213,BDDG!$A$2:$J$100,10,FALSE)),\"\",VLOOKUP(C213,BDDG!$A$2:$J$100,10,FALSE))","v":"DD5"},null,null,"",6.1714285714285717,5,2006,{"$f":"IFERROR(INDEX($V$2:V213,MATCH(H213&MAX(IF($H$1:H212=H213,$A$1:A212)),$H$2:H213&$A$2:A213,0))-V213,\"\")","v":0.30857142857142872}]
["2006-06-13",null,860,{"$f":"IF(ISNA(VLOOKUP(C214,BDDG!$A$2:$F$100,2,FALSE)),\"\",VLOOKUP(C214,BDDG!$A$2:$F$100,2,FALSE))","v":0},{"$f":"IF(ISNA(VLOOKUP(C214,BDDG!$A$3:$J$102,3,FALSE)),\"\",VLOOKUP(C214,BDDG!$A$3:$J$102,3,FALSE))","v":"A"},{"$f":"IF(ISNA(VLOOKUP(C214,BDDG!$A$3:$J$102,4,FALSE)),\"\",VLOOKUP(C214,BDDG!$A$3:$J$102,4,FALSE))","v":106},{"$f":"IF(ISNA(VLOOKUP(C214,BDDG!$A$2:$F$100,5,FALSE)),\"\",VLOOKUP(C214,BDDG!$A$2:$F$100,5,FALSE))","v":"A11"},{"$f":"IF(ISNA(VLOOKUP(C214,BDDG!$A$2:$F$100,6,FALSE)),\"\",VLOOKUP(C214,BDDG!$A$2:$F$100,6,FALSE))","v":"AA32"},{"$f":"IF(ISERROR(VLOOKUP(C214,BDDG!$A$2:$G$100,7,FALSE)),\"\",VLOOKUP(C214,BDDG!$A$2:$G$100,7,FALSE))","v":2},{"$f":"IF(ISERROR(VLOOKUP(C214,BDDG!$A$2:$H$100,8,FALSE)),\"\",VLOOKUP(C214,BDDG!$A$2:$H$100,8,FALSE))","v":"BB32"},10,16,{"$f":" IF(ISERROR(K214/L214*86.4),\"\",K214/L214*86.4)","v":54},{"$f":"IF(ISERROR(VLOOKUP(C214,BDDG!$A$2:$I$100,9,FALSE)),\"\",VLOOKUP(C214,BDDG!$A$2:$I$100,9,FALSE))","v":"CC32"},null,null,"",{"$f":"IF(ISERROR(VLOOKUP(C214,BDDG!$A$2:$J$100,10,FALSE)),\"\",VLOOKUP(C214,BDDG!$A$2:$J$100,10,FALSE))","v":"DD32"},null,null,"",54,6,2006,{"$f":"IFERROR(INDEX($V$2:V214,MATCH(H214&MAX(IF($H$1:H213=H214,$A$1:A213)),$H$2:H214&$A$2:A214,0))-V214,\"\")","v":-10.799999999999997}]
["2006-06-13",null,861,{"$f":"IF(ISNA(VLOOKUP(C215,BDDG!$A$2:$F$100,2,FALSE)),\"\",VLOOKUP(C215,BDDG!$A$2:$F$100,2,FALSE))","v":0},{"$f":"IF(ISNA(VLOOKUP(C215,BDDG!$A$3:$J$102,3,FALSE)),\"\",VLOOKUP(C215,BDDG!$A$3:$J$102,3,FALSE))","v":"A"},{"$f":"IF(ISNA(VLOOKUP(C215,BDDG!$A$3:$J$102,4,FALSE)),\"\",VLOOKUP(C215,BDDG!$A$3:$J$102,4,FALSE))","v":106},{"$f":"IF(ISNA(VLOOKUP(C215,BDDG!$A$2:$F$100,5,FALSE)),\"\",VLOOKUP(C215,BDDG!$A$2:$F$100,5,FALSE))","v":"A11"},{"$f":"IF(ISNA(VLOOKUP(C215,BDDG!$A$2:$F$100,6,FALSE)),\"\",VLOOKUP(C215,BDDG!$A$2:$F$100,6,FALSE))","v":"AA33"},{"$f":"IF(ISERROR(VLOOKUP(C215,BDDG!$A$2:$G$100,7,FALSE)),\"\",VLOOKUP(C215,BDDG!$A$2:$G$100,7,FALSE))","v":2},{"$f":"IF(ISERROR(VLOOKUP(C215,BDDG!$A$2:$H$100,8,FALSE)),\"\",VLOOKUP(C215,BDDG!$A$2:$H$100,8,FALSE))","v":"BB33"},null,null,null,{"$f":"IF(ISERROR(VLOOKUP(C215,BDDG!$A$2:$I$100,9,FALSE)),\"\",VLOOKUP(C215,BDDG!$A$2:$I$100,9,FALSE))","v":"CC33"},10,5,172.8,{"$f":"IF(ISERROR(VLOOKUP(C215,BDDG!$A$2:$J$100,10,FALSE)),\"\",VLOOKUP(C215,BDDG!$A$2:$J$100,10,FALSE))","v":"DD33"},null,null,"",{"$f":"IF(ISERROR(SUM(M215,Q215,U215)),\"\",SUM((M215,Q215,U215)))","v":172.8},6,2006,{"$f":"IFERROR(INDEX($V$2:V215,MATCH(H215&MAX(IF($H$1:H214=H215,$A$1:A214)),$H$2:H215&$A$2:A215,0))-V215,\"\")","v":0}]
["2006-06-13",null,862,{"$f":"IF(ISNA(VLOOKUP(C216,BDDG!$A$2:$F$100,2,FALSE)),\"\",VLOOKUP(C216,BDDG!$A$2:$F$100,2,FALSE))","v":0},{"$f":"IF(ISNA(VLOOKUP(C216,BDDG!$A$3:$J$102,3,FALSE)),\"\",VLOOKUP(C216,BDDG!$A$3:$J$102,3,FALSE))","v":"A"},{"$f":"IF(ISNA(VLOOKUP(C216,BDDG!$A$3:$J$102,4,FALSE)),\"\",VLOOKUP(C216,BDDG!$A$3:$J$102,4,FALSE))","v":106},{"$f":"IF(ISNA(VLOOKUP(C216,BDDG!$A$2:$F$100,5,FALSE)),\"\",VLOOKUP(C216,BDDG!$A$2:$F$100,5,FALSE))","v":"A12"},{"$f":"IF(ISNA(VLOOKUP(C216,BDDG!$A$2:$F$100,6,FALSE)),\"\",VLOOKUP(C216,BDDG!$A$2:$F$100,6,FALSE))","v":"AA34"},{"$f":"IF(ISERROR(VLOOKUP(C216,BDDG!$A$2:$G$100,7,FALSE)),\"\",VLOOKUP(C216,BDDG!$A$2:$G$100,7,FALSE))","v":1},{"$f":"IF(ISERROR(VLOOKUP(C216,BDDG!$A$2:$H$100,8,FALSE)),\"\",VLOOKUP(C216,BDDG!$A$2:$H$100,8,FALSE))","v":"BB34"},10,13,{"$f":" IF(ISERROR(K216/L216*86.4),\"\",K216/L216*86.4)","v":66.461538461538467},{"$f":"IF(ISERROR(VLOOKUP(C216,BDDG!$A$2:$I$100,9,FALSE)),\"\",VLOOKUP(C216,BDDG!$A$2:$I$100,9,FALSE))","v":"CC34"},null,null,"",{"$f":"IF(ISERROR(VLOOKUP(C216,BDDG!$A$2:$J$100,10,FALSE)),\"\",VLOOKUP(C216,BDDG!$A$2:$J$100,10,FALSE))","v":"DD34"},null,null,"",{"$f":"IF(ISERROR(SUM(M216,Q216,U216)),\"\",SUM(M216,Q216,U216))","v":66.461538461538467},6,2006,{"$f":"IFERROR(INDEX($V$2:V216,MATCH(H216&MAX(IF($H$1:H215=H216,$A$1:A215)),$H$2:H216&$A$2:A216,0))-V216,\"\")","v":-8.8615384615384656}]
["2006-06-13",null,844,{"$f":"IF(ISNA(VLOOKUP(C217,BDDG!$A$2:$F$100,2,FALSE)),\"\",VLOOKUP(C217,BDDG!$A$2:$F$100,2,FALSE))","v":0},{"$f":"IF(ISNA(VLOOKUP(C217,BDDG!$A$3:$J$102,3,FALSE)),\"\",VLOOKUP(C217,BDDG!$A$3:$J$102,3,FALSE))","v":"B"},{"$f":"IF(ISNA(VLOOKUP(C217,BDDG!$A$3:$J$102,4,FALSE)),\"\",VLOOKUP(C217,BDDG!$A$3:$J$102,4,FALSE))","v":106},{"$f":"IF(ISNA(VLOOKUP(C217,BDDG!$A$2:$F$100,5,FALSE)),\"\",VLOOKUP(C217,BDDG!$A$2:$F$100,5,FALSE))","v":"A6"},{"$f":"IF(ISNA(VLOOKUP(C217,BDDG!$A$2:$F$100,6,FALSE)),\"\",VLOOKUP(C217,BDDG!$A$2:$F$100,6,FALSE))","v":"AA14"},{"$f":"IF(ISERROR(VLOOKUP(C217,BDDG!$A$2:$G$100,7,FALSE)),\"\",VLOOKUP(C217,BDDG!$A$2:$G$100,7,FALSE))","v":2},{"$f":"IF(ISERROR(VLOOKUP(C217,BDDG!$A$2:$H$100,8,FALSE)),\"\",VLOOKUP(C217,BDDG!$A$2:$H$100,8,FALSE))","v":"BB14"},10,13,{"$f":" IF(ISERROR(K217/L217*86.4),\"\",K217/L217*86.4)","v":66.461538461538467},{"$f":"IF(ISERROR(VLOOKUP(C217,BDDG!$A$2:$I$100,9,FALSE)),\"\",VLOOKUP(C217,BDDG!$A$2:$I$100,9,FALSE))","v":"CC14"},null,null,"",{"$f":"IF(ISERROR(VLOOKUP(C217,BDDG!$A$2:$J$100,10,FALSE)),\"\",VLOOKUP(C217,BDDG!$A$2:$J$100,10,FALSE))","v":"DD14"},null,null,"",{"$f":"IF(ISERROR(SUM(M217,Q217,U217)),\"\",SUM(M217,Q217,U217))","v":66.461538461538467},6,2006,{"$f":"IFERROR(INDEX($V$2:V217,MATCH(H217&MAX(IF($H$1:H216=H217,$A$1:A216)),$H$2:H217&$A$2:A217,0))-V217,\"\")","v":29.538461538461547}]
["2006-06-30",null,842,{"$f":"IF(ISNA(VLOOKUP(C218,BDDG!$A$2:$F$100,2,FALSE)),\"\",VLOOKUP(C218,BDDG!$A$2:$F$100,2,FALSE))","v":0},{"$f":"IF(ISNA(VLOOKUP(C218,BDDG!$A$3:$J$102,3,FALSE)),\"\",VLOOKUP(C218,BDDG!$A$3:$J$102,3,FALSE))","v":"B"},{"$f":"IF(ISNA(VLOOKUP(C218,BDDG!$A$3:$J$102,4,FALSE)),\"\",VLOOKUP(C218,BDDG!$A$3:$J$102,4,FALSE))","v":106},{"$f":"IF(ISNA(VLOOKUP(C218,BDDG!$A$2:$F$100,5,FALSE)),\"\",VLOOKUP(C218,BDDG!$A$2:$F$100,5,FALSE))","v":"A5"},{"$f":"IF(ISNA(VLOOKUP(C218,BDDG!$A$2:$F$100,6,FALSE)),\"\",VLOOKUP(C218,BDDG!$A$2:$F$100,6,FALSE))","v":"AA13"},{"$f":"IF(ISERROR(VLOOKUP(C218,BDDG!$A$2:$G$100,7,FALSE)),\"\",VLOOKUP(C218,BDDG!$A$2:$G$100,7,FALSE))","v":1},{"$f":"IF(ISERROR(VLOOKUP(C218,BDDG!$A$2:$H$100,8,FALSE)),\"\",VLOOKUP(C218,BDDG!$A$2:$H$100,8,FALSE))","v":"BB13"},10,35,{"$f":" IF(ISERROR(K218/L218*86.4),\"\",K218/L218*86.4)","v":24.685714285714287},{"$f":"IF(ISERROR(VLOOKUP(C218,BDDG!$A$2:$I$100,9,FALSE)),\"\",VLOOKUP(C218,BDDG!$A$2:$I$100,9,FALSE))","v":"CC13"},null,null,"",{"$f":"IF(ISERROR(VLOOKUP(C218,BDDG!$A$2:$J$100,10,FALSE)),\"\",VLOOKUP(C218,BDDG!$A$2:$J$100,10,FALSE))","v":"DD13"},null,null,"",{"$f":"IF(ISERROR(SUM(M218,Q218,U218)),\"\",SUM(M218,Q218,U218))","v":24.685714285714287},6,2006,{"$f":"IFERROR(INDEX($V$2:V218,MATCH(H218&MAX(IF($H$1:H217=H218,$A$1:A217)),$H$2:H218&$A$2:A218,0))-V218,\"\")","v":22.834285714285723}]
["2006-06-30",null,849,{"$f":"IF(ISNA(VLOOKUP(C219,BDDG!$A$2:$F$100,2,FALSE)),\"\",VLOOKUP(C219,BDDG!$A$2:$F$100,2,FALSE))","v":0},{"$f":"IF(ISNA(VLOOKUP(C219,BDDG!$A$3:$J$102,3,FALSE)),\"\",VLOOKUP(C219,BDDG!$A$3:$J$102,3,FALSE))","v":"B"},{"$f":"IF(ISNA(VLOOKUP(C219,BDDG!$A$3:$J$102,4,FALSE)),\"\",VLOOKUP(C219,BDDG!$A$3:$J$102,4,FALSE))","v":106},{"$f":"IF(ISNA(VLOOKUP(C219,BDDG!$A$2:$F$100,5,FALSE)),\"\",VLOOKUP(C219,BDDG!$A$2:$F$100,5,FALSE))","v":"A7"},{"$f":"IF(ISNA(VLOOKUP(C219,BDDG!$A$2:$F$100,6,FALSE)),\"\",VLOOKUP(C219,BDDG!$A$2:$F$100,6,FALSE))","v":"AA15"},{"$f":"IF(ISERROR(VLOOKUP(C219,BDDG!$A$2:$G$100,7,FALSE)),\"\",VLOOKUP(C219,BDDG!$A$2:$G$100,7,FALSE))","v":2},{"$f":"IF(ISERROR(VLOOKUP(C219,BDDG!$A$2:$H$100,8,FALSE)),\"\",VLOOKUP(C219,BDDG!$A$2:$H$100,8,FALSE))","v":"BB15"},10,40,{"$f":" IF(ISERROR(K219/L219*86.4),\"\",K219/L219*86.4)","v":21.6},{"$f":"IF(ISERROR(VLOOKUP(C219,BDDG!$A$2:$I$100,9,FALSE)),\"\",VLOOKUP(C219,BDDG!$A$2:$I$100,9,FALSE))","v":"CC15"},null,null,"",{"$f":"IF(ISERROR(VLOOKUP(C219,BDDG!$A$2:$J$100,10,FALSE)),\"\",VLOOKUP(C219,BDDG!$A$2:$J$100,10,FALSE))","v":"DD15"},null,null,"",{"$f":"IF(ISERROR(SUM(M219,Q219,U219)),\"\",SUM(M219,Q219,U219))","v":21.6},6,2006,{"$f":"IFERROR(INDEX($V$2:V219,MATCH(H219&MAX(IF($H$1:H218=H219,$A$1:A218)),$H$2:H219&$A$2:A219,0))-V219,\"\")","v":-8.3076923076923084}]
["2006-08-08",null,860,{"$f":"IF(ISNA(VLOOKUP(C220,BDDG!$A$2:$F$100,2,FALSE)),\"\",VLOOKUP(C220,BDDG!$A$2:$F$100,2,FALSE))","v":0},{"$f":"IF(ISNA(VLOOKUP(C220,BDDG!$A$3:$J$102,3,FALSE)),\"\",VLOOKUP(C220,BDDG!$A$3:$J$102,3,FALSE))","v":"A"},{"$f":"IF(ISNA(VLOOKUP(C220,BDDG!$A$3:$J$102,4,FALSE)),\"\",VLOOKUP(C220,BDDG!$A$3:$J$102,4,FALSE))","v":106},{"$f":"IF(ISNA(VLOOKUP(C220,BDDG!$A$2:$F$100,5,FALSE)),\"\",VLOOKUP(C220,BDDG!$A$2:$F$100,5,FALSE))","v":"A11"},{"$f":"IF(ISNA(VLOOKUP(C220,BDDG!$A$2:$F$100,6,FALSE)),\"\",VLOOKUP(C220,BDDG!$A$2:$F$100,6,FALSE))","v":"AA32"},{"$f":"IF(ISERROR(VLOOKUP(C220,BDDG!$A$2:$G$100,7,FALSE)),\"\",VLOOKUP(C220,BDDG!$A$2:$G$100,7,FALSE))","v":2},{"$f":"IF(ISERROR(VLOOKUP(C220,BDDG!$A$2:$H$100,8,FALSE)),\"\",VLOOKUP(C220,BDDG!$A$2:$H$100,8,FALSE))","v":"BB32"},10,20,{"$f":" IF(ISERROR(K220/L220*86.4),\"\",K220/L220*86.4)","v":43.2},{"$f":"IF(ISERROR(VLOOKUP(C220,BDDG!$A$2:$I$100,9,FALSE)),\"\",VLOOKUP(C220,BDDG!$A$2:$I$100,9,FALSE))","v":"CC32"},null,null,"",{"$f":"IF(ISERROR(VLOOKUP(C220,BDDG!$A$2:$J$100,10,FALSE)),\"\",VLOOKUP(C220,BDDG!$A$2:$J$100,10,FALSE))","v":"DD32"},null,null,"",{"$f":"IF(ISERROR(SUM(M220,Q220,U220)),\"\",SUM(M220,Q220,U220))","v":43.2},8,2006,{"$f":"IFERROR(INDEX($V$2:V220,MATCH(H220&MAX(IF($H$1:H219=H220,$A$1:A219)),$H$2:H220&$A$2:A220,0))-V220,\"\")","v":10.799999999999997}]
["2006-08-08",null,861,{"$f":"IF(ISNA(VLOOKUP(C221,BDDG!$A$2:$F$100,2,FALSE)),\"\",VLOOKUP(C221,BDDG!$A$2:$F$100,2,FALSE))","v":0},{"$f":"IF(ISNA(VLOOKUP(C221,BDDG!$A$3:$J$102,3,FALSE)),\"\",VLOOKUP(C221,BDDG!$A$3:$J$102,3,FALSE))","v":"A"},{"$f":"IF(ISNA(VLOOKUP(C221,BDDG!$A$3:$J$102,4,FALSE)),\"\",VLOOKUP(C221,BDDG!$A$3:$J$102,4,FALSE))","v":106},{"$f":"IF(ISNA(VLOOKUP(C221,BDDG!$A$2:$F$100,5,FALSE)),\"\",VLOOKUP(C221,BDDG!$A$2:$F$100,5,FALSE))","v":"A11"},{"$f":"IF(ISNA(VLOOKUP(C221,BDDG!$A$2:$F$100,6,FALSE)),\"\",VLOOKUP(C221,BDDG!$A$2:$F$100,6,FALSE))","v":"AA33"},{"$f":"IF(ISERROR(VLOOKUP(C221,BDDG!$A$2:$G$100,7,FALSE)),\"\",VLOOKUP(C221,BDDG!$A$2:$G$100,7,FALSE))","v":2},{"$f":"IF(ISERROR(VLOOKUP(C221,BDDG!$A$2:$H$100,8,FALSE)),\"\",VLOOKUP(C221,BDDG!$A$2:$H$100,8,FALSE))","v":"BB33"},null,null,null,{"$f":"IF(ISERROR(VLOOKUP(C221,BDDG!$A$2:$I$100,9,FALSE)),\"\",VLOOKUP(C221,BDDG!$A$2:$I$100,9,FALSE))","v":"CC33"},10,6,144.00000000000003,{"$f":"IF(ISERROR(VLOOKUP(C221,BDDG!$A$2:$J$100,10,FALSE)),\"\",VLOOKUP(C221,BDDG!$A$2:$J$100,10,FALSE))","v":"DD33"},null,null,"",{"$f":"IF(ISERROR(SUM(M221,Q221,U221)),\"\",SUM((M221,Q221,U221)))","v":144.00000000000003},8,2006,{"$f":"IFERROR(INDEX($V$2:V221,MATCH(H221&MAX(IF($H$1:H220=H221,$A$1:A220)),$H$2:H221&$A$2:A221,0))-V221,\"\")","v":28.799999999999983}]
["2006-08-08",null,862,{"$f":"IF(ISNA(VLOOKUP(C222,BDDG!$A$2:$F$100,2,FALSE)),\"\",VLOOKUP(C222,BDDG!$A$2:$F$100,2,FALSE))","v":0},{"$f":"IF(ISNA(VLOOKUP(C222,BDDG!$A$3:$J$102,3,FALSE)),\"\",VLOOKUP(C222,BDDG!$A$3:$J$102,3,FALSE))","v":"A"},{"$f":"IF(ISNA(VLOOKUP(C222,BDDG!$A$3:$J$102,4,FALSE)),\"\",VLOOKUP(C222,BDDG!$A$3:$J$102,4,FALSE))","v":106},{"$f":"IF(ISNA(VLOOKUP(C222,BDDG!$A$2:$F$100,5,FALSE)),\"\",VLOOKUP(C222,BDDG!$A$2:$F$100,5,FALSE))","v":"A12"},{"$f":"IF(ISNA(VLOOKUP(C222,BDDG!$A$2:$F$100,6,FALSE)),\"\",VLOOKUP(C222,BDDG!$A$2:$F$100,6,FALSE))","v":"AA34"},{"$f":"IF(ISERROR(VLOOKUP(C222,BDDG!$A$2:$G$100,7,FALSE)),\"\",VLOOKUP(C222,BDDG!$A$2:$G$100,7,FALSE))","v":1},{"$f":"IF(ISERROR(VLOOKUP(C222,BDDG!$A$2:$H$100,8,FALSE)),\"\",VLOOKUP(C222,BDDG!$A$2:$H$100,8,FALSE))","v":"BB34"},10,14,{"$f":" IF(ISERROR(K222/L222*86.4),\"\",K222/L222*86.4)","v":61.714285714285722},{"$f":"IF(ISERROR(VLOOKUP(C222,BDDG!$A$2:$I$100,9,FALSE)),\"\",VLOOKUP(C222,BDDG!$A$2:$I$100,9,FALSE))","v":"CC34"},null,null,"",{"$f":"IF(ISERROR(VLOOKUP(C222,BDDG!$A$2:$J$100,10,FALSE)),\"\",VLOOKUP(C222,BDDG!$A$2:$J$100,10,FALSE))","v":"DD34"},null,null,"",{"$f":"IF(ISERROR(SUM(M222,Q222,U222)),\"\",SUM(M222,Q222,U222))","v":61.714285714285722},8,2006,{"$f":"IFERROR(INDEX($V$2:V222,MATCH(H222&MAX(IF($H$1:H221=H222,$A$1:A221)),$H$2:H222&$A$2:A222,0))-V222,\"\")","v":4.7472527472527446}]
["2006-09-16",null,852,{"$f":"IF(ISNA(VLOOKUP(C223,BDDG!$A$2:$F$100,2,FALSE)),\"\",VLOOKUP(C223,BDDG!$A$2:$F$100,2,FALSE))","v":0},{"$f":"IF(ISNA(VLOOKUP(C223,BDDG!$A$3:$J$102,3,FALSE)),\"\",VLOOKUP(C223,BDDG!$A$3:$J$102,3,FALSE))","v":"A"},{"$f":"IF(ISNA(VLOOKUP(C223,BDDG!$A$3:$J$102,4,FALSE)),\"\",VLOOKUP(C223,BDDG!$A$3:$J$102,4,FALSE))","v":106},{"$f":"IF(ISNA(VLOOKUP(C223,BDDG!$A$2:$F$100,5,FALSE)),\"\",VLOOKUP(C223,BDDG!$A$2:$F$100,5,FALSE))","v":"A9"},{"$f":"IF(ISNA(VLOOKUP(C223,BDDG!$A$2:$F$100,6,FALSE)),\"\",VLOOKUP(C223,BDDG!$A$2:$F$100,6,FALSE))","v":"AA22"},{"$f":"IF(ISERROR(VLOOKUP(C223,BDDG!$A$2:$G$100,7,FALSE)),\"\",VLOOKUP(C223,BDDG!$A$2:$G$100,7,FALSE))","v":1},{"$f":"IF(ISERROR(VLOOKUP(C223,BDDG!$A$2:$H$100,8,FALSE)),\"\",VLOOKUP(C223,BDDG!$A$2:$H$100,8,FALSE))","v":"BB22"},10,90,9.6,{"$f":"IF(ISERROR(VLOOKUP(C223,BDDG!$A$2:$I$100,9,FALSE)),\"\",VLOOKUP(C223,BDDG!$A$2:$I$100,9,FALSE))","v":"CC22"},null,null,"",{"$f":"IF(ISERROR(VLOOKUP(C223,BDDG!$A$2:$J$100,10,FALSE)),\"\",VLOOKUP(C223,BDDG!$A$2:$J$100,10,FALSE))","v":"DD22"},null,null,"",9.6,9,2006,{"$f":"IFERROR(INDEX($V$2:V223,MATCH(H223&MAX(IF($H$1:H222=H223,$A$1:A222)),$H$2:H223&$A$2:A223,0))-V223,\"\")","v":9.2509090909090919}]
["2006-10-17",null,838,{"$f":"IF(ISNA(VLOOKUP(C224,BDDG!$A$2:$F$100,2,FALSE)),\"\",VLOOKUP(C224,BDDG!$A$2:$F$100,2,FALSE))","v":0},{"$f":"IF(ISNA(VLOOKUP(C224,BDDG!$A$3:$J$102,3,FALSE)),\"\",VLOOKUP(C224,BDDG!$A$3:$J$102,3,FALSE))","v":"A"},{"$f":"IF(ISNA(VLOOKUP(C224,BDDG!$A$3:$J$102,4,FALSE)),\"\",VLOOKUP(C224,BDDG!$A$3:$J$102,4,FALSE))","v":106},{"$f":"IF(ISNA(VLOOKUP(C224,BDDG!$A$2:$F$100,5,FALSE)),\"\",VLOOKUP(C224,BDDG!$A$2:$F$100,5,FALSE))","v":"A3"},{"$f":"IF(ISNA(VLOOKUP(C224,BDDG!$A$2:$F$100,6,FALSE)),\"\",VLOOKUP(C224,BDDG!$A$2:$F$100,6,FALSE))","v":"AA8"},{"$f":"IF(ISERROR(VLOOKUP(C224,BDDG!$A$2:$G$100,7,FALSE)),\"\",VLOOKUP(C224,BDDG!$A$2:$G$100,7,FALSE))","v":1},{"$f":"IF(ISERROR(VLOOKUP(C224,BDDG!$A$2:$H$100,8,FALSE)),\"\",VLOOKUP(C224,BDDG!$A$2:$H$100,8,FALSE))","v":"BB8"},4,60,5.7600000000000007,{"$f":"IF(ISERROR(VLOOKUP(C224,BDDG!$A$2:$I$100,9,FALSE)),\"\",VLOOKUP(C224,BDDG!$A$2:$I$100,9,FALSE))","v":"CC8"},null,null,"",{"$f":"IF(ISERROR(VLOOKUP(C224,BDDG!$A$2:$J$100,10,FALSE)),\"\",VLOOKUP(C224,BDDG!$A$2:$J$100,10,FALSE))","v":"DD8"},null,null,"",5.7600000000000007,10,2006,{"$f":"IFERROR(INDEX($V$2:V224,MATCH(H224&MAX(IF($H$1:H223=H224,$A$1:A223)),$H$2:H224&$A$2:A224,0))-V224,\"\")","v":2.1599999999999993}]
["2006-10-17",null,837,{"$f":"IF(ISNA(VLOOKUP(C225,BDDG!$A$2:$F$100,2,FALSE)),\"\",VLOOKUP(C225,BDDG!$A$2:$F$100,2,FALSE))","v":0},{"$f":"IF(ISNA(VLOOKUP(C225,BDDG!$A$3:$J$102,3,FALSE)),\"\",VLOOKUP(C225,BDDG!$A$3:$J$102,3,FALSE))","v":"A"},{"$f":"IF(ISNA(VLOOKUP(C225,BDDG!$A$3:$J$102,4,FALSE)),\"\",VLOOKUP(C225,BDDG!$A$3:$J$102,4,FALSE))","v":106},{"$f":"IF(ISNA(VLOOKUP(C225,BDDG!$A$2:$F$100,5,FALSE)),\"\",VLOOKUP(C225,BDDG!$A$2:$F$100,5,FALSE))","v":"A3"},{"$f":"IF(ISNA(VLOOKUP(C225,BDDG!$A$2:$F$100,6,FALSE)),\"\",VLOOKUP(C225,BDDG!$A$2:$F$100,6,FALSE))","v":"AA7"},{"$f":"IF(ISERROR(VLOOKUP(C225,BDDG!$A$2:$G$100,7,FALSE)),\"\",VLOOKUP(C225,BDDG!$A$2:$G$100,7,FALSE))","v":1},{"$f":"IF(ISERROR(VLOOKUP(C225,BDDG!$A$2:$H$100,8,FALSE)),\"\",VLOOKUP(C225,BDDG!$A$2:$H$100,8,FALSE))","v":"BB7"},10,76,11.368421052631579,{"$f":"IF(ISERROR(VLOOKUP(C225,BDDG!$A$2:$I$100,9,FALSE)),\"\",VLOOKUP(C225,BDDG!$A$2:$I$100,9,FALSE))","v":"CC7"},null,null,"",{"$f":"IF(ISERROR(VLOOKUP(C225,BDDG!$A$2:$J$100,10,FALSE)),\"\",VLOOKUP(C225,BDDG!$A$2:$J$100,10,FALSE))","v":"DD7"},null,null,"",11.368421052631579,10,2006,{"$f":"IFERROR(INDEX($V$2:V225,MATCH(H225&MAX(IF($H$1:H224=H225,$A$1:A224)),$H$2:H225&$A$2:A225,0))-V225,\"\")","v":75.03157894736843}]
["2006-10-17",null,836,{"$f":"IF(ISNA(VLOOKUP(C226,BDDG!$A$2:$F$100,2,FALSE)),\"\",VLOOKUP(C226,BDDG!$A$2:$F$100,2,FALSE))","v":0},{"$f":"IF(ISNA(VLOOKUP(C226,BDDG!$A$3:$J$102,3,FALSE)),\"\",VLOOKUP(C226,BDDG!$A$3:$J$102,3,FALSE))","v":"A"},{"$f":"IF(ISNA(VLOOKUP(C226,BDDG!$A$3:$J$102,4,FALSE)),\"\",VLOOKUP(C226,BDDG!$A$3:$J$102,4,FALSE))","v":106},{"$f":"IF(ISNA(VLOOKUP(C226,BDDG!$A$2:$F$100,5,FALSE)),\"\",VLOOKUP(C226,BDDG!$A$2:$F$100,5,FALSE))","v":"A3"},{"$f":"IF(ISNA(VLOOKUP(C226,BDDG!$A$2:$F$100,6,FALSE)),\"\",VLOOKUP(C226,BDDG!$A$2:$F$100,6,FALSE))","v":"AA6"},{"$f":"IF(ISERROR(VLOOKUP(C226,BDDG!$A$2:$G$100,7,FALSE)),\"\",VLOOKUP(C226,BDDG!$A$2:$G$100,7,FALSE))","v":1},{"$f":"IF(ISERROR(VLOOKUP(C226,BDDG!$A$2:$H$100,8,FALSE)),\"\",VLOOKUP(C226,BDDG!$A$2:$H$100,8,FALSE))","v":"BB6"},10,60,14.4,{"$f":"IF(ISERROR(VLOOKUP(C226,BDDG!$A$2:$I$100,9,FALSE)),\"\",VLOOKUP(C226,BDDG!$A$2:$I$100,9,FALSE))","v":"CC6"},null,null,"",{"$f":"IF(ISERROR(VLOOKUP(C226,BDDG!$A$2:$J$100,10,FALSE)),\"\",VLOOKUP(C226,BDDG!$A$2:$J$100,10,FALSE))","v":"DD6"},null,null,"",14.4,10,2006,{"$f":"IFERROR(INDEX($V$2:V226,MATCH(H226&MAX(IF($H$1:H225=H226,$A$1:A225)),$H$2:H226&$A$2:A226,0))-V226,\"\")","v":47.314285714285724}]
["2006-10-17",null,856,{"$f":"IF(ISNA(VLOOKUP(C227,BDDG!$A$2:$F$100,2,FALSE)),\"\",VLOOKUP(C227,BDDG!$A$2:$F$100,2,FALSE))","v":0},{"$f":"IF(ISNA(VLOOKUP(C227,BDDG!$A$3:$J$102,3,FALSE)),\"\",VLOOKUP(C227,BDDG!$A$3:$J$102,3,FALSE))","v":"A"},{"$f":"IF(ISNA(VLOOKUP(C227,BDDG!$A$3:$J$102,4,FALSE)),\"\",VLOOKUP(C227,BDDG!$A$3:$J$102,4,FALSE))","v":106},{"$f":"IF(ISNA(VLOOKUP(C227,BDDG!$A$2:$F$100,5,FALSE)),\"\",VLOOKUP(C227,BDDG!$A$2:$F$100,5,FALSE))","v":"A9"},{"$f":"IF(ISNA(VLOOKUP(C227,BDDG!$A$2:$F$100,6,FALSE)),\"\",VLOOKUP(C227,BDDG!$A$2:$F$100,6,FALSE))","v":"AA27"},{"$f":"IF(ISERROR(VLOOKUP(C227,BDDG!$A$2:$G$100,7,FALSE)),\"\",VLOOKUP(C227,BDDG!$A$2:$G$100,7,FALSE))","v":2},{"$f":"IF(ISERROR(VLOOKUP(C227,BDDG!$A$2:$H$100,8,FALSE)),\"\",VLOOKUP(C227,BDDG!$A$2:$H$100,8,FALSE))","v":"BB27"},10,47,18.382978723404257,{"$f":"IF(ISERROR(VLOOKUP(C227,BDDG!$A$2:$I$100,9,FALSE)),\"\",VLOOKUP(C227,BDDG!$A$2:$I$100,9,FALSE))","v":"CC27"},10,8,108,{"$f":"IF(ISERROR(VLOOKUP(C227,BDDG!$A$2:$J$100,10,FALSE)),\"\",VLOOKUP(C227,BDDG!$A$2:$J$100,10,FALSE))","v":"DD27"},null,null,"",126.38297872340425,10,2006,{"$f":"IFERROR(INDEX($V$2:V227,MATCH(H227&MAX(IF($H$1:H226=H227,$A$1:A226)),$H$2:H227&$A$2:A227,0))-V227,\"\")","v":49.297021276595757}]
["2006-10-17",null,839,{"$f":"IF(ISNA(VLOOKUP(C228,BDDG!$A$2:$F$100,2,FALSE)),\"\",VLOOKUP(C228,BDDG!$A$2:$F$100,2,FALSE))","v":0},{"$f":"IF(ISNA(VLOOKUP(C228,BDDG!$A$3:$J$102,3,FALSE)),\"\",VLOOKUP(C228,BDDG!$A$3:$J$102,3,FALSE))","v":"A"},{"$f":"IF(ISNA(VLOOKUP(C228,BDDG!$A$3:$J$102,4,FALSE)),\"\",VLOOKUP(C228,BDDG!$A$3:$J$102,4,FALSE))","v":106},{"$f":"IF(ISNA(VLOOKUP(C228,BDDG!$A$2:$F$100,5,FALSE)),\"\",VLOOKUP(C228,BDDG!$A$2:$F$100,5,FALSE))","v":"A3"},{"$f":"IF(ISNA(VLOOKUP(C228,BDDG!$A$2:$F$100,6,FALSE)),\"\",VLOOKUP(C228,BDDG!$A$2:$F$100,6,FALSE))","v":"AA10"},{"$f":"IF(ISERROR(VLOOKUP(C228,BDDG!$A$2:$G$100,7,FALSE)),\"\",VLOOKUP(C228,BDDG!$A$2:$G$100,7,FALSE))","v":2},{"$f":"IF(ISERROR(VLOOKUP(C228,BDDG!$A$2:$H$100,8,FALSE)),\"\",VLOOKUP(C228,BDDG!$A$2:$H$100,8,FALSE))","v":"BB10"},null,null,25.77,{"$f":"IF(ISERROR(VLOOKUP(C228,BDDG!$A$2:$I$100,9,FALSE)),\"\",VLOOKUP(C228,BDDG!$A$2:$I$100,9,FALSE))","v":"CC10"},null,null,"",{"$f":"IF(ISERROR(VLOOKUP(C228,BDDG!$A$2:$J$100,10,FALSE)),\"\",VLOOKUP(C228,BDDG!$A$2:$J$100,10,FALSE))","v":"DD10"},null,null,"",25.77,10,2006,{"$f":"IFERROR(INDEX($V$2:V228,MATCH(H228&MAX(IF($H$1:H227=H228,$A$1:A227)),$H$2:H228&$A$2:A228,0))-V228,\"\")","v":122.34000000000002}]
["2006-11-13",null,832,{"$f":"IF(ISNA(VLOOKUP(C229,BDDG!$A$2:$F$100,2,FALSE)),\"\",VLOOKUP(C229,BDDG!$A$2:$F$100,2,FALSE))","v":0},{"$f":"IF(ISNA(VLOOKUP(C229,BDDG!$A$3:$J$102,3,FALSE)),\"\",VLOOKUP(C229,BDDG!$A$3:$J$102,3,FALSE))","v":"A"},{"$f":"IF(ISNA(VLOOKUP(C229,BDDG!$A$3:$J$102,4,FALSE)),\"\",VLOOKUP(C229,BDDG!$A$3:$J$102,4,FALSE))","v":106},{"$f":"IF(ISNA(VLOOKUP(C229,BDDG!$A$2:$F$100,5,FALSE)),\"\",VLOOKUP(C229,BDDG!$A$2:$F$100,5,FALSE))","v":"A2"},{"$f":"IF(ISNA(VLOOKUP(C229,BDDG!$A$2:$F$100,6,FALSE)),\"\",VLOOKUP(C229,BDDG!$A$2:$F$100,6,FALSE))","v":"AA2"},{"$f":"IF(ISERROR(VLOOKUP(C229,BDDG!$A$2:$G$100,7,FALSE)),\"\",VLOOKUP(C229,BDDG!$A$2:$G$100,7,FALSE))","v":1},{"$f":"IF(ISERROR(VLOOKUP(C229,BDDG!$A$2:$H$100,8,FALSE)),\"\",VLOOKUP(C229,BDDG!$A$2:$H$100,8,FALSE))","v":"BB2"},10,23,{"$f":" IF(ISERROR(K229/L229*86.4),\"\",K229/L229*86.4)","v":37.565217391304351},{"$f":"IF(ISERROR(VLOOKUP(C229,BDDG!$A$2:$I$100,9,FALSE)),\"\",VLOOKUP(C229,BDDG!$A$2:$I$100,9,FALSE))","v":"CC2"},null,null,{"$f":" IF(ISERROR(O229/P229*86.4),\"\",O229/P229*86.4)","v":""},{"$f":"IF(ISERROR(VLOOKUP(C229,BDDG!$A$2:$J$100,10,FALSE)),\"\",VLOOKUP(C229,BDDG!$A$2:$J$100,10,FALSE))","v":"DD2"},null,null,"",37.565217391304351,11,2006,{"$f":"IFERROR(INDEX($V$2:V229,MATCH(H229&MAX(IF($H$1:H228=H229,$A$1:A228)),$H$2:H229&$A$2:A229,0))-V229,\"\")","v":58.434782608695663}]
["2006-11-13",null,833,{"$f":"IF(ISNA(VLOOKUP(C230,BDDG!$A$2:$F$100,2,FALSE)),\"\",VLOOKUP(C230,BDDG!$A$2:$F$100,2,FALSE))","v":0},{"$f":"IF(ISNA(VLOOKUP(C230,BDDG!$A$3:$J$102,3,FALSE)),\"\",VLOOKUP(C230,BDDG!$A$3:$J$102,3,FALSE))","v":"A"},{"$f":"IF(ISNA(VLOOKUP(C230,BDDG!$A$3:$J$102,4,FALSE)),\"\",VLOOKUP(C230,BDDG!$A$3:$J$102,4,FALSE))","v":106},{"$f":"IF(ISNA(VLOOKUP(C230,BDDG!$A$2:$F$100,5,FALSE)),\"\",VLOOKUP(C230,BDDG!$A$2:$F$100,5,FALSE))","v":"A2"},{"$f":"IF(ISNA(VLOOKUP(C230,BDDG!$A$2:$F$100,6,FALSE)),\"\",VLOOKUP(C230,BDDG!$A$2:$F$100,6,FALSE))","v":"AA3"},{"$f":"IF(ISERROR(VLOOKUP(C230,BDDG!$A$2:$G$100,7,FALSE)),\"\",VLOOKUP(C230,BDDG!$A$2:$G$100,7,FALSE))","v":1},{"$f":"IF(ISERROR(VLOOKUP(C230,BDDG!$A$2:$H$100,8,FALSE)),\"\",VLOOKUP(C230,BDDG!$A$2:$H$100,8,FALSE))","v":"BB3"},10,50,17.28,{"$f":"IF(ISERROR(VLOOKUP(C230,BDDG!$A$2:$I$100,9,FALSE)),\"\",VLOOKUP(C230,BDDG!$A$2:$I$100,9,FALSE))","v":"CC3"},null,null,"",{"$f":"IF(ISERROR(VLOOKUP(C230,BDDG!$A$2:$J$100,10,FALSE)),\"\",VLOOKUP(C230,BDDG!$A$2:$J$100,10,FALSE))","v":"DD3"},null,null,"",17.28,11,2006,{"$f":"IFERROR(INDEX($V$2:V230,MATCH(H230&MAX(IF($H$1:H229=H230,$A$1:A229)),$H$2:H230&$A$2:A230,0))-V230,\"\")","v":78.720000000000013}]
["2006-11-13",null,834,{"$f":"IF(ISNA(VLOOKUP(C231,BDDG!$A$2:$F$100,2,FALSE)),\"\",VLOOKUP(C231,BDDG!$A$2:$F$100,2,FALSE))","v":0},{"$f":"IF(ISNA(VLOOKUP(C231,BDDG!$A$3:$J$102,3,FALSE)),\"\",VLOOKUP(C231,BDDG!$A$3:$J$102,3,FALSE))","v":"A"},{"$f":"IF(ISNA(VLOOKUP(C231,BDDG!$A$3:$J$102,4,FALSE)),\"\",VLOOKUP(C231,BDDG!$A$3:$J$102,4,FALSE))","v":106},{"$f":"IF(ISNA(VLOOKUP(C231,BDDG!$A$2:$F$100,5,FALSE)),\"\",VLOOKUP(C231,BDDG!$A$2:$F$100,5,FALSE))","v":"A2"},{"$f":"IF(ISNA(VLOOKUP(C231,BDDG!$A$2:$F$100,6,FALSE)),\"\",VLOOKUP(C231,BDDG!$A$2:$F$100,6,FALSE))","v":"AA4"},{"$f":"IF(ISERROR(VLOOKUP(C231,BDDG!$A$2:$G$100,7,FALSE)),\"\",VLOOKUP(C231,BDDG!$A$2:$G$100,7,FALSE))","v":1},{"$f":"IF(ISERROR(VLOOKUP(C231,BDDG!$A$2:$H$100,8,FALSE)),\"\",VLOOKUP(C231,BDDG!$A$2:$H$100,8,FALSE))","v":"BB4"},10,70,12.342857142857143,{"$f":"IF(ISERROR(VLOOKUP(C231,BDDG!$A$2:$I$100,9,FALSE)),\"\",VLOOKUP(C231,BDDG!$A$2:$I$100,9,FALSE))","v":"CC4"},null,null,"",{"$f":"IF(ISERROR(VLOOKUP(C231,BDDG!$A$2:$J$100,10,FALSE)),\"\",VLOOKUP(C231,BDDG!$A$2:$J$100,10,FALSE))","v":"DD4"},null,null,"",12.342857142857143,11,2006,{"$f":"IFERROR(INDEX($V$2:V231,MATCH(H231&MAX(IF($H$1:H230=H231,$A$1:A230)),$H$2:H231&$A$2:A231,0))-V231,\"\")","v":13.83896103896104}]
["2006-12-28",null,839,{"$f":"IF(ISNA(VLOOKUP(C232,BDDG!$A$2:$F$100,2,FALSE)),\"\",VLOOKUP(C232,BDDG!$A$2:$F$100,2,FALSE))","v":0},{"$f":"IF(ISNA(VLOOKUP(C232,BDDG!$A$3:$J$102,3,FALSE)),\"\",VLOOKUP(C232,BDDG!$A$3:$J$102,3,FALSE))","v":"A"},{"$f":"IF(ISNA(VLOOKUP(C232,BDDG!$A$3:$J$102,4,FALSE)),\"\",VLOOKUP(C232,BDDG!$A$3:$J$102,4,FALSE))","v":106},{"$f":"IF(ISNA(VLOOKUP(C232,BDDG!$A$2:$F$100,5,FALSE)),\"\",VLOOKUP(C232,BDDG!$A$2:$F$100,5,FALSE))","v":"A3"},{"$f":"IF(ISNA(VLOOKUP(C232,BDDG!$A$2:$F$100,6,FALSE)),\"\",VLOOKUP(C232,BDDG!$A$2:$F$100,6,FALSE))","v":"AA10"},{"$f":"IF(ISERROR(VLOOKUP(C232,BDDG!$A$2:$G$100,7,FALSE)),\"\",VLOOKUP(C232,BDDG!$A$2:$G$100,7,FALSE))","v":2},{"$f":"IF(ISERROR(VLOOKUP(C232,BDDG!$A$2:$H$100,8,FALSE)),\"\",VLOOKUP(C232,BDDG!$A$2:$H$100,8,FALSE))","v":"BB10"},10,40,21.6,{"$f":"IF(ISERROR(VLOOKUP(C232,BDDG!$A$2:$I$100,9,FALSE)),\"\",VLOOKUP(C232,BDDG!$A$2:$I$100,9,FALSE))","v":"CC10"},null,null,"",{"$f":"IF(ISERROR(VLOOKUP(C232,BDDG!$A$2:$J$100,10,FALSE)),\"\",VLOOKUP(C232,BDDG!$A$2:$J$100,10,FALSE))","v":"DD10"},null,null,"",21.6,12,2006,{"$f":"IFERROR(INDEX($V$2:V232,MATCH(H232&MAX(IF($H$1:H231=H232,$A$1:A231)),$H$2:H232&$A$2:A232,0))-V232,\"\")","v":4.1699999999999982}]
["2006-12-28",null,838,{"$f":"IF(ISNA(VLOOKUP(C233,BDDG!$A$2:$F$100,2,FALSE)),\"\",VLOOKUP(C233,BDDG!$A$2:$F$100,2,FALSE))","v":0},{"$f":"IF(ISNA(VLOOKUP(C233,BDDG!$A$3:$J$102,3,FALSE)),\"\",VLOOKUP(C233,BDDG!$A$3:$J$102,3,FALSE))","v":"A"},{"$f":"IF(ISNA(VLOOKUP(C233,BDDG!$A$3:$J$102,4,FALSE)),\"\",VLOOKUP(C233,BDDG!$A$3:$J$102,4,FALSE))","v":106},{"$f":"IF(ISNA(VLOOKUP(C233,BDDG!$A$2:$F$100,5,FALSE)),\"\",VLOOKUP(C233,BDDG!$A$2:$F$100,5,FALSE))","v":"A3"},{"$f":"IF(ISNA(VLOOKUP(C233,BDDG!$A$2:$F$100,6,FALSE)),\"\",VLOOKUP(C233,BDDG!$A$2:$F$100,6,FALSE))","v":"AA8"},{"$f":"IF(ISERROR(VLOOKUP(C233,BDDG!$A$2:$G$100,7,FALSE)),\"\",VLOOKUP(C233,BDDG!$A$2:$G$100,7,FALSE))","v":1},{"$f":"IF(ISERROR(VLOOKUP(C233,BDDG!$A$2:$H$100,8,FALSE)),\"\",VLOOKUP(C233,BDDG!$A$2:$H$100,8,FALSE))","v":"BB8"},4,60,5.7600000000000007,{"$f":"IF(ISERROR(VLOOKUP(C233,BDDG!$A$2:$I$100,9,FALSE)),\"\",VLOOKUP(C233,BDDG!$A$2:$I$100,9,FALSE))","v":"CC8"},null,null,"",{"$f":"IF(ISERROR(VLOOKUP(C233,BDDG!$A$2:$J$100,10,FALSE)),\"\",VLOOKUP(C233,BDDG!$A$2:$J$100,10,FALSE))","v":"DD8"},null,null,"",5.7600000000000007,12,2006,{"$f":"IFERROR(INDEX($V$2:V233,MATCH(H233&MAX(IF($H$1:H232=H233,$A$1:A232)),$H$2:H233&$A$2:A233,0))-V233,\"\")","v":0}]
["2007-05-23",null,842,{"$f":"IF(ISNA(VLOOKUP(C234,BDDG!$A$2:$F$100,2,FALSE)),\"\",VLOOKUP(C234,BDDG!$A$2:$F$100,2,FALSE))","v":0},{"$f":"IF(ISNA(VLOOKUP(C234,BDDG!$A$3:$J$102,3,FALSE)),\"\",VLOOKUP(C234,BDDG!$A$3:$J$102,3,FALSE))","v":"B"},{"$f":"IF(ISNA(VLOOKUP(C234,BDDG!$A$3:$J$102,4,FALSE)),\"\",VLOOKUP(C234,BDDG!$A$3:$J$102,4,FALSE))","v":106},{"$f":"IF(ISNA(VLOOKUP(C234,BDDG!$A$2:$F$100,5,FALSE)),\"\",VLOOKUP(C234,BDDG!$A$2:$F$100,5,FALSE))","v":"A5"},{"$f":"IF(ISNA(VLOOKUP(C234,BDDG!$A$2:$F$100,6,FALSE)),\"\",VLOOKUP(C234,BDDG!$A$2:$F$100,6,FALSE))","v":"AA13"},{"$f":"IF(ISERROR(VLOOKUP(C234,BDDG!$A$2:$G$100,7,FALSE)),\"\",VLOOKUP(C234,BDDG!$A$2:$G$100,7,FALSE))","v":1},{"$f":"IF(ISERROR(VLOOKUP(C234,BDDG!$A$2:$H$100,8,FALSE)),\"\",VLOOKUP(C234,BDDG!$A$2:$H$100,8,FALSE))","v":"BB13"},10,39,22.153846153846153,{"$f":"IF(ISERROR(VLOOKUP(C234,BDDG!$A$2:$I$100,9,FALSE)),\"\",VLOOKUP(C234,BDDG!$A$2:$I$100,9,FALSE))","v":"CC13"},null,null,"",{"$f":"IF(ISERROR(VLOOKUP(C234,BDDG!$A$2:$J$100,10,FALSE)),\"\",VLOOKUP(C234,BDDG!$A$2:$J$100,10,FALSE))","v":"DD13"},null,null,"",{"$f":"IF(ISERROR(SUM(M234,Q234,U234)),\"\",SUM(M234,Q234,U234))","v":22.153846153846153},5,2007,{"$f":"IFERROR(INDEX($V$2:V234,MATCH(H234&MAX(IF($H$1:H233=H234,$A$1:A233)),$H$2:H234&$A$2:A234,0))-V234,\"\")","v":2.5318681318681335}]
["2007-05-23",null,848,{"$f":"IF(ISNA(VLOOKUP(C235,BDDG!$A$2:$F$100,2,FALSE)),\"\",VLOOKUP(C235,BDDG!$A$2:$F$100,2,FALSE))","v":0},{"$f":"IF(ISNA(VLOOKUP(C235,BDDG!$A$3:$J$102,3,FALSE)),\"\",VLOOKUP(C235,BDDG!$A$3:$J$102,3,FALSE))","v":"B"},{"$f":"IF(ISNA(VLOOKUP(C235,BDDG!$A$3:$J$102,4,FALSE)),\"\",VLOOKUP(C235,BDDG!$A$3:$J$102,4,FALSE))","v":106},{"$f":"IF(ISNA(VLOOKUP(C235,BDDG!$A$2:$F$100,5,FALSE)),\"\",VLOOKUP(C235,BDDG!$A$2:$F$100,5,FALSE))","v":"A7"},{"$f":"IF(ISNA(VLOOKUP(C235,BDDG!$A$2:$F$100,6,FALSE)),\"\",VLOOKUP(C235,BDDG!$A$2:$F$100,6,FALSE))","v":"AA19"},{"$f":"IF(ISERROR(VLOOKUP(C235,BDDG!$A$2:$G$100,7,FALSE)),\"\",VLOOKUP(C235,BDDG!$A$2:$G$100,7,FALSE))","v":2},{"$f":"IF(ISERROR(VLOOKUP(C235,BDDG!$A$2:$H$100,8,FALSE)),\"\",VLOOKUP(C235,BDDG!$A$2:$H$100,8,FALSE))","v":"BB19"},10,40,21.6,{"$f":"IF(ISERROR(VLOOKUP(C235,BDDG!$A$2:$I$100,9,FALSE)),\"\",VLOOKUP(C235,BDDG!$A$2:$I$100,9,FALSE))","v":"CC19"},null,null,"",{"$f":"IF(ISERROR(VLOOKUP(C235,BDDG!$A$2:$J$100,10,FALSE)),\"\",VLOOKUP(C235,BDDG!$A$2:$J$100,10,FALSE))","v":"DD19"},null,null,"",21.6,5,2007,{"$f":"IFERROR(INDEX($V$2:V235,MATCH(H235&MAX(IF($H$1:H234=H235,$A$1:A234)),$H$2:H235&$A$2:A235,0))-V235,\"\")","v":28.800000000000004}]
["2007-05-23",null,844,{"$f":"IF(ISNA(VLOOKUP(C236,BDDG!$A$2:$F$100,2,FALSE)),\"\",VLOOKUP(C236,BDDG!$A$2:$F$100,2,FALSE))","v":0},{"$f":"IF(ISNA(VLOOKUP(C236,BDDG!$A$3:$J$102,3,FALSE)),\"\",VLOOKUP(C236,BDDG!$A$3:$J$102,3,FALSE))","v":"B"},{"$f":"IF(ISNA(VLOOKUP(C236,BDDG!$A$3:$J$102,4,FALSE)),\"\",VLOOKUP(C236,BDDG!$A$3:$J$102,4,FALSE))","v":106},{"$f":"IF(ISNA(VLOOKUP(C236,BDDG!$A$2:$F$100,5,FALSE)),\"\",VLOOKUP(C236,BDDG!$A$2:$F$100,5,FALSE))","v":"A6"},{"$f":"IF(ISNA(VLOOKUP(C236,BDDG!$A$2:$F$100,6,FALSE)),\"\",VLOOKUP(C236,BDDG!$A$2:$F$100,6,FALSE))","v":"AA14"},{"$f":"IF(ISERROR(VLOOKUP(C236,BDDG!$A$2:$G$100,7,FALSE)),\"\",VLOOKUP(C236,BDDG!$A$2:$G$100,7,FALSE))","v":2},{"$f":"IF(ISERROR(VLOOKUP(C236,BDDG!$A$2:$H$100,8,FALSE)),\"\",VLOOKUP(C236,BDDG!$A$2:$H$100,8,FALSE))","v":"BB14"},10,14,61.714285714285722,{"$f":"IF(ISERROR(VLOOKUP(C236,BDDG!$A$2:$I$100,9,FALSE)),\"\",VLOOKUP(C236,BDDG!$A$2:$I$100,9,FALSE))","v":"CC14"},null,null,"",{"$f":"IF(ISERROR(VLOOKUP(C236,BDDG!$A$2:$J$100,10,FALSE)),\"\",VLOOKUP(C236,BDDG!$A$2:$J$100,10,FALSE))","v":"DD14"},null,null,"",61.714285714285722,5,2007,{"$f":"IFERROR(INDEX($V$2:V236,MATCH(H236&MAX(IF($H$1:H235=H236,$A$1:A235)),$H$2:H236&$A$2:A236,0))-V236,\"\")","v":4.7472527472527446}]
["2007-05-23",null,849,{"$f":"IF(ISNA(VLOOKUP(C237,BDDG!$A$2:$F$100,2,FALSE)),\"\",VLOOKUP(C237,BDDG!$A$2:$F$100,2,FALSE))","v":0},{"$f":"IF(ISNA(VLOOKUP(C237,BDDG!$A$3:$J$102,3,FALSE)),\"\",VLOOKUP(C237,BDDG!$A$3:$J$102,3,FALSE))","v":"B"},{"$f":"IF(ISNA(VLOOKUP(C237,BDDG!$A$3:$J$102,4,FALSE)),\"\",VLOOKUP(C237,BDDG!$A$3:$J$102,4,FALSE))","v":106},{"$f":"IF(ISNA(VLOOKUP(C237,BDDG!$A$2:$F$100,5,FALSE)),\"\",VLOOKUP(C237,BDDG!$A$2:$F$100,5,FALSE))","v":"A7"},{"$f":"IF(ISNA(VLOOKUP(C237,BDDG!$A$2:$F$100,6,FALSE)),\"\",VLOOKUP(C237,BDDG!$A$2:$F$100,6,FALSE))","v":"AA15"},{"$f":"IF(ISERROR(VLOOKUP(C237,BDDG!$A$2:$G$100,7,FALSE)),\"\",VLOOKUP(C237,BDDG!$A$2:$G$100,7,FALSE))","v":2},{"$f":"IF(ISERROR(VLOOKUP(C237,BDDG!$A$2:$H$100,8,FALSE)),\"\",VLOOKUP(C237,BDDG!$A$2:$H$100,8,FALSE))","v":"BB15"},10,49,17.632653061224492,{"$f":"IF(ISERROR(VLOOKUP(C237,BDDG!$A$2:$I$100,9,FALSE)),\"\",VLOOKUP(C237,BDDG!$A$2:$I$100,9,FALSE))","v":"CC15"},null,null,"",{"$f":"IF(ISERROR(VLOOKUP(C237,BDDG!$A$2:$J$100,10,FALSE)),\"\",VLOOKUP(C237,BDDG!$A$2:$J$100,10,FALSE))","v":"DD15"},null,null,{"$f":" IF(ISERROR(S237/T237*86.4),\"\",S237/T237*86.4)","v":""},17.632653061224492,5,2007,{"$f":"IFERROR(INDEX($V$2:V237,MATCH(H237&MAX(IF($H$1:H236=H237,$A$1:A236)),$H$2:H237&$A$2:A237,0))-V237,\"\")","v":3.9673469387755098}]
["2007-05-29",null,832,{"$f":"IF(ISNA(VLOOKUP(C238,BDDG!$A$2:$F$100,2,FALSE)),\"\",VLOOKUP(C238,BDDG!$A$2:$F$100,2,FALSE))","v":0},{"$f":"IF(ISNA(VLOOKUP(C238,BDDG!$A$3:$J$102,3,FALSE)),\"\",VLOOKUP(C238,BDDG!$A$3:$J$102,3,FALSE))","v":"A"},{"$f":"IF(ISNA(VLOOKUP(C238,BDDG!$A$3:$J$102,4,FALSE)),\"\",VLOOKUP(C238,BDDG!$A$3:$J$102,4,FALSE))","v":106},{"$f":"IF(ISNA(VLOOKUP(C238,BDDG!$A$2:$F$100,5,FALSE)),\"\",VLOOKUP(C238,BDDG!$A$2:$F$100,5,FALSE))","v":"A2"},{"$f":"IF(ISNA(VLOOKUP(C238,BDDG!$A$2:$F$100,6,FALSE)),\"\",VLOOKUP(C238,BDDG!$A$2:$F$100,6,FALSE))","v":"AA2"},{"$f":"IF(ISERROR(VLOOKUP(C238,BDDG!$A$2:$G$100,7,FALSE)),\"\",VLOOKUP(C238,BDDG!$A$2:$G$100,7,FALSE))","v":1},{"$f":"IF(ISERROR(VLOOKUP(C238,BDDG!$A$2:$H$100,8,FALSE)),\"\",VLOOKUP(C238,BDDG!$A$2:$H$100,8,FALSE))","v":"BB2"},10,16,54,{"$f":"IF(ISERROR(VLOOKUP(C238,BDDG!$A$2:$I$100,9,FALSE)),\"\",VLOOKUP(C238,BDDG!$A$2:$I$100,9,FALSE))","v":"CC2"},null,null,"",{"$f":"IF(ISERROR(VLOOKUP(C238,BDDG!$A$2:$J$100,10,FALSE)),\"\",VLOOKUP(C238,BDDG!$A$2:$J$100,10,FALSE))","v":"DD2"},null,null,"",54,5,2007,{"$f":"IFERROR(INDEX($V$2:V238,MATCH(H238&MAX(IF($H$1:H237=H238,$A$1:A237)),$H$2:H238&$A$2:A238,0))-V238,\"\")","v":-16.434782608695649}]
["2007-05-29",null,833,{"$f":"IF(ISNA(VLOOKUP(C239,BDDG!$A$2:$F$100,2,FALSE)),\"\",VLOOKUP(C239,BDDG!$A$2:$F$100,2,FALSE))","v":0},{"$f":"IF(ISNA(VLOOKUP(C239,BDDG!$A$3:$J$102,3,FALSE)),\"\",VLOOKUP(C239,BDDG!$A$3:$J$102,3,FALSE))","v":"A"},{"$f":"IF(ISNA(VLOOKUP(C239,BDDG!$A$3:$J$102,4,FALSE)),\"\",VLOOKUP(C239,BDDG!$A$3:$J$102,4,FALSE))","v":106},{"$f":"IF(ISNA(VLOOKUP(C239,BDDG!$A$2:$F$100,5,FALSE)),\"\",VLOOKUP(C239,BDDG!$A$2:$F$100,5,FALSE))","v":"A2"},{"$f":"IF(ISNA(VLOOKUP(C239,BDDG!$A$2:$F$100,6,FALSE)),\"\",VLOOKUP(C239,BDDG!$A$2:$F$100,6,FALSE))","v":"AA3"},{"$f":"IF(ISERROR(VLOOKUP(C239,BDDG!$A$2:$G$100,7,FALSE)),\"\",VLOOKUP(C239,BDDG!$A$2:$G$100,7,FALSE))","v":1},{"$f":"IF(ISERROR(VLOOKUP(C239,BDDG!$A$2:$H$100,8,FALSE)),\"\",VLOOKUP(C239,BDDG!$A$2:$H$100,8,FALSE))","v":"BB3"},10,34,25.411764705882355,{"$f":"IF(ISERROR(VLOOKUP(C239,BDDG!$A$2:$I$100,9,FALSE)),\"\",VLOOKUP(C239,BDDG!$A$2:$I$100,9,FALSE))","v":"CC3"},null,null,"",{"$f":"IF(ISERROR(VLOOKUP(C239,BDDG!$A$2:$J$100,10,FALSE)),\"\",VLOOKUP(C239,BDDG!$A$2:$J$100,10,FALSE))","v":"DD3"},null,null,"",25.411764705882355,5,2007,{"$f":"IFERROR(INDEX($V$2:V239,MATCH(H239&MAX(IF($H$1:H238=H239,$A$1:A238)),$H$2:H239&$A$2:A239,0))-V239,\"\")","v":-8.1317647058823539}]
["2007-05-29",null,834,{"$f":"IF(ISNA(VLOOKUP(C240,BDDG!$A$2:$F$100,2,FALSE)),\"\",VLOOKUP(C240,BDDG!$A$2:$F$100,2,FALSE))","v":0},{"$f":"IF(ISNA(VLOOKUP(C240,BDDG!$A$3:$J$102,3,FALSE)),\"\",VLOOKUP(C240,BDDG!$A$3:$J$102,3,FALSE))","v":"A"},{"$f":"IF(ISNA(VLOOKUP(C240,BDDG!$A$3:$J$102,4,FALSE)),\"\",VLOOKUP(C240,BDDG!$A$3:$J$102,4,FALSE))","v":106},{"$f":"IF(ISNA(VLOOKUP(C240,BDDG!$A$2:$F$100,5,FALSE)),\"\",VLOOKUP(C240,BDDG!$A$2:$F$100,5,FALSE))","v":"A2"},{"$f":"IF(ISNA(VLOOKUP(C240,BDDG!$A$2:$F$100,6,FALSE)),\"\",VLOOKUP(C240,BDDG!$A$2:$F$100,6,FALSE))","v":"AA4"},{"$f":"IF(ISERROR(VLOOKUP(C240,BDDG!$A$2:$G$100,7,FALSE)),\"\",VLOOKUP(C240,BDDG!$A$2:$G$100,7,FALSE))","v":1},{"$f":"IF(ISERROR(VLOOKUP(C240,BDDG!$A$2:$H$100,8,FALSE)),\"\",VLOOKUP(C240,BDDG!$A$2:$H$100,8,FALSE))","v":"BB4"},10,54,16,{"$f":"IF(ISERROR(VLOOKUP(C240,BDDG!$A$2:$I$100,9,FALSE)),\"\",VLOOKUP(C240,BDDG!$A$2:$I$100,9,FALSE))","v":"CC4"},null,null,"",{"$f":"IF(ISERROR(VLOOKUP(C240,BDDG!$A$2:$J$100,10,FALSE)),\"\",VLOOKUP(C240,BDDG!$A$2:$J$100,10,FALSE))","v":"DD4"},null,null,"",16,5,2007,{"$f":"IFERROR(INDEX($V$2:V240,MATCH(H240&MAX(IF($H$1:H239=H240,$A$1:A239)),$H$2:H240&$A$2:A240,0))-V240,\"\")","v":-3.6571428571428566}]
["2007-05-29",null,850,{"$f":"IF(ISNA(VLOOKUP(C241,BDDG!$A$2:$F$100,2,FALSE)),\"\",VLOOKUP(C241,BDDG!$A$2:$F$100,2,FALSE))","v":0},{"$f":"IF(ISNA(VLOOKUP(C241,BDDG!$A$3:$J$102,3,FALSE)),\"\",VLOOKUP(C241,BDDG!$A$3:$J$102,3,FALSE))","v":"B"},{"$f":"IF(ISNA(VLOOKUP(C241,BDDG!$A$3:$J$102,4,FALSE)),\"\",VLOOKUP(C241,BDDG!$A$3:$J$102,4,FALSE))","v":106},{"$f":"IF(ISNA(VLOOKUP(C241,BDDG!$A$2:$F$100,5,FALSE)),\"\",VLOOKUP(C241,BDDG!$A$2:$F$100,5,FALSE))","v":"A8"},{"$f":"IF(ISNA(VLOOKUP(C241,BDDG!$A$2:$F$100,6,FALSE)),\"\",VLOOKUP(C241,BDDG!$A$2:$F$100,6,FALSE))","v":"AA20"},{"$f":"IF(ISERROR(VLOOKUP(C241,BDDG!$A$2:$G$100,7,FALSE)),\"\",VLOOKUP(C241,BDDG!$A$2:$G$100,7,FALSE))","v":1},{"$f":"IF(ISERROR(VLOOKUP(C241,BDDG!$A$2:$H$100,8,FALSE)),\"\",VLOOKUP(C241,BDDG!$A$2:$H$100,8,FALSE))","v":"BB20"},10,20,43.2,{"$f":"IF(ISERROR(VLOOKUP(C241,BDDG!$A$2:$I$100,9,FALSE)),\"\",VLOOKUP(C241,BDDG!$A$2:$I$100,9,FALSE))","v":"CC20"},null,null,{"$f":" IF(ISERROR(O241/P241*86.4),\"\",O241/P241*86.4)","v":""},{"$f":"IF(ISERROR(VLOOKUP(C241,BDDG!$A$2:$J$100,10,FALSE)),\"\",VLOOKUP(C241,BDDG!$A$2:$J$100,10,FALSE))","v":"DD20"},null,null,"",43.2,5,2007,{"$f":"IFERROR(INDEX($V$2:V241,MATCH(H241&MAX(IF($H$1:H240=H241,$A$1:A240)),$H$2:H241&$A$2:A241,0))-V241,\"\")","v":-18.514285714285716}]
["2007-05-31",null,839,{"$f":"IF(ISNA(VLOOKUP(C242,BDDG!$A$2:$F$100,2,FALSE)),\"\",VLOOKUP(C242,BDDG!$A$2:$F$100,2,FALSE))","v":0},{"$f":"IF(ISNA(VLOOKUP(C242,BDDG!$A$3:$J$102,3,FALSE)),\"\",VLOOKUP(C242,BDDG!$A$3:$J$102,3,FALSE))","v":"A"},{"$f":"IF(ISNA(VLOOKUP(C242,BDDG!$A$3:$J$102,4,FALSE)),\"\",VLOOKUP(C242,BDDG!$A$3:$J$102,4,FALSE))","v":106},{"$f":"IF(ISNA(VLOOKUP(C242,BDDG!$A$2:$F$100,5,FALSE)),\"\",VLOOKUP(C242,BDDG!$A$2:$F$100,5,FALSE))","v":"A3"},{"$f":"IF(ISNA(VLOOKUP(C242,BDDG!$A$2:$F$100,6,FALSE)),\"\",VLOOKUP(C242,BDDG!$A$2:$F$100,6,FALSE))","v":"AA10"},{"$f":"IF(ISERROR(VLOOKUP(C242,BDDG!$A$2:$G$100,7,FALSE)),\"\",VLOOKUP(C242,BDDG!$A$2:$G$100,7,FALSE))","v":2},{"$f":"IF(ISERROR(VLOOKUP(C242,BDDG!$A$2:$H$100,8,FALSE)),\"\",VLOOKUP(C242,BDDG!$A$2:$H$100,8,FALSE))","v":"BB10"},10,14,61.714285714285722,{"$f":"IF(ISERROR(VLOOKUP(C242,BDDG!$A$2:$I$100,9,FALSE)),\"\",VLOOKUP(C242,BDDG!$A$2:$I$100,9,FALSE))","v":"CC10"},null,null,"",{"$f":"IF(ISERROR(VLOOKUP(C242,BDDG!$A$2:$J$100,10,FALSE)),\"\",VLOOKUP(C242,BDDG!$A$2:$J$100,10,FALSE))","v":"DD10"},null,null,"",61.714285714285722,5,2007,{"$f":"IFERROR(INDEX($V$2:V242,MATCH(H242&MAX(IF($H$1:H241=H242,$A$1:A241)),$H$2:H242&$A$2:A242,0))-V242,\"\")","v":-40.114285714285721}]
["2007-05-31",null,838,{"$f":"IF(ISNA(VLOOKUP(C243,BDDG!$A$2:$F$100,2,FALSE)),\"\",VLOOKUP(C243,BDDG!$A$2:$F$100,2,FALSE))","v":0},{"$f":"IF(ISNA(VLOOKUP(C243,BDDG!$A$3:$J$102,3,FALSE)),\"\",VLOOKUP(C243,BDDG!$A$3:$J$102,3,FALSE))","v":"A"},{"$f":"IF(ISNA(VLOOKUP(C243,BDDG!$A$3:$J$102,4,FALSE)),\"\",VLOOKUP(C243,BDDG!$A$3:$J$102,4,FALSE))","v":106},{"$f":"IF(ISNA(VLOOKUP(C243,BDDG!$A$2:$F$100,5,FALSE)),\"\",VLOOKUP(C243,BDDG!$A$2:$F$100,5,FALSE))","v":"A3"},{"$f":"IF(ISNA(VLOOKUP(C243,BDDG!$A$2:$F$100,6,FALSE)),\"\",VLOOKUP(C243,BDDG!$A$2:$F$100,6,FALSE))","v":"AA8"},{"$f":"IF(ISERROR(VLOOKUP(C243,BDDG!$A$2:$G$100,7,FALSE)),\"\",VLOOKUP(C243,BDDG!$A$2:$G$100,7,FALSE))","v":1},{"$f":"IF(ISERROR(VLOOKUP(C243,BDDG!$A$2:$H$100,8,FALSE)),\"\",VLOOKUP(C243,BDDG!$A$2:$H$100,8,FALSE))","v":"BB8"},5,60,7.2,{"$f":"IF(ISERROR(VLOOKUP(C243,BDDG!$A$2:$I$100,9,FALSE)),\"\",VLOOKUP(C243,BDDG!$A$2:$I$100,9,FALSE))","v":"CC8"},null,null,"",{"$f":"IF(ISERROR(VLOOKUP(C243,BDDG!$A$2:$J$100,10,FALSE)),\"\",VLOOKUP(C243,BDDG!$A$2:$J$100,10,FALSE))","v":"DD8"},null,null,"",7.2,5,2007,{"$f":"IFERROR(INDEX($V$2:V243,MATCH(H243&MAX(IF($H$1:H242=H243,$A$1:A242)),$H$2:H243&$A$2:A243,0))-V243,\"\")","v":-1.4399999999999995}]
["2007-05-31",null,856,{"$f":"IF(ISNA(VLOOKUP(C244,BDDG!$A$2:$F$100,2,FALSE)),\"\",VLOOKUP(C244,BDDG!$A$2:$F$100,2,FALSE))","v":0},{"$f":"IF(ISNA(VLOOKUP(C244,BDDG!$A$3:$J$102,3,FALSE)),\"\",VLOOKUP(C244,BDDG!$A$3:$J$102,3,FALSE))","v":"A"},{"$f":"IF(ISNA(VLOOKUP(C244,BDDG!$A$3:$J$102,4,FALSE)),\"\",VLOOKUP(C244,BDDG!$A$3:$J$102,4,FALSE))","v":106},{"$f":"IF(ISNA(VLOOKUP(C244,BDDG!$A$2:$F$100,5,FALSE)),\"\",VLOOKUP(C244,BDDG!$A$2:$F$100,5,FALSE))","v":"A9"},{"$f":"IF(ISNA(VLOOKUP(C244,BDDG!$A$2:$F$100,6,FALSE)),\"\",VLOOKUP(C244,BDDG!$A$2:$F$100,6,FALSE))","v":"AA27"},{"$f":"IF(ISERROR(VLOOKUP(C244,BDDG!$A$2:$G$100,7,FALSE)),\"\",VLOOKUP(C244,BDDG!$A$2:$G$100,7,FALSE))","v":2},{"$f":"IF(ISERROR(VLOOKUP(C244,BDDG!$A$2:$H$100,8,FALSE)),\"\",VLOOKUP(C244,BDDG!$A$2:$H$100,8,FALSE))","v":"BB27"},10,36,24.000000000000004,{"$f":"IF(ISERROR(VLOOKUP(C244,BDDG!$A$2:$I$100,9,FALSE)),\"\",VLOOKUP(C244,BDDG!$A$2:$I$100,9,FALSE))","v":"CC27"},10,5,172.8,{"$f":"IF(ISERROR(VLOOKUP(C244,BDDG!$A$2:$J$100,10,FALSE)),\"\",VLOOKUP(C244,BDDG!$A$2:$J$100,10,FALSE))","v":"DD27"},null,null,"",196.8,5,2007,{"$f":"IFERROR(INDEX($V$2:V244,MATCH(H244&MAX(IF($H$1:H243=H244,$A$1:A243)),$H$2:H244&$A$2:A244,0))-V244,\"\")","v":-70.417021276595761}]
["2007-05-31",null,852,{"$f":"IF(ISNA(VLOOKUP(C245,BDDG!$A$2:$F$100,2,FALSE)),\"\",VLOOKUP(C245,BDDG!$A$2:$F$100,2,FALSE))","v":0},{"$f":"IF(ISNA(VLOOKUP(C245,BDDG!$A$3:$J$102,3,FALSE)),\"\",VLOOKUP(C245,BDDG!$A$3:$J$102,3,FALSE))","v":"A"},{"$f":"IF(ISNA(VLOOKUP(C245,BDDG!$A$3:$J$102,4,FALSE)),\"\",VLOOKUP(C245,BDDG!$A$3:$J$102,4,FALSE))","v":106},{"$f":"IF(ISNA(VLOOKUP(C245,BDDG!$A$2:$F$100,5,FALSE)),\"\",VLOOKUP(C245,BDDG!$A$2:$F$100,5,FALSE))","v":"A9"},{"$f":"IF(ISNA(VLOOKUP(C245,BDDG!$A$2:$F$100,6,FALSE)),\"\",VLOOKUP(C245,BDDG!$A$2:$F$100,6,FALSE))","v":"AA22"},{"$f":"IF(ISERROR(VLOOKUP(C245,BDDG!$A$2:$G$100,7,FALSE)),\"\",VLOOKUP(C245,BDDG!$A$2:$G$100,7,FALSE))","v":1},{"$f":"IF(ISERROR(VLOOKUP(C245,BDDG!$A$2:$H$100,8,FALSE)),\"\",VLOOKUP(C245,BDDG!$A$2:$H$100,8,FALSE))","v":"BB22"},9,60,12.96,{"$f":"IF(ISERROR(VLOOKUP(C245,BDDG!$A$2:$I$100,9,FALSE)),\"\",VLOOKUP(C245,BDDG!$A$2:$I$100,9,FALSE))","v":"CC22"},null,null,"",{"$f":"IF(ISERROR(VLOOKUP(C245,BDDG!$A$2:$J$100,10,FALSE)),\"\",VLOOKUP(C245,BDDG!$A$2:$J$100,10,FALSE))","v":"DD22"},null,null,"",12.96,5,2007,{"$f":"IFERROR(INDEX($V$2:V245,MATCH(H245&MAX(IF($H$1:H244=H245,$A$1:A244)),$H$2:H245&$A$2:A245,0))-V245,\"\")","v":-3.3600000000000012}]
["2007-06-04",null,831,{"$f":"IF(ISNA(VLOOKUP(C246,BDDG!$A$2:$F$100,2,FALSE)),\"\",VLOOKUP(C246,BDDG!$A$2:$F$100,2,FALSE))","v":0},{"$f":"IF(ISNA(VLOOKUP(C246,BDDG!$A$3:$J$102,3,FALSE)),\"\",VLOOKUP(C246,BDDG!$A$3:$J$102,3,FALSE))","v":"A"},{"$f":"IF(ISNA(VLOOKUP(C246,BDDG!$A$3:$J$102,4,FALSE)),\"\",VLOOKUP(C246,BDDG!$A$3:$J$102,4,FALSE))","v":106},{"$f":"IF(ISNA(VLOOKUP(C246,BDDG!$A$2:$F$100,5,FALSE)),\"\",VLOOKUP(C246,BDDG!$A$2:$F$100,5,FALSE))","v":"A1"},{"$f":"IF(ISNA(VLOOKUP(C246,BDDG!$A$2:$F$100,6,FALSE)),\"\",VLOOKUP(C246,BDDG!$A$2:$F$100,6,FALSE))","v":"AA1"},{"$f":"IF(ISERROR(VLOOKUP(C246,BDDG!$A$2:$G$100,7,FALSE)),\"\",VLOOKUP(C246,BDDG!$A$2:$G$100,7,FALSE))","v":1},{"$f":"IF(ISERROR(VLOOKUP(C246,BDDG!$A$2:$H$100,8,FALSE)),\"\",VLOOKUP(C246,BDDG!$A$2:$H$100,8,FALSE))","v":"BB1"},10,9,96.000000000000014,{"$f":"IF(ISERROR(VLOOKUP(C246,BDDG!$A$2:$I$100,9,FALSE)),\"\",VLOOKUP(C246,BDDG!$A$2:$I$100,9,FALSE))","v":"CC1"},null,null,"",{"$f":"IF(ISERROR(VLOOKUP(C246,BDDG!$A$2:$J$100,10,FALSE)),\"\",VLOOKUP(C246,BDDG!$A$2:$J$100,10,FALSE))","v":"DD1"},null,null,"",96.000000000000014,6,2007,{"$f":"IFERROR(INDEX($V$2:V246,MATCH(H246&MAX(IF($H$1:H245=H246,$A$1:A245)),$H$2:H246&$A$2:A246,0))-V246,\"\")","v":""}]
["2007-06-04",null,860,{"$f":"IF(ISNA(VLOOKUP(C247,BDDG!$A$2:$F$100,2,FALSE)),\"\",VLOOKUP(C247,BDDG!$A$2:$F$100,2,FALSE))","v":0},{"$f":"IF(ISNA(VLOOKUP(C247,BDDG!$A$3:$J$102,3,FALSE)),\"\",VLOOKUP(C247,BDDG!$A$3:$J$102,3,FALSE))","v":"A"},{"$f":"IF(ISNA(VLOOKUP(C247,BDDG!$A$3:$J$102,4,FALSE)),\"\",VLOOKUP(C247,BDDG!$A$3:$J$102,4,FALSE))","v":106},{"$f":"IF(ISNA(VLOOKUP(C247,BDDG!$A$2:$F$100,5,FALSE)),\"\",VLOOKUP(C247,BDDG!$A$2:$F$100,5,FALSE))","v":"A11"},{"$f":"IF(ISNA(VLOOKUP(C247,BDDG!$A$2:$F$100,6,FALSE)),\"\",VLOOKUP(C247,BDDG!$A$2:$F$100,6,FALSE))","v":"AA32"},{"$f":"IF(ISERROR(VLOOKUP(C247,BDDG!$A$2:$G$100,7,FALSE)),\"\",VLOOKUP(C247,BDDG!$A$2:$G$100,7,FALSE))","v":2},{"$f":"IF(ISERROR(VLOOKUP(C247,BDDG!$A$2:$H$100,8,FALSE)),\"\",VLOOKUP(C247,BDDG!$A$2:$H$100,8,FALSE))","v":"BB32"},10,5,172.8,{"$f":"IF(ISERROR(VLOOKUP(C247,BDDG!$A$2:$I$100,9,FALSE)),\"\",VLOOKUP(C247,BDDG!$A$2:$I$100,9,FALSE))","v":"CC32"},null,null,"",{"$f":"IF(ISERROR(VLOOKUP(C247,BDDG!$A$2:$J$100,10,FALSE)),\"\",VLOOKUP(C247,BDDG!$A$2:$J$100,10,FALSE))","v":"DD32"},null,null,"",172.8,6,2007,{"$f":"IFERROR(INDEX($V$2:V247,MATCH(H247&MAX(IF($H$1:H246=H247,$A$1:A246)),$H$2:H247&$A$2:A247,0))-V247,\"\")","v":-129.60000000000002}]
["2007-06-04",null,861,{"$f":"IF(ISNA(VLOOKUP(C248,BDDG!$A$2:$F$100,2,FALSE)),\"\",VLOOKUP(C248,BDDG!$A$2:$F$100,2,FALSE))","v":0},{"$f":"IF(ISNA(VLOOKUP(C248,BDDG!$A$3:$J$102,3,FALSE)),\"\",VLOOKUP(C248,BDDG!$A$3:$J$102,3,FALSE))","v":"A"},{"$f":"IF(ISNA(VLOOKUP(C248,BDDG!$A$3:$J$102,4,FALSE)),\"\",VLOOKUP(C248,BDDG!$A$3:$J$102,4,FALSE))","v":106},{"$f":"IF(ISNA(VLOOKUP(C248,BDDG!$A$2:$F$100,5,FALSE)),\"\",VLOOKUP(C248,BDDG!$A$2:$F$100,5,FALSE))","v":"A11"},{"$f":"IF(ISNA(VLOOKUP(C248,BDDG!$A$2:$F$100,6,FALSE)),\"\",VLOOKUP(C248,BDDG!$A$2:$F$100,6,FALSE))","v":"AA33"},{"$f":"IF(ISERROR(VLOOKUP(C248,BDDG!$A$2:$G$100,7,FALSE)),\"\",VLOOKUP(C248,BDDG!$A$2:$G$100,7,FALSE))","v":2},{"$f":"IF(ISERROR(VLOOKUP(C248,BDDG!$A$2:$H$100,8,FALSE)),\"\",VLOOKUP(C248,BDDG!$A$2:$H$100,8,FALSE))","v":"BB33"},null,null,null,{"$f":"IF(ISERROR(VLOOKUP(C248,BDDG!$A$2:$I$100,9,FALSE)),\"\",VLOOKUP(C248,BDDG!$A$2:$I$100,9,FALSE))","v":"CC33"},10,5,172.8,{"$f":"IF(ISERROR(VLOOKUP(C248,BDDG!$A$2:$J$100,10,FALSE)),\"\",VLOOKUP(C248,BDDG!$A$2:$J$100,10,FALSE))","v":"DD33"},null,null,"",{"$f":"IF(ISERROR(SUM(M248,Q248,U248)),\"\",SUM((M248,Q248,U248)))","v":172.8},6,2007,{"$f":"IFERROR(INDEX($V$2:V248,MATCH(H248&MAX(IF($H$1:H247=H248,$A$1:A247)),$H$2:H248&$A$2:A248,0))-V248,\"\")","v":-28.799999999999983}]
["2007-06-04",null,835,{"$f":"IF(ISNA(VLOOKUP(C249,BDDG!$A$2:$F$100,2,FALSE)),\"\",VLOOKUP(C249,BDDG!$A$2:$F$100,2,FALSE))","v":0},{"$f":"IF(ISNA(VLOOKUP(C249,BDDG!$A$3:$J$102,3,FALSE)),\"\",VLOOKUP(C249,BDDG!$A$3:$J$102,3,FALSE))","v":"A"},{"$f":"IF(ISNA(VLOOKUP(C249,BDDG!$A$3:$J$102,4,FALSE)),\"\",VLOOKUP(C249,BDDG!$A$3:$J$102,4,FALSE))","v":106},{"$f":"IF(ISNA(VLOOKUP(C249,BDDG!$A$2:$F$100,5,FALSE)),\"\",VLOOKUP(C249,BDDG!$A$2:$F$100,5,FALSE))","v":"A3"},{"$f":"IF(ISNA(VLOOKUP(C249,BDDG!$A$2:$F$100,6,FALSE)),\"\",VLOOKUP(C249,BDDG!$A$2:$F$100,6,FALSE))","v":"AA5"},{"$f":"IF(ISERROR(VLOOKUP(C249,BDDG!$A$2:$G$100,7,FALSE)),\"\",VLOOKUP(C249,BDDG!$A$2:$G$100,7,FALSE))","v":1},{"$f":"IF(ISERROR(VLOOKUP(C249,BDDG!$A$2:$H$100,8,FALSE)),\"\",VLOOKUP(C249,BDDG!$A$2:$H$100,8,FALSE))","v":"BB5"},10,120,{"$f":" IF(ISERROR(K249/L249*86.4),\"\",K249/L249*86.4)","v":7.2},{"$f":"IF(ISERROR(VLOOKUP(C249,BDDG!$A$2:$I$100,9,FALSE)),\"\",VLOOKUP(C249,BDDG!$A$2:$I$100,9,FALSE))","v":"CC5"},null,null,"",{"$f":"IF(ISERROR(VLOOKUP(C249,BDDG!$A$2:$J$100,10,FALSE)),\"\",VLOOKUP(C249,BDDG!$A$2:$J$100,10,FALSE))","v":"DD5"},null,null,"",{"$f":"IF(ISERROR(SUM(M249,Q249,U249)),\"\",SUM(M249,Q249,U249))","v":7.2},6,2007,{"$f":"IFERROR(INDEX($V$2:V249,MATCH(H249&MAX(IF($H$1:H248=H249,$A$1:A248)),$H$2:H249&$A$2:A249,0))-V249,\"\")","v":-1.0285714285714285}]
["2007-06-04",null,815,{"$f":"IF(ISNA(VLOOKUP(C250,BDDG!$A$2:$F$100,2,FALSE)),\"\",VLOOKUP(C250,BDDG!$A$2:$F$100,2,FALSE))","v":0},{"$f":"IF(ISNA(VLOOKUP(C250,BDDG!$A$3:$J$102,3,FALSE)),\"\",VLOOKUP(C250,BDDG!$A$3:$J$102,3,FALSE))","v":"A"},{"$f":"IF(ISNA(VLOOKUP(C250,BDDG!$A$3:$J$102,4,FALSE)),\"\",VLOOKUP(C250,BDDG!$A$3:$J$102,4,FALSE))","v":106},{"$f":"IF(ISNA(VLOOKUP(C250,BDDG!$A$2:$F$100,5,FALSE)),\"\",VLOOKUP(C250,BDDG!$A$2:$F$100,5,FALSE))","v":"A10"},{"$f":"IF(ISNA(VLOOKUP(C250,BDDG!$A$2:$F$100,6,FALSE)),\"\",VLOOKUP(C250,BDDG!$A$2:$F$100,6,FALSE))","v":"AA31"},{"$f":"IF(ISERROR(VLOOKUP(C250,BDDG!$A$2:$G$100,7,FALSE)),\"\",VLOOKUP(C250,BDDG!$A$2:$G$100,7,FALSE))","v":1},{"$f":"IF(ISERROR(VLOOKUP(C250,BDDG!$A$2:$H$100,8,FALSE)),\"\",VLOOKUP(C250,BDDG!$A$2:$H$100,8,FALSE))","v":"BB31"},6,60,8.64,{"$f":"IF(ISERROR(VLOOKUP(C250,BDDG!$A$2:$I$100,9,FALSE)),\"\",VLOOKUP(C250,BDDG!$A$2:$I$100,9,FALSE))","v":"CC31"},null,null,"",{"$f":"IF(ISERROR(VLOOKUP(C250,BDDG!$A$2:$J$100,10,FALSE)),\"\",VLOOKUP(C250,BDDG!$A$2:$J$100,10,FALSE))","v":"DD31"},null,null,"",8.64,6,2007,{"$f":"IFERROR(INDEX($V$2:V250,MATCH(H250&MAX(IF($H$1:H249=H250,$A$1:A249)),$H$2:H250&$A$2:A250,0))-V250,\"\")","v":-3.7494339622641508}]
["2007-07-13",null,842,{"$f":"IF(ISNA(VLOOKUP(C251,BDDG!$A$2:$F$100,2,FALSE)),\"\",VLOOKUP(C251,BDDG!$A$2:$F$100,2,FALSE))","v":0},{"$f":"IF(ISNA(VLOOKUP(C251,BDDG!$A$3:$J$102,3,FALSE)),\"\",VLOOKUP(C251,BDDG!$A$3:$J$102,3,FALSE))","v":"B"},{"$f":"IF(ISNA(VLOOKUP(C251,BDDG!$A$3:$J$102,4,FALSE)),\"\",VLOOKUP(C251,BDDG!$A$3:$J$102,4,FALSE))","v":106},{"$f":"IF(ISNA(VLOOKUP(C251,BDDG!$A$2:$F$100,5,FALSE)),\"\",VLOOKUP(C251,BDDG!$A$2:$F$100,5,FALSE))","v":"A5"},{"$f":"IF(ISNA(VLOOKUP(C251,BDDG!$A$2:$F$100,6,FALSE)),\"\",VLOOKUP(C251,BDDG!$A$2:$F$100,6,FALSE))","v":"AA13"},{"$f":"IF(ISERROR(VLOOKUP(C251,BDDG!$A$2:$G$100,7,FALSE)),\"\",VLOOKUP(C251,BDDG!$A$2:$G$100,7,FALSE))","v":1},{"$f":"IF(ISERROR(VLOOKUP(C251,BDDG!$A$2:$H$100,8,FALSE)),\"\",VLOOKUP(C251,BDDG!$A$2:$H$100,8,FALSE))","v":"BB13"},15,13,99.692307692307693,{"$f":"IF(ISERROR(VLOOKUP(C251,BDDG!$A$2:$I$100,9,FALSE)),\"\",VLOOKUP(C251,BDDG!$A$2:$I$100,9,FALSE))","v":"CC13"},null,null,"",{"$f":"IF(ISERROR(VLOOKUP(C251,BDDG!$A$2:$J$100,10,FALSE)),\"\",VLOOKUP(C251,BDDG!$A$2:$J$100,10,FALSE))","v":"DD13"},null,null,"",99.692307692307693,7,2007,{"$f":"IFERROR(INDEX($V$2:V251,MATCH(H251&MAX(IF($H$1:H250=H251,$A$1:A250)),$H$2:H251&$A$2:A251,0))-V251,\"\")","v":-77.538461538461547}]
["2007-07-13",null,848,{"$f":"IF(ISNA(VLOOKUP(C252,BDDG!$A$2:$F$100,2,FALSE)),\"\",VLOOKUP(C252,BDDG!$A$2:$F$100,2,FALSE))","v":0},{"$f":"IF(ISNA(VLOOKUP(C252,BDDG!$A$3:$J$102,3,FALSE)),\"\",VLOOKUP(C252,BDDG!$A$3:$J$102,3,FALSE))","v":"B"},{"$f":"IF(ISNA(VLOOKUP(C252,BDDG!$A$3:$J$102,4,FALSE)),\"\",VLOOKUP(C252,BDDG!$A$3:$J$102,4,FALSE))","v":106},{"$f":"IF(ISNA(VLOOKUP(C252,BDDG!$A$2:$F$100,5,FALSE)),\"\",VLOOKUP(C252,BDDG!$A$2:$F$100,5,FALSE))","v":"A7"},{"$f":"IF(ISNA(VLOOKUP(C252,BDDG!$A$2:$F$100,6,FALSE)),\"\",VLOOKUP(C252,BDDG!$A$2:$F$100,6,FALSE))","v":"AA19"},{"$f":"IF(ISERROR(VLOOKUP(C252,BDDG!$A$2:$G$100,7,FALSE)),\"\",VLOOKUP(C252,BDDG!$A$2:$G$100,7,FALSE))","v":2},{"$f":"IF(ISERROR(VLOOKUP(C252,BDDG!$A$2:$H$100,8,FALSE)),\"\",VLOOKUP(C252,BDDG!$A$2:$H$100,8,FALSE))","v":"BB19"},10,31,27.870967741935484,{"$f":"IF(ISERROR(VLOOKUP(C252,BDDG!$A$2:$I$100,9,FALSE)),\"\",VLOOKUP(C252,BDDG!$A$2:$I$100,9,FALSE))","v":"CC19"},null,null,"",{"$f":"IF(ISERROR(VLOOKUP(C252,BDDG!$A$2:$J$100,10,FALSE)),\"\",VLOOKUP(C252,BDDG!$A$2:$J$100,10,FALSE))","v":"DD19"},null,null,"",27.870967741935484,7,2007,{"$f":"IFERROR(INDEX($V$2:V252,MATCH(H252&MAX(IF($H$1:H251=H252,$A$1:A251)),$H$2:H252&$A$2:A252,0))-V252,\"\")","v":-6.2709677419354826}]
["2007-07-26",null,856,{"$f":"IF(ISNA(VLOOKUP(C253,BDDG!$A$2:$F$100,2,FALSE)),\"\",VLOOKUP(C253,BDDG!$A$2:$F$100,2,FALSE))","v":0},{"$f":"IF(ISNA(VLOOKUP(C253,BDDG!$A$3:$J$102,3,FALSE)),\"\",VLOOKUP(C253,BDDG!$A$3:$J$102,3,FALSE))","v":"A"},{"$f":"IF(ISNA(VLOOKUP(C253,BDDG!$A$3:$J$102,4,FALSE)),\"\",VLOOKUP(C253,BDDG!$A$3:$J$102,4,FALSE))","v":106},{"$f":"IF(ISNA(VLOOKUP(C253,BDDG!$A$2:$F$100,5,FALSE)),\"\",VLOOKUP(C253,BDDG!$A$2:$F$100,5,FALSE))","v":"A9"},{"$f":"IF(ISNA(VLOOKUP(C253,BDDG!$A$2:$F$100,6,FALSE)),\"\",VLOOKUP(C253,BDDG!$A$2:$F$100,6,FALSE))","v":"AA27"},{"$f":"IF(ISERROR(VLOOKUP(C253,BDDG!$A$2:$G$100,7,FALSE)),\"\",VLOOKUP(C253,BDDG!$A$2:$G$100,7,FALSE))","v":2},{"$f":"IF(ISERROR(VLOOKUP(C253,BDDG!$A$2:$H$100,8,FALSE)),\"\",VLOOKUP(C253,BDDG!$A$2:$H$100,8,FALSE))","v":"BB27"},10,30,28.8,{"$f":"IF(ISERROR(VLOOKUP(C253,BDDG!$A$2:$I$100,9,FALSE)),\"\",VLOOKUP(C253,BDDG!$A$2:$I$100,9,FALSE))","v":"CC27"},10,3,288.00000000000006,{"$f":"IF(ISERROR(VLOOKUP(C253,BDDG!$A$2:$J$100,10,FALSE)),\"\",VLOOKUP(C253,BDDG!$A$2:$J$100,10,FALSE))","v":"DD27"},null,null,"",316.80000000000007,7,2007,{"$f":"IFERROR(INDEX($V$2:V253,MATCH(H253&MAX(IF($H$1:H252=H253,$A$1:A252)),$H$2:H253&$A$2:A253,0))-V253,\"\")","v":-120.00000000000006}]
["2007-09-24",null,842,{"$f":"IF(ISNA(VLOOKUP(C254,BDDG!$A$2:$F$100,2,FALSE)),\"\",VLOOKUP(C254,BDDG!$A$2:$F$100,2,FALSE))","v":0},{"$f":"IF(ISNA(VLOOKUP(C254,BDDG!$A$3:$J$102,3,FALSE)),\"\",VLOOKUP(C254,BDDG!$A$3:$J$102,3,FALSE))","v":"B"},{"$f":"IF(ISNA(VLOOKUP(C254,BDDG!$A$3:$J$102,4,FALSE)),\"\",VLOOKUP(C254,BDDG!$A$3:$J$102,4,FALSE))","v":106},{"$f":"IF(ISNA(VLOOKUP(C254,BDDG!$A$2:$F$100,5,FALSE)),\"\",VLOOKUP(C254,BDDG!$A$2:$F$100,5,FALSE))","v":"A5"},{"$f":"IF(ISNA(VLOOKUP(C254,BDDG!$A$2:$F$100,6,FALSE)),\"\",VLOOKUP(C254,BDDG!$A$2:$F$100,6,FALSE))","v":"AA13"},{"$f":"IF(ISERROR(VLOOKUP(C254,BDDG!$A$2:$G$100,7,FALSE)),\"\",VLOOKUP(C254,BDDG!$A$2:$G$100,7,FALSE))","v":1},{"$f":"IF(ISERROR(VLOOKUP(C254,BDDG!$A$2:$H$100,8,FALSE)),\"\",VLOOKUP(C254,BDDG!$A$2:$H$100,8,FALSE))","v":"BB13"},10,24,36.000000000000007,{"$f":"IF(ISERROR(VLOOKUP(C254,BDDG!$A$2:$I$100,9,FALSE)),\"\",VLOOKUP(C254,BDDG!$A$2:$I$100,9,FALSE))","v":"CC13"},null,null,"",{"$f":"IF(ISERROR(VLOOKUP(C254,BDDG!$A$2:$J$100,10,FALSE)),\"\",VLOOKUP(C254,BDDG!$A$2:$J$100,10,FALSE))","v":"DD13"},null,null,"",36.000000000000007,9,2007,{"$f":"IFERROR(INDEX($V$2:V254,MATCH(H254&MAX(IF($H$1:H253=H254,$A$1:A253)),$H$2:H254&$A$2:A254,0))-V254,\"\")","v":63.692307692307686}]
["2007-09-24",null,848,{"$f":"IF(ISNA(VLOOKUP(C255,BDDG!$A$2:$F$100,2,FALSE)),\"\",VLOOKUP(C255,BDDG!$A$2:$F$100,2,FALSE))","v":0},{"$f":"IF(ISNA(VLOOKUP(C255,BDDG!$A$3:$J$102,3,FALSE)),\"\",VLOOKUP(C255,BDDG!$A$3:$J$102,3,FALSE))","v":"B"},{"$f":"IF(ISNA(VLOOKUP(C255,BDDG!$A$3:$J$102,4,FALSE)),\"\",VLOOKUP(C255,BDDG!$A$3:$J$102,4,FALSE))","v":106},{"$f":"IF(ISNA(VLOOKUP(C255,BDDG!$A$2:$F$100,5,FALSE)),\"\",VLOOKUP(C255,BDDG!$A$2:$F$100,5,FALSE))","v":"A7"},{"$f":"IF(ISNA(VLOOKUP(C255,BDDG!$A$2:$F$100,6,FALSE)),\"\",VLOOKUP(C255,BDDG!$A$2:$F$100,6,FALSE))","v":"AA19"},{"$f":"IF(ISERROR(VLOOKUP(C255,BDDG!$A$2:$G$100,7,FALSE)),\"\",VLOOKUP(C255,BDDG!$A$2:$G$100,7,FALSE))","v":2},{"$f":"IF(ISERROR(VLOOKUP(C255,BDDG!$A$2:$H$100,8,FALSE)),\"\",VLOOKUP(C255,BDDG!$A$2:$H$100,8,FALSE))","v":"BB19"},10,31,27.870967741935484,{"$f":"IF(ISERROR(VLOOKUP(C255,BDDG!$A$2:$I$100,9,FALSE)),\"\",VLOOKUP(C255,BDDG!$A$2:$I$100,9,FALSE))","v":"CC19"},null,null,{"$f":" IF(ISERROR(O255/P255*86.4),\"\",O255/P255*86.4)","v":""},{"$f":"IF(ISERROR(VLOOKUP(C255,BDDG!$A$2:$J$100,10,FALSE)),\"\",VLOOKUP(C255,BDDG!$A$2:$J$100,10,FALSE))","v":"DD19"},null,null,"",27.870967741935484,9,2007,{"$f":"IFERROR(INDEX($V$2:V255,MATCH(H255&MAX(IF($H$1:H254=H255,$A$1:A254)),$H$2:H255&$A$2:A255,0))-V255,\"\")","v":0}]
["2007-09-24",null,844,{"$f":"IF(ISNA(VLOOKUP(C256,BDDG!$A$2:$F$100,2,FALSE)),\"\",VLOOKUP(C256,BDDG!$A$2:$F$100,2,FALSE))","v":0},{"$f":"IF(ISNA(VLOOKUP(C256,BDDG!$A$3:$J$102,3,FALSE)),\"\",VLOOKUP(C256,BDDG!$A$3:$J$102,3,FALSE))","v":"B"},{"$f":"IF(ISNA(VLOOKUP(C256,BDDG!$A$3:$J$102,4,FALSE)),\"\",VLOOKUP(C256,BDDG!$A$3:$J$102,4,FALSE))","v":106},{"$f":"IF(ISNA(VLOOKUP(C256,BDDG!$A$2:$F$100,5,FALSE)),\"\",VLOOKUP(C256,BDDG!$A$2:$F$100,5,FALSE))","v":"A6"},{"$f":"IF(ISNA(VLOOKUP(C256,BDDG!$A$2:$F$100,6,FALSE)),\"\",VLOOKUP(C256,BDDG!$A$2:$F$100,6,FALSE))","v":"AA14"},{"$f":"IF(ISERROR(VLOOKUP(C256,BDDG!$A$2:$G$100,7,FALSE)),\"\",VLOOKUP(C256,BDDG!$A$2:$G$100,7,FALSE))","v":2},{"$f":"IF(ISERROR(VLOOKUP(C256,BDDG!$A$2:$H$100,8,FALSE)),\"\",VLOOKUP(C256,BDDG!$A$2:$H$100,8,FALSE))","v":"BB14"},10,17,50.82352941176471,{"$f":"IF(ISERROR(VLOOKUP(C256,BDDG!$A$2:$I$100,9,FALSE)),\"\",VLOOKUP(C256,BDDG!$A$2:$I$100,9,FALSE))","v":"CC14"},null,null,"",{"$f":"IF(ISERROR(VLOOKUP(C256,BDDG!$A$2:$J$100,10,FALSE)),\"\",VLOOKUP(C256,BDDG!$A$2:$J$100,10,FALSE))","v":"DD14"},null,null,"",50.82352941176471,9,2007,{"$f":"IFERROR(INDEX($V$2:V256,MATCH(H256&MAX(IF($H$1:H255=H256,$A$1:A255)),$H$2:H256&$A$2:A256,0))-V256,\"\")","v":10.890756302521012}]
["2007-09-24",null,849,{"$f":"IF(ISNA(VLOOKUP(C257,BDDG!$A$2:$F$100,2,FALSE)),\"\",VLOOKUP(C257,BDDG!$A$2:$F$100,2,FALSE))","v":0},{"$f":"IF(ISNA(VLOOKUP(C257,BDDG!$A$3:$J$102,3,FALSE)),\"\",VLOOKUP(C257,BDDG!$A$3:$J$102,3,FALSE))","v":"B"},{"$f":"IF(ISNA(VLOOKUP(C257,BDDG!$A$3:$J$102,4,FALSE)),\"\",VLOOKUP(C257,BDDG!$A$3:$J$102,4,FALSE))","v":106},{"$f":"IF(ISNA(VLOOKUP(C257,BDDG!$A$2:$F$100,5,FALSE)),\"\",VLOOKUP(C257,BDDG!$A$2:$F$100,5,FALSE))","v":"A7"},{"$f":"IF(ISNA(VLOOKUP(C257,BDDG!$A$2:$F$100,6,FALSE)),\"\",VLOOKUP(C257,BDDG!$A$2:$F$100,6,FALSE))","v":"AA15"},{"$f":"IF(ISERROR(VLOOKUP(C257,BDDG!$A$2:$G$100,7,FALSE)),\"\",VLOOKUP(C257,BDDG!$A$2:$G$100,7,FALSE))","v":2},{"$f":"IF(ISERROR(VLOOKUP(C257,BDDG!$A$2:$H$100,8,FALSE)),\"\",VLOOKUP(C257,BDDG!$A$2:$H$100,8,FALSE))","v":"BB15"},10,37,23.351351351351354,{"$f":"IF(ISERROR(VLOOKUP(C257,BDDG!$A$2:$I$100,9,FALSE)),\"\",VLOOKUP(C257,BDDG!$A$2:$I$100,9,FALSE))","v":"CC15"},10,50,17.28,{"$f":"IF(ISERROR(VLOOKUP(C257,BDDG!$A$2:$J$100,10,FALSE)),\"\",VLOOKUP(C257,BDDG!$A$2:$J$100,10,FALSE))","v":"DD15"},null,null,"",40.631351351351356,9,2007,{"$f":"IFERROR(INDEX($V$2:V257,MATCH(H257&MAX(IF($H$1:H256=H257,$A$1:A256)),$H$2:H257&$A$2:A257,0))-V257,\"\")","v":-22.998698290126864}]
["2007-10-03",null,815,{"$f":"IF(ISNA(VLOOKUP(C258,BDDG!$A$2:$F$100,2,FALSE)),\"\",VLOOKUP(C258,BDDG!$A$2:$F$100,2,FALSE))","v":0},{"$f":"IF(ISNA(VLOOKUP(C258,BDDG!$A$3:$J$102,3,FALSE)),\"\",VLOOKUP(C258,BDDG!$A$3:$J$102,3,FALSE))","v":"A"},{"$f":"IF(ISNA(VLOOKUP(C258,BDDG!$A$3:$J$102,4,FALSE)),\"\",VLOOKUP(C258,BDDG!$A$3:$J$102,4,FALSE))","v":106},{"$f":"IF(ISNA(VLOOKUP(C258,BDDG!$A$2:$F$100,5,FALSE)),\"\",VLOOKUP(C258,BDDG!$A$2:$F$100,5,FALSE))","v":"A10"},{"$f":"IF(ISNA(VLOOKUP(C258,BDDG!$A$2:$F$100,6,FALSE)),\"\",VLOOKUP(C258,BDDG!$A$2:$F$100,6,FALSE))","v":"AA31"},{"$f":"IF(ISERROR(VLOOKUP(C258,BDDG!$A$2:$G$100,7,FALSE)),\"\",VLOOKUP(C258,BDDG!$A$2:$G$100,7,FALSE))","v":1},{"$f":"IF(ISERROR(VLOOKUP(C258,BDDG!$A$2:$H$100,8,FALSE)),\"\",VLOOKUP(C258,BDDG!$A$2:$H$100,8,FALSE))","v":"BB31"},15,275,4.7127272727272729,{"$f":"IF(ISERROR(VLOOKUP(C258,BDDG!$A$2:$I$100,9,FALSE)),\"\",VLOOKUP(C258,BDDG!$A$2:$I$100,9,FALSE))","v":"CC31"},null,null,"",{"$f":"IF(ISERROR(VLOOKUP(C258,BDDG!$A$2:$J$100,10,FALSE)),\"\",VLOOKUP(C258,BDDG!$A$2:$J$100,10,FALSE))","v":"DD31"},null,null,"",4.7127272727272729,{"$f":"MONTH(A:A)","v":10},{"$f":"YEAR(A:A)","v":2007},{"$f":"IFERROR(INDEX($V$2:V258,MATCH(H258&MAX(IF($H$1:H257=H258,$A$1:A257)),$H$2:H258&$A$2:A258,0))-V258,\"\")","v":3.9272727272727277}]
["2007-10-09",null,822,{"$f":"IF(ISNA(VLOOKUP(C259,BDDG!$A$2:$F$100,2,FALSE)),\"\",VLOOKUP(C259,BDDG!$A$2:$F$100,2,FALSE))","v":0},{"$f":"IF(ISNA(VLOOKUP(C259,BDDG!$A$3:$J$102,3,FALSE)),\"\",VLOOKUP(C259,BDDG!$A$3:$J$102,3,FALSE))","v":"A"},{"$f":"IF(ISNA(VLOOKUP(C259,BDDG!$A$3:$J$102,4,FALSE)),\"\",VLOOKUP(C259,BDDG!$A$3:$J$102,4,FALSE))","v":106},{"$f":"IF(ISNA(VLOOKUP(C259,BDDG!$A$2:$F$100,5,FALSE)),\"\",VLOOKUP(C259,BDDG!$A$2:$F$100,5,FALSE))","v":"A4"},{"$f":"IF(ISNA(VLOOKUP(C259,BDDG!$A$2:$F$100,6,FALSE)),\"\",VLOOKUP(C259,BDDG!$A$2:$F$100,6,FALSE))","v":"AA12"},{"$f":"IF(ISERROR(VLOOKUP(C259,BDDG!$A$2:$G$100,7,FALSE)),\"\",VLOOKUP(C259,BDDG!$A$2:$G$100,7,FALSE))","v":1},{"$f":"IF(ISERROR(VLOOKUP(C259,BDDG!$A$2:$H$100,8,FALSE)),\"\",VLOOKUP(C259,BDDG!$A$2:$H$100,8,FALSE))","v":"BB12"},10,28,30.857142857142861,{"$f":"IF(ISERROR(VLOOKUP(C259,BDDG!$A$2:$I$100,9,FALSE)),\"\",VLOOKUP(C259,BDDG!$A$2:$I$100,9,FALSE))","v":"CC12"},null,null,"",{"$f":"IF(ISERROR(VLOOKUP(C259,BDDG!$A$2:$J$100,10,FALSE)),\"\",VLOOKUP(C259,BDDG!$A$2:$J$100,10,FALSE))","v":"DD12"},null,null,"",30.857142857142861,10,2007,{"$f":"IFERROR(INDEX($V$2:V259,MATCH(H259&MAX(IF($H$1:H258=H259,$A$1:A258)),$H$2:H259&$A$2:A259,0))-V259,\"\")","v":47.688311688311686}]
["2007-11-26",null,835,{"$f":"IF(ISNA(VLOOKUP(C260,BDDG!$A$2:$F$100,2,FALSE)),\"\",VLOOKUP(C260,BDDG!$A$2:$F$100,2,FALSE))","v":0},{"$f":"IF(ISNA(VLOOKUP(C260,BDDG!$A$3:$J$102,3,FALSE)),\"\",VLOOKUP(C260,BDDG!$A$3:$J$102,3,FALSE))","v":"A"},{"$f":"IF(ISNA(VLOOKUP(C260,BDDG!$A$3:$J$102,4,FALSE)),\"\",VLOOKUP(C260,BDDG!$A$3:$J$102,4,FALSE))","v":106},{"$f":"IF(ISNA(VLOOKUP(C260,BDDG!$A$2:$F$100,5,FALSE)),\"\",VLOOKUP(C260,BDDG!$A$2:$F$100,5,FALSE))","v":"A3"},{"$f":"IF(ISNA(VLOOKUP(C260,BDDG!$A$2:$F$100,6,FALSE)),\"\",VLOOKUP(C260,BDDG!$A$2:$F$100,6,FALSE))","v":"AA5"},{"$f":"IF(ISERROR(VLOOKUP(C260,BDDG!$A$2:$G$100,7,FALSE)),\"\",VLOOKUP(C260,BDDG!$A$2:$G$100,7,FALSE))","v":1},{"$f":"IF(ISERROR(VLOOKUP(C260,BDDG!$A$2:$H$100,8,FALSE)),\"\",VLOOKUP(C260,BDDG!$A$2:$H$100,8,FALSE))","v":"BB5"},10,53,16.301886792452834,{"$f":"IF(ISERROR(VLOOKUP(C260,BDDG!$A$2:$I$100,9,FALSE)),\"\",VLOOKUP(C260,BDDG!$A$2:$I$100,9,FALSE))","v":"CC5"},null,null,"",{"$f":"IF(ISERROR(VLOOKUP(C260,BDDG!$A$2:$J$100,10,FALSE)),\"\",VLOOKUP(C260,BDDG!$A$2:$J$100,10,FALSE))","v":"DD5"},null,null,"",16.301886792452834,11,2007,{"$f":"IFERROR(INDEX($V$2:V260,MATCH(H260&MAX(IF($H$1:H259=H260,$A$1:A259)),$H$2:H260&$A$2:A260,0))-V260,\"\")","v":-9.1018867924528344}]
["2007-12-13",null,842,{"$f":"IF(ISNA(VLOOKUP(C261,BDDG!$A$2:$F$100,2,FALSE)),\"\",VLOOKUP(C261,BDDG!$A$2:$F$100,2,FALSE))","v":0},{"$f":"IF(ISNA(VLOOKUP(C261,BDDG!$A$3:$J$102,3,FALSE)),\"\",VLOOKUP(C261,BDDG!$A$3:$J$102,3,FALSE))","v":"B"},{"$f":"IF(ISNA(VLOOKUP(C261,BDDG!$A$3:$J$102,4,FALSE)),\"\",VLOOKUP(C261,BDDG!$A$3:$J$102,4,FALSE))","v":106},{"$f":"IF(ISNA(VLOOKUP(C261,BDDG!$A$2:$F$100,5,FALSE)),\"\",VLOOKUP(C261,BDDG!$A$2:$F$100,5,FALSE))","v":"A5"},{"$f":"IF(ISNA(VLOOKUP(C261,BDDG!$A$2:$F$100,6,FALSE)),\"\",VLOOKUP(C261,BDDG!$A$2:$F$100,6,FALSE))","v":"AA13"},{"$f":"IF(ISERROR(VLOOKUP(C261,BDDG!$A$2:$G$100,7,FALSE)),\"\",VLOOKUP(C261,BDDG!$A$2:$G$100,7,FALSE))","v":1},{"$f":"IF(ISERROR(VLOOKUP(C261,BDDG!$A$2:$H$100,8,FALSE)),\"\",VLOOKUP(C261,BDDG!$A$2:$H$100,8,FALSE))","v":"BB13"},10,19,45.473684210526315,{"$f":"IF(ISERROR(VLOOKUP(C261,BDDG!$A$2:$I$100,9,FALSE)),\"\",VLOOKUP(C261,BDDG!$A$2:$I$100,9,FALSE))","v":"CC13"},null,null,"",{"$f":"IF(ISERROR(VLOOKUP(C261,BDDG!$A$2:$J$100,10,FALSE)),\"\",VLOOKUP(C261,BDDG!$A$2:$J$100,10,FALSE))","v":"DD13"},null,null,"",45.473684210526315,12,2007,{"$f":"IFERROR(INDEX($V$2:V261,MATCH(H261&MAX(IF($H$1:H260=H261,$A$1:A260)),$H$2:H261&$A$2:A261,0))-V261,\"\")","v":-9.4736842105263079}]
["2007-12-13",null,848,{"$f":"IF(ISNA(VLOOKUP(C262,BDDG!$A$2:$F$100,2,FALSE)),\"\",VLOOKUP(C262,BDDG!$A$2:$F$100,2,FALSE))","v":0},{"$f":"IF(ISNA(VLOOKUP(C262,BDDG!$A$3:$J$102,3,FALSE)),\"\",VLOOKUP(C262,BDDG!$A$3:$J$102,3,FALSE))","v":"B"},{"$f":"IF(ISNA(VLOOKUP(C262,BDDG!$A$3:$J$102,4,FALSE)),\"\",VLOOKUP(C262,BDDG!$A$3:$J$102,4,FALSE))","v":106},{"$f":"IF(ISNA(VLOOKUP(C262,BDDG!$A$2:$F$100,5,FALSE)),\"\",VLOOKUP(C262,BDDG!$A$2:$F$100,5,FALSE))","v":"A7"},{"$f":"IF(ISNA(VLOOKUP(C262,BDDG!$A$2:$F$100,6,FALSE)),\"\",VLOOKUP(C262,BDDG!$A$2:$F$100,6,FALSE))","v":"AA19"},{"$f":"IF(ISERROR(VLOOKUP(C262,BDDG!$A$2:$G$100,7,FALSE)),\"\",VLOOKUP(C262,BDDG!$A$2:$G$100,7,FALSE))","v":2},{"$f":"IF(ISERROR(VLOOKUP(C262,BDDG!$A$2:$H$100,8,FALSE)),\"\",VLOOKUP(C262,BDDG!$A$2:$H$100,8,FALSE))","v":"BB19"},10,10,86.4,{"$f":"IF(ISERROR(VLOOKUP(C262,BDDG!$A$2:$I$100,9,FALSE)),\"\",VLOOKUP(C262,BDDG!$A$2:$I$100,9,FALSE))","v":"CC19"},null,null,"",{"$f":"IF(ISERROR(VLOOKUP(C262,BDDG!$A$2:$J$100,10,FALSE)),\"\",VLOOKUP(C262,BDDG!$A$2:$J$100,10,FALSE))","v":"DD19"},null,null,"",86.4,12,2007,{"$f":"IFERROR(INDEX($V$2:V262,MATCH(H262&MAX(IF($H$1:H261=H262,$A$1:A261)),$H$2:H262&$A$2:A262,0))-V262,\"\")","v":-58.529032258064518}]
["2007-12-13",null,847,{"$f":"IF(ISNA(VLOOKUP(C263,BDDG!$A$2:$F$100,2,FALSE)),\"\",VLOOKUP(C263,BDDG!$A$2:$F$100,2,FALSE))","v":0},{"$f":"IF(ISNA(VLOOKUP(C263,BDDG!$A$3:$J$102,3,FALSE)),\"\",VLOOKUP(C263,BDDG!$A$3:$J$102,3,FALSE))","v":"B"},{"$f":"IF(ISNA(VLOOKUP(C263,BDDG!$A$3:$J$102,4,FALSE)),\"\",VLOOKUP(C263,BDDG!$A$3:$J$102,4,FALSE))","v":106},{"$f":"IF(ISNA(VLOOKUP(C263,BDDG!$A$2:$F$100,5,FALSE)),\"\",VLOOKUP(C263,BDDG!$A$2:$F$100,5,FALSE))","v":"A7"},{"$f":"IF(ISNA(VLOOKUP(C263,BDDG!$A$2:$F$100,6,FALSE)),\"\",VLOOKUP(C263,BDDG!$A$2:$F$100,6,FALSE))","v":"AA18"},{"$f":"IF(ISERROR(VLOOKUP(C263,BDDG!$A$2:$G$100,7,FALSE)),\"\",VLOOKUP(C263,BDDG!$A$2:$G$100,7,FALSE))","v":2},{"$f":"IF(ISERROR(VLOOKUP(C263,BDDG!$A$2:$H$100,8,FALSE)),\"\",VLOOKUP(C263,BDDG!$A$2:$H$100,8,FALSE))","v":"BB18"},10,10,86.4,{"$f":"IF(ISERROR(VLOOKUP(C263,BDDG!$A$2:$I$100,9,FALSE)),\"\",VLOOKUP(C263,BDDG!$A$2:$I$100,9,FALSE))","v":"CC18"},17,60,24.48,{"$f":"IF(ISERROR(VLOOKUP(C263,BDDG!$A$2:$J$100,10,FALSE)),\"\",VLOOKUP(C263,BDDG!$A$2:$J$100,10,FALSE))","v":"DD18"},null,null,"",110.88000000000001,12,2007,{"$f":"IFERROR(INDEX($V$2:V263,MATCH(H263&MAX(IF($H$1:H262=H263,$A$1:A262)),$H$2:H263&$A$2:A263,0))-V263,\"\")","v":-70.56}]
["2007-12-13",null,849,{"$f":"IF(ISNA(VLOOKUP(C264,BDDG!$A$2:$F$100,2,FALSE)),\"\",VLOOKUP(C264,BDDG!$A$2:$F$100,2,FALSE))","v":0},{"$f":"IF(ISNA(VLOOKUP(C264,BDDG!$A$3:$J$102,3,FALSE)),\"\",VLOOKUP(C264,BDDG!$A$3:$J$102,3,FALSE))","v":"B"},{"$f":"IF(ISNA(VLOOKUP(C264,BDDG!$A$3:$J$102,4,FALSE)),\"\",VLOOKUP(C264,BDDG!$A$3:$J$102,4,FALSE))","v":106},{"$f":"IF(ISNA(VLOOKUP(C264,BDDG!$A$2:$F$100,5,FALSE)),\"\",VLOOKUP(C264,BDDG!$A$2:$F$100,5,FALSE))","v":"A7"},{"$f":"IF(ISNA(VLOOKUP(C264,BDDG!$A$2:$F$100,6,FALSE)),\"\",VLOOKUP(C264,BDDG!$A$2:$F$100,6,FALSE))","v":"AA15"},{"$f":"IF(ISERROR(VLOOKUP(C264,BDDG!$A$2:$G$100,7,FALSE)),\"\",VLOOKUP(C264,BDDG!$A$2:$G$100,7,FALSE))","v":2},{"$f":"IF(ISERROR(VLOOKUP(C264,BDDG!$A$2:$H$100,8,FALSE)),\"\",VLOOKUP(C264,BDDG!$A$2:$H$100,8,FALSE))","v":"BB15"},10,55,{"$f":" IF(ISERROR(K264/L264*86.4),\"\",K264/L264*86.4)","v":15.709090909090911},{"$f":"IF(ISERROR(VLOOKUP(C264,BDDG!$A$2:$I$100,9,FALSE)),\"\",VLOOKUP(C264,BDDG!$A$2:$I$100,9,FALSE))","v":"CC15"},10,30,28.8,{"$f":"IF(ISERROR(VLOOKUP(C264,BDDG!$A$2:$J$100,10,FALSE)),\"\",VLOOKUP(C264,BDDG!$A$2:$J$100,10,FALSE))","v":"DD15"},null,null,"",{"$f":"IF(ISERROR(SUM(M264,Q264,U264)),\"\",SUM(M264,Q264,U264))","v":44.509090909090915},12,2007,{"$f":"IFERROR(INDEX($V$2:V264,MATCH(H264&MAX(IF($H$1:H263=H264,$A$1:A263)),$H$2:H264&$A$2:A264,0))-V264,\"\")","v":-3.8777395577395595}]
["2007-12-14",null,831,{"$f":"IF(ISNA(VLOOKUP(C265,BDDG!$A$2:$F$100,2,FALSE)),\"\",VLOOKUP(C265,BDDG!$A$2:$F$100,2,FALSE))","v":0},{"$f":"IF(ISNA(VLOOKUP(C265,BDDG!$A$3:$J$102,3,FALSE)),\"\",VLOOKUP(C265,BDDG!$A$3:$J$102,3,FALSE))","v":"A"},{"$f":"IF(ISNA(VLOOKUP(C265,BDDG!$A$3:$J$102,4,FALSE)),\"\",VLOOKUP(C265,BDDG!$A$3:$J$102,4,FALSE))","v":106},{"$f":"IF(ISNA(VLOOKUP(C265,BDDG!$A$2:$F$100,5,FALSE)),\"\",VLOOKUP(C265,BDDG!$A$2:$F$100,5,FALSE))","v":"A1"},{"$f":"IF(ISNA(VLOOKUP(C265,BDDG!$A$2:$F$100,6,FALSE)),\"\",VLOOKUP(C265,BDDG!$A$2:$F$100,6,FALSE))","v":"AA1"},{"$f":"IF(ISERROR(VLOOKUP(C265,BDDG!$A$2:$G$100,7,FALSE)),\"\",VLOOKUP(C265,BDDG!$A$2:$G$100,7,FALSE))","v":1},{"$f":"IF(ISERROR(VLOOKUP(C265,BDDG!$A$2:$H$100,8,FALSE)),\"\",VLOOKUP(C265,BDDG!$A$2:$H$100,8,FALSE))","v":"BB1"},10,7.15,120.83916083916084,{"$f":"IF(ISERROR(VLOOKUP(C265,BDDG!$A$2:$I$100,9,FALSE)),\"\",VLOOKUP(C265,BDDG!$A$2:$I$100,9,FALSE))","v":"CC1"},null,null,"",{"$f":"IF(ISERROR(VLOOKUP(C265,BDDG!$A$2:$J$100,10,FALSE)),\"\",VLOOKUP(C265,BDDG!$A$2:$J$100,10,FALSE))","v":"DD1"},null,null,"",120.83916083916084,12,2007,{"$f":"IFERROR(INDEX($V$2:V265,MATCH(H265&MAX(IF($H$1:H264=H265,$A$1:A264)),$H$2:H265&$A$2:A265,0))-V265,\"\")","v":-24.839160839160826}]
["2008-01-21",null,839,{"$f":"IF(ISNA(VLOOKUP(C266,BDDG!$A$2:$F$100,2,FALSE)),\"\",VLOOKUP(C266,BDDG!$A$2:$F$100,2,FALSE))","v":0},{"$f":"IF(ISNA(VLOOKUP(C266,BDDG!$A$3:$J$102,3,FALSE)),\"\",VLOOKUP(C266,BDDG!$A$3:$J$102,3,FALSE))","v":"A"},{"$f":"IF(ISNA(VLOOKUP(C266,BDDG!$A$3:$J$102,4,FALSE)),\"\",VLOOKUP(C266,BDDG!$A$3:$J$102,4,FALSE))","v":106},{"$f":"IF(ISNA(VLOOKUP(C266,BDDG!$A$2:$F$100,5,FALSE)),\"\",VLOOKUP(C266,BDDG!$A$2:$F$100,5,FALSE))","v":"A3"},{"$f":"IF(ISNA(VLOOKUP(C266,BDDG!$A$2:$F$100,6,FALSE)),\"\",VLOOKUP(C266,BDDG!$A$2:$F$100,6,FALSE))","v":"AA10"},{"$f":"IF(ISERROR(VLOOKUP(C266,BDDG!$A$2:$G$100,7,FALSE)),\"\",VLOOKUP(C266,BDDG!$A$2:$G$100,7,FALSE))","v":2},{"$f":"IF(ISERROR(VLOOKUP(C266,BDDG!$A$2:$H$100,8,FALSE)),\"\",VLOOKUP(C266,BDDG!$A$2:$H$100,8,FALSE))","v":"BB10"},10,7.5,115.2,{"$f":"IF(ISERROR(VLOOKUP(C266,BDDG!$A$2:$I$100,9,FALSE)),\"\",VLOOKUP(C266,BDDG!$A$2:$I$100,9,FALSE))","v":"CC10"},null,null,"",{"$f":"IF(ISERROR(VLOOKUP(C266,BDDG!$A$2:$J$100,10,FALSE)),\"\",VLOOKUP(C266,BDDG!$A$2:$J$100,10,FALSE))","v":"DD10"},null,null,"",115.2,1,2008,{"$f":"IFERROR(INDEX($V$2:V266,MATCH(H266&MAX(IF($H$1:H265=H266,$A$1:A265)),$H$2:H266&$A$2:A266,0))-V266,\"\")","v":-53.48571428571428}]
["2008-01-21",null,838,{"$f":"IF(ISNA(VLOOKUP(C267,BDDG!$A$2:$F$100,2,FALSE)),\"\",VLOOKUP(C267,BDDG!$A$2:$F$100,2,FALSE))","v":0},{"$f":"IF(ISNA(VLOOKUP(C267,BDDG!$A$3:$J$102,3,FALSE)),\"\",VLOOKUP(C267,BDDG!$A$3:$J$102,3,FALSE))","v":"A"},{"$f":"IF(ISNA(VLOOKUP(C267,BDDG!$A$3:$J$102,4,FALSE)),\"\",VLOOKUP(C267,BDDG!$A$3:$J$102,4,FALSE))","v":106},{"$f":"IF(ISNA(VLOOKUP(C267,BDDG!$A$2:$F$100,5,FALSE)),\"\",VLOOKUP(C267,BDDG!$A$2:$F$100,5,FALSE))","v":"A3"},{"$f":"IF(ISNA(VLOOKUP(C267,BDDG!$A$2:$F$100,6,FALSE)),\"\",VLOOKUP(C267,BDDG!$A$2:$F$100,6,FALSE))","v":"AA8"},{"$f":"IF(ISERROR(VLOOKUP(C267,BDDG!$A$2:$G$100,7,FALSE)),\"\",VLOOKUP(C267,BDDG!$A$2:$G$100,7,FALSE))","v":1},{"$f":"IF(ISERROR(VLOOKUP(C267,BDDG!$A$2:$H$100,8,FALSE)),\"\",VLOOKUP(C267,BDDG!$A$2:$H$100,8,FALSE))","v":"BB8"},10,58,14.896551724137932,{"$f":"IF(ISERROR(VLOOKUP(C267,BDDG!$A$2:$I$100,9,FALSE)),\"\",VLOOKUP(C267,BDDG!$A$2:$I$100,9,FALSE))","v":"CC8"},null,null,"",{"$f":"IF(ISERROR(VLOOKUP(C267,BDDG!$A$2:$J$100,10,FALSE)),\"\",VLOOKUP(C267,BDDG!$A$2:$J$100,10,FALSE))","v":"DD8"},null,null,"",14.896551724137932,1,2008,{"$f":"IFERROR(INDEX($V$2:V267,MATCH(H267&MAX(IF($H$1:H266=H267,$A$1:A266)),$H$2:H267&$A$2:A267,0))-V267,\"\")","v":-7.6965517241379322}]
["2008-01-21",null,836,{"$f":"IF(ISNA(VLOOKUP(C268,BDDG!$A$2:$F$100,2,FALSE)),\"\",VLOOKUP(C268,BDDG!$A$2:$F$100,2,FALSE))","v":0},{"$f":"IF(ISNA(VLOOKUP(C268,BDDG!$A$3:$J$102,3,FALSE)),\"\",VLOOKUP(C268,BDDG!$A$3:$J$102,3,FALSE))","v":"A"},{"$f":"IF(ISNA(VLOOKUP(C268,BDDG!$A$3:$J$102,4,FALSE)),\"\",VLOOKUP(C268,BDDG!$A$3:$J$102,4,FALSE))","v":106},{"$f":"IF(ISNA(VLOOKUP(C268,BDDG!$A$2:$F$100,5,FALSE)),\"\",VLOOKUP(C268,BDDG!$A$2:$F$100,5,FALSE))","v":"A3"},{"$f":"IF(ISNA(VLOOKUP(C268,BDDG!$A$2:$F$100,6,FALSE)),\"\",VLOOKUP(C268,BDDG!$A$2:$F$100,6,FALSE))","v":"AA6"},{"$f":"IF(ISERROR(VLOOKUP(C268,BDDG!$A$2:$G$100,7,FALSE)),\"\",VLOOKUP(C268,BDDG!$A$2:$G$100,7,FALSE))","v":1},{"$f":"IF(ISERROR(VLOOKUP(C268,BDDG!$A$2:$H$100,8,FALSE)),\"\",VLOOKUP(C268,BDDG!$A$2:$H$100,8,FALSE))","v":"BB6"},10,12,72.000000000000014,{"$f":"IF(ISERROR(VLOOKUP(C268,BDDG!$A$2:$I$100,9,FALSE)),\"\",VLOOKUP(C268,BDDG!$A$2:$I$100,9,FALSE))","v":"CC6"},null,null,"",{"$f":"IF(ISERROR(VLOOKUP(C268,BDDG!$A$2:$J$100,10,FALSE)),\"\",VLOOKUP(C268,BDDG!$A$2:$J$100,10,FALSE))","v":"DD6"},null,null,"",72.000000000000014,1,2008,{"$f":"IFERROR(INDEX($V$2:V268,MATCH(H268&MAX(IF($H$1:H267=H268,$A$1:A267)),$H$2:H268&$A$2:A268,0))-V268,\"\")","v":-57.600000000000016}]
["2008-01-23",null,832,{"$f":"IF(ISNA(VLOOKUP(C269,BDDG!$A$2:$F$100,2,FALSE)),\"\",VLOOKUP(C269,BDDG!$A$2:$F$100,2,FALSE))","v":0},{"$f":"IF(ISNA(VLOOKUP(C269,BDDG!$A$3:$J$102,3,FALSE)),\"\",VLOOKUP(C269,BDDG!$A$3:$J$102,3,FALSE))","v":"A"},{"$f":"IF(ISNA(VLOOKUP(C269,BDDG!$A$3:$J$102,4,FALSE)),\"\",VLOOKUP(C269,BDDG!$A$3:$J$102,4,FALSE))","v":106},{"$f":"IF(ISNA(VLOOKUP(C269,BDDG!$A$2:$F$100,5,FALSE)),\"\",VLOOKUP(C269,BDDG!$A$2:$F$100,5,FALSE))","v":"A2"},{"$f":"IF(ISNA(VLOOKUP(C269,BDDG!$A$2:$F$100,6,FALSE)),\"\",VLOOKUP(C269,BDDG!$A$2:$F$100,6,FALSE))","v":"AA2"},{"$f":"IF(ISERROR(VLOOKUP(C269,BDDG!$A$2:$G$100,7,FALSE)),\"\",VLOOKUP(C269,BDDG!$A$2:$G$100,7,FALSE))","v":1},{"$f":"IF(ISERROR(VLOOKUP(C269,BDDG!$A$2:$H$100,8,FALSE)),\"\",VLOOKUP(C269,BDDG!$A$2:$H$100,8,FALSE))","v":"BB2"},10,9,96.000000000000014,{"$f":"IF(ISERROR(VLOOKUP(C269,BDDG!$A$2:$I$100,9,FALSE)),\"\",VLOOKUP(C269,BDDG!$A$2:$I$100,9,FALSE))","v":"CC2"},null,null,"",{"$f":"IF(ISERROR(VLOOKUP(C269,BDDG!$A$2:$J$100,10,FALSE)),\"\",VLOOKUP(C269,BDDG!$A$2:$J$100,10,FALSE))","v":"DD2"},null,null,"",96.000000000000014,1,2008,{"$f":"IFERROR(INDEX($V$2:V269,MATCH(H269&MAX(IF($H$1:H268=H269,$A$1:A268)),$H$2:H269&$A$2:A269,0))-V269,\"\")","v":-42.000000000000014}]
["2008-01-23",null,833,{"$f":"IF(ISNA(VLOOKUP(C270,BDDG!$A$2:$F$100,2,FALSE)),\"\",VLOOKUP(C270,BDDG!$A$2:$F$100,2,FALSE))","v":0},{"$f":"IF(ISNA(VLOOKUP(C270,BDDG!$A$3:$J$102,3,FALSE)),\"\",VLOOKUP(C270,BDDG!$A$3:$J$102,3,FALSE))","v":"A"},{"$f":"IF(ISNA(VLOOKUP(C270,BDDG!$A$3:$J$102,4,FALSE)),\"\",VLOOKUP(C270,BDDG!$A$3:$J$102,4,FALSE))","v":106},{"$f":"IF(ISNA(VLOOKUP(C270,BDDG!$A$2:$F$100,5,FALSE)),\"\",VLOOKUP(C270,BDDG!$A$2:$F$100,5,FALSE))","v":"A2"},{"$f":"IF(ISNA(VLOOKUP(C270,BDDG!$A$2:$F$100,6,FALSE)),\"\",VLOOKUP(C270,BDDG!$A$2:$F$100,6,FALSE))","v":"AA3"},{"$f":"IF(ISERROR(VLOOKUP(C270,BDDG!$A$2:$G$100,7,FALSE)),\"\",VLOOKUP(C270,BDDG!$A$2:$G$100,7,FALSE))","v":1},{"$f":"IF(ISERROR(VLOOKUP(C270,BDDG!$A$2:$H$100,8,FALSE)),\"\",VLOOKUP(C270,BDDG!$A$2:$H$100,8,FALSE))","v":"BB3"},10,10,86.4,{"$f":"IF(ISERROR(VLOOKUP(C270,BDDG!$A$2:$I$100,9,FALSE)),\"\",VLOOKUP(C270,BDDG!$A$2:$I$100,9,FALSE))","v":"CC3"},null,null,"",{"$f":"IF(ISERROR(VLOOKUP(C270,BDDG!$A$2:$J$100,10,FALSE)),\"\",VLOOKUP(C270,BDDG!$A$2:$J$100,10,FALSE))","v":"DD3"},null,null,"",86.4,1,2008,{"$f":"IFERROR(INDEX($V$2:V270,MATCH(H270&MAX(IF($H$1:H269=H270,$A$1:A269)),$H$2:H270&$A$2:A270,0))-V270,\"\")","v":-60.988235294117651}]
["2008-01-23",null,834,{"$f":"IF(ISNA(VLOOKUP(C271,BDDG!$A$2:$F$100,2,FALSE)),\"\",VLOOKUP(C271,BDDG!$A$2:$F$100,2,FALSE))","v":0},{"$f":"IF(ISNA(VLOOKUP(C271,BDDG!$A$3:$J$102,3,FALSE)),\"\",VLOOKUP(C271,BDDG!$A$3:$J$102,3,FALSE))","v":"A"},{"$f":"IF(ISNA(VLOOKUP(C271,BDDG!$A$3:$J$102,4,FALSE)),\"\",VLOOKUP(C271,BDDG!$A$3:$J$102,4,FALSE))","v":106},{"$f":"IF(ISNA(VLOOKUP(C271,BDDG!$A$2:$F$100,5,FALSE)),\"\",VLOOKUP(C271,BDDG!$A$2:$F$100,5,FALSE))","v":"A2"},{"$f":"IF(ISNA(VLOOKUP(C271,BDDG!$A$2:$F$100,6,FALSE)),\"\",VLOOKUP(C271,BDDG!$A$2:$F$100,6,FALSE))","v":"AA4"},{"$f":"IF(ISERROR(VLOOKUP(C271,BDDG!$A$2:$G$100,7,FALSE)),\"\",VLOOKUP(C271,BDDG!$A$2:$G$100,7,FALSE))","v":1},{"$f":"IF(ISERROR(VLOOKUP(C271,BDDG!$A$2:$H$100,8,FALSE)),\"\",VLOOKUP(C271,BDDG!$A$2:$H$100,8,FALSE))","v":"BB4"},10,33,26.181818181818183,{"$f":"IF(ISERROR(VLOOKUP(C271,BDDG!$A$2:$I$100,9,FALSE)),\"\",VLOOKUP(C271,BDDG!$A$2:$I$100,9,FALSE))","v":"CC4"},null,null,"",{"$f":"IF(ISERROR(VLOOKUP(C271,BDDG!$A$2:$J$100,10,FALSE)),\"\",VLOOKUP(C271,BDDG!$A$2:$J$100,10,FALSE))","v":"DD4"},null,null,"",26.181818181818183,1,2008,{"$f":"IFERROR(INDEX($V$2:V271,MATCH(H271&MAX(IF($H$1:H270=H271,$A$1:A270)),$H$2:H271&$A$2:A271,0))-V271,\"\")","v":-10.181818181818183}]
["2008-03-04",null,831,{"$f":"IF(ISNA(VLOOKUP(C272,BDDG!$A$2:$F$100,2,FALSE)),\"\",VLOOKUP(C272,BDDG!$A$2:$F$100,2,FALSE))","v":0},{"$f":"IF(ISNA(VLOOKUP(C272,BDDG!$A$3:$J$102,3,FALSE)),\"\",VLOOKUP(C272,BDDG!$A$3:$J$102,3,FALSE))","v":"A"},{"$f":"IF(ISNA(VLOOKUP(C272,BDDG!$A$3:$J$102,4,FALSE)),\"\",VLOOKUP(C272,BDDG!$A$3:$J$102,4,FALSE))","v":106},{"$f":"IF(ISNA(VLOOKUP(C272,BDDG!$A$2:$F$100,5,FALSE)),\"\",VLOOKUP(C272,BDDG!$A$2:$F$100,5,FALSE))","v":"A1"},{"$f":"IF(ISNA(VLOOKUP(C272,BDDG!$A$2:$F$100,6,FALSE)),\"\",VLOOKUP(C272,BDDG!$A$2:$F$100,6,FALSE))","v":"AA1"},{"$f":"IF(ISERROR(VLOOKUP(C272,BDDG!$A$2:$G$100,7,FALSE)),\"\",VLOOKUP(C272,BDDG!$A$2:$G$100,7,FALSE))","v":1},{"$f":"IF(ISERROR(VLOOKUP(C272,BDDG!$A$2:$H$100,8,FALSE)),\"\",VLOOKUP(C272,BDDG!$A$2:$H$100,8,FALSE))","v":"BB1"},10,8.73,98.969072164948457,{"$f":"IF(ISERROR(VLOOKUP(C272,BDDG!$A$2:$I$100,9,FALSE)),\"\",VLOOKUP(C272,BDDG!$A$2:$I$100,9,FALSE))","v":"CC1"},null,null,"",{"$f":"IF(ISERROR(VLOOKUP(C272,BDDG!$A$2:$J$100,10,FALSE)),\"\",VLOOKUP(C272,BDDG!$A$2:$J$100,10,FALSE))","v":"DD1"},null,null,{"$f":" IF(ISERROR(S272/T272*86.4),\"\",S272/T272*86.4)","v":""},98.969072164948457,3,2008,{"$f":"IFERROR(INDEX($V$2:V272,MATCH(H272&MAX(IF($H$1:H271=H272,$A$1:A271)),$H$2:H272&$A$2:A272,0))-V272,\"\")","v":21.870088674212383}]
["2008-03-04",null,870,{"$f":"IF(ISNA(VLOOKUP(C273,BDDG!$A$2:$F$100,2,FALSE)),\"\",VLOOKUP(C273,BDDG!$A$2:$F$100,2,FALSE))","v":0},{"$f":"IF(ISNA(VLOOKUP(C273,BDDG!$A$3:$J$102,3,FALSE)),\"\",VLOOKUP(C273,BDDG!$A$3:$J$102,3,FALSE))","v":"A"},{"$f":"IF(ISNA(VLOOKUP(C273,BDDG!$A$3:$J$102,4,FALSE)),\"\",VLOOKUP(C273,BDDG!$A$3:$J$102,4,FALSE))","v":108},{"$f":"IF(ISNA(VLOOKUP(C273,BDDG!$A$2:$F$100,5,FALSE)),\"\",VLOOKUP(C273,BDDG!$A$2:$F$100,5,FALSE))","v":"A16"},{"$f":"IF(ISNA(VLOOKUP(C273,BDDG!$A$2:$F$100,6,FALSE)),\"\",VLOOKUP(C273,BDDG!$A$2:$F$100,6,FALSE))","v":"AA41"},{"$f":"IF(ISERROR(VLOOKUP(C273,BDDG!$A$2:$G$100,7,FALSE)),\"\",VLOOKUP(C273,BDDG!$A$2:$G$100,7,FALSE))","v":2},{"$f":"IF(ISERROR(VLOOKUP(C273,BDDG!$A$2:$H$100,8,FALSE)),\"\",VLOOKUP(C273,BDDG!$A$2:$H$100,8,FALSE))","v":"BB41"},1,17.48,4.9427917620137301,{"$f":"IF(ISERROR(VLOOKUP(C273,BDDG!$A$2:$I$100,9,FALSE)),\"\",VLOOKUP(C273,BDDG!$A$2:$I$100,9,FALSE))","v":"CC41"},1,14.39,{"$f":" IF(ISERROR(O273/P273*86.4),\"\",O273/P273*86.4)","v":6.0041695621959699},{"$f":"IF(ISERROR(VLOOKUP(C273,BDDG!$A$2:$J$100,10,FALSE)),\"\",VLOOKUP(C273,BDDG!$A$2:$J$100,10,FALSE))","v":"DD41"},null,null,"",10.946961324209699,3,2008,{"$f":"IFERROR(INDEX($V$2:V273,MATCH(H273&MAX(IF($H$1:H272=H273,$A$1:A272)),$H$2:H273&$A$2:A273,0))-V273,\"\")","v":""}]
["2008-03-04",null,835,{"$f":"IF(ISNA(VLOOKUP(C274,BDDG!$A$2:$F$100,2,FALSE)),\"\",VLOOKUP(C274,BDDG!$A$2:$F$100,2,FALSE))","v":0},{"$f":"IF(ISNA(VLOOKUP(C274,BDDG!$A$3:$J$102,3,FALSE)),\"\",VLOOKUP(C274,BDDG!$A$3:$J$102,3,FALSE))","v":"A"},{"$f":"IF(ISNA(VLOOKUP(C274,BDDG!$A$3:$J$102,4,FALSE)),\"\",VLOOKUP(C274,BDDG!$A$3:$J$102,4,FALSE))","v":106},{"$f":"IF(ISNA(VLOOKUP(C274,BDDG!$A$2:$F$100,5,FALSE)),\"\",VLOOKUP(C274,BDDG!$A$2:$F$100,5,FALSE))","v":"A3"},{"$f":"IF(ISNA(VLOOKUP(C274,BDDG!$A$2:$F$100,6,FALSE)),\"\",VLOOKUP(C274,BDDG!$A$2:$F$100,6,FALSE))","v":"AA5"},{"$f":"IF(ISERROR(VLOOKUP(C274,BDDG!$A$2:$G$100,7,FALSE)),\"\",VLOOKUP(C274,BDDG!$A$2:$G$100,7,FALSE))","v":1},{"$f":"IF(ISERROR(VLOOKUP(C274,BDDG!$A$2:$H$100,8,FALSE)),\"\",VLOOKUP(C274,BDDG!$A$2:$H$100,8,FALSE))","v":"BB5"},1,20.63,4.1880756180319922,{"$f":"IF(ISERROR(VLOOKUP(C274,BDDG!$A$2:$I$100,9,FALSE)),\"\",VLOOKUP(C274,BDDG!$A$2:$I$100,9,FALSE))","v":"CC5"},null,null,"",{"$f":"IF(ISERROR(VLOOKUP(C274,BDDG!$A$2:$J$100,10,FALSE)),\"\",VLOOKUP(C274,BDDG!$A$2:$J$100,10,FALSE))","v":"DD5"},null,null,"",4.1880756180319922,3,2008,{"$f":"IFERROR(INDEX($V$2:V274,MATCH(H274&MAX(IF($H$1:H273=H274,$A$1:A273)),$H$2:H274&$A$2:A274,0))-V274,\"\")","v":12.113811174420842}]
["2008-03-05",null,869,{"$f":"IF(ISNA(VLOOKUP(C275,BDDG!$A$2:$F$100,2,FALSE)),\"\",VLOOKUP(C275,BDDG!$A$2:$F$100,2,FALSE))","v":0},{"$f":"IF(ISNA(VLOOKUP(C275,BDDG!$A$3:$J$102,3,FALSE)),\"\",VLOOKUP(C275,BDDG!$A$3:$J$102,3,FALSE))","v":"A"},{"$f":"IF(ISNA(VLOOKUP(C275,BDDG!$A$3:$J$102,4,FALSE)),\"\",VLOOKUP(C275,BDDG!$A$3:$J$102,4,FALSE))","v":108},{"$f":"IF(ISNA(VLOOKUP(C275,BDDG!$A$2:$F$100,5,FALSE)),\"\",VLOOKUP(C275,BDDG!$A$2:$F$100,5,FALSE))","v":"A16"},{"$f":"IF(ISNA(VLOOKUP(C275,BDDG!$A$2:$F$100,6,FALSE)),\"\",VLOOKUP(C275,BDDG!$A$2:$F$100,6,FALSE))","v":"AA40"},{"$f":"IF(ISERROR(VLOOKUP(C275,BDDG!$A$2:$G$100,7,FALSE)),\"\",VLOOKUP(C275,BDDG!$A$2:$G$100,7,FALSE))","v":3},{"$f":"IF(ISERROR(VLOOKUP(C275,BDDG!$A$2:$H$100,8,FALSE)),\"\",VLOOKUP(C275,BDDG!$A$2:$H$100,8,FALSE))","v":"BB40"},1,60,1.4400000000000002,{"$f":"IF(ISERROR(VLOOKUP(C275,BDDG!$A$2:$I$100,9,FALSE)),\"\",VLOOKUP(C275,BDDG!$A$2:$I$100,9,FALSE))","v":"CC40"},null,null,"",{"$f":"IF(ISERROR(VLOOKUP(C275,BDDG!$A$2:$J$100,10,FALSE)),\"\",VLOOKUP(C275,BDDG!$A$2:$J$100,10,FALSE))","v":"DD40"},10,7.08,122.03389830508476,123.47389830508476,3,2008,{"$f":"IFERROR(INDEX($V$2:V275,MATCH(H275&MAX(IF($H$1:H274=H275,$A$1:A274)),$H$2:H275&$A$2:A275,0))-V275,\"\")","v":""}]
["2008-03-06",null,844,{"$f":"IF(ISNA(VLOOKUP(C276,BDDG!$A$2:$F$100,2,FALSE)),\"\",VLOOKUP(C276,BDDG!$A$2:$F$100,2,FALSE))","v":0},{"$f":"IF(ISNA(VLOOKUP(C276,BDDG!$A$3:$J$102,3,FALSE)),\"\",VLOOKUP(C276,BDDG!$A$3:$J$102,3,FALSE))","v":"B"},{"$f":"IF(ISNA(VLOOKUP(C276,BDDG!$A$3:$J$102,4,FALSE)),\"\",VLOOKUP(C276,BDDG!$A$3:$J$102,4,FALSE))","v":106},{"$f":"IF(ISNA(VLOOKUP(C276,BDDG!$A$2:$F$100,5,FALSE)),\"\",VLOOKUP(C276,BDDG!$A$2:$F$100,5,FALSE))","v":"A6"},{"$f":"IF(ISNA(VLOOKUP(C276,BDDG!$A$2:$F$100,6,FALSE)),\"\",VLOOKUP(C276,BDDG!$A$2:$F$100,6,FALSE))","v":"AA14"},{"$f":"IF(ISERROR(VLOOKUP(C276,BDDG!$A$2:$G$100,7,FALSE)),\"\",VLOOKUP(C276,BDDG!$A$2:$G$100,7,FALSE))","v":2},{"$f":"IF(ISERROR(VLOOKUP(C276,BDDG!$A$2:$H$100,8,FALSE)),\"\",VLOOKUP(C276,BDDG!$A$2:$H$100,8,FALSE))","v":"BB14"},10,11.31,76.392572944297086,{"$f":"IF(ISERROR(VLOOKUP(C276,BDDG!$A$2:$I$100,9,FALSE)),\"\",VLOOKUP(C276,BDDG!$A$2:$I$100,9,FALSE))","v":"CC14"},null,null,"",{"$f":"IF(ISERROR(VLOOKUP(C276,BDDG!$A$2:$J$100,10,FALSE)),\"\",VLOOKUP(C276,BDDG!$A$2:$J$100,10,FALSE))","v":"DD14"},null,null,"",76.392572944297086,3,2008,{"$f":"IFERROR(INDEX($V$2:V276,MATCH(H276&MAX(IF($H$1:H275=H276,$A$1:A275)),$H$2:H276&$A$2:A276,0))-V276,\"\")","v":-25.569043532532376}]
["2008-03-10",null,850,{"$f":"IF(ISNA(VLOOKUP(C277,BDDG!$A$2:$F$100,2,FALSE)),\"\",VLOOKUP(C277,BDDG!$A$2:$F$100,2,FALSE))","v":0},{"$f":"IF(ISNA(VLOOKUP(C277,BDDG!$A$3:$J$102,3,FALSE)),\"\",VLOOKUP(C277,BDDG!$A$3:$J$102,3,FALSE))","v":"B"},{"$f":"IF(ISNA(VLOOKUP(C277,BDDG!$A$3:$J$102,4,FALSE)),\"\",VLOOKUP(C277,BDDG!$A$3:$J$102,4,FALSE))","v":106},{"$f":"IF(ISNA(VLOOKUP(C277,BDDG!$A$2:$F$100,5,FALSE)),\"\",VLOOKUP(C277,BDDG!$A$2:$F$100,5,FALSE))","v":"A8"},{"$f":"IF(ISNA(VLOOKUP(C277,BDDG!$A$2:$F$100,6,FALSE)),\"\",VLOOKUP(C277,BDDG!$A$2:$F$100,6,FALSE))","v":"AA20"},{"$f":"IF(ISERROR(VLOOKUP(C277,BDDG!$A$2:$G$100,7,FALSE)),\"\",VLOOKUP(C277,BDDG!$A$2:$G$100,7,FALSE))","v":1},{"$f":"IF(ISERROR(VLOOKUP(C277,BDDG!$A$2:$H$100,8,FALSE)),\"\",VLOOKUP(C277,BDDG!$A$2:$H$100,8,FALSE))","v":"BB20"},2,4.79,36.07515657620042,{"$f":"IF(ISERROR(VLOOKUP(C277,BDDG!$A$2:$I$100,9,FALSE)),\"\",VLOOKUP(C277,BDDG!$A$2:$I$100,9,FALSE))","v":"CC20"},null,null,"",{"$f":"IF(ISERROR(VLOOKUP(C277,BDDG!$A$2:$J$100,10,FALSE)),\"\",VLOOKUP(C277,BDDG!$A$2:$J$100,10,FALSE))","v":"DD20"},null,null,"",36.07515657620042,3,2008,{"$f":"IFERROR(INDEX($V$2:V277,MATCH(H277&MAX(IF($H$1:H276=H277,$A$1:A276)),$H$2:H277&$A$2:A277,0))-V277,\"\")","v":7.1248434237995824}]
["2008-03-11",null,859,{"$f":"IF(ISNA(VLOOKUP(C278,BDDG!$A$2:$F$100,2,FALSE)),\"\",VLOOKUP(C278,BDDG!$A$2:$F$100,2,FALSE))","v":0},{"$f":"IF(ISNA(VLOOKUP(C278,BDDG!$A$3:$J$102,3,FALSE)),\"\",VLOOKUP(C278,BDDG!$A$3:$J$102,3,FALSE))","v":"A"},{"$f":"IF(ISNA(VLOOKUP(C278,BDDG!$A$3:$J$102,4,FALSE)),\"\",VLOOKUP(C278,BDDG!$A$3:$J$102,4,FALSE))","v":106},{"$f":"IF(ISNA(VLOOKUP(C278,BDDG!$A$2:$F$100,5,FALSE)),\"\",VLOOKUP(C278,BDDG!$A$2:$F$100,5,FALSE))","v":"A10"},{"$f":"IF(ISNA(VLOOKUP(C278,BDDG!$A$2:$F$100,6,FALSE)),\"\",VLOOKUP(C278,BDDG!$A$2:$F$100,6,FALSE))","v":"AA30"},{"$f":"IF(ISERROR(VLOOKUP(C278,BDDG!$A$2:$G$100,7,FALSE)),\"\",VLOOKUP(C278,BDDG!$A$2:$G$100,7,FALSE))","v":1},{"$f":"IF(ISERROR(VLOOKUP(C278,BDDG!$A$2:$H$100,8,FALSE)),\"\",VLOOKUP(C278,BDDG!$A$2:$H$100,8,FALSE))","v":"BB30"},1,22.01,{"$f":" IF(ISERROR(K278/L278*86.4),\"\",K278/L278*86.4)","v":3.9254884143571105},null,null,null,null,{"$f":"IF(ISERROR(VLOOKUP(C278,BDDG!$A$2:$J$100,10,FALSE)),\"\",VLOOKUP(C278,BDDG!$A$2:$J$100,10,FALSE))","v":"DD30"},null,null,"",{"$f":"IF(ISERROR(SUM(M278,Q278,U278)),\"\",SUM(M278,Q278,U278))","v":3.9254884143571105},3,2008,{"$f":"IFERROR(INDEX($V$2:V278,MATCH(H278&MAX(IF($H$1:H277=H278,$A$1:A277)),$H$2:H278&$A$2:A278,0))-V278,\"\")","v":16.167534841456842}]
["2008-03-11",null,815,{"$f":"IF(ISNA(VLOOKUP(C279,BDDG!$A$2:$F$100,2,FALSE)),\"\",VLOOKUP(C279,BDDG!$A$2:$F$100,2,FALSE))","v":0},{"$f":"IF(ISNA(VLOOKUP(C279,BDDG!$A$3:$J$102,3,FALSE)),\"\",VLOOKUP(C279,BDDG!$A$3:$J$102,3,FALSE))","v":"A"},{"$f":"IF(ISNA(VLOOKUP(C279,BDDG!$A$3:$J$102,4,FALSE)),\"\",VLOOKUP(C279,BDDG!$A$3:$J$102,4,FALSE))","v":106},{"$f":"IF(ISNA(VLOOKUP(C279,BDDG!$A$2:$F$100,5,FALSE)),\"\",VLOOKUP(C279,BDDG!$A$2:$F$100,5,FALSE))","v":"A10"},{"$f":"IF(ISNA(VLOOKUP(C279,BDDG!$A$2:$F$100,6,FALSE)),\"\",VLOOKUP(C279,BDDG!$A$2:$F$100,6,FALSE))","v":"AA31"},{"$f":"IF(ISERROR(VLOOKUP(C279,BDDG!$A$2:$G$100,7,FALSE)),\"\",VLOOKUP(C279,BDDG!$A$2:$G$100,7,FALSE))","v":1},{"$f":"IF(ISERROR(VLOOKUP(C279,BDDG!$A$2:$H$100,8,FALSE)),\"\",VLOOKUP(C279,BDDG!$A$2:$H$100,8,FALSE))","v":"BB31"},5,28.16,15.340909090909092,{"$f":"IF(ISERROR(VLOOKUP(C279,BDDG!$A$2:$I$100,9,FALSE)),\"\",VLOOKUP(C279,BDDG!$A$2:$I$100,9,FALSE))","v":"CC31"},null,null,{"$f":" IF(ISERROR(O279/P279*86.4),\"\",O279/P279*86.4)","v":""},{"$f":"IF(ISERROR(VLOOKUP(C279,BDDG!$A$2:$J$100,10,FALSE)),\"\",VLOOKUP(C279,BDDG!$A$2:$J$100,10,FALSE))","v":"DD31"},null,null,"",15.340909090909092,3,2008,{"$f":"IFERROR(INDEX($V$2:V279,MATCH(H279&MAX(IF($H$1:H278=H279,$A$1:A278)),$H$2:H279&$A$2:A279,0))-V279,\"\")","v":-10.628181818181819}]
["2008-03-12",null,856,{"$f":"IF(ISNA(VLOOKUP(C280,BDDG!$A$2:$F$100,2,FALSE)),\"\",VLOOKUP(C280,BDDG!$A$2:$F$100,2,FALSE))","v":0},{"$f":"IF(ISNA(VLOOKUP(C280,BDDG!$A$3:$J$102,3,FALSE)),\"\",VLOOKUP(C280,BDDG!$A$3:$J$102,3,FALSE))","v":"A"},{"$f":"IF(ISNA(VLOOKUP(C280,BDDG!$A$3:$J$102,4,FALSE)),\"\",VLOOKUP(C280,BDDG!$A$3:$J$102,4,FALSE))","v":106},{"$f":"IF(ISNA(VLOOKUP(C280,BDDG!$A$2:$F$100,5,FALSE)),\"\",VLOOKUP(C280,BDDG!$A$2:$F$100,5,FALSE))","v":"A9"},{"$f":"IF(ISNA(VLOOKUP(C280,BDDG!$A$2:$F$100,6,FALSE)),\"\",VLOOKUP(C280,BDDG!$A$2:$F$100,6,FALSE))","v":"AA27"},{"$f":"IF(ISERROR(VLOOKUP(C280,BDDG!$A$2:$G$100,7,FALSE)),\"\",VLOOKUP(C280,BDDG!$A$2:$G$100,7,FALSE))","v":2},{"$f":"IF(ISERROR(VLOOKUP(C280,BDDG!$A$2:$H$100,8,FALSE)),\"\",VLOOKUP(C280,BDDG!$A$2:$H$100,8,FALSE))","v":"BB27"},2,11.34,15.238095238095239,{"$f":"IF(ISERROR(VLOOKUP(C280,BDDG!$A$2:$I$100,9,FALSE)),\"\",VLOOKUP(C280,BDDG!$A$2:$I$100,9,FALSE))","v":"CC27"},9,4.55,170.90109890109892,{"$f":"IF(ISERROR(VLOOKUP(C280,BDDG!$A$2:$J$100,10,FALSE)),\"\",VLOOKUP(C280,BDDG!$A$2:$J$100,10,FALSE))","v":"DD27"},null,null,"",186.13919413919416,3,2008,{"$f":"IFERROR(INDEX($V$2:V280,MATCH(H280&MAX(IF($H$1:H279=H280,$A$1:A279)),$H$2:H280&$A$2:A280,0))-V280,\"\")","v":130.66080586080591}]
["2008-03-20",null,842,{"$f":"IF(ISNA(VLOOKUP(C281,BDDG!$A$2:$F$100,2,FALSE)),\"\",VLOOKUP(C281,BDDG!$A$2:$F$100,2,FALSE))","v":0},{"$f":"IF(ISNA(VLOOKUP(C281,BDDG!$A$3:$J$102,3,FALSE)),\"\",VLOOKUP(C281,BDDG!$A$3:$J$102,3,FALSE))","v":"B"},{"$f":"IF(ISNA(VLOOKUP(C281,BDDG!$A$3:$J$102,4,FALSE)),\"\",VLOOKUP(C281,BDDG!$A$3:$J$102,4,FALSE))","v":106},{"$f":"IF(ISNA(VLOOKUP(C281,BDDG!$A$2:$F$100,5,FALSE)),\"\",VLOOKUP(C281,BDDG!$A$2:$F$100,5,FALSE))","v":"A5"},{"$f":"IF(ISNA(VLOOKUP(C281,BDDG!$A$2:$F$100,6,FALSE)),\"\",VLOOKUP(C281,BDDG!$A$2:$F$100,6,FALSE))","v":"AA13"},{"$f":"IF(ISERROR(VLOOKUP(C281,BDDG!$A$2:$G$100,7,FALSE)),\"\",VLOOKUP(C281,BDDG!$A$2:$G$100,7,FALSE))","v":1},{"$f":"IF(ISERROR(VLOOKUP(C281,BDDG!$A$2:$H$100,8,FALSE)),\"\",VLOOKUP(C281,BDDG!$A$2:$H$100,8,FALSE))","v":"BB13"},10,31.57,27.367754197022492,{"$f":"IF(ISERROR(VLOOKUP(C281,BDDG!$A$2:$I$100,9,FALSE)),\"\",VLOOKUP(C281,BDDG!$A$2:$I$100,9,FALSE))","v":"CC13"},null,null,"",{"$f":"IF(ISERROR(VLOOKUP(C281,BDDG!$A$2:$J$100,10,FALSE)),\"\",VLOOKUP(C281,BDDG!$A$2:$J$100,10,FALSE))","v":"DD13"},null,null,"",27.367754197022492,3,2008,{"$f":"IFERROR(INDEX($V$2:V281,MATCH(H281&MAX(IF($H$1:H280=H281,$A$1:A280)),$H$2:H281&$A$2:A281,0))-V281,\"\")","v":18.105930013503823}]
["2008-03-20",null,848,{"$f":"IF(ISNA(VLOOKUP(C282,BDDG!$A$2:$F$100,2,FALSE)),\"\",VLOOKUP(C282,BDDG!$A$2:$F$100,2,FALSE))","v":0},{"$f":"IF(ISNA(VLOOKUP(C282,BDDG!$A$3:$J$102,3,FALSE)),\"\",VLOOKUP(C282,BDDG!$A$3:$J$102,3,FALSE))","v":"B"},{"$f":"IF(ISNA(VLOOKUP(C282,BDDG!$A$3:$J$102,4,FALSE)),\"\",VLOOKUP(C282,BDDG!$A$3:$J$102,4,FALSE))","v":106},{"$f":"IF(ISNA(VLOOKUP(C282,BDDG!$A$2:$F$100,5,FALSE)),\"\",VLOOKUP(C282,BDDG!$A$2:$F$100,5,FALSE))","v":"A7"},{"$f":"IF(ISNA(VLOOKUP(C282,BDDG!$A$2:$F$100,6,FALSE)),\"\",VLOOKUP(C282,BDDG!$A$2:$F$100,6,FALSE))","v":"AA19"},{"$f":"IF(ISERROR(VLOOKUP(C282,BDDG!$A$2:$G$100,7,FALSE)),\"\",VLOOKUP(C282,BDDG!$A$2:$G$100,7,FALSE))","v":2},{"$f":"IF(ISERROR(VLOOKUP(C282,BDDG!$A$2:$H$100,8,FALSE)),\"\",VLOOKUP(C282,BDDG!$A$2:$H$100,8,FALSE))","v":"BB19"},5,25.63,16.855247756535313,{"$f":"IF(ISERROR(VLOOKUP(C282,BDDG!$A$2:$I$100,9,FALSE)),\"\",VLOOKUP(C282,BDDG!$A$2:$I$100,9,FALSE))","v":"CC19"},null,null,"",{"$f":"IF(ISERROR(VLOOKUP(C282,BDDG!$A$2:$J$100,10,FALSE)),\"\",VLOOKUP(C282,BDDG!$A$2:$J$100,10,FALSE))","v":"DD19"},null,null,"",16.855247756535313,3,2008,{"$f":"IFERROR(INDEX($V$2:V282,MATCH(H282&MAX(IF($H$1:H281=H282,$A$1:A281)),$H$2:H282&$A$2:A282,0))-V282,\"\")","v":69.5447522434647}]
["2008-03-20",null,847,{"$f":"IF(ISNA(VLOOKUP(C283,BDDG!$A$2:$F$100,2,FALSE)),\"\",VLOOKUP(C283,BDDG!$A$2:$F$100,2,FALSE))","v":0},{"$f":"IF(ISNA(VLOOKUP(C283,BDDG!$A$3:$J$102,3,FALSE)),\"\",VLOOKUP(C283,BDDG!$A$3:$J$102,3,FALSE))","v":"B"},{"$f":"IF(ISNA(VLOOKUP(C283,BDDG!$A$3:$J$102,4,FALSE)),\"\",VLOOKUP(C283,BDDG!$A$3:$J$102,4,FALSE))","v":106},{"$f":"IF(ISNA(VLOOKUP(C283,BDDG!$A$2:$F$100,5,FALSE)),\"\",VLOOKUP(C283,BDDG!$A$2:$F$100,5,FALSE))","v":"A7"},{"$f":"IF(ISNA(VLOOKUP(C283,BDDG!$A$2:$F$100,6,FALSE)),\"\",VLOOKUP(C283,BDDG!$A$2:$F$100,6,FALSE))","v":"AA18"},{"$f":"IF(ISERROR(VLOOKUP(C283,BDDG!$A$2:$G$100,7,FALSE)),\"\",VLOOKUP(C283,BDDG!$A$2:$G$100,7,FALSE))","v":2},{"$f":"IF(ISERROR(VLOOKUP(C283,BDDG!$A$2:$H$100,8,FALSE)),\"\",VLOOKUP(C283,BDDG!$A$2:$H$100,8,FALSE))","v":"BB18"},5,25.63,16.855247756535313,{"$f":"IF(ISERROR(VLOOKUP(C283,BDDG!$A$2:$I$100,9,FALSE)),\"\",VLOOKUP(C283,BDDG!$A$2:$I$100,9,FALSE))","v":"CC18"},10,45,19.2,{"$f":"IF(ISERROR(VLOOKUP(C283,BDDG!$A$2:$J$100,10,FALSE)),\"\",VLOOKUP(C283,BDDG!$A$2:$J$100,10,FALSE))","v":"DD18"},null,null,"",36.055247756535309,3,2008,{"$f":"IFERROR(INDEX($V$2:V283,MATCH(H283&MAX(IF($H$1:H282=H283,$A$1:A282)),$H$2:H283&$A$2:A283,0))-V283,\"\")","v":74.824752243464701}]
["2008-03-20",null,862,{"$f":"IF(ISNA(VLOOKUP(C284,BDDG!$A$2:$F$100,2,FALSE)),\"\",VLOOKUP(C284,BDDG!$A$2:$F$100,2,FALSE))","v":0},{"$f":"IF(ISNA(VLOOKUP(C284,BDDG!$A$3:$J$102,3,FALSE)),\"\",VLOOKUP(C284,BDDG!$A$3:$J$102,3,FALSE))","v":"A"},{"$f":"IF(ISNA(VLOOKUP(C284,BDDG!$A$3:$J$102,4,FALSE)),\"\",VLOOKUP(C284,BDDG!$A$3:$J$102,4,FALSE))","v":106},{"$f":"IF(ISNA(VLOOKUP(C284,BDDG!$A$2:$F$100,5,FALSE)),\"\",VLOOKUP(C284,BDDG!$A$2:$F$100,5,FALSE))","v":"A12"},{"$f":"IF(ISNA(VLOOKUP(C284,BDDG!$A$2:$F$100,6,FALSE)),\"\",VLOOKUP(C284,BDDG!$A$2:$F$100,6,FALSE))","v":"AA34"},{"$f":"IF(ISERROR(VLOOKUP(C284,BDDG!$A$2:$G$100,7,FALSE)),\"\",VLOOKUP(C284,BDDG!$A$2:$G$100,7,FALSE))","v":1},{"$f":"IF(ISERROR(VLOOKUP(C284,BDDG!$A$2:$H$100,8,FALSE)),\"\",VLOOKUP(C284,BDDG!$A$2:$H$100,8,FALSE))","v":"BB34"},10,19.82,43.592330978809287,{"$f":"IF(ISERROR(VLOOKUP(C284,BDDG!$A$2:$I$100,9,FALSE)),\"\",VLOOKUP(C284,BDDG!$A$2:$I$100,9,FALSE))","v":"CC34"},null,null,"",{"$f":"IF(ISERROR(VLOOKUP(C284,BDDG!$A$2:$J$100,10,FALSE)),\"\",VLOOKUP(C284,BDDG!$A$2:$J$100,10,FALSE))","v":"DD34"},null,null,"",43.592330978809287,3,2008,{"$f":"IFERROR(INDEX($V$2:V284,MATCH(H284&MAX(IF($H$1:H283=H284,$A$1:A283)),$H$2:H284&$A$2:A284,0))-V284,\"\")","v":18.121954735476436}]
["2008-03-20",null,849,{"$f":"IF(ISNA(VLOOKUP(C285,BDDG!$A$2:$F$100,2,FALSE)),\"\",VLOOKUP(C285,BDDG!$A$2:$F$100,2,FALSE))","v":0},{"$f":"IF(ISNA(VLOOKUP(C285,BDDG!$A$3:$J$102,3,FALSE)),\"\",VLOOKUP(C285,BDDG!$A$3:$J$102,3,FALSE))","v":"B"},{"$f":"IF(ISNA(VLOOKUP(C285,BDDG!$A$3:$J$102,4,FALSE)),\"\",VLOOKUP(C285,BDDG!$A$3:$J$102,4,FALSE))","v":106},{"$f":"IF(ISNA(VLOOKUP(C285,BDDG!$A$2:$F$100,5,FALSE)),\"\",VLOOKUP(C285,BDDG!$A$2:$F$100,5,FALSE))","v":"A7"},{"$f":"IF(ISNA(VLOOKUP(C285,BDDG!$A$2:$F$100,6,FALSE)),\"\",VLOOKUP(C285,BDDG!$A$2:$F$100,6,FALSE))","v":"AA15"},{"$f":"IF(ISERROR(VLOOKUP(C285,BDDG!$A$2:$G$100,7,FALSE)),\"\",VLOOKUP(C285,BDDG!$A$2:$G$100,7,FALSE))","v":2},{"$f":"IF(ISERROR(VLOOKUP(C285,BDDG!$A$2:$H$100,8,FALSE)),\"\",VLOOKUP(C285,BDDG!$A$2:$H$100,8,FALSE))","v":"BB15"},5,22.54,19.165927240461404,{"$f":"IF(ISERROR(VLOOKUP(C285,BDDG!$A$2:$I$100,9,FALSE)),\"\",VLOOKUP(C285,BDDG!$A$2:$I$100,9,FALSE))","v":"CC15"},10,18,48.000000000000007,{"$f":"IF(ISERROR(VLOOKUP(C285,BDDG!$A$2:$J$100,10,FALSE)),\"\",VLOOKUP(C285,BDDG!$A$2:$J$100,10,FALSE))","v":"DD15"},null,null,"",67.165927240461414,3,2008,{"$f":"IFERROR(INDEX($V$2:V285,MATCH(H285&MAX(IF($H$1:H284=H285,$A$1:A284)),$H$2:H285&$A$2:A285,0))-V285,\"\")","v":-22.656836331370499}]
["2008-04-14",null,870,{"$f":"IF(ISNA(VLOOKUP(C286,BDDG!$A$2:$F$100,2,FALSE)),\"\",VLOOKUP(C286,BDDG!$A$2:$F$100,2,FALSE))","v":0},{"$f":"IF(ISNA(VLOOKUP(C286,BDDG!$A$3:$J$102,3,FALSE)),\"\",VLOOKUP(C286,BDDG!$A$3:$J$102,3,FALSE))","v":"A"},{"$f":"IF(ISNA(VLOOKUP(C286,BDDG!$A$3:$J$102,4,FALSE)),\"\",VLOOKUP(C286,BDDG!$A$3:$J$102,4,FALSE))","v":108},{"$f":"IF(ISNA(VLOOKUP(C286,BDDG!$A$2:$F$100,5,FALSE)),\"\",VLOOKUP(C286,BDDG!$A$2:$F$100,5,FALSE))","v":"A16"},{"$f":"IF(ISNA(VLOOKUP(C286,BDDG!$A$2:$F$100,6,FALSE)),\"\",VLOOKUP(C286,BDDG!$A$2:$F$100,6,FALSE))","v":"AA41"},{"$f":"IF(ISERROR(VLOOKUP(C286,BDDG!$A$2:$G$100,7,FALSE)),\"\",VLOOKUP(C286,BDDG!$A$2:$G$100,7,FALSE))","v":2},{"$f":"IF(ISERROR(VLOOKUP(C286,BDDG!$A$2:$H$100,8,FALSE)),\"\",VLOOKUP(C286,BDDG!$A$2:$H$100,8,FALSE))","v":"BB41"},10,11.09,77.908025247971153,{"$f":"IF(ISERROR(VLOOKUP(C286,BDDG!$A$2:$I$100,9,FALSE)),\"\",VLOOKUP(C286,BDDG!$A$2:$I$100,9,FALSE))","v":"CC41"},10,22.28,38.77917414721724,{"$f":"IF(ISERROR(VLOOKUP(C286,BDDG!$A$2:$J$100,10,FALSE)),\"\",VLOOKUP(C286,BDDG!$A$2:$J$100,10,FALSE))","v":"DD41"},null,null,"",116.6871993951884,4,2008,{"$f":"IFERROR(INDEX($V$2:V286,MATCH(H286&MAX(IF($H$1:H285=H286,$A$1:A285)),$H$2:H286&$A$2:A286,0))-V286,\"\")","v":-105.74023807097871}]
["2008-04-17",null,834,{"$f":"IF(ISNA(VLOOKUP(C287,BDDG!$A$2:$F$100,2,FALSE)),\"\",VLOOKUP(C287,BDDG!$A$2:$F$100,2,FALSE))","v":0},{"$f":"IF(ISNA(VLOOKUP(C287,BDDG!$A$3:$J$102,3,FALSE)),\"\",VLOOKUP(C287,BDDG!$A$3:$J$102,3,FALSE))","v":"A"},{"$f":"IF(ISNA(VLOOKUP(C287,BDDG!$A$3:$J$102,4,FALSE)),\"\",VLOOKUP(C287,BDDG!$A$3:$J$102,4,FALSE))","v":106},{"$f":"IF(ISNA(VLOOKUP(C287,BDDG!$A$2:$F$100,5,FALSE)),\"\",VLOOKUP(C287,BDDG!$A$2:$F$100,5,FALSE))","v":"A2"},{"$f":"IF(ISNA(VLOOKUP(C287,BDDG!$A$2:$F$100,6,FALSE)),\"\",VLOOKUP(C287,BDDG!$A$2:$F$100,6,FALSE))","v":"AA4"},{"$f":"IF(ISERROR(VLOOKUP(C287,BDDG!$A$2:$G$100,7,FALSE)),\"\",VLOOKUP(C287,BDDG!$A$2:$G$100,7,FALSE))","v":1},{"$f":"IF(ISERROR(VLOOKUP(C287,BDDG!$A$2:$H$100,8,FALSE)),\"\",VLOOKUP(C287,BDDG!$A$2:$H$100,8,FALSE))","v":"BB4"},10,10.3,83.883495145631059,{"$f":"IF(ISERROR(VLOOKUP(C287,BDDG!$A$2:$I$100,9,FALSE)),\"\",VLOOKUP(C287,BDDG!$A$2:$I$100,9,FALSE))","v":"CC4"},null,null,"",{"$f":"IF(ISERROR(VLOOKUP(C287,BDDG!$A$2:$J$100,10,FALSE)),\"\",VLOOKUP(C287,BDDG!$A$2:$J$100,10,FALSE))","v":"DD4"},null,null,"",83.883495145631059,4,2008,{"$f":"IFERROR(INDEX($V$2:V287,MATCH(H287&MAX(IF($H$1:H286=H287,$A$1:A286)),$H$2:H287&$A$2:A287,0))-V287,\"\")","v":-57.701676963812872}]
["2008-05-20",null,848,{"$f":"IF(ISNA(VLOOKUP(C288,BDDG!$A$2:$F$100,2,FALSE)),\"\",VLOOKUP(C288,BDDG!$A$2:$F$100,2,FALSE))","v":0},{"$f":"IF(ISNA(VLOOKUP(C288,BDDG!$A$3:$J$102,3,FALSE)),\"\",VLOOKUP(C288,BDDG!$A$3:$J$102,3,FALSE))","v":"B"},{"$f":"IF(ISNA(VLOOKUP(C288,BDDG!$A$3:$J$102,4,FALSE)),\"\",VLOOKUP(C288,BDDG!$A$3:$J$102,4,FALSE))","v":106},{"$f":"IF(ISNA(VLOOKUP(C288,BDDG!$A$2:$F$100,5,FALSE)),\"\",VLOOKUP(C288,BDDG!$A$2:$F$100,5,FALSE))","v":"A7"},{"$f":"IF(ISNA(VLOOKUP(C288,BDDG!$A$2:$F$100,6,FALSE)),\"\",VLOOKUP(C288,BDDG!$A$2:$F$100,6,FALSE))","v":"AA19"},{"$f":"IF(ISERROR(VLOOKUP(C288,BDDG!$A$2:$G$100,7,FALSE)),\"\",VLOOKUP(C288,BDDG!$A$2:$G$100,7,FALSE))","v":2},{"$f":"IF(ISERROR(VLOOKUP(C288,BDDG!$A$2:$H$100,8,FALSE)),\"\",VLOOKUP(C288,BDDG!$A$2:$H$100,8,FALSE))","v":"BB19"},10,8,{"$f":" IF(ISERROR(K288/L288*86.4),\"\",K288/L288*86.4)","v":108},{"$f":"IF(ISERROR(VLOOKUP(C288,BDDG!$A$2:$I$100,9,FALSE)),\"\",VLOOKUP(C288,BDDG!$A$2:$I$100,9,FALSE))","v":"CC19"},null,null,"",{"$f":"IF(ISERROR(VLOOKUP(C288,BDDG!$A$2:$J$100,10,FALSE)),\"\",VLOOKUP(C288,BDDG!$A$2:$J$100,10,FALSE))","v":"DD19"},null,null,"",108,5,2008,{"$f":"IFERROR(INDEX($V$2:V288,MATCH(H288&MAX(IF($H$1:H287=H288,$A$1:A287)),$H$2:H288&$A$2:A288,0))-V288,\"\")","v":-91.144752243464694}]
["2008-05-20",null,847,{"$f":"IF(ISNA(VLOOKUP(C289,BDDG!$A$2:$F$100,2,FALSE)),\"\",VLOOKUP(C289,BDDG!$A$2:$F$100,2,FALSE))","v":0},{"$f":"IF(ISNA(VLOOKUP(C289,BDDG!$A$3:$J$102,3,FALSE)),\"\",VLOOKUP(C289,BDDG!$A$3:$J$102,3,FALSE))","v":"B"},{"$f":"IF(ISNA(VLOOKUP(C289,BDDG!$A$3:$J$102,4,FALSE)),\"\",VLOOKUP(C289,BDDG!$A$3:$J$102,4,FALSE))","v":106},{"$f":"IF(ISNA(VLOOKUP(C289,BDDG!$A$2:$F$100,5,FALSE)),\"\",VLOOKUP(C289,BDDG!$A$2:$F$100,5,FALSE))","v":"A7"},{"$f":"IF(ISNA(VLOOKUP(C289,BDDG!$A$2:$F$100,6,FALSE)),\"\",VLOOKUP(C289,BDDG!$A$2:$F$100,6,FALSE))","v":"AA18"},{"$f":"IF(ISERROR(VLOOKUP(C289,BDDG!$A$2:$G$100,7,FALSE)),\"\",VLOOKUP(C289,BDDG!$A$2:$G$100,7,FALSE))","v":2},{"$f":"IF(ISERROR(VLOOKUP(C289,BDDG!$A$2:$H$100,8,FALSE)),\"\",VLOOKUP(C289,BDDG!$A$2:$H$100,8,FALSE))","v":"BB18"},10,8,108,{"$f":"IF(ISERROR(VLOOKUP(C289,BDDG!$A$2:$I$100,9,FALSE)),\"\",VLOOKUP(C289,BDDG!$A$2:$I$100,9,FALSE))","v":"CC18"},15,40,32.400000000000006,{"$f":"IF(ISERROR(VLOOKUP(C289,BDDG!$A$2:$J$100,10,FALSE)),\"\",VLOOKUP(C289,BDDG!$A$2:$J$100,10,FALSE))","v":"DD18"},null,null,"",140.4,5,2008,{"$f":"IFERROR(INDEX($V$2:V289,MATCH(H289&MAX(IF($H$1:H288=H289,$A$1:A288)),$H$2:H289&$A$2:A289,0))-V289,\"\")","v":-104.3447522434647}]
["2008-05-29",null,836,{"$f":"IF(ISNA(VLOOKUP(C290,BDDG!$A$2:$F$100,2,FALSE)),\"\",VLOOKUP(C290,BDDG!$A$2:$F$100,2,FALSE))","v":0},{"$f":"IF(ISNA(VLOOKUP(C290,BDDG!$A$3:$J$102,3,FALSE)),\"\",VLOOKUP(C290,BDDG!$A$3:$J$102,3,FALSE))","v":"A"},{"$f":"IF(ISNA(VLOOKUP(C290,BDDG!$A$3:$J$102,4,FALSE)),\"\",VLOOKUP(C290,BDDG!$A$3:$J$102,4,FALSE))","v":106},{"$f":"IF(ISNA(VLOOKUP(C290,BDDG!$A$2:$F$100,5,FALSE)),\"\",VLOOKUP(C290,BDDG!$A$2:$F$100,5,FALSE))","v":"A3"},{"$f":"IF(ISNA(VLOOKUP(C290,BDDG!$A$2:$F$100,6,FALSE)),\"\",VLOOKUP(C290,BDDG!$A$2:$F$100,6,FALSE))","v":"AA6"},{"$f":"IF(ISERROR(VLOOKUP(C290,BDDG!$A$2:$G$100,7,FALSE)),\"\",VLOOKUP(C290,BDDG!$A$2:$G$100,7,FALSE))","v":1},{"$f":"IF(ISERROR(VLOOKUP(C290,BDDG!$A$2:$H$100,8,FALSE)),\"\",VLOOKUP(C290,BDDG!$A$2:$H$100,8,FALSE))","v":"BB6"},10,5,172.8,{"$f":"IF(ISERROR(VLOOKUP(C290,BDDG!$A$2:$I$100,9,FALSE)),\"\",VLOOKUP(C290,BDDG!$A$2:$I$100,9,FALSE))","v":"CC6"},null,null,"",{"$f":"IF(ISERROR(VLOOKUP(C290,BDDG!$A$2:$J$100,10,FALSE)),\"\",VLOOKUP(C290,BDDG!$A$2:$J$100,10,FALSE))","v":"DD6"},null,null,"",172.8,5,2008,{"$f":"IFERROR(INDEX($V$2:V290,MATCH(H290&MAX(IF($H$1:H289=H290,$A$1:A289)),$H$2:H290&$A$2:A290,0))-V290,\"\")","v":-100.8}]
["2008-05-29",null,837,{"$f":"IF(ISNA(VLOOKUP(C291,BDDG!$A$2:$F$100,2,FALSE)),\"\",VLOOKUP(C291,BDDG!$A$2:$F$100,2,FALSE))","v":0},{"$f":"IF(ISNA(VLOOKUP(C291,BDDG!$A$3:$J$102,3,FALSE)),\"\",VLOOKUP(C291,BDDG!$A$3:$J$102,3,FALSE))","v":"A"},{"$f":"IF(ISNA(VLOOKUP(C291,BDDG!$A$3:$J$102,4,FALSE)),\"\",VLOOKUP(C291,BDDG!$A$3:$J$102,4,FALSE))","v":106},{"$f":"IF(ISNA(VLOOKUP(C291,BDDG!$A$2:$F$100,5,FALSE)),\"\",VLOOKUP(C291,BDDG!$A$2:$F$100,5,FALSE))","v":"A3"},{"$f":"IF(ISNA(VLOOKUP(C291,BDDG!$A$2:$F$100,6,FALSE)),\"\",VLOOKUP(C291,BDDG!$A$2:$F$100,6,FALSE))","v":"AA7"},{"$f":"IF(ISERROR(VLOOKUP(C291,BDDG!$A$2:$G$100,7,FALSE)),\"\",VLOOKUP(C291,BDDG!$A$2:$G$100,7,FALSE))","v":1},{"$f":"IF(ISERROR(VLOOKUP(C291,BDDG!$A$2:$H$100,8,FALSE)),\"\",VLOOKUP(C291,BDDG!$A$2:$H$100,8,FALSE))","v":"BB7"},10,4,216,{"$f":"IF(ISERROR(VLOOKUP(C291,BDDG!$A$2:$I$100,9,FALSE)),\"\",VLOOKUP(C291,BDDG!$A$2:$I$100,9,FALSE))","v":"CC7"},null,null,"",{"$f":"IF(ISERROR(VLOOKUP(C291,BDDG!$A$2:$J$100,10,FALSE)),\"\",VLOOKUP(C291,BDDG!$A$2:$J$100,10,FALSE))","v":"DD7"},null,null,"",216,5,2008,{"$f":"IFERROR(INDEX($V$2:V291,MATCH(H291&MAX(IF($H$1:H290=H291,$A$1:A290)),$H$2:H291&$A$2:A291,0))-V291,\"\")","v":-204.63157894736841}]
["2008-05-29",null,856,{"$f":"IF(ISNA(VLOOKUP(C292,BDDG!$A$2:$F$100,2,FALSE)),\"\",VLOOKUP(C292,BDDG!$A$2:$F$100,2,FALSE))","v":0},{"$f":"IF(ISNA(VLOOKUP(C292,BDDG!$A$3:$J$102,3,FALSE)),\"\",VLOOKUP(C292,BDDG!$A$3:$J$102,3,FALSE))","v":"A"},{"$f":"IF(ISNA(VLOOKUP(C292,BDDG!$A$3:$J$102,4,FALSE)),\"\",VLOOKUP(C292,BDDG!$A$3:$J$102,4,FALSE))","v":106},{"$f":"IF(ISNA(VLOOKUP(C292,BDDG!$A$2:$F$100,5,FALSE)),\"\",VLOOKUP(C292,BDDG!$A$2:$F$100,5,FALSE))","v":"A9"},{"$f":"IF(ISNA(VLOOKUP(C292,BDDG!$A$2:$F$100,6,FALSE)),\"\",VLOOKUP(C292,BDDG!$A$2:$F$100,6,FALSE))","v":"AA27"},{"$f":"IF(ISERROR(VLOOKUP(C292,BDDG!$A$2:$G$100,7,FALSE)),\"\",VLOOKUP(C292,BDDG!$A$2:$G$100,7,FALSE))","v":2},{"$f":"IF(ISERROR(VLOOKUP(C292,BDDG!$A$2:$H$100,8,FALSE)),\"\",VLOOKUP(C292,BDDG!$A$2:$H$100,8,FALSE))","v":"BB27"},10,15.3,56.470588235294123,{"$f":"IF(ISERROR(VLOOKUP(C292,BDDG!$A$2:$I$100,9,FALSE)),\"\",VLOOKUP(C292,BDDG!$A$2:$I$100,9,FALSE))","v":"CC27"},10,1.4,617.14285714285722,{"$f":"IF(ISERROR(VLOOKUP(C292,BDDG!$A$2:$J$100,10,FALSE)),\"\",VLOOKUP(C292,BDDG!$A$2:$J$100,10,FALSE))","v":"DD27"},null,null,"",673.61344537815137,5,2008,{"$f":"IFERROR(INDEX($V$2:V292,MATCH(H292&MAX(IF($H$1:H291=H292,$A$1:A291)),$H$2:H292&$A$2:A292,0))-V292,\"\")","v":-487.47425123895721}]
["2008-05-29",null,852,{"$f":"IF(ISNA(VLOOKUP(C293,BDDG!$A$2:$F$100,2,FALSE)),\"\",VLOOKUP(C293,BDDG!$A$2:$F$100,2,FALSE))","v":0},{"$f":"IF(ISNA(VLOOKUP(C293,BDDG!$A$3:$J$102,3,FALSE)),\"\",VLOOKUP(C293,BDDG!$A$3:$J$102,3,FALSE))","v":"A"},{"$f":"IF(ISNA(VLOOKUP(C293,BDDG!$A$3:$J$102,4,FALSE)),\"\",VLOOKUP(C293,BDDG!$A$3:$J$102,4,FALSE))","v":106},{"$f":"IF(ISNA(VLOOKUP(C293,BDDG!$A$2:$F$100,5,FALSE)),\"\",VLOOKUP(C293,BDDG!$A$2:$F$100,5,FALSE))","v":"A9"},{"$f":"IF(ISNA(VLOOKUP(C293,BDDG!$A$2:$F$100,6,FALSE)),\"\",VLOOKUP(C293,BDDG!$A$2:$F$100,6,FALSE))","v":"AA22"},{"$f":"IF(ISERROR(VLOOKUP(C293,BDDG!$A$2:$G$100,7,FALSE)),\"\",VLOOKUP(C293,BDDG!$A$2:$G$100,7,FALSE))","v":1},{"$f":"IF(ISERROR(VLOOKUP(C293,BDDG!$A$2:$H$100,8,FALSE)),\"\",VLOOKUP(C293,BDDG!$A$2:$H$100,8,FALSE))","v":"BB22"},10,26,33.230769230769234,{"$f":"IF(ISERROR(VLOOKUP(C293,BDDG!$A$2:$I$100,9,FALSE)),\"\",VLOOKUP(C293,BDDG!$A$2:$I$100,9,FALSE))","v":"CC22"},null,null,"",{"$f":"IF(ISERROR(VLOOKUP(C293,BDDG!$A$2:$J$100,10,FALSE)),\"\",VLOOKUP(C293,BDDG!$A$2:$J$100,10,FALSE))","v":"DD22"},null,null,"",33.230769230769234,5,2008,{"$f":"IFERROR(INDEX($V$2:V293,MATCH(H293&MAX(IF($H$1:H292=H293,$A$1:A292)),$H$2:H293&$A$2:A293,0))-V293,\"\")","v":-20.270769230769233}]
["2008-07-02",null,832,{"$f":"IF(ISNA(VLOOKUP(C294,BDDG!$A$2:$F$100,2,FALSE)),\"\",VLOOKUP(C294,BDDG!$A$2:$F$100,2,FALSE))","v":0},{"$f":"IF(ISNA(VLOOKUP(C294,BDDG!$A$3:$J$102,3,FALSE)),\"\",VLOOKUP(C294,BDDG!$A$3:$J$102,3,FALSE))","v":"A"},{"$f":"IF(ISNA(VLOOKUP(C294,BDDG!$A$3:$J$102,4,FALSE)),\"\",VLOOKUP(C294,BDDG!$A$3:$J$102,4,FALSE))","v":106},{"$f":"IF(ISNA(VLOOKUP(C294,BDDG!$A$2:$F$100,5,FALSE)),\"\",VLOOKUP(C294,BDDG!$A$2:$F$100,5,FALSE))","v":"A2"},{"$f":"IF(ISNA(VLOOKUP(C294,BDDG!$A$2:$F$100,6,FALSE)),\"\",VLOOKUP(C294,BDDG!$A$2:$F$100,6,FALSE))","v":"AA2"},{"$f":"IF(ISERROR(VLOOKUP(C294,BDDG!$A$2:$G$100,7,FALSE)),\"\",VLOOKUP(C294,BDDG!$A$2:$G$100,7,FALSE))","v":1},{"$f":"IF(ISERROR(VLOOKUP(C294,BDDG!$A$2:$H$100,8,FALSE)),\"\",VLOOKUP(C294,BDDG!$A$2:$H$100,8,FALSE))","v":"BB2"},87,60,125.28,{"$f":"IF(ISERROR(VLOOKUP(C294,BDDG!$A$2:$I$100,9,FALSE)),\"\",VLOOKUP(C294,BDDG!$A$2:$I$100,9,FALSE))","v":"CC2"},null,null,"",{"$f":"IF(ISERROR(VLOOKUP(C294,BDDG!$A$2:$J$100,10,FALSE)),\"\",VLOOKUP(C294,BDDG!$A$2:$J$100,10,FALSE))","v":"DD2"},null,null,"",125.28,7,2008,{"$f":"IFERROR(INDEX($V$2:V294,MATCH(H294&MAX(IF($H$1:H293=H294,$A$1:A293)),$H$2:H294&$A$2:A294,0))-V294,\"\")","v":-29.279999999999987}]
["2008-07-02",null,833,{"$f":"IF(ISNA(VLOOKUP(C295,BDDG!$A$2:$F$100,2,FALSE)),\"\",VLOOKUP(C295,BDDG!$A$2:$F$100,2,FALSE))","v":0},{"$f":"IF(ISNA(VLOOKUP(C295,BDDG!$A$3:$J$102,3,FALSE)),\"\",VLOOKUP(C295,BDDG!$A$3:$J$102,3,FALSE))","v":"A"},{"$f":"IF(ISNA(VLOOKUP(C295,BDDG!$A$3:$J$102,4,FALSE)),\"\",VLOOKUP(C295,BDDG!$A$3:$J$102,4,FALSE))","v":106},{"$f":"IF(ISNA(VLOOKUP(C295,BDDG!$A$2:$F$100,5,FALSE)),\"\",VLOOKUP(C295,BDDG!$A$2:$F$100,5,FALSE))","v":"A2"},{"$f":"IF(ISNA(VLOOKUP(C295,BDDG!$A$2:$F$100,6,FALSE)),\"\",VLOOKUP(C295,BDDG!$A$2:$F$100,6,FALSE))","v":"AA3"},{"$f":"IF(ISERROR(VLOOKUP(C295,BDDG!$A$2:$G$100,7,FALSE)),\"\",VLOOKUP(C295,BDDG!$A$2:$G$100,7,FALSE))","v":1},{"$f":"IF(ISERROR(VLOOKUP(C295,BDDG!$A$2:$H$100,8,FALSE)),\"\",VLOOKUP(C295,BDDG!$A$2:$H$100,8,FALSE))","v":"BB3"},106,60,152.64000000000001,{"$f":"IF(ISERROR(VLOOKUP(C295,BDDG!$A$2:$I$100,9,FALSE)),\"\",VLOOKUP(C295,BDDG!$A$2:$I$100,9,FALSE))","v":"CC3"},null,null,"",{"$f":"IF(ISERROR(VLOOKUP(C295,BDDG!$A$2:$J$100,10,FALSE)),\"\",VLOOKUP(C295,BDDG!$A$2:$J$100,10,FALSE))","v":"DD3"},null,null,"",{"$f":"IF(ISERROR(SUM(M295,Q295,U295)),\"\",SUM(M295,Q295,U295))","v":152.64000000000001},7,2008,{"$f":"IFERROR(INDEX($V$2:V295,MATCH(H295&MAX(IF($H$1:H294=H295,$A$1:A294)),$H$2:H295&$A$2:A295,0))-V295,\"\")","v":-66.240000000000009}]
["2008-07-02",null,834,{"$f":"IF(ISNA(VLOOKUP(C296,BDDG!$A$2:$F$100,2,FALSE)),\"\",VLOOKUP(C296,BDDG!$A$2:$F$100,2,FALSE))","v":0},{"$f":"IF(ISNA(VLOOKUP(C296,BDDG!$A$3:$J$102,3,FALSE)),\"\",VLOOKUP(C296,BDDG!$A$3:$J$102,3,FALSE))","v":"A"},{"$f":"IF(ISNA(VLOOKUP(C296,BDDG!$A$3:$J$102,4,FALSE)),\"\",VLOOKUP(C296,BDDG!$A$3:$J$102,4,FALSE))","v":106},{"$f":"IF(ISNA(VLOOKUP(C296,BDDG!$A$2:$F$100,5,FALSE)),\"\",VLOOKUP(C296,BDDG!$A$2:$F$100,5,FALSE))","v":"A2"},{"$f":"IF(ISNA(VLOOKUP(C296,BDDG!$A$2:$F$100,6,FALSE)),\"\",VLOOKUP(C296,BDDG!$A$2:$F$100,6,FALSE))","v":"AA4"},{"$f":"IF(ISERROR(VLOOKUP(C296,BDDG!$A$2:$G$100,7,FALSE)),\"\",VLOOKUP(C296,BDDG!$A$2:$G$100,7,FALSE))","v":1},{"$f":"IF(ISERROR(VLOOKUP(C296,BDDG!$A$2:$H$100,8,FALSE)),\"\",VLOOKUP(C296,BDDG!$A$2:$H$100,8,FALSE))","v":"BB4"},40,60,57.6,{"$f":"IF(ISERROR(VLOOKUP(C296,BDDG!$A$2:$I$100,9,FALSE)),\"\",VLOOKUP(C296,BDDG!$A$2:$I$100,9,FALSE))","v":"CC4"},null,null,"",{"$f":"IF(ISERROR(VLOOKUP(C296,BDDG!$A$2:$J$100,10,FALSE)),\"\",VLOOKUP(C296,BDDG!$A$2:$J$100,10,FALSE))","v":"DD4"},null,null,"",57.6,7,2008,{"$f":"IFERROR(INDEX($V$2:V296,MATCH(H296&MAX(IF($H$1:H295=H296,$A$1:A295)),$H$2:H296&$A$2:A296,0))-V296,\"\")","v":26.283495145631058}]
["2008-07-29",null,842,{"$f":"IF(ISNA(VLOOKUP(C297,BDDG!$A$2:$F$100,2,FALSE)),\"\",VLOOKUP(C297,BDDG!$A$2:$F$100,2,FALSE))","v":0},{"$f":"IF(ISNA(VLOOKUP(C297,BDDG!$A$3:$J$102,3,FALSE)),\"\",VLOOKUP(C297,BDDG!$A$3:$J$102,3,FALSE))","v":"B"},{"$f":"IF(ISNA(VLOOKUP(C297,BDDG!$A$3:$J$102,4,FALSE)),\"\",VLOOKUP(C297,BDDG!$A$3:$J$102,4,FALSE))","v":106},{"$f":"IF(ISNA(VLOOKUP(C297,BDDG!$A$2:$F$100,5,FALSE)),\"\",VLOOKUP(C297,BDDG!$A$2:$F$100,5,FALSE))","v":"A5"},{"$f":"IF(ISNA(VLOOKUP(C297,BDDG!$A$2:$F$100,6,FALSE)),\"\",VLOOKUP(C297,BDDG!$A$2:$F$100,6,FALSE))","v":"AA13"},{"$f":"IF(ISERROR(VLOOKUP(C297,BDDG!$A$2:$G$100,7,FALSE)),\"\",VLOOKUP(C297,BDDG!$A$2:$G$100,7,FALSE))","v":1},{"$f":"IF(ISERROR(VLOOKUP(C297,BDDG!$A$2:$H$100,8,FALSE)),\"\",VLOOKUP(C297,BDDG!$A$2:$H$100,8,FALSE))","v":"BB13"},10,19,45.473684210526315,{"$f":"IF(ISERROR(VLOOKUP(C297,BDDG!$A$2:$I$100,9,FALSE)),\"\",VLOOKUP(C297,BDDG!$A$2:$I$100,9,FALSE))","v":"CC13"},null,null,"",{"$f":"IF(ISERROR(VLOOKUP(C297,BDDG!$A$2:$J$100,10,FALSE)),\"\",VLOOKUP(C297,BDDG!$A$2:$J$100,10,FALSE))","v":"DD13"},null,null,"",45.473684210526315,7,2008,{"$f":"IFERROR(INDEX($V$2:V297,MATCH(H297&MAX(IF($H$1:H296=H297,$A$1:A296)),$H$2:H297&$A$2:A297,0))-V297,\"\")","v":-18.105930013503823}]
["2008-07-29",null,848,{"$f":"IF(ISNA(VLOOKUP(C298,BDDG!$A$2:$F$100,2,FALSE)),\"\",VLOOKUP(C298,BDDG!$A$2:$F$100,2,FALSE))","v":0},{"$f":"IF(ISNA(VLOOKUP(C298,BDDG!$A$3:$J$102,3,FALSE)),\"\",VLOOKUP(C298,BDDG!$A$3:$J$102,3,FALSE))","v":"B"},{"$f":"IF(ISNA(VLOOKUP(C298,BDDG!$A$3:$J$102,4,FALSE)),\"\",VLOOKUP(C298,BDDG!$A$3:$J$102,4,FALSE))","v":106},{"$f":"IF(ISNA(VLOOKUP(C298,BDDG!$A$2:$F$100,5,FALSE)),\"\",VLOOKUP(C298,BDDG!$A$2:$F$100,5,FALSE))","v":"A7"},{"$f":"IF(ISNA(VLOOKUP(C298,BDDG!$A$2:$F$100,6,FALSE)),\"\",VLOOKUP(C298,BDDG!$A$2:$F$100,6,FALSE))","v":"AA19"},{"$f":"IF(ISERROR(VLOOKUP(C298,BDDG!$A$2:$G$100,7,FALSE)),\"\",VLOOKUP(C298,BDDG!$A$2:$G$100,7,FALSE))","v":2},{"$f":"IF(ISERROR(VLOOKUP(C298,BDDG!$A$2:$H$100,8,FALSE)),\"\",VLOOKUP(C298,BDDG!$A$2:$H$100,8,FALSE))","v":"BB19"},10,30,28.8,{"$f":"IF(ISERROR(VLOOKUP(C298,BDDG!$A$2:$I$100,9,FALSE)),\"\",VLOOKUP(C298,BDDG!$A$2:$I$100,9,FALSE))","v":"CC19"},null,null,"",{"$f":"IF(ISERROR(VLOOKUP(C298,BDDG!$A$2:$J$100,10,FALSE)),\"\",VLOOKUP(C298,BDDG!$A$2:$J$100,10,FALSE))","v":"DD19"},null,null,"",28.8,7,2008,{"$f":"IFERROR(INDEX($V$2:V298,MATCH(H298&MAX(IF($H$1:H297=H298,$A$1:A297)),$H$2:H298&$A$2:A298,0))-V298,\"\")","v":79.2}]
["2008-07-29",null,847,{"$f":"IF(ISNA(VLOOKUP(C299,BDDG!$A$2:$F$100,2,FALSE)),\"\",VLOOKUP(C299,BDDG!$A$2:$F$100,2,FALSE))","v":0},{"$f":"IF(ISNA(VLOOKUP(C299,BDDG!$A$3:$J$102,3,FALSE)),\"\",VLOOKUP(C299,BDDG!$A$3:$J$102,3,FALSE))","v":"B"},{"$f":"IF(ISNA(VLOOKUP(C299,BDDG!$A$3:$J$102,4,FALSE)),\"\",VLOOKUP(C299,BDDG!$A$3:$J$102,4,FALSE))","v":106},{"$f":"IF(ISNA(VLOOKUP(C299,BDDG!$A$2:$F$100,5,FALSE)),\"\",VLOOKUP(C299,BDDG!$A$2:$F$100,5,FALSE))","v":"A7"},{"$f":"IF(ISNA(VLOOKUP(C299,BDDG!$A$2:$F$100,6,FALSE)),\"\",VLOOKUP(C299,BDDG!$A$2:$F$100,6,FALSE))","v":"AA18"},{"$f":"IF(ISERROR(VLOOKUP(C299,BDDG!$A$2:$G$100,7,FALSE)),\"\",VLOOKUP(C299,BDDG!$A$2:$G$100,7,FALSE))","v":2},{"$f":"IF(ISERROR(VLOOKUP(C299,BDDG!$A$2:$H$100,8,FALSE)),\"\",VLOOKUP(C299,BDDG!$A$2:$H$100,8,FALSE))","v":"BB18"},10,30,28.8,{"$f":"IF(ISERROR(VLOOKUP(C299,BDDG!$A$2:$I$100,9,FALSE)),\"\",VLOOKUP(C299,BDDG!$A$2:$I$100,9,FALSE))","v":"CC18"},10,41,21.073170731707318,{"$f":"IF(ISERROR(VLOOKUP(C299,BDDG!$A$2:$J$100,10,FALSE)),\"\",VLOOKUP(C299,BDDG!$A$2:$J$100,10,FALSE))","v":"DD18"},null,null,"",49.873170731707319,7,2008,{"$f":"IFERROR(INDEX($V$2:V299,MATCH(H299&MAX(IF($H$1:H298=H299,$A$1:A298)),$H$2:H299&$A$2:A299,0))-V299,\"\")","v":90.526829268292687}]
["2008-07-29",null,844,{"$f":"IF(ISNA(VLOOKUP(C300,BDDG!$A$2:$F$100,2,FALSE)),\"\",VLOOKUP(C300,BDDG!$A$2:$F$100,2,FALSE))","v":0},{"$f":"IF(ISNA(VLOOKUP(C300,BDDG!$A$3:$J$102,3,FALSE)),\"\",VLOOKUP(C300,BDDG!$A$3:$J$102,3,FALSE))","v":"B"},{"$f":"IF(ISNA(VLOOKUP(C300,BDDG!$A$3:$J$102,4,FALSE)),\"\",VLOOKUP(C300,BDDG!$A$3:$J$102,4,FALSE))","v":106},{"$f":"IF(ISNA(VLOOKUP(C300,BDDG!$A$2:$F$100,5,FALSE)),\"\",VLOOKUP(C300,BDDG!$A$2:$F$100,5,FALSE))","v":"A6"},{"$f":"IF(ISNA(VLOOKUP(C300,BDDG!$A$2:$F$100,6,FALSE)),\"\",VLOOKUP(C300,BDDG!$A$2:$F$100,6,FALSE))","v":"AA14"},{"$f":"IF(ISERROR(VLOOKUP(C300,BDDG!$A$2:$G$100,7,FALSE)),\"\",VLOOKUP(C300,BDDG!$A$2:$G$100,7,FALSE))","v":2},{"$f":"IF(ISERROR(VLOOKUP(C300,BDDG!$A$2:$H$100,8,FALSE)),\"\",VLOOKUP(C300,BDDG!$A$2:$H$100,8,FALSE))","v":"BB14"},10,9,96.000000000000014,{"$f":"IF(ISERROR(VLOOKUP(C300,BDDG!$A$2:$I$100,9,FALSE)),\"\",VLOOKUP(C300,BDDG!$A$2:$I$100,9,FALSE))","v":"CC14"},null,null,"",{"$f":"IF(ISERROR(VLOOKUP(C300,BDDG!$A$2:$J$100,10,FALSE)),\"\",VLOOKUP(C300,BDDG!$A$2:$J$100,10,FALSE))","v":"DD14"},null,null,"",96.000000000000014,7,2008,{"$f":"IFERROR(INDEX($V$2:V300,MATCH(H300&MAX(IF($H$1:H299=H300,$A$1:A299)),$H$2:H300&$A$2:A300,0))-V300,\"\")","v":-19.607427055702928}]
["2008-07-29",null,849,{"$f":"IF(ISNA(VLOOKUP(C301,BDDG!$A$2:$F$100,2,FALSE)),\"\",VLOOKUP(C301,BDDG!$A$2:$F$100,2,FALSE))","v":0},{"$f":"IF(ISNA(VLOOKUP(C301,BDDG!$A$3:$J$102,3,FALSE)),\"\",VLOOKUP(C301,BDDG!$A$3:$J$102,3,FALSE))","v":"B"},{"$f":"IF(ISNA(VLOOKUP(C301,BDDG!$A$3:$J$102,4,FALSE)),\"\",VLOOKUP(C301,BDDG!$A$3:$J$102,4,FALSE))","v":106},{"$f":"IF(ISNA(VLOOKUP(C301,BDDG!$A$2:$F$100,5,FALSE)),\"\",VLOOKUP(C301,BDDG!$A$2:$F$100,5,FALSE))","v":"A7"},{"$f":"IF(ISNA(VLOOKUP(C301,BDDG!$A$2:$F$100,6,FALSE)),\"\",VLOOKUP(C301,BDDG!$A$2:$F$100,6,FALSE))","v":"AA15"},{"$f":"IF(ISERROR(VLOOKUP(C301,BDDG!$A$2:$G$100,7,FALSE)),\"\",VLOOKUP(C301,BDDG!$A$2:$G$100,7,FALSE))","v":2},{"$f":"IF(ISERROR(VLOOKUP(C301,BDDG!$A$2:$H$100,8,FALSE)),\"\",VLOOKUP(C301,BDDG!$A$2:$H$100,8,FALSE))","v":"BB15"},10,21,41.142857142857146,{"$f":"IF(ISERROR(VLOOKUP(C301,BDDG!$A$2:$I$100,9,FALSE)),\"\",VLOOKUP(C301,BDDG!$A$2:$I$100,9,FALSE))","v":"CC15"},10,30.54,28.290766208251476,{"$f":"IF(ISERROR(VLOOKUP(C301,BDDG!$A$2:$J$100,10,FALSE)),\"\",VLOOKUP(C301,BDDG!$A$2:$J$100,10,FALSE))","v":"DD15"},null,null,"",69.433623351108622,7,2008,{"$f":"IFERROR(INDEX($V$2:V301,MATCH(H301&MAX(IF($H$1:H300=H301,$A$1:A300)),$H$2:H301&$A$2:A301,0))-V301,\"\")","v":-2.2676961106472078}]
["2008-07-30",null,831,{"$f":"IF(ISNA(VLOOKUP(C302,BDDG!$A$2:$F$100,2,FALSE)),\"\",VLOOKUP(C302,BDDG!$A$2:$F$100,2,FALSE))","v":0},{"$f":"IF(ISNA(VLOOKUP(C302,BDDG!$A$3:$J$102,3,FALSE)),\"\",VLOOKUP(C302,BDDG!$A$3:$J$102,3,FALSE))","v":"A"},{"$f":"IF(ISNA(VLOOKUP(C302,BDDG!$A$3:$J$102,4,FALSE)),\"\",VLOOKUP(C302,BDDG!$A$3:$J$102,4,FALSE))","v":106},{"$f":"IF(ISNA(VLOOKUP(C302,BDDG!$A$2:$F$100,5,FALSE)),\"\",VLOOKUP(C302,BDDG!$A$2:$F$100,5,FALSE))","v":"A1"},{"$f":"IF(ISNA(VLOOKUP(C302,BDDG!$A$2:$F$100,6,FALSE)),\"\",VLOOKUP(C302,BDDG!$A$2:$F$100,6,FALSE))","v":"AA1"},{"$f":"IF(ISERROR(VLOOKUP(C302,BDDG!$A$2:$G$100,7,FALSE)),\"\",VLOOKUP(C302,BDDG!$A$2:$G$100,7,FALSE))","v":1},{"$f":"IF(ISERROR(VLOOKUP(C302,BDDG!$A$2:$H$100,8,FALSE)),\"\",VLOOKUP(C302,BDDG!$A$2:$H$100,8,FALSE))","v":"BB1"},10,{"$f":"4.4","v":4.4000000000000004},196.36363636363635,{"$f":"IF(ISERROR(VLOOKUP(C302,BDDG!$A$2:$I$100,9,FALSE)),\"\",VLOOKUP(C302,BDDG!$A$2:$I$100,9,FALSE))","v":"CC1"},null,null,{"$f":" IF(ISERROR(O302/P302*86.4),\"\",O302/P302*86.4)","v":""},{"$f":"IF(ISERROR(VLOOKUP(C302,BDDG!$A$2:$J$100,10,FALSE)),\"\",VLOOKUP(C302,BDDG!$A$2:$J$100,10,FALSE))","v":"DD1"},null,null,"",196.36363636363635,7,2008,{"$f":"IFERROR(INDEX($V$2:V302,MATCH(H302&MAX(IF($H$1:H301=H302,$A$1:A301)),$H$2:H302&$A$2:A302,0))-V302,\"\")","v":-97.394564198687888}]
["2008-08-08",null,869,{"$f":"IF(ISNA(VLOOKUP(C303,BDDG!$A$2:$F$100,2,FALSE)),\"\",VLOOKUP(C303,BDDG!$A$2:$F$100,2,FALSE))","v":0},{"$f":"IF(ISNA(VLOOKUP(C303,BDDG!$A$3:$J$102,3,FALSE)),\"\",VLOOKUP(C303,BDDG!$A$3:$J$102,3,FALSE))","v":"A"},{"$f":"IF(ISNA(VLOOKUP(C303,BDDG!$A$3:$J$102,4,FALSE)),\"\",VLOOKUP(C303,BDDG!$A$3:$J$102,4,FALSE))","v":108},{"$f":"IF(ISNA(VLOOKUP(C303,BDDG!$A$2:$F$100,5,FALSE)),\"\",VLOOKUP(C303,BDDG!$A$2:$F$100,5,FALSE))","v":"A16"},{"$f":"IF(ISNA(VLOOKUP(C303,BDDG!$A$2:$F$100,6,FALSE)),\"\",VLOOKUP(C303,BDDG!$A$2:$F$100,6,FALSE))","v":"AA40"},{"$f":"IF(ISERROR(VLOOKUP(C303,BDDG!$A$2:$G$100,7,FALSE)),\"\",VLOOKUP(C303,BDDG!$A$2:$G$100,7,FALSE))","v":3},{"$f":"IF(ISERROR(VLOOKUP(C303,BDDG!$A$2:$H$100,8,FALSE)),\"\",VLOOKUP(C303,BDDG!$A$2:$H$100,8,FALSE))","v":"BB40"},0.9,60,1.2960000000000003,{"$f":"IF(ISERROR(VLOOKUP(C303,BDDG!$A$2:$I$100,9,FALSE)),\"\",VLOOKUP(C303,BDDG!$A$2:$I$100,9,FALSE))","v":"CC40"},null,null,"",{"$f":"IF(ISERROR(VLOOKUP(C303,BDDG!$A$2:$J$100,10,FALSE)),\"\",VLOOKUP(C303,BDDG!$A$2:$J$100,10,FALSE))","v":"DD40"},10,7.7,112.20779220779221,113.50379220779222,8,2008,{"$f":"IFERROR(INDEX($V$2:V303,MATCH(H303&MAX(IF($H$1:H302=H303,$A$1:A302)),$H$2:H303&$A$2:A303,0))-V303,\"\")","v":9.9701060972925433}]
["2008-10-06",null,852,{"$f":"IF(ISNA(VLOOKUP(C304,BDDG!$A$2:$F$100,2,FALSE)),\"\",VLOOKUP(C304,BDDG!$A$2:$F$100,2,FALSE))","v":0},{"$f":"IF(ISNA(VLOOKUP(C304,BDDG!$A$3:$J$102,3,FALSE)),\"\",VLOOKUP(C304,BDDG!$A$3:$J$102,3,FALSE))","v":"A"},{"$f":"IF(ISNA(VLOOKUP(C304,BDDG!$A$3:$J$102,4,FALSE)),\"\",VLOOKUP(C304,BDDG!$A$3:$J$102,4,FALSE))","v":106},{"$f":"IF(ISNA(VLOOKUP(C304,BDDG!$A$2:$F$100,5,FALSE)),\"\",VLOOKUP(C304,BDDG!$A$2:$F$100,5,FALSE))","v":"A9"},{"$f":"IF(ISNA(VLOOKUP(C304,BDDG!$A$2:$F$100,6,FALSE)),\"\",VLOOKUP(C304,BDDG!$A$2:$F$100,6,FALSE))","v":"AA22"},{"$f":"IF(ISERROR(VLOOKUP(C304,BDDG!$A$2:$G$100,7,FALSE)),\"\",VLOOKUP(C304,BDDG!$A$2:$G$100,7,FALSE))","v":1},{"$f":"IF(ISERROR(VLOOKUP(C304,BDDG!$A$2:$H$100,8,FALSE)),\"\",VLOOKUP(C304,BDDG!$A$2:$H$100,8,FALSE))","v":"BB22"},10,{"$f":"60+2","v":62},13.935483870967742,{"$f":"IF(ISERROR(VLOOKUP(C304,BDDG!$A$2:$I$100,9,FALSE)),\"\",VLOOKUP(C304,BDDG!$A$2:$I$100,9,FALSE))","v":"CC22"},null,null,"",{"$f":"IF(ISERROR(VLOOKUP(C304,BDDG!$A$2:$J$100,10,FALSE)),\"\",VLOOKUP(C304,BDDG!$A$2:$J$100,10,FALSE))","v":"DD22"},null,null,"",13.935483870967742,10,2008,{"$f":"IFERROR(INDEX($V$2:V304,MATCH(H304&MAX(IF($H$1:H303=H304,$A$1:A303)),$H$2:H304&$A$2:A304,0))-V304,\"\")","v":19.29528535980149}]
["2008-12-07",null,869,{"$f":"IF(ISNA(VLOOKUP(C305,BDDG!$A$2:$F$100,2,FALSE)),\"\",VLOOKUP(C305,BDDG!$A$2:$F$100,2,FALSE))","v":0},{"$f":"IF(ISNA(VLOOKUP(C305,BDDG!$A$3:$J$102,3,FALSE)),\"\",VLOOKUP(C305,BDDG!$A$3:$J$102,3,FALSE))","v":"A"},{"$f":"IF(ISNA(VLOOKUP(C305,BDDG!$A$3:$J$102,4,FALSE)),\"\",VLOOKUP(C305,BDDG!$A$3:$J$102,4,FALSE))","v":108},{"$f":"IF(ISNA(VLOOKUP(C305,BDDG!$A$2:$F$100,5,FALSE)),\"\",VLOOKUP(C305,BDDG!$A$2:$F$100,5,FALSE))","v":"A16"},{"$f":"IF(ISNA(VLOOKUP(C305,BDDG!$A$2:$F$100,6,FALSE)),\"\",VLOOKUP(C305,BDDG!$A$2:$F$100,6,FALSE))","v":"AA40"},{"$f":"IF(ISERROR(VLOOKUP(C305,BDDG!$A$2:$G$100,7,FALSE)),\"\",VLOOKUP(C305,BDDG!$A$2:$G$100,7,FALSE))","v":3},{"$f":"IF(ISERROR(VLOOKUP(C305,BDDG!$A$2:$H$100,8,FALSE)),\"\",VLOOKUP(C305,BDDG!$A$2:$H$100,8,FALSE))","v":"BB40"},2,60,{"$f":" IF(ISERROR(K305/L305*86.4),\"\",K305/L305*86.4)","v":2.8800000000000003},{"$f":"IF(ISERROR(VLOOKUP(C305,BDDG!$A$2:$I$100,9,FALSE)),\"\",VLOOKUP(C305,BDDG!$A$2:$I$100,9,FALSE))","v":"CC40"},null,null,"",{"$f":"IF(ISERROR(VLOOKUP(C305,BDDG!$A$2:$J$100,10,FALSE)),\"\",VLOOKUP(C305,BDDG!$A$2:$J$100,10,FALSE))","v":"DD40"},10,7.36,{"$f":" IF(ISERROR(S305/T305*86.4),\"\",S305/T305*86.4)","v":117.39130434782609},120.27130434782609,12,2008,{"$f":"IFERROR(INDEX($V$2:V305,MATCH(H305&MAX(IF($H$1:H304=H305,$A$1:A304)),$H$2:H305&$A$2:A305,0))-V305,\"\")","v":-6.7675121400338725}]
["2009-01-06",null,869,{"$f":"IF(ISNA(VLOOKUP(C306,BDDG!$A$2:$F$100,2,FALSE)),\"\",VLOOKUP(C306,BDDG!$A$2:$F$100,2,FALSE))","v":0},{"$f":"IF(ISNA(VLOOKUP(C306,BDDG!$A$3:$J$102,3,FALSE)),\"\",VLOOKUP(C306,BDDG!$A$3:$J$102,3,FALSE))","v":"A"},{"$f":"IF(ISNA(VLOOKUP(C306,BDDG!$A$3:$J$102,4,FALSE)),\"\",VLOOKUP(C306,BDDG!$A$3:$J$102,4,FALSE))","v":108},{"$f":"IF(ISNA(VLOOKUP(C306,BDDG!$A$2:$F$100,5,FALSE)),\"\",VLOOKUP(C306,BDDG!$A$2:$F$100,5,FALSE))","v":"A16"},{"$f":"IF(ISNA(VLOOKUP(C306,BDDG!$A$2:$F$100,6,FALSE)),\"\",VLOOKUP(C306,BDDG!$A$2:$F$100,6,FALSE))","v":"AA40"},{"$f":"IF(ISERROR(VLOOKUP(C306,BDDG!$A$2:$G$100,7,FALSE)),\"\",VLOOKUP(C306,BDDG!$A$2:$G$100,7,FALSE))","v":3},{"$f":"IF(ISERROR(VLOOKUP(C306,BDDG!$A$2:$H$100,8,FALSE)),\"\",VLOOKUP(C306,BDDG!$A$2:$H$100,8,FALSE))","v":"BB40"},1,2,43.2,{"$f":"IF(ISERROR(VLOOKUP(C306,BDDG!$A$2:$I$100,9,FALSE)),\"\",VLOOKUP(C306,BDDG!$A$2:$I$100,9,FALSE))","v":"CC40"},null,null,"",{"$f":"IF(ISERROR(VLOOKUP(C306,BDDG!$A$2:$J$100,10,FALSE)),\"\",VLOOKUP(C306,BDDG!$A$2:$J$100,10,FALSE))","v":"DD40"},10,3,288.00000000000006,331.20000000000005,1,2009,{"$f":"IFERROR(INDEX($V$2:V306,MATCH(H306&MAX(IF($H$1:H305=H306,$A$1:A305)),$H$2:H306&$A$2:A306,0))-V306,\"\")","v":-210.92869565217396}]
["2009-01-19",null,868,{"$f":"IF(ISNA(VLOOKUP(C307,BDDG!$A$2:$F$100,2,FALSE)),\"\",VLOOKUP(C307,BDDG!$A$2:$F$100,2,FALSE))","v":0},{"$f":"IF(ISNA(VLOOKUP(C307,BDDG!$A$3:$J$102,3,FALSE)),\"\",VLOOKUP(C307,BDDG!$A$3:$J$102,3,FALSE))","v":"A"},{"$f":"IF(ISNA(VLOOKUP(C307,BDDG!$A$3:$J$102,4,FALSE)),\"\",VLOOKUP(C307,BDDG!$A$3:$J$102,4,FALSE))","v":108},{"$f":"IF(ISNA(VLOOKUP(C307,BDDG!$A$2:$F$100,5,FALSE)),\"\",VLOOKUP(C307,BDDG!$A$2:$F$100,5,FALSE))","v":"A16"},{"$f":"IF(ISNA(VLOOKUP(C307,BDDG!$A$2:$F$100,6,FALSE)),\"\",VLOOKUP(C307,BDDG!$A$2:$F$100,6,FALSE))","v":"AA39"},{"$f":"IF(ISERROR(VLOOKUP(C307,BDDG!$A$2:$G$100,7,FALSE)),\"\",VLOOKUP(C307,BDDG!$A$2:$G$100,7,FALSE))","v":2},{"$f":"IF(ISERROR(VLOOKUP(C307,BDDG!$A$2:$H$100,8,FALSE)),\"\",VLOOKUP(C307,BDDG!$A$2:$H$100,8,FALSE))","v":"BB39"},3,15,17.28,{"$f":"IF(ISERROR(VLOOKUP(C307,BDDG!$A$2:$I$100,9,FALSE)),\"\",VLOOKUP(C307,BDDG!$A$2:$I$100,9,FALSE))","v":"CC39"},null,null,"",{"$f":"IF(ISERROR(VLOOKUP(C307,BDDG!$A$2:$J$100,10,FALSE)),\"\",VLOOKUP(C307,BDDG!$A$2:$J$100,10,FALSE))","v":"DD39"},null,null,"",17.28,1,2009,{"$f":"IFERROR(INDEX($V$2:V307,MATCH(H307&MAX(IF($H$1:H306=H307,$A$1:A306)),$H$2:H307&$A$2:A307,0))-V307,\"\")","v":""}]
["2009-01-27",null,831,{"$f":"IF(ISNA(VLOOKUP(C308,BDDG!$A$2:$F$100,2,FALSE)),\"\",VLOOKUP(C308,BDDG!$A$2:$F$100,2,FALSE))","v":0},{"$f":"IF(ISNA(VLOOKUP(C308,BDDG!$A$3:$J$102,3,FALSE)),\"\",VLOOKUP(C308,BDDG!$A$3:$J$102,3,FALSE))","v":"A"},{"$f":"IF(ISNA(VLOOKUP(C308,BDDG!$A$3:$J$102,4,FALSE)),\"\",VLOOKUP(C308,BDDG!$A$3:$J$102,4,FALSE))","v":106},{"$f":"IF(ISNA(VLOOKUP(C308,BDDG!$A$2:$F$100,5,FALSE)),\"\",VLOOKUP(C308,BDDG!$A$2:$F$100,5,FALSE))","v":"A1"},{"$f":"IF(ISNA(VLOOKUP(C308,BDDG!$A$2:$F$100,6,FALSE)),\"\",VLOOKUP(C308,BDDG!$A$2:$F$100,6,FALSE))","v":"AA1"},{"$f":"IF(ISERROR(VLOOKUP(C308,BDDG!$A$2:$G$100,7,FALSE)),\"\",VLOOKUP(C308,BDDG!$A$2:$G$100,7,FALSE))","v":1},{"$f":"IF(ISERROR(VLOOKUP(C308,BDDG!$A$2:$H$100,8,FALSE)),\"\",VLOOKUP(C308,BDDG!$A$2:$H$100,8,FALSE))","v":"BB1"},10,9,96.000000000000014,{"$f":"IF(ISERROR(VLOOKUP(C308,BDDG!$A$2:$I$100,9,FALSE)),\"\",VLOOKUP(C308,BDDG!$A$2:$I$100,9,FALSE))","v":"CC1"},null,null,"",{"$f":"IF(ISERROR(VLOOKUP(C308,BDDG!$A$2:$J$100,10,FALSE)),\"\",VLOOKUP(C308,BDDG!$A$2:$J$100,10,FALSE))","v":"DD1"},null,null,"",96.000000000000014,1,2009,{"$f":"IFERROR(INDEX($V$2:V308,MATCH(H308&MAX(IF($H$1:H307=H308,$A$1:A307)),$H$2:H308&$A$2:A308,0))-V308,\"\")","v":100.36363636363633}]
["2009-03-10",null,831,{"$f":"IF(ISNA(VLOOKUP(C309,BDDG!$A$2:$F$100,2,FALSE)),\"\",VLOOKUP(C309,BDDG!$A$2:$F$100,2,FALSE))","v":0},{"$f":"IF(ISNA(VLOOKUP(C309,BDDG!$A$3:$J$102,3,FALSE)),\"\",VLOOKUP(C309,BDDG!$A$3:$J$102,3,FALSE))","v":"A"},{"$f":"IF(ISNA(VLOOKUP(C309,BDDG!$A$3:$J$102,4,FALSE)),\"\",VLOOKUP(C309,BDDG!$A$3:$J$102,4,FALSE))","v":106},{"$f":"IF(ISNA(VLOOKUP(C309,BDDG!$A$2:$F$100,5,FALSE)),\"\",VLOOKUP(C309,BDDG!$A$2:$F$100,5,FALSE))","v":"A1"},{"$f":"IF(ISNA(VLOOKUP(C309,BDDG!$A$2:$F$100,6,FALSE)),\"\",VLOOKUP(C309,BDDG!$A$2:$F$100,6,FALSE))","v":"AA1"},{"$f":"IF(ISERROR(VLOOKUP(C309,BDDG!$A$2:$G$100,7,FALSE)),\"\",VLOOKUP(C309,BDDG!$A$2:$G$100,7,FALSE))","v":1},{"$f":"IF(ISERROR(VLOOKUP(C309,BDDG!$A$2:$H$100,8,FALSE)),\"\",VLOOKUP(C309,BDDG!$A$2:$H$100,8,FALSE))","v":"BB1"},10,11.21,77.074041034790355,{"$f":"IF(ISERROR(VLOOKUP(C309,BDDG!$A$2:$I$100,9,FALSE)),\"\",VLOOKUP(C309,BDDG!$A$2:$I$100,9,FALSE))","v":"CC1"},null,null,"",{"$f":"IF(ISERROR(VLOOKUP(C309,BDDG!$A$2:$J$100,10,FALSE)),\"\",VLOOKUP(C309,BDDG!$A$2:$J$100,10,FALSE))","v":"DD1"},null,null,"",{"$f":"IF(ISERROR(SUM(M309,Q309,U309)),\"\",SUM(M309,Q309,U309))","v":77.074041034790355},3,2009,{"$f":"IFERROR(INDEX($V$2:V309,MATCH(H309&MAX(IF($H$1:H308=H309,$A$1:A308)),$H$2:H309&$A$2:A309,0))-V309,\"\")","v":18.925958965209659}]
["2009-03-12",null,860,{"$f":"IF(ISNA(VLOOKUP(C310,BDDG!$A$2:$F$100,2,FALSE)),\"\",VLOOKUP(C310,BDDG!$A$2:$F$100,2,FALSE))","v":0},{"$f":"IF(ISNA(VLOOKUP(C310,BDDG!$A$3:$J$102,3,FALSE)),\"\",VLOOKUP(C310,BDDG!$A$3:$J$102,3,FALSE))","v":"A"},{"$f":"IF(ISNA(VLOOKUP(C310,BDDG!$A$3:$J$102,4,FALSE)),\"\",VLOOKUP(C310,BDDG!$A$3:$J$102,4,FALSE))","v":106},{"$f":"IF(ISNA(VLOOKUP(C310,BDDG!$A$2:$F$100,5,FALSE)),\"\",VLOOKUP(C310,BDDG!$A$2:$F$100,5,FALSE))","v":"A11"},{"$f":"IF(ISNA(VLOOKUP(C310,BDDG!$A$2:$F$100,6,FALSE)),\"\",VLOOKUP(C310,BDDG!$A$2:$F$100,6,FALSE))","v":"AA32"},{"$f":"IF(ISERROR(VLOOKUP(C310,BDDG!$A$2:$G$100,7,FALSE)),\"\",VLOOKUP(C310,BDDG!$A$2:$G$100,7,FALSE))","v":2},{"$f":"IF(ISERROR(VLOOKUP(C310,BDDG!$A$2:$H$100,8,FALSE)),\"\",VLOOKUP(C310,BDDG!$A$2:$H$100,8,FALSE))","v":"BB32"},10,10,86.4,{"$f":"IF(ISERROR(VLOOKUP(C310,BDDG!$A$2:$I$100,9,FALSE)),\"\",VLOOKUP(C310,BDDG!$A$2:$I$100,9,FALSE))","v":"CC32"},null,null,"",{"$f":"IF(ISERROR(VLOOKUP(C310,BDDG!$A$2:$J$100,10,FALSE)),\"\",VLOOKUP(C310,BDDG!$A$2:$J$100,10,FALSE))","v":"DD32"},null,null,"",86.4,3,2009,{"$f":"IFERROR(INDEX($V$2:V310,MATCH(H310&MAX(IF($H$1:H309=H310,$A$1:A309)),$H$2:H310&$A$2:A310,0))-V310,\"\")","v":86.4}]
["2009-03-12",null,861,{"$f":"IF(ISNA(VLOOKUP(C311,BDDG!$A$2:$F$100,2,FALSE)),\"\",VLOOKUP(C311,BDDG!$A$2:$F$100,2,FALSE))","v":0},{"$f":"IF(ISNA(VLOOKUP(C311,BDDG!$A$3:$J$102,3,FALSE)),\"\",VLOOKUP(C311,BDDG!$A$3:$J$102,3,FALSE))","v":"A"},{"$f":"IF(ISNA(VLOOKUP(C311,BDDG!$A$3:$J$102,4,FALSE)),\"\",VLOOKUP(C311,BDDG!$A$3:$J$102,4,FALSE))","v":106},{"$f":"IF(ISNA(VLOOKUP(C311,BDDG!$A$2:$F$100,5,FALSE)),\"\",VLOOKUP(C311,BDDG!$A$2:$F$100,5,FALSE))","v":"A11"},{"$f":"IF(ISNA(VLOOKUP(C311,BDDG!$A$2:$F$100,6,FALSE)),\"\",VLOOKUP(C311,BDDG!$A$2:$F$100,6,FALSE))","v":"AA33"},{"$f":"IF(ISERROR(VLOOKUP(C311,BDDG!$A$2:$G$100,7,FALSE)),\"\",VLOOKUP(C311,BDDG!$A$2:$G$100,7,FALSE))","v":2},{"$f":"IF(ISERROR(VLOOKUP(C311,BDDG!$A$2:$H$100,8,FALSE)),\"\",VLOOKUP(C311,BDDG!$A$2:$H$100,8,FALSE))","v":"BB33"},null,null,null,{"$f":"IF(ISERROR(VLOOKUP(C311,BDDG!$A$2:$I$100,9,FALSE)),\"\",VLOOKUP(C311,BDDG!$A$2:$I$100,9,FALSE))","v":"CC33"},2.68,1,231.55200000000002,{"$f":"IF(ISERROR(VLOOKUP(C311,BDDG!$A$2:$J$100,10,FALSE)),\"\",VLOOKUP(C311,BDDG!$A$2:$J$100,10,FALSE))","v":"DD33"},null,null,"",{"$f":"IF(ISERROR(SUM(M311,Q311,U311)),\"\",SUM((M311,Q311,U311)))","v":231.55200000000002},3,2009,{"$f":"IFERROR(INDEX($V$2:V311,MATCH(H311&MAX(IF($H$1:H310=H311,$A$1:A310)),$H$2:H311&$A$2:A311,0))-V311,\"\")","v":-58.75200000000001}]
["2009-03-12",null,862,{"$f":"IF(ISNA(VLOOKUP(C312,BDDG!$A$2:$F$100,2,FALSE)),\"\",VLOOKUP(C312,BDDG!$A$2:$F$100,2,FALSE))","v":0},{"$f":"IF(ISNA(VLOOKUP(C312,BDDG!$A$3:$J$102,3,FALSE)),\"\",VLOOKUP(C312,BDDG!$A$3:$J$102,3,FALSE))","v":"A"},{"$f":"IF(ISNA(VLOOKUP(C312,BDDG!$A$3:$J$102,4,FALSE)),\"\",VLOOKUP(C312,BDDG!$A$3:$J$102,4,FALSE))","v":106},{"$f":"IF(ISNA(VLOOKUP(C312,BDDG!$A$2:$F$100,5,FALSE)),\"\",VLOOKUP(C312,BDDG!$A$2:$F$100,5,FALSE))","v":"A12"},{"$f":"IF(ISNA(VLOOKUP(C312,BDDG!$A$2:$F$100,6,FALSE)),\"\",VLOOKUP(C312,BDDG!$A$2:$F$100,6,FALSE))","v":"AA34"},{"$f":"IF(ISERROR(VLOOKUP(C312,BDDG!$A$2:$G$100,7,FALSE)),\"\",VLOOKUP(C312,BDDG!$A$2:$G$100,7,FALSE))","v":1},{"$f":"IF(ISERROR(VLOOKUP(C312,BDDG!$A$2:$H$100,8,FALSE)),\"\",VLOOKUP(C312,BDDG!$A$2:$H$100,8,FALSE))","v":"BB34"},0.5,1,{"$f":" IF(ISERROR(K312/L312*86.4),\"\",K312/L312*86.4)","v":43.2},{"$f":"IF(ISERROR(VLOOKUP(C312,BDDG!$A$2:$I$100,9,FALSE)),\"\",VLOOKUP(C312,BDDG!$A$2:$I$100,9,FALSE))","v":"CC34"},null,null,"",{"$f":"IF(ISERROR(VLOOKUP(C312,BDDG!$A$2:$J$100,10,FALSE)),\"\",VLOOKUP(C312,BDDG!$A$2:$J$100,10,FALSE))","v":"DD34"},null,null,"",{"$f":"IF(ISERROR(SUM(M312,Q312,U312)),\"\",SUM(M312,Q312,U312))","v":43.2},3,2009,{"$f":"IFERROR(INDEX($V$2:V312,MATCH(H312&MAX(IF($H$1:H311=H312,$A$1:A311)),$H$2:H312&$A$2:A312,0))-V312,\"\")","v":0.39233097880928369}]
["2009-03-13",null,848,{"$f":"IF(ISNA(VLOOKUP(C313,BDDG!$A$2:$F$100,2,FALSE)),\"\",VLOOKUP(C313,BDDG!$A$2:$F$100,2,FALSE))","v":0},{"$f":"IF(ISNA(VLOOKUP(C313,BDDG!$A$3:$J$102,3,FALSE)),\"\",VLOOKUP(C313,BDDG!$A$3:$J$102,3,FALSE))","v":"B"},{"$f":"IF(ISNA(VLOOKUP(C313,BDDG!$A$3:$J$102,4,FALSE)),\"\",VLOOKUP(C313,BDDG!$A$3:$J$102,4,FALSE))","v":106},{"$f":"IF(ISNA(VLOOKUP(C313,BDDG!$A$2:$F$100,5,FALSE)),\"\",VLOOKUP(C313,BDDG!$A$2:$F$100,5,FALSE))","v":"A7"},{"$f":"IF(ISNA(VLOOKUP(C313,BDDG!$A$2:$F$100,6,FALSE)),\"\",VLOOKUP(C313,BDDG!$A$2:$F$100,6,FALSE))","v":"AA19"},{"$f":"IF(ISERROR(VLOOKUP(C313,BDDG!$A$2:$G$100,7,FALSE)),\"\",VLOOKUP(C313,BDDG!$A$2:$G$100,7,FALSE))","v":2},{"$f":"IF(ISERROR(VLOOKUP(C313,BDDG!$A$2:$H$100,8,FALSE)),\"\",VLOOKUP(C313,BDDG!$A$2:$H$100,8,FALSE))","v":"BB19"},0.9,1,77.760000000000005,{"$f":"IF(ISERROR(VLOOKUP(C313,BDDG!$A$2:$I$100,9,FALSE)),\"\",VLOOKUP(C313,BDDG!$A$2:$I$100,9,FALSE))","v":"CC19"},null,null,"",{"$f":"IF(ISERROR(VLOOKUP(C313,BDDG!$A$2:$J$100,10,FALSE)),\"\",VLOOKUP(C313,BDDG!$A$2:$J$100,10,FALSE))","v":"DD19"},null,null,"",77.760000000000005,3,2009,{"$f":"IFERROR(INDEX($V$2:V313,MATCH(H313&MAX(IF($H$1:H312=H313,$A$1:A312)),$H$2:H313&$A$2:A313,0))-V313,\"\")","v":-48.960000000000008}]
["2009-03-13",null,847,{"$f":"IF(ISNA(VLOOKUP(C314,BDDG!$A$2:$F$100,2,FALSE)),\"\",VLOOKUP(C314,BDDG!$A$2:$F$100,2,FALSE))","v":0},{"$f":"IF(ISNA(VLOOKUP(C314,BDDG!$A$3:$J$102,3,FALSE)),\"\",VLOOKUP(C314,BDDG!$A$3:$J$102,3,FALSE))","v":"B"},{"$f":"IF(ISNA(VLOOKUP(C314,BDDG!$A$3:$J$102,4,FALSE)),\"\",VLOOKUP(C314,BDDG!$A$3:$J$102,4,FALSE))","v":106},{"$f":"IF(ISNA(VLOOKUP(C314,BDDG!$A$2:$F$100,5,FALSE)),\"\",VLOOKUP(C314,BDDG!$A$2:$F$100,5,FALSE))","v":"A7"},{"$f":"IF(ISNA(VLOOKUP(C314,BDDG!$A$2:$F$100,6,FALSE)),\"\",VLOOKUP(C314,BDDG!$A$2:$F$100,6,FALSE))","v":"AA18"},{"$f":"IF(ISERROR(VLOOKUP(C314,BDDG!$A$2:$G$100,7,FALSE)),\"\",VLOOKUP(C314,BDDG!$A$2:$G$100,7,FALSE))","v":2},{"$f":"IF(ISERROR(VLOOKUP(C314,BDDG!$A$2:$H$100,8,FALSE)),\"\",VLOOKUP(C314,BDDG!$A$2:$H$100,8,FALSE))","v":"BB18"},0.9,1,77.760000000000005,{"$f":"IF(ISERROR(VLOOKUP(C314,BDDG!$A$2:$I$100,9,FALSE)),\"\",VLOOKUP(C314,BDDG!$A$2:$I$100,9,FALSE))","v":"CC18"},10,25,34.56,{"$f":"IF(ISERROR(VLOOKUP(C314,BDDG!$A$2:$J$100,10,FALSE)),\"\",VLOOKUP(C314,BDDG!$A$2:$J$100,10,FALSE))","v":"DD18"},null,null,"",112.32000000000001,3,2009,{"$f":"IFERROR(INDEX($V$2:V314,MATCH(H314&MAX(IF($H$1:H313=H314,$A$1:A313)),$H$2:H314&$A$2:A314,0))-V314,\"\")","v":-62.446829268292689}]
["2009-03-13",null,844,{"$f":"IF(ISNA(VLOOKUP(C315,BDDG!$A$2:$F$100,2,FALSE)),\"\",VLOOKUP(C315,BDDG!$A$2:$F$100,2,FALSE))","v":0},{"$f":"IF(ISNA(VLOOKUP(C315,BDDG!$A$3:$J$102,3,FALSE)),\"\",VLOOKUP(C315,BDDG!$A$3:$J$102,3,FALSE))","v":"B"},{"$f":"IF(ISNA(VLOOKUP(C315,BDDG!$A$3:$J$102,4,FALSE)),\"\",VLOOKUP(C315,BDDG!$A$3:$J$102,4,FALSE))","v":106},{"$f":"IF(ISNA(VLOOKUP(C315,BDDG!$A$2:$F$100,5,FALSE)),\"\",VLOOKUP(C315,BDDG!$A$2:$F$100,5,FALSE))","v":"A6"},{"$f":"IF(ISNA(VLOOKUP(C315,BDDG!$A$2:$F$100,6,FALSE)),\"\",VLOOKUP(C315,BDDG!$A$2:$F$100,6,FALSE))","v":"AA14"},{"$f":"IF(ISERROR(VLOOKUP(C315,BDDG!$A$2:$G$100,7,FALSE)),\"\",VLOOKUP(C315,BDDG!$A$2:$G$100,7,FALSE))","v":2},{"$f":"IF(ISERROR(VLOOKUP(C315,BDDG!$A$2:$H$100,8,FALSE)),\"\",VLOOKUP(C315,BDDG!$A$2:$H$100,8,FALSE))","v":"BB14"},10,10,86.4,{"$f":"IF(ISERROR(VLOOKUP(C315,BDDG!$A$2:$I$100,9,FALSE)),\"\",VLOOKUP(C315,BDDG!$A$2:$I$100,9,FALSE))","v":"CC14"},null,null,"",{"$f":"IF(ISERROR(VLOOKUP(C315,BDDG!$A$2:$J$100,10,FALSE)),\"\",VLOOKUP(C315,BDDG!$A$2:$J$100,10,FALSE))","v":"DD14"},null,null,"",86.4,3,2009,{"$f":"IFERROR(INDEX($V$2:V315,MATCH(H315&MAX(IF($H$1:H314=H315,$A$1:A314)),$H$2:H315&$A$2:A315,0))-V315,\"\")","v":9.6000000000000085}]
["2009-03-25",null,832,{"$f":"IF(ISNA(VLOOKUP(C316,BDDG!$A$2:$F$100,2,FALSE)),\"\",VLOOKUP(C316,BDDG!$A$2:$F$100,2,FALSE))","v":0},{"$f":"IF(ISNA(VLOOKUP(C316,BDDG!$A$3:$J$102,3,FALSE)),\"\",VLOOKUP(C316,BDDG!$A$3:$J$102,3,FALSE))","v":"A"},{"$f":"IF(ISNA(VLOOKUP(C316,BDDG!$A$3:$J$102,4,FALSE)),\"\",VLOOKUP(C316,BDDG!$A$3:$J$102,4,FALSE))","v":106},{"$f":"IF(ISNA(VLOOKUP(C316,BDDG!$A$2:$F$100,5,FALSE)),\"\",VLOOKUP(C316,BDDG!$A$2:$F$100,5,FALSE))","v":"A2"},{"$f":"IF(ISNA(VLOOKUP(C316,BDDG!$A$2:$F$100,6,FALSE)),\"\",VLOOKUP(C316,BDDG!$A$2:$F$100,6,FALSE))","v":"AA2"},{"$f":"IF(ISERROR(VLOOKUP(C316,BDDG!$A$2:$G$100,7,FALSE)),\"\",VLOOKUP(C316,BDDG!$A$2:$G$100,7,FALSE))","v":1},{"$f":"IF(ISERROR(VLOOKUP(C316,BDDG!$A$2:$H$100,8,FALSE)),\"\",VLOOKUP(C316,BDDG!$A$2:$H$100,8,FALSE))","v":"BB2"},10,5,172.8,{"$f":"IF(ISERROR(VLOOKUP(C316,BDDG!$A$2:$I$100,9,FALSE)),\"\",VLOOKUP(C316,BDDG!$A$2:$I$100,9,FALSE))","v":"CC2"},null,null,"",{"$f":"IF(ISERROR(VLOOKUP(C316,BDDG!$A$2:$J$100,10,FALSE)),\"\",VLOOKUP(C316,BDDG!$A$2:$J$100,10,FALSE))","v":"DD2"},null,null,"",172.8,3,2009,{"$f":"IFERROR(INDEX($V$2:V316,MATCH(H316&MAX(IF($H$1:H315=H316,$A$1:A315)),$H$2:H316&$A$2:A316,0))-V316,\"\")","v":-47.52000000000001}]
["2009-03-25",null,833,{"$f":"IF(ISNA(VLOOKUP(C317,BDDG!$A$2:$F$100,2,FALSE)),\"\",VLOOKUP(C317,BDDG!$A$2:$F$100,2,FALSE))","v":0},{"$f":"IF(ISNA(VLOOKUP(C317,BDDG!$A$3:$J$102,3,FALSE)),\"\",VLOOKUP(C317,BDDG!$A$3:$J$102,3,FALSE))","v":"A"},{"$f":"IF(ISNA(VLOOKUP(C317,BDDG!$A$3:$J$102,4,FALSE)),\"\",VLOOKUP(C317,BDDG!$A$3:$J$102,4,FALSE))","v":106},{"$f":"IF(ISNA(VLOOKUP(C317,BDDG!$A$2:$F$100,5,FALSE)),\"\",VLOOKUP(C317,BDDG!$A$2:$F$100,5,FALSE))","v":"A2"},{"$f":"IF(ISNA(VLOOKUP(C317,BDDG!$A$2:$F$100,6,FALSE)),\"\",VLOOKUP(C317,BDDG!$A$2:$F$100,6,FALSE))","v":"AA3"},{"$f":"IF(ISERROR(VLOOKUP(C317,BDDG!$A$2:$G$100,7,FALSE)),\"\",VLOOKUP(C317,BDDG!$A$2:$G$100,7,FALSE))","v":1},{"$f":"IF(ISERROR(VLOOKUP(C317,BDDG!$A$2:$H$100,8,FALSE)),\"\",VLOOKUP(C317,BDDG!$A$2:$H$100,8,FALSE))","v":"BB3"},10,5,172.8,{"$f":"IF(ISERROR(VLOOKUP(C317,BDDG!$A$2:$I$100,9,FALSE)),\"\",VLOOKUP(C317,BDDG!$A$2:$I$100,9,FALSE))","v":"CC3"},null,null,{"$f":" IF(ISERROR(O317/P317*86.4),\"\",O317/P317*86.4)","v":""},{"$f":"IF(ISERROR(VLOOKUP(C317,BDDG!$A$2:$J$100,10,FALSE)),\"\",VLOOKUP(C317,BDDG!$A$2:$J$100,10,FALSE))","v":"DD3"},null,null,"",172.8,3,2009,{"$f":"IFERROR(INDEX($V$2:V317,MATCH(H317&MAX(IF($H$1:H316=H317,$A$1:A316)),$H$2:H317&$A$2:A317,0))-V317,\"\")","v":-20.159999999999997}]
["2009-03-25",null,834,{"$f":"IF(ISNA(VLOOKUP(C318,BDDG!$A$2:$F$100,2,FALSE)),\"\",VLOOKUP(C318,BDDG!$A$2:$F$100,2,FALSE))","v":0},{"$f":"IF(ISNA(VLOOKUP(C318,BDDG!$A$3:$J$102,3,FALSE)),\"\",VLOOKUP(C318,BDDG!$A$3:$J$102,3,FALSE))","v":"A"},{"$f":"IF(ISNA(VLOOKUP(C318,BDDG!$A$3:$J$102,4,FALSE)),\"\",VLOOKUP(C318,BDDG!$A$3:$J$102,4,FALSE))","v":106},{"$f":"IF(ISNA(VLOOKUP(C318,BDDG!$A$2:$F$100,5,FALSE)),\"\",VLOOKUP(C318,BDDG!$A$2:$F$100,5,FALSE))","v":"A2"},{"$f":"IF(ISNA(VLOOKUP(C318,BDDG!$A$2:$F$100,6,FALSE)),\"\",VLOOKUP(C318,BDDG!$A$2:$F$100,6,FALSE))","v":"AA4"},{"$f":"IF(ISERROR(VLOOKUP(C318,BDDG!$A$2:$G$100,7,FALSE)),\"\",VLOOKUP(C318,BDDG!$A$2:$G$100,7,FALSE))","v":1},{"$f":"IF(ISERROR(VLOOKUP(C318,BDDG!$A$2:$H$100,8,FALSE)),\"\",VLOOKUP(C318,BDDG!$A$2:$H$100,8,FALSE))","v":"BB4"},10,23,37.565217391304351,{"$f":"IF(ISERROR(VLOOKUP(C318,BDDG!$A$2:$I$100,9,FALSE)),\"\",VLOOKUP(C318,BDDG!$A$2:$I$100,9,FALSE))","v":"CC4"},null,null,"",{"$f":"IF(ISERROR(VLOOKUP(C318,BDDG!$A$2:$J$100,10,FALSE)),\"\",VLOOKUP(C318,BDDG!$A$2:$J$100,10,FALSE))","v":"DD4"},null,null,"",37.565217391304351,3,2009,{"$f":"IFERROR(INDEX($V$2:V318,MATCH(H318&MAX(IF($H$1:H317=H318,$A$1:A317)),$H$2:H318&$A$2:A318,0))-V318,\"\")","v":20.03478260869565}]
["2009-04-16",null,835,{"$f":"IF(ISNA(VLOOKUP(C319,BDDG!$A$2:$F$100,2,FALSE)),\"\",VLOOKUP(C319,BDDG!$A$2:$F$100,2,FALSE))","v":0},{"$f":"IF(ISNA(VLOOKUP(C319,BDDG!$A$3:$J$102,3,FALSE)),\"\",VLOOKUP(C319,BDDG!$A$3:$J$102,3,FALSE))","v":"A"},{"$f":"IF(ISNA(VLOOKUP(C319,BDDG!$A$3:$J$102,4,FALSE)),\"\",VLOOKUP(C319,BDDG!$A$3:$J$102,4,FALSE))","v":106},{"$f":"IF(ISNA(VLOOKUP(C319,BDDG!$A$2:$F$100,5,FALSE)),\"\",VLOOKUP(C319,BDDG!$A$2:$F$100,5,FALSE))","v":"A3"},{"$f":"IF(ISNA(VLOOKUP(C319,BDDG!$A$2:$F$100,6,FALSE)),\"\",VLOOKUP(C319,BDDG!$A$2:$F$100,6,FALSE))","v":"AA5"},{"$f":"IF(ISERROR(VLOOKUP(C319,BDDG!$A$2:$G$100,7,FALSE)),\"\",VLOOKUP(C319,BDDG!$A$2:$G$100,7,FALSE))","v":1},{"$f":"IF(ISERROR(VLOOKUP(C319,BDDG!$A$2:$H$100,8,FALSE)),\"\",VLOOKUP(C319,BDDG!$A$2:$H$100,8,FALSE))","v":"BB5"},2,27,6.4,{"$f":"IF(ISERROR(VLOOKUP(C319,BDDG!$A$2:$I$100,9,FALSE)),\"\",VLOOKUP(C319,BDDG!$A$2:$I$100,9,FALSE))","v":"CC5"},null,null,"",{"$f":"IF(ISERROR(VLOOKUP(C319,BDDG!$A$2:$J$100,10,FALSE)),\"\",VLOOKUP(C319,BDDG!$A$2:$J$100,10,FALSE))","v":"DD5"},null,null,"",6.4,4,2009,{"$f":"IFERROR(INDEX($V$2:V319,MATCH(H319&MAX(IF($H$1:H318=H319,$A$1:A318)),$H$2:H319&$A$2:A319,0))-V319,\"\")","v":-2.2119243819680081}]
["2009-05-05",null,822,{"$f":"IF(ISNA(VLOOKUP(C320,BDDG!$A$2:$F$100,2,FALSE)),\"\",VLOOKUP(C320,BDDG!$A$2:$F$100,2,FALSE))","v":0},{"$f":"IF(ISNA(VLOOKUP(C320,BDDG!$A$3:$J$102,3,FALSE)),\"\",VLOOKUP(C320,BDDG!$A$3:$J$102,3,FALSE))","v":"A"},{"$f":"IF(ISNA(VLOOKUP(C320,BDDG!$A$3:$J$102,4,FALSE)),\"\",VLOOKUP(C320,BDDG!$A$3:$J$102,4,FALSE))","v":106},{"$f":"IF(ISNA(VLOOKUP(C320,BDDG!$A$2:$F$100,5,FALSE)),\"\",VLOOKUP(C320,BDDG!$A$2:$F$100,5,FALSE))","v":"A4"},{"$f":"IF(ISNA(VLOOKUP(C320,BDDG!$A$2:$F$100,6,FALSE)),\"\",VLOOKUP(C320,BDDG!$A$2:$F$100,6,FALSE))","v":"AA12"},{"$f":"IF(ISERROR(VLOOKUP(C320,BDDG!$A$2:$G$100,7,FALSE)),\"\",VLOOKUP(C320,BDDG!$A$2:$G$100,7,FALSE))","v":1},{"$f":"IF(ISERROR(VLOOKUP(C320,BDDG!$A$2:$H$100,8,FALSE)),\"\",VLOOKUP(C320,BDDG!$A$2:$H$100,8,FALSE))","v":"BB12"},10,9,96.000000000000014,{"$f":"IF(ISERROR(VLOOKUP(C320,BDDG!$A$2:$I$100,9,FALSE)),\"\",VLOOKUP(C320,BDDG!$A$2:$I$100,9,FALSE))","v":"CC12"},null,null,"",{"$f":"IF(ISERROR(VLOOKUP(C320,BDDG!$A$2:$J$100,10,FALSE)),\"\",VLOOKUP(C320,BDDG!$A$2:$J$100,10,FALSE))","v":"DD12"},null,null,"",96.000000000000014,5,2009,{"$f":"IFERROR(INDEX($V$2:V320,MATCH(H320&MAX(IF($H$1:H319=H320,$A$1:A319)),$H$2:H320&$A$2:A320,0))-V320,\"\")","v":-65.142857142857153}]
["2009-05-26",null,844,{"$f":"IF(ISNA(VLOOKUP(C321,BDDG!$A$2:$F$100,2,FALSE)),\"\",VLOOKUP(C321,BDDG!$A$2:$F$100,2,FALSE))","v":0},{"$f":"IF(ISNA(VLOOKUP(C321,BDDG!$A$3:$J$102,3,FALSE)),\"\",VLOOKUP(C321,BDDG!$A$3:$J$102,3,FALSE))","v":"B"},{"$f":"IF(ISNA(VLOOKUP(C321,BDDG!$A$3:$J$102,4,FALSE)),\"\",VLOOKUP(C321,BDDG!$A$3:$J$102,4,FALSE))","v":106},{"$f":"IF(ISNA(VLOOKUP(C321,BDDG!$A$2:$F$100,5,FALSE)),\"\",VLOOKUP(C321,BDDG!$A$2:$F$100,5,FALSE))","v":"A6"},{"$f":"IF(ISNA(VLOOKUP(C321,BDDG!$A$2:$F$100,6,FALSE)),\"\",VLOOKUP(C321,BDDG!$A$2:$F$100,6,FALSE))","v":"AA14"},{"$f":"IF(ISERROR(VLOOKUP(C321,BDDG!$A$2:$G$100,7,FALSE)),\"\",VLOOKUP(C321,BDDG!$A$2:$G$100,7,FALSE))","v":2},{"$f":"IF(ISERROR(VLOOKUP(C321,BDDG!$A$2:$H$100,8,FALSE)),\"\",VLOOKUP(C321,BDDG!$A$2:$H$100,8,FALSE))","v":"BB14"},8,10,69.12,{"$f":"IF(ISERROR(VLOOKUP(C321,BDDG!$A$2:$I$100,9,FALSE)),\"\",VLOOKUP(C321,BDDG!$A$2:$I$100,9,FALSE))","v":"CC14"},null,null,"",{"$f":"IF(ISERROR(VLOOKUP(C321,BDDG!$A$2:$J$100,10,FALSE)),\"\",VLOOKUP(C321,BDDG!$A$2:$J$100,10,FALSE))","v":"DD14"},null,null,"",69.12,5,2009,{"$f":"IFERROR(INDEX($V$2:V321,MATCH(H321&MAX(IF($H$1:H320=H321,$A$1:A320)),$H$2:H321&$A$2:A321,0))-V321,\"\")","v":17.28}]
["2009-06-08",null,862,{"$f":"IF(ISNA(VLOOKUP(C322,BDDG!$A$2:$F$100,2,FALSE)),\"\",VLOOKUP(C322,BDDG!$A$2:$F$100,2,FALSE))","v":0},{"$f":"IF(ISNA(VLOOKUP(C322,BDDG!$A$3:$J$102,3,FALSE)),\"\",VLOOKUP(C322,BDDG!$A$3:$J$102,3,FALSE))","v":"A"},{"$f":"IF(ISNA(VLOOKUP(C322,BDDG!$A$3:$J$102,4,FALSE)),\"\",VLOOKUP(C322,BDDG!$A$3:$J$102,4,FALSE))","v":106},{"$f":"IF(ISNA(VLOOKUP(C322,BDDG!$A$2:$F$100,5,FALSE)),\"\",VLOOKUP(C322,BDDG!$A$2:$F$100,5,FALSE))","v":"A12"},{"$f":"IF(ISNA(VLOOKUP(C322,BDDG!$A$2:$F$100,6,FALSE)),\"\",VLOOKUP(C322,BDDG!$A$2:$F$100,6,FALSE))","v":"AA34"},{"$f":"IF(ISERROR(VLOOKUP(C322,BDDG!$A$2:$G$100,7,FALSE)),\"\",VLOOKUP(C322,BDDG!$A$2:$G$100,7,FALSE))","v":1},{"$f":"IF(ISERROR(VLOOKUP(C322,BDDG!$A$2:$H$100,8,FALSE)),\"\",VLOOKUP(C322,BDDG!$A$2:$H$100,8,FALSE))","v":"BB34"},10,15,57.6,{"$f":"IF(ISERROR(VLOOKUP(C322,BDDG!$A$2:$I$100,9,FALSE)),\"\",VLOOKUP(C322,BDDG!$A$2:$I$100,9,FALSE))","v":"CC34"},null,null,"",{"$f":"IF(ISERROR(VLOOKUP(C322,BDDG!$A$2:$J$100,10,FALSE)),\"\",VLOOKUP(C322,BDDG!$A$2:$J$100,10,FALSE))","v":"DD34"},null,null,"",57.6,{"$f":"MONTH(A:A)","v":6},{"$f":"YEAR(A:A)","v":2009},{"$f":"IFERROR(INDEX($V$2:V322,MATCH(H322&MAX(IF($H$1:H321=H322,$A$1:A321)),$H$2:H322&$A$2:A322,0))-V322,\"\")","v":-14.399999999999999}]
["2009-06-08",null,856,{"$f":"IF(ISNA(VLOOKUP(C323,BDDG!$A$2:$F$100,2,FALSE)),\"\",VLOOKUP(C323,BDDG!$A$2:$F$100,2,FALSE))","v":0},{"$f":"IF(ISNA(VLOOKUP(C323,BDDG!$A$3:$J$102,3,FALSE)),\"\",VLOOKUP(C323,BDDG!$A$3:$J$102,3,FALSE))","v":"A"},{"$f":"IF(ISNA(VLOOKUP(C323,BDDG!$A$3:$J$102,4,FALSE)),\"\",VLOOKUP(C323,BDDG!$A$3:$J$102,4,FALSE))","v":106},{"$f":"IF(ISNA(VLOOKUP(C323,BDDG!$A$2:$F$100,5,FALSE)),\"\",VLOOKUP(C323,BDDG!$A$2:$F$100,5,FALSE))","v":"A9"},{"$f":"IF(ISNA(VLOOKUP(C323,BDDG!$A$2:$F$100,6,FALSE)),\"\",VLOOKUP(C323,BDDG!$A$2:$F$100,6,FALSE))","v":"AA27"},{"$f":"IF(ISERROR(VLOOKUP(C323,BDDG!$A$2:$G$100,7,FALSE)),\"\",VLOOKUP(C323,BDDG!$A$2:$G$100,7,FALSE))","v":2},{"$f":"IF(ISERROR(VLOOKUP(C323,BDDG!$A$2:$H$100,8,FALSE)),\"\",VLOOKUP(C323,BDDG!$A$2:$H$100,8,FALSE))","v":"BB27"},10,50,17.28,{"$f":"IF(ISERROR(VLOOKUP(C323,BDDG!$A$2:$I$100,9,FALSE)),\"\",VLOOKUP(C323,BDDG!$A$2:$I$100,9,FALSE))","v":"CC27"},15,7,185.14285714285714,{"$f":"IF(ISERROR(VLOOKUP(C323,BDDG!$A$2:$J$100,10,FALSE)),\"\",VLOOKUP(C323,BDDG!$A$2:$J$100,10,FALSE))","v":"DD27"},null,null,"",202.42285714285714,6,2009,{"$f":"IFERROR(INDEX($V$2:V323,MATCH(H323&MAX(IF($H$1:H322=H323,$A$1:A322)),$H$2:H323&$A$2:A323,0))-V323,\"\")","v":471.19058823529423}]
["2009-06-16",null,832,{"$f":"IF(ISNA(VLOOKUP(C324,BDDG!$A$2:$F$100,2,FALSE)),\"\",VLOOKUP(C324,BDDG!$A$2:$F$100,2,FALSE))","v":0},{"$f":"IF(ISNA(VLOOKUP(C324,BDDG!$A$3:$J$102,3,FALSE)),\"\",VLOOKUP(C324,BDDG!$A$3:$J$102,3,FALSE))","v":"A"},{"$f":"IF(ISNA(VLOOKUP(C324,BDDG!$A$3:$J$102,4,FALSE)),\"\",VLOOKUP(C324,BDDG!$A$3:$J$102,4,FALSE))","v":106},{"$f":"IF(ISNA(VLOOKUP(C324,BDDG!$A$2:$F$100,5,FALSE)),\"\",VLOOKUP(C324,BDDG!$A$2:$F$100,5,FALSE))","v":"A2"},{"$f":"IF(ISNA(VLOOKUP(C324,BDDG!$A$2:$F$100,6,FALSE)),\"\",VLOOKUP(C324,BDDG!$A$2:$F$100,6,FALSE))","v":"AA2"},{"$f":"IF(ISERROR(VLOOKUP(C324,BDDG!$A$2:$G$100,7,FALSE)),\"\",VLOOKUP(C324,BDDG!$A$2:$G$100,7,FALSE))","v":1},{"$f":"IF(ISERROR(VLOOKUP(C324,BDDG!$A$2:$H$100,8,FALSE)),\"\",VLOOKUP(C324,BDDG!$A$2:$H$100,8,FALSE))","v":"BB2"},10,13.21,65.404996214988643,{"$f":"IF(ISERROR(VLOOKUP(C324,BDDG!$A$2:$I$100,9,FALSE)),\"\",VLOOKUP(C324,BDDG!$A$2:$I$100,9,FALSE))","v":"CC2"},null,null,"",{"$f":"IF(ISERROR(VLOOKUP(C324,BDDG!$A$2:$J$100,10,FALSE)),\"\",VLOOKUP(C324,BDDG!$A$2:$J$100,10,FALSE))","v":"DD2"},null,null,"",65.404996214988643,6,2009,{"$f":"IFERROR(INDEX($V$2:V324,MATCH(H324&MAX(IF($H$1:H323=H324,$A$1:A323)),$H$2:H324&$A$2:A324,0))-V324,\"\")","v":107.39500378501137}]
["2009-06-16",null,833,{"$f":"IF(ISNA(VLOOKUP(C325,BDDG!$A$2:$F$100,2,FALSE)),\"\",VLOOKUP(C325,BDDG!$A$2:$F$100,2,FALSE))","v":0},{"$f":"IF(ISNA(VLOOKUP(C325,BDDG!$A$3:$J$102,3,FALSE)),\"\",VLOOKUP(C325,BDDG!$A$3:$J$102,3,FALSE))","v":"A"},{"$f":"IF(ISNA(VLOOKUP(C325,BDDG!$A$3:$J$102,4,FALSE)),\"\",VLOOKUP(C325,BDDG!$A$3:$J$102,4,FALSE))","v":106},{"$f":"IF(ISNA(VLOOKUP(C325,BDDG!$A$2:$F$100,5,FALSE)),\"\",VLOOKUP(C325,BDDG!$A$2:$F$100,5,FALSE))","v":"A2"},{"$f":"IF(ISNA(VLOOKUP(C325,BDDG!$A$2:$F$100,6,FALSE)),\"\",VLOOKUP(C325,BDDG!$A$2:$F$100,6,FALSE))","v":"AA3"},{"$f":"IF(ISERROR(VLOOKUP(C325,BDDG!$A$2:$G$100,7,FALSE)),\"\",VLOOKUP(C325,BDDG!$A$2:$G$100,7,FALSE))","v":1},{"$f":"IF(ISERROR(VLOOKUP(C325,BDDG!$A$2:$H$100,8,FALSE)),\"\",VLOOKUP(C325,BDDG!$A$2:$H$100,8,FALSE))","v":"BB3"},10,16.88,51.18483412322275,{"$f":"IF(ISERROR(VLOOKUP(C325,BDDG!$A$2:$I$100,9,FALSE)),\"\",VLOOKUP(C325,BDDG!$A$2:$I$100,9,FALSE))","v":"CC3"},null,null,"",{"$f":"IF(ISERROR(VLOOKUP(C325,BDDG!$A$2:$J$100,10,FALSE)),\"\",VLOOKUP(C325,BDDG!$A$2:$J$100,10,FALSE))","v":"DD3"},null,null,"",51.18483412322275,6,2009,{"$f":"IFERROR(INDEX($V$2:V325,MATCH(H325&MAX(IF($H$1:H324=H325,$A$1:A324)),$H$2:H325&$A$2:A325,0))-V325,\"\")","v":121.61516587677727}]
["2009-06-16",null,834,{"$f":"IF(ISNA(VLOOKUP(C326,BDDG!$A$2:$F$100,2,FALSE)),\"\",VLOOKUP(C326,BDDG!$A$2:$F$100,2,FALSE))","v":0},{"$f":"IF(ISNA(VLOOKUP(C326,BDDG!$A$3:$J$102,3,FALSE)),\"\",VLOOKUP(C326,BDDG!$A$3:$J$102,3,FALSE))","v":"A"},{"$f":"IF(ISNA(VLOOKUP(C326,BDDG!$A$3:$J$102,4,FALSE)),\"\",VLOOKUP(C326,BDDG!$A$3:$J$102,4,FALSE))","v":106},{"$f":"IF(ISNA(VLOOKUP(C326,BDDG!$A$2:$F$100,5,FALSE)),\"\",VLOOKUP(C326,BDDG!$A$2:$F$100,5,FALSE))","v":"A2"},{"$f":"IF(ISNA(VLOOKUP(C326,BDDG!$A$2:$F$100,6,FALSE)),\"\",VLOOKUP(C326,BDDG!$A$2:$F$100,6,FALSE))","v":"AA4"},{"$f":"IF(ISERROR(VLOOKUP(C326,BDDG!$A$2:$G$100,7,FALSE)),\"\",VLOOKUP(C326,BDDG!$A$2:$G$100,7,FALSE))","v":1},{"$f":"IF(ISERROR(VLOOKUP(C326,BDDG!$A$2:$H$100,8,FALSE)),\"\",VLOOKUP(C326,BDDG!$A$2:$H$100,8,FALSE))","v":"BB4"},10,34.43,25.094394423467911,{"$f":"IF(ISERROR(VLOOKUP(C326,BDDG!$A$2:$I$100,9,FALSE)),\"\",VLOOKUP(C326,BDDG!$A$2:$I$100,9,FALSE))","v":"CC4"},null,null,"",{"$f":"IF(ISERROR(VLOOKUP(C326,BDDG!$A$2:$J$100,10,FALSE)),\"\",VLOOKUP(C326,BDDG!$A$2:$J$100,10,FALSE))","v":"DD4"},null,null,"",25.094394423467911,6,2009,{"$f":"IFERROR(INDEX($V$2:V326,MATCH(H326&MAX(IF($H$1:H325=H326,$A$1:A325)),$H$2:H326&$A$2:A326,0))-V326,\"\")","v":12.47082296783644}]
["2009-06-16",null,842,{"$f":"IF(ISNA(VLOOKUP(C327,BDDG!$A$2:$F$100,2,FALSE)),\"\",VLOOKUP(C327,BDDG!$A$2:$F$100,2,FALSE))","v":0},{"$f":"IF(ISNA(VLOOKUP(C327,BDDG!$A$3:$J$102,3,FALSE)),\"\",VLOOKUP(C327,BDDG!$A$3:$J$102,3,FALSE))","v":"B"},{"$f":"IF(ISNA(VLOOKUP(C327,BDDG!$A$3:$J$102,4,FALSE)),\"\",VLOOKUP(C327,BDDG!$A$3:$J$102,4,FALSE))","v":106},{"$f":"IF(ISNA(VLOOKUP(C327,BDDG!$A$2:$F$100,5,FALSE)),\"\",VLOOKUP(C327,BDDG!$A$2:$F$100,5,FALSE))","v":"A5"},{"$f":"IF(ISNA(VLOOKUP(C327,BDDG!$A$2:$F$100,6,FALSE)),\"\",VLOOKUP(C327,BDDG!$A$2:$F$100,6,FALSE))","v":"AA13"},{"$f":"IF(ISERROR(VLOOKUP(C327,BDDG!$A$2:$G$100,7,FALSE)),\"\",VLOOKUP(C327,BDDG!$A$2:$G$100,7,FALSE))","v":1},{"$f":"IF(ISERROR(VLOOKUP(C327,BDDG!$A$2:$H$100,8,FALSE)),\"\",VLOOKUP(C327,BDDG!$A$2:$H$100,8,FALSE))","v":"BB13"},10,40,21.6,{"$f":"IF(ISERROR(VLOOKUP(C327,BDDG!$A$2:$I$100,9,FALSE)),\"\",VLOOKUP(C327,BDDG!$A$2:$I$100,9,FALSE))","v":"CC13"},null,null,"",{"$f":"IF(ISERROR(VLOOKUP(C327,BDDG!$A$2:$J$100,10,FALSE)),\"\",VLOOKUP(C327,BDDG!$A$2:$J$100,10,FALSE))","v":"DD13"},null,null,"",21.6,6,2009,{"$f":"IFERROR(INDEX($V$2:V327,MATCH(H327&MAX(IF($H$1:H326=H327,$A$1:A326)),$H$2:H327&$A$2:A327,0))-V327,\"\")","v":23.873684210526314}]
["2009-06-16",null,848,{"$f":"IF(ISNA(VLOOKUP(C328,BDDG!$A$2:$F$100,2,FALSE)),\"\",VLOOKUP(C328,BDDG!$A$2:$F$100,2,FALSE))","v":0},{"$f":"IF(ISNA(VLOOKUP(C328,BDDG!$A$3:$J$102,3,FALSE)),\"\",VLOOKUP(C328,BDDG!$A$3:$J$102,3,FALSE))","v":"B"},{"$f":"IF(ISNA(VLOOKUP(C328,BDDG!$A$3:$J$102,4,FALSE)),\"\",VLOOKUP(C328,BDDG!$A$3:$J$102,4,FALSE))","v":106},{"$f":"IF(ISNA(VLOOKUP(C328,BDDG!$A$2:$F$100,5,FALSE)),\"\",VLOOKUP(C328,BDDG!$A$2:$F$100,5,FALSE))","v":"A7"},{"$f":"IF(ISNA(VLOOKUP(C328,BDDG!$A$2:$F$100,6,FALSE)),\"\",VLOOKUP(C328,BDDG!$A$2:$F$100,6,FALSE))","v":"AA19"},{"$f":"IF(ISERROR(VLOOKUP(C328,BDDG!$A$2:$G$100,7,FALSE)),\"\",VLOOKUP(C328,BDDG!$A$2:$G$100,7,FALSE))","v":2},{"$f":"IF(ISERROR(VLOOKUP(C328,BDDG!$A$2:$H$100,8,FALSE)),\"\",VLOOKUP(C328,BDDG!$A$2:$H$100,8,FALSE))","v":"BB19"},10,70,12.342857142857143,{"$f":"IF(ISERROR(VLOOKUP(C328,BDDG!$A$2:$I$100,9,FALSE)),\"\",VLOOKUP(C328,BDDG!$A$2:$I$100,9,FALSE))","v":"CC19"},null,null,"",{"$f":"IF(ISERROR(VLOOKUP(C328,BDDG!$A$2:$J$100,10,FALSE)),\"\",VLOOKUP(C328,BDDG!$A$2:$J$100,10,FALSE))","v":"DD19"},null,null,"",12.342857142857143,6,2009,{"$f":"IFERROR(INDEX($V$2:V328,MATCH(H328&MAX(IF($H$1:H327=H328,$A$1:A327)),$H$2:H328&$A$2:A328,0))-V328,\"\")","v":65.417142857142863}]
["2009-06-16",null,847,{"$f":"IF(ISNA(VLOOKUP(C329,BDDG!$A$2:$F$100,2,FALSE)),\"\",VLOOKUP(C329,BDDG!$A$2:$F$100,2,FALSE))","v":0},{"$f":"IF(ISNA(VLOOKUP(C329,BDDG!$A$3:$J$102,3,FALSE)),\"\",VLOOKUP(C329,BDDG!$A$3:$J$102,3,FALSE))","v":"B"},{"$f":"IF(ISNA(VLOOKUP(C329,BDDG!$A$3:$J$102,4,FALSE)),\"\",VLOOKUP(C329,BDDG!$A$3:$J$102,4,FALSE))","v":106},{"$f":"IF(ISNA(VLOOKUP(C329,BDDG!$A$2:$F$100,5,FALSE)),\"\",VLOOKUP(C329,BDDG!$A$2:$F$100,5,FALSE))","v":"A7"},{"$f":"IF(ISNA(VLOOKUP(C329,BDDG!$A$2:$F$100,6,FALSE)),\"\",VLOOKUP(C329,BDDG!$A$2:$F$100,6,FALSE))","v":"AA18"},{"$f":"IF(ISERROR(VLOOKUP(C329,BDDG!$A$2:$G$100,7,FALSE)),\"\",VLOOKUP(C329,BDDG!$A$2:$G$100,7,FALSE))","v":2},{"$f":"IF(ISERROR(VLOOKUP(C329,BDDG!$A$2:$H$100,8,FALSE)),\"\",VLOOKUP(C329,BDDG!$A$2:$H$100,8,FALSE))","v":"BB18"},10,70,12.342857142857143,{"$f":"IF(ISERROR(VLOOKUP(C329,BDDG!$A$2:$I$100,9,FALSE)),\"\",VLOOKUP(C329,BDDG!$A$2:$I$100,9,FALSE))","v":"CC18"},10,100,8.64,{"$f":"IF(ISERROR(VLOOKUP(C329,BDDG!$A$2:$J$100,10,FALSE)),\"\",VLOOKUP(C329,BDDG!$A$2:$J$100,10,FALSE))","v":"DD18"},null,null,"",20.982857142857142,6,2009,{"$f":"IFERROR(INDEX($V$2:V329,MATCH(H329&MAX(IF($H$1:H328=H329,$A$1:A328)),$H$2:H329&$A$2:A329,0))-V329,\"\")","v":91.337142857142865}]
["2009-06-16",null,849,{"$f":"IF(ISNA(VLOOKUP(C330,BDDG!$A$2:$F$100,2,FALSE)),\"\",VLOOKUP(C330,BDDG!$A$2:$F$100,2,FALSE))","v":0},{"$f":"IF(ISNA(VLOOKUP(C330,BDDG!$A$3:$J$102,3,FALSE)),\"\",VLOOKUP(C330,BDDG!$A$3:$J$102,3,FALSE))","v":"B"},{"$f":"IF(ISNA(VLOOKUP(C330,BDDG!$A$3:$J$102,4,FALSE)),\"\",VLOOKUP(C330,BDDG!$A$3:$J$102,4,FALSE))","v":106},{"$f":"IF(ISNA(VLOOKUP(C330,BDDG!$A$2:$F$100,5,FALSE)),\"\",VLOOKUP(C330,BDDG!$A$2:$F$100,5,FALSE))","v":"A7"},{"$f":"IF(ISNA(VLOOKUP(C330,BDDG!$A$2:$F$100,6,FALSE)),\"\",VLOOKUP(C330,BDDG!$A$2:$F$100,6,FALSE))","v":"AA15"},{"$f":"IF(ISERROR(VLOOKUP(C330,BDDG!$A$2:$G$100,7,FALSE)),\"\",VLOOKUP(C330,BDDG!$A$2:$G$100,7,FALSE))","v":2},{"$f":"IF(ISERROR(VLOOKUP(C330,BDDG!$A$2:$H$100,8,FALSE)),\"\",VLOOKUP(C330,BDDG!$A$2:$H$100,8,FALSE))","v":"BB15"},10,44,19.636363636363637,{"$f":"IF(ISERROR(VLOOKUP(C330,BDDG!$A$2:$I$100,9,FALSE)),\"\",VLOOKUP(C330,BDDG!$A$2:$I$100,9,FALSE))","v":"CC15"},10,56,15.428571428571431,{"$f":"IF(ISERROR(VLOOKUP(C330,BDDG!$A$2:$J$100,10,FALSE)),\"\",VLOOKUP(C330,BDDG!$A$2:$J$100,10,FALSE))","v":"DD15"},null,null,"",35.064935064935071,6,2009,{"$f":"IFERROR(INDEX($V$2:V330,MATCH(H330&MAX(IF($H$1:H329=H330,$A$1:A329)),$H$2:H330&$A$2:A330,0))-V330,\"\")","v":34.368688286173551}]
["2009-06-16",null,852,{"$f":"IF(ISNA(VLOOKUP(C331,BDDG!$A$2:$F$100,2,FALSE)),\"\",VLOOKUP(C331,BDDG!$A$2:$F$100,2,FALSE))","v":0},{"$f":"IF(ISNA(VLOOKUP(C331,BDDG!$A$3:$J$102,3,FALSE)),\"\",VLOOKUP(C331,BDDG!$A$3:$J$102,3,FALSE))","v":"A"},{"$f":"IF(ISNA(VLOOKUP(C331,BDDG!$A$3:$J$102,4,FALSE)),\"\",VLOOKUP(C331,BDDG!$A$3:$J$102,4,FALSE))","v":106},{"$f":"IF(ISNA(VLOOKUP(C331,BDDG!$A$2:$F$100,5,FALSE)),\"\",VLOOKUP(C331,BDDG!$A$2:$F$100,5,FALSE))","v":"A9"},{"$f":"IF(ISNA(VLOOKUP(C331,BDDG!$A$2:$F$100,6,FALSE)),\"\",VLOOKUP(C331,BDDG!$A$2:$F$100,6,FALSE))","v":"AA22"},{"$f":"IF(ISERROR(VLOOKUP(C331,BDDG!$A$2:$G$100,7,FALSE)),\"\",VLOOKUP(C331,BDDG!$A$2:$G$100,7,FALSE))","v":1},{"$f":"IF(ISERROR(VLOOKUP(C331,BDDG!$A$2:$H$100,8,FALSE)),\"\",VLOOKUP(C331,BDDG!$A$2:$H$100,8,FALSE))","v":"BB22"},10,40.94,{"$f":" IF(ISERROR(K331/L331*86.4),\"\",K331/L331*86.4)","v":21.10405471421593},{"$f":"IF(ISERROR(VLOOKUP(C331,BDDG!$A$2:$I$100,9,FALSE)),\"\",VLOOKUP(C331,BDDG!$A$2:$I$100,9,FALSE))","v":"CC22"},null,null,"",{"$f":"IF(ISERROR(VLOOKUP(C331,BDDG!$A$2:$J$100,10,FALSE)),\"\",VLOOKUP(C331,BDDG!$A$2:$J$100,10,FALSE))","v":"DD22"},null,null,"",{"$f":"IF(ISERROR(SUM(M331,Q331,U331)),\"\",SUM(M331,Q331,U331))","v":21.10405471421593},6,2009,{"$f":"IFERROR(INDEX($V$2:V331,MATCH(H331&MAX(IF($H$1:H330=H331,$A$1:A330)),$H$2:H331&$A$2:A331,0))-V331,\"\")","v":-7.1685708432481885}]
["2009-06-17",null,844,{"$f":"IF(ISNA(VLOOKUP(C332,BDDG!$A$2:$F$100,2,FALSE)),\"\",VLOOKUP(C332,BDDG!$A$2:$F$100,2,FALSE))","v":0},{"$f":"IF(ISNA(VLOOKUP(C332,BDDG!$A$3:$J$102,3,FALSE)),\"\",VLOOKUP(C332,BDDG!$A$3:$J$102,3,FALSE))","v":"B"},{"$f":"IF(ISNA(VLOOKUP(C332,BDDG!$A$3:$J$102,4,FALSE)),\"\",VLOOKUP(C332,BDDG!$A$3:$J$102,4,FALSE))","v":106},{"$f":"IF(ISNA(VLOOKUP(C332,BDDG!$A$2:$F$100,5,FALSE)),\"\",VLOOKUP(C332,BDDG!$A$2:$F$100,5,FALSE))","v":"A6"},{"$f":"IF(ISNA(VLOOKUP(C332,BDDG!$A$2:$F$100,6,FALSE)),\"\",VLOOKUP(C332,BDDG!$A$2:$F$100,6,FALSE))","v":"AA14"},{"$f":"IF(ISERROR(VLOOKUP(C332,BDDG!$A$2:$G$100,7,FALSE)),\"\",VLOOKUP(C332,BDDG!$A$2:$G$100,7,FALSE))","v":2},{"$f":"IF(ISERROR(VLOOKUP(C332,BDDG!$A$2:$H$100,8,FALSE)),\"\",VLOOKUP(C332,BDDG!$A$2:$H$100,8,FALSE))","v":"BB14"},10,10,86.4,{"$f":"IF(ISERROR(VLOOKUP(C332,BDDG!$A$2:$I$100,9,FALSE)),\"\",VLOOKUP(C332,BDDG!$A$2:$I$100,9,FALSE))","v":"CC14"},null,null,"",{"$f":"IF(ISERROR(VLOOKUP(C332,BDDG!$A$2:$J$100,10,FALSE)),\"\",VLOOKUP(C332,BDDG!$A$2:$J$100,10,FALSE))","v":"DD14"},null,null,"",86.4,6,2009,{"$f":"IFERROR(INDEX($V$2:V332,MATCH(H332&MAX(IF($H$1:H331=H332,$A$1:A331)),$H$2:H332&$A$2:A332,0))-V332,\"\")","v":-17.28}]
["2009-06-17",null,844,{"$f":"IF(ISNA(VLOOKUP(C333,BDDG!$A$2:$F$100,2,FALSE)),\"\",VLOOKUP(C333,BDDG!$A$2:$F$100,2,FALSE))","v":0},{"$f":"IF(ISNA(VLOOKUP(C333,BDDG!$A$3:$J$102,3,FALSE)),\"\",VLOOKUP(C333,BDDG!$A$3:$J$102,3,FALSE))","v":"B"},{"$f":"IF(ISNA(VLOOKUP(C333,BDDG!$A$3:$J$102,4,FALSE)),\"\",VLOOKUP(C333,BDDG!$A$3:$J$102,4,FALSE))","v":106},{"$f":"IF(ISNA(VLOOKUP(C333,BDDG!$A$2:$F$100,5,FALSE)),\"\",VLOOKUP(C333,BDDG!$A$2:$F$100,5,FALSE))","v":"A6"},{"$f":"IF(ISNA(VLOOKUP(C333,BDDG!$A$2:$F$100,6,FALSE)),\"\",VLOOKUP(C333,BDDG!$A$2:$F$100,6,FALSE))","v":"AA14"},{"$f":"IF(ISERROR(VLOOKUP(C333,BDDG!$A$2:$G$100,7,FALSE)),\"\",VLOOKUP(C333,BDDG!$A$2:$G$100,7,FALSE))","v":2},{"$f":"IF(ISERROR(VLOOKUP(C333,BDDG!$A$2:$H$100,8,FALSE)),\"\",VLOOKUP(C333,BDDG!$A$2:$H$100,8,FALSE))","v":"BB14"},1,1,86.4,{"$f":"IF(ISERROR(VLOOKUP(C333,BDDG!$A$2:$I$100,9,FALSE)),\"\",VLOOKUP(C333,BDDG!$A$2:$I$100,9,FALSE))","v":"CC14"},null,null,"",{"$f":"IF(ISERROR(VLOOKUP(C333,BDDG!$A$2:$J$100,10,FALSE)),\"\",VLOOKUP(C333,BDDG!$A$2:$J$100,10,FALSE))","v":"DD14"},null,null,"",86.4,6,2009,{"$f":"IFERROR(INDEX($V$2:V333,MATCH(H333&MAX(IF($H$1:H332=H333,$A$1:A332)),$H$2:H333&$A$2:A333,0))-V333,\"\")","v":0}]
["2009-07-08",null,868,{"$f":"IF(ISNA(VLOOKUP(C334,BDDG!$A$2:$F$100,2,FALSE)),\"\",VLOOKUP(C334,BDDG!$A$2:$F$100,2,FALSE))","v":0},{"$f":"IF(ISNA(VLOOKUP(C334,BDDG!$A$3:$J$102,3,FALSE)),\"\",VLOOKUP(C334,BDDG!$A$3:$J$102,3,FALSE))","v":"A"},{"$f":"IF(ISNA(VLOOKUP(C334,BDDG!$A$3:$J$102,4,FALSE)),\"\",VLOOKUP(C334,BDDG!$A$3:$J$102,4,FALSE))","v":108},{"$f":"IF(ISNA(VLOOKUP(C334,BDDG!$A$2:$F$100,5,FALSE)),\"\",VLOOKUP(C334,BDDG!$A$2:$F$100,5,FALSE))","v":"A16"},{"$f":"IF(ISNA(VLOOKUP(C334,BDDG!$A$2:$F$100,6,FALSE)),\"\",VLOOKUP(C334,BDDG!$A$2:$F$100,6,FALSE))","v":"AA39"},{"$f":"IF(ISERROR(VLOOKUP(C334,BDDG!$A$2:$G$100,7,FALSE)),\"\",VLOOKUP(C334,BDDG!$A$2:$G$100,7,FALSE))","v":2},{"$f":"IF(ISERROR(VLOOKUP(C334,BDDG!$A$2:$H$100,8,FALSE)),\"\",VLOOKUP(C334,BDDG!$A$2:$H$100,8,FALSE))","v":"BB39"},12,60,17.28,{"$f":"IF(ISERROR(VLOOKUP(C334,BDDG!$A$2:$I$100,9,FALSE)),\"\",VLOOKUP(C334,BDDG!$A$2:$I$100,9,FALSE))","v":"CC39"},null,null,{"$f":" IF(ISERROR(O334/P334*86.4),\"\",O334/P334*86.4)","v":""},{"$f":"IF(ISERROR(VLOOKUP(C334,BDDG!$A$2:$J$100,10,FALSE)),\"\",VLOOKUP(C334,BDDG!$A$2:$J$100,10,FALSE))","v":"DD39"},null,null,"",17.28,7,2009,{"$f":"IFERROR(INDEX($V$2:V334,MATCH(H334&MAX(IF($H$1:H333=H334,$A$1:A333)),$H$2:H334&$A$2:A334,0))-V334,\"\")","v":0}]
["2009-07-08",null,870,{"$f":"IF(ISNA(VLOOKUP(C335,BDDG!$A$2:$F$100,2,FALSE)),\"\",VLOOKUP(C335,BDDG!$A$2:$F$100,2,FALSE))","v":0},{"$f":"IF(ISNA(VLOOKUP(C335,BDDG!$A$3:$J$102,3,FALSE)),\"\",VLOOKUP(C335,BDDG!$A$3:$J$102,3,FALSE))","v":"A"},{"$f":"IF(ISNA(VLOOKUP(C335,BDDG!$A$3:$J$102,4,FALSE)),\"\",VLOOKUP(C335,BDDG!$A$3:$J$102,4,FALSE))","v":108},{"$f":"IF(ISNA(VLOOKUP(C335,BDDG!$A$2:$F$100,5,FALSE)),\"\",VLOOKUP(C335,BDDG!$A$2:$F$100,5,FALSE))","v":"A16"},{"$f":"IF(ISNA(VLOOKUP(C335,BDDG!$A$2:$F$100,6,FALSE)),\"\",VLOOKUP(C335,BDDG!$A$2:$F$100,6,FALSE))","v":"AA41"},{"$f":"IF(ISERROR(VLOOKUP(C335,BDDG!$A$2:$G$100,7,FALSE)),\"\",VLOOKUP(C335,BDDG!$A$2:$G$100,7,FALSE))","v":2},{"$f":"IF(ISERROR(VLOOKUP(C335,BDDG!$A$2:$H$100,8,FALSE)),\"\",VLOOKUP(C335,BDDG!$A$2:$H$100,8,FALSE))","v":"BB41"},2,60,2.8800000000000003,{"$f":"IF(ISERROR(VLOOKUP(C335,BDDG!$A$2:$I$100,9,FALSE)),\"\",VLOOKUP(C335,BDDG!$A$2:$I$100,9,FALSE))","v":"CC41"},null,null,"",{"$f":"IF(ISERROR(VLOOKUP(C335,BDDG!$A$2:$J$100,10,FALSE)),\"\",VLOOKUP(C335,BDDG!$A$2:$J$100,10,FALSE))","v":"DD41"},null,null,"",2.8800000000000003,7,2009,{"$f":"IFERROR(INDEX($V$2:V335,MATCH(H335&MAX(IF($H$1:H334=H335,$A$1:A334)),$H$2:H335&$A$2:A335,0))-V335,\"\")","v":113.80719939518841}]
["2009-07-21",null,869,{"$f":"IF(ISNA(VLOOKUP(C336,BDDG!$A$2:$F$100,2,FALSE)),\"\",VLOOKUP(C336,BDDG!$A$2:$F$100,2,FALSE))","v":0},{"$f":"IF(ISNA(VLOOKUP(C336,BDDG!$A$3:$J$102,3,FALSE)),\"\",VLOOKUP(C336,BDDG!$A$3:$J$102,3,FALSE))","v":"A"},{"$f":"IF(ISNA(VLOOKUP(C336,BDDG!$A$3:$J$102,4,FALSE)),\"\",VLOOKUP(C336,BDDG!$A$3:$J$102,4,FALSE))","v":108},{"$f":"IF(ISNA(VLOOKUP(C336,BDDG!$A$2:$F$100,5,FALSE)),\"\",VLOOKUP(C336,BDDG!$A$2:$F$100,5,FALSE))","v":"A16"},{"$f":"IF(ISNA(VLOOKUP(C336,BDDG!$A$2:$F$100,6,FALSE)),\"\",VLOOKUP(C336,BDDG!$A$2:$F$100,6,FALSE))","v":"AA40"},{"$f":"IF(ISERROR(VLOOKUP(C336,BDDG!$A$2:$G$100,7,FALSE)),\"\",VLOOKUP(C336,BDDG!$A$2:$G$100,7,FALSE))","v":3},{"$f":"IF(ISERROR(VLOOKUP(C336,BDDG!$A$2:$H$100,8,FALSE)),\"\",VLOOKUP(C336,BDDG!$A$2:$H$100,8,FALSE))","v":"BB40"},2,90,1.9200000000000002,{"$f":"IF(ISERROR(VLOOKUP(C336,BDDG!$A$2:$I$100,9,FALSE)),\"\",VLOOKUP(C336,BDDG!$A$2:$I$100,9,FALSE))","v":"CC40"},null,null,"",{"$f":"IF(ISERROR(VLOOKUP(C336,BDDG!$A$2:$J$100,10,FALSE)),\"\",VLOOKUP(C336,BDDG!$A$2:$J$100,10,FALSE))","v":"DD40"},null,null,{"$f":" IF(ISERROR(S336/T336*86.4),\"\",S336/T336*86.4)","v":""},1.9200000000000002,7,2009,{"$f":"IFERROR(INDEX($V$2:V336,MATCH(H336&MAX(IF($H$1:H335=H336,$A$1:A335)),$H$2:H336&$A$2:A336,0))-V336,\"\")","v":329.28000000000003}]
["2009-07-23",null,837,{"$f":"IF(ISNA(VLOOKUP(C337,BDDG!$A$2:$F$100,2,FALSE)),\"\",VLOOKUP(C337,BDDG!$A$2:$F$100,2,FALSE))","v":0},{"$f":"IF(ISNA(VLOOKUP(C337,BDDG!$A$3:$J$102,3,FALSE)),\"\",VLOOKUP(C337,BDDG!$A$3:$J$102,3,FALSE))","v":"A"},{"$f":"IF(ISNA(VLOOKUP(C337,BDDG!$A$3:$J$102,4,FALSE)),\"\",VLOOKUP(C337,BDDG!$A$3:$J$102,4,FALSE))","v":106},{"$f":"IF(ISNA(VLOOKUP(C337,BDDG!$A$2:$F$100,5,FALSE)),\"\",VLOOKUP(C337,BDDG!$A$2:$F$100,5,FALSE))","v":"A3"},{"$f":"IF(ISNA(VLOOKUP(C337,BDDG!$A$2:$F$100,6,FALSE)),\"\",VLOOKUP(C337,BDDG!$A$2:$F$100,6,FALSE))","v":"AA7"},{"$f":"IF(ISERROR(VLOOKUP(C337,BDDG!$A$2:$G$100,7,FALSE)),\"\",VLOOKUP(C337,BDDG!$A$2:$G$100,7,FALSE))","v":1},{"$f":"IF(ISERROR(VLOOKUP(C337,BDDG!$A$2:$H$100,8,FALSE)),\"\",VLOOKUP(C337,BDDG!$A$2:$H$100,8,FALSE))","v":"BB7"},2,11.08,15.595667870036102,{"$f":"IF(ISERROR(VLOOKUP(C337,BDDG!$A$2:$I$100,9,FALSE)),\"\",VLOOKUP(C337,BDDG!$A$2:$I$100,9,FALSE))","v":"CC7"},null,null,"",{"$f":"IF(ISERROR(VLOOKUP(C337,BDDG!$A$2:$J$100,10,FALSE)),\"\",VLOOKUP(C337,BDDG!$A$2:$J$100,10,FALSE))","v":"DD7"},null,null,"",15.595667870036102,7,2009,{"$f":"IFERROR(INDEX($V$2:V337,MATCH(H337&MAX(IF($H$1:H336=H337,$A$1:A336)),$H$2:H337&$A$2:A337,0))-V337,\"\")","v":200.4043321299639}]
["2009-07-23",null,836,{"$f":"IF(ISNA(VLOOKUP(C338,BDDG!$A$2:$F$100,2,FALSE)),\"\",VLOOKUP(C338,BDDG!$A$2:$F$100,2,FALSE))","v":0},{"$f":"IF(ISNA(VLOOKUP(C338,BDDG!$A$3:$J$102,3,FALSE)),\"\",VLOOKUP(C338,BDDG!$A$3:$J$102,3,FALSE))","v":"A"},{"$f":"IF(ISNA(VLOOKUP(C338,BDDG!$A$3:$J$102,4,FALSE)),\"\",VLOOKUP(C338,BDDG!$A$3:$J$102,4,FALSE))","v":106},{"$f":"IF(ISNA(VLOOKUP(C338,BDDG!$A$2:$F$100,5,FALSE)),\"\",VLOOKUP(C338,BDDG!$A$2:$F$100,5,FALSE))","v":"A3"},{"$f":"IF(ISNA(VLOOKUP(C338,BDDG!$A$2:$F$100,6,FALSE)),\"\",VLOOKUP(C338,BDDG!$A$2:$F$100,6,FALSE))","v":"AA6"},{"$f":"IF(ISERROR(VLOOKUP(C338,BDDG!$A$2:$G$100,7,FALSE)),\"\",VLOOKUP(C338,BDDG!$A$2:$G$100,7,FALSE))","v":1},{"$f":"IF(ISERROR(VLOOKUP(C338,BDDG!$A$2:$H$100,8,FALSE)),\"\",VLOOKUP(C338,BDDG!$A$2:$H$100,8,FALSE))","v":"BB6"},2,6.1,28.327868852459019,{"$f":"IF(ISERROR(VLOOKUP(C338,BDDG!$A$2:$I$100,9,FALSE)),\"\",VLOOKUP(C338,BDDG!$A$2:$I$100,9,FALSE))","v":"CC6"},null,null,"",{"$f":"IF(ISERROR(VLOOKUP(C338,BDDG!$A$2:$J$100,10,FALSE)),\"\",VLOOKUP(C338,BDDG!$A$2:$J$100,10,FALSE))","v":"DD6"},null,null,"",28.327868852459019,7,2009,{"$f":"IFERROR(INDEX($V$2:V338,MATCH(H338&MAX(IF($H$1:H337=H338,$A$1:A337)),$H$2:H338&$A$2:A338,0))-V338,\"\")","v":144.47213114754101}]
["2009-07-28",null,831,{"$f":"IF(ISNA(VLOOKUP(C339,BDDG!$A$2:$F$100,2,FALSE)),\"\",VLOOKUP(C339,BDDG!$A$2:$F$100,2,FALSE))","v":0},{"$f":"IF(ISNA(VLOOKUP(C339,BDDG!$A$3:$J$102,3,FALSE)),\"\",VLOOKUP(C339,BDDG!$A$3:$J$102,3,FALSE))","v":"A"},{"$f":"IF(ISNA(VLOOKUP(C339,BDDG!$A$3:$J$102,4,FALSE)),\"\",VLOOKUP(C339,BDDG!$A$3:$J$102,4,FALSE))","v":106},{"$f":"IF(ISNA(VLOOKUP(C339,BDDG!$A$2:$F$100,5,FALSE)),\"\",VLOOKUP(C339,BDDG!$A$2:$F$100,5,FALSE))","v":"A1"},{"$f":"IF(ISNA(VLOOKUP(C339,BDDG!$A$2:$F$100,6,FALSE)),\"\",VLOOKUP(C339,BDDG!$A$2:$F$100,6,FALSE))","v":"AA1"},{"$f":"IF(ISERROR(VLOOKUP(C339,BDDG!$A$2:$G$100,7,FALSE)),\"\",VLOOKUP(C339,BDDG!$A$2:$G$100,7,FALSE))","v":1},{"$f":"IF(ISERROR(VLOOKUP(C339,BDDG!$A$2:$H$100,8,FALSE)),\"\",VLOOKUP(C339,BDDG!$A$2:$H$100,8,FALSE))","v":"BB1"},5,5.21,82.91746641074856,{"$f":"IF(ISERROR(VLOOKUP(C339,BDDG!$A$2:$I$100,9,FALSE)),\"\",VLOOKUP(C339,BDDG!$A$2:$I$100,9,FALSE))","v":"CC1"},null,null,"",{"$f":"IF(ISERROR(VLOOKUP(C339,BDDG!$A$2:$J$100,10,FALSE)),\"\",VLOOKUP(C339,BDDG!$A$2:$J$100,10,FALSE))","v":"DD1"},null,null,"",82.91746641074856,7,2009,{"$f":"IFERROR(INDEX($V$2:V339,MATCH(H339&MAX(IF($H$1:H338=H339,$A$1:A338)),$H$2:H339&$A$2:A339,0))-V339,\"\")","v":-5.8434253759582049}]
["2009-07-29",null,867,{"$f":"IF(ISNA(VLOOKUP(C340,BDDG!$A$2:$F$100,2,FALSE)),\"\",VLOOKUP(C340,BDDG!$A$2:$F$100,2,FALSE))","v":0},{"$f":"IF(ISNA(VLOOKUP(C340,BDDG!$A$3:$J$102,3,FALSE)),\"\",VLOOKUP(C340,BDDG!$A$3:$J$102,3,FALSE))","v":"C"},{"$f":"IF(ISNA(VLOOKUP(C340,BDDG!$A$3:$J$102,4,FALSE)),\"\",VLOOKUP(C340,BDDG!$A$3:$J$102,4,FALSE))","v":108},{"$f":"IF(ISNA(VLOOKUP(C340,BDDG!$A$2:$F$100,5,FALSE)),\"\",VLOOKUP(C340,BDDG!$A$2:$F$100,5,FALSE))","v":"A17"},{"$f":"IF(ISNA(VLOOKUP(C340,BDDG!$A$2:$F$100,6,FALSE)),\"\",VLOOKUP(C340,BDDG!$A$2:$F$100,6,FALSE))","v":"AA43"},{"$f":"IF(ISERROR(VLOOKUP(C340,BDDG!$A$2:$G$100,7,FALSE)),\"\",VLOOKUP(C340,BDDG!$A$2:$G$100,7,FALSE))","v":1},{"$f":"IF(ISERROR(VLOOKUP(C340,BDDG!$A$2:$H$100,8,FALSE)),\"\",VLOOKUP(C340,BDDG!$A$2:$H$100,8,FALSE))","v":"BB43"},10,15,57.6,{"$f":"IF(ISERROR(VLOOKUP(C340,BDDG!$A$2:$I$100,9,FALSE)),\"\",VLOOKUP(C340,BDDG!$A$2:$I$100,9,FALSE))","v":"CC43"},null,null,null,{"$f":"IF(ISERROR(VLOOKUP(C340,BDDG!$A$2:$J$100,10,FALSE)),\"\",VLOOKUP(C340,BDDG!$A$2:$J$100,10,FALSE))","v":"DD43"},null,null,"",57.6,7,2009,{"$f":"IFERROR(INDEX($V$2:V340,MATCH(H340&MAX(IF($H$1:H339=H340,$A$1:A339)),$H$2:H340&$A$2:A340,0))-V340,\"\")","v":""}]
["2009-07-29",null,860,{"$f":"IF(ISNA(VLOOKUP(C341,BDDG!$A$2:$F$100,2,FALSE)),\"\",VLOOKUP(C341,BDDG!$A$2:$F$100,2,FALSE))","v":0},{"$f":"IF(ISNA(VLOOKUP(C341,BDDG!$A$3:$J$102,3,FALSE)),\"\",VLOOKUP(C341,BDDG!$A$3:$J$102,3,FALSE))","v":"A"},{"$f":"IF(ISNA(VLOOKUP(C341,BDDG!$A$3:$J$102,4,FALSE)),\"\",VLOOKUP(C341,BDDG!$A$3:$J$102,4,FALSE))","v":106},{"$f":"IF(ISNA(VLOOKUP(C341,BDDG!$A$2:$F$100,5,FALSE)),\"\",VLOOKUP(C341,BDDG!$A$2:$F$100,5,FALSE))","v":"A11"},{"$f":"IF(ISNA(VLOOKUP(C341,BDDG!$A$2:$F$100,6,FALSE)),\"\",VLOOKUP(C341,BDDG!$A$2:$F$100,6,FALSE))","v":"AA32"},{"$f":"IF(ISERROR(VLOOKUP(C341,BDDG!$A$2:$G$100,7,FALSE)),\"\",VLOOKUP(C341,BDDG!$A$2:$G$100,7,FALSE))","v":2},{"$f":"IF(ISERROR(VLOOKUP(C341,BDDG!$A$2:$H$100,8,FALSE)),\"\",VLOOKUP(C341,BDDG!$A$2:$H$100,8,FALSE))","v":"BB32"},10,13,66.461538461538467,{"$f":"IF(ISERROR(VLOOKUP(C341,BDDG!$A$2:$I$100,9,FALSE)),\"\",VLOOKUP(C341,BDDG!$A$2:$I$100,9,FALSE))","v":"CC32"},null,null,{"$f":" IF(ISERROR(O341/P341*86.4),\"\",O341/P341*86.4)","v":""},{"$f":"IF(ISERROR(VLOOKUP(C341,BDDG!$A$2:$J$100,10,FALSE)),\"\",VLOOKUP(C341,BDDG!$A$2:$J$100,10,FALSE))","v":"DD32"},null,null,"",66.461538461538467,7,2009,{"$f":"IFERROR(INDEX($V$2:V341,MATCH(H341&MAX(IF($H$1:H340=H341,$A$1:A340)),$H$2:H341&$A$2:A341,0))-V341,\"\")","v":19.938461538461539}]
["2009-07-29",null,847,{"$f":"IF(ISNA(VLOOKUP(C342,BDDG!$A$2:$F$100,2,FALSE)),\"\",VLOOKUP(C342,BDDG!$A$2:$F$100,2,FALSE))","v":0},{"$f":"IF(ISNA(VLOOKUP(C342,BDDG!$A$3:$J$102,3,FALSE)),\"\",VLOOKUP(C342,BDDG!$A$3:$J$102,3,FALSE))","v":"B"},{"$f":"IF(ISNA(VLOOKUP(C342,BDDG!$A$3:$J$102,4,FALSE)),\"\",VLOOKUP(C342,BDDG!$A$3:$J$102,4,FALSE))","v":106},{"$f":"IF(ISNA(VLOOKUP(C342,BDDG!$A$2:$F$100,5,FALSE)),\"\",VLOOKUP(C342,BDDG!$A$2:$F$100,5,FALSE))","v":"A7"},{"$f":"IF(ISNA(VLOOKUP(C342,BDDG!$A$2:$F$100,6,FALSE)),\"\",VLOOKUP(C342,BDDG!$A$2:$F$100,6,FALSE))","v":"AA18"},{"$f":"IF(ISERROR(VLOOKUP(C342,BDDG!$A$2:$G$100,7,FALSE)),\"\",VLOOKUP(C342,BDDG!$A$2:$G$100,7,FALSE))","v":2},{"$f":"IF(ISERROR(VLOOKUP(C342,BDDG!$A$2:$H$100,8,FALSE)),\"\",VLOOKUP(C342,BDDG!$A$2:$H$100,8,FALSE))","v":"BB18"},1,33,2.6181818181818186,{"$f":"IF(ISERROR(VLOOKUP(C342,BDDG!$A$2:$I$100,9,FALSE)),\"\",VLOOKUP(C342,BDDG!$A$2:$I$100,9,FALSE))","v":"CC18"},10,112,{"$f":" IF(ISERROR(O342/P342*86.4),\"\",O342/P342*86.4)","v":7.7142857142857153},{"$f":"IF(ISERROR(VLOOKUP(C342,BDDG!$A$2:$J$100,10,FALSE)),\"\",VLOOKUP(C342,BDDG!$A$2:$J$100,10,FALSE))","v":"DD18"},null,null,"",10.332467532467534,7,2009,{"$f":"IFERROR(INDEX($V$2:V342,MATCH(H342&MAX(IF($H$1:H341=H342,$A$1:A341)),$H$2:H342&$A$2:A342,0))-V342,\"\")","v":10.650389610389608}]
["2009-07-29",null,866,{"$f":"IF(ISNA(VLOOKUP(C343,BDDG!$A$2:$F$100,2,FALSE)),\"\",VLOOKUP(C343,BDDG!$A$2:$F$100,2,FALSE))","v":0},{"$f":"IF(ISNA(VLOOKUP(C343,BDDG!$A$3:$J$102,3,FALSE)),\"\",VLOOKUP(C343,BDDG!$A$3:$J$102,3,FALSE))","v":"C"},{"$f":"IF(ISNA(VLOOKUP(C343,BDDG!$A$3:$J$102,4,FALSE)),\"\",VLOOKUP(C343,BDDG!$A$3:$J$102,4,FALSE))","v":108},{"$f":"IF(ISNA(VLOOKUP(C343,BDDG!$A$2:$F$100,5,FALSE)),\"\",VLOOKUP(C343,BDDG!$A$2:$F$100,5,FALSE))","v":"A17"},{"$f":"IF(ISNA(VLOOKUP(C343,BDDG!$A$2:$F$100,6,FALSE)),\"\",VLOOKUP(C343,BDDG!$A$2:$F$100,6,FALSE))","v":"AA42"},{"$f":"IF(ISERROR(VLOOKUP(C343,BDDG!$A$2:$G$100,7,FALSE)),\"\",VLOOKUP(C343,BDDG!$A$2:$G$100,7,FALSE))","v":1},{"$f":"IF(ISERROR(VLOOKUP(C343,BDDG!$A$2:$H$100,8,FALSE)),\"\",VLOOKUP(C343,BDDG!$A$2:$H$100,8,FALSE))","v":"BB42"},1.5,1,129.60000000000002,{"$f":"IF(ISERROR(VLOOKUP(C343,BDDG!$A$2:$I$100,9,FALSE)),\"\",VLOOKUP(C343,BDDG!$A$2:$I$100,9,FALSE))","v":"CC42"},null,null,null,{"$f":"IF(ISERROR(VLOOKUP(C343,BDDG!$A$2:$J$100,10,FALSE)),\"\",VLOOKUP(C343,BDDG!$A$2:$J$100,10,FALSE))","v":"DD42"},null,null,"",129.60000000000002,7,2009,{"$f":"IFERROR(INDEX($V$2:V343,MATCH(H343&MAX(IF($H$1:H342=H343,$A$1:A342)),$H$2:H343&$A$2:A343,0))-V343,\"\")","v":""}]
["2009-07-29",null,861,{"$f":"IF(ISNA(VLOOKUP(C344,BDDG!$A$2:$F$100,2,FALSE)),\"\",VLOOKUP(C344,BDDG!$A$2:$F$100,2,FALSE))","v":0},{"$f":"IF(ISNA(VLOOKUP(C344,BDDG!$A$3:$J$102,3,FALSE)),\"\",VLOOKUP(C344,BDDG!$A$3:$J$102,3,FALSE))","v":"A"},{"$f":"IF(ISNA(VLOOKUP(C344,BDDG!$A$3:$J$102,4,FALSE)),\"\",VLOOKUP(C344,BDDG!$A$3:$J$102,4,FALSE))","v":106},{"$f":"IF(ISNA(VLOOKUP(C344,BDDG!$A$2:$F$100,5,FALSE)),\"\",VLOOKUP(C344,BDDG!$A$2:$F$100,5,FALSE))","v":"A11"},{"$f":"IF(ISNA(VLOOKUP(C344,BDDG!$A$2:$F$100,6,FALSE)),\"\",VLOOKUP(C344,BDDG!$A$2:$F$100,6,FALSE))","v":"AA33"},{"$f":"IF(ISERROR(VLOOKUP(C344,BDDG!$A$2:$G$100,7,FALSE)),\"\",VLOOKUP(C344,BDDG!$A$2:$G$100,7,FALSE))","v":2},{"$f":"IF(ISERROR(VLOOKUP(C344,BDDG!$A$2:$H$100,8,FALSE)),\"\",VLOOKUP(C344,BDDG!$A$2:$H$100,8,FALSE))","v":"BB33"},null,null,null,{"$f":"IF(ISERROR(VLOOKUP(C344,BDDG!$A$2:$I$100,9,FALSE)),\"\",VLOOKUP(C344,BDDG!$A$2:$I$100,9,FALSE))","v":"CC33"},10,5,{"$f":" IF(ISERROR(O344/P344*86.4),\"\",O344/P344*86.4)","v":172.8},{"$f":"IF(ISERROR(VLOOKUP(C344,BDDG!$A$2:$J$100,10,FALSE)),\"\",VLOOKUP(C344,BDDG!$A$2:$J$100,10,FALSE))","v":"DD33"},null,null,"",{"$f":"IF(ISERROR(SUM(M344,Q344,U344)),\"\",SUM((M344,Q344,U344)))","v":172.8},7,2009,{"$f":"IFERROR(INDEX($V$2:V344,MATCH(H344&MAX(IF($H$1:H343=H344,$A$1:A343)),$H$2:H344&$A$2:A344,0))-V344,\"\")","v":58.75200000000001}]
["2009-07-29",null,862,{"$f":"IF(ISNA(VLOOKUP(C345,BDDG!$A$2:$F$100,2,FALSE)),\"\",VLOOKUP(C345,BDDG!$A$2:$F$100,2,FALSE))","v":0},{"$f":"IF(ISNA(VLOOKUP(C345,BDDG!$A$3:$J$102,3,FALSE)),\"\",VLOOKUP(C345,BDDG!$A$3:$J$102,3,FALSE))","v":"A"},{"$f":"IF(ISNA(VLOOKUP(C345,BDDG!$A$3:$J$102,4,FALSE)),\"\",VLOOKUP(C345,BDDG!$A$3:$J$102,4,FALSE))","v":106},{"$f":"IF(ISNA(VLOOKUP(C345,BDDG!$A$2:$F$100,5,FALSE)),\"\",VLOOKUP(C345,BDDG!$A$2:$F$100,5,FALSE))","v":"A12"},{"$f":"IF(ISNA(VLOOKUP(C345,BDDG!$A$2:$F$100,6,FALSE)),\"\",VLOOKUP(C345,BDDG!$A$2:$F$100,6,FALSE))","v":"AA34"},{"$f":"IF(ISERROR(VLOOKUP(C345,BDDG!$A$2:$G$100,7,FALSE)),\"\",VLOOKUP(C345,BDDG!$A$2:$G$100,7,FALSE))","v":1},{"$f":"IF(ISERROR(VLOOKUP(C345,BDDG!$A$2:$H$100,8,FALSE)),\"\",VLOOKUP(C345,BDDG!$A$2:$H$100,8,FALSE))","v":"BB34"},10,15,{"$f":" IF(ISERROR(K345/L345*86.4),\"\",K345/L345*86.4)","v":57.6},{"$f":"IF(ISERROR(VLOOKUP(C345,BDDG!$A$2:$I$100,9,FALSE)),\"\",VLOOKUP(C345,BDDG!$A$2:$I$100,9,FALSE))","v":"CC34"},null,null,"",{"$f":"IF(ISERROR(VLOOKUP(C345,BDDG!$A$2:$J$100,10,FALSE)),\"\",VLOOKUP(C345,BDDG!$A$2:$J$100,10,FALSE))","v":"DD34"},null,null,"",{"$f":"IF(ISERROR(SUM(M345,Q345,U345)),\"\",SUM(M345,Q345,U345))","v":57.6},7,2009,{"$f":"IFERROR(INDEX($V$2:V345,MATCH(H345&MAX(IF($H$1:H344=H345,$A$1:A344)),$H$2:H345&$A$2:A345,0))-V345,\"\")","v":0}]
["2009-07-29",null,844,{"$f":"IF(ISNA(VLOOKUP(C346,BDDG!$A$2:$F$100,2,FALSE)),\"\",VLOOKUP(C346,BDDG!$A$2:$F$100,2,FALSE))","v":0},{"$f":"IF(ISNA(VLOOKUP(C346,BDDG!$A$3:$J$102,3,FALSE)),\"\",VLOOKUP(C346,BDDG!$A$3:$J$102,3,FALSE))","v":"B"},{"$f":"IF(ISNA(VLOOKUP(C346,BDDG!$A$3:$J$102,4,FALSE)),\"\",VLOOKUP(C346,BDDG!$A$3:$J$102,4,FALSE))","v":106},{"$f":"IF(ISNA(VLOOKUP(C346,BDDG!$A$2:$F$100,5,FALSE)),\"\",VLOOKUP(C346,BDDG!$A$2:$F$100,5,FALSE))","v":"A6"},{"$f":"IF(ISNA(VLOOKUP(C346,BDDG!$A$2:$F$100,6,FALSE)),\"\",VLOOKUP(C346,BDDG!$A$2:$F$100,6,FALSE))","v":"AA14"},{"$f":"IF(ISERROR(VLOOKUP(C346,BDDG!$A$2:$G$100,7,FALSE)),\"\",VLOOKUP(C346,BDDG!$A$2:$G$100,7,FALSE))","v":2},{"$f":"IF(ISERROR(VLOOKUP(C346,BDDG!$A$2:$H$100,8,FALSE)),\"\",VLOOKUP(C346,BDDG!$A$2:$H$100,8,FALSE))","v":"BB14"},1,1,86.4,{"$f":"IF(ISERROR(VLOOKUP(C346,BDDG!$A$2:$I$100,9,FALSE)),\"\",VLOOKUP(C346,BDDG!$A$2:$I$100,9,FALSE))","v":"CC14"},null,null,"",{"$f":"IF(ISERROR(VLOOKUP(C346,BDDG!$A$2:$J$100,10,FALSE)),\"\",VLOOKUP(C346,BDDG!$A$2:$J$100,10,FALSE))","v":"DD14"},null,null,"",86.4,7,2009,{"$f":"IFERROR(INDEX($V$2:V346,MATCH(H346&MAX(IF($H$1:H345=H346,$A$1:A345)),$H$2:H346&$A$2:A346,0))-V346,\"\")","v":0}]
["2009-08-10",null,852,{"$f":"IF(ISNA(VLOOKUP(C347,BDDG!$A$2:$F$100,2,FALSE)),\"\",VLOOKUP(C347,BDDG!$A$2:$F$100,2,FALSE))","v":0},{"$f":"IF(ISNA(VLOOKUP(C347,BDDG!$A$3:$J$102,3,FALSE)),\"\",VLOOKUP(C347,BDDG!$A$3:$J$102,3,FALSE))","v":"A"},{"$f":"IF(ISNA(VLOOKUP(C347,BDDG!$A$3:$J$102,4,FALSE)),\"\",VLOOKUP(C347,BDDG!$A$3:$J$102,4,FALSE))","v":106},{"$f":"IF(ISNA(VLOOKUP(C347,BDDG!$A$2:$F$100,5,FALSE)),\"\",VLOOKUP(C347,BDDG!$A$2:$F$100,5,FALSE))","v":"A9"},{"$f":"IF(ISNA(VLOOKUP(C347,BDDG!$A$2:$F$100,6,FALSE)),\"\",VLOOKUP(C347,BDDG!$A$2:$F$100,6,FALSE))","v":"AA22"},{"$f":"IF(ISERROR(VLOOKUP(C347,BDDG!$A$2:$G$100,7,FALSE)),\"\",VLOOKUP(C347,BDDG!$A$2:$G$100,7,FALSE))","v":1},{"$f":"IF(ISERROR(VLOOKUP(C347,BDDG!$A$2:$H$100,8,FALSE)),\"\",VLOOKUP(C347,BDDG!$A$2:$H$100,8,FALSE))","v":"BB22"},5,34,12.705882352941178,{"$f":"IF(ISERROR(VLOOKUP(C347,BDDG!$A$2:$I$100,9,FALSE)),\"\",VLOOKUP(C347,BDDG!$A$2:$I$100,9,FALSE))","v":"CC22"},null,null,"",{"$f":"IF(ISERROR(VLOOKUP(C347,BDDG!$A$2:$J$100,10,FALSE)),\"\",VLOOKUP(C347,BDDG!$A$2:$J$100,10,FALSE))","v":"DD22"},null,null,"",12.705882352941178,8,2009,{"$f":"IFERROR(INDEX($V$2:V347,MATCH(H347&MAX(IF($H$1:H346=H347,$A$1:A346)),$H$2:H347&$A$2:A347,0))-V347,\"\")","v":8.398172361274753}]
["2009-08-21",null,839,{"$f":"IF(ISNA(VLOOKUP(C348,BDDG!$A$2:$F$100,2,FALSE)),\"\",VLOOKUP(C348,BDDG!$A$2:$F$100,2,FALSE))","v":0},{"$f":"IF(ISNA(VLOOKUP(C348,BDDG!$A$3:$J$102,3,FALSE)),\"\",VLOOKUP(C348,BDDG!$A$3:$J$102,3,FALSE))","v":"A"},{"$f":"IF(ISNA(VLOOKUP(C348,BDDG!$A$3:$J$102,4,FALSE)),\"\",VLOOKUP(C348,BDDG!$A$3:$J$102,4,FALSE))","v":106},{"$f":"IF(ISNA(VLOOKUP(C348,BDDG!$A$2:$F$100,5,FALSE)),\"\",VLOOKUP(C348,BDDG!$A$2:$F$100,5,FALSE))","v":"A3"},{"$f":"IF(ISNA(VLOOKUP(C348,BDDG!$A$2:$F$100,6,FALSE)),\"\",VLOOKUP(C348,BDDG!$A$2:$F$100,6,FALSE))","v":"AA10"},{"$f":"IF(ISERROR(VLOOKUP(C348,BDDG!$A$2:$G$100,7,FALSE)),\"\",VLOOKUP(C348,BDDG!$A$2:$G$100,7,FALSE))","v":2},{"$f":"IF(ISERROR(VLOOKUP(C348,BDDG!$A$2:$H$100,8,FALSE)),\"\",VLOOKUP(C348,BDDG!$A$2:$H$100,8,FALSE))","v":"BB10"},5,14,30.857142857142861,{"$f":"IF(ISERROR(VLOOKUP(C348,BDDG!$A$2:$I$100,9,FALSE)),\"\",VLOOKUP(C348,BDDG!$A$2:$I$100,9,FALSE))","v":"CC10"},null,null,"",{"$f":"IF(ISERROR(VLOOKUP(C348,BDDG!$A$2:$J$100,10,FALSE)),\"\",VLOOKUP(C348,BDDG!$A$2:$J$100,10,FALSE))","v":"DD10"},null,null,"",30.857142857142861,8,2009,{"$f":"IFERROR(INDEX($V$2:V348,MATCH(H348&MAX(IF($H$1:H347=H348,$A$1:A347)),$H$2:H348&$A$2:A348,0))-V348,\"\")","v":84.342857142857142}]
["2009-08-21",null,838,{"$f":"IF(ISNA(VLOOKUP(C349,BDDG!$A$2:$F$100,2,FALSE)),\"\",VLOOKUP(C349,BDDG!$A$2:$F$100,2,FALSE))","v":0},{"$f":"IF(ISNA(VLOOKUP(C349,BDDG!$A$3:$J$102,3,FALSE)),\"\",VLOOKUP(C349,BDDG!$A$3:$J$102,3,FALSE))","v":"A"},{"$f":"IF(ISNA(VLOOKUP(C349,BDDG!$A$3:$J$102,4,FALSE)),\"\",VLOOKUP(C349,BDDG!$A$3:$J$102,4,FALSE))","v":106},{"$f":"IF(ISNA(VLOOKUP(C349,BDDG!$A$2:$F$100,5,FALSE)),\"\",VLOOKUP(C349,BDDG!$A$2:$F$100,5,FALSE))","v":"A3"},{"$f":"IF(ISNA(VLOOKUP(C349,BDDG!$A$2:$F$100,6,FALSE)),\"\",VLOOKUP(C349,BDDG!$A$2:$F$100,6,FALSE))","v":"AA8"},{"$f":"IF(ISERROR(VLOOKUP(C349,BDDG!$A$2:$G$100,7,FALSE)),\"\",VLOOKUP(C349,BDDG!$A$2:$G$100,7,FALSE))","v":1},{"$f":"IF(ISERROR(VLOOKUP(C349,BDDG!$A$2:$H$100,8,FALSE)),\"\",VLOOKUP(C349,BDDG!$A$2:$H$100,8,FALSE))","v":"BB8"},3,60,4.32,{"$f":"IF(ISERROR(VLOOKUP(C349,BDDG!$A$2:$I$100,9,FALSE)),\"\",VLOOKUP(C349,BDDG!$A$2:$I$100,9,FALSE))","v":"CC8"},null,null,"",{"$f":"IF(ISERROR(VLOOKUP(C349,BDDG!$A$2:$J$100,10,FALSE)),\"\",VLOOKUP(C349,BDDG!$A$2:$J$100,10,FALSE))","v":"DD8"},null,null,"",4.32,8,2009,{"$f":"IFERROR(INDEX($V$2:V349,MATCH(H349&MAX(IF($H$1:H348=H349,$A$1:A348)),$H$2:H349&$A$2:A349,0))-V349,\"\")","v":10.576551724137932}]
["2009-08-21",null,836,{"$f":"IF(ISNA(VLOOKUP(C350,BDDG!$A$2:$F$100,2,FALSE)),\"\",VLOOKUP(C350,BDDG!$A$2:$F$100,2,FALSE))","v":0},{"$f":"IF(ISNA(VLOOKUP(C350,BDDG!$A$3:$J$102,3,FALSE)),\"\",VLOOKUP(C350,BDDG!$A$3:$J$102,3,FALSE))","v":"A"},{"$f":"IF(ISNA(VLOOKUP(C350,BDDG!$A$3:$J$102,4,FALSE)),\"\",VLOOKUP(C350,BDDG!$A$3:$J$102,4,FALSE))","v":106},{"$f":"IF(ISNA(VLOOKUP(C350,BDDG!$A$2:$F$100,5,FALSE)),\"\",VLOOKUP(C350,BDDG!$A$2:$F$100,5,FALSE))","v":"A3"},{"$f":"IF(ISNA(VLOOKUP(C350,BDDG!$A$2:$F$100,6,FALSE)),\"\",VLOOKUP(C350,BDDG!$A$2:$F$100,6,FALSE))","v":"AA6"},{"$f":"IF(ISERROR(VLOOKUP(C350,BDDG!$A$2:$G$100,7,FALSE)),\"\",VLOOKUP(C350,BDDG!$A$2:$G$100,7,FALSE))","v":1},{"$f":"IF(ISERROR(VLOOKUP(C350,BDDG!$A$2:$H$100,8,FALSE)),\"\",VLOOKUP(C350,BDDG!$A$2:$H$100,8,FALSE))","v":"BB6"},5,20,21.6,{"$f":"IF(ISERROR(VLOOKUP(C350,BDDG!$A$2:$I$100,9,FALSE)),\"\",VLOOKUP(C350,BDDG!$A$2:$I$100,9,FALSE))","v":"CC6"},null,null,"",{"$f":"IF(ISERROR(VLOOKUP(C350,BDDG!$A$2:$J$100,10,FALSE)),\"\",VLOOKUP(C350,BDDG!$A$2:$J$100,10,FALSE))","v":"DD6"},null,null,"",21.6,8,2009,{"$f":"IFERROR(INDEX($V$2:V350,MATCH(H350&MAX(IF($H$1:H349=H350,$A$1:A349)),$H$2:H350&$A$2:A350,0))-V350,\"\")","v":6.727868852459018}]
["2009-09-01",null,869,{"$f":"IF(ISNA(VLOOKUP(C351,BDDG!$A$2:$F$100,2,FALSE)),\"\",VLOOKUP(C351,BDDG!$A$2:$F$100,2,FALSE))","v":0},{"$f":"IF(ISNA(VLOOKUP(C351,BDDG!$A$3:$J$102,3,FALSE)),\"\",VLOOKUP(C351,BDDG!$A$3:$J$102,3,FALSE))","v":"A"},{"$f":"IF(ISNA(VLOOKUP(C351,BDDG!$A$3:$J$102,4,FALSE)),\"\",VLOOKUP(C351,BDDG!$A$3:$J$102,4,FALSE))","v":108},{"$f":"IF(ISNA(VLOOKUP(C351,BDDG!$A$2:$F$100,5,FALSE)),\"\",VLOOKUP(C351,BDDG!$A$2:$F$100,5,FALSE))","v":"A16"},{"$f":"IF(ISNA(VLOOKUP(C351,BDDG!$A$2:$F$100,6,FALSE)),\"\",VLOOKUP(C351,BDDG!$A$2:$F$100,6,FALSE))","v":"AA40"},{"$f":"IF(ISERROR(VLOOKUP(C351,BDDG!$A$2:$G$100,7,FALSE)),\"\",VLOOKUP(C351,BDDG!$A$2:$G$100,7,FALSE))","v":3},{"$f":"IF(ISERROR(VLOOKUP(C351,BDDG!$A$2:$H$100,8,FALSE)),\"\",VLOOKUP(C351,BDDG!$A$2:$H$100,8,FALSE))","v":"BB40"},2.5,120,1.8,{"$f":"IF(ISERROR(VLOOKUP(C351,BDDG!$A$2:$I$100,9,FALSE)),\"\",VLOOKUP(C351,BDDG!$A$2:$I$100,9,FALSE))","v":"CC40"},null,null,"",{"$f":"IF(ISERROR(VLOOKUP(C351,BDDG!$A$2:$J$100,10,FALSE)),\"\",VLOOKUP(C351,BDDG!$A$2:$J$100,10,FALSE))","v":"DD40"},null,null,"",1.8,9,2009,{"$f":"IFERROR(INDEX($V$2:V351,MATCH(H351&MAX(IF($H$1:H350=H351,$A$1:A350)),$H$2:H351&$A$2:A351,0))-V351,\"\")","v":0.12000000000000011}]
["2009-09-11",null,867,{"$f":"IF(ISNA(VLOOKUP(C352,BDDG!$A$2:$F$100,2,FALSE)),\"\",VLOOKUP(C352,BDDG!$A$2:$F$100,2,FALSE))","v":0},{"$f":"IF(ISNA(VLOOKUP(C352,BDDG!$A$3:$J$102,3,FALSE)),\"\",VLOOKUP(C352,BDDG!$A$3:$J$102,3,FALSE))","v":"C"},{"$f":"IF(ISNA(VLOOKUP(C352,BDDG!$A$3:$J$102,4,FALSE)),\"\",VLOOKUP(C352,BDDG!$A$3:$J$102,4,FALSE))","v":108},{"$f":"IF(ISNA(VLOOKUP(C352,BDDG!$A$2:$F$100,5,FALSE)),\"\",VLOOKUP(C352,BDDG!$A$2:$F$100,5,FALSE))","v":"A17"},{"$f":"IF(ISNA(VLOOKUP(C352,BDDG!$A$2:$F$100,6,FALSE)),\"\",VLOOKUP(C352,BDDG!$A$2:$F$100,6,FALSE))","v":"AA43"},{"$f":"IF(ISERROR(VLOOKUP(C352,BDDG!$A$2:$G$100,7,FALSE)),\"\",VLOOKUP(C352,BDDG!$A$2:$G$100,7,FALSE))","v":1},{"$f":"IF(ISERROR(VLOOKUP(C352,BDDG!$A$2:$H$100,8,FALSE)),\"\",VLOOKUP(C352,BDDG!$A$2:$H$100,8,FALSE))","v":"BB43"},3,5,51.84,{"$f":"IF(ISERROR(VLOOKUP(C352,BDDG!$A$2:$I$100,9,FALSE)),\"\",VLOOKUP(C352,BDDG!$A$2:$I$100,9,FALSE))","v":"CC43"},null,null,null,{"$f":"IF(ISERROR(VLOOKUP(C352,BDDG!$A$2:$J$100,10,FALSE)),\"\",VLOOKUP(C352,BDDG!$A$2:$J$100,10,FALSE))","v":"DD43"},null,null,"",51.84,9,2009,{"$f":"IFERROR(INDEX($V$2:V352,MATCH(H352&MAX(IF($H$1:H351=H352,$A$1:A351)),$H$2:H352&$A$2:A352,0))-V352,\"\")","v":5.759999999999998}]
["2009-09-11",null,850,{"$f":"IF(ISNA(VLOOKUP(C353,BDDG!$A$2:$F$100,2,FALSE)),\"\",VLOOKUP(C353,BDDG!$A$2:$F$100,2,FALSE))","v":0},{"$f":"IF(ISNA(VLOOKUP(C353,BDDG!$A$3:$J$102,3,FALSE)),\"\",VLOOKUP(C353,BDDG!$A$3:$J$102,3,FALSE))","v":"B"},{"$f":"IF(ISNA(VLOOKUP(C353,BDDG!$A$3:$J$102,4,FALSE)),\"\",VLOOKUP(C353,BDDG!$A$3:$J$102,4,FALSE))","v":106},{"$f":"IF(ISNA(VLOOKUP(C353,BDDG!$A$2:$F$100,5,FALSE)),\"\",VLOOKUP(C353,BDDG!$A$2:$F$100,5,FALSE))","v":"A8"},{"$f":"IF(ISNA(VLOOKUP(C353,BDDG!$A$2:$F$100,6,FALSE)),\"\",VLOOKUP(C353,BDDG!$A$2:$F$100,6,FALSE))","v":"AA20"},{"$f":"IF(ISERROR(VLOOKUP(C353,BDDG!$A$2:$G$100,7,FALSE)),\"\",VLOOKUP(C353,BDDG!$A$2:$G$100,7,FALSE))","v":1},{"$f":"IF(ISERROR(VLOOKUP(C353,BDDG!$A$2:$H$100,8,FALSE)),\"\",VLOOKUP(C353,BDDG!$A$2:$H$100,8,FALSE))","v":"BB20"},5,12,36.000000000000007,{"$f":"IF(ISERROR(VLOOKUP(C353,BDDG!$A$2:$I$100,9,FALSE)),\"\",VLOOKUP(C353,BDDG!$A$2:$I$100,9,FALSE))","v":"CC20"},null,null,{"$f":" IF(ISERROR(O353/P353*86.4),\"\",O353/P353*86.4)","v":""},{"$f":"IF(ISERROR(VLOOKUP(C353,BDDG!$A$2:$J$100,10,FALSE)),\"\",VLOOKUP(C353,BDDG!$A$2:$J$100,10,FALSE))","v":"DD20"},null,null,"",36.000000000000007,9,2009,{"$f":"IFERROR(INDEX($V$2:V353,MATCH(H353&MAX(IF($H$1:H352=H353,$A$1:A352)),$H$2:H353&$A$2:A353,0))-V353,\"\")","v":7.5156576200413383E-2}]
["2009-09-11",null,868,{"$f":"IF(ISNA(VLOOKUP(C354,BDDG!$A$2:$F$100,2,FALSE)),\"\",VLOOKUP(C354,BDDG!$A$2:$F$100,2,FALSE))","v":0},{"$f":"IF(ISNA(VLOOKUP(C354,BDDG!$A$3:$J$102,3,FALSE)),\"\",VLOOKUP(C354,BDDG!$A$3:$J$102,3,FALSE))","v":"A"},{"$f":"IF(ISNA(VLOOKUP(C354,BDDG!$A$3:$J$102,4,FALSE)),\"\",VLOOKUP(C354,BDDG!$A$3:$J$102,4,FALSE))","v":108},{"$f":"IF(ISNA(VLOOKUP(C354,BDDG!$A$2:$F$100,5,FALSE)),\"\",VLOOKUP(C354,BDDG!$A$2:$F$100,5,FALSE))","v":"A16"},{"$f":"IF(ISNA(VLOOKUP(C354,BDDG!$A$2:$F$100,6,FALSE)),\"\",VLOOKUP(C354,BDDG!$A$2:$F$100,6,FALSE))","v":"AA39"},{"$f":"IF(ISERROR(VLOOKUP(C354,BDDG!$A$2:$G$100,7,FALSE)),\"\",VLOOKUP(C354,BDDG!$A$2:$G$100,7,FALSE))","v":2},{"$f":"IF(ISERROR(VLOOKUP(C354,BDDG!$A$2:$H$100,8,FALSE)),\"\",VLOOKUP(C354,BDDG!$A$2:$H$100,8,FALSE))","v":"BB39"},5,60,7.2,{"$f":"IF(ISERROR(VLOOKUP(C354,BDDG!$A$2:$I$100,9,FALSE)),\"\",VLOOKUP(C354,BDDG!$A$2:$I$100,9,FALSE))","v":"CC39"},null,null,{"$f":" IF(ISERROR(O354/P354*86.4),\"\",O354/P354*86.4)","v":""},{"$f":"IF(ISERROR(VLOOKUP(C354,BDDG!$A$2:$J$100,10,FALSE)),\"\",VLOOKUP(C354,BDDG!$A$2:$J$100,10,FALSE))","v":"DD39"},null,null,"",7.2,9,2009,{"$f":"IFERROR(INDEX($V$2:V354,MATCH(H354&MAX(IF($H$1:H353=H354,$A$1:A353)),$H$2:H354&$A$2:A354,0))-V354,\"\")","v":10.080000000000002}]
["2009-09-11",null,870,{"$f":"IF(ISNA(VLOOKUP(C355,BDDG!$A$2:$F$100,2,FALSE)),\"\",VLOOKUP(C355,BDDG!$A$2:$F$100,2,FALSE))","v":0},{"$f":"IF(ISNA(VLOOKUP(C355,BDDG!$A$3:$J$102,3,FALSE)),\"\",VLOOKUP(C355,BDDG!$A$3:$J$102,3,FALSE))","v":"A"},{"$f":"IF(ISNA(VLOOKUP(C355,BDDG!$A$3:$J$102,4,FALSE)),\"\",VLOOKUP(C355,BDDG!$A$3:$J$102,4,FALSE))","v":108},{"$f":"IF(ISNA(VLOOKUP(C355,BDDG!$A$2:$F$100,5,FALSE)),\"\",VLOOKUP(C355,BDDG!$A$2:$F$100,5,FALSE))","v":"A16"},{"$f":"IF(ISNA(VLOOKUP(C355,BDDG!$A$2:$F$100,6,FALSE)),\"\",VLOOKUP(C355,BDDG!$A$2:$F$100,6,FALSE))","v":"AA41"},{"$f":"IF(ISERROR(VLOOKUP(C355,BDDG!$A$2:$G$100,7,FALSE)),\"\",VLOOKUP(C355,BDDG!$A$2:$G$100,7,FALSE))","v":2},{"$f":"IF(ISERROR(VLOOKUP(C355,BDDG!$A$2:$H$100,8,FALSE)),\"\",VLOOKUP(C355,BDDG!$A$2:$H$100,8,FALSE))","v":"BB41"},1.5,60,2.16,{"$f":"IF(ISERROR(VLOOKUP(C355,BDDG!$A$2:$I$100,9,FALSE)),\"\",VLOOKUP(C355,BDDG!$A$2:$I$100,9,FALSE))","v":"CC41"},1,180,{"$f":" IF(ISERROR(O355/P355*86.4),\"\",O355/P355*86.4)","v":0.48000000000000004},{"$f":"IF(ISERROR(VLOOKUP(C355,BDDG!$A$2:$J$100,10,FALSE)),\"\",VLOOKUP(C355,BDDG!$A$2:$J$100,10,FALSE))","v":"DD41"},null,null,"",2.64,9,2009,{"$f":"IFERROR(INDEX($V$2:V355,MATCH(H355&MAX(IF($H$1:H354=H355,$A$1:A354)),$H$2:H355&$A$2:A355,0))-V355,\"\")","v":0.24000000000000021}]
["2009-09-11",null,866,{"$f":"IF(ISNA(VLOOKUP(C356,BDDG!$A$2:$F$100,2,FALSE)),\"\",VLOOKUP(C356,BDDG!$A$2:$F$100,2,FALSE))","v":0},{"$f":"IF(ISNA(VLOOKUP(C356,BDDG!$A$3:$J$102,3,FALSE)),\"\",VLOOKUP(C356,BDDG!$A$3:$J$102,3,FALSE))","v":"C"},{"$f":"IF(ISNA(VLOOKUP(C356,BDDG!$A$3:$J$102,4,FALSE)),\"\",VLOOKUP(C356,BDDG!$A$3:$J$102,4,FALSE))","v":108},{"$f":"IF(ISNA(VLOOKUP(C356,BDDG!$A$2:$F$100,5,FALSE)),\"\",VLOOKUP(C356,BDDG!$A$2:$F$100,5,FALSE))","v":"A17"},{"$f":"IF(ISNA(VLOOKUP(C356,BDDG!$A$2:$F$100,6,FALSE)),\"\",VLOOKUP(C356,BDDG!$A$2:$F$100,6,FALSE))","v":"AA42"},{"$f":"IF(ISERROR(VLOOKUP(C356,BDDG!$A$2:$G$100,7,FALSE)),\"\",VLOOKUP(C356,BDDG!$A$2:$G$100,7,FALSE))","v":1},{"$f":"IF(ISERROR(VLOOKUP(C356,BDDG!$A$2:$H$100,8,FALSE)),\"\",VLOOKUP(C356,BDDG!$A$2:$H$100,8,FALSE))","v":"BB42"},0.8,1,69.12,{"$f":"IF(ISERROR(VLOOKUP(C356,BDDG!$A$2:$I$100,9,FALSE)),\"\",VLOOKUP(C356,BDDG!$A$2:$I$100,9,FALSE))","v":"CC42"},null,null,null,{"$f":"IF(ISERROR(VLOOKUP(C356,BDDG!$A$2:$J$100,10,FALSE)),\"\",VLOOKUP(C356,BDDG!$A$2:$J$100,10,FALSE))","v":"DD42"},null,null,"",69.12,9,2009,{"$f":"IFERROR(INDEX($V$2:V356,MATCH(H356&MAX(IF($H$1:H355=H356,$A$1:A355)),$H$2:H356&$A$2:A356,0))-V356,\"\")","v":60.480000000000018}]
["2009-09-11",null,835,{"$f":"IF(ISNA(VLOOKUP(C357,BDDG!$A$2:$F$100,2,FALSE)),\"\",VLOOKUP(C357,BDDG!$A$2:$F$100,2,FALSE))","v":0},{"$f":"IF(ISNA(VLOOKUP(C357,BDDG!$A$3:$J$102,3,FALSE)),\"\",VLOOKUP(C357,BDDG!$A$3:$J$102,3,FALSE))","v":"A"},{"$f":"IF(ISNA(VLOOKUP(C357,BDDG!$A$3:$J$102,4,FALSE)),\"\",VLOOKUP(C357,BDDG!$A$3:$J$102,4,FALSE))","v":106},{"$f":"IF(ISNA(VLOOKUP(C357,BDDG!$A$2:$F$100,5,FALSE)),\"\",VLOOKUP(C357,BDDG!$A$2:$F$100,5,FALSE))","v":"A3"},{"$f":"IF(ISNA(VLOOKUP(C357,BDDG!$A$2:$F$100,6,FALSE)),\"\",VLOOKUP(C357,BDDG!$A$2:$F$100,6,FALSE))","v":"AA5"},{"$f":"IF(ISERROR(VLOOKUP(C357,BDDG!$A$2:$G$100,7,FALSE)),\"\",VLOOKUP(C357,BDDG!$A$2:$G$100,7,FALSE))","v":1},{"$f":"IF(ISERROR(VLOOKUP(C357,BDDG!$A$2:$H$100,8,FALSE)),\"\",VLOOKUP(C357,BDDG!$A$2:$H$100,8,FALSE))","v":"BB5"},3,60,4.32,{"$f":"IF(ISERROR(VLOOKUP(C357,BDDG!$A$2:$I$100,9,FALSE)),\"\",VLOOKUP(C357,BDDG!$A$2:$I$100,9,FALSE))","v":"CC5"},null,null,{"$f":" IF(ISERROR(O357/P357*86.4),\"\",O357/P357*86.4)","v":""},{"$f":"IF(ISERROR(VLOOKUP(C357,BDDG!$A$2:$J$100,10,FALSE)),\"\",VLOOKUP(C357,BDDG!$A$2:$J$100,10,FALSE))","v":"DD5"},null,null,"",4.32,9,2009,{"$f":"IFERROR(INDEX($V$2:V357,MATCH(H357&MAX(IF($H$1:H356=H357,$A$1:A356)),$H$2:H357&$A$2:A357,0))-V357,\"\")","v":2.08}]
["2009-09-14",null,856,{"$f":"IF(ISNA(VLOOKUP(C358,BDDG!$A$2:$F$100,2,FALSE)),\"\",VLOOKUP(C358,BDDG!$A$2:$F$100,2,FALSE))","v":0},{"$f":"IF(ISNA(VLOOKUP(C358,BDDG!$A$3:$J$102,3,FALSE)),\"\",VLOOKUP(C358,BDDG!$A$3:$J$102,3,FALSE))","v":"A"},{"$f":"IF(ISNA(VLOOKUP(C358,BDDG!$A$3:$J$102,4,FALSE)),\"\",VLOOKUP(C358,BDDG!$A$3:$J$102,4,FALSE))","v":106},{"$f":"IF(ISNA(VLOOKUP(C358,BDDG!$A$2:$F$100,5,FALSE)),\"\",VLOOKUP(C358,BDDG!$A$2:$F$100,5,FALSE))","v":"A9"},{"$f":"IF(ISNA(VLOOKUP(C358,BDDG!$A$2:$F$100,6,FALSE)),\"\",VLOOKUP(C358,BDDG!$A$2:$F$100,6,FALSE))","v":"AA27"},{"$f":"IF(ISERROR(VLOOKUP(C358,BDDG!$A$2:$G$100,7,FALSE)),\"\",VLOOKUP(C358,BDDG!$A$2:$G$100,7,FALSE))","v":2},{"$f":"IF(ISERROR(VLOOKUP(C358,BDDG!$A$2:$H$100,8,FALSE)),\"\",VLOOKUP(C358,BDDG!$A$2:$H$100,8,FALSE))","v":"BB27"},5,38,11.368421052631579,{"$f":"IF(ISERROR(VLOOKUP(C358,BDDG!$A$2:$I$100,9,FALSE)),\"\",VLOOKUP(C358,BDDG!$A$2:$I$100,9,FALSE))","v":"CC27"},10,8,108,{"$f":"IF(ISERROR(VLOOKUP(C358,BDDG!$A$2:$J$100,10,FALSE)),\"\",VLOOKUP(C358,BDDG!$A$2:$J$100,10,FALSE))","v":"DD27"},null,null,"",119.36842105263158,9,2009,{"$f":"IFERROR(INDEX($V$2:V358,MATCH(H358&MAX(IF($H$1:H357=H358,$A$1:A357)),$H$2:H358&$A$2:A358,0))-V358,\"\")","v":83.054436090225565}]
["2009-09-14",null,852,{"$f":"IF(ISNA(VLOOKUP(C359,BDDG!$A$2:$F$100,2,FALSE)),\"\",VLOOKUP(C359,BDDG!$A$2:$F$100,2,FALSE))","v":0},{"$f":"IF(ISNA(VLOOKUP(C359,BDDG!$A$3:$J$102,3,FALSE)),\"\",VLOOKUP(C359,BDDG!$A$3:$J$102,3,FALSE))","v":"A"},{"$f":"IF(ISNA(VLOOKUP(C359,BDDG!$A$3:$J$102,4,FALSE)),\"\",VLOOKUP(C359,BDDG!$A$3:$J$102,4,FALSE))","v":106},{"$f":"IF(ISNA(VLOOKUP(C359,BDDG!$A$2:$F$100,5,FALSE)),\"\",VLOOKUP(C359,BDDG!$A$2:$F$100,5,FALSE))","v":"A9"},{"$f":"IF(ISNA(VLOOKUP(C359,BDDG!$A$2:$F$100,6,FALSE)),\"\",VLOOKUP(C359,BDDG!$A$2:$F$100,6,FALSE))","v":"AA22"},{"$f":"IF(ISERROR(VLOOKUP(C359,BDDG!$A$2:$G$100,7,FALSE)),\"\",VLOOKUP(C359,BDDG!$A$2:$G$100,7,FALSE))","v":1},{"$f":"IF(ISERROR(VLOOKUP(C359,BDDG!$A$2:$H$100,8,FALSE)),\"\",VLOOKUP(C359,BDDG!$A$2:$H$100,8,FALSE))","v":"BB22"},10,62,13.935483870967742,{"$f":"IF(ISERROR(VLOOKUP(C359,BDDG!$A$2:$I$100,9,FALSE)),\"\",VLOOKUP(C359,BDDG!$A$2:$I$100,9,FALSE))","v":"CC22"},null,null,"",{"$f":"IF(ISERROR(VLOOKUP(C359,BDDG!$A$2:$J$100,10,FALSE)),\"\",VLOOKUP(C359,BDDG!$A$2:$J$100,10,FALSE))","v":"DD22"},null,null,"",13.935483870967742,9,2009,{"$f":"IFERROR(INDEX($V$2:V359,MATCH(H359&MAX(IF($H$1:H358=H359,$A$1:A358)),$H$2:H359&$A$2:A359,0))-V359,\"\")","v":-1.2296015180265645}]
["2009-09-15",null,847,{"$f":"IF(ISNA(VLOOKUP(C360,BDDG!$A$2:$F$100,2,FALSE)),\"\",VLOOKUP(C360,BDDG!$A$2:$F$100,2,FALSE))","v":0},{"$f":"IF(ISNA(VLOOKUP(C360,BDDG!$A$3:$J$102,3,FALSE)),\"\",VLOOKUP(C360,BDDG!$A$3:$J$102,3,FALSE))","v":"B"},{"$f":"IF(ISNA(VLOOKUP(C360,BDDG!$A$3:$J$102,4,FALSE)),\"\",VLOOKUP(C360,BDDG!$A$3:$J$102,4,FALSE))","v":106},{"$f":"IF(ISNA(VLOOKUP(C360,BDDG!$A$2:$F$100,5,FALSE)),\"\",VLOOKUP(C360,BDDG!$A$2:$F$100,5,FALSE))","v":"A7"},{"$f":"IF(ISNA(VLOOKUP(C360,BDDG!$A$2:$F$100,6,FALSE)),\"\",VLOOKUP(C360,BDDG!$A$2:$F$100,6,FALSE))","v":"AA18"},{"$f":"IF(ISERROR(VLOOKUP(C360,BDDG!$A$2:$G$100,7,FALSE)),\"\",VLOOKUP(C360,BDDG!$A$2:$G$100,7,FALSE))","v":2},{"$f":"IF(ISERROR(VLOOKUP(C360,BDDG!$A$2:$H$100,8,FALSE)),\"\",VLOOKUP(C360,BDDG!$A$2:$H$100,8,FALSE))","v":"BB18"},0,0,"",{"$f":"IF(ISERROR(VLOOKUP(C360,BDDG!$A$2:$I$100,9,FALSE)),\"\",VLOOKUP(C360,BDDG!$A$2:$I$100,9,FALSE))","v":"CC18"},6,60,8.64,{"$f":"IF(ISERROR(VLOOKUP(C360,BDDG!$A$2:$J$100,10,FALSE)),\"\",VLOOKUP(C360,BDDG!$A$2:$J$100,10,FALSE))","v":"DD18"},null,null,"",8.64,9,2009,{"$f":"IFERROR(INDEX($V$2:V360,MATCH(H360&MAX(IF($H$1:H359=H360,$A$1:A359)),$H$2:H360&$A$2:A360,0))-V360,\"\")","v":1.6924675324675338}]
["2009-09-15",null,844,{"$f":"IF(ISNA(VLOOKUP(C361,BDDG!$A$2:$F$100,2,FALSE)),\"\",VLOOKUP(C361,BDDG!$A$2:$F$100,2,FALSE))","v":0},{"$f":"IF(ISNA(VLOOKUP(C361,BDDG!$A$3:$J$102,3,FALSE)),\"\",VLOOKUP(C361,BDDG!$A$3:$J$102,3,FALSE))","v":"B"},{"$f":"IF(ISNA(VLOOKUP(C361,BDDG!$A$3:$J$102,4,FALSE)),\"\",VLOOKUP(C361,BDDG!$A$3:$J$102,4,FALSE))","v":106},{"$f":"IF(ISNA(VLOOKUP(C361,BDDG!$A$2:$F$100,5,FALSE)),\"\",VLOOKUP(C361,BDDG!$A$2:$F$100,5,FALSE))","v":"A6"},{"$f":"IF(ISNA(VLOOKUP(C361,BDDG!$A$2:$F$100,6,FALSE)),\"\",VLOOKUP(C361,BDDG!$A$2:$F$100,6,FALSE))","v":"AA14"},{"$f":"IF(ISERROR(VLOOKUP(C361,BDDG!$A$2:$G$100,7,FALSE)),\"\",VLOOKUP(C361,BDDG!$A$2:$G$100,7,FALSE))","v":2},{"$f":"IF(ISERROR(VLOOKUP(C361,BDDG!$A$2:$H$100,8,FALSE)),\"\",VLOOKUP(C361,BDDG!$A$2:$H$100,8,FALSE))","v":"BB14"},1,1,86.4,{"$f":"IF(ISERROR(VLOOKUP(C361,BDDG!$A$2:$I$100,9,FALSE)),\"\",VLOOKUP(C361,BDDG!$A$2:$I$100,9,FALSE))","v":"CC14"},null,null,"",{"$f":"IF(ISERROR(VLOOKUP(C361,BDDG!$A$2:$J$100,10,FALSE)),\"\",VLOOKUP(C361,BDDG!$A$2:$J$100,10,FALSE))","v":"DD14"},null,null,"",86.4,9,2009,{"$f":"IFERROR(INDEX($V$2:V361,MATCH(H361&MAX(IF($H$1:H360=H361,$A$1:A360)),$H$2:H361&$A$2:A361,0))-V361,\"\")","v":0}]
["2009-09-15",null,859,{"$f":"IF(ISNA(VLOOKUP(C362,BDDG!$A$2:$F$100,2,FALSE)),\"\",VLOOKUP(C362,BDDG!$A$2:$F$100,2,FALSE))","v":0},{"$f":"IF(ISNA(VLOOKUP(C362,BDDG!$A$3:$J$102,3,FALSE)),\"\",VLOOKUP(C362,BDDG!$A$3:$J$102,3,FALSE))","v":"A"},{"$f":"IF(ISNA(VLOOKUP(C362,BDDG!$A$3:$J$102,4,FALSE)),\"\",VLOOKUP(C362,BDDG!$A$3:$J$102,4,FALSE))","v":106},{"$f":"IF(ISNA(VLOOKUP(C362,BDDG!$A$2:$F$100,5,FALSE)),\"\",VLOOKUP(C362,BDDG!$A$2:$F$100,5,FALSE))","v":"A10"},{"$f":"IF(ISNA(VLOOKUP(C362,BDDG!$A$2:$F$100,6,FALSE)),\"\",VLOOKUP(C362,BDDG!$A$2:$F$100,6,FALSE))","v":"AA30"},{"$f":"IF(ISERROR(VLOOKUP(C362,BDDG!$A$2:$G$100,7,FALSE)),\"\",VLOOKUP(C362,BDDG!$A$2:$G$100,7,FALSE))","v":1},{"$f":"IF(ISERROR(VLOOKUP(C362,BDDG!$A$2:$H$100,8,FALSE)),\"\",VLOOKUP(C362,BDDG!$A$2:$H$100,8,FALSE))","v":"BB30"},3.5,60,5.04,null,null,null,null,{"$f":"IF(ISERROR(VLOOKUP(C362,BDDG!$A$2:$J$100,10,FALSE)),\"\",VLOOKUP(C362,BDDG!$A$2:$J$100,10,FALSE))","v":"DD30"},null,null,"",5.04,9,2009,{"$f":"IFERROR(INDEX($V$2:V362,MATCH(H362&MAX(IF($H$1:H361=H362,$A$1:A361)),$H$2:H362&$A$2:A362,0))-V362,\"\")","v":-1.1145115856428895}]
["2009-09-17",null,832,{"$f":"IF(ISNA(VLOOKUP(C363,BDDG!$A$2:$F$100,2,FALSE)),\"\",VLOOKUP(C363,BDDG!$A$2:$F$100,2,FALSE))","v":0},{"$f":"IF(ISNA(VLOOKUP(C363,BDDG!$A$3:$J$102,3,FALSE)),\"\",VLOOKUP(C363,BDDG!$A$3:$J$102,3,FALSE))","v":"A"},{"$f":"IF(ISNA(VLOOKUP(C363,BDDG!$A$3:$J$102,4,FALSE)),\"\",VLOOKUP(C363,BDDG!$A$3:$J$102,4,FALSE))","v":106},{"$f":"IF(ISNA(VLOOKUP(C363,BDDG!$A$2:$F$100,5,FALSE)),\"\",VLOOKUP(C363,BDDG!$A$2:$F$100,5,FALSE))","v":"A2"},{"$f":"IF(ISNA(VLOOKUP(C363,BDDG!$A$2:$F$100,6,FALSE)),\"\",VLOOKUP(C363,BDDG!$A$2:$F$100,6,FALSE))","v":"AA2"},{"$f":"IF(ISERROR(VLOOKUP(C363,BDDG!$A$2:$G$100,7,FALSE)),\"\",VLOOKUP(C363,BDDG!$A$2:$G$100,7,FALSE))","v":1},{"$f":"IF(ISERROR(VLOOKUP(C363,BDDG!$A$2:$H$100,8,FALSE)),\"\",VLOOKUP(C363,BDDG!$A$2:$H$100,8,FALSE))","v":"BB2"},5,12,36.000000000000007,{"$f":"IF(ISERROR(VLOOKUP(C363,BDDG!$A$2:$I$100,9,FALSE)),\"\",VLOOKUP(C363,BDDG!$A$2:$I$100,9,FALSE))","v":"CC2"},null,null,{"$f":" IF(ISERROR(O363/P363*86.4),\"\",O363/P363*86.4)","v":""},{"$f":"IF(ISERROR(VLOOKUP(C363,BDDG!$A$2:$J$100,10,FALSE)),\"\",VLOOKUP(C363,BDDG!$A$2:$J$100,10,FALSE))","v":"DD2"},null,null,"",36.000000000000007,9,2009,{"$f":"IFERROR(INDEX($V$2:V363,MATCH(H363&MAX(IF($H$1:H362=H363,$A$1:A362)),$H$2:H363&$A$2:A363,0))-V363,\"\")","v":29.404996214988635}]
["2009-09-17",null,833,{"$f":"IF(ISNA(VLOOKUP(C364,BDDG!$A$2:$F$100,2,FALSE)),\"\",VLOOKUP(C364,BDDG!$A$2:$F$100,2,FALSE))","v":0},{"$f":"IF(ISNA(VLOOKUP(C364,BDDG!$A$3:$J$102,3,FALSE)),\"\",VLOOKUP(C364,BDDG!$A$3:$J$102,3,FALSE))","v":"A"},{"$f":"IF(ISNA(VLOOKUP(C364,BDDG!$A$3:$J$102,4,FALSE)),\"\",VLOOKUP(C364,BDDG!$A$3:$J$102,4,FALSE))","v":106},{"$f":"IF(ISNA(VLOOKUP(C364,BDDG!$A$2:$F$100,5,FALSE)),\"\",VLOOKUP(C364,BDDG!$A$2:$F$100,5,FALSE))","v":"A2"},{"$f":"IF(ISNA(VLOOKUP(C364,BDDG!$A$2:$F$100,6,FALSE)),\"\",VLOOKUP(C364,BDDG!$A$2:$F$100,6,FALSE))","v":"AA3"},{"$f":"IF(ISERROR(VLOOKUP(C364,BDDG!$A$2:$G$100,7,FALSE)),\"\",VLOOKUP(C364,BDDG!$A$2:$G$100,7,FALSE))","v":1},{"$f":"IF(ISERROR(VLOOKUP(C364,BDDG!$A$2:$H$100,8,FALSE)),\"\",VLOOKUP(C364,BDDG!$A$2:$H$100,8,FALSE))","v":"BB3"},5,34,12.705882352941178,{"$f":"IF(ISERROR(VLOOKUP(C364,BDDG!$A$2:$I$100,9,FALSE)),\"\",VLOOKUP(C364,BDDG!$A$2:$I$100,9,FALSE))","v":"CC3"},null,null,"",{"$f":"IF(ISERROR(VLOOKUP(C364,BDDG!$A$2:$J$100,10,FALSE)),\"\",VLOOKUP(C364,BDDG!$A$2:$J$100,10,FALSE))","v":"DD3"},null,null,"",12.705882352941178,9,2009,{"$f":"IFERROR(INDEX($V$2:V364,MATCH(H364&MAX(IF($H$1:H363=H364,$A$1:A363)),$H$2:H364&$A$2:A364,0))-V364,\"\")","v":38.478951770281569}]
["2009-09-17",null,834,{"$f":"IF(ISNA(VLOOKUP(C365,BDDG!$A$2:$F$100,2,FALSE)),\"\",VLOOKUP(C365,BDDG!$A$2:$F$100,2,FALSE))","v":0},{"$f":"IF(ISNA(VLOOKUP(C365,BDDG!$A$3:$J$102,3,FALSE)),\"\",VLOOKUP(C365,BDDG!$A$3:$J$102,3,FALSE))","v":"A"},{"$f":"IF(ISNA(VLOOKUP(C365,BDDG!$A$3:$J$102,4,FALSE)),\"\",VLOOKUP(C365,BDDG!$A$3:$J$102,4,FALSE))","v":106},{"$f":"IF(ISNA(VLOOKUP(C365,BDDG!$A$2:$F$100,5,FALSE)),\"\",VLOOKUP(C365,BDDG!$A$2:$F$100,5,FALSE))","v":"A2"},{"$f":"IF(ISNA(VLOOKUP(C365,BDDG!$A$2:$F$100,6,FALSE)),\"\",VLOOKUP(C365,BDDG!$A$2:$F$100,6,FALSE))","v":"AA4"},{"$f":"IF(ISERROR(VLOOKUP(C365,BDDG!$A$2:$G$100,7,FALSE)),\"\",VLOOKUP(C365,BDDG!$A$2:$G$100,7,FALSE))","v":1},{"$f":"IF(ISERROR(VLOOKUP(C365,BDDG!$A$2:$H$100,8,FALSE)),\"\",VLOOKUP(C365,BDDG!$A$2:$H$100,8,FALSE))","v":"BB4"},5,31,13.935483870967742,{"$f":"IF(ISERROR(VLOOKUP(C365,BDDG!$A$2:$I$100,9,FALSE)),\"\",VLOOKUP(C365,BDDG!$A$2:$I$100,9,FALSE))","v":"CC4"},null,null,"",{"$f":"IF(ISERROR(VLOOKUP(C365,BDDG!$A$2:$J$100,10,FALSE)),\"\",VLOOKUP(C365,BDDG!$A$2:$J$100,10,FALSE))","v":"DD4"},null,null,"",13.935483870967742,9,2009,{"$f":"IFERROR(INDEX($V$2:V365,MATCH(H365&MAX(IF($H$1:H364=H365,$A$1:A364)),$H$2:H365&$A$2:A365,0))-V365,\"\")","v":11.158910552500169}]
["2009-09-17",null,842,{"$f":"IF(ISNA(VLOOKUP(C366,BDDG!$A$2:$F$100,2,FALSE)),\"\",VLOOKUP(C366,BDDG!$A$2:$F$100,2,FALSE))","v":0},{"$f":"IF(ISNA(VLOOKUP(C366,BDDG!$A$3:$J$102,3,FALSE)),\"\",VLOOKUP(C366,BDDG!$A$3:$J$102,3,FALSE))","v":"B"},{"$f":"IF(ISNA(VLOOKUP(C366,BDDG!$A$3:$J$102,4,FALSE)),\"\",VLOOKUP(C366,BDDG!$A$3:$J$102,4,FALSE))","v":106},{"$f":"IF(ISNA(VLOOKUP(C366,BDDG!$A$2:$F$100,5,FALSE)),\"\",VLOOKUP(C366,BDDG!$A$2:$F$100,5,FALSE))","v":"A5"},{"$f":"IF(ISNA(VLOOKUP(C366,BDDG!$A$2:$F$100,6,FALSE)),\"\",VLOOKUP(C366,BDDG!$A$2:$F$100,6,FALSE))","v":"AA13"},{"$f":"IF(ISERROR(VLOOKUP(C366,BDDG!$A$2:$G$100,7,FALSE)),\"\",VLOOKUP(C366,BDDG!$A$2:$G$100,7,FALSE))","v":1},{"$f":"IF(ISERROR(VLOOKUP(C366,BDDG!$A$2:$H$100,8,FALSE)),\"\",VLOOKUP(C366,BDDG!$A$2:$H$100,8,FALSE))","v":"BB13"},5,32,13.5,{"$f":"IF(ISERROR(VLOOKUP(C366,BDDG!$A$2:$I$100,9,FALSE)),\"\",VLOOKUP(C366,BDDG!$A$2:$I$100,9,FALSE))","v":"CC13"},null,null,"",{"$f":"IF(ISERROR(VLOOKUP(C366,BDDG!$A$2:$J$100,10,FALSE)),\"\",VLOOKUP(C366,BDDG!$A$2:$J$100,10,FALSE))","v":"DD13"},null,null,"",13.5,9,2009,{"$f":"IFERROR(INDEX($V$2:V366,MATCH(H366&MAX(IF($H$1:H365=H366,$A$1:A365)),$H$2:H366&$A$2:A366,0))-V366,\"\")","v":8.1000000000000014}]
["2009-09-17",null,860,{"$f":"IF(ISNA(VLOOKUP(C367,BDDG!$A$2:$F$100,2,FALSE)),\"\",VLOOKUP(C367,BDDG!$A$2:$F$100,2,FALSE))","v":0},{"$f":"IF(ISNA(VLOOKUP(C367,BDDG!$A$3:$J$102,3,FALSE)),\"\",VLOOKUP(C367,BDDG!$A$3:$J$102,3,FALSE))","v":"A"},{"$f":"IF(ISNA(VLOOKUP(C367,BDDG!$A$3:$J$102,4,FALSE)),\"\",VLOOKUP(C367,BDDG!$A$3:$J$102,4,FALSE))","v":106},{"$f":"IF(ISNA(VLOOKUP(C367,BDDG!$A$2:$F$100,5,FALSE)),\"\",VLOOKUP(C367,BDDG!$A$2:$F$100,5,FALSE))","v":"A11"},{"$f":"IF(ISNA(VLOOKUP(C367,BDDG!$A$2:$F$100,6,FALSE)),\"\",VLOOKUP(C367,BDDG!$A$2:$F$100,6,FALSE))","v":"AA32"},{"$f":"IF(ISERROR(VLOOKUP(C367,BDDG!$A$2:$G$100,7,FALSE)),\"\",VLOOKUP(C367,BDDG!$A$2:$G$100,7,FALSE))","v":2},{"$f":"IF(ISERROR(VLOOKUP(C367,BDDG!$A$2:$H$100,8,FALSE)),\"\",VLOOKUP(C367,BDDG!$A$2:$H$100,8,FALSE))","v":"BB32"},10,18,48.000000000000007,{"$f":"IF(ISERROR(VLOOKUP(C367,BDDG!$A$2:$I$100,9,FALSE)),\"\",VLOOKUP(C367,BDDG!$A$2:$I$100,9,FALSE))","v":"CC32"},null,null,"",{"$f":"IF(ISERROR(VLOOKUP(C367,BDDG!$A$2:$J$100,10,FALSE)),\"\",VLOOKUP(C367,BDDG!$A$2:$J$100,10,FALSE))","v":"DD32"},null,null,"",48.000000000000007,9,2009,{"$f":"IFERROR(INDEX($V$2:V367,MATCH(H367&MAX(IF($H$1:H366=H367,$A$1:A366)),$H$2:H367&$A$2:A367,0))-V367,\"\")","v":18.46153846153846}]
["2009-09-17",null,861,{"$f":"IF(ISNA(VLOOKUP(C368,BDDG!$A$2:$F$100,2,FALSE)),\"\",VLOOKUP(C368,BDDG!$A$2:$F$100,2,FALSE))","v":0},{"$f":"IF(ISNA(VLOOKUP(C368,BDDG!$A$3:$J$102,3,FALSE)),\"\",VLOOKUP(C368,BDDG!$A$3:$J$102,3,FALSE))","v":"A"},{"$f":"IF(ISNA(VLOOKUP(C368,BDDG!$A$3:$J$102,4,FALSE)),\"\",VLOOKUP(C368,BDDG!$A$3:$J$102,4,FALSE))","v":106},{"$f":"IF(ISNA(VLOOKUP(C368,BDDG!$A$2:$F$100,5,FALSE)),\"\",VLOOKUP(C368,BDDG!$A$2:$F$100,5,FALSE))","v":"A11"},{"$f":"IF(ISNA(VLOOKUP(C368,BDDG!$A$2:$F$100,6,FALSE)),\"\",VLOOKUP(C368,BDDG!$A$2:$F$100,6,FALSE))","v":"AA33"},{"$f":"IF(ISERROR(VLOOKUP(C368,BDDG!$A$2:$G$100,7,FALSE)),\"\",VLOOKUP(C368,BDDG!$A$2:$G$100,7,FALSE))","v":2},{"$f":"IF(ISERROR(VLOOKUP(C368,BDDG!$A$2:$H$100,8,FALSE)),\"\",VLOOKUP(C368,BDDG!$A$2:$H$100,8,FALSE))","v":"BB33"},null,null,null,{"$f":"IF(ISERROR(VLOOKUP(C368,BDDG!$A$2:$I$100,9,FALSE)),\"\",VLOOKUP(C368,BDDG!$A$2:$I$100,9,FALSE))","v":"CC33"},10,5,172.8,{"$f":"IF(ISERROR(VLOOKUP(C368,BDDG!$A$2:$J$100,10,FALSE)),\"\",VLOOKUP(C368,BDDG!$A$2:$J$100,10,FALSE))","v":"DD33"},null,null,"",{"$f":"IF(ISERROR(SUM(M368,Q368,U368)),\"\",SUM((M368,Q368,U368)))","v":172.8},9,2009,{"$f":"IFERROR(INDEX($V$2:V368,MATCH(H368&MAX(IF($H$1:H367=H368,$A$1:A367)),$H$2:H368&$A$2:A368,0))-V368,\"\")","v":0}]
["2009-09-17",null,862,{"$f":"IF(ISNA(VLOOKUP(C369,BDDG!$A$2:$F$100,2,FALSE)),\"\",VLOOKUP(C369,BDDG!$A$2:$F$100,2,FALSE))","v":0},{"$f":"IF(ISNA(VLOOKUP(C369,BDDG!$A$3:$J$102,3,FALSE)),\"\",VLOOKUP(C369,BDDG!$A$3:$J$102,3,FALSE))","v":"A"},{"$f":"IF(ISNA(VLOOKUP(C369,BDDG!$A$3:$J$102,4,FALSE)),\"\",VLOOKUP(C369,BDDG!$A$3:$J$102,4,FALSE))","v":106},{"$f":"IF(ISNA(VLOOKUP(C369,BDDG!$A$2:$F$100,5,FALSE)),\"\",VLOOKUP(C369,BDDG!$A$2:$F$100,5,FALSE))","v":"A12"},{"$f":"IF(ISNA(VLOOKUP(C369,BDDG!$A$2:$F$100,6,FALSE)),\"\",VLOOKUP(C369,BDDG!$A$2:$F$100,6,FALSE))","v":"AA34"},{"$f":"IF(ISERROR(VLOOKUP(C369,BDDG!$A$2:$G$100,7,FALSE)),\"\",VLOOKUP(C369,BDDG!$A$2:$G$100,7,FALSE))","v":1},{"$f":"IF(ISERROR(VLOOKUP(C369,BDDG!$A$2:$H$100,8,FALSE)),\"\",VLOOKUP(C369,BDDG!$A$2:$H$100,8,FALSE))","v":"BB34"},10,13,{"$f":" IF(ISERROR(K369/L369*86.4),\"\",K369/L369*86.4)","v":66.461538461538467},{"$f":"IF(ISERROR(VLOOKUP(C369,BDDG!$A$2:$I$100,9,FALSE)),\"\",VLOOKUP(C369,BDDG!$A$2:$I$100,9,FALSE))","v":"CC34"},null,null,"",{"$f":"IF(ISERROR(VLOOKUP(C369,BDDG!$A$2:$J$100,10,FALSE)),\"\",VLOOKUP(C369,BDDG!$A$2:$J$100,10,FALSE))","v":"DD34"},null,null,"",{"$f":"IF(ISERROR(SUM(M369,Q369,U369)),\"\",SUM(M369,Q369,U369))","v":66.461538461538467},9,2009,{"$f":"IFERROR(INDEX($V$2:V369,MATCH(H369&MAX(IF($H$1:H368=H369,$A$1:A368)),$H$2:H369&$A$2:A369,0))-V369,\"\")","v":-8.8615384615384656}]
["2009-09-17",null,849,{"$f":"IF(ISNA(VLOOKUP(C370,BDDG!$A$2:$F$100,2,FALSE)),\"\",VLOOKUP(C370,BDDG!$A$2:$F$100,2,FALSE))","v":0},{"$f":"IF(ISNA(VLOOKUP(C370,BDDG!$A$3:$J$102,3,FALSE)),\"\",VLOOKUP(C370,BDDG!$A$3:$J$102,3,FALSE))","v":"B"},{"$f":"IF(ISNA(VLOOKUP(C370,BDDG!$A$3:$J$102,4,FALSE)),\"\",VLOOKUP(C370,BDDG!$A$3:$J$102,4,FALSE))","v":106},{"$f":"IF(ISNA(VLOOKUP(C370,BDDG!$A$2:$F$100,5,FALSE)),\"\",VLOOKUP(C370,BDDG!$A$2:$F$100,5,FALSE))","v":"A7"},{"$f":"IF(ISNA(VLOOKUP(C370,BDDG!$A$2:$F$100,6,FALSE)),\"\",VLOOKUP(C370,BDDG!$A$2:$F$100,6,FALSE))","v":"AA15"},{"$f":"IF(ISERROR(VLOOKUP(C370,BDDG!$A$2:$G$100,7,FALSE)),\"\",VLOOKUP(C370,BDDG!$A$2:$G$100,7,FALSE))","v":2},{"$f":"IF(ISERROR(VLOOKUP(C370,BDDG!$A$2:$H$100,8,FALSE)),\"\",VLOOKUP(C370,BDDG!$A$2:$H$100,8,FALSE))","v":"BB15"},5,28,15.428571428571431,{"$f":"IF(ISERROR(VLOOKUP(C370,BDDG!$A$2:$I$100,9,FALSE)),\"\",VLOOKUP(C370,BDDG!$A$2:$I$100,9,FALSE))","v":"CC15"},5,47,9.1914893617021285,{"$f":"IF(ISERROR(VLOOKUP(C370,BDDG!$A$2:$J$100,10,FALSE)),\"\",VLOOKUP(C370,BDDG!$A$2:$J$100,10,FALSE))","v":"DD15"},null,null,"",24.620060790273559,9,2009,{"$f":"IFERROR(INDEX($V$2:V370,MATCH(H370&MAX(IF($H$1:H369=H370,$A$1:A369)),$H$2:H370&$A$2:A370,0))-V370,\"\")","v":10.444874274661512}]
["2009-09-23",null,831,{"$f":"IF(ISNA(VLOOKUP(C371,BDDG!$A$2:$F$100,2,FALSE)),\"\",VLOOKUP(C371,BDDG!$A$2:$F$100,2,FALSE))","v":0},{"$f":"IF(ISNA(VLOOKUP(C371,BDDG!$A$3:$J$102,3,FALSE)),\"\",VLOOKUP(C371,BDDG!$A$3:$J$102,3,FALSE))","v":"A"},{"$f":"IF(ISNA(VLOOKUP(C371,BDDG!$A$3:$J$102,4,FALSE)),\"\",VLOOKUP(C371,BDDG!$A$3:$J$102,4,FALSE))","v":106},{"$f":"IF(ISNA(VLOOKUP(C371,BDDG!$A$2:$F$100,5,FALSE)),\"\",VLOOKUP(C371,BDDG!$A$2:$F$100,5,FALSE))","v":"A1"},{"$f":"IF(ISNA(VLOOKUP(C371,BDDG!$A$2:$F$100,6,FALSE)),\"\",VLOOKUP(C371,BDDG!$A$2:$F$100,6,FALSE))","v":"AA1"},{"$f":"IF(ISERROR(VLOOKUP(C371,BDDG!$A$2:$G$100,7,FALSE)),\"\",VLOOKUP(C371,BDDG!$A$2:$G$100,7,FALSE))","v":1},{"$f":"IF(ISERROR(VLOOKUP(C371,BDDG!$A$2:$H$100,8,FALSE)),\"\",VLOOKUP(C371,BDDG!$A$2:$H$100,8,FALSE))","v":"BB1"},10,9.8000000000000007,88.163265306122454,{"$f":"IF(ISERROR(VLOOKUP(C371,BDDG!$A$2:$I$100,9,FALSE)),\"\",VLOOKUP(C371,BDDG!$A$2:$I$100,9,FALSE))","v":"CC1"},null,null,"",{"$f":"IF(ISERROR(VLOOKUP(C371,BDDG!$A$2:$J$100,10,FALSE)),\"\",VLOOKUP(C371,BDDG!$A$2:$J$100,10,FALSE))","v":"DD1"},null,null,"",88.163265306122454,9,2009,{"$f":"IFERROR(INDEX($V$2:V371,MATCH(H371&MAX(IF($H$1:H370=H371,$A$1:A370)),$H$2:H371&$A$2:A371,0))-V371,\"\")","v":-5.2457988953738948}]
["2009-09-24",null,832,{"$f":"IF(ISNA(VLOOKUP(C372,BDDG!$A$2:$F$100,2,FALSE)),\"\",VLOOKUP(C372,BDDG!$A$2:$F$100,2,FALSE))","v":0},{"$f":"IF(ISNA(VLOOKUP(C372,BDDG!$A$3:$J$102,3,FALSE)),\"\",VLOOKUP(C372,BDDG!$A$3:$J$102,3,FALSE))","v":"A"},{"$f":"IF(ISNA(VLOOKUP(C372,BDDG!$A$3:$J$102,4,FALSE)),\"\",VLOOKUP(C372,BDDG!$A$3:$J$102,4,FALSE))","v":106},{"$f":"IF(ISNA(VLOOKUP(C372,BDDG!$A$2:$F$100,5,FALSE)),\"\",VLOOKUP(C372,BDDG!$A$2:$F$100,5,FALSE))","v":"A2"},{"$f":"IF(ISNA(VLOOKUP(C372,BDDG!$A$2:$F$100,6,FALSE)),\"\",VLOOKUP(C372,BDDG!$A$2:$F$100,6,FALSE))","v":"AA2"},{"$f":"IF(ISERROR(VLOOKUP(C372,BDDG!$A$2:$G$100,7,FALSE)),\"\",VLOOKUP(C372,BDDG!$A$2:$G$100,7,FALSE))","v":1},{"$f":"IF(ISERROR(VLOOKUP(C372,BDDG!$A$2:$H$100,8,FALSE)),\"\",VLOOKUP(C372,BDDG!$A$2:$H$100,8,FALSE))","v":"BB2"},10,60,14.4,{"$f":"IF(ISERROR(VLOOKUP(C372,BDDG!$A$2:$I$100,9,FALSE)),\"\",VLOOKUP(C372,BDDG!$A$2:$I$100,9,FALSE))","v":"CC2"},null,null,"",{"$f":"IF(ISERROR(VLOOKUP(C372,BDDG!$A$2:$J$100,10,FALSE)),\"\",VLOOKUP(C372,BDDG!$A$2:$J$100,10,FALSE))","v":"DD2"},null,null,"",14.4,9,2009,{"$f":"IFERROR(INDEX($V$2:V372,MATCH(H372&MAX(IF($H$1:H371=H372,$A$1:A371)),$H$2:H372&$A$2:A372,0))-V372,\"\")","v":21.600000000000009}]
["2009-09-24",null,833,{"$f":"IF(ISNA(VLOOKUP(C373,BDDG!$A$2:$F$100,2,FALSE)),\"\",VLOOKUP(C373,BDDG!$A$2:$F$100,2,FALSE))","v":0},{"$f":"IF(ISNA(VLOOKUP(C373,BDDG!$A$3:$J$102,3,FALSE)),\"\",VLOOKUP(C373,BDDG!$A$3:$J$102,3,FALSE))","v":"A"},{"$f":"IF(ISNA(VLOOKUP(C373,BDDG!$A$3:$J$102,4,FALSE)),\"\",VLOOKUP(C373,BDDG!$A$3:$J$102,4,FALSE))","v":106},{"$f":"IF(ISNA(VLOOKUP(C373,BDDG!$A$2:$F$100,5,FALSE)),\"\",VLOOKUP(C373,BDDG!$A$2:$F$100,5,FALSE))","v":"A2"},{"$f":"IF(ISNA(VLOOKUP(C373,BDDG!$A$2:$F$100,6,FALSE)),\"\",VLOOKUP(C373,BDDG!$A$2:$F$100,6,FALSE))","v":"AA3"},{"$f":"IF(ISERROR(VLOOKUP(C373,BDDG!$A$2:$G$100,7,FALSE)),\"\",VLOOKUP(C373,BDDG!$A$2:$G$100,7,FALSE))","v":1},{"$f":"IF(ISERROR(VLOOKUP(C373,BDDG!$A$2:$H$100,8,FALSE)),\"\",VLOOKUP(C373,BDDG!$A$2:$H$100,8,FALSE))","v":"BB3"},10,21,41.142857142857146,{"$f":"IF(ISERROR(VLOOKUP(C373,BDDG!$A$2:$I$100,9,FALSE)),\"\",VLOOKUP(C373,BDDG!$A$2:$I$100,9,FALSE))","v":"CC3"},null,null,"",{"$f":"IF(ISERROR(VLOOKUP(C373,BDDG!$A$2:$J$100,10,FALSE)),\"\",VLOOKUP(C373,BDDG!$A$2:$J$100,10,FALSE))","v":"DD3"},null,null,"",41.142857142857146,9,2009,{"$f":"IFERROR(INDEX($V$2:V373,MATCH(H373&MAX(IF($H$1:H372=H373,$A$1:A372)),$H$2:H373&$A$2:A373,0))-V373,\"\")","v":-28.436974789915968}]
["2009-09-24",null,834,{"$f":"IF(ISNA(VLOOKUP(C374,BDDG!$A$2:$F$100,2,FALSE)),\"\",VLOOKUP(C374,BDDG!$A$2:$F$100,2,FALSE))","v":0},{"$f":"IF(ISNA(VLOOKUP(C374,BDDG!$A$3:$J$102,3,FALSE)),\"\",VLOOKUP(C374,BDDG!$A$3:$J$102,3,FALSE))","v":"A"},{"$f":"IF(ISNA(VLOOKUP(C374,BDDG!$A$3:$J$102,4,FALSE)),\"\",VLOOKUP(C374,BDDG!$A$3:$J$102,4,FALSE))","v":106},{"$f":"IF(ISNA(VLOOKUP(C374,BDDG!$A$2:$F$100,5,FALSE)),\"\",VLOOKUP(C374,BDDG!$A$2:$F$100,5,FALSE))","v":"A2"},{"$f":"IF(ISNA(VLOOKUP(C374,BDDG!$A$2:$F$100,6,FALSE)),\"\",VLOOKUP(C374,BDDG!$A$2:$F$100,6,FALSE))","v":"AA4"},{"$f":"IF(ISERROR(VLOOKUP(C374,BDDG!$A$2:$G$100,7,FALSE)),\"\",VLOOKUP(C374,BDDG!$A$2:$G$100,7,FALSE))","v":1},{"$f":"IF(ISERROR(VLOOKUP(C374,BDDG!$A$2:$H$100,8,FALSE)),\"\",VLOOKUP(C374,BDDG!$A$2:$H$100,8,FALSE))","v":"BB4"},10,52,16.615384615384617,{"$f":"IF(ISERROR(VLOOKUP(C374,BDDG!$A$2:$I$100,9,FALSE)),\"\",VLOOKUP(C374,BDDG!$A$2:$I$100,9,FALSE))","v":"CC4"},null,null,"",{"$f":"IF(ISERROR(VLOOKUP(C374,BDDG!$A$2:$J$100,10,FALSE)),\"\",VLOOKUP(C374,BDDG!$A$2:$J$100,10,FALSE))","v":"DD4"},null,null,"",16.615384615384617,9,2009,{"$f":"IFERROR(INDEX($V$2:V374,MATCH(H374&MAX(IF($H$1:H373=H374,$A$1:A373)),$H$2:H374&$A$2:A374,0))-V374,\"\")","v":-2.6799007444168748}]
["2009-09-30",null,856,{"$f":"IF(ISNA(VLOOKUP(C375,BDDG!$A$2:$F$100,2,FALSE)),\"\",VLOOKUP(C375,BDDG!$A$2:$F$100,2,FALSE))","v":0},{"$f":"IF(ISNA(VLOOKUP(C375,BDDG!$A$3:$J$102,3,FALSE)),\"\",VLOOKUP(C375,BDDG!$A$3:$J$102,3,FALSE))","v":"A"},{"$f":"IF(ISNA(VLOOKUP(C375,BDDG!$A$3:$J$102,4,FALSE)),\"\",VLOOKUP(C375,BDDG!$A$3:$J$102,4,FALSE))","v":106},{"$f":"IF(ISNA(VLOOKUP(C375,BDDG!$A$2:$F$100,5,FALSE)),\"\",VLOOKUP(C375,BDDG!$A$2:$F$100,5,FALSE))","v":"A9"},{"$f":"IF(ISNA(VLOOKUP(C375,BDDG!$A$2:$F$100,6,FALSE)),\"\",VLOOKUP(C375,BDDG!$A$2:$F$100,6,FALSE))","v":"AA27"},{"$f":"IF(ISERROR(VLOOKUP(C375,BDDG!$A$2:$G$100,7,FALSE)),\"\",VLOOKUP(C375,BDDG!$A$2:$G$100,7,FALSE))","v":2},{"$f":"IF(ISERROR(VLOOKUP(C375,BDDG!$A$2:$H$100,8,FALSE)),\"\",VLOOKUP(C375,BDDG!$A$2:$H$100,8,FALSE))","v":"BB27"},null,null,"",{"$f":"IF(ISERROR(VLOOKUP(C375,BDDG!$A$2:$I$100,9,FALSE)),\"\",VLOOKUP(C375,BDDG!$A$2:$I$100,9,FALSE))","v":"CC27"},5,5,86.4,{"$f":"IF(ISERROR(VLOOKUP(C375,BDDG!$A$2:$J$100,10,FALSE)),\"\",VLOOKUP(C375,BDDG!$A$2:$J$100,10,FALSE))","v":"DD27"},null,null,"",86.4,9,2009,{"$f":"IFERROR(INDEX($V$2:V375,MATCH(H375&MAX(IF($H$1:H374=H375,$A$1:A374)),$H$2:H375&$A$2:A375,0))-V375,\"\")","v":32.96842105263157}]
["2009-10-16",null,856,{"$f":"IF(ISNA(VLOOKUP(C376,BDDG!$A$2:$F$100,2,FALSE)),\"\",VLOOKUP(C376,BDDG!$A$2:$F$100,2,FALSE))","v":0},{"$f":"IF(ISNA(VLOOKUP(C376,BDDG!$A$3:$J$102,3,FALSE)),\"\",VLOOKUP(C376,BDDG!$A$3:$J$102,3,FALSE))","v":"A"},{"$f":"IF(ISNA(VLOOKUP(C376,BDDG!$A$3:$J$102,4,FALSE)),\"\",VLOOKUP(C376,BDDG!$A$3:$J$102,4,FALSE))","v":106},{"$f":"IF(ISNA(VLOOKUP(C376,BDDG!$A$2:$F$100,5,FALSE)),\"\",VLOOKUP(C376,BDDG!$A$2:$F$100,5,FALSE))","v":"A9"},{"$f":"IF(ISNA(VLOOKUP(C376,BDDG!$A$2:$F$100,6,FALSE)),\"\",VLOOKUP(C376,BDDG!$A$2:$F$100,6,FALSE))","v":"AA27"},{"$f":"IF(ISERROR(VLOOKUP(C376,BDDG!$A$2:$G$100,7,FALSE)),\"\",VLOOKUP(C376,BDDG!$A$2:$G$100,7,FALSE))","v":2},{"$f":"IF(ISERROR(VLOOKUP(C376,BDDG!$A$2:$H$100,8,FALSE)),\"\",VLOOKUP(C376,BDDG!$A$2:$H$100,8,FALSE))","v":"BB27"},null,null,"",{"$f":"IF(ISERROR(VLOOKUP(C376,BDDG!$A$2:$I$100,9,FALSE)),\"\",VLOOKUP(C376,BDDG!$A$2:$I$100,9,FALSE))","v":"CC27"},5,6.5,66.461538461538467,{"$f":"IF(ISERROR(VLOOKUP(C376,BDDG!$A$2:$J$100,10,FALSE)),\"\",VLOOKUP(C376,BDDG!$A$2:$J$100,10,FALSE))","v":"DD27"},null,null,"",66.461538461538467,10,2009,{"$f":"IFERROR(INDEX($V$2:V376,MATCH(H376&MAX(IF($H$1:H375=H376,$A$1:A375)),$H$2:H376&$A$2:A376,0))-V376,\"\")","v":19.938461538461539}]
["2009-10-28",null,835,{"$f":"IF(ISNA(VLOOKUP(C377,BDDG!$A$2:$F$100,2,FALSE)),\"\",VLOOKUP(C377,BDDG!$A$2:$F$100,2,FALSE))","v":0},{"$f":"IF(ISNA(VLOOKUP(C377,BDDG!$A$3:$J$102,3,FALSE)),\"\",VLOOKUP(C377,BDDG!$A$3:$J$102,3,FALSE))","v":"A"},{"$f":"IF(ISNA(VLOOKUP(C377,BDDG!$A$3:$J$102,4,FALSE)),\"\",VLOOKUP(C377,BDDG!$A$3:$J$102,4,FALSE))","v":106},{"$f":"IF(ISNA(VLOOKUP(C377,BDDG!$A$2:$F$100,5,FALSE)),\"\",VLOOKUP(C377,BDDG!$A$2:$F$100,5,FALSE))","v":"A3"},{"$f":"IF(ISNA(VLOOKUP(C377,BDDG!$A$2:$F$100,6,FALSE)),\"\",VLOOKUP(C377,BDDG!$A$2:$F$100,6,FALSE))","v":"AA5"},{"$f":"IF(ISERROR(VLOOKUP(C377,BDDG!$A$2:$G$100,7,FALSE)),\"\",VLOOKUP(C377,BDDG!$A$2:$G$100,7,FALSE))","v":1},{"$f":"IF(ISERROR(VLOOKUP(C377,BDDG!$A$2:$H$100,8,FALSE)),\"\",VLOOKUP(C377,BDDG!$A$2:$H$100,8,FALSE))","v":"BB5"},5,133,3.2481203007518795,{"$f":"IF(ISERROR(VLOOKUP(C377,BDDG!$A$2:$I$100,9,FALSE)),\"\",VLOOKUP(C377,BDDG!$A$2:$I$100,9,FALSE))","v":"CC5"},null,null,"",{"$f":"IF(ISERROR(VLOOKUP(C377,BDDG!$A$2:$J$100,10,FALSE)),\"\",VLOOKUP(C377,BDDG!$A$2:$J$100,10,FALSE))","v":"DD5"},null,null,"",3.2481203007518795,10,2009,{"$f":"IFERROR(INDEX($V$2:V377,MATCH(H377&MAX(IF($H$1:H376=H377,$A$1:A376)),$H$2:H377&$A$2:A377,0))-V377,\"\")","v":1.0718796992481208}]
["2009-10-30",null,866,{"$f":"IF(ISNA(VLOOKUP(C378,BDDG!$A$2:$F$100,2,FALSE)),\"\",VLOOKUP(C378,BDDG!$A$2:$F$100,2,FALSE))","v":0},{"$f":"IF(ISNA(VLOOKUP(C378,BDDG!$A$3:$J$102,3,FALSE)),\"\",VLOOKUP(C378,BDDG!$A$3:$J$102,3,FALSE))","v":"C"},{"$f":"IF(ISNA(VLOOKUP(C378,BDDG!$A$3:$J$102,4,FALSE)),\"\",VLOOKUP(C378,BDDG!$A$3:$J$102,4,FALSE))","v":108},{"$f":"IF(ISNA(VLOOKUP(C378,BDDG!$A$2:$F$100,5,FALSE)),\"\",VLOOKUP(C378,BDDG!$A$2:$F$100,5,FALSE))","v":"A17"},{"$f":"IF(ISNA(VLOOKUP(C378,BDDG!$A$2:$F$100,6,FALSE)),\"\",VLOOKUP(C378,BDDG!$A$2:$F$100,6,FALSE))","v":"AA42"},{"$f":"IF(ISERROR(VLOOKUP(C378,BDDG!$A$2:$G$100,7,FALSE)),\"\",VLOOKUP(C378,BDDG!$A$2:$G$100,7,FALSE))","v":1},{"$f":"IF(ISERROR(VLOOKUP(C378,BDDG!$A$2:$H$100,8,FALSE)),\"\",VLOOKUP(C378,BDDG!$A$2:$H$100,8,FALSE))","v":"BB42"},1.2,1,103.68,{"$f":"IF(ISERROR(VLOOKUP(C378,BDDG!$A$2:$I$100,9,FALSE)),\"\",VLOOKUP(C378,BDDG!$A$2:$I$100,9,FALSE))","v":"CC42"},null,null,"",{"$f":"IF(ISERROR(VLOOKUP(C378,BDDG!$A$2:$J$100,10,FALSE)),\"\",VLOOKUP(C378,BDDG!$A$2:$J$100,10,FALSE))","v":"DD42"},null,null,"",103.68,10,2009,{"$f":"IFERROR(INDEX($V$2:V378,MATCH(H378&MAX(IF($H$1:H377=H378,$A$1:A377)),$H$2:H378&$A$2:A378,0))-V378,\"\")","v":-34.56}]
["2009-11-04",null,868,{"$f":"IF(ISNA(VLOOKUP(C379,BDDG!$A$2:$F$100,2,FALSE)),\"\",VLOOKUP(C379,BDDG!$A$2:$F$100,2,FALSE))","v":0},{"$f":"IF(ISNA(VLOOKUP(C379,BDDG!$A$3:$J$102,3,FALSE)),\"\",VLOOKUP(C379,BDDG!$A$3:$J$102,3,FALSE))","v":"A"},{"$f":"IF(ISNA(VLOOKUP(C379,BDDG!$A$3:$J$102,4,FALSE)),\"\",VLOOKUP(C379,BDDG!$A$3:$J$102,4,FALSE))","v":108},{"$f":"IF(ISNA(VLOOKUP(C379,BDDG!$A$2:$F$100,5,FALSE)),\"\",VLOOKUP(C379,BDDG!$A$2:$F$100,5,FALSE))","v":"A16"},{"$f":"IF(ISNA(VLOOKUP(C379,BDDG!$A$2:$F$100,6,FALSE)),\"\",VLOOKUP(C379,BDDG!$A$2:$F$100,6,FALSE))","v":"AA39"},{"$f":"IF(ISERROR(VLOOKUP(C379,BDDG!$A$2:$G$100,7,FALSE)),\"\",VLOOKUP(C379,BDDG!$A$2:$G$100,7,FALSE))","v":2},{"$f":"IF(ISERROR(VLOOKUP(C379,BDDG!$A$2:$H$100,8,FALSE)),\"\",VLOOKUP(C379,BDDG!$A$2:$H$100,8,FALSE))","v":"BB39"},2,60,2.8800000000000003,{"$f":"IF(ISERROR(VLOOKUP(C379,BDDG!$A$2:$I$100,9,FALSE)),\"\",VLOOKUP(C379,BDDG!$A$2:$I$100,9,FALSE))","v":"CC39"},null,null,"",{"$f":"IF(ISERROR(VLOOKUP(C379,BDDG!$A$2:$J$100,10,FALSE)),\"\",VLOOKUP(C379,BDDG!$A$2:$J$100,10,FALSE))","v":"DD39"},null,null,{"$f":" IF(ISERROR(S379/T379*86.4),\"\",S379/T379*86.4)","v":""},2.8800000000000003,11,2009,{"$f":"IFERROR(INDEX($V$2:V379,MATCH(H379&MAX(IF($H$1:H378=H379,$A$1:A378)),$H$2:H379&$A$2:A379,0))-V379,\"\")","v":4.32}]
["2009-11-04",null,870,{"$f":"IF(ISNA(VLOOKUP(C380,BDDG!$A$2:$F$100,2,FALSE)),\"\",VLOOKUP(C380,BDDG!$A$2:$F$100,2,FALSE))","v":0},{"$f":"IF(ISNA(VLOOKUP(C380,BDDG!$A$3:$J$102,3,FALSE)),\"\",VLOOKUP(C380,BDDG!$A$3:$J$102,3,FALSE))","v":"A"},{"$f":"IF(ISNA(VLOOKUP(C380,BDDG!$A$3:$J$102,4,FALSE)),\"\",VLOOKUP(C380,BDDG!$A$3:$J$102,4,FALSE))","v":108},{"$f":"IF(ISNA(VLOOKUP(C380,BDDG!$A$2:$F$100,5,FALSE)),\"\",VLOOKUP(C380,BDDG!$A$2:$F$100,5,FALSE))","v":"A16"},{"$f":"IF(ISNA(VLOOKUP(C380,BDDG!$A$2:$F$100,6,FALSE)),\"\",VLOOKUP(C380,BDDG!$A$2:$F$100,6,FALSE))","v":"AA41"},{"$f":"IF(ISERROR(VLOOKUP(C380,BDDG!$A$2:$G$100,7,FALSE)),\"\",VLOOKUP(C380,BDDG!$A$2:$G$100,7,FALSE))","v":2},{"$f":"IF(ISERROR(VLOOKUP(C380,BDDG!$A$2:$H$100,8,FALSE)),\"\",VLOOKUP(C380,BDDG!$A$2:$H$100,8,FALSE))","v":"BB41"},1,60,1.4400000000000002,{"$f":"IF(ISERROR(VLOOKUP(C380,BDDG!$A$2:$I$100,9,FALSE)),\"\",VLOOKUP(C380,BDDG!$A$2:$I$100,9,FALSE))","v":"CC41"},1,60,1.4400000000000002,{"$f":"IF(ISERROR(VLOOKUP(C380,BDDG!$A$2:$J$100,10,FALSE)),\"\",VLOOKUP(C380,BDDG!$A$2:$J$100,10,FALSE))","v":"DD41"},null,null,"",2.8800000000000003,11,2009,{"$f":"IFERROR(INDEX($V$2:V380,MATCH(H380&MAX(IF($H$1:H379=H380,$A$1:A379)),$H$2:H380&$A$2:A380,0))-V380,\"\")","v":-0.24000000000000021}]
["2009-11-24",null,860,{"$f":"IF(ISNA(VLOOKUP(C381,BDDG!$A$2:$F$100,2,FALSE)),\"\",VLOOKUP(C381,BDDG!$A$2:$F$100,2,FALSE))","v":0},{"$f":"IF(ISNA(VLOOKUP(C381,BDDG!$A$3:$J$102,3,FALSE)),\"\",VLOOKUP(C381,BDDG!$A$3:$J$102,3,FALSE))","v":"A"},{"$f":"IF(ISNA(VLOOKUP(C381,BDDG!$A$3:$J$102,4,FALSE)),\"\",VLOOKUP(C381,BDDG!$A$3:$J$102,4,FALSE))","v":106},{"$f":"IF(ISNA(VLOOKUP(C381,BDDG!$A$2:$F$100,5,FALSE)),\"\",VLOOKUP(C381,BDDG!$A$2:$F$100,5,FALSE))","v":"A11"},{"$f":"IF(ISNA(VLOOKUP(C381,BDDG!$A$2:$F$100,6,FALSE)),\"\",VLOOKUP(C381,BDDG!$A$2:$F$100,6,FALSE))","v":"AA32"},{"$f":"IF(ISERROR(VLOOKUP(C381,BDDG!$A$2:$G$100,7,FALSE)),\"\",VLOOKUP(C381,BDDG!$A$2:$G$100,7,FALSE))","v":2},{"$f":"IF(ISERROR(VLOOKUP(C381,BDDG!$A$2:$H$100,8,FALSE)),\"\",VLOOKUP(C381,BDDG!$A$2:$H$100,8,FALSE))","v":"BB32"},10,21,41.142857142857146,{"$f":"IF(ISERROR(VLOOKUP(C381,BDDG!$A$2:$I$100,9,FALSE)),\"\",VLOOKUP(C381,BDDG!$A$2:$I$100,9,FALSE))","v":"CC32"},null,null,"",{"$f":"IF(ISERROR(VLOOKUP(C381,BDDG!$A$2:$J$100,10,FALSE)),\"\",VLOOKUP(C381,BDDG!$A$2:$J$100,10,FALSE))","v":"DD32"},null,null,"",41.142857142857146,11,2009,{"$f":"IFERROR(INDEX($V$2:V381,MATCH(H381&MAX(IF($H$1:H380=H381,$A$1:A380)),$H$2:H381&$A$2:A381,0))-V381,\"\")","v":6.8571428571428612}]
["2009-11-24",null,861,{"$f":"IF(ISNA(VLOOKUP(C382,BDDG!$A$2:$F$100,2,FALSE)),\"\",VLOOKUP(C382,BDDG!$A$2:$F$100,2,FALSE))","v":0},{"$f":"IF(ISNA(VLOOKUP(C382,BDDG!$A$3:$J$102,3,FALSE)),\"\",VLOOKUP(C382,BDDG!$A$3:$J$102,3,FALSE))","v":"A"},{"$f":"IF(ISNA(VLOOKUP(C382,BDDG!$A$3:$J$102,4,FALSE)),\"\",VLOOKUP(C382,BDDG!$A$3:$J$102,4,FALSE))","v":106},{"$f":"IF(ISNA(VLOOKUP(C382,BDDG!$A$2:$F$100,5,FALSE)),\"\",VLOOKUP(C382,BDDG!$A$2:$F$100,5,FALSE))","v":"A11"},{"$f":"IF(ISNA(VLOOKUP(C382,BDDG!$A$2:$F$100,6,FALSE)),\"\",VLOOKUP(C382,BDDG!$A$2:$F$100,6,FALSE))","v":"AA33"},{"$f":"IF(ISERROR(VLOOKUP(C382,BDDG!$A$2:$G$100,7,FALSE)),\"\",VLOOKUP(C382,BDDG!$A$2:$G$100,7,FALSE))","v":2},{"$f":"IF(ISERROR(VLOOKUP(C382,BDDG!$A$2:$H$100,8,FALSE)),\"\",VLOOKUP(C382,BDDG!$A$2:$H$100,8,FALSE))","v":"BB33"},null,null,null,{"$f":"IF(ISERROR(VLOOKUP(C382,BDDG!$A$2:$I$100,9,FALSE)),\"\",VLOOKUP(C382,BDDG!$A$2:$I$100,9,FALSE))","v":"CC33"},10,8,108,{"$f":"IF(ISERROR(VLOOKUP(C382,BDDG!$A$2:$J$100,10,FALSE)),\"\",VLOOKUP(C382,BDDG!$A$2:$J$100,10,FALSE))","v":"DD33"},null,null,"",{"$f":"IF(ISERROR(SUM(M382,Q382,U382)),\"\",SUM((M382,Q382,U382)))","v":108},11,2009,{"$f":"IFERROR(INDEX($V$2:V382,MATCH(H382&MAX(IF($H$1:H381=H382,$A$1:A381)),$H$2:H382&$A$2:A382,0))-V382,\"\")","v":64.800000000000011}]
["2009-12-02",null,868,{"$f":"IF(ISNA(VLOOKUP(C383,BDDG!$A$2:$F$100,2,FALSE)),\"\",VLOOKUP(C383,BDDG!$A$2:$F$100,2,FALSE))","v":0},{"$f":"IF(ISNA(VLOOKUP(C383,BDDG!$A$3:$J$102,3,FALSE)),\"\",VLOOKUP(C383,BDDG!$A$3:$J$102,3,FALSE))","v":"A"},{"$f":"IF(ISNA(VLOOKUP(C383,BDDG!$A$3:$J$102,4,FALSE)),\"\",VLOOKUP(C383,BDDG!$A$3:$J$102,4,FALSE))","v":108},{"$f":"IF(ISNA(VLOOKUP(C383,BDDG!$A$2:$F$100,5,FALSE)),\"\",VLOOKUP(C383,BDDG!$A$2:$F$100,5,FALSE))","v":"A16"},{"$f":"IF(ISNA(VLOOKUP(C383,BDDG!$A$2:$F$100,6,FALSE)),\"\",VLOOKUP(C383,BDDG!$A$2:$F$100,6,FALSE))","v":"AA39"},{"$f":"IF(ISERROR(VLOOKUP(C383,BDDG!$A$2:$G$100,7,FALSE)),\"\",VLOOKUP(C383,BDDG!$A$2:$G$100,7,FALSE))","v":2},{"$f":"IF(ISERROR(VLOOKUP(C383,BDDG!$A$2:$H$100,8,FALSE)),\"\",VLOOKUP(C383,BDDG!$A$2:$H$100,8,FALSE))","v":"BB39"},3,60,{"$f":" IF(ISERROR(K383/L383*86.4),\"\",K383/L383*86.4)","v":4.32},{"$f":"IF(ISERROR(VLOOKUP(C383,BDDG!$A$2:$I$100,9,FALSE)),\"\",VLOOKUP(C383,BDDG!$A$2:$I$100,9,FALSE))","v":"CC39"},null,null,"",{"$f":"IF(ISERROR(VLOOKUP(C383,BDDG!$A$2:$J$100,10,FALSE)),\"\",VLOOKUP(C383,BDDG!$A$2:$J$100,10,FALSE))","v":"DD39"},null,null,"",{"$f":"IF(ISERROR(SUM(M383,Q383,U383)),\"\",SUM(M383,Q383,U383))","v":4.32},12,2009,{"$f":"IFERROR(INDEX($V$2:V383,MATCH(H383&MAX(IF($H$1:H382=H383,$A$1:A382)),$H$2:H383&$A$2:A383,0))-V383,\"\")","v":-1.44}]
["2009-12-02",null,870,{"$f":"IF(ISNA(VLOOKUP(C384,BDDG!$A$2:$F$100,2,FALSE)),\"\",VLOOKUP(C384,BDDG!$A$2:$F$100,2,FALSE))","v":0},{"$f":"IF(ISNA(VLOOKUP(C384,BDDG!$A$3:$J$102,3,FALSE)),\"\",VLOOKUP(C384,BDDG!$A$3:$J$102,3,FALSE))","v":"A"},{"$f":"IF(ISNA(VLOOKUP(C384,BDDG!$A$3:$J$102,4,FALSE)),\"\",VLOOKUP(C384,BDDG!$A$3:$J$102,4,FALSE))","v":108},{"$f":"IF(ISNA(VLOOKUP(C384,BDDG!$A$2:$F$100,5,FALSE)),\"\",VLOOKUP(C384,BDDG!$A$2:$F$100,5,FALSE))","v":"A16"},{"$f":"IF(ISNA(VLOOKUP(C384,BDDG!$A$2:$F$100,6,FALSE)),\"\",VLOOKUP(C384,BDDG!$A$2:$F$100,6,FALSE))","v":"AA41"},{"$f":"IF(ISERROR(VLOOKUP(C384,BDDG!$A$2:$G$100,7,FALSE)),\"\",VLOOKUP(C384,BDDG!$A$2:$G$100,7,FALSE))","v":2},{"$f":"IF(ISERROR(VLOOKUP(C384,BDDG!$A$2:$H$100,8,FALSE)),\"\",VLOOKUP(C384,BDDG!$A$2:$H$100,8,FALSE))","v":"BB41"},1,60,1.4400000000000002,{"$f":"IF(ISERROR(VLOOKUP(C384,BDDG!$A$2:$I$100,9,FALSE)),\"\",VLOOKUP(C384,BDDG!$A$2:$I$100,9,FALSE))","v":"CC41"},0.5,60,0.72000000000000008,{"$f":"IF(ISERROR(VLOOKUP(C384,BDDG!$A$2:$J$100,10,FALSE)),\"\",VLOOKUP(C384,BDDG!$A$2:$J$100,10,FALSE))","v":"DD41"},null,null,"",2.16,12,2009,{"$f":"IFERROR(INDEX($V$2:V384,MATCH(H384&MAX(IF($H$1:H383=H384,$A$1:A383)),$H$2:H384&$A$2:A384,0))-V384,\"\")","v":0.7200000000000002}]
["2009-12-04",null,847,{"$f":"IF(ISNA(VLOOKUP(C385,BDDG!$A$2:$F$100,2,FALSE)),\"\",VLOOKUP(C385,BDDG!$A$2:$F$100,2,FALSE))","v":0},{"$f":"IF(ISNA(VLOOKUP(C385,BDDG!$A$3:$J$102,3,FALSE)),\"\",VLOOKUP(C385,BDDG!$A$3:$J$102,3,FALSE))","v":"B"},{"$f":"IF(ISNA(VLOOKUP(C385,BDDG!$A$3:$J$102,4,FALSE)),\"\",VLOOKUP(C385,BDDG!$A$3:$J$102,4,FALSE))","v":106},{"$f":"IF(ISNA(VLOOKUP(C385,BDDG!$A$2:$F$100,5,FALSE)),\"\",VLOOKUP(C385,BDDG!$A$2:$F$100,5,FALSE))","v":"A7"},{"$f":"IF(ISNA(VLOOKUP(C385,BDDG!$A$2:$F$100,6,FALSE)),\"\",VLOOKUP(C385,BDDG!$A$2:$F$100,6,FALSE))","v":"AA18"},{"$f":"IF(ISERROR(VLOOKUP(C385,BDDG!$A$2:$G$100,7,FALSE)),\"\",VLOOKUP(C385,BDDG!$A$2:$G$100,7,FALSE))","v":2},{"$f":"IF(ISERROR(VLOOKUP(C385,BDDG!$A$2:$H$100,8,FALSE)),\"\",VLOOKUP(C385,BDDG!$A$2:$H$100,8,FALSE))","v":"BB18"},0,0,"",{"$f":"IF(ISERROR(VLOOKUP(C385,BDDG!$A$2:$I$100,9,FALSE)),\"\",VLOOKUP(C385,BDDG!$A$2:$I$100,9,FALSE))","v":"CC18"},7,60,10.08,{"$f":"IF(ISERROR(VLOOKUP(C385,BDDG!$A$2:$J$100,10,FALSE)),\"\",VLOOKUP(C385,BDDG!$A$2:$J$100,10,FALSE))","v":"DD18"},null,null,"",10.08,12,2009,{"$f":"IFERROR(INDEX($V$2:V385,MATCH(H385&MAX(IF($H$1:H384=H385,$A$1:A384)),$H$2:H385&$A$2:A385,0))-V385,\"\")","v":-1.4399999999999995}]
["2009-12-04",null,844,{"$f":"IF(ISNA(VLOOKUP(C386,BDDG!$A$2:$F$100,2,FALSE)),\"\",VLOOKUP(C386,BDDG!$A$2:$F$100,2,FALSE))","v":0},{"$f":"IF(ISNA(VLOOKUP(C386,BDDG!$A$3:$J$102,3,FALSE)),\"\",VLOOKUP(C386,BDDG!$A$3:$J$102,3,FALSE))","v":"B"},{"$f":"IF(ISNA(VLOOKUP(C386,BDDG!$A$3:$J$102,4,FALSE)),\"\",VLOOKUP(C386,BDDG!$A$3:$J$102,4,FALSE))","v":106},{"$f":"IF(ISNA(VLOOKUP(C386,BDDG!$A$2:$F$100,5,FALSE)),\"\",VLOOKUP(C386,BDDG!$A$2:$F$100,5,FALSE))","v":"A6"},{"$f":"IF(ISNA(VLOOKUP(C386,BDDG!$A$2:$F$100,6,FALSE)),\"\",VLOOKUP(C386,BDDG!$A$2:$F$100,6,FALSE))","v":"AA14"},{"$f":"IF(ISERROR(VLOOKUP(C386,BDDG!$A$2:$G$100,7,FALSE)),\"\",VLOOKUP(C386,BDDG!$A$2:$G$100,7,FALSE))","v":2},{"$f":"IF(ISERROR(VLOOKUP(C386,BDDG!$A$2:$H$100,8,FALSE)),\"\",VLOOKUP(C386,BDDG!$A$2:$H$100,8,FALSE))","v":"BB14"},10,12,72.000000000000014,{"$f":"IF(ISERROR(VLOOKUP(C386,BDDG!$A$2:$I$100,9,FALSE)),\"\",VLOOKUP(C386,BDDG!$A$2:$I$100,9,FALSE))","v":"CC14"},null,null,"",{"$f":"IF(ISERROR(VLOOKUP(C386,BDDG!$A$2:$J$100,10,FALSE)),\"\",VLOOKUP(C386,BDDG!$A$2:$J$100,10,FALSE))","v":"DD14"},null,null,"",72.000000000000014,{"$f":"MONTH(A:A)","v":12},{"$f":"YEAR(A:A)","v":2009},{"$f":"IFERROR(INDEX($V$2:V386,MATCH(H386&MAX(IF($H$1:H385=H386,$A$1:A385)),$H$2:H386&$A$2:A386,0))-V386,\"\")","v":14.399999999999991}]
["2009-12-10",null,835,{"$f":"IF(ISNA(VLOOKUP(C387,BDDG!$A$2:$F$100,2,FALSE)),\"\",VLOOKUP(C387,BDDG!$A$2:$F$100,2,FALSE))","v":0},{"$f":"IF(ISNA(VLOOKUP(C387,BDDG!$A$3:$J$102,3,FALSE)),\"\",VLOOKUP(C387,BDDG!$A$3:$J$102,3,FALSE))","v":"A"},{"$f":"IF(ISNA(VLOOKUP(C387,BDDG!$A$3:$J$102,4,FALSE)),\"\",VLOOKUP(C387,BDDG!$A$3:$J$102,4,FALSE))","v":106},{"$f":"IF(ISNA(VLOOKUP(C387,BDDG!$A$2:$F$100,5,FALSE)),\"\",VLOOKUP(C387,BDDG!$A$2:$F$100,5,FALSE))","v":"A3"},{"$f":"IF(ISNA(VLOOKUP(C387,BDDG!$A$2:$F$100,6,FALSE)),\"\",VLOOKUP(C387,BDDG!$A$2:$F$100,6,FALSE))","v":"AA5"},{"$f":"IF(ISERROR(VLOOKUP(C387,BDDG!$A$2:$G$100,7,FALSE)),\"\",VLOOKUP(C387,BDDG!$A$2:$G$100,7,FALSE))","v":1},{"$f":"IF(ISERROR(VLOOKUP(C387,BDDG!$A$2:$H$100,8,FALSE)),\"\",VLOOKUP(C387,BDDG!$A$2:$H$100,8,FALSE))","v":"BB5"},2,60,2.8800000000000003,{"$f":"IF(ISERROR(VLOOKUP(C387,BDDG!$A$2:$I$100,9,FALSE)),\"\",VLOOKUP(C387,BDDG!$A$2:$I$100,9,FALSE))","v":"CC5"},null,null,{"$f":" IF(ISERROR(O387/P387*86.4),\"\",O387/P387*86.4)","v":""},{"$f":"IF(ISERROR(VLOOKUP(C387,BDDG!$A$2:$J$100,10,FALSE)),\"\",VLOOKUP(C387,BDDG!$A$2:$J$100,10,FALSE))","v":"DD5"},null,null,"",2.8800000000000003,12,2009,{"$f":"IFERROR(INDEX($V$2:V387,MATCH(H387&MAX(IF($H$1:H386=H387,$A$1:A386)),$H$2:H387&$A$2:A387,0))-V387,\"\")","v":0.36812030075187918}]
["2010-01-14",null,868,{"$f":"IF(ISNA(VLOOKUP(C388,BDDG!$A$2:$F$100,2,FALSE)),\"\",VLOOKUP(C388,BDDG!$A$2:$F$100,2,FALSE))","v":0},{"$f":"IF(ISNA(VLOOKUP(C388,BDDG!$A$3:$J$102,3,FALSE)),\"\",VLOOKUP(C388,BDDG!$A$3:$J$102,3,FALSE))","v":"A"},{"$f":"IF(ISNA(VLOOKUP(C388,BDDG!$A$3:$J$102,4,FALSE)),\"\",VLOOKUP(C388,BDDG!$A$3:$J$102,4,FALSE))","v":108},{"$f":"IF(ISNA(VLOOKUP(C388,BDDG!$A$2:$F$100,5,FALSE)),\"\",VLOOKUP(C388,BDDG!$A$2:$F$100,5,FALSE))","v":"A16"},{"$f":"IF(ISNA(VLOOKUP(C388,BDDG!$A$2:$F$100,6,FALSE)),\"\",VLOOKUP(C388,BDDG!$A$2:$F$100,6,FALSE))","v":"AA39"},{"$f":"IF(ISERROR(VLOOKUP(C388,BDDG!$A$2:$G$100,7,FALSE)),\"\",VLOOKUP(C388,BDDG!$A$2:$G$100,7,FALSE))","v":2},{"$f":"IF(ISERROR(VLOOKUP(C388,BDDG!$A$2:$H$100,8,FALSE)),\"\",VLOOKUP(C388,BDDG!$A$2:$H$100,8,FALSE))","v":"BB39"},13,60,18.720000000000002,{"$f":"IF(ISERROR(VLOOKUP(C388,BDDG!$A$2:$I$100,9,FALSE)),\"\",VLOOKUP(C388,BDDG!$A$2:$I$100,9,FALSE))","v":"CC39"},null,null,"",{"$f":"IF(ISERROR(VLOOKUP(C388,BDDG!$A$2:$J$100,10,FALSE)),\"\",VLOOKUP(C388,BDDG!$A$2:$J$100,10,FALSE))","v":"DD39"},null,null,"",18.720000000000002,1,2010,{"$f":"IFERROR(INDEX($V$2:V388,MATCH(H388&MAX(IF($H$1:H387=H388,$A$1:A387)),$H$2:H388&$A$2:A388,0))-V388,\"\")","v":-14.400000000000002}]
["2010-01-14",null,870,{"$f":"IF(ISNA(VLOOKUP(C389,BDDG!$A$2:$F$100,2,FALSE)),\"\",VLOOKUP(C389,BDDG!$A$2:$F$100,2,FALSE))","v":0},{"$f":"IF(ISNA(VLOOKUP(C389,BDDG!$A$3:$J$102,3,FALSE)),\"\",VLOOKUP(C389,BDDG!$A$3:$J$102,3,FALSE))","v":"A"},{"$f":"IF(ISNA(VLOOKUP(C389,BDDG!$A$3:$J$102,4,FALSE)),\"\",VLOOKUP(C389,BDDG!$A$3:$J$102,4,FALSE))","v":108},{"$f":"IF(ISNA(VLOOKUP(C389,BDDG!$A$2:$F$100,5,FALSE)),\"\",VLOOKUP(C389,BDDG!$A$2:$F$100,5,FALSE))","v":"A16"},{"$f":"IF(ISNA(VLOOKUP(C389,BDDG!$A$2:$F$100,6,FALSE)),\"\",VLOOKUP(C389,BDDG!$A$2:$F$100,6,FALSE))","v":"AA41"},{"$f":"IF(ISERROR(VLOOKUP(C389,BDDG!$A$2:$G$100,7,FALSE)),\"\",VLOOKUP(C389,BDDG!$A$2:$G$100,7,FALSE))","v":2},{"$f":"IF(ISERROR(VLOOKUP(C389,BDDG!$A$2:$H$100,8,FALSE)),\"\",VLOOKUP(C389,BDDG!$A$2:$H$100,8,FALSE))","v":"BB41"},0.9,60,1.2960000000000003,{"$f":"IF(ISERROR(VLOOKUP(C389,BDDG!$A$2:$I$100,9,FALSE)),\"\",VLOOKUP(C389,BDDG!$A$2:$I$100,9,FALSE))","v":"CC41"},1,60,1.4400000000000002,{"$f":"IF(ISERROR(VLOOKUP(C389,BDDG!$A$2:$J$100,10,FALSE)),\"\",VLOOKUP(C389,BDDG!$A$2:$J$100,10,FALSE))","v":"DD41"},null,null,"",2.7360000000000007,1,2010,{"$f":"IFERROR(INDEX($V$2:V389,MATCH(H389&MAX(IF($H$1:H388=H389,$A$1:A388)),$H$2:H389&$A$2:A389,0))-V389,\"\")","v":-0.57600000000000051}]
["2010-01-28",null,869,{"$f":"IF(ISNA(VLOOKUP(C390,BDDG!$A$2:$F$100,2,FALSE)),\"\",VLOOKUP(C390,BDDG!$A$2:$F$100,2,FALSE))","v":0},{"$f":"IF(ISNA(VLOOKUP(C390,BDDG!$A$3:$J$102,3,FALSE)),\"\",VLOOKUP(C390,BDDG!$A$3:$J$102,3,FALSE))","v":"A"},{"$f":"IF(ISNA(VLOOKUP(C390,BDDG!$A$3:$J$102,4,FALSE)),\"\",VLOOKUP(C390,BDDG!$A$3:$J$102,4,FALSE))","v":108},{"$f":"IF(ISNA(VLOOKUP(C390,BDDG!$A$2:$F$100,5,FALSE)),\"\",VLOOKUP(C390,BDDG!$A$2:$F$100,5,FALSE))","v":"A16"},{"$f":"IF(ISNA(VLOOKUP(C390,BDDG!$A$2:$F$100,6,FALSE)),\"\",VLOOKUP(C390,BDDG!$A$2:$F$100,6,FALSE))","v":"AA40"},{"$f":"IF(ISERROR(VLOOKUP(C390,BDDG!$A$2:$G$100,7,FALSE)),\"\",VLOOKUP(C390,BDDG!$A$2:$G$100,7,FALSE))","v":3},{"$f":"IF(ISERROR(VLOOKUP(C390,BDDG!$A$2:$H$100,8,FALSE)),\"\",VLOOKUP(C390,BDDG!$A$2:$H$100,8,FALSE))","v":"BB40"},1,30,2.8800000000000003,{"$f":"IF(ISERROR(VLOOKUP(C390,BDDG!$A$2:$I$100,9,FALSE)),\"\",VLOOKUP(C390,BDDG!$A$2:$I$100,9,FALSE))","v":"CC40"},null,null,"",{"$f":"IF(ISERROR(VLOOKUP(C390,BDDG!$A$2:$J$100,10,FALSE)),\"\",VLOOKUP(C390,BDDG!$A$2:$J$100,10,FALSE))","v":"DD40"},null,null,"",2.8800000000000003,1,2010,{"$f":"IFERROR(INDEX($V$2:V390,MATCH(H390&MAX(IF($H$1:H389=H390,$A$1:A389)),$H$2:H390&$A$2:A390,0))-V390,\"\")","v":-1.0800000000000003}]
["2010-02-03",null,869,{"$f":"IF(ISNA(VLOOKUP(C391,BDDG!$A$2:$F$100,2,FALSE)),\"\",VLOOKUP(C391,BDDG!$A$2:$F$100,2,FALSE))","v":0},{"$f":"IF(ISNA(VLOOKUP(C391,BDDG!$A$3:$J$102,3,FALSE)),\"\",VLOOKUP(C391,BDDG!$A$3:$J$102,3,FALSE))","v":"A"},{"$f":"IF(ISNA(VLOOKUP(C391,BDDG!$A$3:$J$102,4,FALSE)),\"\",VLOOKUP(C391,BDDG!$A$3:$J$102,4,FALSE))","v":108},{"$f":"IF(ISNA(VLOOKUP(C391,BDDG!$A$2:$F$100,5,FALSE)),\"\",VLOOKUP(C391,BDDG!$A$2:$F$100,5,FALSE))","v":"A16"},{"$f":"IF(ISNA(VLOOKUP(C391,BDDG!$A$2:$F$100,6,FALSE)),\"\",VLOOKUP(C391,BDDG!$A$2:$F$100,6,FALSE))","v":"AA40"},{"$f":"IF(ISERROR(VLOOKUP(C391,BDDG!$A$2:$G$100,7,FALSE)),\"\",VLOOKUP(C391,BDDG!$A$2:$G$100,7,FALSE))","v":3},{"$f":"IF(ISERROR(VLOOKUP(C391,BDDG!$A$2:$H$100,8,FALSE)),\"\",VLOOKUP(C391,BDDG!$A$2:$H$100,8,FALSE))","v":"BB40"},0.6,60,{"$f":" IF(ISERROR(K391/L391*86.4),\"\",K391/L391*86.4)","v":0.8640000000000001},{"$f":"IF(ISERROR(VLOOKUP(C391,BDDG!$A$2:$I$100,9,FALSE)),\"\",VLOOKUP(C391,BDDG!$A$2:$I$100,9,FALSE))","v":"CC40"},null,null,"",{"$f":"IF(ISERROR(VLOOKUP(C391,BDDG!$A$2:$J$100,10,FALSE)),\"\",VLOOKUP(C391,BDDG!$A$2:$J$100,10,FALSE))","v":"DD40"},null,null,"",0.8640000000000001,2,2010,{"$f":"IFERROR(INDEX($V$2:V391,MATCH(H391&MAX(IF($H$1:H390=H391,$A$1:A390)),$H$2:H391&$A$2:A391,0))-V391,\"\")","v":2.016}]
["2010-02-05",null,870,{"$f":"IF(ISNA(VLOOKUP(C392,BDDG!$A$2:$F$100,2,FALSE)),\"\",VLOOKUP(C392,BDDG!$A$2:$F$100,2,FALSE))","v":0},{"$f":"IF(ISNA(VLOOKUP(C392,BDDG!$A$3:$J$102,3,FALSE)),\"\",VLOOKUP(C392,BDDG!$A$3:$J$102,3,FALSE))","v":"A"},{"$f":"IF(ISNA(VLOOKUP(C392,BDDG!$A$3:$J$102,4,FALSE)),\"\",VLOOKUP(C392,BDDG!$A$3:$J$102,4,FALSE))","v":108},{"$f":"IF(ISNA(VLOOKUP(C392,BDDG!$A$2:$F$100,5,FALSE)),\"\",VLOOKUP(C392,BDDG!$A$2:$F$100,5,FALSE))","v":"A16"},{"$f":"IF(ISNA(VLOOKUP(C392,BDDG!$A$2:$F$100,6,FALSE)),\"\",VLOOKUP(C392,BDDG!$A$2:$F$100,6,FALSE))","v":"AA41"},{"$f":"IF(ISERROR(VLOOKUP(C392,BDDG!$A$2:$G$100,7,FALSE)),\"\",VLOOKUP(C392,BDDG!$A$2:$G$100,7,FALSE))","v":2},{"$f":"IF(ISERROR(VLOOKUP(C392,BDDG!$A$2:$H$100,8,FALSE)),\"\",VLOOKUP(C392,BDDG!$A$2:$H$100,8,FALSE))","v":"BB41"},3,10,25.92,{"$f":"IF(ISERROR(VLOOKUP(C392,BDDG!$A$2:$I$100,9,FALSE)),\"\",VLOOKUP(C392,BDDG!$A$2:$I$100,9,FALSE))","v":"CC41"},null,null,"",{"$f":"IF(ISERROR(VLOOKUP(C392,BDDG!$A$2:$J$100,10,FALSE)),\"\",VLOOKUP(C392,BDDG!$A$2:$J$100,10,FALSE))","v":"DD41"},null,null,"",25.92,2,2010,{"$f":"IFERROR(INDEX($V$2:V392,MATCH(H392&MAX(IF($H$1:H391=H392,$A$1:A391)),$H$2:H392&$A$2:A392,0))-V392,\"\")","v":-23.184000000000001}]
["2010-02-10",null,870,{"$f":"IF(ISNA(VLOOKUP(C393,BDDG!$A$2:$F$100,2,FALSE)),\"\",VLOOKUP(C393,BDDG!$A$2:$F$100,2,FALSE))","v":0},{"$f":"IF(ISNA(VLOOKUP(C393,BDDG!$A$3:$J$102,3,FALSE)),\"\",VLOOKUP(C393,BDDG!$A$3:$J$102,3,FALSE))","v":"A"},{"$f":"IF(ISNA(VLOOKUP(C393,BDDG!$A$3:$J$102,4,FALSE)),\"\",VLOOKUP(C393,BDDG!$A$3:$J$102,4,FALSE))","v":108},{"$f":"IF(ISNA(VLOOKUP(C393,BDDG!$A$2:$F$100,5,FALSE)),\"\",VLOOKUP(C393,BDDG!$A$2:$F$100,5,FALSE))","v":"A16"},{"$f":"IF(ISNA(VLOOKUP(C393,BDDG!$A$2:$F$100,6,FALSE)),\"\",VLOOKUP(C393,BDDG!$A$2:$F$100,6,FALSE))","v":"AA41"},{"$f":"IF(ISERROR(VLOOKUP(C393,BDDG!$A$2:$G$100,7,FALSE)),\"\",VLOOKUP(C393,BDDG!$A$2:$G$100,7,FALSE))","v":2},{"$f":"IF(ISERROR(VLOOKUP(C393,BDDG!$A$2:$H$100,8,FALSE)),\"\",VLOOKUP(C393,BDDG!$A$2:$H$100,8,FALSE))","v":"BB41"},2,5,34.56,{"$f":"IF(ISERROR(VLOOKUP(C393,BDDG!$A$2:$I$100,9,FALSE)),\"\",VLOOKUP(C393,BDDG!$A$2:$I$100,9,FALSE))","v":"CC41"},null,null,"",{"$f":"IF(ISERROR(VLOOKUP(C393,BDDG!$A$2:$J$100,10,FALSE)),\"\",VLOOKUP(C393,BDDG!$A$2:$J$100,10,FALSE))","v":"DD41"},null,null,"",34.56,2,2010,{"$f":"IFERROR(INDEX($V$2:V393,MATCH(H393&MAX(IF($H$1:H392=H393,$A$1:A392)),$H$2:H393&$A$2:A393,0))-V393,\"\")","v":-8.64}]
["2010-03-05",null,847,{"$f":"IF(ISNA(VLOOKUP(C394,BDDG!$A$2:$F$100,2,FALSE)),\"\",VLOOKUP(C394,BDDG!$A$2:$F$100,2,FALSE))","v":0},{"$f":"IF(ISNA(VLOOKUP(C394,BDDG!$A$3:$J$102,3,FALSE)),\"\",VLOOKUP(C394,BDDG!$A$3:$J$102,3,FALSE))","v":"B"},{"$f":"IF(ISNA(VLOOKUP(C394,BDDG!$A$3:$J$102,4,FALSE)),\"\",VLOOKUP(C394,BDDG!$A$3:$J$102,4,FALSE))","v":106},{"$f":"IF(ISNA(VLOOKUP(C394,BDDG!$A$2:$F$100,5,FALSE)),\"\",VLOOKUP(C394,BDDG!$A$2:$F$100,5,FALSE))","v":"A7"},{"$f":"IF(ISNA(VLOOKUP(C394,BDDG!$A$2:$F$100,6,FALSE)),\"\",VLOOKUP(C394,BDDG!$A$2:$F$100,6,FALSE))","v":"AA18"},{"$f":"IF(ISERROR(VLOOKUP(C394,BDDG!$A$2:$G$100,7,FALSE)),\"\",VLOOKUP(C394,BDDG!$A$2:$G$100,7,FALSE))","v":2},{"$f":"IF(ISERROR(VLOOKUP(C394,BDDG!$A$2:$H$100,8,FALSE)),\"\",VLOOKUP(C394,BDDG!$A$2:$H$100,8,FALSE))","v":"BB18"},10,16,54,{"$f":"IF(ISERROR(VLOOKUP(C394,BDDG!$A$2:$I$100,9,FALSE)),\"\",VLOOKUP(C394,BDDG!$A$2:$I$100,9,FALSE))","v":"CC18"},10,35,24.685714285714287,{"$f":"IF(ISERROR(VLOOKUP(C394,BDDG!$A$2:$J$100,10,FALSE)),\"\",VLOOKUP(C394,BDDG!$A$2:$J$100,10,FALSE))","v":"DD18"},null,null,"",78.685714285714283,3,2010,{"$f":"IFERROR(INDEX($V$2:V394,MATCH(H394&MAX(IF($H$1:H393=H394,$A$1:A393)),$H$2:H394&$A$2:A394,0))-V394,\"\")","v":-68.605714285714285}]
["2010-03-05",null,868,{"$f":"IF(ISNA(VLOOKUP(C395,BDDG!$A$2:$F$100,2,FALSE)),\"\",VLOOKUP(C395,BDDG!$A$2:$F$100,2,FALSE))","v":0},{"$f":"IF(ISNA(VLOOKUP(C395,BDDG!$A$3:$J$102,3,FALSE)),\"\",VLOOKUP(C395,BDDG!$A$3:$J$102,3,FALSE))","v":"A"},{"$f":"IF(ISNA(VLOOKUP(C395,BDDG!$A$3:$J$102,4,FALSE)),\"\",VLOOKUP(C395,BDDG!$A$3:$J$102,4,FALSE))","v":108},{"$f":"IF(ISNA(VLOOKUP(C395,BDDG!$A$2:$F$100,5,FALSE)),\"\",VLOOKUP(C395,BDDG!$A$2:$F$100,5,FALSE))","v":"A16"},{"$f":"IF(ISNA(VLOOKUP(C395,BDDG!$A$2:$F$100,6,FALSE)),\"\",VLOOKUP(C395,BDDG!$A$2:$F$100,6,FALSE))","v":"AA39"},{"$f":"IF(ISERROR(VLOOKUP(C395,BDDG!$A$2:$G$100,7,FALSE)),\"\",VLOOKUP(C395,BDDG!$A$2:$G$100,7,FALSE))","v":2},{"$f":"IF(ISERROR(VLOOKUP(C395,BDDG!$A$2:$H$100,8,FALSE)),\"\",VLOOKUP(C395,BDDG!$A$2:$H$100,8,FALSE))","v":"BB39"},10,7,123.42857142857144,{"$f":"IF(ISERROR(VLOOKUP(C395,BDDG!$A$2:$I$100,9,FALSE)),\"\",VLOOKUP(C395,BDDG!$A$2:$I$100,9,FALSE))","v":"CC39"},null,null,"",{"$f":"IF(ISERROR(VLOOKUP(C395,BDDG!$A$2:$J$100,10,FALSE)),\"\",VLOOKUP(C395,BDDG!$A$2:$J$100,10,FALSE))","v":"DD39"},null,null,"",123.42857142857144,3,2010,{"$f":"IFERROR(INDEX($V$2:V395,MATCH(H395&MAX(IF($H$1:H394=H395,$A$1:A394)),$H$2:H395&$A$2:A395,0))-V395,\"\")","v":-104.70857142857145}]
["2010-03-05",null,870,{"$f":"IF(ISNA(VLOOKUP(C396,BDDG!$A$2:$F$100,2,FALSE)),\"\",VLOOKUP(C396,BDDG!$A$2:$F$100,2,FALSE))","v":0},{"$f":"IF(ISNA(VLOOKUP(C396,BDDG!$A$3:$J$102,3,FALSE)),\"\",VLOOKUP(C396,BDDG!$A$3:$J$102,3,FALSE))","v":"A"},{"$f":"IF(ISNA(VLOOKUP(C396,BDDG!$A$3:$J$102,4,FALSE)),\"\",VLOOKUP(C396,BDDG!$A$3:$J$102,4,FALSE))","v":108},{"$f":"IF(ISNA(VLOOKUP(C396,BDDG!$A$2:$F$100,5,FALSE)),\"\",VLOOKUP(C396,BDDG!$A$2:$F$100,5,FALSE))","v":"A16"},{"$f":"IF(ISNA(VLOOKUP(C396,BDDG!$A$2:$F$100,6,FALSE)),\"\",VLOOKUP(C396,BDDG!$A$2:$F$100,6,FALSE))","v":"AA41"},{"$f":"IF(ISERROR(VLOOKUP(C396,BDDG!$A$2:$G$100,7,FALSE)),\"\",VLOOKUP(C396,BDDG!$A$2:$G$100,7,FALSE))","v":2},{"$f":"IF(ISERROR(VLOOKUP(C396,BDDG!$A$2:$H$100,8,FALSE)),\"\",VLOOKUP(C396,BDDG!$A$2:$H$100,8,FALSE))","v":"BB41"},10,30,28.8,{"$f":"IF(ISERROR(VLOOKUP(C396,BDDG!$A$2:$I$100,9,FALSE)),\"\",VLOOKUP(C396,BDDG!$A$2:$I$100,9,FALSE))","v":"CC41"},10,30,28.8,{"$f":"IF(ISERROR(VLOOKUP(C396,BDDG!$A$2:$J$100,10,FALSE)),\"\",VLOOKUP(C396,BDDG!$A$2:$J$100,10,FALSE))","v":"DD41"},null,null,"",57.6,3,2010,{"$f":"IFERROR(INDEX($V$2:V396,MATCH(H396&MAX(IF($H$1:H395=H396,$A$1:A395)),$H$2:H396&$A$2:A396,0))-V396,\"\")","v":-23.04}]
["2010-03-08",null,848,{"$f":"IF(ISNA(VLOOKUP(C397,BDDG!$A$2:$F$100,2,FALSE)),\"\",VLOOKUP(C397,BDDG!$A$2:$F$100,2,FALSE))","v":0},{"$f":"IF(ISNA(VLOOKUP(C397,BDDG!$A$3:$J$102,3,FALSE)),\"\",VLOOKUP(C397,BDDG!$A$3:$J$102,3,FALSE))","v":"B"},{"$f":"IF(ISNA(VLOOKUP(C397,BDDG!$A$3:$J$102,4,FALSE)),\"\",VLOOKUP(C397,BDDG!$A$3:$J$102,4,FALSE))","v":106},{"$f":"IF(ISNA(VLOOKUP(C397,BDDG!$A$2:$F$100,5,FALSE)),\"\",VLOOKUP(C397,BDDG!$A$2:$F$100,5,FALSE))","v":"A7"},{"$f":"IF(ISNA(VLOOKUP(C397,BDDG!$A$2:$F$100,6,FALSE)),\"\",VLOOKUP(C397,BDDG!$A$2:$F$100,6,FALSE))","v":"AA19"},{"$f":"IF(ISERROR(VLOOKUP(C397,BDDG!$A$2:$G$100,7,FALSE)),\"\",VLOOKUP(C397,BDDG!$A$2:$G$100,7,FALSE))","v":2},{"$f":"IF(ISERROR(VLOOKUP(C397,BDDG!$A$2:$H$100,8,FALSE)),\"\",VLOOKUP(C397,BDDG!$A$2:$H$100,8,FALSE))","v":"BB19"},10,16,54,{"$f":"IF(ISERROR(VLOOKUP(C397,BDDG!$A$2:$I$100,9,FALSE)),\"\",VLOOKUP(C397,BDDG!$A$2:$I$100,9,FALSE))","v":"CC19"},null,null,"",{"$f":"IF(ISERROR(VLOOKUP(C397,BDDG!$A$2:$J$100,10,FALSE)),\"\",VLOOKUP(C397,BDDG!$A$2:$J$100,10,FALSE))","v":"DD19"},null,null,"",54,3,2010,{"$f":"IFERROR(INDEX($V$2:V397,MATCH(H397&MAX(IF($H$1:H396=H397,$A$1:A396)),$H$2:H397&$A$2:A397,0))-V397,\"\")","v":-41.657142857142858}]
["2010-03-08",null,850,{"$f":"IF(ISNA(VLOOKUP(C398,BDDG!$A$2:$F$100,2,FALSE)),\"\",VLOOKUP(C398,BDDG!$A$2:$F$100,2,FALSE))","v":0},{"$f":"IF(ISNA(VLOOKUP(C398,BDDG!$A$3:$J$102,3,FALSE)),\"\",VLOOKUP(C398,BDDG!$A$3:$J$102,3,FALSE))","v":"B"},{"$f":"IF(ISNA(VLOOKUP(C398,BDDG!$A$3:$J$102,4,FALSE)),\"\",VLOOKUP(C398,BDDG!$A$3:$J$102,4,FALSE))","v":106},{"$f":"IF(ISNA(VLOOKUP(C398,BDDG!$A$2:$F$100,5,FALSE)),\"\",VLOOKUP(C398,BDDG!$A$2:$F$100,5,FALSE))","v":"A8"},{"$f":"IF(ISNA(VLOOKUP(C398,BDDG!$A$2:$F$100,6,FALSE)),\"\",VLOOKUP(C398,BDDG!$A$2:$F$100,6,FALSE))","v":"AA20"},{"$f":"IF(ISERROR(VLOOKUP(C398,BDDG!$A$2:$G$100,7,FALSE)),\"\",VLOOKUP(C398,BDDG!$A$2:$G$100,7,FALSE))","v":1},{"$f":"IF(ISERROR(VLOOKUP(C398,BDDG!$A$2:$H$100,8,FALSE)),\"\",VLOOKUP(C398,BDDG!$A$2:$H$100,8,FALSE))","v":"BB20"},10,18,48.000000000000007,{"$f":"IF(ISERROR(VLOOKUP(C398,BDDG!$A$2:$I$100,9,FALSE)),\"\",VLOOKUP(C398,BDDG!$A$2:$I$100,9,FALSE))","v":"CC20"},null,null,"",{"$f":"IF(ISERROR(VLOOKUP(C398,BDDG!$A$2:$J$100,10,FALSE)),\"\",VLOOKUP(C398,BDDG!$A$2:$J$100,10,FALSE))","v":"DD20"},null,null,"",48.000000000000007,3,2010,{"$f":"IFERROR(INDEX($V$2:V398,MATCH(H398&MAX(IF($H$1:H397=H398,$A$1:A397)),$H$2:H398&$A$2:A398,0))-V398,\"\")","v":-12}]
["2010-03-08",null,844,{"$f":"IF(ISNA(VLOOKUP(C399,BDDG!$A$2:$F$100,2,FALSE)),\"\",VLOOKUP(C399,BDDG!$A$2:$F$100,2,FALSE))","v":0},{"$f":"IF(ISNA(VLOOKUP(C399,BDDG!$A$3:$J$102,3,FALSE)),\"\",VLOOKUP(C399,BDDG!$A$3:$J$102,3,FALSE))","v":"B"},{"$f":"IF(ISNA(VLOOKUP(C399,BDDG!$A$3:$J$102,4,FALSE)),\"\",VLOOKUP(C399,BDDG!$A$3:$J$102,4,FALSE))","v":106},{"$f":"IF(ISNA(VLOOKUP(C399,BDDG!$A$2:$F$100,5,FALSE)),\"\",VLOOKUP(C399,BDDG!$A$2:$F$100,5,FALSE))","v":"A6"},{"$f":"IF(ISNA(VLOOKUP(C399,BDDG!$A$2:$F$100,6,FALSE)),\"\",VLOOKUP(C399,BDDG!$A$2:$F$100,6,FALSE))","v":"AA14"},{"$f":"IF(ISERROR(VLOOKUP(C399,BDDG!$A$2:$G$100,7,FALSE)),\"\",VLOOKUP(C399,BDDG!$A$2:$G$100,7,FALSE))","v":2},{"$f":"IF(ISERROR(VLOOKUP(C399,BDDG!$A$2:$H$100,8,FALSE)),\"\",VLOOKUP(C399,BDDG!$A$2:$H$100,8,FALSE))","v":"BB14"},1,1,86.4,{"$f":"IF(ISERROR(VLOOKUP(C399,BDDG!$A$2:$I$100,9,FALSE)),\"\",VLOOKUP(C399,BDDG!$A$2:$I$100,9,FALSE))","v":"CC14"},null,null,"",{"$f":"IF(ISERROR(VLOOKUP(C399,BDDG!$A$2:$J$100,10,FALSE)),\"\",VLOOKUP(C399,BDDG!$A$2:$J$100,10,FALSE))","v":"DD14"},null,null,"",86.4,3,2010,{"$f":"IFERROR(INDEX($V$2:V399,MATCH(H399&MAX(IF($H$1:H398=H399,$A$1:A398)),$H$2:H399&$A$2:A399,0))-V399,\"\")","v":-14.399999999999991}]
["2010-03-17",null,868,{"$f":"IF(ISNA(VLOOKUP(C400,BDDG!$A$2:$F$100,2,FALSE)),\"\",VLOOKUP(C400,BDDG!$A$2:$F$100,2,FALSE))","v":0},{"$f":"IF(ISNA(VLOOKUP(C400,BDDG!$A$3:$J$102,3,FALSE)),\"\",VLOOKUP(C400,BDDG!$A$3:$J$102,3,FALSE))","v":"A"},{"$f":"IF(ISNA(VLOOKUP(C400,BDDG!$A$3:$J$102,4,FALSE)),\"\",VLOOKUP(C400,BDDG!$A$3:$J$102,4,FALSE))","v":108},{"$f":"IF(ISNA(VLOOKUP(C400,BDDG!$A$2:$F$100,5,FALSE)),\"\",VLOOKUP(C400,BDDG!$A$2:$F$100,5,FALSE))","v":"A16"},{"$f":"IF(ISNA(VLOOKUP(C400,BDDG!$A$2:$F$100,6,FALSE)),\"\",VLOOKUP(C400,BDDG!$A$2:$F$100,6,FALSE))","v":"AA39"},{"$f":"IF(ISERROR(VLOOKUP(C400,BDDG!$A$2:$G$100,7,FALSE)),\"\",VLOOKUP(C400,BDDG!$A$2:$G$100,7,FALSE))","v":2},{"$f":"IF(ISERROR(VLOOKUP(C400,BDDG!$A$2:$H$100,8,FALSE)),\"\",VLOOKUP(C400,BDDG!$A$2:$H$100,8,FALSE))","v":"BB39"},10,8,108,{"$f":"IF(ISERROR(VLOOKUP(C400,BDDG!$A$2:$I$100,9,FALSE)),\"\",VLOOKUP(C400,BDDG!$A$2:$I$100,9,FALSE))","v":"CC39"},null,null,"",{"$f":"IF(ISERROR(VLOOKUP(C400,BDDG!$A$2:$J$100,10,FALSE)),\"\",VLOOKUP(C400,BDDG!$A$2:$J$100,10,FALSE))","v":"DD39"},null,null,"",108,3,2010,{"$f":"IFERROR(INDEX($V$2:V400,MATCH(H400&MAX(IF($H$1:H399=H400,$A$1:A399)),$H$2:H400&$A$2:A400,0))-V400,\"\")","v":15.428571428571445}]
["2010-03-19",null,832,{"$f":"IF(ISNA(VLOOKUP(C401,BDDG!$A$2:$F$100,2,FALSE)),\"\",VLOOKUP(C401,BDDG!$A$2:$F$100,2,FALSE))","v":0},{"$f":"IF(ISNA(VLOOKUP(C401,BDDG!$A$3:$J$102,3,FALSE)),\"\",VLOOKUP(C401,BDDG!$A$3:$J$102,3,FALSE))","v":"A"},{"$f":"IF(ISNA(VLOOKUP(C401,BDDG!$A$3:$J$102,4,FALSE)),\"\",VLOOKUP(C401,BDDG!$A$3:$J$102,4,FALSE))","v":106},{"$f":"IF(ISNA(VLOOKUP(C401,BDDG!$A$2:$F$100,5,FALSE)),\"\",VLOOKUP(C401,BDDG!$A$2:$F$100,5,FALSE))","v":"A2"},{"$f":"IF(ISNA(VLOOKUP(C401,BDDG!$A$2:$F$100,6,FALSE)),\"\",VLOOKUP(C401,BDDG!$A$2:$F$100,6,FALSE))","v":"AA2"},{"$f":"IF(ISERROR(VLOOKUP(C401,BDDG!$A$2:$G$100,7,FALSE)),\"\",VLOOKUP(C401,BDDG!$A$2:$G$100,7,FALSE))","v":1},{"$f":"IF(ISERROR(VLOOKUP(C401,BDDG!$A$2:$H$100,8,FALSE)),\"\",VLOOKUP(C401,BDDG!$A$2:$H$100,8,FALSE))","v":"BB2"},10,10,86.4,{"$f":"IF(ISERROR(VLOOKUP(C401,BDDG!$A$2:$I$100,9,FALSE)),\"\",VLOOKUP(C401,BDDG!$A$2:$I$100,9,FALSE))","v":"CC2"},null,null,"",{"$f":"IF(ISERROR(VLOOKUP(C401,BDDG!$A$2:$J$100,10,FALSE)),\"\",VLOOKUP(C401,BDDG!$A$2:$J$100,10,FALSE))","v":"DD2"},null,null,"",86.4,3,2010,{"$f":"IFERROR(INDEX($V$2:V401,MATCH(H401&MAX(IF($H$1:H400=H401,$A$1:A400)),$H$2:H401&$A$2:A401,0))-V401,\"\")","v":-72}]
["2010-03-19",null,833,{"$f":"IF(ISNA(VLOOKUP(C402,BDDG!$A$2:$F$100,2,FALSE)),\"\",VLOOKUP(C402,BDDG!$A$2:$F$100,2,FALSE))","v":0},{"$f":"IF(ISNA(VLOOKUP(C402,BDDG!$A$3:$J$102,3,FALSE)),\"\",VLOOKUP(C402,BDDG!$A$3:$J$102,3,FALSE))","v":"A"},{"$f":"IF(ISNA(VLOOKUP(C402,BDDG!$A$3:$J$102,4,FALSE)),\"\",VLOOKUP(C402,BDDG!$A$3:$J$102,4,FALSE))","v":106},{"$f":"IF(ISNA(VLOOKUP(C402,BDDG!$A$2:$F$100,5,FALSE)),\"\",VLOOKUP(C402,BDDG!$A$2:$F$100,5,FALSE))","v":"A2"},{"$f":"IF(ISNA(VLOOKUP(C402,BDDG!$A$2:$F$100,6,FALSE)),\"\",VLOOKUP(C402,BDDG!$A$2:$F$100,6,FALSE))","v":"AA3"},{"$f":"IF(ISERROR(VLOOKUP(C402,BDDG!$A$2:$G$100,7,FALSE)),\"\",VLOOKUP(C402,BDDG!$A$2:$G$100,7,FALSE))","v":1},{"$f":"IF(ISERROR(VLOOKUP(C402,BDDG!$A$2:$H$100,8,FALSE)),\"\",VLOOKUP(C402,BDDG!$A$2:$H$100,8,FALSE))","v":"BB3"},10,17,50.82352941176471,{"$f":"IF(ISERROR(VLOOKUP(C402,BDDG!$A$2:$I$100,9,FALSE)),\"\",VLOOKUP(C402,BDDG!$A$2:$I$100,9,FALSE))","v":"CC3"},null,null,"",{"$f":"IF(ISERROR(VLOOKUP(C402,BDDG!$A$2:$J$100,10,FALSE)),\"\",VLOOKUP(C402,BDDG!$A$2:$J$100,10,FALSE))","v":"DD3"},null,null,"",{"$f":"IF(ISERROR(SUM(M402,Q402,U402)),\"\",SUM(M402,Q402,U402))","v":50.82352941176471},3,2010,{"$f":"IFERROR(INDEX($V$2:V402,MATCH(H402&MAX(IF($H$1:H401=H402,$A$1:A401)),$H$2:H402&$A$2:A402,0))-V402,\"\")","v":-9.6806722689075642}]
["2010-03-19",null,834,{"$f":"IF(ISNA(VLOOKUP(C403,BDDG!$A$2:$F$100,2,FALSE)),\"\",VLOOKUP(C403,BDDG!$A$2:$F$100,2,FALSE))","v":0},{"$f":"IF(ISNA(VLOOKUP(C403,BDDG!$A$3:$J$102,3,FALSE)),\"\",VLOOKUP(C403,BDDG!$A$3:$J$102,3,FALSE))","v":"A"},{"$f":"IF(ISNA(VLOOKUP(C403,BDDG!$A$3:$J$102,4,FALSE)),\"\",VLOOKUP(C403,BDDG!$A$3:$J$102,4,FALSE))","v":106},{"$f":"IF(ISNA(VLOOKUP(C403,BDDG!$A$2:$F$100,5,FALSE)),\"\",VLOOKUP(C403,BDDG!$A$2:$F$100,5,FALSE))","v":"A2"},{"$f":"IF(ISNA(VLOOKUP(C403,BDDG!$A$2:$F$100,6,FALSE)),\"\",VLOOKUP(C403,BDDG!$A$2:$F$100,6,FALSE))","v":"AA4"},{"$f":"IF(ISERROR(VLOOKUP(C403,BDDG!$A$2:$G$100,7,FALSE)),\"\",VLOOKUP(C403,BDDG!$A$2:$G$100,7,FALSE))","v":1},{"$f":"IF(ISERROR(VLOOKUP(C403,BDDG!$A$2:$H$100,8,FALSE)),\"\",VLOOKUP(C403,BDDG!$A$2:$H$100,8,FALSE))","v":"BB4"},10,36,24.000000000000004,{"$f":"IF(ISERROR(VLOOKUP(C403,BDDG!$A$2:$I$100,9,FALSE)),\"\",VLOOKUP(C403,BDDG!$A$2:$I$100,9,FALSE))","v":"CC4"},null,null,"",{"$f":"IF(ISERROR(VLOOKUP(C403,BDDG!$A$2:$J$100,10,FALSE)),\"\",VLOOKUP(C403,BDDG!$A$2:$J$100,10,FALSE))","v":"DD4"},null,null,"",24.000000000000004,3,2010,{"$f":"IFERROR(INDEX($V$2:V403,MATCH(H403&MAX(IF($H$1:H402=H403,$A$1:A402)),$H$2:H403&$A$2:A403,0))-V403,\"\")","v":-7.3846153846153868}]
["2010-03-21",null,835,{"$f":"IF(ISNA(VLOOKUP(C404,BDDG!$A$2:$F$100,2,FALSE)),\"\",VLOOKUP(C404,BDDG!$A$2:$F$100,2,FALSE))","v":0},{"$f":"IF(ISNA(VLOOKUP(C404,BDDG!$A$3:$J$102,3,FALSE)),\"\",VLOOKUP(C404,BDDG!$A$3:$J$102,3,FALSE))","v":"A"},{"$f":"IF(ISNA(VLOOKUP(C404,BDDG!$A$3:$J$102,4,FALSE)),\"\",VLOOKUP(C404,BDDG!$A$3:$J$102,4,FALSE))","v":106},{"$f":"IF(ISNA(VLOOKUP(C404,BDDG!$A$2:$F$100,5,FALSE)),\"\",VLOOKUP(C404,BDDG!$A$2:$F$100,5,FALSE))","v":"A3"},{"$f":"IF(ISNA(VLOOKUP(C404,BDDG!$A$2:$F$100,6,FALSE)),\"\",VLOOKUP(C404,BDDG!$A$2:$F$100,6,FALSE))","v":"AA5"},{"$f":"IF(ISERROR(VLOOKUP(C404,BDDG!$A$2:$G$100,7,FALSE)),\"\",VLOOKUP(C404,BDDG!$A$2:$G$100,7,FALSE))","v":1},{"$f":"IF(ISERROR(VLOOKUP(C404,BDDG!$A$2:$H$100,8,FALSE)),\"\",VLOOKUP(C404,BDDG!$A$2:$H$100,8,FALSE))","v":"BB5"},5,39,11.076923076923077,{"$f":"IF(ISERROR(VLOOKUP(C404,BDDG!$A$2:$I$100,9,FALSE)),\"\",VLOOKUP(C404,BDDG!$A$2:$I$100,9,FALSE))","v":"CC5"},null,null,"",{"$f":"IF(ISERROR(VLOOKUP(C404,BDDG!$A$2:$J$100,10,FALSE)),\"\",VLOOKUP(C404,BDDG!$A$2:$J$100,10,FALSE))","v":"DD5"},null,null,"",11.076923076923077,3,2010,{"$f":"IFERROR(INDEX($V$2:V404,MATCH(H404&MAX(IF($H$1:H403=H404,$A$1:A403)),$H$2:H404&$A$2:A404,0))-V404,\"\")","v":-8.1969230769230759}]
["2010-03-22",null,839,{"$f":"IF(ISNA(VLOOKUP(C405,BDDG!$A$2:$F$100,2,FALSE)),\"\",VLOOKUP(C405,BDDG!$A$2:$F$100,2,FALSE))","v":0},{"$f":"IF(ISNA(VLOOKUP(C405,BDDG!$A$3:$J$102,3,FALSE)),\"\",VLOOKUP(C405,BDDG!$A$3:$J$102,3,FALSE))","v":"A"},{"$f":"IF(ISNA(VLOOKUP(C405,BDDG!$A$3:$J$102,4,FALSE)),\"\",VLOOKUP(C405,BDDG!$A$3:$J$102,4,FALSE))","v":106},{"$f":"IF(ISNA(VLOOKUP(C405,BDDG!$A$2:$F$100,5,FALSE)),\"\",VLOOKUP(C405,BDDG!$A$2:$F$100,5,FALSE))","v":"A3"},{"$f":"IF(ISNA(VLOOKUP(C405,BDDG!$A$2:$F$100,6,FALSE)),\"\",VLOOKUP(C405,BDDG!$A$2:$F$100,6,FALSE))","v":"AA10"},{"$f":"IF(ISERROR(VLOOKUP(C405,BDDG!$A$2:$G$100,7,FALSE)),\"\",VLOOKUP(C405,BDDG!$A$2:$G$100,7,FALSE))","v":2},{"$f":"IF(ISERROR(VLOOKUP(C405,BDDG!$A$2:$H$100,8,FALSE)),\"\",VLOOKUP(C405,BDDG!$A$2:$H$100,8,FALSE))","v":"BB10"},10,7,123.42857142857144,{"$f":"IF(ISERROR(VLOOKUP(C405,BDDG!$A$2:$I$100,9,FALSE)),\"\",VLOOKUP(C405,BDDG!$A$2:$I$100,9,FALSE))","v":"CC10"},null,null,"",{"$f":"IF(ISERROR(VLOOKUP(C405,BDDG!$A$2:$J$100,10,FALSE)),\"\",VLOOKUP(C405,BDDG!$A$2:$J$100,10,FALSE))","v":"DD10"},null,null,"",123.42857142857144,3,2010,{"$f":"IFERROR(INDEX($V$2:V405,MATCH(H405&MAX(IF($H$1:H404=H405,$A$1:A404)),$H$2:H405&$A$2:A405,0))-V405,\"\")","v":-92.571428571428584}]
["2010-03-22",null,837,{"$f":"IF(ISNA(VLOOKUP(C406,BDDG!$A$2:$F$100,2,FALSE)),\"\",VLOOKUP(C406,BDDG!$A$2:$F$100,2,FALSE))","v":0},{"$f":"IF(ISNA(VLOOKUP(C406,BDDG!$A$3:$J$102,3,FALSE)),\"\",VLOOKUP(C406,BDDG!$A$3:$J$102,3,FALSE))","v":"A"},{"$f":"IF(ISNA(VLOOKUP(C406,BDDG!$A$3:$J$102,4,FALSE)),\"\",VLOOKUP(C406,BDDG!$A$3:$J$102,4,FALSE))","v":106},{"$f":"IF(ISNA(VLOOKUP(C406,BDDG!$A$2:$F$100,5,FALSE)),\"\",VLOOKUP(C406,BDDG!$A$2:$F$100,5,FALSE))","v":"A3"},{"$f":"IF(ISNA(VLOOKUP(C406,BDDG!$A$2:$F$100,6,FALSE)),\"\",VLOOKUP(C406,BDDG!$A$2:$F$100,6,FALSE))","v":"AA7"},{"$f":"IF(ISERROR(VLOOKUP(C406,BDDG!$A$2:$G$100,7,FALSE)),\"\",VLOOKUP(C406,BDDG!$A$2:$G$100,7,FALSE))","v":1},{"$f":"IF(ISERROR(VLOOKUP(C406,BDDG!$A$2:$H$100,8,FALSE)),\"\",VLOOKUP(C406,BDDG!$A$2:$H$100,8,FALSE))","v":"BB7"},5,7,61.714285714285722,{"$f":"IF(ISERROR(VLOOKUP(C406,BDDG!$A$2:$I$100,9,FALSE)),\"\",VLOOKUP(C406,BDDG!$A$2:$I$100,9,FALSE))","v":"CC7"},null,null,"",{"$f":"IF(ISERROR(VLOOKUP(C406,BDDG!$A$2:$J$100,10,FALSE)),\"\",VLOOKUP(C406,BDDG!$A$2:$J$100,10,FALSE))","v":"DD7"},null,null,"",61.714285714285722,3,2010,{"$f":"IFERROR(INDEX($V$2:V406,MATCH(H406&MAX(IF($H$1:H405=H406,$A$1:A405)),$H$2:H406&$A$2:A406,0))-V406,\"\")","v":-46.11861784424962}]
["2010-03-22",null,836,{"$f":"IF(ISNA(VLOOKUP(C407,BDDG!$A$2:$F$100,2,FALSE)),\"\",VLOOKUP(C407,BDDG!$A$2:$F$100,2,FALSE))","v":0},{"$f":"IF(ISNA(VLOOKUP(C407,BDDG!$A$3:$J$102,3,FALSE)),\"\",VLOOKUP(C407,BDDG!$A$3:$J$102,3,FALSE))","v":"A"},{"$f":"IF(ISNA(VLOOKUP(C407,BDDG!$A$3:$J$102,4,FALSE)),\"\",VLOOKUP(C407,BDDG!$A$3:$J$102,4,FALSE))","v":106},{"$f":"IF(ISNA(VLOOKUP(C407,BDDG!$A$2:$F$100,5,FALSE)),\"\",VLOOKUP(C407,BDDG!$A$2:$F$100,5,FALSE))","v":"A3"},{"$f":"IF(ISNA(VLOOKUP(C407,BDDG!$A$2:$F$100,6,FALSE)),\"\",VLOOKUP(C407,BDDG!$A$2:$F$100,6,FALSE))","v":"AA6"},{"$f":"IF(ISERROR(VLOOKUP(C407,BDDG!$A$2:$G$100,7,FALSE)),\"\",VLOOKUP(C407,BDDG!$A$2:$G$100,7,FALSE))","v":1},{"$f":"IF(ISERROR(VLOOKUP(C407,BDDG!$A$2:$H$100,8,FALSE)),\"\",VLOOKUP(C407,BDDG!$A$2:$H$100,8,FALSE))","v":"BB6"},5,7,61.714285714285722,{"$f":"IF(ISERROR(VLOOKUP(C407,BDDG!$A$2:$I$100,9,FALSE)),\"\",VLOOKUP(C407,BDDG!$A$2:$I$100,9,FALSE))","v":"CC6"},null,null,{"$f":" IF(ISERROR(O407/P407*86.4),\"\",O407/P407*86.4)","v":""},{"$f":"IF(ISERROR(VLOOKUP(C407,BDDG!$A$2:$J$100,10,FALSE)),\"\",VLOOKUP(C407,BDDG!$A$2:$J$100,10,FALSE))","v":"DD6"},null,null,"",61.714285714285722,3,2010,{"$f":"IFERROR(INDEX($V$2:V407,MATCH(H407&MAX(IF($H$1:H406=H407,$A$1:A406)),$H$2:H407&$A$2:A407,0))-V407,\"\")","v":-40.114285714285721}]
["2010-03-23",null,856,{"$f":"IF(ISNA(VLOOKUP(C408,BDDG!$A$2:$F$100,2,FALSE)),\"\",VLOOKUP(C408,BDDG!$A$2:$F$100,2,FALSE))","v":0},{"$f":"IF(ISNA(VLOOKUP(C408,BDDG!$A$3:$J$102,3,FALSE)),\"\",VLOOKUP(C408,BDDG!$A$3:$J$102,3,FALSE))","v":"A"},{"$f":"IF(ISNA(VLOOKUP(C408,BDDG!$A$3:$J$102,4,FALSE)),\"\",VLOOKUP(C408,BDDG!$A$3:$J$102,4,FALSE))","v":106},{"$f":"IF(ISNA(VLOOKUP(C408,BDDG!$A$2:$F$100,5,FALSE)),\"\",VLOOKUP(C408,BDDG!$A$2:$F$100,5,FALSE))","v":"A9"},{"$f":"IF(ISNA(VLOOKUP(C408,BDDG!$A$2:$F$100,6,FALSE)),\"\",VLOOKUP(C408,BDDG!$A$2:$F$100,6,FALSE))","v":"AA27"},{"$f":"IF(ISERROR(VLOOKUP(C408,BDDG!$A$2:$G$100,7,FALSE)),\"\",VLOOKUP(C408,BDDG!$A$2:$G$100,7,FALSE))","v":2},{"$f":"IF(ISERROR(VLOOKUP(C408,BDDG!$A$2:$H$100,8,FALSE)),\"\",VLOOKUP(C408,BDDG!$A$2:$H$100,8,FALSE))","v":"BB27"},10,20,43.2,{"$f":"IF(ISERROR(VLOOKUP(C408,BDDG!$A$2:$I$100,9,FALSE)),\"\",VLOOKUP(C408,BDDG!$A$2:$I$100,9,FALSE))","v":"CC27"},9,4.3,375.65,{"$f":"IF(ISERROR(VLOOKUP(C408,BDDG!$A$2:$J$100,10,FALSE)),\"\",VLOOKUP(C408,BDDG!$A$2:$J$100,10,FALSE))","v":"DD27"},null,null,"",418.84999999999997,3,2010,{"$f":"IFERROR(INDEX($V$2:V408,MATCH(H408&MAX(IF($H$1:H407=H408,$A$1:A407)),$H$2:H408&$A$2:A408,0))-V408,\"\")","v":-352.38846153846151}]
["2010-03-23",null,852,{"$f":"IF(ISNA(VLOOKUP(C409,BDDG!$A$2:$F$100,2,FALSE)),\"\",VLOOKUP(C409,BDDG!$A$2:$F$100,2,FALSE))","v":0},{"$f":"IF(ISNA(VLOOKUP(C409,BDDG!$A$3:$J$102,3,FALSE)),\"\",VLOOKUP(C409,BDDG!$A$3:$J$102,3,FALSE))","v":"A"},{"$f":"IF(ISNA(VLOOKUP(C409,BDDG!$A$3:$J$102,4,FALSE)),\"\",VLOOKUP(C409,BDDG!$A$3:$J$102,4,FALSE))","v":106},{"$f":"IF(ISNA(VLOOKUP(C409,BDDG!$A$2:$F$100,5,FALSE)),\"\",VLOOKUP(C409,BDDG!$A$2:$F$100,5,FALSE))","v":"A9"},{"$f":"IF(ISNA(VLOOKUP(C409,BDDG!$A$2:$F$100,6,FALSE)),\"\",VLOOKUP(C409,BDDG!$A$2:$F$100,6,FALSE))","v":"AA22"},{"$f":"IF(ISERROR(VLOOKUP(C409,BDDG!$A$2:$G$100,7,FALSE)),\"\",VLOOKUP(C409,BDDG!$A$2:$G$100,7,FALSE))","v":1},{"$f":"IF(ISERROR(VLOOKUP(C409,BDDG!$A$2:$H$100,8,FALSE)),\"\",VLOOKUP(C409,BDDG!$A$2:$H$100,8,FALSE))","v":"BB22"},10,52,16.615384615384617,{"$f":"IF(ISERROR(VLOOKUP(C409,BDDG!$A$2:$I$100,9,FALSE)),\"\",VLOOKUP(C409,BDDG!$A$2:$I$100,9,FALSE))","v":"CC22"},null,null,{"$f":" IF(ISERROR(O409/P409*86.4),\"\",O409/P409*86.4)","v":""},{"$f":"IF(ISERROR(VLOOKUP(C409,BDDG!$A$2:$J$100,10,FALSE)),\"\",VLOOKUP(C409,BDDG!$A$2:$J$100,10,FALSE))","v":"DD22"},null,null,"",16.615384615384617,3,2010,{"$f":"IFERROR(INDEX($V$2:V409,MATCH(H409&MAX(IF($H$1:H408=H409,$A$1:A408)),$H$2:H409&$A$2:A409,0))-V409,\"\")","v":-2.6799007444168748}]
["2010-04-30",null,842,{"$f":"IF(ISNA(VLOOKUP(C410,BDDG!$A$2:$F$100,2,FALSE)),\"\",VLOOKUP(C410,BDDG!$A$2:$F$100,2,FALSE))","v":0},{"$f":"IF(ISNA(VLOOKUP(C410,BDDG!$A$3:$J$102,3,FALSE)),\"\",VLOOKUP(C410,BDDG!$A$3:$J$102,3,FALSE))","v":"B"},{"$f":"IF(ISNA(VLOOKUP(C410,BDDG!$A$3:$J$102,4,FALSE)),\"\",VLOOKUP(C410,BDDG!$A$3:$J$102,4,FALSE))","v":106},{"$f":"IF(ISNA(VLOOKUP(C410,BDDG!$A$2:$F$100,5,FALSE)),\"\",VLOOKUP(C410,BDDG!$A$2:$F$100,5,FALSE))","v":"A5"},{"$f":"IF(ISNA(VLOOKUP(C410,BDDG!$A$2:$F$100,6,FALSE)),\"\",VLOOKUP(C410,BDDG!$A$2:$F$100,6,FALSE))","v":"AA13"},{"$f":"IF(ISERROR(VLOOKUP(C410,BDDG!$A$2:$G$100,7,FALSE)),\"\",VLOOKUP(C410,BDDG!$A$2:$G$100,7,FALSE))","v":1},{"$f":"IF(ISERROR(VLOOKUP(C410,BDDG!$A$2:$H$100,8,FALSE)),\"\",VLOOKUP(C410,BDDG!$A$2:$H$100,8,FALSE))","v":"BB13"},5,18,{"$f":" IF(ISERROR(K410/L410*86.4),\"\",K410/L410*86.4)","v":24.000000000000004},{"$f":"IF(ISERROR(VLOOKUP(C410,BDDG!$A$2:$I$100,9,FALSE)),\"\",VLOOKUP(C410,BDDG!$A$2:$I$100,9,FALSE))","v":"CC13"},null,null,"",{"$f":"IF(ISERROR(VLOOKUP(C410,BDDG!$A$2:$J$100,10,FALSE)),\"\",VLOOKUP(C410,BDDG!$A$2:$J$100,10,FALSE))","v":"DD13"},null,null,"",24.000000000000004,4,2010,{"$f":"IFERROR(INDEX($V$2:V410,MATCH(H410&MAX(IF($H$1:H409=H410,$A$1:A409)),$H$2:H410&$A$2:A410,0))-V410,\"\")","v":-10.500000000000004}]
["2010-04-30",null,848,{"$f":"IF(ISNA(VLOOKUP(C411,BDDG!$A$2:$F$100,2,FALSE)),\"\",VLOOKUP(C411,BDDG!$A$2:$F$100,2,FALSE))","v":0},{"$f":"IF(ISNA(VLOOKUP(C411,BDDG!$A$3:$J$102,3,FALSE)),\"\",VLOOKUP(C411,BDDG!$A$3:$J$102,3,FALSE))","v":"B"},{"$f":"IF(ISNA(VLOOKUP(C411,BDDG!$A$3:$J$102,4,FALSE)),\"\",VLOOKUP(C411,BDDG!$A$3:$J$102,4,FALSE))","v":106},{"$f":"IF(ISNA(VLOOKUP(C411,BDDG!$A$2:$F$100,5,FALSE)),\"\",VLOOKUP(C411,BDDG!$A$2:$F$100,5,FALSE))","v":"A7"},{"$f":"IF(ISNA(VLOOKUP(C411,BDDG!$A$2:$F$100,6,FALSE)),\"\",VLOOKUP(C411,BDDG!$A$2:$F$100,6,FALSE))","v":"AA19"},{"$f":"IF(ISERROR(VLOOKUP(C411,BDDG!$A$2:$G$100,7,FALSE)),\"\",VLOOKUP(C411,BDDG!$A$2:$G$100,7,FALSE))","v":2},{"$f":"IF(ISERROR(VLOOKUP(C411,BDDG!$A$2:$H$100,8,FALSE)),\"\",VLOOKUP(C411,BDDG!$A$2:$H$100,8,FALSE))","v":"BB19"},5,25,17.28,{"$f":"IF(ISERROR(VLOOKUP(C411,BDDG!$A$2:$I$100,9,FALSE)),\"\",VLOOKUP(C411,BDDG!$A$2:$I$100,9,FALSE))","v":"CC19"},null,null,"",{"$f":"IF(ISERROR(VLOOKUP(C411,BDDG!$A$2:$J$100,10,FALSE)),\"\",VLOOKUP(C411,BDDG!$A$2:$J$100,10,FALSE))","v":"DD19"},null,null,"",17.28,4,2010,{"$f":"IFERROR(INDEX($V$2:V411,MATCH(H411&MAX(IF($H$1:H410=H411,$A$1:A410)),$H$2:H411&$A$2:A411,0))-V411,\"\")","v":36.72}]
["2010-04-30",null,847,{"$f":"IF(ISNA(VLOOKUP(C412,BDDG!$A$2:$F$100,2,FALSE)),\"\",VLOOKUP(C412,BDDG!$A$2:$F$100,2,FALSE))","v":0},{"$f":"IF(ISNA(VLOOKUP(C412,BDDG!$A$3:$J$102,3,FALSE)),\"\",VLOOKUP(C412,BDDG!$A$3:$J$102,3,FALSE))","v":"B"},{"$f":"IF(ISNA(VLOOKUP(C412,BDDG!$A$3:$J$102,4,FALSE)),\"\",VLOOKUP(C412,BDDG!$A$3:$J$102,4,FALSE))","v":106},{"$f":"IF(ISNA(VLOOKUP(C412,BDDG!$A$2:$F$100,5,FALSE)),\"\",VLOOKUP(C412,BDDG!$A$2:$F$100,5,FALSE))","v":"A7"},{"$f":"IF(ISNA(VLOOKUP(C412,BDDG!$A$2:$F$100,6,FALSE)),\"\",VLOOKUP(C412,BDDG!$A$2:$F$100,6,FALSE))","v":"AA18"},{"$f":"IF(ISERROR(VLOOKUP(C412,BDDG!$A$2:$G$100,7,FALSE)),\"\",VLOOKUP(C412,BDDG!$A$2:$G$100,7,FALSE))","v":2},{"$f":"IF(ISERROR(VLOOKUP(C412,BDDG!$A$2:$H$100,8,FALSE)),\"\",VLOOKUP(C412,BDDG!$A$2:$H$100,8,FALSE))","v":"BB18"},5,25,17.28,{"$f":"IF(ISERROR(VLOOKUP(C412,BDDG!$A$2:$I$100,9,FALSE)),\"\",VLOOKUP(C412,BDDG!$A$2:$I$100,9,FALSE))","v":"CC18"},5,25,17.28,{"$f":"IF(ISERROR(VLOOKUP(C412,BDDG!$A$2:$J$100,10,FALSE)),\"\",VLOOKUP(C412,BDDG!$A$2:$J$100,10,FALSE))","v":"DD18"},null,null,"",34.56,4,2010,{"$f":"IFERROR(INDEX($V$2:V412,MATCH(H412&MAX(IF($H$1:H411=H412,$A$1:A411)),$H$2:H412&$A$2:A412,0))-V412,\"\")","v":44.125714285714281}]
["2010-04-30",null,849,{"$f":"IF(ISNA(VLOOKUP(C413,BDDG!$A$2:$F$100,2,FALSE)),\"\",VLOOKUP(C413,BDDG!$A$2:$F$100,2,FALSE))","v":0},{"$f":"IF(ISNA(VLOOKUP(C413,BDDG!$A$3:$J$102,3,FALSE)),\"\",VLOOKUP(C413,BDDG!$A$3:$J$102,3,FALSE))","v":"B"},{"$f":"IF(ISNA(VLOOKUP(C413,BDDG!$A$3:$J$102,4,FALSE)),\"\",VLOOKUP(C413,BDDG!$A$3:$J$102,4,FALSE))","v":106},{"$f":"IF(ISNA(VLOOKUP(C413,BDDG!$A$2:$F$100,5,FALSE)),\"\",VLOOKUP(C413,BDDG!$A$2:$F$100,5,FALSE))","v":"A7"},{"$f":"IF(ISNA(VLOOKUP(C413,BDDG!$A$2:$F$100,6,FALSE)),\"\",VLOOKUP(C413,BDDG!$A$2:$F$100,6,FALSE))","v":"AA15"},{"$f":"IF(ISERROR(VLOOKUP(C413,BDDG!$A$2:$G$100,7,FALSE)),\"\",VLOOKUP(C413,BDDG!$A$2:$G$100,7,FALSE))","v":2},{"$f":"IF(ISERROR(VLOOKUP(C413,BDDG!$A$2:$H$100,8,FALSE)),\"\",VLOOKUP(C413,BDDG!$A$2:$H$100,8,FALSE))","v":"BB15"},5,23,18.782608695652176,{"$f":"IF(ISERROR(VLOOKUP(C413,BDDG!$A$2:$I$100,9,FALSE)),\"\",VLOOKUP(C413,BDDG!$A$2:$I$100,9,FALSE))","v":"CC15"},5,18,24.000000000000004,{"$f":"IF(ISERROR(VLOOKUP(C413,BDDG!$A$2:$J$100,10,FALSE)),\"\",VLOOKUP(C413,BDDG!$A$2:$J$100,10,FALSE))","v":"DD15"},null,null,"",42.782608695652179,4,2010,{"$f":"IFERROR(INDEX($V$2:V413,MATCH(H413&MAX(IF($H$1:H412=H413,$A$1:A412)),$H$2:H413&$A$2:A413,0))-V413,\"\")","v":-18.16254790537862}]
["2010-05-08",null,834,{"$f":"IF(ISNA(VLOOKUP(C414,BDDG!$A$2:$F$100,2,FALSE)),\"\",VLOOKUP(C414,BDDG!$A$2:$F$100,2,FALSE))","v":0},{"$f":"IF(ISNA(VLOOKUP(C414,BDDG!$A$3:$J$102,3,FALSE)),\"\",VLOOKUP(C414,BDDG!$A$3:$J$102,3,FALSE))","v":"A"},{"$f":"IF(ISNA(VLOOKUP(C414,BDDG!$A$3:$J$102,4,FALSE)),\"\",VLOOKUP(C414,BDDG!$A$3:$J$102,4,FALSE))","v":106},{"$f":"IF(ISNA(VLOOKUP(C414,BDDG!$A$2:$F$100,5,FALSE)),\"\",VLOOKUP(C414,BDDG!$A$2:$F$100,5,FALSE))","v":"A2"},{"$f":"IF(ISNA(VLOOKUP(C414,BDDG!$A$2:$F$100,6,FALSE)),\"\",VLOOKUP(C414,BDDG!$A$2:$F$100,6,FALSE))","v":"AA4"},{"$f":"IF(ISERROR(VLOOKUP(C414,BDDG!$A$2:$G$100,7,FALSE)),\"\",VLOOKUP(C414,BDDG!$A$2:$G$100,7,FALSE))","v":1},{"$f":"IF(ISERROR(VLOOKUP(C414,BDDG!$A$2:$H$100,8,FALSE)),\"\",VLOOKUP(C414,BDDG!$A$2:$H$100,8,FALSE))","v":"BB4"},10,29,29.793103448275865,{"$f":"IF(ISERROR(VLOOKUP(C414,BDDG!$A$2:$I$100,9,FALSE)),\"\",VLOOKUP(C414,BDDG!$A$2:$I$100,9,FALSE))","v":"CC4"},null,null,"",{"$f":"IF(ISERROR(VLOOKUP(C414,BDDG!$A$2:$J$100,10,FALSE)),\"\",VLOOKUP(C414,BDDG!$A$2:$J$100,10,FALSE))","v":"DD4"},null,null,"",29.793103448275865,5,2010,{"$f":"IFERROR(INDEX($V$2:V414,MATCH(H414&MAX(IF($H$1:H413=H414,$A$1:A413)),$H$2:H414&$A$2:A414,0))-V414,\"\")","v":-5.7931034482758612}]
["2010-05-16",null,842,{"$f":"IF(ISNA(VLOOKUP(C415,BDDG!$A$2:$F$100,2,FALSE)),\"\",VLOOKUP(C415,BDDG!$A$2:$F$100,2,FALSE))","v":0},{"$f":"IF(ISNA(VLOOKUP(C415,BDDG!$A$3:$J$102,3,FALSE)),\"\",VLOOKUP(C415,BDDG!$A$3:$J$102,3,FALSE))","v":"B"},{"$f":"IF(ISNA(VLOOKUP(C415,BDDG!$A$3:$J$102,4,FALSE)),\"\",VLOOKUP(C415,BDDG!$A$3:$J$102,4,FALSE))","v":106},{"$f":"IF(ISNA(VLOOKUP(C415,BDDG!$A$2:$F$100,5,FALSE)),\"\",VLOOKUP(C415,BDDG!$A$2:$F$100,5,FALSE))","v":"A5"},{"$f":"IF(ISNA(VLOOKUP(C415,BDDG!$A$2:$F$100,6,FALSE)),\"\",VLOOKUP(C415,BDDG!$A$2:$F$100,6,FALSE))","v":"AA13"},{"$f":"IF(ISERROR(VLOOKUP(C415,BDDG!$A$2:$G$100,7,FALSE)),\"\",VLOOKUP(C415,BDDG!$A$2:$G$100,7,FALSE))","v":1},{"$f":"IF(ISERROR(VLOOKUP(C415,BDDG!$A$2:$H$100,8,FALSE)),\"\",VLOOKUP(C415,BDDG!$A$2:$H$100,8,FALSE))","v":"BB13"},10,34,25.411764705882355,{"$f":"IF(ISERROR(VLOOKUP(C415,BDDG!$A$2:$I$100,9,FALSE)),\"\",VLOOKUP(C415,BDDG!$A$2:$I$100,9,FALSE))","v":"CC13"},null,null,"",{"$f":"IF(ISERROR(VLOOKUP(C415,BDDG!$A$2:$J$100,10,FALSE)),\"\",VLOOKUP(C415,BDDG!$A$2:$J$100,10,FALSE))","v":"DD13"},null,null,"",25.411764705882355,5,2010,{"$f":"IFERROR(INDEX($V$2:V415,MATCH(H415&MAX(IF($H$1:H414=H415,$A$1:A414)),$H$2:H415&$A$2:A415,0))-V415,\"\")","v":-1.4117647058823515}]
["2010-06-02",null,832,{"$f":"IF(ISNA(VLOOKUP(C416,BDDG!$A$2:$F$100,2,FALSE)),\"\",VLOOKUP(C416,BDDG!$A$2:$F$100,2,FALSE))","v":0},{"$f":"IF(ISNA(VLOOKUP(C416,BDDG!$A$3:$J$102,3,FALSE)),\"\",VLOOKUP(C416,BDDG!$A$3:$J$102,3,FALSE))","v":"A"},{"$f":"IF(ISNA(VLOOKUP(C416,BDDG!$A$3:$J$102,4,FALSE)),\"\",VLOOKUP(C416,BDDG!$A$3:$J$102,4,FALSE))","v":106},{"$f":"IF(ISNA(VLOOKUP(C416,BDDG!$A$2:$F$100,5,FALSE)),\"\",VLOOKUP(C416,BDDG!$A$2:$F$100,5,FALSE))","v":"A2"},{"$f":"IF(ISNA(VLOOKUP(C416,BDDG!$A$2:$F$100,6,FALSE)),\"\",VLOOKUP(C416,BDDG!$A$2:$F$100,6,FALSE))","v":"AA2"},{"$f":"IF(ISERROR(VLOOKUP(C416,BDDG!$A$2:$G$100,7,FALSE)),\"\",VLOOKUP(C416,BDDG!$A$2:$G$100,7,FALSE))","v":1},{"$f":"IF(ISERROR(VLOOKUP(C416,BDDG!$A$2:$H$100,8,FALSE)),\"\",VLOOKUP(C416,BDDG!$A$2:$H$100,8,FALSE))","v":"BB2"},10,12,72.000000000000014,{"$f":"IF(ISERROR(VLOOKUP(C416,BDDG!$A$2:$I$100,9,FALSE)),\"\",VLOOKUP(C416,BDDG!$A$2:$I$100,9,FALSE))","v":"CC2"},null,null,"",{"$f":"IF(ISERROR(VLOOKUP(C416,BDDG!$A$2:$J$100,10,FALSE)),\"\",VLOOKUP(C416,BDDG!$A$2:$J$100,10,FALSE))","v":"DD2"},null,null,{"$f":" IF(ISERROR(S416/T416*86.4),\"\",S416/T416*86.4)","v":""},72.000000000000014,6,2010,{"$f":"IFERROR(INDEX($V$2:V416,MATCH(H416&MAX(IF($H$1:H415=H416,$A$1:A415)),$H$2:H416&$A$2:A416,0))-V416,\"\")","v":14.399999999999991}]
["2010-06-02",null,833,{"$f":"IF(ISNA(VLOOKUP(C417,BDDG!$A$2:$F$100,2,FALSE)),\"\",VLOOKUP(C417,BDDG!$A$2:$F$100,2,FALSE))","v":0},{"$f":"IF(ISNA(VLOOKUP(C417,BDDG!$A$3:$J$102,3,FALSE)),\"\",VLOOKUP(C417,BDDG!$A$3:$J$102,3,FALSE))","v":"A"},{"$f":"IF(ISNA(VLOOKUP(C417,BDDG!$A$3:$J$102,4,FALSE)),\"\",VLOOKUP(C417,BDDG!$A$3:$J$102,4,FALSE))","v":106},{"$f":"IF(ISNA(VLOOKUP(C417,BDDG!$A$2:$F$100,5,FALSE)),\"\",VLOOKUP(C417,BDDG!$A$2:$F$100,5,FALSE))","v":"A2"},{"$f":"IF(ISNA(VLOOKUP(C417,BDDG!$A$2:$F$100,6,FALSE)),\"\",VLOOKUP(C417,BDDG!$A$2:$F$100,6,FALSE))","v":"AA3"},{"$f":"IF(ISERROR(VLOOKUP(C417,BDDG!$A$2:$G$100,7,FALSE)),\"\",VLOOKUP(C417,BDDG!$A$2:$G$100,7,FALSE))","v":1},{"$f":"IF(ISERROR(VLOOKUP(C417,BDDG!$A$2:$H$100,8,FALSE)),\"\",VLOOKUP(C417,BDDG!$A$2:$H$100,8,FALSE))","v":"BB3"},10,12,72.000000000000014,{"$f":"IF(ISERROR(VLOOKUP(C417,BDDG!$A$2:$I$100,9,FALSE)),\"\",VLOOKUP(C417,BDDG!$A$2:$I$100,9,FALSE))","v":"CC3"},null,null,"",{"$f":"IF(ISERROR(VLOOKUP(C417,BDDG!$A$2:$J$100,10,FALSE)),\"\",VLOOKUP(C417,BDDG!$A$2:$J$100,10,FALSE))","v":"DD3"},null,null,"",72.000000000000014,6,2010,{"$f":"IFERROR(INDEX($V$2:V417,MATCH(H417&MAX(IF($H$1:H416=H417,$A$1:A416)),$H$2:H417&$A$2:A417,0))-V417,\"\")","v":-21.176470588235304}]
["2010-06-02",null,834,{"$f":"IF(ISNA(VLOOKUP(C418,BDDG!$A$2:$F$100,2,FALSE)),\"\",VLOOKUP(C418,BDDG!$A$2:$F$100,2,FALSE))","v":0},{"$f":"IF(ISNA(VLOOKUP(C418,BDDG!$A$3:$J$102,3,FALSE)),\"\",VLOOKUP(C418,BDDG!$A$3:$J$102,3,FALSE))","v":"A"},{"$f":"IF(ISNA(VLOOKUP(C418,BDDG!$A$3:$J$102,4,FALSE)),\"\",VLOOKUP(C418,BDDG!$A$3:$J$102,4,FALSE))","v":106},{"$f":"IF(ISNA(VLOOKUP(C418,BDDG!$A$2:$F$100,5,FALSE)),\"\",VLOOKUP(C418,BDDG!$A$2:$F$100,5,FALSE))","v":"A2"},{"$f":"IF(ISNA(VLOOKUP(C418,BDDG!$A$2:$F$100,6,FALSE)),\"\",VLOOKUP(C418,BDDG!$A$2:$F$100,6,FALSE))","v":"AA4"},{"$f":"IF(ISERROR(VLOOKUP(C418,BDDG!$A$2:$G$100,7,FALSE)),\"\",VLOOKUP(C418,BDDG!$A$2:$G$100,7,FALSE))","v":1},{"$f":"IF(ISERROR(VLOOKUP(C418,BDDG!$A$2:$H$100,8,FALSE)),\"\",VLOOKUP(C418,BDDG!$A$2:$H$100,8,FALSE))","v":"BB4"},5,14,30.857142857142861,{"$f":"IF(ISERROR(VLOOKUP(C418,BDDG!$A$2:$I$100,9,FALSE)),\"\",VLOOKUP(C418,BDDG!$A$2:$I$100,9,FALSE))","v":"CC4"},null,null,"",{"$f":"IF(ISERROR(VLOOKUP(C418,BDDG!$A$2:$J$100,10,FALSE)),\"\",VLOOKUP(C418,BDDG!$A$2:$J$100,10,FALSE))","v":"DD4"},null,null,"",30.857142857142861,6,2010,{"$f":"IFERROR(INDEX($V$2:V418,MATCH(H418&MAX(IF($H$1:H417=H418,$A$1:A417)),$H$2:H418&$A$2:A418,0))-V418,\"\")","v":-1.0640394088669964}]
["2010-06-02",null,842,{"$f":"IF(ISNA(VLOOKUP(C419,BDDG!$A$2:$F$100,2,FALSE)),\"\",VLOOKUP(C419,BDDG!$A$2:$F$100,2,FALSE))","v":0},{"$f":"IF(ISNA(VLOOKUP(C419,BDDG!$A$3:$J$102,3,FALSE)),\"\",VLOOKUP(C419,BDDG!$A$3:$J$102,3,FALSE))","v":"B"},{"$f":"IF(ISNA(VLOOKUP(C419,BDDG!$A$3:$J$102,4,FALSE)),\"\",VLOOKUP(C419,BDDG!$A$3:$J$102,4,FALSE))","v":106},{"$f":"IF(ISNA(VLOOKUP(C419,BDDG!$A$2:$F$100,5,FALSE)),\"\",VLOOKUP(C419,BDDG!$A$2:$F$100,5,FALSE))","v":"A5"},{"$f":"IF(ISNA(VLOOKUP(C419,BDDG!$A$2:$F$100,6,FALSE)),\"\",VLOOKUP(C419,BDDG!$A$2:$F$100,6,FALSE))","v":"AA13"},{"$f":"IF(ISERROR(VLOOKUP(C419,BDDG!$A$2:$G$100,7,FALSE)),\"\",VLOOKUP(C419,BDDG!$A$2:$G$100,7,FALSE))","v":1},{"$f":"IF(ISERROR(VLOOKUP(C419,BDDG!$A$2:$H$100,8,FALSE)),\"\",VLOOKUP(C419,BDDG!$A$2:$H$100,8,FALSE))","v":"BB13"},5,7,61.714285714285722,{"$f":"IF(ISERROR(VLOOKUP(C419,BDDG!$A$2:$I$100,9,FALSE)),\"\",VLOOKUP(C419,BDDG!$A$2:$I$100,9,FALSE))","v":"CC13"},null,null,"",{"$f":"IF(ISERROR(VLOOKUP(C419,BDDG!$A$2:$J$100,10,FALSE)),\"\",VLOOKUP(C419,BDDG!$A$2:$J$100,10,FALSE))","v":"DD13"},null,null,"",61.714285714285722,6,2010,{"$f":"IFERROR(INDEX($V$2:V419,MATCH(H419&MAX(IF($H$1:H418=H419,$A$1:A418)),$H$2:H419&$A$2:A419,0))-V419,\"\")","v":-36.302521008403367}]
["2010-06-08",null,832,{"$f":"IF(ISNA(VLOOKUP(C420,BDDG!$A$2:$F$100,2,FALSE)),\"\",VLOOKUP(C420,BDDG!$A$2:$F$100,2,FALSE))","v":0},{"$f":"IF(ISNA(VLOOKUP(C420,BDDG!$A$3:$J$102,3,FALSE)),\"\",VLOOKUP(C420,BDDG!$A$3:$J$102,3,FALSE))","v":"A"},{"$f":"IF(ISNA(VLOOKUP(C420,BDDG!$A$3:$J$102,4,FALSE)),\"\",VLOOKUP(C420,BDDG!$A$3:$J$102,4,FALSE))","v":106},{"$f":"IF(ISNA(VLOOKUP(C420,BDDG!$A$2:$F$100,5,FALSE)),\"\",VLOOKUP(C420,BDDG!$A$2:$F$100,5,FALSE))","v":"A2"},{"$f":"IF(ISNA(VLOOKUP(C420,BDDG!$A$2:$F$100,6,FALSE)),\"\",VLOOKUP(C420,BDDG!$A$2:$F$100,6,FALSE))","v":"AA2"},{"$f":"IF(ISERROR(VLOOKUP(C420,BDDG!$A$2:$G$100,7,FALSE)),\"\",VLOOKUP(C420,BDDG!$A$2:$G$100,7,FALSE))","v":1},{"$f":"IF(ISERROR(VLOOKUP(C420,BDDG!$A$2:$H$100,8,FALSE)),\"\",VLOOKUP(C420,BDDG!$A$2:$H$100,8,FALSE))","v":"BB2"},10,10,86.4,{"$f":"IF(ISERROR(VLOOKUP(C420,BDDG!$A$2:$I$100,9,FALSE)),\"\",VLOOKUP(C420,BDDG!$A$2:$I$100,9,FALSE))","v":"CC2"},null,null,"",{"$f":"IF(ISERROR(VLOOKUP(C420,BDDG!$A$2:$J$100,10,FALSE)),\"\",VLOOKUP(C420,BDDG!$A$2:$J$100,10,FALSE))","v":"DD2"},null,null,"",{"$f":"IF(ISERROR(SUM(M420,Q420,U420)),\"\",SUM(M420,Q420,U420))","v":86.4},6,2010,{"$f":"IFERROR(INDEX($V$2:V420,MATCH(H420&MAX(IF($H$1:H419=H420,$A$1:A419)),$H$2:H420&$A$2:A420,0))-V420,\"\")","v":-14.399999999999991}]
["2010-06-08",null,850,{"$f":"IF(ISNA(VLOOKUP(C421,BDDG!$A$2:$F$100,2,FALSE)),\"\",VLOOKUP(C421,BDDG!$A$2:$F$100,2,FALSE))","v":0},{"$f":"IF(ISNA(VLOOKUP(C421,BDDG!$A$3:$J$102,3,FALSE)),\"\",VLOOKUP(C421,BDDG!$A$3:$J$102,3,FALSE))","v":"B"},{"$f":"IF(ISNA(VLOOKUP(C421,BDDG!$A$3:$J$102,4,FALSE)),\"\",VLOOKUP(C421,BDDG!$A$3:$J$102,4,FALSE))","v":106},{"$f":"IF(ISNA(VLOOKUP(C421,BDDG!$A$2:$F$100,5,FALSE)),\"\",VLOOKUP(C421,BDDG!$A$2:$F$100,5,FALSE))","v":"A8"},{"$f":"IF(ISNA(VLOOKUP(C421,BDDG!$A$2:$F$100,6,FALSE)),\"\",VLOOKUP(C421,BDDG!$A$2:$F$100,6,FALSE))","v":"AA20"},{"$f":"IF(ISERROR(VLOOKUP(C421,BDDG!$A$2:$G$100,7,FALSE)),\"\",VLOOKUP(C421,BDDG!$A$2:$G$100,7,FALSE))","v":1},{"$f":"IF(ISERROR(VLOOKUP(C421,BDDG!$A$2:$H$100,8,FALSE)),\"\",VLOOKUP(C421,BDDG!$A$2:$H$100,8,FALSE))","v":"BB20"},10,19,45.473684210526315,{"$f":"IF(ISERROR(VLOOKUP(C421,BDDG!$A$2:$I$100,9,FALSE)),\"\",VLOOKUP(C421,BDDG!$A$2:$I$100,9,FALSE))","v":"CC20"},null,null,"",{"$f":"IF(ISERROR(VLOOKUP(C421,BDDG!$A$2:$J$100,10,FALSE)),\"\",VLOOKUP(C421,BDDG!$A$2:$J$100,10,FALSE))","v":"DD20"},null,null,"",45.473684210526315,6,2010,{"$f":"IFERROR(INDEX($V$2:V421,MATCH(H421&MAX(IF($H$1:H420=H421,$A$1:A420)),$H$2:H421&$A$2:A421,0))-V421,\"\")","v":2.5263157894736921}]
["2010-06-08",null,844,{"$f":"IF(ISNA(VLOOKUP(C422,BDDG!$A$2:$F$100,2,FALSE)),\"\",VLOOKUP(C422,BDDG!$A$2:$F$100,2,FALSE))","v":0},{"$f":"IF(ISNA(VLOOKUP(C422,BDDG!$A$3:$J$102,3,FALSE)),\"\",VLOOKUP(C422,BDDG!$A$3:$J$102,3,FALSE))","v":"B"},{"$f":"IF(ISNA(VLOOKUP(C422,BDDG!$A$3:$J$102,4,FALSE)),\"\",VLOOKUP(C422,BDDG!$A$3:$J$102,4,FALSE))","v":106},{"$f":"IF(ISNA(VLOOKUP(C422,BDDG!$A$2:$F$100,5,FALSE)),\"\",VLOOKUP(C422,BDDG!$A$2:$F$100,5,FALSE))","v":"A6"},{"$f":"IF(ISNA(VLOOKUP(C422,BDDG!$A$2:$F$100,6,FALSE)),\"\",VLOOKUP(C422,BDDG!$A$2:$F$100,6,FALSE))","v":"AA14"},{"$f":"IF(ISERROR(VLOOKUP(C422,BDDG!$A$2:$G$100,7,FALSE)),\"\",VLOOKUP(C422,BDDG!$A$2:$G$100,7,FALSE))","v":2},{"$f":"IF(ISERROR(VLOOKUP(C422,BDDG!$A$2:$H$100,8,FALSE)),\"\",VLOOKUP(C422,BDDG!$A$2:$H$100,8,FALSE))","v":"BB14"},10,11,78.545454545454547,{"$f":"IF(ISERROR(VLOOKUP(C422,BDDG!$A$2:$I$100,9,FALSE)),\"\",VLOOKUP(C422,BDDG!$A$2:$I$100,9,FALSE))","v":"CC14"},null,null,"",{"$f":"IF(ISERROR(VLOOKUP(C422,BDDG!$A$2:$J$100,10,FALSE)),\"\",VLOOKUP(C422,BDDG!$A$2:$J$100,10,FALSE))","v":"DD14"},null,null,"",78.545454545454547,6,2010,{"$f":"IFERROR(INDEX($V$2:V422,MATCH(H422&MAX(IF($H$1:H421=H422,$A$1:A421)),$H$2:H422&$A$2:A422,0))-V422,\"\")","v":7.8545454545454589}]
["2010-06-09",null,860,{"$f":"IF(ISNA(VLOOKUP(C423,BDDG!$A$2:$F$100,2,FALSE)),\"\",VLOOKUP(C423,BDDG!$A$2:$F$100,2,FALSE))","v":0},{"$f":"IF(ISNA(VLOOKUP(C423,BDDG!$A$3:$J$102,3,FALSE)),\"\",VLOOKUP(C423,BDDG!$A$3:$J$102,3,FALSE))","v":"A"},{"$f":"IF(ISNA(VLOOKUP(C423,BDDG!$A$3:$J$102,4,FALSE)),\"\",VLOOKUP(C423,BDDG!$A$3:$J$102,4,FALSE))","v":106},{"$f":"IF(ISNA(VLOOKUP(C423,BDDG!$A$2:$F$100,5,FALSE)),\"\",VLOOKUP(C423,BDDG!$A$2:$F$100,5,FALSE))","v":"A11"},{"$f":"IF(ISNA(VLOOKUP(C423,BDDG!$A$2:$F$100,6,FALSE)),\"\",VLOOKUP(C423,BDDG!$A$2:$F$100,6,FALSE))","v":"AA32"},{"$f":"IF(ISERROR(VLOOKUP(C423,BDDG!$A$2:$G$100,7,FALSE)),\"\",VLOOKUP(C423,BDDG!$A$2:$G$100,7,FALSE))","v":2},{"$f":"IF(ISERROR(VLOOKUP(C423,BDDG!$A$2:$H$100,8,FALSE)),\"\",VLOOKUP(C423,BDDG!$A$2:$H$100,8,FALSE))","v":"BB32"},10,18,48.000000000000007,{"$f":"IF(ISERROR(VLOOKUP(C423,BDDG!$A$2:$I$100,9,FALSE)),\"\",VLOOKUP(C423,BDDG!$A$2:$I$100,9,FALSE))","v":"CC32"},null,null,"",{"$f":"IF(ISERROR(VLOOKUP(C423,BDDG!$A$2:$J$100,10,FALSE)),\"\",VLOOKUP(C423,BDDG!$A$2:$J$100,10,FALSE))","v":"DD32"},null,null,"",48.000000000000007,6,2010,{"$f":"IFERROR(INDEX($V$2:V423,MATCH(H423&MAX(IF($H$1:H422=H423,$A$1:A422)),$H$2:H423&$A$2:A423,0))-V423,\"\")","v":-6.8571428571428612}]
["2010-06-09",null,861,{"$f":"IF(ISNA(VLOOKUP(C424,BDDG!$A$2:$F$100,2,FALSE)),\"\",VLOOKUP(C424,BDDG!$A$2:$F$100,2,FALSE))","v":0},{"$f":"IF(ISNA(VLOOKUP(C424,BDDG!$A$3:$J$102,3,FALSE)),\"\",VLOOKUP(C424,BDDG!$A$3:$J$102,3,FALSE))","v":"A"},{"$f":"IF(ISNA(VLOOKUP(C424,BDDG!$A$3:$J$102,4,FALSE)),\"\",VLOOKUP(C424,BDDG!$A$3:$J$102,4,FALSE))","v":106},{"$f":"IF(ISNA(VLOOKUP(C424,BDDG!$A$2:$F$100,5,FALSE)),\"\",VLOOKUP(C424,BDDG!$A$2:$F$100,5,FALSE))","v":"A11"},{"$f":"IF(ISNA(VLOOKUP(C424,BDDG!$A$2:$F$100,6,FALSE)),\"\",VLOOKUP(C424,BDDG!$A$2:$F$100,6,FALSE))","v":"AA33"},{"$f":"IF(ISERROR(VLOOKUP(C424,BDDG!$A$2:$G$100,7,FALSE)),\"\",VLOOKUP(C424,BDDG!$A$2:$G$100,7,FALSE))","v":2},{"$f":"IF(ISERROR(VLOOKUP(C424,BDDG!$A$2:$H$100,8,FALSE)),\"\",VLOOKUP(C424,BDDG!$A$2:$H$100,8,FALSE))","v":"BB33"},null,null,null,{"$f":"IF(ISERROR(VLOOKUP(C424,BDDG!$A$2:$I$100,9,FALSE)),\"\",VLOOKUP(C424,BDDG!$A$2:$I$100,9,FALSE))","v":"CC33"},10,6,144.00000000000003,{"$f":"IF(ISERROR(VLOOKUP(C424,BDDG!$A$2:$J$100,10,FALSE)),\"\",VLOOKUP(C424,BDDG!$A$2:$J$100,10,FALSE))","v":"DD33"},null,null,"",{"$f":"IF(ISERROR(SUM(M424,Q424,U424)),\"\",SUM((M424,Q424,U424)))","v":144.00000000000003},6,2010,{"$f":"IFERROR(INDEX($V$2:V424,MATCH(H424&MAX(IF($H$1:H423=H424,$A$1:A423)),$H$2:H424&$A$2:A424,0))-V424,\"\")","v":-36.000000000000028}]
["2010-06-09",null,835,{"$f":"IF(ISNA(VLOOKUP(C425,BDDG!$A$2:$F$100,2,FALSE)),\"\",VLOOKUP(C425,BDDG!$A$2:$F$100,2,FALSE))","v":0},{"$f":"IF(ISNA(VLOOKUP(C425,BDDG!$A$3:$J$102,3,FALSE)),\"\",VLOOKUP(C425,BDDG!$A$3:$J$102,3,FALSE))","v":"A"},{"$f":"IF(ISNA(VLOOKUP(C425,BDDG!$A$3:$J$102,4,FALSE)),\"\",VLOOKUP(C425,BDDG!$A$3:$J$102,4,FALSE))","v":106},{"$f":"IF(ISNA(VLOOKUP(C425,BDDG!$A$2:$F$100,5,FALSE)),\"\",VLOOKUP(C425,BDDG!$A$2:$F$100,5,FALSE))","v":"A3"},{"$f":"IF(ISNA(VLOOKUP(C425,BDDG!$A$2:$F$100,6,FALSE)),\"\",VLOOKUP(C425,BDDG!$A$2:$F$100,6,FALSE))","v":"AA5"},{"$f":"IF(ISERROR(VLOOKUP(C425,BDDG!$A$2:$G$100,7,FALSE)),\"\",VLOOKUP(C425,BDDG!$A$2:$G$100,7,FALSE))","v":1},{"$f":"IF(ISERROR(VLOOKUP(C425,BDDG!$A$2:$H$100,8,FALSE)),\"\",VLOOKUP(C425,BDDG!$A$2:$H$100,8,FALSE))","v":"BB5"},10,97,{"$f":" IF(ISERROR(K425/L425*86.4),\"\",K425/L425*86.4)","v":8.9072164948453612},{"$f":"IF(ISERROR(VLOOKUP(C425,BDDG!$A$2:$I$100,9,FALSE)),\"\",VLOOKUP(C425,BDDG!$A$2:$I$100,9,FALSE))","v":"CC5"},null,null,"",{"$f":"IF(ISERROR(VLOOKUP(C425,BDDG!$A$2:$J$100,10,FALSE)),\"\",VLOOKUP(C425,BDDG!$A$2:$J$100,10,FALSE))","v":"DD5"},null,null,"",{"$f":"IF(ISERROR(SUM(M425,Q425,U425)),\"\",SUM(M425,Q425,U425))","v":8.9072164948453612},6,2010,{"$f":"IFERROR(INDEX($V$2:V425,MATCH(H425&MAX(IF($H$1:H424=H425,$A$1:A424)),$H$2:H425&$A$2:A425,0))-V425,\"\")","v":2.1697065820777155}]
["2010-06-10",null,852,{"$f":"IF(ISNA(VLOOKUP(C426,BDDG!$A$2:$F$100,2,FALSE)),\"\",VLOOKUP(C426,BDDG!$A$2:$F$100,2,FALSE))","v":0},{"$f":"IF(ISNA(VLOOKUP(C426,BDDG!$A$3:$J$102,3,FALSE)),\"\",VLOOKUP(C426,BDDG!$A$3:$J$102,3,FALSE))","v":"A"},{"$f":"IF(ISNA(VLOOKUP(C426,BDDG!$A$3:$J$102,4,FALSE)),\"\",VLOOKUP(C426,BDDG!$A$3:$J$102,4,FALSE))","v":106},{"$f":"IF(ISNA(VLOOKUP(C426,BDDG!$A$2:$F$100,5,FALSE)),\"\",VLOOKUP(C426,BDDG!$A$2:$F$100,5,FALSE))","v":"A9"},{"$f":"IF(ISNA(VLOOKUP(C426,BDDG!$A$2:$F$100,6,FALSE)),\"\",VLOOKUP(C426,BDDG!$A$2:$F$100,6,FALSE))","v":"AA22"},{"$f":"IF(ISERROR(VLOOKUP(C426,BDDG!$A$2:$G$100,7,FALSE)),\"\",VLOOKUP(C426,BDDG!$A$2:$G$100,7,FALSE))","v":1},{"$f":"IF(ISERROR(VLOOKUP(C426,BDDG!$A$2:$H$100,8,FALSE)),\"\",VLOOKUP(C426,BDDG!$A$2:$H$100,8,FALSE))","v":"BB22"},10,40,21.6,{"$f":"IF(ISERROR(VLOOKUP(C426,BDDG!$A$2:$I$100,9,FALSE)),\"\",VLOOKUP(C426,BDDG!$A$2:$I$100,9,FALSE))","v":"CC22"},null,null,"",{"$f":"IF(ISERROR(VLOOKUP(C426,BDDG!$A$2:$J$100,10,FALSE)),\"\",VLOOKUP(C426,BDDG!$A$2:$J$100,10,FALSE))","v":"DD22"},null,null,"",21.6,6,2010,{"$f":"IFERROR(INDEX($V$2:V426,MATCH(H426&MAX(IF($H$1:H425=H426,$A$1:A425)),$H$2:H426&$A$2:A426,0))-V426,\"\")","v":-4.9846153846153847}]
["2010-06-11",null,839,{"$f":"IF(ISNA(VLOOKUP(C427,BDDG!$A$2:$F$100,2,FALSE)),\"\",VLOOKUP(C427,BDDG!$A$2:$F$100,2,FALSE))","v":0},{"$f":"IF(ISNA(VLOOKUP(C427,BDDG!$A$3:$J$102,3,FALSE)),\"\",VLOOKUP(C427,BDDG!$A$3:$J$102,3,FALSE))","v":"A"},{"$f":"IF(ISNA(VLOOKUP(C427,BDDG!$A$3:$J$102,4,FALSE)),\"\",VLOOKUP(C427,BDDG!$A$3:$J$102,4,FALSE))","v":106},{"$f":"IF(ISNA(VLOOKUP(C427,BDDG!$A$2:$F$100,5,FALSE)),\"\",VLOOKUP(C427,BDDG!$A$2:$F$100,5,FALSE))","v":"A3"},{"$f":"IF(ISNA(VLOOKUP(C427,BDDG!$A$2:$F$100,6,FALSE)),\"\",VLOOKUP(C427,BDDG!$A$2:$F$100,6,FALSE))","v":"AA10"},{"$f":"IF(ISERROR(VLOOKUP(C427,BDDG!$A$2:$G$100,7,FALSE)),\"\",VLOOKUP(C427,BDDG!$A$2:$G$100,7,FALSE))","v":2},{"$f":"IF(ISERROR(VLOOKUP(C427,BDDG!$A$2:$H$100,8,FALSE)),\"\",VLOOKUP(C427,BDDG!$A$2:$H$100,8,FALSE))","v":"BB10"},5,26,16.615384615384617,{"$f":"IF(ISERROR(VLOOKUP(C427,BDDG!$A$2:$I$100,9,FALSE)),\"\",VLOOKUP(C427,BDDG!$A$2:$I$100,9,FALSE))","v":"CC10"},null,null,"",{"$f":"IF(ISERROR(VLOOKUP(C427,BDDG!$A$2:$J$100,10,FALSE)),\"\",VLOOKUP(C427,BDDG!$A$2:$J$100,10,FALSE))","v":"DD10"},null,null,"",16.615384615384617,6,2010,{"$f":"IFERROR(INDEX($V$2:V427,MATCH(H427&MAX(IF($H$1:H426=H427,$A$1:A426)),$H$2:H427&$A$2:A427,0))-V427,\"\")","v":106.81318681318683}]
["2010-06-11",null,838,{"$f":"IF(ISNA(VLOOKUP(C428,BDDG!$A$2:$F$100,2,FALSE)),\"\",VLOOKUP(C428,BDDG!$A$2:$F$100,2,FALSE))","v":0},{"$f":"IF(ISNA(VLOOKUP(C428,BDDG!$A$3:$J$102,3,FALSE)),\"\",VLOOKUP(C428,BDDG!$A$3:$J$102,3,FALSE))","v":"A"},{"$f":"IF(ISNA(VLOOKUP(C428,BDDG!$A$3:$J$102,4,FALSE)),\"\",VLOOKUP(C428,BDDG!$A$3:$J$102,4,FALSE))","v":106},{"$f":"IF(ISNA(VLOOKUP(C428,BDDG!$A$2:$F$100,5,FALSE)),\"\",VLOOKUP(C428,BDDG!$A$2:$F$100,5,FALSE))","v":"A3"},{"$f":"IF(ISNA(VLOOKUP(C428,BDDG!$A$2:$F$100,6,FALSE)),\"\",VLOOKUP(C428,BDDG!$A$2:$F$100,6,FALSE))","v":"AA8"},{"$f":"IF(ISERROR(VLOOKUP(C428,BDDG!$A$2:$G$100,7,FALSE)),\"\",VLOOKUP(C428,BDDG!$A$2:$G$100,7,FALSE))","v":1},{"$f":"IF(ISERROR(VLOOKUP(C428,BDDG!$A$2:$H$100,8,FALSE)),\"\",VLOOKUP(C428,BDDG!$A$2:$H$100,8,FALSE))","v":"BB8"},5,26,16.615384615384617,{"$f":"IF(ISERROR(VLOOKUP(C428,BDDG!$A$2:$I$100,9,FALSE)),\"\",VLOOKUP(C428,BDDG!$A$2:$I$100,9,FALSE))","v":"CC8"},null,null,"",{"$f":"IF(ISERROR(VLOOKUP(C428,BDDG!$A$2:$J$100,10,FALSE)),\"\",VLOOKUP(C428,BDDG!$A$2:$J$100,10,FALSE))","v":"DD8"},null,null,"",16.615384615384617,6,2010,{"$f":"IFERROR(INDEX($V$2:V428,MATCH(H428&MAX(IF($H$1:H427=H428,$A$1:A427)),$H$2:H428&$A$2:A428,0))-V428,\"\")","v":-12.295384615384616}]
["2010-06-11",null,837,{"$f":"IF(ISNA(VLOOKUP(C429,BDDG!$A$2:$F$100,2,FALSE)),\"\",VLOOKUP(C429,BDDG!$A$2:$F$100,2,FALSE))","v":0},{"$f":"IF(ISNA(VLOOKUP(C429,BDDG!$A$3:$J$102,3,FALSE)),\"\",VLOOKUP(C429,BDDG!$A$3:$J$102,3,FALSE))","v":"A"},{"$f":"IF(ISNA(VLOOKUP(C429,BDDG!$A$3:$J$102,4,FALSE)),\"\",VLOOKUP(C429,BDDG!$A$3:$J$102,4,FALSE))","v":106},{"$f":"IF(ISNA(VLOOKUP(C429,BDDG!$A$2:$F$100,5,FALSE)),\"\",VLOOKUP(C429,BDDG!$A$2:$F$100,5,FALSE))","v":"A3"},{"$f":"IF(ISNA(VLOOKUP(C429,BDDG!$A$2:$F$100,6,FALSE)),\"\",VLOOKUP(C429,BDDG!$A$2:$F$100,6,FALSE))","v":"AA7"},{"$f":"IF(ISERROR(VLOOKUP(C429,BDDG!$A$2:$G$100,7,FALSE)),\"\",VLOOKUP(C429,BDDG!$A$2:$G$100,7,FALSE))","v":1},{"$f":"IF(ISERROR(VLOOKUP(C429,BDDG!$A$2:$H$100,8,FALSE)),\"\",VLOOKUP(C429,BDDG!$A$2:$H$100,8,FALSE))","v":"BB7"},10,10,86.4,{"$f":"IF(ISERROR(VLOOKUP(C429,BDDG!$A$2:$I$100,9,FALSE)),\"\",VLOOKUP(C429,BDDG!$A$2:$I$100,9,FALSE))","v":"CC7"},null,null,"",{"$f":"IF(ISERROR(VLOOKUP(C429,BDDG!$A$2:$J$100,10,FALSE)),\"\",VLOOKUP(C429,BDDG!$A$2:$J$100,10,FALSE))","v":"DD7"},null,null,"",86.4,6,2010,{"$f":"IFERROR(INDEX($V$2:V429,MATCH(H429&MAX(IF($H$1:H428=H429,$A$1:A428)),$H$2:H429&$A$2:A429,0))-V429,\"\")","v":-24.685714285714283}]
["2010-06-11",null,836,{"$f":"IF(ISNA(VLOOKUP(C430,BDDG!$A$2:$F$100,2,FALSE)),\"\",VLOOKUP(C430,BDDG!$A$2:$F$100,2,FALSE))","v":0},{"$f":"IF(ISNA(VLOOKUP(C430,BDDG!$A$3:$J$102,3,FALSE)),\"\",VLOOKUP(C430,BDDG!$A$3:$J$102,3,FALSE))","v":"A"},{"$f":"IF(ISNA(VLOOKUP(C430,BDDG!$A$3:$J$102,4,FALSE)),\"\",VLOOKUP(C430,BDDG!$A$3:$J$102,4,FALSE))","v":106},{"$f":"IF(ISNA(VLOOKUP(C430,BDDG!$A$2:$F$100,5,FALSE)),\"\",VLOOKUP(C430,BDDG!$A$2:$F$100,5,FALSE))","v":"A3"},{"$f":"IF(ISNA(VLOOKUP(C430,BDDG!$A$2:$F$100,6,FALSE)),\"\",VLOOKUP(C430,BDDG!$A$2:$F$100,6,FALSE))","v":"AA6"},{"$f":"IF(ISERROR(VLOOKUP(C430,BDDG!$A$2:$G$100,7,FALSE)),\"\",VLOOKUP(C430,BDDG!$A$2:$G$100,7,FALSE))","v":1},{"$f":"IF(ISERROR(VLOOKUP(C430,BDDG!$A$2:$H$100,8,FALSE)),\"\",VLOOKUP(C430,BDDG!$A$2:$H$100,8,FALSE))","v":"BB6"},10,10,86.4,{"$f":"IF(ISERROR(VLOOKUP(C430,BDDG!$A$2:$I$100,9,FALSE)),\"\",VLOOKUP(C430,BDDG!$A$2:$I$100,9,FALSE))","v":"CC6"},null,null,"",{"$f":"IF(ISERROR(VLOOKUP(C430,BDDG!$A$2:$J$100,10,FALSE)),\"\",VLOOKUP(C430,BDDG!$A$2:$J$100,10,FALSE))","v":"DD6"},null,null,"",86.4,6,2010,{"$f":"IFERROR(INDEX($V$2:V430,MATCH(H430&MAX(IF($H$1:H429=H430,$A$1:A429)),$H$2:H430&$A$2:A430,0))-V430,\"\")","v":-24.685714285714283}]
["2010-06-11",null,842,{"$f":"IF(ISNA(VLOOKUP(C431,BDDG!$A$2:$F$100,2,FALSE)),\"\",VLOOKUP(C431,BDDG!$A$2:$F$100,2,FALSE))","v":0},{"$f":"IF(ISNA(VLOOKUP(C431,BDDG!$A$3:$J$102,3,FALSE)),\"\",VLOOKUP(C431,BDDG!$A$3:$J$102,3,FALSE))","v":"B"},{"$f":"IF(ISNA(VLOOKUP(C431,BDDG!$A$3:$J$102,4,FALSE)),\"\",VLOOKUP(C431,BDDG!$A$3:$J$102,4,FALSE))","v":106},{"$f":"IF(ISNA(VLOOKUP(C431,BDDG!$A$2:$F$100,5,FALSE)),\"\",VLOOKUP(C431,BDDG!$A$2:$F$100,5,FALSE))","v":"A5"},{"$f":"IF(ISNA(VLOOKUP(C431,BDDG!$A$2:$F$100,6,FALSE)),\"\",VLOOKUP(C431,BDDG!$A$2:$F$100,6,FALSE))","v":"AA13"},{"$f":"IF(ISERROR(VLOOKUP(C431,BDDG!$A$2:$G$100,7,FALSE)),\"\",VLOOKUP(C431,BDDG!$A$2:$G$100,7,FALSE))","v":1},{"$f":"IF(ISERROR(VLOOKUP(C431,BDDG!$A$2:$H$100,8,FALSE)),\"\",VLOOKUP(C431,BDDG!$A$2:$H$100,8,FALSE))","v":"BB13"},5,12,36.000000000000007,{"$f":"IF(ISERROR(VLOOKUP(C431,BDDG!$A$2:$I$100,9,FALSE)),\"\",VLOOKUP(C431,BDDG!$A$2:$I$100,9,FALSE))","v":"CC13"},null,null,"",{"$f":"IF(ISERROR(VLOOKUP(C431,BDDG!$A$2:$J$100,10,FALSE)),\"\",VLOOKUP(C431,BDDG!$A$2:$J$100,10,FALSE))","v":"DD13"},null,null,"",36.000000000000007,6,2010,{"$f":"IFERROR(INDEX($V$2:V431,MATCH(H431&MAX(IF($H$1:H430=H431,$A$1:A430)),$H$2:H431&$A$2:A431,0))-V431,\"\")","v":25.714285714285715}]
["2010-06-11",null,848,{"$f":"IF(ISNA(VLOOKUP(C432,BDDG!$A$2:$F$100,2,FALSE)),\"\",VLOOKUP(C432,BDDG!$A$2:$F$100,2,FALSE))","v":0},{"$f":"IF(ISNA(VLOOKUP(C432,BDDG!$A$3:$J$102,3,FALSE)),\"\",VLOOKUP(C432,BDDG!$A$3:$J$102,3,FALSE))","v":"B"},{"$f":"IF(ISNA(VLOOKUP(C432,BDDG!$A$3:$J$102,4,FALSE)),\"\",VLOOKUP(C432,BDDG!$A$3:$J$102,4,FALSE))","v":106},{"$f":"IF(ISNA(VLOOKUP(C432,BDDG!$A$2:$F$100,5,FALSE)),\"\",VLOOKUP(C432,BDDG!$A$2:$F$100,5,FALSE))","v":"A7"},{"$f":"IF(ISNA(VLOOKUP(C432,BDDG!$A$2:$F$100,6,FALSE)),\"\",VLOOKUP(C432,BDDG!$A$2:$F$100,6,FALSE))","v":"AA19"},{"$f":"IF(ISERROR(VLOOKUP(C432,BDDG!$A$2:$G$100,7,FALSE)),\"\",VLOOKUP(C432,BDDG!$A$2:$G$100,7,FALSE))","v":2},{"$f":"IF(ISERROR(VLOOKUP(C432,BDDG!$A$2:$H$100,8,FALSE)),\"\",VLOOKUP(C432,BDDG!$A$2:$H$100,8,FALSE))","v":"BB19"},5,24,18.000000000000004,{"$f":"IF(ISERROR(VLOOKUP(C432,BDDG!$A$2:$I$100,9,FALSE)),\"\",VLOOKUP(C432,BDDG!$A$2:$I$100,9,FALSE))","v":"CC19"},null,null,"",{"$f":"IF(ISERROR(VLOOKUP(C432,BDDG!$A$2:$J$100,10,FALSE)),\"\",VLOOKUP(C432,BDDG!$A$2:$J$100,10,FALSE))","v":"DD19"},null,null,"",18.000000000000004,6,2010,{"$f":"IFERROR(INDEX($V$2:V432,MATCH(H432&MAX(IF($H$1:H431=H432,$A$1:A431)),$H$2:H432&$A$2:A432,0))-V432,\"\")","v":-0.72000000000000242}]
["2010-06-11",null,847,{"$f":"IF(ISNA(VLOOKUP(C433,BDDG!$A$2:$F$100,2,FALSE)),\"\",VLOOKUP(C433,BDDG!$A$2:$F$100,2,FALSE))","v":0},{"$f":"IF(ISNA(VLOOKUP(C433,BDDG!$A$3:$J$102,3,FALSE)),\"\",VLOOKUP(C433,BDDG!$A$3:$J$102,3,FALSE))","v":"B"},{"$f":"IF(ISNA(VLOOKUP(C433,BDDG!$A$3:$J$102,4,FALSE)),\"\",VLOOKUP(C433,BDDG!$A$3:$J$102,4,FALSE))","v":106},{"$f":"IF(ISNA(VLOOKUP(C433,BDDG!$A$2:$F$100,5,FALSE)),\"\",VLOOKUP(C433,BDDG!$A$2:$F$100,5,FALSE))","v":"A7"},{"$f":"IF(ISNA(VLOOKUP(C433,BDDG!$A$2:$F$100,6,FALSE)),\"\",VLOOKUP(C433,BDDG!$A$2:$F$100,6,FALSE))","v":"AA18"},{"$f":"IF(ISERROR(VLOOKUP(C433,BDDG!$A$2:$G$100,7,FALSE)),\"\",VLOOKUP(C433,BDDG!$A$2:$G$100,7,FALSE))","v":2},{"$f":"IF(ISERROR(VLOOKUP(C433,BDDG!$A$2:$H$100,8,FALSE)),\"\",VLOOKUP(C433,BDDG!$A$2:$H$100,8,FALSE))","v":"BB18"},5,24,18.000000000000004,{"$f":"IF(ISERROR(VLOOKUP(C433,BDDG!$A$2:$I$100,9,FALSE)),\"\",VLOOKUP(C433,BDDG!$A$2:$I$100,9,FALSE))","v":"CC18"},5,14,30.857142857142861,{"$f":"IF(ISERROR(VLOOKUP(C433,BDDG!$A$2:$J$100,10,FALSE)),\"\",VLOOKUP(C433,BDDG!$A$2:$J$100,10,FALSE))","v":"DD18"},null,null,"",48.857142857142861,6,2010,{"$f":"IFERROR(INDEX($V$2:V433,MATCH(H433&MAX(IF($H$1:H432=H433,$A$1:A432)),$H$2:H433&$A$2:A433,0))-V433,\"\")","v":-14.297142857142859}]
["2010-06-11",null,856,{"$f":"IF(ISNA(VLOOKUP(C434,BDDG!$A$2:$F$100,2,FALSE)),\"\",VLOOKUP(C434,BDDG!$A$2:$F$100,2,FALSE))","v":0},{"$f":"IF(ISNA(VLOOKUP(C434,BDDG!$A$3:$J$102,3,FALSE)),\"\",VLOOKUP(C434,BDDG!$A$3:$J$102,3,FALSE))","v":"A"},{"$f":"IF(ISNA(VLOOKUP(C434,BDDG!$A$3:$J$102,4,FALSE)),\"\",VLOOKUP(C434,BDDG!$A$3:$J$102,4,FALSE))","v":106},{"$f":"IF(ISNA(VLOOKUP(C434,BDDG!$A$2:$F$100,5,FALSE)),\"\",VLOOKUP(C434,BDDG!$A$2:$F$100,5,FALSE))","v":"A9"},{"$f":"IF(ISNA(VLOOKUP(C434,BDDG!$A$2:$F$100,6,FALSE)),\"\",VLOOKUP(C434,BDDG!$A$2:$F$100,6,FALSE))","v":"AA27"},{"$f":"IF(ISERROR(VLOOKUP(C434,BDDG!$A$2:$G$100,7,FALSE)),\"\",VLOOKUP(C434,BDDG!$A$2:$G$100,7,FALSE))","v":2},{"$f":"IF(ISERROR(VLOOKUP(C434,BDDG!$A$2:$H$100,8,FALSE)),\"\",VLOOKUP(C434,BDDG!$A$2:$H$100,8,FALSE))","v":"BB27"},10,35,24.685714285714287,{"$f":"IF(ISERROR(VLOOKUP(C434,BDDG!$A$2:$I$100,9,FALSE)),\"\",VLOOKUP(C434,BDDG!$A$2:$I$100,9,FALSE))","v":"CC27"},9,7,288,{"$f":"IF(ISERROR(VLOOKUP(C434,BDDG!$A$2:$J$100,10,FALSE)),\"\",VLOOKUP(C434,BDDG!$A$2:$J$100,10,FALSE))","v":"DD27"},null,null,"",312.68571428571431,6,2010,{"$f":"IFERROR(INDEX($V$2:V434,MATCH(H434&MAX(IF($H$1:H433=H434,$A$1:A433)),$H$2:H434&$A$2:A434,0))-V434,\"\")","v":106.16428571428565}]
["2010-06-11",null,849,{"$f":"IF(ISNA(VLOOKUP(C435,BDDG!$A$2:$F$100,2,FALSE)),\"\",VLOOKUP(C435,BDDG!$A$2:$F$100,2,FALSE))","v":0},{"$f":"IF(ISNA(VLOOKUP(C435,BDDG!$A$3:$J$102,3,FALSE)),\"\",VLOOKUP(C435,BDDG!$A$3:$J$102,3,FALSE))","v":"B"},{"$f":"IF(ISNA(VLOOKUP(C435,BDDG!$A$3:$J$102,4,FALSE)),\"\",VLOOKUP(C435,BDDG!$A$3:$J$102,4,FALSE))","v":106},{"$f":"IF(ISNA(VLOOKUP(C435,BDDG!$A$2:$F$100,5,FALSE)),\"\",VLOOKUP(C435,BDDG!$A$2:$F$100,5,FALSE))","v":"A7"},{"$f":"IF(ISNA(VLOOKUP(C435,BDDG!$A$2:$F$100,6,FALSE)),\"\",VLOOKUP(C435,BDDG!$A$2:$F$100,6,FALSE))","v":"AA15"},{"$f":"IF(ISERROR(VLOOKUP(C435,BDDG!$A$2:$G$100,7,FALSE)),\"\",VLOOKUP(C435,BDDG!$A$2:$G$100,7,FALSE))","v":2},{"$f":"IF(ISERROR(VLOOKUP(C435,BDDG!$A$2:$H$100,8,FALSE)),\"\",VLOOKUP(C435,BDDG!$A$2:$H$100,8,FALSE))","v":"BB15"},5,16,27,{"$f":"IF(ISERROR(VLOOKUP(C435,BDDG!$A$2:$I$100,9,FALSE)),\"\",VLOOKUP(C435,BDDG!$A$2:$I$100,9,FALSE))","v":"CC15"},5,12,{"$f":" IF(ISERROR(O435/P435*86.4),\"\",O435/P435*86.4)","v":36.000000000000007},{"$f":"IF(ISERROR(VLOOKUP(C435,BDDG!$A$2:$J$100,10,FALSE)),\"\",VLOOKUP(C435,BDDG!$A$2:$J$100,10,FALSE))","v":"DD15"},null,null,"",63.000000000000007,6,2010,{"$f":"IFERROR(INDEX($V$2:V435,MATCH(H435&MAX(IF($H$1:H434=H435,$A$1:A434)),$H$2:H435&$A$2:A435,0))-V435,\"\")","v":-20.217391304347828}]
["2010-06-16",null,831,{"$f":"IF(ISNA(VLOOKUP(C436,BDDG!$A$2:$F$100,2,FALSE)),\"\",VLOOKUP(C436,BDDG!$A$2:$F$100,2,FALSE))","v":0},{"$f":"IF(ISNA(VLOOKUP(C436,BDDG!$A$3:$J$102,3,FALSE)),\"\",VLOOKUP(C436,BDDG!$A$3:$J$102,3,FALSE))","v":"A"},{"$f":"IF(ISNA(VLOOKUP(C436,BDDG!$A$3:$J$102,4,FALSE)),\"\",VLOOKUP(C436,BDDG!$A$3:$J$102,4,FALSE))","v":106},{"$f":"IF(ISNA(VLOOKUP(C436,BDDG!$A$2:$F$100,5,FALSE)),\"\",VLOOKUP(C436,BDDG!$A$2:$F$100,5,FALSE))","v":"A1"},{"$f":"IF(ISNA(VLOOKUP(C436,BDDG!$A$2:$F$100,6,FALSE)),\"\",VLOOKUP(C436,BDDG!$A$2:$F$100,6,FALSE))","v":"AA1"},{"$f":"IF(ISERROR(VLOOKUP(C436,BDDG!$A$2:$G$100,7,FALSE)),\"\",VLOOKUP(C436,BDDG!$A$2:$G$100,7,FALSE))","v":1},{"$f":"IF(ISERROR(VLOOKUP(C436,BDDG!$A$2:$H$100,8,FALSE)),\"\",VLOOKUP(C436,BDDG!$A$2:$H$100,8,FALSE))","v":"BB1"},10,8.3000000000000007,104.09638554216868,{"$f":"IF(ISERROR(VLOOKUP(C436,BDDG!$A$2:$I$100,9,FALSE)),\"\",VLOOKUP(C436,BDDG!$A$2:$I$100,9,FALSE))","v":"CC1"},null,null,"",{"$f":"IF(ISERROR(VLOOKUP(C436,BDDG!$A$2:$J$100,10,FALSE)),\"\",VLOOKUP(C436,BDDG!$A$2:$J$100,10,FALSE))","v":"DD1"},null,null,"",104.09638554216868,6,2010,{"$f":"IFERROR(INDEX($V$2:V436,MATCH(H436&MAX(IF($H$1:H435=H436,$A$1:A435)),$H$2:H436&$A$2:A436,0))-V436,\"\")","v":-15.933120236046221}]
["2010-06-22",null,869,{"$f":"IF(ISNA(VLOOKUP(C437,BDDG!$A$2:$F$100,2,FALSE)),\"\",VLOOKUP(C437,BDDG!$A$2:$F$100,2,FALSE))","v":0},{"$f":"IF(ISNA(VLOOKUP(C437,BDDG!$A$3:$J$102,3,FALSE)),\"\",VLOOKUP(C437,BDDG!$A$3:$J$102,3,FALSE))","v":"A"},{"$f":"IF(ISNA(VLOOKUP(C437,BDDG!$A$3:$J$102,4,FALSE)),\"\",VLOOKUP(C437,BDDG!$A$3:$J$102,4,FALSE))","v":108},{"$f":"IF(ISNA(VLOOKUP(C437,BDDG!$A$2:$F$100,5,FALSE)),\"\",VLOOKUP(C437,BDDG!$A$2:$F$100,5,FALSE))","v":"A16"},{"$f":"IF(ISNA(VLOOKUP(C437,BDDG!$A$2:$F$100,6,FALSE)),\"\",VLOOKUP(C437,BDDG!$A$2:$F$100,6,FALSE))","v":"AA40"},{"$f":"IF(ISERROR(VLOOKUP(C437,BDDG!$A$2:$G$100,7,FALSE)),\"\",VLOOKUP(C437,BDDG!$A$2:$G$100,7,FALSE))","v":3},{"$f":"IF(ISERROR(VLOOKUP(C437,BDDG!$A$2:$H$100,8,FALSE)),\"\",VLOOKUP(C437,BDDG!$A$2:$H$100,8,FALSE))","v":"BB40"},11,60,15.84,{"$f":"IF(ISERROR(VLOOKUP(C437,BDDG!$A$2:$I$100,9,FALSE)),\"\",VLOOKUP(C437,BDDG!$A$2:$I$100,9,FALSE))","v":"CC40"},null,null,"",{"$f":"IF(ISERROR(VLOOKUP(C437,BDDG!$A$2:$J$100,10,FALSE)),\"\",VLOOKUP(C437,BDDG!$A$2:$J$100,10,FALSE))","v":"DD40"},null,null,"",15.84,6,2010,{"$f":"IFERROR(INDEX($V$2:V437,MATCH(H437&MAX(IF($H$1:H436=H437,$A$1:A436)),$H$2:H437&$A$2:A437,0))-V437,\"\")","v":-14.975999999999999}]
["2010-06-22",null,822,{"$f":"IF(ISNA(VLOOKUP(C438,BDDG!$A$2:$F$100,2,FALSE)),\"\",VLOOKUP(C438,BDDG!$A$2:$F$100,2,FALSE))","v":0},{"$f":"IF(ISNA(VLOOKUP(C438,BDDG!$A$3:$J$102,3,FALSE)),\"\",VLOOKUP(C438,BDDG!$A$3:$J$102,3,FALSE))","v":"A"},{"$f":"IF(ISNA(VLOOKUP(C438,BDDG!$A$3:$J$102,4,FALSE)),\"\",VLOOKUP(C438,BDDG!$A$3:$J$102,4,FALSE))","v":106},{"$f":"IF(ISNA(VLOOKUP(C438,BDDG!$A$2:$F$100,5,FALSE)),\"\",VLOOKUP(C438,BDDG!$A$2:$F$100,5,FALSE))","v":"A4"},{"$f":"IF(ISNA(VLOOKUP(C438,BDDG!$A$2:$F$100,6,FALSE)),\"\",VLOOKUP(C438,BDDG!$A$2:$F$100,6,FALSE))","v":"AA12"},{"$f":"IF(ISERROR(VLOOKUP(C438,BDDG!$A$2:$G$100,7,FALSE)),\"\",VLOOKUP(C438,BDDG!$A$2:$G$100,7,FALSE))","v":1},{"$f":"IF(ISERROR(VLOOKUP(C438,BDDG!$A$2:$H$100,8,FALSE)),\"\",VLOOKUP(C438,BDDG!$A$2:$H$100,8,FALSE))","v":"BB12"},10,5,172.8,{"$f":"IF(ISERROR(VLOOKUP(C438,BDDG!$A$2:$I$100,9,FALSE)),\"\",VLOOKUP(C438,BDDG!$A$2:$I$100,9,FALSE))","v":"CC12"},null,null,"",{"$f":"IF(ISERROR(VLOOKUP(C438,BDDG!$A$2:$J$100,10,FALSE)),\"\",VLOOKUP(C438,BDDG!$A$2:$J$100,10,FALSE))","v":"DD12"},null,null,"",172.8,6,2010,{"$f":"IFERROR(INDEX($V$2:V438,MATCH(H438&MAX(IF($H$1:H437=H438,$A$1:A437)),$H$2:H438&$A$2:A438,0))-V438,\"\")","v":-76.8}]
["2010-07-12",null,835,{"$f":"IF(ISNA(VLOOKUP(C439,BDDG!$A$2:$F$100,2,FALSE)),\"\",VLOOKUP(C439,BDDG!$A$2:$F$100,2,FALSE))","v":0},{"$f":"IF(ISNA(VLOOKUP(C439,BDDG!$A$3:$J$102,3,FALSE)),\"\",VLOOKUP(C439,BDDG!$A$3:$J$102,3,FALSE))","v":"A"},{"$f":"IF(ISNA(VLOOKUP(C439,BDDG!$A$3:$J$102,4,FALSE)),\"\",VLOOKUP(C439,BDDG!$A$3:$J$102,4,FALSE))","v":106},{"$f":"IF(ISNA(VLOOKUP(C439,BDDG!$A$2:$F$100,5,FALSE)),\"\",VLOOKUP(C439,BDDG!$A$2:$F$100,5,FALSE))","v":"A3"},{"$f":"IF(ISNA(VLOOKUP(C439,BDDG!$A$2:$F$100,6,FALSE)),\"\",VLOOKUP(C439,BDDG!$A$2:$F$100,6,FALSE))","v":"AA5"},{"$f":"IF(ISERROR(VLOOKUP(C439,BDDG!$A$2:$G$100,7,FALSE)),\"\",VLOOKUP(C439,BDDG!$A$2:$G$100,7,FALSE))","v":1},{"$f":"IF(ISERROR(VLOOKUP(C439,BDDG!$A$2:$H$100,8,FALSE)),\"\",VLOOKUP(C439,BDDG!$A$2:$H$100,8,FALSE))","v":"BB5"},5,72,{"$f":" IF(ISERROR(K439/L439*86.4),\"\",K439/L439*86.4)","v":6.0000000000000009},{"$f":"IF(ISERROR(VLOOKUP(C439,BDDG!$A$2:$I$100,9,FALSE)),\"\",VLOOKUP(C439,BDDG!$A$2:$I$100,9,FALSE))","v":"CC5"},null,null,"",{"$f":"IF(ISERROR(VLOOKUP(C439,BDDG!$A$2:$J$100,10,FALSE)),\"\",VLOOKUP(C439,BDDG!$A$2:$J$100,10,FALSE))","v":"DD5"},null,null,"",{"$f":"IF(ISERROR(SUM(M439,Q439,U439)),\"\",SUM(M439,Q439,U439))","v":6.0000000000000009},7,2010,{"$f":"IFERROR(INDEX($V$2:V439,MATCH(H439&MAX(IF($H$1:H438=H439,$A$1:A438)),$H$2:H439&$A$2:A439,0))-V439,\"\")","v":2.9072164948453603}]
["2010-07-15",null,868,{"$f":"IF(ISNA(VLOOKUP(C440,BDDG!$A$2:$F$100,2,FALSE)),\"\",VLOOKUP(C440,BDDG!$A$2:$F$100,2,FALSE))","v":0},{"$f":"IF(ISNA(VLOOKUP(C440,BDDG!$A$3:$J$102,3,FALSE)),\"\",VLOOKUP(C440,BDDG!$A$3:$J$102,3,FALSE))","v":"A"},{"$f":"IF(ISNA(VLOOKUP(C440,BDDG!$A$3:$J$102,4,FALSE)),\"\",VLOOKUP(C440,BDDG!$A$3:$J$102,4,FALSE))","v":108},{"$f":"IF(ISNA(VLOOKUP(C440,BDDG!$A$2:$F$100,5,FALSE)),\"\",VLOOKUP(C440,BDDG!$A$2:$F$100,5,FALSE))","v":"A16"},{"$f":"IF(ISNA(VLOOKUP(C440,BDDG!$A$2:$F$100,6,FALSE)),\"\",VLOOKUP(C440,BDDG!$A$2:$F$100,6,FALSE))","v":"AA39"},{"$f":"IF(ISERROR(VLOOKUP(C440,BDDG!$A$2:$G$100,7,FALSE)),\"\",VLOOKUP(C440,BDDG!$A$2:$G$100,7,FALSE))","v":2},{"$f":"IF(ISERROR(VLOOKUP(C440,BDDG!$A$2:$H$100,8,FALSE)),\"\",VLOOKUP(C440,BDDG!$A$2:$H$100,8,FALSE))","v":"BB39"},10,40,21.6,{"$f":"IF(ISERROR(VLOOKUP(C440,BDDG!$A$2:$I$100,9,FALSE)),\"\",VLOOKUP(C440,BDDG!$A$2:$I$100,9,FALSE))","v":"CC39"},null,null,"",{"$f":"IF(ISERROR(VLOOKUP(C440,BDDG!$A$2:$J$100,10,FALSE)),\"\",VLOOKUP(C440,BDDG!$A$2:$J$100,10,FALSE))","v":"DD39"},null,null,"",21.6,7,2010,{"$f":"IFERROR(INDEX($V$2:V440,MATCH(H440&MAX(IF($H$1:H439=H440,$A$1:A439)),$H$2:H440&$A$2:A440,0))-V440,\"\")","v":86.4}]
["2010-07-26",null,870,{"$f":"IF(ISNA(VLOOKUP(C441,BDDG!$A$2:$F$100,2,FALSE)),\"\",VLOOKUP(C441,BDDG!$A$2:$F$100,2,FALSE))","v":0},{"$f":"IF(ISNA(VLOOKUP(C441,BDDG!$A$3:$J$102,3,FALSE)),\"\",VLOOKUP(C441,BDDG!$A$3:$J$102,3,FALSE))","v":"A"},{"$f":"IF(ISNA(VLOOKUP(C441,BDDG!$A$3:$J$102,4,FALSE)),\"\",VLOOKUP(C441,BDDG!$A$3:$J$102,4,FALSE))","v":108},{"$f":"IF(ISNA(VLOOKUP(C441,BDDG!$A$2:$F$100,5,FALSE)),\"\",VLOOKUP(C441,BDDG!$A$2:$F$100,5,FALSE))","v":"A16"},{"$f":"IF(ISNA(VLOOKUP(C441,BDDG!$A$2:$F$100,6,FALSE)),\"\",VLOOKUP(C441,BDDG!$A$2:$F$100,6,FALSE))","v":"AA41"},{"$f":"IF(ISERROR(VLOOKUP(C441,BDDG!$A$2:$G$100,7,FALSE)),\"\",VLOOKUP(C441,BDDG!$A$2:$G$100,7,FALSE))","v":2},{"$f":"IF(ISERROR(VLOOKUP(C441,BDDG!$A$2:$H$100,8,FALSE)),\"\",VLOOKUP(C441,BDDG!$A$2:$H$100,8,FALSE))","v":"BB41"},2.5,60,3.6,{"$f":"IF(ISERROR(VLOOKUP(C441,BDDG!$A$2:$I$100,9,FALSE)),\"\",VLOOKUP(C441,BDDG!$A$2:$I$100,9,FALSE))","v":"CC41"},1.5,60,2.16,{"$f":"IF(ISERROR(VLOOKUP(C441,BDDG!$A$2:$J$100,10,FALSE)),\"\",VLOOKUP(C441,BDDG!$A$2:$J$100,10,FALSE))","v":"DD41"},null,null,"",5.76,7,2010,{"$f":"IFERROR(INDEX($V$2:V441,MATCH(H441&MAX(IF($H$1:H440=H441,$A$1:A440)),$H$2:H441&$A$2:A441,0))-V441,\"\")","v":51.84}]
["2010-08-08",null,833,{"$f":"IF(ISNA(VLOOKUP(C442,BDDG!$A$2:$F$100,2,FALSE)),\"\",VLOOKUP(C442,BDDG!$A$2:$F$100,2,FALSE))","v":0},{"$f":"IF(ISNA(VLOOKUP(C442,BDDG!$A$3:$J$102,3,FALSE)),\"\",VLOOKUP(C442,BDDG!$A$3:$J$102,3,FALSE))","v":"A"},{"$f":"IF(ISNA(VLOOKUP(C442,BDDG!$A$3:$J$102,4,FALSE)),\"\",VLOOKUP(C442,BDDG!$A$3:$J$102,4,FALSE))","v":106},{"$f":"IF(ISNA(VLOOKUP(C442,BDDG!$A$2:$F$100,5,FALSE)),\"\",VLOOKUP(C442,BDDG!$A$2:$F$100,5,FALSE))","v":"A2"},{"$f":"IF(ISNA(VLOOKUP(C442,BDDG!$A$2:$F$100,6,FALSE)),\"\",VLOOKUP(C442,BDDG!$A$2:$F$100,6,FALSE))","v":"AA3"},{"$f":"IF(ISERROR(VLOOKUP(C442,BDDG!$A$2:$G$100,7,FALSE)),\"\",VLOOKUP(C442,BDDG!$A$2:$G$100,7,FALSE))","v":1},{"$f":"IF(ISERROR(VLOOKUP(C442,BDDG!$A$2:$H$100,8,FALSE)),\"\",VLOOKUP(C442,BDDG!$A$2:$H$100,8,FALSE))","v":"BB3"},10,11,78.545454545454547,{"$f":"IF(ISERROR(VLOOKUP(C442,BDDG!$A$2:$I$100,9,FALSE)),\"\",VLOOKUP(C442,BDDG!$A$2:$I$100,9,FALSE))","v":"CC3"},null,null,"",{"$f":"IF(ISERROR(VLOOKUP(C442,BDDG!$A$2:$J$100,10,FALSE)),\"\",VLOOKUP(C442,BDDG!$A$2:$J$100,10,FALSE))","v":"DD3"},null,null,"",78.545454545454547,8,2010,{"$f":"IFERROR(INDEX($V$2:V442,MATCH(H442&MAX(IF($H$1:H441=H442,$A$1:A441)),$H$2:H442&$A$2:A442,0))-V442,\"\")","v":-6.5454545454545325}]
["2010-08-26",null,867,{"$f":"IF(ISNA(VLOOKUP(C443,BDDG!$A$2:$F$100,2,FALSE)),\"\",VLOOKUP(C443,BDDG!$A$2:$F$100,2,FALSE))","v":0},{"$f":"IF(ISNA(VLOOKUP(C443,BDDG!$A$3:$J$102,3,FALSE)),\"\",VLOOKUP(C443,BDDG!$A$3:$J$102,3,FALSE))","v":"C"},{"$f":"IF(ISNA(VLOOKUP(C443,BDDG!$A$3:$J$102,4,FALSE)),\"\",VLOOKUP(C443,BDDG!$A$3:$J$102,4,FALSE))","v":108},{"$f":"IF(ISNA(VLOOKUP(C443,BDDG!$A$2:$F$100,5,FALSE)),\"\",VLOOKUP(C443,BDDG!$A$2:$F$100,5,FALSE))","v":"A17"},{"$f":"IF(ISNA(VLOOKUP(C443,BDDG!$A$2:$F$100,6,FALSE)),\"\",VLOOKUP(C443,BDDG!$A$2:$F$100,6,FALSE))","v":"AA43"},{"$f":"IF(ISERROR(VLOOKUP(C443,BDDG!$A$2:$G$100,7,FALSE)),\"\",VLOOKUP(C443,BDDG!$A$2:$G$100,7,FALSE))","v":1},{"$f":"IF(ISERROR(VLOOKUP(C443,BDDG!$A$2:$H$100,8,FALSE)),\"\",VLOOKUP(C443,BDDG!$A$2:$H$100,8,FALSE))","v":"BB43"},10,26,33.230769230769234,{"$f":"IF(ISERROR(VLOOKUP(C443,BDDG!$A$2:$I$100,9,FALSE)),\"\",VLOOKUP(C443,BDDG!$A$2:$I$100,9,FALSE))","v":"CC43"},null,null,null,{"$f":"IF(ISERROR(VLOOKUP(C443,BDDG!$A$2:$J$100,10,FALSE)),\"\",VLOOKUP(C443,BDDG!$A$2:$J$100,10,FALSE))","v":"DD43"},null,null,"",33.230769230769234,8,2010,{"$f":"IFERROR(INDEX($V$2:V443,MATCH(H443&MAX(IF($H$1:H442=H443,$A$1:A442)),$H$2:H443&$A$2:A443,0))-V443,\"\")","v":18.60923076923077}]
["2010-08-26",null,866,{"$f":"IF(ISNA(VLOOKUP(C444,BDDG!$A$2:$F$100,2,FALSE)),\"\",VLOOKUP(C444,BDDG!$A$2:$F$100,2,FALSE))","v":0},{"$f":"IF(ISNA(VLOOKUP(C444,BDDG!$A$3:$J$102,3,FALSE)),\"\",VLOOKUP(C444,BDDG!$A$3:$J$102,3,FALSE))","v":"C"},{"$f":"IF(ISNA(VLOOKUP(C444,BDDG!$A$3:$J$102,4,FALSE)),\"\",VLOOKUP(C444,BDDG!$A$3:$J$102,4,FALSE))","v":108},{"$f":"IF(ISNA(VLOOKUP(C444,BDDG!$A$2:$F$100,5,FALSE)),\"\",VLOOKUP(C444,BDDG!$A$2:$F$100,5,FALSE))","v":"A17"},{"$f":"IF(ISNA(VLOOKUP(C444,BDDG!$A$2:$F$100,6,FALSE)),\"\",VLOOKUP(C444,BDDG!$A$2:$F$100,6,FALSE))","v":"AA42"},{"$f":"IF(ISERROR(VLOOKUP(C444,BDDG!$A$2:$G$100,7,FALSE)),\"\",VLOOKUP(C444,BDDG!$A$2:$G$100,7,FALSE))","v":1},{"$f":"IF(ISERROR(VLOOKUP(C444,BDDG!$A$2:$H$100,8,FALSE)),\"\",VLOOKUP(C444,BDDG!$A$2:$H$100,8,FALSE))","v":"BB42"},0.8,1,69.12,{"$f":"IF(ISERROR(VLOOKUP(C444,BDDG!$A$2:$I$100,9,FALSE)),\"\",VLOOKUP(C444,BDDG!$A$2:$I$100,9,FALSE))","v":"CC42"},null,null,null,{"$f":"IF(ISERROR(VLOOKUP(C444,BDDG!$A$2:$J$100,10,FALSE)),\"\",VLOOKUP(C444,BDDG!$A$2:$J$100,10,FALSE))","v":"DD42"},null,null,"",69.12,8,2010,{"$f":"IFERROR(INDEX($V$2:V444,MATCH(H444&MAX(IF($H$1:H443=H444,$A$1:A443)),$H$2:H444&$A$2:A444,0))-V444,\"\")","v":34.56}]
["2010-08-30",null,867,{"$f":"IF(ISNA(VLOOKUP(C445,BDDG!$A$2:$F$100,2,FALSE)),\"\",VLOOKUP(C445,BDDG!$A$2:$F$100,2,FALSE))","v":0},{"$f":"IF(ISNA(VLOOKUP(C445,BDDG!$A$3:$J$102,3,FALSE)),\"\",VLOOKUP(C445,BDDG!$A$3:$J$102,3,FALSE))","v":"C"},{"$f":"IF(ISNA(VLOOKUP(C445,BDDG!$A$3:$J$102,4,FALSE)),\"\",VLOOKUP(C445,BDDG!$A$3:$J$102,4,FALSE))","v":108},{"$f":"IF(ISNA(VLOOKUP(C445,BDDG!$A$2:$F$100,5,FALSE)),\"\",VLOOKUP(C445,BDDG!$A$2:$F$100,5,FALSE))","v":"A17"},{"$f":"IF(ISNA(VLOOKUP(C445,BDDG!$A$2:$F$100,6,FALSE)),\"\",VLOOKUP(C445,BDDG!$A$2:$F$100,6,FALSE))","v":"AA43"},{"$f":"IF(ISERROR(VLOOKUP(C445,BDDG!$A$2:$G$100,7,FALSE)),\"\",VLOOKUP(C445,BDDG!$A$2:$G$100,7,FALSE))","v":1},{"$f":"IF(ISERROR(VLOOKUP(C445,BDDG!$A$2:$H$100,8,FALSE)),\"\",VLOOKUP(C445,BDDG!$A$2:$H$100,8,FALSE))","v":"BB43"},10,27,32,{"$f":"IF(ISERROR(VLOOKUP(C445,BDDG!$A$2:$I$100,9,FALSE)),\"\",VLOOKUP(C445,BDDG!$A$2:$I$100,9,FALSE))","v":"CC43"},null,null,null,{"$f":"IF(ISERROR(VLOOKUP(C445,BDDG!$A$2:$J$100,10,FALSE)),\"\",VLOOKUP(C445,BDDG!$A$2:$J$100,10,FALSE))","v":"DD43"},null,null,"",32,8,2010,{"$f":"IFERROR(INDEX($V$2:V445,MATCH(H445&MAX(IF($H$1:H444=H445,$A$1:A444)),$H$2:H445&$A$2:A445,0))-V445,\"\")","v":1.2307692307692335}]
["2010-08-30",null,866,{"$f":"IF(ISNA(VLOOKUP(C446,BDDG!$A$2:$F$100,2,FALSE)),\"\",VLOOKUP(C446,BDDG!$A$2:$F$100,2,FALSE))","v":0},{"$f":"IF(ISNA(VLOOKUP(C446,BDDG!$A$3:$J$102,3,FALSE)),\"\",VLOOKUP(C446,BDDG!$A$3:$J$102,3,FALSE))","v":"C"},{"$f":"IF(ISNA(VLOOKUP(C446,BDDG!$A$3:$J$102,4,FALSE)),\"\",VLOOKUP(C446,BDDG!$A$3:$J$102,4,FALSE))","v":108},{"$f":"IF(ISNA(VLOOKUP(C446,BDDG!$A$2:$F$100,5,FALSE)),\"\",VLOOKUP(C446,BDDG!$A$2:$F$100,5,FALSE))","v":"A17"},{"$f":"IF(ISNA(VLOOKUP(C446,BDDG!$A$2:$F$100,6,FALSE)),\"\",VLOOKUP(C446,BDDG!$A$2:$F$100,6,FALSE))","v":"AA42"},{"$f":"IF(ISERROR(VLOOKUP(C446,BDDG!$A$2:$G$100,7,FALSE)),\"\",VLOOKUP(C446,BDDG!$A$2:$G$100,7,FALSE))","v":1},{"$f":"IF(ISERROR(VLOOKUP(C446,BDDG!$A$2:$H$100,8,FALSE)),\"\",VLOOKUP(C446,BDDG!$A$2:$H$100,8,FALSE))","v":"BB42"},0.8,1,69.12,{"$f":"IF(ISERROR(VLOOKUP(C446,BDDG!$A$2:$I$100,9,FALSE)),\"\",VLOOKUP(C446,BDDG!$A$2:$I$100,9,FALSE))","v":"CC42"},null,null,null,{"$f":"IF(ISERROR(VLOOKUP(C446,BDDG!$A$2:$J$100,10,FALSE)),\"\",VLOOKUP(C446,BDDG!$A$2:$J$100,10,FALSE))","v":"DD42"},null,null,"",69.12,8,2010,{"$f":"IFERROR(INDEX($V$2:V446,MATCH(H446&MAX(IF($H$1:H445=H446,$A$1:A445)),$H$2:H446&$A$2:A446,0))-V446,\"\")","v":0}]
["2010-09-02",null,856,{"$f":"IF(ISNA(VLOOKUP(C447,BDDG!$A$2:$F$100,2,FALSE)),\"\",VLOOKUP(C447,BDDG!$A$2:$F$100,2,FALSE))","v":0},{"$f":"IF(ISNA(VLOOKUP(C447,BDDG!$A$3:$J$102,3,FALSE)),\"\",VLOOKUP(C447,BDDG!$A$3:$J$102,3,FALSE))","v":"A"},{"$f":"IF(ISNA(VLOOKUP(C447,BDDG!$A$3:$J$102,4,FALSE)),\"\",VLOOKUP(C447,BDDG!$A$3:$J$102,4,FALSE))","v":106},{"$f":"IF(ISNA(VLOOKUP(C447,BDDG!$A$2:$F$100,5,FALSE)),\"\",VLOOKUP(C447,BDDG!$A$2:$F$100,5,FALSE))","v":"A9"},{"$f":"IF(ISNA(VLOOKUP(C447,BDDG!$A$2:$F$100,6,FALSE)),\"\",VLOOKUP(C447,BDDG!$A$2:$F$100,6,FALSE))","v":"AA27"},{"$f":"IF(ISERROR(VLOOKUP(C447,BDDG!$A$2:$G$100,7,FALSE)),\"\",VLOOKUP(C447,BDDG!$A$2:$G$100,7,FALSE))","v":2},{"$f":"IF(ISERROR(VLOOKUP(C447,BDDG!$A$2:$H$100,8,FALSE)),\"\",VLOOKUP(C447,BDDG!$A$2:$H$100,8,FALSE))","v":"BB27"},5,29.1,14.845360824742269,{"$f":"IF(ISERROR(VLOOKUP(C447,BDDG!$A$2:$I$100,9,FALSE)),\"\",VLOOKUP(C447,BDDG!$A$2:$I$100,9,FALSE))","v":"CC27"},5,3,166.15,{"$f":"IF(ISERROR(VLOOKUP(C447,BDDG!$A$2:$J$100,10,FALSE)),\"\",VLOOKUP(C447,BDDG!$A$2:$J$100,10,FALSE))","v":"DD27"},null,null,"",180.99536082474228,9,2010,{"$f":"IFERROR(INDEX($V$2:V447,MATCH(H447&MAX(IF($H$1:H446=H447,$A$1:A446)),$H$2:H447&$A$2:A447,0))-V447,\"\")","v":131.69035346097203}]
["2010-09-03",null,832,{"$f":"IF(ISNA(VLOOKUP(C448,BDDG!$A$2:$F$100,2,FALSE)),\"\",VLOOKUP(C448,BDDG!$A$2:$F$100,2,FALSE))","v":0},{"$f":"IF(ISNA(VLOOKUP(C448,BDDG!$A$3:$J$102,3,FALSE)),\"\",VLOOKUP(C448,BDDG!$A$3:$J$102,3,FALSE))","v":"A"},{"$f":"IF(ISNA(VLOOKUP(C448,BDDG!$A$3:$J$102,4,FALSE)),\"\",VLOOKUP(C448,BDDG!$A$3:$J$102,4,FALSE))","v":106},{"$f":"IF(ISNA(VLOOKUP(C448,BDDG!$A$2:$F$100,5,FALSE)),\"\",VLOOKUP(C448,BDDG!$A$2:$F$100,5,FALSE))","v":"A2"},{"$f":"IF(ISNA(VLOOKUP(C448,BDDG!$A$2:$F$100,6,FALSE)),\"\",VLOOKUP(C448,BDDG!$A$2:$F$100,6,FALSE))","v":"AA2"},{"$f":"IF(ISERROR(VLOOKUP(C448,BDDG!$A$2:$G$100,7,FALSE)),\"\",VLOOKUP(C448,BDDG!$A$2:$G$100,7,FALSE))","v":1},{"$f":"IF(ISERROR(VLOOKUP(C448,BDDG!$A$2:$H$100,8,FALSE)),\"\",VLOOKUP(C448,BDDG!$A$2:$H$100,8,FALSE))","v":"BB2"},5,8.6999999999999993,49.65517241379311,{"$f":"IF(ISERROR(VLOOKUP(C448,BDDG!$A$2:$I$100,9,FALSE)),\"\",VLOOKUP(C448,BDDG!$A$2:$I$100,9,FALSE))","v":"CC2"},null,null,{"$f":" IF(ISERROR(O448/P448*86.4),\"\",O448/P448*86.4)","v":""},{"$f":"IF(ISERROR(VLOOKUP(C448,BDDG!$A$2:$J$100,10,FALSE)),\"\",VLOOKUP(C448,BDDG!$A$2:$J$100,10,FALSE))","v":"DD2"},null,null,"",49.65517241379311,9,2010,{"$f":"IFERROR(INDEX($V$2:V448,MATCH(H448&MAX(IF($H$1:H447=H448,$A$1:A447)),$H$2:H448&$A$2:A448,0))-V448,\"\")","v":36.744827586206895}]
["2010-09-03",null,833,{"$f":"IF(ISNA(VLOOKUP(C449,BDDG!$A$2:$F$100,2,FALSE)),\"\",VLOOKUP(C449,BDDG!$A$2:$F$100,2,FALSE))","v":0},{"$f":"IF(ISNA(VLOOKUP(C449,BDDG!$A$3:$J$102,3,FALSE)),\"\",VLOOKUP(C449,BDDG!$A$3:$J$102,3,FALSE))","v":"A"},{"$f":"IF(ISNA(VLOOKUP(C449,BDDG!$A$3:$J$102,4,FALSE)),\"\",VLOOKUP(C449,BDDG!$A$3:$J$102,4,FALSE))","v":106},{"$f":"IF(ISNA(VLOOKUP(C449,BDDG!$A$2:$F$100,5,FALSE)),\"\",VLOOKUP(C449,BDDG!$A$2:$F$100,5,FALSE))","v":"A2"},{"$f":"IF(ISNA(VLOOKUP(C449,BDDG!$A$2:$F$100,6,FALSE)),\"\",VLOOKUP(C449,BDDG!$A$2:$F$100,6,FALSE))","v":"AA3"},{"$f":"IF(ISERROR(VLOOKUP(C449,BDDG!$A$2:$G$100,7,FALSE)),\"\",VLOOKUP(C449,BDDG!$A$2:$G$100,7,FALSE))","v":1},{"$f":"IF(ISERROR(VLOOKUP(C449,BDDG!$A$2:$H$100,8,FALSE)),\"\",VLOOKUP(C449,BDDG!$A$2:$H$100,8,FALSE))","v":"BB3"},5,13.6,31.764705882352946,{"$f":"IF(ISERROR(VLOOKUP(C449,BDDG!$A$2:$I$100,9,FALSE)),\"\",VLOOKUP(C449,BDDG!$A$2:$I$100,9,FALSE))","v":"CC3"},null,null,"",{"$f":"IF(ISERROR(VLOOKUP(C449,BDDG!$A$2:$J$100,10,FALSE)),\"\",VLOOKUP(C449,BDDG!$A$2:$J$100,10,FALSE))","v":"DD3"},null,null,"",31.764705882352946,9,2010,{"$f":"IFERROR(INDEX($V$2:V449,MATCH(H449&MAX(IF($H$1:H448=H449,$A$1:A448)),$H$2:H449&$A$2:A449,0))-V449,\"\")","v":46.780748663101605}]
["2010-09-03",null,834,{"$f":"IF(ISNA(VLOOKUP(C450,BDDG!$A$2:$F$100,2,FALSE)),\"\",VLOOKUP(C450,BDDG!$A$2:$F$100,2,FALSE))","v":0},{"$f":"IF(ISNA(VLOOKUP(C450,BDDG!$A$3:$J$102,3,FALSE)),\"\",VLOOKUP(C450,BDDG!$A$3:$J$102,3,FALSE))","v":"A"},{"$f":"IF(ISNA(VLOOKUP(C450,BDDG!$A$3:$J$102,4,FALSE)),\"\",VLOOKUP(C450,BDDG!$A$3:$J$102,4,FALSE))","v":106},{"$f":"IF(ISNA(VLOOKUP(C450,BDDG!$A$2:$F$100,5,FALSE)),\"\",VLOOKUP(C450,BDDG!$A$2:$F$100,5,FALSE))","v":"A2"},{"$f":"IF(ISNA(VLOOKUP(C450,BDDG!$A$2:$F$100,6,FALSE)),\"\",VLOOKUP(C450,BDDG!$A$2:$F$100,6,FALSE))","v":"AA4"},{"$f":"IF(ISERROR(VLOOKUP(C450,BDDG!$A$2:$G$100,7,FALSE)),\"\",VLOOKUP(C450,BDDG!$A$2:$G$100,7,FALSE))","v":1},{"$f":"IF(ISERROR(VLOOKUP(C450,BDDG!$A$2:$H$100,8,FALSE)),\"\",VLOOKUP(C450,BDDG!$A$2:$H$100,8,FALSE))","v":"BB4"},5,24,18.000000000000004,{"$f":"IF(ISERROR(VLOOKUP(C450,BDDG!$A$2:$I$100,9,FALSE)),\"\",VLOOKUP(C450,BDDG!$A$2:$I$100,9,FALSE))","v":"CC4"},null,null,"",{"$f":"IF(ISERROR(VLOOKUP(C450,BDDG!$A$2:$J$100,10,FALSE)),\"\",VLOOKUP(C450,BDDG!$A$2:$J$100,10,FALSE))","v":"DD4"},null,null,{"$f":" IF(ISERROR(S450/T450*86.4),\"\",S450/T450*86.4)","v":""},18.000000000000004,{"$f":"MONTH(A:A)","v":9},{"$f":"YEAR(A:A)","v":2010},{"$f":"IFERROR(INDEX($V$2:V450,MATCH(H450&MAX(IF($H$1:H449=H450,$A$1:A449)),$H$2:H450&$A$2:A450,0))-V450,\"\")","v":12.857142857142858}]
["2010-09-06",null,868,{"$f":"IF(ISNA(VLOOKUP(C451,BDDG!$A$2:$F$100,2,FALSE)),\"\",VLOOKUP(C451,BDDG!$A$2:$F$100,2,FALSE))","v":0},{"$f":"IF(ISNA(VLOOKUP(C451,BDDG!$A$3:$J$102,3,FALSE)),\"\",VLOOKUP(C451,BDDG!$A$3:$J$102,3,FALSE))","v":"A"},{"$f":"IF(ISNA(VLOOKUP(C451,BDDG!$A$3:$J$102,4,FALSE)),\"\",VLOOKUP(C451,BDDG!$A$3:$J$102,4,FALSE))","v":108},{"$f":"IF(ISNA(VLOOKUP(C451,BDDG!$A$2:$F$100,5,FALSE)),\"\",VLOOKUP(C451,BDDG!$A$2:$F$100,5,FALSE))","v":"A16"},{"$f":"IF(ISNA(VLOOKUP(C451,BDDG!$A$2:$F$100,6,FALSE)),\"\",VLOOKUP(C451,BDDG!$A$2:$F$100,6,FALSE))","v":"AA39"},{"$f":"IF(ISERROR(VLOOKUP(C451,BDDG!$A$2:$G$100,7,FALSE)),\"\",VLOOKUP(C451,BDDG!$A$2:$G$100,7,FALSE))","v":2},{"$f":"IF(ISERROR(VLOOKUP(C451,BDDG!$A$2:$H$100,8,FALSE)),\"\",VLOOKUP(C451,BDDG!$A$2:$H$100,8,FALSE))","v":"BB39"},6,60,8.64,{"$f":"IF(ISERROR(VLOOKUP(C451,BDDG!$A$2:$I$100,9,FALSE)),\"\",VLOOKUP(C451,BDDG!$A$2:$I$100,9,FALSE))","v":"CC39"},null,null,"",{"$f":"IF(ISERROR(VLOOKUP(C451,BDDG!$A$2:$J$100,10,FALSE)),\"\",VLOOKUP(C451,BDDG!$A$2:$J$100,10,FALSE))","v":"DD39"},null,null,"",8.64,9,2010,{"$f":"IFERROR(INDEX($V$2:V451,MATCH(H451&MAX(IF($H$1:H450=H451,$A$1:A450)),$H$2:H451&$A$2:A451,0))-V451,\"\")","v":12.96}]
["2010-09-07",null,831,{"$f":"IF(ISNA(VLOOKUP(C452,BDDG!$A$2:$F$100,2,FALSE)),\"\",VLOOKUP(C452,BDDG!$A$2:$F$100,2,FALSE))","v":0},{"$f":"IF(ISNA(VLOOKUP(C452,BDDG!$A$3:$J$102,3,FALSE)),\"\",VLOOKUP(C452,BDDG!$A$3:$J$102,3,FALSE))","v":"A"},{"$f":"IF(ISNA(VLOOKUP(C452,BDDG!$A$3:$J$102,4,FALSE)),\"\",VLOOKUP(C452,BDDG!$A$3:$J$102,4,FALSE))","v":106},{"$f":"IF(ISNA(VLOOKUP(C452,BDDG!$A$2:$F$100,5,FALSE)),\"\",VLOOKUP(C452,BDDG!$A$2:$F$100,5,FALSE))","v":"A1"},{"$f":"IF(ISNA(VLOOKUP(C452,BDDG!$A$2:$F$100,6,FALSE)),\"\",VLOOKUP(C452,BDDG!$A$2:$F$100,6,FALSE))","v":"AA1"},{"$f":"IF(ISERROR(VLOOKUP(C452,BDDG!$A$2:$G$100,7,FALSE)),\"\",VLOOKUP(C452,BDDG!$A$2:$G$100,7,FALSE))","v":1},{"$f":"IF(ISERROR(VLOOKUP(C452,BDDG!$A$2:$H$100,8,FALSE)),\"\",VLOOKUP(C452,BDDG!$A$2:$H$100,8,FALSE))","v":"BB1"},5,4.3,100.46511627906978,{"$f":"IF(ISERROR(VLOOKUP(C452,BDDG!$A$2:$I$100,9,FALSE)),\"\",VLOOKUP(C452,BDDG!$A$2:$I$100,9,FALSE))","v":"CC1"},null,null,"",{"$f":"IF(ISERROR(VLOOKUP(C452,BDDG!$A$2:$J$100,10,FALSE)),\"\",VLOOKUP(C452,BDDG!$A$2:$J$100,10,FALSE))","v":"DD1"},null,null,"",100.46511627906978,9,2010,{"$f":"IFERROR(INDEX($V$2:V452,MATCH(H452&MAX(IF($H$1:H451=H452,$A$1:A451)),$H$2:H452&$A$2:A452,0))-V452,\"\")","v":3.6312692630989005}]
["2010-09-07",null,850,{"$f":"IF(ISNA(VLOOKUP(C453,BDDG!$A$2:$F$100,2,FALSE)),\"\",VLOOKUP(C453,BDDG!$A$2:$F$100,2,FALSE))","v":0},{"$f":"IF(ISNA(VLOOKUP(C453,BDDG!$A$3:$J$102,3,FALSE)),\"\",VLOOKUP(C453,BDDG!$A$3:$J$102,3,FALSE))","v":"B"},{"$f":"IF(ISNA(VLOOKUP(C453,BDDG!$A$3:$J$102,4,FALSE)),\"\",VLOOKUP(C453,BDDG!$A$3:$J$102,4,FALSE))","v":106},{"$f":"IF(ISNA(VLOOKUP(C453,BDDG!$A$2:$F$100,5,FALSE)),\"\",VLOOKUP(C453,BDDG!$A$2:$F$100,5,FALSE))","v":"A8"},{"$f":"IF(ISNA(VLOOKUP(C453,BDDG!$A$2:$F$100,6,FALSE)),\"\",VLOOKUP(C453,BDDG!$A$2:$F$100,6,FALSE))","v":"AA20"},{"$f":"IF(ISERROR(VLOOKUP(C453,BDDG!$A$2:$G$100,7,FALSE)),\"\",VLOOKUP(C453,BDDG!$A$2:$G$100,7,FALSE))","v":1},{"$f":"IF(ISERROR(VLOOKUP(C453,BDDG!$A$2:$H$100,8,FALSE)),\"\",VLOOKUP(C453,BDDG!$A$2:$H$100,8,FALSE))","v":"BB20"},3,5,51.84,{"$f":"IF(ISERROR(VLOOKUP(C453,BDDG!$A$2:$I$100,9,FALSE)),\"\",VLOOKUP(C453,BDDG!$A$2:$I$100,9,FALSE))","v":"CC20"},null,null,"",{"$f":"IF(ISERROR(VLOOKUP(C453,BDDG!$A$2:$J$100,10,FALSE)),\"\",VLOOKUP(C453,BDDG!$A$2:$J$100,10,FALSE))","v":"DD20"},null,null,"",51.84,9,2010,{"$f":"IFERROR(INDEX($V$2:V453,MATCH(H453&MAX(IF($H$1:H452=H453,$A$1:A452)),$H$2:H453&$A$2:A453,0))-V453,\"\")","v":-6.3663157894736884}]
["2010-09-07",null,870,{"$f":"IF(ISNA(VLOOKUP(C454,BDDG!$A$2:$F$100,2,FALSE)),\"\",VLOOKUP(C454,BDDG!$A$2:$F$100,2,FALSE))","v":0},{"$f":"IF(ISNA(VLOOKUP(C454,BDDG!$A$3:$J$102,3,FALSE)),\"\",VLOOKUP(C454,BDDG!$A$3:$J$102,3,FALSE))","v":"A"},{"$f":"IF(ISNA(VLOOKUP(C454,BDDG!$A$3:$J$102,4,FALSE)),\"\",VLOOKUP(C454,BDDG!$A$3:$J$102,4,FALSE))","v":108},{"$f":"IF(ISNA(VLOOKUP(C454,BDDG!$A$2:$F$100,5,FALSE)),\"\",VLOOKUP(C454,BDDG!$A$2:$F$100,5,FALSE))","v":"A16"},{"$f":"IF(ISNA(VLOOKUP(C454,BDDG!$A$2:$F$100,6,FALSE)),\"\",VLOOKUP(C454,BDDG!$A$2:$F$100,6,FALSE))","v":"AA41"},{"$f":"IF(ISERROR(VLOOKUP(C454,BDDG!$A$2:$G$100,7,FALSE)),\"\",VLOOKUP(C454,BDDG!$A$2:$G$100,7,FALSE))","v":2},{"$f":"IF(ISERROR(VLOOKUP(C454,BDDG!$A$2:$H$100,8,FALSE)),\"\",VLOOKUP(C454,BDDG!$A$2:$H$100,8,FALSE))","v":"BB41"},3,60,4.32,{"$f":"IF(ISERROR(VLOOKUP(C454,BDDG!$A$2:$I$100,9,FALSE)),\"\",VLOOKUP(C454,BDDG!$A$2:$I$100,9,FALSE))","v":"CC41"},1,60,1.4400000000000002,{"$f":"IF(ISERROR(VLOOKUP(C454,BDDG!$A$2:$J$100,10,FALSE)),\"\",VLOOKUP(C454,BDDG!$A$2:$J$100,10,FALSE))","v":"DD41"},null,null,"",5.7600000000000007,9,2010,{"$f":"IFERROR(INDEX($V$2:V454,MATCH(H454&MAX(IF($H$1:H453=H454,$A$1:A453)),$H$2:H454&$A$2:A454,0))-V454,\"\")","v":-8.8817841970012523E-16}]
["2010-09-09",null,869,{"$f":"IF(ISNA(VLOOKUP(C455,BDDG!$A$2:$F$100,2,FALSE)),\"\",VLOOKUP(C455,BDDG!$A$2:$F$100,2,FALSE))","v":0},{"$f":"IF(ISNA(VLOOKUP(C455,BDDG!$A$3:$J$102,3,FALSE)),\"\",VLOOKUP(C455,BDDG!$A$3:$J$102,3,FALSE))","v":"A"},{"$f":"IF(ISNA(VLOOKUP(C455,BDDG!$A$3:$J$102,4,FALSE)),\"\",VLOOKUP(C455,BDDG!$A$3:$J$102,4,FALSE))","v":108},{"$f":"IF(ISNA(VLOOKUP(C455,BDDG!$A$2:$F$100,5,FALSE)),\"\",VLOOKUP(C455,BDDG!$A$2:$F$100,5,FALSE))","v":"A16"},{"$f":"IF(ISNA(VLOOKUP(C455,BDDG!$A$2:$F$100,6,FALSE)),\"\",VLOOKUP(C455,BDDG!$A$2:$F$100,6,FALSE))","v":"AA40"},{"$f":"IF(ISERROR(VLOOKUP(C455,BDDG!$A$2:$G$100,7,FALSE)),\"\",VLOOKUP(C455,BDDG!$A$2:$G$100,7,FALSE))","v":3},{"$f":"IF(ISERROR(VLOOKUP(C455,BDDG!$A$2:$H$100,8,FALSE)),\"\",VLOOKUP(C455,BDDG!$A$2:$H$100,8,FALSE))","v":"BB40"},1,4,21.6,{"$f":"IF(ISERROR(VLOOKUP(C455,BDDG!$A$2:$I$100,9,FALSE)),\"\",VLOOKUP(C455,BDDG!$A$2:$I$100,9,FALSE))","v":"CC40"},null,null,"",{"$f":"IF(ISERROR(VLOOKUP(C455,BDDG!$A$2:$J$100,10,FALSE)),\"\",VLOOKUP(C455,BDDG!$A$2:$J$100,10,FALSE))","v":"DD40"},null,null,"",21.6,9,2010,{"$f":"IFERROR(INDEX($V$2:V455,MATCH(H455&MAX(IF($H$1:H454=H455,$A$1:A454)),$H$2:H455&$A$2:A455,0))-V455,\"\")","v":-5.7600000000000016}]
["2010-09-10",null,867,{"$f":"IF(ISNA(VLOOKUP(C456,BDDG!$A$2:$F$100,2,FALSE)),\"\",VLOOKUP(C456,BDDG!$A$2:$F$100,2,FALSE))","v":0},{"$f":"IF(ISNA(VLOOKUP(C456,BDDG!$A$3:$J$102,3,FALSE)),\"\",VLOOKUP(C456,BDDG!$A$3:$J$102,3,FALSE))","v":"C"},{"$f":"IF(ISNA(VLOOKUP(C456,BDDG!$A$3:$J$102,4,FALSE)),\"\",VLOOKUP(C456,BDDG!$A$3:$J$102,4,FALSE))","v":108},{"$f":"IF(ISNA(VLOOKUP(C456,BDDG!$A$2:$F$100,5,FALSE)),\"\",VLOOKUP(C456,BDDG!$A$2:$F$100,5,FALSE))","v":"A17"},{"$f":"IF(ISNA(VLOOKUP(C456,BDDG!$A$2:$F$100,6,FALSE)),\"\",VLOOKUP(C456,BDDG!$A$2:$F$100,6,FALSE))","v":"AA43"},{"$f":"IF(ISERROR(VLOOKUP(C456,BDDG!$A$2:$G$100,7,FALSE)),\"\",VLOOKUP(C456,BDDG!$A$2:$G$100,7,FALSE))","v":1},{"$f":"IF(ISERROR(VLOOKUP(C456,BDDG!$A$2:$H$100,8,FALSE)),\"\",VLOOKUP(C456,BDDG!$A$2:$H$100,8,FALSE))","v":"BB43"},9,25,31.103999999999999,{"$f":"IF(ISERROR(VLOOKUP(C456,BDDG!$A$2:$I$100,9,FALSE)),\"\",VLOOKUP(C456,BDDG!$A$2:$I$100,9,FALSE))","v":"CC43"},null,null,null,{"$f":"IF(ISERROR(VLOOKUP(C456,BDDG!$A$2:$J$100,10,FALSE)),\"\",VLOOKUP(C456,BDDG!$A$2:$J$100,10,FALSE))","v":"DD43"},null,null,"",31.103999999999999,9,2010,{"$f":"IFERROR(INDEX($V$2:V456,MATCH(H456&MAX(IF($H$1:H455=H456,$A$1:A455)),$H$2:H456&$A$2:A456,0))-V456,\"\")","v":0.8960000000000008}]
["2010-09-10",null,866,{"$f":"IF(ISNA(VLOOKUP(C457,BDDG!$A$2:$F$100,2,FALSE)),\"\",VLOOKUP(C457,BDDG!$A$2:$F$100,2,FALSE))","v":0},{"$f":"IF(ISNA(VLOOKUP(C457,BDDG!$A$3:$J$102,3,FALSE)),\"\",VLOOKUP(C457,BDDG!$A$3:$J$102,3,FALSE))","v":"C"},{"$f":"IF(ISNA(VLOOKUP(C457,BDDG!$A$3:$J$102,4,FALSE)),\"\",VLOOKUP(C457,BDDG!$A$3:$J$102,4,FALSE))","v":108},{"$f":"IF(ISNA(VLOOKUP(C457,BDDG!$A$2:$F$100,5,FALSE)),\"\",VLOOKUP(C457,BDDG!$A$2:$F$100,5,FALSE))","v":"A17"},{"$f":"IF(ISNA(VLOOKUP(C457,BDDG!$A$2:$F$100,6,FALSE)),\"\",VLOOKUP(C457,BDDG!$A$2:$F$100,6,FALSE))","v":"AA42"},{"$f":"IF(ISERROR(VLOOKUP(C457,BDDG!$A$2:$G$100,7,FALSE)),\"\",VLOOKUP(C457,BDDG!$A$2:$G$100,7,FALSE))","v":1},{"$f":"IF(ISERROR(VLOOKUP(C457,BDDG!$A$2:$H$100,8,FALSE)),\"\",VLOOKUP(C457,BDDG!$A$2:$H$100,8,FALSE))","v":"BB42"},0.8,1,69.12,{"$f":"IF(ISERROR(VLOOKUP(C457,BDDG!$A$2:$I$100,9,FALSE)),\"\",VLOOKUP(C457,BDDG!$A$2:$I$100,9,FALSE))","v":"CC42"},null,null,null,{"$f":"IF(ISERROR(VLOOKUP(C457,BDDG!$A$2:$J$100,10,FALSE)),\"\",VLOOKUP(C457,BDDG!$A$2:$J$100,10,FALSE))","v":"DD42"},null,null,"",69.12,9,2010,{"$f":"IFERROR(INDEX($V$2:V457,MATCH(H457&MAX(IF($H$1:H456=H457,$A$1:A456)),$H$2:H457&$A$2:A457,0))-V457,\"\")","v":0}]
["2010-09-16",null,868,{"$f":"IF(ISNA(VLOOKUP(C458,BDDG!$A$2:$F$100,2,FALSE)),\"\",VLOOKUP(C458,BDDG!$A$2:$F$100,2,FALSE))","v":0},{"$f":"IF(ISNA(VLOOKUP(C458,BDDG!$A$3:$J$102,3,FALSE)),\"\",VLOOKUP(C458,BDDG!$A$3:$J$102,3,FALSE))","v":"A"},{"$f":"IF(ISNA(VLOOKUP(C458,BDDG!$A$3:$J$102,4,FALSE)),\"\",VLOOKUP(C458,BDDG!$A$3:$J$102,4,FALSE))","v":108},{"$f":"IF(ISNA(VLOOKUP(C458,BDDG!$A$2:$F$100,5,FALSE)),\"\",VLOOKUP(C458,BDDG!$A$2:$F$100,5,FALSE))","v":"A16"},{"$f":"IF(ISNA(VLOOKUP(C458,BDDG!$A$2:$F$100,6,FALSE)),\"\",VLOOKUP(C458,BDDG!$A$2:$F$100,6,FALSE))","v":"AA39"},{"$f":"IF(ISERROR(VLOOKUP(C458,BDDG!$A$2:$G$100,7,FALSE)),\"\",VLOOKUP(C458,BDDG!$A$2:$G$100,7,FALSE))","v":2},{"$f":"IF(ISERROR(VLOOKUP(C458,BDDG!$A$2:$H$100,8,FALSE)),\"\",VLOOKUP(C458,BDDG!$A$2:$H$100,8,FALSE))","v":"BB39"},10,27,{"$f":" IF(ISERROR(K458/L458*86.4),\"\",K458/L458*86.4)","v":32},{"$f":"IF(ISERROR(VLOOKUP(C458,BDDG!$A$2:$I$100,9,FALSE)),\"\",VLOOKUP(C458,BDDG!$A$2:$I$100,9,FALSE))","v":"CC39"},null,null,{"$f":" IF(ISERROR(O458/P458*86.4),\"\",O458/P458*86.4)","v":""},{"$f":"IF(ISERROR(VLOOKUP(C458,BDDG!$A$2:$J$100,10,FALSE)),\"\",VLOOKUP(C458,BDDG!$A$2:$J$100,10,FALSE))","v":"DD39"},null,null,"",{"$f":"IF(ISERROR(SUM(M458,Q458,U458)),\"\",SUM(M458,Q458,U458))","v":32},9,2010,{"$f":"IFERROR(INDEX($V$2:V458,MATCH(H458&MAX(IF($H$1:H457=H458,$A$1:A457)),$H$2:H458&$A$2:A458,0))-V458,\"\")","v":-23.36}]
["2010-10-01",null,866,{"$f":"IF(ISNA(VLOOKUP(C459,BDDG!$A$2:$F$100,2,FALSE)),\"\",VLOOKUP(C459,BDDG!$A$2:$F$100,2,FALSE))","v":0},{"$f":"IF(ISNA(VLOOKUP(C459,BDDG!$A$3:$J$102,3,FALSE)),\"\",VLOOKUP(C459,BDDG!$A$3:$J$102,3,FALSE))","v":"C"},{"$f":"IF(ISNA(VLOOKUP(C459,BDDG!$A$3:$J$102,4,FALSE)),\"\",VLOOKUP(C459,BDDG!$A$3:$J$102,4,FALSE))","v":108},{"$f":"IF(ISNA(VLOOKUP(C459,BDDG!$A$2:$F$100,5,FALSE)),\"\",VLOOKUP(C459,BDDG!$A$2:$F$100,5,FALSE))","v":"A17"},{"$f":"IF(ISNA(VLOOKUP(C459,BDDG!$A$2:$F$100,6,FALSE)),\"\",VLOOKUP(C459,BDDG!$A$2:$F$100,6,FALSE))","v":"AA42"},{"$f":"IF(ISERROR(VLOOKUP(C459,BDDG!$A$2:$G$100,7,FALSE)),\"\",VLOOKUP(C459,BDDG!$A$2:$G$100,7,FALSE))","v":1},{"$f":"IF(ISERROR(VLOOKUP(C459,BDDG!$A$2:$H$100,8,FALSE)),\"\",VLOOKUP(C459,BDDG!$A$2:$H$100,8,FALSE))","v":"BB42"},2.5,1,216,{"$f":"IF(ISERROR(VLOOKUP(C459,BDDG!$A$2:$I$100,9,FALSE)),\"\",VLOOKUP(C459,BDDG!$A$2:$I$100,9,FALSE))","v":"CC42"},null,null,null,{"$f":"IF(ISERROR(VLOOKUP(C459,BDDG!$A$2:$J$100,10,FALSE)),\"\",VLOOKUP(C459,BDDG!$A$2:$J$100,10,FALSE))","v":"DD42"},null,null,"",216,10,2010,{"$f":"IFERROR(INDEX($V$2:V459,MATCH(H459&MAX(IF($H$1:H458=H459,$A$1:A458)),$H$2:H459&$A$2:A459,0))-V459,\"\")","v":-146.88}]
["2010-10-13",null,835,{"$f":"IF(ISNA(VLOOKUP(C460,BDDG!$A$2:$F$100,2,FALSE)),\"\",VLOOKUP(C460,BDDG!$A$2:$F$100,2,FALSE))","v":0},{"$f":"IF(ISNA(VLOOKUP(C460,BDDG!$A$3:$J$102,3,FALSE)),\"\",VLOOKUP(C460,BDDG!$A$3:$J$102,3,FALSE))","v":"A"},{"$f":"IF(ISNA(VLOOKUP(C460,BDDG!$A$3:$J$102,4,FALSE)),\"\",VLOOKUP(C460,BDDG!$A$3:$J$102,4,FALSE))","v":106},{"$f":"IF(ISNA(VLOOKUP(C460,BDDG!$A$2:$F$100,5,FALSE)),\"\",VLOOKUP(C460,BDDG!$A$2:$F$100,5,FALSE))","v":"A3"},{"$f":"IF(ISNA(VLOOKUP(C460,BDDG!$A$2:$F$100,6,FALSE)),\"\",VLOOKUP(C460,BDDG!$A$2:$F$100,6,FALSE))","v":"AA5"},{"$f":"IF(ISERROR(VLOOKUP(C460,BDDG!$A$2:$G$100,7,FALSE)),\"\",VLOOKUP(C460,BDDG!$A$2:$G$100,7,FALSE))","v":1},{"$f":"IF(ISERROR(VLOOKUP(C460,BDDG!$A$2:$H$100,8,FALSE)),\"\",VLOOKUP(C460,BDDG!$A$2:$H$100,8,FALSE))","v":"BB5"},10,240,3.6,{"$f":"IF(ISERROR(VLOOKUP(C460,BDDG!$A$2:$I$100,9,FALSE)),\"\",VLOOKUP(C460,BDDG!$A$2:$I$100,9,FALSE))","v":"CC5"},null,null,{"$f":" IF(ISERROR(O460/P460*86.4),\"\",O460/P460*86.4)","v":""},{"$f":"IF(ISERROR(VLOOKUP(C460,BDDG!$A$2:$J$100,10,FALSE)),\"\",VLOOKUP(C460,BDDG!$A$2:$J$100,10,FALSE))","v":"DD5"},null,null,"",3.6,10,2010,{"$f":"IFERROR(INDEX($V$2:V460,MATCH(H460&MAX(IF($H$1:H459=H460,$A$1:A459)),$H$2:H460&$A$2:A460,0))-V460,\"\")","v":2.4000000000000008}]
["2010-10-25",null,866,{"$f":"IF(ISNA(VLOOKUP(C461,BDDG!$A$2:$F$100,2,FALSE)),\"\",VLOOKUP(C461,BDDG!$A$2:$F$100,2,FALSE))","v":0},{"$f":"IF(ISNA(VLOOKUP(C461,BDDG!$A$3:$J$102,3,FALSE)),\"\",VLOOKUP(C461,BDDG!$A$3:$J$102,3,FALSE))","v":"C"},{"$f":"IF(ISNA(VLOOKUP(C461,BDDG!$A$3:$J$102,4,FALSE)),\"\",VLOOKUP(C461,BDDG!$A$3:$J$102,4,FALSE))","v":108},{"$f":"IF(ISNA(VLOOKUP(C461,BDDG!$A$2:$F$100,5,FALSE)),\"\",VLOOKUP(C461,BDDG!$A$2:$F$100,5,FALSE))","v":"A17"},{"$f":"IF(ISNA(VLOOKUP(C461,BDDG!$A$2:$F$100,6,FALSE)),\"\",VLOOKUP(C461,BDDG!$A$2:$F$100,6,FALSE))","v":"AA42"},{"$f":"IF(ISERROR(VLOOKUP(C461,BDDG!$A$2:$G$100,7,FALSE)),\"\",VLOOKUP(C461,BDDG!$A$2:$G$100,7,FALSE))","v":1},{"$f":"IF(ISERROR(VLOOKUP(C461,BDDG!$A$2:$H$100,8,FALSE)),\"\",VLOOKUP(C461,BDDG!$A$2:$H$100,8,FALSE))","v":"BB42"},1.8,1,155.52000000000001,{"$f":"IF(ISERROR(VLOOKUP(C461,BDDG!$A$2:$I$100,9,FALSE)),\"\",VLOOKUP(C461,BDDG!$A$2:$I$100,9,FALSE))","v":"CC42"},null,null,null,{"$f":"IF(ISERROR(VLOOKUP(C461,BDDG!$A$2:$J$100,10,FALSE)),\"\",VLOOKUP(C461,BDDG!$A$2:$J$100,10,FALSE))","v":"DD42"},null,null,"",155.52000000000001,10,2010,{"$f":"IFERROR(INDEX($V$2:V461,MATCH(H461&MAX(IF($H$1:H460=H461,$A$1:A460)),$H$2:H461&$A$2:A461,0))-V461,\"\")","v":60.47999999999999}]
["2010-11-05",null,869,{"$f":"IF(ISNA(VLOOKUP(C462,BDDG!$A$2:$F$100,2,FALSE)),\"\",VLOOKUP(C462,BDDG!$A$2:$F$100,2,FALSE))","v":0},{"$f":"IF(ISNA(VLOOKUP(C462,BDDG!$A$3:$J$102,3,FALSE)),\"\",VLOOKUP(C462,BDDG!$A$3:$J$102,3,FALSE))","v":"A"},{"$f":"IF(ISNA(VLOOKUP(C462,BDDG!$A$3:$J$102,4,FALSE)),\"\",VLOOKUP(C462,BDDG!$A$3:$J$102,4,FALSE))","v":108},{"$f":"IF(ISNA(VLOOKUP(C462,BDDG!$A$2:$F$100,5,FALSE)),\"\",VLOOKUP(C462,BDDG!$A$2:$F$100,5,FALSE))","v":"A16"},{"$f":"IF(ISNA(VLOOKUP(C462,BDDG!$A$2:$F$100,6,FALSE)),\"\",VLOOKUP(C462,BDDG!$A$2:$F$100,6,FALSE))","v":"AA40"},{"$f":"IF(ISERROR(VLOOKUP(C462,BDDG!$A$2:$G$100,7,FALSE)),\"\",VLOOKUP(C462,BDDG!$A$2:$G$100,7,FALSE))","v":3},{"$f":"IF(ISERROR(VLOOKUP(C462,BDDG!$A$2:$H$100,8,FALSE)),\"\",VLOOKUP(C462,BDDG!$A$2:$H$100,8,FALSE))","v":"BB40"},0.5,4,10.8,{"$f":"IF(ISERROR(VLOOKUP(C462,BDDG!$A$2:$I$100,9,FALSE)),\"\",VLOOKUP(C462,BDDG!$A$2:$I$100,9,FALSE))","v":"CC40"},null,null,{"$f":" IF(ISERROR(O462/P462*86.4),\"\",O462/P462*86.4)","v":""},{"$f":"IF(ISERROR(VLOOKUP(C462,BDDG!$A$2:$J$100,10,FALSE)),\"\",VLOOKUP(C462,BDDG!$A$2:$J$100,10,FALSE))","v":"DD40"},null,null,"",10.8,11,2010,{"$f":"IFERROR(INDEX($V$2:V462,MATCH(H462&MAX(IF($H$1:H461=H462,$A$1:A461)),$H$2:H462&$A$2:A462,0))-V462,\"\")","v":10.8}]
["2010-11-12",null,866,{"$f":"IF(ISNA(VLOOKUP(C463,BDDG!$A$2:$F$100,2,FALSE)),\"\",VLOOKUP(C463,BDDG!$A$2:$F$100,2,FALSE))","v":0},{"$f":"IF(ISNA(VLOOKUP(C463,BDDG!$A$3:$J$102,3,FALSE)),\"\",VLOOKUP(C463,BDDG!$A$3:$J$102,3,FALSE))","v":"C"},{"$f":"IF(ISNA(VLOOKUP(C463,BDDG!$A$3:$J$102,4,FALSE)),\"\",VLOOKUP(C463,BDDG!$A$3:$J$102,4,FALSE))","v":108},{"$f":"IF(ISNA(VLOOKUP(C463,BDDG!$A$2:$F$100,5,FALSE)),\"\",VLOOKUP(C463,BDDG!$A$2:$F$100,5,FALSE))","v":"A17"},{"$f":"IF(ISNA(VLOOKUP(C463,BDDG!$A$2:$F$100,6,FALSE)),\"\",VLOOKUP(C463,BDDG!$A$2:$F$100,6,FALSE))","v":"AA42"},{"$f":"IF(ISERROR(VLOOKUP(C463,BDDG!$A$2:$G$100,7,FALSE)),\"\",VLOOKUP(C463,BDDG!$A$2:$G$100,7,FALSE))","v":1},{"$f":"IF(ISERROR(VLOOKUP(C463,BDDG!$A$2:$H$100,8,FALSE)),\"\",VLOOKUP(C463,BDDG!$A$2:$H$100,8,FALSE))","v":"BB42"},1.8,1,155.52000000000001,{"$f":"IF(ISERROR(VLOOKUP(C463,BDDG!$A$2:$I$100,9,FALSE)),\"\",VLOOKUP(C463,BDDG!$A$2:$I$100,9,FALSE))","v":"CC42"},null,null,null,{"$f":"IF(ISERROR(VLOOKUP(C463,BDDG!$A$2:$J$100,10,FALSE)),\"\",VLOOKUP(C463,BDDG!$A$2:$J$100,10,FALSE))","v":"DD42"},null,null,"",155.52000000000001,11,2010,{"$f":"IFERROR(INDEX($V$2:V463,MATCH(H463&MAX(IF($H$1:H462=H463,$A$1:A462)),$H$2:H463&$A$2:A463,0))-V463,\"\")","v":0}]
["2010-12-23",null,868,{"$f":"IF(ISNA(VLOOKUP(C464,BDDG!$A$2:$F$100,2,FALSE)),\"\",VLOOKUP(C464,BDDG!$A$2:$F$100,2,FALSE))","v":0},{"$f":"IF(ISNA(VLOOKUP(C464,BDDG!$A$3:$J$102,3,FALSE)),\"\",VLOOKUP(C464,BDDG!$A$3:$J$102,3,FALSE))","v":"A"},{"$f":"IF(ISNA(VLOOKUP(C464,BDDG!$A$3:$J$102,4,FALSE)),\"\",VLOOKUP(C464,BDDG!$A$3:$J$102,4,FALSE))","v":108},{"$f":"IF(ISNA(VLOOKUP(C464,BDDG!$A$2:$F$100,5,FALSE)),\"\",VLOOKUP(C464,BDDG!$A$2:$F$100,5,FALSE))","v":"A16"},{"$f":"IF(ISNA(VLOOKUP(C464,BDDG!$A$2:$F$100,6,FALSE)),\"\",VLOOKUP(C464,BDDG!$A$2:$F$100,6,FALSE))","v":"AA39"},{"$f":"IF(ISERROR(VLOOKUP(C464,BDDG!$A$2:$G$100,7,FALSE)),\"\",VLOOKUP(C464,BDDG!$A$2:$G$100,7,FALSE))","v":2},{"$f":"IF(ISERROR(VLOOKUP(C464,BDDG!$A$2:$H$100,8,FALSE)),\"\",VLOOKUP(C464,BDDG!$A$2:$H$100,8,FALSE))","v":"BB39"},10,18,48.000000000000007,{"$f":"IF(ISERROR(VLOOKUP(C464,BDDG!$A$2:$I$100,9,FALSE)),\"\",VLOOKUP(C464,BDDG!$A$2:$I$100,9,FALSE))","v":"CC39"},null,null,{"$f":" IF(ISERROR(O464/P464*86.4),\"\",O464/P464*86.4)","v":""},{"$f":"IF(ISERROR(VLOOKUP(C464,BDDG!$A$2:$J$100,10,FALSE)),\"\",VLOOKUP(C464,BDDG!$A$2:$J$100,10,FALSE))","v":"DD39"},null,null,"",48.000000000000007,12,2010,{"$f":"IFERROR(INDEX($V$2:V464,MATCH(H464&MAX(IF($H$1:H463=H464,$A$1:A463)),$H$2:H464&$A$2:A464,0))-V464,\"\")","v":-16.000000000000007}]
["2010-12-24",null,867,{"$f":"IF(ISNA(VLOOKUP(C465,BDDG!$A$2:$F$100,2,FALSE)),\"\",VLOOKUP(C465,BDDG!$A$2:$F$100,2,FALSE))","v":0},{"$f":"IF(ISNA(VLOOKUP(C465,BDDG!$A$3:$J$102,3,FALSE)),\"\",VLOOKUP(C465,BDDG!$A$3:$J$102,3,FALSE))","v":"C"},{"$f":"IF(ISNA(VLOOKUP(C465,BDDG!$A$3:$J$102,4,FALSE)),\"\",VLOOKUP(C465,BDDG!$A$3:$J$102,4,FALSE))","v":108},{"$f":"IF(ISNA(VLOOKUP(C465,BDDG!$A$2:$F$100,5,FALSE)),\"\",VLOOKUP(C465,BDDG!$A$2:$F$100,5,FALSE))","v":"A17"},{"$f":"IF(ISNA(VLOOKUP(C465,BDDG!$A$2:$F$100,6,FALSE)),\"\",VLOOKUP(C465,BDDG!$A$2:$F$100,6,FALSE))","v":"AA43"},{"$f":"IF(ISERROR(VLOOKUP(C465,BDDG!$A$2:$G$100,7,FALSE)),\"\",VLOOKUP(C465,BDDG!$A$2:$G$100,7,FALSE))","v":1},{"$f":"IF(ISERROR(VLOOKUP(C465,BDDG!$A$2:$H$100,8,FALSE)),\"\",VLOOKUP(C465,BDDG!$A$2:$H$100,8,FALSE))","v":"BB43"},10,15,57.6,{"$f":"IF(ISERROR(VLOOKUP(C465,BDDG!$A$2:$I$100,9,FALSE)),\"\",VLOOKUP(C465,BDDG!$A$2:$I$100,9,FALSE))","v":"CC43"},null,null,null,{"$f":"IF(ISERROR(VLOOKUP(C465,BDDG!$A$2:$J$100,10,FALSE)),\"\",VLOOKUP(C465,BDDG!$A$2:$J$100,10,FALSE))","v":"DD43"},null,null,"",57.6,12,2010,{"$f":"IFERROR(INDEX($V$2:V465,MATCH(H465&MAX(IF($H$1:H464=H465,$A$1:A464)),$H$2:H465&$A$2:A465,0))-V465,\"\")","v":-26.496000000000002}]
["2010-12-24",null,866,{"$f":"IF(ISNA(VLOOKUP(C466,BDDG!$A$2:$F$100,2,FALSE)),\"\",VLOOKUP(C466,BDDG!$A$2:$F$100,2,FALSE))","v":0},{"$f":"IF(ISNA(VLOOKUP(C466,BDDG!$A$3:$J$102,3,FALSE)),\"\",VLOOKUP(C466,BDDG!$A$3:$J$102,3,FALSE))","v":"C"},{"$f":"IF(ISNA(VLOOKUP(C466,BDDG!$A$3:$J$102,4,FALSE)),\"\",VLOOKUP(C466,BDDG!$A$3:$J$102,4,FALSE))","v":108},{"$f":"IF(ISNA(VLOOKUP(C466,BDDG!$A$2:$F$100,5,FALSE)),\"\",VLOOKUP(C466,BDDG!$A$2:$F$100,5,FALSE))","v":"A17"},{"$f":"IF(ISNA(VLOOKUP(C466,BDDG!$A$2:$F$100,6,FALSE)),\"\",VLOOKUP(C466,BDDG!$A$2:$F$100,6,FALSE))","v":"AA42"},{"$f":"IF(ISERROR(VLOOKUP(C466,BDDG!$A$2:$G$100,7,FALSE)),\"\",VLOOKUP(C466,BDDG!$A$2:$G$100,7,FALSE))","v":1},{"$f":"IF(ISERROR(VLOOKUP(C466,BDDG!$A$2:$H$100,8,FALSE)),\"\",VLOOKUP(C466,BDDG!$A$2:$H$100,8,FALSE))","v":"BB42"},1.2,1,103.68,{"$f":"IF(ISERROR(VLOOKUP(C466,BDDG!$A$2:$I$100,9,FALSE)),\"\",VLOOKUP(C466,BDDG!$A$2:$I$100,9,FALSE))","v":"CC42"},null,null,null,{"$f":"IF(ISERROR(VLOOKUP(C466,BDDG!$A$2:$J$100,10,FALSE)),\"\",VLOOKUP(C466,BDDG!$A$2:$J$100,10,FALSE))","v":"DD42"},null,null,"",103.68,12,2010,{"$f":"IFERROR(INDEX($V$2:V466,MATCH(H466&MAX(IF($H$1:H465=H466,$A$1:A465)),$H$2:H466&$A$2:A466,0))-V466,\"\")","v":51.84}]
["2011-01-11",null,867,{"$f":"IF(ISNA(VLOOKUP(C467,BDDG!$A$2:$F$100,2,FALSE)),\"\",VLOOKUP(C467,BDDG!$A$2:$F$100,2,FALSE))","v":0},{"$f":"IF(ISNA(VLOOKUP(C467,BDDG!$A$3:$J$102,3,FALSE)),\"\",VLOOKUP(C467,BDDG!$A$3:$J$102,3,FALSE))","v":"C"},{"$f":"IF(ISNA(VLOOKUP(C467,BDDG!$A$3:$J$102,4,FALSE)),\"\",VLOOKUP(C467,BDDG!$A$3:$J$102,4,FALSE))","v":108},{"$f":"IF(ISNA(VLOOKUP(C467,BDDG!$A$2:$F$100,5,FALSE)),\"\",VLOOKUP(C467,BDDG!$A$2:$F$100,5,FALSE))","v":"A17"},{"$f":"IF(ISNA(VLOOKUP(C467,BDDG!$A$2:$F$100,6,FALSE)),\"\",VLOOKUP(C467,BDDG!$A$2:$F$100,6,FALSE))","v":"AA43"},{"$f":"IF(ISERROR(VLOOKUP(C467,BDDG!$A$2:$G$100,7,FALSE)),\"\",VLOOKUP(C467,BDDG!$A$2:$G$100,7,FALSE))","v":1},{"$f":"IF(ISERROR(VLOOKUP(C467,BDDG!$A$2:$H$100,8,FALSE)),\"\",VLOOKUP(C467,BDDG!$A$2:$H$100,8,FALSE))","v":"BB43"},10,35,24.685714285714287,{"$f":"IF(ISERROR(VLOOKUP(C467,BDDG!$A$2:$I$100,9,FALSE)),\"\",VLOOKUP(C467,BDDG!$A$2:$I$100,9,FALSE))","v":"CC43"},null,null,null,{"$f":"IF(ISERROR(VLOOKUP(C467,BDDG!$A$2:$J$100,10,FALSE)),\"\",VLOOKUP(C467,BDDG!$A$2:$J$100,10,FALSE))","v":"DD43"},null,null,"",24.685714285714287,1,2011,{"$f":"IFERROR(INDEX($V$2:V467,MATCH(H467&MAX(IF($H$1:H466=H467,$A$1:A466)),$H$2:H467&$A$2:A467,0))-V467,\"\")","v":32.914285714285711}]
["2011-01-11",null,870,{"$f":"IF(ISNA(VLOOKUP(C468,BDDG!$A$2:$F$100,2,FALSE)),\"\",VLOOKUP(C468,BDDG!$A$2:$F$100,2,FALSE))","v":0},{"$f":"IF(ISNA(VLOOKUP(C468,BDDG!$A$3:$J$102,3,FALSE)),\"\",VLOOKUP(C468,BDDG!$A$3:$J$102,3,FALSE))","v":"A"},{"$f":"IF(ISNA(VLOOKUP(C468,BDDG!$A$3:$J$102,4,FALSE)),\"\",VLOOKUP(C468,BDDG!$A$3:$J$102,4,FALSE))","v":108},{"$f":"IF(ISNA(VLOOKUP(C468,BDDG!$A$2:$F$100,5,FALSE)),\"\",VLOOKUP(C468,BDDG!$A$2:$F$100,5,FALSE))","v":"A16"},{"$f":"IF(ISNA(VLOOKUP(C468,BDDG!$A$2:$F$100,6,FALSE)),\"\",VLOOKUP(C468,BDDG!$A$2:$F$100,6,FALSE))","v":"AA41"},{"$f":"IF(ISERROR(VLOOKUP(C468,BDDG!$A$2:$G$100,7,FALSE)),\"\",VLOOKUP(C468,BDDG!$A$2:$G$100,7,FALSE))","v":2},{"$f":"IF(ISERROR(VLOOKUP(C468,BDDG!$A$2:$H$100,8,FALSE)),\"\",VLOOKUP(C468,BDDG!$A$2:$H$100,8,FALSE))","v":"BB41"},10,80,10.8,{"$f":"IF(ISERROR(VLOOKUP(C468,BDDG!$A$2:$I$100,9,FALSE)),\"\",VLOOKUP(C468,BDDG!$A$2:$I$100,9,FALSE))","v":"CC41"},null,null,{"$f":" IF(ISERROR(O468/P468*86.4),\"\",O468/P468*86.4)","v":""},{"$f":"IF(ISERROR(VLOOKUP(C468,BDDG!$A$2:$J$100,10,FALSE)),\"\",VLOOKUP(C468,BDDG!$A$2:$J$100,10,FALSE))","v":"DD41"},null,null,"",10.8,1,2011,{"$f":"IFERROR(INDEX($V$2:V468,MATCH(H468&MAX(IF($H$1:H467=H468,$A$1:A467)),$H$2:H468&$A$2:A468,0))-V468,\"\")","v":-5.04}]
["2011-01-12",null,862,{"$f":"IF(ISNA(VLOOKUP(C469,BDDG!$A$2:$F$100,2,FALSE)),\"\",VLOOKUP(C469,BDDG!$A$2:$F$100,2,FALSE))","v":0},{"$f":"IF(ISNA(VLOOKUP(C469,BDDG!$A$3:$J$102,3,FALSE)),\"\",VLOOKUP(C469,BDDG!$A$3:$J$102,3,FALSE))","v":"A"},{"$f":"IF(ISNA(VLOOKUP(C469,BDDG!$A$3:$J$102,4,FALSE)),\"\",VLOOKUP(C469,BDDG!$A$3:$J$102,4,FALSE))","v":106},{"$f":"IF(ISNA(VLOOKUP(C469,BDDG!$A$2:$F$100,5,FALSE)),\"\",VLOOKUP(C469,BDDG!$A$2:$F$100,5,FALSE))","v":"A12"},{"$f":"IF(ISNA(VLOOKUP(C469,BDDG!$A$2:$F$100,6,FALSE)),\"\",VLOOKUP(C469,BDDG!$A$2:$F$100,6,FALSE))","v":"AA34"},{"$f":"IF(ISERROR(VLOOKUP(C469,BDDG!$A$2:$G$100,7,FALSE)),\"\",VLOOKUP(C469,BDDG!$A$2:$G$100,7,FALSE))","v":1},{"$f":"IF(ISERROR(VLOOKUP(C469,BDDG!$A$2:$H$100,8,FALSE)),\"\",VLOOKUP(C469,BDDG!$A$2:$H$100,8,FALSE))","v":"BB34"},10,14,61.714285714285722,{"$f":"IF(ISERROR(VLOOKUP(C469,BDDG!$A$2:$I$100,9,FALSE)),\"\",VLOOKUP(C469,BDDG!$A$2:$I$100,9,FALSE))","v":"CC34"},null,null,"",{"$f":"IF(ISERROR(VLOOKUP(C469,BDDG!$A$2:$J$100,10,FALSE)),\"\",VLOOKUP(C469,BDDG!$A$2:$J$100,10,FALSE))","v":"DD34"},null,null,"",61.714285714285722,1,2011,{"$f":"IFERROR(INDEX($V$2:V469,MATCH(H469&MAX(IF($H$1:H468=H469,$A$1:A468)),$H$2:H469&$A$2:A469,0))-V469,\"\")","v":4.7472527472527446}]
["2011-01-12",null,860,{"$f":"IF(ISNA(VLOOKUP(C470,BDDG!$A$2:$F$100,2,FALSE)),\"\",VLOOKUP(C470,BDDG!$A$2:$F$100,2,FALSE))","v":0},{"$f":"IF(ISNA(VLOOKUP(C470,BDDG!$A$3:$J$102,3,FALSE)),\"\",VLOOKUP(C470,BDDG!$A$3:$J$102,3,FALSE))","v":"A"},{"$f":"IF(ISNA(VLOOKUP(C470,BDDG!$A$3:$J$102,4,FALSE)),\"\",VLOOKUP(C470,BDDG!$A$3:$J$102,4,FALSE))","v":106},{"$f":"IF(ISNA(VLOOKUP(C470,BDDG!$A$2:$F$100,5,FALSE)),\"\",VLOOKUP(C470,BDDG!$A$2:$F$100,5,FALSE))","v":"A11"},{"$f":"IF(ISNA(VLOOKUP(C470,BDDG!$A$2:$F$100,6,FALSE)),\"\",VLOOKUP(C470,BDDG!$A$2:$F$100,6,FALSE))","v":"AA32"},{"$f":"IF(ISERROR(VLOOKUP(C470,BDDG!$A$2:$G$100,7,FALSE)),\"\",VLOOKUP(C470,BDDG!$A$2:$G$100,7,FALSE))","v":2},{"$f":"IF(ISERROR(VLOOKUP(C470,BDDG!$A$2:$H$100,8,FALSE)),\"\",VLOOKUP(C470,BDDG!$A$2:$H$100,8,FALSE))","v":"BB32"},10,7,123.42857142857144,{"$f":"IF(ISERROR(VLOOKUP(C470,BDDG!$A$2:$I$100,9,FALSE)),\"\",VLOOKUP(C470,BDDG!$A$2:$I$100,9,FALSE))","v":"CC32"},null,null,"",{"$f":"IF(ISERROR(VLOOKUP(C470,BDDG!$A$2:$J$100,10,FALSE)),\"\",VLOOKUP(C470,BDDG!$A$2:$J$100,10,FALSE))","v":"DD32"},null,null,"",123.42857142857144,1,2011,{"$f":"IFERROR(INDEX($V$2:V470,MATCH(H470&MAX(IF($H$1:H469=H470,$A$1:A469)),$H$2:H470&$A$2:A470,0))-V470,\"\")","v":-75.428571428571445}]
["2011-01-12",null,861,{"$f":"IF(ISNA(VLOOKUP(C471,BDDG!$A$2:$F$100,2,FALSE)),\"\",VLOOKUP(C471,BDDG!$A$2:$F$100,2,FALSE))","v":0},{"$f":"IF(ISNA(VLOOKUP(C471,BDDG!$A$3:$J$102,3,FALSE)),\"\",VLOOKUP(C471,BDDG!$A$3:$J$102,3,FALSE))","v":"A"},{"$f":"IF(ISNA(VLOOKUP(C471,BDDG!$A$3:$J$102,4,FALSE)),\"\",VLOOKUP(C471,BDDG!$A$3:$J$102,4,FALSE))","v":106},{"$f":"IF(ISNA(VLOOKUP(C471,BDDG!$A$2:$F$100,5,FALSE)),\"\",VLOOKUP(C471,BDDG!$A$2:$F$100,5,FALSE))","v":"A11"},{"$f":"IF(ISNA(VLOOKUP(C471,BDDG!$A$2:$F$100,6,FALSE)),\"\",VLOOKUP(C471,BDDG!$A$2:$F$100,6,FALSE))","v":"AA33"},{"$f":"IF(ISERROR(VLOOKUP(C471,BDDG!$A$2:$G$100,7,FALSE)),\"\",VLOOKUP(C471,BDDG!$A$2:$G$100,7,FALSE))","v":2},{"$f":"IF(ISERROR(VLOOKUP(C471,BDDG!$A$2:$H$100,8,FALSE)),\"\",VLOOKUP(C471,BDDG!$A$2:$H$100,8,FALSE))","v":"BB33"},null,null,null,{"$f":"IF(ISERROR(VLOOKUP(C471,BDDG!$A$2:$I$100,9,FALSE)),\"\",VLOOKUP(C471,BDDG!$A$2:$I$100,9,FALSE))","v":"CC33"},10,5,172.8,{"$f":"IF(ISERROR(VLOOKUP(C471,BDDG!$A$2:$J$100,10,FALSE)),\"\",VLOOKUP(C471,BDDG!$A$2:$J$100,10,FALSE))","v":"DD33"},null,null,"",{"$f":"IF(ISERROR(SUM(M471,Q471,U471)),\"\",SUM((M471,Q471,U471)))","v":172.8},1,2011,{"$f":"IFERROR(INDEX($V$2:V471,MATCH(H471&MAX(IF($H$1:H470=H471,$A$1:A470)),$H$2:H471&$A$2:A471,0))-V471,\"\")","v":-28.799999999999983}]
["2011-03-29",null,835,{"$f":"IF(ISNA(VLOOKUP(C472,BDDG!$A$2:$F$100,2,FALSE)),\"\",VLOOKUP(C472,BDDG!$A$2:$F$100,2,FALSE))","v":0},{"$f":"IF(ISNA(VLOOKUP(C472,BDDG!$A$3:$J$102,3,FALSE)),\"\",VLOOKUP(C472,BDDG!$A$3:$J$102,3,FALSE))","v":"A"},{"$f":"IF(ISNA(VLOOKUP(C472,BDDG!$A$3:$J$102,4,FALSE)),\"\",VLOOKUP(C472,BDDG!$A$3:$J$102,4,FALSE))","v":106},{"$f":"IF(ISNA(VLOOKUP(C472,BDDG!$A$2:$F$100,5,FALSE)),\"\",VLOOKUP(C472,BDDG!$A$2:$F$100,5,FALSE))","v":"A3"},{"$f":"IF(ISNA(VLOOKUP(C472,BDDG!$A$2:$F$100,6,FALSE)),\"\",VLOOKUP(C472,BDDG!$A$2:$F$100,6,FALSE))","v":"AA5"},{"$f":"IF(ISERROR(VLOOKUP(C472,BDDG!$A$2:$G$100,7,FALSE)),\"\",VLOOKUP(C472,BDDG!$A$2:$G$100,7,FALSE))","v":1},{"$f":"IF(ISERROR(VLOOKUP(C472,BDDG!$A$2:$H$100,8,FALSE)),\"\",VLOOKUP(C472,BDDG!$A$2:$H$100,8,FALSE))","v":"BB5"},10,97,{"$f":" IF(ISERROR(K472/L472*86.4),\"\",K472/L472*86.4)","v":8.9072164948453612},{"$f":"IF(ISERROR(VLOOKUP(C472,BDDG!$A$2:$I$100,9,FALSE)),\"\",VLOOKUP(C472,BDDG!$A$2:$I$100,9,FALSE))","v":"CC5"},null,null,"",{"$f":"IF(ISERROR(VLOOKUP(C472,BDDG!$A$2:$J$100,10,FALSE)),\"\",VLOOKUP(C472,BDDG!$A$2:$J$100,10,FALSE))","v":"DD5"},null,null,"",{"$f":"IF(ISERROR(SUM(M472,Q472,U472)),\"\",SUM(M472,Q472,U472))","v":8.9072164948453612},3,2011,{"$f":"IFERROR(INDEX($V$2:V472,MATCH(H472&MAX(IF($H$1:H471=H472,$A$1:A471)),$H$2:H472&$A$2:A472,0))-V472,\"\")","v":-5.3072164948453615}]
["2011-04-06",null,832,{"$f":"IF(ISNA(VLOOKUP(C473,BDDG!$A$2:$F$100,2,FALSE)),\"\",VLOOKUP(C473,BDDG!$A$2:$F$100,2,FALSE))","v":0},{"$f":"IF(ISNA(VLOOKUP(C473,BDDG!$A$3:$J$102,3,FALSE)),\"\",VLOOKUP(C473,BDDG!$A$3:$J$102,3,FALSE))","v":"A"},{"$f":"IF(ISNA(VLOOKUP(C473,BDDG!$A$3:$J$102,4,FALSE)),\"\",VLOOKUP(C473,BDDG!$A$3:$J$102,4,FALSE))","v":106},{"$f":"IF(ISNA(VLOOKUP(C473,BDDG!$A$2:$F$100,5,FALSE)),\"\",VLOOKUP(C473,BDDG!$A$2:$F$100,5,FALSE))","v":"A2"},{"$f":"IF(ISNA(VLOOKUP(C473,BDDG!$A$2:$F$100,6,FALSE)),\"\",VLOOKUP(C473,BDDG!$A$2:$F$100,6,FALSE))","v":"AA2"},{"$f":"IF(ISERROR(VLOOKUP(C473,BDDG!$A$2:$G$100,7,FALSE)),\"\",VLOOKUP(C473,BDDG!$A$2:$G$100,7,FALSE))","v":1},{"$f":"IF(ISERROR(VLOOKUP(C473,BDDG!$A$2:$H$100,8,FALSE)),\"\",VLOOKUP(C473,BDDG!$A$2:$H$100,8,FALSE))","v":"BB2"},10,11,78.545454545454547,{"$f":"IF(ISERROR(VLOOKUP(C473,BDDG!$A$2:$I$100,9,FALSE)),\"\",VLOOKUP(C473,BDDG!$A$2:$I$100,9,FALSE))","v":"CC2"},null,null,"",{"$f":"IF(ISERROR(VLOOKUP(C473,BDDG!$A$2:$J$100,10,FALSE)),\"\",VLOOKUP(C473,BDDG!$A$2:$J$100,10,FALSE))","v":"DD2"},null,null,"",78.545454545454547,4,2011,{"$f":"IFERROR(INDEX($V$2:V473,MATCH(H473&MAX(IF($H$1:H472=H473,$A$1:A472)),$H$2:H473&$A$2:A473,0))-V473,\"\")","v":-28.890282131661436}]
["2011-04-06",null,833,{"$f":"IF(ISNA(VLOOKUP(C474,BDDG!$A$2:$F$100,2,FALSE)),\"\",VLOOKUP(C474,BDDG!$A$2:$F$100,2,FALSE))","v":0},{"$f":"IF(ISNA(VLOOKUP(C474,BDDG!$A$3:$J$102,3,FALSE)),\"\",VLOOKUP(C474,BDDG!$A$3:$J$102,3,FALSE))","v":"A"},{"$f":"IF(ISNA(VLOOKUP(C474,BDDG!$A$3:$J$102,4,FALSE)),\"\",VLOOKUP(C474,BDDG!$A$3:$J$102,4,FALSE))","v":106},{"$f":"IF(ISNA(VLOOKUP(C474,BDDG!$A$2:$F$100,5,FALSE)),\"\",VLOOKUP(C474,BDDG!$A$2:$F$100,5,FALSE))","v":"A2"},{"$f":"IF(ISNA(VLOOKUP(C474,BDDG!$A$2:$F$100,6,FALSE)),\"\",VLOOKUP(C474,BDDG!$A$2:$F$100,6,FALSE))","v":"AA3"},{"$f":"IF(ISERROR(VLOOKUP(C474,BDDG!$A$2:$G$100,7,FALSE)),\"\",VLOOKUP(C474,BDDG!$A$2:$G$100,7,FALSE))","v":1},{"$f":"IF(ISERROR(VLOOKUP(C474,BDDG!$A$2:$H$100,8,FALSE)),\"\",VLOOKUP(C474,BDDG!$A$2:$H$100,8,FALSE))","v":"BB3"},10,16,54,{"$f":"IF(ISERROR(VLOOKUP(C474,BDDG!$A$2:$I$100,9,FALSE)),\"\",VLOOKUP(C474,BDDG!$A$2:$I$100,9,FALSE))","v":"CC3"},null,null,"",{"$f":"IF(ISERROR(VLOOKUP(C474,BDDG!$A$2:$J$100,10,FALSE)),\"\",VLOOKUP(C474,BDDG!$A$2:$J$100,10,FALSE))","v":"DD3"},null,null,"",54,4,2011,{"$f":"IFERROR(INDEX($V$2:V474,MATCH(H474&MAX(IF($H$1:H473=H474,$A$1:A473)),$H$2:H474&$A$2:A474,0))-V474,\"\")","v":-22.235294117647054}]
["2011-04-06",null,834,{"$f":"IF(ISNA(VLOOKUP(C475,BDDG!$A$2:$F$100,2,FALSE)),\"\",VLOOKUP(C475,BDDG!$A$2:$F$100,2,FALSE))","v":0},{"$f":"IF(ISNA(VLOOKUP(C475,BDDG!$A$3:$J$102,3,FALSE)),\"\",VLOOKUP(C475,BDDG!$A$3:$J$102,3,FALSE))","v":"A"},{"$f":"IF(ISNA(VLOOKUP(C475,BDDG!$A$3:$J$102,4,FALSE)),\"\",VLOOKUP(C475,BDDG!$A$3:$J$102,4,FALSE))","v":106},{"$f":"IF(ISNA(VLOOKUP(C475,BDDG!$A$2:$F$100,5,FALSE)),\"\",VLOOKUP(C475,BDDG!$A$2:$F$100,5,FALSE))","v":"A2"},{"$f":"IF(ISNA(VLOOKUP(C475,BDDG!$A$2:$F$100,6,FALSE)),\"\",VLOOKUP(C475,BDDG!$A$2:$F$100,6,FALSE))","v":"AA4"},{"$f":"IF(ISERROR(VLOOKUP(C475,BDDG!$A$2:$G$100,7,FALSE)),\"\",VLOOKUP(C475,BDDG!$A$2:$G$100,7,FALSE))","v":1},{"$f":"IF(ISERROR(VLOOKUP(C475,BDDG!$A$2:$H$100,8,FALSE)),\"\",VLOOKUP(C475,BDDG!$A$2:$H$100,8,FALSE))","v":"BB4"},10,36,24.000000000000004,{"$f":"IF(ISERROR(VLOOKUP(C475,BDDG!$A$2:$I$100,9,FALSE)),\"\",VLOOKUP(C475,BDDG!$A$2:$I$100,9,FALSE))","v":"CC4"},null,null,"",{"$f":"IF(ISERROR(VLOOKUP(C475,BDDG!$A$2:$J$100,10,FALSE)),\"\",VLOOKUP(C475,BDDG!$A$2:$J$100,10,FALSE))","v":"DD4"},null,null,"",24.000000000000004,4,2011,{"$f":"IFERROR(INDEX($V$2:V475,MATCH(H475&MAX(IF($H$1:H474=H475,$A$1:A474)),$H$2:H475&$A$2:A475,0))-V475,\"\")","v":-6}]
["2011-04-18",null,870,{"$f":"IF(ISNA(VLOOKUP(C476,BDDG!$A$2:$F$100,2,FALSE)),\"\",VLOOKUP(C476,BDDG!$A$2:$F$100,2,FALSE))","v":0},{"$f":"IF(ISNA(VLOOKUP(C476,BDDG!$A$3:$J$102,3,FALSE)),\"\",VLOOKUP(C476,BDDG!$A$3:$J$102,3,FALSE))","v":"A"},{"$f":"IF(ISNA(VLOOKUP(C476,BDDG!$A$3:$J$102,4,FALSE)),\"\",VLOOKUP(C476,BDDG!$A$3:$J$102,4,FALSE))","v":108},{"$f":"IF(ISNA(VLOOKUP(C476,BDDG!$A$2:$F$100,5,FALSE)),\"\",VLOOKUP(C476,BDDG!$A$2:$F$100,5,FALSE))","v":"A16"},{"$f":"IF(ISNA(VLOOKUP(C476,BDDG!$A$2:$F$100,6,FALSE)),\"\",VLOOKUP(C476,BDDG!$A$2:$F$100,6,FALSE))","v":"AA41"},{"$f":"IF(ISERROR(VLOOKUP(C476,BDDG!$A$2:$G$100,7,FALSE)),\"\",VLOOKUP(C476,BDDG!$A$2:$G$100,7,FALSE))","v":2},{"$f":"IF(ISERROR(VLOOKUP(C476,BDDG!$A$2:$H$100,8,FALSE)),\"\",VLOOKUP(C476,BDDG!$A$2:$H$100,8,FALSE))","v":"BB41"},2,13,13.292307692307693,{"$f":"IF(ISERROR(VLOOKUP(C476,BDDG!$A$2:$I$100,9,FALSE)),\"\",VLOOKUP(C476,BDDG!$A$2:$I$100,9,FALSE))","v":"CC41"},2,6,28.8,{"$f":"IF(ISERROR(VLOOKUP(C476,BDDG!$A$2:$J$100,10,FALSE)),\"\",VLOOKUP(C476,BDDG!$A$2:$J$100,10,FALSE))","v":"DD41"},null,null,"",42.092307692307692,4,2011,{"$f":"IFERROR(INDEX($V$2:V476,MATCH(H476&MAX(IF($H$1:H475=H476,$A$1:A475)),$H$2:H476&$A$2:A476,0))-V476,\"\")","v":-31.292307692307691}]
["2011-04-21",null,870,{"$f":"IF(ISNA(VLOOKUP(C477,BDDG!$A$2:$F$100,2,FALSE)),\"\",VLOOKUP(C477,BDDG!$A$2:$F$100,2,FALSE))","v":0},{"$f":"IF(ISNA(VLOOKUP(C477,BDDG!$A$3:$J$102,3,FALSE)),\"\",VLOOKUP(C477,BDDG!$A$3:$J$102,3,FALSE))","v":"A"},{"$f":"IF(ISNA(VLOOKUP(C477,BDDG!$A$3:$J$102,4,FALSE)),\"\",VLOOKUP(C477,BDDG!$A$3:$J$102,4,FALSE))","v":108},{"$f":"IF(ISNA(VLOOKUP(C477,BDDG!$A$2:$F$100,5,FALSE)),\"\",VLOOKUP(C477,BDDG!$A$2:$F$100,5,FALSE))","v":"A16"},{"$f":"IF(ISNA(VLOOKUP(C477,BDDG!$A$2:$F$100,6,FALSE)),\"\",VLOOKUP(C477,BDDG!$A$2:$F$100,6,FALSE))","v":"AA41"},{"$f":"IF(ISERROR(VLOOKUP(C477,BDDG!$A$2:$G$100,7,FALSE)),\"\",VLOOKUP(C477,BDDG!$A$2:$G$100,7,FALSE))","v":2},{"$f":"IF(ISERROR(VLOOKUP(C477,BDDG!$A$2:$H$100,8,FALSE)),\"\",VLOOKUP(C477,BDDG!$A$2:$H$100,8,FALSE))","v":"BB41"},20,60,28.8,{"$f":"IF(ISERROR(VLOOKUP(C477,BDDG!$A$2:$I$100,9,FALSE)),\"\",VLOOKUP(C477,BDDG!$A$2:$I$100,9,FALSE))","v":"CC41"},null,null,"",{"$f":"IF(ISERROR(VLOOKUP(C477,BDDG!$A$2:$J$100,10,FALSE)),\"\",VLOOKUP(C477,BDDG!$A$2:$J$100,10,FALSE))","v":"DD41"},null,null,"",28.8,4,2011,{"$f":"IFERROR(INDEX($V$2:V477,MATCH(H477&MAX(IF($H$1:H476=H477,$A$1:A476)),$H$2:H477&$A$2:A477,0))-V477,\"\")","v":13.292307692307691}]
["2011-04-22",null,867,{"$f":"IF(ISNA(VLOOKUP(C478,BDDG!$A$2:$F$100,2,FALSE)),\"\",VLOOKUP(C478,BDDG!$A$2:$F$100,2,FALSE))","v":0},{"$f":"IF(ISNA(VLOOKUP(C478,BDDG!$A$3:$J$102,3,FALSE)),\"\",VLOOKUP(C478,BDDG!$A$3:$J$102,3,FALSE))","v":"C"},{"$f":"IF(ISNA(VLOOKUP(C478,BDDG!$A$3:$J$102,4,FALSE)),\"\",VLOOKUP(C478,BDDG!$A$3:$J$102,4,FALSE))","v":108},{"$f":"IF(ISNA(VLOOKUP(C478,BDDG!$A$2:$F$100,5,FALSE)),\"\",VLOOKUP(C478,BDDG!$A$2:$F$100,5,FALSE))","v":"A17"},{"$f":"IF(ISNA(VLOOKUP(C478,BDDG!$A$2:$F$100,6,FALSE)),\"\",VLOOKUP(C478,BDDG!$A$2:$F$100,6,FALSE))","v":"AA43"},{"$f":"IF(ISERROR(VLOOKUP(C478,BDDG!$A$2:$G$100,7,FALSE)),\"\",VLOOKUP(C478,BDDG!$A$2:$G$100,7,FALSE))","v":1},{"$f":"IF(ISERROR(VLOOKUP(C478,BDDG!$A$2:$H$100,8,FALSE)),\"\",VLOOKUP(C478,BDDG!$A$2:$H$100,8,FALSE))","v":"BB43"},20,60,28.8,{"$f":"IF(ISERROR(VLOOKUP(C478,BDDG!$A$2:$I$100,9,FALSE)),\"\",VLOOKUP(C478,BDDG!$A$2:$I$100,9,FALSE))","v":"CC43"},null,null,null,{"$f":"IF(ISERROR(VLOOKUP(C478,BDDG!$A$2:$J$100,10,FALSE)),\"\",VLOOKUP(C478,BDDG!$A$2:$J$100,10,FALSE))","v":"DD43"},null,null,"",28.8,4,2011,{"$f":"IFERROR(INDEX($V$2:V478,MATCH(H478&MAX(IF($H$1:H477=H478,$A$1:A477)),$H$2:H478&$A$2:A478,0))-V478,\"\")","v":-4.1142857142857139}]
["2011-04-22",null,866,{"$f":"IF(ISNA(VLOOKUP(C479,BDDG!$A$2:$F$100,2,FALSE)),\"\",VLOOKUP(C479,BDDG!$A$2:$F$100,2,FALSE))","v":0},{"$f":"IF(ISNA(VLOOKUP(C479,BDDG!$A$3:$J$102,3,FALSE)),\"\",VLOOKUP(C479,BDDG!$A$3:$J$102,3,FALSE))","v":"C"},{"$f":"IF(ISNA(VLOOKUP(C479,BDDG!$A$3:$J$102,4,FALSE)),\"\",VLOOKUP(C479,BDDG!$A$3:$J$102,4,FALSE))","v":108},{"$f":"IF(ISNA(VLOOKUP(C479,BDDG!$A$2:$F$100,5,FALSE)),\"\",VLOOKUP(C479,BDDG!$A$2:$F$100,5,FALSE))","v":"A17"},{"$f":"IF(ISNA(VLOOKUP(C479,BDDG!$A$2:$F$100,6,FALSE)),\"\",VLOOKUP(C479,BDDG!$A$2:$F$100,6,FALSE))","v":"AA42"},{"$f":"IF(ISERROR(VLOOKUP(C479,BDDG!$A$2:$G$100,7,FALSE)),\"\",VLOOKUP(C479,BDDG!$A$2:$G$100,7,FALSE))","v":1},{"$f":"IF(ISERROR(VLOOKUP(C479,BDDG!$A$2:$H$100,8,FALSE)),\"\",VLOOKUP(C479,BDDG!$A$2:$H$100,8,FALSE))","v":"BB42"},0.8,1,69.12,{"$f":"IF(ISERROR(VLOOKUP(C479,BDDG!$A$2:$I$100,9,FALSE)),\"\",VLOOKUP(C479,BDDG!$A$2:$I$100,9,FALSE))","v":"CC42"},null,null,{"$f":" IF(ISERROR(O479/P479*86.4),\"\",O479/P479*86.4)","v":""},{"$f":"IF(ISERROR(VLOOKUP(C479,BDDG!$A$2:$J$100,10,FALSE)),\"\",VLOOKUP(C479,BDDG!$A$2:$J$100,10,FALSE))","v":"DD42"},null,null,"",69.12,4,2011,{"$f":"IFERROR(INDEX($V$2:V479,MATCH(H479&MAX(IF($H$1:H478=H479,$A$1:A478)),$H$2:H479&$A$2:A479,0))-V479,\"\")","v":34.56}]
["2011-05-04",null,869,{"$f":"IF(ISNA(VLOOKUP(C480,BDDG!$A$2:$F$100,2,FALSE)),\"\",VLOOKUP(C480,BDDG!$A$2:$F$100,2,FALSE))","v":0},{"$f":"IF(ISNA(VLOOKUP(C480,BDDG!$A$3:$J$102,3,FALSE)),\"\",VLOOKUP(C480,BDDG!$A$3:$J$102,3,FALSE))","v":"A"},{"$f":"IF(ISNA(VLOOKUP(C480,BDDG!$A$3:$J$102,4,FALSE)),\"\",VLOOKUP(C480,BDDG!$A$3:$J$102,4,FALSE))","v":108},{"$f":"IF(ISNA(VLOOKUP(C480,BDDG!$A$2:$F$100,5,FALSE)),\"\",VLOOKUP(C480,BDDG!$A$2:$F$100,5,FALSE))","v":"A16"},{"$f":"IF(ISNA(VLOOKUP(C480,BDDG!$A$2:$F$100,6,FALSE)),\"\",VLOOKUP(C480,BDDG!$A$2:$F$100,6,FALSE))","v":"AA40"},{"$f":"IF(ISERROR(VLOOKUP(C480,BDDG!$A$2:$G$100,7,FALSE)),\"\",VLOOKUP(C480,BDDG!$A$2:$G$100,7,FALSE))","v":3},{"$f":"IF(ISERROR(VLOOKUP(C480,BDDG!$A$2:$H$100,8,FALSE)),\"\",VLOOKUP(C480,BDDG!$A$2:$H$100,8,FALSE))","v":"BB40"},1,10,8.64,{"$f":"IF(ISERROR(VLOOKUP(C480,BDDG!$A$2:$I$100,9,FALSE)),\"\",VLOOKUP(C480,BDDG!$A$2:$I$100,9,FALSE))","v":"CC40"},null,null,"",{"$f":"IF(ISERROR(VLOOKUP(C480,BDDG!$A$2:$J$100,10,FALSE)),\"\",VLOOKUP(C480,BDDG!$A$2:$J$100,10,FALSE))","v":"DD40"},null,null,"",8.64,5,2011,{"$f":"IFERROR(INDEX($V$2:V480,MATCH(H480&MAX(IF($H$1:H479=H480,$A$1:A479)),$H$2:H480&$A$2:A480,0))-V480,\"\")","v":2.16}]
["2011-05-05",null,866,{"$f":"IF(ISNA(VLOOKUP(C481,BDDG!$A$2:$F$100,2,FALSE)),\"\",VLOOKUP(C481,BDDG!$A$2:$F$100,2,FALSE))","v":0},{"$f":"IF(ISNA(VLOOKUP(C481,BDDG!$A$3:$J$102,3,FALSE)),\"\",VLOOKUP(C481,BDDG!$A$3:$J$102,3,FALSE))","v":"C"},{"$f":"IF(ISNA(VLOOKUP(C481,BDDG!$A$3:$J$102,4,FALSE)),\"\",VLOOKUP(C481,BDDG!$A$3:$J$102,4,FALSE))","v":108},{"$f":"IF(ISNA(VLOOKUP(C481,BDDG!$A$2:$F$100,5,FALSE)),\"\",VLOOKUP(C481,BDDG!$A$2:$F$100,5,FALSE))","v":"A17"},{"$f":"IF(ISNA(VLOOKUP(C481,BDDG!$A$2:$F$100,6,FALSE)),\"\",VLOOKUP(C481,BDDG!$A$2:$F$100,6,FALSE))","v":"AA42"},{"$f":"IF(ISERROR(VLOOKUP(C481,BDDG!$A$2:$G$100,7,FALSE)),\"\",VLOOKUP(C481,BDDG!$A$2:$G$100,7,FALSE))","v":1},{"$f":"IF(ISERROR(VLOOKUP(C481,BDDG!$A$2:$H$100,8,FALSE)),\"\",VLOOKUP(C481,BDDG!$A$2:$H$100,8,FALSE))","v":"BB42"},0.7,1,60.48,{"$f":"IF(ISERROR(VLOOKUP(C481,BDDG!$A$2:$I$100,9,FALSE)),\"\",VLOOKUP(C481,BDDG!$A$2:$I$100,9,FALSE))","v":"CC42"},null,null,"",{"$f":"IF(ISERROR(VLOOKUP(C481,BDDG!$A$2:$J$100,10,FALSE)),\"\",VLOOKUP(C481,BDDG!$A$2:$J$100,10,FALSE))","v":"DD42"},null,null,"",60.48,5,2011,{"$f":"IFERROR(INDEX($V$2:V481,MATCH(H481&MAX(IF($H$1:H480=H481,$A$1:A480)),$H$2:H481&$A$2:A481,0))-V481,\"\")","v":8.6400000000000077}]
["2011-05-11",null,832,{"$f":"IF(ISNA(VLOOKUP(C482,BDDG!$A$2:$F$100,2,FALSE)),\"\",VLOOKUP(C482,BDDG!$A$2:$F$100,2,FALSE))","v":0},{"$f":"IF(ISNA(VLOOKUP(C482,BDDG!$A$3:$J$102,3,FALSE)),\"\",VLOOKUP(C482,BDDG!$A$3:$J$102,3,FALSE))","v":"A"},{"$f":"IF(ISNA(VLOOKUP(C482,BDDG!$A$3:$J$102,4,FALSE)),\"\",VLOOKUP(C482,BDDG!$A$3:$J$102,4,FALSE))","v":106},{"$f":"IF(ISNA(VLOOKUP(C482,BDDG!$A$2:$F$100,5,FALSE)),\"\",VLOOKUP(C482,BDDG!$A$2:$F$100,5,FALSE))","v":"A2"},{"$f":"IF(ISNA(VLOOKUP(C482,BDDG!$A$2:$F$100,6,FALSE)),\"\",VLOOKUP(C482,BDDG!$A$2:$F$100,6,FALSE))","v":"AA2"},{"$f":"IF(ISERROR(VLOOKUP(C482,BDDG!$A$2:$G$100,7,FALSE)),\"\",VLOOKUP(C482,BDDG!$A$2:$G$100,7,FALSE))","v":1},{"$f":"IF(ISERROR(VLOOKUP(C482,BDDG!$A$2:$H$100,8,FALSE)),\"\",VLOOKUP(C482,BDDG!$A$2:$H$100,8,FALSE))","v":"BB2"},10,14,61.714285714285722,{"$f":"IF(ISERROR(VLOOKUP(C482,BDDG!$A$2:$I$100,9,FALSE)),\"\",VLOOKUP(C482,BDDG!$A$2:$I$100,9,FALSE))","v":"CC2"},null,null,"",{"$f":"IF(ISERROR(VLOOKUP(C482,BDDG!$A$2:$J$100,10,FALSE)),\"\",VLOOKUP(C482,BDDG!$A$2:$J$100,10,FALSE))","v":"DD2"},null,null,"",61.714285714285722,5,2011,{"$f":"IFERROR(INDEX($V$2:V482,MATCH(H482&MAX(IF($H$1:H481=H482,$A$1:A481)),$H$2:H482&$A$2:A482,0))-V482,\"\")","v":16.831168831168824}]
["2011-05-11",null,833,{"$f":"IF(ISNA(VLOOKUP(C483,BDDG!$A$2:$F$100,2,FALSE)),\"\",VLOOKUP(C483,BDDG!$A$2:$F$100,2,FALSE))","v":0},{"$f":"IF(ISNA(VLOOKUP(C483,BDDG!$A$3:$J$102,3,FALSE)),\"\",VLOOKUP(C483,BDDG!$A$3:$J$102,3,FALSE))","v":"A"},{"$f":"IF(ISNA(VLOOKUP(C483,BDDG!$A$3:$J$102,4,FALSE)),\"\",VLOOKUP(C483,BDDG!$A$3:$J$102,4,FALSE))","v":106},{"$f":"IF(ISNA(VLOOKUP(C483,BDDG!$A$2:$F$100,5,FALSE)),\"\",VLOOKUP(C483,BDDG!$A$2:$F$100,5,FALSE))","v":"A2"},{"$f":"IF(ISNA(VLOOKUP(C483,BDDG!$A$2:$F$100,6,FALSE)),\"\",VLOOKUP(C483,BDDG!$A$2:$F$100,6,FALSE))","v":"AA3"},{"$f":"IF(ISERROR(VLOOKUP(C483,BDDG!$A$2:$G$100,7,FALSE)),\"\",VLOOKUP(C483,BDDG!$A$2:$G$100,7,FALSE))","v":1},{"$f":"IF(ISERROR(VLOOKUP(C483,BDDG!$A$2:$H$100,8,FALSE)),\"\",VLOOKUP(C483,BDDG!$A$2:$H$100,8,FALSE))","v":"BB3"},10,22,39.272727272727273,{"$f":"IF(ISERROR(VLOOKUP(C483,BDDG!$A$2:$I$100,9,FALSE)),\"\",VLOOKUP(C483,BDDG!$A$2:$I$100,9,FALSE))","v":"CC3"},null,null,"",{"$f":"IF(ISERROR(VLOOKUP(C483,BDDG!$A$2:$J$100,10,FALSE)),\"\",VLOOKUP(C483,BDDG!$A$2:$J$100,10,FALSE))","v":"DD3"},null,null,"",39.272727272727273,5,2011,{"$f":"IFERROR(INDEX($V$2:V483,MATCH(H483&MAX(IF($H$1:H482=H483,$A$1:A482)),$H$2:H483&$A$2:A483,0))-V483,\"\")","v":14.727272727272727}]
["2011-05-11",null,834,{"$f":"IF(ISNA(VLOOKUP(C484,BDDG!$A$2:$F$100,2,FALSE)),\"\",VLOOKUP(C484,BDDG!$A$2:$F$100,2,FALSE))","v":0},{"$f":"IF(ISNA(VLOOKUP(C484,BDDG!$A$3:$J$102,3,FALSE)),\"\",VLOOKUP(C484,BDDG!$A$3:$J$102,3,FALSE))","v":"A"},{"$f":"IF(ISNA(VLOOKUP(C484,BDDG!$A$3:$J$102,4,FALSE)),\"\",VLOOKUP(C484,BDDG!$A$3:$J$102,4,FALSE))","v":106},{"$f":"IF(ISNA(VLOOKUP(C484,BDDG!$A$2:$F$100,5,FALSE)),\"\",VLOOKUP(C484,BDDG!$A$2:$F$100,5,FALSE))","v":"A2"},{"$f":"IF(ISNA(VLOOKUP(C484,BDDG!$A$2:$F$100,6,FALSE)),\"\",VLOOKUP(C484,BDDG!$A$2:$F$100,6,FALSE))","v":"AA4"},{"$f":"IF(ISERROR(VLOOKUP(C484,BDDG!$A$2:$G$100,7,FALSE)),\"\",VLOOKUP(C484,BDDG!$A$2:$G$100,7,FALSE))","v":1},{"$f":"IF(ISERROR(VLOOKUP(C484,BDDG!$A$2:$H$100,8,FALSE)),\"\",VLOOKUP(C484,BDDG!$A$2:$H$100,8,FALSE))","v":"BB4"},10,41,21.073170731707318,{"$f":"IF(ISERROR(VLOOKUP(C484,BDDG!$A$2:$I$100,9,FALSE)),\"\",VLOOKUP(C484,BDDG!$A$2:$I$100,9,FALSE))","v":"CC4"},null,null,"",{"$f":"IF(ISERROR(VLOOKUP(C484,BDDG!$A$2:$J$100,10,FALSE)),\"\",VLOOKUP(C484,BDDG!$A$2:$J$100,10,FALSE))","v":"DD4"},null,null,"",21.073170731707318,5,2011,{"$f":"IFERROR(INDEX($V$2:V484,MATCH(H484&MAX(IF($H$1:H483=H484,$A$1:A483)),$H$2:H484&$A$2:A484,0))-V484,\"\")","v":2.9268292682926855}]
["2011-05-12",null,848,{"$f":"IF(ISNA(VLOOKUP(C485,BDDG!$A$2:$F$100,2,FALSE)),\"\",VLOOKUP(C485,BDDG!$A$2:$F$100,2,FALSE))","v":0},{"$f":"IF(ISNA(VLOOKUP(C485,BDDG!$A$3:$J$102,3,FALSE)),\"\",VLOOKUP(C485,BDDG!$A$3:$J$102,3,FALSE))","v":"B"},{"$f":"IF(ISNA(VLOOKUP(C485,BDDG!$A$3:$J$102,4,FALSE)),\"\",VLOOKUP(C485,BDDG!$A$3:$J$102,4,FALSE))","v":106},{"$f":"IF(ISNA(VLOOKUP(C485,BDDG!$A$2:$F$100,5,FALSE)),\"\",VLOOKUP(C485,BDDG!$A$2:$F$100,5,FALSE))","v":"A7"},{"$f":"IF(ISNA(VLOOKUP(C485,BDDG!$A$2:$F$100,6,FALSE)),\"\",VLOOKUP(C485,BDDG!$A$2:$F$100,6,FALSE))","v":"AA19"},{"$f":"IF(ISERROR(VLOOKUP(C485,BDDG!$A$2:$G$100,7,FALSE)),\"\",VLOOKUP(C485,BDDG!$A$2:$G$100,7,FALSE))","v":2},{"$f":"IF(ISERROR(VLOOKUP(C485,BDDG!$A$2:$H$100,8,FALSE)),\"\",VLOOKUP(C485,BDDG!$A$2:$H$100,8,FALSE))","v":"BB19"},10,60,14.4,{"$f":"IF(ISERROR(VLOOKUP(C485,BDDG!$A$2:$I$100,9,FALSE)),\"\",VLOOKUP(C485,BDDG!$A$2:$I$100,9,FALSE))","v":"CC19"},null,null,"",{"$f":"IF(ISERROR(VLOOKUP(C485,BDDG!$A$2:$J$100,10,FALSE)),\"\",VLOOKUP(C485,BDDG!$A$2:$J$100,10,FALSE))","v":"DD19"},null,null,"",14.4,5,2011,{"$f":"IFERROR(INDEX($V$2:V485,MATCH(H485&MAX(IF($H$1:H484=H485,$A$1:A484)),$H$2:H485&$A$2:A485,0))-V485,\"\")","v":3.6000000000000032}]
["2011-05-12",null,847,{"$f":"IF(ISNA(VLOOKUP(C486,BDDG!$A$2:$F$100,2,FALSE)),\"\",VLOOKUP(C486,BDDG!$A$2:$F$100,2,FALSE))","v":0},{"$f":"IF(ISNA(VLOOKUP(C486,BDDG!$A$3:$J$102,3,FALSE)),\"\",VLOOKUP(C486,BDDG!$A$3:$J$102,3,FALSE))","v":"B"},{"$f":"IF(ISNA(VLOOKUP(C486,BDDG!$A$3:$J$102,4,FALSE)),\"\",VLOOKUP(C486,BDDG!$A$3:$J$102,4,FALSE))","v":106},{"$f":"IF(ISNA(VLOOKUP(C486,BDDG!$A$2:$F$100,5,FALSE)),\"\",VLOOKUP(C486,BDDG!$A$2:$F$100,5,FALSE))","v":"A7"},{"$f":"IF(ISNA(VLOOKUP(C486,BDDG!$A$2:$F$100,6,FALSE)),\"\",VLOOKUP(C486,BDDG!$A$2:$F$100,6,FALSE))","v":"AA18"},{"$f":"IF(ISERROR(VLOOKUP(C486,BDDG!$A$2:$G$100,7,FALSE)),\"\",VLOOKUP(C486,BDDG!$A$2:$G$100,7,FALSE))","v":2},{"$f":"IF(ISERROR(VLOOKUP(C486,BDDG!$A$2:$H$100,8,FALSE)),\"\",VLOOKUP(C486,BDDG!$A$2:$H$100,8,FALSE))","v":"BB18"},10,60,14.4,{"$f":"IF(ISERROR(VLOOKUP(C486,BDDG!$A$2:$I$100,9,FALSE)),\"\",VLOOKUP(C486,BDDG!$A$2:$I$100,9,FALSE))","v":"CC18"},10,60,14.4,{"$f":"IF(ISERROR(VLOOKUP(C486,BDDG!$A$2:$J$100,10,FALSE)),\"\",VLOOKUP(C486,BDDG!$A$2:$J$100,10,FALSE))","v":"DD18"},null,null,"",28.8,5,2011,{"$f":"IFERROR(INDEX($V$2:V486,MATCH(H486&MAX(IF($H$1:H485=H486,$A$1:A485)),$H$2:H486&$A$2:A486,0))-V486,\"\")","v":20.05714285714286}]
["2011-05-16",null,844,{"$f":"IF(ISNA(VLOOKUP(C487,BDDG!$A$2:$F$100,2,FALSE)),\"\",VLOOKUP(C487,BDDG!$A$2:$F$100,2,FALSE))","v":0},{"$f":"IF(ISNA(VLOOKUP(C487,BDDG!$A$3:$J$102,3,FALSE)),\"\",VLOOKUP(C487,BDDG!$A$3:$J$102,3,FALSE))","v":"B"},{"$f":"IF(ISNA(VLOOKUP(C487,BDDG!$A$3:$J$102,4,FALSE)),\"\",VLOOKUP(C487,BDDG!$A$3:$J$102,4,FALSE))","v":106},{"$f":"IF(ISNA(VLOOKUP(C487,BDDG!$A$2:$F$100,5,FALSE)),\"\",VLOOKUP(C487,BDDG!$A$2:$F$100,5,FALSE))","v":"A6"},{"$f":"IF(ISNA(VLOOKUP(C487,BDDG!$A$2:$F$100,6,FALSE)),\"\",VLOOKUP(C487,BDDG!$A$2:$F$100,6,FALSE))","v":"AA14"},{"$f":"IF(ISERROR(VLOOKUP(C487,BDDG!$A$2:$G$100,7,FALSE)),\"\",VLOOKUP(C487,BDDG!$A$2:$G$100,7,FALSE))","v":2},{"$f":"IF(ISERROR(VLOOKUP(C487,BDDG!$A$2:$H$100,8,FALSE)),\"\",VLOOKUP(C487,BDDG!$A$2:$H$100,8,FALSE))","v":"BB14"},5,6,72.000000000000014,{"$f":"IF(ISERROR(VLOOKUP(C487,BDDG!$A$2:$I$100,9,FALSE)),\"\",VLOOKUP(C487,BDDG!$A$2:$I$100,9,FALSE))","v":"CC14"},null,null,"",{"$f":"IF(ISERROR(VLOOKUP(C487,BDDG!$A$2:$J$100,10,FALSE)),\"\",VLOOKUP(C487,BDDG!$A$2:$J$100,10,FALSE))","v":"DD14"},null,null,"",72.000000000000014,5,2011,{"$f":"IFERROR(INDEX($V$2:V487,MATCH(H487&MAX(IF($H$1:H486=H487,$A$1:A486)),$H$2:H487&$A$2:A487,0))-V487,\"\")","v":6.5454545454545325}]
["2011-05-16",null,849,{"$f":"IF(ISNA(VLOOKUP(C488,BDDG!$A$2:$F$100,2,FALSE)),\"\",VLOOKUP(C488,BDDG!$A$2:$F$100,2,FALSE))","v":0},{"$f":"IF(ISNA(VLOOKUP(C488,BDDG!$A$3:$J$102,3,FALSE)),\"\",VLOOKUP(C488,BDDG!$A$3:$J$102,3,FALSE))","v":"B"},{"$f":"IF(ISNA(VLOOKUP(C488,BDDG!$A$3:$J$102,4,FALSE)),\"\",VLOOKUP(C488,BDDG!$A$3:$J$102,4,FALSE))","v":106},{"$f":"IF(ISNA(VLOOKUP(C488,BDDG!$A$2:$F$100,5,FALSE)),\"\",VLOOKUP(C488,BDDG!$A$2:$F$100,5,FALSE))","v":"A7"},{"$f":"IF(ISNA(VLOOKUP(C488,BDDG!$A$2:$F$100,6,FALSE)),\"\",VLOOKUP(C488,BDDG!$A$2:$F$100,6,FALSE))","v":"AA15"},{"$f":"IF(ISERROR(VLOOKUP(C488,BDDG!$A$2:$G$100,7,FALSE)),\"\",VLOOKUP(C488,BDDG!$A$2:$G$100,7,FALSE))","v":2},{"$f":"IF(ISERROR(VLOOKUP(C488,BDDG!$A$2:$H$100,8,FALSE)),\"\",VLOOKUP(C488,BDDG!$A$2:$H$100,8,FALSE))","v":"BB15"},10,38,22.736842105263158,{"$f":"IF(ISERROR(VLOOKUP(C488,BDDG!$A$2:$I$100,9,FALSE)),\"\",VLOOKUP(C488,BDDG!$A$2:$I$100,9,FALSE))","v":"CC15"},10,24,36.000000000000007,{"$f":"IF(ISERROR(VLOOKUP(C488,BDDG!$A$2:$J$100,10,FALSE)),\"\",VLOOKUP(C488,BDDG!$A$2:$J$100,10,FALSE))","v":"DD15"},null,null,"",58.736842105263165,5,2011,{"$f":"IFERROR(INDEX($V$2:V488,MATCH(H488&MAX(IF($H$1:H487=H488,$A$1:A487)),$H$2:H488&$A$2:A488,0))-V488,\"\")","v":4.2631578947368425}]
["2011-05-17",null,868,{"$f":"IF(ISNA(VLOOKUP(C489,BDDG!$A$2:$F$100,2,FALSE)),\"\",VLOOKUP(C489,BDDG!$A$2:$F$100,2,FALSE))","v":0},{"$f":"IF(ISNA(VLOOKUP(C489,BDDG!$A$3:$J$102,3,FALSE)),\"\",VLOOKUP(C489,BDDG!$A$3:$J$102,3,FALSE))","v":"A"},{"$f":"IF(ISNA(VLOOKUP(C489,BDDG!$A$3:$J$102,4,FALSE)),\"\",VLOOKUP(C489,BDDG!$A$3:$J$102,4,FALSE))","v":108},{"$f":"IF(ISNA(VLOOKUP(C489,BDDG!$A$2:$F$100,5,FALSE)),\"\",VLOOKUP(C489,BDDG!$A$2:$F$100,5,FALSE))","v":"A16"},{"$f":"IF(ISNA(VLOOKUP(C489,BDDG!$A$2:$F$100,6,FALSE)),\"\",VLOOKUP(C489,BDDG!$A$2:$F$100,6,FALSE))","v":"AA39"},{"$f":"IF(ISERROR(VLOOKUP(C489,BDDG!$A$2:$G$100,7,FALSE)),\"\",VLOOKUP(C489,BDDG!$A$2:$G$100,7,FALSE))","v":2},{"$f":"IF(ISERROR(VLOOKUP(C489,BDDG!$A$2:$H$100,8,FALSE)),\"\",VLOOKUP(C489,BDDG!$A$2:$H$100,8,FALSE))","v":"BB39"},10,50,17.28,{"$f":"IF(ISERROR(VLOOKUP(C489,BDDG!$A$2:$I$100,9,FALSE)),\"\",VLOOKUP(C489,BDDG!$A$2:$I$100,9,FALSE))","v":"CC39"},null,null,"",{"$f":"IF(ISERROR(VLOOKUP(C489,BDDG!$A$2:$J$100,10,FALSE)),\"\",VLOOKUP(C489,BDDG!$A$2:$J$100,10,FALSE))","v":"DD39"},null,null,"",17.28,5,2011,{"$f":"IFERROR(INDEX($V$2:V489,MATCH(H489&MAX(IF($H$1:H488=H489,$A$1:A488)),$H$2:H489&$A$2:A489,0))-V489,\"\")","v":30.720000000000006}]
["2011-05-17",null,870,{"$f":"IF(ISNA(VLOOKUP(C490,BDDG!$A$2:$F$100,2,FALSE)),\"\",VLOOKUP(C490,BDDG!$A$2:$F$100,2,FALSE))","v":0},{"$f":"IF(ISNA(VLOOKUP(C490,BDDG!$A$3:$J$102,3,FALSE)),\"\",VLOOKUP(C490,BDDG!$A$3:$J$102,3,FALSE))","v":"A"},{"$f":"IF(ISNA(VLOOKUP(C490,BDDG!$A$3:$J$102,4,FALSE)),\"\",VLOOKUP(C490,BDDG!$A$3:$J$102,4,FALSE))","v":108},{"$f":"IF(ISNA(VLOOKUP(C490,BDDG!$A$2:$F$100,5,FALSE)),\"\",VLOOKUP(C490,BDDG!$A$2:$F$100,5,FALSE))","v":"A16"},{"$f":"IF(ISNA(VLOOKUP(C490,BDDG!$A$2:$F$100,6,FALSE)),\"\",VLOOKUP(C490,BDDG!$A$2:$F$100,6,FALSE))","v":"AA41"},{"$f":"IF(ISERROR(VLOOKUP(C490,BDDG!$A$2:$G$100,7,FALSE)),\"\",VLOOKUP(C490,BDDG!$A$2:$G$100,7,FALSE))","v":2},{"$f":"IF(ISERROR(VLOOKUP(C490,BDDG!$A$2:$H$100,8,FALSE)),\"\",VLOOKUP(C490,BDDG!$A$2:$H$100,8,FALSE))","v":"BB41"},1.5,27,4.8,{"$f":"IF(ISERROR(VLOOKUP(C490,BDDG!$A$2:$I$100,9,FALSE)),\"\",VLOOKUP(C490,BDDG!$A$2:$I$100,9,FALSE))","v":"CC41"},1.5,45,2.8800000000000003,{"$f":"IF(ISERROR(VLOOKUP(C490,BDDG!$A$2:$J$100,10,FALSE)),\"\",VLOOKUP(C490,BDDG!$A$2:$J$100,10,FALSE))","v":"DD41"},null,null,{"$f":" IF(ISERROR(S490/T490*86.4),\"\",S490/T490*86.4)","v":""},7.68,5,2011,{"$f":"IFERROR(INDEX($V$2:V490,MATCH(H490&MAX(IF($H$1:H489=H490,$A$1:A489)),$H$2:H490&$A$2:A490,0))-V490,\"\")","v":21.12}]
["2011-05-18",null,867,{"$f":"IF(ISNA(VLOOKUP(C491,BDDG!$A$2:$F$100,2,FALSE)),\"\",VLOOKUP(C491,BDDG!$A$2:$F$100,2,FALSE))","v":0},{"$f":"IF(ISNA(VLOOKUP(C491,BDDG!$A$3:$J$102,3,FALSE)),\"\",VLOOKUP(C491,BDDG!$A$3:$J$102,3,FALSE))","v":"C"},{"$f":"IF(ISNA(VLOOKUP(C491,BDDG!$A$3:$J$102,4,FALSE)),\"\",VLOOKUP(C491,BDDG!$A$3:$J$102,4,FALSE))","v":108},{"$f":"IF(ISNA(VLOOKUP(C491,BDDG!$A$2:$F$100,5,FALSE)),\"\",VLOOKUP(C491,BDDG!$A$2:$F$100,5,FALSE))","v":"A17"},{"$f":"IF(ISNA(VLOOKUP(C491,BDDG!$A$2:$F$100,6,FALSE)),\"\",VLOOKUP(C491,BDDG!$A$2:$F$100,6,FALSE))","v":"AA43"},{"$f":"IF(ISERROR(VLOOKUP(C491,BDDG!$A$2:$G$100,7,FALSE)),\"\",VLOOKUP(C491,BDDG!$A$2:$G$100,7,FALSE))","v":1},{"$f":"IF(ISERROR(VLOOKUP(C491,BDDG!$A$2:$H$100,8,FALSE)),\"\",VLOOKUP(C491,BDDG!$A$2:$H$100,8,FALSE))","v":"BB43"},10,36,{"$f":" IF(ISERROR(K491/L491*86.4),\"\",K491/L491*86.4)","v":24.000000000000004},{"$f":"IF(ISERROR(VLOOKUP(C491,BDDG!$A$2:$I$100,9,FALSE)),\"\",VLOOKUP(C491,BDDG!$A$2:$I$100,9,FALSE))","v":"CC43"},null,null,null,{"$f":"IF(ISERROR(VLOOKUP(C491,BDDG!$A$2:$J$100,10,FALSE)),\"\",VLOOKUP(C491,BDDG!$A$2:$J$100,10,FALSE))","v":"DD43"},null,null,"",{"$f":"IF(ISERROR(SUM(M491,Q491,U491)),\"\",SUM(M491,Q491,U491))","v":24.000000000000004},5,2011,{"$f":"IFERROR(INDEX($V$2:V491,MATCH(H491&MAX(IF($H$1:H490=H491,$A$1:A490)),$H$2:H491&$A$2:A491,0))-V491,\"\")","v":4.7999999999999972}]
["2011-05-18",null,839,{"$f":"IF(ISNA(VLOOKUP(C492,BDDG!$A$2:$F$100,2,FALSE)),\"\",VLOOKUP(C492,BDDG!$A$2:$F$100,2,FALSE))","v":0},{"$f":"IF(ISNA(VLOOKUP(C492,BDDG!$A$3:$J$102,3,FALSE)),\"\",VLOOKUP(C492,BDDG!$A$3:$J$102,3,FALSE))","v":"A"},{"$f":"IF(ISNA(VLOOKUP(C492,BDDG!$A$3:$J$102,4,FALSE)),\"\",VLOOKUP(C492,BDDG!$A$3:$J$102,4,FALSE))","v":106},{"$f":"IF(ISNA(VLOOKUP(C492,BDDG!$A$2:$F$100,5,FALSE)),\"\",VLOOKUP(C492,BDDG!$A$2:$F$100,5,FALSE))","v":"A3"},{"$f":"IF(ISNA(VLOOKUP(C492,BDDG!$A$2:$F$100,6,FALSE)),\"\",VLOOKUP(C492,BDDG!$A$2:$F$100,6,FALSE))","v":"AA10"},{"$f":"IF(ISERROR(VLOOKUP(C492,BDDG!$A$2:$G$100,7,FALSE)),\"\",VLOOKUP(C492,BDDG!$A$2:$G$100,7,FALSE))","v":2},{"$f":"IF(ISERROR(VLOOKUP(C492,BDDG!$A$2:$H$100,8,FALSE)),\"\",VLOOKUP(C492,BDDG!$A$2:$H$100,8,FALSE))","v":"BB10"},4,7,49.371428571428574,{"$f":"IF(ISERROR(VLOOKUP(C492,BDDG!$A$2:$I$100,9,FALSE)),\"\",VLOOKUP(C492,BDDG!$A$2:$I$100,9,FALSE))","v":"CC10"},null,null,{"$f":" IF(ISERROR(O492/P492*86.4),\"\",O492/P492*86.4)","v":""},{"$f":"IF(ISERROR(VLOOKUP(C492,BDDG!$A$2:$J$100,10,FALSE)),\"\",VLOOKUP(C492,BDDG!$A$2:$J$100,10,FALSE))","v":"DD10"},null,null,"",49.371428571428574,5,2011,{"$f":"IFERROR(INDEX($V$2:V492,MATCH(H492&MAX(IF($H$1:H491=H492,$A$1:A491)),$H$2:H492&$A$2:A492,0))-V492,\"\")","v":-32.756043956043953}]
["2011-05-18",null,838,{"$f":"IF(ISNA(VLOOKUP(C493,BDDG!$A$2:$F$100,2,FALSE)),\"\",VLOOKUP(C493,BDDG!$A$2:$F$100,2,FALSE))","v":0},{"$f":"IF(ISNA(VLOOKUP(C493,BDDG!$A$3:$J$102,3,FALSE)),\"\",VLOOKUP(C493,BDDG!$A$3:$J$102,3,FALSE))","v":"A"},{"$f":"IF(ISNA(VLOOKUP(C493,BDDG!$A$3:$J$102,4,FALSE)),\"\",VLOOKUP(C493,BDDG!$A$3:$J$102,4,FALSE))","v":106},{"$f":"IF(ISNA(VLOOKUP(C493,BDDG!$A$2:$F$100,5,FALSE)),\"\",VLOOKUP(C493,BDDG!$A$2:$F$100,5,FALSE))","v":"A3"},{"$f":"IF(ISNA(VLOOKUP(C493,BDDG!$A$2:$F$100,6,FALSE)),\"\",VLOOKUP(C493,BDDG!$A$2:$F$100,6,FALSE))","v":"AA8"},{"$f":"IF(ISERROR(VLOOKUP(C493,BDDG!$A$2:$G$100,7,FALSE)),\"\",VLOOKUP(C493,BDDG!$A$2:$G$100,7,FALSE))","v":1},{"$f":"IF(ISERROR(VLOOKUP(C493,BDDG!$A$2:$H$100,8,FALSE)),\"\",VLOOKUP(C493,BDDG!$A$2:$H$100,8,FALSE))","v":"BB8"},1,15,5.7600000000000007,{"$f":"IF(ISERROR(VLOOKUP(C493,BDDG!$A$2:$I$100,9,FALSE)),\"\",VLOOKUP(C493,BDDG!$A$2:$I$100,9,FALSE))","v":"CC8"},null,null,"",{"$f":"IF(ISERROR(VLOOKUP(C493,BDDG!$A$2:$J$100,10,FALSE)),\"\",VLOOKUP(C493,BDDG!$A$2:$J$100,10,FALSE))","v":"DD8"},null,null,"",5.7600000000000007,5,2011,{"$f":"IFERROR(INDEX($V$2:V493,MATCH(H493&MAX(IF($H$1:H492=H493,$A$1:A492)),$H$2:H493&$A$2:A493,0))-V493,\"\")","v":10.855384615384615}]
["2011-05-18",null,837,{"$f":"IF(ISNA(VLOOKUP(C494,BDDG!$A$2:$F$100,2,FALSE)),\"\",VLOOKUP(C494,BDDG!$A$2:$F$100,2,FALSE))","v":0},{"$f":"IF(ISNA(VLOOKUP(C494,BDDG!$A$3:$J$102,3,FALSE)),\"\",VLOOKUP(C494,BDDG!$A$3:$J$102,3,FALSE))","v":"A"},{"$f":"IF(ISNA(VLOOKUP(C494,BDDG!$A$3:$J$102,4,FALSE)),\"\",VLOOKUP(C494,BDDG!$A$3:$J$102,4,FALSE))","v":106},{"$f":"IF(ISNA(VLOOKUP(C494,BDDG!$A$2:$F$100,5,FALSE)),\"\",VLOOKUP(C494,BDDG!$A$2:$F$100,5,FALSE))","v":"A3"},{"$f":"IF(ISNA(VLOOKUP(C494,BDDG!$A$2:$F$100,6,FALSE)),\"\",VLOOKUP(C494,BDDG!$A$2:$F$100,6,FALSE))","v":"AA7"},{"$f":"IF(ISERROR(VLOOKUP(C494,BDDG!$A$2:$G$100,7,FALSE)),\"\",VLOOKUP(C494,BDDG!$A$2:$G$100,7,FALSE))","v":1},{"$f":"IF(ISERROR(VLOOKUP(C494,BDDG!$A$2:$H$100,8,FALSE)),\"\",VLOOKUP(C494,BDDG!$A$2:$H$100,8,FALSE))","v":"BB7"},2.5,11,19.636363636363637,{"$f":"IF(ISERROR(VLOOKUP(C494,BDDG!$A$2:$I$100,9,FALSE)),\"\",VLOOKUP(C494,BDDG!$A$2:$I$100,9,FALSE))","v":"CC7"},null,null,"",{"$f":"IF(ISERROR(VLOOKUP(C494,BDDG!$A$2:$J$100,10,FALSE)),\"\",VLOOKUP(C494,BDDG!$A$2:$J$100,10,FALSE))","v":"DD7"},null,null,"",19.636363636363637,5,2011,{"$f":"IFERROR(INDEX($V$2:V494,MATCH(H494&MAX(IF($H$1:H493=H494,$A$1:A493)),$H$2:H494&$A$2:A494,0))-V494,\"\")","v":66.763636363636365}]
["2011-05-18",null,836,{"$f":"IF(ISNA(VLOOKUP(C495,BDDG!$A$2:$F$100,2,FALSE)),\"\",VLOOKUP(C495,BDDG!$A$2:$F$100,2,FALSE))","v":0},{"$f":"IF(ISNA(VLOOKUP(C495,BDDG!$A$3:$J$102,3,FALSE)),\"\",VLOOKUP(C495,BDDG!$A$3:$J$102,3,FALSE))","v":"A"},{"$f":"IF(ISNA(VLOOKUP(C495,BDDG!$A$3:$J$102,4,FALSE)),\"\",VLOOKUP(C495,BDDG!$A$3:$J$102,4,FALSE))","v":106},{"$f":"IF(ISNA(VLOOKUP(C495,BDDG!$A$2:$F$100,5,FALSE)),\"\",VLOOKUP(C495,BDDG!$A$2:$F$100,5,FALSE))","v":"A3"},{"$f":"IF(ISNA(VLOOKUP(C495,BDDG!$A$2:$F$100,6,FALSE)),\"\",VLOOKUP(C495,BDDG!$A$2:$F$100,6,FALSE))","v":"AA6"},{"$f":"IF(ISERROR(VLOOKUP(C495,BDDG!$A$2:$G$100,7,FALSE)),\"\",VLOOKUP(C495,BDDG!$A$2:$G$100,7,FALSE))","v":1},{"$f":"IF(ISERROR(VLOOKUP(C495,BDDG!$A$2:$H$100,8,FALSE)),\"\",VLOOKUP(C495,BDDG!$A$2:$H$100,8,FALSE))","v":"BB6"},4,10,34.56,{"$f":"IF(ISERROR(VLOOKUP(C495,BDDG!$A$2:$I$100,9,FALSE)),\"\",VLOOKUP(C495,BDDG!$A$2:$I$100,9,FALSE))","v":"CC6"},null,null,"",{"$f":"IF(ISERROR(VLOOKUP(C495,BDDG!$A$2:$J$100,10,FALSE)),\"\",VLOOKUP(C495,BDDG!$A$2:$J$100,10,FALSE))","v":"DD6"},null,null,"",34.56,5,2011,{"$f":"IFERROR(INDEX($V$2:V495,MATCH(H495&MAX(IF($H$1:H494=H495,$A$1:A494)),$H$2:H495&$A$2:A495,0))-V495,\"\")","v":51.84}]
["2011-05-18",null,855,{"$f":"IF(ISNA(VLOOKUP(C496,BDDG!$A$2:$F$100,2,FALSE)),\"\",VLOOKUP(C496,BDDG!$A$2:$F$100,2,FALSE))","v":0},{"$f":"IF(ISNA(VLOOKUP(C496,BDDG!$A$3:$J$102,3,FALSE)),\"\",VLOOKUP(C496,BDDG!$A$3:$J$102,3,FALSE))","v":"A"},{"$f":"IF(ISNA(VLOOKUP(C496,BDDG!$A$3:$J$102,4,FALSE)),\"\",VLOOKUP(C496,BDDG!$A$3:$J$102,4,FALSE))","v":106},{"$f":"IF(ISNA(VLOOKUP(C496,BDDG!$A$2:$F$100,5,FALSE)),\"\",VLOOKUP(C496,BDDG!$A$2:$F$100,5,FALSE))","v":"A9"},{"$f":"IF(ISNA(VLOOKUP(C496,BDDG!$A$2:$F$100,6,FALSE)),\"\",VLOOKUP(C496,BDDG!$A$2:$F$100,6,FALSE))","v":"AA26"},{"$f":"IF(ISERROR(VLOOKUP(C496,BDDG!$A$2:$G$100,7,FALSE)),\"\",VLOOKUP(C496,BDDG!$A$2:$G$100,7,FALSE))","v":2},{"$f":"IF(ISERROR(VLOOKUP(C496,BDDG!$A$2:$H$100,8,FALSE)),\"\",VLOOKUP(C496,BDDG!$A$2:$H$100,8,FALSE))","v":"BB26"},4.5,5.4,72,{"$f":"IF(ISERROR(VLOOKUP(C496,BDDG!$A$2:$I$100,9,FALSE)),\"\",VLOOKUP(C496,BDDG!$A$2:$I$100,9,FALSE))","v":"CC26"},4,14.1,24.510638297872344,{"$f":"IF(ISERROR(VLOOKUP(C496,BDDG!$A$2:$J$100,10,FALSE)),\"\",VLOOKUP(C496,BDDG!$A$2:$J$100,10,FALSE))","v":"DD26"},null,null,"",96.510638297872347,5,2011,{"$f":"IFERROR(INDEX($V$2:V496,MATCH(H496&MAX(IF($H$1:H495=H496,$A$1:A495)),$H$2:H496&$A$2:A496,0))-V496,\"\")","v":""}]
["2011-05-18",null,869,{"$f":"IF(ISNA(VLOOKUP(C497,BDDG!$A$2:$F$100,2,FALSE)),\"\",VLOOKUP(C497,BDDG!$A$2:$F$100,2,FALSE))","v":0},{"$f":"IF(ISNA(VLOOKUP(C497,BDDG!$A$3:$J$102,3,FALSE)),\"\",VLOOKUP(C497,BDDG!$A$3:$J$102,3,FALSE))","v":"A"},{"$f":"IF(ISNA(VLOOKUP(C497,BDDG!$A$3:$J$102,4,FALSE)),\"\",VLOOKUP(C497,BDDG!$A$3:$J$102,4,FALSE))","v":108},{"$f":"IF(ISNA(VLOOKUP(C497,BDDG!$A$2:$F$100,5,FALSE)),\"\",VLOOKUP(C497,BDDG!$A$2:$F$100,5,FALSE))","v":"A16"},{"$f":"IF(ISNA(VLOOKUP(C497,BDDG!$A$2:$F$100,6,FALSE)),\"\",VLOOKUP(C497,BDDG!$A$2:$F$100,6,FALSE))","v":"AA40"},{"$f":"IF(ISERROR(VLOOKUP(C497,BDDG!$A$2:$G$100,7,FALSE)),\"\",VLOOKUP(C497,BDDG!$A$2:$G$100,7,FALSE))","v":3},{"$f":"IF(ISERROR(VLOOKUP(C497,BDDG!$A$2:$H$100,8,FALSE)),\"\",VLOOKUP(C497,BDDG!$A$2:$H$100,8,FALSE))","v":"BB40"},8,60,11.520000000000001,{"$f":"IF(ISERROR(VLOOKUP(C497,BDDG!$A$2:$I$100,9,FALSE)),\"\",VLOOKUP(C497,BDDG!$A$2:$I$100,9,FALSE))","v":"CC40"},null,null,"",{"$f":"IF(ISERROR(VLOOKUP(C497,BDDG!$A$2:$J$100,10,FALSE)),\"\",VLOOKUP(C497,BDDG!$A$2:$J$100,10,FALSE))","v":"DD40"},null,null,"",11.520000000000001,5,2011,{"$f":"IFERROR(INDEX($V$2:V497,MATCH(H497&MAX(IF($H$1:H496=H497,$A$1:A496)),$H$2:H497&$A$2:A497,0))-V497,\"\")","v":-2.8800000000000008}]
["2011-05-18",null,866,{"$f":"IF(ISNA(VLOOKUP(C498,BDDG!$A$2:$F$100,2,FALSE)),\"\",VLOOKUP(C498,BDDG!$A$2:$F$100,2,FALSE))","v":0},{"$f":"IF(ISNA(VLOOKUP(C498,BDDG!$A$3:$J$102,3,FALSE)),\"\",VLOOKUP(C498,BDDG!$A$3:$J$102,3,FALSE))","v":"C"},{"$f":"IF(ISNA(VLOOKUP(C498,BDDG!$A$3:$J$102,4,FALSE)),\"\",VLOOKUP(C498,BDDG!$A$3:$J$102,4,FALSE))","v":108},{"$f":"IF(ISNA(VLOOKUP(C498,BDDG!$A$2:$F$100,5,FALSE)),\"\",VLOOKUP(C498,BDDG!$A$2:$F$100,5,FALSE))","v":"A17"},{"$f":"IF(ISNA(VLOOKUP(C498,BDDG!$A$2:$F$100,6,FALSE)),\"\",VLOOKUP(C498,BDDG!$A$2:$F$100,6,FALSE))","v":"AA42"},{"$f":"IF(ISERROR(VLOOKUP(C498,BDDG!$A$2:$G$100,7,FALSE)),\"\",VLOOKUP(C498,BDDG!$A$2:$G$100,7,FALSE))","v":1},{"$f":"IF(ISERROR(VLOOKUP(C498,BDDG!$A$2:$H$100,8,FALSE)),\"\",VLOOKUP(C498,BDDG!$A$2:$H$100,8,FALSE))","v":"BB42"},0.6,1,51.84,{"$f":"IF(ISERROR(VLOOKUP(C498,BDDG!$A$2:$I$100,9,FALSE)),\"\",VLOOKUP(C498,BDDG!$A$2:$I$100,9,FALSE))","v":"CC42"},null,null,"",{"$f":"IF(ISERROR(VLOOKUP(C498,BDDG!$A$2:$J$100,10,FALSE)),\"\",VLOOKUP(C498,BDDG!$A$2:$J$100,10,FALSE))","v":"DD42"},null,null,"",51.84,5,2011,{"$f":"IFERROR(INDEX($V$2:V498,MATCH(H498&MAX(IF($H$1:H497=H498,$A$1:A497)),$H$2:H498&$A$2:A498,0))-V498,\"\")","v":8.6399999999999935}]
["2011-05-18",null,856,{"$f":"IF(ISNA(VLOOKUP(C499,BDDG!$A$2:$F$100,2,FALSE)),\"\",VLOOKUP(C499,BDDG!$A$2:$F$100,2,FALSE))","v":0},{"$f":"IF(ISNA(VLOOKUP(C499,BDDG!$A$3:$J$102,3,FALSE)),\"\",VLOOKUP(C499,BDDG!$A$3:$J$102,3,FALSE))","v":"A"},{"$f":"IF(ISNA(VLOOKUP(C499,BDDG!$A$3:$J$102,4,FALSE)),\"\",VLOOKUP(C499,BDDG!$A$3:$J$102,4,FALSE))","v":106},{"$f":"IF(ISNA(VLOOKUP(C499,BDDG!$A$2:$F$100,5,FALSE)),\"\",VLOOKUP(C499,BDDG!$A$2:$F$100,5,FALSE))","v":"A9"},{"$f":"IF(ISNA(VLOOKUP(C499,BDDG!$A$2:$F$100,6,FALSE)),\"\",VLOOKUP(C499,BDDG!$A$2:$F$100,6,FALSE))","v":"AA27"},{"$f":"IF(ISERROR(VLOOKUP(C499,BDDG!$A$2:$G$100,7,FALSE)),\"\",VLOOKUP(C499,BDDG!$A$2:$G$100,7,FALSE))","v":2},{"$f":"IF(ISERROR(VLOOKUP(C499,BDDG!$A$2:$H$100,8,FALSE)),\"\",VLOOKUP(C499,BDDG!$A$2:$H$100,8,FALSE))","v":"BB27"},6,40,12.96,{"$f":"IF(ISERROR(VLOOKUP(C499,BDDG!$A$2:$I$100,9,FALSE)),\"\",VLOOKUP(C499,BDDG!$A$2:$I$100,9,FALSE))","v":"CC27"},9,4.3,180.83720930232562,{"$f":"IF(ISERROR(VLOOKUP(C499,BDDG!$A$2:$J$100,10,FALSE)),\"\",VLOOKUP(C499,BDDG!$A$2:$J$100,10,FALSE))","v":"DD27"},null,null,"",193.79720930232563,5,2011,{"$f":"IFERROR(INDEX($V$2:V499,MATCH(H499&MAX(IF($H$1:H498=H499,$A$1:A498)),$H$2:H499&$A$2:A499,0))-V499,\"\")","v":-12.801848477583349}]
["2011-05-18",null,835,{"$f":"IF(ISNA(VLOOKUP(C500,BDDG!$A$2:$F$100,2,FALSE)),\"\",VLOOKUP(C500,BDDG!$A$2:$F$100,2,FALSE))","v":0},{"$f":"IF(ISNA(VLOOKUP(C500,BDDG!$A$3:$J$102,3,FALSE)),\"\",VLOOKUP(C500,BDDG!$A$3:$J$102,3,FALSE))","v":"A"},{"$f":"IF(ISNA(VLOOKUP(C500,BDDG!$A$3:$J$102,4,FALSE)),\"\",VLOOKUP(C500,BDDG!$A$3:$J$102,4,FALSE))","v":106},{"$f":"IF(ISNA(VLOOKUP(C500,BDDG!$A$2:$F$100,5,FALSE)),\"\",VLOOKUP(C500,BDDG!$A$2:$F$100,5,FALSE))","v":"A3"},{"$f":"IF(ISNA(VLOOKUP(C500,BDDG!$A$2:$F$100,6,FALSE)),\"\",VLOOKUP(C500,BDDG!$A$2:$F$100,6,FALSE))","v":"AA5"},{"$f":"IF(ISERROR(VLOOKUP(C500,BDDG!$A$2:$G$100,7,FALSE)),\"\",VLOOKUP(C500,BDDG!$A$2:$G$100,7,FALSE))","v":1},{"$f":"IF(ISERROR(VLOOKUP(C500,BDDG!$A$2:$H$100,8,FALSE)),\"\",VLOOKUP(C500,BDDG!$A$2:$H$100,8,FALSE))","v":"BB5"},3,63,4.1142857142857148,{"$f":"IF(ISERROR(VLOOKUP(C500,BDDG!$A$2:$I$100,9,FALSE)),\"\",VLOOKUP(C500,BDDG!$A$2:$I$100,9,FALSE))","v":"CC5"},null,null,"",{"$f":"IF(ISERROR(VLOOKUP(C500,BDDG!$A$2:$J$100,10,FALSE)),\"\",VLOOKUP(C500,BDDG!$A$2:$J$100,10,FALSE))","v":"DD5"},null,null,"",4.1142857142857148,5,2011,{"$f":"IFERROR(INDEX($V$2:V500,MATCH(H500&MAX(IF($H$1:H499=H500,$A$1:A499)),$H$2:H500&$A$2:A500,0))-V500,\"\")","v":4.7929307805596464}]
["2011-05-18",null,852,{"$f":"IF(ISNA(VLOOKUP(C501,BDDG!$A$2:$F$100,2,FALSE)),\"\",VLOOKUP(C501,BDDG!$A$2:$F$100,2,FALSE))","v":0},{"$f":"IF(ISNA(VLOOKUP(C501,BDDG!$A$3:$J$102,3,FALSE)),\"\",VLOOKUP(C501,BDDG!$A$3:$J$102,3,FALSE))","v":"A"},{"$f":"IF(ISNA(VLOOKUP(C501,BDDG!$A$3:$J$102,4,FALSE)),\"\",VLOOKUP(C501,BDDG!$A$3:$J$102,4,FALSE))","v":106},{"$f":"IF(ISNA(VLOOKUP(C501,BDDG!$A$2:$F$100,5,FALSE)),\"\",VLOOKUP(C501,BDDG!$A$2:$F$100,5,FALSE))","v":"A9"},{"$f":"IF(ISNA(VLOOKUP(C501,BDDG!$A$2:$F$100,6,FALSE)),\"\",VLOOKUP(C501,BDDG!$A$2:$F$100,6,FALSE))","v":"AA22"},{"$f":"IF(ISERROR(VLOOKUP(C501,BDDG!$A$2:$G$100,7,FALSE)),\"\",VLOOKUP(C501,BDDG!$A$2:$G$100,7,FALSE))","v":1},{"$f":"IF(ISERROR(VLOOKUP(C501,BDDG!$A$2:$H$100,8,FALSE)),\"\",VLOOKUP(C501,BDDG!$A$2:$H$100,8,FALSE))","v":"BB22"},4,25,13.824000000000002,{"$f":"IF(ISERROR(VLOOKUP(C501,BDDG!$A$2:$I$100,9,FALSE)),\"\",VLOOKUP(C501,BDDG!$A$2:$I$100,9,FALSE))","v":"CC22"},null,null,"",{"$f":"IF(ISERROR(VLOOKUP(C501,BDDG!$A$2:$J$100,10,FALSE)),\"\",VLOOKUP(C501,BDDG!$A$2:$J$100,10,FALSE))","v":"DD22"},null,null,"",13.824000000000002,5,2011,{"$f":"IFERROR(INDEX($V$2:V501,MATCH(H501&MAX(IF($H$1:H500=H501,$A$1:A500)),$H$2:H501&$A$2:A501,0))-V501,\"\")","v":7.7759999999999998}]
["2011-05-30",null,867,{"$f":"IF(ISNA(VLOOKUP(C502,BDDG!$A$2:$F$100,2,FALSE)),\"\",VLOOKUP(C502,BDDG!$A$2:$F$100,2,FALSE))","v":0},{"$f":"IF(ISNA(VLOOKUP(C502,BDDG!$A$3:$J$102,3,FALSE)),\"\",VLOOKUP(C502,BDDG!$A$3:$J$102,3,FALSE))","v":"C"},{"$f":"IF(ISNA(VLOOKUP(C502,BDDG!$A$3:$J$102,4,FALSE)),\"\",VLOOKUP(C502,BDDG!$A$3:$J$102,4,FALSE))","v":108},{"$f":"IF(ISNA(VLOOKUP(C502,BDDG!$A$2:$F$100,5,FALSE)),\"\",VLOOKUP(C502,BDDG!$A$2:$F$100,5,FALSE))","v":"A17"},{"$f":"IF(ISNA(VLOOKUP(C502,BDDG!$A$2:$F$100,6,FALSE)),\"\",VLOOKUP(C502,BDDG!$A$2:$F$100,6,FALSE))","v":"AA43"},{"$f":"IF(ISERROR(VLOOKUP(C502,BDDG!$A$2:$G$100,7,FALSE)),\"\",VLOOKUP(C502,BDDG!$A$2:$G$100,7,FALSE))","v":1},{"$f":"IF(ISERROR(VLOOKUP(C502,BDDG!$A$2:$H$100,8,FALSE)),\"\",VLOOKUP(C502,BDDG!$A$2:$H$100,8,FALSE))","v":"BB43"},10,45,19.2,{"$f":"IF(ISERROR(VLOOKUP(C502,BDDG!$A$2:$I$100,9,FALSE)),\"\",VLOOKUP(C502,BDDG!$A$2:$I$100,9,FALSE))","v":"CC43"},null,null,null,{"$f":"IF(ISERROR(VLOOKUP(C502,BDDG!$A$2:$J$100,10,FALSE)),\"\",VLOOKUP(C502,BDDG!$A$2:$J$100,10,FALSE))","v":"DD43"},null,null,"",19.2,5,2011,{"$f":"IFERROR(INDEX($V$2:V502,MATCH(H502&MAX(IF($H$1:H501=H502,$A$1:A501)),$H$2:H502&$A$2:A502,0))-V502,\"\")","v":4.8000000000000043}]
["2011-05-30",null,866,{"$f":"IF(ISNA(VLOOKUP(C503,BDDG!$A$2:$F$100,2,FALSE)),\"\",VLOOKUP(C503,BDDG!$A$2:$F$100,2,FALSE))","v":0},{"$f":"IF(ISNA(VLOOKUP(C503,BDDG!$A$3:$J$102,3,FALSE)),\"\",VLOOKUP(C503,BDDG!$A$3:$J$102,3,FALSE))","v":"C"},{"$f":"IF(ISNA(VLOOKUP(C503,BDDG!$A$3:$J$102,4,FALSE)),\"\",VLOOKUP(C503,BDDG!$A$3:$J$102,4,FALSE))","v":108},{"$f":"IF(ISNA(VLOOKUP(C503,BDDG!$A$2:$F$100,5,FALSE)),\"\",VLOOKUP(C503,BDDG!$A$2:$F$100,5,FALSE))","v":"A17"},{"$f":"IF(ISNA(VLOOKUP(C503,BDDG!$A$2:$F$100,6,FALSE)),\"\",VLOOKUP(C503,BDDG!$A$2:$F$100,6,FALSE))","v":"AA42"},{"$f":"IF(ISERROR(VLOOKUP(C503,BDDG!$A$2:$G$100,7,FALSE)),\"\",VLOOKUP(C503,BDDG!$A$2:$G$100,7,FALSE))","v":1},{"$f":"IF(ISERROR(VLOOKUP(C503,BDDG!$A$2:$H$100,8,FALSE)),\"\",VLOOKUP(C503,BDDG!$A$2:$H$100,8,FALSE))","v":"BB42"},0.75,1,64.800000000000011,{"$f":"IF(ISERROR(VLOOKUP(C503,BDDG!$A$2:$I$100,9,FALSE)),\"\",VLOOKUP(C503,BDDG!$A$2:$I$100,9,FALSE))","v":"CC42"},null,null,null,{"$f":"IF(ISERROR(VLOOKUP(C503,BDDG!$A$2:$J$100,10,FALSE)),\"\",VLOOKUP(C503,BDDG!$A$2:$J$100,10,FALSE))","v":"DD42"},null,null,"",64.800000000000011,5,2011,{"$f":"IFERROR(INDEX($V$2:V503,MATCH(H503&MAX(IF($H$1:H502=H503,$A$1:A502)),$H$2:H503&$A$2:A503,0))-V503,\"\")","v":-12.960000000000008}]
["2011-05-31",null,860,{"$f":"IF(ISNA(VLOOKUP(C504,BDDG!$A$2:$F$100,2,FALSE)),\"\",VLOOKUP(C504,BDDG!$A$2:$F$100,2,FALSE))","v":0},{"$f":"IF(ISNA(VLOOKUP(C504,BDDG!$A$3:$J$102,3,FALSE)),\"\",VLOOKUP(C504,BDDG!$A$3:$J$102,3,FALSE))","v":"A"},{"$f":"IF(ISNA(VLOOKUP(C504,BDDG!$A$3:$J$102,4,FALSE)),\"\",VLOOKUP(C504,BDDG!$A$3:$J$102,4,FALSE))","v":106},{"$f":"IF(ISNA(VLOOKUP(C504,BDDG!$A$2:$F$100,5,FALSE)),\"\",VLOOKUP(C504,BDDG!$A$2:$F$100,5,FALSE))","v":"A11"},{"$f":"IF(ISNA(VLOOKUP(C504,BDDG!$A$2:$F$100,6,FALSE)),\"\",VLOOKUP(C504,BDDG!$A$2:$F$100,6,FALSE))","v":"AA32"},{"$f":"IF(ISERROR(VLOOKUP(C504,BDDG!$A$2:$G$100,7,FALSE)),\"\",VLOOKUP(C504,BDDG!$A$2:$G$100,7,FALSE))","v":2},{"$f":"IF(ISERROR(VLOOKUP(C504,BDDG!$A$2:$H$100,8,FALSE)),\"\",VLOOKUP(C504,BDDG!$A$2:$H$100,8,FALSE))","v":"BB32"},8,18,38.4,{"$f":"IF(ISERROR(VLOOKUP(C504,BDDG!$A$2:$I$100,9,FALSE)),\"\",VLOOKUP(C504,BDDG!$A$2:$I$100,9,FALSE))","v":"CC32"},null,null,{"$f":" IF(ISERROR(O504/P504*86.4),\"\",O504/P504*86.4)","v":""},{"$f":"IF(ISERROR(VLOOKUP(C504,BDDG!$A$2:$J$100,10,FALSE)),\"\",VLOOKUP(C504,BDDG!$A$2:$J$100,10,FALSE))","v":"DD32"},null,null,"",38.4,5,2011,{"$f":"IFERROR(INDEX($V$2:V504,MATCH(H504&MAX(IF($H$1:H503=H504,$A$1:A503)),$H$2:H504&$A$2:A504,0))-V504,\"\")","v":85.028571428571439}]
["2011-05-31",null,861,{"$f":"IF(ISNA(VLOOKUP(C505,BDDG!$A$2:$F$100,2,FALSE)),\"\",VLOOKUP(C505,BDDG!$A$2:$F$100,2,FALSE))","v":0},{"$f":"IF(ISNA(VLOOKUP(C505,BDDG!$A$3:$J$102,3,FALSE)),\"\",VLOOKUP(C505,BDDG!$A$3:$J$102,3,FALSE))","v":"A"},{"$f":"IF(ISNA(VLOOKUP(C505,BDDG!$A$3:$J$102,4,FALSE)),\"\",VLOOKUP(C505,BDDG!$A$3:$J$102,4,FALSE))","v":106},{"$f":"IF(ISNA(VLOOKUP(C505,BDDG!$A$2:$F$100,5,FALSE)),\"\",VLOOKUP(C505,BDDG!$A$2:$F$100,5,FALSE))","v":"A11"},{"$f":"IF(ISNA(VLOOKUP(C505,BDDG!$A$2:$F$100,6,FALSE)),\"\",VLOOKUP(C505,BDDG!$A$2:$F$100,6,FALSE))","v":"AA33"},{"$f":"IF(ISERROR(VLOOKUP(C505,BDDG!$A$2:$G$100,7,FALSE)),\"\",VLOOKUP(C505,BDDG!$A$2:$G$100,7,FALSE))","v":2},{"$f":"IF(ISERROR(VLOOKUP(C505,BDDG!$A$2:$H$100,8,FALSE)),\"\",VLOOKUP(C505,BDDG!$A$2:$H$100,8,FALSE))","v":"BB33"},null,null,null,{"$f":"IF(ISERROR(VLOOKUP(C505,BDDG!$A$2:$I$100,9,FALSE)),\"\",VLOOKUP(C505,BDDG!$A$2:$I$100,9,FALSE))","v":"CC33"},10,5.8,{"$f":" IF(ISERROR(O505/P505*86.4),\"\",O505/P505*86.4)","v":148.96551724137933},{"$f":"IF(ISERROR(VLOOKUP(C505,BDDG!$A$2:$J$100,10,FALSE)),\"\",VLOOKUP(C505,BDDG!$A$2:$J$100,10,FALSE))","v":"DD33"},null,null,"",{"$f":"IF(ISERROR(SUM(M505,Q505,U505)),\"\",SUM((M505,Q505,U505)))","v":148.96551724137933},5,2011,{"$f":"IFERROR(INDEX($V$2:V505,MATCH(H505&MAX(IF($H$1:H504=H505,$A$1:A504)),$H$2:H505&$A$2:A505,0))-V505,\"\")","v":23.83448275862068}]
["2011-06-01",null,862,{"$f":"IF(ISNA(VLOOKUP(C506,BDDG!$A$2:$F$100,2,FALSE)),\"\",VLOOKUP(C506,BDDG!$A$2:$F$100,2,FALSE))","v":0},{"$f":"IF(ISNA(VLOOKUP(C506,BDDG!$A$3:$J$102,3,FALSE)),\"\",VLOOKUP(C506,BDDG!$A$3:$J$102,3,FALSE))","v":"A"},{"$f":"IF(ISNA(VLOOKUP(C506,BDDG!$A$3:$J$102,4,FALSE)),\"\",VLOOKUP(C506,BDDG!$A$3:$J$102,4,FALSE))","v":106},{"$f":"IF(ISNA(VLOOKUP(C506,BDDG!$A$2:$F$100,5,FALSE)),\"\",VLOOKUP(C506,BDDG!$A$2:$F$100,5,FALSE))","v":"A12"},{"$f":"IF(ISNA(VLOOKUP(C506,BDDG!$A$2:$F$100,6,FALSE)),\"\",VLOOKUP(C506,BDDG!$A$2:$F$100,6,FALSE))","v":"AA34"},{"$f":"IF(ISERROR(VLOOKUP(C506,BDDG!$A$2:$G$100,7,FALSE)),\"\",VLOOKUP(C506,BDDG!$A$2:$G$100,7,FALSE))","v":1},{"$f":"IF(ISERROR(VLOOKUP(C506,BDDG!$A$2:$H$100,8,FALSE)),\"\",VLOOKUP(C506,BDDG!$A$2:$H$100,8,FALSE))","v":"BB34"},9,14,{"$f":" IF(ISERROR(K506/L506*86.4),\"\",K506/L506*86.4)","v":55.542857142857152},{"$f":"IF(ISERROR(VLOOKUP(C506,BDDG!$A$2:$I$100,9,FALSE)),\"\",VLOOKUP(C506,BDDG!$A$2:$I$100,9,FALSE))","v":"CC34"},null,null,{"$f":" IF(ISERROR(O506/P506*86.4),\"\",O506/P506*86.4)","v":""},{"$f":"IF(ISERROR(VLOOKUP(C506,BDDG!$A$2:$J$100,10,FALSE)),\"\",VLOOKUP(C506,BDDG!$A$2:$J$100,10,FALSE))","v":"DD34"},null,null,"",{"$f":"IF(ISERROR(SUM(M506,Q506,U506)),\"\",SUM(M506,Q506,U506))","v":55.542857142857152},6,2011,{"$f":"IFERROR(INDEX($V$2:V506,MATCH(H506&MAX(IF($H$1:H505=H506,$A$1:A505)),$H$2:H506&$A$2:A506,0))-V506,\"\")","v":6.1714285714285708}]
["2011-06-06",null,867,{"$f":"IF(ISNA(VLOOKUP(C507,BDDG!$A$2:$F$100,2,FALSE)),\"\",VLOOKUP(C507,BDDG!$A$2:$F$100,2,FALSE))","v":0},{"$f":"IF(ISNA(VLOOKUP(C507,BDDG!$A$3:$J$102,3,FALSE)),\"\",VLOOKUP(C507,BDDG!$A$3:$J$102,3,FALSE))","v":"C"},{"$f":"IF(ISNA(VLOOKUP(C507,BDDG!$A$3:$J$102,4,FALSE)),\"\",VLOOKUP(C507,BDDG!$A$3:$J$102,4,FALSE))","v":108},{"$f":"IF(ISNA(VLOOKUP(C507,BDDG!$A$2:$F$100,5,FALSE)),\"\",VLOOKUP(C507,BDDG!$A$2:$F$100,5,FALSE))","v":"A17"},{"$f":"IF(ISNA(VLOOKUP(C507,BDDG!$A$2:$F$100,6,FALSE)),\"\",VLOOKUP(C507,BDDG!$A$2:$F$100,6,FALSE))","v":"AA43"},{"$f":"IF(ISERROR(VLOOKUP(C507,BDDG!$A$2:$G$100,7,FALSE)),\"\",VLOOKUP(C507,BDDG!$A$2:$G$100,7,FALSE))","v":1},{"$f":"IF(ISERROR(VLOOKUP(C507,BDDG!$A$2:$H$100,8,FALSE)),\"\",VLOOKUP(C507,BDDG!$A$2:$H$100,8,FALSE))","v":"BB43"},10,40,21.6,{"$f":"IF(ISERROR(VLOOKUP(C507,BDDG!$A$2:$I$100,9,FALSE)),\"\",VLOOKUP(C507,BDDG!$A$2:$I$100,9,FALSE))","v":"CC43"},null,null,null,{"$f":"IF(ISERROR(VLOOKUP(C507,BDDG!$A$2:$J$100,10,FALSE)),\"\",VLOOKUP(C507,BDDG!$A$2:$J$100,10,FALSE))","v":"DD43"},null,null,"",21.6,6,2011,{"$f":"IFERROR(INDEX($V$2:V507,MATCH(H507&MAX(IF($H$1:H506=H507,$A$1:A506)),$H$2:H507&$A$2:A507,0))-V507,\"\")","v":-2.4000000000000021}]
["2011-06-06",null,869,{"$f":"IF(ISNA(VLOOKUP(C508,BDDG!$A$2:$F$100,2,FALSE)),\"\",VLOOKUP(C508,BDDG!$A$2:$F$100,2,FALSE))","v":0},{"$f":"IF(ISNA(VLOOKUP(C508,BDDG!$A$3:$J$102,3,FALSE)),\"\",VLOOKUP(C508,BDDG!$A$3:$J$102,3,FALSE))","v":"A"},{"$f":"IF(ISNA(VLOOKUP(C508,BDDG!$A$3:$J$102,4,FALSE)),\"\",VLOOKUP(C508,BDDG!$A$3:$J$102,4,FALSE))","v":108},{"$f":"IF(ISNA(VLOOKUP(C508,BDDG!$A$2:$F$100,5,FALSE)),\"\",VLOOKUP(C508,BDDG!$A$2:$F$100,5,FALSE))","v":"A16"},{"$f":"IF(ISNA(VLOOKUP(C508,BDDG!$A$2:$F$100,6,FALSE)),\"\",VLOOKUP(C508,BDDG!$A$2:$F$100,6,FALSE))","v":"AA40"},{"$f":"IF(ISERROR(VLOOKUP(C508,BDDG!$A$2:$G$100,7,FALSE)),\"\",VLOOKUP(C508,BDDG!$A$2:$G$100,7,FALSE))","v":3},{"$f":"IF(ISERROR(VLOOKUP(C508,BDDG!$A$2:$H$100,8,FALSE)),\"\",VLOOKUP(C508,BDDG!$A$2:$H$100,8,FALSE))","v":"BB40"},1,30,2.8800000000000003,{"$f":"IF(ISERROR(VLOOKUP(C508,BDDG!$A$2:$I$100,9,FALSE)),\"\",VLOOKUP(C508,BDDG!$A$2:$I$100,9,FALSE))","v":"CC40"},null,null,{"$f":" IF(ISERROR(O508/P508*86.4),\"\",O508/P508*86.4)","v":""},{"$f":"IF(ISERROR(VLOOKUP(C508,BDDG!$A$2:$J$100,10,FALSE)),\"\",VLOOKUP(C508,BDDG!$A$2:$J$100,10,FALSE))","v":"DD40"},null,null,"",2.8800000000000003,6,2011,{"$f":"IFERROR(INDEX($V$2:V508,MATCH(H508&MAX(IF($H$1:H507=H508,$A$1:A507)),$H$2:H508&$A$2:A508,0))-V508,\"\")","v":8.64}]
["2011-06-06",null,868,{"$f":"IF(ISNA(VLOOKUP(C509,BDDG!$A$2:$F$100,2,FALSE)),\"\",VLOOKUP(C509,BDDG!$A$2:$F$100,2,FALSE))","v":0},{"$f":"IF(ISNA(VLOOKUP(C509,BDDG!$A$3:$J$102,3,FALSE)),\"\",VLOOKUP(C509,BDDG!$A$3:$J$102,3,FALSE))","v":"A"},{"$f":"IF(ISNA(VLOOKUP(C509,BDDG!$A$3:$J$102,4,FALSE)),\"\",VLOOKUP(C509,BDDG!$A$3:$J$102,4,FALSE))","v":108},{"$f":"IF(ISNA(VLOOKUP(C509,BDDG!$A$2:$F$100,5,FALSE)),\"\",VLOOKUP(C509,BDDG!$A$2:$F$100,5,FALSE))","v":"A16"},{"$f":"IF(ISNA(VLOOKUP(C509,BDDG!$A$2:$F$100,6,FALSE)),\"\",VLOOKUP(C509,BDDG!$A$2:$F$100,6,FALSE))","v":"AA39"},{"$f":"IF(ISERROR(VLOOKUP(C509,BDDG!$A$2:$G$100,7,FALSE)),\"\",VLOOKUP(C509,BDDG!$A$2:$G$100,7,FALSE))","v":2},{"$f":"IF(ISERROR(VLOOKUP(C509,BDDG!$A$2:$H$100,8,FALSE)),\"\",VLOOKUP(C509,BDDG!$A$2:$H$100,8,FALSE))","v":"BB39"},7.5,60,10.8,{"$f":"IF(ISERROR(VLOOKUP(C509,BDDG!$A$2:$I$100,9,FALSE)),\"\",VLOOKUP(C509,BDDG!$A$2:$I$100,9,FALSE))","v":"CC39"},null,null,{"$f":" IF(ISERROR(O509/P509*86.4),\"\",O509/P509*86.4)","v":""},{"$f":"IF(ISERROR(VLOOKUP(C509,BDDG!$A$2:$J$100,10,FALSE)),\"\",VLOOKUP(C509,BDDG!$A$2:$J$100,10,FALSE))","v":"DD39"},null,null,"",10.8,6,2011,{"$f":"IFERROR(INDEX($V$2:V509,MATCH(H509&MAX(IF($H$1:H508=H509,$A$1:A508)),$H$2:H509&$A$2:A509,0))-V509,\"\")","v":6.48}]
["2011-06-06",null,870,{"$f":"IF(ISNA(VLOOKUP(C510,BDDG!$A$2:$F$100,2,FALSE)),\"\",VLOOKUP(C510,BDDG!$A$2:$F$100,2,FALSE))","v":0},{"$f":"IF(ISNA(VLOOKUP(C510,BDDG!$A$3:$J$102,3,FALSE)),\"\",VLOOKUP(C510,BDDG!$A$3:$J$102,3,FALSE))","v":"A"},{"$f":"IF(ISNA(VLOOKUP(C510,BDDG!$A$3:$J$102,4,FALSE)),\"\",VLOOKUP(C510,BDDG!$A$3:$J$102,4,FALSE))","v":108},{"$f":"IF(ISNA(VLOOKUP(C510,BDDG!$A$2:$F$100,5,FALSE)),\"\",VLOOKUP(C510,BDDG!$A$2:$F$100,5,FALSE))","v":"A16"},{"$f":"IF(ISNA(VLOOKUP(C510,BDDG!$A$2:$F$100,6,FALSE)),\"\",VLOOKUP(C510,BDDG!$A$2:$F$100,6,FALSE))","v":"AA41"},{"$f":"IF(ISERROR(VLOOKUP(C510,BDDG!$A$2:$G$100,7,FALSE)),\"\",VLOOKUP(C510,BDDG!$A$2:$G$100,7,FALSE))","v":2},{"$f":"IF(ISERROR(VLOOKUP(C510,BDDG!$A$2:$H$100,8,FALSE)),\"\",VLOOKUP(C510,BDDG!$A$2:$H$100,8,FALSE))","v":"BB41"},2.5,60,3.6,{"$f":"IF(ISERROR(VLOOKUP(C510,BDDG!$A$2:$I$100,9,FALSE)),\"\",VLOOKUP(C510,BDDG!$A$2:$I$100,9,FALSE))","v":"CC41"},2,60,{"$f":" IF(ISERROR(O510/P510*86.4),\"\",O510/P510*86.4)","v":2.8800000000000003},{"$f":"IF(ISERROR(VLOOKUP(C510,BDDG!$A$2:$J$100,10,FALSE)),\"\",VLOOKUP(C510,BDDG!$A$2:$J$100,10,FALSE))","v":"DD41"},null,null,"",6.48,6,2011,{"$f":"IFERROR(INDEX($V$2:V510,MATCH(H510&MAX(IF($H$1:H509=H510,$A$1:A509)),$H$2:H510&$A$2:A510,0))-V510,\"\")","v":1.1999999999999993}]
["2011-06-06",null,866,{"$f":"IF(ISNA(VLOOKUP(C511,BDDG!$A$2:$F$100,2,FALSE)),\"\",VLOOKUP(C511,BDDG!$A$2:$F$100,2,FALSE))","v":0},{"$f":"IF(ISNA(VLOOKUP(C511,BDDG!$A$3:$J$102,3,FALSE)),\"\",VLOOKUP(C511,BDDG!$A$3:$J$102,3,FALSE))","v":"C"},{"$f":"IF(ISNA(VLOOKUP(C511,BDDG!$A$3:$J$102,4,FALSE)),\"\",VLOOKUP(C511,BDDG!$A$3:$J$102,4,FALSE))","v":108},{"$f":"IF(ISNA(VLOOKUP(C511,BDDG!$A$2:$F$100,5,FALSE)),\"\",VLOOKUP(C511,BDDG!$A$2:$F$100,5,FALSE))","v":"A17"},{"$f":"IF(ISNA(VLOOKUP(C511,BDDG!$A$2:$F$100,6,FALSE)),\"\",VLOOKUP(C511,BDDG!$A$2:$F$100,6,FALSE))","v":"AA42"},{"$f":"IF(ISERROR(VLOOKUP(C511,BDDG!$A$2:$G$100,7,FALSE)),\"\",VLOOKUP(C511,BDDG!$A$2:$G$100,7,FALSE))","v":1},{"$f":"IF(ISERROR(VLOOKUP(C511,BDDG!$A$2:$H$100,8,FALSE)),\"\",VLOOKUP(C511,BDDG!$A$2:$H$100,8,FALSE))","v":"BB42"},0.75,1,64.800000000000011,{"$f":"IF(ISERROR(VLOOKUP(C511,BDDG!$A$2:$I$100,9,FALSE)),\"\",VLOOKUP(C511,BDDG!$A$2:$I$100,9,FALSE))","v":"CC42"},null,null,null,{"$f":"IF(ISERROR(VLOOKUP(C511,BDDG!$A$2:$J$100,10,FALSE)),\"\",VLOOKUP(C511,BDDG!$A$2:$J$100,10,FALSE))","v":"DD42"},null,null,"",64.800000000000011,6,2011,{"$f":"IFERROR(INDEX($V$2:V511,MATCH(H511&MAX(IF($H$1:H510=H511,$A$1:A510)),$H$2:H511&$A$2:A511,0))-V511,\"\")","v":0}]
["2011-06-14",null,867,{"$f":"IF(ISNA(VLOOKUP(C512,BDDG!$A$2:$F$100,2,FALSE)),\"\",VLOOKUP(C512,BDDG!$A$2:$F$100,2,FALSE))","v":0},{"$f":"IF(ISNA(VLOOKUP(C512,BDDG!$A$3:$J$102,3,FALSE)),\"\",VLOOKUP(C512,BDDG!$A$3:$J$102,3,FALSE))","v":"C"},{"$f":"IF(ISNA(VLOOKUP(C512,BDDG!$A$3:$J$102,4,FALSE)),\"\",VLOOKUP(C512,BDDG!$A$3:$J$102,4,FALSE))","v":108},{"$f":"IF(ISNA(VLOOKUP(C512,BDDG!$A$2:$F$100,5,FALSE)),\"\",VLOOKUP(C512,BDDG!$A$2:$F$100,5,FALSE))","v":"A17"},{"$f":"IF(ISNA(VLOOKUP(C512,BDDG!$A$2:$F$100,6,FALSE)),\"\",VLOOKUP(C512,BDDG!$A$2:$F$100,6,FALSE))","v":"AA43"},{"$f":"IF(ISERROR(VLOOKUP(C512,BDDG!$A$2:$G$100,7,FALSE)),\"\",VLOOKUP(C512,BDDG!$A$2:$G$100,7,FALSE))","v":1},{"$f":"IF(ISERROR(VLOOKUP(C512,BDDG!$A$2:$H$100,8,FALSE)),\"\",VLOOKUP(C512,BDDG!$A$2:$H$100,8,FALSE))","v":"BB43"},10,60,14.4,{"$f":"IF(ISERROR(VLOOKUP(C512,BDDG!$A$2:$I$100,9,FALSE)),\"\",VLOOKUP(C512,BDDG!$A$2:$I$100,9,FALSE))","v":"CC43"},null,null,null,{"$f":"IF(ISERROR(VLOOKUP(C512,BDDG!$A$2:$J$100,10,FALSE)),\"\",VLOOKUP(C512,BDDG!$A$2:$J$100,10,FALSE))","v":"DD43"},null,null,"",14.4,6,2011,{"$f":"IFERROR(INDEX($V$2:V512,MATCH(H512&MAX(IF($H$1:H511=H512,$A$1:A511)),$H$2:H512&$A$2:A512,0))-V512,\"\")","v":7.2000000000000011}]
["2011-06-14",null,869,{"$f":"IF(ISNA(VLOOKUP(C513,BDDG!$A$2:$F$100,2,FALSE)),\"\",VLOOKUP(C513,BDDG!$A$2:$F$100,2,FALSE))","v":0},{"$f":"IF(ISNA(VLOOKUP(C513,BDDG!$A$3:$J$102,3,FALSE)),\"\",VLOOKUP(C513,BDDG!$A$3:$J$102,3,FALSE))","v":"A"},{"$f":"IF(ISNA(VLOOKUP(C513,BDDG!$A$3:$J$102,4,FALSE)),\"\",VLOOKUP(C513,BDDG!$A$3:$J$102,4,FALSE))","v":108},{"$f":"IF(ISNA(VLOOKUP(C513,BDDG!$A$2:$F$100,5,FALSE)),\"\",VLOOKUP(C513,BDDG!$A$2:$F$100,5,FALSE))","v":"A16"},{"$f":"IF(ISNA(VLOOKUP(C513,BDDG!$A$2:$F$100,6,FALSE)),\"\",VLOOKUP(C513,BDDG!$A$2:$F$100,6,FALSE))","v":"AA40"},{"$f":"IF(ISERROR(VLOOKUP(C513,BDDG!$A$2:$G$100,7,FALSE)),\"\",VLOOKUP(C513,BDDG!$A$2:$G$100,7,FALSE))","v":3},{"$f":"IF(ISERROR(VLOOKUP(C513,BDDG!$A$2:$H$100,8,FALSE)),\"\",VLOOKUP(C513,BDDG!$A$2:$H$100,8,FALSE))","v":"BB40"},1,35,2.4685714285714289,{"$f":"IF(ISERROR(VLOOKUP(C513,BDDG!$A$2:$I$100,9,FALSE)),\"\",VLOOKUP(C513,BDDG!$A$2:$I$100,9,FALSE))","v":"CC40"},null,null,{"$f":" IF(ISERROR(O513/P513*86.4),\"\",O513/P513*86.4)","v":""},{"$f":"IF(ISERROR(VLOOKUP(C513,BDDG!$A$2:$J$100,10,FALSE)),\"\",VLOOKUP(C513,BDDG!$A$2:$J$100,10,FALSE))","v":"DD40"},null,null,"",2.4685714285714289,6,2011,{"$f":"IFERROR(INDEX($V$2:V513,MATCH(H513&MAX(IF($H$1:H512=H513,$A$1:A512)),$H$2:H513&$A$2:A513,0))-V513,\"\")","v":0.41142857142857148}]
["2011-06-14",null,866,{"$f":"IF(ISNA(VLOOKUP(C514,BDDG!$A$2:$F$100,2,FALSE)),\"\",VLOOKUP(C514,BDDG!$A$2:$F$100,2,FALSE))","v":0},{"$f":"IF(ISNA(VLOOKUP(C514,BDDG!$A$3:$J$102,3,FALSE)),\"\",VLOOKUP(C514,BDDG!$A$3:$J$102,3,FALSE))","v":"C"},{"$f":"IF(ISNA(VLOOKUP(C514,BDDG!$A$3:$J$102,4,FALSE)),\"\",VLOOKUP(C514,BDDG!$A$3:$J$102,4,FALSE))","v":108},{"$f":"IF(ISNA(VLOOKUP(C514,BDDG!$A$2:$F$100,5,FALSE)),\"\",VLOOKUP(C514,BDDG!$A$2:$F$100,5,FALSE))","v":"A17"},{"$f":"IF(ISNA(VLOOKUP(C514,BDDG!$A$2:$F$100,6,FALSE)),\"\",VLOOKUP(C514,BDDG!$A$2:$F$100,6,FALSE))","v":"AA42"},{"$f":"IF(ISERROR(VLOOKUP(C514,BDDG!$A$2:$G$100,7,FALSE)),\"\",VLOOKUP(C514,BDDG!$A$2:$G$100,7,FALSE))","v":1},{"$f":"IF(ISERROR(VLOOKUP(C514,BDDG!$A$2:$H$100,8,FALSE)),\"\",VLOOKUP(C514,BDDG!$A$2:$H$100,8,FALSE))","v":"BB42"},0.6,1,51.84,{"$f":"IF(ISERROR(VLOOKUP(C514,BDDG!$A$2:$I$100,9,FALSE)),\"\",VLOOKUP(C514,BDDG!$A$2:$I$100,9,FALSE))","v":"CC42"},null,null,null,{"$f":"IF(ISERROR(VLOOKUP(C514,BDDG!$A$2:$J$100,10,FALSE)),\"\",VLOOKUP(C514,BDDG!$A$2:$J$100,10,FALSE))","v":"DD42"},null,null,"",51.84,{"$f":"MONTH(A:A)","v":6},{"$f":"YEAR(A:A)","v":2011},{"$f":"IFERROR(INDEX($V$2:V514,MATCH(H514&MAX(IF($H$1:H513=H514,$A$1:A513)),$H$2:H514&$A$2:A514,0))-V514,\"\")","v":12.960000000000008}]
["2011-06-15",null,831,{"$f":"IF(ISNA(VLOOKUP(C515,BDDG!$A$2:$F$100,2,FALSE)),\"\",VLOOKUP(C515,BDDG!$A$2:$F$100,2,FALSE))","v":0},{"$f":"IF(ISNA(VLOOKUP(C515,BDDG!$A$3:$J$102,3,FALSE)),\"\",VLOOKUP(C515,BDDG!$A$3:$J$102,3,FALSE))","v":"A"},{"$f":"IF(ISNA(VLOOKUP(C515,BDDG!$A$3:$J$102,4,FALSE)),\"\",VLOOKUP(C515,BDDG!$A$3:$J$102,4,FALSE))","v":106},{"$f":"IF(ISNA(VLOOKUP(C515,BDDG!$A$2:$F$100,5,FALSE)),\"\",VLOOKUP(C515,BDDG!$A$2:$F$100,5,FALSE))","v":"A1"},{"$f":"IF(ISNA(VLOOKUP(C515,BDDG!$A$2:$F$100,6,FALSE)),\"\",VLOOKUP(C515,BDDG!$A$2:$F$100,6,FALSE))","v":"AA1"},{"$f":"IF(ISERROR(VLOOKUP(C515,BDDG!$A$2:$G$100,7,FALSE)),\"\",VLOOKUP(C515,BDDG!$A$2:$G$100,7,FALSE))","v":1},{"$f":"IF(ISERROR(VLOOKUP(C515,BDDG!$A$2:$H$100,8,FALSE)),\"\",VLOOKUP(C515,BDDG!$A$2:$H$100,8,FALSE))","v":"BB1"},10,10,86.4,{"$f":"IF(ISERROR(VLOOKUP(C515,BDDG!$A$2:$I$100,9,FALSE)),\"\",VLOOKUP(C515,BDDG!$A$2:$I$100,9,FALSE))","v":"CC1"},null,null,{"$f":" IF(ISERROR(O515/P515*86.4),\"\",O515/P515*86.4)","v":""},{"$f":"IF(ISERROR(VLOOKUP(C515,BDDG!$A$2:$J$100,10,FALSE)),\"\",VLOOKUP(C515,BDDG!$A$2:$J$100,10,FALSE))","v":"DD1"},null,null,"",86.4,6,2011,{"$f":"IFERROR(INDEX($V$2:V515,MATCH(H515&MAX(IF($H$1:H514=H515,$A$1:A514)),$H$2:H515&$A$2:A515,0))-V515,\"\")","v":14.06511627906977}]
["2011-06-15",null,822,{"$f":"IF(ISNA(VLOOKUP(C516,BDDG!$A$2:$F$100,2,FALSE)),\"\",VLOOKUP(C516,BDDG!$A$2:$F$100,2,FALSE))","v":0},{"$f":"IF(ISNA(VLOOKUP(C516,BDDG!$A$3:$J$102,3,FALSE)),\"\",VLOOKUP(C516,BDDG!$A$3:$J$102,3,FALSE))","v":"A"},{"$f":"IF(ISNA(VLOOKUP(C516,BDDG!$A$3:$J$102,4,FALSE)),\"\",VLOOKUP(C516,BDDG!$A$3:$J$102,4,FALSE))","v":106},{"$f":"IF(ISNA(VLOOKUP(C516,BDDG!$A$2:$F$100,5,FALSE)),\"\",VLOOKUP(C516,BDDG!$A$2:$F$100,5,FALSE))","v":"A4"},{"$f":"IF(ISNA(VLOOKUP(C516,BDDG!$A$2:$F$100,6,FALSE)),\"\",VLOOKUP(C516,BDDG!$A$2:$F$100,6,FALSE))","v":"AA12"},{"$f":"IF(ISERROR(VLOOKUP(C516,BDDG!$A$2:$G$100,7,FALSE)),\"\",VLOOKUP(C516,BDDG!$A$2:$G$100,7,FALSE))","v":1},{"$f":"IF(ISERROR(VLOOKUP(C516,BDDG!$A$2:$H$100,8,FALSE)),\"\",VLOOKUP(C516,BDDG!$A$2:$H$100,8,FALSE))","v":"BB12"},10,10,86.4,{"$f":"IF(ISERROR(VLOOKUP(C516,BDDG!$A$2:$I$100,9,FALSE)),\"\",VLOOKUP(C516,BDDG!$A$2:$I$100,9,FALSE))","v":"CC12"},null,null,"",{"$f":"IF(ISERROR(VLOOKUP(C516,BDDG!$A$2:$J$100,10,FALSE)),\"\",VLOOKUP(C516,BDDG!$A$2:$J$100,10,FALSE))","v":"DD12"},null,null,"",86.4,6,2011,{"$f":"IFERROR(INDEX($V$2:V516,MATCH(H516&MAX(IF($H$1:H515=H516,$A$1:A515)),$H$2:H516&$A$2:A516,0))-V516,\"\")","v":86.4}]
["2011-06-20",null,869,{"$f":"IF(ISNA(VLOOKUP(C517,BDDG!$A$2:$F$100,2,FALSE)),\"\",VLOOKUP(C517,BDDG!$A$2:$F$100,2,FALSE))","v":0},{"$f":"IF(ISNA(VLOOKUP(C517,BDDG!$A$3:$J$102,3,FALSE)),\"\",VLOOKUP(C517,BDDG!$A$3:$J$102,3,FALSE))","v":"A"},{"$f":"IF(ISNA(VLOOKUP(C517,BDDG!$A$3:$J$102,4,FALSE)),\"\",VLOOKUP(C517,BDDG!$A$3:$J$102,4,FALSE))","v":108},{"$f":"IF(ISNA(VLOOKUP(C517,BDDG!$A$2:$F$100,5,FALSE)),\"\",VLOOKUP(C517,BDDG!$A$2:$F$100,5,FALSE))","v":"A16"},{"$f":"IF(ISNA(VLOOKUP(C517,BDDG!$A$2:$F$100,6,FALSE)),\"\",VLOOKUP(C517,BDDG!$A$2:$F$100,6,FALSE))","v":"AA40"},{"$f":"IF(ISERROR(VLOOKUP(C517,BDDG!$A$2:$G$100,7,FALSE)),\"\",VLOOKUP(C517,BDDG!$A$2:$G$100,7,FALSE))","v":3},{"$f":"IF(ISERROR(VLOOKUP(C517,BDDG!$A$2:$H$100,8,FALSE)),\"\",VLOOKUP(C517,BDDG!$A$2:$H$100,8,FALSE))","v":"BB40"},1,90,0.96000000000000008,{"$f":"IF(ISERROR(VLOOKUP(C517,BDDG!$A$2:$I$100,9,FALSE)),\"\",VLOOKUP(C517,BDDG!$A$2:$I$100,9,FALSE))","v":"CC40"},null,null,"",{"$f":"IF(ISERROR(VLOOKUP(C517,BDDG!$A$2:$J$100,10,FALSE)),\"\",VLOOKUP(C517,BDDG!$A$2:$J$100,10,FALSE))","v":"DD40"},null,null,"",0.96000000000000008,6,2011,{"$f":"IFERROR(INDEX($V$2:V517,MATCH(H517&MAX(IF($H$1:H516=H517,$A$1:A516)),$H$2:H517&$A$2:A517,0))-V517,\"\")","v":1.5085714285714289}]
["2011-06-27",null,856,{"$f":"IF(ISNA(VLOOKUP(C518,BDDG!$A$2:$F$100,2,FALSE)),\"\",VLOOKUP(C518,BDDG!$A$2:$F$100,2,FALSE))","v":0},{"$f":"IF(ISNA(VLOOKUP(C518,BDDG!$A$3:$J$102,3,FALSE)),\"\",VLOOKUP(C518,BDDG!$A$3:$J$102,3,FALSE))","v":"A"},{"$f":"IF(ISNA(VLOOKUP(C518,BDDG!$A$3:$J$102,4,FALSE)),\"\",VLOOKUP(C518,BDDG!$A$3:$J$102,4,FALSE))","v":106},{"$f":"IF(ISNA(VLOOKUP(C518,BDDG!$A$2:$F$100,5,FALSE)),\"\",VLOOKUP(C518,BDDG!$A$2:$F$100,5,FALSE))","v":"A9"},{"$f":"IF(ISNA(VLOOKUP(C518,BDDG!$A$2:$F$100,6,FALSE)),\"\",VLOOKUP(C518,BDDG!$A$2:$F$100,6,FALSE))","v":"AA27"},{"$f":"IF(ISERROR(VLOOKUP(C518,BDDG!$A$2:$G$100,7,FALSE)),\"\",VLOOKUP(C518,BDDG!$A$2:$G$100,7,FALSE))","v":2},{"$f":"IF(ISERROR(VLOOKUP(C518,BDDG!$A$2:$H$100,8,FALSE)),\"\",VLOOKUP(C518,BDDG!$A$2:$H$100,8,FALSE))","v":"BB27"},10,47,18.382978723404257,{"$f":"IF(ISERROR(VLOOKUP(C518,BDDG!$A$2:$I$100,9,FALSE)),\"\",VLOOKUP(C518,BDDG!$A$2:$I$100,9,FALSE))","v":"CC27"},9,7,111.0857142857143,{"$f":"IF(ISERROR(VLOOKUP(C518,BDDG!$A$2:$J$100,10,FALSE)),\"\",VLOOKUP(C518,BDDG!$A$2:$J$100,10,FALSE))","v":"DD27"},null,null,"",129.46869300911857,6,2011,{"$f":"IFERROR(INDEX($V$2:V518,MATCH(H518&MAX(IF($H$1:H517=H518,$A$1:A517)),$H$2:H518&$A$2:A518,0))-V518,\"\")","v":64.328516293207059}]
["2011-07-08",null,832,{"$f":"IF(ISNA(VLOOKUP(C519,BDDG!$A$2:$F$100,2,FALSE)),\"\",VLOOKUP(C519,BDDG!$A$2:$F$100,2,FALSE))","v":0},{"$f":"IF(ISNA(VLOOKUP(C519,BDDG!$A$3:$J$102,3,FALSE)),\"\",VLOOKUP(C519,BDDG!$A$3:$J$102,3,FALSE))","v":"A"},{"$f":"IF(ISNA(VLOOKUP(C519,BDDG!$A$3:$J$102,4,FALSE)),\"\",VLOOKUP(C519,BDDG!$A$3:$J$102,4,FALSE))","v":106},{"$f":"IF(ISNA(VLOOKUP(C519,BDDG!$A$2:$F$100,5,FALSE)),\"\",VLOOKUP(C519,BDDG!$A$2:$F$100,5,FALSE))","v":"A2"},{"$f":"IF(ISNA(VLOOKUP(C519,BDDG!$A$2:$F$100,6,FALSE)),\"\",VLOOKUP(C519,BDDG!$A$2:$F$100,6,FALSE))","v":"AA2"},{"$f":"IF(ISERROR(VLOOKUP(C519,BDDG!$A$2:$G$100,7,FALSE)),\"\",VLOOKUP(C519,BDDG!$A$2:$G$100,7,FALSE))","v":1},{"$f":"IF(ISERROR(VLOOKUP(C519,BDDG!$A$2:$H$100,8,FALSE)),\"\",VLOOKUP(C519,BDDG!$A$2:$H$100,8,FALSE))","v":"BB2"},10,18,48.000000000000007,{"$f":"IF(ISERROR(VLOOKUP(C519,BDDG!$A$2:$I$100,9,FALSE)),\"\",VLOOKUP(C519,BDDG!$A$2:$I$100,9,FALSE))","v":"CC2"},null,null,"",{"$f":"IF(ISERROR(VLOOKUP(C519,BDDG!$A$2:$J$100,10,FALSE)),\"\",VLOOKUP(C519,BDDG!$A$2:$J$100,10,FALSE))","v":"DD2"},null,null,"",48.000000000000007,7,2011,{"$f":"IFERROR(INDEX($V$2:V519,MATCH(H519&MAX(IF($H$1:H518=H519,$A$1:A518)),$H$2:H519&$A$2:A519,0))-V519,\"\")","v":13.714285714285715}]
["2011-07-08",null,833,{"$f":"IF(ISNA(VLOOKUP(C520,BDDG!$A$2:$F$100,2,FALSE)),\"\",VLOOKUP(C520,BDDG!$A$2:$F$100,2,FALSE))","v":0},{"$f":"IF(ISNA(VLOOKUP(C520,BDDG!$A$3:$J$102,3,FALSE)),\"\",VLOOKUP(C520,BDDG!$A$3:$J$102,3,FALSE))","v":"A"},{"$f":"IF(ISNA(VLOOKUP(C520,BDDG!$A$3:$J$102,4,FALSE)),\"\",VLOOKUP(C520,BDDG!$A$3:$J$102,4,FALSE))","v":106},{"$f":"IF(ISNA(VLOOKUP(C520,BDDG!$A$2:$F$100,5,FALSE)),\"\",VLOOKUP(C520,BDDG!$A$2:$F$100,5,FALSE))","v":"A2"},{"$f":"IF(ISNA(VLOOKUP(C520,BDDG!$A$2:$F$100,6,FALSE)),\"\",VLOOKUP(C520,BDDG!$A$2:$F$100,6,FALSE))","v":"AA3"},{"$f":"IF(ISERROR(VLOOKUP(C520,BDDG!$A$2:$G$100,7,FALSE)),\"\",VLOOKUP(C520,BDDG!$A$2:$G$100,7,FALSE))","v":1},{"$f":"IF(ISERROR(VLOOKUP(C520,BDDG!$A$2:$H$100,8,FALSE)),\"\",VLOOKUP(C520,BDDG!$A$2:$H$100,8,FALSE))","v":"BB3"},10,33,26.181818181818183,{"$f":"IF(ISERROR(VLOOKUP(C520,BDDG!$A$2:$I$100,9,FALSE)),\"\",VLOOKUP(C520,BDDG!$A$2:$I$100,9,FALSE))","v":"CC3"},null,null,"",{"$f":"IF(ISERROR(VLOOKUP(C520,BDDG!$A$2:$J$100,10,FALSE)),\"\",VLOOKUP(C520,BDDG!$A$2:$J$100,10,FALSE))","v":"DD3"},null,null,"",26.181818181818183,7,2011,{"$f":"IFERROR(INDEX($V$2:V520,MATCH(H520&MAX(IF($H$1:H519=H520,$A$1:A519)),$H$2:H520&$A$2:A520,0))-V520,\"\")","v":13.09090909090909}]
["2011-07-08",null,834,{"$f":"IF(ISNA(VLOOKUP(C521,BDDG!$A$2:$F$100,2,FALSE)),\"\",VLOOKUP(C521,BDDG!$A$2:$F$100,2,FALSE))","v":0},{"$f":"IF(ISNA(VLOOKUP(C521,BDDG!$A$3:$J$102,3,FALSE)),\"\",VLOOKUP(C521,BDDG!$A$3:$J$102,3,FALSE))","v":"A"},{"$f":"IF(ISNA(VLOOKUP(C521,BDDG!$A$3:$J$102,4,FALSE)),\"\",VLOOKUP(C521,BDDG!$A$3:$J$102,4,FALSE))","v":106},{"$f":"IF(ISNA(VLOOKUP(C521,BDDG!$A$2:$F$100,5,FALSE)),\"\",VLOOKUP(C521,BDDG!$A$2:$F$100,5,FALSE))","v":"A2"},{"$f":"IF(ISNA(VLOOKUP(C521,BDDG!$A$2:$F$100,6,FALSE)),\"\",VLOOKUP(C521,BDDG!$A$2:$F$100,6,FALSE))","v":"AA4"},{"$f":"IF(ISERROR(VLOOKUP(C521,BDDG!$A$2:$G$100,7,FALSE)),\"\",VLOOKUP(C521,BDDG!$A$2:$G$100,7,FALSE))","v":1},{"$f":"IF(ISERROR(VLOOKUP(C521,BDDG!$A$2:$H$100,8,FALSE)),\"\",VLOOKUP(C521,BDDG!$A$2:$H$100,8,FALSE))","v":"BB4"},10,55,15.709090909090911,{"$f":"IF(ISERROR(VLOOKUP(C521,BDDG!$A$2:$I$100,9,FALSE)),\"\",VLOOKUP(C521,BDDG!$A$2:$I$100,9,FALSE))","v":"CC4"},null,null,"",{"$f":"IF(ISERROR(VLOOKUP(C521,BDDG!$A$2:$J$100,10,FALSE)),\"\",VLOOKUP(C521,BDDG!$A$2:$J$100,10,FALSE))","v":"DD4"},null,null,"",15.709090909090911,7,2011,{"$f":"IFERROR(INDEX($V$2:V521,MATCH(H521&MAX(IF($H$1:H520=H521,$A$1:A520)),$H$2:H521&$A$2:A521,0))-V521,\"\")","v":5.3640798226164073}]
["2011-07-08",null,835,{"$f":"IF(ISNA(VLOOKUP(C522,BDDG!$A$2:$F$100,2,FALSE)),\"\",VLOOKUP(C522,BDDG!$A$2:$F$100,2,FALSE))","v":0},{"$f":"IF(ISNA(VLOOKUP(C522,BDDG!$A$3:$J$102,3,FALSE)),\"\",VLOOKUP(C522,BDDG!$A$3:$J$102,3,FALSE))","v":"A"},{"$f":"IF(ISNA(VLOOKUP(C522,BDDG!$A$3:$J$102,4,FALSE)),\"\",VLOOKUP(C522,BDDG!$A$3:$J$102,4,FALSE))","v":106},{"$f":"IF(ISNA(VLOOKUP(C522,BDDG!$A$2:$F$100,5,FALSE)),\"\",VLOOKUP(C522,BDDG!$A$2:$F$100,5,FALSE))","v":"A3"},{"$f":"IF(ISNA(VLOOKUP(C522,BDDG!$A$2:$F$100,6,FALSE)),\"\",VLOOKUP(C522,BDDG!$A$2:$F$100,6,FALSE))","v":"AA5"},{"$f":"IF(ISERROR(VLOOKUP(C522,BDDG!$A$2:$G$100,7,FALSE)),\"\",VLOOKUP(C522,BDDG!$A$2:$G$100,7,FALSE))","v":1},{"$f":"IF(ISERROR(VLOOKUP(C522,BDDG!$A$2:$H$100,8,FALSE)),\"\",VLOOKUP(C522,BDDG!$A$2:$H$100,8,FALSE))","v":"BB5"},10,301,2.8704318936877082,{"$f":"IF(ISERROR(VLOOKUP(C522,BDDG!$A$2:$I$100,9,FALSE)),\"\",VLOOKUP(C522,BDDG!$A$2:$I$100,9,FALSE))","v":"CC5"},null,null,"",{"$f":"IF(ISERROR(VLOOKUP(C522,BDDG!$A$2:$J$100,10,FALSE)),\"\",VLOOKUP(C522,BDDG!$A$2:$J$100,10,FALSE))","v":"DD5"},null,null,"",2.8704318936877082,7,2011,{"$f":"IFERROR(INDEX($V$2:V522,MATCH(H522&MAX(IF($H$1:H521=H522,$A$1:A521)),$H$2:H522&$A$2:A522,0))-V522,\"\")","v":1.2438538205980065}]
["2011-07-20",null,862,{"$f":"IF(ISNA(VLOOKUP(C523,BDDG!$A$2:$F$100,2,FALSE)),\"\",VLOOKUP(C523,BDDG!$A$2:$F$100,2,FALSE))","v":0},{"$f":"IF(ISNA(VLOOKUP(C523,BDDG!$A$3:$J$102,3,FALSE)),\"\",VLOOKUP(C523,BDDG!$A$3:$J$102,3,FALSE))","v":"A"},{"$f":"IF(ISNA(VLOOKUP(C523,BDDG!$A$3:$J$102,4,FALSE)),\"\",VLOOKUP(C523,BDDG!$A$3:$J$102,4,FALSE))","v":106},{"$f":"IF(ISNA(VLOOKUP(C523,BDDG!$A$2:$F$100,5,FALSE)),\"\",VLOOKUP(C523,BDDG!$A$2:$F$100,5,FALSE))","v":"A12"},{"$f":"IF(ISNA(VLOOKUP(C523,BDDG!$A$2:$F$100,6,FALSE)),\"\",VLOOKUP(C523,BDDG!$A$2:$F$100,6,FALSE))","v":"AA34"},{"$f":"IF(ISERROR(VLOOKUP(C523,BDDG!$A$2:$G$100,7,FALSE)),\"\",VLOOKUP(C523,BDDG!$A$2:$G$100,7,FALSE))","v":1},{"$f":"IF(ISERROR(VLOOKUP(C523,BDDG!$A$2:$H$100,8,FALSE)),\"\",VLOOKUP(C523,BDDG!$A$2:$H$100,8,FALSE))","v":"BB34"},10,14,61.714285714285722,{"$f":"IF(ISERROR(VLOOKUP(C523,BDDG!$A$2:$I$100,9,FALSE)),\"\",VLOOKUP(C523,BDDG!$A$2:$I$100,9,FALSE))","v":"CC34"},null,null,"",{"$f":"IF(ISERROR(VLOOKUP(C523,BDDG!$A$2:$J$100,10,FALSE)),\"\",VLOOKUP(C523,BDDG!$A$2:$J$100,10,FALSE))","v":"DD34"},null,null,"",61.714285714285722,7,2011,{"$f":"IFERROR(INDEX($V$2:V523,MATCH(H523&MAX(IF($H$1:H522=H523,$A$1:A522)),$H$2:H523&$A$2:A523,0))-V523,\"\")","v":-6.1714285714285708}]
["2011-07-21",null,860,{"$f":"IF(ISNA(VLOOKUP(C524,BDDG!$A$2:$F$100,2,FALSE)),\"\",VLOOKUP(C524,BDDG!$A$2:$F$100,2,FALSE))","v":0},{"$f":"IF(ISNA(VLOOKUP(C524,BDDG!$A$3:$J$102,3,FALSE)),\"\",VLOOKUP(C524,BDDG!$A$3:$J$102,3,FALSE))","v":"A"},{"$f":"IF(ISNA(VLOOKUP(C524,BDDG!$A$3:$J$102,4,FALSE)),\"\",VLOOKUP(C524,BDDG!$A$3:$J$102,4,FALSE))","v":106},{"$f":"IF(ISNA(VLOOKUP(C524,BDDG!$A$2:$F$100,5,FALSE)),\"\",VLOOKUP(C524,BDDG!$A$2:$F$100,5,FALSE))","v":"A11"},{"$f":"IF(ISNA(VLOOKUP(C524,BDDG!$A$2:$F$100,6,FALSE)),\"\",VLOOKUP(C524,BDDG!$A$2:$F$100,6,FALSE))","v":"AA32"},{"$f":"IF(ISERROR(VLOOKUP(C524,BDDG!$A$2:$G$100,7,FALSE)),\"\",VLOOKUP(C524,BDDG!$A$2:$G$100,7,FALSE))","v":2},{"$f":"IF(ISERROR(VLOOKUP(C524,BDDG!$A$2:$H$100,8,FALSE)),\"\",VLOOKUP(C524,BDDG!$A$2:$H$100,8,FALSE))","v":"BB32"},10,20,43.2,{"$f":"IF(ISERROR(VLOOKUP(C524,BDDG!$A$2:$I$100,9,FALSE)),\"\",VLOOKUP(C524,BDDG!$A$2:$I$100,9,FALSE))","v":"CC32"},null,null,"",{"$f":"IF(ISERROR(VLOOKUP(C524,BDDG!$A$2:$J$100,10,FALSE)),\"\",VLOOKUP(C524,BDDG!$A$2:$J$100,10,FALSE))","v":"DD32"},null,null,"",43.2,7,2011,{"$f":"IFERROR(INDEX($V$2:V524,MATCH(H524&MAX(IF($H$1:H523=H524,$A$1:A523)),$H$2:H524&$A$2:A524,0))-V524,\"\")","v":-4.8000000000000043}]
["2011-07-21",null,861,{"$f":"IF(ISNA(VLOOKUP(C525,BDDG!$A$2:$F$100,2,FALSE)),\"\",VLOOKUP(C525,BDDG!$A$2:$F$100,2,FALSE))","v":0},{"$f":"IF(ISNA(VLOOKUP(C525,BDDG!$A$3:$J$102,3,FALSE)),\"\",VLOOKUP(C525,BDDG!$A$3:$J$102,3,FALSE))","v":"A"},{"$f":"IF(ISNA(VLOOKUP(C525,BDDG!$A$3:$J$102,4,FALSE)),\"\",VLOOKUP(C525,BDDG!$A$3:$J$102,4,FALSE))","v":106},{"$f":"IF(ISNA(VLOOKUP(C525,BDDG!$A$2:$F$100,5,FALSE)),\"\",VLOOKUP(C525,BDDG!$A$2:$F$100,5,FALSE))","v":"A11"},{"$f":"IF(ISNA(VLOOKUP(C525,BDDG!$A$2:$F$100,6,FALSE)),\"\",VLOOKUP(C525,BDDG!$A$2:$F$100,6,FALSE))","v":"AA33"},{"$f":"IF(ISERROR(VLOOKUP(C525,BDDG!$A$2:$G$100,7,FALSE)),\"\",VLOOKUP(C525,BDDG!$A$2:$G$100,7,FALSE))","v":2},{"$f":"IF(ISERROR(VLOOKUP(C525,BDDG!$A$2:$H$100,8,FALSE)),\"\",VLOOKUP(C525,BDDG!$A$2:$H$100,8,FALSE))","v":"BB33"},null,null,null,{"$f":"IF(ISERROR(VLOOKUP(C525,BDDG!$A$2:$I$100,9,FALSE)),\"\",VLOOKUP(C525,BDDG!$A$2:$I$100,9,FALSE))","v":"CC33"},10,5,172.8,{"$f":"IF(ISERROR(VLOOKUP(C525,BDDG!$A$2:$J$100,10,FALSE)),\"\",VLOOKUP(C525,BDDG!$A$2:$J$100,10,FALSE))","v":"DD33"},null,null,"",{"$f":"IF(ISERROR(SUM(M525,Q525,U525)),\"\",SUM((M525,Q525,U525)))","v":172.8},7,2011,{"$f":"IFERROR(INDEX($V$2:V525,MATCH(H525&MAX(IF($H$1:H524=H525,$A$1:A524)),$H$2:H525&$A$2:A525,0))-V525,\"\")","v":-23.83448275862068}]
["2011-08-11",null,867,{"$f":"IF(ISNA(VLOOKUP(C526,BDDG!$A$2:$F$100,2,FALSE)),\"\",VLOOKUP(C526,BDDG!$A$2:$F$100,2,FALSE))","v":0},{"$f":"IF(ISNA(VLOOKUP(C526,BDDG!$A$3:$J$102,3,FALSE)),\"\",VLOOKUP(C526,BDDG!$A$3:$J$102,3,FALSE))","v":"C"},{"$f":"IF(ISNA(VLOOKUP(C526,BDDG!$A$3:$J$102,4,FALSE)),\"\",VLOOKUP(C526,BDDG!$A$3:$J$102,4,FALSE))","v":108},{"$f":"IF(ISNA(VLOOKUP(C526,BDDG!$A$2:$F$100,5,FALSE)),\"\",VLOOKUP(C526,BDDG!$A$2:$F$100,5,FALSE))","v":"A17"},{"$f":"IF(ISNA(VLOOKUP(C526,BDDG!$A$2:$F$100,6,FALSE)),\"\",VLOOKUP(C526,BDDG!$A$2:$F$100,6,FALSE))","v":"AA43"},{"$f":"IF(ISERROR(VLOOKUP(C526,BDDG!$A$2:$G$100,7,FALSE)),\"\",VLOOKUP(C526,BDDG!$A$2:$G$100,7,FALSE))","v":1},{"$f":"IF(ISERROR(VLOOKUP(C526,BDDG!$A$2:$H$100,8,FALSE)),\"\",VLOOKUP(C526,BDDG!$A$2:$H$100,8,FALSE))","v":"BB43"},10,31,{"$f":" IF(ISERROR(K526/L526*86.4),\"\",K526/L526*86.4)","v":27.870967741935484},{"$f":"IF(ISERROR(VLOOKUP(C526,BDDG!$A$2:$I$100,9,FALSE)),\"\",VLOOKUP(C526,BDDG!$A$2:$I$100,9,FALSE))","v":"CC43"},null,null,null,{"$f":"IF(ISERROR(VLOOKUP(C526,BDDG!$A$2:$J$100,10,FALSE)),\"\",VLOOKUP(C526,BDDG!$A$2:$J$100,10,FALSE))","v":"DD43"},null,null,"",{"$f":"IF(ISERROR(SUM(M526,Q526,U526)),\"\",SUM(M526,Q526,U526))","v":27.870967741935484},8,2011,{"$f":"IFERROR(INDEX($V$2:V526,MATCH(H526&MAX(IF($H$1:H525=H526,$A$1:A525)),$H$2:H526&$A$2:A526,0))-V526,\"\")","v":-13.470967741935484}]
["2011-08-17",null,850,{"$f":"IF(ISNA(VLOOKUP(C527,BDDG!$A$2:$F$100,2,FALSE)),\"\",VLOOKUP(C527,BDDG!$A$2:$F$100,2,FALSE))","v":0},{"$f":"IF(ISNA(VLOOKUP(C527,BDDG!$A$3:$J$102,3,FALSE)),\"\",VLOOKUP(C527,BDDG!$A$3:$J$102,3,FALSE))","v":"B"},{"$f":"IF(ISNA(VLOOKUP(C527,BDDG!$A$3:$J$102,4,FALSE)),\"\",VLOOKUP(C527,BDDG!$A$3:$J$102,4,FALSE))","v":106},{"$f":"IF(ISNA(VLOOKUP(C527,BDDG!$A$2:$F$100,5,FALSE)),\"\",VLOOKUP(C527,BDDG!$A$2:$F$100,5,FALSE))","v":"A8"},{"$f":"IF(ISNA(VLOOKUP(C527,BDDG!$A$2:$F$100,6,FALSE)),\"\",VLOOKUP(C527,BDDG!$A$2:$F$100,6,FALSE))","v":"AA20"},{"$f":"IF(ISERROR(VLOOKUP(C527,BDDG!$A$2:$G$100,7,FALSE)),\"\",VLOOKUP(C527,BDDG!$A$2:$G$100,7,FALSE))","v":1},{"$f":"IF(ISERROR(VLOOKUP(C527,BDDG!$A$2:$H$100,8,FALSE)),\"\",VLOOKUP(C527,BDDG!$A$2:$H$100,8,FALSE))","v":"BB20"},4,8,43.2,{"$f":"IF(ISERROR(VLOOKUP(C527,BDDG!$A$2:$I$100,9,FALSE)),\"\",VLOOKUP(C527,BDDG!$A$2:$I$100,9,FALSE))","v":"CC20"},null,null,{"$f":" IF(ISERROR(O527/P527*86.4),\"\",O527/P527*86.4)","v":""},{"$f":"IF(ISERROR(VLOOKUP(C527,BDDG!$A$2:$J$100,10,FALSE)),\"\",VLOOKUP(C527,BDDG!$A$2:$J$100,10,FALSE))","v":"DD20"},null,null,"",43.2,8,2011,{"$f":"IFERROR(INDEX($V$2:V527,MATCH(H527&MAX(IF($H$1:H526=H527,$A$1:A526)),$H$2:H527&$A$2:A527,0))-V527,\"\")","v":8.64}]
["2011-08-18",null,835,{"$f":"IF(ISNA(VLOOKUP(C528,BDDG!$A$2:$F$100,2,FALSE)),\"\",VLOOKUP(C528,BDDG!$A$2:$F$100,2,FALSE))","v":0},{"$f":"IF(ISNA(VLOOKUP(C528,BDDG!$A$3:$J$102,3,FALSE)),\"\",VLOOKUP(C528,BDDG!$A$3:$J$102,3,FALSE))","v":"A"},{"$f":"IF(ISNA(VLOOKUP(C528,BDDG!$A$3:$J$102,4,FALSE)),\"\",VLOOKUP(C528,BDDG!$A$3:$J$102,4,FALSE))","v":106},{"$f":"IF(ISNA(VLOOKUP(C528,BDDG!$A$2:$F$100,5,FALSE)),\"\",VLOOKUP(C528,BDDG!$A$2:$F$100,5,FALSE))","v":"A3"},{"$f":"IF(ISNA(VLOOKUP(C528,BDDG!$A$2:$F$100,6,FALSE)),\"\",VLOOKUP(C528,BDDG!$A$2:$F$100,6,FALSE))","v":"AA5"},{"$f":"IF(ISERROR(VLOOKUP(C528,BDDG!$A$2:$G$100,7,FALSE)),\"\",VLOOKUP(C528,BDDG!$A$2:$G$100,7,FALSE))","v":1},{"$f":"IF(ISERROR(VLOOKUP(C528,BDDG!$A$2:$H$100,8,FALSE)),\"\",VLOOKUP(C528,BDDG!$A$2:$H$100,8,FALSE))","v":"BB5"},1.5,60,2.16,{"$f":"IF(ISERROR(VLOOKUP(C528,BDDG!$A$2:$I$100,9,FALSE)),\"\",VLOOKUP(C528,BDDG!$A$2:$I$100,9,FALSE))","v":"CC5"},null,null,"",{"$f":"IF(ISERROR(VLOOKUP(C528,BDDG!$A$2:$J$100,10,FALSE)),\"\",VLOOKUP(C528,BDDG!$A$2:$J$100,10,FALSE))","v":"DD5"},null,null,"",2.16,8,2011,{"$f":"IFERROR(INDEX($V$2:V528,MATCH(H528&MAX(IF($H$1:H527=H528,$A$1:A527)),$H$2:H528&$A$2:A528,0))-V528,\"\")","v":0.71043189368770809}]
["2011-08-19",null,839,{"$f":"IF(ISNA(VLOOKUP(C529,BDDG!$A$2:$F$100,2,FALSE)),\"\",VLOOKUP(C529,BDDG!$A$2:$F$100,2,FALSE))","v":0},{"$f":"IF(ISNA(VLOOKUP(C529,BDDG!$A$3:$J$102,3,FALSE)),\"\",VLOOKUP(C529,BDDG!$A$3:$J$102,3,FALSE))","v":"A"},{"$f":"IF(ISNA(VLOOKUP(C529,BDDG!$A$3:$J$102,4,FALSE)),\"\",VLOOKUP(C529,BDDG!$A$3:$J$102,4,FALSE))","v":106},{"$f":"IF(ISNA(VLOOKUP(C529,BDDG!$A$2:$F$100,5,FALSE)),\"\",VLOOKUP(C529,BDDG!$A$2:$F$100,5,FALSE))","v":"A3"},{"$f":"IF(ISNA(VLOOKUP(C529,BDDG!$A$2:$F$100,6,FALSE)),\"\",VLOOKUP(C529,BDDG!$A$2:$F$100,6,FALSE))","v":"AA10"},{"$f":"IF(ISERROR(VLOOKUP(C529,BDDG!$A$2:$G$100,7,FALSE)),\"\",VLOOKUP(C529,BDDG!$A$2:$G$100,7,FALSE))","v":2},{"$f":"IF(ISERROR(VLOOKUP(C529,BDDG!$A$2:$H$100,8,FALSE)),\"\",VLOOKUP(C529,BDDG!$A$2:$H$100,8,FALSE))","v":"BB10"},5,7,61.714285714285722,{"$f":"IF(ISERROR(VLOOKUP(C529,BDDG!$A$2:$I$100,9,FALSE)),\"\",VLOOKUP(C529,BDDG!$A$2:$I$100,9,FALSE))","v":"CC10"},null,null,"",{"$f":"IF(ISERROR(VLOOKUP(C529,BDDG!$A$2:$J$100,10,FALSE)),\"\",VLOOKUP(C529,BDDG!$A$2:$J$100,10,FALSE))","v":"DD10"},null,null,"",61.714285714285722,8,2011,{"$f":"IFERROR(INDEX($V$2:V529,MATCH(H529&MAX(IF($H$1:H528=H529,$A$1:A528)),$H$2:H529&$A$2:A529,0))-V529,\"\")","v":-12.342857142857149}]
["2011-08-19",null,838,{"$f":"IF(ISNA(VLOOKUP(C530,BDDG!$A$2:$F$100,2,FALSE)),\"\",VLOOKUP(C530,BDDG!$A$2:$F$100,2,FALSE))","v":0},{"$f":"IF(ISNA(VLOOKUP(C530,BDDG!$A$3:$J$102,3,FALSE)),\"\",VLOOKUP(C530,BDDG!$A$3:$J$102,3,FALSE))","v":"A"},{"$f":"IF(ISNA(VLOOKUP(C530,BDDG!$A$3:$J$102,4,FALSE)),\"\",VLOOKUP(C530,BDDG!$A$3:$J$102,4,FALSE))","v":106},{"$f":"IF(ISNA(VLOOKUP(C530,BDDG!$A$2:$F$100,5,FALSE)),\"\",VLOOKUP(C530,BDDG!$A$2:$F$100,5,FALSE))","v":"A3"},{"$f":"IF(ISNA(VLOOKUP(C530,BDDG!$A$2:$F$100,6,FALSE)),\"\",VLOOKUP(C530,BDDG!$A$2:$F$100,6,FALSE))","v":"AA8"},{"$f":"IF(ISERROR(VLOOKUP(C530,BDDG!$A$2:$G$100,7,FALSE)),\"\",VLOOKUP(C530,BDDG!$A$2:$G$100,7,FALSE))","v":1},{"$f":"IF(ISERROR(VLOOKUP(C530,BDDG!$A$2:$H$100,8,FALSE)),\"\",VLOOKUP(C530,BDDG!$A$2:$H$100,8,FALSE))","v":"BB8"},2.5,35,6.1714285714285717,{"$f":"IF(ISERROR(VLOOKUP(C530,BDDG!$A$2:$I$100,9,FALSE)),\"\",VLOOKUP(C530,BDDG!$A$2:$I$100,9,FALSE))","v":"CC8"},null,null,"",{"$f":"IF(ISERROR(VLOOKUP(C530,BDDG!$A$2:$J$100,10,FALSE)),\"\",VLOOKUP(C530,BDDG!$A$2:$J$100,10,FALSE))","v":"DD8"},null,null,"",6.1714285714285717,8,2011,{"$f":"IFERROR(INDEX($V$2:V530,MATCH(H530&MAX(IF($H$1:H529=H530,$A$1:A529)),$H$2:H530&$A$2:A530,0))-V530,\"\")","v":-0.41142857142857103}]
["2011-08-19",null,837,{"$f":"IF(ISNA(VLOOKUP(C531,BDDG!$A$2:$F$100,2,FALSE)),\"\",VLOOKUP(C531,BDDG!$A$2:$F$100,2,FALSE))","v":0},{"$f":"IF(ISNA(VLOOKUP(C531,BDDG!$A$3:$J$102,3,FALSE)),\"\",VLOOKUP(C531,BDDG!$A$3:$J$102,3,FALSE))","v":"A"},{"$f":"IF(ISNA(VLOOKUP(C531,BDDG!$A$3:$J$102,4,FALSE)),\"\",VLOOKUP(C531,BDDG!$A$3:$J$102,4,FALSE))","v":106},{"$f":"IF(ISNA(VLOOKUP(C531,BDDG!$A$2:$F$100,5,FALSE)),\"\",VLOOKUP(C531,BDDG!$A$2:$F$100,5,FALSE))","v":"A3"},{"$f":"IF(ISNA(VLOOKUP(C531,BDDG!$A$2:$F$100,6,FALSE)),\"\",VLOOKUP(C531,BDDG!$A$2:$F$100,6,FALSE))","v":"AA7"},{"$f":"IF(ISERROR(VLOOKUP(C531,BDDG!$A$2:$G$100,7,FALSE)),\"\",VLOOKUP(C531,BDDG!$A$2:$G$100,7,FALSE))","v":1},{"$f":"IF(ISERROR(VLOOKUP(C531,BDDG!$A$2:$H$100,8,FALSE)),\"\",VLOOKUP(C531,BDDG!$A$2:$H$100,8,FALSE))","v":"BB7"},4,13,26.584615384615386,{"$f":"IF(ISERROR(VLOOKUP(C531,BDDG!$A$2:$I$100,9,FALSE)),\"\",VLOOKUP(C531,BDDG!$A$2:$I$100,9,FALSE))","v":"CC7"},null,null,"",{"$f":"IF(ISERROR(VLOOKUP(C531,BDDG!$A$2:$J$100,10,FALSE)),\"\",VLOOKUP(C531,BDDG!$A$2:$J$100,10,FALSE))","v":"DD7"},null,null,{"$f":" IF(ISERROR(S531/T531*86.4),\"\",S531/T531*86.4)","v":""},26.584615384615386,8,2011,{"$f":"IFERROR(INDEX($V$2:V531,MATCH(H531&MAX(IF($H$1:H530=H531,$A$1:A530)),$H$2:H531&$A$2:A531,0))-V531,\"\")","v":-6.9482517482517494}]
["2011-08-19",null,836,{"$f":"IF(ISNA(VLOOKUP(C532,BDDG!$A$2:$F$100,2,FALSE)),\"\",VLOOKUP(C532,BDDG!$A$2:$F$100,2,FALSE))","v":0},{"$f":"IF(ISNA(VLOOKUP(C532,BDDG!$A$3:$J$102,3,FALSE)),\"\",VLOOKUP(C532,BDDG!$A$3:$J$102,3,FALSE))","v":"A"},{"$f":"IF(ISNA(VLOOKUP(C532,BDDG!$A$3:$J$102,4,FALSE)),\"\",VLOOKUP(C532,BDDG!$A$3:$J$102,4,FALSE))","v":106},{"$f":"IF(ISNA(VLOOKUP(C532,BDDG!$A$2:$F$100,5,FALSE)),\"\",VLOOKUP(C532,BDDG!$A$2:$F$100,5,FALSE))","v":"A3"},{"$f":"IF(ISNA(VLOOKUP(C532,BDDG!$A$2:$F$100,6,FALSE)),\"\",VLOOKUP(C532,BDDG!$A$2:$F$100,6,FALSE))","v":"AA6"},{"$f":"IF(ISERROR(VLOOKUP(C532,BDDG!$A$2:$G$100,7,FALSE)),\"\",VLOOKUP(C532,BDDG!$A$2:$G$100,7,FALSE))","v":1},{"$f":"IF(ISERROR(VLOOKUP(C532,BDDG!$A$2:$H$100,8,FALSE)),\"\",VLOOKUP(C532,BDDG!$A$2:$H$100,8,FALSE))","v":"BB6"},4.5,13,29.907692307692308,{"$f":"IF(ISERROR(VLOOKUP(C532,BDDG!$A$2:$I$100,9,FALSE)),\"\",VLOOKUP(C532,BDDG!$A$2:$I$100,9,FALSE))","v":"CC6"},null,null,"",{"$f":"IF(ISERROR(VLOOKUP(C532,BDDG!$A$2:$J$100,10,FALSE)),\"\",VLOOKUP(C532,BDDG!$A$2:$J$100,10,FALSE))","v":"DD6"},null,null,"",29.907692307692308,8,2011,{"$f":"IFERROR(INDEX($V$2:V532,MATCH(H532&MAX(IF($H$1:H531=H532,$A$1:A531)),$H$2:H532&$A$2:A532,0))-V532,\"\")","v":4.6523076923076943}]
["2011-08-19",null,856,{"$f":"IF(ISNA(VLOOKUP(C533,BDDG!$A$2:$F$100,2,FALSE)),\"\",VLOOKUP(C533,BDDG!$A$2:$F$100,2,FALSE))","v":0},{"$f":"IF(ISNA(VLOOKUP(C533,BDDG!$A$3:$J$102,3,FALSE)),\"\",VLOOKUP(C533,BDDG!$A$3:$J$102,3,FALSE))","v":"A"},{"$f":"IF(ISNA(VLOOKUP(C533,BDDG!$A$3:$J$102,4,FALSE)),\"\",VLOOKUP(C533,BDDG!$A$3:$J$102,4,FALSE))","v":106},{"$f":"IF(ISNA(VLOOKUP(C533,BDDG!$A$2:$F$100,5,FALSE)),\"\",VLOOKUP(C533,BDDG!$A$2:$F$100,5,FALSE))","v":"A9"},{"$f":"IF(ISNA(VLOOKUP(C533,BDDG!$A$2:$F$100,6,FALSE)),\"\",VLOOKUP(C533,BDDG!$A$2:$F$100,6,FALSE))","v":"AA27"},{"$f":"IF(ISERROR(VLOOKUP(C533,BDDG!$A$2:$G$100,7,FALSE)),\"\",VLOOKUP(C533,BDDG!$A$2:$G$100,7,FALSE))","v":2},{"$f":"IF(ISERROR(VLOOKUP(C533,BDDG!$A$2:$H$100,8,FALSE)),\"\",VLOOKUP(C533,BDDG!$A$2:$H$100,8,FALSE))","v":"BB27"},4,20,17.28,{"$f":"IF(ISERROR(VLOOKUP(C533,BDDG!$A$2:$I$100,9,FALSE)),\"\",VLOOKUP(C533,BDDG!$A$2:$I$100,9,FALSE))","v":"CC27"},5,3,144.00000000000003,{"$f":"IF(ISERROR(VLOOKUP(C533,BDDG!$A$2:$J$100,10,FALSE)),\"\",VLOOKUP(C533,BDDG!$A$2:$J$100,10,FALSE))","v":"DD27"},null,null,"",161.28000000000003,8,2011,{"$f":"IFERROR(INDEX($V$2:V533,MATCH(H533&MAX(IF($H$1:H532=H533,$A$1:A532)),$H$2:H533&$A$2:A533,0))-V533,\"\")","v":-31.811306990881462}]
["2011-08-19",null,852,{"$f":"IF(ISNA(VLOOKUP(C534,BDDG!$A$2:$F$100,2,FALSE)),\"\",VLOOKUP(C534,BDDG!$A$2:$F$100,2,FALSE))","v":0},{"$f":"IF(ISNA(VLOOKUP(C534,BDDG!$A$3:$J$102,3,FALSE)),\"\",VLOOKUP(C534,BDDG!$A$3:$J$102,3,FALSE))","v":"A"},{"$f":"IF(ISNA(VLOOKUP(C534,BDDG!$A$3:$J$102,4,FALSE)),\"\",VLOOKUP(C534,BDDG!$A$3:$J$102,4,FALSE))","v":106},{"$f":"IF(ISNA(VLOOKUP(C534,BDDG!$A$2:$F$100,5,FALSE)),\"\",VLOOKUP(C534,BDDG!$A$2:$F$100,5,FALSE))","v":"A9"},{"$f":"IF(ISNA(VLOOKUP(C534,BDDG!$A$2:$F$100,6,FALSE)),\"\",VLOOKUP(C534,BDDG!$A$2:$F$100,6,FALSE))","v":"AA22"},{"$f":"IF(ISERROR(VLOOKUP(C534,BDDG!$A$2:$G$100,7,FALSE)),\"\",VLOOKUP(C534,BDDG!$A$2:$G$100,7,FALSE))","v":1},{"$f":"IF(ISERROR(VLOOKUP(C534,BDDG!$A$2:$H$100,8,FALSE)),\"\",VLOOKUP(C534,BDDG!$A$2:$H$100,8,FALSE))","v":"BB22"},5,36,12.000000000000002,{"$f":"IF(ISERROR(VLOOKUP(C534,BDDG!$A$2:$I$100,9,FALSE)),\"\",VLOOKUP(C534,BDDG!$A$2:$I$100,9,FALSE))","v":"CC22"},null,null,"",{"$f":"IF(ISERROR(VLOOKUP(C534,BDDG!$A$2:$J$100,10,FALSE)),\"\",VLOOKUP(C534,BDDG!$A$2:$J$100,10,FALSE))","v":"DD22"},null,null,"",12.000000000000002,8,2011,{"$f":"IFERROR(INDEX($V$2:V534,MATCH(H534&MAX(IF($H$1:H533=H534,$A$1:A533)),$H$2:H534&$A$2:A534,0))-V534,\"\")","v":1.8239999999999998}]
["2011-09-08",null,835,{"$f":"IF(ISNA(VLOOKUP(C535,BDDG!$A$2:$F$100,2,FALSE)),\"\",VLOOKUP(C535,BDDG!$A$2:$F$100,2,FALSE))","v":0},{"$f":"IF(ISNA(VLOOKUP(C535,BDDG!$A$3:$J$102,3,FALSE)),\"\",VLOOKUP(C535,BDDG!$A$3:$J$102,3,FALSE))","v":"A"},{"$f":"IF(ISNA(VLOOKUP(C535,BDDG!$A$3:$J$102,4,FALSE)),\"\",VLOOKUP(C535,BDDG!$A$3:$J$102,4,FALSE))","v":106},{"$f":"IF(ISNA(VLOOKUP(C535,BDDG!$A$2:$F$100,5,FALSE)),\"\",VLOOKUP(C535,BDDG!$A$2:$F$100,5,FALSE))","v":"A3"},{"$f":"IF(ISNA(VLOOKUP(C535,BDDG!$A$2:$F$100,6,FALSE)),\"\",VLOOKUP(C535,BDDG!$A$2:$F$100,6,FALSE))","v":"AA5"},{"$f":"IF(ISERROR(VLOOKUP(C535,BDDG!$A$2:$G$100,7,FALSE)),\"\",VLOOKUP(C535,BDDG!$A$2:$G$100,7,FALSE))","v":1},{"$f":"IF(ISERROR(VLOOKUP(C535,BDDG!$A$2:$H$100,8,FALSE)),\"\",VLOOKUP(C535,BDDG!$A$2:$H$100,8,FALSE))","v":"BB5"},1,40,2.16,{"$f":"IF(ISERROR(VLOOKUP(C535,BDDG!$A$2:$I$100,9,FALSE)),\"\",VLOOKUP(C535,BDDG!$A$2:$I$100,9,FALSE))","v":"CC5"},null,null,"",{"$f":"IF(ISERROR(VLOOKUP(C535,BDDG!$A$2:$J$100,10,FALSE)),\"\",VLOOKUP(C535,BDDG!$A$2:$J$100,10,FALSE))","v":"DD5"},null,null,"",2.16,9,2011,{"$f":"IFERROR(INDEX($V$2:V535,MATCH(H535&MAX(IF($H$1:H534=H535,$A$1:A534)),$H$2:H535&$A$2:A535,0))-V535,\"\")","v":0}]
["2011-09-12",null,832,{"$f":"IF(ISNA(VLOOKUP(C536,BDDG!$A$2:$F$100,2,FALSE)),\"\",VLOOKUP(C536,BDDG!$A$2:$F$100,2,FALSE))","v":0},{"$f":"IF(ISNA(VLOOKUP(C536,BDDG!$A$3:$J$102,3,FALSE)),\"\",VLOOKUP(C536,BDDG!$A$3:$J$102,3,FALSE))","v":"A"},{"$f":"IF(ISNA(VLOOKUP(C536,BDDG!$A$3:$J$102,4,FALSE)),\"\",VLOOKUP(C536,BDDG!$A$3:$J$102,4,FALSE))","v":106},{"$f":"IF(ISNA(VLOOKUP(C536,BDDG!$A$2:$F$100,5,FALSE)),\"\",VLOOKUP(C536,BDDG!$A$2:$F$100,5,FALSE))","v":"A2"},{"$f":"IF(ISNA(VLOOKUP(C536,BDDG!$A$2:$F$100,6,FALSE)),\"\",VLOOKUP(C536,BDDG!$A$2:$F$100,6,FALSE))","v":"AA2"},{"$f":"IF(ISERROR(VLOOKUP(C536,BDDG!$A$2:$G$100,7,FALSE)),\"\",VLOOKUP(C536,BDDG!$A$2:$G$100,7,FALSE))","v":1},{"$f":"IF(ISERROR(VLOOKUP(C536,BDDG!$A$2:$H$100,8,FALSE)),\"\",VLOOKUP(C536,BDDG!$A$2:$H$100,8,FALSE))","v":"BB2"},10,28,30.857142857142861,{"$f":"IF(ISERROR(VLOOKUP(C536,BDDG!$A$2:$I$100,9,FALSE)),\"\",VLOOKUP(C536,BDDG!$A$2:$I$100,9,FALSE))","v":"CC2"},null,null,"",{"$f":"IF(ISERROR(VLOOKUP(C536,BDDG!$A$2:$J$100,10,FALSE)),\"\",VLOOKUP(C536,BDDG!$A$2:$J$100,10,FALSE))","v":"DD2"},null,null,"",30.857142857142861,9,2011,{"$f":"IFERROR(INDEX($V$2:V536,MATCH(H536&MAX(IF($H$1:H535=H536,$A$1:A535)),$H$2:H536&$A$2:A536,0))-V536,\"\")","v":17.142857142857146}]
["2011-09-12",null,833,{"$f":"IF(ISNA(VLOOKUP(C537,BDDG!$A$2:$F$100,2,FALSE)),\"\",VLOOKUP(C537,BDDG!$A$2:$F$100,2,FALSE))","v":0},{"$f":"IF(ISNA(VLOOKUP(C537,BDDG!$A$3:$J$102,3,FALSE)),\"\",VLOOKUP(C537,BDDG!$A$3:$J$102,3,FALSE))","v":"A"},{"$f":"IF(ISNA(VLOOKUP(C537,BDDG!$A$3:$J$102,4,FALSE)),\"\",VLOOKUP(C537,BDDG!$A$3:$J$102,4,FALSE))","v":106},{"$f":"IF(ISNA(VLOOKUP(C537,BDDG!$A$2:$F$100,5,FALSE)),\"\",VLOOKUP(C537,BDDG!$A$2:$F$100,5,FALSE))","v":"A2"},{"$f":"IF(ISNA(VLOOKUP(C537,BDDG!$A$2:$F$100,6,FALSE)),\"\",VLOOKUP(C537,BDDG!$A$2:$F$100,6,FALSE))","v":"AA3"},{"$f":"IF(ISERROR(VLOOKUP(C537,BDDG!$A$2:$G$100,7,FALSE)),\"\",VLOOKUP(C537,BDDG!$A$2:$G$100,7,FALSE))","v":1},{"$f":"IF(ISERROR(VLOOKUP(C537,BDDG!$A$2:$H$100,8,FALSE)),\"\",VLOOKUP(C537,BDDG!$A$2:$H$100,8,FALSE))","v":"BB3"},10,56,15.428571428571431,{"$f":"IF(ISERROR(VLOOKUP(C537,BDDG!$A$2:$I$100,9,FALSE)),\"\",VLOOKUP(C537,BDDG!$A$2:$I$100,9,FALSE))","v":"CC3"},null,null,"",{"$f":"IF(ISERROR(VLOOKUP(C537,BDDG!$A$2:$J$100,10,FALSE)),\"\",VLOOKUP(C537,BDDG!$A$2:$J$100,10,FALSE))","v":"DD3"},null,null,"",15.428571428571431,9,2011,{"$f":"IFERROR(INDEX($V$2:V537,MATCH(H537&MAX(IF($H$1:H536=H537,$A$1:A536)),$H$2:H537&$A$2:A537,0))-V537,\"\")","v":10.753246753246753}]
["2011-09-12",null,834,{"$f":"IF(ISNA(VLOOKUP(C538,BDDG!$A$2:$F$100,2,FALSE)),\"\",VLOOKUP(C538,BDDG!$A$2:$F$100,2,FALSE))","v":0},{"$f":"IF(ISNA(VLOOKUP(C538,BDDG!$A$3:$J$102,3,FALSE)),\"\",VLOOKUP(C538,BDDG!$A$3:$J$102,3,FALSE))","v":"A"},{"$f":"IF(ISNA(VLOOKUP(C538,BDDG!$A$3:$J$102,4,FALSE)),\"\",VLOOKUP(C538,BDDG!$A$3:$J$102,4,FALSE))","v":106},{"$f":"IF(ISNA(VLOOKUP(C538,BDDG!$A$2:$F$100,5,FALSE)),\"\",VLOOKUP(C538,BDDG!$A$2:$F$100,5,FALSE))","v":"A2"},{"$f":"IF(ISNA(VLOOKUP(C538,BDDG!$A$2:$F$100,6,FALSE)),\"\",VLOOKUP(C538,BDDG!$A$2:$F$100,6,FALSE))","v":"AA4"},{"$f":"IF(ISERROR(VLOOKUP(C538,BDDG!$A$2:$G$100,7,FALSE)),\"\",VLOOKUP(C538,BDDG!$A$2:$G$100,7,FALSE))","v":1},{"$f":"IF(ISERROR(VLOOKUP(C538,BDDG!$A$2:$H$100,8,FALSE)),\"\",VLOOKUP(C538,BDDG!$A$2:$H$100,8,FALSE))","v":"BB4"},8,90,7.6800000000000006,{"$f":"IF(ISERROR(VLOOKUP(C538,BDDG!$A$2:$I$100,9,FALSE)),\"\",VLOOKUP(C538,BDDG!$A$2:$I$100,9,FALSE))","v":"CC4"},null,null,"",{"$f":"IF(ISERROR(VLOOKUP(C538,BDDG!$A$2:$J$100,10,FALSE)),\"\",VLOOKUP(C538,BDDG!$A$2:$J$100,10,FALSE))","v":"DD4"},null,null,"",7.6800000000000006,9,2011,{"$f":"IFERROR(INDEX($V$2:V538,MATCH(H538&MAX(IF($H$1:H537=H538,$A$1:A537)),$H$2:H538&$A$2:A538,0))-V538,\"\")","v":8.0290909090909111}]
["2011-09-14",null,838,{"$f":"IF(ISNA(VLOOKUP(C539,BDDG!$A$2:$F$100,2,FALSE)),\"\",VLOOKUP(C539,BDDG!$A$2:$F$100,2,FALSE))","v":0},{"$f":"IF(ISNA(VLOOKUP(C539,BDDG!$A$3:$J$102,3,FALSE)),\"\",VLOOKUP(C539,BDDG!$A$3:$J$102,3,FALSE))","v":"A"},{"$f":"IF(ISNA(VLOOKUP(C539,BDDG!$A$3:$J$102,4,FALSE)),\"\",VLOOKUP(C539,BDDG!$A$3:$J$102,4,FALSE))","v":106},{"$f":"IF(ISNA(VLOOKUP(C539,BDDG!$A$2:$F$100,5,FALSE)),\"\",VLOOKUP(C539,BDDG!$A$2:$F$100,5,FALSE))","v":"A3"},{"$f":"IF(ISNA(VLOOKUP(C539,BDDG!$A$2:$F$100,6,FALSE)),\"\",VLOOKUP(C539,BDDG!$A$2:$F$100,6,FALSE))","v":"AA8"},{"$f":"IF(ISERROR(VLOOKUP(C539,BDDG!$A$2:$G$100,7,FALSE)),\"\",VLOOKUP(C539,BDDG!$A$2:$G$100,7,FALSE))","v":1},{"$f":"IF(ISERROR(VLOOKUP(C539,BDDG!$A$2:$H$100,8,FALSE)),\"\",VLOOKUP(C539,BDDG!$A$2:$H$100,8,FALSE))","v":"BB8"},4,64,5.4,{"$f":"IF(ISERROR(VLOOKUP(C539,BDDG!$A$2:$I$100,9,FALSE)),\"\",VLOOKUP(C539,BDDG!$A$2:$I$100,9,FALSE))","v":"CC8"},null,null,"",{"$f":"IF(ISERROR(VLOOKUP(C539,BDDG!$A$2:$J$100,10,FALSE)),\"\",VLOOKUP(C539,BDDG!$A$2:$J$100,10,FALSE))","v":"DD8"},null,null,"",5.4,9,2011,{"$f":"IFERROR(INDEX($V$2:V539,MATCH(H539&MAX(IF($H$1:H538=H539,$A$1:A538)),$H$2:H539&$A$2:A539,0))-V539,\"\")","v":0.77142857142857135}]
["2011-09-14",null,837,{"$f":"IF(ISNA(VLOOKUP(C540,BDDG!$A$2:$F$100,2,FALSE)),\"\",VLOOKUP(C540,BDDG!$A$2:$F$100,2,FALSE))","v":0},{"$f":"IF(ISNA(VLOOKUP(C540,BDDG!$A$3:$J$102,3,FALSE)),\"\",VLOOKUP(C540,BDDG!$A$3:$J$102,3,FALSE))","v":"A"},{"$f":"IF(ISNA(VLOOKUP(C540,BDDG!$A$3:$J$102,4,FALSE)),\"\",VLOOKUP(C540,BDDG!$A$3:$J$102,4,FALSE))","v":106},{"$f":"IF(ISNA(VLOOKUP(C540,BDDG!$A$2:$F$100,5,FALSE)),\"\",VLOOKUP(C540,BDDG!$A$2:$F$100,5,FALSE))","v":"A3"},{"$f":"IF(ISNA(VLOOKUP(C540,BDDG!$A$2:$F$100,6,FALSE)),\"\",VLOOKUP(C540,BDDG!$A$2:$F$100,6,FALSE))","v":"AA7"},{"$f":"IF(ISERROR(VLOOKUP(C540,BDDG!$A$2:$G$100,7,FALSE)),\"\",VLOOKUP(C540,BDDG!$A$2:$G$100,7,FALSE))","v":1},{"$f":"IF(ISERROR(VLOOKUP(C540,BDDG!$A$2:$H$100,8,FALSE)),\"\",VLOOKUP(C540,BDDG!$A$2:$H$100,8,FALSE))","v":"BB7"},10,72,12.000000000000002,{"$f":"IF(ISERROR(VLOOKUP(C540,BDDG!$A$2:$I$100,9,FALSE)),\"\",VLOOKUP(C540,BDDG!$A$2:$I$100,9,FALSE))","v":"CC7"},null,null,"",{"$f":"IF(ISERROR(VLOOKUP(C540,BDDG!$A$2:$J$100,10,FALSE)),\"\",VLOOKUP(C540,BDDG!$A$2:$J$100,10,FALSE))","v":"DD7"},null,null,"",12.000000000000002,9,2011,{"$f":"IFERROR(INDEX($V$2:V540,MATCH(H540&MAX(IF($H$1:H539=H540,$A$1:A539)),$H$2:H540&$A$2:A540,0))-V540,\"\")","v":14.584615384615384}]
["2011-09-14",null,836,{"$f":"IF(ISNA(VLOOKUP(C541,BDDG!$A$2:$F$100,2,FALSE)),\"\",VLOOKUP(C541,BDDG!$A$2:$F$100,2,FALSE))","v":0},{"$f":"IF(ISNA(VLOOKUP(C541,BDDG!$A$3:$J$102,3,FALSE)),\"\",VLOOKUP(C541,BDDG!$A$3:$J$102,3,FALSE))","v":"A"},{"$f":"IF(ISNA(VLOOKUP(C541,BDDG!$A$3:$J$102,4,FALSE)),\"\",VLOOKUP(C541,BDDG!$A$3:$J$102,4,FALSE))","v":106},{"$f":"IF(ISNA(VLOOKUP(C541,BDDG!$A$2:$F$100,5,FALSE)),\"\",VLOOKUP(C541,BDDG!$A$2:$F$100,5,FALSE))","v":"A3"},{"$f":"IF(ISNA(VLOOKUP(C541,BDDG!$A$2:$F$100,6,FALSE)),\"\",VLOOKUP(C541,BDDG!$A$2:$F$100,6,FALSE))","v":"AA6"},{"$f":"IF(ISERROR(VLOOKUP(C541,BDDG!$A$2:$G$100,7,FALSE)),\"\",VLOOKUP(C541,BDDG!$A$2:$G$100,7,FALSE))","v":1},{"$f":"IF(ISERROR(VLOOKUP(C541,BDDG!$A$2:$H$100,8,FALSE)),\"\",VLOOKUP(C541,BDDG!$A$2:$H$100,8,FALSE))","v":"BB6"},10,53,16.301886792452834,{"$f":"IF(ISERROR(VLOOKUP(C541,BDDG!$A$2:$I$100,9,FALSE)),\"\",VLOOKUP(C541,BDDG!$A$2:$I$100,9,FALSE))","v":"CC6"},null,null,"",{"$f":"IF(ISERROR(VLOOKUP(C541,BDDG!$A$2:$J$100,10,FALSE)),\"\",VLOOKUP(C541,BDDG!$A$2:$J$100,10,FALSE))","v":"DD6"},null,null,"",16.301886792452834,9,2011,{"$f":"IFERROR(INDEX($V$2:V541,MATCH(H541&MAX(IF($H$1:H540=H541,$A$1:A540)),$H$2:H541&$A$2:A541,0))-V541,\"\")","v":13.605805515239474}]
["2011-09-14",null,856,{"$f":"IF(ISNA(VLOOKUP(C542,BDDG!$A$2:$F$100,2,FALSE)),\"\",VLOOKUP(C542,BDDG!$A$2:$F$100,2,FALSE))","v":0},{"$f":"IF(ISNA(VLOOKUP(C542,BDDG!$A$3:$J$102,3,FALSE)),\"\",VLOOKUP(C542,BDDG!$A$3:$J$102,3,FALSE))","v":"A"},{"$f":"IF(ISNA(VLOOKUP(C542,BDDG!$A$3:$J$102,4,FALSE)),\"\",VLOOKUP(C542,BDDG!$A$3:$J$102,4,FALSE))","v":106},{"$f":"IF(ISNA(VLOOKUP(C542,BDDG!$A$2:$F$100,5,FALSE)),\"\",VLOOKUP(C542,BDDG!$A$2:$F$100,5,FALSE))","v":"A9"},{"$f":"IF(ISNA(VLOOKUP(C542,BDDG!$A$2:$F$100,6,FALSE)),\"\",VLOOKUP(C542,BDDG!$A$2:$F$100,6,FALSE))","v":"AA27"},{"$f":"IF(ISERROR(VLOOKUP(C542,BDDG!$A$2:$G$100,7,FALSE)),\"\",VLOOKUP(C542,BDDG!$A$2:$G$100,7,FALSE))","v":2},{"$f":"IF(ISERROR(VLOOKUP(C542,BDDG!$A$2:$H$100,8,FALSE)),\"\",VLOOKUP(C542,BDDG!$A$2:$H$100,8,FALSE))","v":"BB27"},10,79,{"$f":" IF(ISERROR(K542/L542*86.4),\"\",K542/L542*86.4)","v":10.936708860759495},{"$f":"IF(ISERROR(VLOOKUP(C542,BDDG!$A$2:$I$100,9,FALSE)),\"\",VLOOKUP(C542,BDDG!$A$2:$I$100,9,FALSE))","v":"CC27"},10,8,108,{"$f":"IF(ISERROR(VLOOKUP(C542,BDDG!$A$2:$J$100,10,FALSE)),\"\",VLOOKUP(C542,BDDG!$A$2:$J$100,10,FALSE))","v":"DD27"},null,null,"",118.9367088607595,9,2011,{"$f":"IFERROR(INDEX($V$2:V542,MATCH(H542&MAX(IF($H$1:H541=H542,$A$1:A541)),$H$2:H542&$A$2:A542,0))-V542,\"\")","v":42.343291139240534}]
["2011-09-14",null,852,{"$f":"IF(ISNA(VLOOKUP(C543,BDDG!$A$2:$F$100,2,FALSE)),\"\",VLOOKUP(C543,BDDG!$A$2:$F$100,2,FALSE))","v":0},{"$f":"IF(ISNA(VLOOKUP(C543,BDDG!$A$3:$J$102,3,FALSE)),\"\",VLOOKUP(C543,BDDG!$A$3:$J$102,3,FALSE))","v":"A"},{"$f":"IF(ISNA(VLOOKUP(C543,BDDG!$A$3:$J$102,4,FALSE)),\"\",VLOOKUP(C543,BDDG!$A$3:$J$102,4,FALSE))","v":106},{"$f":"IF(ISNA(VLOOKUP(C543,BDDG!$A$2:$F$100,5,FALSE)),\"\",VLOOKUP(C543,BDDG!$A$2:$F$100,5,FALSE))","v":"A9"},{"$f":"IF(ISNA(VLOOKUP(C543,BDDG!$A$2:$F$100,6,FALSE)),\"\",VLOOKUP(C543,BDDG!$A$2:$F$100,6,FALSE))","v":"AA22"},{"$f":"IF(ISERROR(VLOOKUP(C543,BDDG!$A$2:$G$100,7,FALSE)),\"\",VLOOKUP(C543,BDDG!$A$2:$G$100,7,FALSE))","v":1},{"$f":"IF(ISERROR(VLOOKUP(C543,BDDG!$A$2:$H$100,8,FALSE)),\"\",VLOOKUP(C543,BDDG!$A$2:$H$100,8,FALSE))","v":"BB22"},10,98,8.8163265306122458,{"$f":"IF(ISERROR(VLOOKUP(C543,BDDG!$A$2:$I$100,9,FALSE)),\"\",VLOOKUP(C543,BDDG!$A$2:$I$100,9,FALSE))","v":"CC22"},null,null,"",{"$f":"IF(ISERROR(VLOOKUP(C543,BDDG!$A$2:$J$100,10,FALSE)),\"\",VLOOKUP(C543,BDDG!$A$2:$J$100,10,FALSE))","v":"DD22"},null,null,"",8.8163265306122458,9,2011,{"$f":"IFERROR(INDEX($V$2:V543,MATCH(H543&MAX(IF($H$1:H542=H543,$A$1:A542)),$H$2:H543&$A$2:A543,0))-V543,\"\")","v":3.183673469387756}]
["2011-09-27",null,855,{"$f":"IF(ISNA(VLOOKUP(C544,BDDG!$A$2:$F$100,2,FALSE)),\"\",VLOOKUP(C544,BDDG!$A$2:$F$100,2,FALSE))","v":0},{"$f":"IF(ISNA(VLOOKUP(C544,BDDG!$A$3:$J$102,3,FALSE)),\"\",VLOOKUP(C544,BDDG!$A$3:$J$102,3,FALSE))","v":"A"},{"$f":"IF(ISNA(VLOOKUP(C544,BDDG!$A$3:$J$102,4,FALSE)),\"\",VLOOKUP(C544,BDDG!$A$3:$J$102,4,FALSE))","v":106},{"$f":"IF(ISNA(VLOOKUP(C544,BDDG!$A$2:$F$100,5,FALSE)),\"\",VLOOKUP(C544,BDDG!$A$2:$F$100,5,FALSE))","v":"A9"},{"$f":"IF(ISNA(VLOOKUP(C544,BDDG!$A$2:$F$100,6,FALSE)),\"\",VLOOKUP(C544,BDDG!$A$2:$F$100,6,FALSE))","v":"AA26"},{"$f":"IF(ISERROR(VLOOKUP(C544,BDDG!$A$2:$G$100,7,FALSE)),\"\",VLOOKUP(C544,BDDG!$A$2:$G$100,7,FALSE))","v":2},{"$f":"IF(ISERROR(VLOOKUP(C544,BDDG!$A$2:$H$100,8,FALSE)),\"\",VLOOKUP(C544,BDDG!$A$2:$H$100,8,FALSE))","v":"BB26"},6.5,11,51.054545454545462,{"$f":"IF(ISERROR(VLOOKUP(C544,BDDG!$A$2:$I$100,9,FALSE)),\"\",VLOOKUP(C544,BDDG!$A$2:$I$100,9,FALSE))","v":"CC26"},9,38,20.463157894736842,{"$f":"IF(ISERROR(VLOOKUP(C544,BDDG!$A$2:$J$100,10,FALSE)),\"\",VLOOKUP(C544,BDDG!$A$2:$J$100,10,FALSE))","v":"DD26"},null,null,"",71.5177033492823,9,2011,{"$f":"IFERROR(INDEX($V$2:V544,MATCH(H544&MAX(IF($H$1:H543=H544,$A$1:A543)),$H$2:H544&$A$2:A544,0))-V544,\"\")","v":24.992934948590047}]
["2011-09-30",null,839,{"$f":"IF(ISNA(VLOOKUP(C545,BDDG!$A$2:$F$100,2,FALSE)),\"\",VLOOKUP(C545,BDDG!$A$2:$F$100,2,FALSE))","v":0},{"$f":"IF(ISNA(VLOOKUP(C545,BDDG!$A$3:$J$102,3,FALSE)),\"\",VLOOKUP(C545,BDDG!$A$3:$J$102,3,FALSE))","v":"A"},{"$f":"IF(ISNA(VLOOKUP(C545,BDDG!$A$3:$J$102,4,FALSE)),\"\",VLOOKUP(C545,BDDG!$A$3:$J$102,4,FALSE))","v":106},{"$f":"IF(ISNA(VLOOKUP(C545,BDDG!$A$2:$F$100,5,FALSE)),\"\",VLOOKUP(C545,BDDG!$A$2:$F$100,5,FALSE))","v":"A3"},{"$f":"IF(ISNA(VLOOKUP(C545,BDDG!$A$2:$F$100,6,FALSE)),\"\",VLOOKUP(C545,BDDG!$A$2:$F$100,6,FALSE))","v":"AA10"},{"$f":"IF(ISERROR(VLOOKUP(C545,BDDG!$A$2:$G$100,7,FALSE)),\"\",VLOOKUP(C545,BDDG!$A$2:$G$100,7,FALSE))","v":2},{"$f":"IF(ISERROR(VLOOKUP(C545,BDDG!$A$2:$H$100,8,FALSE)),\"\",VLOOKUP(C545,BDDG!$A$2:$H$100,8,FALSE))","v":"BB10"},9,32,24.3,{"$f":"IF(ISERROR(VLOOKUP(C545,BDDG!$A$2:$I$100,9,FALSE)),\"\",VLOOKUP(C545,BDDG!$A$2:$I$100,9,FALSE))","v":"CC10"},null,null,"",{"$f":"IF(ISERROR(VLOOKUP(C545,BDDG!$A$2:$J$100,10,FALSE)),\"\",VLOOKUP(C545,BDDG!$A$2:$J$100,10,FALSE))","v":"DD10"},null,null,"",24.3,9,2011,{"$f":"IFERROR(INDEX($V$2:V545,MATCH(H545&MAX(IF($H$1:H544=H545,$A$1:A544)),$H$2:H545&$A$2:A545,0))-V545,\"\")","v":37.414285714285725}]
["2011-09-30",null,838,{"$f":"IF(ISNA(VLOOKUP(C546,BDDG!$A$2:$F$100,2,FALSE)),\"\",VLOOKUP(C546,BDDG!$A$2:$F$100,2,FALSE))","v":0},{"$f":"IF(ISNA(VLOOKUP(C546,BDDG!$A$3:$J$102,3,FALSE)),\"\",VLOOKUP(C546,BDDG!$A$3:$J$102,3,FALSE))","v":"A"},{"$f":"IF(ISNA(VLOOKUP(C546,BDDG!$A$3:$J$102,4,FALSE)),\"\",VLOOKUP(C546,BDDG!$A$3:$J$102,4,FALSE))","v":106},{"$f":"IF(ISNA(VLOOKUP(C546,BDDG!$A$2:$F$100,5,FALSE)),\"\",VLOOKUP(C546,BDDG!$A$2:$F$100,5,FALSE))","v":"A3"},{"$f":"IF(ISNA(VLOOKUP(C546,BDDG!$A$2:$F$100,6,FALSE)),\"\",VLOOKUP(C546,BDDG!$A$2:$F$100,6,FALSE))","v":"AA8"},{"$f":"IF(ISERROR(VLOOKUP(C546,BDDG!$A$2:$G$100,7,FALSE)),\"\",VLOOKUP(C546,BDDG!$A$2:$G$100,7,FALSE))","v":1},{"$f":"IF(ISERROR(VLOOKUP(C546,BDDG!$A$2:$H$100,8,FALSE)),\"\",VLOOKUP(C546,BDDG!$A$2:$H$100,8,FALSE))","v":"BB8"},3,60,4.32,{"$f":"IF(ISERROR(VLOOKUP(C546,BDDG!$A$2:$I$100,9,FALSE)),\"\",VLOOKUP(C546,BDDG!$A$2:$I$100,9,FALSE))","v":"CC8"},null,null,"",{"$f":"IF(ISERROR(VLOOKUP(C546,BDDG!$A$2:$J$100,10,FALSE)),\"\",VLOOKUP(C546,BDDG!$A$2:$J$100,10,FALSE))","v":"DD8"},null,null,"",4.32,9,2011,{"$f":"IFERROR(INDEX($V$2:V546,MATCH(H546&MAX(IF($H$1:H545=H546,$A$1:A545)),$H$2:H546&$A$2:A546,0))-V546,\"\")","v":1.08}]
["2011-09-30",null,837,{"$f":"IF(ISNA(VLOOKUP(C547,BDDG!$A$2:$F$100,2,FALSE)),\"\",VLOOKUP(C547,BDDG!$A$2:$F$100,2,FALSE))","v":0},{"$f":"IF(ISNA(VLOOKUP(C547,BDDG!$A$3:$J$102,3,FALSE)),\"\",VLOOKUP(C547,BDDG!$A$3:$J$102,3,FALSE))","v":"A"},{"$f":"IF(ISNA(VLOOKUP(C547,BDDG!$A$3:$J$102,4,FALSE)),\"\",VLOOKUP(C547,BDDG!$A$3:$J$102,4,FALSE))","v":106},{"$f":"IF(ISNA(VLOOKUP(C547,BDDG!$A$2:$F$100,5,FALSE)),\"\",VLOOKUP(C547,BDDG!$A$2:$F$100,5,FALSE))","v":"A3"},{"$f":"IF(ISNA(VLOOKUP(C547,BDDG!$A$2:$F$100,6,FALSE)),\"\",VLOOKUP(C547,BDDG!$A$2:$F$100,6,FALSE))","v":"AA7"},{"$f":"IF(ISERROR(VLOOKUP(C547,BDDG!$A$2:$G$100,7,FALSE)),\"\",VLOOKUP(C547,BDDG!$A$2:$G$100,7,FALSE))","v":1},{"$f":"IF(ISERROR(VLOOKUP(C547,BDDG!$A$2:$H$100,8,FALSE)),\"\",VLOOKUP(C547,BDDG!$A$2:$H$100,8,FALSE))","v":"BB7"},6.5,60,9.3600000000000012,{"$f":"IF(ISERROR(VLOOKUP(C547,BDDG!$A$2:$I$100,9,FALSE)),\"\",VLOOKUP(C547,BDDG!$A$2:$I$100,9,FALSE))","v":"CC7"},null,null,"",{"$f":"IF(ISERROR(VLOOKUP(C547,BDDG!$A$2:$J$100,10,FALSE)),\"\",VLOOKUP(C547,BDDG!$A$2:$J$100,10,FALSE))","v":"DD7"},null,null,"",9.3600000000000012,9,2011,{"$f":"IFERROR(INDEX($V$2:V547,MATCH(H547&MAX(IF($H$1:H546=H547,$A$1:A546)),$H$2:H547&$A$2:A547,0))-V547,\"\")","v":2.6400000000000006}]
["2011-09-30",null,836,{"$f":"IF(ISNA(VLOOKUP(C548,BDDG!$A$2:$F$100,2,FALSE)),\"\",VLOOKUP(C548,BDDG!$A$2:$F$100,2,FALSE))","v":0},{"$f":"IF(ISNA(VLOOKUP(C548,BDDG!$A$3:$J$102,3,FALSE)),\"\",VLOOKUP(C548,BDDG!$A$3:$J$102,3,FALSE))","v":"A"},{"$f":"IF(ISNA(VLOOKUP(C548,BDDG!$A$3:$J$102,4,FALSE)),\"\",VLOOKUP(C548,BDDG!$A$3:$J$102,4,FALSE))","v":106},{"$f":"IF(ISNA(VLOOKUP(C548,BDDG!$A$2:$F$100,5,FALSE)),\"\",VLOOKUP(C548,BDDG!$A$2:$F$100,5,FALSE))","v":"A3"},{"$f":"IF(ISNA(VLOOKUP(C548,BDDG!$A$2:$F$100,6,FALSE)),\"\",VLOOKUP(C548,BDDG!$A$2:$F$100,6,FALSE))","v":"AA6"},{"$f":"IF(ISERROR(VLOOKUP(C548,BDDG!$A$2:$G$100,7,FALSE)),\"\",VLOOKUP(C548,BDDG!$A$2:$G$100,7,FALSE))","v":1},{"$f":"IF(ISERROR(VLOOKUP(C548,BDDG!$A$2:$H$100,8,FALSE)),\"\",VLOOKUP(C548,BDDG!$A$2:$H$100,8,FALSE))","v":"BB6"},10,55,15.709090909090911,{"$f":"IF(ISERROR(VLOOKUP(C548,BDDG!$A$2:$I$100,9,FALSE)),\"\",VLOOKUP(C548,BDDG!$A$2:$I$100,9,FALSE))","v":"CC6"},null,null,"",{"$f":"IF(ISERROR(VLOOKUP(C548,BDDG!$A$2:$J$100,10,FALSE)),\"\",VLOOKUP(C548,BDDG!$A$2:$J$100,10,FALSE))","v":"DD6"},null,null,"",15.709090909090911,9,2011,{"$f":"IFERROR(INDEX($V$2:V548,MATCH(H548&MAX(IF($H$1:H547=H548,$A$1:A547)),$H$2:H548&$A$2:A548,0))-V548,\"\")","v":0.5927958833619229}]
["2011-10-10",null,868,{"$f":"IF(ISNA(VLOOKUP(C549,BDDG!$A$2:$F$100,2,FALSE)),\"\",VLOOKUP(C549,BDDG!$A$2:$F$100,2,FALSE))","v":0},{"$f":"IF(ISNA(VLOOKUP(C549,BDDG!$A$3:$J$102,3,FALSE)),\"\",VLOOKUP(C549,BDDG!$A$3:$J$102,3,FALSE))","v":"A"},{"$f":"IF(ISNA(VLOOKUP(C549,BDDG!$A$3:$J$102,4,FALSE)),\"\",VLOOKUP(C549,BDDG!$A$3:$J$102,4,FALSE))","v":108},{"$f":"IF(ISNA(VLOOKUP(C549,BDDG!$A$2:$F$100,5,FALSE)),\"\",VLOOKUP(C549,BDDG!$A$2:$F$100,5,FALSE))","v":"A16"},{"$f":"IF(ISNA(VLOOKUP(C549,BDDG!$A$2:$F$100,6,FALSE)),\"\",VLOOKUP(C549,BDDG!$A$2:$F$100,6,FALSE))","v":"AA39"},{"$f":"IF(ISERROR(VLOOKUP(C549,BDDG!$A$2:$G$100,7,FALSE)),\"\",VLOOKUP(C549,BDDG!$A$2:$G$100,7,FALSE))","v":2},{"$f":"IF(ISERROR(VLOOKUP(C549,BDDG!$A$2:$H$100,8,FALSE)),\"\",VLOOKUP(C549,BDDG!$A$2:$H$100,8,FALSE))","v":"BB39"},2,60,2.8800000000000003,{"$f":"IF(ISERROR(VLOOKUP(C549,BDDG!$A$2:$I$100,9,FALSE)),\"\",VLOOKUP(C549,BDDG!$A$2:$I$100,9,FALSE))","v":"CC39"},null,null,"",{"$f":"IF(ISERROR(VLOOKUP(C549,BDDG!$A$2:$J$100,10,FALSE)),\"\",VLOOKUP(C549,BDDG!$A$2:$J$100,10,FALSE))","v":"DD39"},null,null,"",2.8800000000000003,10,2011,{"$f":"IFERROR(INDEX($V$2:V549,MATCH(H549&MAX(IF($H$1:H548=H549,$A$1:A548)),$H$2:H549&$A$2:A549,0))-V549,\"\")","v":7.92}]
["2011-10-10",null,870,{"$f":"IF(ISNA(VLOOKUP(C550,BDDG!$A$2:$F$100,2,FALSE)),\"\",VLOOKUP(C550,BDDG!$A$2:$F$100,2,FALSE))","v":0},{"$f":"IF(ISNA(VLOOKUP(C550,BDDG!$A$3:$J$102,3,FALSE)),\"\",VLOOKUP(C550,BDDG!$A$3:$J$102,3,FALSE))","v":"A"},{"$f":"IF(ISNA(VLOOKUP(C550,BDDG!$A$3:$J$102,4,FALSE)),\"\",VLOOKUP(C550,BDDG!$A$3:$J$102,4,FALSE))","v":108},{"$f":"IF(ISNA(VLOOKUP(C550,BDDG!$A$2:$F$100,5,FALSE)),\"\",VLOOKUP(C550,BDDG!$A$2:$F$100,5,FALSE))","v":"A16"},{"$f":"IF(ISNA(VLOOKUP(C550,BDDG!$A$2:$F$100,6,FALSE)),\"\",VLOOKUP(C550,BDDG!$A$2:$F$100,6,FALSE))","v":"AA41"},{"$f":"IF(ISERROR(VLOOKUP(C550,BDDG!$A$2:$G$100,7,FALSE)),\"\",VLOOKUP(C550,BDDG!$A$2:$G$100,7,FALSE))","v":2},{"$f":"IF(ISERROR(VLOOKUP(C550,BDDG!$A$2:$H$100,8,FALSE)),\"\",VLOOKUP(C550,BDDG!$A$2:$H$100,8,FALSE))","v":"BB41"},1,60,1.4400000000000002,{"$f":"IF(ISERROR(VLOOKUP(C550,BDDG!$A$2:$I$100,9,FALSE)),\"\",VLOOKUP(C550,BDDG!$A$2:$I$100,9,FALSE))","v":"CC41"},0,60,0,{"$f":"IF(ISERROR(VLOOKUP(C550,BDDG!$A$2:$J$100,10,FALSE)),\"\",VLOOKUP(C550,BDDG!$A$2:$J$100,10,FALSE))","v":"DD41"},null,null,"",1.4400000000000002,10,2011,{"$f":"IFERROR(INDEX($V$2:V550,MATCH(H550&MAX(IF($H$1:H549=H550,$A$1:A549)),$H$2:H550&$A$2:A550,0))-V550,\"\")","v":5.04}]
["2011-10-11",null,867,{"$f":"IF(ISNA(VLOOKUP(C551,BDDG!$A$2:$F$100,2,FALSE)),\"\",VLOOKUP(C551,BDDG!$A$2:$F$100,2,FALSE))","v":0},{"$f":"IF(ISNA(VLOOKUP(C551,BDDG!$A$3:$J$102,3,FALSE)),\"\",VLOOKUP(C551,BDDG!$A$3:$J$102,3,FALSE))","v":"C"},{"$f":"IF(ISNA(VLOOKUP(C551,BDDG!$A$3:$J$102,4,FALSE)),\"\",VLOOKUP(C551,BDDG!$A$3:$J$102,4,FALSE))","v":108},{"$f":"IF(ISNA(VLOOKUP(C551,BDDG!$A$2:$F$100,5,FALSE)),\"\",VLOOKUP(C551,BDDG!$A$2:$F$100,5,FALSE))","v":"A17"},{"$f":"IF(ISNA(VLOOKUP(C551,BDDG!$A$2:$F$100,6,FALSE)),\"\",VLOOKUP(C551,BDDG!$A$2:$F$100,6,FALSE))","v":"AA43"},{"$f":"IF(ISERROR(VLOOKUP(C551,BDDG!$A$2:$G$100,7,FALSE)),\"\",VLOOKUP(C551,BDDG!$A$2:$G$100,7,FALSE))","v":1},{"$f":"IF(ISERROR(VLOOKUP(C551,BDDG!$A$2:$H$100,8,FALSE)),\"\",VLOOKUP(C551,BDDG!$A$2:$H$100,8,FALSE))","v":"BB43"},10,55,15.709090909090911,{"$f":"IF(ISERROR(VLOOKUP(C551,BDDG!$A$2:$I$100,9,FALSE)),\"\",VLOOKUP(C551,BDDG!$A$2:$I$100,9,FALSE))","v":"CC43"},null,null,null,{"$f":"IF(ISERROR(VLOOKUP(C551,BDDG!$A$2:$J$100,10,FALSE)),\"\",VLOOKUP(C551,BDDG!$A$2:$J$100,10,FALSE))","v":"DD43"},null,null,"",15.709090909090911,10,2011,{"$f":"IFERROR(INDEX($V$2:V551,MATCH(H551&MAX(IF($H$1:H550=H551,$A$1:A550)),$H$2:H551&$A$2:A551,0))-V551,\"\")","v":12.161876832844573}]
["2011-10-11",null,866,{"$f":"IF(ISNA(VLOOKUP(C552,BDDG!$A$2:$F$100,2,FALSE)),\"\",VLOOKUP(C552,BDDG!$A$2:$F$100,2,FALSE))","v":0},{"$f":"IF(ISNA(VLOOKUP(C552,BDDG!$A$3:$J$102,3,FALSE)),\"\",VLOOKUP(C552,BDDG!$A$3:$J$102,3,FALSE))","v":"C"},{"$f":"IF(ISNA(VLOOKUP(C552,BDDG!$A$3:$J$102,4,FALSE)),\"\",VLOOKUP(C552,BDDG!$A$3:$J$102,4,FALSE))","v":108},{"$f":"IF(ISNA(VLOOKUP(C552,BDDG!$A$2:$F$100,5,FALSE)),\"\",VLOOKUP(C552,BDDG!$A$2:$F$100,5,FALSE))","v":"A17"},{"$f":"IF(ISNA(VLOOKUP(C552,BDDG!$A$2:$F$100,6,FALSE)),\"\",VLOOKUP(C552,BDDG!$A$2:$F$100,6,FALSE))","v":"AA42"},{"$f":"IF(ISERROR(VLOOKUP(C552,BDDG!$A$2:$G$100,7,FALSE)),\"\",VLOOKUP(C552,BDDG!$A$2:$G$100,7,FALSE))","v":1},{"$f":"IF(ISERROR(VLOOKUP(C552,BDDG!$A$2:$H$100,8,FALSE)),\"\",VLOOKUP(C552,BDDG!$A$2:$H$100,8,FALSE))","v":"BB42"},0.7,1,60.48,{"$f":"IF(ISERROR(VLOOKUP(C552,BDDG!$A$2:$I$100,9,FALSE)),\"\",VLOOKUP(C552,BDDG!$A$2:$I$100,9,FALSE))","v":"CC42"},null,null,null,{"$f":"IF(ISERROR(VLOOKUP(C552,BDDG!$A$2:$J$100,10,FALSE)),\"\",VLOOKUP(C552,BDDG!$A$2:$J$100,10,FALSE))","v":"DD42"},null,null,"",60.48,10,2011,{"$f":"IFERROR(INDEX($V$2:V552,MATCH(H552&MAX(IF($H$1:H551=H552,$A$1:A551)),$H$2:H552&$A$2:A552,0))-V552,\"\")","v":-8.6399999999999935}]
["2011-10-18",null,822,{"$f":"IF(ISNA(VLOOKUP(C553,BDDG!$A$2:$F$100,2,FALSE)),\"\",VLOOKUP(C553,BDDG!$A$2:$F$100,2,FALSE))","v":0},{"$f":"IF(ISNA(VLOOKUP(C553,BDDG!$A$3:$J$102,3,FALSE)),\"\",VLOOKUP(C553,BDDG!$A$3:$J$102,3,FALSE))","v":"A"},{"$f":"IF(ISNA(VLOOKUP(C553,BDDG!$A$3:$J$102,4,FALSE)),\"\",VLOOKUP(C553,BDDG!$A$3:$J$102,4,FALSE))","v":106},{"$f":"IF(ISNA(VLOOKUP(C553,BDDG!$A$2:$F$100,5,FALSE)),\"\",VLOOKUP(C553,BDDG!$A$2:$F$100,5,FALSE))","v":"A4"},{"$f":"IF(ISNA(VLOOKUP(C553,BDDG!$A$2:$F$100,6,FALSE)),\"\",VLOOKUP(C553,BDDG!$A$2:$F$100,6,FALSE))","v":"AA12"},{"$f":"IF(ISERROR(VLOOKUP(C553,BDDG!$A$2:$G$100,7,FALSE)),\"\",VLOOKUP(C553,BDDG!$A$2:$G$100,7,FALSE))","v":1},{"$f":"IF(ISERROR(VLOOKUP(C553,BDDG!$A$2:$H$100,8,FALSE)),\"\",VLOOKUP(C553,BDDG!$A$2:$H$100,8,FALSE))","v":"BB12"},10,13,66.461538461538467,{"$f":"IF(ISERROR(VLOOKUP(C553,BDDG!$A$2:$I$100,9,FALSE)),\"\",VLOOKUP(C553,BDDG!$A$2:$I$100,9,FALSE))","v":"CC12"},null,null,{"$f":" IF(ISERROR(O553/P553*86.4),\"\",O553/P553*86.4)","v":""},{"$f":"IF(ISERROR(VLOOKUP(C553,BDDG!$A$2:$J$100,10,FALSE)),\"\",VLOOKUP(C553,BDDG!$A$2:$J$100,10,FALSE))","v":"DD12"},null,null,"",66.461538461538467,10,2011,{"$f":"IFERROR(INDEX($V$2:V553,MATCH(H553&MAX(IF($H$1:H552=H553,$A$1:A552)),$H$2:H553&$A$2:A553,0))-V553,\"\")","v":19.938461538461539}]
["2011-10-26",null,860,{"$f":"IF(ISNA(VLOOKUP(C554,BDDG!$A$2:$F$100,2,FALSE)),\"\",VLOOKUP(C554,BDDG!$A$2:$F$100,2,FALSE))","v":0},{"$f":"IF(ISNA(VLOOKUP(C554,BDDG!$A$3:$J$102,3,FALSE)),\"\",VLOOKUP(C554,BDDG!$A$3:$J$102,3,FALSE))","v":"A"},{"$f":"IF(ISNA(VLOOKUP(C554,BDDG!$A$3:$J$102,4,FALSE)),\"\",VLOOKUP(C554,BDDG!$A$3:$J$102,4,FALSE))","v":106},{"$f":"IF(ISNA(VLOOKUP(C554,BDDG!$A$2:$F$100,5,FALSE)),\"\",VLOOKUP(C554,BDDG!$A$2:$F$100,5,FALSE))","v":"A11"},{"$f":"IF(ISNA(VLOOKUP(C554,BDDG!$A$2:$F$100,6,FALSE)),\"\",VLOOKUP(C554,BDDG!$A$2:$F$100,6,FALSE))","v":"AA32"},{"$f":"IF(ISERROR(VLOOKUP(C554,BDDG!$A$2:$G$100,7,FALSE)),\"\",VLOOKUP(C554,BDDG!$A$2:$G$100,7,FALSE))","v":2},{"$f":"IF(ISERROR(VLOOKUP(C554,BDDG!$A$2:$H$100,8,FALSE)),\"\",VLOOKUP(C554,BDDG!$A$2:$H$100,8,FALSE))","v":"BB32"},20,26,66.461538461538467,{"$f":"IF(ISERROR(VLOOKUP(C554,BDDG!$A$2:$I$100,9,FALSE)),\"\",VLOOKUP(C554,BDDG!$A$2:$I$100,9,FALSE))","v":"CC32"},null,null,"",{"$f":"IF(ISERROR(VLOOKUP(C554,BDDG!$A$2:$J$100,10,FALSE)),\"\",VLOOKUP(C554,BDDG!$A$2:$J$100,10,FALSE))","v":"DD32"},null,null,"",66.461538461538467,10,2011,{"$f":"IFERROR(INDEX($V$2:V554,MATCH(H554&MAX(IF($H$1:H553=H554,$A$1:A553)),$H$2:H554&$A$2:A554,0))-V554,\"\")","v":-23.261538461538464}]
["2011-10-26",null,861,{"$f":"IF(ISNA(VLOOKUP(C555,BDDG!$A$2:$F$100,2,FALSE)),\"\",VLOOKUP(C555,BDDG!$A$2:$F$100,2,FALSE))","v":0},{"$f":"IF(ISNA(VLOOKUP(C555,BDDG!$A$3:$J$102,3,FALSE)),\"\",VLOOKUP(C555,BDDG!$A$3:$J$102,3,FALSE))","v":"A"},{"$f":"IF(ISNA(VLOOKUP(C555,BDDG!$A$3:$J$102,4,FALSE)),\"\",VLOOKUP(C555,BDDG!$A$3:$J$102,4,FALSE))","v":106},{"$f":"IF(ISNA(VLOOKUP(C555,BDDG!$A$2:$F$100,5,FALSE)),\"\",VLOOKUP(C555,BDDG!$A$2:$F$100,5,FALSE))","v":"A11"},{"$f":"IF(ISNA(VLOOKUP(C555,BDDG!$A$2:$F$100,6,FALSE)),\"\",VLOOKUP(C555,BDDG!$A$2:$F$100,6,FALSE))","v":"AA33"},{"$f":"IF(ISERROR(VLOOKUP(C555,BDDG!$A$2:$G$100,7,FALSE)),\"\",VLOOKUP(C555,BDDG!$A$2:$G$100,7,FALSE))","v":2},{"$f":"IF(ISERROR(VLOOKUP(C555,BDDG!$A$2:$H$100,8,FALSE)),\"\",VLOOKUP(C555,BDDG!$A$2:$H$100,8,FALSE))","v":"BB33"},null,null,null,{"$f":"IF(ISERROR(VLOOKUP(C555,BDDG!$A$2:$I$100,9,FALSE)),\"\",VLOOKUP(C555,BDDG!$A$2:$I$100,9,FALSE))","v":"CC33"},10,7,123.42857142857144,{"$f":"IF(ISERROR(VLOOKUP(C555,BDDG!$A$2:$J$100,10,FALSE)),\"\",VLOOKUP(C555,BDDG!$A$2:$J$100,10,FALSE))","v":"DD33"},null,null,"",{"$f":"IF(ISERROR(SUM(M555,Q555,U555)),\"\",SUM((M555,Q555,U555)))","v":123.42857142857144},10,2011,{"$f":"IFERROR(INDEX($V$2:V555,MATCH(H555&MAX(IF($H$1:H554=H555,$A$1:A554)),$H$2:H555&$A$2:A555,0))-V555,\"\")","v":49.371428571428567}]
["2011-11-24",null,868,{"$f":"IF(ISNA(VLOOKUP(C556,BDDG!$A$2:$F$100,2,FALSE)),\"\",VLOOKUP(C556,BDDG!$A$2:$F$100,2,FALSE))","v":0},{"$f":"IF(ISNA(VLOOKUP(C556,BDDG!$A$3:$J$102,3,FALSE)),\"\",VLOOKUP(C556,BDDG!$A$3:$J$102,3,FALSE))","v":"A"},{"$f":"IF(ISNA(VLOOKUP(C556,BDDG!$A$3:$J$102,4,FALSE)),\"\",VLOOKUP(C556,BDDG!$A$3:$J$102,4,FALSE))","v":108},{"$f":"IF(ISNA(VLOOKUP(C556,BDDG!$A$2:$F$100,5,FALSE)),\"\",VLOOKUP(C556,BDDG!$A$2:$F$100,5,FALSE))","v":"A16"},{"$f":"IF(ISNA(VLOOKUP(C556,BDDG!$A$2:$F$100,6,FALSE)),\"\",VLOOKUP(C556,BDDG!$A$2:$F$100,6,FALSE))","v":"AA39"},{"$f":"IF(ISERROR(VLOOKUP(C556,BDDG!$A$2:$G$100,7,FALSE)),\"\",VLOOKUP(C556,BDDG!$A$2:$G$100,7,FALSE))","v":2},{"$f":"IF(ISERROR(VLOOKUP(C556,BDDG!$A$2:$H$100,8,FALSE)),\"\",VLOOKUP(C556,BDDG!$A$2:$H$100,8,FALSE))","v":"BB39"},7,60,{"$f":" IF(ISERROR(K556/L556*86.4),\"\",K556/L556*86.4)","v":10.08},{"$f":"IF(ISERROR(VLOOKUP(C556,BDDG!$A$2:$I$100,9,FALSE)),\"\",VLOOKUP(C556,BDDG!$A$2:$I$100,9,FALSE))","v":"CC39"},null,null,"",{"$f":"IF(ISERROR(VLOOKUP(C556,BDDG!$A$2:$J$100,10,FALSE)),\"\",VLOOKUP(C556,BDDG!$A$2:$J$100,10,FALSE))","v":"DD39"},null,null,"",{"$f":"IF(ISERROR(SUM(M556,Q556,U556)),\"\",SUM(M556,Q556,U556))","v":10.08},11,2011,{"$f":"IFERROR(INDEX($V$2:V556,MATCH(H556&MAX(IF($H$1:H555=H556,$A$1:A555)),$H$2:H556&$A$2:A556,0))-V556,\"\")","v":-7.1999999999999993}]
["2011-11-25",null,867,{"$f":"IF(ISNA(VLOOKUP(C557,BDDG!$A$2:$F$100,2,FALSE)),\"\",VLOOKUP(C557,BDDG!$A$2:$F$100,2,FALSE))","v":0},{"$f":"IF(ISNA(VLOOKUP(C557,BDDG!$A$3:$J$102,3,FALSE)),\"\",VLOOKUP(C557,BDDG!$A$3:$J$102,3,FALSE))","v":"C"},{"$f":"IF(ISNA(VLOOKUP(C557,BDDG!$A$3:$J$102,4,FALSE)),\"\",VLOOKUP(C557,BDDG!$A$3:$J$102,4,FALSE))","v":108},{"$f":"IF(ISNA(VLOOKUP(C557,BDDG!$A$2:$F$100,5,FALSE)),\"\",VLOOKUP(C557,BDDG!$A$2:$F$100,5,FALSE))","v":"A17"},{"$f":"IF(ISNA(VLOOKUP(C557,BDDG!$A$2:$F$100,6,FALSE)),\"\",VLOOKUP(C557,BDDG!$A$2:$F$100,6,FALSE))","v":"AA43"},{"$f":"IF(ISERROR(VLOOKUP(C557,BDDG!$A$2:$G$100,7,FALSE)),\"\",VLOOKUP(C557,BDDG!$A$2:$G$100,7,FALSE))","v":1},{"$f":"IF(ISERROR(VLOOKUP(C557,BDDG!$A$2:$H$100,8,FALSE)),\"\",VLOOKUP(C557,BDDG!$A$2:$H$100,8,FALSE))","v":"BB43"},10,50,17.28,{"$f":"IF(ISERROR(VLOOKUP(C557,BDDG!$A$2:$I$100,9,FALSE)),\"\",VLOOKUP(C557,BDDG!$A$2:$I$100,9,FALSE))","v":"CC43"},null,null,null,{"$f":"IF(ISERROR(VLOOKUP(C557,BDDG!$A$2:$J$100,10,FALSE)),\"\",VLOOKUP(C557,BDDG!$A$2:$J$100,10,FALSE))","v":"DD43"},null,null,"",17.28,11,2011,{"$f":"IFERROR(INDEX($V$2:V557,MATCH(H557&MAX(IF($H$1:H556=H557,$A$1:A556)),$H$2:H557&$A$2:A557,0))-V557,\"\")","v":-1.5709090909090904}]
["2011-11-25",null,866,{"$f":"IF(ISNA(VLOOKUP(C558,BDDG!$A$2:$F$100,2,FALSE)),\"\",VLOOKUP(C558,BDDG!$A$2:$F$100,2,FALSE))","v":0},{"$f":"IF(ISNA(VLOOKUP(C558,BDDG!$A$3:$J$102,3,FALSE)),\"\",VLOOKUP(C558,BDDG!$A$3:$J$102,3,FALSE))","v":"C"},{"$f":"IF(ISNA(VLOOKUP(C558,BDDG!$A$3:$J$102,4,FALSE)),\"\",VLOOKUP(C558,BDDG!$A$3:$J$102,4,FALSE))","v":108},{"$f":"IF(ISNA(VLOOKUP(C558,BDDG!$A$2:$F$100,5,FALSE)),\"\",VLOOKUP(C558,BDDG!$A$2:$F$100,5,FALSE))","v":"A17"},{"$f":"IF(ISNA(VLOOKUP(C558,BDDG!$A$2:$F$100,6,FALSE)),\"\",VLOOKUP(C558,BDDG!$A$2:$F$100,6,FALSE))","v":"AA42"},{"$f":"IF(ISERROR(VLOOKUP(C558,BDDG!$A$2:$G$100,7,FALSE)),\"\",VLOOKUP(C558,BDDG!$A$2:$G$100,7,FALSE))","v":1},{"$f":"IF(ISERROR(VLOOKUP(C558,BDDG!$A$2:$H$100,8,FALSE)),\"\",VLOOKUP(C558,BDDG!$A$2:$H$100,8,FALSE))","v":"BB42"},0.8,1,69.12,{"$f":"IF(ISERROR(VLOOKUP(C558,BDDG!$A$2:$I$100,9,FALSE)),\"\",VLOOKUP(C558,BDDG!$A$2:$I$100,9,FALSE))","v":"CC42"},null,null,null,{"$f":"IF(ISERROR(VLOOKUP(C558,BDDG!$A$2:$J$100,10,FALSE)),\"\",VLOOKUP(C558,BDDG!$A$2:$J$100,10,FALSE))","v":"DD42"},null,null,"",69.12,11,2011,{"$f":"IFERROR(INDEX($V$2:V558,MATCH(H558&MAX(IF($H$1:H557=H558,$A$1:A557)),$H$2:H558&$A$2:A558,0))-V558,\"\")","v":-8.6400000000000077}]
["2011-12-05",null,867,{"$f":"IF(ISNA(VLOOKUP(C559,BDDG!$A$2:$F$100,2,FALSE)),\"\",VLOOKUP(C559,BDDG!$A$2:$F$100,2,FALSE))","v":0},{"$f":"IF(ISNA(VLOOKUP(C559,BDDG!$A$3:$J$102,3,FALSE)),\"\",VLOOKUP(C559,BDDG!$A$3:$J$102,3,FALSE))","v":"C"},{"$f":"IF(ISNA(VLOOKUP(C559,BDDG!$A$3:$J$102,4,FALSE)),\"\",VLOOKUP(C559,BDDG!$A$3:$J$102,4,FALSE))","v":108},{"$f":"IF(ISNA(VLOOKUP(C559,BDDG!$A$2:$F$100,5,FALSE)),\"\",VLOOKUP(C559,BDDG!$A$2:$F$100,5,FALSE))","v":"A17"},{"$f":"IF(ISNA(VLOOKUP(C559,BDDG!$A$2:$F$100,6,FALSE)),\"\",VLOOKUP(C559,BDDG!$A$2:$F$100,6,FALSE))","v":"AA43"},{"$f":"IF(ISERROR(VLOOKUP(C559,BDDG!$A$2:$G$100,7,FALSE)),\"\",VLOOKUP(C559,BDDG!$A$2:$G$100,7,FALSE))","v":1},{"$f":"IF(ISERROR(VLOOKUP(C559,BDDG!$A$2:$H$100,8,FALSE)),\"\",VLOOKUP(C559,BDDG!$A$2:$H$100,8,FALSE))","v":"BB43"},11,50,19.008000000000003,{"$f":"IF(ISERROR(VLOOKUP(C559,BDDG!$A$2:$I$100,9,FALSE)),\"\",VLOOKUP(C559,BDDG!$A$2:$I$100,9,FALSE))","v":"CC43"},null,null,null,{"$f":"IF(ISERROR(VLOOKUP(C559,BDDG!$A$2:$J$100,10,FALSE)),\"\",VLOOKUP(C559,BDDG!$A$2:$J$100,10,FALSE))","v":"DD43"},null,null,"",19.008000000000003,12,2011,{"$f":"IFERROR(INDEX($V$2:V559,MATCH(H559&MAX(IF($H$1:H558=H559,$A$1:A558)),$H$2:H559&$A$2:A559,0))-V559,\"\")","v":-1.7280000000000015}]
["2011-12-05",null,868,{"$f":"IF(ISNA(VLOOKUP(C560,BDDG!$A$2:$F$100,2,FALSE)),\"\",VLOOKUP(C560,BDDG!$A$2:$F$100,2,FALSE))","v":0},{"$f":"IF(ISNA(VLOOKUP(C560,BDDG!$A$3:$J$102,3,FALSE)),\"\",VLOOKUP(C560,BDDG!$A$3:$J$102,3,FALSE))","v":"A"},{"$f":"IF(ISNA(VLOOKUP(C560,BDDG!$A$3:$J$102,4,FALSE)),\"\",VLOOKUP(C560,BDDG!$A$3:$J$102,4,FALSE))","v":108},{"$f":"IF(ISNA(VLOOKUP(C560,BDDG!$A$2:$F$100,5,FALSE)),\"\",VLOOKUP(C560,BDDG!$A$2:$F$100,5,FALSE))","v":"A16"},{"$f":"IF(ISNA(VLOOKUP(C560,BDDG!$A$2:$F$100,6,FALSE)),\"\",VLOOKUP(C560,BDDG!$A$2:$F$100,6,FALSE))","v":"AA39"},{"$f":"IF(ISERROR(VLOOKUP(C560,BDDG!$A$2:$G$100,7,FALSE)),\"\",VLOOKUP(C560,BDDG!$A$2:$G$100,7,FALSE))","v":2},{"$f":"IF(ISERROR(VLOOKUP(C560,BDDG!$A$2:$H$100,8,FALSE)),\"\",VLOOKUP(C560,BDDG!$A$2:$H$100,8,FALSE))","v":"BB39"},0.5,7,{"$f":" IF(ISERROR(K560/L560*86.4),\"\",K560/L560*86.4)","v":6.1714285714285717},{"$f":"IF(ISERROR(VLOOKUP(C560,BDDG!$A$2:$I$100,9,FALSE)),\"\",VLOOKUP(C560,BDDG!$A$2:$I$100,9,FALSE))","v":"CC39"},null,null,{"$f":" IF(ISERROR(O560/P560*86.4),\"\",O560/P560*86.4)","v":""},{"$f":"IF(ISERROR(VLOOKUP(C560,BDDG!$A$2:$J$100,10,FALSE)),\"\",VLOOKUP(C560,BDDG!$A$2:$J$100,10,FALSE))","v":"DD39"},null,null,"",6.1714285714285717,12,2011,{"$f":"IFERROR(INDEX($V$2:V560,MATCH(H560&MAX(IF($H$1:H559=H560,$A$1:A559)),$H$2:H560&$A$2:A560,0))-V560,\"\")","v":3.9085714285714284}]
["2011-12-05",null,870,{"$f":"IF(ISNA(VLOOKUP(C561,BDDG!$A$2:$F$100,2,FALSE)),\"\",VLOOKUP(C561,BDDG!$A$2:$F$100,2,FALSE))","v":0},{"$f":"IF(ISNA(VLOOKUP(C561,BDDG!$A$3:$J$102,3,FALSE)),\"\",VLOOKUP(C561,BDDG!$A$3:$J$102,3,FALSE))","v":"A"},{"$f":"IF(ISNA(VLOOKUP(C561,BDDG!$A$3:$J$102,4,FALSE)),\"\",VLOOKUP(C561,BDDG!$A$3:$J$102,4,FALSE))","v":108},{"$f":"IF(ISNA(VLOOKUP(C561,BDDG!$A$2:$F$100,5,FALSE)),\"\",VLOOKUP(C561,BDDG!$A$2:$F$100,5,FALSE))","v":"A16"},{"$f":"IF(ISNA(VLOOKUP(C561,BDDG!$A$2:$F$100,6,FALSE)),\"\",VLOOKUP(C561,BDDG!$A$2:$F$100,6,FALSE))","v":"AA41"},{"$f":"IF(ISERROR(VLOOKUP(C561,BDDG!$A$2:$G$100,7,FALSE)),\"\",VLOOKUP(C561,BDDG!$A$2:$G$100,7,FALSE))","v":2},{"$f":"IF(ISERROR(VLOOKUP(C561,BDDG!$A$2:$H$100,8,FALSE)),\"\",VLOOKUP(C561,BDDG!$A$2:$H$100,8,FALSE))","v":"BB41"},0.5,38,1.1368421052631579,{"$f":"IF(ISERROR(VLOOKUP(C561,BDDG!$A$2:$I$100,9,FALSE)),\"\",VLOOKUP(C561,BDDG!$A$2:$I$100,9,FALSE))","v":"CC41"},1,60,{"$f":" IF(ISERROR(O561/P561*86.4),\"\",O561/P561*86.4)","v":1.4400000000000002},{"$f":"IF(ISERROR(VLOOKUP(C561,BDDG!$A$2:$J$100,10,FALSE)),\"\",VLOOKUP(C561,BDDG!$A$2:$J$100,10,FALSE))","v":"DD41"},null,null,"",2.5768421052631583,12,2011,{"$f":"IFERROR(INDEX($V$2:V561,MATCH(H561&MAX(IF($H$1:H560=H561,$A$1:A560)),$H$2:H561&$A$2:A561,0))-V561,\"\")","v":-1.1368421052631581}]
["2011-12-05",null,866,{"$f":"IF(ISNA(VLOOKUP(C562,BDDG!$A$2:$F$100,2,FALSE)),\"\",VLOOKUP(C562,BDDG!$A$2:$F$100,2,FALSE))","v":0},{"$f":"IF(ISNA(VLOOKUP(C562,BDDG!$A$3:$J$102,3,FALSE)),\"\",VLOOKUP(C562,BDDG!$A$3:$J$102,3,FALSE))","v":"C"},{"$f":"IF(ISNA(VLOOKUP(C562,BDDG!$A$3:$J$102,4,FALSE)),\"\",VLOOKUP(C562,BDDG!$A$3:$J$102,4,FALSE))","v":108},{"$f":"IF(ISNA(VLOOKUP(C562,BDDG!$A$2:$F$100,5,FALSE)),\"\",VLOOKUP(C562,BDDG!$A$2:$F$100,5,FALSE))","v":"A17"},{"$f":"IF(ISNA(VLOOKUP(C562,BDDG!$A$2:$F$100,6,FALSE)),\"\",VLOOKUP(C562,BDDG!$A$2:$F$100,6,FALSE))","v":"AA42"},{"$f":"IF(ISERROR(VLOOKUP(C562,BDDG!$A$2:$G$100,7,FALSE)),\"\",VLOOKUP(C562,BDDG!$A$2:$G$100,7,FALSE))","v":1},{"$f":"IF(ISERROR(VLOOKUP(C562,BDDG!$A$2:$H$100,8,FALSE)),\"\",VLOOKUP(C562,BDDG!$A$2:$H$100,8,FALSE))","v":"BB42"},0.7,1,60.48,{"$f":"IF(ISERROR(VLOOKUP(C562,BDDG!$A$2:$I$100,9,FALSE)),\"\",VLOOKUP(C562,BDDG!$A$2:$I$100,9,FALSE))","v":"CC42"},null,null,null,{"$f":"IF(ISERROR(VLOOKUP(C562,BDDG!$A$2:$J$100,10,FALSE)),\"\",VLOOKUP(C562,BDDG!$A$2:$J$100,10,FALSE))","v":"DD42"},null,null,"",60.48,12,2011,{"$f":"IFERROR(INDEX($V$2:V562,MATCH(H562&MAX(IF($H$1:H561=H562,$A$1:A561)),$H$2:H562&$A$2:A562,0))-V562,\"\")","v":8.6400000000000077}]
["2011-12-06",null,842,{"$f":"IF(ISNA(VLOOKUP(C563,BDDG!$A$2:$F$100,2,FALSE)),\"\",VLOOKUP(C563,BDDG!$A$2:$F$100,2,FALSE))","v":0},{"$f":"IF(ISNA(VLOOKUP(C563,BDDG!$A$3:$J$102,3,FALSE)),\"\",VLOOKUP(C563,BDDG!$A$3:$J$102,3,FALSE))","v":"B"},{"$f":"IF(ISNA(VLOOKUP(C563,BDDG!$A$3:$J$102,4,FALSE)),\"\",VLOOKUP(C563,BDDG!$A$3:$J$102,4,FALSE))","v":106},{"$f":"IF(ISNA(VLOOKUP(C563,BDDG!$A$2:$F$100,5,FALSE)),\"\",VLOOKUP(C563,BDDG!$A$2:$F$100,5,FALSE))","v":"A5"},{"$f":"IF(ISNA(VLOOKUP(C563,BDDG!$A$2:$F$100,6,FALSE)),\"\",VLOOKUP(C563,BDDG!$A$2:$F$100,6,FALSE))","v":"AA13"},{"$f":"IF(ISERROR(VLOOKUP(C563,BDDG!$A$2:$G$100,7,FALSE)),\"\",VLOOKUP(C563,BDDG!$A$2:$G$100,7,FALSE))","v":1},{"$f":"IF(ISERROR(VLOOKUP(C563,BDDG!$A$2:$H$100,8,FALSE)),\"\",VLOOKUP(C563,BDDG!$A$2:$H$100,8,FALSE))","v":"BB13"},2,11,15.709090909090911,{"$f":"IF(ISERROR(VLOOKUP(C563,BDDG!$A$2:$I$100,9,FALSE)),\"\",VLOOKUP(C563,BDDG!$A$2:$I$100,9,FALSE))","v":"CC13"},null,null,{"$f":" IF(ISERROR(O563/P563*86.4),\"\",O563/P563*86.4)","v":""},{"$f":"IF(ISERROR(VLOOKUP(C563,BDDG!$A$2:$J$100,10,FALSE)),\"\",VLOOKUP(C563,BDDG!$A$2:$J$100,10,FALSE))","v":"DD13"},null,null,"",15.709090909090911,12,2011,{"$f":"IFERROR(INDEX($V$2:V563,MATCH(H563&MAX(IF($H$1:H562=H563,$A$1:A562)),$H$2:H563&$A$2:A563,0))-V563,\"\")","v":20.290909090909096}]
["2011-12-06",null,848,{"$f":"IF(ISNA(VLOOKUP(C564,BDDG!$A$2:$F$100,2,FALSE)),\"\",VLOOKUP(C564,BDDG!$A$2:$F$100,2,FALSE))","v":0},{"$f":"IF(ISNA(VLOOKUP(C564,BDDG!$A$3:$J$102,3,FALSE)),\"\",VLOOKUP(C564,BDDG!$A$3:$J$102,3,FALSE))","v":"B"},{"$f":"IF(ISNA(VLOOKUP(C564,BDDG!$A$3:$J$102,4,FALSE)),\"\",VLOOKUP(C564,BDDG!$A$3:$J$102,4,FALSE))","v":106},{"$f":"IF(ISNA(VLOOKUP(C564,BDDG!$A$2:$F$100,5,FALSE)),\"\",VLOOKUP(C564,BDDG!$A$2:$F$100,5,FALSE))","v":"A7"},{"$f":"IF(ISNA(VLOOKUP(C564,BDDG!$A$2:$F$100,6,FALSE)),\"\",VLOOKUP(C564,BDDG!$A$2:$F$100,6,FALSE))","v":"AA19"},{"$f":"IF(ISERROR(VLOOKUP(C564,BDDG!$A$2:$G$100,7,FALSE)),\"\",VLOOKUP(C564,BDDG!$A$2:$G$100,7,FALSE))","v":2},{"$f":"IF(ISERROR(VLOOKUP(C564,BDDG!$A$2:$H$100,8,FALSE)),\"\",VLOOKUP(C564,BDDG!$A$2:$H$100,8,FALSE))","v":"BB19"},2,24,7.2,{"$f":"IF(ISERROR(VLOOKUP(C564,BDDG!$A$2:$I$100,9,FALSE)),\"\",VLOOKUP(C564,BDDG!$A$2:$I$100,9,FALSE))","v":"CC19"},null,null,"",{"$f":"IF(ISERROR(VLOOKUP(C564,BDDG!$A$2:$J$100,10,FALSE)),\"\",VLOOKUP(C564,BDDG!$A$2:$J$100,10,FALSE))","v":"DD19"},null,null,"",7.2,12,2011,{"$f":"IFERROR(INDEX($V$2:V564,MATCH(H564&MAX(IF($H$1:H563=H564,$A$1:A563)),$H$2:H564&$A$2:A564,0))-V564,\"\")","v":7.2}]
["2011-12-06",null,869,{"$f":"IF(ISNA(VLOOKUP(C565,BDDG!$A$2:$F$100,2,FALSE)),\"\",VLOOKUP(C565,BDDG!$A$2:$F$100,2,FALSE))","v":0},{"$f":"IF(ISNA(VLOOKUP(C565,BDDG!$A$3:$J$102,3,FALSE)),\"\",VLOOKUP(C565,BDDG!$A$3:$J$102,3,FALSE))","v":"A"},{"$f":"IF(ISNA(VLOOKUP(C565,BDDG!$A$3:$J$102,4,FALSE)),\"\",VLOOKUP(C565,BDDG!$A$3:$J$102,4,FALSE))","v":108},{"$f":"IF(ISNA(VLOOKUP(C565,BDDG!$A$2:$F$100,5,FALSE)),\"\",VLOOKUP(C565,BDDG!$A$2:$F$100,5,FALSE))","v":"A16"},{"$f":"IF(ISNA(VLOOKUP(C565,BDDG!$A$2:$F$100,6,FALSE)),\"\",VLOOKUP(C565,BDDG!$A$2:$F$100,6,FALSE))","v":"AA40"},{"$f":"IF(ISERROR(VLOOKUP(C565,BDDG!$A$2:$G$100,7,FALSE)),\"\",VLOOKUP(C565,BDDG!$A$2:$G$100,7,FALSE))","v":3},{"$f":"IF(ISERROR(VLOOKUP(C565,BDDG!$A$2:$H$100,8,FALSE)),\"\",VLOOKUP(C565,BDDG!$A$2:$H$100,8,FALSE))","v":"BB40"},0.8,60,1.1520000000000001,{"$f":"IF(ISERROR(VLOOKUP(C565,BDDG!$A$2:$I$100,9,FALSE)),\"\",VLOOKUP(C565,BDDG!$A$2:$I$100,9,FALSE))","v":"CC40"},null,null,"",{"$f":"IF(ISERROR(VLOOKUP(C565,BDDG!$A$2:$J$100,10,FALSE)),\"\",VLOOKUP(C565,BDDG!$A$2:$J$100,10,FALSE))","v":"DD40"},null,null,"",1.1520000000000001,12,2011,{"$f":"IFERROR(INDEX($V$2:V565,MATCH(H565&MAX(IF($H$1:H564=H565,$A$1:A564)),$H$2:H565&$A$2:A565,0))-V565,\"\")","v":-0.19200000000000006}]
["2011-12-06",null,847,{"$f":"IF(ISNA(VLOOKUP(C566,BDDG!$A$2:$F$100,2,FALSE)),\"\",VLOOKUP(C566,BDDG!$A$2:$F$100,2,FALSE))","v":0},{"$f":"IF(ISNA(VLOOKUP(C566,BDDG!$A$3:$J$102,3,FALSE)),\"\",VLOOKUP(C566,BDDG!$A$3:$J$102,3,FALSE))","v":"B"},{"$f":"IF(ISNA(VLOOKUP(C566,BDDG!$A$3:$J$102,4,FALSE)),\"\",VLOOKUP(C566,BDDG!$A$3:$J$102,4,FALSE))","v":106},{"$f":"IF(ISNA(VLOOKUP(C566,BDDG!$A$2:$F$100,5,FALSE)),\"\",VLOOKUP(C566,BDDG!$A$2:$F$100,5,FALSE))","v":"A7"},{"$f":"IF(ISNA(VLOOKUP(C566,BDDG!$A$2:$F$100,6,FALSE)),\"\",VLOOKUP(C566,BDDG!$A$2:$F$100,6,FALSE))","v":"AA18"},{"$f":"IF(ISERROR(VLOOKUP(C566,BDDG!$A$2:$G$100,7,FALSE)),\"\",VLOOKUP(C566,BDDG!$A$2:$G$100,7,FALSE))","v":2},{"$f":"IF(ISERROR(VLOOKUP(C566,BDDG!$A$2:$H$100,8,FALSE)),\"\",VLOOKUP(C566,BDDG!$A$2:$H$100,8,FALSE))","v":"BB18"},2,24,7.2,{"$f":"IF(ISERROR(VLOOKUP(C566,BDDG!$A$2:$I$100,9,FALSE)),\"\",VLOOKUP(C566,BDDG!$A$2:$I$100,9,FALSE))","v":"CC18"},2,13,13.292307692307693,{"$f":"IF(ISERROR(VLOOKUP(C566,BDDG!$A$2:$J$100,10,FALSE)),\"\",VLOOKUP(C566,BDDG!$A$2:$J$100,10,FALSE))","v":"DD18"},null,null,"",20.492307692307694,12,2011,{"$f":"IFERROR(INDEX($V$2:V566,MATCH(H566&MAX(IF($H$1:H565=H566,$A$1:A565)),$H$2:H566&$A$2:A566,0))-V566,\"\")","v":8.3076923076923066}]
["2011-12-06",null,849,{"$f":"IF(ISNA(VLOOKUP(C567,BDDG!$A$2:$F$100,2,FALSE)),\"\",VLOOKUP(C567,BDDG!$A$2:$F$100,2,FALSE))","v":0},{"$f":"IF(ISNA(VLOOKUP(C567,BDDG!$A$3:$J$102,3,FALSE)),\"\",VLOOKUP(C567,BDDG!$A$3:$J$102,3,FALSE))","v":"B"},{"$f":"IF(ISNA(VLOOKUP(C567,BDDG!$A$3:$J$102,4,FALSE)),\"\",VLOOKUP(C567,BDDG!$A$3:$J$102,4,FALSE))","v":106},{"$f":"IF(ISNA(VLOOKUP(C567,BDDG!$A$2:$F$100,5,FALSE)),\"\",VLOOKUP(C567,BDDG!$A$2:$F$100,5,FALSE))","v":"A7"},{"$f":"IF(ISNA(VLOOKUP(C567,BDDG!$A$2:$F$100,6,FALSE)),\"\",VLOOKUP(C567,BDDG!$A$2:$F$100,6,FALSE))","v":"AA15"},{"$f":"IF(ISERROR(VLOOKUP(C567,BDDG!$A$2:$G$100,7,FALSE)),\"\",VLOOKUP(C567,BDDG!$A$2:$G$100,7,FALSE))","v":2},{"$f":"IF(ISERROR(VLOOKUP(C567,BDDG!$A$2:$H$100,8,FALSE)),\"\",VLOOKUP(C567,BDDG!$A$2:$H$100,8,FALSE))","v":"BB15"},2,13,13.292307692307693,{"$f":"IF(ISERROR(VLOOKUP(C567,BDDG!$A$2:$I$100,9,FALSE)),\"\",VLOOKUP(C567,BDDG!$A$2:$I$100,9,FALSE))","v":"CC15"},2,10,17.28,{"$f":"IF(ISERROR(VLOOKUP(C567,BDDG!$A$2:$J$100,10,FALSE)),\"\",VLOOKUP(C567,BDDG!$A$2:$J$100,10,FALSE))","v":"DD15"},null,null,"",30.572307692307696,12,2011,{"$f":"IFERROR(INDEX($V$2:V567,MATCH(H567&MAX(IF($H$1:H566=H567,$A$1:A566)),$H$2:H567&$A$2:A567,0))-V567,\"\")","v":28.164534412955469}]
["2011-12-07",null,862,{"$f":"IF(ISNA(VLOOKUP(C568,BDDG!$A$2:$F$100,2,FALSE)),\"\",VLOOKUP(C568,BDDG!$A$2:$F$100,2,FALSE))","v":0},{"$f":"IF(ISNA(VLOOKUP(C568,BDDG!$A$3:$J$102,3,FALSE)),\"\",VLOOKUP(C568,BDDG!$A$3:$J$102,3,FALSE))","v":"A"},{"$f":"IF(ISNA(VLOOKUP(C568,BDDG!$A$3:$J$102,4,FALSE)),\"\",VLOOKUP(C568,BDDG!$A$3:$J$102,4,FALSE))","v":106},{"$f":"IF(ISNA(VLOOKUP(C568,BDDG!$A$2:$F$100,5,FALSE)),\"\",VLOOKUP(C568,BDDG!$A$2:$F$100,5,FALSE))","v":"A12"},{"$f":"IF(ISNA(VLOOKUP(C568,BDDG!$A$2:$F$100,6,FALSE)),\"\",VLOOKUP(C568,BDDG!$A$2:$F$100,6,FALSE))","v":"AA34"},{"$f":"IF(ISERROR(VLOOKUP(C568,BDDG!$A$2:$G$100,7,FALSE)),\"\",VLOOKUP(C568,BDDG!$A$2:$G$100,7,FALSE))","v":1},{"$f":"IF(ISERROR(VLOOKUP(C568,BDDG!$A$2:$H$100,8,FALSE)),\"\",VLOOKUP(C568,BDDG!$A$2:$H$100,8,FALSE))","v":"BB34"},10,15,57.6,{"$f":"IF(ISERROR(VLOOKUP(C568,BDDG!$A$2:$I$100,9,FALSE)),\"\",VLOOKUP(C568,BDDG!$A$2:$I$100,9,FALSE))","v":"CC34"},null,null,"",{"$f":"IF(ISERROR(VLOOKUP(C568,BDDG!$A$2:$J$100,10,FALSE)),\"\",VLOOKUP(C568,BDDG!$A$2:$J$100,10,FALSE))","v":"DD34"},null,null,"",57.6,12,2011,{"$f":"IFERROR(INDEX($V$2:V568,MATCH(H568&MAX(IF($H$1:H567=H568,$A$1:A567)),$H$2:H568&$A$2:A568,0))-V568,\"\")","v":4.114285714285721}]
["2011-12-07",null,832,{"$f":"IF(ISNA(VLOOKUP(C569,BDDG!$A$2:$F$100,2,FALSE)),\"\",VLOOKUP(C569,BDDG!$A$2:$F$100,2,FALSE))","v":0},{"$f":"IF(ISNA(VLOOKUP(C569,BDDG!$A$3:$J$102,3,FALSE)),\"\",VLOOKUP(C569,BDDG!$A$3:$J$102,3,FALSE))","v":"A"},{"$f":"IF(ISNA(VLOOKUP(C569,BDDG!$A$3:$J$102,4,FALSE)),\"\",VLOOKUP(C569,BDDG!$A$3:$J$102,4,FALSE))","v":106},{"$f":"IF(ISNA(VLOOKUP(C569,BDDG!$A$2:$F$100,5,FALSE)),\"\",VLOOKUP(C569,BDDG!$A$2:$F$100,5,FALSE))","v":"A2"},{"$f":"IF(ISNA(VLOOKUP(C569,BDDG!$A$2:$F$100,6,FALSE)),\"\",VLOOKUP(C569,BDDG!$A$2:$F$100,6,FALSE))","v":"AA2"},{"$f":"IF(ISERROR(VLOOKUP(C569,BDDG!$A$2:$G$100,7,FALSE)),\"\",VLOOKUP(C569,BDDG!$A$2:$G$100,7,FALSE))","v":1},{"$f":"IF(ISERROR(VLOOKUP(C569,BDDG!$A$2:$H$100,8,FALSE)),\"\",VLOOKUP(C569,BDDG!$A$2:$H$100,8,FALSE))","v":"BB2"},2,7,24.685714285714287,{"$f":"IF(ISERROR(VLOOKUP(C569,BDDG!$A$2:$I$100,9,FALSE)),\"\",VLOOKUP(C569,BDDG!$A$2:$I$100,9,FALSE))","v":"CC2"},null,null,{"$f":" IF(ISERROR(O569/P569*86.4),\"\",O569/P569*86.4)","v":""},{"$f":"IF(ISERROR(VLOOKUP(C569,BDDG!$A$2:$J$100,10,FALSE)),\"\",VLOOKUP(C569,BDDG!$A$2:$J$100,10,FALSE))","v":"DD2"},null,null,"",{"$f":"IF(ISERROR(SUM(M569,Q569,U569)),\"\",SUM(M569,Q569,U569))","v":24.685714285714287},12,2011,{"$f":"IFERROR(INDEX($V$2:V569,MATCH(H569&MAX(IF($H$1:H568=H569,$A$1:A568)),$H$2:H569&$A$2:A569,0))-V569,\"\")","v":6.1714285714285744}]
["2011-12-07",null,833,{"$f":"IF(ISNA(VLOOKUP(C570,BDDG!$A$2:$F$100,2,FALSE)),\"\",VLOOKUP(C570,BDDG!$A$2:$F$100,2,FALSE))","v":0},{"$f":"IF(ISNA(VLOOKUP(C570,BDDG!$A$3:$J$102,3,FALSE)),\"\",VLOOKUP(C570,BDDG!$A$3:$J$102,3,FALSE))","v":"A"},{"$f":"IF(ISNA(VLOOKUP(C570,BDDG!$A$3:$J$102,4,FALSE)),\"\",VLOOKUP(C570,BDDG!$A$3:$J$102,4,FALSE))","v":106},{"$f":"IF(ISNA(VLOOKUP(C570,BDDG!$A$2:$F$100,5,FALSE)),\"\",VLOOKUP(C570,BDDG!$A$2:$F$100,5,FALSE))","v":"A2"},{"$f":"IF(ISNA(VLOOKUP(C570,BDDG!$A$2:$F$100,6,FALSE)),\"\",VLOOKUP(C570,BDDG!$A$2:$F$100,6,FALSE))","v":"AA3"},{"$f":"IF(ISERROR(VLOOKUP(C570,BDDG!$A$2:$G$100,7,FALSE)),\"\",VLOOKUP(C570,BDDG!$A$2:$G$100,7,FALSE))","v":1},{"$f":"IF(ISERROR(VLOOKUP(C570,BDDG!$A$2:$H$100,8,FALSE)),\"\",VLOOKUP(C570,BDDG!$A$2:$H$100,8,FALSE))","v":"BB3"},2,18,9.6,{"$f":"IF(ISERROR(VLOOKUP(C570,BDDG!$A$2:$I$100,9,FALSE)),\"\",VLOOKUP(C570,BDDG!$A$2:$I$100,9,FALSE))","v":"CC3"},null,null,"",{"$f":"IF(ISERROR(VLOOKUP(C570,BDDG!$A$2:$J$100,10,FALSE)),\"\",VLOOKUP(C570,BDDG!$A$2:$J$100,10,FALSE))","v":"DD3"},null,null,"",9.6,12,2011,{"$f":"IFERROR(INDEX($V$2:V570,MATCH(H570&MAX(IF($H$1:H569=H570,$A$1:A569)),$H$2:H570&$A$2:A570,0))-V570,\"\")","v":5.828571428571431}]
["2011-12-07",null,834,{"$f":"IF(ISNA(VLOOKUP(C571,BDDG!$A$2:$F$100,2,FALSE)),\"\",VLOOKUP(C571,BDDG!$A$2:$F$100,2,FALSE))","v":0},{"$f":"IF(ISNA(VLOOKUP(C571,BDDG!$A$3:$J$102,3,FALSE)),\"\",VLOOKUP(C571,BDDG!$A$3:$J$102,3,FALSE))","v":"A"},{"$f":"IF(ISNA(VLOOKUP(C571,BDDG!$A$3:$J$102,4,FALSE)),\"\",VLOOKUP(C571,BDDG!$A$3:$J$102,4,FALSE))","v":106},{"$f":"IF(ISNA(VLOOKUP(C571,BDDG!$A$2:$F$100,5,FALSE)),\"\",VLOOKUP(C571,BDDG!$A$2:$F$100,5,FALSE))","v":"A2"},{"$f":"IF(ISNA(VLOOKUP(C571,BDDG!$A$2:$F$100,6,FALSE)),\"\",VLOOKUP(C571,BDDG!$A$2:$F$100,6,FALSE))","v":"AA4"},{"$f":"IF(ISERROR(VLOOKUP(C571,BDDG!$A$2:$G$100,7,FALSE)),\"\",VLOOKUP(C571,BDDG!$A$2:$G$100,7,FALSE))","v":1},{"$f":"IF(ISERROR(VLOOKUP(C571,BDDG!$A$2:$H$100,8,FALSE)),\"\",VLOOKUP(C571,BDDG!$A$2:$H$100,8,FALSE))","v":"BB4"},2,21,8.2285714285714295,{"$f":"IF(ISERROR(VLOOKUP(C571,BDDG!$A$2:$I$100,9,FALSE)),\"\",VLOOKUP(C571,BDDG!$A$2:$I$100,9,FALSE))","v":"CC4"},null,null,"",{"$f":"IF(ISERROR(VLOOKUP(C571,BDDG!$A$2:$J$100,10,FALSE)),\"\",VLOOKUP(C571,BDDG!$A$2:$J$100,10,FALSE))","v":"DD4"},null,null,"",8.2285714285714295,12,2011,{"$f":"IFERROR(INDEX($V$2:V571,MATCH(H571&MAX(IF($H$1:H570=H571,$A$1:A570)),$H$2:H571&$A$2:A571,0))-V571,\"\")","v":-0.54857142857142893}]
["2011-12-07",null,838,{"$f":"IF(ISNA(VLOOKUP(C572,BDDG!$A$2:$F$100,2,FALSE)),\"\",VLOOKUP(C572,BDDG!$A$2:$F$100,2,FALSE))","v":0},{"$f":"IF(ISNA(VLOOKUP(C572,BDDG!$A$3:$J$102,3,FALSE)),\"\",VLOOKUP(C572,BDDG!$A$3:$J$102,3,FALSE))","v":"A"},{"$f":"IF(ISNA(VLOOKUP(C572,BDDG!$A$3:$J$102,4,FALSE)),\"\",VLOOKUP(C572,BDDG!$A$3:$J$102,4,FALSE))","v":106},{"$f":"IF(ISNA(VLOOKUP(C572,BDDG!$A$2:$F$100,5,FALSE)),\"\",VLOOKUP(C572,BDDG!$A$2:$F$100,5,FALSE))","v":"A3"},{"$f":"IF(ISNA(VLOOKUP(C572,BDDG!$A$2:$F$100,6,FALSE)),\"\",VLOOKUP(C572,BDDG!$A$2:$F$100,6,FALSE))","v":"AA8"},{"$f":"IF(ISERROR(VLOOKUP(C572,BDDG!$A$2:$G$100,7,FALSE)),\"\",VLOOKUP(C572,BDDG!$A$2:$G$100,7,FALSE))","v":1},{"$f":"IF(ISERROR(VLOOKUP(C572,BDDG!$A$2:$H$100,8,FALSE)),\"\",VLOOKUP(C572,BDDG!$A$2:$H$100,8,FALSE))","v":"BB8"},2,7,24.685714285714287,{"$f":"IF(ISERROR(VLOOKUP(C572,BDDG!$A$2:$I$100,9,FALSE)),\"\",VLOOKUP(C572,BDDG!$A$2:$I$100,9,FALSE))","v":"CC8"},null,null,"",{"$f":"IF(ISERROR(VLOOKUP(C572,BDDG!$A$2:$J$100,10,FALSE)),\"\",VLOOKUP(C572,BDDG!$A$2:$J$100,10,FALSE))","v":"DD8"},null,null,"",24.685714285714287,12,2011,{"$f":"IFERROR(INDEX($V$2:V572,MATCH(H572&MAX(IF($H$1:H571=H572,$A$1:A571)),$H$2:H572&$A$2:A572,0))-V572,\"\")","v":-20.365714285714287}]
["2011-12-07",null,837,{"$f":"IF(ISNA(VLOOKUP(C573,BDDG!$A$2:$F$100,2,FALSE)),\"\",VLOOKUP(C573,BDDG!$A$2:$F$100,2,FALSE))","v":0},{"$f":"IF(ISNA(VLOOKUP(C573,BDDG!$A$3:$J$102,3,FALSE)),\"\",VLOOKUP(C573,BDDG!$A$3:$J$102,3,FALSE))","v":"A"},{"$f":"IF(ISNA(VLOOKUP(C573,BDDG!$A$3:$J$102,4,FALSE)),\"\",VLOOKUP(C573,BDDG!$A$3:$J$102,4,FALSE))","v":106},{"$f":"IF(ISNA(VLOOKUP(C573,BDDG!$A$2:$F$100,5,FALSE)),\"\",VLOOKUP(C573,BDDG!$A$2:$F$100,5,FALSE))","v":"A3"},{"$f":"IF(ISNA(VLOOKUP(C573,BDDG!$A$2:$F$100,6,FALSE)),\"\",VLOOKUP(C573,BDDG!$A$2:$F$100,6,FALSE))","v":"AA7"},{"$f":"IF(ISERROR(VLOOKUP(C573,BDDG!$A$2:$G$100,7,FALSE)),\"\",VLOOKUP(C573,BDDG!$A$2:$G$100,7,FALSE))","v":1},{"$f":"IF(ISERROR(VLOOKUP(C573,BDDG!$A$2:$H$100,8,FALSE)),\"\",VLOOKUP(C573,BDDG!$A$2:$H$100,8,FALSE))","v":"BB7"},2,9,19.2,{"$f":"IF(ISERROR(VLOOKUP(C573,BDDG!$A$2:$I$100,9,FALSE)),\"\",VLOOKUP(C573,BDDG!$A$2:$I$100,9,FALSE))","v":"CC7"},null,null,"",{"$f":"IF(ISERROR(VLOOKUP(C573,BDDG!$A$2:$J$100,10,FALSE)),\"\",VLOOKUP(C573,BDDG!$A$2:$J$100,10,FALSE))","v":"DD7"},null,null,"",19.2,12,2011,{"$f":"IFERROR(INDEX($V$2:V573,MATCH(H573&MAX(IF($H$1:H572=H573,$A$1:A572)),$H$2:H573&$A$2:A573,0))-V573,\"\")","v":-9.8399999999999981}]
["2011-12-07",null,836,{"$f":"IF(ISNA(VLOOKUP(C574,BDDG!$A$2:$F$100,2,FALSE)),\"\",VLOOKUP(C574,BDDG!$A$2:$F$100,2,FALSE))","v":0},{"$f":"IF(ISNA(VLOOKUP(C574,BDDG!$A$3:$J$102,3,FALSE)),\"\",VLOOKUP(C574,BDDG!$A$3:$J$102,3,FALSE))","v":"A"},{"$f":"IF(ISNA(VLOOKUP(C574,BDDG!$A$3:$J$102,4,FALSE)),\"\",VLOOKUP(C574,BDDG!$A$3:$J$102,4,FALSE))","v":106},{"$f":"IF(ISNA(VLOOKUP(C574,BDDG!$A$2:$F$100,5,FALSE)),\"\",VLOOKUP(C574,BDDG!$A$2:$F$100,5,FALSE))","v":"A3"},{"$f":"IF(ISNA(VLOOKUP(C574,BDDG!$A$2:$F$100,6,FALSE)),\"\",VLOOKUP(C574,BDDG!$A$2:$F$100,6,FALSE))","v":"AA6"},{"$f":"IF(ISERROR(VLOOKUP(C574,BDDG!$A$2:$G$100,7,FALSE)),\"\",VLOOKUP(C574,BDDG!$A$2:$G$100,7,FALSE))","v":1},{"$f":"IF(ISERROR(VLOOKUP(C574,BDDG!$A$2:$H$100,8,FALSE)),\"\",VLOOKUP(C574,BDDG!$A$2:$H$100,8,FALSE))","v":"BB6"},2,10,17.28,{"$f":"IF(ISERROR(VLOOKUP(C574,BDDG!$A$2:$I$100,9,FALSE)),\"\",VLOOKUP(C574,BDDG!$A$2:$I$100,9,FALSE))","v":"CC6"},null,null,"",{"$f":"IF(ISERROR(VLOOKUP(C574,BDDG!$A$2:$J$100,10,FALSE)),\"\",VLOOKUP(C574,BDDG!$A$2:$J$100,10,FALSE))","v":"DD6"},null,null,"",17.28,12,2011,{"$f":"IFERROR(INDEX($V$2:V574,MATCH(H574&MAX(IF($H$1:H573=H574,$A$1:A573)),$H$2:H574&$A$2:A574,0))-V574,\"\")","v":-1.5709090909090904}]
["2011-12-07",null,860,{"$f":"IF(ISNA(VLOOKUP(C575,BDDG!$A$2:$F$100,2,FALSE)),\"\",VLOOKUP(C575,BDDG!$A$2:$F$100,2,FALSE))","v":0},{"$f":"IF(ISNA(VLOOKUP(C575,BDDG!$A$3:$J$102,3,FALSE)),\"\",VLOOKUP(C575,BDDG!$A$3:$J$102,3,FALSE))","v":"A"},{"$f":"IF(ISNA(VLOOKUP(C575,BDDG!$A$3:$J$102,4,FALSE)),\"\",VLOOKUP(C575,BDDG!$A$3:$J$102,4,FALSE))","v":106},{"$f":"IF(ISNA(VLOOKUP(C575,BDDG!$A$2:$F$100,5,FALSE)),\"\",VLOOKUP(C575,BDDG!$A$2:$F$100,5,FALSE))","v":"A11"},{"$f":"IF(ISNA(VLOOKUP(C575,BDDG!$A$2:$F$100,6,FALSE)),\"\",VLOOKUP(C575,BDDG!$A$2:$F$100,6,FALSE))","v":"AA32"},{"$f":"IF(ISERROR(VLOOKUP(C575,BDDG!$A$2:$G$100,7,FALSE)),\"\",VLOOKUP(C575,BDDG!$A$2:$G$100,7,FALSE))","v":2},{"$f":"IF(ISERROR(VLOOKUP(C575,BDDG!$A$2:$H$100,8,FALSE)),\"\",VLOOKUP(C575,BDDG!$A$2:$H$100,8,FALSE))","v":"BB32"},10,6,144.00000000000003,{"$f":"IF(ISERROR(VLOOKUP(C575,BDDG!$A$2:$I$100,9,FALSE)),\"\",VLOOKUP(C575,BDDG!$A$2:$I$100,9,FALSE))","v":"CC32"},null,null,"",{"$f":"IF(ISERROR(VLOOKUP(C575,BDDG!$A$2:$J$100,10,FALSE)),\"\",VLOOKUP(C575,BDDG!$A$2:$J$100,10,FALSE))","v":"DD32"},null,null,"",144.00000000000003,12,2011,{"$f":"IFERROR(INDEX($V$2:V575,MATCH(H575&MAX(IF($H$1:H574=H575,$A$1:A574)),$H$2:H575&$A$2:A575,0))-V575,\"\")","v":-77.538461538461561}]
["2011-12-07",null,861,{"$f":"IF(ISNA(VLOOKUP(C576,BDDG!$A$2:$F$100,2,FALSE)),\"\",VLOOKUP(C576,BDDG!$A$2:$F$100,2,FALSE))","v":0},{"$f":"IF(ISNA(VLOOKUP(C576,BDDG!$A$3:$J$102,3,FALSE)),\"\",VLOOKUP(C576,BDDG!$A$3:$J$102,3,FALSE))","v":"A"},{"$f":"IF(ISNA(VLOOKUP(C576,BDDG!$A$3:$J$102,4,FALSE)),\"\",VLOOKUP(C576,BDDG!$A$3:$J$102,4,FALSE))","v":106},{"$f":"IF(ISNA(VLOOKUP(C576,BDDG!$A$2:$F$100,5,FALSE)),\"\",VLOOKUP(C576,BDDG!$A$2:$F$100,5,FALSE))","v":"A11"},{"$f":"IF(ISNA(VLOOKUP(C576,BDDG!$A$2:$F$100,6,FALSE)),\"\",VLOOKUP(C576,BDDG!$A$2:$F$100,6,FALSE))","v":"AA33"},{"$f":"IF(ISERROR(VLOOKUP(C576,BDDG!$A$2:$G$100,7,FALSE)),\"\",VLOOKUP(C576,BDDG!$A$2:$G$100,7,FALSE))","v":2},{"$f":"IF(ISERROR(VLOOKUP(C576,BDDG!$A$2:$H$100,8,FALSE)),\"\",VLOOKUP(C576,BDDG!$A$2:$H$100,8,FALSE))","v":"BB33"},null,null,null,{"$f":"IF(ISERROR(VLOOKUP(C576,BDDG!$A$2:$I$100,9,FALSE)),\"\",VLOOKUP(C576,BDDG!$A$2:$I$100,9,FALSE))","v":"CC33"},10,6,144.00000000000003,{"$f":"IF(ISERROR(VLOOKUP(C576,BDDG!$A$2:$J$100,10,FALSE)),\"\",VLOOKUP(C576,BDDG!$A$2:$J$100,10,FALSE))","v":"DD33"},null,null,{"$f":" IF(ISERROR(S576/T576*86.4),\"\",S576/T576*86.4)","v":""},{"$f":"IF(ISERROR(SUM(M576,Q576,U576)),\"\",SUM((M576,Q576,U576)))","v":144.00000000000003},12,2011,{"$f":"IFERROR(INDEX($V$2:V576,MATCH(H576&MAX(IF($H$1:H575=H576,$A$1:A575)),$H$2:H576&$A$2:A576,0))-V576,\"\")","v":-20.571428571428584}]
["2011-12-08",null,831,{"$f":"IF(ISNA(VLOOKUP(C577,BDDG!$A$2:$F$100,2,FALSE)),\"\",VLOOKUP(C577,BDDG!$A$2:$F$100,2,FALSE))","v":0},{"$f":"IF(ISNA(VLOOKUP(C577,BDDG!$A$3:$J$102,3,FALSE)),\"\",VLOOKUP(C577,BDDG!$A$3:$J$102,3,FALSE))","v":"A"},{"$f":"IF(ISNA(VLOOKUP(C577,BDDG!$A$3:$J$102,4,FALSE)),\"\",VLOOKUP(C577,BDDG!$A$3:$J$102,4,FALSE))","v":106},{"$f":"IF(ISNA(VLOOKUP(C577,BDDG!$A$2:$F$100,5,FALSE)),\"\",VLOOKUP(C577,BDDG!$A$2:$F$100,5,FALSE))","v":"A1"},{"$f":"IF(ISNA(VLOOKUP(C577,BDDG!$A$2:$F$100,6,FALSE)),\"\",VLOOKUP(C577,BDDG!$A$2:$F$100,6,FALSE))","v":"AA1"},{"$f":"IF(ISERROR(VLOOKUP(C577,BDDG!$A$2:$G$100,7,FALSE)),\"\",VLOOKUP(C577,BDDG!$A$2:$G$100,7,FALSE))","v":1},{"$f":"IF(ISERROR(VLOOKUP(C577,BDDG!$A$2:$H$100,8,FALSE)),\"\",VLOOKUP(C577,BDDG!$A$2:$H$100,8,FALSE))","v":"BB1"},10,6,{"$f":" IF(ISERROR(K577/L577*86.4),\"\",K577/L577*86.4)","v":144.00000000000003},{"$f":"IF(ISERROR(VLOOKUP(C577,BDDG!$A$2:$I$100,9,FALSE)),\"\",VLOOKUP(C577,BDDG!$A$2:$I$100,9,FALSE))","v":"CC1"},null,null,"",{"$f":"IF(ISERROR(VLOOKUP(C577,BDDG!$A$2:$J$100,10,FALSE)),\"\",VLOOKUP(C577,BDDG!$A$2:$J$100,10,FALSE))","v":"DD1"},null,null,"",{"$f":"IF(ISERROR(SUM(M577,Q577,U577)),\"\",SUM(M577,Q577,U577))","v":144.00000000000003},12,2011,{"$f":"IFERROR(INDEX($V$2:V577,MATCH(H577&MAX(IF($H$1:H576=H577,$A$1:A576)),$H$2:H577&$A$2:A577,0))-V577,\"\")","v":-57.600000000000023}]
["2011-12-08",null,856,{"$f":"IF(ISNA(VLOOKUP(C578,BDDG!$A$2:$F$100,2,FALSE)),\"\",VLOOKUP(C578,BDDG!$A$2:$F$100,2,FALSE))","v":0},{"$f":"IF(ISNA(VLOOKUP(C578,BDDG!$A$3:$J$102,3,FALSE)),\"\",VLOOKUP(C578,BDDG!$A$3:$J$102,3,FALSE))","v":"A"},{"$f":"IF(ISNA(VLOOKUP(C578,BDDG!$A$3:$J$102,4,FALSE)),\"\",VLOOKUP(C578,BDDG!$A$3:$J$102,4,FALSE))","v":106},{"$f":"IF(ISNA(VLOOKUP(C578,BDDG!$A$2:$F$100,5,FALSE)),\"\",VLOOKUP(C578,BDDG!$A$2:$F$100,5,FALSE))","v":"A9"},{"$f":"IF(ISNA(VLOOKUP(C578,BDDG!$A$2:$F$100,6,FALSE)),\"\",VLOOKUP(C578,BDDG!$A$2:$F$100,6,FALSE))","v":"AA27"},{"$f":"IF(ISERROR(VLOOKUP(C578,BDDG!$A$2:$G$100,7,FALSE)),\"\",VLOOKUP(C578,BDDG!$A$2:$G$100,7,FALSE))","v":2},{"$f":"IF(ISERROR(VLOOKUP(C578,BDDG!$A$2:$H$100,8,FALSE)),\"\",VLOOKUP(C578,BDDG!$A$2:$H$100,8,FALSE))","v":"BB27"},10,50,{"$f":" IF(ISERROR(K578/L578*86.4),\"\",K578/L578*86.4)","v":17.28},{"$f":"IF(ISERROR(VLOOKUP(C578,BDDG!$A$2:$I$100,9,FALSE)),\"\",VLOOKUP(C578,BDDG!$A$2:$I$100,9,FALSE))","v":"CC27"},10,5,172.8,{"$f":"IF(ISERROR(VLOOKUP(C578,BDDG!$A$2:$J$100,10,FALSE)),\"\",VLOOKUP(C578,BDDG!$A$2:$J$100,10,FALSE))","v":"DD27"},null,null,"",190.08,{"$f":"MONTH(A:A)","v":12},{"$f":"YEAR(A:A)","v":2011},{"$f":"IFERROR(INDEX($V$2:V578,MATCH(H578&MAX(IF($H$1:H577=H578,$A$1:A577)),$H$2:H578&$A$2:A578,0))-V578,\"\")","v":-71.143291139240517}]
["2011-12-08",null,835,{"$f":"IF(ISNA(VLOOKUP(C579,BDDG!$A$2:$F$100,2,FALSE)),\"\",VLOOKUP(C579,BDDG!$A$2:$F$100,2,FALSE))","v":0},{"$f":"IF(ISNA(VLOOKUP(C579,BDDG!$A$3:$J$102,3,FALSE)),\"\",VLOOKUP(C579,BDDG!$A$3:$J$102,3,FALSE))","v":"A"},{"$f":"IF(ISNA(VLOOKUP(C579,BDDG!$A$3:$J$102,4,FALSE)),\"\",VLOOKUP(C579,BDDG!$A$3:$J$102,4,FALSE))","v":106},{"$f":"IF(ISNA(VLOOKUP(C579,BDDG!$A$2:$F$100,5,FALSE)),\"\",VLOOKUP(C579,BDDG!$A$2:$F$100,5,FALSE))","v":"A3"},{"$f":"IF(ISNA(VLOOKUP(C579,BDDG!$A$2:$F$100,6,FALSE)),\"\",VLOOKUP(C579,BDDG!$A$2:$F$100,6,FALSE))","v":"AA5"},{"$f":"IF(ISERROR(VLOOKUP(C579,BDDG!$A$2:$G$100,7,FALSE)),\"\",VLOOKUP(C579,BDDG!$A$2:$G$100,7,FALSE))","v":1},{"$f":"IF(ISERROR(VLOOKUP(C579,BDDG!$A$2:$H$100,8,FALSE)),\"\",VLOOKUP(C579,BDDG!$A$2:$H$100,8,FALSE))","v":"BB5"},2,86,2.0093023255813955,{"$f":"IF(ISERROR(VLOOKUP(C579,BDDG!$A$2:$I$100,9,FALSE)),\"\",VLOOKUP(C579,BDDG!$A$2:$I$100,9,FALSE))","v":"CC5"},null,null,"",{"$f":"IF(ISERROR(VLOOKUP(C579,BDDG!$A$2:$J$100,10,FALSE)),\"\",VLOOKUP(C579,BDDG!$A$2:$J$100,10,FALSE))","v":"DD5"},null,null,"",2.0093023255813955,12,2011,{"$f":"IFERROR(INDEX($V$2:V579,MATCH(H579&MAX(IF($H$1:H578=H579,$A$1:A578)),$H$2:H579&$A$2:A579,0))-V579,\"\")","v":0.1506976744186046}]
["2011-12-09",null,850,{"$f":"IF(ISNA(VLOOKUP(C580,BDDG!$A$2:$F$100,2,FALSE)),\"\",VLOOKUP(C580,BDDG!$A$2:$F$100,2,FALSE))","v":0},{"$f":"IF(ISNA(VLOOKUP(C580,BDDG!$A$3:$J$102,3,FALSE)),\"\",VLOOKUP(C580,BDDG!$A$3:$J$102,3,FALSE))","v":"B"},{"$f":"IF(ISNA(VLOOKUP(C580,BDDG!$A$3:$J$102,4,FALSE)),\"\",VLOOKUP(C580,BDDG!$A$3:$J$102,4,FALSE))","v":106},{"$f":"IF(ISNA(VLOOKUP(C580,BDDG!$A$2:$F$100,5,FALSE)),\"\",VLOOKUP(C580,BDDG!$A$2:$F$100,5,FALSE))","v":"A8"},{"$f":"IF(ISNA(VLOOKUP(C580,BDDG!$A$2:$F$100,6,FALSE)),\"\",VLOOKUP(C580,BDDG!$A$2:$F$100,6,FALSE))","v":"AA20"},{"$f":"IF(ISERROR(VLOOKUP(C580,BDDG!$A$2:$G$100,7,FALSE)),\"\",VLOOKUP(C580,BDDG!$A$2:$G$100,7,FALSE))","v":1},{"$f":"IF(ISERROR(VLOOKUP(C580,BDDG!$A$2:$H$100,8,FALSE)),\"\",VLOOKUP(C580,BDDG!$A$2:$H$100,8,FALSE))","v":"BB20"},2,7,24.685714285714287,{"$f":"IF(ISERROR(VLOOKUP(C580,BDDG!$A$2:$I$100,9,FALSE)),\"\",VLOOKUP(C580,BDDG!$A$2:$I$100,9,FALSE))","v":"CC20"},null,null,"",{"$f":"IF(ISERROR(VLOOKUP(C580,BDDG!$A$2:$J$100,10,FALSE)),\"\",VLOOKUP(C580,BDDG!$A$2:$J$100,10,FALSE))","v":"DD20"},null,null,"",24.685714285714287,12,2011,{"$f":"IFERROR(INDEX($V$2:V580,MATCH(H580&MAX(IF($H$1:H579=H580,$A$1:A579)),$H$2:H580&$A$2:A580,0))-V580,\"\")","v":18.514285714285716}]
["2011-12-09",null,844,{"$f":"IF(ISNA(VLOOKUP(C581,BDDG!$A$2:$F$100,2,FALSE)),\"\",VLOOKUP(C581,BDDG!$A$2:$F$100,2,FALSE))","v":0},{"$f":"IF(ISNA(VLOOKUP(C581,BDDG!$A$3:$J$102,3,FALSE)),\"\",VLOOKUP(C581,BDDG!$A$3:$J$102,3,FALSE))","v":"B"},{"$f":"IF(ISNA(VLOOKUP(C581,BDDG!$A$3:$J$102,4,FALSE)),\"\",VLOOKUP(C581,BDDG!$A$3:$J$102,4,FALSE))","v":106},{"$f":"IF(ISNA(VLOOKUP(C581,BDDG!$A$2:$F$100,5,FALSE)),\"\",VLOOKUP(C581,BDDG!$A$2:$F$100,5,FALSE))","v":"A6"},{"$f":"IF(ISNA(VLOOKUP(C581,BDDG!$A$2:$F$100,6,FALSE)),\"\",VLOOKUP(C581,BDDG!$A$2:$F$100,6,FALSE))","v":"AA14"},{"$f":"IF(ISERROR(VLOOKUP(C581,BDDG!$A$2:$G$100,7,FALSE)),\"\",VLOOKUP(C581,BDDG!$A$2:$G$100,7,FALSE))","v":2},{"$f":"IF(ISERROR(VLOOKUP(C581,BDDG!$A$2:$H$100,8,FALSE)),\"\",VLOOKUP(C581,BDDG!$A$2:$H$100,8,FALSE))","v":"BB14"},2,5,34.56,{"$f":"IF(ISERROR(VLOOKUP(C581,BDDG!$A$2:$I$100,9,FALSE)),\"\",VLOOKUP(C581,BDDG!$A$2:$I$100,9,FALSE))","v":"CC14"},null,null,"",{"$f":"IF(ISERROR(VLOOKUP(C581,BDDG!$A$2:$J$100,10,FALSE)),\"\",VLOOKUP(C581,BDDG!$A$2:$J$100,10,FALSE))","v":"DD14"},null,null,"",34.56,12,2011,{"$f":"IFERROR(INDEX($V$2:V581,MATCH(H581&MAX(IF($H$1:H580=H581,$A$1:A580)),$H$2:H581&$A$2:A581,0))-V581,\"\")","v":37.440000000000012}]
["2011-12-16",null,839,{"$f":"IF(ISNA(VLOOKUP(C582,BDDG!$A$2:$F$100,2,FALSE)),\"\",VLOOKUP(C582,BDDG!$A$2:$F$100,2,FALSE))","v":0},{"$f":"IF(ISNA(VLOOKUP(C582,BDDG!$A$3:$J$102,3,FALSE)),\"\",VLOOKUP(C582,BDDG!$A$3:$J$102,3,FALSE))","v":"A"},{"$f":"IF(ISNA(VLOOKUP(C582,BDDG!$A$3:$J$102,4,FALSE)),\"\",VLOOKUP(C582,BDDG!$A$3:$J$102,4,FALSE))","v":106},{"$f":"IF(ISNA(VLOOKUP(C582,BDDG!$A$2:$F$100,5,FALSE)),\"\",VLOOKUP(C582,BDDG!$A$2:$F$100,5,FALSE))","v":"A3"},{"$f":"IF(ISNA(VLOOKUP(C582,BDDG!$A$2:$F$100,6,FALSE)),\"\",VLOOKUP(C582,BDDG!$A$2:$F$100,6,FALSE))","v":"AA10"},{"$f":"IF(ISERROR(VLOOKUP(C582,BDDG!$A$2:$G$100,7,FALSE)),\"\",VLOOKUP(C582,BDDG!$A$2:$G$100,7,FALSE))","v":2},{"$f":"IF(ISERROR(VLOOKUP(C582,BDDG!$A$2:$H$100,8,FALSE)),\"\",VLOOKUP(C582,BDDG!$A$2:$H$100,8,FALSE))","v":"BB10"},5,12.6,34.285714285714292,{"$f":"IF(ISERROR(VLOOKUP(C582,BDDG!$A$2:$I$100,9,FALSE)),\"\",VLOOKUP(C582,BDDG!$A$2:$I$100,9,FALSE))","v":"CC10"},null,null,"",{"$f":"IF(ISERROR(VLOOKUP(C582,BDDG!$A$2:$J$100,10,FALSE)),\"\",VLOOKUP(C582,BDDG!$A$2:$J$100,10,FALSE))","v":"DD10"},null,null,"",34.285714285714292,12,2011,{"$f":"IFERROR(INDEX($V$2:V582,MATCH(H582&MAX(IF($H$1:H581=H582,$A$1:A581)),$H$2:H582&$A$2:A582,0))-V582,\"\")","v":-9.9857142857142911}]
["2012-03-30",null,832,{"$f":"IF(ISNA(VLOOKUP(C583,BDDG!$A$2:$F$100,2,FALSE)),\"\",VLOOKUP(C583,BDDG!$A$2:$F$100,2,FALSE))","v":0},{"$f":"IF(ISNA(VLOOKUP(C583,BDDG!$A$3:$J$102,3,FALSE)),\"\",VLOOKUP(C583,BDDG!$A$3:$J$102,3,FALSE))","v":"A"},{"$f":"IF(ISNA(VLOOKUP(C583,BDDG!$A$3:$J$102,4,FALSE)),\"\",VLOOKUP(C583,BDDG!$A$3:$J$102,4,FALSE))","v":106},{"$f":"IF(ISNA(VLOOKUP(C583,BDDG!$A$2:$F$100,5,FALSE)),\"\",VLOOKUP(C583,BDDG!$A$2:$F$100,5,FALSE))","v":"A2"},{"$f":"IF(ISNA(VLOOKUP(C583,BDDG!$A$2:$F$100,6,FALSE)),\"\",VLOOKUP(C583,BDDG!$A$2:$F$100,6,FALSE))","v":"AA2"},{"$f":"IF(ISERROR(VLOOKUP(C583,BDDG!$A$2:$G$100,7,FALSE)),\"\",VLOOKUP(C583,BDDG!$A$2:$G$100,7,FALSE))","v":1},{"$f":"IF(ISERROR(VLOOKUP(C583,BDDG!$A$2:$H$100,8,FALSE)),\"\",VLOOKUP(C583,BDDG!$A$2:$H$100,8,FALSE))","v":"BB2"},10,17,50.82352941176471,{"$f":"IF(ISERROR(VLOOKUP(C583,BDDG!$A$2:$I$100,9,FALSE)),\"\",VLOOKUP(C583,BDDG!$A$2:$I$100,9,FALSE))","v":"CC2"},null,null,"",{"$f":"IF(ISERROR(VLOOKUP(C583,BDDG!$A$2:$J$100,10,FALSE)),\"\",VLOOKUP(C583,BDDG!$A$2:$J$100,10,FALSE))","v":"DD2"},null,null,"",50.82352941176471,3,2012,{"$f":"IFERROR(INDEX($V$2:V583,MATCH(H583&MAX(IF($H$1:H582=H583,$A$1:A582)),$H$2:H583&$A$2:A583,0))-V583,\"\")","v":-26.137815126050423}]
["2012-03-30",null,833,{"$f":"IF(ISNA(VLOOKUP(C584,BDDG!$A$2:$F$100,2,FALSE)),\"\",VLOOKUP(C584,BDDG!$A$2:$F$100,2,FALSE))","v":0},{"$f":"IF(ISNA(VLOOKUP(C584,BDDG!$A$3:$J$102,3,FALSE)),\"\",VLOOKUP(C584,BDDG!$A$3:$J$102,3,FALSE))","v":"A"},{"$f":"IF(ISNA(VLOOKUP(C584,BDDG!$A$3:$J$102,4,FALSE)),\"\",VLOOKUP(C584,BDDG!$A$3:$J$102,4,FALSE))","v":106},{"$f":"IF(ISNA(VLOOKUP(C584,BDDG!$A$2:$F$100,5,FALSE)),\"\",VLOOKUP(C584,BDDG!$A$2:$F$100,5,FALSE))","v":"A2"},{"$f":"IF(ISNA(VLOOKUP(C584,BDDG!$A$2:$F$100,6,FALSE)),\"\",VLOOKUP(C584,BDDG!$A$2:$F$100,6,FALSE))","v":"AA3"},{"$f":"IF(ISERROR(VLOOKUP(C584,BDDG!$A$2:$G$100,7,FALSE)),\"\",VLOOKUP(C584,BDDG!$A$2:$G$100,7,FALSE))","v":1},{"$f":"IF(ISERROR(VLOOKUP(C584,BDDG!$A$2:$H$100,8,FALSE)),\"\",VLOOKUP(C584,BDDG!$A$2:$H$100,8,FALSE))","v":"BB3"},10,24,36.000000000000007,{"$f":"IF(ISERROR(VLOOKUP(C584,BDDG!$A$2:$I$100,9,FALSE)),\"\",VLOOKUP(C584,BDDG!$A$2:$I$100,9,FALSE))","v":"CC3"},null,null,"",{"$f":"IF(ISERROR(VLOOKUP(C584,BDDG!$A$2:$J$100,10,FALSE)),\"\",VLOOKUP(C584,BDDG!$A$2:$J$100,10,FALSE))","v":"DD3"},null,null,"",36.000000000000007,3,2012,{"$f":"IFERROR(INDEX($V$2:V584,MATCH(H584&MAX(IF($H$1:H583=H584,$A$1:A583)),$H$2:H584&$A$2:A584,0))-V584,\"\")","v":-26.400000000000006}]
["2012-03-30",null,834,{"$f":"IF(ISNA(VLOOKUP(C585,BDDG!$A$2:$F$100,2,FALSE)),\"\",VLOOKUP(C585,BDDG!$A$2:$F$100,2,FALSE))","v":0},{"$f":"IF(ISNA(VLOOKUP(C585,BDDG!$A$3:$J$102,3,FALSE)),\"\",VLOOKUP(C585,BDDG!$A$3:$J$102,3,FALSE))","v":"A"},{"$f":"IF(ISNA(VLOOKUP(C585,BDDG!$A$3:$J$102,4,FALSE)),\"\",VLOOKUP(C585,BDDG!$A$3:$J$102,4,FALSE))","v":106},{"$f":"IF(ISNA(VLOOKUP(C585,BDDG!$A$2:$F$100,5,FALSE)),\"\",VLOOKUP(C585,BDDG!$A$2:$F$100,5,FALSE))","v":"A2"},{"$f":"IF(ISNA(VLOOKUP(C585,BDDG!$A$2:$F$100,6,FALSE)),\"\",VLOOKUP(C585,BDDG!$A$2:$F$100,6,FALSE))","v":"AA4"},{"$f":"IF(ISERROR(VLOOKUP(C585,BDDG!$A$2:$G$100,7,FALSE)),\"\",VLOOKUP(C585,BDDG!$A$2:$G$100,7,FALSE))","v":1},{"$f":"IF(ISERROR(VLOOKUP(C585,BDDG!$A$2:$H$100,8,FALSE)),\"\",VLOOKUP(C585,BDDG!$A$2:$H$100,8,FALSE))","v":"BB4"},10,102,8.4705882352941178,{"$f":"IF(ISERROR(VLOOKUP(C585,BDDG!$A$2:$I$100,9,FALSE)),\"\",VLOOKUP(C585,BDDG!$A$2:$I$100,9,FALSE))","v":"CC4"},null,null,"",{"$f":"IF(ISERROR(VLOOKUP(C585,BDDG!$A$2:$J$100,10,FALSE)),\"\",VLOOKUP(C585,BDDG!$A$2:$J$100,10,FALSE))","v":"DD4"},null,null,"",8.4705882352941178,3,2012,{"$f":"IFERROR(INDEX($V$2:V585,MATCH(H585&MAX(IF($H$1:H584=H585,$A$1:A584)),$H$2:H585&$A$2:A585,0))-V585,\"\")","v":-0.24201680672268822}]
["2012-04-01",null,844,{"$f":"IF(ISNA(VLOOKUP(C586,BDDG!$A$2:$F$100,2,FALSE)),\"\",VLOOKUP(C586,BDDG!$A$2:$F$100,2,FALSE))","v":0},{"$f":"IF(ISNA(VLOOKUP(C586,BDDG!$A$3:$J$102,3,FALSE)),\"\",VLOOKUP(C586,BDDG!$A$3:$J$102,3,FALSE))","v":"B"},{"$f":"IF(ISNA(VLOOKUP(C586,BDDG!$A$3:$J$102,4,FALSE)),\"\",VLOOKUP(C586,BDDG!$A$3:$J$102,4,FALSE))","v":106},{"$f":"IF(ISNA(VLOOKUP(C586,BDDG!$A$2:$F$100,5,FALSE)),\"\",VLOOKUP(C586,BDDG!$A$2:$F$100,5,FALSE))","v":"A6"},{"$f":"IF(ISNA(VLOOKUP(C586,BDDG!$A$2:$F$100,6,FALSE)),\"\",VLOOKUP(C586,BDDG!$A$2:$F$100,6,FALSE))","v":"AA14"},{"$f":"IF(ISERROR(VLOOKUP(C586,BDDG!$A$2:$G$100,7,FALSE)),\"\",VLOOKUP(C586,BDDG!$A$2:$G$100,7,FALSE))","v":2},{"$f":"IF(ISERROR(VLOOKUP(C586,BDDG!$A$2:$H$100,8,FALSE)),\"\",VLOOKUP(C586,BDDG!$A$2:$H$100,8,FALSE))","v":"BB14"},2,3,57.6,{"$f":"IF(ISERROR(VLOOKUP(C586,BDDG!$A$2:$I$100,9,FALSE)),\"\",VLOOKUP(C586,BDDG!$A$2:$I$100,9,FALSE))","v":"CC14"},null,null,"",{"$f":"IF(ISERROR(VLOOKUP(C586,BDDG!$A$2:$J$100,10,FALSE)),\"\",VLOOKUP(C586,BDDG!$A$2:$J$100,10,FALSE))","v":"DD14"},null,null,"",57.6,4,2012,{"$f":"IFERROR(INDEX($V$2:V586,MATCH(H586&MAX(IF($H$1:H585=H586,$A$1:A585)),$H$2:H586&$A$2:A586,0))-V586,\"\")","v":-23.04}]
["2012-04-04",null,855,{"$f":"IF(ISNA(VLOOKUP(C587,BDDG!$A$2:$F$100,2,FALSE)),\"\",VLOOKUP(C587,BDDG!$A$2:$F$100,2,FALSE))","v":0},{"$f":"IF(ISNA(VLOOKUP(C587,BDDG!$A$3:$J$102,3,FALSE)),\"\",VLOOKUP(C587,BDDG!$A$3:$J$102,3,FALSE))","v":"A"},{"$f":"IF(ISNA(VLOOKUP(C587,BDDG!$A$3:$J$102,4,FALSE)),\"\",VLOOKUP(C587,BDDG!$A$3:$J$102,4,FALSE))","v":106},{"$f":"IF(ISNA(VLOOKUP(C587,BDDG!$A$2:$F$100,5,FALSE)),\"\",VLOOKUP(C587,BDDG!$A$2:$F$100,5,FALSE))","v":"A9"},{"$f":"IF(ISNA(VLOOKUP(C587,BDDG!$A$2:$F$100,6,FALSE)),\"\",VLOOKUP(C587,BDDG!$A$2:$F$100,6,FALSE))","v":"AA26"},{"$f":"IF(ISERROR(VLOOKUP(C587,BDDG!$A$2:$G$100,7,FALSE)),\"\",VLOOKUP(C587,BDDG!$A$2:$G$100,7,FALSE))","v":2},{"$f":"IF(ISERROR(VLOOKUP(C587,BDDG!$A$2:$H$100,8,FALSE)),\"\",VLOOKUP(C587,BDDG!$A$2:$H$100,8,FALSE))","v":"BB26"},0,0,"",{"$f":"IF(ISERROR(VLOOKUP(C587,BDDG!$A$2:$I$100,9,FALSE)),\"\",VLOOKUP(C587,BDDG!$A$2:$I$100,9,FALSE))","v":"CC26"},15,35,37.028571428571432,{"$f":"IF(ISERROR(VLOOKUP(C587,BDDG!$A$2:$J$100,10,FALSE)),\"\",VLOOKUP(C587,BDDG!$A$2:$J$100,10,FALSE))","v":"DD26"},null,null,"",37.028571428571432,4,2012,{"$f":"IFERROR(INDEX($V$2:V587,MATCH(H587&MAX(IF($H$1:H586=H587,$A$1:A586)),$H$2:H587&$A$2:A587,0))-V587,\"\")","v":34.489131920710868}]
["2012-04-11",null,862,{"$f":"IF(ISNA(VLOOKUP(C588,BDDG!$A$2:$F$100,2,FALSE)),\"\",VLOOKUP(C588,BDDG!$A$2:$F$100,2,FALSE))","v":0},{"$f":"IF(ISNA(VLOOKUP(C588,BDDG!$A$3:$J$102,3,FALSE)),\"\",VLOOKUP(C588,BDDG!$A$3:$J$102,3,FALSE))","v":"A"},{"$f":"IF(ISNA(VLOOKUP(C588,BDDG!$A$3:$J$102,4,FALSE)),\"\",VLOOKUP(C588,BDDG!$A$3:$J$102,4,FALSE))","v":106},{"$f":"IF(ISNA(VLOOKUP(C588,BDDG!$A$2:$F$100,5,FALSE)),\"\",VLOOKUP(C588,BDDG!$A$2:$F$100,5,FALSE))","v":"A12"},{"$f":"IF(ISNA(VLOOKUP(C588,BDDG!$A$2:$F$100,6,FALSE)),\"\",VLOOKUP(C588,BDDG!$A$2:$F$100,6,FALSE))","v":"AA34"},{"$f":"IF(ISERROR(VLOOKUP(C588,BDDG!$A$2:$G$100,7,FALSE)),\"\",VLOOKUP(C588,BDDG!$A$2:$G$100,7,FALSE))","v":1},{"$f":"IF(ISERROR(VLOOKUP(C588,BDDG!$A$2:$H$100,8,FALSE)),\"\",VLOOKUP(C588,BDDG!$A$2:$H$100,8,FALSE))","v":"BB34"},10,10,86.4,{"$f":"IF(ISERROR(VLOOKUP(C588,BDDG!$A$2:$I$100,9,FALSE)),\"\",VLOOKUP(C588,BDDG!$A$2:$I$100,9,FALSE))","v":"CC34"},null,null,"",{"$f":"IF(ISERROR(VLOOKUP(C588,BDDG!$A$2:$J$100,10,FALSE)),\"\",VLOOKUP(C588,BDDG!$A$2:$J$100,10,FALSE))","v":"DD34"},null,null,"",86.4,4,2012,{"$f":"IFERROR(INDEX($V$2:V588,MATCH(H588&MAX(IF($H$1:H587=H588,$A$1:A587)),$H$2:H588&$A$2:A588,0))-V588,\"\")","v":-28.800000000000004}]
["2012-04-11",null,850,{"$f":"IF(ISNA(VLOOKUP(C589,BDDG!$A$2:$F$100,2,FALSE)),\"\",VLOOKUP(C589,BDDG!$A$2:$F$100,2,FALSE))","v":0},{"$f":"IF(ISNA(VLOOKUP(C589,BDDG!$A$3:$J$102,3,FALSE)),\"\",VLOOKUP(C589,BDDG!$A$3:$J$102,3,FALSE))","v":"B"},{"$f":"IF(ISNA(VLOOKUP(C589,BDDG!$A$3:$J$102,4,FALSE)),\"\",VLOOKUP(C589,BDDG!$A$3:$J$102,4,FALSE))","v":106},{"$f":"IF(ISNA(VLOOKUP(C589,BDDG!$A$2:$F$100,5,FALSE)),\"\",VLOOKUP(C589,BDDG!$A$2:$F$100,5,FALSE))","v":"A8"},{"$f":"IF(ISNA(VLOOKUP(C589,BDDG!$A$2:$F$100,6,FALSE)),\"\",VLOOKUP(C589,BDDG!$A$2:$F$100,6,FALSE))","v":"AA20"},{"$f":"IF(ISERROR(VLOOKUP(C589,BDDG!$A$2:$G$100,7,FALSE)),\"\",VLOOKUP(C589,BDDG!$A$2:$G$100,7,FALSE))","v":1},{"$f":"IF(ISERROR(VLOOKUP(C589,BDDG!$A$2:$H$100,8,FALSE)),\"\",VLOOKUP(C589,BDDG!$A$2:$H$100,8,FALSE))","v":"BB20"},2,5,34.56,{"$f":"IF(ISERROR(VLOOKUP(C589,BDDG!$A$2:$I$100,9,FALSE)),\"\",VLOOKUP(C589,BDDG!$A$2:$I$100,9,FALSE))","v":"CC20"},null,null,"",{"$f":"IF(ISERROR(VLOOKUP(C589,BDDG!$A$2:$J$100,10,FALSE)),\"\",VLOOKUP(C589,BDDG!$A$2:$J$100,10,FALSE))","v":"DD20"},null,null,"",34.56,4,2012,{"$f":"IFERROR(INDEX($V$2:V589,MATCH(H589&MAX(IF($H$1:H588=H589,$A$1:A588)),$H$2:H589&$A$2:A589,0))-V589,\"\")","v":-9.8742857142857154}]
["2012-04-11",null,861,{"$f":"IF(ISNA(VLOOKUP(C590,BDDG!$A$2:$F$100,2,FALSE)),\"\",VLOOKUP(C590,BDDG!$A$2:$F$100,2,FALSE))","v":0},{"$f":"IF(ISNA(VLOOKUP(C590,BDDG!$A$3:$J$102,3,FALSE)),\"\",VLOOKUP(C590,BDDG!$A$3:$J$102,3,FALSE))","v":"A"},{"$f":"IF(ISNA(VLOOKUP(C590,BDDG!$A$3:$J$102,4,FALSE)),\"\",VLOOKUP(C590,BDDG!$A$3:$J$102,4,FALSE))","v":106},{"$f":"IF(ISNA(VLOOKUP(C590,BDDG!$A$2:$F$100,5,FALSE)),\"\",VLOOKUP(C590,BDDG!$A$2:$F$100,5,FALSE))","v":"A11"},{"$f":"IF(ISNA(VLOOKUP(C590,BDDG!$A$2:$F$100,6,FALSE)),\"\",VLOOKUP(C590,BDDG!$A$2:$F$100,6,FALSE))","v":"AA33"},{"$f":"IF(ISERROR(VLOOKUP(C590,BDDG!$A$2:$G$100,7,FALSE)),\"\",VLOOKUP(C590,BDDG!$A$2:$G$100,7,FALSE))","v":2},{"$f":"IF(ISERROR(VLOOKUP(C590,BDDG!$A$2:$H$100,8,FALSE)),\"\",VLOOKUP(C590,BDDG!$A$2:$H$100,8,FALSE))","v":"BB33"},null,null,null,{"$f":"IF(ISERROR(VLOOKUP(C590,BDDG!$A$2:$I$100,9,FALSE)),\"\",VLOOKUP(C590,BDDG!$A$2:$I$100,9,FALSE))","v":"CC33"},10,6,144.00000000000003,{"$f":"IF(ISERROR(VLOOKUP(C590,BDDG!$A$2:$J$100,10,FALSE)),\"\",VLOOKUP(C590,BDDG!$A$2:$J$100,10,FALSE))","v":"DD33"},null,null,"",{"$f":"IF(ISERROR(SUM(M590,Q590,U590)),\"\",SUM((M590,Q590,U590)))","v":144.00000000000003},4,2012,{"$f":"IFERROR(INDEX($V$2:V590,MATCH(H590&MAX(IF($H$1:H589=H590,$A$1:A589)),$H$2:H590&$A$2:A590,0))-V590,\"\")","v":0}]
["2012-04-14",null,850,{"$f":"IF(ISNA(VLOOKUP(C591,BDDG!$A$2:$F$100,2,FALSE)),\"\",VLOOKUP(C591,BDDG!$A$2:$F$100,2,FALSE))","v":0},{"$f":"IF(ISNA(VLOOKUP(C591,BDDG!$A$3:$J$102,3,FALSE)),\"\",VLOOKUP(C591,BDDG!$A$3:$J$102,3,FALSE))","v":"B"},{"$f":"IF(ISNA(VLOOKUP(C591,BDDG!$A$3:$J$102,4,FALSE)),\"\",VLOOKUP(C591,BDDG!$A$3:$J$102,4,FALSE))","v":106},{"$f":"IF(ISNA(VLOOKUP(C591,BDDG!$A$2:$F$100,5,FALSE)),\"\",VLOOKUP(C591,BDDG!$A$2:$F$100,5,FALSE))","v":"A8"},{"$f":"IF(ISNA(VLOOKUP(C591,BDDG!$A$2:$F$100,6,FALSE)),\"\",VLOOKUP(C591,BDDG!$A$2:$F$100,6,FALSE))","v":"AA20"},{"$f":"IF(ISERROR(VLOOKUP(C591,BDDG!$A$2:$G$100,7,FALSE)),\"\",VLOOKUP(C591,BDDG!$A$2:$G$100,7,FALSE))","v":1},{"$f":"IF(ISERROR(VLOOKUP(C591,BDDG!$A$2:$H$100,8,FALSE)),\"\",VLOOKUP(C591,BDDG!$A$2:$H$100,8,FALSE))","v":"BB20"},2,5,{"$f":" IF(ISERROR(K591/L591*86.4),\"\",K591/L591*86.4)","v":34.56},{"$f":"IF(ISERROR(VLOOKUP(C591,BDDG!$A$2:$I$100,9,FALSE)),\"\",VLOOKUP(C591,BDDG!$A$2:$I$100,9,FALSE))","v":"CC20"},null,null,{"$f":" IF(ISERROR(O591/P591*86.4),\"\",O591/P591*86.4)","v":""},{"$f":"IF(ISERROR(VLOOKUP(C591,BDDG!$A$2:$J$100,10,FALSE)),\"\",VLOOKUP(C591,BDDG!$A$2:$J$100,10,FALSE))","v":"DD20"},null,null,"",{"$f":"IF(ISERROR(SUM(M591,Q591,U591)),\"\",SUM(M591,Q591,U591))","v":34.56},4,2012,{"$f":"IFERROR(INDEX($V$2:V591,MATCH(H591&MAX(IF($H$1:H590=H591,$A$1:A590)),$H$2:H591&$A$2:A591,0))-V591,\"\")","v":0}]
["2012-04-14",null,860,{"$f":"IF(ISNA(VLOOKUP(C592,BDDG!$A$2:$F$100,2,FALSE)),\"\",VLOOKUP(C592,BDDG!$A$2:$F$100,2,FALSE))","v":0},{"$f":"IF(ISNA(VLOOKUP(C592,BDDG!$A$3:$J$102,3,FALSE)),\"\",VLOOKUP(C592,BDDG!$A$3:$J$102,3,FALSE))","v":"A"},{"$f":"IF(ISNA(VLOOKUP(C592,BDDG!$A$3:$J$102,4,FALSE)),\"\",VLOOKUP(C592,BDDG!$A$3:$J$102,4,FALSE))","v":106},{"$f":"IF(ISNA(VLOOKUP(C592,BDDG!$A$2:$F$100,5,FALSE)),\"\",VLOOKUP(C592,BDDG!$A$2:$F$100,5,FALSE))","v":"A11"},{"$f":"IF(ISNA(VLOOKUP(C592,BDDG!$A$2:$F$100,6,FALSE)),\"\",VLOOKUP(C592,BDDG!$A$2:$F$100,6,FALSE))","v":"AA32"},{"$f":"IF(ISERROR(VLOOKUP(C592,BDDG!$A$2:$G$100,7,FALSE)),\"\",VLOOKUP(C592,BDDG!$A$2:$G$100,7,FALSE))","v":2},{"$f":"IF(ISERROR(VLOOKUP(C592,BDDG!$A$2:$H$100,8,FALSE)),\"\",VLOOKUP(C592,BDDG!$A$2:$H$100,8,FALSE))","v":"BB32"},10,21,41.142857142857146,{"$f":"IF(ISERROR(VLOOKUP(C592,BDDG!$A$2:$I$100,9,FALSE)),\"\",VLOOKUP(C592,BDDG!$A$2:$I$100,9,FALSE))","v":"CC32"},null,null,"",{"$f":"IF(ISERROR(VLOOKUP(C592,BDDG!$A$2:$J$100,10,FALSE)),\"\",VLOOKUP(C592,BDDG!$A$2:$J$100,10,FALSE))","v":"DD32"},null,null,"",41.142857142857146,4,2012,{"$f":"IFERROR(INDEX($V$2:V592,MATCH(H592&MAX(IF($H$1:H591=H592,$A$1:A591)),$H$2:H592&$A$2:A592,0))-V592,\"\")","v":102.85714285714289}]
["2012-04-18",null,835,{"$f":"IF(ISNA(VLOOKUP(C593,BDDG!$A$2:$F$100,2,FALSE)),\"\",VLOOKUP(C593,BDDG!$A$2:$F$100,2,FALSE))","v":0},{"$f":"IF(ISNA(VLOOKUP(C593,BDDG!$A$3:$J$102,3,FALSE)),\"\",VLOOKUP(C593,BDDG!$A$3:$J$102,3,FALSE))","v":"A"},{"$f":"IF(ISNA(VLOOKUP(C593,BDDG!$A$3:$J$102,4,FALSE)),\"\",VLOOKUP(C593,BDDG!$A$3:$J$102,4,FALSE))","v":106},{"$f":"IF(ISNA(VLOOKUP(C593,BDDG!$A$2:$F$100,5,FALSE)),\"\",VLOOKUP(C593,BDDG!$A$2:$F$100,5,FALSE))","v":"A3"},{"$f":"IF(ISNA(VLOOKUP(C593,BDDG!$A$2:$F$100,6,FALSE)),\"\",VLOOKUP(C593,BDDG!$A$2:$F$100,6,FALSE))","v":"AA5"},{"$f":"IF(ISERROR(VLOOKUP(C593,BDDG!$A$2:$G$100,7,FALSE)),\"\",VLOOKUP(C593,BDDG!$A$2:$G$100,7,FALSE))","v":1},{"$f":"IF(ISERROR(VLOOKUP(C593,BDDG!$A$2:$H$100,8,FALSE)),\"\",VLOOKUP(C593,BDDG!$A$2:$H$100,8,FALSE))","v":"BB5"},2,8,21.6,{"$f":"IF(ISERROR(VLOOKUP(C593,BDDG!$A$2:$I$100,9,FALSE)),\"\",VLOOKUP(C593,BDDG!$A$2:$I$100,9,FALSE))","v":"CC5"},null,null,"",{"$f":"IF(ISERROR(VLOOKUP(C593,BDDG!$A$2:$J$100,10,FALSE)),\"\",VLOOKUP(C593,BDDG!$A$2:$J$100,10,FALSE))","v":"DD5"},null,null,"",21.6,4,2012,{"$f":"IFERROR(INDEX($V$2:V593,MATCH(H593&MAX(IF($H$1:H592=H593,$A$1:A592)),$H$2:H593&$A$2:A593,0))-V593,\"\")","v":-19.590697674418607}]
["2012-04-19",null,831,{"$f":"IF(ISNA(VLOOKUP(C594,BDDG!$A$2:$F$100,2,FALSE)),\"\",VLOOKUP(C594,BDDG!$A$2:$F$100,2,FALSE))","v":0},{"$f":"IF(ISNA(VLOOKUP(C594,BDDG!$A$3:$J$102,3,FALSE)),\"\",VLOOKUP(C594,BDDG!$A$3:$J$102,3,FALSE))","v":"A"},{"$f":"IF(ISNA(VLOOKUP(C594,BDDG!$A$3:$J$102,4,FALSE)),\"\",VLOOKUP(C594,BDDG!$A$3:$J$102,4,FALSE))","v":106},{"$f":"IF(ISNA(VLOOKUP(C594,BDDG!$A$2:$F$100,5,FALSE)),\"\",VLOOKUP(C594,BDDG!$A$2:$F$100,5,FALSE))","v":"A1"},{"$f":"IF(ISNA(VLOOKUP(C594,BDDG!$A$2:$F$100,6,FALSE)),\"\",VLOOKUP(C594,BDDG!$A$2:$F$100,6,FALSE))","v":"AA1"},{"$f":"IF(ISERROR(VLOOKUP(C594,BDDG!$A$2:$G$100,7,FALSE)),\"\",VLOOKUP(C594,BDDG!$A$2:$G$100,7,FALSE))","v":1},{"$f":"IF(ISERROR(VLOOKUP(C594,BDDG!$A$2:$H$100,8,FALSE)),\"\",VLOOKUP(C594,BDDG!$A$2:$H$100,8,FALSE))","v":"BB1"},2,2,86.4,{"$f":"IF(ISERROR(VLOOKUP(C594,BDDG!$A$2:$I$100,9,FALSE)),\"\",VLOOKUP(C594,BDDG!$A$2:$I$100,9,FALSE))","v":"CC1"},null,null,"",{"$f":"IF(ISERROR(VLOOKUP(C594,BDDG!$A$2:$J$100,10,FALSE)),\"\",VLOOKUP(C594,BDDG!$A$2:$J$100,10,FALSE))","v":"DD1"},null,null,"",86.4,4,2012,{"$f":"IFERROR(INDEX($V$2:V594,MATCH(H594&MAX(IF($H$1:H593=H594,$A$1:A593)),$H$2:H594&$A$2:A594,0))-V594,\"\")","v":57.600000000000023}]
["2012-04-20",null,842,{"$f":"IF(ISNA(VLOOKUP(C595,BDDG!$A$2:$F$100,2,FALSE)),\"\",VLOOKUP(C595,BDDG!$A$2:$F$100,2,FALSE))","v":0},{"$f":"IF(ISNA(VLOOKUP(C595,BDDG!$A$3:$J$102,3,FALSE)),\"\",VLOOKUP(C595,BDDG!$A$3:$J$102,3,FALSE))","v":"B"},{"$f":"IF(ISNA(VLOOKUP(C595,BDDG!$A$3:$J$102,4,FALSE)),\"\",VLOOKUP(C595,BDDG!$A$3:$J$102,4,FALSE))","v":106},{"$f":"IF(ISNA(VLOOKUP(C595,BDDG!$A$2:$F$100,5,FALSE)),\"\",VLOOKUP(C595,BDDG!$A$2:$F$100,5,FALSE))","v":"A5"},{"$f":"IF(ISNA(VLOOKUP(C595,BDDG!$A$2:$F$100,6,FALSE)),\"\",VLOOKUP(C595,BDDG!$A$2:$F$100,6,FALSE))","v":"AA13"},{"$f":"IF(ISERROR(VLOOKUP(C595,BDDG!$A$2:$G$100,7,FALSE)),\"\",VLOOKUP(C595,BDDG!$A$2:$G$100,7,FALSE))","v":1},{"$f":"IF(ISERROR(VLOOKUP(C595,BDDG!$A$2:$H$100,8,FALSE)),\"\",VLOOKUP(C595,BDDG!$A$2:$H$100,8,FALSE))","v":"BB13"},2,7,24.685714285714287,{"$f":"IF(ISERROR(VLOOKUP(C595,BDDG!$A$2:$I$100,9,FALSE)),\"\",VLOOKUP(C595,BDDG!$A$2:$I$100,9,FALSE))","v":"CC13"},null,null,"",{"$f":"IF(ISERROR(VLOOKUP(C595,BDDG!$A$2:$J$100,10,FALSE)),\"\",VLOOKUP(C595,BDDG!$A$2:$J$100,10,FALSE))","v":"DD13"},null,null,"",24.685714285714287,4,2012,{"$f":"IFERROR(INDEX($V$2:V595,MATCH(H595&MAX(IF($H$1:H594=H595,$A$1:A594)),$H$2:H595&$A$2:A595,0))-V595,\"\")","v":-8.9766233766233761}]
["2012-04-20",null,848,{"$f":"IF(ISNA(VLOOKUP(C596,BDDG!$A$2:$F$100,2,FALSE)),\"\",VLOOKUP(C596,BDDG!$A$2:$F$100,2,FALSE))","v":0},{"$f":"IF(ISNA(VLOOKUP(C596,BDDG!$A$3:$J$102,3,FALSE)),\"\",VLOOKUP(C596,BDDG!$A$3:$J$102,3,FALSE))","v":"B"},{"$f":"IF(ISNA(VLOOKUP(C596,BDDG!$A$3:$J$102,4,FALSE)),\"\",VLOOKUP(C596,BDDG!$A$3:$J$102,4,FALSE))","v":106},{"$f":"IF(ISNA(VLOOKUP(C596,BDDG!$A$2:$F$100,5,FALSE)),\"\",VLOOKUP(C596,BDDG!$A$2:$F$100,5,FALSE))","v":"A7"},{"$f":"IF(ISNA(VLOOKUP(C596,BDDG!$A$2:$F$100,6,FALSE)),\"\",VLOOKUP(C596,BDDG!$A$2:$F$100,6,FALSE))","v":"AA19"},{"$f":"IF(ISERROR(VLOOKUP(C596,BDDG!$A$2:$G$100,7,FALSE)),\"\",VLOOKUP(C596,BDDG!$A$2:$G$100,7,FALSE))","v":2},{"$f":"IF(ISERROR(VLOOKUP(C596,BDDG!$A$2:$H$100,8,FALSE)),\"\",VLOOKUP(C596,BDDG!$A$2:$H$100,8,FALSE))","v":"BB19"},2,7,24.685714285714287,{"$f":"IF(ISERROR(VLOOKUP(C596,BDDG!$A$2:$I$100,9,FALSE)),\"\",VLOOKUP(C596,BDDG!$A$2:$I$100,9,FALSE))","v":"CC19"},null,null,"",{"$f":"IF(ISERROR(VLOOKUP(C596,BDDG!$A$2:$J$100,10,FALSE)),\"\",VLOOKUP(C596,BDDG!$A$2:$J$100,10,FALSE))","v":"DD19"},null,null,"",24.685714285714287,4,2012,{"$f":"IFERROR(INDEX($V$2:V596,MATCH(H596&MAX(IF($H$1:H595=H596,$A$1:A595)),$H$2:H596&$A$2:A596,0))-V596,\"\")","v":-17.485714285714288}]
["2012-04-20",null,847,{"$f":"IF(ISNA(VLOOKUP(C597,BDDG!$A$2:$F$100,2,FALSE)),\"\",VLOOKUP(C597,BDDG!$A$2:$F$100,2,FALSE))","v":0},{"$f":"IF(ISNA(VLOOKUP(C597,BDDG!$A$3:$J$102,3,FALSE)),\"\",VLOOKUP(C597,BDDG!$A$3:$J$102,3,FALSE))","v":"B"},{"$f":"IF(ISNA(VLOOKUP(C597,BDDG!$A$3:$J$102,4,FALSE)),\"\",VLOOKUP(C597,BDDG!$A$3:$J$102,4,FALSE))","v":106},{"$f":"IF(ISNA(VLOOKUP(C597,BDDG!$A$2:$F$100,5,FALSE)),\"\",VLOOKUP(C597,BDDG!$A$2:$F$100,5,FALSE))","v":"A7"},{"$f":"IF(ISNA(VLOOKUP(C597,BDDG!$A$2:$F$100,6,FALSE)),\"\",VLOOKUP(C597,BDDG!$A$2:$F$100,6,FALSE))","v":"AA18"},{"$f":"IF(ISERROR(VLOOKUP(C597,BDDG!$A$2:$G$100,7,FALSE)),\"\",VLOOKUP(C597,BDDG!$A$2:$G$100,7,FALSE))","v":2},{"$f":"IF(ISERROR(VLOOKUP(C597,BDDG!$A$2:$H$100,8,FALSE)),\"\",VLOOKUP(C597,BDDG!$A$2:$H$100,8,FALSE))","v":"BB18"},2,7,24.685714285714287,{"$f":"IF(ISERROR(VLOOKUP(C597,BDDG!$A$2:$I$100,9,FALSE)),\"\",VLOOKUP(C597,BDDG!$A$2:$I$100,9,FALSE))","v":"CC18"},2,5,34.56,{"$f":"IF(ISERROR(VLOOKUP(C597,BDDG!$A$2:$J$100,10,FALSE)),\"\",VLOOKUP(C597,BDDG!$A$2:$J$100,10,FALSE))","v":"DD18"},null,null,"",59.245714285714286,4,2012,{"$f":"IFERROR(INDEX($V$2:V597,MATCH(H597&MAX(IF($H$1:H596=H597,$A$1:A596)),$H$2:H597&$A$2:A597,0))-V597,\"\")","v":-38.753406593406595}]
["2012-04-24",null,839,{"$f":"IF(ISNA(VLOOKUP(C598,BDDG!$A$2:$F$100,2,FALSE)),\"\",VLOOKUP(C598,BDDG!$A$2:$F$100,2,FALSE))","v":0},{"$f":"IF(ISNA(VLOOKUP(C598,BDDG!$A$3:$J$102,3,FALSE)),\"\",VLOOKUP(C598,BDDG!$A$3:$J$102,3,FALSE))","v":"A"},{"$f":"IF(ISNA(VLOOKUP(C598,BDDG!$A$3:$J$102,4,FALSE)),\"\",VLOOKUP(C598,BDDG!$A$3:$J$102,4,FALSE))","v":106},{"$f":"IF(ISNA(VLOOKUP(C598,BDDG!$A$2:$F$100,5,FALSE)),\"\",VLOOKUP(C598,BDDG!$A$2:$F$100,5,FALSE))","v":"A3"},{"$f":"IF(ISNA(VLOOKUP(C598,BDDG!$A$2:$F$100,6,FALSE)),\"\",VLOOKUP(C598,BDDG!$A$2:$F$100,6,FALSE))","v":"AA10"},{"$f":"IF(ISERROR(VLOOKUP(C598,BDDG!$A$2:$G$100,7,FALSE)),\"\",VLOOKUP(C598,BDDG!$A$2:$G$100,7,FALSE))","v":2},{"$f":"IF(ISERROR(VLOOKUP(C598,BDDG!$A$2:$H$100,8,FALSE)),\"\",VLOOKUP(C598,BDDG!$A$2:$H$100,8,FALSE))","v":"BB10"},10,3,288.00000000000006,{"$f":"IF(ISERROR(VLOOKUP(C598,BDDG!$A$2:$I$100,9,FALSE)),\"\",VLOOKUP(C598,BDDG!$A$2:$I$100,9,FALSE))","v":"CC10"},null,null,"",{"$f":"IF(ISERROR(VLOOKUP(C598,BDDG!$A$2:$J$100,10,FALSE)),\"\",VLOOKUP(C598,BDDG!$A$2:$J$100,10,FALSE))","v":"DD10"},null,null,"",288.00000000000006,4,2012,{"$f":"IFERROR(INDEX($V$2:V598,MATCH(H598&MAX(IF($H$1:H597=H598,$A$1:A597)),$H$2:H598&$A$2:A598,0))-V598,\"\")","v":-253.71428571428578}]
["2012-04-24",null,836,{"$f":"IF(ISNA(VLOOKUP(C599,BDDG!$A$2:$F$100,2,FALSE)),\"\",VLOOKUP(C599,BDDG!$A$2:$F$100,2,FALSE))","v":0},{"$f":"IF(ISNA(VLOOKUP(C599,BDDG!$A$3:$J$102,3,FALSE)),\"\",VLOOKUP(C599,BDDG!$A$3:$J$102,3,FALSE))","v":"A"},{"$f":"IF(ISNA(VLOOKUP(C599,BDDG!$A$3:$J$102,4,FALSE)),\"\",VLOOKUP(C599,BDDG!$A$3:$J$102,4,FALSE))","v":106},{"$f":"IF(ISNA(VLOOKUP(C599,BDDG!$A$2:$F$100,5,FALSE)),\"\",VLOOKUP(C599,BDDG!$A$2:$F$100,5,FALSE))","v":"A3"},{"$f":"IF(ISNA(VLOOKUP(C599,BDDG!$A$2:$F$100,6,FALSE)),\"\",VLOOKUP(C599,BDDG!$A$2:$F$100,6,FALSE))","v":"AA6"},{"$f":"IF(ISERROR(VLOOKUP(C599,BDDG!$A$2:$G$100,7,FALSE)),\"\",VLOOKUP(C599,BDDG!$A$2:$G$100,7,FALSE))","v":1},{"$f":"IF(ISERROR(VLOOKUP(C599,BDDG!$A$2:$H$100,8,FALSE)),\"\",VLOOKUP(C599,BDDG!$A$2:$H$100,8,FALSE))","v":"BB6"},10,4,216,{"$f":"IF(ISERROR(VLOOKUP(C599,BDDG!$A$2:$I$100,9,FALSE)),\"\",VLOOKUP(C599,BDDG!$A$2:$I$100,9,FALSE))","v":"CC6"},null,null,"",{"$f":"IF(ISERROR(VLOOKUP(C599,BDDG!$A$2:$J$100,10,FALSE)),\"\",VLOOKUP(C599,BDDG!$A$2:$J$100,10,FALSE))","v":"DD6"},null,null,"",216,4,2012,{"$f":"IFERROR(INDEX($V$2:V599,MATCH(H599&MAX(IF($H$1:H598=H599,$A$1:A598)),$H$2:H599&$A$2:A599,0))-V599,\"\")","v":-198.72}]
["2012-04-24",null,855,{"$f":"IF(ISNA(VLOOKUP(C600,BDDG!$A$2:$F$100,2,FALSE)),\"\",VLOOKUP(C600,BDDG!$A$2:$F$100,2,FALSE))","v":0},{"$f":"IF(ISNA(VLOOKUP(C600,BDDG!$A$3:$J$102,3,FALSE)),\"\",VLOOKUP(C600,BDDG!$A$3:$J$102,3,FALSE))","v":"A"},{"$f":"IF(ISNA(VLOOKUP(C600,BDDG!$A$3:$J$102,4,FALSE)),\"\",VLOOKUP(C600,BDDG!$A$3:$J$102,4,FALSE))","v":106},{"$f":"IF(ISNA(VLOOKUP(C600,BDDG!$A$2:$F$100,5,FALSE)),\"\",VLOOKUP(C600,BDDG!$A$2:$F$100,5,FALSE))","v":"A9"},{"$f":"IF(ISNA(VLOOKUP(C600,BDDG!$A$2:$F$100,6,FALSE)),\"\",VLOOKUP(C600,BDDG!$A$2:$F$100,6,FALSE))","v":"AA26"},{"$f":"IF(ISERROR(VLOOKUP(C600,BDDG!$A$2:$G$100,7,FALSE)),\"\",VLOOKUP(C600,BDDG!$A$2:$G$100,7,FALSE))","v":2},{"$f":"IF(ISERROR(VLOOKUP(C600,BDDG!$A$2:$H$100,8,FALSE)),\"\",VLOOKUP(C600,BDDG!$A$2:$H$100,8,FALSE))","v":"BB26"},0,0,"",{"$f":"IF(ISERROR(VLOOKUP(C600,BDDG!$A$2:$I$100,9,FALSE)),\"\",VLOOKUP(C600,BDDG!$A$2:$I$100,9,FALSE))","v":"CC26"},10,10,86.4,{"$f":"IF(ISERROR(VLOOKUP(C600,BDDG!$A$2:$J$100,10,FALSE)),\"\",VLOOKUP(C600,BDDG!$A$2:$J$100,10,FALSE))","v":"DD26"},null,null,"",86.4,4,2012,{"$f":"IFERROR(INDEX($V$2:V600,MATCH(H600&MAX(IF($H$1:H599=H600,$A$1:A599)),$H$2:H600&$A$2:A600,0))-V600,\"\")","v":-49.371428571428574}]
["2012-04-24",null,856,{"$f":"IF(ISNA(VLOOKUP(C601,BDDG!$A$2:$F$100,2,FALSE)),\"\",VLOOKUP(C601,BDDG!$A$2:$F$100,2,FALSE))","v":0},{"$f":"IF(ISNA(VLOOKUP(C601,BDDG!$A$3:$J$102,3,FALSE)),\"\",VLOOKUP(C601,BDDG!$A$3:$J$102,3,FALSE))","v":"A"},{"$f":"IF(ISNA(VLOOKUP(C601,BDDG!$A$3:$J$102,4,FALSE)),\"\",VLOOKUP(C601,BDDG!$A$3:$J$102,4,FALSE))","v":106},{"$f":"IF(ISNA(VLOOKUP(C601,BDDG!$A$2:$F$100,5,FALSE)),\"\",VLOOKUP(C601,BDDG!$A$2:$F$100,5,FALSE))","v":"A9"},{"$f":"IF(ISNA(VLOOKUP(C601,BDDG!$A$2:$F$100,6,FALSE)),\"\",VLOOKUP(C601,BDDG!$A$2:$F$100,6,FALSE))","v":"AA27"},{"$f":"IF(ISERROR(VLOOKUP(C601,BDDG!$A$2:$G$100,7,FALSE)),\"\",VLOOKUP(C601,BDDG!$A$2:$G$100,7,FALSE))","v":2},{"$f":"IF(ISERROR(VLOOKUP(C601,BDDG!$A$2:$H$100,8,FALSE)),\"\",VLOOKUP(C601,BDDG!$A$2:$H$100,8,FALSE))","v":"BB27"},10,7,123.42857142857144,{"$f":"IF(ISERROR(VLOOKUP(C601,BDDG!$A$2:$I$100,9,FALSE)),\"\",VLOOKUP(C601,BDDG!$A$2:$I$100,9,FALSE))","v":"CC27"},10,1,864,{"$f":"IF(ISERROR(VLOOKUP(C601,BDDG!$A$2:$J$100,10,FALSE)),\"\",VLOOKUP(C601,BDDG!$A$2:$J$100,10,FALSE))","v":"DD27"},null,null,"",987.42857142857144,4,2012,{"$f":"IFERROR(INDEX($V$2:V601,MATCH(H601&MAX(IF($H$1:H600=H601,$A$1:A600)),$H$2:H601&$A$2:A601,0))-V601,\"\")","v":-797.3485714285714}]
["2012-04-24",null,852,{"$f":"IF(ISNA(VLOOKUP(C602,BDDG!$A$2:$F$100,2,FALSE)),\"\",VLOOKUP(C602,BDDG!$A$2:$F$100,2,FALSE))","v":0},{"$f":"IF(ISNA(VLOOKUP(C602,BDDG!$A$3:$J$102,3,FALSE)),\"\",VLOOKUP(C602,BDDG!$A$3:$J$102,3,FALSE))","v":"A"},{"$f":"IF(ISNA(VLOOKUP(C602,BDDG!$A$3:$J$102,4,FALSE)),\"\",VLOOKUP(C602,BDDG!$A$3:$J$102,4,FALSE))","v":106},{"$f":"IF(ISNA(VLOOKUP(C602,BDDG!$A$2:$F$100,5,FALSE)),\"\",VLOOKUP(C602,BDDG!$A$2:$F$100,5,FALSE))","v":"A9"},{"$f":"IF(ISNA(VLOOKUP(C602,BDDG!$A$2:$F$100,6,FALSE)),\"\",VLOOKUP(C602,BDDG!$A$2:$F$100,6,FALSE))","v":"AA22"},{"$f":"IF(ISERROR(VLOOKUP(C602,BDDG!$A$2:$G$100,7,FALSE)),\"\",VLOOKUP(C602,BDDG!$A$2:$G$100,7,FALSE))","v":1},{"$f":"IF(ISERROR(VLOOKUP(C602,BDDG!$A$2:$H$100,8,FALSE)),\"\",VLOOKUP(C602,BDDG!$A$2:$H$100,8,FALSE))","v":"BB22"},10,53,16.301886792452834,{"$f":"IF(ISERROR(VLOOKUP(C602,BDDG!$A$2:$I$100,9,FALSE)),\"\",VLOOKUP(C602,BDDG!$A$2:$I$100,9,FALSE))","v":"CC22"},null,null,"",{"$f":"IF(ISERROR(VLOOKUP(C602,BDDG!$A$2:$J$100,10,FALSE)),\"\",VLOOKUP(C602,BDDG!$A$2:$J$100,10,FALSE))","v":"DD22"},null,null,"",16.301886792452834,4,2012,{"$f":"IFERROR(INDEX($V$2:V602,MATCH(H602&MAX(IF($H$1:H601=H602,$A$1:A601)),$H$2:H602&$A$2:A602,0))-V602,\"\")","v":-7.4855602618405879}]
["2012-05-10",null,866,{"$f":"IF(ISNA(VLOOKUP(C603,BDDG!$A$2:$F$100,2,FALSE)),\"\",VLOOKUP(C603,BDDG!$A$2:$F$100,2,FALSE))","v":0},{"$f":"IF(ISNA(VLOOKUP(C603,BDDG!$A$3:$J$102,3,FALSE)),\"\",VLOOKUP(C603,BDDG!$A$3:$J$102,3,FALSE))","v":"C"},{"$f":"IF(ISNA(VLOOKUP(C603,BDDG!$A$3:$J$102,4,FALSE)),\"\",VLOOKUP(C603,BDDG!$A$3:$J$102,4,FALSE))","v":108},{"$f":"IF(ISNA(VLOOKUP(C603,BDDG!$A$2:$F$100,5,FALSE)),\"\",VLOOKUP(C603,BDDG!$A$2:$F$100,5,FALSE))","v":"A17"},{"$f":"IF(ISNA(VLOOKUP(C603,BDDG!$A$2:$F$100,6,FALSE)),\"\",VLOOKUP(C603,BDDG!$A$2:$F$100,6,FALSE))","v":"AA42"},{"$f":"IF(ISERROR(VLOOKUP(C603,BDDG!$A$2:$G$100,7,FALSE)),\"\",VLOOKUP(C603,BDDG!$A$2:$G$100,7,FALSE))","v":1},{"$f":"IF(ISERROR(VLOOKUP(C603,BDDG!$A$2:$H$100,8,FALSE)),\"\",VLOOKUP(C603,BDDG!$A$2:$H$100,8,FALSE))","v":"BB42"},0.7,1,60.48,{"$f":"IF(ISERROR(VLOOKUP(C603,BDDG!$A$2:$I$100,9,FALSE)),\"\",VLOOKUP(C603,BDDG!$A$2:$I$100,9,FALSE))","v":"CC42"},null,null,null,{"$f":"IF(ISERROR(VLOOKUP(C603,BDDG!$A$2:$J$100,10,FALSE)),\"\",VLOOKUP(C603,BDDG!$A$2:$J$100,10,FALSE))","v":"DD42"},null,null,"",60.48,5,2012,{"$f":"IFERROR(INDEX($V$2:V603,MATCH(H603&MAX(IF($H$1:H602=H603,$A$1:A602)),$H$2:H603&$A$2:A603,0))-V603,\"\")","v":0}]
["2012-05-18",null,867,{"$f":"IF(ISNA(VLOOKUP(C604,BDDG!$A$2:$F$100,2,FALSE)),\"\",VLOOKUP(C604,BDDG!$A$2:$F$100,2,FALSE))","v":0},{"$f":"IF(ISNA(VLOOKUP(C604,BDDG!$A$3:$J$102,3,FALSE)),\"\",VLOOKUP(C604,BDDG!$A$3:$J$102,3,FALSE))","v":"C"},{"$f":"IF(ISNA(VLOOKUP(C604,BDDG!$A$3:$J$102,4,FALSE)),\"\",VLOOKUP(C604,BDDG!$A$3:$J$102,4,FALSE))","v":108},{"$f":"IF(ISNA(VLOOKUP(C604,BDDG!$A$2:$F$100,5,FALSE)),\"\",VLOOKUP(C604,BDDG!$A$2:$F$100,5,FALSE))","v":"A17"},{"$f":"IF(ISNA(VLOOKUP(C604,BDDG!$A$2:$F$100,6,FALSE)),\"\",VLOOKUP(C604,BDDG!$A$2:$F$100,6,FALSE))","v":"AA43"},{"$f":"IF(ISERROR(VLOOKUP(C604,BDDG!$A$2:$G$100,7,FALSE)),\"\",VLOOKUP(C604,BDDG!$A$2:$G$100,7,FALSE))","v":1},{"$f":"IF(ISERROR(VLOOKUP(C604,BDDG!$A$2:$H$100,8,FALSE)),\"\",VLOOKUP(C604,BDDG!$A$2:$H$100,8,FALSE))","v":"BB43"},10,24,36.000000000000007,{"$f":"IF(ISERROR(VLOOKUP(C604,BDDG!$A$2:$I$100,9,FALSE)),\"\",VLOOKUP(C604,BDDG!$A$2:$I$100,9,FALSE))","v":"CC43"},null,null,null,{"$f":"IF(ISERROR(VLOOKUP(C604,BDDG!$A$2:$J$100,10,FALSE)),\"\",VLOOKUP(C604,BDDG!$A$2:$J$100,10,FALSE))","v":"DD43"},null,null,"",36.000000000000007,5,2012,{"$f":"IFERROR(INDEX($V$2:V604,MATCH(H604&MAX(IF($H$1:H603=H604,$A$1:A603)),$H$2:H604&$A$2:A604,0))-V604,\"\")","v":-16.992000000000004}]
["2012-06-07",null,856,{"$f":"IF(ISNA(VLOOKUP(C605,BDDG!$A$2:$F$100,2,FALSE)),\"\",VLOOKUP(C605,BDDG!$A$2:$F$100,2,FALSE))","v":0},{"$f":"IF(ISNA(VLOOKUP(C605,BDDG!$A$3:$J$102,3,FALSE)),\"\",VLOOKUP(C605,BDDG!$A$3:$J$102,3,FALSE))","v":"A"},{"$f":"IF(ISNA(VLOOKUP(C605,BDDG!$A$3:$J$102,4,FALSE)),\"\",VLOOKUP(C605,BDDG!$A$3:$J$102,4,FALSE))","v":106},{"$f":"IF(ISNA(VLOOKUP(C605,BDDG!$A$2:$F$100,5,FALSE)),\"\",VLOOKUP(C605,BDDG!$A$2:$F$100,5,FALSE))","v":"A9"},{"$f":"IF(ISNA(VLOOKUP(C605,BDDG!$A$2:$F$100,6,FALSE)),\"\",VLOOKUP(C605,BDDG!$A$2:$F$100,6,FALSE))","v":"AA27"},{"$f":"IF(ISERROR(VLOOKUP(C605,BDDG!$A$2:$G$100,7,FALSE)),\"\",VLOOKUP(C605,BDDG!$A$2:$G$100,7,FALSE))","v":2},{"$f":"IF(ISERROR(VLOOKUP(C605,BDDG!$A$2:$H$100,8,FALSE)),\"\",VLOOKUP(C605,BDDG!$A$2:$H$100,8,FALSE))","v":"BB27"},10,21,41.142857142857146,{"$f":"IF(ISERROR(VLOOKUP(C605,BDDG!$A$2:$I$100,9,FALSE)),\"\",VLOOKUP(C605,BDDG!$A$2:$I$100,9,FALSE))","v":"CC27"},10,1,{"$f":" IF(ISERROR(O605/P605*86.4),\"\",O605/P605*86.4)","v":864},{"$f":"IF(ISERROR(VLOOKUP(C605,BDDG!$A$2:$J$100,10,FALSE)),\"\",VLOOKUP(C605,BDDG!$A$2:$J$100,10,FALSE))","v":"DD27"},null,null,"",905.14285714285711,6,2012,{"$f":"IFERROR(INDEX($V$2:V605,MATCH(H605&MAX(IF($H$1:H604=H605,$A$1:A604)),$H$2:H605&$A$2:A605,0))-V605,\"\")","v":82.285714285714334}]
["2012-06-11",null,866,{"$f":"IF(ISNA(VLOOKUP(C606,BDDG!$A$2:$F$100,2,FALSE)),\"\",VLOOKUP(C606,BDDG!$A$2:$F$100,2,FALSE))","v":0},{"$f":"IF(ISNA(VLOOKUP(C606,BDDG!$A$3:$J$102,3,FALSE)),\"\",VLOOKUP(C606,BDDG!$A$3:$J$102,3,FALSE))","v":"C"},{"$f":"IF(ISNA(VLOOKUP(C606,BDDG!$A$3:$J$102,4,FALSE)),\"\",VLOOKUP(C606,BDDG!$A$3:$J$102,4,FALSE))","v":108},{"$f":"IF(ISNA(VLOOKUP(C606,BDDG!$A$2:$F$100,5,FALSE)),\"\",VLOOKUP(C606,BDDG!$A$2:$F$100,5,FALSE))","v":"A17"},{"$f":"IF(ISNA(VLOOKUP(C606,BDDG!$A$2:$F$100,6,FALSE)),\"\",VLOOKUP(C606,BDDG!$A$2:$F$100,6,FALSE))","v":"AA42"},{"$f":"IF(ISERROR(VLOOKUP(C606,BDDG!$A$2:$G$100,7,FALSE)),\"\",VLOOKUP(C606,BDDG!$A$2:$G$100,7,FALSE))","v":1},{"$f":"IF(ISERROR(VLOOKUP(C606,BDDG!$A$2:$H$100,8,FALSE)),\"\",VLOOKUP(C606,BDDG!$A$2:$H$100,8,FALSE))","v":"BB42"},0.7,1,60.48,{"$f":"IF(ISERROR(VLOOKUP(C606,BDDG!$A$2:$I$100,9,FALSE)),\"\",VLOOKUP(C606,BDDG!$A$2:$I$100,9,FALSE))","v":"CC42"},null,null,null,{"$f":"IF(ISERROR(VLOOKUP(C606,BDDG!$A$2:$J$100,10,FALSE)),\"\",VLOOKUP(C606,BDDG!$A$2:$J$100,10,FALSE))","v":"DD42"},null,null,"",60.48,6,2012,{"$f":"IFERROR(INDEX($V$2:V606,MATCH(H606&MAX(IF($H$1:H605=H606,$A$1:A605)),$H$2:H606&$A$2:A606,0))-V606,\"\")","v":0}]
["2012-06-14",null,862,{"$f":"IF(ISNA(VLOOKUP(C607,BDDG!$A$2:$F$100,2,FALSE)),\"\",VLOOKUP(C607,BDDG!$A$2:$F$100,2,FALSE))","v":0},{"$f":"IF(ISNA(VLOOKUP(C607,BDDG!$A$3:$J$102,3,FALSE)),\"\",VLOOKUP(C607,BDDG!$A$3:$J$102,3,FALSE))","v":"A"},{"$f":"IF(ISNA(VLOOKUP(C607,BDDG!$A$3:$J$102,4,FALSE)),\"\",VLOOKUP(C607,BDDG!$A$3:$J$102,4,FALSE))","v":106},{"$f":"IF(ISNA(VLOOKUP(C607,BDDG!$A$2:$F$100,5,FALSE)),\"\",VLOOKUP(C607,BDDG!$A$2:$F$100,5,FALSE))","v":"A12"},{"$f":"IF(ISNA(VLOOKUP(C607,BDDG!$A$2:$F$100,6,FALSE)),\"\",VLOOKUP(C607,BDDG!$A$2:$F$100,6,FALSE))","v":"AA34"},{"$f":"IF(ISERROR(VLOOKUP(C607,BDDG!$A$2:$G$100,7,FALSE)),\"\",VLOOKUP(C607,BDDG!$A$2:$G$100,7,FALSE))","v":1},{"$f":"IF(ISERROR(VLOOKUP(C607,BDDG!$A$2:$H$100,8,FALSE)),\"\",VLOOKUP(C607,BDDG!$A$2:$H$100,8,FALSE))","v":"BB34"},10,11,78.545454545454547,{"$f":"IF(ISERROR(VLOOKUP(C607,BDDG!$A$2:$I$100,9,FALSE)),\"\",VLOOKUP(C607,BDDG!$A$2:$I$100,9,FALSE))","v":"CC34"},null,null,{"$f":" IF(ISERROR(O607/P607*86.4),\"\",O607/P607*86.4)","v":""},{"$f":"IF(ISERROR(VLOOKUP(C607,BDDG!$A$2:$J$100,10,FALSE)),\"\",VLOOKUP(C607,BDDG!$A$2:$J$100,10,FALSE))","v":"DD34"},null,null,"",78.545454545454547,6,2012,{"$f":"IFERROR(INDEX($V$2:V607,MATCH(H607&MAX(IF($H$1:H606=H607,$A$1:A606)),$H$2:H607&$A$2:A607,0))-V607,\"\")","v":7.8545454545454589}]
["2012-06-14",null,860,{"$f":"IF(ISNA(VLOOKUP(C608,BDDG!$A$2:$F$100,2,FALSE)),\"\",VLOOKUP(C608,BDDG!$A$2:$F$100,2,FALSE))","v":0},{"$f":"IF(ISNA(VLOOKUP(C608,BDDG!$A$3:$J$102,3,FALSE)),\"\",VLOOKUP(C608,BDDG!$A$3:$J$102,3,FALSE))","v":"A"},{"$f":"IF(ISNA(VLOOKUP(C608,BDDG!$A$3:$J$102,4,FALSE)),\"\",VLOOKUP(C608,BDDG!$A$3:$J$102,4,FALSE))","v":106},{"$f":"IF(ISNA(VLOOKUP(C608,BDDG!$A$2:$F$100,5,FALSE)),\"\",VLOOKUP(C608,BDDG!$A$2:$F$100,5,FALSE))","v":"A11"},{"$f":"IF(ISNA(VLOOKUP(C608,BDDG!$A$2:$F$100,6,FALSE)),\"\",VLOOKUP(C608,BDDG!$A$2:$F$100,6,FALSE))","v":"AA32"},{"$f":"IF(ISERROR(VLOOKUP(C608,BDDG!$A$2:$G$100,7,FALSE)),\"\",VLOOKUP(C608,BDDG!$A$2:$G$100,7,FALSE))","v":2},{"$f":"IF(ISERROR(VLOOKUP(C608,BDDG!$A$2:$H$100,8,FALSE)),\"\",VLOOKUP(C608,BDDG!$A$2:$H$100,8,FALSE))","v":"BB32"},10,10,86.4,{"$f":"IF(ISERROR(VLOOKUP(C608,BDDG!$A$2:$I$100,9,FALSE)),\"\",VLOOKUP(C608,BDDG!$A$2:$I$100,9,FALSE))","v":"CC32"},null,null,"",{"$f":"IF(ISERROR(VLOOKUP(C608,BDDG!$A$2:$J$100,10,FALSE)),\"\",VLOOKUP(C608,BDDG!$A$2:$J$100,10,FALSE))","v":"DD32"},null,null,"",86.4,6,2012,{"$f":"IFERROR(INDEX($V$2:V608,MATCH(H608&MAX(IF($H$1:H607=H608,$A$1:A607)),$H$2:H608&$A$2:A608,0))-V608,\"\")","v":-45.25714285714286}]
["2012-06-14",null,860,{"$f":"IF(ISNA(VLOOKUP(C609,BDDG!$A$2:$F$100,2,FALSE)),\"\",VLOOKUP(C609,BDDG!$A$2:$F$100,2,FALSE))","v":0},{"$f":"IF(ISNA(VLOOKUP(C609,BDDG!$A$3:$J$102,3,FALSE)),\"\",VLOOKUP(C609,BDDG!$A$3:$J$102,3,FALSE))","v":"A"},{"$f":"IF(ISNA(VLOOKUP(C609,BDDG!$A$3:$J$102,4,FALSE)),\"\",VLOOKUP(C609,BDDG!$A$3:$J$102,4,FALSE))","v":106},{"$f":"IF(ISNA(VLOOKUP(C609,BDDG!$A$2:$F$100,5,FALSE)),\"\",VLOOKUP(C609,BDDG!$A$2:$F$100,5,FALSE))","v":"A11"},{"$f":"IF(ISNA(VLOOKUP(C609,BDDG!$A$2:$F$100,6,FALSE)),\"\",VLOOKUP(C609,BDDG!$A$2:$F$100,6,FALSE))","v":"AA32"},{"$f":"IF(ISERROR(VLOOKUP(C609,BDDG!$A$2:$G$100,7,FALSE)),\"\",VLOOKUP(C609,BDDG!$A$2:$G$100,7,FALSE))","v":2},{"$f":"IF(ISERROR(VLOOKUP(C609,BDDG!$A$2:$H$100,8,FALSE)),\"\",VLOOKUP(C609,BDDG!$A$2:$H$100,8,FALSE))","v":"BB32"},10,3,288.00000000000006,{"$f":"IF(ISERROR(VLOOKUP(C609,BDDG!$A$2:$I$100,9,FALSE)),\"\",VLOOKUP(C609,BDDG!$A$2:$I$100,9,FALSE))","v":"CC32"},null,null,"",{"$f":"IF(ISERROR(VLOOKUP(C609,BDDG!$A$2:$J$100,10,FALSE)),\"\",VLOOKUP(C609,BDDG!$A$2:$J$100,10,FALSE))","v":"DD32"},null,null,"",288.00000000000006,6,2012,{"$f":"IFERROR(INDEX($V$2:V609,MATCH(H609&MAX(IF($H$1:H608=H609,$A$1:A608)),$H$2:H609&$A$2:A609,0))-V609,\"\")","v":-201.60000000000005}]
["2012-06-14",null,861,{"$f":"IF(ISNA(VLOOKUP(C610,BDDG!$A$2:$F$100,2,FALSE)),\"\",VLOOKUP(C610,BDDG!$A$2:$F$100,2,FALSE))","v":0},{"$f":"IF(ISNA(VLOOKUP(C610,BDDG!$A$3:$J$102,3,FALSE)),\"\",VLOOKUP(C610,BDDG!$A$3:$J$102,3,FALSE))","v":"A"},{"$f":"IF(ISNA(VLOOKUP(C610,BDDG!$A$3:$J$102,4,FALSE)),\"\",VLOOKUP(C610,BDDG!$A$3:$J$102,4,FALSE))","v":106},{"$f":"IF(ISNA(VLOOKUP(C610,BDDG!$A$2:$F$100,5,FALSE)),\"\",VLOOKUP(C610,BDDG!$A$2:$F$100,5,FALSE))","v":"A11"},{"$f":"IF(ISNA(VLOOKUP(C610,BDDG!$A$2:$F$100,6,FALSE)),\"\",VLOOKUP(C610,BDDG!$A$2:$F$100,6,FALSE))","v":"AA33"},{"$f":"IF(ISERROR(VLOOKUP(C610,BDDG!$A$2:$G$100,7,FALSE)),\"\",VLOOKUP(C610,BDDG!$A$2:$G$100,7,FALSE))","v":2},{"$f":"IF(ISERROR(VLOOKUP(C610,BDDG!$A$2:$H$100,8,FALSE)),\"\",VLOOKUP(C610,BDDG!$A$2:$H$100,8,FALSE))","v":"BB33"},null,null,null,{"$f":"IF(ISERROR(VLOOKUP(C610,BDDG!$A$2:$I$100,9,FALSE)),\"\",VLOOKUP(C610,BDDG!$A$2:$I$100,9,FALSE))","v":"CC33"},10,4,216,{"$f":"IF(ISERROR(VLOOKUP(C610,BDDG!$A$2:$J$100,10,FALSE)),\"\",VLOOKUP(C610,BDDG!$A$2:$J$100,10,FALSE))","v":"DD33"},null,null,"",{"$f":"IF(ISERROR(SUM(M610,Q610,U610)),\"\",SUM((M610,Q610,U610)))","v":216},6,2012,{"$f":"IFERROR(INDEX($V$2:V610,MATCH(H610&MAX(IF($H$1:H609=H610,$A$1:A609)),$H$2:H610&$A$2:A610,0))-V610,\"\")","v":-71.999999999999972}]
["2012-06-28",null,870,{"$f":"IF(ISNA(VLOOKUP(C611,BDDG!$A$2:$F$100,2,FALSE)),\"\",VLOOKUP(C611,BDDG!$A$2:$F$100,2,FALSE))","v":0},{"$f":"IF(ISNA(VLOOKUP(C611,BDDG!$A$3:$J$102,3,FALSE)),\"\",VLOOKUP(C611,BDDG!$A$3:$J$102,3,FALSE))","v":"A"},{"$f":"IF(ISNA(VLOOKUP(C611,BDDG!$A$3:$J$102,4,FALSE)),\"\",VLOOKUP(C611,BDDG!$A$3:$J$102,4,FALSE))","v":108},{"$f":"IF(ISNA(VLOOKUP(C611,BDDG!$A$2:$F$100,5,FALSE)),\"\",VLOOKUP(C611,BDDG!$A$2:$F$100,5,FALSE))","v":"A16"},{"$f":"IF(ISNA(VLOOKUP(C611,BDDG!$A$2:$F$100,6,FALSE)),\"\",VLOOKUP(C611,BDDG!$A$2:$F$100,6,FALSE))","v":"AA41"},{"$f":"IF(ISERROR(VLOOKUP(C611,BDDG!$A$2:$G$100,7,FALSE)),\"\",VLOOKUP(C611,BDDG!$A$2:$G$100,7,FALSE))","v":2},{"$f":"IF(ISERROR(VLOOKUP(C611,BDDG!$A$2:$H$100,8,FALSE)),\"\",VLOOKUP(C611,BDDG!$A$2:$H$100,8,FALSE))","v":"BB41"},2,10,{"$f":" IF(ISERROR(K611/L611*86.4),\"\",K611/L611*86.4)","v":17.28},{"$f":"IF(ISERROR(VLOOKUP(C611,BDDG!$A$2:$I$100,9,FALSE)),\"\",VLOOKUP(C611,BDDG!$A$2:$I$100,9,FALSE))","v":"CC41"},null,null,"",{"$f":"IF(ISERROR(VLOOKUP(C611,BDDG!$A$2:$J$100,10,FALSE)),\"\",VLOOKUP(C611,BDDG!$A$2:$J$100,10,FALSE))","v":"DD41"},null,null,{"$f":" IF(ISERROR(S611/T611*86.4),\"\",S611/T611*86.4)","v":""},{"$f":"IF(ISERROR(SUM(M611,Q611,U611)),\"\",SUM(M611,Q611,U611))","v":17.28},6,2012,{"$f":"IFERROR(INDEX($V$2:V611,MATCH(H611&MAX(IF($H$1:H610=H611,$A$1:A610)),$H$2:H611&$A$2:A611,0))-V611,\"\")","v":-14.703157894736844}]
["2012-07-06",null,832,{"$f":"IF(ISNA(VLOOKUP(C612,BDDG!$A$2:$F$100,2,FALSE)),\"\",VLOOKUP(C612,BDDG!$A$2:$F$100,2,FALSE))","v":0},{"$f":"IF(ISNA(VLOOKUP(C612,BDDG!$A$3:$J$102,3,FALSE)),\"\",VLOOKUP(C612,BDDG!$A$3:$J$102,3,FALSE))","v":"A"},{"$f":"IF(ISNA(VLOOKUP(C612,BDDG!$A$3:$J$102,4,FALSE)),\"\",VLOOKUP(C612,BDDG!$A$3:$J$102,4,FALSE))","v":106},{"$f":"IF(ISNA(VLOOKUP(C612,BDDG!$A$2:$F$100,5,FALSE)),\"\",VLOOKUP(C612,BDDG!$A$2:$F$100,5,FALSE))","v":"A2"},{"$f":"IF(ISNA(VLOOKUP(C612,BDDG!$A$2:$F$100,6,FALSE)),\"\",VLOOKUP(C612,BDDG!$A$2:$F$100,6,FALSE))","v":"AA2"},{"$f":"IF(ISERROR(VLOOKUP(C612,BDDG!$A$2:$G$100,7,FALSE)),\"\",VLOOKUP(C612,BDDG!$A$2:$G$100,7,FALSE))","v":1},{"$f":"IF(ISERROR(VLOOKUP(C612,BDDG!$A$2:$H$100,8,FALSE)),\"\",VLOOKUP(C612,BDDG!$A$2:$H$100,8,FALSE))","v":"BB2"},10,10,86.4,{"$f":"IF(ISERROR(VLOOKUP(C612,BDDG!$A$2:$I$100,9,FALSE)),\"\",VLOOKUP(C612,BDDG!$A$2:$I$100,9,FALSE))","v":"CC2"},null,null,"",{"$f":"IF(ISERROR(VLOOKUP(C612,BDDG!$A$2:$J$100,10,FALSE)),\"\",VLOOKUP(C612,BDDG!$A$2:$J$100,10,FALSE))","v":"DD2"},null,null,"",86.4,7,2012,{"$f":"IFERROR(INDEX($V$2:V612,MATCH(H612&MAX(IF($H$1:H611=H612,$A$1:A611)),$H$2:H612&$A$2:A612,0))-V612,\"\")","v":-35.576470588235296}]
["2012-07-06",null,833,{"$f":"IF(ISNA(VLOOKUP(C613,BDDG!$A$2:$F$100,2,FALSE)),\"\",VLOOKUP(C613,BDDG!$A$2:$F$100,2,FALSE))","v":0},{"$f":"IF(ISNA(VLOOKUP(C613,BDDG!$A$3:$J$102,3,FALSE)),\"\",VLOOKUP(C613,BDDG!$A$3:$J$102,3,FALSE))","v":"A"},{"$f":"IF(ISNA(VLOOKUP(C613,BDDG!$A$3:$J$102,4,FALSE)),\"\",VLOOKUP(C613,BDDG!$A$3:$J$102,4,FALSE))","v":106},{"$f":"IF(ISNA(VLOOKUP(C613,BDDG!$A$2:$F$100,5,FALSE)),\"\",VLOOKUP(C613,BDDG!$A$2:$F$100,5,FALSE))","v":"A2"},{"$f":"IF(ISNA(VLOOKUP(C613,BDDG!$A$2:$F$100,6,FALSE)),\"\",VLOOKUP(C613,BDDG!$A$2:$F$100,6,FALSE))","v":"AA3"},{"$f":"IF(ISERROR(VLOOKUP(C613,BDDG!$A$2:$G$100,7,FALSE)),\"\",VLOOKUP(C613,BDDG!$A$2:$G$100,7,FALSE))","v":1},{"$f":"IF(ISERROR(VLOOKUP(C613,BDDG!$A$2:$H$100,8,FALSE)),\"\",VLOOKUP(C613,BDDG!$A$2:$H$100,8,FALSE))","v":"BB3"},10,7.3,118.35616438356165,{"$f":"IF(ISERROR(VLOOKUP(C613,BDDG!$A$2:$I$100,9,FALSE)),\"\",VLOOKUP(C613,BDDG!$A$2:$I$100,9,FALSE))","v":"CC3"},null,null,"",{"$f":"IF(ISERROR(VLOOKUP(C613,BDDG!$A$2:$J$100,10,FALSE)),\"\",VLOOKUP(C613,BDDG!$A$2:$J$100,10,FALSE))","v":"DD3"},null,null,"",118.35616438356165,7,2012,{"$f":"IFERROR(INDEX($V$2:V613,MATCH(H613&MAX(IF($H$1:H612=H613,$A$1:A612)),$H$2:H613&$A$2:A613,0))-V613,\"\")","v":-82.356164383561634}]
["2012-07-06",null,834,{"$f":"IF(ISNA(VLOOKUP(C614,BDDG!$A$2:$F$100,2,FALSE)),\"\",VLOOKUP(C614,BDDG!$A$2:$F$100,2,FALSE))","v":0},{"$f":"IF(ISNA(VLOOKUP(C614,BDDG!$A$3:$J$102,3,FALSE)),\"\",VLOOKUP(C614,BDDG!$A$3:$J$102,3,FALSE))","v":"A"},{"$f":"IF(ISNA(VLOOKUP(C614,BDDG!$A$3:$J$102,4,FALSE)),\"\",VLOOKUP(C614,BDDG!$A$3:$J$102,4,FALSE))","v":106},{"$f":"IF(ISNA(VLOOKUP(C614,BDDG!$A$2:$F$100,5,FALSE)),\"\",VLOOKUP(C614,BDDG!$A$2:$F$100,5,FALSE))","v":"A2"},{"$f":"IF(ISNA(VLOOKUP(C614,BDDG!$A$2:$F$100,6,FALSE)),\"\",VLOOKUP(C614,BDDG!$A$2:$F$100,6,FALSE))","v":"AA4"},{"$f":"IF(ISERROR(VLOOKUP(C614,BDDG!$A$2:$G$100,7,FALSE)),\"\",VLOOKUP(C614,BDDG!$A$2:$G$100,7,FALSE))","v":1},{"$f":"IF(ISERROR(VLOOKUP(C614,BDDG!$A$2:$H$100,8,FALSE)),\"\",VLOOKUP(C614,BDDG!$A$2:$H$100,8,FALSE))","v":"BB4"},10,71,12.169014084507044,{"$f":"IF(ISERROR(VLOOKUP(C614,BDDG!$A$2:$I$100,9,FALSE)),\"\",VLOOKUP(C614,BDDG!$A$2:$I$100,9,FALSE))","v":"CC4"},null,null,"",{"$f":"IF(ISERROR(VLOOKUP(C614,BDDG!$A$2:$J$100,10,FALSE)),\"\",VLOOKUP(C614,BDDG!$A$2:$J$100,10,FALSE))","v":"DD4"},null,null,"",12.169014084507044,7,2012,{"$f":"IFERROR(INDEX($V$2:V614,MATCH(H614&MAX(IF($H$1:H613=H614,$A$1:A613)),$H$2:H614&$A$2:A614,0))-V614,\"\")","v":-3.6984258492129261}]
["2012-07-18",null,831,{"$f":"IF(ISNA(VLOOKUP(C615,BDDG!$A$2:$F$100,2,FALSE)),\"\",VLOOKUP(C615,BDDG!$A$2:$F$100,2,FALSE))","v":0},{"$f":"IF(ISNA(VLOOKUP(C615,BDDG!$A$3:$J$102,3,FALSE)),\"\",VLOOKUP(C615,BDDG!$A$3:$J$102,3,FALSE))","v":"A"},{"$f":"IF(ISNA(VLOOKUP(C615,BDDG!$A$3:$J$102,4,FALSE)),\"\",VLOOKUP(C615,BDDG!$A$3:$J$102,4,FALSE))","v":106},{"$f":"IF(ISNA(VLOOKUP(C615,BDDG!$A$2:$F$100,5,FALSE)),\"\",VLOOKUP(C615,BDDG!$A$2:$F$100,5,FALSE))","v":"A1"},{"$f":"IF(ISNA(VLOOKUP(C615,BDDG!$A$2:$F$100,6,FALSE)),\"\",VLOOKUP(C615,BDDG!$A$2:$F$100,6,FALSE))","v":"AA1"},{"$f":"IF(ISERROR(VLOOKUP(C615,BDDG!$A$2:$G$100,7,FALSE)),\"\",VLOOKUP(C615,BDDG!$A$2:$G$100,7,FALSE))","v":1},{"$f":"IF(ISERROR(VLOOKUP(C615,BDDG!$A$2:$H$100,8,FALSE)),\"\",VLOOKUP(C615,BDDG!$A$2:$H$100,8,FALSE))","v":"BB1"},10,12,72.000000000000014,{"$f":"IF(ISERROR(VLOOKUP(C615,BDDG!$A$2:$I$100,9,FALSE)),\"\",VLOOKUP(C615,BDDG!$A$2:$I$100,9,FALSE))","v":"CC1"},null,null,"",{"$f":"IF(ISERROR(VLOOKUP(C615,BDDG!$A$2:$J$100,10,FALSE)),\"\",VLOOKUP(C615,BDDG!$A$2:$J$100,10,FALSE))","v":"DD1"},null,null,"",72.000000000000014,7,2012,{"$f":"IFERROR(INDEX($V$2:V615,MATCH(H615&MAX(IF($H$1:H614=H615,$A$1:A614)),$H$2:H615&$A$2:A615,0))-V615,\"\")","v":14.399999999999991}]
["2012-07-25",null,867,{"$f":"IF(ISNA(VLOOKUP(C616,BDDG!$A$2:$F$100,2,FALSE)),\"\",VLOOKUP(C616,BDDG!$A$2:$F$100,2,FALSE))","v":0},{"$f":"IF(ISNA(VLOOKUP(C616,BDDG!$A$3:$J$102,3,FALSE)),\"\",VLOOKUP(C616,BDDG!$A$3:$J$102,3,FALSE))","v":"C"},{"$f":"IF(ISNA(VLOOKUP(C616,BDDG!$A$3:$J$102,4,FALSE)),\"\",VLOOKUP(C616,BDDG!$A$3:$J$102,4,FALSE))","v":108},{"$f":"IF(ISNA(VLOOKUP(C616,BDDG!$A$2:$F$100,5,FALSE)),\"\",VLOOKUP(C616,BDDG!$A$2:$F$100,5,FALSE))","v":"A17"},{"$f":"IF(ISNA(VLOOKUP(C616,BDDG!$A$2:$F$100,6,FALSE)),\"\",VLOOKUP(C616,BDDG!$A$2:$F$100,6,FALSE))","v":"AA43"},{"$f":"IF(ISERROR(VLOOKUP(C616,BDDG!$A$2:$G$100,7,FALSE)),\"\",VLOOKUP(C616,BDDG!$A$2:$G$100,7,FALSE))","v":1},{"$f":"IF(ISERROR(VLOOKUP(C616,BDDG!$A$2:$H$100,8,FALSE)),\"\",VLOOKUP(C616,BDDG!$A$2:$H$100,8,FALSE))","v":"BB43"},2,5,34.56,{"$f":"IF(ISERROR(VLOOKUP(C616,BDDG!$A$2:$I$100,9,FALSE)),\"\",VLOOKUP(C616,BDDG!$A$2:$I$100,9,FALSE))","v":"CC43"},null,null,null,{"$f":"IF(ISERROR(VLOOKUP(C616,BDDG!$A$2:$J$100,10,FALSE)),\"\",VLOOKUP(C616,BDDG!$A$2:$J$100,10,FALSE))","v":"DD43"},null,null,"",34.56,7,2012,{"$f":"IFERROR(INDEX($V$2:V616,MATCH(H616&MAX(IF($H$1:H615=H616,$A$1:A615)),$H$2:H616&$A$2:A616,0))-V616,\"\")","v":1.4400000000000048}]
["2012-07-25",null,866,{"$f":"IF(ISNA(VLOOKUP(C617,BDDG!$A$2:$F$100,2,FALSE)),\"\",VLOOKUP(C617,BDDG!$A$2:$F$100,2,FALSE))","v":0},{"$f":"IF(ISNA(VLOOKUP(C617,BDDG!$A$3:$J$102,3,FALSE)),\"\",VLOOKUP(C617,BDDG!$A$3:$J$102,3,FALSE))","v":"C"},{"$f":"IF(ISNA(VLOOKUP(C617,BDDG!$A$3:$J$102,4,FALSE)),\"\",VLOOKUP(C617,BDDG!$A$3:$J$102,4,FALSE))","v":108},{"$f":"IF(ISNA(VLOOKUP(C617,BDDG!$A$2:$F$100,5,FALSE)),\"\",VLOOKUP(C617,BDDG!$A$2:$F$100,5,FALSE))","v":"A17"},{"$f":"IF(ISNA(VLOOKUP(C617,BDDG!$A$2:$F$100,6,FALSE)),\"\",VLOOKUP(C617,BDDG!$A$2:$F$100,6,FALSE))","v":"AA42"},{"$f":"IF(ISERROR(VLOOKUP(C617,BDDG!$A$2:$G$100,7,FALSE)),\"\",VLOOKUP(C617,BDDG!$A$2:$G$100,7,FALSE))","v":1},{"$f":"IF(ISERROR(VLOOKUP(C617,BDDG!$A$2:$H$100,8,FALSE)),\"\",VLOOKUP(C617,BDDG!$A$2:$H$100,8,FALSE))","v":"BB42"},0.7,1,60.48,{"$f":"IF(ISERROR(VLOOKUP(C617,BDDG!$A$2:$I$100,9,FALSE)),\"\",VLOOKUP(C617,BDDG!$A$2:$I$100,9,FALSE))","v":"CC42"},null,null,null,{"$f":"IF(ISERROR(VLOOKUP(C617,BDDG!$A$2:$J$100,10,FALSE)),\"\",VLOOKUP(C617,BDDG!$A$2:$J$100,10,FALSE))","v":"DD42"},null,null,"",60.48,7,2012,{"$f":"IFERROR(INDEX($V$2:V617,MATCH(H617&MAX(IF($H$1:H616=H617,$A$1:A616)),$H$2:H617&$A$2:A617,0))-V617,\"\")","v":0}]
["2012-08-01",null,835,{"$f":"IF(ISNA(VLOOKUP(C618,BDDG!$A$2:$F$100,2,FALSE)),\"\",VLOOKUP(C618,BDDG!$A$2:$F$100,2,FALSE))","v":0},{"$f":"IF(ISNA(VLOOKUP(C618,BDDG!$A$3:$J$102,3,FALSE)),\"\",VLOOKUP(C618,BDDG!$A$3:$J$102,3,FALSE))","v":"A"},{"$f":"IF(ISNA(VLOOKUP(C618,BDDG!$A$3:$J$102,4,FALSE)),\"\",VLOOKUP(C618,BDDG!$A$3:$J$102,4,FALSE))","v":106},{"$f":"IF(ISNA(VLOOKUP(C618,BDDG!$A$2:$F$100,5,FALSE)),\"\",VLOOKUP(C618,BDDG!$A$2:$F$100,5,FALSE))","v":"A3"},{"$f":"IF(ISNA(VLOOKUP(C618,BDDG!$A$2:$F$100,6,FALSE)),\"\",VLOOKUP(C618,BDDG!$A$2:$F$100,6,FALSE))","v":"AA5"},{"$f":"IF(ISERROR(VLOOKUP(C618,BDDG!$A$2:$G$100,7,FALSE)),\"\",VLOOKUP(C618,BDDG!$A$2:$G$100,7,FALSE))","v":1},{"$f":"IF(ISERROR(VLOOKUP(C618,BDDG!$A$2:$H$100,8,FALSE)),\"\",VLOOKUP(C618,BDDG!$A$2:$H$100,8,FALSE))","v":"BB5"},1,48,1.8,{"$f":"IF(ISERROR(VLOOKUP(C618,BDDG!$A$2:$I$100,9,FALSE)),\"\",VLOOKUP(C618,BDDG!$A$2:$I$100,9,FALSE))","v":"CC5"},null,null,{"$f":" IF(ISERROR(O618/P618*86.4),\"\",O618/P618*86.4)","v":""},{"$f":"IF(ISERROR(VLOOKUP(C618,BDDG!$A$2:$J$100,10,FALSE)),\"\",VLOOKUP(C618,BDDG!$A$2:$J$100,10,FALSE))","v":"DD5"},null,null,"",1.8,8,2012,{"$f":"IFERROR(INDEX($V$2:V618,MATCH(H618&MAX(IF($H$1:H617=H618,$A$1:A617)),$H$2:H618&$A$2:A618,0))-V618,\"\")","v":19.8}]
["2012-08-02",null,838,{"$f":"IF(ISNA(VLOOKUP(C619,BDDG!$A$2:$F$100,2,FALSE)),\"\",VLOOKUP(C619,BDDG!$A$2:$F$100,2,FALSE))","v":0},{"$f":"IF(ISNA(VLOOKUP(C619,BDDG!$A$3:$J$102,3,FALSE)),\"\",VLOOKUP(C619,BDDG!$A$3:$J$102,3,FALSE))","v":"A"},{"$f":"IF(ISNA(VLOOKUP(C619,BDDG!$A$3:$J$102,4,FALSE)),\"\",VLOOKUP(C619,BDDG!$A$3:$J$102,4,FALSE))","v":106},{"$f":"IF(ISNA(VLOOKUP(C619,BDDG!$A$2:$F$100,5,FALSE)),\"\",VLOOKUP(C619,BDDG!$A$2:$F$100,5,FALSE))","v":"A3"},{"$f":"IF(ISNA(VLOOKUP(C619,BDDG!$A$2:$F$100,6,FALSE)),\"\",VLOOKUP(C619,BDDG!$A$2:$F$100,6,FALSE))","v":"AA8"},{"$f":"IF(ISERROR(VLOOKUP(C619,BDDG!$A$2:$G$100,7,FALSE)),\"\",VLOOKUP(C619,BDDG!$A$2:$G$100,7,FALSE))","v":1},{"$f":"IF(ISERROR(VLOOKUP(C619,BDDG!$A$2:$H$100,8,FALSE)),\"\",VLOOKUP(C619,BDDG!$A$2:$H$100,8,FALSE))","v":"BB8"},15,20,64.800000000000011,{"$f":"IF(ISERROR(VLOOKUP(C619,BDDG!$A$2:$I$100,9,FALSE)),\"\",VLOOKUP(C619,BDDG!$A$2:$I$100,9,FALSE))","v":"CC8"},null,null,"",{"$f":"IF(ISERROR(VLOOKUP(C619,BDDG!$A$2:$J$100,10,FALSE)),\"\",VLOOKUP(C619,BDDG!$A$2:$J$100,10,FALSE))","v":"DD8"},null,null,"",64.800000000000011,8,2012,{"$f":"IFERROR(INDEX($V$2:V619,MATCH(H619&MAX(IF($H$1:H618=H619,$A$1:A618)),$H$2:H619&$A$2:A619,0))-V619,\"\")","v":-40.114285714285728}]
["2012-08-02",null,837,{"$f":"IF(ISNA(VLOOKUP(C620,BDDG!$A$2:$F$100,2,FALSE)),\"\",VLOOKUP(C620,BDDG!$A$2:$F$100,2,FALSE))","v":0},{"$f":"IF(ISNA(VLOOKUP(C620,BDDG!$A$3:$J$102,3,FALSE)),\"\",VLOOKUP(C620,BDDG!$A$3:$J$102,3,FALSE))","v":"A"},{"$f":"IF(ISNA(VLOOKUP(C620,BDDG!$A$3:$J$102,4,FALSE)),\"\",VLOOKUP(C620,BDDG!$A$3:$J$102,4,FALSE))","v":106},{"$f":"IF(ISNA(VLOOKUP(C620,BDDG!$A$2:$F$100,5,FALSE)),\"\",VLOOKUP(C620,BDDG!$A$2:$F$100,5,FALSE))","v":"A3"},{"$f":"IF(ISNA(VLOOKUP(C620,BDDG!$A$2:$F$100,6,FALSE)),\"\",VLOOKUP(C620,BDDG!$A$2:$F$100,6,FALSE))","v":"AA7"},{"$f":"IF(ISERROR(VLOOKUP(C620,BDDG!$A$2:$G$100,7,FALSE)),\"\",VLOOKUP(C620,BDDG!$A$2:$G$100,7,FALSE))","v":1},{"$f":"IF(ISERROR(VLOOKUP(C620,BDDG!$A$2:$H$100,8,FALSE)),\"\",VLOOKUP(C620,BDDG!$A$2:$H$100,8,FALSE))","v":"BB7"},1.5,20,6.48,{"$f":"IF(ISERROR(VLOOKUP(C620,BDDG!$A$2:$I$100,9,FALSE)),\"\",VLOOKUP(C620,BDDG!$A$2:$I$100,9,FALSE))","v":"CC7"},null,null,"",{"$f":"IF(ISERROR(VLOOKUP(C620,BDDG!$A$2:$J$100,10,FALSE)),\"\",VLOOKUP(C620,BDDG!$A$2:$J$100,10,FALSE))","v":"DD7"},null,null,"",6.48,8,2012,{"$f":"IFERROR(INDEX($V$2:V620,MATCH(H620&MAX(IF($H$1:H619=H620,$A$1:A619)),$H$2:H620&$A$2:A620,0))-V620,\"\")","v":12.719999999999999}]
["2012-08-02",null,836,{"$f":"IF(ISNA(VLOOKUP(C621,BDDG!$A$2:$F$100,2,FALSE)),\"\",VLOOKUP(C621,BDDG!$A$2:$F$100,2,FALSE))","v":0},{"$f":"IF(ISNA(VLOOKUP(C621,BDDG!$A$3:$J$102,3,FALSE)),\"\",VLOOKUP(C621,BDDG!$A$3:$J$102,3,FALSE))","v":"A"},{"$f":"IF(ISNA(VLOOKUP(C621,BDDG!$A$3:$J$102,4,FALSE)),\"\",VLOOKUP(C621,BDDG!$A$3:$J$102,4,FALSE))","v":106},{"$f":"IF(ISNA(VLOOKUP(C621,BDDG!$A$2:$F$100,5,FALSE)),\"\",VLOOKUP(C621,BDDG!$A$2:$F$100,5,FALSE))","v":"A3"},{"$f":"IF(ISNA(VLOOKUP(C621,BDDG!$A$2:$F$100,6,FALSE)),\"\",VLOOKUP(C621,BDDG!$A$2:$F$100,6,FALSE))","v":"AA6"},{"$f":"IF(ISERROR(VLOOKUP(C621,BDDG!$A$2:$G$100,7,FALSE)),\"\",VLOOKUP(C621,BDDG!$A$2:$G$100,7,FALSE))","v":1},{"$f":"IF(ISERROR(VLOOKUP(C621,BDDG!$A$2:$H$100,8,FALSE)),\"\",VLOOKUP(C621,BDDG!$A$2:$H$100,8,FALSE))","v":"BB6"},4.3,9,41.28,{"$f":"IF(ISERROR(VLOOKUP(C621,BDDG!$A$2:$I$100,9,FALSE)),\"\",VLOOKUP(C621,BDDG!$A$2:$I$100,9,FALSE))","v":"CC6"},null,null,"",{"$f":"IF(ISERROR(VLOOKUP(C621,BDDG!$A$2:$J$100,10,FALSE)),\"\",VLOOKUP(C621,BDDG!$A$2:$J$100,10,FALSE))","v":"DD6"},null,null,"",41.28,8,2012,{"$f":"IFERROR(INDEX($V$2:V621,MATCH(H621&MAX(IF($H$1:H620=H621,$A$1:A620)),$H$2:H621&$A$2:A621,0))-V621,\"\")","v":174.72}]
["2012-08-02",null,852,{"$f":"IF(ISNA(VLOOKUP(C622,BDDG!$A$2:$F$100,2,FALSE)),\"\",VLOOKUP(C622,BDDG!$A$2:$F$100,2,FALSE))","v":0},{"$f":"IF(ISNA(VLOOKUP(C622,BDDG!$A$3:$J$102,3,FALSE)),\"\",VLOOKUP(C622,BDDG!$A$3:$J$102,3,FALSE))","v":"A"},{"$f":"IF(ISNA(VLOOKUP(C622,BDDG!$A$3:$J$102,4,FALSE)),\"\",VLOOKUP(C622,BDDG!$A$3:$J$102,4,FALSE))","v":106},{"$f":"IF(ISNA(VLOOKUP(C622,BDDG!$A$2:$F$100,5,FALSE)),\"\",VLOOKUP(C622,BDDG!$A$2:$F$100,5,FALSE))","v":"A9"},{"$f":"IF(ISNA(VLOOKUP(C622,BDDG!$A$2:$F$100,6,FALSE)),\"\",VLOOKUP(C622,BDDG!$A$2:$F$100,6,FALSE))","v":"AA22"},{"$f":"IF(ISERROR(VLOOKUP(C622,BDDG!$A$2:$G$100,7,FALSE)),\"\",VLOOKUP(C622,BDDG!$A$2:$G$100,7,FALSE))","v":1},{"$f":"IF(ISERROR(VLOOKUP(C622,BDDG!$A$2:$H$100,8,FALSE)),\"\",VLOOKUP(C622,BDDG!$A$2:$H$100,8,FALSE))","v":"BB22"},5,30,14.4,{"$f":"IF(ISERROR(VLOOKUP(C622,BDDG!$A$2:$I$100,9,FALSE)),\"\",VLOOKUP(C622,BDDG!$A$2:$I$100,9,FALSE))","v":"CC22"},null,null,"",{"$f":"IF(ISERROR(VLOOKUP(C622,BDDG!$A$2:$J$100,10,FALSE)),\"\",VLOOKUP(C622,BDDG!$A$2:$J$100,10,FALSE))","v":"DD22"},null,null,"",14.4,8,2012,{"$f":"IFERROR(INDEX($V$2:V622,MATCH(H622&MAX(IF($H$1:H621=H622,$A$1:A621)),$H$2:H622&$A$2:A622,0))-V622,\"\")","v":1.9018867924528333}]
["2012-09-07",null,835,{"$f":"IF(ISNA(VLOOKUP(C623,BDDG!$A$2:$F$100,2,FALSE)),\"\",VLOOKUP(C623,BDDG!$A$2:$F$100,2,FALSE))","v":0},{"$f":"IF(ISNA(VLOOKUP(C623,BDDG!$A$3:$J$102,3,FALSE)),\"\",VLOOKUP(C623,BDDG!$A$3:$J$102,3,FALSE))","v":"A"},{"$f":"IF(ISNA(VLOOKUP(C623,BDDG!$A$3:$J$102,4,FALSE)),\"\",VLOOKUP(C623,BDDG!$A$3:$J$102,4,FALSE))","v":106},{"$f":"IF(ISNA(VLOOKUP(C623,BDDG!$A$2:$F$100,5,FALSE)),\"\",VLOOKUP(C623,BDDG!$A$2:$F$100,5,FALSE))","v":"A3"},{"$f":"IF(ISNA(VLOOKUP(C623,BDDG!$A$2:$F$100,6,FALSE)),\"\",VLOOKUP(C623,BDDG!$A$2:$F$100,6,FALSE))","v":"AA5"},{"$f":"IF(ISERROR(VLOOKUP(C623,BDDG!$A$2:$G$100,7,FALSE)),\"\",VLOOKUP(C623,BDDG!$A$2:$G$100,7,FALSE))","v":1},{"$f":"IF(ISERROR(VLOOKUP(C623,BDDG!$A$2:$H$100,8,FALSE)),\"\",VLOOKUP(C623,BDDG!$A$2:$H$100,8,FALSE))","v":"BB5"},1,80,1.08,{"$f":"IF(ISERROR(VLOOKUP(C623,BDDG!$A$2:$I$100,9,FALSE)),\"\",VLOOKUP(C623,BDDG!$A$2:$I$100,9,FALSE))","v":"CC5"},null,null,"",{"$f":"IF(ISERROR(VLOOKUP(C623,BDDG!$A$2:$J$100,10,FALSE)),\"\",VLOOKUP(C623,BDDG!$A$2:$J$100,10,FALSE))","v":"DD5"},null,null,"",1.08,9,2012,{"$f":"IFERROR(INDEX($V$2:V623,MATCH(H623&MAX(IF($H$1:H622=H623,$A$1:A622)),$H$2:H623&$A$2:A623,0))-V623,\"\")","v":0.72}]
["2012-11-02",null,870,{"$f":"IF(ISNA(VLOOKUP(C624,BDDG!$A$2:$F$100,2,FALSE)),\"\",VLOOKUP(C624,BDDG!$A$2:$F$100,2,FALSE))","v":0},{"$f":"IF(ISNA(VLOOKUP(C624,BDDG!$A$3:$J$102,3,FALSE)),\"\",VLOOKUP(C624,BDDG!$A$3:$J$102,3,FALSE))","v":"A"},{"$f":"IF(ISNA(VLOOKUP(C624,BDDG!$A$3:$J$102,4,FALSE)),\"\",VLOOKUP(C624,BDDG!$A$3:$J$102,4,FALSE))","v":108},{"$f":"IF(ISNA(VLOOKUP(C624,BDDG!$A$2:$F$100,5,FALSE)),\"\",VLOOKUP(C624,BDDG!$A$2:$F$100,5,FALSE))","v":"A16"},{"$f":"IF(ISNA(VLOOKUP(C624,BDDG!$A$2:$F$100,6,FALSE)),\"\",VLOOKUP(C624,BDDG!$A$2:$F$100,6,FALSE))","v":"AA41"},{"$f":"IF(ISERROR(VLOOKUP(C624,BDDG!$A$2:$G$100,7,FALSE)),\"\",VLOOKUP(C624,BDDG!$A$2:$G$100,7,FALSE))","v":2},{"$f":"IF(ISERROR(VLOOKUP(C624,BDDG!$A$2:$H$100,8,FALSE)),\"\",VLOOKUP(C624,BDDG!$A$2:$H$100,8,FALSE))","v":"BB41"},2,14,12.342857142857143,{"$f":"IF(ISERROR(VLOOKUP(C624,BDDG!$A$2:$I$100,9,FALSE)),\"\",VLOOKUP(C624,BDDG!$A$2:$I$100,9,FALSE))","v":"CC41"},null,null,"",{"$f":"IF(ISERROR(VLOOKUP(C624,BDDG!$A$2:$J$100,10,FALSE)),\"\",VLOOKUP(C624,BDDG!$A$2:$J$100,10,FALSE))","v":"DD41"},null,null,"",12.342857142857143,11,2012,{"$f":"IFERROR(INDEX($V$2:V624,MATCH(H624&MAX(IF($H$1:H623=H624,$A$1:A623)),$H$2:H624&$A$2:A624,0))-V624,\"\")","v":4.9371428571428577}]
["2012-11-19",null,839,{"$f":"IF(ISNA(VLOOKUP(C625,BDDG!$A$2:$F$100,2,FALSE)),\"\",VLOOKUP(C625,BDDG!$A$2:$F$100,2,FALSE))","v":0},{"$f":"IF(ISNA(VLOOKUP(C625,BDDG!$A$3:$J$102,3,FALSE)),\"\",VLOOKUP(C625,BDDG!$A$3:$J$102,3,FALSE))","v":"A"},{"$f":"IF(ISNA(VLOOKUP(C625,BDDG!$A$3:$J$102,4,FALSE)),\"\",VLOOKUP(C625,BDDG!$A$3:$J$102,4,FALSE))","v":106},{"$f":"IF(ISNA(VLOOKUP(C625,BDDG!$A$2:$F$100,5,FALSE)),\"\",VLOOKUP(C625,BDDG!$A$2:$F$100,5,FALSE))","v":"A3"},{"$f":"IF(ISNA(VLOOKUP(C625,BDDG!$A$2:$F$100,6,FALSE)),\"\",VLOOKUP(C625,BDDG!$A$2:$F$100,6,FALSE))","v":"AA10"},{"$f":"IF(ISERROR(VLOOKUP(C625,BDDG!$A$2:$G$100,7,FALSE)),\"\",VLOOKUP(C625,BDDG!$A$2:$G$100,7,FALSE))","v":2},{"$f":"IF(ISERROR(VLOOKUP(C625,BDDG!$A$2:$H$100,8,FALSE)),\"\",VLOOKUP(C625,BDDG!$A$2:$H$100,8,FALSE))","v":"BB10"},5,19,22.736842105263158,{"$f":"IF(ISERROR(VLOOKUP(C625,BDDG!$A$2:$I$100,9,FALSE)),\"\",VLOOKUP(C625,BDDG!$A$2:$I$100,9,FALSE))","v":"CC10"},null,null,"",{"$f":"IF(ISERROR(VLOOKUP(C625,BDDG!$A$2:$J$100,10,FALSE)),\"\",VLOOKUP(C625,BDDG!$A$2:$J$100,10,FALSE))","v":"DD10"},null,null,"",22.736842105263158,11,2012,{"$f":"IFERROR(INDEX($V$2:V625,MATCH(H625&MAX(IF($H$1:H624=H625,$A$1:A624)),$H$2:H625&$A$2:A625,0))-V625,\"\")","v":265.26315789473688}]
["2012-11-19",null,838,{"$f":"IF(ISNA(VLOOKUP(C626,BDDG!$A$2:$F$100,2,FALSE)),\"\",VLOOKUP(C626,BDDG!$A$2:$F$100,2,FALSE))","v":0},{"$f":"IF(ISNA(VLOOKUP(C626,BDDG!$A$3:$J$102,3,FALSE)),\"\",VLOOKUP(C626,BDDG!$A$3:$J$102,3,FALSE))","v":"A"},{"$f":"IF(ISNA(VLOOKUP(C626,BDDG!$A$3:$J$102,4,FALSE)),\"\",VLOOKUP(C626,BDDG!$A$3:$J$102,4,FALSE))","v":106},{"$f":"IF(ISNA(VLOOKUP(C626,BDDG!$A$2:$F$100,5,FALSE)),\"\",VLOOKUP(C626,BDDG!$A$2:$F$100,5,FALSE))","v":"A3"},{"$f":"IF(ISNA(VLOOKUP(C626,BDDG!$A$2:$F$100,6,FALSE)),\"\",VLOOKUP(C626,BDDG!$A$2:$F$100,6,FALSE))","v":"AA8"},{"$f":"IF(ISERROR(VLOOKUP(C626,BDDG!$A$2:$G$100,7,FALSE)),\"\",VLOOKUP(C626,BDDG!$A$2:$G$100,7,FALSE))","v":1},{"$f":"IF(ISERROR(VLOOKUP(C626,BDDG!$A$2:$H$100,8,FALSE)),\"\",VLOOKUP(C626,BDDG!$A$2:$H$100,8,FALSE))","v":"BB8"},5,42,10.285714285714286,{"$f":"IF(ISERROR(VLOOKUP(C626,BDDG!$A$2:$I$100,9,FALSE)),\"\",VLOOKUP(C626,BDDG!$A$2:$I$100,9,FALSE))","v":"CC8"},null,null,"",{"$f":"IF(ISERROR(VLOOKUP(C626,BDDG!$A$2:$J$100,10,FALSE)),\"\",VLOOKUP(C626,BDDG!$A$2:$J$100,10,FALSE))","v":"DD8"},null,null,"",10.285714285714286,11,2012,{"$f":"IFERROR(INDEX($V$2:V626,MATCH(H626&MAX(IF($H$1:H625=H626,$A$1:A625)),$H$2:H626&$A$2:A626,0))-V626,\"\")","v":54.514285714285727}]
["2012-11-19",null,837,{"$f":"IF(ISNA(VLOOKUP(C627,BDDG!$A$2:$F$100,2,FALSE)),\"\",VLOOKUP(C627,BDDG!$A$2:$F$100,2,FALSE))","v":0},{"$f":"IF(ISNA(VLOOKUP(C627,BDDG!$A$3:$J$102,3,FALSE)),\"\",VLOOKUP(C627,BDDG!$A$3:$J$102,3,FALSE))","v":"A"},{"$f":"IF(ISNA(VLOOKUP(C627,BDDG!$A$3:$J$102,4,FALSE)),\"\",VLOOKUP(C627,BDDG!$A$3:$J$102,4,FALSE))","v":106},{"$f":"IF(ISNA(VLOOKUP(C627,BDDG!$A$2:$F$100,5,FALSE)),\"\",VLOOKUP(C627,BDDG!$A$2:$F$100,5,FALSE))","v":"A3"},{"$f":"IF(ISNA(VLOOKUP(C627,BDDG!$A$2:$F$100,6,FALSE)),\"\",VLOOKUP(C627,BDDG!$A$2:$F$100,6,FALSE))","v":"AA7"},{"$f":"IF(ISERROR(VLOOKUP(C627,BDDG!$A$2:$G$100,7,FALSE)),\"\",VLOOKUP(C627,BDDG!$A$2:$G$100,7,FALSE))","v":1},{"$f":"IF(ISERROR(VLOOKUP(C627,BDDG!$A$2:$H$100,8,FALSE)),\"\",VLOOKUP(C627,BDDG!$A$2:$H$100,8,FALSE))","v":"BB7"},5,42,10.285714285714286,{"$f":"IF(ISERROR(VLOOKUP(C627,BDDG!$A$2:$I$100,9,FALSE)),\"\",VLOOKUP(C627,BDDG!$A$2:$I$100,9,FALSE))","v":"CC7"},null,null,"",{"$f":"IF(ISERROR(VLOOKUP(C627,BDDG!$A$2:$J$100,10,FALSE)),\"\",VLOOKUP(C627,BDDG!$A$2:$J$100,10,FALSE))","v":"DD7"},null,null,"",10.285714285714286,11,2012,{"$f":"IFERROR(INDEX($V$2:V627,MATCH(H627&MAX(IF($H$1:H626=H627,$A$1:A626)),$H$2:H627&$A$2:A627,0))-V627,\"\")","v":-3.805714285714286}]
["2012-11-19",null,836,{"$f":"IF(ISNA(VLOOKUP(C628,BDDG!$A$2:$F$100,2,FALSE)),\"\",VLOOKUP(C628,BDDG!$A$2:$F$100,2,FALSE))","v":0},{"$f":"IF(ISNA(VLOOKUP(C628,BDDG!$A$3:$J$102,3,FALSE)),\"\",VLOOKUP(C628,BDDG!$A$3:$J$102,3,FALSE))","v":"A"},{"$f":"IF(ISNA(VLOOKUP(C628,BDDG!$A$3:$J$102,4,FALSE)),\"\",VLOOKUP(C628,BDDG!$A$3:$J$102,4,FALSE))","v":106},{"$f":"IF(ISNA(VLOOKUP(C628,BDDG!$A$2:$F$100,5,FALSE)),\"\",VLOOKUP(C628,BDDG!$A$2:$F$100,5,FALSE))","v":"A3"},{"$f":"IF(ISNA(VLOOKUP(C628,BDDG!$A$2:$F$100,6,FALSE)),\"\",VLOOKUP(C628,BDDG!$A$2:$F$100,6,FALSE))","v":"AA6"},{"$f":"IF(ISERROR(VLOOKUP(C628,BDDG!$A$2:$G$100,7,FALSE)),\"\",VLOOKUP(C628,BDDG!$A$2:$G$100,7,FALSE))","v":1},{"$f":"IF(ISERROR(VLOOKUP(C628,BDDG!$A$2:$H$100,8,FALSE)),\"\",VLOOKUP(C628,BDDG!$A$2:$H$100,8,FALSE))","v":"BB6"},5,27.6,15.652173913043478,{"$f":"IF(ISERROR(VLOOKUP(C628,BDDG!$A$2:$I$100,9,FALSE)),\"\",VLOOKUP(C628,BDDG!$A$2:$I$100,9,FALSE))","v":"CC6"},null,null,"",{"$f":"IF(ISERROR(VLOOKUP(C628,BDDG!$A$2:$J$100,10,FALSE)),\"\",VLOOKUP(C628,BDDG!$A$2:$J$100,10,FALSE))","v":"DD6"},null,null,"",15.652173913043478,11,2012,{"$f":"IFERROR(INDEX($V$2:V628,MATCH(H628&MAX(IF($H$1:H627=H628,$A$1:A627)),$H$2:H628&$A$2:A628,0))-V628,\"\")","v":25.627826086956524}]
["2012-11-19",null,856,{"$f":"IF(ISNA(VLOOKUP(C629,BDDG!$A$2:$F$100,2,FALSE)),\"\",VLOOKUP(C629,BDDG!$A$2:$F$100,2,FALSE))","v":0},{"$f":"IF(ISNA(VLOOKUP(C629,BDDG!$A$3:$J$102,3,FALSE)),\"\",VLOOKUP(C629,BDDG!$A$3:$J$102,3,FALSE))","v":"A"},{"$f":"IF(ISNA(VLOOKUP(C629,BDDG!$A$3:$J$102,4,FALSE)),\"\",VLOOKUP(C629,BDDG!$A$3:$J$102,4,FALSE))","v":106},{"$f":"IF(ISNA(VLOOKUP(C629,BDDG!$A$2:$F$100,5,FALSE)),\"\",VLOOKUP(C629,BDDG!$A$2:$F$100,5,FALSE))","v":"A9"},{"$f":"IF(ISNA(VLOOKUP(C629,BDDG!$A$2:$F$100,6,FALSE)),\"\",VLOOKUP(C629,BDDG!$A$2:$F$100,6,FALSE))","v":"AA27"},{"$f":"IF(ISERROR(VLOOKUP(C629,BDDG!$A$2:$G$100,7,FALSE)),\"\",VLOOKUP(C629,BDDG!$A$2:$G$100,7,FALSE))","v":2},{"$f":"IF(ISERROR(VLOOKUP(C629,BDDG!$A$2:$H$100,8,FALSE)),\"\",VLOOKUP(C629,BDDG!$A$2:$H$100,8,FALSE))","v":"BB27"},5,17.5,24.685714285714287,{"$f":"IF(ISERROR(VLOOKUP(C629,BDDG!$A$2:$I$100,9,FALSE)),\"\",VLOOKUP(C629,BDDG!$A$2:$I$100,9,FALSE))","v":"CC27"},5,5,86.4,{"$f":"IF(ISERROR(VLOOKUP(C629,BDDG!$A$2:$J$100,10,FALSE)),\"\",VLOOKUP(C629,BDDG!$A$2:$J$100,10,FALSE))","v":"DD27"},null,null,"",111.08571428571429,11,2012,{"$f":"IFERROR(INDEX($V$2:V629,MATCH(H629&MAX(IF($H$1:H628=H629,$A$1:A628)),$H$2:H629&$A$2:A629,0))-V629,\"\")","v":794.05714285714282}]
["2012-11-19",null,852,{"$f":"IF(ISNA(VLOOKUP(C630,BDDG!$A$2:$F$100,2,FALSE)),\"\",VLOOKUP(C630,BDDG!$A$2:$F$100,2,FALSE))","v":0},{"$f":"IF(ISNA(VLOOKUP(C630,BDDG!$A$3:$J$102,3,FALSE)),\"\",VLOOKUP(C630,BDDG!$A$3:$J$102,3,FALSE))","v":"A"},{"$f":"IF(ISNA(VLOOKUP(C630,BDDG!$A$3:$J$102,4,FALSE)),\"\",VLOOKUP(C630,BDDG!$A$3:$J$102,4,FALSE))","v":106},{"$f":"IF(ISNA(VLOOKUP(C630,BDDG!$A$2:$F$100,5,FALSE)),\"\",VLOOKUP(C630,BDDG!$A$2:$F$100,5,FALSE))","v":"A9"},{"$f":"IF(ISNA(VLOOKUP(C630,BDDG!$A$2:$F$100,6,FALSE)),\"\",VLOOKUP(C630,BDDG!$A$2:$F$100,6,FALSE))","v":"AA22"},{"$f":"IF(ISERROR(VLOOKUP(C630,BDDG!$A$2:$G$100,7,FALSE)),\"\",VLOOKUP(C630,BDDG!$A$2:$G$100,7,FALSE))","v":1},{"$f":"IF(ISERROR(VLOOKUP(C630,BDDG!$A$2:$H$100,8,FALSE)),\"\",VLOOKUP(C630,BDDG!$A$2:$H$100,8,FALSE))","v":"BB22"},3,27.5,9.4254545454545458,{"$f":"IF(ISERROR(VLOOKUP(C630,BDDG!$A$2:$I$100,9,FALSE)),\"\",VLOOKUP(C630,BDDG!$A$2:$I$100,9,FALSE))","v":"CC22"},null,null,"",{"$f":"IF(ISERROR(VLOOKUP(C630,BDDG!$A$2:$J$100,10,FALSE)),\"\",VLOOKUP(C630,BDDG!$A$2:$J$100,10,FALSE))","v":"DD22"},null,null,"",9.4254545454545458,11,2012,{"$f":"IFERROR(INDEX($V$2:V630,MATCH(H630&MAX(IF($H$1:H629=H630,$A$1:A629)),$H$2:H630&$A$2:A630,0))-V630,\"\")","v":4.9745454545454546}]
["2012-11-23",null,832,{"$f":"IF(ISNA(VLOOKUP(C631,BDDG!$A$2:$F$100,2,FALSE)),\"\",VLOOKUP(C631,BDDG!$A$2:$F$100,2,FALSE))","v":0},{"$f":"IF(ISNA(VLOOKUP(C631,BDDG!$A$3:$J$102,3,FALSE)),\"\",VLOOKUP(C631,BDDG!$A$3:$J$102,3,FALSE))","v":"A"},{"$f":"IF(ISNA(VLOOKUP(C631,BDDG!$A$3:$J$102,4,FALSE)),\"\",VLOOKUP(C631,BDDG!$A$3:$J$102,4,FALSE))","v":106},{"$f":"IF(ISNA(VLOOKUP(C631,BDDG!$A$2:$F$100,5,FALSE)),\"\",VLOOKUP(C631,BDDG!$A$2:$F$100,5,FALSE))","v":"A2"},{"$f":"IF(ISNA(VLOOKUP(C631,BDDG!$A$2:$F$100,6,FALSE)),\"\",VLOOKUP(C631,BDDG!$A$2:$F$100,6,FALSE))","v":"AA2"},{"$f":"IF(ISERROR(VLOOKUP(C631,BDDG!$A$2:$G$100,7,FALSE)),\"\",VLOOKUP(C631,BDDG!$A$2:$G$100,7,FALSE))","v":1},{"$f":"IF(ISERROR(VLOOKUP(C631,BDDG!$A$2:$H$100,8,FALSE)),\"\",VLOOKUP(C631,BDDG!$A$2:$H$100,8,FALSE))","v":"BB2"},5,13,33.230769230769234,{"$f":"IF(ISERROR(VLOOKUP(C631,BDDG!$A$2:$I$100,9,FALSE)),\"\",VLOOKUP(C631,BDDG!$A$2:$I$100,9,FALSE))","v":"CC2"},null,null,"",{"$f":"IF(ISERROR(VLOOKUP(C631,BDDG!$A$2:$J$100,10,FALSE)),\"\",VLOOKUP(C631,BDDG!$A$2:$J$100,10,FALSE))","v":"DD2"},null,null,"",33.230769230769234,11,2012,{"$f":"IFERROR(INDEX($V$2:V631,MATCH(H631&MAX(IF($H$1:H630=H631,$A$1:A630)),$H$2:H631&$A$2:A631,0))-V631,\"\")","v":53.169230769230772}]
["2012-11-23",null,833,{"$f":"IF(ISNA(VLOOKUP(C632,BDDG!$A$2:$F$100,2,FALSE)),\"\",VLOOKUP(C632,BDDG!$A$2:$F$100,2,FALSE))","v":0},{"$f":"IF(ISNA(VLOOKUP(C632,BDDG!$A$3:$J$102,3,FALSE)),\"\",VLOOKUP(C632,BDDG!$A$3:$J$102,3,FALSE))","v":"A"},{"$f":"IF(ISNA(VLOOKUP(C632,BDDG!$A$3:$J$102,4,FALSE)),\"\",VLOOKUP(C632,BDDG!$A$3:$J$102,4,FALSE))","v":106},{"$f":"IF(ISNA(VLOOKUP(C632,BDDG!$A$2:$F$100,5,FALSE)),\"\",VLOOKUP(C632,BDDG!$A$2:$F$100,5,FALSE))","v":"A2"},{"$f":"IF(ISNA(VLOOKUP(C632,BDDG!$A$2:$F$100,6,FALSE)),\"\",VLOOKUP(C632,BDDG!$A$2:$F$100,6,FALSE))","v":"AA3"},{"$f":"IF(ISERROR(VLOOKUP(C632,BDDG!$A$2:$G$100,7,FALSE)),\"\",VLOOKUP(C632,BDDG!$A$2:$G$100,7,FALSE))","v":1},{"$f":"IF(ISERROR(VLOOKUP(C632,BDDG!$A$2:$H$100,8,FALSE)),\"\",VLOOKUP(C632,BDDG!$A$2:$H$100,8,FALSE))","v":"BB3"},5,35,12.342857142857143,{"$f":"IF(ISERROR(VLOOKUP(C632,BDDG!$A$2:$I$100,9,FALSE)),\"\",VLOOKUP(C632,BDDG!$A$2:$I$100,9,FALSE))","v":"CC3"},null,null,"",{"$f":"IF(ISERROR(VLOOKUP(C632,BDDG!$A$2:$J$100,10,FALSE)),\"\",VLOOKUP(C632,BDDG!$A$2:$J$100,10,FALSE))","v":"DD3"},null,null,"",12.342857142857143,11,2012,{"$f":"IFERROR(INDEX($V$2:V632,MATCH(H632&MAX(IF($H$1:H631=H632,$A$1:A631)),$H$2:H632&$A$2:A632,0))-V632,\"\")","v":106.01330724070451}]
["2012-11-23",null,842,{"$f":"IF(ISNA(VLOOKUP(C633,BDDG!$A$2:$F$100,2,FALSE)),\"\",VLOOKUP(C633,BDDG!$A$2:$F$100,2,FALSE))","v":0},{"$f":"IF(ISNA(VLOOKUP(C633,BDDG!$A$3:$J$102,3,FALSE)),\"\",VLOOKUP(C633,BDDG!$A$3:$J$102,3,FALSE))","v":"B"},{"$f":"IF(ISNA(VLOOKUP(C633,BDDG!$A$3:$J$102,4,FALSE)),\"\",VLOOKUP(C633,BDDG!$A$3:$J$102,4,FALSE))","v":106},{"$f":"IF(ISNA(VLOOKUP(C633,BDDG!$A$2:$F$100,5,FALSE)),\"\",VLOOKUP(C633,BDDG!$A$2:$F$100,5,FALSE))","v":"A5"},{"$f":"IF(ISNA(VLOOKUP(C633,BDDG!$A$2:$F$100,6,FALSE)),\"\",VLOOKUP(C633,BDDG!$A$2:$F$100,6,FALSE))","v":"AA13"},{"$f":"IF(ISERROR(VLOOKUP(C633,BDDG!$A$2:$G$100,7,FALSE)),\"\",VLOOKUP(C633,BDDG!$A$2:$G$100,7,FALSE))","v":1},{"$f":"IF(ISERROR(VLOOKUP(C633,BDDG!$A$2:$H$100,8,FALSE)),\"\",VLOOKUP(C633,BDDG!$A$2:$H$100,8,FALSE))","v":"BB13"},5,30,14.4,{"$f":"IF(ISERROR(VLOOKUP(C633,BDDG!$A$2:$I$100,9,FALSE)),\"\",VLOOKUP(C633,BDDG!$A$2:$I$100,9,FALSE))","v":"CC13"},null,null,"",{"$f":"IF(ISERROR(VLOOKUP(C633,BDDG!$A$2:$J$100,10,FALSE)),\"\",VLOOKUP(C633,BDDG!$A$2:$J$100,10,FALSE))","v":"DD13"},null,null,"",14.4,11,2012,{"$f":"IFERROR(INDEX($V$2:V633,MATCH(H633&MAX(IF($H$1:H632=H633,$A$1:A632)),$H$2:H633&$A$2:A633,0))-V633,\"\")","v":10.285714285714286}]
["2012-11-23",null,848,{"$f":"IF(ISNA(VLOOKUP(C634,BDDG!$A$2:$F$100,2,FALSE)),\"\",VLOOKUP(C634,BDDG!$A$2:$F$100,2,FALSE))","v":0},{"$f":"IF(ISNA(VLOOKUP(C634,BDDG!$A$3:$J$102,3,FALSE)),\"\",VLOOKUP(C634,BDDG!$A$3:$J$102,3,FALSE))","v":"B"},{"$f":"IF(ISNA(VLOOKUP(C634,BDDG!$A$3:$J$102,4,FALSE)),\"\",VLOOKUP(C634,BDDG!$A$3:$J$102,4,FALSE))","v":106},{"$f":"IF(ISNA(VLOOKUP(C634,BDDG!$A$2:$F$100,5,FALSE)),\"\",VLOOKUP(C634,BDDG!$A$2:$F$100,5,FALSE))","v":"A7"},{"$f":"IF(ISNA(VLOOKUP(C634,BDDG!$A$2:$F$100,6,FALSE)),\"\",VLOOKUP(C634,BDDG!$A$2:$F$100,6,FALSE))","v":"AA19"},{"$f":"IF(ISERROR(VLOOKUP(C634,BDDG!$A$2:$G$100,7,FALSE)),\"\",VLOOKUP(C634,BDDG!$A$2:$G$100,7,FALSE))","v":2},{"$f":"IF(ISERROR(VLOOKUP(C634,BDDG!$A$2:$H$100,8,FALSE)),\"\",VLOOKUP(C634,BDDG!$A$2:$H$100,8,FALSE))","v":"BB19"},4,29,11.917241379310346,{"$f":"IF(ISERROR(VLOOKUP(C634,BDDG!$A$2:$I$100,9,FALSE)),\"\",VLOOKUP(C634,BDDG!$A$2:$I$100,9,FALSE))","v":"CC19"},null,null,"",{"$f":"IF(ISERROR(VLOOKUP(C634,BDDG!$A$2:$J$100,10,FALSE)),\"\",VLOOKUP(C634,BDDG!$A$2:$J$100,10,FALSE))","v":"DD19"},null,null,"",11.917241379310346,11,2012,{"$f":"IFERROR(INDEX($V$2:V634,MATCH(H634&MAX(IF($H$1:H633=H634,$A$1:A633)),$H$2:H634&$A$2:A634,0))-V634,\"\")","v":12.768472906403941}]
["2012-11-23",null,860,{"$f":"IF(ISNA(VLOOKUP(C635,BDDG!$A$2:$F$100,2,FALSE)),\"\",VLOOKUP(C635,BDDG!$A$2:$F$100,2,FALSE))","v":0},{"$f":"IF(ISNA(VLOOKUP(C635,BDDG!$A$3:$J$102,3,FALSE)),\"\",VLOOKUP(C635,BDDG!$A$3:$J$102,3,FALSE))","v":"A"},{"$f":"IF(ISNA(VLOOKUP(C635,BDDG!$A$3:$J$102,4,FALSE)),\"\",VLOOKUP(C635,BDDG!$A$3:$J$102,4,FALSE))","v":106},{"$f":"IF(ISNA(VLOOKUP(C635,BDDG!$A$2:$F$100,5,FALSE)),\"\",VLOOKUP(C635,BDDG!$A$2:$F$100,5,FALSE))","v":"A11"},{"$f":"IF(ISNA(VLOOKUP(C635,BDDG!$A$2:$F$100,6,FALSE)),\"\",VLOOKUP(C635,BDDG!$A$2:$F$100,6,FALSE))","v":"AA32"},{"$f":"IF(ISERROR(VLOOKUP(C635,BDDG!$A$2:$G$100,7,FALSE)),\"\",VLOOKUP(C635,BDDG!$A$2:$G$100,7,FALSE))","v":2},{"$f":"IF(ISERROR(VLOOKUP(C635,BDDG!$A$2:$H$100,8,FALSE)),\"\",VLOOKUP(C635,BDDG!$A$2:$H$100,8,FALSE))","v":"BB32"},5,12.5,34.56,{"$f":"IF(ISERROR(VLOOKUP(C635,BDDG!$A$2:$I$100,9,FALSE)),\"\",VLOOKUP(C635,BDDG!$A$2:$I$100,9,FALSE))","v":"CC32"},null,null,"",{"$f":"IF(ISERROR(VLOOKUP(C635,BDDG!$A$2:$J$100,10,FALSE)),\"\",VLOOKUP(C635,BDDG!$A$2:$J$100,10,FALSE))","v":"DD32"},null,null,"",34.56,11,2012,{"$f":"IFERROR(INDEX($V$2:V635,MATCH(H635&MAX(IF($H$1:H634=H635,$A$1:A634)),$H$2:H635&$A$2:A635,0))-V635,\"\")","v":51.84}]
["2012-11-23",null,847,{"$f":"IF(ISNA(VLOOKUP(C636,BDDG!$A$2:$F$100,2,FALSE)),\"\",VLOOKUP(C636,BDDG!$A$2:$F$100,2,FALSE))","v":0},{"$f":"IF(ISNA(VLOOKUP(C636,BDDG!$A$3:$J$102,3,FALSE)),\"\",VLOOKUP(C636,BDDG!$A$3:$J$102,3,FALSE))","v":"B"},{"$f":"IF(ISNA(VLOOKUP(C636,BDDG!$A$3:$J$102,4,FALSE)),\"\",VLOOKUP(C636,BDDG!$A$3:$J$102,4,FALSE))","v":106},{"$f":"IF(ISNA(VLOOKUP(C636,BDDG!$A$2:$F$100,5,FALSE)),\"\",VLOOKUP(C636,BDDG!$A$2:$F$100,5,FALSE))","v":"A7"},{"$f":"IF(ISNA(VLOOKUP(C636,BDDG!$A$2:$F$100,6,FALSE)),\"\",VLOOKUP(C636,BDDG!$A$2:$F$100,6,FALSE))","v":"AA18"},{"$f":"IF(ISERROR(VLOOKUP(C636,BDDG!$A$2:$G$100,7,FALSE)),\"\",VLOOKUP(C636,BDDG!$A$2:$G$100,7,FALSE))","v":2},{"$f":"IF(ISERROR(VLOOKUP(C636,BDDG!$A$2:$H$100,8,FALSE)),\"\",VLOOKUP(C636,BDDG!$A$2:$H$100,8,FALSE))","v":"BB18"},4,29,11.917241379310346,{"$f":"IF(ISERROR(VLOOKUP(C636,BDDG!$A$2:$I$100,9,FALSE)),\"\",VLOOKUP(C636,BDDG!$A$2:$I$100,9,FALSE))","v":"CC18"},4,21,16.457142857142859,{"$f":"IF(ISERROR(VLOOKUP(C636,BDDG!$A$2:$J$100,10,FALSE)),\"\",VLOOKUP(C636,BDDG!$A$2:$J$100,10,FALSE))","v":"DD18"},null,null,"",28.374384236453203,11,2012,{"$f":"IFERROR(INDEX($V$2:V636,MATCH(H636&MAX(IF($H$1:H635=H636,$A$1:A635)),$H$2:H636&$A$2:A636,0))-V636,\"\")","v":30.871330049261083}]
["2012-11-23",null,861,{"$f":"IF(ISNA(VLOOKUP(C637,BDDG!$A$2:$F$100,2,FALSE)),\"\",VLOOKUP(C637,BDDG!$A$2:$F$100,2,FALSE))","v":0},{"$f":"IF(ISNA(VLOOKUP(C637,BDDG!$A$3:$J$102,3,FALSE)),\"\",VLOOKUP(C637,BDDG!$A$3:$J$102,3,FALSE))","v":"A"},{"$f":"IF(ISNA(VLOOKUP(C637,BDDG!$A$3:$J$102,4,FALSE)),\"\",VLOOKUP(C637,BDDG!$A$3:$J$102,4,FALSE))","v":106},{"$f":"IF(ISNA(VLOOKUP(C637,BDDG!$A$2:$F$100,5,FALSE)),\"\",VLOOKUP(C637,BDDG!$A$2:$F$100,5,FALSE))","v":"A11"},{"$f":"IF(ISNA(VLOOKUP(C637,BDDG!$A$2:$F$100,6,FALSE)),\"\",VLOOKUP(C637,BDDG!$A$2:$F$100,6,FALSE))","v":"AA33"},{"$f":"IF(ISERROR(VLOOKUP(C637,BDDG!$A$2:$G$100,7,FALSE)),\"\",VLOOKUP(C637,BDDG!$A$2:$G$100,7,FALSE))","v":2},{"$f":"IF(ISERROR(VLOOKUP(C637,BDDG!$A$2:$H$100,8,FALSE)),\"\",VLOOKUP(C637,BDDG!$A$2:$H$100,8,FALSE))","v":"BB33"},null,null,null,{"$f":"IF(ISERROR(VLOOKUP(C637,BDDG!$A$2:$I$100,9,FALSE)),\"\",VLOOKUP(C637,BDDG!$A$2:$I$100,9,FALSE))","v":"CC33"},5,2.5,172.8,{"$f":"IF(ISERROR(VLOOKUP(C637,BDDG!$A$2:$J$100,10,FALSE)),\"\",VLOOKUP(C637,BDDG!$A$2:$J$100,10,FALSE))","v":"DD33"},null,null,"",{"$f":"IF(ISERROR(SUM(M637,Q637,U637)),\"\",SUM((M637,Q637,U637)))","v":172.8},11,2012,{"$f":"IFERROR(INDEX($V$2:V637,MATCH(H637&MAX(IF($H$1:H636=H637,$A$1:A636)),$H$2:H637&$A$2:A637,0))-V637,\"\")","v":43.199999999999989}]
["2012-11-23",null,844,{"$f":"IF(ISNA(VLOOKUP(C638,BDDG!$A$2:$F$100,2,FALSE)),\"\",VLOOKUP(C638,BDDG!$A$2:$F$100,2,FALSE))","v":0},{"$f":"IF(ISNA(VLOOKUP(C638,BDDG!$A$3:$J$102,3,FALSE)),\"\",VLOOKUP(C638,BDDG!$A$3:$J$102,3,FALSE))","v":"B"},{"$f":"IF(ISNA(VLOOKUP(C638,BDDG!$A$3:$J$102,4,FALSE)),\"\",VLOOKUP(C638,BDDG!$A$3:$J$102,4,FALSE))","v":106},{"$f":"IF(ISNA(VLOOKUP(C638,BDDG!$A$2:$F$100,5,FALSE)),\"\",VLOOKUP(C638,BDDG!$A$2:$F$100,5,FALSE))","v":"A6"},{"$f":"IF(ISNA(VLOOKUP(C638,BDDG!$A$2:$F$100,6,FALSE)),\"\",VLOOKUP(C638,BDDG!$A$2:$F$100,6,FALSE))","v":"AA14"},{"$f":"IF(ISERROR(VLOOKUP(C638,BDDG!$A$2:$G$100,7,FALSE)),\"\",VLOOKUP(C638,BDDG!$A$2:$G$100,7,FALSE))","v":2},{"$f":"IF(ISERROR(VLOOKUP(C638,BDDG!$A$2:$H$100,8,FALSE)),\"\",VLOOKUP(C638,BDDG!$A$2:$H$100,8,FALSE))","v":"BB14"},5,10,{"$f":" IF(ISERROR(K638/L638*86.4),\"\",K638/L638*86.4)","v":43.2},{"$f":"IF(ISERROR(VLOOKUP(C638,BDDG!$A$2:$I$100,9,FALSE)),\"\",VLOOKUP(C638,BDDG!$A$2:$I$100,9,FALSE))","v":"CC14"},null,null,"",{"$f":"IF(ISERROR(VLOOKUP(C638,BDDG!$A$2:$J$100,10,FALSE)),\"\",VLOOKUP(C638,BDDG!$A$2:$J$100,10,FALSE))","v":"DD14"},null,null,"",{"$f":"IF(ISERROR(SUM(M638,Q638,U638)),\"\",SUM(M638,Q638,U638))","v":43.2},11,2012,{"$f":"IFERROR(INDEX($V$2:V638,MATCH(H638&MAX(IF($H$1:H637=H638,$A$1:A637)),$H$2:H638&$A$2:A638,0))-V638,\"\")","v":14.399999999999999}]
["2012-12-21",null,867,{"$f":"IF(ISNA(VLOOKUP(C639,BDDG!$A$2:$F$100,2,FALSE)),\"\",VLOOKUP(C639,BDDG!$A$2:$F$100,2,FALSE))","v":0},{"$f":"IF(ISNA(VLOOKUP(C639,BDDG!$A$3:$J$102,3,FALSE)),\"\",VLOOKUP(C639,BDDG!$A$3:$J$102,3,FALSE))","v":"C"},{"$f":"IF(ISNA(VLOOKUP(C639,BDDG!$A$3:$J$102,4,FALSE)),\"\",VLOOKUP(C639,BDDG!$A$3:$J$102,4,FALSE))","v":108},{"$f":"IF(ISNA(VLOOKUP(C639,BDDG!$A$2:$F$100,5,FALSE)),\"\",VLOOKUP(C639,BDDG!$A$2:$F$100,5,FALSE))","v":"A17"},{"$f":"IF(ISNA(VLOOKUP(C639,BDDG!$A$2:$F$100,6,FALSE)),\"\",VLOOKUP(C639,BDDG!$A$2:$F$100,6,FALSE))","v":"AA43"},{"$f":"IF(ISERROR(VLOOKUP(C639,BDDG!$A$2:$G$100,7,FALSE)),\"\",VLOOKUP(C639,BDDG!$A$2:$G$100,7,FALSE))","v":1},{"$f":"IF(ISERROR(VLOOKUP(C639,BDDG!$A$2:$H$100,8,FALSE)),\"\",VLOOKUP(C639,BDDG!$A$2:$H$100,8,FALSE))","v":"BB43"},10,24,36.000000000000007,{"$f":"IF(ISERROR(VLOOKUP(C639,BDDG!$A$2:$I$100,9,FALSE)),\"\",VLOOKUP(C639,BDDG!$A$2:$I$100,9,FALSE))","v":"CC43"},null,null,null,{"$f":"IF(ISERROR(VLOOKUP(C639,BDDG!$A$2:$J$100,10,FALSE)),\"\",VLOOKUP(C639,BDDG!$A$2:$J$100,10,FALSE))","v":"DD43"},null,null,"",36.000000000000007,12,2012,{"$f":"IFERROR(INDEX($V$2:V639,MATCH(H639&MAX(IF($H$1:H638=H639,$A$1:A638)),$H$2:H639&$A$2:A639,0))-V639,\"\")","v":-1.4400000000000048}]
["2012-12-21",null,866,{"$f":"IF(ISNA(VLOOKUP(C640,BDDG!$A$2:$F$100,2,FALSE)),\"\",VLOOKUP(C640,BDDG!$A$2:$F$100,2,FALSE))","v":0},{"$f":"IF(ISNA(VLOOKUP(C640,BDDG!$A$3:$J$102,3,FALSE)),\"\",VLOOKUP(C640,BDDG!$A$3:$J$102,3,FALSE))","v":"C"},{"$f":"IF(ISNA(VLOOKUP(C640,BDDG!$A$3:$J$102,4,FALSE)),\"\",VLOOKUP(C640,BDDG!$A$3:$J$102,4,FALSE))","v":108},{"$f":"IF(ISNA(VLOOKUP(C640,BDDG!$A$2:$F$100,5,FALSE)),\"\",VLOOKUP(C640,BDDG!$A$2:$F$100,5,FALSE))","v":"A17"},{"$f":"IF(ISNA(VLOOKUP(C640,BDDG!$A$2:$F$100,6,FALSE)),\"\",VLOOKUP(C640,BDDG!$A$2:$F$100,6,FALSE))","v":"AA42"},{"$f":"IF(ISERROR(VLOOKUP(C640,BDDG!$A$2:$G$100,7,FALSE)),\"\",VLOOKUP(C640,BDDG!$A$2:$G$100,7,FALSE))","v":1},{"$f":"IF(ISERROR(VLOOKUP(C640,BDDG!$A$2:$H$100,8,FALSE)),\"\",VLOOKUP(C640,BDDG!$A$2:$H$100,8,FALSE))","v":"BB42"},0.7,1,60.48,{"$f":"IF(ISERROR(VLOOKUP(C640,BDDG!$A$2:$I$100,9,FALSE)),\"\",VLOOKUP(C640,BDDG!$A$2:$I$100,9,FALSE))","v":"CC42"},null,null,null,{"$f":"IF(ISERROR(VLOOKUP(C640,BDDG!$A$2:$J$100,10,FALSE)),\"\",VLOOKUP(C640,BDDG!$A$2:$J$100,10,FALSE))","v":"DD42"},null,null,"",60.48,12,2012,{"$f":"IFERROR(INDEX($V$2:V640,MATCH(H640&MAX(IF($H$1:H639=H640,$A$1:A639)),$H$2:H640&$A$2:A640,0))-V640,\"\")","v":0}]
["2012-12-26",null,835,{"$f":"IF(ISNA(VLOOKUP(C641,BDDG!$A$2:$F$100,2,FALSE)),\"\",VLOOKUP(C641,BDDG!$A$2:$F$100,2,FALSE))","v":0},{"$f":"IF(ISNA(VLOOKUP(C641,BDDG!$A$3:$J$102,3,FALSE)),\"\",VLOOKUP(C641,BDDG!$A$3:$J$102,3,FALSE))","v":"A"},{"$f":"IF(ISNA(VLOOKUP(C641,BDDG!$A$3:$J$102,4,FALSE)),\"\",VLOOKUP(C641,BDDG!$A$3:$J$102,4,FALSE))","v":106},{"$f":"IF(ISNA(VLOOKUP(C641,BDDG!$A$2:$F$100,5,FALSE)),\"\",VLOOKUP(C641,BDDG!$A$2:$F$100,5,FALSE))","v":"A3"},{"$f":"IF(ISNA(VLOOKUP(C641,BDDG!$A$2:$F$100,6,FALSE)),\"\",VLOOKUP(C641,BDDG!$A$2:$F$100,6,FALSE))","v":"AA5"},{"$f":"IF(ISERROR(VLOOKUP(C641,BDDG!$A$2:$G$100,7,FALSE)),\"\",VLOOKUP(C641,BDDG!$A$2:$G$100,7,FALSE))","v":1},{"$f":"IF(ISERROR(VLOOKUP(C641,BDDG!$A$2:$H$100,8,FALSE)),\"\",VLOOKUP(C641,BDDG!$A$2:$H$100,8,FALSE))","v":"BB5"},1,20,4.32,{"$f":"IF(ISERROR(VLOOKUP(C641,BDDG!$A$2:$I$100,9,FALSE)),\"\",VLOOKUP(C641,BDDG!$A$2:$I$100,9,FALSE))","v":"CC5"},null,null,{"$f":" IF(ISERROR(O641/P641*86.4),\"\",O641/P641*86.4)","v":""},{"$f":"IF(ISERROR(VLOOKUP(C641,BDDG!$A$2:$J$100,10,FALSE)),\"\",VLOOKUP(C641,BDDG!$A$2:$J$100,10,FALSE))","v":"DD5"},null,null,"",4.32,12,2012,{"$f":"IFERROR(INDEX($V$2:V641,MATCH(H641&MAX(IF($H$1:H640=H641,$A$1:A640)),$H$2:H641&$A$2:A641,0))-V641,\"\")","v":-3.24}]
["2013-01-03",null,867,{"$f":"IF(ISNA(VLOOKUP(C642,BDDG!$A$2:$F$100,2,FALSE)),\"\",VLOOKUP(C642,BDDG!$A$2:$F$100,2,FALSE))","v":0},{"$f":"IF(ISNA(VLOOKUP(C642,BDDG!$A$3:$J$102,3,FALSE)),\"\",VLOOKUP(C642,BDDG!$A$3:$J$102,3,FALSE))","v":"C"},{"$f":"IF(ISNA(VLOOKUP(C642,BDDG!$A$3:$J$102,4,FALSE)),\"\",VLOOKUP(C642,BDDG!$A$3:$J$102,4,FALSE))","v":108},{"$f":"IF(ISNA(VLOOKUP(C642,BDDG!$A$2:$F$100,5,FALSE)),\"\",VLOOKUP(C642,BDDG!$A$2:$F$100,5,FALSE))","v":"A17"},{"$f":"IF(ISNA(VLOOKUP(C642,BDDG!$A$2:$F$100,6,FALSE)),\"\",VLOOKUP(C642,BDDG!$A$2:$F$100,6,FALSE))","v":"AA43"},{"$f":"IF(ISERROR(VLOOKUP(C642,BDDG!$A$2:$G$100,7,FALSE)),\"\",VLOOKUP(C642,BDDG!$A$2:$G$100,7,FALSE))","v":1},{"$f":"IF(ISERROR(VLOOKUP(C642,BDDG!$A$2:$H$100,8,FALSE)),\"\",VLOOKUP(C642,BDDG!$A$2:$H$100,8,FALSE))","v":"BB43"},10,30,28.8,{"$f":"IF(ISERROR(VLOOKUP(C642,BDDG!$A$2:$I$100,9,FALSE)),\"\",VLOOKUP(C642,BDDG!$A$2:$I$100,9,FALSE))","v":"CC43"},null,null,null,{"$f":"IF(ISERROR(VLOOKUP(C642,BDDG!$A$2:$J$100,10,FALSE)),\"\",VLOOKUP(C642,BDDG!$A$2:$J$100,10,FALSE))","v":"DD43"},null,null,"",28.8,{"$f":"MONTH(A:A)","v":1},{"$f":"YEAR(A:A)","v":2013},{"$f":"IFERROR(INDEX($V$2:V642,MATCH(H642&MAX(IF($H$1:H641=H642,$A$1:A641)),$H$2:H642&$A$2:A642,0))-V642,\"\")","v":7.2000000000000064}]
["2013-01-03",null,869,{"$f":"IF(ISNA(VLOOKUP(C643,BDDG!$A$2:$F$100,2,FALSE)),\"\",VLOOKUP(C643,BDDG!$A$2:$F$100,2,FALSE))","v":0},{"$f":"IF(ISNA(VLOOKUP(C643,BDDG!$A$3:$J$102,3,FALSE)),\"\",VLOOKUP(C643,BDDG!$A$3:$J$102,3,FALSE))","v":"A"},{"$f":"IF(ISNA(VLOOKUP(C643,BDDG!$A$3:$J$102,4,FALSE)),\"\",VLOOKUP(C643,BDDG!$A$3:$J$102,4,FALSE))","v":108},{"$f":"IF(ISNA(VLOOKUP(C643,BDDG!$A$2:$F$100,5,FALSE)),\"\",VLOOKUP(C643,BDDG!$A$2:$F$100,5,FALSE))","v":"A16"},{"$f":"IF(ISNA(VLOOKUP(C643,BDDG!$A$2:$F$100,6,FALSE)),\"\",VLOOKUP(C643,BDDG!$A$2:$F$100,6,FALSE))","v":"AA40"},{"$f":"IF(ISERROR(VLOOKUP(C643,BDDG!$A$2:$G$100,7,FALSE)),\"\",VLOOKUP(C643,BDDG!$A$2:$G$100,7,FALSE))","v":3},{"$f":"IF(ISERROR(VLOOKUP(C643,BDDG!$A$2:$H$100,8,FALSE)),\"\",VLOOKUP(C643,BDDG!$A$2:$H$100,8,FALSE))","v":"BB40"},7,60,10.08,{"$f":"IF(ISERROR(VLOOKUP(C643,BDDG!$A$2:$I$100,9,FALSE)),\"\",VLOOKUP(C643,BDDG!$A$2:$I$100,9,FALSE))","v":"CC40"},null,null,{"$f":" IF(ISERROR(O643/P643*86.4),\"\",O643/P643*86.4)","v":""},{"$f":"IF(ISERROR(VLOOKUP(C643,BDDG!$A$2:$J$100,10,FALSE)),\"\",VLOOKUP(C643,BDDG!$A$2:$J$100,10,FALSE))","v":"DD40"},null,null,"",10.08,1,2013,{"$f":"IFERROR(INDEX($V$2:V643,MATCH(H643&MAX(IF($H$1:H642=H643,$A$1:A642)),$H$2:H643&$A$2:A643,0))-V643,\"\")","v":-8.9280000000000008}]
["2013-01-03",null,870,{"$f":"IF(ISNA(VLOOKUP(C644,BDDG!$A$2:$F$100,2,FALSE)),\"\",VLOOKUP(C644,BDDG!$A$2:$F$100,2,FALSE))","v":0},{"$f":"IF(ISNA(VLOOKUP(C644,BDDG!$A$3:$J$102,3,FALSE)),\"\",VLOOKUP(C644,BDDG!$A$3:$J$102,3,FALSE))","v":"A"},{"$f":"IF(ISNA(VLOOKUP(C644,BDDG!$A$3:$J$102,4,FALSE)),\"\",VLOOKUP(C644,BDDG!$A$3:$J$102,4,FALSE))","v":108},{"$f":"IF(ISNA(VLOOKUP(C644,BDDG!$A$2:$F$100,5,FALSE)),\"\",VLOOKUP(C644,BDDG!$A$2:$F$100,5,FALSE))","v":"A16"},{"$f":"IF(ISNA(VLOOKUP(C644,BDDG!$A$2:$F$100,6,FALSE)),\"\",VLOOKUP(C644,BDDG!$A$2:$F$100,6,FALSE))","v":"AA41"},{"$f":"IF(ISERROR(VLOOKUP(C644,BDDG!$A$2:$G$100,7,FALSE)),\"\",VLOOKUP(C644,BDDG!$A$2:$G$100,7,FALSE))","v":2},{"$f":"IF(ISERROR(VLOOKUP(C644,BDDG!$A$2:$H$100,8,FALSE)),\"\",VLOOKUP(C644,BDDG!$A$2:$H$100,8,FALSE))","v":"BB41"},10,26,33.230769230769234,{"$f":"IF(ISERROR(VLOOKUP(C644,BDDG!$A$2:$I$100,9,FALSE)),\"\",VLOOKUP(C644,BDDG!$A$2:$I$100,9,FALSE))","v":"CC41"},null,null,{"$f":" IF(ISERROR(O644/P644*86.4),\"\",O644/P644*86.4)","v":""},{"$f":"IF(ISERROR(VLOOKUP(C644,BDDG!$A$2:$J$100,10,FALSE)),\"\",VLOOKUP(C644,BDDG!$A$2:$J$100,10,FALSE))","v":"DD41"},null,null,"",33.230769230769234,1,2013,{"$f":"IFERROR(INDEX($V$2:V644,MATCH(H644&MAX(IF($H$1:H643=H644,$A$1:A643)),$H$2:H644&$A$2:A644,0))-V644,\"\")","v":-20.887912087912092}]
["2013-01-03",null,866,{"$f":"IF(ISNA(VLOOKUP(C645,BDDG!$A$2:$F$100,2,FALSE)),\"\",VLOOKUP(C645,BDDG!$A$2:$F$100,2,FALSE))","v":0},{"$f":"IF(ISNA(VLOOKUP(C645,BDDG!$A$3:$J$102,3,FALSE)),\"\",VLOOKUP(C645,BDDG!$A$3:$J$102,3,FALSE))","v":"C"},{"$f":"IF(ISNA(VLOOKUP(C645,BDDG!$A$3:$J$102,4,FALSE)),\"\",VLOOKUP(C645,BDDG!$A$3:$J$102,4,FALSE))","v":108},{"$f":"IF(ISNA(VLOOKUP(C645,BDDG!$A$2:$F$100,5,FALSE)),\"\",VLOOKUP(C645,BDDG!$A$2:$F$100,5,FALSE))","v":"A17"},{"$f":"IF(ISNA(VLOOKUP(C645,BDDG!$A$2:$F$100,6,FALSE)),\"\",VLOOKUP(C645,BDDG!$A$2:$F$100,6,FALSE))","v":"AA42"},{"$f":"IF(ISERROR(VLOOKUP(C645,BDDG!$A$2:$G$100,7,FALSE)),\"\",VLOOKUP(C645,BDDG!$A$2:$G$100,7,FALSE))","v":1},{"$f":"IF(ISERROR(VLOOKUP(C645,BDDG!$A$2:$H$100,8,FALSE)),\"\",VLOOKUP(C645,BDDG!$A$2:$H$100,8,FALSE))","v":"BB42"},0.6,1,51.84,{"$f":"IF(ISERROR(VLOOKUP(C645,BDDG!$A$2:$I$100,9,FALSE)),\"\",VLOOKUP(C645,BDDG!$A$2:$I$100,9,FALSE))","v":"CC42"},null,null,null,{"$f":"IF(ISERROR(VLOOKUP(C645,BDDG!$A$2:$J$100,10,FALSE)),\"\",VLOOKUP(C645,BDDG!$A$2:$J$100,10,FALSE))","v":"DD42"},null,null,"",51.84,1,2013,{"$f":"IFERROR(INDEX($V$2:V645,MATCH(H645&MAX(IF($H$1:H644=H645,$A$1:A644)),$H$2:H645&$A$2:A645,0))-V645,\"\")","v":8.6399999999999935}]
["2013-01-29",null,867,{"$f":"IF(ISNA(VLOOKUP(C646,BDDG!$A$2:$F$100,2,FALSE)),\"\",VLOOKUP(C646,BDDG!$A$2:$F$100,2,FALSE))","v":0},{"$f":"IF(ISNA(VLOOKUP(C646,BDDG!$A$3:$J$102,3,FALSE)),\"\",VLOOKUP(C646,BDDG!$A$3:$J$102,3,FALSE))","v":"C"},{"$f":"IF(ISNA(VLOOKUP(C646,BDDG!$A$3:$J$102,4,FALSE)),\"\",VLOOKUP(C646,BDDG!$A$3:$J$102,4,FALSE))","v":108},{"$f":"IF(ISNA(VLOOKUP(C646,BDDG!$A$2:$F$100,5,FALSE)),\"\",VLOOKUP(C646,BDDG!$A$2:$F$100,5,FALSE))","v":"A17"},{"$f":"IF(ISNA(VLOOKUP(C646,BDDG!$A$2:$F$100,6,FALSE)),\"\",VLOOKUP(C646,BDDG!$A$2:$F$100,6,FALSE))","v":"AA43"},{"$f":"IF(ISERROR(VLOOKUP(C646,BDDG!$A$2:$G$100,7,FALSE)),\"\",VLOOKUP(C646,BDDG!$A$2:$G$100,7,FALSE))","v":1},{"$f":"IF(ISERROR(VLOOKUP(C646,BDDG!$A$2:$H$100,8,FALSE)),\"\",VLOOKUP(C646,BDDG!$A$2:$H$100,8,FALSE))","v":"BB43"},1,3,28.8,{"$f":"IF(ISERROR(VLOOKUP(C646,BDDG!$A$2:$I$100,9,FALSE)),\"\",VLOOKUP(C646,BDDG!$A$2:$I$100,9,FALSE))","v":"CC43"},null,null,null,{"$f":"IF(ISERROR(VLOOKUP(C646,BDDG!$A$2:$J$100,10,FALSE)),\"\",VLOOKUP(C646,BDDG!$A$2:$J$100,10,FALSE))","v":"DD43"},null,null,"",28.8,1,2013,{"$f":"IFERROR(INDEX($V$2:V646,MATCH(H646&MAX(IF($H$1:H645=H646,$A$1:A645)),$H$2:H646&$A$2:A646,0))-V646,\"\")","v":0}]
["2013-01-29",null,866,{"$f":"IF(ISNA(VLOOKUP(C647,BDDG!$A$2:$F$100,2,FALSE)),\"\",VLOOKUP(C647,BDDG!$A$2:$F$100,2,FALSE))","v":0},{"$f":"IF(ISNA(VLOOKUP(C647,BDDG!$A$3:$J$102,3,FALSE)),\"\",VLOOKUP(C647,BDDG!$A$3:$J$102,3,FALSE))","v":"C"},{"$f":"IF(ISNA(VLOOKUP(C647,BDDG!$A$3:$J$102,4,FALSE)),\"\",VLOOKUP(C647,BDDG!$A$3:$J$102,4,FALSE))","v":108},{"$f":"IF(ISNA(VLOOKUP(C647,BDDG!$A$2:$F$100,5,FALSE)),\"\",VLOOKUP(C647,BDDG!$A$2:$F$100,5,FALSE))","v":"A17"},{"$f":"IF(ISNA(VLOOKUP(C647,BDDG!$A$2:$F$100,6,FALSE)),\"\",VLOOKUP(C647,BDDG!$A$2:$F$100,6,FALSE))","v":"AA42"},{"$f":"IF(ISERROR(VLOOKUP(C647,BDDG!$A$2:$G$100,7,FALSE)),\"\",VLOOKUP(C647,BDDG!$A$2:$G$100,7,FALSE))","v":1},{"$f":"IF(ISERROR(VLOOKUP(C647,BDDG!$A$2:$H$100,8,FALSE)),\"\",VLOOKUP(C647,BDDG!$A$2:$H$100,8,FALSE))","v":"BB42"},0.7,1,60.48,{"$f":"IF(ISERROR(VLOOKUP(C647,BDDG!$A$2:$I$100,9,FALSE)),\"\",VLOOKUP(C647,BDDG!$A$2:$I$100,9,FALSE))","v":"CC42"},null,null,null,{"$f":"IF(ISERROR(VLOOKUP(C647,BDDG!$A$2:$J$100,10,FALSE)),\"\",VLOOKUP(C647,BDDG!$A$2:$J$100,10,FALSE))","v":"DD42"},null,null,"",60.48,1,2013,{"$f":"IFERROR(INDEX($V$2:V647,MATCH(H647&MAX(IF($H$1:H646=H647,$A$1:A646)),$H$2:H647&$A$2:A647,0))-V647,\"\")","v":-8.6399999999999935}]
["2013-02-27",null,867,{"$f":"IF(ISNA(VLOOKUP(C648,BDDG!$A$2:$F$100,2,FALSE)),\"\",VLOOKUP(C648,BDDG!$A$2:$F$100,2,FALSE))","v":0},{"$f":"IF(ISNA(VLOOKUP(C648,BDDG!$A$3:$J$102,3,FALSE)),\"\",VLOOKUP(C648,BDDG!$A$3:$J$102,3,FALSE))","v":"C"},{"$f":"IF(ISNA(VLOOKUP(C648,BDDG!$A$3:$J$102,4,FALSE)),\"\",VLOOKUP(C648,BDDG!$A$3:$J$102,4,FALSE))","v":108},{"$f":"IF(ISNA(VLOOKUP(C648,BDDG!$A$2:$F$100,5,FALSE)),\"\",VLOOKUP(C648,BDDG!$A$2:$F$100,5,FALSE))","v":"A17"},{"$f":"IF(ISNA(VLOOKUP(C648,BDDG!$A$2:$F$100,6,FALSE)),\"\",VLOOKUP(C648,BDDG!$A$2:$F$100,6,FALSE))","v":"AA43"},{"$f":"IF(ISERROR(VLOOKUP(C648,BDDG!$A$2:$G$100,7,FALSE)),\"\",VLOOKUP(C648,BDDG!$A$2:$G$100,7,FALSE))","v":1},{"$f":"IF(ISERROR(VLOOKUP(C648,BDDG!$A$2:$H$100,8,FALSE)),\"\",VLOOKUP(C648,BDDG!$A$2:$H$100,8,FALSE))","v":"BB43"},1,2,43.2,{"$f":"IF(ISERROR(VLOOKUP(C648,BDDG!$A$2:$I$100,9,FALSE)),\"\",VLOOKUP(C648,BDDG!$A$2:$I$100,9,FALSE))","v":"CC43"},null,null,null,{"$f":"IF(ISERROR(VLOOKUP(C648,BDDG!$A$2:$J$100,10,FALSE)),\"\",VLOOKUP(C648,BDDG!$A$2:$J$100,10,FALSE))","v":"DD43"},null,null,"",43.2,2,2013,{"$f":"IFERROR(INDEX($V$2:V648,MATCH(H648&MAX(IF($H$1:H647=H648,$A$1:A647)),$H$2:H648&$A$2:A648,0))-V648,\"\")","v":-14.400000000000002}]
["2013-02-28",null,866,{"$f":"IF(ISNA(VLOOKUP(C649,BDDG!$A$2:$F$100,2,FALSE)),\"\",VLOOKUP(C649,BDDG!$A$2:$F$100,2,FALSE))","v":0},{"$f":"IF(ISNA(VLOOKUP(C649,BDDG!$A$3:$J$102,3,FALSE)),\"\",VLOOKUP(C649,BDDG!$A$3:$J$102,3,FALSE))","v":"C"},{"$f":"IF(ISNA(VLOOKUP(C649,BDDG!$A$3:$J$102,4,FALSE)),\"\",VLOOKUP(C649,BDDG!$A$3:$J$102,4,FALSE))","v":108},{"$f":"IF(ISNA(VLOOKUP(C649,BDDG!$A$2:$F$100,5,FALSE)),\"\",VLOOKUP(C649,BDDG!$A$2:$F$100,5,FALSE))","v":"A17"},{"$f":"IF(ISNA(VLOOKUP(C649,BDDG!$A$2:$F$100,6,FALSE)),\"\",VLOOKUP(C649,BDDG!$A$2:$F$100,6,FALSE))","v":"AA42"},{"$f":"IF(ISERROR(VLOOKUP(C649,BDDG!$A$2:$G$100,7,FALSE)),\"\",VLOOKUP(C649,BDDG!$A$2:$G$100,7,FALSE))","v":1},{"$f":"IF(ISERROR(VLOOKUP(C649,BDDG!$A$2:$H$100,8,FALSE)),\"\",VLOOKUP(C649,BDDG!$A$2:$H$100,8,FALSE))","v":"BB42"},0.7,1,60.48,{"$f":"IF(ISERROR(VLOOKUP(C649,BDDG!$A$2:$I$100,9,FALSE)),\"\",VLOOKUP(C649,BDDG!$A$2:$I$100,9,FALSE))","v":"CC42"},null,null,null,{"$f":"IF(ISERROR(VLOOKUP(C649,BDDG!$A$2:$J$100,10,FALSE)),\"\",VLOOKUP(C649,BDDG!$A$2:$J$100,10,FALSE))","v":"DD42"},null,null,"",60.48,2,2013,{"$f":"IFERROR(INDEX($V$2:V649,MATCH(H649&MAX(IF($H$1:H648=H649,$A$1:A648)),$H$2:H649&$A$2:A649,0))-V649,\"\")","v":0}]
["2013-03-07",null,831,{"$f":"IF(ISNA(VLOOKUP(C650,BDDG!$A$2:$F$100,2,FALSE)),\"\",VLOOKUP(C650,BDDG!$A$2:$F$100,2,FALSE))","v":0},{"$f":"IF(ISNA(VLOOKUP(C650,BDDG!$A$3:$J$102,3,FALSE)),\"\",VLOOKUP(C650,BDDG!$A$3:$J$102,3,FALSE))","v":"A"},{"$f":"IF(ISNA(VLOOKUP(C650,BDDG!$A$3:$J$102,4,FALSE)),\"\",VLOOKUP(C650,BDDG!$A$3:$J$102,4,FALSE))","v":106},{"$f":"IF(ISNA(VLOOKUP(C650,BDDG!$A$2:$F$100,5,FALSE)),\"\",VLOOKUP(C650,BDDG!$A$2:$F$100,5,FALSE))","v":"A1"},{"$f":"IF(ISNA(VLOOKUP(C650,BDDG!$A$2:$F$100,6,FALSE)),\"\",VLOOKUP(C650,BDDG!$A$2:$F$100,6,FALSE))","v":"AA1"},{"$f":"IF(ISERROR(VLOOKUP(C650,BDDG!$A$2:$G$100,7,FALSE)),\"\",VLOOKUP(C650,BDDG!$A$2:$G$100,7,FALSE))","v":1},{"$f":"IF(ISERROR(VLOOKUP(C650,BDDG!$A$2:$H$100,8,FALSE)),\"\",VLOOKUP(C650,BDDG!$A$2:$H$100,8,FALSE))","v":"BB1"},10,9,96.000000000000014,{"$f":"IF(ISERROR(VLOOKUP(C650,BDDG!$A$2:$I$100,9,FALSE)),\"\",VLOOKUP(C650,BDDG!$A$2:$I$100,9,FALSE))","v":"CC1"},null,null,{"$f":" IF(ISERROR(O650/P650*86.4),\"\",O650/P650*86.4)","v":""},{"$f":"IF(ISERROR(VLOOKUP(C650,BDDG!$A$2:$J$100,10,FALSE)),\"\",VLOOKUP(C650,BDDG!$A$2:$J$100,10,FALSE))","v":"DD1"},null,null,"",96.000000000000014,3,2013,{"$f":"IFERROR(INDEX($V$2:V650,MATCH(H650&MAX(IF($H$1:H649=H650,$A$1:A649)),$H$2:H650&$A$2:A650,0))-V650,\"\")","v":-24}]
["2013-03-07",null,861,{"$f":"IF(ISNA(VLOOKUP(C651,BDDG!$A$2:$F$100,2,FALSE)),\"\",VLOOKUP(C651,BDDG!$A$2:$F$100,2,FALSE))","v":0},{"$f":"IF(ISNA(VLOOKUP(C651,BDDG!$A$3:$J$102,3,FALSE)),\"\",VLOOKUP(C651,BDDG!$A$3:$J$102,3,FALSE))","v":"A"},{"$f":"IF(ISNA(VLOOKUP(C651,BDDG!$A$3:$J$102,4,FALSE)),\"\",VLOOKUP(C651,BDDG!$A$3:$J$102,4,FALSE))","v":106},{"$f":"IF(ISNA(VLOOKUP(C651,BDDG!$A$2:$F$100,5,FALSE)),\"\",VLOOKUP(C651,BDDG!$A$2:$F$100,5,FALSE))","v":"A11"},{"$f":"IF(ISNA(VLOOKUP(C651,BDDG!$A$2:$F$100,6,FALSE)),\"\",VLOOKUP(C651,BDDG!$A$2:$F$100,6,FALSE))","v":"AA33"},{"$f":"IF(ISERROR(VLOOKUP(C651,BDDG!$A$2:$G$100,7,FALSE)),\"\",VLOOKUP(C651,BDDG!$A$2:$G$100,7,FALSE))","v":2},{"$f":"IF(ISERROR(VLOOKUP(C651,BDDG!$A$2:$H$100,8,FALSE)),\"\",VLOOKUP(C651,BDDG!$A$2:$H$100,8,FALSE))","v":"BB33"},null,null,null,{"$f":"IF(ISERROR(VLOOKUP(C651,BDDG!$A$2:$I$100,9,FALSE)),\"\",VLOOKUP(C651,BDDG!$A$2:$I$100,9,FALSE))","v":"CC33"},10,5,{"$f":" IF(ISERROR(O651/P651*86.4),\"\",O651/P651*86.4)","v":172.8},{"$f":"IF(ISERROR(VLOOKUP(C651,BDDG!$A$2:$J$100,10,FALSE)),\"\",VLOOKUP(C651,BDDG!$A$2:$J$100,10,FALSE))","v":"DD33"},null,null,"",{"$f":"IF(ISERROR(SUM(M651,Q651,U651)),\"\",SUM((M651,Q651,U651)))","v":172.8},3,2013,{"$f":"IFERROR(INDEX($V$2:V651,MATCH(H651&MAX(IF($H$1:H650=H651,$A$1:A650)),$H$2:H651&$A$2:A651,0))-V651,\"\")","v":0}]
["2013-03-11",null,867,{"$f":"IF(ISNA(VLOOKUP(C652,BDDG!$A$2:$F$100,2,FALSE)),\"\",VLOOKUP(C652,BDDG!$A$2:$F$100,2,FALSE))","v":0},{"$f":"IF(ISNA(VLOOKUP(C652,BDDG!$A$3:$J$102,3,FALSE)),\"\",VLOOKUP(C652,BDDG!$A$3:$J$102,3,FALSE))","v":"C"},{"$f":"IF(ISNA(VLOOKUP(C652,BDDG!$A$3:$J$102,4,FALSE)),\"\",VLOOKUP(C652,BDDG!$A$3:$J$102,4,FALSE))","v":108},{"$f":"IF(ISNA(VLOOKUP(C652,BDDG!$A$2:$F$100,5,FALSE)),\"\",VLOOKUP(C652,BDDG!$A$2:$F$100,5,FALSE))","v":"A17"},{"$f":"IF(ISNA(VLOOKUP(C652,BDDG!$A$2:$F$100,6,FALSE)),\"\",VLOOKUP(C652,BDDG!$A$2:$F$100,6,FALSE))","v":"AA43"},{"$f":"IF(ISERROR(VLOOKUP(C652,BDDG!$A$2:$G$100,7,FALSE)),\"\",VLOOKUP(C652,BDDG!$A$2:$G$100,7,FALSE))","v":1},{"$f":"IF(ISERROR(VLOOKUP(C652,BDDG!$A$2:$H$100,8,FALSE)),\"\",VLOOKUP(C652,BDDG!$A$2:$H$100,8,FALSE))","v":"BB43"},1,4,{"$f":" IF(ISERROR(K652/L652*86.4),\"\",K652/L652*86.4)","v":21.6},{"$f":"IF(ISERROR(VLOOKUP(C652,BDDG!$A$2:$I$100,9,FALSE)),\"\",VLOOKUP(C652,BDDG!$A$2:$I$100,9,FALSE))","v":"CC43"},null,null,null,{"$f":"IF(ISERROR(VLOOKUP(C652,BDDG!$A$2:$J$100,10,FALSE)),\"\",VLOOKUP(C652,BDDG!$A$2:$J$100,10,FALSE))","v":"DD43"},null,null,"",{"$f":"IF(ISERROR(SUM(M652,Q652,U652)),\"\",SUM(M652,Q652,U652))","v":21.6},3,2013,{"$f":"IFERROR(INDEX($V$2:V652,MATCH(H652&MAX(IF($H$1:H651=H652,$A$1:A651)),$H$2:H652&$A$2:A652,0))-V652,\"\")","v":21.6}]
["2013-03-11",null,866,{"$f":"IF(ISNA(VLOOKUP(C653,BDDG!$A$2:$F$100,2,FALSE)),\"\",VLOOKUP(C653,BDDG!$A$2:$F$100,2,FALSE))","v":0},{"$f":"IF(ISNA(VLOOKUP(C653,BDDG!$A$3:$J$102,3,FALSE)),\"\",VLOOKUP(C653,BDDG!$A$3:$J$102,3,FALSE))","v":"C"},{"$f":"IF(ISNA(VLOOKUP(C653,BDDG!$A$3:$J$102,4,FALSE)),\"\",VLOOKUP(C653,BDDG!$A$3:$J$102,4,FALSE))","v":108},{"$f":"IF(ISNA(VLOOKUP(C653,BDDG!$A$2:$F$100,5,FALSE)),\"\",VLOOKUP(C653,BDDG!$A$2:$F$100,5,FALSE))","v":"A17"},{"$f":"IF(ISNA(VLOOKUP(C653,BDDG!$A$2:$F$100,6,FALSE)),\"\",VLOOKUP(C653,BDDG!$A$2:$F$100,6,FALSE))","v":"AA42"},{"$f":"IF(ISERROR(VLOOKUP(C653,BDDG!$A$2:$G$100,7,FALSE)),\"\",VLOOKUP(C653,BDDG!$A$2:$G$100,7,FALSE))","v":1},{"$f":"IF(ISERROR(VLOOKUP(C653,BDDG!$A$2:$H$100,8,FALSE)),\"\",VLOOKUP(C653,BDDG!$A$2:$H$100,8,FALSE))","v":"BB42"},0.6,1,51.84,{"$f":"IF(ISERROR(VLOOKUP(C653,BDDG!$A$2:$I$100,9,FALSE)),\"\",VLOOKUP(C653,BDDG!$A$2:$I$100,9,FALSE))","v":"CC42"},null,null,null,{"$f":"IF(ISERROR(VLOOKUP(C653,BDDG!$A$2:$J$100,10,FALSE)),\"\",VLOOKUP(C653,BDDG!$A$2:$J$100,10,FALSE))","v":"DD42"},null,null,"",51.84,3,2013,{"$f":"IFERROR(INDEX($V$2:V653,MATCH(H653&MAX(IF($H$1:H652=H653,$A$1:A652)),$H$2:H653&$A$2:A653,0))-V653,\"\")","v":8.6399999999999935}]
["2013-03-12",null,850,{"$f":"IF(ISNA(VLOOKUP(C654,BDDG!$A$2:$F$100,2,FALSE)),\"\",VLOOKUP(C654,BDDG!$A$2:$F$100,2,FALSE))","v":0},{"$f":"IF(ISNA(VLOOKUP(C654,BDDG!$A$3:$J$102,3,FALSE)),\"\",VLOOKUP(C654,BDDG!$A$3:$J$102,3,FALSE))","v":"B"},{"$f":"IF(ISNA(VLOOKUP(C654,BDDG!$A$3:$J$102,4,FALSE)),\"\",VLOOKUP(C654,BDDG!$A$3:$J$102,4,FALSE))","v":106},{"$f":"IF(ISNA(VLOOKUP(C654,BDDG!$A$2:$F$100,5,FALSE)),\"\",VLOOKUP(C654,BDDG!$A$2:$F$100,5,FALSE))","v":"A8"},{"$f":"IF(ISNA(VLOOKUP(C654,BDDG!$A$2:$F$100,6,FALSE)),\"\",VLOOKUP(C654,BDDG!$A$2:$F$100,6,FALSE))","v":"AA20"},{"$f":"IF(ISERROR(VLOOKUP(C654,BDDG!$A$2:$G$100,7,FALSE)),\"\",VLOOKUP(C654,BDDG!$A$2:$G$100,7,FALSE))","v":1},{"$f":"IF(ISERROR(VLOOKUP(C654,BDDG!$A$2:$H$100,8,FALSE)),\"\",VLOOKUP(C654,BDDG!$A$2:$H$100,8,FALSE))","v":"BB20"},10,19,45.473684210526315,{"$f":"IF(ISERROR(VLOOKUP(C654,BDDG!$A$2:$I$100,9,FALSE)),\"\",VLOOKUP(C654,BDDG!$A$2:$I$100,9,FALSE))","v":"CC20"},null,null,{"$f":" IF(ISERROR(O654/P654*86.4),\"\",O654/P654*86.4)","v":""},{"$f":"IF(ISERROR(VLOOKUP(C654,BDDG!$A$2:$J$100,10,FALSE)),\"\",VLOOKUP(C654,BDDG!$A$2:$J$100,10,FALSE))","v":"DD20"},null,null,"",45.473684210526315,3,2013,{"$f":"IFERROR(INDEX($V$2:V654,MATCH(H654&MAX(IF($H$1:H653=H654,$A$1:A653)),$H$2:H654&$A$2:A654,0))-V654,\"\")","v":-10.913684210526313}]
["2013-03-20",null,870,{"$f":"IF(ISNA(VLOOKUP(C655,BDDG!$A$2:$F$100,2,FALSE)),\"\",VLOOKUP(C655,BDDG!$A$2:$F$100,2,FALSE))","v":0},{"$f":"IF(ISNA(VLOOKUP(C655,BDDG!$A$3:$J$102,3,FALSE)),\"\",VLOOKUP(C655,BDDG!$A$3:$J$102,3,FALSE))","v":"A"},{"$f":"IF(ISNA(VLOOKUP(C655,BDDG!$A$3:$J$102,4,FALSE)),\"\",VLOOKUP(C655,BDDG!$A$3:$J$102,4,FALSE))","v":108},{"$f":"IF(ISNA(VLOOKUP(C655,BDDG!$A$2:$F$100,5,FALSE)),\"\",VLOOKUP(C655,BDDG!$A$2:$F$100,5,FALSE))","v":"A16"},{"$f":"IF(ISNA(VLOOKUP(C655,BDDG!$A$2:$F$100,6,FALSE)),\"\",VLOOKUP(C655,BDDG!$A$2:$F$100,6,FALSE))","v":"AA41"},{"$f":"IF(ISERROR(VLOOKUP(C655,BDDG!$A$2:$G$100,7,FALSE)),\"\",VLOOKUP(C655,BDDG!$A$2:$G$100,7,FALSE))","v":2},{"$f":"IF(ISERROR(VLOOKUP(C655,BDDG!$A$2:$H$100,8,FALSE)),\"\",VLOOKUP(C655,BDDG!$A$2:$H$100,8,FALSE))","v":"BB41"},1,2,43.2,{"$f":"IF(ISERROR(VLOOKUP(C655,BDDG!$A$2:$I$100,9,FALSE)),\"\",VLOOKUP(C655,BDDG!$A$2:$I$100,9,FALSE))","v":"CC41"},null,null,"",{"$f":"IF(ISERROR(VLOOKUP(C655,BDDG!$A$2:$J$100,10,FALSE)),\"\",VLOOKUP(C655,BDDG!$A$2:$J$100,10,FALSE))","v":"DD41"},null,null,"",43.2,3,2013,{"$f":"IFERROR(INDEX($V$2:V655,MATCH(H655&MAX(IF($H$1:H654=H655,$A$1:A654)),$H$2:H655&$A$2:A655,0))-V655,\"\")","v":-9.9692307692307693}]
["2013-03-22",null,869,{"$f":"IF(ISNA(VLOOKUP(C656,BDDG!$A$2:$F$100,2,FALSE)),\"\",VLOOKUP(C656,BDDG!$A$2:$F$100,2,FALSE))","v":0},{"$f":"IF(ISNA(VLOOKUP(C656,BDDG!$A$3:$J$102,3,FALSE)),\"\",VLOOKUP(C656,BDDG!$A$3:$J$102,3,FALSE))","v":"A"},{"$f":"IF(ISNA(VLOOKUP(C656,BDDG!$A$3:$J$102,4,FALSE)),\"\",VLOOKUP(C656,BDDG!$A$3:$J$102,4,FALSE))","v":108},{"$f":"IF(ISNA(VLOOKUP(C656,BDDG!$A$2:$F$100,5,FALSE)),\"\",VLOOKUP(C656,BDDG!$A$2:$F$100,5,FALSE))","v":"A16"},{"$f":"IF(ISNA(VLOOKUP(C656,BDDG!$A$2:$F$100,6,FALSE)),\"\",VLOOKUP(C656,BDDG!$A$2:$F$100,6,FALSE))","v":"AA40"},{"$f":"IF(ISERROR(VLOOKUP(C656,BDDG!$A$2:$G$100,7,FALSE)),\"\",VLOOKUP(C656,BDDG!$A$2:$G$100,7,FALSE))","v":3},{"$f":"IF(ISERROR(VLOOKUP(C656,BDDG!$A$2:$H$100,8,FALSE)),\"\",VLOOKUP(C656,BDDG!$A$2:$H$100,8,FALSE))","v":"BB40"},1,7,12.342857142857143,{"$f":"IF(ISERROR(VLOOKUP(C656,BDDG!$A$2:$I$100,9,FALSE)),\"\",VLOOKUP(C656,BDDG!$A$2:$I$100,9,FALSE))","v":"CC40"},null,null,"",{"$f":"IF(ISERROR(VLOOKUP(C656,BDDG!$A$2:$J$100,10,FALSE)),\"\",VLOOKUP(C656,BDDG!$A$2:$J$100,10,FALSE))","v":"DD40"},null,null,"",12.342857142857143,3,2013,{"$f":"IFERROR(INDEX($V$2:V656,MATCH(H656&MAX(IF($H$1:H655=H656,$A$1:A655)),$H$2:H656&$A$2:A656,0))-V656,\"\")","v":-2.2628571428571433}]
["2013-03-27",null,868,{"$f":"IF(ISNA(VLOOKUP(C657,BDDG!$A$2:$F$100,2,FALSE)),\"\",VLOOKUP(C657,BDDG!$A$2:$F$100,2,FALSE))","v":0},{"$f":"IF(ISNA(VLOOKUP(C657,BDDG!$A$3:$J$102,3,FALSE)),\"\",VLOOKUP(C657,BDDG!$A$3:$J$102,3,FALSE))","v":"A"},{"$f":"IF(ISNA(VLOOKUP(C657,BDDG!$A$3:$J$102,4,FALSE)),\"\",VLOOKUP(C657,BDDG!$A$3:$J$102,4,FALSE))","v":108},{"$f":"IF(ISNA(VLOOKUP(C657,BDDG!$A$2:$F$100,5,FALSE)),\"\",VLOOKUP(C657,BDDG!$A$2:$F$100,5,FALSE))","v":"A16"},{"$f":"IF(ISNA(VLOOKUP(C657,BDDG!$A$2:$F$100,6,FALSE)),\"\",VLOOKUP(C657,BDDG!$A$2:$F$100,6,FALSE))","v":"AA39"},{"$f":"IF(ISERROR(VLOOKUP(C657,BDDG!$A$2:$G$100,7,FALSE)),\"\",VLOOKUP(C657,BDDG!$A$2:$G$100,7,FALSE))","v":2},{"$f":"IF(ISERROR(VLOOKUP(C657,BDDG!$A$2:$H$100,8,FALSE)),\"\",VLOOKUP(C657,BDDG!$A$2:$H$100,8,FALSE))","v":"BB39"},10,11,78.545454545454547,{"$f":"IF(ISERROR(VLOOKUP(C657,BDDG!$A$2:$I$100,9,FALSE)),\"\",VLOOKUP(C657,BDDG!$A$2:$I$100,9,FALSE))","v":"CC39"},null,null,"",{"$f":"IF(ISERROR(VLOOKUP(C657,BDDG!$A$2:$J$100,10,FALSE)),\"\",VLOOKUP(C657,BDDG!$A$2:$J$100,10,FALSE))","v":"DD39"},null,null,"",78.545454545454547,3,2013,{"$f":"IFERROR(INDEX($V$2:V657,MATCH(H657&MAX(IF($H$1:H656=H657,$A$1:A656)),$H$2:H657&$A$2:A657,0))-V657,\"\")","v":-72.374025974025969}]
["2013-04-11",null,832,{"$f":"IF(ISNA(VLOOKUP(C658,BDDG!$A$2:$F$100,2,FALSE)),\"\",VLOOKUP(C658,BDDG!$A$2:$F$100,2,FALSE))","v":0},{"$f":"IF(ISNA(VLOOKUP(C658,BDDG!$A$3:$J$102,3,FALSE)),\"\",VLOOKUP(C658,BDDG!$A$3:$J$102,3,FALSE))","v":"A"},{"$f":"IF(ISNA(VLOOKUP(C658,BDDG!$A$3:$J$102,4,FALSE)),\"\",VLOOKUP(C658,BDDG!$A$3:$J$102,4,FALSE))","v":106},{"$f":"IF(ISNA(VLOOKUP(C658,BDDG!$A$2:$F$100,5,FALSE)),\"\",VLOOKUP(C658,BDDG!$A$2:$F$100,5,FALSE))","v":"A2"},{"$f":"IF(ISNA(VLOOKUP(C658,BDDG!$A$2:$F$100,6,FALSE)),\"\",VLOOKUP(C658,BDDG!$A$2:$F$100,6,FALSE))","v":"AA2"},{"$f":"IF(ISERROR(VLOOKUP(C658,BDDG!$A$2:$G$100,7,FALSE)),\"\",VLOOKUP(C658,BDDG!$A$2:$G$100,7,FALSE))","v":1},{"$f":"IF(ISERROR(VLOOKUP(C658,BDDG!$A$2:$H$100,8,FALSE)),\"\",VLOOKUP(C658,BDDG!$A$2:$H$100,8,FALSE))","v":"BB2"},10,5,172.8,{"$f":"IF(ISERROR(VLOOKUP(C658,BDDG!$A$2:$I$100,9,FALSE)),\"\",VLOOKUP(C658,BDDG!$A$2:$I$100,9,FALSE))","v":"CC2"},null,null,"",{"$f":"IF(ISERROR(VLOOKUP(C658,BDDG!$A$2:$J$100,10,FALSE)),\"\",VLOOKUP(C658,BDDG!$A$2:$J$100,10,FALSE))","v":"DD2"},null,null,"",172.8,4,2013,{"$f":"IFERROR(INDEX($V$2:V658,MATCH(H658&MAX(IF($H$1:H657=H658,$A$1:A657)),$H$2:H658&$A$2:A658,0))-V658,\"\")","v":-139.56923076923078}]
["2013-04-11",null,833,{"$f":"IF(ISNA(VLOOKUP(C659,BDDG!$A$2:$F$100,2,FALSE)),\"\",VLOOKUP(C659,BDDG!$A$2:$F$100,2,FALSE))","v":0},{"$f":"IF(ISNA(VLOOKUP(C659,BDDG!$A$3:$J$102,3,FALSE)),\"\",VLOOKUP(C659,BDDG!$A$3:$J$102,3,FALSE))","v":"A"},{"$f":"IF(ISNA(VLOOKUP(C659,BDDG!$A$3:$J$102,4,FALSE)),\"\",VLOOKUP(C659,BDDG!$A$3:$J$102,4,FALSE))","v":106},{"$f":"IF(ISNA(VLOOKUP(C659,BDDG!$A$2:$F$100,5,FALSE)),\"\",VLOOKUP(C659,BDDG!$A$2:$F$100,5,FALSE))","v":"A2"},{"$f":"IF(ISNA(VLOOKUP(C659,BDDG!$A$2:$F$100,6,FALSE)),\"\",VLOOKUP(C659,BDDG!$A$2:$F$100,6,FALSE))","v":"AA3"},{"$f":"IF(ISERROR(VLOOKUP(C659,BDDG!$A$2:$G$100,7,FALSE)),\"\",VLOOKUP(C659,BDDG!$A$2:$G$100,7,FALSE))","v":1},{"$f":"IF(ISERROR(VLOOKUP(C659,BDDG!$A$2:$H$100,8,FALSE)),\"\",VLOOKUP(C659,BDDG!$A$2:$H$100,8,FALSE))","v":"BB3"},10,3,288.00000000000006,{"$f":"IF(ISERROR(VLOOKUP(C659,BDDG!$A$2:$I$100,9,FALSE)),\"\",VLOOKUP(C659,BDDG!$A$2:$I$100,9,FALSE))","v":"CC3"},null,null,"",{"$f":"IF(ISERROR(VLOOKUP(C659,BDDG!$A$2:$J$100,10,FALSE)),\"\",VLOOKUP(C659,BDDG!$A$2:$J$100,10,FALSE))","v":"DD3"},null,null,"",288.00000000000006,4,2013,{"$f":"IFERROR(INDEX($V$2:V659,MATCH(H659&MAX(IF($H$1:H658=H659,$A$1:A658)),$H$2:H659&$A$2:A659,0))-V659,\"\")","v":-275.6571428571429}]
["2013-04-11",null,834,{"$f":"IF(ISNA(VLOOKUP(C660,BDDG!$A$2:$F$100,2,FALSE)),\"\",VLOOKUP(C660,BDDG!$A$2:$F$100,2,FALSE))","v":0},{"$f":"IF(ISNA(VLOOKUP(C660,BDDG!$A$3:$J$102,3,FALSE)),\"\",VLOOKUP(C660,BDDG!$A$3:$J$102,3,FALSE))","v":"A"},{"$f":"IF(ISNA(VLOOKUP(C660,BDDG!$A$3:$J$102,4,FALSE)),\"\",VLOOKUP(C660,BDDG!$A$3:$J$102,4,FALSE))","v":106},{"$f":"IF(ISNA(VLOOKUP(C660,BDDG!$A$2:$F$100,5,FALSE)),\"\",VLOOKUP(C660,BDDG!$A$2:$F$100,5,FALSE))","v":"A2"},{"$f":"IF(ISNA(VLOOKUP(C660,BDDG!$A$2:$F$100,6,FALSE)),\"\",VLOOKUP(C660,BDDG!$A$2:$F$100,6,FALSE))","v":"AA4"},{"$f":"IF(ISERROR(VLOOKUP(C660,BDDG!$A$2:$G$100,7,FALSE)),\"\",VLOOKUP(C660,BDDG!$A$2:$G$100,7,FALSE))","v":1},{"$f":"IF(ISERROR(VLOOKUP(C660,BDDG!$A$2:$H$100,8,FALSE)),\"\",VLOOKUP(C660,BDDG!$A$2:$H$100,8,FALSE))","v":"BB4"},10,60,14.4,{"$f":"IF(ISERROR(VLOOKUP(C660,BDDG!$A$2:$I$100,9,FALSE)),\"\",VLOOKUP(C660,BDDG!$A$2:$I$100,9,FALSE))","v":"CC4"},null,null,"",{"$f":"IF(ISERROR(VLOOKUP(C660,BDDG!$A$2:$J$100,10,FALSE)),\"\",VLOOKUP(C660,BDDG!$A$2:$J$100,10,FALSE))","v":"DD4"},null,null,"",14.4,4,2013,{"$f":"IFERROR(INDEX($V$2:V660,MATCH(H660&MAX(IF($H$1:H659=H660,$A$1:A659)),$H$2:H660&$A$2:A660,0))-V660,\"\")","v":-2.2309859154929566}]
["2013-04-12",null,867,{"$f":"IF(ISNA(VLOOKUP(C661,BDDG!$A$2:$F$100,2,FALSE)),\"\",VLOOKUP(C661,BDDG!$A$2:$F$100,2,FALSE))","v":0},{"$f":"IF(ISNA(VLOOKUP(C661,BDDG!$A$3:$J$102,3,FALSE)),\"\",VLOOKUP(C661,BDDG!$A$3:$J$102,3,FALSE))","v":"C"},{"$f":"IF(ISNA(VLOOKUP(C661,BDDG!$A$3:$J$102,4,FALSE)),\"\",VLOOKUP(C661,BDDG!$A$3:$J$102,4,FALSE))","v":108},{"$f":"IF(ISNA(VLOOKUP(C661,BDDG!$A$2:$F$100,5,FALSE)),\"\",VLOOKUP(C661,BDDG!$A$2:$F$100,5,FALSE))","v":"A17"},{"$f":"IF(ISNA(VLOOKUP(C661,BDDG!$A$2:$F$100,6,FALSE)),\"\",VLOOKUP(C661,BDDG!$A$2:$F$100,6,FALSE))","v":"AA43"},{"$f":"IF(ISERROR(VLOOKUP(C661,BDDG!$A$2:$G$100,7,FALSE)),\"\",VLOOKUP(C661,BDDG!$A$2:$G$100,7,FALSE))","v":1},{"$f":"IF(ISERROR(VLOOKUP(C661,BDDG!$A$2:$H$100,8,FALSE)),\"\",VLOOKUP(C661,BDDG!$A$2:$H$100,8,FALSE))","v":"BB43"},11,15.1,62.940397350993386,{"$f":"IF(ISERROR(VLOOKUP(C661,BDDG!$A$2:$I$100,9,FALSE)),\"\",VLOOKUP(C661,BDDG!$A$2:$I$100,9,FALSE))","v":"CC43"},null,null,null,{"$f":"IF(ISERROR(VLOOKUP(C661,BDDG!$A$2:$J$100,10,FALSE)),\"\",VLOOKUP(C661,BDDG!$A$2:$J$100,10,FALSE))","v":"DD43"},null,null,"",62.940397350993386,4,2013,{"$f":"IFERROR(INDEX($V$2:V661,MATCH(H661&MAX(IF($H$1:H660=H661,$A$1:A660)),$H$2:H661&$A$2:A661,0))-V661,\"\")","v":-41.340397350993385}]
["2013-04-12",null,866,{"$f":"IF(ISNA(VLOOKUP(C662,BDDG!$A$2:$F$100,2,FALSE)),\"\",VLOOKUP(C662,BDDG!$A$2:$F$100,2,FALSE))","v":0},{"$f":"IF(ISNA(VLOOKUP(C662,BDDG!$A$3:$J$102,3,FALSE)),\"\",VLOOKUP(C662,BDDG!$A$3:$J$102,3,FALSE))","v":"C"},{"$f":"IF(ISNA(VLOOKUP(C662,BDDG!$A$3:$J$102,4,FALSE)),\"\",VLOOKUP(C662,BDDG!$A$3:$J$102,4,FALSE))","v":108},{"$f":"IF(ISNA(VLOOKUP(C662,BDDG!$A$2:$F$100,5,FALSE)),\"\",VLOOKUP(C662,BDDG!$A$2:$F$100,5,FALSE))","v":"A17"},{"$f":"IF(ISNA(VLOOKUP(C662,BDDG!$A$2:$F$100,6,FALSE)),\"\",VLOOKUP(C662,BDDG!$A$2:$F$100,6,FALSE))","v":"AA42"},{"$f":"IF(ISERROR(VLOOKUP(C662,BDDG!$A$2:$G$100,7,FALSE)),\"\",VLOOKUP(C662,BDDG!$A$2:$G$100,7,FALSE))","v":1},{"$f":"IF(ISERROR(VLOOKUP(C662,BDDG!$A$2:$H$100,8,FALSE)),\"\",VLOOKUP(C662,BDDG!$A$2:$H$100,8,FALSE))","v":"BB42"},0.6,1,51.84,{"$f":"IF(ISERROR(VLOOKUP(C662,BDDG!$A$2:$I$100,9,FALSE)),\"\",VLOOKUP(C662,BDDG!$A$2:$I$100,9,FALSE))","v":"CC42"},null,null,null,{"$f":"IF(ISERROR(VLOOKUP(C662,BDDG!$A$2:$J$100,10,FALSE)),\"\",VLOOKUP(C662,BDDG!$A$2:$J$100,10,FALSE))","v":"DD42"},null,null,"",51.84,4,2013,{"$f":"IFERROR(INDEX($V$2:V662,MATCH(H662&MAX(IF($H$1:H661=H662,$A$1:A661)),$H$2:H662&$A$2:A662,0))-V662,\"\")","v":0}]
["2013-04-18",null,838,{"$f":"IF(ISNA(VLOOKUP(C663,BDDG!$A$2:$F$100,2,FALSE)),\"\",VLOOKUP(C663,BDDG!$A$2:$F$100,2,FALSE))","v":0},{"$f":"IF(ISNA(VLOOKUP(C663,BDDG!$A$3:$J$102,3,FALSE)),\"\",VLOOKUP(C663,BDDG!$A$3:$J$102,3,FALSE))","v":"A"},{"$f":"IF(ISNA(VLOOKUP(C663,BDDG!$A$3:$J$102,4,FALSE)),\"\",VLOOKUP(C663,BDDG!$A$3:$J$102,4,FALSE))","v":106},{"$f":"IF(ISNA(VLOOKUP(C663,BDDG!$A$2:$F$100,5,FALSE)),\"\",VLOOKUP(C663,BDDG!$A$2:$F$100,5,FALSE))","v":"A3"},{"$f":"IF(ISNA(VLOOKUP(C663,BDDG!$A$2:$F$100,6,FALSE)),\"\",VLOOKUP(C663,BDDG!$A$2:$F$100,6,FALSE))","v":"AA8"},{"$f":"IF(ISERROR(VLOOKUP(C663,BDDG!$A$2:$G$100,7,FALSE)),\"\",VLOOKUP(C663,BDDG!$A$2:$G$100,7,FALSE))","v":1},{"$f":"IF(ISERROR(VLOOKUP(C663,BDDG!$A$2:$H$100,8,FALSE)),\"\",VLOOKUP(C663,BDDG!$A$2:$H$100,8,FALSE))","v":"BB8"},10,8,108,{"$f":"IF(ISERROR(VLOOKUP(C663,BDDG!$A$2:$I$100,9,FALSE)),\"\",VLOOKUP(C663,BDDG!$A$2:$I$100,9,FALSE))","v":"CC8"},null,null,{"$f":" IF(ISERROR(O663/P663*86.4),\"\",O663/P663*86.4)","v":""},{"$f":"IF(ISERROR(VLOOKUP(C663,BDDG!$A$2:$J$100,10,FALSE)),\"\",VLOOKUP(C663,BDDG!$A$2:$J$100,10,FALSE))","v":"DD8"},null,null,"",108,4,2013,{"$f":"IFERROR(INDEX($V$2:V663,MATCH(H663&MAX(IF($H$1:H662=H663,$A$1:A662)),$H$2:H663&$A$2:A663,0))-V663,\"\")","v":-97.714285714285708}]
["2013-04-18",null,837,{"$f":"IF(ISNA(VLOOKUP(C664,BDDG!$A$2:$F$100,2,FALSE)),\"\",VLOOKUP(C664,BDDG!$A$2:$F$100,2,FALSE))","v":0},{"$f":"IF(ISNA(VLOOKUP(C664,BDDG!$A$3:$J$102,3,FALSE)),\"\",VLOOKUP(C664,BDDG!$A$3:$J$102,3,FALSE))","v":"A"},{"$f":"IF(ISNA(VLOOKUP(C664,BDDG!$A$3:$J$102,4,FALSE)),\"\",VLOOKUP(C664,BDDG!$A$3:$J$102,4,FALSE))","v":106},{"$f":"IF(ISNA(VLOOKUP(C664,BDDG!$A$2:$F$100,5,FALSE)),\"\",VLOOKUP(C664,BDDG!$A$2:$F$100,5,FALSE))","v":"A3"},{"$f":"IF(ISNA(VLOOKUP(C664,BDDG!$A$2:$F$100,6,FALSE)),\"\",VLOOKUP(C664,BDDG!$A$2:$F$100,6,FALSE))","v":"AA7"},{"$f":"IF(ISERROR(VLOOKUP(C664,BDDG!$A$2:$G$100,7,FALSE)),\"\",VLOOKUP(C664,BDDG!$A$2:$G$100,7,FALSE))","v":1},{"$f":"IF(ISERROR(VLOOKUP(C664,BDDG!$A$2:$H$100,8,FALSE)),\"\",VLOOKUP(C664,BDDG!$A$2:$H$100,8,FALSE))","v":"BB7"},10,8,108,{"$f":"IF(ISERROR(VLOOKUP(C664,BDDG!$A$2:$I$100,9,FALSE)),\"\",VLOOKUP(C664,BDDG!$A$2:$I$100,9,FALSE))","v":"CC7"},null,null,"",{"$f":"IF(ISERROR(VLOOKUP(C664,BDDG!$A$2:$J$100,10,FALSE)),\"\",VLOOKUP(C664,BDDG!$A$2:$J$100,10,FALSE))","v":"DD7"},null,null,"",108,4,2013,{"$f":"IFERROR(INDEX($V$2:V664,MATCH(H664&MAX(IF($H$1:H663=H664,$A$1:A663)),$H$2:H664&$A$2:A664,0))-V664,\"\")","v":-97.714285714285708}]
["2013-04-18",null,836,{"$f":"IF(ISNA(VLOOKUP(C665,BDDG!$A$2:$F$100,2,FALSE)),\"\",VLOOKUP(C665,BDDG!$A$2:$F$100,2,FALSE))","v":0},{"$f":"IF(ISNA(VLOOKUP(C665,BDDG!$A$3:$J$102,3,FALSE)),\"\",VLOOKUP(C665,BDDG!$A$3:$J$102,3,FALSE))","v":"A"},{"$f":"IF(ISNA(VLOOKUP(C665,BDDG!$A$3:$J$102,4,FALSE)),\"\",VLOOKUP(C665,BDDG!$A$3:$J$102,4,FALSE))","v":106},{"$f":"IF(ISNA(VLOOKUP(C665,BDDG!$A$2:$F$100,5,FALSE)),\"\",VLOOKUP(C665,BDDG!$A$2:$F$100,5,FALSE))","v":"A3"},{"$f":"IF(ISNA(VLOOKUP(C665,BDDG!$A$2:$F$100,6,FALSE)),\"\",VLOOKUP(C665,BDDG!$A$2:$F$100,6,FALSE))","v":"AA6"},{"$f":"IF(ISERROR(VLOOKUP(C665,BDDG!$A$2:$G$100,7,FALSE)),\"\",VLOOKUP(C665,BDDG!$A$2:$G$100,7,FALSE))","v":1},{"$f":"IF(ISERROR(VLOOKUP(C665,BDDG!$A$2:$H$100,8,FALSE)),\"\",VLOOKUP(C665,BDDG!$A$2:$H$100,8,FALSE))","v":"BB6"},10,5,172.8,{"$f":"IF(ISERROR(VLOOKUP(C665,BDDG!$A$2:$I$100,9,FALSE)),\"\",VLOOKUP(C665,BDDG!$A$2:$I$100,9,FALSE))","v":"CC6"},null,null,"",{"$f":"IF(ISERROR(VLOOKUP(C665,BDDG!$A$2:$J$100,10,FALSE)),\"\",VLOOKUP(C665,BDDG!$A$2:$J$100,10,FALSE))","v":"DD6"},null,null,"",172.8,4,2013,{"$f":"IFERROR(INDEX($V$2:V665,MATCH(H665&MAX(IF($H$1:H664=H665,$A$1:A664)),$H$2:H665&$A$2:A665,0))-V665,\"\")","v":-157.14782608695654}]
["2013-04-18",null,855,{"$f":"IF(ISNA(VLOOKUP(C666,BDDG!$A$2:$F$100,2,FALSE)),\"\",VLOOKUP(C666,BDDG!$A$2:$F$100,2,FALSE))","v":0},{"$f":"IF(ISNA(VLOOKUP(C666,BDDG!$A$3:$J$102,3,FALSE)),\"\",VLOOKUP(C666,BDDG!$A$3:$J$102,3,FALSE))","v":"A"},{"$f":"IF(ISNA(VLOOKUP(C666,BDDG!$A$3:$J$102,4,FALSE)),\"\",VLOOKUP(C666,BDDG!$A$3:$J$102,4,FALSE))","v":106},{"$f":"IF(ISNA(VLOOKUP(C666,BDDG!$A$2:$F$100,5,FALSE)),\"\",VLOOKUP(C666,BDDG!$A$2:$F$100,5,FALSE))","v":"A9"},{"$f":"IF(ISNA(VLOOKUP(C666,BDDG!$A$2:$F$100,6,FALSE)),\"\",VLOOKUP(C666,BDDG!$A$2:$F$100,6,FALSE))","v":"AA26"},{"$f":"IF(ISERROR(VLOOKUP(C666,BDDG!$A$2:$G$100,7,FALSE)),\"\",VLOOKUP(C666,BDDG!$A$2:$G$100,7,FALSE))","v":2},{"$f":"IF(ISERROR(VLOOKUP(C666,BDDG!$A$2:$H$100,8,FALSE)),\"\",VLOOKUP(C666,BDDG!$A$2:$H$100,8,FALSE))","v":"BB26"},10,2,432,{"$f":"IF(ISERROR(VLOOKUP(C666,BDDG!$A$2:$I$100,9,FALSE)),\"\",VLOOKUP(C666,BDDG!$A$2:$I$100,9,FALSE))","v":"CC26"},10,8,108,{"$f":"IF(ISERROR(VLOOKUP(C666,BDDG!$A$2:$J$100,10,FALSE)),\"\",VLOOKUP(C666,BDDG!$A$2:$J$100,10,FALSE))","v":"DD26"},null,null,"",540,4,2013,{"$f":"IFERROR(INDEX($V$2:V666,MATCH(H666&MAX(IF($H$1:H665=H666,$A$1:A665)),$H$2:H666&$A$2:A666,0))-V666,\"\")","v":-453.6}]
["2013-04-18",null,856,{"$f":"IF(ISNA(VLOOKUP(C667,BDDG!$A$2:$F$100,2,FALSE)),\"\",VLOOKUP(C667,BDDG!$A$2:$F$100,2,FALSE))","v":0},{"$f":"IF(ISNA(VLOOKUP(C667,BDDG!$A$3:$J$102,3,FALSE)),\"\",VLOOKUP(C667,BDDG!$A$3:$J$102,3,FALSE))","v":"A"},{"$f":"IF(ISNA(VLOOKUP(C667,BDDG!$A$3:$J$102,4,FALSE)),\"\",VLOOKUP(C667,BDDG!$A$3:$J$102,4,FALSE))","v":106},{"$f":"IF(ISNA(VLOOKUP(C667,BDDG!$A$2:$F$100,5,FALSE)),\"\",VLOOKUP(C667,BDDG!$A$2:$F$100,5,FALSE))","v":"A9"},{"$f":"IF(ISNA(VLOOKUP(C667,BDDG!$A$2:$F$100,6,FALSE)),\"\",VLOOKUP(C667,BDDG!$A$2:$F$100,6,FALSE))","v":"AA27"},{"$f":"IF(ISERROR(VLOOKUP(C667,BDDG!$A$2:$G$100,7,FALSE)),\"\",VLOOKUP(C667,BDDG!$A$2:$G$100,7,FALSE))","v":2},{"$f":"IF(ISERROR(VLOOKUP(C667,BDDG!$A$2:$H$100,8,FALSE)),\"\",VLOOKUP(C667,BDDG!$A$2:$H$100,8,FALSE))","v":"BB27"},10,10,86.4,{"$f":"IF(ISERROR(VLOOKUP(C667,BDDG!$A$2:$I$100,9,FALSE)),\"\",VLOOKUP(C667,BDDG!$A$2:$I$100,9,FALSE))","v":"CC27"},10,1,864,{"$f":"IF(ISERROR(VLOOKUP(C667,BDDG!$A$2:$J$100,10,FALSE)),\"\",VLOOKUP(C667,BDDG!$A$2:$J$100,10,FALSE))","v":"DD27"},null,null,"",950.4,4,2013,{"$f":"IFERROR(INDEX($V$2:V667,MATCH(H667&MAX(IF($H$1:H666=H667,$A$1:A666)),$H$2:H667&$A$2:A667,0))-V667,\"\")","v":-839.31428571428569}]
["2013-04-18",null,835,{"$f":"IF(ISNA(VLOOKUP(C668,BDDG!$A$2:$F$100,2,FALSE)),\"\",VLOOKUP(C668,BDDG!$A$2:$F$100,2,FALSE))","v":0},{"$f":"IF(ISNA(VLOOKUP(C668,BDDG!$A$3:$J$102,3,FALSE)),\"\",VLOOKUP(C668,BDDG!$A$3:$J$102,3,FALSE))","v":"A"},{"$f":"IF(ISNA(VLOOKUP(C668,BDDG!$A$3:$J$102,4,FALSE)),\"\",VLOOKUP(C668,BDDG!$A$3:$J$102,4,FALSE))","v":106},{"$f":"IF(ISNA(VLOOKUP(C668,BDDG!$A$2:$F$100,5,FALSE)),\"\",VLOOKUP(C668,BDDG!$A$2:$F$100,5,FALSE))","v":"A3"},{"$f":"IF(ISNA(VLOOKUP(C668,BDDG!$A$2:$F$100,6,FALSE)),\"\",VLOOKUP(C668,BDDG!$A$2:$F$100,6,FALSE))","v":"AA5"},{"$f":"IF(ISERROR(VLOOKUP(C668,BDDG!$A$2:$G$100,7,FALSE)),\"\",VLOOKUP(C668,BDDG!$A$2:$G$100,7,FALSE))","v":1},{"$f":"IF(ISERROR(VLOOKUP(C668,BDDG!$A$2:$H$100,8,FALSE)),\"\",VLOOKUP(C668,BDDG!$A$2:$H$100,8,FALSE))","v":"BB5"},10,160,5.4,{"$f":"IF(ISERROR(VLOOKUP(C668,BDDG!$A$2:$I$100,9,FALSE)),\"\",VLOOKUP(C668,BDDG!$A$2:$I$100,9,FALSE))","v":"CC5"},null,null,"",{"$f":"IF(ISERROR(VLOOKUP(C668,BDDG!$A$2:$J$100,10,FALSE)),\"\",VLOOKUP(C668,BDDG!$A$2:$J$100,10,FALSE))","v":"DD5"},null,null,{"$f":" IF(ISERROR(S668/T668*86.4),\"\",S668/T668*86.4)","v":""},5.4,4,2013,{"$f":"IFERROR(INDEX($V$2:V668,MATCH(H668&MAX(IF($H$1:H667=H668,$A$1:A667)),$H$2:H668&$A$2:A668,0))-V668,\"\")","v":-1.08}]
["2013-05-13",null,842,{"$f":"IF(ISNA(VLOOKUP(C669,BDDG!$A$2:$F$100,2,FALSE)),\"\",VLOOKUP(C669,BDDG!$A$2:$F$100,2,FALSE))","v":0},{"$f":"IF(ISNA(VLOOKUP(C669,BDDG!$A$3:$J$102,3,FALSE)),\"\",VLOOKUP(C669,BDDG!$A$3:$J$102,3,FALSE))","v":"B"},{"$f":"IF(ISNA(VLOOKUP(C669,BDDG!$A$3:$J$102,4,FALSE)),\"\",VLOOKUP(C669,BDDG!$A$3:$J$102,4,FALSE))","v":106},{"$f":"IF(ISNA(VLOOKUP(C669,BDDG!$A$2:$F$100,5,FALSE)),\"\",VLOOKUP(C669,BDDG!$A$2:$F$100,5,FALSE))","v":"A5"},{"$f":"IF(ISNA(VLOOKUP(C669,BDDG!$A$2:$F$100,6,FALSE)),\"\",VLOOKUP(C669,BDDG!$A$2:$F$100,6,FALSE))","v":"AA13"},{"$f":"IF(ISERROR(VLOOKUP(C669,BDDG!$A$2:$G$100,7,FALSE)),\"\",VLOOKUP(C669,BDDG!$A$2:$G$100,7,FALSE))","v":1},{"$f":"IF(ISERROR(VLOOKUP(C669,BDDG!$A$2:$H$100,8,FALSE)),\"\",VLOOKUP(C669,BDDG!$A$2:$H$100,8,FALSE))","v":"BB13"},10,10,{"$f":" IF(ISERROR(K669/L669*86.4),\"\",K669/L669*86.4)","v":86.4},{"$f":"IF(ISERROR(VLOOKUP(C669,BDDG!$A$2:$I$100,9,FALSE)),\"\",VLOOKUP(C669,BDDG!$A$2:$I$100,9,FALSE))","v":"CC13"},null,null,"",{"$f":"IF(ISERROR(VLOOKUP(C669,BDDG!$A$2:$J$100,10,FALSE)),\"\",VLOOKUP(C669,BDDG!$A$2:$J$100,10,FALSE))","v":"DD13"},null,null,"",86.4,5,2013,{"$f":"IFERROR(INDEX($V$2:V669,MATCH(H669&MAX(IF($H$1:H668=H669,$A$1:A668)),$H$2:H669&$A$2:A669,0))-V669,\"\")","v":-72}]
["2013-05-13",null,848,{"$f":"IF(ISNA(VLOOKUP(C670,BDDG!$A$2:$F$100,2,FALSE)),\"\",VLOOKUP(C670,BDDG!$A$2:$F$100,2,FALSE))","v":0},{"$f":"IF(ISNA(VLOOKUP(C670,BDDG!$A$3:$J$102,3,FALSE)),\"\",VLOOKUP(C670,BDDG!$A$3:$J$102,3,FALSE))","v":"B"},{"$f":"IF(ISNA(VLOOKUP(C670,BDDG!$A$3:$J$102,4,FALSE)),\"\",VLOOKUP(C670,BDDG!$A$3:$J$102,4,FALSE))","v":106},{"$f":"IF(ISNA(VLOOKUP(C670,BDDG!$A$2:$F$100,5,FALSE)),\"\",VLOOKUP(C670,BDDG!$A$2:$F$100,5,FALSE))","v":"A7"},{"$f":"IF(ISNA(VLOOKUP(C670,BDDG!$A$2:$F$100,6,FALSE)),\"\",VLOOKUP(C670,BDDG!$A$2:$F$100,6,FALSE))","v":"AA19"},{"$f":"IF(ISERROR(VLOOKUP(C670,BDDG!$A$2:$G$100,7,FALSE)),\"\",VLOOKUP(C670,BDDG!$A$2:$G$100,7,FALSE))","v":2},{"$f":"IF(ISERROR(VLOOKUP(C670,BDDG!$A$2:$H$100,8,FALSE)),\"\",VLOOKUP(C670,BDDG!$A$2:$H$100,8,FALSE))","v":"BB19"},10,9,96.000000000000014,{"$f":"IF(ISERROR(VLOOKUP(C670,BDDG!$A$2:$I$100,9,FALSE)),\"\",VLOOKUP(C670,BDDG!$A$2:$I$100,9,FALSE))","v":"CC19"},null,null,"",{"$f":"IF(ISERROR(VLOOKUP(C670,BDDG!$A$2:$J$100,10,FALSE)),\"\",VLOOKUP(C670,BDDG!$A$2:$J$100,10,FALSE))","v":"DD19"},null,null,"",96.000000000000014,5,2013,{"$f":"IFERROR(INDEX($V$2:V670,MATCH(H670&MAX(IF($H$1:H669=H670,$A$1:A669)),$H$2:H670&$A$2:A670,0))-V670,\"\")","v":-84.082758620689674}]
["2013-05-13",null,847,{"$f":"IF(ISNA(VLOOKUP(C671,BDDG!$A$2:$F$100,2,FALSE)),\"\",VLOOKUP(C671,BDDG!$A$2:$F$100,2,FALSE))","v":0},{"$f":"IF(ISNA(VLOOKUP(C671,BDDG!$A$3:$J$102,3,FALSE)),\"\",VLOOKUP(C671,BDDG!$A$3:$J$102,3,FALSE))","v":"B"},{"$f":"IF(ISNA(VLOOKUP(C671,BDDG!$A$3:$J$102,4,FALSE)),\"\",VLOOKUP(C671,BDDG!$A$3:$J$102,4,FALSE))","v":106},{"$f":"IF(ISNA(VLOOKUP(C671,BDDG!$A$2:$F$100,5,FALSE)),\"\",VLOOKUP(C671,BDDG!$A$2:$F$100,5,FALSE))","v":"A7"},{"$f":"IF(ISNA(VLOOKUP(C671,BDDG!$A$2:$F$100,6,FALSE)),\"\",VLOOKUP(C671,BDDG!$A$2:$F$100,6,FALSE))","v":"AA18"},{"$f":"IF(ISERROR(VLOOKUP(C671,BDDG!$A$2:$G$100,7,FALSE)),\"\",VLOOKUP(C671,BDDG!$A$2:$G$100,7,FALSE))","v":2},{"$f":"IF(ISERROR(VLOOKUP(C671,BDDG!$A$2:$H$100,8,FALSE)),\"\",VLOOKUP(C671,BDDG!$A$2:$H$100,8,FALSE))","v":"BB18"},10,9,96.000000000000014,{"$f":"IF(ISERROR(VLOOKUP(C671,BDDG!$A$2:$I$100,9,FALSE)),\"\",VLOOKUP(C671,BDDG!$A$2:$I$100,9,FALSE))","v":"CC18"},10,25,34.56,{"$f":"IF(ISERROR(VLOOKUP(C671,BDDG!$A$2:$J$100,10,FALSE)),\"\",VLOOKUP(C671,BDDG!$A$2:$J$100,10,FALSE))","v":"DD18"},null,null,"",130.56,5,2013,{"$f":"IFERROR(INDEX($V$2:V671,MATCH(H671&MAX(IF($H$1:H670=H671,$A$1:A670)),$H$2:H671&$A$2:A671,0))-V671,\"\")","v":-102.18561576354679}]
["2013-05-13",null,849,{"$f":"IF(ISNA(VLOOKUP(C672,BDDG!$A$2:$F$100,2,FALSE)),\"\",VLOOKUP(C672,BDDG!$A$2:$F$100,2,FALSE))","v":0},{"$f":"IF(ISNA(VLOOKUP(C672,BDDG!$A$3:$J$102,3,FALSE)),\"\",VLOOKUP(C672,BDDG!$A$3:$J$102,3,FALSE))","v":"B"},{"$f":"IF(ISNA(VLOOKUP(C672,BDDG!$A$3:$J$102,4,FALSE)),\"\",VLOOKUP(C672,BDDG!$A$3:$J$102,4,FALSE))","v":106},{"$f":"IF(ISNA(VLOOKUP(C672,BDDG!$A$2:$F$100,5,FALSE)),\"\",VLOOKUP(C672,BDDG!$A$2:$F$100,5,FALSE))","v":"A7"},{"$f":"IF(ISNA(VLOOKUP(C672,BDDG!$A$2:$F$100,6,FALSE)),\"\",VLOOKUP(C672,BDDG!$A$2:$F$100,6,FALSE))","v":"AA15"},{"$f":"IF(ISERROR(VLOOKUP(C672,BDDG!$A$2:$G$100,7,FALSE)),\"\",VLOOKUP(C672,BDDG!$A$2:$G$100,7,FALSE))","v":2},{"$f":"IF(ISERROR(VLOOKUP(C672,BDDG!$A$2:$H$100,8,FALSE)),\"\",VLOOKUP(C672,BDDG!$A$2:$H$100,8,FALSE))","v":"BB15"},10,9,96.000000000000014,{"$f":"IF(ISERROR(VLOOKUP(C672,BDDG!$A$2:$I$100,9,FALSE)),\"\",VLOOKUP(C672,BDDG!$A$2:$I$100,9,FALSE))","v":"CC15"},10,8,108,{"$f":"IF(ISERROR(VLOOKUP(C672,BDDG!$A$2:$J$100,10,FALSE)),\"\",VLOOKUP(C672,BDDG!$A$2:$J$100,10,FALSE))","v":"DD15"},null,null,"",204,5,2013,{"$f":"IFERROR(INDEX($V$2:V672,MATCH(H672&MAX(IF($H$1:H671=H672,$A$1:A671)),$H$2:H672&$A$2:A672,0))-V672,\"\")","v":-173.4276923076923}]
["2013-06-14",null,862,{"$f":"IF(ISNA(VLOOKUP(C673,BDDG!$A$2:$F$100,2,FALSE)),\"\",VLOOKUP(C673,BDDG!$A$2:$F$100,2,FALSE))","v":0},{"$f":"IF(ISNA(VLOOKUP(C673,BDDG!$A$3:$J$102,3,FALSE)),\"\",VLOOKUP(C673,BDDG!$A$3:$J$102,3,FALSE))","v":"A"},{"$f":"IF(ISNA(VLOOKUP(C673,BDDG!$A$3:$J$102,4,FALSE)),\"\",VLOOKUP(C673,BDDG!$A$3:$J$102,4,FALSE))","v":106},{"$f":"IF(ISNA(VLOOKUP(C673,BDDG!$A$2:$F$100,5,FALSE)),\"\",VLOOKUP(C673,BDDG!$A$2:$F$100,5,FALSE))","v":"A12"},{"$f":"IF(ISNA(VLOOKUP(C673,BDDG!$A$2:$F$100,6,FALSE)),\"\",VLOOKUP(C673,BDDG!$A$2:$F$100,6,FALSE))","v":"AA34"},{"$f":"IF(ISERROR(VLOOKUP(C673,BDDG!$A$2:$G$100,7,FALSE)),\"\",VLOOKUP(C673,BDDG!$A$2:$G$100,7,FALSE))","v":1},{"$f":"IF(ISERROR(VLOOKUP(C673,BDDG!$A$2:$H$100,8,FALSE)),\"\",VLOOKUP(C673,BDDG!$A$2:$H$100,8,FALSE))","v":"BB34"},10,12,72.000000000000014,{"$f":"IF(ISERROR(VLOOKUP(C673,BDDG!$A$2:$I$100,9,FALSE)),\"\",VLOOKUP(C673,BDDG!$A$2:$I$100,9,FALSE))","v":"CC34"},null,null,"",{"$f":"IF(ISERROR(VLOOKUP(C673,BDDG!$A$2:$J$100,10,FALSE)),\"\",VLOOKUP(C673,BDDG!$A$2:$J$100,10,FALSE))","v":"DD34"},null,null,"",72.000000000000014,6,2013,{"$f":"IFERROR(INDEX($V$2:V673,MATCH(H673&MAX(IF($H$1:H672=H673,$A$1:A672)),$H$2:H673&$A$2:A673,0))-V673,\"\")","v":6.5454545454545325}]
["2013-06-14",null,860,{"$f":"IF(ISNA(VLOOKUP(C674,BDDG!$A$2:$F$100,2,FALSE)),\"\",VLOOKUP(C674,BDDG!$A$2:$F$100,2,FALSE))","v":0},{"$f":"IF(ISNA(VLOOKUP(C674,BDDG!$A$3:$J$102,3,FALSE)),\"\",VLOOKUP(C674,BDDG!$A$3:$J$102,3,FALSE))","v":"A"},{"$f":"IF(ISNA(VLOOKUP(C674,BDDG!$A$3:$J$102,4,FALSE)),\"\",VLOOKUP(C674,BDDG!$A$3:$J$102,4,FALSE))","v":106},{"$f":"IF(ISNA(VLOOKUP(C674,BDDG!$A$2:$F$100,5,FALSE)),\"\",VLOOKUP(C674,BDDG!$A$2:$F$100,5,FALSE))","v":"A11"},{"$f":"IF(ISNA(VLOOKUP(C674,BDDG!$A$2:$F$100,6,FALSE)),\"\",VLOOKUP(C674,BDDG!$A$2:$F$100,6,FALSE))","v":"AA32"},{"$f":"IF(ISERROR(VLOOKUP(C674,BDDG!$A$2:$G$100,7,FALSE)),\"\",VLOOKUP(C674,BDDG!$A$2:$G$100,7,FALSE))","v":2},{"$f":"IF(ISERROR(VLOOKUP(C674,BDDG!$A$2:$H$100,8,FALSE)),\"\",VLOOKUP(C674,BDDG!$A$2:$H$100,8,FALSE))","v":"BB32"},10,12,72.000000000000014,{"$f":"IF(ISERROR(VLOOKUP(C674,BDDG!$A$2:$I$100,9,FALSE)),\"\",VLOOKUP(C674,BDDG!$A$2:$I$100,9,FALSE))","v":"CC32"},null,null,"",{"$f":"IF(ISERROR(VLOOKUP(C674,BDDG!$A$2:$J$100,10,FALSE)),\"\",VLOOKUP(C674,BDDG!$A$2:$J$100,10,FALSE))","v":"DD32"},null,null,"",72.000000000000014,6,2013,{"$f":"IFERROR(INDEX($V$2:V674,MATCH(H674&MAX(IF($H$1:H673=H674,$A$1:A673)),$H$2:H674&$A$2:A674,0))-V674,\"\")","v":-37.440000000000012}]
["2013-06-14",null,861,{"$f":"IF(ISNA(VLOOKUP(C675,BDDG!$A$2:$F$100,2,FALSE)),\"\",VLOOKUP(C675,BDDG!$A$2:$F$100,2,FALSE))","v":0},{"$f":"IF(ISNA(VLOOKUP(C675,BDDG!$A$3:$J$102,3,FALSE)),\"\",VLOOKUP(C675,BDDG!$A$3:$J$102,3,FALSE))","v":"A"},{"$f":"IF(ISNA(VLOOKUP(C675,BDDG!$A$3:$J$102,4,FALSE)),\"\",VLOOKUP(C675,BDDG!$A$3:$J$102,4,FALSE))","v":106},{"$f":"IF(ISNA(VLOOKUP(C675,BDDG!$A$2:$F$100,5,FALSE)),\"\",VLOOKUP(C675,BDDG!$A$2:$F$100,5,FALSE))","v":"A11"},{"$f":"IF(ISNA(VLOOKUP(C675,BDDG!$A$2:$F$100,6,FALSE)),\"\",VLOOKUP(C675,BDDG!$A$2:$F$100,6,FALSE))","v":"AA33"},{"$f":"IF(ISERROR(VLOOKUP(C675,BDDG!$A$2:$G$100,7,FALSE)),\"\",VLOOKUP(C675,BDDG!$A$2:$G$100,7,FALSE))","v":2},{"$f":"IF(ISERROR(VLOOKUP(C675,BDDG!$A$2:$H$100,8,FALSE)),\"\",VLOOKUP(C675,BDDG!$A$2:$H$100,8,FALSE))","v":"BB33"},null,null,null,{"$f":"IF(ISERROR(VLOOKUP(C675,BDDG!$A$2:$I$100,9,FALSE)),\"\",VLOOKUP(C675,BDDG!$A$2:$I$100,9,FALSE))","v":"CC33"},10,3,288.00000000000006,{"$f":"IF(ISERROR(VLOOKUP(C675,BDDG!$A$2:$J$100,10,FALSE)),\"\",VLOOKUP(C675,BDDG!$A$2:$J$100,10,FALSE))","v":"DD33"},null,null,"",{"$f":"IF(ISERROR(SUM(M675,Q675,U675)),\"\",SUM((M675,Q675,U675)))","v":288.00000000000006},6,2013,{"$f":"IFERROR(INDEX($V$2:V675,MATCH(H675&MAX(IF($H$1:H674=H675,$A$1:A674)),$H$2:H675&$A$2:A675,0))-V675,\"\")","v":-115.20000000000005}]
["2013-06-19",null,832,{"$f":"IF(ISNA(VLOOKUP(C676,BDDG!$A$2:$F$100,2,FALSE)),\"\",VLOOKUP(C676,BDDG!$A$2:$F$100,2,FALSE))","v":0},{"$f":"IF(ISNA(VLOOKUP(C676,BDDG!$A$3:$J$102,3,FALSE)),\"\",VLOOKUP(C676,BDDG!$A$3:$J$102,3,FALSE))","v":"A"},{"$f":"IF(ISNA(VLOOKUP(C676,BDDG!$A$3:$J$102,4,FALSE)),\"\",VLOOKUP(C676,BDDG!$A$3:$J$102,4,FALSE))","v":106},{"$f":"IF(ISNA(VLOOKUP(C676,BDDG!$A$2:$F$100,5,FALSE)),\"\",VLOOKUP(C676,BDDG!$A$2:$F$100,5,FALSE))","v":"A2"},{"$f":"IF(ISNA(VLOOKUP(C676,BDDG!$A$2:$F$100,6,FALSE)),\"\",VLOOKUP(C676,BDDG!$A$2:$F$100,6,FALSE))","v":"AA2"},{"$f":"IF(ISERROR(VLOOKUP(C676,BDDG!$A$2:$G$100,7,FALSE)),\"\",VLOOKUP(C676,BDDG!$A$2:$G$100,7,FALSE))","v":1},{"$f":"IF(ISERROR(VLOOKUP(C676,BDDG!$A$2:$H$100,8,FALSE)),\"\",VLOOKUP(C676,BDDG!$A$2:$H$100,8,FALSE))","v":"BB2"},10,7,{"$f":" IF(ISERROR(K676/L676*86.4),\"\",K676/L676*86.4)","v":123.42857142857144},{"$f":"IF(ISERROR(VLOOKUP(C676,BDDG!$A$2:$I$100,9,FALSE)),\"\",VLOOKUP(C676,BDDG!$A$2:$I$100,9,FALSE))","v":"CC2"},null,null,"",{"$f":"IF(ISERROR(VLOOKUP(C676,BDDG!$A$2:$J$100,10,FALSE)),\"\",VLOOKUP(C676,BDDG!$A$2:$J$100,10,FALSE))","v":"DD2"},null,null,"",{"$f":"IF(ISERROR(SUM(M676,Q676,U676)),\"\",SUM(M676,Q676,U676))","v":123.42857142857144},6,2013,{"$f":"IFERROR(INDEX($V$2:V676,MATCH(H676&MAX(IF($H$1:H675=H676,$A$1:A675)),$H$2:H676&$A$2:A676,0))-V676,\"\")","v":49.371428571428567}]
["2013-06-19",null,833,{"$f":"IF(ISNA(VLOOKUP(C677,BDDG!$A$2:$F$100,2,FALSE)),\"\",VLOOKUP(C677,BDDG!$A$2:$F$100,2,FALSE))","v":0},{"$f":"IF(ISNA(VLOOKUP(C677,BDDG!$A$3:$J$102,3,FALSE)),\"\",VLOOKUP(C677,BDDG!$A$3:$J$102,3,FALSE))","v":"A"},{"$f":"IF(ISNA(VLOOKUP(C677,BDDG!$A$3:$J$102,4,FALSE)),\"\",VLOOKUP(C677,BDDG!$A$3:$J$102,4,FALSE))","v":106},{"$f":"IF(ISNA(VLOOKUP(C677,BDDG!$A$2:$F$100,5,FALSE)),\"\",VLOOKUP(C677,BDDG!$A$2:$F$100,5,FALSE))","v":"A2"},{"$f":"IF(ISNA(VLOOKUP(C677,BDDG!$A$2:$F$100,6,FALSE)),\"\",VLOOKUP(C677,BDDG!$A$2:$F$100,6,FALSE))","v":"AA3"},{"$f":"IF(ISERROR(VLOOKUP(C677,BDDG!$A$2:$G$100,7,FALSE)),\"\",VLOOKUP(C677,BDDG!$A$2:$G$100,7,FALSE))","v":1},{"$f":"IF(ISERROR(VLOOKUP(C677,BDDG!$A$2:$H$100,8,FALSE)),\"\",VLOOKUP(C677,BDDG!$A$2:$H$100,8,FALSE))","v":"BB3"},10,5,172.8,{"$f":"IF(ISERROR(VLOOKUP(C677,BDDG!$A$2:$I$100,9,FALSE)),\"\",VLOOKUP(C677,BDDG!$A$2:$I$100,9,FALSE))","v":"CC3"},null,null,"",{"$f":"IF(ISERROR(VLOOKUP(C677,BDDG!$A$2:$J$100,10,FALSE)),\"\",VLOOKUP(C677,BDDG!$A$2:$J$100,10,FALSE))","v":"DD3"},null,null,"",172.8,6,2013,{"$f":"IFERROR(INDEX($V$2:V677,MATCH(H677&MAX(IF($H$1:H676=H677,$A$1:A676)),$H$2:H677&$A$2:A677,0))-V677,\"\")","v":115.20000000000005}]
["2013-06-19",null,834,{"$f":"IF(ISNA(VLOOKUP(C678,BDDG!$A$2:$F$100,2,FALSE)),\"\",VLOOKUP(C678,BDDG!$A$2:$F$100,2,FALSE))","v":0},{"$f":"IF(ISNA(VLOOKUP(C678,BDDG!$A$3:$J$102,3,FALSE)),\"\",VLOOKUP(C678,BDDG!$A$3:$J$102,3,FALSE))","v":"A"},{"$f":"IF(ISNA(VLOOKUP(C678,BDDG!$A$3:$J$102,4,FALSE)),\"\",VLOOKUP(C678,BDDG!$A$3:$J$102,4,FALSE))","v":106},{"$f":"IF(ISNA(VLOOKUP(C678,BDDG!$A$2:$F$100,5,FALSE)),\"\",VLOOKUP(C678,BDDG!$A$2:$F$100,5,FALSE))","v":"A2"},{"$f":"IF(ISNA(VLOOKUP(C678,BDDG!$A$2:$F$100,6,FALSE)),\"\",VLOOKUP(C678,BDDG!$A$2:$F$100,6,FALSE))","v":"AA4"},{"$f":"IF(ISERROR(VLOOKUP(C678,BDDG!$A$2:$G$100,7,FALSE)),\"\",VLOOKUP(C678,BDDG!$A$2:$G$100,7,FALSE))","v":1},{"$f":"IF(ISERROR(VLOOKUP(C678,BDDG!$A$2:$H$100,8,FALSE)),\"\",VLOOKUP(C678,BDDG!$A$2:$H$100,8,FALSE))","v":"BB4"},10,90,9.6,{"$f":"IF(ISERROR(VLOOKUP(C678,BDDG!$A$2:$I$100,9,FALSE)),\"\",VLOOKUP(C678,BDDG!$A$2:$I$100,9,FALSE))","v":"CC4"},null,null,"",{"$f":"IF(ISERROR(VLOOKUP(C678,BDDG!$A$2:$J$100,10,FALSE)),\"\",VLOOKUP(C678,BDDG!$A$2:$J$100,10,FALSE))","v":"DD4"},null,null,"",9.6,6,2013,{"$f":"IFERROR(INDEX($V$2:V678,MATCH(H678&MAX(IF($H$1:H677=H678,$A$1:A677)),$H$2:H678&$A$2:A678,0))-V678,\"\")","v":4.8000000000000007}]
["2013-06-19",null,844,{"$f":"IF(ISNA(VLOOKUP(C679,BDDG!$A$2:$F$100,2,FALSE)),\"\",VLOOKUP(C679,BDDG!$A$2:$F$100,2,FALSE))","v":0},{"$f":"IF(ISNA(VLOOKUP(C679,BDDG!$A$3:$J$102,3,FALSE)),\"\",VLOOKUP(C679,BDDG!$A$3:$J$102,3,FALSE))","v":"B"},{"$f":"IF(ISNA(VLOOKUP(C679,BDDG!$A$3:$J$102,4,FALSE)),\"\",VLOOKUP(C679,BDDG!$A$3:$J$102,4,FALSE))","v":106},{"$f":"IF(ISNA(VLOOKUP(C679,BDDG!$A$2:$F$100,5,FALSE)),\"\",VLOOKUP(C679,BDDG!$A$2:$F$100,5,FALSE))","v":"A6"},{"$f":"IF(ISNA(VLOOKUP(C679,BDDG!$A$2:$F$100,6,FALSE)),\"\",VLOOKUP(C679,BDDG!$A$2:$F$100,6,FALSE))","v":"AA14"},{"$f":"IF(ISERROR(VLOOKUP(C679,BDDG!$A$2:$G$100,7,FALSE)),\"\",VLOOKUP(C679,BDDG!$A$2:$G$100,7,FALSE))","v":2},{"$f":"IF(ISERROR(VLOOKUP(C679,BDDG!$A$2:$H$100,8,FALSE)),\"\",VLOOKUP(C679,BDDG!$A$2:$H$100,8,FALSE))","v":"BB14"},10,14,61.714285714285722,{"$f":"IF(ISERROR(VLOOKUP(C679,BDDG!$A$2:$I$100,9,FALSE)),\"\",VLOOKUP(C679,BDDG!$A$2:$I$100,9,FALSE))","v":"CC14"},null,null,"",{"$f":"IF(ISERROR(VLOOKUP(C679,BDDG!$A$2:$J$100,10,FALSE)),\"\",VLOOKUP(C679,BDDG!$A$2:$J$100,10,FALSE))","v":"DD14"},null,null,"",61.714285714285722,6,2013,{"$f":"IFERROR(INDEX($V$2:V679,MATCH(H679&MAX(IF($H$1:H678=H679,$A$1:A678)),$H$2:H679&$A$2:A679,0))-V679,\"\")","v":-18.51428571428572}]
["2013-06-21",null,831,{"$f":"IF(ISNA(VLOOKUP(C680,BDDG!$A$2:$F$100,2,FALSE)),\"\",VLOOKUP(C680,BDDG!$A$2:$F$100,2,FALSE))","v":0},{"$f":"IF(ISNA(VLOOKUP(C680,BDDG!$A$3:$J$102,3,FALSE)),\"\",VLOOKUP(C680,BDDG!$A$3:$J$102,3,FALSE))","v":"A"},{"$f":"IF(ISNA(VLOOKUP(C680,BDDG!$A$3:$J$102,4,FALSE)),\"\",VLOOKUP(C680,BDDG!$A$3:$J$102,4,FALSE))","v":106},{"$f":"IF(ISNA(VLOOKUP(C680,BDDG!$A$2:$F$100,5,FALSE)),\"\",VLOOKUP(C680,BDDG!$A$2:$F$100,5,FALSE))","v":"A1"},{"$f":"IF(ISNA(VLOOKUP(C680,BDDG!$A$2:$F$100,6,FALSE)),\"\",VLOOKUP(C680,BDDG!$A$2:$F$100,6,FALSE))","v":"AA1"},{"$f":"IF(ISERROR(VLOOKUP(C680,BDDG!$A$2:$G$100,7,FALSE)),\"\",VLOOKUP(C680,BDDG!$A$2:$G$100,7,FALSE))","v":1},{"$f":"IF(ISERROR(VLOOKUP(C680,BDDG!$A$2:$H$100,8,FALSE)),\"\",VLOOKUP(C680,BDDG!$A$2:$H$100,8,FALSE))","v":"BB1"},10,12,72.000000000000014,{"$f":"IF(ISERROR(VLOOKUP(C680,BDDG!$A$2:$I$100,9,FALSE)),\"\",VLOOKUP(C680,BDDG!$A$2:$I$100,9,FALSE))","v":"CC1"},null,null,"",{"$f":"IF(ISERROR(VLOOKUP(C680,BDDG!$A$2:$J$100,10,FALSE)),\"\",VLOOKUP(C680,BDDG!$A$2:$J$100,10,FALSE))","v":"DD1"},null,null,"",72.000000000000014,6,2013,{"$f":"IFERROR(INDEX($V$2:V680,MATCH(H680&MAX(IF($H$1:H679=H680,$A$1:A679)),$H$2:H680&$A$2:A680,0))-V680,\"\")","v":24}]
["2013-06-26",null,838,{"$f":"IF(ISNA(VLOOKUP(C681,BDDG!$A$2:$F$100,2,FALSE)),\"\",VLOOKUP(C681,BDDG!$A$2:$F$100,2,FALSE))","v":0},{"$f":"IF(ISNA(VLOOKUP(C681,BDDG!$A$3:$J$102,3,FALSE)),\"\",VLOOKUP(C681,BDDG!$A$3:$J$102,3,FALSE))","v":"A"},{"$f":"IF(ISNA(VLOOKUP(C681,BDDG!$A$3:$J$102,4,FALSE)),\"\",VLOOKUP(C681,BDDG!$A$3:$J$102,4,FALSE))","v":106},{"$f":"IF(ISNA(VLOOKUP(C681,BDDG!$A$2:$F$100,5,FALSE)),\"\",VLOOKUP(C681,BDDG!$A$2:$F$100,5,FALSE))","v":"A3"},{"$f":"IF(ISNA(VLOOKUP(C681,BDDG!$A$2:$F$100,6,FALSE)),\"\",VLOOKUP(C681,BDDG!$A$2:$F$100,6,FALSE))","v":"AA8"},{"$f":"IF(ISERROR(VLOOKUP(C681,BDDG!$A$2:$G$100,7,FALSE)),\"\",VLOOKUP(C681,BDDG!$A$2:$G$100,7,FALSE))","v":1},{"$f":"IF(ISERROR(VLOOKUP(C681,BDDG!$A$2:$H$100,8,FALSE)),\"\",VLOOKUP(C681,BDDG!$A$2:$H$100,8,FALSE))","v":"BB8"},10,41,21.073170731707318,{"$f":"IF(ISERROR(VLOOKUP(C681,BDDG!$A$2:$I$100,9,FALSE)),\"\",VLOOKUP(C681,BDDG!$A$2:$I$100,9,FALSE))","v":"CC8"},null,null,"",{"$f":"IF(ISERROR(VLOOKUP(C681,BDDG!$A$2:$J$100,10,FALSE)),\"\",VLOOKUP(C681,BDDG!$A$2:$J$100,10,FALSE))","v":"DD8"},null,null,"",21.073170731707318,6,2013,{"$f":"IFERROR(INDEX($V$2:V681,MATCH(H681&MAX(IF($H$1:H680=H681,$A$1:A680)),$H$2:H681&$A$2:A681,0))-V681,\"\")","v":86.926829268292678}]
["2013-06-26",null,837,{"$f":"IF(ISNA(VLOOKUP(C682,BDDG!$A$2:$F$100,2,FALSE)),\"\",VLOOKUP(C682,BDDG!$A$2:$F$100,2,FALSE))","v":0},{"$f":"IF(ISNA(VLOOKUP(C682,BDDG!$A$3:$J$102,3,FALSE)),\"\",VLOOKUP(C682,BDDG!$A$3:$J$102,3,FALSE))","v":"A"},{"$f":"IF(ISNA(VLOOKUP(C682,BDDG!$A$3:$J$102,4,FALSE)),\"\",VLOOKUP(C682,BDDG!$A$3:$J$102,4,FALSE))","v":106},{"$f":"IF(ISNA(VLOOKUP(C682,BDDG!$A$2:$F$100,5,FALSE)),\"\",VLOOKUP(C682,BDDG!$A$2:$F$100,5,FALSE))","v":"A3"},{"$f":"IF(ISNA(VLOOKUP(C682,BDDG!$A$2:$F$100,6,FALSE)),\"\",VLOOKUP(C682,BDDG!$A$2:$F$100,6,FALSE))","v":"AA7"},{"$f":"IF(ISERROR(VLOOKUP(C682,BDDG!$A$2:$G$100,7,FALSE)),\"\",VLOOKUP(C682,BDDG!$A$2:$G$100,7,FALSE))","v":1},{"$f":"IF(ISERROR(VLOOKUP(C682,BDDG!$A$2:$H$100,8,FALSE)),\"\",VLOOKUP(C682,BDDG!$A$2:$H$100,8,FALSE))","v":"BB7"},10,41,21.073170731707318,{"$f":"IF(ISERROR(VLOOKUP(C682,BDDG!$A$2:$I$100,9,FALSE)),\"\",VLOOKUP(C682,BDDG!$A$2:$I$100,9,FALSE))","v":"CC7"},null,null,"",{"$f":"IF(ISERROR(VLOOKUP(C682,BDDG!$A$2:$J$100,10,FALSE)),\"\",VLOOKUP(C682,BDDG!$A$2:$J$100,10,FALSE))","v":"DD7"},null,null,"",21.073170731707318,6,2013,{"$f":"IFERROR(INDEX($V$2:V682,MATCH(H682&MAX(IF($H$1:H681=H682,$A$1:A681)),$H$2:H682&$A$2:A682,0))-V682,\"\")","v":86.926829268292678}]
["2013-06-26",null,836,{"$f":"IF(ISNA(VLOOKUP(C683,BDDG!$A$2:$F$100,2,FALSE)),\"\",VLOOKUP(C683,BDDG!$A$2:$F$100,2,FALSE))","v":0},{"$f":"IF(ISNA(VLOOKUP(C683,BDDG!$A$3:$J$102,3,FALSE)),\"\",VLOOKUP(C683,BDDG!$A$3:$J$102,3,FALSE))","v":"A"},{"$f":"IF(ISNA(VLOOKUP(C683,BDDG!$A$3:$J$102,4,FALSE)),\"\",VLOOKUP(C683,BDDG!$A$3:$J$102,4,FALSE))","v":106},{"$f":"IF(ISNA(VLOOKUP(C683,BDDG!$A$2:$F$100,5,FALSE)),\"\",VLOOKUP(C683,BDDG!$A$2:$F$100,5,FALSE))","v":"A3"},{"$f":"IF(ISNA(VLOOKUP(C683,BDDG!$A$2:$F$100,6,FALSE)),\"\",VLOOKUP(C683,BDDG!$A$2:$F$100,6,FALSE))","v":"AA6"},{"$f":"IF(ISERROR(VLOOKUP(C683,BDDG!$A$2:$G$100,7,FALSE)),\"\",VLOOKUP(C683,BDDG!$A$2:$G$100,7,FALSE))","v":1},{"$f":"IF(ISERROR(VLOOKUP(C683,BDDG!$A$2:$H$100,8,FALSE)),\"\",VLOOKUP(C683,BDDG!$A$2:$H$100,8,FALSE))","v":"BB6"},10,12,72.000000000000014,{"$f":"IF(ISERROR(VLOOKUP(C683,BDDG!$A$2:$I$100,9,FALSE)),\"\",VLOOKUP(C683,BDDG!$A$2:$I$100,9,FALSE))","v":"CC6"},null,null,"",{"$f":"IF(ISERROR(VLOOKUP(C683,BDDG!$A$2:$J$100,10,FALSE)),\"\",VLOOKUP(C683,BDDG!$A$2:$J$100,10,FALSE))","v":"DD6"},null,null,"",72.000000000000014,6,2013,{"$f":"IFERROR(INDEX($V$2:V683,MATCH(H683&MAX(IF($H$1:H682=H683,$A$1:A682)),$H$2:H683&$A$2:A683,0))-V683,\"\")","v":100.8}]
["2013-06-26",null,856,{"$f":"IF(ISNA(VLOOKUP(C684,BDDG!$A$2:$F$100,2,FALSE)),\"\",VLOOKUP(C684,BDDG!$A$2:$F$100,2,FALSE))","v":0},{"$f":"IF(ISNA(VLOOKUP(C684,BDDG!$A$3:$J$102,3,FALSE)),\"\",VLOOKUP(C684,BDDG!$A$3:$J$102,3,FALSE))","v":"A"},{"$f":"IF(ISNA(VLOOKUP(C684,BDDG!$A$3:$J$102,4,FALSE)),\"\",VLOOKUP(C684,BDDG!$A$3:$J$102,4,FALSE))","v":106},{"$f":"IF(ISNA(VLOOKUP(C684,BDDG!$A$2:$F$100,5,FALSE)),\"\",VLOOKUP(C684,BDDG!$A$2:$F$100,5,FALSE))","v":"A9"},{"$f":"IF(ISNA(VLOOKUP(C684,BDDG!$A$2:$F$100,6,FALSE)),\"\",VLOOKUP(C684,BDDG!$A$2:$F$100,6,FALSE))","v":"AA27"},{"$f":"IF(ISERROR(VLOOKUP(C684,BDDG!$A$2:$G$100,7,FALSE)),\"\",VLOOKUP(C684,BDDG!$A$2:$G$100,7,FALSE))","v":2},{"$f":"IF(ISERROR(VLOOKUP(C684,BDDG!$A$2:$H$100,8,FALSE)),\"\",VLOOKUP(C684,BDDG!$A$2:$H$100,8,FALSE))","v":"BB27"},10,30,28.8,{"$f":"IF(ISERROR(VLOOKUP(C684,BDDG!$A$2:$I$100,9,FALSE)),\"\",VLOOKUP(C684,BDDG!$A$2:$I$100,9,FALSE))","v":"CC27"},10,2.5,345.6,{"$f":"IF(ISERROR(VLOOKUP(C684,BDDG!$A$2:$J$100,10,FALSE)),\"\",VLOOKUP(C684,BDDG!$A$2:$J$100,10,FALSE))","v":"DD27"},null,null,"",374.40000000000003,6,2013,{"$f":"IFERROR(INDEX($V$2:V684,MATCH(H684&MAX(IF($H$1:H683=H684,$A$1:A683)),$H$2:H684&$A$2:A684,0))-V684,\"\")","v":576}]
["2013-06-26",null,852,{"$f":"IF(ISNA(VLOOKUP(C685,BDDG!$A$2:$F$100,2,FALSE)),\"\",VLOOKUP(C685,BDDG!$A$2:$F$100,2,FALSE))","v":0},{"$f":"IF(ISNA(VLOOKUP(C685,BDDG!$A$3:$J$102,3,FALSE)),\"\",VLOOKUP(C685,BDDG!$A$3:$J$102,3,FALSE))","v":"A"},{"$f":"IF(ISNA(VLOOKUP(C685,BDDG!$A$3:$J$102,4,FALSE)),\"\",VLOOKUP(C685,BDDG!$A$3:$J$102,4,FALSE))","v":106},{"$f":"IF(ISNA(VLOOKUP(C685,BDDG!$A$2:$F$100,5,FALSE)),\"\",VLOOKUP(C685,BDDG!$A$2:$F$100,5,FALSE))","v":"A9"},{"$f":"IF(ISNA(VLOOKUP(C685,BDDG!$A$2:$F$100,6,FALSE)),\"\",VLOOKUP(C685,BDDG!$A$2:$F$100,6,FALSE))","v":"AA22"},{"$f":"IF(ISERROR(VLOOKUP(C685,BDDG!$A$2:$G$100,7,FALSE)),\"\",VLOOKUP(C685,BDDG!$A$2:$G$100,7,FALSE))","v":1},{"$f":"IF(ISERROR(VLOOKUP(C685,BDDG!$A$2:$H$100,8,FALSE)),\"\",VLOOKUP(C685,BDDG!$A$2:$H$100,8,FALSE))","v":"BB22"},10,40,21.6,{"$f":"IF(ISERROR(VLOOKUP(C685,BDDG!$A$2:$I$100,9,FALSE)),\"\",VLOOKUP(C685,BDDG!$A$2:$I$100,9,FALSE))","v":"CC22"},null,null,"",{"$f":"IF(ISERROR(VLOOKUP(C685,BDDG!$A$2:$J$100,10,FALSE)),\"\",VLOOKUP(C685,BDDG!$A$2:$J$100,10,FALSE))","v":"DD22"},null,null,"",21.6,6,2013,{"$f":"IFERROR(INDEX($V$2:V685,MATCH(H685&MAX(IF($H$1:H684=H685,$A$1:A684)),$H$2:H685&$A$2:A685,0))-V685,\"\")","v":-12.174545454545456}]
["2013-06-27",null,835,{"$f":"IF(ISNA(VLOOKUP(C686,BDDG!$A$2:$F$100,2,FALSE)),\"\",VLOOKUP(C686,BDDG!$A$2:$F$100,2,FALSE))","v":0},{"$f":"IF(ISNA(VLOOKUP(C686,BDDG!$A$3:$J$102,3,FALSE)),\"\",VLOOKUP(C686,BDDG!$A$3:$J$102,3,FALSE))","v":"A"},{"$f":"IF(ISNA(VLOOKUP(C686,BDDG!$A$3:$J$102,4,FALSE)),\"\",VLOOKUP(C686,BDDG!$A$3:$J$102,4,FALSE))","v":106},{"$f":"IF(ISNA(VLOOKUP(C686,BDDG!$A$2:$F$100,5,FALSE)),\"\",VLOOKUP(C686,BDDG!$A$2:$F$100,5,FALSE))","v":"A3"},{"$f":"IF(ISNA(VLOOKUP(C686,BDDG!$A$2:$F$100,6,FALSE)),\"\",VLOOKUP(C686,BDDG!$A$2:$F$100,6,FALSE))","v":"AA5"},{"$f":"IF(ISERROR(VLOOKUP(C686,BDDG!$A$2:$G$100,7,FALSE)),\"\",VLOOKUP(C686,BDDG!$A$2:$G$100,7,FALSE))","v":1},{"$f":"IF(ISERROR(VLOOKUP(C686,BDDG!$A$2:$H$100,8,FALSE)),\"\",VLOOKUP(C686,BDDG!$A$2:$H$100,8,FALSE))","v":"BB5"},10,240,3.6,{"$f":"IF(ISERROR(VLOOKUP(C686,BDDG!$A$2:$I$100,9,FALSE)),\"\",VLOOKUP(C686,BDDG!$A$2:$I$100,9,FALSE))","v":"CC5"},null,null,"",{"$f":"IF(ISERROR(VLOOKUP(C686,BDDG!$A$2:$J$100,10,FALSE)),\"\",VLOOKUP(C686,BDDG!$A$2:$J$100,10,FALSE))","v":"DD5"},null,null,"",3.6,6,2013,{"$f":"IFERROR(INDEX($V$2:V686,MATCH(H686&MAX(IF($H$1:H685=H686,$A$1:A685)),$H$2:H686&$A$2:A686,0))-V686,\"\")","v":1.8000000000000003}]
["2013-07-22",null,867,{"$f":"IF(ISNA(VLOOKUP(C687,BDDG!$A$2:$F$100,2,FALSE)),\"\",VLOOKUP(C687,BDDG!$A$2:$F$100,2,FALSE))","v":0},{"$f":"IF(ISNA(VLOOKUP(C687,BDDG!$A$3:$J$102,3,FALSE)),\"\",VLOOKUP(C687,BDDG!$A$3:$J$102,3,FALSE))","v":"C"},{"$f":"IF(ISNA(VLOOKUP(C687,BDDG!$A$3:$J$102,4,FALSE)),\"\",VLOOKUP(C687,BDDG!$A$3:$J$102,4,FALSE))","v":108},{"$f":"IF(ISNA(VLOOKUP(C687,BDDG!$A$2:$F$100,5,FALSE)),\"\",VLOOKUP(C687,BDDG!$A$2:$F$100,5,FALSE))","v":"A17"},{"$f":"IF(ISNA(VLOOKUP(C687,BDDG!$A$2:$F$100,6,FALSE)),\"\",VLOOKUP(C687,BDDG!$A$2:$F$100,6,FALSE))","v":"AA43"},{"$f":"IF(ISERROR(VLOOKUP(C687,BDDG!$A$2:$G$100,7,FALSE)),\"\",VLOOKUP(C687,BDDG!$A$2:$G$100,7,FALSE))","v":1},{"$f":"IF(ISERROR(VLOOKUP(C687,BDDG!$A$2:$H$100,8,FALSE)),\"\",VLOOKUP(C687,BDDG!$A$2:$H$100,8,FALSE))","v":"BB43"},5,10,43.2,{"$f":"IF(ISERROR(VLOOKUP(C687,BDDG!$A$2:$I$100,9,FALSE)),\"\",VLOOKUP(C687,BDDG!$A$2:$I$100,9,FALSE))","v":"CC43"},null,null,null,{"$f":"IF(ISERROR(VLOOKUP(C687,BDDG!$A$2:$J$100,10,FALSE)),\"\",VLOOKUP(C687,BDDG!$A$2:$J$100,10,FALSE))","v":"DD43"},null,null,"",43.2,7,2013,{"$f":"IFERROR(INDEX($V$2:V687,MATCH(H687&MAX(IF($H$1:H686=H687,$A$1:A686)),$H$2:H687&$A$2:A687,0))-V687,\"\")","v":19.740397350993383}]
["2013-07-23",null,866,{"$f":"IF(ISNA(VLOOKUP(C688,BDDG!$A$2:$F$100,2,FALSE)),\"\",VLOOKUP(C688,BDDG!$A$2:$F$100,2,FALSE))","v":0},{"$f":"IF(ISNA(VLOOKUP(C688,BDDG!$A$3:$J$102,3,FALSE)),\"\",VLOOKUP(C688,BDDG!$A$3:$J$102,3,FALSE))","v":"C"},{"$f":"IF(ISNA(VLOOKUP(C688,BDDG!$A$3:$J$102,4,FALSE)),\"\",VLOOKUP(C688,BDDG!$A$3:$J$102,4,FALSE))","v":108},{"$f":"IF(ISNA(VLOOKUP(C688,BDDG!$A$2:$F$100,5,FALSE)),\"\",VLOOKUP(C688,BDDG!$A$2:$F$100,5,FALSE))","v":"A17"},{"$f":"IF(ISNA(VLOOKUP(C688,BDDG!$A$2:$F$100,6,FALSE)),\"\",VLOOKUP(C688,BDDG!$A$2:$F$100,6,FALSE))","v":"AA42"},{"$f":"IF(ISERROR(VLOOKUP(C688,BDDG!$A$2:$G$100,7,FALSE)),\"\",VLOOKUP(C688,BDDG!$A$2:$G$100,7,FALSE))","v":1},{"$f":"IF(ISERROR(VLOOKUP(C688,BDDG!$A$2:$H$100,8,FALSE)),\"\",VLOOKUP(C688,BDDG!$A$2:$H$100,8,FALSE))","v":"BB42"},0.6,1,51.84,{"$f":"IF(ISERROR(VLOOKUP(C688,BDDG!$A$2:$I$100,9,FALSE)),\"\",VLOOKUP(C688,BDDG!$A$2:$I$100,9,FALSE))","v":"CC42"},null,null,null,{"$f":"IF(ISERROR(VLOOKUP(C688,BDDG!$A$2:$J$100,10,FALSE)),\"\",VLOOKUP(C688,BDDG!$A$2:$J$100,10,FALSE))","v":"DD42"},null,null,"",51.84,7,2013,{"$f":"IFERROR(INDEX($V$2:V688,MATCH(H688&MAX(IF($H$1:H687=H688,$A$1:A687)),$H$2:H688&$A$2:A688,0))-V688,\"\")","v":0}]
["2013-07-30",null,871,{"$f":"IF(ISNA(VLOOKUP(C689,BDDG!$A$2:$F$100,2,FALSE)),\"\",VLOOKUP(C689,BDDG!$A$2:$F$100,2,FALSE))","v":0},{"$f":"IF(ISNA(VLOOKUP(C689,BDDG!$A$3:$J$102,3,FALSE)),\"\",VLOOKUP(C689,BDDG!$A$3:$J$102,3,FALSE))","v":"C"},{"$f":"IF(ISNA(VLOOKUP(C689,BDDG!$A$3:$J$102,4,FALSE)),\"\",VLOOKUP(C689,BDDG!$A$3:$J$102,4,FALSE))","v":108},{"$f":"IF(ISNA(VLOOKUP(C689,BDDG!$A$2:$F$100,5,FALSE)),\"\",VLOOKUP(C689,BDDG!$A$2:$F$100,5,FALSE))","v":"A18"},{"$f":"IF(ISNA(VLOOKUP(C689,BDDG!$A$2:$F$100,6,FALSE)),\"\",VLOOKUP(C689,BDDG!$A$2:$F$100,6,FALSE))","v":"AA44"},{"$f":"IF(ISERROR(VLOOKUP(C689,BDDG!$A$2:$G$100,7,FALSE)),\"\",VLOOKUP(C689,BDDG!$A$2:$G$100,7,FALSE))","v":2},{"$f":"IF(ISERROR(VLOOKUP(C689,BDDG!$A$2:$H$100,8,FALSE)),\"\",VLOOKUP(C689,BDDG!$A$2:$H$100,8,FALSE))","v":"BB44"},5,4.34,{"$f":" IF(ISERROR(K689/L689*86.4),\"\",K689/L689*86.4)","v":99.539170506912455},{"$f":"IF(ISERROR(VLOOKUP(C689,BDDG!$A$2:$I$100,9,FALSE)),\"\",VLOOKUP(C689,BDDG!$A$2:$I$100,9,FALSE))","v":"CC44"},null,null,{"$f":" IF(ISERROR(O689/P689*86.4),\"\",O689/P689*86.4)","v":""},{"$f":"IF(ISERROR(VLOOKUP(C689,BDDG!$A$2:$J$100,10,FALSE)),\"\",VLOOKUP(C689,BDDG!$A$2:$J$100,10,FALSE))","v":"DD44"},null,null,"",{"$f":"IF(ISERROR(SUM(M689,Q689,U689)),\"\",SUM(M689,Q689,U689))","v":99.539170506912455},7,2013,{"$f":"IFERROR(INDEX($V$2:V689,MATCH(H689&MAX(IF($H$1:H688=H689,$A$1:A688)),$H$2:H689&$A$2:A689,0))-V689,\"\")","v":""}]
["2013-07-30",null,873,{"$f":"IF(ISNA(VLOOKUP(C690,BDDG!$A$2:$F$100,2,FALSE)),\"\",VLOOKUP(C690,BDDG!$A$2:$F$100,2,FALSE))","v":0},{"$f":"IF(ISNA(VLOOKUP(C690,BDDG!$A$3:$J$102,3,FALSE)),\"\",VLOOKUP(C690,BDDG!$A$3:$J$102,3,FALSE))","v":"C"},{"$f":"IF(ISNA(VLOOKUP(C690,BDDG!$A$3:$J$102,4,FALSE)),\"\",VLOOKUP(C690,BDDG!$A$3:$J$102,4,FALSE))","v":108},{"$f":"IF(ISNA(VLOOKUP(C690,BDDG!$A$2:$F$100,5,FALSE)),\"\",VLOOKUP(C690,BDDG!$A$2:$F$100,5,FALSE))","v":"A18"},{"$f":"IF(ISNA(VLOOKUP(C690,BDDG!$A$2:$F$100,6,FALSE)),\"\",VLOOKUP(C690,BDDG!$A$2:$F$100,6,FALSE))","v":"AA46"},{"$f":"IF(ISERROR(VLOOKUP(C690,BDDG!$A$2:$G$100,7,FALSE)),\"\",VLOOKUP(C690,BDDG!$A$2:$G$100,7,FALSE))","v":1},{"$f":"IF(ISERROR(VLOOKUP(C690,BDDG!$A$2:$H$100,8,FALSE)),\"\",VLOOKUP(C690,BDDG!$A$2:$H$100,8,FALSE))","v":"BB46"},10,3.13,276.03833865814698,{"$f":"IF(ISERROR(VLOOKUP(C690,BDDG!$A$2:$I$100,9,FALSE)),\"\",VLOOKUP(C690,BDDG!$A$2:$I$100,9,FALSE))","v":"CC46"},null,null,null,{"$f":"IF(ISERROR(VLOOKUP(C690,BDDG!$A$2:$J$100,10,FALSE)),\"\",VLOOKUP(C690,BDDG!$A$2:$J$100,10,FALSE))","v":"DD46"},null,null,"",276.03833865814698,7,2013,{"$f":"IFERROR(INDEX($V$2:V690,MATCH(H690&MAX(IF($H$1:H689=H690,$A$1:A689)),$H$2:H690&$A$2:A690,0))-V690,\"\")","v":""}]
["2013-07-30",null,873,{"$f":"IF(ISNA(VLOOKUP(C691,BDDG!$A$2:$F$100,2,FALSE)),\"\",VLOOKUP(C691,BDDG!$A$2:$F$100,2,FALSE))","v":0},{"$f":"IF(ISNA(VLOOKUP(C691,BDDG!$A$3:$J$102,3,FALSE)),\"\",VLOOKUP(C691,BDDG!$A$3:$J$102,3,FALSE))","v":"C"},{"$f":"IF(ISNA(VLOOKUP(C691,BDDG!$A$3:$J$102,4,FALSE)),\"\",VLOOKUP(C691,BDDG!$A$3:$J$102,4,FALSE))","v":108},{"$f":"IF(ISNA(VLOOKUP(C691,BDDG!$A$2:$F$100,5,FALSE)),\"\",VLOOKUP(C691,BDDG!$A$2:$F$100,5,FALSE))","v":"A18"},{"$f":"IF(ISNA(VLOOKUP(C691,BDDG!$A$2:$F$100,6,FALSE)),\"\",VLOOKUP(C691,BDDG!$A$2:$F$100,6,FALSE))","v":"AA46"},{"$f":"IF(ISERROR(VLOOKUP(C691,BDDG!$A$2:$G$100,7,FALSE)),\"\",VLOOKUP(C691,BDDG!$A$2:$G$100,7,FALSE))","v":1},{"$f":"IF(ISERROR(VLOOKUP(C691,BDDG!$A$2:$H$100,8,FALSE)),\"\",VLOOKUP(C691,BDDG!$A$2:$H$100,8,FALSE))","v":"BB46"},10,2.2200000000000002,389.18918918918916,{"$f":"IF(ISERROR(VLOOKUP(C691,BDDG!$A$2:$I$100,9,FALSE)),\"\",VLOOKUP(C691,BDDG!$A$2:$I$100,9,FALSE))","v":"CC46"},null,null,null,{"$f":"IF(ISERROR(VLOOKUP(C691,BDDG!$A$2:$J$100,10,FALSE)),\"\",VLOOKUP(C691,BDDG!$A$2:$J$100,10,FALSE))","v":"DD46"},null,null,"",389.18918918918916,7,2013,{"$f":"IFERROR(INDEX($V$2:V691,MATCH(H691&MAX(IF($H$1:H690=H691,$A$1:A690)),$H$2:H691&$A$2:A691,0))-V691,\"\")","v":-113.15085053104218}]
["2013-07-30",null,874,{"$f":"IF(ISNA(VLOOKUP(C692,BDDG!$A$2:$F$100,2,FALSE)),\"\",VLOOKUP(C692,BDDG!$A$2:$F$100,2,FALSE))","v":0},{"$f":"IF(ISNA(VLOOKUP(C692,BDDG!$A$3:$J$102,3,FALSE)),\"\",VLOOKUP(C692,BDDG!$A$3:$J$102,3,FALSE))","v":"C"},{"$f":"IF(ISNA(VLOOKUP(C692,BDDG!$A$3:$J$102,4,FALSE)),\"\",VLOOKUP(C692,BDDG!$A$3:$J$102,4,FALSE))","v":108},{"$f":"IF(ISNA(VLOOKUP(C692,BDDG!$A$2:$F$100,5,FALSE)),\"\",VLOOKUP(C692,BDDG!$A$2:$F$100,5,FALSE))","v":"A18"},{"$f":"IF(ISNA(VLOOKUP(C692,BDDG!$A$2:$F$100,6,FALSE)),\"\",VLOOKUP(C692,BDDG!$A$2:$F$100,6,FALSE))","v":"AA47"},{"$f":"IF(ISERROR(VLOOKUP(C692,BDDG!$A$2:$G$100,7,FALSE)),\"\",VLOOKUP(C692,BDDG!$A$2:$G$100,7,FALSE))","v":1},{"$f":"IF(ISERROR(VLOOKUP(C692,BDDG!$A$2:$H$100,8,FALSE)),\"\",VLOOKUP(C692,BDDG!$A$2:$H$100,8,FALSE))","v":"BB47"},10,23.12,37.370242214532873,{"$f":"IF(ISERROR(VLOOKUP(C692,BDDG!$A$2:$I$100,9,FALSE)),\"\",VLOOKUP(C692,BDDG!$A$2:$I$100,9,FALSE))","v":"CC47"},null,null,null,{"$f":"IF(ISERROR(VLOOKUP(C692,BDDG!$A$2:$J$100,10,FALSE)),\"\",VLOOKUP(C692,BDDG!$A$2:$J$100,10,FALSE))","v":"DD47"},null,null,"",37.370242214532873,7,2013,{"$f":"IFERROR(INDEX($V$2:V692,MATCH(H692&MAX(IF($H$1:H691=H692,$A$1:A691)),$H$2:H692&$A$2:A692,0))-V692,\"\")","v":""}]
["2013-07-30",null,874,{"$f":"IF(ISNA(VLOOKUP(C693,BDDG!$A$2:$F$100,2,FALSE)),\"\",VLOOKUP(C693,BDDG!$A$2:$F$100,2,FALSE))","v":0},{"$f":"IF(ISNA(VLOOKUP(C693,BDDG!$A$3:$J$102,3,FALSE)),\"\",VLOOKUP(C693,BDDG!$A$3:$J$102,3,FALSE))","v":"C"},{"$f":"IF(ISNA(VLOOKUP(C693,BDDG!$A$3:$J$102,4,FALSE)),\"\",VLOOKUP(C693,BDDG!$A$3:$J$102,4,FALSE))","v":108},{"$f":"IF(ISNA(VLOOKUP(C693,BDDG!$A$2:$F$100,5,FALSE)),\"\",VLOOKUP(C693,BDDG!$A$2:$F$100,5,FALSE))","v":"A18"},{"$f":"IF(ISNA(VLOOKUP(C693,BDDG!$A$2:$F$100,6,FALSE)),\"\",VLOOKUP(C693,BDDG!$A$2:$F$100,6,FALSE))","v":"AA47"},{"$f":"IF(ISERROR(VLOOKUP(C693,BDDG!$A$2:$G$100,7,FALSE)),\"\",VLOOKUP(C693,BDDG!$A$2:$G$100,7,FALSE))","v":1},{"$f":"IF(ISERROR(VLOOKUP(C693,BDDG!$A$2:$H$100,8,FALSE)),\"\",VLOOKUP(C693,BDDG!$A$2:$H$100,8,FALSE))","v":"BB47"},10,24.44,35.351882160392798,{"$f":"IF(ISERROR(VLOOKUP(C693,BDDG!$A$2:$I$100,9,FALSE)),\"\",VLOOKUP(C693,BDDG!$A$2:$I$100,9,FALSE))","v":"CC47"},null,null,{"$f":" IF(ISERROR(O693/P693*86.4),\"\",O693/P693*86.4)","v":""},{"$f":"IF(ISERROR(VLOOKUP(C693,BDDG!$A$2:$J$100,10,FALSE)),\"\",VLOOKUP(C693,BDDG!$A$2:$J$100,10,FALSE))","v":"DD47"},null,null,"",35.351882160392798,7,2013,{"$f":"IFERROR(INDEX($V$2:V693,MATCH(H693&MAX(IF($H$1:H692=H693,$A$1:A692)),$H$2:H693&$A$2:A693,0))-V693,\"\")","v":2.018360054140075}]
["2013-07-30",null,872,{"$f":"IF(ISNA(VLOOKUP(C694,BDDG!$A$2:$F$100,2,FALSE)),\"\",VLOOKUP(C694,BDDG!$A$2:$F$100,2,FALSE))","v":0},{"$f":"IF(ISNA(VLOOKUP(C694,BDDG!$A$3:$J$102,3,FALSE)),\"\",VLOOKUP(C694,BDDG!$A$3:$J$102,3,FALSE))","v":"C"},{"$f":"IF(ISNA(VLOOKUP(C694,BDDG!$A$3:$J$102,4,FALSE)),\"\",VLOOKUP(C694,BDDG!$A$3:$J$102,4,FALSE))","v":108},{"$f":"IF(ISNA(VLOOKUP(C694,BDDG!$A$2:$F$100,5,FALSE)),\"\",VLOOKUP(C694,BDDG!$A$2:$F$100,5,FALSE))","v":"A18"},{"$f":"IF(ISNA(VLOOKUP(C694,BDDG!$A$2:$F$100,6,FALSE)),\"\",VLOOKUP(C694,BDDG!$A$2:$F$100,6,FALSE))","v":"AA45"},{"$f":"IF(ISERROR(VLOOKUP(C694,BDDG!$A$2:$G$100,7,FALSE)),\"\",VLOOKUP(C694,BDDG!$A$2:$G$100,7,FALSE))","v":3},"3  diagonale  (droite)",null,null,"",null,null,null,"","2 diagonale (Milieu)",4,23.67,14.600760456273763,14.600760456273763,7,2013,{"$f":"IFERROR(INDEX($V$2:V694,MATCH(H694&MAX(IF($H$1:H693=H694,$A$1:A693)),$H$2:H694&$A$2:A694,0))-V694,\"\")","v":""}]
["2013-07-30",null,876,{"$f":"IF(ISNA(VLOOKUP(C695,BDDG!$A$2:$F$100,2,FALSE)),\"\",VLOOKUP(C695,BDDG!$A$2:$F$100,2,FALSE))","v":0},{"$f":"IF(ISNA(VLOOKUP(C695,BDDG!$A$3:$J$102,3,FALSE)),\"\",VLOOKUP(C695,BDDG!$A$3:$J$102,3,FALSE))","v":"C"},{"$f":"IF(ISNA(VLOOKUP(C695,BDDG!$A$3:$J$102,4,FALSE)),\"\",VLOOKUP(C695,BDDG!$A$3:$J$102,4,FALSE))","v":108},{"$f":"IF(ISNA(VLOOKUP(C695,BDDG!$A$2:$F$100,5,FALSE)),\"\",VLOOKUP(C695,BDDG!$A$2:$F$100,5,FALSE))","v":"A18"},{"$f":"IF(ISNA(VLOOKUP(C695,BDDG!$A$2:$F$100,6,FALSE)),\"\",VLOOKUP(C695,BDDG!$A$2:$F$100,6,FALSE))","v":"AA49"},{"$f":"IF(ISERROR(VLOOKUP(C695,BDDG!$A$2:$G$100,7,FALSE)),\"\",VLOOKUP(C695,BDDG!$A$2:$G$100,7,FALSE))","v":2},{"$f":"IF(ISERROR(VLOOKUP(C695,BDDG!$A$2:$H$100,8,FALSE)),\"\",VLOOKUP(C695,BDDG!$A$2:$H$100,8,FALSE))","v":"BB49"},7,5.25,115.2,{"$f":"IF(ISERROR(VLOOKUP(C695,BDDG!$A$2:$I$100,9,FALSE)),\"\",VLOOKUP(C695,BDDG!$A$2:$I$100,9,FALSE))","v":"CC49"},4,23.15,14.928725701943847,{"$f":"IF(ISERROR(VLOOKUP(C695,BDDG!$A$2:$J$100,10,FALSE)),\"\",VLOOKUP(C695,BDDG!$A$2:$J$100,10,FALSE))","v":"DD49"},null,null,"",130.12872570194384,7,2013,{"$f":"IFERROR(INDEX($V$2:V695,MATCH(H695&MAX(IF($H$1:H694=H695,$A$1:A694)),$H$2:H695&$A$2:A695,0))-V695,\"\")","v":""}]
["2013-07-30",null,876,{"$f":"IF(ISNA(VLOOKUP(C696,BDDG!$A$2:$F$100,2,FALSE)),\"\",VLOOKUP(C696,BDDG!$A$2:$F$100,2,FALSE))","v":0},{"$f":"IF(ISNA(VLOOKUP(C696,BDDG!$A$3:$J$102,3,FALSE)),\"\",VLOOKUP(C696,BDDG!$A$3:$J$102,3,FALSE))","v":"C"},{"$f":"IF(ISNA(VLOOKUP(C696,BDDG!$A$3:$J$102,4,FALSE)),\"\",VLOOKUP(C696,BDDG!$A$3:$J$102,4,FALSE))","v":108},{"$f":"IF(ISNA(VLOOKUP(C696,BDDG!$A$2:$F$100,5,FALSE)),\"\",VLOOKUP(C696,BDDG!$A$2:$F$100,5,FALSE))","v":"A18"},{"$f":"IF(ISNA(VLOOKUP(C696,BDDG!$A$2:$F$100,6,FALSE)),\"\",VLOOKUP(C696,BDDG!$A$2:$F$100,6,FALSE))","v":"AA49"},{"$f":"IF(ISERROR(VLOOKUP(C696,BDDG!$A$2:$G$100,7,FALSE)),\"\",VLOOKUP(C696,BDDG!$A$2:$G$100,7,FALSE))","v":2},{"$f":"IF(ISERROR(VLOOKUP(C696,BDDG!$A$2:$H$100,8,FALSE)),\"\",VLOOKUP(C696,BDDG!$A$2:$H$100,8,FALSE))","v":"BB49"},7,4.9800000000000004,121.44578313253012,{"$f":"IF(ISERROR(VLOOKUP(C696,BDDG!$A$2:$I$100,9,FALSE)),\"\",VLOOKUP(C696,BDDG!$A$2:$I$100,9,FALSE))","v":"CC49"},4,26.12,13.231240428790199,{"$f":"IF(ISERROR(VLOOKUP(C696,BDDG!$A$2:$J$100,10,FALSE)),\"\",VLOOKUP(C696,BDDG!$A$2:$J$100,10,FALSE))","v":"DD49"},null,null,"",134.67702356132031,7,2013,{"$f":"IFERROR(INDEX($V$2:V696,MATCH(H696&MAX(IF($H$1:H695=H696,$A$1:A695)),$H$2:H696&$A$2:A696,0))-V696,\"\")","v":-4.5482978593764756}]
["2013-07-30",null,876,{"$f":"IF(ISNA(VLOOKUP(C697,BDDG!$A$2:$F$100,2,FALSE)),\"\",VLOOKUP(C697,BDDG!$A$2:$F$100,2,FALSE))","v":0},{"$f":"IF(ISNA(VLOOKUP(C697,BDDG!$A$3:$J$102,3,FALSE)),\"\",VLOOKUP(C697,BDDG!$A$3:$J$102,3,FALSE))","v":"C"},{"$f":"IF(ISNA(VLOOKUP(C697,BDDG!$A$3:$J$102,4,FALSE)),\"\",VLOOKUP(C697,BDDG!$A$3:$J$102,4,FALSE))","v":108},{"$f":"IF(ISNA(VLOOKUP(C697,BDDG!$A$2:$F$100,5,FALSE)),\"\",VLOOKUP(C697,BDDG!$A$2:$F$100,5,FALSE))","v":"A18"},{"$f":"IF(ISNA(VLOOKUP(C697,BDDG!$A$2:$F$100,6,FALSE)),\"\",VLOOKUP(C697,BDDG!$A$2:$F$100,6,FALSE))","v":"AA49"},{"$f":"IF(ISERROR(VLOOKUP(C697,BDDG!$A$2:$G$100,7,FALSE)),\"\",VLOOKUP(C697,BDDG!$A$2:$G$100,7,FALSE))","v":2},{"$f":"IF(ISERROR(VLOOKUP(C697,BDDG!$A$2:$H$100,8,FALSE)),\"\",VLOOKUP(C697,BDDG!$A$2:$H$100,8,FALSE))","v":"BB49"},null,null,"",{"$f":"IF(ISERROR(VLOOKUP(C697,BDDG!$A$2:$I$100,9,FALSE)),\"\",VLOOKUP(C697,BDDG!$A$2:$I$100,9,FALSE))","v":"CC49"},4,23.67,14.600760456273763,{"$f":"IF(ISERROR(VLOOKUP(C697,BDDG!$A$2:$J$100,10,FALSE)),\"\",VLOOKUP(C697,BDDG!$A$2:$J$100,10,FALSE))","v":"DD49"},null,null,"",14.600760456273763,7,2013,{"$f":"IFERROR(INDEX($V$2:V697,MATCH(H697&MAX(IF($H$1:H696=H697,$A$1:A696)),$H$2:H697&$A$2:A697,0))-V697,\"\")","v":115.52796524567007}]
["2013-07-31",null,873,{"$f":"IF(ISNA(VLOOKUP(C698,BDDG!$A$2:$F$100,2,FALSE)),\"\",VLOOKUP(C698,BDDG!$A$2:$F$100,2,FALSE))","v":0},{"$f":"IF(ISNA(VLOOKUP(C698,BDDG!$A$3:$J$102,3,FALSE)),\"\",VLOOKUP(C698,BDDG!$A$3:$J$102,3,FALSE))","v":"C"},{"$f":"IF(ISNA(VLOOKUP(C698,BDDG!$A$3:$J$102,4,FALSE)),\"\",VLOOKUP(C698,BDDG!$A$3:$J$102,4,FALSE))","v":108},{"$f":"IF(ISNA(VLOOKUP(C698,BDDG!$A$2:$F$100,5,FALSE)),\"\",VLOOKUP(C698,BDDG!$A$2:$F$100,5,FALSE))","v":"A18"},{"$f":"IF(ISNA(VLOOKUP(C698,BDDG!$A$2:$F$100,6,FALSE)),\"\",VLOOKUP(C698,BDDG!$A$2:$F$100,6,FALSE))","v":"AA46"},{"$f":"IF(ISERROR(VLOOKUP(C698,BDDG!$A$2:$G$100,7,FALSE)),\"\",VLOOKUP(C698,BDDG!$A$2:$G$100,7,FALSE))","v":1},{"$f":"IF(ISERROR(VLOOKUP(C698,BDDG!$A$2:$H$100,8,FALSE)),\"\",VLOOKUP(C698,BDDG!$A$2:$H$100,8,FALSE))","v":"BB46"},10,2.33,370.81545064377684,{"$f":"IF(ISERROR(VLOOKUP(C698,BDDG!$A$2:$I$100,9,FALSE)),\"\",VLOOKUP(C698,BDDG!$A$2:$I$100,9,FALSE))","v":"CC46"},null,null,"",{"$f":"IF(ISERROR(VLOOKUP(C698,BDDG!$A$2:$J$100,10,FALSE)),\"\",VLOOKUP(C698,BDDG!$A$2:$J$100,10,FALSE))","v":"DD46"},null,null,"",370.81545064377684,7,2013,{"$f":"IFERROR(INDEX($V$2:V698,MATCH(H698&MAX(IF($H$1:H697=H698,$A$1:A697)),$H$2:H698&$A$2:A698,0))-V698,\"\")","v":-94.777111985629858}]
["2013-07-31",null,877,{"$f":"IF(ISNA(VLOOKUP(C699,BDDG!$A$2:$F$100,2,FALSE)),\"\",VLOOKUP(C699,BDDG!$A$2:$F$100,2,FALSE))","v":0},{"$f":"IF(ISNA(VLOOKUP(C699,BDDG!$A$3:$J$102,3,FALSE)),\"\",VLOOKUP(C699,BDDG!$A$3:$J$102,3,FALSE))","v":"C"},{"$f":"IF(ISNA(VLOOKUP(C699,BDDG!$A$3:$J$102,4,FALSE)),\"\",VLOOKUP(C699,BDDG!$A$3:$J$102,4,FALSE))","v":108},{"$f":"IF(ISNA(VLOOKUP(C699,BDDG!$A$2:$F$100,5,FALSE)),\"\",VLOOKUP(C699,BDDG!$A$2:$F$100,5,FALSE))","v":"A18"},{"$f":"IF(ISNA(VLOOKUP(C699,BDDG!$A$2:$F$100,6,FALSE)),\"\",VLOOKUP(C699,BDDG!$A$2:$F$100,6,FALSE))","v":"AA50"},{"$f":"IF(ISERROR(VLOOKUP(C699,BDDG!$A$2:$G$100,7,FALSE)),\"\",VLOOKUP(C699,BDDG!$A$2:$G$100,7,FALSE))","v":2},{"$f":"IF(ISERROR(VLOOKUP(C699,BDDG!$A$2:$H$100,8,FALSE)),\"\",VLOOKUP(C699,BDDG!$A$2:$H$100,8,FALSE))","v":"BB50"},5,17.34,24.913494809688583,{"$f":"IF(ISERROR(VLOOKUP(C699,BDDG!$A$2:$I$100,9,FALSE)),\"\",VLOOKUP(C699,BDDG!$A$2:$I$100,9,FALSE))","v":"CC50"},5,3.92,110.20408163265307,{"$f":"IF(ISERROR(VLOOKUP(C699,BDDG!$A$2:$J$100,10,FALSE)),\"\",VLOOKUP(C699,BDDG!$A$2:$J$100,10,FALSE))","v":"DD50"},null,null,"",135.11757644234166,7,2013,{"$f":"IFERROR(INDEX($V$2:V699,MATCH(H699&MAX(IF($H$1:H698=H699,$A$1:A698)),$H$2:H699&$A$2:A699,0))-V699,\"\")","v":""}]
["2013-07-31",null,877,{"$f":"IF(ISNA(VLOOKUP(C700,BDDG!$A$2:$F$100,2,FALSE)),\"\",VLOOKUP(C700,BDDG!$A$2:$F$100,2,FALSE))","v":0},{"$f":"IF(ISNA(VLOOKUP(C700,BDDG!$A$3:$J$102,3,FALSE)),\"\",VLOOKUP(C700,BDDG!$A$3:$J$102,3,FALSE))","v":"C"},{"$f":"IF(ISNA(VLOOKUP(C700,BDDG!$A$3:$J$102,4,FALSE)),\"\",VLOOKUP(C700,BDDG!$A$3:$J$102,4,FALSE))","v":108},{"$f":"IF(ISNA(VLOOKUP(C700,BDDG!$A$2:$F$100,5,FALSE)),\"\",VLOOKUP(C700,BDDG!$A$2:$F$100,5,FALSE))","v":"A18"},{"$f":"IF(ISNA(VLOOKUP(C700,BDDG!$A$2:$F$100,6,FALSE)),\"\",VLOOKUP(C700,BDDG!$A$2:$F$100,6,FALSE))","v":"AA50"},{"$f":"IF(ISERROR(VLOOKUP(C700,BDDG!$A$2:$G$100,7,FALSE)),\"\",VLOOKUP(C700,BDDG!$A$2:$G$100,7,FALSE))","v":2},{"$f":"IF(ISERROR(VLOOKUP(C700,BDDG!$A$2:$H$100,8,FALSE)),\"\",VLOOKUP(C700,BDDG!$A$2:$H$100,8,FALSE))","v":"BB50"},5,17.25,25.043478260869566,{"$f":"IF(ISERROR(VLOOKUP(C700,BDDG!$A$2:$I$100,9,FALSE)),\"\",VLOOKUP(C700,BDDG!$A$2:$I$100,9,FALSE))","v":"CC50"},5,3.45,125.21739130434783,{"$f":"IF(ISERROR(VLOOKUP(C700,BDDG!$A$2:$J$100,10,FALSE)),\"\",VLOOKUP(C700,BDDG!$A$2:$J$100,10,FALSE))","v":"DD50"},null,null,"",150.2608695652174,7,2013,{"$f":"IFERROR(INDEX($V$2:V700,MATCH(H700&MAX(IF($H$1:H699=H700,$A$1:A699)),$H$2:H700&$A$2:A700,0))-V700,\"\")","v":-15.143293122875747}]
["2013-07-31",null,875,{"$f":"IF(ISNA(VLOOKUP(C701,BDDG!$A$2:$F$100,2,FALSE)),\"\",VLOOKUP(C701,BDDG!$A$2:$F$100,2,FALSE))","v":0},{"$f":"IF(ISNA(VLOOKUP(C701,BDDG!$A$3:$J$102,3,FALSE)),\"\",VLOOKUP(C701,BDDG!$A$3:$J$102,3,FALSE))","v":"C"},{"$f":"IF(ISNA(VLOOKUP(C701,BDDG!$A$3:$J$102,4,FALSE)),\"\",VLOOKUP(C701,BDDG!$A$3:$J$102,4,FALSE))","v":108},{"$f":"IF(ISNA(VLOOKUP(C701,BDDG!$A$2:$F$100,5,FALSE)),\"\",VLOOKUP(C701,BDDG!$A$2:$F$100,5,FALSE))","v":"A18"},{"$f":"IF(ISNA(VLOOKUP(C701,BDDG!$A$2:$F$100,6,FALSE)),\"\",VLOOKUP(C701,BDDG!$A$2:$F$100,6,FALSE))","v":"AA48"},{"$f":"IF(ISERROR(VLOOKUP(C701,BDDG!$A$2:$G$100,7,FALSE)),\"\",VLOOKUP(C701,BDDG!$A$2:$G$100,7,FALSE))","v":1},{"$f":"IF(ISERROR(VLOOKUP(C701,BDDG!$A$2:$H$100,8,FALSE)),\"\",VLOOKUP(C701,BDDG!$A$2:$H$100,8,FALSE))","v":"BB48"},10,22.89,37.745740498034074,{"$f":"IF(ISERROR(VLOOKUP(C701,BDDG!$A$2:$I$100,9,FALSE)),\"\",VLOOKUP(C701,BDDG!$A$2:$I$100,9,FALSE))","v":"CC48"},null,null,"",{"$f":"IF(ISERROR(VLOOKUP(C701,BDDG!$A$2:$J$100,10,FALSE)),\"\",VLOOKUP(C701,BDDG!$A$2:$J$100,10,FALSE))","v":"DD48"},null,null,"",37.745740498034074,7,2013,{"$f":"IFERROR(INDEX($V$2:V701,MATCH(H701&MAX(IF($H$1:H700=H701,$A$1:A700)),$H$2:H701&$A$2:A701,0))-V701,\"\")","v":""}]
["2013-07-31",null,875,{"$f":"IF(ISNA(VLOOKUP(C702,BDDG!$A$2:$F$100,2,FALSE)),\"\",VLOOKUP(C702,BDDG!$A$2:$F$100,2,FALSE))","v":0},{"$f":"IF(ISNA(VLOOKUP(C702,BDDG!$A$3:$J$102,3,FALSE)),\"\",VLOOKUP(C702,BDDG!$A$3:$J$102,3,FALSE))","v":"C"},{"$f":"IF(ISNA(VLOOKUP(C702,BDDG!$A$3:$J$102,4,FALSE)),\"\",VLOOKUP(C702,BDDG!$A$3:$J$102,4,FALSE))","v":108},{"$f":"IF(ISNA(VLOOKUP(C702,BDDG!$A$2:$F$100,5,FALSE)),\"\",VLOOKUP(C702,BDDG!$A$2:$F$100,5,FALSE))","v":"A18"},{"$f":"IF(ISNA(VLOOKUP(C702,BDDG!$A$2:$F$100,6,FALSE)),\"\",VLOOKUP(C702,BDDG!$A$2:$F$100,6,FALSE))","v":"AA48"},{"$f":"IF(ISERROR(VLOOKUP(C702,BDDG!$A$2:$G$100,7,FALSE)),\"\",VLOOKUP(C702,BDDG!$A$2:$G$100,7,FALSE))","v":1},{"$f":"IF(ISERROR(VLOOKUP(C702,BDDG!$A$2:$H$100,8,FALSE)),\"\",VLOOKUP(C702,BDDG!$A$2:$H$100,8,FALSE))","v":"BB48"},10,23.67,36.50190114068441,{"$f":"IF(ISERROR(VLOOKUP(C702,BDDG!$A$2:$I$100,9,FALSE)),\"\",VLOOKUP(C702,BDDG!$A$2:$I$100,9,FALSE))","v":"CC48"},null,null,"",{"$f":"IF(ISERROR(VLOOKUP(C702,BDDG!$A$2:$J$100,10,FALSE)),\"\",VLOOKUP(C702,BDDG!$A$2:$J$100,10,FALSE))","v":"DD48"},null,null,"",36.50190114068441,7,2013,{"$f":"IFERROR(INDEX($V$2:V702,MATCH(H702&MAX(IF($H$1:H701=H702,$A$1:A701)),$H$2:H702&$A$2:A702,0))-V702,\"\")","v":1.243839357349664}]
["2013-07-31",null,875,{"$f":"IF(ISNA(VLOOKUP(C703,BDDG!$A$2:$F$100,2,FALSE)),\"\",VLOOKUP(C703,BDDG!$A$2:$F$100,2,FALSE))","v":0},{"$f":"IF(ISNA(VLOOKUP(C703,BDDG!$A$3:$J$102,3,FALSE)),\"\",VLOOKUP(C703,BDDG!$A$3:$J$102,3,FALSE))","v":"C"},{"$f":"IF(ISNA(VLOOKUP(C703,BDDG!$A$3:$J$102,4,FALSE)),\"\",VLOOKUP(C703,BDDG!$A$3:$J$102,4,FALSE))","v":108},{"$f":"IF(ISNA(VLOOKUP(C703,BDDG!$A$2:$F$100,5,FALSE)),\"\",VLOOKUP(C703,BDDG!$A$2:$F$100,5,FALSE))","v":"A18"},{"$f":"IF(ISNA(VLOOKUP(C703,BDDG!$A$2:$F$100,6,FALSE)),\"\",VLOOKUP(C703,BDDG!$A$2:$F$100,6,FALSE))","v":"AA48"},{"$f":"IF(ISERROR(VLOOKUP(C703,BDDG!$A$2:$G$100,7,FALSE)),\"\",VLOOKUP(C703,BDDG!$A$2:$G$100,7,FALSE))","v":1},{"$f":"IF(ISERROR(VLOOKUP(C703,BDDG!$A$2:$H$100,8,FALSE)),\"\",VLOOKUP(C703,BDDG!$A$2:$H$100,8,FALSE))","v":"BB48"},10,23.15,37.321814254859618,{"$f":"IF(ISERROR(VLOOKUP(C703,BDDG!$A$2:$I$100,9,FALSE)),\"\",VLOOKUP(C703,BDDG!$A$2:$I$100,9,FALSE))","v":"CC48"},null,null,"",{"$f":"IF(ISERROR(VLOOKUP(C703,BDDG!$A$2:$J$100,10,FALSE)),\"\",VLOOKUP(C703,BDDG!$A$2:$J$100,10,FALSE))","v":"DD48"},null,null,"",37.321814254859618,7,2013,{"$f":"IFERROR(INDEX($V$2:V703,MATCH(H703&MAX(IF($H$1:H702=H703,$A$1:A702)),$H$2:H703&$A$2:A703,0))-V703,\"\")","v":0.42392624317445637}]
["2013-08-01",null,873,{"$f":"IF(ISNA(VLOOKUP(C704,BDDG!$A$2:$F$100,2,FALSE)),\"\",VLOOKUP(C704,BDDG!$A$2:$F$100,2,FALSE))","v":0},null,{"$f":"IF(ISNA(VLOOKUP(C704,BDDG!$A$3:$J$102,4,FALSE)),\"\",VLOOKUP(C704,BDDG!$A$3:$J$102,4,FALSE))","v":108},{"$f":"IF(ISNA(VLOOKUP(C704,BDDG!$A$2:$F$100,5,FALSE)),\"\",VLOOKUP(C704,BDDG!$A$2:$F$100,5,FALSE))","v":"A18"},{"$f":"IF(ISNA(VLOOKUP(C704,BDDG!$A$2:$F$100,6,FALSE)),\"\",VLOOKUP(C704,BDDG!$A$2:$F$100,6,FALSE))","v":"AA46"},{"$f":"IF(ISERROR(VLOOKUP(C704,BDDG!$A$2:$G$100,7,FALSE)),\"\",VLOOKUP(C704,BDDG!$A$2:$G$100,7,FALSE))","v":1},{"$f":"IF(ISERROR(VLOOKUP(C704,BDDG!$A$2:$H$100,8,FALSE)),\"\",VLOOKUP(C704,BDDG!$A$2:$H$100,8,FALSE))","v":"BB46"},10,2.2999999999999998,375.65217391304355,{"$f":"IF(ISERROR(VLOOKUP(C704,BDDG!$A$2:$I$100,9,FALSE)),\"\",VLOOKUP(C704,BDDG!$A$2:$I$100,9,FALSE))","v":"CC46"},null,null,"",{"$f":"IF(ISERROR(VLOOKUP(C704,BDDG!$A$2:$J$100,10,FALSE)),\"\",VLOOKUP(C704,BDDG!$A$2:$J$100,10,FALSE))","v":"DD46"},null,null,"",375.65217391304355,8,2013,{"$f":"IFERROR(INDEX($V$2:V704,MATCH(H704&MAX(IF($H$1:H703=H704,$A$1:A703)),$H$2:H704&$A$2:A704,0))-V704,\"\")","v":-4.836723269266713}]
["2013-08-23",null,856,{"$f":"IF(ISNA(VLOOKUP(C705,BDDG!$A$2:$F$100,2,FALSE)),\"\",VLOOKUP(C705,BDDG!$A$2:$F$100,2,FALSE))","v":0},{"$f":"IF(ISNA(VLOOKUP(C705,BDDG!$A$3:$J$102,3,FALSE)),\"\",VLOOKUP(C705,BDDG!$A$3:$J$102,3,FALSE))","v":"A"},{"$f":"IF(ISNA(VLOOKUP(C705,BDDG!$A$3:$J$102,4,FALSE)),\"\",VLOOKUP(C705,BDDG!$A$3:$J$102,4,FALSE))","v":106},{"$f":"IF(ISNA(VLOOKUP(C705,BDDG!$A$2:$F$100,5,FALSE)),\"\",VLOOKUP(C705,BDDG!$A$2:$F$100,5,FALSE))","v":"A9"},{"$f":"IF(ISNA(VLOOKUP(C705,BDDG!$A$2:$F$100,6,FALSE)),\"\",VLOOKUP(C705,BDDG!$A$2:$F$100,6,FALSE))","v":"AA27"},{"$f":"IF(ISERROR(VLOOKUP(C705,BDDG!$A$2:$G$100,7,FALSE)),\"\",VLOOKUP(C705,BDDG!$A$2:$G$100,7,FALSE))","v":2},{"$f":"IF(ISERROR(VLOOKUP(C705,BDDG!$A$2:$H$100,8,FALSE)),\"\",VLOOKUP(C705,BDDG!$A$2:$H$100,8,FALSE))","v":"BB27"},10,50,17.28,{"$f":"IF(ISERROR(VLOOKUP(C705,BDDG!$A$2:$I$100,9,FALSE)),\"\",VLOOKUP(C705,BDDG!$A$2:$I$100,9,FALSE))","v":"CC27"},10,5,172.8,{"$f":"IF(ISERROR(VLOOKUP(C705,BDDG!$A$2:$J$100,10,FALSE)),\"\",VLOOKUP(C705,BDDG!$A$2:$J$100,10,FALSE))","v":"DD27"},null,null,"",190.08,8,2013,{"$f":"IFERROR(INDEX($V$2:V705,MATCH(H705&MAX(IF($H$1:H704=H705,$A$1:A704)),$H$2:H705&$A$2:A705,0))-V705,\"\")","v":184.32000000000002}]
["2013-08-29",null,869,{"$f":"IF(ISNA(VLOOKUP(C706,BDDG!$A$2:$F$100,2,FALSE)),\"\",VLOOKUP(C706,BDDG!$A$2:$F$100,2,FALSE))","v":0},{"$f":"IF(ISNA(VLOOKUP(C706,BDDG!$A$3:$J$102,3,FALSE)),\"\",VLOOKUP(C706,BDDG!$A$3:$J$102,3,FALSE))","v":"A"},{"$f":"IF(ISNA(VLOOKUP(C706,BDDG!$A$3:$J$102,4,FALSE)),\"\",VLOOKUP(C706,BDDG!$A$3:$J$102,4,FALSE))","v":108},{"$f":"IF(ISNA(VLOOKUP(C706,BDDG!$A$2:$F$100,5,FALSE)),\"\",VLOOKUP(C706,BDDG!$A$2:$F$100,5,FALSE))","v":"A16"},{"$f":"IF(ISNA(VLOOKUP(C706,BDDG!$A$2:$F$100,6,FALSE)),\"\",VLOOKUP(C706,BDDG!$A$2:$F$100,6,FALSE))","v":"AA40"},{"$f":"IF(ISERROR(VLOOKUP(C706,BDDG!$A$2:$G$100,7,FALSE)),\"\",VLOOKUP(C706,BDDG!$A$2:$G$100,7,FALSE))","v":3},{"$f":"IF(ISERROR(VLOOKUP(C706,BDDG!$A$2:$H$100,8,FALSE)),\"\",VLOOKUP(C706,BDDG!$A$2:$H$100,8,FALSE))","v":"BB40"},2,95,1.8189473684210526,{"$f":"IF(ISERROR(VLOOKUP(C706,BDDG!$A$2:$I$100,9,FALSE)),\"\",VLOOKUP(C706,BDDG!$A$2:$I$100,9,FALSE))","v":"CC40"},null,null,"",{"$f":"IF(ISERROR(VLOOKUP(C706,BDDG!$A$2:$J$100,10,FALSE)),\"\",VLOOKUP(C706,BDDG!$A$2:$J$100,10,FALSE))","v":"DD40"},null,null,"",1.8189473684210526,{"$f":"MONTH(A:A)","v":8},{"$f":"YEAR(A:A)","v":2013},{"$f":"IFERROR(INDEX($V$2:V706,MATCH(H706&MAX(IF($H$1:H705=H706,$A$1:A705)),$H$2:H706&$A$2:A706,0))-V706,\"\")","v":10.52390977443609}]
["2013-08-29",null,868,{"$f":"IF(ISNA(VLOOKUP(C707,BDDG!$A$2:$F$100,2,FALSE)),\"\",VLOOKUP(C707,BDDG!$A$2:$F$100,2,FALSE))","v":0},{"$f":"IF(ISNA(VLOOKUP(C707,BDDG!$A$3:$J$102,3,FALSE)),\"\",VLOOKUP(C707,BDDG!$A$3:$J$102,3,FALSE))","v":"A"},{"$f":"IF(ISNA(VLOOKUP(C707,BDDG!$A$3:$J$102,4,FALSE)),\"\",VLOOKUP(C707,BDDG!$A$3:$J$102,4,FALSE))","v":108},{"$f":"IF(ISNA(VLOOKUP(C707,BDDG!$A$2:$F$100,5,FALSE)),\"\",VLOOKUP(C707,BDDG!$A$2:$F$100,5,FALSE))","v":"A16"},{"$f":"IF(ISNA(VLOOKUP(C707,BDDG!$A$2:$F$100,6,FALSE)),\"\",VLOOKUP(C707,BDDG!$A$2:$F$100,6,FALSE))","v":"AA39"},{"$f":"IF(ISERROR(VLOOKUP(C707,BDDG!$A$2:$G$100,7,FALSE)),\"\",VLOOKUP(C707,BDDG!$A$2:$G$100,7,FALSE))","v":2},{"$f":"IF(ISERROR(VLOOKUP(C707,BDDG!$A$2:$H$100,8,FALSE)),\"\",VLOOKUP(C707,BDDG!$A$2:$H$100,8,FALSE))","v":"BB39"},12,15,69.12,{"$f":"IF(ISERROR(VLOOKUP(C707,BDDG!$A$2:$I$100,9,FALSE)),\"\",VLOOKUP(C707,BDDG!$A$2:$I$100,9,FALSE))","v":"CC39"},null,null,"",{"$f":"IF(ISERROR(VLOOKUP(C707,BDDG!$A$2:$J$100,10,FALSE)),\"\",VLOOKUP(C707,BDDG!$A$2:$J$100,10,FALSE))","v":"DD39"},null,null,{"$f":" IF(ISERROR(S707/T707*86.4),\"\",S707/T707*86.4)","v":""},69.12,8,2013,{"$f":"IFERROR(INDEX($V$2:V707,MATCH(H707&MAX(IF($H$1:H706=H707,$A$1:A706)),$H$2:H707&$A$2:A707,0))-V707,\"\")","v":9.4254545454545422}]
["2013-08-30",null,871,{"$f":"IF(ISNA(VLOOKUP(C708,BDDG!$A$2:$F$100,2,FALSE)),\"\",VLOOKUP(C708,BDDG!$A$2:$F$100,2,FALSE))","v":0},{"$f":"IF(ISNA(VLOOKUP(C708,BDDG!$A$3:$J$102,3,FALSE)),\"\",VLOOKUP(C708,BDDG!$A$3:$J$102,3,FALSE))","v":"C"},{"$f":"IF(ISNA(VLOOKUP(C708,BDDG!$A$3:$J$102,4,FALSE)),\"\",VLOOKUP(C708,BDDG!$A$3:$J$102,4,FALSE))","v":108},{"$f":"IF(ISNA(VLOOKUP(C708,BDDG!$A$2:$F$100,5,FALSE)),\"\",VLOOKUP(C708,BDDG!$A$2:$F$100,5,FALSE))","v":"A18"},{"$f":"IF(ISNA(VLOOKUP(C708,BDDG!$A$2:$F$100,6,FALSE)),\"\",VLOOKUP(C708,BDDG!$A$2:$F$100,6,FALSE))","v":"AA44"},{"$f":"IF(ISERROR(VLOOKUP(C708,BDDG!$A$2:$G$100,7,FALSE)),\"\",VLOOKUP(C708,BDDG!$A$2:$G$100,7,FALSE))","v":2},{"$f":"IF(ISERROR(VLOOKUP(C708,BDDG!$A$2:$H$100,8,FALSE)),\"\",VLOOKUP(C708,BDDG!$A$2:$H$100,8,FALSE))","v":"BB44"},5,4.41,97.959183673469397,{"$f":"IF(ISERROR(VLOOKUP(C708,BDDG!$A$2:$I$100,9,FALSE)),\"\",VLOOKUP(C708,BDDG!$A$2:$I$100,9,FALSE))","v":"CC44"},null,null,"",{"$f":"IF(ISERROR(VLOOKUP(C708,BDDG!$A$2:$J$100,10,FALSE)),\"\",VLOOKUP(C708,BDDG!$A$2:$J$100,10,FALSE))","v":"DD44"},null,null,"",97.959183673469397,8,2013,{"$f":"IFERROR(INDEX($V$2:V708,MATCH(H708&MAX(IF($H$1:H707=H708,$A$1:A707)),$H$2:H708&$A$2:A708,0))-V708,\"\")","v":1.5799868334430585}]
["2013-09-17",null,838,{"$f":"IF(ISNA(VLOOKUP(C709,BDDG!$A$2:$F$100,2,FALSE)),\"\",VLOOKUP(C709,BDDG!$A$2:$F$100,2,FALSE))","v":0},{"$f":"IF(ISNA(VLOOKUP(C709,BDDG!$A$3:$J$102,3,FALSE)),\"\",VLOOKUP(C709,BDDG!$A$3:$J$102,3,FALSE))","v":"A"},{"$f":"IF(ISNA(VLOOKUP(C709,BDDG!$A$3:$J$102,4,FALSE)),\"\",VLOOKUP(C709,BDDG!$A$3:$J$102,4,FALSE))","v":106},{"$f":"IF(ISNA(VLOOKUP(C709,BDDG!$A$2:$F$100,5,FALSE)),\"\",VLOOKUP(C709,BDDG!$A$2:$F$100,5,FALSE))","v":"A3"},{"$f":"IF(ISNA(VLOOKUP(C709,BDDG!$A$2:$F$100,6,FALSE)),\"\",VLOOKUP(C709,BDDG!$A$2:$F$100,6,FALSE))","v":"AA8"},{"$f":"IF(ISERROR(VLOOKUP(C709,BDDG!$A$2:$G$100,7,FALSE)),\"\",VLOOKUP(C709,BDDG!$A$2:$G$100,7,FALSE))","v":1},{"$f":"IF(ISERROR(VLOOKUP(C709,BDDG!$A$2:$H$100,8,FALSE)),\"\",VLOOKUP(C709,BDDG!$A$2:$H$100,8,FALSE))","v":"BB8"},2,34,5.0823529411764712,{"$f":"IF(ISERROR(VLOOKUP(C709,BDDG!$A$2:$I$100,9,FALSE)),\"\",VLOOKUP(C709,BDDG!$A$2:$I$100,9,FALSE))","v":"CC8"},null,null,"",{"$f":"IF(ISERROR(VLOOKUP(C709,BDDG!$A$2:$J$100,10,FALSE)),\"\",VLOOKUP(C709,BDDG!$A$2:$J$100,10,FALSE))","v":"DD8"},null,null,"",5.0823529411764712,9,2013,{"$f":"IFERROR(INDEX($V$2:V709,MATCH(H709&MAX(IF($H$1:H708=H709,$A$1:A708)),$H$2:H709&$A$2:A709,0))-V709,\"\")","v":15.990817790530848}]
["2013-09-17",null,837,{"$f":"IF(ISNA(VLOOKUP(C710,BDDG!$A$2:$F$100,2,FALSE)),\"\",VLOOKUP(C710,BDDG!$A$2:$F$100,2,FALSE))","v":0},{"$f":"IF(ISNA(VLOOKUP(C710,BDDG!$A$3:$J$102,3,FALSE)),\"\",VLOOKUP(C710,BDDG!$A$3:$J$102,3,FALSE))","v":"A"},{"$f":"IF(ISNA(VLOOKUP(C710,BDDG!$A$3:$J$102,4,FALSE)),\"\",VLOOKUP(C710,BDDG!$A$3:$J$102,4,FALSE))","v":106},{"$f":"IF(ISNA(VLOOKUP(C710,BDDG!$A$2:$F$100,5,FALSE)),\"\",VLOOKUP(C710,BDDG!$A$2:$F$100,5,FALSE))","v":"A3"},{"$f":"IF(ISNA(VLOOKUP(C710,BDDG!$A$2:$F$100,6,FALSE)),\"\",VLOOKUP(C710,BDDG!$A$2:$F$100,6,FALSE))","v":"AA7"},{"$f":"IF(ISERROR(VLOOKUP(C710,BDDG!$A$2:$G$100,7,FALSE)),\"\",VLOOKUP(C710,BDDG!$A$2:$G$100,7,FALSE))","v":1},{"$f":"IF(ISERROR(VLOOKUP(C710,BDDG!$A$2:$H$100,8,FALSE)),\"\",VLOOKUP(C710,BDDG!$A$2:$H$100,8,FALSE))","v":"BB7"},10,58,14.896551724137932,{"$f":"IF(ISERROR(VLOOKUP(C710,BDDG!$A$2:$I$100,9,FALSE)),\"\",VLOOKUP(C710,BDDG!$A$2:$I$100,9,FALSE))","v":"CC7"},null,null,"",{"$f":"IF(ISERROR(VLOOKUP(C710,BDDG!$A$2:$J$100,10,FALSE)),\"\",VLOOKUP(C710,BDDG!$A$2:$J$100,10,FALSE))","v":"DD7"},null,null,"",14.896551724137932,9,2013,{"$f":"IFERROR(INDEX($V$2:V710,MATCH(H710&MAX(IF($H$1:H709=H710,$A$1:A709)),$H$2:H710&$A$2:A710,0))-V710,\"\")","v":6.1766190075693856}]
["2013-09-17",null,836,{"$f":"IF(ISNA(VLOOKUP(C711,BDDG!$A$2:$F$100,2,FALSE)),\"\",VLOOKUP(C711,BDDG!$A$2:$F$100,2,FALSE))","v":0},{"$f":"IF(ISNA(VLOOKUP(C711,BDDG!$A$3:$J$102,3,FALSE)),\"\",VLOOKUP(C711,BDDG!$A$3:$J$102,3,FALSE))","v":"A"},{"$f":"IF(ISNA(VLOOKUP(C711,BDDG!$A$3:$J$102,4,FALSE)),\"\",VLOOKUP(C711,BDDG!$A$3:$J$102,4,FALSE))","v":106},{"$f":"IF(ISNA(VLOOKUP(C711,BDDG!$A$2:$F$100,5,FALSE)),\"\",VLOOKUP(C711,BDDG!$A$2:$F$100,5,FALSE))","v":"A3"},{"$f":"IF(ISNA(VLOOKUP(C711,BDDG!$A$2:$F$100,6,FALSE)),\"\",VLOOKUP(C711,BDDG!$A$2:$F$100,6,FALSE))","v":"AA6"},{"$f":"IF(ISERROR(VLOOKUP(C711,BDDG!$A$2:$G$100,7,FALSE)),\"\",VLOOKUP(C711,BDDG!$A$2:$G$100,7,FALSE))","v":1},{"$f":"IF(ISERROR(VLOOKUP(C711,BDDG!$A$2:$H$100,8,FALSE)),\"\",VLOOKUP(C711,BDDG!$A$2:$H$100,8,FALSE))","v":"BB6"},10,34,25.411764705882355,{"$f":"IF(ISERROR(VLOOKUP(C711,BDDG!$A$2:$I$100,9,FALSE)),\"\",VLOOKUP(C711,BDDG!$A$2:$I$100,9,FALSE))","v":"CC6"},null,null,"",{"$f":"IF(ISERROR(VLOOKUP(C711,BDDG!$A$2:$J$100,10,FALSE)),\"\",VLOOKUP(C711,BDDG!$A$2:$J$100,10,FALSE))","v":"DD6"},null,null,"",25.411764705882355,9,2013,{"$f":"IFERROR(INDEX($V$2:V711,MATCH(H711&MAX(IF($H$1:H710=H711,$A$1:A710)),$H$2:H711&$A$2:A711,0))-V711,\"\")","v":46.588235294117659}]
["2013-10-15",null,856,{"$f":"IF(ISNA(VLOOKUP(C712,BDDG!$A$2:$F$100,2,FALSE)),\"\",VLOOKUP(C712,BDDG!$A$2:$F$100,2,FALSE))","v":0},{"$f":"IF(ISNA(VLOOKUP(C712,BDDG!$A$3:$J$102,3,FALSE)),\"\",VLOOKUP(C712,BDDG!$A$3:$J$102,3,FALSE))","v":"A"},{"$f":"IF(ISNA(VLOOKUP(C712,BDDG!$A$3:$J$102,4,FALSE)),\"\",VLOOKUP(C712,BDDG!$A$3:$J$102,4,FALSE))","v":106},{"$f":"IF(ISNA(VLOOKUP(C712,BDDG!$A$2:$F$100,5,FALSE)),\"\",VLOOKUP(C712,BDDG!$A$2:$F$100,5,FALSE))","v":"A9"},{"$f":"IF(ISNA(VLOOKUP(C712,BDDG!$A$2:$F$100,6,FALSE)),\"\",VLOOKUP(C712,BDDG!$A$2:$F$100,6,FALSE))","v":"AA27"},{"$f":"IF(ISERROR(VLOOKUP(C712,BDDG!$A$2:$G$100,7,FALSE)),\"\",VLOOKUP(C712,BDDG!$A$2:$G$100,7,FALSE))","v":2},{"$f":"IF(ISERROR(VLOOKUP(C712,BDDG!$A$2:$H$100,8,FALSE)),\"\",VLOOKUP(C712,BDDG!$A$2:$H$100,8,FALSE))","v":"BB27"},10,57.5,15.026086956521739,{"$f":"IF(ISERROR(VLOOKUP(C712,BDDG!$A$2:$I$100,9,FALSE)),\"\",VLOOKUP(C712,BDDG!$A$2:$I$100,9,FALSE))","v":"CC27"},10,7.5,115.2,{"$f":"IF(ISERROR(VLOOKUP(C712,BDDG!$A$2:$J$100,10,FALSE)),\"\",VLOOKUP(C712,BDDG!$A$2:$J$100,10,FALSE))","v":"DD27"},null,null,"",130.22608695652175,10,2013,{"$f":"IFERROR(INDEX($V$2:V712,MATCH(H712&MAX(IF($H$1:H711=H712,$A$1:A711)),$H$2:H712&$A$2:A712,0))-V712,\"\")","v":59.853913043478258}]
["2013-12-23",null,862,{"$f":"IF(ISNA(VLOOKUP(C713,BDDG!$A$2:$F$100,2,FALSE)),\"\",VLOOKUP(C713,BDDG!$A$2:$F$100,2,FALSE))","v":0},{"$f":"IF(ISNA(VLOOKUP(C713,BDDG!$A$3:$J$102,3,FALSE)),\"\",VLOOKUP(C713,BDDG!$A$3:$J$102,3,FALSE))","v":"A"},{"$f":"IF(ISNA(VLOOKUP(C713,BDDG!$A$3:$J$102,4,FALSE)),\"\",VLOOKUP(C713,BDDG!$A$3:$J$102,4,FALSE))","v":106},{"$f":"IF(ISNA(VLOOKUP(C713,BDDG!$A$2:$F$100,5,FALSE)),\"\",VLOOKUP(C713,BDDG!$A$2:$F$100,5,FALSE))","v":"A12"},{"$f":"IF(ISNA(VLOOKUP(C713,BDDG!$A$2:$F$100,6,FALSE)),\"\",VLOOKUP(C713,BDDG!$A$2:$F$100,6,FALSE))","v":"AA34"},{"$f":"IF(ISERROR(VLOOKUP(C713,BDDG!$A$2:$G$100,7,FALSE)),\"\",VLOOKUP(C713,BDDG!$A$2:$G$100,7,FALSE))","v":1},{"$f":"IF(ISERROR(VLOOKUP(C713,BDDG!$A$2:$H$100,8,FALSE)),\"\",VLOOKUP(C713,BDDG!$A$2:$H$100,8,FALSE))","v":"BB34"},10,8,{"$f":" IF(ISERROR(K713/L713*86.4),\"\",K713/L713*86.4)","v":108},{"$f":"IF(ISERROR(VLOOKUP(C713,BDDG!$A$2:$I$100,9,FALSE)),\"\",VLOOKUP(C713,BDDG!$A$2:$I$100,9,FALSE))","v":"CC34"},null,null,"",{"$f":"IF(ISERROR(VLOOKUP(C713,BDDG!$A$2:$J$100,10,FALSE)),\"\",VLOOKUP(C713,BDDG!$A$2:$J$100,10,FALSE))","v":"DD34"},null,null,"",{"$f":"IF(ISERROR(SUM(M713,Q713,U713)),\"\",SUM(M713,Q713,U713))","v":108},12,2013,{"$f":"IFERROR(INDEX($V$2:V713,MATCH(H713&MAX(IF($H$1:H712=H713,$A$1:A712)),$H$2:H713&$A$2:A713,0))-V713,\"\")","v":-35.999999999999986}]
["2013-12-23",null,831,{"$f":"IF(ISNA(VLOOKUP(C714,BDDG!$A$2:$F$100,2,FALSE)),\"\",VLOOKUP(C714,BDDG!$A$2:$F$100,2,FALSE))","v":0},{"$f":"IF(ISNA(VLOOKUP(C714,BDDG!$A$3:$J$102,3,FALSE)),\"\",VLOOKUP(C714,BDDG!$A$3:$J$102,3,FALSE))","v":"A"},{"$f":"IF(ISNA(VLOOKUP(C714,BDDG!$A$3:$J$102,4,FALSE)),\"\",VLOOKUP(C714,BDDG!$A$3:$J$102,4,FALSE))","v":106},{"$f":"IF(ISNA(VLOOKUP(C714,BDDG!$A$2:$F$100,5,FALSE)),\"\",VLOOKUP(C714,BDDG!$A$2:$F$100,5,FALSE))","v":"A1"},{"$f":"IF(ISNA(VLOOKUP(C714,BDDG!$A$2:$F$100,6,FALSE)),\"\",VLOOKUP(C714,BDDG!$A$2:$F$100,6,FALSE))","v":"AA1"},{"$f":"IF(ISERROR(VLOOKUP(C714,BDDG!$A$2:$G$100,7,FALSE)),\"\",VLOOKUP(C714,BDDG!$A$2:$G$100,7,FALSE))","v":1},{"$f":"IF(ISERROR(VLOOKUP(C714,BDDG!$A$2:$H$100,8,FALSE)),\"\",VLOOKUP(C714,BDDG!$A$2:$H$100,8,FALSE))","v":"BB1"},10,9,96.000000000000014,{"$f":"IF(ISERROR(VLOOKUP(C714,BDDG!$A$2:$I$100,9,FALSE)),\"\",VLOOKUP(C714,BDDG!$A$2:$I$100,9,FALSE))","v":"CC1"},null,null,"",{"$f":"IF(ISERROR(VLOOKUP(C714,BDDG!$A$2:$J$100,10,FALSE)),\"\",VLOOKUP(C714,BDDG!$A$2:$J$100,10,FALSE))","v":"DD1"},null,null,"",96.000000000000014,12,2013,{"$f":"IFERROR(INDEX($V$2:V714,MATCH(H714&MAX(IF($H$1:H713=H714,$A$1:A713)),$H$2:H714&$A$2:A714,0))-V714,\"\")","v":-24}]
["2013-12-23",null,860,{"$f":"IF(ISNA(VLOOKUP(C715,BDDG!$A$2:$F$100,2,FALSE)),\"\",VLOOKUP(C715,BDDG!$A$2:$F$100,2,FALSE))","v":0},{"$f":"IF(ISNA(VLOOKUP(C715,BDDG!$A$3:$J$102,3,FALSE)),\"\",VLOOKUP(C715,BDDG!$A$3:$J$102,3,FALSE))","v":"A"},{"$f":"IF(ISNA(VLOOKUP(C715,BDDG!$A$3:$J$102,4,FALSE)),\"\",VLOOKUP(C715,BDDG!$A$3:$J$102,4,FALSE))","v":106},{"$f":"IF(ISNA(VLOOKUP(C715,BDDG!$A$2:$F$100,5,FALSE)),\"\",VLOOKUP(C715,BDDG!$A$2:$F$100,5,FALSE))","v":"A11"},{"$f":"IF(ISNA(VLOOKUP(C715,BDDG!$A$2:$F$100,6,FALSE)),\"\",VLOOKUP(C715,BDDG!$A$2:$F$100,6,FALSE))","v":"AA32"},{"$f":"IF(ISERROR(VLOOKUP(C715,BDDG!$A$2:$G$100,7,FALSE)),\"\",VLOOKUP(C715,BDDG!$A$2:$G$100,7,FALSE))","v":2},{"$f":"IF(ISERROR(VLOOKUP(C715,BDDG!$A$2:$H$100,8,FALSE)),\"\",VLOOKUP(C715,BDDG!$A$2:$H$100,8,FALSE))","v":"BB32"},10,3,288.00000000000006,{"$f":"IF(ISERROR(VLOOKUP(C715,BDDG!$A$2:$I$100,9,FALSE)),\"\",VLOOKUP(C715,BDDG!$A$2:$I$100,9,FALSE))","v":"CC32"},null,null,"",{"$f":"IF(ISERROR(VLOOKUP(C715,BDDG!$A$2:$J$100,10,FALSE)),\"\",VLOOKUP(C715,BDDG!$A$2:$J$100,10,FALSE))","v":"DD32"},null,null,"",288.00000000000006,12,2013,{"$f":"IFERROR(INDEX($V$2:V715,MATCH(H715&MAX(IF($H$1:H714=H715,$A$1:A714)),$H$2:H715&$A$2:A715,0))-V715,\"\")","v":-216.00000000000006}]
["2013-12-23",null,835,{"$f":"IF(ISNA(VLOOKUP(C716,BDDG!$A$2:$F$100,2,FALSE)),\"\",VLOOKUP(C716,BDDG!$A$2:$F$100,2,FALSE))","v":0},{"$f":"IF(ISNA(VLOOKUP(C716,BDDG!$A$3:$J$102,3,FALSE)),\"\",VLOOKUP(C716,BDDG!$A$3:$J$102,3,FALSE))","v":"A"},{"$f":"IF(ISNA(VLOOKUP(C716,BDDG!$A$3:$J$102,4,FALSE)),\"\",VLOOKUP(C716,BDDG!$A$3:$J$102,4,FALSE))","v":106},{"$f":"IF(ISNA(VLOOKUP(C716,BDDG!$A$2:$F$100,5,FALSE)),\"\",VLOOKUP(C716,BDDG!$A$2:$F$100,5,FALSE))","v":"A3"},{"$f":"IF(ISNA(VLOOKUP(C716,BDDG!$A$2:$F$100,6,FALSE)),\"\",VLOOKUP(C716,BDDG!$A$2:$F$100,6,FALSE))","v":"AA5"},{"$f":"IF(ISERROR(VLOOKUP(C716,BDDG!$A$2:$G$100,7,FALSE)),\"\",VLOOKUP(C716,BDDG!$A$2:$G$100,7,FALSE))","v":1},{"$f":"IF(ISERROR(VLOOKUP(C716,BDDG!$A$2:$H$100,8,FALSE)),\"\",VLOOKUP(C716,BDDG!$A$2:$H$100,8,FALSE))","v":"BB5"},10,75,11.520000000000001,{"$f":"IF(ISERROR(VLOOKUP(C716,BDDG!$A$2:$I$100,9,FALSE)),\"\",VLOOKUP(C716,BDDG!$A$2:$I$100,9,FALSE))","v":"CC5"},null,null,"",{"$f":"IF(ISERROR(VLOOKUP(C716,BDDG!$A$2:$J$100,10,FALSE)),\"\",VLOOKUP(C716,BDDG!$A$2:$J$100,10,FALSE))","v":"DD5"},null,null,"",11.520000000000001,12,2013,{"$f":"IFERROR(INDEX($V$2:V716,MATCH(H716&MAX(IF($H$1:H715=H716,$A$1:A715)),$H$2:H716&$A$2:A716,0))-V716,\"\")","v":-7.9200000000000017}]
["2013-12-24",null,832,{"$f":"IF(ISNA(VLOOKUP(C717,BDDG!$A$2:$F$100,2,FALSE)),\"\",VLOOKUP(C717,BDDG!$A$2:$F$100,2,FALSE))","v":0},{"$f":"IF(ISNA(VLOOKUP(C717,BDDG!$A$3:$J$102,3,FALSE)),\"\",VLOOKUP(C717,BDDG!$A$3:$J$102,3,FALSE))","v":"A"},{"$f":"IF(ISNA(VLOOKUP(C717,BDDG!$A$3:$J$102,4,FALSE)),\"\",VLOOKUP(C717,BDDG!$A$3:$J$102,4,FALSE))","v":106},{"$f":"IF(ISNA(VLOOKUP(C717,BDDG!$A$2:$F$100,5,FALSE)),\"\",VLOOKUP(C717,BDDG!$A$2:$F$100,5,FALSE))","v":"A2"},{"$f":"IF(ISNA(VLOOKUP(C717,BDDG!$A$2:$F$100,6,FALSE)),\"\",VLOOKUP(C717,BDDG!$A$2:$F$100,6,FALSE))","v":"AA2"},{"$f":"IF(ISERROR(VLOOKUP(C717,BDDG!$A$2:$G$100,7,FALSE)),\"\",VLOOKUP(C717,BDDG!$A$2:$G$100,7,FALSE))","v":1},{"$f":"IF(ISERROR(VLOOKUP(C717,BDDG!$A$2:$H$100,8,FALSE)),\"\",VLOOKUP(C717,BDDG!$A$2:$H$100,8,FALSE))","v":"BB2"},10,17,50.82352941176471,{"$f":"IF(ISERROR(VLOOKUP(C717,BDDG!$A$2:$I$100,9,FALSE)),\"\",VLOOKUP(C717,BDDG!$A$2:$I$100,9,FALSE))","v":"CC2"},null,null,"",{"$f":"IF(ISERROR(VLOOKUP(C717,BDDG!$A$2:$J$100,10,FALSE)),\"\",VLOOKUP(C717,BDDG!$A$2:$J$100,10,FALSE))","v":"DD2"},null,null,"",50.82352941176471,12,2013,{"$f":"IFERROR(INDEX($V$2:V717,MATCH(H717&MAX(IF($H$1:H716=H717,$A$1:A716)),$H$2:H717&$A$2:A717,0))-V717,\"\")","v":72.605042016806735}]
["2013-12-24",null,833,{"$f":"IF(ISNA(VLOOKUP(C718,BDDG!$A$2:$F$100,2,FALSE)),\"\",VLOOKUP(C718,BDDG!$A$2:$F$100,2,FALSE))","v":0},{"$f":"IF(ISNA(VLOOKUP(C718,BDDG!$A$3:$J$102,3,FALSE)),\"\",VLOOKUP(C718,BDDG!$A$3:$J$102,3,FALSE))","v":"A"},{"$f":"IF(ISNA(VLOOKUP(C718,BDDG!$A$3:$J$102,4,FALSE)),\"\",VLOOKUP(C718,BDDG!$A$3:$J$102,4,FALSE))","v":106},{"$f":"IF(ISNA(VLOOKUP(C718,BDDG!$A$2:$F$100,5,FALSE)),\"\",VLOOKUP(C718,BDDG!$A$2:$F$100,5,FALSE))","v":"A2"},{"$f":"IF(ISNA(VLOOKUP(C718,BDDG!$A$2:$F$100,6,FALSE)),\"\",VLOOKUP(C718,BDDG!$A$2:$F$100,6,FALSE))","v":"AA3"},{"$f":"IF(ISERROR(VLOOKUP(C718,BDDG!$A$2:$G$100,7,FALSE)),\"\",VLOOKUP(C718,BDDG!$A$2:$G$100,7,FALSE))","v":1},{"$f":"IF(ISERROR(VLOOKUP(C718,BDDG!$A$2:$H$100,8,FALSE)),\"\",VLOOKUP(C718,BDDG!$A$2:$H$100,8,FALSE))","v":"BB3"},10,12,72.000000000000014,{"$f":"IF(ISERROR(VLOOKUP(C718,BDDG!$A$2:$I$100,9,FALSE)),\"\",VLOOKUP(C718,BDDG!$A$2:$I$100,9,FALSE))","v":"CC3"},null,null,"",{"$f":"IF(ISERROR(VLOOKUP(C718,BDDG!$A$2:$J$100,10,FALSE)),\"\",VLOOKUP(C718,BDDG!$A$2:$J$100,10,FALSE))","v":"DD3"},null,null,"",72.000000000000014,12,2013,{"$f":"IFERROR(INDEX($V$2:V718,MATCH(H718&MAX(IF($H$1:H717=H718,$A$1:A717)),$H$2:H718&$A$2:A718,0))-V718,\"\")","v":100.8}]
["2013-12-24",null,834,{"$f":"IF(ISNA(VLOOKUP(C719,BDDG!$A$2:$F$100,2,FALSE)),\"\",VLOOKUP(C719,BDDG!$A$2:$F$100,2,FALSE))","v":0},{"$f":"IF(ISNA(VLOOKUP(C719,BDDG!$A$3:$J$102,3,FALSE)),\"\",VLOOKUP(C719,BDDG!$A$3:$J$102,3,FALSE))","v":"A"},{"$f":"IF(ISNA(VLOOKUP(C719,BDDG!$A$3:$J$102,4,FALSE)),\"\",VLOOKUP(C719,BDDG!$A$3:$J$102,4,FALSE))","v":106},{"$f":"IF(ISNA(VLOOKUP(C719,BDDG!$A$2:$F$100,5,FALSE)),\"\",VLOOKUP(C719,BDDG!$A$2:$F$100,5,FALSE))","v":"A2"},{"$f":"IF(ISNA(VLOOKUP(C719,BDDG!$A$2:$F$100,6,FALSE)),\"\",VLOOKUP(C719,BDDG!$A$2:$F$100,6,FALSE))","v":"AA4"},{"$f":"IF(ISERROR(VLOOKUP(C719,BDDG!$A$2:$G$100,7,FALSE)),\"\",VLOOKUP(C719,BDDG!$A$2:$G$100,7,FALSE))","v":1},{"$f":"IF(ISERROR(VLOOKUP(C719,BDDG!$A$2:$H$100,8,FALSE)),\"\",VLOOKUP(C719,BDDG!$A$2:$H$100,8,FALSE))","v":"BB4"},10,31,27.870967741935484,{"$f":"IF(ISERROR(VLOOKUP(C719,BDDG!$A$2:$I$100,9,FALSE)),\"\",VLOOKUP(C719,BDDG!$A$2:$I$100,9,FALSE))","v":"CC4"},null,null,"",{"$f":"IF(ISERROR(VLOOKUP(C719,BDDG!$A$2:$J$100,10,FALSE)),\"\",VLOOKUP(C719,BDDG!$A$2:$J$100,10,FALSE))","v":"DD4"},null,null,"",27.870967741935484,12,2013,{"$f":"IFERROR(INDEX($V$2:V719,MATCH(H719&MAX(IF($H$1:H718=H719,$A$1:A718)),$H$2:H719&$A$2:A719,0))-V719,\"\")","v":-18.270967741935486}]
["2013-12-26",null,869,{"$f":"IF(ISNA(VLOOKUP(C720,BDDG!$A$2:$F$100,2,FALSE)),\"\",VLOOKUP(C720,BDDG!$A$2:$F$100,2,FALSE))","v":0},{"$f":"IF(ISNA(VLOOKUP(C720,BDDG!$A$3:$J$102,3,FALSE)),\"\",VLOOKUP(C720,BDDG!$A$3:$J$102,3,FALSE))","v":"A"},{"$f":"IF(ISNA(VLOOKUP(C720,BDDG!$A$3:$J$102,4,FALSE)),\"\",VLOOKUP(C720,BDDG!$A$3:$J$102,4,FALSE))","v":108},{"$f":"IF(ISNA(VLOOKUP(C720,BDDG!$A$2:$F$100,5,FALSE)),\"\",VLOOKUP(C720,BDDG!$A$2:$F$100,5,FALSE))","v":"A16"},{"$f":"IF(ISNA(VLOOKUP(C720,BDDG!$A$2:$F$100,6,FALSE)),\"\",VLOOKUP(C720,BDDG!$A$2:$F$100,6,FALSE))","v":"AA40"},{"$f":"IF(ISERROR(VLOOKUP(C720,BDDG!$A$2:$G$100,7,FALSE)),\"\",VLOOKUP(C720,BDDG!$A$2:$G$100,7,FALSE))","v":3},{"$f":"IF(ISERROR(VLOOKUP(C720,BDDG!$A$2:$H$100,8,FALSE)),\"\",VLOOKUP(C720,BDDG!$A$2:$H$100,8,FALSE))","v":"BB40"},10,80,10.8,{"$f":"IF(ISERROR(VLOOKUP(C720,BDDG!$A$2:$I$100,9,FALSE)),\"\",VLOOKUP(C720,BDDG!$A$2:$I$100,9,FALSE))","v":"CC40"},null,null,"",{"$f":"IF(ISERROR(VLOOKUP(C720,BDDG!$A$2:$J$100,10,FALSE)),\"\",VLOOKUP(C720,BDDG!$A$2:$J$100,10,FALSE))","v":"DD40"},null,null,"",10.8,12,2013,{"$f":"IFERROR(INDEX($V$2:V720,MATCH(H720&MAX(IF($H$1:H719=H720,$A$1:A719)),$H$2:H720&$A$2:A720,0))-V720,\"\")","v":-8.9810526315789474}]
["2013-12-26",null,842,{"$f":"IF(ISNA(VLOOKUP(C721,BDDG!$A$2:$F$100,2,FALSE)),\"\",VLOOKUP(C721,BDDG!$A$2:$F$100,2,FALSE))","v":0},{"$f":"IF(ISNA(VLOOKUP(C721,BDDG!$A$3:$J$102,3,FALSE)),\"\",VLOOKUP(C721,BDDG!$A$3:$J$102,3,FALSE))","v":"B"},{"$f":"IF(ISNA(VLOOKUP(C721,BDDG!$A$3:$J$102,4,FALSE)),\"\",VLOOKUP(C721,BDDG!$A$3:$J$102,4,FALSE))","v":106},{"$f":"IF(ISNA(VLOOKUP(C721,BDDG!$A$2:$F$100,5,FALSE)),\"\",VLOOKUP(C721,BDDG!$A$2:$F$100,5,FALSE))","v":"A5"},{"$f":"IF(ISNA(VLOOKUP(C721,BDDG!$A$2:$F$100,6,FALSE)),\"\",VLOOKUP(C721,BDDG!$A$2:$F$100,6,FALSE))","v":"AA13"},{"$f":"IF(ISERROR(VLOOKUP(C721,BDDG!$A$2:$G$100,7,FALSE)),\"\",VLOOKUP(C721,BDDG!$A$2:$G$100,7,FALSE))","v":1},{"$f":"IF(ISERROR(VLOOKUP(C721,BDDG!$A$2:$H$100,8,FALSE)),\"\",VLOOKUP(C721,BDDG!$A$2:$H$100,8,FALSE))","v":"BB13"},10,38,22.736842105263158,{"$f":"IF(ISERROR(VLOOKUP(C721,BDDG!$A$2:$I$100,9,FALSE)),\"\",VLOOKUP(C721,BDDG!$A$2:$I$100,9,FALSE))","v":"CC13"},null,null,"",{"$f":"IF(ISERROR(VLOOKUP(C721,BDDG!$A$2:$J$100,10,FALSE)),\"\",VLOOKUP(C721,BDDG!$A$2:$J$100,10,FALSE))","v":"DD13"},null,null,"",22.736842105263158,12,2013,{"$f":"IFERROR(INDEX($V$2:V721,MATCH(H721&MAX(IF($H$1:H720=H721,$A$1:A720)),$H$2:H721&$A$2:A721,0))-V721,\"\")","v":63.663157894736848}]
["2013-12-26",null,848,{"$f":"IF(ISNA(VLOOKUP(C722,BDDG!$A$2:$F$100,2,FALSE)),\"\",VLOOKUP(C722,BDDG!$A$2:$F$100,2,FALSE))","v":0},{"$f":"IF(ISNA(VLOOKUP(C722,BDDG!$A$3:$J$102,3,FALSE)),\"\",VLOOKUP(C722,BDDG!$A$3:$J$102,3,FALSE))","v":"B"},{"$f":"IF(ISNA(VLOOKUP(C722,BDDG!$A$3:$J$102,4,FALSE)),\"\",VLOOKUP(C722,BDDG!$A$3:$J$102,4,FALSE))","v":106},{"$f":"IF(ISNA(VLOOKUP(C722,BDDG!$A$2:$F$100,5,FALSE)),\"\",VLOOKUP(C722,BDDG!$A$2:$F$100,5,FALSE))","v":"A7"},{"$f":"IF(ISNA(VLOOKUP(C722,BDDG!$A$2:$F$100,6,FALSE)),\"\",VLOOKUP(C722,BDDG!$A$2:$F$100,6,FALSE))","v":"AA19"},{"$f":"IF(ISERROR(VLOOKUP(C722,BDDG!$A$2:$G$100,7,FALSE)),\"\",VLOOKUP(C722,BDDG!$A$2:$G$100,7,FALSE))","v":2},{"$f":"IF(ISERROR(VLOOKUP(C722,BDDG!$A$2:$H$100,8,FALSE)),\"\",VLOOKUP(C722,BDDG!$A$2:$H$100,8,FALSE))","v":"BB19"},10,16,54,{"$f":"IF(ISERROR(VLOOKUP(C722,BDDG!$A$2:$I$100,9,FALSE)),\"\",VLOOKUP(C722,BDDG!$A$2:$I$100,9,FALSE))","v":"CC19"},null,null,"",{"$f":"IF(ISERROR(VLOOKUP(C722,BDDG!$A$2:$J$100,10,FALSE)),\"\",VLOOKUP(C722,BDDG!$A$2:$J$100,10,FALSE))","v":"DD19"},null,null,"",54,12,2013,{"$f":"IFERROR(INDEX($V$2:V722,MATCH(H722&MAX(IF($H$1:H721=H722,$A$1:A721)),$H$2:H722&$A$2:A722,0))-V722,\"\")","v":42.000000000000014}]
["2013-12-26",null,867,{"$f":"IF(ISNA(VLOOKUP(C723,BDDG!$A$2:$F$100,2,FALSE)),\"\",VLOOKUP(C723,BDDG!$A$2:$F$100,2,FALSE))","v":0},{"$f":"IF(ISNA(VLOOKUP(C723,BDDG!$A$3:$J$102,3,FALSE)),\"\",VLOOKUP(C723,BDDG!$A$3:$J$102,3,FALSE))","v":"C"},{"$f":"IF(ISNA(VLOOKUP(C723,BDDG!$A$3:$J$102,4,FALSE)),\"\",VLOOKUP(C723,BDDG!$A$3:$J$102,4,FALSE))","v":108},{"$f":"IF(ISNA(VLOOKUP(C723,BDDG!$A$2:$F$100,5,FALSE)),\"\",VLOOKUP(C723,BDDG!$A$2:$F$100,5,FALSE))","v":"A17"},{"$f":"IF(ISNA(VLOOKUP(C723,BDDG!$A$2:$F$100,6,FALSE)),\"\",VLOOKUP(C723,BDDG!$A$2:$F$100,6,FALSE))","v":"AA43"},{"$f":"IF(ISERROR(VLOOKUP(C723,BDDG!$A$2:$G$100,7,FALSE)),\"\",VLOOKUP(C723,BDDG!$A$2:$G$100,7,FALSE))","v":1},{"$f":"IF(ISERROR(VLOOKUP(C723,BDDG!$A$2:$H$100,8,FALSE)),\"\",VLOOKUP(C723,BDDG!$A$2:$H$100,8,FALSE))","v":"BB43"},10,24,36.000000000000007,{"$f":"IF(ISERROR(VLOOKUP(C723,BDDG!$A$2:$I$100,9,FALSE)),\"\",VLOOKUP(C723,BDDG!$A$2:$I$100,9,FALSE))","v":"CC43"},null,null,null,{"$f":"IF(ISERROR(VLOOKUP(C723,BDDG!$A$2:$J$100,10,FALSE)),\"\",VLOOKUP(C723,BDDG!$A$2:$J$100,10,FALSE))","v":"DD43"},null,null,"",36.000000000000007,12,2013,{"$f":"IFERROR(INDEX($V$2:V723,MATCH(H723&MAX(IF($H$1:H722=H723,$A$1:A722)),$H$2:H723&$A$2:A723,0))-V723,\"\")","v":7.1999999999999957}]
["2013-12-26",null,847,{"$f":"IF(ISNA(VLOOKUP(C724,BDDG!$A$2:$F$100,2,FALSE)),\"\",VLOOKUP(C724,BDDG!$A$2:$F$100,2,FALSE))","v":0},{"$f":"IF(ISNA(VLOOKUP(C724,BDDG!$A$3:$J$102,3,FALSE)),\"\",VLOOKUP(C724,BDDG!$A$3:$J$102,3,FALSE))","v":"B"},{"$f":"IF(ISNA(VLOOKUP(C724,BDDG!$A$3:$J$102,4,FALSE)),\"\",VLOOKUP(C724,BDDG!$A$3:$J$102,4,FALSE))","v":106},{"$f":"IF(ISNA(VLOOKUP(C724,BDDG!$A$2:$F$100,5,FALSE)),\"\",VLOOKUP(C724,BDDG!$A$2:$F$100,5,FALSE))","v":"A7"},{"$f":"IF(ISNA(VLOOKUP(C724,BDDG!$A$2:$F$100,6,FALSE)),\"\",VLOOKUP(C724,BDDG!$A$2:$F$100,6,FALSE))","v":"AA18"},{"$f":"IF(ISERROR(VLOOKUP(C724,BDDG!$A$2:$G$100,7,FALSE)),\"\",VLOOKUP(C724,BDDG!$A$2:$G$100,7,FALSE))","v":2},{"$f":"IF(ISERROR(VLOOKUP(C724,BDDG!$A$2:$H$100,8,FALSE)),\"\",VLOOKUP(C724,BDDG!$A$2:$H$100,8,FALSE))","v":"BB18"},10,16,54,{"$f":"IF(ISERROR(VLOOKUP(C724,BDDG!$A$2:$I$100,9,FALSE)),\"\",VLOOKUP(C724,BDDG!$A$2:$I$100,9,FALSE))","v":"CC18"},10,34,{"$f":" IF(ISERROR(O724/P724*86.4),\"\",O724/P724*86.4)","v":25.411764705882355},{"$f":"IF(ISERROR(VLOOKUP(C724,BDDG!$A$2:$J$100,10,FALSE)),\"\",VLOOKUP(C724,BDDG!$A$2:$J$100,10,FALSE))","v":"DD18"},null,null,"",79.411764705882348,12,2013,{"$f":"IFERROR(INDEX($V$2:V724,MATCH(H724&MAX(IF($H$1:H723=H724,$A$1:A723)),$H$2:H724&$A$2:A724,0))-V724,\"\")","v":51.148235294117654}]
["2013-12-26",null,868,{"$f":"IF(ISNA(VLOOKUP(C725,BDDG!$A$2:$F$100,2,FALSE)),\"\",VLOOKUP(C725,BDDG!$A$2:$F$100,2,FALSE))","v":0},{"$f":"IF(ISNA(VLOOKUP(C725,BDDG!$A$3:$J$102,3,FALSE)),\"\",VLOOKUP(C725,BDDG!$A$3:$J$102,3,FALSE))","v":"A"},{"$f":"IF(ISNA(VLOOKUP(C725,BDDG!$A$3:$J$102,4,FALSE)),\"\",VLOOKUP(C725,BDDG!$A$3:$J$102,4,FALSE))","v":108},{"$f":"IF(ISNA(VLOOKUP(C725,BDDG!$A$2:$F$100,5,FALSE)),\"\",VLOOKUP(C725,BDDG!$A$2:$F$100,5,FALSE))","v":"A16"},{"$f":"IF(ISNA(VLOOKUP(C725,BDDG!$A$2:$F$100,6,FALSE)),\"\",VLOOKUP(C725,BDDG!$A$2:$F$100,6,FALSE))","v":"AA39"},{"$f":"IF(ISERROR(VLOOKUP(C725,BDDG!$A$2:$G$100,7,FALSE)),\"\",VLOOKUP(C725,BDDG!$A$2:$G$100,7,FALSE))","v":2},{"$f":"IF(ISERROR(VLOOKUP(C725,BDDG!$A$2:$H$100,8,FALSE)),\"\",VLOOKUP(C725,BDDG!$A$2:$H$100,8,FALSE))","v":"BB39"},10,7,123.42857142857144,{"$f":"IF(ISERROR(VLOOKUP(C725,BDDG!$A$2:$I$100,9,FALSE)),\"\",VLOOKUP(C725,BDDG!$A$2:$I$100,9,FALSE))","v":"CC39"},null,null,{"$f":" IF(ISERROR(O725/P725*86.4),\"\",O725/P725*86.4)","v":""},{"$f":"IF(ISERROR(VLOOKUP(C725,BDDG!$A$2:$J$100,10,FALSE)),\"\",VLOOKUP(C725,BDDG!$A$2:$J$100,10,FALSE))","v":"DD39"},null,null,"",123.42857142857144,12,2013,{"$f":"IFERROR(INDEX($V$2:V725,MATCH(H725&MAX(IF($H$1:H724=H725,$A$1:A724)),$H$2:H725&$A$2:A725,0))-V725,\"\")","v":-54.30857142857144}]
["2013-12-26",null,870,{"$f":"IF(ISNA(VLOOKUP(C726,BDDG!$A$2:$F$100,2,FALSE)),\"\",VLOOKUP(C726,BDDG!$A$2:$F$100,2,FALSE))","v":0},{"$f":"IF(ISNA(VLOOKUP(C726,BDDG!$A$3:$J$102,3,FALSE)),\"\",VLOOKUP(C726,BDDG!$A$3:$J$102,3,FALSE))","v":"A"},{"$f":"IF(ISNA(VLOOKUP(C726,BDDG!$A$3:$J$102,4,FALSE)),\"\",VLOOKUP(C726,BDDG!$A$3:$J$102,4,FALSE))","v":108},{"$f":"IF(ISNA(VLOOKUP(C726,BDDG!$A$2:$F$100,5,FALSE)),\"\",VLOOKUP(C726,BDDG!$A$2:$F$100,5,FALSE))","v":"A16"},{"$f":"IF(ISNA(VLOOKUP(C726,BDDG!$A$2:$F$100,6,FALSE)),\"\",VLOOKUP(C726,BDDG!$A$2:$F$100,6,FALSE))","v":"AA41"},{"$f":"IF(ISERROR(VLOOKUP(C726,BDDG!$A$2:$G$100,7,FALSE)),\"\",VLOOKUP(C726,BDDG!$A$2:$G$100,7,FALSE))","v":2},{"$f":"IF(ISERROR(VLOOKUP(C726,BDDG!$A$2:$H$100,8,FALSE)),\"\",VLOOKUP(C726,BDDG!$A$2:$H$100,8,FALSE))","v":"BB41"},10,71,12.169014084507044,{"$f":"IF(ISERROR(VLOOKUP(C726,BDDG!$A$2:$I$100,9,FALSE)),\"\",VLOOKUP(C726,BDDG!$A$2:$I$100,9,FALSE))","v":"CC41"},10,35,{"$f":" IF(ISERROR(O726/P726*86.4),\"\",O726/P726*86.4)","v":24.685714285714287},{"$f":"IF(ISERROR(VLOOKUP(C726,BDDG!$A$2:$J$100,10,FALSE)),\"\",VLOOKUP(C726,BDDG!$A$2:$J$100,10,FALSE))","v":"DD41"},null,null,"",36.854728370221331,12,2013,{"$f":"IFERROR(INDEX($V$2:V726,MATCH(H726&MAX(IF($H$1:H725=H726,$A$1:A725)),$H$2:H726&$A$2:A726,0))-V726,\"\")","v":6.3452716297786722}]
["2013-12-26",null,866,{"$f":"IF(ISNA(VLOOKUP(C727,BDDG!$A$2:$F$100,2,FALSE)),\"\",VLOOKUP(C727,BDDG!$A$2:$F$100,2,FALSE))","v":0},{"$f":"IF(ISNA(VLOOKUP(C727,BDDG!$A$3:$J$102,3,FALSE)),\"\",VLOOKUP(C727,BDDG!$A$3:$J$102,3,FALSE))","v":"C"},{"$f":"IF(ISNA(VLOOKUP(C727,BDDG!$A$3:$J$102,4,FALSE)),\"\",VLOOKUP(C727,BDDG!$A$3:$J$102,4,FALSE))","v":108},{"$f":"IF(ISNA(VLOOKUP(C727,BDDG!$A$2:$F$100,5,FALSE)),\"\",VLOOKUP(C727,BDDG!$A$2:$F$100,5,FALSE))","v":"A17"},{"$f":"IF(ISNA(VLOOKUP(C727,BDDG!$A$2:$F$100,6,FALSE)),\"\",VLOOKUP(C727,BDDG!$A$2:$F$100,6,FALSE))","v":"AA42"},{"$f":"IF(ISERROR(VLOOKUP(C727,BDDG!$A$2:$G$100,7,FALSE)),\"\",VLOOKUP(C727,BDDG!$A$2:$G$100,7,FALSE))","v":1},{"$f":"IF(ISERROR(VLOOKUP(C727,BDDG!$A$2:$H$100,8,FALSE)),\"\",VLOOKUP(C727,BDDG!$A$2:$H$100,8,FALSE))","v":"BB42"},1.8,1,155.52000000000001,{"$f":"IF(ISERROR(VLOOKUP(C727,BDDG!$A$2:$I$100,9,FALSE)),\"\",VLOOKUP(C727,BDDG!$A$2:$I$100,9,FALSE))","v":"CC42"},null,null,null,{"$f":"IF(ISERROR(VLOOKUP(C727,BDDG!$A$2:$J$100,10,FALSE)),\"\",VLOOKUP(C727,BDDG!$A$2:$J$100,10,FALSE))","v":"DD42"},null,null,"",155.52000000000001,12,2013,{"$f":"IFERROR(INDEX($V$2:V727,MATCH(H727&MAX(IF($H$1:H726=H727,$A$1:A726)),$H$2:H727&$A$2:A727,0))-V727,\"\")","v":-103.68}]
["2013-12-26",null,844,{"$f":"IF(ISNA(VLOOKUP(C728,BDDG!$A$2:$F$100,2,FALSE)),\"\",VLOOKUP(C728,BDDG!$A$2:$F$100,2,FALSE))","v":0},{"$f":"IF(ISNA(VLOOKUP(C728,BDDG!$A$3:$J$102,3,FALSE)),\"\",VLOOKUP(C728,BDDG!$A$3:$J$102,3,FALSE))","v":"B"},{"$f":"IF(ISNA(VLOOKUP(C728,BDDG!$A$3:$J$102,4,FALSE)),\"\",VLOOKUP(C728,BDDG!$A$3:$J$102,4,FALSE))","v":106},{"$f":"IF(ISNA(VLOOKUP(C728,BDDG!$A$2:$F$100,5,FALSE)),\"\",VLOOKUP(C728,BDDG!$A$2:$F$100,5,FALSE))","v":"A6"},{"$f":"IF(ISNA(VLOOKUP(C728,BDDG!$A$2:$F$100,6,FALSE)),\"\",VLOOKUP(C728,BDDG!$A$2:$F$100,6,FALSE))","v":"AA14"},{"$f":"IF(ISERROR(VLOOKUP(C728,BDDG!$A$2:$G$100,7,FALSE)),\"\",VLOOKUP(C728,BDDG!$A$2:$G$100,7,FALSE))","v":2},{"$f":"IF(ISERROR(VLOOKUP(C728,BDDG!$A$2:$H$100,8,FALSE)),\"\",VLOOKUP(C728,BDDG!$A$2:$H$100,8,FALSE))","v":"BB14"},10,10,86.4,{"$f":"IF(ISERROR(VLOOKUP(C728,BDDG!$A$2:$I$100,9,FALSE)),\"\",VLOOKUP(C728,BDDG!$A$2:$I$100,9,FALSE))","v":"CC14"},null,null,{"$f":" IF(ISERROR(O728/P728*86.4),\"\",O728/P728*86.4)","v":""},{"$f":"IF(ISERROR(VLOOKUP(C728,BDDG!$A$2:$J$100,10,FALSE)),\"\",VLOOKUP(C728,BDDG!$A$2:$J$100,10,FALSE))","v":"DD14"},null,null,"",86.4,12,2013,{"$f":"IFERROR(INDEX($V$2:V728,MATCH(H728&MAX(IF($H$1:H727=H728,$A$1:A727)),$H$2:H728&$A$2:A728,0))-V728,\"\")","v":-24.685714285714283}]
["2013-12-26",null,849,{"$f":"IF(ISNA(VLOOKUP(C729,BDDG!$A$2:$F$100,2,FALSE)),\"\",VLOOKUP(C729,BDDG!$A$2:$F$100,2,FALSE))","v":0},{"$f":"IF(ISNA(VLOOKUP(C729,BDDG!$A$3:$J$102,3,FALSE)),\"\",VLOOKUP(C729,BDDG!$A$3:$J$102,3,FALSE))","v":"B"},{"$f":"IF(ISNA(VLOOKUP(C729,BDDG!$A$3:$J$102,4,FALSE)),\"\",VLOOKUP(C729,BDDG!$A$3:$J$102,4,FALSE))","v":106},{"$f":"IF(ISNA(VLOOKUP(C729,BDDG!$A$2:$F$100,5,FALSE)),\"\",VLOOKUP(C729,BDDG!$A$2:$F$100,5,FALSE))","v":"A7"},{"$f":"IF(ISNA(VLOOKUP(C729,BDDG!$A$2:$F$100,6,FALSE)),\"\",VLOOKUP(C729,BDDG!$A$2:$F$100,6,FALSE))","v":"AA15"},{"$f":"IF(ISERROR(VLOOKUP(C729,BDDG!$A$2:$G$100,7,FALSE)),\"\",VLOOKUP(C729,BDDG!$A$2:$G$100,7,FALSE))","v":2},{"$f":"IF(ISERROR(VLOOKUP(C729,BDDG!$A$2:$H$100,8,FALSE)),\"\",VLOOKUP(C729,BDDG!$A$2:$H$100,8,FALSE))","v":"BB15"},10,20,43.2,{"$f":"IF(ISERROR(VLOOKUP(C729,BDDG!$A$2:$I$100,9,FALSE)),\"\",VLOOKUP(C729,BDDG!$A$2:$I$100,9,FALSE))","v":"CC15"},10,15,57.6,{"$f":"IF(ISERROR(VLOOKUP(C729,BDDG!$A$2:$J$100,10,FALSE)),\"\",VLOOKUP(C729,BDDG!$A$2:$J$100,10,FALSE))","v":"DD15"},null,null,"",100.80000000000001,12,2013,{"$f":"IFERROR(INDEX($V$2:V729,MATCH(H729&MAX(IF($H$1:H728=H729,$A$1:A728)),$H$2:H729&$A$2:A729,0))-V729,\"\")","v":103.19999999999999}]
["2014-01-13",null,874,{"$f":"IF(ISNA(VLOOKUP(C730,BDDG!$A$2:$F$100,2,FALSE)),\"\",VLOOKUP(C730,BDDG!$A$2:$F$100,2,FALSE))","v":0},{"$f":"IF(ISNA(VLOOKUP(C730,BDDG!$A$3:$J$102,3,FALSE)),\"\",VLOOKUP(C730,BDDG!$A$3:$J$102,3,FALSE))","v":"C"},{"$f":"IF(ISNA(VLOOKUP(C730,BDDG!$A$3:$J$102,4,FALSE)),\"\",VLOOKUP(C730,BDDG!$A$3:$J$102,4,FALSE))","v":108},{"$f":"IF(ISNA(VLOOKUP(C730,BDDG!$A$2:$F$100,5,FALSE)),\"\",VLOOKUP(C730,BDDG!$A$2:$F$100,5,FALSE))","v":"A18"},{"$f":"IF(ISNA(VLOOKUP(C730,BDDG!$A$2:$F$100,6,FALSE)),\"\",VLOOKUP(C730,BDDG!$A$2:$F$100,6,FALSE))","v":"AA47"},{"$f":"IF(ISERROR(VLOOKUP(C730,BDDG!$A$2:$G$100,7,FALSE)),\"\",VLOOKUP(C730,BDDG!$A$2:$G$100,7,FALSE))","v":1},{"$f":"IF(ISERROR(VLOOKUP(C730,BDDG!$A$2:$H$100,8,FALSE)),\"\",VLOOKUP(C730,BDDG!$A$2:$H$100,8,FALSE))","v":"BB47"},10,10,{"$f":" IF(ISERROR(K730/L730*86.4),\"\",K730/L730*86.4)","v":86.4},{"$f":"IF(ISERROR(VLOOKUP(C730,BDDG!$A$2:$I$100,9,FALSE)),\"\",VLOOKUP(C730,BDDG!$A$2:$I$100,9,FALSE))","v":"CC47"},null,null,"",{"$f":"IF(ISERROR(VLOOKUP(C730,BDDG!$A$2:$J$100,10,FALSE)),\"\",VLOOKUP(C730,BDDG!$A$2:$J$100,10,FALSE))","v":"DD47"},null,null,"",{"$f":"IF(ISERROR(SUM(M730,Q730,U730)),\"\",SUM(M730,Q730,U730))","v":86.4},1,2014,{"$f":"IFERROR(INDEX($V$2:V730,MATCH(H730&MAX(IF($H$1:H729=H730,$A$1:A729)),$H$2:H730&$A$2:A730,0))-V730,\"\")","v":-49.029757785467133}]
["2014-01-13",null,873,{"$f":"IF(ISNA(VLOOKUP(C731,BDDG!$A$2:$F$100,2,FALSE)),\"\",VLOOKUP(C731,BDDG!$A$2:$F$100,2,FALSE))","v":0},{"$f":"IF(ISNA(VLOOKUP(C731,BDDG!$A$3:$J$102,3,FALSE)),\"\",VLOOKUP(C731,BDDG!$A$3:$J$102,3,FALSE))","v":"C"},{"$f":"IF(ISNA(VLOOKUP(C731,BDDG!$A$3:$J$102,4,FALSE)),\"\",VLOOKUP(C731,BDDG!$A$3:$J$102,4,FALSE))","v":108},{"$f":"IF(ISNA(VLOOKUP(C731,BDDG!$A$2:$F$100,5,FALSE)),\"\",VLOOKUP(C731,BDDG!$A$2:$F$100,5,FALSE))","v":"A18"},{"$f":"IF(ISNA(VLOOKUP(C731,BDDG!$A$2:$F$100,6,FALSE)),\"\",VLOOKUP(C731,BDDG!$A$2:$F$100,6,FALSE))","v":"AA46"},{"$f":"IF(ISERROR(VLOOKUP(C731,BDDG!$A$2:$G$100,7,FALSE)),\"\",VLOOKUP(C731,BDDG!$A$2:$G$100,7,FALSE))","v":1},{"$f":"IF(ISERROR(VLOOKUP(C731,BDDG!$A$2:$H$100,8,FALSE)),\"\",VLOOKUP(C731,BDDG!$A$2:$H$100,8,FALSE))","v":"BB46"},10,1,864,{"$f":"IF(ISERROR(VLOOKUP(C731,BDDG!$A$2:$I$100,9,FALSE)),\"\",VLOOKUP(C731,BDDG!$A$2:$I$100,9,FALSE))","v":"CC46"},null,null,"",{"$f":"IF(ISERROR(VLOOKUP(C731,BDDG!$A$2:$J$100,10,FALSE)),\"\",VLOOKUP(C731,BDDG!$A$2:$J$100,10,FALSE))","v":"DD46"},null,null,"",864,1,2014,{"$f":"IFERROR(INDEX($V$2:V731,MATCH(H731&MAX(IF($H$1:H730=H731,$A$1:A730)),$H$2:H731&$A$2:A731,0))-V731,\"\")","v":-488.34782608695645}]
["2014-01-13",null,877,{"$f":"IF(ISNA(VLOOKUP(C732,BDDG!$A$2:$F$100,2,FALSE)),\"\",VLOOKUP(C732,BDDG!$A$2:$F$100,2,FALSE))","v":0},{"$f":"IF(ISNA(VLOOKUP(C732,BDDG!$A$3:$J$102,3,FALSE)),\"\",VLOOKUP(C732,BDDG!$A$3:$J$102,3,FALSE))","v":"C"},{"$f":"IF(ISNA(VLOOKUP(C732,BDDG!$A$3:$J$102,4,FALSE)),\"\",VLOOKUP(C732,BDDG!$A$3:$J$102,4,FALSE))","v":108},{"$f":"IF(ISNA(VLOOKUP(C732,BDDG!$A$2:$F$100,5,FALSE)),\"\",VLOOKUP(C732,BDDG!$A$2:$F$100,5,FALSE))","v":"A18"},{"$f":"IF(ISNA(VLOOKUP(C732,BDDG!$A$2:$F$100,6,FALSE)),\"\",VLOOKUP(C732,BDDG!$A$2:$F$100,6,FALSE))","v":"AA50"},{"$f":"IF(ISERROR(VLOOKUP(C732,BDDG!$A$2:$G$100,7,FALSE)),\"\",VLOOKUP(C732,BDDG!$A$2:$G$100,7,FALSE))","v":2},{"$f":"IF(ISERROR(VLOOKUP(C732,BDDG!$A$2:$H$100,8,FALSE)),\"\",VLOOKUP(C732,BDDG!$A$2:$H$100,8,FALSE))","v":"BB50"},10,15,57.6,{"$f":"IF(ISERROR(VLOOKUP(C732,BDDG!$A$2:$I$100,9,FALSE)),\"\",VLOOKUP(C732,BDDG!$A$2:$I$100,9,FALSE))","v":"CC50"},10,3,288.00000000000006,{"$f":"IF(ISERROR(VLOOKUP(C732,BDDG!$A$2:$J$100,10,FALSE)),\"\",VLOOKUP(C732,BDDG!$A$2:$J$100,10,FALSE))","v":"DD50"},null,null,"",345.60000000000008,1,2014,{"$f":"IFERROR(INDEX($V$2:V732,MATCH(H732&MAX(IF($H$1:H731=H732,$A$1:A731)),$H$2:H732&$A$2:A732,0))-V732,\"\")","v":-210.48242355765842}]
["2014-01-13",null,875,{"$f":"IF(ISNA(VLOOKUP(C733,BDDG!$A$2:$F$100,2,FALSE)),\"\",VLOOKUP(C733,BDDG!$A$2:$F$100,2,FALSE))","v":0},{"$f":"IF(ISNA(VLOOKUP(C733,BDDG!$A$3:$J$102,3,FALSE)),\"\",VLOOKUP(C733,BDDG!$A$3:$J$102,3,FALSE))","v":"C"},{"$f":"IF(ISNA(VLOOKUP(C733,BDDG!$A$3:$J$102,4,FALSE)),\"\",VLOOKUP(C733,BDDG!$A$3:$J$102,4,FALSE))","v":108},{"$f":"IF(ISNA(VLOOKUP(C733,BDDG!$A$2:$F$100,5,FALSE)),\"\",VLOOKUP(C733,BDDG!$A$2:$F$100,5,FALSE))","v":"A18"},{"$f":"IF(ISNA(VLOOKUP(C733,BDDG!$A$2:$F$100,6,FALSE)),\"\",VLOOKUP(C733,BDDG!$A$2:$F$100,6,FALSE))","v":"AA48"},{"$f":"IF(ISERROR(VLOOKUP(C733,BDDG!$A$2:$G$100,7,FALSE)),\"\",VLOOKUP(C733,BDDG!$A$2:$G$100,7,FALSE))","v":1},{"$f":"IF(ISERROR(VLOOKUP(C733,BDDG!$A$2:$H$100,8,FALSE)),\"\",VLOOKUP(C733,BDDG!$A$2:$H$100,8,FALSE))","v":"BB48"},10,25,34.56,{"$f":"IF(ISERROR(VLOOKUP(C733,BDDG!$A$2:$I$100,9,FALSE)),\"\",VLOOKUP(C733,BDDG!$A$2:$I$100,9,FALSE))","v":"CC48"},null,null,"",{"$f":"IF(ISERROR(VLOOKUP(C733,BDDG!$A$2:$J$100,10,FALSE)),\"\",VLOOKUP(C733,BDDG!$A$2:$J$100,10,FALSE))","v":"DD48"},null,null,"",34.56,1,2014,{"$f":"IFERROR(INDEX($V$2:V733,MATCH(H733&MAX(IF($H$1:H732=H733,$A$1:A732)),$H$2:H733&$A$2:A733,0))-V733,\"\")","v":3.1857404980340718}]
["2014-02-11",null,838,{"$f":"IF(ISNA(VLOOKUP(C734,BDDG!$A$2:$F$100,2,FALSE)),\"\",VLOOKUP(C734,BDDG!$A$2:$F$100,2,FALSE))","v":0},{"$f":"IF(ISNA(VLOOKUP(C734,BDDG!$A$3:$J$102,3,FALSE)),\"\",VLOOKUP(C734,BDDG!$A$3:$J$102,3,FALSE))","v":"A"},{"$f":"IF(ISNA(VLOOKUP(C734,BDDG!$A$3:$J$102,4,FALSE)),\"\",VLOOKUP(C734,BDDG!$A$3:$J$102,4,FALSE))","v":106},{"$f":"IF(ISNA(VLOOKUP(C734,BDDG!$A$2:$F$100,5,FALSE)),\"\",VLOOKUP(C734,BDDG!$A$2:$F$100,5,FALSE))","v":"A3"},{"$f":"IF(ISNA(VLOOKUP(C734,BDDG!$A$2:$F$100,6,FALSE)),\"\",VLOOKUP(C734,BDDG!$A$2:$F$100,6,FALSE))","v":"AA8"},{"$f":"IF(ISERROR(VLOOKUP(C734,BDDG!$A$2:$G$100,7,FALSE)),\"\",VLOOKUP(C734,BDDG!$A$2:$G$100,7,FALSE))","v":1},{"$f":"IF(ISERROR(VLOOKUP(C734,BDDG!$A$2:$H$100,8,FALSE)),\"\",VLOOKUP(C734,BDDG!$A$2:$H$100,8,FALSE))","v":"BB8"},4.5,4,97.2,{"$f":"IF(ISERROR(VLOOKUP(C734,BDDG!$A$2:$I$100,9,FALSE)),\"\",VLOOKUP(C734,BDDG!$A$2:$I$100,9,FALSE))","v":"CC8"},null,null,"",{"$f":"IF(ISERROR(VLOOKUP(C734,BDDG!$A$2:$J$100,10,FALSE)),\"\",VLOOKUP(C734,BDDG!$A$2:$J$100,10,FALSE))","v":"DD8"},null,null,"",97.2,2,2014,{"$f":"IFERROR(INDEX($V$2:V734,MATCH(H734&MAX(IF($H$1:H733=H734,$A$1:A733)),$H$2:H734&$A$2:A734,0))-V734,\"\")","v":-92.117647058823536}]
["2014-02-11",null,837,{"$f":"IF(ISNA(VLOOKUP(C735,BDDG!$A$2:$F$100,2,FALSE)),\"\",VLOOKUP(C735,BDDG!$A$2:$F$100,2,FALSE))","v":0},{"$f":"IF(ISNA(VLOOKUP(C735,BDDG!$A$3:$J$102,3,FALSE)),\"\",VLOOKUP(C735,BDDG!$A$3:$J$102,3,FALSE))","v":"A"},{"$f":"IF(ISNA(VLOOKUP(C735,BDDG!$A$3:$J$102,4,FALSE)),\"\",VLOOKUP(C735,BDDG!$A$3:$J$102,4,FALSE))","v":106},{"$f":"IF(ISNA(VLOOKUP(C735,BDDG!$A$2:$F$100,5,FALSE)),\"\",VLOOKUP(C735,BDDG!$A$2:$F$100,5,FALSE))","v":"A3"},{"$f":"IF(ISNA(VLOOKUP(C735,BDDG!$A$2:$F$100,6,FALSE)),\"\",VLOOKUP(C735,BDDG!$A$2:$F$100,6,FALSE))","v":"AA7"},{"$f":"IF(ISERROR(VLOOKUP(C735,BDDG!$A$2:$G$100,7,FALSE)),\"\",VLOOKUP(C735,BDDG!$A$2:$G$100,7,FALSE))","v":1},{"$f":"IF(ISERROR(VLOOKUP(C735,BDDG!$A$2:$H$100,8,FALSE)),\"\",VLOOKUP(C735,BDDG!$A$2:$H$100,8,FALSE))","v":"BB7"},8,2.7,256,{"$f":"IF(ISERROR(VLOOKUP(C735,BDDG!$A$2:$I$100,9,FALSE)),\"\",VLOOKUP(C735,BDDG!$A$2:$I$100,9,FALSE))","v":"CC7"},null,null,"",{"$f":"IF(ISERROR(VLOOKUP(C735,BDDG!$A$2:$J$100,10,FALSE)),\"\",VLOOKUP(C735,BDDG!$A$2:$J$100,10,FALSE))","v":"DD7"},null,null,"",256,2,2014,{"$f":"IFERROR(INDEX($V$2:V735,MATCH(H735&MAX(IF($H$1:H734=H735,$A$1:A734)),$H$2:H735&$A$2:A735,0))-V735,\"\")","v":-241.10344827586206}]
["2014-02-11",null,836,{"$f":"IF(ISNA(VLOOKUP(C736,BDDG!$A$2:$F$100,2,FALSE)),\"\",VLOOKUP(C736,BDDG!$A$2:$F$100,2,FALSE))","v":0},{"$f":"IF(ISNA(VLOOKUP(C736,BDDG!$A$3:$J$102,3,FALSE)),\"\",VLOOKUP(C736,BDDG!$A$3:$J$102,3,FALSE))","v":"A"},{"$f":"IF(ISNA(VLOOKUP(C736,BDDG!$A$3:$J$102,4,FALSE)),\"\",VLOOKUP(C736,BDDG!$A$3:$J$102,4,FALSE))","v":106},{"$f":"IF(ISNA(VLOOKUP(C736,BDDG!$A$2:$F$100,5,FALSE)),\"\",VLOOKUP(C736,BDDG!$A$2:$F$100,5,FALSE))","v":"A3"},{"$f":"IF(ISNA(VLOOKUP(C736,BDDG!$A$2:$F$100,6,FALSE)),\"\",VLOOKUP(C736,BDDG!$A$2:$F$100,6,FALSE))","v":"AA6"},{"$f":"IF(ISERROR(VLOOKUP(C736,BDDG!$A$2:$G$100,7,FALSE)),\"\",VLOOKUP(C736,BDDG!$A$2:$G$100,7,FALSE))","v":1},{"$f":"IF(ISERROR(VLOOKUP(C736,BDDG!$A$2:$H$100,8,FALSE)),\"\",VLOOKUP(C736,BDDG!$A$2:$H$100,8,FALSE))","v":"BB6"},9,5.13,151.57894736842107,{"$f":"IF(ISERROR(VLOOKUP(C736,BDDG!$A$2:$I$100,9,FALSE)),\"\",VLOOKUP(C736,BDDG!$A$2:$I$100,9,FALSE))","v":"CC6"},null,null,"",{"$f":"IF(ISERROR(VLOOKUP(C736,BDDG!$A$2:$J$100,10,FALSE)),\"\",VLOOKUP(C736,BDDG!$A$2:$J$100,10,FALSE))","v":"DD6"},null,null,"",151.57894736842107,2,2014,{"$f":"IFERROR(INDEX($V$2:V736,MATCH(H736&MAX(IF($H$1:H735=H736,$A$1:A735)),$H$2:H736&$A$2:A736,0))-V736,\"\")","v":-126.16718266253872}]
["2014-02-11",null,835,{"$f":"IF(ISNA(VLOOKUP(C737,BDDG!$A$2:$F$100,2,FALSE)),\"\",VLOOKUP(C737,BDDG!$A$2:$F$100,2,FALSE))","v":0},{"$f":"IF(ISNA(VLOOKUP(C737,BDDG!$A$3:$J$102,3,FALSE)),\"\",VLOOKUP(C737,BDDG!$A$3:$J$102,3,FALSE))","v":"A"},{"$f":"IF(ISNA(VLOOKUP(C737,BDDG!$A$3:$J$102,4,FALSE)),\"\",VLOOKUP(C737,BDDG!$A$3:$J$102,4,FALSE))","v":106},{"$f":"IF(ISNA(VLOOKUP(C737,BDDG!$A$2:$F$100,5,FALSE)),\"\",VLOOKUP(C737,BDDG!$A$2:$F$100,5,FALSE))","v":"A3"},{"$f":"IF(ISNA(VLOOKUP(C737,BDDG!$A$2:$F$100,6,FALSE)),\"\",VLOOKUP(C737,BDDG!$A$2:$F$100,6,FALSE))","v":"AA5"},{"$f":"IF(ISERROR(VLOOKUP(C737,BDDG!$A$2:$G$100,7,FALSE)),\"\",VLOOKUP(C737,BDDG!$A$2:$G$100,7,FALSE))","v":1},{"$f":"IF(ISERROR(VLOOKUP(C737,BDDG!$A$2:$H$100,8,FALSE)),\"\",VLOOKUP(C737,BDDG!$A$2:$H$100,8,FALSE))","v":"BB5"},10,68,12.705882352941178,{"$f":"IF(ISERROR(VLOOKUP(C737,BDDG!$A$2:$I$100,9,FALSE)),\"\",VLOOKUP(C737,BDDG!$A$2:$I$100,9,FALSE))","v":"CC5"},null,null,"",{"$f":"IF(ISERROR(VLOOKUP(C737,BDDG!$A$2:$J$100,10,FALSE)),\"\",VLOOKUP(C737,BDDG!$A$2:$J$100,10,FALSE))","v":"DD5"},null,null,"",12.705882352941178,2,2014,{"$f":"IFERROR(INDEX($V$2:V737,MATCH(H737&MAX(IF($H$1:H736=H737,$A$1:A736)),$H$2:H737&$A$2:A737,0))-V737,\"\")","v":-1.1858823529411762}]
["2014-03-04",null,831,{"$f":"IF(ISNA(VLOOKUP(C738,BDDG!$A$2:$F$100,2,FALSE)),\"\",VLOOKUP(C738,BDDG!$A$2:$F$100,2,FALSE))","v":0},{"$f":"IF(ISNA(VLOOKUP(C738,BDDG!$A$3:$J$102,3,FALSE)),\"\",VLOOKUP(C738,BDDG!$A$3:$J$102,3,FALSE))","v":"A"},{"$f":"IF(ISNA(VLOOKUP(C738,BDDG!$A$3:$J$102,4,FALSE)),\"\",VLOOKUP(C738,BDDG!$A$3:$J$102,4,FALSE))","v":106},{"$f":"IF(ISNA(VLOOKUP(C738,BDDG!$A$2:$F$100,5,FALSE)),\"\",VLOOKUP(C738,BDDG!$A$2:$F$100,5,FALSE))","v":"A1"},{"$f":"IF(ISNA(VLOOKUP(C738,BDDG!$A$2:$F$100,6,FALSE)),\"\",VLOOKUP(C738,BDDG!$A$2:$F$100,6,FALSE))","v":"AA1"},{"$f":"IF(ISERROR(VLOOKUP(C738,BDDG!$A$2:$G$100,7,FALSE)),\"\",VLOOKUP(C738,BDDG!$A$2:$G$100,7,FALSE))","v":1},{"$f":"IF(ISERROR(VLOOKUP(C738,BDDG!$A$2:$H$100,8,FALSE)),\"\",VLOOKUP(C738,BDDG!$A$2:$H$100,8,FALSE))","v":"BB1"},10,11,78.545454545454547,{"$f":"IF(ISERROR(VLOOKUP(C738,BDDG!$A$2:$I$100,9,FALSE)),\"\",VLOOKUP(C738,BDDG!$A$2:$I$100,9,FALSE))","v":"CC1"},null,null,"",{"$f":"IF(ISERROR(VLOOKUP(C738,BDDG!$A$2:$J$100,10,FALSE)),\"\",VLOOKUP(C738,BDDG!$A$2:$J$100,10,FALSE))","v":"DD1"},null,null,"",78.545454545454547,3,2014,{"$f":"IFERROR(INDEX($V$2:V738,MATCH(H738&MAX(IF($H$1:H737=H738,$A$1:A737)),$H$2:H738&$A$2:A738,0))-V738,\"\")","v":17.454545454545467}]
["2014-03-11",null,832,{"$f":"IF(ISNA(VLOOKUP(C739,BDDG!$A$2:$F$100,2,FALSE)),\"\",VLOOKUP(C739,BDDG!$A$2:$F$100,2,FALSE))","v":0},{"$f":"IF(ISNA(VLOOKUP(C739,BDDG!$A$3:$J$102,3,FALSE)),\"\",VLOOKUP(C739,BDDG!$A$3:$J$102,3,FALSE))","v":"A"},{"$f":"IF(ISNA(VLOOKUP(C739,BDDG!$A$3:$J$102,4,FALSE)),\"\",VLOOKUP(C739,BDDG!$A$3:$J$102,4,FALSE))","v":106},{"$f":"IF(ISNA(VLOOKUP(C739,BDDG!$A$2:$F$100,5,FALSE)),\"\",VLOOKUP(C739,BDDG!$A$2:$F$100,5,FALSE))","v":"A2"},{"$f":"IF(ISNA(VLOOKUP(C739,BDDG!$A$2:$F$100,6,FALSE)),\"\",VLOOKUP(C739,BDDG!$A$2:$F$100,6,FALSE))","v":"AA2"},{"$f":"IF(ISERROR(VLOOKUP(C739,BDDG!$A$2:$G$100,7,FALSE)),\"\",VLOOKUP(C739,BDDG!$A$2:$G$100,7,FALSE))","v":1},{"$f":"IF(ISERROR(VLOOKUP(C739,BDDG!$A$2:$H$100,8,FALSE)),\"\",VLOOKUP(C739,BDDG!$A$2:$H$100,8,FALSE))","v":"BB2"},8,10,69.12,{"$f":"IF(ISERROR(VLOOKUP(C739,BDDG!$A$2:$I$100,9,FALSE)),\"\",VLOOKUP(C739,BDDG!$A$2:$I$100,9,FALSE))","v":"CC2"},null,null,"",{"$f":"IF(ISERROR(VLOOKUP(C739,BDDG!$A$2:$J$100,10,FALSE)),\"\",VLOOKUP(C739,BDDG!$A$2:$J$100,10,FALSE))","v":"DD2"},null,null,"",69.12,3,2014,{"$f":"IFERROR(INDEX($V$2:V739,MATCH(H739&MAX(IF($H$1:H738=H739,$A$1:A738)),$H$2:H739&$A$2:A739,0))-V739,\"\")","v":-18.296470588235294}]
["2014-03-11",null,834,{"$f":"IF(ISNA(VLOOKUP(C740,BDDG!$A$2:$F$100,2,FALSE)),\"\",VLOOKUP(C740,BDDG!$A$2:$F$100,2,FALSE))","v":0},{"$f":"IF(ISNA(VLOOKUP(C740,BDDG!$A$3:$J$102,3,FALSE)),\"\",VLOOKUP(C740,BDDG!$A$3:$J$102,3,FALSE))","v":"A"},{"$f":"IF(ISNA(VLOOKUP(C740,BDDG!$A$3:$J$102,4,FALSE)),\"\",VLOOKUP(C740,BDDG!$A$3:$J$102,4,FALSE))","v":106},{"$f":"IF(ISNA(VLOOKUP(C740,BDDG!$A$2:$F$100,5,FALSE)),\"\",VLOOKUP(C740,BDDG!$A$2:$F$100,5,FALSE))","v":"A2"},{"$f":"IF(ISNA(VLOOKUP(C740,BDDG!$A$2:$F$100,6,FALSE)),\"\",VLOOKUP(C740,BDDG!$A$2:$F$100,6,FALSE))","v":"AA4"},{"$f":"IF(ISERROR(VLOOKUP(C740,BDDG!$A$2:$G$100,7,FALSE)),\"\",VLOOKUP(C740,BDDG!$A$2:$G$100,7,FALSE))","v":1},{"$f":"IF(ISERROR(VLOOKUP(C740,BDDG!$A$2:$H$100,8,FALSE)),\"\",VLOOKUP(C740,BDDG!$A$2:$H$100,8,FALSE))","v":"BB4"},10,21,41.142857142857146,{"$f":"IF(ISERROR(VLOOKUP(C740,BDDG!$A$2:$I$100,9,FALSE)),\"\",VLOOKUP(C740,BDDG!$A$2:$I$100,9,FALSE))","v":"CC4"},null,null,"",{"$f":"IF(ISERROR(VLOOKUP(C740,BDDG!$A$2:$J$100,10,FALSE)),\"\",VLOOKUP(C740,BDDG!$A$2:$J$100,10,FALSE))","v":"DD4"},null,null,"",41.142857142857146,3,2014,{"$f":"IFERROR(INDEX($V$2:V740,MATCH(H740&MAX(IF($H$1:H739=H740,$A$1:A739)),$H$2:H740&$A$2:A740,0))-V740,\"\")","v":-13.271889400921662}]
["2014-03-11",null,848,{"$f":"IF(ISNA(VLOOKUP(C741,BDDG!$A$2:$F$100,2,FALSE)),\"\",VLOOKUP(C741,BDDG!$A$2:$F$100,2,FALSE))","v":0},{"$f":"IF(ISNA(VLOOKUP(C741,BDDG!$A$3:$J$102,3,FALSE)),\"\",VLOOKUP(C741,BDDG!$A$3:$J$102,3,FALSE))","v":"B"},{"$f":"IF(ISNA(VLOOKUP(C741,BDDG!$A$3:$J$102,4,FALSE)),\"\",VLOOKUP(C741,BDDG!$A$3:$J$102,4,FALSE))","v":106},{"$f":"IF(ISNA(VLOOKUP(C741,BDDG!$A$2:$F$100,5,FALSE)),\"\",VLOOKUP(C741,BDDG!$A$2:$F$100,5,FALSE))","v":"A7"},{"$f":"IF(ISNA(VLOOKUP(C741,BDDG!$A$2:$F$100,6,FALSE)),\"\",VLOOKUP(C741,BDDG!$A$2:$F$100,6,FALSE))","v":"AA19"},{"$f":"IF(ISERROR(VLOOKUP(C741,BDDG!$A$2:$G$100,7,FALSE)),\"\",VLOOKUP(C741,BDDG!$A$2:$G$100,7,FALSE))","v":2},{"$f":"IF(ISERROR(VLOOKUP(C741,BDDG!$A$2:$H$100,8,FALSE)),\"\",VLOOKUP(C741,BDDG!$A$2:$H$100,8,FALSE))","v":"BB19"},10,11,78.545454545454547,{"$f":"IF(ISERROR(VLOOKUP(C741,BDDG!$A$2:$I$100,9,FALSE)),\"\",VLOOKUP(C741,BDDG!$A$2:$I$100,9,FALSE))","v":"CC19"},null,null,"",{"$f":"IF(ISERROR(VLOOKUP(C741,BDDG!$A$2:$J$100,10,FALSE)),\"\",VLOOKUP(C741,BDDG!$A$2:$J$100,10,FALSE))","v":"DD19"},null,null,"",78.545454545454547,3,2014,{"$f":"IFERROR(INDEX($V$2:V741,MATCH(H741&MAX(IF($H$1:H740=H741,$A$1:A740)),$H$2:H741&$A$2:A741,0))-V741,\"\")","v":-24.545454545454547}]
["2014-03-11",null,860,{"$f":"IF(ISNA(VLOOKUP(C742,BDDG!$A$2:$F$100,2,FALSE)),\"\",VLOOKUP(C742,BDDG!$A$2:$F$100,2,FALSE))","v":0},{"$f":"IF(ISNA(VLOOKUP(C742,BDDG!$A$3:$J$102,3,FALSE)),\"\",VLOOKUP(C742,BDDG!$A$3:$J$102,3,FALSE))","v":"A"},{"$f":"IF(ISNA(VLOOKUP(C742,BDDG!$A$3:$J$102,4,FALSE)),\"\",VLOOKUP(C742,BDDG!$A$3:$J$102,4,FALSE))","v":106},{"$f":"IF(ISNA(VLOOKUP(C742,BDDG!$A$2:$F$100,5,FALSE)),\"\",VLOOKUP(C742,BDDG!$A$2:$F$100,5,FALSE))","v":"A11"},{"$f":"IF(ISNA(VLOOKUP(C742,BDDG!$A$2:$F$100,6,FALSE)),\"\",VLOOKUP(C742,BDDG!$A$2:$F$100,6,FALSE))","v":"AA32"},{"$f":"IF(ISERROR(VLOOKUP(C742,BDDG!$A$2:$G$100,7,FALSE)),\"\",VLOOKUP(C742,BDDG!$A$2:$G$100,7,FALSE))","v":2},{"$f":"IF(ISERROR(VLOOKUP(C742,BDDG!$A$2:$H$100,8,FALSE)),\"\",VLOOKUP(C742,BDDG!$A$2:$H$100,8,FALSE))","v":"BB32"},10,16,54,{"$f":"IF(ISERROR(VLOOKUP(C742,BDDG!$A$2:$I$100,9,FALSE)),\"\",VLOOKUP(C742,BDDG!$A$2:$I$100,9,FALSE))","v":"CC32"},null,null,"",{"$f":"IF(ISERROR(VLOOKUP(C742,BDDG!$A$2:$J$100,10,FALSE)),\"\",VLOOKUP(C742,BDDG!$A$2:$J$100,10,FALSE))","v":"DD32"},null,null,"",54,3,2014,{"$f":"IFERROR(INDEX($V$2:V742,MATCH(H742&MAX(IF($H$1:H741=H742,$A$1:A741)),$H$2:H742&$A$2:A742,0))-V742,\"\")","v":234.00000000000006}]
["2014-03-11",null,847,{"$f":"IF(ISNA(VLOOKUP(C743,BDDG!$A$2:$F$100,2,FALSE)),\"\",VLOOKUP(C743,BDDG!$A$2:$F$100,2,FALSE))","v":0},{"$f":"IF(ISNA(VLOOKUP(C743,BDDG!$A$3:$J$102,3,FALSE)),\"\",VLOOKUP(C743,BDDG!$A$3:$J$102,3,FALSE))","v":"B"},{"$f":"IF(ISNA(VLOOKUP(C743,BDDG!$A$3:$J$102,4,FALSE)),\"\",VLOOKUP(C743,BDDG!$A$3:$J$102,4,FALSE))","v":106},{"$f":"IF(ISNA(VLOOKUP(C743,BDDG!$A$2:$F$100,5,FALSE)),\"\",VLOOKUP(C743,BDDG!$A$2:$F$100,5,FALSE))","v":"A7"},{"$f":"IF(ISNA(VLOOKUP(C743,BDDG!$A$2:$F$100,6,FALSE)),\"\",VLOOKUP(C743,BDDG!$A$2:$F$100,6,FALSE))","v":"AA18"},{"$f":"IF(ISERROR(VLOOKUP(C743,BDDG!$A$2:$G$100,7,FALSE)),\"\",VLOOKUP(C743,BDDG!$A$2:$G$100,7,FALSE))","v":2},{"$f":"IF(ISERROR(VLOOKUP(C743,BDDG!$A$2:$H$100,8,FALSE)),\"\",VLOOKUP(C743,BDDG!$A$2:$H$100,8,FALSE))","v":"BB18"},10,11,78.545454545454547,{"$f":"IF(ISERROR(VLOOKUP(C743,BDDG!$A$2:$I$100,9,FALSE)),\"\",VLOOKUP(C743,BDDG!$A$2:$I$100,9,FALSE))","v":"CC18"},10,34,25.411764705882355,{"$f":"IF(ISERROR(VLOOKUP(C743,BDDG!$A$2:$J$100,10,FALSE)),\"\",VLOOKUP(C743,BDDG!$A$2:$J$100,10,FALSE))","v":"DD18"},null,null,"",103.95721925133691,3,2014,{"$f":"IFERROR(INDEX($V$2:V743,MATCH(H743&MAX(IF($H$1:H742=H743,$A$1:A742)),$H$2:H743&$A$2:A743,0))-V743,\"\")","v":-24.545454545454561}]
["2014-03-11",null,861,{"$f":"IF(ISNA(VLOOKUP(C744,BDDG!$A$2:$F$100,2,FALSE)),\"\",VLOOKUP(C744,BDDG!$A$2:$F$100,2,FALSE))","v":0},{"$f":"IF(ISNA(VLOOKUP(C744,BDDG!$A$3:$J$102,3,FALSE)),\"\",VLOOKUP(C744,BDDG!$A$3:$J$102,3,FALSE))","v":"A"},{"$f":"IF(ISNA(VLOOKUP(C744,BDDG!$A$3:$J$102,4,FALSE)),\"\",VLOOKUP(C744,BDDG!$A$3:$J$102,4,FALSE))","v":106},{"$f":"IF(ISNA(VLOOKUP(C744,BDDG!$A$2:$F$100,5,FALSE)),\"\",VLOOKUP(C744,BDDG!$A$2:$F$100,5,FALSE))","v":"A11"},{"$f":"IF(ISNA(VLOOKUP(C744,BDDG!$A$2:$F$100,6,FALSE)),\"\",VLOOKUP(C744,BDDG!$A$2:$F$100,6,FALSE))","v":"AA33"},{"$f":"IF(ISERROR(VLOOKUP(C744,BDDG!$A$2:$G$100,7,FALSE)),\"\",VLOOKUP(C744,BDDG!$A$2:$G$100,7,FALSE))","v":2},{"$f":"IF(ISERROR(VLOOKUP(C744,BDDG!$A$2:$H$100,8,FALSE)),\"\",VLOOKUP(C744,BDDG!$A$2:$H$100,8,FALSE))","v":"BB33"},null,null,null,{"$f":"IF(ISERROR(VLOOKUP(C744,BDDG!$A$2:$I$100,9,FALSE)),\"\",VLOOKUP(C744,BDDG!$A$2:$I$100,9,FALSE))","v":"CC33"},10,4,216,{"$f":"IF(ISERROR(VLOOKUP(C744,BDDG!$A$2:$J$100,10,FALSE)),\"\",VLOOKUP(C744,BDDG!$A$2:$J$100,10,FALSE))","v":"DD33"},null,null,"",{"$f":"IF(ISERROR(SUM(M744,Q744,U744)),\"\",SUM((M744,Q744,U744)))","v":216},3,2014,{"$f":"IFERROR(INDEX($V$2:V744,MATCH(H744&MAX(IF($H$1:H743=H744,$A$1:A743)),$H$2:H744&$A$2:A744,0))-V744,\"\")","v":72.000000000000057}]
["2014-03-11",null,844,{"$f":"IF(ISNA(VLOOKUP(C745,BDDG!$A$2:$F$100,2,FALSE)),\"\",VLOOKUP(C745,BDDG!$A$2:$F$100,2,FALSE))","v":0},{"$f":"IF(ISNA(VLOOKUP(C745,BDDG!$A$3:$J$102,3,FALSE)),\"\",VLOOKUP(C745,BDDG!$A$3:$J$102,3,FALSE))","v":"B"},{"$f":"IF(ISNA(VLOOKUP(C745,BDDG!$A$3:$J$102,4,FALSE)),\"\",VLOOKUP(C745,BDDG!$A$3:$J$102,4,FALSE))","v":106},{"$f":"IF(ISNA(VLOOKUP(C745,BDDG!$A$2:$F$100,5,FALSE)),\"\",VLOOKUP(C745,BDDG!$A$2:$F$100,5,FALSE))","v":"A6"},{"$f":"IF(ISNA(VLOOKUP(C745,BDDG!$A$2:$F$100,6,FALSE)),\"\",VLOOKUP(C745,BDDG!$A$2:$F$100,6,FALSE))","v":"AA14"},{"$f":"IF(ISERROR(VLOOKUP(C745,BDDG!$A$2:$G$100,7,FALSE)),\"\",VLOOKUP(C745,BDDG!$A$2:$G$100,7,FALSE))","v":2},{"$f":"IF(ISERROR(VLOOKUP(C745,BDDG!$A$2:$H$100,8,FALSE)),\"\",VLOOKUP(C745,BDDG!$A$2:$H$100,8,FALSE))","v":"BB14"},10,14,{"$f":" IF(ISERROR(K745/L745*86.4),\"\",K745/L745*86.4)","v":61.714285714285722},{"$f":"IF(ISERROR(VLOOKUP(C745,BDDG!$A$2:$I$100,9,FALSE)),\"\",VLOOKUP(C745,BDDG!$A$2:$I$100,9,FALSE))","v":"CC14"},null,null,"",{"$f":"IF(ISERROR(VLOOKUP(C745,BDDG!$A$2:$J$100,10,FALSE)),\"\",VLOOKUP(C745,BDDG!$A$2:$J$100,10,FALSE))","v":"DD14"},null,null,"",{"$f":"IF(ISERROR(SUM(M745,Q745,U745)),\"\",SUM(M745,Q745,U745))","v":61.714285714285722},3,2014,{"$f":"IFERROR(INDEX($V$2:V745,MATCH(H745&MAX(IF($H$1:H744=H745,$A$1:A744)),$H$2:H745&$A$2:A745,0))-V745,\"\")","v":24.685714285714283}]
["2014-03-11",null,849,{"$f":"IF(ISNA(VLOOKUP(C746,BDDG!$A$2:$F$100,2,FALSE)),\"\",VLOOKUP(C746,BDDG!$A$2:$F$100,2,FALSE))","v":0},{"$f":"IF(ISNA(VLOOKUP(C746,BDDG!$A$3:$J$102,3,FALSE)),\"\",VLOOKUP(C746,BDDG!$A$3:$J$102,3,FALSE))","v":"B"},{"$f":"IF(ISNA(VLOOKUP(C746,BDDG!$A$3:$J$102,4,FALSE)),\"\",VLOOKUP(C746,BDDG!$A$3:$J$102,4,FALSE))","v":106},{"$f":"IF(ISNA(VLOOKUP(C746,BDDG!$A$2:$F$100,5,FALSE)),\"\",VLOOKUP(C746,BDDG!$A$2:$F$100,5,FALSE))","v":"A7"},{"$f":"IF(ISNA(VLOOKUP(C746,BDDG!$A$2:$F$100,6,FALSE)),\"\",VLOOKUP(C746,BDDG!$A$2:$F$100,6,FALSE))","v":"AA15"},{"$f":"IF(ISERROR(VLOOKUP(C746,BDDG!$A$2:$G$100,7,FALSE)),\"\",VLOOKUP(C746,BDDG!$A$2:$G$100,7,FALSE))","v":2},{"$f":"IF(ISERROR(VLOOKUP(C746,BDDG!$A$2:$H$100,8,FALSE)),\"\",VLOOKUP(C746,BDDG!$A$2:$H$100,8,FALSE))","v":"BB15"},10,19,45.473684210526315,{"$f":"IF(ISERROR(VLOOKUP(C746,BDDG!$A$2:$I$100,9,FALSE)),\"\",VLOOKUP(C746,BDDG!$A$2:$I$100,9,FALSE))","v":"CC15"},10,57,15.157894736842106,{"$f":"IF(ISERROR(VLOOKUP(C746,BDDG!$A$2:$J$100,10,FALSE)),\"\",VLOOKUP(C746,BDDG!$A$2:$J$100,10,FALSE))","v":"DD15"},null,null,"",60.631578947368425,3,2014,{"$f":"IFERROR(INDEX($V$2:V746,MATCH(H746&MAX(IF($H$1:H745=H746,$A$1:A745)),$H$2:H746&$A$2:A746,0))-V746,\"\")","v":40.168421052631587}]
["2014-03-12",null,869,{"$f":"IF(ISNA(VLOOKUP(C747,BDDG!$A$2:$F$100,2,FALSE)),\"\",VLOOKUP(C747,BDDG!$A$2:$F$100,2,FALSE))","v":0},{"$f":"IF(ISNA(VLOOKUP(C747,BDDG!$A$3:$J$102,3,FALSE)),\"\",VLOOKUP(C747,BDDG!$A$3:$J$102,3,FALSE))","v":"A"},{"$f":"IF(ISNA(VLOOKUP(C747,BDDG!$A$3:$J$102,4,FALSE)),\"\",VLOOKUP(C747,BDDG!$A$3:$J$102,4,FALSE))","v":108},{"$f":"IF(ISNA(VLOOKUP(C747,BDDG!$A$2:$F$100,5,FALSE)),\"\",VLOOKUP(C747,BDDG!$A$2:$F$100,5,FALSE))","v":"A16"},{"$f":"IF(ISNA(VLOOKUP(C747,BDDG!$A$2:$F$100,6,FALSE)),\"\",VLOOKUP(C747,BDDG!$A$2:$F$100,6,FALSE))","v":"AA40"},{"$f":"IF(ISERROR(VLOOKUP(C747,BDDG!$A$2:$G$100,7,FALSE)),\"\",VLOOKUP(C747,BDDG!$A$2:$G$100,7,FALSE))","v":3},{"$f":"IF(ISERROR(VLOOKUP(C747,BDDG!$A$2:$H$100,8,FALSE)),\"\",VLOOKUP(C747,BDDG!$A$2:$H$100,8,FALSE))","v":"BB40"},10,42,20.571428571428573,{"$f":"IF(ISERROR(VLOOKUP(C747,BDDG!$A$2:$I$100,9,FALSE)),\"\",VLOOKUP(C747,BDDG!$A$2:$I$100,9,FALSE))","v":"CC40"},null,null,"",{"$f":"IF(ISERROR(VLOOKUP(C747,BDDG!$A$2:$J$100,10,FALSE)),\"\",VLOOKUP(C747,BDDG!$A$2:$J$100,10,FALSE))","v":"DD40"},null,null,"",20.571428571428573,3,2014,{"$f":"IFERROR(INDEX($V$2:V747,MATCH(H747&MAX(IF($H$1:H746=H747,$A$1:A746)),$H$2:H747&$A$2:A747,0))-V747,\"\")","v":-9.7714285714285722}]
["2014-03-12",null,867,{"$f":"IF(ISNA(VLOOKUP(C748,BDDG!$A$2:$F$100,2,FALSE)),\"\",VLOOKUP(C748,BDDG!$A$2:$F$100,2,FALSE))","v":0},{"$f":"IF(ISNA(VLOOKUP(C748,BDDG!$A$3:$J$102,3,FALSE)),\"\",VLOOKUP(C748,BDDG!$A$3:$J$102,3,FALSE))","v":"C"},{"$f":"IF(ISNA(VLOOKUP(C748,BDDG!$A$3:$J$102,4,FALSE)),\"\",VLOOKUP(C748,BDDG!$A$3:$J$102,4,FALSE))","v":108},{"$f":"IF(ISNA(VLOOKUP(C748,BDDG!$A$2:$F$100,5,FALSE)),\"\",VLOOKUP(C748,BDDG!$A$2:$F$100,5,FALSE))","v":"A17"},{"$f":"IF(ISNA(VLOOKUP(C748,BDDG!$A$2:$F$100,6,FALSE)),\"\",VLOOKUP(C748,BDDG!$A$2:$F$100,6,FALSE))","v":"AA43"},{"$f":"IF(ISERROR(VLOOKUP(C748,BDDG!$A$2:$G$100,7,FALSE)),\"\",VLOOKUP(C748,BDDG!$A$2:$G$100,7,FALSE))","v":1},{"$f":"IF(ISERROR(VLOOKUP(C748,BDDG!$A$2:$H$100,8,FALSE)),\"\",VLOOKUP(C748,BDDG!$A$2:$H$100,8,FALSE))","v":"BB43"},10,24,36.000000000000007,{"$f":"IF(ISERROR(VLOOKUP(C748,BDDG!$A$2:$I$100,9,FALSE)),\"\",VLOOKUP(C748,BDDG!$A$2:$I$100,9,FALSE))","v":"CC43"},null,null,null,{"$f":"IF(ISERROR(VLOOKUP(C748,BDDG!$A$2:$J$100,10,FALSE)),\"\",VLOOKUP(C748,BDDG!$A$2:$J$100,10,FALSE))","v":"DD43"},null,null,{"$f":" IF(ISERROR(S748/T748*86.4),\"\",S748/T748*86.4)","v":""},36.000000000000007,3,2014,{"$f":"IFERROR(INDEX($V$2:V748,MATCH(H748&MAX(IF($H$1:H747=H748,$A$1:A747)),$H$2:H748&$A$2:A748,0))-V748,\"\")","v":0}]
["2014-03-12",null,868,{"$f":"IF(ISNA(VLOOKUP(C749,BDDG!$A$2:$F$100,2,FALSE)),\"\",VLOOKUP(C749,BDDG!$A$2:$F$100,2,FALSE))","v":0},{"$f":"IF(ISNA(VLOOKUP(C749,BDDG!$A$3:$J$102,3,FALSE)),\"\",VLOOKUP(C749,BDDG!$A$3:$J$102,3,FALSE))","v":"A"},{"$f":"IF(ISNA(VLOOKUP(C749,BDDG!$A$3:$J$102,4,FALSE)),\"\",VLOOKUP(C749,BDDG!$A$3:$J$102,4,FALSE))","v":108},{"$f":"IF(ISNA(VLOOKUP(C749,BDDG!$A$2:$F$100,5,FALSE)),\"\",VLOOKUP(C749,BDDG!$A$2:$F$100,5,FALSE))","v":"A16"},{"$f":"IF(ISNA(VLOOKUP(C749,BDDG!$A$2:$F$100,6,FALSE)),\"\",VLOOKUP(C749,BDDG!$A$2:$F$100,6,FALSE))","v":"AA39"},{"$f":"IF(ISERROR(VLOOKUP(C749,BDDG!$A$2:$G$100,7,FALSE)),\"\",VLOOKUP(C749,BDDG!$A$2:$G$100,7,FALSE))","v":2},{"$f":"IF(ISERROR(VLOOKUP(C749,BDDG!$A$2:$H$100,8,FALSE)),\"\",VLOOKUP(C749,BDDG!$A$2:$H$100,8,FALSE))","v":"BB39"},10,15,57.6,{"$f":"IF(ISERROR(VLOOKUP(C749,BDDG!$A$2:$I$100,9,FALSE)),\"\",VLOOKUP(C749,BDDG!$A$2:$I$100,9,FALSE))","v":"CC39"},null,null,{"$f":" IF(ISERROR(O749/P749*86.4),\"\",O749/P749*86.4)","v":""},{"$f":"IF(ISERROR(VLOOKUP(C749,BDDG!$A$2:$J$100,10,FALSE)),\"\",VLOOKUP(C749,BDDG!$A$2:$J$100,10,FALSE))","v":"DD39"},null,null,"",57.6,3,2014,{"$f":"IFERROR(INDEX($V$2:V749,MATCH(H749&MAX(IF($H$1:H748=H749,$A$1:A748)),$H$2:H749&$A$2:A749,0))-V749,\"\")","v":65.82857142857145}]
["2014-03-12",null,870,{"$f":"IF(ISNA(VLOOKUP(C750,BDDG!$A$2:$F$100,2,FALSE)),\"\",VLOOKUP(C750,BDDG!$A$2:$F$100,2,FALSE))","v":0},{"$f":"IF(ISNA(VLOOKUP(C750,BDDG!$A$3:$J$102,3,FALSE)),\"\",VLOOKUP(C750,BDDG!$A$3:$J$102,3,FALSE))","v":"A"},{"$f":"IF(ISNA(VLOOKUP(C750,BDDG!$A$3:$J$102,4,FALSE)),\"\",VLOOKUP(C750,BDDG!$A$3:$J$102,4,FALSE))","v":108},{"$f":"IF(ISNA(VLOOKUP(C750,BDDG!$A$2:$F$100,5,FALSE)),\"\",VLOOKUP(C750,BDDG!$A$2:$F$100,5,FALSE))","v":"A16"},{"$f":"IF(ISNA(VLOOKUP(C750,BDDG!$A$2:$F$100,6,FALSE)),\"\",VLOOKUP(C750,BDDG!$A$2:$F$100,6,FALSE))","v":"AA41"},{"$f":"IF(ISERROR(VLOOKUP(C750,BDDG!$A$2:$G$100,7,FALSE)),\"\",VLOOKUP(C750,BDDG!$A$2:$G$100,7,FALSE))","v":2},{"$f":"IF(ISERROR(VLOOKUP(C750,BDDG!$A$2:$H$100,8,FALSE)),\"\",VLOOKUP(C750,BDDG!$A$2:$H$100,8,FALSE))","v":"BB41"},10,70,12.342857142857143,{"$f":"IF(ISERROR(VLOOKUP(C750,BDDG!$A$2:$I$100,9,FALSE)),\"\",VLOOKUP(C750,BDDG!$A$2:$I$100,9,FALSE))","v":"CC41"},10,55,15.709090909090911,{"$f":"IF(ISERROR(VLOOKUP(C750,BDDG!$A$2:$J$100,10,FALSE)),\"\",VLOOKUP(C750,BDDG!$A$2:$J$100,10,FALSE))","v":"DD41"},null,null,"",28.051948051948052,3,2014,{"$f":"IFERROR(INDEX($V$2:V750,MATCH(H750&MAX(IF($H$1:H749=H750,$A$1:A749)),$H$2:H750&$A$2:A750,0))-V750,\"\")","v":8.8027803182732782}]
["2014-03-26",null,822,{"$f":"IF(ISNA(VLOOKUP(C751,BDDG!$A$2:$F$100,2,FALSE)),\"\",VLOOKUP(C751,BDDG!$A$2:$F$100,2,FALSE))","v":0},{"$f":"IF(ISNA(VLOOKUP(C751,BDDG!$A$3:$J$102,3,FALSE)),\"\",VLOOKUP(C751,BDDG!$A$3:$J$102,3,FALSE))","v":"A"},{"$f":"IF(ISNA(VLOOKUP(C751,BDDG!$A$3:$J$102,4,FALSE)),\"\",VLOOKUP(C751,BDDG!$A$3:$J$102,4,FALSE))","v":106},{"$f":"IF(ISNA(VLOOKUP(C751,BDDG!$A$2:$F$100,5,FALSE)),\"\",VLOOKUP(C751,BDDG!$A$2:$F$100,5,FALSE))","v":"A4"},{"$f":"IF(ISNA(VLOOKUP(C751,BDDG!$A$2:$F$100,6,FALSE)),\"\",VLOOKUP(C751,BDDG!$A$2:$F$100,6,FALSE))","v":"AA12"},{"$f":"IF(ISERROR(VLOOKUP(C751,BDDG!$A$2:$G$100,7,FALSE)),\"\",VLOOKUP(C751,BDDG!$A$2:$G$100,7,FALSE))","v":1},{"$f":"IF(ISERROR(VLOOKUP(C751,BDDG!$A$2:$H$100,8,FALSE)),\"\",VLOOKUP(C751,BDDG!$A$2:$H$100,8,FALSE))","v":"BB12"},10,10,86.4,{"$f":"IF(ISERROR(VLOOKUP(C751,BDDG!$A$2:$I$100,9,FALSE)),\"\",VLOOKUP(C751,BDDG!$A$2:$I$100,9,FALSE))","v":"CC12"},null,null,"",{"$f":"IF(ISERROR(VLOOKUP(C751,BDDG!$A$2:$J$100,10,FALSE)),\"\",VLOOKUP(C751,BDDG!$A$2:$J$100,10,FALSE))","v":"DD12"},null,null,"",86.4,3,2014,{"$f":"IFERROR(INDEX($V$2:V751,MATCH(H751&MAX(IF($H$1:H750=H751,$A$1:A750)),$H$2:H751&$A$2:A751,0))-V751,\"\")","v":-19.938461538461539}]
["2014-04-10",null,854,{"$f":"IF(ISNA(VLOOKUP(C752,BDDG!$A$2:$F$100,2,FALSE)),\"\",VLOOKUP(C752,BDDG!$A$2:$F$100,2,FALSE))","v":0},{"$f":"IF(ISNA(VLOOKUP(C752,BDDG!$A$3:$J$102,3,FALSE)),\"\",VLOOKUP(C752,BDDG!$A$3:$J$102,3,FALSE))","v":"A"},{"$f":"IF(ISNA(VLOOKUP(C752,BDDG!$A$3:$J$102,4,FALSE)),\"\",VLOOKUP(C752,BDDG!$A$3:$J$102,4,FALSE))","v":106},{"$f":"IF(ISNA(VLOOKUP(C752,BDDG!$A$2:$F$100,5,FALSE)),\"\",VLOOKUP(C752,BDDG!$A$2:$F$100,5,FALSE))","v":"A9"},{"$f":"IF(ISNA(VLOOKUP(C752,BDDG!$A$2:$F$100,6,FALSE)),\"\",VLOOKUP(C752,BDDG!$A$2:$F$100,6,FALSE))","v":"AA25"},{"$f":"IF(ISERROR(VLOOKUP(C752,BDDG!$A$2:$G$100,7,FALSE)),\"\",VLOOKUP(C752,BDDG!$A$2:$G$100,7,FALSE))","v":2},{"$f":"IF(ISERROR(VLOOKUP(C752,BDDG!$A$2:$H$100,8,FALSE)),\"\",VLOOKUP(C752,BDDG!$A$2:$H$100,8,FALSE))","v":"BB25"},10,2.5,345.6,{"$f":"IF(ISERROR(VLOOKUP(C752,BDDG!$A$2:$I$100,9,FALSE)),\"\",VLOOKUP(C752,BDDG!$A$2:$I$100,9,FALSE))","v":"CC25"},null,null,"",{"$f":"IF(ISERROR(VLOOKUP(C752,BDDG!$A$2:$J$100,10,FALSE)),\"\",VLOOKUP(C752,BDDG!$A$2:$J$100,10,FALSE))","v":"DD25"},null,null,"",345.6,4,2014,{"$f":"IFERROR(INDEX($V$2:V752,MATCH(H752&MAX(IF($H$1:H751=H752,$A$1:A751)),$H$2:H752&$A$2:A752,0))-V752,\"\")","v":""}]
["2014-04-10",null,855,{"$f":"IF(ISNA(VLOOKUP(C753,BDDG!$A$2:$F$100,2,FALSE)),\"\",VLOOKUP(C753,BDDG!$A$2:$F$100,2,FALSE))","v":0},{"$f":"IF(ISNA(VLOOKUP(C753,BDDG!$A$3:$J$102,3,FALSE)),\"\",VLOOKUP(C753,BDDG!$A$3:$J$102,3,FALSE))","v":"A"},{"$f":"IF(ISNA(VLOOKUP(C753,BDDG!$A$3:$J$102,4,FALSE)),\"\",VLOOKUP(C753,BDDG!$A$3:$J$102,4,FALSE))","v":106},{"$f":"IF(ISNA(VLOOKUP(C753,BDDG!$A$2:$F$100,5,FALSE)),\"\",VLOOKUP(C753,BDDG!$A$2:$F$100,5,FALSE))","v":"A9"},{"$f":"IF(ISNA(VLOOKUP(C753,BDDG!$A$2:$F$100,6,FALSE)),\"\",VLOOKUP(C753,BDDG!$A$2:$F$100,6,FALSE))","v":"AA26"},{"$f":"IF(ISERROR(VLOOKUP(C753,BDDG!$A$2:$G$100,7,FALSE)),\"\",VLOOKUP(C753,BDDG!$A$2:$G$100,7,FALSE))","v":2},{"$f":"IF(ISERROR(VLOOKUP(C753,BDDG!$A$2:$H$100,8,FALSE)),\"\",VLOOKUP(C753,BDDG!$A$2:$H$100,8,FALSE))","v":"BB26"},10,6,144.00000000000003,{"$f":"IF(ISERROR(VLOOKUP(C753,BDDG!$A$2:$I$100,9,FALSE)),\"\",VLOOKUP(C753,BDDG!$A$2:$I$100,9,FALSE))","v":"CC26"},10,19,45.473684210526315,{"$f":"IF(ISERROR(VLOOKUP(C753,BDDG!$A$2:$J$100,10,FALSE)),\"\",VLOOKUP(C753,BDDG!$A$2:$J$100,10,FALSE))","v":"DD26"},null,null,"",189.47368421052636,4,2014,{"$f":"IFERROR(INDEX($V$2:V753,MATCH(H753&MAX(IF($H$1:H752=H753,$A$1:A752)),$H$2:H753&$A$2:A753,0))-V753,\"\")","v":350.52631578947364}]
["2014-04-10",null,856,{"$f":"IF(ISNA(VLOOKUP(C754,BDDG!$A$2:$F$100,2,FALSE)),\"\",VLOOKUP(C754,BDDG!$A$2:$F$100,2,FALSE))","v":0},{"$f":"IF(ISNA(VLOOKUP(C754,BDDG!$A$3:$J$102,3,FALSE)),\"\",VLOOKUP(C754,BDDG!$A$3:$J$102,3,FALSE))","v":"A"},{"$f":"IF(ISNA(VLOOKUP(C754,BDDG!$A$3:$J$102,4,FALSE)),\"\",VLOOKUP(C754,BDDG!$A$3:$J$102,4,FALSE))","v":106},{"$f":"IF(ISNA(VLOOKUP(C754,BDDG!$A$2:$F$100,5,FALSE)),\"\",VLOOKUP(C754,BDDG!$A$2:$F$100,5,FALSE))","v":"A9"},{"$f":"IF(ISNA(VLOOKUP(C754,BDDG!$A$2:$F$100,6,FALSE)),\"\",VLOOKUP(C754,BDDG!$A$2:$F$100,6,FALSE))","v":"AA27"},{"$f":"IF(ISERROR(VLOOKUP(C754,BDDG!$A$2:$G$100,7,FALSE)),\"\",VLOOKUP(C754,BDDG!$A$2:$G$100,7,FALSE))","v":2},{"$f":"IF(ISERROR(VLOOKUP(C754,BDDG!$A$2:$H$100,8,FALSE)),\"\",VLOOKUP(C754,BDDG!$A$2:$H$100,8,FALSE))","v":"BB27"},10,28,30.857142857142861,{"$f":"IF(ISERROR(VLOOKUP(C754,BDDG!$A$2:$I$100,9,FALSE)),\"\",VLOOKUP(C754,BDDG!$A$2:$I$100,9,FALSE))","v":"CC27"},10,2,432,{"$f":"IF(ISERROR(VLOOKUP(C754,BDDG!$A$2:$J$100,10,FALSE)),\"\",VLOOKUP(C754,BDDG!$A$2:$J$100,10,FALSE))","v":"DD27"},null,null,"",462.85714285714289,4,2014,{"$f":"IFERROR(INDEX($V$2:V754,MATCH(H754&MAX(IF($H$1:H753=H754,$A$1:A753)),$H$2:H754&$A$2:A754,0))-V754,\"\")","v":-332.63105590062116}]
["2014-04-10",null,852,{"$f":"IF(ISNA(VLOOKUP(C755,BDDG!$A$2:$F$100,2,FALSE)),\"\",VLOOKUP(C755,BDDG!$A$2:$F$100,2,FALSE))","v":0},{"$f":"IF(ISNA(VLOOKUP(C755,BDDG!$A$3:$J$102,3,FALSE)),\"\",VLOOKUP(C755,BDDG!$A$3:$J$102,3,FALSE))","v":"A"},{"$f":"IF(ISNA(VLOOKUP(C755,BDDG!$A$3:$J$102,4,FALSE)),\"\",VLOOKUP(C755,BDDG!$A$3:$J$102,4,FALSE))","v":106},{"$f":"IF(ISNA(VLOOKUP(C755,BDDG!$A$2:$F$100,5,FALSE)),\"\",VLOOKUP(C755,BDDG!$A$2:$F$100,5,FALSE))","v":"A9"},{"$f":"IF(ISNA(VLOOKUP(C755,BDDG!$A$2:$F$100,6,FALSE)),\"\",VLOOKUP(C755,BDDG!$A$2:$F$100,6,FALSE))","v":"AA22"},{"$f":"IF(ISERROR(VLOOKUP(C755,BDDG!$A$2:$G$100,7,FALSE)),\"\",VLOOKUP(C755,BDDG!$A$2:$G$100,7,FALSE))","v":1},{"$f":"IF(ISERROR(VLOOKUP(C755,BDDG!$A$2:$H$100,8,FALSE)),\"\",VLOOKUP(C755,BDDG!$A$2:$H$100,8,FALSE))","v":"BB22"},10,54,16,{"$f":"IF(ISERROR(VLOOKUP(C755,BDDG!$A$2:$I$100,9,FALSE)),\"\",VLOOKUP(C755,BDDG!$A$2:$I$100,9,FALSE))","v":"CC22"},null,null,"",{"$f":"IF(ISERROR(VLOOKUP(C755,BDDG!$A$2:$J$100,10,FALSE)),\"\",VLOOKUP(C755,BDDG!$A$2:$J$100,10,FALSE))","v":"DD22"},null,null,"",16,4,2014,{"$f":"IFERROR(INDEX($V$2:V755,MATCH(H755&MAX(IF($H$1:H754=H755,$A$1:A754)),$H$2:H755&$A$2:A755,0))-V755,\"\")","v":5.6000000000000014}]
["2014-06-04",null,839,{"$f":"IF(ISNA(VLOOKUP(C756,BDDG!$A$2:$F$100,2,FALSE)),\"\",VLOOKUP(C756,BDDG!$A$2:$F$100,2,FALSE))","v":0},{"$f":"IF(ISNA(VLOOKUP(C756,BDDG!$A$3:$J$102,3,FALSE)),\"\",VLOOKUP(C756,BDDG!$A$3:$J$102,3,FALSE))","v":"A"},{"$f":"IF(ISNA(VLOOKUP(C756,BDDG!$A$3:$J$102,4,FALSE)),\"\",VLOOKUP(C756,BDDG!$A$3:$J$102,4,FALSE))","v":106},{"$f":"IF(ISNA(VLOOKUP(C756,BDDG!$A$2:$F$100,5,FALSE)),\"\",VLOOKUP(C756,BDDG!$A$2:$F$100,5,FALSE))","v":"A3"},{"$f":"IF(ISNA(VLOOKUP(C756,BDDG!$A$2:$F$100,6,FALSE)),\"\",VLOOKUP(C756,BDDG!$A$2:$F$100,6,FALSE))","v":"AA10"},{"$f":"IF(ISERROR(VLOOKUP(C756,BDDG!$A$2:$G$100,7,FALSE)),\"\",VLOOKUP(C756,BDDG!$A$2:$G$100,7,FALSE))","v":2},{"$f":"IF(ISERROR(VLOOKUP(C756,BDDG!$A$2:$H$100,8,FALSE)),\"\",VLOOKUP(C756,BDDG!$A$2:$H$100,8,FALSE))","v":"BB10"},10,11,{"$f":" IF(ISERROR(K756/L756*86.4),\"\",K756/L756*86.4)","v":78.545454545454547},{"$f":"IF(ISERROR(VLOOKUP(C756,BDDG!$A$2:$I$100,9,FALSE)),\"\",VLOOKUP(C756,BDDG!$A$2:$I$100,9,FALSE))","v":"CC10"},null,null,"",{"$f":"IF(ISERROR(VLOOKUP(C756,BDDG!$A$2:$J$100,10,FALSE)),\"\",VLOOKUP(C756,BDDG!$A$2:$J$100,10,FALSE))","v":"DD10"},null,null,"",{"$f":"IF(ISERROR(SUM(M756,Q756,U756)),\"\",SUM(M756,Q756,U756))","v":78.545454545454547},6,2014,{"$f":"IFERROR(INDEX($V$2:V756,MATCH(H756&MAX(IF($H$1:H755=H756,$A$1:A755)),$H$2:H756&$A$2:A756,0))-V756,\"\")","v":-55.808612440191389}]
["2014-06-04",null,831,{"$f":"IF(ISNA(VLOOKUP(C757,BDDG!$A$2:$F$100,2,FALSE)),\"\",VLOOKUP(C757,BDDG!$A$2:$F$100,2,FALSE))","v":0},{"$f":"IF(ISNA(VLOOKUP(C757,BDDG!$A$3:$J$102,3,FALSE)),\"\",VLOOKUP(C757,BDDG!$A$3:$J$102,3,FALSE))","v":"A"},{"$f":"IF(ISNA(VLOOKUP(C757,BDDG!$A$3:$J$102,4,FALSE)),\"\",VLOOKUP(C757,BDDG!$A$3:$J$102,4,FALSE))","v":106},{"$f":"IF(ISNA(VLOOKUP(C757,BDDG!$A$2:$F$100,5,FALSE)),\"\",VLOOKUP(C757,BDDG!$A$2:$F$100,5,FALSE))","v":"A1"},{"$f":"IF(ISNA(VLOOKUP(C757,BDDG!$A$2:$F$100,6,FALSE)),\"\",VLOOKUP(C757,BDDG!$A$2:$F$100,6,FALSE))","v":"AA1"},{"$f":"IF(ISERROR(VLOOKUP(C757,BDDG!$A$2:$G$100,7,FALSE)),\"\",VLOOKUP(C757,BDDG!$A$2:$G$100,7,FALSE))","v":1},{"$f":"IF(ISERROR(VLOOKUP(C757,BDDG!$A$2:$H$100,8,FALSE)),\"\",VLOOKUP(C757,BDDG!$A$2:$H$100,8,FALSE))","v":"BB1"},10,13,66.461538461538467,{"$f":"IF(ISERROR(VLOOKUP(C757,BDDG!$A$2:$I$100,9,FALSE)),\"\",VLOOKUP(C757,BDDG!$A$2:$I$100,9,FALSE))","v":"CC1"},null,null,"",{"$f":"IF(ISERROR(VLOOKUP(C757,BDDG!$A$2:$J$100,10,FALSE)),\"\",VLOOKUP(C757,BDDG!$A$2:$J$100,10,FALSE))","v":"DD1"},null,null,"",66.461538461538467,6,2014,{"$f":"IFERROR(INDEX($V$2:V757,MATCH(H757&MAX(IF($H$1:H756=H757,$A$1:A756)),$H$2:H757&$A$2:A757,0))-V757,\"\")","v":12.08391608391608}]
["2014-06-04",null,838,{"$f":"IF(ISNA(VLOOKUP(C758,BDDG!$A$2:$F$100,2,FALSE)),\"\",VLOOKUP(C758,BDDG!$A$2:$F$100,2,FALSE))","v":0},{"$f":"IF(ISNA(VLOOKUP(C758,BDDG!$A$3:$J$102,3,FALSE)),\"\",VLOOKUP(C758,BDDG!$A$3:$J$102,3,FALSE))","v":"A"},{"$f":"IF(ISNA(VLOOKUP(C758,BDDG!$A$3:$J$102,4,FALSE)),\"\",VLOOKUP(C758,BDDG!$A$3:$J$102,4,FALSE))","v":106},{"$f":"IF(ISNA(VLOOKUP(C758,BDDG!$A$2:$F$100,5,FALSE)),\"\",VLOOKUP(C758,BDDG!$A$2:$F$100,5,FALSE))","v":"A3"},{"$f":"IF(ISNA(VLOOKUP(C758,BDDG!$A$2:$F$100,6,FALSE)),\"\",VLOOKUP(C758,BDDG!$A$2:$F$100,6,FALSE))","v":"AA8"},{"$f":"IF(ISERROR(VLOOKUP(C758,BDDG!$A$2:$G$100,7,FALSE)),\"\",VLOOKUP(C758,BDDG!$A$2:$G$100,7,FALSE))","v":1},{"$f":"IF(ISERROR(VLOOKUP(C758,BDDG!$A$2:$H$100,8,FALSE)),\"\",VLOOKUP(C758,BDDG!$A$2:$H$100,8,FALSE))","v":"BB8"},0.5,6.5,6.6461538461538465,{"$f":"IF(ISERROR(VLOOKUP(C758,BDDG!$A$2:$I$100,9,FALSE)),\"\",VLOOKUP(C758,BDDG!$A$2:$I$100,9,FALSE))","v":"CC8"},null,null,"",{"$f":"IF(ISERROR(VLOOKUP(C758,BDDG!$A$2:$J$100,10,FALSE)),\"\",VLOOKUP(C758,BDDG!$A$2:$J$100,10,FALSE))","v":"DD8"},null,null,"",6.6461538461538465,6,2014,{"$f":"IFERROR(INDEX($V$2:V758,MATCH(H758&MAX(IF($H$1:H757=H758,$A$1:A757)),$H$2:H758&$A$2:A758,0))-V758,\"\")","v":90.553846153846152}]
["2014-06-04",null,837,{"$f":"IF(ISNA(VLOOKUP(C759,BDDG!$A$2:$F$100,2,FALSE)),\"\",VLOOKUP(C759,BDDG!$A$2:$F$100,2,FALSE))","v":0},{"$f":"IF(ISNA(VLOOKUP(C759,BDDG!$A$3:$J$102,3,FALSE)),\"\",VLOOKUP(C759,BDDG!$A$3:$J$102,3,FALSE))","v":"A"},{"$f":"IF(ISNA(VLOOKUP(C759,BDDG!$A$3:$J$102,4,FALSE)),\"\",VLOOKUP(C759,BDDG!$A$3:$J$102,4,FALSE))","v":106},{"$f":"IF(ISNA(VLOOKUP(C759,BDDG!$A$2:$F$100,5,FALSE)),\"\",VLOOKUP(C759,BDDG!$A$2:$F$100,5,FALSE))","v":"A3"},{"$f":"IF(ISNA(VLOOKUP(C759,BDDG!$A$2:$F$100,6,FALSE)),\"\",VLOOKUP(C759,BDDG!$A$2:$F$100,6,FALSE))","v":"AA7"},{"$f":"IF(ISERROR(VLOOKUP(C759,BDDG!$A$2:$G$100,7,FALSE)),\"\",VLOOKUP(C759,BDDG!$A$2:$G$100,7,FALSE))","v":1},{"$f":"IF(ISERROR(VLOOKUP(C759,BDDG!$A$2:$H$100,8,FALSE)),\"\",VLOOKUP(C759,BDDG!$A$2:$H$100,8,FALSE))","v":"BB7"},10,40.5,21.333333333333332,{"$f":"IF(ISERROR(VLOOKUP(C759,BDDG!$A$2:$I$100,9,FALSE)),\"\",VLOOKUP(C759,BDDG!$A$2:$I$100,9,FALSE))","v":"CC7"},null,null,"",{"$f":"IF(ISERROR(VLOOKUP(C759,BDDG!$A$2:$J$100,10,FALSE)),\"\",VLOOKUP(C759,BDDG!$A$2:$J$100,10,FALSE))","v":"DD7"},null,null,"",21.333333333333332,6,2014,{"$f":"IFERROR(INDEX($V$2:V759,MATCH(H759&MAX(IF($H$1:H758=H759,$A$1:A758)),$H$2:H759&$A$2:A759,0))-V759,\"\")","v":234.66666666666666}]
["2014-06-04",null,836,{"$f":"IF(ISNA(VLOOKUP(C760,BDDG!$A$2:$F$100,2,FALSE)),\"\",VLOOKUP(C760,BDDG!$A$2:$F$100,2,FALSE))","v":0},{"$f":"IF(ISNA(VLOOKUP(C760,BDDG!$A$3:$J$102,3,FALSE)),\"\",VLOOKUP(C760,BDDG!$A$3:$J$102,3,FALSE))","v":"A"},{"$f":"IF(ISNA(VLOOKUP(C760,BDDG!$A$3:$J$102,4,FALSE)),\"\",VLOOKUP(C760,BDDG!$A$3:$J$102,4,FALSE))","v":106},{"$f":"IF(ISNA(VLOOKUP(C760,BDDG!$A$2:$F$100,5,FALSE)),\"\",VLOOKUP(C760,BDDG!$A$2:$F$100,5,FALSE))","v":"A3"},{"$f":"IF(ISNA(VLOOKUP(C760,BDDG!$A$2:$F$100,6,FALSE)),\"\",VLOOKUP(C760,BDDG!$A$2:$F$100,6,FALSE))","v":"AA6"},{"$f":"IF(ISERROR(VLOOKUP(C760,BDDG!$A$2:$G$100,7,FALSE)),\"\",VLOOKUP(C760,BDDG!$A$2:$G$100,7,FALSE))","v":1},{"$f":"IF(ISERROR(VLOOKUP(C760,BDDG!$A$2:$H$100,8,FALSE)),\"\",VLOOKUP(C760,BDDG!$A$2:$H$100,8,FALSE))","v":"BB6"},10,24.5,35.265306122448983,{"$f":"IF(ISERROR(VLOOKUP(C760,BDDG!$A$2:$I$100,9,FALSE)),\"\",VLOOKUP(C760,BDDG!$A$2:$I$100,9,FALSE))","v":"CC6"},null,null,"",{"$f":"IF(ISERROR(VLOOKUP(C760,BDDG!$A$2:$J$100,10,FALSE)),\"\",VLOOKUP(C760,BDDG!$A$2:$J$100,10,FALSE))","v":"DD6"},null,null,"",35.265306122448983,6,2014,{"$f":"IFERROR(INDEX($V$2:V760,MATCH(H760&MAX(IF($H$1:H759=H760,$A$1:A759)),$H$2:H760&$A$2:A760,0))-V760,\"\")","v":116.31364124597209}]
["2014-06-04",null,855,{"$f":"IF(ISNA(VLOOKUP(C761,BDDG!$A$2:$F$100,2,FALSE)),\"\",VLOOKUP(C761,BDDG!$A$2:$F$100,2,FALSE))","v":0},{"$f":"IF(ISNA(VLOOKUP(C761,BDDG!$A$3:$J$102,3,FALSE)),\"\",VLOOKUP(C761,BDDG!$A$3:$J$102,3,FALSE))","v":"A"},{"$f":"IF(ISNA(VLOOKUP(C761,BDDG!$A$3:$J$102,4,FALSE)),\"\",VLOOKUP(C761,BDDG!$A$3:$J$102,4,FALSE))","v":106},{"$f":"IF(ISNA(VLOOKUP(C761,BDDG!$A$2:$F$100,5,FALSE)),\"\",VLOOKUP(C761,BDDG!$A$2:$F$100,5,FALSE))","v":"A9"},{"$f":"IF(ISNA(VLOOKUP(C761,BDDG!$A$2:$F$100,6,FALSE)),\"\",VLOOKUP(C761,BDDG!$A$2:$F$100,6,FALSE))","v":"AA26"},{"$f":"IF(ISERROR(VLOOKUP(C761,BDDG!$A$2:$G$100,7,FALSE)),\"\",VLOOKUP(C761,BDDG!$A$2:$G$100,7,FALSE))","v":2},{"$f":"IF(ISERROR(VLOOKUP(C761,BDDG!$A$2:$H$100,8,FALSE)),\"\",VLOOKUP(C761,BDDG!$A$2:$H$100,8,FALSE))","v":"BB26"},10,11,78.545454545454547,{"$f":"IF(ISERROR(VLOOKUP(C761,BDDG!$A$2:$I$100,9,FALSE)),\"\",VLOOKUP(C761,BDDG!$A$2:$I$100,9,FALSE))","v":"CC26"},10,32,{"$f":" IF(ISERROR(O761/P761*86.4),\"\",O761/P761*86.4)","v":27},{"$f":"IF(ISERROR(VLOOKUP(C761,BDDG!$A$2:$J$100,10,FALSE)),\"\",VLOOKUP(C761,BDDG!$A$2:$J$100,10,FALSE))","v":"DD26"},null,null,"",105.54545454545455,6,2014,{"$f":"IFERROR(INDEX($V$2:V761,MATCH(H761&MAX(IF($H$1:H760=H761,$A$1:A760)),$H$2:H761&$A$2:A761,0))-V761,\"\")","v":83.928229665071811}]
["2014-06-04",null,856,{"$f":"IF(ISNA(VLOOKUP(C762,BDDG!$A$2:$F$100,2,FALSE)),\"\",VLOOKUP(C762,BDDG!$A$2:$F$100,2,FALSE))","v":0},{"$f":"IF(ISNA(VLOOKUP(C762,BDDG!$A$3:$J$102,3,FALSE)),\"\",VLOOKUP(C762,BDDG!$A$3:$J$102,3,FALSE))","v":"A"},{"$f":"IF(ISNA(VLOOKUP(C762,BDDG!$A$3:$J$102,4,FALSE)),\"\",VLOOKUP(C762,BDDG!$A$3:$J$102,4,FALSE))","v":106},{"$f":"IF(ISNA(VLOOKUP(C762,BDDG!$A$2:$F$100,5,FALSE)),\"\",VLOOKUP(C762,BDDG!$A$2:$F$100,5,FALSE))","v":"A9"},{"$f":"IF(ISNA(VLOOKUP(C762,BDDG!$A$2:$F$100,6,FALSE)),\"\",VLOOKUP(C762,BDDG!$A$2:$F$100,6,FALSE))","v":"AA27"},{"$f":"IF(ISERROR(VLOOKUP(C762,BDDG!$A$2:$G$100,7,FALSE)),\"\",VLOOKUP(C762,BDDG!$A$2:$G$100,7,FALSE))","v":2},{"$f":"IF(ISERROR(VLOOKUP(C762,BDDG!$A$2:$H$100,8,FALSE)),\"\",VLOOKUP(C762,BDDG!$A$2:$H$100,8,FALSE))","v":"BB27"},10,55,15.709090909090911,{"$f":"IF(ISERROR(VLOOKUP(C762,BDDG!$A$2:$I$100,9,FALSE)),\"\",VLOOKUP(C762,BDDG!$A$2:$I$100,9,FALSE))","v":"CC27"},10,4.5,192.00000000000003,{"$f":"IF(ISERROR(VLOOKUP(C762,BDDG!$A$2:$J$100,10,FALSE)),\"\",VLOOKUP(C762,BDDG!$A$2:$J$100,10,FALSE))","v":"DD27"},null,null,"",207.70909090909095,6,2014,{"$f":"IFERROR(INDEX($V$2:V762,MATCH(H762&MAX(IF($H$1:H761=H762,$A$1:A761)),$H$2:H762&$A$2:A762,0))-V762,\"\")","v":255.14805194805194}]
["2014-06-04",null,835,{"$f":"IF(ISNA(VLOOKUP(C763,BDDG!$A$2:$F$100,2,FALSE)),\"\",VLOOKUP(C763,BDDG!$A$2:$F$100,2,FALSE))","v":0},{"$f":"IF(ISNA(VLOOKUP(C763,BDDG!$A$3:$J$102,3,FALSE)),\"\",VLOOKUP(C763,BDDG!$A$3:$J$102,3,FALSE))","v":"A"},{"$f":"IF(ISNA(VLOOKUP(C763,BDDG!$A$3:$J$102,4,FALSE)),\"\",VLOOKUP(C763,BDDG!$A$3:$J$102,4,FALSE))","v":106},{"$f":"IF(ISNA(VLOOKUP(C763,BDDG!$A$2:$F$100,5,FALSE)),\"\",VLOOKUP(C763,BDDG!$A$2:$F$100,5,FALSE))","v":"A3"},{"$f":"IF(ISNA(VLOOKUP(C763,BDDG!$A$2:$F$100,6,FALSE)),\"\",VLOOKUP(C763,BDDG!$A$2:$F$100,6,FALSE))","v":"AA5"},{"$f":"IF(ISERROR(VLOOKUP(C763,BDDG!$A$2:$G$100,7,FALSE)),\"\",VLOOKUP(C763,BDDG!$A$2:$G$100,7,FALSE))","v":1},{"$f":"IF(ISERROR(VLOOKUP(C763,BDDG!$A$2:$H$100,8,FALSE)),\"\",VLOOKUP(C763,BDDG!$A$2:$H$100,8,FALSE))","v":"BB5"},0.5,14,3.0857142857142859,{"$f":"IF(ISERROR(VLOOKUP(C763,BDDG!$A$2:$I$100,9,FALSE)),\"\",VLOOKUP(C763,BDDG!$A$2:$I$100,9,FALSE))","v":"CC5"},null,null,"",{"$f":"IF(ISERROR(VLOOKUP(C763,BDDG!$A$2:$J$100,10,FALSE)),\"\",VLOOKUP(C763,BDDG!$A$2:$J$100,10,FALSE))","v":"DD5"},null,null,"",3.0857142857142859,6,2014,{"$f":"IFERROR(INDEX($V$2:V763,MATCH(H763&MAX(IF($H$1:H762=H763,$A$1:A762)),$H$2:H763&$A$2:A763,0))-V763,\"\")","v":9.6201680672268921}]
["2014-06-04",null,852,{"$f":"IF(ISNA(VLOOKUP(C764,BDDG!$A$2:$F$100,2,FALSE)),\"\",VLOOKUP(C764,BDDG!$A$2:$F$100,2,FALSE))","v":0},{"$f":"IF(ISNA(VLOOKUP(C764,BDDG!$A$3:$J$102,3,FALSE)),\"\",VLOOKUP(C764,BDDG!$A$3:$J$102,3,FALSE))","v":"A"},{"$f":"IF(ISNA(VLOOKUP(C764,BDDG!$A$3:$J$102,4,FALSE)),\"\",VLOOKUP(C764,BDDG!$A$3:$J$102,4,FALSE))","v":106},{"$f":"IF(ISNA(VLOOKUP(C764,BDDG!$A$2:$F$100,5,FALSE)),\"\",VLOOKUP(C764,BDDG!$A$2:$F$100,5,FALSE))","v":"A9"},{"$f":"IF(ISNA(VLOOKUP(C764,BDDG!$A$2:$F$100,6,FALSE)),\"\",VLOOKUP(C764,BDDG!$A$2:$F$100,6,FALSE))","v":"AA22"},{"$f":"IF(ISERROR(VLOOKUP(C764,BDDG!$A$2:$G$100,7,FALSE)),\"\",VLOOKUP(C764,BDDG!$A$2:$G$100,7,FALSE))","v":1},{"$f":"IF(ISERROR(VLOOKUP(C764,BDDG!$A$2:$H$100,8,FALSE)),\"\",VLOOKUP(C764,BDDG!$A$2:$H$100,8,FALSE))","v":"BB22"},10,110,7.8545454545454554,{"$f":"IF(ISERROR(VLOOKUP(C764,BDDG!$A$2:$I$100,9,FALSE)),\"\",VLOOKUP(C764,BDDG!$A$2:$I$100,9,FALSE))","v":"CC22"},null,null,"",{"$f":"IF(ISERROR(VLOOKUP(C764,BDDG!$A$2:$J$100,10,FALSE)),\"\",VLOOKUP(C764,BDDG!$A$2:$J$100,10,FALSE))","v":"DD22"},null,null,"",7.8545454545454554,6,2014,{"$f":"IFERROR(INDEX($V$2:V764,MATCH(H764&MAX(IF($H$1:H763=H764,$A$1:A763)),$H$2:H764&$A$2:A764,0))-V764,\"\")","v":8.1454545454545446}]
["2014-06-05",null,832,{"$f":"IF(ISNA(VLOOKUP(C765,BDDG!$A$2:$F$100,2,FALSE)),\"\",VLOOKUP(C765,BDDG!$A$2:$F$100,2,FALSE))","v":0},{"$f":"IF(ISNA(VLOOKUP(C765,BDDG!$A$3:$J$102,3,FALSE)),\"\",VLOOKUP(C765,BDDG!$A$3:$J$102,3,FALSE))","v":"A"},{"$f":"IF(ISNA(VLOOKUP(C765,BDDG!$A$3:$J$102,4,FALSE)),\"\",VLOOKUP(C765,BDDG!$A$3:$J$102,4,FALSE))","v":106},{"$f":"IF(ISNA(VLOOKUP(C765,BDDG!$A$2:$F$100,5,FALSE)),\"\",VLOOKUP(C765,BDDG!$A$2:$F$100,5,FALSE))","v":"A2"},{"$f":"IF(ISNA(VLOOKUP(C765,BDDG!$A$2:$F$100,6,FALSE)),\"\",VLOOKUP(C765,BDDG!$A$2:$F$100,6,FALSE))","v":"AA2"},{"$f":"IF(ISERROR(VLOOKUP(C765,BDDG!$A$2:$G$100,7,FALSE)),\"\",VLOOKUP(C765,BDDG!$A$2:$G$100,7,FALSE))","v":1},{"$f":"IF(ISERROR(VLOOKUP(C765,BDDG!$A$2:$H$100,8,FALSE)),\"\",VLOOKUP(C765,BDDG!$A$2:$H$100,8,FALSE))","v":"BB2"},10,18,48.000000000000007,{"$f":"IF(ISERROR(VLOOKUP(C765,BDDG!$A$2:$I$100,9,FALSE)),\"\",VLOOKUP(C765,BDDG!$A$2:$I$100,9,FALSE))","v":"CC2"},null,null,"",{"$f":"IF(ISERROR(VLOOKUP(C765,BDDG!$A$2:$J$100,10,FALSE)),\"\",VLOOKUP(C765,BDDG!$A$2:$J$100,10,FALSE))","v":"DD2"},null,null,"",48.000000000000007,6,2014,{"$f":"IFERROR(INDEX($V$2:V765,MATCH(H765&MAX(IF($H$1:H764=H765,$A$1:A764)),$H$2:H765&$A$2:A765,0))-V765,\"\")","v":21.119999999999997}]
["2014-06-05",null,833,{"$f":"IF(ISNA(VLOOKUP(C766,BDDG!$A$2:$F$100,2,FALSE)),\"\",VLOOKUP(C766,BDDG!$A$2:$F$100,2,FALSE))","v":0},{"$f":"IF(ISNA(VLOOKUP(C766,BDDG!$A$3:$J$102,3,FALSE)),\"\",VLOOKUP(C766,BDDG!$A$3:$J$102,3,FALSE))","v":"A"},{"$f":"IF(ISNA(VLOOKUP(C766,BDDG!$A$3:$J$102,4,FALSE)),\"\",VLOOKUP(C766,BDDG!$A$3:$J$102,4,FALSE))","v":106},{"$f":"IF(ISNA(VLOOKUP(C766,BDDG!$A$2:$F$100,5,FALSE)),\"\",VLOOKUP(C766,BDDG!$A$2:$F$100,5,FALSE))","v":"A2"},{"$f":"IF(ISNA(VLOOKUP(C766,BDDG!$A$2:$F$100,6,FALSE)),\"\",VLOOKUP(C766,BDDG!$A$2:$F$100,6,FALSE))","v":"AA3"},{"$f":"IF(ISERROR(VLOOKUP(C766,BDDG!$A$2:$G$100,7,FALSE)),\"\",VLOOKUP(C766,BDDG!$A$2:$G$100,7,FALSE))","v":1},{"$f":"IF(ISERROR(VLOOKUP(C766,BDDG!$A$2:$H$100,8,FALSE)),\"\",VLOOKUP(C766,BDDG!$A$2:$H$100,8,FALSE))","v":"BB3"},10,16,54,{"$f":"IF(ISERROR(VLOOKUP(C766,BDDG!$A$2:$I$100,9,FALSE)),\"\",VLOOKUP(C766,BDDG!$A$2:$I$100,9,FALSE))","v":"CC3"},null,null,"",{"$f":"IF(ISERROR(VLOOKUP(C766,BDDG!$A$2:$J$100,10,FALSE)),\"\",VLOOKUP(C766,BDDG!$A$2:$J$100,10,FALSE))","v":"DD3"},null,null,"",54,6,2014,{"$f":"IFERROR(INDEX($V$2:V766,MATCH(H766&MAX(IF($H$1:H765=H766,$A$1:A765)),$H$2:H766&$A$2:A766,0))-V766,\"\")","v":18.000000000000014}]
["2014-06-05",null,834,{"$f":"IF(ISNA(VLOOKUP(C767,BDDG!$A$2:$F$100,2,FALSE)),\"\",VLOOKUP(C767,BDDG!$A$2:$F$100,2,FALSE))","v":0},{"$f":"IF(ISNA(VLOOKUP(C767,BDDG!$A$3:$J$102,3,FALSE)),\"\",VLOOKUP(C767,BDDG!$A$3:$J$102,3,FALSE))","v":"A"},{"$f":"IF(ISNA(VLOOKUP(C767,BDDG!$A$3:$J$102,4,FALSE)),\"\",VLOOKUP(C767,BDDG!$A$3:$J$102,4,FALSE))","v":106},{"$f":"IF(ISNA(VLOOKUP(C767,BDDG!$A$2:$F$100,5,FALSE)),\"\",VLOOKUP(C767,BDDG!$A$2:$F$100,5,FALSE))","v":"A2"},{"$f":"IF(ISNA(VLOOKUP(C767,BDDG!$A$2:$F$100,6,FALSE)),\"\",VLOOKUP(C767,BDDG!$A$2:$F$100,6,FALSE))","v":"AA4"},{"$f":"IF(ISERROR(VLOOKUP(C767,BDDG!$A$2:$G$100,7,FALSE)),\"\",VLOOKUP(C767,BDDG!$A$2:$G$100,7,FALSE))","v":1},{"$f":"IF(ISERROR(VLOOKUP(C767,BDDG!$A$2:$H$100,8,FALSE)),\"\",VLOOKUP(C767,BDDG!$A$2:$H$100,8,FALSE))","v":"BB4"},10,32,27,{"$f":"IF(ISERROR(VLOOKUP(C767,BDDG!$A$2:$I$100,9,FALSE)),\"\",VLOOKUP(C767,BDDG!$A$2:$I$100,9,FALSE))","v":"CC4"},null,null,"",{"$f":"IF(ISERROR(VLOOKUP(C767,BDDG!$A$2:$J$100,10,FALSE)),\"\",VLOOKUP(C767,BDDG!$A$2:$J$100,10,FALSE))","v":"DD4"},null,null,"",27,6,2014,{"$f":"IFERROR(INDEX($V$2:V767,MATCH(H767&MAX(IF($H$1:H766=H767,$A$1:A766)),$H$2:H767&$A$2:A767,0))-V767,\"\")","v":14.142857142857146}]
["2014-06-05",null,854,{"$f":"IF(ISNA(VLOOKUP(C768,BDDG!$A$2:$F$100,2,FALSE)),\"\",VLOOKUP(C768,BDDG!$A$2:$F$100,2,FALSE))","v":0},{"$f":"IF(ISNA(VLOOKUP(C768,BDDG!$A$3:$J$102,3,FALSE)),\"\",VLOOKUP(C768,BDDG!$A$3:$J$102,3,FALSE))","v":"A"},{"$f":"IF(ISNA(VLOOKUP(C768,BDDG!$A$3:$J$102,4,FALSE)),\"\",VLOOKUP(C768,BDDG!$A$3:$J$102,4,FALSE))","v":106},{"$f":"IF(ISNA(VLOOKUP(C768,BDDG!$A$2:$F$100,5,FALSE)),\"\",VLOOKUP(C768,BDDG!$A$2:$F$100,5,FALSE))","v":"A9"},{"$f":"IF(ISNA(VLOOKUP(C768,BDDG!$A$2:$F$100,6,FALSE)),\"\",VLOOKUP(C768,BDDG!$A$2:$F$100,6,FALSE))","v":"AA25"},{"$f":"IF(ISERROR(VLOOKUP(C768,BDDG!$A$2:$G$100,7,FALSE)),\"\",VLOOKUP(C768,BDDG!$A$2:$G$100,7,FALSE))","v":2},{"$f":"IF(ISERROR(VLOOKUP(C768,BDDG!$A$2:$H$100,8,FALSE)),\"\",VLOOKUP(C768,BDDG!$A$2:$H$100,8,FALSE))","v":"BB25"},10,5,172.8,{"$f":"IF(ISERROR(VLOOKUP(C768,BDDG!$A$2:$I$100,9,FALSE)),\"\",VLOOKUP(C768,BDDG!$A$2:$I$100,9,FALSE))","v":"CC25"},null,null,"",{"$f":"IF(ISERROR(VLOOKUP(C768,BDDG!$A$2:$J$100,10,FALSE)),\"\",VLOOKUP(C768,BDDG!$A$2:$J$100,10,FALSE))","v":"DD25"},null,null,"",172.8,6,2014,{"$f":"IFERROR(INDEX($V$2:V768,MATCH(H768&MAX(IF($H$1:H767=H768,$A$1:A767)),$H$2:H768&$A$2:A768,0))-V768,\"\")","v":172.8}]
["2014-06-10",null,850,{"$f":"IF(ISNA(VLOOKUP(C769,BDDG!$A$2:$F$100,2,FALSE)),\"\",VLOOKUP(C769,BDDG!$A$2:$F$100,2,FALSE))","v":0},{"$f":"IF(ISNA(VLOOKUP(C769,BDDG!$A$3:$J$102,3,FALSE)),\"\",VLOOKUP(C769,BDDG!$A$3:$J$102,3,FALSE))","v":"B"},{"$f":"IF(ISNA(VLOOKUP(C769,BDDG!$A$3:$J$102,4,FALSE)),\"\",VLOOKUP(C769,BDDG!$A$3:$J$102,4,FALSE))","v":106},{"$f":"IF(ISNA(VLOOKUP(C769,BDDG!$A$2:$F$100,5,FALSE)),\"\",VLOOKUP(C769,BDDG!$A$2:$F$100,5,FALSE))","v":"A8"},{"$f":"IF(ISNA(VLOOKUP(C769,BDDG!$A$2:$F$100,6,FALSE)),\"\",VLOOKUP(C769,BDDG!$A$2:$F$100,6,FALSE))","v":"AA20"},{"$f":"IF(ISERROR(VLOOKUP(C769,BDDG!$A$2:$G$100,7,FALSE)),\"\",VLOOKUP(C769,BDDG!$A$2:$G$100,7,FALSE))","v":1},{"$f":"IF(ISERROR(VLOOKUP(C769,BDDG!$A$2:$H$100,8,FALSE)),\"\",VLOOKUP(C769,BDDG!$A$2:$H$100,8,FALSE))","v":"BB20"},10,22,39.272727272727273,{"$f":"IF(ISERROR(VLOOKUP(C769,BDDG!$A$2:$I$100,9,FALSE)),\"\",VLOOKUP(C769,BDDG!$A$2:$I$100,9,FALSE))","v":"CC20"},null,null,"",{"$f":"IF(ISERROR(VLOOKUP(C769,BDDG!$A$2:$J$100,10,FALSE)),\"\",VLOOKUP(C769,BDDG!$A$2:$J$100,10,FALSE))","v":"DD20"},null,null,"",39.272727272727273,6,2014,{"$f":"IFERROR(INDEX($V$2:V769,MATCH(H769&MAX(IF($H$1:H768=H769,$A$1:A768)),$H$2:H769&$A$2:A769,0))-V769,\"\")","v":6.2009569377990417}]
["2014-06-10",null,860,{"$f":"IF(ISNA(VLOOKUP(C770,BDDG!$A$2:$F$100,2,FALSE)),\"\",VLOOKUP(C770,BDDG!$A$2:$F$100,2,FALSE))","v":0},{"$f":"IF(ISNA(VLOOKUP(C770,BDDG!$A$3:$J$102,3,FALSE)),\"\",VLOOKUP(C770,BDDG!$A$3:$J$102,3,FALSE))","v":"A"},{"$f":"IF(ISNA(VLOOKUP(C770,BDDG!$A$3:$J$102,4,FALSE)),\"\",VLOOKUP(C770,BDDG!$A$3:$J$102,4,FALSE))","v":106},{"$f":"IF(ISNA(VLOOKUP(C770,BDDG!$A$2:$F$100,5,FALSE)),\"\",VLOOKUP(C770,BDDG!$A$2:$F$100,5,FALSE))","v":"A11"},{"$f":"IF(ISNA(VLOOKUP(C770,BDDG!$A$2:$F$100,6,FALSE)),\"\",VLOOKUP(C770,BDDG!$A$2:$F$100,6,FALSE))","v":"AA32"},{"$f":"IF(ISERROR(VLOOKUP(C770,BDDG!$A$2:$G$100,7,FALSE)),\"\",VLOOKUP(C770,BDDG!$A$2:$G$100,7,FALSE))","v":2},{"$f":"IF(ISERROR(VLOOKUP(C770,BDDG!$A$2:$H$100,8,FALSE)),\"\",VLOOKUP(C770,BDDG!$A$2:$H$100,8,FALSE))","v":"BB32"},10,23,37.565217391304351,{"$f":"IF(ISERROR(VLOOKUP(C770,BDDG!$A$2:$I$100,9,FALSE)),\"\",VLOOKUP(C770,BDDG!$A$2:$I$100,9,FALSE))","v":"CC32"},null,null,"",{"$f":"IF(ISERROR(VLOOKUP(C770,BDDG!$A$2:$J$100,10,FALSE)),\"\",VLOOKUP(C770,BDDG!$A$2:$J$100,10,FALSE))","v":"DD32"},null,null,"",37.565217391304351,{"$f":"MONTH(A:A)","v":6},{"$f":"YEAR(A:A)","v":2014},{"$f":"IFERROR(INDEX($V$2:V770,MATCH(H770&MAX(IF($H$1:H769=H770,$A$1:A769)),$H$2:H770&$A$2:A770,0))-V770,\"\")","v":16.434782608695649}]
["2014-06-10",null,868,{"$f":"IF(ISNA(VLOOKUP(C771,BDDG!$A$2:$F$100,2,FALSE)),\"\",VLOOKUP(C771,BDDG!$A$2:$F$100,2,FALSE))","v":0},{"$f":"IF(ISNA(VLOOKUP(C771,BDDG!$A$3:$J$102,3,FALSE)),\"\",VLOOKUP(C771,BDDG!$A$3:$J$102,3,FALSE))","v":"A"},{"$f":"IF(ISNA(VLOOKUP(C771,BDDG!$A$3:$J$102,4,FALSE)),\"\",VLOOKUP(C771,BDDG!$A$3:$J$102,4,FALSE))","v":108},{"$f":"IF(ISNA(VLOOKUP(C771,BDDG!$A$2:$F$100,5,FALSE)),\"\",VLOOKUP(C771,BDDG!$A$2:$F$100,5,FALSE))","v":"A16"},{"$f":"IF(ISNA(VLOOKUP(C771,BDDG!$A$2:$F$100,6,FALSE)),\"\",VLOOKUP(C771,BDDG!$A$2:$F$100,6,FALSE))","v":"AA39"},{"$f":"IF(ISERROR(VLOOKUP(C771,BDDG!$A$2:$G$100,7,FALSE)),\"\",VLOOKUP(C771,BDDG!$A$2:$G$100,7,FALSE))","v":2},{"$f":"IF(ISERROR(VLOOKUP(C771,BDDG!$A$2:$H$100,8,FALSE)),\"\",VLOOKUP(C771,BDDG!$A$2:$H$100,8,FALSE))","v":"BB39"},10,75,{"$f":" IF(ISERROR(K771/L771*86.4),\"\",K771/L771*86.4)","v":11.520000000000001},{"$f":"IF(ISERROR(VLOOKUP(C771,BDDG!$A$2:$I$100,9,FALSE)),\"\",VLOOKUP(C771,BDDG!$A$2:$I$100,9,FALSE))","v":"CC39"},null,null,"",{"$f":"IF(ISERROR(VLOOKUP(C771,BDDG!$A$2:$J$100,10,FALSE)),\"\",VLOOKUP(C771,BDDG!$A$2:$J$100,10,FALSE))","v":"DD39"},null,null,"",{"$f":"IF(ISERROR(SUM(M771,Q771,U771)),\"\",SUM(M771,Q771,U771))","v":11.520000000000001},6,2014,{"$f":"IFERROR(INDEX($V$2:V771,MATCH(H771&MAX(IF($H$1:H770=H771,$A$1:A770)),$H$2:H771&$A$2:A771,0))-V771,\"\")","v":46.08}]
["2014-06-10",null,870,{"$f":"IF(ISNA(VLOOKUP(C772,BDDG!$A$2:$F$100,2,FALSE)),\"\",VLOOKUP(C772,BDDG!$A$2:$F$100,2,FALSE))","v":0},{"$f":"IF(ISNA(VLOOKUP(C772,BDDG!$A$3:$J$102,3,FALSE)),\"\",VLOOKUP(C772,BDDG!$A$3:$J$102,3,FALSE))","v":"A"},{"$f":"IF(ISNA(VLOOKUP(C772,BDDG!$A$3:$J$102,4,FALSE)),\"\",VLOOKUP(C772,BDDG!$A$3:$J$102,4,FALSE))","v":108},{"$f":"IF(ISNA(VLOOKUP(C772,BDDG!$A$2:$F$100,5,FALSE)),\"\",VLOOKUP(C772,BDDG!$A$2:$F$100,5,FALSE))","v":"A16"},{"$f":"IF(ISNA(VLOOKUP(C772,BDDG!$A$2:$F$100,6,FALSE)),\"\",VLOOKUP(C772,BDDG!$A$2:$F$100,6,FALSE))","v":"AA41"},{"$f":"IF(ISERROR(VLOOKUP(C772,BDDG!$A$2:$G$100,7,FALSE)),\"\",VLOOKUP(C772,BDDG!$A$2:$G$100,7,FALSE))","v":2},{"$f":"IF(ISERROR(VLOOKUP(C772,BDDG!$A$2:$H$100,8,FALSE)),\"\",VLOOKUP(C772,BDDG!$A$2:$H$100,8,FALSE))","v":"BB41"},10,250,3.4560000000000004,{"$f":"IF(ISERROR(VLOOKUP(C772,BDDG!$A$2:$I$100,9,FALSE)),\"\",VLOOKUP(C772,BDDG!$A$2:$I$100,9,FALSE))","v":"CC41"},10,496,1.7419354838709677,{"$f":"IF(ISERROR(VLOOKUP(C772,BDDG!$A$2:$J$100,10,FALSE)),\"\",VLOOKUP(C772,BDDG!$A$2:$J$100,10,FALSE))","v":"DD41"},null,null,"",5.1979354838709684,6,2014,{"$f":"IFERROR(INDEX($V$2:V772,MATCH(H772&MAX(IF($H$1:H771=H772,$A$1:A771)),$H$2:H772&$A$2:A772,0))-V772,\"\")","v":22.854012568077085}]
["2014-06-10",null,861,{"$f":"IF(ISNA(VLOOKUP(C773,BDDG!$A$2:$F$100,2,FALSE)),\"\",VLOOKUP(C773,BDDG!$A$2:$F$100,2,FALSE))","v":0},{"$f":"IF(ISNA(VLOOKUP(C773,BDDG!$A$3:$J$102,3,FALSE)),\"\",VLOOKUP(C773,BDDG!$A$3:$J$102,3,FALSE))","v":"A"},{"$f":"IF(ISNA(VLOOKUP(C773,BDDG!$A$3:$J$102,4,FALSE)),\"\",VLOOKUP(C773,BDDG!$A$3:$J$102,4,FALSE))","v":106},{"$f":"IF(ISNA(VLOOKUP(C773,BDDG!$A$2:$F$100,5,FALSE)),\"\",VLOOKUP(C773,BDDG!$A$2:$F$100,5,FALSE))","v":"A11"},{"$f":"IF(ISNA(VLOOKUP(C773,BDDG!$A$2:$F$100,6,FALSE)),\"\",VLOOKUP(C773,BDDG!$A$2:$F$100,6,FALSE))","v":"AA33"},{"$f":"IF(ISERROR(VLOOKUP(C773,BDDG!$A$2:$G$100,7,FALSE)),\"\",VLOOKUP(C773,BDDG!$A$2:$G$100,7,FALSE))","v":2},{"$f":"IF(ISERROR(VLOOKUP(C773,BDDG!$A$2:$H$100,8,FALSE)),\"\",VLOOKUP(C773,BDDG!$A$2:$H$100,8,FALSE))","v":"BB33"},null,null,null,{"$f":"IF(ISERROR(VLOOKUP(C773,BDDG!$A$2:$I$100,9,FALSE)),\"\",VLOOKUP(C773,BDDG!$A$2:$I$100,9,FALSE))","v":"CC33"},10,6,144.00000000000003,{"$f":"IF(ISERROR(VLOOKUP(C773,BDDG!$A$2:$J$100,10,FALSE)),\"\",VLOOKUP(C773,BDDG!$A$2:$J$100,10,FALSE))","v":"DD33"},null,null,"",{"$f":"IF(ISERROR(SUM(M773,Q773,U773)),\"\",SUM((M773,Q773,U773)))","v":144.00000000000003},6,2014,{"$f":"IFERROR(INDEX($V$2:V773,MATCH(H773&MAX(IF($H$1:H772=H773,$A$1:A772)),$H$2:H773&$A$2:A773,0))-V773,\"\")","v":71.999999999999972}]
["2014-06-10",null,860,{"$f":"IF(ISNA(VLOOKUP(C774,BDDG!$A$2:$F$100,2,FALSE)),\"\",VLOOKUP(C774,BDDG!$A$2:$F$100,2,FALSE))","v":0},{"$f":"IF(ISNA(VLOOKUP(C774,BDDG!$A$3:$J$102,3,FALSE)),\"\",VLOOKUP(C774,BDDG!$A$3:$J$102,3,FALSE))","v":"A"},{"$f":"IF(ISNA(VLOOKUP(C774,BDDG!$A$3:$J$102,4,FALSE)),\"\",VLOOKUP(C774,BDDG!$A$3:$J$102,4,FALSE))","v":106},{"$f":"IF(ISNA(VLOOKUP(C774,BDDG!$A$2:$F$100,5,FALSE)),\"\",VLOOKUP(C774,BDDG!$A$2:$F$100,5,FALSE))","v":"A11"},{"$f":"IF(ISNA(VLOOKUP(C774,BDDG!$A$2:$F$100,6,FALSE)),\"\",VLOOKUP(C774,BDDG!$A$2:$F$100,6,FALSE))","v":"AA32"},{"$f":"IF(ISERROR(VLOOKUP(C774,BDDG!$A$2:$G$100,7,FALSE)),\"\",VLOOKUP(C774,BDDG!$A$2:$G$100,7,FALSE))","v":2},{"$f":"IF(ISERROR(VLOOKUP(C774,BDDG!$A$2:$H$100,8,FALSE)),\"\",VLOOKUP(C774,BDDG!$A$2:$H$100,8,FALSE))","v":"BB32"},10,23,{"$f":" IF(ISERROR(K774/L774*86.4),\"\",K774/L774*86.4)","v":37.565217391304351},{"$f":"IF(ISERROR(VLOOKUP(C774,BDDG!$A$2:$I$100,9,FALSE)),\"\",VLOOKUP(C774,BDDG!$A$2:$I$100,9,FALSE))","v":"CC32"},null,null,"",{"$f":"IF(ISERROR(VLOOKUP(C774,BDDG!$A$2:$J$100,10,FALSE)),\"\",VLOOKUP(C774,BDDG!$A$2:$J$100,10,FALSE))","v":"DD32"},null,null,"",{"$f":"IF(ISERROR(SUM(M774,Q774,U774)),\"\",SUM(M774,Q774,U774))","v":37.565217391304351},6,2014,{"$f":"IFERROR(INDEX($V$2:V774,MATCH(H774&MAX(IF($H$1:H773=H774,$A$1:A773)),$H$2:H774&$A$2:A774,0))-V774,\"\")","v":0}]
["2014-06-13",null,842,{"$f":"IF(ISNA(VLOOKUP(C775,BDDG!$A$2:$F$100,2,FALSE)),\"\",VLOOKUP(C775,BDDG!$A$2:$F$100,2,FALSE))","v":0},{"$f":"IF(ISNA(VLOOKUP(C775,BDDG!$A$3:$J$102,3,FALSE)),\"\",VLOOKUP(C775,BDDG!$A$3:$J$102,3,FALSE))","v":"B"},{"$f":"IF(ISNA(VLOOKUP(C775,BDDG!$A$3:$J$102,4,FALSE)),\"\",VLOOKUP(C775,BDDG!$A$3:$J$102,4,FALSE))","v":106},{"$f":"IF(ISNA(VLOOKUP(C775,BDDG!$A$2:$F$100,5,FALSE)),\"\",VLOOKUP(C775,BDDG!$A$2:$F$100,5,FALSE))","v":"A5"},{"$f":"IF(ISNA(VLOOKUP(C775,BDDG!$A$2:$F$100,6,FALSE)),\"\",VLOOKUP(C775,BDDG!$A$2:$F$100,6,FALSE))","v":"AA13"},{"$f":"IF(ISERROR(VLOOKUP(C775,BDDG!$A$2:$G$100,7,FALSE)),\"\",VLOOKUP(C775,BDDG!$A$2:$G$100,7,FALSE))","v":1},{"$f":"IF(ISERROR(VLOOKUP(C775,BDDG!$A$2:$H$100,8,FALSE)),\"\",VLOOKUP(C775,BDDG!$A$2:$H$100,8,FALSE))","v":"BB13"},10,42,20.571428571428573,{"$f":"IF(ISERROR(VLOOKUP(C775,BDDG!$A$2:$I$100,9,FALSE)),\"\",VLOOKUP(C775,BDDG!$A$2:$I$100,9,FALSE))","v":"CC13"},null,null,"",{"$f":"IF(ISERROR(VLOOKUP(C775,BDDG!$A$2:$J$100,10,FALSE)),\"\",VLOOKUP(C775,BDDG!$A$2:$J$100,10,FALSE))","v":"DD13"},null,null,{"$f":" IF(ISERROR(S775/T775*86.4),\"\",S775/T775*86.4)","v":""},20.571428571428573,6,2014,{"$f":"IFERROR(INDEX($V$2:V775,MATCH(H775&MAX(IF($H$1:H774=H775,$A$1:A774)),$H$2:H775&$A$2:A775,0))-V775,\"\")","v":2.1654135338345846}]
["2014-06-13",null,848,{"$f":"IF(ISNA(VLOOKUP(C776,BDDG!$A$2:$F$100,2,FALSE)),\"\",VLOOKUP(C776,BDDG!$A$2:$F$100,2,FALSE))","v":0},{"$f":"IF(ISNA(VLOOKUP(C776,BDDG!$A$3:$J$102,3,FALSE)),\"\",VLOOKUP(C776,BDDG!$A$3:$J$102,3,FALSE))","v":"B"},{"$f":"IF(ISNA(VLOOKUP(C776,BDDG!$A$3:$J$102,4,FALSE)),\"\",VLOOKUP(C776,BDDG!$A$3:$J$102,4,FALSE))","v":106},{"$f":"IF(ISNA(VLOOKUP(C776,BDDG!$A$2:$F$100,5,FALSE)),\"\",VLOOKUP(C776,BDDG!$A$2:$F$100,5,FALSE))","v":"A7"},{"$f":"IF(ISNA(VLOOKUP(C776,BDDG!$A$2:$F$100,6,FALSE)),\"\",VLOOKUP(C776,BDDG!$A$2:$F$100,6,FALSE))","v":"AA19"},{"$f":"IF(ISERROR(VLOOKUP(C776,BDDG!$A$2:$G$100,7,FALSE)),\"\",VLOOKUP(C776,BDDG!$A$2:$G$100,7,FALSE))","v":2},{"$f":"IF(ISERROR(VLOOKUP(C776,BDDG!$A$2:$H$100,8,FALSE)),\"\",VLOOKUP(C776,BDDG!$A$2:$H$100,8,FALSE))","v":"BB19"},10,45,19.2,{"$f":"IF(ISERROR(VLOOKUP(C776,BDDG!$A$2:$I$100,9,FALSE)),\"\",VLOOKUP(C776,BDDG!$A$2:$I$100,9,FALSE))","v":"CC19"},null,null,"",{"$f":"IF(ISERROR(VLOOKUP(C776,BDDG!$A$2:$J$100,10,FALSE)),\"\",VLOOKUP(C776,BDDG!$A$2:$J$100,10,FALSE))","v":"DD19"},null,null,"",19.2,6,2014,{"$f":"IFERROR(INDEX($V$2:V776,MATCH(H776&MAX(IF($H$1:H775=H776,$A$1:A775)),$H$2:H776&$A$2:A776,0))-V776,\"\")","v":59.345454545454544}]
["2014-06-13",null,847,{"$f":"IF(ISNA(VLOOKUP(C777,BDDG!$A$2:$F$100,2,FALSE)),\"\",VLOOKUP(C777,BDDG!$A$2:$F$100,2,FALSE))","v":0},{"$f":"IF(ISNA(VLOOKUP(C777,BDDG!$A$3:$J$102,3,FALSE)),\"\",VLOOKUP(C777,BDDG!$A$3:$J$102,3,FALSE))","v":"B"},{"$f":"IF(ISNA(VLOOKUP(C777,BDDG!$A$3:$J$102,4,FALSE)),\"\",VLOOKUP(C777,BDDG!$A$3:$J$102,4,FALSE))","v":106},{"$f":"IF(ISNA(VLOOKUP(C777,BDDG!$A$2:$F$100,5,FALSE)),\"\",VLOOKUP(C777,BDDG!$A$2:$F$100,5,FALSE))","v":"A7"},{"$f":"IF(ISNA(VLOOKUP(C777,BDDG!$A$2:$F$100,6,FALSE)),\"\",VLOOKUP(C777,BDDG!$A$2:$F$100,6,FALSE))","v":"AA18"},{"$f":"IF(ISERROR(VLOOKUP(C777,BDDG!$A$2:$G$100,7,FALSE)),\"\",VLOOKUP(C777,BDDG!$A$2:$G$100,7,FALSE))","v":2},{"$f":"IF(ISERROR(VLOOKUP(C777,BDDG!$A$2:$H$100,8,FALSE)),\"\",VLOOKUP(C777,BDDG!$A$2:$H$100,8,FALSE))","v":"BB18"},10,45,19.2,{"$f":"IF(ISERROR(VLOOKUP(C777,BDDG!$A$2:$I$100,9,FALSE)),\"\",VLOOKUP(C777,BDDG!$A$2:$I$100,9,FALSE))","v":"CC18"},10,60,14.4,{"$f":"IF(ISERROR(VLOOKUP(C777,BDDG!$A$2:$J$100,10,FALSE)),\"\",VLOOKUP(C777,BDDG!$A$2:$J$100,10,FALSE))","v":"DD18"},null,null,"",33.6,6,2014,{"$f":"IFERROR(INDEX($V$2:V777,MATCH(H777&MAX(IF($H$1:H776=H777,$A$1:A776)),$H$2:H777&$A$2:A777,0))-V777,\"\")","v":70.357219251336915}]
["2014-06-13",null,844,{"$f":"IF(ISNA(VLOOKUP(C778,BDDG!$A$2:$F$100,2,FALSE)),\"\",VLOOKUP(C778,BDDG!$A$2:$F$100,2,FALSE))","v":0},{"$f":"IF(ISNA(VLOOKUP(C778,BDDG!$A$3:$J$102,3,FALSE)),\"\",VLOOKUP(C778,BDDG!$A$3:$J$102,3,FALSE))","v":"B"},{"$f":"IF(ISNA(VLOOKUP(C778,BDDG!$A$3:$J$102,4,FALSE)),\"\",VLOOKUP(C778,BDDG!$A$3:$J$102,4,FALSE))","v":106},{"$f":"IF(ISNA(VLOOKUP(C778,BDDG!$A$2:$F$100,5,FALSE)),\"\",VLOOKUP(C778,BDDG!$A$2:$F$100,5,FALSE))","v":"A6"},{"$f":"IF(ISNA(VLOOKUP(C778,BDDG!$A$2:$F$100,6,FALSE)),\"\",VLOOKUP(C778,BDDG!$A$2:$F$100,6,FALSE))","v":"AA14"},{"$f":"IF(ISERROR(VLOOKUP(C778,BDDG!$A$2:$G$100,7,FALSE)),\"\",VLOOKUP(C778,BDDG!$A$2:$G$100,7,FALSE))","v":2},{"$f":"IF(ISERROR(VLOOKUP(C778,BDDG!$A$2:$H$100,8,FALSE)),\"\",VLOOKUP(C778,BDDG!$A$2:$H$100,8,FALSE))","v":"BB14"},10,14,61.714285714285722,{"$f":"IF(ISERROR(VLOOKUP(C778,BDDG!$A$2:$I$100,9,FALSE)),\"\",VLOOKUP(C778,BDDG!$A$2:$I$100,9,FALSE))","v":"CC14"},null,null,{"$f":" IF(ISERROR(O778/P778*86.4),\"\",O778/P778*86.4)","v":""},{"$f":"IF(ISERROR(VLOOKUP(C778,BDDG!$A$2:$J$100,10,FALSE)),\"\",VLOOKUP(C778,BDDG!$A$2:$J$100,10,FALSE))","v":"DD14"},null,null,"",61.714285714285722,6,2014,{"$f":"IFERROR(INDEX($V$2:V778,MATCH(H778&MAX(IF($H$1:H777=H778,$A$1:A777)),$H$2:H778&$A$2:A778,0))-V778,\"\")","v":0}]
["2014-06-13",null,849,{"$f":"IF(ISNA(VLOOKUP(C779,BDDG!$A$2:$F$100,2,FALSE)),\"\",VLOOKUP(C779,BDDG!$A$2:$F$100,2,FALSE))","v":0},{"$f":"IF(ISNA(VLOOKUP(C779,BDDG!$A$3:$J$102,3,FALSE)),\"\",VLOOKUP(C779,BDDG!$A$3:$J$102,3,FALSE))","v":"B"},{"$f":"IF(ISNA(VLOOKUP(C779,BDDG!$A$3:$J$102,4,FALSE)),\"\",VLOOKUP(C779,BDDG!$A$3:$J$102,4,FALSE))","v":106},{"$f":"IF(ISNA(VLOOKUP(C779,BDDG!$A$2:$F$100,5,FALSE)),\"\",VLOOKUP(C779,BDDG!$A$2:$F$100,5,FALSE))","v":"A7"},{"$f":"IF(ISNA(VLOOKUP(C779,BDDG!$A$2:$F$100,6,FALSE)),\"\",VLOOKUP(C779,BDDG!$A$2:$F$100,6,FALSE))","v":"AA15"},{"$f":"IF(ISERROR(VLOOKUP(C779,BDDG!$A$2:$G$100,7,FALSE)),\"\",VLOOKUP(C779,BDDG!$A$2:$G$100,7,FALSE))","v":2},{"$f":"IF(ISERROR(VLOOKUP(C779,BDDG!$A$2:$H$100,8,FALSE)),\"\",VLOOKUP(C779,BDDG!$A$2:$H$100,8,FALSE))","v":"BB15"},10,39,22.153846153846153,{"$f":"IF(ISERROR(VLOOKUP(C779,BDDG!$A$2:$I$100,9,FALSE)),\"\",VLOOKUP(C779,BDDG!$A$2:$I$100,9,FALSE))","v":"CC15"},10,92,9.3913043478260878,{"$f":"IF(ISERROR(VLOOKUP(C779,BDDG!$A$2:$J$100,10,FALSE)),\"\",VLOOKUP(C779,BDDG!$A$2:$J$100,10,FALSE))","v":"DD15"},null,null,"",31.545150501672239,6,2014,{"$f":"IFERROR(INDEX($V$2:V779,MATCH(H779&MAX(IF($H$1:H778=H779,$A$1:A778)),$H$2:H779&$A$2:A779,0))-V779,\"\")","v":29.086428445696185}]
["2014-06-17",null,867,{"$f":"IF(ISNA(VLOOKUP(C780,BDDG!$A$2:$F$100,2,FALSE)),\"\",VLOOKUP(C780,BDDG!$A$2:$F$100,2,FALSE))","v":0},{"$f":"IF(ISNA(VLOOKUP(C780,BDDG!$A$3:$J$102,3,FALSE)),\"\",VLOOKUP(C780,BDDG!$A$3:$J$102,3,FALSE))","v":"C"},{"$f":"IF(ISNA(VLOOKUP(C780,BDDG!$A$3:$J$102,4,FALSE)),\"\",VLOOKUP(C780,BDDG!$A$3:$J$102,4,FALSE))","v":108},{"$f":"IF(ISNA(VLOOKUP(C780,BDDG!$A$2:$F$100,5,FALSE)),\"\",VLOOKUP(C780,BDDG!$A$2:$F$100,5,FALSE))","v":"A17"},{"$f":"IF(ISNA(VLOOKUP(C780,BDDG!$A$2:$F$100,6,FALSE)),\"\",VLOOKUP(C780,BDDG!$A$2:$F$100,6,FALSE))","v":"AA43"},{"$f":"IF(ISERROR(VLOOKUP(C780,BDDG!$A$2:$G$100,7,FALSE)),\"\",VLOOKUP(C780,BDDG!$A$2:$G$100,7,FALSE))","v":1},{"$f":"IF(ISERROR(VLOOKUP(C780,BDDG!$A$2:$H$100,8,FALSE)),\"\",VLOOKUP(C780,BDDG!$A$2:$H$100,8,FALSE))","v":"BB43"},10,30,28.8,{"$f":"IF(ISERROR(VLOOKUP(C780,BDDG!$A$2:$I$100,9,FALSE)),\"\",VLOOKUP(C780,BDDG!$A$2:$I$100,9,FALSE))","v":"CC43"},null,null,null,{"$f":"IF(ISERROR(VLOOKUP(C780,BDDG!$A$2:$J$100,10,FALSE)),\"\",VLOOKUP(C780,BDDG!$A$2:$J$100,10,FALSE))","v":"DD43"},null,null,"",28.8,6,2014,{"$f":"IFERROR(INDEX($V$2:V780,MATCH(H780&MAX(IF($H$1:H779=H780,$A$1:A779)),$H$2:H780&$A$2:A780,0))-V780,\"\")","v":7.2000000000000064}]
["2014-06-17",null,866,{"$f":"IF(ISNA(VLOOKUP(C781,BDDG!$A$2:$F$100,2,FALSE)),\"\",VLOOKUP(C781,BDDG!$A$2:$F$100,2,FALSE))","v":0},{"$f":"IF(ISNA(VLOOKUP(C781,BDDG!$A$3:$J$102,3,FALSE)),\"\",VLOOKUP(C781,BDDG!$A$3:$J$102,3,FALSE))","v":"C"},{"$f":"IF(ISNA(VLOOKUP(C781,BDDG!$A$3:$J$102,4,FALSE)),\"\",VLOOKUP(C781,BDDG!$A$3:$J$102,4,FALSE))","v":108},{"$f":"IF(ISNA(VLOOKUP(C781,BDDG!$A$2:$F$100,5,FALSE)),\"\",VLOOKUP(C781,BDDG!$A$2:$F$100,5,FALSE))","v":"A17"},{"$f":"IF(ISNA(VLOOKUP(C781,BDDG!$A$2:$F$100,6,FALSE)),\"\",VLOOKUP(C781,BDDG!$A$2:$F$100,6,FALSE))","v":"AA42"},{"$f":"IF(ISERROR(VLOOKUP(C781,BDDG!$A$2:$G$100,7,FALSE)),\"\",VLOOKUP(C781,BDDG!$A$2:$G$100,7,FALSE))","v":1},{"$f":"IF(ISERROR(VLOOKUP(C781,BDDG!$A$2:$H$100,8,FALSE)),\"\",VLOOKUP(C781,BDDG!$A$2:$H$100,8,FALSE))","v":"BB42"},0.8,1,69.12,{"$f":"IF(ISERROR(VLOOKUP(C781,BDDG!$A$2:$I$100,9,FALSE)),\"\",VLOOKUP(C781,BDDG!$A$2:$I$100,9,FALSE))","v":"CC42"},null,null,null,{"$f":"IF(ISERROR(VLOOKUP(C781,BDDG!$A$2:$J$100,10,FALSE)),\"\",VLOOKUP(C781,BDDG!$A$2:$J$100,10,FALSE))","v":"DD42"},null,null,"",69.12,6,2014,{"$f":"IFERROR(INDEX($V$2:V781,MATCH(H781&MAX(IF($H$1:H780=H781,$A$1:A780)),$H$2:H781&$A$2:A781,0))-V781,\"\")","v":86.4}]
["2014-06-20",null,842,{"$f":"IF(ISNA(VLOOKUP(C782,BDDG!$A$2:$F$100,2,FALSE)),\"\",VLOOKUP(C782,BDDG!$A$2:$F$100,2,FALSE))","v":0},{"$f":"IF(ISNA(VLOOKUP(C782,BDDG!$A$3:$J$102,3,FALSE)),\"\",VLOOKUP(C782,BDDG!$A$3:$J$102,3,FALSE))","v":"B"},{"$f":"IF(ISNA(VLOOKUP(C782,BDDG!$A$3:$J$102,4,FALSE)),\"\",VLOOKUP(C782,BDDG!$A$3:$J$102,4,FALSE))","v":106},{"$f":"IF(ISNA(VLOOKUP(C782,BDDG!$A$2:$F$100,5,FALSE)),\"\",VLOOKUP(C782,BDDG!$A$2:$F$100,5,FALSE))","v":"A5"},{"$f":"IF(ISNA(VLOOKUP(C782,BDDG!$A$2:$F$100,6,FALSE)),\"\",VLOOKUP(C782,BDDG!$A$2:$F$100,6,FALSE))","v":"AA13"},{"$f":"IF(ISERROR(VLOOKUP(C782,BDDG!$A$2:$G$100,7,FALSE)),\"\",VLOOKUP(C782,BDDG!$A$2:$G$100,7,FALSE))","v":1},{"$f":"IF(ISERROR(VLOOKUP(C782,BDDG!$A$2:$H$100,8,FALSE)),\"\",VLOOKUP(C782,BDDG!$A$2:$H$100,8,FALSE))","v":"BB13"},10,47,18.382978723404257,{"$f":"IF(ISERROR(VLOOKUP(C782,BDDG!$A$2:$I$100,9,FALSE)),\"\",VLOOKUP(C782,BDDG!$A$2:$I$100,9,FALSE))","v":"CC13"},null,null,{"$f":" IF(ISERROR(O782/P782*86.4),\"\",O782/P782*86.4)","v":""},{"$f":"IF(ISERROR(VLOOKUP(C782,BDDG!$A$2:$J$100,10,FALSE)),\"\",VLOOKUP(C782,BDDG!$A$2:$J$100,10,FALSE))","v":"DD13"},null,null,"",18.382978723404257,6,2014,{"$f":"IFERROR(INDEX($V$2:V782,MATCH(H782&MAX(IF($H$1:H781=H782,$A$1:A781)),$H$2:H782&$A$2:A782,0))-V782,\"\")","v":2.188449848024316}]
["2014-06-20",null,846,{"$f":"IF(ISNA(VLOOKUP(C783,BDDG!$A$2:$F$100,2,FALSE)),\"\",VLOOKUP(C783,BDDG!$A$2:$F$100,2,FALSE))","v":0},{"$f":"IF(ISNA(VLOOKUP(C783,BDDG!$A$3:$J$102,3,FALSE)),\"\",VLOOKUP(C783,BDDG!$A$3:$J$102,3,FALSE))","v":"B"},{"$f":"IF(ISNA(VLOOKUP(C783,BDDG!$A$3:$J$102,4,FALSE)),\"\",VLOOKUP(C783,BDDG!$A$3:$J$102,4,FALSE))","v":106},{"$f":"IF(ISNA(VLOOKUP(C783,BDDG!$A$2:$F$100,5,FALSE)),\"\",VLOOKUP(C783,BDDG!$A$2:$F$100,5,FALSE))","v":"A7"},{"$f":"IF(ISNA(VLOOKUP(C783,BDDG!$A$2:$F$100,6,FALSE)),\"\",VLOOKUP(C783,BDDG!$A$2:$F$100,6,FALSE))","v":"AA17"},{"$f":"IF(ISERROR(VLOOKUP(C783,BDDG!$A$2:$G$100,7,FALSE)),\"\",VLOOKUP(C783,BDDG!$A$2:$G$100,7,FALSE))","v":1},{"$f":"IF(ISERROR(VLOOKUP(C783,BDDG!$A$2:$H$100,8,FALSE)),\"\",VLOOKUP(C783,BDDG!$A$2:$H$100,8,FALSE))","v":"BB17"},10,72,12.000000000000002,{"$f":"IF(ISERROR(VLOOKUP(C783,BDDG!$A$2:$I$100,9,FALSE)),\"\",VLOOKUP(C783,BDDG!$A$2:$I$100,9,FALSE))","v":"CC17"},null,null,"",{"$f":"IF(ISERROR(VLOOKUP(C783,BDDG!$A$2:$J$100,10,FALSE)),\"\",VLOOKUP(C783,BDDG!$A$2:$J$100,10,FALSE))","v":"DD17"},null,null,"",12.000000000000002,6,2014,{"$f":"IFERROR(INDEX($V$2:V783,MATCH(H783&MAX(IF($H$1:H782=H783,$A$1:A782)),$H$2:H783&$A$2:A783,0))-V783,\"\")","v":""}]
["2014-06-20",null,849,{"$f":"IF(ISNA(VLOOKUP(C784,BDDG!$A$2:$F$100,2,FALSE)),\"\",VLOOKUP(C784,BDDG!$A$2:$F$100,2,FALSE))","v":0},{"$f":"IF(ISNA(VLOOKUP(C784,BDDG!$A$3:$J$102,3,FALSE)),\"\",VLOOKUP(C784,BDDG!$A$3:$J$102,3,FALSE))","v":"B"},{"$f":"IF(ISNA(VLOOKUP(C784,BDDG!$A$3:$J$102,4,FALSE)),\"\",VLOOKUP(C784,BDDG!$A$3:$J$102,4,FALSE))","v":106},{"$f":"IF(ISNA(VLOOKUP(C784,BDDG!$A$2:$F$100,5,FALSE)),\"\",VLOOKUP(C784,BDDG!$A$2:$F$100,5,FALSE))","v":"A7"},{"$f":"IF(ISNA(VLOOKUP(C784,BDDG!$A$2:$F$100,6,FALSE)),\"\",VLOOKUP(C784,BDDG!$A$2:$F$100,6,FALSE))","v":"AA15"},{"$f":"IF(ISERROR(VLOOKUP(C784,BDDG!$A$2:$G$100,7,FALSE)),\"\",VLOOKUP(C784,BDDG!$A$2:$G$100,7,FALSE))","v":2},{"$f":"IF(ISERROR(VLOOKUP(C784,BDDG!$A$2:$H$100,8,FALSE)),\"\",VLOOKUP(C784,BDDG!$A$2:$H$100,8,FALSE))","v":"BB15"},10,45,19.2,{"$f":"IF(ISERROR(VLOOKUP(C784,BDDG!$A$2:$I$100,9,FALSE)),\"\",VLOOKUP(C784,BDDG!$A$2:$I$100,9,FALSE))","v":"CC15"},10,23,37.565217391304351,{"$f":"IF(ISERROR(VLOOKUP(C784,BDDG!$A$2:$J$100,10,FALSE)),\"\",VLOOKUP(C784,BDDG!$A$2:$J$100,10,FALSE))","v":"DD15"},null,null,"",56.765217391304347,6,2014,{"$f":"IFERROR(INDEX($V$2:V784,MATCH(H784&MAX(IF($H$1:H783=H784,$A$1:A783)),$H$2:H784&$A$2:A784,0))-V784,\"\")","v":-25.220066889632108}]
["2014-10-03",null,835,{"$f":"IF(ISNA(VLOOKUP(C785,BDDG!$A$2:$F$100,2,FALSE)),\"\",VLOOKUP(C785,BDDG!$A$2:$F$100,2,FALSE))","v":0},{"$f":"IF(ISNA(VLOOKUP(C785,BDDG!$A$3:$J$102,3,FALSE)),\"\",VLOOKUP(C785,BDDG!$A$3:$J$102,3,FALSE))","v":"A"},{"$f":"IF(ISNA(VLOOKUP(C785,BDDG!$A$3:$J$102,4,FALSE)),\"\",VLOOKUP(C785,BDDG!$A$3:$J$102,4,FALSE))","v":106},{"$f":"IF(ISNA(VLOOKUP(C785,BDDG!$A$2:$F$100,5,FALSE)),\"\",VLOOKUP(C785,BDDG!$A$2:$F$100,5,FALSE))","v":"A3"},{"$f":"IF(ISNA(VLOOKUP(C785,BDDG!$A$2:$F$100,6,FALSE)),\"\",VLOOKUP(C785,BDDG!$A$2:$F$100,6,FALSE))","v":"AA5"},{"$f":"IF(ISERROR(VLOOKUP(C785,BDDG!$A$2:$G$100,7,FALSE)),\"\",VLOOKUP(C785,BDDG!$A$2:$G$100,7,FALSE))","v":1},{"$f":"IF(ISERROR(VLOOKUP(C785,BDDG!$A$2:$H$100,8,FALSE)),\"\",VLOOKUP(C785,BDDG!$A$2:$H$100,8,FALSE))","v":"BB5"},2.1,180,1.008,{"$f":"IF(ISERROR(VLOOKUP(C785,BDDG!$A$2:$I$100,9,FALSE)),\"\",VLOOKUP(C785,BDDG!$A$2:$I$100,9,FALSE))","v":"CC5"},null,null,"",{"$f":"IF(ISERROR(VLOOKUP(C785,BDDG!$A$2:$J$100,10,FALSE)),\"\",VLOOKUP(C785,BDDG!$A$2:$J$100,10,FALSE))","v":"DD5"},null,null,"",1.008,10,2014,{"$f":"IFERROR(INDEX($V$2:V785,MATCH(H785&MAX(IF($H$1:H784=H785,$A$1:A784)),$H$2:H785&$A$2:A785,0))-V785,\"\")","v":2.0777142857142858}]
["2014-11-06",null,880,{"$f":"IF(ISNA(VLOOKUP(C786,BDDG!$A$2:$F$100,2,FALSE)),\"\",VLOOKUP(C786,BDDG!$A$2:$F$100,2,FALSE))","v":0},{"$f":"IF(ISNA(VLOOKUP(C786,BDDG!$A$3:$J$102,3,FALSE)),\"\",VLOOKUP(C786,BDDG!$A$3:$J$102,3,FALSE))","v":"C"},{"$f":"IF(ISNA(VLOOKUP(C786,BDDG!$A$3:$J$102,4,FALSE)),\"\",VLOOKUP(C786,BDDG!$A$3:$J$102,4,FALSE))","v":108},{"$f":"IF(ISNA(VLOOKUP(C786,BDDG!$A$2:$F$100,5,FALSE)),\"\",VLOOKUP(C786,BDDG!$A$2:$F$100,5,FALSE))","v":"A19"},{"$f":"IF(ISNA(VLOOKUP(C786,BDDG!$A$2:$F$100,6,FALSE)),\"\",VLOOKUP(C786,BDDG!$A$2:$F$100,6,FALSE))","v":"AA54"},{"$f":"IF(ISERROR(VLOOKUP(C786,BDDG!$A$2:$G$100,7,FALSE)),\"\",VLOOKUP(C786,BDDG!$A$2:$G$100,7,FALSE))","v":2},{"$f":"IF(ISERROR(VLOOKUP(C786,BDDG!$A$2:$H$100,8,FALSE)),\"\",VLOOKUP(C786,BDDG!$A$2:$H$100,8,FALSE))","v":"BB54"},0,0,"",{"$f":"IF(ISERROR(VLOOKUP(C786,BDDG!$A$2:$I$100,9,FALSE)),\"\",VLOOKUP(C786,BDDG!$A$2:$I$100,9,FALSE))","v":"CC54"},10,12,72.000000000000014,{"$f":"IF(ISERROR(VLOOKUP(C786,BDDG!$A$2:$J$100,10,FALSE)),\"\",VLOOKUP(C786,BDDG!$A$2:$J$100,10,FALSE))","v":"DD54"},null,null,"",72.000000000000014,11,2014,{"$f":"IFERROR(INDEX($V$2:V786,MATCH(H786&MAX(IF($H$1:H785=H786,$A$1:A785)),$H$2:H786&$A$2:A786,0))-V786,\"\")","v":""}]
["2014-11-18",null,831,{"$f":"IF(ISNA(VLOOKUP(C787,BDDG!$A$2:$F$100,2,FALSE)),\"\",VLOOKUP(C787,BDDG!$A$2:$F$100,2,FALSE))","v":0},{"$f":"IF(ISNA(VLOOKUP(C787,BDDG!$A$3:$J$102,3,FALSE)),\"\",VLOOKUP(C787,BDDG!$A$3:$J$102,3,FALSE))","v":"A"},{"$f":"IF(ISNA(VLOOKUP(C787,BDDG!$A$3:$J$102,4,FALSE)),\"\",VLOOKUP(C787,BDDG!$A$3:$J$102,4,FALSE))","v":106},{"$f":"IF(ISNA(VLOOKUP(C787,BDDG!$A$2:$F$100,5,FALSE)),\"\",VLOOKUP(C787,BDDG!$A$2:$F$100,5,FALSE))","v":"A1"},{"$f":"IF(ISNA(VLOOKUP(C787,BDDG!$A$2:$F$100,6,FALSE)),\"\",VLOOKUP(C787,BDDG!$A$2:$F$100,6,FALSE))","v":"AA1"},{"$f":"IF(ISERROR(VLOOKUP(C787,BDDG!$A$2:$G$100,7,FALSE)),\"\",VLOOKUP(C787,BDDG!$A$2:$G$100,7,FALSE))","v":1},{"$f":"IF(ISERROR(VLOOKUP(C787,BDDG!$A$2:$H$100,8,FALSE)),\"\",VLOOKUP(C787,BDDG!$A$2:$H$100,8,FALSE))","v":"BB1"},10,9,96.000000000000014,{"$f":"IF(ISERROR(VLOOKUP(C787,BDDG!$A$2:$I$100,9,FALSE)),\"\",VLOOKUP(C787,BDDG!$A$2:$I$100,9,FALSE))","v":"CC1"},null,null,"",{"$f":"IF(ISERROR(VLOOKUP(C787,BDDG!$A$2:$J$100,10,FALSE)),\"\",VLOOKUP(C787,BDDG!$A$2:$J$100,10,FALSE))","v":"DD1"},null,null,"",96.000000000000014,11,2014,{"$f":"IFERROR(INDEX($V$2:V787,MATCH(H787&MAX(IF($H$1:H786=H787,$A$1:A786)),$H$2:H787&$A$2:A787,0))-V787,\"\")","v":-29.538461538461547}]
["2014-11-20",null,832,{"$f":"IF(ISNA(VLOOKUP(C788,BDDG!$A$2:$F$100,2,FALSE)),\"\",VLOOKUP(C788,BDDG!$A$2:$F$100,2,FALSE))","v":0},{"$f":"IF(ISNA(VLOOKUP(C788,BDDG!$A$3:$J$102,3,FALSE)),\"\",VLOOKUP(C788,BDDG!$A$3:$J$102,3,FALSE))","v":"A"},{"$f":"IF(ISNA(VLOOKUP(C788,BDDG!$A$3:$J$102,4,FALSE)),\"\",VLOOKUP(C788,BDDG!$A$3:$J$102,4,FALSE))","v":106},{"$f":"IF(ISNA(VLOOKUP(C788,BDDG!$A$2:$F$100,5,FALSE)),\"\",VLOOKUP(C788,BDDG!$A$2:$F$100,5,FALSE))","v":"A2"},{"$f":"IF(ISNA(VLOOKUP(C788,BDDG!$A$2:$F$100,6,FALSE)),\"\",VLOOKUP(C788,BDDG!$A$2:$F$100,6,FALSE))","v":"AA2"},{"$f":"IF(ISERROR(VLOOKUP(C788,BDDG!$A$2:$G$100,7,FALSE)),\"\",VLOOKUP(C788,BDDG!$A$2:$G$100,7,FALSE))","v":1},{"$f":"IF(ISERROR(VLOOKUP(C788,BDDG!$A$2:$H$100,8,FALSE)),\"\",VLOOKUP(C788,BDDG!$A$2:$H$100,8,FALSE))","v":"BB2"},10,58,14.896551724137932,{"$f":"IF(ISERROR(VLOOKUP(C788,BDDG!$A$2:$I$100,9,FALSE)),\"\",VLOOKUP(C788,BDDG!$A$2:$I$100,9,FALSE))","v":"CC2"},null,null,"",{"$f":"IF(ISERROR(VLOOKUP(C788,BDDG!$A$2:$J$100,10,FALSE)),\"\",VLOOKUP(C788,BDDG!$A$2:$J$100,10,FALSE))","v":"DD2"},null,null,"",14.896551724137932,11,2014,{"$f":"IFERROR(INDEX($V$2:V788,MATCH(H788&MAX(IF($H$1:H787=H788,$A$1:A787)),$H$2:H788&$A$2:A788,0))-V788,\"\")","v":33.103448275862078}]
["2014-11-20",null,833,{"$f":"IF(ISNA(VLOOKUP(C789,BDDG!$A$2:$F$100,2,FALSE)),\"\",VLOOKUP(C789,BDDG!$A$2:$F$100,2,FALSE))","v":0},{"$f":"IF(ISNA(VLOOKUP(C789,BDDG!$A$3:$J$102,3,FALSE)),\"\",VLOOKUP(C789,BDDG!$A$3:$J$102,3,FALSE))","v":"A"},{"$f":"IF(ISNA(VLOOKUP(C789,BDDG!$A$3:$J$102,4,FALSE)),\"\",VLOOKUP(C789,BDDG!$A$3:$J$102,4,FALSE))","v":106},{"$f":"IF(ISNA(VLOOKUP(C789,BDDG!$A$2:$F$100,5,FALSE)),\"\",VLOOKUP(C789,BDDG!$A$2:$F$100,5,FALSE))","v":"A2"},{"$f":"IF(ISNA(VLOOKUP(C789,BDDG!$A$2:$F$100,6,FALSE)),\"\",VLOOKUP(C789,BDDG!$A$2:$F$100,6,FALSE))","v":"AA3"},{"$f":"IF(ISERROR(VLOOKUP(C789,BDDG!$A$2:$G$100,7,FALSE)),\"\",VLOOKUP(C789,BDDG!$A$2:$G$100,7,FALSE))","v":1},{"$f":"IF(ISERROR(VLOOKUP(C789,BDDG!$A$2:$H$100,8,FALSE)),\"\",VLOOKUP(C789,BDDG!$A$2:$H$100,8,FALSE))","v":"BB3"},10,25,34.56,{"$f":"IF(ISERROR(VLOOKUP(C789,BDDG!$A$2:$I$100,9,FALSE)),\"\",VLOOKUP(C789,BDDG!$A$2:$I$100,9,FALSE))","v":"CC3"},null,null,"",{"$f":"IF(ISERROR(VLOOKUP(C789,BDDG!$A$2:$J$100,10,FALSE)),\"\",VLOOKUP(C789,BDDG!$A$2:$J$100,10,FALSE))","v":"DD3"},null,null,"",34.56,11,2014,{"$f":"IFERROR(INDEX($V$2:V789,MATCH(H789&MAX(IF($H$1:H788=H789,$A$1:A788)),$H$2:H789&$A$2:A789,0))-V789,\"\")","v":19.439999999999998}]
["2014-11-20",null,834,{"$f":"IF(ISNA(VLOOKUP(C790,BDDG!$A$2:$F$100,2,FALSE)),\"\",VLOOKUP(C790,BDDG!$A$2:$F$100,2,FALSE))","v":0},{"$f":"IF(ISNA(VLOOKUP(C790,BDDG!$A$3:$J$102,3,FALSE)),\"\",VLOOKUP(C790,BDDG!$A$3:$J$102,3,FALSE))","v":"A"},{"$f":"IF(ISNA(VLOOKUP(C790,BDDG!$A$3:$J$102,4,FALSE)),\"\",VLOOKUP(C790,BDDG!$A$3:$J$102,4,FALSE))","v":106},{"$f":"IF(ISNA(VLOOKUP(C790,BDDG!$A$2:$F$100,5,FALSE)),\"\",VLOOKUP(C790,BDDG!$A$2:$F$100,5,FALSE))","v":"A2"},{"$f":"IF(ISNA(VLOOKUP(C790,BDDG!$A$2:$F$100,6,FALSE)),\"\",VLOOKUP(C790,BDDG!$A$2:$F$100,6,FALSE))","v":"AA4"},{"$f":"IF(ISERROR(VLOOKUP(C790,BDDG!$A$2:$G$100,7,FALSE)),\"\",VLOOKUP(C790,BDDG!$A$2:$G$100,7,FALSE))","v":1},{"$f":"IF(ISERROR(VLOOKUP(C790,BDDG!$A$2:$H$100,8,FALSE)),\"\",VLOOKUP(C790,BDDG!$A$2:$H$100,8,FALSE))","v":"BB4"},10,42,20.571428571428573,{"$f":"IF(ISERROR(VLOOKUP(C790,BDDG!$A$2:$I$100,9,FALSE)),\"\",VLOOKUP(C790,BDDG!$A$2:$I$100,9,FALSE))","v":"CC4"},null,null,"",{"$f":"IF(ISERROR(VLOOKUP(C790,BDDG!$A$2:$J$100,10,FALSE)),\"\",VLOOKUP(C790,BDDG!$A$2:$J$100,10,FALSE))","v":"DD4"},null,null,"",20.571428571428573,11,2014,{"$f":"IFERROR(INDEX($V$2:V790,MATCH(H790&MAX(IF($H$1:H789=H790,$A$1:A789)),$H$2:H790&$A$2:A790,0))-V790,\"\")","v":6.428571428571427}]
["2014-11-20",null,844,{"$f":"IF(ISNA(VLOOKUP(C791,BDDG!$A$2:$F$100,2,FALSE)),\"\",VLOOKUP(C791,BDDG!$A$2:$F$100,2,FALSE))","v":0},{"$f":"IF(ISNA(VLOOKUP(C791,BDDG!$A$3:$J$102,3,FALSE)),\"\",VLOOKUP(C791,BDDG!$A$3:$J$102,3,FALSE))","v":"B"},{"$f":"IF(ISNA(VLOOKUP(C791,BDDG!$A$3:$J$102,4,FALSE)),\"\",VLOOKUP(C791,BDDG!$A$3:$J$102,4,FALSE))","v":106},{"$f":"IF(ISNA(VLOOKUP(C791,BDDG!$A$2:$F$100,5,FALSE)),\"\",VLOOKUP(C791,BDDG!$A$2:$F$100,5,FALSE))","v":"A6"},{"$f":"IF(ISNA(VLOOKUP(C791,BDDG!$A$2:$F$100,6,FALSE)),\"\",VLOOKUP(C791,BDDG!$A$2:$F$100,6,FALSE))","v":"AA14"},{"$f":"IF(ISERROR(VLOOKUP(C791,BDDG!$A$2:$G$100,7,FALSE)),\"\",VLOOKUP(C791,BDDG!$A$2:$G$100,7,FALSE))","v":2},{"$f":"IF(ISERROR(VLOOKUP(C791,BDDG!$A$2:$H$100,8,FALSE)),\"\",VLOOKUP(C791,BDDG!$A$2:$H$100,8,FALSE))","v":"BB14"},10,15,57.6,{"$f":"IF(ISERROR(VLOOKUP(C791,BDDG!$A$2:$I$100,9,FALSE)),\"\",VLOOKUP(C791,BDDG!$A$2:$I$100,9,FALSE))","v":"CC14"},null,null,"",{"$f":"IF(ISERROR(VLOOKUP(C791,BDDG!$A$2:$J$100,10,FALSE)),\"\",VLOOKUP(C791,BDDG!$A$2:$J$100,10,FALSE))","v":"DD14"},null,null,"",57.6,11,2014,{"$f":"IFERROR(INDEX($V$2:V791,MATCH(H791&MAX(IF($H$1:H790=H791,$A$1:A790)),$H$2:H791&$A$2:A791,0))-V791,\"\")","v":4.114285714285721}]
["2014-11-25",null,847,{"$f":"IF(ISNA(VLOOKUP(C792,BDDG!$A$2:$F$100,2,FALSE)),\"\",VLOOKUP(C792,BDDG!$A$2:$F$100,2,FALSE))","v":0},{"$f":"IF(ISNA(VLOOKUP(C792,BDDG!$A$3:$J$102,3,FALSE)),\"\",VLOOKUP(C792,BDDG!$A$3:$J$102,3,FALSE))","v":"B"},{"$f":"IF(ISNA(VLOOKUP(C792,BDDG!$A$3:$J$102,4,FALSE)),\"\",VLOOKUP(C792,BDDG!$A$3:$J$102,4,FALSE))","v":106},{"$f":"IF(ISNA(VLOOKUP(C792,BDDG!$A$2:$F$100,5,FALSE)),\"\",VLOOKUP(C792,BDDG!$A$2:$F$100,5,FALSE))","v":"A7"},{"$f":"IF(ISNA(VLOOKUP(C792,BDDG!$A$2:$F$100,6,FALSE)),\"\",VLOOKUP(C792,BDDG!$A$2:$F$100,6,FALSE))","v":"AA18"},{"$f":"IF(ISERROR(VLOOKUP(C792,BDDG!$A$2:$G$100,7,FALSE)),\"\",VLOOKUP(C792,BDDG!$A$2:$G$100,7,FALSE))","v":2},{"$f":"IF(ISERROR(VLOOKUP(C792,BDDG!$A$2:$H$100,8,FALSE)),\"\",VLOOKUP(C792,BDDG!$A$2:$H$100,8,FALSE))","v":"BB18"},10,25,34.56,{"$f":"IF(ISERROR(VLOOKUP(C792,BDDG!$A$2:$I$100,9,FALSE)),\"\",VLOOKUP(C792,BDDG!$A$2:$I$100,9,FALSE))","v":"CC18"},10,46,18.782608695652176,{"$f":"IF(ISERROR(VLOOKUP(C792,BDDG!$A$2:$J$100,10,FALSE)),\"\",VLOOKUP(C792,BDDG!$A$2:$J$100,10,FALSE))","v":"DD18"},null,null,"",53.342608695652174,11,2014,{"$f":"IFERROR(INDEX($V$2:V792,MATCH(H792&MAX(IF($H$1:H791=H792,$A$1:A791)),$H$2:H792&$A$2:A792,0))-V792,\"\")","v":-19.742608695652173}]
["2014-11-26",null,842,{"$f":"IF(ISNA(VLOOKUP(C793,BDDG!$A$2:$F$100,2,FALSE)),\"\",VLOOKUP(C793,BDDG!$A$2:$F$100,2,FALSE))","v":0},{"$f":"IF(ISNA(VLOOKUP(C793,BDDG!$A$3:$J$102,3,FALSE)),\"\",VLOOKUP(C793,BDDG!$A$3:$J$102,3,FALSE))","v":"B"},{"$f":"IF(ISNA(VLOOKUP(C793,BDDG!$A$3:$J$102,4,FALSE)),\"\",VLOOKUP(C793,BDDG!$A$3:$J$102,4,FALSE))","v":106},{"$f":"IF(ISNA(VLOOKUP(C793,BDDG!$A$2:$F$100,5,FALSE)),\"\",VLOOKUP(C793,BDDG!$A$2:$F$100,5,FALSE))","v":"A5"},{"$f":"IF(ISNA(VLOOKUP(C793,BDDG!$A$2:$F$100,6,FALSE)),\"\",VLOOKUP(C793,BDDG!$A$2:$F$100,6,FALSE))","v":"AA13"},{"$f":"IF(ISERROR(VLOOKUP(C793,BDDG!$A$2:$G$100,7,FALSE)),\"\",VLOOKUP(C793,BDDG!$A$2:$G$100,7,FALSE))","v":1},{"$f":"IF(ISERROR(VLOOKUP(C793,BDDG!$A$2:$H$100,8,FALSE)),\"\",VLOOKUP(C793,BDDG!$A$2:$H$100,8,FALSE))","v":"BB13"},10,49,17.632653061224492,{"$f":"IF(ISERROR(VLOOKUP(C793,BDDG!$A$2:$I$100,9,FALSE)),\"\",VLOOKUP(C793,BDDG!$A$2:$I$100,9,FALSE))","v":"CC13"},null,null,"",{"$f":"IF(ISERROR(VLOOKUP(C793,BDDG!$A$2:$J$100,10,FALSE)),\"\",VLOOKUP(C793,BDDG!$A$2:$J$100,10,FALSE))","v":"DD13"},null,null,"",17.632653061224492,11,2014,{"$f":"IFERROR(INDEX($V$2:V793,MATCH(H793&MAX(IF($H$1:H792=H793,$A$1:A792)),$H$2:H793&$A$2:A793,0))-V793,\"\")","v":0.75032566217976537}]
["2014-11-26",null,848,{"$f":"IF(ISNA(VLOOKUP(C794,BDDG!$A$2:$F$100,2,FALSE)),\"\",VLOOKUP(C794,BDDG!$A$2:$F$100,2,FALSE))","v":0},{"$f":"IF(ISNA(VLOOKUP(C794,BDDG!$A$3:$J$102,3,FALSE)),\"\",VLOOKUP(C794,BDDG!$A$3:$J$102,3,FALSE))","v":"B"},{"$f":"IF(ISNA(VLOOKUP(C794,BDDG!$A$3:$J$102,4,FALSE)),\"\",VLOOKUP(C794,BDDG!$A$3:$J$102,4,FALSE))","v":106},{"$f":"IF(ISNA(VLOOKUP(C794,BDDG!$A$2:$F$100,5,FALSE)),\"\",VLOOKUP(C794,BDDG!$A$2:$F$100,5,FALSE))","v":"A7"},{"$f":"IF(ISNA(VLOOKUP(C794,BDDG!$A$2:$F$100,6,FALSE)),\"\",VLOOKUP(C794,BDDG!$A$2:$F$100,6,FALSE))","v":"AA19"},{"$f":"IF(ISERROR(VLOOKUP(C794,BDDG!$A$2:$G$100,7,FALSE)),\"\",VLOOKUP(C794,BDDG!$A$2:$G$100,7,FALSE))","v":2},{"$f":"IF(ISERROR(VLOOKUP(C794,BDDG!$A$2:$H$100,8,FALSE)),\"\",VLOOKUP(C794,BDDG!$A$2:$H$100,8,FALSE))","v":"BB19"},10,25,34.56,{"$f":"IF(ISERROR(VLOOKUP(C794,BDDG!$A$2:$I$100,9,FALSE)),\"\",VLOOKUP(C794,BDDG!$A$2:$I$100,9,FALSE))","v":"CC19"},null,null,"",{"$f":"IF(ISERROR(VLOOKUP(C794,BDDG!$A$2:$J$100,10,FALSE)),\"\",VLOOKUP(C794,BDDG!$A$2:$J$100,10,FALSE))","v":"DD19"},null,null,"",34.56,11,2014,{"$f":"IFERROR(INDEX($V$2:V794,MATCH(H794&MAX(IF($H$1:H793=H794,$A$1:A793)),$H$2:H794&$A$2:A794,0))-V794,\"\")","v":-15.360000000000003}]
["2014-11-26",null,849,{"$f":"IF(ISNA(VLOOKUP(C795,BDDG!$A$2:$F$100,2,FALSE)),\"\",VLOOKUP(C795,BDDG!$A$2:$F$100,2,FALSE))","v":0},{"$f":"IF(ISNA(VLOOKUP(C795,BDDG!$A$3:$J$102,3,FALSE)),\"\",VLOOKUP(C795,BDDG!$A$3:$J$102,3,FALSE))","v":"B"},{"$f":"IF(ISNA(VLOOKUP(C795,BDDG!$A$3:$J$102,4,FALSE)),\"\",VLOOKUP(C795,BDDG!$A$3:$J$102,4,FALSE))","v":106},{"$f":"IF(ISNA(VLOOKUP(C795,BDDG!$A$2:$F$100,5,FALSE)),\"\",VLOOKUP(C795,BDDG!$A$2:$F$100,5,FALSE))","v":"A7"},{"$f":"IF(ISNA(VLOOKUP(C795,BDDG!$A$2:$F$100,6,FALSE)),\"\",VLOOKUP(C795,BDDG!$A$2:$F$100,6,FALSE))","v":"AA15"},{"$f":"IF(ISERROR(VLOOKUP(C795,BDDG!$A$2:$G$100,7,FALSE)),\"\",VLOOKUP(C795,BDDG!$A$2:$G$100,7,FALSE))","v":2},{"$f":"IF(ISERROR(VLOOKUP(C795,BDDG!$A$2:$H$100,8,FALSE)),\"\",VLOOKUP(C795,BDDG!$A$2:$H$100,8,FALSE))","v":"BB15"},10,31,27.870967741935484,{"$f":"IF(ISERROR(VLOOKUP(C795,BDDG!$A$2:$I$100,9,FALSE)),\"\",VLOOKUP(C795,BDDG!$A$2:$I$100,9,FALSE))","v":"CC15"},10,27,{"$f":" IF(ISERROR(O795/P795*86.4),\"\",O795/P795*86.4)","v":32},{"$f":"IF(ISERROR(VLOOKUP(C795,BDDG!$A$2:$J$100,10,FALSE)),\"\",VLOOKUP(C795,BDDG!$A$2:$J$100,10,FALSE))","v":"DD15"},null,null,"",59.870967741935488,11,2014,{"$f":"IFERROR(INDEX($V$2:V795,MATCH(H795&MAX(IF($H$1:H794=H795,$A$1:A794)),$H$2:H795&$A$2:A795,0))-V795,\"\")","v":-3.1057503506311406}]
["2014-12-03",null,861,{"$f":"IF(ISNA(VLOOKUP(C796,BDDG!$A$2:$F$100,2,FALSE)),\"\",VLOOKUP(C796,BDDG!$A$2:$F$100,2,FALSE))","v":0},{"$f":"IF(ISNA(VLOOKUP(C796,BDDG!$A$3:$J$102,3,FALSE)),\"\",VLOOKUP(C796,BDDG!$A$3:$J$102,3,FALSE))","v":"A"},{"$f":"IF(ISNA(VLOOKUP(C796,BDDG!$A$3:$J$102,4,FALSE)),\"\",VLOOKUP(C796,BDDG!$A$3:$J$102,4,FALSE))","v":106},{"$f":"IF(ISNA(VLOOKUP(C796,BDDG!$A$2:$F$100,5,FALSE)),\"\",VLOOKUP(C796,BDDG!$A$2:$F$100,5,FALSE))","v":"A11"},{"$f":"IF(ISNA(VLOOKUP(C796,BDDG!$A$2:$F$100,6,FALSE)),\"\",VLOOKUP(C796,BDDG!$A$2:$F$100,6,FALSE))","v":"AA33"},{"$f":"IF(ISERROR(VLOOKUP(C796,BDDG!$A$2:$G$100,7,FALSE)),\"\",VLOOKUP(C796,BDDG!$A$2:$G$100,7,FALSE))","v":2},{"$f":"IF(ISERROR(VLOOKUP(C796,BDDG!$A$2:$H$100,8,FALSE)),\"\",VLOOKUP(C796,BDDG!$A$2:$H$100,8,FALSE))","v":"BB33"},null,null,null,{"$f":"IF(ISERROR(VLOOKUP(C796,BDDG!$A$2:$I$100,9,FALSE)),\"\",VLOOKUP(C796,BDDG!$A$2:$I$100,9,FALSE))","v":"CC33"},10,3,288.00000000000006,{"$f":"IF(ISERROR(VLOOKUP(C796,BDDG!$A$2:$J$100,10,FALSE)),\"\",VLOOKUP(C796,BDDG!$A$2:$J$100,10,FALSE))","v":"DD33"},null,null,"",{"$f":"IF(ISERROR(SUM(M796,Q796,U796)),\"\",SUM((M796,Q796,U796)))","v":288.00000000000006},12,2014,{"$f":"IFERROR(INDEX($V$2:V796,MATCH(H796&MAX(IF($H$1:H795=H796,$A$1:A795)),$H$2:H796&$A$2:A796,0))-V796,\"\")","v":-144.00000000000003}]
["2014-12-23",null,831,{"$f":"IF(ISNA(VLOOKUP(C797,BDDG!$A$2:$F$100,2,FALSE)),\"\",VLOOKUP(C797,BDDG!$A$2:$F$100,2,FALSE))","v":0},{"$f":"IF(ISNA(VLOOKUP(C797,BDDG!$A$3:$J$102,3,FALSE)),\"\",VLOOKUP(C797,BDDG!$A$3:$J$102,3,FALSE))","v":"A"},{"$f":"IF(ISNA(VLOOKUP(C797,BDDG!$A$3:$J$102,4,FALSE)),\"\",VLOOKUP(C797,BDDG!$A$3:$J$102,4,FALSE))","v":106},{"$f":"IF(ISNA(VLOOKUP(C797,BDDG!$A$2:$F$100,5,FALSE)),\"\",VLOOKUP(C797,BDDG!$A$2:$F$100,5,FALSE))","v":"A1"},{"$f":"IF(ISNA(VLOOKUP(C797,BDDG!$A$2:$F$100,6,FALSE)),\"\",VLOOKUP(C797,BDDG!$A$2:$F$100,6,FALSE))","v":"AA1"},{"$f":"IF(ISERROR(VLOOKUP(C797,BDDG!$A$2:$G$100,7,FALSE)),\"\",VLOOKUP(C797,BDDG!$A$2:$G$100,7,FALSE))","v":1},{"$f":"IF(ISERROR(VLOOKUP(C797,BDDG!$A$2:$H$100,8,FALSE)),\"\",VLOOKUP(C797,BDDG!$A$2:$H$100,8,FALSE))","v":"BB1"},10,11,{"$f":" IF(ISERROR(K797/L797*86.4),\"\",K797/L797*86.4)","v":78.545454545454547},{"$f":"IF(ISERROR(VLOOKUP(C797,BDDG!$A$2:$I$100,9,FALSE)),\"\",VLOOKUP(C797,BDDG!$A$2:$I$100,9,FALSE))","v":"CC1"},null,null,"",{"$f":"IF(ISERROR(VLOOKUP(C797,BDDG!$A$2:$J$100,10,FALSE)),\"\",VLOOKUP(C797,BDDG!$A$2:$J$100,10,FALSE))","v":"DD1"},null,null,"",{"$f":"IF(ISERROR(SUM(M797,Q797,U797)),\"\",SUM(M797,Q797,U797))","v":78.545454545454547},12,2014,{"$f":"IFERROR(INDEX($V$2:V797,MATCH(H797&MAX(IF($H$1:H796=H797,$A$1:A796)),$H$2:H797&$A$2:A797,0))-V797,\"\")","v":17.454545454545467}]
["2014-12-23",null,835,{"$f":"IF(ISNA(VLOOKUP(C798,BDDG!$A$2:$F$100,2,FALSE)),\"\",VLOOKUP(C798,BDDG!$A$2:$F$100,2,FALSE))","v":0},{"$f":"IF(ISNA(VLOOKUP(C798,BDDG!$A$3:$J$102,3,FALSE)),\"\",VLOOKUP(C798,BDDG!$A$3:$J$102,3,FALSE))","v":"A"},{"$f":"IF(ISNA(VLOOKUP(C798,BDDG!$A$3:$J$102,4,FALSE)),\"\",VLOOKUP(C798,BDDG!$A$3:$J$102,4,FALSE))","v":106},{"$f":"IF(ISNA(VLOOKUP(C798,BDDG!$A$2:$F$100,5,FALSE)),\"\",VLOOKUP(C798,BDDG!$A$2:$F$100,5,FALSE))","v":"A3"},{"$f":"IF(ISNA(VLOOKUP(C798,BDDG!$A$2:$F$100,6,FALSE)),\"\",VLOOKUP(C798,BDDG!$A$2:$F$100,6,FALSE))","v":"AA5"},{"$f":"IF(ISERROR(VLOOKUP(C798,BDDG!$A$2:$G$100,7,FALSE)),\"\",VLOOKUP(C798,BDDG!$A$2:$G$100,7,FALSE))","v":1},{"$f":"IF(ISERROR(VLOOKUP(C798,BDDG!$A$2:$H$100,8,FALSE)),\"\",VLOOKUP(C798,BDDG!$A$2:$H$100,8,FALSE))","v":"BB5"},10,215,4.0186046511627911,{"$f":"IF(ISERROR(VLOOKUP(C798,BDDG!$A$2:$I$100,9,FALSE)),\"\",VLOOKUP(C798,BDDG!$A$2:$I$100,9,FALSE))","v":"CC5"},null,null,"",{"$f":"IF(ISERROR(VLOOKUP(C798,BDDG!$A$2:$J$100,10,FALSE)),\"\",VLOOKUP(C798,BDDG!$A$2:$J$100,10,FALSE))","v":"DD5"},null,null,"",4.0186046511627911,12,2014,{"$f":"IFERROR(INDEX($V$2:V798,MATCH(H798&MAX(IF($H$1:H797=H798,$A$1:A797)),$H$2:H798&$A$2:A798,0))-V798,\"\")","v":-3.0106046511627911}]
["2015-01-13",null,832,{"$f":"IF(ISNA(VLOOKUP(C799,BDDG!$A$2:$F$100,2,FALSE)),\"\",VLOOKUP(C799,BDDG!$A$2:$F$100,2,FALSE))","v":0},{"$f":"IF(ISNA(VLOOKUP(C799,BDDG!$A$3:$J$102,3,FALSE)),\"\",VLOOKUP(C799,BDDG!$A$3:$J$102,3,FALSE))","v":"A"},{"$f":"IF(ISNA(VLOOKUP(C799,BDDG!$A$3:$J$102,4,FALSE)),\"\",VLOOKUP(C799,BDDG!$A$3:$J$102,4,FALSE))","v":106},{"$f":"IF(ISNA(VLOOKUP(C799,BDDG!$A$2:$F$100,5,FALSE)),\"\",VLOOKUP(C799,BDDG!$A$2:$F$100,5,FALSE))","v":"A2"},{"$f":"IF(ISNA(VLOOKUP(C799,BDDG!$A$2:$F$100,6,FALSE)),\"\",VLOOKUP(C799,BDDG!$A$2:$F$100,6,FALSE))","v":"AA2"},{"$f":"IF(ISERROR(VLOOKUP(C799,BDDG!$A$2:$G$100,7,FALSE)),\"\",VLOOKUP(C799,BDDG!$A$2:$G$100,7,FALSE))","v":1},{"$f":"IF(ISERROR(VLOOKUP(C799,BDDG!$A$2:$H$100,8,FALSE)),\"\",VLOOKUP(C799,BDDG!$A$2:$H$100,8,FALSE))","v":"BB2"},10,43,20.093023255813954,{"$f":"IF(ISERROR(VLOOKUP(C799,BDDG!$A$2:$I$100,9,FALSE)),\"\",VLOOKUP(C799,BDDG!$A$2:$I$100,9,FALSE))","v":"CC2"},null,null,"",{"$f":"IF(ISERROR(VLOOKUP(C799,BDDG!$A$2:$J$100,10,FALSE)),\"\",VLOOKUP(C799,BDDG!$A$2:$J$100,10,FALSE))","v":"DD2"},null,null,"",20.093023255813954,1,2015,{"$f":"IFERROR(INDEX($V$2:V799,MATCH(H799&MAX(IF($H$1:H798=H799,$A$1:A798)),$H$2:H799&$A$2:A799,0))-V799,\"\")","v":-5.1964715316760213}]
["2015-01-13",null,833,{"$f":"IF(ISNA(VLOOKUP(C800,BDDG!$A$2:$F$100,2,FALSE)),\"\",VLOOKUP(C800,BDDG!$A$2:$F$100,2,FALSE))","v":0},{"$f":"IF(ISNA(VLOOKUP(C800,BDDG!$A$3:$J$102,3,FALSE)),\"\",VLOOKUP(C800,BDDG!$A$3:$J$102,3,FALSE))","v":"A"},{"$f":"IF(ISNA(VLOOKUP(C800,BDDG!$A$3:$J$102,4,FALSE)),\"\",VLOOKUP(C800,BDDG!$A$3:$J$102,4,FALSE))","v":106},{"$f":"IF(ISNA(VLOOKUP(C800,BDDG!$A$2:$F$100,5,FALSE)),\"\",VLOOKUP(C800,BDDG!$A$2:$F$100,5,FALSE))","v":"A2"},{"$f":"IF(ISNA(VLOOKUP(C800,BDDG!$A$2:$F$100,6,FALSE)),\"\",VLOOKUP(C800,BDDG!$A$2:$F$100,6,FALSE))","v":"AA3"},{"$f":"IF(ISERROR(VLOOKUP(C800,BDDG!$A$2:$G$100,7,FALSE)),\"\",VLOOKUP(C800,BDDG!$A$2:$G$100,7,FALSE))","v":1},{"$f":"IF(ISERROR(VLOOKUP(C800,BDDG!$A$2:$H$100,8,FALSE)),\"\",VLOOKUP(C800,BDDG!$A$2:$H$100,8,FALSE))","v":"BB3"},10,11,78.545454545454547,{"$f":"IF(ISERROR(VLOOKUP(C800,BDDG!$A$2:$I$100,9,FALSE)),\"\",VLOOKUP(C800,BDDG!$A$2:$I$100,9,FALSE))","v":"CC3"},null,null,"",{"$f":"IF(ISERROR(VLOOKUP(C800,BDDG!$A$2:$J$100,10,FALSE)),\"\",VLOOKUP(C800,BDDG!$A$2:$J$100,10,FALSE))","v":"DD3"},null,null,"",78.545454545454547,1,2015,{"$f":"IFERROR(INDEX($V$2:V800,MATCH(H800&MAX(IF($H$1:H799=H800,$A$1:A799)),$H$2:H800&$A$2:A800,0))-V800,\"\")","v":-43.985454545454544}]
["2015-01-13",null,834,{"$f":"IF(ISNA(VLOOKUP(C801,BDDG!$A$2:$F$100,2,FALSE)),\"\",VLOOKUP(C801,BDDG!$A$2:$F$100,2,FALSE))","v":0},{"$f":"IF(ISNA(VLOOKUP(C801,BDDG!$A$3:$J$102,3,FALSE)),\"\",VLOOKUP(C801,BDDG!$A$3:$J$102,3,FALSE))","v":"A"},{"$f":"IF(ISNA(VLOOKUP(C801,BDDG!$A$3:$J$102,4,FALSE)),\"\",VLOOKUP(C801,BDDG!$A$3:$J$102,4,FALSE))","v":106},{"$f":"IF(ISNA(VLOOKUP(C801,BDDG!$A$2:$F$100,5,FALSE)),\"\",VLOOKUP(C801,BDDG!$A$2:$F$100,5,FALSE))","v":"A2"},{"$f":"IF(ISNA(VLOOKUP(C801,BDDG!$A$2:$F$100,6,FALSE)),\"\",VLOOKUP(C801,BDDG!$A$2:$F$100,6,FALSE))","v":"AA4"},{"$f":"IF(ISERROR(VLOOKUP(C801,BDDG!$A$2:$G$100,7,FALSE)),\"\",VLOOKUP(C801,BDDG!$A$2:$G$100,7,FALSE))","v":1},{"$f":"IF(ISERROR(VLOOKUP(C801,BDDG!$A$2:$H$100,8,FALSE)),\"\",VLOOKUP(C801,BDDG!$A$2:$H$100,8,FALSE))","v":"BB4"},10,34,25.411764705882355,{"$f":"IF(ISERROR(VLOOKUP(C801,BDDG!$A$2:$I$100,9,FALSE)),\"\",VLOOKUP(C801,BDDG!$A$2:$I$100,9,FALSE))","v":"CC4"},null,null,"",{"$f":"IF(ISERROR(VLOOKUP(C801,BDDG!$A$2:$J$100,10,FALSE)),\"\",VLOOKUP(C801,BDDG!$A$2:$J$100,10,FALSE))","v":"DD4"},null,null,"",25.411764705882355,1,2015,{"$f":"IFERROR(INDEX($V$2:V801,MATCH(H801&MAX(IF($H$1:H800=H801,$A$1:A800)),$H$2:H801&$A$2:A801,0))-V801,\"\")","v":-4.8403361344537821}]
["2015-01-13",null,850,{"$f":"IF(ISNA(VLOOKUP(C802,BDDG!$A$2:$F$100,2,FALSE)),\"\",VLOOKUP(C802,BDDG!$A$2:$F$100,2,FALSE))","v":0},{"$f":"IF(ISNA(VLOOKUP(C802,BDDG!$A$3:$J$102,3,FALSE)),\"\",VLOOKUP(C802,BDDG!$A$3:$J$102,3,FALSE))","v":"B"},{"$f":"IF(ISNA(VLOOKUP(C802,BDDG!$A$3:$J$102,4,FALSE)),\"\",VLOOKUP(C802,BDDG!$A$3:$J$102,4,FALSE))","v":106},{"$f":"IF(ISNA(VLOOKUP(C802,BDDG!$A$2:$F$100,5,FALSE)),\"\",VLOOKUP(C802,BDDG!$A$2:$F$100,5,FALSE))","v":"A8"},{"$f":"IF(ISNA(VLOOKUP(C802,BDDG!$A$2:$F$100,6,FALSE)),\"\",VLOOKUP(C802,BDDG!$A$2:$F$100,6,FALSE))","v":"AA20"},{"$f":"IF(ISERROR(VLOOKUP(C802,BDDG!$A$2:$G$100,7,FALSE)),\"\",VLOOKUP(C802,BDDG!$A$2:$G$100,7,FALSE))","v":1},{"$f":"IF(ISERROR(VLOOKUP(C802,BDDG!$A$2:$H$100,8,FALSE)),\"\",VLOOKUP(C802,BDDG!$A$2:$H$100,8,FALSE))","v":"BB20"},10,23,37.565217391304351,{"$f":"IF(ISERROR(VLOOKUP(C802,BDDG!$A$2:$I$100,9,FALSE)),\"\",VLOOKUP(C802,BDDG!$A$2:$I$100,9,FALSE))","v":"CC20"},null,null,"",{"$f":"IF(ISERROR(VLOOKUP(C802,BDDG!$A$2:$J$100,10,FALSE)),\"\",VLOOKUP(C802,BDDG!$A$2:$J$100,10,FALSE))","v":"DD20"},null,null,"",37.565217391304351,1,2015,{"$f":"IFERROR(INDEX($V$2:V802,MATCH(H802&MAX(IF($H$1:H801=H802,$A$1:A801)),$H$2:H802&$A$2:A802,0))-V802,\"\")","v":1.7075098814229221}]
["2015-01-13",null,844,{"$f":"IF(ISNA(VLOOKUP(C803,BDDG!$A$2:$F$100,2,FALSE)),\"\",VLOOKUP(C803,BDDG!$A$2:$F$100,2,FALSE))","v":0},{"$f":"IF(ISNA(VLOOKUP(C803,BDDG!$A$3:$J$102,3,FALSE)),\"\",VLOOKUP(C803,BDDG!$A$3:$J$102,3,FALSE))","v":"B"},{"$f":"IF(ISNA(VLOOKUP(C803,BDDG!$A$3:$J$102,4,FALSE)),\"\",VLOOKUP(C803,BDDG!$A$3:$J$102,4,FALSE))","v":106},{"$f":"IF(ISNA(VLOOKUP(C803,BDDG!$A$2:$F$100,5,FALSE)),\"\",VLOOKUP(C803,BDDG!$A$2:$F$100,5,FALSE))","v":"A6"},{"$f":"IF(ISNA(VLOOKUP(C803,BDDG!$A$2:$F$100,6,FALSE)),\"\",VLOOKUP(C803,BDDG!$A$2:$F$100,6,FALSE))","v":"AA14"},{"$f":"IF(ISERROR(VLOOKUP(C803,BDDG!$A$2:$G$100,7,FALSE)),\"\",VLOOKUP(C803,BDDG!$A$2:$G$100,7,FALSE))","v":2},{"$f":"IF(ISERROR(VLOOKUP(C803,BDDG!$A$2:$H$100,8,FALSE)),\"\",VLOOKUP(C803,BDDG!$A$2:$H$100,8,FALSE))","v":"BB14"},10,12,72.000000000000014,{"$f":"IF(ISERROR(VLOOKUP(C803,BDDG!$A$2:$I$100,9,FALSE)),\"\",VLOOKUP(C803,BDDG!$A$2:$I$100,9,FALSE))","v":"CC14"},null,null,"",{"$f":"IF(ISERROR(VLOOKUP(C803,BDDG!$A$2:$J$100,10,FALSE)),\"\",VLOOKUP(C803,BDDG!$A$2:$J$100,10,FALSE))","v":"DD14"},null,null,"",72.000000000000014,1,2015,{"$f":"IFERROR(INDEX($V$2:V803,MATCH(H803&MAX(IF($H$1:H802=H803,$A$1:A802)),$H$2:H803&$A$2:A803,0))-V803,\"\")","v":-14.400000000000013}]
["2015-01-17",null,835,{"$f":"IF(ISNA(VLOOKUP(C804,BDDG!$A$2:$F$100,2,FALSE)),\"\",VLOOKUP(C804,BDDG!$A$2:$F$100,2,FALSE))","v":0},{"$f":"IF(ISNA(VLOOKUP(C804,BDDG!$A$3:$J$102,3,FALSE)),\"\",VLOOKUP(C804,BDDG!$A$3:$J$102,3,FALSE))","v":"A"},{"$f":"IF(ISNA(VLOOKUP(C804,BDDG!$A$3:$J$102,4,FALSE)),\"\",VLOOKUP(C804,BDDG!$A$3:$J$102,4,FALSE))","v":106},{"$f":"IF(ISNA(VLOOKUP(C804,BDDG!$A$2:$F$100,5,FALSE)),\"\",VLOOKUP(C804,BDDG!$A$2:$F$100,5,FALSE))","v":"A3"},{"$f":"IF(ISNA(VLOOKUP(C804,BDDG!$A$2:$F$100,6,FALSE)),\"\",VLOOKUP(C804,BDDG!$A$2:$F$100,6,FALSE))","v":"AA5"},{"$f":"IF(ISERROR(VLOOKUP(C804,BDDG!$A$2:$G$100,7,FALSE)),\"\",VLOOKUP(C804,BDDG!$A$2:$G$100,7,FALSE))","v":1},{"$f":"IF(ISERROR(VLOOKUP(C804,BDDG!$A$2:$H$100,8,FALSE)),\"\",VLOOKUP(C804,BDDG!$A$2:$H$100,8,FALSE))","v":"BB5"},1,60,1.4400000000000002,{"$f":"IF(ISERROR(VLOOKUP(C804,BDDG!$A$2:$I$100,9,FALSE)),\"\",VLOOKUP(C804,BDDG!$A$2:$I$100,9,FALSE))","v":"CC5"},null,null,"",{"$f":"IF(ISERROR(VLOOKUP(C804,BDDG!$A$2:$J$100,10,FALSE)),\"\",VLOOKUP(C804,BDDG!$A$2:$J$100,10,FALSE))","v":"DD5"},null,null,"",1.4400000000000002,1,2015,{"$f":"IFERROR(INDEX($V$2:V804,MATCH(H804&MAX(IF($H$1:H803=H804,$A$1:A803)),$H$2:H804&$A$2:A804,0))-V804,\"\")","v":2.5786046511627907}]
["2015-01-22",null,867,{"$f":"IF(ISNA(VLOOKUP(C805,BDDG!$A$2:$F$100,2,FALSE)),\"\",VLOOKUP(C805,BDDG!$A$2:$F$100,2,FALSE))","v":0},{"$f":"IF(ISNA(VLOOKUP(C805,BDDG!$A$3:$J$102,3,FALSE)),\"\",VLOOKUP(C805,BDDG!$A$3:$J$102,3,FALSE))","v":"C"},{"$f":"IF(ISNA(VLOOKUP(C805,BDDG!$A$3:$J$102,4,FALSE)),\"\",VLOOKUP(C805,BDDG!$A$3:$J$102,4,FALSE))","v":108},{"$f":"IF(ISNA(VLOOKUP(C805,BDDG!$A$2:$F$100,5,FALSE)),\"\",VLOOKUP(C805,BDDG!$A$2:$F$100,5,FALSE))","v":"A17"},{"$f":"IF(ISNA(VLOOKUP(C805,BDDG!$A$2:$F$100,6,FALSE)),\"\",VLOOKUP(C805,BDDG!$A$2:$F$100,6,FALSE))","v":"AA43"},{"$f":"IF(ISERROR(VLOOKUP(C805,BDDG!$A$2:$G$100,7,FALSE)),\"\",VLOOKUP(C805,BDDG!$A$2:$G$100,7,FALSE))","v":1},{"$f":"IF(ISERROR(VLOOKUP(C805,BDDG!$A$2:$H$100,8,FALSE)),\"\",VLOOKUP(C805,BDDG!$A$2:$H$100,8,FALSE))","v":"BB43"},10,28,30.857142857142861,{"$f":"IF(ISERROR(VLOOKUP(C805,BDDG!$A$2:$I$100,9,FALSE)),\"\",VLOOKUP(C805,BDDG!$A$2:$I$100,9,FALSE))","v":"CC43"},null,null,"",{"$f":"IF(ISERROR(VLOOKUP(C805,BDDG!$A$2:$J$100,10,FALSE)),\"\",VLOOKUP(C805,BDDG!$A$2:$J$100,10,FALSE))","v":"DD43"},null,null,{"$f":" IF(ISERROR(S805/T805*86.4),\"\",S805/T805*86.4)","v":""},30.857142857142861,1,2015,{"$f":"IFERROR(INDEX($V$2:V805,MATCH(H805&MAX(IF($H$1:H804=H805,$A$1:A804)),$H$2:H805&$A$2:A805,0))-V805,\"\")","v":-2.0571428571428605}]
["2015-01-22",null,868,{"$f":"IF(ISNA(VLOOKUP(C806,BDDG!$A$2:$F$100,2,FALSE)),\"\",VLOOKUP(C806,BDDG!$A$2:$F$100,2,FALSE))","v":0},{"$f":"IF(ISNA(VLOOKUP(C806,BDDG!$A$3:$J$102,3,FALSE)),\"\",VLOOKUP(C806,BDDG!$A$3:$J$102,3,FALSE))","v":"A"},{"$f":"IF(ISNA(VLOOKUP(C806,BDDG!$A$3:$J$102,4,FALSE)),\"\",VLOOKUP(C806,BDDG!$A$3:$J$102,4,FALSE))","v":108},{"$f":"IF(ISNA(VLOOKUP(C806,BDDG!$A$2:$F$100,5,FALSE)),\"\",VLOOKUP(C806,BDDG!$A$2:$F$100,5,FALSE))","v":"A16"},{"$f":"IF(ISNA(VLOOKUP(C806,BDDG!$A$2:$F$100,6,FALSE)),\"\",VLOOKUP(C806,BDDG!$A$2:$F$100,6,FALSE))","v":"AA39"},{"$f":"IF(ISERROR(VLOOKUP(C806,BDDG!$A$2:$G$100,7,FALSE)),\"\",VLOOKUP(C806,BDDG!$A$2:$G$100,7,FALSE))","v":2},{"$f":"IF(ISERROR(VLOOKUP(C806,BDDG!$A$2:$H$100,8,FALSE)),\"\",VLOOKUP(C806,BDDG!$A$2:$H$100,8,FALSE))","v":"BB39"},10,22,39.272727272727273,{"$f":"IF(ISERROR(VLOOKUP(C806,BDDG!$A$2:$I$100,9,FALSE)),\"\",VLOOKUP(C806,BDDG!$A$2:$I$100,9,FALSE))","v":"CC39"},null,null,"",{"$f":"IF(ISERROR(VLOOKUP(C806,BDDG!$A$2:$J$100,10,FALSE)),\"\",VLOOKUP(C806,BDDG!$A$2:$J$100,10,FALSE))","v":"DD39"},null,null,"",39.272727272727273,1,2015,{"$f":"IFERROR(INDEX($V$2:V806,MATCH(H806&MAX(IF($H$1:H805=H806,$A$1:A805)),$H$2:H806&$A$2:A806,0))-V806,\"\")","v":-27.75272727272727}]
["2015-01-22",null,866,{"$f":"IF(ISNA(VLOOKUP(C807,BDDG!$A$2:$F$100,2,FALSE)),\"\",VLOOKUP(C807,BDDG!$A$2:$F$100,2,FALSE))","v":0},{"$f":"IF(ISNA(VLOOKUP(C807,BDDG!$A$3:$J$102,3,FALSE)),\"\",VLOOKUP(C807,BDDG!$A$3:$J$102,3,FALSE))","v":"C"},{"$f":"IF(ISNA(VLOOKUP(C807,BDDG!$A$3:$J$102,4,FALSE)),\"\",VLOOKUP(C807,BDDG!$A$3:$J$102,4,FALSE))","v":108},{"$f":"IF(ISNA(VLOOKUP(C807,BDDG!$A$2:$F$100,5,FALSE)),\"\",VLOOKUP(C807,BDDG!$A$2:$F$100,5,FALSE))","v":"A17"},{"$f":"IF(ISNA(VLOOKUP(C807,BDDG!$A$2:$F$100,6,FALSE)),\"\",VLOOKUP(C807,BDDG!$A$2:$F$100,6,FALSE))","v":"AA42"},{"$f":"IF(ISERROR(VLOOKUP(C807,BDDG!$A$2:$G$100,7,FALSE)),\"\",VLOOKUP(C807,BDDG!$A$2:$G$100,7,FALSE))","v":1},{"$f":"IF(ISERROR(VLOOKUP(C807,BDDG!$A$2:$H$100,8,FALSE)),\"\",VLOOKUP(C807,BDDG!$A$2:$H$100,8,FALSE))","v":"BB42"},0.8,1,69.12,{"$f":"IF(ISERROR(VLOOKUP(C807,BDDG!$A$2:$I$100,9,FALSE)),\"\",VLOOKUP(C807,BDDG!$A$2:$I$100,9,FALSE))","v":"CC42"},null,null,null,{"$f":"IF(ISERROR(VLOOKUP(C807,BDDG!$A$2:$J$100,10,FALSE)),\"\",VLOOKUP(C807,BDDG!$A$2:$J$100,10,FALSE))","v":"DD42"},null,null,"",69.12,1,2015,{"$f":"IFERROR(INDEX($V$2:V807,MATCH(H807&MAX(IF($H$1:H806=H807,$A$1:A806)),$H$2:H807&$A$2:A807,0))-V807,\"\")","v":0}]
["2015-01-27",null,846,{"$f":"IF(ISNA(VLOOKUP(C808,BDDG!$A$2:$F$100,2,FALSE)),\"\",VLOOKUP(C808,BDDG!$A$2:$F$100,2,FALSE))","v":0},{"$f":"IF(ISNA(VLOOKUP(C808,BDDG!$A$3:$J$102,3,FALSE)),\"\",VLOOKUP(C808,BDDG!$A$3:$J$102,3,FALSE))","v":"B"},{"$f":"IF(ISNA(VLOOKUP(C808,BDDG!$A$3:$J$102,4,FALSE)),\"\",VLOOKUP(C808,BDDG!$A$3:$J$102,4,FALSE))","v":106},{"$f":"IF(ISNA(VLOOKUP(C808,BDDG!$A$2:$F$100,5,FALSE)),\"\",VLOOKUP(C808,BDDG!$A$2:$F$100,5,FALSE))","v":"A7"},{"$f":"IF(ISNA(VLOOKUP(C808,BDDG!$A$2:$F$100,6,FALSE)),\"\",VLOOKUP(C808,BDDG!$A$2:$F$100,6,FALSE))","v":"AA17"},{"$f":"IF(ISERROR(VLOOKUP(C808,BDDG!$A$2:$G$100,7,FALSE)),\"\",VLOOKUP(C808,BDDG!$A$2:$G$100,7,FALSE))","v":1},{"$f":"IF(ISERROR(VLOOKUP(C808,BDDG!$A$2:$H$100,8,FALSE)),\"\",VLOOKUP(C808,BDDG!$A$2:$H$100,8,FALSE))","v":"BB17"},10,24,36.000000000000007,{"$f":"IF(ISERROR(VLOOKUP(C808,BDDG!$A$2:$I$100,9,FALSE)),\"\",VLOOKUP(C808,BDDG!$A$2:$I$100,9,FALSE))","v":"CC17"},null,null,{"$f":" IF(ISERROR(O808/P808*86.4),\"\",O808/P808*86.4)","v":""},{"$f":"IF(ISERROR(VLOOKUP(C808,BDDG!$A$2:$J$100,10,FALSE)),\"\",VLOOKUP(C808,BDDG!$A$2:$J$100,10,FALSE))","v":"DD17"},null,null,"",36.000000000000007,1,2015,{"$f":"IFERROR(INDEX($V$2:V808,MATCH(H808&MAX(IF($H$1:H807=H808,$A$1:A807)),$H$2:H808&$A$2:A808,0))-V808,\"\")","v":-24.000000000000007}]
["2015-01-30",null,835,{"$f":"IF(ISNA(VLOOKUP(C809,BDDG!$A$2:$F$100,2,FALSE)),\"\",VLOOKUP(C809,BDDG!$A$2:$F$100,2,FALSE))","v":0},{"$f":"IF(ISNA(VLOOKUP(C809,BDDG!$A$3:$J$102,3,FALSE)),\"\",VLOOKUP(C809,BDDG!$A$3:$J$102,3,FALSE))","v":"A"},{"$f":"IF(ISNA(VLOOKUP(C809,BDDG!$A$3:$J$102,4,FALSE)),\"\",VLOOKUP(C809,BDDG!$A$3:$J$102,4,FALSE))","v":106},{"$f":"IF(ISNA(VLOOKUP(C809,BDDG!$A$2:$F$100,5,FALSE)),\"\",VLOOKUP(C809,BDDG!$A$2:$F$100,5,FALSE))","v":"A3"},{"$f":"IF(ISNA(VLOOKUP(C809,BDDG!$A$2:$F$100,6,FALSE)),\"\",VLOOKUP(C809,BDDG!$A$2:$F$100,6,FALSE))","v":"AA5"},{"$f":"IF(ISERROR(VLOOKUP(C809,BDDG!$A$2:$G$100,7,FALSE)),\"\",VLOOKUP(C809,BDDG!$A$2:$G$100,7,FALSE))","v":1},{"$f":"IF(ISERROR(VLOOKUP(C809,BDDG!$A$2:$H$100,8,FALSE)),\"\",VLOOKUP(C809,BDDG!$A$2:$H$100,8,FALSE))","v":"BB5"},5,{"$f":"5*60","v":300},1.4400000000000002,{"$f":"IF(ISERROR(VLOOKUP(C809,BDDG!$A$2:$I$100,9,FALSE)),\"\",VLOOKUP(C809,BDDG!$A$2:$I$100,9,FALSE))","v":"CC5"},null,null,"",{"$f":"IF(ISERROR(VLOOKUP(C809,BDDG!$A$2:$J$100,10,FALSE)),\"\",VLOOKUP(C809,BDDG!$A$2:$J$100,10,FALSE))","v":"DD5"},null,null,"",1.4400000000000002,1,2015,{"$f":"IFERROR(INDEX($V$2:V809,MATCH(H809&MAX(IF($H$1:H808=H809,$A$1:A808)),$H$2:H809&$A$2:A809,0))-V809,\"\")","v":0}]
["2015-02-18",null,842,{"$f":"IF(ISNA(VLOOKUP(C810,BDDG!$A$2:$F$100,2,FALSE)),\"\",VLOOKUP(C810,BDDG!$A$2:$F$100,2,FALSE))","v":0},{"$f":"IF(ISNA(VLOOKUP(C810,BDDG!$A$3:$J$102,3,FALSE)),\"\",VLOOKUP(C810,BDDG!$A$3:$J$102,3,FALSE))","v":"B"},{"$f":"IF(ISNA(VLOOKUP(C810,BDDG!$A$3:$J$102,4,FALSE)),\"\",VLOOKUP(C810,BDDG!$A$3:$J$102,4,FALSE))","v":106},{"$f":"IF(ISNA(VLOOKUP(C810,BDDG!$A$2:$F$100,5,FALSE)),\"\",VLOOKUP(C810,BDDG!$A$2:$F$100,5,FALSE))","v":"A5"},{"$f":"IF(ISNA(VLOOKUP(C810,BDDG!$A$2:$F$100,6,FALSE)),\"\",VLOOKUP(C810,BDDG!$A$2:$F$100,6,FALSE))","v":"AA13"},{"$f":"IF(ISERROR(VLOOKUP(C810,BDDG!$A$2:$G$100,7,FALSE)),\"\",VLOOKUP(C810,BDDG!$A$2:$G$100,7,FALSE))","v":1},{"$f":"IF(ISERROR(VLOOKUP(C810,BDDG!$A$2:$H$100,8,FALSE)),\"\",VLOOKUP(C810,BDDG!$A$2:$H$100,8,FALSE))","v":"BB13"},10,30,28.8,{"$f":"IF(ISERROR(VLOOKUP(C810,BDDG!$A$2:$I$100,9,FALSE)),\"\",VLOOKUP(C810,BDDG!$A$2:$I$100,9,FALSE))","v":"CC13"},null,null,"",{"$f":"IF(ISERROR(VLOOKUP(C810,BDDG!$A$2:$J$100,10,FALSE)),\"\",VLOOKUP(C810,BDDG!$A$2:$J$100,10,FALSE))","v":"DD13"},null,null,"",28.8,2,2015,{"$f":"IFERROR(INDEX($V$2:V810,MATCH(H810&MAX(IF($H$1:H809=H810,$A$1:A809)),$H$2:H810&$A$2:A810,0))-V810,\"\")","v":-11.167346938775509}]
["2015-02-18",null,848,{"$f":"IF(ISNA(VLOOKUP(C811,BDDG!$A$2:$F$100,2,FALSE)),\"\",VLOOKUP(C811,BDDG!$A$2:$F$100,2,FALSE))","v":0},{"$f":"IF(ISNA(VLOOKUP(C811,BDDG!$A$3:$J$102,3,FALSE)),\"\",VLOOKUP(C811,BDDG!$A$3:$J$102,3,FALSE))","v":"B"},{"$f":"IF(ISNA(VLOOKUP(C811,BDDG!$A$3:$J$102,4,FALSE)),\"\",VLOOKUP(C811,BDDG!$A$3:$J$102,4,FALSE))","v":106},{"$f":"IF(ISNA(VLOOKUP(C811,BDDG!$A$2:$F$100,5,FALSE)),\"\",VLOOKUP(C811,BDDG!$A$2:$F$100,5,FALSE))","v":"A7"},{"$f":"IF(ISNA(VLOOKUP(C811,BDDG!$A$2:$F$100,6,FALSE)),\"\",VLOOKUP(C811,BDDG!$A$2:$F$100,6,FALSE))","v":"AA19"},{"$f":"IF(ISERROR(VLOOKUP(C811,BDDG!$A$2:$G$100,7,FALSE)),\"\",VLOOKUP(C811,BDDG!$A$2:$G$100,7,FALSE))","v":2},{"$f":"IF(ISERROR(VLOOKUP(C811,BDDG!$A$2:$H$100,8,FALSE)),\"\",VLOOKUP(C811,BDDG!$A$2:$H$100,8,FALSE))","v":"BB19"},10,18,48.000000000000007,{"$f":"IF(ISERROR(VLOOKUP(C811,BDDG!$A$2:$I$100,9,FALSE)),\"\",VLOOKUP(C811,BDDG!$A$2:$I$100,9,FALSE))","v":"CC19"},null,null,"",{"$f":"IF(ISERROR(VLOOKUP(C811,BDDG!$A$2:$J$100,10,FALSE)),\"\",VLOOKUP(C811,BDDG!$A$2:$J$100,10,FALSE))","v":"DD19"},null,null,"",48.000000000000007,2,2015,{"$f":"IFERROR(INDEX($V$2:V811,MATCH(H811&MAX(IF($H$1:H810=H811,$A$1:A810)),$H$2:H811&$A$2:A811,0))-V811,\"\")","v":-13.440000000000005}]
["2015-02-18",null,860,{"$f":"IF(ISNA(VLOOKUP(C812,BDDG!$A$2:$F$100,2,FALSE)),\"\",VLOOKUP(C812,BDDG!$A$2:$F$100,2,FALSE))","v":0},{"$f":"IF(ISNA(VLOOKUP(C812,BDDG!$A$3:$J$102,3,FALSE)),\"\",VLOOKUP(C812,BDDG!$A$3:$J$102,3,FALSE))","v":"A"},{"$f":"IF(ISNA(VLOOKUP(C812,BDDG!$A$3:$J$102,4,FALSE)),\"\",VLOOKUP(C812,BDDG!$A$3:$J$102,4,FALSE))","v":106},{"$f":"IF(ISNA(VLOOKUP(C812,BDDG!$A$2:$F$100,5,FALSE)),\"\",VLOOKUP(C812,BDDG!$A$2:$F$100,5,FALSE))","v":"A11"},{"$f":"IF(ISNA(VLOOKUP(C812,BDDG!$A$2:$F$100,6,FALSE)),\"\",VLOOKUP(C812,BDDG!$A$2:$F$100,6,FALSE))","v":"AA32"},{"$f":"IF(ISERROR(VLOOKUP(C812,BDDG!$A$2:$G$100,7,FALSE)),\"\",VLOOKUP(C812,BDDG!$A$2:$G$100,7,FALSE))","v":2},{"$f":"IF(ISERROR(VLOOKUP(C812,BDDG!$A$2:$H$100,8,FALSE)),\"\",VLOOKUP(C812,BDDG!$A$2:$H$100,8,FALSE))","v":"BB32"},10,9,96.000000000000014,{"$f":"IF(ISERROR(VLOOKUP(C812,BDDG!$A$2:$I$100,9,FALSE)),\"\",VLOOKUP(C812,BDDG!$A$2:$I$100,9,FALSE))","v":"CC32"},null,null,"",{"$f":"IF(ISERROR(VLOOKUP(C812,BDDG!$A$2:$J$100,10,FALSE)),\"\",VLOOKUP(C812,BDDG!$A$2:$J$100,10,FALSE))","v":"DD32"},null,null,"",96.000000000000014,2,2015,{"$f":"IFERROR(INDEX($V$2:V812,MATCH(H812&MAX(IF($H$1:H811=H812,$A$1:A811)),$H$2:H812&$A$2:A812,0))-V812,\"\")","v":-58.434782608695663}]
["2015-02-18",null,847,{"$f":"IF(ISNA(VLOOKUP(C813,BDDG!$A$2:$F$100,2,FALSE)),\"\",VLOOKUP(C813,BDDG!$A$2:$F$100,2,FALSE))","v":0},{"$f":"IF(ISNA(VLOOKUP(C813,BDDG!$A$3:$J$102,3,FALSE)),\"\",VLOOKUP(C813,BDDG!$A$3:$J$102,3,FALSE))","v":"B"},{"$f":"IF(ISNA(VLOOKUP(C813,BDDG!$A$3:$J$102,4,FALSE)),\"\",VLOOKUP(C813,BDDG!$A$3:$J$102,4,FALSE))","v":106},{"$f":"IF(ISNA(VLOOKUP(C813,BDDG!$A$2:$F$100,5,FALSE)),\"\",VLOOKUP(C813,BDDG!$A$2:$F$100,5,FALSE))","v":"A7"},{"$f":"IF(ISNA(VLOOKUP(C813,BDDG!$A$2:$F$100,6,FALSE)),\"\",VLOOKUP(C813,BDDG!$A$2:$F$100,6,FALSE))","v":"AA18"},{"$f":"IF(ISERROR(VLOOKUP(C813,BDDG!$A$2:$G$100,7,FALSE)),\"\",VLOOKUP(C813,BDDG!$A$2:$G$100,7,FALSE))","v":2},{"$f":"IF(ISERROR(VLOOKUP(C813,BDDG!$A$2:$H$100,8,FALSE)),\"\",VLOOKUP(C813,BDDG!$A$2:$H$100,8,FALSE))","v":"BB18"},10,18,48.000000000000007,{"$f":"IF(ISERROR(VLOOKUP(C813,BDDG!$A$2:$I$100,9,FALSE)),\"\",VLOOKUP(C813,BDDG!$A$2:$I$100,9,FALSE))","v":"CC18"},10,38,22.736842105263158,{"$f":"IF(ISERROR(VLOOKUP(C813,BDDG!$A$2:$J$100,10,FALSE)),\"\",VLOOKUP(C813,BDDG!$A$2:$J$100,10,FALSE))","v":"DD18"},null,null,"",70.736842105263165,2,2015,{"$f":"IFERROR(INDEX($V$2:V813,MATCH(H813&MAX(IF($H$1:H812=H813,$A$1:A812)),$H$2:H813&$A$2:A813,0))-V813,\"\")","v":-17.39423340961099}]
["2015-02-18",null,861,{"$f":"IF(ISNA(VLOOKUP(C814,BDDG!$A$2:$F$100,2,FALSE)),\"\",VLOOKUP(C814,BDDG!$A$2:$F$100,2,FALSE))","v":0},{"$f":"IF(ISNA(VLOOKUP(C814,BDDG!$A$3:$J$102,3,FALSE)),\"\",VLOOKUP(C814,BDDG!$A$3:$J$102,3,FALSE))","v":"A"},{"$f":"IF(ISNA(VLOOKUP(C814,BDDG!$A$3:$J$102,4,FALSE)),\"\",VLOOKUP(C814,BDDG!$A$3:$J$102,4,FALSE))","v":106},{"$f":"IF(ISNA(VLOOKUP(C814,BDDG!$A$2:$F$100,5,FALSE)),\"\",VLOOKUP(C814,BDDG!$A$2:$F$100,5,FALSE))","v":"A11"},{"$f":"IF(ISNA(VLOOKUP(C814,BDDG!$A$2:$F$100,6,FALSE)),\"\",VLOOKUP(C814,BDDG!$A$2:$F$100,6,FALSE))","v":"AA33"},{"$f":"IF(ISERROR(VLOOKUP(C814,BDDG!$A$2:$G$100,7,FALSE)),\"\",VLOOKUP(C814,BDDG!$A$2:$G$100,7,FALSE))","v":2},{"$f":"IF(ISERROR(VLOOKUP(C814,BDDG!$A$2:$H$100,8,FALSE)),\"\",VLOOKUP(C814,BDDG!$A$2:$H$100,8,FALSE))","v":"BB33"},null,null,null,{"$f":"IF(ISERROR(VLOOKUP(C814,BDDG!$A$2:$I$100,9,FALSE)),\"\",VLOOKUP(C814,BDDG!$A$2:$I$100,9,FALSE))","v":"CC33"},10,3.5,246.85714285714289,{"$f":"IF(ISERROR(VLOOKUP(C814,BDDG!$A$2:$J$100,10,FALSE)),\"\",VLOOKUP(C814,BDDG!$A$2:$J$100,10,FALSE))","v":"DD33"},null,null,"",{"$f":"IF(ISERROR(SUM(M814,Q814,U814)),\"\",SUM((M814,Q814,U814)))","v":246.85714285714289},2,2015,{"$f":"IFERROR(INDEX($V$2:V814,MATCH(H814&MAX(IF($H$1:H813=H814,$A$1:A813)),$H$2:H814&$A$2:A814,0))-V814,\"\")","v":41.142857142857167}]
["2015-03-05",null,847,{"$f":"IF(ISNA(VLOOKUP(C815,BDDG!$A$2:$F$100,2,FALSE)),\"\",VLOOKUP(C815,BDDG!$A$2:$F$100,2,FALSE))","v":0},{"$f":"IF(ISNA(VLOOKUP(C815,BDDG!$A$3:$J$102,3,FALSE)),\"\",VLOOKUP(C815,BDDG!$A$3:$J$102,3,FALSE))","v":"B"},{"$f":"IF(ISNA(VLOOKUP(C815,BDDG!$A$3:$J$102,4,FALSE)),\"\",VLOOKUP(C815,BDDG!$A$3:$J$102,4,FALSE))","v":106},{"$f":"IF(ISNA(VLOOKUP(C815,BDDG!$A$2:$F$100,5,FALSE)),\"\",VLOOKUP(C815,BDDG!$A$2:$F$100,5,FALSE))","v":"A7"},{"$f":"IF(ISNA(VLOOKUP(C815,BDDG!$A$2:$F$100,6,FALSE)),\"\",VLOOKUP(C815,BDDG!$A$2:$F$100,6,FALSE))","v":"AA18"},{"$f":"IF(ISERROR(VLOOKUP(C815,BDDG!$A$2:$G$100,7,FALSE)),\"\",VLOOKUP(C815,BDDG!$A$2:$G$100,7,FALSE))","v":2},{"$f":"IF(ISERROR(VLOOKUP(C815,BDDG!$A$2:$H$100,8,FALSE)),\"\",VLOOKUP(C815,BDDG!$A$2:$H$100,8,FALSE))","v":"BB18"},10,5,{"$f":" IF(ISERROR(K815/L815*86.4),\"\",K815/L815*86.4)","v":172.8},{"$f":"IF(ISERROR(VLOOKUP(C815,BDDG!$A$2:$I$100,9,FALSE)),\"\",VLOOKUP(C815,BDDG!$A$2:$I$100,9,FALSE))","v":"CC18"},10,14,61.714285714285722,{"$f":"IF(ISERROR(VLOOKUP(C815,BDDG!$A$2:$J$100,10,FALSE)),\"\",VLOOKUP(C815,BDDG!$A$2:$J$100,10,FALSE))","v":"DD18"},null,null,"",{"$f":"IF(ISERROR(SUM(M815,Q815,U815)),\"\",SUM(M815,Q815,U815))","v":234.51428571428573},3,2015,{"$f":"IFERROR(INDEX($V$2:V815,MATCH(H815&MAX(IF($H$1:H814=H815,$A$1:A814)),$H$2:H815&$A$2:A815,0))-V815,\"\")","v":-163.77744360902255}]
["2015-03-06",null,860,{"$f":"IF(ISNA(VLOOKUP(C816,BDDG!$A$2:$F$100,2,FALSE)),\"\",VLOOKUP(C816,BDDG!$A$2:$F$100,2,FALSE))","v":0},{"$f":"IF(ISNA(VLOOKUP(C816,BDDG!$A$3:$J$102,3,FALSE)),\"\",VLOOKUP(C816,BDDG!$A$3:$J$102,3,FALSE))","v":"A"},{"$f":"IF(ISNA(VLOOKUP(C816,BDDG!$A$3:$J$102,4,FALSE)),\"\",VLOOKUP(C816,BDDG!$A$3:$J$102,4,FALSE))","v":106},{"$f":"IF(ISNA(VLOOKUP(C816,BDDG!$A$2:$F$100,5,FALSE)),\"\",VLOOKUP(C816,BDDG!$A$2:$F$100,5,FALSE))","v":"A11"},{"$f":"IF(ISNA(VLOOKUP(C816,BDDG!$A$2:$F$100,6,FALSE)),\"\",VLOOKUP(C816,BDDG!$A$2:$F$100,6,FALSE))","v":"AA32"},{"$f":"IF(ISERROR(VLOOKUP(C816,BDDG!$A$2:$G$100,7,FALSE)),\"\",VLOOKUP(C816,BDDG!$A$2:$G$100,7,FALSE))","v":2},{"$f":"IF(ISERROR(VLOOKUP(C816,BDDG!$A$2:$H$100,8,FALSE)),\"\",VLOOKUP(C816,BDDG!$A$2:$H$100,8,FALSE))","v":"BB32"},10,10,{"$f":" IF(ISERROR(K816/L816*86.4),\"\",K816/L816*86.4)","v":86.4},{"$f":"IF(ISERROR(VLOOKUP(C816,BDDG!$A$2:$I$100,9,FALSE)),\"\",VLOOKUP(C816,BDDG!$A$2:$I$100,9,FALSE))","v":"CC32"},null,null,"",{"$f":"IF(ISERROR(VLOOKUP(C816,BDDG!$A$2:$J$100,10,FALSE)),\"\",VLOOKUP(C816,BDDG!$A$2:$J$100,10,FALSE))","v":"DD32"},null,null,"",{"$f":"IF(ISERROR(SUM(M816,Q816,U816)),\"\",SUM(M816,Q816,U816))","v":86.4},3,2015,{"$f":"IFERROR(INDEX($V$2:V816,MATCH(H816&MAX(IF($H$1:H815=H816,$A$1:A815)),$H$2:H816&$A$2:A816,0))-V816,\"\")","v":9.6000000000000085}]
["2015-03-06",null,861,{"$f":"IF(ISNA(VLOOKUP(C817,BDDG!$A$2:$F$100,2,FALSE)),\"\",VLOOKUP(C817,BDDG!$A$2:$F$100,2,FALSE))","v":0},{"$f":"IF(ISNA(VLOOKUP(C817,BDDG!$A$3:$J$102,3,FALSE)),\"\",VLOOKUP(C817,BDDG!$A$3:$J$102,3,FALSE))","v":"A"},{"$f":"IF(ISNA(VLOOKUP(C817,BDDG!$A$3:$J$102,4,FALSE)),\"\",VLOOKUP(C817,BDDG!$A$3:$J$102,4,FALSE))","v":106},{"$f":"IF(ISNA(VLOOKUP(C817,BDDG!$A$2:$F$100,5,FALSE)),\"\",VLOOKUP(C817,BDDG!$A$2:$F$100,5,FALSE))","v":"A11"},{"$f":"IF(ISNA(VLOOKUP(C817,BDDG!$A$2:$F$100,6,FALSE)),\"\",VLOOKUP(C817,BDDG!$A$2:$F$100,6,FALSE))","v":"AA33"},{"$f":"IF(ISERROR(VLOOKUP(C817,BDDG!$A$2:$G$100,7,FALSE)),\"\",VLOOKUP(C817,BDDG!$A$2:$G$100,7,FALSE))","v":2},{"$f":"IF(ISERROR(VLOOKUP(C817,BDDG!$A$2:$H$100,8,FALSE)),\"\",VLOOKUP(C817,BDDG!$A$2:$H$100,8,FALSE))","v":"BB33"},null,null,null,{"$f":"IF(ISERROR(VLOOKUP(C817,BDDG!$A$2:$I$100,9,FALSE)),\"\",VLOOKUP(C817,BDDG!$A$2:$I$100,9,FALSE))","v":"CC33"},10,4,216,{"$f":"IF(ISERROR(VLOOKUP(C817,BDDG!$A$2:$J$100,10,FALSE)),\"\",VLOOKUP(C817,BDDG!$A$2:$J$100,10,FALSE))","v":"DD33"},null,null,"",{"$f":"IF(ISERROR(SUM(M817,Q817,U817)),\"\",SUM((M817,Q817,U817)))","v":216},3,2015,{"$f":"IFERROR(INDEX($V$2:V817,MATCH(H817&MAX(IF($H$1:H816=H817,$A$1:A816)),$H$2:H817&$A$2:A817,0))-V817,\"\")","v":30.85714285714289}]
["2015-03-12",null,831,{"$f":"IF(ISNA(VLOOKUP(C818,BDDG!$A$2:$F$100,2,FALSE)),\"\",VLOOKUP(C818,BDDG!$A$2:$F$100,2,FALSE))","v":0},{"$f":"IF(ISNA(VLOOKUP(C818,BDDG!$A$3:$J$102,3,FALSE)),\"\",VLOOKUP(C818,BDDG!$A$3:$J$102,3,FALSE))","v":"A"},{"$f":"IF(ISNA(VLOOKUP(C818,BDDG!$A$3:$J$102,4,FALSE)),\"\",VLOOKUP(C818,BDDG!$A$3:$J$102,4,FALSE))","v":106},{"$f":"IF(ISNA(VLOOKUP(C818,BDDG!$A$2:$F$100,5,FALSE)),\"\",VLOOKUP(C818,BDDG!$A$2:$F$100,5,FALSE))","v":"A1"},{"$f":"IF(ISNA(VLOOKUP(C818,BDDG!$A$2:$F$100,6,FALSE)),\"\",VLOOKUP(C818,BDDG!$A$2:$F$100,6,FALSE))","v":"AA1"},{"$f":"IF(ISERROR(VLOOKUP(C818,BDDG!$A$2:$G$100,7,FALSE)),\"\",VLOOKUP(C818,BDDG!$A$2:$G$100,7,FALSE))","v":1},{"$f":"IF(ISERROR(VLOOKUP(C818,BDDG!$A$2:$H$100,8,FALSE)),\"\",VLOOKUP(C818,BDDG!$A$2:$H$100,8,FALSE))","v":"BB1"},9.5,9.5399999999999991,{"$f":" IF(ISERROR(K818/L818*86.4),\"\",K818/L818*86.4)","v":86.037735849056617},{"$f":"IF(ISERROR(VLOOKUP(C818,BDDG!$A$2:$I$100,9,FALSE)),\"\",VLOOKUP(C818,BDDG!$A$2:$I$100,9,FALSE))","v":"CC1"},null,null,"",{"$f":"IF(ISERROR(VLOOKUP(C818,BDDG!$A$2:$J$100,10,FALSE)),\"\",VLOOKUP(C818,BDDG!$A$2:$J$100,10,FALSE))","v":"DD1"},null,null,"",{"$f":"IF(ISERROR(SUM(M818,Q818,U818)),\"\",SUM(M818,Q818,U818))","v":86.037735849056617},3,2015,{"$f":"IFERROR(INDEX($V$2:V818,MATCH(H818&MAX(IF($H$1:H817=H818,$A$1:A817)),$H$2:H818&$A$2:A818,0))-V818,\"\")","v":-7.4922813036020699}]
["2015-03-18",null,842,{"$f":"IF(ISNA(VLOOKUP(C819,BDDG!$A$2:$F$100,2,FALSE)),\"\",VLOOKUP(C819,BDDG!$A$2:$F$100,2,FALSE))","v":0},{"$f":"IF(ISNA(VLOOKUP(C819,BDDG!$A$3:$J$102,3,FALSE)),\"\",VLOOKUP(C819,BDDG!$A$3:$J$102,3,FALSE))","v":"B"},{"$f":"IF(ISNA(VLOOKUP(C819,BDDG!$A$3:$J$102,4,FALSE)),\"\",VLOOKUP(C819,BDDG!$A$3:$J$102,4,FALSE))","v":106},{"$f":"IF(ISNA(VLOOKUP(C819,BDDG!$A$2:$F$100,5,FALSE)),\"\",VLOOKUP(C819,BDDG!$A$2:$F$100,5,FALSE))","v":"A5"},{"$f":"IF(ISNA(VLOOKUP(C819,BDDG!$A$2:$F$100,6,FALSE)),\"\",VLOOKUP(C819,BDDG!$A$2:$F$100,6,FALSE))","v":"AA13"},{"$f":"IF(ISERROR(VLOOKUP(C819,BDDG!$A$2:$G$100,7,FALSE)),\"\",VLOOKUP(C819,BDDG!$A$2:$G$100,7,FALSE))","v":1},{"$f":"IF(ISERROR(VLOOKUP(C819,BDDG!$A$2:$H$100,8,FALSE)),\"\",VLOOKUP(C819,BDDG!$A$2:$H$100,8,FALSE))","v":"BB13"},10,12,72.000000000000014,{"$f":"IF(ISERROR(VLOOKUP(C819,BDDG!$A$2:$I$100,9,FALSE)),\"\",VLOOKUP(C819,BDDG!$A$2:$I$100,9,FALSE))","v":"CC13"},null,null,"",{"$f":"IF(ISERROR(VLOOKUP(C819,BDDG!$A$2:$J$100,10,FALSE)),\"\",VLOOKUP(C819,BDDG!$A$2:$J$100,10,FALSE))","v":"DD13"},null,null,"",72.000000000000014,3,2015,{"$f":"IFERROR(INDEX($V$2:V819,MATCH(H819&MAX(IF($H$1:H818=H819,$A$1:A818)),$H$2:H819&$A$2:A819,0))-V819,\"\")","v":-43.200000000000017}]
["2015-03-18",null,844,{"$f":"IF(ISNA(VLOOKUP(C820,BDDG!$A$2:$F$100,2,FALSE)),\"\",VLOOKUP(C820,BDDG!$A$2:$F$100,2,FALSE))","v":0},{"$f":"IF(ISNA(VLOOKUP(C820,BDDG!$A$3:$J$102,3,FALSE)),\"\",VLOOKUP(C820,BDDG!$A$3:$J$102,3,FALSE))","v":"B"},{"$f":"IF(ISNA(VLOOKUP(C820,BDDG!$A$3:$J$102,4,FALSE)),\"\",VLOOKUP(C820,BDDG!$A$3:$J$102,4,FALSE))","v":106},{"$f":"IF(ISNA(VLOOKUP(C820,BDDG!$A$2:$F$100,5,FALSE)),\"\",VLOOKUP(C820,BDDG!$A$2:$F$100,5,FALSE))","v":"A6"},{"$f":"IF(ISNA(VLOOKUP(C820,BDDG!$A$2:$F$100,6,FALSE)),\"\",VLOOKUP(C820,BDDG!$A$2:$F$100,6,FALSE))","v":"AA14"},{"$f":"IF(ISERROR(VLOOKUP(C820,BDDG!$A$2:$G$100,7,FALSE)),\"\",VLOOKUP(C820,BDDG!$A$2:$G$100,7,FALSE))","v":2},{"$f":"IF(ISERROR(VLOOKUP(C820,BDDG!$A$2:$H$100,8,FALSE)),\"\",VLOOKUP(C820,BDDG!$A$2:$H$100,8,FALSE))","v":"BB14"},10,12,72.000000000000014,{"$f":"IF(ISERROR(VLOOKUP(C820,BDDG!$A$2:$I$100,9,FALSE)),\"\",VLOOKUP(C820,BDDG!$A$2:$I$100,9,FALSE))","v":"CC14"},null,null,"",{"$f":"IF(ISERROR(VLOOKUP(C820,BDDG!$A$2:$J$100,10,FALSE)),\"\",VLOOKUP(C820,BDDG!$A$2:$J$100,10,FALSE))","v":"DD14"},null,null,"",72.000000000000014,3,2015,{"$f":"IFERROR(INDEX($V$2:V820,MATCH(H820&MAX(IF($H$1:H819=H820,$A$1:A819)),$H$2:H820&$A$2:A820,0))-V820,\"\")","v":0}]
["2015-03-27",null,832,{"$f":"IF(ISNA(VLOOKUP(C821,BDDG!$A$2:$F$100,2,FALSE)),\"\",VLOOKUP(C821,BDDG!$A$2:$F$100,2,FALSE))","v":0},{"$f":"IF(ISNA(VLOOKUP(C821,BDDG!$A$3:$J$102,3,FALSE)),\"\",VLOOKUP(C821,BDDG!$A$3:$J$102,3,FALSE))","v":"A"},{"$f":"IF(ISNA(VLOOKUP(C821,BDDG!$A$3:$J$102,4,FALSE)),\"\",VLOOKUP(C821,BDDG!$A$3:$J$102,4,FALSE))","v":106},{"$f":"IF(ISNA(VLOOKUP(C821,BDDG!$A$2:$F$100,5,FALSE)),\"\",VLOOKUP(C821,BDDG!$A$2:$F$100,5,FALSE))","v":"A2"},{"$f":"IF(ISNA(VLOOKUP(C821,BDDG!$A$2:$F$100,6,FALSE)),\"\",VLOOKUP(C821,BDDG!$A$2:$F$100,6,FALSE))","v":"AA2"},{"$f":"IF(ISERROR(VLOOKUP(C821,BDDG!$A$2:$G$100,7,FALSE)),\"\",VLOOKUP(C821,BDDG!$A$2:$G$100,7,FALSE))","v":1},{"$f":"IF(ISERROR(VLOOKUP(C821,BDDG!$A$2:$H$100,8,FALSE)),\"\",VLOOKUP(C821,BDDG!$A$2:$H$100,8,FALSE))","v":"BB2"},10,38,22.736842105263158,{"$f":"IF(ISERROR(VLOOKUP(C821,BDDG!$A$2:$I$100,9,FALSE)),\"\",VLOOKUP(C821,BDDG!$A$2:$I$100,9,FALSE))","v":"CC2"},null,null,"",{"$f":"IF(ISERROR(VLOOKUP(C821,BDDG!$A$2:$J$100,10,FALSE)),\"\",VLOOKUP(C821,BDDG!$A$2:$J$100,10,FALSE))","v":"DD2"},null,null,"",22.736842105263158,3,2015,{"$f":"IFERROR(INDEX($V$2:V821,MATCH(H821&MAX(IF($H$1:H820=H821,$A$1:A820)),$H$2:H821&$A$2:A821,0))-V821,\"\")","v":-2.6438188494492039}]
["2015-03-27",null,834,{"$f":"IF(ISNA(VLOOKUP(C822,BDDG!$A$2:$F$100,2,FALSE)),\"\",VLOOKUP(C822,BDDG!$A$2:$F$100,2,FALSE))","v":0},{"$f":"IF(ISNA(VLOOKUP(C822,BDDG!$A$3:$J$102,3,FALSE)),\"\",VLOOKUP(C822,BDDG!$A$3:$J$102,3,FALSE))","v":"A"},{"$f":"IF(ISNA(VLOOKUP(C822,BDDG!$A$3:$J$102,4,FALSE)),\"\",VLOOKUP(C822,BDDG!$A$3:$J$102,4,FALSE))","v":106},{"$f":"IF(ISNA(VLOOKUP(C822,BDDG!$A$2:$F$100,5,FALSE)),\"\",VLOOKUP(C822,BDDG!$A$2:$F$100,5,FALSE))","v":"A2"},{"$f":"IF(ISNA(VLOOKUP(C822,BDDG!$A$2:$F$100,6,FALSE)),\"\",VLOOKUP(C822,BDDG!$A$2:$F$100,6,FALSE))","v":"AA4"},{"$f":"IF(ISERROR(VLOOKUP(C822,BDDG!$A$2:$G$100,7,FALSE)),\"\",VLOOKUP(C822,BDDG!$A$2:$G$100,7,FALSE))","v":1},{"$f":"IF(ISERROR(VLOOKUP(C822,BDDG!$A$2:$H$100,8,FALSE)),\"\",VLOOKUP(C822,BDDG!$A$2:$H$100,8,FALSE))","v":"BB4"},10,19,45.473684210526315,{"$f":"IF(ISERROR(VLOOKUP(C822,BDDG!$A$2:$I$100,9,FALSE)),\"\",VLOOKUP(C822,BDDG!$A$2:$I$100,9,FALSE))","v":"CC4"},null,null,"",{"$f":"IF(ISERROR(VLOOKUP(C822,BDDG!$A$2:$J$100,10,FALSE)),\"\",VLOOKUP(C822,BDDG!$A$2:$J$100,10,FALSE))","v":"DD4"},null,null,"",45.473684210526315,3,2015,{"$f":"IFERROR(INDEX($V$2:V822,MATCH(H822&MAX(IF($H$1:H821=H822,$A$1:A821)),$H$2:H822&$A$2:A822,0))-V822,\"\")","v":-20.06191950464396}]
["2015-04-03",null,878,{"$f":"IF(ISNA(VLOOKUP(C823,BDDG!$A$2:$F$100,2,FALSE)),\"\",VLOOKUP(C823,BDDG!$A$2:$F$100,2,FALSE))","v":0},{"$f":"IF(ISNA(VLOOKUP(C823,BDDG!$A$3:$J$102,3,FALSE)),\"\",VLOOKUP(C823,BDDG!$A$3:$J$102,3,FALSE))","v":"C"},{"$f":"IF(ISNA(VLOOKUP(C823,BDDG!$A$3:$J$102,4,FALSE)),\"\",VLOOKUP(C823,BDDG!$A$3:$J$102,4,FALSE))","v":108},{"$f":"IF(ISNA(VLOOKUP(C823,BDDG!$A$2:$F$100,5,FALSE)),\"\",VLOOKUP(C823,BDDG!$A$2:$F$100,5,FALSE))","v":"A19"},{"$f":"IF(ISNA(VLOOKUP(C823,BDDG!$A$2:$F$100,6,FALSE)),\"\",VLOOKUP(C823,BDDG!$A$2:$F$100,6,FALSE))","v":"AA52"},{"$f":"IF(ISERROR(VLOOKUP(C823,BDDG!$A$2:$G$100,7,FALSE)),\"\",VLOOKUP(C823,BDDG!$A$2:$G$100,7,FALSE))","v":1},{"$f":"IF(ISERROR(VLOOKUP(C823,BDDG!$A$2:$H$100,8,FALSE)),\"\",VLOOKUP(C823,BDDG!$A$2:$H$100,8,FALSE))","v":"BB52"},10,20.77,41.598459316321623,{"$f":"IF(ISERROR(VLOOKUP(C823,BDDG!$A$2:$I$100,9,FALSE)),\"\",VLOOKUP(C823,BDDG!$A$2:$I$100,9,FALSE))","v":"CC52"},null,null,"",{"$f":"IF(ISERROR(VLOOKUP(C823,BDDG!$A$2:$J$100,10,FALSE)),\"\",VLOOKUP(C823,BDDG!$A$2:$J$100,10,FALSE))","v":"DD52"},null,null,"",41.598459316321623,4,2015,{"$f":"IFERROR(INDEX($V$2:V823,MATCH(H823&MAX(IF($H$1:H822=H823,$A$1:A822)),$H$2:H823&$A$2:A823,0))-V823,\"\")","v":""}]
["2015-04-03",null,880,{"$f":"IF(ISNA(VLOOKUP(C824,BDDG!$A$2:$F$100,2,FALSE)),\"\",VLOOKUP(C824,BDDG!$A$2:$F$100,2,FALSE))","v":0},{"$f":"IF(ISNA(VLOOKUP(C824,BDDG!$A$3:$J$102,3,FALSE)),\"\",VLOOKUP(C824,BDDG!$A$3:$J$102,3,FALSE))","v":"C"},{"$f":"IF(ISNA(VLOOKUP(C824,BDDG!$A$3:$J$102,4,FALSE)),\"\",VLOOKUP(C824,BDDG!$A$3:$J$102,4,FALSE))","v":108},{"$f":"IF(ISNA(VLOOKUP(C824,BDDG!$A$2:$F$100,5,FALSE)),\"\",VLOOKUP(C824,BDDG!$A$2:$F$100,5,FALSE))","v":"A19"},{"$f":"IF(ISNA(VLOOKUP(C824,BDDG!$A$2:$F$100,6,FALSE)),\"\",VLOOKUP(C824,BDDG!$A$2:$F$100,6,FALSE))","v":"AA54"},{"$f":"IF(ISERROR(VLOOKUP(C824,BDDG!$A$2:$G$100,7,FALSE)),\"\",VLOOKUP(C824,BDDG!$A$2:$G$100,7,FALSE))","v":2},{"$f":"IF(ISERROR(VLOOKUP(C824,BDDG!$A$2:$H$100,8,FALSE)),\"\",VLOOKUP(C824,BDDG!$A$2:$H$100,8,FALSE))","v":"BB54"},10,5.4,160,{"$f":"IF(ISERROR(VLOOKUP(C824,BDDG!$A$2:$I$100,9,FALSE)),\"\",VLOOKUP(C824,BDDG!$A$2:$I$100,9,FALSE))","v":"CC54"},10,5.07,{"$f":" IF(ISERROR(O824/P824*86.4),\"\",O824/P824*86.4)","v":170.41420118343194},{"$f":"IF(ISERROR(VLOOKUP(C824,BDDG!$A$2:$J$100,10,FALSE)),\"\",VLOOKUP(C824,BDDG!$A$2:$J$100,10,FALSE))","v":"DD54"},null,null,"",330.41420118343194,4,2015,{"$f":"IFERROR(INDEX($V$2:V824,MATCH(H824&MAX(IF($H$1:H823=H824,$A$1:A823)),$H$2:H824&$A$2:A824,0))-V824,\"\")","v":-258.41420118343194}]
["2015-04-07",null,839,{"$f":"IF(ISNA(VLOOKUP(C825,BDDG!$A$2:$F$100,2,FALSE)),\"\",VLOOKUP(C825,BDDG!$A$2:$F$100,2,FALSE))","v":0},{"$f":"IF(ISNA(VLOOKUP(C825,BDDG!$A$3:$J$102,3,FALSE)),\"\",VLOOKUP(C825,BDDG!$A$3:$J$102,3,FALSE))","v":"A"},{"$f":"IF(ISNA(VLOOKUP(C825,BDDG!$A$3:$J$102,4,FALSE)),\"\",VLOOKUP(C825,BDDG!$A$3:$J$102,4,FALSE))","v":106},{"$f":"IF(ISNA(VLOOKUP(C825,BDDG!$A$2:$F$100,5,FALSE)),\"\",VLOOKUP(C825,BDDG!$A$2:$F$100,5,FALSE))","v":"A3"},{"$f":"IF(ISNA(VLOOKUP(C825,BDDG!$A$2:$F$100,6,FALSE)),\"\",VLOOKUP(C825,BDDG!$A$2:$F$100,6,FALSE))","v":"AA10"},{"$f":"IF(ISERROR(VLOOKUP(C825,BDDG!$A$2:$G$100,7,FALSE)),\"\",VLOOKUP(C825,BDDG!$A$2:$G$100,7,FALSE))","v":2},{"$f":"IF(ISERROR(VLOOKUP(C825,BDDG!$A$2:$H$100,8,FALSE)),\"\",VLOOKUP(C825,BDDG!$A$2:$H$100,8,FALSE))","v":"BB10"},10,4,216,{"$f":"IF(ISERROR(VLOOKUP(C825,BDDG!$A$2:$I$100,9,FALSE)),\"\",VLOOKUP(C825,BDDG!$A$2:$I$100,9,FALSE))","v":"CC10"},null,null,"",{"$f":"IF(ISERROR(VLOOKUP(C825,BDDG!$A$2:$J$100,10,FALSE)),\"\",VLOOKUP(C825,BDDG!$A$2:$J$100,10,FALSE))","v":"DD10"},null,null,"",216,4,2015,{"$f":"IFERROR(INDEX($V$2:V825,MATCH(H825&MAX(IF($H$1:H824=H825,$A$1:A824)),$H$2:H825&$A$2:A825,0))-V825,\"\")","v":-137.45454545454544}]
["2015-04-07",null,838,{"$f":"IF(ISNA(VLOOKUP(C826,BDDG!$A$2:$F$100,2,FALSE)),\"\",VLOOKUP(C826,BDDG!$A$2:$F$100,2,FALSE))","v":0},{"$f":"IF(ISNA(VLOOKUP(C826,BDDG!$A$3:$J$102,3,FALSE)),\"\",VLOOKUP(C826,BDDG!$A$3:$J$102,3,FALSE))","v":"A"},{"$f":"IF(ISNA(VLOOKUP(C826,BDDG!$A$3:$J$102,4,FALSE)),\"\",VLOOKUP(C826,BDDG!$A$3:$J$102,4,FALSE))","v":106},{"$f":"IF(ISNA(VLOOKUP(C826,BDDG!$A$2:$F$100,5,FALSE)),\"\",VLOOKUP(C826,BDDG!$A$2:$F$100,5,FALSE))","v":"A3"},{"$f":"IF(ISNA(VLOOKUP(C826,BDDG!$A$2:$F$100,6,FALSE)),\"\",VLOOKUP(C826,BDDG!$A$2:$F$100,6,FALSE))","v":"AA8"},{"$f":"IF(ISERROR(VLOOKUP(C826,BDDG!$A$2:$G$100,7,FALSE)),\"\",VLOOKUP(C826,BDDG!$A$2:$G$100,7,FALSE))","v":1},{"$f":"IF(ISERROR(VLOOKUP(C826,BDDG!$A$2:$H$100,8,FALSE)),\"\",VLOOKUP(C826,BDDG!$A$2:$H$100,8,FALSE))","v":"BB8"},10,58,14.896551724137932,{"$f":"IF(ISERROR(VLOOKUP(C826,BDDG!$A$2:$I$100,9,FALSE)),\"\",VLOOKUP(C826,BDDG!$A$2:$I$100,9,FALSE))","v":"CC8"},null,null,"",{"$f":"IF(ISERROR(VLOOKUP(C826,BDDG!$A$2:$J$100,10,FALSE)),\"\",VLOOKUP(C826,BDDG!$A$2:$J$100,10,FALSE))","v":"DD8"},null,null,"",14.896551724137932,4,2015,{"$f":"IFERROR(INDEX($V$2:V826,MATCH(H826&MAX(IF($H$1:H825=H826,$A$1:A825)),$H$2:H826&$A$2:A826,0))-V826,\"\")","v":-8.250397877984085}]
["2015-04-07",null,837,{"$f":"IF(ISNA(VLOOKUP(C827,BDDG!$A$2:$F$100,2,FALSE)),\"\",VLOOKUP(C827,BDDG!$A$2:$F$100,2,FALSE))","v":0},{"$f":"IF(ISNA(VLOOKUP(C827,BDDG!$A$3:$J$102,3,FALSE)),\"\",VLOOKUP(C827,BDDG!$A$3:$J$102,3,FALSE))","v":"A"},{"$f":"IF(ISNA(VLOOKUP(C827,BDDG!$A$3:$J$102,4,FALSE)),\"\",VLOOKUP(C827,BDDG!$A$3:$J$102,4,FALSE))","v":106},{"$f":"IF(ISNA(VLOOKUP(C827,BDDG!$A$2:$F$100,5,FALSE)),\"\",VLOOKUP(C827,BDDG!$A$2:$F$100,5,FALSE))","v":"A3"},{"$f":"IF(ISNA(VLOOKUP(C827,BDDG!$A$2:$F$100,6,FALSE)),\"\",VLOOKUP(C827,BDDG!$A$2:$F$100,6,FALSE))","v":"AA7"},{"$f":"IF(ISERROR(VLOOKUP(C827,BDDG!$A$2:$G$100,7,FALSE)),\"\",VLOOKUP(C827,BDDG!$A$2:$G$100,7,FALSE))","v":1},{"$f":"IF(ISERROR(VLOOKUP(C827,BDDG!$A$2:$H$100,8,FALSE)),\"\",VLOOKUP(C827,BDDG!$A$2:$H$100,8,FALSE))","v":"BB7"},10,11,78.545454545454547,{"$f":"IF(ISERROR(VLOOKUP(C827,BDDG!$A$2:$I$100,9,FALSE)),\"\",VLOOKUP(C827,BDDG!$A$2:$I$100,9,FALSE))","v":"CC7"},null,null,"",{"$f":"IF(ISERROR(VLOOKUP(C827,BDDG!$A$2:$J$100,10,FALSE)),\"\",VLOOKUP(C827,BDDG!$A$2:$J$100,10,FALSE))","v":"DD7"},null,null,"",78.545454545454547,4,2015,{"$f":"IFERROR(INDEX($V$2:V827,MATCH(H827&MAX(IF($H$1:H826=H827,$A$1:A826)),$H$2:H827&$A$2:A827,0))-V827,\"\")","v":-57.212121212121218}]
["2015-04-07",null,836,{"$f":"IF(ISNA(VLOOKUP(C828,BDDG!$A$2:$F$100,2,FALSE)),\"\",VLOOKUP(C828,BDDG!$A$2:$F$100,2,FALSE))","v":0},{"$f":"IF(ISNA(VLOOKUP(C828,BDDG!$A$3:$J$102,3,FALSE)),\"\",VLOOKUP(C828,BDDG!$A$3:$J$102,3,FALSE))","v":"A"},{"$f":"IF(ISNA(VLOOKUP(C828,BDDG!$A$3:$J$102,4,FALSE)),\"\",VLOOKUP(C828,BDDG!$A$3:$J$102,4,FALSE))","v":106},{"$f":"IF(ISNA(VLOOKUP(C828,BDDG!$A$2:$F$100,5,FALSE)),\"\",VLOOKUP(C828,BDDG!$A$2:$F$100,5,FALSE))","v":"A3"},{"$f":"IF(ISNA(VLOOKUP(C828,BDDG!$A$2:$F$100,6,FALSE)),\"\",VLOOKUP(C828,BDDG!$A$2:$F$100,6,FALSE))","v":"AA6"},{"$f":"IF(ISERROR(VLOOKUP(C828,BDDG!$A$2:$G$100,7,FALSE)),\"\",VLOOKUP(C828,BDDG!$A$2:$G$100,7,FALSE))","v":1},{"$f":"IF(ISERROR(VLOOKUP(C828,BDDG!$A$2:$H$100,8,FALSE)),\"\",VLOOKUP(C828,BDDG!$A$2:$H$100,8,FALSE))","v":"BB6"},10,7,123.42857142857144,{"$f":"IF(ISERROR(VLOOKUP(C828,BDDG!$A$2:$I$100,9,FALSE)),\"\",VLOOKUP(C828,BDDG!$A$2:$I$100,9,FALSE))","v":"CC6"},null,null,"",{"$f":"IF(ISERROR(VLOOKUP(C828,BDDG!$A$2:$J$100,10,FALSE)),\"\",VLOOKUP(C828,BDDG!$A$2:$J$100,10,FALSE))","v":"DD6"},null,null,"",123.42857142857144,4,2015,{"$f":"IFERROR(INDEX($V$2:V828,MATCH(H828&MAX(IF($H$1:H827=H828,$A$1:A827)),$H$2:H828&$A$2:A828,0))-V828,\"\")","v":-88.163265306122469}]
["2015-04-07",null,854,{"$f":"IF(ISNA(VLOOKUP(C829,BDDG!$A$2:$F$100,2,FALSE)),\"\",VLOOKUP(C829,BDDG!$A$2:$F$100,2,FALSE))","v":0},{"$f":"IF(ISNA(VLOOKUP(C829,BDDG!$A$3:$J$102,3,FALSE)),\"\",VLOOKUP(C829,BDDG!$A$3:$J$102,3,FALSE))","v":"A"},{"$f":"IF(ISNA(VLOOKUP(C829,BDDG!$A$3:$J$102,4,FALSE)),\"\",VLOOKUP(C829,BDDG!$A$3:$J$102,4,FALSE))","v":106},{"$f":"IF(ISNA(VLOOKUP(C829,BDDG!$A$2:$F$100,5,FALSE)),\"\",VLOOKUP(C829,BDDG!$A$2:$F$100,5,FALSE))","v":"A9"},{"$f":"IF(ISNA(VLOOKUP(C829,BDDG!$A$2:$F$100,6,FALSE)),\"\",VLOOKUP(C829,BDDG!$A$2:$F$100,6,FALSE))","v":"AA25"},{"$f":"IF(ISERROR(VLOOKUP(C829,BDDG!$A$2:$G$100,7,FALSE)),\"\",VLOOKUP(C829,BDDG!$A$2:$G$100,7,FALSE))","v":2},{"$f":"IF(ISERROR(VLOOKUP(C829,BDDG!$A$2:$H$100,8,FALSE)),\"\",VLOOKUP(C829,BDDG!$A$2:$H$100,8,FALSE))","v":"BB25"},10,2,432,{"$f":"IF(ISERROR(VLOOKUP(C829,BDDG!$A$2:$I$100,9,FALSE)),\"\",VLOOKUP(C829,BDDG!$A$2:$I$100,9,FALSE))","v":"CC25"},null,null,"",{"$f":"IF(ISERROR(VLOOKUP(C829,BDDG!$A$2:$J$100,10,FALSE)),\"\",VLOOKUP(C829,BDDG!$A$2:$J$100,10,FALSE))","v":"DD25"},null,null,"",432,4,2015,{"$f":"IFERROR(INDEX($V$2:V829,MATCH(H829&MAX(IF($H$1:H828=H829,$A$1:A828)),$H$2:H829&$A$2:A829,0))-V829,\"\")","v":-259.2}]
["2015-04-07",null,855,{"$f":"IF(ISNA(VLOOKUP(C830,BDDG!$A$2:$F$100,2,FALSE)),\"\",VLOOKUP(C830,BDDG!$A$2:$F$100,2,FALSE))","v":0},{"$f":"IF(ISNA(VLOOKUP(C830,BDDG!$A$3:$J$102,3,FALSE)),\"\",VLOOKUP(C830,BDDG!$A$3:$J$102,3,FALSE))","v":"A"},{"$f":"IF(ISNA(VLOOKUP(C830,BDDG!$A$3:$J$102,4,FALSE)),\"\",VLOOKUP(C830,BDDG!$A$3:$J$102,4,FALSE))","v":106},{"$f":"IF(ISNA(VLOOKUP(C830,BDDG!$A$2:$F$100,5,FALSE)),\"\",VLOOKUP(C830,BDDG!$A$2:$F$100,5,FALSE))","v":"A9"},{"$f":"IF(ISNA(VLOOKUP(C830,BDDG!$A$2:$F$100,6,FALSE)),\"\",VLOOKUP(C830,BDDG!$A$2:$F$100,6,FALSE))","v":"AA26"},{"$f":"IF(ISERROR(VLOOKUP(C830,BDDG!$A$2:$G$100,7,FALSE)),\"\",VLOOKUP(C830,BDDG!$A$2:$G$100,7,FALSE))","v":2},{"$f":"IF(ISERROR(VLOOKUP(C830,BDDG!$A$2:$H$100,8,FALSE)),\"\",VLOOKUP(C830,BDDG!$A$2:$H$100,8,FALSE))","v":"BB26"},10,3,288.00000000000006,{"$f":"IF(ISERROR(VLOOKUP(C830,BDDG!$A$2:$I$100,9,FALSE)),\"\",VLOOKUP(C830,BDDG!$A$2:$I$100,9,FALSE))","v":"CC26"},10,10,86.4,{"$f":"IF(ISERROR(VLOOKUP(C830,BDDG!$A$2:$J$100,10,FALSE)),\"\",VLOOKUP(C830,BDDG!$A$2:$J$100,10,FALSE))","v":"DD26"},null,null,"",374.40000000000009,4,2015,{"$f":"IFERROR(INDEX($V$2:V830,MATCH(H830&MAX(IF($H$1:H829=H830,$A$1:A829)),$H$2:H830&$A$2:A830,0))-V830,\"\")","v":-268.85454545454553}]
["2015-04-07",null,856,{"$f":"IF(ISNA(VLOOKUP(C831,BDDG!$A$2:$F$100,2,FALSE)),\"\",VLOOKUP(C831,BDDG!$A$2:$F$100,2,FALSE))","v":0},{"$f":"IF(ISNA(VLOOKUP(C831,BDDG!$A$3:$J$102,3,FALSE)),\"\",VLOOKUP(C831,BDDG!$A$3:$J$102,3,FALSE))","v":"A"},{"$f":"IF(ISNA(VLOOKUP(C831,BDDG!$A$3:$J$102,4,FALSE)),\"\",VLOOKUP(C831,BDDG!$A$3:$J$102,4,FALSE))","v":106},{"$f":"IF(ISNA(VLOOKUP(C831,BDDG!$A$2:$F$100,5,FALSE)),\"\",VLOOKUP(C831,BDDG!$A$2:$F$100,5,FALSE))","v":"A9"},{"$f":"IF(ISNA(VLOOKUP(C831,BDDG!$A$2:$F$100,6,FALSE)),\"\",VLOOKUP(C831,BDDG!$A$2:$F$100,6,FALSE))","v":"AA27"},{"$f":"IF(ISERROR(VLOOKUP(C831,BDDG!$A$2:$G$100,7,FALSE)),\"\",VLOOKUP(C831,BDDG!$A$2:$G$100,7,FALSE))","v":2},{"$f":"IF(ISERROR(VLOOKUP(C831,BDDG!$A$2:$H$100,8,FALSE)),\"\",VLOOKUP(C831,BDDG!$A$2:$H$100,8,FALSE))","v":"BB27"},10,15,57.6,{"$f":"IF(ISERROR(VLOOKUP(C831,BDDG!$A$2:$I$100,9,FALSE)),\"\",VLOOKUP(C831,BDDG!$A$2:$I$100,9,FALSE))","v":"CC27"},10,1,864,{"$f":"IF(ISERROR(VLOOKUP(C831,BDDG!$A$2:$J$100,10,FALSE)),\"\",VLOOKUP(C831,BDDG!$A$2:$J$100,10,FALSE))","v":"DD27"},null,null,"",921.6,4,2015,{"$f":"IFERROR(INDEX($V$2:V831,MATCH(H831&MAX(IF($H$1:H830=H831,$A$1:A830)),$H$2:H831&$A$2:A831,0))-V831,\"\")","v":-713.89090909090908}]
["2015-04-07",null,835,{"$f":"IF(ISNA(VLOOKUP(C832,BDDG!$A$2:$F$100,2,FALSE)),\"\",VLOOKUP(C832,BDDG!$A$2:$F$100,2,FALSE))","v":0},{"$f":"IF(ISNA(VLOOKUP(C832,BDDG!$A$3:$J$102,3,FALSE)),\"\",VLOOKUP(C832,BDDG!$A$3:$J$102,3,FALSE))","v":"A"},{"$f":"IF(ISNA(VLOOKUP(C832,BDDG!$A$3:$J$102,4,FALSE)),\"\",VLOOKUP(C832,BDDG!$A$3:$J$102,4,FALSE))","v":106},{"$f":"IF(ISNA(VLOOKUP(C832,BDDG!$A$2:$F$100,5,FALSE)),\"\",VLOOKUP(C832,BDDG!$A$2:$F$100,5,FALSE))","v":"A3"},{"$f":"IF(ISNA(VLOOKUP(C832,BDDG!$A$2:$F$100,6,FALSE)),\"\",VLOOKUP(C832,BDDG!$A$2:$F$100,6,FALSE))","v":"AA5"},{"$f":"IF(ISERROR(VLOOKUP(C832,BDDG!$A$2:$G$100,7,FALSE)),\"\",VLOOKUP(C832,BDDG!$A$2:$G$100,7,FALSE))","v":1},{"$f":"IF(ISERROR(VLOOKUP(C832,BDDG!$A$2:$H$100,8,FALSE)),\"\",VLOOKUP(C832,BDDG!$A$2:$H$100,8,FALSE))","v":"BB5"},1,52,1.6615384615384616,{"$f":"IF(ISERROR(VLOOKUP(C832,BDDG!$A$2:$I$100,9,FALSE)),\"\",VLOOKUP(C832,BDDG!$A$2:$I$100,9,FALSE))","v":"CC5"},null,null,"",{"$f":"IF(ISERROR(VLOOKUP(C832,BDDG!$A$2:$J$100,10,FALSE)),\"\",VLOOKUP(C832,BDDG!$A$2:$J$100,10,FALSE))","v":"DD5"},null,null,"",1.6615384615384616,4,2015,{"$f":"IFERROR(INDEX($V$2:V832,MATCH(H832&MAX(IF($H$1:H831=H832,$A$1:A831)),$H$2:H832&$A$2:A832,0))-V832,\"\")","v":-0.22153846153846146}]
["2015-04-07",null,852,{"$f":"IF(ISNA(VLOOKUP(C833,BDDG!$A$2:$F$100,2,FALSE)),\"\",VLOOKUP(C833,BDDG!$A$2:$F$100,2,FALSE))","v":0},{"$f":"IF(ISNA(VLOOKUP(C833,BDDG!$A$3:$J$102,3,FALSE)),\"\",VLOOKUP(C833,BDDG!$A$3:$J$102,3,FALSE))","v":"A"},{"$f":"IF(ISNA(VLOOKUP(C833,BDDG!$A$3:$J$102,4,FALSE)),\"\",VLOOKUP(C833,BDDG!$A$3:$J$102,4,FALSE))","v":106},{"$f":"IF(ISNA(VLOOKUP(C833,BDDG!$A$2:$F$100,5,FALSE)),\"\",VLOOKUP(C833,BDDG!$A$2:$F$100,5,FALSE))","v":"A9"},{"$f":"IF(ISNA(VLOOKUP(C833,BDDG!$A$2:$F$100,6,FALSE)),\"\",VLOOKUP(C833,BDDG!$A$2:$F$100,6,FALSE))","v":"AA22"},{"$f":"IF(ISERROR(VLOOKUP(C833,BDDG!$A$2:$G$100,7,FALSE)),\"\",VLOOKUP(C833,BDDG!$A$2:$G$100,7,FALSE))","v":1},{"$f":"IF(ISERROR(VLOOKUP(C833,BDDG!$A$2:$H$100,8,FALSE)),\"\",VLOOKUP(C833,BDDG!$A$2:$H$100,8,FALSE))","v":"BB22"},10,38,22.736842105263158,{"$f":"IF(ISERROR(VLOOKUP(C833,BDDG!$A$2:$I$100,9,FALSE)),\"\",VLOOKUP(C833,BDDG!$A$2:$I$100,9,FALSE))","v":"CC22"},null,null,"",{"$f":"IF(ISERROR(VLOOKUP(C833,BDDG!$A$2:$J$100,10,FALSE)),\"\",VLOOKUP(C833,BDDG!$A$2:$J$100,10,FALSE))","v":"DD22"},null,null,"",22.736842105263158,4,2015,{"$f":"IFERROR(INDEX($V$2:V833,MATCH(H833&MAX(IF($H$1:H832=H833,$A$1:A832)),$H$2:H833&$A$2:A833,0))-V833,\"\")","v":-14.882296650717702}]
["2015-04-14",null,822,{"$f":"IF(ISNA(VLOOKUP(C834,BDDG!$A$2:$F$100,2,FALSE)),\"\",VLOOKUP(C834,BDDG!$A$2:$F$100,2,FALSE))","v":0},{"$f":"IF(ISNA(VLOOKUP(C834,BDDG!$A$3:$J$102,3,FALSE)),\"\",VLOOKUP(C834,BDDG!$A$3:$J$102,3,FALSE))","v":"A"},{"$f":"IF(ISNA(VLOOKUP(C834,BDDG!$A$3:$J$102,4,FALSE)),\"\",VLOOKUP(C834,BDDG!$A$3:$J$102,4,FALSE))","v":106},{"$f":"IF(ISNA(VLOOKUP(C834,BDDG!$A$2:$F$100,5,FALSE)),\"\",VLOOKUP(C834,BDDG!$A$2:$F$100,5,FALSE))","v":"A4"},{"$f":"IF(ISNA(VLOOKUP(C834,BDDG!$A$2:$F$100,6,FALSE)),\"\",VLOOKUP(C834,BDDG!$A$2:$F$100,6,FALSE))","v":"AA12"},{"$f":"IF(ISERROR(VLOOKUP(C834,BDDG!$A$2:$G$100,7,FALSE)),\"\",VLOOKUP(C834,BDDG!$A$2:$G$100,7,FALSE))","v":1},{"$f":"IF(ISERROR(VLOOKUP(C834,BDDG!$A$2:$H$100,8,FALSE)),\"\",VLOOKUP(C834,BDDG!$A$2:$H$100,8,FALSE))","v":"BB12"},10,9,96.000000000000014,{"$f":"IF(ISERROR(VLOOKUP(C834,BDDG!$A$2:$I$100,9,FALSE)),\"\",VLOOKUP(C834,BDDG!$A$2:$I$100,9,FALSE))","v":"CC12"},null,null,"",{"$f":"IF(ISERROR(VLOOKUP(C834,BDDG!$A$2:$J$100,10,FALSE)),\"\",VLOOKUP(C834,BDDG!$A$2:$J$100,10,FALSE))","v":"DD12"},null,null,"",96.000000000000014,{"$f":"MONTH(A:A)","v":4},{"$f":"YEAR(A:A)","v":2015},{"$f":"IFERROR(INDEX($V$2:V834,MATCH(H834&MAX(IF($H$1:H833=H834,$A$1:A833)),$H$2:H834&$A$2:A834,0))-V834,\"\")","v":-9.6000000000000085}]
["2015-04-15",null,850,{"$f":"IF(ISNA(VLOOKUP(C835,BDDG!$A$2:$F$100,2,FALSE)),\"\",VLOOKUP(C835,BDDG!$A$2:$F$100,2,FALSE))","v":0},{"$f":"IF(ISNA(VLOOKUP(C835,BDDG!$A$3:$J$102,3,FALSE)),\"\",VLOOKUP(C835,BDDG!$A$3:$J$102,3,FALSE))","v":"B"},{"$f":"IF(ISNA(VLOOKUP(C835,BDDG!$A$3:$J$102,4,FALSE)),\"\",VLOOKUP(C835,BDDG!$A$3:$J$102,4,FALSE))","v":106},{"$f":"IF(ISNA(VLOOKUP(C835,BDDG!$A$2:$F$100,5,FALSE)),\"\",VLOOKUP(C835,BDDG!$A$2:$F$100,5,FALSE))","v":"A8"},{"$f":"IF(ISNA(VLOOKUP(C835,BDDG!$A$2:$F$100,6,FALSE)),\"\",VLOOKUP(C835,BDDG!$A$2:$F$100,6,FALSE))","v":"AA20"},{"$f":"IF(ISERROR(VLOOKUP(C835,BDDG!$A$2:$G$100,7,FALSE)),\"\",VLOOKUP(C835,BDDG!$A$2:$G$100,7,FALSE))","v":1},{"$f":"IF(ISERROR(VLOOKUP(C835,BDDG!$A$2:$H$100,8,FALSE)),\"\",VLOOKUP(C835,BDDG!$A$2:$H$100,8,FALSE))","v":"BB20"},10,19,45.473684210526315,{"$f":"IF(ISERROR(VLOOKUP(C835,BDDG!$A$2:$I$100,9,FALSE)),\"\",VLOOKUP(C835,BDDG!$A$2:$I$100,9,FALSE))","v":"CC20"},null,null,"",{"$f":"IF(ISERROR(VLOOKUP(C835,BDDG!$A$2:$J$100,10,FALSE)),\"\",VLOOKUP(C835,BDDG!$A$2:$J$100,10,FALSE))","v":"DD20"},null,null,"",45.473684210526315,4,2015,{"$f":"IFERROR(INDEX($V$2:V835,MATCH(H835&MAX(IF($H$1:H834=H835,$A$1:A834)),$H$2:H835&$A$2:A835,0))-V835,\"\")","v":-7.9084668192219638}]
["2015-04-21",null,860,{"$f":"IF(ISNA(VLOOKUP(C836,BDDG!$A$2:$F$100,2,FALSE)),\"\",VLOOKUP(C836,BDDG!$A$2:$F$100,2,FALSE))","v":0},{"$f":"IF(ISNA(VLOOKUP(C836,BDDG!$A$3:$J$102,3,FALSE)),\"\",VLOOKUP(C836,BDDG!$A$3:$J$102,3,FALSE))","v":"A"},{"$f":"IF(ISNA(VLOOKUP(C836,BDDG!$A$3:$J$102,4,FALSE)),\"\",VLOOKUP(C836,BDDG!$A$3:$J$102,4,FALSE))","v":106},{"$f":"IF(ISNA(VLOOKUP(C836,BDDG!$A$2:$F$100,5,FALSE)),\"\",VLOOKUP(C836,BDDG!$A$2:$F$100,5,FALSE))","v":"A11"},{"$f":"IF(ISNA(VLOOKUP(C836,BDDG!$A$2:$F$100,6,FALSE)),\"\",VLOOKUP(C836,BDDG!$A$2:$F$100,6,FALSE))","v":"AA32"},{"$f":"IF(ISERROR(VLOOKUP(C836,BDDG!$A$2:$G$100,7,FALSE)),\"\",VLOOKUP(C836,BDDG!$A$2:$G$100,7,FALSE))","v":2},{"$f":"IF(ISERROR(VLOOKUP(C836,BDDG!$A$2:$H$100,8,FALSE)),\"\",VLOOKUP(C836,BDDG!$A$2:$H$100,8,FALSE))","v":"BB32"},10,22,39.272727272727273,{"$f":"IF(ISERROR(VLOOKUP(C836,BDDG!$A$2:$I$100,9,FALSE)),\"\",VLOOKUP(C836,BDDG!$A$2:$I$100,9,FALSE))","v":"CC32"},null,null,"",{"$f":"IF(ISERROR(VLOOKUP(C836,BDDG!$A$2:$J$100,10,FALSE)),\"\",VLOOKUP(C836,BDDG!$A$2:$J$100,10,FALSE))","v":"DD32"},null,null,{"$f":" IF(ISERROR(S836/T836*86.4),\"\",S836/T836*86.4)","v":""},39.272727272727273,4,2015,{"$f":"IFERROR(INDEX($V$2:V836,MATCH(H836&MAX(IF($H$1:H835=H836,$A$1:A835)),$H$2:H836&$A$2:A836,0))-V836,\"\")","v":47.127272727272732}]
["2015-04-21",null,861,{"$f":"IF(ISNA(VLOOKUP(C837,BDDG!$A$2:$F$100,2,FALSE)),\"\",VLOOKUP(C837,BDDG!$A$2:$F$100,2,FALSE))","v":0},{"$f":"IF(ISNA(VLOOKUP(C837,BDDG!$A$3:$J$102,3,FALSE)),\"\",VLOOKUP(C837,BDDG!$A$3:$J$102,3,FALSE))","v":"A"},{"$f":"IF(ISNA(VLOOKUP(C837,BDDG!$A$3:$J$102,4,FALSE)),\"\",VLOOKUP(C837,BDDG!$A$3:$J$102,4,FALSE))","v":106},{"$f":"IF(ISNA(VLOOKUP(C837,BDDG!$A$2:$F$100,5,FALSE)),\"\",VLOOKUP(C837,BDDG!$A$2:$F$100,5,FALSE))","v":"A11"},{"$f":"IF(ISNA(VLOOKUP(C837,BDDG!$A$2:$F$100,6,FALSE)),\"\",VLOOKUP(C837,BDDG!$A$2:$F$100,6,FALSE))","v":"AA33"},{"$f":"IF(ISERROR(VLOOKUP(C837,BDDG!$A$2:$G$100,7,FALSE)),\"\",VLOOKUP(C837,BDDG!$A$2:$G$100,7,FALSE))","v":2},{"$f":"IF(ISERROR(VLOOKUP(C837,BDDG!$A$2:$H$100,8,FALSE)),\"\",VLOOKUP(C837,BDDG!$A$2:$H$100,8,FALSE))","v":"BB33"},null,null,null,{"$f":"IF(ISERROR(VLOOKUP(C837,BDDG!$A$2:$I$100,9,FALSE)),\"\",VLOOKUP(C837,BDDG!$A$2:$I$100,9,FALSE))","v":"CC33"},10,4,216,{"$f":"IF(ISERROR(VLOOKUP(C837,BDDG!$A$2:$J$100,10,FALSE)),\"\",VLOOKUP(C837,BDDG!$A$2:$J$100,10,FALSE))","v":"DD33"},null,null,"",{"$f":"IF(ISERROR(SUM(M837,Q837,U837)),\"\",SUM((M837,Q837,U837)))","v":216},4,2015,{"$f":"IFERROR(INDEX($V$2:V837,MATCH(H837&MAX(IF($H$1:H836=H837,$A$1:A836)),$H$2:H837&$A$2:A837,0))-V837,\"\")","v":0}]
["2015-05-13",null,873,{"$f":"IF(ISNA(VLOOKUP(C838,BDDG!$A$2:$F$100,2,FALSE)),\"\",VLOOKUP(C838,BDDG!$A$2:$F$100,2,FALSE))","v":0},{"$f":"IF(ISNA(VLOOKUP(C838,BDDG!$A$3:$J$102,3,FALSE)),\"\",VLOOKUP(C838,BDDG!$A$3:$J$102,3,FALSE))","v":"C"},{"$f":"IF(ISNA(VLOOKUP(C838,BDDG!$A$3:$J$102,4,FALSE)),\"\",VLOOKUP(C838,BDDG!$A$3:$J$102,4,FALSE))","v":108},{"$f":"IF(ISNA(VLOOKUP(C838,BDDG!$A$2:$F$100,5,FALSE)),\"\",VLOOKUP(C838,BDDG!$A$2:$F$100,5,FALSE))","v":"A18"},{"$f":"IF(ISNA(VLOOKUP(C838,BDDG!$A$2:$F$100,6,FALSE)),\"\",VLOOKUP(C838,BDDG!$A$2:$F$100,6,FALSE))","v":"AA46"},{"$f":"IF(ISERROR(VLOOKUP(C838,BDDG!$A$2:$G$100,7,FALSE)),\"\",VLOOKUP(C838,BDDG!$A$2:$G$100,7,FALSE))","v":1},{"$f":"IF(ISERROR(VLOOKUP(C838,BDDG!$A$2:$H$100,8,FALSE)),\"\",VLOOKUP(C838,BDDG!$A$2:$H$100,8,FALSE))","v":"BB46"},10,2,{"$f":" IF(ISERROR(K838/L838*86.4),\"\",K838/L838*86.4)","v":432},{"$f":"IF(ISERROR(VLOOKUP(C838,BDDG!$A$2:$I$100,9,FALSE)),\"\",VLOOKUP(C838,BDDG!$A$2:$I$100,9,FALSE))","v":"CC46"},null,null,"",{"$f":"IF(ISERROR(VLOOKUP(C838,BDDG!$A$2:$J$100,10,FALSE)),\"\",VLOOKUP(C838,BDDG!$A$2:$J$100,10,FALSE))","v":"DD46"},null,null,"",{"$f":"IF(ISERROR(SUM(M838,Q838,U838)),\"\",SUM(M838,Q838,U838))","v":432},5,2015,{"$f":"IFERROR(INDEX($V$2:V838,MATCH(H838&MAX(IF($H$1:H837=H838,$A$1:A837)),$H$2:H838&$A$2:A838,0))-V838,\"\")","v":432}]
["2015-05-13",null,877,{"$f":"IF(ISNA(VLOOKUP(C839,BDDG!$A$2:$F$100,2,FALSE)),\"\",VLOOKUP(C839,BDDG!$A$2:$F$100,2,FALSE))","v":0},{"$f":"IF(ISNA(VLOOKUP(C839,BDDG!$A$3:$J$102,3,FALSE)),\"\",VLOOKUP(C839,BDDG!$A$3:$J$102,3,FALSE))","v":"C"},{"$f":"IF(ISNA(VLOOKUP(C839,BDDG!$A$3:$J$102,4,FALSE)),\"\",VLOOKUP(C839,BDDG!$A$3:$J$102,4,FALSE))","v":108},{"$f":"IF(ISNA(VLOOKUP(C839,BDDG!$A$2:$F$100,5,FALSE)),\"\",VLOOKUP(C839,BDDG!$A$2:$F$100,5,FALSE))","v":"A18"},{"$f":"IF(ISNA(VLOOKUP(C839,BDDG!$A$2:$F$100,6,FALSE)),\"\",VLOOKUP(C839,BDDG!$A$2:$F$100,6,FALSE))","v":"AA50"},{"$f":"IF(ISERROR(VLOOKUP(C839,BDDG!$A$2:$G$100,7,FALSE)),\"\",VLOOKUP(C839,BDDG!$A$2:$G$100,7,FALSE))","v":2},{"$f":"IF(ISERROR(VLOOKUP(C839,BDDG!$A$2:$H$100,8,FALSE)),\"\",VLOOKUP(C839,BDDG!$A$2:$H$100,8,FALSE))","v":"BB50"},10,24,36.000000000000007,{"$f":"IF(ISERROR(VLOOKUP(C839,BDDG!$A$2:$I$100,9,FALSE)),\"\",VLOOKUP(C839,BDDG!$A$2:$I$100,9,FALSE))","v":"CC50"},10,6.5,132.92307692307693,{"$f":"IF(ISERROR(VLOOKUP(C839,BDDG!$A$2:$J$100,10,FALSE)),\"\",VLOOKUP(C839,BDDG!$A$2:$J$100,10,FALSE))","v":"DD50"},null,null,"",168.92307692307693,5,2015,{"$f":"IFERROR(INDEX($V$2:V839,MATCH(H839&MAX(IF($H$1:H838=H839,$A$1:A838)),$H$2:H839&$A$2:A839,0))-V839,\"\")","v":176.67692307692315}]
["2015-05-15",null,867,{"$f":"IF(ISNA(VLOOKUP(C840,BDDG!$A$2:$F$100,2,FALSE)),\"\",VLOOKUP(C840,BDDG!$A$2:$F$100,2,FALSE))","v":0},{"$f":"IF(ISNA(VLOOKUP(C840,BDDG!$A$3:$J$102,3,FALSE)),\"\",VLOOKUP(C840,BDDG!$A$3:$J$102,3,FALSE))","v":"C"},{"$f":"IF(ISNA(VLOOKUP(C840,BDDG!$A$3:$J$102,4,FALSE)),\"\",VLOOKUP(C840,BDDG!$A$3:$J$102,4,FALSE))","v":108},{"$f":"IF(ISNA(VLOOKUP(C840,BDDG!$A$2:$F$100,5,FALSE)),\"\",VLOOKUP(C840,BDDG!$A$2:$F$100,5,FALSE))","v":"A17"},{"$f":"IF(ISNA(VLOOKUP(C840,BDDG!$A$2:$F$100,6,FALSE)),\"\",VLOOKUP(C840,BDDG!$A$2:$F$100,6,FALSE))","v":"AA43"},{"$f":"IF(ISERROR(VLOOKUP(C840,BDDG!$A$2:$G$100,7,FALSE)),\"\",VLOOKUP(C840,BDDG!$A$2:$G$100,7,FALSE))","v":1},{"$f":"IF(ISERROR(VLOOKUP(C840,BDDG!$A$2:$H$100,8,FALSE)),\"\",VLOOKUP(C840,BDDG!$A$2:$H$100,8,FALSE))","v":"BB43"},11,31,30.658064516129034,{"$f":"IF(ISERROR(VLOOKUP(C840,BDDG!$A$2:$I$100,9,FALSE)),\"\",VLOOKUP(C840,BDDG!$A$2:$I$100,9,FALSE))","v":"CC43"},null,null,{"$f":" IF(ISERROR(O840/P840*86.4),\"\",O840/P840*86.4)","v":""},{"$f":"IF(ISERROR(VLOOKUP(C840,BDDG!$A$2:$J$100,10,FALSE)),\"\",VLOOKUP(C840,BDDG!$A$2:$J$100,10,FALSE))","v":"DD43"},null,null,"",30.658064516129034,5,2015,{"$f":"IFERROR(INDEX($V$2:V840,MATCH(H840&MAX(IF($H$1:H839=H840,$A$1:A839)),$H$2:H840&$A$2:A840,0))-V840,\"\")","v":0.19907834101382704}]
["2015-05-15",null,838,{"$f":"IF(ISNA(VLOOKUP(C841,BDDG!$A$2:$F$100,2,FALSE)),\"\",VLOOKUP(C841,BDDG!$A$2:$F$100,2,FALSE))","v":0},{"$f":"IF(ISNA(VLOOKUP(C841,BDDG!$A$3:$J$102,3,FALSE)),\"\",VLOOKUP(C841,BDDG!$A$3:$J$102,3,FALSE))","v":"A"},{"$f":"IF(ISNA(VLOOKUP(C841,BDDG!$A$3:$J$102,4,FALSE)),\"\",VLOOKUP(C841,BDDG!$A$3:$J$102,4,FALSE))","v":106},{"$f":"IF(ISNA(VLOOKUP(C841,BDDG!$A$2:$F$100,5,FALSE)),\"\",VLOOKUP(C841,BDDG!$A$2:$F$100,5,FALSE))","v":"A3"},{"$f":"IF(ISNA(VLOOKUP(C841,BDDG!$A$2:$F$100,6,FALSE)),\"\",VLOOKUP(C841,BDDG!$A$2:$F$100,6,FALSE))","v":"AA8"},{"$f":"IF(ISERROR(VLOOKUP(C841,BDDG!$A$2:$G$100,7,FALSE)),\"\",VLOOKUP(C841,BDDG!$A$2:$G$100,7,FALSE))","v":1},{"$f":"IF(ISERROR(VLOOKUP(C841,BDDG!$A$2:$H$100,8,FALSE)),\"\",VLOOKUP(C841,BDDG!$A$2:$H$100,8,FALSE))","v":"BB8"},10,145,5.9586206896551728,{"$f":"IF(ISERROR(VLOOKUP(C841,BDDG!$A$2:$I$100,9,FALSE)),\"\",VLOOKUP(C841,BDDG!$A$2:$I$100,9,FALSE))","v":"CC8"},null,null,null,{"$f":"IF(ISERROR(VLOOKUP(C841,BDDG!$A$2:$J$100,10,FALSE)),\"\",VLOOKUP(C841,BDDG!$A$2:$J$100,10,FALSE))","v":"DD8"},null,null,"",5.9586206896551728,5,2015,{"$f":"IFERROR(INDEX($V$2:V841,MATCH(H841&MAX(IF($H$1:H840=H841,$A$1:A840)),$H$2:H841&$A$2:A841,0))-V841,\"\")","v":8.9379310344827587}]
["2015-05-15",null,866,{"$f":"IF(ISNA(VLOOKUP(C842,BDDG!$A$2:$F$100,2,FALSE)),\"\",VLOOKUP(C842,BDDG!$A$2:$F$100,2,FALSE))","v":0},{"$f":"IF(ISNA(VLOOKUP(C842,BDDG!$A$3:$J$102,3,FALSE)),\"\",VLOOKUP(C842,BDDG!$A$3:$J$102,3,FALSE))","v":"C"},{"$f":"IF(ISNA(VLOOKUP(C842,BDDG!$A$3:$J$102,4,FALSE)),\"\",VLOOKUP(C842,BDDG!$A$3:$J$102,4,FALSE))","v":108},{"$f":"IF(ISNA(VLOOKUP(C842,BDDG!$A$2:$F$100,5,FALSE)),\"\",VLOOKUP(C842,BDDG!$A$2:$F$100,5,FALSE))","v":"A17"},{"$f":"IF(ISNA(VLOOKUP(C842,BDDG!$A$2:$F$100,6,FALSE)),\"\",VLOOKUP(C842,BDDG!$A$2:$F$100,6,FALSE))","v":"AA42"},{"$f":"IF(ISERROR(VLOOKUP(C842,BDDG!$A$2:$G$100,7,FALSE)),\"\",VLOOKUP(C842,BDDG!$A$2:$G$100,7,FALSE))","v":1},{"$f":"IF(ISERROR(VLOOKUP(C842,BDDG!$A$2:$H$100,8,FALSE)),\"\",VLOOKUP(C842,BDDG!$A$2:$H$100,8,FALSE))","v":"BB42"},11,10,95.04000000000002,{"$f":"IF(ISERROR(VLOOKUP(C842,BDDG!$A$2:$I$100,9,FALSE)),\"\",VLOOKUP(C842,BDDG!$A$2:$I$100,9,FALSE))","v":"CC42"},null,null,null,{"$f":"IF(ISERROR(VLOOKUP(C842,BDDG!$A$2:$J$100,10,FALSE)),\"\",VLOOKUP(C842,BDDG!$A$2:$J$100,10,FALSE))","v":"DD42"},null,null,"",95.04000000000002,5,2015,{"$f":"IFERROR(INDEX($V$2:V842,MATCH(H842&MAX(IF($H$1:H841=H842,$A$1:A841)),$H$2:H842&$A$2:A842,0))-V842,\"\")","v":-25.920000000000016}]
["2015-05-20",null,880,{"$f":"IF(ISNA(VLOOKUP(C843,BDDG!$A$2:$F$100,2,FALSE)),\"\",VLOOKUP(C843,BDDG!$A$2:$F$100,2,FALSE))","v":0},{"$f":"IF(ISNA(VLOOKUP(C843,BDDG!$A$3:$J$102,3,FALSE)),\"\",VLOOKUP(C843,BDDG!$A$3:$J$102,3,FALSE))","v":"C"},{"$f":"IF(ISNA(VLOOKUP(C843,BDDG!$A$3:$J$102,4,FALSE)),\"\",VLOOKUP(C843,BDDG!$A$3:$J$102,4,FALSE))","v":108},{"$f":"IF(ISNA(VLOOKUP(C843,BDDG!$A$2:$F$100,5,FALSE)),\"\",VLOOKUP(C843,BDDG!$A$2:$F$100,5,FALSE))","v":"A19"},{"$f":"IF(ISNA(VLOOKUP(C843,BDDG!$A$2:$F$100,6,FALSE)),\"\",VLOOKUP(C843,BDDG!$A$2:$F$100,6,FALSE))","v":"AA54"},{"$f":"IF(ISERROR(VLOOKUP(C843,BDDG!$A$2:$G$100,7,FALSE)),\"\",VLOOKUP(C843,BDDG!$A$2:$G$100,7,FALSE))","v":2},{"$f":"IF(ISERROR(VLOOKUP(C843,BDDG!$A$2:$H$100,8,FALSE)),\"\",VLOOKUP(C843,BDDG!$A$2:$H$100,8,FALSE))","v":"BB54"},5,15,28.8,{"$f":"IF(ISERROR(VLOOKUP(C843,BDDG!$A$2:$I$100,9,FALSE)),\"\",VLOOKUP(C843,BDDG!$A$2:$I$100,9,FALSE))","v":"CC54"},5,5,{"$f":" IF(ISERROR(O843/P843*86.4),\"\",O843/P843*86.4)","v":86.4},{"$f":"IF(ISERROR(VLOOKUP(C843,BDDG!$A$2:$J$100,10,FALSE)),\"\",VLOOKUP(C843,BDDG!$A$2:$J$100,10,FALSE))","v":"DD54"},null,null,"",115.2,5,2015,{"$f":"IFERROR(INDEX($V$2:V843,MATCH(H843&MAX(IF($H$1:H842=H843,$A$1:A842)),$H$2:H843&$A$2:A843,0))-V843,\"\")","v":215.21420118343195}]
["2015-05-21",null,839,{"$f":"IF(ISNA(VLOOKUP(C844,BDDG!$A$2:$F$100,2,FALSE)),\"\",VLOOKUP(C844,BDDG!$A$2:$F$100,2,FALSE))","v":0},{"$f":"IF(ISNA(VLOOKUP(C844,BDDG!$A$3:$J$102,3,FALSE)),\"\",VLOOKUP(C844,BDDG!$A$3:$J$102,3,FALSE))","v":"A"},{"$f":"IF(ISNA(VLOOKUP(C844,BDDG!$A$3:$J$102,4,FALSE)),\"\",VLOOKUP(C844,BDDG!$A$3:$J$102,4,FALSE))","v":106},{"$f":"IF(ISNA(VLOOKUP(C844,BDDG!$A$2:$F$100,5,FALSE)),\"\",VLOOKUP(C844,BDDG!$A$2:$F$100,5,FALSE))","v":"A3"},{"$f":"IF(ISNA(VLOOKUP(C844,BDDG!$A$2:$F$100,6,FALSE)),\"\",VLOOKUP(C844,BDDG!$A$2:$F$100,6,FALSE))","v":"AA10"},{"$f":"IF(ISERROR(VLOOKUP(C844,BDDG!$A$2:$G$100,7,FALSE)),\"\",VLOOKUP(C844,BDDG!$A$2:$G$100,7,FALSE))","v":2},{"$f":"IF(ISERROR(VLOOKUP(C844,BDDG!$A$2:$H$100,8,FALSE)),\"\",VLOOKUP(C844,BDDG!$A$2:$H$100,8,FALSE))","v":"BB10"},10,12,72.000000000000014,{"$f":"IF(ISERROR(VLOOKUP(C844,BDDG!$A$2:$I$100,9,FALSE)),\"\",VLOOKUP(C844,BDDG!$A$2:$I$100,9,FALSE))","v":"CC10"},null,null,"",{"$f":"IF(ISERROR(VLOOKUP(C844,BDDG!$A$2:$J$100,10,FALSE)),\"\",VLOOKUP(C844,BDDG!$A$2:$J$100,10,FALSE))","v":"DD10"},null,null,"",72.000000000000014,5,2015,{"$f":"IFERROR(INDEX($V$2:V844,MATCH(H844&MAX(IF($H$1:H843=H844,$A$1:A843)),$H$2:H844&$A$2:A844,0))-V844,\"\")","v":144}]
["2015-05-21",null,838,{"$f":"IF(ISNA(VLOOKUP(C845,BDDG!$A$2:$F$100,2,FALSE)),\"\",VLOOKUP(C845,BDDG!$A$2:$F$100,2,FALSE))","v":0},{"$f":"IF(ISNA(VLOOKUP(C845,BDDG!$A$3:$J$102,3,FALSE)),\"\",VLOOKUP(C845,BDDG!$A$3:$J$102,3,FALSE))","v":"A"},{"$f":"IF(ISNA(VLOOKUP(C845,BDDG!$A$3:$J$102,4,FALSE)),\"\",VLOOKUP(C845,BDDG!$A$3:$J$102,4,FALSE))","v":106},{"$f":"IF(ISNA(VLOOKUP(C845,BDDG!$A$2:$F$100,5,FALSE)),\"\",VLOOKUP(C845,BDDG!$A$2:$F$100,5,FALSE))","v":"A3"},{"$f":"IF(ISNA(VLOOKUP(C845,BDDG!$A$2:$F$100,6,FALSE)),\"\",VLOOKUP(C845,BDDG!$A$2:$F$100,6,FALSE))","v":"AA8"},{"$f":"IF(ISERROR(VLOOKUP(C845,BDDG!$A$2:$G$100,7,FALSE)),\"\",VLOOKUP(C845,BDDG!$A$2:$G$100,7,FALSE))","v":1},{"$f":"IF(ISERROR(VLOOKUP(C845,BDDG!$A$2:$H$100,8,FALSE)),\"\",VLOOKUP(C845,BDDG!$A$2:$H$100,8,FALSE))","v":"BB8"},10,99,8.7272727272727284,{"$f":"IF(ISERROR(VLOOKUP(C845,BDDG!$A$2:$I$100,9,FALSE)),\"\",VLOOKUP(C845,BDDG!$A$2:$I$100,9,FALSE))","v":"CC8"},null,null,"",{"$f":"IF(ISERROR(VLOOKUP(C845,BDDG!$A$2:$J$100,10,FALSE)),\"\",VLOOKUP(C845,BDDG!$A$2:$J$100,10,FALSE))","v":"DD8"},null,null,"",8.7272727272727284,5,2015,{"$f":"IFERROR(INDEX($V$2:V845,MATCH(H845&MAX(IF($H$1:H844=H845,$A$1:A844)),$H$2:H845&$A$2:A845,0))-V845,\"\")","v":-2.7686520376175556}]
["2015-05-21",null,837,{"$f":"IF(ISNA(VLOOKUP(C846,BDDG!$A$2:$F$100,2,FALSE)),\"\",VLOOKUP(C846,BDDG!$A$2:$F$100,2,FALSE))","v":0},{"$f":"IF(ISNA(VLOOKUP(C846,BDDG!$A$3:$J$102,3,FALSE)),\"\",VLOOKUP(C846,BDDG!$A$3:$J$102,3,FALSE))","v":"A"},{"$f":"IF(ISNA(VLOOKUP(C846,BDDG!$A$3:$J$102,4,FALSE)),\"\",VLOOKUP(C846,BDDG!$A$3:$J$102,4,FALSE))","v":106},{"$f":"IF(ISNA(VLOOKUP(C846,BDDG!$A$2:$F$100,5,FALSE)),\"\",VLOOKUP(C846,BDDG!$A$2:$F$100,5,FALSE))","v":"A3"},{"$f":"IF(ISNA(VLOOKUP(C846,BDDG!$A$2:$F$100,6,FALSE)),\"\",VLOOKUP(C846,BDDG!$A$2:$F$100,6,FALSE))","v":"AA7"},{"$f":"IF(ISERROR(VLOOKUP(C846,BDDG!$A$2:$G$100,7,FALSE)),\"\",VLOOKUP(C846,BDDG!$A$2:$G$100,7,FALSE))","v":1},{"$f":"IF(ISERROR(VLOOKUP(C846,BDDG!$A$2:$H$100,8,FALSE)),\"\",VLOOKUP(C846,BDDG!$A$2:$H$100,8,FALSE))","v":"BB7"},4,13.45,25.695167286245358,{"$f":"IF(ISERROR(VLOOKUP(C846,BDDG!$A$2:$I$100,9,FALSE)),\"\",VLOOKUP(C846,BDDG!$A$2:$I$100,9,FALSE))","v":"CC7"},null,null,"",{"$f":"IF(ISERROR(VLOOKUP(C846,BDDG!$A$2:$J$100,10,FALSE)),\"\",VLOOKUP(C846,BDDG!$A$2:$J$100,10,FALSE))","v":"DD7"},null,null,"",25.695167286245358,5,2015,{"$f":"IFERROR(INDEX($V$2:V846,MATCH(H846&MAX(IF($H$1:H845=H846,$A$1:A845)),$H$2:H846&$A$2:A846,0))-V846,\"\")","v":52.850287259209189}]
["2015-05-21",null,836,{"$f":"IF(ISNA(VLOOKUP(C847,BDDG!$A$2:$F$100,2,FALSE)),\"\",VLOOKUP(C847,BDDG!$A$2:$F$100,2,FALSE))","v":0},{"$f":"IF(ISNA(VLOOKUP(C847,BDDG!$A$3:$J$102,3,FALSE)),\"\",VLOOKUP(C847,BDDG!$A$3:$J$102,3,FALSE))","v":"A"},{"$f":"IF(ISNA(VLOOKUP(C847,BDDG!$A$3:$J$102,4,FALSE)),\"\",VLOOKUP(C847,BDDG!$A$3:$J$102,4,FALSE))","v":106},{"$f":"IF(ISNA(VLOOKUP(C847,BDDG!$A$2:$F$100,5,FALSE)),\"\",VLOOKUP(C847,BDDG!$A$2:$F$100,5,FALSE))","v":"A3"},{"$f":"IF(ISNA(VLOOKUP(C847,BDDG!$A$2:$F$100,6,FALSE)),\"\",VLOOKUP(C847,BDDG!$A$2:$F$100,6,FALSE))","v":"AA6"},{"$f":"IF(ISERROR(VLOOKUP(C847,BDDG!$A$2:$G$100,7,FALSE)),\"\",VLOOKUP(C847,BDDG!$A$2:$G$100,7,FALSE))","v":1},{"$f":"IF(ISERROR(VLOOKUP(C847,BDDG!$A$2:$H$100,8,FALSE)),\"\",VLOOKUP(C847,BDDG!$A$2:$H$100,8,FALSE))","v":"BB6"},4,9.4,36.765957446808514,{"$f":"IF(ISERROR(VLOOKUP(C847,BDDG!$A$2:$I$100,9,FALSE)),\"\",VLOOKUP(C847,BDDG!$A$2:$I$100,9,FALSE))","v":"CC6"},null,null,"",{"$f":"IF(ISERROR(VLOOKUP(C847,BDDG!$A$2:$J$100,10,FALSE)),\"\",VLOOKUP(C847,BDDG!$A$2:$J$100,10,FALSE))","v":"DD6"},null,null,"",36.765957446808514,5,2015,{"$f":"IFERROR(INDEX($V$2:V847,MATCH(H847&MAX(IF($H$1:H846=H847,$A$1:A846)),$H$2:H847&$A$2:A847,0))-V847,\"\")","v":86.662613981762931}]
["2015-05-21",null,864,{"$f":"IF(ISNA(VLOOKUP(C848,BDDG!$A$2:$F$100,2,FALSE)),\"\",VLOOKUP(C848,BDDG!$A$2:$F$100,2,FALSE))","v":0},{"$f":"IF(ISNA(VLOOKUP(C848,BDDG!$A$3:$J$102,3,FALSE)),\"\",VLOOKUP(C848,BDDG!$A$3:$J$102,3,FALSE))","v":"A"},{"$f":"IF(ISNA(VLOOKUP(C848,BDDG!$A$3:$J$102,4,FALSE)),\"\",VLOOKUP(C848,BDDG!$A$3:$J$102,4,FALSE))","v":106},{"$f":"IF(ISNA(VLOOKUP(C848,BDDG!$A$2:$F$100,5,FALSE)),\"\",VLOOKUP(C848,BDDG!$A$2:$F$100,5,FALSE))","v":"A13"},{"$f":"IF(ISNA(VLOOKUP(C848,BDDG!$A$2:$F$100,6,FALSE)),\"\",VLOOKUP(C848,BDDG!$A$2:$F$100,6,FALSE))","v":"AA36"},{"$f":"IF(ISERROR(VLOOKUP(C848,BDDG!$A$2:$G$100,7,FALSE)),\"\",VLOOKUP(C848,BDDG!$A$2:$G$100,7,FALSE))","v":1},{"$f":"IF(ISERROR(VLOOKUP(C848,BDDG!$A$2:$H$100,8,FALSE)),\"\",VLOOKUP(C848,BDDG!$A$2:$H$100,8,FALSE))","v":"BB36"},10,18,48.000000000000007,{"$f":"IF(ISERROR(VLOOKUP(C848,BDDG!$A$2:$I$100,9,FALSE)),\"\",VLOOKUP(C848,BDDG!$A$2:$I$100,9,FALSE))","v":"CC36"},null,null,"",{"$f":"IF(ISERROR(VLOOKUP(C848,BDDG!$A$2:$J$100,10,FALSE)),\"\",VLOOKUP(C848,BDDG!$A$2:$J$100,10,FALSE))","v":"DD36"},null,null,"",48.000000000000007,5,2015,{"$f":"IFERROR(INDEX($V$2:V848,MATCH(H848&MAX(IF($H$1:H847=H848,$A$1:A847)),$H$2:H848&$A$2:A848,0))-V848,\"\")","v":""}]
["2015-05-21",null,863,{"$f":"IF(ISNA(VLOOKUP(C849,BDDG!$A$2:$F$100,2,FALSE)),\"\",VLOOKUP(C849,BDDG!$A$2:$F$100,2,FALSE))","v":0},{"$f":"IF(ISNA(VLOOKUP(C849,BDDG!$A$3:$J$102,3,FALSE)),\"\",VLOOKUP(C849,BDDG!$A$3:$J$102,3,FALSE))","v":"A"},{"$f":"IF(ISNA(VLOOKUP(C849,BDDG!$A$3:$J$102,4,FALSE)),\"\",VLOOKUP(C849,BDDG!$A$3:$J$102,4,FALSE))","v":106},{"$f":"IF(ISNA(VLOOKUP(C849,BDDG!$A$2:$F$100,5,FALSE)),\"\",VLOOKUP(C849,BDDG!$A$2:$F$100,5,FALSE))","v":"A13"},{"$f":"IF(ISNA(VLOOKUP(C849,BDDG!$A$2:$F$100,6,FALSE)),\"\",VLOOKUP(C849,BDDG!$A$2:$F$100,6,FALSE))","v":"AA35"},{"$f":"IF(ISERROR(VLOOKUP(C849,BDDG!$A$2:$G$100,7,FALSE)),\"\",VLOOKUP(C849,BDDG!$A$2:$G$100,7,FALSE))","v":1},{"$f":"IF(ISERROR(VLOOKUP(C849,BDDG!$A$2:$H$100,8,FALSE)),\"\",VLOOKUP(C849,BDDG!$A$2:$H$100,8,FALSE))","v":"BB35"},10,53,16.301886792452834,{"$f":"IF(ISERROR(VLOOKUP(C849,BDDG!$A$2:$I$100,9,FALSE)),\"\",VLOOKUP(C849,BDDG!$A$2:$I$100,9,FALSE))","v":"CC35"},null,null,"",{"$f":"IF(ISERROR(VLOOKUP(C849,BDDG!$A$2:$J$100,10,FALSE)),\"\",VLOOKUP(C849,BDDG!$A$2:$J$100,10,FALSE))","v":"DD35"},null,null,"",16.301886792452834,5,2015,{"$f":"IFERROR(INDEX($V$2:V849,MATCH(H849&MAX(IF($H$1:H848=H849,$A$1:A848)),$H$2:H849&$A$2:A849,0))-V849,\"\")","v":""}]
["2015-05-22",null,831,{"$f":"IF(ISNA(VLOOKUP(C850,BDDG!$A$2:$F$100,2,FALSE)),\"\",VLOOKUP(C850,BDDG!$A$2:$F$100,2,FALSE))","v":0},{"$f":"IF(ISNA(VLOOKUP(C850,BDDG!$A$3:$J$102,3,FALSE)),\"\",VLOOKUP(C850,BDDG!$A$3:$J$102,3,FALSE))","v":"A"},{"$f":"IF(ISNA(VLOOKUP(C850,BDDG!$A$3:$J$102,4,FALSE)),\"\",VLOOKUP(C850,BDDG!$A$3:$J$102,4,FALSE))","v":106},{"$f":"IF(ISNA(VLOOKUP(C850,BDDG!$A$2:$F$100,5,FALSE)),\"\",VLOOKUP(C850,BDDG!$A$2:$F$100,5,FALSE))","v":"A1"},{"$f":"IF(ISNA(VLOOKUP(C850,BDDG!$A$2:$F$100,6,FALSE)),\"\",VLOOKUP(C850,BDDG!$A$2:$F$100,6,FALSE))","v":"AA1"},{"$f":"IF(ISERROR(VLOOKUP(C850,BDDG!$A$2:$G$100,7,FALSE)),\"\",VLOOKUP(C850,BDDG!$A$2:$G$100,7,FALSE))","v":1},{"$f":"IF(ISERROR(VLOOKUP(C850,BDDG!$A$2:$H$100,8,FALSE)),\"\",VLOOKUP(C850,BDDG!$A$2:$H$100,8,FALSE))","v":"BB1"},10,11,78.545454545454547,{"$f":"IF(ISERROR(VLOOKUP(C850,BDDG!$A$2:$I$100,9,FALSE)),\"\",VLOOKUP(C850,BDDG!$A$2:$I$100,9,FALSE))","v":"CC1"},null,null,"",{"$f":"IF(ISERROR(VLOOKUP(C850,BDDG!$A$2:$J$100,10,FALSE)),\"\",VLOOKUP(C850,BDDG!$A$2:$J$100,10,FALSE))","v":"DD1"},null,null,"",78.545454545454547,5,2015,{"$f":"IFERROR(INDEX($V$2:V850,MATCH(H850&MAX(IF($H$1:H849=H850,$A$1:A849)),$H$2:H850&$A$2:A850,0))-V850,\"\")","v":7.4922813036020699}]
["2015-05-26",null,850,{"$f":"IF(ISNA(VLOOKUP(C851,BDDG!$A$2:$F$100,2,FALSE)),\"\",VLOOKUP(C851,BDDG!$A$2:$F$100,2,FALSE))","v":0},{"$f":"IF(ISNA(VLOOKUP(C851,BDDG!$A$3:$J$102,3,FALSE)),\"\",VLOOKUP(C851,BDDG!$A$3:$J$102,3,FALSE))","v":"B"},{"$f":"IF(ISNA(VLOOKUP(C851,BDDG!$A$3:$J$102,4,FALSE)),\"\",VLOOKUP(C851,BDDG!$A$3:$J$102,4,FALSE))","v":106},{"$f":"IF(ISNA(VLOOKUP(C851,BDDG!$A$2:$F$100,5,FALSE)),\"\",VLOOKUP(C851,BDDG!$A$2:$F$100,5,FALSE))","v":"A8"},{"$f":"IF(ISNA(VLOOKUP(C851,BDDG!$A$2:$F$100,6,FALSE)),\"\",VLOOKUP(C851,BDDG!$A$2:$F$100,6,FALSE))","v":"AA20"},{"$f":"IF(ISERROR(VLOOKUP(C851,BDDG!$A$2:$G$100,7,FALSE)),\"\",VLOOKUP(C851,BDDG!$A$2:$G$100,7,FALSE))","v":1},{"$f":"IF(ISERROR(VLOOKUP(C851,BDDG!$A$2:$H$100,8,FALSE)),\"\",VLOOKUP(C851,BDDG!$A$2:$H$100,8,FALSE))","v":"BB20"},10,23,37.565217391304351,{"$f":"IF(ISERROR(VLOOKUP(C851,BDDG!$A$2:$I$100,9,FALSE)),\"\",VLOOKUP(C851,BDDG!$A$2:$I$100,9,FALSE))","v":"CC20"},null,null,"",{"$f":"IF(ISERROR(VLOOKUP(C851,BDDG!$A$2:$J$100,10,FALSE)),\"\",VLOOKUP(C851,BDDG!$A$2:$J$100,10,FALSE))","v":"DD20"},null,null,"",37.565217391304351,5,2015,{"$f":"IFERROR(INDEX($V$2:V851,MATCH(H851&MAX(IF($H$1:H850=H851,$A$1:A850)),$H$2:H851&$A$2:A851,0))-V851,\"\")","v":7.9084668192219638}]
["2015-05-26",null,862,{"$f":"IF(ISNA(VLOOKUP(C852,BDDG!$A$2:$F$100,2,FALSE)),\"\",VLOOKUP(C852,BDDG!$A$2:$F$100,2,FALSE))","v":0},{"$f":"IF(ISNA(VLOOKUP(C852,BDDG!$A$3:$J$102,3,FALSE)),\"\",VLOOKUP(C852,BDDG!$A$3:$J$102,3,FALSE))","v":"A"},{"$f":"IF(ISNA(VLOOKUP(C852,BDDG!$A$3:$J$102,4,FALSE)),\"\",VLOOKUP(C852,BDDG!$A$3:$J$102,4,FALSE))","v":106},{"$f":"IF(ISNA(VLOOKUP(C852,BDDG!$A$2:$F$100,5,FALSE)),\"\",VLOOKUP(C852,BDDG!$A$2:$F$100,5,FALSE))","v":"A12"},{"$f":"IF(ISNA(VLOOKUP(C852,BDDG!$A$2:$F$100,6,FALSE)),\"\",VLOOKUP(C852,BDDG!$A$2:$F$100,6,FALSE))","v":"AA34"},{"$f":"IF(ISERROR(VLOOKUP(C852,BDDG!$A$2:$G$100,7,FALSE)),\"\",VLOOKUP(C852,BDDG!$A$2:$G$100,7,FALSE))","v":1},{"$f":"IF(ISERROR(VLOOKUP(C852,BDDG!$A$2:$H$100,8,FALSE)),\"\",VLOOKUP(C852,BDDG!$A$2:$H$100,8,FALSE))","v":"BB34"},10,12,72.000000000000014,{"$f":"IF(ISERROR(VLOOKUP(C852,BDDG!$A$2:$I$100,9,FALSE)),\"\",VLOOKUP(C852,BDDG!$A$2:$I$100,9,FALSE))","v":"CC34"},null,null,"",{"$f":"IF(ISERROR(VLOOKUP(C852,BDDG!$A$2:$J$100,10,FALSE)),\"\",VLOOKUP(C852,BDDG!$A$2:$J$100,10,FALSE))","v":"DD34"},null,null,"",72.000000000000014,5,2015,{"$f":"IFERROR(INDEX($V$2:V852,MATCH(H852&MAX(IF($H$1:H851=H852,$A$1:A851)),$H$2:H852&$A$2:A852,0))-V852,\"\")","v":35.999999999999986}]
["2015-05-27",null,842,{"$f":"IF(ISNA(VLOOKUP(C853,BDDG!$A$2:$F$100,2,FALSE)),\"\",VLOOKUP(C853,BDDG!$A$2:$F$100,2,FALSE))","v":0},{"$f":"IF(ISNA(VLOOKUP(C853,BDDG!$A$3:$J$102,3,FALSE)),\"\",VLOOKUP(C853,BDDG!$A$3:$J$102,3,FALSE))","v":"B"},{"$f":"IF(ISNA(VLOOKUP(C853,BDDG!$A$3:$J$102,4,FALSE)),\"\",VLOOKUP(C853,BDDG!$A$3:$J$102,4,FALSE))","v":106},{"$f":"IF(ISNA(VLOOKUP(C853,BDDG!$A$2:$F$100,5,FALSE)),\"\",VLOOKUP(C853,BDDG!$A$2:$F$100,5,FALSE))","v":"A5"},{"$f":"IF(ISNA(VLOOKUP(C853,BDDG!$A$2:$F$100,6,FALSE)),\"\",VLOOKUP(C853,BDDG!$A$2:$F$100,6,FALSE))","v":"AA13"},{"$f":"IF(ISERROR(VLOOKUP(C853,BDDG!$A$2:$G$100,7,FALSE)),\"\",VLOOKUP(C853,BDDG!$A$2:$G$100,7,FALSE))","v":1},{"$f":"IF(ISERROR(VLOOKUP(C853,BDDG!$A$2:$H$100,8,FALSE)),\"\",VLOOKUP(C853,BDDG!$A$2:$H$100,8,FALSE))","v":"BB13"},10,36,24.000000000000004,{"$f":"IF(ISERROR(VLOOKUP(C853,BDDG!$A$2:$I$100,9,FALSE)),\"\",VLOOKUP(C853,BDDG!$A$2:$I$100,9,FALSE))","v":"CC13"},null,null,"",{"$f":"IF(ISERROR(VLOOKUP(C853,BDDG!$A$2:$J$100,10,FALSE)),\"\",VLOOKUP(C853,BDDG!$A$2:$J$100,10,FALSE))","v":"DD13"},null,null,"",24.000000000000004,5,2015,{"$f":"IFERROR(INDEX($V$2:V853,MATCH(H853&MAX(IF($H$1:H852=H853,$A$1:A852)),$H$2:H853&$A$2:A853,0))-V853,\"\")","v":48.000000000000014}]
["2015-05-27",null,848,{"$f":"IF(ISNA(VLOOKUP(C854,BDDG!$A$2:$F$100,2,FALSE)),\"\",VLOOKUP(C854,BDDG!$A$2:$F$100,2,FALSE))","v":0},{"$f":"IF(ISNA(VLOOKUP(C854,BDDG!$A$3:$J$102,3,FALSE)),\"\",VLOOKUP(C854,BDDG!$A$3:$J$102,3,FALSE))","v":"B"},{"$f":"IF(ISNA(VLOOKUP(C854,BDDG!$A$3:$J$102,4,FALSE)),\"\",VLOOKUP(C854,BDDG!$A$3:$J$102,4,FALSE))","v":106},{"$f":"IF(ISNA(VLOOKUP(C854,BDDG!$A$2:$F$100,5,FALSE)),\"\",VLOOKUP(C854,BDDG!$A$2:$F$100,5,FALSE))","v":"A7"},{"$f":"IF(ISNA(VLOOKUP(C854,BDDG!$A$2:$F$100,6,FALSE)),\"\",VLOOKUP(C854,BDDG!$A$2:$F$100,6,FALSE))","v":"AA19"},{"$f":"IF(ISERROR(VLOOKUP(C854,BDDG!$A$2:$G$100,7,FALSE)),\"\",VLOOKUP(C854,BDDG!$A$2:$G$100,7,FALSE))","v":2},{"$f":"IF(ISERROR(VLOOKUP(C854,BDDG!$A$2:$H$100,8,FALSE)),\"\",VLOOKUP(C854,BDDG!$A$2:$H$100,8,FALSE))","v":"BB19"},10,48,18.000000000000004,{"$f":"IF(ISERROR(VLOOKUP(C854,BDDG!$A$2:$I$100,9,FALSE)),\"\",VLOOKUP(C854,BDDG!$A$2:$I$100,9,FALSE))","v":"CC19"},null,null,"",{"$f":"IF(ISERROR(VLOOKUP(C854,BDDG!$A$2:$J$100,10,FALSE)),\"\",VLOOKUP(C854,BDDG!$A$2:$J$100,10,FALSE))","v":"DD19"},null,null,"",18.000000000000004,5,2015,{"$f":"IFERROR(INDEX($V$2:V854,MATCH(H854&MAX(IF($H$1:H853=H854,$A$1:A853)),$H$2:H854&$A$2:A854,0))-V854,\"\")","v":30.000000000000004}]
["2015-05-27",null,860,{"$f":"IF(ISNA(VLOOKUP(C855,BDDG!$A$2:$F$100,2,FALSE)),\"\",VLOOKUP(C855,BDDG!$A$2:$F$100,2,FALSE))","v":0},{"$f":"IF(ISNA(VLOOKUP(C855,BDDG!$A$3:$J$102,3,FALSE)),\"\",VLOOKUP(C855,BDDG!$A$3:$J$102,3,FALSE))","v":"A"},{"$f":"IF(ISNA(VLOOKUP(C855,BDDG!$A$3:$J$102,4,FALSE)),\"\",VLOOKUP(C855,BDDG!$A$3:$J$102,4,FALSE))","v":106},{"$f":"IF(ISNA(VLOOKUP(C855,BDDG!$A$2:$F$100,5,FALSE)),\"\",VLOOKUP(C855,BDDG!$A$2:$F$100,5,FALSE))","v":"A11"},{"$f":"IF(ISNA(VLOOKUP(C855,BDDG!$A$2:$F$100,6,FALSE)),\"\",VLOOKUP(C855,BDDG!$A$2:$F$100,6,FALSE))","v":"AA32"},{"$f":"IF(ISERROR(VLOOKUP(C855,BDDG!$A$2:$G$100,7,FALSE)),\"\",VLOOKUP(C855,BDDG!$A$2:$G$100,7,FALSE))","v":2},{"$f":"IF(ISERROR(VLOOKUP(C855,BDDG!$A$2:$H$100,8,FALSE)),\"\",VLOOKUP(C855,BDDG!$A$2:$H$100,8,FALSE))","v":"BB32"},10,22,39.272727272727273,{"$f":"IF(ISERROR(VLOOKUP(C855,BDDG!$A$2:$I$100,9,FALSE)),\"\",VLOOKUP(C855,BDDG!$A$2:$I$100,9,FALSE))","v":"CC32"},null,null,"",{"$f":"IF(ISERROR(VLOOKUP(C855,BDDG!$A$2:$J$100,10,FALSE)),\"\",VLOOKUP(C855,BDDG!$A$2:$J$100,10,FALSE))","v":"DD32"},null,null,"",39.272727272727273,5,2015,{"$f":"IFERROR(INDEX($V$2:V855,MATCH(H855&MAX(IF($H$1:H854=H855,$A$1:A854)),$H$2:H855&$A$2:A855,0))-V855,\"\")","v":0}]
["2015-05-27",null,847,{"$f":"IF(ISNA(VLOOKUP(C856,BDDG!$A$2:$F$100,2,FALSE)),\"\",VLOOKUP(C856,BDDG!$A$2:$F$100,2,FALSE))","v":0},{"$f":"IF(ISNA(VLOOKUP(C856,BDDG!$A$3:$J$102,3,FALSE)),\"\",VLOOKUP(C856,BDDG!$A$3:$J$102,3,FALSE))","v":"B"},{"$f":"IF(ISNA(VLOOKUP(C856,BDDG!$A$3:$J$102,4,FALSE)),\"\",VLOOKUP(C856,BDDG!$A$3:$J$102,4,FALSE))","v":106},{"$f":"IF(ISNA(VLOOKUP(C856,BDDG!$A$2:$F$100,5,FALSE)),\"\",VLOOKUP(C856,BDDG!$A$2:$F$100,5,FALSE))","v":"A7"},{"$f":"IF(ISNA(VLOOKUP(C856,BDDG!$A$2:$F$100,6,FALSE)),\"\",VLOOKUP(C856,BDDG!$A$2:$F$100,6,FALSE))","v":"AA18"},{"$f":"IF(ISERROR(VLOOKUP(C856,BDDG!$A$2:$G$100,7,FALSE)),\"\",VLOOKUP(C856,BDDG!$A$2:$G$100,7,FALSE))","v":2},{"$f":"IF(ISERROR(VLOOKUP(C856,BDDG!$A$2:$H$100,8,FALSE)),\"\",VLOOKUP(C856,BDDG!$A$2:$H$100,8,FALSE))","v":"BB18"},10,48,18.000000000000004,{"$f":"IF(ISERROR(VLOOKUP(C856,BDDG!$A$2:$I$100,9,FALSE)),\"\",VLOOKUP(C856,BDDG!$A$2:$I$100,9,FALSE))","v":"CC18"},10,58,14.896551724137932,{"$f":"IF(ISERROR(VLOOKUP(C856,BDDG!$A$2:$J$100,10,FALSE)),\"\",VLOOKUP(C856,BDDG!$A$2:$J$100,10,FALSE))","v":"DD18"},null,null,"",32.896551724137936,5,2015,{"$f":"IFERROR(INDEX($V$2:V856,MATCH(H856&MAX(IF($H$1:H855=H856,$A$1:A855)),$H$2:H856&$A$2:A856,0))-V856,\"\")","v":201.6177339901478}]
["2015-05-27",null,861,{"$f":"IF(ISNA(VLOOKUP(C857,BDDG!$A$2:$F$100,2,FALSE)),\"\",VLOOKUP(C857,BDDG!$A$2:$F$100,2,FALSE))","v":0},{"$f":"IF(ISNA(VLOOKUP(C857,BDDG!$A$3:$J$102,3,FALSE)),\"\",VLOOKUP(C857,BDDG!$A$3:$J$102,3,FALSE))","v":"A"},{"$f":"IF(ISNA(VLOOKUP(C857,BDDG!$A$3:$J$102,4,FALSE)),\"\",VLOOKUP(C857,BDDG!$A$3:$J$102,4,FALSE))","v":106},{"$f":"IF(ISNA(VLOOKUP(C857,BDDG!$A$2:$F$100,5,FALSE)),\"\",VLOOKUP(C857,BDDG!$A$2:$F$100,5,FALSE))","v":"A11"},{"$f":"IF(ISNA(VLOOKUP(C857,BDDG!$A$2:$F$100,6,FALSE)),\"\",VLOOKUP(C857,BDDG!$A$2:$F$100,6,FALSE))","v":"AA33"},{"$f":"IF(ISERROR(VLOOKUP(C857,BDDG!$A$2:$G$100,7,FALSE)),\"\",VLOOKUP(C857,BDDG!$A$2:$G$100,7,FALSE))","v":2},{"$f":"IF(ISERROR(VLOOKUP(C857,BDDG!$A$2:$H$100,8,FALSE)),\"\",VLOOKUP(C857,BDDG!$A$2:$H$100,8,FALSE))","v":"BB33"},null,null,null,{"$f":"IF(ISERROR(VLOOKUP(C857,BDDG!$A$2:$I$100,9,FALSE)),\"\",VLOOKUP(C857,BDDG!$A$2:$I$100,9,FALSE))","v":"CC33"},10,5,172.8,{"$f":"IF(ISERROR(VLOOKUP(C857,BDDG!$A$2:$J$100,10,FALSE)),\"\",VLOOKUP(C857,BDDG!$A$2:$J$100,10,FALSE))","v":"DD33"},null,null,"",{"$f":"IF(ISERROR(SUM(M857,Q857,U857)),\"\",SUM((M857,Q857,U857)))","v":172.8},5,2015,{"$f":"IFERROR(INDEX($V$2:V857,MATCH(H857&MAX(IF($H$1:H856=H857,$A$1:A856)),$H$2:H857&$A$2:A857,0))-V857,\"\")","v":43.199999999999989}]
["2015-05-27",null,849,{"$f":"IF(ISNA(VLOOKUP(C858,BDDG!$A$2:$F$100,2,FALSE)),\"\",VLOOKUP(C858,BDDG!$A$2:$F$100,2,FALSE))","v":0},{"$f":"IF(ISNA(VLOOKUP(C858,BDDG!$A$3:$J$102,3,FALSE)),\"\",VLOOKUP(C858,BDDG!$A$3:$J$102,3,FALSE))","v":"B"},{"$f":"IF(ISNA(VLOOKUP(C858,BDDG!$A$3:$J$102,4,FALSE)),\"\",VLOOKUP(C858,BDDG!$A$3:$J$102,4,FALSE))","v":106},{"$f":"IF(ISNA(VLOOKUP(C858,BDDG!$A$2:$F$100,5,FALSE)),\"\",VLOOKUP(C858,BDDG!$A$2:$F$100,5,FALSE))","v":"A7"},{"$f":"IF(ISNA(VLOOKUP(C858,BDDG!$A$2:$F$100,6,FALSE)),\"\",VLOOKUP(C858,BDDG!$A$2:$F$100,6,FALSE))","v":"AA15"},{"$f":"IF(ISERROR(VLOOKUP(C858,BDDG!$A$2:$G$100,7,FALSE)),\"\",VLOOKUP(C858,BDDG!$A$2:$G$100,7,FALSE))","v":2},{"$f":"IF(ISERROR(VLOOKUP(C858,BDDG!$A$2:$H$100,8,FALSE)),\"\",VLOOKUP(C858,BDDG!$A$2:$H$100,8,FALSE))","v":"BB15"},10,38,{"$f":" IF(ISERROR(K858/L858*86.4),\"\",K858/L858*86.4)","v":22.736842105263158},{"$f":"IF(ISERROR(VLOOKUP(C858,BDDG!$A$2:$I$100,9,FALSE)),\"\",VLOOKUP(C858,BDDG!$A$2:$I$100,9,FALSE))","v":"CC15"},2,15,11.520000000000001,{"$f":"IF(ISERROR(VLOOKUP(C858,BDDG!$A$2:$J$100,10,FALSE)),\"\",VLOOKUP(C858,BDDG!$A$2:$J$100,10,FALSE))","v":"DD15"},null,null,"",{"$f":"IF(ISERROR(SUM(M858,Q858,U858)),\"\",SUM(M858,Q858,U858))","v":34.256842105263161},5,2015,{"$f":"IFERROR(INDEX($V$2:V858,MATCH(H858&MAX(IF($H$1:H857=H858,$A$1:A857)),$H$2:H858&$A$2:A858,0))-V858,\"\")","v":25.614125636672327}]
["2015-06-02",null,865,{"$f":"IF(ISNA(VLOOKUP(C859,BDDG!$A$2:$F$100,2,FALSE)),\"\",VLOOKUP(C859,BDDG!$A$2:$F$100,2,FALSE))","v":0},{"$f":"IF(ISNA(VLOOKUP(C859,BDDG!$A$3:$J$102,3,FALSE)),\"\",VLOOKUP(C859,BDDG!$A$3:$J$102,3,FALSE))","v":"A"},{"$f":"IF(ISNA(VLOOKUP(C859,BDDG!$A$3:$J$102,4,FALSE)),\"\",VLOOKUP(C859,BDDG!$A$3:$J$102,4,FALSE))","v":106},{"$f":"IF(ISNA(VLOOKUP(C859,BDDG!$A$2:$F$100,5,FALSE)),\"\",VLOOKUP(C859,BDDG!$A$2:$F$100,5,FALSE))","v":"A15"},{"$f":"IF(ISNA(VLOOKUP(C859,BDDG!$A$2:$F$100,6,FALSE)),\"\",VLOOKUP(C859,BDDG!$A$2:$F$100,6,FALSE))","v":"AA37"},{"$f":"IF(ISERROR(VLOOKUP(C859,BDDG!$A$2:$G$100,7,FALSE)),\"\",VLOOKUP(C859,BDDG!$A$2:$G$100,7,FALSE))","v":1},{"$f":"IF(ISERROR(VLOOKUP(C859,BDDG!$A$2:$H$100,8,FALSE)),\"\",VLOOKUP(C859,BDDG!$A$2:$H$100,8,FALSE))","v":"BB37"},3,82,3.1609756097560977,{"$f":"IF(ISERROR(VLOOKUP(C859,BDDG!$A$2:$I$100,9,FALSE)),\"\",VLOOKUP(C859,BDDG!$A$2:$I$100,9,FALSE))","v":"CC37"},null,null,"",{"$f":"IF(ISERROR(VLOOKUP(C859,BDDG!$A$2:$J$100,10,FALSE)),\"\",VLOOKUP(C859,BDDG!$A$2:$J$100,10,FALSE))","v":"DD37"},null,null,"",3.1609756097560977,6,2015,{"$f":"IFERROR(INDEX($V$2:V859,MATCH(H859&MAX(IF($H$1:H858=H859,$A$1:A858)),$H$2:H859&$A$2:A859,0))-V859,\"\")","v":""}]
["2015-06-04",null,870,{"$f":"IF(ISNA(VLOOKUP(C860,BDDG!$A$2:$F$100,2,FALSE)),\"\",VLOOKUP(C860,BDDG!$A$2:$F$100,2,FALSE))","v":0},{"$f":"IF(ISNA(VLOOKUP(C860,BDDG!$A$3:$J$102,3,FALSE)),\"\",VLOOKUP(C860,BDDG!$A$3:$J$102,3,FALSE))","v":"A"},{"$f":"IF(ISNA(VLOOKUP(C860,BDDG!$A$3:$J$102,4,FALSE)),\"\",VLOOKUP(C860,BDDG!$A$3:$J$102,4,FALSE))","v":108},{"$f":"IF(ISNA(VLOOKUP(C860,BDDG!$A$2:$F$100,5,FALSE)),\"\",VLOOKUP(C860,BDDG!$A$2:$F$100,5,FALSE))","v":"A16"},{"$f":"IF(ISNA(VLOOKUP(C860,BDDG!$A$2:$F$100,6,FALSE)),\"\",VLOOKUP(C860,BDDG!$A$2:$F$100,6,FALSE))","v":"AA41"},{"$f":"IF(ISERROR(VLOOKUP(C860,BDDG!$A$2:$G$100,7,FALSE)),\"\",VLOOKUP(C860,BDDG!$A$2:$G$100,7,FALSE))","v":2},{"$f":"IF(ISERROR(VLOOKUP(C860,BDDG!$A$2:$H$100,8,FALSE)),\"\",VLOOKUP(C860,BDDG!$A$2:$H$100,8,FALSE))","v":"BB41"},2,38,4.5473684210526315,{"$f":"IF(ISERROR(VLOOKUP(C860,BDDG!$A$2:$I$100,9,FALSE)),\"\",VLOOKUP(C860,BDDG!$A$2:$I$100,9,FALSE))","v":"CC41"},2,84,2.0571428571428574,{"$f":"IF(ISERROR(VLOOKUP(C860,BDDG!$A$2:$J$100,10,FALSE)),\"\",VLOOKUP(C860,BDDG!$A$2:$J$100,10,FALSE))","v":"DD41"},null,null,"",6.6045112781954884,6,2015,{"$f":"IFERROR(INDEX($V$2:V860,MATCH(H860&MAX(IF($H$1:H859=H860,$A$1:A859)),$H$2:H860&$A$2:A860,0))-V860,\"\")","v":-1.4065757943245201}]
["2015-06-05",null,852,{"$f":"IF(ISNA(VLOOKUP(C861,BDDG!$A$2:$F$100,2,FALSE)),\"\",VLOOKUP(C861,BDDG!$A$2:$F$100,2,FALSE))","v":0},{"$f":"IF(ISNA(VLOOKUP(C861,BDDG!$A$3:$J$102,3,FALSE)),\"\",VLOOKUP(C861,BDDG!$A$3:$J$102,3,FALSE))","v":"A"},{"$f":"IF(ISNA(VLOOKUP(C861,BDDG!$A$3:$J$102,4,FALSE)),\"\",VLOOKUP(C861,BDDG!$A$3:$J$102,4,FALSE))","v":106},{"$f":"IF(ISNA(VLOOKUP(C861,BDDG!$A$2:$F$100,5,FALSE)),\"\",VLOOKUP(C861,BDDG!$A$2:$F$100,5,FALSE))","v":"A9"},{"$f":"IF(ISNA(VLOOKUP(C861,BDDG!$A$2:$F$100,6,FALSE)),\"\",VLOOKUP(C861,BDDG!$A$2:$F$100,6,FALSE))","v":"AA22"},{"$f":"IF(ISERROR(VLOOKUP(C861,BDDG!$A$2:$G$100,7,FALSE)),\"\",VLOOKUP(C861,BDDG!$A$2:$G$100,7,FALSE))","v":1},{"$f":"IF(ISERROR(VLOOKUP(C861,BDDG!$A$2:$H$100,8,FALSE)),\"\",VLOOKUP(C861,BDDG!$A$2:$H$100,8,FALSE))","v":"BB22"},10,49,17.632653061224492,{"$f":"IF(ISERROR(VLOOKUP(C861,BDDG!$A$2:$I$100,9,FALSE)),\"\",VLOOKUP(C861,BDDG!$A$2:$I$100,9,FALSE))","v":"CC22"},null,null,"",{"$f":"IF(ISERROR(VLOOKUP(C861,BDDG!$A$2:$J$100,10,FALSE)),\"\",VLOOKUP(C861,BDDG!$A$2:$J$100,10,FALSE))","v":"DD22"},null,null,"",17.632653061224492,6,2015,{"$f":"IFERROR(INDEX($V$2:V861,MATCH(H861&MAX(IF($H$1:H860=H861,$A$1:A860)),$H$2:H861&$A$2:A861,0))-V861,\"\")","v":5.1041890440386659}]
["2015-06-09",null,832,{"$f":"IF(ISNA(VLOOKUP(C862,BDDG!$A$2:$F$100,2,FALSE)),\"\",VLOOKUP(C862,BDDG!$A$2:$F$100,2,FALSE))","v":0},{"$f":"IF(ISNA(VLOOKUP(C862,BDDG!$A$3:$J$102,3,FALSE)),\"\",VLOOKUP(C862,BDDG!$A$3:$J$102,3,FALSE))","v":"A"},{"$f":"IF(ISNA(VLOOKUP(C862,BDDG!$A$3:$J$102,4,FALSE)),\"\",VLOOKUP(C862,BDDG!$A$3:$J$102,4,FALSE))","v":106},{"$f":"IF(ISNA(VLOOKUP(C862,BDDG!$A$2:$F$100,5,FALSE)),\"\",VLOOKUP(C862,BDDG!$A$2:$F$100,5,FALSE))","v":"A2"},{"$f":"IF(ISNA(VLOOKUP(C862,BDDG!$A$2:$F$100,6,FALSE)),\"\",VLOOKUP(C862,BDDG!$A$2:$F$100,6,FALSE))","v":"AA2"},{"$f":"IF(ISERROR(VLOOKUP(C862,BDDG!$A$2:$G$100,7,FALSE)),\"\",VLOOKUP(C862,BDDG!$A$2:$G$100,7,FALSE))","v":1},{"$f":"IF(ISERROR(VLOOKUP(C862,BDDG!$A$2:$H$100,8,FALSE)),\"\",VLOOKUP(C862,BDDG!$A$2:$H$100,8,FALSE))","v":"BB2"},10,61,14.163934426229508,{"$f":"IF(ISERROR(VLOOKUP(C862,BDDG!$A$2:$I$100,9,FALSE)),\"\",VLOOKUP(C862,BDDG!$A$2:$I$100,9,FALSE))","v":"CC2"},null,null,{"$f":" IF(ISERROR(O862/P862*86.4),\"\",O862/P862*86.4)","v":""},{"$f":"IF(ISERROR(VLOOKUP(C862,BDDG!$A$2:$J$100,10,FALSE)),\"\",VLOOKUP(C862,BDDG!$A$2:$J$100,10,FALSE))","v":"DD2"},null,null,"",14.163934426229508,6,2015,{"$f":"IFERROR(INDEX($V$2:V862,MATCH(H862&MAX(IF($H$1:H861=H862,$A$1:A861)),$H$2:H862&$A$2:A862,0))-V862,\"\")","v":8.5729076790336496}]
["2015-06-09",null,833,{"$f":"IF(ISNA(VLOOKUP(C863,BDDG!$A$2:$F$100,2,FALSE)),\"\",VLOOKUP(C863,BDDG!$A$2:$F$100,2,FALSE))","v":0},{"$f":"IF(ISNA(VLOOKUP(C863,BDDG!$A$3:$J$102,3,FALSE)),\"\",VLOOKUP(C863,BDDG!$A$3:$J$102,3,FALSE))","v":"A"},{"$f":"IF(ISNA(VLOOKUP(C863,BDDG!$A$3:$J$102,4,FALSE)),\"\",VLOOKUP(C863,BDDG!$A$3:$J$102,4,FALSE))","v":106},{"$f":"IF(ISNA(VLOOKUP(C863,BDDG!$A$2:$F$100,5,FALSE)),\"\",VLOOKUP(C863,BDDG!$A$2:$F$100,5,FALSE))","v":"A2"},{"$f":"IF(ISNA(VLOOKUP(C863,BDDG!$A$2:$F$100,6,FALSE)),\"\",VLOOKUP(C863,BDDG!$A$2:$F$100,6,FALSE))","v":"AA3"},{"$f":"IF(ISERROR(VLOOKUP(C863,BDDG!$A$2:$G$100,7,FALSE)),\"\",VLOOKUP(C863,BDDG!$A$2:$G$100,7,FALSE))","v":1},{"$f":"IF(ISERROR(VLOOKUP(C863,BDDG!$A$2:$H$100,8,FALSE)),\"\",VLOOKUP(C863,BDDG!$A$2:$H$100,8,FALSE))","v":"BB3"},10,17.3,49.942196531791907,{"$f":"IF(ISERROR(VLOOKUP(C863,BDDG!$A$2:$I$100,9,FALSE)),\"\",VLOOKUP(C863,BDDG!$A$2:$I$100,9,FALSE))","v":"CC3"},null,null,"",{"$f":"IF(ISERROR(VLOOKUP(C863,BDDG!$A$2:$J$100,10,FALSE)),\"\",VLOOKUP(C863,BDDG!$A$2:$J$100,10,FALSE))","v":"DD3"},null,null,"",49.942196531791907,6,2015,{"$f":"IFERROR(INDEX($V$2:V863,MATCH(H863&MAX(IF($H$1:H862=H863,$A$1:A862)),$H$2:H863&$A$2:A863,0))-V863,\"\")","v":28.603258013662639}]
["2015-06-09",null,834,{"$f":"IF(ISNA(VLOOKUP(C864,BDDG!$A$2:$F$100,2,FALSE)),\"\",VLOOKUP(C864,BDDG!$A$2:$F$100,2,FALSE))","v":0},{"$f":"IF(ISNA(VLOOKUP(C864,BDDG!$A$3:$J$102,3,FALSE)),\"\",VLOOKUP(C864,BDDG!$A$3:$J$102,3,FALSE))","v":"A"},{"$f":"IF(ISNA(VLOOKUP(C864,BDDG!$A$3:$J$102,4,FALSE)),\"\",VLOOKUP(C864,BDDG!$A$3:$J$102,4,FALSE))","v":106},{"$f":"IF(ISNA(VLOOKUP(C864,BDDG!$A$2:$F$100,5,FALSE)),\"\",VLOOKUP(C864,BDDG!$A$2:$F$100,5,FALSE))","v":"A2"},{"$f":"IF(ISNA(VLOOKUP(C864,BDDG!$A$2:$F$100,6,FALSE)),\"\",VLOOKUP(C864,BDDG!$A$2:$F$100,6,FALSE))","v":"AA4"},{"$f":"IF(ISERROR(VLOOKUP(C864,BDDG!$A$2:$G$100,7,FALSE)),\"\",VLOOKUP(C864,BDDG!$A$2:$G$100,7,FALSE))","v":1},{"$f":"IF(ISERROR(VLOOKUP(C864,BDDG!$A$2:$H$100,8,FALSE)),\"\",VLOOKUP(C864,BDDG!$A$2:$H$100,8,FALSE))","v":"BB4"},10,40,21.6,{"$f":"IF(ISERROR(VLOOKUP(C864,BDDG!$A$2:$I$100,9,FALSE)),\"\",VLOOKUP(C864,BDDG!$A$2:$I$100,9,FALSE))","v":"CC4"},null,null,"",{"$f":"IF(ISERROR(VLOOKUP(C864,BDDG!$A$2:$J$100,10,FALSE)),\"\",VLOOKUP(C864,BDDG!$A$2:$J$100,10,FALSE))","v":"DD4"},null,null,"",21.6,6,2015,{"$f":"IFERROR(INDEX($V$2:V864,MATCH(H864&MAX(IF($H$1:H863=H864,$A$1:A863)),$H$2:H864&$A$2:A864,0))-V864,\"\")","v":23.873684210526314}]
["2015-06-10",null,859,{"$f":"IF(ISNA(VLOOKUP(C865,BDDG!$A$2:$F$100,2,FALSE)),\"\",VLOOKUP(C865,BDDG!$A$2:$F$100,2,FALSE))","v":0},{"$f":"IF(ISNA(VLOOKUP(C865,BDDG!$A$3:$J$102,3,FALSE)),\"\",VLOOKUP(C865,BDDG!$A$3:$J$102,3,FALSE))","v":"A"},{"$f":"IF(ISNA(VLOOKUP(C865,BDDG!$A$3:$J$102,4,FALSE)),\"\",VLOOKUP(C865,BDDG!$A$3:$J$102,4,FALSE))","v":106},{"$f":"IF(ISNA(VLOOKUP(C865,BDDG!$A$2:$F$100,5,FALSE)),\"\",VLOOKUP(C865,BDDG!$A$2:$F$100,5,FALSE))","v":"A10"},{"$f":"IF(ISNA(VLOOKUP(C865,BDDG!$A$2:$F$100,6,FALSE)),\"\",VLOOKUP(C865,BDDG!$A$2:$F$100,6,FALSE))","v":"AA30"},{"$f":"IF(ISERROR(VLOOKUP(C865,BDDG!$A$2:$G$100,7,FALSE)),\"\",VLOOKUP(C865,BDDG!$A$2:$G$100,7,FALSE))","v":1},{"$f":"IF(ISERROR(VLOOKUP(C865,BDDG!$A$2:$H$100,8,FALSE)),\"\",VLOOKUP(C865,BDDG!$A$2:$H$100,8,FALSE))","v":"BB30"},4,95,3.6378947368421053,null,null,null,"",{"$f":"IF(ISERROR(VLOOKUP(C865,BDDG!$A$2:$J$100,10,FALSE)),\"\",VLOOKUP(C865,BDDG!$A$2:$J$100,10,FALSE))","v":"DD30"},null,null,"",3.6378947368421053,6,2015,{"$f":"IFERROR(INDEX($V$2:V865,MATCH(H865&MAX(IF($H$1:H864=H865,$A$1:A864)),$H$2:H865&$A$2:A865,0))-V865,\"\")","v":1.4021052631578947}]
["2015-06-11",null,880,{"$f":"IF(ISNA(VLOOKUP(C866,BDDG!$A$2:$F$100,2,FALSE)),\"\",VLOOKUP(C866,BDDG!$A$2:$F$100,2,FALSE))","v":0},{"$f":"IF(ISNA(VLOOKUP(C866,BDDG!$A$3:$J$102,3,FALSE)),\"\",VLOOKUP(C866,BDDG!$A$3:$J$102,3,FALSE))","v":"C"},{"$f":"IF(ISNA(VLOOKUP(C866,BDDG!$A$3:$J$102,4,FALSE)),\"\",VLOOKUP(C866,BDDG!$A$3:$J$102,4,FALSE))","v":108},{"$f":"IF(ISNA(VLOOKUP(C866,BDDG!$A$2:$F$100,5,FALSE)),\"\",VLOOKUP(C866,BDDG!$A$2:$F$100,5,FALSE))","v":"A19"},{"$f":"IF(ISNA(VLOOKUP(C866,BDDG!$A$2:$F$100,6,FALSE)),\"\",VLOOKUP(C866,BDDG!$A$2:$F$100,6,FALSE))","v":"AA54"},{"$f":"IF(ISERROR(VLOOKUP(C866,BDDG!$A$2:$G$100,7,FALSE)),\"\",VLOOKUP(C866,BDDG!$A$2:$G$100,7,FALSE))","v":2},{"$f":"IF(ISERROR(VLOOKUP(C866,BDDG!$A$2:$H$100,8,FALSE)),\"\",VLOOKUP(C866,BDDG!$A$2:$H$100,8,FALSE))","v":"BB54"},5,12,36.000000000000007,{"$f":"IF(ISERROR(VLOOKUP(C866,BDDG!$A$2:$I$100,9,FALSE)),\"\",VLOOKUP(C866,BDDG!$A$2:$I$100,9,FALSE))","v":"CC54"},5,5.7,75.78947368421052,{"$f":"IF(ISERROR(VLOOKUP(C866,BDDG!$A$2:$J$100,10,FALSE)),\"\",VLOOKUP(C866,BDDG!$A$2:$J$100,10,FALSE))","v":"DD54"},null,null,"",111.78947368421052,6,2015,{"$f":"IFERROR(INDEX($V$2:V866,MATCH(H866&MAX(IF($H$1:H865=H866,$A$1:A865)),$H$2:H866&$A$2:A866,0))-V866,\"\")","v":3.4105263157894825}]
["2015-06-11",null,878,{"$f":"IF(ISNA(VLOOKUP(C867,BDDG!$A$2:$F$100,2,FALSE)),\"\",VLOOKUP(C867,BDDG!$A$2:$F$100,2,FALSE))","v":0},{"$f":"IF(ISNA(VLOOKUP(C867,BDDG!$A$3:$J$102,3,FALSE)),\"\",VLOOKUP(C867,BDDG!$A$3:$J$102,3,FALSE))","v":"C"},{"$f":"IF(ISNA(VLOOKUP(C867,BDDG!$A$3:$J$102,4,FALSE)),\"\",VLOOKUP(C867,BDDG!$A$3:$J$102,4,FALSE))","v":108},{"$f":"IF(ISNA(VLOOKUP(C867,BDDG!$A$2:$F$100,5,FALSE)),\"\",VLOOKUP(C867,BDDG!$A$2:$F$100,5,FALSE))","v":"A19"},{"$f":"IF(ISNA(VLOOKUP(C867,BDDG!$A$2:$F$100,6,FALSE)),\"\",VLOOKUP(C867,BDDG!$A$2:$F$100,6,FALSE))","v":"AA52"},{"$f":"IF(ISERROR(VLOOKUP(C867,BDDG!$A$2:$G$100,7,FALSE)),\"\",VLOOKUP(C867,BDDG!$A$2:$G$100,7,FALSE))","v":1},{"$f":"IF(ISERROR(VLOOKUP(C867,BDDG!$A$2:$H$100,8,FALSE)),\"\",VLOOKUP(C867,BDDG!$A$2:$H$100,8,FALSE))","v":"BB52"},5,20,21.6,{"$f":"IF(ISERROR(VLOOKUP(C867,BDDG!$A$2:$I$100,9,FALSE)),\"\",VLOOKUP(C867,BDDG!$A$2:$I$100,9,FALSE))","v":"CC52"},null,null,"",{"$f":"IF(ISERROR(VLOOKUP(C867,BDDG!$A$2:$J$100,10,FALSE)),\"\",VLOOKUP(C867,BDDG!$A$2:$J$100,10,FALSE))","v":"DD52"},null,null,"",21.6,6,2015,{"$f":"IFERROR(INDEX($V$2:V867,MATCH(H867&MAX(IF($H$1:H866=H867,$A$1:A866)),$H$2:H867&$A$2:A867,0))-V867,\"\")","v":19.998459316321622}]
["2015-06-11",null,876,{"$f":"IF(ISNA(VLOOKUP(C868,BDDG!$A$2:$F$100,2,FALSE)),\"\",VLOOKUP(C868,BDDG!$A$2:$F$100,2,FALSE))","v":0},{"$f":"IF(ISNA(VLOOKUP(C868,BDDG!$A$3:$J$102,3,FALSE)),\"\",VLOOKUP(C868,BDDG!$A$3:$J$102,3,FALSE))","v":"C"},{"$f":"IF(ISNA(VLOOKUP(C868,BDDG!$A$3:$J$102,4,FALSE)),\"\",VLOOKUP(C868,BDDG!$A$3:$J$102,4,FALSE))","v":108},{"$f":"IF(ISNA(VLOOKUP(C868,BDDG!$A$2:$F$100,5,FALSE)),\"\",VLOOKUP(C868,BDDG!$A$2:$F$100,5,FALSE))","v":"A18"},{"$f":"IF(ISNA(VLOOKUP(C868,BDDG!$A$2:$F$100,6,FALSE)),\"\",VLOOKUP(C868,BDDG!$A$2:$F$100,6,FALSE))","v":"AA49"},{"$f":"IF(ISERROR(VLOOKUP(C868,BDDG!$A$2:$G$100,7,FALSE)),\"\",VLOOKUP(C868,BDDG!$A$2:$G$100,7,FALSE))","v":2},{"$f":"IF(ISERROR(VLOOKUP(C868,BDDG!$A$2:$H$100,8,FALSE)),\"\",VLOOKUP(C868,BDDG!$A$2:$H$100,8,FALSE))","v":"BB49"},10,8,108,{"$f":"IF(ISERROR(VLOOKUP(C868,BDDG!$A$2:$I$100,9,FALSE)),\"\",VLOOKUP(C868,BDDG!$A$2:$I$100,9,FALSE))","v":"CC49"},10,75,11.520000000000001,{"$f":"IF(ISERROR(VLOOKUP(C868,BDDG!$A$2:$J$100,10,FALSE)),\"\",VLOOKUP(C868,BDDG!$A$2:$J$100,10,FALSE))","v":"DD49"},null,null,"",119.52,6,2015,{"$f":"IFERROR(INDEX($V$2:V868,MATCH(H868&MAX(IF($H$1:H867=H868,$A$1:A867)),$H$2:H868&$A$2:A868,0))-V868,\"\")","v":10.60872570194384}]
["2015-06-12",null,857,{"$f":"IF(ISNA(VLOOKUP(C869,BDDG!$A$2:$F$100,2,FALSE)),\"\",VLOOKUP(C869,BDDG!$A$2:$F$100,2,FALSE))","v":0},{"$f":"IF(ISNA(VLOOKUP(C869,BDDG!$A$3:$J$102,3,FALSE)),\"\",VLOOKUP(C869,BDDG!$A$3:$J$102,3,FALSE))","v":"A"},{"$f":"IF(ISNA(VLOOKUP(C869,BDDG!$A$3:$J$102,4,FALSE)),\"\",VLOOKUP(C869,BDDG!$A$3:$J$102,4,FALSE))","v":106},{"$f":"IF(ISNA(VLOOKUP(C869,BDDG!$A$2:$F$100,5,FALSE)),\"\",VLOOKUP(C869,BDDG!$A$2:$F$100,5,FALSE))","v":"A9"},{"$f":"IF(ISNA(VLOOKUP(C869,BDDG!$A$2:$F$100,6,FALSE)),\"\",VLOOKUP(C869,BDDG!$A$2:$F$100,6,FALSE))","v":"AA28"},{"$f":"IF(ISERROR(VLOOKUP(C869,BDDG!$A$2:$G$100,7,FALSE)),\"\",VLOOKUP(C869,BDDG!$A$2:$G$100,7,FALSE))","v":1},{"$f":"IF(ISERROR(VLOOKUP(C869,BDDG!$A$2:$H$100,8,FALSE)),\"\",VLOOKUP(C869,BDDG!$A$2:$H$100,8,FALSE))","v":"BB28"},10,57,15.157894736842106,{"$f":"IF(ISERROR(VLOOKUP(C869,BDDG!$A$2:$I$100,9,FALSE)),\"\",VLOOKUP(C869,BDDG!$A$2:$I$100,9,FALSE))","v":"CC28"},10,5,172.8,{"$f":"IF(ISERROR(VLOOKUP(C869,BDDG!$A$2:$J$100,10,FALSE)),\"\",VLOOKUP(C869,BDDG!$A$2:$J$100,10,FALSE))","v":"DD28"},null,null,"",187.95789473684212,6,2015,{"$f":"IFERROR(INDEX($V$2:V869,MATCH(H869&MAX(IF($H$1:H868=H869,$A$1:A868)),$H$2:H869&$A$2:A869,0))-V869,\"\")","v":""}]
["2015-06-12",null,854,{"$f":"IF(ISNA(VLOOKUP(C870,BDDG!$A$2:$F$100,2,FALSE)),\"\",VLOOKUP(C870,BDDG!$A$2:$F$100,2,FALSE))","v":0},{"$f":"IF(ISNA(VLOOKUP(C870,BDDG!$A$3:$J$102,3,FALSE)),\"\",VLOOKUP(C870,BDDG!$A$3:$J$102,3,FALSE))","v":"A"},{"$f":"IF(ISNA(VLOOKUP(C870,BDDG!$A$3:$J$102,4,FALSE)),\"\",VLOOKUP(C870,BDDG!$A$3:$J$102,4,FALSE))","v":106},{"$f":"IF(ISNA(VLOOKUP(C870,BDDG!$A$2:$F$100,5,FALSE)),\"\",VLOOKUP(C870,BDDG!$A$2:$F$100,5,FALSE))","v":"A9"},{"$f":"IF(ISNA(VLOOKUP(C870,BDDG!$A$2:$F$100,6,FALSE)),\"\",VLOOKUP(C870,BDDG!$A$2:$F$100,6,FALSE))","v":"AA25"},{"$f":"IF(ISERROR(VLOOKUP(C870,BDDG!$A$2:$G$100,7,FALSE)),\"\",VLOOKUP(C870,BDDG!$A$2:$G$100,7,FALSE))","v":2},{"$f":"IF(ISERROR(VLOOKUP(C870,BDDG!$A$2:$H$100,8,FALSE)),\"\",VLOOKUP(C870,BDDG!$A$2:$H$100,8,FALSE))","v":"BB25"},10,5,172.8,{"$f":"IF(ISERROR(VLOOKUP(C870,BDDG!$A$2:$I$100,9,FALSE)),\"\",VLOOKUP(C870,BDDG!$A$2:$I$100,9,FALSE))","v":"CC25"},null,null,"",{"$f":"IF(ISERROR(VLOOKUP(C870,BDDG!$A$2:$J$100,10,FALSE)),\"\",VLOOKUP(C870,BDDG!$A$2:$J$100,10,FALSE))","v":"DD25"},null,null,"",172.8,6,2015,{"$f":"IFERROR(INDEX($V$2:V870,MATCH(H870&MAX(IF($H$1:H869=H870,$A$1:A869)),$H$2:H870&$A$2:A870,0))-V870,\"\")","v":259.2}]
["2015-06-12",null,855,{"$f":"IF(ISNA(VLOOKUP(C871,BDDG!$A$2:$F$100,2,FALSE)),\"\",VLOOKUP(C871,BDDG!$A$2:$F$100,2,FALSE))","v":0},{"$f":"IF(ISNA(VLOOKUP(C871,BDDG!$A$3:$J$102,3,FALSE)),\"\",VLOOKUP(C871,BDDG!$A$3:$J$102,3,FALSE))","v":"A"},{"$f":"IF(ISNA(VLOOKUP(C871,BDDG!$A$3:$J$102,4,FALSE)),\"\",VLOOKUP(C871,BDDG!$A$3:$J$102,4,FALSE))","v":106},{"$f":"IF(ISNA(VLOOKUP(C871,BDDG!$A$2:$F$100,5,FALSE)),\"\",VLOOKUP(C871,BDDG!$A$2:$F$100,5,FALSE))","v":"A9"},{"$f":"IF(ISNA(VLOOKUP(C871,BDDG!$A$2:$F$100,6,FALSE)),\"\",VLOOKUP(C871,BDDG!$A$2:$F$100,6,FALSE))","v":"AA26"},{"$f":"IF(ISERROR(VLOOKUP(C871,BDDG!$A$2:$G$100,7,FALSE)),\"\",VLOOKUP(C871,BDDG!$A$2:$G$100,7,FALSE))","v":2},{"$f":"IF(ISERROR(VLOOKUP(C871,BDDG!$A$2:$H$100,8,FALSE)),\"\",VLOOKUP(C871,BDDG!$A$2:$H$100,8,FALSE))","v":"BB26"},10,9,96.000000000000014,{"$f":"IF(ISERROR(VLOOKUP(C871,BDDG!$A$2:$I$100,9,FALSE)),\"\",VLOOKUP(C871,BDDG!$A$2:$I$100,9,FALSE))","v":"CC26"},10,26,33.230769230769234,{"$f":"IF(ISERROR(VLOOKUP(C871,BDDG!$A$2:$J$100,10,FALSE)),\"\",VLOOKUP(C871,BDDG!$A$2:$J$100,10,FALSE))","v":"DD26"},null,null,"",129.23076923076925,6,2015,{"$f":"IFERROR(INDEX($V$2:V871,MATCH(H871&MAX(IF($H$1:H870=H871,$A$1:A870)),$H$2:H871&$A$2:A871,0))-V871,\"\")","v":245.16923076923084}]
["2015-06-12",null,856,{"$f":"IF(ISNA(VLOOKUP(C872,BDDG!$A$2:$F$100,2,FALSE)),\"\",VLOOKUP(C872,BDDG!$A$2:$F$100,2,FALSE))","v":0},{"$f":"IF(ISNA(VLOOKUP(C872,BDDG!$A$3:$J$102,3,FALSE)),\"\",VLOOKUP(C872,BDDG!$A$3:$J$102,3,FALSE))","v":"A"},{"$f":"IF(ISNA(VLOOKUP(C872,BDDG!$A$3:$J$102,4,FALSE)),\"\",VLOOKUP(C872,BDDG!$A$3:$J$102,4,FALSE))","v":106},{"$f":"IF(ISNA(VLOOKUP(C872,BDDG!$A$2:$F$100,5,FALSE)),\"\",VLOOKUP(C872,BDDG!$A$2:$F$100,5,FALSE))","v":"A9"},{"$f":"IF(ISNA(VLOOKUP(C872,BDDG!$A$2:$F$100,6,FALSE)),\"\",VLOOKUP(C872,BDDG!$A$2:$F$100,6,FALSE))","v":"AA27"},{"$f":"IF(ISERROR(VLOOKUP(C872,BDDG!$A$2:$G$100,7,FALSE)),\"\",VLOOKUP(C872,BDDG!$A$2:$G$100,7,FALSE))","v":2},{"$f":"IF(ISERROR(VLOOKUP(C872,BDDG!$A$2:$H$100,8,FALSE)),\"\",VLOOKUP(C872,BDDG!$A$2:$H$100,8,FALSE))","v":"BB27"},10,57,15.157894736842106,{"$f":"IF(ISERROR(VLOOKUP(C872,BDDG!$A$2:$I$100,9,FALSE)),\"\",VLOOKUP(C872,BDDG!$A$2:$I$100,9,FALSE))","v":"CC27"},10,5,172.8,{"$f":"IF(ISERROR(VLOOKUP(C872,BDDG!$A$2:$J$100,10,FALSE)),\"\",VLOOKUP(C872,BDDG!$A$2:$J$100,10,FALSE))","v":"DD27"},null,null,"",187.95789473684212,6,2015,{"$f":"IFERROR(INDEX($V$2:V872,MATCH(H872&MAX(IF($H$1:H871=H872,$A$1:A871)),$H$2:H872&$A$2:A872,0))-V872,\"\")","v":733.64210526315787}]
["2015-06-12",null,835,{"$f":"IF(ISNA(VLOOKUP(C873,BDDG!$A$2:$F$100,2,FALSE)),\"\",VLOOKUP(C873,BDDG!$A$2:$F$100,2,FALSE))","v":0},{"$f":"IF(ISNA(VLOOKUP(C873,BDDG!$A$3:$J$102,3,FALSE)),\"\",VLOOKUP(C873,BDDG!$A$3:$J$102,3,FALSE))","v":"A"},{"$f":"IF(ISNA(VLOOKUP(C873,BDDG!$A$3:$J$102,4,FALSE)),\"\",VLOOKUP(C873,BDDG!$A$3:$J$102,4,FALSE))","v":106},{"$f":"IF(ISNA(VLOOKUP(C873,BDDG!$A$2:$F$100,5,FALSE)),\"\",VLOOKUP(C873,BDDG!$A$2:$F$100,5,FALSE))","v":"A3"},{"$f":"IF(ISNA(VLOOKUP(C873,BDDG!$A$2:$F$100,6,FALSE)),\"\",VLOOKUP(C873,BDDG!$A$2:$F$100,6,FALSE))","v":"AA5"},{"$f":"IF(ISERROR(VLOOKUP(C873,BDDG!$A$2:$G$100,7,FALSE)),\"\",VLOOKUP(C873,BDDG!$A$2:$G$100,7,FALSE))","v":1},{"$f":"IF(ISERROR(VLOOKUP(C873,BDDG!$A$2:$H$100,8,FALSE)),\"\",VLOOKUP(C873,BDDG!$A$2:$H$100,8,FALSE))","v":"BB5"},2,180,0.96000000000000008,{"$f":"IF(ISERROR(VLOOKUP(C873,BDDG!$A$2:$I$100,9,FALSE)),\"\",VLOOKUP(C873,BDDG!$A$2:$I$100,9,FALSE))","v":"CC5"},null,null,"",{"$f":"IF(ISERROR(VLOOKUP(C873,BDDG!$A$2:$J$100,10,FALSE)),\"\",VLOOKUP(C873,BDDG!$A$2:$J$100,10,FALSE))","v":"DD5"},null,null,"",0.96000000000000008,6,2015,{"$f":"IFERROR(INDEX($V$2:V873,MATCH(H873&MAX(IF($H$1:H872=H873,$A$1:A872)),$H$2:H873&$A$2:A873,0))-V873,\"\")","v":0.70153846153846156}]
["2015-06-18",null,871,{"$f":"IF(ISNA(VLOOKUP(C874,BDDG!$A$2:$F$100,2,FALSE)),\"\",VLOOKUP(C874,BDDG!$A$2:$F$100,2,FALSE))","v":0},{"$f":"IF(ISNA(VLOOKUP(C874,BDDG!$A$3:$J$102,3,FALSE)),\"\",VLOOKUP(C874,BDDG!$A$3:$J$102,3,FALSE))","v":"C"},{"$f":"IF(ISNA(VLOOKUP(C874,BDDG!$A$3:$J$102,4,FALSE)),\"\",VLOOKUP(C874,BDDG!$A$3:$J$102,4,FALSE))","v":108},{"$f":"IF(ISNA(VLOOKUP(C874,BDDG!$A$2:$F$100,5,FALSE)),\"\",VLOOKUP(C874,BDDG!$A$2:$F$100,5,FALSE))","v":"A18"},{"$f":"IF(ISNA(VLOOKUP(C874,BDDG!$A$2:$F$100,6,FALSE)),\"\",VLOOKUP(C874,BDDG!$A$2:$F$100,6,FALSE))","v":"AA44"},{"$f":"IF(ISERROR(VLOOKUP(C874,BDDG!$A$2:$G$100,7,FALSE)),\"\",VLOOKUP(C874,BDDG!$A$2:$G$100,7,FALSE))","v":2},{"$f":"IF(ISERROR(VLOOKUP(C874,BDDG!$A$2:$H$100,8,FALSE)),\"\",VLOOKUP(C874,BDDG!$A$2:$H$100,8,FALSE))","v":"BB44"},5,9.6199999999999992,{"$f":" IF(ISERROR(K874/L874*86.4),\"\",K874/L874*86.4)","v":44.906444906444911},{"$f":"IF(ISERROR(VLOOKUP(C874,BDDG!$A$2:$I$100,9,FALSE)),\"\",VLOOKUP(C874,BDDG!$A$2:$I$100,9,FALSE))","v":"CC44"},null,null,"",{"$f":"IF(ISERROR(VLOOKUP(C874,BDDG!$A$2:$J$100,10,FALSE)),\"\",VLOOKUP(C874,BDDG!$A$2:$J$100,10,FALSE))","v":"DD44"},null,null,"",{"$f":"IF(ISERROR(SUM(M874,Q874,U874)),\"\",SUM(M874,Q874,U874))","v":44.906444906444911},6,2015,{"$f":"IFERROR(INDEX($V$2:V874,MATCH(H874&MAX(IF($H$1:H873=H874,$A$1:A873)),$H$2:H874&$A$2:A874,0))-V874,\"\")","v":53.052738767024486}]
["2015-06-18",null,873,{"$f":"IF(ISNA(VLOOKUP(C875,BDDG!$A$2:$F$100,2,FALSE)),\"\",VLOOKUP(C875,BDDG!$A$2:$F$100,2,FALSE))","v":0},{"$f":"IF(ISNA(VLOOKUP(C875,BDDG!$A$3:$J$102,3,FALSE)),\"\",VLOOKUP(C875,BDDG!$A$3:$J$102,3,FALSE))","v":"C"},{"$f":"IF(ISNA(VLOOKUP(C875,BDDG!$A$3:$J$102,4,FALSE)),\"\",VLOOKUP(C875,BDDG!$A$3:$J$102,4,FALSE))","v":108},{"$f":"IF(ISNA(VLOOKUP(C875,BDDG!$A$2:$F$100,5,FALSE)),\"\",VLOOKUP(C875,BDDG!$A$2:$F$100,5,FALSE))","v":"A18"},{"$f":"IF(ISNA(VLOOKUP(C875,BDDG!$A$2:$F$100,6,FALSE)),\"\",VLOOKUP(C875,BDDG!$A$2:$F$100,6,FALSE))","v":"AA46"},{"$f":"IF(ISERROR(VLOOKUP(C875,BDDG!$A$2:$G$100,7,FALSE)),\"\",VLOOKUP(C875,BDDG!$A$2:$G$100,7,FALSE))","v":1},{"$f":"IF(ISERROR(VLOOKUP(C875,BDDG!$A$2:$H$100,8,FALSE)),\"\",VLOOKUP(C875,BDDG!$A$2:$H$100,8,FALSE))","v":"BB46"},10,2.37,364.55696202531647,{"$f":"IF(ISERROR(VLOOKUP(C875,BDDG!$A$2:$I$100,9,FALSE)),\"\",VLOOKUP(C875,BDDG!$A$2:$I$100,9,FALSE))","v":"CC46"},null,null,"",{"$f":"IF(ISERROR(VLOOKUP(C875,BDDG!$A$2:$J$100,10,FALSE)),\"\",VLOOKUP(C875,BDDG!$A$2:$J$100,10,FALSE))","v":"DD46"},null,null,{"$f":" IF(ISERROR(S875/T875*86.4),\"\",S875/T875*86.4)","v":""},364.55696202531647,6,2015,{"$f":"IFERROR(INDEX($V$2:V875,MATCH(H875&MAX(IF($H$1:H874=H875,$A$1:A874)),$H$2:H875&$A$2:A875,0))-V875,\"\")","v":67.443037974683534}]
["2015-06-18",null,874,{"$f":"IF(ISNA(VLOOKUP(C876,BDDG!$A$2:$F$100,2,FALSE)),\"\",VLOOKUP(C876,BDDG!$A$2:$F$100,2,FALSE))","v":0},{"$f":"IF(ISNA(VLOOKUP(C876,BDDG!$A$3:$J$102,3,FALSE)),\"\",VLOOKUP(C876,BDDG!$A$3:$J$102,3,FALSE))","v":"C"},{"$f":"IF(ISNA(VLOOKUP(C876,BDDG!$A$3:$J$102,4,FALSE)),\"\",VLOOKUP(C876,BDDG!$A$3:$J$102,4,FALSE))","v":108},{"$f":"IF(ISNA(VLOOKUP(C876,BDDG!$A$2:$F$100,5,FALSE)),\"\",VLOOKUP(C876,BDDG!$A$2:$F$100,5,FALSE))","v":"A18"},{"$f":"IF(ISNA(VLOOKUP(C876,BDDG!$A$2:$F$100,6,FALSE)),\"\",VLOOKUP(C876,BDDG!$A$2:$F$100,6,FALSE))","v":"AA47"},{"$f":"IF(ISERROR(VLOOKUP(C876,BDDG!$A$2:$G$100,7,FALSE)),\"\",VLOOKUP(C876,BDDG!$A$2:$G$100,7,FALSE))","v":1},{"$f":"IF(ISERROR(VLOOKUP(C876,BDDG!$A$2:$H$100,8,FALSE)),\"\",VLOOKUP(C876,BDDG!$A$2:$H$100,8,FALSE))","v":"BB47"},8,34,20.329411764705885,{"$f":"IF(ISERROR(VLOOKUP(C876,BDDG!$A$2:$I$100,9,FALSE)),\"\",VLOOKUP(C876,BDDG!$A$2:$I$100,9,FALSE))","v":"CC47"},null,null,"",{"$f":"IF(ISERROR(VLOOKUP(C876,BDDG!$A$2:$J$100,10,FALSE)),\"\",VLOOKUP(C876,BDDG!$A$2:$J$100,10,FALSE))","v":"DD47"},null,null,"",20.329411764705885,6,2015,{"$f":"IFERROR(INDEX($V$2:V876,MATCH(H876&MAX(IF($H$1:H875=H876,$A$1:A875)),$H$2:H876&$A$2:A876,0))-V876,\"\")","v":66.070588235294125}]
["2015-06-18",null,877,{"$f":"IF(ISNA(VLOOKUP(C877,BDDG!$A$2:$F$100,2,FALSE)),\"\",VLOOKUP(C877,BDDG!$A$2:$F$100,2,FALSE))","v":0},{"$f":"IF(ISNA(VLOOKUP(C877,BDDG!$A$3:$J$102,3,FALSE)),\"\",VLOOKUP(C877,BDDG!$A$3:$J$102,3,FALSE))","v":"C"},{"$f":"IF(ISNA(VLOOKUP(C877,BDDG!$A$3:$J$102,4,FALSE)),\"\",VLOOKUP(C877,BDDG!$A$3:$J$102,4,FALSE))","v":108},{"$f":"IF(ISNA(VLOOKUP(C877,BDDG!$A$2:$F$100,5,FALSE)),\"\",VLOOKUP(C877,BDDG!$A$2:$F$100,5,FALSE))","v":"A18"},{"$f":"IF(ISNA(VLOOKUP(C877,BDDG!$A$2:$F$100,6,FALSE)),\"\",VLOOKUP(C877,BDDG!$A$2:$F$100,6,FALSE))","v":"AA50"},{"$f":"IF(ISERROR(VLOOKUP(C877,BDDG!$A$2:$G$100,7,FALSE)),\"\",VLOOKUP(C877,BDDG!$A$2:$G$100,7,FALSE))","v":2},{"$f":"IF(ISERROR(VLOOKUP(C877,BDDG!$A$2:$H$100,8,FALSE)),\"\",VLOOKUP(C877,BDDG!$A$2:$H$100,8,FALSE))","v":"BB50"},10,48,18.000000000000004,{"$f":"IF(ISERROR(VLOOKUP(C877,BDDG!$A$2:$I$100,9,FALSE)),\"\",VLOOKUP(C877,BDDG!$A$2:$I$100,9,FALSE))","v":"CC50"},10,7.7,112.20779220779221,{"$f":"IF(ISERROR(VLOOKUP(C877,BDDG!$A$2:$J$100,10,FALSE)),\"\",VLOOKUP(C877,BDDG!$A$2:$J$100,10,FALSE))","v":"DD50"},null,null,"",130.20779220779221,6,2015,{"$f":"IFERROR(INDEX($V$2:V877,MATCH(H877&MAX(IF($H$1:H876=H877,$A$1:A876)),$H$2:H877&$A$2:A877,0))-V877,\"\")","v":38.715284715284724}]
["2015-06-24",null,867,{"$f":"IF(ISNA(VLOOKUP(C878,BDDG!$A$2:$F$100,2,FALSE)),\"\",VLOOKUP(C878,BDDG!$A$2:$F$100,2,FALSE))","v":0},{"$f":"IF(ISNA(VLOOKUP(C878,BDDG!$A$3:$J$102,3,FALSE)),\"\",VLOOKUP(C878,BDDG!$A$3:$J$102,3,FALSE))","v":"C"},{"$f":"IF(ISNA(VLOOKUP(C878,BDDG!$A$3:$J$102,4,FALSE)),\"\",VLOOKUP(C878,BDDG!$A$3:$J$102,4,FALSE))","v":108},{"$f":"IF(ISNA(VLOOKUP(C878,BDDG!$A$2:$F$100,5,FALSE)),\"\",VLOOKUP(C878,BDDG!$A$2:$F$100,5,FALSE))","v":"A17"},{"$f":"IF(ISNA(VLOOKUP(C878,BDDG!$A$2:$F$100,6,FALSE)),\"\",VLOOKUP(C878,BDDG!$A$2:$F$100,6,FALSE))","v":"AA43"},{"$f":"IF(ISERROR(VLOOKUP(C878,BDDG!$A$2:$G$100,7,FALSE)),\"\",VLOOKUP(C878,BDDG!$A$2:$G$100,7,FALSE))","v":1},{"$f":"IF(ISERROR(VLOOKUP(C878,BDDG!$A$2:$H$100,8,FALSE)),\"\",VLOOKUP(C878,BDDG!$A$2:$H$100,8,FALSE))","v":"BB43"},5,13,33.230769230769234,{"$f":"IF(ISERROR(VLOOKUP(C878,BDDG!$A$2:$I$100,9,FALSE)),\"\",VLOOKUP(C878,BDDG!$A$2:$I$100,9,FALSE))","v":"CC43"},null,null,"",{"$f":"IF(ISERROR(VLOOKUP(C878,BDDG!$A$2:$J$100,10,FALSE)),\"\",VLOOKUP(C878,BDDG!$A$2:$J$100,10,FALSE))","v":"DD43"},null,null,"",33.230769230769234,6,2015,{"$f":"IFERROR(INDEX($V$2:V878,MATCH(H878&MAX(IF($H$1:H877=H878,$A$1:A877)),$H$2:H878&$A$2:A878,0))-V878,\"\")","v":-2.5727047146401993}]
["2015-06-24",null,866,{"$f":"IF(ISNA(VLOOKUP(C879,BDDG!$A$2:$F$100,2,FALSE)),\"\",VLOOKUP(C879,BDDG!$A$2:$F$100,2,FALSE))","v":0},{"$f":"IF(ISNA(VLOOKUP(C879,BDDG!$A$3:$J$102,3,FALSE)),\"\",VLOOKUP(C879,BDDG!$A$3:$J$102,3,FALSE))","v":"C"},{"$f":"IF(ISNA(VLOOKUP(C879,BDDG!$A$3:$J$102,4,FALSE)),\"\",VLOOKUP(C879,BDDG!$A$3:$J$102,4,FALSE))","v":108},{"$f":"IF(ISNA(VLOOKUP(C879,BDDG!$A$2:$F$100,5,FALSE)),\"\",VLOOKUP(C879,BDDG!$A$2:$F$100,5,FALSE))","v":"A17"},{"$f":"IF(ISNA(VLOOKUP(C879,BDDG!$A$2:$F$100,6,FALSE)),\"\",VLOOKUP(C879,BDDG!$A$2:$F$100,6,FALSE))","v":"AA42"},{"$f":"IF(ISERROR(VLOOKUP(C879,BDDG!$A$2:$G$100,7,FALSE)),\"\",VLOOKUP(C879,BDDG!$A$2:$G$100,7,FALSE))","v":1},{"$f":"IF(ISERROR(VLOOKUP(C879,BDDG!$A$2:$H$100,8,FALSE)),\"\",VLOOKUP(C879,BDDG!$A$2:$H$100,8,FALSE))","v":"BB42"},5,5,86.4,{"$f":"IF(ISERROR(VLOOKUP(C879,BDDG!$A$2:$I$100,9,FALSE)),\"\",VLOOKUP(C879,BDDG!$A$2:$I$100,9,FALSE))","v":"CC42"},null,null,null,{"$f":"IF(ISERROR(VLOOKUP(C879,BDDG!$A$2:$J$100,10,FALSE)),\"\",VLOOKUP(C879,BDDG!$A$2:$J$100,10,FALSE))","v":"DD42"},null,null,"",86.4,6,2015,{"$f":"IFERROR(INDEX($V$2:V879,MATCH(H879&MAX(IF($H$1:H878=H879,$A$1:A878)),$H$2:H879&$A$2:A879,0))-V879,\"\")","v":8.6400000000000148}]
["2015-06-26",null,878,{"$f":"IF(ISNA(VLOOKUP(C880,BDDG!$A$2:$F$100,2,FALSE)),\"\",VLOOKUP(C880,BDDG!$A$2:$F$100,2,FALSE))","v":0},{"$f":"IF(ISNA(VLOOKUP(C880,BDDG!$A$3:$J$102,3,FALSE)),\"\",VLOOKUP(C880,BDDG!$A$3:$J$102,3,FALSE))","v":"C"},{"$f":"IF(ISNA(VLOOKUP(C880,BDDG!$A$3:$J$102,4,FALSE)),\"\",VLOOKUP(C880,BDDG!$A$3:$J$102,4,FALSE))","v":108},{"$f":"IF(ISNA(VLOOKUP(C880,BDDG!$A$2:$F$100,5,FALSE)),\"\",VLOOKUP(C880,BDDG!$A$2:$F$100,5,FALSE))","v":"A19"},{"$f":"IF(ISNA(VLOOKUP(C880,BDDG!$A$2:$F$100,6,FALSE)),\"\",VLOOKUP(C880,BDDG!$A$2:$F$100,6,FALSE))","v":"AA52"},{"$f":"IF(ISERROR(VLOOKUP(C880,BDDG!$A$2:$G$100,7,FALSE)),\"\",VLOOKUP(C880,BDDG!$A$2:$G$100,7,FALSE))","v":1},{"$f":"IF(ISERROR(VLOOKUP(C880,BDDG!$A$2:$H$100,8,FALSE)),\"\",VLOOKUP(C880,BDDG!$A$2:$H$100,8,FALSE))","v":"BB52"},5,21.98,19.654231119199274,{"$f":"IF(ISERROR(VLOOKUP(C880,BDDG!$A$2:$I$100,9,FALSE)),\"\",VLOOKUP(C880,BDDG!$A$2:$I$100,9,FALSE))","v":"CC52"},null,null,{"$f":" IF(ISERROR(O880/P880*86.4),\"\",O880/P880*86.4)","v":""},{"$f":"IF(ISERROR(VLOOKUP(C880,BDDG!$A$2:$J$100,10,FALSE)),\"\",VLOOKUP(C880,BDDG!$A$2:$J$100,10,FALSE))","v":"DD52"},null,null,"",19.654231119199274,6,2015,{"$f":"IFERROR(INDEX($V$2:V880,MATCH(H880&MAX(IF($H$1:H879=H880,$A$1:A879)),$H$2:H880&$A$2:A880,0))-V880,\"\")","v":1.9457688808007276}]
["2015-06-26",null,880,{"$f":"IF(ISNA(VLOOKUP(C881,BDDG!$A$2:$F$100,2,FALSE)),\"\",VLOOKUP(C881,BDDG!$A$2:$F$100,2,FALSE))","v":0},{"$f":"IF(ISNA(VLOOKUP(C881,BDDG!$A$3:$J$102,3,FALSE)),\"\",VLOOKUP(C881,BDDG!$A$3:$J$102,3,FALSE))","v":"C"},{"$f":"IF(ISNA(VLOOKUP(C881,BDDG!$A$3:$J$102,4,FALSE)),\"\",VLOOKUP(C881,BDDG!$A$3:$J$102,4,FALSE))","v":108},{"$f":"IF(ISNA(VLOOKUP(C881,BDDG!$A$2:$F$100,5,FALSE)),\"\",VLOOKUP(C881,BDDG!$A$2:$F$100,5,FALSE))","v":"A19"},{"$f":"IF(ISNA(VLOOKUP(C881,BDDG!$A$2:$F$100,6,FALSE)),\"\",VLOOKUP(C881,BDDG!$A$2:$F$100,6,FALSE))","v":"AA54"},{"$f":"IF(ISERROR(VLOOKUP(C881,BDDG!$A$2:$G$100,7,FALSE)),\"\",VLOOKUP(C881,BDDG!$A$2:$G$100,7,FALSE))","v":2},{"$f":"IF(ISERROR(VLOOKUP(C881,BDDG!$A$2:$H$100,8,FALSE)),\"\",VLOOKUP(C881,BDDG!$A$2:$H$100,8,FALSE))","v":"BB54"},5,15.8,27.341772151898734,{"$f":"IF(ISERROR(VLOOKUP(C881,BDDG!$A$2:$I$100,9,FALSE)),\"\",VLOOKUP(C881,BDDG!$A$2:$I$100,9,FALSE))","v":"CC54"},5,6.46,66.873065015479881,{"$f":"IF(ISERROR(VLOOKUP(C881,BDDG!$A$2:$J$100,10,FALSE)),\"\",VLOOKUP(C881,BDDG!$A$2:$J$100,10,FALSE))","v":"DD54"},null,null,"",94.214837167378619,6,2015,{"$f":"IFERROR(INDEX($V$2:V881,MATCH(H881&MAX(IF($H$1:H880=H881,$A$1:A880)),$H$2:H881&$A$2:A881,0))-V881,\"\")","v":17.574636516831902}]
["2015-06-29",null,832,{"$f":"IF(ISNA(VLOOKUP(C882,BDDG!$A$2:$F$100,2,FALSE)),\"\",VLOOKUP(C882,BDDG!$A$2:$F$100,2,FALSE))","v":0},{"$f":"IF(ISNA(VLOOKUP(C882,BDDG!$A$3:$J$102,3,FALSE)),\"\",VLOOKUP(C882,BDDG!$A$3:$J$102,3,FALSE))","v":"A"},{"$f":"IF(ISNA(VLOOKUP(C882,BDDG!$A$3:$J$102,4,FALSE)),\"\",VLOOKUP(C882,BDDG!$A$3:$J$102,4,FALSE))","v":106},{"$f":"IF(ISNA(VLOOKUP(C882,BDDG!$A$2:$F$100,5,FALSE)),\"\",VLOOKUP(C882,BDDG!$A$2:$F$100,5,FALSE))","v":"A2"},{"$f":"IF(ISNA(VLOOKUP(C882,BDDG!$A$2:$F$100,6,FALSE)),\"\",VLOOKUP(C882,BDDG!$A$2:$F$100,6,FALSE))","v":"AA2"},{"$f":"IF(ISERROR(VLOOKUP(C882,BDDG!$A$2:$G$100,7,FALSE)),\"\",VLOOKUP(C882,BDDG!$A$2:$G$100,7,FALSE))","v":1},{"$f":"IF(ISERROR(VLOOKUP(C882,BDDG!$A$2:$H$100,8,FALSE)),\"\",VLOOKUP(C882,BDDG!$A$2:$H$100,8,FALSE))","v":"BB2"},5,14.26,30.294530154277702,{"$f":"IF(ISERROR(VLOOKUP(C882,BDDG!$A$2:$I$100,9,FALSE)),\"\",VLOOKUP(C882,BDDG!$A$2:$I$100,9,FALSE))","v":"CC2"},null,null,"",{"$f":"IF(ISERROR(VLOOKUP(C882,BDDG!$A$2:$J$100,10,FALSE)),\"\",VLOOKUP(C882,BDDG!$A$2:$J$100,10,FALSE))","v":"DD2"},null,null,"",30.294530154277702,6,2015,{"$f":"IFERROR(INDEX($V$2:V882,MATCH(H882&MAX(IF($H$1:H881=H882,$A$1:A881)),$H$2:H882&$A$2:A882,0))-V882,\"\")","v":-16.130595728048192}]
["2015-06-29",null,833,{"$f":"IF(ISNA(VLOOKUP(C883,BDDG!$A$2:$F$100,2,FALSE)),\"\",VLOOKUP(C883,BDDG!$A$2:$F$100,2,FALSE))","v":0},{"$f":"IF(ISNA(VLOOKUP(C883,BDDG!$A$3:$J$102,3,FALSE)),\"\",VLOOKUP(C883,BDDG!$A$3:$J$102,3,FALSE))","v":"A"},{"$f":"IF(ISNA(VLOOKUP(C883,BDDG!$A$3:$J$102,4,FALSE)),\"\",VLOOKUP(C883,BDDG!$A$3:$J$102,4,FALSE))","v":106},{"$f":"IF(ISNA(VLOOKUP(C883,BDDG!$A$2:$F$100,5,FALSE)),\"\",VLOOKUP(C883,BDDG!$A$2:$F$100,5,FALSE))","v":"A2"},{"$f":"IF(ISNA(VLOOKUP(C883,BDDG!$A$2:$F$100,6,FALSE)),\"\",VLOOKUP(C883,BDDG!$A$2:$F$100,6,FALSE))","v":"AA3"},{"$f":"IF(ISERROR(VLOOKUP(C883,BDDG!$A$2:$G$100,7,FALSE)),\"\",VLOOKUP(C883,BDDG!$A$2:$G$100,7,FALSE))","v":1},{"$f":"IF(ISERROR(VLOOKUP(C883,BDDG!$A$2:$H$100,8,FALSE)),\"\",VLOOKUP(C883,BDDG!$A$2:$H$100,8,FALSE))","v":"BB3"},5,14.58,29.629629629629633,{"$f":"IF(ISERROR(VLOOKUP(C883,BDDG!$A$2:$I$100,9,FALSE)),\"\",VLOOKUP(C883,BDDG!$A$2:$I$100,9,FALSE))","v":"CC3"},null,null,"",{"$f":"IF(ISERROR(VLOOKUP(C883,BDDG!$A$2:$J$100,10,FALSE)),\"\",VLOOKUP(C883,BDDG!$A$2:$J$100,10,FALSE))","v":"DD3"},null,null,"",29.629629629629633,6,2015,{"$f":"IFERROR(INDEX($V$2:V883,MATCH(H883&MAX(IF($H$1:H882=H883,$A$1:A882)),$H$2:H883&$A$2:A883,0))-V883,\"\")","v":20.312566902162274}]
["2015-06-29",null,842,{"$f":"IF(ISNA(VLOOKUP(C884,BDDG!$A$2:$F$100,2,FALSE)),\"\",VLOOKUP(C884,BDDG!$A$2:$F$100,2,FALSE))","v":0},{"$f":"IF(ISNA(VLOOKUP(C884,BDDG!$A$3:$J$102,3,FALSE)),\"\",VLOOKUP(C884,BDDG!$A$3:$J$102,3,FALSE))","v":"B"},{"$f":"IF(ISNA(VLOOKUP(C884,BDDG!$A$3:$J$102,4,FALSE)),\"\",VLOOKUP(C884,BDDG!$A$3:$J$102,4,FALSE))","v":106},{"$f":"IF(ISNA(VLOOKUP(C884,BDDG!$A$2:$F$100,5,FALSE)),\"\",VLOOKUP(C884,BDDG!$A$2:$F$100,5,FALSE))","v":"A5"},{"$f":"IF(ISNA(VLOOKUP(C884,BDDG!$A$2:$F$100,6,FALSE)),\"\",VLOOKUP(C884,BDDG!$A$2:$F$100,6,FALSE))","v":"AA13"},{"$f":"IF(ISERROR(VLOOKUP(C884,BDDG!$A$2:$G$100,7,FALSE)),\"\",VLOOKUP(C884,BDDG!$A$2:$G$100,7,FALSE))","v":1},{"$f":"IF(ISERROR(VLOOKUP(C884,BDDG!$A$2:$H$100,8,FALSE)),\"\",VLOOKUP(C884,BDDG!$A$2:$H$100,8,FALSE))","v":"BB13"},5,23.52,18.367346938775512,{"$f":"IF(ISERROR(VLOOKUP(C884,BDDG!$A$2:$I$100,9,FALSE)),\"\",VLOOKUP(C884,BDDG!$A$2:$I$100,9,FALSE))","v":"CC13"},null,null,"",{"$f":"IF(ISERROR(VLOOKUP(C884,BDDG!$A$2:$J$100,10,FALSE)),\"\",VLOOKUP(C884,BDDG!$A$2:$J$100,10,FALSE))","v":"DD13"},null,null,"",18.367346938775512,6,2015,{"$f":"IFERROR(INDEX($V$2:V884,MATCH(H884&MAX(IF($H$1:H883=H884,$A$1:A883)),$H$2:H884&$A$2:A884,0))-V884,\"\")","v":5.6326530612244916}]
["2015-06-29",null,848,{"$f":"IF(ISNA(VLOOKUP(C885,BDDG!$A$2:$F$100,2,FALSE)),\"\",VLOOKUP(C885,BDDG!$A$2:$F$100,2,FALSE))","v":0},{"$f":"IF(ISNA(VLOOKUP(C885,BDDG!$A$3:$J$102,3,FALSE)),\"\",VLOOKUP(C885,BDDG!$A$3:$J$102,3,FALSE))","v":"B"},{"$f":"IF(ISNA(VLOOKUP(C885,BDDG!$A$3:$J$102,4,FALSE)),\"\",VLOOKUP(C885,BDDG!$A$3:$J$102,4,FALSE))","v":106},{"$f":"IF(ISNA(VLOOKUP(C885,BDDG!$A$2:$F$100,5,FALSE)),\"\",VLOOKUP(C885,BDDG!$A$2:$F$100,5,FALSE))","v":"A7"},{"$f":"IF(ISNA(VLOOKUP(C885,BDDG!$A$2:$F$100,6,FALSE)),\"\",VLOOKUP(C885,BDDG!$A$2:$F$100,6,FALSE))","v":"AA19"},{"$f":"IF(ISERROR(VLOOKUP(C885,BDDG!$A$2:$G$100,7,FALSE)),\"\",VLOOKUP(C885,BDDG!$A$2:$G$100,7,FALSE))","v":2},{"$f":"IF(ISERROR(VLOOKUP(C885,BDDG!$A$2:$H$100,8,FALSE)),\"\",VLOOKUP(C885,BDDG!$A$2:$H$100,8,FALSE))","v":"BB19"},5,52.38,8.247422680412372,{"$f":"IF(ISERROR(VLOOKUP(C885,BDDG!$A$2:$I$100,9,FALSE)),\"\",VLOOKUP(C885,BDDG!$A$2:$I$100,9,FALSE))","v":"CC19"},null,null,"",{"$f":"IF(ISERROR(VLOOKUP(C885,BDDG!$A$2:$J$100,10,FALSE)),\"\",VLOOKUP(C885,BDDG!$A$2:$J$100,10,FALSE))","v":"DD19"},null,null,"",8.247422680412372,6,2015,{"$f":"IFERROR(INDEX($V$2:V885,MATCH(H885&MAX(IF($H$1:H884=H885,$A$1:A884)),$H$2:H885&$A$2:A885,0))-V885,\"\")","v":9.7525773195876315}]
["2015-06-29",null,834,{"$f":"IF(ISNA(VLOOKUP(C886,BDDG!$A$2:$F$100,2,FALSE)),\"\",VLOOKUP(C886,BDDG!$A$2:$F$100,2,FALSE))","v":0},{"$f":"IF(ISNA(VLOOKUP(C886,BDDG!$A$3:$J$102,3,FALSE)),\"\",VLOOKUP(C886,BDDG!$A$3:$J$102,3,FALSE))","v":"A"},{"$f":"IF(ISNA(VLOOKUP(C886,BDDG!$A$3:$J$102,4,FALSE)),\"\",VLOOKUP(C886,BDDG!$A$3:$J$102,4,FALSE))","v":106},{"$f":"IF(ISNA(VLOOKUP(C886,BDDG!$A$2:$F$100,5,FALSE)),\"\",VLOOKUP(C886,BDDG!$A$2:$F$100,5,FALSE))","v":"A2"},{"$f":"IF(ISNA(VLOOKUP(C886,BDDG!$A$2:$F$100,6,FALSE)),\"\",VLOOKUP(C886,BDDG!$A$2:$F$100,6,FALSE))","v":"AA4"},{"$f":"IF(ISERROR(VLOOKUP(C886,BDDG!$A$2:$G$100,7,FALSE)),\"\",VLOOKUP(C886,BDDG!$A$2:$G$100,7,FALSE))","v":1},{"$f":"IF(ISERROR(VLOOKUP(C886,BDDG!$A$2:$H$100,8,FALSE)),\"\",VLOOKUP(C886,BDDG!$A$2:$H$100,8,FALSE))","v":"BB4"},5,20.7,20.869565217391308,{"$f":"IF(ISERROR(VLOOKUP(C886,BDDG!$A$2:$I$100,9,FALSE)),\"\",VLOOKUP(C886,BDDG!$A$2:$I$100,9,FALSE))","v":"CC4"},null,null,"",{"$f":"IF(ISERROR(VLOOKUP(C886,BDDG!$A$2:$J$100,10,FALSE)),\"\",VLOOKUP(C886,BDDG!$A$2:$J$100,10,FALSE))","v":"DD4"},null,null,"",20.869565217391308,6,2015,{"$f":"IFERROR(INDEX($V$2:V886,MATCH(H886&MAX(IF($H$1:H885=H886,$A$1:A885)),$H$2:H886&$A$2:A886,0))-V886,\"\")","v":0.73043478260869321}]
["2015-06-29",null,847,{"$f":"IF(ISNA(VLOOKUP(C887,BDDG!$A$2:$F$100,2,FALSE)),\"\",VLOOKUP(C887,BDDG!$A$2:$F$100,2,FALSE))","v":0},{"$f":"IF(ISNA(VLOOKUP(C887,BDDG!$A$3:$J$102,3,FALSE)),\"\",VLOOKUP(C887,BDDG!$A$3:$J$102,3,FALSE))","v":"B"},{"$f":"IF(ISNA(VLOOKUP(C887,BDDG!$A$3:$J$102,4,FALSE)),\"\",VLOOKUP(C887,BDDG!$A$3:$J$102,4,FALSE))","v":106},{"$f":"IF(ISNA(VLOOKUP(C887,BDDG!$A$2:$F$100,5,FALSE)),\"\",VLOOKUP(C887,BDDG!$A$2:$F$100,5,FALSE))","v":"A7"},{"$f":"IF(ISNA(VLOOKUP(C887,BDDG!$A$2:$F$100,6,FALSE)),\"\",VLOOKUP(C887,BDDG!$A$2:$F$100,6,FALSE))","v":"AA18"},{"$f":"IF(ISERROR(VLOOKUP(C887,BDDG!$A$2:$G$100,7,FALSE)),\"\",VLOOKUP(C887,BDDG!$A$2:$G$100,7,FALSE))","v":2},{"$f":"IF(ISERROR(VLOOKUP(C887,BDDG!$A$2:$H$100,8,FALSE)),\"\",VLOOKUP(C887,BDDG!$A$2:$H$100,8,FALSE))","v":"BB18"},5,52.38,8.247422680412372,{"$f":"IF(ISERROR(VLOOKUP(C887,BDDG!$A$2:$I$100,9,FALSE)),\"\",VLOOKUP(C887,BDDG!$A$2:$I$100,9,FALSE))","v":"CC18"},5,32.67,13.223140495867767,{"$f":"IF(ISERROR(VLOOKUP(C887,BDDG!$A$2:$J$100,10,FALSE)),\"\",VLOOKUP(C887,BDDG!$A$2:$J$100,10,FALSE))","v":"DD18"},null,null,"",21.470563176280137,6,2015,{"$f":"IFERROR(INDEX($V$2:V887,MATCH(H887&MAX(IF($H$1:H886=H887,$A$1:A886)),$H$2:H887&$A$2:A887,0))-V887,\"\")","v":11.425988547857798}]
["2015-06-29",null,856,{"$f":"IF(ISNA(VLOOKUP(C888,BDDG!$A$2:$F$100,2,FALSE)),\"\",VLOOKUP(C888,BDDG!$A$2:$F$100,2,FALSE))","v":0},{"$f":"IF(ISNA(VLOOKUP(C888,BDDG!$A$3:$J$102,3,FALSE)),\"\",VLOOKUP(C888,BDDG!$A$3:$J$102,3,FALSE))","v":"A"},{"$f":"IF(ISNA(VLOOKUP(C888,BDDG!$A$3:$J$102,4,FALSE)),\"\",VLOOKUP(C888,BDDG!$A$3:$J$102,4,FALSE))","v":106},{"$f":"IF(ISNA(VLOOKUP(C888,BDDG!$A$2:$F$100,5,FALSE)),\"\",VLOOKUP(C888,BDDG!$A$2:$F$100,5,FALSE))","v":"A9"},{"$f":"IF(ISNA(VLOOKUP(C888,BDDG!$A$2:$F$100,6,FALSE)),\"\",VLOOKUP(C888,BDDG!$A$2:$F$100,6,FALSE))","v":"AA27"},{"$f":"IF(ISERROR(VLOOKUP(C888,BDDG!$A$2:$G$100,7,FALSE)),\"\",VLOOKUP(C888,BDDG!$A$2:$G$100,7,FALSE))","v":2},{"$f":"IF(ISERROR(VLOOKUP(C888,BDDG!$A$2:$H$100,8,FALSE)),\"\",VLOOKUP(C888,BDDG!$A$2:$H$100,8,FALSE))","v":"BB27"},10,64,13.5,{"$f":"IF(ISERROR(VLOOKUP(C888,BDDG!$A$2:$I$100,9,FALSE)),\"\",VLOOKUP(C888,BDDG!$A$2:$I$100,9,FALSE))","v":"CC27"},10,5,172.8,{"$f":"IF(ISERROR(VLOOKUP(C888,BDDG!$A$2:$J$100,10,FALSE)),\"\",VLOOKUP(C888,BDDG!$A$2:$J$100,10,FALSE))","v":"DD27"},null,null,"",186.3,6,2015,{"$f":"IFERROR(INDEX($V$2:V888,MATCH(H888&MAX(IF($H$1:H887=H888,$A$1:A887)),$H$2:H888&$A$2:A888,0))-V888,\"\")","v":1.6578947368421098}]
["2015-06-29",null,844,{"$f":"IF(ISNA(VLOOKUP(C889,BDDG!$A$2:$F$100,2,FALSE)),\"\",VLOOKUP(C889,BDDG!$A$2:$F$100,2,FALSE))","v":0},{"$f":"IF(ISNA(VLOOKUP(C889,BDDG!$A$3:$J$102,3,FALSE)),\"\",VLOOKUP(C889,BDDG!$A$3:$J$102,3,FALSE))","v":"B"},{"$f":"IF(ISNA(VLOOKUP(C889,BDDG!$A$3:$J$102,4,FALSE)),\"\",VLOOKUP(C889,BDDG!$A$3:$J$102,4,FALSE))","v":106},{"$f":"IF(ISNA(VLOOKUP(C889,BDDG!$A$2:$F$100,5,FALSE)),\"\",VLOOKUP(C889,BDDG!$A$2:$F$100,5,FALSE))","v":"A6"},{"$f":"IF(ISNA(VLOOKUP(C889,BDDG!$A$2:$F$100,6,FALSE)),\"\",VLOOKUP(C889,BDDG!$A$2:$F$100,6,FALSE))","v":"AA14"},{"$f":"IF(ISERROR(VLOOKUP(C889,BDDG!$A$2:$G$100,7,FALSE)),\"\",VLOOKUP(C889,BDDG!$A$2:$G$100,7,FALSE))","v":2},{"$f":"IF(ISERROR(VLOOKUP(C889,BDDG!$A$2:$H$100,8,FALSE)),\"\",VLOOKUP(C889,BDDG!$A$2:$H$100,8,FALSE))","v":"BB14"},5,5.52,78.260869565217405,{"$f":"IF(ISERROR(VLOOKUP(C889,BDDG!$A$2:$I$100,9,FALSE)),\"\",VLOOKUP(C889,BDDG!$A$2:$I$100,9,FALSE))","v":"CC14"},null,null,"",{"$f":"IF(ISERROR(VLOOKUP(C889,BDDG!$A$2:$J$100,10,FALSE)),\"\",VLOOKUP(C889,BDDG!$A$2:$J$100,10,FALSE))","v":"DD14"},null,null,"",78.260869565217405,6,2015,{"$f":"IFERROR(INDEX($V$2:V889,MATCH(H889&MAX(IF($H$1:H888=H889,$A$1:A888)),$H$2:H889&$A$2:A889,0))-V889,\"\")","v":-6.2608695652173907}]
["2015-06-29",null,849,{"$f":"IF(ISNA(VLOOKUP(C890,BDDG!$A$2:$F$100,2,FALSE)),\"\",VLOOKUP(C890,BDDG!$A$2:$F$100,2,FALSE))","v":0},{"$f":"IF(ISNA(VLOOKUP(C890,BDDG!$A$3:$J$102,3,FALSE)),\"\",VLOOKUP(C890,BDDG!$A$3:$J$102,3,FALSE))","v":"B"},{"$f":"IF(ISNA(VLOOKUP(C890,BDDG!$A$3:$J$102,4,FALSE)),\"\",VLOOKUP(C890,BDDG!$A$3:$J$102,4,FALSE))","v":106},{"$f":"IF(ISNA(VLOOKUP(C890,BDDG!$A$2:$F$100,5,FALSE)),\"\",VLOOKUP(C890,BDDG!$A$2:$F$100,5,FALSE))","v":"A7"},{"$f":"IF(ISNA(VLOOKUP(C890,BDDG!$A$2:$F$100,6,FALSE)),\"\",VLOOKUP(C890,BDDG!$A$2:$F$100,6,FALSE))","v":"AA15"},{"$f":"IF(ISERROR(VLOOKUP(C890,BDDG!$A$2:$G$100,7,FALSE)),\"\",VLOOKUP(C890,BDDG!$A$2:$G$100,7,FALSE))","v":2},{"$f":"IF(ISERROR(VLOOKUP(C890,BDDG!$A$2:$H$100,8,FALSE)),\"\",VLOOKUP(C890,BDDG!$A$2:$H$100,8,FALSE))","v":"BB15"},5,20.7,20.869565217391308,{"$f":"IF(ISERROR(VLOOKUP(C890,BDDG!$A$2:$I$100,9,FALSE)),\"\",VLOOKUP(C890,BDDG!$A$2:$I$100,9,FALSE))","v":"CC15"},4,49.95,6.9189189189189193,{"$f":"IF(ISERROR(VLOOKUP(C890,BDDG!$A$2:$J$100,10,FALSE)),\"\",VLOOKUP(C890,BDDG!$A$2:$J$100,10,FALSE))","v":"DD15"},null,null,"",27.788484136310228,6,2015,{"$f":"IFERROR(INDEX($V$2:V890,MATCH(H890&MAX(IF($H$1:H889=H890,$A$1:A889)),$H$2:H890&$A$2:A890,0))-V890,\"\")","v":6.4683579689529331}]
["2015-06-29","sècheresse",850,{"$f":"IF(ISNA(VLOOKUP(C891,BDDG!$A$2:$F$100,2,FALSE)),\"\",VLOOKUP(C891,BDDG!$A$2:$F$100,2,FALSE))","v":0},{"$f":"IF(ISNA(VLOOKUP(C891,BDDG!$A$3:$J$102,3,FALSE)),\"\",VLOOKUP(C891,BDDG!$A$3:$J$102,3,FALSE))","v":"B"},{"$f":"IF(ISNA(VLOOKUP(C891,BDDG!$A$3:$J$102,4,FALSE)),\"\",VLOOKUP(C891,BDDG!$A$3:$J$102,4,FALSE))","v":106},{"$f":"IF(ISNA(VLOOKUP(C891,BDDG!$A$2:$F$100,5,FALSE)),\"\",VLOOKUP(C891,BDDG!$A$2:$F$100,5,FALSE))","v":"A8"},{"$f":"IF(ISNA(VLOOKUP(C891,BDDG!$A$2:$F$100,6,FALSE)),\"\",VLOOKUP(C891,BDDG!$A$2:$F$100,6,FALSE))","v":"AA20"},{"$f":"IF(ISERROR(VLOOKUP(C891,BDDG!$A$2:$G$100,7,FALSE)),\"\",VLOOKUP(C891,BDDG!$A$2:$G$100,7,FALSE))","v":1},{"$f":"IF(ISERROR(VLOOKUP(C891,BDDG!$A$2:$H$100,8,FALSE)),\"\",VLOOKUP(C891,BDDG!$A$2:$H$100,8,FALSE))","v":"BB20"},5,11.83,36.517328825021139,{"$f":"IF(ISERROR(VLOOKUP(C891,BDDG!$A$2:$I$100,9,FALSE)),\"\",VLOOKUP(C891,BDDG!$A$2:$I$100,9,FALSE))","v":"CC20"},null,null,null,{"$f":"IF(ISERROR(VLOOKUP(C891,BDDG!$A$2:$J$100,10,FALSE)),\"\",VLOOKUP(C891,BDDG!$A$2:$J$100,10,FALSE))","v":"DD20"},null,null,"",36.517328825021139,6,2015,{"$f":"IFERROR(INDEX($V$2:V891,MATCH(H891&MAX(IF($H$1:H890=H891,$A$1:A890)),$H$2:H891&$A$2:A891,0))-V891,\"\")","v":1.0478885662832127}]
["2015-06-30",null,831,{"$f":"IF(ISNA(VLOOKUP(C892,BDDG!$A$2:$F$100,2,FALSE)),\"\",VLOOKUP(C892,BDDG!$A$2:$F$100,2,FALSE))","v":0},{"$f":"IF(ISNA(VLOOKUP(C892,BDDG!$A$3:$J$102,3,FALSE)),\"\",VLOOKUP(C892,BDDG!$A$3:$J$102,3,FALSE))","v":"A"},{"$f":"IF(ISNA(VLOOKUP(C892,BDDG!$A$3:$J$102,4,FALSE)),\"\",VLOOKUP(C892,BDDG!$A$3:$J$102,4,FALSE))","v":106},{"$f":"IF(ISNA(VLOOKUP(C892,BDDG!$A$2:$F$100,5,FALSE)),\"\",VLOOKUP(C892,BDDG!$A$2:$F$100,5,FALSE))","v":"A1"},{"$f":"IF(ISNA(VLOOKUP(C892,BDDG!$A$2:$F$100,6,FALSE)),\"\",VLOOKUP(C892,BDDG!$A$2:$F$100,6,FALSE))","v":"AA1"},{"$f":"IF(ISERROR(VLOOKUP(C892,BDDG!$A$2:$G$100,7,FALSE)),\"\",VLOOKUP(C892,BDDG!$A$2:$G$100,7,FALSE))","v":1},{"$f":"IF(ISERROR(VLOOKUP(C892,BDDG!$A$2:$H$100,8,FALSE)),\"\",VLOOKUP(C892,BDDG!$A$2:$H$100,8,FALSE))","v":"BB1"},10,13.06,66.156202143950992,{"$f":"IF(ISERROR(VLOOKUP(C892,BDDG!$A$2:$I$100,9,FALSE)),\"\",VLOOKUP(C892,BDDG!$A$2:$I$100,9,FALSE))","v":"CC1"},null,null,{"$f":" IF(ISERROR(O892/P892*86.4),\"\",O892/P892*86.4)","v":""},{"$f":"IF(ISERROR(VLOOKUP(C892,BDDG!$A$2:$J$100,10,FALSE)),\"\",VLOOKUP(C892,BDDG!$A$2:$J$100,10,FALSE))","v":"DD1"},null,null,"",66.156202143950992,6,2015,{"$f":"IFERROR(INDEX($V$2:V892,MATCH(H892&MAX(IF($H$1:H891=H892,$A$1:A891)),$H$2:H892&$A$2:A892,0))-V892,\"\")","v":12.389252401503555}]
["2015-06-30",null,835,{"$f":"IF(ISNA(VLOOKUP(C893,BDDG!$A$2:$F$100,2,FALSE)),\"\",VLOOKUP(C893,BDDG!$A$2:$F$100,2,FALSE))","v":0},{"$f":"IF(ISNA(VLOOKUP(C893,BDDG!$A$3:$J$102,3,FALSE)),\"\",VLOOKUP(C893,BDDG!$A$3:$J$102,3,FALSE))","v":"A"},{"$f":"IF(ISNA(VLOOKUP(C893,BDDG!$A$3:$J$102,4,FALSE)),\"\",VLOOKUP(C893,BDDG!$A$3:$J$102,4,FALSE))","v":106},{"$f":"IF(ISNA(VLOOKUP(C893,BDDG!$A$2:$F$100,5,FALSE)),\"\",VLOOKUP(C893,BDDG!$A$2:$F$100,5,FALSE))","v":"A3"},{"$f":"IF(ISNA(VLOOKUP(C893,BDDG!$A$2:$F$100,6,FALSE)),\"\",VLOOKUP(C893,BDDG!$A$2:$F$100,6,FALSE))","v":"AA5"},{"$f":"IF(ISERROR(VLOOKUP(C893,BDDG!$A$2:$G$100,7,FALSE)),\"\",VLOOKUP(C893,BDDG!$A$2:$G$100,7,FALSE))","v":1},{"$f":"IF(ISERROR(VLOOKUP(C893,BDDG!$A$2:$H$100,8,FALSE)),\"\",VLOOKUP(C893,BDDG!$A$2:$H$100,8,FALSE))","v":"BB5"},1,139,0.62158273381294971,{"$f":"IF(ISERROR(VLOOKUP(C893,BDDG!$A$2:$I$100,9,FALSE)),\"\",VLOOKUP(C893,BDDG!$A$2:$I$100,9,FALSE))","v":"CC5"},null,null,"",{"$f":"IF(ISERROR(VLOOKUP(C893,BDDG!$A$2:$J$100,10,FALSE)),\"\",VLOOKUP(C893,BDDG!$A$2:$J$100,10,FALSE))","v":"DD5"},null,null,"",0.62158273381294971,6,2015,{"$f":"IFERROR(INDEX($V$2:V893,MATCH(H893&MAX(IF($H$1:H892=H893,$A$1:A892)),$H$2:H893&$A$2:A893,0))-V893,\"\")","v":0.33841726618705037}]
["2015-06-30",null,859,{"$f":"IF(ISNA(VLOOKUP(C894,BDDG!$A$2:$F$100,2,FALSE)),\"\",VLOOKUP(C894,BDDG!$A$2:$F$100,2,FALSE))","v":0},{"$f":"IF(ISNA(VLOOKUP(C894,BDDG!$A$3:$J$102,3,FALSE)),\"\",VLOOKUP(C894,BDDG!$A$3:$J$102,3,FALSE))","v":"A"},{"$f":"IF(ISNA(VLOOKUP(C894,BDDG!$A$3:$J$102,4,FALSE)),\"\",VLOOKUP(C894,BDDG!$A$3:$J$102,4,FALSE))","v":106},{"$f":"IF(ISNA(VLOOKUP(C894,BDDG!$A$2:$F$100,5,FALSE)),\"\",VLOOKUP(C894,BDDG!$A$2:$F$100,5,FALSE))","v":"A10"},{"$f":"IF(ISNA(VLOOKUP(C894,BDDG!$A$2:$F$100,6,FALSE)),\"\",VLOOKUP(C894,BDDG!$A$2:$F$100,6,FALSE))","v":"AA30"},{"$f":"IF(ISERROR(VLOOKUP(C894,BDDG!$A$2:$G$100,7,FALSE)),\"\",VLOOKUP(C894,BDDG!$A$2:$G$100,7,FALSE))","v":1},{"$f":"IF(ISERROR(VLOOKUP(C894,BDDG!$A$2:$H$100,8,FALSE)),\"\",VLOOKUP(C894,BDDG!$A$2:$H$100,8,FALSE))","v":"BB30"},2,50.44,3.4258524980174472,null,null,null,"",{"$f":"IF(ISERROR(VLOOKUP(C894,BDDG!$A$2:$J$100,10,FALSE)),\"\",VLOOKUP(C894,BDDG!$A$2:$J$100,10,FALSE))","v":"DD30"},null,null,"",3.4258524980174472,6,2015,{"$f":"IFERROR(INDEX($V$2:V894,MATCH(H894&MAX(IF($H$1:H893=H894,$A$1:A893)),$H$2:H894&$A$2:A894,0))-V894,\"\")","v":0.21204223882465811}]
["2015-07-01","sècheresse",845,{"$f":"IF(ISNA(VLOOKUP(C895,BDDG!$A$2:$F$100,2,FALSE)),\"\",VLOOKUP(C895,BDDG!$A$2:$F$100,2,FALSE))","v":0},{"$f":"IF(ISNA(VLOOKUP(C895,BDDG!$A$3:$J$102,3,FALSE)),\"\",VLOOKUP(C895,BDDG!$A$3:$J$102,3,FALSE))","v":"B"},{"$f":"IF(ISNA(VLOOKUP(C895,BDDG!$A$3:$J$102,4,FALSE)),\"\",VLOOKUP(C895,BDDG!$A$3:$J$102,4,FALSE))","v":106},{"$f":"IF(ISNA(VLOOKUP(C895,BDDG!$A$2:$F$100,5,FALSE)),\"\",VLOOKUP(C895,BDDG!$A$2:$F$100,5,FALSE))","v":"A7"},{"$f":"IF(ISNA(VLOOKUP(C895,BDDG!$A$2:$F$100,6,FALSE)),\"\",VLOOKUP(C895,BDDG!$A$2:$F$100,6,FALSE))","v":"AA16"},{"$f":"IF(ISERROR(VLOOKUP(C895,BDDG!$A$2:$G$100,7,FALSE)),\"\",VLOOKUP(C895,BDDG!$A$2:$G$100,7,FALSE))","v":1},{"$f":"IF(ISERROR(VLOOKUP(C895,BDDG!$A$2:$H$100,8,FALSE)),\"\",VLOOKUP(C895,BDDG!$A$2:$H$100,8,FALSE))","v":"BB16"},5,62,6.967741935483871,{"$f":"IF(ISERROR(VLOOKUP(C895,BDDG!$A$2:$I$100,9,FALSE)),\"\",VLOOKUP(C895,BDDG!$A$2:$I$100,9,FALSE))","v":"CC16"},null,null,"",{"$f":"IF(ISERROR(VLOOKUP(C895,BDDG!$A$2:$J$100,10,FALSE)),\"\",VLOOKUP(C895,BDDG!$A$2:$J$100,10,FALSE))","v":"DD16"},null,null,"",6.967741935483871,7,2015,{"$f":"IFERROR(INDEX($V$2:V895,MATCH(H895&MAX(IF($H$1:H894=H895,$A$1:A894)),$H$2:H895&$A$2:A895,0))-V895,\"\")","v":4.5522580645161304}]
["2015-07-01","sècheresse",846,{"$f":"IF(ISNA(VLOOKUP(C896,BDDG!$A$2:$F$100,2,FALSE)),\"\",VLOOKUP(C896,BDDG!$A$2:$F$100,2,FALSE))","v":0},{"$f":"IF(ISNA(VLOOKUP(C896,BDDG!$A$3:$J$102,3,FALSE)),\"\",VLOOKUP(C896,BDDG!$A$3:$J$102,3,FALSE))","v":"B"},{"$f":"IF(ISNA(VLOOKUP(C896,BDDG!$A$3:$J$102,4,FALSE)),\"\",VLOOKUP(C896,BDDG!$A$3:$J$102,4,FALSE))","v":106},{"$f":"IF(ISNA(VLOOKUP(C896,BDDG!$A$2:$F$100,5,FALSE)),\"\",VLOOKUP(C896,BDDG!$A$2:$F$100,5,FALSE))","v":"A7"},{"$f":"IF(ISNA(VLOOKUP(C896,BDDG!$A$2:$F$100,6,FALSE)),\"\",VLOOKUP(C896,BDDG!$A$2:$F$100,6,FALSE))","v":"AA17"},{"$f":"IF(ISERROR(VLOOKUP(C896,BDDG!$A$2:$G$100,7,FALSE)),\"\",VLOOKUP(C896,BDDG!$A$2:$G$100,7,FALSE))","v":1},{"$f":"IF(ISERROR(VLOOKUP(C896,BDDG!$A$2:$H$100,8,FALSE)),\"\",VLOOKUP(C896,BDDG!$A$2:$H$100,8,FALSE))","v":"BB17"},5,35,{"$f":" IF(ISERROR(K896/L896*86.4),\"\",K896/L896*86.4)","v":12.342857142857143},{"$f":"IF(ISERROR(VLOOKUP(C896,BDDG!$A$2:$I$100,9,FALSE)),\"\",VLOOKUP(C896,BDDG!$A$2:$I$100,9,FALSE))","v":"CC17"},null,null,"",{"$f":"IF(ISERROR(VLOOKUP(C896,BDDG!$A$2:$J$100,10,FALSE)),\"\",VLOOKUP(C896,BDDG!$A$2:$J$100,10,FALSE))","v":"DD17"},null,null,"",{"$f":"IF(ISERROR(SUM(M896,Q896,U896)),\"\",SUM(M896,Q896,U896))","v":12.342857142857143},7,2015,{"$f":"IFERROR(INDEX($V$2:V896,MATCH(H896&MAX(IF($H$1:H895=H896,$A$1:A895)),$H$2:H896&$A$2:A896,0))-V896,\"\")","v":23.657142857142865}]
["2015-07-02","sècheresse",855,{"$f":"IF(ISNA(VLOOKUP(C897,BDDG!$A$2:$F$100,2,FALSE)),\"\",VLOOKUP(C897,BDDG!$A$2:$F$100,2,FALSE))","v":0},{"$f":"IF(ISNA(VLOOKUP(C897,BDDG!$A$3:$J$102,3,FALSE)),\"\",VLOOKUP(C897,BDDG!$A$3:$J$102,3,FALSE))","v":"A"},{"$f":"IF(ISNA(VLOOKUP(C897,BDDG!$A$3:$J$102,4,FALSE)),\"\",VLOOKUP(C897,BDDG!$A$3:$J$102,4,FALSE))","v":106},{"$f":"IF(ISNA(VLOOKUP(C897,BDDG!$A$2:$F$100,5,FALSE)),\"\",VLOOKUP(C897,BDDG!$A$2:$F$100,5,FALSE))","v":"A9"},{"$f":"IF(ISNA(VLOOKUP(C897,BDDG!$A$2:$F$100,6,FALSE)),\"\",VLOOKUP(C897,BDDG!$A$2:$F$100,6,FALSE))","v":"AA26"},{"$f":"IF(ISERROR(VLOOKUP(C897,BDDG!$A$2:$G$100,7,FALSE)),\"\",VLOOKUP(C897,BDDG!$A$2:$G$100,7,FALSE))","v":2},{"$f":"IF(ISERROR(VLOOKUP(C897,BDDG!$A$2:$H$100,8,FALSE)),\"\",VLOOKUP(C897,BDDG!$A$2:$H$100,8,FALSE))","v":"BB26"},10,12.66,68.246445497630333,{"$f":"IF(ISERROR(VLOOKUP(C897,BDDG!$A$2:$I$100,9,FALSE)),\"\",VLOOKUP(C897,BDDG!$A$2:$I$100,9,FALSE))","v":"CC26"},7,25.02,24.1726618705036,{"$f":"IF(ISERROR(VLOOKUP(C897,BDDG!$A$2:$J$100,10,FALSE)),\"\",VLOOKUP(C897,BDDG!$A$2:$J$100,10,FALSE))","v":"DD26"},null,null,"",92.419107368133936,7,2015,{"$f":"IFERROR(INDEX($V$2:V897,MATCH(H897&MAX(IF($H$1:H896=H897,$A$1:A896)),$H$2:H897&$A$2:A897,0))-V897,\"\")","v":36.811661862635319}]
["2015-07-02","sècheresse",852,{"$f":"IF(ISNA(VLOOKUP(C898,BDDG!$A$2:$F$100,2,FALSE)),\"\",VLOOKUP(C898,BDDG!$A$2:$F$100,2,FALSE))","v":0},{"$f":"IF(ISNA(VLOOKUP(C898,BDDG!$A$3:$J$102,3,FALSE)),\"\",VLOOKUP(C898,BDDG!$A$3:$J$102,3,FALSE))","v":"A"},{"$f":"IF(ISNA(VLOOKUP(C898,BDDG!$A$3:$J$102,4,FALSE)),\"\",VLOOKUP(C898,BDDG!$A$3:$J$102,4,FALSE))","v":106},{"$f":"IF(ISNA(VLOOKUP(C898,BDDG!$A$2:$F$100,5,FALSE)),\"\",VLOOKUP(C898,BDDG!$A$2:$F$100,5,FALSE))","v":"A9"},{"$f":"IF(ISNA(VLOOKUP(C898,BDDG!$A$2:$F$100,6,FALSE)),\"\",VLOOKUP(C898,BDDG!$A$2:$F$100,6,FALSE))","v":"AA22"},{"$f":"IF(ISERROR(VLOOKUP(C898,BDDG!$A$2:$G$100,7,FALSE)),\"\",VLOOKUP(C898,BDDG!$A$2:$G$100,7,FALSE))","v":1},{"$f":"IF(ISERROR(VLOOKUP(C898,BDDG!$A$2:$H$100,8,FALSE)),\"\",VLOOKUP(C898,BDDG!$A$2:$H$100,8,FALSE))","v":"BB22"},10,70,12.342857142857143,{"$f":"IF(ISERROR(VLOOKUP(C898,BDDG!$A$2:$I$100,9,FALSE)),\"\",VLOOKUP(C898,BDDG!$A$2:$I$100,9,FALSE))","v":"CC22"},null,null,"",{"$f":"IF(ISERROR(VLOOKUP(C898,BDDG!$A$2:$J$100,10,FALSE)),\"\",VLOOKUP(C898,BDDG!$A$2:$J$100,10,FALSE))","v":"DD22"},null,null,"",12.342857142857143,{"$f":"MONTH(A:A)","v":7},{"$f":"YEAR(A:A)","v":2015},{"$f":"IFERROR(INDEX($V$2:V898,MATCH(H898&MAX(IF($H$1:H897=H898,$A$1:A897)),$H$2:H898&$A$2:A898,0))-V898,\"\")","v":5.2897959183673482}]
["2015-07-03","sècheresse",862,{"$f":"IF(ISNA(VLOOKUP(C899,BDDG!$A$2:$F$100,2,FALSE)),\"\",VLOOKUP(C899,BDDG!$A$2:$F$100,2,FALSE))","v":0},{"$f":"IF(ISNA(VLOOKUP(C899,BDDG!$A$3:$J$102,3,FALSE)),\"\",VLOOKUP(C899,BDDG!$A$3:$J$102,3,FALSE))","v":"A"},{"$f":"IF(ISNA(VLOOKUP(C899,BDDG!$A$3:$J$102,4,FALSE)),\"\",VLOOKUP(C899,BDDG!$A$3:$J$102,4,FALSE))","v":106},{"$f":"IF(ISNA(VLOOKUP(C899,BDDG!$A$2:$F$100,5,FALSE)),\"\",VLOOKUP(C899,BDDG!$A$2:$F$100,5,FALSE))","v":"A12"},{"$f":"IF(ISNA(VLOOKUP(C899,BDDG!$A$2:$F$100,6,FALSE)),\"\",VLOOKUP(C899,BDDG!$A$2:$F$100,6,FALSE))","v":"AA34"},{"$f":"IF(ISERROR(VLOOKUP(C899,BDDG!$A$2:$G$100,7,FALSE)),\"\",VLOOKUP(C899,BDDG!$A$2:$G$100,7,FALSE))","v":1},{"$f":"IF(ISERROR(VLOOKUP(C899,BDDG!$A$2:$H$100,8,FALSE)),\"\",VLOOKUP(C899,BDDG!$A$2:$H$100,8,FALSE))","v":"BB34"},10,15.16,56.992084432717682,{"$f":"IF(ISERROR(VLOOKUP(C899,BDDG!$A$2:$I$100,9,FALSE)),\"\",VLOOKUP(C899,BDDG!$A$2:$I$100,9,FALSE))","v":"CC34"},null,null,"",{"$f":"IF(ISERROR(VLOOKUP(C899,BDDG!$A$2:$J$100,10,FALSE)),\"\",VLOOKUP(C899,BDDG!$A$2:$J$100,10,FALSE))","v":"DD34"},null,null,"",56.992084432717682,7,2015,{"$f":"IFERROR(INDEX($V$2:V899,MATCH(H899&MAX(IF($H$1:H898=H899,$A$1:A898)),$H$2:H899&$A$2:A899,0))-V899,\"\")","v":15.007915567282332}]
["2015-07-03","sècheresse",860,{"$f":"IF(ISNA(VLOOKUP(C900,BDDG!$A$2:$F$100,2,FALSE)),\"\",VLOOKUP(C900,BDDG!$A$2:$F$100,2,FALSE))","v":0},{"$f":"IF(ISNA(VLOOKUP(C900,BDDG!$A$3:$J$102,3,FALSE)),\"\",VLOOKUP(C900,BDDG!$A$3:$J$102,3,FALSE))","v":"A"},{"$f":"IF(ISNA(VLOOKUP(C900,BDDG!$A$3:$J$102,4,FALSE)),\"\",VLOOKUP(C900,BDDG!$A$3:$J$102,4,FALSE))","v":106},{"$f":"IF(ISNA(VLOOKUP(C900,BDDG!$A$2:$F$100,5,FALSE)),\"\",VLOOKUP(C900,BDDG!$A$2:$F$100,5,FALSE))","v":"A11"},{"$f":"IF(ISNA(VLOOKUP(C900,BDDG!$A$2:$F$100,6,FALSE)),\"\",VLOOKUP(C900,BDDG!$A$2:$F$100,6,FALSE))","v":"AA32"},{"$f":"IF(ISERROR(VLOOKUP(C900,BDDG!$A$2:$G$100,7,FALSE)),\"\",VLOOKUP(C900,BDDG!$A$2:$G$100,7,FALSE))","v":2},{"$f":"IF(ISERROR(VLOOKUP(C900,BDDG!$A$2:$H$100,8,FALSE)),\"\",VLOOKUP(C900,BDDG!$A$2:$H$100,8,FALSE))","v":"BB32"},10,22.75,37.978021978021978,{"$f":"IF(ISERROR(VLOOKUP(C900,BDDG!$A$2:$I$100,9,FALSE)),\"\",VLOOKUP(C900,BDDG!$A$2:$I$100,9,FALSE))","v":"CC32"},null,null,"",{"$f":"IF(ISERROR(VLOOKUP(C900,BDDG!$A$2:$J$100,10,FALSE)),\"\",VLOOKUP(C900,BDDG!$A$2:$J$100,10,FALSE))","v":"DD32"},null,null,"",37.978021978021978,7,2015,{"$f":"IFERROR(INDEX($V$2:V900,MATCH(H900&MAX(IF($H$1:H899=H900,$A$1:A899)),$H$2:H900&$A$2:A900,0))-V900,\"\")","v":1.2947052947052953}]
["2015-07-03","sècheresse",861,{"$f":"IF(ISNA(VLOOKUP(C901,BDDG!$A$2:$F$100,2,FALSE)),\"\",VLOOKUP(C901,BDDG!$A$2:$F$100,2,FALSE))","v":0},{"$f":"IF(ISNA(VLOOKUP(C901,BDDG!$A$3:$J$102,3,FALSE)),\"\",VLOOKUP(C901,BDDG!$A$3:$J$102,3,FALSE))","v":"A"},{"$f":"IF(ISNA(VLOOKUP(C901,BDDG!$A$3:$J$102,4,FALSE)),\"\",VLOOKUP(C901,BDDG!$A$3:$J$102,4,FALSE))","v":106},{"$f":"IF(ISNA(VLOOKUP(C901,BDDG!$A$2:$F$100,5,FALSE)),\"\",VLOOKUP(C901,BDDG!$A$2:$F$100,5,FALSE))","v":"A11"},{"$f":"IF(ISNA(VLOOKUP(C901,BDDG!$A$2:$F$100,6,FALSE)),\"\",VLOOKUP(C901,BDDG!$A$2:$F$100,6,FALSE))","v":"AA33"},{"$f":"IF(ISERROR(VLOOKUP(C901,BDDG!$A$2:$G$100,7,FALSE)),\"\",VLOOKUP(C901,BDDG!$A$2:$G$100,7,FALSE))","v":2},{"$f":"IF(ISERROR(VLOOKUP(C901,BDDG!$A$2:$H$100,8,FALSE)),\"\",VLOOKUP(C901,BDDG!$A$2:$H$100,8,FALSE))","v":"BB33"},null,null,null,{"$f":"IF(ISERROR(VLOOKUP(C901,BDDG!$A$2:$I$100,9,FALSE)),\"\",VLOOKUP(C901,BDDG!$A$2:$I$100,9,FALSE))","v":"CC33"},10,5.34,161.79775280898878,{"$f":"IF(ISERROR(VLOOKUP(C901,BDDG!$A$2:$J$100,10,FALSE)),\"\",VLOOKUP(C901,BDDG!$A$2:$J$100,10,FALSE))","v":"DD33"},null,null,"",{"$f":"IF(ISERROR(SUM(M901,Q901,U901)),\"\",SUM((M901,Q901,U901)))","v":161.79775280898878},7,2015,{"$f":"IFERROR(INDEX($V$2:V901,MATCH(H901&MAX(IF($H$1:H900=H901,$A$1:A900)),$H$2:H901&$A$2:A901,0))-V901,\"\")","v":11.002247191011236}]
["2015-07-08","sècheresse",871,{"$f":"IF(ISNA(VLOOKUP(C902,BDDG!$A$2:$F$100,2,FALSE)),\"\",VLOOKUP(C902,BDDG!$A$2:$F$100,2,FALSE))","v":0},{"$f":"IF(ISNA(VLOOKUP(C902,BDDG!$A$3:$J$102,3,FALSE)),\"\",VLOOKUP(C902,BDDG!$A$3:$J$102,3,FALSE))","v":"C"},{"$f":"IF(ISNA(VLOOKUP(C902,BDDG!$A$3:$J$102,4,FALSE)),\"\",VLOOKUP(C902,BDDG!$A$3:$J$102,4,FALSE))","v":108},{"$f":"IF(ISNA(VLOOKUP(C902,BDDG!$A$2:$F$100,5,FALSE)),\"\",VLOOKUP(C902,BDDG!$A$2:$F$100,5,FALSE))","v":"A18"},{"$f":"IF(ISNA(VLOOKUP(C902,BDDG!$A$2:$F$100,6,FALSE)),\"\",VLOOKUP(C902,BDDG!$A$2:$F$100,6,FALSE))","v":"AA44"},{"$f":"IF(ISERROR(VLOOKUP(C902,BDDG!$A$2:$G$100,7,FALSE)),\"\",VLOOKUP(C902,BDDG!$A$2:$G$100,7,FALSE))","v":2},{"$f":"IF(ISERROR(VLOOKUP(C902,BDDG!$A$2:$H$100,8,FALSE)),\"\",VLOOKUP(C902,BDDG!$A$2:$H$100,8,FALSE))","v":"BB44"},5,13,{"$f":" IF(ISERROR(K902/L902*86.4),\"\",K902/L902*86.4)","v":33.230769230769234},{"$f":"IF(ISERROR(VLOOKUP(C902,BDDG!$A$2:$I$100,9,FALSE)),\"\",VLOOKUP(C902,BDDG!$A$2:$I$100,9,FALSE))","v":"CC44"},null,null,"",{"$f":"IF(ISERROR(VLOOKUP(C902,BDDG!$A$2:$J$100,10,FALSE)),\"\",VLOOKUP(C902,BDDG!$A$2:$J$100,10,FALSE))","v":"DD44"},null,null,"",{"$f":"IF(ISERROR(SUM(M902,Q902,U902)),\"\",SUM(M902,Q902,U902))","v":33.230769230769234},7,2015,{"$f":"IFERROR(INDEX($V$2:V902,MATCH(H902&MAX(IF($H$1:H901=H902,$A$1:A901)),$H$2:H902&$A$2:A902,0))-V902,\"\")","v":11.675675675675677}]
["2015-07-08","sècheresse",873,{"$f":"IF(ISNA(VLOOKUP(C903,BDDG!$A$2:$F$100,2,FALSE)),\"\",VLOOKUP(C903,BDDG!$A$2:$F$100,2,FALSE))","v":0},{"$f":"IF(ISNA(VLOOKUP(C903,BDDG!$A$3:$J$102,3,FALSE)),\"\",VLOOKUP(C903,BDDG!$A$3:$J$102,3,FALSE))","v":"C"},{"$f":"IF(ISNA(VLOOKUP(C903,BDDG!$A$3:$J$102,4,FALSE)),\"\",VLOOKUP(C903,BDDG!$A$3:$J$102,4,FALSE))","v":108},{"$f":"IF(ISNA(VLOOKUP(C903,BDDG!$A$2:$F$100,5,FALSE)),\"\",VLOOKUP(C903,BDDG!$A$2:$F$100,5,FALSE))","v":"A18"},{"$f":"IF(ISNA(VLOOKUP(C903,BDDG!$A$2:$F$100,6,FALSE)),\"\",VLOOKUP(C903,BDDG!$A$2:$F$100,6,FALSE))","v":"AA46"},{"$f":"IF(ISERROR(VLOOKUP(C903,BDDG!$A$2:$G$100,7,FALSE)),\"\",VLOOKUP(C903,BDDG!$A$2:$G$100,7,FALSE))","v":1},{"$f":"IF(ISERROR(VLOOKUP(C903,BDDG!$A$2:$H$100,8,FALSE)),\"\",VLOOKUP(C903,BDDG!$A$2:$H$100,8,FALSE))","v":"BB46"},10,3.44,251.16279069767441,{"$f":"IF(ISERROR(VLOOKUP(C903,BDDG!$A$2:$I$100,9,FALSE)),\"\",VLOOKUP(C903,BDDG!$A$2:$I$100,9,FALSE))","v":"CC46"},null,null,"",{"$f":"IF(ISERROR(VLOOKUP(C903,BDDG!$A$2:$J$100,10,FALSE)),\"\",VLOOKUP(C903,BDDG!$A$2:$J$100,10,FALSE))","v":"DD46"},null,null,"",251.16279069767441,7,2015,{"$f":"IFERROR(INDEX($V$2:V903,MATCH(H903&MAX(IF($H$1:H902=H903,$A$1:A902)),$H$2:H903&$A$2:A903,0))-V903,\"\")","v":113.39417132764206}]
["2015-07-08","sècheresse",874,{"$f":"IF(ISNA(VLOOKUP(C904,BDDG!$A$2:$F$100,2,FALSE)),\"\",VLOOKUP(C904,BDDG!$A$2:$F$100,2,FALSE))","v":0},{"$f":"IF(ISNA(VLOOKUP(C904,BDDG!$A$3:$J$102,3,FALSE)),\"\",VLOOKUP(C904,BDDG!$A$3:$J$102,3,FALSE))","v":"C"},{"$f":"IF(ISNA(VLOOKUP(C904,BDDG!$A$3:$J$102,4,FALSE)),\"\",VLOOKUP(C904,BDDG!$A$3:$J$102,4,FALSE))","v":108},{"$f":"IF(ISNA(VLOOKUP(C904,BDDG!$A$2:$F$100,5,FALSE)),\"\",VLOOKUP(C904,BDDG!$A$2:$F$100,5,FALSE))","v":"A18"},{"$f":"IF(ISNA(VLOOKUP(C904,BDDG!$A$2:$F$100,6,FALSE)),\"\",VLOOKUP(C904,BDDG!$A$2:$F$100,6,FALSE))","v":"AA47"},{"$f":"IF(ISERROR(VLOOKUP(C904,BDDG!$A$2:$G$100,7,FALSE)),\"\",VLOOKUP(C904,BDDG!$A$2:$G$100,7,FALSE))","v":1},{"$f":"IF(ISERROR(VLOOKUP(C904,BDDG!$A$2:$H$100,8,FALSE)),\"\",VLOOKUP(C904,BDDG!$A$2:$H$100,8,FALSE))","v":"BB47"},6,39.06,13.271889400921658,{"$f":"IF(ISERROR(VLOOKUP(C904,BDDG!$A$2:$I$100,9,FALSE)),\"\",VLOOKUP(C904,BDDG!$A$2:$I$100,9,FALSE))","v":"CC47"},null,null,"",{"$f":"IF(ISERROR(VLOOKUP(C904,BDDG!$A$2:$J$100,10,FALSE)),\"\",VLOOKUP(C904,BDDG!$A$2:$J$100,10,FALSE))","v":"DD47"},null,null,"",13.271889400921658,7,2015,{"$f":"IFERROR(INDEX($V$2:V904,MATCH(H904&MAX(IF($H$1:H903=H904,$A$1:A903)),$H$2:H904&$A$2:A904,0))-V904,\"\")","v":7.0575223637842264}]
["2015-07-08","sècheresse",878,{"$f":"IF(ISNA(VLOOKUP(C905,BDDG!$A$2:$F$100,2,FALSE)),\"\",VLOOKUP(C905,BDDG!$A$2:$F$100,2,FALSE))","v":0},{"$f":"IF(ISNA(VLOOKUP(C905,BDDG!$A$3:$J$102,3,FALSE)),\"\",VLOOKUP(C905,BDDG!$A$3:$J$102,3,FALSE))","v":"C"},{"$f":"IF(ISNA(VLOOKUP(C905,BDDG!$A$3:$J$102,4,FALSE)),\"\",VLOOKUP(C905,BDDG!$A$3:$J$102,4,FALSE))","v":108},{"$f":"IF(ISNA(VLOOKUP(C905,BDDG!$A$2:$F$100,5,FALSE)),\"\",VLOOKUP(C905,BDDG!$A$2:$F$100,5,FALSE))","v":"A19"},{"$f":"IF(ISNA(VLOOKUP(C905,BDDG!$A$2:$F$100,6,FALSE)),\"\",VLOOKUP(C905,BDDG!$A$2:$F$100,6,FALSE))","v":"AA52"},{"$f":"IF(ISERROR(VLOOKUP(C905,BDDG!$A$2:$G$100,7,FALSE)),\"\",VLOOKUP(C905,BDDG!$A$2:$G$100,7,FALSE))","v":1},{"$f":"IF(ISERROR(VLOOKUP(C905,BDDG!$A$2:$H$100,8,FALSE)),\"\",VLOOKUP(C905,BDDG!$A$2:$H$100,8,FALSE))","v":"BB52"},2,8.75,19.748571428571431,{"$f":"IF(ISERROR(VLOOKUP(C905,BDDG!$A$2:$I$100,9,FALSE)),\"\",VLOOKUP(C905,BDDG!$A$2:$I$100,9,FALSE))","v":"CC52"},null,null,"",{"$f":"IF(ISERROR(VLOOKUP(C905,BDDG!$A$2:$J$100,10,FALSE)),\"\",VLOOKUP(C905,BDDG!$A$2:$J$100,10,FALSE))","v":"DD52"},null,null,"",19.748571428571431,7,2015,{"$f":"IFERROR(INDEX($V$2:V905,MATCH(H905&MAX(IF($H$1:H904=H905,$A$1:A904)),$H$2:H905&$A$2:A905,0))-V905,\"\")","v":-9.4340309372157094E-2}]
["2015-07-08","sècheresse",880,{"$f":"IF(ISNA(VLOOKUP(C906,BDDG!$A$2:$F$100,2,FALSE)),\"\",VLOOKUP(C906,BDDG!$A$2:$F$100,2,FALSE))","v":0},{"$f":"IF(ISNA(VLOOKUP(C906,BDDG!$A$3:$J$102,3,FALSE)),\"\",VLOOKUP(C906,BDDG!$A$3:$J$102,3,FALSE))","v":"C"},{"$f":"IF(ISNA(VLOOKUP(C906,BDDG!$A$3:$J$102,4,FALSE)),\"\",VLOOKUP(C906,BDDG!$A$3:$J$102,4,FALSE))","v":108},{"$f":"IF(ISNA(VLOOKUP(C906,BDDG!$A$2:$F$100,5,FALSE)),\"\",VLOOKUP(C906,BDDG!$A$2:$F$100,5,FALSE))","v":"A19"},{"$f":"IF(ISNA(VLOOKUP(C906,BDDG!$A$2:$F$100,6,FALSE)),\"\",VLOOKUP(C906,BDDG!$A$2:$F$100,6,FALSE))","v":"AA54"},{"$f":"IF(ISERROR(VLOOKUP(C906,BDDG!$A$2:$G$100,7,FALSE)),\"\",VLOOKUP(C906,BDDG!$A$2:$G$100,7,FALSE))","v":2},{"$f":"IF(ISERROR(VLOOKUP(C906,BDDG!$A$2:$H$100,8,FALSE)),\"\",VLOOKUP(C906,BDDG!$A$2:$H$100,8,FALSE))","v":"BB54"},10,35.9,24.066852367688025,{"$f":"IF(ISERROR(VLOOKUP(C906,BDDG!$A$2:$I$100,9,FALSE)),\"\",VLOOKUP(C906,BDDG!$A$2:$I$100,9,FALSE))","v":"CC54"},10,14.16,61.016949152542381,{"$f":"IF(ISERROR(VLOOKUP(C906,BDDG!$A$2:$J$100,10,FALSE)),\"\",VLOOKUP(C906,BDDG!$A$2:$J$100,10,FALSE))","v":"DD54"},null,null,{"$f":" IF(ISERROR(S906/T906*86.4),\"\",S906/T906*86.4)","v":""},85.083801520230409,7,2015,{"$f":"IFERROR(INDEX($V$2:V906,MATCH(H906&MAX(IF($H$1:H905=H906,$A$1:A905)),$H$2:H906&$A$2:A906,0))-V906,\"\")","v":9.1310356471482095}]
["2015-07-08","sècheresse",877,{"$f":"IF(ISNA(VLOOKUP(C907,BDDG!$A$2:$F$100,2,FALSE)),\"\",VLOOKUP(C907,BDDG!$A$2:$F$100,2,FALSE))","v":0},{"$f":"IF(ISNA(VLOOKUP(C907,BDDG!$A$3:$J$102,3,FALSE)),\"\",VLOOKUP(C907,BDDG!$A$3:$J$102,3,FALSE))","v":"C"},{"$f":"IF(ISNA(VLOOKUP(C907,BDDG!$A$3:$J$102,4,FALSE)),\"\",VLOOKUP(C907,BDDG!$A$3:$J$102,4,FALSE))","v":108},{"$f":"IF(ISNA(VLOOKUP(C907,BDDG!$A$2:$F$100,5,FALSE)),\"\",VLOOKUP(C907,BDDG!$A$2:$F$100,5,FALSE))","v":"A18"},{"$f":"IF(ISNA(VLOOKUP(C907,BDDG!$A$2:$F$100,6,FALSE)),\"\",VLOOKUP(C907,BDDG!$A$2:$F$100,6,FALSE))","v":"AA50"},{"$f":"IF(ISERROR(VLOOKUP(C907,BDDG!$A$2:$G$100,7,FALSE)),\"\",VLOOKUP(C907,BDDG!$A$2:$G$100,7,FALSE))","v":2},{"$f":"IF(ISERROR(VLOOKUP(C907,BDDG!$A$2:$H$100,8,FALSE)),\"\",VLOOKUP(C907,BDDG!$A$2:$H$100,8,FALSE))","v":"BB50"},10,10,86.4,{"$f":"IF(ISERROR(VLOOKUP(C907,BDDG!$A$2:$I$100,9,FALSE)),\"\",VLOOKUP(C907,BDDG!$A$2:$I$100,9,FALSE))","v":"CC50"},2,12.12,14.257425742574258,{"$f":"IF(ISERROR(VLOOKUP(C907,BDDG!$A$2:$J$100,10,FALSE)),\"\",VLOOKUP(C907,BDDG!$A$2:$J$100,10,FALSE))","v":"DD50"},null,null,"",100.65742574257426,7,2015,{"$f":"IFERROR(INDEX($V$2:V907,MATCH(H907&MAX(IF($H$1:H906=H907,$A$1:A906)),$H$2:H907&$A$2:A907,0))-V907,\"\")","v":29.550366465217948}]
["2015-07-08","sècheresse",876,{"$f":"IF(ISNA(VLOOKUP(C908,BDDG!$A$2:$F$100,2,FALSE)),\"\",VLOOKUP(C908,BDDG!$A$2:$F$100,2,FALSE))","v":0},{"$f":"IF(ISNA(VLOOKUP(C908,BDDG!$A$3:$J$102,3,FALSE)),\"\",VLOOKUP(C908,BDDG!$A$3:$J$102,3,FALSE))","v":"C"},{"$f":"IF(ISNA(VLOOKUP(C908,BDDG!$A$3:$J$102,4,FALSE)),\"\",VLOOKUP(C908,BDDG!$A$3:$J$102,4,FALSE))","v":108},{"$f":"IF(ISNA(VLOOKUP(C908,BDDG!$A$2:$F$100,5,FALSE)),\"\",VLOOKUP(C908,BDDG!$A$2:$F$100,5,FALSE))","v":"A18"},{"$f":"IF(ISNA(VLOOKUP(C908,BDDG!$A$2:$F$100,6,FALSE)),\"\",VLOOKUP(C908,BDDG!$A$2:$F$100,6,FALSE))","v":"AA49"},{"$f":"IF(ISERROR(VLOOKUP(C908,BDDG!$A$2:$G$100,7,FALSE)),\"\",VLOOKUP(C908,BDDG!$A$2:$G$100,7,FALSE))","v":2},{"$f":"IF(ISERROR(VLOOKUP(C908,BDDG!$A$2:$H$100,8,FALSE)),\"\",VLOOKUP(C908,BDDG!$A$2:$H$100,8,FALSE))","v":"BB49"},8,9.0299999999999994,76.544850498338874,{"$f":"IF(ISERROR(VLOOKUP(C908,BDDG!$A$2:$I$100,9,FALSE)),\"\",VLOOKUP(C908,BDDG!$A$2:$I$100,9,FALSE))","v":"CC49"},2,16.68,10.359712230215829,{"$f":"IF(ISERROR(VLOOKUP(C908,BDDG!$A$2:$J$100,10,FALSE)),\"\",VLOOKUP(C908,BDDG!$A$2:$J$100,10,FALSE))","v":"DD49"},null,null,"",86.904562728554708,7,2015,{"$f":"IFERROR(INDEX($V$2:V908,MATCH(H908&MAX(IF($H$1:H907=H908,$A$1:A907)),$H$2:H908&$A$2:A908,0))-V908,\"\")","v":32.615437271445288}]
["2015-07-09","sècheresse",882,{"$f":"IF(ISNA(VLOOKUP(C909,BDDG!$A$2:$F$100,2,FALSE)),\"\",VLOOKUP(C909,BDDG!$A$2:$F$100,2,FALSE))","v":0},{"$f":"IF(ISNA(VLOOKUP(C909,BDDG!$A$3:$J$102,3,FALSE)),\"\",VLOOKUP(C909,BDDG!$A$3:$J$102,3,FALSE))","v":"C"},{"$f":"IF(ISNA(VLOOKUP(C909,BDDG!$A$3:$J$102,4,FALSE)),\"\",VLOOKUP(C909,BDDG!$A$3:$J$102,4,FALSE))","v":108},{"$f":"IF(ISNA(VLOOKUP(C909,BDDG!$A$2:$F$100,5,FALSE)),\"\",VLOOKUP(C909,BDDG!$A$2:$F$100,5,FALSE))","v":"A18"},{"$f":"IF(ISNA(VLOOKUP(C909,BDDG!$A$2:$F$100,6,FALSE)),\"\",VLOOKUP(C909,BDDG!$A$2:$F$100,6,FALSE))","v":"AA51"},{"$f":"IF(ISERROR(VLOOKUP(C909,BDDG!$A$2:$G$100,7,FALSE)),\"\",VLOOKUP(C909,BDDG!$A$2:$G$100,7,FALSE))","v":1},{"$f":"IF(ISERROR(VLOOKUP(C909,BDDG!$A$2:$H$100,8,FALSE)),\"\",VLOOKUP(C909,BDDG!$A$2:$H$100,8,FALSE))","v":"BB51"},10,12,72.000000000000014,{"$f":"IF(ISERROR(VLOOKUP(C909,BDDG!$A$2:$I$100,9,FALSE)),\"\",VLOOKUP(C909,BDDG!$A$2:$I$100,9,FALSE))","v":"CC51"},null,null,"",{"$f":"IF(ISERROR(VLOOKUP(C909,BDDG!$A$2:$J$100,10,FALSE)),\"\",VLOOKUP(C909,BDDG!$A$2:$J$100,10,FALSE))","v":"DD51"},null,null,"",72.000000000000014,7,2015,{"$f":"IFERROR(INDEX($V$2:V909,MATCH(H909&MAX(IF($H$1:H908=H909,$A$1:A908)),$H$2:H909&$A$2:A909,0))-V909,\"\")","v":""}]
["2015-07-09","sècheresse",875,{"$f":"IF(ISNA(VLOOKUP(C910,BDDG!$A$2:$F$100,2,FALSE)),\"\",VLOOKUP(C910,BDDG!$A$2:$F$100,2,FALSE))","v":0},{"$f":"IF(ISNA(VLOOKUP(C910,BDDG!$A$3:$J$102,3,FALSE)),\"\",VLOOKUP(C910,BDDG!$A$3:$J$102,3,FALSE))","v":"C"},{"$f":"IF(ISNA(VLOOKUP(C910,BDDG!$A$3:$J$102,4,FALSE)),\"\",VLOOKUP(C910,BDDG!$A$3:$J$102,4,FALSE))","v":108},{"$f":"IF(ISNA(VLOOKUP(C910,BDDG!$A$2:$F$100,5,FALSE)),\"\",VLOOKUP(C910,BDDG!$A$2:$F$100,5,FALSE))","v":"A18"},{"$f":"IF(ISNA(VLOOKUP(C910,BDDG!$A$2:$F$100,6,FALSE)),\"\",VLOOKUP(C910,BDDG!$A$2:$F$100,6,FALSE))","v":"AA48"},{"$f":"IF(ISERROR(VLOOKUP(C910,BDDG!$A$2:$G$100,7,FALSE)),\"\",VLOOKUP(C910,BDDG!$A$2:$G$100,7,FALSE))","v":1},{"$f":"IF(ISERROR(VLOOKUP(C910,BDDG!$A$2:$H$100,8,FALSE)),\"\",VLOOKUP(C910,BDDG!$A$2:$H$100,8,FALSE))","v":"BB48"},10,16,54,{"$f":"IF(ISERROR(VLOOKUP(C910,BDDG!$A$2:$I$100,9,FALSE)),\"\",VLOOKUP(C910,BDDG!$A$2:$I$100,9,FALSE))","v":"CC48"},null,null,"",{"$f":"IF(ISERROR(VLOOKUP(C910,BDDG!$A$2:$J$100,10,FALSE)),\"\",VLOOKUP(C910,BDDG!$A$2:$J$100,10,FALSE))","v":"DD48"},null,null,"",54,7,2015,{"$f":"IFERROR(INDEX($V$2:V910,MATCH(H910&MAX(IF($H$1:H909=H910,$A$1:A909)),$H$2:H910&$A$2:A910,0))-V910,\"\")","v":-19.439999999999998}]
["2015-07-10","sècheresse",845,{"$f":"IF(ISNA(VLOOKUP(C911,BDDG!$A$2:$F$100,2,FALSE)),\"\",VLOOKUP(C911,BDDG!$A$2:$F$100,2,FALSE))","v":0},{"$f":"IF(ISNA(VLOOKUP(C911,BDDG!$A$3:$J$102,3,FALSE)),\"\",VLOOKUP(C911,BDDG!$A$3:$J$102,3,FALSE))","v":"B"},{"$f":"IF(ISNA(VLOOKUP(C911,BDDG!$A$3:$J$102,4,FALSE)),\"\",VLOOKUP(C911,BDDG!$A$3:$J$102,4,FALSE))","v":106},{"$f":"IF(ISNA(VLOOKUP(C911,BDDG!$A$2:$F$100,5,FALSE)),\"\",VLOOKUP(C911,BDDG!$A$2:$F$100,5,FALSE))","v":"A7"},{"$f":"IF(ISNA(VLOOKUP(C911,BDDG!$A$2:$F$100,6,FALSE)),\"\",VLOOKUP(C911,BDDG!$A$2:$F$100,6,FALSE))","v":"AA16"},{"$f":"IF(ISERROR(VLOOKUP(C911,BDDG!$A$2:$G$100,7,FALSE)),\"\",VLOOKUP(C911,BDDG!$A$2:$G$100,7,FALSE))","v":1},{"$f":"IF(ISERROR(VLOOKUP(C911,BDDG!$A$2:$H$100,8,FALSE)),\"\",VLOOKUP(C911,BDDG!$A$2:$H$100,8,FALSE))","v":"BB16"},10,137,6.3065693430656937,{"$f":"IF(ISERROR(VLOOKUP(C911,BDDG!$A$2:$I$100,9,FALSE)),\"\",VLOOKUP(C911,BDDG!$A$2:$I$100,9,FALSE))","v":"CC16"},null,null,"",{"$f":"IF(ISERROR(VLOOKUP(C911,BDDG!$A$2:$J$100,10,FALSE)),\"\",VLOOKUP(C911,BDDG!$A$2:$J$100,10,FALSE))","v":"DD16"},null,null,"",6.3065693430656937,7,2015,{"$f":"IFERROR(INDEX($V$2:V911,MATCH(H911&MAX(IF($H$1:H910=H911,$A$1:A910)),$H$2:H911&$A$2:A911,0))-V911,\"\")","v":0.66117259241817727}]
["2015-07-10","sècheresse",867,{"$f":"IF(ISNA(VLOOKUP(C912,BDDG!$A$2:$F$100,2,FALSE)),\"\",VLOOKUP(C912,BDDG!$A$2:$F$100,2,FALSE))","v":0},{"$f":"IF(ISNA(VLOOKUP(C912,BDDG!$A$3:$J$102,3,FALSE)),\"\",VLOOKUP(C912,BDDG!$A$3:$J$102,3,FALSE))","v":"C"},{"$f":"IF(ISNA(VLOOKUP(C912,BDDG!$A$3:$J$102,4,FALSE)),\"\",VLOOKUP(C912,BDDG!$A$3:$J$102,4,FALSE))","v":108},{"$f":"IF(ISNA(VLOOKUP(C912,BDDG!$A$2:$F$100,5,FALSE)),\"\",VLOOKUP(C912,BDDG!$A$2:$F$100,5,FALSE))","v":"A17"},{"$f":"IF(ISNA(VLOOKUP(C912,BDDG!$A$2:$F$100,6,FALSE)),\"\",VLOOKUP(C912,BDDG!$A$2:$F$100,6,FALSE))","v":"AA43"},{"$f":"IF(ISERROR(VLOOKUP(C912,BDDG!$A$2:$G$100,7,FALSE)),\"\",VLOOKUP(C912,BDDG!$A$2:$G$100,7,FALSE))","v":1},{"$f":"IF(ISERROR(VLOOKUP(C912,BDDG!$A$2:$H$100,8,FALSE)),\"\",VLOOKUP(C912,BDDG!$A$2:$H$100,8,FALSE))","v":"BB43"},10,28.25,30.584070796460178,{"$f":"IF(ISERROR(VLOOKUP(C912,BDDG!$A$2:$I$100,9,FALSE)),\"\",VLOOKUP(C912,BDDG!$A$2:$I$100,9,FALSE))","v":"CC43"},null,null,"",{"$f":"IF(ISERROR(VLOOKUP(C912,BDDG!$A$2:$J$100,10,FALSE)),\"\",VLOOKUP(C912,BDDG!$A$2:$J$100,10,FALSE))","v":"DD43"},null,null,"",30.584070796460178,7,2015,{"$f":"IFERROR(INDEX($V$2:V912,MATCH(H912&MAX(IF($H$1:H911=H912,$A$1:A911)),$H$2:H912&$A$2:A912,0))-V912,\"\")","v":2.6466984343090552}]
["2015-07-10","sècheresse",868,{"$f":"IF(ISNA(VLOOKUP(C913,BDDG!$A$2:$F$100,2,FALSE)),\"\",VLOOKUP(C913,BDDG!$A$2:$F$100,2,FALSE))","v":0},{"$f":"IF(ISNA(VLOOKUP(C913,BDDG!$A$3:$J$102,3,FALSE)),\"\",VLOOKUP(C913,BDDG!$A$3:$J$102,3,FALSE))","v":"A"},{"$f":"IF(ISNA(VLOOKUP(C913,BDDG!$A$3:$J$102,4,FALSE)),\"\",VLOOKUP(C913,BDDG!$A$3:$J$102,4,FALSE))","v":108},{"$f":"IF(ISNA(VLOOKUP(C913,BDDG!$A$2:$F$100,5,FALSE)),\"\",VLOOKUP(C913,BDDG!$A$2:$F$100,5,FALSE))","v":"A16"},{"$f":"IF(ISNA(VLOOKUP(C913,BDDG!$A$2:$F$100,6,FALSE)),\"\",VLOOKUP(C913,BDDG!$A$2:$F$100,6,FALSE))","v":"AA39"},{"$f":"IF(ISERROR(VLOOKUP(C913,BDDG!$A$2:$G$100,7,FALSE)),\"\",VLOOKUP(C913,BDDG!$A$2:$G$100,7,FALSE))","v":2},{"$f":"IF(ISERROR(VLOOKUP(C913,BDDG!$A$2:$H$100,8,FALSE)),\"\",VLOOKUP(C913,BDDG!$A$2:$H$100,8,FALSE))","v":"BB39"},2,49.9,3.4629258517034067,{"$f":"IF(ISERROR(VLOOKUP(C913,BDDG!$A$2:$I$100,9,FALSE)),\"\",VLOOKUP(C913,BDDG!$A$2:$I$100,9,FALSE))","v":"CC39"},null,null,"",{"$f":"IF(ISERROR(VLOOKUP(C913,BDDG!$A$2:$J$100,10,FALSE)),\"\",VLOOKUP(C913,BDDG!$A$2:$J$100,10,FALSE))","v":"DD39"},null,null,"",3.4629258517034067,7,2015,{"$f":"IFERROR(INDEX($V$2:V913,MATCH(H913&MAX(IF($H$1:H912=H913,$A$1:A912)),$H$2:H913&$A$2:A913,0))-V913,\"\")","v":35.809801421023863}]
["2015-07-10","sècheresse",870,{"$f":"IF(ISNA(VLOOKUP(C914,BDDG!$A$2:$F$100,2,FALSE)),\"\",VLOOKUP(C914,BDDG!$A$2:$F$100,2,FALSE))","v":0},{"$f":"IF(ISNA(VLOOKUP(C914,BDDG!$A$3:$J$102,3,FALSE)),\"\",VLOOKUP(C914,BDDG!$A$3:$J$102,3,FALSE))","v":"A"},{"$f":"IF(ISNA(VLOOKUP(C914,BDDG!$A$3:$J$102,4,FALSE)),\"\",VLOOKUP(C914,BDDG!$A$3:$J$102,4,FALSE))","v":108},{"$f":"IF(ISNA(VLOOKUP(C914,BDDG!$A$2:$F$100,5,FALSE)),\"\",VLOOKUP(C914,BDDG!$A$2:$F$100,5,FALSE))","v":"A16"},{"$f":"IF(ISNA(VLOOKUP(C914,BDDG!$A$2:$F$100,6,FALSE)),\"\",VLOOKUP(C914,BDDG!$A$2:$F$100,6,FALSE))","v":"AA41"},{"$f":"IF(ISERROR(VLOOKUP(C914,BDDG!$A$2:$G$100,7,FALSE)),\"\",VLOOKUP(C914,BDDG!$A$2:$G$100,7,FALSE))","v":2},{"$f":"IF(ISERROR(VLOOKUP(C914,BDDG!$A$2:$H$100,8,FALSE)),\"\",VLOOKUP(C914,BDDG!$A$2:$H$100,8,FALSE))","v":"BB41"},2,67,2.5791044776119403,{"$f":"IF(ISERROR(VLOOKUP(C914,BDDG!$A$2:$I$100,9,FALSE)),\"\",VLOOKUP(C914,BDDG!$A$2:$I$100,9,FALSE))","v":"CC41"},2,91.6,1.8864628820960703,{"$f":"IF(ISERROR(VLOOKUP(C914,BDDG!$A$2:$J$100,10,FALSE)),\"\",VLOOKUP(C914,BDDG!$A$2:$J$100,10,FALSE))","v":"DD41"},null,null,"",4.465567359708011,7,2015,{"$f":"IFERROR(INDEX($V$2:V914,MATCH(H914&MAX(IF($H$1:H913=H914,$A$1:A913)),$H$2:H914&$A$2:A914,0))-V914,\"\")","v":2.1389439184874774}]
["2015-07-10","sècheresse",866,{"$f":"IF(ISNA(VLOOKUP(C915,BDDG!$A$2:$F$100,2,FALSE)),\"\",VLOOKUP(C915,BDDG!$A$2:$F$100,2,FALSE))","v":0},{"$f":"IF(ISNA(VLOOKUP(C915,BDDG!$A$3:$J$102,3,FALSE)),\"\",VLOOKUP(C915,BDDG!$A$3:$J$102,3,FALSE))","v":"C"},{"$f":"IF(ISNA(VLOOKUP(C915,BDDG!$A$3:$J$102,4,FALSE)),\"\",VLOOKUP(C915,BDDG!$A$3:$J$102,4,FALSE))","v":108},{"$f":"IF(ISNA(VLOOKUP(C915,BDDG!$A$2:$F$100,5,FALSE)),\"\",VLOOKUP(C915,BDDG!$A$2:$F$100,5,FALSE))","v":"A17"},{"$f":"IF(ISNA(VLOOKUP(C915,BDDG!$A$2:$F$100,6,FALSE)),\"\",VLOOKUP(C915,BDDG!$A$2:$F$100,6,FALSE))","v":"AA42"},{"$f":"IF(ISERROR(VLOOKUP(C915,BDDG!$A$2:$G$100,7,FALSE)),\"\",VLOOKUP(C915,BDDG!$A$2:$G$100,7,FALSE))","v":1},{"$f":"IF(ISERROR(VLOOKUP(C915,BDDG!$A$2:$H$100,8,FALSE)),\"\",VLOOKUP(C915,BDDG!$A$2:$H$100,8,FALSE))","v":"BB42"},0.9,1,77.760000000000005,{"$f":"IF(ISERROR(VLOOKUP(C915,BDDG!$A$2:$I$100,9,FALSE)),\"\",VLOOKUP(C915,BDDG!$A$2:$I$100,9,FALSE))","v":"CC42"},null,null,null,{"$f":"IF(ISERROR(VLOOKUP(C915,BDDG!$A$2:$J$100,10,FALSE)),\"\",VLOOKUP(C915,BDDG!$A$2:$J$100,10,FALSE))","v":"DD42"},null,null,"",77.760000000000005,7,2015,{"$f":"IFERROR(INDEX($V$2:V915,MATCH(H915&MAX(IF($H$1:H914=H915,$A$1:A914)),$H$2:H915&$A$2:A915,0))-V915,\"\")","v":8.64}]
["2015-07-13","sècheresse",842,{"$f":"IF(ISNA(VLOOKUP(C916,BDDG!$A$2:$F$100,2,FALSE)),\"\",VLOOKUP(C916,BDDG!$A$2:$F$100,2,FALSE))","v":0},{"$f":"IF(ISNA(VLOOKUP(C916,BDDG!$A$3:$J$102,3,FALSE)),\"\",VLOOKUP(C916,BDDG!$A$3:$J$102,3,FALSE))","v":"B"},{"$f":"IF(ISNA(VLOOKUP(C916,BDDG!$A$3:$J$102,4,FALSE)),\"\",VLOOKUP(C916,BDDG!$A$3:$J$102,4,FALSE))","v":106},{"$f":"IF(ISNA(VLOOKUP(C916,BDDG!$A$2:$F$100,5,FALSE)),\"\",VLOOKUP(C916,BDDG!$A$2:$F$100,5,FALSE))","v":"A5"},{"$f":"IF(ISNA(VLOOKUP(C916,BDDG!$A$2:$F$100,6,FALSE)),\"\",VLOOKUP(C916,BDDG!$A$2:$F$100,6,FALSE))","v":"AA13"},{"$f":"IF(ISERROR(VLOOKUP(C916,BDDG!$A$2:$G$100,7,FALSE)),\"\",VLOOKUP(C916,BDDG!$A$2:$G$100,7,FALSE))","v":1},{"$f":"IF(ISERROR(VLOOKUP(C916,BDDG!$A$2:$H$100,8,FALSE)),\"\",VLOOKUP(C916,BDDG!$A$2:$H$100,8,FALSE))","v":"BB13"},10,55.1,15.680580762250456,{"$f":"IF(ISERROR(VLOOKUP(C916,BDDG!$A$2:$I$100,9,FALSE)),\"\",VLOOKUP(C916,BDDG!$A$2:$I$100,9,FALSE))","v":"CC13"},null,null,{"$f":" IF(ISERROR(O916/P916*86.4),\"\",O916/P916*86.4)","v":""},{"$f":"IF(ISERROR(VLOOKUP(C916,BDDG!$A$2:$J$100,10,FALSE)),\"\",VLOOKUP(C916,BDDG!$A$2:$J$100,10,FALSE))","v":"DD13"},null,null,"",15.680580762250456,7,2015,{"$f":"IFERROR(INDEX($V$2:V916,MATCH(H916&MAX(IF($H$1:H915=H916,$A$1:A915)),$H$2:H916&$A$2:A916,0))-V916,\"\")","v":2.6867661765250563}]
["2015-07-13","sècheresse",847,{"$f":"IF(ISNA(VLOOKUP(C917,BDDG!$A$2:$F$100,2,FALSE)),\"\",VLOOKUP(C917,BDDG!$A$2:$F$100,2,FALSE))","v":0},{"$f":"IF(ISNA(VLOOKUP(C917,BDDG!$A$3:$J$102,3,FALSE)),\"\",VLOOKUP(C917,BDDG!$A$3:$J$102,3,FALSE))","v":"B"},{"$f":"IF(ISNA(VLOOKUP(C917,BDDG!$A$3:$J$102,4,FALSE)),\"\",VLOOKUP(C917,BDDG!$A$3:$J$102,4,FALSE))","v":106},{"$f":"IF(ISNA(VLOOKUP(C917,BDDG!$A$2:$F$100,5,FALSE)),\"\",VLOOKUP(C917,BDDG!$A$2:$F$100,5,FALSE))","v":"A7"},{"$f":"IF(ISNA(VLOOKUP(C917,BDDG!$A$2:$F$100,6,FALSE)),\"\",VLOOKUP(C917,BDDG!$A$2:$F$100,6,FALSE))","v":"AA18"},{"$f":"IF(ISERROR(VLOOKUP(C917,BDDG!$A$2:$G$100,7,FALSE)),\"\",VLOOKUP(C917,BDDG!$A$2:$G$100,7,FALSE))","v":2},{"$f":"IF(ISERROR(VLOOKUP(C917,BDDG!$A$2:$H$100,8,FALSE)),\"\",VLOOKUP(C917,BDDG!$A$2:$H$100,8,FALSE))","v":"BB18"},10,49.06,17.611088463106402,{"$f":"IF(ISERROR(VLOOKUP(C917,BDDG!$A$2:$I$100,9,FALSE)),\"\",VLOOKUP(C917,BDDG!$A$2:$I$100,9,FALSE))","v":"CC18"},10,99.44,8.6886564762670968,{"$f":"IF(ISERROR(VLOOKUP(C917,BDDG!$A$2:$J$100,10,FALSE)),\"\",VLOOKUP(C917,BDDG!$A$2:$J$100,10,FALSE))","v":"DD18"},null,null,"",26.299744939373497,7,2015,{"$f":"IFERROR(INDEX($V$2:V917,MATCH(H917&MAX(IF($H$1:H916=H917,$A$1:A916)),$H$2:H917&$A$2:A917,0))-V917,\"\")","v":-4.8291817630933593}]
["2015-07-13","sècheresse",844,{"$f":"IF(ISNA(VLOOKUP(C918,BDDG!$A$2:$F$100,2,FALSE)),\"\",VLOOKUP(C918,BDDG!$A$2:$F$100,2,FALSE))","v":0},{"$f":"IF(ISNA(VLOOKUP(C918,BDDG!$A$3:$J$102,3,FALSE)),\"\",VLOOKUP(C918,BDDG!$A$3:$J$102,3,FALSE))","v":"B"},{"$f":"IF(ISNA(VLOOKUP(C918,BDDG!$A$3:$J$102,4,FALSE)),\"\",VLOOKUP(C918,BDDG!$A$3:$J$102,4,FALSE))","v":106},{"$f":"IF(ISNA(VLOOKUP(C918,BDDG!$A$2:$F$100,5,FALSE)),\"\",VLOOKUP(C918,BDDG!$A$2:$F$100,5,FALSE))","v":"A6"},{"$f":"IF(ISNA(VLOOKUP(C918,BDDG!$A$2:$F$100,6,FALSE)),\"\",VLOOKUP(C918,BDDG!$A$2:$F$100,6,FALSE))","v":"AA14"},{"$f":"IF(ISERROR(VLOOKUP(C918,BDDG!$A$2:$G$100,7,FALSE)),\"\",VLOOKUP(C918,BDDG!$A$2:$G$100,7,FALSE))","v":2},{"$f":"IF(ISERROR(VLOOKUP(C918,BDDG!$A$2:$H$100,8,FALSE)),\"\",VLOOKUP(C918,BDDG!$A$2:$H$100,8,FALSE))","v":"BB14"},10,14.41,59.95836224843859,{"$f":"IF(ISERROR(VLOOKUP(C918,BDDG!$A$2:$I$100,9,FALSE)),\"\",VLOOKUP(C918,BDDG!$A$2:$I$100,9,FALSE))","v":"CC14"},null,null,"",{"$f":"IF(ISERROR(VLOOKUP(C918,BDDG!$A$2:$J$100,10,FALSE)),\"\",VLOOKUP(C918,BDDG!$A$2:$J$100,10,FALSE))","v":"DD14"},null,null,"",59.95836224843859,7,2015,{"$f":"IFERROR(INDEX($V$2:V918,MATCH(H918&MAX(IF($H$1:H917=H918,$A$1:A917)),$H$2:H918&$A$2:A918,0))-V918,\"\")","v":18.302507316778815}]
["2015-07-15","sècheresse",839,{"$f":"IF(ISNA(VLOOKUP(C919,BDDG!$A$2:$F$100,2,FALSE)),\"\",VLOOKUP(C919,BDDG!$A$2:$F$100,2,FALSE))","v":0},{"$f":"IF(ISNA(VLOOKUP(C919,BDDG!$A$3:$J$102,3,FALSE)),\"\",VLOOKUP(C919,BDDG!$A$3:$J$102,3,FALSE))","v":"A"},{"$f":"IF(ISNA(VLOOKUP(C919,BDDG!$A$3:$J$102,4,FALSE)),\"\",VLOOKUP(C919,BDDG!$A$3:$J$102,4,FALSE))","v":106},{"$f":"IF(ISNA(VLOOKUP(C919,BDDG!$A$2:$F$100,5,FALSE)),\"\",VLOOKUP(C919,BDDG!$A$2:$F$100,5,FALSE))","v":"A3"},{"$f":"IF(ISNA(VLOOKUP(C919,BDDG!$A$2:$F$100,6,FALSE)),\"\",VLOOKUP(C919,BDDG!$A$2:$F$100,6,FALSE))","v":"AA10"},{"$f":"IF(ISERROR(VLOOKUP(C919,BDDG!$A$2:$G$100,7,FALSE)),\"\",VLOOKUP(C919,BDDG!$A$2:$G$100,7,FALSE))","v":2},{"$f":"IF(ISERROR(VLOOKUP(C919,BDDG!$A$2:$H$100,8,FALSE)),\"\",VLOOKUP(C919,BDDG!$A$2:$H$100,8,FALSE))","v":"BB10"},10,30,28.8,{"$f":"IF(ISERROR(VLOOKUP(C919,BDDG!$A$2:$I$100,9,FALSE)),\"\",VLOOKUP(C919,BDDG!$A$2:$I$100,9,FALSE))","v":"CC10"},null,null,"",{"$f":"IF(ISERROR(VLOOKUP(C919,BDDG!$A$2:$J$100,10,FALSE)),\"\",VLOOKUP(C919,BDDG!$A$2:$J$100,10,FALSE))","v":"DD10"},null,null,"",28.8,7,2015,{"$f":"IFERROR(INDEX($V$2:V919,MATCH(H919&MAX(IF($H$1:H918=H919,$A$1:A918)),$H$2:H919&$A$2:A919,0))-V919,\"\")","v":43.200000000000017}]
["2015-07-16","sècheresse",863,{"$f":"IF(ISNA(VLOOKUP(C920,BDDG!$A$2:$F$100,2,FALSE)),\"\",VLOOKUP(C920,BDDG!$A$2:$F$100,2,FALSE))","v":0},{"$f":"IF(ISNA(VLOOKUP(C920,BDDG!$A$3:$J$102,3,FALSE)),\"\",VLOOKUP(C920,BDDG!$A$3:$J$102,3,FALSE))","v":"A"},{"$f":"IF(ISNA(VLOOKUP(C920,BDDG!$A$3:$J$102,4,FALSE)),\"\",VLOOKUP(C920,BDDG!$A$3:$J$102,4,FALSE))","v":106},{"$f":"IF(ISNA(VLOOKUP(C920,BDDG!$A$2:$F$100,5,FALSE)),\"\",VLOOKUP(C920,BDDG!$A$2:$F$100,5,FALSE))","v":"A13"},{"$f":"IF(ISNA(VLOOKUP(C920,BDDG!$A$2:$F$100,6,FALSE)),\"\",VLOOKUP(C920,BDDG!$A$2:$F$100,6,FALSE))","v":"AA35"},{"$f":"IF(ISERROR(VLOOKUP(C920,BDDG!$A$2:$G$100,7,FALSE)),\"\",VLOOKUP(C920,BDDG!$A$2:$G$100,7,FALSE))","v":1},{"$f":"IF(ISERROR(VLOOKUP(C920,BDDG!$A$2:$H$100,8,FALSE)),\"\",VLOOKUP(C920,BDDG!$A$2:$H$100,8,FALSE))","v":"BB35"},5,60,7.2,{"$f":"IF(ISERROR(VLOOKUP(C920,BDDG!$A$2:$I$100,9,FALSE)),\"\",VLOOKUP(C920,BDDG!$A$2:$I$100,9,FALSE))","v":"CC35"},null,null,"",{"$f":"IF(ISERROR(VLOOKUP(C920,BDDG!$A$2:$J$100,10,FALSE)),\"\",VLOOKUP(C920,BDDG!$A$2:$J$100,10,FALSE))","v":"DD35"},null,null,"",7.2,7,2015,{"$f":"IFERROR(INDEX($V$2:V920,MATCH(H920&MAX(IF($H$1:H919=H920,$A$1:A919)),$H$2:H920&$A$2:A920,0))-V920,\"\")","v":9.1018867924528344}]
["2015-07-16","sècheresse",864,{"$f":"IF(ISNA(VLOOKUP(C921,BDDG!$A$2:$F$100,2,FALSE)),\"\",VLOOKUP(C921,BDDG!$A$2:$F$100,2,FALSE))","v":0},{"$f":"IF(ISNA(VLOOKUP(C921,BDDG!$A$3:$J$102,3,FALSE)),\"\",VLOOKUP(C921,BDDG!$A$3:$J$102,3,FALSE))","v":"A"},{"$f":"IF(ISNA(VLOOKUP(C921,BDDG!$A$3:$J$102,4,FALSE)),\"\",VLOOKUP(C921,BDDG!$A$3:$J$102,4,FALSE))","v":106},{"$f":"IF(ISNA(VLOOKUP(C921,BDDG!$A$2:$F$100,5,FALSE)),\"\",VLOOKUP(C921,BDDG!$A$2:$F$100,5,FALSE))","v":"A13"},{"$f":"IF(ISNA(VLOOKUP(C921,BDDG!$A$2:$F$100,6,FALSE)),\"\",VLOOKUP(C921,BDDG!$A$2:$F$100,6,FALSE))","v":"AA36"},{"$f":"IF(ISERROR(VLOOKUP(C921,BDDG!$A$2:$G$100,7,FALSE)),\"\",VLOOKUP(C921,BDDG!$A$2:$G$100,7,FALSE))","v":1},{"$f":"IF(ISERROR(VLOOKUP(C921,BDDG!$A$2:$H$100,8,FALSE)),\"\",VLOOKUP(C921,BDDG!$A$2:$H$100,8,FALSE))","v":"BB36"},5,12.47,34.64314354450682,{"$f":"IF(ISERROR(VLOOKUP(C921,BDDG!$A$2:$I$100,9,FALSE)),\"\",VLOOKUP(C921,BDDG!$A$2:$I$100,9,FALSE))","v":"CC36"},null,null,"",{"$f":"IF(ISERROR(VLOOKUP(C921,BDDG!$A$2:$J$100,10,FALSE)),\"\",VLOOKUP(C921,BDDG!$A$2:$J$100,10,FALSE))","v":"DD36"},null,null,"",34.64314354450682,7,2015,{"$f":"IFERROR(INDEX($V$2:V921,MATCH(H921&MAX(IF($H$1:H920=H921,$A$1:A920)),$H$2:H921&$A$2:A921,0))-V921,\"\")","v":13.356856455493187}]
["2015-07-16","sècheresse",865,{"$f":"IF(ISNA(VLOOKUP(C922,BDDG!$A$2:$F$100,2,FALSE)),\"\",VLOOKUP(C922,BDDG!$A$2:$F$100,2,FALSE))","v":0},{"$f":"IF(ISNA(VLOOKUP(C922,BDDG!$A$3:$J$102,3,FALSE)),\"\",VLOOKUP(C922,BDDG!$A$3:$J$102,3,FALSE))","v":"A"},{"$f":"IF(ISNA(VLOOKUP(C922,BDDG!$A$3:$J$102,4,FALSE)),\"\",VLOOKUP(C922,BDDG!$A$3:$J$102,4,FALSE))","v":106},{"$f":"IF(ISNA(VLOOKUP(C922,BDDG!$A$2:$F$100,5,FALSE)),\"\",VLOOKUP(C922,BDDG!$A$2:$F$100,5,FALSE))","v":"A15"},{"$f":"IF(ISNA(VLOOKUP(C922,BDDG!$A$2:$F$100,6,FALSE)),\"\",VLOOKUP(C922,BDDG!$A$2:$F$100,6,FALSE))","v":"AA37"},{"$f":"IF(ISERROR(VLOOKUP(C922,BDDG!$A$2:$G$100,7,FALSE)),\"\",VLOOKUP(C922,BDDG!$A$2:$G$100,7,FALSE))","v":1},{"$f":"IF(ISERROR(VLOOKUP(C922,BDDG!$A$2:$H$100,8,FALSE)),\"\",VLOOKUP(C922,BDDG!$A$2:$H$100,8,FALSE))","v":"BB37"},5,219,1.9726027397260275,{"$f":"IF(ISERROR(VLOOKUP(C922,BDDG!$A$2:$I$100,9,FALSE)),\"\",VLOOKUP(C922,BDDG!$A$2:$I$100,9,FALSE))","v":"CC37"},null,null,"",{"$f":"IF(ISERROR(VLOOKUP(C922,BDDG!$A$2:$J$100,10,FALSE)),\"\",VLOOKUP(C922,BDDG!$A$2:$J$100,10,FALSE))","v":"DD37"},null,null,"",1.9726027397260275,7,2015,{"$f":"IFERROR(INDEX($V$2:V922,MATCH(H922&MAX(IF($H$1:H921=H922,$A$1:A921)),$H$2:H922&$A$2:A922,0))-V922,\"\")","v":1.1883728700300702}]
["2015-07-16","sècheresse",831,{"$f":"IF(ISNA(VLOOKUP(C923,BDDG!$A$2:$F$100,2,FALSE)),\"\",VLOOKUP(C923,BDDG!$A$2:$F$100,2,FALSE))","v":0},{"$f":"IF(ISNA(VLOOKUP(C923,BDDG!$A$3:$J$102,3,FALSE)),\"\",VLOOKUP(C923,BDDG!$A$3:$J$102,3,FALSE))","v":"A"},{"$f":"IF(ISNA(VLOOKUP(C923,BDDG!$A$3:$J$102,4,FALSE)),\"\",VLOOKUP(C923,BDDG!$A$3:$J$102,4,FALSE))","v":106},{"$f":"IF(ISNA(VLOOKUP(C923,BDDG!$A$2:$F$100,5,FALSE)),\"\",VLOOKUP(C923,BDDG!$A$2:$F$100,5,FALSE))","v":"A1"},{"$f":"IF(ISNA(VLOOKUP(C923,BDDG!$A$2:$F$100,6,FALSE)),\"\",VLOOKUP(C923,BDDG!$A$2:$F$100,6,FALSE))","v":"AA1"},{"$f":"IF(ISERROR(VLOOKUP(C923,BDDG!$A$2:$G$100,7,FALSE)),\"\",VLOOKUP(C923,BDDG!$A$2:$G$100,7,FALSE))","v":1},{"$f":"IF(ISERROR(VLOOKUP(C923,BDDG!$A$2:$H$100,8,FALSE)),\"\",VLOOKUP(C923,BDDG!$A$2:$H$100,8,FALSE))","v":"BB1"},10,13.87,62.292718096611402,{"$f":"IF(ISERROR(VLOOKUP(C923,BDDG!$A$2:$I$100,9,FALSE)),\"\",VLOOKUP(C923,BDDG!$A$2:$I$100,9,FALSE))","v":"CC1"},null,null,"",{"$f":"IF(ISERROR(VLOOKUP(C923,BDDG!$A$2:$J$100,10,FALSE)),\"\",VLOOKUP(C923,BDDG!$A$2:$J$100,10,FALSE))","v":"DD1"},null,null,"",62.292718096611402,7,2015,{"$f":"IFERROR(INDEX($V$2:V923,MATCH(H923&MAX(IF($H$1:H922=H923,$A$1:A922)),$H$2:H923&$A$2:A923,0))-V923,\"\")","v":3.8634840473395897}]
["2015-07-17","sècheresse",862,{"$f":"IF(ISNA(VLOOKUP(C924,BDDG!$A$2:$F$100,2,FALSE)),\"\",VLOOKUP(C924,BDDG!$A$2:$F$100,2,FALSE))","v":0},{"$f":"IF(ISNA(VLOOKUP(C924,BDDG!$A$3:$J$102,3,FALSE)),\"\",VLOOKUP(C924,BDDG!$A$3:$J$102,3,FALSE))","v":"A"},{"$f":"IF(ISNA(VLOOKUP(C924,BDDG!$A$3:$J$102,4,FALSE)),\"\",VLOOKUP(C924,BDDG!$A$3:$J$102,4,FALSE))","v":106},{"$f":"IF(ISNA(VLOOKUP(C924,BDDG!$A$2:$F$100,5,FALSE)),\"\",VLOOKUP(C924,BDDG!$A$2:$F$100,5,FALSE))","v":"A12"},{"$f":"IF(ISNA(VLOOKUP(C924,BDDG!$A$2:$F$100,6,FALSE)),\"\",VLOOKUP(C924,BDDG!$A$2:$F$100,6,FALSE))","v":"AA34"},{"$f":"IF(ISERROR(VLOOKUP(C924,BDDG!$A$2:$G$100,7,FALSE)),\"\",VLOOKUP(C924,BDDG!$A$2:$G$100,7,FALSE))","v":1},{"$f":"IF(ISERROR(VLOOKUP(C924,BDDG!$A$2:$H$100,8,FALSE)),\"\",VLOOKUP(C924,BDDG!$A$2:$H$100,8,FALSE))","v":"BB34"},10,15,57.6,{"$f":"IF(ISERROR(VLOOKUP(C924,BDDG!$A$2:$I$100,9,FALSE)),\"\",VLOOKUP(C924,BDDG!$A$2:$I$100,9,FALSE))","v":"CC34"},null,null,"",{"$f":"IF(ISERROR(VLOOKUP(C924,BDDG!$A$2:$J$100,10,FALSE)),\"\",VLOOKUP(C924,BDDG!$A$2:$J$100,10,FALSE))","v":"DD34"},null,null,"",57.6,7,2015,{"$f":"IFERROR(INDEX($V$2:V924,MATCH(H924&MAX(IF($H$1:H923=H924,$A$1:A923)),$H$2:H924&$A$2:A924,0))-V924,\"\")","v":-0.6079155672823191}]
["2015-07-17","sècheresse",860,{"$f":"IF(ISNA(VLOOKUP(C925,BDDG!$A$2:$F$100,2,FALSE)),\"\",VLOOKUP(C925,BDDG!$A$2:$F$100,2,FALSE))","v":0},{"$f":"IF(ISNA(VLOOKUP(C925,BDDG!$A$3:$J$102,3,FALSE)),\"\",VLOOKUP(C925,BDDG!$A$3:$J$102,3,FALSE))","v":"A"},{"$f":"IF(ISNA(VLOOKUP(C925,BDDG!$A$3:$J$102,4,FALSE)),\"\",VLOOKUP(C925,BDDG!$A$3:$J$102,4,FALSE))","v":106},{"$f":"IF(ISNA(VLOOKUP(C925,BDDG!$A$2:$F$100,5,FALSE)),\"\",VLOOKUP(C925,BDDG!$A$2:$F$100,5,FALSE))","v":"A11"},{"$f":"IF(ISNA(VLOOKUP(C925,BDDG!$A$2:$F$100,6,FALSE)),\"\",VLOOKUP(C925,BDDG!$A$2:$F$100,6,FALSE))","v":"AA32"},{"$f":"IF(ISERROR(VLOOKUP(C925,BDDG!$A$2:$G$100,7,FALSE)),\"\",VLOOKUP(C925,BDDG!$A$2:$G$100,7,FALSE))","v":2},{"$f":"IF(ISERROR(VLOOKUP(C925,BDDG!$A$2:$H$100,8,FALSE)),\"\",VLOOKUP(C925,BDDG!$A$2:$H$100,8,FALSE))","v":"BB32"},10,24.66,35.03649635036497,{"$f":"IF(ISERROR(VLOOKUP(C925,BDDG!$A$2:$I$100,9,FALSE)),\"\",VLOOKUP(C925,BDDG!$A$2:$I$100,9,FALSE))","v":"CC32"},null,null,null,{"$f":"IF(ISERROR(VLOOKUP(C925,BDDG!$A$2:$J$100,10,FALSE)),\"\",VLOOKUP(C925,BDDG!$A$2:$J$100,10,FALSE))","v":"DD32"},null,null,"",35.03649635036497,7,2015,{"$f":"IFERROR(INDEX($V$2:V925,MATCH(H925&MAX(IF($H$1:H924=H925,$A$1:A924)),$H$2:H925&$A$2:A925,0))-V925,\"\")","v":2.9415256276570076}]
["2015-07-17","sècheresse",839,{"$f":"IF(ISNA(VLOOKUP(C926,BDDG!$A$2:$F$100,2,FALSE)),\"\",VLOOKUP(C926,BDDG!$A$2:$F$100,2,FALSE))","v":0},{"$f":"IF(ISNA(VLOOKUP(C926,BDDG!$A$3:$J$102,3,FALSE)),\"\",VLOOKUP(C926,BDDG!$A$3:$J$102,3,FALSE))","v":"A"},{"$f":"IF(ISNA(VLOOKUP(C926,BDDG!$A$3:$J$102,4,FALSE)),\"\",VLOOKUP(C926,BDDG!$A$3:$J$102,4,FALSE))","v":106},{"$f":"IF(ISNA(VLOOKUP(C926,BDDG!$A$2:$F$100,5,FALSE)),\"\",VLOOKUP(C926,BDDG!$A$2:$F$100,5,FALSE))","v":"A3"},{"$f":"IF(ISNA(VLOOKUP(C926,BDDG!$A$2:$F$100,6,FALSE)),\"\",VLOOKUP(C926,BDDG!$A$2:$F$100,6,FALSE))","v":"AA10"},{"$f":"IF(ISERROR(VLOOKUP(C926,BDDG!$A$2:$G$100,7,FALSE)),\"\",VLOOKUP(C926,BDDG!$A$2:$G$100,7,FALSE))","v":2},{"$f":"IF(ISERROR(VLOOKUP(C926,BDDG!$A$2:$H$100,8,FALSE)),\"\",VLOOKUP(C926,BDDG!$A$2:$H$100,8,FALSE))","v":"BB10"},5,14,30.857142857142861,{"$f":"IF(ISERROR(VLOOKUP(C926,BDDG!$A$2:$I$100,9,FALSE)),\"\",VLOOKUP(C926,BDDG!$A$2:$I$100,9,FALSE))","v":"CC10"},null,null,{"$f":" IF(ISERROR(O926/P926*86.4),\"\",O926/P926*86.4)","v":""},{"$f":"IF(ISERROR(VLOOKUP(C926,BDDG!$A$2:$J$100,10,FALSE)),\"\",VLOOKUP(C926,BDDG!$A$2:$J$100,10,FALSE))","v":"DD10"},null,null,"",30.857142857142861,7,2015,{"$f":"IFERROR(INDEX($V$2:V926,MATCH(H926&MAX(IF($H$1:H925=H926,$A$1:A925)),$H$2:H926&$A$2:A926,0))-V926,\"\")","v":-2.0571428571428605}]
["2015-07-17","sècheresse",861,{"$f":"IF(ISNA(VLOOKUP(C927,BDDG!$A$2:$F$100,2,FALSE)),\"\",VLOOKUP(C927,BDDG!$A$2:$F$100,2,FALSE))","v":0},{"$f":"IF(ISNA(VLOOKUP(C927,BDDG!$A$3:$J$102,3,FALSE)),\"\",VLOOKUP(C927,BDDG!$A$3:$J$102,3,FALSE))","v":"A"},{"$f":"IF(ISNA(VLOOKUP(C927,BDDG!$A$3:$J$102,4,FALSE)),\"\",VLOOKUP(C927,BDDG!$A$3:$J$102,4,FALSE))","v":106},{"$f":"IF(ISNA(VLOOKUP(C927,BDDG!$A$2:$F$100,5,FALSE)),\"\",VLOOKUP(C927,BDDG!$A$2:$F$100,5,FALSE))","v":"A11"},{"$f":"IF(ISNA(VLOOKUP(C927,BDDG!$A$2:$F$100,6,FALSE)),\"\",VLOOKUP(C927,BDDG!$A$2:$F$100,6,FALSE))","v":"AA33"},{"$f":"IF(ISERROR(VLOOKUP(C927,BDDG!$A$2:$G$100,7,FALSE)),\"\",VLOOKUP(C927,BDDG!$A$2:$G$100,7,FALSE))","v":2},{"$f":"IF(ISERROR(VLOOKUP(C927,BDDG!$A$2:$H$100,8,FALSE)),\"\",VLOOKUP(C927,BDDG!$A$2:$H$100,8,FALSE))","v":"BB33"},null,null,null,{"$f":"IF(ISERROR(VLOOKUP(C927,BDDG!$A$2:$I$100,9,FALSE)),\"\",VLOOKUP(C927,BDDG!$A$2:$I$100,9,FALSE))","v":"CC33"},10,5.61,154.01069518716579,{"$f":"IF(ISERROR(VLOOKUP(C927,BDDG!$A$2:$J$100,10,FALSE)),\"\",VLOOKUP(C927,BDDG!$A$2:$J$100,10,FALSE))","v":"DD33"},null,null,"",{"$f":"IF(ISERROR(SUM(M927,Q927,U927)),\"\",SUM((M927,Q927,U927)))","v":154.01069518716579},7,2015,{"$f":"IFERROR(INDEX($V$2:V927,MATCH(H927&MAX(IF($H$1:H926=H927,$A$1:A926)),$H$2:H927&$A$2:A927,0))-V927,\"\")","v":7.7870576218229814}]
["2015-07-20","sècheresse",848,{"$f":"IF(ISNA(VLOOKUP(C928,BDDG!$A$2:$F$100,2,FALSE)),\"\",VLOOKUP(C928,BDDG!$A$2:$F$100,2,FALSE))","v":0},{"$f":"IF(ISNA(VLOOKUP(C928,BDDG!$A$3:$J$102,3,FALSE)),\"\",VLOOKUP(C928,BDDG!$A$3:$J$102,3,FALSE))","v":"B"},{"$f":"IF(ISNA(VLOOKUP(C928,BDDG!$A$3:$J$102,4,FALSE)),\"\",VLOOKUP(C928,BDDG!$A$3:$J$102,4,FALSE))","v":106},{"$f":"IF(ISNA(VLOOKUP(C928,BDDG!$A$2:$F$100,5,FALSE)),\"\",VLOOKUP(C928,BDDG!$A$2:$F$100,5,FALSE))","v":"A7"},{"$f":"IF(ISNA(VLOOKUP(C928,BDDG!$A$2:$F$100,6,FALSE)),\"\",VLOOKUP(C928,BDDG!$A$2:$F$100,6,FALSE))","v":"AA19"},{"$f":"IF(ISERROR(VLOOKUP(C928,BDDG!$A$2:$G$100,7,FALSE)),\"\",VLOOKUP(C928,BDDG!$A$2:$G$100,7,FALSE))","v":2},{"$f":"IF(ISERROR(VLOOKUP(C928,BDDG!$A$2:$H$100,8,FALSE)),\"\",VLOOKUP(C928,BDDG!$A$2:$H$100,8,FALSE))","v":"BB19"},5,52.66,{"$f":" IF(ISERROR(K928/L928*86.4),\"\",K928/L928*86.4)","v":8.2035700721610336},{"$f":"IF(ISERROR(VLOOKUP(C928,BDDG!$A$2:$I$100,9,FALSE)),\"\",VLOOKUP(C928,BDDG!$A$2:$I$100,9,FALSE))","v":"CC19"},5,22.25,19.415730337078653,{"$f":"IF(ISERROR(VLOOKUP(C928,BDDG!$A$2:$J$100,10,FALSE)),\"\",VLOOKUP(C928,BDDG!$A$2:$J$100,10,FALSE))","v":"DD19"},null,null,"",{"$f":"IF(ISERROR(SUM(M928,Q928,U928)),\"\",SUM(M928,Q928,U928))","v":27.619300409239685},7,2015,{"$f":"IFERROR(INDEX($V$2:V928,MATCH(H928&MAX(IF($H$1:H927=H928,$A$1:A927)),$H$2:H928&$A$2:A928,0))-V928,\"\")","v":-19.371877728827315}]
["2015-07-20","sècheresse",848,{"$f":"IF(ISNA(VLOOKUP(C929,BDDG!$A$2:$F$100,2,FALSE)),\"\",VLOOKUP(C929,BDDG!$A$2:$F$100,2,FALSE))","v":0},{"$f":"IF(ISNA(VLOOKUP(C929,BDDG!$A$3:$J$102,3,FALSE)),\"\",VLOOKUP(C929,BDDG!$A$3:$J$102,3,FALSE))","v":"B"},{"$f":"IF(ISNA(VLOOKUP(C929,BDDG!$A$3:$J$102,4,FALSE)),\"\",VLOOKUP(C929,BDDG!$A$3:$J$102,4,FALSE))","v":106},{"$f":"IF(ISNA(VLOOKUP(C929,BDDG!$A$2:$F$100,5,FALSE)),\"\",VLOOKUP(C929,BDDG!$A$2:$F$100,5,FALSE))","v":"A7"},{"$f":"IF(ISNA(VLOOKUP(C929,BDDG!$A$2:$F$100,6,FALSE)),\"\",VLOOKUP(C929,BDDG!$A$2:$F$100,6,FALSE))","v":"AA19"},{"$f":"IF(ISERROR(VLOOKUP(C929,BDDG!$A$2:$G$100,7,FALSE)),\"\",VLOOKUP(C929,BDDG!$A$2:$G$100,7,FALSE))","v":2},{"$f":"IF(ISERROR(VLOOKUP(C929,BDDG!$A$2:$H$100,8,FALSE)),\"\",VLOOKUP(C929,BDDG!$A$2:$H$100,8,FALSE))","v":"BB19"},5,78,5.5384615384615383,{"$f":"IF(ISERROR(VLOOKUP(C929,BDDG!$A$2:$I$100,9,FALSE)),\"\",VLOOKUP(C929,BDDG!$A$2:$I$100,9,FALSE))","v":"CC19"},null,null,"",{"$f":"IF(ISERROR(VLOOKUP(C929,BDDG!$A$2:$J$100,10,FALSE)),\"\",VLOOKUP(C929,BDDG!$A$2:$J$100,10,FALSE))","v":"DD19"},null,null,"",5.5384615384615383,7,2015,{"$f":"IFERROR(INDEX($V$2:V929,MATCH(H929&MAX(IF($H$1:H928=H929,$A$1:A928)),$H$2:H929&$A$2:A929,0))-V929,\"\")","v":22.080838870778145}]
["2015-07-20","sècheresse",842,{"$f":"IF(ISNA(VLOOKUP(C930,BDDG!$A$2:$F$100,2,FALSE)),\"\",VLOOKUP(C930,BDDG!$A$2:$F$100,2,FALSE))","v":0},{"$f":"IF(ISNA(VLOOKUP(C930,BDDG!$A$3:$J$102,3,FALSE)),\"\",VLOOKUP(C930,BDDG!$A$3:$J$102,3,FALSE))","v":"B"},{"$f":"IF(ISNA(VLOOKUP(C930,BDDG!$A$3:$J$102,4,FALSE)),\"\",VLOOKUP(C930,BDDG!$A$3:$J$102,4,FALSE))","v":106},{"$f":"IF(ISNA(VLOOKUP(C930,BDDG!$A$2:$F$100,5,FALSE)),\"\",VLOOKUP(C930,BDDG!$A$2:$F$100,5,FALSE))","v":"A5"},{"$f":"IF(ISNA(VLOOKUP(C930,BDDG!$A$2:$F$100,6,FALSE)),\"\",VLOOKUP(C930,BDDG!$A$2:$F$100,6,FALSE))","v":"AA13"},{"$f":"IF(ISERROR(VLOOKUP(C930,BDDG!$A$2:$G$100,7,FALSE)),\"\",VLOOKUP(C930,BDDG!$A$2:$G$100,7,FALSE))","v":1},{"$f":"IF(ISERROR(VLOOKUP(C930,BDDG!$A$2:$H$100,8,FALSE)),\"\",VLOOKUP(C930,BDDG!$A$2:$H$100,8,FALSE))","v":"BB13"},5,28.56,15.12605042016807,{"$f":"IF(ISERROR(VLOOKUP(C930,BDDG!$A$2:$I$100,9,FALSE)),\"\",VLOOKUP(C930,BDDG!$A$2:$I$100,9,FALSE))","v":"CC13"},null,null,"",{"$f":"IF(ISERROR(VLOOKUP(C930,BDDG!$A$2:$J$100,10,FALSE)),\"\",VLOOKUP(C930,BDDG!$A$2:$J$100,10,FALSE))","v":"DD13"},null,null,"",15.12605042016807,7,2015,{"$f":"IFERROR(INDEX($V$2:V930,MATCH(H930&MAX(IF($H$1:H929=H930,$A$1:A929)),$H$2:H930&$A$2:A930,0))-V930,\"\")","v":0.55453034208238527}]
["2015-07-20","sècheresse",850,{"$f":"IF(ISNA(VLOOKUP(C931,BDDG!$A$2:$F$100,2,FALSE)),\"\",VLOOKUP(C931,BDDG!$A$2:$F$100,2,FALSE))","v":0},{"$f":"IF(ISNA(VLOOKUP(C931,BDDG!$A$3:$J$102,3,FALSE)),\"\",VLOOKUP(C931,BDDG!$A$3:$J$102,3,FALSE))","v":"B"},{"$f":"IF(ISNA(VLOOKUP(C931,BDDG!$A$3:$J$102,4,FALSE)),\"\",VLOOKUP(C931,BDDG!$A$3:$J$102,4,FALSE))","v":106},{"$f":"IF(ISNA(VLOOKUP(C931,BDDG!$A$2:$F$100,5,FALSE)),\"\",VLOOKUP(C931,BDDG!$A$2:$F$100,5,FALSE))","v":"A8"},{"$f":"IF(ISNA(VLOOKUP(C931,BDDG!$A$2:$F$100,6,FALSE)),\"\",VLOOKUP(C931,BDDG!$A$2:$F$100,6,FALSE))","v":"AA20"},{"$f":"IF(ISERROR(VLOOKUP(C931,BDDG!$A$2:$G$100,7,FALSE)),\"\",VLOOKUP(C931,BDDG!$A$2:$G$100,7,FALSE))","v":1},{"$f":"IF(ISERROR(VLOOKUP(C931,BDDG!$A$2:$H$100,8,FALSE)),\"\",VLOOKUP(C931,BDDG!$A$2:$H$100,8,FALSE))","v":"BB20"},5,11.22,38.502673796791449,{"$f":"IF(ISERROR(VLOOKUP(C931,BDDG!$A$2:$I$100,9,FALSE)),\"\",VLOOKUP(C931,BDDG!$A$2:$I$100,9,FALSE))","v":"CC20"},null,null,"",{"$f":"IF(ISERROR(VLOOKUP(C931,BDDG!$A$2:$J$100,10,FALSE)),\"\",VLOOKUP(C931,BDDG!$A$2:$J$100,10,FALSE))","v":"DD20"},null,null,"",38.502673796791449,7,2015,{"$f":"IFERROR(INDEX($V$2:V931,MATCH(H931&MAX(IF($H$1:H930=H931,$A$1:A930)),$H$2:H931&$A$2:A931,0))-V931,\"\")","v":-1.98534497177031}]
["2015-07-20","sècheresse",855,{"$f":"IF(ISNA(VLOOKUP(C932,BDDG!$A$2:$F$100,2,FALSE)),\"\",VLOOKUP(C932,BDDG!$A$2:$F$100,2,FALSE))","v":0},{"$f":"IF(ISNA(VLOOKUP(C932,BDDG!$A$3:$J$102,3,FALSE)),\"\",VLOOKUP(C932,BDDG!$A$3:$J$102,3,FALSE))","v":"A"},{"$f":"IF(ISNA(VLOOKUP(C932,BDDG!$A$3:$J$102,4,FALSE)),\"\",VLOOKUP(C932,BDDG!$A$3:$J$102,4,FALSE))","v":106},{"$f":"IF(ISNA(VLOOKUP(C932,BDDG!$A$2:$F$100,5,FALSE)),\"\",VLOOKUP(C932,BDDG!$A$2:$F$100,5,FALSE))","v":"A9"},{"$f":"IF(ISNA(VLOOKUP(C932,BDDG!$A$2:$F$100,6,FALSE)),\"\",VLOOKUP(C932,BDDG!$A$2:$F$100,6,FALSE))","v":"AA26"},{"$f":"IF(ISERROR(VLOOKUP(C932,BDDG!$A$2:$G$100,7,FALSE)),\"\",VLOOKUP(C932,BDDG!$A$2:$G$100,7,FALSE))","v":2},{"$f":"IF(ISERROR(VLOOKUP(C932,BDDG!$A$2:$H$100,8,FALSE)),\"\",VLOOKUP(C932,BDDG!$A$2:$H$100,8,FALSE))","v":"BB26"},10,16,54,{"$f":"IF(ISERROR(VLOOKUP(C932,BDDG!$A$2:$I$100,9,FALSE)),\"\",VLOOKUP(C932,BDDG!$A$2:$I$100,9,FALSE))","v":"CC26"},10,40,21.6,{"$f":"IF(ISERROR(VLOOKUP(C932,BDDG!$A$2:$J$100,10,FALSE)),\"\",VLOOKUP(C932,BDDG!$A$2:$J$100,10,FALSE))","v":"DD26"},null,null,"",75.599999999999994,7,2015,{"$f":"IFERROR(INDEX($V$2:V932,MATCH(H932&MAX(IF($H$1:H931=H932,$A$1:A931)),$H$2:H932&$A$2:A932,0))-V932,\"\")","v":16.819107368133942}]
["2015-07-20","sècheresse",854,{"$f":"IF(ISNA(VLOOKUP(C933,BDDG!$A$2:$F$100,2,FALSE)),\"\",VLOOKUP(C933,BDDG!$A$2:$F$100,2,FALSE))","v":0},{"$f":"IF(ISNA(VLOOKUP(C933,BDDG!$A$3:$J$102,3,FALSE)),\"\",VLOOKUP(C933,BDDG!$A$3:$J$102,3,FALSE))","v":"A"},{"$f":"IF(ISNA(VLOOKUP(C933,BDDG!$A$3:$J$102,4,FALSE)),\"\",VLOOKUP(C933,BDDG!$A$3:$J$102,4,FALSE))","v":106},{"$f":"IF(ISNA(VLOOKUP(C933,BDDG!$A$2:$F$100,5,FALSE)),\"\",VLOOKUP(C933,BDDG!$A$2:$F$100,5,FALSE))","v":"A9"},{"$f":"IF(ISNA(VLOOKUP(C933,BDDG!$A$2:$F$100,6,FALSE)),\"\",VLOOKUP(C933,BDDG!$A$2:$F$100,6,FALSE))","v":"AA25"},{"$f":"IF(ISERROR(VLOOKUP(C933,BDDG!$A$2:$G$100,7,FALSE)),\"\",VLOOKUP(C933,BDDG!$A$2:$G$100,7,FALSE))","v":2},{"$f":"IF(ISERROR(VLOOKUP(C933,BDDG!$A$2:$H$100,8,FALSE)),\"\",VLOOKUP(C933,BDDG!$A$2:$H$100,8,FALSE))","v":"BB25"},10,7,123.42857142857144,{"$f":"IF(ISERROR(VLOOKUP(C933,BDDG!$A$2:$I$100,9,FALSE)),\"\",VLOOKUP(C933,BDDG!$A$2:$I$100,9,FALSE))","v":"CC25"},null,null,"",{"$f":"IF(ISERROR(VLOOKUP(C933,BDDG!$A$2:$J$100,10,FALSE)),\"\",VLOOKUP(C933,BDDG!$A$2:$J$100,10,FALSE))","v":"DD25"},null,null,"",123.42857142857144,7,2015,{"$f":"IFERROR(INDEX($V$2:V933,MATCH(H933&MAX(IF($H$1:H932=H933,$A$1:A932)),$H$2:H933&$A$2:A933,0))-V933,\"\")","v":49.371428571428567}]
["2015-07-20","sècheresse",847,{"$f":"IF(ISNA(VLOOKUP(C934,BDDG!$A$2:$F$100,2,FALSE)),\"\",VLOOKUP(C934,BDDG!$A$2:$F$100,2,FALSE))","v":0},{"$f":"IF(ISNA(VLOOKUP(C934,BDDG!$A$3:$J$102,3,FALSE)),\"\",VLOOKUP(C934,BDDG!$A$3:$J$102,3,FALSE))","v":"B"},{"$f":"IF(ISNA(VLOOKUP(C934,BDDG!$A$3:$J$102,4,FALSE)),\"\",VLOOKUP(C934,BDDG!$A$3:$J$102,4,FALSE))","v":106},{"$f":"IF(ISNA(VLOOKUP(C934,BDDG!$A$2:$F$100,5,FALSE)),\"\",VLOOKUP(C934,BDDG!$A$2:$F$100,5,FALSE))","v":"A7"},{"$f":"IF(ISNA(VLOOKUP(C934,BDDG!$A$2:$F$100,6,FALSE)),\"\",VLOOKUP(C934,BDDG!$A$2:$F$100,6,FALSE))","v":"AA18"},{"$f":"IF(ISERROR(VLOOKUP(C934,BDDG!$A$2:$G$100,7,FALSE)),\"\",VLOOKUP(C934,BDDG!$A$2:$G$100,7,FALSE))","v":2},{"$f":"IF(ISERROR(VLOOKUP(C934,BDDG!$A$2:$H$100,8,FALSE)),\"\",VLOOKUP(C934,BDDG!$A$2:$H$100,8,FALSE))","v":"BB18"},2,1.01,171.0891089108911,{"$f":"IF(ISERROR(VLOOKUP(C934,BDDG!$A$2:$I$100,9,FALSE)),\"\",VLOOKUP(C934,BDDG!$A$2:$I$100,9,FALSE))","v":"CC18"},2,15.72,10.992366412213741,{"$f":"IF(ISERROR(VLOOKUP(C934,BDDG!$A$2:$J$100,10,FALSE)),\"\",VLOOKUP(C934,BDDG!$A$2:$J$100,10,FALSE))","v":"DD18"},null,null,"",182.08147532310483,7,2015,{"$f":"IFERROR(INDEX($V$2:V934,MATCH(H934&MAX(IF($H$1:H933=H934,$A$1:A933)),$H$2:H934&$A$2:A934,0))-V934,\"\")","v":-155.78173038373131}]
["2015-07-21","sècheresse",839,{"$f":"IF(ISNA(VLOOKUP(C935,BDDG!$A$2:$F$100,2,FALSE)),\"\",VLOOKUP(C935,BDDG!$A$2:$F$100,2,FALSE))","v":0},{"$f":"IF(ISNA(VLOOKUP(C935,BDDG!$A$3:$J$102,3,FALSE)),\"\",VLOOKUP(C935,BDDG!$A$3:$J$102,3,FALSE))","v":"A"},{"$f":"IF(ISNA(VLOOKUP(C935,BDDG!$A$3:$J$102,4,FALSE)),\"\",VLOOKUP(C935,BDDG!$A$3:$J$102,4,FALSE))","v":106},{"$f":"IF(ISNA(VLOOKUP(C935,BDDG!$A$2:$F$100,5,FALSE)),\"\",VLOOKUP(C935,BDDG!$A$2:$F$100,5,FALSE))","v":"A3"},{"$f":"IF(ISNA(VLOOKUP(C935,BDDG!$A$2:$F$100,6,FALSE)),\"\",VLOOKUP(C935,BDDG!$A$2:$F$100,6,FALSE))","v":"AA10"},{"$f":"IF(ISERROR(VLOOKUP(C935,BDDG!$A$2:$G$100,7,FALSE)),\"\",VLOOKUP(C935,BDDG!$A$2:$G$100,7,FALSE))","v":2},{"$f":"IF(ISERROR(VLOOKUP(C935,BDDG!$A$2:$H$100,8,FALSE)),\"\",VLOOKUP(C935,BDDG!$A$2:$H$100,8,FALSE))","v":"BB10"},5,13.68,31.578947368421055,{"$f":"IF(ISERROR(VLOOKUP(C935,BDDG!$A$2:$I$100,9,FALSE)),\"\",VLOOKUP(C935,BDDG!$A$2:$I$100,9,FALSE))","v":"CC10"},null,null,null,{"$f":"IF(ISERROR(VLOOKUP(C935,BDDG!$A$2:$J$100,10,FALSE)),\"\",VLOOKUP(C935,BDDG!$A$2:$J$100,10,FALSE))","v":"DD10"},null,null,"",31.578947368421055,7,2015,{"$f":"IFERROR(INDEX($V$2:V935,MATCH(H935&MAX(IF($H$1:H934=H935,$A$1:A934)),$H$2:H935&$A$2:A935,0))-V935,\"\")","v":-0.72180451127819367}]
["2015-07-21","sècheresse",856,{"$f":"IF(ISNA(VLOOKUP(C936,BDDG!$A$2:$F$100,2,FALSE)),\"\",VLOOKUP(C936,BDDG!$A$2:$F$100,2,FALSE))","v":0},{"$f":"IF(ISNA(VLOOKUP(C936,BDDG!$A$3:$J$102,3,FALSE)),\"\",VLOOKUP(C936,BDDG!$A$3:$J$102,3,FALSE))","v":"A"},{"$f":"IF(ISNA(VLOOKUP(C936,BDDG!$A$3:$J$102,4,FALSE)),\"\",VLOOKUP(C936,BDDG!$A$3:$J$102,4,FALSE))","v":106},{"$f":"IF(ISNA(VLOOKUP(C936,BDDG!$A$2:$F$100,5,FALSE)),\"\",VLOOKUP(C936,BDDG!$A$2:$F$100,5,FALSE))","v":"A9"},{"$f":"IF(ISNA(VLOOKUP(C936,BDDG!$A$2:$F$100,6,FALSE)),\"\",VLOOKUP(C936,BDDG!$A$2:$F$100,6,FALSE))","v":"AA27"},{"$f":"IF(ISERROR(VLOOKUP(C936,BDDG!$A$2:$G$100,7,FALSE)),\"\",VLOOKUP(C936,BDDG!$A$2:$G$100,7,FALSE))","v":2},{"$f":"IF(ISERROR(VLOOKUP(C936,BDDG!$A$2:$H$100,8,FALSE)),\"\",VLOOKUP(C936,BDDG!$A$2:$H$100,8,FALSE))","v":"BB27"},2,15.68,11.020408163265307,{"$f":"IF(ISERROR(VLOOKUP(C936,BDDG!$A$2:$I$100,9,FALSE)),\"\",VLOOKUP(C936,BDDG!$A$2:$I$100,9,FALSE))","v":"CC27"},10,8.81,{"$f":" IF(ISERROR(O936/P936*86.4),\"\",O936/P936*86.4)","v":98.070374574347341},{"$f":"IF(ISERROR(VLOOKUP(C936,BDDG!$A$2:$J$100,10,FALSE)),\"\",VLOOKUP(C936,BDDG!$A$2:$J$100,10,FALSE))","v":"DD27"},null,null,"",109.09078273761264,7,2015,{"$f":"IFERROR(INDEX($V$2:V936,MATCH(H936&MAX(IF($H$1:H935=H936,$A$1:A935)),$H$2:H936&$A$2:A936,0))-V936,\"\")","v":77.209217262387369}]
["2015-07-21","sècheresse",859,{"$f":"IF(ISNA(VLOOKUP(C937,BDDG!$A$2:$F$100,2,FALSE)),\"\",VLOOKUP(C937,BDDG!$A$2:$F$100,2,FALSE))","v":0},{"$f":"IF(ISNA(VLOOKUP(C937,BDDG!$A$3:$J$102,3,FALSE)),\"\",VLOOKUP(C937,BDDG!$A$3:$J$102,3,FALSE))","v":"A"},{"$f":"IF(ISNA(VLOOKUP(C937,BDDG!$A$3:$J$102,4,FALSE)),\"\",VLOOKUP(C937,BDDG!$A$3:$J$102,4,FALSE))","v":106},{"$f":"IF(ISNA(VLOOKUP(C937,BDDG!$A$2:$F$100,5,FALSE)),\"\",VLOOKUP(C937,BDDG!$A$2:$F$100,5,FALSE))","v":"A10"},{"$f":"IF(ISNA(VLOOKUP(C937,BDDG!$A$2:$F$100,6,FALSE)),\"\",VLOOKUP(C937,BDDG!$A$2:$F$100,6,FALSE))","v":"AA30"},{"$f":"IF(ISERROR(VLOOKUP(C937,BDDG!$A$2:$G$100,7,FALSE)),\"\",VLOOKUP(C937,BDDG!$A$2:$G$100,7,FALSE))","v":1},{"$f":"IF(ISERROR(VLOOKUP(C937,BDDG!$A$2:$H$100,8,FALSE)),\"\",VLOOKUP(C937,BDDG!$A$2:$H$100,8,FALSE))","v":"BB30"},2,49,3.5265306122448981,null,null,null,"",{"$f":"IF(ISERROR(VLOOKUP(C937,BDDG!$A$2:$J$100,10,FALSE)),\"\",VLOOKUP(C937,BDDG!$A$2:$J$100,10,FALSE))","v":"DD30"},null,null,"",3.5265306122448981,7,2015,{"$f":"IFERROR(INDEX($V$2:V937,MATCH(H937&MAX(IF($H$1:H936=H937,$A$1:A936)),$H$2:H937&$A$2:A937,0))-V937,\"\")","v":-0.10067811422745088}]
["2015-07-21","sècheresse",852,{"$f":"IF(ISNA(VLOOKUP(C938,BDDG!$A$2:$F$100,2,FALSE)),\"\",VLOOKUP(C938,BDDG!$A$2:$F$100,2,FALSE))","v":0},{"$f":"IF(ISNA(VLOOKUP(C938,BDDG!$A$3:$J$102,3,FALSE)),\"\",VLOOKUP(C938,BDDG!$A$3:$J$102,3,FALSE))","v":"A"},{"$f":"IF(ISNA(VLOOKUP(C938,BDDG!$A$3:$J$102,4,FALSE)),\"\",VLOOKUP(C938,BDDG!$A$3:$J$102,4,FALSE))","v":106},{"$f":"IF(ISNA(VLOOKUP(C938,BDDG!$A$2:$F$100,5,FALSE)),\"\",VLOOKUP(C938,BDDG!$A$2:$F$100,5,FALSE))","v":"A9"},{"$f":"IF(ISNA(VLOOKUP(C938,BDDG!$A$2:$F$100,6,FALSE)),\"\",VLOOKUP(C938,BDDG!$A$2:$F$100,6,FALSE))","v":"AA22"},{"$f":"IF(ISERROR(VLOOKUP(C938,BDDG!$A$2:$G$100,7,FALSE)),\"\",VLOOKUP(C938,BDDG!$A$2:$G$100,7,FALSE))","v":1},{"$f":"IF(ISERROR(VLOOKUP(C938,BDDG!$A$2:$H$100,8,FALSE)),\"\",VLOOKUP(C938,BDDG!$A$2:$H$100,8,FALSE))","v":"BB22"},5,35.72,12.094064949608063,{"$f":"IF(ISERROR(VLOOKUP(C938,BDDG!$A$2:$I$100,9,FALSE)),\"\",VLOOKUP(C938,BDDG!$A$2:$I$100,9,FALSE))","v":"CC22"},null,null,"",{"$f":"IF(ISERROR(VLOOKUP(C938,BDDG!$A$2:$J$100,10,FALSE)),\"\",VLOOKUP(C938,BDDG!$A$2:$J$100,10,FALSE))","v":"DD22"},null,null,"",12.094064949608063,7,2015,{"$f":"IFERROR(INDEX($V$2:V938,MATCH(H938&MAX(IF($H$1:H937=H938,$A$1:A937)),$H$2:H938&$A$2:A938,0))-V938,\"\")","v":0.24879219324908064}]
["2015-07-24","sècheresse",871,{"$f":"IF(ISNA(VLOOKUP(C939,BDDG!$A$2:$F$100,2,FALSE)),\"\",VLOOKUP(C939,BDDG!$A$2:$F$100,2,FALSE))","v":0},{"$f":"IF(ISNA(VLOOKUP(C939,BDDG!$A$3:$J$102,3,FALSE)),\"\",VLOOKUP(C939,BDDG!$A$3:$J$102,3,FALSE))","v":"C"},{"$f":"IF(ISNA(VLOOKUP(C939,BDDG!$A$3:$J$102,4,FALSE)),\"\",VLOOKUP(C939,BDDG!$A$3:$J$102,4,FALSE))","v":108},{"$f":"IF(ISNA(VLOOKUP(C939,BDDG!$A$2:$F$100,5,FALSE)),\"\",VLOOKUP(C939,BDDG!$A$2:$F$100,5,FALSE))","v":"A18"},{"$f":"IF(ISNA(VLOOKUP(C939,BDDG!$A$2:$F$100,6,FALSE)),\"\",VLOOKUP(C939,BDDG!$A$2:$F$100,6,FALSE))","v":"AA44"},{"$f":"IF(ISERROR(VLOOKUP(C939,BDDG!$A$2:$G$100,7,FALSE)),\"\",VLOOKUP(C939,BDDG!$A$2:$G$100,7,FALSE))","v":2},{"$f":"IF(ISERROR(VLOOKUP(C939,BDDG!$A$2:$H$100,8,FALSE)),\"\",VLOOKUP(C939,BDDG!$A$2:$H$100,8,FALSE))","v":"BB44"},5,18.940000000000001,22.808870116156282,{"$f":"IF(ISERROR(VLOOKUP(C939,BDDG!$A$2:$I$100,9,FALSE)),\"\",VLOOKUP(C939,BDDG!$A$2:$I$100,9,FALSE))","v":"CC44"},null,null,"",{"$f":"IF(ISERROR(VLOOKUP(C939,BDDG!$A$2:$J$100,10,FALSE)),\"\",VLOOKUP(C939,BDDG!$A$2:$J$100,10,FALSE))","v":"DD44"},null,null,"",22.808870116156282,7,2015,{"$f":"IFERROR(INDEX($V$2:V939,MATCH(H939&MAX(IF($H$1:H938=H939,$A$1:A938)),$H$2:H939&$A$2:A939,0))-V939,\"\")","v":10.421899114612952}]
["2015-07-24","sècheresse",873,{"$f":"IF(ISNA(VLOOKUP(C940,BDDG!$A$2:$F$100,2,FALSE)),\"\",VLOOKUP(C940,BDDG!$A$2:$F$100,2,FALSE))","v":0},{"$f":"IF(ISNA(VLOOKUP(C940,BDDG!$A$3:$J$102,3,FALSE)),\"\",VLOOKUP(C940,BDDG!$A$3:$J$102,3,FALSE))","v":"C"},{"$f":"IF(ISNA(VLOOKUP(C940,BDDG!$A$3:$J$102,4,FALSE)),\"\",VLOOKUP(C940,BDDG!$A$3:$J$102,4,FALSE))","v":108},{"$f":"IF(ISNA(VLOOKUP(C940,BDDG!$A$2:$F$100,5,FALSE)),\"\",VLOOKUP(C940,BDDG!$A$2:$F$100,5,FALSE))","v":"A18"},{"$f":"IF(ISNA(VLOOKUP(C940,BDDG!$A$2:$F$100,6,FALSE)),\"\",VLOOKUP(C940,BDDG!$A$2:$F$100,6,FALSE))","v":"AA46"},{"$f":"IF(ISERROR(VLOOKUP(C940,BDDG!$A$2:$G$100,7,FALSE)),\"\",VLOOKUP(C940,BDDG!$A$2:$G$100,7,FALSE))","v":1},{"$f":"IF(ISERROR(VLOOKUP(C940,BDDG!$A$2:$H$100,8,FALSE)),\"\",VLOOKUP(C940,BDDG!$A$2:$H$100,8,FALSE))","v":"BB46"},10,3.4,254.11764705882356,{"$f":"IF(ISERROR(VLOOKUP(C940,BDDG!$A$2:$I$100,9,FALSE)),\"\",VLOOKUP(C940,BDDG!$A$2:$I$100,9,FALSE))","v":"CC46"},null,null,"",{"$f":"IF(ISERROR(VLOOKUP(C940,BDDG!$A$2:$J$100,10,FALSE)),\"\",VLOOKUP(C940,BDDG!$A$2:$J$100,10,FALSE))","v":"DD46"},null,null,"",254.11764705882356,7,2015,{"$f":"IFERROR(INDEX($V$2:V940,MATCH(H940&MAX(IF($H$1:H939=H940,$A$1:A939)),$H$2:H940&$A$2:A940,0))-V940,\"\")","v":-2.9548563611491545}]
["2015-07-24","sècheresse",874,{"$f":"IF(ISNA(VLOOKUP(C941,BDDG!$A$2:$F$100,2,FALSE)),\"\",VLOOKUP(C941,BDDG!$A$2:$F$100,2,FALSE))","v":0},{"$f":"IF(ISNA(VLOOKUP(C941,BDDG!$A$3:$J$102,3,FALSE)),\"\",VLOOKUP(C941,BDDG!$A$3:$J$102,3,FALSE))","v":"C"},{"$f":"IF(ISNA(VLOOKUP(C941,BDDG!$A$3:$J$102,4,FALSE)),\"\",VLOOKUP(C941,BDDG!$A$3:$J$102,4,FALSE))","v":108},{"$f":"IF(ISNA(VLOOKUP(C941,BDDG!$A$2:$F$100,5,FALSE)),\"\",VLOOKUP(C941,BDDG!$A$2:$F$100,5,FALSE))","v":"A18"},{"$f":"IF(ISNA(VLOOKUP(C941,BDDG!$A$2:$F$100,6,FALSE)),\"\",VLOOKUP(C941,BDDG!$A$2:$F$100,6,FALSE))","v":"AA47"},{"$f":"IF(ISERROR(VLOOKUP(C941,BDDG!$A$2:$G$100,7,FALSE)),\"\",VLOOKUP(C941,BDDG!$A$2:$G$100,7,FALSE))","v":1},{"$f":"IF(ISERROR(VLOOKUP(C941,BDDG!$A$2:$H$100,8,FALSE)),\"\",VLOOKUP(C941,BDDG!$A$2:$H$100,8,FALSE))","v":"BB47"},5,80.91,5.3392658509454956,{"$f":"IF(ISERROR(VLOOKUP(C941,BDDG!$A$2:$I$100,9,FALSE)),\"\",VLOOKUP(C941,BDDG!$A$2:$I$100,9,FALSE))","v":"CC47"},null,null,"",{"$f":"IF(ISERROR(VLOOKUP(C941,BDDG!$A$2:$J$100,10,FALSE)),\"\",VLOOKUP(C941,BDDG!$A$2:$J$100,10,FALSE))","v":"DD47"},null,null,"",5.3392658509454956,7,2015,{"$f":"IFERROR(INDEX($V$2:V941,MATCH(H941&MAX(IF($H$1:H940=H941,$A$1:A940)),$H$2:H941&$A$2:A941,0))-V941,\"\")","v":7.9326235499761628}]
["2015-07-24","sècheresse",882,{"$f":"IF(ISNA(VLOOKUP(C942,BDDG!$A$2:$F$100,2,FALSE)),\"\",VLOOKUP(C942,BDDG!$A$2:$F$100,2,FALSE))","v":0},{"$f":"IF(ISNA(VLOOKUP(C942,BDDG!$A$3:$J$102,3,FALSE)),\"\",VLOOKUP(C942,BDDG!$A$3:$J$102,3,FALSE))","v":"C"},{"$f":"IF(ISNA(VLOOKUP(C942,BDDG!$A$3:$J$102,4,FALSE)),\"\",VLOOKUP(C942,BDDG!$A$3:$J$102,4,FALSE))","v":108},{"$f":"IF(ISNA(VLOOKUP(C942,BDDG!$A$2:$F$100,5,FALSE)),\"\",VLOOKUP(C942,BDDG!$A$2:$F$100,5,FALSE))","v":"A18"},{"$f":"IF(ISNA(VLOOKUP(C942,BDDG!$A$2:$F$100,6,FALSE)),\"\",VLOOKUP(C942,BDDG!$A$2:$F$100,6,FALSE))","v":"AA51"},{"$f":"IF(ISERROR(VLOOKUP(C942,BDDG!$A$2:$G$100,7,FALSE)),\"\",VLOOKUP(C942,BDDG!$A$2:$G$100,7,FALSE))","v":1},{"$f":"IF(ISERROR(VLOOKUP(C942,BDDG!$A$2:$H$100,8,FALSE)),\"\",VLOOKUP(C942,BDDG!$A$2:$H$100,8,FALSE))","v":"BB51"},10,16.22,53.26757090012331,{"$f":"IF(ISERROR(VLOOKUP(C942,BDDG!$A$2:$I$100,9,FALSE)),\"\",VLOOKUP(C942,BDDG!$A$2:$I$100,9,FALSE))","v":"CC51"},null,null,"",{"$f":"IF(ISERROR(VLOOKUP(C942,BDDG!$A$2:$J$100,10,FALSE)),\"\",VLOOKUP(C942,BDDG!$A$2:$J$100,10,FALSE))","v":"DD51"},null,null,"",53.26757090012331,7,2015,{"$f":"IFERROR(INDEX($V$2:V942,MATCH(H942&MAX(IF($H$1:H941=H942,$A$1:A941)),$H$2:H942&$A$2:A942,0))-V942,\"\")","v":18.732429099876704}]
["2015-07-24","sècheresse",877,{"$f":"IF(ISNA(VLOOKUP(C943,BDDG!$A$2:$F$100,2,FALSE)),\"\",VLOOKUP(C943,BDDG!$A$2:$F$100,2,FALSE))","v":0},{"$f":"IF(ISNA(VLOOKUP(C943,BDDG!$A$3:$J$102,3,FALSE)),\"\",VLOOKUP(C943,BDDG!$A$3:$J$102,3,FALSE))","v":"C"},{"$f":"IF(ISNA(VLOOKUP(C943,BDDG!$A$3:$J$102,4,FALSE)),\"\",VLOOKUP(C943,BDDG!$A$3:$J$102,4,FALSE))","v":108},{"$f":"IF(ISNA(VLOOKUP(C943,BDDG!$A$2:$F$100,5,FALSE)),\"\",VLOOKUP(C943,BDDG!$A$2:$F$100,5,FALSE))","v":"A18"},{"$f":"IF(ISNA(VLOOKUP(C943,BDDG!$A$2:$F$100,6,FALSE)),\"\",VLOOKUP(C943,BDDG!$A$2:$F$100,6,FALSE))","v":"AA50"},{"$f":"IF(ISERROR(VLOOKUP(C943,BDDG!$A$2:$G$100,7,FALSE)),\"\",VLOOKUP(C943,BDDG!$A$2:$G$100,7,FALSE))","v":2},{"$f":"IF(ISERROR(VLOOKUP(C943,BDDG!$A$2:$H$100,8,FALSE)),\"\",VLOOKUP(C943,BDDG!$A$2:$H$100,8,FALSE))","v":"BB50"},10,9.25,93.405405405405418,{"$f":"IF(ISERROR(VLOOKUP(C943,BDDG!$A$2:$I$100,9,FALSE)),\"\",VLOOKUP(C943,BDDG!$A$2:$I$100,9,FALSE))","v":"CC50"},5,39.47,10.945021535343301,{"$f":"IF(ISERROR(VLOOKUP(C943,BDDG!$A$2:$J$100,10,FALSE)),\"\",VLOOKUP(C943,BDDG!$A$2:$J$100,10,FALSE))","v":"DD50"},null,null,"",104.35042694074872,7,2015,{"$f":"IFERROR(INDEX($V$2:V943,MATCH(H943&MAX(IF($H$1:H942=H943,$A$1:A942)),$H$2:H943&$A$2:A943,0))-V943,\"\")","v":-3.693001198174457}]
["2015-07-27","sècheresse",849,{"$f":"IF(ISNA(VLOOKUP(C944,BDDG!$A$2:$F$100,2,FALSE)),\"\",VLOOKUP(C944,BDDG!$A$2:$F$100,2,FALSE))","v":0},{"$f":"IF(ISNA(VLOOKUP(C944,BDDG!$A$3:$J$102,3,FALSE)),\"\",VLOOKUP(C944,BDDG!$A$3:$J$102,3,FALSE))","v":"B"},{"$f":"IF(ISNA(VLOOKUP(C944,BDDG!$A$3:$J$102,4,FALSE)),\"\",VLOOKUP(C944,BDDG!$A$3:$J$102,4,FALSE))","v":106},{"$f":"IF(ISNA(VLOOKUP(C944,BDDG!$A$2:$F$100,5,FALSE)),\"\",VLOOKUP(C944,BDDG!$A$2:$F$100,5,FALSE))","v":"A7"},{"$f":"IF(ISNA(VLOOKUP(C944,BDDG!$A$2:$F$100,6,FALSE)),\"\",VLOOKUP(C944,BDDG!$A$2:$F$100,6,FALSE))","v":"AA15"},{"$f":"IF(ISERROR(VLOOKUP(C944,BDDG!$A$2:$G$100,7,FALSE)),\"\",VLOOKUP(C944,BDDG!$A$2:$G$100,7,FALSE))","v":2},{"$f":"IF(ISERROR(VLOOKUP(C944,BDDG!$A$2:$H$100,8,FALSE)),\"\",VLOOKUP(C944,BDDG!$A$2:$H$100,8,FALSE))","v":"BB15"},5,22.25,19.415730337078653,{"$f":"IF(ISERROR(VLOOKUP(C944,BDDG!$A$2:$I$100,9,FALSE)),\"\",VLOOKUP(C944,BDDG!$A$2:$I$100,9,FALSE))","v":"CC15"},5,52.66,8.2035700721610336,{"$f":"IF(ISERROR(VLOOKUP(C944,BDDG!$A$2:$J$100,10,FALSE)),\"\",VLOOKUP(C944,BDDG!$A$2:$J$100,10,FALSE))","v":"DD15"},null,null,"",27.619300409239685,7,2015,{"$f":"IFERROR(INDEX($V$2:V944,MATCH(H944&MAX(IF($H$1:H943=H944,$A$1:A943)),$H$2:H944&$A$2:A944,0))-V944,\"\")","v":0.16918372707054274}]
["2015-08-07","sècheresse",870,{"$f":"IF(ISNA(VLOOKUP(C945,BDDG!$A$2:$F$100,2,FALSE)),\"\",VLOOKUP(C945,BDDG!$A$2:$F$100,2,FALSE))","v":0},{"$f":"IF(ISNA(VLOOKUP(C945,BDDG!$A$3:$J$102,3,FALSE)),\"\",VLOOKUP(C945,BDDG!$A$3:$J$102,3,FALSE))","v":"A"},{"$f":"IF(ISNA(VLOOKUP(C945,BDDG!$A$3:$J$102,4,FALSE)),\"\",VLOOKUP(C945,BDDG!$A$3:$J$102,4,FALSE))","v":108},{"$f":"IF(ISNA(VLOOKUP(C945,BDDG!$A$2:$F$100,5,FALSE)),\"\",VLOOKUP(C945,BDDG!$A$2:$F$100,5,FALSE))","v":"A16"},{"$f":"IF(ISNA(VLOOKUP(C945,BDDG!$A$2:$F$100,6,FALSE)),\"\",VLOOKUP(C945,BDDG!$A$2:$F$100,6,FALSE))","v":"AA41"},{"$f":"IF(ISERROR(VLOOKUP(C945,BDDG!$A$2:$G$100,7,FALSE)),\"\",VLOOKUP(C945,BDDG!$A$2:$G$100,7,FALSE))","v":2},{"$f":"IF(ISERROR(VLOOKUP(C945,BDDG!$A$2:$H$100,8,FALSE)),\"\",VLOOKUP(C945,BDDG!$A$2:$H$100,8,FALSE))","v":"BB41"},1,35,2.4685714285714289,{"$f":"IF(ISERROR(VLOOKUP(C945,BDDG!$A$2:$I$100,9,FALSE)),\"\",VLOOKUP(C945,BDDG!$A$2:$I$100,9,FALSE))","v":"CC41"},0.5,68,{"$f":" IF(ISERROR(O945/P945*86.4),\"\",O945/P945*86.4)","v":0.6352941176470589},{"$f":"IF(ISERROR(VLOOKUP(C945,BDDG!$A$2:$J$100,10,FALSE)),\"\",VLOOKUP(C945,BDDG!$A$2:$J$100,10,FALSE))","v":"DD41"},null,null,"",3.1038655462184876,8,2015,{"$f":"IFERROR(INDEX($V$2:V945,MATCH(H945&MAX(IF($H$1:H944=H945,$A$1:A944)),$H$2:H945&$A$2:A945,0))-V945,\"\")","v":1.3617018134895233}]
["2015-08-19","soleil",866,{"$f":"IF(ISNA(VLOOKUP(C946,BDDG!$A$2:$F$100,2,FALSE)),\"\",VLOOKUP(C946,BDDG!$A$2:$F$100,2,FALSE))","v":0},{"$f":"IF(ISNA(VLOOKUP(C946,BDDG!$A$3:$J$102,3,FALSE)),\"\",VLOOKUP(C946,BDDG!$A$3:$J$102,3,FALSE))","v":"C"},{"$f":"IF(ISNA(VLOOKUP(C946,BDDG!$A$3:$J$102,4,FALSE)),\"\",VLOOKUP(C946,BDDG!$A$3:$J$102,4,FALSE))","v":108},{"$f":"IF(ISNA(VLOOKUP(C946,BDDG!$A$2:$F$100,5,FALSE)),\"\",VLOOKUP(C946,BDDG!$A$2:$F$100,5,FALSE))","v":"A17"},{"$f":"IF(ISNA(VLOOKUP(C946,BDDG!$A$2:$F$100,6,FALSE)),\"\",VLOOKUP(C946,BDDG!$A$2:$F$100,6,FALSE))","v":"AA42"},{"$f":"IF(ISERROR(VLOOKUP(C946,BDDG!$A$2:$G$100,7,FALSE)),\"\",VLOOKUP(C946,BDDG!$A$2:$G$100,7,FALSE))","v":1},{"$f":"IF(ISERROR(VLOOKUP(C946,BDDG!$A$2:$H$100,8,FALSE)),\"\",VLOOKUP(C946,BDDG!$A$2:$H$100,8,FALSE))","v":"BB42"},5,5,{"$f":" IF(ISERROR(K946/L946*86.4),\"\",K946/L946*86.4)","v":86.4},{"$f":"IF(ISERROR(VLOOKUP(C946,BDDG!$A$2:$I$100,9,FALSE)),\"\",VLOOKUP(C946,BDDG!$A$2:$I$100,9,FALSE))","v":"CC42"},null,null,"",{"$f":"IF(ISERROR(VLOOKUP(C946,BDDG!$A$2:$J$100,10,FALSE)),\"\",VLOOKUP(C946,BDDG!$A$2:$J$100,10,FALSE))","v":"DD42"},null,null,"",{"$f":"IF(ISERROR(SUM(M946,Q946,U946)),\"\",SUM(M946,Q946,U946))","v":86.4},8,2015,{"$f":"IFERROR(INDEX($V$2:V946,MATCH(H946&MAX(IF($H$1:H945=H946,$A$1:A945)),$H$2:H946&$A$2:A946,0))-V946,\"\")","v":-8.64}]
["2015-08-19","soleil",867,{"$f":"IF(ISNA(VLOOKUP(C947,BDDG!$A$2:$F$100,2,FALSE)),\"\",VLOOKUP(C947,BDDG!$A$2:$F$100,2,FALSE))","v":0},{"$f":"IF(ISNA(VLOOKUP(C947,BDDG!$A$3:$J$102,3,FALSE)),\"\",VLOOKUP(C947,BDDG!$A$3:$J$102,3,FALSE))","v":"C"},{"$f":"IF(ISNA(VLOOKUP(C947,BDDG!$A$3:$J$102,4,FALSE)),\"\",VLOOKUP(C947,BDDG!$A$3:$J$102,4,FALSE))","v":108},{"$f":"IF(ISNA(VLOOKUP(C947,BDDG!$A$2:$F$100,5,FALSE)),\"\",VLOOKUP(C947,BDDG!$A$2:$F$100,5,FALSE))","v":"A17"},{"$f":"IF(ISNA(VLOOKUP(C947,BDDG!$A$2:$F$100,6,FALSE)),\"\",VLOOKUP(C947,BDDG!$A$2:$F$100,6,FALSE))","v":"AA43"},{"$f":"IF(ISERROR(VLOOKUP(C947,BDDG!$A$2:$G$100,7,FALSE)),\"\",VLOOKUP(C947,BDDG!$A$2:$G$100,7,FALSE))","v":1},{"$f":"IF(ISERROR(VLOOKUP(C947,BDDG!$A$2:$H$100,8,FALSE)),\"\",VLOOKUP(C947,BDDG!$A$2:$H$100,8,FALSE))","v":"BB43"},10,25.31,34.13670485973924,{"$f":"IF(ISERROR(VLOOKUP(C947,BDDG!$A$2:$I$100,9,FALSE)),\"\",VLOOKUP(C947,BDDG!$A$2:$I$100,9,FALSE))","v":"CC43"},null,null,"",{"$f":"IF(ISERROR(VLOOKUP(C947,BDDG!$A$2:$J$100,10,FALSE)),\"\",VLOOKUP(C947,BDDG!$A$2:$J$100,10,FALSE))","v":"DD43"},null,null,"",34.13670485973924,8,2015,{"$f":"IFERROR(INDEX($V$2:V947,MATCH(H947&MAX(IF($H$1:H946=H947,$A$1:A946)),$H$2:H947&$A$2:A947,0))-V947,\"\")","v":-3.5526340632790614}]
["2015-08-25","soleil",879,{"$f":"IF(ISNA(VLOOKUP(C948,BDDG!$A$2:$F$100,2,FALSE)),\"\",VLOOKUP(C948,BDDG!$A$2:$F$100,2,FALSE))","v":0},{"$f":"IF(ISNA(VLOOKUP(C948,BDDG!$A$3:$J$102,3,FALSE)),\"\",VLOOKUP(C948,BDDG!$A$3:$J$102,3,FALSE))","v":"C"},{"$f":"IF(ISNA(VLOOKUP(C948,BDDG!$A$3:$J$102,4,FALSE)),\"\",VLOOKUP(C948,BDDG!$A$3:$J$102,4,FALSE))","v":108},{"$f":"IF(ISNA(VLOOKUP(C948,BDDG!$A$2:$F$100,5,FALSE)),\"\",VLOOKUP(C948,BDDG!$A$2:$F$100,5,FALSE))","v":"A19"},{"$f":"IF(ISNA(VLOOKUP(C948,BDDG!$A$2:$F$100,6,FALSE)),\"\",VLOOKUP(C948,BDDG!$A$2:$F$100,6,FALSE))","v":"AA53"},{"$f":"IF(ISERROR(VLOOKUP(C948,BDDG!$A$2:$G$100,7,FALSE)),\"\",VLOOKUP(C948,BDDG!$A$2:$G$100,7,FALSE))","v":3},{"$f":"IF(ISERROR(VLOOKUP(C948,BDDG!$A$2:$H$100,8,FALSE)),\"\",VLOOKUP(C948,BDDG!$A$2:$H$100,8,FALSE))","v":"BB53"},10,15.88,54.408060453400502,{"$f":"IF(ISERROR(VLOOKUP(C948,BDDG!$A$2:$I$100,9,FALSE)),\"\",VLOOKUP(C948,BDDG!$A$2:$I$100,9,FALSE))","v":"CC53"},10,13.5,64,{"$f":"IF(ISERROR(VLOOKUP(C948,BDDG!$A$2:$J$100,10,FALSE)),\"\",VLOOKUP(C948,BDDG!$A$2:$J$100,10,FALSE))","v":"DD53"},5,102.5,4.2146341463414636,122.62269459974198,8,2015,{"$f":"IFERROR(INDEX($V$2:V948,MATCH(H948&MAX(IF($H$1:H947=H948,$A$1:A947)),$H$2:H948&$A$2:A948,0))-V948,\"\")","v":""}]
["2015-08-25","soleil",878,{"$f":"IF(ISNA(VLOOKUP(C949,BDDG!$A$2:$F$100,2,FALSE)),\"\",VLOOKUP(C949,BDDG!$A$2:$F$100,2,FALSE))","v":0},{"$f":"IF(ISNA(VLOOKUP(C949,BDDG!$A$3:$J$102,3,FALSE)),\"\",VLOOKUP(C949,BDDG!$A$3:$J$102,3,FALSE))","v":"C"},{"$f":"IF(ISNA(VLOOKUP(C949,BDDG!$A$3:$J$102,4,FALSE)),\"\",VLOOKUP(C949,BDDG!$A$3:$J$102,4,FALSE))","v":108},{"$f":"IF(ISNA(VLOOKUP(C949,BDDG!$A$2:$F$100,5,FALSE)),\"\",VLOOKUP(C949,BDDG!$A$2:$F$100,5,FALSE))","v":"A19"},{"$f":"IF(ISNA(VLOOKUP(C949,BDDG!$A$2:$F$100,6,FALSE)),\"\",VLOOKUP(C949,BDDG!$A$2:$F$100,6,FALSE))","v":"AA52"},{"$f":"IF(ISERROR(VLOOKUP(C949,BDDG!$A$2:$G$100,7,FALSE)),\"\",VLOOKUP(C949,BDDG!$A$2:$G$100,7,FALSE))","v":1},{"$f":"IF(ISERROR(VLOOKUP(C949,BDDG!$A$2:$H$100,8,FALSE)),\"\",VLOOKUP(C949,BDDG!$A$2:$H$100,8,FALSE))","v":"BB52"},5,24.16,17.880794701986755,{"$f":"IF(ISERROR(VLOOKUP(C949,BDDG!$A$2:$I$100,9,FALSE)),\"\",VLOOKUP(C949,BDDG!$A$2:$I$100,9,FALSE))","v":"CC52"},null,null,"",{"$f":"IF(ISERROR(VLOOKUP(C949,BDDG!$A$2:$J$100,10,FALSE)),\"\",VLOOKUP(C949,BDDG!$A$2:$J$100,10,FALSE))","v":"DD52"},null,null,{"$f":" IF(ISERROR(S949/T949*86.4),\"\",S949/T949*86.4)","v":""},17.880794701986755,8,2015,{"$f":"IFERROR(INDEX($V$2:V949,MATCH(H949&MAX(IF($H$1:H948=H949,$A$1:A948)),$H$2:H949&$A$2:A949,0))-V949,\"\")","v":1.8677767265846761}]
["2015-08-25","soleil",880,{"$f":"IF(ISNA(VLOOKUP(C950,BDDG!$A$2:$F$100,2,FALSE)),\"\",VLOOKUP(C950,BDDG!$A$2:$F$100,2,FALSE))","v":0},{"$f":"IF(ISNA(VLOOKUP(C950,BDDG!$A$3:$J$102,3,FALSE)),\"\",VLOOKUP(C950,BDDG!$A$3:$J$102,3,FALSE))","v":"C"},{"$f":"IF(ISNA(VLOOKUP(C950,BDDG!$A$3:$J$102,4,FALSE)),\"\",VLOOKUP(C950,BDDG!$A$3:$J$102,4,FALSE))","v":108},{"$f":"IF(ISNA(VLOOKUP(C950,BDDG!$A$2:$F$100,5,FALSE)),\"\",VLOOKUP(C950,BDDG!$A$2:$F$100,5,FALSE))","v":"A19"},{"$f":"IF(ISNA(VLOOKUP(C950,BDDG!$A$2:$F$100,6,FALSE)),\"\",VLOOKUP(C950,BDDG!$A$2:$F$100,6,FALSE))","v":"AA54"},{"$f":"IF(ISERROR(VLOOKUP(C950,BDDG!$A$2:$G$100,7,FALSE)),\"\",VLOOKUP(C950,BDDG!$A$2:$G$100,7,FALSE))","v":2},{"$f":"IF(ISERROR(VLOOKUP(C950,BDDG!$A$2:$H$100,8,FALSE)),\"\",VLOOKUP(C950,BDDG!$A$2:$H$100,8,FALSE))","v":"BB54"},5,21.05,20.522565320665084,{"$f":"IF(ISERROR(VLOOKUP(C950,BDDG!$A$2:$I$100,9,FALSE)),\"\",VLOOKUP(C950,BDDG!$A$2:$I$100,9,FALSE))","v":"CC54"},10,7.45,115.97315436241612,{"$f":"IF(ISERROR(VLOOKUP(C950,BDDG!$A$2:$J$100,10,FALSE)),\"\",VLOOKUP(C950,BDDG!$A$2:$J$100,10,FALSE))","v":"DD54"},null,null,"",136.49571968308121,8,2015,{"$f":"IFERROR(INDEX($V$2:V950,MATCH(H950&MAX(IF($H$1:H949=H950,$A$1:A949)),$H$2:H950&$A$2:A950,0))-V950,\"\")","v":-51.411918162850796}]
["2015-09-01","Pluie",839,{"$f":"IF(ISNA(VLOOKUP(C951,BDDG!$A$2:$F$100,2,FALSE)),\"\",VLOOKUP(C951,BDDG!$A$2:$F$100,2,FALSE))","v":0},{"$f":"IF(ISNA(VLOOKUP(C951,BDDG!$A$3:$J$102,3,FALSE)),\"\",VLOOKUP(C951,BDDG!$A$3:$J$102,3,FALSE))","v":"A"},{"$f":"IF(ISNA(VLOOKUP(C951,BDDG!$A$3:$J$102,4,FALSE)),\"\",VLOOKUP(C951,BDDG!$A$3:$J$102,4,FALSE))","v":106},{"$f":"IF(ISNA(VLOOKUP(C951,BDDG!$A$2:$F$100,5,FALSE)),\"\",VLOOKUP(C951,BDDG!$A$2:$F$100,5,FALSE))","v":"A3"},{"$f":"IF(ISNA(VLOOKUP(C951,BDDG!$A$2:$F$100,6,FALSE)),\"\",VLOOKUP(C951,BDDG!$A$2:$F$100,6,FALSE))","v":"AA10"},{"$f":"IF(ISERROR(VLOOKUP(C951,BDDG!$A$2:$G$100,7,FALSE)),\"\",VLOOKUP(C951,BDDG!$A$2:$G$100,7,FALSE))","v":2},{"$f":"IF(ISERROR(VLOOKUP(C951,BDDG!$A$2:$H$100,8,FALSE)),\"\",VLOOKUP(C951,BDDG!$A$2:$H$100,8,FALSE))","v":"BB10"},5,21.34,20.243673851921276,{"$f":"IF(ISERROR(VLOOKUP(C951,BDDG!$A$2:$I$100,9,FALSE)),\"\",VLOOKUP(C951,BDDG!$A$2:$I$100,9,FALSE))","v":"CC10"},5,32.5,13.292307692307693,{"$f":"IF(ISERROR(VLOOKUP(C951,BDDG!$A$2:$J$100,10,FALSE)),\"\",VLOOKUP(C951,BDDG!$A$2:$J$100,10,FALSE))","v":"DD10"},null,null,"",33.535981544228967,9,2015,{"$f":"IFERROR(INDEX($V$2:V951,MATCH(H951&MAX(IF($H$1:H950=H951,$A$1:A950)),$H$2:H951&$A$2:A951,0))-V951,\"\")","v":-1.9570341758079124}]
["2015-09-01","Pluie",851,{"$f":"IF(ISNA(VLOOKUP(C952,BDDG!$A$2:$F$100,2,FALSE)),\"\",VLOOKUP(C952,BDDG!$A$2:$F$100,2,FALSE))","v":0},{"$f":"IF(ISNA(VLOOKUP(C952,BDDG!$A$3:$J$102,3,FALSE)),\"\",VLOOKUP(C952,BDDG!$A$3:$J$102,3,FALSE))","v":"A"},{"$f":"IF(ISNA(VLOOKUP(C952,BDDG!$A$3:$J$102,4,FALSE)),\"\",VLOOKUP(C952,BDDG!$A$3:$J$102,4,FALSE))","v":106},{"$f":"IF(ISNA(VLOOKUP(C952,BDDG!$A$2:$F$100,5,FALSE)),\"\",VLOOKUP(C952,BDDG!$A$2:$F$100,5,FALSE))","v":"A9"},{"$f":"IF(ISNA(VLOOKUP(C952,BDDG!$A$2:$F$100,6,FALSE)),\"\",VLOOKUP(C952,BDDG!$A$2:$F$100,6,FALSE))","v":"AA21"},{"$f":"IF(ISERROR(VLOOKUP(C952,BDDG!$A$2:$G$100,7,FALSE)),\"\",VLOOKUP(C952,BDDG!$A$2:$G$100,7,FALSE))","v":2},{"$f":"IF(ISERROR(VLOOKUP(C952,BDDG!$A$2:$H$100,8,FALSE)),\"\",VLOOKUP(C952,BDDG!$A$2:$H$100,8,FALSE))","v":"BB21"},5,87,4.9655172413793105,{"$f":"IF(ISERROR(VLOOKUP(C952,BDDG!$A$2:$I$100,9,FALSE)),\"\",VLOOKUP(C952,BDDG!$A$2:$I$100,9,FALSE))","v":"CC21"},5,330,1.3090909090909093,{"$f":"IF(ISERROR(VLOOKUP(C952,BDDG!$A$2:$J$100,10,FALSE)),\"\",VLOOKUP(C952,BDDG!$A$2:$J$100,10,FALSE))","v":"DD21"},null,null,"",6.27460815047022,9,2015,{"$f":"IFERROR(INDEX($V$2:V952,MATCH(H952&MAX(IF($H$1:H951=H952,$A$1:A951)),$H$2:H952&$A$2:A952,0))-V952,\"\")","v":""}]
["2015-09-01","Pluie",852,{"$f":"IF(ISNA(VLOOKUP(C953,BDDG!$A$2:$F$100,2,FALSE)),\"\",VLOOKUP(C953,BDDG!$A$2:$F$100,2,FALSE))","v":0},{"$f":"IF(ISNA(VLOOKUP(C953,BDDG!$A$3:$J$102,3,FALSE)),\"\",VLOOKUP(C953,BDDG!$A$3:$J$102,3,FALSE))","v":"A"},{"$f":"IF(ISNA(VLOOKUP(C953,BDDG!$A$3:$J$102,4,FALSE)),\"\",VLOOKUP(C953,BDDG!$A$3:$J$102,4,FALSE))","v":106},{"$f":"IF(ISNA(VLOOKUP(C953,BDDG!$A$2:$F$100,5,FALSE)),\"\",VLOOKUP(C953,BDDG!$A$2:$F$100,5,FALSE))","v":"A9"},{"$f":"IF(ISNA(VLOOKUP(C953,BDDG!$A$2:$F$100,6,FALSE)),\"\",VLOOKUP(C953,BDDG!$A$2:$F$100,6,FALSE))","v":"AA22"},{"$f":"IF(ISERROR(VLOOKUP(C953,BDDG!$A$2:$G$100,7,FALSE)),\"\",VLOOKUP(C953,BDDG!$A$2:$G$100,7,FALSE))","v":1},{"$f":"IF(ISERROR(VLOOKUP(C953,BDDG!$A$2:$H$100,8,FALSE)),\"\",VLOOKUP(C953,BDDG!$A$2:$H$100,8,FALSE))","v":"BB22"},5,43.35,9.9653979238754324,{"$f":"IF(ISERROR(VLOOKUP(C953,BDDG!$A$2:$I$100,9,FALSE)),\"\",VLOOKUP(C953,BDDG!$A$2:$I$100,9,FALSE))","v":"CC22"},null,null,"",{"$f":"IF(ISERROR(VLOOKUP(C953,BDDG!$A$2:$J$100,10,FALSE)),\"\",VLOOKUP(C953,BDDG!$A$2:$J$100,10,FALSE))","v":"DD22"},null,null,"",9.9653979238754324,9,2015,{"$f":"IFERROR(INDEX($V$2:V953,MATCH(H953&MAX(IF($H$1:H952=H953,$A$1:A952)),$H$2:H953&$A$2:A953,0))-V953,\"\")","v":2.1286670257326303}]
["2015-09-01","Pluie",853,{"$f":"IF(ISNA(VLOOKUP(C954,BDDG!$A$2:$F$100,2,FALSE)),\"\",VLOOKUP(C954,BDDG!$A$2:$F$100,2,FALSE))","v":0},{"$f":"IF(ISNA(VLOOKUP(C954,BDDG!$A$3:$J$102,3,FALSE)),\"\",VLOOKUP(C954,BDDG!$A$3:$J$102,3,FALSE))","v":"A"},{"$f":"IF(ISNA(VLOOKUP(C954,BDDG!$A$3:$J$102,4,FALSE)),\"\",VLOOKUP(C954,BDDG!$A$3:$J$102,4,FALSE))","v":106},{"$f":"IF(ISNA(VLOOKUP(C954,BDDG!$A$2:$F$100,5,FALSE)),\"\",VLOOKUP(C954,BDDG!$A$2:$F$100,5,FALSE))","v":"A9"},{"$f":"IF(ISNA(VLOOKUP(C954,BDDG!$A$2:$F$100,6,FALSE)),\"\",VLOOKUP(C954,BDDG!$A$2:$F$100,6,FALSE))","v":"AA23"},{"$f":"IF(ISERROR(VLOOKUP(C954,BDDG!$A$2:$G$100,7,FALSE)),\"\",VLOOKUP(C954,BDDG!$A$2:$G$100,7,FALSE))","v":3},{"$f":"IF(ISERROR(VLOOKUP(C954,BDDG!$A$2:$H$100,8,FALSE)),\"\",VLOOKUP(C954,BDDG!$A$2:$H$100,8,FALSE))","v":"BB23"},1,7.42,11.644204851752022,{"$f":"IF(ISERROR(VLOOKUP(C954,BDDG!$A$2:$I$100,9,FALSE)),\"\",VLOOKUP(C954,BDDG!$A$2:$I$100,9,FALSE))","v":"CC23"},1,7.72,11.191709844559588,{"$f":"IF(ISERROR(VLOOKUP(C954,BDDG!$A$2:$J$100,10,FALSE)),\"\",VLOOKUP(C954,BDDG!$A$2:$J$100,10,FALSE))","v":"DD23"},null,null,"",22.835914696311612,9,2015,{"$f":"IFERROR(INDEX($V$2:V954,MATCH(H954&MAX(IF($H$1:H953=H954,$A$1:A953)),$H$2:H954&$A$2:A954,0))-V954,\"\")","v":""}]
["2015-09-01","Pluie",854,{"$f":"IF(ISNA(VLOOKUP(C955,BDDG!$A$2:$F$100,2,FALSE)),\"\",VLOOKUP(C955,BDDG!$A$2:$F$100,2,FALSE))","v":0},{"$f":"IF(ISNA(VLOOKUP(C955,BDDG!$A$3:$J$102,3,FALSE)),\"\",VLOOKUP(C955,BDDG!$A$3:$J$102,3,FALSE))","v":"A"},{"$f":"IF(ISNA(VLOOKUP(C955,BDDG!$A$3:$J$102,4,FALSE)),\"\",VLOOKUP(C955,BDDG!$A$3:$J$102,4,FALSE))","v":106},{"$f":"IF(ISNA(VLOOKUP(C955,BDDG!$A$2:$F$100,5,FALSE)),\"\",VLOOKUP(C955,BDDG!$A$2:$F$100,5,FALSE))","v":"A9"},{"$f":"IF(ISNA(VLOOKUP(C955,BDDG!$A$2:$F$100,6,FALSE)),\"\",VLOOKUP(C955,BDDG!$A$2:$F$100,6,FALSE))","v":"AA25"},{"$f":"IF(ISERROR(VLOOKUP(C955,BDDG!$A$2:$G$100,7,FALSE)),\"\",VLOOKUP(C955,BDDG!$A$2:$G$100,7,FALSE))","v":2},{"$f":"IF(ISERROR(VLOOKUP(C955,BDDG!$A$2:$H$100,8,FALSE)),\"\",VLOOKUP(C955,BDDG!$A$2:$H$100,8,FALSE))","v":"BB25"},10,10.17,84.955752212389385,{"$f":"IF(ISERROR(VLOOKUP(C955,BDDG!$A$2:$I$100,9,FALSE)),\"\",VLOOKUP(C955,BDDG!$A$2:$I$100,9,FALSE))","v":"CC25"},null,null,"",{"$f":"IF(ISERROR(VLOOKUP(C955,BDDG!$A$2:$J$100,10,FALSE)),\"\",VLOOKUP(C955,BDDG!$A$2:$J$100,10,FALSE))","v":"DD25"},null,null,"",84.955752212389385,9,2015,{"$f":"IFERROR(INDEX($V$2:V955,MATCH(H955&MAX(IF($H$1:H954=H955,$A$1:A954)),$H$2:H955&$A$2:A955,0))-V955,\"\")","v":38.47281921618206}]
["2015-09-01","Pluie",855,{"$f":"IF(ISNA(VLOOKUP(C956,BDDG!$A$2:$F$100,2,FALSE)),\"\",VLOOKUP(C956,BDDG!$A$2:$F$100,2,FALSE))","v":0},{"$f":"IF(ISNA(VLOOKUP(C956,BDDG!$A$3:$J$102,3,FALSE)),\"\",VLOOKUP(C956,BDDG!$A$3:$J$102,3,FALSE))","v":"A"},{"$f":"IF(ISNA(VLOOKUP(C956,BDDG!$A$3:$J$102,4,FALSE)),\"\",VLOOKUP(C956,BDDG!$A$3:$J$102,4,FALSE))","v":106},{"$f":"IF(ISNA(VLOOKUP(C956,BDDG!$A$2:$F$100,5,FALSE)),\"\",VLOOKUP(C956,BDDG!$A$2:$F$100,5,FALSE))","v":"A9"},{"$f":"IF(ISNA(VLOOKUP(C956,BDDG!$A$2:$F$100,6,FALSE)),\"\",VLOOKUP(C956,BDDG!$A$2:$F$100,6,FALSE))","v":"AA26"},{"$f":"IF(ISERROR(VLOOKUP(C956,BDDG!$A$2:$G$100,7,FALSE)),\"\",VLOOKUP(C956,BDDG!$A$2:$G$100,7,FALSE))","v":2},{"$f":"IF(ISERROR(VLOOKUP(C956,BDDG!$A$2:$H$100,8,FALSE)),\"\",VLOOKUP(C956,BDDG!$A$2:$H$100,8,FALSE))","v":"BB26"},10,29.37,29.41777323799796,{"$f":"IF(ISERROR(VLOOKUP(C956,BDDG!$A$2:$I$100,9,FALSE)),\"\",VLOOKUP(C956,BDDG!$A$2:$I$100,9,FALSE))","v":"CC26"},5,27.3,15.824175824175825,{"$f":"IF(ISERROR(VLOOKUP(C956,BDDG!$A$2:$J$100,10,FALSE)),\"\",VLOOKUP(C956,BDDG!$A$2:$J$100,10,FALSE))","v":"DD26"},null,null,"",45.241949062173788,9,2015,{"$f":"IFERROR(INDEX($V$2:V956,MATCH(H956&MAX(IF($H$1:H955=H956,$A$1:A955)),$H$2:H956&$A$2:A956,0))-V956,\"\")","v":30.358050937826206}]
["2015-09-01","Pluie",856,{"$f":"IF(ISNA(VLOOKUP(C957,BDDG!$A$2:$F$100,2,FALSE)),\"\",VLOOKUP(C957,BDDG!$A$2:$F$100,2,FALSE))","v":0},{"$f":"IF(ISNA(VLOOKUP(C957,BDDG!$A$3:$J$102,3,FALSE)),\"\",VLOOKUP(C957,BDDG!$A$3:$J$102,3,FALSE))","v":"A"},{"$f":"IF(ISNA(VLOOKUP(C957,BDDG!$A$3:$J$102,4,FALSE)),\"\",VLOOKUP(C957,BDDG!$A$3:$J$102,4,FALSE))","v":106},{"$f":"IF(ISNA(VLOOKUP(C957,BDDG!$A$2:$F$100,5,FALSE)),\"\",VLOOKUP(C957,BDDG!$A$2:$F$100,5,FALSE))","v":"A9"},{"$f":"IF(ISNA(VLOOKUP(C957,BDDG!$A$2:$F$100,6,FALSE)),\"\",VLOOKUP(C957,BDDG!$A$2:$F$100,6,FALSE))","v":"AA27"},{"$f":"IF(ISERROR(VLOOKUP(C957,BDDG!$A$2:$G$100,7,FALSE)),\"\",VLOOKUP(C957,BDDG!$A$2:$G$100,7,FALSE))","v":2},{"$f":"IF(ISERROR(VLOOKUP(C957,BDDG!$A$2:$H$100,8,FALSE)),\"\",VLOOKUP(C957,BDDG!$A$2:$H$100,8,FALSE))","v":"BB27"},5,54,8,{"$f":"IF(ISERROR(VLOOKUP(C957,BDDG!$A$2:$I$100,9,FALSE)),\"\",VLOOKUP(C957,BDDG!$A$2:$I$100,9,FALSE))","v":"CC27"},10,11.55,74.805194805194816,{"$f":"IF(ISERROR(VLOOKUP(C957,BDDG!$A$2:$J$100,10,FALSE)),\"\",VLOOKUP(C957,BDDG!$A$2:$J$100,10,FALSE))","v":"DD27"},null,null,"",82.805194805194816,9,2015,{"$f":"IFERROR(INDEX($V$2:V957,MATCH(H957&MAX(IF($H$1:H956=H957,$A$1:A956)),$H$2:H957&$A$2:A957,0))-V957,\"\")","v":26.285587932417826}]
["2015-09-01","Pluie",815,{"$f":"IF(ISNA(VLOOKUP(C958,BDDG!$A$2:$F$100,2,FALSE)),\"\",VLOOKUP(C958,BDDG!$A$2:$F$100,2,FALSE))","v":0},{"$f":"IF(ISNA(VLOOKUP(C958,BDDG!$A$3:$J$102,3,FALSE)),\"\",VLOOKUP(C958,BDDG!$A$3:$J$102,3,FALSE))","v":"A"},{"$f":"IF(ISNA(VLOOKUP(C958,BDDG!$A$3:$J$102,4,FALSE)),\"\",VLOOKUP(C958,BDDG!$A$3:$J$102,4,FALSE))","v":106},{"$f":"IF(ISNA(VLOOKUP(C958,BDDG!$A$2:$F$100,5,FALSE)),\"\",VLOOKUP(C958,BDDG!$A$2:$F$100,5,FALSE))","v":"A10"},{"$f":"IF(ISNA(VLOOKUP(C958,BDDG!$A$2:$F$100,6,FALSE)),\"\",VLOOKUP(C958,BDDG!$A$2:$F$100,6,FALSE))","v":"AA31"},{"$f":"IF(ISERROR(VLOOKUP(C958,BDDG!$A$2:$G$100,7,FALSE)),\"\",VLOOKUP(C958,BDDG!$A$2:$G$100,7,FALSE))","v":1},{"$f":"IF(ISERROR(VLOOKUP(C958,BDDG!$A$2:$H$100,8,FALSE)),\"\",VLOOKUP(C958,BDDG!$A$2:$H$100,8,FALSE))","v":"BB31"},5,80.66,5.355814530126457,{"$f":"IF(ISERROR(VLOOKUP(C958,BDDG!$A$2:$I$100,9,FALSE)),\"\",VLOOKUP(C958,BDDG!$A$2:$I$100,9,FALSE))","v":"CC31"},null,null,"",{"$f":"IF(ISERROR(VLOOKUP(C958,BDDG!$A$2:$J$100,10,FALSE)),\"\",VLOOKUP(C958,BDDG!$A$2:$J$100,10,FALSE))","v":"DD31"},null,null,"",5.355814530126457,9,2015,{"$f":"IFERROR(INDEX($V$2:V958,MATCH(H958&MAX(IF($H$1:H957=H958,$A$1:A957)),$H$2:H958&$A$2:A958,0))-V958,\"\")","v":9.9850945607826347}]
["2015-09-02","couvert",832,{"$f":"IF(ISNA(VLOOKUP(C959,BDDG!$A$2:$F$100,2,FALSE)),\"\",VLOOKUP(C959,BDDG!$A$2:$F$100,2,FALSE))","v":0},{"$f":"IF(ISNA(VLOOKUP(C959,BDDG!$A$3:$J$102,3,FALSE)),\"\",VLOOKUP(C959,BDDG!$A$3:$J$102,3,FALSE))","v":"A"},{"$f":"IF(ISNA(VLOOKUP(C959,BDDG!$A$3:$J$102,4,FALSE)),\"\",VLOOKUP(C959,BDDG!$A$3:$J$102,4,FALSE))","v":106},{"$f":"IF(ISNA(VLOOKUP(C959,BDDG!$A$2:$F$100,5,FALSE)),\"\",VLOOKUP(C959,BDDG!$A$2:$F$100,5,FALSE))","v":"A2"},{"$f":"IF(ISNA(VLOOKUP(C959,BDDG!$A$2:$F$100,6,FALSE)),\"\",VLOOKUP(C959,BDDG!$A$2:$F$100,6,FALSE))","v":"AA2"},{"$f":"IF(ISERROR(VLOOKUP(C959,BDDG!$A$2:$G$100,7,FALSE)),\"\",VLOOKUP(C959,BDDG!$A$2:$G$100,7,FALSE))","v":1},{"$f":"IF(ISERROR(VLOOKUP(C959,BDDG!$A$2:$H$100,8,FALSE)),\"\",VLOOKUP(C959,BDDG!$A$2:$H$100,8,FALSE))","v":"BB2"},10,77.22,11.18881118881119,{"$f":"IF(ISERROR(VLOOKUP(C959,BDDG!$A$2:$I$100,9,FALSE)),\"\",VLOOKUP(C959,BDDG!$A$2:$I$100,9,FALSE))","v":"CC2"},null,null,"",{"$f":"IF(ISERROR(VLOOKUP(C959,BDDG!$A$2:$J$100,10,FALSE)),\"\",VLOOKUP(C959,BDDG!$A$2:$J$100,10,FALSE))","v":"DD2"},null,null,"",11.18881118881119,9,2015,{"$f":"IFERROR(INDEX($V$2:V959,MATCH(H959&MAX(IF($H$1:H958=H959,$A$1:A958)),$H$2:H959&$A$2:A959,0))-V959,\"\")","v":19.105718965466512}]
["2015-09-02","couvert",833,{"$f":"IF(ISNA(VLOOKUP(C960,BDDG!$A$2:$F$100,2,FALSE)),\"\",VLOOKUP(C960,BDDG!$A$2:$F$100,2,FALSE))","v":0},{"$f":"IF(ISNA(VLOOKUP(C960,BDDG!$A$3:$J$102,3,FALSE)),\"\",VLOOKUP(C960,BDDG!$A$3:$J$102,3,FALSE))","v":"A"},{"$f":"IF(ISNA(VLOOKUP(C960,BDDG!$A$3:$J$102,4,FALSE)),\"\",VLOOKUP(C960,BDDG!$A$3:$J$102,4,FALSE))","v":106},{"$f":"IF(ISNA(VLOOKUP(C960,BDDG!$A$2:$F$100,5,FALSE)),\"\",VLOOKUP(C960,BDDG!$A$2:$F$100,5,FALSE))","v":"A2"},{"$f":"IF(ISNA(VLOOKUP(C960,BDDG!$A$2:$F$100,6,FALSE)),\"\",VLOOKUP(C960,BDDG!$A$2:$F$100,6,FALSE))","v":"AA3"},{"$f":"IF(ISERROR(VLOOKUP(C960,BDDG!$A$2:$G$100,7,FALSE)),\"\",VLOOKUP(C960,BDDG!$A$2:$G$100,7,FALSE))","v":1},{"$f":"IF(ISERROR(VLOOKUP(C960,BDDG!$A$2:$H$100,8,FALSE)),\"\",VLOOKUP(C960,BDDG!$A$2:$H$100,8,FALSE))","v":"BB3"},10,40.15,21.519302615193027,{"$f":"IF(ISERROR(VLOOKUP(C960,BDDG!$A$2:$I$100,9,FALSE)),\"\",VLOOKUP(C960,BDDG!$A$2:$I$100,9,FALSE))","v":"CC3"},null,null,"",{"$f":"IF(ISERROR(VLOOKUP(C960,BDDG!$A$2:$J$100,10,FALSE)),\"\",VLOOKUP(C960,BDDG!$A$2:$J$100,10,FALSE))","v":"DD3"},null,null,"",21.519302615193027,9,2015,{"$f":"IFERROR(INDEX($V$2:V960,MATCH(H960&MAX(IF($H$1:H959=H960,$A$1:A959)),$H$2:H960&$A$2:A960,0))-V960,\"\")","v":8.1103270144366064}]
["2015-09-02","couvert",834,{"$f":"IF(ISNA(VLOOKUP(C961,BDDG!$A$2:$F$100,2,FALSE)),\"\",VLOOKUP(C961,BDDG!$A$2:$F$100,2,FALSE))","v":0},{"$f":"IF(ISNA(VLOOKUP(C961,BDDG!$A$3:$J$102,3,FALSE)),\"\",VLOOKUP(C961,BDDG!$A$3:$J$102,3,FALSE))","v":"A"},{"$f":"IF(ISNA(VLOOKUP(C961,BDDG!$A$3:$J$102,4,FALSE)),\"\",VLOOKUP(C961,BDDG!$A$3:$J$102,4,FALSE))","v":106},{"$f":"IF(ISNA(VLOOKUP(C961,BDDG!$A$2:$F$100,5,FALSE)),\"\",VLOOKUP(C961,BDDG!$A$2:$F$100,5,FALSE))","v":"A2"},{"$f":"IF(ISNA(VLOOKUP(C961,BDDG!$A$2:$F$100,6,FALSE)),\"\",VLOOKUP(C961,BDDG!$A$2:$F$100,6,FALSE))","v":"AA4"},{"$f":"IF(ISERROR(VLOOKUP(C961,BDDG!$A$2:$G$100,7,FALSE)),\"\",VLOOKUP(C961,BDDG!$A$2:$G$100,7,FALSE))","v":1},{"$f":"IF(ISERROR(VLOOKUP(C961,BDDG!$A$2:$H$100,8,FALSE)),\"\",VLOOKUP(C961,BDDG!$A$2:$H$100,8,FALSE))","v":"BB4"},10,60.1,14.376039933444259,{"$f":"IF(ISERROR(VLOOKUP(C961,BDDG!$A$2:$I$100,9,FALSE)),\"\",VLOOKUP(C961,BDDG!$A$2:$I$100,9,FALSE))","v":"CC4"},null,null,"",{"$f":"IF(ISERROR(VLOOKUP(C961,BDDG!$A$2:$J$100,10,FALSE)),\"\",VLOOKUP(C961,BDDG!$A$2:$J$100,10,FALSE))","v":"DD4"},null,null,"",14.376039933444259,9,2015,{"$f":"IFERROR(INDEX($V$2:V961,MATCH(H961&MAX(IF($H$1:H960=H961,$A$1:A960)),$H$2:H961&$A$2:A961,0))-V961,\"\")","v":6.493525283947049}]
["2015-09-04","soleil",841,{"$f":"IF(ISNA(VLOOKUP(C962,BDDG!$A$2:$F$100,2,FALSE)),\"\",VLOOKUP(C962,BDDG!$A$2:$F$100,2,FALSE))","v":0},{"$f":"IF(ISNA(VLOOKUP(C962,BDDG!$A$3:$J$102,3,FALSE)),\"\",VLOOKUP(C962,BDDG!$A$3:$J$102,3,FALSE))","v":"A"},{"$f":"IF(ISNA(VLOOKUP(C962,BDDG!$A$3:$J$102,4,FALSE)),\"\",VLOOKUP(C962,BDDG!$A$3:$J$102,4,FALSE))","v":106},{"$f":"IF(ISNA(VLOOKUP(C962,BDDG!$A$2:$F$100,5,FALSE)),\"\",VLOOKUP(C962,BDDG!$A$2:$F$100,5,FALSE))","v":"A4"},{"$f":"IF(ISNA(VLOOKUP(C962,BDDG!$A$2:$F$100,6,FALSE)),\"\",VLOOKUP(C962,BDDG!$A$2:$F$100,6,FALSE))","v":"AA11"},{"$f":"IF(ISERROR(VLOOKUP(C962,BDDG!$A$2:$G$100,7,FALSE)),\"\",VLOOKUP(C962,BDDG!$A$2:$G$100,7,FALSE))","v":2},{"$f":"IF(ISERROR(VLOOKUP(C962,BDDG!$A$2:$H$100,8,FALSE)),\"\",VLOOKUP(C962,BDDG!$A$2:$H$100,8,FALSE))","v":"BB11"},null,null,{"$f":" IF(ISERROR(K962/L962*86.4),\"\",K962/L962*86.4)","v":""},{"$f":"IF(ISERROR(VLOOKUP(C962,BDDG!$A$2:$I$100,9,FALSE)),\"\",VLOOKUP(C962,BDDG!$A$2:$I$100,9,FALSE))","v":"CC11"},10,41.03,{"$f":" IF(ISERROR(O962/P962*86.4),\"\",O962/P962*86.4)","v":21.057762612722399},{"$f":"IF(ISERROR(VLOOKUP(C962,BDDG!$A$2:$J$100,10,FALSE)),\"\",VLOOKUP(C962,BDDG!$A$2:$J$100,10,FALSE))","v":"DD11"},null,null,"",{"$f":"IF(ISERROR(SUM(M962,Q962,U962)),\"\",SUM(M962,Q962,U962))","v":21.057762612722399},{"$f":"MONTH(A:A)","v":9},{"$f":"YEAR(A:A)","v":2015},{"$f":"IFERROR(INDEX($V$2:V962,MATCH(H962&MAX(IF($H$1:H961=H962,$A$1:A961)),$H$2:H962&$A$2:A962,0))-V962,\"\")","v":""}]
["2015-09-04","soleil",860,{"$f":"IF(ISNA(VLOOKUP(C963,BDDG!$A$2:$F$100,2,FALSE)),\"\",VLOOKUP(C963,BDDG!$A$2:$F$100,2,FALSE))","v":0},{"$f":"IF(ISNA(VLOOKUP(C963,BDDG!$A$3:$J$102,3,FALSE)),\"\",VLOOKUP(C963,BDDG!$A$3:$J$102,3,FALSE))","v":"A"},{"$f":"IF(ISNA(VLOOKUP(C963,BDDG!$A$3:$J$102,4,FALSE)),\"\",VLOOKUP(C963,BDDG!$A$3:$J$102,4,FALSE))","v":106},{"$f":"IF(ISNA(VLOOKUP(C963,BDDG!$A$2:$F$100,5,FALSE)),\"\",VLOOKUP(C963,BDDG!$A$2:$F$100,5,FALSE))","v":"A11"},{"$f":"IF(ISNA(VLOOKUP(C963,BDDG!$A$2:$F$100,6,FALSE)),\"\",VLOOKUP(C963,BDDG!$A$2:$F$100,6,FALSE))","v":"AA32"},{"$f":"IF(ISERROR(VLOOKUP(C963,BDDG!$A$2:$G$100,7,FALSE)),\"\",VLOOKUP(C963,BDDG!$A$2:$G$100,7,FALSE))","v":2},{"$f":"IF(ISERROR(VLOOKUP(C963,BDDG!$A$2:$H$100,8,FALSE)),\"\",VLOOKUP(C963,BDDG!$A$2:$H$100,8,FALSE))","v":"BB32"},10,8.3800000000000008,103.10262529832936,{"$f":"IF(ISERROR(VLOOKUP(C963,BDDG!$A$2:$I$100,9,FALSE)),\"\",VLOOKUP(C963,BDDG!$A$2:$I$100,9,FALSE))","v":"CC32"},10,6.4,135,{"$f":"IF(ISERROR(VLOOKUP(C963,BDDG!$A$2:$J$100,10,FALSE)),\"\",VLOOKUP(C963,BDDG!$A$2:$J$100,10,FALSE))","v":"DD32"},null,null,"",238.10262529832937,9,2015,{"$f":"IFERROR(INDEX($V$2:V963,MATCH(H963&MAX(IF($H$1:H962=H963,$A$1:A962)),$H$2:H963&$A$2:A963,0))-V963,\"\")","v":-203.06612894796439}]
["2015-09-04","soleil",862,{"$f":"IF(ISNA(VLOOKUP(C964,BDDG!$A$2:$F$100,2,FALSE)),\"\",VLOOKUP(C964,BDDG!$A$2:$F$100,2,FALSE))","v":0},{"$f":"IF(ISNA(VLOOKUP(C964,BDDG!$A$3:$J$102,3,FALSE)),\"\",VLOOKUP(C964,BDDG!$A$3:$J$102,3,FALSE))","v":"A"},{"$f":"IF(ISNA(VLOOKUP(C964,BDDG!$A$3:$J$102,4,FALSE)),\"\",VLOOKUP(C964,BDDG!$A$3:$J$102,4,FALSE))","v":106},{"$f":"IF(ISNA(VLOOKUP(C964,BDDG!$A$2:$F$100,5,FALSE)),\"\",VLOOKUP(C964,BDDG!$A$2:$F$100,5,FALSE))","v":"A12"},{"$f":"IF(ISNA(VLOOKUP(C964,BDDG!$A$2:$F$100,6,FALSE)),\"\",VLOOKUP(C964,BDDG!$A$2:$F$100,6,FALSE))","v":"AA34"},{"$f":"IF(ISERROR(VLOOKUP(C964,BDDG!$A$2:$G$100,7,FALSE)),\"\",VLOOKUP(C964,BDDG!$A$2:$G$100,7,FALSE))","v":1},{"$f":"IF(ISERROR(VLOOKUP(C964,BDDG!$A$2:$H$100,8,FALSE)),\"\",VLOOKUP(C964,BDDG!$A$2:$H$100,8,FALSE))","v":"BB34"},10,16.97,50.913376546847388,{"$f":"IF(ISERROR(VLOOKUP(C964,BDDG!$A$2:$I$100,9,FALSE)),\"\",VLOOKUP(C964,BDDG!$A$2:$I$100,9,FALSE))","v":"CC34"},null,null,"",{"$f":"IF(ISERROR(VLOOKUP(C964,BDDG!$A$2:$J$100,10,FALSE)),\"\",VLOOKUP(C964,BDDG!$A$2:$J$100,10,FALSE))","v":"DD34"},null,null,"",50.913376546847388,9,2015,{"$f":"IFERROR(INDEX($V$2:V964,MATCH(H964&MAX(IF($H$1:H963=H964,$A$1:A963)),$H$2:H964&$A$2:A964,0))-V964,\"\")","v":6.6866234531526132}]
["2015-09-04","soleil",861,{"$f":"IF(ISNA(VLOOKUP(C965,BDDG!$A$2:$F$100,2,FALSE)),\"\",VLOOKUP(C965,BDDG!$A$2:$F$100,2,FALSE))","v":0},{"$f":"IF(ISNA(VLOOKUP(C965,BDDG!$A$3:$J$102,3,FALSE)),\"\",VLOOKUP(C965,BDDG!$A$3:$J$102,3,FALSE))","v":"A"},{"$f":"IF(ISNA(VLOOKUP(C965,BDDG!$A$3:$J$102,4,FALSE)),\"\",VLOOKUP(C965,BDDG!$A$3:$J$102,4,FALSE))","v":106},{"$f":"IF(ISNA(VLOOKUP(C965,BDDG!$A$2:$F$100,5,FALSE)),\"\",VLOOKUP(C965,BDDG!$A$2:$F$100,5,FALSE))","v":"A11"},{"$f":"IF(ISNA(VLOOKUP(C965,BDDG!$A$2:$F$100,6,FALSE)),\"\",VLOOKUP(C965,BDDG!$A$2:$F$100,6,FALSE))","v":"AA33"},{"$f":"IF(ISERROR(VLOOKUP(C965,BDDG!$A$2:$G$100,7,FALSE)),\"\",VLOOKUP(C965,BDDG!$A$2:$G$100,7,FALSE))","v":2},{"$f":"IF(ISERROR(VLOOKUP(C965,BDDG!$A$2:$H$100,8,FALSE)),\"\",VLOOKUP(C965,BDDG!$A$2:$H$100,8,FALSE))","v":"BB33"},null,null,"",{"$f":"IF(ISERROR(VLOOKUP(C965,BDDG!$A$2:$I$100,9,FALSE)),\"\",VLOOKUP(C965,BDDG!$A$2:$I$100,9,FALSE))","v":"CC33"},10,6.19,139.5799676898223,{"$f":"IF(ISERROR(VLOOKUP(C965,BDDG!$A$2:$J$100,10,FALSE)),\"\",VLOOKUP(C965,BDDG!$A$2:$J$100,10,FALSE))","v":"DD33"},null,null,"",139.5799676898223,9,2015,{"$f":"IFERROR(INDEX($V$2:V965,MATCH(H965&MAX(IF($H$1:H964=H965,$A$1:A964)),$H$2:H965&$A$2:A965,0))-V965,\"\")","v":14.430727497343497}]
["2015-09-07","soleil",842,{"$f":"IF(ISNA(VLOOKUP(C966,BDDG!$A$2:$F$100,2,FALSE)),\"\",VLOOKUP(C966,BDDG!$A$2:$F$100,2,FALSE))","v":0},{"$f":"IF(ISNA(VLOOKUP(C966,BDDG!$A$3:$J$102,3,FALSE)),\"\",VLOOKUP(C966,BDDG!$A$3:$J$102,3,FALSE))","v":"B"},{"$f":"IF(ISNA(VLOOKUP(C966,BDDG!$A$3:$J$102,4,FALSE)),\"\",VLOOKUP(C966,BDDG!$A$3:$J$102,4,FALSE))","v":106},{"$f":"IF(ISNA(VLOOKUP(C966,BDDG!$A$2:$F$100,5,FALSE)),\"\",VLOOKUP(C966,BDDG!$A$2:$F$100,5,FALSE))","v":"A5"},{"$f":"IF(ISNA(VLOOKUP(C966,BDDG!$A$2:$F$100,6,FALSE)),\"\",VLOOKUP(C966,BDDG!$A$2:$F$100,6,FALSE))","v":"AA13"},{"$f":"IF(ISERROR(VLOOKUP(C966,BDDG!$A$2:$G$100,7,FALSE)),\"\",VLOOKUP(C966,BDDG!$A$2:$G$100,7,FALSE))","v":1},{"$f":"IF(ISERROR(VLOOKUP(C966,BDDG!$A$2:$H$100,8,FALSE)),\"\",VLOOKUP(C966,BDDG!$A$2:$H$100,8,FALSE))","v":"BB13"},5,34.72,12.442396313364057,{"$f":"IF(ISERROR(VLOOKUP(C966,BDDG!$A$2:$I$100,9,FALSE)),\"\",VLOOKUP(C966,BDDG!$A$2:$I$100,9,FALSE))","v":"CC13"},null,null,"",{"$f":"IF(ISERROR(VLOOKUP(C966,BDDG!$A$2:$J$100,10,FALSE)),\"\",VLOOKUP(C966,BDDG!$A$2:$J$100,10,FALSE))","v":"DD13"},null,null,"",12.442396313364057,9,2015,{"$f":"IFERROR(INDEX($V$2:V966,MATCH(H966&MAX(IF($H$1:H965=H966,$A$1:A965)),$H$2:H966&$A$2:A966,0))-V966,\"\")","v":2.6836541068040134}]
["2015-09-07","soleil",849,{"$f":"IF(ISNA(VLOOKUP(C967,BDDG!$A$2:$F$100,2,FALSE)),\"\",VLOOKUP(C967,BDDG!$A$2:$F$100,2,FALSE))","v":0},{"$f":"IF(ISNA(VLOOKUP(C967,BDDG!$A$3:$J$102,3,FALSE)),\"\",VLOOKUP(C967,BDDG!$A$3:$J$102,3,FALSE))","v":"B"},{"$f":"IF(ISNA(VLOOKUP(C967,BDDG!$A$3:$J$102,4,FALSE)),\"\",VLOOKUP(C967,BDDG!$A$3:$J$102,4,FALSE))","v":106},{"$f":"IF(ISNA(VLOOKUP(C967,BDDG!$A$2:$F$100,5,FALSE)),\"\",VLOOKUP(C967,BDDG!$A$2:$F$100,5,FALSE))","v":"A7"},{"$f":"IF(ISNA(VLOOKUP(C967,BDDG!$A$2:$F$100,6,FALSE)),\"\",VLOOKUP(C967,BDDG!$A$2:$F$100,6,FALSE))","v":"AA15"},{"$f":"IF(ISERROR(VLOOKUP(C967,BDDG!$A$2:$G$100,7,FALSE)),\"\",VLOOKUP(C967,BDDG!$A$2:$G$100,7,FALSE))","v":2},{"$f":"IF(ISERROR(VLOOKUP(C967,BDDG!$A$2:$H$100,8,FALSE)),\"\",VLOOKUP(C967,BDDG!$A$2:$H$100,8,FALSE))","v":"BB15"},5,73.25,5.8976109215017072,{"$f":"IF(ISERROR(VLOOKUP(C967,BDDG!$A$2:$I$100,9,FALSE)),\"\",VLOOKUP(C967,BDDG!$A$2:$I$100,9,FALSE))","v":"CC15"},5,27.19,15.888194189040089,{"$f":"IF(ISERROR(VLOOKUP(C967,BDDG!$A$2:$J$100,10,FALSE)),\"\",VLOOKUP(C967,BDDG!$A$2:$J$100,10,FALSE))","v":"DD15"},null,null,"",21.785805110541794,9,2015,{"$f":"IFERROR(INDEX($V$2:V967,MATCH(H967&MAX(IF($H$1:H966=H967,$A$1:A966)),$H$2:H967&$A$2:A967,0))-V967,\"\")","v":5.8334952986978905}]
["2015-09-07","soleil",847,{"$f":"IF(ISNA(VLOOKUP(C968,BDDG!$A$2:$F$100,2,FALSE)),\"\",VLOOKUP(C968,BDDG!$A$2:$F$100,2,FALSE))","v":0},{"$f":"IF(ISNA(VLOOKUP(C968,BDDG!$A$3:$J$102,3,FALSE)),\"\",VLOOKUP(C968,BDDG!$A$3:$J$102,3,FALSE))","v":"B"},{"$f":"IF(ISNA(VLOOKUP(C968,BDDG!$A$3:$J$102,4,FALSE)),\"\",VLOOKUP(C968,BDDG!$A$3:$J$102,4,FALSE))","v":106},{"$f":"IF(ISNA(VLOOKUP(C968,BDDG!$A$2:$F$100,5,FALSE)),\"\",VLOOKUP(C968,BDDG!$A$2:$F$100,5,FALSE))","v":"A7"},{"$f":"IF(ISNA(VLOOKUP(C968,BDDG!$A$2:$F$100,6,FALSE)),\"\",VLOOKUP(C968,BDDG!$A$2:$F$100,6,FALSE))","v":"AA18"},{"$f":"IF(ISERROR(VLOOKUP(C968,BDDG!$A$2:$G$100,7,FALSE)),\"\",VLOOKUP(C968,BDDG!$A$2:$G$100,7,FALSE))","v":2},{"$f":"IF(ISERROR(VLOOKUP(C968,BDDG!$A$2:$H$100,8,FALSE)),\"\",VLOOKUP(C968,BDDG!$A$2:$H$100,8,FALSE))","v":"BB18"},null,null,"",{"$f":"IF(ISERROR(VLOOKUP(C968,BDDG!$A$2:$I$100,9,FALSE)),\"\",VLOOKUP(C968,BDDG!$A$2:$I$100,9,FALSE))","v":"CC18"},5,57.78,7.4766355140186915,{"$f":"IF(ISERROR(VLOOKUP(C968,BDDG!$A$2:$J$100,10,FALSE)),\"\",VLOOKUP(C968,BDDG!$A$2:$J$100,10,FALSE))","v":"DD18"},null,null,"",7.4766355140186915,9,2015,{"$f":"IFERROR(INDEX($V$2:V968,MATCH(H968&MAX(IF($H$1:H967=H968,$A$1:A967)),$H$2:H968&$A$2:A968,0))-V968,\"\")","v":174.60483980908614}]
["2015-09-07","soleil",850,{"$f":"IF(ISNA(VLOOKUP(C969,BDDG!$A$2:$F$100,2,FALSE)),\"\",VLOOKUP(C969,BDDG!$A$2:$F$100,2,FALSE))","v":0},{"$f":"IF(ISNA(VLOOKUP(C969,BDDG!$A$3:$J$102,3,FALSE)),\"\",VLOOKUP(C969,BDDG!$A$3:$J$102,3,FALSE))","v":"B"},{"$f":"IF(ISNA(VLOOKUP(C969,BDDG!$A$3:$J$102,4,FALSE)),\"\",VLOOKUP(C969,BDDG!$A$3:$J$102,4,FALSE))","v":106},{"$f":"IF(ISNA(VLOOKUP(C969,BDDG!$A$2:$F$100,5,FALSE)),\"\",VLOOKUP(C969,BDDG!$A$2:$F$100,5,FALSE))","v":"A8"},{"$f":"IF(ISNA(VLOOKUP(C969,BDDG!$A$2:$F$100,6,FALSE)),\"\",VLOOKUP(C969,BDDG!$A$2:$F$100,6,FALSE))","v":"AA20"},{"$f":"IF(ISERROR(VLOOKUP(C969,BDDG!$A$2:$G$100,7,FALSE)),\"\",VLOOKUP(C969,BDDG!$A$2:$G$100,7,FALSE))","v":1},{"$f":"IF(ISERROR(VLOOKUP(C969,BDDG!$A$2:$H$100,8,FALSE)),\"\",VLOOKUP(C969,BDDG!$A$2:$H$100,8,FALSE))","v":"BB20"},5,11.54,37.435008665511269,{"$f":"IF(ISERROR(VLOOKUP(C969,BDDG!$A$2:$I$100,9,FALSE)),\"\",VLOOKUP(C969,BDDG!$A$2:$I$100,9,FALSE))","v":"CC20"},null,null,"",{"$f":"IF(ISERROR(VLOOKUP(C969,BDDG!$A$2:$J$100,10,FALSE)),\"\",VLOOKUP(C969,BDDG!$A$2:$J$100,10,FALSE))","v":"DD20"},null,null,"",37.435008665511269,9,2015,{"$f":"IFERROR(INDEX($V$2:V969,MATCH(H969&MAX(IF($H$1:H968=H969,$A$1:A968)),$H$2:H969&$A$2:A969,0))-V969,\"\")","v":1.0676651312801795}]
["2015-09-07","soleil",844,{"$f":"IF(ISNA(VLOOKUP(C970,BDDG!$A$2:$F$100,2,FALSE)),\"\",VLOOKUP(C970,BDDG!$A$2:$F$100,2,FALSE))","v":0},{"$f":"IF(ISNA(VLOOKUP(C970,BDDG!$A$3:$J$102,3,FALSE)),\"\",VLOOKUP(C970,BDDG!$A$3:$J$102,3,FALSE))","v":"B"},{"$f":"IF(ISNA(VLOOKUP(C970,BDDG!$A$3:$J$102,4,FALSE)),\"\",VLOOKUP(C970,BDDG!$A$3:$J$102,4,FALSE))","v":106},{"$f":"IF(ISNA(VLOOKUP(C970,BDDG!$A$2:$F$100,5,FALSE)),\"\",VLOOKUP(C970,BDDG!$A$2:$F$100,5,FALSE))","v":"A6"},{"$f":"IF(ISNA(VLOOKUP(C970,BDDG!$A$2:$F$100,6,FALSE)),\"\",VLOOKUP(C970,BDDG!$A$2:$F$100,6,FALSE))","v":"AA14"},{"$f":"IF(ISERROR(VLOOKUP(C970,BDDG!$A$2:$G$100,7,FALSE)),\"\",VLOOKUP(C970,BDDG!$A$2:$G$100,7,FALSE))","v":2},{"$f":"IF(ISERROR(VLOOKUP(C970,BDDG!$A$2:$H$100,8,FALSE)),\"\",VLOOKUP(C970,BDDG!$A$2:$H$100,8,FALSE))","v":"BB14"},5,6.44,67.0807453416149,{"$f":"IF(ISERROR(VLOOKUP(C970,BDDG!$A$2:$I$100,9,FALSE)),\"\",VLOOKUP(C970,BDDG!$A$2:$I$100,9,FALSE))","v":"CC14"},null,null,"",{"$f":"IF(ISERROR(VLOOKUP(C970,BDDG!$A$2:$J$100,10,FALSE)),\"\",VLOOKUP(C970,BDDG!$A$2:$J$100,10,FALSE))","v":"DD14"},null,null,"",67.0807453416149,9,2015,{"$f":"IFERROR(INDEX($V$2:V970,MATCH(H970&MAX(IF($H$1:H969=H970,$A$1:A969)),$H$2:H970&$A$2:A970,0))-V970,\"\")","v":-7.1223830931763104}]
["2015-09-07","soleil",845,{"$f":"IF(ISNA(VLOOKUP(C971,BDDG!$A$2:$F$100,2,FALSE)),\"\",VLOOKUP(C971,BDDG!$A$2:$F$100,2,FALSE))","v":0},{"$f":"IF(ISNA(VLOOKUP(C971,BDDG!$A$3:$J$102,3,FALSE)),\"\",VLOOKUP(C971,BDDG!$A$3:$J$102,3,FALSE))","v":"B"},{"$f":"IF(ISNA(VLOOKUP(C971,BDDG!$A$3:$J$102,4,FALSE)),\"\",VLOOKUP(C971,BDDG!$A$3:$J$102,4,FALSE))","v":106},{"$f":"IF(ISNA(VLOOKUP(C971,BDDG!$A$2:$F$100,5,FALSE)),\"\",VLOOKUP(C971,BDDG!$A$2:$F$100,5,FALSE))","v":"A7"},{"$f":"IF(ISNA(VLOOKUP(C971,BDDG!$A$2:$F$100,6,FALSE)),\"\",VLOOKUP(C971,BDDG!$A$2:$F$100,6,FALSE))","v":"AA16"},{"$f":"IF(ISERROR(VLOOKUP(C971,BDDG!$A$2:$G$100,7,FALSE)),\"\",VLOOKUP(C971,BDDG!$A$2:$G$100,7,FALSE))","v":1},{"$f":"IF(ISERROR(VLOOKUP(C971,BDDG!$A$2:$H$100,8,FALSE)),\"\",VLOOKUP(C971,BDDG!$A$2:$H$100,8,FALSE))","v":"BB16"},5,69.819999999999993,6.1873388713835586,{"$f":"IF(ISERROR(VLOOKUP(C971,BDDG!$A$2:$I$100,9,FALSE)),\"\",VLOOKUP(C971,BDDG!$A$2:$I$100,9,FALSE))","v":"CC16"},null,null,"",{"$f":"IF(ISERROR(VLOOKUP(C971,BDDG!$A$2:$J$100,10,FALSE)),\"\",VLOOKUP(C971,BDDG!$A$2:$J$100,10,FALSE))","v":"DD16"},null,null,"",6.1873388713835586,9,2015,{"$f":"IFERROR(INDEX($V$2:V971,MATCH(H971&MAX(IF($H$1:H970=H971,$A$1:A970)),$H$2:H971&$A$2:A971,0))-V971,\"\")","v":0.11923047168213508}]
["2015-09-08","soleil",872,{"$f":"IF(ISNA(VLOOKUP(C972,BDDG!$A$2:$F$100,2,FALSE)),\"\",VLOOKUP(C972,BDDG!$A$2:$F$100,2,FALSE))","v":0},{"$f":"IF(ISNA(VLOOKUP(C972,BDDG!$A$3:$J$102,3,FALSE)),\"\",VLOOKUP(C972,BDDG!$A$3:$J$102,3,FALSE))","v":"C"},{"$f":"IF(ISNA(VLOOKUP(C972,BDDG!$A$3:$J$102,4,FALSE)),\"\",VLOOKUP(C972,BDDG!$A$3:$J$102,4,FALSE))","v":108},{"$f":"IF(ISNA(VLOOKUP(C972,BDDG!$A$2:$F$100,5,FALSE)),\"\",VLOOKUP(C972,BDDG!$A$2:$F$100,5,FALSE))","v":"A18"},{"$f":"IF(ISNA(VLOOKUP(C972,BDDG!$A$2:$F$100,6,FALSE)),\"\",VLOOKUP(C972,BDDG!$A$2:$F$100,6,FALSE))","v":"AA45"},{"$f":"IF(ISERROR(VLOOKUP(C972,BDDG!$A$2:$G$100,7,FALSE)),\"\",VLOOKUP(C972,BDDG!$A$2:$G$100,7,FALSE))","v":3},{"$f":"IF(ISERROR(VLOOKUP(C972,BDDG!$A$2:$H$100,8,FALSE)),\"\",VLOOKUP(C972,BDDG!$A$2:$H$100,8,FALSE))","v":"BB45"},null,null,"",{"$f":"IF(ISERROR(VLOOKUP(C972,BDDG!$A$2:$I$100,9,FALSE)),\"\",VLOOKUP(C972,BDDG!$A$2:$I$100,9,FALSE))","v":"CC45"},5,26.94,16.035634743875278,{"$f":"IF(ISERROR(VLOOKUP(C972,BDDG!$A$2:$J$100,10,FALSE)),\"\",VLOOKUP(C972,BDDG!$A$2:$J$100,10,FALSE))","v":"DD45"},5,14.25,30.315789473684212,46.35142421755949,9,2015,{"$f":"IFERROR(INDEX($V$2:V972,MATCH(H972&MAX(IF($H$1:H971=H972,$A$1:A971)),$H$2:H972&$A$2:A972,0))-V972,\"\")","v":-31.750663761285729}]
["2015-09-08","soleil",873,{"$f":"IF(ISNA(VLOOKUP(C973,BDDG!$A$2:$F$100,2,FALSE)),\"\",VLOOKUP(C973,BDDG!$A$2:$F$100,2,FALSE))","v":0},{"$f":"IF(ISNA(VLOOKUP(C973,BDDG!$A$3:$J$102,3,FALSE)),\"\",VLOOKUP(C973,BDDG!$A$3:$J$102,3,FALSE))","v":"C"},{"$f":"IF(ISNA(VLOOKUP(C973,BDDG!$A$3:$J$102,4,FALSE)),\"\",VLOOKUP(C973,BDDG!$A$3:$J$102,4,FALSE))","v":108},{"$f":"IF(ISNA(VLOOKUP(C973,BDDG!$A$2:$F$100,5,FALSE)),\"\",VLOOKUP(C973,BDDG!$A$2:$F$100,5,FALSE))","v":"A18"},{"$f":"IF(ISNA(VLOOKUP(C973,BDDG!$A$2:$F$100,6,FALSE)),\"\",VLOOKUP(C973,BDDG!$A$2:$F$100,6,FALSE))","v":"AA46"},{"$f":"IF(ISERROR(VLOOKUP(C973,BDDG!$A$2:$G$100,7,FALSE)),\"\",VLOOKUP(C973,BDDG!$A$2:$G$100,7,FALSE))","v":1},{"$f":"IF(ISERROR(VLOOKUP(C973,BDDG!$A$2:$H$100,8,FALSE)),\"\",VLOOKUP(C973,BDDG!$A$2:$H$100,8,FALSE))","v":"BB46"},10,3.5,246.85714285714289,{"$f":"IF(ISERROR(VLOOKUP(C973,BDDG!$A$2:$I$100,9,FALSE)),\"\",VLOOKUP(C973,BDDG!$A$2:$I$100,9,FALSE))","v":"CC46"},null,null,"",{"$f":"IF(ISERROR(VLOOKUP(C973,BDDG!$A$2:$J$100,10,FALSE)),\"\",VLOOKUP(C973,BDDG!$A$2:$J$100,10,FALSE))","v":"DD46"},null,null,"",246.85714285714289,9,2015,{"$f":"IFERROR(INDEX($V$2:V973,MATCH(H973&MAX(IF($H$1:H972=H973,$A$1:A972)),$H$2:H973&$A$2:A973,0))-V973,\"\")","v":7.2605042016806749}]
["2015-09-08","soleil",874,{"$f":"IF(ISNA(VLOOKUP(C974,BDDG!$A$2:$F$100,2,FALSE)),\"\",VLOOKUP(C974,BDDG!$A$2:$F$100,2,FALSE))","v":0},{"$f":"IF(ISNA(VLOOKUP(C974,BDDG!$A$3:$J$102,3,FALSE)),\"\",VLOOKUP(C974,BDDG!$A$3:$J$102,3,FALSE))","v":"C"},{"$f":"IF(ISNA(VLOOKUP(C974,BDDG!$A$3:$J$102,4,FALSE)),\"\",VLOOKUP(C974,BDDG!$A$3:$J$102,4,FALSE))","v":108},{"$f":"IF(ISNA(VLOOKUP(C974,BDDG!$A$2:$F$100,5,FALSE)),\"\",VLOOKUP(C974,BDDG!$A$2:$F$100,5,FALSE))","v":"A18"},{"$f":"IF(ISNA(VLOOKUP(C974,BDDG!$A$2:$F$100,6,FALSE)),\"\",VLOOKUP(C974,BDDG!$A$2:$F$100,6,FALSE))","v":"AA47"},{"$f":"IF(ISERROR(VLOOKUP(C974,BDDG!$A$2:$G$100,7,FALSE)),\"\",VLOOKUP(C974,BDDG!$A$2:$G$100,7,FALSE))","v":1},{"$f":"IF(ISERROR(VLOOKUP(C974,BDDG!$A$2:$H$100,8,FALSE)),\"\",VLOOKUP(C974,BDDG!$A$2:$H$100,8,FALSE))","v":"BB47"},null,null,"",{"$f":"IF(ISERROR(VLOOKUP(C974,BDDG!$A$2:$I$100,9,FALSE)),\"\",VLOOKUP(C974,BDDG!$A$2:$I$100,9,FALSE))","v":"CC47"},null,null,"",{"$f":"IF(ISERROR(VLOOKUP(C974,BDDG!$A$2:$J$100,10,FALSE)),\"\",VLOOKUP(C974,BDDG!$A$2:$J$100,10,FALSE))","v":"DD47"},null,null,"",null,9,2015,{"$f":"IFERROR(INDEX($V$2:V974,MATCH(H974&MAX(IF($H$1:H973=H974,$A$1:A973)),$H$2:H974&$A$2:A974,0))-V974,\"\")","v":5.3392658509454956}]
["2015-09-08","soleil",876,{"$f":"IF(ISNA(VLOOKUP(C975,BDDG!$A$2:$F$100,2,FALSE)),\"\",VLOOKUP(C975,BDDG!$A$2:$F$100,2,FALSE))","v":0},{"$f":"IF(ISNA(VLOOKUP(C975,BDDG!$A$3:$J$102,3,FALSE)),\"\",VLOOKUP(C975,BDDG!$A$3:$J$102,3,FALSE))","v":"C"},{"$f":"IF(ISNA(VLOOKUP(C975,BDDG!$A$3:$J$102,4,FALSE)),\"\",VLOOKUP(C975,BDDG!$A$3:$J$102,4,FALSE))","v":108},{"$f":"IF(ISNA(VLOOKUP(C975,BDDG!$A$2:$F$100,5,FALSE)),\"\",VLOOKUP(C975,BDDG!$A$2:$F$100,5,FALSE))","v":"A18"},{"$f":"IF(ISNA(VLOOKUP(C975,BDDG!$A$2:$F$100,6,FALSE)),\"\",VLOOKUP(C975,BDDG!$A$2:$F$100,6,FALSE))","v":"AA49"},{"$f":"IF(ISERROR(VLOOKUP(C975,BDDG!$A$2:$G$100,7,FALSE)),\"\",VLOOKUP(C975,BDDG!$A$2:$G$100,7,FALSE))","v":2},{"$f":"IF(ISERROR(VLOOKUP(C975,BDDG!$A$2:$H$100,8,FALSE)),\"\",VLOOKUP(C975,BDDG!$A$2:$H$100,8,FALSE))","v":"BB49"},5,5.54,77.978339350180505,{"$f":"IF(ISERROR(VLOOKUP(C975,BDDG!$A$2:$I$100,9,FALSE)),\"\",VLOOKUP(C975,BDDG!$A$2:$I$100,9,FALSE))","v":"CC49"},1,10.210000000000001,8.462291870714985,{"$f":"IF(ISERROR(VLOOKUP(C975,BDDG!$A$2:$J$100,10,FALSE)),\"\",VLOOKUP(C975,BDDG!$A$2:$J$100,10,FALSE))","v":"DD49"},null,null,"",{"$f":"IF(ISERROR(SUM(M975,Q975,U975)),\"\",SUM(M975,Q975,U975))","v":86.440631220895483},9,2015,{"$f":"IFERROR(INDEX($V$2:V975,MATCH(H975&MAX(IF($H$1:H974=H975,$A$1:A974)),$H$2:H975&$A$2:A975,0))-V975,\"\")","v":0.46393150765922542}]
["2015-09-08","soleil",877,{"$f":"IF(ISNA(VLOOKUP(C976,BDDG!$A$2:$F$100,2,FALSE)),\"\",VLOOKUP(C976,BDDG!$A$2:$F$100,2,FALSE))","v":0},{"$f":"IF(ISNA(VLOOKUP(C976,BDDG!$A$3:$J$102,3,FALSE)),\"\",VLOOKUP(C976,BDDG!$A$3:$J$102,3,FALSE))","v":"C"},{"$f":"IF(ISNA(VLOOKUP(C976,BDDG!$A$3:$J$102,4,FALSE)),\"\",VLOOKUP(C976,BDDG!$A$3:$J$102,4,FALSE))","v":108},{"$f":"IF(ISNA(VLOOKUP(C976,BDDG!$A$2:$F$100,5,FALSE)),\"\",VLOOKUP(C976,BDDG!$A$2:$F$100,5,FALSE))","v":"A18"},{"$f":"IF(ISNA(VLOOKUP(C976,BDDG!$A$2:$F$100,6,FALSE)),\"\",VLOOKUP(C976,BDDG!$A$2:$F$100,6,FALSE))","v":"AA50"},{"$f":"IF(ISERROR(VLOOKUP(C976,BDDG!$A$2:$G$100,7,FALSE)),\"\",VLOOKUP(C976,BDDG!$A$2:$G$100,7,FALSE))","v":2},{"$f":"IF(ISERROR(VLOOKUP(C976,BDDG!$A$2:$H$100,8,FALSE)),\"\",VLOOKUP(C976,BDDG!$A$2:$H$100,8,FALSE))","v":"BB50"},10,11.09,77.908025247971153,{"$f":"IF(ISERROR(VLOOKUP(C976,BDDG!$A$2:$I$100,9,FALSE)),\"\",VLOOKUP(C976,BDDG!$A$2:$I$100,9,FALSE))","v":"CC50"},1,18.18,4.7524752475247531,{"$f":"IF(ISERROR(VLOOKUP(C976,BDDG!$A$2:$J$100,10,FALSE)),\"\",VLOOKUP(C976,BDDG!$A$2:$J$100,10,FALSE))","v":"DD50"},null,null,"",82.66050049549591,9,2015,{"$f":"IFERROR(INDEX($V$2:V976,MATCH(H976&MAX(IF($H$1:H975=H976,$A$1:A975)),$H$2:H976&$A$2:A976,0))-V976,\"\")","v":21.689926445252809}]
["2015-09-08","soleil",882,{"$f":"IF(ISNA(VLOOKUP(C977,BDDG!$A$2:$F$100,2,FALSE)),\"\",VLOOKUP(C977,BDDG!$A$2:$F$100,2,FALSE))","v":0},{"$f":"IF(ISNA(VLOOKUP(C977,BDDG!$A$3:$J$102,3,FALSE)),\"\",VLOOKUP(C977,BDDG!$A$3:$J$102,3,FALSE))","v":"C"},{"$f":"IF(ISNA(VLOOKUP(C977,BDDG!$A$3:$J$102,4,FALSE)),\"\",VLOOKUP(C977,BDDG!$A$3:$J$102,4,FALSE))","v":108},{"$f":"IF(ISNA(VLOOKUP(C977,BDDG!$A$2:$F$100,5,FALSE)),\"\",VLOOKUP(C977,BDDG!$A$2:$F$100,5,FALSE))","v":"A18"},{"$f":"IF(ISNA(VLOOKUP(C977,BDDG!$A$2:$F$100,6,FALSE)),\"\",VLOOKUP(C977,BDDG!$A$2:$F$100,6,FALSE))","v":"AA51"},{"$f":"IF(ISERROR(VLOOKUP(C977,BDDG!$A$2:$G$100,7,FALSE)),\"\",VLOOKUP(C977,BDDG!$A$2:$G$100,7,FALSE))","v":1},{"$f":"IF(ISERROR(VLOOKUP(C977,BDDG!$A$2:$H$100,8,FALSE)),\"\",VLOOKUP(C977,BDDG!$A$2:$H$100,8,FALSE))","v":"BB51"},5,6.47,66.769706336939734,{"$f":"IF(ISERROR(VLOOKUP(C977,BDDG!$A$2:$I$100,9,FALSE)),\"\",VLOOKUP(C977,BDDG!$A$2:$I$100,9,FALSE))","v":"CC51"},null,null,"",{"$f":"IF(ISERROR(VLOOKUP(C977,BDDG!$A$2:$J$100,10,FALSE)),\"\",VLOOKUP(C977,BDDG!$A$2:$J$100,10,FALSE))","v":"DD51"},null,null,"",66.769706336939734,9,2015,{"$f":"IFERROR(INDEX($V$2:V977,MATCH(H977&MAX(IF($H$1:H976=H977,$A$1:A976)),$H$2:H977&$A$2:A977,0))-V977,\"\")","v":-13.502135436816424}]
["2015-09-08","soleil",871,{"$f":"IF(ISNA(VLOOKUP(C978,BDDG!$A$2:$F$100,2,FALSE)),\"\",VLOOKUP(C978,BDDG!$A$2:$F$100,2,FALSE))","v":0},{"$f":"IF(ISNA(VLOOKUP(C978,BDDG!$A$3:$J$102,3,FALSE)),\"\",VLOOKUP(C978,BDDG!$A$3:$J$102,3,FALSE))","v":"C"},{"$f":"IF(ISNA(VLOOKUP(C978,BDDG!$A$3:$J$102,4,FALSE)),\"\",VLOOKUP(C978,BDDG!$A$3:$J$102,4,FALSE))","v":108},{"$f":"IF(ISNA(VLOOKUP(C978,BDDG!$A$2:$F$100,5,FALSE)),\"\",VLOOKUP(C978,BDDG!$A$2:$F$100,5,FALSE))","v":"A18"},{"$f":"IF(ISNA(VLOOKUP(C978,BDDG!$A$2:$F$100,6,FALSE)),\"\",VLOOKUP(C978,BDDG!$A$2:$F$100,6,FALSE))","v":"AA44"},{"$f":"IF(ISERROR(VLOOKUP(C978,BDDG!$A$2:$G$100,7,FALSE)),\"\",VLOOKUP(C978,BDDG!$A$2:$G$100,7,FALSE))","v":2},{"$f":"IF(ISERROR(VLOOKUP(C978,BDDG!$A$2:$H$100,8,FALSE)),\"\",VLOOKUP(C978,BDDG!$A$2:$H$100,8,FALSE))","v":"BB44"},1,11.3,7.6460176991150446,{"$f":"IF(ISERROR(VLOOKUP(C978,BDDG!$A$2:$I$100,9,FALSE)),\"\",VLOOKUP(C978,BDDG!$A$2:$I$100,9,FALSE))","v":"CC44"},null,null,"",{"$f":"IF(ISERROR(VLOOKUP(C978,BDDG!$A$2:$J$100,10,FALSE)),\"\",VLOOKUP(C978,BDDG!$A$2:$J$100,10,FALSE))","v":"DD44"},null,null,"",7.6460176991150446,9,2015,{"$f":"IFERROR(INDEX($V$2:V978,MATCH(H978&MAX(IF($H$1:H977=H978,$A$1:A977)),$H$2:H978&$A$2:A978,0))-V978,\"\")","v":15.162852417041236}]
["2015-09-11","nuageux",866,{"$f":"IF(ISNA(VLOOKUP(C979,BDDG!$A$2:$F$100,2,FALSE)),\"\",VLOOKUP(C979,BDDG!$A$2:$F$100,2,FALSE))","v":0},{"$f":"IF(ISNA(VLOOKUP(C979,BDDG!$A$3:$J$102,3,FALSE)),\"\",VLOOKUP(C979,BDDG!$A$3:$J$102,3,FALSE))","v":"C"},{"$f":"IF(ISNA(VLOOKUP(C979,BDDG!$A$3:$J$102,4,FALSE)),\"\",VLOOKUP(C979,BDDG!$A$3:$J$102,4,FALSE))","v":108},{"$f":"IF(ISNA(VLOOKUP(C979,BDDG!$A$2:$F$100,5,FALSE)),\"\",VLOOKUP(C979,BDDG!$A$2:$F$100,5,FALSE))","v":"A17"},{"$f":"IF(ISNA(VLOOKUP(C979,BDDG!$A$2:$F$100,6,FALSE)),\"\",VLOOKUP(C979,BDDG!$A$2:$F$100,6,FALSE))","v":"AA42"},{"$f":"IF(ISERROR(VLOOKUP(C979,BDDG!$A$2:$G$100,7,FALSE)),\"\",VLOOKUP(C979,BDDG!$A$2:$G$100,7,FALSE))","v":1},{"$f":"IF(ISERROR(VLOOKUP(C979,BDDG!$A$2:$H$100,8,FALSE)),\"\",VLOOKUP(C979,BDDG!$A$2:$H$100,8,FALSE))","v":"BB42"},0.8,1,69.12,{"$f":"IF(ISERROR(VLOOKUP(C979,BDDG!$A$2:$I$100,9,FALSE)),\"\",VLOOKUP(C979,BDDG!$A$2:$I$100,9,FALSE))","v":"CC42"},null,null,"",{"$f":"IF(ISERROR(VLOOKUP(C979,BDDG!$A$2:$J$100,10,FALSE)),\"\",VLOOKUP(C979,BDDG!$A$2:$J$100,10,FALSE))","v":"DD42"},null,null,"",69.12,9,2015,{"$f":"IFERROR(INDEX($V$2:V979,MATCH(H979&MAX(IF($H$1:H978=H979,$A$1:A978)),$H$2:H979&$A$2:A979,0))-V979,\"\")","v":17.28}]
["2015-09-11","nuageux",867,{"$f":"IF(ISNA(VLOOKUP(C980,BDDG!$A$2:$F$100,2,FALSE)),\"\",VLOOKUP(C980,BDDG!$A$2:$F$100,2,FALSE))","v":0},{"$f":"IF(ISNA(VLOOKUP(C980,BDDG!$A$3:$J$102,3,FALSE)),\"\",VLOOKUP(C980,BDDG!$A$3:$J$102,3,FALSE))","v":"C"},{"$f":"IF(ISNA(VLOOKUP(C980,BDDG!$A$3:$J$102,4,FALSE)),\"\",VLOOKUP(C980,BDDG!$A$3:$J$102,4,FALSE))","v":108},{"$f":"IF(ISNA(VLOOKUP(C980,BDDG!$A$2:$F$100,5,FALSE)),\"\",VLOOKUP(C980,BDDG!$A$2:$F$100,5,FALSE))","v":"A17"},{"$f":"IF(ISNA(VLOOKUP(C980,BDDG!$A$2:$F$100,6,FALSE)),\"\",VLOOKUP(C980,BDDG!$A$2:$F$100,6,FALSE))","v":"AA43"},{"$f":"IF(ISERROR(VLOOKUP(C980,BDDG!$A$2:$G$100,7,FALSE)),\"\",VLOOKUP(C980,BDDG!$A$2:$G$100,7,FALSE))","v":1},{"$f":"IF(ISERROR(VLOOKUP(C980,BDDG!$A$2:$H$100,8,FALSE)),\"\",VLOOKUP(C980,BDDG!$A$2:$H$100,8,FALSE))","v":"BB43"},5,13.28,32.530120481927717,{"$f":"IF(ISERROR(VLOOKUP(C980,BDDG!$A$2:$I$100,9,FALSE)),\"\",VLOOKUP(C980,BDDG!$A$2:$I$100,9,FALSE))","v":"CC43"},null,null,"",{"$f":"IF(ISERROR(VLOOKUP(C980,BDDG!$A$2:$J$100,10,FALSE)),\"\",VLOOKUP(C980,BDDG!$A$2:$J$100,10,FALSE))","v":"DD43"},null,null,"",32.530120481927717,9,2015,{"$f":"IFERROR(INDEX($V$2:V980,MATCH(H980&MAX(IF($H$1:H979=H980,$A$1:A979)),$H$2:H980&$A$2:A980,0))-V980,\"\")","v":1.6065843778115223}]
["2015-09-11","nuageux",869,{"$f":"IF(ISNA(VLOOKUP(C981,BDDG!$A$2:$F$100,2,FALSE)),\"\",VLOOKUP(C981,BDDG!$A$2:$F$100,2,FALSE))","v":0},{"$f":"IF(ISNA(VLOOKUP(C981,BDDG!$A$3:$J$102,3,FALSE)),\"\",VLOOKUP(C981,BDDG!$A$3:$J$102,3,FALSE))","v":"A"},{"$f":"IF(ISNA(VLOOKUP(C981,BDDG!$A$3:$J$102,4,FALSE)),\"\",VLOOKUP(C981,BDDG!$A$3:$J$102,4,FALSE))","v":108},{"$f":"IF(ISNA(VLOOKUP(C981,BDDG!$A$2:$F$100,5,FALSE)),\"\",VLOOKUP(C981,BDDG!$A$2:$F$100,5,FALSE))","v":"A16"},{"$f":"IF(ISNA(VLOOKUP(C981,BDDG!$A$2:$F$100,6,FALSE)),\"\",VLOOKUP(C981,BDDG!$A$2:$F$100,6,FALSE))","v":"AA40"},{"$f":"IF(ISERROR(VLOOKUP(C981,BDDG!$A$2:$G$100,7,FALSE)),\"\",VLOOKUP(C981,BDDG!$A$2:$G$100,7,FALSE))","v":3},{"$f":"IF(ISERROR(VLOOKUP(C981,BDDG!$A$2:$H$100,8,FALSE)),\"\",VLOOKUP(C981,BDDG!$A$2:$H$100,8,FALSE))","v":"BB40"},10,9.6,90.000000000000014,{"$f":"IF(ISERROR(VLOOKUP(C981,BDDG!$A$2:$I$100,9,FALSE)),\"\",VLOOKUP(C981,BDDG!$A$2:$I$100,9,FALSE))","v":"CC40"},null,null,"",{"$f":"IF(ISERROR(VLOOKUP(C981,BDDG!$A$2:$J$100,10,FALSE)),\"\",VLOOKUP(C981,BDDG!$A$2:$J$100,10,FALSE))","v":"DD40"},null,null,"",90.000000000000014,9,2015,{"$f":"IFERROR(INDEX($V$2:V981,MATCH(H981&MAX(IF($H$1:H980=H981,$A$1:A980)),$H$2:H981&$A$2:A981,0))-V981,\"\")","v":-69.428571428571445}]
["2015-09-11","nuageux",870,{"$f":"IF(ISNA(VLOOKUP(C982,BDDG!$A$2:$F$100,2,FALSE)),\"\",VLOOKUP(C982,BDDG!$A$2:$F$100,2,FALSE))","v":0},{"$f":"IF(ISNA(VLOOKUP(C982,BDDG!$A$3:$J$102,3,FALSE)),\"\",VLOOKUP(C982,BDDG!$A$3:$J$102,3,FALSE))","v":"A"},{"$f":"IF(ISNA(VLOOKUP(C982,BDDG!$A$3:$J$102,4,FALSE)),\"\",VLOOKUP(C982,BDDG!$A$3:$J$102,4,FALSE))","v":108},{"$f":"IF(ISNA(VLOOKUP(C982,BDDG!$A$2:$F$100,5,FALSE)),\"\",VLOOKUP(C982,BDDG!$A$2:$F$100,5,FALSE))","v":"A16"},{"$f":"IF(ISNA(VLOOKUP(C982,BDDG!$A$2:$F$100,6,FALSE)),\"\",VLOOKUP(C982,BDDG!$A$2:$F$100,6,FALSE))","v":"AA41"},{"$f":"IF(ISERROR(VLOOKUP(C982,BDDG!$A$2:$G$100,7,FALSE)),\"\",VLOOKUP(C982,BDDG!$A$2:$G$100,7,FALSE))","v":2},{"$f":"IF(ISERROR(VLOOKUP(C982,BDDG!$A$2:$H$100,8,FALSE)),\"\",VLOOKUP(C982,BDDG!$A$2:$H$100,8,FALSE))","v":"BB41"},1,47.87,1.8048882389805725,{"$f":"IF(ISERROR(VLOOKUP(C982,BDDG!$A$2:$I$100,9,FALSE)),\"\",VLOOKUP(C982,BDDG!$A$2:$I$100,9,FALSE))","v":"CC41"},0.5,152.53,0.28322297252999412,{"$f":"IF(ISERROR(VLOOKUP(C982,BDDG!$A$2:$J$100,10,FALSE)),\"\",VLOOKUP(C982,BDDG!$A$2:$J$100,10,FALSE))","v":"DD41"},null,null,"",2.0881112115105664,9,2015,{"$f":"IFERROR(INDEX($V$2:V982,MATCH(H982&MAX(IF($H$1:H981=H982,$A$1:A981)),$H$2:H982&$A$2:A982,0))-V982,\"\")","v":1.0157543347079212}]
["2015-09-18","couvert",878,{"$f":"IF(ISNA(VLOOKUP(C983,BDDG!$A$2:$F$100,2,FALSE)),\"\",VLOOKUP(C983,BDDG!$A$2:$F$100,2,FALSE))","v":0},{"$f":"IF(ISNA(VLOOKUP(C983,BDDG!$A$3:$J$102,3,FALSE)),\"\",VLOOKUP(C983,BDDG!$A$3:$J$102,3,FALSE))","v":"C"},{"$f":"IF(ISNA(VLOOKUP(C983,BDDG!$A$3:$J$102,4,FALSE)),\"\",VLOOKUP(C983,BDDG!$A$3:$J$102,4,FALSE))","v":108},{"$f":"IF(ISNA(VLOOKUP(C983,BDDG!$A$2:$F$100,5,FALSE)),\"\",VLOOKUP(C983,BDDG!$A$2:$F$100,5,FALSE))","v":"A19"},{"$f":"IF(ISNA(VLOOKUP(C983,BDDG!$A$2:$F$100,6,FALSE)),\"\",VLOOKUP(C983,BDDG!$A$2:$F$100,6,FALSE))","v":"AA52"},{"$f":"IF(ISERROR(VLOOKUP(C983,BDDG!$A$2:$G$100,7,FALSE)),\"\",VLOOKUP(C983,BDDG!$A$2:$G$100,7,FALSE))","v":1},{"$f":"IF(ISERROR(VLOOKUP(C983,BDDG!$A$2:$H$100,8,FALSE)),\"\",VLOOKUP(C983,BDDG!$A$2:$H$100,8,FALSE))","v":"BB52"},10,44.35,19.481397970687713,{"$f":"IF(ISERROR(VLOOKUP(C983,BDDG!$A$2:$I$100,9,FALSE)),\"\",VLOOKUP(C983,BDDG!$A$2:$I$100,9,FALSE))","v":"CC52"},null,null,"",{"$f":"IF(ISERROR(VLOOKUP(C983,BDDG!$A$2:$J$100,10,FALSE)),\"\",VLOOKUP(C983,BDDG!$A$2:$J$100,10,FALSE))","v":"DD52"},null,null,"",19.481397970687713,9,2015,{"$f":"IFERROR(INDEX($V$2:V983,MATCH(H983&MAX(IF($H$1:H982=H983,$A$1:A982)),$H$2:H983&$A$2:A983,0))-V983,\"\")","v":-1.6006032687009579}]
["2015-09-18","couvert",879,{"$f":"IF(ISNA(VLOOKUP(C984,BDDG!$A$2:$F$100,2,FALSE)),\"\",VLOOKUP(C984,BDDG!$A$2:$F$100,2,FALSE))","v":0},{"$f":"IF(ISNA(VLOOKUP(C984,BDDG!$A$3:$J$102,3,FALSE)),\"\",VLOOKUP(C984,BDDG!$A$3:$J$102,3,FALSE))","v":"C"},{"$f":"IF(ISNA(VLOOKUP(C984,BDDG!$A$3:$J$102,4,FALSE)),\"\",VLOOKUP(C984,BDDG!$A$3:$J$102,4,FALSE))","v":108},{"$f":"IF(ISNA(VLOOKUP(C984,BDDG!$A$2:$F$100,5,FALSE)),\"\",VLOOKUP(C984,BDDG!$A$2:$F$100,5,FALSE))","v":"A19"},{"$f":"IF(ISNA(VLOOKUP(C984,BDDG!$A$2:$F$100,6,FALSE)),\"\",VLOOKUP(C984,BDDG!$A$2:$F$100,6,FALSE))","v":"AA53"},{"$f":"IF(ISERROR(VLOOKUP(C984,BDDG!$A$2:$G$100,7,FALSE)),\"\",VLOOKUP(C984,BDDG!$A$2:$G$100,7,FALSE))","v":3},{"$f":"IF(ISERROR(VLOOKUP(C984,BDDG!$A$2:$H$100,8,FALSE)),\"\",VLOOKUP(C984,BDDG!$A$2:$H$100,8,FALSE))","v":"BB53"},10,15,57.6,{"$f":"IF(ISERROR(VLOOKUP(C984,BDDG!$A$2:$I$100,9,FALSE)),\"\",VLOOKUP(C984,BDDG!$A$2:$I$100,9,FALSE))","v":"CC53"},10,10.66,81.05065666041277,{"$f":"IF(ISERROR(VLOOKUP(C984,BDDG!$A$2:$J$100,10,FALSE)),\"\",VLOOKUP(C984,BDDG!$A$2:$J$100,10,FALSE))","v":"DD53"},10,88,9.8181818181818183,148.46883847859459,9,2015,{"$f":"IFERROR(INDEX($V$2:V984,MATCH(H984&MAX(IF($H$1:H983=H984,$A$1:A983)),$H$2:H984&$A$2:A984,0))-V984,\"\")","v":-25.846143878852615}]
["2015-09-18","couvert",880,{"$f":"IF(ISNA(VLOOKUP(C985,BDDG!$A$2:$F$100,2,FALSE)),\"\",VLOOKUP(C985,BDDG!$A$2:$F$100,2,FALSE))","v":0},{"$f":"IF(ISNA(VLOOKUP(C985,BDDG!$A$3:$J$102,3,FALSE)),\"\",VLOOKUP(C985,BDDG!$A$3:$J$102,3,FALSE))","v":"C"},{"$f":"IF(ISNA(VLOOKUP(C985,BDDG!$A$3:$J$102,4,FALSE)),\"\",VLOOKUP(C985,BDDG!$A$3:$J$102,4,FALSE))","v":108},{"$f":"IF(ISNA(VLOOKUP(C985,BDDG!$A$2:$F$100,5,FALSE)),\"\",VLOOKUP(C985,BDDG!$A$2:$F$100,5,FALSE))","v":"A19"},{"$f":"IF(ISNA(VLOOKUP(C985,BDDG!$A$2:$F$100,6,FALSE)),\"\",VLOOKUP(C985,BDDG!$A$2:$F$100,6,FALSE))","v":"AA54"},{"$f":"IF(ISERROR(VLOOKUP(C985,BDDG!$A$2:$G$100,7,FALSE)),\"\",VLOOKUP(C985,BDDG!$A$2:$G$100,7,FALSE))","v":2},{"$f":"IF(ISERROR(VLOOKUP(C985,BDDG!$A$2:$H$100,8,FALSE)),\"\",VLOOKUP(C985,BDDG!$A$2:$H$100,8,FALSE))","v":"BB54"},10,33,26.181818181818183,{"$f":"IF(ISERROR(VLOOKUP(C985,BDDG!$A$2:$I$100,9,FALSE)),\"\",VLOOKUP(C985,BDDG!$A$2:$I$100,9,FALSE))","v":"CC54"},10,6.5,132.92307692307693,{"$f":"IF(ISERROR(VLOOKUP(C985,BDDG!$A$2:$J$100,10,FALSE)),\"\",VLOOKUP(C985,BDDG!$A$2:$J$100,10,FALSE))","v":"DD54"},null,null,"",159.10489510489512,9,2015,{"$f":"IFERROR(INDEX($V$2:V985,MATCH(H985&MAX(IF($H$1:H984=H985,$A$1:A984)),$H$2:H985&$A$2:A985,0))-V985,\"\")","v":-22.609175421813916}]
["2015-09-22","couvert",856,{"$f":"IF(ISNA(VLOOKUP(C986,BDDG!$A$2:$F$100,2,FALSE)),\"\",VLOOKUP(C986,BDDG!$A$2:$F$100,2,FALSE))","v":0},{"$f":"IF(ISNA(VLOOKUP(C986,BDDG!$A$3:$J$102,3,FALSE)),\"\",VLOOKUP(C986,BDDG!$A$3:$J$102,3,FALSE))","v":"A"},{"$f":"IF(ISNA(VLOOKUP(C986,BDDG!$A$3:$J$102,4,FALSE)),\"\",VLOOKUP(C986,BDDG!$A$3:$J$102,4,FALSE))","v":106},{"$f":"IF(ISNA(VLOOKUP(C986,BDDG!$A$2:$F$100,5,FALSE)),\"\",VLOOKUP(C986,BDDG!$A$2:$F$100,5,FALSE))","v":"A9"},{"$f":"IF(ISNA(VLOOKUP(C986,BDDG!$A$2:$F$100,6,FALSE)),\"\",VLOOKUP(C986,BDDG!$A$2:$F$100,6,FALSE))","v":"AA27"},{"$f":"IF(ISERROR(VLOOKUP(C986,BDDG!$A$2:$G$100,7,FALSE)),\"\",VLOOKUP(C986,BDDG!$A$2:$G$100,7,FALSE))","v":2},{"$f":"IF(ISERROR(VLOOKUP(C986,BDDG!$A$2:$H$100,8,FALSE)),\"\",VLOOKUP(C986,BDDG!$A$2:$H$100,8,FALSE))","v":"BB27"},2,19.75,8.7493670886075954,{"$f":"IF(ISERROR(VLOOKUP(C986,BDDG!$A$2:$I$100,9,FALSE)),\"\",VLOOKUP(C986,BDDG!$A$2:$I$100,9,FALSE))","v":"CC27"},10,11.72,73.720136518771326,{"$f":"IF(ISERROR(VLOOKUP(C986,BDDG!$A$2:$J$100,10,FALSE)),\"\",VLOOKUP(C986,BDDG!$A$2:$J$100,10,FALSE))","v":"DD27"},null,null,"",82.469503607378925,9,2015,{"$f":"IFERROR(INDEX($V$2:V986,MATCH(H986&MAX(IF($H$1:H985=H986,$A$1:A985)),$H$2:H986&$A$2:A986,0))-V986,\"\")","v":0.33569119781589052}]
["2015-09-22","couvert",851,{"$f":"IF(ISNA(VLOOKUP(C987,BDDG!$A$2:$F$100,2,FALSE)),\"\",VLOOKUP(C987,BDDG!$A$2:$F$100,2,FALSE))","v":0},{"$f":"IF(ISNA(VLOOKUP(C987,BDDG!$A$3:$J$102,3,FALSE)),\"\",VLOOKUP(C987,BDDG!$A$3:$J$102,3,FALSE))","v":"A"},{"$f":"IF(ISNA(VLOOKUP(C987,BDDG!$A$3:$J$102,4,FALSE)),\"\",VLOOKUP(C987,BDDG!$A$3:$J$102,4,FALSE))","v":106},{"$f":"IF(ISNA(VLOOKUP(C987,BDDG!$A$2:$F$100,5,FALSE)),\"\",VLOOKUP(C987,BDDG!$A$2:$F$100,5,FALSE))","v":"A9"},{"$f":"IF(ISNA(VLOOKUP(C987,BDDG!$A$2:$F$100,6,FALSE)),\"\",VLOOKUP(C987,BDDG!$A$2:$F$100,6,FALSE))","v":"AA21"},{"$f":"IF(ISERROR(VLOOKUP(C987,BDDG!$A$2:$G$100,7,FALSE)),\"\",VLOOKUP(C987,BDDG!$A$2:$G$100,7,FALSE))","v":2},{"$f":"IF(ISERROR(VLOOKUP(C987,BDDG!$A$2:$H$100,8,FALSE)),\"\",VLOOKUP(C987,BDDG!$A$2:$H$100,8,FALSE))","v":"BB21"},1,73,1.1835616438356165,{"$f":"IF(ISERROR(VLOOKUP(C987,BDDG!$A$2:$I$100,9,FALSE)),\"\",VLOOKUP(C987,BDDG!$A$2:$I$100,9,FALSE))","v":"CC21"},2,34.56,5,{"$f":"IF(ISERROR(VLOOKUP(C987,BDDG!$A$2:$J$100,10,FALSE)),\"\",VLOOKUP(C987,BDDG!$A$2:$J$100,10,FALSE))","v":"DD21"},null,null,"",6.1835616438356169,9,2015,{"$f":"IFERROR(INDEX($V$2:V987,MATCH(H987&MAX(IF($H$1:H986=H987,$A$1:A986)),$H$2:H987&$A$2:A987,0))-V987,\"\")","v":9.1046506634603119E-2}]
["2015-09-22","couvert",852,{"$f":"IF(ISNA(VLOOKUP(C988,BDDG!$A$2:$F$100,2,FALSE)),\"\",VLOOKUP(C988,BDDG!$A$2:$F$100,2,FALSE))","v":0},{"$f":"IF(ISNA(VLOOKUP(C988,BDDG!$A$3:$J$102,3,FALSE)),\"\",VLOOKUP(C988,BDDG!$A$3:$J$102,3,FALSE))","v":"A"},{"$f":"IF(ISNA(VLOOKUP(C988,BDDG!$A$3:$J$102,4,FALSE)),\"\",VLOOKUP(C988,BDDG!$A$3:$J$102,4,FALSE))","v":106},{"$f":"IF(ISNA(VLOOKUP(C988,BDDG!$A$2:$F$100,5,FALSE)),\"\",VLOOKUP(C988,BDDG!$A$2:$F$100,5,FALSE))","v":"A9"},{"$f":"IF(ISNA(VLOOKUP(C988,BDDG!$A$2:$F$100,6,FALSE)),\"\",VLOOKUP(C988,BDDG!$A$2:$F$100,6,FALSE))","v":"AA22"},{"$f":"IF(ISERROR(VLOOKUP(C988,BDDG!$A$2:$G$100,7,FALSE)),\"\",VLOOKUP(C988,BDDG!$A$2:$G$100,7,FALSE))","v":1},{"$f":"IF(ISERROR(VLOOKUP(C988,BDDG!$A$2:$H$100,8,FALSE)),\"\",VLOOKUP(C988,BDDG!$A$2:$H$100,8,FALSE))","v":"BB22"},10,89.5,9.6536312849162016,{"$f":"IF(ISERROR(VLOOKUP(C988,BDDG!$A$2:$I$100,9,FALSE)),\"\",VLOOKUP(C988,BDDG!$A$2:$I$100,9,FALSE))","v":"CC22"},null,null,"",{"$f":"IF(ISERROR(VLOOKUP(C988,BDDG!$A$2:$J$100,10,FALSE)),\"\",VLOOKUP(C988,BDDG!$A$2:$J$100,10,FALSE))","v":"DD22"},null,null,"",9.6536312849162016,9,2015,{"$f":"IFERROR(INDEX($V$2:V988,MATCH(H988&MAX(IF($H$1:H987=H988,$A$1:A987)),$H$2:H988&$A$2:A988,0))-V988,\"\")","v":0.31176663895923085}]
["2015-09-22","couvert",853,{"$f":"IF(ISNA(VLOOKUP(C989,BDDG!$A$2:$F$100,2,FALSE)),\"\",VLOOKUP(C989,BDDG!$A$2:$F$100,2,FALSE))","v":0},{"$f":"IF(ISNA(VLOOKUP(C989,BDDG!$A$3:$J$102,3,FALSE)),\"\",VLOOKUP(C989,BDDG!$A$3:$J$102,3,FALSE))","v":"A"},{"$f":"IF(ISNA(VLOOKUP(C989,BDDG!$A$3:$J$102,4,FALSE)),\"\",VLOOKUP(C989,BDDG!$A$3:$J$102,4,FALSE))","v":106},{"$f":"IF(ISNA(VLOOKUP(C989,BDDG!$A$2:$F$100,5,FALSE)),\"\",VLOOKUP(C989,BDDG!$A$2:$F$100,5,FALSE))","v":"A9"},{"$f":"IF(ISNA(VLOOKUP(C989,BDDG!$A$2:$F$100,6,FALSE)),\"\",VLOOKUP(C989,BDDG!$A$2:$F$100,6,FALSE))","v":"AA23"},{"$f":"IF(ISERROR(VLOOKUP(C989,BDDG!$A$2:$G$100,7,FALSE)),\"\",VLOOKUP(C989,BDDG!$A$2:$G$100,7,FALSE))","v":3},{"$f":"IF(ISERROR(VLOOKUP(C989,BDDG!$A$2:$H$100,8,FALSE)),\"\",VLOOKUP(C989,BDDG!$A$2:$H$100,8,FALSE))","v":"BB23"},0.5,4.28,10.093457943925234,{"$f":"IF(ISERROR(VLOOKUP(C989,BDDG!$A$2:$I$100,9,FALSE)),\"\",VLOOKUP(C989,BDDG!$A$2:$I$100,9,FALSE))","v":"CC23"},0.5,3.75,11.520000000000001,{"$f":"IF(ISERROR(VLOOKUP(C989,BDDG!$A$2:$J$100,10,FALSE)),\"\",VLOOKUP(C989,BDDG!$A$2:$J$100,10,FALSE))","v":"DD23"},null,null,"",21.613457943925233,9,2015,{"$f":"IFERROR(INDEX($V$2:V989,MATCH(H989&MAX(IF($H$1:H988=H989,$A$1:A988)),$H$2:H989&$A$2:A989,0))-V989,\"\")","v":1.2224567523863783}]
["2015-09-22","couvert",854,{"$f":"IF(ISNA(VLOOKUP(C990,BDDG!$A$2:$F$100,2,FALSE)),\"\",VLOOKUP(C990,BDDG!$A$2:$F$100,2,FALSE))","v":0},{"$f":"IF(ISNA(VLOOKUP(C990,BDDG!$A$3:$J$102,3,FALSE)),\"\",VLOOKUP(C990,BDDG!$A$3:$J$102,3,FALSE))","v":"A"},{"$f":"IF(ISNA(VLOOKUP(C990,BDDG!$A$3:$J$102,4,FALSE)),\"\",VLOOKUP(C990,BDDG!$A$3:$J$102,4,FALSE))","v":106},{"$f":"IF(ISNA(VLOOKUP(C990,BDDG!$A$2:$F$100,5,FALSE)),\"\",VLOOKUP(C990,BDDG!$A$2:$F$100,5,FALSE))","v":"A9"},{"$f":"IF(ISNA(VLOOKUP(C990,BDDG!$A$2:$F$100,6,FALSE)),\"\",VLOOKUP(C990,BDDG!$A$2:$F$100,6,FALSE))","v":"AA25"},{"$f":"IF(ISERROR(VLOOKUP(C990,BDDG!$A$2:$G$100,7,FALSE)),\"\",VLOOKUP(C990,BDDG!$A$2:$G$100,7,FALSE))","v":2},{"$f":"IF(ISERROR(VLOOKUP(C990,BDDG!$A$2:$H$100,8,FALSE)),\"\",VLOOKUP(C990,BDDG!$A$2:$H$100,8,FALSE))","v":"BB25"},10,11.47,75.326939843068871,{"$f":"IF(ISERROR(VLOOKUP(C990,BDDG!$A$2:$I$100,9,FALSE)),\"\",VLOOKUP(C990,BDDG!$A$2:$I$100,9,FALSE))","v":"CC25"},null,null,"",{"$f":"IF(ISERROR(VLOOKUP(C990,BDDG!$A$2:$J$100,10,FALSE)),\"\",VLOOKUP(C990,BDDG!$A$2:$J$100,10,FALSE))","v":"DD25"},null,null,"",75.326939843068871,9,2015,{"$f":"IFERROR(INDEX($V$2:V990,MATCH(H990&MAX(IF($H$1:H989=H990,$A$1:A989)),$H$2:H990&$A$2:A990,0))-V990,\"\")","v":9.6288123693205137}]
["2015-09-22","couvert",855,{"$f":"IF(ISNA(VLOOKUP(C991,BDDG!$A$2:$F$100,2,FALSE)),\"\",VLOOKUP(C991,BDDG!$A$2:$F$100,2,FALSE))","v":0},{"$f":"IF(ISNA(VLOOKUP(C991,BDDG!$A$3:$J$102,3,FALSE)),\"\",VLOOKUP(C991,BDDG!$A$3:$J$102,3,FALSE))","v":"A"},{"$f":"IF(ISNA(VLOOKUP(C991,BDDG!$A$3:$J$102,4,FALSE)),\"\",VLOOKUP(C991,BDDG!$A$3:$J$102,4,FALSE))","v":106},{"$f":"IF(ISNA(VLOOKUP(C991,BDDG!$A$2:$F$100,5,FALSE)),\"\",VLOOKUP(C991,BDDG!$A$2:$F$100,5,FALSE))","v":"A9"},{"$f":"IF(ISNA(VLOOKUP(C991,BDDG!$A$2:$F$100,6,FALSE)),\"\",VLOOKUP(C991,BDDG!$A$2:$F$100,6,FALSE))","v":"AA26"},{"$f":"IF(ISERROR(VLOOKUP(C991,BDDG!$A$2:$G$100,7,FALSE)),\"\",VLOOKUP(C991,BDDG!$A$2:$G$100,7,FALSE))","v":2},{"$f":"IF(ISERROR(VLOOKUP(C991,BDDG!$A$2:$H$100,8,FALSE)),\"\",VLOOKUP(C991,BDDG!$A$2:$H$100,8,FALSE))","v":"BB26"},10,28.4,30.422535211267611,{"$f":"IF(ISERROR(VLOOKUP(C991,BDDG!$A$2:$I$100,9,FALSE)),\"\",VLOOKUP(C991,BDDG!$A$2:$I$100,9,FALSE))","v":"CC26"},10,67.62,12.777284826974267,{"$f":"IF(ISERROR(VLOOKUP(C991,BDDG!$A$2:$J$100,10,FALSE)),\"\",VLOOKUP(C991,BDDG!$A$2:$J$100,10,FALSE))","v":"DD26"},null,null,"",43.199820038241882,9,2015,{"$f":"IFERROR(INDEX($V$2:V991,MATCH(H991&MAX(IF($H$1:H990=H991,$A$1:A990)),$H$2:H991&$A$2:A991,0))-V991,\"\")","v":2.0421290239319063}]
["2015-09-24","soleil",863,{"$f":"IF(ISNA(VLOOKUP(C992,BDDG!$A$2:$F$100,2,FALSE)),\"\",VLOOKUP(C992,BDDG!$A$2:$F$100,2,FALSE))","v":0},{"$f":"IF(ISNA(VLOOKUP(C992,BDDG!$A$3:$J$102,3,FALSE)),\"\",VLOOKUP(C992,BDDG!$A$3:$J$102,3,FALSE))","v":"A"},{"$f":"IF(ISNA(VLOOKUP(C992,BDDG!$A$3:$J$102,4,FALSE)),\"\",VLOOKUP(C992,BDDG!$A$3:$J$102,4,FALSE))","v":106},{"$f":"IF(ISNA(VLOOKUP(C992,BDDG!$A$2:$F$100,5,FALSE)),\"\",VLOOKUP(C992,BDDG!$A$2:$F$100,5,FALSE))","v":"A13"},{"$f":"IF(ISNA(VLOOKUP(C992,BDDG!$A$2:$F$100,6,FALSE)),\"\",VLOOKUP(C992,BDDG!$A$2:$F$100,6,FALSE))","v":"AA35"},{"$f":"IF(ISERROR(VLOOKUP(C992,BDDG!$A$2:$G$100,7,FALSE)),\"\",VLOOKUP(C992,BDDG!$A$2:$G$100,7,FALSE))","v":1},{"$f":"IF(ISERROR(VLOOKUP(C992,BDDG!$A$2:$H$100,8,FALSE)),\"\",VLOOKUP(C992,BDDG!$A$2:$H$100,8,FALSE))","v":"BB35"},5,59.6,7.2483221476510078,{"$f":"IF(ISERROR(VLOOKUP(C992,BDDG!$A$2:$I$100,9,FALSE)),\"\",VLOOKUP(C992,BDDG!$A$2:$I$100,9,FALSE))","v":"CC35"},null,null,{"$f":" IF(ISERROR(O992/P992*86.4),\"\",O992/P992*86.4)","v":""},{"$f":"IF(ISERROR(VLOOKUP(C992,BDDG!$A$2:$J$100,10,FALSE)),\"\",VLOOKUP(C992,BDDG!$A$2:$J$100,10,FALSE))","v":"DD35"},null,null,"",7.2483221476510078,9,2015,{"$f":"IFERROR(INDEX($V$2:V992,MATCH(H992&MAX(IF($H$1:H991=H992,$A$1:A991)),$H$2:H992&$A$2:A992,0))-V992,\"\")","v":-4.8322147651007619E-2}]
["2015-09-24","soleil",864,{"$f":"IF(ISNA(VLOOKUP(C993,BDDG!$A$2:$F$100,2,FALSE)),\"\",VLOOKUP(C993,BDDG!$A$2:$F$100,2,FALSE))","v":0},{"$f":"IF(ISNA(VLOOKUP(C993,BDDG!$A$3:$J$102,3,FALSE)),\"\",VLOOKUP(C993,BDDG!$A$3:$J$102,3,FALSE))","v":"A"},{"$f":"IF(ISNA(VLOOKUP(C993,BDDG!$A$3:$J$102,4,FALSE)),\"\",VLOOKUP(C993,BDDG!$A$3:$J$102,4,FALSE))","v":106},{"$f":"IF(ISNA(VLOOKUP(C993,BDDG!$A$2:$F$100,5,FALSE)),\"\",VLOOKUP(C993,BDDG!$A$2:$F$100,5,FALSE))","v":"A13"},{"$f":"IF(ISNA(VLOOKUP(C993,BDDG!$A$2:$F$100,6,FALSE)),\"\",VLOOKUP(C993,BDDG!$A$2:$F$100,6,FALSE))","v":"AA36"},{"$f":"IF(ISERROR(VLOOKUP(C993,BDDG!$A$2:$G$100,7,FALSE)),\"\",VLOOKUP(C993,BDDG!$A$2:$G$100,7,FALSE))","v":1},{"$f":"IF(ISERROR(VLOOKUP(C993,BDDG!$A$2:$H$100,8,FALSE)),\"\",VLOOKUP(C993,BDDG!$A$2:$H$100,8,FALSE))","v":"BB36"},5,13.94,{"$f":" IF(ISERROR(K993/L993*86.4),\"\",K993/L993*86.4)","v":30.989956958393119},{"$f":"IF(ISERROR(VLOOKUP(C993,BDDG!$A$2:$I$100,9,FALSE)),\"\",VLOOKUP(C993,BDDG!$A$2:$I$100,9,FALSE))","v":"CC36"},null,null,"",{"$f":"IF(ISERROR(VLOOKUP(C993,BDDG!$A$2:$J$100,10,FALSE)),\"\",VLOOKUP(C993,BDDG!$A$2:$J$100,10,FALSE))","v":"DD36"},null,null,"",30.989956958393119,9,2015,{"$f":"IFERROR(INDEX($V$2:V993,MATCH(H993&MAX(IF($H$1:H992=H993,$A$1:A992)),$H$2:H993&$A$2:A993,0))-V993,\"\")","v":3.6531865861137014}]
["2015-10-13","couvert",831,{"$f":"IF(ISNA(VLOOKUP(C994,BDDG!$A$2:$F$100,2,FALSE)),\"\",VLOOKUP(C994,BDDG!$A$2:$F$100,2,FALSE))","v":0},{"$f":"IF(ISNA(VLOOKUP(C994,BDDG!$A$3:$J$102,3,FALSE)),\"\",VLOOKUP(C994,BDDG!$A$3:$J$102,3,FALSE))","v":"A"},{"$f":"IF(ISNA(VLOOKUP(C994,BDDG!$A$3:$J$102,4,FALSE)),\"\",VLOOKUP(C994,BDDG!$A$3:$J$102,4,FALSE))","v":106},{"$f":"IF(ISNA(VLOOKUP(C994,BDDG!$A$2:$F$100,5,FALSE)),\"\",VLOOKUP(C994,BDDG!$A$2:$F$100,5,FALSE))","v":"A1"},{"$f":"IF(ISNA(VLOOKUP(C994,BDDG!$A$2:$F$100,6,FALSE)),\"\",VLOOKUP(C994,BDDG!$A$2:$F$100,6,FALSE))","v":"AA1"},{"$f":"IF(ISERROR(VLOOKUP(C994,BDDG!$A$2:$G$100,7,FALSE)),\"\",VLOOKUP(C994,BDDG!$A$2:$G$100,7,FALSE))","v":1},{"$f":"IF(ISERROR(VLOOKUP(C994,BDDG!$A$2:$H$100,8,FALSE)),\"\",VLOOKUP(C994,BDDG!$A$2:$H$100,8,FALSE))","v":"BB1"},10,12.26,70.473083197389897,{"$f":"IF(ISERROR(VLOOKUP(C994,BDDG!$A$2:$I$100,9,FALSE)),\"\",VLOOKUP(C994,BDDG!$A$2:$I$100,9,FALSE))","v":"CC1"},null,null,"",{"$f":"IF(ISERROR(VLOOKUP(C994,BDDG!$A$2:$J$100,10,FALSE)),\"\",VLOOKUP(C994,BDDG!$A$2:$J$100,10,FALSE))","v":"DD1"},null,null,{"$f":" IF(ISERROR(S994/T994*86.4),\"\",S994/T994*86.4)","v":""},70.473083197389897,10,2015,{"$f":"IFERROR(INDEX($V$2:V994,MATCH(H994&MAX(IF($H$1:H993=H994,$A$1:A993)),$H$2:H994&$A$2:A994,0))-V994,\"\")","v":-8.180365100778495}]
["2015-10-13","couvert",839,{"$f":"IF(ISNA(VLOOKUP(C995,BDDG!$A$2:$F$100,2,FALSE)),\"\",VLOOKUP(C995,BDDG!$A$2:$F$100,2,FALSE))","v":0},{"$f":"IF(ISNA(VLOOKUP(C995,BDDG!$A$3:$J$102,3,FALSE)),\"\",VLOOKUP(C995,BDDG!$A$3:$J$102,3,FALSE))","v":"A"},{"$f":"IF(ISNA(VLOOKUP(C995,BDDG!$A$3:$J$102,4,FALSE)),\"\",VLOOKUP(C995,BDDG!$A$3:$J$102,4,FALSE))","v":106},{"$f":"IF(ISNA(VLOOKUP(C995,BDDG!$A$2:$F$100,5,FALSE)),\"\",VLOOKUP(C995,BDDG!$A$2:$F$100,5,FALSE))","v":"A3"},{"$f":"IF(ISNA(VLOOKUP(C995,BDDG!$A$2:$F$100,6,FALSE)),\"\",VLOOKUP(C995,BDDG!$A$2:$F$100,6,FALSE))","v":"AA10"},{"$f":"IF(ISERROR(VLOOKUP(C995,BDDG!$A$2:$G$100,7,FALSE)),\"\",VLOOKUP(C995,BDDG!$A$2:$G$100,7,FALSE))","v":2},{"$f":"IF(ISERROR(VLOOKUP(C995,BDDG!$A$2:$H$100,8,FALSE)),\"\",VLOOKUP(C995,BDDG!$A$2:$H$100,8,FALSE))","v":"BB10"},5,23.6,18.305084745762713,{"$f":"IF(ISERROR(VLOOKUP(C995,BDDG!$A$2:$I$100,9,FALSE)),\"\",VLOOKUP(C995,BDDG!$A$2:$I$100,9,FALSE))","v":"CC10"},5,27.97,15.445119771183414,{"$f":"IF(ISERROR(VLOOKUP(C995,BDDG!$A$2:$J$100,10,FALSE)),\"\",VLOOKUP(C995,BDDG!$A$2:$J$100,10,FALSE))","v":"DD10"},null,null,"",33.750204516946127,10,2015,{"$f":"IFERROR(INDEX($V$2:V995,MATCH(H995&MAX(IF($H$1:H994=H995,$A$1:A994)),$H$2:H995&$A$2:A995,0))-V995,\"\")","v":-0.21422297271715962}]
["2015-10-13","couvert",859,{"$f":"IF(ISNA(VLOOKUP(C996,BDDG!$A$2:$F$100,2,FALSE)),\"\",VLOOKUP(C996,BDDG!$A$2:$F$100,2,FALSE))","v":0},{"$f":"IF(ISNA(VLOOKUP(C996,BDDG!$A$3:$J$102,3,FALSE)),\"\",VLOOKUP(C996,BDDG!$A$3:$J$102,3,FALSE))","v":"A"},{"$f":"IF(ISNA(VLOOKUP(C996,BDDG!$A$3:$J$102,4,FALSE)),\"\",VLOOKUP(C996,BDDG!$A$3:$J$102,4,FALSE))","v":106},{"$f":"IF(ISNA(VLOOKUP(C996,BDDG!$A$2:$F$100,5,FALSE)),\"\",VLOOKUP(C996,BDDG!$A$2:$F$100,5,FALSE))","v":"A10"},{"$f":"IF(ISNA(VLOOKUP(C996,BDDG!$A$2:$F$100,6,FALSE)),\"\",VLOOKUP(C996,BDDG!$A$2:$F$100,6,FALSE))","v":"AA30"},{"$f":"IF(ISERROR(VLOOKUP(C996,BDDG!$A$2:$G$100,7,FALSE)),\"\",VLOOKUP(C996,BDDG!$A$2:$G$100,7,FALSE))","v":1},{"$f":"IF(ISERROR(VLOOKUP(C996,BDDG!$A$2:$H$100,8,FALSE)),\"\",VLOOKUP(C996,BDDG!$A$2:$H$100,8,FALSE))","v":"BB30"},1,26.75,3.2299065420560749,null,null,null,null,{"$f":"IF(ISERROR(VLOOKUP(C996,BDDG!$A$2:$J$100,10,FALSE)),\"\",VLOOKUP(C996,BDDG!$A$2:$J$100,10,FALSE))","v":"DD30"},null,null,"",3.2299065420560749,10,2015,{"$f":"IFERROR(INDEX($V$2:V996,MATCH(H996&MAX(IF($H$1:H995=H996,$A$1:A995)),$H$2:H996&$A$2:A996,0))-V996,\"\")","v":0.2966240701888232}]
["2015-10-21","couvert",850,{"$f":"IF(ISNA(VLOOKUP(C997,BDDG!$A$2:$F$100,2,FALSE)),\"\",VLOOKUP(C997,BDDG!$A$2:$F$100,2,FALSE))","v":0},{"$f":"IF(ISNA(VLOOKUP(C997,BDDG!$A$3:$J$102,3,FALSE)),\"\",VLOOKUP(C997,BDDG!$A$3:$J$102,3,FALSE))","v":"B"},{"$f":"IF(ISNA(VLOOKUP(C997,BDDG!$A$3:$J$102,4,FALSE)),\"\",VLOOKUP(C997,BDDG!$A$3:$J$102,4,FALSE))","v":106},{"$f":"IF(ISNA(VLOOKUP(C997,BDDG!$A$2:$F$100,5,FALSE)),\"\",VLOOKUP(C997,BDDG!$A$2:$F$100,5,FALSE))","v":"A8"},{"$f":"IF(ISNA(VLOOKUP(C997,BDDG!$A$2:$F$100,6,FALSE)),\"\",VLOOKUP(C997,BDDG!$A$2:$F$100,6,FALSE))","v":"AA20"},{"$f":"IF(ISERROR(VLOOKUP(C997,BDDG!$A$2:$G$100,7,FALSE)),\"\",VLOOKUP(C997,BDDG!$A$2:$G$100,7,FALSE))","v":1},{"$f":"IF(ISERROR(VLOOKUP(C997,BDDG!$A$2:$H$100,8,FALSE)),\"\",VLOOKUP(C997,BDDG!$A$2:$H$100,8,FALSE))","v":"BB20"},10,23.03,37.516283108988276,{"$f":"IF(ISERROR(VLOOKUP(C997,BDDG!$A$2:$I$100,9,FALSE)),\"\",VLOOKUP(C997,BDDG!$A$2:$I$100,9,FALSE))","v":"CC20"},null,null,{"$f":" IF(ISERROR(O997/P997*86.4),\"\",O997/P997*86.4)","v":""},{"$f":"IF(ISERROR(VLOOKUP(C997,BDDG!$A$2:$J$100,10,FALSE)),\"\",VLOOKUP(C997,BDDG!$A$2:$J$100,10,FALSE))","v":"DD20"},null,null,"",37.516283108988276,10,2015,{"$f":"IFERROR(INDEX($V$2:V997,MATCH(H997&MAX(IF($H$1:H996=H997,$A$1:A996)),$H$2:H997&$A$2:A997,0))-V997,\"\")","v":-8.1274443477006741E-2}]
["2015-10-22","couvert",875,{"$f":"IF(ISNA(VLOOKUP(C998,BDDG!$A$2:$F$100,2,FALSE)),\"\",VLOOKUP(C998,BDDG!$A$2:$F$100,2,FALSE))","v":0},{"$f":"IF(ISNA(VLOOKUP(C998,BDDG!$A$3:$J$102,3,FALSE)),\"\",VLOOKUP(C998,BDDG!$A$3:$J$102,3,FALSE))","v":"C"},{"$f":"IF(ISNA(VLOOKUP(C998,BDDG!$A$3:$J$102,4,FALSE)),\"\",VLOOKUP(C998,BDDG!$A$3:$J$102,4,FALSE))","v":108},{"$f":"IF(ISNA(VLOOKUP(C998,BDDG!$A$2:$F$100,5,FALSE)),\"\",VLOOKUP(C998,BDDG!$A$2:$F$100,5,FALSE))","v":"A18"},{"$f":"IF(ISNA(VLOOKUP(C998,BDDG!$A$2:$F$100,6,FALSE)),\"\",VLOOKUP(C998,BDDG!$A$2:$F$100,6,FALSE))","v":"AA48"},{"$f":"IF(ISERROR(VLOOKUP(C998,BDDG!$A$2:$G$100,7,FALSE)),\"\",VLOOKUP(C998,BDDG!$A$2:$G$100,7,FALSE))","v":1},{"$f":"IF(ISERROR(VLOOKUP(C998,BDDG!$A$2:$H$100,8,FALSE)),\"\",VLOOKUP(C998,BDDG!$A$2:$H$100,8,FALSE))","v":"BB48"},10,9.7799999999999994,88.343558282208591,{"$f":"IF(ISERROR(VLOOKUP(C998,BDDG!$A$2:$I$100,9,FALSE)),\"\",VLOOKUP(C998,BDDG!$A$2:$I$100,9,FALSE))","v":"CC48"},null,null,"",{"$f":"IF(ISERROR(VLOOKUP(C998,BDDG!$A$2:$J$100,10,FALSE)),\"\",VLOOKUP(C998,BDDG!$A$2:$J$100,10,FALSE))","v":"DD48"},null,null,"",88.343558282208591,10,2015,{"$f":"IFERROR(INDEX($V$2:V998,MATCH(H998&MAX(IF($H$1:H997=H998,$A$1:A997)),$H$2:H998&$A$2:A998,0))-V998,\"\")","v":-34.343558282208591}]
["2015-10-22","couvert",878,{"$f":"IF(ISNA(VLOOKUP(C999,BDDG!$A$2:$F$100,2,FALSE)),\"\",VLOOKUP(C999,BDDG!$A$2:$F$100,2,FALSE))","v":0},{"$f":"IF(ISNA(VLOOKUP(C999,BDDG!$A$3:$J$102,3,FALSE)),\"\",VLOOKUP(C999,BDDG!$A$3:$J$102,3,FALSE))","v":"C"},{"$f":"IF(ISNA(VLOOKUP(C999,BDDG!$A$3:$J$102,4,FALSE)),\"\",VLOOKUP(C999,BDDG!$A$3:$J$102,4,FALSE))","v":108},{"$f":"IF(ISNA(VLOOKUP(C999,BDDG!$A$2:$F$100,5,FALSE)),\"\",VLOOKUP(C999,BDDG!$A$2:$F$100,5,FALSE))","v":"A19"},{"$f":"IF(ISNA(VLOOKUP(C999,BDDG!$A$2:$F$100,6,FALSE)),\"\",VLOOKUP(C999,BDDG!$A$2:$F$100,6,FALSE))","v":"AA52"},{"$f":"IF(ISERROR(VLOOKUP(C999,BDDG!$A$2:$G$100,7,FALSE)),\"\",VLOOKUP(C999,BDDG!$A$2:$G$100,7,FALSE))","v":1},{"$f":"IF(ISERROR(VLOOKUP(C999,BDDG!$A$2:$H$100,8,FALSE)),\"\",VLOOKUP(C999,BDDG!$A$2:$H$100,8,FALSE))","v":"BB52"},10,54.28,15.917464996315402,{"$f":"IF(ISERROR(VLOOKUP(C999,BDDG!$A$2:$I$100,9,FALSE)),\"\",VLOOKUP(C999,BDDG!$A$2:$I$100,9,FALSE))","v":"CC52"},null,null,"",{"$f":"IF(ISERROR(VLOOKUP(C999,BDDG!$A$2:$J$100,10,FALSE)),\"\",VLOOKUP(C999,BDDG!$A$2:$J$100,10,FALSE))","v":"DD52"},null,null,"",15.917464996315402,10,2015,{"$f":"IFERROR(INDEX($V$2:V999,MATCH(H999&MAX(IF($H$1:H998=H999,$A$1:A998)),$H$2:H999&$A$2:A999,0))-V999,\"\")","v":3.5639329743723103}]
["2015-10-22","couvert",879,{"$f":"IF(ISNA(VLOOKUP(C1000,BDDG!$A$2:$F$100,2,FALSE)),\"\",VLOOKUP(C1000,BDDG!$A$2:$F$100,2,FALSE))","v":0},{"$f":"IF(ISNA(VLOOKUP(C1000,BDDG!$A$3:$J$102,3,FALSE)),\"\",VLOOKUP(C1000,BDDG!$A$3:$J$102,3,FALSE))","v":"C"},{"$f":"IF(ISNA(VLOOKUP(C1000,BDDG!$A$3:$J$102,4,FALSE)),\"\",VLOOKUP(C1000,BDDG!$A$3:$J$102,4,FALSE))","v":108},{"$f":"IF(ISNA(VLOOKUP(C1000,BDDG!$A$2:$F$100,5,FALSE)),\"\",VLOOKUP(C1000,BDDG!$A$2:$F$100,5,FALSE))","v":"A19"},{"$f":"IF(ISNA(VLOOKUP(C1000,BDDG!$A$2:$F$100,6,FALSE)),\"\",VLOOKUP(C1000,BDDG!$A$2:$F$100,6,FALSE))","v":"AA53"},{"$f":"IF(ISERROR(VLOOKUP(C1000,BDDG!$A$2:$G$100,7,FALSE)),\"\",VLOOKUP(C1000,BDDG!$A$2:$G$100,7,FALSE))","v":3},{"$f":"IF(ISERROR(VLOOKUP(C1000,BDDG!$A$2:$H$100,8,FALSE)),\"\",VLOOKUP(C1000,BDDG!$A$2:$H$100,8,FALSE))","v":"BB53"},10,15.72,54.961832061068705,{"$f":"IF(ISERROR(VLOOKUP(C1000,BDDG!$A$2:$I$100,9,FALSE)),\"\",VLOOKUP(C1000,BDDG!$A$2:$I$100,9,FALSE))","v":"CC53"},10,15.06,57.370517928286851,{"$f":"IF(ISERROR(VLOOKUP(C1000,BDDG!$A$2:$J$100,10,FALSE)),\"\",VLOOKUP(C1000,BDDG!$A$2:$J$100,10,FALSE))","v":"DD53"},1,18.07,4.7814056447149973,117.11375563407054,10,2015,{"$f":"IFERROR(INDEX($V$2:V1000,MATCH(H1000&MAX(IF($H$1:H999=H1000,$A$1:A999)),$H$2:H1000&$A$2:A1000,0))-V1000,\"\")","v":31.355082844524048}]
["2015-10-22","couvert",880,{"$f":"IF(ISNA(VLOOKUP(C1001,BDDG!$A$2:$F$100,2,FALSE)),\"\",VLOOKUP(C1001,BDDG!$A$2:$F$100,2,FALSE))","v":0},{"$f":"IF(ISNA(VLOOKUP(C1001,BDDG!$A$3:$J$102,3,FALSE)),\"\",VLOOKUP(C1001,BDDG!$A$3:$J$102,3,FALSE))","v":"C"},{"$f":"IF(ISNA(VLOOKUP(C1001,BDDG!$A$3:$J$102,4,FALSE)),\"\",VLOOKUP(C1001,BDDG!$A$3:$J$102,4,FALSE))","v":108},{"$f":"IF(ISNA(VLOOKUP(C1001,BDDG!$A$2:$F$100,5,FALSE)),\"\",VLOOKUP(C1001,BDDG!$A$2:$F$100,5,FALSE))","v":"A19"},{"$f":"IF(ISNA(VLOOKUP(C1001,BDDG!$A$2:$F$100,6,FALSE)),\"\",VLOOKUP(C1001,BDDG!$A$2:$F$100,6,FALSE))","v":"AA54"},{"$f":"IF(ISERROR(VLOOKUP(C1001,BDDG!$A$2:$G$100,7,FALSE)),\"\",VLOOKUP(C1001,BDDG!$A$2:$G$100,7,FALSE))","v":2},{"$f":"IF(ISERROR(VLOOKUP(C1001,BDDG!$A$2:$H$100,8,FALSE)),\"\",VLOOKUP(C1001,BDDG!$A$2:$H$100,8,FALSE))","v":"BB54"},10,42.37,20.391786641491624,{"$f":"IF(ISERROR(VLOOKUP(C1001,BDDG!$A$2:$I$100,9,FALSE)),\"\",VLOOKUP(C1001,BDDG!$A$2:$I$100,9,FALSE))","v":"CC54"},10,8.0299999999999994,107.59651307596515,{"$f":"IF(ISERROR(VLOOKUP(C1001,BDDG!$A$2:$J$100,10,FALSE)),\"\",VLOOKUP(C1001,BDDG!$A$2:$J$100,10,FALSE))","v":"DD54"},null,null,"",127.98829971745677,10,2015,{"$f":"IFERROR(INDEX($V$2:V1001,MATCH(H1001&MAX(IF($H$1:H1000=H1001,$A$1:A1000)),$H$2:H1001&$A$2:A1001,0))-V1001,\"\")","v":31.116595387438352}]
["2015-10-23","couvert",841,{"$f":"IF(ISNA(VLOOKUP(C1002,BDDG!$A$2:$F$100,2,FALSE)),\"\",VLOOKUP(C1002,BDDG!$A$2:$F$100,2,FALSE))","v":0},{"$f":"IF(ISNA(VLOOKUP(C1002,BDDG!$A$3:$J$102,3,FALSE)),\"\",VLOOKUP(C1002,BDDG!$A$3:$J$102,3,FALSE))","v":"A"},{"$f":"IF(ISNA(VLOOKUP(C1002,BDDG!$A$3:$J$102,4,FALSE)),\"\",VLOOKUP(C1002,BDDG!$A$3:$J$102,4,FALSE))","v":106},{"$f":"IF(ISNA(VLOOKUP(C1002,BDDG!$A$2:$F$100,5,FALSE)),\"\",VLOOKUP(C1002,BDDG!$A$2:$F$100,5,FALSE))","v":"A4"},{"$f":"IF(ISNA(VLOOKUP(C1002,BDDG!$A$2:$F$100,6,FALSE)),\"\",VLOOKUP(C1002,BDDG!$A$2:$F$100,6,FALSE))","v":"AA11"},{"$f":"IF(ISERROR(VLOOKUP(C1002,BDDG!$A$2:$G$100,7,FALSE)),\"\",VLOOKUP(C1002,BDDG!$A$2:$G$100,7,FALSE))","v":2},{"$f":"IF(ISERROR(VLOOKUP(C1002,BDDG!$A$2:$H$100,8,FALSE)),\"\",VLOOKUP(C1002,BDDG!$A$2:$H$100,8,FALSE))","v":"BB11"},null,null,"",{"$f":"IF(ISERROR(VLOOKUP(C1002,BDDG!$A$2:$I$100,9,FALSE)),\"\",VLOOKUP(C1002,BDDG!$A$2:$I$100,9,FALSE))","v":"CC11"},10,41.28,20.930232558139537,{"$f":"IF(ISERROR(VLOOKUP(C1002,BDDG!$A$2:$J$100,10,FALSE)),\"\",VLOOKUP(C1002,BDDG!$A$2:$J$100,10,FALSE))","v":"DD11"},null,null,"",20.930232558139537,10,2015,{"$f":"IFERROR(INDEX($V$2:V1002,MATCH(H1002&MAX(IF($H$1:H1001=H1002,$A$1:A1001)),$H$2:H1002&$A$2:A1002,0))-V1002,\"\")","v":0.12753005458286282}]
["2015-10-23","couvert",860,{"$f":"IF(ISNA(VLOOKUP(C1003,BDDG!$A$2:$F$100,2,FALSE)),\"\",VLOOKUP(C1003,BDDG!$A$2:$F$100,2,FALSE))","v":0},{"$f":"IF(ISNA(VLOOKUP(C1003,BDDG!$A$3:$J$102,3,FALSE)),\"\",VLOOKUP(C1003,BDDG!$A$3:$J$102,3,FALSE))","v":"A"},{"$f":"IF(ISNA(VLOOKUP(C1003,BDDG!$A$3:$J$102,4,FALSE)),\"\",VLOOKUP(C1003,BDDG!$A$3:$J$102,4,FALSE))","v":106},{"$f":"IF(ISNA(VLOOKUP(C1003,BDDG!$A$2:$F$100,5,FALSE)),\"\",VLOOKUP(C1003,BDDG!$A$2:$F$100,5,FALSE))","v":"A11"},{"$f":"IF(ISNA(VLOOKUP(C1003,BDDG!$A$2:$F$100,6,FALSE)),\"\",VLOOKUP(C1003,BDDG!$A$2:$F$100,6,FALSE))","v":"AA32"},{"$f":"IF(ISERROR(VLOOKUP(C1003,BDDG!$A$2:$G$100,7,FALSE)),\"\",VLOOKUP(C1003,BDDG!$A$2:$G$100,7,FALSE))","v":2},{"$f":"IF(ISERROR(VLOOKUP(C1003,BDDG!$A$2:$H$100,8,FALSE)),\"\",VLOOKUP(C1003,BDDG!$A$2:$H$100,8,FALSE))","v":"BB32"},10,23.07,37.451235370611187,{"$f":"IF(ISERROR(VLOOKUP(C1003,BDDG!$A$2:$I$100,9,FALSE)),\"\",VLOOKUP(C1003,BDDG!$A$2:$I$100,9,FALSE))","v":"CC32"},10,6.5,132.92307692307693,{"$f":"IF(ISERROR(VLOOKUP(C1003,BDDG!$A$2:$J$100,10,FALSE)),\"\",VLOOKUP(C1003,BDDG!$A$2:$J$100,10,FALSE))","v":"DD32"},null,null,"",170.37431229368812,10,2015,{"$f":"IFERROR(INDEX($V$2:V1003,MATCH(H1003&MAX(IF($H$1:H1002=H1003,$A$1:A1002)),$H$2:H1003&$A$2:A1003,0))-V1003,\"\")","v":67.728313004641251}]
["2015-10-23","couvert",861,{"$f":"IF(ISNA(VLOOKUP(C1004,BDDG!$A$2:$F$100,2,FALSE)),\"\",VLOOKUP(C1004,BDDG!$A$2:$F$100,2,FALSE))","v":0},{"$f":"IF(ISNA(VLOOKUP(C1004,BDDG!$A$3:$J$102,3,FALSE)),\"\",VLOOKUP(C1004,BDDG!$A$3:$J$102,3,FALSE))","v":"A"},{"$f":"IF(ISNA(VLOOKUP(C1004,BDDG!$A$3:$J$102,4,FALSE)),\"\",VLOOKUP(C1004,BDDG!$A$3:$J$102,4,FALSE))","v":106},{"$f":"IF(ISNA(VLOOKUP(C1004,BDDG!$A$2:$F$100,5,FALSE)),\"\",VLOOKUP(C1004,BDDG!$A$2:$F$100,5,FALSE))","v":"A11"},{"$f":"IF(ISNA(VLOOKUP(C1004,BDDG!$A$2:$F$100,6,FALSE)),\"\",VLOOKUP(C1004,BDDG!$A$2:$F$100,6,FALSE))","v":"AA33"},{"$f":"IF(ISERROR(VLOOKUP(C1004,BDDG!$A$2:$G$100,7,FALSE)),\"\",VLOOKUP(C1004,BDDG!$A$2:$G$100,7,FALSE))","v":2},{"$f":"IF(ISERROR(VLOOKUP(C1004,BDDG!$A$2:$H$100,8,FALSE)),\"\",VLOOKUP(C1004,BDDG!$A$2:$H$100,8,FALSE))","v":"BB33"},null,null,"",{"$f":"IF(ISERROR(VLOOKUP(C1004,BDDG!$A$2:$I$100,9,FALSE)),\"\",VLOOKUP(C1004,BDDG!$A$2:$I$100,9,FALSE))","v":"CC33"},10,6.38,135.42319749216301,{"$f":"IF(ISERROR(VLOOKUP(C1004,BDDG!$A$2:$J$100,10,FALSE)),\"\",VLOOKUP(C1004,BDDG!$A$2:$J$100,10,FALSE))","v":"DD33"},null,null,"",135.42319749216301,10,2015,{"$f":"IFERROR(INDEX($V$2:V1004,MATCH(H1004&MAX(IF($H$1:H1003=H1004,$A$1:A1003)),$H$2:H1004&$A$2:A1004,0))-V1004,\"\")","v":4.1567701976592843}]
["2015-10-23","couvert",862,{"$f":"IF(ISNA(VLOOKUP(C1005,BDDG!$A$2:$F$100,2,FALSE)),\"\",VLOOKUP(C1005,BDDG!$A$2:$F$100,2,FALSE))","v":0},{"$f":"IF(ISNA(VLOOKUP(C1005,BDDG!$A$3:$J$102,3,FALSE)),\"\",VLOOKUP(C1005,BDDG!$A$3:$J$102,3,FALSE))","v":"A"},{"$f":"IF(ISNA(VLOOKUP(C1005,BDDG!$A$3:$J$102,4,FALSE)),\"\",VLOOKUP(C1005,BDDG!$A$3:$J$102,4,FALSE))","v":106},{"$f":"IF(ISNA(VLOOKUP(C1005,BDDG!$A$2:$F$100,5,FALSE)),\"\",VLOOKUP(C1005,BDDG!$A$2:$F$100,5,FALSE))","v":"A12"},{"$f":"IF(ISNA(VLOOKUP(C1005,BDDG!$A$2:$F$100,6,FALSE)),\"\",VLOOKUP(C1005,BDDG!$A$2:$F$100,6,FALSE))","v":"AA34"},{"$f":"IF(ISERROR(VLOOKUP(C1005,BDDG!$A$2:$G$100,7,FALSE)),\"\",VLOOKUP(C1005,BDDG!$A$2:$G$100,7,FALSE))","v":1},{"$f":"IF(ISERROR(VLOOKUP(C1005,BDDG!$A$2:$H$100,8,FALSE)),\"\",VLOOKUP(C1005,BDDG!$A$2:$H$100,8,FALSE))","v":"BB34"},10,15.56,55.526992287917743,{"$f":"IF(ISERROR(VLOOKUP(C1005,BDDG!$A$2:$I$100,9,FALSE)),\"\",VLOOKUP(C1005,BDDG!$A$2:$I$100,9,FALSE))","v":"CC34"},null,null,"",{"$f":"IF(ISERROR(VLOOKUP(C1005,BDDG!$A$2:$J$100,10,FALSE)),\"\",VLOOKUP(C1005,BDDG!$A$2:$J$100,10,FALSE))","v":"DD34"},null,null,"",55.526992287917743,10,2015,{"$f":"IFERROR(INDEX($V$2:V1005,MATCH(H1005&MAX(IF($H$1:H1004=H1005,$A$1:A1004)),$H$2:H1005&$A$2:A1005,0))-V1005,\"\")","v":-4.6136157410703547}]
["2015-10-23","couvert",832,{"$f":"IF(ISNA(VLOOKUP(C1006,BDDG!$A$2:$F$100,2,FALSE)),\"\",VLOOKUP(C1006,BDDG!$A$2:$F$100,2,FALSE))","v":0},{"$f":"IF(ISNA(VLOOKUP(C1006,BDDG!$A$3:$J$102,3,FALSE)),\"\",VLOOKUP(C1006,BDDG!$A$3:$J$102,3,FALSE))","v":"A"},{"$f":"IF(ISNA(VLOOKUP(C1006,BDDG!$A$3:$J$102,4,FALSE)),\"\",VLOOKUP(C1006,BDDG!$A$3:$J$102,4,FALSE))","v":106},{"$f":"IF(ISNA(VLOOKUP(C1006,BDDG!$A$2:$F$100,5,FALSE)),\"\",VLOOKUP(C1006,BDDG!$A$2:$F$100,5,FALSE))","v":"A2"},{"$f":"IF(ISNA(VLOOKUP(C1006,BDDG!$A$2:$F$100,6,FALSE)),\"\",VLOOKUP(C1006,BDDG!$A$2:$F$100,6,FALSE))","v":"AA2"},{"$f":"IF(ISERROR(VLOOKUP(C1006,BDDG!$A$2:$G$100,7,FALSE)),\"\",VLOOKUP(C1006,BDDG!$A$2:$G$100,7,FALSE))","v":1},{"$f":"IF(ISERROR(VLOOKUP(C1006,BDDG!$A$2:$H$100,8,FALSE)),\"\",VLOOKUP(C1006,BDDG!$A$2:$H$100,8,FALSE))","v":"BB2"},1,9.81,8.8073394495412849,{"$f":"IF(ISERROR(VLOOKUP(C1006,BDDG!$A$2:$I$100,9,FALSE)),\"\",VLOOKUP(C1006,BDDG!$A$2:$I$100,9,FALSE))","v":"CC2"},null,null,"",{"$f":"IF(ISERROR(VLOOKUP(C1006,BDDG!$A$2:$J$100,10,FALSE)),\"\",VLOOKUP(C1006,BDDG!$A$2:$J$100,10,FALSE))","v":"DD2"},null,null,"",8.8073394495412849,10,2015,{"$f":"IFERROR(INDEX($V$2:V1006,MATCH(H1006&MAX(IF($H$1:H1005=H1006,$A$1:A1005)),$H$2:H1006&$A$2:A1006,0))-V1006,\"\")","v":2.3814717392699052}]
["2015-10-23","couvert",833,{"$f":"IF(ISNA(VLOOKUP(C1007,BDDG!$A$2:$F$100,2,FALSE)),\"\",VLOOKUP(C1007,BDDG!$A$2:$F$100,2,FALSE))","v":0},{"$f":"IF(ISNA(VLOOKUP(C1007,BDDG!$A$3:$J$102,3,FALSE)),\"\",VLOOKUP(C1007,BDDG!$A$3:$J$102,3,FALSE))","v":"A"},{"$f":"IF(ISNA(VLOOKUP(C1007,BDDG!$A$3:$J$102,4,FALSE)),\"\",VLOOKUP(C1007,BDDG!$A$3:$J$102,4,FALSE))","v":106},{"$f":"IF(ISNA(VLOOKUP(C1007,BDDG!$A$2:$F$100,5,FALSE)),\"\",VLOOKUP(C1007,BDDG!$A$2:$F$100,5,FALSE))","v":"A2"},{"$f":"IF(ISNA(VLOOKUP(C1007,BDDG!$A$2:$F$100,6,FALSE)),\"\",VLOOKUP(C1007,BDDG!$A$2:$F$100,6,FALSE))","v":"AA3"},{"$f":"IF(ISERROR(VLOOKUP(C1007,BDDG!$A$2:$G$100,7,FALSE)),\"\",VLOOKUP(C1007,BDDG!$A$2:$G$100,7,FALSE))","v":1},{"$f":"IF(ISERROR(VLOOKUP(C1007,BDDG!$A$2:$H$100,8,FALSE)),\"\",VLOOKUP(C1007,BDDG!$A$2:$H$100,8,FALSE))","v":"BB3"},1,4.47,{"$f":" IF(ISERROR(K1007/L1007*86.4),\"\",K1007/L1007*86.4)","v":19.328859060402689},{"$f":"IF(ISERROR(VLOOKUP(C1007,BDDG!$A$2:$I$100,9,FALSE)),\"\",VLOOKUP(C1007,BDDG!$A$2:$I$100,9,FALSE))","v":"CC3"},null,null,"",{"$f":"IF(ISERROR(VLOOKUP(C1007,BDDG!$A$2:$J$100,10,FALSE)),\"\",VLOOKUP(C1007,BDDG!$A$2:$J$100,10,FALSE))","v":"DD3"},null,null,"",19.328859060402689,10,2015,{"$f":"IFERROR(INDEX($V$2:V1007,MATCH(H1007&MAX(IF($H$1:H1006=H1007,$A$1:A1006)),$H$2:H1007&$A$2:A1007,0))-V1007,\"\")","v":2.1904435547903383}]
["2015-10-23","couvert",834,{"$f":"IF(ISNA(VLOOKUP(C1008,BDDG!$A$2:$F$100,2,FALSE)),\"\",VLOOKUP(C1008,BDDG!$A$2:$F$100,2,FALSE))","v":0},{"$f":"IF(ISNA(VLOOKUP(C1008,BDDG!$A$3:$J$102,3,FALSE)),\"\",VLOOKUP(C1008,BDDG!$A$3:$J$102,3,FALSE))","v":"A"},{"$f":"IF(ISNA(VLOOKUP(C1008,BDDG!$A$3:$J$102,4,FALSE)),\"\",VLOOKUP(C1008,BDDG!$A$3:$J$102,4,FALSE))","v":106},{"$f":"IF(ISNA(VLOOKUP(C1008,BDDG!$A$2:$F$100,5,FALSE)),\"\",VLOOKUP(C1008,BDDG!$A$2:$F$100,5,FALSE))","v":"A2"},{"$f":"IF(ISNA(VLOOKUP(C1008,BDDG!$A$2:$F$100,6,FALSE)),\"\",VLOOKUP(C1008,BDDG!$A$2:$F$100,6,FALSE))","v":"AA4"},{"$f":"IF(ISERROR(VLOOKUP(C1008,BDDG!$A$2:$G$100,7,FALSE)),\"\",VLOOKUP(C1008,BDDG!$A$2:$G$100,7,FALSE))","v":1},{"$f":"IF(ISERROR(VLOOKUP(C1008,BDDG!$A$2:$H$100,8,FALSE)),\"\",VLOOKUP(C1008,BDDG!$A$2:$H$100,8,FALSE))","v":"BB4"},10,68.62,12.591081317400175,{"$f":"IF(ISERROR(VLOOKUP(C1008,BDDG!$A$2:$I$100,9,FALSE)),\"\",VLOOKUP(C1008,BDDG!$A$2:$I$100,9,FALSE))","v":"CC4"},null,null,"",{"$f":"IF(ISERROR(VLOOKUP(C1008,BDDG!$A$2:$J$100,10,FALSE)),\"\",VLOOKUP(C1008,BDDG!$A$2:$J$100,10,FALSE))","v":"DD4"},null,null,"",12.591081317400175,10,2015,{"$f":"IFERROR(INDEX($V$2:V1008,MATCH(H1008&MAX(IF($H$1:H1007=H1008,$A$1:A1007)),$H$2:H1008&$A$2:A1008,0))-V1008,\"\")","v":1.7849586160440847}]
["2015-10-23","couvert",844,{"$f":"IF(ISNA(VLOOKUP(C1009,BDDG!$A$2:$F$100,2,FALSE)),\"\",VLOOKUP(C1009,BDDG!$A$2:$F$100,2,FALSE))","v":0},{"$f":"IF(ISNA(VLOOKUP(C1009,BDDG!$A$3:$J$102,3,FALSE)),\"\",VLOOKUP(C1009,BDDG!$A$3:$J$102,3,FALSE))","v":"B"},{"$f":"IF(ISNA(VLOOKUP(C1009,BDDG!$A$3:$J$102,4,FALSE)),\"\",VLOOKUP(C1009,BDDG!$A$3:$J$102,4,FALSE))","v":106},{"$f":"IF(ISNA(VLOOKUP(C1009,BDDG!$A$2:$F$100,5,FALSE)),\"\",VLOOKUP(C1009,BDDG!$A$2:$F$100,5,FALSE))","v":"A6"},{"$f":"IF(ISNA(VLOOKUP(C1009,BDDG!$A$2:$F$100,6,FALSE)),\"\",VLOOKUP(C1009,BDDG!$A$2:$F$100,6,FALSE))","v":"AA14"},{"$f":"IF(ISERROR(VLOOKUP(C1009,BDDG!$A$2:$G$100,7,FALSE)),\"\",VLOOKUP(C1009,BDDG!$A$2:$G$100,7,FALSE))","v":2},{"$f":"IF(ISERROR(VLOOKUP(C1009,BDDG!$A$2:$H$100,8,FALSE)),\"\",VLOOKUP(C1009,BDDG!$A$2:$H$100,8,FALSE))","v":"BB14"},null,null,"",{"$f":"IF(ISERROR(VLOOKUP(C1009,BDDG!$A$2:$I$100,9,FALSE)),\"\",VLOOKUP(C1009,BDDG!$A$2:$I$100,9,FALSE))","v":"CC14"},10,11.56,74.740484429065745,{"$f":"IF(ISERROR(VLOOKUP(C1009,BDDG!$A$2:$J$100,10,FALSE)),\"\",VLOOKUP(C1009,BDDG!$A$2:$J$100,10,FALSE))","v":"DD14"},null,null,"",74.740484429065745,10,2015,{"$f":"IFERROR(INDEX($V$2:V1009,MATCH(H1009&MAX(IF($H$1:H1008=H1009,$A$1:A1008)),$H$2:H1009&$A$2:A1009,0))-V1009,\"\")","v":-7.6597390874508449}]
["2015-10-29","soleil",871,{"$f":"IF(ISNA(VLOOKUP(C1010,BDDG!$A$2:$F$100,2,FALSE)),\"\",VLOOKUP(C1010,BDDG!$A$2:$F$100,2,FALSE))","v":0},{"$f":"IF(ISNA(VLOOKUP(C1010,BDDG!$A$3:$J$102,3,FALSE)),\"\",VLOOKUP(C1010,BDDG!$A$3:$J$102,3,FALSE))","v":"C"},{"$f":"IF(ISNA(VLOOKUP(C1010,BDDG!$A$3:$J$102,4,FALSE)),\"\",VLOOKUP(C1010,BDDG!$A$3:$J$102,4,FALSE))","v":108},{"$f":"IF(ISNA(VLOOKUP(C1010,BDDG!$A$2:$F$100,5,FALSE)),\"\",VLOOKUP(C1010,BDDG!$A$2:$F$100,5,FALSE))","v":"A18"},{"$f":"IF(ISNA(VLOOKUP(C1010,BDDG!$A$2:$F$100,6,FALSE)),\"\",VLOOKUP(C1010,BDDG!$A$2:$F$100,6,FALSE))","v":"AA44"},{"$f":"IF(ISERROR(VLOOKUP(C1010,BDDG!$A$2:$G$100,7,FALSE)),\"\",VLOOKUP(C1010,BDDG!$A$2:$G$100,7,FALSE))","v":2},{"$f":"IF(ISERROR(VLOOKUP(C1010,BDDG!$A$2:$H$100,8,FALSE)),\"\",VLOOKUP(C1010,BDDG!$A$2:$H$100,8,FALSE))","v":"BB44"},1,8.77,9.851767388825543,{"$f":"IF(ISERROR(VLOOKUP(C1010,BDDG!$A$2:$I$100,9,FALSE)),\"\",VLOOKUP(C1010,BDDG!$A$2:$I$100,9,FALSE))","v":"CC44"},null,null,"",{"$f":"IF(ISERROR(VLOOKUP(C1010,BDDG!$A$2:$J$100,10,FALSE)),\"\",VLOOKUP(C1010,BDDG!$A$2:$J$100,10,FALSE))","v":"DD44"},null,null,"",9.851767388825543,10,2015,{"$f":"IFERROR(INDEX($V$2:V1010,MATCH(H1010&MAX(IF($H$1:H1009=H1010,$A$1:A1009)),$H$2:H1010&$A$2:A1010,0))-V1010,\"\")","v":-2.2057496897104985}]
["2015-10-29","soleil",872,{"$f":"IF(ISNA(VLOOKUP(C1011,BDDG!$A$2:$F$100,2,FALSE)),\"\",VLOOKUP(C1011,BDDG!$A$2:$F$100,2,FALSE))","v":0},{"$f":"IF(ISNA(VLOOKUP(C1011,BDDG!$A$3:$J$102,3,FALSE)),\"\",VLOOKUP(C1011,BDDG!$A$3:$J$102,3,FALSE))","v":"C"},{"$f":"IF(ISNA(VLOOKUP(C1011,BDDG!$A$3:$J$102,4,FALSE)),\"\",VLOOKUP(C1011,BDDG!$A$3:$J$102,4,FALSE))","v":108},{"$f":"IF(ISNA(VLOOKUP(C1011,BDDG!$A$2:$F$100,5,FALSE)),\"\",VLOOKUP(C1011,BDDG!$A$2:$F$100,5,FALSE))","v":"A18"},{"$f":"IF(ISNA(VLOOKUP(C1011,BDDG!$A$2:$F$100,6,FALSE)),\"\",VLOOKUP(C1011,BDDG!$A$2:$F$100,6,FALSE))","v":"AA45"},{"$f":"IF(ISERROR(VLOOKUP(C1011,BDDG!$A$2:$G$100,7,FALSE)),\"\",VLOOKUP(C1011,BDDG!$A$2:$G$100,7,FALSE))","v":3},{"$f":"IF(ISERROR(VLOOKUP(C1011,BDDG!$A$2:$H$100,8,FALSE)),\"\",VLOOKUP(C1011,BDDG!$A$2:$H$100,8,FALSE))","v":"BB45"},10,20.059999999999999,43.070787637088735,{"$f":"IF(ISERROR(VLOOKUP(C1011,BDDG!$A$2:$I$100,9,FALSE)),\"\",VLOOKUP(C1011,BDDG!$A$2:$I$100,9,FALSE))","v":"CC45"},10,50.03,17.269638217069758,{"$f":"IF(ISERROR(VLOOKUP(C1011,BDDG!$A$2:$J$100,10,FALSE)),\"\",VLOOKUP(C1011,BDDG!$A$2:$J$100,10,FALSE))","v":"DD45"},10,26.22,32.951945080091534,93.29237093425003,10,2015,{"$f":"IFERROR(INDEX($V$2:V1011,MATCH(H1011&MAX(IF($H$1:H1010=H1011,$A$1:A1010)),$H$2:H1011&$A$2:A1011,0))-V1011,\"\")","v":-46.94094671669054}]
["2015-10-29","soleil",873,{"$f":"IF(ISNA(VLOOKUP(C1012,BDDG!$A$2:$F$100,2,FALSE)),\"\",VLOOKUP(C1012,BDDG!$A$2:$F$100,2,FALSE))","v":0},{"$f":"IF(ISNA(VLOOKUP(C1012,BDDG!$A$3:$J$102,3,FALSE)),\"\",VLOOKUP(C1012,BDDG!$A$3:$J$102,3,FALSE))","v":"C"},{"$f":"IF(ISNA(VLOOKUP(C1012,BDDG!$A$3:$J$102,4,FALSE)),\"\",VLOOKUP(C1012,BDDG!$A$3:$J$102,4,FALSE))","v":108},{"$f":"IF(ISNA(VLOOKUP(C1012,BDDG!$A$2:$F$100,5,FALSE)),\"\",VLOOKUP(C1012,BDDG!$A$2:$F$100,5,FALSE))","v":"A18"},{"$f":"IF(ISNA(VLOOKUP(C1012,BDDG!$A$2:$F$100,6,FALSE)),\"\",VLOOKUP(C1012,BDDG!$A$2:$F$100,6,FALSE))","v":"AA46"},{"$f":"IF(ISERROR(VLOOKUP(C1012,BDDG!$A$2:$G$100,7,FALSE)),\"\",VLOOKUP(C1012,BDDG!$A$2:$G$100,7,FALSE))","v":1},{"$f":"IF(ISERROR(VLOOKUP(C1012,BDDG!$A$2:$H$100,8,FALSE)),\"\",VLOOKUP(C1012,BDDG!$A$2:$H$100,8,FALSE))","v":"BB46"},10,4.38,197.26027397260276,{"$f":"IF(ISERROR(VLOOKUP(C1012,BDDG!$A$2:$I$100,9,FALSE)),\"\",VLOOKUP(C1012,BDDG!$A$2:$I$100,9,FALSE))","v":"CC46"},null,null,"",{"$f":"IF(ISERROR(VLOOKUP(C1012,BDDG!$A$2:$J$100,10,FALSE)),\"\",VLOOKUP(C1012,BDDG!$A$2:$J$100,10,FALSE))","v":"DD46"},null,null,"",197.26027397260276,10,2015,{"$f":"IFERROR(INDEX($V$2:V1012,MATCH(H1012&MAX(IF($H$1:H1011=H1012,$A$1:A1011)),$H$2:H1012&$A$2:A1012,0))-V1012,\"\")","v":49.596868884540129}]
["2015-10-29","soleil",876,{"$f":"IF(ISNA(VLOOKUP(C1013,BDDG!$A$2:$F$100,2,FALSE)),\"\",VLOOKUP(C1013,BDDG!$A$2:$F$100,2,FALSE))","v":0},{"$f":"IF(ISNA(VLOOKUP(C1013,BDDG!$A$3:$J$102,3,FALSE)),\"\",VLOOKUP(C1013,BDDG!$A$3:$J$102,3,FALSE))","v":"C"},{"$f":"IF(ISNA(VLOOKUP(C1013,BDDG!$A$3:$J$102,4,FALSE)),\"\",VLOOKUP(C1013,BDDG!$A$3:$J$102,4,FALSE))","v":108},{"$f":"IF(ISNA(VLOOKUP(C1013,BDDG!$A$2:$F$100,5,FALSE)),\"\",VLOOKUP(C1013,BDDG!$A$2:$F$100,5,FALSE))","v":"A18"},{"$f":"IF(ISNA(VLOOKUP(C1013,BDDG!$A$2:$F$100,6,FALSE)),\"\",VLOOKUP(C1013,BDDG!$A$2:$F$100,6,FALSE))","v":"AA49"},{"$f":"IF(ISERROR(VLOOKUP(C1013,BDDG!$A$2:$G$100,7,FALSE)),\"\",VLOOKUP(C1013,BDDG!$A$2:$G$100,7,FALSE))","v":2},{"$f":"IF(ISERROR(VLOOKUP(C1013,BDDG!$A$2:$H$100,8,FALSE)),\"\",VLOOKUP(C1013,BDDG!$A$2:$H$100,8,FALSE))","v":"BB49"},10,11.56,74.740484429065745,{"$f":"IF(ISERROR(VLOOKUP(C1013,BDDG!$A$2:$I$100,9,FALSE)),\"\",VLOOKUP(C1013,BDDG!$A$2:$I$100,9,FALSE))","v":"CC49"},1,10.19,{"$f":" IF(ISERROR(O1013/P1013*86.4),\"\",O1013/P1013*86.4)","v":8.4789008832188433},{"$f":"IF(ISERROR(VLOOKUP(C1013,BDDG!$A$2:$J$100,10,FALSE)),\"\",VLOOKUP(C1013,BDDG!$A$2:$J$100,10,FALSE))","v":"DD49"},null,null,"",83.219385312284587,10,2015,{"$f":"IFERROR(INDEX($V$2:V1013,MATCH(H1013&MAX(IF($H$1:H1012=H1013,$A$1:A1012)),$H$2:H1013&$A$2:A1013,0))-V1013,\"\")","v":3.2212459086108964}]
["2015-10-29","soleil",877,{"$f":"IF(ISNA(VLOOKUP(C1014,BDDG!$A$2:$F$100,2,FALSE)),\"\",VLOOKUP(C1014,BDDG!$A$2:$F$100,2,FALSE))","v":0},{"$f":"IF(ISNA(VLOOKUP(C1014,BDDG!$A$3:$J$102,3,FALSE)),\"\",VLOOKUP(C1014,BDDG!$A$3:$J$102,3,FALSE))","v":"C"},{"$f":"IF(ISNA(VLOOKUP(C1014,BDDG!$A$3:$J$102,4,FALSE)),\"\",VLOOKUP(C1014,BDDG!$A$3:$J$102,4,FALSE))","v":108},{"$f":"IF(ISNA(VLOOKUP(C1014,BDDG!$A$2:$F$100,5,FALSE)),\"\",VLOOKUP(C1014,BDDG!$A$2:$F$100,5,FALSE))","v":"A18"},{"$f":"IF(ISNA(VLOOKUP(C1014,BDDG!$A$2:$F$100,6,FALSE)),\"\",VLOOKUP(C1014,BDDG!$A$2:$F$100,6,FALSE))","v":"AA50"},{"$f":"IF(ISERROR(VLOOKUP(C1014,BDDG!$A$2:$G$100,7,FALSE)),\"\",VLOOKUP(C1014,BDDG!$A$2:$G$100,7,FALSE))","v":2},{"$f":"IF(ISERROR(VLOOKUP(C1014,BDDG!$A$2:$H$100,8,FALSE)),\"\",VLOOKUP(C1014,BDDG!$A$2:$H$100,8,FALSE))","v":"BB50"},10,12.68,68.138801261829656,{"$f":"IF(ISERROR(VLOOKUP(C1014,BDDG!$A$2:$I$100,9,FALSE)),\"\",VLOOKUP(C1014,BDDG!$A$2:$I$100,9,FALSE))","v":"CC50"},1,23.9,3.6150627615062767,{"$f":"IF(ISERROR(VLOOKUP(C1014,BDDG!$A$2:$J$100,10,FALSE)),\"\",VLOOKUP(C1014,BDDG!$A$2:$J$100,10,FALSE))","v":"DD50"},null,null,"",71.753864023335936,10,2015,{"$f":"IFERROR(INDEX($V$2:V1014,MATCH(H1014&MAX(IF($H$1:H1013=H1014,$A$1:A1013)),$H$2:H1014&$A$2:A1014,0))-V1014,\"\")","v":10.906636472159974}]
["2015-10-29","soleil",882,{"$f":"IF(ISNA(VLOOKUP(C1015,BDDG!$A$2:$F$100,2,FALSE)),\"\",VLOOKUP(C1015,BDDG!$A$2:$F$100,2,FALSE))","v":0},{"$f":"IF(ISNA(VLOOKUP(C1015,BDDG!$A$3:$J$102,3,FALSE)),\"\",VLOOKUP(C1015,BDDG!$A$3:$J$102,3,FALSE))","v":"C"},{"$f":"IF(ISNA(VLOOKUP(C1015,BDDG!$A$3:$J$102,4,FALSE)),\"\",VLOOKUP(C1015,BDDG!$A$3:$J$102,4,FALSE))","v":108},{"$f":"IF(ISNA(VLOOKUP(C1015,BDDG!$A$2:$F$100,5,FALSE)),\"\",VLOOKUP(C1015,BDDG!$A$2:$F$100,5,FALSE))","v":"A18"},{"$f":"IF(ISNA(VLOOKUP(C1015,BDDG!$A$2:$F$100,6,FALSE)),\"\",VLOOKUP(C1015,BDDG!$A$2:$F$100,6,FALSE))","v":"AA51"},{"$f":"IF(ISERROR(VLOOKUP(C1015,BDDG!$A$2:$G$100,7,FALSE)),\"\",VLOOKUP(C1015,BDDG!$A$2:$G$100,7,FALSE))","v":1},{"$f":"IF(ISERROR(VLOOKUP(C1015,BDDG!$A$2:$H$100,8,FALSE)),\"\",VLOOKUP(C1015,BDDG!$A$2:$H$100,8,FALSE))","v":"BB51"},10,14.47,59.709744298548728,{"$f":"IF(ISERROR(VLOOKUP(C1015,BDDG!$A$2:$I$100,9,FALSE)),\"\",VLOOKUP(C1015,BDDG!$A$2:$I$100,9,FALSE))","v":"CC51"},null,null,"",{"$f":"IF(ISERROR(VLOOKUP(C1015,BDDG!$A$2:$J$100,10,FALSE)),\"\",VLOOKUP(C1015,BDDG!$A$2:$J$100,10,FALSE))","v":"DD51"},null,null,"",59.709744298548728,10,2015,{"$f":"IFERROR(INDEX($V$2:V1015,MATCH(H1015&MAX(IF($H$1:H1014=H1015,$A$1:A1014)),$H$2:H1015&$A$2:A1015,0))-V1015,\"\")","v":7.0599620383910064}]
["2015-11-03","couvert",842,{"$f":"IF(ISNA(VLOOKUP(C1016,BDDG!$A$2:$F$100,2,FALSE)),\"\",VLOOKUP(C1016,BDDG!$A$2:$F$100,2,FALSE))","v":0},{"$f":"IF(ISNA(VLOOKUP(C1016,BDDG!$A$3:$J$102,3,FALSE)),\"\",VLOOKUP(C1016,BDDG!$A$3:$J$102,3,FALSE))","v":"B"},{"$f":"IF(ISNA(VLOOKUP(C1016,BDDG!$A$3:$J$102,4,FALSE)),\"\",VLOOKUP(C1016,BDDG!$A$3:$J$102,4,FALSE))","v":106},{"$f":"IF(ISNA(VLOOKUP(C1016,BDDG!$A$2:$F$100,5,FALSE)),\"\",VLOOKUP(C1016,BDDG!$A$2:$F$100,5,FALSE))","v":"A5"},{"$f":"IF(ISNA(VLOOKUP(C1016,BDDG!$A$2:$F$100,6,FALSE)),\"\",VLOOKUP(C1016,BDDG!$A$2:$F$100,6,FALSE))","v":"AA13"},{"$f":"IF(ISERROR(VLOOKUP(C1016,BDDG!$A$2:$G$100,7,FALSE)),\"\",VLOOKUP(C1016,BDDG!$A$2:$G$100,7,FALSE))","v":1},{"$f":"IF(ISERROR(VLOOKUP(C1016,BDDG!$A$2:$H$100,8,FALSE)),\"\",VLOOKUP(C1016,BDDG!$A$2:$H$100,8,FALSE))","v":"BB13"},5,38.24,11.297071129707113,{"$f":"IF(ISERROR(VLOOKUP(C1016,BDDG!$A$2:$I$100,9,FALSE)),\"\",VLOOKUP(C1016,BDDG!$A$2:$I$100,9,FALSE))","v":"CC13"},null,null,"",{"$f":"IF(ISERROR(VLOOKUP(C1016,BDDG!$A$2:$J$100,10,FALSE)),\"\",VLOOKUP(C1016,BDDG!$A$2:$J$100,10,FALSE))","v":"DD13"},null,null,"",11.297071129707113,11,2015,{"$f":"IFERROR(INDEX($V$2:V1016,MATCH(H1016&MAX(IF($H$1:H1015=H1016,$A$1:A1015)),$H$2:H1016&$A$2:A1016,0))-V1016,\"\")","v":1.1453251836569436}]
["2015-11-03","couvert",849,{"$f":"IF(ISNA(VLOOKUP(C1017,BDDG!$A$2:$F$100,2,FALSE)),\"\",VLOOKUP(C1017,BDDG!$A$2:$F$100,2,FALSE))","v":0},{"$f":"IF(ISNA(VLOOKUP(C1017,BDDG!$A$3:$J$102,3,FALSE)),\"\",VLOOKUP(C1017,BDDG!$A$3:$J$102,3,FALSE))","v":"B"},{"$f":"IF(ISNA(VLOOKUP(C1017,BDDG!$A$3:$J$102,4,FALSE)),\"\",VLOOKUP(C1017,BDDG!$A$3:$J$102,4,FALSE))","v":106},{"$f":"IF(ISNA(VLOOKUP(C1017,BDDG!$A$2:$F$100,5,FALSE)),\"\",VLOOKUP(C1017,BDDG!$A$2:$F$100,5,FALSE))","v":"A7"},{"$f":"IF(ISNA(VLOOKUP(C1017,BDDG!$A$2:$F$100,6,FALSE)),\"\",VLOOKUP(C1017,BDDG!$A$2:$F$100,6,FALSE))","v":"AA15"},{"$f":"IF(ISERROR(VLOOKUP(C1017,BDDG!$A$2:$G$100,7,FALSE)),\"\",VLOOKUP(C1017,BDDG!$A$2:$G$100,7,FALSE))","v":2},{"$f":"IF(ISERROR(VLOOKUP(C1017,BDDG!$A$2:$H$100,8,FALSE)),\"\",VLOOKUP(C1017,BDDG!$A$2:$H$100,8,FALSE))","v":"BB15"},5,29.22,14.784394250513349,{"$f":"IF(ISERROR(VLOOKUP(C1017,BDDG!$A$2:$I$100,9,FALSE)),\"\",VLOOKUP(C1017,BDDG!$A$2:$I$100,9,FALSE))","v":"CC15"},5,57.93,7.4572760227861217,{"$f":"IF(ISERROR(VLOOKUP(C1017,BDDG!$A$2:$J$100,10,FALSE)),\"\",VLOOKUP(C1017,BDDG!$A$2:$J$100,10,FALSE))","v":"DD15"},null,null,"",22.241670273299469,11,2015,{"$f":"IFERROR(INDEX($V$2:V1017,MATCH(H1017&MAX(IF($H$1:H1016=H1017,$A$1:A1016)),$H$2:H1017&$A$2:A1017,0))-V1017,\"\")","v":-0.45586516275767508}]
["2015-11-03","couvert",847,{"$f":"IF(ISNA(VLOOKUP(C1018,BDDG!$A$2:$F$100,2,FALSE)),\"\",VLOOKUP(C1018,BDDG!$A$2:$F$100,2,FALSE))","v":0},{"$f":"IF(ISNA(VLOOKUP(C1018,BDDG!$A$3:$J$102,3,FALSE)),\"\",VLOOKUP(C1018,BDDG!$A$3:$J$102,3,FALSE))","v":"B"},{"$f":"IF(ISNA(VLOOKUP(C1018,BDDG!$A$3:$J$102,4,FALSE)),\"\",VLOOKUP(C1018,BDDG!$A$3:$J$102,4,FALSE))","v":106},{"$f":"IF(ISNA(VLOOKUP(C1018,BDDG!$A$2:$F$100,5,FALSE)),\"\",VLOOKUP(C1018,BDDG!$A$2:$F$100,5,FALSE))","v":"A7"},{"$f":"IF(ISNA(VLOOKUP(C1018,BDDG!$A$2:$F$100,6,FALSE)),\"\",VLOOKUP(C1018,BDDG!$A$2:$F$100,6,FALSE))","v":"AA18"},{"$f":"IF(ISERROR(VLOOKUP(C1018,BDDG!$A$2:$G$100,7,FALSE)),\"\",VLOOKUP(C1018,BDDG!$A$2:$G$100,7,FALSE))","v":2},{"$f":"IF(ISERROR(VLOOKUP(C1018,BDDG!$A$2:$H$100,8,FALSE)),\"\",VLOOKUP(C1018,BDDG!$A$2:$H$100,8,FALSE))","v":"BB18"},5,252.31,1.7121794617732156,{"$f":"IF(ISERROR(VLOOKUP(C1018,BDDG!$A$2:$I$100,9,FALSE)),\"\",VLOOKUP(C1018,BDDG!$A$2:$I$100,9,FALSE))","v":"CC18"},5,41.16,10.495626822157435,{"$f":"IF(ISERROR(VLOOKUP(C1018,BDDG!$A$2:$J$100,10,FALSE)),\"\",VLOOKUP(C1018,BDDG!$A$2:$J$100,10,FALSE))","v":"DD18"},null,null,"",12.207806283930651,11,2015,{"$f":"IFERROR(INDEX($V$2:V1018,MATCH(H1018&MAX(IF($H$1:H1017=H1018,$A$1:A1017)),$H$2:H1018&$A$2:A1018,0))-V1018,\"\")","v":-4.7311707699119596}]
["2015-11-12","Couvert",854,{"$f":"IF(ISNA(VLOOKUP(C1019,BDDG!$A$2:$F$100,2,FALSE)),\"\",VLOOKUP(C1019,BDDG!$A$2:$F$100,2,FALSE))","v":0},{"$f":"IF(ISNA(VLOOKUP(C1019,BDDG!$A$3:$J$102,3,FALSE)),\"\",VLOOKUP(C1019,BDDG!$A$3:$J$102,3,FALSE))","v":"A"},{"$f":"IF(ISNA(VLOOKUP(C1019,BDDG!$A$3:$J$102,4,FALSE)),\"\",VLOOKUP(C1019,BDDG!$A$3:$J$102,4,FALSE))","v":106},{"$f":"IF(ISNA(VLOOKUP(C1019,BDDG!$A$2:$F$100,5,FALSE)),\"\",VLOOKUP(C1019,BDDG!$A$2:$F$100,5,FALSE))","v":"A9"},{"$f":"IF(ISNA(VLOOKUP(C1019,BDDG!$A$2:$F$100,6,FALSE)),\"\",VLOOKUP(C1019,BDDG!$A$2:$F$100,6,FALSE))","v":"AA25"},{"$f":"IF(ISERROR(VLOOKUP(C1019,BDDG!$A$2:$G$100,7,FALSE)),\"\",VLOOKUP(C1019,BDDG!$A$2:$G$100,7,FALSE))","v":2},{"$f":"IF(ISERROR(VLOOKUP(C1019,BDDG!$A$2:$H$100,8,FALSE)),\"\",VLOOKUP(C1019,BDDG!$A$2:$H$100,8,FALSE))","v":"BB25"},0.71,1,61.344000000000001,{"$f":"IF(ISERROR(VLOOKUP(C1019,BDDG!$A$2:$I$100,9,FALSE)),\"\",VLOOKUP(C1019,BDDG!$A$2:$I$100,9,FALSE))","v":"CC25"},null,null,"",{"$f":"IF(ISERROR(VLOOKUP(C1019,BDDG!$A$2:$J$100,10,FALSE)),\"\",VLOOKUP(C1019,BDDG!$A$2:$J$100,10,FALSE))","v":"DD25"},null,null,"",{"$f":"IF(ISERROR(SUM(M1019,Q1019,U1019)),\"\",SUM(M1019,Q1019,U1019))","v":61.344000000000001},11,2015,{"$f":"IFERROR(INDEX($V$2:V1019,MATCH(H1019&MAX(IF($H$1:H1018=H1019,$A$1:A1018)),$H$2:H1019&$A$2:A1019,0))-V1019,\"\")","v":13.98293984306887}]
["2015-11-12","Couvert",855,{"$f":"IF(ISNA(VLOOKUP(C1020,BDDG!$A$2:$F$100,2,FALSE)),\"\",VLOOKUP(C1020,BDDG!$A$2:$F$100,2,FALSE))","v":0},{"$f":"IF(ISNA(VLOOKUP(C1020,BDDG!$A$3:$J$102,3,FALSE)),\"\",VLOOKUP(C1020,BDDG!$A$3:$J$102,3,FALSE))","v":"A"},{"$f":"IF(ISNA(VLOOKUP(C1020,BDDG!$A$3:$J$102,4,FALSE)),\"\",VLOOKUP(C1020,BDDG!$A$3:$J$102,4,FALSE))","v":106},{"$f":"IF(ISNA(VLOOKUP(C1020,BDDG!$A$2:$F$100,5,FALSE)),\"\",VLOOKUP(C1020,BDDG!$A$2:$F$100,5,FALSE))","v":"A9"},{"$f":"IF(ISNA(VLOOKUP(C1020,BDDG!$A$2:$F$100,6,FALSE)),\"\",VLOOKUP(C1020,BDDG!$A$2:$F$100,6,FALSE))","v":"AA26"},{"$f":"IF(ISERROR(VLOOKUP(C1020,BDDG!$A$2:$G$100,7,FALSE)),\"\",VLOOKUP(C1020,BDDG!$A$2:$G$100,7,FALSE))","v":2},{"$f":"IF(ISERROR(VLOOKUP(C1020,BDDG!$A$2:$H$100,8,FALSE)),\"\",VLOOKUP(C1020,BDDG!$A$2:$H$100,8,FALSE))","v":"BB26"},0.21,1,18.144000000000002,{"$f":"IF(ISERROR(VLOOKUP(C1020,BDDG!$A$2:$I$100,9,FALSE)),\"\",VLOOKUP(C1020,BDDG!$A$2:$I$100,9,FALSE))","v":"CC26"},0.12,1,10.368,{"$f":"IF(ISERROR(VLOOKUP(C1020,BDDG!$A$2:$J$100,10,FALSE)),\"\",VLOOKUP(C1020,BDDG!$A$2:$J$100,10,FALSE))","v":"DD26"},null,null,"",28.512,11,2015,{"$f":"IFERROR(INDEX($V$2:V1020,MATCH(H1020&MAX(IF($H$1:H1019=H1020,$A$1:A1019)),$H$2:H1020&$A$2:A1020,0))-V1020,\"\")","v":14.687820038241881}]
["2015-11-12","Couvert",856,{"$f":"IF(ISNA(VLOOKUP(C1021,BDDG!$A$2:$F$100,2,FALSE)),\"\",VLOOKUP(C1021,BDDG!$A$2:$F$100,2,FALSE))","v":0},{"$f":"IF(ISNA(VLOOKUP(C1021,BDDG!$A$3:$J$102,3,FALSE)),\"\",VLOOKUP(C1021,BDDG!$A$3:$J$102,3,FALSE))","v":"A"},{"$f":"IF(ISNA(VLOOKUP(C1021,BDDG!$A$3:$J$102,4,FALSE)),\"\",VLOOKUP(C1021,BDDG!$A$3:$J$102,4,FALSE))","v":106},{"$f":"IF(ISNA(VLOOKUP(C1021,BDDG!$A$2:$F$100,5,FALSE)),\"\",VLOOKUP(C1021,BDDG!$A$2:$F$100,5,FALSE))","v":"A9"},{"$f":"IF(ISNA(VLOOKUP(C1021,BDDG!$A$2:$F$100,6,FALSE)),\"\",VLOOKUP(C1021,BDDG!$A$2:$F$100,6,FALSE))","v":"AA27"},{"$f":"IF(ISERROR(VLOOKUP(C1021,BDDG!$A$2:$G$100,7,FALSE)),\"\",VLOOKUP(C1021,BDDG!$A$2:$G$100,7,FALSE))","v":2},{"$f":"IF(ISERROR(VLOOKUP(C1021,BDDG!$A$2:$H$100,8,FALSE)),\"\",VLOOKUP(C1021,BDDG!$A$2:$H$100,8,FALSE))","v":"BB27"},0.1,1,8.64,{"$f":"IF(ISERROR(VLOOKUP(C1021,BDDG!$A$2:$I$100,9,FALSE)),\"\",VLOOKUP(C1021,BDDG!$A$2:$I$100,9,FALSE))","v":"CC27"},0.71,1,61.344000000000001,{"$f":"IF(ISERROR(VLOOKUP(C1021,BDDG!$A$2:$J$100,10,FALSE)),\"\",VLOOKUP(C1021,BDDG!$A$2:$J$100,10,FALSE))","v":"DD27"},null,null,"",69.984000000000009,11,2015,{"$f":"IFERROR(INDEX($V$2:V1021,MATCH(H1021&MAX(IF($H$1:H1020=H1021,$A$1:A1020)),$H$2:H1021&$A$2:A1021,0))-V1021,\"\")","v":12.485503607378917}]
["2015-12-11","Froid",871,{"$f":"IF(ISNA(VLOOKUP(C1022,BDDG!$A$2:$F$100,2,FALSE)),\"\",VLOOKUP(C1022,BDDG!$A$2:$F$100,2,FALSE))","v":0},{"$f":"IF(ISNA(VLOOKUP(C1022,BDDG!$A$3:$J$102,3,FALSE)),\"\",VLOOKUP(C1022,BDDG!$A$3:$J$102,3,FALSE))","v":"C"},{"$f":"IF(ISNA(VLOOKUP(C1022,BDDG!$A$3:$J$102,4,FALSE)),\"\",VLOOKUP(C1022,BDDG!$A$3:$J$102,4,FALSE))","v":108},{"$f":"IF(ISNA(VLOOKUP(C1022,BDDG!$A$2:$F$100,5,FALSE)),\"\",VLOOKUP(C1022,BDDG!$A$2:$F$100,5,FALSE))","v":"A18"},{"$f":"IF(ISNA(VLOOKUP(C1022,BDDG!$A$2:$F$100,6,FALSE)),\"\",VLOOKUP(C1022,BDDG!$A$2:$F$100,6,FALSE))","v":"AA44"},{"$f":"IF(ISERROR(VLOOKUP(C1022,BDDG!$A$2:$G$100,7,FALSE)),\"\",VLOOKUP(C1022,BDDG!$A$2:$G$100,7,FALSE))","v":2},{"$f":"IF(ISERROR(VLOOKUP(C1022,BDDG!$A$2:$H$100,8,FALSE)),\"\",VLOOKUP(C1022,BDDG!$A$2:$H$100,8,FALSE))","v":"BB44"},5,3.04,142.10526315789474,{"$f":"IF(ISERROR(VLOOKUP(C1022,BDDG!$A$2:$I$100,9,FALSE)),\"\",VLOOKUP(C1022,BDDG!$A$2:$I$100,9,FALSE))","v":"CC44"},null,null,"",{"$f":"IF(ISERROR(VLOOKUP(C1022,BDDG!$A$2:$J$100,10,FALSE)),\"\",VLOOKUP(C1022,BDDG!$A$2:$J$100,10,FALSE))","v":"DD44"},null,null,"",142.10526315789474,12,2015,{"$f":"IFERROR(INDEX($V$2:V1022,MATCH(H1022&MAX(IF($H$1:H1021=H1022,$A$1:A1021)),$H$2:H1022&$A$2:A1022,0))-V1022,\"\")","v":-132.25349576906919}]
["2015-12-11","Froid",873,{"$f":"IF(ISNA(VLOOKUP(C1023,BDDG!$A$2:$F$100,2,FALSE)),\"\",VLOOKUP(C1023,BDDG!$A$2:$F$100,2,FALSE))","v":0},{"$f":"IF(ISNA(VLOOKUP(C1023,BDDG!$A$3:$J$102,3,FALSE)),\"\",VLOOKUP(C1023,BDDG!$A$3:$J$102,3,FALSE))","v":"C"},{"$f":"IF(ISNA(VLOOKUP(C1023,BDDG!$A$3:$J$102,4,FALSE)),\"\",VLOOKUP(C1023,BDDG!$A$3:$J$102,4,FALSE))","v":108},{"$f":"IF(ISNA(VLOOKUP(C1023,BDDG!$A$2:$F$100,5,FALSE)),\"\",VLOOKUP(C1023,BDDG!$A$2:$F$100,5,FALSE))","v":"A18"},{"$f":"IF(ISNA(VLOOKUP(C1023,BDDG!$A$2:$F$100,6,FALSE)),\"\",VLOOKUP(C1023,BDDG!$A$2:$F$100,6,FALSE))","v":"AA46"},{"$f":"IF(ISERROR(VLOOKUP(C1023,BDDG!$A$2:$G$100,7,FALSE)),\"\",VLOOKUP(C1023,BDDG!$A$2:$G$100,7,FALSE))","v":1},{"$f":"IF(ISERROR(VLOOKUP(C1023,BDDG!$A$2:$H$100,8,FALSE)),\"\",VLOOKUP(C1023,BDDG!$A$2:$H$100,8,FALSE))","v":"BB46"},10,2.93,294.88054607508531,{"$f":"IF(ISERROR(VLOOKUP(C1023,BDDG!$A$2:$I$100,9,FALSE)),\"\",VLOOKUP(C1023,BDDG!$A$2:$I$100,9,FALSE))","v":"CC46"},null,null,"",{"$f":"IF(ISERROR(VLOOKUP(C1023,BDDG!$A$2:$J$100,10,FALSE)),\"\",VLOOKUP(C1023,BDDG!$A$2:$J$100,10,FALSE))","v":"DD46"},null,null,"",294.88054607508531,12,2015,{"$f":"IFERROR(INDEX($V$2:V1023,MATCH(H1023&MAX(IF($H$1:H1022=H1023,$A$1:A1022)),$H$2:H1023&$A$2:A1023,0))-V1023,\"\")","v":-97.620272102482545}]
["2015-12-11","Froid",877,{"$f":"IF(ISNA(VLOOKUP(C1024,BDDG!$A$2:$F$100,2,FALSE)),\"\",VLOOKUP(C1024,BDDG!$A$2:$F$100,2,FALSE))","v":0},{"$f":"IF(ISNA(VLOOKUP(C1024,BDDG!$A$3:$J$102,3,FALSE)),\"\",VLOOKUP(C1024,BDDG!$A$3:$J$102,3,FALSE))","v":"C"},{"$f":"IF(ISNA(VLOOKUP(C1024,BDDG!$A$3:$J$102,4,FALSE)),\"\",VLOOKUP(C1024,BDDG!$A$3:$J$102,4,FALSE))","v":108},{"$f":"IF(ISNA(VLOOKUP(C1024,BDDG!$A$2:$F$100,5,FALSE)),\"\",VLOOKUP(C1024,BDDG!$A$2:$F$100,5,FALSE))","v":"A18"},{"$f":"IF(ISNA(VLOOKUP(C1024,BDDG!$A$2:$F$100,6,FALSE)),\"\",VLOOKUP(C1024,BDDG!$A$2:$F$100,6,FALSE))","v":"AA50"},{"$f":"IF(ISERROR(VLOOKUP(C1024,BDDG!$A$2:$G$100,7,FALSE)),\"\",VLOOKUP(C1024,BDDG!$A$2:$G$100,7,FALSE))","v":2},{"$f":"IF(ISERROR(VLOOKUP(C1024,BDDG!$A$2:$H$100,8,FALSE)),\"\",VLOOKUP(C1024,BDDG!$A$2:$H$100,8,FALSE))","v":"BB50"},10,12.4,69.677419354838705,{"$f":"IF(ISERROR(VLOOKUP(C1024,BDDG!$A$2:$I$100,9,FALSE)),\"\",VLOOKUP(C1024,BDDG!$A$2:$I$100,9,FALSE))","v":"CC50"},1,22.96,3.7630662020905921,{"$f":"IF(ISERROR(VLOOKUP(C1024,BDDG!$A$2:$J$100,10,FALSE)),\"\",VLOOKUP(C1024,BDDG!$A$2:$J$100,10,FALSE))","v":"DD50"},null,null,"",73.440485556929303,12,2015,{"$f":"IFERROR(INDEX($V$2:V1024,MATCH(H1024&MAX(IF($H$1:H1023=H1024,$A$1:A1023)),$H$2:H1024&$A$2:A1024,0))-V1024,\"\")","v":-1.6866215335933674}]
["2015-12-11","Froid",872,{"$f":"IF(ISNA(VLOOKUP(C1025,BDDG!$A$2:$F$100,2,FALSE)),\"\",VLOOKUP(C1025,BDDG!$A$2:$F$100,2,FALSE))","v":0},{"$f":"IF(ISNA(VLOOKUP(C1025,BDDG!$A$3:$J$102,3,FALSE)),\"\",VLOOKUP(C1025,BDDG!$A$3:$J$102,3,FALSE))","v":"C"},{"$f":"IF(ISNA(VLOOKUP(C1025,BDDG!$A$3:$J$102,4,FALSE)),\"\",VLOOKUP(C1025,BDDG!$A$3:$J$102,4,FALSE))","v":108},{"$f":"IF(ISNA(VLOOKUP(C1025,BDDG!$A$2:$F$100,5,FALSE)),\"\",VLOOKUP(C1025,BDDG!$A$2:$F$100,5,FALSE))","v":"A18"},{"$f":"IF(ISNA(VLOOKUP(C1025,BDDG!$A$2:$F$100,6,FALSE)),\"\",VLOOKUP(C1025,BDDG!$A$2:$F$100,6,FALSE))","v":"AA45"},{"$f":"IF(ISERROR(VLOOKUP(C1025,BDDG!$A$2:$G$100,7,FALSE)),\"\",VLOOKUP(C1025,BDDG!$A$2:$G$100,7,FALSE))","v":3},{"$f":"IF(ISERROR(VLOOKUP(C1025,BDDG!$A$2:$H$100,8,FALSE)),\"\",VLOOKUP(C1025,BDDG!$A$2:$H$100,8,FALSE))","v":"BB45"},10,5.94,145.45454545454547,{"$f":"IF(ISERROR(VLOOKUP(C1025,BDDG!$A$2:$I$100,9,FALSE)),\"\",VLOOKUP(C1025,BDDG!$A$2:$I$100,9,FALSE))","v":"CC45"},5,13.81,31.281679942070962,{"$f":"IF(ISERROR(VLOOKUP(C1025,BDDG!$A$2:$J$100,10,FALSE)),\"\",VLOOKUP(C1025,BDDG!$A$2:$J$100,10,FALSE))","v":"DD45"},10,11.94,72.361809045226138,249.09803444184257,12,2015,{"$f":"IFERROR(INDEX($V$2:V1025,MATCH(H1025&MAX(IF($H$1:H1024=H1025,$A$1:A1024)),$H$2:H1025&$A$2:A1025,0))-V1025,\"\")","v":-155.80566350759256}]
["2015-12-11","Froid",876,{"$f":"IF(ISNA(VLOOKUP(C1026,BDDG!$A$2:$F$100,2,FALSE)),\"\",VLOOKUP(C1026,BDDG!$A$2:$F$100,2,FALSE))","v":0},{"$f":"IF(ISNA(VLOOKUP(C1026,BDDG!$A$3:$J$102,3,FALSE)),\"\",VLOOKUP(C1026,BDDG!$A$3:$J$102,3,FALSE))","v":"C"},{"$f":"IF(ISNA(VLOOKUP(C1026,BDDG!$A$3:$J$102,4,FALSE)),\"\",VLOOKUP(C1026,BDDG!$A$3:$J$102,4,FALSE))","v":108},{"$f":"IF(ISNA(VLOOKUP(C1026,BDDG!$A$2:$F$100,5,FALSE)),\"\",VLOOKUP(C1026,BDDG!$A$2:$F$100,5,FALSE))","v":"A18"},{"$f":"IF(ISNA(VLOOKUP(C1026,BDDG!$A$2:$F$100,6,FALSE)),\"\",VLOOKUP(C1026,BDDG!$A$2:$F$100,6,FALSE))","v":"AA49"},{"$f":"IF(ISERROR(VLOOKUP(C1026,BDDG!$A$2:$G$100,7,FALSE)),\"\",VLOOKUP(C1026,BDDG!$A$2:$G$100,7,FALSE))","v":2},{"$f":"IF(ISERROR(VLOOKUP(C1026,BDDG!$A$2:$H$100,8,FALSE)),\"\",VLOOKUP(C1026,BDDG!$A$2:$H$100,8,FALSE))","v":"BB49"},5,4.6900000000000004,92.110874200426451,{"$f":"IF(ISERROR(VLOOKUP(C1026,BDDG!$A$2:$I$100,9,FALSE)),\"\",VLOOKUP(C1026,BDDG!$A$2:$I$100,9,FALSE))","v":"CC49"},5,36.840000000000003,11.726384364820845,{"$f":"IF(ISERROR(VLOOKUP(C1026,BDDG!$A$2:$J$100,10,FALSE)),\"\",VLOOKUP(C1026,BDDG!$A$2:$J$100,10,FALSE))","v":"DD49"},null,null,"",103.8372585652473,{"$f":"MONTH(A:A)","v":12},{"$f":"YEAR(A:A)","v":2015},{"$f":"IFERROR(INDEX($V$2:V1026,MATCH(H1026&MAX(IF($H$1:H1025=H1026,$A$1:A1025)),$H$2:H1026&$A$2:A1026,0))-V1026,\"\")","v":-20.61787325296271}]
["2015-12-11","Froid",882,{"$f":"IF(ISNA(VLOOKUP(C1027,BDDG!$A$2:$F$100,2,FALSE)),\"\",VLOOKUP(C1027,BDDG!$A$2:$F$100,2,FALSE))","v":0},{"$f":"IF(ISNA(VLOOKUP(C1027,BDDG!$A$3:$J$102,3,FALSE)),\"\",VLOOKUP(C1027,BDDG!$A$3:$J$102,3,FALSE))","v":"C"},{"$f":"IF(ISNA(VLOOKUP(C1027,BDDG!$A$3:$J$102,4,FALSE)),\"\",VLOOKUP(C1027,BDDG!$A$3:$J$102,4,FALSE))","v":108},{"$f":"IF(ISNA(VLOOKUP(C1027,BDDG!$A$2:$F$100,5,FALSE)),\"\",VLOOKUP(C1027,BDDG!$A$2:$F$100,5,FALSE))","v":"A18"},{"$f":"IF(ISNA(VLOOKUP(C1027,BDDG!$A$2:$F$100,6,FALSE)),\"\",VLOOKUP(C1027,BDDG!$A$2:$F$100,6,FALSE))","v":"AA51"},{"$f":"IF(ISERROR(VLOOKUP(C1027,BDDG!$A$2:$G$100,7,FALSE)),\"\",VLOOKUP(C1027,BDDG!$A$2:$G$100,7,FALSE))","v":1},{"$f":"IF(ISERROR(VLOOKUP(C1027,BDDG!$A$2:$H$100,8,FALSE)),\"\",VLOOKUP(C1027,BDDG!$A$2:$H$100,8,FALSE))","v":"BB51"},5,6.28,68.789808917197448,{"$f":"IF(ISERROR(VLOOKUP(C1027,BDDG!$A$2:$I$100,9,FALSE)),\"\",VLOOKUP(C1027,BDDG!$A$2:$I$100,9,FALSE))","v":"CC51"},null,null,"",{"$f":"IF(ISERROR(VLOOKUP(C1027,BDDG!$A$2:$J$100,10,FALSE)),\"\",VLOOKUP(C1027,BDDG!$A$2:$J$100,10,FALSE))","v":"DD51"},null,null,"",68.789808917197448,12,2015,{"$f":"IFERROR(INDEX($V$2:V1027,MATCH(H1027&MAX(IF($H$1:H1026=H1027,$A$1:A1026)),$H$2:H1027&$A$2:A1027,0))-V1027,\"\")","v":-9.0800646186487199}]
["2015-12-15","Couvert",839,{"$f":"IF(ISNA(VLOOKUP(C1028,BDDG!$A$2:$F$100,2,FALSE)),\"\",VLOOKUP(C1028,BDDG!$A$2:$F$100,2,FALSE))","v":0},{"$f":"IF(ISNA(VLOOKUP(C1028,BDDG!$A$3:$J$102,3,FALSE)),\"\",VLOOKUP(C1028,BDDG!$A$3:$J$102,3,FALSE))","v":"A"},{"$f":"IF(ISNA(VLOOKUP(C1028,BDDG!$A$3:$J$102,4,FALSE)),\"\",VLOOKUP(C1028,BDDG!$A$3:$J$102,4,FALSE))","v":106},{"$f":"IF(ISNA(VLOOKUP(C1028,BDDG!$A$2:$F$100,5,FALSE)),\"\",VLOOKUP(C1028,BDDG!$A$2:$F$100,5,FALSE))","v":"A3"},{"$f":"IF(ISNA(VLOOKUP(C1028,BDDG!$A$2:$F$100,6,FALSE)),\"\",VLOOKUP(C1028,BDDG!$A$2:$F$100,6,FALSE))","v":"AA10"},{"$f":"IF(ISERROR(VLOOKUP(C1028,BDDG!$A$2:$G$100,7,FALSE)),\"\",VLOOKUP(C1028,BDDG!$A$2:$G$100,7,FALSE))","v":2},{"$f":"IF(ISERROR(VLOOKUP(C1028,BDDG!$A$2:$H$100,8,FALSE)),\"\",VLOOKUP(C1028,BDDG!$A$2:$H$100,8,FALSE))","v":"BB10"},5,37.6,11.48936170212766,{"$f":"IF(ISERROR(VLOOKUP(C1028,BDDG!$A$2:$I$100,9,FALSE)),\"\",VLOOKUP(C1028,BDDG!$A$2:$I$100,9,FALSE))","v":"CC10"},5,48.03,8.9943785134291065,{"$f":"IF(ISERROR(VLOOKUP(C1028,BDDG!$A$2:$J$100,10,FALSE)),\"\",VLOOKUP(C1028,BDDG!$A$2:$J$100,10,FALSE))","v":"DD10"},null,null,"",20.483740215556764,12,2015,{"$f":"IFERROR(INDEX($V$2:V1028,MATCH(H1028&MAX(IF($H$1:H1027=H1028,$A$1:A1027)),$H$2:H1028&$A$2:A1028,0))-V1028,\"\")","v":13.266464301389362}]
["2015-12-15","Couvert",854,{"$f":"IF(ISNA(VLOOKUP(C1029,BDDG!$A$2:$F$100,2,FALSE)),\"\",VLOOKUP(C1029,BDDG!$A$2:$F$100,2,FALSE))","v":0},{"$f":"IF(ISNA(VLOOKUP(C1029,BDDG!$A$3:$J$102,3,FALSE)),\"\",VLOOKUP(C1029,BDDG!$A$3:$J$102,3,FALSE))","v":"A"},{"$f":"IF(ISNA(VLOOKUP(C1029,BDDG!$A$3:$J$102,4,FALSE)),\"\",VLOOKUP(C1029,BDDG!$A$3:$J$102,4,FALSE))","v":106},{"$f":"IF(ISNA(VLOOKUP(C1029,BDDG!$A$2:$F$100,5,FALSE)),\"\",VLOOKUP(C1029,BDDG!$A$2:$F$100,5,FALSE))","v":"A9"},{"$f":"IF(ISNA(VLOOKUP(C1029,BDDG!$A$2:$F$100,6,FALSE)),\"\",VLOOKUP(C1029,BDDG!$A$2:$F$100,6,FALSE))","v":"AA25"},{"$f":"IF(ISERROR(VLOOKUP(C1029,BDDG!$A$2:$G$100,7,FALSE)),\"\",VLOOKUP(C1029,BDDG!$A$2:$G$100,7,FALSE))","v":2},{"$f":"IF(ISERROR(VLOOKUP(C1029,BDDG!$A$2:$H$100,8,FALSE)),\"\",VLOOKUP(C1029,BDDG!$A$2:$H$100,8,FALSE))","v":"BB25"},10,15.78,54.752851711026622,{"$f":"IF(ISERROR(VLOOKUP(C1029,BDDG!$A$2:$I$100,9,FALSE)),\"\",VLOOKUP(C1029,BDDG!$A$2:$I$100,9,FALSE))","v":"CC25"},null,null,"",{"$f":"IF(ISERROR(VLOOKUP(C1029,BDDG!$A$2:$J$100,10,FALSE)),\"\",VLOOKUP(C1029,BDDG!$A$2:$J$100,10,FALSE))","v":"DD25"},null,null,"",54.752851711026622,12,2015,{"$f":"IFERROR(INDEX($V$2:V1029,MATCH(H1029&MAX(IF($H$1:H1028=H1029,$A$1:A1028)),$H$2:H1029&$A$2:A1029,0))-V1029,\"\")","v":6.591148288973379}]
["2015-12-15","Couvert",855,{"$f":"IF(ISNA(VLOOKUP(C1030,BDDG!$A$2:$F$100,2,FALSE)),\"\",VLOOKUP(C1030,BDDG!$A$2:$F$100,2,FALSE))","v":0},{"$f":"IF(ISNA(VLOOKUP(C1030,BDDG!$A$3:$J$102,3,FALSE)),\"\",VLOOKUP(C1030,BDDG!$A$3:$J$102,3,FALSE))","v":"A"},{"$f":"IF(ISNA(VLOOKUP(C1030,BDDG!$A$3:$J$102,4,FALSE)),\"\",VLOOKUP(C1030,BDDG!$A$3:$J$102,4,FALSE))","v":106},{"$f":"IF(ISNA(VLOOKUP(C1030,BDDG!$A$2:$F$100,5,FALSE)),\"\",VLOOKUP(C1030,BDDG!$A$2:$F$100,5,FALSE))","v":"A9"},{"$f":"IF(ISNA(VLOOKUP(C1030,BDDG!$A$2:$F$100,6,FALSE)),\"\",VLOOKUP(C1030,BDDG!$A$2:$F$100,6,FALSE))","v":"AA26"},{"$f":"IF(ISERROR(VLOOKUP(C1030,BDDG!$A$2:$G$100,7,FALSE)),\"\",VLOOKUP(C1030,BDDG!$A$2:$G$100,7,FALSE))","v":2},{"$f":"IF(ISERROR(VLOOKUP(C1030,BDDG!$A$2:$H$100,8,FALSE)),\"\",VLOOKUP(C1030,BDDG!$A$2:$H$100,8,FALSE))","v":"BB26"},5,40.06,10.783824263604593,{"$f":"IF(ISERROR(VLOOKUP(C1030,BDDG!$A$2:$I$100,9,FALSE)),\"\",VLOOKUP(C1030,BDDG!$A$2:$I$100,9,FALSE))","v":"CC26"},5,24.69,17.496962332928312,{"$f":"IF(ISERROR(VLOOKUP(C1030,BDDG!$A$2:$J$100,10,FALSE)),\"\",VLOOKUP(C1030,BDDG!$A$2:$J$100,10,FALSE))","v":"DD26"},null,null,"",28.280786596532906,12,2015,{"$f":"IFERROR(INDEX($V$2:V1030,MATCH(H1030&MAX(IF($H$1:H1029=H1030,$A$1:A1029)),$H$2:H1030&$A$2:A1030,0))-V1030,\"\")","v":0.23121340346709474}]
["2015-12-15","Couvert",856,{"$f":"IF(ISNA(VLOOKUP(C1031,BDDG!$A$2:$F$100,2,FALSE)),\"\",VLOOKUP(C1031,BDDG!$A$2:$F$100,2,FALSE))","v":0},{"$f":"IF(ISNA(VLOOKUP(C1031,BDDG!$A$3:$J$102,3,FALSE)),\"\",VLOOKUP(C1031,BDDG!$A$3:$J$102,3,FALSE))","v":"A"},{"$f":"IF(ISNA(VLOOKUP(C1031,BDDG!$A$3:$J$102,4,FALSE)),\"\",VLOOKUP(C1031,BDDG!$A$3:$J$102,4,FALSE))","v":106},{"$f":"IF(ISNA(VLOOKUP(C1031,BDDG!$A$2:$F$100,5,FALSE)),\"\",VLOOKUP(C1031,BDDG!$A$2:$F$100,5,FALSE))","v":"A9"},{"$f":"IF(ISNA(VLOOKUP(C1031,BDDG!$A$2:$F$100,6,FALSE)),\"\",VLOOKUP(C1031,BDDG!$A$2:$F$100,6,FALSE))","v":"AA27"},{"$f":"IF(ISERROR(VLOOKUP(C1031,BDDG!$A$2:$G$100,7,FALSE)),\"\",VLOOKUP(C1031,BDDG!$A$2:$G$100,7,FALSE))","v":2},{"$f":"IF(ISERROR(VLOOKUP(C1031,BDDG!$A$2:$H$100,8,FALSE)),\"\",VLOOKUP(C1031,BDDG!$A$2:$H$100,8,FALSE))","v":"BB27"},5,33.22,13.004214328717641,{"$f":"IF(ISERROR(VLOOKUP(C1031,BDDG!$A$2:$I$100,9,FALSE)),\"\",VLOOKUP(C1031,BDDG!$A$2:$I$100,9,FALSE))","v":"CC27"},10,13.16,65.653495440729486,{"$f":"IF(ISERROR(VLOOKUP(C1031,BDDG!$A$2:$J$100,10,FALSE)),\"\",VLOOKUP(C1031,BDDG!$A$2:$J$100,10,FALSE))","v":"DD27"},null,null,"",78.657709769447123,12,2015,{"$f":"IFERROR(INDEX($V$2:V1031,MATCH(H1031&MAX(IF($H$1:H1030=H1031,$A$1:A1030)),$H$2:H1031&$A$2:A1031,0))-V1031,\"\")","v":-8.6737097694471146}]
["2015-12-15","Couvert",865,{"$f":"IF(ISNA(VLOOKUP(C1032,BDDG!$A$2:$F$100,2,FALSE)),\"\",VLOOKUP(C1032,BDDG!$A$2:$F$100,2,FALSE))","v":0},{"$f":"IF(ISNA(VLOOKUP(C1032,BDDG!$A$3:$J$102,3,FALSE)),\"\",VLOOKUP(C1032,BDDG!$A$3:$J$102,3,FALSE))","v":"A"},{"$f":"IF(ISNA(VLOOKUP(C1032,BDDG!$A$3:$J$102,4,FALSE)),\"\",VLOOKUP(C1032,BDDG!$A$3:$J$102,4,FALSE))","v":106},{"$f":"IF(ISNA(VLOOKUP(C1032,BDDG!$A$2:$F$100,5,FALSE)),\"\",VLOOKUP(C1032,BDDG!$A$2:$F$100,5,FALSE))","v":"A15"},{"$f":"IF(ISNA(VLOOKUP(C1032,BDDG!$A$2:$F$100,6,FALSE)),\"\",VLOOKUP(C1032,BDDG!$A$2:$F$100,6,FALSE))","v":"AA37"},{"$f":"IF(ISERROR(VLOOKUP(C1032,BDDG!$A$2:$G$100,7,FALSE)),\"\",VLOOKUP(C1032,BDDG!$A$2:$G$100,7,FALSE))","v":1},{"$f":"IF(ISERROR(VLOOKUP(C1032,BDDG!$A$2:$H$100,8,FALSE)),\"\",VLOOKUP(C1032,BDDG!$A$2:$H$100,8,FALSE))","v":"BB37"},1,144.47,0.59804803765487646,{"$f":"IF(ISERROR(VLOOKUP(C1032,BDDG!$A$2:$I$100,9,FALSE)),\"\",VLOOKUP(C1032,BDDG!$A$2:$I$100,9,FALSE))","v":"CC37"},null,null,"",{"$f":"IF(ISERROR(VLOOKUP(C1032,BDDG!$A$2:$J$100,10,FALSE)),\"\",VLOOKUP(C1032,BDDG!$A$2:$J$100,10,FALSE))","v":"DD37"},null,null,"",0.59804803765487646,12,2015,{"$f":"IFERROR(INDEX($V$2:V1032,MATCH(H1032&MAX(IF($H$1:H1031=H1032,$A$1:A1031)),$H$2:H1032&$A$2:A1032,0))-V1032,\"\")","v":1.374554702071151}]
["2015-12-15","Couvert",863,{"$f":"IF(ISNA(VLOOKUP(C1033,BDDG!$A$2:$F$100,2,FALSE)),\"\",VLOOKUP(C1033,BDDG!$A$2:$F$100,2,FALSE))","v":0},{"$f":"IF(ISNA(VLOOKUP(C1033,BDDG!$A$3:$J$102,3,FALSE)),\"\",VLOOKUP(C1033,BDDG!$A$3:$J$102,3,FALSE))","v":"A"},{"$f":"IF(ISNA(VLOOKUP(C1033,BDDG!$A$3:$J$102,4,FALSE)),\"\",VLOOKUP(C1033,BDDG!$A$3:$J$102,4,FALSE))","v":106},{"$f":"IF(ISNA(VLOOKUP(C1033,BDDG!$A$2:$F$100,5,FALSE)),\"\",VLOOKUP(C1033,BDDG!$A$2:$F$100,5,FALSE))","v":"A13"},{"$f":"IF(ISNA(VLOOKUP(C1033,BDDG!$A$2:$F$100,6,FALSE)),\"\",VLOOKUP(C1033,BDDG!$A$2:$F$100,6,FALSE))","v":"AA35"},{"$f":"IF(ISERROR(VLOOKUP(C1033,BDDG!$A$2:$G$100,7,FALSE)),\"\",VLOOKUP(C1033,BDDG!$A$2:$G$100,7,FALSE))","v":1},{"$f":"IF(ISERROR(VLOOKUP(C1033,BDDG!$A$2:$H$100,8,FALSE)),\"\",VLOOKUP(C1033,BDDG!$A$2:$H$100,8,FALSE))","v":"BB35"},5,57.28,7.5418994413407825,{"$f":"IF(ISERROR(VLOOKUP(C1033,BDDG!$A$2:$I$100,9,FALSE)),\"\",VLOOKUP(C1033,BDDG!$A$2:$I$100,9,FALSE))","v":"CC35"},null,null,"",{"$f":"IF(ISERROR(VLOOKUP(C1033,BDDG!$A$2:$J$100,10,FALSE)),\"\",VLOOKUP(C1033,BDDG!$A$2:$J$100,10,FALSE))","v":"DD35"},null,null,"",7.5418994413407825,12,2015,{"$f":"IFERROR(INDEX($V$2:V1033,MATCH(H1033&MAX(IF($H$1:H1032=H1033,$A$1:A1032)),$H$2:H1033&$A$2:A1033,0))-V1033,\"\")","v":-0.2935772936897747}]
["2015-12-15","Couvert",864,{"$f":"IF(ISNA(VLOOKUP(C1034,BDDG!$A$2:$F$100,2,FALSE)),\"\",VLOOKUP(C1034,BDDG!$A$2:$F$100,2,FALSE))","v":0},{"$f":"IF(ISNA(VLOOKUP(C1034,BDDG!$A$3:$J$102,3,FALSE)),\"\",VLOOKUP(C1034,BDDG!$A$3:$J$102,3,FALSE))","v":"A"},{"$f":"IF(ISNA(VLOOKUP(C1034,BDDG!$A$3:$J$102,4,FALSE)),\"\",VLOOKUP(C1034,BDDG!$A$3:$J$102,4,FALSE))","v":106},{"$f":"IF(ISNA(VLOOKUP(C1034,BDDG!$A$2:$F$100,5,FALSE)),\"\",VLOOKUP(C1034,BDDG!$A$2:$F$100,5,FALSE))","v":"A13"},{"$f":"IF(ISNA(VLOOKUP(C1034,BDDG!$A$2:$F$100,6,FALSE)),\"\",VLOOKUP(C1034,BDDG!$A$2:$F$100,6,FALSE))","v":"AA36"},{"$f":"IF(ISERROR(VLOOKUP(C1034,BDDG!$A$2:$G$100,7,FALSE)),\"\",VLOOKUP(C1034,BDDG!$A$2:$G$100,7,FALSE))","v":1},{"$f":"IF(ISERROR(VLOOKUP(C1034,BDDG!$A$2:$H$100,8,FALSE)),\"\",VLOOKUP(C1034,BDDG!$A$2:$H$100,8,FALSE))","v":"BB36"},5,18.29,23.619464188080922,{"$f":"IF(ISERROR(VLOOKUP(C1034,BDDG!$A$2:$I$100,9,FALSE)),\"\",VLOOKUP(C1034,BDDG!$A$2:$I$100,9,FALSE))","v":"CC36"},null,null,"",{"$f":"IF(ISERROR(VLOOKUP(C1034,BDDG!$A$2:$J$100,10,FALSE)),\"\",VLOOKUP(C1034,BDDG!$A$2:$J$100,10,FALSE))","v":"DD36"},null,null,"",23.619464188080922,12,2015,{"$f":"IFERROR(INDEX($V$2:V1034,MATCH(H1034&MAX(IF($H$1:H1033=H1034,$A$1:A1033)),$H$2:H1034&$A$2:A1034,0))-V1034,\"\")","v":7.3704927703121967}]
["2015-12-16","Couvert",841,{"$f":"IF(ISNA(VLOOKUP(C1035,BDDG!$A$2:$F$100,2,FALSE)),\"\",VLOOKUP(C1035,BDDG!$A$2:$F$100,2,FALSE))","v":0},{"$f":"IF(ISNA(VLOOKUP(C1035,BDDG!$A$3:$J$102,3,FALSE)),\"\",VLOOKUP(C1035,BDDG!$A$3:$J$102,3,FALSE))","v":"A"},{"$f":"IF(ISNA(VLOOKUP(C1035,BDDG!$A$3:$J$102,4,FALSE)),\"\",VLOOKUP(C1035,BDDG!$A$3:$J$102,4,FALSE))","v":106},{"$f":"IF(ISNA(VLOOKUP(C1035,BDDG!$A$2:$F$100,5,FALSE)),\"\",VLOOKUP(C1035,BDDG!$A$2:$F$100,5,FALSE))","v":"A4"},{"$f":"IF(ISNA(VLOOKUP(C1035,BDDG!$A$2:$F$100,6,FALSE)),\"\",VLOOKUP(C1035,BDDG!$A$2:$F$100,6,FALSE))","v":"AA11"},{"$f":"IF(ISERROR(VLOOKUP(C1035,BDDG!$A$2:$G$100,7,FALSE)),\"\",VLOOKUP(C1035,BDDG!$A$2:$G$100,7,FALSE))","v":2},{"$f":"IF(ISERROR(VLOOKUP(C1035,BDDG!$A$2:$H$100,8,FALSE)),\"\",VLOOKUP(C1035,BDDG!$A$2:$H$100,8,FALSE))","v":"BB11"},11,47.6,19.966386554621849,{"$f":"IF(ISERROR(VLOOKUP(C1035,BDDG!$A$2:$I$100,9,FALSE)),\"\",VLOOKUP(C1035,BDDG!$A$2:$I$100,9,FALSE))","v":"CC11"},null,null,"",{"$f":"IF(ISERROR(VLOOKUP(C1035,BDDG!$A$2:$J$100,10,FALSE)),\"\",VLOOKUP(C1035,BDDG!$A$2:$J$100,10,FALSE))","v":"DD11"},null,null,"",19.966386554621849,12,2015,{"$f":"IFERROR(INDEX($V$2:V1035,MATCH(H1035&MAX(IF($H$1:H1034=H1035,$A$1:A1034)),$H$2:H1035&$A$2:A1035,0))-V1035,\"\")","v":0.96384600351768768}]
["2015-12-16","Couvert",862,{"$f":"IF(ISNA(VLOOKUP(C1036,BDDG!$A$2:$F$100,2,FALSE)),\"\",VLOOKUP(C1036,BDDG!$A$2:$F$100,2,FALSE))","v":0},{"$f":"IF(ISNA(VLOOKUP(C1036,BDDG!$A$3:$J$102,3,FALSE)),\"\",VLOOKUP(C1036,BDDG!$A$3:$J$102,3,FALSE))","v":"A"},{"$f":"IF(ISNA(VLOOKUP(C1036,BDDG!$A$3:$J$102,4,FALSE)),\"\",VLOOKUP(C1036,BDDG!$A$3:$J$102,4,FALSE))","v":106},{"$f":"IF(ISNA(VLOOKUP(C1036,BDDG!$A$2:$F$100,5,FALSE)),\"\",VLOOKUP(C1036,BDDG!$A$2:$F$100,5,FALSE))","v":"A12"},{"$f":"IF(ISNA(VLOOKUP(C1036,BDDG!$A$2:$F$100,6,FALSE)),\"\",VLOOKUP(C1036,BDDG!$A$2:$F$100,6,FALSE))","v":"AA34"},{"$f":"IF(ISERROR(VLOOKUP(C1036,BDDG!$A$2:$G$100,7,FALSE)),\"\",VLOOKUP(C1036,BDDG!$A$2:$G$100,7,FALSE))","v":1},{"$f":"IF(ISERROR(VLOOKUP(C1036,BDDG!$A$2:$H$100,8,FALSE)),\"\",VLOOKUP(C1036,BDDG!$A$2:$H$100,8,FALSE))","v":"BB34"},11,17.5,54.308571428571433,{"$f":"IF(ISERROR(VLOOKUP(C1036,BDDG!$A$2:$I$100,9,FALSE)),\"\",VLOOKUP(C1036,BDDG!$A$2:$I$100,9,FALSE))","v":"CC34"},null,null,"",{"$f":"IF(ISERROR(VLOOKUP(C1036,BDDG!$A$2:$J$100,10,FALSE)),\"\",VLOOKUP(C1036,BDDG!$A$2:$J$100,10,FALSE))","v":"DD34"},null,null,"",54.308571428571433,12,2015,{"$f":"IFERROR(INDEX($V$2:V1036,MATCH(H1036&MAX(IF($H$1:H1035=H1036,$A$1:A1035)),$H$2:H1036&$A$2:A1036,0))-V1036,\"\")","v":1.2184208593463097}]
["2015-12-16","Couvert",844,{"$f":"IF(ISNA(VLOOKUP(C1037,BDDG!$A$2:$F$100,2,FALSE)),\"\",VLOOKUP(C1037,BDDG!$A$2:$F$100,2,FALSE))","v":0},{"$f":"IF(ISNA(VLOOKUP(C1037,BDDG!$A$3:$J$102,3,FALSE)),\"\",VLOOKUP(C1037,BDDG!$A$3:$J$102,3,FALSE))","v":"B"},{"$f":"IF(ISNA(VLOOKUP(C1037,BDDG!$A$3:$J$102,4,FALSE)),\"\",VLOOKUP(C1037,BDDG!$A$3:$J$102,4,FALSE))","v":106},{"$f":"IF(ISNA(VLOOKUP(C1037,BDDG!$A$2:$F$100,5,FALSE)),\"\",VLOOKUP(C1037,BDDG!$A$2:$F$100,5,FALSE))","v":"A6"},{"$f":"IF(ISNA(VLOOKUP(C1037,BDDG!$A$2:$F$100,6,FALSE)),\"\",VLOOKUP(C1037,BDDG!$A$2:$F$100,6,FALSE))","v":"AA14"},{"$f":"IF(ISERROR(VLOOKUP(C1037,BDDG!$A$2:$G$100,7,FALSE)),\"\",VLOOKUP(C1037,BDDG!$A$2:$G$100,7,FALSE))","v":2},{"$f":"IF(ISERROR(VLOOKUP(C1037,BDDG!$A$2:$H$100,8,FALSE)),\"\",VLOOKUP(C1037,BDDG!$A$2:$H$100,8,FALSE))","v":"BB14"},null,null,{"$f":" IF(ISERROR(K1037/L1037*86.4),\"\",K1037/L1037*86.4)","v":""},{"$f":"IF(ISERROR(VLOOKUP(C1037,BDDG!$A$2:$I$100,9,FALSE)),\"\",VLOOKUP(C1037,BDDG!$A$2:$I$100,9,FALSE))","v":"CC14"},5,5.4,80,{"$f":"IF(ISERROR(VLOOKUP(C1037,BDDG!$A$2:$J$100,10,FALSE)),\"\",VLOOKUP(C1037,BDDG!$A$2:$J$100,10,FALSE))","v":"DD14"},null,null,"",80,12,2015,{"$f":"IFERROR(INDEX($V$2:V1037,MATCH(H1037&MAX(IF($H$1:H1036=H1037,$A$1:A1036)),$H$2:H1037&$A$2:A1037,0))-V1037,\"\")","v":-5.2595155709342549}]
["2015-12-16","Couvert",850,{"$f":"IF(ISNA(VLOOKUP(C1038,BDDG!$A$2:$F$100,2,FALSE)),\"\",VLOOKUP(C1038,BDDG!$A$2:$F$100,2,FALSE))","v":0},{"$f":"IF(ISNA(VLOOKUP(C1038,BDDG!$A$3:$J$102,3,FALSE)),\"\",VLOOKUP(C1038,BDDG!$A$3:$J$102,3,FALSE))","v":"B"},{"$f":"IF(ISNA(VLOOKUP(C1038,BDDG!$A$3:$J$102,4,FALSE)),\"\",VLOOKUP(C1038,BDDG!$A$3:$J$102,4,FALSE))","v":106},{"$f":"IF(ISNA(VLOOKUP(C1038,BDDG!$A$2:$F$100,5,FALSE)),\"\",VLOOKUP(C1038,BDDG!$A$2:$F$100,5,FALSE))","v":"A8"},{"$f":"IF(ISNA(VLOOKUP(C1038,BDDG!$A$2:$F$100,6,FALSE)),\"\",VLOOKUP(C1038,BDDG!$A$2:$F$100,6,FALSE))","v":"AA20"},{"$f":"IF(ISERROR(VLOOKUP(C1038,BDDG!$A$2:$G$100,7,FALSE)),\"\",VLOOKUP(C1038,BDDG!$A$2:$G$100,7,FALSE))","v":1},{"$f":"IF(ISERROR(VLOOKUP(C1038,BDDG!$A$2:$H$100,8,FALSE)),\"\",VLOOKUP(C1038,BDDG!$A$2:$H$100,8,FALSE))","v":"BB20"},5,10.91,39.596700274977088,{"$f":"IF(ISERROR(VLOOKUP(C1038,BDDG!$A$2:$I$100,9,FALSE)),\"\",VLOOKUP(C1038,BDDG!$A$2:$I$100,9,FALSE))","v":"CC20"},null,null,"",{"$f":"IF(ISERROR(VLOOKUP(C1038,BDDG!$A$2:$J$100,10,FALSE)),\"\",VLOOKUP(C1038,BDDG!$A$2:$J$100,10,FALSE))","v":"DD20"},null,null,"",39.596700274977088,12,2015,{"$f":"IFERROR(INDEX($V$2:V1038,MATCH(H1038&MAX(IF($H$1:H1037=H1038,$A$1:A1037)),$H$2:H1038&$A$2:A1038,0))-V1038,\"\")","v":-2.0804171659888127}]
["2015-12-16","Couvert",860,{"$f":"IF(ISNA(VLOOKUP(C1039,BDDG!$A$2:$F$100,2,FALSE)),\"\",VLOOKUP(C1039,BDDG!$A$2:$F$100,2,FALSE))","v":0},{"$f":"IF(ISNA(VLOOKUP(C1039,BDDG!$A$3:$J$102,3,FALSE)),\"\",VLOOKUP(C1039,BDDG!$A$3:$J$102,3,FALSE))","v":"A"},{"$f":"IF(ISNA(VLOOKUP(C1039,BDDG!$A$3:$J$102,4,FALSE)),\"\",VLOOKUP(C1039,BDDG!$A$3:$J$102,4,FALSE))","v":106},{"$f":"IF(ISNA(VLOOKUP(C1039,BDDG!$A$2:$F$100,5,FALSE)),\"\",VLOOKUP(C1039,BDDG!$A$2:$F$100,5,FALSE))","v":"A11"},{"$f":"IF(ISNA(VLOOKUP(C1039,BDDG!$A$2:$F$100,6,FALSE)),\"\",VLOOKUP(C1039,BDDG!$A$2:$F$100,6,FALSE))","v":"AA32"},{"$f":"IF(ISERROR(VLOOKUP(C1039,BDDG!$A$2:$G$100,7,FALSE)),\"\",VLOOKUP(C1039,BDDG!$A$2:$G$100,7,FALSE))","v":2},{"$f":"IF(ISERROR(VLOOKUP(C1039,BDDG!$A$2:$H$100,8,FALSE)),\"\",VLOOKUP(C1039,BDDG!$A$2:$H$100,8,FALSE))","v":"BB32"},11,27.16,34.992636229749635,{"$f":"IF(ISERROR(VLOOKUP(C1039,BDDG!$A$2:$I$100,9,FALSE)),\"\",VLOOKUP(C1039,BDDG!$A$2:$I$100,9,FALSE))","v":"CC32"},11,7.03,135.19203413940255,{"$f":"IF(ISERROR(VLOOKUP(C1039,BDDG!$A$2:$J$100,10,FALSE)),\"\",VLOOKUP(C1039,BDDG!$A$2:$J$100,10,FALSE))","v":"DD32"},null,null,{"$f":" IF(ISERROR(S1039/T1039*86.4),\"\",S1039/T1039*86.4)","v":""},170.18467036915217,12,2015,{"$f":"IFERROR(INDEX($V$2:V1039,MATCH(H1039&MAX(IF($H$1:H1038=H1039,$A$1:A1038)),$H$2:H1039&$A$2:A1039,0))-V1039,\"\")","v":0.18964192453594819}]
["2015-12-16","Couvert",861,{"$f":"IF(ISNA(VLOOKUP(C1040,BDDG!$A$2:$F$100,2,FALSE)),\"\",VLOOKUP(C1040,BDDG!$A$2:$F$100,2,FALSE))","v":0},{"$f":"IF(ISNA(VLOOKUP(C1040,BDDG!$A$3:$J$102,3,FALSE)),\"\",VLOOKUP(C1040,BDDG!$A$3:$J$102,3,FALSE))","v":"A"},{"$f":"IF(ISNA(VLOOKUP(C1040,BDDG!$A$3:$J$102,4,FALSE)),\"\",VLOOKUP(C1040,BDDG!$A$3:$J$102,4,FALSE))","v":106},{"$f":"IF(ISNA(VLOOKUP(C1040,BDDG!$A$2:$F$100,5,FALSE)),\"\",VLOOKUP(C1040,BDDG!$A$2:$F$100,5,FALSE))","v":"A11"},{"$f":"IF(ISNA(VLOOKUP(C1040,BDDG!$A$2:$F$100,6,FALSE)),\"\",VLOOKUP(C1040,BDDG!$A$2:$F$100,6,FALSE))","v":"AA33"},{"$f":"IF(ISERROR(VLOOKUP(C1040,BDDG!$A$2:$G$100,7,FALSE)),\"\",VLOOKUP(C1040,BDDG!$A$2:$G$100,7,FALSE))","v":2},{"$f":"IF(ISERROR(VLOOKUP(C1040,BDDG!$A$2:$H$100,8,FALSE)),\"\",VLOOKUP(C1040,BDDG!$A$2:$H$100,8,FALSE))","v":"BB33"},null,null,"",{"$f":"IF(ISERROR(VLOOKUP(C1040,BDDG!$A$2:$I$100,9,FALSE)),\"\",VLOOKUP(C1040,BDDG!$A$2:$I$100,9,FALSE))","v":"CC33"},11,6.97,136.35581061692972,{"$f":"IF(ISERROR(VLOOKUP(C1040,BDDG!$A$2:$J$100,10,FALSE)),\"\",VLOOKUP(C1040,BDDG!$A$2:$J$100,10,FALSE))","v":"DD33"},null,null,"",136.35581061692972,12,2015,{"$f":"IFERROR(INDEX($V$2:V1040,MATCH(H1040&MAX(IF($H$1:H1039=H1040,$A$1:A1039)),$H$2:H1040&$A$2:A1040,0))-V1040,\"\")","v":-0.93261312476670355}]
["2015-12-16","Couvert",832,{"$f":"IF(ISNA(VLOOKUP(C1041,BDDG!$A$2:$F$100,2,FALSE)),\"\",VLOOKUP(C1041,BDDG!$A$2:$F$100,2,FALSE))","v":0},{"$f":"IF(ISNA(VLOOKUP(C1041,BDDG!$A$3:$J$102,3,FALSE)),\"\",VLOOKUP(C1041,BDDG!$A$3:$J$102,3,FALSE))","v":"A"},{"$f":"IF(ISNA(VLOOKUP(C1041,BDDG!$A$3:$J$102,4,FALSE)),\"\",VLOOKUP(C1041,BDDG!$A$3:$J$102,4,FALSE))","v":106},{"$f":"IF(ISNA(VLOOKUP(C1041,BDDG!$A$2:$F$100,5,FALSE)),\"\",VLOOKUP(C1041,BDDG!$A$2:$F$100,5,FALSE))","v":"A2"},{"$f":"IF(ISNA(VLOOKUP(C1041,BDDG!$A$2:$F$100,6,FALSE)),\"\",VLOOKUP(C1041,BDDG!$A$2:$F$100,6,FALSE))","v":"AA2"},{"$f":"IF(ISERROR(VLOOKUP(C1041,BDDG!$A$2:$G$100,7,FALSE)),\"\",VLOOKUP(C1041,BDDG!$A$2:$G$100,7,FALSE))","v":1},{"$f":"IF(ISERROR(VLOOKUP(C1041,BDDG!$A$2:$H$100,8,FALSE)),\"\",VLOOKUP(C1041,BDDG!$A$2:$H$100,8,FALSE))","v":"BB2"},1,26.66,3.2408102025506378,{"$f":"IF(ISERROR(VLOOKUP(C1041,BDDG!$A$2:$I$100,9,FALSE)),\"\",VLOOKUP(C1041,BDDG!$A$2:$I$100,9,FALSE))","v":"CC2"},null,null,"",{"$f":"IF(ISERROR(VLOOKUP(C1041,BDDG!$A$2:$J$100,10,FALSE)),\"\",VLOOKUP(C1041,BDDG!$A$2:$J$100,10,FALSE))","v":"DD2"},null,null,"",3.2408102025506378,12,2015,{"$f":"IFERROR(INDEX($V$2:V1041,MATCH(H1041&MAX(IF($H$1:H1040=H1041,$A$1:A1040)),$H$2:H1041&$A$2:A1041,0))-V1041,\"\")","v":5.5665292469906476}]
["2015-12-16","Couvert",833,{"$f":"IF(ISNA(VLOOKUP(C1042,BDDG!$A$2:$F$100,2,FALSE)),\"\",VLOOKUP(C1042,BDDG!$A$2:$F$100,2,FALSE))","v":0},{"$f":"IF(ISNA(VLOOKUP(C1042,BDDG!$A$3:$J$102,3,FALSE)),\"\",VLOOKUP(C1042,BDDG!$A$3:$J$102,3,FALSE))","v":"A"},{"$f":"IF(ISNA(VLOOKUP(C1042,BDDG!$A$3:$J$102,4,FALSE)),\"\",VLOOKUP(C1042,BDDG!$A$3:$J$102,4,FALSE))","v":106},{"$f":"IF(ISNA(VLOOKUP(C1042,BDDG!$A$2:$F$100,5,FALSE)),\"\",VLOOKUP(C1042,BDDG!$A$2:$F$100,5,FALSE))","v":"A2"},{"$f":"IF(ISNA(VLOOKUP(C1042,BDDG!$A$2:$F$100,6,FALSE)),\"\",VLOOKUP(C1042,BDDG!$A$2:$F$100,6,FALSE))","v":"AA3"},{"$f":"IF(ISERROR(VLOOKUP(C1042,BDDG!$A$2:$G$100,7,FALSE)),\"\",VLOOKUP(C1042,BDDG!$A$2:$G$100,7,FALSE))","v":1},{"$f":"IF(ISERROR(VLOOKUP(C1042,BDDG!$A$2:$H$100,8,FALSE)),\"\",VLOOKUP(C1042,BDDG!$A$2:$H$100,8,FALSE))","v":"BB3"},5,28.15,15.346358792184725,{"$f":"IF(ISERROR(VLOOKUP(C1042,BDDG!$A$2:$I$100,9,FALSE)),\"\",VLOOKUP(C1042,BDDG!$A$2:$I$100,9,FALSE))","v":"CC3"},null,null,"",{"$f":"IF(ISERROR(VLOOKUP(C1042,BDDG!$A$2:$J$100,10,FALSE)),\"\",VLOOKUP(C1042,BDDG!$A$2:$J$100,10,FALSE))","v":"DD3"},null,null,"",15.346358792184725,12,2015,{"$f":"IFERROR(INDEX($V$2:V1042,MATCH(H1042&MAX(IF($H$1:H1041=H1042,$A$1:A1041)),$H$2:H1042&$A$2:A1042,0))-V1042,\"\")","v":3.9825002682179633}]
["2015-12-16","Couvert",834,{"$f":"IF(ISNA(VLOOKUP(C1043,BDDG!$A$2:$F$100,2,FALSE)),\"\",VLOOKUP(C1043,BDDG!$A$2:$F$100,2,FALSE))","v":0},{"$f":"IF(ISNA(VLOOKUP(C1043,BDDG!$A$3:$J$102,3,FALSE)),\"\",VLOOKUP(C1043,BDDG!$A$3:$J$102,3,FALSE))","v":"A"},{"$f":"IF(ISNA(VLOOKUP(C1043,BDDG!$A$3:$J$102,4,FALSE)),\"\",VLOOKUP(C1043,BDDG!$A$3:$J$102,4,FALSE))","v":106},{"$f":"IF(ISNA(VLOOKUP(C1043,BDDG!$A$2:$F$100,5,FALSE)),\"\",VLOOKUP(C1043,BDDG!$A$2:$F$100,5,FALSE))","v":"A2"},{"$f":"IF(ISNA(VLOOKUP(C1043,BDDG!$A$2:$F$100,6,FALSE)),\"\",VLOOKUP(C1043,BDDG!$A$2:$F$100,6,FALSE))","v":"AA4"},{"$f":"IF(ISERROR(VLOOKUP(C1043,BDDG!$A$2:$G$100,7,FALSE)),\"\",VLOOKUP(C1043,BDDG!$A$2:$G$100,7,FALSE))","v":1},{"$f":"IF(ISERROR(VLOOKUP(C1043,BDDG!$A$2:$H$100,8,FALSE)),\"\",VLOOKUP(C1043,BDDG!$A$2:$H$100,8,FALSE))","v":"BB4"},5,36.159999999999997,11.946902654867259,{"$f":"IF(ISERROR(VLOOKUP(C1043,BDDG!$A$2:$I$100,9,FALSE)),\"\",VLOOKUP(C1043,BDDG!$A$2:$I$100,9,FALSE))","v":"CC4"},null,null,"",{"$f":"IF(ISERROR(VLOOKUP(C1043,BDDG!$A$2:$J$100,10,FALSE)),\"\",VLOOKUP(C1043,BDDG!$A$2:$J$100,10,FALSE))","v":"DD4"},null,null,"",11.946902654867259,12,2015,{"$f":"IFERROR(INDEX($V$2:V1043,MATCH(H1043&MAX(IF($H$1:H1042=H1043,$A$1:A1042)),$H$2:H1043&$A$2:A1043,0))-V1043,\"\")","v":0.64417866253291578}]
["2015-12-17","Soleil",878,{"$f":"IF(ISNA(VLOOKUP(C1044,BDDG!$A$2:$F$100,2,FALSE)),\"\",VLOOKUP(C1044,BDDG!$A$2:$F$100,2,FALSE))","v":0},{"$f":"IF(ISNA(VLOOKUP(C1044,BDDG!$A$3:$J$102,3,FALSE)),\"\",VLOOKUP(C1044,BDDG!$A$3:$J$102,3,FALSE))","v":"C"},{"$f":"IF(ISNA(VLOOKUP(C1044,BDDG!$A$3:$J$102,4,FALSE)),\"\",VLOOKUP(C1044,BDDG!$A$3:$J$102,4,FALSE))","v":108},{"$f":"IF(ISNA(VLOOKUP(C1044,BDDG!$A$2:$F$100,5,FALSE)),\"\",VLOOKUP(C1044,BDDG!$A$2:$F$100,5,FALSE))","v":"A19"},{"$f":"IF(ISNA(VLOOKUP(C1044,BDDG!$A$2:$F$100,6,FALSE)),\"\",VLOOKUP(C1044,BDDG!$A$2:$F$100,6,FALSE))","v":"AA52"},{"$f":"IF(ISERROR(VLOOKUP(C1044,BDDG!$A$2:$G$100,7,FALSE)),\"\",VLOOKUP(C1044,BDDG!$A$2:$G$100,7,FALSE))","v":1},{"$f":"IF(ISERROR(VLOOKUP(C1044,BDDG!$A$2:$H$100,8,FALSE)),\"\",VLOOKUP(C1044,BDDG!$A$2:$H$100,8,FALSE))","v":"BB52"},5,23.16,18.652849740932645,{"$f":"IF(ISERROR(VLOOKUP(C1044,BDDG!$A$2:$I$100,9,FALSE)),\"\",VLOOKUP(C1044,BDDG!$A$2:$I$100,9,FALSE))","v":"CC52"},null,null,{"$f":" IF(ISERROR(O1044/P1044*86.4),\"\",O1044/P1044*86.4)","v":""},{"$f":"IF(ISERROR(VLOOKUP(C1044,BDDG!$A$2:$J$100,10,FALSE)),\"\",VLOOKUP(C1044,BDDG!$A$2:$J$100,10,FALSE))","v":"DD52"},null,null,"",18.652849740932645,12,2015,{"$f":"IFERROR(INDEX($V$2:V1044,MATCH(H1044&MAX(IF($H$1:H1043=H1044,$A$1:A1043)),$H$2:H1044&$A$2:A1044,0))-V1044,\"\")","v":-2.7353847446172423}]
["2015-12-17","Soleil",879,{"$f":"IF(ISNA(VLOOKUP(C1045,BDDG!$A$2:$F$100,2,FALSE)),\"\",VLOOKUP(C1045,BDDG!$A$2:$F$100,2,FALSE))","v":0},{"$f":"IF(ISNA(VLOOKUP(C1045,BDDG!$A$3:$J$102,3,FALSE)),\"\",VLOOKUP(C1045,BDDG!$A$3:$J$102,3,FALSE))","v":"C"},{"$f":"IF(ISNA(VLOOKUP(C1045,BDDG!$A$3:$J$102,4,FALSE)),\"\",VLOOKUP(C1045,BDDG!$A$3:$J$102,4,FALSE))","v":108},{"$f":"IF(ISNA(VLOOKUP(C1045,BDDG!$A$2:$F$100,5,FALSE)),\"\",VLOOKUP(C1045,BDDG!$A$2:$F$100,5,FALSE))","v":"A19"},{"$f":"IF(ISNA(VLOOKUP(C1045,BDDG!$A$2:$F$100,6,FALSE)),\"\",VLOOKUP(C1045,BDDG!$A$2:$F$100,6,FALSE))","v":"AA53"},{"$f":"IF(ISERROR(VLOOKUP(C1045,BDDG!$A$2:$G$100,7,FALSE)),\"\",VLOOKUP(C1045,BDDG!$A$2:$G$100,7,FALSE))","v":3},{"$f":"IF(ISERROR(VLOOKUP(C1045,BDDG!$A$2:$H$100,8,FALSE)),\"\",VLOOKUP(C1045,BDDG!$A$2:$H$100,8,FALSE))","v":"BB53"},11,18.34,51.821155943293356,{"$f":"IF(ISERROR(VLOOKUP(C1045,BDDG!$A$2:$I$100,9,FALSE)),\"\",VLOOKUP(C1045,BDDG!$A$2:$I$100,9,FALSE))","v":"CC53"},11,14.15,67.166077738515909,{"$f":"IF(ISERROR(VLOOKUP(C1045,BDDG!$A$2:$J$100,10,FALSE)),\"\",VLOOKUP(C1045,BDDG!$A$2:$J$100,10,FALSE))","v":"DD53"},1,16.53,5.2268602540834852,124.21409393589276,12,2015,{"$f":"IFERROR(INDEX($V$2:V1045,MATCH(H1045&MAX(IF($H$1:H1044=H1045,$A$1:A1044)),$H$2:H1045&$A$2:A1045,0))-V1045,\"\")","v":-7.1003383018222195}]
["2015-12-17","Soleil",880,{"$f":"IF(ISNA(VLOOKUP(C1046,BDDG!$A$2:$F$100,2,FALSE)),\"\",VLOOKUP(C1046,BDDG!$A$2:$F$100,2,FALSE))","v":0},{"$f":"IF(ISNA(VLOOKUP(C1046,BDDG!$A$3:$J$102,3,FALSE)),\"\",VLOOKUP(C1046,BDDG!$A$3:$J$102,3,FALSE))","v":"C"},{"$f":"IF(ISNA(VLOOKUP(C1046,BDDG!$A$3:$J$102,4,FALSE)),\"\",VLOOKUP(C1046,BDDG!$A$3:$J$102,4,FALSE))","v":108},{"$f":"IF(ISNA(VLOOKUP(C1046,BDDG!$A$2:$F$100,5,FALSE)),\"\",VLOOKUP(C1046,BDDG!$A$2:$F$100,5,FALSE))","v":"A19"},{"$f":"IF(ISNA(VLOOKUP(C1046,BDDG!$A$2:$F$100,6,FALSE)),\"\",VLOOKUP(C1046,BDDG!$A$2:$F$100,6,FALSE))","v":"AA54"},{"$f":"IF(ISERROR(VLOOKUP(C1046,BDDG!$A$2:$G$100,7,FALSE)),\"\",VLOOKUP(C1046,BDDG!$A$2:$G$100,7,FALSE))","v":2},{"$f":"IF(ISERROR(VLOOKUP(C1046,BDDG!$A$2:$H$100,8,FALSE)),\"\",VLOOKUP(C1046,BDDG!$A$2:$H$100,8,FALSE))","v":"BB54"},11,22.94,41.42981691368788,{"$f":"IF(ISERROR(VLOOKUP(C1046,BDDG!$A$2:$I$100,9,FALSE)),\"\",VLOOKUP(C1046,BDDG!$A$2:$I$100,9,FALSE))","v":"CC54"},11,7.31,130.01367989056089,{"$f":"IF(ISERROR(VLOOKUP(C1046,BDDG!$A$2:$J$100,10,FALSE)),\"\",VLOOKUP(C1046,BDDG!$A$2:$J$100,10,FALSE))","v":"DD54"},null,null,"",171.44349680424878,12,2015,{"$f":"IFERROR(INDEX($V$2:V1046,MATCH(H1046&MAX(IF($H$1:H1045=H1046,$A$1:A1045)),$H$2:H1046&$A$2:A1046,0))-V1046,\"\")","v":-43.455197086792012}]
["2015-12-22","Soleil",831,{"$f":"IF(ISNA(VLOOKUP(C1047,BDDG!$A$2:$F$100,2,FALSE)),\"\",VLOOKUP(C1047,BDDG!$A$2:$F$100,2,FALSE))","v":0},{"$f":"IF(ISNA(VLOOKUP(C1047,BDDG!$A$3:$J$102,3,FALSE)),\"\",VLOOKUP(C1047,BDDG!$A$3:$J$102,3,FALSE))","v":"A"},{"$f":"IF(ISNA(VLOOKUP(C1047,BDDG!$A$3:$J$102,4,FALSE)),\"\",VLOOKUP(C1047,BDDG!$A$3:$J$102,4,FALSE))","v":106},{"$f":"IF(ISNA(VLOOKUP(C1047,BDDG!$A$2:$F$100,5,FALSE)),\"\",VLOOKUP(C1047,BDDG!$A$2:$F$100,5,FALSE))","v":"A1"},{"$f":"IF(ISNA(VLOOKUP(C1047,BDDG!$A$2:$F$100,6,FALSE)),\"\",VLOOKUP(C1047,BDDG!$A$2:$F$100,6,FALSE))","v":"AA1"},{"$f":"IF(ISERROR(VLOOKUP(C1047,BDDG!$A$2:$G$100,7,FALSE)),\"\",VLOOKUP(C1047,BDDG!$A$2:$G$100,7,FALSE))","v":1},{"$f":"IF(ISERROR(VLOOKUP(C1047,BDDG!$A$2:$H$100,8,FALSE)),\"\",VLOOKUP(C1047,BDDG!$A$2:$H$100,8,FALSE))","v":"BB1"},5,5.05,{"$f":" IF(ISERROR(K1047/L1047*86.4),\"\",K1047/L1047*86.4)","v":85.544554455445549},{"$f":"IF(ISERROR(VLOOKUP(C1047,BDDG!$A$2:$I$100,9,FALSE)),\"\",VLOOKUP(C1047,BDDG!$A$2:$I$100,9,FALSE))","v":"CC1"},null,null,"",{"$f":"IF(ISERROR(VLOOKUP(C1047,BDDG!$A$2:$J$100,10,FALSE)),\"\",VLOOKUP(C1047,BDDG!$A$2:$J$100,10,FALSE))","v":"DD1"},null,null,"",85.544554455445549,12,2015,{"$f":"IFERROR(INDEX($V$2:V1047,MATCH(H1047&MAX(IF($H$1:H1046=H1047,$A$1:A1046)),$H$2:H1047&$A$2:A1047,0))-V1047,\"\")","v":-15.071471258055652}]
["2015-12-22","Soleil",835,{"$f":"IF(ISNA(VLOOKUP(C1048,BDDG!$A$2:$F$100,2,FALSE)),\"\",VLOOKUP(C1048,BDDG!$A$2:$F$100,2,FALSE))","v":0},{"$f":"IF(ISNA(VLOOKUP(C1048,BDDG!$A$3:$J$102,3,FALSE)),\"\",VLOOKUP(C1048,BDDG!$A$3:$J$102,3,FALSE))","v":"A"},{"$f":"IF(ISNA(VLOOKUP(C1048,BDDG!$A$3:$J$102,4,FALSE)),\"\",VLOOKUP(C1048,BDDG!$A$3:$J$102,4,FALSE))","v":106},{"$f":"IF(ISNA(VLOOKUP(C1048,BDDG!$A$2:$F$100,5,FALSE)),\"\",VLOOKUP(C1048,BDDG!$A$2:$F$100,5,FALSE))","v":"A3"},{"$f":"IF(ISNA(VLOOKUP(C1048,BDDG!$A$2:$F$100,6,FALSE)),\"\",VLOOKUP(C1048,BDDG!$A$2:$F$100,6,FALSE))","v":"AA5"},{"$f":"IF(ISERROR(VLOOKUP(C1048,BDDG!$A$2:$G$100,7,FALSE)),\"\",VLOOKUP(C1048,BDDG!$A$2:$G$100,7,FALSE))","v":1},{"$f":"IF(ISERROR(VLOOKUP(C1048,BDDG!$A$2:$H$100,8,FALSE)),\"\",VLOOKUP(C1048,BDDG!$A$2:$H$100,8,FALSE))","v":"BB5"},0.4,192.59,0.17944856949997404,{"$f":"IF(ISERROR(VLOOKUP(C1048,BDDG!$A$2:$I$100,9,FALSE)),\"\",VLOOKUP(C1048,BDDG!$A$2:$I$100,9,FALSE))","v":"CC5"},null,null,"",{"$f":"IF(ISERROR(VLOOKUP(C1048,BDDG!$A$2:$J$100,10,FALSE)),\"\",VLOOKUP(C1048,BDDG!$A$2:$J$100,10,FALSE))","v":"DD5"},null,null,"",0.17944856949997404,12,2015,{"$f":"IFERROR(INDEX($V$2:V1048,MATCH(H1048&MAX(IF($H$1:H1047=H1048,$A$1:A1047)),$H$2:H1048&$A$2:A1048,0))-V1048,\"\")","v":0.4421341643129757}]
["2015-12-22","Soleil",839,{"$f":"IF(ISNA(VLOOKUP(C1049,BDDG!$A$2:$F$100,2,FALSE)),\"\",VLOOKUP(C1049,BDDG!$A$2:$F$100,2,FALSE))","v":0},{"$f":"IF(ISNA(VLOOKUP(C1049,BDDG!$A$3:$J$102,3,FALSE)),\"\",VLOOKUP(C1049,BDDG!$A$3:$J$102,3,FALSE))","v":"A"},{"$f":"IF(ISNA(VLOOKUP(C1049,BDDG!$A$3:$J$102,4,FALSE)),\"\",VLOOKUP(C1049,BDDG!$A$3:$J$102,4,FALSE))","v":106},{"$f":"IF(ISNA(VLOOKUP(C1049,BDDG!$A$2:$F$100,5,FALSE)),\"\",VLOOKUP(C1049,BDDG!$A$2:$F$100,5,FALSE))","v":"A3"},{"$f":"IF(ISNA(VLOOKUP(C1049,BDDG!$A$2:$F$100,6,FALSE)),\"\",VLOOKUP(C1049,BDDG!$A$2:$F$100,6,FALSE))","v":"AA10"},{"$f":"IF(ISERROR(VLOOKUP(C1049,BDDG!$A$2:$G$100,7,FALSE)),\"\",VLOOKUP(C1049,BDDG!$A$2:$G$100,7,FALSE))","v":2},{"$f":"IF(ISERROR(VLOOKUP(C1049,BDDG!$A$2:$H$100,8,FALSE)),\"\",VLOOKUP(C1049,BDDG!$A$2:$H$100,8,FALSE))","v":"BB10"},5,37.75,11.443708609271525,{"$f":"IF(ISERROR(VLOOKUP(C1049,BDDG!$A$2:$I$100,9,FALSE)),\"\",VLOOKUP(C1049,BDDG!$A$2:$I$100,9,FALSE))","v":"CC10"},5,59.87,7.2156338733923508,{"$f":"IF(ISERROR(VLOOKUP(C1049,BDDG!$A$2:$J$100,10,FALSE)),\"\",VLOOKUP(C1049,BDDG!$A$2:$J$100,10,FALSE))","v":"DD10"},null,null,"",18.659342482663874,12,2015,{"$f":"IFERROR(INDEX($V$2:V1049,MATCH(H1049&MAX(IF($H$1:H1048=H1049,$A$1:A1048)),$H$2:H1049&$A$2:A1049,0))-V1049,\"\")","v":1.8243977328928906}]
["2015-12-22","Soleil",859,{"$f":"IF(ISNA(VLOOKUP(C1050,BDDG!$A$2:$F$100,2,FALSE)),\"\",VLOOKUP(C1050,BDDG!$A$2:$F$100,2,FALSE))","v":0},{"$f":"IF(ISNA(VLOOKUP(C1050,BDDG!$A$3:$J$102,3,FALSE)),\"\",VLOOKUP(C1050,BDDG!$A$3:$J$102,3,FALSE))","v":"A"},{"$f":"IF(ISNA(VLOOKUP(C1050,BDDG!$A$3:$J$102,4,FALSE)),\"\",VLOOKUP(C1050,BDDG!$A$3:$J$102,4,FALSE))","v":106},{"$f":"IF(ISNA(VLOOKUP(C1050,BDDG!$A$2:$F$100,5,FALSE)),\"\",VLOOKUP(C1050,BDDG!$A$2:$F$100,5,FALSE))","v":"A10"},{"$f":"IF(ISNA(VLOOKUP(C1050,BDDG!$A$2:$F$100,6,FALSE)),\"\",VLOOKUP(C1050,BDDG!$A$2:$F$100,6,FALSE))","v":"AA30"},{"$f":"IF(ISERROR(VLOOKUP(C1050,BDDG!$A$2:$G$100,7,FALSE)),\"\",VLOOKUP(C1050,BDDG!$A$2:$G$100,7,FALSE))","v":1},{"$f":"IF(ISERROR(VLOOKUP(C1050,BDDG!$A$2:$H$100,8,FALSE)),\"\",VLOOKUP(C1050,BDDG!$A$2:$H$100,8,FALSE))","v":"BB30"},1,25.34,3.4096290449881614,{"$f":"IF(ISERROR(VLOOKUP(C1050,BDDG!$A$2:$I$100,9,FALSE)),\"\",VLOOKUP(C1050,BDDG!$A$2:$I$100,9,FALSE))","v":"CC30"},null,null,"",{"$f":"IF(ISERROR(VLOOKUP(C1050,BDDG!$A$2:$J$100,10,FALSE)),\"\",VLOOKUP(C1050,BDDG!$A$2:$J$100,10,FALSE))","v":"DD30"},null,null,"",3.4096290449881614,12,2015,{"$f":"IFERROR(INDEX($V$2:V1050,MATCH(H1050&MAX(IF($H$1:H1049=H1050,$A$1:A1049)),$H$2:H1050&$A$2:A1050,0))-V1050,\"\")","v":-0.17972250293208658}]
["2015-12-22","Soleil",815,{"$f":"IF(ISNA(VLOOKUP(C1051,BDDG!$A$2:$F$100,2,FALSE)),\"\",VLOOKUP(C1051,BDDG!$A$2:$F$100,2,FALSE))","v":0},{"$f":"IF(ISNA(VLOOKUP(C1051,BDDG!$A$3:$J$102,3,FALSE)),\"\",VLOOKUP(C1051,BDDG!$A$3:$J$102,3,FALSE))","v":"A"},{"$f":"IF(ISNA(VLOOKUP(C1051,BDDG!$A$3:$J$102,4,FALSE)),\"\",VLOOKUP(C1051,BDDG!$A$3:$J$102,4,FALSE))","v":106},{"$f":"IF(ISNA(VLOOKUP(C1051,BDDG!$A$2:$F$100,5,FALSE)),\"\",VLOOKUP(C1051,BDDG!$A$2:$F$100,5,FALSE))","v":"A10"},{"$f":"IF(ISNA(VLOOKUP(C1051,BDDG!$A$2:$F$100,6,FALSE)),\"\",VLOOKUP(C1051,BDDG!$A$2:$F$100,6,FALSE))","v":"AA31"},{"$f":"IF(ISERROR(VLOOKUP(C1051,BDDG!$A$2:$G$100,7,FALSE)),\"\",VLOOKUP(C1051,BDDG!$A$2:$G$100,7,FALSE))","v":1},{"$f":"IF(ISERROR(VLOOKUP(C1051,BDDG!$A$2:$H$100,8,FALSE)),\"\",VLOOKUP(C1051,BDDG!$A$2:$H$100,8,FALSE))","v":"BB31"},1,20.84,4.1458733205374285,{"$f":"IF(ISERROR(VLOOKUP(C1051,BDDG!$A$2:$I$100,9,FALSE)),\"\",VLOOKUP(C1051,BDDG!$A$2:$I$100,9,FALSE))","v":"CC31"},null,null,"",{"$f":"IF(ISERROR(VLOOKUP(C1051,BDDG!$A$2:$J$100,10,FALSE)),\"\",VLOOKUP(C1051,BDDG!$A$2:$J$100,10,FALSE))","v":"DD31"},null,null,"",4.1458733205374285,12,2015,{"$f":"IFERROR(INDEX($V$2:V1051,MATCH(H1051&MAX(IF($H$1:H1050=H1051,$A$1:A1050)),$H$2:H1051&$A$2:A1051,0))-V1051,\"\")","v":1.2099412095890285}]
["2015-12-22","Soleil",842,{"$f":"IF(ISNA(VLOOKUP(C1052,BDDG!$A$2:$F$100,2,FALSE)),\"\",VLOOKUP(C1052,BDDG!$A$2:$F$100,2,FALSE))","v":0},{"$f":"IF(ISNA(VLOOKUP(C1052,BDDG!$A$3:$J$102,3,FALSE)),\"\",VLOOKUP(C1052,BDDG!$A$3:$J$102,3,FALSE))","v":"B"},{"$f":"IF(ISNA(VLOOKUP(C1052,BDDG!$A$3:$J$102,4,FALSE)),\"\",VLOOKUP(C1052,BDDG!$A$3:$J$102,4,FALSE))","v":106},{"$f":"IF(ISNA(VLOOKUP(C1052,BDDG!$A$2:$F$100,5,FALSE)),\"\",VLOOKUP(C1052,BDDG!$A$2:$F$100,5,FALSE))","v":"A5"},{"$f":"IF(ISNA(VLOOKUP(C1052,BDDG!$A$2:$F$100,6,FALSE)),\"\",VLOOKUP(C1052,BDDG!$A$2:$F$100,6,FALSE))","v":"AA13"},{"$f":"IF(ISERROR(VLOOKUP(C1052,BDDG!$A$2:$G$100,7,FALSE)),\"\",VLOOKUP(C1052,BDDG!$A$2:$G$100,7,FALSE))","v":1},{"$f":"IF(ISERROR(VLOOKUP(C1052,BDDG!$A$2:$H$100,8,FALSE)),\"\",VLOOKUP(C1052,BDDG!$A$2:$H$100,8,FALSE))","v":"BB13"},5,37.53,11.510791366906476,{"$f":"IF(ISERROR(VLOOKUP(C1052,BDDG!$A$2:$I$100,9,FALSE)),\"\",VLOOKUP(C1052,BDDG!$A$2:$I$100,9,FALSE))","v":"CC13"},null,null,"",{"$f":"IF(ISERROR(VLOOKUP(C1052,BDDG!$A$2:$J$100,10,FALSE)),\"\",VLOOKUP(C1052,BDDG!$A$2:$J$100,10,FALSE))","v":"DD13"},null,null,"",11.510791366906476,12,2015,{"$f":"IFERROR(INDEX($V$2:V1052,MATCH(H1052&MAX(IF($H$1:H1051=H1052,$A$1:A1051)),$H$2:H1052&$A$2:A1052,0))-V1052,\"\")","v":-0.21372023719936273}]
["2015-12-22","Soleil",849,{"$f":"IF(ISNA(VLOOKUP(C1053,BDDG!$A$2:$F$100,2,FALSE)),\"\",VLOOKUP(C1053,BDDG!$A$2:$F$100,2,FALSE))","v":0},{"$f":"IF(ISNA(VLOOKUP(C1053,BDDG!$A$3:$J$102,3,FALSE)),\"\",VLOOKUP(C1053,BDDG!$A$3:$J$102,3,FALSE))","v":"B"},{"$f":"IF(ISNA(VLOOKUP(C1053,BDDG!$A$3:$J$102,4,FALSE)),\"\",VLOOKUP(C1053,BDDG!$A$3:$J$102,4,FALSE))","v":106},{"$f":"IF(ISNA(VLOOKUP(C1053,BDDG!$A$2:$F$100,5,FALSE)),\"\",VLOOKUP(C1053,BDDG!$A$2:$F$100,5,FALSE))","v":"A7"},{"$f":"IF(ISNA(VLOOKUP(C1053,BDDG!$A$2:$F$100,6,FALSE)),\"\",VLOOKUP(C1053,BDDG!$A$2:$F$100,6,FALSE))","v":"AA15"},{"$f":"IF(ISERROR(VLOOKUP(C1053,BDDG!$A$2:$G$100,7,FALSE)),\"\",VLOOKUP(C1053,BDDG!$A$2:$G$100,7,FALSE))","v":2},{"$f":"IF(ISERROR(VLOOKUP(C1053,BDDG!$A$2:$H$100,8,FALSE)),\"\",VLOOKUP(C1053,BDDG!$A$2:$H$100,8,FALSE))","v":"BB15"},5,28.75,15.026086956521739,{"$f":"IF(ISERROR(VLOOKUP(C1053,BDDG!$A$2:$I$100,9,FALSE)),\"\",VLOOKUP(C1053,BDDG!$A$2:$I$100,9,FALSE))","v":"CC15"},5,23.63,18.281845112145582,{"$f":"IF(ISERROR(VLOOKUP(C1053,BDDG!$A$2:$J$100,10,FALSE)),\"\",VLOOKUP(C1053,BDDG!$A$2:$J$100,10,FALSE))","v":"DD15"},null,null,"",33.30793206866732,12,2015,{"$f":"IFERROR(INDEX($V$2:V1053,MATCH(H1053&MAX(IF($H$1:H1052=H1053,$A$1:A1052)),$H$2:H1053&$A$2:A1053,0))-V1053,\"\")","v":-11.066261795367851}]
["2015-12-22","Soleil",847,{"$f":"IF(ISNA(VLOOKUP(C1054,BDDG!$A$2:$F$100,2,FALSE)),\"\",VLOOKUP(C1054,BDDG!$A$2:$F$100,2,FALSE))","v":0},{"$f":"IF(ISNA(VLOOKUP(C1054,BDDG!$A$3:$J$102,3,FALSE)),\"\",VLOOKUP(C1054,BDDG!$A$3:$J$102,3,FALSE))","v":"B"},{"$f":"IF(ISNA(VLOOKUP(C1054,BDDG!$A$3:$J$102,4,FALSE)),\"\",VLOOKUP(C1054,BDDG!$A$3:$J$102,4,FALSE))","v":106},{"$f":"IF(ISNA(VLOOKUP(C1054,BDDG!$A$2:$F$100,5,FALSE)),\"\",VLOOKUP(C1054,BDDG!$A$2:$F$100,5,FALSE))","v":"A7"},{"$f":"IF(ISNA(VLOOKUP(C1054,BDDG!$A$2:$F$100,6,FALSE)),\"\",VLOOKUP(C1054,BDDG!$A$2:$F$100,6,FALSE))","v":"AA18"},{"$f":"IF(ISERROR(VLOOKUP(C1054,BDDG!$A$2:$G$100,7,FALSE)),\"\",VLOOKUP(C1054,BDDG!$A$2:$G$100,7,FALSE))","v":2},{"$f":"IF(ISERROR(VLOOKUP(C1054,BDDG!$A$2:$H$100,8,FALSE)),\"\",VLOOKUP(C1054,BDDG!$A$2:$H$100,8,FALSE))","v":"BB18"},5,72.25,5.9792387543252605,{"$f":"IF(ISERROR(VLOOKUP(C1054,BDDG!$A$2:$I$100,9,FALSE)),\"\",VLOOKUP(C1054,BDDG!$A$2:$I$100,9,FALSE))","v":"CC18"},5,33.44,12.918660287081341,{"$f":"IF(ISERROR(VLOOKUP(C1054,BDDG!$A$2:$J$100,10,FALSE)),\"\",VLOOKUP(C1054,BDDG!$A$2:$J$100,10,FALSE))","v":"DD18"},null,null,"",18.897899041406603,12,2015,{"$f":"IFERROR(INDEX($V$2:V1054,MATCH(H1054&MAX(IF($H$1:H1053=H1054,$A$1:A1053)),$H$2:H1054&$A$2:A1054,0))-V1054,\"\")","v":-6.6900927574759521}]
["2015-12-24","Couvert",874,{"$f":"IF(ISNA(VLOOKUP(C1055,BDDG!$A$2:$F$100,2,FALSE)),\"\",VLOOKUP(C1055,BDDG!$A$2:$F$100,2,FALSE))","v":0},{"$f":"IF(ISNA(VLOOKUP(C1055,BDDG!$A$3:$J$102,3,FALSE)),\"\",VLOOKUP(C1055,BDDG!$A$3:$J$102,3,FALSE))","v":"C"},{"$f":"IF(ISNA(VLOOKUP(C1055,BDDG!$A$3:$J$102,4,FALSE)),\"\",VLOOKUP(C1055,BDDG!$A$3:$J$102,4,FALSE))","v":108},{"$f":"IF(ISNA(VLOOKUP(C1055,BDDG!$A$2:$F$100,5,FALSE)),\"\",VLOOKUP(C1055,BDDG!$A$2:$F$100,5,FALSE))","v":"A18"},{"$f":"IF(ISNA(VLOOKUP(C1055,BDDG!$A$2:$F$100,6,FALSE)),\"\",VLOOKUP(C1055,BDDG!$A$2:$F$100,6,FALSE))","v":"AA47"},{"$f":"IF(ISERROR(VLOOKUP(C1055,BDDG!$A$2:$G$100,7,FALSE)),\"\",VLOOKUP(C1055,BDDG!$A$2:$G$100,7,FALSE))","v":1},{"$f":"IF(ISERROR(VLOOKUP(C1055,BDDG!$A$2:$H$100,8,FALSE)),\"\",VLOOKUP(C1055,BDDG!$A$2:$H$100,8,FALSE))","v":"BB47"},5,16.12,26.799007444168733,{"$f":"IF(ISERROR(VLOOKUP(C1055,BDDG!$A$2:$I$100,9,FALSE)),\"\",VLOOKUP(C1055,BDDG!$A$2:$I$100,9,FALSE))","v":"CC47"},null,null,"",{"$f":"IF(ISERROR(VLOOKUP(C1055,BDDG!$A$2:$J$100,10,FALSE)),\"\",VLOOKUP(C1055,BDDG!$A$2:$J$100,10,FALSE))","v":"DD47"},null,null,"",26.799007444168733,12,2015,{"$f":"IFERROR(INDEX($V$2:V1055,MATCH(H1055&MAX(IF($H$1:H1054=H1055,$A$1:A1054)),$H$2:H1055&$A$2:A1055,0))-V1055,\"\")","v":-26.799007444168733}]
["2015-12-24","Couvert",875,{"$f":"IF(ISNA(VLOOKUP(C1056,BDDG!$A$2:$F$100,2,FALSE)),\"\",VLOOKUP(C1056,BDDG!$A$2:$F$100,2,FALSE))","v":0},{"$f":"IF(ISNA(VLOOKUP(C1056,BDDG!$A$3:$J$102,3,FALSE)),\"\",VLOOKUP(C1056,BDDG!$A$3:$J$102,3,FALSE))","v":"C"},{"$f":"IF(ISNA(VLOOKUP(C1056,BDDG!$A$3:$J$102,4,FALSE)),\"\",VLOOKUP(C1056,BDDG!$A$3:$J$102,4,FALSE))","v":108},{"$f":"IF(ISNA(VLOOKUP(C1056,BDDG!$A$2:$F$100,5,FALSE)),\"\",VLOOKUP(C1056,BDDG!$A$2:$F$100,5,FALSE))","v":"A18"},{"$f":"IF(ISNA(VLOOKUP(C1056,BDDG!$A$2:$F$100,6,FALSE)),\"\",VLOOKUP(C1056,BDDG!$A$2:$F$100,6,FALSE))","v":"AA48"},{"$f":"IF(ISERROR(VLOOKUP(C1056,BDDG!$A$2:$G$100,7,FALSE)),\"\",VLOOKUP(C1056,BDDG!$A$2:$G$100,7,FALSE))","v":1},{"$f":"IF(ISERROR(VLOOKUP(C1056,BDDG!$A$2:$H$100,8,FALSE)),\"\",VLOOKUP(C1056,BDDG!$A$2:$H$100,8,FALSE))","v":"BB48"},5,18.25,23.671232876712327,{"$f":"IF(ISERROR(VLOOKUP(C1056,BDDG!$A$2:$I$100,9,FALSE)),\"\",VLOOKUP(C1056,BDDG!$A$2:$I$100,9,FALSE))","v":"CC48"},null,null,"",{"$f":"IF(ISERROR(VLOOKUP(C1056,BDDG!$A$2:$J$100,10,FALSE)),\"\",VLOOKUP(C1056,BDDG!$A$2:$J$100,10,FALSE))","v":"DD48"},null,null,"",23.671232876712327,12,2015,{"$f":"IFERROR(INDEX($V$2:V1056,MATCH(H1056&MAX(IF($H$1:H1055=H1056,$A$1:A1055)),$H$2:H1056&$A$2:A1056,0))-V1056,\"\")","v":64.672325405496267}]
["2016-01-14","Froid",866,{"$f":"IF(ISNA(VLOOKUP(C1057,BDDG!$A$2:$F$100,2,FALSE)),\"\",VLOOKUP(C1057,BDDG!$A$2:$F$100,2,FALSE))","v":0},{"$f":"IF(ISNA(VLOOKUP(C1057,BDDG!$A$3:$J$102,3,FALSE)),\"\",VLOOKUP(C1057,BDDG!$A$3:$J$102,3,FALSE))","v":"C"},{"$f":"IF(ISNA(VLOOKUP(C1057,BDDG!$A$3:$J$102,4,FALSE)),\"\",VLOOKUP(C1057,BDDG!$A$3:$J$102,4,FALSE))","v":108},{"$f":"IF(ISNA(VLOOKUP(C1057,BDDG!$A$2:$F$100,5,FALSE)),\"\",VLOOKUP(C1057,BDDG!$A$2:$F$100,5,FALSE))","v":"A17"},{"$f":"IF(ISNA(VLOOKUP(C1057,BDDG!$A$2:$F$100,6,FALSE)),\"\",VLOOKUP(C1057,BDDG!$A$2:$F$100,6,FALSE))","v":"AA42"},{"$f":"IF(ISERROR(VLOOKUP(C1057,BDDG!$A$2:$G$100,7,FALSE)),\"\",VLOOKUP(C1057,BDDG!$A$2:$G$100,7,FALSE))","v":1},{"$f":"IF(ISERROR(VLOOKUP(C1057,BDDG!$A$2:$H$100,8,FALSE)),\"\",VLOOKUP(C1057,BDDG!$A$2:$H$100,8,FALSE))","v":"BB42"},1.4,1,120.96,{"$f":"IF(ISERROR(VLOOKUP(C1057,BDDG!$A$2:$I$100,9,FALSE)),\"\",VLOOKUP(C1057,BDDG!$A$2:$I$100,9,FALSE))","v":"CC42"},null,null,"",{"$f":"IF(ISERROR(VLOOKUP(C1057,BDDG!$A$2:$J$100,10,FALSE)),\"\",VLOOKUP(C1057,BDDG!$A$2:$J$100,10,FALSE))","v":"DD42"},null,null,"",120.96,1,2016,{"$f":"IFERROR(INDEX($V$2:V1057,MATCH(H1057&MAX(IF($H$1:H1056=H1057,$A$1:A1056)),$H$2:H1057&$A$2:A1057,0))-V1057,\"\")","v":-51.839999999999989}]
["2016-01-14","Froid",867,{"$f":"IF(ISNA(VLOOKUP(C1058,BDDG!$A$2:$F$100,2,FALSE)),\"\",VLOOKUP(C1058,BDDG!$A$2:$F$100,2,FALSE))","v":0},{"$f":"IF(ISNA(VLOOKUP(C1058,BDDG!$A$3:$J$102,3,FALSE)),\"\",VLOOKUP(C1058,BDDG!$A$3:$J$102,3,FALSE))","v":"C"},{"$f":"IF(ISNA(VLOOKUP(C1058,BDDG!$A$3:$J$102,4,FALSE)),\"\",VLOOKUP(C1058,BDDG!$A$3:$J$102,4,FALSE))","v":108},{"$f":"IF(ISNA(VLOOKUP(C1058,BDDG!$A$2:$F$100,5,FALSE)),\"\",VLOOKUP(C1058,BDDG!$A$2:$F$100,5,FALSE))","v":"A17"},{"$f":"IF(ISNA(VLOOKUP(C1058,BDDG!$A$2:$F$100,6,FALSE)),\"\",VLOOKUP(C1058,BDDG!$A$2:$F$100,6,FALSE))","v":"AA43"},{"$f":"IF(ISERROR(VLOOKUP(C1058,BDDG!$A$2:$G$100,7,FALSE)),\"\",VLOOKUP(C1058,BDDG!$A$2:$G$100,7,FALSE))","v":1},{"$f":"IF(ISERROR(VLOOKUP(C1058,BDDG!$A$2:$H$100,8,FALSE)),\"\",VLOOKUP(C1058,BDDG!$A$2:$H$100,8,FALSE))","v":"BB43"},5,11.82,36.548223350253814,{"$f":"IF(ISERROR(VLOOKUP(C1058,BDDG!$A$2:$I$100,9,FALSE)),\"\",VLOOKUP(C1058,BDDG!$A$2:$I$100,9,FALSE))","v":"CC43"},null,null,"",{"$f":"IF(ISERROR(VLOOKUP(C1058,BDDG!$A$2:$J$100,10,FALSE)),\"\",VLOOKUP(C1058,BDDG!$A$2:$J$100,10,FALSE))","v":"DD43"},null,null,"",36.548223350253814,1,2016,{"$f":"IFERROR(INDEX($V$2:V1058,MATCH(H1058&MAX(IF($H$1:H1057=H1058,$A$1:A1057)),$H$2:H1058&$A$2:A1058,0))-V1058,\"\")","v":-4.0181028683260962}]
["2016-01-27","?",854,{"$f":"IF(ISNA(VLOOKUP(C1059,BDDG!$A$2:$F$100,2,FALSE)),\"\",VLOOKUP(C1059,BDDG!$A$2:$F$100,2,FALSE))","v":0},{"$f":"IF(ISNA(VLOOKUP(C1059,BDDG!$A$3:$J$102,3,FALSE)),\"\",VLOOKUP(C1059,BDDG!$A$3:$J$102,3,FALSE))","v":"A"},{"$f":"IF(ISNA(VLOOKUP(C1059,BDDG!$A$3:$J$102,4,FALSE)),\"\",VLOOKUP(C1059,BDDG!$A$3:$J$102,4,FALSE))","v":106},{"$f":"IF(ISNA(VLOOKUP(C1059,BDDG!$A$2:$F$100,5,FALSE)),\"\",VLOOKUP(C1059,BDDG!$A$2:$F$100,5,FALSE))","v":"A9"},{"$f":"IF(ISNA(VLOOKUP(C1059,BDDG!$A$2:$F$100,6,FALSE)),\"\",VLOOKUP(C1059,BDDG!$A$2:$F$100,6,FALSE))","v":"AA25"},{"$f":"IF(ISERROR(VLOOKUP(C1059,BDDG!$A$2:$G$100,7,FALSE)),\"\",VLOOKUP(C1059,BDDG!$A$2:$G$100,7,FALSE))","v":2},{"$f":"IF(ISERROR(VLOOKUP(C1059,BDDG!$A$2:$H$100,8,FALSE)),\"\",VLOOKUP(C1059,BDDG!$A$2:$H$100,8,FALSE))","v":"BB25"},null,null,320,{"$f":"IF(ISERROR(VLOOKUP(C1059,BDDG!$A$2:$I$100,9,FALSE)),\"\",VLOOKUP(C1059,BDDG!$A$2:$I$100,9,FALSE))","v":"CC25"},null,null,"",{"$f":"IF(ISERROR(VLOOKUP(C1059,BDDG!$A$2:$J$100,10,FALSE)),\"\",VLOOKUP(C1059,BDDG!$A$2:$J$100,10,FALSE))","v":"DD25"},null,null,"",320,1,2016,{"$f":"IFERROR(INDEX($V$2:V1059,MATCH(H1059&MAX(IF($H$1:H1058=H1059,$A$1:A1058)),$H$2:H1059&$A$2:A1059,0))-V1059,\"\")","v":-265.24714828897339}]
["2016-01-27","?",855,{"$f":"IF(ISNA(VLOOKUP(C1060,BDDG!$A$2:$F$100,2,FALSE)),\"\",VLOOKUP(C1060,BDDG!$A$2:$F$100,2,FALSE))","v":0},{"$f":"IF(ISNA(VLOOKUP(C1060,BDDG!$A$3:$J$102,3,FALSE)),\"\",VLOOKUP(C1060,BDDG!$A$3:$J$102,3,FALSE))","v":"A"},{"$f":"IF(ISNA(VLOOKUP(C1060,BDDG!$A$3:$J$102,4,FALSE)),\"\",VLOOKUP(C1060,BDDG!$A$3:$J$102,4,FALSE))","v":106},{"$f":"IF(ISNA(VLOOKUP(C1060,BDDG!$A$2:$F$100,5,FALSE)),\"\",VLOOKUP(C1060,BDDG!$A$2:$F$100,5,FALSE))","v":"A9"},{"$f":"IF(ISNA(VLOOKUP(C1060,BDDG!$A$2:$F$100,6,FALSE)),\"\",VLOOKUP(C1060,BDDG!$A$2:$F$100,6,FALSE))","v":"AA26"},{"$f":"IF(ISERROR(VLOOKUP(C1060,BDDG!$A$2:$G$100,7,FALSE)),\"\",VLOOKUP(C1060,BDDG!$A$2:$G$100,7,FALSE))","v":2},{"$f":"IF(ISERROR(VLOOKUP(C1060,BDDG!$A$2:$H$100,8,FALSE)),\"\",VLOOKUP(C1060,BDDG!$A$2:$H$100,8,FALSE))","v":"BB26"},null,null,124.3,{"$f":"IF(ISERROR(VLOOKUP(C1060,BDDG!$A$2:$I$100,9,FALSE)),\"\",VLOOKUP(C1060,BDDG!$A$2:$I$100,9,FALSE))","v":"CC26"},null,null,53.3,{"$f":"IF(ISERROR(VLOOKUP(C1060,BDDG!$A$2:$J$100,10,FALSE)),\"\",VLOOKUP(C1060,BDDG!$A$2:$J$100,10,FALSE))","v":"DD26"},null,null,"",177.6,1,2016,{"$f":"IFERROR(INDEX($V$2:V1060,MATCH(H1060&MAX(IF($H$1:H1059=H1060,$A$1:A1059)),$H$2:H1060&$A$2:A1060,0))-V1060,\"\")","v":-149.31921340346707}]
["2016-01-27","?",856,{"$f":"IF(ISNA(VLOOKUP(C1061,BDDG!$A$2:$F$100,2,FALSE)),\"\",VLOOKUP(C1061,BDDG!$A$2:$F$100,2,FALSE))","v":0},{"$f":"IF(ISNA(VLOOKUP(C1061,BDDG!$A$3:$J$102,3,FALSE)),\"\",VLOOKUP(C1061,BDDG!$A$3:$J$102,3,FALSE))","v":"A"},{"$f":"IF(ISNA(VLOOKUP(C1061,BDDG!$A$3:$J$102,4,FALSE)),\"\",VLOOKUP(C1061,BDDG!$A$3:$J$102,4,FALSE))","v":106},{"$f":"IF(ISNA(VLOOKUP(C1061,BDDG!$A$2:$F$100,5,FALSE)),\"\",VLOOKUP(C1061,BDDG!$A$2:$F$100,5,FALSE))","v":"A9"},{"$f":"IF(ISNA(VLOOKUP(C1061,BDDG!$A$2:$F$100,6,FALSE)),\"\",VLOOKUP(C1061,BDDG!$A$2:$F$100,6,FALSE))","v":"AA27"},{"$f":"IF(ISERROR(VLOOKUP(C1061,BDDG!$A$2:$G$100,7,FALSE)),\"\",VLOOKUP(C1061,BDDG!$A$2:$G$100,7,FALSE))","v":2},{"$f":"IF(ISERROR(VLOOKUP(C1061,BDDG!$A$2:$H$100,8,FALSE)),\"\",VLOOKUP(C1061,BDDG!$A$2:$H$100,8,FALSE))","v":"BB27"},null,null,29.8,{"$f":"IF(ISERROR(VLOOKUP(C1061,BDDG!$A$2:$I$100,9,FALSE)),\"\",VLOOKUP(C1061,BDDG!$A$2:$I$100,9,FALSE))","v":"CC27"},null,null,414.7,{"$f":"IF(ISERROR(VLOOKUP(C1061,BDDG!$A$2:$J$100,10,FALSE)),\"\",VLOOKUP(C1061,BDDG!$A$2:$J$100,10,FALSE))","v":"DD27"},null,null,"",444.5,1,2016,{"$f":"IFERROR(INDEX($V$2:V1061,MATCH(H1061&MAX(IF($H$1:H1060=H1061,$A$1:A1060)),$H$2:H1061&$A$2:A1061,0))-V1061,\"\")","v":-365.84229023055286}]
["2016-02-02","Soleil",832,{"$f":"IF(ISNA(VLOOKUP(C1062,BDDG!$A$2:$F$100,2,FALSE)),\"\",VLOOKUP(C1062,BDDG!$A$2:$F$100,2,FALSE))","v":0},{"$f":"IF(ISNA(VLOOKUP(C1062,BDDG!$A$3:$J$102,3,FALSE)),\"\",VLOOKUP(C1062,BDDG!$A$3:$J$102,3,FALSE))","v":"A"},{"$f":"IF(ISNA(VLOOKUP(C1062,BDDG!$A$3:$J$102,4,FALSE)),\"\",VLOOKUP(C1062,BDDG!$A$3:$J$102,4,FALSE))","v":106},{"$f":"IF(ISNA(VLOOKUP(C1062,BDDG!$A$2:$F$100,5,FALSE)),\"\",VLOOKUP(C1062,BDDG!$A$2:$F$100,5,FALSE))","v":"A2"},{"$f":"IF(ISNA(VLOOKUP(C1062,BDDG!$A$2:$F$100,6,FALSE)),\"\",VLOOKUP(C1062,BDDG!$A$2:$F$100,6,FALSE))","v":"AA2"},{"$f":"IF(ISERROR(VLOOKUP(C1062,BDDG!$A$2:$G$100,7,FALSE)),\"\",VLOOKUP(C1062,BDDG!$A$2:$G$100,7,FALSE))","v":1},{"$f":"IF(ISERROR(VLOOKUP(C1062,BDDG!$A$2:$H$100,8,FALSE)),\"\",VLOOKUP(C1062,BDDG!$A$2:$H$100,8,FALSE))","v":"BB2"},5,67.040000000000006,{"$f":" IF(ISERROR(K1062/L1062*86.4),\"\",K1062/L1062*86.4)","v":6.4439140811455848},{"$f":"IF(ISERROR(VLOOKUP(C1062,BDDG!$A$2:$I$100,9,FALSE)),\"\",VLOOKUP(C1062,BDDG!$A$2:$I$100,9,FALSE))","v":"CC2"},null,null,{"$f":" IF(ISERROR(O1062/P1062*86.4),\"\",O1062/P1062*86.4)","v":""},{"$f":"IF(ISERROR(VLOOKUP(C1062,BDDG!$A$2:$J$100,10,FALSE)),\"\",VLOOKUP(C1062,BDDG!$A$2:$J$100,10,FALSE))","v":"DD2"},null,null,"",6.4439140811455848,2,2016,{"$f":"IFERROR(INDEX($V$2:V1062,MATCH(H1062&MAX(IF($H$1:H1061=H1062,$A$1:A1061)),$H$2:H1062&$A$2:A1062,0))-V1062,\"\")","v":-3.2031038785949471}]
["2016-02-02","Soleil",833,{"$f":"IF(ISNA(VLOOKUP(C1063,BDDG!$A$2:$F$100,2,FALSE)),\"\",VLOOKUP(C1063,BDDG!$A$2:$F$100,2,FALSE))","v":0},{"$f":"IF(ISNA(VLOOKUP(C1063,BDDG!$A$3:$J$102,3,FALSE)),\"\",VLOOKUP(C1063,BDDG!$A$3:$J$102,3,FALSE))","v":"A"},{"$f":"IF(ISNA(VLOOKUP(C1063,BDDG!$A$3:$J$102,4,FALSE)),\"\",VLOOKUP(C1063,BDDG!$A$3:$J$102,4,FALSE))","v":106},{"$f":"IF(ISNA(VLOOKUP(C1063,BDDG!$A$2:$F$100,5,FALSE)),\"\",VLOOKUP(C1063,BDDG!$A$2:$F$100,5,FALSE))","v":"A2"},{"$f":"IF(ISNA(VLOOKUP(C1063,BDDG!$A$2:$F$100,6,FALSE)),\"\",VLOOKUP(C1063,BDDG!$A$2:$F$100,6,FALSE))","v":"AA3"},{"$f":"IF(ISERROR(VLOOKUP(C1063,BDDG!$A$2:$G$100,7,FALSE)),\"\",VLOOKUP(C1063,BDDG!$A$2:$G$100,7,FALSE))","v":1},{"$f":"IF(ISERROR(VLOOKUP(C1063,BDDG!$A$2:$H$100,8,FALSE)),\"\",VLOOKUP(C1063,BDDG!$A$2:$H$100,8,FALSE))","v":"BB3"},5,16.34,26.438188494492046,{"$f":"IF(ISERROR(VLOOKUP(C1063,BDDG!$A$2:$I$100,9,FALSE)),\"\",VLOOKUP(C1063,BDDG!$A$2:$I$100,9,FALSE))","v":"CC3"},null,null,"",{"$f":"IF(ISERROR(VLOOKUP(C1063,BDDG!$A$2:$J$100,10,FALSE)),\"\",VLOOKUP(C1063,BDDG!$A$2:$J$100,10,FALSE))","v":"DD3"},null,null,"",26.438188494492046,2,2016,{"$f":"IFERROR(INDEX($V$2:V1063,MATCH(H1063&MAX(IF($H$1:H1062=H1063,$A$1:A1062)),$H$2:H1063&$A$2:A1063,0))-V1063,\"\")","v":-11.09182970230732}]
["2016-02-02","Soleil",834,{"$f":"IF(ISNA(VLOOKUP(C1064,BDDG!$A$2:$F$100,2,FALSE)),\"\",VLOOKUP(C1064,BDDG!$A$2:$F$100,2,FALSE))","v":0},{"$f":"IF(ISNA(VLOOKUP(C1064,BDDG!$A$3:$J$102,3,FALSE)),\"\",VLOOKUP(C1064,BDDG!$A$3:$J$102,3,FALSE))","v":"A"},{"$f":"IF(ISNA(VLOOKUP(C1064,BDDG!$A$3:$J$102,4,FALSE)),\"\",VLOOKUP(C1064,BDDG!$A$3:$J$102,4,FALSE))","v":106},{"$f":"IF(ISNA(VLOOKUP(C1064,BDDG!$A$2:$F$100,5,FALSE)),\"\",VLOOKUP(C1064,BDDG!$A$2:$F$100,5,FALSE))","v":"A2"},{"$f":"IF(ISNA(VLOOKUP(C1064,BDDG!$A$2:$F$100,6,FALSE)),\"\",VLOOKUP(C1064,BDDG!$A$2:$F$100,6,FALSE))","v":"AA4"},{"$f":"IF(ISERROR(VLOOKUP(C1064,BDDG!$A$2:$G$100,7,FALSE)),\"\",VLOOKUP(C1064,BDDG!$A$2:$G$100,7,FALSE))","v":1},{"$f":"IF(ISERROR(VLOOKUP(C1064,BDDG!$A$2:$H$100,8,FALSE)),\"\",VLOOKUP(C1064,BDDG!$A$2:$H$100,8,FALSE))","v":"BB4"},5,28.94,14.927436074637182,{"$f":"IF(ISERROR(VLOOKUP(C1064,BDDG!$A$2:$I$100,9,FALSE)),\"\",VLOOKUP(C1064,BDDG!$A$2:$I$100,9,FALSE))","v":"CC4"},null,null,"",{"$f":"IF(ISERROR(VLOOKUP(C1064,BDDG!$A$2:$J$100,10,FALSE)),\"\",VLOOKUP(C1064,BDDG!$A$2:$J$100,10,FALSE))","v":"DD4"},null,null,"",14.927436074637182,2,2016,{"$f":"IFERROR(INDEX($V$2:V1064,MATCH(H1064&MAX(IF($H$1:H1063=H1064,$A$1:A1063)),$H$2:H1064&$A$2:A1064,0))-V1064,\"\")","v":-2.9805334197699231}]
["2016-02-02","Soleil",844,{"$f":"IF(ISNA(VLOOKUP(C1065,BDDG!$A$2:$F$100,2,FALSE)),\"\",VLOOKUP(C1065,BDDG!$A$2:$F$100,2,FALSE))","v":0},{"$f":"IF(ISNA(VLOOKUP(C1065,BDDG!$A$3:$J$102,3,FALSE)),\"\",VLOOKUP(C1065,BDDG!$A$3:$J$102,3,FALSE))","v":"B"},{"$f":"IF(ISNA(VLOOKUP(C1065,BDDG!$A$3:$J$102,4,FALSE)),\"\",VLOOKUP(C1065,BDDG!$A$3:$J$102,4,FALSE))","v":106},{"$f":"IF(ISNA(VLOOKUP(C1065,BDDG!$A$2:$F$100,5,FALSE)),\"\",VLOOKUP(C1065,BDDG!$A$2:$F$100,5,FALSE))","v":"A6"},{"$f":"IF(ISNA(VLOOKUP(C1065,BDDG!$A$2:$F$100,6,FALSE)),\"\",VLOOKUP(C1065,BDDG!$A$2:$F$100,6,FALSE))","v":"AA14"},{"$f":"IF(ISERROR(VLOOKUP(C1065,BDDG!$A$2:$G$100,7,FALSE)),\"\",VLOOKUP(C1065,BDDG!$A$2:$G$100,7,FALSE))","v":2},{"$f":"IF(ISERROR(VLOOKUP(C1065,BDDG!$A$2:$H$100,8,FALSE)),\"\",VLOOKUP(C1065,BDDG!$A$2:$H$100,8,FALSE))","v":"BB14"},5,5.59,77.280858676207515,{"$f":"IF(ISERROR(VLOOKUP(C1065,BDDG!$A$2:$I$100,9,FALSE)),\"\",VLOOKUP(C1065,BDDG!$A$2:$I$100,9,FALSE))","v":"CC14"},null,null,"",{"$f":"IF(ISERROR(VLOOKUP(C1065,BDDG!$A$2:$J$100,10,FALSE)),\"\",VLOOKUP(C1065,BDDG!$A$2:$J$100,10,FALSE))","v":"DD14"},null,null,"",77.280858676207515,2,2016,{"$f":"IFERROR(INDEX($V$2:V1065,MATCH(H1065&MAX(IF($H$1:H1064=H1065,$A$1:A1064)),$H$2:H1065&$A$2:A1065,0))-V1065,\"\")","v":2.7191413237924849}]
["2016-02-03","Soleil",831,{"$f":"IF(ISNA(VLOOKUP(C1066,BDDG!$A$2:$F$100,2,FALSE)),\"\",VLOOKUP(C1066,BDDG!$A$2:$F$100,2,FALSE))","v":0},{"$f":"IF(ISNA(VLOOKUP(C1066,BDDG!$A$3:$J$102,3,FALSE)),\"\",VLOOKUP(C1066,BDDG!$A$3:$J$102,3,FALSE))","v":"A"},{"$f":"IF(ISNA(VLOOKUP(C1066,BDDG!$A$3:$J$102,4,FALSE)),\"\",VLOOKUP(C1066,BDDG!$A$3:$J$102,4,FALSE))","v":106},{"$f":"IF(ISNA(VLOOKUP(C1066,BDDG!$A$2:$F$100,5,FALSE)),\"\",VLOOKUP(C1066,BDDG!$A$2:$F$100,5,FALSE))","v":"A1"},{"$f":"IF(ISNA(VLOOKUP(C1066,BDDG!$A$2:$F$100,6,FALSE)),\"\",VLOOKUP(C1066,BDDG!$A$2:$F$100,6,FALSE))","v":"AA1"},{"$f":"IF(ISERROR(VLOOKUP(C1066,BDDG!$A$2:$G$100,7,FALSE)),\"\",VLOOKUP(C1066,BDDG!$A$2:$G$100,7,FALSE))","v":1},{"$f":"IF(ISERROR(VLOOKUP(C1066,BDDG!$A$2:$H$100,8,FALSE)),\"\",VLOOKUP(C1066,BDDG!$A$2:$H$100,8,FALSE))","v":"BB1"},9,7.8,99.692307692307708,{"$f":"IF(ISERROR(VLOOKUP(C1066,BDDG!$A$2:$I$100,9,FALSE)),\"\",VLOOKUP(C1066,BDDG!$A$2:$I$100,9,FALSE))","v":"CC1"},null,null,"",{"$f":"IF(ISERROR(VLOOKUP(C1066,BDDG!$A$2:$J$100,10,FALSE)),\"\",VLOOKUP(C1066,BDDG!$A$2:$J$100,10,FALSE))","v":"DD1"},null,null,"",{"$f":"IF(ISERROR(SUM(M1066,Q1066,U1066)),\"\",SUM(M1066,Q1066,U1066))","v":99.692307692307708},2,2016,{"$f":"IFERROR(INDEX($V$2:V1066,MATCH(H1066&MAX(IF($H$1:H1065=H1066,$A$1:A1065)),$H$2:H1066&$A$2:A1066,0))-V1066,\"\")","v":-14.147753236862158}]
["2016-02-17","Froid",862,{"$f":"IF(ISNA(VLOOKUP(C1067,BDDG!$A$2:$F$100,2,FALSE)),\"\",VLOOKUP(C1067,BDDG!$A$2:$F$100,2,FALSE))","v":0},{"$f":"IF(ISNA(VLOOKUP(C1067,BDDG!$A$3:$J$102,3,FALSE)),\"\",VLOOKUP(C1067,BDDG!$A$3:$J$102,3,FALSE))","v":"A"},{"$f":"IF(ISNA(VLOOKUP(C1067,BDDG!$A$3:$J$102,4,FALSE)),\"\",VLOOKUP(C1067,BDDG!$A$3:$J$102,4,FALSE))","v":106},{"$f":"IF(ISNA(VLOOKUP(C1067,BDDG!$A$2:$F$100,5,FALSE)),\"\",VLOOKUP(C1067,BDDG!$A$2:$F$100,5,FALSE))","v":"A12"},{"$f":"IF(ISNA(VLOOKUP(C1067,BDDG!$A$2:$F$100,6,FALSE)),\"\",VLOOKUP(C1067,BDDG!$A$2:$F$100,6,FALSE))","v":"AA34"},{"$f":"IF(ISERROR(VLOOKUP(C1067,BDDG!$A$2:$G$100,7,FALSE)),\"\",VLOOKUP(C1067,BDDG!$A$2:$G$100,7,FALSE))","v":1},{"$f":"IF(ISERROR(VLOOKUP(C1067,BDDG!$A$2:$H$100,8,FALSE)),\"\",VLOOKUP(C1067,BDDG!$A$2:$H$100,8,FALSE))","v":"BB34"},12,14.47,71.651693158258468,{"$f":"IF(ISERROR(VLOOKUP(C1067,BDDG!$A$2:$I$100,9,FALSE)),\"\",VLOOKUP(C1067,BDDG!$A$2:$I$100,9,FALSE))","v":"CC34"},null,null,"",{"$f":"IF(ISERROR(VLOOKUP(C1067,BDDG!$A$2:$J$100,10,FALSE)),\"\",VLOOKUP(C1067,BDDG!$A$2:$J$100,10,FALSE))","v":"DD34"},null,null,"",71.651693158258468,2,2016,{"$f":"IFERROR(INDEX($V$2:V1067,MATCH(H1067&MAX(IF($H$1:H1066=H1067,$A$1:A1066)),$H$2:H1067&$A$2:A1067,0))-V1067,\"\")","v":-17.343121729687034}]
["2016-02-17","Froid",841,{"$f":"IF(ISNA(VLOOKUP(C1068,BDDG!$A$2:$F$100,2,FALSE)),\"\",VLOOKUP(C1068,BDDG!$A$2:$F$100,2,FALSE))","v":0},{"$f":"IF(ISNA(VLOOKUP(C1068,BDDG!$A$3:$J$102,3,FALSE)),\"\",VLOOKUP(C1068,BDDG!$A$3:$J$102,3,FALSE))","v":"A"},{"$f":"IF(ISNA(VLOOKUP(C1068,BDDG!$A$3:$J$102,4,FALSE)),\"\",VLOOKUP(C1068,BDDG!$A$3:$J$102,4,FALSE))","v":106},{"$f":"IF(ISNA(VLOOKUP(C1068,BDDG!$A$2:$F$100,5,FALSE)),\"\",VLOOKUP(C1068,BDDG!$A$2:$F$100,5,FALSE))","v":"A4"},{"$f":"IF(ISNA(VLOOKUP(C1068,BDDG!$A$2:$F$100,6,FALSE)),\"\",VLOOKUP(C1068,BDDG!$A$2:$F$100,6,FALSE))","v":"AA11"},{"$f":"IF(ISERROR(VLOOKUP(C1068,BDDG!$A$2:$G$100,7,FALSE)),\"\",VLOOKUP(C1068,BDDG!$A$2:$G$100,7,FALSE))","v":2},{"$f":"IF(ISERROR(VLOOKUP(C1068,BDDG!$A$2:$H$100,8,FALSE)),\"\",VLOOKUP(C1068,BDDG!$A$2:$H$100,8,FALSE))","v":"BB11"},5,18.75,23.040000000000003,{"$f":"IF(ISERROR(VLOOKUP(C1068,BDDG!$A$2:$I$100,9,FALSE)),\"\",VLOOKUP(C1068,BDDG!$A$2:$I$100,9,FALSE))","v":"CC11"},null,null,"",{"$f":"IF(ISERROR(VLOOKUP(C1068,BDDG!$A$2:$J$100,10,FALSE)),\"\",VLOOKUP(C1068,BDDG!$A$2:$J$100,10,FALSE))","v":"DD11"},null,null,"",23.040000000000003,2,2016,{"$f":"IFERROR(INDEX($V$2:V1068,MATCH(H1068&MAX(IF($H$1:H1067=H1068,$A$1:A1067)),$H$2:H1068&$A$2:A1068,0))-V1068,\"\")","v":-3.0736134453781538}]
["2016-02-23","Couvert",831,{"$f":"IF(ISNA(VLOOKUP(C1069,BDDG!$A$2:$F$100,2,FALSE)),\"\",VLOOKUP(C1069,BDDG!$A$2:$F$100,2,FALSE))","v":0},{"$f":"IF(ISNA(VLOOKUP(C1069,BDDG!$A$3:$J$102,3,FALSE)),\"\",VLOOKUP(C1069,BDDG!$A$3:$J$102,3,FALSE))","v":"A"},{"$f":"IF(ISNA(VLOOKUP(C1069,BDDG!$A$3:$J$102,4,FALSE)),\"\",VLOOKUP(C1069,BDDG!$A$3:$J$102,4,FALSE))","v":106},{"$f":"IF(ISNA(VLOOKUP(C1069,BDDG!$A$2:$F$100,5,FALSE)),\"\",VLOOKUP(C1069,BDDG!$A$2:$F$100,5,FALSE))","v":"A1"},{"$f":"IF(ISNA(VLOOKUP(C1069,BDDG!$A$2:$F$100,6,FALSE)),\"\",VLOOKUP(C1069,BDDG!$A$2:$F$100,6,FALSE))","v":"AA1"},{"$f":"IF(ISERROR(VLOOKUP(C1069,BDDG!$A$2:$G$100,7,FALSE)),\"\",VLOOKUP(C1069,BDDG!$A$2:$G$100,7,FALSE))","v":1},{"$f":"IF(ISERROR(VLOOKUP(C1069,BDDG!$A$2:$H$100,8,FALSE)),\"\",VLOOKUP(C1069,BDDG!$A$2:$H$100,8,FALSE))","v":"BB1"},12,10.47,{"$f":" IF(ISERROR(K1069/L1069*86.4),\"\",K1069/L1069*86.4)","v":99.025787965616047},{"$f":"IF(ISERROR(VLOOKUP(C1069,BDDG!$A$2:$I$100,9,FALSE)),\"\",VLOOKUP(C1069,BDDG!$A$2:$I$100,9,FALSE))","v":"CC1"},null,null,"",{"$f":"IF(ISERROR(VLOOKUP(C1069,BDDG!$A$2:$J$100,10,FALSE)),\"\",VLOOKUP(C1069,BDDG!$A$2:$J$100,10,FALSE))","v":"DD1"},null,null,"",99.025787965616047,2,2016,{"$f":"IFERROR(INDEX($V$2:V1069,MATCH(H1069&MAX(IF($H$1:H1068=H1069,$A$1:A1068)),$H$2:H1069&$A$2:A1069,0))-V1069,\"\")","v":0.66651972669166071}]
["2016-02-23","Couvert",835,{"$f":"IF(ISNA(VLOOKUP(C1070,BDDG!$A$2:$F$100,2,FALSE)),\"\",VLOOKUP(C1070,BDDG!$A$2:$F$100,2,FALSE))","v":0},{"$f":"IF(ISNA(VLOOKUP(C1070,BDDG!$A$3:$J$102,3,FALSE)),\"\",VLOOKUP(C1070,BDDG!$A$3:$J$102,3,FALSE))","v":"A"},{"$f":"IF(ISNA(VLOOKUP(C1070,BDDG!$A$3:$J$102,4,FALSE)),\"\",VLOOKUP(C1070,BDDG!$A$3:$J$102,4,FALSE))","v":106},{"$f":"IF(ISNA(VLOOKUP(C1070,BDDG!$A$2:$F$100,5,FALSE)),\"\",VLOOKUP(C1070,BDDG!$A$2:$F$100,5,FALSE))","v":"A3"},{"$f":"IF(ISNA(VLOOKUP(C1070,BDDG!$A$2:$F$100,6,FALSE)),\"\",VLOOKUP(C1070,BDDG!$A$2:$F$100,6,FALSE))","v":"AA5"},{"$f":"IF(ISERROR(VLOOKUP(C1070,BDDG!$A$2:$G$100,7,FALSE)),\"\",VLOOKUP(C1070,BDDG!$A$2:$G$100,7,FALSE))","v":1},{"$f":"IF(ISERROR(VLOOKUP(C1070,BDDG!$A$2:$H$100,8,FALSE)),\"\",VLOOKUP(C1070,BDDG!$A$2:$H$100,8,FALSE))","v":"BB5"},0.5,67.84,0.6367924528301887,{"$f":"IF(ISERROR(VLOOKUP(C1070,BDDG!$A$2:$I$100,9,FALSE)),\"\",VLOOKUP(C1070,BDDG!$A$2:$I$100,9,FALSE))","v":"CC5"},null,null,"",{"$f":"IF(ISERROR(VLOOKUP(C1070,BDDG!$A$2:$J$100,10,FALSE)),\"\",VLOOKUP(C1070,BDDG!$A$2:$J$100,10,FALSE))","v":"DD5"},null,null,"",0.6367924528301887,2,2016,{"$f":"IFERROR(INDEX($V$2:V1070,MATCH(H1070&MAX(IF($H$1:H1069=H1070,$A$1:A1069)),$H$2:H1070&$A$2:A1070,0))-V1070,\"\")","v":-0.4573438833302147}]
["2016-02-23","Couvert",866,{"$f":"IF(ISNA(VLOOKUP(C1071,BDDG!$A$2:$F$100,2,FALSE)),\"\",VLOOKUP(C1071,BDDG!$A$2:$F$100,2,FALSE))","v":0},{"$f":"IF(ISNA(VLOOKUP(C1071,BDDG!$A$3:$J$102,3,FALSE)),\"\",VLOOKUP(C1071,BDDG!$A$3:$J$102,3,FALSE))","v":"C"},{"$f":"IF(ISNA(VLOOKUP(C1071,BDDG!$A$3:$J$102,4,FALSE)),\"\",VLOOKUP(C1071,BDDG!$A$3:$J$102,4,FALSE))","v":108},{"$f":"IF(ISNA(VLOOKUP(C1071,BDDG!$A$2:$F$100,5,FALSE)),\"\",VLOOKUP(C1071,BDDG!$A$2:$F$100,5,FALSE))","v":"A17"},{"$f":"IF(ISNA(VLOOKUP(C1071,BDDG!$A$2:$F$100,6,FALSE)),\"\",VLOOKUP(C1071,BDDG!$A$2:$F$100,6,FALSE))","v":"AA42"},{"$f":"IF(ISERROR(VLOOKUP(C1071,BDDG!$A$2:$G$100,7,FALSE)),\"\",VLOOKUP(C1071,BDDG!$A$2:$G$100,7,FALSE))","v":1},{"$f":"IF(ISERROR(VLOOKUP(C1071,BDDG!$A$2:$H$100,8,FALSE)),\"\",VLOOKUP(C1071,BDDG!$A$2:$H$100,8,FALSE))","v":"BB42"},4,3,115.2,{"$f":"IF(ISERROR(VLOOKUP(C1071,BDDG!$A$2:$I$100,9,FALSE)),\"\",VLOOKUP(C1071,BDDG!$A$2:$I$100,9,FALSE))","v":"CC42"},null,null,"",{"$f":"IF(ISERROR(VLOOKUP(C1071,BDDG!$A$2:$J$100,10,FALSE)),\"\",VLOOKUP(C1071,BDDG!$A$2:$J$100,10,FALSE))","v":"DD42"},null,null,"",115.2,2,2016,{"$f":"IFERROR(INDEX($V$2:V1071,MATCH(H1071&MAX(IF($H$1:H1070=H1071,$A$1:A1070)),$H$2:H1071&$A$2:A1071,0))-V1071,\"\")","v":5.7599999999999909}]
["2016-02-23","Couvert",867,{"$f":"IF(ISNA(VLOOKUP(C1072,BDDG!$A$2:$F$100,2,FALSE)),\"\",VLOOKUP(C1072,BDDG!$A$2:$F$100,2,FALSE))","v":0},{"$f":"IF(ISNA(VLOOKUP(C1072,BDDG!$A$3:$J$102,3,FALSE)),\"\",VLOOKUP(C1072,BDDG!$A$3:$J$102,3,FALSE))","v":"C"},{"$f":"IF(ISNA(VLOOKUP(C1072,BDDG!$A$3:$J$102,4,FALSE)),\"\",VLOOKUP(C1072,BDDG!$A$3:$J$102,4,FALSE))","v":108},{"$f":"IF(ISNA(VLOOKUP(C1072,BDDG!$A$2:$F$100,5,FALSE)),\"\",VLOOKUP(C1072,BDDG!$A$2:$F$100,5,FALSE))","v":"A17"},{"$f":"IF(ISNA(VLOOKUP(C1072,BDDG!$A$2:$F$100,6,FALSE)),\"\",VLOOKUP(C1072,BDDG!$A$2:$F$100,6,FALSE))","v":"AA43"},{"$f":"IF(ISERROR(VLOOKUP(C1072,BDDG!$A$2:$G$100,7,FALSE)),\"\",VLOOKUP(C1072,BDDG!$A$2:$G$100,7,FALSE))","v":1},{"$f":"IF(ISERROR(VLOOKUP(C1072,BDDG!$A$2:$H$100,8,FALSE)),\"\",VLOOKUP(C1072,BDDG!$A$2:$H$100,8,FALSE))","v":"BB43"},5,12.1,35.702479338842977,{"$f":"IF(ISERROR(VLOOKUP(C1072,BDDG!$A$2:$I$100,9,FALSE)),\"\",VLOOKUP(C1072,BDDG!$A$2:$I$100,9,FALSE))","v":"CC43"},null,null,"",{"$f":"IF(ISERROR(VLOOKUP(C1072,BDDG!$A$2:$J$100,10,FALSE)),\"\",VLOOKUP(C1072,BDDG!$A$2:$J$100,10,FALSE))","v":"DD43"},null,null,"",35.702479338842977,2,2016,{"$f":"IFERROR(INDEX($V$2:V1072,MATCH(H1072&MAX(IF($H$1:H1071=H1072,$A$1:A1071)),$H$2:H1072&$A$2:A1072,0))-V1072,\"\")","v":0.84574401141083655}]
["2016-02-25","Pluie",878,{"$f":"IF(ISNA(VLOOKUP(C1073,BDDG!$A$2:$F$100,2,FALSE)),\"\",VLOOKUP(C1073,BDDG!$A$2:$F$100,2,FALSE))","v":0},{"$f":"IF(ISNA(VLOOKUP(C1073,BDDG!$A$3:$J$102,3,FALSE)),\"\",VLOOKUP(C1073,BDDG!$A$3:$J$102,3,FALSE))","v":"C"},{"$f":"IF(ISNA(VLOOKUP(C1073,BDDG!$A$3:$J$102,4,FALSE)),\"\",VLOOKUP(C1073,BDDG!$A$3:$J$102,4,FALSE))","v":108},{"$f":"IF(ISNA(VLOOKUP(C1073,BDDG!$A$2:$F$100,5,FALSE)),\"\",VLOOKUP(C1073,BDDG!$A$2:$F$100,5,FALSE))","v":"A19"},{"$f":"IF(ISNA(VLOOKUP(C1073,BDDG!$A$2:$F$100,6,FALSE)),\"\",VLOOKUP(C1073,BDDG!$A$2:$F$100,6,FALSE))","v":"AA52"},{"$f":"IF(ISERROR(VLOOKUP(C1073,BDDG!$A$2:$G$100,7,FALSE)),\"\",VLOOKUP(C1073,BDDG!$A$2:$G$100,7,FALSE))","v":1},{"$f":"IF(ISERROR(VLOOKUP(C1073,BDDG!$A$2:$H$100,8,FALSE)),\"\",VLOOKUP(C1073,BDDG!$A$2:$H$100,8,FALSE))","v":"BB52"},12,12.55,82.613545816733065,{"$f":"IF(ISERROR(VLOOKUP(C1073,BDDG!$A$2:$I$100,9,FALSE)),\"\",VLOOKUP(C1073,BDDG!$A$2:$I$100,9,FALSE))","v":"CC52"},null,null,"",{"$f":"IF(ISERROR(VLOOKUP(C1073,BDDG!$A$2:$J$100,10,FALSE)),\"\",VLOOKUP(C1073,BDDG!$A$2:$J$100,10,FALSE))","v":"DD52"},null,null,"",82.613545816733065,2,2016,{"$f":"IFERROR(INDEX($V$2:V1073,MATCH(H1073&MAX(IF($H$1:H1072=H1073,$A$1:A1072)),$H$2:H1073&$A$2:A1073,0))-V1073,\"\")","v":-63.960696075800421}]
["2016-02-25","Pluie",879,{"$f":"IF(ISNA(VLOOKUP(C1074,BDDG!$A$2:$F$100,2,FALSE)),\"\",VLOOKUP(C1074,BDDG!$A$2:$F$100,2,FALSE))","v":0},{"$f":"IF(ISNA(VLOOKUP(C1074,BDDG!$A$3:$J$102,3,FALSE)),\"\",VLOOKUP(C1074,BDDG!$A$3:$J$102,3,FALSE))","v":"C"},{"$f":"IF(ISNA(VLOOKUP(C1074,BDDG!$A$3:$J$102,4,FALSE)),\"\",VLOOKUP(C1074,BDDG!$A$3:$J$102,4,FALSE))","v":108},{"$f":"IF(ISNA(VLOOKUP(C1074,BDDG!$A$2:$F$100,5,FALSE)),\"\",VLOOKUP(C1074,BDDG!$A$2:$F$100,5,FALSE))","v":"A19"},{"$f":"IF(ISNA(VLOOKUP(C1074,BDDG!$A$2:$F$100,6,FALSE)),\"\",VLOOKUP(C1074,BDDG!$A$2:$F$100,6,FALSE))","v":"AA53"},{"$f":"IF(ISERROR(VLOOKUP(C1074,BDDG!$A$2:$G$100,7,FALSE)),\"\",VLOOKUP(C1074,BDDG!$A$2:$G$100,7,FALSE))","v":3},{"$f":"IF(ISERROR(VLOOKUP(C1074,BDDG!$A$2:$H$100,8,FALSE)),\"\",VLOOKUP(C1074,BDDG!$A$2:$H$100,8,FALSE))","v":"BB53"},12,3.2,324,{"$f":"IF(ISERROR(VLOOKUP(C1074,BDDG!$A$2:$I$100,9,FALSE)),\"\",VLOOKUP(C1074,BDDG!$A$2:$I$100,9,FALSE))","v":"CC53"},12,2.19,473.42465753424659,{"$f":"IF(ISERROR(VLOOKUP(C1074,BDDG!$A$2:$J$100,10,FALSE)),\"\",VLOOKUP(C1074,BDDG!$A$2:$J$100,10,FALSE))","v":"DD53"},12,19.5,53.169230769230772,850.59388830347734,2,2016,{"$f":"IFERROR(INDEX($V$2:V1074,MATCH(H1074&MAX(IF($H$1:H1073=H1074,$A$1:A1073)),$H$2:H1074&$A$2:A1074,0))-V1074,\"\")","v":-726.37979436758462}]
["2016-02-25","Pluie",880,{"$f":"IF(ISNA(VLOOKUP(C1075,BDDG!$A$2:$F$100,2,FALSE)),\"\",VLOOKUP(C1075,BDDG!$A$2:$F$100,2,FALSE))","v":0},{"$f":"IF(ISNA(VLOOKUP(C1075,BDDG!$A$3:$J$102,3,FALSE)),\"\",VLOOKUP(C1075,BDDG!$A$3:$J$102,3,FALSE))","v":"C"},{"$f":"IF(ISNA(VLOOKUP(C1075,BDDG!$A$3:$J$102,4,FALSE)),\"\",VLOOKUP(C1075,BDDG!$A$3:$J$102,4,FALSE))","v":108},{"$f":"IF(ISNA(VLOOKUP(C1075,BDDG!$A$2:$F$100,5,FALSE)),\"\",VLOOKUP(C1075,BDDG!$A$2:$F$100,5,FALSE))","v":"A19"},{"$f":"IF(ISNA(VLOOKUP(C1075,BDDG!$A$2:$F$100,6,FALSE)),\"\",VLOOKUP(C1075,BDDG!$A$2:$F$100,6,FALSE))","v":"AA54"},{"$f":"IF(ISERROR(VLOOKUP(C1075,BDDG!$A$2:$G$100,7,FALSE)),\"\",VLOOKUP(C1075,BDDG!$A$2:$G$100,7,FALSE))","v":2},{"$f":"IF(ISERROR(VLOOKUP(C1075,BDDG!$A$2:$H$100,8,FALSE)),\"\",VLOOKUP(C1075,BDDG!$A$2:$H$100,8,FALSE))","v":"BB54"},12,1.6,648,{"$f":"IF(ISERROR(VLOOKUP(C1075,BDDG!$A$2:$I$100,9,FALSE)),\"\",VLOOKUP(C1075,BDDG!$A$2:$I$100,9,FALSE))","v":"CC54"},5,1.45,297.93103448275866,{"$f":"IF(ISERROR(VLOOKUP(C1075,BDDG!$A$2:$J$100,10,FALSE)),\"\",VLOOKUP(C1075,BDDG!$A$2:$J$100,10,FALSE))","v":"DD54"},null,null,"",945.93103448275861,2,2016,{"$f":"IFERROR(INDEX($V$2:V1075,MATCH(H1075&MAX(IF($H$1:H1074=H1075,$A$1:A1074)),$H$2:H1075&$A$2:A1075,0))-V1075,\"\")","v":-774.48753767850985}]
["2016-03-01","Froid",856,{"$f":"IF(ISNA(VLOOKUP(C1076,BDDG!$A$2:$F$100,2,FALSE)),\"\",VLOOKUP(C1076,BDDG!$A$2:$F$100,2,FALSE))","v":0},{"$f":"IF(ISNA(VLOOKUP(C1076,BDDG!$A$3:$J$102,3,FALSE)),\"\",VLOOKUP(C1076,BDDG!$A$3:$J$102,3,FALSE))","v":"A"},{"$f":"IF(ISNA(VLOOKUP(C1076,BDDG!$A$3:$J$102,4,FALSE)),\"\",VLOOKUP(C1076,BDDG!$A$3:$J$102,4,FALSE))","v":106},{"$f":"IF(ISNA(VLOOKUP(C1076,BDDG!$A$2:$F$100,5,FALSE)),\"\",VLOOKUP(C1076,BDDG!$A$2:$F$100,5,FALSE))","v":"A9"},{"$f":"IF(ISNA(VLOOKUP(C1076,BDDG!$A$2:$F$100,6,FALSE)),\"\",VLOOKUP(C1076,BDDG!$A$2:$F$100,6,FALSE))","v":"AA27"},{"$f":"IF(ISERROR(VLOOKUP(C1076,BDDG!$A$2:$G$100,7,FALSE)),\"\",VLOOKUP(C1076,BDDG!$A$2:$G$100,7,FALSE))","v":2},{"$f":"IF(ISERROR(VLOOKUP(C1076,BDDG!$A$2:$H$100,8,FALSE)),\"\",VLOOKUP(C1076,BDDG!$A$2:$H$100,8,FALSE))","v":"BB27"},12,14.72,70.434782608695656,{"$f":"IF(ISERROR(VLOOKUP(C1076,BDDG!$A$2:$I$100,9,FALSE)),\"\",VLOOKUP(C1076,BDDG!$A$2:$I$100,9,FALSE))","v":"CC27"},12,1.48,700.54054054054063,{"$f":"IF(ISERROR(VLOOKUP(C1076,BDDG!$A$2:$J$100,10,FALSE)),\"\",VLOOKUP(C1076,BDDG!$A$2:$J$100,10,FALSE))","v":"DD27"},null,null,"",770.97532314923626,3,2016,{"$f":"IFERROR(INDEX($V$2:V1076,MATCH(H1076&MAX(IF($H$1:H1075=H1076,$A$1:A1075)),$H$2:H1076&$A$2:A1076,0))-V1076,\"\")","v":-326.47532314923626}]
["2016-03-01","Froid",855,{"$f":"IF(ISNA(VLOOKUP(C1077,BDDG!$A$2:$F$100,2,FALSE)),\"\",VLOOKUP(C1077,BDDG!$A$2:$F$100,2,FALSE))","v":0},{"$f":"IF(ISNA(VLOOKUP(C1077,BDDG!$A$3:$J$102,3,FALSE)),\"\",VLOOKUP(C1077,BDDG!$A$3:$J$102,3,FALSE))","v":"A"},{"$f":"IF(ISNA(VLOOKUP(C1077,BDDG!$A$3:$J$102,4,FALSE)),\"\",VLOOKUP(C1077,BDDG!$A$3:$J$102,4,FALSE))","v":106},{"$f":"IF(ISNA(VLOOKUP(C1077,BDDG!$A$2:$F$100,5,FALSE)),\"\",VLOOKUP(C1077,BDDG!$A$2:$F$100,5,FALSE))","v":"A9"},{"$f":"IF(ISNA(VLOOKUP(C1077,BDDG!$A$2:$F$100,6,FALSE)),\"\",VLOOKUP(C1077,BDDG!$A$2:$F$100,6,FALSE))","v":"AA26"},{"$f":"IF(ISERROR(VLOOKUP(C1077,BDDG!$A$2:$G$100,7,FALSE)),\"\",VLOOKUP(C1077,BDDG!$A$2:$G$100,7,FALSE))","v":2},{"$f":"IF(ISERROR(VLOOKUP(C1077,BDDG!$A$2:$H$100,8,FALSE)),\"\",VLOOKUP(C1077,BDDG!$A$2:$H$100,8,FALSE))","v":"BB26"},12,2.68,386.86567164179104,{"$f":"IF(ISERROR(VLOOKUP(C1077,BDDG!$A$2:$I$100,9,FALSE)),\"\",VLOOKUP(C1077,BDDG!$A$2:$I$100,9,FALSE))","v":"CC26"},12,7.63,135.88466579292268,{"$f":"IF(ISERROR(VLOOKUP(C1077,BDDG!$A$2:$J$100,10,FALSE)),\"\",VLOOKUP(C1077,BDDG!$A$2:$J$100,10,FALSE))","v":"DD26"},null,null,"",522.75033743471374,3,2016,{"$f":"IFERROR(INDEX($V$2:V1077,MATCH(H1077&MAX(IF($H$1:H1076=H1077,$A$1:A1076)),$H$2:H1077&$A$2:A1077,0))-V1077,\"\")","v":-345.15033743471372}]
["2016-03-01","Froid",854,{"$f":"IF(ISNA(VLOOKUP(C1078,BDDG!$A$2:$F$100,2,FALSE)),\"\",VLOOKUP(C1078,BDDG!$A$2:$F$100,2,FALSE))","v":0},{"$f":"IF(ISNA(VLOOKUP(C1078,BDDG!$A$3:$J$102,3,FALSE)),\"\",VLOOKUP(C1078,BDDG!$A$3:$J$102,3,FALSE))","v":"A"},{"$f":"IF(ISNA(VLOOKUP(C1078,BDDG!$A$3:$J$102,4,FALSE)),\"\",VLOOKUP(C1078,BDDG!$A$3:$J$102,4,FALSE))","v":106},{"$f":"IF(ISNA(VLOOKUP(C1078,BDDG!$A$2:$F$100,5,FALSE)),\"\",VLOOKUP(C1078,BDDG!$A$2:$F$100,5,FALSE))","v":"A9"},{"$f":"IF(ISNA(VLOOKUP(C1078,BDDG!$A$2:$F$100,6,FALSE)),\"\",VLOOKUP(C1078,BDDG!$A$2:$F$100,6,FALSE))","v":"AA25"},{"$f":"IF(ISERROR(VLOOKUP(C1078,BDDG!$A$2:$G$100,7,FALSE)),\"\",VLOOKUP(C1078,BDDG!$A$2:$G$100,7,FALSE))","v":2},{"$f":"IF(ISERROR(VLOOKUP(C1078,BDDG!$A$2:$H$100,8,FALSE)),\"\",VLOOKUP(C1078,BDDG!$A$2:$H$100,8,FALSE))","v":"BB25"},12,1.33,779.54887218045121,{"$f":"IF(ISERROR(VLOOKUP(C1078,BDDG!$A$2:$I$100,9,FALSE)),\"\",VLOOKUP(C1078,BDDG!$A$2:$I$100,9,FALSE))","v":"CC25"},null,null,"",{"$f":"IF(ISERROR(VLOOKUP(C1078,BDDG!$A$2:$J$100,10,FALSE)),\"\",VLOOKUP(C1078,BDDG!$A$2:$J$100,10,FALSE))","v":"DD25"},null,null,"",779.54887218045121,3,2016,{"$f":"IFERROR(INDEX($V$2:V1078,MATCH(H1078&MAX(IF($H$1:H1077=H1078,$A$1:A1077)),$H$2:H1078&$A$2:A1078,0))-V1078,\"\")","v":-459.54887218045121}]
["2016-03-03","Couvert",859,{"$f":"IF(ISNA(VLOOKUP(C1079,BDDG!$A$2:$F$100,2,FALSE)),\"\",VLOOKUP(C1079,BDDG!$A$2:$F$100,2,FALSE))","v":0},{"$f":"IF(ISNA(VLOOKUP(C1079,BDDG!$A$3:$J$102,3,FALSE)),\"\",VLOOKUP(C1079,BDDG!$A$3:$J$102,3,FALSE))","v":"A"},{"$f":"IF(ISNA(VLOOKUP(C1079,BDDG!$A$3:$J$102,4,FALSE)),\"\",VLOOKUP(C1079,BDDG!$A$3:$J$102,4,FALSE))","v":106},{"$f":"IF(ISNA(VLOOKUP(C1079,BDDG!$A$2:$F$100,5,FALSE)),\"\",VLOOKUP(C1079,BDDG!$A$2:$F$100,5,FALSE))","v":"A10"},{"$f":"IF(ISNA(VLOOKUP(C1079,BDDG!$A$2:$F$100,6,FALSE)),\"\",VLOOKUP(C1079,BDDG!$A$2:$F$100,6,FALSE))","v":"AA30"},{"$f":"IF(ISERROR(VLOOKUP(C1079,BDDG!$A$2:$G$100,7,FALSE)),\"\",VLOOKUP(C1079,BDDG!$A$2:$G$100,7,FALSE))","v":1},{"$f":"IF(ISERROR(VLOOKUP(C1079,BDDG!$A$2:$H$100,8,FALSE)),\"\",VLOOKUP(C1079,BDDG!$A$2:$H$100,8,FALSE))","v":"BB30"},5,93,4.645161290322581,{"$f":"IF(ISERROR(VLOOKUP(C1079,BDDG!$A$2:$I$100,9,FALSE)),\"\",VLOOKUP(C1079,BDDG!$A$2:$I$100,9,FALSE))","v":"CC30"},null,null,"",{"$f":"IF(ISERROR(VLOOKUP(C1079,BDDG!$A$2:$J$100,10,FALSE)),\"\",VLOOKUP(C1079,BDDG!$A$2:$J$100,10,FALSE))","v":"DD30"},null,null,{"$f":" IF(ISERROR(S1079/T1079*86.4),\"\",S1079/T1079*86.4)","v":""},4.645161290322581,3,2016,{"$f":"IFERROR(INDEX($V$2:V1079,MATCH(H1079&MAX(IF($H$1:H1078=H1079,$A$1:A1078)),$H$2:H1079&$A$2:A1079,0))-V1079,\"\")","v":-1.2355322453344195}]
["2016-03-03","Couvert",815,{"$f":"IF(ISNA(VLOOKUP(C1080,BDDG!$A$2:$F$100,2,FALSE)),\"\",VLOOKUP(C1080,BDDG!$A$2:$F$100,2,FALSE))","v":0},{"$f":"IF(ISNA(VLOOKUP(C1080,BDDG!$A$3:$J$102,3,FALSE)),\"\",VLOOKUP(C1080,BDDG!$A$3:$J$102,3,FALSE))","v":"A"},{"$f":"IF(ISNA(VLOOKUP(C1080,BDDG!$A$3:$J$102,4,FALSE)),\"\",VLOOKUP(C1080,BDDG!$A$3:$J$102,4,FALSE))","v":106},{"$f":"IF(ISNA(VLOOKUP(C1080,BDDG!$A$2:$F$100,5,FALSE)),\"\",VLOOKUP(C1080,BDDG!$A$2:$F$100,5,FALSE))","v":"A10"},{"$f":"IF(ISNA(VLOOKUP(C1080,BDDG!$A$2:$F$100,6,FALSE)),\"\",VLOOKUP(C1080,BDDG!$A$2:$F$100,6,FALSE))","v":"AA31"},{"$f":"IF(ISERROR(VLOOKUP(C1080,BDDG!$A$2:$G$100,7,FALSE)),\"\",VLOOKUP(C1080,BDDG!$A$2:$G$100,7,FALSE))","v":1},{"$f":"IF(ISERROR(VLOOKUP(C1080,BDDG!$A$2:$H$100,8,FALSE)),\"\",VLOOKUP(C1080,BDDG!$A$2:$H$100,8,FALSE))","v":"BB31"},5,50,8.64,{"$f":"IF(ISERROR(VLOOKUP(C1080,BDDG!$A$2:$I$100,9,FALSE)),\"\",VLOOKUP(C1080,BDDG!$A$2:$I$100,9,FALSE))","v":"CC31"},null,null,"",{"$f":"IF(ISERROR(VLOOKUP(C1080,BDDG!$A$2:$J$100,10,FALSE)),\"\",VLOOKUP(C1080,BDDG!$A$2:$J$100,10,FALSE))","v":"DD31"},null,null,"",8.64,3,2016,{"$f":"IFERROR(INDEX($V$2:V1080,MATCH(H1080&MAX(IF($H$1:H1079=H1080,$A$1:A1079)),$H$2:H1080&$A$2:A1080,0))-V1080,\"\")","v":-4.494126679462572}]
["2016-03-08","Neige",839,{"$f":"IF(ISNA(VLOOKUP(C1081,BDDG!$A$2:$F$100,2,FALSE)),\"\",VLOOKUP(C1081,BDDG!$A$2:$F$100,2,FALSE))","v":0},{"$f":"IF(ISNA(VLOOKUP(C1081,BDDG!$A$3:$J$102,3,FALSE)),\"\",VLOOKUP(C1081,BDDG!$A$3:$J$102,3,FALSE))","v":"A"},{"$f":"IF(ISNA(VLOOKUP(C1081,BDDG!$A$3:$J$102,4,FALSE)),\"\",VLOOKUP(C1081,BDDG!$A$3:$J$102,4,FALSE))","v":106},{"$f":"IF(ISNA(VLOOKUP(C1081,BDDG!$A$2:$F$100,5,FALSE)),\"\",VLOOKUP(C1081,BDDG!$A$2:$F$100,5,FALSE))","v":"A3"},{"$f":"IF(ISNA(VLOOKUP(C1081,BDDG!$A$2:$F$100,6,FALSE)),\"\",VLOOKUP(C1081,BDDG!$A$2:$F$100,6,FALSE))","v":"AA10"},{"$f":"IF(ISERROR(VLOOKUP(C1081,BDDG!$A$2:$G$100,7,FALSE)),\"\",VLOOKUP(C1081,BDDG!$A$2:$G$100,7,FALSE))","v":2},{"$f":"IF(ISERROR(VLOOKUP(C1081,BDDG!$A$2:$H$100,8,FALSE)),\"\",VLOOKUP(C1081,BDDG!$A$2:$H$100,8,FALSE))","v":"BB10"},5,2.1,205.71428571428572,{"$f":"IF(ISERROR(VLOOKUP(C1081,BDDG!$A$2:$I$100,9,FALSE)),\"\",VLOOKUP(C1081,BDDG!$A$2:$I$100,9,FALSE))","v":"CC10"},2,7.87,21.956797966963155,{"$f":"IF(ISERROR(VLOOKUP(C1081,BDDG!$A$2:$J$100,10,FALSE)),\"\",VLOOKUP(C1081,BDDG!$A$2:$J$100,10,FALSE))","v":"DD10"},null,null,"",227.67108368124889,3,2016,{"$f":"IFERROR(INDEX($V$2:V1081,MATCH(H1081&MAX(IF($H$1:H1080=H1081,$A$1:A1080)),$H$2:H1081&$A$2:A1081,0))-V1081,\"\")","v":-209.01174119858501}]
["2016-03-08","Neige",859,{"$f":"IF(ISNA(VLOOKUP(C1082,BDDG!$A$2:$F$100,2,FALSE)),\"\",VLOOKUP(C1082,BDDG!$A$2:$F$100,2,FALSE))","v":0},{"$f":"IF(ISNA(VLOOKUP(C1082,BDDG!$A$3:$J$102,3,FALSE)),\"\",VLOOKUP(C1082,BDDG!$A$3:$J$102,3,FALSE))","v":"A"},{"$f":"IF(ISNA(VLOOKUP(C1082,BDDG!$A$3:$J$102,4,FALSE)),\"\",VLOOKUP(C1082,BDDG!$A$3:$J$102,4,FALSE))","v":106},{"$f":"IF(ISNA(VLOOKUP(C1082,BDDG!$A$2:$F$100,5,FALSE)),\"\",VLOOKUP(C1082,BDDG!$A$2:$F$100,5,FALSE))","v":"A10"},{"$f":"IF(ISNA(VLOOKUP(C1082,BDDG!$A$2:$F$100,6,FALSE)),\"\",VLOOKUP(C1082,BDDG!$A$2:$F$100,6,FALSE))","v":"AA30"},{"$f":"IF(ISERROR(VLOOKUP(C1082,BDDG!$A$2:$G$100,7,FALSE)),\"\",VLOOKUP(C1082,BDDG!$A$2:$G$100,7,FALSE))","v":1},{"$f":"IF(ISERROR(VLOOKUP(C1082,BDDG!$A$2:$H$100,8,FALSE)),\"\",VLOOKUP(C1082,BDDG!$A$2:$H$100,8,FALSE))","v":"BB30"},5,66.91,6.4564340158421771,{"$f":"IF(ISERROR(VLOOKUP(C1082,BDDG!$A$2:$I$100,9,FALSE)),\"\",VLOOKUP(C1082,BDDG!$A$2:$I$100,9,FALSE))","v":"CC30"},null,null,"",{"$f":"IF(ISERROR(VLOOKUP(C1082,BDDG!$A$2:$J$100,10,FALSE)),\"\",VLOOKUP(C1082,BDDG!$A$2:$J$100,10,FALSE))","v":"DD30"},null,null,"",6.4564340158421771,3,2016,{"$f":"IFERROR(INDEX($V$2:V1082,MATCH(H1082&MAX(IF($H$1:H1081=H1082,$A$1:A1081)),$H$2:H1082&$A$2:A1082,0))-V1082,\"\")","v":-1.8112727255195962}]
["2016-03-08","Neige",815,{"$f":"IF(ISNA(VLOOKUP(C1083,BDDG!$A$2:$F$100,2,FALSE)),\"\",VLOOKUP(C1083,BDDG!$A$2:$F$100,2,FALSE))","v":0},{"$f":"IF(ISNA(VLOOKUP(C1083,BDDG!$A$3:$J$102,3,FALSE)),\"\",VLOOKUP(C1083,BDDG!$A$3:$J$102,3,FALSE))","v":"A"},{"$f":"IF(ISNA(VLOOKUP(C1083,BDDG!$A$3:$J$102,4,FALSE)),\"\",VLOOKUP(C1083,BDDG!$A$3:$J$102,4,FALSE))","v":106},{"$f":"IF(ISNA(VLOOKUP(C1083,BDDG!$A$2:$F$100,5,FALSE)),\"\",VLOOKUP(C1083,BDDG!$A$2:$F$100,5,FALSE))","v":"A10"},{"$f":"IF(ISNA(VLOOKUP(C1083,BDDG!$A$2:$F$100,6,FALSE)),\"\",VLOOKUP(C1083,BDDG!$A$2:$F$100,6,FALSE))","v":"AA31"},{"$f":"IF(ISERROR(VLOOKUP(C1083,BDDG!$A$2:$G$100,7,FALSE)),\"\",VLOOKUP(C1083,BDDG!$A$2:$G$100,7,FALSE))","v":1},{"$f":"IF(ISERROR(VLOOKUP(C1083,BDDG!$A$2:$H$100,8,FALSE)),\"\",VLOOKUP(C1083,BDDG!$A$2:$H$100,8,FALSE))","v":"BB31"},5,41.06,10.521188504627375,{"$f":"IF(ISERROR(VLOOKUP(C1083,BDDG!$A$2:$I$100,9,FALSE)),\"\",VLOOKUP(C1083,BDDG!$A$2:$I$100,9,FALSE))","v":"CC31"},null,null,"",{"$f":"IF(ISERROR(VLOOKUP(C1083,BDDG!$A$2:$J$100,10,FALSE)),\"\",VLOOKUP(C1083,BDDG!$A$2:$J$100,10,FALSE))","v":"DD31"},null,null,"",10.521188504627375,3,2016,{"$f":"IFERROR(INDEX($V$2:V1083,MATCH(H1083&MAX(IF($H$1:H1082=H1083,$A$1:A1082)),$H$2:H1083&$A$2:A1083,0))-V1083,\"\")","v":-1.8811885046273744}]
["2016-03-09","Neige",836,{"$f":"IF(ISNA(VLOOKUP(C1084,BDDG!$A$2:$F$100,2,FALSE)),\"\",VLOOKUP(C1084,BDDG!$A$2:$F$100,2,FALSE))","v":0},{"$f":"IF(ISNA(VLOOKUP(C1084,BDDG!$A$3:$J$102,3,FALSE)),\"\",VLOOKUP(C1084,BDDG!$A$3:$J$102,3,FALSE))","v":"A"},{"$f":"IF(ISNA(VLOOKUP(C1084,BDDG!$A$3:$J$102,4,FALSE)),\"\",VLOOKUP(C1084,BDDG!$A$3:$J$102,4,FALSE))","v":106},{"$f":"IF(ISNA(VLOOKUP(C1084,BDDG!$A$2:$F$100,5,FALSE)),\"\",VLOOKUP(C1084,BDDG!$A$2:$F$100,5,FALSE))","v":"A3"},{"$f":"IF(ISNA(VLOOKUP(C1084,BDDG!$A$2:$F$100,6,FALSE)),\"\",VLOOKUP(C1084,BDDG!$A$2:$F$100,6,FALSE))","v":"AA6"},{"$f":"IF(ISERROR(VLOOKUP(C1084,BDDG!$A$2:$G$100,7,FALSE)),\"\",VLOOKUP(C1084,BDDG!$A$2:$G$100,7,FALSE))","v":1},{"$f":"IF(ISERROR(VLOOKUP(C1084,BDDG!$A$2:$H$100,8,FALSE)),\"\",VLOOKUP(C1084,BDDG!$A$2:$H$100,8,FALSE))","v":"BB6"},5,3.53,122.37960339943345,{"$f":"IF(ISERROR(VLOOKUP(C1084,BDDG!$A$2:$I$100,9,FALSE)),\"\",VLOOKUP(C1084,BDDG!$A$2:$I$100,9,FALSE))","v":"CC6"},null,null,"",{"$f":"IF(ISERROR(VLOOKUP(C1084,BDDG!$A$2:$J$100,10,FALSE)),\"\",VLOOKUP(C1084,BDDG!$A$2:$J$100,10,FALSE))","v":"DD6"},null,null,"",122.37960339943345,3,2016,{"$f":"IFERROR(INDEX($V$2:V1084,MATCH(H1084&MAX(IF($H$1:H1083=H1084,$A$1:A1083)),$H$2:H1084&$A$2:A1084,0))-V1084,\"\")","v":-85.613645952624935}]
["2016-03-15","Soleil",832,{"$f":"IF(ISNA(VLOOKUP(C1085,BDDG!$A$2:$F$100,2,FALSE)),\"\",VLOOKUP(C1085,BDDG!$A$2:$F$100,2,FALSE))","v":0},{"$f":"IF(ISNA(VLOOKUP(C1085,BDDG!$A$3:$J$102,3,FALSE)),\"\",VLOOKUP(C1085,BDDG!$A$3:$J$102,3,FALSE))","v":"A"},{"$f":"IF(ISNA(VLOOKUP(C1085,BDDG!$A$3:$J$102,4,FALSE)),\"\",VLOOKUP(C1085,BDDG!$A$3:$J$102,4,FALSE))","v":106},{"$f":"IF(ISNA(VLOOKUP(C1085,BDDG!$A$2:$F$100,5,FALSE)),\"\",VLOOKUP(C1085,BDDG!$A$2:$F$100,5,FALSE))","v":"A2"},{"$f":"IF(ISNA(VLOOKUP(C1085,BDDG!$A$2:$F$100,6,FALSE)),\"\",VLOOKUP(C1085,BDDG!$A$2:$F$100,6,FALSE))","v":"AA2"},{"$f":"IF(ISERROR(VLOOKUP(C1085,BDDG!$A$2:$G$100,7,FALSE)),\"\",VLOOKUP(C1085,BDDG!$A$2:$G$100,7,FALSE))","v":1},{"$f":"IF(ISERROR(VLOOKUP(C1085,BDDG!$A$2:$H$100,8,FALSE)),\"\",VLOOKUP(C1085,BDDG!$A$2:$H$100,8,FALSE))","v":"BB2"},5,9.5,{"$f":" IF(ISERROR(K1085/L1085*86.4),\"\",K1085/L1085*86.4)","v":45.473684210526315},{"$f":"IF(ISERROR(VLOOKUP(C1085,BDDG!$A$2:$I$100,9,FALSE)),\"\",VLOOKUP(C1085,BDDG!$A$2:$I$100,9,FALSE))","v":"CC2"},null,null,"",{"$f":"IF(ISERROR(VLOOKUP(C1085,BDDG!$A$2:$J$100,10,FALSE)),\"\",VLOOKUP(C1085,BDDG!$A$2:$J$100,10,FALSE))","v":"DD2"},null,null,"",45.473684210526315,3,2016,{"$f":"IFERROR(INDEX($V$2:V1085,MATCH(H1085&MAX(IF($H$1:H1084=H1085,$A$1:A1084)),$H$2:H1085&$A$2:A1085,0))-V1085,\"\")","v":-39.029770129380729}]
["2016-03-15","Soleil",833,{"$f":"IF(ISNA(VLOOKUP(C1086,BDDG!$A$2:$F$100,2,FALSE)),\"\",VLOOKUP(C1086,BDDG!$A$2:$F$100,2,FALSE))","v":0},{"$f":"IF(ISNA(VLOOKUP(C1086,BDDG!$A$3:$J$102,3,FALSE)),\"\",VLOOKUP(C1086,BDDG!$A$3:$J$102,3,FALSE))","v":"A"},{"$f":"IF(ISNA(VLOOKUP(C1086,BDDG!$A$3:$J$102,4,FALSE)),\"\",VLOOKUP(C1086,BDDG!$A$3:$J$102,4,FALSE))","v":106},{"$f":"IF(ISNA(VLOOKUP(C1086,BDDG!$A$2:$F$100,5,FALSE)),\"\",VLOOKUP(C1086,BDDG!$A$2:$F$100,5,FALSE))","v":"A2"},{"$f":"IF(ISNA(VLOOKUP(C1086,BDDG!$A$2:$F$100,6,FALSE)),\"\",VLOOKUP(C1086,BDDG!$A$2:$F$100,6,FALSE))","v":"AA3"},{"$f":"IF(ISERROR(VLOOKUP(C1086,BDDG!$A$2:$G$100,7,FALSE)),\"\",VLOOKUP(C1086,BDDG!$A$2:$G$100,7,FALSE))","v":1},{"$f":"IF(ISERROR(VLOOKUP(C1086,BDDG!$A$2:$H$100,8,FALSE)),\"\",VLOOKUP(C1086,BDDG!$A$2:$H$100,8,FALSE))","v":"BB3"},5,8.25,52.363636363636367,{"$f":"IF(ISERROR(VLOOKUP(C1086,BDDG!$A$2:$I$100,9,FALSE)),\"\",VLOOKUP(C1086,BDDG!$A$2:$I$100,9,FALSE))","v":"CC3"},null,null,"",{"$f":"IF(ISERROR(VLOOKUP(C1086,BDDG!$A$2:$J$100,10,FALSE)),\"\",VLOOKUP(C1086,BDDG!$A$2:$J$100,10,FALSE))","v":"DD3"},null,null,"",52.363636363636367,3,2016,{"$f":"IFERROR(INDEX($V$2:V1086,MATCH(H1086&MAX(IF($H$1:H1085=H1086,$A$1:A1085)),$H$2:H1086&$A$2:A1086,0))-V1086,\"\")","v":-25.925447869144321}]
["2016-03-15","Soleil",834,{"$f":"IF(ISNA(VLOOKUP(C1087,BDDG!$A$2:$F$100,2,FALSE)),\"\",VLOOKUP(C1087,BDDG!$A$2:$F$100,2,FALSE))","v":0},{"$f":"IF(ISNA(VLOOKUP(C1087,BDDG!$A$3:$J$102,3,FALSE)),\"\",VLOOKUP(C1087,BDDG!$A$3:$J$102,3,FALSE))","v":"A"},{"$f":"IF(ISNA(VLOOKUP(C1087,BDDG!$A$3:$J$102,4,FALSE)),\"\",VLOOKUP(C1087,BDDG!$A$3:$J$102,4,FALSE))","v":106},{"$f":"IF(ISNA(VLOOKUP(C1087,BDDG!$A$2:$F$100,5,FALSE)),\"\",VLOOKUP(C1087,BDDG!$A$2:$F$100,5,FALSE))","v":"A2"},{"$f":"IF(ISNA(VLOOKUP(C1087,BDDG!$A$2:$F$100,6,FALSE)),\"\",VLOOKUP(C1087,BDDG!$A$2:$F$100,6,FALSE))","v":"AA4"},{"$f":"IF(ISERROR(VLOOKUP(C1087,BDDG!$A$2:$G$100,7,FALSE)),\"\",VLOOKUP(C1087,BDDG!$A$2:$G$100,7,FALSE))","v":1},{"$f":"IF(ISERROR(VLOOKUP(C1087,BDDG!$A$2:$H$100,8,FALSE)),\"\",VLOOKUP(C1087,BDDG!$A$2:$H$100,8,FALSE))","v":"BB4"},5,15.9,27.169811320754718,{"$f":"IF(ISERROR(VLOOKUP(C1087,BDDG!$A$2:$I$100,9,FALSE)),\"\",VLOOKUP(C1087,BDDG!$A$2:$I$100,9,FALSE))","v":"CC4"},null,null,"",{"$f":"IF(ISERROR(VLOOKUP(C1087,BDDG!$A$2:$J$100,10,FALSE)),\"\",VLOOKUP(C1087,BDDG!$A$2:$J$100,10,FALSE))","v":"DD4"},null,null,"",27.169811320754718,3,2016,{"$f":"IFERROR(INDEX($V$2:V1087,MATCH(H1087&MAX(IF($H$1:H1086=H1087,$A$1:A1086)),$H$2:H1087&$A$2:A1087,0))-V1087,\"\")","v":-12.242375246117536}]
["2016-03-15","Soleil",842,{"$f":"IF(ISNA(VLOOKUP(C1088,BDDG!$A$2:$F$100,2,FALSE)),\"\",VLOOKUP(C1088,BDDG!$A$2:$F$100,2,FALSE))","v":0},{"$f":"IF(ISNA(VLOOKUP(C1088,BDDG!$A$3:$J$102,3,FALSE)),\"\",VLOOKUP(C1088,BDDG!$A$3:$J$102,3,FALSE))","v":"B"},{"$f":"IF(ISNA(VLOOKUP(C1088,BDDG!$A$3:$J$102,4,FALSE)),\"\",VLOOKUP(C1088,BDDG!$A$3:$J$102,4,FALSE))","v":106},{"$f":"IF(ISNA(VLOOKUP(C1088,BDDG!$A$2:$F$100,5,FALSE)),\"\",VLOOKUP(C1088,BDDG!$A$2:$F$100,5,FALSE))","v":"A5"},{"$f":"IF(ISNA(VLOOKUP(C1088,BDDG!$A$2:$F$100,6,FALSE)),\"\",VLOOKUP(C1088,BDDG!$A$2:$F$100,6,FALSE))","v":"AA13"},{"$f":"IF(ISERROR(VLOOKUP(C1088,BDDG!$A$2:$G$100,7,FALSE)),\"\",VLOOKUP(C1088,BDDG!$A$2:$G$100,7,FALSE))","v":1},{"$f":"IF(ISERROR(VLOOKUP(C1088,BDDG!$A$2:$H$100,8,FALSE)),\"\",VLOOKUP(C1088,BDDG!$A$2:$H$100,8,FALSE))","v":"BB13"},5,14.15,30.53003533568905,{"$f":"IF(ISERROR(VLOOKUP(C1088,BDDG!$A$2:$I$100,9,FALSE)),\"\",VLOOKUP(C1088,BDDG!$A$2:$I$100,9,FALSE))","v":"CC13"},null,null,"",{"$f":"IF(ISERROR(VLOOKUP(C1088,BDDG!$A$2:$J$100,10,FALSE)),\"\",VLOOKUP(C1088,BDDG!$A$2:$J$100,10,FALSE))","v":"DD13"},null,null,"",30.53003533568905,3,2016,{"$f":"IFERROR(INDEX($V$2:V1088,MATCH(H1088&MAX(IF($H$1:H1087=H1088,$A$1:A1087)),$H$2:H1088&$A$2:A1088,0))-V1088,\"\")","v":-19.019243968782575}]
["2016-03-15","Soleil",849,{"$f":"IF(ISNA(VLOOKUP(C1089,BDDG!$A$2:$F$100,2,FALSE)),\"\",VLOOKUP(C1089,BDDG!$A$2:$F$100,2,FALSE))","v":0},{"$f":"IF(ISNA(VLOOKUP(C1089,BDDG!$A$3:$J$102,3,FALSE)),\"\",VLOOKUP(C1089,BDDG!$A$3:$J$102,3,FALSE))","v":"B"},{"$f":"IF(ISNA(VLOOKUP(C1089,BDDG!$A$3:$J$102,4,FALSE)),\"\",VLOOKUP(C1089,BDDG!$A$3:$J$102,4,FALSE))","v":106},{"$f":"IF(ISNA(VLOOKUP(C1089,BDDG!$A$2:$F$100,5,FALSE)),\"\",VLOOKUP(C1089,BDDG!$A$2:$F$100,5,FALSE))","v":"A7"},{"$f":"IF(ISNA(VLOOKUP(C1089,BDDG!$A$2:$F$100,6,FALSE)),\"\",VLOOKUP(C1089,BDDG!$A$2:$F$100,6,FALSE))","v":"AA15"},{"$f":"IF(ISERROR(VLOOKUP(C1089,BDDG!$A$2:$G$100,7,FALSE)),\"\",VLOOKUP(C1089,BDDG!$A$2:$G$100,7,FALSE))","v":2},{"$f":"IF(ISERROR(VLOOKUP(C1089,BDDG!$A$2:$H$100,8,FALSE)),\"\",VLOOKUP(C1089,BDDG!$A$2:$H$100,8,FALSE))","v":"BB15"},5,14.8,29.189189189189189,{"$f":"IF(ISERROR(VLOOKUP(C1089,BDDG!$A$2:$I$100,9,FALSE)),\"\",VLOOKUP(C1089,BDDG!$A$2:$I$100,9,FALSE))","v":"CC15"},5,3.84,112.50000000000001,{"$f":"IF(ISERROR(VLOOKUP(C1089,BDDG!$A$2:$J$100,10,FALSE)),\"\",VLOOKUP(C1089,BDDG!$A$2:$J$100,10,FALSE))","v":"DD15"},null,null,"",141.68918918918919,3,2016,{"$f":"IFERROR(INDEX($V$2:V1089,MATCH(H1089&MAX(IF($H$1:H1088=H1089,$A$1:A1088)),$H$2:H1089&$A$2:A1089,0))-V1089,\"\")","v":-108.38125712052187}]
["2016-03-15","Soleil",845,{"$f":"IF(ISNA(VLOOKUP(C1090,BDDG!$A$2:$F$100,2,FALSE)),\"\",VLOOKUP(C1090,BDDG!$A$2:$F$100,2,FALSE))","v":0},{"$f":"IF(ISNA(VLOOKUP(C1090,BDDG!$A$3:$J$102,3,FALSE)),\"\",VLOOKUP(C1090,BDDG!$A$3:$J$102,3,FALSE))","v":"B"},{"$f":"IF(ISNA(VLOOKUP(C1090,BDDG!$A$3:$J$102,4,FALSE)),\"\",VLOOKUP(C1090,BDDG!$A$3:$J$102,4,FALSE))","v":106},{"$f":"IF(ISNA(VLOOKUP(C1090,BDDG!$A$2:$F$100,5,FALSE)),\"\",VLOOKUP(C1090,BDDG!$A$2:$F$100,5,FALSE))","v":"A7"},{"$f":"IF(ISNA(VLOOKUP(C1090,BDDG!$A$2:$F$100,6,FALSE)),\"\",VLOOKUP(C1090,BDDG!$A$2:$F$100,6,FALSE))","v":"AA16"},{"$f":"IF(ISERROR(VLOOKUP(C1090,BDDG!$A$2:$G$100,7,FALSE)),\"\",VLOOKUP(C1090,BDDG!$A$2:$G$100,7,FALSE))","v":1},{"$f":"IF(ISERROR(VLOOKUP(C1090,BDDG!$A$2:$H$100,8,FALSE)),\"\",VLOOKUP(C1090,BDDG!$A$2:$H$100,8,FALSE))","v":"BB16"},5,31.03,13.922010957138255,{"$f":"IF(ISERROR(VLOOKUP(C1090,BDDG!$A$2:$I$100,9,FALSE)),\"\",VLOOKUP(C1090,BDDG!$A$2:$I$100,9,FALSE))","v":"CC16"},null,null,"",{"$f":"IF(ISERROR(VLOOKUP(C1090,BDDG!$A$2:$J$100,10,FALSE)),\"\",VLOOKUP(C1090,BDDG!$A$2:$J$100,10,FALSE))","v":"DD16"},null,null,"",13.922010957138255,{"$f":"MONTH(A:A)","v":3},{"$f":"YEAR(A:A)","v":2016},{"$f":"IFERROR(INDEX($V$2:V1090,MATCH(H1090&MAX(IF($H$1:H1089=H1090,$A$1:A1089)),$H$2:H1090&$A$2:A1090,0))-V1090,\"\")","v":-7.7346720857546964}]
["2016-03-15","Soleil",847,{"$f":"IF(ISNA(VLOOKUP(C1091,BDDG!$A$2:$F$100,2,FALSE)),\"\",VLOOKUP(C1091,BDDG!$A$2:$F$100,2,FALSE))","v":0},{"$f":"IF(ISNA(VLOOKUP(C1091,BDDG!$A$3:$J$102,3,FALSE)),\"\",VLOOKUP(C1091,BDDG!$A$3:$J$102,3,FALSE))","v":"B"},{"$f":"IF(ISNA(VLOOKUP(C1091,BDDG!$A$3:$J$102,4,FALSE)),\"\",VLOOKUP(C1091,BDDG!$A$3:$J$102,4,FALSE))","v":106},{"$f":"IF(ISNA(VLOOKUP(C1091,BDDG!$A$2:$F$100,5,FALSE)),\"\",VLOOKUP(C1091,BDDG!$A$2:$F$100,5,FALSE))","v":"A7"},{"$f":"IF(ISNA(VLOOKUP(C1091,BDDG!$A$2:$F$100,6,FALSE)),\"\",VLOOKUP(C1091,BDDG!$A$2:$F$100,6,FALSE))","v":"AA18"},{"$f":"IF(ISERROR(VLOOKUP(C1091,BDDG!$A$2:$G$100,7,FALSE)),\"\",VLOOKUP(C1091,BDDG!$A$2:$G$100,7,FALSE))","v":2},{"$f":"IF(ISERROR(VLOOKUP(C1091,BDDG!$A$2:$H$100,8,FALSE)),\"\",VLOOKUP(C1091,BDDG!$A$2:$H$100,8,FALSE))","v":"BB18"},5,8.7799999999999994,49.202733485193626,{"$f":"IF(ISERROR(VLOOKUP(C1091,BDDG!$A$2:$I$100,9,FALSE)),\"\",VLOOKUP(C1091,BDDG!$A$2:$I$100,9,FALSE))","v":"CC18"},5,18.399999999999999,23.478260869565222,{"$f":"IF(ISERROR(VLOOKUP(C1091,BDDG!$A$2:$J$100,10,FALSE)),\"\",VLOOKUP(C1091,BDDG!$A$2:$J$100,10,FALSE))","v":"DD18"},null,null,"",72.680994354758852,3,2016,{"$f":"IFERROR(INDEX($V$2:V1091,MATCH(H1091&MAX(IF($H$1:H1090=H1091,$A$1:A1090)),$H$2:H1091&$A$2:A1091,0))-V1091,\"\")","v":-53.783095313352248}]
["2016-03-17","Neige",870,{"$f":"IF(ISNA(VLOOKUP(C1092,BDDG!$A$2:$F$100,2,FALSE)),\"\",VLOOKUP(C1092,BDDG!$A$2:$F$100,2,FALSE))","v":0},{"$f":"IF(ISNA(VLOOKUP(C1092,BDDG!$A$3:$J$102,3,FALSE)),\"\",VLOOKUP(C1092,BDDG!$A$3:$J$102,3,FALSE))","v":"A"},{"$f":"IF(ISNA(VLOOKUP(C1092,BDDG!$A$3:$J$102,4,FALSE)),\"\",VLOOKUP(C1092,BDDG!$A$3:$J$102,4,FALSE))","v":108},{"$f":"IF(ISNA(VLOOKUP(C1092,BDDG!$A$2:$F$100,5,FALSE)),\"\",VLOOKUP(C1092,BDDG!$A$2:$F$100,5,FALSE))","v":"A16"},{"$f":"IF(ISNA(VLOOKUP(C1092,BDDG!$A$2:$F$100,6,FALSE)),\"\",VLOOKUP(C1092,BDDG!$A$2:$F$100,6,FALSE))","v":"AA41"},{"$f":"IF(ISERROR(VLOOKUP(C1092,BDDG!$A$2:$G$100,7,FALSE)),\"\",VLOOKUP(C1092,BDDG!$A$2:$G$100,7,FALSE))","v":2},{"$f":"IF(ISERROR(VLOOKUP(C1092,BDDG!$A$2:$H$100,8,FALSE)),\"\",VLOOKUP(C1092,BDDG!$A$2:$H$100,8,FALSE))","v":"BB41"},5,27.13,15.923332104681165,{"$f":"IF(ISERROR(VLOOKUP(C1092,BDDG!$A$2:$I$100,9,FALSE)),\"\",VLOOKUP(C1092,BDDG!$A$2:$I$100,9,FALSE))","v":"CC41"},5,22.79,18.955682316805618,{"$f":"IF(ISERROR(VLOOKUP(C1092,BDDG!$A$2:$J$100,10,FALSE)),\"\",VLOOKUP(C1092,BDDG!$A$2:$J$100,10,FALSE))","v":"DD41"},null,null,"",34.879014421486787,3,2016,{"$f":"IFERROR(INDEX($V$2:V1092,MATCH(H1092&MAX(IF($H$1:H1091=H1092,$A$1:A1091)),$H$2:H1092&$A$2:A1092,0))-V1092,\"\")","v":-32.790903209976221}]
["2016-03-18","Soleil",862,{"$f":"IF(ISNA(VLOOKUP(C1093,BDDG!$A$2:$F$100,2,FALSE)),\"\",VLOOKUP(C1093,BDDG!$A$2:$F$100,2,FALSE))","v":0},{"$f":"IF(ISNA(VLOOKUP(C1093,BDDG!$A$3:$J$102,3,FALSE)),\"\",VLOOKUP(C1093,BDDG!$A$3:$J$102,3,FALSE))","v":"A"},{"$f":"IF(ISNA(VLOOKUP(C1093,BDDG!$A$3:$J$102,4,FALSE)),\"\",VLOOKUP(C1093,BDDG!$A$3:$J$102,4,FALSE))","v":106},{"$f":"IF(ISNA(VLOOKUP(C1093,BDDG!$A$2:$F$100,5,FALSE)),\"\",VLOOKUP(C1093,BDDG!$A$2:$F$100,5,FALSE))","v":"A12"},{"$f":"IF(ISNA(VLOOKUP(C1093,BDDG!$A$2:$F$100,6,FALSE)),\"\",VLOOKUP(C1093,BDDG!$A$2:$F$100,6,FALSE))","v":"AA34"},{"$f":"IF(ISERROR(VLOOKUP(C1093,BDDG!$A$2:$G$100,7,FALSE)),\"\",VLOOKUP(C1093,BDDG!$A$2:$G$100,7,FALSE))","v":1},{"$f":"IF(ISERROR(VLOOKUP(C1093,BDDG!$A$2:$H$100,8,FALSE)),\"\",VLOOKUP(C1093,BDDG!$A$2:$H$100,8,FALSE))","v":"BB34"},12,16.25,63.803076923076929,{"$f":"IF(ISERROR(VLOOKUP(C1093,BDDG!$A$2:$I$100,9,FALSE)),\"\",VLOOKUP(C1093,BDDG!$A$2:$I$100,9,FALSE))","v":"CC34"},null,null,"",{"$f":"IF(ISERROR(VLOOKUP(C1093,BDDG!$A$2:$J$100,10,FALSE)),\"\",VLOOKUP(C1093,BDDG!$A$2:$J$100,10,FALSE))","v":"DD34"},null,null,"",63.803076923076929,3,2016,{"$f":"IFERROR(INDEX($V$2:V1093,MATCH(H1093&MAX(IF($H$1:H1092=H1093,$A$1:A1092)),$H$2:H1093&$A$2:A1093,0))-V1093,\"\")","v":7.8486162351815381}]
["2016-03-18","Soleil",822,{"$f":"IF(ISNA(VLOOKUP(C1094,BDDG!$A$2:$F$100,2,FALSE)),\"\",VLOOKUP(C1094,BDDG!$A$2:$F$100,2,FALSE))","v":0},{"$f":"IF(ISNA(VLOOKUP(C1094,BDDG!$A$3:$J$102,3,FALSE)),\"\",VLOOKUP(C1094,BDDG!$A$3:$J$102,3,FALSE))","v":"A"},{"$f":"IF(ISNA(VLOOKUP(C1094,BDDG!$A$3:$J$102,4,FALSE)),\"\",VLOOKUP(C1094,BDDG!$A$3:$J$102,4,FALSE))","v":106},{"$f":"IF(ISNA(VLOOKUP(C1094,BDDG!$A$2:$F$100,5,FALSE)),\"\",VLOOKUP(C1094,BDDG!$A$2:$F$100,5,FALSE))","v":"A4"},{"$f":"IF(ISNA(VLOOKUP(C1094,BDDG!$A$2:$F$100,6,FALSE)),\"\",VLOOKUP(C1094,BDDG!$A$2:$F$100,6,FALSE))","v":"AA12"},{"$f":"IF(ISERROR(VLOOKUP(C1094,BDDG!$A$2:$G$100,7,FALSE)),\"\",VLOOKUP(C1094,BDDG!$A$2:$G$100,7,FALSE))","v":1},{"$f":"IF(ISERROR(VLOOKUP(C1094,BDDG!$A$2:$H$100,8,FALSE)),\"\",VLOOKUP(C1094,BDDG!$A$2:$H$100,8,FALSE))","v":"BB12"},12,9.6300000000000008,107.66355140186916,{"$f":"IF(ISERROR(VLOOKUP(C1094,BDDG!$A$2:$I$100,9,FALSE)),\"\",VLOOKUP(C1094,BDDG!$A$2:$I$100,9,FALSE))","v":"CC12"},null,null,"",{"$f":"IF(ISERROR(VLOOKUP(C1094,BDDG!$A$2:$J$100,10,FALSE)),\"\",VLOOKUP(C1094,BDDG!$A$2:$J$100,10,FALSE))","v":"DD12"},null,null,"",107.66355140186916,3,2016,{"$f":"IFERROR(INDEX($V$2:V1094,MATCH(H1094&MAX(IF($H$1:H1093=H1094,$A$1:A1093)),$H$2:H1094&$A$2:A1094,0))-V1094,\"\")","v":-11.663551401869142}]
["2016-03-18","Soleil",861,{"$f":"IF(ISNA(VLOOKUP(C1095,BDDG!$A$2:$F$100,2,FALSE)),\"\",VLOOKUP(C1095,BDDG!$A$2:$F$100,2,FALSE))","v":0},{"$f":"IF(ISNA(VLOOKUP(C1095,BDDG!$A$3:$J$102,3,FALSE)),\"\",VLOOKUP(C1095,BDDG!$A$3:$J$102,3,FALSE))","v":"A"},{"$f":"IF(ISNA(VLOOKUP(C1095,BDDG!$A$3:$J$102,4,FALSE)),\"\",VLOOKUP(C1095,BDDG!$A$3:$J$102,4,FALSE))","v":106},{"$f":"IF(ISNA(VLOOKUP(C1095,BDDG!$A$2:$F$100,5,FALSE)),\"\",VLOOKUP(C1095,BDDG!$A$2:$F$100,5,FALSE))","v":"A11"},{"$f":"IF(ISNA(VLOOKUP(C1095,BDDG!$A$2:$F$100,6,FALSE)),\"\",VLOOKUP(C1095,BDDG!$A$2:$F$100,6,FALSE))","v":"AA33"},{"$f":"IF(ISERROR(VLOOKUP(C1095,BDDG!$A$2:$G$100,7,FALSE)),\"\",VLOOKUP(C1095,BDDG!$A$2:$G$100,7,FALSE))","v":2},{"$f":"IF(ISERROR(VLOOKUP(C1095,BDDG!$A$2:$H$100,8,FALSE)),\"\",VLOOKUP(C1095,BDDG!$A$2:$H$100,8,FALSE))","v":"BB33"},null,null,"",{"$f":"IF(ISERROR(VLOOKUP(C1095,BDDG!$A$2:$I$100,9,FALSE)),\"\",VLOOKUP(C1095,BDDG!$A$2:$I$100,9,FALSE))","v":"CC33"},5,2.34,184.61538461538461,{"$f":"IF(ISERROR(VLOOKUP(C1095,BDDG!$A$2:$J$100,10,FALSE)),\"\",VLOOKUP(C1095,BDDG!$A$2:$J$100,10,FALSE))","v":"DD33"},null,null,"",184.61538461538461,3,2016,{"$f":"IFERROR(INDEX($V$2:V1095,MATCH(H1095&MAX(IF($H$1:H1094=H1095,$A$1:A1094)),$H$2:H1095&$A$2:A1095,0))-V1095,\"\")","v":-48.259573998454897}]
["2016-03-18","Soleil",860,{"$f":"IF(ISNA(VLOOKUP(C1096,BDDG!$A$2:$F$100,2,FALSE)),\"\",VLOOKUP(C1096,BDDG!$A$2:$F$100,2,FALSE))","v":0},{"$f":"IF(ISNA(VLOOKUP(C1096,BDDG!$A$3:$J$102,3,FALSE)),\"\",VLOOKUP(C1096,BDDG!$A$3:$J$102,3,FALSE))","v":"A"},{"$f":"IF(ISNA(VLOOKUP(C1096,BDDG!$A$3:$J$102,4,FALSE)),\"\",VLOOKUP(C1096,BDDG!$A$3:$J$102,4,FALSE))","v":106},{"$f":"IF(ISNA(VLOOKUP(C1096,BDDG!$A$2:$F$100,5,FALSE)),\"\",VLOOKUP(C1096,BDDG!$A$2:$F$100,5,FALSE))","v":"A11"},{"$f":"IF(ISNA(VLOOKUP(C1096,BDDG!$A$2:$F$100,6,FALSE)),\"\",VLOOKUP(C1096,BDDG!$A$2:$F$100,6,FALSE))","v":"AA32"},{"$f":"IF(ISERROR(VLOOKUP(C1096,BDDG!$A$2:$G$100,7,FALSE)),\"\",VLOOKUP(C1096,BDDG!$A$2:$G$100,7,FALSE))","v":2},{"$f":"IF(ISERROR(VLOOKUP(C1096,BDDG!$A$2:$H$100,8,FALSE)),\"\",VLOOKUP(C1096,BDDG!$A$2:$H$100,8,FALSE))","v":"BB32"},5,7.09,60.930888575458397,{"$f":"IF(ISERROR(VLOOKUP(C1096,BDDG!$A$2:$I$100,9,FALSE)),\"\",VLOOKUP(C1096,BDDG!$A$2:$I$100,9,FALSE))","v":"CC32"},5,1.79,241.34078212290504,{"$f":"IF(ISERROR(VLOOKUP(C1096,BDDG!$A$2:$J$100,10,FALSE)),\"\",VLOOKUP(C1096,BDDG!$A$2:$J$100,10,FALSE))","v":"DD32"},null,null,"",302.27167069836344,3,2016,{"$f":"IFERROR(INDEX($V$2:V1096,MATCH(H1096&MAX(IF($H$1:H1095=H1096,$A$1:A1095)),$H$2:H1096&$A$2:A1096,0))-V1096,\"\")","v":-132.08700032921126}]
["2016-03-29","Couvert",864,{"$f":"IF(ISNA(VLOOKUP(C1097,BDDG!$A$2:$F$100,2,FALSE)),\"\",VLOOKUP(C1097,BDDG!$A$2:$F$100,2,FALSE))","v":0},{"$f":"IF(ISNA(VLOOKUP(C1097,BDDG!$A$3:$J$102,3,FALSE)),\"\",VLOOKUP(C1097,BDDG!$A$3:$J$102,3,FALSE))","v":"A"},{"$f":"IF(ISNA(VLOOKUP(C1097,BDDG!$A$3:$J$102,4,FALSE)),\"\",VLOOKUP(C1097,BDDG!$A$3:$J$102,4,FALSE))","v":106},{"$f":"IF(ISNA(VLOOKUP(C1097,BDDG!$A$2:$F$100,5,FALSE)),\"\",VLOOKUP(C1097,BDDG!$A$2:$F$100,5,FALSE))","v":"A13"},{"$f":"IF(ISNA(VLOOKUP(C1097,BDDG!$A$2:$F$100,6,FALSE)),\"\",VLOOKUP(C1097,BDDG!$A$2:$F$100,6,FALSE))","v":"AA36"},{"$f":"IF(ISERROR(VLOOKUP(C1097,BDDG!$A$2:$G$100,7,FALSE)),\"\",VLOOKUP(C1097,BDDG!$A$2:$G$100,7,FALSE))","v":1},{"$f":"IF(ISERROR(VLOOKUP(C1097,BDDG!$A$2:$H$100,8,FALSE)),\"\",VLOOKUP(C1097,BDDG!$A$2:$H$100,8,FALSE))","v":"BB36"},5,11.16,38.70967741935484,{"$f":"IF(ISERROR(VLOOKUP(C1097,BDDG!$A$2:$I$100,9,FALSE)),\"\",VLOOKUP(C1097,BDDG!$A$2:$I$100,9,FALSE))","v":"CC36"},null,null,"",{"$f":"IF(ISERROR(VLOOKUP(C1097,BDDG!$A$2:$J$100,10,FALSE)),\"\",VLOOKUP(C1097,BDDG!$A$2:$J$100,10,FALSE))","v":"DD36"},null,null,"",38.70967741935484,3,2016,{"$f":"IFERROR(INDEX($V$2:V1097,MATCH(H1097&MAX(IF($H$1:H1096=H1097,$A$1:A1096)),$H$2:H1097&$A$2:A1097,0))-V1097,\"\")","v":-15.090213231273918}]
["2016-03-29","Couvert",863,{"$f":"IF(ISNA(VLOOKUP(C1098,BDDG!$A$2:$F$100,2,FALSE)),\"\",VLOOKUP(C1098,BDDG!$A$2:$F$100,2,FALSE))","v":0},{"$f":"IF(ISNA(VLOOKUP(C1098,BDDG!$A$3:$J$102,3,FALSE)),\"\",VLOOKUP(C1098,BDDG!$A$3:$J$102,3,FALSE))","v":"A"},{"$f":"IF(ISNA(VLOOKUP(C1098,BDDG!$A$3:$J$102,4,FALSE)),\"\",VLOOKUP(C1098,BDDG!$A$3:$J$102,4,FALSE))","v":106},{"$f":"IF(ISNA(VLOOKUP(C1098,BDDG!$A$2:$F$100,5,FALSE)),\"\",VLOOKUP(C1098,BDDG!$A$2:$F$100,5,FALSE))","v":"A13"},{"$f":"IF(ISNA(VLOOKUP(C1098,BDDG!$A$2:$F$100,6,FALSE)),\"\",VLOOKUP(C1098,BDDG!$A$2:$F$100,6,FALSE))","v":"AA35"},{"$f":"IF(ISERROR(VLOOKUP(C1098,BDDG!$A$2:$G$100,7,FALSE)),\"\",VLOOKUP(C1098,BDDG!$A$2:$G$100,7,FALSE))","v":1},{"$f":"IF(ISERROR(VLOOKUP(C1098,BDDG!$A$2:$H$100,8,FALSE)),\"\",VLOOKUP(C1098,BDDG!$A$2:$H$100,8,FALSE))","v":"BB35"},5,20.13,21.460506706408346,{"$f":"IF(ISERROR(VLOOKUP(C1098,BDDG!$A$2:$I$100,9,FALSE)),\"\",VLOOKUP(C1098,BDDG!$A$2:$I$100,9,FALSE))","v":"CC35"},null,null,"",{"$f":"IF(ISERROR(VLOOKUP(C1098,BDDG!$A$2:$J$100,10,FALSE)),\"\",VLOOKUP(C1098,BDDG!$A$2:$J$100,10,FALSE))","v":"DD35"},null,null,"",21.460506706408346,3,2016,{"$f":"IFERROR(INDEX($V$2:V1098,MATCH(H1098&MAX(IF($H$1:H1097=H1098,$A$1:A1097)),$H$2:H1098&$A$2:A1098,0))-V1098,\"\")","v":-13.918607265067564}]
["2016-04-01","Froid",866,{"$f":"IF(ISNA(VLOOKUP(C1099,BDDG!$A$2:$F$100,2,FALSE)),\"\",VLOOKUP(C1099,BDDG!$A$2:$F$100,2,FALSE))","v":0},{"$f":"IF(ISNA(VLOOKUP(C1099,BDDG!$A$3:$J$102,3,FALSE)),\"\",VLOOKUP(C1099,BDDG!$A$3:$J$102,3,FALSE))","v":"C"},{"$f":"IF(ISNA(VLOOKUP(C1099,BDDG!$A$3:$J$102,4,FALSE)),\"\",VLOOKUP(C1099,BDDG!$A$3:$J$102,4,FALSE))","v":108},{"$f":"IF(ISNA(VLOOKUP(C1099,BDDG!$A$2:$F$100,5,FALSE)),\"\",VLOOKUP(C1099,BDDG!$A$2:$F$100,5,FALSE))","v":"A17"},{"$f":"IF(ISNA(VLOOKUP(C1099,BDDG!$A$2:$F$100,6,FALSE)),\"\",VLOOKUP(C1099,BDDG!$A$2:$F$100,6,FALSE))","v":"AA42"},{"$f":"IF(ISERROR(VLOOKUP(C1099,BDDG!$A$2:$G$100,7,FALSE)),\"\",VLOOKUP(C1099,BDDG!$A$2:$G$100,7,FALSE))","v":1},{"$f":"IF(ISERROR(VLOOKUP(C1099,BDDG!$A$2:$H$100,8,FALSE)),\"\",VLOOKUP(C1099,BDDG!$A$2:$H$100,8,FALSE))","v":"BB42"},12,1,1036.8000000000002,{"$f":"IF(ISERROR(VLOOKUP(C1099,BDDG!$A$2:$I$100,9,FALSE)),\"\",VLOOKUP(C1099,BDDG!$A$2:$I$100,9,FALSE))","v":"CC42"},null,null,"",{"$f":"IF(ISERROR(VLOOKUP(C1099,BDDG!$A$2:$J$100,10,FALSE)),\"\",VLOOKUP(C1099,BDDG!$A$2:$J$100,10,FALSE))","v":"DD42"},null,null,"",1036.8000000000002,4,2016,{"$f":"IFERROR(INDEX($V$2:V1099,MATCH(H1099&MAX(IF($H$1:H1098=H1099,$A$1:A1098)),$H$2:H1099&$A$2:A1099,0))-V1099,\"\")","v":-921.60000000000014}]
["2016-04-01","Froid",867,{"$f":"IF(ISNA(VLOOKUP(C1100,BDDG!$A$2:$F$100,2,FALSE)),\"\",VLOOKUP(C1100,BDDG!$A$2:$F$100,2,FALSE))","v":0},{"$f":"IF(ISNA(VLOOKUP(C1100,BDDG!$A$3:$J$102,3,FALSE)),\"\",VLOOKUP(C1100,BDDG!$A$3:$J$102,3,FALSE))","v":"C"},{"$f":"IF(ISNA(VLOOKUP(C1100,BDDG!$A$3:$J$102,4,FALSE)),\"\",VLOOKUP(C1100,BDDG!$A$3:$J$102,4,FALSE))","v":108},{"$f":"IF(ISNA(VLOOKUP(C1100,BDDG!$A$2:$F$100,5,FALSE)),\"\",VLOOKUP(C1100,BDDG!$A$2:$F$100,5,FALSE))","v":"A17"},{"$f":"IF(ISNA(VLOOKUP(C1100,BDDG!$A$2:$F$100,6,FALSE)),\"\",VLOOKUP(C1100,BDDG!$A$2:$F$100,6,FALSE))","v":"AA43"},{"$f":"IF(ISERROR(VLOOKUP(C1100,BDDG!$A$2:$G$100,7,FALSE)),\"\",VLOOKUP(C1100,BDDG!$A$2:$G$100,7,FALSE))","v":1},{"$f":"IF(ISERROR(VLOOKUP(C1100,BDDG!$A$2:$H$100,8,FALSE)),\"\",VLOOKUP(C1100,BDDG!$A$2:$H$100,8,FALSE))","v":"BB43"},12,27.81,37.281553398058257,{"$f":"IF(ISERROR(VLOOKUP(C1100,BDDG!$A$2:$I$100,9,FALSE)),\"\",VLOOKUP(C1100,BDDG!$A$2:$I$100,9,FALSE))","v":"CC43"},null,null,"",{"$f":"IF(ISERROR(VLOOKUP(C1100,BDDG!$A$2:$J$100,10,FALSE)),\"\",VLOOKUP(C1100,BDDG!$A$2:$J$100,10,FALSE))","v":"DD43"},null,null,"",37.281553398058257,4,2016,{"$f":"IFERROR(INDEX($V$2:V1100,MATCH(H1100&MAX(IF($H$1:H1099=H1100,$A$1:A1099)),$H$2:H1100&$A$2:A1100,0))-V1100,\"\")","v":-1.5790740592152801}]
["2016-05-06","Soleil",832,{"$f":"IF(ISNA(VLOOKUP(C1101,BDDG!$A$2:$F$100,2,FALSE)),\"\",VLOOKUP(C1101,BDDG!$A$2:$F$100,2,FALSE))","v":0},{"$f":"IF(ISNA(VLOOKUP(C1101,BDDG!$A$3:$J$102,3,FALSE)),\"\",VLOOKUP(C1101,BDDG!$A$3:$J$102,3,FALSE))","v":"A"},{"$f":"IF(ISNA(VLOOKUP(C1101,BDDG!$A$3:$J$102,4,FALSE)),\"\",VLOOKUP(C1101,BDDG!$A$3:$J$102,4,FALSE))","v":106},{"$f":"IF(ISNA(VLOOKUP(C1101,BDDG!$A$2:$F$100,5,FALSE)),\"\",VLOOKUP(C1101,BDDG!$A$2:$F$100,5,FALSE))","v":"A2"},{"$f":"IF(ISNA(VLOOKUP(C1101,BDDG!$A$2:$F$100,6,FALSE)),\"\",VLOOKUP(C1101,BDDG!$A$2:$F$100,6,FALSE))","v":"AA2"},{"$f":"IF(ISERROR(VLOOKUP(C1101,BDDG!$A$2:$G$100,7,FALSE)),\"\",VLOOKUP(C1101,BDDG!$A$2:$G$100,7,FALSE))","v":1},{"$f":"IF(ISERROR(VLOOKUP(C1101,BDDG!$A$2:$H$100,8,FALSE)),\"\",VLOOKUP(C1101,BDDG!$A$2:$H$100,8,FALSE))","v":"BB2"},12,16.940000000000001,61.204250295159383,{"$f":"IF(ISERROR(VLOOKUP(C1101,BDDG!$A$2:$I$100,9,FALSE)),\"\",VLOOKUP(C1101,BDDG!$A$2:$I$100,9,FALSE))","v":"CC2"},null,null,"",{"$f":"IF(ISERROR(VLOOKUP(C1101,BDDG!$A$2:$J$100,10,FALSE)),\"\",VLOOKUP(C1101,BDDG!$A$2:$J$100,10,FALSE))","v":"DD2"},null,null,"",61.204250295159383,5,2016,{"$f":"IFERROR(INDEX($V$2:V1101,MATCH(H1101&MAX(IF($H$1:H1100=H1101,$A$1:A1100)),$H$2:H1101&$A$2:A1101,0))-V1101,\"\")","v":-15.730566084633068}]
["2016-05-06","Soleil",833,{"$f":"IF(ISNA(VLOOKUP(C1102,BDDG!$A$2:$F$100,2,FALSE)),\"\",VLOOKUP(C1102,BDDG!$A$2:$F$100,2,FALSE))","v":0},{"$f":"IF(ISNA(VLOOKUP(C1102,BDDG!$A$3:$J$102,3,FALSE)),\"\",VLOOKUP(C1102,BDDG!$A$3:$J$102,3,FALSE))","v":"A"},{"$f":"IF(ISNA(VLOOKUP(C1102,BDDG!$A$3:$J$102,4,FALSE)),\"\",VLOOKUP(C1102,BDDG!$A$3:$J$102,4,FALSE))","v":106},{"$f":"IF(ISNA(VLOOKUP(C1102,BDDG!$A$2:$F$100,5,FALSE)),\"\",VLOOKUP(C1102,BDDG!$A$2:$F$100,5,FALSE))","v":"A2"},{"$f":"IF(ISNA(VLOOKUP(C1102,BDDG!$A$2:$F$100,6,FALSE)),\"\",VLOOKUP(C1102,BDDG!$A$2:$F$100,6,FALSE))","v":"AA3"},{"$f":"IF(ISERROR(VLOOKUP(C1102,BDDG!$A$2:$G$100,7,FALSE)),\"\",VLOOKUP(C1102,BDDG!$A$2:$G$100,7,FALSE))","v":1},{"$f":"IF(ISERROR(VLOOKUP(C1102,BDDG!$A$2:$H$100,8,FALSE)),\"\",VLOOKUP(C1102,BDDG!$A$2:$H$100,8,FALSE))","v":"BB3"},12,11.5,90.15652173913044,{"$f":"IF(ISERROR(VLOOKUP(C1102,BDDG!$A$2:$I$100,9,FALSE)),\"\",VLOOKUP(C1102,BDDG!$A$2:$I$100,9,FALSE))","v":"CC3"},null,null,"",{"$f":"IF(ISERROR(VLOOKUP(C1102,BDDG!$A$2:$J$100,10,FALSE)),\"\",VLOOKUP(C1102,BDDG!$A$2:$J$100,10,FALSE))","v":"DD3"},null,null,"",90.15652173913044,5,2016,{"$f":"IFERROR(INDEX($V$2:V1102,MATCH(H1102&MAX(IF($H$1:H1101=H1102,$A$1:A1101)),$H$2:H1102&$A$2:A1102,0))-V1102,\"\")","v":-37.792885375494073}]
["2016-05-06","Soleil",834,{"$f":"IF(ISNA(VLOOKUP(C1103,BDDG!$A$2:$F$100,2,FALSE)),\"\",VLOOKUP(C1103,BDDG!$A$2:$F$100,2,FALSE))","v":0},{"$f":"IF(ISNA(VLOOKUP(C1103,BDDG!$A$3:$J$102,3,FALSE)),\"\",VLOOKUP(C1103,BDDG!$A$3:$J$102,3,FALSE))","v":"A"},{"$f":"IF(ISNA(VLOOKUP(C1103,BDDG!$A$3:$J$102,4,FALSE)),\"\",VLOOKUP(C1103,BDDG!$A$3:$J$102,4,FALSE))","v":106},{"$f":"IF(ISNA(VLOOKUP(C1103,BDDG!$A$2:$F$100,5,FALSE)),\"\",VLOOKUP(C1103,BDDG!$A$2:$F$100,5,FALSE))","v":"A2"},{"$f":"IF(ISNA(VLOOKUP(C1103,BDDG!$A$2:$F$100,6,FALSE)),\"\",VLOOKUP(C1103,BDDG!$A$2:$F$100,6,FALSE))","v":"AA4"},{"$f":"IF(ISERROR(VLOOKUP(C1103,BDDG!$A$2:$G$100,7,FALSE)),\"\",VLOOKUP(C1103,BDDG!$A$2:$G$100,7,FALSE))","v":1},{"$f":"IF(ISERROR(VLOOKUP(C1103,BDDG!$A$2:$H$100,8,FALSE)),\"\",VLOOKUP(C1103,BDDG!$A$2:$H$100,8,FALSE))","v":"BB4"},12,26.66,38.889722430607655,{"$f":"IF(ISERROR(VLOOKUP(C1103,BDDG!$A$2:$I$100,9,FALSE)),\"\",VLOOKUP(C1103,BDDG!$A$2:$I$100,9,FALSE))","v":"CC4"},null,null,"",{"$f":"IF(ISERROR(VLOOKUP(C1103,BDDG!$A$2:$J$100,10,FALSE)),\"\",VLOOKUP(C1103,BDDG!$A$2:$J$100,10,FALSE))","v":"DD4"},null,null,"",38.889722430607655,5,2016,{"$f":"IFERROR(INDEX($V$2:V1103,MATCH(H1103&MAX(IF($H$1:H1102=H1103,$A$1:A1102)),$H$2:H1103&$A$2:A1103,0))-V1103,\"\")","v":-11.719911109852937}]
["2016-05-06","Soleil",844,{"$f":"IF(ISNA(VLOOKUP(C1104,BDDG!$A$2:$F$100,2,FALSE)),\"\",VLOOKUP(C1104,BDDG!$A$2:$F$100,2,FALSE))","v":0},{"$f":"IF(ISNA(VLOOKUP(C1104,BDDG!$A$3:$J$102,3,FALSE)),\"\",VLOOKUP(C1104,BDDG!$A$3:$J$102,3,FALSE))","v":"B"},{"$f":"IF(ISNA(VLOOKUP(C1104,BDDG!$A$3:$J$102,4,FALSE)),\"\",VLOOKUP(C1104,BDDG!$A$3:$J$102,4,FALSE))","v":106},{"$f":"IF(ISNA(VLOOKUP(C1104,BDDG!$A$2:$F$100,5,FALSE)),\"\",VLOOKUP(C1104,BDDG!$A$2:$F$100,5,FALSE))","v":"A6"},{"$f":"IF(ISNA(VLOOKUP(C1104,BDDG!$A$2:$F$100,6,FALSE)),\"\",VLOOKUP(C1104,BDDG!$A$2:$F$100,6,FALSE))","v":"AA14"},{"$f":"IF(ISERROR(VLOOKUP(C1104,BDDG!$A$2:$G$100,7,FALSE)),\"\",VLOOKUP(C1104,BDDG!$A$2:$G$100,7,FALSE))","v":2},{"$f":"IF(ISERROR(VLOOKUP(C1104,BDDG!$A$2:$H$100,8,FALSE)),\"\",VLOOKUP(C1104,BDDG!$A$2:$H$100,8,FALSE))","v":"BB14"},12,12.4,83.612903225806448,{"$f":"IF(ISERROR(VLOOKUP(C1104,BDDG!$A$2:$I$100,9,FALSE)),\"\",VLOOKUP(C1104,BDDG!$A$2:$I$100,9,FALSE))","v":"CC14"},null,null,"",{"$f":"IF(ISERROR(VLOOKUP(C1104,BDDG!$A$2:$J$100,10,FALSE)),\"\",VLOOKUP(C1104,BDDG!$A$2:$J$100,10,FALSE))","v":"DD14"},null,null,"",83.612903225806448,5,2016,{"$f":"IFERROR(INDEX($V$2:V1104,MATCH(H1104&MAX(IF($H$1:H1103=H1104,$A$1:A1103)),$H$2:H1104&$A$2:A1104,0))-V1104,\"\")","v":-6.3320445495989333}]
["2016-05-10","Soleil",831,{"$f":"IF(ISNA(VLOOKUP(C1105,BDDG!$A$2:$F$100,2,FALSE)),\"\",VLOOKUP(C1105,BDDG!$A$2:$F$100,2,FALSE))","v":0},{"$f":"IF(ISNA(VLOOKUP(C1105,BDDG!$A$3:$J$102,3,FALSE)),\"\",VLOOKUP(C1105,BDDG!$A$3:$J$102,3,FALSE))","v":"A"},{"$f":"IF(ISNA(VLOOKUP(C1105,BDDG!$A$3:$J$102,4,FALSE)),\"\",VLOOKUP(C1105,BDDG!$A$3:$J$102,4,FALSE))","v":106},{"$f":"IF(ISNA(VLOOKUP(C1105,BDDG!$A$2:$F$100,5,FALSE)),\"\",VLOOKUP(C1105,BDDG!$A$2:$F$100,5,FALSE))","v":"A1"},{"$f":"IF(ISNA(VLOOKUP(C1105,BDDG!$A$2:$F$100,6,FALSE)),\"\",VLOOKUP(C1105,BDDG!$A$2:$F$100,6,FALSE))","v":"AA1"},{"$f":"IF(ISERROR(VLOOKUP(C1105,BDDG!$A$2:$G$100,7,FALSE)),\"\",VLOOKUP(C1105,BDDG!$A$2:$G$100,7,FALSE))","v":1},{"$f":"IF(ISERROR(VLOOKUP(C1105,BDDG!$A$2:$H$100,8,FALSE)),\"\",VLOOKUP(C1105,BDDG!$A$2:$H$100,8,FALSE))","v":"BB1"},12,11.82,87.715736040609144,{"$f":"IF(ISERROR(VLOOKUP(C1105,BDDG!$A$2:$I$100,9,FALSE)),\"\",VLOOKUP(C1105,BDDG!$A$2:$I$100,9,FALSE))","v":"CC1"},null,null,{"$f":" IF(ISERROR(O1105/P1105*86.4),\"\",O1105/P1105*86.4)","v":""},{"$f":"IF(ISERROR(VLOOKUP(C1105,BDDG!$A$2:$J$100,10,FALSE)),\"\",VLOOKUP(C1105,BDDG!$A$2:$J$100,10,FALSE))","v":"DD1"},null,null,"",{"$f":"IF(ISERROR(SUM(M1105,Q1105,U1105)),\"\",SUM(M1105,Q1105,U1105))","v":87.715736040609144},5,2016,{"$f":"IFERROR(INDEX($V$2:V1105,MATCH(H1105&MAX(IF($H$1:H1104=H1105,$A$1:A1104)),$H$2:H1105&$A$2:A1105,0))-V1105,\"\")","v":11.310051925006903}]
["2016-05-10","Soleil",835,{"$f":"IF(ISNA(VLOOKUP(C1106,BDDG!$A$2:$F$100,2,FALSE)),\"\",VLOOKUP(C1106,BDDG!$A$2:$F$100,2,FALSE))","v":0},{"$f":"IF(ISNA(VLOOKUP(C1106,BDDG!$A$3:$J$102,3,FALSE)),\"\",VLOOKUP(C1106,BDDG!$A$3:$J$102,3,FALSE))","v":"A"},{"$f":"IF(ISNA(VLOOKUP(C1106,BDDG!$A$3:$J$102,4,FALSE)),\"\",VLOOKUP(C1106,BDDG!$A$3:$J$102,4,FALSE))","v":106},{"$f":"IF(ISNA(VLOOKUP(C1106,BDDG!$A$2:$F$100,5,FALSE)),\"\",VLOOKUP(C1106,BDDG!$A$2:$F$100,5,FALSE))","v":"A3"},{"$f":"IF(ISNA(VLOOKUP(C1106,BDDG!$A$2:$F$100,6,FALSE)),\"\",VLOOKUP(C1106,BDDG!$A$2:$F$100,6,FALSE))","v":"AA5"},{"$f":"IF(ISERROR(VLOOKUP(C1106,BDDG!$A$2:$G$100,7,FALSE)),\"\",VLOOKUP(C1106,BDDG!$A$2:$G$100,7,FALSE))","v":1},{"$f":"IF(ISERROR(VLOOKUP(C1106,BDDG!$A$2:$H$100,8,FALSE)),\"\",VLOOKUP(C1106,BDDG!$A$2:$H$100,8,FALSE))","v":"BB5"},2,105.44,1.638846737481032,{"$f":"IF(ISERROR(VLOOKUP(C1106,BDDG!$A$2:$I$100,9,FALSE)),\"\",VLOOKUP(C1106,BDDG!$A$2:$I$100,9,FALSE))","v":"CC5"},null,null,"",{"$f":"IF(ISERROR(VLOOKUP(C1106,BDDG!$A$2:$J$100,10,FALSE)),\"\",VLOOKUP(C1106,BDDG!$A$2:$J$100,10,FALSE))","v":"DD5"},null,null,"",1.638846737481032,5,2016,{"$f":"IFERROR(INDEX($V$2:V1106,MATCH(H1106&MAX(IF($H$1:H1105=H1106,$A$1:A1105)),$H$2:H1106&$A$2:A1106,0))-V1106,\"\")","v":-1.0020542846508433}]
["2016-05-10","Soleil",839,{"$f":"IF(ISNA(VLOOKUP(C1107,BDDG!$A$2:$F$100,2,FALSE)),\"\",VLOOKUP(C1107,BDDG!$A$2:$F$100,2,FALSE))","v":0},{"$f":"IF(ISNA(VLOOKUP(C1107,BDDG!$A$3:$J$102,3,FALSE)),\"\",VLOOKUP(C1107,BDDG!$A$3:$J$102,3,FALSE))","v":"A"},{"$f":"IF(ISNA(VLOOKUP(C1107,BDDG!$A$3:$J$102,4,FALSE)),\"\",VLOOKUP(C1107,BDDG!$A$3:$J$102,4,FALSE))","v":106},{"$f":"IF(ISNA(VLOOKUP(C1107,BDDG!$A$2:$F$100,5,FALSE)),\"\",VLOOKUP(C1107,BDDG!$A$2:$F$100,5,FALSE))","v":"A3"},{"$f":"IF(ISNA(VLOOKUP(C1107,BDDG!$A$2:$F$100,6,FALSE)),\"\",VLOOKUP(C1107,BDDG!$A$2:$F$100,6,FALSE))","v":"AA10"},{"$f":"IF(ISERROR(VLOOKUP(C1107,BDDG!$A$2:$G$100,7,FALSE)),\"\",VLOOKUP(C1107,BDDG!$A$2:$G$100,7,FALSE))","v":2},{"$f":"IF(ISERROR(VLOOKUP(C1107,BDDG!$A$2:$H$100,8,FALSE)),\"\",VLOOKUP(C1107,BDDG!$A$2:$H$100,8,FALSE))","v":"BB10"},5,3.09,{"$f":" IF(ISERROR(K1107/L1107*86.4),\"\",K1107/L1107*86.4)","v":139.80582524271847},{"$f":"IF(ISERROR(VLOOKUP(C1107,BDDG!$A$2:$I$100,9,FALSE)),\"\",VLOOKUP(C1107,BDDG!$A$2:$I$100,9,FALSE))","v":"CC10"},5,null,"",{"$f":"IF(ISERROR(VLOOKUP(C1107,BDDG!$A$2:$J$100,10,FALSE)),\"\",VLOOKUP(C1107,BDDG!$A$2:$J$100,10,FALSE))","v":"DD10"},null,null,"",139.80582524271847,5,2016,{"$f":"IFERROR(INDEX($V$2:V1107,MATCH(H1107&MAX(IF($H$1:H1106=H1107,$A$1:A1106)),$H$2:H1107&$A$2:A1107,0))-V1107,\"\")","v":87.865258438530418}]
["2016-05-10","Soleil",854,{"$f":"IF(ISNA(VLOOKUP(C1108,BDDG!$A$2:$F$100,2,FALSE)),\"\",VLOOKUP(C1108,BDDG!$A$2:$F$100,2,FALSE))","v":0},{"$f":"IF(ISNA(VLOOKUP(C1108,BDDG!$A$3:$J$102,3,FALSE)),\"\",VLOOKUP(C1108,BDDG!$A$3:$J$102,3,FALSE))","v":"A"},{"$f":"IF(ISNA(VLOOKUP(C1108,BDDG!$A$3:$J$102,4,FALSE)),\"\",VLOOKUP(C1108,BDDG!$A$3:$J$102,4,FALSE))","v":106},{"$f":"IF(ISNA(VLOOKUP(C1108,BDDG!$A$2:$F$100,5,FALSE)),\"\",VLOOKUP(C1108,BDDG!$A$2:$F$100,5,FALSE))","v":"A9"},{"$f":"IF(ISNA(VLOOKUP(C1108,BDDG!$A$2:$F$100,6,FALSE)),\"\",VLOOKUP(C1108,BDDG!$A$2:$F$100,6,FALSE))","v":"AA25"},{"$f":"IF(ISERROR(VLOOKUP(C1108,BDDG!$A$2:$G$100,7,FALSE)),\"\",VLOOKUP(C1108,BDDG!$A$2:$G$100,7,FALSE))","v":2},{"$f":"IF(ISERROR(VLOOKUP(C1108,BDDG!$A$2:$H$100,8,FALSE)),\"\",VLOOKUP(C1108,BDDG!$A$2:$H$100,8,FALSE))","v":"BB25"},12,2.4900000000000002,416.3855421686747,{"$f":"IF(ISERROR(VLOOKUP(C1108,BDDG!$A$2:$I$100,9,FALSE)),\"\",VLOOKUP(C1108,BDDG!$A$2:$I$100,9,FALSE))","v":"CC25"},null,null,"",{"$f":"IF(ISERROR(VLOOKUP(C1108,BDDG!$A$2:$J$100,10,FALSE)),\"\",VLOOKUP(C1108,BDDG!$A$2:$J$100,10,FALSE))","v":"DD25"},null,null,"",416.3855421686747,5,2016,{"$f":"IFERROR(INDEX($V$2:V1108,MATCH(H1108&MAX(IF($H$1:H1107=H1108,$A$1:A1107)),$H$2:H1108&$A$2:A1108,0))-V1108,\"\")","v":363.16333001177651}]
["2016-05-10","Soleil",855,{"$f":"IF(ISNA(VLOOKUP(C1109,BDDG!$A$2:$F$100,2,FALSE)),\"\",VLOOKUP(C1109,BDDG!$A$2:$F$100,2,FALSE))","v":0},{"$f":"IF(ISNA(VLOOKUP(C1109,BDDG!$A$3:$J$102,3,FALSE)),\"\",VLOOKUP(C1109,BDDG!$A$3:$J$102,3,FALSE))","v":"A"},{"$f":"IF(ISNA(VLOOKUP(C1109,BDDG!$A$3:$J$102,4,FALSE)),\"\",VLOOKUP(C1109,BDDG!$A$3:$J$102,4,FALSE))","v":106},{"$f":"IF(ISNA(VLOOKUP(C1109,BDDG!$A$2:$F$100,5,FALSE)),\"\",VLOOKUP(C1109,BDDG!$A$2:$F$100,5,FALSE))","v":"A9"},{"$f":"IF(ISNA(VLOOKUP(C1109,BDDG!$A$2:$F$100,6,FALSE)),\"\",VLOOKUP(C1109,BDDG!$A$2:$F$100,6,FALSE))","v":"AA26"},{"$f":"IF(ISERROR(VLOOKUP(C1109,BDDG!$A$2:$G$100,7,FALSE)),\"\",VLOOKUP(C1109,BDDG!$A$2:$G$100,7,FALSE))","v":2},{"$f":"IF(ISERROR(VLOOKUP(C1109,BDDG!$A$2:$H$100,8,FALSE)),\"\",VLOOKUP(C1109,BDDG!$A$2:$H$100,8,FALSE))","v":"BB26"},12,3.87,267.90697674418607,{"$f":"IF(ISERROR(VLOOKUP(C1109,BDDG!$A$2:$I$100,9,FALSE)),\"\",VLOOKUP(C1109,BDDG!$A$2:$I$100,9,FALSE))","v":"CC26"},12,11.19,92.654155495978557,{"$f":"IF(ISERROR(VLOOKUP(C1109,BDDG!$A$2:$J$100,10,FALSE)),\"\",VLOOKUP(C1109,BDDG!$A$2:$J$100,10,FALSE))","v":"DD26"},null,null,"",360.56113224016462,5,2016,{"$f":"IFERROR(INDEX($V$2:V1109,MATCH(H1109&MAX(IF($H$1:H1108=H1109,$A$1:A1108)),$H$2:H1109&$A$2:A1109,0))-V1109,\"\")","v":162.18920519454912}]
["2016-05-10","Soleil",856,{"$f":"IF(ISNA(VLOOKUP(C1110,BDDG!$A$2:$F$100,2,FALSE)),\"\",VLOOKUP(C1110,BDDG!$A$2:$F$100,2,FALSE))","v":0},{"$f":"IF(ISNA(VLOOKUP(C1110,BDDG!$A$3:$J$102,3,FALSE)),\"\",VLOOKUP(C1110,BDDG!$A$3:$J$102,3,FALSE))","v":"A"},{"$f":"IF(ISNA(VLOOKUP(C1110,BDDG!$A$3:$J$102,4,FALSE)),\"\",VLOOKUP(C1110,BDDG!$A$3:$J$102,4,FALSE))","v":106},{"$f":"IF(ISNA(VLOOKUP(C1110,BDDG!$A$2:$F$100,5,FALSE)),\"\",VLOOKUP(C1110,BDDG!$A$2:$F$100,5,FALSE))","v":"A9"},{"$f":"IF(ISNA(VLOOKUP(C1110,BDDG!$A$2:$F$100,6,FALSE)),\"\",VLOOKUP(C1110,BDDG!$A$2:$F$100,6,FALSE))","v":"AA27"},{"$f":"IF(ISERROR(VLOOKUP(C1110,BDDG!$A$2:$G$100,7,FALSE)),\"\",VLOOKUP(C1110,BDDG!$A$2:$G$100,7,FALSE))","v":2},{"$f":"IF(ISERROR(VLOOKUP(C1110,BDDG!$A$2:$H$100,8,FALSE)),\"\",VLOOKUP(C1110,BDDG!$A$2:$H$100,8,FALSE))","v":"BB27"},12,33.47,30.976994323274578,{"$f":"IF(ISERROR(VLOOKUP(C1110,BDDG!$A$2:$I$100,9,FALSE)),\"\",VLOOKUP(C1110,BDDG!$A$2:$I$100,9,FALSE))","v":"CC27"},12,2.81,368.96797153024909,{"$f":"IF(ISERROR(VLOOKUP(C1110,BDDG!$A$2:$J$100,10,FALSE)),\"\",VLOOKUP(C1110,BDDG!$A$2:$J$100,10,FALSE))","v":"DD27"},null,null,"",399.94496585352368,5,2016,{"$f":"IFERROR(INDEX($V$2:V1110,MATCH(H1110&MAX(IF($H$1:H1109=H1110,$A$1:A1109)),$H$2:H1110&$A$2:A1110,0))-V1110,\"\")","v":371.03035729571258}]
["2016-05-10","Soleil",859,{"$f":"IF(ISNA(VLOOKUP(C1111,BDDG!$A$2:$F$100,2,FALSE)),\"\",VLOOKUP(C1111,BDDG!$A$2:$F$100,2,FALSE))","v":0},{"$f":"IF(ISNA(VLOOKUP(C1111,BDDG!$A$3:$J$102,3,FALSE)),\"\",VLOOKUP(C1111,BDDG!$A$3:$J$102,3,FALSE))","v":"A"},{"$f":"IF(ISNA(VLOOKUP(C1111,BDDG!$A$3:$J$102,4,FALSE)),\"\",VLOOKUP(C1111,BDDG!$A$3:$J$102,4,FALSE))","v":106},{"$f":"IF(ISNA(VLOOKUP(C1111,BDDG!$A$2:$F$100,5,FALSE)),\"\",VLOOKUP(C1111,BDDG!$A$2:$F$100,5,FALSE))","v":"A10"},{"$f":"IF(ISNA(VLOOKUP(C1111,BDDG!$A$2:$F$100,6,FALSE)),\"\",VLOOKUP(C1111,BDDG!$A$2:$F$100,6,FALSE))","v":"AA30"},{"$f":"IF(ISERROR(VLOOKUP(C1111,BDDG!$A$2:$G$100,7,FALSE)),\"\",VLOOKUP(C1111,BDDG!$A$2:$G$100,7,FALSE))","v":1},{"$f":"IF(ISERROR(VLOOKUP(C1111,BDDG!$A$2:$H$100,8,FALSE)),\"\",VLOOKUP(C1111,BDDG!$A$2:$H$100,8,FALSE))","v":"BB30"},2,39.47,4.37800861413732,{"$f":"IF(ISERROR(VLOOKUP(C1111,BDDG!$A$2:$I$100,9,FALSE)),\"\",VLOOKUP(C1111,BDDG!$A$2:$I$100,9,FALSE))","v":"CC30"},null,null,"",{"$f":"IF(ISERROR(VLOOKUP(C1111,BDDG!$A$2:$J$100,10,FALSE)),\"\",VLOOKUP(C1111,BDDG!$A$2:$J$100,10,FALSE))","v":"DD30"},null,null,"",4.37800861413732,5,2016,{"$f":"IFERROR(INDEX($V$2:V1111,MATCH(H1111&MAX(IF($H$1:H1110=H1111,$A$1:A1110)),$H$2:H1111&$A$2:A1111,0))-V1111,\"\")","v":2.0784254017048571}]
["2016-05-10","Soleil",815,{"$f":"IF(ISNA(VLOOKUP(C1112,BDDG!$A$2:$F$100,2,FALSE)),\"\",VLOOKUP(C1112,BDDG!$A$2:$F$100,2,FALSE))","v":0},{"$f":"IF(ISNA(VLOOKUP(C1112,BDDG!$A$3:$J$102,3,FALSE)),\"\",VLOOKUP(C1112,BDDG!$A$3:$J$102,3,FALSE))","v":"A"},{"$f":"IF(ISNA(VLOOKUP(C1112,BDDG!$A$3:$J$102,4,FALSE)),\"\",VLOOKUP(C1112,BDDG!$A$3:$J$102,4,FALSE))","v":106},{"$f":"IF(ISNA(VLOOKUP(C1112,BDDG!$A$2:$F$100,5,FALSE)),\"\",VLOOKUP(C1112,BDDG!$A$2:$F$100,5,FALSE))","v":"A10"},{"$f":"IF(ISNA(VLOOKUP(C1112,BDDG!$A$2:$F$100,6,FALSE)),\"\",VLOOKUP(C1112,BDDG!$A$2:$F$100,6,FALSE))","v":"AA31"},{"$f":"IF(ISERROR(VLOOKUP(C1112,BDDG!$A$2:$G$100,7,FALSE)),\"\",VLOOKUP(C1112,BDDG!$A$2:$G$100,7,FALSE))","v":1},{"$f":"IF(ISERROR(VLOOKUP(C1112,BDDG!$A$2:$H$100,8,FALSE)),\"\",VLOOKUP(C1112,BDDG!$A$2:$H$100,8,FALSE))","v":"BB31"},5,18.559999999999999,23.27586206896552,{"$f":"IF(ISERROR(VLOOKUP(C1112,BDDG!$A$2:$I$100,9,FALSE)),\"\",VLOOKUP(C1112,BDDG!$A$2:$I$100,9,FALSE))","v":"CC31"},null,null,"",{"$f":"IF(ISERROR(VLOOKUP(C1112,BDDG!$A$2:$J$100,10,FALSE)),\"\",VLOOKUP(C1112,BDDG!$A$2:$J$100,10,FALSE))","v":"DD31"},null,null,"",23.27586206896552,5,2016,{"$f":"IFERROR(INDEX($V$2:V1112,MATCH(H1112&MAX(IF($H$1:H1111=H1112,$A$1:A1111)),$H$2:H1112&$A$2:A1112,0))-V1112,\"\")","v":-12.754673564338145}]
["2016-05-10","Soleil",863,{"$f":"IF(ISNA(VLOOKUP(C1113,BDDG!$A$2:$F$100,2,FALSE)),\"\",VLOOKUP(C1113,BDDG!$A$2:$F$100,2,FALSE))","v":0},{"$f":"IF(ISNA(VLOOKUP(C1113,BDDG!$A$3:$J$102,3,FALSE)),\"\",VLOOKUP(C1113,BDDG!$A$3:$J$102,3,FALSE))","v":"A"},{"$f":"IF(ISNA(VLOOKUP(C1113,BDDG!$A$3:$J$102,4,FALSE)),\"\",VLOOKUP(C1113,BDDG!$A$3:$J$102,4,FALSE))","v":106},{"$f":"IF(ISNA(VLOOKUP(C1113,BDDG!$A$2:$F$100,5,FALSE)),\"\",VLOOKUP(C1113,BDDG!$A$2:$F$100,5,FALSE))","v":"A13"},{"$f":"IF(ISNA(VLOOKUP(C1113,BDDG!$A$2:$F$100,6,FALSE)),\"\",VLOOKUP(C1113,BDDG!$A$2:$F$100,6,FALSE))","v":"AA35"},{"$f":"IF(ISERROR(VLOOKUP(C1113,BDDG!$A$2:$G$100,7,FALSE)),\"\",VLOOKUP(C1113,BDDG!$A$2:$G$100,7,FALSE))","v":1},{"$f":"IF(ISERROR(VLOOKUP(C1113,BDDG!$A$2:$H$100,8,FALSE)),\"\",VLOOKUP(C1113,BDDG!$A$2:$H$100,8,FALSE))","v":"BB35"},12,35.25,29.412765957446808,{"$f":"IF(ISERROR(VLOOKUP(C1113,BDDG!$A$2:$I$100,9,FALSE)),\"\",VLOOKUP(C1113,BDDG!$A$2:$I$100,9,FALSE))","v":"CC35"},null,null,"",{"$f":"IF(ISERROR(VLOOKUP(C1113,BDDG!$A$2:$J$100,10,FALSE)),\"\",VLOOKUP(C1113,BDDG!$A$2:$J$100,10,FALSE))","v":"DD35"},null,null,"",29.412765957446808,5,2016,{"$f":"IFERROR(INDEX($V$2:V1113,MATCH(H1113&MAX(IF($H$1:H1112=H1113,$A$1:A1112)),$H$2:H1113&$A$2:A1113,0))-V1113,\"\")","v":-7.9522592510384627}]
["2016-05-10","Soleil",864,{"$f":"IF(ISNA(VLOOKUP(C1114,BDDG!$A$2:$F$100,2,FALSE)),\"\",VLOOKUP(C1114,BDDG!$A$2:$F$100,2,FALSE))","v":0},{"$f":"IF(ISNA(VLOOKUP(C1114,BDDG!$A$3:$J$102,3,FALSE)),\"\",VLOOKUP(C1114,BDDG!$A$3:$J$102,3,FALSE))","v":"A"},{"$f":"IF(ISNA(VLOOKUP(C1114,BDDG!$A$3:$J$102,4,FALSE)),\"\",VLOOKUP(C1114,BDDG!$A$3:$J$102,4,FALSE))","v":106},{"$f":"IF(ISNA(VLOOKUP(C1114,BDDG!$A$2:$F$100,5,FALSE)),\"\",VLOOKUP(C1114,BDDG!$A$2:$F$100,5,FALSE))","v":"A13"},{"$f":"IF(ISNA(VLOOKUP(C1114,BDDG!$A$2:$F$100,6,FALSE)),\"\",VLOOKUP(C1114,BDDG!$A$2:$F$100,6,FALSE))","v":"AA36"},{"$f":"IF(ISERROR(VLOOKUP(C1114,BDDG!$A$2:$G$100,7,FALSE)),\"\",VLOOKUP(C1114,BDDG!$A$2:$G$100,7,FALSE))","v":1},{"$f":"IF(ISERROR(VLOOKUP(C1114,BDDG!$A$2:$H$100,8,FALSE)),\"\",VLOOKUP(C1114,BDDG!$A$2:$H$100,8,FALSE))","v":"BB36"},5,10.47,41.260744985673348,{"$f":"IF(ISERROR(VLOOKUP(C1114,BDDG!$A$2:$I$100,9,FALSE)),\"\",VLOOKUP(C1114,BDDG!$A$2:$I$100,9,FALSE))","v":"CC36"},null,null,"",{"$f":"IF(ISERROR(VLOOKUP(C1114,BDDG!$A$2:$J$100,10,FALSE)),\"\",VLOOKUP(C1114,BDDG!$A$2:$J$100,10,FALSE))","v":"DD36"},null,null,"",41.260744985673348,5,2016,{"$f":"IFERROR(INDEX($V$2:V1114,MATCH(H1114&MAX(IF($H$1:H1113=H1114,$A$1:A1113)),$H$2:H1114&$A$2:A1114,0))-V1114,\"\")","v":-2.5510675663185083}]
["2016-05-10","Soleil",865,{"$f":"IF(ISNA(VLOOKUP(C1115,BDDG!$A$2:$F$100,2,FALSE)),\"\",VLOOKUP(C1115,BDDG!$A$2:$F$100,2,FALSE))","v":0},{"$f":"IF(ISNA(VLOOKUP(C1115,BDDG!$A$3:$J$102,3,FALSE)),\"\",VLOOKUP(C1115,BDDG!$A$3:$J$102,3,FALSE))","v":"A"},{"$f":"IF(ISNA(VLOOKUP(C1115,BDDG!$A$3:$J$102,4,FALSE)),\"\",VLOOKUP(C1115,BDDG!$A$3:$J$102,4,FALSE))","v":106},{"$f":"IF(ISNA(VLOOKUP(C1115,BDDG!$A$2:$F$100,5,FALSE)),\"\",VLOOKUP(C1115,BDDG!$A$2:$F$100,5,FALSE))","v":"A15"},{"$f":"IF(ISNA(VLOOKUP(C1115,BDDG!$A$2:$F$100,6,FALSE)),\"\",VLOOKUP(C1115,BDDG!$A$2:$F$100,6,FALSE))","v":"AA37"},{"$f":"IF(ISERROR(VLOOKUP(C1115,BDDG!$A$2:$G$100,7,FALSE)),\"\",VLOOKUP(C1115,BDDG!$A$2:$G$100,7,FALSE))","v":1},{"$f":"IF(ISERROR(VLOOKUP(C1115,BDDG!$A$2:$H$100,8,FALSE)),\"\",VLOOKUP(C1115,BDDG!$A$2:$H$100,8,FALSE))","v":"BB37"},2,93.18,1.854475209272376,{"$f":"IF(ISERROR(VLOOKUP(C1115,BDDG!$A$2:$I$100,9,FALSE)),\"\",VLOOKUP(C1115,BDDG!$A$2:$I$100,9,FALSE))","v":"CC37"},null,null,"",{"$f":"IF(ISERROR(VLOOKUP(C1115,BDDG!$A$2:$J$100,10,FALSE)),\"\",VLOOKUP(C1115,BDDG!$A$2:$J$100,10,FALSE))","v":"DD37"},null,null,"",1.854475209272376,5,2016,{"$f":"IFERROR(INDEX($V$2:V1115,MATCH(H1115&MAX(IF($H$1:H1114=H1115,$A$1:A1114)),$H$2:H1115&$A$2:A1115,0))-V1115,\"\")","v":-1.2564271716174995}]
["2016-05-11","Pluie",841,{"$f":"IF(ISNA(VLOOKUP(C1116,BDDG!$A$2:$F$100,2,FALSE)),\"\",VLOOKUP(C1116,BDDG!$A$2:$F$100,2,FALSE))","v":0},{"$f":"IF(ISNA(VLOOKUP(C1116,BDDG!$A$3:$J$102,3,FALSE)),\"\",VLOOKUP(C1116,BDDG!$A$3:$J$102,3,FALSE))","v":"A"},{"$f":"IF(ISNA(VLOOKUP(C1116,BDDG!$A$3:$J$102,4,FALSE)),\"\",VLOOKUP(C1116,BDDG!$A$3:$J$102,4,FALSE))","v":106},{"$f":"IF(ISNA(VLOOKUP(C1116,BDDG!$A$2:$F$100,5,FALSE)),\"\",VLOOKUP(C1116,BDDG!$A$2:$F$100,5,FALSE))","v":"A4"},{"$f":"IF(ISNA(VLOOKUP(C1116,BDDG!$A$2:$F$100,6,FALSE)),\"\",VLOOKUP(C1116,BDDG!$A$2:$F$100,6,FALSE))","v":"AA11"},{"$f":"IF(ISERROR(VLOOKUP(C1116,BDDG!$A$2:$G$100,7,FALSE)),\"\",VLOOKUP(C1116,BDDG!$A$2:$G$100,7,FALSE))","v":2},{"$f":"IF(ISERROR(VLOOKUP(C1116,BDDG!$A$2:$H$100,8,FALSE)),\"\",VLOOKUP(C1116,BDDG!$A$2:$H$100,8,FALSE))","v":"BB11"},null,null,null,{"$f":"IF(ISERROR(VLOOKUP(C1116,BDDG!$A$2:$I$100,9,FALSE)),\"\",VLOOKUP(C1116,BDDG!$A$2:$I$100,9,FALSE))","v":"CC11"},12,38.56,26.887966804979254,{"$f":"IF(ISERROR(VLOOKUP(C1116,BDDG!$A$2:$J$100,10,FALSE)),\"\",VLOOKUP(C1116,BDDG!$A$2:$J$100,10,FALSE))","v":"DD11"},null,null,"",26.887966804979254,5,2016,{"$f":"IFERROR(INDEX($V$2:V1116,MATCH(H1116&MAX(IF($H$1:H1115=H1116,$A$1:A1115)),$H$2:H1116&$A$2:A1116,0))-V1116,\"\")","v":-3.8479668049792508}]
["2016-05-11","Pluie",860,{"$f":"IF(ISNA(VLOOKUP(C1117,BDDG!$A$2:$F$100,2,FALSE)),\"\",VLOOKUP(C1117,BDDG!$A$2:$F$100,2,FALSE))","v":0},{"$f":"IF(ISNA(VLOOKUP(C1117,BDDG!$A$3:$J$102,3,FALSE)),\"\",VLOOKUP(C1117,BDDG!$A$3:$J$102,3,FALSE))","v":"A"},{"$f":"IF(ISNA(VLOOKUP(C1117,BDDG!$A$3:$J$102,4,FALSE)),\"\",VLOOKUP(C1117,BDDG!$A$3:$J$102,4,FALSE))","v":106},{"$f":"IF(ISNA(VLOOKUP(C1117,BDDG!$A$2:$F$100,5,FALSE)),\"\",VLOOKUP(C1117,BDDG!$A$2:$F$100,5,FALSE))","v":"A11"},{"$f":"IF(ISNA(VLOOKUP(C1117,BDDG!$A$2:$F$100,6,FALSE)),\"\",VLOOKUP(C1117,BDDG!$A$2:$F$100,6,FALSE))","v":"AA32"},{"$f":"IF(ISERROR(VLOOKUP(C1117,BDDG!$A$2:$G$100,7,FALSE)),\"\",VLOOKUP(C1117,BDDG!$A$2:$G$100,7,FALSE))","v":2},{"$f":"IF(ISERROR(VLOOKUP(C1117,BDDG!$A$2:$H$100,8,FALSE)),\"\",VLOOKUP(C1117,BDDG!$A$2:$H$100,8,FALSE))","v":"BB32"},12,21.13,{"$f":" IF(ISERROR(K1117/L1117*86.4),\"\",K1117/L1117*86.4)","v":49.067676289635592},{"$f":"IF(ISERROR(VLOOKUP(C1117,BDDG!$A$2:$I$100,9,FALSE)),\"\",VLOOKUP(C1117,BDDG!$A$2:$I$100,9,FALSE))","v":"CC32"},12,6.66,155.67567567567568,{"$f":"IF(ISERROR(VLOOKUP(C1117,BDDG!$A$2:$J$100,10,FALSE)),\"\",VLOOKUP(C1117,BDDG!$A$2:$J$100,10,FALSE))","v":"DD32"},null,null,"",204.74335196531126,5,2016,{"$f":"IFERROR(INDEX($V$2:V1117,MATCH(H1117&MAX(IF($H$1:H1116=H1117,$A$1:A1116)),$H$2:H1117&$A$2:A1117,0))-V1117,\"\")","v":97.528318733052174}]
["2016-05-11","Pluie",861,{"$f":"IF(ISNA(VLOOKUP(C1118,BDDG!$A$2:$F$100,2,FALSE)),\"\",VLOOKUP(C1118,BDDG!$A$2:$F$100,2,FALSE))","v":0},{"$f":"IF(ISNA(VLOOKUP(C1118,BDDG!$A$3:$J$102,3,FALSE)),\"\",VLOOKUP(C1118,BDDG!$A$3:$J$102,3,FALSE))","v":"A"},{"$f":"IF(ISNA(VLOOKUP(C1118,BDDG!$A$3:$J$102,4,FALSE)),\"\",VLOOKUP(C1118,BDDG!$A$3:$J$102,4,FALSE))","v":106},{"$f":"IF(ISNA(VLOOKUP(C1118,BDDG!$A$2:$F$100,5,FALSE)),\"\",VLOOKUP(C1118,BDDG!$A$2:$F$100,5,FALSE))","v":"A11"},{"$f":"IF(ISNA(VLOOKUP(C1118,BDDG!$A$2:$F$100,6,FALSE)),\"\",VLOOKUP(C1118,BDDG!$A$2:$F$100,6,FALSE))","v":"AA33"},{"$f":"IF(ISERROR(VLOOKUP(C1118,BDDG!$A$2:$G$100,7,FALSE)),\"\",VLOOKUP(C1118,BDDG!$A$2:$G$100,7,FALSE))","v":2},{"$f":"IF(ISERROR(VLOOKUP(C1118,BDDG!$A$2:$H$100,8,FALSE)),\"\",VLOOKUP(C1118,BDDG!$A$2:$H$100,8,FALSE))","v":"BB33"},null,null,"",{"$f":"IF(ISERROR(VLOOKUP(C1118,BDDG!$A$2:$I$100,9,FALSE)),\"\",VLOOKUP(C1118,BDDG!$A$2:$I$100,9,FALSE))","v":"CC33"},12,6.44,160.99378881987579,{"$f":"IF(ISERROR(VLOOKUP(C1118,BDDG!$A$2:$J$100,10,FALSE)),\"\",VLOOKUP(C1118,BDDG!$A$2:$J$100,10,FALSE))","v":"DD33"},null,null,"",160.99378881987579,5,2016,{"$f":"IFERROR(INDEX($V$2:V1118,MATCH(H1118&MAX(IF($H$1:H1117=H1118,$A$1:A1117)),$H$2:H1118&$A$2:A1118,0))-V1118,\"\")","v":23.621595795508824}]
["2016-05-11","Pluie",862,{"$f":"IF(ISNA(VLOOKUP(C1119,BDDG!$A$2:$F$100,2,FALSE)),\"\",VLOOKUP(C1119,BDDG!$A$2:$F$100,2,FALSE))","v":0},{"$f":"IF(ISNA(VLOOKUP(C1119,BDDG!$A$3:$J$102,3,FALSE)),\"\",VLOOKUP(C1119,BDDG!$A$3:$J$102,3,FALSE))","v":"A"},{"$f":"IF(ISNA(VLOOKUP(C1119,BDDG!$A$3:$J$102,4,FALSE)),\"\",VLOOKUP(C1119,BDDG!$A$3:$J$102,4,FALSE))","v":106},{"$f":"IF(ISNA(VLOOKUP(C1119,BDDG!$A$2:$F$100,5,FALSE)),\"\",VLOOKUP(C1119,BDDG!$A$2:$F$100,5,FALSE))","v":"A12"},{"$f":"IF(ISNA(VLOOKUP(C1119,BDDG!$A$2:$F$100,6,FALSE)),\"\",VLOOKUP(C1119,BDDG!$A$2:$F$100,6,FALSE))","v":"AA34"},{"$f":"IF(ISERROR(VLOOKUP(C1119,BDDG!$A$2:$G$100,7,FALSE)),\"\",VLOOKUP(C1119,BDDG!$A$2:$G$100,7,FALSE))","v":1},{"$f":"IF(ISERROR(VLOOKUP(C1119,BDDG!$A$2:$H$100,8,FALSE)),\"\",VLOOKUP(C1119,BDDG!$A$2:$H$100,8,FALSE))","v":"BB34"},12,13.97,74.216177523264136,{"$f":"IF(ISERROR(VLOOKUP(C1119,BDDG!$A$2:$I$100,9,FALSE)),\"\",VLOOKUP(C1119,BDDG!$A$2:$I$100,9,FALSE))","v":"CC34"},null,null,"",{"$f":"IF(ISERROR(VLOOKUP(C1119,BDDG!$A$2:$J$100,10,FALSE)),\"\",VLOOKUP(C1119,BDDG!$A$2:$J$100,10,FALSE))","v":"DD34"},null,null,"",74.216177523264136,5,2016,{"$f":"IFERROR(INDEX($V$2:V1119,MATCH(H1119&MAX(IF($H$1:H1118=H1119,$A$1:A1118)),$H$2:H1119&$A$2:A1119,0))-V1119,\"\")","v":-10.413100600187207}]
["2016-05-11","Pluie",842,{"$f":"IF(ISNA(VLOOKUP(C1120,BDDG!$A$2:$F$100,2,FALSE)),\"\",VLOOKUP(C1120,BDDG!$A$2:$F$100,2,FALSE))","v":0},{"$f":"IF(ISNA(VLOOKUP(C1120,BDDG!$A$3:$J$102,3,FALSE)),\"\",VLOOKUP(C1120,BDDG!$A$3:$J$102,3,FALSE))","v":"B"},{"$f":"IF(ISNA(VLOOKUP(C1120,BDDG!$A$3:$J$102,4,FALSE)),\"\",VLOOKUP(C1120,BDDG!$A$3:$J$102,4,FALSE))","v":106},{"$f":"IF(ISNA(VLOOKUP(C1120,BDDG!$A$2:$F$100,5,FALSE)),\"\",VLOOKUP(C1120,BDDG!$A$2:$F$100,5,FALSE))","v":"A5"},{"$f":"IF(ISNA(VLOOKUP(C1120,BDDG!$A$2:$F$100,6,FALSE)),\"\",VLOOKUP(C1120,BDDG!$A$2:$F$100,6,FALSE))","v":"AA13"},{"$f":"IF(ISERROR(VLOOKUP(C1120,BDDG!$A$2:$G$100,7,FALSE)),\"\",VLOOKUP(C1120,BDDG!$A$2:$G$100,7,FALSE))","v":1},{"$f":"IF(ISERROR(VLOOKUP(C1120,BDDG!$A$2:$H$100,8,FALSE)),\"\",VLOOKUP(C1120,BDDG!$A$2:$H$100,8,FALSE))","v":"BB13"},12,24.78,41.840193704600487,{"$f":"IF(ISERROR(VLOOKUP(C1120,BDDG!$A$2:$I$100,9,FALSE)),\"\",VLOOKUP(C1120,BDDG!$A$2:$I$100,9,FALSE))","v":"CC13"},null,null,"",{"$f":"IF(ISERROR(VLOOKUP(C1120,BDDG!$A$2:$J$100,10,FALSE)),\"\",VLOOKUP(C1120,BDDG!$A$2:$J$100,10,FALSE))","v":"DD13"},null,null,"",41.840193704600487,5,2016,{"$f":"IFERROR(INDEX($V$2:V1120,MATCH(H1120&MAX(IF($H$1:H1119=H1120,$A$1:A1119)),$H$2:H1120&$A$2:A1120,0))-V1120,\"\")","v":-11.310158368911438}]
["2016-05-11","Pluie",849,{"$f":"IF(ISNA(VLOOKUP(C1121,BDDG!$A$2:$F$100,2,FALSE)),\"\",VLOOKUP(C1121,BDDG!$A$2:$F$100,2,FALSE))","v":0},{"$f":"IF(ISNA(VLOOKUP(C1121,BDDG!$A$3:$J$102,3,FALSE)),\"\",VLOOKUP(C1121,BDDG!$A$3:$J$102,3,FALSE))","v":"B"},{"$f":"IF(ISNA(VLOOKUP(C1121,BDDG!$A$3:$J$102,4,FALSE)),\"\",VLOOKUP(C1121,BDDG!$A$3:$J$102,4,FALSE))","v":106},{"$f":"IF(ISNA(VLOOKUP(C1121,BDDG!$A$2:$F$100,5,FALSE)),\"\",VLOOKUP(C1121,BDDG!$A$2:$F$100,5,FALSE))","v":"A7"},{"$f":"IF(ISNA(VLOOKUP(C1121,BDDG!$A$2:$F$100,6,FALSE)),\"\",VLOOKUP(C1121,BDDG!$A$2:$F$100,6,FALSE))","v":"AA15"},{"$f":"IF(ISERROR(VLOOKUP(C1121,BDDG!$A$2:$G$100,7,FALSE)),\"\",VLOOKUP(C1121,BDDG!$A$2:$G$100,7,FALSE))","v":2},{"$f":"IF(ISERROR(VLOOKUP(C1121,BDDG!$A$2:$H$100,8,FALSE)),\"\",VLOOKUP(C1121,BDDG!$A$2:$H$100,8,FALSE))","v":"BB15"},5,18.57,23.263327948303719,{"$f":"IF(ISERROR(VLOOKUP(C1121,BDDG!$A$2:$I$100,9,FALSE)),\"\",VLOOKUP(C1121,BDDG!$A$2:$I$100,9,FALSE))","v":"CC15"},5,6.22,69.453376205787791,{"$f":"IF(ISERROR(VLOOKUP(C1121,BDDG!$A$2:$J$100,10,FALSE)),\"\",VLOOKUP(C1121,BDDG!$A$2:$J$100,10,FALSE))","v":"DD15"},null,null,"",92.716704154091502,5,2016,{"$f":"IFERROR(INDEX($V$2:V1121,MATCH(H1121&MAX(IF($H$1:H1120=H1121,$A$1:A1120)),$H$2:H1121&$A$2:A1121,0))-V1121,\"\")","v":48.972485035097691}]
["2016-05-11","Pluie",845,{"$f":"IF(ISNA(VLOOKUP(C1122,BDDG!$A$2:$F$100,2,FALSE)),\"\",VLOOKUP(C1122,BDDG!$A$2:$F$100,2,FALSE))","v":0},{"$f":"IF(ISNA(VLOOKUP(C1122,BDDG!$A$3:$J$102,3,FALSE)),\"\",VLOOKUP(C1122,BDDG!$A$3:$J$102,3,FALSE))","v":"B"},{"$f":"IF(ISNA(VLOOKUP(C1122,BDDG!$A$3:$J$102,4,FALSE)),\"\",VLOOKUP(C1122,BDDG!$A$3:$J$102,4,FALSE))","v":106},{"$f":"IF(ISNA(VLOOKUP(C1122,BDDG!$A$2:$F$100,5,FALSE)),\"\",VLOOKUP(C1122,BDDG!$A$2:$F$100,5,FALSE))","v":"A7"},{"$f":"IF(ISNA(VLOOKUP(C1122,BDDG!$A$2:$F$100,6,FALSE)),\"\",VLOOKUP(C1122,BDDG!$A$2:$F$100,6,FALSE))","v":"AA16"},{"$f":"IF(ISERROR(VLOOKUP(C1122,BDDG!$A$2:$G$100,7,FALSE)),\"\",VLOOKUP(C1122,BDDG!$A$2:$G$100,7,FALSE))","v":1},{"$f":"IF(ISERROR(VLOOKUP(C1122,BDDG!$A$2:$H$100,8,FALSE)),\"\",VLOOKUP(C1122,BDDG!$A$2:$H$100,8,FALSE))","v":"BB16"},12,60.13,17.242640944619993,{"$f":"IF(ISERROR(VLOOKUP(C1122,BDDG!$A$2:$I$100,9,FALSE)),\"\",VLOOKUP(C1122,BDDG!$A$2:$I$100,9,FALSE))","v":"CC16"},null,null,"",{"$f":"IF(ISERROR(VLOOKUP(C1122,BDDG!$A$2:$J$100,10,FALSE)),\"\",VLOOKUP(C1122,BDDG!$A$2:$J$100,10,FALSE))","v":"DD16"},null,null,"",17.242640944619993,5,2016,{"$f":"IFERROR(INDEX($V$2:V1122,MATCH(H1122&MAX(IF($H$1:H1121=H1122,$A$1:A1121)),$H$2:H1122&$A$2:A1122,0))-V1122,\"\")","v":-3.3206299874817375}]
["2016-05-11","Pluie",847,{"$f":"IF(ISNA(VLOOKUP(C1123,BDDG!$A$2:$F$100,2,FALSE)),\"\",VLOOKUP(C1123,BDDG!$A$2:$F$100,2,FALSE))","v":0},{"$f":"IF(ISNA(VLOOKUP(C1123,BDDG!$A$3:$J$102,3,FALSE)),\"\",VLOOKUP(C1123,BDDG!$A$3:$J$102,3,FALSE))","v":"B"},{"$f":"IF(ISNA(VLOOKUP(C1123,BDDG!$A$3:$J$102,4,FALSE)),\"\",VLOOKUP(C1123,BDDG!$A$3:$J$102,4,FALSE))","v":106},{"$f":"IF(ISNA(VLOOKUP(C1123,BDDG!$A$2:$F$100,5,FALSE)),\"\",VLOOKUP(C1123,BDDG!$A$2:$F$100,5,FALSE))","v":"A7"},{"$f":"IF(ISNA(VLOOKUP(C1123,BDDG!$A$2:$F$100,6,FALSE)),\"\",VLOOKUP(C1123,BDDG!$A$2:$F$100,6,FALSE))","v":"AA18"},{"$f":"IF(ISERROR(VLOOKUP(C1123,BDDG!$A$2:$G$100,7,FALSE)),\"\",VLOOKUP(C1123,BDDG!$A$2:$G$100,7,FALSE))","v":2},{"$f":"IF(ISERROR(VLOOKUP(C1123,BDDG!$A$2:$H$100,8,FALSE)),\"\",VLOOKUP(C1123,BDDG!$A$2:$H$100,8,FALSE))","v":"BB18"},12,28.56,36.302521008403367,{"$f":"IF(ISERROR(VLOOKUP(C1123,BDDG!$A$2:$I$100,9,FALSE)),\"\",VLOOKUP(C1123,BDDG!$A$2:$I$100,9,FALSE))","v":"CC18"},12,46.41,22.340012928248225,{"$f":"IF(ISERROR(VLOOKUP(C1123,BDDG!$A$2:$J$100,10,FALSE)),\"\",VLOOKUP(C1123,BDDG!$A$2:$J$100,10,FALSE))","v":"DD18"},null,null,"",58.642533936651589,5,2016,{"$f":"IFERROR(INDEX($V$2:V1123,MATCH(H1123&MAX(IF($H$1:H1122=H1123,$A$1:A1122)),$H$2:H1123&$A$2:A1123,0))-V1123,\"\")","v":14.038460418107263}]

{"sheet":"Météo","index":1,"n_rows":7,"n_cols":1,"rows_kept":7,"cut":false,"hidden":true,"merged":[]}
["Couvert"]
["Froid"]
["Neige"]
["Pluie"]
["Sécheresse"]
["Soleil"]
["Vent chaud"]

{"sheet":"BDDG","index":2,"n_rows":1664,"n_cols":12,"rows_kept":1664,"cut":false,"hidden":false,"merged":[[58,0,58,1]]}
[1,2,3,4,5,6,7,8,9,10]
["Code","N°Ars","Syndicat","Secteur  ","Commune  ","Nom des Captages ","Nbrs de sources  ","Nom ou N° sources 1 (DROITE)","Nom ou N° sources 2 (GAUCHE)","Nom ou N° sources 3 (MILIEU)"]
[831,null,"A",106,"A1","AA1",1,"BB1","CC1","DD1"]
[832,null,"A",106,"A2","AA2",1,"BB2","CC2","DD2"]
[833,null,"A",106,"A2","AA3",1,"BB3","CC3","DD3"]
[834,null,"A",106,"A2","AA4",1,"BB4","CC4","DD4"]
[835,null,"A",106,"A3","AA5",1,"BB5","CC5","DD5"]
[836,null,"A",106,"A3","AA6",1,"BB6","CC6","DD6"]
[837,null,"A",106,"A3","AA7",1,"BB7","CC7","DD7"]
[838,null,"A",106,"A3","AA8",1,"BB8","CC8","DD8"]
[840,null,"A",106,"A3","AA9",2,"BB9","CC9","DD9"]
[839,null,"A",106,"A3","AA10",2,"BB10","CC10","DD10"]
[841,null,"A",106,"A4","AA11",2,"BB11","CC11","DD11"]
[822,null,"A",106,"A4","AA12",1,"BB12","CC12","DD12"]
[842,null,"B",106,"A5","AA13",1,"BB13","CC13","DD13"]
[844,null,"B",106,"A6","AA14",2,"BB14","CC14","DD14"]
[849,null,"B",106,"A7","AA15",2,"BB15","CC15","DD15"]
[845,null,"B",106,"A7","AA16",1,"BB16","CC16","DD16"]
[846,null,"B",106,"A7","AA17",1,"BB17","CC17","DD17"]
[847,null,"B",106,"A7","AA18",2,"BB18","CC18","DD18"]
[848,null,"B",106,"A7","AA19",2,"BB19","CC19","DD19"]
[850,null,"B",106,"A8","AA20",1,"BB20","CC20","DD20"]
[851,null,"A",106,"A9","AA21",2,"BB21","CC21","DD21"]
[852,null,"A",106,"A9","AA22",1,"BB22","CC22","DD22"]
[853,null,"A",106,"A9","AA23",3,"BB23","CC23","DD23"]
[8000,null,"A",106,"A9","AA24",1,"BB24","CC24","DD24"]
[854,null,"A",106,"A9","AA25",2,"BB25","CC25","DD25"]
[855,null,"A",106,"A9","AA26",2,"BB26","CC26","DD26"]
[856,null,"A",106,"A9","AA27",2,"BB27","CC27","DD27"]
[857,null,"A",106,"A9","AA28",1,"BB28","CC28","DD28"]
[858,null,"A",106,"A9","AA29",1,"BB29","CC29","DD29"]
[859,null,"A",106,"A10","AA30",1,"BB30","CC30","DD30"]
[815,null,"A",106,"A10","AA31",1,"BB31","CC31","DD31"]
[860,null,"A",106,"A11","AA32",2,"BB32","CC32","DD32"]
[861,null,"A",106,"A11","AA33",2,"BB33","CC33","DD33"]
[862,null,"A",106,"A12","AA34",1,"BB34","CC34","DD34"]
[863,null,"A",106,"A13","AA35",1,"BB35","CC35","DD35"]
[864,null,"A",106,"A13","AA36",1,"BB36","CC36","DD36"]
[865,null,"A",106,"A15","AA37",1,"BB37","CC37","DD37"]
[868,null,"A",108,"A16","AA39",2,"BB39","CC39","DD39"]
[869,null,"A",108,"A16","AA40",3,"BB40","CC40","DD40"]
[870,null,"A",108,"A16","AA41",2,"BB41","CC41","DD41"]
[866,null,"C",108,"A17","AA42",1,"BB42","CC42","DD42"]
[867,null,"C",108,"A17","AA43",1,"BB43","CC43","DD43"]
[871,null,"C",108,"A18","AA44",2,"BB44","CC44","DD44"]
[872,null,"C",108,"A18","AA45",3,"BB45","CC45","DD45"]
[873,null,"C",108,"A18","AA46",1,"BB46","CC46","DD46"]
[874,null,"C",108,"A18","AA47",1,"BB47","CC47","DD47"]
[875,null,"C",108,"A18","AA48",1,"BB48","CC48","DD48"]
[876,null,"C",108,"A18","AA49",2,"BB49","CC49","DD49"]
[877,null,"C",108,"A18","AA50",2,"BB50","CC50","DD50"]
[882,null,"C",108,"A18","AA51",1,"BB51","CC51","DD51"]
[878,null,"C",108,"A19","AA52",1,"BB52","CC52","DD52"]
[879,null,"C",108,"A19","AA53",3,"BB53","CC53","DD53"]
[880,null,"C",108,"A19","AA54",2,"BB54","CC54","DD54"]
[]
[]
[]
[]
[800]
[802]
[803]
[883]
[884]
[885]
[886]
[887]
[888]
[889]
[890]
[]
[]
[]
[]
[]
[]
[]
[]
[]
[]
[]
[]
[]
[]
[]
[]
[]
[]
[]
[]
[]
[]
[]
[]
[]
[]
[]
[]
[]
[]
[]
[]
[]
[]
[]
[]
[]
[]
[]
[]
[]
[]
[]
[]
[]
[]
[]
[]
[]
[]
[]
[]
[]
[]
[]
[]
[]
[]
[]
[]
[]
[]
[]
[]
[]
[]
[]
[]
[]
[]
[]
[]
[]
[]
[]
[]
[]
[]
[]
[]
[]
[]
[]
[]
[]
[]
[]
[]
[]
[]
[]
[]
[]
[]
[]
[]
[]
[]
[]
[]
[]
[]
[]
[]
[]
[]
[]
[]
[]
[]
[]
[]
[]
[]
[]
[]
[]
[]
[]
[]
[]
[]
[]
[]
[]
[]
[]
[]
[]
[]
[]
[]
[]
[]
[]
[]
[]
[]
[]
[]
[]
[]
[]
[]
[]
[]
[]
[]
[]
[]
[]
[]
[]
[]
[]
[]
[]
[]
[]
[]
[]
[]
[]
[]
[]
[]
[]
[]
[]
[]
[]
[]
[]
[]
[]
[]
[]
[]
[]
[]
[]
[]
[]
[]
[]
[]
[]
[]
[]
[]
[]
[]
[]
[]
[]
[]
[]
[]
[]
[]
[]
[]
[]
[]
[]
[]
[]
[]
[]
[]
[]
[]
[]
[]
[]
[]
[]
[]
[]
[]
[]
[]
[]
[]
[]
[]
[]
[]
[]
[]
[]
[]
[]
[]
[]
[]
[]
[]
[]
[]
[]
[]
[]
[]
[]
[]
[]
[]
[]
[]
[]
[]
[]
[]
[]
[]
[]
[]
[]
[]
[]
[]
[]
[]
[]
[]
[]
[]
[]
[]
[]
[]
[]
[]
[]
[]
[]
[]
[]
[]
[]
[]
[]
[]
[]
[]
[]
[]
[]
[]
[]
[]
[]
[]
[]
[]
[]
[]
[]
[]
[]
[]
[]
[]
[]
[]
[]
[]
[]
[]
[]
[]
[]
[]
[]
[]
[]
[]
[]
[]
[]
[]
[]
[]
[]
[]
[]
[]
[]
[]
[]
[]
[]
[]
[]
[]
[]
[]
[]
[]
[]
[]
[]
[]
[]
[]
[]
[]
[]
[]
[]
[]
[]
[]
[]
[]
[]
[]
[]
[]
[]
[]
[]
[]
[]
[]
[]
[]
[]
[]
[]
[]
[]
[]
[]
[]
[]
[]
[]
[]
[]
[]
[]
[]
[]
[]
[]
[]
[]
[]
[]
[]
[]
[]
[]
[]
[]
[]
[]
[]
[]
[]
[]
[]
[]
[]
[]
[]
[]
[]
[]
[]
[]
[]
[]
[]
[]
[]
[]
[]
[]
[]
[]
[]
[]
[]
[]
[]
[]
[]
[]
[]
[]
[]
[]
[]
[]
[]
[]
[]
[]
[]
[]
[]
[]
[]
[]
[]
[]
[]
[]
[]
[]
[]
[]
[]
[]
[]
[]
[]
[]
[]
[]
[]
[]
[]
[]
[]
[]
[]
[]
[]
[]
[]
[]
[]
[]
[]
[]
[]
[]
[]
[]
[]
[]
[]
[]
[]
[]
[]
[]
[]
[]
[]
[]
[]
[]
[]
[]
[]
[]
[]
[]
[]
[]
[]
[]
[]
[]
[]
[]
[]
[]
[]
[]
[]
[]
[]
[]
[]
[]
[]
[]
[]
[]
[]
[]
[]
[]
[]
[]
[]
[]
[]
[]
[]
[]
[]
[]
[]
[]
[]
[]
[]
[]
[]
[]
[]
[]
[]
[]
[]
[]
[]
[]
[]
[]
[]
[]
[]
[]
[]
[]
[]
[]
[]
[]
[]
[]
[]
[]
[]
[]
[]
[]
[]
[]
[]
[]
[]
[]
[]
[]
[]
[]
[]
[]
[]
[]
[]
[]
[]
[]
[]
[]
[]
[]
[]
[]
[]
[]
[]
[]
[]
[]
[]
[]
[]
[]
[]
[]
[]
[]
[]
[]
[]
[]
[]
[]
[]
[]
[]
[]
[]
[]
[]
[]
[]
[]
[]
[]
[]
[]
[]
[]
[]
[]
[]
[]
[]
[]
[]
[]
[]
[]
[]
[]
[]
[]
[]
[]
[]
[]
[]
[]
[]
[]
[]
[]
[]
[]
[]
[]
[]
[]
[]
[]
[]
[]
[]
[]
[]
[]
[]
[]
[]
[]
[]
[]
[]
[]
[]
[]
[]
[]
[]
[]
[]
[]
[]
[]
[]
[]
[]
[]
[]
[]
[]
[]
[]
[]
[]
[]
[]
[]
[]
[]
[]
[]
[]
[]
[]
[]
[]
[]
[]
[]
[]
[]
[]
[]
[]
[]
[]
[]
[]
[]
[]
[]
[]
[]
[]
[]
[]
[]
[]
[]
[]
[]
[]
[]
[]
[]
[]
[]
[]
[]
[]
[]
[]
[]
[]
[]
[]
[]
[]
[]
[]
[]
[]
[]
[]
[]
[]
[]
[]
[]
[]
[]
[]
[]
[]
[]
[]
[]
[]
[]
[]
[]
[]
[]
[]
[]
[]
[]
[]
[]
[]
[]
[]
[]
[]
[]
[]
[]
[]
[]
[]
[]
[]
[]
[]
[]
[]
[]
[]
[]
[]
[]
[]
[]
[]
[]
[]
[]
[]
[]
[]
[]
[]
[]
[]
[]
[]
[]
[]
[]
[]
[]
[]
[]
[]
[]
[]
[]
[]
[]
[]
[]
[]
[]
[]
[]
[]
[]
[]
[]
[]
[]
[]
[]
[]
[]
[]
[]
[]
[]
[]
[]
[]
[]
[]
[]
[]
[]
[]
[]
[]
[]
[]
[]
[]
[]
[]
[]
[]
[]
[]
[]
[]
[]
[]
[]
[]
[]
[]
[]
[]
[]
[]
[]
[]
[]
[]
[]
[]
[]
[]
[]
[]
[]
[]
[]
[]
[]
[]
[]
[]
[]
[]
[]
[]
[]
[]
[]
[]
[]
[]
[]
[]
[]
[]
[]
[]
[]
[]
[]
[]
[]
[]
[]
[]
[]
[]
[]
[]
[]
[]
[]
[]
[]
[]
[]
[]
[]
[]
[]
[]
[]
[]
[]
[]
[]
[]
[]
[]
[]
[]
[]
[]
[]
[]
[]
[]
[]
[]
[]
[]
[]
[]
[]
[]
[]
[]
[]
[]
[]
[]
[]
[]
[]
[]
[]
[]
[]
[]
[]
[]
[]
[]
[]
[]
[]
[]
[]
[]
[]
[]
[]
[]
[]
[]
[]
[]
[]
[]
[]
[]
[]
[]
[]
[]
[]
[]
[]
[]
[]
[]
[]
[]
[]
[]
[]
[]
[]
[]
[]
[]
[]
[]
[]
[]
[]
[]
[]
[]
[]
[]
[]
[]
[]
[]
[]
[]
[]
[]
[]
[]
[]
[]
[]
[]
[]
[]
[]
[]
[]
[]
[]
[]
[]
[]
[]
[]
[]
[]
[]
[]
[]
[]
[]
[]
[]
[]
[]
[]
[]
[]
[]
[]
[]
[]
[]
[]
[]
[]
[]
[]
[]
[]
[]
[]
[]
[]
[]
[]
[]
[]
[]
[]
[]
[]
[]
[]
[]
[]
[]
[]
[]
[]
[]
[]
[]
[]
[]
[]
[]
[]
[]
[]
[]
[]
[]
[]
[]
[]
[]
[]
[]
[]
[]
[]
[]
[]
[]
[]
[]
[]
[]
[]
[]
[]
[]
[]
[]
[]
[]
[]
[]
[]
[]
[]
[]
[]
[]
[]
[]
[]
[]
[]
[]
[]
[]
[]
[]
[]
[]
[]
[]
[]
[]
[]
[]
[]
[]
[]
[]
[]
[]
[]
[]
[]
[]
[]
[]
[]
[]
[]
[]
[]
[]
[]
[]
[]
[]
[]
[]
[]
[]
[]
[]
[]
[]
[]
[]
[]
[]
[]
[]
[]
[]
[]
[]
[]
[]
[]
[]
[]
[]
[]
[]
[]
[]
[]
[]
[]
[]
[]
[]
[]
[]
[]
[]
[]
[]
[]
[]
[]
[]
[]
[]
[]
[]
[]
[]
[]
[]
[]
[]
[]
[]
[]
[]
[]
[]
[]
[]
[]
[]
[]
[]
[]
[]
[]
[]
[]
[]
[]
[]
[]
[]
[]
[]
[]
[]
[]
[]
[]
[]
[]
[]
[]
[]
[]
[]
[]
[]
[]
[]
[]
[]
[]
[]
[]
[]
[]
[]
[]
[]
[]
[]
[]
[]
[]
[]
[]
[]
[]
[]
[]
[]
[]
[]
[]
[]
[]
[]
[]
[]
[]
[]
[]
[]
[]
[]
[]
[]
[]
[]
[]
[]
[]
[]
[]
[]
[]
[]
[]
[]
[]
[]
[]
[]
[]
[]
[]
[]
[]
[]
[]
[]
[]
[]
[]
[]
[]
[]
[]
[]
[]
[]
[]
[]
[]
[]
[]
[]
[]
[]
[]
[]
[]
[]
[]
[]
[]
[]
[]
[]
[]
[]
[]
[]
[]
[]
[]
[]
[]
[]
[]
[]
[]
[]
[]
[]
[]
[]
[]
[]
[]
[]
[]
[]
[]
[]
[]
[]
[]
[]
[]
[]
[]
[]
[]
[]
[]
[]
[]
[]
[]
[]
[]
[]
[]
[]
[]
[]
[]
[]
[]
[]
[]
[]
[]
[]
[]
[]
[]
[]
[]
[]
[]
[]
[]
[]
[]
[]
[]
[]
[]
[]
[]
[]
[]
[]
[]
[]
[]
[]
[]
[]
[]
[]
[]
[]
[]
[]
[]
[]
[]
[]
[]
[]
[]
[]
[]
[]
[]
[]
[]
[]
[]
[]
[]
[]
[]
[]
[]
[]
[]
[]
[]
[]
[]
[]
[]
[]
[]
[]
[]
[]
[]
[]
[]
[]
[]
[]
[]
[]
[]
[]
[]
[]
[]
[]
[]
[]
[]
[]
[]
[]
[]
[]
[]
[]
[]
[]
[]
[]
[]
[]
[]
[]
[]
[]
[]
[]
[]
[]
[]
[]
[]
[]
[]
[]
[]
[]
[]
[]
[]
[]
[]
[]
[]
[]
[]
[]
[]
[]
[]
[]
[]
[]
[]
[]
[]
[]
[]
[]
[]
[]
[]
[]
[]
[]
[]
[]
[]
[]
[]
[]
[]
[]
[]
[]
[]
[]
[]
[]
[]
[]
[]
[]
["2015-12-31","Couvert",823,null,null,null,null,null,null,null,11,70.400000000000006]