{"text_format":"1","workbook":"xlsx","n_sheets":5,"sheets":["Tableau Tournante","Feuil2","Feuil1","Tournois 2 contre 2","Tournois 1 contre 1"],"not_rendered":{"charts":0,"images":0,"macros":1,"external_links":0,"defined_names":6,"comments":2,"pivot_tables":0},"unopened":[],"bounds":{"document_bytes":16777216,"sheet_cells":100000,"rows_first":2000,"rows_last":500,"rows_between":2000,"halvings":0,"cell_chars":16384,"cell_head_chars":4096},"cells_cut":0,"cells_raw":0,"read":"whole","date_system":"1900"}

{"sheet":"Tableau Tournante","index":0,"n_rows":159,"n_cols":29,"rows_kept":159,"cut":false,"hidden":false,"merged":[[0,17,0,23],[0,2,0,3],[0,4,0,5],[0,12,0,13],[4,23,4,24],[4,13,4,14],[4,15,4,16],[1,66,1,68],[1,40,1,43],[1,48,1,50],[1,54,1,56],[4,17,4,18],[4,19,4,20],[4,21,4,22],[1,60,1,62],[4,25,4,26],[4,27,4,28]]}
["tableau pétanque tournante d'Alénya ",null,{"$f":"COUNTA(B6:B180)","v":154},null,"joueurs",null,null,null,null,null,null,2,{"$f":"C1/4","v":38.5},null,null,null,null,{"$f":"TODAY()","v":"2016-04-18"}]
["N° ligne","Noms"]
[]
[]
[{"$f":"MOD(C1,L1*2)","v":2},{"$f":"IF(MOD(C1,L1)=0,\"\",\"Incompatible !\")","v":""},null,"T1","T2","T3","T4",null,null,null,null,"P",null,"équipe",null,"contre",null,"équipe",null,"contre",null,"équipe",null,"contre",null,"équipe",null,"contre"]
[1,"A1",null,null,null,null,null,null,null,null,null,null,null,39,81,38,141,12,23,100,52,109,118,151,75,112,39,32,29]
[2,"A2",null,null,null,null,null,null,null,null,null,null,null,121,21,28,3,11,137,45,46,57,107,31,128,135,48,16,71]
[3,"A3",null,null,null,null,null,null,null,null,null,null,null,8,9,96,27,66,75,13,68,61,60,132,92,47,51,45,33]
[4,"A4",null,null,null,null,null,null,null,null,null,null,null,7,119,43,80,93,14,4,119,150,104,67,105,35,43,72,94]
[5,"A5",null,null,null,null,null,null,null,null,null,null,null,25,115,48,76,31,69,92,76,41,30,69,46,4,127,10,6]
[6,"A6",null,null,null,null,null,null,null,null,null,null,null,14,91,33,114,53,51,20,9,94,27,51,153,1,130,152,129]
[7,"A7",null,null,null,null,null,null,null,null,null,null,null,62,123,71,111,40,146,122,91,58,13,64,154,145,103,64,19]
[8,"A8",null,null,null,null,null,null,null,null,null,null,null,124,18,10,22,64,103,1,60,98,1,47,144,11,7,60,128]
[9,"A9",null,null,null,null,null,null,null,null,null,null,null,74,107,37,56,74,65,7,125,21,62,8,141,62,93,86,78]
[10,"A10",null,null,null,null,null,null,null,null,null,null,null,16,41,113,63,32,6,21,97,71,124,101,45,79,123,121,90]
[11,"A11",null,null,null,null,null,null,null,null,null,null,null,108,1,112,79,48,111,19,108,44,117,40,79,108,8,54,83]
[12,"A12",null,null,null,null,null,null,null,null,null,null,null,109,60,68,31,123,88,3,62,113,116,119,53,120,3,9,82]
[13,"A13",null,null,null,null,null,null,null,null,null,null,null,147,125,86,50,98,89,44,121,28,23,127,78,142,97,76,18]
[14,"A14",null,null,null,null,null,null,null,null,null,null,null,118,65,88,46,129,35,16,33,37,59,22,3,41,44,31,84]
[15,"A15",null,null,null,null,null,null,null,null,null,null,null,144,77,32,64,138,106,135,70,32,125,35,34,89,122,106,105]
[16,"A16",null,null,null,null,null,null,null,null,null,null,null,126,131,146,153,154,104,90,41,120,20,121,38,148,27,13,109]
[17,"A17",null,null,null,null,null,null,null,null,null,null,null,148,13,78,61,151,24,133,140,134,16,54,4,100,68,88,104]
[18,"A18",null,null,null,null,null,null,null,null,null,null,null,120,139,102,150,152,79,132,131,115,126,106,77,2,144,110,143]
[19,"A19",null,null,null,null,null,null,null,null,null,null,null,45,143,90,98,27,114,101,63,133,68,52,148,91,34,87,28]
[20,"A20",null,null,null,null,null,null,null,null,null,null,null,140,149,70,26,82,72,136,50,10,72,102,80,114,12,53,151]
[21,"A21",null,null,null,null,null,null,null,null,null,null,null,154,129,51,138,59,144,145,57,15,97,122,70,154,116,102,61]
[22,"A22",null,null,null,null,null,null,null,null,null,null,null,94,84,100,87,36,115,107,139,146,49,6,145,133,22,38,65]
[23,"A23",null,null,null,null,null,null,null,null,null,null,null,134,145,127,2,49,71,29,94,82,112,91,147,69,49,113,73]
[24,"A24",null,null,null,null,null,null,null,null,null,null,null,101,83,44,5,47,56,126,2,89,135,110,136,59,98,101,36]
[25,"A25",null,null,null,null,null,null,null,null,null,null,null,136,42,152,15,153,8,142,25,142,152,25,143,74,149,63,153]
[26,"A26",null,null,null,null,null,null,null,null,null,null,null,19,137,69,142,55,105,73,39,114,138,83,87,57,70,46,85]
[27,"A27",null,null,null,null,null,null,null,null,null,null,null,55,36,53,29,30,86,18,148,129,108,103,42,92,21,107,58]
[28,"A28",null,null,null,null,null,null,null,null,null,null,null,66,82,20,40,15,102,109,28,111,73,139,130,95,138,56,137]
[29,"A29",null,null,null,null,null,null,null,null,null,null,null,132,104,72,47,10,120,22,134,36,93,12,43,141,134,26,14]
[30,"A30",null,null,null,null,null,null,null,null,null,null,null,85,117,133,4,147,26,38,87,18,56,39,9,119,5,24,81]
[31,"A31",null,null,null,null,null,null,null,null,null,null,null,11,103,12,130,54,43,34,130,29,48,7,14,67,126,30,125]
[32,"A32",null,null,null,null,null,null,null,null,null,null,null,35,122,49,93,128,17,99,42,19,76,33,137,25,132,150,118]
[33,"A33",null,null,null,null,null,null,null,null,null,null,null,106,57,95,92,37,150,113,127,123,131,65,63,139,52,80,15]
[34,"A34",null,null,null,null,null,null,null,null,null,null,null,54,59,151,17,85,77,81,141,81,85,66,95,124,140,17,50]
[35,"A35",null,null,null,null,null,null,null,null,null,null,null,73,6,67,110,110,95,78,96,99,140,90,55,146,66,147,23]
[36,"A36",null,null,null,null,null,null,null,null,null,null,null,58,75,23,116,116,117,118,67,100,86,26,2,20,77,75,99]
[37,"A37",null,null,null,null,null,null,null,null,null,null,null,24,34,30,89,143,5,61,58,74,88,24,96,117,96,136,115]
[38,"A38",null,null,null,null,null,null,null,null,null,null,null,128,99,52,105,80,84,149,124,50,5,17,84,40,131,37,55]
[39,"A39",null,null,null,null,null,null,null,null,null,null,null,null,135,97,null,null,83,112,null,null,149,11,null,null,111,42]
[40,"A40"]
[41,"A41"]
[42,"A42"]
[43,"A43"]
[44,"A44"]
[45,"A45"]
[46,"A46"]
[47,"A47"]
[48,"A48"]
[49,"A49"]
[50,"A50"]
[51,"A51"]
[52,"A52"]
[53,"A53"]
[54,"A54"]
[55,"A55"]
[56,"A56"]
[57,"A57"]
[58,"A58"]
[59,"A59"]
[60,"A60"]
[61,"A61"]
[62,"A62"]
[63,"A63"]
[64,"A64"]
[65,"A65"]
[66,"A66"]
[67,"A67"]
[68,"A68"]
[69,"A69"]
[70,"A70"]
[71,"A71"]
[72,"A72"]
[73,"A73"]
[74,"A74"]
[75,"A75"]
[76,"A76"]
[77,"A77"]
[78,"A78"]
[79,"A79"]
[80,"A80"]
[81,"A81"]
[82,"A82"]
[83,"A83"]
[84,"A84"]
[85,"A85"]
[86,"A86"]
[87,"A87"]
[88,"A88"]
[89,"A89"]
[90,"A90"]
[91,"A91"]
[92,"A92"]
[93,"A93"]
[94,"A94"]
[95,"A95"]
[96,"A96"]
[97,"A97"]
[98,"A98"]
[99,"A99"]
[100,"A100"]
[101,"A101"]
[102,"A102"]
[103,"A103"]
[104,"A104"]
[105,"A105"]
[106,"A106"]
[107,"A107"]
[108,"A108"]
[109,"A109"]
[110,"A110"]
[111,"A111"]
[112,"A112"]
[113,"A113"]
[114,"A114"]
[115,"A115"]
[116,"A116"]
[117,"A117"]
[118,"A118"]
[119,"A119"]
[120,"A120"]
[121,"A121"]
[122,"A122"]
[123,"A123"]
[124,"A124"]
[125,"A125"]
[126,"A126"]
[127,"A127"]
[128,"A128"]
[129,"A129"]
[130,"A130"]
[131,"A131"]
[132,"A132"]
[133,"A133"]
[134,"A134"]
[135,"A135"]
[136,"A136"]
[137,"A137"]
[138,"A138"]
[139,"A139"]
[140,"A140"]
[141,"A141"]
[142,"A142"]
[143,"A143"]
[144,"A144"]
[145,"A145"]
[146,"A146"]
[147,"A147"]
[148,"A148"]
[149,"A149"]
[150,"A150"]
[151,"A151"]
[152,"A152"]
[153,"A153"]
[154,"A154"]

{"sheet":"Feuil2","index":1,"n_rows":0,"n_cols":0,"rows_kept":0,"cut":false,"hidden":false,"merged":[]}

{"sheet":"Feuil1","index":2,"n_rows":0,"n_cols":0,"rows_kept":0,"cut":false,"hidden":false,"merged":[]}

{"sheet":"Tournois 2 contre 2","index":3,"n_rows":192,"n_cols":17,"rows_kept":192,"cut":false,"hidden":false,"merged":[[1,3,1,7],[2,2,2,3]]}
[{"$f":"'Tableau Tournante'!B6","v":"A1"},"Tournois 2 contre 2, et ne se rencontrent ni ne sont partenaires plusieurs fois. Possibilité non activée: clubs "]
[{"$f":"'Tableau Tournante'!B7","v":"A2"},{"$f":"C3/4","v":38.5},null,{"$f":"IF(C3<=11,\"Attention 3 manches\",\"\")","v":""}]
[{"$f":"'Tableau Tournante'!B8","v":"A3"},null,{"$f":"SUMPRODUCT(--('Tableau Tournante'!B6:B182<>\"\"))","v":154},null,null,4,"manches"]
[{"$f":"'Tableau Tournante'!B9","v":"A4"}]
[{"$f":"'Tableau Tournante'!B10","v":"A5"},{"$f":"\"Manche \"&(COLUMN()+2)/4","v":"Manche 1"},null,null,null,{"$f":"\"Manche \"&(COLUMN()+2)/4","v":"Manche 2"},null,null,null,{"$f":"\"Manche \"&(COLUMN()+2)/4","v":"Manche 3"},null,null,null,{"$f":"\"Manche \"&(COLUMN()+2)/4","v":"Manche 4"}]
[{"$f":"'Tableau Tournante'!B11","v":"A6"},null,"Equipe","Contre",null,null,"Equipe","Contre",null,null,"Equipe","Contre",null,null,"Equipe","Contre"]
[{"$f":"'Tableau Tournante'!B12","v":"A7"},11,15,17,8,22,18,2,1,22,20,16,15,22,12,10,6]
[{"$f":"'Tableau Tournante'!B13","v":"A8"},5,13,1,22,12,14,11,7,10,9,2,11,1,18,14,11]
[{"$f":"'Tableau Tournante'!B14","v":"A9"},6,4,16,10,17,15,5,16,4,5,6,7,4,17,13,2]
[{"$f":"'Tableau Tournante'!B15","v":"A10"},20,7,3,9,13,9,3,6,19,13,18,12,15,3,19,21]
[{"$f":"'Tableau Tournante'!B16","v":"A11"},12,21,18,14,20,21,10,19,1,14,8,3,7,8,20,16]
[{"$f":"'Tableau Tournante'!B17","v":"A12"},null,2,19,null,null,4,8,null,null,17,21,null,null,5,9]
[{"$f":"'Tableau Tournante'!B18","v":"A13"}]
[{"$f":"'Tableau Tournante'!B19","v":"A14"}]
[{"$f":"'Tableau Tournante'!B20","v":"A15"}]
[{"$f":"'Tableau Tournante'!B21","v":"A16"}]
[{"$f":"'Tableau Tournante'!B22","v":"A17"}]
[{"$f":"'Tableau Tournante'!B23","v":"A18"}]
[{"$f":"'Tableau Tournante'!B24","v":"A19"}]
[{"$f":"'Tableau Tournante'!B25","v":"A20"}]
[{"$f":"'Tableau Tournante'!B26","v":"A21"}]
[{"$f":"'Tableau Tournante'!B27","v":"A22"}]
[{"$f":"'Tableau Tournante'!B28","v":"A23"}]
[{"$f":"'Tableau Tournante'!B29","v":"A24"}]
[{"$f":"'Tableau Tournante'!B30","v":"A25"}]
[{"$f":"'Tableau Tournante'!B31","v":"A26"}]
[{"$f":"'Tableau Tournante'!B32","v":"A27"}]
[{"$f":"'Tableau Tournante'!B33","v":"A28"}]
[{"$f":"'Tableau Tournante'!B34","v":"A29"}]
[{"$f":"'Tableau Tournante'!B35","v":"A30"}]
[{"$f":"'Tableau Tournante'!B36","v":"A31"}]
[{"$f":"'Tableau Tournante'!B37","v":"A32"}]
[{"$f":"'Tableau Tournante'!B38","v":"A33"}]
[{"$f":"'Tableau Tournante'!B39","v":"A34"}]
[{"$f":"'Tableau Tournante'!B40","v":"A35"}]
[{"$f":"'Tableau Tournante'!B41","v":"A36"}]
[{"$f":"'Tableau Tournante'!B42","v":"A37"}]
[{"$f":"'Tableau Tournante'!B43","v":"A38"}]
[{"$f":"'Tableau Tournante'!B44","v":"A39"}]
[{"$f":"'Tableau Tournante'!B45","v":"A40"}]
[{"$f":"'Tableau Tournante'!B46","v":"A41"}]
[{"$f":"'Tableau Tournante'!B47","v":"A42"}]
[{"$f":"'Tableau Tournante'!B48","v":"A43"}]
[{"$f":"'Tableau Tournante'!B49","v":"A44"}]
[{"$f":"'Tableau Tournante'!B50","v":"A45"}]
[{"$f":"'Tableau Tournante'!B51","v":"A46"}]
[{"$f":"'Tableau Tournante'!B52","v":"A47"}]
[{"$f":"'Tableau Tournante'!B53","v":"A48"}]
[{"$f":"'Tableau Tournante'!B54","v":"A49"}]
[{"$f":"'Tableau Tournante'!B55","v":"A50"}]
[{"$f":"'Tableau Tournante'!B56","v":"A51"}]
[{"$f":"'Tableau Tournante'!B57","v":"A52"}]
[{"$f":"'Tableau Tournante'!B58","v":"A53"}]
[{"$f":"'Tableau Tournante'!B59","v":"A54"}]
[{"$f":"'Tableau Tournante'!B60","v":"A55"}]
[{"$f":"'Tableau Tournante'!B61","v":"A56"}]
[{"$f":"'Tableau Tournante'!B62","v":"A57"}]
[{"$f":"'Tableau Tournante'!B63","v":"A58"}]
[{"$f":"'Tableau Tournante'!B64","v":"A59"}]
[{"$f":"'Tableau Tournante'!B65","v":"A60"}]
[{"$f":"'Tableau Tournante'!B66","v":"A61"}]
[{"$f":"'Tableau Tournante'!B67","v":"A62"}]
[{"$f":"'Tableau Tournante'!B68","v":"A63"}]
[{"$f":"'Tableau Tournante'!B69","v":"A64"}]
[{"$f":"'Tableau Tournante'!B70","v":"A65"}]
[{"$f":"'Tableau Tournante'!B71","v":"A66"}]
[{"$f":"'Tableau Tournante'!B72","v":"A67"}]
[{"$f":"'Tableau Tournante'!B73","v":"A68"}]
[{"$f":"'Tableau Tournante'!B74","v":"A69"}]
[{"$f":"'Tableau Tournante'!B75","v":"A70"}]
[{"$f":"'Tableau Tournante'!B76","v":"A71"}]
[{"$f":"'Tableau Tournante'!B77","v":"A72"}]
[{"$f":"'Tableau Tournante'!B78","v":"A73"}]
[{"$f":"'Tableau Tournante'!B79","v":"A74"}]
[{"$f":"'Tableau Tournante'!B80","v":"A75"}]
[{"$f":"'Tableau Tournante'!B81","v":"A76"}]
[{"$f":"'Tableau Tournante'!B82","v":"A77"}]
[{"$f":"'Tableau Tournante'!B83","v":"A78"}]
[{"$f":"'Tableau Tournante'!B84","v":"A79"}]
[{"$f":"'Tableau Tournante'!B85","v":"A80"}]
[{"$f":"'Tableau Tournante'!B86","v":"A81"}]
[{"$f":"'Tableau Tournante'!B87","v":"A82"}]
[{"$f":"'Tableau Tournante'!B88","v":"A83"}]
[{"$f":"'Tableau Tournante'!B89","v":"A84"}]
[{"$f":"'Tableau Tournante'!B90","v":"A85"}]
[{"$f":"'Tableau Tournante'!B91","v":"A86"}]
[{"$f":"'Tableau Tournante'!B92","v":"A87"}]
[{"$f":"'Tableau Tournante'!B93","v":"A88"}]
[{"$f":"'Tableau Tournante'!B94","v":"A89"}]
[{"$f":"'Tableau Tournante'!B95","v":"A90"}]
[{"$f":"'Tableau Tournante'!B96","v":"A91"}]
[{"$f":"'Tableau Tournante'!B97","v":"A92"}]
[{"$f":"'Tableau Tournante'!B98","v":"A93"}]
[{"$f":"'Tableau Tournante'!B99","v":"A94"}]
[{"$f":"'Tableau Tournante'!B100","v":"A95"}]
[{"$f":"'Tableau Tournante'!B101","v":"A96"}]
[{"$f":"'Tableau Tournante'!B102","v":"A97"}]
[{"$f":"'Tableau Tournante'!B103","v":"A98"}]
[{"$f":"'Tableau Tournante'!B104","v":"A99"}]
[{"$f":"'Tableau Tournante'!B105","v":"A100"}]
[{"$f":"'Tableau Tournante'!B106","v":"A101"}]
[{"$f":"'Tableau Tournante'!B107","v":"A102"}]
[{"$f":"'Tableau Tournante'!B108","v":"A103"}]
[{"$f":"'Tableau Tournante'!B109","v":"A104"}]
[{"$f":"'Tableau Tournante'!B110","v":"A105"}]
[{"$f":"'Tableau Tournante'!B111","v":"A106"}]
[{"$f":"'Tableau Tournante'!B112","v":"A107"}]
[{"$f":"'Tableau Tournante'!B113","v":"A108"}]
[{"$f":"'Tableau Tournante'!B114","v":"A109"}]
[{"$f":"'Tableau Tournante'!B115","v":"A110"}]
[{"$f":"'Tableau Tournante'!B116","v":"A111"}]
[{"$f":"'Tableau Tournante'!B117","v":"A112"}]
[{"$f":"'Tableau Tournante'!B118","v":"A113"}]
[{"$f":"'Tableau Tournante'!B119","v":"A114"}]
[{"$f":"'Tableau Tournante'!B120","v":"A115"}]
[{"$f":"'Tableau Tournante'!B121","v":"A116"}]
[{"$f":"'Tableau Tournante'!B122","v":"A117"}]
[{"$f":"'Tableau Tournante'!B123","v":"A118"}]
[{"$f":"'Tableau Tournante'!B124","v":"A119"}]
[{"$f":"'Tableau Tournante'!B125","v":"A120"}]
[{"$f":"'Tableau Tournante'!B126","v":"A121"}]
[{"$f":"'Tableau Tournante'!B127","v":"A122"}]
[{"$f":"'Tableau Tournante'!B128","v":"A123"}]
[{"$f":"'Tableau Tournante'!B129","v":"A124"}]
[{"$f":"'Tableau Tournante'!B130","v":"A125"}]
[{"$f":"'Tableau Tournante'!B131","v":"A126"}]
[{"$f":"'Tableau Tournante'!B132","v":"A127"}]
[{"$f":"'Tableau Tournante'!B133","v":"A128"}]
[{"$f":"'Tableau Tournante'!B134","v":"A129"}]
[{"$f":"'Tableau Tournante'!B135","v":"A130"}]
[{"$f":"'Tableau Tournante'!B136","v":"A131"}]
[{"$f":"'Tableau Tournante'!B137","v":"A132"}]
[{"$f":"'Tableau Tournante'!B138","v":"A133"}]
[{"$f":"'Tableau Tournante'!B139","v":"A134"}]
[{"$f":"'Tableau Tournante'!B140","v":"A135"}]
[{"$f":"'Tableau Tournante'!B141","v":"A136"}]
[{"$f":"'Tableau Tournante'!B142","v":"A137"}]
[{"$f":"'Tableau Tournante'!B143","v":"A138"}]
[{"$f":"'Tableau Tournante'!B144","v":"A139"}]
[{"$f":"'Tableau Tournante'!B145","v":"A140"}]
[{"$f":"'Tableau Tournante'!B146","v":"A141"}]
[{"$f":"'Tableau Tournante'!B147","v":"A142"}]
[{"$f":"'Tableau Tournante'!B148","v":"A143"}]
[{"$f":"'Tableau Tournante'!B149","v":"A144"}]
[{"$f":"'Tableau Tournante'!B150","v":"A145"}]
[{"$f":"'Tableau Tournante'!B151","v":"A146"}]
[{"$f":"'Tableau Tournante'!B152","v":"A147"}]
[{"$f":"'Tableau Tournante'!B153","v":"A148"}]
[{"$f":"'Tableau Tournante'!B154","v":"A149"}]
[{"$f":"'Tableau Tournante'!B155","v":"A150"}]
[{"$f":"'Tableau Tournante'!B156","v":"A151"}]
[{"$f":"'Tableau Tournante'!B157","v":"A152"}]
[{"$f":"'Tableau Tournante'!B158","v":"A153"}]
[{"$f":"'Tableau Tournante'!B159","v":"A154"}]
[{"$f":"'Tableau Tournante'!B160","v":0}]
[{"$f":"'Tableau Tournante'!B161","v":0}]
[{"$f":"'Tableau Tournante'!B162","v":0}]
[{"$f":"'Tableau Tournante'!B163","v":0}]
[{"$f":"'Tableau Tournante'!B164","v":0}]
[{"$f":"'Tableau Tournante'!B165","v":0}]
[{"$f":"'Tableau Tournante'!B166","v":0}]
[{"$f":"'Tableau Tournante'!B167","v":0}]
[{"$f":"'Tableau Tournante'!B168","v":0}]
[{"$f":"'Tableau Tournante'!B169","v":0}]
[{"$f":"'Tableau Tournante'!B170","v":0}]
[{"$f":"'Tableau Tournante'!B171","v":0}]
[{"$f":"'Tableau Tournante'!B172","v":0}]
[{"$f":"'Tableau Tournante'!B173","v":0}]
[{"$f":"'Tableau Tournante'!B174","v":0}]
[{"$f":"'Tableau Tournante'!B175","v":0}]
[{"$f":"'Tableau Tournante'!B176","v":0}]
[{"$f":"'Tableau Tournante'!B177","v":0}]
[{"$f":"'Tableau Tournante'!B178","v":0}]
[{"$f":"'Tableau Tournante'!B179","v":0}]
[{"$f":"'Tableau Tournante'!B180","v":0}]
[{"$f":"'Tableau Tournante'!B181","v":0}]
[{"$f":"'Tableau Tournante'!B182","v":0}]
[{"$f":"'Tableau Tournante'!B183","v":0}]
[{"$f":"'Tableau Tournante'!B184","v":0}]
[{"$f":"'Tableau Tournante'!B185","v":0}]
[{"$f":"'Tableau Tournante'!B186","v":0}]
[{"$f":"'Tableau Tournante'!B187","v":0}]
[{"$f":"'Tableau Tournante'!B188","v":0}]
[{"$f":"'Tableau Tournante'!B189","v":0}]
[{"$f":"'Tableau Tournante'!B190","v":0}]
[{"$f":"'Tableau Tournante'!B191","v":0}]
[{"$f":"'Tableau Tournante'!B192","v":0}]
[{"$f":"'Tableau Tournante'!B193","v":0}]
[{"$f":"'Tableau Tournante'!B194","v":0}]
[{"$f":"'Tableau Tournante'!B195","v":0}]
[{"$f":"'Tableau Tournante'!B196","v":0}]
[{"$f":"'Tableau Tournante'!B197","v":0}]

{"sheet":"Tournois 1 contre 1","index":4,"n_rows":1143,"n_cols":9,"rows_kept":1143,"cut":false,"hidden":false,"merged":[]}
[{"$f":"'Tournois 2 contre 2'!A:A","v":"A1"},"Tournois 1 contre 1, et ne se rencontrent jamais 2 fois. Possibilité non activée: clubs "]
[{"$f":"'Tournois 2 contre 2'!A:A","v":"A2"}]
[{"$f":"'Tournois 2 contre 2'!A:A","v":"A3"},null,{"$f":"'Tournois 2 contre 2'!JMax","v":154},"joueurs",null,4,"manches"]
[{"$f":"'Tournois 2 contre 2'!A:A","v":"A4"}]
[{"$f":"'Tournois 2 contre 2'!A:A","v":"A5"},9,6,15,3,14,7,18,16]
[{"$f":"'Tournois 2 contre 2'!A:A","v":"A6"},3,5,16,9,17,16,8,13]
[{"$f":"'Tournois 2 contre 2'!A:A","v":"A7"},18,7,7,8,9,3,9,4]
[{"$f":"'Tournois 2 contre 2'!A:A","v":"A8"},13,2,1,17,6,15,10,3]
[{"$f":"'Tournois 2 contre 2'!A:A","v":"A9"},8,11,6,18,1,12,17,5]
[{"$f":"'Tournois 2 contre 2'!A:A","v":"A10"},4,12,14,10,2,5,12,7]
[{"$f":"'Tournois 2 contre 2'!A:A","v":"A11"},15,10,4,2,18,8,1,2]
[{"$f":"'Tournois 2 contre 2'!A:A","v":"A12"},16,1,5,11,4,13,14,6]
[{"$f":"'Tournois 2 contre 2'!A:A","v":"A13"},17,14,13,12,11,10,11,15]
[{"$f":"'Tournois 2 contre 2'!A:A","v":"A14"}]
[{"$f":"'Tournois 2 contre 2'!A:A","v":"A15"}]
[{"$f":"'Tournois 2 contre 2'!A:A","v":"A16"}]
[{"$f":"'Tournois 2 contre 2'!A:A","v":"A17"}]
[{"$f":"'Tournois 2 contre 2'!A:A","v":"A18"}]
[{"$f":"'Tournois 2 contre 2'!A:A","v":"A19"}]
[{"$f":"'Tournois 2 contre 2'!A:A","v":"A20"}]
[{"$f":"'Tournois 2 contre 2'!A:A","v":"A21"}]
[{"$f":"'Tournois 2 contre 2'!A:A","v":"A22"}]
[{"$f":"'Tournois 2 contre 2'!A:A","v":"A23"}]
[{"$f":"'Tournois 2 contre 2'!A:A","v":"A24"}]
[{"$f":"'Tournois 2 contre 2'!A:A","v":"A25"}]
[{"$f":"'Tournois 2 contre 2'!A:A","v":"A26"}]
[{"$f":"'Tournois 2 contre 2'!A:A","v":"A27"}]
[{"$f":"'Tournois 2 contre 2'!A:A","v":"A28"}]
[{"$f":"'Tournois 2 contre 2'!A:A","v":"A29"}]
[{"$f":"'Tournois 2 contre 2'!A:A","v":"A30"}]
[{"$f":"'Tournois 2 contre 2'!A:A","v":"A31"}]
[{"$f":"'Tournois 2 contre 2'!A:A","v":"A32"}]
[{"$f":"'Tournois 2 contre 2'!A:A","v":"A33"}]
[{"$f":"'Tournois 2 contre 2'!A:A","v":"A34"}]
[{"$f":"'Tournois 2 contre 2'!A:A","v":"A35"}]
[{"$f":"'Tournois 2 contre 2'!A:A","v":"A36"}]
[{"$f":"'Tournois 2 contre 2'!A:A","v":"A37"}]
[{"$f":"'Tournois 2 contre 2'!A:A","v":"A38"}]
[{"$f":"'Tournois 2 contre 2'!A:A","v":"A39"}]
[{"$f":"'Tournois 2 contre 2'!A:A","v":"A40"}]
[{"$f":"'Tournois 2 contre 2'!A:A","v":"A41"}]
[{"$f":"'Tournois 2 contre 2'!A:A","v":"A42"}]
[{"$f":"'Tournois 2 contre 2'!A:A","v":"A43"}]
[{"$f":"'Tournois 2 contre 2'!A:A","v":"A44"}]
[{"$f":"'Tournois 2 contre 2'!A:A","v":"A45"}]
[{"$f":"'Tournois 2 contre 2'!A:A","v":"A46"}]
[{"$f":"'Tournois 2 contre 2'!A:A","v":"A47"}]
[{"$f":"'Tournois 2 contre 2'!A:A","v":"A48"}]
[{"$f":"'Tournois 2 contre 2'!A:A","v":"A49"}]
[{"$f":"'Tournois 2 contre 2'!A:A","v":"A50"}]
[{"$f":"'Tournois 2 contre 2'!A:A","v":"A51"}]
[{"$f":"'Tournois 2 contre 2'!A:A","v":"A52"}]
[{"$f":"'Tournois 2 contre 2'!A:A","v":"A53"}]
[{"$f":"'Tournois 2 contre 2'!A:A","v":"A54"}]
[{"$f":"'Tournois 2 contre 2'!A:A","v":"A55"}]
[{"$f":"'Tournois 2 contre 2'!A:A","v":"A56"}]
[{"$f":"'Tournois 2 contre 2'!A:A","v":"A57"}]
[{"$f":"'Tournois 2 contre 2'!A:A","v":"A58"}]
[{"$f":"'Tournois 2 contre 2'!A:A","v":"A59"}]
[{"$f":"'Tournois 2 contre 2'!A:A","v":"A60"}]
[{"$f":"'Tournois 2 contre 2'!A:A","v":"A61"}]
[{"$f":"'Tournois 2 contre 2'!A:A","v":"A62"}]
[{"$f":"'Tournois 2 contre 2'!A:A","v":"A63"}]
[{"$f":"'Tournois 2 contre 2'!A:A","v":"A64"}]
[{"$f":"'Tournois 2 contre 2'!A:A","v":"A65"}]
[{"$f":"'Tournois 2 contre 2'!A:A","v":"A66"}]
[{"$f":"'Tournois 2 contre 2'!A:A","v":"A67"}]
[{"$f":"'Tournois 2 contre 2'!A:A","v":"A68"}]
[{"$f":"'Tournois 2 contre 2'!A:A","v":"A69"}]
[{"$f":"'Tournois 2 contre 2'!A:A","v":"A70"}]
[{"$f":"'Tournois 2 contre 2'!A:A","v":"A71"}]
[{"$f":"'Tournois 2 contre 2'!A:A","v":"A72"}]
[{"$f":"'Tournois 2 contre 2'!A:A","v":"A73"}]
[{"$f":"'Tournois 2 contre 2'!A:A","v":"A74"}]
[{"$f":"'Tournois 2 contre 2'!A:A","v":"A75"}]
[{"$f":"'Tournois 2 contre 2'!A:A","v":"A76"}]
[{"$f":"'Tournois 2 contre 2'!A:A","v":"A77"}]
[{"$f":"'Tournois 2 contre 2'!A:A","v":"A78"}]
[{"$f":"'Tournois 2 contre 2'!A:A","v":"A79"}]
[{"$f":"'Tournois 2 contre 2'!A:A","v":"A80"}]
[{"$f":"'Tournois 2 contre 2'!A:A","v":"A81"}]
[{"$f":"'Tournois 2 contre 2'!A:A","v":"A82"}]
[{"$f":"'Tournois 2 contre 2'!A:A","v":"A83"}]
[{"$f":"'Tournois 2 contre 2'!A:A","v":"A84"}]
[{"$f":"'Tournois 2 contre 2'!A:A","v":"A85"}]
[{"$f":"'Tournois 2 contre 2'!A:A","v":"A86"}]
[{"$f":"'Tournois 2 contre 2'!A:A","v":"A87"}]
[{"$f":"'Tournois 2 contre 2'!A:A","v":"A88"}]
[{"$f":"'Tournois 2 contre 2'!A:A","v":"A89"}]
[{"$f":"'Tournois 2 contre 2'!A:A","v":"A90"}]
[{"$f":"'Tournois 2 contre 2'!A:A","v":"A91"}]
[{"$f":"'Tournois 2 contre 2'!A:A","v":"A92"}]
[{"$f":"'Tournois 2 contre 2'!A:A","v":"A93"}]
[{"$f":"'Tournois 2 contre 2'!A:A","v":"A94"}]
[{"$f":"'Tournois 2 contre 2'!A:A","v":"A95"}]
[{"$f":"'Tournois 2 contre 2'!A:A","v":"A96"}]
[{"$f":"'Tournois 2 contre 2'!A:A","v":"A97"}]
[{"$f":"'Tournois 2 contre 2'!A:A","v":"A98"}]
[{"$f":"'Tournois 2 contre 2'!A:A","v":"A99"}]
[{"$f":"'Tournois 2 contre 2'!A:A","v":"A100"}]
[{"$f":"'Tournois 2 contre 2'!A:A","v":"A101"}]
[{"$f":"'Tournois 2 contre 2'!A:A","v":"A102"}]
[{"$f":"'Tournois 2 contre 2'!A:A","v":"A103"}]
[{"$f":"'Tournois 2 contre 2'!A:A","v":"A104"}]
[{"$f":"'Tournois 2 contre 2'!A:A","v":"A105"}]
[{"$f":"'Tournois 2 contre 2'!A:A","v":"A106"}]
[{"$f":"'Tournois 2 contre 2'!A:A","v":"A107"}]
[{"$f":"'Tournois 2 contre 2'!A:A","v":"A108"}]
[{"$f":"'Tournois 2 contre 2'!A:A","v":"A109"}]
[{"$f":"'Tournois 2 contre 2'!A:A","v":"A110"}]
[{"$f":"'Tournois 2 contre 2'!A:A","v":"A111"}]
[{"$f":"'Tournois 2 contre 2'!A:A","v":"A112"}]
[{"$f":"'Tournois 2 contre 2'!A:A","v":"A113"}]
[{"$f":"'Tournois 2 contre 2'!A:A","v":"A114"}]
[{"$f":"'Tournois 2 contre 2'!A:A","v":"A115"}]
[{"$f":"'Tournois 2 contre 2'!A:A","v":"A116"}]
[{"$f":"'Tournois 2 contre 2'!A:A","v":"A117"}]
[{"$f":"'Tournois 2 contre 2'!A:A","v":"A118"}]
[{"$f":"'Tournois 2 contre 2'!A:A","v":"A119"}]
[{"$f":"'Tournois 2 contre 2'!A:A","v":"A120"}]
[{"$f":"'Tournois 2 contre 2'!A:A","v":"A121"}]
[{"$f":"'Tournois 2 contre 2'!A:A","v":"A122"}]
[{"$f":"'Tournois 2 contre 2'!A:A","v":"A123"}]
[{"$f":"'Tournois 2 contre 2'!A:A","v":"A124"}]
[{"$f":"'Tournois 2 contre 2'!A:A","v":"A125"}]
[{"$f":"'Tournois 2 contre 2'!A:A","v":"A126"}]
[{"$f":"'Tournois 2 contre 2'!A:A","v":"A127"}]
[{"$f":"'Tournois 2 contre 2'!A:A","v":"A128"}]
[{"$f":"'Tournois 2 contre 2'!A:A","v":"A129"}]
[{"$f":"'Tournois 2 contre 2'!A:A","v":"A130"}]
[{"$f":"'Tournois 2 contre 2'!A:A","v":"A131"}]
[{"$f":"'Tournois 2 contre 2'!A:A","v":"A132"}]
[{"$f":"'Tournois 2 contre 2'!A:A","v":"A133"}]
[{"$f":"'Tournois 2 contre 2'!A:A","v":"A134"}]
[{"$f":"'Tournois 2 contre 2'!A:A","v":"A135"}]
[{"$f":"'Tournois 2 contre 2'!A:A","v":"A136"}]
[{"$f":"'Tournois 2 contre 2'!A:A","v":"A137"}]
[{"$f":"'Tournois 2 contre 2'!A:A","v":"A138"}]
[{"$f":"'Tournois 2 contre 2'!A:A","v":"A139"}]
[{"$f":"'Tournois 2 contre 2'!A:A","v":"A140"}]
[{"$f":"'Tournois 2 contre 2'!A:A","v":"A141"}]
[{"$f":"'Tournois 2 contre 2'!A:A","v":"A142"}]
[{"$f":"'Tournois 2 contre 2'!A:A","v":"A143"}]
[{"$f":"'Tournois 2 contre 2'!A:A","v":"A144"}]
[{"$f":"'Tournois 2 contre 2'!A:A","v":"A145"}]
[{"$f":"'Tournois 2 contre 2'!A:A","v":"A146"}]
[{"$f":"'Tournois 2 contre 2'!A:A","v":"A147"}]
[{"$f":"'Tournois 2 contre 2'!A:A","v":"A148"}]
[{"$f":"'Tournois 2 contre 2'!A:A","v":"A149"}]
[{"$f":"'Tournois 2 contre 2'!A:A","v":"A150"}]
[{"$f":"'Tournois 2 contre 2'!A:A","v":"A151"}]
[{"$f":"'Tournois 2 contre 2'!A:A","v":"A152"}]
[{"$f":"'Tournois 2 contre 2'!A:A","v":"A153"}]
[{"$f":"'Tournois 2 contre 2'!A:A","v":"A154"}]
[{"$f":"'Tournois 2 contre 2'!A:A","v":0}]
[{"$f":"'Tournois 2 contre 2'!A:A","v":0}]
[{"$f":"'Tournois 2 contre 2'!A:A","v":0}]
[{"$f":"'Tournois 2 contre 2'!A:A","v":0}]
[{"$f":"'Tournois 2 contre 2'!A:A","v":0}]
[{"$f":"'Tournois 2 contre 2'!A:A","v":0}]
[{"$f":"'Tournois 2 contre 2'!A:A","v":0}]
[{"$f":"'Tournois 2 contre 2'!A:A","v":0}]
[{"$f":"'Tournois 2 contre 2'!A:A","v":0}]
[{"$f":"'Tournois 2 contre 2'!A:A","v":0}]
[{"$f":"'Tournois 2 contre 2'!A:A","v":0}]
[{"$f":"'Tournois 2 contre 2'!A:A","v":0}]
[{"$f":"'Tournois 2 contre 2'!A:A","v":0}]
[{"$f":"'Tournois 2 contre 2'!A:A","v":0}]
[{"$f":"'Tournois 2 contre 2'!A:A","v":0}]
[{"$f":"'Tournois 2 contre 2'!A:A","v":0}]
[{"$f":"'Tournois 2 contre 2'!A:A","v":0}]
[{"$f":"'Tournois 2 contre 2'!A:A","v":0}]
[{"$f":"'Tournois 2 contre 2'!A:A","v":0}]
[{"$f":"'Tournois 2 contre 2'!A:A","v":0}]
[{"$f":"'Tournois 2 contre 2'!A:A","v":0}]
[{"$f":"'Tournois 2 contre 2'!A:A","v":0}]
[{"$f":"'Tournois 2 contre 2'!A:A","v":0}]
[{"$f":"'Tournois 2 contre 2'!A:A","v":0}]
[{"$f":"'Tournois 2 contre 2'!A:A","v":0}]
[{"$f":"'Tournois 2 contre 2'!A:A","v":0}]
[{"$f":"'Tournois 2 contre 2'!A:A","v":0}]
[{"$f":"'Tournois 2 contre 2'!A:A","v":0}]
[{"$f":"'Tournois 2 contre 2'!A:A","v":0}]
[{"$f":"'Tournois 2 contre 2'!A:A","v":0}]
[{"$f":"'Tournois 2 contre 2'!A:A","v":0}]
[{"$f":"'Tournois 2 contre 2'!A:A","v":0}]
[{"$f":"'Tournois 2 contre 2'!A:A","v":0}]
[{"$f":"'Tournois 2 contre 2'!A:A","v":0}]
[{"$f":"'Tournois 2 contre 2'!A:A","v":0}]
[{"$f":"'Tournois 2 contre 2'!A:A","v":0}]
[{"$f":"'Tournois 2 contre 2'!A:A","v":0}]
[{"$f":"'Tournois 2 contre 2'!A:A","v":0}]
[{"$f":"'Tournois 2 contre 2'!A:A","v":0}]
[{"$f":"'Tournois 2 contre 2'!A:A","v":0}]
[{"$f":"'Tournois 2 contre 2'!A:A","v":0}]
[{"$f":"'Tournois 2 contre 2'!A:A","v":0}]
[{"$f":"'Tournois 2 contre 2'!A:A","v":0}]
[{"$f":"'Tournois 2 contre 2'!A:A","v":0}]
[{"$f":"'Tournois 2 contre 2'!A:A","v":0}]
[{"$f":"'Tournois 2 contre 2'!A:A","v":0}]
[{"$f":"'Tournois 2 contre 2'!A:A","v":0}]
[{"$f":"'Tournois 2 contre 2'!A:A","v":0}]
[{"$f":"'Tournois 2 contre 2'!A:A","v":0}]
[{"$f":"'Tournois 2 contre 2'!A:A","v":0}]
[{"$f":"'Tournois 2 contre 2'!A:A","v":0}]
[{"$f":"'Tournois 2 contre 2'!A:A","v":0}]
[{"$f":"'Tournois 2 contre 2'!A:A","v":0}]
[{"$f":"'Tournois 2 contre 2'!A:A","v":0}]
[{"$f":"'Tournois 2 contre 2'!A:A","v":0}]
[{"$f":"'Tournois 2 contre 2'!A:A","v":0}]
[{"$f":"'Tournois 2 contre 2'!A:A","v":0}]
[{"$f":"'Tournois 2 contre 2'!A:A","v":0}]
[{"$f":"'Tournois 2 contre 2'!A:A","v":0}]
[{"$f":"'Tournois 2 contre 2'!A:A","v":0}]
[{"$f":"'Tournois 2 contre 2'!A:A","v":0}]
[{"$f":"'Tournois 2 contre 2'!A:A","v":0}]
[{"$f":"'Tournois 2 contre 2'!A:A","v":0}]
[{"$f":"'Tournois 2 contre 2'!A:A","v":0}]
[{"$f":"'Tournois 2 contre 2'!A:A","v":0}]
[{"$f":"'Tournois 2 contre 2'!A:A","v":0}]
[{"$f":"'Tournois 2 contre 2'!A:A","v":0}]
[{"$f":"'Tournois 2 contre 2'!A:A","v":0}]
[{"$f":"'Tournois 2 contre 2'!A:A","v":0}]
[{"$f":"'Tournois 2 contre 2'!A:A","v":0}]
[{"$f":"'Tournois 2 contre 2'!A:A","v":0}]
[{"$f":"'Tournois 2 contre 2'!A:A","v":0}]
[{"$f":"'Tournois 2 contre 2'!A:A","v":0}]
[{"$f":"'Tournois 2 contre 2'!A:A","v":0}]
[{"$f":"'Tournois 2 contre 2'!A:A","v":0}]
[{"$f":"'Tournois 2 contre 2'!A:A","v":0}]
[{"$f":"'Tournois 2 contre 2'!A:A","v":0}]
[{"$f":"'Tournois 2 contre 2'!A:A","v":0}]
[{"$f":"'Tournois 2 contre 2'!A:A","v":0}]
[{"$f":"'Tournois 2 contre 2'!A:A","v":0}]
[{"$f":"'Tournois 2 contre 2'!A:A","v":0}]
[{"$f":"'Tournois 2 contre 2'!A:A","v":0}]
[{"$f":"'Tournois 2 contre 2'!A:A","v":0}]
[{"$f":"'Tournois 2 contre 2'!A:A","v":0}]
[{"$f":"'Tournois 2 contre 2'!A:A","v":0}]
[{"$f":"'Tournois 2 contre 2'!A:A","v":0}]
[{"$f":"'Tournois 2 contre 2'!A:A","v":0}]
[{"$f":"'Tournois 2 contre 2'!A:A","v":0}]
[{"$f":"'Tournois 2 contre 2'!A:A","v":0}]
[{"$f":"'Tournois 2 contre 2'!A:A","v":0}]
[{"$f":"'Tournois 2 contre 2'!A:A","v":0}]
[{"$f":"'Tournois 2 contre 2'!A:A","v":0}]
[{"$f":"'Tournois 2 contre 2'!A:A","v":0}]
[{"$f":"'Tournois 2 contre 2'!A:A","v":0}]
[{"$f":"'Tournois 2 contre 2'!A:A","v":0}]
[{"$f":"'Tournois 2 contre 2'!A:A","v":0}]
[{"$f":"'Tournois 2 contre 2'!A:A","v":0}]
[{"$f":"'Tournois 2 contre 2'!A:A","v":0}]
[{"$f":"'Tournois 2 contre 2'!A:A","v":0}]
[{"$f":"'Tournois 2 contre 2'!A:A","v":0}]
[{"$f":"'Tournois 2 contre 2'!A:A","v":0}]
[{"$f":"'Tournois 2 contre 2'!A:A","v":0}]
[{"$f":"'Tournois 2 contre 2'!A:A","v":0}]
[{"$f":"'Tournois 2 contre 2'!A:A","v":0}]
[{"$f":"'Tournois 2 contre 2'!A:A","v":0}]
[{"$f":"'Tournois 2 contre 2'!A:A","v":0}]
[{"$f":"'Tournois 2 contre 2'!A:A","v":0}]
[{"$f":"'Tournois 2 contre 2'!A:A","v":0}]
[{"$f":"'Tournois 2 contre 2'!A:A","v":0}]
[{"$f":"'Tournois 2 contre 2'!A:A","v":0}]
[{"$f":"'Tournois 2 contre 2'!A:A","v":0}]
[{"$f":"'Tournois 2 contre 2'!A:A","v":0}]
[{"$f":"'Tournois 2 contre 2'!A:A","v":0}]
[{"$f":"'Tournois 2 contre 2'!A:A","v":0}]
[{"$f":"'Tournois 2 contre 2'!A:A","v":0}]
[{"$f":"'Tournois 2 contre 2'!A:A","v":0}]
[{"$f":"'Tournois 2 contre 2'!A:A","v":0}]
[{"$f":"'Tournois 2 contre 2'!A:A","v":0}]
[{"$f":"'Tournois 2 contre 2'!A:A","v":0}]
[{"$f":"'Tournois 2 contre 2'!A:A","v":0}]
[{"$f":"'Tournois 2 contre 2'!A:A","v":0}]
[{"$f":"'Tournois 2 contre 2'!A:A","v":0}]
[{"$f":"'Tournois 2 contre 2'!A:A","v":0}]
[{"$f":"'Tournois 2 contre 2'!A:A","v":0}]
[{"$f":"'Tournois 2 contre 2'!A:A","v":0}]
[{"$f":"'Tournois 2 contre 2'!A:A","v":0}]
[{"$f":"'Tournois 2 contre 2'!A:A","v":0}]
[{"$f":"'Tournois 2 contre 2'!A:A","v":0}]
[{"$f":"'Tournois 2 contre 2'!A:A","v":0}]
[{"$f":"'Tournois 2 contre 2'!A:A","v":0}]
[{"$f":"'Tournois 2 contre 2'!A:A","v":0}]
[{"$f":"'Tournois 2 contre 2'!A:A","v":0}]
[{"$f":"'Tournois 2 contre 2'!A:A","v":0}]
[{"$f":"'Tournois 2 contre 2'!A:A","v":0}]
[{"$f":"'Tournois 2 contre 2'!A:A","v":0}]
[{"$f":"'Tournois 2 contre 2'!A:A","v":0}]
[{"$f":"'Tournois 2 contre 2'!A:A","v":0}]
[{"$f":"'Tournois 2 contre 2'!A:A","v":0}]
[{"$f":"'Tournois 2 contre 2'!A:A","v":0}]
[{"$f":"'Tournois 2 contre 2'!A:A","v":0}]
[{"$f":"'Tournois 2 contre 2'!A:A","v":0}]
[{"$f":"'Tournois 2 contre 2'!A:A","v":0}]
[{"$f":"'Tournois 2 contre 2'!A:A","v":0}]
[{"$f":"'Tournois 2 contre 2'!A:A","v":0}]
[{"$f":"'Tournois 2 contre 2'!A:A","v":0}]
[{"$f":"'Tournois 2 contre 2'!A:A","v":0}]
[{"$f":"'Tournois 2 contre 2'!A:A","v":0}]
[{"$f":"'Tournois 2 contre 2'!A:A","v":0}]
[{"$f":"'Tournois 2 contre 2'!A:A","v":0}]
[{"$f":"'Tournois 2 contre 2'!A:A","v":0}]
[{"$f":"'Tournois 2 contre 2'!A:A","v":0}]
[{"$f":"'Tournois 2 contre 2'!A:A","v":0}]
[{"$f":"'Tournois 2 contre 2'!A:A","v":0}]
[{"$f":"'Tournois 2 contre 2'!A:A","v":0}]
[{"$f":"'Tournois 2 contre 2'!A:A","v":0}]
[{"$f":"'Tournois 2 contre 2'!A:A","v":0}]
[{"$f":"'Tournois 2 contre 2'!A:A","v":0}]
[{"$f":"'Tournois 2 contre 2'!A:A","v":0}]
[{"$f":"'Tournois 2 contre 2'!A:A","v":0}]
[{"$f":"'Tournois 2 contre 2'!A:A","v":0}]
[{"$f":"'Tournois 2 contre 2'!A:A","v":0}]
[{"$f":"'Tournois 2 contre 2'!A:A","v":0}]
[{"$f":"'Tournois 2 contre 2'!A:A","v":0}]
[{"$f":"'Tournois 2 contre 2'!A:A","v":0}]
[{"$f":"'Tournois 2 contre 2'!A:A","v":0}]
[{"$f":"'Tournois 2 contre 2'!A:A","v":0}]
[{"$f":"'Tournois 2 contre 2'!A:A","v":0}]
[{"$f":"'Tournois 2 contre 2'!A:A","v":0}]
[{"$f":"'Tournois 2 contre 2'!A:A","v":0}]
[{"$f":"'Tournois 2 contre 2'!A:A","v":0}]
[{"$f":"'Tournois 2 contre 2'!A:A","v":0}]
[{"$f":"'Tournois 2 contre 2'!A:A","v":0}]
[{"$f":"'Tournois 2 contre 2'!A:A","v":0}]
[{"$f":"'Tournois 2 contre 2'!A:A","v":0}]
[{"$f":"'Tournois 2 contre 2'!A:A","v":0}]
[{"$f":"'Tournois 2 contre 2'!A:A","v":0}]
[{"$f":"'Tournois 2 contre 2'!A:A","v":0}]
[{"$f":"'Tournois 2 contre 2'!A:A","v":0}]
[{"$f":"'Tournois 2 contre 2'!A:A","v":0}]
[{"$f":"'Tournois 2 contre 2'!A:A","v":0}]
[{"$f":"'Tournois 2 contre 2'!A:A","v":0}]
[{"$f":"'Tournois 2 contre 2'!A:A","v":0}]
[{"$f":"'Tournois 2 contre 2'!A:A","v":0}]
[{"$f":"'Tournois 2 contre 2'!A:A","v":0}]
[{"$f":"'Tournois 2 contre 2'!A:A","v":0}]
[{"$f":"'Tournois 2 contre 2'!A:A","v":0}]
[{"$f":"'Tournois 2 contre 2'!A:A","v":0}]
[{"$f":"'Tournois 2 contre 2'!A:A","v":0}]
[{"$f":"'Tournois 2 contre 2'!A:A","v":0}]
[{"$f":"'Tournois 2 contre 2'!A:A","v":0}]
[{"$f":"'Tournois 2 contre 2'!A:A","v":0}]
[{"$f":"'Tournois 2 contre 2'!A:A","v":0}]
[{"$f":"'Tournois 2 contre 2'!A:A","v":0}]
[{"$f":"'Tournois 2 contre 2'!A:A","v":0}]
[{"$f":"'Tournois 2 contre 2'!A:A","v":0}]
[{"$f":"'Tournois 2 contre 2'!A:A","v":0}]
[{"$f":"'Tournois 2 contre 2'!A:A","v":0}]
[{"$f":"'Tournois 2 contre 2'!A:A","v":0}]
[{"$f":"'Tournois 2 contre 2'!A:A","v":0}]
[{"$f":"'Tournois 2 contre 2'!A:A","v":0}]
[{"$f":"'Tournois 2 contre 2'!A:A","v":0}]
[{"$f":"'Tournois 2 contre 2'!A:A","v":0}]
[{"$f":"'Tournois 2 contre 2'!A:A","v":0}]
[{"$f":"'Tournois 2 contre 2'!A:A","v":0}]
[{"$f":"'Tournois 2 contre 2'!A:A","v":0}]
[{"$f":"'Tournois 2 contre 2'!A:A","v":0}]
[{"$f":"'Tournois 2 contre 2'!A:A","v":0}]
[{"$f":"'Tournois 2 contre 2'!A:A","v":0}]
[{"$f":"'Tournois 2 contre 2'!A:A","v":0}]
[{"$f":"'Tournois 2 contre 2'!A:A","v":0}]
[{"$f":"'Tournois 2 contre 2'!A:A","v":0}]
[{"$f":"'Tournois 2 contre 2'!A:A","v":0}]
[{"$f":"'Tournois 2 contre 2'!A:A","v":0}]
[{"$f":"'Tournois 2 contre 2'!A:A","v":0}]
[{"$f":"'Tournois 2 contre 2'!A:A","v":0}]
[{"$f":"'Tournois 2 contre 2'!A:A","v":0}]
[{"$f":"'Tournois 2 contre 2'!A:A","v":0}]
[{"$f":"'Tournois 2 contre 2'!A:A","v":0}]
[{"$f":"'Tournois 2 contre 2'!A:A","v":0}]
[{"$f":"'Tournois 2 contre 2'!A:A","v":0}]
[{"$f":"'Tournois 2 contre 2'!A:A","v":0}]
[{"$f":"'Tournois 2 contre 2'!A:A","v":0}]
[{"$f":"'Tournois 2 contre 2'!A:A","v":0}]
[{"$f":"'Tournois 2 contre 2'!A:A","v":0}]
[{"$f":"'Tournois 2 contre 2'!A:A","v":0}]
[{"$f":"'Tournois 2 contre 2'!A:A","v":0}]
[{"$f":"'Tournois 2 contre 2'!A:A","v":0}]
[{"$f":"'Tournois 2 contre 2'!A:A","v":0}]
[{"$f":"'Tournois 2 contre 2'!A:A","v":0}]
[{"$f":"'Tournois 2 contre 2'!A:A","v":0}]
[{"$f":"'Tournois 2 contre 2'!A:A","v":0}]
[{"$f":"'Tournois 2 contre 2'!A:A","v":0}]
[{"$f":"'Tournois 2 contre 2'!A:A","v":0}]
[{"$f":"'Tournois 2 contre 2'!A:A","v":0}]
[{"$f":"'Tournois 2 contre 2'!A:A","v":0}]
[{"$f":"'Tournois 2 contre 2'!A:A","v":0}]
[{"$f":"'Tournois 2 contre 2'!A:A","v":0}]
[{"$f":"'Tournois 2 contre 2'!A:A","v":0}]
[{"$f":"'Tournois 2 contre 2'!A:A","v":0}]
[{"$f":"'Tournois 2 contre 2'!A:A","v":0}]
[{"$f":"'Tournois 2 contre 2'!A:A","v":0}]
[{"$f":"'Tournois 2 contre 2'!A:A","v":0}]
[{"$f":"'Tournois 2 contre 2'!A:A","v":0}]
[{"$f":"'Tournois 2 contre 2'!A:A","v":0}]
[{"$f":"'Tournois 2 contre 2'!A:A","v":0}]
[{"$f":"'Tournois 2 contre 2'!A:A","v":0}]
[{"$f":"'Tournois 2 contre 2'!A:A","v":0}]
[{"$f":"'Tournois 2 contre 2'!A:A","v":0}]
[{"$f":"'Tournois 2 contre 2'!A:A","v":0}]
[{"$f":"'Tournois 2 contre 2'!A:A","v":0}]
[{"$f":"'Tournois 2 contre 2'!A:A","v":0}]
[{"$f":"'Tournois 2 contre 2'!A:A","v":0}]
[{"$f":"'Tournois 2 contre 2'!A:A","v":0}]
[{"$f":"'Tournois 2 contre 2'!A:A","v":0}]
[{"$f":"'Tournois 2 contre 2'!A:A","v":0}]
[{"$f":"'Tournois 2 contre 2'!A:A","v":0}]
[{"$f":"'Tournois 2 contre 2'!A:A","v":0}]
[{"$f":"'Tournois 2 contre 2'!A:A","v":0}]
[{"$f":"'Tournois 2 contre 2'!A:A","v":0}]
[{"$f":"'Tournois 2 contre 2'!A:A","v":0}]
[{"$f":"'Tournois 2 contre 2'!A:A","v":0}]
[{"$f":"'Tournois 2 contre 2'!A:A","v":0}]
[{"$f":"'Tournois 2 contre 2'!A:A","v":0}]
[{"$f":"'Tournois 2 contre 2'!A:A","v":0}]
[{"$f":"'Tournois 2 contre 2'!A:A","v":0}]
[{"$f":"'Tournois 2 contre 2'!A:A","v":0}]
[{"$f":"'Tournois 2 contre 2'!A:A","v":0}]
[{"$f":"'Tournois 2 contre 2'!A:A","v":0}]
[{"$f":"'Tournois 2 contre 2'!A:A","v":0}]
[{"$f":"'Tournois 2 contre 2'!A:A","v":0}]
[{"$f":"'Tournois 2 contre 2'!A:A","v":0}]
[{"$f":"'Tournois 2 contre 2'!A:A","v":0}]
[{"$f":"'Tournois 2 contre 2'!A:A","v":0}]
[{"$f":"'Tournois 2 contre 2'!A:A","v":0}]
[{"$f":"'Tournois 2 contre 2'!A:A","v":0}]
[{"$f":"'Tournois 2 contre 2'!A:A","v":0}]
[{"$f":"'Tournois 2 contre 2'!A:A","v":0}]
[{"$f":"'Tournois 2 contre 2'!A:A","v":0}]
[{"$f":"'Tournois 2 contre 2'!A:A","v":0}]
[{"$f":"'Tournois 2 contre 2'!A:A","v":0}]
[{"$f":"'Tournois 2 contre 2'!A:A","v":0}]
[{"$f":"'Tournois 2 contre 2'!A:A","v":0}]
[{"$f":"'Tournois 2 contre 2'!A:A","v":0}]
[{"$f":"'Tournois 2 contre 2'!A:A","v":0}]
[{"$f":"'Tournois 2 contre 2'!A:A","v":0}]
[{"$f":"'Tournois 2 contre 2'!A:A","v":0}]
[{"$f":"'Tournois 2 contre 2'!A:A","v":0}]
[{"$f":"'Tournois 2 contre 2'!A:A","v":0}]
[{"$f":"'Tournois 2 contre 2'!A:A","v":0}]
[{"$f":"'Tournois 2 contre 2'!A:A","v":0}]
[{"$f":"'Tournois 2 contre 2'!A:A","v":0}]
[{"$f":"'Tournois 2 contre 2'!A:A","v":0}]
[{"$f":"'Tournois 2 contre 2'!A:A","v":0}]
[{"$f":"'Tournois 2 contre 2'!A:A","v":0}]
[{"$f":"'Tournois 2 contre 2'!A:A","v":0}]
[{"$f":"'Tournois 2 contre 2'!A:A","v":0}]
[{"$f":"'Tournois 2 contre 2'!A:A","v":0}]
[{"$f":"'Tournois 2 contre 2'!A:A","v":0}]
[{"$f":"'Tournois 2 contre 2'!A:A","v":0}]
[{"$f":"'Tournois 2 contre 2'!A:A","v":0}]
[{"$f":"'Tournois 2 contre 2'!A:A","v":0}]
[{"$f":"'Tournois 2 contre 2'!A:A","v":0}]
[{"$f":"'Tournois 2 contre 2'!A:A","v":0}]
[{"$f":"'Tournois 2 contre 2'!A:A","v":0}]
[{"$f":"'Tournois 2 contre 2'!A:A","v":0}]
[{"$f":"'Tournois 2 contre 2'!A:A","v":0}]
[{"$f":"'Tournois 2 contre 2'!A:A","v":0}]
[{"$f":"'Tournois 2 contre 2'!A:A","v":0}]
[{"$f":"'Tournois 2 contre 2'!A:A","v":0}]
[{"$f":"'Tournois 2 contre 2'!A:A","v":0}]
[{"$f":"'Tournois 2 contre 2'!A:A","v":0}]
[{"$f":"'Tournois 2 contre 2'!A:A","v":0}]
[{"$f":"'Tournois 2 contre 2'!A:A","v":0}]
[{"$f":"'Tournois 2 contre 2'!A:A","v":0}]
[{"$f":"'Tournois 2 contre 2'!A:A","v":0}]
[{"$f":"'Tournois 2 contre 2'!A:A","v":0}]
[{"$f":"'Tournois 2 contre 2'!A:A","v":0}]
[{"$f":"'Tournois 2 contre 2'!A:A","v":0}]
[{"$f":"'Tournois 2 contre 2'!A:A","v":0}]
[{"$f":"'Tournois 2 contre 2'!A:A","v":0}]
[{"$f":"'Tournois 2 contre 2'!A:A","v":0}]
[{"$f":"'Tournois 2 contre 2'!A:A","v":0}]
[{"$f":"'Tournois 2 contre 2'!A:A","v":0}]
[{"$f":"'Tournois 2 contre 2'!A:A","v":0}]
[{"$f":"'Tournois 2 contre 2'!A:A","v":0}]
[{"$f":"'Tournois 2 contre 2'!A:A","v":0}]
[{"$f":"'Tournois 2 contre 2'!A:A","v":0}]
[{"$f":"'Tournois 2 contre 2'!A:A","v":0}]
[{"$f":"'Tournois 2 contre 2'!A:A","v":0}]
[{"$f":"'Tournois 2 contre 2'!A:A","v":0}]
[{"$f":"'Tournois 2 contre 2'!A:A","v":0}]
[{"$f":"'Tournois 2 contre 2'!A:A","v":0}]
[{"$f":"'Tournois 2 contre 2'!A:A","v":0}]
[{"$f":"'Tournois 2 contre 2'!A:A","v":0}]
[{"$f":"'Tournois 2 contre 2'!A:A","v":0}]
[{"$f":"'Tournois 2 contre 2'!A:A","v":0}]
[{"$f":"'Tournois 2 contre 2'!A:A","v":0}]
[{"$f":"'Tournois 2 contre 2'!A:A","v":0}]
[{"$f":"'Tournois 2 contre 2'!A:A","v":0}]
[{"$f":"'Tournois 2 contre 2'!A:A","v":0}]
[{"$f":"'Tournois 2 contre 2'!A:A","v":0}]
[{"$f":"'Tournois 2 contre 2'!A:A","v":0}]
[{"$f":"'Tournois 2 contre 2'!A:A","v":0}]
[{"$f":"'Tournois 2 contre 2'!A:A","v":0}]
[{"$f":"'Tournois 2 contre 2'!A:A","v":0}]
[{"$f":"'Tournois 2 contre 2'!A:A","v":0}]
[{"$f":"'Tournois 2 contre 2'!A:A","v":0}]
[{"$f":"'Tournois 2 contre 2'!A:A","v":0}]
[{"$f":"'Tournois 2 contre 2'!A:A","v":0}]
[{"$f":"'Tournois 2 contre 2'!A:A","v":0}]
[{"$f":"'Tournois 2 contre 2'!A:A","v":0}]
[{"$f":"'Tournois 2 contre 2'!A:A","v":0}]
[{"$f":"'Tournois 2 contre 2'!A:A","v":0}]
[{"$f":"'Tournois 2 contre 2'!A:A","v":0}]
[{"$f":"'Tournois 2 contre 2'!A:A","v":0}]
[{"$f":"'Tournois 2 contre 2'!A:A","v":0}]
[{"$f":"'Tournois 2 contre 2'!A:A","v":0}]
[{"$f":"'Tournois 2 contre 2'!A:A","v":0}]
[{"$f":"'Tournois 2 contre 2'!A:A","v":0}]
[{"$f":"'Tournois 2 contre 2'!A:A","v":0}]
[{"$f":"'Tournois 2 contre 2'!A:A","v":0}]
[{"$f":"'Tournois 2 contre 2'!A:A","v":0}]
[{"$f":"'Tournois 2 contre 2'!A:A","v":0}]
[{"$f":"'Tournois 2 contre 2'!A:A","v":0}]
[{"$f":"'Tournois 2 contre 2'!A:A","v":0}]
[{"$f":"'Tournois 2 contre 2'!A:A","v":0}]
[{"$f":"'Tournois 2 contre 2'!A:A","v":0}]
[{"$f":"'Tournois 2 contre 2'!A:A","v":0}]
[{"$f":"'Tournois 2 contre 2'!A:A","v":0}]
[{"$f":"'Tournois 2 contre 2'!A:A","v":0}]
[{"$f":"'Tournois 2 contre 2'!A:A","v":0}]
[{"$f":"'Tournois 2 contre 2'!A:A","v":0}]
[{"$f":"'Tournois 2 contre 2'!A:A","v":0}]
[{"$f":"'Tournois 2 contre 2'!A:A","v":0}]
[{"$f":"'Tournois 2 contre 2'!A:A","v":0}]
[{"$f":"'Tournois 2 contre 2'!A:A","v":0}]
[{"$f":"'Tournois 2 contre 2'!A:A","v":0}]
[{"$f":"'Tournois 2 contre 2'!A:A","v":0}]
[{"$f":"'Tournois 2 contre 2'!A:A","v":0}]
[{"$f":"'Tournois 2 contre 2'!A:A","v":0}]
[{"$f":"'Tournois 2 contre 2'!A:A","v":0}]
[{"$f":"'Tournois 2 contre 2'!A:A","v":0}]
[{"$f":"'Tournois 2 contre 2'!A:A","v":0}]
[{"$f":"'Tournois 2 contre 2'!A:A","v":0}]
[{"$f":"'Tournois 2 contre 2'!A:A","v":0}]
[{"$f":"'Tournois 2 contre 2'!A:A","v":0}]
[{"$f":"'Tournois 2 contre 2'!A:A","v":0}]
[{"$f":"'Tournois 2 contre 2'!A:A","v":0}]
[{"$f":"'Tournois 2 contre 2'!A:A","v":0}]
[{"$f":"'Tournois 2 contre 2'!A:A","v":0}]
[{"$f":"'Tournois 2 contre 2'!A:A","v":0}]
[{"$f":"'Tournois 2 contre 2'!A:A","v":0}]
[{"$f":"'Tournois 2 contre 2'!A:A","v":0}]
[{"$f":"'Tournois 2 contre 2'!A:A","v":0}]
[{"$f":"'Tournois 2 contre 2'!A:A","v":0}]
[{"$f":"'Tournois 2 contre 2'!A:A","v":0}]
[{"$f":"'Tournois 2 contre 2'!A:A","v":0}]
[{"$f":"'Tournois 2 contre 2'!A:A","v":0}]
[{"$f":"'Tournois 2 contre 2'!A:A","v":0}]
[{"$f":"'Tournois 2 contre 2'!A:A","v":0}]
[{"$f":"'Tournois 2 contre 2'!A:A","v":0}]
[{"$f":"'Tournois 2 contre 2'!A:A","v":0}]
[{"$f":"'Tournois 2 contre 2'!A:A","v":0}]
[{"$f":"'Tournois 2 contre 2'!A:A","v":0}]
[{"$f":"'Tournois 2 contre 2'!A:A","v":0}]
[{"$f":"'Tournois 2 contre 2'!A:A","v":0}]
[{"$f":"'Tournois 2 contre 2'!A:A","v":0}]
[{"$f":"'Tournois 2 contre 2'!A:A","v":0}]
[{"$f":"'Tournois 2 contre 2'!A:A","v":0}]
[{"$f":"'Tournois 2 contre 2'!A:A","v":0}]
[{"$f":"'Tournois 2 contre 2'!A:A","v":0}]
[{"$f":"'Tournois 2 contre 2'!A:A","v":0}]
[{"$f":"'Tournois 2 contre 2'!A:A","v":0}]
[{"$f":"'Tournois 2 contre 2'!A:A","v":0}]
[{"$f":"'Tournois 2 contre 2'!A:A","v":0}]
[{"$f":"'Tournois 2 contre 2'!A:A","v":0}]
[{"$f":"'Tournois 2 contre 2'!A:A","v":0}]
[{"$f":"'Tournois 2 contre 2'!A:A","v":0}]
[{"$f":"'Tournois 2 contre 2'!A:A","v":0}]
[{"$f":"'Tournois 2 contre 2'!A:A","v":0}]
[{"$f":"'Tournois 2 contre 2'!A:A","v":0}]
[{"$f":"'Tournois 2 contre 2'!A:A","v":0}]
[{"$f":"'Tournois 2 contre 2'!A:A","v":0}]
[{"$f":"'Tournois 2 contre 2'!A:A","v":0}]
[{"$f":"'Tournois 2 contre 2'!A:A","v":0}]
[{"$f":"'Tournois 2 contre 2'!A:A","v":0}]
[{"$f":"'Tournois 2 contre 2'!A:A","v":0}]
[{"$f":"'Tournois 2 contre 2'!A:A","v":0}]
[{"$f":"'Tournois 2 contre 2'!A:A","v":0}]
[{"$f":"'Tournois 2 contre 2'!A:A","v":0}]
[{"$f":"'Tournois 2 contre 2'!A:A","v":0}]
[{"$f":"'Tournois 2 contre 2'!A:A","v":0}]
[{"$f":"'Tournois 2 contre 2'!A:A","v":0}]
[{"$f":"'Tournois 2 contre 2'!A:A","v":0}]
[{"$f":"'Tournois 2 contre 2'!A:A","v":0}]
[{"$f":"'Tournois 2 contre 2'!A:A","v":0}]
[{"$f":"'Tournois 2 contre 2'!A:A","v":0}]
[{"$f":"'Tournois 2 contre 2'!A:A","v":0}]
[{"$f":"'Tournois 2 contre 2'!A:A","v":0}]
[{"$f":"'Tournois 2 contre 2'!A:A","v":0}]
[{"$f":"'Tournois 2 contre 2'!A:A","v":0}]
[{"$f":"'Tournois 2 contre 2'!A:A","v":0}]
[{"$f":"'Tournois 2 contre 2'!A:A","v":0}]
[{"$f":"'Tournois 2 contre 2'!A:A","v":0}]
[{"$f":"'Tournois 2 contre 2'!A:A","v":0}]
[{"$f":"'Tournois 2 contre 2'!A:A","v":0}]
[{"$f":"'Tournois 2 contre 2'!A:A","v":0}]
[{"$f":"'Tournois 2 contre 2'!A:A","v":0}]
[{"$f":"'Tournois 2 contre 2'!A:A","v":0}]
[{"$f":"'Tournois 2 contre 2'!A:A","v":0}]
[{"$f":"'Tournois 2 contre 2'!A:A","v":0}]
[{"$f":"'Tournois 2 contre 2'!A:A","v":0}]
[{"$f":"'Tournois 2 contre 2'!A:A","v":0}]
[{"$f":"'Tournois 2 contre 2'!A:A","v":0}]
[{"$f":"'Tournois 2 contre 2'!A:A","v":0}]
[{"$f":"'Tournois 2 contre 2'!A:A","v":0}]
[{"$f":"'Tournois 2 contre 2'!A:A","v":0}]
[{"$f":"'Tournois 2 contre 2'!A:A","v":0}]
[{"$f":"'Tournois 2 contre 2'!A:A","v":0}]
[{"$f":"'Tournois 2 contre 2'!A:A","v":0}]
[{"$f":"'Tournois 2 contre 2'!A:A","v":0}]
[{"$f":"'Tournois 2 contre 2'!A:A","v":0}]
[{"$f":"'Tournois 2 contre 2'!A:A","v":0}]
[{"$f":"'Tournois 2 contre 2'!A:A","v":0}]
[{"$f":"'Tournois 2 contre 2'!A:A","v":0}]
[{"$f":"'Tournois 2 contre 2'!A:A","v":0}]
[{"$f":"'Tournois 2 contre 2'!A:A","v":0}]
[{"$f":"'Tournois 2 contre 2'!A:A","v":0}]
[{"$f":"'Tournois 2 contre 2'!A:A","v":0}]
[{"$f":"'Tournois 2 contre 2'!A:A","v":0}]
[{"$f":"'Tournois 2 contre 2'!A:A","v":0}]
[{"$f":"'Tournois 2 contre 2'!A:A","v":0}]
[{"$f":"'Tournois 2 contre 2'!A:A","v":0}]
[{"$f":"'Tournois 2 contre 2'!A:A","v":0}]
[{"$f":"'Tournois 2 contre 2'!A:A","v":0}]
[{"$f":"'Tournois 2 contre 2'!A:A","v":0}]
[{"$f":"'Tournois 2 contre 2'!A:A","v":0}]
[{"$f":"'Tournois 2 contre 2'!A:A","v":0}]
[{"$f":"'Tournois 2 contre 2'!A:A","v":0}]
[{"$f":"'Tournois 2 contre 2'!A:A","v":0}]
[{"$f":"'Tournois 2 contre 2'!A:A","v":0}]
[{"$f":"'Tournois 2 contre 2'!A:A","v":0}]
[{"$f":"'Tournois 2 contre 2'!A:A","v":0}]
[{"$f":"'Tournois 2 contre 2'!A:A","v":0}]
[{"$f":"'Tournois 2 contre 2'!A:A","v":0}]
[{"$f":"'Tournois 2 contre 2'!A:A","v":0}]
[{"$f":"'Tournois 2 contre 2'!A:A","v":0}]
[{"$f":"'Tournois 2 contre 2'!A:A","v":0}]
[{"$f":"'Tournois 2 contre 2'!A:A","v":0}]
[{"$f":"'Tournois 2 contre 2'!A:A","v":0}]
[{"$f":"'Tournois 2 contre 2'!A:A","v":0}]
[{"$f":"'Tournois 2 contre 2'!A:A","v":0}]
[{"$f":"'Tournois 2 contre 2'!A:A","v":0}]
[{"$f":"'Tournois 2 contre 2'!A:A","v":0}]
[{"$f":"'Tournois 2 contre 2'!A:A","v":0}]
[{"$f":"'Tournois 2 contre 2'!A:A","v":0}]
[{"$f":"'Tournois 2 contre 2'!A:A","v":0}]
[{"$f":"'Tournois 2 contre 2'!A:A","v":0}]
[{"$f":"'Tournois 2 contre 2'!A:A","v":0}]
[{"$f":"'Tournois 2 contre 2'!A:A","v":0}]
[{"$f":"'Tournois 2 contre 2'!A:A","v":0}]
[{"$f":"'Tournois 2 contre 2'!A:A","v":0}]
[{"$f":"'Tournois 2 contre 2'!A:A","v":0}]
[{"$f":"'Tournois 2 contre 2'!A:A","v":0}]
[{"$f":"'Tournois 2 contre 2'!A:A","v":0}]
[{"$f":"'Tournois 2 contre 2'!A:A","v":0}]
[{"$f":"'Tournois 2 contre 2'!A:A","v":0}]
[{"$f":"'Tournois 2 contre 2'!A:A","v":0}]
[{"$f":"'Tournois 2 contre 2'!A:A","v":0}]
[{"$f":"'Tournois 2 contre 2'!A:A","v":0}]
[{"$f":"'Tournois 2 contre 2'!A:A","v":0}]
[{"$f":"'Tournois 2 contre 2'!A:A","v":0}]
[{"$f":"'Tournois 2 contre 2'!A:A","v":0}]
[{"$f":"'Tournois 2 contre 2'!A:A","v":0}]
[{"$f":"'Tournois 2 contre 2'!A:A","v":0}]
[{"$f":"'Tournois 2 contre 2'!A:A","v":0}]
[{"$f":"'Tournois 2 contre 2'!A:A","v":0}]
[{"$f":"'Tournois 2 contre 2'!A:A","v":0}]
[{"$f":"'Tournois 2 contre 2'!A:A","v":0}]
[{"$f":"'Tournois 2 contre 2'!A:A","v":0}]
[{"$f":"'Tournois 2 contre 2'!A:A","v":0}]
[{"$f":"'Tournois 2 contre 2'!A:A","v":0}]
[{"$f":"'Tournois 2 contre 2'!A:A","v":0}]
[{"$f":"'Tournois 2 contre 2'!A:A","v":0}]
[{"$f":"'Tournois 2 contre 2'!A:A","v":0}]
[{"$f":"'Tournois 2 contre 2'!A:A","v":0}]
[{"$f":"'Tournois 2 contre 2'!A:A","v":0}]
[{"$f":"'Tournois 2 contre 2'!A:A","v":0}]
[{"$f":"'Tournois 2 contre 2'!A:A","v":0}]
[{"$f":"'Tournois 2 contre 2'!A:A","v":0}]
[{"$f":"'Tournois 2 contre 2'!A:A","v":0}]
[{"$f":"'Tournois 2 contre 2'!A:A","v":0}]
[{"$f":"'Tournois 2 contre 2'!A:A","v":0}]
[{"$f":"'Tournois 2 contre 2'!A:A","v":0}]
[{"$f":"'Tournois 2 contre 2'!A:A","v":0}]
[{"$f":"'Tournois 2 contre 2'!A:A","v":0}]
[{"$f":"'Tournois 2 contre 2'!A:A","v":0}]
[{"$f":"'Tournois 2 contre 2'!A:A","v":0}]
[{"$f":"'Tournois 2 contre 2'!A:A","v":0}]
[{"$f":"'Tournois 2 contre 2'!A:A","v":0}]
[{"$f":"'Tournois 2 contre 2'!A:A","v":0}]
[{"$f":"'Tournois 2 contre 2'!A:A","v":0}]
[{"$f":"'Tournois 2 contre 2'!A:A","v":0}]
[{"$f":"'Tournois 2 contre 2'!A:A","v":0}]
[{"$f":"'Tournois 2 contre 2'!A:A","v":0}]
[{"$f":"'Tournois 2 contre 2'!A:A","v":0}]
[{"$f":"'Tournois 2 contre 2'!A:A","v":0}]
[{"$f":"'Tournois 2 contre 2'!A:A","v":0}]
[{"$f":"'Tournois 2 contre 2'!A:A","v":0}]
[{"$f":"'Tournois 2 contre 2'!A:A","v":0}]
[{"$f":"'Tournois 2 contre 2'!A:A","v":0}]
[{"$f":"'Tournois 2 contre 2'!A:A","v":0}]
[{"$f":"'Tournois 2 contre 2'!A:A","v":0}]
[{"$f":"'Tournois 2 contre 2'!A:A","v":0}]
[{"$f":"'Tournois 2 contre 2'!A:A","v":0}]
[{"$f":"'Tournois 2 contre 2'!A:A","v":0}]
[{"$f":"'Tournois 2 contre 2'!A:A","v":0}]
[{"$f":"'Tournois 2 contre 2'!A:A","v":0}]
[{"$f":"'Tournois 2 contre 2'!A:A","v":0}]
[{"$f":"'Tournois 2 contre 2'!A:A","v":0}]
[{"$f":"'Tournois 2 contre 2'!A:A","v":0}]
[{"$f":"'Tournois 2 contre 2'!A:A","v":0}]
[{"$f":"'Tournois 2 contre 2'!A:A","v":0}]
[{"$f":"'Tournois 2 contre 2'!A:A","v":0}]
[{"$f":"'Tournois 2 contre 2'!A:A","v":0}]
[{"$f":"'Tournois 2 contre 2'!A:A","v":0}]
[{"$f":"'Tournois 2 contre 2'!A:A","v":0}]
[{"$f":"'Tournois 2 contre 2'!A:A","v":0}]
[{"$f":"'Tournois 2 contre 2'!A:A","v":0}]
[{"$f":"'Tournois 2 contre 2'!A:A","v":0}]
[{"$f":"'Tournois 2 contre 2'!A:A","v":0}]
[{"$f":"'Tournois 2 contre 2'!A:A","v":0}]
[{"$f":"'Tournois 2 contre 2'!A:A","v":0}]
[{"$f":"'Tournois 2 contre 2'!A:A","v":0}]
[{"$f":"'Tournois 2 contre 2'!A:A","v":0}]
[{"$f":"'Tournois 2 contre 2'!A:A","v":0}]
[{"$f":"'Tournois 2 contre 2'!A:A","v":0}]
[{"$f":"'Tournois 2 contre 2'!A:A","v":0}]
[{"$f":"'Tournois 2 contre 2'!A:A","v":0}]
[{"$f":"'Tournois 2 contre 2'!A:A","v":0}]
[{"$f":"'Tournois 2 contre 2'!A:A","v":0}]
[{"$f":"'Tournois 2 contre 2'!A:A","v":0}]
[{"$f":"'Tournois 2 contre 2'!A:A","v":0}]
[{"$f":"'Tournois 2 contre 2'!A:A","v":0}]
[{"$f":"'Tournois 2 contre 2'!A:A","v":0}]
[{"$f":"'Tournois 2 contre 2'!A:A","v":0}]
[{"$f":"'Tournois 2 contre 2'!A:A","v":0}]
[{"$f":"'Tournois 2 contre 2'!A:A","v":0}]
[{"$f":"'Tournois 2 contre 2'!A:A","v":0}]
[{"$f":"'Tournois 2 contre 2'!A:A","v":0}]
[{"$f":"'Tournois 2 contre 2'!A:A","v":0}]
[{"$f":"'Tournois 2 contre 2'!A:A","v":0}]
[{"$f":"'Tournois 2 contre 2'!A:A","v":0}]
[{"$f":"'Tournois 2 contre 2'!A:A","v":0}]
[{"$f":"'Tournois 2 contre 2'!A:A","v":0}]
[{"$f":"'Tournois 2 contre 2'!A:A","v":0}]
[{"$f":"'Tournois 2 contre 2'!A:A","v":0}]
[{"$f":"'Tournois 2 contre 2'!A:A","v":0}]
[{"$f":"'Tournois 2 contre 2'!A:A","v":0}]
[{"$f":"'Tournois 2 contre 2'!A:A","v":0}]
[{"$f":"'Tournois 2 contre 2'!A:A","v":0}]
[{"$f":"'Tournois 2 contre 2'!A:A","v":0}]
[{"$f":"'Tournois 2 contre 2'!A:A","v":0}]
[{"$f":"'Tournois 2 contre 2'!A:A","v":0}]
[{"$f":"'Tournois 2 contre 2'!A:A","v":0}]
[{"$f":"'Tournois 2 contre 2'!A:A","v":0}]
[{"$f":"'Tournois 2 contre 2'!A:A","v":0}]
[{"$f":"'Tournois 2 contre 2'!A:A","v":0}]
[{"$f":"'Tournois 2 contre 2'!A:A","v":0}]
[{"$f":"'Tournois 2 contre 2'!A:A","v":0}]
[{"$f":"'Tournois 2 contre 2'!A:A","v":0}]
[{"$f":"'Tournois 2 contre 2'!A:A","v":0}]
[{"$f":"'Tournois 2 contre 2'!A:A","v":0}]
[{"$f":"'Tournois 2 contre 2'!A:A","v":0}]
[{"$f":"'Tournois 2 contre 2'!A:A","v":0}]
[{"$f":"'Tournois 2 contre 2'!A:A","v":0}]
[{"$f":"'Tournois 2 contre 2'!A:A","v":0}]
[{"$f":"'Tournois 2 contre 2'!A:A","v":0}]
[{"$f":"'Tournois 2 contre 2'!A:A","v":0}]
[{"$f":"'Tournois 2 contre 2'!A:A","v":0}]
[{"$f":"'Tournois 2 contre 2'!A:A","v":0}]
[{"$f":"'Tournois 2 contre 2'!A:A","v":0}]
[{"$f":"'Tournois 2 contre 2'!A:A","v":0}]
[{"$f":"'Tournois 2 contre 2'!A:A","v":0}]
[{"$f":"'Tournois 2 contre 2'!A:A","v":0}]
[{"$f":"'Tournois 2 contre 2'!A:A","v":0}]
[{"$f":"'Tournois 2 contre 2'!A:A","v":0}]
[{"$f":"'Tournois 2 contre 2'!A:A","v":0}]
[{"$f":"'Tournois 2 contre 2'!A:A","v":0}]
[{"$f":"'Tournois 2 contre 2'!A:A","v":0}]
[{"$f":"'Tournois 2 contre 2'!A:A","v":0}]
[{"$f":"'Tournois 2 contre 2'!A:A","v":0}]
[{"$f":"'Tournois 2 contre 2'!A:A","v":0}]
[{"$f":"'Tournois 2 contre 2'!A:A","v":0}]
[{"$f":"'Tournois 2 contre 2'!A:A","v":0}]
[{"$f":"'Tournois 2 contre 2'!A:A","v":0}]
[{"$f":"'Tournois 2 contre 2'!A:A","v":0}]
[{"$f":"'Tournois 2 contre 2'!A:A","v":0}]
[{"$f":"'Tournois 2 contre 2'!A:A","v":0}]
[{"$f":"'Tournois 2 contre 2'!A:A","v":0}]
[{"$f":"'Tournois 2 contre 2'!A:A","v":0}]
[{"$f":"'Tournois 2 contre 2'!A:A","v":0}]
[{"$f":"'Tournois 2 contre 2'!A:A","v":0}]
[{"$f":"'Tournois 2 contre 2'!A:A","v":0}]
[{"$f":"'Tournois 2 contre 2'!A:A","v":0}]
[{"$f":"'Tournois 2 contre 2'!A:A","v":0}]
[{"$f":"'Tournois 2 contre 2'!A:A","v":0}]
[{"$f":"'Tournois 2 contre 2'!A:A","v":0}]
[{"$f":"'Tournois 2 contre 2'!A:A","v":0}]
[{"$f":"'Tournois 2 contre 2'!A:A","v":0}]
[{"$f":"'Tournois 2 contre 2'!A:A","v":0}]
[{"$f":"'Tournois 2 contre 2'!A:A","v":0}]
[{"$f":"'Tournois 2 contre 2'!A:A","v":0}]
[{"$f":"'Tournois 2 contre 2'!A:A","v":0}]
[{"$f":"'Tournois 2 contre 2'!A:A","v":0}]
[{"$f":"'Tournois 2 contre 2'!A:A","v":0}]
[{"$f":"'Tournois 2 contre 2'!A:A","v":0}]
[{"$f":"'Tournois 2 contre 2'!A:A","v":0}]
[{"$f":"'Tournois 2 contre 2'!A:A","v":0}]
[{"$f":"'Tournois 2 contre 2'!A:A","v":0}]
[{"$f":"'Tournois 2 contre 2'!A:A","v":0}]
[{"$f":"'Tournois 2 contre 2'!A:A","v":0}]
[{"$f":"'Tournois 2 contre 2'!A:A","v":0}]
[{"$f":"'Tournois 2 contre 2'!A:A","v":0}]
[{"$f":"'Tournois 2 contre 2'!A:A","v":0}]
[{"$f":"'Tournois 2 contre 2'!A:A","v":0}]
[{"$f":"'Tournois 2 contre 2'!A:A","v":0}]
[{"$f":"'Tournois 2 contre 2'!A:A","v":0}]
[{"$f":"'Tournois 2 contre 2'!A:A","v":0}]
[{"$f":"'Tournois 2 contre 2'!A:A","v":0}]
[{"$f":"'Tournois 2 contre 2'!A:A","v":0}]
[{"$f":"'Tournois 2 contre 2'!A:A","v":0}]
[{"$f":"'Tournois 2 contre 2'!A:A","v":0}]
[{"$f":"'Tournois 2 contre 2'!A:A","v":0}]
[{"$f":"'Tournois 2 contre 2'!A:A","v":0}]
[{"$f":"'Tournois 2 contre 2'!A:A","v":0}]
[{"$f":"'Tournois 2 contre 2'!A:A","v":0}]
[{"$f":"'Tournois 2 contre 2'!A:A","v":0}]
[{"$f":"'Tournois 2 contre 2'!A:A","v":0}]
[{"$f":"'Tournois 2 contre 2'!A:A","v":0}]
[{"$f":"'Tournois 2 contre 2'!A:A","v":0}]
[{"$f":"'Tournois 2 contre 2'!A:A","v":0}]
[{"$f":"'Tournois 2 contre 2'!A:A","v":0}]
[{"$f":"'Tournois 2 contre 2'!A:A","v":0}]
[{"$f":"'Tournois 2 contre 2'!A:A","v":0}]
[{"$f":"'Tournois 2 contre 2'!A:A","v":0}]
[{"$f":"'Tournois 2 contre 2'!A:A","v":0}]
[{"$f":"'Tournois 2 contre 2'!A:A","v":0}]
[{"$f":"'Tournois 2 contre 2'!A:A","v":0}]
[{"$f":"'Tournois 2 contre 2'!A:A","v":0}]
[{"$f":"'Tournois 2 contre 2'!A:A","v":0}]
[{"$f":"'Tournois 2 contre 2'!A:A","v":0}]
[{"$f":"'Tournois 2 contre 2'!A:A","v":0}]
[{"$f":"'Tournois 2 contre 2'!A:A","v":0}]
[{"$f":"'Tournois 2 contre 2'!A:A","v":0}]
[{"$f":"'Tournois 2 contre 2'!A:A","v":0}]
[{"$f":"'Tournois 2 contre 2'!A:A","v":0}]
[{"$f":"'Tournois 2 contre 2'!A:A","v":0}]
[{"$f":"'Tournois 2 contre 2'!A:A","v":0}]
[{"$f":"'Tournois 2 contre 2'!A:A","v":0}]
[{"$f":"'Tournois 2 contre 2'!A:A","v":0}]
[{"$f":"'Tournois 2 contre 2'!A:A","v":0}]
[{"$f":"'Tournois 2 contre 2'!A:A","v":0}]
[{"$f":"'Tournois 2 contre 2'!A:A","v":0}]
[{"$f":"'Tournois 2 contre 2'!A:A","v":0}]
[{"$f":"'Tournois 2 contre 2'!A:A","v":0}]
[{"$f":"'Tournois 2 contre 2'!A:A","v":0}]
[{"$f":"'Tournois 2 contre 2'!A:A","v":0}]
[{"$f":"'Tournois 2 contre 2'!A:A","v":0}]
[{"$f":"'Tournois 2 contre 2'!A:A","v":0}]
[{"$f":"'Tournois 2 contre 2'!A:A","v":0}]
[{"$f":"'Tournois 2 contre 2'!A:A","v":0}]
[{"$f":"'Tournois 2 contre 2'!A:A","v":0}]
[{"$f":"'Tournois 2 contre 2'!A:A","v":0}]
[{"$f":"'Tournois 2 contre 2'!A:A","v":0}]
[{"$f":"'Tournois 2 contre 2'!A:A","v":0}]
[{"$f":"'Tournois 2 contre 2'!A:A","v":0}]
[{"$f":"'Tournois 2 contre 2'!A:A","v":0}]
[{"$f":"'Tournois 2 contre 2'!A:A","v":0}]
[{"$f":"'Tournois 2 contre 2'!A:A","v":0}]
[{"$f":"'Tournois 2 contre 2'!A:A","v":0}]
[{"$f":"'Tournois 2 contre 2'!A:A","v":0}]
[{"$f":"'Tournois 2 contre 2'!A:A","v":0}]
[{"$f":"'Tournois 2 contre 2'!A:A","v":0}]
[{"$f":"'Tournois 2 contre 2'!A:A","v":0}]
[{"$f":"'Tournois 2 contre 2'!A:A","v":0}]
[{"$f":"'Tournois 2 contre 2'!A:A","v":0}]
[{"$f":"'Tournois 2 contre 2'!A:A","v":0}]
[{"$f":"'Tournois 2 contre 2'!A:A","v":0}]
[{"$f":"'Tournois 2 contre 2'!A:A","v":0}]
[{"$f":"'Tournois 2 contre 2'!A:A","v":0}]
[{"$f":"'Tournois 2 contre 2'!A:A","v":0}]
[{"$f":"'Tournois 2 contre 2'!A:A","v":0}]
[{"$f":"'Tournois 2 contre 2'!A:A","v":0}]
[{"$f":"'Tournois 2 contre 2'!A:A","v":0}]
[{"$f":"'Tournois 2 contre 2'!A:A","v":0}]
[{"$f":"'Tournois 2 contre 2'!A:A","v":0}]
[{"$f":"'Tournois 2 contre 2'!A:A","v":0}]
[{"$f":"'Tournois 2 contre 2'!A:A","v":0}]
[{"$f":"'Tournois 2 contre 2'!A:A","v":0}]
[{"$f":"'Tournois 2 contre 2'!A:A","v":0}]
[{"$f":"'Tournois 2 contre 2'!A:A","v":0}]
[{"$f":"'Tournois 2 contre 2'!A:A","v":0}]
[{"$f":"'Tournois 2 contre 2'!A:A","v":0}]
[{"$f":"'Tournois 2 contre 2'!A:A","v":0}]
[{"$f":"'Tournois 2 contre 2'!A:A","v":0}]
[{"$f":"'Tournois 2 contre 2'!A:A","v":0}]
[{"$f":"'Tournois 2 contre 2'!A:A","v":0}]
[{"$f":"'Tournois 2 contre 2'!A:A","v":0}]
[{"$f":"'Tournois 2 contre 2'!A:A","v":0}]
[{"$f":"'Tournois 2 contre 2'!A:A","v":0}]
[{"$f":"'Tournois 2 contre 2'!A:A","v":0}]
[{"$f":"'Tournois 2 contre 2'!A:A","v":0}]
[{"$f":"'Tournois 2 contre 2'!A:A","v":0}]
[{"$f":"'Tournois 2 contre 2'!A:A","v":0}]
[{"$f":"'Tournois 2 contre 2'!A:A","v":0}]
[{"$f":"'Tournois 2 contre 2'!A:A","v":0}]
[{"$f":"'Tournois 2 contre 2'!A:A","v":0}]
[{"$f":"'Tournois 2 contre 2'!A:A","v":0}]
[{"$f":"'Tournois 2 contre 2'!A:A","v":0}]
[{"$f":"'Tournois 2 contre 2'!A:A","v":0}]
[{"$f":"'Tournois 2 contre 2'!A:A","v":0}]
[{"$f":"'Tournois 2 contre 2'!A:A","v":0}]
[{"$f":"'Tournois 2 contre 2'!A:A","v":0}]
[{"$f":"'Tournois 2 contre 2'!A:A","v":0}]
[{"$f":"'Tournois 2 contre 2'!A:A","v":0}]
[{"$f":"'Tournois 2 contre 2'!A:A","v":0}]
[{"$f":"'Tournois 2 contre 2'!A:A","v":0}]
[{"$f":"'Tournois 2 contre 2'!A:A","v":0}]
[{"$f":"'Tournois 2 contre 2'!A:A","v":0}]
[{"$f":"'Tournois 2 contre 2'!A:A","v":0}]
[{"$f":"'Tournois 2 contre 2'!A:A","v":0}]
[{"$f":"'Tournois 2 contre 2'!A:A","v":0}]
[{"$f":"'Tournois 2 contre 2'!A:A","v":0}]
[{"$f":"'Tournois 2 contre 2'!A:A","v":0}]
[{"$f":"'Tournois 2 contre 2'!A:A","v":0}]
[{"$f":"'Tournois 2 contre 2'!A:A","v":0}]
[{"$f":"'Tournois 2 contre 2'!A:A","v":0}]
[{"$f":"'Tournois 2 contre 2'!A:A","v":0}]
[{"$f":"'Tournois 2 contre 2'!A:A","v":0}]
[{"$f":"'Tournois 2 contre 2'!A:A","v":0}]
[{"$f":"'Tournois 2 contre 2'!A:A","v":0}]
[{"$f":"'Tournois 2 contre 2'!A:A","v":0}]
[{"$f":"'Tournois 2 contre 2'!A:A","v":0}]
[{"$f":"'Tournois 2 contre 2'!A:A","v":0}]
[{"$f":"'Tournois 2 contre 2'!A:A","v":0}]
[{"$f":"'Tournois 2 contre 2'!A:A","v":0}]
[{"$f":"'Tournois 2 contre 2'!A:A","v":0}]
[{"$f":"'Tournois 2 contre 2'!A:A","v":0}]
[{"$f":"'Tournois 2 contre 2'!A:A","v":0}]
[{"$f":"'Tournois 2 contre 2'!A:A","v":0}]
[{"$f":"'Tournois 2 contre 2'!A:A","v":0}]
[{"$f":"'Tournois 2 contre 2'!A:A","v":0}]
[{"$f":"'Tournois 2 contre 2'!A:A","v":0}]
[{"$f":"'Tournois 2 contre 2'!A:A","v":0}]
[{"$f":"'Tournois 2 contre 2'!A:A","v":0}]
[{"$f":"'Tournois 2 contre 2'!A:A","v":0}]
[{"$f":"'Tournois 2 contre 2'!A:A","v":0}]
[{"$f":"'Tournois 2 contre 2'!A:A","v":0}]
[{"$f":"'Tournois 2 contre 2'!A:A","v":0}]
[{"$f":"'Tournois 2 contre 2'!A:A","v":0}]
[{"$f":"'Tournois 2 contre 2'!A:A","v":0}]
[{"$f":"'Tournois 2 contre 2'!A:A","v":0}]
[{"$f":"'Tournois 2 contre 2'!A:A","v":0}]
[{"$f":"'Tournois 2 contre 2'!A:A","v":0}]
[{"$f":"'Tournois 2 contre 2'!A:A","v":0}]
[{"$f":"'Tournois 2 contre 2'!A:A","v":0}]
[{"$f":"'Tournois 2 contre 2'!A:A","v":0}]
[{"$f":"'Tournois 2 contre 2'!A:A","v":0}]
[{"$f":"'Tournois 2 contre 2'!A:A","v":0}]
[{"$f":"'Tournois 2 contre 2'!A:A","v":0}]
[{"$f":"'Tournois 2 contre 2'!A:A","v":0}]
[{"$f":"'Tournois 2 contre 2'!A:A","v":0}]
[{"$f":"'Tournois 2 contre 2'!A:A","v":0}]
[{"$f":"'Tournois 2 contre 2'!A:A","v":0}]
[{"$f":"'Tournois 2 contre 2'!A:A","v":0}]
[{"$f":"'Tournois 2 contre 2'!A:A","v":0}]
[{"$f":"'Tournois 2 contre 2'!A:A","v":0}]
[{"$f":"'Tournois 2 contre 2'!A:A","v":0}]
[{"$f":"'Tournois 2 contre 2'!A:A","v":0}]
[{"$f":"'Tournois 2 contre 2'!A:A","v":0}]
[{"$f":"'Tournois 2 contre 2'!A:A","v":0}]
[{"$f":"'Tournois 2 contre 2'!A:A","v":0}]
[{"$f":"'Tournois 2 contre 2'!A:A","v":0}]
[{"$f":"'Tournois 2 contre 2'!A:A","v":0}]
[{"$f":"'Tournois 2 contre 2'!A:A","v":0}]
[{"$f":"'Tournois 2 contre 2'!A:A","v":0}]
[{"$f":"'Tournois 2 contre 2'!A:A","v":0}]
[{"$f":"'Tournois 2 contre 2'!A:A","v":0}]
[{"$f":"'Tournois 2 contre 2'!A:A","v":0}]
[{"$f":"'Tournois 2 contre 2'!A:A","v":0}]
[{"$f":"'Tournois 2 contre 2'!A:A","v":0}]
[{"$f":"'Tournois 2 contre 2'!A:A","v":0}]
[{"$f":"'Tournois 2 contre 2'!A:A","v":0}]
[{"$f":"'Tournois 2 contre 2'!A:A","v":0}]
[{"$f":"'Tournois 2 contre 2'!A:A","v":0}]
[{"$f":"'Tournois 2 contre 2'!A:A","v":0}]
[{"$f":"'Tournois 2 contre 2'!A:A","v":0}]
[{"$f":"'Tournois 2 contre 2'!A:A","v":0}]
[{"$f":"'Tournois 2 contre 2'!A:A","v":0}]
[{"$f":"'Tournois 2 contre 2'!A:A","v":0}]
[{"$f":"'Tournois 2 contre 2'!A:A","v":0}]
[{"$f":"'Tournois 2 contre 2'!A:A","v":0}]
[{"$f":"'Tournois 2 contre 2'!A:A","v":0}]
[{"$f":"'Tournois 2 contre 2'!A:A","v":0}]
[{"$f":"'Tournois 2 contre 2'!A:A","v":0}]
[{"$f":"'Tournois 2 contre 2'!A:A","v":0}]
[{"$f":"'Tournois 2 contre 2'!A:A","v":0}]
[{"$f":"'Tournois 2 contre 2'!A:A","v":0}]
[{"$f":"'Tournois 2 contre 2'!A:A","v":0}]
[{"$f":"'Tournois 2 contre 2'!A:A","v":0}]
[{"$f":"'Tournois 2 contre 2'!A:A","v":0}]
[{"$f":"'Tournois 2 contre 2'!A:A","v":0}]
[{"$f":"'Tournois 2 contre 2'!A:A","v":0}]
[{"$f":"'Tournois 2 contre 2'!A:A","v":0}]
[{"$f":"'Tournois 2 contre 2'!A:A","v":0}]
[{"$f":"'Tournois 2 contre 2'!A:A","v":0}]
[{"$f":"'Tournois 2 contre 2'!A:A","v":0}]
[{"$f":"'Tournois 2 contre 2'!A:A","v":0}]
[{"$f":"'Tournois 2 contre 2'!A:A","v":0}]
[{"$f":"'Tournois 2 contre 2'!A:A","v":0}]
[{"$f":"'Tournois 2 contre 2'!A:A","v":0}]
[{"$f":"'Tournois 2 contre 2'!A:A","v":0}]
[{"$f":"'Tournois 2 contre 2'!A:A","v":0}]
[{"$f":"'Tournois 2 contre 2'!A:A","v":0}]
[{"$f":"'Tournois 2 contre 2'!A:A","v":0}]
[{"$f":"'Tournois 2 contre 2'!A:A","v":0}]
[{"$f":"'Tournois 2 contre 2'!A:A","v":0}]
[{"$f":"'Tournois 2 contre 2'!A:A","v":0}]
[{"$f":"'Tournois 2 contre 2'!A:A","v":0}]
[{"$f":"'Tournois 2 contre 2'!A:A","v":0}]
[{"$f":"'Tournois 2 contre 2'!A:A","v":0}]
[{"$f":"'Tournois 2 contre 2'!A:A","v":0}]
[{"$f":"'Tournois 2 contre 2'!A:A","v":0}]
[{"$f":"'Tournois 2 contre 2'!A:A","v":0}]
[{"$f":"'Tournois 2 contre 2'!A:A","v":0}]
[{"$f":"'Tournois 2 contre 2'!A:A","v":0}]
[{"$f":"'Tournois 2 contre 2'!A:A","v":0}]
[{"$f":"'Tournois 2 contre 2'!A:A","v":0}]
[{"$f":"'Tournois 2 contre 2'!A:A","v":0}]
[{"$f":"'Tournois 2 contre 2'!A:A","v":0}]
[{"$f":"'Tournois 2 contre 2'!A:A","v":0}]
[{"$f":"'Tournois 2 contre 2'!A:A","v":0}]
[{"$f":"'Tournois 2 contre 2'!A:A","v":0}]
[{"$f":"'Tournois 2 contre 2'!A:A","v":0}]
[{"$f":"'Tournois 2 contre 2'!A:A","v":0}]
[{"$f":"'Tournois 2 contre 2'!A:A","v":0}]
[{"$f":"'Tournois 2 contre 2'!A:A","v":0}]
[{"$f":"'Tournois 2 contre 2'!A:A","v":0}]
[{"$f":"'Tournois 2 contre 2'!A:A","v":0}]
[{"$f":"'Tournois 2 contre 2'!A:A","v":0}]
[{"$f":"'Tournois 2 contre 2'!A:A","v":0}]
[{"$f":"'Tournois 2 contre 2'!A:A","v":0}]
[{"$f":"'Tournois 2 contre 2'!A:A","v":0}]
[{"$f":"'Tournois 2 contre 2'!A:A","v":0}]
[{"$f":"'Tournois 2 contre 2'!A:A","v":0}]
[{"$f":"'Tournois 2 contre 2'!A:A","v":0}]
[{"$f":"'Tournois 2 contre 2'!A:A","v":0}]
[{"$f":"'Tournois 2 contre 2'!A:A","v":0}]
[{"$f":"'Tournois 2 contre 2'!A:A","v":0}]
[{"$f":"'Tournois 2 contre 2'!A:A","v":0}]
[{"$f":"'Tournois 2 contre 2'!A:A","v":0}]
[{"$f":"'Tournois 2 contre 2'!A:A","v":0}]
[{"$f":"'Tournois 2 contre 2'!A:A","v":0}]
[{"$f":"'Tournois 2 contre 2'!A:A","v":0}]
[{"$f":"'Tournois 2 contre 2'!A:A","v":0}]
[{"$f":"'Tournois 2 contre 2'!A:A","v":0}]
[{"$f":"'Tournois 2 contre 2'!A:A","v":0}]
[{"$f":"'Tournois 2 contre 2'!A:A","v":0}]
[{"$f":"'Tournois 2 contre 2'!A:A","v":0}]
[{"$f":"'Tournois 2 contre 2'!A:A","v":0}]
[{"$f":"'Tournois 2 contre 2'!A:A","v":0}]
[{"$f":"'Tournois 2 contre 2'!A:A","v":0}]
[{"$f":"'Tournois 2 contre 2'!A:A","v":0}]
[{"$f":"'Tournois 2 contre 2'!A:A","v":0}]
[{"$f":"'Tournois 2 contre 2'!A:A","v":0}]
[{"$f":"'Tournois 2 contre 2'!A:A","v":0}]
[{"$f":"'Tournois 2 contre 2'!A:A","v":0}]
[{"$f":"'Tournois 2 contre 2'!A:A","v":0}]
[{"$f":"'Tournois 2 contre 2'!A:A","v":0}]
[{"$f":"'Tournois 2 contre 2'!A:A","v":0}]
[{"$f":"'Tournois 2 contre 2'!A:A","v":0}]
[{"$f":"'Tournois 2 contre 2'!A:A","v":0}]
[{"$f":"'Tournois 2 contre 2'!A:A","v":0}]
[{"$f":"'Tournois 2 contre 2'!A:A","v":0}]
[{"$f":"'Tournois 2 contre 2'!A:A","v":0}]
[{"$f":"'Tournois 2 contre 2'!A:A","v":0}]
[{"$f":"'Tournois 2 contre 2'!A:A","v":0}]
[{"$f":"'Tournois 2 contre 2'!A:A","v":0}]
[{"$f":"'Tournois 2 contre 2'!A:A","v":0}]
[{"$f":"'Tournois 2 contre 2'!A:A","v":0}]
[{"$f":"'Tournois 2 contre 2'!A:A","v":0}]
[{"$f":"'Tournois 2 contre 2'!A:A","v":0}]
[{"$f":"'Tournois 2 contre 2'!A:A","v":0}]
[{"$f":"'Tournois 2 contre 2'!A:A","v":0}]
[{"$f":"'Tournois 2 contre 2'!A:A","v":0}]
[{"$f":"'Tournois 2 contre 2'!A:A","v":0}]
[{"$f":"'Tournois 2 contre 2'!A:A","v":0}]
[{"$f":"'Tournois 2 contre 2'!A:A","v":0}]
[{"$f":"'Tournois 2 contre 2'!A:A","v":0}]
[{"$f":"'Tournois 2 contre 2'!A:A","v":0}]
[{"$f":"'Tournois 2 contre 2'!A:A","v":0}]
[{"$f":"'Tournois 2 contre 2'!A:A","v":0}]
[{"$f":"'Tournois 2 contre 2'!A:A","v":0}]
[{"$f":"'Tournois 2 contre 2'!A:A","v":0}]
[{"$f":"'Tournois 2 contre 2'!A:A","v":0}]
[{"$f":"'Tournois 2 contre 2'!A:A","v":0}]
[{"$f":"'Tournois 2 contre 2'!A:A","v":0}]
[{"$f":"'Tournois 2 contre 2'!A:A","v":0}]
[{"$f":"'Tournois 2 contre 2'!A:A","v":0}]
[{"$f":"'Tournois 2 contre 2'!A:A","v":0}]
[{"$f":"'Tournois 2 contre 2'!A:A","v":0}]
[{"$f":"'Tournois 2 contre 2'!A:A","v":0}]
[{"$f":"'Tournois 2 contre 2'!A:A","v":0}]
[{"$f":"'Tournois 2 contre 2'!A:A","v":0}]
[{"$f":"'Tournois 2 contre 2'!A:A","v":0}]
[{"$f":"'Tournois 2 contre 2'!A:A","v":0}]
[{"$f":"'Tournois 2 contre 2'!A:A","v":0}]
[{"$f":"'Tournois 2 contre 2'!A:A","v":0}]
[{"$f":"'Tournois 2 contre 2'!A:A","v":0}]
[{"$f":"'Tournois 2 contre 2'!A:A","v":0}]
[{"$f":"'Tournois 2 contre 2'!A:A","v":0}]
[{"$f":"'Tournois 2 contre 2'!A:A","v":0}]
[{"$f":"'Tournois 2 contre 2'!A:A","v":0}]
[{"$f":"'Tournois 2 contre 2'!A:A","v":0}]
[{"$f":"'Tournois 2 contre 2'!A:A","v":0}]
[{"$f":"'Tournois 2 contre 2'!A:A","v":0}]
[{"$f":"'Tournois 2 contre 2'!A:A","v":0}]
[{"$f":"'Tournois 2 contre 2'!A:A","v":0}]
[{"$f":"'Tournois 2 contre 2'!A:A","v":0}]
[{"$f":"'Tournois 2 contre 2'!A:A","v":0}]
[{"$f":"'Tournois 2 contre 2'!A:A","v":0}]
[{"$f":"'Tournois 2 contre 2'!A:A","v":0}]
[{"$f":"'Tournois 2 contre 2'!A:A","v":0}]
[{"$f":"'Tournois 2 contre 2'!A:A","v":0}]
[{"$f":"'Tournois 2 contre 2'!A:A","v":0}]
[{"$f":"'Tournois 2 contre 2'!A:A","v":0}]
[{"$f":"'Tournois 2 contre 2'!A:A","v":0}]
[{"$f":"'Tournois 2 contre 2'!A:A","v":0}]
[{"$f":"'Tournois 2 contre 2'!A:A","v":0}]
[{"$f":"'Tournois 2 contre 2'!A:A","v":0}]
[{"$f":"'Tournois 2 contre 2'!A:A","v":0}]
[{"$f":"'Tournois 2 contre 2'!A:A","v":0}]
[{"$f":"'Tournois 2 contre 2'!A:A","v":0}]
[{"$f":"'Tournois 2 contre 2'!A:A","v":0}]
[{"$f":"'Tournois 2 contre 2'!A:A","v":0}]
[{"$f":"'Tournois 2 contre 2'!A:A","v":0}]
[{"$f":"'Tournois 2 contre 2'!A:A","v":0}]
[{"$f":"'Tournois 2 contre 2'!A:A","v":0}]