{"text_format":"1","workbook":"xlsx","n_sheets":9,"sheets":["TABPREBB","TC","Communes_canton","cep","Feuil3","NEUFCHATEAU","Feuil5","Feuil6","Feuil1"],"not_rendered":{"charts":0,"images":0,"macros":1,"external_links":0,"defined_names":11,"comments":0,"pivot_tables":1},"unopened":[],"bounds":{"document_bytes":16777216,"sheet_cells":100000,"rows_first":2000,"rows_last":500,"rows_between":2000,"halvings":0,"cell_chars":16384,"cell_head_chars":4096},"cells_cut":0,"cells_raw":0,"read":"whole","date_system":"1900"}

{"sheet":"TABPREBB","index":0,"n_rows":283,"n_cols":35,"rows_kept":283,"cut":false,"hidden":false,"merged":[[282,13,282,14],[282,15,282,16],[7,20,7,21],[0,20,0,21],[282,17,282,18],[0,15,0,16],[2,12,2,16],[7,14,7,15]]}
[]
[]
[]
[]
[]
[]
[null,null,null,null,null,null,null,null,null,null,null,null,{"$f":"IF(AND(I7=\"\",K7=\"\"),\"\",IF(AND(I7<>\"\",K7=\"\"),(CONCATENATE(I7,\"+\",(TEXT(J7,\"#000\")))),IF(AND(I7<>\"\",K7<>\"\"),(CONCATENATE(I7,\"+\",(TEXT(J7,\"#000\")),\" à \",K7,\"+\",(TEXT(L7,\"#000\")))))))","v":""}]
["contrôle","Travaux",null,null,null,null,null,null,null,null,null,null,null,null,"mesurées exactement",null,"S/L",null,null,null,null,null,null,null,null,null,null,null,null,null,null,null,null,"contrôle","contrôle"]
["ligne","Priorité","UT","CEP","Canton","N° urgence","Commune","RD","PR début","Abs début","PR fin","Abs fin","P.R.","Trafic V/j","Longueur","Surface","Largeur moyenne","Dosage","Tonnage","distance","Année dernier RVT","Nature dernier RVT","ObservationsProgrammation future pour les reprofilage (Année)","Trx. Annexes (Oui - non)","CP","Date CP","Montant","sup1","sup2","sup3","sup4","sup5"]
[{"$f":"IF(AND(D10<>D9,F10<>F9),1,IF(AND(D10<>D9,F10=F9),1,IF(AND(D10=D9,F10<>F9),1,0)))","v":1},null,{"$f":"IF(D10=\"\",\"\",(VLOOKUP(D10,cep!$A$2:$B$10,2,FALSE)))","v":"UTOP"},"NEUFCHATEAU",{"$f":"IF(G10=\"\",\"\",VLOOKUP(G10,Communes_canton,4,FALSE))","v":"Neufchâteau"},1,"Rouvres-la-Chétive",166,12,990,15,550,{"$f":"IF(AND(I10=\"\",K10=\"\"),\"\",IF(AND(I10<>\"\",K10=\"\"),(CONCATENATE(I10,\"+\",(TEXT(J10,\"#000\")))),IF(AND(I10<>\"\",K10<>\"\"),(CONCATENATE(I10,\"+\",(TEXT(J10,\"#000\")),\" à \",K10,\"+\",(TEXT(L10,\"#000\")))))))","v":"12+990 à 15+550"},4500,2560,28200,11,140,4000,null,2007,"ECF",null,"Rabotage -4 +6",null,null,null,null,null,null,null,null,null,{"$f":"IF(D10=\"\",\"\",$D10&COUNTIF($D$10:$D10,$D10))","v":"NEUFCHATEAU1"}]
[1,null,{"$f":"IF(D11=\"\",\"\",(VLOOKUP(D11,cep!$A$2:$B$10,2,FALSE)))","v":"UTOP"},"NEUFCHATEAU","Neufchâteau",2,"Neufchâteau",674,10,950,11,340,"10+950 à 11+340",4430,380,3040,8,110,340,null,"?","ESU",null,"Rabotage -5+5",null,null,null,null,null,null,null,null,null,{"$f":"IF(D11=\"\",\"\",$D11&COUNTIF($D$10:$D11,$D11))","v":"NEUFCHATEAU2"}]
[0,null,{"$f":"IF(D12=\"\",\"\",(VLOOKUP(D12,cep!$A$2:$B$10,2,FALSE)))","v":"UTOP"},"NEUFCHATEAU","",2,null,674,11,340,11,870,"11+340 à 11+870",4430,530,4240,8,140,600,null,"?","BBSG",null,"Rabotage -6+6",null,null,null,null,null,null,null,null,null,{"$f":"IF(D12=\"\",\"\",$D12&COUNTIF($D$10:$D12,$D12))","v":"NEUFCHATEAU3"}]
[1,null,{"$f":"IF(D13=\"\",\"\",(VLOOKUP(D13,cep!$A$2:$B$10,2,FALSE)))","v":"UTOP"},"VITTEL","Mirecourt","2a","Mirecourt",166,39,815,40,740,"39+815 à 40+740","3527\nT2",955,7880,8.25,140,1100,null,2001,"BBM","BBSG 140 kg - Section liée à 2b - 575 m² (rues adjacentes G) Agglo et hors agglo","oui - fraisage général ",null,null,null,null,null,null,null,null,null,{"$f":"IF(D13=\"\",\"\",$D13&COUNTIF($D$10:$D13,$D13))","v":"VITTEL1"}]
[1,null,{"$f":"IF(D14=\"\",\"\",(VLOOKUP(D14,cep!$A$2:$B$10,2,FALSE)))","v":"UTOP"},"VITTEL","Mirecourt","2b","Mirecourt",166,39,815,40,740,"39+815 à 40+740","3527\nT2",120,300,2.5,null,75,null,null,null,"BBSG 140 kg - Section liée à 2a","purge faible masse",null,null,null,null,null,null,null,null,null,{"$f":"IF(D14=\"\",\"\",$D14&COUNTIF($D$10:$D14,$D14))","v":"VITTEL2"}]
[1,null,{"$f":"IF(D15=\"\",\"\",(VLOOKUP(D15,cep!$A$2:$B$10,2,FALSE)))","v":"UTOP"},"VITTEL","Mirecourt","4a","Valleroy-aux-Saules",4,1,755,2,385,"1+755 à 2+385","T4",620,3875,6.25,130,510,null,2004,"ECF","BBCS 130 kg - Section liée à 4b - Agglo","oui - fraisage général",null,null,null,null,null,null,null,null,null,{"$f":"IF(D15=\"\",\"\",$D15&COUNTIF($D$10:$D15,$D15))","v":"VITTEL3"}]
[1,null,{"$f":"IF(D16=\"\",\"\",(VLOOKUP(D16,cep!$A$2:$B$10,2,FALSE)))","v":"UTOP"},"DARNEY","Darney",1,"Bonvillet",5,11,950,12,336,"11+950 à 12+336",504,401,2600,6.5,130,338,null,1997,"BB","Robotage 2600m² ","oui",null,null,null,null,null,null,null,null,null,{"$f":"IF(D16=\"\",\"\",$D16&COUNTIF($D$10:$D16,$D16))","v":"DARNEY1"}]
[1,null,{"$f":"IF(D17=\"\",\"\",(VLOOKUP(D17,cep!$A$2:$B$10,2,FALSE)))","v":"UTOP"},"DARNEY","Darney",2,"Tignécourt",15,7,990,12,336,"7+990 à 12+336",262,575,3620,6.3,120,450,null,2002,"ECF","Rabotage à -5cm","non",null,null,null,null,null,null,null,null,null,{"$f":"IF(D17=\"\",\"\",$D17&COUNTIF($D$10:$D17,$D17))","v":"DARNEY2"}]
[1,null,{"$f":"IF(D18=\"\",\"\",(VLOOKUP(D18,cep!$A$2:$B$10,2,FALSE)))","v":"UTOP"},"DARNEY","Darney",3,"Darney",460,26,0,26,485,"26+000 à 26+485",1489,523,4080,7.8,130,531,null,2005,"BB","Tavaux communaux","non",null,null,null,null,null,null,null,null,null,{"$f":"IF(D18=\"\",\"\",$D18&COUNTIF($D$10:$D18,$D18))","v":"DARNEY3"}]
[1,null,{"$f":"IF(D19=\"\",\"\",(VLOOKUP(D19,cep!$A$2:$B$10,2,FALSE)))","v":"UTOP"},"DARNEY","Darney","3 bis","Darney",164,61,586,61,847,"61+586 à 61+847",1489,261,1747,6.6,130,227,null,1988,"BBSG","Tavaux communaux","non",null,null,null,null,null,null,null,null,null,{"$f":"IF(D19=\"\",\"\",$D19&COUNTIF($D$10:$D19,$D19))","v":"DARNEY4"}]
[1,null,{"$f":"IF(D20=\"\",\"\",(VLOOKUP(D20,cep!$A$2:$B$10,2,FALSE)))","v":"UTOP"},"DARNEY","Darney","5 BIS","Robécourt","GR2/RD1",17,900,null,null,"17+900",1500,126,1215,9.65,140,170,null,2007,"BB",null,"non",null,null,null,null,null,null,null,null,null,{"$f":"IF(D20=\"\",\"\",$D20&COUNTIF($D$10:$D20,$D20))","v":"DARNEY5"}]
[1,null,{"$f":"IF(D21=\"\",\"\",(VLOOKUP(D21,cep!$A$2:$B$10,2,FALSE)))","v":"UTCM"},"DOMPAIRE","Le Val-d'Ajol",2,"Xertigny",null,null,null,null,null,"",null,null,null,null,null,null,null,null,null,null,null,null,null,null,null,null,null,null,null,null,{"$f":"IF(D21=\"\",\"\",$D21&COUNTIF($D$10:$D21,$D21))","v":"DOMPAIRE1"}]
[0,null,{"$f":"IF(D22=\"\",\"\",(VLOOKUP(D22,cep!$A$2:$B$10,2,FALSE)))","v":"UTCM"},"DOMPAIRE","Le Val-d'Ajol",2,"La Chapelle-aux-Bois",434,16,540,20,570,"16+540 à 20+570",2532,4082,26511,6.49,140,3712,null,1995,"ES",null,null,null,null,null,null,null,null,null,null,null,{"$f":"IF(D22=\"\",\"\",$D22&COUNTIF($D$10:$D22,$D22))","v":"DOMPAIRE2"}]
[1,null,{"$f":"IF(D23=\"\",\"\",(VLOOKUP(D23,cep!$A$2:$B$10,2,FALSE)))","v":"UTCM"},"EPINAL","Epinal-2",2,"Jeuxey",46,24,77,25,534,"24+077 à 25+534",8337,1453,10171,7,145,1465,null,null,"BBSG","BBSG3 0/10",null,null,null,null,null,null,null,null,null,null,{"$f":"IF(D23=\"\",\"\",$D23&COUNTIF($D$10:$D23,$D23))","v":"EPINAL1"}]
[1,null,{"$f":"IF(D24=\"\",\"\",(VLOOKUP(D24,cep!$A$2:$B$10,2,FALSE)))","v":""},null,"",null,null,null,null,null,null,null,"",null,null,null,null,null,null,null,null,null,null,null,null,null,null,null,null,null,null,null,null,{"$f":"IF(D24=\"\",\"\",$D24&COUNTIF($D$10:$D24,$D24))","v":""}]
[0,null,{"$f":"IF(D25=\"\",\"\",(VLOOKUP(D25,cep!$A$2:$B$10,2,FALSE)))","v":""},null,"",null,null,null,null,null,null,null,"",null,null,null,null,null,null,null,null,null,null,null,null,null,null,null,null,null,null,null,null,{"$f":"IF(D25=\"\",\"\",$D25&COUNTIF($D$10:$D25,$D25))","v":""}]
[0,null,{"$f":"IF(D26=\"\",\"\",(VLOOKUP(D26,cep!$A$2:$B$10,2,FALSE)))","v":""},null,"",null,null,null,null,null,null,null,"",null,null,null,null,null,null,null,null,null,null,null,null,null,null,null,null,null,null,null,null,{"$f":"IF(D26=\"\",\"\",$D26&COUNTIF($D$10:$D26,$D26))","v":""}]
[0,null,{"$f":"IF(D27=\"\",\"\",(VLOOKUP(D27,cep!$A$2:$B$10,2,FALSE)))","v":""},null,"",null,null,null,null,null,null,null,"",null,null,null,null,null,null,null,null,null,null,null,null,null,null,null,null,null,null,null,null,{"$f":"IF(D27=\"\",\"\",$D27&COUNTIF($D$10:$D27,$D27))","v":""}]
[0,null,{"$f":"IF(D28=\"\",\"\",(VLOOKUP(D28,cep!$A$2:$B$10,2,FALSE)))","v":""},null,"",null,null,null,null,null,null,null,"",null,null,null,null,null,null,null,null,null,null,null,null,null,null,null,null,null,null,null,null,{"$f":"IF(D28=\"\",\"\",$D28&COUNTIF($D$10:$D28,$D28))","v":""}]
[0,null,{"$f":"IF(D29=\"\",\"\",(VLOOKUP(D29,cep!$A$2:$B$10,2,FALSE)))","v":""},null,"",null,null,null,null,null,null,null,"",null,null,null,null,null,null,null,null,null,null,null,null,null,null,null,null,null,null,null,null,{"$f":"IF(D29=\"\",\"\",$D29&COUNTIF($D$10:$D29,$D29))","v":""}]
[0,null,{"$f":"IF(D30=\"\",\"\",(VLOOKUP(D30,cep!$A$2:$B$10,2,FALSE)))","v":""},null,"",null,null,null,null,null,null,null,"",null,null,null,null,null,null,null,null,null,null,null,null,null,null,null,null,null,null,null,null,{"$f":"IF(D30=\"\",\"\",$D30&COUNTIF($D$10:$D30,$D30))","v":""}]
[0,null,{"$f":"IF(D31=\"\",\"\",(VLOOKUP(D31,cep!$A$2:$B$10,2,FALSE)))","v":""},null,"",null,null,null,null,null,null,null,"",null,null,null,null,null,null,null,null,null,null,null,null,null,null,null,null,null,null,null,null,{"$f":"IF(D31=\"\",\"\",$D31&COUNTIF($D$10:$D31,$D31))","v":""}]
[0,null,{"$f":"IF(D32=\"\",\"\",(VLOOKUP(D32,cep!$A$2:$B$10,2,FALSE)))","v":""},null,"",null,null,null,null,null,null,null,"",null,null,null,null,null,null,null,null,null,null,null,null,null,null,null,null,null,null,null,null,{"$f":"IF(D32=\"\",\"\",$D32&COUNTIF($D$10:$D32,$D32))","v":""}]
[0,null,{"$f":"IF(D33=\"\",\"\",(VLOOKUP(D33,cep!$A$2:$B$10,2,FALSE)))","v":""},null,"",null,null,null,null,null,null,null,"",null,null,null,null,null,null,null,null,null,null,null,null,null,null,null,null,null,null,null,null,{"$f":"IF(D33=\"\",\"\",$D33&COUNTIF($D$10:$D33,$D33))","v":""}]
[0,null,{"$f":"IF(D34=\"\",\"\",(VLOOKUP(D34,cep!$A$2:$B$10,2,FALSE)))","v":""},null,"",null,null,null,null,null,null,null,"",null,null,null,null,null,null,null,null,null,null,null,null,null,null,null,null,null,null,null,null,{"$f":"IF(D34=\"\",\"\",$D34&COUNTIF($D$10:$D34,$D34))","v":""}]
[0,null,{"$f":"IF(D35=\"\",\"\",(VLOOKUP(D35,cep!$A$2:$B$10,2,FALSE)))","v":""},null,"",null,null,null,null,null,null,null,"",null,null,null,null,null,null,null,null,null,null,null,null,null,null,null,null,null,null,null,null,{"$f":"IF(D35=\"\",\"\",$D35&COUNTIF($D$10:$D35,$D35))","v":""}]
[0,null,{"$f":"IF(D36=\"\",\"\",(VLOOKUP(D36,cep!$A$2:$B$10,2,FALSE)))","v":""},null,"",null,null,null,null,null,null,null,"",null,null,null,null,null,null,null,null,null,null,null,null,null,null,null,null,null,null,null,null,{"$f":"IF(D36=\"\",\"\",$D36&COUNTIF($D$10:$D36,$D36))","v":""}]
[0,null,{"$f":"IF(D37=\"\",\"\",(VLOOKUP(D37,cep!$A$2:$B$10,2,FALSE)))","v":""},null,"",null,null,null,null,null,null,null,"",null,null,null,null,null,null,null,null,null,null,null,null,null,null,null,null,null,null,null,null,{"$f":"IF(D37=\"\",\"\",$D37&COUNTIF($D$10:$D37,$D37))","v":""}]
[0,null,{"$f":"IF(D38=\"\",\"\",(VLOOKUP(D38,cep!$A$2:$B$10,2,FALSE)))","v":""},null,"",null,null,null,null,null,null,null,"",null,null,null,null,null,null,null,null,null,null,null,null,null,null,null,null,null,null,null,null,{"$f":"IF(D38=\"\",\"\",$D38&COUNTIF($D$10:$D38,$D38))","v":""}]
[0,null,{"$f":"IF(D39=\"\",\"\",(VLOOKUP(D39,cep!$A$2:$B$10,2,FALSE)))","v":""},null,"",null,null,null,null,null,null,null,"",null,null,null,null,null,null,null,null,null,null,null,null,null,null,null,null,null,null,null,null,{"$f":"IF(D39=\"\",\"\",$D39&COUNTIF($D$10:$D39,$D39))","v":""}]
[0,null,{"$f":"IF(D40=\"\",\"\",(VLOOKUP(D40,cep!$A$2:$B$10,2,FALSE)))","v":""},null,"",null,null,null,null,null,null,null,"",null,null,null,null,null,null,null,null,null,null,null,null,null,null,null,null,null,null,null,null,{"$f":"IF(D40=\"\",\"\",$D40&COUNTIF($D$10:$D40,$D40))","v":""}]
[0,null,{"$f":"IF(D41=\"\",\"\",(VLOOKUP(D41,cep!$A$2:$B$10,2,FALSE)))","v":""},null,"",null,null,null,null,null,null,null,"",null,null,null,null,null,null,null,null,null,null,null,null,null,null,null,null,null,null,null,null,{"$f":"IF(D41=\"\",\"\",$D41&COUNTIF($D$10:$D41,$D41))","v":""}]
[0,null,{"$f":"IF(D42=\"\",\"\",(VLOOKUP(D42,cep!$A$2:$B$10,2,FALSE)))","v":""},null,{"$f":"IF(G42=\"\",\"\",VLOOKUP(G42,Communes_canton,4,FALSE))","v":""},null,null,null,null,null,null,null,{"$f":"IF(AND(I42=\"\",K42=\"\"),\"\",IF(AND(I42<>\"\",K42=\"\"),(CONCATENATE(I42,\"+\",(TEXT(J42,\"#000\")))),IF(AND(I42<>\"\",K42<>\"\"),(CONCATENATE(I42,\"+\",(TEXT(J42,\"#000\")),\" à \",K42,\"+\",(TEXT(L42,\"#000\")))))))","v":""},null,null,null,null,null,null,null,null,null,null,null,null,null,null,null,null,null,null,null,null,{"$f":"IF(D42=\"\",\"\",$D42&COUNTIF($D$10:$D42,$D42))","v":""}]
[0,null,{"$f":"IF(D43=\"\",\"\",(VLOOKUP(D43,cep!$A$2:$B$10,2,FALSE)))","v":""},null,"",null,null,null,null,null,null,null,"",null,null,null,null,null,null,null,null,null,null,null,null,null,null,null,null,null,null,null,null,{"$f":"IF(D43=\"\",\"\",$D43&COUNTIF($D$10:$D43,$D43))","v":""}]
[0,null,{"$f":"IF(D44=\"\",\"\",(VLOOKUP(D44,cep!$A$2:$B$10,2,FALSE)))","v":""},null,"",null,null,null,null,null,null,null,"",null,null,null,null,null,null,null,null,null,null,null,null,null,null,null,null,null,null,null,null,{"$f":"IF(D44=\"\",\"\",$D44&COUNTIF($D$10:$D44,$D44))","v":""}]
[0,null,{"$f":"IF(D45=\"\",\"\",(VLOOKUP(D45,cep!$A$2:$B$10,2,FALSE)))","v":""},null,"",null,null,null,null,null,null,null,"",null,null,null,null,null,null,null,null,null,null,null,null,null,null,null,null,null,null,null,null,{"$f":"IF(D45=\"\",\"\",$D45&COUNTIF($D$10:$D45,$D45))","v":""}]
[0,null,{"$f":"IF(D46=\"\",\"\",(VLOOKUP(D46,cep!$A$2:$B$10,2,FALSE)))","v":""},null,"",null,null,null,null,null,null,null,"",null,null,null,null,null,null,null,null,null,null,null,null,null,null,null,null,null,null,null,null,{"$f":"IF(D46=\"\",\"\",$D46&COUNTIF($D$10:$D46,$D46))","v":""}]
[0,null,{"$f":"IF(D47=\"\",\"\",(VLOOKUP(D47,cep!$A$2:$B$10,2,FALSE)))","v":""},null,"",null,null,null,null,null,null,null,"",null,null,null,null,null,null,null,null,null,null,null,null,null,null,null,null,null,null,null,null,{"$f":"IF(D47=\"\",\"\",$D47&COUNTIF($D$10:$D47,$D47))","v":""}]
[0,null,{"$f":"IF(D48=\"\",\"\",(VLOOKUP(D48,cep!$A$2:$B$10,2,FALSE)))","v":""},null,"",null,null,null,null,null,null,null,"",null,null,null,null,null,null,null,null,null,null,null,null,null,null,null,null,null,null,null,null,{"$f":"IF(D48=\"\",\"\",$D48&COUNTIF($D$10:$D48,$D48))","v":""}]
[0,null,{"$f":"IF(D49=\"\",\"\",(VLOOKUP(D49,cep!$A$2:$B$10,2,FALSE)))","v":""},null,"",null,null,null,null,null,null,null,"",null,null,null,null,null,null,null,null,null,null,null,null,null,null,null,null,null,null,null,null,{"$f":"IF(D49=\"\",\"\",$D49&COUNTIF($D$10:$D49,$D49))","v":""}]
[0,null,{"$f":"IF(D50=\"\",\"\",(VLOOKUP(D50,cep!$A$2:$B$10,2,FALSE)))","v":""},null,"",null,null,null,null,null,null,null,"",null,null,null,null,null,null,null,null,null,null,null,null,null,null,null,null,null,null,null,null,{"$f":"IF(D50=\"\",\"\",$D50&COUNTIF($D$10:$D50,$D50))","v":""}]
[0,null,{"$f":"IF(D51=\"\",\"\",(VLOOKUP(D51,cep!$A$2:$B$10,2,FALSE)))","v":""},null,"",null,null,null,null,null,null,null,"",null,null,null,null,null,null,null,null,null,null,null,null,null,null,null,null,null,null,null,null,{"$f":"IF(D51=\"\",\"\",$D51&COUNTIF($D$10:$D51,$D51))","v":""}]
[0,null,{"$f":"IF(D52=\"\",\"\",(VLOOKUP(D52,cep!$A$2:$B$10,2,FALSE)))","v":""},null,"",null,null,null,null,null,null,null,"",null,null,null,null,null,null,null,null,null,null,null,null,null,null,null,null,null,null,null,null,{"$f":"IF(D52=\"\",\"\",$D52&COUNTIF($D$10:$D52,$D52))","v":""}]
[0,null,{"$f":"IF(D53=\"\",\"\",(VLOOKUP(D53,cep!$A$2:$B$10,2,FALSE)))","v":""},null,"",null,null,null,null,null,null,null,"",null,null,null,null,null,null,null,null,null,null,null,null,null,null,null,null,null,null,null,null,{"$f":"IF(D53=\"\",\"\",$D53&COUNTIF($D$10:$D53,$D53))","v":""}]
[0,null,{"$f":"IF(D54=\"\",\"\",(VLOOKUP(D54,cep!$A$2:$B$10,2,FALSE)))","v":""},null,"",null,null,null,null,null,null,null,"",null,null,null,null,null,null,null,null,null,null,null,null,null,null,null,null,null,null,null,null,{"$f":"IF(D54=\"\",\"\",$D54&COUNTIF($D$10:$D54,$D54))","v":""}]
[0,null,{"$f":"IF(D55=\"\",\"\",(VLOOKUP(D55,cep!$A$2:$B$10,2,FALSE)))","v":""},null,"",null,null,null,null,null,null,null,"",null,null,null,null,null,null,null,null,null,null,null,null,null,null,null,null,null,null,null,null,{"$f":"IF(D55=\"\",\"\",$D55&COUNTIF($D$10:$D55,$D55))","v":""}]
[0,null,{"$f":"IF(D56=\"\",\"\",(VLOOKUP(D56,cep!$A$2:$B$10,2,FALSE)))","v":""},null,"",null,null,null,null,null,null,null,"",null,null,null,null,null,null,null,null,null,null,null,null,null,null,null,null,null,null,null,null,{"$f":"IF(D56=\"\",\"\",$D56&COUNTIF($D$10:$D56,$D56))","v":""}]
[0,null,{"$f":"IF(D57=\"\",\"\",(VLOOKUP(D57,cep!$A$2:$B$10,2,FALSE)))","v":""},null,"",null,null,null,null,null,null,null,"",null,null,null,null,null,null,null,null,null,null,null,null,null,null,null,null,null,null,null,null,{"$f":"IF(D57=\"\",\"\",$D57&COUNTIF($D$10:$D57,$D57))","v":""}]
[0,null,{"$f":"IF(D58=\"\",\"\",(VLOOKUP(D58,cep!$A$2:$B$10,2,FALSE)))","v":""},null,"",null,null,null,null,null,null,null,"",null,null,null,null,null,null,null,null,null,null,null,null,null,null,null,null,null,null,null,null,{"$f":"IF(D58=\"\",\"\",$D58&COUNTIF($D$10:$D58,$D58))","v":""}]
[0,null,{"$f":"IF(D59=\"\",\"\",(VLOOKUP(D59,cep!$A$2:$B$10,2,FALSE)))","v":""},null,"",null,null,null,null,null,null,null,"",null,null,null,null,null,null,null,null,null,null,null,null,null,null,null,null,null,null,null,null,{"$f":"IF(D59=\"\",\"\",$D59&COUNTIF($D$10:$D59,$D59))","v":""}]
[0,null,{"$f":"IF(D60=\"\",\"\",(VLOOKUP(D60,cep!$A$2:$B$10,2,FALSE)))","v":""},null,"",null,null,null,null,null,null,null,"",null,null,null,null,null,null,null,null,null,null,null,null,null,null,null,null,null,null,null,null,{"$f":"IF(D60=\"\",\"\",$D60&COUNTIF($D$10:$D60,$D60))","v":""}]
[0,null,{"$f":"IF(D61=\"\",\"\",(VLOOKUP(D61,cep!$A$2:$B$10,2,FALSE)))","v":""},null,"",null,null,null,null,null,null,null,"",null,null,null,null,null,null,null,null,null,null,null,null,null,null,null,null,null,null,null,null,{"$f":"IF(D61=\"\",\"\",$D61&COUNTIF($D$10:$D61,$D61))","v":""}]
[0,null,{"$f":"IF(D62=\"\",\"\",(VLOOKUP(D62,cep!$A$2:$B$10,2,FALSE)))","v":""},null,"",null,null,null,null,null,null,null,"",null,null,null,null,null,null,null,null,null,null,null,null,null,null,null,null,null,null,null,null,{"$f":"IF(D62=\"\",\"\",$D62&COUNTIF($D$10:$D62,$D62))","v":""}]
[0,null,{"$f":"IF(D63=\"\",\"\",(VLOOKUP(D63,cep!$A$2:$B$10,2,FALSE)))","v":""},null,"",null,null,null,null,null,null,null,"",null,null,null,null,null,null,null,null,null,null,null,null,null,null,null,null,null,null,null,null,{"$f":"IF(D63=\"\",\"\",$D63&COUNTIF($D$10:$D63,$D63))","v":""}]
[0,null,{"$f":"IF(D64=\"\",\"\",(VLOOKUP(D64,cep!$A$2:$B$10,2,FALSE)))","v":""},null,"",null,null,null,null,null,null,null,"",null,null,null,null,null,null,null,null,null,null,null,null,null,null,null,null,null,null,null,null,{"$f":"IF(D64=\"\",\"\",$D64&COUNTIF($D$10:$D64,$D64))","v":""}]
[0,null,{"$f":"IF(D65=\"\",\"\",(VLOOKUP(D65,cep!$A$2:$B$10,2,FALSE)))","v":""},null,"",null,null,null,null,null,null,null,"",null,null,null,null,null,null,null,null,null,null,null,null,null,null,null,null,null,null,null,null,{"$f":"IF(D65=\"\",\"\",$D65&COUNTIF($D$10:$D65,$D65))","v":""}]
[0,null,{"$f":"IF(D66=\"\",\"\",(VLOOKUP(D66,cep!$A$2:$B$10,2,FALSE)))","v":""},null,"",null,null,null,null,null,null,null,"",null,null,null,null,null,null,null,null,null,null,null,null,null,null,null,null,null,null,null,null,{"$f":"IF(D66=\"\",\"\",$D66&COUNTIF($D$10:$D66,$D66))","v":""}]
[0,null,{"$f":"IF(D67=\"\",\"\",(VLOOKUP(D67,cep!$A$2:$B$10,2,FALSE)))","v":""},null,"",null,null,null,null,null,null,null,"",null,null,null,null,null,null,null,null,null,null,null,null,null,null,null,null,null,null,null,null,{"$f":"IF(D67=\"\",\"\",$D67&COUNTIF($D$10:$D67,$D67))","v":""}]
[0,null,{"$f":"IF(D68=\"\",\"\",(VLOOKUP(D68,cep!$A$2:$B$10,2,FALSE)))","v":""},null,"",null,null,null,null,null,null,null,"",null,null,null,null,null,null,null,null,null,null,null,null,null,null,null,null,null,null,null,null,{"$f":"IF(D68=\"\",\"\",$D68&COUNTIF($D$10:$D68,$D68))","v":""}]
[0,null,{"$f":"IF(D69=\"\",\"\",(VLOOKUP(D69,cep!$A$2:$B$10,2,FALSE)))","v":""},null,"",null,null,null,null,null,null,null,"",null,null,null,null,null,null,null,null,null,null,null,null,null,null,null,null,null,null,null,null,{"$f":"IF(D69=\"\",\"\",$D69&COUNTIF($D$10:$D69,$D69))","v":""}]
[0,null,{"$f":"IF(D70=\"\",\"\",(VLOOKUP(D70,cep!$A$2:$B$10,2,FALSE)))","v":""},null,"",null,null,null,null,null,null,null,"",null,null,null,null,null,null,null,null,null,null,null,null,null,null,null,null,null,null,null,null,{"$f":"IF(D70=\"\",\"\",$D70&COUNTIF($D$10:$D70,$D70))","v":""}]
[0,null,{"$f":"IF(D71=\"\",\"\",(VLOOKUP(D71,cep!$A$2:$B$10,2,FALSE)))","v":""},null,"",null,null,null,null,null,null,null,"",null,null,null,null,null,null,null,null,null,null,null,null,null,null,null,null,null,null,null,null,{"$f":"IF(D71=\"\",\"\",$D71&COUNTIF($D$10:$D71,$D71))","v":""}]
[0,null,{"$f":"IF(D72=\"\",\"\",(VLOOKUP(D72,cep!$A$2:$B$10,2,FALSE)))","v":""},null,"",null,null,null,null,null,null,null,"",null,null,null,null,null,null,null,null,null,null,null,null,null,null,null,null,null,null,null,null,{"$f":"IF(D72=\"\",\"\",$D72&COUNTIF($D$10:$D72,$D72))","v":""}]
[0,null,{"$f":"IF(D73=\"\",\"\",(VLOOKUP(D73,cep!$A$2:$B$10,2,FALSE)))","v":""},null,"",null,null,null,null,null,null,null,"",null,null,null,null,null,null,null,null,null,null,null,null,null,null,null,null,null,null,null,null,{"$f":"IF(D73=\"\",\"\",$D73&COUNTIF($D$10:$D73,$D73))","v":""}]
[{"$f":"IF(AND(D74<>D73,F74<>F73),1,IF(AND(D74<>D73,F74=F73),1,IF(AND(D74=D73,F74<>F73),1,0)))","v":0},null,{"$f":"IF(D74=\"\",\"\",(VLOOKUP(D74,cep!$A$2:$B$10,2,FALSE)))","v":""},null,{"$f":"IF(G74=\"\",\"\",VLOOKUP(G74,Communes_canton,4,FALSE))","v":""},null,null,null,null,null,null,null,{"$f":"IF(AND(I74=\"\",K74=\"\"),\"\",IF(AND(I74<>\"\",K74=\"\"),(CONCATENATE(I74,\"+\",(TEXT(J74,\"#000\")))),IF(AND(I74<>\"\",K74<>\"\"),(CONCATENATE(I74,\"+\",(TEXT(J74,\"#000\")),\" à \",K74,\"+\",(TEXT(L74,\"#000\")))))))","v":""},null,null,null,null,null,null,null,null,null,null,null,null,null,null,null,null,null,null,null,null,{"$f":"IF(D74=\"\",\"\",$D74&COUNTIF($D$10:$D74,$D74))","v":""}]
[0,null,{"$f":"IF(D75=\"\",\"\",(VLOOKUP(D75,cep!$A$2:$B$10,2,FALSE)))","v":""},null,"",null,null,null,null,null,null,null,"",null,null,null,null,null,null,null,null,null,null,null,null,null,null,null,null,null,null,null,null,{"$f":"IF(D75=\"\",\"\",$D75&COUNTIF($D$10:$D75,$D75))","v":""}]
[0,null,{"$f":"IF(D76=\"\",\"\",(VLOOKUP(D76,cep!$A$2:$B$10,2,FALSE)))","v":""},null,"",null,null,null,null,null,null,null,"",null,null,null,null,null,null,null,null,null,null,null,null,null,null,null,null,null,null,null,null,{"$f":"IF(D76=\"\",\"\",$D76&COUNTIF($D$10:$D76,$D76))","v":""}]
[0,null,{"$f":"IF(D77=\"\",\"\",(VLOOKUP(D77,cep!$A$2:$B$10,2,FALSE)))","v":""},null,"",null,null,null,null,null,null,null,"",null,null,null,null,null,null,null,null,null,null,null,null,null,null,null,null,null,null,null,null,{"$f":"IF(D77=\"\",\"\",$D77&COUNTIF($D$10:$D77,$D77))","v":""}]
[0,null,{"$f":"IF(D78=\"\",\"\",(VLOOKUP(D78,cep!$A$2:$B$10,2,FALSE)))","v":""},null,"",null,null,null,null,null,null,null,"",null,null,null,null,null,null,null,null,null,null,null,null,null,null,null,null,null,null,null,null,{"$f":"IF(D78=\"\",\"\",$D78&COUNTIF($D$10:$D78,$D78))","v":""}]
[0,null,{"$f":"IF(D79=\"\",\"\",(VLOOKUP(D79,cep!$A$2:$B$10,2,FALSE)))","v":""},null,"",null,null,null,null,null,null,null,"",null,null,null,null,null,null,null,null,null,null,null,null,null,null,null,null,null,null,null,null,{"$f":"IF(D79=\"\",\"\",$D79&COUNTIF($D$10:$D79,$D79))","v":""}]
[0,null,{"$f":"IF(D80=\"\",\"\",(VLOOKUP(D80,cep!$A$2:$B$10,2,FALSE)))","v":""},null,"",null,null,null,null,null,null,null,"",null,null,null,null,null,null,null,null,null,null,null,null,null,null,null,null,null,null,null,null,{"$f":"IF(D80=\"\",\"\",$D80&COUNTIF($D$10:$D80,$D80))","v":""}]
[0,null,{"$f":"IF(D81=\"\",\"\",(VLOOKUP(D81,cep!$A$2:$B$10,2,FALSE)))","v":""},null,"",null,null,null,null,null,null,null,"",null,null,null,null,null,null,null,null,null,null,null,null,null,null,null,null,null,null,null,null,{"$f":"IF(D81=\"\",\"\",$D81&COUNTIF($D$10:$D81,$D81))","v":""}]
[0,null,{"$f":"IF(D82=\"\",\"\",(VLOOKUP(D82,cep!$A$2:$B$10,2,FALSE)))","v":""},null,"",null,null,null,null,null,null,null,"",null,null,null,null,null,null,null,null,null,null,null,null,null,null,null,null,null,null,null,null,{"$f":"IF(D82=\"\",\"\",$D82&COUNTIF($D$10:$D82,$D82))","v":""}]
[0,null,{"$f":"IF(D83=\"\",\"\",(VLOOKUP(D83,cep!$A$2:$B$10,2,FALSE)))","v":""},null,"",null,null,null,null,null,null,null,"",null,null,null,null,null,null,null,null,null,null,null,null,null,null,null,null,null,null,null,null,{"$f":"IF(D83=\"\",\"\",$D83&COUNTIF($D$10:$D83,$D83))","v":""}]
[0,null,{"$f":"IF(D84=\"\",\"\",(VLOOKUP(D84,cep!$A$2:$B$10,2,FALSE)))","v":""},null,"",null,null,null,null,null,null,null,"",null,null,null,null,null,null,null,null,null,null,null,null,null,null,null,null,null,null,null,null,{"$f":"IF(D84=\"\",\"\",$D84&COUNTIF($D$10:$D84,$D84))","v":""}]
[0,null,{"$f":"IF(D85=\"\",\"\",(VLOOKUP(D85,cep!$A$2:$B$10,2,FALSE)))","v":""},null,"",null,null,null,null,null,null,null,"",null,null,null,null,null,null,null,null,null,null,null,null,null,null,null,null,null,null,null,null,{"$f":"IF(D85=\"\",\"\",$D85&COUNTIF($D$10:$D85,$D85))","v":""}]
[0,null,{"$f":"IF(D86=\"\",\"\",(VLOOKUP(D86,cep!$A$2:$B$10,2,FALSE)))","v":""},null,"",null,null,null,null,null,null,null,"",null,null,null,null,null,null,null,null,null,null,null,null,null,null,null,null,null,null,null,null,{"$f":"IF(D86=\"\",\"\",$D86&COUNTIF($D$10:$D86,$D86))","v":""}]
[0,null,{"$f":"IF(D87=\"\",\"\",(VLOOKUP(D87,cep!$A$2:$B$10,2,FALSE)))","v":""},null,"",null,null,null,null,null,null,null,"",null,null,null,null,null,null,null,null,null,null,null,null,null,null,null,null,null,null,null,null,{"$f":"IF(D87=\"\",\"\",$D87&COUNTIF($D$10:$D87,$D87))","v":""}]
[0,null,{"$f":"IF(D88=\"\",\"\",(VLOOKUP(D88,cep!$A$2:$B$10,2,FALSE)))","v":""},null,"",null,null,null,null,null,null,null,"",null,null,null,null,null,null,null,null,null,null,null,null,null,null,null,null,null,null,null,null,{"$f":"IF(D88=\"\",\"\",$D88&COUNTIF($D$10:$D88,$D88))","v":""}]
[0,null,{"$f":"IF(D89=\"\",\"\",(VLOOKUP(D89,cep!$A$2:$B$10,2,FALSE)))","v":""},null,"",null,null,null,null,null,null,null,"",null,null,null,null,null,null,null,null,null,null,null,null,null,null,null,null,null,null,null,null,{"$f":"IF(D89=\"\",\"\",$D89&COUNTIF($D$10:$D89,$D89))","v":""}]
[0,null,{"$f":"IF(D90=\"\",\"\",(VLOOKUP(D90,cep!$A$2:$B$10,2,FALSE)))","v":""},null,"",null,null,null,null,null,null,null,"",null,null,null,null,null,null,null,null,null,null,null,null,null,null,null,null,null,null,null,null,{"$f":"IF(D90=\"\",\"\",$D90&COUNTIF($D$10:$D90,$D90))","v":""}]
[0,null,{"$f":"IF(D91=\"\",\"\",(VLOOKUP(D91,cep!$A$2:$B$10,2,FALSE)))","v":""},null,"",null,null,null,null,null,null,null,"",null,null,null,null,null,null,null,null,null,null,null,null,null,null,null,null,null,null,null,null,{"$f":"IF(D91=\"\",\"\",$D91&COUNTIF($D$10:$D91,$D91))","v":""}]
[0,null,{"$f":"IF(D92=\"\",\"\",(VLOOKUP(D92,cep!$A$2:$B$10,2,FALSE)))","v":""},null,"",null,null,null,null,null,null,null,"",null,null,null,null,null,null,null,null,null,null,null,null,null,null,null,null,null,null,null,null,{"$f":"IF(D92=\"\",\"\",$D92&COUNTIF($D$10:$D92,$D92))","v":""}]
[0,null,{"$f":"IF(D93=\"\",\"\",(VLOOKUP(D93,cep!$A$2:$B$10,2,FALSE)))","v":""},null,"",null,null,null,null,null,null,null,"",null,null,null,null,null,null,null,null,null,null,null,null,null,null,null,null,null,null,null,null,{"$f":"IF(D93=\"\",\"\",$D93&COUNTIF($D$10:$D93,$D93))","v":""}]
[0,null,{"$f":"IF(D94=\"\",\"\",(VLOOKUP(D94,cep!$A$2:$B$10,2,FALSE)))","v":""},null,"",null,null,null,null,null,null,null,"",null,null,null,null,null,null,null,null,null,null,null,null,null,null,null,null,null,null,null,null,{"$f":"IF(D94=\"\",\"\",$D94&COUNTIF($D$10:$D94,$D94))","v":""}]
[0,null,{"$f":"IF(D95=\"\",\"\",(VLOOKUP(D95,cep!$A$2:$B$10,2,FALSE)))","v":""},null,"",null,null,null,null,null,null,null,"",null,null,null,null,null,null,null,null,null,null,null,null,null,null,null,null,null,null,null,null,{"$f":"IF(D95=\"\",\"\",$D95&COUNTIF($D$10:$D95,$D95))","v":""}]
[0,null,{"$f":"IF(D96=\"\",\"\",(VLOOKUP(D96,cep!$A$2:$B$10,2,FALSE)))","v":""},null,"",null,null,null,null,null,null,null,"",null,null,null,null,null,null,null,null,null,null,null,null,null,null,null,null,null,null,null,null,{"$f":"IF(D96=\"\",\"\",$D96&COUNTIF($D$10:$D96,$D96))","v":""}]
[0,null,{"$f":"IF(D97=\"\",\"\",(VLOOKUP(D97,cep!$A$2:$B$10,2,FALSE)))","v":""},null,"",null,null,null,null,null,null,null,"",null,null,null,null,null,null,null,null,null,null,null,null,null,null,null,null,null,null,null,null,{"$f":"IF(D97=\"\",\"\",$D97&COUNTIF($D$10:$D97,$D97))","v":""}]
[0,null,{"$f":"IF(D98=\"\",\"\",(VLOOKUP(D98,cep!$A$2:$B$10,2,FALSE)))","v":""},null,"",null,null,null,null,null,null,null,"",null,null,null,null,null,null,null,null,null,null,null,null,null,null,null,null,null,null,null,null,{"$f":"IF(D98=\"\",\"\",$D98&COUNTIF($D$10:$D98,$D98))","v":""}]
[0,null,{"$f":"IF(D99=\"\",\"\",(VLOOKUP(D99,cep!$A$2:$B$10,2,FALSE)))","v":""},null,"",null,null,null,null,null,null,null,"",null,null,null,null,null,null,null,null,null,null,null,null,null,null,null,null,null,null,null,null,{"$f":"IF(D99=\"\",\"\",$D99&COUNTIF($D$10:$D99,$D99))","v":""}]
[0,null,{"$f":"IF(D100=\"\",\"\",(VLOOKUP(D100,cep!$A$2:$B$10,2,FALSE)))","v":""},null,"",null,null,null,null,null,null,null,"",null,null,null,null,null,null,null,null,null,null,null,null,null,null,null,null,null,null,null,null,{"$f":"IF(D100=\"\",\"\",$D100&COUNTIF($D$10:$D100,$D100))","v":""}]
[0,null,{"$f":"IF(D101=\"\",\"\",(VLOOKUP(D101,cep!$A$2:$B$10,2,FALSE)))","v":""},null,"",null,null,null,null,null,null,null,"",null,null,null,null,null,null,null,null,null,null,null,null,null,null,null,null,null,null,null,null,{"$f":"IF(D101=\"\",\"\",$D101&COUNTIF($D$10:$D101,$D101))","v":""}]
[0,null,{"$f":"IF(D102=\"\",\"\",(VLOOKUP(D102,cep!$A$2:$B$10,2,FALSE)))","v":""},null,"",null,null,null,null,null,null,null,"",null,null,null,null,null,null,null,null,null,null,null,null,null,null,null,null,null,null,null,null,{"$f":"IF(D102=\"\",\"\",$D102&COUNTIF($D$10:$D102,$D102))","v":""}]
[0,null,{"$f":"IF(D103=\"\",\"\",(VLOOKUP(D103,cep!$A$2:$B$10,2,FALSE)))","v":""},null,"",null,null,null,null,null,null,null,"",null,null,null,null,null,null,null,null,null,null,null,null,null,null,null,null,null,null,null,null,{"$f":"IF(D103=\"\",\"\",$D103&COUNTIF($D$10:$D103,$D103))","v":""}]
[0,null,{"$f":"IF(D104=\"\",\"\",(VLOOKUP(D104,cep!$A$2:$B$10,2,FALSE)))","v":""},null,"",null,null,null,null,null,null,null,"",null,null,null,null,null,null,null,null,null,null,null,null,null,null,null,null,null,null,null,null,{"$f":"IF(D104=\"\",\"\",$D104&COUNTIF($D$10:$D104,$D104))","v":""}]
[0,null,{"$f":"IF(D105=\"\",\"\",(VLOOKUP(D105,cep!$A$2:$B$10,2,FALSE)))","v":""},null,"",null,null,null,null,null,null,null,"",null,null,null,null,null,null,null,null,null,null,null,null,null,null,null,null,null,null,null,null,{"$f":"IF(D105=\"\",\"\",$D105&COUNTIF($D$10:$D105,$D105))","v":""}]
[0,null,{"$f":"IF(D106=\"\",\"\",(VLOOKUP(D106,cep!$A$2:$B$10,2,FALSE)))","v":""},null,{"$f":"IF(G106=\"\",\"\",VLOOKUP(G106,Communes_canton,4,FALSE))","v":""},null,null,null,null,null,null,null,{"$f":"IF(AND(I106=\"\",K106=\"\"),\"\",IF(AND(I106<>\"\",K106=\"\"),(CONCATENATE(I106,\"+\",(TEXT(J106,\"#000\")))),IF(AND(I106<>\"\",K106<>\"\"),(CONCATENATE(I106,\"+\",(TEXT(J106,\"#000\")),\" à \",K106,\"+\",(TEXT(L106,\"#000\")))))))","v":""},null,null,null,null,null,null,null,null,null,null,null,null,null,null,null,null,null,null,null,null,{"$f":"IF(D106=\"\",\"\",$D106&COUNTIF($D$10:$D106,$D106))","v":""}]
[0,null,{"$f":"IF(D107=\"\",\"\",(VLOOKUP(D107,cep!$A$2:$B$10,2,FALSE)))","v":""},null,"",null,null,null,null,null,null,null,"",null,null,null,null,null,null,null,null,null,null,null,null,null,null,null,null,null,null,null,null,{"$f":"IF(D107=\"\",\"\",$D107&COUNTIF($D$10:$D107,$D107))","v":""}]
[0,null,{"$f":"IF(D108=\"\",\"\",(VLOOKUP(D108,cep!$A$2:$B$10,2,FALSE)))","v":""},null,"",null,null,null,null,null,null,null,"",null,null,null,null,null,null,null,null,null,null,null,null,null,null,null,null,null,null,null,null,{"$f":"IF(D108=\"\",\"\",$D108&COUNTIF($D$10:$D108,$D108))","v":""}]
[0,null,{"$f":"IF(D109=\"\",\"\",(VLOOKUP(D109,cep!$A$2:$B$10,2,FALSE)))","v":""},null,"",null,null,null,null,null,null,null,"",null,null,null,null,null,null,null,null,null,null,null,null,null,null,null,null,null,null,null,null,{"$f":"IF(D109=\"\",\"\",$D109&COUNTIF($D$10:$D109,$D109))","v":""}]
[0,null,{"$f":"IF(D110=\"\",\"\",(VLOOKUP(D110,cep!$A$2:$B$10,2,FALSE)))","v":""},null,"",null,null,null,null,null,null,null,"",null,null,null,null,null,null,null,null,null,null,null,null,null,null,null,null,null,null,null,null,{"$f":"IF(D110=\"\",\"\",$D110&COUNTIF($D$10:$D110,$D110))","v":""}]
[0,null,{"$f":"IF(D111=\"\",\"\",(VLOOKUP(D111,cep!$A$2:$B$10,2,FALSE)))","v":""},null,"",null,null,null,null,null,null,null,"",null,null,null,null,null,null,null,null,null,null,null,null,null,null,null,null,null,null,null,null,{"$f":"IF(D111=\"\",\"\",$D111&COUNTIF($D$10:$D111,$D111))","v":""}]
[0,null,{"$f":"IF(D112=\"\",\"\",(VLOOKUP(D112,cep!$A$2:$B$10,2,FALSE)))","v":""},null,"",null,null,null,null,null,null,null,"",null,null,null,null,null,null,null,null,null,null,null,null,null,null,null,null,null,null,null,null,{"$f":"IF(D112=\"\",\"\",$D112&COUNTIF($D$10:$D112,$D112))","v":""}]
[0,null,{"$f":"IF(D113=\"\",\"\",(VLOOKUP(D113,cep!$A$2:$B$10,2,FALSE)))","v":""},null,"",null,null,null,null,null,null,null,"",null,null,null,null,null,null,null,null,null,null,null,null,null,null,null,null,null,null,null,null,{"$f":"IF(D113=\"\",\"\",$D113&COUNTIF($D$10:$D113,$D113))","v":""}]
[0,null,{"$f":"IF(D114=\"\",\"\",(VLOOKUP(D114,cep!$A$2:$B$10,2,FALSE)))","v":""},null,"",null,null,null,null,null,null,null,"",null,null,null,null,null,null,null,null,null,null,null,null,null,null,null,null,null,null,null,null,{"$f":"IF(D114=\"\",\"\",$D114&COUNTIF($D$10:$D114,$D114))","v":""}]
[0,null,{"$f":"IF(D115=\"\",\"\",(VLOOKUP(D115,cep!$A$2:$B$10,2,FALSE)))","v":""},null,"",null,null,null,null,null,null,null,"",null,null,null,null,null,null,null,null,null,null,null,null,null,null,null,null,null,null,null,null,{"$f":"IF(D115=\"\",\"\",$D115&COUNTIF($D$10:$D115,$D115))","v":""}]
[0,null,{"$f":"IF(D116=\"\",\"\",(VLOOKUP(D116,cep!$A$2:$B$10,2,FALSE)))","v":""},null,"",null,null,null,null,null,null,null,"",null,null,null,null,null,null,null,null,null,null,null,null,null,null,null,null,null,null,null,null,{"$f":"IF(D116=\"\",\"\",$D116&COUNTIF($D$10:$D116,$D116))","v":""}]
[0,null,{"$f":"IF(D117=\"\",\"\",(VLOOKUP(D117,cep!$A$2:$B$10,2,FALSE)))","v":""},null,"",null,null,null,null,null,null,null,"",null,null,null,null,null,null,null,null,null,null,null,null,null,null,null,null,null,null,null,null,{"$f":"IF(D117=\"\",\"\",$D117&COUNTIF($D$10:$D117,$D117))","v":""}]
[0,null,{"$f":"IF(D118=\"\",\"\",(VLOOKUP(D118,cep!$A$2:$B$10,2,FALSE)))","v":""},null,"",null,null,null,null,null,null,null,"",null,null,null,null,null,null,null,null,null,null,null,null,null,null,null,null,null,null,null,null,{"$f":"IF(D118=\"\",\"\",$D118&COUNTIF($D$10:$D118,$D118))","v":""}]
[0,null,{"$f":"IF(D119=\"\",\"\",(VLOOKUP(D119,cep!$A$2:$B$10,2,FALSE)))","v":""},null,"",null,null,null,null,null,null,null,"",null,null,null,null,null,null,null,null,null,null,null,null,null,null,null,null,null,null,null,null,{"$f":"IF(D119=\"\",\"\",$D119&COUNTIF($D$10:$D119,$D119))","v":""}]
[0,null,{"$f":"IF(D120=\"\",\"\",(VLOOKUP(D120,cep!$A$2:$B$10,2,FALSE)))","v":""},null,"",null,null,null,null,null,null,null,"",null,null,null,null,null,null,null,null,null,null,null,null,null,null,null,null,null,null,null,null,{"$f":"IF(D120=\"\",\"\",$D120&COUNTIF($D$10:$D120,$D120))","v":""}]
[0,null,{"$f":"IF(D121=\"\",\"\",(VLOOKUP(D121,cep!$A$2:$B$10,2,FALSE)))","v":""},null,"",null,null,null,null,null,null,null,"",null,null,null,null,null,null,null,null,null,null,null,null,null,null,null,null,null,null,null,null,{"$f":"IF(D121=\"\",\"\",$D121&COUNTIF($D$10:$D121,$D121))","v":""}]
[0,null,{"$f":"IF(D122=\"\",\"\",(VLOOKUP(D122,cep!$A$2:$B$10,2,FALSE)))","v":""},null,"",null,null,null,null,null,null,null,"",null,null,null,null,null,null,null,null,null,null,null,null,null,null,null,null,null,null,null,null,{"$f":"IF(D122=\"\",\"\",$D122&COUNTIF($D$10:$D122,$D122))","v":""}]
[0,null,{"$f":"IF(D123=\"\",\"\",(VLOOKUP(D123,cep!$A$2:$B$10,2,FALSE)))","v":""},null,"",null,null,null,null,null,null,null,"",null,null,null,null,null,null,null,null,null,null,null,null,null,null,null,null,null,null,null,null,{"$f":"IF(D123=\"\",\"\",$D123&COUNTIF($D$10:$D123,$D123))","v":""}]
[0,null,{"$f":"IF(D124=\"\",\"\",(VLOOKUP(D124,cep!$A$2:$B$10,2,FALSE)))","v":""},null,"",null,null,null,null,null,null,null,"",null,null,null,null,null,null,null,null,null,null,null,null,null,null,null,null,null,null,null,null,{"$f":"IF(D124=\"\",\"\",$D124&COUNTIF($D$10:$D124,$D124))","v":""}]
[0,null,null,null,null,null,null,null,null,null,null,null,null,null,null,null,null,null,null,null,null,null,null,null,null,null,null,null,null,null,null,null,null,{"$f":"IF(D125=\"\",\"\",$D125&COUNTIF($D$10:$D125,$D125))","v":""}]
[0,null,null,null,null,null,null,null,null,null,null,null,null,null,null,null,null,null,null,null,null,null,null,null,null,null,null,null,null,null,null,null,null,{"$f":"IF(D126=\"\",\"\",$D126&COUNTIF($D$10:$D126,$D126))","v":""}]
[0,null,null,null,null,null,null,null,null,null,null,null,null,null,null,null,null,null,null,null,null,null,null,null,null,null,null,null,null,null,null,null,null,{"$f":"IF(D127=\"\",\"\",$D127&COUNTIF($D$10:$D127,$D127))","v":""}]
[0,null,null,null,null,null,null,null,null,null,null,null,null,null,null,null,null,null,null,null,null,null,null,null,null,null,null,null,null,null,null,null,null,{"$f":"IF(D128=\"\",\"\",$D128&COUNTIF($D$10:$D128,$D128))","v":""}]
[0,null,null,null,null,null,null,null,null,null,null,null,null,null,null,null,null,null,null,null,null,null,null,null,null,null,null,null,null,null,null,null,null,{"$f":"IF(D129=\"\",\"\",$D129&COUNTIF($D$10:$D129,$D129))","v":""}]
[0,null,null,null,null,null,null,null,null,null,null,null,null,null,null,null,null,null,null,null,null,null,null,null,null,null,null,null,null,null,null,null,null,{"$f":"IF(D130=\"\",\"\",$D130&COUNTIF($D$10:$D130,$D130))","v":""}]
[0,null,null,null,null,null,null,null,null,null,null,null,null,null,null,null,null,null,null,null,null,null,null,null,null,null,null,null,null,null,null,null,null,{"$f":"IF(D131=\"\",\"\",$D131&COUNTIF($D$10:$D131,$D131))","v":""}]
[0,null,null,null,null,null,null,null,null,null,null,null,null,null,null,null,null,null,null,null,null,null,null,null,null,null,null,null,null,null,null,null,null,{"$f":"IF(D132=\"\",\"\",$D132&COUNTIF($D$10:$D132,$D132))","v":""}]
[0,null,null,null,null,null,null,null,null,null,null,null,null,null,null,null,null,null,null,null,null,null,null,null,null,null,null,null,null,null,null,null,null,{"$f":"IF(D133=\"\",\"\",$D133&COUNTIF($D$10:$D133,$D133))","v":""}]
[0,null,null,null,null,null,null,null,null,null,null,null,null,null,null,null,null,null,null,null,null,null,null,null,null,null,null,null,null,null,null,null,null,{"$f":"IF(D134=\"\",\"\",$D134&COUNTIF($D$10:$D134,$D134))","v":""}]
[0,null,null,null,null,null,null,null,null,null,null,null,null,null,null,null,null,null,null,null,null,null,null,null,null,null,null,null,null,null,null,null,null,{"$f":"IF(D135=\"\",\"\",$D135&COUNTIF($D$10:$D135,$D135))","v":""}]
[0,null,null,null,null,null,null,null,null,null,null,null,null,null,null,null,null,null,null,null,null,null,null,null,null,null,null,null,null,null,null,null,null,{"$f":"IF(D136=\"\",\"\",$D136&COUNTIF($D$10:$D136,$D136))","v":""}]
[0,null,null,null,null,null,null,null,null,null,null,null,null,null,null,null,null,null,null,null,null,null,null,null,null,null,null,null,null,null,null,null,null,{"$f":"IF(D137=\"\",\"\",$D137&COUNTIF($D$10:$D137,$D137))","v":""}]
[{"$f":"IF(AND(D138<>D137,F138<>F137),1,IF(AND(D138<>D137,F138=F137),1,IF(AND(D138=D137,F138<>F137),1,0)))","v":0},null,null,null,null,null,null,null,null,null,null,null,null,null,null,null,null,null,null,null,null,null,null,null,null,null,null,null,null,null,null,null,null,{"$f":"IF(D138=\"\",\"\",$D138&COUNTIF($D$10:$D138,$D138))","v":""}]
[0,null,null,null,null,null,null,null,null,null,null,null,null,null,null,null,null,null,null,null,null,null,null,null,null,null,null,null,null,null,null,null,null,{"$f":"IF(D139=\"\",\"\",$D139&COUNTIF($D$10:$D139,$D139))","v":""}]
[0,null,null,null,null,null,null,null,null,null,null,null,null,null,null,null,null,null,null,null,null,null,null,null,null,null,null,null,null,null,null,null,null,{"$f":"IF(D140=\"\",\"\",$D140&COUNTIF($D$10:$D140,$D140))","v":""}]
[0,null,null,null,null,null,null,null,null,null,null,null,null,null,null,null,null,null,null,null,null,null,null,null,null,null,null,null,null,null,null,null,null,{"$f":"IF(D141=\"\",\"\",$D141&COUNTIF($D$10:$D141,$D141))","v":""}]
[0,null,null,null,null,null,null,null,null,null,null,null,null,null,null,null,null,null,null,null,null,null,null,null,null,null,null,null,null,null,null,null,null,{"$f":"IF(D142=\"\",\"\",$D142&COUNTIF($D$10:$D142,$D142))","v":""}]
[0,null,null,null,null,null,null,null,null,null,null,null,null,null,null,null,null,null,null,null,null,null,null,null,null,null,null,null,null,null,null,null,null,{"$f":"IF(D143=\"\",\"\",$D143&COUNTIF($D$10:$D143,$D143))","v":""}]
[0,null,null,null,null,null,null,null,null,null,null,null,null,null,null,null,null,null,null,null,null,null,null,null,null,null,null,null,null,null,null,null,null,{"$f":"IF(D144=\"\",\"\",$D144&COUNTIF($D$10:$D144,$D144))","v":""}]
[0,null,null,null,null,null,null,null,null,null,null,null,null,null,null,null,null,null,null,null,null,null,null,null,null,null,null,null,null,null,null,null,null,{"$f":"IF(D145=\"\",\"\",$D145&COUNTIF($D$10:$D145,$D145))","v":""}]
[0,null,null,null,null,null,null,null,null,null,null,null,null,null,null,null,null,null,null,null,null,null,null,null,null,null,null,null,null,null,null,null,null,{"$f":"IF(D146=\"\",\"\",$D146&COUNTIF($D$10:$D146,$D146))","v":""}]
[0,null,null,null,null,null,null,null,null,null,null,null,null,null,null,null,null,null,null,null,null,null,null,null,null,null,null,null,null,null,null,null,null,{"$f":"IF(D147=\"\",\"\",$D147&COUNTIF($D$10:$D147,$D147))","v":""}]
[0,null,null,null,null,null,null,null,null,null,null,null,null,null,null,null,null,null,null,null,null,null,null,null,null,null,null,null,null,null,null,null,null,{"$f":"IF(D148=\"\",\"\",$D148&COUNTIF($D$10:$D148,$D148))","v":""}]
[0,null,null,null,null,null,null,null,null,null,null,null,null,null,null,null,null,null,null,null,null,null,null,null,null,null,null,null,null,null,null,null,null,{"$f":"IF(D149=\"\",\"\",$D149&COUNTIF($D$10:$D149,$D149))","v":""}]
[0,null,null,null,null,null,null,null,null,null,null,null,null,null,null,null,null,null,null,null,null,null,null,null,null,null,null,null,null,null,null,null,null,{"$f":"IF(D150=\"\",\"\",$D150&COUNTIF($D$10:$D150,$D150))","v":""}]
[0,null,null,null,null,null,null,null,null,null,null,null,null,null,null,null,null,null,null,null,null,null,null,null,null,null,null,null,null,null,null,null,null,{"$f":"IF(D151=\"\",\"\",$D151&COUNTIF($D$10:$D151,$D151))","v":""}]
[0,null,null,null,null,null,null,null,null,null,null,null,null,null,null,null,null,null,null,null,null,null,null,null,null,null,null,null,null,null,null,null,null,{"$f":"IF(D152=\"\",\"\",$D152&COUNTIF($D$10:$D152,$D152))","v":""}]
[0,null,null,null,null,null,null,null,null,null,null,null,null,null,null,null,null,null,null,null,null,null,null,null,null,null,null,null,null,null,null,null,null,{"$f":"IF(D153=\"\",\"\",$D153&COUNTIF($D$10:$D153,$D153))","v":""}]
[0,null,null,null,null,null,null,null,null,null,null,null,null,null,null,null,null,null,null,null,null,null,null,null,null,null,null,null,null,null,null,null,null,{"$f":"IF(D154=\"\",\"\",$D154&COUNTIF($D$10:$D154,$D154))","v":""}]
[0,null,null,null,null,null,null,null,null,null,null,null,null,null,null,null,null,null,null,null,null,null,null,null,null,null,null,null,null,null,null,null,null,{"$f":"IF(D155=\"\",\"\",$D155&COUNTIF($D$10:$D155,$D155))","v":""}]
[0,null,null,null,null,null,null,null,null,null,null,null,null,null,null,null,null,null,null,null,null,null,null,null,null,null,null,null,null,null,null,null,null,{"$f":"IF(D156=\"\",\"\",$D156&COUNTIF($D$10:$D156,$D156))","v":""}]
[0,null,null,null,null,null,null,null,null,null,null,null,null,null,null,null,null,null,null,null,null,null,null,null,null,null,null,null,null,null,null,null,null,{"$f":"IF(D157=\"\",\"\",$D157&COUNTIF($D$10:$D157,$D157))","v":""}]
[0,null,null,null,null,null,null,null,null,null,null,null,null,null,null,null,null,null,null,null,null,null,null,null,null,null,null,null,null,null,null,null,null,{"$f":"IF(D158=\"\",\"\",$D158&COUNTIF($D$10:$D158,$D158))","v":""}]
[0,null,null,null,null,null,null,null,null,null,null,null,null,null,null,null,null,null,null,null,null,null,null,null,null,null,null,null,null,null,null,null,null,{"$f":"IF(D159=\"\",\"\",$D159&COUNTIF($D$10:$D159,$D159))","v":""}]
[0,null,null,null,null,null,null,null,null,null,null,null,null,null,null,null,null,null,null,null,null,null,null,null,null,null,null,null,null,null,null,null,null,{"$f":"IF(D160=\"\",\"\",$D160&COUNTIF($D$10:$D160,$D160))","v":""}]
[0,null,null,null,null,null,null,null,null,null,null,null,null,null,null,null,null,null,null,null,null,null,null,null,null,null,null,null,null,null,null,null,null,{"$f":"IF(D161=\"\",\"\",$D161&COUNTIF($D$10:$D161,$D161))","v":""}]
[0,null,null,null,null,null,null,null,null,null,null,null,null,null,null,null,null,null,null,null,null,null,null,null,null,null,null,null,null,null,null,null,null,{"$f":"IF(D162=\"\",\"\",$D162&COUNTIF($D$10:$D162,$D162))","v":""}]
[0,null,null,null,null,null,null,null,null,null,null,null,null,null,null,null,null,null,null,null,null,null,null,null,null,null,null,null,null,null,null,null,null,{"$f":"IF(D163=\"\",\"\",$D163&COUNTIF($D$10:$D163,$D163))","v":""}]
[0,null,null,null,null,null,null,null,null,null,null,null,null,null,null,null,null,null,null,null,null,null,null,null,null,null,null,null,null,null,null,null,null,{"$f":"IF(D164=\"\",\"\",$D164&COUNTIF($D$10:$D164,$D164))","v":""}]
[0,null,null,null,null,null,null,null,null,null,null,null,null,null,null,null,null,null,null,null,null,null,null,null,null,null,null,null,null,null,null,null,null,{"$f":"IF(D165=\"\",\"\",$D165&COUNTIF($D$10:$D165,$D165))","v":""}]
[0,null,null,null,null,null,null,null,null,null,null,null,null,null,null,null,null,null,null,null,null,null,null,null,null,null,null,null,null,null,null,null,null,{"$f":"IF(D166=\"\",\"\",$D166&COUNTIF($D$10:$D166,$D166))","v":""}]
[0,null,null,null,null,null,null,null,null,null,null,null,null,null,null,null,null,null,null,null,null,null,null,null,null,null,null,null,null,null,null,null,null,{"$f":"IF(D167=\"\",\"\",$D167&COUNTIF($D$10:$D167,$D167))","v":""}]
[0,null,null,null,null,null,null,null,null,null,null,null,null,null,null,null,null,null,null,null,null,null,null,null,null,null,null,null,null,null,null,null,null,{"$f":"IF(D168=\"\",\"\",$D168&COUNTIF($D$10:$D168,$D168))","v":""}]
[0,null,null,null,null,null,null,null,null,null,null,null,null,null,null,null,null,null,null,null,null,null,null,null,null,null,null,null,null,null,null,null,null,{"$f":"IF(D169=\"\",\"\",$D169&COUNTIF($D$10:$D169,$D169))","v":""}]
[0,null,null,null,null,null,null,null,null,null,null,null,null,null,null,null,null,null,null,null,null,null,null,null,null,null,null,null,null,null,null,null,null,{"$f":"IF(D170=\"\",\"\",$D170&COUNTIF($D$10:$D170,$D170))","v":""}]
[0,null,null,null,null,null,null,null,null,null,null,null,null,null,null,null,null,null,null,null,null,null,null,null,null,null,null,null,null,null,null,null,null,{"$f":"IF(D171=\"\",\"\",$D171&COUNTIF($D$10:$D171,$D171))","v":""}]
[0,null,null,null,null,null,null,null,null,null,null,null,null,null,null,null,null,null,null,null,null,null,null,null,null,null,null,null,null,null,null,null,null,{"$f":"IF(D172=\"\",\"\",$D172&COUNTIF($D$10:$D172,$D172))","v":""}]
[0,null,null,null,null,null,null,null,null,null,null,null,null,null,null,null,null,null,null,null,null,null,null,null,null,null,null,null,null,null,null,null,null,{"$f":"IF(D173=\"\",\"\",$D173&COUNTIF($D$10:$D173,$D173))","v":""}]
[0,null,null,null,null,null,null,null,null,null,null,null,null,null,null,null,null,null,null,null,null,null,null,null,null,null,null,null,null,null,null,null,null,{"$f":"IF(D174=\"\",\"\",$D174&COUNTIF($D$10:$D174,$D174))","v":""}]
[0,null,null,null,null,null,null,null,null,null,null,null,null,null,null,null,null,null,null,null,null,null,null,null,null,null,null,null,null,null,null,null,null,{"$f":"IF(D175=\"\",\"\",$D175&COUNTIF($D$10:$D175,$D175))","v":""}]
[0,null,null,null,null,null,null,null,null,null,null,null,null,null,null,null,null,null,null,null,null,null,null,null,null,null,null,null,null,null,null,null,null,{"$f":"IF(D176=\"\",\"\",$D176&COUNTIF($D$10:$D176,$D176))","v":""}]
[0,null,null,null,null,null,null,null,null,null,null,null,null,null,null,null,null,null,null,null,null,null,null,null,null,null,null,null,null,null,null,null,null,{"$f":"IF(D177=\"\",\"\",$D177&COUNTIF($D$10:$D177,$D177))","v":""}]
[0,null,null,null,null,null,null,null,null,null,null,null,null,null,null,null,null,null,null,null,null,null,null,null,null,null,null,null,null,null,null,null,null,{"$f":"IF(D178=\"\",\"\",$D178&COUNTIF($D$10:$D178,$D178))","v":""}]
[0,null,null,null,null,null,null,null,null,null,null,null,null,null,null,null,null,null,null,null,null,null,null,null,null,null,null,null,null,null,null,null,null,{"$f":"IF(D179=\"\",\"\",$D179&COUNTIF($D$10:$D179,$D179))","v":""}]
[0,null,null,null,null,null,null,null,null,null,null,null,null,null,null,null,null,null,null,null,null,null,null,null,null,null,null,null,null,null,null,null,null,{"$f":"IF(D180=\"\",\"\",$D180&COUNTIF($D$10:$D180,$D180))","v":""}]
[0,null,null,null,null,null,null,null,null,null,null,null,null,null,null,null,null,null,null,null,null,null,null,null,null,null,null,null,null,null,null,null,null,{"$f":"IF(D181=\"\",\"\",$D181&COUNTIF($D$10:$D181,$D181))","v":""}]
[0,null,null,null,null,null,null,null,null,null,null,null,null,null,null,null,null,null,null,null,null,null,null,null,null,null,null,null,null,null,null,null,null,{"$f":"IF(D182=\"\",\"\",$D182&COUNTIF($D$10:$D182,$D182))","v":""}]
[0,null,null,null,null,null,null,null,null,null,null,null,null,null,null,null,null,null,null,null,null,null,null,null,null,null,null,null,null,null,null,null,null,{"$f":"IF(D183=\"\",\"\",$D183&COUNTIF($D$10:$D183,$D183))","v":""}]
[0,null,null,null,null,null,null,null,null,null,null,null,null,null,null,null,null,null,null,null,null,null,null,null,null,null,null,null,null,null,null,null,null,{"$f":"IF(D184=\"\",\"\",$D184&COUNTIF($D$10:$D184,$D184))","v":""}]
[0,null,null,null,null,null,null,null,null,null,null,null,null,null,null,null,null,null,null,null,null,null,null,null,null,null,null,null,null,null,null,null,null,{"$f":"IF(D185=\"\",\"\",$D185&COUNTIF($D$10:$D185,$D185))","v":""}]
[0,null,null,null,null,null,null,null,null,null,null,null,null,null,null,null,null,null,null,null,null,null,null,null,null,null,null,null,null,null,null,null,null,{"$f":"IF(D186=\"\",\"\",$D186&COUNTIF($D$10:$D186,$D186))","v":""}]
[0,null,null,null,null,null,null,null,null,null,null,null,null,null,null,null,null,null,null,null,null,null,null,null,null,null,null,null,null,null,null,null,null,{"$f":"IF(D187=\"\",\"\",$D187&COUNTIF($D$10:$D187,$D187))","v":""}]
[0,null,null,null,null,null,null,null,null,null,null,null,null,null,null,null,null,null,null,null,null,null,null,null,null,null,null,null,null,null,null,null,null,{"$f":"IF(D188=\"\",\"\",$D188&COUNTIF($D$10:$D188,$D188))","v":""}]
[0,null,null,null,null,null,null,null,null,null,null,null,null,null,null,null,null,null,null,null,null,null,null,null,null,null,null,null,null,null,null,null,null,{"$f":"IF(D189=\"\",\"\",$D189&COUNTIF($D$10:$D189,$D189))","v":""}]
[0,null,null,null,null,null,null,null,null,null,null,null,null,null,null,null,null,null,null,null,null,null,null,null,null,null,null,null,null,null,null,null,null,{"$f":"IF(D190=\"\",\"\",$D190&COUNTIF($D$10:$D190,$D190))","v":""}]
[0,null,null,null,null,null,null,null,null,null,null,null,null,null,null,null,null,null,null,null,null,null,null,null,null,null,null,null,null,null,null,null,null,{"$f":"IF(D191=\"\",\"\",$D191&COUNTIF($D$10:$D191,$D191))","v":""}]
[0,null,null,null,null,null,null,null,null,null,null,null,null,null,null,null,null,null,null,null,null,null,null,null,null,null,null,null,null,null,null,null,null,{"$f":"IF(D192=\"\",\"\",$D192&COUNTIF($D$10:$D192,$D192))","v":""}]
[0,null,null,null,null,null,null,null,null,null,null,null,null,null,null,null,null,null,null,null,null,null,null,null,null,null,null,null,null,null,null,null,null,{"$f":"IF(D193=\"\",\"\",$D193&COUNTIF($D$10:$D193,$D193))","v":""}]
[0,null,null,null,null,null,null,null,null,null,null,null,null,null,null,null,null,null,null,null,null,null,null,null,null,null,null,null,null,null,null,null,null,{"$f":"IF(D194=\"\",\"\",$D194&COUNTIF($D$10:$D194,$D194))","v":""}]
[0,null,null,null,null,null,null,null,null,null,null,null,null,null,null,null,null,null,null,null,null,null,null,null,null,null,null,null,null,null,null,null,null,{"$f":"IF(D195=\"\",\"\",$D195&COUNTIF($D$10:$D195,$D195))","v":""}]
[0,null,null,null,null,null,null,null,null,null,null,null,null,null,null,null,null,null,null,null,null,null,null,null,null,null,null,null,null,null,null,null,null,{"$f":"IF(D196=\"\",\"\",$D196&COUNTIF($D$10:$D196,$D196))","v":""}]
[0,null,null,null,null,null,null,null,null,null,null,null,null,null,null,null,null,null,null,null,null,null,null,null,null,null,null,null,null,null,null,null,null,{"$f":"IF(D197=\"\",\"\",$D197&COUNTIF($D$10:$D197,$D197))","v":""}]
[0,null,null,null,null,null,null,null,null,null,null,null,null,null,null,null,null,null,null,null,null,null,null,null,null,null,null,null,null,null,null,null,null,{"$f":"IF(D198=\"\",\"\",$D198&COUNTIF($D$10:$D198,$D198))","v":""}]
[0,null,null,null,null,null,null,null,null,null,null,null,null,null,null,null,null,null,null,null,null,null,null,null,null,null,null,null,null,null,null,null,null,{"$f":"IF(D199=\"\",\"\",$D199&COUNTIF($D$10:$D199,$D199))","v":""}]
[0,null,null,null,null,null,null,null,null,null,null,null,null,null,null,null,null,null,null,null,null,null,null,null,null,null,null,null,null,null,null,null,null,{"$f":"IF(D200=\"\",\"\",$D200&COUNTIF($D$10:$D200,$D200))","v":""}]
[0,null,null,null,null,null,null,null,null,null,null,null,null,null,null,null,null,null,null,null,null,null,null,null,null,null,null,null,null,null,null,null,null,{"$f":"IF(D201=\"\",\"\",$D201&COUNTIF($D$10:$D201,$D201))","v":""}]
[{"$f":"IF(AND(D202<>D201,F202<>F201),1,IF(AND(D202<>D201,F202=F201),1,IF(AND(D202=D201,F202<>F201),1,0)))","v":0},null,null,null,null,null,null,null,null,null,null,null,null,null,null,null,null,null,null,null,null,null,null,null,null,null,null,null,null,null,null,null,null,{"$f":"IF(D202=\"\",\"\",$D202&COUNTIF($D$10:$D202,$D202))","v":""}]
[0,null,null,null,null,null,null,null,null,null,null,null,null,null,null,null,null,null,null,null,null,null,null,null,null,null,null,null,null,null,null,null,null,{"$f":"IF(D203=\"\",\"\",$D203&COUNTIF($D$10:$D203,$D203))","v":""}]
[0,null,null,null,null,null,null,null,null,null,null,null,null,null,null,null,null,null,null,null,null,null,null,null,null,null,null,null,null,null,null,null,null,{"$f":"IF(D204=\"\",\"\",$D204&COUNTIF($D$10:$D204,$D204))","v":""}]
[0,null,null,null,null,null,null,null,null,null,null,null,null,null,null,null,null,null,null,null,null,null,null,null,null,null,null,null,null,null,null,null,null,{"$f":"IF(D205=\"\",\"\",$D205&COUNTIF($D$10:$D205,$D205))","v":""}]
[0,null,null,null,null,null,null,null,null,null,null,null,null,null,null,null,null,null,null,null,null,null,null,null,null,null,null,null,null,null,null,null,null,{"$f":"IF(D206=\"\",\"\",$D206&COUNTIF($D$10:$D206,$D206))","v":""}]
[0,null,null,null,null,null,null,null,null,null,null,null,null,null,null,null,null,null,null,null,null,null,null,null,null,null,null,null,null,null,null,null,null,{"$f":"IF(D207=\"\",\"\",$D207&COUNTIF($D$10:$D207,$D207))","v":""}]
[0,null,null,null,null,null,null,null,null,null,null,null,null,null,null,null,null,null,null,null,null,null,null,null,null,null,null,null,null,null,null,null,null,{"$f":"IF(D208=\"\",\"\",$D208&COUNTIF($D$10:$D208,$D208))","v":""}]
[0,null,null,null,null,null,null,null,null,null,null,null,null,null,null,null,null,null,null,null,null,null,null,null,null,null,null,null,null,null,null,null,null,{"$f":"IF(D209=\"\",\"\",$D209&COUNTIF($D$10:$D209,$D209))","v":""}]
[0,null,null,null,null,null,null,null,null,null,null,null,null,null,null,null,null,null,null,null,null,null,null,null,null,null,null,null,null,null,null,null,null,{"$f":"IF(D210=\"\",\"\",$D210&COUNTIF($D$10:$D210,$D210))","v":""}]
[0,null,null,null,null,null,null,null,null,null,null,null,null,null,null,null,null,null,null,null,null,null,null,null,null,null,null,null,null,null,null,null,null,{"$f":"IF(D211=\"\",\"\",$D211&COUNTIF($D$10:$D211,$D211))","v":""}]
[0,null,null,null,null,null,null,null,null,null,null,null,null,null,null,null,null,null,null,null,null,null,null,null,null,null,null,null,null,null,null,null,null,{"$f":"IF(D212=\"\",\"\",$D212&COUNTIF($D$10:$D212,$D212))","v":""}]
[0,null,null,null,null,null,null,null,null,null,null,null,null,null,null,null,null,null,null,null,null,null,null,null,null,null,null,null,null,null,null,null,null,{"$f":"IF(D213=\"\",\"\",$D213&COUNTIF($D$10:$D213,$D213))","v":""}]
[0,null,null,null,null,null,null,null,null,null,null,null,null,null,null,null,null,null,null,null,null,null,null,null,null,null,null,null,null,null,null,null,null,{"$f":"IF(D214=\"\",\"\",$D214&COUNTIF($D$10:$D214,$D214))","v":""}]
[0,null,null,null,null,null,null,null,null,null,null,null,null,null,null,null,null,null,null,null,null,null,null,null,null,null,null,null,null,null,null,null,null,{"$f":"IF(D215=\"\",\"\",$D215&COUNTIF($D$10:$D215,$D215))","v":""}]
[0,null,null,null,null,null,null,null,null,null,null,null,null,null,null,null,null,null,null,null,null,null,null,null,null,null,null,null,null,null,null,null,null,{"$f":"IF(D216=\"\",\"\",$D216&COUNTIF($D$10:$D216,$D216))","v":""}]
[0,null,null,null,null,null,null,null,null,null,null,null,null,null,null,null,null,null,null,null,null,null,null,null,null,null,null,null,null,null,null,null,null,{"$f":"IF(D217=\"\",\"\",$D217&COUNTIF($D$10:$D217,$D217))","v":""}]
[0,null,null,null,null,null,null,null,null,null,null,null,null,null,null,null,null,null,null,null,null,null,null,null,null,null,null,null,null,null,null,null,null,{"$f":"IF(D218=\"\",\"\",$D218&COUNTIF($D$10:$D218,$D218))","v":""}]
[0,null,null,null,null,null,null,null,null,null,null,null,null,null,null,null,null,null,null,null,null,null,null,null,null,null,null,null,null,null,null,null,null,{"$f":"IF(D219=\"\",\"\",$D219&COUNTIF($D$10:$D219,$D219))","v":""}]
[0,null,null,null,null,null,null,null,null,null,null,null,null,null,null,null,null,null,null,null,null,null,null,null,null,null,null,null,null,null,null,null,null,{"$f":"IF(D220=\"\",\"\",$D220&COUNTIF($D$10:$D220,$D220))","v":""}]
[0,null,null,null,null,null,null,null,null,null,null,null,null,null,null,null,null,null,null,null,null,null,null,null,null,null,null,null,null,null,null,null,null,{"$f":"IF(D221=\"\",\"\",$D221&COUNTIF($D$10:$D221,$D221))","v":""}]
[0,null,null,null,null,null,null,null,null,null,null,null,null,null,null,null,null,null,null,null,null,null,null,null,null,null,null,null,null,null,null,null,null,{"$f":"IF(D222=\"\",\"\",$D222&COUNTIF($D$10:$D222,$D222))","v":""}]
[0,null,null,null,null,null,null,null,null,null,null,null,null,null,null,null,null,null,null,null,null,null,null,null,null,null,null,null,null,null,null,null,null,{"$f":"IF(D223=\"\",\"\",$D223&COUNTIF($D$10:$D223,$D223))","v":""}]
[0,null,null,null,null,null,null,null,null,null,null,null,null,null,null,null,null,null,null,null,null,null,null,null,null,null,null,null,null,null,null,null,null,{"$f":"IF(D224=\"\",\"\",$D224&COUNTIF($D$10:$D224,$D224))","v":""}]
[0,null,null,null,null,null,null,null,null,null,null,null,null,null,null,null,null,null,null,null,null,null,null,null,null,null,null,null,null,null,null,null,null,{"$f":"IF(D225=\"\",\"\",$D225&COUNTIF($D$10:$D225,$D225))","v":""}]
[0,null,null,null,null,null,null,null,null,null,null,null,null,null,null,null,null,null,null,null,null,null,null,null,null,null,null,null,null,null,null,null,null,{"$f":"IF(D226=\"\",\"\",$D226&COUNTIF($D$10:$D226,$D226))","v":""}]
[0,null,null,null,null,null,null,null,null,null,null,null,null,null,null,null,null,null,null,null,null,null,null,null,null,null,null,null,null,null,null,null,null,{"$f":"IF(D227=\"\",\"\",$D227&COUNTIF($D$10:$D227,$D227))","v":""}]
[0,null,null,null,null,null,null,null,null,null,null,null,null,null,null,null,null,null,null,null,null,null,null,null,null,null,null,null,null,null,null,null,null,{"$f":"IF(D228=\"\",\"\",$D228&COUNTIF($D$10:$D228,$D228))","v":""}]
[0,null,null,null,null,null,null,null,null,null,null,null,null,null,null,null,null,null,null,null,null,null,null,null,null,null,null,null,null,null,null,null,null,{"$f":"IF(D229=\"\",\"\",$D229&COUNTIF($D$10:$D229,$D229))","v":""}]
[0,null,null,null,null,null,null,null,null,null,null,null,null,null,null,null,null,null,null,null,null,null,null,null,null,null,null,null,null,null,null,null,null,{"$f":"IF(D230=\"\",\"\",$D230&COUNTIF($D$10:$D230,$D230))","v":""}]
[0,null,null,null,null,null,null,null,null,null,null,null,null,null,null,null,null,null,null,null,null,null,null,null,null,null,null,null,null,null,null,null,null,{"$f":"IF(D231=\"\",\"\",$D231&COUNTIF($D$10:$D231,$D231))","v":""}]
[0,null,null,null,null,null,null,null,null,null,null,null,null,null,null,null,null,null,null,null,null,null,null,null,null,null,null,null,null,null,null,null,null,{"$f":"IF(D232=\"\",\"\",$D232&COUNTIF($D$10:$D232,$D232))","v":""}]
[0,null,null,null,null,null,null,null,null,null,null,null,null,null,null,null,null,null,null,null,null,null,null,null,null,null,null,null,null,null,null,null,null,{"$f":"IF(D233=\"\",\"\",$D233&COUNTIF($D$10:$D233,$D233))","v":""}]
[0,null,null,null,null,null,null,null,null,null,null,null,null,null,null,null,null,null,null,null,null,null,null,null,null,null,null,null,null,null,null,null,null,{"$f":"IF(D234=\"\",\"\",$D234&COUNTIF($D$10:$D234,$D234))","v":""}]
[0,null,null,null,null,null,null,null,null,null,null,null,null,null,null,null,null,null,null,null,null,null,null,null,null,null,null,null,null,null,null,null,null,{"$f":"IF(D235=\"\",\"\",$D235&COUNTIF($D$10:$D235,$D235))","v":""}]
[0,null,null,null,null,null,null,null,null,null,null,null,null,null,null,null,null,null,null,null,null,null,null,null,null,null,null,null,null,null,null,null,null,{"$f":"IF(D236=\"\",\"\",$D236&COUNTIF($D$10:$D236,$D236))","v":""}]
[0,null,null,null,null,null,null,null,null,null,null,null,null,null,null,null,null,null,null,null,null,null,null,null,null,null,null,null,null,null,null,null,null,{"$f":"IF(D237=\"\",\"\",$D237&COUNTIF($D$10:$D237,$D237))","v":""}]
[0,null,null,null,null,null,null,null,null,null,null,null,null,null,null,null,null,null,null,null,null,null,null,null,null,null,null,null,null,null,null,null,null,{"$f":"IF(D238=\"\",\"\",$D238&COUNTIF($D$10:$D238,$D238))","v":""}]
[0,null,null,null,null,null,null,null,null,null,null,null,null,null,null,null,null,null,null,null,null,null,null,null,null,null,null,null,null,null,null,null,null,{"$f":"IF(D239=\"\",\"\",$D239&COUNTIF($D$10:$D239,$D239))","v":""}]
[0,null,null,null,null,null,null,null,null,null,null,null,null,null,null,null,null,null,null,null,null,null,null,null,null,null,null,null,null,null,null,null,null,{"$f":"IF(D240=\"\",\"\",$D240&COUNTIF($D$10:$D240,$D240))","v":""}]
[0,null,null,null,null,null,null,null,null,null,null,null,null,null,null,null,null,null,null,null,null,null,null,null,null,null,null,null,null,null,null,null,null,{"$f":"IF(D241=\"\",\"\",$D241&COUNTIF($D$10:$D241,$D241))","v":""}]
[0,null,null,null,null,null,null,null,null,null,null,null,null,null,null,null,null,null,null,null,null,null,null,null,null,null,null,null,null,null,null,null,null,{"$f":"IF(D242=\"\",\"\",$D242&COUNTIF($D$10:$D242,$D242))","v":""}]
[0,null,null,null,null,null,null,null,null,null,null,null,null,null,null,null,null,null,null,null,null,null,null,null,null,null,null,null,null,null,null,null,null,{"$f":"IF(D243=\"\",\"\",$D243&COUNTIF($D$10:$D243,$D243))","v":""}]
[0,null,null,null,null,null,null,null,null,null,null,null,null,null,null,null,null,null,null,null,null,null,null,null,null,null,null,null,null,null,null,null,null,{"$f":"IF(D244=\"\",\"\",$D244&COUNTIF($D$10:$D244,$D244))","v":""}]
[0,null,null,null,null,null,null,null,null,null,null,null,null,null,null,null,null,null,null,null,null,null,null,null,null,null,null,null,null,null,null,null,null,{"$f":"IF(D245=\"\",\"\",$D245&COUNTIF($D$10:$D245,$D245))","v":""}]
[0,null,null,null,null,null,null,null,null,null,null,null,null,null,null,null,null,null,null,null,null,null,null,null,null,null,null,null,null,null,null,null,null,{"$f":"IF(D246=\"\",\"\",$D246&COUNTIF($D$10:$D246,$D246))","v":""}]
[0,null,null,null,null,null,null,null,null,null,null,null,null,null,null,null,null,null,null,null,null,null,null,null,null,null,null,null,null,null,null,null,null,{"$f":"IF(D247=\"\",\"\",$D247&COUNTIF($D$10:$D247,$D247))","v":""}]
[0,null,null,null,null,null,null,null,null,null,null,null,null,null,null,null,null,null,null,null,null,null,null,null,null,null,null,null,null,null,null,null,null,{"$f":"IF(D248=\"\",\"\",$D248&COUNTIF($D$10:$D248,$D248))","v":""}]
[0,null,null,null,null,null,null,null,null,null,null,null,null,null,null,null,null,null,null,null,null,null,null,null,null,null,null,null,null,null,null,null,null,{"$f":"IF(D249=\"\",\"\",$D249&COUNTIF($D$10:$D249,$D249))","v":""}]
[0,null,null,null,null,null,null,null,null,null,null,null,null,null,null,null,null,null,null,null,null,null,null,null,null,null,null,null,null,null,null,null,null,{"$f":"IF(D250=\"\",\"\",$D250&COUNTIF($D$10:$D250,$D250))","v":""}]
[0,null,null,null,null,null,null,null,null,null,null,null,null,null,null,null,null,null,null,null,null,null,null,null,null,null,null,null,null,null,null,null,null,{"$f":"IF(D251=\"\",\"\",$D251&COUNTIF($D$10:$D251,$D251))","v":""}]
[0,null,null,null,null,null,null,null,null,null,null,null,null,null,null,null,null,null,null,null,null,null,null,null,null,null,null,null,null,null,null,null,null,{"$f":"IF(D252=\"\",\"\",$D252&COUNTIF($D$10:$D252,$D252))","v":""}]
[0,null,null,null,null,null,null,null,null,null,null,null,null,null,null,null,null,null,null,null,null,null,null,null,null,null,null,null,null,null,null,null,null,{"$f":"IF(D253=\"\",\"\",$D253&COUNTIF($D$10:$D253,$D253))","v":""}]
[0,null,null,null,null,null,null,null,null,null,null,null,null,null,null,null,null,null,null,null,null,null,null,null,null,null,null,null,null,null,null,null,null,{"$f":"IF(D254=\"\",\"\",$D254&COUNTIF($D$10:$D254,$D254))","v":""}]
[0,null,null,null,null,null,null,null,null,null,null,null,null,null,null,null,null,null,null,null,null,null,null,null,null,null,null,null,null,null,null,null,null,{"$f":"IF(D255=\"\",\"\",$D255&COUNTIF($D$10:$D255,$D255))","v":""}]
[0,null,null,null,null,null,null,null,null,null,null,null,null,null,null,null,null,null,null,null,null,null,null,null,null,null,null,null,null,null,null,null,null,{"$f":"IF(D256=\"\",\"\",$D256&COUNTIF($D$10:$D256,$D256))","v":""}]
[0,null,null,null,null,null,null,null,null,null,null,null,null,null,null,null,null,null,null,null,null,null,null,null,null,null,null,null,null,null,null,null,null,{"$f":"IF(D257=\"\",\"\",$D257&COUNTIF($D$10:$D257,$D257))","v":""}]
[0,null,null,null,null,null,null,null,null,null,null,null,null,null,null,null,null,null,null,null,null,null,null,null,null,null,null,null,null,null,null,null,null,{"$f":"IF(D258=\"\",\"\",$D258&COUNTIF($D$10:$D258,$D258))","v":""}]
[0,null,null,null,null,null,null,null,null,null,null,null,null,null,null,null,null,null,null,null,null,null,null,null,null,null,null,null,null,null,null,null,null,{"$f":"IF(D259=\"\",\"\",$D259&COUNTIF($D$10:$D259,$D259))","v":""}]
[0,null,null,null,null,null,null,null,null,null,null,null,null,null,null,null,null,null,null,null,null,null,null,null,null,null,null,null,null,null,null,null,null,{"$f":"IF(D260=\"\",\"\",$D260&COUNTIF($D$10:$D260,$D260))","v":""}]
[0,null,null,null,null,null,null,null,null,null,null,null,null,null,null,null,null,null,null,null,null,null,null,null,null,null,null,null,null,null,null,null,null,{"$f":"IF(D261=\"\",\"\",$D261&COUNTIF($D$10:$D261,$D261))","v":""}]
[0,null,null,null,null,null,null,null,null,null,null,null,null,null,null,null,null,null,null,null,null,null,null,null,null,null,null,null,null,null,null,null,null,{"$f":"IF(D262=\"\",\"\",$D262&COUNTIF($D$10:$D262,$D262))","v":""}]
[0,null,null,null,null,null,null,null,null,null,null,null,null,null,null,null,null,null,null,null,null,null,null,null,null,null,null,null,null,null,null,null,null,{"$f":"IF(D263=\"\",\"\",$D263&COUNTIF($D$10:$D263,$D263))","v":""}]
[0,null,null,null,null,null,null,null,null,null,null,null,null,null,null,null,null,null,null,null,null,null,null,null,null,null,null,null,null,null,null,null,null,{"$f":"IF(D264=\"\",\"\",$D264&COUNTIF($D$10:$D264,$D264))","v":""}]
[0,null,null,null,null,null,null,null,null,null,null,null,null,null,null,null,null,null,null,null,null,null,null,null,null,null,null,null,null,null,null,null,null,{"$f":"IF(D265=\"\",\"\",$D265&COUNTIF($D$10:$D265,$D265))","v":""}]
[{"$f":"IF(AND(D266<>D265,F266<>F265),1,IF(AND(D266<>D265,F266=F265),1,IF(AND(D266=D265,F266<>F265),1,0)))","v":0},null,null,null,null,null,null,null,null,null,null,null,null,null,null,null,null,null,null,null,null,null,null,null,null,null,null,null,null,null,null,null,null,{"$f":"IF(D266=\"\",\"\",$D266&COUNTIF($D$10:$D266,$D266))","v":""}]
[0,null,null,null,null,null,null,null,null,null,null,null,null,null,null,null,null,null,null,null,null,null,null,null,null,null,null,null,null,null,null,null,null,{"$f":"IF(D267=\"\",\"\",$D267&COUNTIF($D$10:$D267,$D267))","v":""}]
[0,null,null,null,null,null,null,null,null,null,null,null,null,null,null,null,null,null,null,null,null,null,null,null,null,null,null,null,null,null,null,null,null,{"$f":"IF(D268=\"\",\"\",$D268&COUNTIF($D$10:$D268,$D268))","v":""}]
[0,null,null,null,null,null,null,null,null,null,null,null,null,null,null,null,null,null,null,null,null,null,null,null,null,null,null,null,null,null,null,null,null,{"$f":"IF(D269=\"\",\"\",$D269&COUNTIF($D$10:$D269,$D269))","v":""}]
[0,null,null,null,null,null,null,null,null,null,null,null,null,null,null,null,null,null,null,null,null,null,null,null,null,null,null,null,null,null,null,null,null,{"$f":"IF(D270=\"\",\"\",$D270&COUNTIF($D$10:$D270,$D270))","v":""}]
[0,null,null,null,null,null,null,null,null,null,null,null,null,null,null,null,null,null,null,null,null,null,null,null,null,null,null,null,null,null,null,null,null,{"$f":"IF(D271=\"\",\"\",$D271&COUNTIF($D$10:$D271,$D271))","v":""}]
[0,null,null,null,null,null,null,null,null,null,null,null,null,null,null,null,null,null,null,null,null,null,null,null,null,null,null,null,null,null,null,null,null,{"$f":"IF(D272=\"\",\"\",$D272&COUNTIF($D$10:$D272,$D272))","v":""}]
[0,null,null,null,null,null,null,null,null,null,null,null,null,null,null,null,null,null,null,null,null,null,null,null,null,null,null,null,null,null,null,null,null,{"$f":"IF(D273=\"\",\"\",$D273&COUNTIF($D$10:$D273,$D273))","v":""}]
[0,null,null,null,null,null,null,null,null,null,null,null,null,null,null,null,null,null,null,null,null,null,null,null,null,null,null,null,null,null,null,null,null,{"$f":"IF(D274=\"\",\"\",$D274&COUNTIF($D$10:$D274,$D274))","v":""}]
[0,null,null,null,null,null,null,null,null,null,null,null,null,null,null,null,null,null,null,null,null,null,null,null,null,null,null,null,null,null,null,null,null,{"$f":"IF(D275=\"\",\"\",$D275&COUNTIF($D$10:$D275,$D275))","v":""}]
[0,null,null,null,null,null,null,null,null,null,null,null,null,null,null,null,null,null,null,null,null,null,null,null,null,null,null,null,null,null,null,null,null,{"$f":"IF(D276=\"\",\"\",$D276&COUNTIF($D$10:$D276,$D276))","v":""}]
[0,null,null,null,null,null,null,null,null,null,null,null,null,null,null,null,null,null,null,null,null,null,null,null,null,null,null,null,null,null,null,null,null,{"$f":"IF(D277=\"\",\"\",$D277&COUNTIF($D$10:$D277,$D277))","v":""}]
[0,null,null,null,null,null,null,null,null,null,null,null,null,null,null,null,null,null,null,null,null,null,null,null,null,null,null,null,null,null,null,null,null,{"$f":"IF(D278=\"\",\"\",$D278&COUNTIF($D$10:$D278,$D278))","v":""}]
[0,null,null,null,null,null,null,null,null,null,null,null,null,null,null,null,null,null,null,null,null,null,null,null,null,null,null,null,null,null,null,null,null,{"$f":"IF(D279=\"\",\"\",$D279&COUNTIF($D$10:$D279,$D279))","v":""}]
[0,null,null,null,null,null,null,null,null,null,null,null,null,null,null,null,null,null,null,null,null,null,null,null,null,null,null,null,null,null,null,null,null,{"$f":"IF(D280=\"\",\"\",$D280&COUNTIF($D$10:$D280,$D280))","v":""}]
[0,null,null,null,null,null,null,null,null,null,null,null,null,null,null,null,null,null,null,null,null,null,null,null,null,null,null,null,null,null,null,null,null,{"$f":"IF(D281=\"\",\"\",$D281&COUNTIF($D$10:$D281,$D281))","v":""}]
[null,null,null,null,{"$f":"IF(G282=\"\",\"\",VLOOKUP(G282,Communes_canton!A40:D555,4,FALSE))","v":""},null,null,null,null,null,null,null,{"$f":"IF(AND(I282=\"\",K282=\"\"),\"\",IF(AND(I282<>\"\",K282=\"\"),(CONCATENATE(I282,\"+\",(TEXT(J282,\"# 000\")))),IF(AND(I282<>\"\",K282<>\"\"),(CONCATENATE(I282,\"+\",(TEXT(J282,\"# 000\")),\" à \",K282,\"+\",(TEXT(L282,\"# 000\")))))))","v":""}]
[null,null,null,null,null,null,null,null,null,null,null,null,"Totaux :",{"$f":"SUM(O10:O281)","v":12586},null,{"$f":"SUM(P10:P281)","v":97479},null,{"$f":"SUM(S10:S281)","v":13518}]

{"sheet":"TC","index":1,"n_rows":14,"n_cols":17,"rows_kept":14,"cut":false,"hidden":true,"merged":[]}
[]
[]
[]
[]
[]
[]
[]
[]
[]
[]
[]
[null,null,null,null,null,null,null,null,null,null,null,null,null,null,null,"Valeurs"]
["ligne","Priorité","CEP","Canton","Commune","RD","P.R.","N° urg","Trafic V/j","Largeur moyenne","Dosage","distance","CP","Date CP","Montant","_Surface","_Tonnage"]
["Total général"]

{"sheet":"Communes_canton","index":2,"n_rows":517,"n_cols":5,"rows_kept":517,"cut":false,"hidden":true,"merged":[]}
["Communes","Insee","Ancien Canton","Nouveau Canton"]
["Ahéville",88002,"DOMPAIRE","Darney",{"$f":"LEN(D2)","v":6}]
["Aingeville",88003,"BULGNEVILLE","Vittel",{"$f":"LEN(D3)","v":6}]
["Ainvelle",88004,"LAMARCHE","Darney",6]
["Allarmont",88005,"RAON-L'ETAPE","Raon-l'Etape",12]
["Ambacourt",88006,"MIRECOURT","Mirecourt",9]
["Ameuvelle",88007,"MONTHUREUX-SUR-SAONE","Darney",6]
["Anglemont",88008,"RAMBERVILLERS","Raon-l'Etape",12]
["Anould",88009,"FRAIZE","Gérardmer",9]
["Aouze",88010,"CHATENOIS","Mirecourt",9]
["Arches",88011,"EPINAL-EST","Epinal-1",8]
["Archettes",88012,"EPINAL-EST","Epinal-2",8]
["Aroffe",88013,"CHATENOIS","Mirecourt",9]
["Arrentès-de-Corcieux",88014,"CORCIEUX","Gérardmer",9]
["Attignéville",88015,"NEUFCHATEAU","Neufchâteau",11]
["Attigny",88016,"DARNEY","Darney",6]
["Aulnois",88017,"BULGNEVILLE","Vittel",6]
["Aumontzey",88018,"CORCIEUX","Gérardmer",9]
["Autigny-la-Tour",88019,"COUSSEY","Neufchâteau",11]
["Autreville",88020,"COUSSEY","Neufchâteau",11]
["Autrey",88021,"RAMBERVILLERS","St-Dié-des-Vosges 1",19]
["Auzainvilliers",88022,"BULGNEVILLE","Vittel",6]
["Avillers",88023,"CHARMES","Charmes",7]
["Avrainville",88024,"CHARMES","Charmes",7]
["Avranville",88025,"COUSSEY","Neufchâteau",11]
["Aydoilles",88026,"BRUYERES","Bruyères",8]
["Badménil-aux-Bois",88027,"CHATEL-SUR-MOSELLE","Bruyères",8]
["Bains-les-Bains",88029,"BAINS-LES-BAINS","Le Val-d'Ajol",13]
["Bainville-aux-Saules",88030,"DOMPAIRE","Darney",6]
["Balléville",88031,"CHATENOIS","Mirecourt",9]
["Ban-de-Laveline",88032,"SAINT-DIE-EST","St-Dié-des-Vosges 2",19]
["Ban-de-Sapt",88033,"SENONES","Raon-l'Etape",12]
["Ban-sur-Meurthe-Clefcy",88106,"FRAIZE","Gérardmer",9]
["Barbey-Seroux",88035,"CORCIEUX","Gérardmer",9]
["Barville",88036,"NEUFCHATEAU","Neufchâteau",11]
["Basse-sur-le-Rupt",88037,"SAULXURES-SUR-MOSELOTTE","La Bresse",9]
["Battexey",88038,"CHARMES","Charmes",7]
["Baudricourt",88039,"MIRECOURT","Mirecourt",9]
["Bayecourt",88040,"CHATEL-SUR-MOSELLE","Bruyères",8]
["Bazegney",88041,"DOMPAIRE","Darney",6]
["Bazien",88042,"RAMBERVILLERS","Raon-l'Etape",12]
["Bazoilles-et-Ménil",88043,"VITTEL","Vittel",6]
["Bazoilles-sur-Meuse",88044,"NEUFCHATEAU","Neufchâteau",11]
["Beaufremont",88045,"NEUFCHATEAU","Neufchâteau",11]
["Beauménil",88046,"BRUYERES","Bruyères",8]
["Begnécourt",88047,"DOMPAIRE","Darney",6]
["Bellefontaine",88048,"PLOMBIERES-LES-BAINS","Le Val-d'Ajol",13]
["Belmont-lès-Darney",88049,"DARNEY","Darney",6]
["Belmont-sur-Buttant",88050,"BROUVELIEURES","Bruyères",8]
["Belmont-sur-Vair",88051,"BULGNEVILLE","Vittel",6]
["Belrupt",88052,"DARNEY","Darney",6]
["Belval",88053,"SENONES","Raon-l'Etape",12]
["Bertrimoutier",88054,"SAINT-DIE-EST","St-Dié-des-Vosges 2",19]
["Bettegney-Saint-Brice",88055,"DOMPAIRE","Charmes",7]
["Bettoncourt",88056,"CHARMES","Charmes",7]
["Biécourt",88058,"MIRECOURT","Mirecourt",9]
["Biffontaine",88059,"BROUVELIEURES","Bruyères",8]
["Blémerey",88060,"MIRECOURT","Mirecourt",9]
["Bleurville",88061,"MONTHUREUX-SUR-SAONE","Darney",6]
["Blevaincourt",88062,"LAMARCHE","Darney",6]
["Bocquegney",88063,"DOMPAIRE","Darney",6]
["Bois-de-Champ",88064,"BROUVELIEURES","Bruyères",8]
["Bonvillet",88065,"DARNEY","Darney",6]
["Boulaincourt",88066,"MIRECOURT","Mirecourt",9]
["Bouxières-aux-Bois",88069,"DOMPAIRE","Charmes",7]
["Bouxurulles",88070,"CHARMES","Charmes",7]
["Bouzemont",88071,"DOMPAIRE","Darney",{"$f":"LEN(D67)","v":6}]
["Brantigny",88073,"CHARMES","Charmes",7]
["Brechainville",88074,"NEUFCHATEAU","Neufchâteau",11]
["Brouvelieures",88076,"BROUVELIEURES","Bruyères",8]
["Brû",88077,"RAMBERVILLERS","Raon-l'Etape",12]
["Bruyères",88078,"BRUYERES","Bruyères",8]
["Bulgnéville",88079,"BULGNEVILLE","Vittel",6]
["Bult",88080,"RAMBERVILLERS","Charmes",7]
["Bussang",88081,"LE THILLOT","Le Thillot",10]
["Celles-sur-Plaine",88082,"RAON-L'ETAPE","Raon-l'Etape",12]
["Certilleux",88083,"NEUFCHATEAU","Neufchâteau",11]
["Chamagne",88084,"CHARMES","Charmes",7]
["Champdray",88085,"CORCIEUX","Bruyères",8]
["Champ-le-Duc",88086,"BRUYERES","Bruyères",8]
["Chantraine",88087,"EPINAL-OUEST","Epinal-1",8]
["Charmes",88090,"CHARMES","Charmes",7]
["Charmois-devant-Bruyères",88091,"BRUYERES","Bruyères",8]
["Charmois-l'Orgueilleux",88092,"XERTIGNY","Le Val-d'Ajol",13]
["Châtas",88093,"SENONES","Raon-l'Etape",12]
["Châtel-sur-Moselle",88094,"CHATEL-SUR-MOSELLE","Charmes",7]
["Châtenois",88095,"CHATENOIS","Mirecourt",9]
["Châtillon-sur-Saône",88096,"LAMARCHE","Darney",6]
["Chauffecourt",88097,"MIRECOURT","Mirecourt",9]
["Chaumousey",88098,"EPINAL-OUEST","Epinal-1",8]
["Chavelot",88099,"CHATEL-SUR-MOSELLE","Golbey",6]
["Chef-Haut",88100,"MIRECOURT","Mirecourt",9]
["Cheniménil",88101,"BRUYERES","Bruyères",8]
["Chermisey",88102,"COUSSEY","Neufchâteau",11]
["Circourt",88103,"DOMPAIRE","Darney",6]
["Circourt-sur-Mouzon",88104,"NEUFCHATEAU","Neufchâteau",11]
["Claudon",88105,"MONTHUREUX-SUR-SAONE","Darney",6]
["Clérey-la-Côte",88107,"COUSSEY","Neufchâteau",11]
["Cleurie",88109,"REMIREMONT","Remiremont",10]
["Clézentaine",88110,"RAMBERVILLERS","Charmes",7]
["Coinches",88111,"SAINT-DIE-EST","St-Dié-des-Vosges 2",19]
["Colroy-la-Grande",88112,"PROVENCHERES-SUR-FAVE","St-Dié-des-Vosges 2",19]
["Combrimont",88113,"SAINT-DIE-EST","St-Dié-des-Vosges 2",19]
["Contrexéville",88114,"VITTEL","Vittel",6]
["Corcieux",88115,"CORCIEUX","Gérardmer",9]
["Cornimont",88116,"SAULXURES-SUR-MOSELOTTE","La Bresse",9]
["Courcelles-sous-Châtenois",88117,"CHATENOIS","Mirecourt",9]
["Coussey",88118,"COUSSEY","Neufchâteau",11]
["Crainvilliers",88119,"BULGNEVILLE","Vittel",6]
["Damas-aux-Bois",88121,"CHATEL-SUR-MOSELLE","Charmes",7]
["Damas-et-Bettegney",88122,"DOMPAIRE","Darney",6]
["Damblain",88123,"LAMARCHE","Darney",6]
["Darney",88124,"DARNEY","Darney",6]
["Darney-aux-Chênes",88125,"CHATENOIS","Mirecourt",9]
["Darnieulles",88126,"EPINAL-OUEST","Golbey",6]
["Deinvillers",88127,"RAMBERVILLERS","Charmes",7]
["Denipaire",88128,"SENONES","Raon-l'Etape",12]
["Derbamont",88129,"DOMPAIRE","Charmes",7]
["Destord",88130,"BRUYERES","Bruyères",8]
["Deycimont",88131,"BRUYERES","Bruyères",8]
["Deyvillers",88132,"EPINAL-EST","Epinal-2",8]
["Dignonville",88133,"EPINAL-EST","Epinal-2",8]
["Dinozé",88134,"EPINAL-EST","Epinal-1",8]
["Docelles",88135,"BRUYERES","Bruyères",8]
["Dogneville",88136,"EPINAL-EST","Epinal-2",8]
["Dolaincourt",88137,"CHATENOIS","Mirecourt",9]
["Dombasle-devant-Darney",88138,"DARNEY","Darney",6]
["Dombasle-en-Xaintois",88139,"MIRECOURT","Mirecourt",9]
["Dombrot-le-Sec",88140,"VITTEL","Vittel",6]
["Dombrot-sur-Vair",88141,"BULGNEVILLE","Vittel",6]
["Domèvre-sous-Montfort",88144,"VITTEL","Vittel",{"$f":"LEN(D131)","v":6}]
["Domèvre-sur-Avière",88142,"EPINAL-OUEST","Golbey",6]
["Domèvre-sur-Durbion",88143,"CHATEL-SUR-MOSELLE","Bruyères",8]
["Domfaing",88145,"BROUVELIEURES","Bruyères",8]
["Domjulien",88146,"VITTEL","Vittel",6]
["Dommartin-aux-Bois",88147,"EPINAL-OUEST","Darney",6]
["Dommartin-lès-Remiremont",88148,"REMIREMONT","Le Thillot",10]
["Dommartin-lès-Vallois",88149,"DARNEY","Darney",6]
["Dommartin-sur-Vraine",88150,"CHATENOIS","Mirecourt",9]
["Dompaire",88151,"DOMPAIRE","Darney",6]
["Dompierre",88152,"BRUYERES","Bruyères",8]
["Domptail",88153,"RAMBERVILLERS","Raon-l'Etape",12]
["Domrémy-la-Pucelle",88154,"COUSSEY","Neufchâteau",11]
["Domvallier",88155,"MIRECOURT","Mirecourt",9]
["Doncières",88156,"RAMBERVILLERS","Raon-l'Etape",12]
["Dounoux",88157,"XERTIGNY","Le Val-d'Ajol",13]
["Éloyes",88158,"REMIREMONT","Remiremont",10]
["Entre-deux-Eaux",88159,"FRAIZE","St-Dié-des-Vosges 2",19]
["Épinal (est)",88160,"EPINAL","Epinal-2",8]
["Épinal (ouest)",88160,"EPINAL","Epinal-1",8]
["Escles",88161,"DARNEY","Darney",6]
["Esley",88162,"DARNEY","Darney",6]
["Essegney",88163,"CHARMES","Charmes",7]
["Estrennes",88164,"VITTEL","Vittel",6]
["Étival-Clairefontaine",88165,"RAON-L'ETAPE","Raon-l'Etape",12]
["Évaux-et-Ménil",88166,"CHARMES","Charmes",7]
["Faucompierre",88167,"REMIREMONT","La Bresse",9]
["Fauconcourt",88168,"RAMBERVILLERS","Charmes",7]
["Fays",88169,"BRUYERES","Bruyères",8]
["Ferdrupt",88170,"LE THILLOT","Le Thillot",10]
["Fignévelle",88171,"MONTHUREUX-SUR-SAONE","Darney",6]
["Fiménil",88172,"BRUYERES","Bruyères",8]
["Florémont",88173,"CHARMES","Charmes",7]
["Fomerey",88174,"EPINAL-OUEST","Golbey",6]
["Fontenay",88175,"BRUYERES","Bruyères",8]
["Fontenoy-le-Château",88176,"BAINS-LES-BAINS","Le Val-d'Ajol",13]
["Fouchécourt",88179,"LAMARCHE","Darney",6]
["Frain",88180,"LAMARCHE","Darney",6]
["Fraize",88181,"FRAIZE","Gérardmer",9]
["Frapelle",88182,"SAINT-DIE-EST","St-Dié-des-Vosges 2",19]
["Frebécourt",88183,"COUSSEY","Neufchâteau",11]
["Fremifontaine",88184,"BROUVELIEURES","Bruyères",8]
["Frenelle-la-Grande",88185,"MIRECOURT","Mirecourt",9]
["Frenelle-la-Petite",88186,"MIRECOURT","Mirecourt",9]
["Frénois",88187,"DARNEY","Darney",6]
["Fresse-sur-Moselle",88188,"LE THILLOT","Le Thillot",10]
["Fréville",88189,"NEUFCHATEAU","Neufchâteau",11]
["Frizon",88190,"CHATEL-SUR-MOSELLE","Golbey",6]
["Gelvécourt-et-Adompt",88192,"DOMPAIRE","Darney",6]
["Gemaingoutte",88193,"SAINT-DIE-EST","St-Dié-des-Vosges 2",19]
["Gemmelaincourt",88194,"VITTEL","Vittel",6]
["Gendreville",88195,"BULGNEVILLE","Vittel",6]
["Gérardmer",88196,"GERARDMER","Gérardmer",9]
["Gerbamont",88197,"SAULXURES-SUR-MOSELOTTE","La Bresse",9]
["Gerbépal",88198,"CORCIEUX","Gérardmer",9]
["Gignéville",88199,"MONTHUREUX-SUR-SAONE","Darney",6]
["Gigney",88200,"CHATEL-SUR-MOSELLE","Golbey",6]
["Girancourt",88201,"EPINAL-OUEST","Darney",6]
["Gircourt-lès-Viéville",88202,"CHARMES","Charmes",7]
["Girecourt-sur-Durbion",88203,"BRUYERES","Bruyères",8]
["Girmont",88204,"CHATEL-SUR-MOSELLE","Golbey",6]
["Girmont-Val-d'Ajol",88205,"PLOMBIERES-LES-BAINS","Le Val-d'Ajol",13]
["Gironcourt-sur-Vraine",88206,"CHATENOIS","Mirecourt",9]
["Godoncourt",88208,"MONTHUREUX-SUR-SAONE","Darney",6]
["Golbey",88209,"EPINAL-OUEST","Golbey",{"$f":"LEN(D195)","v":6}]
["Gorhey",88210,"DOMPAIRE","Darney",6]
["Grand",88212,"NEUFCHATEAU","Neufchâteau",11]
["Grandrupt",88215,"SENONES","Raon-l'Etape",12]
["Grandrupt-de-Bains",88214,"BAINS-LES-BAINS","Le Val-d'Ajol",13]
["Grandvillers",88216,"BRUYERES","Bruyères",8]
["Granges-sur-Vologne",88218,"CORCIEUX","Gérardmer",9]
["Greux",88219,"COUSSEY","Neufchâteau",11]
["Grignoncourt",88220,"LAMARCHE","Darney",6]
["Gruey-lès-Surance",88221,"BAINS-LES-BAINS","Le Val-d'Ajol",13]
["Gugnécourt",88222,"BRUYERES","Bruyères",8]
["Gugney-aux-Aulx",88223,"DOMPAIRE","Charmes",7]
["Hadigny-les-Verrières",88224,"CHATEL-SUR-MOSELLE","Charmes",7]
["Hadol",88225,"XERTIGNY","Le Val-d'Ajol",13]
["Hagécourt",88226,"DOMPAIRE","Darney",6]
["Hagnéville-et-Roncourt",88227,"BULGNEVILLE","Vittel",6]
["Haillainville",88228,"CHATEL-SUR-MOSELLE","Charmes",7]
["Harchéchamp",88229,"NEUFCHATEAU","Neufchâteau",11]
["Hardancourt",88230,"RAMBERVILLERS","Charmes",7]
["Haréville",88231,"VITTEL","Vittel",6]
["Harmonville",88232,"COUSSEY","Neufchâteau",11]
["Harol",88233,"DOMPAIRE","Darney",6]
["Harsault",88234,"BAINS-LES-BAINS","Le Val-d'Ajol",13]
["Hautmougey",88235,"BAINS-LES-BAINS","Le Val-d'Ajol",13]
["Hennecourt",88237,"DOMPAIRE","Darney",6]
["Hennezel",88238,"DARNEY","Darney",6]
["Hergugney",88239,"CHARMES","Charmes",7]
["Herpelmont",88240,"CORCIEUX","Bruyères",8]
["Houécourt",88241,"CHATENOIS","Mirecourt",9]
["Houéville",88242,"NEUFCHATEAU","Neufchâteau",11]
["Housseras",88243,"RAMBERVILLERS","St-Dié-des-Vosges 1",19]
["Hurbache",88245,"SENONES","Raon-l'Etape",12]
["Hymont",88246,"MIRECOURT","Mirecourt",9]
["Igney",88247,"CHATEL-SUR-MOSELLE","Golbey",6]
["Isches",88248,"LAMARCHE","Darney",6]
["Jainvillotte",88249,"NEUFCHATEAU","Neufchâteau",11]
["Jarménil",88250,"REMIREMONT","Remiremont",10]
["Jeanménil",88251,"RAMBERVILLERS","St-Dié-des-Vosges 1",19]
["Jésonville",88252,"DARNEY","Darney",6]
["Jeuxey",88253,"EPINAL-EST","Epinal-2",8]
["Jorxey",88254,"DOMPAIRE","Charmes",7]
["Jubainville",88255,"COUSSEY","Neufchâteau",11]
["Jussarupt",88256,"CORCIEUX","Bruyères",8]
["Juvaincourt",88257,"MIRECOURT","Mirecourt",9]
["La Baffe",88028,"EPINAL-EST","Epinal-2",8]
["La Bourgonce",88068,"SAINT-DIE-OUEST","St-Dié-des-Vosges 1",19]
["La Bresse",88075,"SAULXURES-SUR-MOSELOTTE","La Bresse",9]
["La Chapelle-aux-Bois",88088,"XERTIGNY","Le Val-d'Ajol",13]
["La Chapelle-devant-Bruyères",88089,"CORCIEUX","Gérardmer",9]
["La Croix-aux-Mines",88120,"FRAIZE","St-Dié-des-Vosges 2",19]
["La Forge",88177,"REMIREMONT","La Bresse",9]
["La Grande-Fosse",88213,"PROVENCHERES-SUR-FAVE","St-Dié-des-Vosges 2",19]
["La Haye",88236,"BAINS-LES-BAINS","Le Val-d'Ajol",13]
["La Houssière",88244,"CORCIEUX","Gérardmer",9]
["La Neuveville-devant-Lépanges",88322,"BRUYERES","Bruyères",8]
["La Neuveville-sous-Châtenois",88324,"CHATENOIS","Mirecourt",9]
["La Neuveville-sous-Montfort",88325,"VITTEL","Vittel",6]
["La Petite-Fosse",88345,"PROVENCHERES-SUR-FAVE","St-Dié-des-Vosges 2",19]
["La Petite-Raon",88346,"SENONES","Raon-l'Etape",12]
["La Salle",88438,"SAINT-DIE-OUEST","St-Dié-des-Vosges 1",19]
["La Vacheresse-et-la-Rouillie",88485,"BULGNEVILLE","Vittel",6]
["La Voivre",88519,"SAINT-DIE-OUEST","St-Dié-des-Vosges 1",19]
["Lamarche",88258,"LAMARCHE","Darney",6]
["Landaville",88259,"NEUFCHATEAU","Neufchâteau",11]
["Langley",88260,"CHARMES","Charmes",{"$f":"LEN(D259)","v":7}]
["Laval-sur-Vologne",88261,"BRUYERES","Bruyères",8]
["Laveline-devant-Bruyères",88262,"BRUYERES","Bruyères",8]
["Laveline-du-Houx",88263,"BRUYERES","Bruyères",8]
["Le Beulay",88057,"PROVENCHERES-SUR-FAVE","St-Dié-des-Vosges 2",19]
["Le Clerjus",88108,"XERTIGNY","Le Val-d'Ajol",13]
["Le Ménil",88302,"LE THILLOT","Le Thillot",10]
["Le Mont",88306,"SENONES","Raon-l'Etape",12]
["Le Puid",88362,"SENONES","Raon-l'Etape",12]
["Le Roulier",88399,"BRUYERES","Bruyères",8]
["Le Saulcy",88444,"SENONES","Raon-l'Etape",12]
["Le Syndicat",88462,"REMIREMONT","La Bresse",9]
["Le Thillot",88468,"LE THILLOT","Le Thillot",10]
["Le Tholy",88470,"REMIREMONT","La Bresse",9]
["Le Val-d'Ajol",88487,"PLOMBIERES-LES-BAINS","Le Val-d'Ajol",13]
["Le Valtin",88492,"FRAIZE","Gérardmer",9]
["Le Vermont",88501,"SENONES","Raon-l'Etape",12]
["Légéville-et-Bonfays",88264,"DOMPAIRE","Darney",6]
["Lemmecourt",88265,"NEUFCHATEAU","Neufchâteau",11]
["Lépanges-sur-Vologne",88266,"BRUYERES","Bruyères",8]
["Lerrain",88267,"DARNEY","Darney",6]
["Les Ableuvenettes",88001,"DOMPAIRE","Darney",6]
["Les Forges",88178,"EPINAL-OUEST","Epinal-1",8]
["Les Poulières",88356,"BROUVELIEURES","Bruyères",8]
["Les Rouges-Eaux",88398,"BROUVELIEURES","Bruyères",8]
["Les Thons",88471,"LAMARCHE","Darney",6]
["Les Vallois",88491,"DARNEY","Darney",6]
["Les Voivres",88520,"BAINS-LES-BAINS","Le Val-d'Ajol",13]
["Lesseux",88268,"SAINT-DIE-EST","St-Dié-des-Vosges 2",19]
["Liézey",88269,"GERARDMER","Gérardmer",9]
["Liffol-le-Grand",88270,"NEUFCHATEAU","Neufchâteau",11]
["Lignéville",88271,"VITTEL","Vittel",6]
["Lironcourt",88272,"LAMARCHE","Darney",6]
["Longchamp",88273,"EPINAL-EST","Epinal-2",8]
["Longchamp-sous-Châtenois",88274,"CHATENOIS","Mirecourt",9]
["Lubine",88275,"PROVENCHERES-SUR-FAVE","St-Dié-des-Vosges 2",19]
["Lusse",88276,"PROVENCHERES-SUR-FAVE","St-Dié-des-Vosges 2",19]
["Luvigny",88277,"RAON-L'ETAPE","Raon-l'Etape",12]
["Maconcourt",88278,"CHATENOIS","Mirecourt",9]
["Madecourt",88279,"MIRECOURT","Mirecourt",9]
["Madegney",88280,"DOMPAIRE","Charmes",7]
["Madonne-et-Lamerey",88281,"DOMPAIRE","Darney",6]
["Malaincourt",88283,"BULGNEVILLE","Vittel",6]
["Mandray",88284,"FRAIZE","St-Dié-des-Vosges 2",19]
["Mandres-sur-Vair",88285,"BULGNEVILLE","Vittel",6]
["Marainville-sur-Madon",88286,"CHARMES","Charmes",7]
["Marey",88287,"LAMARCHE","Darney",6]
["Maroncourt",88288,"DOMPAIRE","Darney",6]
["Martigny-les-Bains",88289,"LAMARCHE","Darney",6]
["Martigny-les-Gerbonvaux",88290,"COUSSEY","Neufchâteau",11]
["Martinvelle",88291,"MONTHUREUX-SUR-SAONE","Darney",6]
["Mattaincourt",88292,"MIRECOURT","Mirecourt",9]
["Maxey-sur-Meuse",88293,"COUSSEY","Neufchâteau",11]
["Mazeley",88294,"CHATEL-SUR-MOSELLE","Golbey",6]
["Mazirot",88295,"MIRECOURT","Mirecourt",9]
["Médonville",88296,"BULGNEVILLE","Vittel",6]
["Méménil",88297,"BRUYERES","Bruyères",8]
["Ménarmont",88298,"RAMBERVILLERS","Raon-l'Etape",12]
["Ménil-de-Senones",88300,"SENONES","Raon-l'Etape",12]
["Ménil-en-Xaintois",88299,"MIRECOURT","Mirecourt",9]
["Ménil-sur-Belvitte",88301,"RAMBERVILLERS","Raon-l'Etape",12]
["Midrevaux",88303,"COUSSEY","Neufchâteau",11]
["Mirecourt",88304,"MIRECOURT","Mirecourt",9]
["Moncel-sur-Vair",88305,"COUSSEY","Neufchâteau",11]
["Monthureux-le-Sec",88309,"VITTEL","Vittel",{"$f":"LEN(D323)","v":6}]
["Monthureux-sur-Saône",88310,"MONTHUREUX-SUR-SAONE","Darney",6]
["Mont-lès-Lamarche",88307,"LAMARCHE","Darney",6]
["Mont-lès-Neufchâteau",88308,"NEUFCHATEAU","Neufchâteau",11]
["Montmotier",88311,"BAINS-LES-BAINS","Le Val-d'Ajol",13]
["Morelmaison",88312,"CHATENOIS","Mirecourt",9]
["Moriville",88313,"CHATEL-SUR-MOSELLE","Charmes",7]
["Morizécourt",88314,"LAMARCHE","Darney",6]
["Mortagne",88315,"BROUVELIEURES","Bruyères",8]
["Morville",88316,"BULGNEVILLE","Vittel",6]
["Moussey",88317,"SENONES","Raon-l'Etape",12]
["Moyemont",88318,"RAMBERVILLERS","Charmes",7]
["Moyenmoutier",88319,"SENONES","Raon-l'Etape",12]
["Nayemont-les-Fosses",88320,"SAINT-DIE-EST","St-Dié-des-Vosges 2",19]
["Neufchâteau",88321,"NEUFCHATEAU","Neufchâteau",11]
["Neuvillers-sur-Fave",88326,"SAINT-DIE-EST","St-Dié-des-Vosges 2",19]
["Nomexy",88327,"CHATEL-SUR-MOSELLE","Charmes",7]
["Nompatelize",88328,"RAON-L'ETAPE","Raon-l'Etape",12]
["Nonville",88330,"MONTHUREUX-SUR-SAONE","Darney",6]
["Nonzeville",88331,"BRUYERES","Bruyères",8]
["Norroy",88332,"BULGNEVILLE","Vittel",6]
["Nossoncourt",88333,"RAMBERVILLERS","Raon-l'Etape",12]
["Oëlleville",88334,"MIRECOURT","Mirecourt",9]
["Offroicourt",88335,"VITTEL","Vittel",6]
["Ollainville",88336,"CHATENOIS","Mirecourt",9]
["Oncourt",88337,"CHATEL-SUR-MOSELLE","Golbey",6]
["Ortoncourt",88338,"RAMBERVILLERS","Charmes",7]
["Padoux",88340,"BRUYERES","Bruyères",8]
["Pair-et-Grandrupt",88341,"SAINT-DIE-EST","St-Dié-des-Vosges 2",19]
["Pallegney",88342,"CHATEL-SUR-MOSELLE","Bruyères",8]
["Parey-sous-Montfort",88343,"BULGNEVILLE","Vittel",6]
["Pargny-sous-Mureau",88344,"NEUFCHATEAU","Neufchâteau",11]
["Pierrefitte",88347,"DARNEY","Darney",6]
["Pierrepont-sur-l'Arentèle",88348,"BRUYERES","Bruyères",8]
["Plainfaing",88349,"FRAIZE","Gérardmer",9]
["Pleuvezain",88350,"CHATENOIS","Mirecourt",9]
["Plombières-les-Bains",88351,"PLOMBIERES-LES-BAINS","Le Val-d'Ajol",13]
["Pompierre",88352,"NEUFCHATEAU","Neufchâteau",11]
["Pont-lès-Bonfays",88353,"DARNEY","Darney",6]
["Pont-sur-Madon",88354,"CHARMES","Charmes",7]
["Portieux",88355,"CHARMES","Charmes",7]
["Poussay",88357,"MIRECOURT","Mirecourt",9]
["Pouxeux",88358,"REMIREMONT","Remiremont",10]
["Prey",88359,"BRUYERES","Bruyères",8]
["Provenchères-lès-Darney",88360,"DARNEY","Darney",6]
["Provenchères-sur-Fave",88361,"PROVENCHERES-SUR-FAVE","St-Dié-des-Vosges 2",19]
["Punerot",88363,"COUSSEY","Neufchâteau",11]
["Puzieux",88364,"MIRECOURT","Mirecourt",9]
["Racécourt",88365,"DOMPAIRE","Darney",6]
["Rainville",88366,"CHATENOIS","Mirecourt",9]
["Rambervillers",88367,"RAMBERVILLERS","St-Dié-des-Vosges 1",19]
["Ramecourt",88368,"MIRECOURT","Mirecourt",9]
["Ramonchamp",88369,"LE THILLOT","Le Thillot",10]
["Rancourt",88370,"VITTEL","Vittel",6]
["Raon-aux-Bois",88371,"REMIREMONT","Remiremont",10]
["Raon-l'Étape",88372,"RAON-L'ETAPE","Raon-l'Etape",12]
["Raon-sur-Plaine",88373,"RAON-L'ETAPE","Raon-l'Etape",12]
["Rapey",88374,"CHARMES","Charmes",7]
["Raves",88375,"SAINT-DIE-EST","St-Dié-des-Vosges 2",19]
["Rebeuville",88376,"NEUFCHATEAU","Neufchâteau",11]
["Regnévelle",88377,"MONTHUREUX-SUR-SAONE","Darney",6]
["Regney",88378,"DOMPAIRE","Charmes",7]
["Rehaincourt",88379,"CHATEL-SUR-MOSELLE","Charmes",7]
["Rehaupal",88380,"CORCIEUX","Bruyères",8]
["Relanges",88381,"DARNEY","Darney",{"$f":"LEN(D387)","v":6}]
["Remicourt",88382,"MIRECOURT","Mirecourt",9]
["Remiremont",88383,"REMIREMONT","Remiremont",10]
["Remomeix",88386,"SAINT-DIE-EST","St-Dié-des-Vosges 2",19]
["Remoncourt",88385,"VITTEL","Vittel",6]
["Removille",88387,"CHATENOIS","Mirecourt",9]
["Renauvoid",88388,"EPINAL-OUEST","Epinal-1",8]
["Repel",88389,"MIRECOURT","Mirecourt",9]
["Robécourt",88390,"LAMARCHE","Darney",6]
["Rochesson",88391,"SAULXURES-SUR-MOSELOTTE","La Bresse",9]
["Rocourt",88392,"LAMARCHE","Darney",6]
["Rollainville",88393,"NEUFCHATEAU","Neufchâteau",11]
["Romain-aux-Bois",88394,"LAMARCHE","Darney",6]
["Romont",88395,"RAMBERVILLERS","Charmes",7]
["Rouvres-en-Xaintois",88400,"MIRECOURT","Mirecourt",9]
["Rouvres-la-Chétive",88401,"CHATENOIS","Neufchâteau",11]
["Roville-aux-Chênes",88402,"RAMBERVILLERS","Raon-l'Etape",12]
["Rozerotte",88403,"VITTEL","Vittel",6]
["Rozières-sur-Mouzon",88404,"LAMARCHE","Darney",6]
["Rugney",88406,"CHARMES","Charmes",7]
["Ruppes",88407,"COUSSEY","Neufchâteau",11]
["Rupt-sur-Moselle",88408,"LE THILLOT","Le Thillot",10]
["Saint-Amé",88409,"REMIREMONT","Remiremont",10]
["Saint-Baslemont",88411,"DARNEY","Darney",6]
["Saint-Benoît-la-Chipotte",88412,"RAMBERVILLERS","Raon-l'Etape",12]
["Saint-Dié-des-Vosges (est)",88413,"SAINT-DIE-DES-VOSGES","St-Dié-des-Vosges 2",19]
["Saint-Dié-des-Vosges (ouest)",88413,"SAINT-DIE-DES-VOSGES","St-Dié-des-Vosges 1",19]
["Sainte-Barbe",88410,"RAMBERVILLERS","Raon-l'Etape",12]
["Sainte-Hélène",88418,"BRUYERES","Bruyères",8]
["Sainte-Marguerite",88424,"SAINT-DIE-EST","St-Dié-des-Vosges 2",19]
["Saint-Étienne-lès-Remiremont",88415,"REMIREMONT","Remiremont",10]
["Saint-Genest",88416,"RAMBERVILLERS","Charmes",7]
["Saint-Gorgon",88417,"RAMBERVILLERS","St-Dié-des-Vosges 1",19]
["Saint-Jean-d'Ormont",88419,"SENONES","Raon-l'Etape",12]
["Saint-Julien",88421,"LAMARCHE","Darney",6]
["Saint-Léonard",88423,"FRAIZE","St-Dié-des-Vosges 2",19]
["Saint-Maurice-sur-Mortagne",88425,"RAMBERVILLERS","Charmes",7]
["Saint-Maurice-sur-Moselle",88426,"LE THILLOT","Le Thillot",10]
["Saint-Menge",88427,"MIRECOURT","Mirecourt",9]
["Saint-Michel-sur-Meurthe",88428,"SAINT-DIE-OUEST","St-Dié-des-Vosges 1",19]
["Saint-Nabord",88429,"REMIREMONT","Remiremont",10]
["Saint-Ouen-lès-Parey",88430,"BULGNEVILLE","Vittel",6]
["Saint-Paul",88431,"CHATENOIS","Mirecourt",9]
["Saint-Pierremont",88432,"RAMBERVILLERS","Raon-l'Etape",12]
["Saint-Prancher",88433,"MIRECOURT","Mirecourt",9]
["Saint-Remimont",88434,"BULGNEVILLE","Vittel",6]
["Saint-Remy",88435,"RAON-L'ETAPE","Raon-l'Etape",12]
["Saint-Stail",88436,"SENONES","Raon-l'Etape",12]
["Saint-Vallier",88437,"DOMPAIRE","Charmes",7]
["Sanchey",88439,"EPINAL-OUEST","Epinal-1",8]
["Sandaucourt",88440,"CHATENOIS","Mirecourt",9]
["Sans-Vallois",88441,"DARNEY","Darney",6]
["Sapois",88442,"SAULXURES-SUR-MOSELOTTE","La Bresse",9]
["Sartes",88443,"NEUFCHATEAU","Neufchâteau",11]
["Saulcy-sur-Meurthe",88445,"SAINT-DIE-EST","St-Dié-des-Vosges 2",19]
["Saulxures-lès-Bulgnéville",88446,"BULGNEVILLE","Vittel",6]
["Saulxures-sur-Moselotte",88447,"SAULXURES-SUR-MOSELOTTE","La Bresse",9]
["Sauville",88448,"BULGNEVILLE","Vittel",6]
["Savigny",88449,"CHARMES","Charmes",7]
["Senaide",88450,"LAMARCHE","Darney",6]
["Senones",88451,"SENONES","Raon-l'Etape",12]
["Senonges",88452,"DARNEY","Darney",6]
["Seraumont",88453,"COUSSEY","Neufchâteau",11]
["Sercœur",88454,"CHATEL-SUR-MOSELLE","Bruyères",8]
["Serécourt",88455,"LAMARCHE","Darney",{"$f":"LEN(D451)","v":6}]
["Serocourt",88456,"LAMARCHE","Darney",6]
["Sionne",88457,"COUSSEY","Neufchâteau",11]
["Socourt",88458,"CHARMES","Charmes",7]
["Soncourt",88459,"CHATENOIS","Mirecourt",9]
["Soulosse-sous-Saint-Élophe",88460,"COUSSEY","Neufchâteau",11]
["Suriauville",88461,"BULGNEVILLE","Vittel",6]
["Taintrux",88463,"SAINT-DIE-OUEST","St-Dié-des-Vosges 1",19]
["Tendon",88464,"REMIREMONT","La Bresse",9]
["Thaon-les-Vosges",88465,"CHATEL-SUR-MOSELLE","Golbey",6]
["They-sous-Montfort",88466,"VITTEL","Vittel",6]
["Thiéfosse",88467,"SAULXURES-SUR-MOSELOTTE","La Bresse",9]
["Thiraucourt",88469,"MIRECOURT","Mirecourt",9]
["Thuillières",88472,"VITTEL","Vittel",6]
["Tignécourt",88473,"LAMARCHE","Darney",6]
["Tilleux",88474,"NEUFCHATEAU","Neufchâteau",11]
["Tollaincourt",88475,"LAMARCHE","Darney",6]
["Totainville",88476,"MIRECOURT","Mirecourt",9]
["Trampot",88477,"NEUFCHATEAU","Neufchâteau",11]
["Tranqueville-Graux",88478,"COUSSEY","Neufchâteau",11]
["Trémonzey",88479,"BAINS-LES-BAINS","Le Val-d'Ajol",13]
["Ubexy",88480,"CHARMES","Charmes",7]
["Uriménil",88481,"XERTIGNY","Le Val-d'Ajol",13]
["Urville",88482,"BULGNEVILLE","Vittel",6]
["Uxegney",88483,"EPINAL-OUEST","Golbey",6]
["Uzemain",88484,"XERTIGNY","Le Val-d'Ajol",13]
["Vagney",88486,"SAULXURES-SUR-MOSELOTTE","La Bresse",9]
["Valfroicourt",88488,"VITTEL","Vittel",6]
["Valleroy-aux-Saules",88489,"MIRECOURT","Mirecourt",9]
["Valleroy-le-Sec",88490,"VITTEL","Vittel",6]
["Varmonzey",88493,"CHARMES","Charmes",7]
["Vaubexy",88494,"DOMPAIRE","Darney",6]
["Vaudéville",88495,"EPINAL-EST","Epinal-2",8]
["Vaudoncourt",88496,"BULGNEVILLE","Vittel",6]
["Vaxoncourt",88497,"CHATEL-SUR-MOSELLE","Golbey",6]
["Vecoux",88498,"REMIREMONT","Le Thillot",10]
["Velotte-et-Tatignécourt",88499,"DOMPAIRE","Darney",6]
["Ventron",88500,"SAULXURES-SUR-MOSELOTTE","La Bresse",9]
["Vervezelle",88502,"BROUVELIEURES","Bruyères",8]
["Vexaincourt",88503,"RAON-L'ETAPE","Raon-l'Etape",12]
["Vicherey",88504,"CHATENOIS","Mirecourt",9]
["Vienville",88505,"CORCIEUX","Gérardmer",9]
["Vieux-Moulin",88506,"SENONES","Raon-l'Etape",12]
["Villers",88507,"MIRECOURT","Mirecourt",9]
["Ville-sur-Illon",88508,"DOMPAIRE","Darney",6]
["Villoncourt",88509,"CHATEL-SUR-MOSELLE","Bruyères",8]
["Villotte",88510,"LAMARCHE","Darney",6]
["Villouxel",88511,"NEUFCHATEAU","Neufchâteau",11]
["Viménil",88512,"BRUYERES","Bruyères",8]
["Vincey",88513,"CHARMES","Charmes",7]
["Viocourt",88514,"CHATENOIS","Mirecourt",9]
["Vioménil",88515,"BAINS-LES-BAINS","Le Val-d'Ajol",13]
["Vittel",88516,"VITTEL","Vittel",6]
["Viviers-le-Gras",88517,"MONTHUREUX-SUR-SAONE","Darney",6]
["Viviers-lès-Offroicourt",88518,"VITTEL","Vittel",6]
["Vomécourt",88521,"RAMBERVILLERS","Charmes",7]
["Vomécourt-sur-Madon",88522,"CHARMES","Charmes",7]
["Vouxey",88523,"CHATENOIS","Mirecourt",9]
["Vrécourt",88524,"BULGNEVILLE","Vittel",6]
["Vroville",88525,"MIRECOURT","Mirecourt",9]
["Wisembach",88526,"SAINT-DIE-EST","St-Dié-des-Vosges 2",19]
["Xaffévillers",88527,"RAMBERVILLERS","Raon-l'Etape",12]
["Xamontarupt",88528,"BRUYERES","Bruyères",8]
["Xaronval",88529,"CHARMES","Charmes",7]
["Xertigny",88530,"XERTIGNY","Le Val-d'Ajol",{"$f":"LEN(D515)","v":13}]
["Xonrupt-Longemer",88531,"GERARDMER","Gérardmer",{"$f":"LEN(D516)","v":9}]
["Zincourt",88532,"CHATEL-SUR-MOSELLE","Bruyères",{"$f":"LEN(D517)","v":8}]

{"sheet":"cep","index":3,"n_rows":10,"n_cols":5,"rows_kept":10,"cut":false,"hidden":false,"merged":[]}
["CEP","UT",null,"Priorité"]
["BRUYERES","UTEM",null,1,"urgence 1"]
["DARNEY","UTOP",null,2,"urgence2"]
["DOMPAIRE","UTCM",null,3,"urgence 3"]
["EPINAL","UTCM",null,"non_retenu","non retenu pour l'annéee"]
["GERARDMER","UTEM",null,"Tx_Comm","lié travaux commune"]
["NEUFCHATEAU","UTOP",null,"Voté","voté"]
["REMIREMONT","UTCM",null,"Invest","BB pris sur l'investissement"]
["SAINT-DIE","UTEM"]
["VITTEL","UTOP"]

{"sheet":"Feuil3","index":4,"n_rows":5,"n_cols":32,"rows_kept":5,"cut":false,"hidden":false,"merged":[[3,14,3,15],[3,20,3,21]]}
["CEP","DARNEY"]
[]
[]
["contrôle","Travaux",null,null,null,null,null,null,null,null,null,null,null,null,"mesurées exactement",null,"S/L"]
["ligne","Priorité","UT","CEP","Canton","N° urgence","Commune","RD","PR début","Abs début","PR fin","Abs fin","P.R.","Trafic V/j","Longueur","Surface","Largeur moyenne","Dosage","Tonnage","distance","Année dernier RVT","Nature dernier RVT","ObservationsProgrammation future pour les reprofilage (Année)","Trx. Annexes (Oui - non)","CP","Date CP","Montant","sup1","sup2","sup3","sup4","sup5"]

{"sheet":"NEUFCHATEAU","index":5,"n_rows":150,"n_cols":32,"rows_kept":150,"cut":false,"hidden":false,"merged":[[3,14,3,15],[3,20,3,21]]}
["CEP",{"$f":"MID(CELL(\"filename\",B1),FIND(\"]\",CELL(\"filename\",B1))+1,32)","v":"NEUFCHATEAU"}]
[]
[]
["contrôle","Travaux",null,null,null,null,null,null,null,null,null,null,null,null,"mesurées exactement",null,"S/L"]
["ligne","Priorité","UT","CEP","Canton","N° urgence","Commune","RD","PR début","Abs début","PR fin","Abs fin","P.R.","Trafic V/j","Longueur","Surface","Largeur moyenne","Dosage","Tonnage","distance","Année dernier RVT","Nature dernier RVT","ObservationsProgrammation future pour les reprofilage (Année)","Trx. Annexes (Oui - non)","CP","Date CP","Montant","sup1","sup2","sup3","sup4","sup5"]
[{"$f":"IFERROR(INDEX(TABPREBB!$A$10:$AF$281,MATCH($B$1&ROW($A1),TABPREBB!$AH$10:$AH$281,0),COLUMN()),\"\")","v":1},{"$f":"IFERROR(INDEX(TABPREBB!$A$10:$AF$281,MATCH($B$1&ROW($A1),TABPREBB!$AH$10:$AH$281,0),COLUMN()),\"\")","v":0},{"$f":"IFERROR(INDEX(TABPREBB!$A$10:$AF$281,MATCH($B$1&ROW($A1),TABPREBB!$AH$10:$AH$281,0),COLUMN()),\"\")","v":"UTOP"},{"$f":"IFERROR(INDEX(TABPREBB!$A$10:$AF$281,MATCH($B$1&ROW($A1),TABPREBB!$AH$10:$AH$281,0),COLUMN()),\"\")","v":"NEUFCHATEAU"},{"$f":"IFERROR(INDEX(TABPREBB!$A$10:$AF$281,MATCH($B$1&ROW($A1),TABPREBB!$AH$10:$AH$281,0),COLUMN()),\"\")","v":"Neufchâteau"},{"$f":"IFERROR(INDEX(TABPREBB!$A$10:$AF$281,MATCH($B$1&ROW($A1),TABPREBB!$AH$10:$AH$281,0),COLUMN()),\"\")","v":1},{"$f":"IFERROR(INDEX(TABPREBB!$A$10:$AF$281,MATCH($B$1&ROW($A1),TABPREBB!$AH$10:$AH$281,0),COLUMN()),\"\")","v":"Rouvres-la-Chétive"},{"$f":"IFERROR(INDEX(TABPREBB!$A$10:$AF$281,MATCH($B$1&ROW($A1),TABPREBB!$AH$10:$AH$281,0),COLUMN()),\"\")","v":166},{"$f":"IFERROR(INDEX(TABPREBB!$A$10:$AF$281,MATCH($B$1&ROW($A1),TABPREBB!$AH$10:$AH$281,0),COLUMN()),\"\")","v":12},{"$f":"IFERROR(INDEX(TABPREBB!$A$10:$AF$281,MATCH($B$1&ROW($A1),TABPREBB!$AH$10:$AH$281,0),COLUMN()),\"\")","v":990},{"$f":"IFERROR(INDEX(TABPREBB!$A$10:$AF$281,MATCH($B$1&ROW($A1),TABPREBB!$AH$10:$AH$281,0),COLUMN()),\"\")","v":15},{"$f":"IFERROR(INDEX(TABPREBB!$A$10:$AF$281,MATCH($B$1&ROW($A1),TABPREBB!$AH$10:$AH$281,0),COLUMN()),\"\")","v":550},{"$f":"IFERROR(INDEX(TABPREBB!$A$10:$AF$281,MATCH($B$1&ROW($A1),TABPREBB!$AH$10:$AH$281,0),COLUMN()),\"\")","v":"12+990 à 15+550"},{"$f":"IFERROR(INDEX(TABPREBB!$A$10:$AF$281,MATCH($B$1&ROW($A1),TABPREBB!$AH$10:$AH$281,0),COLUMN()),\"\")","v":4500},{"$f":"IFERROR(INDEX(TABPREBB!$A$10:$AF$281,MATCH($B$1&ROW($A1),TABPREBB!$AH$10:$AH$281,0),COLUMN()),\"\")","v":2560},{"$f":"IFERROR(INDEX(TABPREBB!$A$10:$AF$281,MATCH($B$1&ROW($A1),TABPREBB!$AH$10:$AH$281,0),COLUMN()),\"\")","v":28200},{"$f":"IFERROR(INDEX(TABPREBB!$A$10:$AF$281,MATCH($B$1&ROW($A1),TABPREBB!$AH$10:$AH$281,0),COLUMN()),\"\")","v":11},{"$f":"IFERROR(INDEX(TABPREBB!$A$10:$AF$281,MATCH($B$1&ROW($A1),TABPREBB!$AH$10:$AH$281,0),COLUMN()),\"\")","v":140},{"$f":"IFERROR(INDEX(TABPREBB!$A$10:$AF$281,MATCH($B$1&ROW($A1),TABPREBB!$AH$10:$AH$281,0),COLUMN()),\"\")","v":4000},{"$f":"IFERROR(INDEX(TABPREBB!$A$10:$AF$281,MATCH($B$1&ROW($A1),TABPREBB!$AH$10:$AH$281,0),COLUMN()),\"\")","v":0},{"$f":"IFERROR(INDEX(TABPREBB!$A$10:$AF$281,MATCH($B$1&ROW($A1),TABPREBB!$AH$10:$AH$281,0),COLUMN()),\"\")","v":2007},{"$f":"IFERROR(INDEX(TABPREBB!$A$10:$AF$281,MATCH($B$1&ROW($A1),TABPREBB!$AH$10:$AH$281,0),COLUMN()),\"\")","v":"ECF"},{"$f":"IFERROR(INDEX(TABPREBB!$A$10:$AF$281,MATCH($B$1&ROW($A1),TABPREBB!$AH$10:$AH$281,0),COLUMN()),\"\")","v":0},{"$f":"IFERROR(INDEX(TABPREBB!$A$10:$AF$281,MATCH($B$1&ROW($A1),TABPREBB!$AH$10:$AH$281,0),COLUMN()),\"\")","v":"Rabotage -4 +6"},{"$f":"IFERROR(INDEX(TABPREBB!$A$10:$AF$281,MATCH($B$1&ROW($A1),TABPREBB!$AH$10:$AH$281,0),COLUMN()),\"\")","v":0},{"$f":"IFERROR(INDEX(TABPREBB!$A$10:$AF$281,MATCH($B$1&ROW($A1),TABPREBB!$AH$10:$AH$281,0),COLUMN()),\"\")","v":0},{"$f":"IFERROR(INDEX(TABPREBB!$A$10:$AF$281,MATCH($B$1&ROW($A1),TABPREBB!$AH$10:$AH$281,0),COLUMN()),\"\")","v":0},{"$f":"IFERROR(INDEX(TABPREBB!$A$10:$AF$281,MATCH($B$1&ROW($A1),TABPREBB!$AH$10:$AH$281,0),COLUMN()),\"\")","v":0},{"$f":"IFERROR(INDEX(TABPREBB!$A$10:$AF$281,MATCH($B$1&ROW($A1),TABPREBB!$AH$10:$AH$281,0),COLUMN()),\"\")","v":0},{"$f":"IFERROR(INDEX(TABPREBB!$A$10:$AF$281,MATCH($B$1&ROW($A1),TABPREBB!$AH$10:$AH$281,0),COLUMN()),\"\")","v":0},{"$f":"IFERROR(INDEX(TABPREBB!$A$10:$AF$281,MATCH($B$1&ROW($A1),TABPREBB!$AH$10:$AH$281,0),COLUMN()),\"\")","v":0},{"$f":"IFERROR(INDEX(TABPREBB!$A$10:$AF$281,MATCH($B$1&ROW($A1),TABPREBB!$AH$10:$AH$281,0),COLUMN()),\"\")","v":0}]
[{"$f":"IFERROR(INDEX(TABPREBB!$A$10:$AF$281,MATCH($B$1&ROW($A2),TABPREBB!$AH$10:$AH$281,0),COLUMN()),\"\")","v":1},{"$f":"IFERROR(INDEX(TABPREBB!$A$10:$AF$281,MATCH($B$1&ROW($A2),TABPREBB!$AH$10:$AH$281,0),COLUMN()),\"\")","v":0},{"$f":"IFERROR(INDEX(TABPREBB!$A$10:$AF$281,MATCH($B$1&ROW($A2),TABPREBB!$AH$10:$AH$281,0),COLUMN()),\"\")","v":"UTOP"},{"$f":"IFERROR(INDEX(TABPREBB!$A$10:$AF$281,MATCH($B$1&ROW($A2),TABPREBB!$AH$10:$AH$281,0),COLUMN()),\"\")","v":"NEUFCHATEAU"},{"$f":"IFERROR(INDEX(TABPREBB!$A$10:$AF$281,MATCH($B$1&ROW($A2),TABPREBB!$AH$10:$AH$281,0),COLUMN()),\"\")","v":"Neufchâteau"},{"$f":"IFERROR(INDEX(TABPREBB!$A$10:$AF$281,MATCH($B$1&ROW($A2),TABPREBB!$AH$10:$AH$281,0),COLUMN()),\"\")","v":2},{"$f":"IFERROR(INDEX(TABPREBB!$A$10:$AF$281,MATCH($B$1&ROW($A2),TABPREBB!$AH$10:$AH$281,0),COLUMN()),\"\")","v":"Neufchâteau"},{"$f":"IFERROR(INDEX(TABPREBB!$A$10:$AF$281,MATCH($B$1&ROW($A2),TABPREBB!$AH$10:$AH$281,0),COLUMN()),\"\")","v":674},{"$f":"IFERROR(INDEX(TABPREBB!$A$10:$AF$281,MATCH($B$1&ROW($A2),TABPREBB!$AH$10:$AH$281,0),COLUMN()),\"\")","v":10},{"$f":"IFERROR(INDEX(TABPREBB!$A$10:$AF$281,MATCH($B$1&ROW($A2),TABPREBB!$AH$10:$AH$281,0),COLUMN()),\"\")","v":950},{"$f":"IFERROR(INDEX(TABPREBB!$A$10:$AF$281,MATCH($B$1&ROW($A2),TABPREBB!$AH$10:$AH$281,0),COLUMN()),\"\")","v":11},{"$f":"IFERROR(INDEX(TABPREBB!$A$10:$AF$281,MATCH($B$1&ROW($A2),TABPREBB!$AH$10:$AH$281,0),COLUMN()),\"\")","v":340},{"$f":"IFERROR(INDEX(TABPREBB!$A$10:$AF$281,MATCH($B$1&ROW($A2),TABPREBB!$AH$10:$AH$281,0),COLUMN()),\"\")","v":"10+950 à 11+340"},{"$f":"IFERROR(INDEX(TABPREBB!$A$10:$AF$281,MATCH($B$1&ROW($A2),TABPREBB!$AH$10:$AH$281,0),COLUMN()),\"\")","v":4430},{"$f":"IFERROR(INDEX(TABPREBB!$A$10:$AF$281,MATCH($B$1&ROW($A2),TABPREBB!$AH$10:$AH$281,0),COLUMN()),\"\")","v":380},{"$f":"IFERROR(INDEX(TABPREBB!$A$10:$AF$281,MATCH($B$1&ROW($A2),TABPREBB!$AH$10:$AH$281,0),COLUMN()),\"\")","v":3040},{"$f":"IFERROR(INDEX(TABPREBB!$A$10:$AF$281,MATCH($B$1&ROW($A2),TABPREBB!$AH$10:$AH$281,0),COLUMN()),\"\")","v":8},{"$f":"IFERROR(INDEX(TABPREBB!$A$10:$AF$281,MATCH($B$1&ROW($A2),TABPREBB!$AH$10:$AH$281,0),COLUMN()),\"\")","v":110},{"$f":"IFERROR(INDEX(TABPREBB!$A$10:$AF$281,MATCH($B$1&ROW($A2),TABPREBB!$AH$10:$AH$281,0),COLUMN()),\"\")","v":340},{"$f":"IFERROR(INDEX(TABPREBB!$A$10:$AF$281,MATCH($B$1&ROW($A2),TABPREBB!$AH$10:$AH$281,0),COLUMN()),\"\")","v":0},{"$f":"IFERROR(INDEX(TABPREBB!$A$10:$AF$281,MATCH($B$1&ROW($A2),TABPREBB!$AH$10:$AH$281,0),COLUMN()),\"\")","v":"?"},{"$f":"IFERROR(INDEX(TABPREBB!$A$10:$AF$281,MATCH($B$1&ROW($A2),TABPREBB!$AH$10:$AH$281,0),COLUMN()),\"\")","v":"ESU"},{"$f":"IFERROR(INDEX(TABPREBB!$A$10:$AF$281,MATCH($B$1&ROW($A2),TABPREBB!$AH$10:$AH$281,0),COLUMN()),\"\")","v":0},{"$f":"IFERROR(INDEX(TABPREBB!$A$10:$AF$281,MATCH($B$1&ROW($A2),TABPREBB!$AH$10:$AH$281,0),COLUMN()),\"\")","v":"Rabotage -5+5"},{"$f":"IFERROR(INDEX(TABPREBB!$A$10:$AF$281,MATCH($B$1&ROW($A2),TABPREBB!$AH$10:$AH$281,0),COLUMN()),\"\")","v":0},{"$f":"IFERROR(INDEX(TABPREBB!$A$10:$AF$281,MATCH($B$1&ROW($A2),TABPREBB!$AH$10:$AH$281,0),COLUMN()),\"\")","v":0},{"$f":"IFERROR(INDEX(TABPREBB!$A$10:$AF$281,MATCH($B$1&ROW($A2),TABPREBB!$AH$10:$AH$281,0),COLUMN()),\"\")","v":0},{"$f":"IFERROR(INDEX(TABPREBB!$A$10:$AF$281,MATCH($B$1&ROW($A2),TABPREBB!$AH$10:$AH$281,0),COLUMN()),\"\")","v":0},{"$f":"IFERROR(INDEX(TABPREBB!$A$10:$AF$281,MATCH($B$1&ROW($A2),TABPREBB!$AH$10:$AH$281,0),COLUMN()),\"\")","v":0},{"$f":"IFERROR(INDEX(TABPREBB!$A$10:$AF$281,MATCH($B$1&ROW($A2),TABPREBB!$AH$10:$AH$281,0),COLUMN()),\"\")","v":0},{"$f":"IFERROR(INDEX(TABPREBB!$A$10:$AF$281,MATCH($B$1&ROW($A2),TABPREBB!$AH$10:$AH$281,0),COLUMN()),\"\")","v":0},{"$f":"IFERROR(INDEX(TABPREBB!$A$10:$AF$281,MATCH($B$1&ROW($A2),TABPREBB!$AH$10:$AH$281,0),COLUMN()),\"\")","v":0}]
[{"$f":"IFERROR(INDEX(TABPREBB!$A$10:$AF$281,MATCH($B$1&ROW($A3),TABPREBB!$AH$10:$AH$281,0),COLUMN()),\"\")","v":0},{"$f":"IFERROR(INDEX(TABPREBB!$A$10:$AF$281,MATCH($B$1&ROW($A3),TABPREBB!$AH$10:$AH$281,0),COLUMN()),\"\")","v":0},{"$f":"IFERROR(INDEX(TABPREBB!$A$10:$AF$281,MATCH($B$1&ROW($A3),TABPREBB!$AH$10:$AH$281,0),COLUMN()),\"\")","v":"UTOP"},{"$f":"IFERROR(INDEX(TABPREBB!$A$10:$AF$281,MATCH($B$1&ROW($A3),TABPREBB!$AH$10:$AH$281,0),COLUMN()),\"\")","v":"NEUFCHATEAU"},{"$f":"IFERROR(INDEX(TABPREBB!$A$10:$AF$281,MATCH($B$1&ROW($A3),TABPREBB!$AH$10:$AH$281,0),COLUMN()),\"\")","v":""},{"$f":"IFERROR(INDEX(TABPREBB!$A$10:$AF$281,MATCH($B$1&ROW($A3),TABPREBB!$AH$10:$AH$281,0),COLUMN()),\"\")","v":2},{"$f":"IFERROR(INDEX(TABPREBB!$A$10:$AF$281,MATCH($B$1&ROW($A3),TABPREBB!$AH$10:$AH$281,0),COLUMN()),\"\")","v":0},{"$f":"IFERROR(INDEX(TABPREBB!$A$10:$AF$281,MATCH($B$1&ROW($A3),TABPREBB!$AH$10:$AH$281,0),COLUMN()),\"\")","v":674},{"$f":"IFERROR(INDEX(TABPREBB!$A$10:$AF$281,MATCH($B$1&ROW($A3),TABPREBB!$AH$10:$AH$281,0),COLUMN()),\"\")","v":11},{"$f":"IFERROR(INDEX(TABPREBB!$A$10:$AF$281,MATCH($B$1&ROW($A3),TABPREBB!$AH$10:$AH$281,0),COLUMN()),\"\")","v":340},{"$f":"IFERROR(INDEX(TABPREBB!$A$10:$AF$281,MATCH($B$1&ROW($A3),TABPREBB!$AH$10:$AH$281,0),COLUMN()),\"\")","v":11},{"$f":"IFERROR(INDEX(TABPREBB!$A$10:$AF$281,MATCH($B$1&ROW($A3),TABPREBB!$AH$10:$AH$281,0),COLUMN()),\"\")","v":870},{"$f":"IFERROR(INDEX(TABPREBB!$A$10:$AF$281,MATCH($B$1&ROW($A3),TABPREBB!$AH$10:$AH$281,0),COLUMN()),\"\")","v":"11+340 à 11+870"},{"$f":"IFERROR(INDEX(TABPREBB!$A$10:$AF$281,MATCH($B$1&ROW($A3),TABPREBB!$AH$10:$AH$281,0),COLUMN()),\"\")","v":4430},{"$f":"IFERROR(INDEX(TABPREBB!$A$10:$AF$281,MATCH($B$1&ROW($A3),TABPREBB!$AH$10:$AH$281,0),COLUMN()),\"\")","v":530},{"$f":"IFERROR(INDEX(TABPREBB!$A$10:$AF$281,MATCH($B$1&ROW($A3),TABPREBB!$AH$10:$AH$281,0),COLUMN()),\"\")","v":4240},{"$f":"IFERROR(INDEX(TABPREBB!$A$10:$AF$281,MATCH($B$1&ROW($A3),TABPREBB!$AH$10:$AH$281,0),COLUMN()),\"\")","v":8},{"$f":"IFERROR(INDEX(TABPREBB!$A$10:$AF$281,MATCH($B$1&ROW($A3),TABPREBB!$AH$10:$AH$281,0),COLUMN()),\"\")","v":140},{"$f":"IFERROR(INDEX(TABPREBB!$A$10:$AF$281,MATCH($B$1&ROW($A3),TABPREBB!$AH$10:$AH$281,0),COLUMN()),\"\")","v":600},{"$f":"IFERROR(INDEX(TABPREBB!$A$10:$AF$281,MATCH($B$1&ROW($A3),TABPREBB!$AH$10:$AH$281,0),COLUMN()),\"\")","v":0},{"$f":"IFERROR(INDEX(TABPREBB!$A$10:$AF$281,MATCH($B$1&ROW($A3),TABPREBB!$AH$10:$AH$281,0),COLUMN()),\"\")","v":"?"},{"$f":"IFERROR(INDEX(TABPREBB!$A$10:$AF$281,MATCH($B$1&ROW($A3),TABPREBB!$AH$10:$AH$281,0),COLUMN()),\"\")","v":"BBSG"},{"$f":"IFERROR(INDEX(TABPREBB!$A$10:$AF$281,MATCH($B$1&ROW($A3),TABPREBB!$AH$10:$AH$281,0),COLUMN()),\"\")","v":0},{"$f":"IFERROR(INDEX(TABPREBB!$A$10:$AF$281,MATCH($B$1&ROW($A3),TABPREBB!$AH$10:$AH$281,0),COLUMN()),\"\")","v":"Rabotage -6+6"},{"$f":"IFERROR(INDEX(TABPREBB!$A$10:$AF$281,MATCH($B$1&ROW($A3),TABPREBB!$AH$10:$AH$281,0),COLUMN()),\"\")","v":0},{"$f":"IFERROR(INDEX(TABPREBB!$A$10:$AF$281,MATCH($B$1&ROW($A3),TABPREBB!$AH$10:$AH$281,0),COLUMN()),\"\")","v":0},{"$f":"IFERROR(INDEX(TABPREBB!$A$10:$AF$281,MATCH($B$1&ROW($A3),TABPREBB!$AH$10:$AH$281,0),COLUMN()),\"\")","v":0},{"$f":"IFERROR(INDEX(TABPREBB!$A$10:$AF$281,MATCH($B$1&ROW($A3),TABPREBB!$AH$10:$AH$281,0),COLUMN()),\"\")","v":0},{"$f":"IFERROR(INDEX(TABPREBB!$A$10:$AF$281,MATCH($B$1&ROW($A3),TABPREBB!$AH$10:$AH$281,0),COLUMN()),\"\")","v":0},{"$f":"IFERROR(INDEX(TABPREBB!$A$10:$AF$281,MATCH($B$1&ROW($A3),TABPREBB!$AH$10:$AH$281,0),COLUMN()),\"\")","v":0},{"$f":"IFERROR(INDEX(TABPREBB!$A$10:$AF$281,MATCH($B$1&ROW($A3),TABPREBB!$AH$10:$AH$281,0),COLUMN()),\"\")","v":0},{"$f":"IFERROR(INDEX(TABPREBB!$A$10:$AF$281,MATCH($B$1&ROW($A3),TABPREBB!$AH$10:$AH$281,0),COLUMN()),\"\")","v":0}]
[{"$f":"IFERROR(INDEX(TABPREBB!$A$10:$AF$281,MATCH($B$1&ROW($A4),TABPREBB!$AH$10:$AH$281,0),COLUMN()),\"\")","v":""},{"$f":"IFERROR(INDEX(TABPREBB!$A$10:$AF$281,MATCH($B$1&ROW($A4),TABPREBB!$AH$10:$AH$281,0),COLUMN()),\"\")","v":""},{"$f":"IFERROR(INDEX(TABPREBB!$A$10:$AF$281,MATCH($B$1&ROW($A4),TABPREBB!$AH$10:$AH$281,0),COLUMN()),\"\")","v":""},{"$f":"IFERROR(INDEX(TABPREBB!$A$10:$AF$281,MATCH($B$1&ROW($A4),TABPREBB!$AH$10:$AH$281,0),COLUMN()),\"\")","v":""},{"$f":"IFERROR(INDEX(TABPREBB!$A$10:$AF$281,MATCH($B$1&ROW($A4),TABPREBB!$AH$10:$AH$281,0),COLUMN()),\"\")","v":""},{"$f":"IFERROR(INDEX(TABPREBB!$A$10:$AF$281,MATCH($B$1&ROW($A4),TABPREBB!$AH$10:$AH$281,0),COLUMN()),\"\")","v":""},{"$f":"IFERROR(INDEX(TABPREBB!$A$10:$AF$281,MATCH($B$1&ROW($A4),TABPREBB!$AH$10:$AH$281,0),COLUMN()),\"\")","v":""},{"$f":"IFERROR(INDEX(TABPREBB!$A$10:$AF$281,MATCH($B$1&ROW($A4),TABPREBB!$AH$10:$AH$281,0),COLUMN()),\"\")","v":""},{"$f":"IFERROR(INDEX(TABPREBB!$A$10:$AF$281,MATCH($B$1&ROW($A4),TABPREBB!$AH$10:$AH$281,0),COLUMN()),\"\")","v":""},{"$f":"IFERROR(INDEX(TABPREBB!$A$10:$AF$281,MATCH($B$1&ROW($A4),TABPREBB!$AH$10:$AH$281,0),COLUMN()),\"\")","v":""},{"$f":"IFERROR(INDEX(TABPREBB!$A$10:$AF$281,MATCH($B$1&ROW($A4),TABPREBB!$AH$10:$AH$281,0),COLUMN()),\"\")","v":""},{"$f":"IFERROR(INDEX(TABPREBB!$A$10:$AF$281,MATCH($B$1&ROW($A4),TABPREBB!$AH$10:$AH$281,0),COLUMN()),\"\")","v":""},{"$f":"IFERROR(INDEX(TABPREBB!$A$10:$AF$281,MATCH($B$1&ROW($A4),TABPREBB!$AH$10:$AH$281,0),COLUMN()),\"\")","v":""},{"$f":"IFERROR(INDEX(TABPREBB!$A$10:$AF$281,MATCH($B$1&ROW($A4),TABPREBB!$AH$10:$AH$281,0),COLUMN()),\"\")","v":""},{"$f":"IFERROR(INDEX(TABPREBB!$A$10:$AF$281,MATCH($B$1&ROW($A4),TABPREBB!$AH$10:$AH$281,0),COLUMN()),\"\")","v":""},{"$f":"IFERROR(INDEX(TABPREBB!$A$10:$AF$281,MATCH($B$1&ROW($A4),TABPREBB!$AH$10:$AH$281,0),COLUMN()),\"\")","v":""},{"$f":"IFERROR(INDEX(TABPREBB!$A$10:$AF$281,MATCH($B$1&ROW($A4),TABPREBB!$AH$10:$AH$281,0),COLUMN()),\"\")","v":""},{"$f":"IFERROR(INDEX(TABPREBB!$A$10:$AF$281,MATCH($B$1&ROW($A4),TABPREBB!$AH$10:$AH$281,0),COLUMN()),\"\")","v":""},{"$f":"IFERROR(INDEX(TABPREBB!$A$10:$AF$281,MATCH($B$1&ROW($A4),TABPREBB!$AH$10:$AH$281,0),COLUMN()),\"\")","v":""},{"$f":"IFERROR(INDEX(TABPREBB!$A$10:$AF$281,MATCH($B$1&ROW($A4),TABPREBB!$AH$10:$AH$281,0),COLUMN()),\"\")","v":""},{"$f":"IFERROR(INDEX(TABPREBB!$A$10:$AF$281,MATCH($B$1&ROW($A4),TABPREBB!$AH$10:$AH$281,0),COLUMN()),\"\")","v":""},{"$f":"IFERROR(INDEX(TABPREBB!$A$10:$AF$281,MATCH($B$1&ROW($A4),TABPREBB!$AH$10:$AH$281,0),COLUMN()),\"\")","v":""},{"$f":"IFERROR(INDEX(TABPREBB!$A$10:$AF$281,MATCH($B$1&ROW($A4),TABPREBB!$AH$10:$AH$281,0),COLUMN()),\"\")","v":""},{"$f":"IFERROR(INDEX(TABPREBB!$A$10:$AF$281,MATCH($B$1&ROW($A4),TABPREBB!$AH$10:$AH$281,0),COLUMN()),\"\")","v":""},{"$f":"IFERROR(INDEX(TABPREBB!$A$10:$AF$281,MATCH($B$1&ROW($A4),TABPREBB!$AH$10:$AH$281,0),COLUMN()),\"\")","v":""},{"$f":"IFERROR(INDEX(TABPREBB!$A$10:$AF$281,MATCH($B$1&ROW($A4),TABPREBB!$AH$10:$AH$281,0),COLUMN()),\"\")","v":""},{"$f":"IFERROR(INDEX(TABPREBB!$A$10:$AF$281,MATCH($B$1&ROW($A4),TABPREBB!$AH$10:$AH$281,0),COLUMN()),\"\")","v":""},{"$f":"IFERROR(INDEX(TABPREBB!$A$10:$AF$281,MATCH($B$1&ROW($A4),TABPREBB!$AH$10:$AH$281,0),COLUMN()),\"\")","v":""},{"$f":"IFERROR(INDEX(TABPREBB!$A$10:$AF$281,MATCH($B$1&ROW($A4),TABPREBB!$AH$10:$AH$281,0),COLUMN()),\"\")","v":""},{"$f":"IFERROR(INDEX(TABPREBB!$A$10:$AF$281,MATCH($B$1&ROW($A4),TABPREBB!$AH$10:$AH$281,0),COLUMN()),\"\")","v":""},{"$f":"IFERROR(INDEX(TABPREBB!$A$10:$AF$281,MATCH($B$1&ROW($A4),TABPREBB!$AH$10:$AH$281,0),COLUMN()),\"\")","v":""},{"$f":"IFERROR(INDEX(TABPREBB!$A$10:$AF$281,MATCH($B$1&ROW($A4),TABPREBB!$AH$10:$AH$281,0),COLUMN()),\"\")","v":""}]
[{"$f":"IFERROR(INDEX(TABPREBB!$A$10:$AF$281,MATCH($B$1&ROW($A5),TABPREBB!$AH$10:$AH$281,0),COLUMN()),\"\")","v":""},{"$f":"IFERROR(INDEX(TABPREBB!$A$10:$AF$281,MATCH($B$1&ROW($A5),TABPREBB!$AH$10:$AH$281,0),COLUMN()),\"\")","v":""},{"$f":"IFERROR(INDEX(TABPREBB!$A$10:$AF$281,MATCH($B$1&ROW($A5),TABPREBB!$AH$10:$AH$281,0),COLUMN()),\"\")","v":""},{"$f":"IFERROR(INDEX(TABPREBB!$A$10:$AF$281,MATCH($B$1&ROW($A5),TABPREBB!$AH$10:$AH$281,0),COLUMN()),\"\")","v":""},{"$f":"IFERROR(INDEX(TABPREBB!$A$10:$AF$281,MATCH($B$1&ROW($A5),TABPREBB!$AH$10:$AH$281,0),COLUMN()),\"\")","v":""},{"$f":"IFERROR(INDEX(TABPREBB!$A$10:$AF$281,MATCH($B$1&ROW($A5),TABPREBB!$AH$10:$AH$281,0),COLUMN()),\"\")","v":""},{"$f":"IFERROR(INDEX(TABPREBB!$A$10:$AF$281,MATCH($B$1&ROW($A5),TABPREBB!$AH$10:$AH$281,0),COLUMN()),\"\")","v":""},{"$f":"IFERROR(INDEX(TABPREBB!$A$10:$AF$281,MATCH($B$1&ROW($A5),TABPREBB!$AH$10:$AH$281,0),COLUMN()),\"\")","v":""},{"$f":"IFERROR(INDEX(TABPREBB!$A$10:$AF$281,MATCH($B$1&ROW($A5),TABPREBB!$AH$10:$AH$281,0),COLUMN()),\"\")","v":""},{"$f":"IFERROR(INDEX(TABPREBB!$A$10:$AF$281,MATCH($B$1&ROW($A5),TABPREBB!$AH$10:$AH$281,0),COLUMN()),\"\")","v":""},{"$f":"IFERROR(INDEX(TABPREBB!$A$10:$AF$281,MATCH($B$1&ROW($A5),TABPREBB!$AH$10:$AH$281,0),COLUMN()),\"\")","v":""},{"$f":"IFERROR(INDEX(TABPREBB!$A$10:$AF$281,MATCH($B$1&ROW($A5),TABPREBB!$AH$10:$AH$281,0),COLUMN()),\"\")","v":""},{"$f":"IFERROR(INDEX(TABPREBB!$A$10:$AF$281,MATCH($B$1&ROW($A5),TABPREBB!$AH$10:$AH$281,0),COLUMN()),\"\")","v":""},{"$f":"IFERROR(INDEX(TABPREBB!$A$10:$AF$281,MATCH($B$1&ROW($A5),TABPREBB!$AH$10:$AH$281,0),COLUMN()),\"\")","v":""},{"$f":"IFERROR(INDEX(TABPREBB!$A$10:$AF$281,MATCH($B$1&ROW($A5),TABPREBB!$AH$10:$AH$281,0),COLUMN()),\"\")","v":""},{"$f":"IFERROR(INDEX(TABPREBB!$A$10:$AF$281,MATCH($B$1&ROW($A5),TABPREBB!$AH$10:$AH$281,0),COLUMN()),\"\")","v":""},{"$f":"IFERROR(INDEX(TABPREBB!$A$10:$AF$281,MATCH($B$1&ROW($A5),TABPREBB!$AH$10:$AH$281,0),COLUMN()),\"\")","v":""},{"$f":"IFERROR(INDEX(TABPREBB!$A$10:$AF$281,MATCH($B$1&ROW($A5),TABPREBB!$AH$10:$AH$281,0),COLUMN()),\"\")","v":""},{"$f":"IFERROR(INDEX(TABPREBB!$A$10:$AF$281,MATCH($B$1&ROW($A5),TABPREBB!$AH$10:$AH$281,0),COLUMN()),\"\")","v":""},{"$f":"IFERROR(INDEX(TABPREBB!$A$10:$AF$281,MATCH($B$1&ROW($A5),TABPREBB!$AH$10:$AH$281,0),COLUMN()),\"\")","v":""},{"$f":"IFERROR(INDEX(TABPREBB!$A$10:$AF$281,MATCH($B$1&ROW($A5),TABPREBB!$AH$10:$AH$281,0),COLUMN()),\"\")","v":""},{"$f":"IFERROR(INDEX(TABPREBB!$A$10:$AF$281,MATCH($B$1&ROW($A5),TABPREBB!$AH$10:$AH$281,0),COLUMN()),\"\")","v":""},{"$f":"IFERROR(INDEX(TABPREBB!$A$10:$AF$281,MATCH($B$1&ROW($A5),TABPREBB!$AH$10:$AH$281,0),COLUMN()),\"\")","v":""},{"$f":"IFERROR(INDEX(TABPREBB!$A$10:$AF$281,MATCH($B$1&ROW($A5),TABPREBB!$AH$10:$AH$281,0),COLUMN()),\"\")","v":""},{"$f":"IFERROR(INDEX(TABPREBB!$A$10:$AF$281,MATCH($B$1&ROW($A5),TABPREBB!$AH$10:$AH$281,0),COLUMN()),\"\")","v":""},{"$f":"IFERROR(INDEX(TABPREBB!$A$10:$AF$281,MATCH($B$1&ROW($A5),TABPREBB!$AH$10:$AH$281,0),COLUMN()),\"\")","v":""},{"$f":"IFERROR(INDEX(TABPREBB!$A$10:$AF$281,MATCH($B$1&ROW($A5),TABPREBB!$AH$10:$AH$281,0),COLUMN()),\"\")","v":""},{"$f":"IFERROR(INDEX(TABPREBB!$A$10:$AF$281,MATCH($B$1&ROW($A5),TABPREBB!$AH$10:$AH$281,0),COLUMN()),\"\")","v":""},{"$f":"IFERROR(INDEX(TABPREBB!$A$10:$AF$281,MATCH($B$1&ROW($A5),TABPREBB!$AH$10:$AH$281,0),COLUMN()),\"\")","v":""},{"$f":"IFERROR(INDEX(TABPREBB!$A$10:$AF$281,MATCH($B$1&ROW($A5),TABPREBB!$AH$10:$AH$281,0),COLUMN()),\"\")","v":""},{"$f":"IFERROR(INDEX(TABPREBB!$A$10:$AF$281,MATCH($B$1&ROW($A5),TABPREBB!$AH$10:$AH$281,0),COLUMN()),\"\")","v":""},{"$f":"IFERROR(INDEX(TABPREBB!$A$10:$AF$281,MATCH($B$1&ROW($A5),TABPREBB!$AH$10:$AH$281,0),COLUMN()),\"\")","v":""}]
[{"$f":"IFERROR(INDEX(TABPREBB!$A$10:$AF$281,MATCH($B$1&ROW($A6),TABPREBB!$AH$10:$AH$281,0),COLUMN()),\"\")","v":""},{"$f":"IFERROR(INDEX(TABPREBB!$A$10:$AF$281,MATCH($B$1&ROW($A6),TABPREBB!$AH$10:$AH$281,0),COLUMN()),\"\")","v":""},{"$f":"IFERROR(INDEX(TABPREBB!$A$10:$AF$281,MATCH($B$1&ROW($A6),TABPREBB!$AH$10:$AH$281,0),COLUMN()),\"\")","v":""},{"$f":"IFERROR(INDEX(TABPREBB!$A$10:$AF$281,MATCH($B$1&ROW($A6),TABPREBB!$AH$10:$AH$281,0),COLUMN()),\"\")","v":""},{"$f":"IFERROR(INDEX(TABPREBB!$A$10:$AF$281,MATCH($B$1&ROW($A6),TABPREBB!$AH$10:$AH$281,0),COLUMN()),\"\")","v":""},{"$f":"IFERROR(INDEX(TABPREBB!$A$10:$AF$281,MATCH($B$1&ROW($A6),TABPREBB!$AH$10:$AH$281,0),COLUMN()),\"\")","v":""},{"$f":"IFERROR(INDEX(TABPREBB!$A$10:$AF$281,MATCH($B$1&ROW($A6),TABPREBB!$AH$10:$AH$281,0),COLUMN()),\"\")","v":""},{"$f":"IFERROR(INDEX(TABPREBB!$A$10:$AF$281,MATCH($B$1&ROW($A6),TABPREBB!$AH$10:$AH$281,0),COLUMN()),\"\")","v":""},{"$f":"IFERROR(INDEX(TABPREBB!$A$10:$AF$281,MATCH($B$1&ROW($A6),TABPREBB!$AH$10:$AH$281,0),COLUMN()),\"\")","v":""},{"$f":"IFERROR(INDEX(TABPREBB!$A$10:$AF$281,MATCH($B$1&ROW($A6),TABPREBB!$AH$10:$AH$281,0),COLUMN()),\"\")","v":""},{"$f":"IFERROR(INDEX(TABPREBB!$A$10:$AF$281,MATCH($B$1&ROW($A6),TABPREBB!$AH$10:$AH$281,0),COLUMN()),\"\")","v":""},{"$f":"IFERROR(INDEX(TABPREBB!$A$10:$AF$281,MATCH($B$1&ROW($A6),TABPREBB!$AH$10:$AH$281,0),COLUMN()),\"\")","v":""},{"$f":"IFERROR(INDEX(TABPREBB!$A$10:$AF$281,MATCH($B$1&ROW($A6),TABPREBB!$AH$10:$AH$281,0),COLUMN()),\"\")","v":""},{"$f":"IFERROR(INDEX(TABPREBB!$A$10:$AF$281,MATCH($B$1&ROW($A6),TABPREBB!$AH$10:$AH$281,0),COLUMN()),\"\")","v":""},{"$f":"IFERROR(INDEX(TABPREBB!$A$10:$AF$281,MATCH($B$1&ROW($A6),TABPREBB!$AH$10:$AH$281,0),COLUMN()),\"\")","v":""},{"$f":"IFERROR(INDEX(TABPREBB!$A$10:$AF$281,MATCH($B$1&ROW($A6),TABPREBB!$AH$10:$AH$281,0),COLUMN()),\"\")","v":""},{"$f":"IFERROR(INDEX(TABPREBB!$A$10:$AF$281,MATCH($B$1&ROW($A6),TABPREBB!$AH$10:$AH$281,0),COLUMN()),\"\")","v":""},{"$f":"IFERROR(INDEX(TABPREBB!$A$10:$AF$281,MATCH($B$1&ROW($A6),TABPREBB!$AH$10:$AH$281,0),COLUMN()),\"\")","v":""},{"$f":"IFERROR(INDEX(TABPREBB!$A$10:$AF$281,MATCH($B$1&ROW($A6),TABPREBB!$AH$10:$AH$281,0),COLUMN()),\"\")","v":""},{"$f":"IFERROR(INDEX(TABPREBB!$A$10:$AF$281,MATCH($B$1&ROW($A6),TABPREBB!$AH$10:$AH$281,0),COLUMN()),\"\")","v":""},{"$f":"IFERROR(INDEX(TABPREBB!$A$10:$AF$281,MATCH($B$1&ROW($A6),TABPREBB!$AH$10:$AH$281,0),COLUMN()),\"\")","v":""},{"$f":"IFERROR(INDEX(TABPREBB!$A$10:$AF$281,MATCH($B$1&ROW($A6),TABPREBB!$AH$10:$AH$281,0),COLUMN()),\"\")","v":""},{"$f":"IFERROR(INDEX(TABPREBB!$A$10:$AF$281,MATCH($B$1&ROW($A6),TABPREBB!$AH$10:$AH$281,0),COLUMN()),\"\")","v":""},{"$f":"IFERROR(INDEX(TABPREBB!$A$10:$AF$281,MATCH($B$1&ROW($A6),TABPREBB!$AH$10:$AH$281,0),COLUMN()),\"\")","v":""},{"$f":"IFERROR(INDEX(TABPREBB!$A$10:$AF$281,MATCH($B$1&ROW($A6),TABPREBB!$AH$10:$AH$281,0),COLUMN()),\"\")","v":""},{"$f":"IFERROR(INDEX(TABPREBB!$A$10:$AF$281,MATCH($B$1&ROW($A6),TABPREBB!$AH$10:$AH$281,0),COLUMN()),\"\")","v":""},{"$f":"IFERROR(INDEX(TABPREBB!$A$10:$AF$281,MATCH($B$1&ROW($A6),TABPREBB!$AH$10:$AH$281,0),COLUMN()),\"\")","v":""},{"$f":"IFERROR(INDEX(TABPREBB!$A$10:$AF$281,MATCH($B$1&ROW($A6),TABPREBB!$AH$10:$AH$281,0),COLUMN()),\"\")","v":""},{"$f":"IFERROR(INDEX(TABPREBB!$A$10:$AF$281,MATCH($B$1&ROW($A6),TABPREBB!$AH$10:$AH$281,0),COLUMN()),\"\")","v":""},{"$f":"IFERROR(INDEX(TABPREBB!$A$10:$AF$281,MATCH($B$1&ROW($A6),TABPREBB!$AH$10:$AH$281,0),COLUMN()),\"\")","v":""},{"$f":"IFERROR(INDEX(TABPREBB!$A$10:$AF$281,MATCH($B$1&ROW($A6),TABPREBB!$AH$10:$AH$281,0),COLUMN()),\"\")","v":""},{"$f":"IFERROR(INDEX(TABPREBB!$A$10:$AF$281,MATCH($B$1&ROW($A6),TABPREBB!$AH$10:$AH$281,0),COLUMN()),\"\")","v":""}]
[{"$f":"IFERROR(INDEX(TABPREBB!$A$10:$AF$281,MATCH($B$1&ROW($A7),TABPREBB!$AH$10:$AH$281,0),COLUMN()),\"\")","v":""},{"$f":"IFERROR(INDEX(TABPREBB!$A$10:$AF$281,MATCH($B$1&ROW($A7),TABPREBB!$AH$10:$AH$281,0),COLUMN()),\"\")","v":""},{"$f":"IFERROR(INDEX(TABPREBB!$A$10:$AF$281,MATCH($B$1&ROW($A7),TABPREBB!$AH$10:$AH$281,0),COLUMN()),\"\")","v":""},{"$f":"IFERROR(INDEX(TABPREBB!$A$10:$AF$281,MATCH($B$1&ROW($A7),TABPREBB!$AH$10:$AH$281,0),COLUMN()),\"\")","v":""},{"$f":"IFERROR(INDEX(TABPREBB!$A$10:$AF$281,MATCH($B$1&ROW($A7),TABPREBB!$AH$10:$AH$281,0),COLUMN()),\"\")","v":""},{"$f":"IFERROR(INDEX(TABPREBB!$A$10:$AF$281,MATCH($B$1&ROW($A7),TABPREBB!$AH$10:$AH$281,0),COLUMN()),\"\")","v":""},{"$f":"IFERROR(INDEX(TABPREBB!$A$10:$AF$281,MATCH($B$1&ROW($A7),TABPREBB!$AH$10:$AH$281,0),COLUMN()),\"\")","v":""},{"$f":"IFERROR(INDEX(TABPREBB!$A$10:$AF$281,MATCH($B$1&ROW($A7),TABPREBB!$AH$10:$AH$281,0),COLUMN()),\"\")","v":""},{"$f":"IFERROR(INDEX(TABPREBB!$A$10:$AF$281,MATCH($B$1&ROW($A7),TABPREBB!$AH$10:$AH$281,0),COLUMN()),\"\")","v":""},{"$f":"IFERROR(INDEX(TABPREBB!$A$10:$AF$281,MATCH($B$1&ROW($A7),TABPREBB!$AH$10:$AH$281,0),COLUMN()),\"\")","v":""},{"$f":"IFERROR(INDEX(TABPREBB!$A$10:$AF$281,MATCH($B$1&ROW($A7),TABPREBB!$AH$10:$AH$281,0),COLUMN()),\"\")","v":""},{"$f":"IFERROR(INDEX(TABPREBB!$A$10:$AF$281,MATCH($B$1&ROW($A7),TABPREBB!$AH$10:$AH$281,0),COLUMN()),\"\")","v":""},{"$f":"IFERROR(INDEX(TABPREBB!$A$10:$AF$281,MATCH($B$1&ROW($A7),TABPREBB!$AH$10:$AH$281,0),COLUMN()),\"\")","v":""},{"$f":"IFERROR(INDEX(TABPREBB!$A$10:$AF$281,MATCH($B$1&ROW($A7),TABPREBB!$AH$10:$AH$281,0),COLUMN()),\"\")","v":""},{"$f":"IFERROR(INDEX(TABPREBB!$A$10:$AF$281,MATCH($B$1&ROW($A7),TABPREBB!$AH$10:$AH$281,0),COLUMN()),\"\")","v":""},{"$f":"IFERROR(INDEX(TABPREBB!$A$10:$AF$281,MATCH($B$1&ROW($A7),TABPREBB!$AH$10:$AH$281,0),COLUMN()),\"\")","v":""},{"$f":"IFERROR(INDEX(TABPREBB!$A$10:$AF$281,MATCH($B$1&ROW($A7),TABPREBB!$AH$10:$AH$281,0),COLUMN()),\"\")","v":""},{"$f":"IFERROR(INDEX(TABPREBB!$A$10:$AF$281,MATCH($B$1&ROW($A7),TABPREBB!$AH$10:$AH$281,0),COLUMN()),\"\")","v":""},{"$f":"IFERROR(INDEX(TABPREBB!$A$10:$AF$281,MATCH($B$1&ROW($A7),TABPREBB!$AH$10:$AH$281,0),COLUMN()),\"\")","v":""},{"$f":"IFERROR(INDEX(TABPREBB!$A$10:$AF$281,MATCH($B$1&ROW($A7),TABPREBB!$AH$10:$AH$281,0),COLUMN()),\"\")","v":""},{"$f":"IFERROR(INDEX(TABPREBB!$A$10:$AF$281,MATCH($B$1&ROW($A7),TABPREBB!$AH$10:$AH$281,0),COLUMN()),\"\")","v":""},{"$f":"IFERROR(INDEX(TABPREBB!$A$10:$AF$281,MATCH($B$1&ROW($A7),TABPREBB!$AH$10:$AH$281,0),COLUMN()),\"\")","v":""},{"$f":"IFERROR(INDEX(TABPREBB!$A$10:$AF$281,MATCH($B$1&ROW($A7),TABPREBB!$AH$10:$AH$281,0),COLUMN()),\"\")","v":""},{"$f":"IFERROR(INDEX(TABPREBB!$A$10:$AF$281,MATCH($B$1&ROW($A7),TABPREBB!$AH$10:$AH$281,0),COLUMN()),\"\")","v":""},{"$f":"IFERROR(INDEX(TABPREBB!$A$10:$AF$281,MATCH($B$1&ROW($A7),TABPREBB!$AH$10:$AH$281,0),COLUMN()),\"\")","v":""},{"$f":"IFERROR(INDEX(TABPREBB!$A$10:$AF$281,MATCH($B$1&ROW($A7),TABPREBB!$AH$10:$AH$281,0),COLUMN()),\"\")","v":""},{"$f":"IFERROR(INDEX(TABPREBB!$A$10:$AF$281,MATCH($B$1&ROW($A7),TABPREBB!$AH$10:$AH$281,0),COLUMN()),\"\")","v":""},{"$f":"IFERROR(INDEX(TABPREBB!$A$10:$AF$281,MATCH($B$1&ROW($A7),TABPREBB!$AH$10:$AH$281,0),COLUMN()),\"\")","v":""},{"$f":"IFERROR(INDEX(TABPREBB!$A$10:$AF$281,MATCH($B$1&ROW($A7),TABPREBB!$AH$10:$AH$281,0),COLUMN()),\"\")","v":""},{"$f":"IFERROR(INDEX(TABPREBB!$A$10:$AF$281,MATCH($B$1&ROW($A7),TABPREBB!$AH$10:$AH$281,0),COLUMN()),\"\")","v":""},{"$f":"IFERROR(INDEX(TABPREBB!$A$10:$AF$281,MATCH($B$1&ROW($A7),TABPREBB!$AH$10:$AH$281,0),COLUMN()),\"\")","v":""},{"$f":"IFERROR(INDEX(TABPREBB!$A$10:$AF$281,MATCH($B$1&ROW($A7),TABPREBB!$AH$10:$AH$281,0),COLUMN()),\"\")","v":""}]
[{"$f":"IFERROR(INDEX(TABPREBB!$A$10:$AF$281,MATCH($B$1&ROW($A8),TABPREBB!$AH$10:$AH$281,0),COLUMN()),\"\")","v":""},{"$f":"IFERROR(INDEX(TABPREBB!$A$10:$AF$281,MATCH($B$1&ROW($A8),TABPREBB!$AH$10:$AH$281,0),COLUMN()),\"\")","v":""},{"$f":"IFERROR(INDEX(TABPREBB!$A$10:$AF$281,MATCH($B$1&ROW($A8),TABPREBB!$AH$10:$AH$281,0),COLUMN()),\"\")","v":""},{"$f":"IFERROR(INDEX(TABPREBB!$A$10:$AF$281,MATCH($B$1&ROW($A8),TABPREBB!$AH$10:$AH$281,0),COLUMN()),\"\")","v":""},{"$f":"IFERROR(INDEX(TABPREBB!$A$10:$AF$281,MATCH($B$1&ROW($A8),TABPREBB!$AH$10:$AH$281,0),COLUMN()),\"\")","v":""},{"$f":"IFERROR(INDEX(TABPREBB!$A$10:$AF$281,MATCH($B$1&ROW($A8),TABPREBB!$AH$10:$AH$281,0),COLUMN()),\"\")","v":""},{"$f":"IFERROR(INDEX(TABPREBB!$A$10:$AF$281,MATCH($B$1&ROW($A8),TABPREBB!$AH$10:$AH$281,0),COLUMN()),\"\")","v":""},{"$f":"IFERROR(INDEX(TABPREBB!$A$10:$AF$281,MATCH($B$1&ROW($A8),TABPREBB!$AH$10:$AH$281,0),COLUMN()),\"\")","v":""},{"$f":"IFERROR(INDEX(TABPREBB!$A$10:$AF$281,MATCH($B$1&ROW($A8),TABPREBB!$AH$10:$AH$281,0),COLUMN()),\"\")","v":""},{"$f":"IFERROR(INDEX(TABPREBB!$A$10:$AF$281,MATCH($B$1&ROW($A8),TABPREBB!$AH$10:$AH$281,0),COLUMN()),\"\")","v":""},{"$f":"IFERROR(INDEX(TABPREBB!$A$10:$AF$281,MATCH($B$1&ROW($A8),TABPREBB!$AH$10:$AH$281,0),COLUMN()),\"\")","v":""},{"$f":"IFERROR(INDEX(TABPREBB!$A$10:$AF$281,MATCH($B$1&ROW($A8),TABPREBB!$AH$10:$AH$281,0),COLUMN()),\"\")","v":""},{"$f":"IFERROR(INDEX(TABPREBB!$A$10:$AF$281,MATCH($B$1&ROW($A8),TABPREBB!$AH$10:$AH$281,0),COLUMN()),\"\")","v":""},{"$f":"IFERROR(INDEX(TABPREBB!$A$10:$AF$281,MATCH($B$1&ROW($A8),TABPREBB!$AH$10:$AH$281,0),COLUMN()),\"\")","v":""},{"$f":"IFERROR(INDEX(TABPREBB!$A$10:$AF$281,MATCH($B$1&ROW($A8),TABPREBB!$AH$10:$AH$281,0),COLUMN()),\"\")","v":""},{"$f":"IFERROR(INDEX(TABPREBB!$A$10:$AF$281,MATCH($B$1&ROW($A8),TABPREBB!$AH$10:$AH$281,0),COLUMN()),\"\")","v":""},{"$f":"IFERROR(INDEX(TABPREBB!$A$10:$AF$281,MATCH($B$1&ROW($A8),TABPREBB!$AH$10:$AH$281,0),COLUMN()),\"\")","v":""},{"$f":"IFERROR(INDEX(TABPREBB!$A$10:$AF$281,MATCH($B$1&ROW($A8),TABPREBB!$AH$10:$AH$281,0),COLUMN()),\"\")","v":""},{"$f":"IFERROR(INDEX(TABPREBB!$A$10:$AF$281,MATCH($B$1&ROW($A8),TABPREBB!$AH$10:$AH$281,0),COLUMN()),\"\")","v":""},{"$f":"IFERROR(INDEX(TABPREBB!$A$10:$AF$281,MATCH($B$1&ROW($A8),TABPREBB!$AH$10:$AH$281,0),COLUMN()),\"\")","v":""},{"$f":"IFERROR(INDEX(TABPREBB!$A$10:$AF$281,MATCH($B$1&ROW($A8),TABPREBB!$AH$10:$AH$281,0),COLUMN()),\"\")","v":""},{"$f":"IFERROR(INDEX(TABPREBB!$A$10:$AF$281,MATCH($B$1&ROW($A8),TABPREBB!$AH$10:$AH$281,0),COLUMN()),\"\")","v":""},{"$f":"IFERROR(INDEX(TABPREBB!$A$10:$AF$281,MATCH($B$1&ROW($A8),TABPREBB!$AH$10:$AH$281,0),COLUMN()),\"\")","v":""},{"$f":"IFERROR(INDEX(TABPREBB!$A$10:$AF$281,MATCH($B$1&ROW($A8),TABPREBB!$AH$10:$AH$281,0),COLUMN()),\"\")","v":""},{"$f":"IFERROR(INDEX(TABPREBB!$A$10:$AF$281,MATCH($B$1&ROW($A8),TABPREBB!$AH$10:$AH$281,0),COLUMN()),\"\")","v":""},{"$f":"IFERROR(INDEX(TABPREBB!$A$10:$AF$281,MATCH($B$1&ROW($A8),TABPREBB!$AH$10:$AH$281,0),COLUMN()),\"\")","v":""},{"$f":"IFERROR(INDEX(TABPREBB!$A$10:$AF$281,MATCH($B$1&ROW($A8),TABPREBB!$AH$10:$AH$281,0),COLUMN()),\"\")","v":""},{"$f":"IFERROR(INDEX(TABPREBB!$A$10:$AF$281,MATCH($B$1&ROW($A8),TABPREBB!$AH$10:$AH$281,0),COLUMN()),\"\")","v":""},{"$f":"IFERROR(INDEX(TABPREBB!$A$10:$AF$281,MATCH($B$1&ROW($A8),TABPREBB!$AH$10:$AH$281,0),COLUMN()),\"\")","v":""},{"$f":"IFERROR(INDEX(TABPREBB!$A$10:$AF$281,MATCH($B$1&ROW($A8),TABPREBB!$AH$10:$AH$281,0),COLUMN()),\"\")","v":""},{"$f":"IFERROR(INDEX(TABPREBB!$A$10:$AF$281,MATCH($B$1&ROW($A8),TABPREBB!$AH$10:$AH$281,0),COLUMN()),\"\")","v":""},{"$f":"IFERROR(INDEX(TABPREBB!$A$10:$AF$281,MATCH($B$1&ROW($A8),TABPREBB!$AH$10:$AH$281,0),COLUMN()),\"\")","v":""}]
[{"$f":"IFERROR(INDEX(TABPREBB!$A$10:$AF$281,MATCH($B$1&ROW($A9),TABPREBB!$AH$10:$AH$281,0),COLUMN()),\"\")","v":""},{"$f":"IFERROR(INDEX(TABPREBB!$A$10:$AF$281,MATCH($B$1&ROW($A9),TABPREBB!$AH$10:$AH$281,0),COLUMN()),\"\")","v":""},{"$f":"IFERROR(INDEX(TABPREBB!$A$10:$AF$281,MATCH($B$1&ROW($A9),TABPREBB!$AH$10:$AH$281,0),COLUMN()),\"\")","v":""},{"$f":"IFERROR(INDEX(TABPREBB!$A$10:$AF$281,MATCH($B$1&ROW($A9),TABPREBB!$AH$10:$AH$281,0),COLUMN()),\"\")","v":""},{"$f":"IFERROR(INDEX(TABPREBB!$A$10:$AF$281,MATCH($B$1&ROW($A9),TABPREBB!$AH$10:$AH$281,0),COLUMN()),\"\")","v":""},{"$f":"IFERROR(INDEX(TABPREBB!$A$10:$AF$281,MATCH($B$1&ROW($A9),TABPREBB!$AH$10:$AH$281,0),COLUMN()),\"\")","v":""},{"$f":"IFERROR(INDEX(TABPREBB!$A$10:$AF$281,MATCH($B$1&ROW($A9),TABPREBB!$AH$10:$AH$281,0),COLUMN()),\"\")","v":""},{"$f":"IFERROR(INDEX(TABPREBB!$A$10:$AF$281,MATCH($B$1&ROW($A9),TABPREBB!$AH$10:$AH$281,0),COLUMN()),\"\")","v":""},{"$f":"IFERROR(INDEX(TABPREBB!$A$10:$AF$281,MATCH($B$1&ROW($A9),TABPREBB!$AH$10:$AH$281,0),COLUMN()),\"\")","v":""},{"$f":"IFERROR(INDEX(TABPREBB!$A$10:$AF$281,MATCH($B$1&ROW($A9),TABPREBB!$AH$10:$AH$281,0),COLUMN()),\"\")","v":""},{"$f":"IFERROR(INDEX(TABPREBB!$A$10:$AF$281,MATCH($B$1&ROW($A9),TABPREBB!$AH$10:$AH$281,0),COLUMN()),\"\")","v":""},{"$f":"IFERROR(INDEX(TABPREBB!$A$10:$AF$281,MATCH($B$1&ROW($A9),TABPREBB!$AH$10:$AH$281,0),COLUMN()),\"\")","v":""},{"$f":"IFERROR(INDEX(TABPREBB!$A$10:$AF$281,MATCH($B$1&ROW($A9),TABPREBB!$AH$10:$AH$281,0),COLUMN()),\"\")","v":""},{"$f":"IFERROR(INDEX(TABPREBB!$A$10:$AF$281,MATCH($B$1&ROW($A9),TABPREBB!$AH$10:$AH$281,0),COLUMN()),\"\")","v":""},{"$f":"IFERROR(INDEX(TABPREBB!$A$10:$AF$281,MATCH($B$1&ROW($A9),TABPREBB!$AH$10:$AH$281,0),COLUMN()),\"\")","v":""},{"$f":"IFERROR(INDEX(TABPREBB!$A$10:$AF$281,MATCH($B$1&ROW($A9),TABPREBB!$AH$10:$AH$281,0),COLUMN()),\"\")","v":""},{"$f":"IFERROR(INDEX(TABPREBB!$A$10:$AF$281,MATCH($B$1&ROW($A9),TABPREBB!$AH$10:$AH$281,0),COLUMN()),\"\")","v":""},{"$f":"IFERROR(INDEX(TABPREBB!$A$10:$AF$281,MATCH($B$1&ROW($A9),TABPREBB!$AH$10:$AH$281,0),COLUMN()),\"\")","v":""},{"$f":"IFERROR(INDEX(TABPREBB!$A$10:$AF$281,MATCH($B$1&ROW($A9),TABPREBB!$AH$10:$AH$281,0),COLUMN()),\"\")","v":""},{"$f":"IFERROR(INDEX(TABPREBB!$A$10:$AF$281,MATCH($B$1&ROW($A9),TABPREBB!$AH$10:$AH$281,0),COLUMN()),\"\")","v":""},{"$f":"IFERROR(INDEX(TABPREBB!$A$10:$AF$281,MATCH($B$1&ROW($A9),TABPREBB!$AH$10:$AH$281,0),COLUMN()),\"\")","v":""},{"$f":"IFERROR(INDEX(TABPREBB!$A$10:$AF$281,MATCH($B$1&ROW($A9),TABPREBB!$AH$10:$AH$281,0),COLUMN()),\"\")","v":""},{"$f":"IFERROR(INDEX(TABPREBB!$A$10:$AF$281,MATCH($B$1&ROW($A9),TABPREBB!$AH$10:$AH$281,0),COLUMN()),\"\")","v":""},{"$f":"IFERROR(INDEX(TABPREBB!$A$10:$AF$281,MATCH($B$1&ROW($A9),TABPREBB!$AH$10:$AH$281,0),COLUMN()),\"\")","v":""},{"$f":"IFERROR(INDEX(TABPREBB!$A$10:$AF$281,MATCH($B$1&ROW($A9),TABPREBB!$AH$10:$AH$281,0),COLUMN()),\"\")","v":""},{"$f":"IFERROR(INDEX(TABPREBB!$A$10:$AF$281,MATCH($B$1&ROW($A9),TABPREBB!$AH$10:$AH$281,0),COLUMN()),\"\")","v":""},{"$f":"IFERROR(INDEX(TABPREBB!$A$10:$AF$281,MATCH($B$1&ROW($A9),TABPREBB!$AH$10:$AH$281,0),COLUMN()),\"\")","v":""},{"$f":"IFERROR(INDEX(TABPREBB!$A$10:$AF$281,MATCH($B$1&ROW($A9),TABPREBB!$AH$10:$AH$281,0),COLUMN()),\"\")","v":""},{"$f":"IFERROR(INDEX(TABPREBB!$A$10:$AF$281,MATCH($B$1&ROW($A9),TABPREBB!$AH$10:$AH$281,0),COLUMN()),\"\")","v":""},{"$f":"IFERROR(INDEX(TABPREBB!$A$10:$AF$281,MATCH($B$1&ROW($A9),TABPREBB!$AH$10:$AH$281,0),COLUMN()),\"\")","v":""},{"$f":"IFERROR(INDEX(TABPREBB!$A$10:$AF$281,MATCH($B$1&ROW($A9),TABPREBB!$AH$10:$AH$281,0),COLUMN()),\"\")","v":""},{"$f":"IFERROR(INDEX(TABPREBB!$A$10:$AF$281,MATCH($B$1&ROW($A9),TABPREBB!$AH$10:$AH$281,0),COLUMN()),\"\")","v":""}]
[{"$f":"IFERROR(INDEX(TABPREBB!$A$10:$AF$281,MATCH($B$1&ROW($A10),TABPREBB!$AH$10:$AH$281,0),COLUMN()),\"\")","v":""},{"$f":"IFERROR(INDEX(TABPREBB!$A$10:$AF$281,MATCH($B$1&ROW($A10),TABPREBB!$AH$10:$AH$281,0),COLUMN()),\"\")","v":""},{"$f":"IFERROR(INDEX(TABPREBB!$A$10:$AF$281,MATCH($B$1&ROW($A10),TABPREBB!$AH$10:$AH$281,0),COLUMN()),\"\")","v":""},{"$f":"IFERROR(INDEX(TABPREBB!$A$10:$AF$281,MATCH($B$1&ROW($A10),TABPREBB!$AH$10:$AH$281,0),COLUMN()),\"\")","v":""},{"$f":"IFERROR(INDEX(TABPREBB!$A$10:$AF$281,MATCH($B$1&ROW($A10),TABPREBB!$AH$10:$AH$281,0),COLUMN()),\"\")","v":""},{"$f":"IFERROR(INDEX(TABPREBB!$A$10:$AF$281,MATCH($B$1&ROW($A10),TABPREBB!$AH$10:$AH$281,0),COLUMN()),\"\")","v":""},{"$f":"IFERROR(INDEX(TABPREBB!$A$10:$AF$281,MATCH($B$1&ROW($A10),TABPREBB!$AH$10:$AH$281,0),COLUMN()),\"\")","v":""},{"$f":"IFERROR(INDEX(TABPREBB!$A$10:$AF$281,MATCH($B$1&ROW($A10),TABPREBB!$AH$10:$AH$281,0),COLUMN()),\"\")","v":""},{"$f":"IFERROR(INDEX(TABPREBB!$A$10:$AF$281,MATCH($B$1&ROW($A10),TABPREBB!$AH$10:$AH$281,0),COLUMN()),\"\")","v":""},{"$f":"IFERROR(INDEX(TABPREBB!$A$10:$AF$281,MATCH($B$1&ROW($A10),TABPREBB!$AH$10:$AH$281,0),COLUMN()),\"\")","v":""},{"$f":"IFERROR(INDEX(TABPREBB!$A$10:$AF$281,MATCH($B$1&ROW($A10),TABPREBB!$AH$10:$AH$281,0),COLUMN()),\"\")","v":""},{"$f":"IFERROR(INDEX(TABPREBB!$A$10:$AF$281,MATCH($B$1&ROW($A10),TABPREBB!$AH$10:$AH$281,0),COLUMN()),\"\")","v":""},{"$f":"IFERROR(INDEX(TABPREBB!$A$10:$AF$281,MATCH($B$1&ROW($A10),TABPREBB!$AH$10:$AH$281,0),COLUMN()),\"\")","v":""},{"$f":"IFERROR(INDEX(TABPREBB!$A$10:$AF$281,MATCH($B$1&ROW($A10),TABPREBB!$AH$10:$AH$281,0),COLUMN()),\"\")","v":""},{"$f":"IFERROR(INDEX(TABPREBB!$A$10:$AF$281,MATCH($B$1&ROW($A10),TABPREBB!$AH$10:$AH$281,0),COLUMN()),\"\")","v":""},{"$f":"IFERROR(INDEX(TABPREBB!$A$10:$AF$281,MATCH($B$1&ROW($A10),TABPREBB!$AH$10:$AH$281,0),COLUMN()),\"\")","v":""},{"$f":"IFERROR(INDEX(TABPREBB!$A$10:$AF$281,MATCH($B$1&ROW($A10),TABPREBB!$AH$10:$AH$281,0),COLUMN()),\"\")","v":""},{"$f":"IFERROR(INDEX(TABPREBB!$A$10:$AF$281,MATCH($B$1&ROW($A10),TABPREBB!$AH$10:$AH$281,0),COLUMN()),\"\")","v":""},{"$f":"IFERROR(INDEX(TABPREBB!$A$10:$AF$281,MATCH($B$1&ROW($A10),TABPREBB!$AH$10:$AH$281,0),COLUMN()),\"\")","v":""},{"$f":"IFERROR(INDEX(TABPREBB!$A$10:$AF$281,MATCH($B$1&ROW($A10),TABPREBB!$AH$10:$AH$281,0),COLUMN()),\"\")","v":""},{"$f":"IFERROR(INDEX(TABPREBB!$A$10:$AF$281,MATCH($B$1&ROW($A10),TABPREBB!$AH$10:$AH$281,0),COLUMN()),\"\")","v":""},{"$f":"IFERROR(INDEX(TABPREBB!$A$10:$AF$281,MATCH($B$1&ROW($A10),TABPREBB!$AH$10:$AH$281,0),COLUMN()),\"\")","v":""},{"$f":"IFERROR(INDEX(TABPREBB!$A$10:$AF$281,MATCH($B$1&ROW($A10),TABPREBB!$AH$10:$AH$281,0),COLUMN()),\"\")","v":""},{"$f":"IFERROR(INDEX(TABPREBB!$A$10:$AF$281,MATCH($B$1&ROW($A10),TABPREBB!$AH$10:$AH$281,0),COLUMN()),\"\")","v":""},{"$f":"IFERROR(INDEX(TABPREBB!$A$10:$AF$281,MATCH($B$1&ROW($A10),TABPREBB!$AH$10:$AH$281,0),COLUMN()),\"\")","v":""},{"$f":"IFERROR(INDEX(TABPREBB!$A$10:$AF$281,MATCH($B$1&ROW($A10),TABPREBB!$AH$10:$AH$281,0),COLUMN()),\"\")","v":""},{"$f":"IFERROR(INDEX(TABPREBB!$A$10:$AF$281,MATCH($B$1&ROW($A10),TABPREBB!$AH$10:$AH$281,0),COLUMN()),\"\")","v":""},{"$f":"IFERROR(INDEX(TABPREBB!$A$10:$AF$281,MATCH($B$1&ROW($A10),TABPREBB!$AH$10:$AH$281,0),COLUMN()),\"\")","v":""},{"$f":"IFERROR(INDEX(TABPREBB!$A$10:$AF$281,MATCH($B$1&ROW($A10),TABPREBB!$AH$10:$AH$281,0),COLUMN()),\"\")","v":""},{"$f":"IFERROR(INDEX(TABPREBB!$A$10:$AF$281,MATCH($B$1&ROW($A10),TABPREBB!$AH$10:$AH$281,0),COLUMN()),\"\")","v":""},{"$f":"IFERROR(INDEX(TABPREBB!$A$10:$AF$281,MATCH($B$1&ROW($A10),TABPREBB!$AH$10:$AH$281,0),COLUMN()),\"\")","v":""},{"$f":"IFERROR(INDEX(TABPREBB!$A$10:$AF$281,MATCH($B$1&ROW($A10),TABPREBB!$AH$10:$AH$281,0),COLUMN()),\"\")","v":""}]
[{"$f":"IFERROR(INDEX(TABPREBB!$A$10:$AF$281,MATCH($B$1&ROW($A11),TABPREBB!$AH$10:$AH$281,0),COLUMN()),\"\")","v":""},{"$f":"IFERROR(INDEX(TABPREBB!$A$10:$AF$281,MATCH($B$1&ROW($A11),TABPREBB!$AH$10:$AH$281,0),COLUMN()),\"\")","v":""},{"$f":"IFERROR(INDEX(TABPREBB!$A$10:$AF$281,MATCH($B$1&ROW($A11),TABPREBB!$AH$10:$AH$281,0),COLUMN()),\"\")","v":""},{"$f":"IFERROR(INDEX(TABPREBB!$A$10:$AF$281,MATCH($B$1&ROW($A11),TABPREBB!$AH$10:$AH$281,0),COLUMN()),\"\")","v":""},{"$f":"IFERROR(INDEX(TABPREBB!$A$10:$AF$281,MATCH($B$1&ROW($A11),TABPREBB!$AH$10:$AH$281,0),COLUMN()),\"\")","v":""},{"$f":"IFERROR(INDEX(TABPREBB!$A$10:$AF$281,MATCH($B$1&ROW($A11),TABPREBB!$AH$10:$AH$281,0),COLUMN()),\"\")","v":""},{"$f":"IFERROR(INDEX(TABPREBB!$A$10:$AF$281,MATCH($B$1&ROW($A11),TABPREBB!$AH$10:$AH$281,0),COLUMN()),\"\")","v":""},{"$f":"IFERROR(INDEX(TABPREBB!$A$10:$AF$281,MATCH($B$1&ROW($A11),TABPREBB!$AH$10:$AH$281,0),COLUMN()),\"\")","v":""},{"$f":"IFERROR(INDEX(TABPREBB!$A$10:$AF$281,MATCH($B$1&ROW($A11),TABPREBB!$AH$10:$AH$281,0),COLUMN()),\"\")","v":""},{"$f":"IFERROR(INDEX(TABPREBB!$A$10:$AF$281,MATCH($B$1&ROW($A11),TABPREBB!$AH$10:$AH$281,0),COLUMN()),\"\")","v":""},{"$f":"IFERROR(INDEX(TABPREBB!$A$10:$AF$281,MATCH($B$1&ROW($A11),TABPREBB!$AH$10:$AH$281,0),COLUMN()),\"\")","v":""},{"$f":"IFERROR(INDEX(TABPREBB!$A$10:$AF$281,MATCH($B$1&ROW($A11),TABPREBB!$AH$10:$AH$281,0),COLUMN()),\"\")","v":""},{"$f":"IFERROR(INDEX(TABPREBB!$A$10:$AF$281,MATCH($B$1&ROW($A11),TABPREBB!$AH$10:$AH$281,0),COLUMN()),\"\")","v":""},{"$f":"IFERROR(INDEX(TABPREBB!$A$10:$AF$281,MATCH($B$1&ROW($A11),TABPREBB!$AH$10:$AH$281,0),COLUMN()),\"\")","v":""},{"$f":"IFERROR(INDEX(TABPREBB!$A$10:$AF$281,MATCH($B$1&ROW($A11),TABPREBB!$AH$10:$AH$281,0),COLUMN()),\"\")","v":""},{"$f":"IFERROR(INDEX(TABPREBB!$A$10:$AF$281,MATCH($B$1&ROW($A11),TABPREBB!$AH$10:$AH$281,0),COLUMN()),\"\")","v":""},{"$f":"IFERROR(INDEX(TABPREBB!$A$10:$AF$281,MATCH($B$1&ROW($A11),TABPREBB!$AH$10:$AH$281,0),COLUMN()),\"\")","v":""},{"$f":"IFERROR(INDEX(TABPREBB!$A$10:$AF$281,MATCH($B$1&ROW($A11),TABPREBB!$AH$10:$AH$281,0),COLUMN()),\"\")","v":""},{"$f":"IFERROR(INDEX(TABPREBB!$A$10:$AF$281,MATCH($B$1&ROW($A11),TABPREBB!$AH$10:$AH$281,0),COLUMN()),\"\")","v":""},{"$f":"IFERROR(INDEX(TABPREBB!$A$10:$AF$281,MATCH($B$1&ROW($A11),TABPREBB!$AH$10:$AH$281,0),COLUMN()),\"\")","v":""},{"$f":"IFERROR(INDEX(TABPREBB!$A$10:$AF$281,MATCH($B$1&ROW($A11),TABPREBB!$AH$10:$AH$281,0),COLUMN()),\"\")","v":""},{"$f":"IFERROR(INDEX(TABPREBB!$A$10:$AF$281,MATCH($B$1&ROW($A11),TABPREBB!$AH$10:$AH$281,0),COLUMN()),\"\")","v":""},{"$f":"IFERROR(INDEX(TABPREBB!$A$10:$AF$281,MATCH($B$1&ROW($A11),TABPREBB!$AH$10:$AH$281,0),COLUMN()),\"\")","v":""},{"$f":"IFERROR(INDEX(TABPREBB!$A$10:$AF$281,MATCH($B$1&ROW($A11),TABPREBB!$AH$10:$AH$281,0),COLUMN()),\"\")","v":""},{"$f":"IFERROR(INDEX(TABPREBB!$A$10:$AF$281,MATCH($B$1&ROW($A11),TABPREBB!$AH$10:$AH$281,0),COLUMN()),\"\")","v":""},{"$f":"IFERROR(INDEX(TABPREBB!$A$10:$AF$281,MATCH($B$1&ROW($A11),TABPREBB!$AH$10:$AH$281,0),COLUMN()),\"\")","v":""},{"$f":"IFERROR(INDEX(TABPREBB!$A$10:$AF$281,MATCH($B$1&ROW($A11),TABPREBB!$AH$10:$AH$281,0),COLUMN()),\"\")","v":""},{"$f":"IFERROR(INDEX(TABPREBB!$A$10:$AF$281,MATCH($B$1&ROW($A11),TABPREBB!$AH$10:$AH$281,0),COLUMN()),\"\")","v":""},{"$f":"IFERROR(INDEX(TABPREBB!$A$10:$AF$281,MATCH($B$1&ROW($A11),TABPREBB!$AH$10:$AH$281,0),COLUMN()),\"\")","v":""},{"$f":"IFERROR(INDEX(TABPREBB!$A$10:$AF$281,MATCH($B$1&ROW($A11),TABPREBB!$AH$10:$AH$281,0),COLUMN()),\"\")","v":""},{"$f":"IFERROR(INDEX(TABPREBB!$A$10:$AF$281,MATCH($B$1&ROW($A11),TABPREBB!$AH$10:$AH$281,0),COLUMN()),\"\")","v":""},{"$f":"IFERROR(INDEX(TABPREBB!$A$10:$AF$281,MATCH($B$1&ROW($A11),TABPREBB!$AH$10:$AH$281,0),COLUMN()),\"\")","v":""}]
[{"$f":"IFERROR(INDEX(TABPREBB!$A$10:$AF$281,MATCH($B$1&ROW($A12),TABPREBB!$AH$10:$AH$281,0),COLUMN()),\"\")","v":""},{"$f":"IFERROR(INDEX(TABPREBB!$A$10:$AF$281,MATCH($B$1&ROW($A12),TABPREBB!$AH$10:$AH$281,0),COLUMN()),\"\")","v":""},{"$f":"IFERROR(INDEX(TABPREBB!$A$10:$AF$281,MATCH($B$1&ROW($A12),TABPREBB!$AH$10:$AH$281,0),COLUMN()),\"\")","v":""},{"$f":"IFERROR(INDEX(TABPREBB!$A$10:$AF$281,MATCH($B$1&ROW($A12),TABPREBB!$AH$10:$AH$281,0),COLUMN()),\"\")","v":""},{"$f":"IFERROR(INDEX(TABPREBB!$A$10:$AF$281,MATCH($B$1&ROW($A12),TABPREBB!$AH$10:$AH$281,0),COLUMN()),\"\")","v":""},{"$f":"IFERROR(INDEX(TABPREBB!$A$10:$AF$281,MATCH($B$1&ROW($A12),TABPREBB!$AH$10:$AH$281,0),COLUMN()),\"\")","v":""},{"$f":"IFERROR(INDEX(TABPREBB!$A$10:$AF$281,MATCH($B$1&ROW($A12),TABPREBB!$AH$10:$AH$281,0),COLUMN()),\"\")","v":""},{"$f":"IFERROR(INDEX(TABPREBB!$A$10:$AF$281,MATCH($B$1&ROW($A12),TABPREBB!$AH$10:$AH$281,0),COLUMN()),\"\")","v":""},{"$f":"IFERROR(INDEX(TABPREBB!$A$10:$AF$281,MATCH($B$1&ROW($A12),TABPREBB!$AH$10:$AH$281,0),COLUMN()),\"\")","v":""},{"$f":"IFERROR(INDEX(TABPREBB!$A$10:$AF$281,MATCH($B$1&ROW($A12),TABPREBB!$AH$10:$AH$281,0),COLUMN()),\"\")","v":""},{"$f":"IFERROR(INDEX(TABPREBB!$A$10:$AF$281,MATCH($B$1&ROW($A12),TABPREBB!$AH$10:$AH$281,0),COLUMN()),\"\")","v":""},{"$f":"IFERROR(INDEX(TABPREBB!$A$10:$AF$281,MATCH($B$1&ROW($A12),TABPREBB!$AH$10:$AH$281,0),COLUMN()),\"\")","v":""},{"$f":"IFERROR(INDEX(TABPREBB!$A$10:$AF$281,MATCH($B$1&ROW($A12),TABPREBB!$AH$10:$AH$281,0),COLUMN()),\"\")","v":""},{"$f":"IFERROR(INDEX(TABPREBB!$A$10:$AF$281,MATCH($B$1&ROW($A12),TABPREBB!$AH$10:$AH$281,0),COLUMN()),\"\")","v":""},{"$f":"IFERROR(INDEX(TABPREBB!$A$10:$AF$281,MATCH($B$1&ROW($A12),TABPREBB!$AH$10:$AH$281,0),COLUMN()),\"\")","v":""},{"$f":"IFERROR(INDEX(TABPREBB!$A$10:$AF$281,MATCH($B$1&ROW($A12),TABPREBB!$AH$10:$AH$281,0),COLUMN()),\"\")","v":""},{"$f":"IFERROR(INDEX(TABPREBB!$A$10:$AF$281,MATCH($B$1&ROW($A12),TABPREBB!$AH$10:$AH$281,0),COLUMN()),\"\")","v":""},{"$f":"IFERROR(INDEX(TABPREBB!$A$10:$AF$281,MATCH($B$1&ROW($A12),TABPREBB!$AH$10:$AH$281,0),COLUMN()),\"\")","v":""},{"$f":"IFERROR(INDEX(TABPREBB!$A$10:$AF$281,MATCH($B$1&ROW($A12),TABPREBB!$AH$10:$AH$281,0),COLUMN()),\"\")","v":""},{"$f":"IFERROR(INDEX(TABPREBB!$A$10:$AF$281,MATCH($B$1&ROW($A12),TABPREBB!$AH$10:$AH$281,0),COLUMN()),\"\")","v":""},{"$f":"IFERROR(INDEX(TABPREBB!$A$10:$AF$281,MATCH($B$1&ROW($A12),TABPREBB!$AH$10:$AH$281,0),COLUMN()),\"\")","v":""},{"$f":"IFERROR(INDEX(TABPREBB!$A$10:$AF$281,MATCH($B$1&ROW($A12),TABPREBB!$AH$10:$AH$281,0),COLUMN()),\"\")","v":""},{"$f":"IFERROR(INDEX(TABPREBB!$A$10:$AF$281,MATCH($B$1&ROW($A12),TABPREBB!$AH$10:$AH$281,0),COLUMN()),\"\")","v":""},{"$f":"IFERROR(INDEX(TABPREBB!$A$10:$AF$281,MATCH($B$1&ROW($A12),TABPREBB!$AH$10:$AH$281,0),COLUMN()),\"\")","v":""},{"$f":"IFERROR(INDEX(TABPREBB!$A$10:$AF$281,MATCH($B$1&ROW($A12),TABPREBB!$AH$10:$AH$281,0),COLUMN()),\"\")","v":""},{"$f":"IFERROR(INDEX(TABPREBB!$A$10:$AF$281,MATCH($B$1&ROW($A12),TABPREBB!$AH$10:$AH$281,0),COLUMN()),\"\")","v":""},{"$f":"IFERROR(INDEX(TABPREBB!$A$10:$AF$281,MATCH($B$1&ROW($A12),TABPREBB!$AH$10:$AH$281,0),COLUMN()),\"\")","v":""},{"$f":"IFERROR(INDEX(TABPREBB!$A$10:$AF$281,MATCH($B$1&ROW($A12),TABPREBB!$AH$10:$AH$281,0),COLUMN()),\"\")","v":""},{"$f":"IFERROR(INDEX(TABPREBB!$A$10:$AF$281,MATCH($B$1&ROW($A12),TABPREBB!$AH$10:$AH$281,0),COLUMN()),\"\")","v":""},{"$f":"IFERROR(INDEX(TABPREBB!$A$10:$AF$281,MATCH($B$1&ROW($A12),TABPREBB!$AH$10:$AH$281,0),COLUMN()),\"\")","v":""},{"$f":"IFERROR(INDEX(TABPREBB!$A$10:$AF$281,MATCH($B$1&ROW($A12),TABPREBB!$AH$10:$AH$281,0),COLUMN()),\"\")","v":""},{"$f":"IFERROR(INDEX(TABPREBB!$A$10:$AF$281,MATCH($B$1&ROW($A12),TABPREBB!$AH$10:$AH$281,0),COLUMN()),\"\")","v":""}]
[{"$f":"IFERROR(INDEX(TABPREBB!$A$10:$AF$281,MATCH($B$1&ROW($A13),TABPREBB!$AH$10:$AH$281,0),COLUMN()),\"\")","v":""},{"$f":"IFERROR(INDEX(TABPREBB!$A$10:$AF$281,MATCH($B$1&ROW($A13),TABPREBB!$AH$10:$AH$281,0),COLUMN()),\"\")","v":""},{"$f":"IFERROR(INDEX(TABPREBB!$A$10:$AF$281,MATCH($B$1&ROW($A13),TABPREBB!$AH$10:$AH$281,0),COLUMN()),\"\")","v":""},{"$f":"IFERROR(INDEX(TABPREBB!$A$10:$AF$281,MATCH($B$1&ROW($A13),TABPREBB!$AH$10:$AH$281,0),COLUMN()),\"\")","v":""},{"$f":"IFERROR(INDEX(TABPREBB!$A$10:$AF$281,MATCH($B$1&ROW($A13),TABPREBB!$AH$10:$AH$281,0),COLUMN()),\"\")","v":""},{"$f":"IFERROR(INDEX(TABPREBB!$A$10:$AF$281,MATCH($B$1&ROW($A13),TABPREBB!$AH$10:$AH$281,0),COLUMN()),\"\")","v":""},{"$f":"IFERROR(INDEX(TABPREBB!$A$10:$AF$281,MATCH($B$1&ROW($A13),TABPREBB!$AH$10:$AH$281,0),COLUMN()),\"\")","v":""},{"$f":"IFERROR(INDEX(TABPREBB!$A$10:$AF$281,MATCH($B$1&ROW($A13),TABPREBB!$AH$10:$AH$281,0),COLUMN()),\"\")","v":""},{"$f":"IFERROR(INDEX(TABPREBB!$A$10:$AF$281,MATCH($B$1&ROW($A13),TABPREBB!$AH$10:$AH$281,0),COLUMN()),\"\")","v":""},{"$f":"IFERROR(INDEX(TABPREBB!$A$10:$AF$281,MATCH($B$1&ROW($A13),TABPREBB!$AH$10:$AH$281,0),COLUMN()),\"\")","v":""},{"$f":"IFERROR(INDEX(TABPREBB!$A$10:$AF$281,MATCH($B$1&ROW($A13),TABPREBB!$AH$10:$AH$281,0),COLUMN()),\"\")","v":""},{"$f":"IFERROR(INDEX(TABPREBB!$A$10:$AF$281,MATCH($B$1&ROW($A13),TABPREBB!$AH$10:$AH$281,0),COLUMN()),\"\")","v":""},{"$f":"IFERROR(INDEX(TABPREBB!$A$10:$AF$281,MATCH($B$1&ROW($A13),TABPREBB!$AH$10:$AH$281,0),COLUMN()),\"\")","v":""},{"$f":"IFERROR(INDEX(TABPREBB!$A$10:$AF$281,MATCH($B$1&ROW($A13),TABPREBB!$AH$10:$AH$281,0),COLUMN()),\"\")","v":""},{"$f":"IFERROR(INDEX(TABPREBB!$A$10:$AF$281,MATCH($B$1&ROW($A13),TABPREBB!$AH$10:$AH$281,0),COLUMN()),\"\")","v":""},{"$f":"IFERROR(INDEX(TABPREBB!$A$10:$AF$281,MATCH($B$1&ROW($A13),TABPREBB!$AH$10:$AH$281,0),COLUMN()),\"\")","v":""},{"$f":"IFERROR(INDEX(TABPREBB!$A$10:$AF$281,MATCH($B$1&ROW($A13),TABPREBB!$AH$10:$AH$281,0),COLUMN()),\"\")","v":""},{"$f":"IFERROR(INDEX(TABPREBB!$A$10:$AF$281,MATCH($B$1&ROW($A13),TABPREBB!$AH$10:$AH$281,0),COLUMN()),\"\")","v":""},{"$f":"IFERROR(INDEX(TABPREBB!$A$10:$AF$281,MATCH($B$1&ROW($A13),TABPREBB!$AH$10:$AH$281,0),COLUMN()),\"\")","v":""},{"$f":"IFERROR(INDEX(TABPREBB!$A$10:$AF$281,MATCH($B$1&ROW($A13),TABPREBB!$AH$10:$AH$281,0),COLUMN()),\"\")","v":""},{"$f":"IFERROR(INDEX(TABPREBB!$A$10:$AF$281,MATCH($B$1&ROW($A13),TABPREBB!$AH$10:$AH$281,0),COLUMN()),\"\")","v":""},{"$f":"IFERROR(INDEX(TABPREBB!$A$10:$AF$281,MATCH($B$1&ROW($A13),TABPREBB!$AH$10:$AH$281,0),COLUMN()),\"\")","v":""},{"$f":"IFERROR(INDEX(TABPREBB!$A$10:$AF$281,MATCH($B$1&ROW($A13),TABPREBB!$AH$10:$AH$281,0),COLUMN()),\"\")","v":""},{"$f":"IFERROR(INDEX(TABPREBB!$A$10:$AF$281,MATCH($B$1&ROW($A13),TABPREBB!$AH$10:$AH$281,0),COLUMN()),\"\")","v":""},{"$f":"IFERROR(INDEX(TABPREBB!$A$10:$AF$281,MATCH($B$1&ROW($A13),TABPREBB!$AH$10:$AH$281,0),COLUMN()),\"\")","v":""},{"$f":"IFERROR(INDEX(TABPREBB!$A$10:$AF$281,MATCH($B$1&ROW($A13),TABPREBB!$AH$10:$AH$281,0),COLUMN()),\"\")","v":""},{"$f":"IFERROR(INDEX(TABPREBB!$A$10:$AF$281,MATCH($B$1&ROW($A13),TABPREBB!$AH$10:$AH$281,0),COLUMN()),\"\")","v":""},{"$f":"IFERROR(INDEX(TABPREBB!$A$10:$AF$281,MATCH($B$1&ROW($A13),TABPREBB!$AH$10:$AH$281,0),COLUMN()),\"\")","v":""},{"$f":"IFERROR(INDEX(TABPREBB!$A$10:$AF$281,MATCH($B$1&ROW($A13),TABPREBB!$AH$10:$AH$281,0),COLUMN()),\"\")","v":""},{"$f":"IFERROR(INDEX(TABPREBB!$A$10:$AF$281,MATCH($B$1&ROW($A13),TABPREBB!$AH$10:$AH$281,0),COLUMN()),\"\")","v":""},{"$f":"IFERROR(INDEX(TABPREBB!$A$10:$AF$281,MATCH($B$1&ROW($A13),TABPREBB!$AH$10:$AH$281,0),COLUMN()),\"\")","v":""},{"$f":"IFERROR(INDEX(TABPREBB!$A$10:$AF$281,MATCH($B$1&ROW($A13),TABPREBB!$AH$10:$AH$281,0),COLUMN()),\"\")","v":""}]
[{"$f":"IFERROR(INDEX(TABPREBB!$A$10:$AF$281,MATCH($B$1&ROW($A14),TABPREBB!$AH$10:$AH$281,0),COLUMN()),\"\")","v":""},{"$f":"IFERROR(INDEX(TABPREBB!$A$10:$AF$281,MATCH($B$1&ROW($A14),TABPREBB!$AH$10:$AH$281,0),COLUMN()),\"\")","v":""},{"$f":"IFERROR(INDEX(TABPREBB!$A$10:$AF$281,MATCH($B$1&ROW($A14),TABPREBB!$AH$10:$AH$281,0),COLUMN()),\"\")","v":""},{"$f":"IFERROR(INDEX(TABPREBB!$A$10:$AF$281,MATCH($B$1&ROW($A14),TABPREBB!$AH$10:$AH$281,0),COLUMN()),\"\")","v":""},{"$f":"IFERROR(INDEX(TABPREBB!$A$10:$AF$281,MATCH($B$1&ROW($A14),TABPREBB!$AH$10:$AH$281,0),COLUMN()),\"\")","v":""},{"$f":"IFERROR(INDEX(TABPREBB!$A$10:$AF$281,MATCH($B$1&ROW($A14),TABPREBB!$AH$10:$AH$281,0),COLUMN()),\"\")","v":""},{"$f":"IFERROR(INDEX(TABPREBB!$A$10:$AF$281,MATCH($B$1&ROW($A14),TABPREBB!$AH$10:$AH$281,0),COLUMN()),\"\")","v":""},{"$f":"IFERROR(INDEX(TABPREBB!$A$10:$AF$281,MATCH($B$1&ROW($A14),TABPREBB!$AH$10:$AH$281,0),COLUMN()),\"\")","v":""},{"$f":"IFERROR(INDEX(TABPREBB!$A$10:$AF$281,MATCH($B$1&ROW($A14),TABPREBB!$AH$10:$AH$281,0),COLUMN()),\"\")","v":""},{"$f":"IFERROR(INDEX(TABPREBB!$A$10:$AF$281,MATCH($B$1&ROW($A14),TABPREBB!$AH$10:$AH$281,0),COLUMN()),\"\")","v":""},{"$f":"IFERROR(INDEX(TABPREBB!$A$10:$AF$281,MATCH($B$1&ROW($A14),TABPREBB!$AH$10:$AH$281,0),COLUMN()),\"\")","v":""},{"$f":"IFERROR(INDEX(TABPREBB!$A$10:$AF$281,MATCH($B$1&ROW($A14),TABPREBB!$AH$10:$AH$281,0),COLUMN()),\"\")","v":""},{"$f":"IFERROR(INDEX(TABPREBB!$A$10:$AF$281,MATCH($B$1&ROW($A14),TABPREBB!$AH$10:$AH$281,0),COLUMN()),\"\")","v":""},{"$f":"IFERROR(INDEX(TABPREBB!$A$10:$AF$281,MATCH($B$1&ROW($A14),TABPREBB!$AH$10:$AH$281,0),COLUMN()),\"\")","v":""},{"$f":"IFERROR(INDEX(TABPREBB!$A$10:$AF$281,MATCH($B$1&ROW($A14),TABPREBB!$AH$10:$AH$281,0),COLUMN()),\"\")","v":""},{"$f":"IFERROR(INDEX(TABPREBB!$A$10:$AF$281,MATCH($B$1&ROW($A14),TABPREBB!$AH$10:$AH$281,0),COLUMN()),\"\")","v":""},{"$f":"IFERROR(INDEX(TABPREBB!$A$10:$AF$281,MATCH($B$1&ROW($A14),TABPREBB!$AH$10:$AH$281,0),COLUMN()),\"\")","v":""},{"$f":"IFERROR(INDEX(TABPREBB!$A$10:$AF$281,MATCH($B$1&ROW($A14),TABPREBB!$AH$10:$AH$281,0),COLUMN()),\"\")","v":""},{"$f":"IFERROR(INDEX(TABPREBB!$A$10:$AF$281,MATCH($B$1&ROW($A14),TABPREBB!$AH$10:$AH$281,0),COLUMN()),\"\")","v":""},{"$f":"IFERROR(INDEX(TABPREBB!$A$10:$AF$281,MATCH($B$1&ROW($A14),TABPREBB!$AH$10:$AH$281,0),COLUMN()),\"\")","v":""},{"$f":"IFERROR(INDEX(TABPREBB!$A$10:$AF$281,MATCH($B$1&ROW($A14),TABPREBB!$AH$10:$AH$281,0),COLUMN()),\"\")","v":""},{"$f":"IFERROR(INDEX(TABPREBB!$A$10:$AF$281,MATCH($B$1&ROW($A14),TABPREBB!$AH$10:$AH$281,0),COLUMN()),\"\")","v":""},{"$f":"IFERROR(INDEX(TABPREBB!$A$10:$AF$281,MATCH($B$1&ROW($A14),TABPREBB!$AH$10:$AH$281,0),COLUMN()),\"\")","v":""},{"$f":"IFERROR(INDEX(TABPREBB!$A$10:$AF$281,MATCH($B$1&ROW($A14),TABPREBB!$AH$10:$AH$281,0),COLUMN()),\"\")","v":""},{"$f":"IFERROR(INDEX(TABPREBB!$A$10:$AF$281,MATCH($B$1&ROW($A14),TABPREBB!$AH$10:$AH$281,0),COLUMN()),\"\")","v":""},{"$f":"IFERROR(INDEX(TABPREBB!$A$10:$AF$281,MATCH($B$1&ROW($A14),TABPREBB!$AH$10:$AH$281,0),COLUMN()),\"\")","v":""},{"$f":"IFERROR(INDEX(TABPREBB!$A$10:$AF$281,MATCH($B$1&ROW($A14),TABPREBB!$AH$10:$AH$281,0),COLUMN()),\"\")","v":""},{"$f":"IFERROR(INDEX(TABPREBB!$A$10:$AF$281,MATCH($B$1&ROW($A14),TABPREBB!$AH$10:$AH$281,0),COLUMN()),\"\")","v":""},{"$f":"IFERROR(INDEX(TABPREBB!$A$10:$AF$281,MATCH($B$1&ROW($A14),TABPREBB!$AH$10:$AH$281,0),COLUMN()),\"\")","v":""},{"$f":"IFERROR(INDEX(TABPREBB!$A$10:$AF$281,MATCH($B$1&ROW($A14),TABPREBB!$AH$10:$AH$281,0),COLUMN()),\"\")","v":""},{"$f":"IFERROR(INDEX(TABPREBB!$A$10:$AF$281,MATCH($B$1&ROW($A14),TABPREBB!$AH$10:$AH$281,0),COLUMN()),\"\")","v":""},{"$f":"IFERROR(INDEX(TABPREBB!$A$10:$AF$281,MATCH($B$1&ROW($A14),TABPREBB!$AH$10:$AH$281,0),COLUMN()),\"\")","v":""}]
[{"$f":"IFERROR(INDEX(TABPREBB!$A$10:$AF$281,MATCH($B$1&ROW($A15),TABPREBB!$AH$10:$AH$281,0),COLUMN()),\"\")","v":""},{"$f":"IFERROR(INDEX(TABPREBB!$A$10:$AF$281,MATCH($B$1&ROW($A15),TABPREBB!$AH$10:$AH$281,0),COLUMN()),\"\")","v":""},{"$f":"IFERROR(INDEX(TABPREBB!$A$10:$AF$281,MATCH($B$1&ROW($A15),TABPREBB!$AH$10:$AH$281,0),COLUMN()),\"\")","v":""},{"$f":"IFERROR(INDEX(TABPREBB!$A$10:$AF$281,MATCH($B$1&ROW($A15),TABPREBB!$AH$10:$AH$281,0),COLUMN()),\"\")","v":""},{"$f":"IFERROR(INDEX(TABPREBB!$A$10:$AF$281,MATCH($B$1&ROW($A15),TABPREBB!$AH$10:$AH$281,0),COLUMN()),\"\")","v":""},{"$f":"IFERROR(INDEX(TABPREBB!$A$10:$AF$281,MATCH($B$1&ROW($A15),TABPREBB!$AH$10:$AH$281,0),COLUMN()),\"\")","v":""},{"$f":"IFERROR(INDEX(TABPREBB!$A$10:$AF$281,MATCH($B$1&ROW($A15),TABPREBB!$AH$10:$AH$281,0),COLUMN()),\"\")","v":""},{"$f":"IFERROR(INDEX(TABPREBB!$A$10:$AF$281,MATCH($B$1&ROW($A15),TABPREBB!$AH$10:$AH$281,0),COLUMN()),\"\")","v":""},{"$f":"IFERROR(INDEX(TABPREBB!$A$10:$AF$281,MATCH($B$1&ROW($A15),TABPREBB!$AH$10:$AH$281,0),COLUMN()),\"\")","v":""},{"$f":"IFERROR(INDEX(TABPREBB!$A$10:$AF$281,MATCH($B$1&ROW($A15),TABPREBB!$AH$10:$AH$281,0),COLUMN()),\"\")","v":""},{"$f":"IFERROR(INDEX(TABPREBB!$A$10:$AF$281,MATCH($B$1&ROW($A15),TABPREBB!$AH$10:$AH$281,0),COLUMN()),\"\")","v":""},{"$f":"IFERROR(INDEX(TABPREBB!$A$10:$AF$281,MATCH($B$1&ROW($A15),TABPREBB!$AH$10:$AH$281,0),COLUMN()),\"\")","v":""},{"$f":"IFERROR(INDEX(TABPREBB!$A$10:$AF$281,MATCH($B$1&ROW($A15),TABPREBB!$AH$10:$AH$281,0),COLUMN()),\"\")","v":""},{"$f":"IFERROR(INDEX(TABPREBB!$A$10:$AF$281,MATCH($B$1&ROW($A15),TABPREBB!$AH$10:$AH$281,0),COLUMN()),\"\")","v":""},{"$f":"IFERROR(INDEX(TABPREBB!$A$10:$AF$281,MATCH($B$1&ROW($A15),TABPREBB!$AH$10:$AH$281,0),COLUMN()),\"\")","v":""},{"$f":"IFERROR(INDEX(TABPREBB!$A$10:$AF$281,MATCH($B$1&ROW($A15),TABPREBB!$AH$10:$AH$281,0),COLUMN()),\"\")","v":""},{"$f":"IFERROR(INDEX(TABPREBB!$A$10:$AF$281,MATCH($B$1&ROW($A15),TABPREBB!$AH$10:$AH$281,0),COLUMN()),\"\")","v":""},{"$f":"IFERROR(INDEX(TABPREBB!$A$10:$AF$281,MATCH($B$1&ROW($A15),TABPREBB!$AH$10:$AH$281,0),COLUMN()),\"\")","v":""},{"$f":"IFERROR(INDEX(TABPREBB!$A$10:$AF$281,MATCH($B$1&ROW($A15),TABPREBB!$AH$10:$AH$281,0),COLUMN()),\"\")","v":""},{"$f":"IFERROR(INDEX(TABPREBB!$A$10:$AF$281,MATCH($B$1&ROW($A15),TABPREBB!$AH$10:$AH$281,0),COLUMN()),\"\")","v":""},{"$f":"IFERROR(INDEX(TABPREBB!$A$10:$AF$281,MATCH($B$1&ROW($A15),TABPREBB!$AH$10:$AH$281,0),COLUMN()),\"\")","v":""},{"$f":"IFERROR(INDEX(TABPREBB!$A$10:$AF$281,MATCH($B$1&ROW($A15),TABPREBB!$AH$10:$AH$281,0),COLUMN()),\"\")","v":""},{"$f":"IFERROR(INDEX(TABPREBB!$A$10:$AF$281,MATCH($B$1&ROW($A15),TABPREBB!$AH$10:$AH$281,0),COLUMN()),\"\")","v":""},{"$f":"IFERROR(INDEX(TABPREBB!$A$10:$AF$281,MATCH($B$1&ROW($A15),TABPREBB!$AH$10:$AH$281,0),COLUMN()),\"\")","v":""},{"$f":"IFERROR(INDEX(TABPREBB!$A$10:$AF$281,MATCH($B$1&ROW($A15),TABPREBB!$AH$10:$AH$281,0),COLUMN()),\"\")","v":""},{"$f":"IFERROR(INDEX(TABPREBB!$A$10:$AF$281,MATCH($B$1&ROW($A15),TABPREBB!$AH$10:$AH$281,0),COLUMN()),\"\")","v":""},{"$f":"IFERROR(INDEX(TABPREBB!$A$10:$AF$281,MATCH($B$1&ROW($A15),TABPREBB!$AH$10:$AH$281,0),COLUMN()),\"\")","v":""},{"$f":"IFERROR(INDEX(TABPREBB!$A$10:$AF$281,MATCH($B$1&ROW($A15),TABPREBB!$AH$10:$AH$281,0),COLUMN()),\"\")","v":""},{"$f":"IFERROR(INDEX(TABPREBB!$A$10:$AF$281,MATCH($B$1&ROW($A15),TABPREBB!$AH$10:$AH$281,0),COLUMN()),\"\")","v":""},{"$f":"IFERROR(INDEX(TABPREBB!$A$10:$AF$281,MATCH($B$1&ROW($A15),TABPREBB!$AH$10:$AH$281,0),COLUMN()),\"\")","v":""},{"$f":"IFERROR(INDEX(TABPREBB!$A$10:$AF$281,MATCH($B$1&ROW($A15),TABPREBB!$AH$10:$AH$281,0),COLUMN()),\"\")","v":""},{"$f":"IFERROR(INDEX(TABPREBB!$A$10:$AF$281,MATCH($B$1&ROW($A15),TABPREBB!$AH$10:$AH$281,0),COLUMN()),\"\")","v":""}]
[{"$f":"IFERROR(INDEX(TABPREBB!$A$10:$AF$281,MATCH($B$1&ROW($A16),TABPREBB!$AH$10:$AH$281,0),COLUMN()),\"\")","v":""},{"$f":"IFERROR(INDEX(TABPREBB!$A$10:$AF$281,MATCH($B$1&ROW($A16),TABPREBB!$AH$10:$AH$281,0),COLUMN()),\"\")","v":""},{"$f":"IFERROR(INDEX(TABPREBB!$A$10:$AF$281,MATCH($B$1&ROW($A16),TABPREBB!$AH$10:$AH$281,0),COLUMN()),\"\")","v":""},{"$f":"IFERROR(INDEX(TABPREBB!$A$10:$AF$281,MATCH($B$1&ROW($A16),TABPREBB!$AH$10:$AH$281,0),COLUMN()),\"\")","v":""},{"$f":"IFERROR(INDEX(TABPREBB!$A$10:$AF$281,MATCH($B$1&ROW($A16),TABPREBB!$AH$10:$AH$281,0),COLUMN()),\"\")","v":""},{"$f":"IFERROR(INDEX(TABPREBB!$A$10:$AF$281,MATCH($B$1&ROW($A16),TABPREBB!$AH$10:$AH$281,0),COLUMN()),\"\")","v":""},{"$f":"IFERROR(INDEX(TABPREBB!$A$10:$AF$281,MATCH($B$1&ROW($A16),TABPREBB!$AH$10:$AH$281,0),COLUMN()),\"\")","v":""},{"$f":"IFERROR(INDEX(TABPREBB!$A$10:$AF$281,MATCH($B$1&ROW($A16),TABPREBB!$AH$10:$AH$281,0),COLUMN()),\"\")","v":""},{"$f":"IFERROR(INDEX(TABPREBB!$A$10:$AF$281,MATCH($B$1&ROW($A16),TABPREBB!$AH$10:$AH$281,0),COLUMN()),\"\")","v":""},{"$f":"IFERROR(INDEX(TABPREBB!$A$10:$AF$281,MATCH($B$1&ROW($A16),TABPREBB!$AH$10:$AH$281,0),COLUMN()),\"\")","v":""},{"$f":"IFERROR(INDEX(TABPREBB!$A$10:$AF$281,MATCH($B$1&ROW($A16),TABPREBB!$AH$10:$AH$281,0),COLUMN()),\"\")","v":""},{"$f":"IFERROR(INDEX(TABPREBB!$A$10:$AF$281,MATCH($B$1&ROW($A16),TABPREBB!$AH$10:$AH$281,0),COLUMN()),\"\")","v":""},{"$f":"IFERROR(INDEX(TABPREBB!$A$10:$AF$281,MATCH($B$1&ROW($A16),TABPREBB!$AH$10:$AH$281,0),COLUMN()),\"\")","v":""},{"$f":"IFERROR(INDEX(TABPREBB!$A$10:$AF$281,MATCH($B$1&ROW($A16),TABPREBB!$AH$10:$AH$281,0),COLUMN()),\"\")","v":""},{"$f":"IFERROR(INDEX(TABPREBB!$A$10:$AF$281,MATCH($B$1&ROW($A16),TABPREBB!$AH$10:$AH$281,0),COLUMN()),\"\")","v":""},{"$f":"IFERROR(INDEX(TABPREBB!$A$10:$AF$281,MATCH($B$1&ROW($A16),TABPREBB!$AH$10:$AH$281,0),COLUMN()),\"\")","v":""},{"$f":"IFERROR(INDEX(TABPREBB!$A$10:$AF$281,MATCH($B$1&ROW($A16),TABPREBB!$AH$10:$AH$281,0),COLUMN()),\"\")","v":""},{"$f":"IFERROR(INDEX(TABPREBB!$A$10:$AF$281,MATCH($B$1&ROW($A16),TABPREBB!$AH$10:$AH$281,0),COLUMN()),\"\")","v":""},{"$f":"IFERROR(INDEX(TABPREBB!$A$10:$AF$281,MATCH($B$1&ROW($A16),TABPREBB!$AH$10:$AH$281,0),COLUMN()),\"\")","v":""},{"$f":"IFERROR(INDEX(TABPREBB!$A$10:$AF$281,MATCH($B$1&ROW($A16),TABPREBB!$AH$10:$AH$281,0),COLUMN()),\"\")","v":""},{"$f":"IFERROR(INDEX(TABPREBB!$A$10:$AF$281,MATCH($B$1&ROW($A16),TABPREBB!$AH$10:$AH$281,0),COLUMN()),\"\")","v":""},{"$f":"IFERROR(INDEX(TABPREBB!$A$10:$AF$281,MATCH($B$1&ROW($A16),TABPREBB!$AH$10:$AH$281,0),COLUMN()),\"\")","v":""},{"$f":"IFERROR(INDEX(TABPREBB!$A$10:$AF$281,MATCH($B$1&ROW($A16),TABPREBB!$AH$10:$AH$281,0),COLUMN()),\"\")","v":""},{"$f":"IFERROR(INDEX(TABPREBB!$A$10:$AF$281,MATCH($B$1&ROW($A16),TABPREBB!$AH$10:$AH$281,0),COLUMN()),\"\")","v":""},{"$f":"IFERROR(INDEX(TABPREBB!$A$10:$AF$281,MATCH($B$1&ROW($A16),TABPREBB!$AH$10:$AH$281,0),COLUMN()),\"\")","v":""},{"$f":"IFERROR(INDEX(TABPREBB!$A$10:$AF$281,MATCH($B$1&ROW($A16),TABPREBB!$AH$10:$AH$281,0),COLUMN()),\"\")","v":""},{"$f":"IFERROR(INDEX(TABPREBB!$A$10:$AF$281,MATCH($B$1&ROW($A16),TABPREBB!$AH$10:$AH$281,0),COLUMN()),\"\")","v":""},{"$f":"IFERROR(INDEX(TABPREBB!$A$10:$AF$281,MATCH($B$1&ROW($A16),TABPREBB!$AH$10:$AH$281,0),COLUMN()),\"\")","v":""},{"$f":"IFERROR(INDEX(TABPREBB!$A$10:$AF$281,MATCH($B$1&ROW($A16),TABPREBB!$AH$10:$AH$281,0),COLUMN()),\"\")","v":""},{"$f":"IFERROR(INDEX(TABPREBB!$A$10:$AF$281,MATCH($B$1&ROW($A16),TABPREBB!$AH$10:$AH$281,0),COLUMN()),\"\")","v":""},{"$f":"IFERROR(INDEX(TABPREBB!$A$10:$AF$281,MATCH($B$1&ROW($A16),TABPREBB!$AH$10:$AH$281,0),COLUMN()),\"\")","v":""},{"$f":"IFERROR(INDEX(TABPREBB!$A$10:$AF$281,MATCH($B$1&ROW($A16),TABPREBB!$AH$10:$AH$281,0),COLUMN()),\"\")","v":""}]
[{"$f":"IFERROR(INDEX(TABPREBB!$A$10:$AF$281,MATCH($B$1&ROW($A17),TABPREBB!$AH$10:$AH$281,0),COLUMN()),\"\")","v":""},{"$f":"IFERROR(INDEX(TABPREBB!$A$10:$AF$281,MATCH($B$1&ROW($A17),TABPREBB!$AH$10:$AH$281,0),COLUMN()),\"\")","v":""},{"$f":"IFERROR(INDEX(TABPREBB!$A$10:$AF$281,MATCH($B$1&ROW($A17),TABPREBB!$AH$10:$AH$281,0),COLUMN()),\"\")","v":""},{"$f":"IFERROR(INDEX(TABPREBB!$A$10:$AF$281,MATCH($B$1&ROW($A17),TABPREBB!$AH$10:$AH$281,0),COLUMN()),\"\")","v":""},{"$f":"IFERROR(INDEX(TABPREBB!$A$10:$AF$281,MATCH($B$1&ROW($A17),TABPREBB!$AH$10:$AH$281,0),COLUMN()),\"\")","v":""},{"$f":"IFERROR(INDEX(TABPREBB!$A$10:$AF$281,MATCH($B$1&ROW($A17),TABPREBB!$AH$10:$AH$281,0),COLUMN()),\"\")","v":""},{"$f":"IFERROR(INDEX(TABPREBB!$A$10:$AF$281,MATCH($B$1&ROW($A17),TABPREBB!$AH$10:$AH$281,0),COLUMN()),\"\")","v":""},{"$f":"IFERROR(INDEX(TABPREBB!$A$10:$AF$281,MATCH($B$1&ROW($A17),TABPREBB!$AH$10:$AH$281,0),COLUMN()),\"\")","v":""},{"$f":"IFERROR(INDEX(TABPREBB!$A$10:$AF$281,MATCH($B$1&ROW($A17),TABPREBB!$AH$10:$AH$281,0),COLUMN()),\"\")","v":""},{"$f":"IFERROR(INDEX(TABPREBB!$A$10:$AF$281,MATCH($B$1&ROW($A17),TABPREBB!$AH$10:$AH$281,0),COLUMN()),\"\")","v":""},{"$f":"IFERROR(INDEX(TABPREBB!$A$10:$AF$281,MATCH($B$1&ROW($A17),TABPREBB!$AH$10:$AH$281,0),COLUMN()),\"\")","v":""},{"$f":"IFERROR(INDEX(TABPREBB!$A$10:$AF$281,MATCH($B$1&ROW($A17),TABPREBB!$AH$10:$AH$281,0),COLUMN()),\"\")","v":""},{"$f":"IFERROR(INDEX(TABPREBB!$A$10:$AF$281,MATCH($B$1&ROW($A17),TABPREBB!$AH$10:$AH$281,0),COLUMN()),\"\")","v":""},{"$f":"IFERROR(INDEX(TABPREBB!$A$10:$AF$281,MATCH($B$1&ROW($A17),TABPREBB!$AH$10:$AH$281,0),COLUMN()),\"\")","v":""},{"$f":"IFERROR(INDEX(TABPREBB!$A$10:$AF$281,MATCH($B$1&ROW($A17),TABPREBB!$AH$10:$AH$281,0),COLUMN()),\"\")","v":""},{"$f":"IFERROR(INDEX(TABPREBB!$A$10:$AF$281,MATCH($B$1&ROW($A17),TABPREBB!$AH$10:$AH$281,0),COLUMN()),\"\")","v":""},{"$f":"IFERROR(INDEX(TABPREBB!$A$10:$AF$281,MATCH($B$1&ROW($A17),TABPREBB!$AH$10:$AH$281,0),COLUMN()),\"\")","v":""},{"$f":"IFERROR(INDEX(TABPREBB!$A$10:$AF$281,MATCH($B$1&ROW($A17),TABPREBB!$AH$10:$AH$281,0),COLUMN()),\"\")","v":""},{"$f":"IFERROR(INDEX(TABPREBB!$A$10:$AF$281,MATCH($B$1&ROW($A17),TABPREBB!$AH$10:$AH$281,0),COLUMN()),\"\")","v":""},{"$f":"IFERROR(INDEX(TABPREBB!$A$10:$AF$281,MATCH($B$1&ROW($A17),TABPREBB!$AH$10:$AH$281,0),COLUMN()),\"\")","v":""},{"$f":"IFERROR(INDEX(TABPREBB!$A$10:$AF$281,MATCH($B$1&ROW($A17),TABPREBB!$AH$10:$AH$281,0),COLUMN()),\"\")","v":""},{"$f":"IFERROR(INDEX(TABPREBB!$A$10:$AF$281,MATCH($B$1&ROW($A17),TABPREBB!$AH$10:$AH$281,0),COLUMN()),\"\")","v":""},{"$f":"IFERROR(INDEX(TABPREBB!$A$10:$AF$281,MATCH($B$1&ROW($A17),TABPREBB!$AH$10:$AH$281,0),COLUMN()),\"\")","v":""},{"$f":"IFERROR(INDEX(TABPREBB!$A$10:$AF$281,MATCH($B$1&ROW($A17),TABPREBB!$AH$10:$AH$281,0),COLUMN()),\"\")","v":""},{"$f":"IFERROR(INDEX(TABPREBB!$A$10:$AF$281,MATCH($B$1&ROW($A17),TABPREBB!$AH$10:$AH$281,0),COLUMN()),\"\")","v":""},{"$f":"IFERROR(INDEX(TABPREBB!$A$10:$AF$281,MATCH($B$1&ROW($A17),TABPREBB!$AH$10:$AH$281,0),COLUMN()),\"\")","v":""},{"$f":"IFERROR(INDEX(TABPREBB!$A$10:$AF$281,MATCH($B$1&ROW($A17),TABPREBB!$AH$10:$AH$281,0),COLUMN()),\"\")","v":""},{"$f":"IFERROR(INDEX(TABPREBB!$A$10:$AF$281,MATCH($B$1&ROW($A17),TABPREBB!$AH$10:$AH$281,0),COLUMN()),\"\")","v":""},{"$f":"IFERROR(INDEX(TABPREBB!$A$10:$AF$281,MATCH($B$1&ROW($A17),TABPREBB!$AH$10:$AH$281,0),COLUMN()),\"\")","v":""},{"$f":"IFERROR(INDEX(TABPREBB!$A$10:$AF$281,MATCH($B$1&ROW($A17),TABPREBB!$AH$10:$AH$281,0),COLUMN()),\"\")","v":""},{"$f":"IFERROR(INDEX(TABPREBB!$A$10:$AF$281,MATCH($B$1&ROW($A17),TABPREBB!$AH$10:$AH$281,0),COLUMN()),\"\")","v":""},{"$f":"IFERROR(INDEX(TABPREBB!$A$10:$AF$281,MATCH($B$1&ROW($A17),TABPREBB!$AH$10:$AH$281,0),COLUMN()),\"\")","v":""}]
[{"$f":"IFERROR(INDEX(TABPREBB!$A$10:$AF$281,MATCH($B$1&ROW($A18),TABPREBB!$AH$10:$AH$281,0),COLUMN()),\"\")","v":""},{"$f":"IFERROR(INDEX(TABPREBB!$A$10:$AF$281,MATCH($B$1&ROW($A18),TABPREBB!$AH$10:$AH$281,0),COLUMN()),\"\")","v":""},{"$f":"IFERROR(INDEX(TABPREBB!$A$10:$AF$281,MATCH($B$1&ROW($A18),TABPREBB!$AH$10:$AH$281,0),COLUMN()),\"\")","v":""},{"$f":"IFERROR(INDEX(TABPREBB!$A$10:$AF$281,MATCH($B$1&ROW($A18),TABPREBB!$AH$10:$AH$281,0),COLUMN()),\"\")","v":""},{"$f":"IFERROR(INDEX(TABPREBB!$A$10:$AF$281,MATCH($B$1&ROW($A18),TABPREBB!$AH$10:$AH$281,0),COLUMN()),\"\")","v":""},{"$f":"IFERROR(INDEX(TABPREBB!$A$10:$AF$281,MATCH($B$1&ROW($A18),TABPREBB!$AH$10:$AH$281,0),COLUMN()),\"\")","v":""},{"$f":"IFERROR(INDEX(TABPREBB!$A$10:$AF$281,MATCH($B$1&ROW($A18),TABPREBB!$AH$10:$AH$281,0),COLUMN()),\"\")","v":""},{"$f":"IFERROR(INDEX(TABPREBB!$A$10:$AF$281,MATCH($B$1&ROW($A18),TABPREBB!$AH$10:$AH$281,0),COLUMN()),\"\")","v":""},{"$f":"IFERROR(INDEX(TABPREBB!$A$10:$AF$281,MATCH($B$1&ROW($A18),TABPREBB!$AH$10:$AH$281,0),COLUMN()),\"\")","v":""},{"$f":"IFERROR(INDEX(TABPREBB!$A$10:$AF$281,MATCH($B$1&ROW($A18),TABPREBB!$AH$10:$AH$281,0),COLUMN()),\"\")","v":""},{"$f":"IFERROR(INDEX(TABPREBB!$A$10:$AF$281,MATCH($B$1&ROW($A18),TABPREBB!$AH$10:$AH$281,0),COLUMN()),\"\")","v":""},{"$f":"IFERROR(INDEX(TABPREBB!$A$10:$AF$281,MATCH($B$1&ROW($A18),TABPREBB!$AH$10:$AH$281,0),COLUMN()),\"\")","v":""},{"$f":"IFERROR(INDEX(TABPREBB!$A$10:$AF$281,MATCH($B$1&ROW($A18),TABPREBB!$AH$10:$AH$281,0),COLUMN()),\"\")","v":""},{"$f":"IFERROR(INDEX(TABPREBB!$A$10:$AF$281,MATCH($B$1&ROW($A18),TABPREBB!$AH$10:$AH$281,0),COLUMN()),\"\")","v":""},{"$f":"IFERROR(INDEX(TABPREBB!$A$10:$AF$281,MATCH($B$1&ROW($A18),TABPREBB!$AH$10:$AH$281,0),COLUMN()),\"\")","v":""},{"$f":"IFERROR(INDEX(TABPREBB!$A$10:$AF$281,MATCH($B$1&ROW($A18),TABPREBB!$AH$10:$AH$281,0),COLUMN()),\"\")","v":""},{"$f":"IFERROR(INDEX(TABPREBB!$A$10:$AF$281,MATCH($B$1&ROW($A18),TABPREBB!$AH$10:$AH$281,0),COLUMN()),\"\")","v":""},{"$f":"IFERROR(INDEX(TABPREBB!$A$10:$AF$281,MATCH($B$1&ROW($A18),TABPREBB!$AH$10:$AH$281,0),COLUMN()),\"\")","v":""},{"$f":"IFERROR(INDEX(TABPREBB!$A$10:$AF$281,MATCH($B$1&ROW($A18),TABPREBB!$AH$10:$AH$281,0),COLUMN()),\"\")","v":""},{"$f":"IFERROR(INDEX(TABPREBB!$A$10:$AF$281,MATCH($B$1&ROW($A18),TABPREBB!$AH$10:$AH$281,0),COLUMN()),\"\")","v":""},{"$f":"IFERROR(INDEX(TABPREBB!$A$10:$AF$281,MATCH($B$1&ROW($A18),TABPREBB!$AH$10:$AH$281,0),COLUMN()),\"\")","v":""},{"$f":"IFERROR(INDEX(TABPREBB!$A$10:$AF$281,MATCH($B$1&ROW($A18),TABPREBB!$AH$10:$AH$281,0),COLUMN()),\"\")","v":""},{"$f":"IFERROR(INDEX(TABPREBB!$A$10:$AF$281,MATCH($B$1&ROW($A18),TABPREBB!$AH$10:$AH$281,0),COLUMN()),\"\")","v":""},{"$f":"IFERROR(INDEX(TABPREBB!$A$10:$AF$281,MATCH($B$1&ROW($A18),TABPREBB!$AH$10:$AH$281,0),COLUMN()),\"\")","v":""},{"$f":"IFERROR(INDEX(TABPREBB!$A$10:$AF$281,MATCH($B$1&ROW($A18),TABPREBB!$AH$10:$AH$281,0),COLUMN()),\"\")","v":""},{"$f":"IFERROR(INDEX(TABPREBB!$A$10:$AF$281,MATCH($B$1&ROW($A18),TABPREBB!$AH$10:$AH$281,0),COLUMN()),\"\")","v":""},{"$f":"IFERROR(INDEX(TABPREBB!$A$10:$AF$281,MATCH($B$1&ROW($A18),TABPREBB!$AH$10:$AH$281,0),COLUMN()),\"\")","v":""},{"$f":"IFERROR(INDEX(TABPREBB!$A$10:$AF$281,MATCH($B$1&ROW($A18),TABPREBB!$AH$10:$AH$281,0),COLUMN()),\"\")","v":""},{"$f":"IFERROR(INDEX(TABPREBB!$A$10:$AF$281,MATCH($B$1&ROW($A18),TABPREBB!$AH$10:$AH$281,0),COLUMN()),\"\")","v":""},{"$f":"IFERROR(INDEX(TABPREBB!$A$10:$AF$281,MATCH($B$1&ROW($A18),TABPREBB!$AH$10:$AH$281,0),COLUMN()),\"\")","v":""},{"$f":"IFERROR(INDEX(TABPREBB!$A$10:$AF$281,MATCH($B$1&ROW($A18),TABPREBB!$AH$10:$AH$281,0),COLUMN()),\"\")","v":""},{"$f":"IFERROR(INDEX(TABPREBB!$A$10:$AF$281,MATCH($B$1&ROW($A18),TABPREBB!$AH$10:$AH$281,0),COLUMN()),\"\")","v":""}]
[{"$f":"IFERROR(INDEX(TABPREBB!$A$10:$AF$281,MATCH($B$1&ROW($A19),TABPREBB!$AH$10:$AH$281,0),COLUMN()),\"\")","v":""},{"$f":"IFERROR(INDEX(TABPREBB!$A$10:$AF$281,MATCH($B$1&ROW($A19),TABPREBB!$AH$10:$AH$281,0),COLUMN()),\"\")","v":""},{"$f":"IFERROR(INDEX(TABPREBB!$A$10:$AF$281,MATCH($B$1&ROW($A19),TABPREBB!$AH$10:$AH$281,0),COLUMN()),\"\")","v":""},{"$f":"IFERROR(INDEX(TABPREBB!$A$10:$AF$281,MATCH($B$1&ROW($A19),TABPREBB!$AH$10:$AH$281,0),COLUMN()),\"\")","v":""},{"$f":"IFERROR(INDEX(TABPREBB!$A$10:$AF$281,MATCH($B$1&ROW($A19),TABPREBB!$AH$10:$AH$281,0),COLUMN()),\"\")","v":""},{"$f":"IFERROR(INDEX(TABPREBB!$A$10:$AF$281,MATCH($B$1&ROW($A19),TABPREBB!$AH$10:$AH$281,0),COLUMN()),\"\")","v":""},{"$f":"IFERROR(INDEX(TABPREBB!$A$10:$AF$281,MATCH($B$1&ROW($A19),TABPREBB!$AH$10:$AH$281,0),COLUMN()),\"\")","v":""},{"$f":"IFERROR(INDEX(TABPREBB!$A$10:$AF$281,MATCH($B$1&ROW($A19),TABPREBB!$AH$10:$AH$281,0),COLUMN()),\"\")","v":""},{"$f":"IFERROR(INDEX(TABPREBB!$A$10:$AF$281,MATCH($B$1&ROW($A19),TABPREBB!$AH$10:$AH$281,0),COLUMN()),\"\")","v":""},{"$f":"IFERROR(INDEX(TABPREBB!$A$10:$AF$281,MATCH($B$1&ROW($A19),TABPREBB!$AH$10:$AH$281,0),COLUMN()),\"\")","v":""},{"$f":"IFERROR(INDEX(TABPREBB!$A$10:$AF$281,MATCH($B$1&ROW($A19),TABPREBB!$AH$10:$AH$281,0),COLUMN()),\"\")","v":""},{"$f":"IFERROR(INDEX(TABPREBB!$A$10:$AF$281,MATCH($B$1&ROW($A19),TABPREBB!$AH$10:$AH$281,0),COLUMN()),\"\")","v":""},{"$f":"IFERROR(INDEX(TABPREBB!$A$10:$AF$281,MATCH($B$1&ROW($A19),TABPREBB!$AH$10:$AH$281,0),COLUMN()),\"\")","v":""},{"$f":"IFERROR(INDEX(TABPREBB!$A$10:$AF$281,MATCH($B$1&ROW($A19),TABPREBB!$AH$10:$AH$281,0),COLUMN()),\"\")","v":""},{"$f":"IFERROR(INDEX(TABPREBB!$A$10:$AF$281,MATCH($B$1&ROW($A19),TABPREBB!$AH$10:$AH$281,0),COLUMN()),\"\")","v":""},{"$f":"IFERROR(INDEX(TABPREBB!$A$10:$AF$281,MATCH($B$1&ROW($A19),TABPREBB!$AH$10:$AH$281,0),COLUMN()),\"\")","v":""},{"$f":"IFERROR(INDEX(TABPREBB!$A$10:$AF$281,MATCH($B$1&ROW($A19),TABPREBB!$AH$10:$AH$281,0),COLUMN()),\"\")","v":""},{"$f":"IFERROR(INDEX(TABPREBB!$A$10:$AF$281,MATCH($B$1&ROW($A19),TABPREBB!$AH$10:$AH$281,0),COLUMN()),\"\")","v":""},{"$f":"IFERROR(INDEX(TABPREBB!$A$10:$AF$281,MATCH($B$1&ROW($A19),TABPREBB!$AH$10:$AH$281,0),COLUMN()),\"\")","v":""},{"$f":"IFERROR(INDEX(TABPREBB!$A$10:$AF$281,MATCH($B$1&ROW($A19),TABPREBB!$AH$10:$AH$281,0),COLUMN()),\"\")","v":""},{"$f":"IFERROR(INDEX(TABPREBB!$A$10:$AF$281,MATCH($B$1&ROW($A19),TABPREBB!$AH$10:$AH$281,0),COLUMN()),\"\")","v":""},{"$f":"IFERROR(INDEX(TABPREBB!$A$10:$AF$281,MATCH($B$1&ROW($A19),TABPREBB!$AH$10:$AH$281,0),COLUMN()),\"\")","v":""},{"$f":"IFERROR(INDEX(TABPREBB!$A$10:$AF$281,MATCH($B$1&ROW($A19),TABPREBB!$AH$10:$AH$281,0),COLUMN()),\"\")","v":""},{"$f":"IFERROR(INDEX(TABPREBB!$A$10:$AF$281,MATCH($B$1&ROW($A19),TABPREBB!$AH$10:$AH$281,0),COLUMN()),\"\")","v":""},{"$f":"IFERROR(INDEX(TABPREBB!$A$10:$AF$281,MATCH($B$1&ROW($A19),TABPREBB!$AH$10:$AH$281,0),COLUMN()),\"\")","v":""},{"$f":"IFERROR(INDEX(TABPREBB!$A$10:$AF$281,MATCH($B$1&ROW($A19),TABPREBB!$AH$10:$AH$281,0),COLUMN()),\"\")","v":""},{"$f":"IFERROR(INDEX(TABPREBB!$A$10:$AF$281,MATCH($B$1&ROW($A19),TABPREBB!$AH$10:$AH$281,0),COLUMN()),\"\")","v":""},{"$f":"IFERROR(INDEX(TABPREBB!$A$10:$AF$281,MATCH($B$1&ROW($A19),TABPREBB!$AH$10:$AH$281,0),COLUMN()),\"\")","v":""},{"$f":"IFERROR(INDEX(TABPREBB!$A$10:$AF$281,MATCH($B$1&ROW($A19),TABPREBB!$AH$10:$AH$281,0),COLUMN()),\"\")","v":""},{"$f":"IFERROR(INDEX(TABPREBB!$A$10:$AF$281,MATCH($B$1&ROW($A19),TABPREBB!$AH$10:$AH$281,0),COLUMN()),\"\")","v":""},{"$f":"IFERROR(INDEX(TABPREBB!$A$10:$AF$281,MATCH($B$1&ROW($A19),TABPREBB!$AH$10:$AH$281,0),COLUMN()),\"\")","v":""},{"$f":"IFERROR(INDEX(TABPREBB!$A$10:$AF$281,MATCH($B$1&ROW($A19),TABPREBB!$AH$10:$AH$281,0),COLUMN()),\"\")","v":""}]
[{"$f":"IFERROR(INDEX(TABPREBB!$A$10:$AF$281,MATCH($B$1&ROW($A20),TABPREBB!$AH$10:$AH$281,0),COLUMN()),\"\")","v":""},{"$f":"IFERROR(INDEX(TABPREBB!$A$10:$AF$281,MATCH($B$1&ROW($A20),TABPREBB!$AH$10:$AH$281,0),COLUMN()),\"\")","v":""},{"$f":"IFERROR(INDEX(TABPREBB!$A$10:$AF$281,MATCH($B$1&ROW($A20),TABPREBB!$AH$10:$AH$281,0),COLUMN()),\"\")","v":""},{"$f":"IFERROR(INDEX(TABPREBB!$A$10:$AF$281,MATCH($B$1&ROW($A20),TABPREBB!$AH$10:$AH$281,0),COLUMN()),\"\")","v":""},{"$f":"IFERROR(INDEX(TABPREBB!$A$10:$AF$281,MATCH($B$1&ROW($A20),TABPREBB!$AH$10:$AH$281,0),COLUMN()),\"\")","v":""},{"$f":"IFERROR(INDEX(TABPREBB!$A$10:$AF$281,MATCH($B$1&ROW($A20),TABPREBB!$AH$10:$AH$281,0),COLUMN()),\"\")","v":""},{"$f":"IFERROR(INDEX(TABPREBB!$A$10:$AF$281,MATCH($B$1&ROW($A20),TABPREBB!$AH$10:$AH$281,0),COLUMN()),\"\")","v":""},{"$f":"IFERROR(INDEX(TABPREBB!$A$10:$AF$281,MATCH($B$1&ROW($A20),TABPREBB!$AH$10:$AH$281,0),COLUMN()),\"\")","v":""},{"$f":"IFERROR(INDEX(TABPREBB!$A$10:$AF$281,MATCH($B$1&ROW($A20),TABPREBB!$AH$10:$AH$281,0),COLUMN()),\"\")","v":""},{"$f":"IFERROR(INDEX(TABPREBB!$A$10:$AF$281,MATCH($B$1&ROW($A20),TABPREBB!$AH$10:$AH$281,0),COLUMN()),\"\")","v":""},{"$f":"IFERROR(INDEX(TABPREBB!$A$10:$AF$281,MATCH($B$1&ROW($A20),TABPREBB!$AH$10:$AH$281,0),COLUMN()),\"\")","v":""},{"$f":"IFERROR(INDEX(TABPREBB!$A$10:$AF$281,MATCH($B$1&ROW($A20),TABPREBB!$AH$10:$AH$281,0),COLUMN()),\"\")","v":""},{"$f":"IFERROR(INDEX(TABPREBB!$A$10:$AF$281,MATCH($B$1&ROW($A20),TABPREBB!$AH$10:$AH$281,0),COLUMN()),\"\")","v":""},{"$f":"IFERROR(INDEX(TABPREBB!$A$10:$AF$281,MATCH($B$1&ROW($A20),TABPREBB!$AH$10:$AH$281,0),COLUMN()),\"\")","v":""},{"$f":"IFERROR(INDEX(TABPREBB!$A$10:$AF$281,MATCH($B$1&ROW($A20),TABPREBB!$AH$10:$AH$281,0),COLUMN()),\"\")","v":""},{"$f":"IFERROR(INDEX(TABPREBB!$A$10:$AF$281,MATCH($B$1&ROW($A20),TABPREBB!$AH$10:$AH$281,0),COLUMN()),\"\")","v":""},{"$f":"IFERROR(INDEX(TABPREBB!$A$10:$AF$281,MATCH($B$1&ROW($A20),TABPREBB!$AH$10:$AH$281,0),COLUMN()),\"\")","v":""},{"$f":"IFERROR(INDEX(TABPREBB!$A$10:$AF$281,MATCH($B$1&ROW($A20),TABPREBB!$AH$10:$AH$281,0),COLUMN()),\"\")","v":""},{"$f":"IFERROR(INDEX(TABPREBB!$A$10:$AF$281,MATCH($B$1&ROW($A20),TABPREBB!$AH$10:$AH$281,0),COLUMN()),\"\")","v":""},{"$f":"IFERROR(INDEX(TABPREBB!$A$10:$AF$281,MATCH($B$1&ROW($A20),TABPREBB!$AH$10:$AH$281,0),COLUMN()),\"\")","v":""},{"$f":"IFERROR(INDEX(TABPREBB!$A$10:$AF$281,MATCH($B$1&ROW($A20),TABPREBB!$AH$10:$AH$281,0),COLUMN()),\"\")","v":""},{"$f":"IFERROR(INDEX(TABPREBB!$A$10:$AF$281,MATCH($B$1&ROW($A20),TABPREBB!$AH$10:$AH$281,0),COLUMN()),\"\")","v":""},{"$f":"IFERROR(INDEX(TABPREBB!$A$10:$AF$281,MATCH($B$1&ROW($A20),TABPREBB!$AH$10:$AH$281,0),COLUMN()),\"\")","v":""},{"$f":"IFERROR(INDEX(TABPREBB!$A$10:$AF$281,MATCH($B$1&ROW($A20),TABPREBB!$AH$10:$AH$281,0),COLUMN()),\"\")","v":""},{"$f":"IFERROR(INDEX(TABPREBB!$A$10:$AF$281,MATCH($B$1&ROW($A20),TABPREBB!$AH$10:$AH$281,0),COLUMN()),\"\")","v":""},{"$f":"IFERROR(INDEX(TABPREBB!$A$10:$AF$281,MATCH($B$1&ROW($A20),TABPREBB!$AH$10:$AH$281,0),COLUMN()),\"\")","v":""},{"$f":"IFERROR(INDEX(TABPREBB!$A$10:$AF$281,MATCH($B$1&ROW($A20),TABPREBB!$AH$10:$AH$281,0),COLUMN()),\"\")","v":""},{"$f":"IFERROR(INDEX(TABPREBB!$A$10:$AF$281,MATCH($B$1&ROW($A20),TABPREBB!$AH$10:$AH$281,0),COLUMN()),\"\")","v":""},{"$f":"IFERROR(INDEX(TABPREBB!$A$10:$AF$281,MATCH($B$1&ROW($A20),TABPREBB!$AH$10:$AH$281,0),COLUMN()),\"\")","v":""},{"$f":"IFERROR(INDEX(TABPREBB!$A$10:$AF$281,MATCH($B$1&ROW($A20),TABPREBB!$AH$10:$AH$281,0),COLUMN()),\"\")","v":""},{"$f":"IFERROR(INDEX(TABPREBB!$A$10:$AF$281,MATCH($B$1&ROW($A20),TABPREBB!$AH$10:$AH$281,0),COLUMN()),\"\")","v":""},{"$f":"IFERROR(INDEX(TABPREBB!$A$10:$AF$281,MATCH($B$1&ROW($A20),TABPREBB!$AH$10:$AH$281,0),COLUMN()),\"\")","v":""}]
[{"$f":"IFERROR(INDEX(TABPREBB!$A$10:$AF$281,MATCH($B$1&ROW($A21),TABPREBB!$AH$10:$AH$281,0),COLUMN()),\"\")","v":""},{"$f":"IFERROR(INDEX(TABPREBB!$A$10:$AF$281,MATCH($B$1&ROW($A21),TABPREBB!$AH$10:$AH$281,0),COLUMN()),\"\")","v":""},{"$f":"IFERROR(INDEX(TABPREBB!$A$10:$AF$281,MATCH($B$1&ROW($A21),TABPREBB!$AH$10:$AH$281,0),COLUMN()),\"\")","v":""},{"$f":"IFERROR(INDEX(TABPREBB!$A$10:$AF$281,MATCH($B$1&ROW($A21),TABPREBB!$AH$10:$AH$281,0),COLUMN()),\"\")","v":""},{"$f":"IFERROR(INDEX(TABPREBB!$A$10:$AF$281,MATCH($B$1&ROW($A21),TABPREBB!$AH$10:$AH$281,0),COLUMN()),\"\")","v":""},{"$f":"IFERROR(INDEX(TABPREBB!$A$10:$AF$281,MATCH($B$1&ROW($A21),TABPREBB!$AH$10:$AH$281,0),COLUMN()),\"\")","v":""},{"$f":"IFERROR(INDEX(TABPREBB!$A$10:$AF$281,MATCH($B$1&ROW($A21),TABPREBB!$AH$10:$AH$281,0),COLUMN()),\"\")","v":""},{"$f":"IFERROR(INDEX(TABPREBB!$A$10:$AF$281,MATCH($B$1&ROW($A21),TABPREBB!$AH$10:$AH$281,0),COLUMN()),\"\")","v":""},{"$f":"IFERROR(INDEX(TABPREBB!$A$10:$AF$281,MATCH($B$1&ROW($A21),TABPREBB!$AH$10:$AH$281,0),COLUMN()),\"\")","v":""},{"$f":"IFERROR(INDEX(TABPREBB!$A$10:$AF$281,MATCH($B$1&ROW($A21),TABPREBB!$AH$10:$AH$281,0),COLUMN()),\"\")","v":""},{"$f":"IFERROR(INDEX(TABPREBB!$A$10:$AF$281,MATCH($B$1&ROW($A21),TABPREBB!$AH$10:$AH$281,0),COLUMN()),\"\")","v":""},{"$f":"IFERROR(INDEX(TABPREBB!$A$10:$AF$281,MATCH($B$1&ROW($A21),TABPREBB!$AH$10:$AH$281,0),COLUMN()),\"\")","v":""},{"$f":"IFERROR(INDEX(TABPREBB!$A$10:$AF$281,MATCH($B$1&ROW($A21),TABPREBB!$AH$10:$AH$281,0),COLUMN()),\"\")","v":""},{"$f":"IFERROR(INDEX(TABPREBB!$A$10:$AF$281,MATCH($B$1&ROW($A21),TABPREBB!$AH$10:$AH$281,0),COLUMN()),\"\")","v":""},{"$f":"IFERROR(INDEX(TABPREBB!$A$10:$AF$281,MATCH($B$1&ROW($A21),TABPREBB!$AH$10:$AH$281,0),COLUMN()),\"\")","v":""},{"$f":"IFERROR(INDEX(TABPREBB!$A$10:$AF$281,MATCH($B$1&ROW($A21),TABPREBB!$AH$10:$AH$281,0),COLUMN()),\"\")","v":""},{"$f":"IFERROR(INDEX(TABPREBB!$A$10:$AF$281,MATCH($B$1&ROW($A21),TABPREBB!$AH$10:$AH$281,0),COLUMN()),\"\")","v":""},{"$f":"IFERROR(INDEX(TABPREBB!$A$10:$AF$281,MATCH($B$1&ROW($A21),TABPREBB!$AH$10:$AH$281,0),COLUMN()),\"\")","v":""},{"$f":"IFERROR(INDEX(TABPREBB!$A$10:$AF$281,MATCH($B$1&ROW($A21),TABPREBB!$AH$10:$AH$281,0),COLUMN()),\"\")","v":""},{"$f":"IFERROR(INDEX(TABPREBB!$A$10:$AF$281,MATCH($B$1&ROW($A21),TABPREBB!$AH$10:$AH$281,0),COLUMN()),\"\")","v":""},{"$f":"IFERROR(INDEX(TABPREBB!$A$10:$AF$281,MATCH($B$1&ROW($A21),TABPREBB!$AH$10:$AH$281,0),COLUMN()),\"\")","v":""},{"$f":"IFERROR(INDEX(TABPREBB!$A$10:$AF$281,MATCH($B$1&ROW($A21),TABPREBB!$AH$10:$AH$281,0),COLUMN()),\"\")","v":""},{"$f":"IFERROR(INDEX(TABPREBB!$A$10:$AF$281,MATCH($B$1&ROW($A21),TABPREBB!$AH$10:$AH$281,0),COLUMN()),\"\")","v":""},{"$f":"IFERROR(INDEX(TABPREBB!$A$10:$AF$281,MATCH($B$1&ROW($A21),TABPREBB!$AH$10:$AH$281,0),COLUMN()),\"\")","v":""},{"$f":"IFERROR(INDEX(TABPREBB!$A$10:$AF$281,MATCH($B$1&ROW($A21),TABPREBB!$AH$10:$AH$281,0),COLUMN()),\"\")","v":""},{"$f":"IFERROR(INDEX(TABPREBB!$A$10:$AF$281,MATCH($B$1&ROW($A21),TABPREBB!$AH$10:$AH$281,0),COLUMN()),\"\")","v":""},{"$f":"IFERROR(INDEX(TABPREBB!$A$10:$AF$281,MATCH($B$1&ROW($A21),TABPREBB!$AH$10:$AH$281,0),COLUMN()),\"\")","v":""},{"$f":"IFERROR(INDEX(TABPREBB!$A$10:$AF$281,MATCH($B$1&ROW($A21),TABPREBB!$AH$10:$AH$281,0),COLUMN()),\"\")","v":""},{"$f":"IFERROR(INDEX(TABPREBB!$A$10:$AF$281,MATCH($B$1&ROW($A21),TABPREBB!$AH$10:$AH$281,0),COLUMN()),\"\")","v":""},{"$f":"IFERROR(INDEX(TABPREBB!$A$10:$AF$281,MATCH($B$1&ROW($A21),TABPREBB!$AH$10:$AH$281,0),COLUMN()),\"\")","v":""},{"$f":"IFERROR(INDEX(TABPREBB!$A$10:$AF$281,MATCH($B$1&ROW($A21),TABPREBB!$AH$10:$AH$281,0),COLUMN()),\"\")","v":""},{"$f":"IFERROR(INDEX(TABPREBB!$A$10:$AF$281,MATCH($B$1&ROW($A21),TABPREBB!$AH$10:$AH$281,0),COLUMN()),\"\")","v":""}]
[{"$f":"IFERROR(INDEX(TABPREBB!$A$10:$AF$281,MATCH($B$1&ROW($A22),TABPREBB!$AH$10:$AH$281,0),COLUMN()),\"\")","v":""},{"$f":"IFERROR(INDEX(TABPREBB!$A$10:$AF$281,MATCH($B$1&ROW($A22),TABPREBB!$AH$10:$AH$281,0),COLUMN()),\"\")","v":""},{"$f":"IFERROR(INDEX(TABPREBB!$A$10:$AF$281,MATCH($B$1&ROW($A22),TABPREBB!$AH$10:$AH$281,0),COLUMN()),\"\")","v":""},{"$f":"IFERROR(INDEX(TABPREBB!$A$10:$AF$281,MATCH($B$1&ROW($A22),TABPREBB!$AH$10:$AH$281,0),COLUMN()),\"\")","v":""},{"$f":"IFERROR(INDEX(TABPREBB!$A$10:$AF$281,MATCH($B$1&ROW($A22),TABPREBB!$AH$10:$AH$281,0),COLUMN()),\"\")","v":""},{"$f":"IFERROR(INDEX(TABPREBB!$A$10:$AF$281,MATCH($B$1&ROW($A22),TABPREBB!$AH$10:$AH$281,0),COLUMN()),\"\")","v":""},{"$f":"IFERROR(INDEX(TABPREBB!$A$10:$AF$281,MATCH($B$1&ROW($A22),TABPREBB!$AH$10:$AH$281,0),COLUMN()),\"\")","v":""},{"$f":"IFERROR(INDEX(TABPREBB!$A$10:$AF$281,MATCH($B$1&ROW($A22),TABPREBB!$AH$10:$AH$281,0),COLUMN()),\"\")","v":""},{"$f":"IFERROR(INDEX(TABPREBB!$A$10:$AF$281,MATCH($B$1&ROW($A22),TABPREBB!$AH$10:$AH$281,0),COLUMN()),\"\")","v":""},{"$f":"IFERROR(INDEX(TABPREBB!$A$10:$AF$281,MATCH($B$1&ROW($A22),TABPREBB!$AH$10:$AH$281,0),COLUMN()),\"\")","v":""},{"$f":"IFERROR(INDEX(TABPREBB!$A$10:$AF$281,MATCH($B$1&ROW($A22),TABPREBB!$AH$10:$AH$281,0),COLUMN()),\"\")","v":""},{"$f":"IFERROR(INDEX(TABPREBB!$A$10:$AF$281,MATCH($B$1&ROW($A22),TABPREBB!$AH$10:$AH$281,0),COLUMN()),\"\")","v":""},{"$f":"IFERROR(INDEX(TABPREBB!$A$10:$AF$281,MATCH($B$1&ROW($A22),TABPREBB!$AH$10:$AH$281,0),COLUMN()),\"\")","v":""},{"$f":"IFERROR(INDEX(TABPREBB!$A$10:$AF$281,MATCH($B$1&ROW($A22),TABPREBB!$AH$10:$AH$281,0),COLUMN()),\"\")","v":""},{"$f":"IFERROR(INDEX(TABPREBB!$A$10:$AF$281,MATCH($B$1&ROW($A22),TABPREBB!$AH$10:$AH$281,0),COLUMN()),\"\")","v":""},{"$f":"IFERROR(INDEX(TABPREBB!$A$10:$AF$281,MATCH($B$1&ROW($A22),TABPREBB!$AH$10:$AH$281,0),COLUMN()),\"\")","v":""},{"$f":"IFERROR(INDEX(TABPREBB!$A$10:$AF$281,MATCH($B$1&ROW($A22),TABPREBB!$AH$10:$AH$281,0),COLUMN()),\"\")","v":""},{"$f":"IFERROR(INDEX(TABPREBB!$A$10:$AF$281,MATCH($B$1&ROW($A22),TABPREBB!$AH$10:$AH$281,0),COLUMN()),\"\")","v":""},{"$f":"IFERROR(INDEX(TABPREBB!$A$10:$AF$281,MATCH($B$1&ROW($A22),TABPREBB!$AH$10:$AH$281,0),COLUMN()),\"\")","v":""},{"$f":"IFERROR(INDEX(TABPREBB!$A$10:$AF$281,MATCH($B$1&ROW($A22),TABPREBB!$AH$10:$AH$281,0),COLUMN()),\"\")","v":""},{"$f":"IFERROR(INDEX(TABPREBB!$A$10:$AF$281,MATCH($B$1&ROW($A22),TABPREBB!$AH$10:$AH$281,0),COLUMN()),\"\")","v":""},{"$f":"IFERROR(INDEX(TABPREBB!$A$10:$AF$281,MATCH($B$1&ROW($A22),TABPREBB!$AH$10:$AH$281,0),COLUMN()),\"\")","v":""},{"$f":"IFERROR(INDEX(TABPREBB!$A$10:$AF$281,MATCH($B$1&ROW($A22),TABPREBB!$AH$10:$AH$281,0),COLUMN()),\"\")","v":""},{"$f":"IFERROR(INDEX(TABPREBB!$A$10:$AF$281,MATCH($B$1&ROW($A22),TABPREBB!$AH$10:$AH$281,0),COLUMN()),\"\")","v":""},{"$f":"IFERROR(INDEX(TABPREBB!$A$10:$AF$281,MATCH($B$1&ROW($A22),TABPREBB!$AH$10:$AH$281,0),COLUMN()),\"\")","v":""},{"$f":"IFERROR(INDEX(TABPREBB!$A$10:$AF$281,MATCH($B$1&ROW($A22),TABPREBB!$AH$10:$AH$281,0),COLUMN()),\"\")","v":""},{"$f":"IFERROR(INDEX(TABPREBB!$A$10:$AF$281,MATCH($B$1&ROW($A22),TABPREBB!$AH$10:$AH$281,0),COLUMN()),\"\")","v":""},{"$f":"IFERROR(INDEX(TABPREBB!$A$10:$AF$281,MATCH($B$1&ROW($A22),TABPREBB!$AH$10:$AH$281,0),COLUMN()),\"\")","v":""},{"$f":"IFERROR(INDEX(TABPREBB!$A$10:$AF$281,MATCH($B$1&ROW($A22),TABPREBB!$AH$10:$AH$281,0),COLUMN()),\"\")","v":""},{"$f":"IFERROR(INDEX(TABPREBB!$A$10:$AF$281,MATCH($B$1&ROW($A22),TABPREBB!$AH$10:$AH$281,0),COLUMN()),\"\")","v":""},{"$f":"IFERROR(INDEX(TABPREBB!$A$10:$AF$281,MATCH($B$1&ROW($A22),TABPREBB!$AH$10:$AH$281,0),COLUMN()),\"\")","v":""},{"$f":"IFERROR(INDEX(TABPREBB!$A$10:$AF$281,MATCH($B$1&ROW($A22),TABPREBB!$AH$10:$AH$281,0),COLUMN()),\"\")","v":""}]
[{"$f":"IFERROR(INDEX(TABPREBB!$A$10:$AF$281,MATCH($B$1&ROW($A23),TABPREBB!$AH$10:$AH$281,0),COLUMN()),\"\")","v":""},{"$f":"IFERROR(INDEX(TABPREBB!$A$10:$AF$281,MATCH($B$1&ROW($A23),TABPREBB!$AH$10:$AH$281,0),COLUMN()),\"\")","v":""},{"$f":"IFERROR(INDEX(TABPREBB!$A$10:$AF$281,MATCH($B$1&ROW($A23),TABPREBB!$AH$10:$AH$281,0),COLUMN()),\"\")","v":""},{"$f":"IFERROR(INDEX(TABPREBB!$A$10:$AF$281,MATCH($B$1&ROW($A23),TABPREBB!$AH$10:$AH$281,0),COLUMN()),\"\")","v":""},{"$f":"IFERROR(INDEX(TABPREBB!$A$10:$AF$281,MATCH($B$1&ROW($A23),TABPREBB!$AH$10:$AH$281,0),COLUMN()),\"\")","v":""},{"$f":"IFERROR(INDEX(TABPREBB!$A$10:$AF$281,MATCH($B$1&ROW($A23),TABPREBB!$AH$10:$AH$281,0),COLUMN()),\"\")","v":""},{"$f":"IFERROR(INDEX(TABPREBB!$A$10:$AF$281,MATCH($B$1&ROW($A23),TABPREBB!$AH$10:$AH$281,0),COLUMN()),\"\")","v":""},{"$f":"IFERROR(INDEX(TABPREBB!$A$10:$AF$281,MATCH($B$1&ROW($A23),TABPREBB!$AH$10:$AH$281,0),COLUMN()),\"\")","v":""},{"$f":"IFERROR(INDEX(TABPREBB!$A$10:$AF$281,MATCH($B$1&ROW($A23),TABPREBB!$AH$10:$AH$281,0),COLUMN()),\"\")","v":""},{"$f":"IFERROR(INDEX(TABPREBB!$A$10:$AF$281,MATCH($B$1&ROW($A23),TABPREBB!$AH$10:$AH$281,0),COLUMN()),\"\")","v":""},{"$f":"IFERROR(INDEX(TABPREBB!$A$10:$AF$281,MATCH($B$1&ROW($A23),TABPREBB!$AH$10:$AH$281,0),COLUMN()),\"\")","v":""},{"$f":"IFERROR(INDEX(TABPREBB!$A$10:$AF$281,MATCH($B$1&ROW($A23),TABPREBB!$AH$10:$AH$281,0),COLUMN()),\"\")","v":""},{"$f":"IFERROR(INDEX(TABPREBB!$A$10:$AF$281,MATCH($B$1&ROW($A23),TABPREBB!$AH$10:$AH$281,0),COLUMN()),\"\")","v":""},{"$f":"IFERROR(INDEX(TABPREBB!$A$10:$AF$281,MATCH($B$1&ROW($A23),TABPREBB!$AH$10:$AH$281,0),COLUMN()),\"\")","v":""},{"$f":"IFERROR(INDEX(TABPREBB!$A$10:$AF$281,MATCH($B$1&ROW($A23),TABPREBB!$AH$10:$AH$281,0),COLUMN()),\"\")","v":""},{"$f":"IFERROR(INDEX(TABPREBB!$A$10:$AF$281,MATCH($B$1&ROW($A23),TABPREBB!$AH$10:$AH$281,0),COLUMN()),\"\")","v":""},{"$f":"IFERROR(INDEX(TABPREBB!$A$10:$AF$281,MATCH($B$1&ROW($A23),TABPREBB!$AH$10:$AH$281,0),COLUMN()),\"\")","v":""},{"$f":"IFERROR(INDEX(TABPREBB!$A$10:$AF$281,MATCH($B$1&ROW($A23),TABPREBB!$AH$10:$AH$281,0),COLUMN()),\"\")","v":""},{"$f":"IFERROR(INDEX(TABPREBB!$A$10:$AF$281,MATCH($B$1&ROW($A23),TABPREBB!$AH$10:$AH$281,0),COLUMN()),\"\")","v":""},{"$f":"IFERROR(INDEX(TABPREBB!$A$10:$AF$281,MATCH($B$1&ROW($A23),TABPREBB!$AH$10:$AH$281,0),COLUMN()),\"\")","v":""},{"$f":"IFERROR(INDEX(TABPREBB!$A$10:$AF$281,MATCH($B$1&ROW($A23),TABPREBB!$AH$10:$AH$281,0),COLUMN()),\"\")","v":""},{"$f":"IFERROR(INDEX(TABPREBB!$A$10:$AF$281,MATCH($B$1&ROW($A23),TABPREBB!$AH$10:$AH$281,0),COLUMN()),\"\")","v":""},{"$f":"IFERROR(INDEX(TABPREBB!$A$10:$AF$281,MATCH($B$1&ROW($A23),TABPREBB!$AH$10:$AH$281,0),COLUMN()),\"\")","v":""},{"$f":"IFERROR(INDEX(TABPREBB!$A$10:$AF$281,MATCH($B$1&ROW($A23),TABPREBB!$AH$10:$AH$281,0),COLUMN()),\"\")","v":""},{"$f":"IFERROR(INDEX(TABPREBB!$A$10:$AF$281,MATCH($B$1&ROW($A23),TABPREBB!$AH$10:$AH$281,0),COLUMN()),\"\")","v":""},{"$f":"IFERROR(INDEX(TABPREBB!$A$10:$AF$281,MATCH($B$1&ROW($A23),TABPREBB!$AH$10:$AH$281,0),COLUMN()),\"\")","v":""},{"$f":"IFERROR(INDEX(TABPREBB!$A$10:$AF$281,MATCH($B$1&ROW($A23),TABPREBB!$AH$10:$AH$281,0),COLUMN()),\"\")","v":""},{"$f":"IFERROR(INDEX(TABPREBB!$A$10:$AF$281,MATCH($B$1&ROW($A23),TABPREBB!$AH$10:$AH$281,0),COLUMN()),\"\")","v":""},{"$f":"IFERROR(INDEX(TABPREBB!$A$10:$AF$281,MATCH($B$1&ROW($A23),TABPREBB!$AH$10:$AH$281,0),COLUMN()),\"\")","v":""},{"$f":"IFERROR(INDEX(TABPREBB!$A$10:$AF$281,MATCH($B$1&ROW($A23),TABPREBB!$AH$10:$AH$281,0),COLUMN()),\"\")","v":""},{"$f":"IFERROR(INDEX(TABPREBB!$A$10:$AF$281,MATCH($B$1&ROW($A23),TABPREBB!$AH$10:$AH$281,0),COLUMN()),\"\")","v":""},{"$f":"IFERROR(INDEX(TABPREBB!$A$10:$AF$281,MATCH($B$1&ROW($A23),TABPREBB!$AH$10:$AH$281,0),COLUMN()),\"\")","v":""}]
[{"$f":"IFERROR(INDEX(TABPREBB!$A$10:$AF$281,MATCH($B$1&ROW($A24),TABPREBB!$AH$10:$AH$281,0),COLUMN()),\"\")","v":""},{"$f":"IFERROR(INDEX(TABPREBB!$A$10:$AF$281,MATCH($B$1&ROW($A24),TABPREBB!$AH$10:$AH$281,0),COLUMN()),\"\")","v":""},{"$f":"IFERROR(INDEX(TABPREBB!$A$10:$AF$281,MATCH($B$1&ROW($A24),TABPREBB!$AH$10:$AH$281,0),COLUMN()),\"\")","v":""},{"$f":"IFERROR(INDEX(TABPREBB!$A$10:$AF$281,MATCH($B$1&ROW($A24),TABPREBB!$AH$10:$AH$281,0),COLUMN()),\"\")","v":""},{"$f":"IFERROR(INDEX(TABPREBB!$A$10:$AF$281,MATCH($B$1&ROW($A24),TABPREBB!$AH$10:$AH$281,0),COLUMN()),\"\")","v":""},{"$f":"IFERROR(INDEX(TABPREBB!$A$10:$AF$281,MATCH($B$1&ROW($A24),TABPREBB!$AH$10:$AH$281,0),COLUMN()),\"\")","v":""},{"$f":"IFERROR(INDEX(TABPREBB!$A$10:$AF$281,MATCH($B$1&ROW($A24),TABPREBB!$AH$10:$AH$281,0),COLUMN()),\"\")","v":""},{"$f":"IFERROR(INDEX(TABPREBB!$A$10:$AF$281,MATCH($B$1&ROW($A24),TABPREBB!$AH$10:$AH$281,0),COLUMN()),\"\")","v":""},{"$f":"IFERROR(INDEX(TABPREBB!$A$10:$AF$281,MATCH($B$1&ROW($A24),TABPREBB!$AH$10:$AH$281,0),COLUMN()),\"\")","v":""},{"$f":"IFERROR(INDEX(TABPREBB!$A$10:$AF$281,MATCH($B$1&ROW($A24),TABPREBB!$AH$10:$AH$281,0),COLUMN()),\"\")","v":""},{"$f":"IFERROR(INDEX(TABPREBB!$A$10:$AF$281,MATCH($B$1&ROW($A24),TABPREBB!$AH$10:$AH$281,0),COLUMN()),\"\")","v":""},{"$f":"IFERROR(INDEX(TABPREBB!$A$10:$AF$281,MATCH($B$1&ROW($A24),TABPREBB!$AH$10:$AH$281,0),COLUMN()),\"\")","v":""},{"$f":"IFERROR(INDEX(TABPREBB!$A$10:$AF$281,MATCH($B$1&ROW($A24),TABPREBB!$AH$10:$AH$281,0),COLUMN()),\"\")","v":""},{"$f":"IFERROR(INDEX(TABPREBB!$A$10:$AF$281,MATCH($B$1&ROW($A24),TABPREBB!$AH$10:$AH$281,0),COLUMN()),\"\")","v":""},{"$f":"IFERROR(INDEX(TABPREBB!$A$10:$AF$281,MATCH($B$1&ROW($A24),TABPREBB!$AH$10:$AH$281,0),COLUMN()),\"\")","v":""},{"$f":"IFERROR(INDEX(TABPREBB!$A$10:$AF$281,MATCH($B$1&ROW($A24),TABPREBB!$AH$10:$AH$281,0),COLUMN()),\"\")","v":""},{"$f":"IFERROR(INDEX(TABPREBB!$A$10:$AF$281,MATCH($B$1&ROW($A24),TABPREBB!$AH$10:$AH$281,0),COLUMN()),\"\")","v":""},{"$f":"IFERROR(INDEX(TABPREBB!$A$10:$AF$281,MATCH($B$1&ROW($A24),TABPREBB!$AH$10:$AH$281,0),COLUMN()),\"\")","v":""},{"$f":"IFERROR(INDEX(TABPREBB!$A$10:$AF$281,MATCH($B$1&ROW($A24),TABPREBB!$AH$10:$AH$281,0),COLUMN()),\"\")","v":""},{"$f":"IFERROR(INDEX(TABPREBB!$A$10:$AF$281,MATCH($B$1&ROW($A24),TABPREBB!$AH$10:$AH$281,0),COLUMN()),\"\")","v":""},{"$f":"IFERROR(INDEX(TABPREBB!$A$10:$AF$281,MATCH($B$1&ROW($A24),TABPREBB!$AH$10:$AH$281,0),COLUMN()),\"\")","v":""},{"$f":"IFERROR(INDEX(TABPREBB!$A$10:$AF$281,MATCH($B$1&ROW($A24),TABPREBB!$AH$10:$AH$281,0),COLUMN()),\"\")","v":""},{"$f":"IFERROR(INDEX(TABPREBB!$A$10:$AF$281,MATCH($B$1&ROW($A24),TABPREBB!$AH$10:$AH$281,0),COLUMN()),\"\")","v":""},{"$f":"IFERROR(INDEX(TABPREBB!$A$10:$AF$281,MATCH($B$1&ROW($A24),TABPREBB!$AH$10:$AH$281,0),COLUMN()),\"\")","v":""},{"$f":"IFERROR(INDEX(TABPREBB!$A$10:$AF$281,MATCH($B$1&ROW($A24),TABPREBB!$AH$10:$AH$281,0),COLUMN()),\"\")","v":""},{"$f":"IFERROR(INDEX(TABPREBB!$A$10:$AF$281,MATCH($B$1&ROW($A24),TABPREBB!$AH$10:$AH$281,0),COLUMN()),\"\")","v":""},{"$f":"IFERROR(INDEX(TABPREBB!$A$10:$AF$281,MATCH($B$1&ROW($A24),TABPREBB!$AH$10:$AH$281,0),COLUMN()),\"\")","v":""},{"$f":"IFERROR(INDEX(TABPREBB!$A$10:$AF$281,MATCH($B$1&ROW($A24),TABPREBB!$AH$10:$AH$281,0),COLUMN()),\"\")","v":""},{"$f":"IFERROR(INDEX(TABPREBB!$A$10:$AF$281,MATCH($B$1&ROW($A24),TABPREBB!$AH$10:$AH$281,0),COLUMN()),\"\")","v":""},{"$f":"IFERROR(INDEX(TABPREBB!$A$10:$AF$281,MATCH($B$1&ROW($A24),TABPREBB!$AH$10:$AH$281,0),COLUMN()),\"\")","v":""},{"$f":"IFERROR(INDEX(TABPREBB!$A$10:$AF$281,MATCH($B$1&ROW($A24),TABPREBB!$AH$10:$AH$281,0),COLUMN()),\"\")","v":""},{"$f":"IFERROR(INDEX(TABPREBB!$A$10:$AF$281,MATCH($B$1&ROW($A24),TABPREBB!$AH$10:$AH$281,0),COLUMN()),\"\")","v":""}]
[{"$f":"IFERROR(INDEX(TABPREBB!$A$10:$AF$281,MATCH($B$1&ROW($A25),TABPREBB!$AH$10:$AH$281,0),COLUMN()),\"\")","v":""},{"$f":"IFERROR(INDEX(TABPREBB!$A$10:$AF$281,MATCH($B$1&ROW($A25),TABPREBB!$AH$10:$AH$281,0),COLUMN()),\"\")","v":""},{"$f":"IFERROR(INDEX(TABPREBB!$A$10:$AF$281,MATCH($B$1&ROW($A25),TABPREBB!$AH$10:$AH$281,0),COLUMN()),\"\")","v":""},{"$f":"IFERROR(INDEX(TABPREBB!$A$10:$AF$281,MATCH($B$1&ROW($A25),TABPREBB!$AH$10:$AH$281,0),COLUMN()),\"\")","v":""},{"$f":"IFERROR(INDEX(TABPREBB!$A$10:$AF$281,MATCH($B$1&ROW($A25),TABPREBB!$AH$10:$AH$281,0),COLUMN()),\"\")","v":""},{"$f":"IFERROR(INDEX(TABPREBB!$A$10:$AF$281,MATCH($B$1&ROW($A25),TABPREBB!$AH$10:$AH$281,0),COLUMN()),\"\")","v":""},{"$f":"IFERROR(INDEX(TABPREBB!$A$10:$AF$281,MATCH($B$1&ROW($A25),TABPREBB!$AH$10:$AH$281,0),COLUMN()),\"\")","v":""},{"$f":"IFERROR(INDEX(TABPREBB!$A$10:$AF$281,MATCH($B$1&ROW($A25),TABPREBB!$AH$10:$AH$281,0),COLUMN()),\"\")","v":""},{"$f":"IFERROR(INDEX(TABPREBB!$A$10:$AF$281,MATCH($B$1&ROW($A25),TABPREBB!$AH$10:$AH$281,0),COLUMN()),\"\")","v":""},{"$f":"IFERROR(INDEX(TABPREBB!$A$10:$AF$281,MATCH($B$1&ROW($A25),TABPREBB!$AH$10:$AH$281,0),COLUMN()),\"\")","v":""},{"$f":"IFERROR(INDEX(TABPREBB!$A$10:$AF$281,MATCH($B$1&ROW($A25),TABPREBB!$AH$10:$AH$281,0),COLUMN()),\"\")","v":""},{"$f":"IFERROR(INDEX(TABPREBB!$A$10:$AF$281,MATCH($B$1&ROW($A25),TABPREBB!$AH$10:$AH$281,0),COLUMN()),\"\")","v":""},{"$f":"IFERROR(INDEX(TABPREBB!$A$10:$AF$281,MATCH($B$1&ROW($A25),TABPREBB!$AH$10:$AH$281,0),COLUMN()),\"\")","v":""},{"$f":"IFERROR(INDEX(TABPREBB!$A$10:$AF$281,MATCH($B$1&ROW($A25),TABPREBB!$AH$10:$AH$281,0),COLUMN()),\"\")","v":""},{"$f":"IFERROR(INDEX(TABPREBB!$A$10:$AF$281,MATCH($B$1&ROW($A25),TABPREBB!$AH$10:$AH$281,0),COLUMN()),\"\")","v":""},{"$f":"IFERROR(INDEX(TABPREBB!$A$10:$AF$281,MATCH($B$1&ROW($A25),TABPREBB!$AH$10:$AH$281,0),COLUMN()),\"\")","v":""},{"$f":"IFERROR(INDEX(TABPREBB!$A$10:$AF$281,MATCH($B$1&ROW($A25),TABPREBB!$AH$10:$AH$281,0),COLUMN()),\"\")","v":""},{"$f":"IFERROR(INDEX(TABPREBB!$A$10:$AF$281,MATCH($B$1&ROW($A25),TABPREBB!$AH$10:$AH$281,0),COLUMN()),\"\")","v":""},{"$f":"IFERROR(INDEX(TABPREBB!$A$10:$AF$281,MATCH($B$1&ROW($A25),TABPREBB!$AH$10:$AH$281,0),COLUMN()),\"\")","v":""},{"$f":"IFERROR(INDEX(TABPREBB!$A$10:$AF$281,MATCH($B$1&ROW($A25),TABPREBB!$AH$10:$AH$281,0),COLUMN()),\"\")","v":""},{"$f":"IFERROR(INDEX(TABPREBB!$A$10:$AF$281,MATCH($B$1&ROW($A25),TABPREBB!$AH$10:$AH$281,0),COLUMN()),\"\")","v":""},{"$f":"IFERROR(INDEX(TABPREBB!$A$10:$AF$281,MATCH($B$1&ROW($A25),TABPREBB!$AH$10:$AH$281,0),COLUMN()),\"\")","v":""},{"$f":"IFERROR(INDEX(TABPREBB!$A$10:$AF$281,MATCH($B$1&ROW($A25),TABPREBB!$AH$10:$AH$281,0),COLUMN()),\"\")","v":""},{"$f":"IFERROR(INDEX(TABPREBB!$A$10:$AF$281,MATCH($B$1&ROW($A25),TABPREBB!$AH$10:$AH$281,0),COLUMN()),\"\")","v":""},{"$f":"IFERROR(INDEX(TABPREBB!$A$10:$AF$281,MATCH($B$1&ROW($A25),TABPREBB!$AH$10:$AH$281,0),COLUMN()),\"\")","v":""},{"$f":"IFERROR(INDEX(TABPREBB!$A$10:$AF$281,MATCH($B$1&ROW($A25),TABPREBB!$AH$10:$AH$281,0),COLUMN()),\"\")","v":""},{"$f":"IFERROR(INDEX(TABPREBB!$A$10:$AF$281,MATCH($B$1&ROW($A25),TABPREBB!$AH$10:$AH$281,0),COLUMN()),\"\")","v":""},{"$f":"IFERROR(INDEX(TABPREBB!$A$10:$AF$281,MATCH($B$1&ROW($A25),TABPREBB!$AH$10:$AH$281,0),COLUMN()),\"\")","v":""},{"$f":"IFERROR(INDEX(TABPREBB!$A$10:$AF$281,MATCH($B$1&ROW($A25),TABPREBB!$AH$10:$AH$281,0),COLUMN()),\"\")","v":""},{"$f":"IFERROR(INDEX(TABPREBB!$A$10:$AF$281,MATCH($B$1&ROW($A25),TABPREBB!$AH$10:$AH$281,0),COLUMN()),\"\")","v":""},{"$f":"IFERROR(INDEX(TABPREBB!$A$10:$AF$281,MATCH($B$1&ROW($A25),TABPREBB!$AH$10:$AH$281,0),COLUMN()),\"\")","v":""},{"$f":"IFERROR(INDEX(TABPREBB!$A$10:$AF$281,MATCH($B$1&ROW($A25),TABPREBB!$AH$10:$AH$281,0),COLUMN()),\"\")","v":""}]
[{"$f":"IFERROR(INDEX(TABPREBB!$A$10:$AF$281,MATCH($B$1&ROW($A26),TABPREBB!$AH$10:$AH$281,0),COLUMN()),\"\")","v":""},{"$f":"IFERROR(INDEX(TABPREBB!$A$10:$AF$281,MATCH($B$1&ROW($A26),TABPREBB!$AH$10:$AH$281,0),COLUMN()),\"\")","v":""},{"$f":"IFERROR(INDEX(TABPREBB!$A$10:$AF$281,MATCH($B$1&ROW($A26),TABPREBB!$AH$10:$AH$281,0),COLUMN()),\"\")","v":""},{"$f":"IFERROR(INDEX(TABPREBB!$A$10:$AF$281,MATCH($B$1&ROW($A26),TABPREBB!$AH$10:$AH$281,0),COLUMN()),\"\")","v":""},{"$f":"IFERROR(INDEX(TABPREBB!$A$10:$AF$281,MATCH($B$1&ROW($A26),TABPREBB!$AH$10:$AH$281,0),COLUMN()),\"\")","v":""},{"$f":"IFERROR(INDEX(TABPREBB!$A$10:$AF$281,MATCH($B$1&ROW($A26),TABPREBB!$AH$10:$AH$281,0),COLUMN()),\"\")","v":""},{"$f":"IFERROR(INDEX(TABPREBB!$A$10:$AF$281,MATCH($B$1&ROW($A26),TABPREBB!$AH$10:$AH$281,0),COLUMN()),\"\")","v":""},{"$f":"IFERROR(INDEX(TABPREBB!$A$10:$AF$281,MATCH($B$1&ROW($A26),TABPREBB!$AH$10:$AH$281,0),COLUMN()),\"\")","v":""},{"$f":"IFERROR(INDEX(TABPREBB!$A$10:$AF$281,MATCH($B$1&ROW($A26),TABPREBB!$AH$10:$AH$281,0),COLUMN()),\"\")","v":""},{"$f":"IFERROR(INDEX(TABPREBB!$A$10:$AF$281,MATCH($B$1&ROW($A26),TABPREBB!$AH$10:$AH$281,0),COLUMN()),\"\")","v":""},{"$f":"IFERROR(INDEX(TABPREBB!$A$10:$AF$281,MATCH($B$1&ROW($A26),TABPREBB!$AH$10:$AH$281,0),COLUMN()),\"\")","v":""},{"$f":"IFERROR(INDEX(TABPREBB!$A$10:$AF$281,MATCH($B$1&ROW($A26),TABPREBB!$AH$10:$AH$281,0),COLUMN()),\"\")","v":""},{"$f":"IFERROR(INDEX(TABPREBB!$A$10:$AF$281,MATCH($B$1&ROW($A26),TABPREBB!$AH$10:$AH$281,0),COLUMN()),\"\")","v":""},{"$f":"IFERROR(INDEX(TABPREBB!$A$10:$AF$281,MATCH($B$1&ROW($A26),TABPREBB!$AH$10:$AH$281,0),COLUMN()),\"\")","v":""},{"$f":"IFERROR(INDEX(TABPREBB!$A$10:$AF$281,MATCH($B$1&ROW($A26),TABPREBB!$AH$10:$AH$281,0),COLUMN()),\"\")","v":""},{"$f":"IFERROR(INDEX(TABPREBB!$A$10:$AF$281,MATCH($B$1&ROW($A26),TABPREBB!$AH$10:$AH$281,0),COLUMN()),\"\")","v":""},{"$f":"IFERROR(INDEX(TABPREBB!$A$10:$AF$281,MATCH($B$1&ROW($A26),TABPREBB!$AH$10:$AH$281,0),COLUMN()),\"\")","v":""},{"$f":"IFERROR(INDEX(TABPREBB!$A$10:$AF$281,MATCH($B$1&ROW($A26),TABPREBB!$AH$10:$AH$281,0),COLUMN()),\"\")","v":""},{"$f":"IFERROR(INDEX(TABPREBB!$A$10:$AF$281,MATCH($B$1&ROW($A26),TABPREBB!$AH$10:$AH$281,0),COLUMN()),\"\")","v":""},{"$f":"IFERROR(INDEX(TABPREBB!$A$10:$AF$281,MATCH($B$1&ROW($A26),TABPREBB!$AH$10:$AH$281,0),COLUMN()),\"\")","v":""},{"$f":"IFERROR(INDEX(TABPREBB!$A$10:$AF$281,MATCH($B$1&ROW($A26),TABPREBB!$AH$10:$AH$281,0),COLUMN()),\"\")","v":""},{"$f":"IFERROR(INDEX(TABPREBB!$A$10:$AF$281,MATCH($B$1&ROW($A26),TABPREBB!$AH$10:$AH$281,0),COLUMN()),\"\")","v":""},{"$f":"IFERROR(INDEX(TABPREBB!$A$10:$AF$281,MATCH($B$1&ROW($A26),TABPREBB!$AH$10:$AH$281,0),COLUMN()),\"\")","v":""},{"$f":"IFERROR(INDEX(TABPREBB!$A$10:$AF$281,MATCH($B$1&ROW($A26),TABPREBB!$AH$10:$AH$281,0),COLUMN()),\"\")","v":""},{"$f":"IFERROR(INDEX(TABPREBB!$A$10:$AF$281,MATCH($B$1&ROW($A26),TABPREBB!$AH$10:$AH$281,0),COLUMN()),\"\")","v":""},{"$f":"IFERROR(INDEX(TABPREBB!$A$10:$AF$281,MATCH($B$1&ROW($A26),TABPREBB!$AH$10:$AH$281,0),COLUMN()),\"\")","v":""},{"$f":"IFERROR(INDEX(TABPREBB!$A$10:$AF$281,MATCH($B$1&ROW($A26),TABPREBB!$AH$10:$AH$281,0),COLUMN()),\"\")","v":""},{"$f":"IFERROR(INDEX(TABPREBB!$A$10:$AF$281,MATCH($B$1&ROW($A26),TABPREBB!$AH$10:$AH$281,0),COLUMN()),\"\")","v":""},{"$f":"IFERROR(INDEX(TABPREBB!$A$10:$AF$281,MATCH($B$1&ROW($A26),TABPREBB!$AH$10:$AH$281,0),COLUMN()),\"\")","v":""},{"$f":"IFERROR(INDEX(TABPREBB!$A$10:$AF$281,MATCH($B$1&ROW($A26),TABPREBB!$AH$10:$AH$281,0),COLUMN()),\"\")","v":""},{"$f":"IFERROR(INDEX(TABPREBB!$A$10:$AF$281,MATCH($B$1&ROW($A26),TABPREBB!$AH$10:$AH$281,0),COLUMN()),\"\")","v":""},{"$f":"IFERROR(INDEX(TABPREBB!$A$10:$AF$281,MATCH($B$1&ROW($A26),TABPREBB!$AH$10:$AH$281,0),COLUMN()),\"\")","v":""}]
[{"$f":"IFERROR(INDEX(TABPREBB!$A$10:$AF$281,MATCH($B$1&ROW($A27),TABPREBB!$AH$10:$AH$281,0),COLUMN()),\"\")","v":""},{"$f":"IFERROR(INDEX(TABPREBB!$A$10:$AF$281,MATCH($B$1&ROW($A27),TABPREBB!$AH$10:$AH$281,0),COLUMN()),\"\")","v":""},{"$f":"IFERROR(INDEX(TABPREBB!$A$10:$AF$281,MATCH($B$1&ROW($A27),TABPREBB!$AH$10:$AH$281,0),COLUMN()),\"\")","v":""},{"$f":"IFERROR(INDEX(TABPREBB!$A$10:$AF$281,MATCH($B$1&ROW($A27),TABPREBB!$AH$10:$AH$281,0),COLUMN()),\"\")","v":""},{"$f":"IFERROR(INDEX(TABPREBB!$A$10:$AF$281,MATCH($B$1&ROW($A27),TABPREBB!$AH$10:$AH$281,0),COLUMN()),\"\")","v":""},{"$f":"IFERROR(INDEX(TABPREBB!$A$10:$AF$281,MATCH($B$1&ROW($A27),TABPREBB!$AH$10:$AH$281,0),COLUMN()),\"\")","v":""},{"$f":"IFERROR(INDEX(TABPREBB!$A$10:$AF$281,MATCH($B$1&ROW($A27),TABPREBB!$AH$10:$AH$281,0),COLUMN()),\"\")","v":""},{"$f":"IFERROR(INDEX(TABPREBB!$A$10:$AF$281,MATCH($B$1&ROW($A27),TABPREBB!$AH$10:$AH$281,0),COLUMN()),\"\")","v":""},{"$f":"IFERROR(INDEX(TABPREBB!$A$10:$AF$281,MATCH($B$1&ROW($A27),TABPREBB!$AH$10:$AH$281,0),COLUMN()),\"\")","v":""},{"$f":"IFERROR(INDEX(TABPREBB!$A$10:$AF$281,MATCH($B$1&ROW($A27),TABPREBB!$AH$10:$AH$281,0),COLUMN()),\"\")","v":""},{"$f":"IFERROR(INDEX(TABPREBB!$A$10:$AF$281,MATCH($B$1&ROW($A27),TABPREBB!$AH$10:$AH$281,0),COLUMN()),\"\")","v":""},{"$f":"IFERROR(INDEX(TABPREBB!$A$10:$AF$281,MATCH($B$1&ROW($A27),TABPREBB!$AH$10:$AH$281,0),COLUMN()),\"\")","v":""},{"$f":"IFERROR(INDEX(TABPREBB!$A$10:$AF$281,MATCH($B$1&ROW($A27),TABPREBB!$AH$10:$AH$281,0),COLUMN()),\"\")","v":""},{"$f":"IFERROR(INDEX(TABPREBB!$A$10:$AF$281,MATCH($B$1&ROW($A27),TABPREBB!$AH$10:$AH$281,0),COLUMN()),\"\")","v":""},{"$f":"IFERROR(INDEX(TABPREBB!$A$10:$AF$281,MATCH($B$1&ROW($A27),TABPREBB!$AH$10:$AH$281,0),COLUMN()),\"\")","v":""},{"$f":"IFERROR(INDEX(TABPREBB!$A$10:$AF$281,MATCH($B$1&ROW($A27),TABPREBB!$AH$10:$AH$281,0),COLUMN()),\"\")","v":""},{"$f":"IFERROR(INDEX(TABPREBB!$A$10:$AF$281,MATCH($B$1&ROW($A27),TABPREBB!$AH$10:$AH$281,0),COLUMN()),\"\")","v":""},{"$f":"IFERROR(INDEX(TABPREBB!$A$10:$AF$281,MATCH($B$1&ROW($A27),TABPREBB!$AH$10:$AH$281,0),COLUMN()),\"\")","v":""},{"$f":"IFERROR(INDEX(TABPREBB!$A$10:$AF$281,MATCH($B$1&ROW($A27),TABPREBB!$AH$10:$AH$281,0),COLUMN()),\"\")","v":""},{"$f":"IFERROR(INDEX(TABPREBB!$A$10:$AF$281,MATCH($B$1&ROW($A27),TABPREBB!$AH$10:$AH$281,0),COLUMN()),\"\")","v":""},{"$f":"IFERROR(INDEX(TABPREBB!$A$10:$AF$281,MATCH($B$1&ROW($A27),TABPREBB!$AH$10:$AH$281,0),COLUMN()),\"\")","v":""},{"$f":"IFERROR(INDEX(TABPREBB!$A$10:$AF$281,MATCH($B$1&ROW($A27),TABPREBB!$AH$10:$AH$281,0),COLUMN()),\"\")","v":""},{"$f":"IFERROR(INDEX(TABPREBB!$A$10:$AF$281,MATCH($B$1&ROW($A27),TABPREBB!$AH$10:$AH$281,0),COLUMN()),\"\")","v":""},{"$f":"IFERROR(INDEX(TABPREBB!$A$10:$AF$281,MATCH($B$1&ROW($A27),TABPREBB!$AH$10:$AH$281,0),COLUMN()),\"\")","v":""},{"$f":"IFERROR(INDEX(TABPREBB!$A$10:$AF$281,MATCH($B$1&ROW($A27),TABPREBB!$AH$10:$AH$281,0),COLUMN()),\"\")","v":""},{"$f":"IFERROR(INDEX(TABPREBB!$A$10:$AF$281,MATCH($B$1&ROW($A27),TABPREBB!$AH$10:$AH$281,0),COLUMN()),\"\")","v":""},{"$f":"IFERROR(INDEX(TABPREBB!$A$10:$AF$281,MATCH($B$1&ROW($A27),TABPREBB!$AH$10:$AH$281,0),COLUMN()),\"\")","v":""},{"$f":"IFERROR(INDEX(TABPREBB!$A$10:$AF$281,MATCH($B$1&ROW($A27),TABPREBB!$AH$10:$AH$281,0),COLUMN()),\"\")","v":""},{"$f":"IFERROR(INDEX(TABPREBB!$A$10:$AF$281,MATCH($B$1&ROW($A27),TABPREBB!$AH$10:$AH$281,0),COLUMN()),\"\")","v":""},{"$f":"IFERROR(INDEX(TABPREBB!$A$10:$AF$281,MATCH($B$1&ROW($A27),TABPREBB!$AH$10:$AH$281,0),COLUMN()),\"\")","v":""},{"$f":"IFERROR(INDEX(TABPREBB!$A$10:$AF$281,MATCH($B$1&ROW($A27),TABPREBB!$AH$10:$AH$281,0),COLUMN()),\"\")","v":""},{"$f":"IFERROR(INDEX(TABPREBB!$A$10:$AF$281,MATCH($B$1&ROW($A27),TABPREBB!$AH$10:$AH$281,0),COLUMN()),\"\")","v":""}]
[{"$f":"IFERROR(INDEX(TABPREBB!$A$10:$AF$281,MATCH($B$1&ROW($A28),TABPREBB!$AH$10:$AH$281,0),COLUMN()),\"\")","v":""},{"$f":"IFERROR(INDEX(TABPREBB!$A$10:$AF$281,MATCH($B$1&ROW($A28),TABPREBB!$AH$10:$AH$281,0),COLUMN()),\"\")","v":""},{"$f":"IFERROR(INDEX(TABPREBB!$A$10:$AF$281,MATCH($B$1&ROW($A28),TABPREBB!$AH$10:$AH$281,0),COLUMN()),\"\")","v":""},{"$f":"IFERROR(INDEX(TABPREBB!$A$10:$AF$281,MATCH($B$1&ROW($A28),TABPREBB!$AH$10:$AH$281,0),COLUMN()),\"\")","v":""},{"$f":"IFERROR(INDEX(TABPREBB!$A$10:$AF$281,MATCH($B$1&ROW($A28),TABPREBB!$AH$10:$AH$281,0),COLUMN()),\"\")","v":""},{"$f":"IFERROR(INDEX(TABPREBB!$A$10:$AF$281,MATCH($B$1&ROW($A28),TABPREBB!$AH$10:$AH$281,0),COLUMN()),\"\")","v":""},{"$f":"IFERROR(INDEX(TABPREBB!$A$10:$AF$281,MATCH($B$1&ROW($A28),TABPREBB!$AH$10:$AH$281,0),COLUMN()),\"\")","v":""},{"$f":"IFERROR(INDEX(TABPREBB!$A$10:$AF$281,MATCH($B$1&ROW($A28),TABPREBB!$AH$10:$AH$281,0),COLUMN()),\"\")","v":""},{"$f":"IFERROR(INDEX(TABPREBB!$A$10:$AF$281,MATCH($B$1&ROW($A28),TABPREBB!$AH$10:$AH$281,0),COLUMN()),\"\")","v":""},{"$f":"IFERROR(INDEX(TABPREBB!$A$10:$AF$281,MATCH($B$1&ROW($A28),TABPREBB!$AH$10:$AH$281,0),COLUMN()),\"\")","v":""},{"$f":"IFERROR(INDEX(TABPREBB!$A$10:$AF$281,MATCH($B$1&ROW($A28),TABPREBB!$AH$10:$AH$281,0),COLUMN()),\"\")","v":""},{"$f":"IFERROR(INDEX(TABPREBB!$A$10:$AF$281,MATCH($B$1&ROW($A28),TABPREBB!$AH$10:$AH$281,0),COLUMN()),\"\")","v":""},{"$f":"IFERROR(INDEX(TABPREBB!$A$10:$AF$281,MATCH($B$1&ROW($A28),TABPREBB!$AH$10:$AH$281,0),COLUMN()),\"\")","v":""},{"$f":"IFERROR(INDEX(TABPREBB!$A$10:$AF$281,MATCH($B$1&ROW($A28),TABPREBB!$AH$10:$AH$281,0),COLUMN()),\"\")","v":""},{"$f":"IFERROR(INDEX(TABPREBB!$A$10:$AF$281,MATCH($B$1&ROW($A28),TABPREBB!$AH$10:$AH$281,0),COLUMN()),\"\")","v":""},{"$f":"IFERROR(INDEX(TABPREBB!$A$10:$AF$281,MATCH($B$1&ROW($A28),TABPREBB!$AH$10:$AH$281,0),COLUMN()),\"\")","v":""},{"$f":"IFERROR(INDEX(TABPREBB!$A$10:$AF$281,MATCH($B$1&ROW($A28),TABPREBB!$AH$10:$AH$281,0),COLUMN()),\"\")","v":""},{"$f":"IFERROR(INDEX(TABPREBB!$A$10:$AF$281,MATCH($B$1&ROW($A28),TABPREBB!$AH$10:$AH$281,0),COLUMN()),\"\")","v":""},{"$f":"IFERROR(INDEX(TABPREBB!$A$10:$AF$281,MATCH($B$1&ROW($A28),TABPREBB!$AH$10:$AH$281,0),COLUMN()),\"\")","v":""},{"$f":"IFERROR(INDEX(TABPREBB!$A$10:$AF$281,MATCH($B$1&ROW($A28),TABPREBB!$AH$10:$AH$281,0),COLUMN()),\"\")","v":""},{"$f":"IFERROR(INDEX(TABPREBB!$A$10:$AF$281,MATCH($B$1&ROW($A28),TABPREBB!$AH$10:$AH$281,0),COLUMN()),\"\")","v":""},{"$f":"IFERROR(INDEX(TABPREBB!$A$10:$AF$281,MATCH($B$1&ROW($A28),TABPREBB!$AH$10:$AH$281,0),COLUMN()),\"\")","v":""},{"$f":"IFERROR(INDEX(TABPREBB!$A$10:$AF$281,MATCH($B$1&ROW($A28),TABPREBB!$AH$10:$AH$281,0),COLUMN()),\"\")","v":""},{"$f":"IFERROR(INDEX(TABPREBB!$A$10:$AF$281,MATCH($B$1&ROW($A28),TABPREBB!$AH$10:$AH$281,0),COLUMN()),\"\")","v":""},{"$f":"IFERROR(INDEX(TABPREBB!$A$10:$AF$281,MATCH($B$1&ROW($A28),TABPREBB!$AH$10:$AH$281,0),COLUMN()),\"\")","v":""},{"$f":"IFERROR(INDEX(TABPREBB!$A$10:$AF$281,MATCH($B$1&ROW($A28),TABPREBB!$AH$10:$AH$281,0),COLUMN()),\"\")","v":""},{"$f":"IFERROR(INDEX(TABPREBB!$A$10:$AF$281,MATCH($B$1&ROW($A28),TABPREBB!$AH$10:$AH$281,0),COLUMN()),\"\")","v":""},{"$f":"IFERROR(INDEX(TABPREBB!$A$10:$AF$281,MATCH($B$1&ROW($A28),TABPREBB!$AH$10:$AH$281,0),COLUMN()),\"\")","v":""},{"$f":"IFERROR(INDEX(TABPREBB!$A$10:$AF$281,MATCH($B$1&ROW($A28),TABPREBB!$AH$10:$AH$281,0),COLUMN()),\"\")","v":""},{"$f":"IFERROR(INDEX(TABPREBB!$A$10:$AF$281,MATCH($B$1&ROW($A28),TABPREBB!$AH$10:$AH$281,0),COLUMN()),\"\")","v":""},{"$f":"IFERROR(INDEX(TABPREBB!$A$10:$AF$281,MATCH($B$1&ROW($A28),TABPREBB!$AH$10:$AH$281,0),COLUMN()),\"\")","v":""},{"$f":"IFERROR(INDEX(TABPREBB!$A$10:$AF$281,MATCH($B$1&ROW($A28),TABPREBB!$AH$10:$AH$281,0),COLUMN()),\"\")","v":""}]
[{"$f":"IFERROR(INDEX(TABPREBB!$A$10:$AF$281,MATCH($B$1&ROW($A29),TABPREBB!$AH$10:$AH$281,0),COLUMN()),\"\")","v":""},{"$f":"IFERROR(INDEX(TABPREBB!$A$10:$AF$281,MATCH($B$1&ROW($A29),TABPREBB!$AH$10:$AH$281,0),COLUMN()),\"\")","v":""},{"$f":"IFERROR(INDEX(TABPREBB!$A$10:$AF$281,MATCH($B$1&ROW($A29),TABPREBB!$AH$10:$AH$281,0),COLUMN()),\"\")","v":""},{"$f":"IFERROR(INDEX(TABPREBB!$A$10:$AF$281,MATCH($B$1&ROW($A29),TABPREBB!$AH$10:$AH$281,0),COLUMN()),\"\")","v":""},{"$f":"IFERROR(INDEX(TABPREBB!$A$10:$AF$281,MATCH($B$1&ROW($A29),TABPREBB!$AH$10:$AH$281,0),COLUMN()),\"\")","v":""},{"$f":"IFERROR(INDEX(TABPREBB!$A$10:$AF$281,MATCH($B$1&ROW($A29),TABPREBB!$AH$10:$AH$281,0),COLUMN()),\"\")","v":""},{"$f":"IFERROR(INDEX(TABPREBB!$A$10:$AF$281,MATCH($B$1&ROW($A29),TABPREBB!$AH$10:$AH$281,0),COLUMN()),\"\")","v":""},{"$f":"IFERROR(INDEX(TABPREBB!$A$10:$AF$281,MATCH($B$1&ROW($A29),TABPREBB!$AH$10:$AH$281,0),COLUMN()),\"\")","v":""},{"$f":"IFERROR(INDEX(TABPREBB!$A$10:$AF$281,MATCH($B$1&ROW($A29),TABPREBB!$AH$10:$AH$281,0),COLUMN()),\"\")","v":""},{"$f":"IFERROR(INDEX(TABPREBB!$A$10:$AF$281,MATCH($B$1&ROW($A29),TABPREBB!$AH$10:$AH$281,0),COLUMN()),\"\")","v":""},{"$f":"IFERROR(INDEX(TABPREBB!$A$10:$AF$281,MATCH($B$1&ROW($A29),TABPREBB!$AH$10:$AH$281,0),COLUMN()),\"\")","v":""},{"$f":"IFERROR(INDEX(TABPREBB!$A$10:$AF$281,MATCH($B$1&ROW($A29),TABPREBB!$AH$10:$AH$281,0),COLUMN()),\"\")","v":""},{"$f":"IFERROR(INDEX(TABPREBB!$A$10:$AF$281,MATCH($B$1&ROW($A29),TABPREBB!$AH$10:$AH$281,0),COLUMN()),\"\")","v":""},{"$f":"IFERROR(INDEX(TABPREBB!$A$10:$AF$281,MATCH($B$1&ROW($A29),TABPREBB!$AH$10:$AH$281,0),COLUMN()),\"\")","v":""},{"$f":"IFERROR(INDEX(TABPREBB!$A$10:$AF$281,MATCH($B$1&ROW($A29),TABPREBB!$AH$10:$AH$281,0),COLUMN()),\"\")","v":""},{"$f":"IFERROR(INDEX(TABPREBB!$A$10:$AF$281,MATCH($B$1&ROW($A29),TABPREBB!$AH$10:$AH$281,0),COLUMN()),\"\")","v":""},{"$f":"IFERROR(INDEX(TABPREBB!$A$10:$AF$281,MATCH($B$1&ROW($A29),TABPREBB!$AH$10:$AH$281,0),COLUMN()),\"\")","v":""},{"$f":"IFERROR(INDEX(TABPREBB!$A$10:$AF$281,MATCH($B$1&ROW($A29),TABPREBB!$AH$10:$AH$281,0),COLUMN()),\"\")","v":""},{"$f":"IFERROR(INDEX(TABPREBB!$A$10:$AF$281,MATCH($B$1&ROW($A29),TABPREBB!$AH$10:$AH$281,0),COLUMN()),\"\")","v":""},{"$f":"IFERROR(INDEX(TABPREBB!$A$10:$AF$281,MATCH($B$1&ROW($A29),TABPREBB!$AH$10:$AH$281,0),COLUMN()),\"\")","v":""},{"$f":"IFERROR(INDEX(TABPREBB!$A$10:$AF$281,MATCH($B$1&ROW($A29),TABPREBB!$AH$10:$AH$281,0),COLUMN()),\"\")","v":""},{"$f":"IFERROR(INDEX(TABPREBB!$A$10:$AF$281,MATCH($B$1&ROW($A29),TABPREBB!$AH$10:$AH$281,0),COLUMN()),\"\")","v":""},{"$f":"IFERROR(INDEX(TABPREBB!$A$10:$AF$281,MATCH($B$1&ROW($A29),TABPREBB!$AH$10:$AH$281,0),COLUMN()),\"\")","v":""},{"$f":"IFERROR(INDEX(TABPREBB!$A$10:$AF$281,MATCH($B$1&ROW($A29),TABPREBB!$AH$10:$AH$281,0),COLUMN()),\"\")","v":""},{"$f":"IFERROR(INDEX(TABPREBB!$A$10:$AF$281,MATCH($B$1&ROW($A29),TABPREBB!$AH$10:$AH$281,0),COLUMN()),\"\")","v":""},{"$f":"IFERROR(INDEX(TABPREBB!$A$10:$AF$281,MATCH($B$1&ROW($A29),TABPREBB!$AH$10:$AH$281,0),COLUMN()),\"\")","v":""},{"$f":"IFERROR(INDEX(TABPREBB!$A$10:$AF$281,MATCH($B$1&ROW($A29),TABPREBB!$AH$10:$AH$281,0),COLUMN()),\"\")","v":""},{"$f":"IFERROR(INDEX(TABPREBB!$A$10:$AF$281,MATCH($B$1&ROW($A29),TABPREBB!$AH$10:$AH$281,0),COLUMN()),\"\")","v":""},{"$f":"IFERROR(INDEX(TABPREBB!$A$10:$AF$281,MATCH($B$1&ROW($A29),TABPREBB!$AH$10:$AH$281,0),COLUMN()),\"\")","v":""},{"$f":"IFERROR(INDEX(TABPREBB!$A$10:$AF$281,MATCH($B$1&ROW($A29),TABPREBB!$AH$10:$AH$281,0),COLUMN()),\"\")","v":""},{"$f":"IFERROR(INDEX(TABPREBB!$A$10:$AF$281,MATCH($B$1&ROW($A29),TABPREBB!$AH$10:$AH$281,0),COLUMN()),\"\")","v":""},{"$f":"IFERROR(INDEX(TABPREBB!$A$10:$AF$281,MATCH($B$1&ROW($A29),TABPREBB!$AH$10:$AH$281,0),COLUMN()),\"\")","v":""}]
[{"$f":"IFERROR(INDEX(TABPREBB!$A$10:$AF$281,MATCH($B$1&ROW($A30),TABPREBB!$AH$10:$AH$281,0),COLUMN()),\"\")","v":""},{"$f":"IFERROR(INDEX(TABPREBB!$A$10:$AF$281,MATCH($B$1&ROW($A30),TABPREBB!$AH$10:$AH$281,0),COLUMN()),\"\")","v":""},{"$f":"IFERROR(INDEX(TABPREBB!$A$10:$AF$281,MATCH($B$1&ROW($A30),TABPREBB!$AH$10:$AH$281,0),COLUMN()),\"\")","v":""},{"$f":"IFERROR(INDEX(TABPREBB!$A$10:$AF$281,MATCH($B$1&ROW($A30),TABPREBB!$AH$10:$AH$281,0),COLUMN()),\"\")","v":""},{"$f":"IFERROR(INDEX(TABPREBB!$A$10:$AF$281,MATCH($B$1&ROW($A30),TABPREBB!$AH$10:$AH$281,0),COLUMN()),\"\")","v":""},{"$f":"IFERROR(INDEX(TABPREBB!$A$10:$AF$281,MATCH($B$1&ROW($A30),TABPREBB!$AH$10:$AH$281,0),COLUMN()),\"\")","v":""},{"$f":"IFERROR(INDEX(TABPREBB!$A$10:$AF$281,MATCH($B$1&ROW($A30),TABPREBB!$AH$10:$AH$281,0),COLUMN()),\"\")","v":""},{"$f":"IFERROR(INDEX(TABPREBB!$A$10:$AF$281,MATCH($B$1&ROW($A30),TABPREBB!$AH$10:$AH$281,0),COLUMN()),\"\")","v":""},{"$f":"IFERROR(INDEX(TABPREBB!$A$10:$AF$281,MATCH($B$1&ROW($A30),TABPREBB!$AH$10:$AH$281,0),COLUMN()),\"\")","v":""},{"$f":"IFERROR(INDEX(TABPREBB!$A$10:$AF$281,MATCH($B$1&ROW($A30),TABPREBB!$AH$10:$AH$281,0),COLUMN()),\"\")","v":""},{"$f":"IFERROR(INDEX(TABPREBB!$A$10:$AF$281,MATCH($B$1&ROW($A30),TABPREBB!$AH$10:$AH$281,0),COLUMN()),\"\")","v":""},{"$f":"IFERROR(INDEX(TABPREBB!$A$10:$AF$281,MATCH($B$1&ROW($A30),TABPREBB!$AH$10:$AH$281,0),COLUMN()),\"\")","v":""},{"$f":"IFERROR(INDEX(TABPREBB!$A$10:$AF$281,MATCH($B$1&ROW($A30),TABPREBB!$AH$10:$AH$281,0),COLUMN()),\"\")","v":""},{"$f":"IFERROR(INDEX(TABPREBB!$A$10:$AF$281,MATCH($B$1&ROW($A30),TABPREBB!$AH$10:$AH$281,0),COLUMN()),\"\")","v":""},{"$f":"IFERROR(INDEX(TABPREBB!$A$10:$AF$281,MATCH($B$1&ROW($A30),TABPREBB!$AH$10:$AH$281,0),COLUMN()),\"\")","v":""},{"$f":"IFERROR(INDEX(TABPREBB!$A$10:$AF$281,MATCH($B$1&ROW($A30),TABPREBB!$AH$10:$AH$281,0),COLUMN()),\"\")","v":""},{"$f":"IFERROR(INDEX(TABPREBB!$A$10:$AF$281,MATCH($B$1&ROW($A30),TABPREBB!$AH$10:$AH$281,0),COLUMN()),\"\")","v":""},{"$f":"IFERROR(INDEX(TABPREBB!$A$10:$AF$281,MATCH($B$1&ROW($A30),TABPREBB!$AH$10:$AH$281,0),COLUMN()),\"\")","v":""},{"$f":"IFERROR(INDEX(TABPREBB!$A$10:$AF$281,MATCH($B$1&ROW($A30),TABPREBB!$AH$10:$AH$281,0),COLUMN()),\"\")","v":""},{"$f":"IFERROR(INDEX(TABPREBB!$A$10:$AF$281,MATCH($B$1&ROW($A30),TABPREBB!$AH$10:$AH$281,0),COLUMN()),\"\")","v":""},{"$f":"IFERROR(INDEX(TABPREBB!$A$10:$AF$281,MATCH($B$1&ROW($A30),TABPREBB!$AH$10:$AH$281,0),COLUMN()),\"\")","v":""},{"$f":"IFERROR(INDEX(TABPREBB!$A$10:$AF$281,MATCH($B$1&ROW($A30),TABPREBB!$AH$10:$AH$281,0),COLUMN()),\"\")","v":""},{"$f":"IFERROR(INDEX(TABPREBB!$A$10:$AF$281,MATCH($B$1&ROW($A30),TABPREBB!$AH$10:$AH$281,0),COLUMN()),\"\")","v":""},{"$f":"IFERROR(INDEX(TABPREBB!$A$10:$AF$281,MATCH($B$1&ROW($A30),TABPREBB!$AH$10:$AH$281,0),COLUMN()),\"\")","v":""},{"$f":"IFERROR(INDEX(TABPREBB!$A$10:$AF$281,MATCH($B$1&ROW($A30),TABPREBB!$AH$10:$AH$281,0),COLUMN()),\"\")","v":""},{"$f":"IFERROR(INDEX(TABPREBB!$A$10:$AF$281,MATCH($B$1&ROW($A30),TABPREBB!$AH$10:$AH$281,0),COLUMN()),\"\")","v":""},{"$f":"IFERROR(INDEX(TABPREBB!$A$10:$AF$281,MATCH($B$1&ROW($A30),TABPREBB!$AH$10:$AH$281,0),COLUMN()),\"\")","v":""},{"$f":"IFERROR(INDEX(TABPREBB!$A$10:$AF$281,MATCH($B$1&ROW($A30),TABPREBB!$AH$10:$AH$281,0),COLUMN()),\"\")","v":""},{"$f":"IFERROR(INDEX(TABPREBB!$A$10:$AF$281,MATCH($B$1&ROW($A30),TABPREBB!$AH$10:$AH$281,0),COLUMN()),\"\")","v":""},{"$f":"IFERROR(INDEX(TABPREBB!$A$10:$AF$281,MATCH($B$1&ROW($A30),TABPREBB!$AH$10:$AH$281,0),COLUMN()),\"\")","v":""},{"$f":"IFERROR(INDEX(TABPREBB!$A$10:$AF$281,MATCH($B$1&ROW($A30),TABPREBB!$AH$10:$AH$281,0),COLUMN()),\"\")","v":""},{"$f":"IFERROR(INDEX(TABPREBB!$A$10:$AF$281,MATCH($B$1&ROW($A30),TABPREBB!$AH$10:$AH$281,0),COLUMN()),\"\")","v":""}]
[{"$f":"IFERROR(INDEX(TABPREBB!$A$10:$AF$281,MATCH($B$1&ROW($A31),TABPREBB!$AH$10:$AH$281,0),COLUMN()),\"\")","v":""},{"$f":"IFERROR(INDEX(TABPREBB!$A$10:$AF$281,MATCH($B$1&ROW($A31),TABPREBB!$AH$10:$AH$281,0),COLUMN()),\"\")","v":""},{"$f":"IFERROR(INDEX(TABPREBB!$A$10:$AF$281,MATCH($B$1&ROW($A31),TABPREBB!$AH$10:$AH$281,0),COLUMN()),\"\")","v":""},{"$f":"IFERROR(INDEX(TABPREBB!$A$10:$AF$281,MATCH($B$1&ROW($A31),TABPREBB!$AH$10:$AH$281,0),COLUMN()),\"\")","v":""},{"$f":"IFERROR(INDEX(TABPREBB!$A$10:$AF$281,MATCH($B$1&ROW($A31),TABPREBB!$AH$10:$AH$281,0),COLUMN()),\"\")","v":""},{"$f":"IFERROR(INDEX(TABPREBB!$A$10:$AF$281,MATCH($B$1&ROW($A31),TABPREBB!$AH$10:$AH$281,0),COLUMN()),\"\")","v":""},{"$f":"IFERROR(INDEX(TABPREBB!$A$10:$AF$281,MATCH($B$1&ROW($A31),TABPREBB!$AH$10:$AH$281,0),COLUMN()),\"\")","v":""},{"$f":"IFERROR(INDEX(TABPREBB!$A$10:$AF$281,MATCH($B$1&ROW($A31),TABPREBB!$AH$10:$AH$281,0),COLUMN()),\"\")","v":""},{"$f":"IFERROR(INDEX(TABPREBB!$A$10:$AF$281,MATCH($B$1&ROW($A31),TABPREBB!$AH$10:$AH$281,0),COLUMN()),\"\")","v":""},{"$f":"IFERROR(INDEX(TABPREBB!$A$10:$AF$281,MATCH($B$1&ROW($A31),TABPREBB!$AH$10:$AH$281,0),COLUMN()),\"\")","v":""},{"$f":"IFERROR(INDEX(TABPREBB!$A$10:$AF$281,MATCH($B$1&ROW($A31),TABPREBB!$AH$10:$AH$281,0),COLUMN()),\"\")","v":""},{"$f":"IFERROR(INDEX(TABPREBB!$A$10:$AF$281,MATCH($B$1&ROW($A31),TABPREBB!$AH$10:$AH$281,0),COLUMN()),\"\")","v":""},{"$f":"IFERROR(INDEX(TABPREBB!$A$10:$AF$281,MATCH($B$1&ROW($A31),TABPREBB!$AH$10:$AH$281,0),COLUMN()),\"\")","v":""},{"$f":"IFERROR(INDEX(TABPREBB!$A$10:$AF$281,MATCH($B$1&ROW($A31),TABPREBB!$AH$10:$AH$281,0),COLUMN()),\"\")","v":""},{"$f":"IFERROR(INDEX(TABPREBB!$A$10:$AF$281,MATCH($B$1&ROW($A31),TABPREBB!$AH$10:$AH$281,0),COLUMN()),\"\")","v":""},{"$f":"IFERROR(INDEX(TABPREBB!$A$10:$AF$281,MATCH($B$1&ROW($A31),TABPREBB!$AH$10:$AH$281,0),COLUMN()),\"\")","v":""},{"$f":"IFERROR(INDEX(TABPREBB!$A$10:$AF$281,MATCH($B$1&ROW($A31),TABPREBB!$AH$10:$AH$281,0),COLUMN()),\"\")","v":""},{"$f":"IFERROR(INDEX(TABPREBB!$A$10:$AF$281,MATCH($B$1&ROW($A31),TABPREBB!$AH$10:$AH$281,0),COLUMN()),\"\")","v":""},{"$f":"IFERROR(INDEX(TABPREBB!$A$10:$AF$281,MATCH($B$1&ROW($A31),TABPREBB!$AH$10:$AH$281,0),COLUMN()),\"\")","v":""},{"$f":"IFERROR(INDEX(TABPREBB!$A$10:$AF$281,MATCH($B$1&ROW($A31),TABPREBB!$AH$10:$AH$281,0),COLUMN()),\"\")","v":""},{"$f":"IFERROR(INDEX(TABPREBB!$A$10:$AF$281,MATCH($B$1&ROW($A31),TABPREBB!$AH$10:$AH$281,0),COLUMN()),\"\")","v":""},{"$f":"IFERROR(INDEX(TABPREBB!$A$10:$AF$281,MATCH($B$1&ROW($A31),TABPREBB!$AH$10:$AH$281,0),COLUMN()),\"\")","v":""},{"$f":"IFERROR(INDEX(TABPREBB!$A$10:$AF$281,MATCH($B$1&ROW($A31),TABPREBB!$AH$10:$AH$281,0),COLUMN()),\"\")","v":""},{"$f":"IFERROR(INDEX(TABPREBB!$A$10:$AF$281,MATCH($B$1&ROW($A31),TABPREBB!$AH$10:$AH$281,0),COLUMN()),\"\")","v":""},{"$f":"IFERROR(INDEX(TABPREBB!$A$10:$AF$281,MATCH($B$1&ROW($A31),TABPREBB!$AH$10:$AH$281,0),COLUMN()),\"\")","v":""},{"$f":"IFERROR(INDEX(TABPREBB!$A$10:$AF$281,MATCH($B$1&ROW($A31),TABPREBB!$AH$10:$AH$281,0),COLUMN()),\"\")","v":""},{"$f":"IFERROR(INDEX(TABPREBB!$A$10:$AF$281,MATCH($B$1&ROW($A31),TABPREBB!$AH$10:$AH$281,0),COLUMN()),\"\")","v":""},{"$f":"IFERROR(INDEX(TABPREBB!$A$10:$AF$281,MATCH($B$1&ROW($A31),TABPREBB!$AH$10:$AH$281,0),COLUMN()),\"\")","v":""},{"$f":"IFERROR(INDEX(TABPREBB!$A$10:$AF$281,MATCH($B$1&ROW($A31),TABPREBB!$AH$10:$AH$281,0),COLUMN()),\"\")","v":""},{"$f":"IFERROR(INDEX(TABPREBB!$A$10:$AF$281,MATCH($B$1&ROW($A31),TABPREBB!$AH$10:$AH$281,0),COLUMN()),\"\")","v":""},{"$f":"IFERROR(INDEX(TABPREBB!$A$10:$AF$281,MATCH($B$1&ROW($A31),TABPREBB!$AH$10:$AH$281,0),COLUMN()),\"\")","v":""},{"$f":"IFERROR(INDEX(TABPREBB!$A$10:$AF$281,MATCH($B$1&ROW($A31),TABPREBB!$AH$10:$AH$281,0),COLUMN()),\"\")","v":""}]
[{"$f":"IFERROR(INDEX(TABPREBB!$A$10:$AF$281,MATCH($B$1&ROW($A32),TABPREBB!$AH$10:$AH$281,0),COLUMN()),\"\")","v":""},{"$f":"IFERROR(INDEX(TABPREBB!$A$10:$AF$281,MATCH($B$1&ROW($A32),TABPREBB!$AH$10:$AH$281,0),COLUMN()),\"\")","v":""},{"$f":"IFERROR(INDEX(TABPREBB!$A$10:$AF$281,MATCH($B$1&ROW($A32),TABPREBB!$AH$10:$AH$281,0),COLUMN()),\"\")","v":""},{"$f":"IFERROR(INDEX(TABPREBB!$A$10:$AF$281,MATCH($B$1&ROW($A32),TABPREBB!$AH$10:$AH$281,0),COLUMN()),\"\")","v":""},{"$f":"IFERROR(INDEX(TABPREBB!$A$10:$AF$281,MATCH($B$1&ROW($A32),TABPREBB!$AH$10:$AH$281,0),COLUMN()),\"\")","v":""},{"$f":"IFERROR(INDEX(TABPREBB!$A$10:$AF$281,MATCH($B$1&ROW($A32),TABPREBB!$AH$10:$AH$281,0),COLUMN()),\"\")","v":""},{"$f":"IFERROR(INDEX(TABPREBB!$A$10:$AF$281,MATCH($B$1&ROW($A32),TABPREBB!$AH$10:$AH$281,0),COLUMN()),\"\")","v":""},{"$f":"IFERROR(INDEX(TABPREBB!$A$10:$AF$281,MATCH($B$1&ROW($A32),TABPREBB!$AH$10:$AH$281,0),COLUMN()),\"\")","v":""},{"$f":"IFERROR(INDEX(TABPREBB!$A$10:$AF$281,MATCH($B$1&ROW($A32),TABPREBB!$AH$10:$AH$281,0),COLUMN()),\"\")","v":""},{"$f":"IFERROR(INDEX(TABPREBB!$A$10:$AF$281,MATCH($B$1&ROW($A32),TABPREBB!$AH$10:$AH$281,0),COLUMN()),\"\")","v":""},{"$f":"IFERROR(INDEX(TABPREBB!$A$10:$AF$281,MATCH($B$1&ROW($A32),TABPREBB!$AH$10:$AH$281,0),COLUMN()),\"\")","v":""},{"$f":"IFERROR(INDEX(TABPREBB!$A$10:$AF$281,MATCH($B$1&ROW($A32),TABPREBB!$AH$10:$AH$281,0),COLUMN()),\"\")","v":""},{"$f":"IFERROR(INDEX(TABPREBB!$A$10:$AF$281,MATCH($B$1&ROW($A32),TABPREBB!$AH$10:$AH$281,0),COLUMN()),\"\")","v":""},{"$f":"IFERROR(INDEX(TABPREBB!$A$10:$AF$281,MATCH($B$1&ROW($A32),TABPREBB!$AH$10:$AH$281,0),COLUMN()),\"\")","v":""},{"$f":"IFERROR(INDEX(TABPREBB!$A$10:$AF$281,MATCH($B$1&ROW($A32),TABPREBB!$AH$10:$AH$281,0),COLUMN()),\"\")","v":""},{"$f":"IFERROR(INDEX(TABPREBB!$A$10:$AF$281,MATCH($B$1&ROW($A32),TABPREBB!$AH$10:$AH$281,0),COLUMN()),\"\")","v":""},{"$f":"IFERROR(INDEX(TABPREBB!$A$10:$AF$281,MATCH($B$1&ROW($A32),TABPREBB!$AH$10:$AH$281,0),COLUMN()),\"\")","v":""},{"$f":"IFERROR(INDEX(TABPREBB!$A$10:$AF$281,MATCH($B$1&ROW($A32),TABPREBB!$AH$10:$AH$281,0),COLUMN()),\"\")","v":""},{"$f":"IFERROR(INDEX(TABPREBB!$A$10:$AF$281,MATCH($B$1&ROW($A32),TABPREBB!$AH$10:$AH$281,0),COLUMN()),\"\")","v":""},{"$f":"IFERROR(INDEX(TABPREBB!$A$10:$AF$281,MATCH($B$1&ROW($A32),TABPREBB!$AH$10:$AH$281,0),COLUMN()),\"\")","v":""},{"$f":"IFERROR(INDEX(TABPREBB!$A$10:$AF$281,MATCH($B$1&ROW($A32),TABPREBB!$AH$10:$AH$281,0),COLUMN()),\"\")","v":""},{"$f":"IFERROR(INDEX(TABPREBB!$A$10:$AF$281,MATCH($B$1&ROW($A32),TABPREBB!$AH$10:$AH$281,0),COLUMN()),\"\")","v":""},{"$f":"IFERROR(INDEX(TABPREBB!$A$10:$AF$281,MATCH($B$1&ROW($A32),TABPREBB!$AH$10:$AH$281,0),COLUMN()),\"\")","v":""},{"$f":"IFERROR(INDEX(TABPREBB!$A$10:$AF$281,MATCH($B$1&ROW($A32),TABPREBB!$AH$10:$AH$281,0),COLUMN()),\"\")","v":""},{"$f":"IFERROR(INDEX(TABPREBB!$A$10:$AF$281,MATCH($B$1&ROW($A32),TABPREBB!$AH$10:$AH$281,0),COLUMN()),\"\")","v":""},{"$f":"IFERROR(INDEX(TABPREBB!$A$10:$AF$281,MATCH($B$1&ROW($A32),TABPREBB!$AH$10:$AH$281,0),COLUMN()),\"\")","v":""},{"$f":"IFERROR(INDEX(TABPREBB!$A$10:$AF$281,MATCH($B$1&ROW($A32),TABPREBB!$AH$10:$AH$281,0),COLUMN()),\"\")","v":""},{"$f":"IFERROR(INDEX(TABPREBB!$A$10:$AF$281,MATCH($B$1&ROW($A32),TABPREBB!$AH$10:$AH$281,0),COLUMN()),\"\")","v":""},{"$f":"IFERROR(INDEX(TABPREBB!$A$10:$AF$281,MATCH($B$1&ROW($A32),TABPREBB!$AH$10:$AH$281,0),COLUMN()),\"\")","v":""},{"$f":"IFERROR(INDEX(TABPREBB!$A$10:$AF$281,MATCH($B$1&ROW($A32),TABPREBB!$AH$10:$AH$281,0),COLUMN()),\"\")","v":""},{"$f":"IFERROR(INDEX(TABPREBB!$A$10:$AF$281,MATCH($B$1&ROW($A32),TABPREBB!$AH$10:$AH$281,0),COLUMN()),\"\")","v":""},{"$f":"IFERROR(INDEX(TABPREBB!$A$10:$AF$281,MATCH($B$1&ROW($A32),TABPREBB!$AH$10:$AH$281,0),COLUMN()),\"\")","v":""}]
[{"$f":"IFERROR(INDEX(TABPREBB!$A$10:$AF$281,MATCH($B$1&ROW($A33),TABPREBB!$AH$10:$AH$281,0),COLUMN()),\"\")","v":""},{"$f":"IFERROR(INDEX(TABPREBB!$A$10:$AF$281,MATCH($B$1&ROW($A33),TABPREBB!$AH$10:$AH$281,0),COLUMN()),\"\")","v":""},{"$f":"IFERROR(INDEX(TABPREBB!$A$10:$AF$281,MATCH($B$1&ROW($A33),TABPREBB!$AH$10:$AH$281,0),COLUMN()),\"\")","v":""},{"$f":"IFERROR(INDEX(TABPREBB!$A$10:$AF$281,MATCH($B$1&ROW($A33),TABPREBB!$AH$10:$AH$281,0),COLUMN()),\"\")","v":""},{"$f":"IFERROR(INDEX(TABPREBB!$A$10:$AF$281,MATCH($B$1&ROW($A33),TABPREBB!$AH$10:$AH$281,0),COLUMN()),\"\")","v":""},{"$f":"IFERROR(INDEX(TABPREBB!$A$10:$AF$281,MATCH($B$1&ROW($A33),TABPREBB!$AH$10:$AH$281,0),COLUMN()),\"\")","v":""},{"$f":"IFERROR(INDEX(TABPREBB!$A$10:$AF$281,MATCH($B$1&ROW($A33),TABPREBB!$AH$10:$AH$281,0),COLUMN()),\"\")","v":""},{"$f":"IFERROR(INDEX(TABPREBB!$A$10:$AF$281,MATCH($B$1&ROW($A33),TABPREBB!$AH$10:$AH$281,0),COLUMN()),\"\")","v":""},{"$f":"IFERROR(INDEX(TABPREBB!$A$10:$AF$281,MATCH($B$1&ROW($A33),TABPREBB!$AH$10:$AH$281,0),COLUMN()),\"\")","v":""},{"$f":"IFERROR(INDEX(TABPREBB!$A$10:$AF$281,MATCH($B$1&ROW($A33),TABPREBB!$AH$10:$AH$281,0),COLUMN()),\"\")","v":""},{"$f":"IFERROR(INDEX(TABPREBB!$A$10:$AF$281,MATCH($B$1&ROW($A33),TABPREBB!$AH$10:$AH$281,0),COLUMN()),\"\")","v":""},{"$f":"IFERROR(INDEX(TABPREBB!$A$10:$AF$281,MATCH($B$1&ROW($A33),TABPREBB!$AH$10:$AH$281,0),COLUMN()),\"\")","v":""},{"$f":"IFERROR(INDEX(TABPREBB!$A$10:$AF$281,MATCH($B$1&ROW($A33),TABPREBB!$AH$10:$AH$281,0),COLUMN()),\"\")","v":""},{"$f":"IFERROR(INDEX(TABPREBB!$A$10:$AF$281,MATCH($B$1&ROW($A33),TABPREBB!$AH$10:$AH$281,0),COLUMN()),\"\")","v":""},{"$f":"IFERROR(INDEX(TABPREBB!$A$10:$AF$281,MATCH($B$1&ROW($A33),TABPREBB!$AH$10:$AH$281,0),COLUMN()),\"\")","v":""},{"$f":"IFERROR(INDEX(TABPREBB!$A$10:$AF$281,MATCH($B$1&ROW($A33),TABPREBB!$AH$10:$AH$281,0),COLUMN()),\"\")","v":""},{"$f":"IFERROR(INDEX(TABPREBB!$A$10:$AF$281,MATCH($B$1&ROW($A33),TABPREBB!$AH$10:$AH$281,0),COLUMN()),\"\")","v":""},{"$f":"IFERROR(INDEX(TABPREBB!$A$10:$AF$281,MATCH($B$1&ROW($A33),TABPREBB!$AH$10:$AH$281,0),COLUMN()),\"\")","v":""},{"$f":"IFERROR(INDEX(TABPREBB!$A$10:$AF$281,MATCH($B$1&ROW($A33),TABPREBB!$AH$10:$AH$281,0),COLUMN()),\"\")","v":""},{"$f":"IFERROR(INDEX(TABPREBB!$A$10:$AF$281,MATCH($B$1&ROW($A33),TABPREBB!$AH$10:$AH$281,0),COLUMN()),\"\")","v":""},{"$f":"IFERROR(INDEX(TABPREBB!$A$10:$AF$281,MATCH($B$1&ROW($A33),TABPREBB!$AH$10:$AH$281,0),COLUMN()),\"\")","v":""},{"$f":"IFERROR(INDEX(TABPREBB!$A$10:$AF$281,MATCH($B$1&ROW($A33),TABPREBB!$AH$10:$AH$281,0),COLUMN()),\"\")","v":""},{"$f":"IFERROR(INDEX(TABPREBB!$A$10:$AF$281,MATCH($B$1&ROW($A33),TABPREBB!$AH$10:$AH$281,0),COLUMN()),\"\")","v":""},{"$f":"IFERROR(INDEX(TABPREBB!$A$10:$AF$281,MATCH($B$1&ROW($A33),TABPREBB!$AH$10:$AH$281,0),COLUMN()),\"\")","v":""},{"$f":"IFERROR(INDEX(TABPREBB!$A$10:$AF$281,MATCH($B$1&ROW($A33),TABPREBB!$AH$10:$AH$281,0),COLUMN()),\"\")","v":""},{"$f":"IFERROR(INDEX(TABPREBB!$A$10:$AF$281,MATCH($B$1&ROW($A33),TABPREBB!$AH$10:$AH$281,0),COLUMN()),\"\")","v":""},{"$f":"IFERROR(INDEX(TABPREBB!$A$10:$AF$281,MATCH($B$1&ROW($A33),TABPREBB!$AH$10:$AH$281,0),COLUMN()),\"\")","v":""},{"$f":"IFERROR(INDEX(TABPREBB!$A$10:$AF$281,MATCH($B$1&ROW($A33),TABPREBB!$AH$10:$AH$281,0),COLUMN()),\"\")","v":""},{"$f":"IFERROR(INDEX(TABPREBB!$A$10:$AF$281,MATCH($B$1&ROW($A33),TABPREBB!$AH$10:$AH$281,0),COLUMN()),\"\")","v":""},{"$f":"IFERROR(INDEX(TABPREBB!$A$10:$AF$281,MATCH($B$1&ROW($A33),TABPREBB!$AH$10:$AH$281,0),COLUMN()),\"\")","v":""},{"$f":"IFERROR(INDEX(TABPREBB!$A$10:$AF$281,MATCH($B$1&ROW($A33),TABPREBB!$AH$10:$AH$281,0),COLUMN()),\"\")","v":""},{"$f":"IFERROR(INDEX(TABPREBB!$A$10:$AF$281,MATCH($B$1&ROW($A33),TABPREBB!$AH$10:$AH$281,0),COLUMN()),\"\")","v":""}]
[{"$f":"IFERROR(INDEX(TABPREBB!$A$10:$AF$281,MATCH($B$1&ROW($A34),TABPREBB!$AH$10:$AH$281,0),COLUMN()),\"\")","v":""},{"$f":"IFERROR(INDEX(TABPREBB!$A$10:$AF$281,MATCH($B$1&ROW($A34),TABPREBB!$AH$10:$AH$281,0),COLUMN()),\"\")","v":""},{"$f":"IFERROR(INDEX(TABPREBB!$A$10:$AF$281,MATCH($B$1&ROW($A34),TABPREBB!$AH$10:$AH$281,0),COLUMN()),\"\")","v":""},{"$f":"IFERROR(INDEX(TABPREBB!$A$10:$AF$281,MATCH($B$1&ROW($A34),TABPREBB!$AH$10:$AH$281,0),COLUMN()),\"\")","v":""},{"$f":"IFERROR(INDEX(TABPREBB!$A$10:$AF$281,MATCH($B$1&ROW($A34),TABPREBB!$AH$10:$AH$281,0),COLUMN()),\"\")","v":""},{"$f":"IFERROR(INDEX(TABPREBB!$A$10:$AF$281,MATCH($B$1&ROW($A34),TABPREBB!$AH$10:$AH$281,0),COLUMN()),\"\")","v":""},{"$f":"IFERROR(INDEX(TABPREBB!$A$10:$AF$281,MATCH($B$1&ROW($A34),TABPREBB!$AH$10:$AH$281,0),COLUMN()),\"\")","v":""},{"$f":"IFERROR(INDEX(TABPREBB!$A$10:$AF$281,MATCH($B$1&ROW($A34),TABPREBB!$AH$10:$AH$281,0),COLUMN()),\"\")","v":""},{"$f":"IFERROR(INDEX(TABPREBB!$A$10:$AF$281,MATCH($B$1&ROW($A34),TABPREBB!$AH$10:$AH$281,0),COLUMN()),\"\")","v":""},{"$f":"IFERROR(INDEX(TABPREBB!$A$10:$AF$281,MATCH($B$1&ROW($A34),TABPREBB!$AH$10:$AH$281,0),COLUMN()),\"\")","v":""},{"$f":"IFERROR(INDEX(TABPREBB!$A$10:$AF$281,MATCH($B$1&ROW($A34),TABPREBB!$AH$10:$AH$281,0),COLUMN()),\"\")","v":""},{"$f":"IFERROR(INDEX(TABPREBB!$A$10:$AF$281,MATCH($B$1&ROW($A34),TABPREBB!$AH$10:$AH$281,0),COLUMN()),\"\")","v":""},{"$f":"IFERROR(INDEX(TABPREBB!$A$10:$AF$281,MATCH($B$1&ROW($A34),TABPREBB!$AH$10:$AH$281,0),COLUMN()),\"\")","v":""},{"$f":"IFERROR(INDEX(TABPREBB!$A$10:$AF$281,MATCH($B$1&ROW($A34),TABPREBB!$AH$10:$AH$281,0),COLUMN()),\"\")","v":""},{"$f":"IFERROR(INDEX(TABPREBB!$A$10:$AF$281,MATCH($B$1&ROW($A34),TABPREBB!$AH$10:$AH$281,0),COLUMN()),\"\")","v":""},{"$f":"IFERROR(INDEX(TABPREBB!$A$10:$AF$281,MATCH($B$1&ROW($A34),TABPREBB!$AH$10:$AH$281,0),COLUMN()),\"\")","v":""},{"$f":"IFERROR(INDEX(TABPREBB!$A$10:$AF$281,MATCH($B$1&ROW($A34),TABPREBB!$AH$10:$AH$281,0),COLUMN()),\"\")","v":""},{"$f":"IFERROR(INDEX(TABPREBB!$A$10:$AF$281,MATCH($B$1&ROW($A34),TABPREBB!$AH$10:$AH$281,0),COLUMN()),\"\")","v":""},{"$f":"IFERROR(INDEX(TABPREBB!$A$10:$AF$281,MATCH($B$1&ROW($A34),TABPREBB!$AH$10:$AH$281,0),COLUMN()),\"\")","v":""},{"$f":"IFERROR(INDEX(TABPREBB!$A$10:$AF$281,MATCH($B$1&ROW($A34),TABPREBB!$AH$10:$AH$281,0),COLUMN()),\"\")","v":""},{"$f":"IFERROR(INDEX(TABPREBB!$A$10:$AF$281,MATCH($B$1&ROW($A34),TABPREBB!$AH$10:$AH$281,0),COLUMN()),\"\")","v":""},{"$f":"IFERROR(INDEX(TABPREBB!$A$10:$AF$281,MATCH($B$1&ROW($A34),TABPREBB!$AH$10:$AH$281,0),COLUMN()),\"\")","v":""},{"$f":"IFERROR(INDEX(TABPREBB!$A$10:$AF$281,MATCH($B$1&ROW($A34),TABPREBB!$AH$10:$AH$281,0),COLUMN()),\"\")","v":""},{"$f":"IFERROR(INDEX(TABPREBB!$A$10:$AF$281,MATCH($B$1&ROW($A34),TABPREBB!$AH$10:$AH$281,0),COLUMN()),\"\")","v":""},{"$f":"IFERROR(INDEX(TABPREBB!$A$10:$AF$281,MATCH($B$1&ROW($A34),TABPREBB!$AH$10:$AH$281,0),COLUMN()),\"\")","v":""},{"$f":"IFERROR(INDEX(TABPREBB!$A$10:$AF$281,MATCH($B$1&ROW($A34),TABPREBB!$AH$10:$AH$281,0),COLUMN()),\"\")","v":""},{"$f":"IFERROR(INDEX(TABPREBB!$A$10:$AF$281,MATCH($B$1&ROW($A34),TABPREBB!$AH$10:$AH$281,0),COLUMN()),\"\")","v":""},{"$f":"IFERROR(INDEX(TABPREBB!$A$10:$AF$281,MATCH($B$1&ROW($A34),TABPREBB!$AH$10:$AH$281,0),COLUMN()),\"\")","v":""},{"$f":"IFERROR(INDEX(TABPREBB!$A$10:$AF$281,MATCH($B$1&ROW($A34),TABPREBB!$AH$10:$AH$281,0),COLUMN()),\"\")","v":""},{"$f":"IFERROR(INDEX(TABPREBB!$A$10:$AF$281,MATCH($B$1&ROW($A34),TABPREBB!$AH$10:$AH$281,0),COLUMN()),\"\")","v":""},{"$f":"IFERROR(INDEX(TABPREBB!$A$10:$AF$281,MATCH($B$1&ROW($A34),TABPREBB!$AH$10:$AH$281,0),COLUMN()),\"\")","v":""},{"$f":"IFERROR(INDEX(TABPREBB!$A$10:$AF$281,MATCH($B$1&ROW($A34),TABPREBB!$AH$10:$AH$281,0),COLUMN()),\"\")","v":""}]
[{"$f":"IFERROR(INDEX(TABPREBB!$A$10:$AF$281,MATCH($B$1&ROW($A35),TABPREBB!$AH$10:$AH$281,0),COLUMN()),\"\")","v":""},{"$f":"IFERROR(INDEX(TABPREBB!$A$10:$AF$281,MATCH($B$1&ROW($A35),TABPREBB!$AH$10:$AH$281,0),COLUMN()),\"\")","v":""},{"$f":"IFERROR(INDEX(TABPREBB!$A$10:$AF$281,MATCH($B$1&ROW($A35),TABPREBB!$AH$10:$AH$281,0),COLUMN()),\"\")","v":""},{"$f":"IFERROR(INDEX(TABPREBB!$A$10:$AF$281,MATCH($B$1&ROW($A35),TABPREBB!$AH$10:$AH$281,0),COLUMN()),\"\")","v":""},{"$f":"IFERROR(INDEX(TABPREBB!$A$10:$AF$281,MATCH($B$1&ROW($A35),TABPREBB!$AH$10:$AH$281,0),COLUMN()),\"\")","v":""},{"$f":"IFERROR(INDEX(TABPREBB!$A$10:$AF$281,MATCH($B$1&ROW($A35),TABPREBB!$AH$10:$AH$281,0),COLUMN()),\"\")","v":""},{"$f":"IFERROR(INDEX(TABPREBB!$A$10:$AF$281,MATCH($B$1&ROW($A35),TABPREBB!$AH$10:$AH$281,0),COLUMN()),\"\")","v":""},{"$f":"IFERROR(INDEX(TABPREBB!$A$10:$AF$281,MATCH($B$1&ROW($A35),TABPREBB!$AH$10:$AH$281,0),COLUMN()),\"\")","v":""},{"$f":"IFERROR(INDEX(TABPREBB!$A$10:$AF$281,MATCH($B$1&ROW($A35),TABPREBB!$AH$10:$AH$281,0),COLUMN()),\"\")","v":""},{"$f":"IFERROR(INDEX(TABPREBB!$A$10:$AF$281,MATCH($B$1&ROW($A35),TABPREBB!$AH$10:$AH$281,0),COLUMN()),\"\")","v":""},{"$f":"IFERROR(INDEX(TABPREBB!$A$10:$AF$281,MATCH($B$1&ROW($A35),TABPREBB!$AH$10:$AH$281,0),COLUMN()),\"\")","v":""},{"$f":"IFERROR(INDEX(TABPREBB!$A$10:$AF$281,MATCH($B$1&ROW($A35),TABPREBB!$AH$10:$AH$281,0),COLUMN()),\"\")","v":""},{"$f":"IFERROR(INDEX(TABPREBB!$A$10:$AF$281,MATCH($B$1&ROW($A35),TABPREBB!$AH$10:$AH$281,0),COLUMN()),\"\")","v":""},{"$f":"IFERROR(INDEX(TABPREBB!$A$10:$AF$281,MATCH($B$1&ROW($A35),TABPREBB!$AH$10:$AH$281,0),COLUMN()),\"\")","v":""},{"$f":"IFERROR(INDEX(TABPREBB!$A$10:$AF$281,MATCH($B$1&ROW($A35),TABPREBB!$AH$10:$AH$281,0),COLUMN()),\"\")","v":""},{"$f":"IFERROR(INDEX(TABPREBB!$A$10:$AF$281,MATCH($B$1&ROW($A35),TABPREBB!$AH$10:$AH$281,0),COLUMN()),\"\")","v":""},{"$f":"IFERROR(INDEX(TABPREBB!$A$10:$AF$281,MATCH($B$1&ROW($A35),TABPREBB!$AH$10:$AH$281,0),COLUMN()),\"\")","v":""},{"$f":"IFERROR(INDEX(TABPREBB!$A$10:$AF$281,MATCH($B$1&ROW($A35),TABPREBB!$AH$10:$AH$281,0),COLUMN()),\"\")","v":""},{"$f":"IFERROR(INDEX(TABPREBB!$A$10:$AF$281,MATCH($B$1&ROW($A35),TABPREBB!$AH$10:$AH$281,0),COLUMN()),\"\")","v":""},{"$f":"IFERROR(INDEX(TABPREBB!$A$10:$AF$281,MATCH($B$1&ROW($A35),TABPREBB!$AH$10:$AH$281,0),COLUMN()),\"\")","v":""},{"$f":"IFERROR(INDEX(TABPREBB!$A$10:$AF$281,MATCH($B$1&ROW($A35),TABPREBB!$AH$10:$AH$281,0),COLUMN()),\"\")","v":""},{"$f":"IFERROR(INDEX(TABPREBB!$A$10:$AF$281,MATCH($B$1&ROW($A35),TABPREBB!$AH$10:$AH$281,0),COLUMN()),\"\")","v":""},{"$f":"IFERROR(INDEX(TABPREBB!$A$10:$AF$281,MATCH($B$1&ROW($A35),TABPREBB!$AH$10:$AH$281,0),COLUMN()),\"\")","v":""},{"$f":"IFERROR(INDEX(TABPREBB!$A$10:$AF$281,MATCH($B$1&ROW($A35),TABPREBB!$AH$10:$AH$281,0),COLUMN()),\"\")","v":""},{"$f":"IFERROR(INDEX(TABPREBB!$A$10:$AF$281,MATCH($B$1&ROW($A35),TABPREBB!$AH$10:$AH$281,0),COLUMN()),\"\")","v":""},{"$f":"IFERROR(INDEX(TABPREBB!$A$10:$AF$281,MATCH($B$1&ROW($A35),TABPREBB!$AH$10:$AH$281,0),COLUMN()),\"\")","v":""},{"$f":"IFERROR(INDEX(TABPREBB!$A$10:$AF$281,MATCH($B$1&ROW($A35),TABPREBB!$AH$10:$AH$281,0),COLUMN()),\"\")","v":""},{"$f":"IFERROR(INDEX(TABPREBB!$A$10:$AF$281,MATCH($B$1&ROW($A35),TABPREBB!$AH$10:$AH$281,0),COLUMN()),\"\")","v":""},{"$f":"IFERROR(INDEX(TABPREBB!$A$10:$AF$281,MATCH($B$1&ROW($A35),TABPREBB!$AH$10:$AH$281,0),COLUMN()),\"\")","v":""},{"$f":"IFERROR(INDEX(TABPREBB!$A$10:$AF$281,MATCH($B$1&ROW($A35),TABPREBB!$AH$10:$AH$281,0),COLUMN()),\"\")","v":""},{"$f":"IFERROR(INDEX(TABPREBB!$A$10:$AF$281,MATCH($B$1&ROW($A35),TABPREBB!$AH$10:$AH$281,0),COLUMN()),\"\")","v":""},{"$f":"IFERROR(INDEX(TABPREBB!$A$10:$AF$281,MATCH($B$1&ROW($A35),TABPREBB!$AH$10:$AH$281,0),COLUMN()),\"\")","v":""}]
[{"$f":"IFERROR(INDEX(TABPREBB!$A$10:$AF$281,MATCH($B$1&ROW($A36),TABPREBB!$AH$10:$AH$281,0),COLUMN()),\"\")","v":""},{"$f":"IFERROR(INDEX(TABPREBB!$A$10:$AF$281,MATCH($B$1&ROW($A36),TABPREBB!$AH$10:$AH$281,0),COLUMN()),\"\")","v":""},{"$f":"IFERROR(INDEX(TABPREBB!$A$10:$AF$281,MATCH($B$1&ROW($A36),TABPREBB!$AH$10:$AH$281,0),COLUMN()),\"\")","v":""},{"$f":"IFERROR(INDEX(TABPREBB!$A$10:$AF$281,MATCH($B$1&ROW($A36),TABPREBB!$AH$10:$AH$281,0),COLUMN()),\"\")","v":""},{"$f":"IFERROR(INDEX(TABPREBB!$A$10:$AF$281,MATCH($B$1&ROW($A36),TABPREBB!$AH$10:$AH$281,0),COLUMN()),\"\")","v":""},{"$f":"IFERROR(INDEX(TABPREBB!$A$10:$AF$281,MATCH($B$1&ROW($A36),TABPREBB!$AH$10:$AH$281,0),COLUMN()),\"\")","v":""},{"$f":"IFERROR(INDEX(TABPREBB!$A$10:$AF$281,MATCH($B$1&ROW($A36),TABPREBB!$AH$10:$AH$281,0),COLUMN()),\"\")","v":""},{"$f":"IFERROR(INDEX(TABPREBB!$A$10:$AF$281,MATCH($B$1&ROW($A36),TABPREBB!$AH$10:$AH$281,0),COLUMN()),\"\")","v":""},{"$f":"IFERROR(INDEX(TABPREBB!$A$10:$AF$281,MATCH($B$1&ROW($A36),TABPREBB!$AH$10:$AH$281,0),COLUMN()),\"\")","v":""},{"$f":"IFERROR(INDEX(TABPREBB!$A$10:$AF$281,MATCH($B$1&ROW($A36),TABPREBB!$AH$10:$AH$281,0),COLUMN()),\"\")","v":""},{"$f":"IFERROR(INDEX(TABPREBB!$A$10:$AF$281,MATCH($B$1&ROW($A36),TABPREBB!$AH$10:$AH$281,0),COLUMN()),\"\")","v":""},{"$f":"IFERROR(INDEX(TABPREBB!$A$10:$AF$281,MATCH($B$1&ROW($A36),TABPREBB!$AH$10:$AH$281,0),COLUMN()),\"\")","v":""},{"$f":"IFERROR(INDEX(TABPREBB!$A$10:$AF$281,MATCH($B$1&ROW($A36),TABPREBB!$AH$10:$AH$281,0),COLUMN()),\"\")","v":""},{"$f":"IFERROR(INDEX(TABPREBB!$A$10:$AF$281,MATCH($B$1&ROW($A36),TABPREBB!$AH$10:$AH$281,0),COLUMN()),\"\")","v":""},{"$f":"IFERROR(INDEX(TABPREBB!$A$10:$AF$281,MATCH($B$1&ROW($A36),TABPREBB!$AH$10:$AH$281,0),COLUMN()),\"\")","v":""},{"$f":"IFERROR(INDEX(TABPREBB!$A$10:$AF$281,MATCH($B$1&ROW($A36),TABPREBB!$AH$10:$AH$281,0),COLUMN()),\"\")","v":""},{"$f":"IFERROR(INDEX(TABPREBB!$A$10:$AF$281,MATCH($B$1&ROW($A36),TABPREBB!$AH$10:$AH$281,0),COLUMN()),\"\")","v":""},{"$f":"IFERROR(INDEX(TABPREBB!$A$10:$AF$281,MATCH($B$1&ROW($A36),TABPREBB!$AH$10:$AH$281,0),COLUMN()),\"\")","v":""},{"$f":"IFERROR(INDEX(TABPREBB!$A$10:$AF$281,MATCH($B$1&ROW($A36),TABPREBB!$AH$10:$AH$281,0),COLUMN()),\"\")","v":""},{"$f":"IFERROR(INDEX(TABPREBB!$A$10:$AF$281,MATCH($B$1&ROW($A36),TABPREBB!$AH$10:$AH$281,0),COLUMN()),\"\")","v":""},{"$f":"IFERROR(INDEX(TABPREBB!$A$10:$AF$281,MATCH($B$1&ROW($A36),TABPREBB!$AH$10:$AH$281,0),COLUMN()),\"\")","v":""},{"$f":"IFERROR(INDEX(TABPREBB!$A$10:$AF$281,MATCH($B$1&ROW($A36),TABPREBB!$AH$10:$AH$281,0),COLUMN()),\"\")","v":""},{"$f":"IFERROR(INDEX(TABPREBB!$A$10:$AF$281,MATCH($B$1&ROW($A36),TABPREBB!$AH$10:$AH$281,0),COLUMN()),\"\")","v":""},{"$f":"IFERROR(INDEX(TABPREBB!$A$10:$AF$281,MATCH($B$1&ROW($A36),TABPREBB!$AH$10:$AH$281,0),COLUMN()),\"\")","v":""},{"$f":"IFERROR(INDEX(TABPREBB!$A$10:$AF$281,MATCH($B$1&ROW($A36),TABPREBB!$AH$10:$AH$281,0),COLUMN()),\"\")","v":""},{"$f":"IFERROR(INDEX(TABPREBB!$A$10:$AF$281,MATCH($B$1&ROW($A36),TABPREBB!$AH$10:$AH$281,0),COLUMN()),\"\")","v":""},{"$f":"IFERROR(INDEX(TABPREBB!$A$10:$AF$281,MATCH($B$1&ROW($A36),TABPREBB!$AH$10:$AH$281,0),COLUMN()),\"\")","v":""},{"$f":"IFERROR(INDEX(TABPREBB!$A$10:$AF$281,MATCH($B$1&ROW($A36),TABPREBB!$AH$10:$AH$281,0),COLUMN()),\"\")","v":""},{"$f":"IFERROR(INDEX(TABPREBB!$A$10:$AF$281,MATCH($B$1&ROW($A36),TABPREBB!$AH$10:$AH$281,0),COLUMN()),\"\")","v":""},{"$f":"IFERROR(INDEX(TABPREBB!$A$10:$AF$281,MATCH($B$1&ROW($A36),TABPREBB!$AH$10:$AH$281,0),COLUMN()),\"\")","v":""},{"$f":"IFERROR(INDEX(TABPREBB!$A$10:$AF$281,MATCH($B$1&ROW($A36),TABPREBB!$AH$10:$AH$281,0),COLUMN()),\"\")","v":""},{"$f":"IFERROR(INDEX(TABPREBB!$A$10:$AF$281,MATCH($B$1&ROW($A36),TABPREBB!$AH$10:$AH$281,0),COLUMN()),\"\")","v":""}]
[{"$f":"IFERROR(INDEX(TABPREBB!$A$10:$AF$281,MATCH($B$1&ROW($A37),TABPREBB!$AH$10:$AH$281,0),COLUMN()),\"\")","v":""},{"$f":"IFERROR(INDEX(TABPREBB!$A$10:$AF$281,MATCH($B$1&ROW($A37),TABPREBB!$AH$10:$AH$281,0),COLUMN()),\"\")","v":""},{"$f":"IFERROR(INDEX(TABPREBB!$A$10:$AF$281,MATCH($B$1&ROW($A37),TABPREBB!$AH$10:$AH$281,0),COLUMN()),\"\")","v":""},{"$f":"IFERROR(INDEX(TABPREBB!$A$10:$AF$281,MATCH($B$1&ROW($A37),TABPREBB!$AH$10:$AH$281,0),COLUMN()),\"\")","v":""},{"$f":"IFERROR(INDEX(TABPREBB!$A$10:$AF$281,MATCH($B$1&ROW($A37),TABPREBB!$AH$10:$AH$281,0),COLUMN()),\"\")","v":""},{"$f":"IFERROR(INDEX(TABPREBB!$A$10:$AF$281,MATCH($B$1&ROW($A37),TABPREBB!$AH$10:$AH$281,0),COLUMN()),\"\")","v":""},{"$f":"IFERROR(INDEX(TABPREBB!$A$10:$AF$281,MATCH($B$1&ROW($A37),TABPREBB!$AH$10:$AH$281,0),COLUMN()),\"\")","v":""},{"$f":"IFERROR(INDEX(TABPREBB!$A$10:$AF$281,MATCH($B$1&ROW($A37),TABPREBB!$AH$10:$AH$281,0),COLUMN()),\"\")","v":""},{"$f":"IFERROR(INDEX(TABPREBB!$A$10:$AF$281,MATCH($B$1&ROW($A37),TABPREBB!$AH$10:$AH$281,0),COLUMN()),\"\")","v":""},{"$f":"IFERROR(INDEX(TABPREBB!$A$10:$AF$281,MATCH($B$1&ROW($A37),TABPREBB!$AH$10:$AH$281,0),COLUMN()),\"\")","v":""},{"$f":"IFERROR(INDEX(TABPREBB!$A$10:$AF$281,MATCH($B$1&ROW($A37),TABPREBB!$AH$10:$AH$281,0),COLUMN()),\"\")","v":""},{"$f":"IFERROR(INDEX(TABPREBB!$A$10:$AF$281,MATCH($B$1&ROW($A37),TABPREBB!$AH$10:$AH$281,0),COLUMN()),\"\")","v":""},{"$f":"IFERROR(INDEX(TABPREBB!$A$10:$AF$281,MATCH($B$1&ROW($A37),TABPREBB!$AH$10:$AH$281,0),COLUMN()),\"\")","v":""},{"$f":"IFERROR(INDEX(TABPREBB!$A$10:$AF$281,MATCH($B$1&ROW($A37),TABPREBB!$AH$10:$AH$281,0),COLUMN()),\"\")","v":""},{"$f":"IFERROR(INDEX(TABPREBB!$A$10:$AF$281,MATCH($B$1&ROW($A37),TABPREBB!$AH$10:$AH$281,0),COLUMN()),\"\")","v":""},{"$f":"IFERROR(INDEX(TABPREBB!$A$10:$AF$281,MATCH($B$1&ROW($A37),TABPREBB!$AH$10:$AH$281,0),COLUMN()),\"\")","v":""},{"$f":"IFERROR(INDEX(TABPREBB!$A$10:$AF$281,MATCH($B$1&ROW($A37),TABPREBB!$AH$10:$AH$281,0),COLUMN()),\"\")","v":""},{"$f":"IFERROR(INDEX(TABPREBB!$A$10:$AF$281,MATCH($B$1&ROW($A37),TABPREBB!$AH$10:$AH$281,0),COLUMN()),\"\")","v":""},{"$f":"IFERROR(INDEX(TABPREBB!$A$10:$AF$281,MATCH($B$1&ROW($A37),TABPREBB!$AH$10:$AH$281,0),COLUMN()),\"\")","v":""},{"$f":"IFERROR(INDEX(TABPREBB!$A$10:$AF$281,MATCH($B$1&ROW($A37),TABPREBB!$AH$10:$AH$281,0),COLUMN()),\"\")","v":""},{"$f":"IFERROR(INDEX(TABPREBB!$A$10:$AF$281,MATCH($B$1&ROW($A37),TABPREBB!$AH$10:$AH$281,0),COLUMN()),\"\")","v":""},{"$f":"IFERROR(INDEX(TABPREBB!$A$10:$AF$281,MATCH($B$1&ROW($A37),TABPREBB!$AH$10:$AH$281,0),COLUMN()),\"\")","v":""},{"$f":"IFERROR(INDEX(TABPREBB!$A$10:$AF$281,MATCH($B$1&ROW($A37),TABPREBB!$AH$10:$AH$281,0),COLUMN()),\"\")","v":""},{"$f":"IFERROR(INDEX(TABPREBB!$A$10:$AF$281,MATCH($B$1&ROW($A37),TABPREBB!$AH$10:$AH$281,0),COLUMN()),\"\")","v":""},{"$f":"IFERROR(INDEX(TABPREBB!$A$10:$AF$281,MATCH($B$1&ROW($A37),TABPREBB!$AH$10:$AH$281,0),COLUMN()),\"\")","v":""},{"$f":"IFERROR(INDEX(TABPREBB!$A$10:$AF$281,MATCH($B$1&ROW($A37),TABPREBB!$AH$10:$AH$281,0),COLUMN()),\"\")","v":""},{"$f":"IFERROR(INDEX(TABPREBB!$A$10:$AF$281,MATCH($B$1&ROW($A37),TABPREBB!$AH$10:$AH$281,0),COLUMN()),\"\")","v":""},{"$f":"IFERROR(INDEX(TABPREBB!$A$10:$AF$281,MATCH($B$1&ROW($A37),TABPREBB!$AH$10:$AH$281,0),COLUMN()),\"\")","v":""},{"$f":"IFERROR(INDEX(TABPREBB!$A$10:$AF$281,MATCH($B$1&ROW($A37),TABPREBB!$AH$10:$AH$281,0),COLUMN()),\"\")","v":""},{"$f":"IFERROR(INDEX(TABPREBB!$A$10:$AF$281,MATCH($B$1&ROW($A37),TABPREBB!$AH$10:$AH$281,0),COLUMN()),\"\")","v":""},{"$f":"IFERROR(INDEX(TABPREBB!$A$10:$AF$281,MATCH($B$1&ROW($A37),TABPREBB!$AH$10:$AH$281,0),COLUMN()),\"\")","v":""},{"$f":"IFERROR(INDEX(TABPREBB!$A$10:$AF$281,MATCH($B$1&ROW($A37),TABPREBB!$AH$10:$AH$281,0),COLUMN()),\"\")","v":""}]
[{"$f":"IFERROR(INDEX(TABPREBB!$A$10:$AF$281,MATCH($B$1&ROW($A38),TABPREBB!$AH$10:$AH$281,0),COLUMN()),\"\")","v":""},{"$f":"IFERROR(INDEX(TABPREBB!$A$10:$AF$281,MATCH($B$1&ROW($A38),TABPREBB!$AH$10:$AH$281,0),COLUMN()),\"\")","v":""},{"$f":"IFERROR(INDEX(TABPREBB!$A$10:$AF$281,MATCH($B$1&ROW($A38),TABPREBB!$AH$10:$AH$281,0),COLUMN()),\"\")","v":""},{"$f":"IFERROR(INDEX(TABPREBB!$A$10:$AF$281,MATCH($B$1&ROW($A38),TABPREBB!$AH$10:$AH$281,0),COLUMN()),\"\")","v":""},{"$f":"IFERROR(INDEX(TABPREBB!$A$10:$AF$281,MATCH($B$1&ROW($A38),TABPREBB!$AH$10:$AH$281,0),COLUMN()),\"\")","v":""},{"$f":"IFERROR(INDEX(TABPREBB!$A$10:$AF$281,MATCH($B$1&ROW($A38),TABPREBB!$AH$10:$AH$281,0),COLUMN()),\"\")","v":""},{"$f":"IFERROR(INDEX(TABPREBB!$A$10:$AF$281,MATCH($B$1&ROW($A38),TABPREBB!$AH$10:$AH$281,0),COLUMN()),\"\")","v":""},{"$f":"IFERROR(INDEX(TABPREBB!$A$10:$AF$281,MATCH($B$1&ROW($A38),TABPREBB!$AH$10:$AH$281,0),COLUMN()),\"\")","v":""},{"$f":"IFERROR(INDEX(TABPREBB!$A$10:$AF$281,MATCH($B$1&ROW($A38),TABPREBB!$AH$10:$AH$281,0),COLUMN()),\"\")","v":""},{"$f":"IFERROR(INDEX(TABPREBB!$A$10:$AF$281,MATCH($B$1&ROW($A38),TABPREBB!$AH$10:$AH$281,0),COLUMN()),\"\")","v":""},{"$f":"IFERROR(INDEX(TABPREBB!$A$10:$AF$281,MATCH($B$1&ROW($A38),TABPREBB!$AH$10:$AH$281,0),COLUMN()),\"\")","v":""},{"$f":"IFERROR(INDEX(TABPREBB!$A$10:$AF$281,MATCH($B$1&ROW($A38),TABPREBB!$AH$10:$AH$281,0),COLUMN()),\"\")","v":""},{"$f":"IFERROR(INDEX(TABPREBB!$A$10:$AF$281,MATCH($B$1&ROW($A38),TABPREBB!$AH$10:$AH$281,0),COLUMN()),\"\")","v":""},{"$f":"IFERROR(INDEX(TABPREBB!$A$10:$AF$281,MATCH($B$1&ROW($A38),TABPREBB!$AH$10:$AH$281,0),COLUMN()),\"\")","v":""},{"$f":"IFERROR(INDEX(TABPREBB!$A$10:$AF$281,MATCH($B$1&ROW($A38),TABPREBB!$AH$10:$AH$281,0),COLUMN()),\"\")","v":""},{"$f":"IFERROR(INDEX(TABPREBB!$A$10:$AF$281,MATCH($B$1&ROW($A38),TABPREBB!$AH$10:$AH$281,0),COLUMN()),\"\")","v":""},{"$f":"IFERROR(INDEX(TABPREBB!$A$10:$AF$281,MATCH($B$1&ROW($A38),TABPREBB!$AH$10:$AH$281,0),COLUMN()),\"\")","v":""},{"$f":"IFERROR(INDEX(TABPREBB!$A$10:$AF$281,MATCH($B$1&ROW($A38),TABPREBB!$AH$10:$AH$281,0),COLUMN()),\"\")","v":""},{"$f":"IFERROR(INDEX(TABPREBB!$A$10:$AF$281,MATCH($B$1&ROW($A38),TABPREBB!$AH$10:$AH$281,0),COLUMN()),\"\")","v":""},{"$f":"IFERROR(INDEX(TABPREBB!$A$10:$AF$281,MATCH($B$1&ROW($A38),TABPREBB!$AH$10:$AH$281,0),COLUMN()),\"\")","v":""},{"$f":"IFERROR(INDEX(TABPREBB!$A$10:$AF$281,MATCH($B$1&ROW($A38),TABPREBB!$AH$10:$AH$281,0),COLUMN()),\"\")","v":""},{"$f":"IFERROR(INDEX(TABPREBB!$A$10:$AF$281,MATCH($B$1&ROW($A38),TABPREBB!$AH$10:$AH$281,0),COLUMN()),\"\")","v":""},{"$f":"IFERROR(INDEX(TABPREBB!$A$10:$AF$281,MATCH($B$1&ROW($A38),TABPREBB!$AH$10:$AH$281,0),COLUMN()),\"\")","v":""},{"$f":"IFERROR(INDEX(TABPREBB!$A$10:$AF$281,MATCH($B$1&ROW($A38),TABPREBB!$AH$10:$AH$281,0),COLUMN()),\"\")","v":""},{"$f":"IFERROR(INDEX(TABPREBB!$A$10:$AF$281,MATCH($B$1&ROW($A38),TABPREBB!$AH$10:$AH$281,0),COLUMN()),\"\")","v":""},{"$f":"IFERROR(INDEX(TABPREBB!$A$10:$AF$281,MATCH($B$1&ROW($A38),TABPREBB!$AH$10:$AH$281,0),COLUMN()),\"\")","v":""},{"$f":"IFERROR(INDEX(TABPREBB!$A$10:$AF$281,MATCH($B$1&ROW($A38),TABPREBB!$AH$10:$AH$281,0),COLUMN()),\"\")","v":""},{"$f":"IFERROR(INDEX(TABPREBB!$A$10:$AF$281,MATCH($B$1&ROW($A38),TABPREBB!$AH$10:$AH$281,0),COLUMN()),\"\")","v":""},{"$f":"IFERROR(INDEX(TABPREBB!$A$10:$AF$281,MATCH($B$1&ROW($A38),TABPREBB!$AH$10:$AH$281,0),COLUMN()),\"\")","v":""},{"$f":"IFERROR(INDEX(TABPREBB!$A$10:$AF$281,MATCH($B$1&ROW($A38),TABPREBB!$AH$10:$AH$281,0),COLUMN()),\"\")","v":""},{"$f":"IFERROR(INDEX(TABPREBB!$A$10:$AF$281,MATCH($B$1&ROW($A38),TABPREBB!$AH$10:$AH$281,0),COLUMN()),\"\")","v":""},{"$f":"IFERROR(INDEX(TABPREBB!$A$10:$AF$281,MATCH($B$1&ROW($A38),TABPREBB!$AH$10:$AH$281,0),COLUMN()),\"\")","v":""}]
[{"$f":"IFERROR(INDEX(TABPREBB!$A$10:$AF$281,MATCH($B$1&ROW($A39),TABPREBB!$AH$10:$AH$281,0),COLUMN()),\"\")","v":""},{"$f":"IFERROR(INDEX(TABPREBB!$A$10:$AF$281,MATCH($B$1&ROW($A39),TABPREBB!$AH$10:$AH$281,0),COLUMN()),\"\")","v":""},{"$f":"IFERROR(INDEX(TABPREBB!$A$10:$AF$281,MATCH($B$1&ROW($A39),TABPREBB!$AH$10:$AH$281,0),COLUMN()),\"\")","v":""},{"$f":"IFERROR(INDEX(TABPREBB!$A$10:$AF$281,MATCH($B$1&ROW($A39),TABPREBB!$AH$10:$AH$281,0),COLUMN()),\"\")","v":""},{"$f":"IFERROR(INDEX(TABPREBB!$A$10:$AF$281,MATCH($B$1&ROW($A39),TABPREBB!$AH$10:$AH$281,0),COLUMN()),\"\")","v":""},{"$f":"IFERROR(INDEX(TABPREBB!$A$10:$AF$281,MATCH($B$1&ROW($A39),TABPREBB!$AH$10:$AH$281,0),COLUMN()),\"\")","v":""},{"$f":"IFERROR(INDEX(TABPREBB!$A$10:$AF$281,MATCH($B$1&ROW($A39),TABPREBB!$AH$10:$AH$281,0),COLUMN()),\"\")","v":""},{"$f":"IFERROR(INDEX(TABPREBB!$A$10:$AF$281,MATCH($B$1&ROW($A39),TABPREBB!$AH$10:$AH$281,0),COLUMN()),\"\")","v":""},{"$f":"IFERROR(INDEX(TABPREBB!$A$10:$AF$281,MATCH($B$1&ROW($A39),TABPREBB!$AH$10:$AH$281,0),COLUMN()),\"\")","v":""},{"$f":"IFERROR(INDEX(TABPREBB!$A$10:$AF$281,MATCH($B$1&ROW($A39),TABPREBB!$AH$10:$AH$281,0),COLUMN()),\"\")","v":""},{"$f":"IFERROR(INDEX(TABPREBB!$A$10:$AF$281,MATCH($B$1&ROW($A39),TABPREBB!$AH$10:$AH$281,0),COLUMN()),\"\")","v":""},{"$f":"IFERROR(INDEX(TABPREBB!$A$10:$AF$281,MATCH($B$1&ROW($A39),TABPREBB!$AH$10:$AH$281,0),COLUMN()),\"\")","v":""},{"$f":"IFERROR(INDEX(TABPREBB!$A$10:$AF$281,MATCH($B$1&ROW($A39),TABPREBB!$AH$10:$AH$281,0),COLUMN()),\"\")","v":""},{"$f":"IFERROR(INDEX(TABPREBB!$A$10:$AF$281,MATCH($B$1&ROW($A39),TABPREBB!$AH$10:$AH$281,0),COLUMN()),\"\")","v":""},{"$f":"IFERROR(INDEX(TABPREBB!$A$10:$AF$281,MATCH($B$1&ROW($A39),TABPREBB!$AH$10:$AH$281,0),COLUMN()),\"\")","v":""},{"$f":"IFERROR(INDEX(TABPREBB!$A$10:$AF$281,MATCH($B$1&ROW($A39),TABPREBB!$AH$10:$AH$281,0),COLUMN()),\"\")","v":""},{"$f":"IFERROR(INDEX(TABPREBB!$A$10:$AF$281,MATCH($B$1&ROW($A39),TABPREBB!$AH$10:$AH$281,0),COLUMN()),\"\")","v":""},{"$f":"IFERROR(INDEX(TABPREBB!$A$10:$AF$281,MATCH($B$1&ROW($A39),TABPREBB!$AH$10:$AH$281,0),COLUMN()),\"\")","v":""},{"$f":"IFERROR(INDEX(TABPREBB!$A$10:$AF$281,MATCH($B$1&ROW($A39),TABPREBB!$AH$10:$AH$281,0),COLUMN()),\"\")","v":""},{"$f":"IFERROR(INDEX(TABPREBB!$A$10:$AF$281,MATCH($B$1&ROW($A39),TABPREBB!$AH$10:$AH$281,0),COLUMN()),\"\")","v":""},{"$f":"IFERROR(INDEX(TABPREBB!$A$10:$AF$281,MATCH($B$1&ROW($A39),TABPREBB!$AH$10:$AH$281,0),COLUMN()),\"\")","v":""},{"$f":"IFERROR(INDEX(TABPREBB!$A$10:$AF$281,MATCH($B$1&ROW($A39),TABPREBB!$AH$10:$AH$281,0),COLUMN()),\"\")","v":""},{"$f":"IFERROR(INDEX(TABPREBB!$A$10:$AF$281,MATCH($B$1&ROW($A39),TABPREBB!$AH$10:$AH$281,0),COLUMN()),\"\")","v":""},{"$f":"IFERROR(INDEX(TABPREBB!$A$10:$AF$281,MATCH($B$1&ROW($A39),TABPREBB!$AH$10:$AH$281,0),COLUMN()),\"\")","v":""},{"$f":"IFERROR(INDEX(TABPREBB!$A$10:$AF$281,MATCH($B$1&ROW($A39),TABPREBB!$AH$10:$AH$281,0),COLUMN()),\"\")","v":""},{"$f":"IFERROR(INDEX(TABPREBB!$A$10:$AF$281,MATCH($B$1&ROW($A39),TABPREBB!$AH$10:$AH$281,0),COLUMN()),\"\")","v":""},{"$f":"IFERROR(INDEX(TABPREBB!$A$10:$AF$281,MATCH($B$1&ROW($A39),TABPREBB!$AH$10:$AH$281,0),COLUMN()),\"\")","v":""},{"$f":"IFERROR(INDEX(TABPREBB!$A$10:$AF$281,MATCH($B$1&ROW($A39),TABPREBB!$AH$10:$AH$281,0),COLUMN()),\"\")","v":""},{"$f":"IFERROR(INDEX(TABPREBB!$A$10:$AF$281,MATCH($B$1&ROW($A39),TABPREBB!$AH$10:$AH$281,0),COLUMN()),\"\")","v":""},{"$f":"IFERROR(INDEX(TABPREBB!$A$10:$AF$281,MATCH($B$1&ROW($A39),TABPREBB!$AH$10:$AH$281,0),COLUMN()),\"\")","v":""},{"$f":"IFERROR(INDEX(TABPREBB!$A$10:$AF$281,MATCH($B$1&ROW($A39),TABPREBB!$AH$10:$AH$281,0),COLUMN()),\"\")","v":""},{"$f":"IFERROR(INDEX(TABPREBB!$A$10:$AF$281,MATCH($B$1&ROW($A39),TABPREBB!$AH$10:$AH$281,0),COLUMN()),\"\")","v":""}]
[{"$f":"IFERROR(INDEX(TABPREBB!$A$10:$AF$281,MATCH($B$1&ROW($A40),TABPREBB!$AH$10:$AH$281,0),COLUMN()),\"\")","v":""},{"$f":"IFERROR(INDEX(TABPREBB!$A$10:$AF$281,MATCH($B$1&ROW($A40),TABPREBB!$AH$10:$AH$281,0),COLUMN()),\"\")","v":""},{"$f":"IFERROR(INDEX(TABPREBB!$A$10:$AF$281,MATCH($B$1&ROW($A40),TABPREBB!$AH$10:$AH$281,0),COLUMN()),\"\")","v":""},{"$f":"IFERROR(INDEX(TABPREBB!$A$10:$AF$281,MATCH($B$1&ROW($A40),TABPREBB!$AH$10:$AH$281,0),COLUMN()),\"\")","v":""},{"$f":"IFERROR(INDEX(TABPREBB!$A$10:$AF$281,MATCH($B$1&ROW($A40),TABPREBB!$AH$10:$AH$281,0),COLUMN()),\"\")","v":""},{"$f":"IFERROR(INDEX(TABPREBB!$A$10:$AF$281,MATCH($B$1&ROW($A40),TABPREBB!$AH$10:$AH$281,0),COLUMN()),\"\")","v":""},{"$f":"IFERROR(INDEX(TABPREBB!$A$10:$AF$281,MATCH($B$1&ROW($A40),TABPREBB!$AH$10:$AH$281,0),COLUMN()),\"\")","v":""},{"$f":"IFERROR(INDEX(TABPREBB!$A$10:$AF$281,MATCH($B$1&ROW($A40),TABPREBB!$AH$10:$AH$281,0),COLUMN()),\"\")","v":""},{"$f":"IFERROR(INDEX(TABPREBB!$A$10:$AF$281,MATCH($B$1&ROW($A40),TABPREBB!$AH$10:$AH$281,0),COLUMN()),\"\")","v":""},{"$f":"IFERROR(INDEX(TABPREBB!$A$10:$AF$281,MATCH($B$1&ROW($A40),TABPREBB!$AH$10:$AH$281,0),COLUMN()),\"\")","v":""},{"$f":"IFERROR(INDEX(TABPREBB!$A$10:$AF$281,MATCH($B$1&ROW($A40),TABPREBB!$AH$10:$AH$281,0),COLUMN()),\"\")","v":""},{"$f":"IFERROR(INDEX(TABPREBB!$A$10:$AF$281,MATCH($B$1&ROW($A40),TABPREBB!$AH$10:$AH$281,0),COLUMN()),\"\")","v":""},{"$f":"IFERROR(INDEX(TABPREBB!$A$10:$AF$281,MATCH($B$1&ROW($A40),TABPREBB!$AH$10:$AH$281,0),COLUMN()),\"\")","v":""},{"$f":"IFERROR(INDEX(TABPREBB!$A$10:$AF$281,MATCH($B$1&ROW($A40),TABPREBB!$AH$10:$AH$281,0),COLUMN()),\"\")","v":""},{"$f":"IFERROR(INDEX(TABPREBB!$A$10:$AF$281,MATCH($B$1&ROW($A40),TABPREBB!$AH$10:$AH$281,0),COLUMN()),\"\")","v":""},{"$f":"IFERROR(INDEX(TABPREBB!$A$10:$AF$281,MATCH($B$1&ROW($A40),TABPREBB!$AH$10:$AH$281,0),COLUMN()),\"\")","v":""},{"$f":"IFERROR(INDEX(TABPREBB!$A$10:$AF$281,MATCH($B$1&ROW($A40),TABPREBB!$AH$10:$AH$281,0),COLUMN()),\"\")","v":""},{"$f":"IFERROR(INDEX(TABPREBB!$A$10:$AF$281,MATCH($B$1&ROW($A40),TABPREBB!$AH$10:$AH$281,0),COLUMN()),\"\")","v":""},{"$f":"IFERROR(INDEX(TABPREBB!$A$10:$AF$281,MATCH($B$1&ROW($A40),TABPREBB!$AH$10:$AH$281,0),COLUMN()),\"\")","v":""},{"$f":"IFERROR(INDEX(TABPREBB!$A$10:$AF$281,MATCH($B$1&ROW($A40),TABPREBB!$AH$10:$AH$281,0),COLUMN()),\"\")","v":""},{"$f":"IFERROR(INDEX(TABPREBB!$A$10:$AF$281,MATCH($B$1&ROW($A40),TABPREBB!$AH$10:$AH$281,0),COLUMN()),\"\")","v":""},{"$f":"IFERROR(INDEX(TABPREBB!$A$10:$AF$281,MATCH($B$1&ROW($A40),TABPREBB!$AH$10:$AH$281,0),COLUMN()),\"\")","v":""},{"$f":"IFERROR(INDEX(TABPREBB!$A$10:$AF$281,MATCH($B$1&ROW($A40),TABPREBB!$AH$10:$AH$281,0),COLUMN()),\"\")","v":""},{"$f":"IFERROR(INDEX(TABPREBB!$A$10:$AF$281,MATCH($B$1&ROW($A40),TABPREBB!$AH$10:$AH$281,0),COLUMN()),\"\")","v":""},{"$f":"IFERROR(INDEX(TABPREBB!$A$10:$AF$281,MATCH($B$1&ROW($A40),TABPREBB!$AH$10:$AH$281,0),COLUMN()),\"\")","v":""},{"$f":"IFERROR(INDEX(TABPREBB!$A$10:$AF$281,MATCH($B$1&ROW($A40),TABPREBB!$AH$10:$AH$281,0),COLUMN()),\"\")","v":""},{"$f":"IFERROR(INDEX(TABPREBB!$A$10:$AF$281,MATCH($B$1&ROW($A40),TABPREBB!$AH$10:$AH$281,0),COLUMN()),\"\")","v":""},{"$f":"IFERROR(INDEX(TABPREBB!$A$10:$AF$281,MATCH($B$1&ROW($A40),TABPREBB!$AH$10:$AH$281,0),COLUMN()),\"\")","v":""},{"$f":"IFERROR(INDEX(TABPREBB!$A$10:$AF$281,MATCH($B$1&ROW($A40),TABPREBB!$AH$10:$AH$281,0),COLUMN()),\"\")","v":""},{"$f":"IFERROR(INDEX(TABPREBB!$A$10:$AF$281,MATCH($B$1&ROW($A40),TABPREBB!$AH$10:$AH$281,0),COLUMN()),\"\")","v":""},{"$f":"IFERROR(INDEX(TABPREBB!$A$10:$AF$281,MATCH($B$1&ROW($A40),TABPREBB!$AH$10:$AH$281,0),COLUMN()),\"\")","v":""},{"$f":"IFERROR(INDEX(TABPREBB!$A$10:$AF$281,MATCH($B$1&ROW($A40),TABPREBB!$AH$10:$AH$281,0),COLUMN()),\"\")","v":""}]
[{"$f":"IFERROR(INDEX(TABPREBB!$A$10:$AF$281,MATCH($B$1&ROW($A41),TABPREBB!$AH$10:$AH$281,0),COLUMN()),\"\")","v":""},{"$f":"IFERROR(INDEX(TABPREBB!$A$10:$AF$281,MATCH($B$1&ROW($A41),TABPREBB!$AH$10:$AH$281,0),COLUMN()),\"\")","v":""},{"$f":"IFERROR(INDEX(TABPREBB!$A$10:$AF$281,MATCH($B$1&ROW($A41),TABPREBB!$AH$10:$AH$281,0),COLUMN()),\"\")","v":""},{"$f":"IFERROR(INDEX(TABPREBB!$A$10:$AF$281,MATCH($B$1&ROW($A41),TABPREBB!$AH$10:$AH$281,0),COLUMN()),\"\")","v":""},{"$f":"IFERROR(INDEX(TABPREBB!$A$10:$AF$281,MATCH($B$1&ROW($A41),TABPREBB!$AH$10:$AH$281,0),COLUMN()),\"\")","v":""},{"$f":"IFERROR(INDEX(TABPREBB!$A$10:$AF$281,MATCH($B$1&ROW($A41),TABPREBB!$AH$10:$AH$281,0),COLUMN()),\"\")","v":""},{"$f":"IFERROR(INDEX(TABPREBB!$A$10:$AF$281,MATCH($B$1&ROW($A41),TABPREBB!$AH$10:$AH$281,0),COLUMN()),\"\")","v":""},{"$f":"IFERROR(INDEX(TABPREBB!$A$10:$AF$281,MATCH($B$1&ROW($A41),TABPREBB!$AH$10:$AH$281,0),COLUMN()),\"\")","v":""},{"$f":"IFERROR(INDEX(TABPREBB!$A$10:$AF$281,MATCH($B$1&ROW($A41),TABPREBB!$AH$10:$AH$281,0),COLUMN()),\"\")","v":""},{"$f":"IFERROR(INDEX(TABPREBB!$A$10:$AF$281,MATCH($B$1&ROW($A41),TABPREBB!$AH$10:$AH$281,0),COLUMN()),\"\")","v":""},{"$f":"IFERROR(INDEX(TABPREBB!$A$10:$AF$281,MATCH($B$1&ROW($A41),TABPREBB!$AH$10:$AH$281,0),COLUMN()),\"\")","v":""},{"$f":"IFERROR(INDEX(TABPREBB!$A$10:$AF$281,MATCH($B$1&ROW($A41),TABPREBB!$AH$10:$AH$281,0),COLUMN()),\"\")","v":""},{"$f":"IFERROR(INDEX(TABPREBB!$A$10:$AF$281,MATCH($B$1&ROW($A41),TABPREBB!$AH$10:$AH$281,0),COLUMN()),\"\")","v":""},{"$f":"IFERROR(INDEX(TABPREBB!$A$10:$AF$281,MATCH($B$1&ROW($A41),TABPREBB!$AH$10:$AH$281,0),COLUMN()),\"\")","v":""},{"$f":"IFERROR(INDEX(TABPREBB!$A$10:$AF$281,MATCH($B$1&ROW($A41),TABPREBB!$AH$10:$AH$281,0),COLUMN()),\"\")","v":""},{"$f":"IFERROR(INDEX(TABPREBB!$A$10:$AF$281,MATCH($B$1&ROW($A41),TABPREBB!$AH$10:$AH$281,0),COLUMN()),\"\")","v":""},{"$f":"IFERROR(INDEX(TABPREBB!$A$10:$AF$281,MATCH($B$1&ROW($A41),TABPREBB!$AH$10:$AH$281,0),COLUMN()),\"\")","v":""},{"$f":"IFERROR(INDEX(TABPREBB!$A$10:$AF$281,MATCH($B$1&ROW($A41),TABPREBB!$AH$10:$AH$281,0),COLUMN()),\"\")","v":""},{"$f":"IFERROR(INDEX(TABPREBB!$A$10:$AF$281,MATCH($B$1&ROW($A41),TABPREBB!$AH$10:$AH$281,0),COLUMN()),\"\")","v":""},{"$f":"IFERROR(INDEX(TABPREBB!$A$10:$AF$281,MATCH($B$1&ROW($A41),TABPREBB!$AH$10:$AH$281,0),COLUMN()),\"\")","v":""},{"$f":"IFERROR(INDEX(TABPREBB!$A$10:$AF$281,MATCH($B$1&ROW($A41),TABPREBB!$AH$10:$AH$281,0),COLUMN()),\"\")","v":""},{"$f":"IFERROR(INDEX(TABPREBB!$A$10:$AF$281,MATCH($B$1&ROW($A41),TABPREBB!$AH$10:$AH$281,0),COLUMN()),\"\")","v":""},{"$f":"IFERROR(INDEX(TABPREBB!$A$10:$AF$281,MATCH($B$1&ROW($A41),TABPREBB!$AH$10:$AH$281,0),COLUMN()),\"\")","v":""},{"$f":"IFERROR(INDEX(TABPREBB!$A$10:$AF$281,MATCH($B$1&ROW($A41),TABPREBB!$AH$10:$AH$281,0),COLUMN()),\"\")","v":""},{"$f":"IFERROR(INDEX(TABPREBB!$A$10:$AF$281,MATCH($B$1&ROW($A41),TABPREBB!$AH$10:$AH$281,0),COLUMN()),\"\")","v":""},{"$f":"IFERROR(INDEX(TABPREBB!$A$10:$AF$281,MATCH($B$1&ROW($A41),TABPREBB!$AH$10:$AH$281,0),COLUMN()),\"\")","v":""},{"$f":"IFERROR(INDEX(TABPREBB!$A$10:$AF$281,MATCH($B$1&ROW($A41),TABPREBB!$AH$10:$AH$281,0),COLUMN()),\"\")","v":""},{"$f":"IFERROR(INDEX(TABPREBB!$A$10:$AF$281,MATCH($B$1&ROW($A41),TABPREBB!$AH$10:$AH$281,0),COLUMN()),\"\")","v":""},{"$f":"IFERROR(INDEX(TABPREBB!$A$10:$AF$281,MATCH($B$1&ROW($A41),TABPREBB!$AH$10:$AH$281,0),COLUMN()),\"\")","v":""},{"$f":"IFERROR(INDEX(TABPREBB!$A$10:$AF$281,MATCH($B$1&ROW($A41),TABPREBB!$AH$10:$AH$281,0),COLUMN()),\"\")","v":""},{"$f":"IFERROR(INDEX(TABPREBB!$A$10:$AF$281,MATCH($B$1&ROW($A41),TABPREBB!$AH$10:$AH$281,0),COLUMN()),\"\")","v":""},{"$f":"IFERROR(INDEX(TABPREBB!$A$10:$AF$281,MATCH($B$1&ROW($A41),TABPREBB!$AH$10:$AH$281,0),COLUMN()),\"\")","v":""}]
[{"$f":"IFERROR(INDEX(TABPREBB!$A$10:$AF$281,MATCH($B$1&ROW($A42),TABPREBB!$AH$10:$AH$281,0),COLUMN()),\"\")","v":""},{"$f":"IFERROR(INDEX(TABPREBB!$A$10:$AF$281,MATCH($B$1&ROW($A42),TABPREBB!$AH$10:$AH$281,0),COLUMN()),\"\")","v":""},{"$f":"IFERROR(INDEX(TABPREBB!$A$10:$AF$281,MATCH($B$1&ROW($A42),TABPREBB!$AH$10:$AH$281,0),COLUMN()),\"\")","v":""},{"$f":"IFERROR(INDEX(TABPREBB!$A$10:$AF$281,MATCH($B$1&ROW($A42),TABPREBB!$AH$10:$AH$281,0),COLUMN()),\"\")","v":""},{"$f":"IFERROR(INDEX(TABPREBB!$A$10:$AF$281,MATCH($B$1&ROW($A42),TABPREBB!$AH$10:$AH$281,0),COLUMN()),\"\")","v":""},{"$f":"IFERROR(INDEX(TABPREBB!$A$10:$AF$281,MATCH($B$1&ROW($A42),TABPREBB!$AH$10:$AH$281,0),COLUMN()),\"\")","v":""},{"$f":"IFERROR(INDEX(TABPREBB!$A$10:$AF$281,MATCH($B$1&ROW($A42),TABPREBB!$AH$10:$AH$281,0),COLUMN()),\"\")","v":""},{"$f":"IFERROR(INDEX(TABPREBB!$A$10:$AF$281,MATCH($B$1&ROW($A42),TABPREBB!$AH$10:$AH$281,0),COLUMN()),\"\")","v":""},{"$f":"IFERROR(INDEX(TABPREBB!$A$10:$AF$281,MATCH($B$1&ROW($A42),TABPREBB!$AH$10:$AH$281,0),COLUMN()),\"\")","v":""},{"$f":"IFERROR(INDEX(TABPREBB!$A$10:$AF$281,MATCH($B$1&ROW($A42),TABPREBB!$AH$10:$AH$281,0),COLUMN()),\"\")","v":""},{"$f":"IFERROR(INDEX(TABPREBB!$A$10:$AF$281,MATCH($B$1&ROW($A42),TABPREBB!$AH$10:$AH$281,0),COLUMN()),\"\")","v":""},{"$f":"IFERROR(INDEX(TABPREBB!$A$10:$AF$281,MATCH($B$1&ROW($A42),TABPREBB!$AH$10:$AH$281,0),COLUMN()),\"\")","v":""},{"$f":"IFERROR(INDEX(TABPREBB!$A$10:$AF$281,MATCH($B$1&ROW($A42),TABPREBB!$AH$10:$AH$281,0),COLUMN()),\"\")","v":""},{"$f":"IFERROR(INDEX(TABPREBB!$A$10:$AF$281,MATCH($B$1&ROW($A42),TABPREBB!$AH$10:$AH$281,0),COLUMN()),\"\")","v":""},{"$f":"IFERROR(INDEX(TABPREBB!$A$10:$AF$281,MATCH($B$1&ROW($A42),TABPREBB!$AH$10:$AH$281,0),COLUMN()),\"\")","v":""},{"$f":"IFERROR(INDEX(TABPREBB!$A$10:$AF$281,MATCH($B$1&ROW($A42),TABPREBB!$AH$10:$AH$281,0),COLUMN()),\"\")","v":""},{"$f":"IFERROR(INDEX(TABPREBB!$A$10:$AF$281,MATCH($B$1&ROW($A42),TABPREBB!$AH$10:$AH$281,0),COLUMN()),\"\")","v":""},{"$f":"IFERROR(INDEX(TABPREBB!$A$10:$AF$281,MATCH($B$1&ROW($A42),TABPREBB!$AH$10:$AH$281,0),COLUMN()),\"\")","v":""},{"$f":"IFERROR(INDEX(TABPREBB!$A$10:$AF$281,MATCH($B$1&ROW($A42),TABPREBB!$AH$10:$AH$281,0),COLUMN()),\"\")","v":""},{"$f":"IFERROR(INDEX(TABPREBB!$A$10:$AF$281,MATCH($B$1&ROW($A42),TABPREBB!$AH$10:$AH$281,0),COLUMN()),\"\")","v":""},{"$f":"IFERROR(INDEX(TABPREBB!$A$10:$AF$281,MATCH($B$1&ROW($A42),TABPREBB!$AH$10:$AH$281,0),COLUMN()),\"\")","v":""},{"$f":"IFERROR(INDEX(TABPREBB!$A$10:$AF$281,MATCH($B$1&ROW($A42),TABPREBB!$AH$10:$AH$281,0),COLUMN()),\"\")","v":""},{"$f":"IFERROR(INDEX(TABPREBB!$A$10:$AF$281,MATCH($B$1&ROW($A42),TABPREBB!$AH$10:$AH$281,0),COLUMN()),\"\")","v":""},{"$f":"IFERROR(INDEX(TABPREBB!$A$10:$AF$281,MATCH($B$1&ROW($A42),TABPREBB!$AH$10:$AH$281,0),COLUMN()),\"\")","v":""},{"$f":"IFERROR(INDEX(TABPREBB!$A$10:$AF$281,MATCH($B$1&ROW($A42),TABPREBB!$AH$10:$AH$281,0),COLUMN()),\"\")","v":""},{"$f":"IFERROR(INDEX(TABPREBB!$A$10:$AF$281,MATCH($B$1&ROW($A42),TABPREBB!$AH$10:$AH$281,0),COLUMN()),\"\")","v":""},{"$f":"IFERROR(INDEX(TABPREBB!$A$10:$AF$281,MATCH($B$1&ROW($A42),TABPREBB!$AH$10:$AH$281,0),COLUMN()),\"\")","v":""},{"$f":"IFERROR(INDEX(TABPREBB!$A$10:$AF$281,MATCH($B$1&ROW($A42),TABPREBB!$AH$10:$AH$281,0),COLUMN()),\"\")","v":""},{"$f":"IFERROR(INDEX(TABPREBB!$A$10:$AF$281,MATCH($B$1&ROW($A42),TABPREBB!$AH$10:$AH$281,0),COLUMN()),\"\")","v":""},{"$f":"IFERROR(INDEX(TABPREBB!$A$10:$AF$281,MATCH($B$1&ROW($A42),TABPREBB!$AH$10:$AH$281,0),COLUMN()),\"\")","v":""},{"$f":"IFERROR(INDEX(TABPREBB!$A$10:$AF$281,MATCH($B$1&ROW($A42),TABPREBB!$AH$10:$AH$281,0),COLUMN()),\"\")","v":""},{"$f":"IFERROR(INDEX(TABPREBB!$A$10:$AF$281,MATCH($B$1&ROW($A42),TABPREBB!$AH$10:$AH$281,0),COLUMN()),\"\")","v":""}]
[{"$f":"IFERROR(INDEX(TABPREBB!$A$10:$AF$281,MATCH($B$1&ROW($A43),TABPREBB!$AH$10:$AH$281,0),COLUMN()),\"\")","v":""},{"$f":"IFERROR(INDEX(TABPREBB!$A$10:$AF$281,MATCH($B$1&ROW($A43),TABPREBB!$AH$10:$AH$281,0),COLUMN()),\"\")","v":""},{"$f":"IFERROR(INDEX(TABPREBB!$A$10:$AF$281,MATCH($B$1&ROW($A43),TABPREBB!$AH$10:$AH$281,0),COLUMN()),\"\")","v":""},{"$f":"IFERROR(INDEX(TABPREBB!$A$10:$AF$281,MATCH($B$1&ROW($A43),TABPREBB!$AH$10:$AH$281,0),COLUMN()),\"\")","v":""},{"$f":"IFERROR(INDEX(TABPREBB!$A$10:$AF$281,MATCH($B$1&ROW($A43),TABPREBB!$AH$10:$AH$281,0),COLUMN()),\"\")","v":""},{"$f":"IFERROR(INDEX(TABPREBB!$A$10:$AF$281,MATCH($B$1&ROW($A43),TABPREBB!$AH$10:$AH$281,0),COLUMN()),\"\")","v":""},{"$f":"IFERROR(INDEX(TABPREBB!$A$10:$AF$281,MATCH($B$1&ROW($A43),TABPREBB!$AH$10:$AH$281,0),COLUMN()),\"\")","v":""},{"$f":"IFERROR(INDEX(TABPREBB!$A$10:$AF$281,MATCH($B$1&ROW($A43),TABPREBB!$AH$10:$AH$281,0),COLUMN()),\"\")","v":""},{"$f":"IFERROR(INDEX(TABPREBB!$A$10:$AF$281,MATCH($B$1&ROW($A43),TABPREBB!$AH$10:$AH$281,0),COLUMN()),\"\")","v":""},{"$f":"IFERROR(INDEX(TABPREBB!$A$10:$AF$281,MATCH($B$1&ROW($A43),TABPREBB!$AH$10:$AH$281,0),COLUMN()),\"\")","v":""},{"$f":"IFERROR(INDEX(TABPREBB!$A$10:$AF$281,MATCH($B$1&ROW($A43),TABPREBB!$AH$10:$AH$281,0),COLUMN()),\"\")","v":""},{"$f":"IFERROR(INDEX(TABPREBB!$A$10:$AF$281,MATCH($B$1&ROW($A43),TABPREBB!$AH$10:$AH$281,0),COLUMN()),\"\")","v":""},{"$f":"IFERROR(INDEX(TABPREBB!$A$10:$AF$281,MATCH($B$1&ROW($A43),TABPREBB!$AH$10:$AH$281,0),COLUMN()),\"\")","v":""},{"$f":"IFERROR(INDEX(TABPREBB!$A$10:$AF$281,MATCH($B$1&ROW($A43),TABPREBB!$AH$10:$AH$281,0),COLUMN()),\"\")","v":""},{"$f":"IFERROR(INDEX(TABPREBB!$A$10:$AF$281,MATCH($B$1&ROW($A43),TABPREBB!$AH$10:$AH$281,0),COLUMN()),\"\")","v":""},{"$f":"IFERROR(INDEX(TABPREBB!$A$10:$AF$281,MATCH($B$1&ROW($A43),TABPREBB!$AH$10:$AH$281,0),COLUMN()),\"\")","v":""},{"$f":"IFERROR(INDEX(TABPREBB!$A$10:$AF$281,MATCH($B$1&ROW($A43),TABPREBB!$AH$10:$AH$281,0),COLUMN()),\"\")","v":""},{"$f":"IFERROR(INDEX(TABPREBB!$A$10:$AF$281,MATCH($B$1&ROW($A43),TABPREBB!$AH$10:$AH$281,0),COLUMN()),\"\")","v":""},{"$f":"IFERROR(INDEX(TABPREBB!$A$10:$AF$281,MATCH($B$1&ROW($A43),TABPREBB!$AH$10:$AH$281,0),COLUMN()),\"\")","v":""},{"$f":"IFERROR(INDEX(TABPREBB!$A$10:$AF$281,MATCH($B$1&ROW($A43),TABPREBB!$AH$10:$AH$281,0),COLUMN()),\"\")","v":""},{"$f":"IFERROR(INDEX(TABPREBB!$A$10:$AF$281,MATCH($B$1&ROW($A43),TABPREBB!$AH$10:$AH$281,0),COLUMN()),\"\")","v":""},{"$f":"IFERROR(INDEX(TABPREBB!$A$10:$AF$281,MATCH($B$1&ROW($A43),TABPREBB!$AH$10:$AH$281,0),COLUMN()),\"\")","v":""},{"$f":"IFERROR(INDEX(TABPREBB!$A$10:$AF$281,MATCH($B$1&ROW($A43),TABPREBB!$AH$10:$AH$281,0),COLUMN()),\"\")","v":""},{"$f":"IFERROR(INDEX(TABPREBB!$A$10:$AF$281,MATCH($B$1&ROW($A43),TABPREBB!$AH$10:$AH$281,0),COLUMN()),\"\")","v":""},{"$f":"IFERROR(INDEX(TABPREBB!$A$10:$AF$281,MATCH($B$1&ROW($A43),TABPREBB!$AH$10:$AH$281,0),COLUMN()),\"\")","v":""},{"$f":"IFERROR(INDEX(TABPREBB!$A$10:$AF$281,MATCH($B$1&ROW($A43),TABPREBB!$AH$10:$AH$281,0),COLUMN()),\"\")","v":""},{"$f":"IFERROR(INDEX(TABPREBB!$A$10:$AF$281,MATCH($B$1&ROW($A43),TABPREBB!$AH$10:$AH$281,0),COLUMN()),\"\")","v":""},{"$f":"IFERROR(INDEX(TABPREBB!$A$10:$AF$281,MATCH($B$1&ROW($A43),TABPREBB!$AH$10:$AH$281,0),COLUMN()),\"\")","v":""},{"$f":"IFERROR(INDEX(TABPREBB!$A$10:$AF$281,MATCH($B$1&ROW($A43),TABPREBB!$AH$10:$AH$281,0),COLUMN()),\"\")","v":""},{"$f":"IFERROR(INDEX(TABPREBB!$A$10:$AF$281,MATCH($B$1&ROW($A43),TABPREBB!$AH$10:$AH$281,0),COLUMN()),\"\")","v":""},{"$f":"IFERROR(INDEX(TABPREBB!$A$10:$AF$281,MATCH($B$1&ROW($A43),TABPREBB!$AH$10:$AH$281,0),COLUMN()),\"\")","v":""},{"$f":"IFERROR(INDEX(TABPREBB!$A$10:$AF$281,MATCH($B$1&ROW($A43),TABPREBB!$AH$10:$AH$281,0),COLUMN()),\"\")","v":""}]
[{"$f":"IFERROR(INDEX(TABPREBB!$A$10:$AF$281,MATCH($B$1&ROW($A44),TABPREBB!$AH$10:$AH$281,0),COLUMN()),\"\")","v":""},{"$f":"IFERROR(INDEX(TABPREBB!$A$10:$AF$281,MATCH($B$1&ROW($A44),TABPREBB!$AH$10:$AH$281,0),COLUMN()),\"\")","v":""},{"$f":"IFERROR(INDEX(TABPREBB!$A$10:$AF$281,MATCH($B$1&ROW($A44),TABPREBB!$AH$10:$AH$281,0),COLUMN()),\"\")","v":""},{"$f":"IFERROR(INDEX(TABPREBB!$A$10:$AF$281,MATCH($B$1&ROW($A44),TABPREBB!$AH$10:$AH$281,0),COLUMN()),\"\")","v":""},{"$f":"IFERROR(INDEX(TABPREBB!$A$10:$AF$281,MATCH($B$1&ROW($A44),TABPREBB!$AH$10:$AH$281,0),COLUMN()),\"\")","v":""},{"$f":"IFERROR(INDEX(TABPREBB!$A$10:$AF$281,MATCH($B$1&ROW($A44),TABPREBB!$AH$10:$AH$281,0),COLUMN()),\"\")","v":""},{"$f":"IFERROR(INDEX(TABPREBB!$A$10:$AF$281,MATCH($B$1&ROW($A44),TABPREBB!$AH$10:$AH$281,0),COLUMN()),\"\")","v":""},{"$f":"IFERROR(INDEX(TABPREBB!$A$10:$AF$281,MATCH($B$1&ROW($A44),TABPREBB!$AH$10:$AH$281,0),COLUMN()),\"\")","v":""},{"$f":"IFERROR(INDEX(TABPREBB!$A$10:$AF$281,MATCH($B$1&ROW($A44),TABPREBB!$AH$10:$AH$281,0),COLUMN()),\"\")","v":""},{"$f":"IFERROR(INDEX(TABPREBB!$A$10:$AF$281,MATCH($B$1&ROW($A44),TABPREBB!$AH$10:$AH$281,0),COLUMN()),\"\")","v":""},{"$f":"IFERROR(INDEX(TABPREBB!$A$10:$AF$281,MATCH($B$1&ROW($A44),TABPREBB!$AH$10:$AH$281,0),COLUMN()),\"\")","v":""},{"$f":"IFERROR(INDEX(TABPREBB!$A$10:$AF$281,MATCH($B$1&ROW($A44),TABPREBB!$AH$10:$AH$281,0),COLUMN()),\"\")","v":""},{"$f":"IFERROR(INDEX(TABPREBB!$A$10:$AF$281,MATCH($B$1&ROW($A44),TABPREBB!$AH$10:$AH$281,0),COLUMN()),\"\")","v":""},{"$f":"IFERROR(INDEX(TABPREBB!$A$10:$AF$281,MATCH($B$1&ROW($A44),TABPREBB!$AH$10:$AH$281,0),COLUMN()),\"\")","v":""},{"$f":"IFERROR(INDEX(TABPREBB!$A$10:$AF$281,MATCH($B$1&ROW($A44),TABPREBB!$AH$10:$AH$281,0),COLUMN()),\"\")","v":""},{"$f":"IFERROR(INDEX(TABPREBB!$A$10:$AF$281,MATCH($B$1&ROW($A44),TABPREBB!$AH$10:$AH$281,0),COLUMN()),\"\")","v":""},{"$f":"IFERROR(INDEX(TABPREBB!$A$10:$AF$281,MATCH($B$1&ROW($A44),TABPREBB!$AH$10:$AH$281,0),COLUMN()),\"\")","v":""},{"$f":"IFERROR(INDEX(TABPREBB!$A$10:$AF$281,MATCH($B$1&ROW($A44),TABPREBB!$AH$10:$AH$281,0),COLUMN()),\"\")","v":""},{"$f":"IFERROR(INDEX(TABPREBB!$A$10:$AF$281,MATCH($B$1&ROW($A44),TABPREBB!$AH$10:$AH$281,0),COLUMN()),\"\")","v":""},{"$f":"IFERROR(INDEX(TABPREBB!$A$10:$AF$281,MATCH($B$1&ROW($A44),TABPREBB!$AH$10:$AH$281,0),COLUMN()),\"\")","v":""},{"$f":"IFERROR(INDEX(TABPREBB!$A$10:$AF$281,MATCH($B$1&ROW($A44),TABPREBB!$AH$10:$AH$281,0),COLUMN()),\"\")","v":""},{"$f":"IFERROR(INDEX(TABPREBB!$A$10:$AF$281,MATCH($B$1&ROW($A44),TABPREBB!$AH$10:$AH$281,0),COLUMN()),\"\")","v":""},{"$f":"IFERROR(INDEX(TABPREBB!$A$10:$AF$281,MATCH($B$1&ROW($A44),TABPREBB!$AH$10:$AH$281,0),COLUMN()),\"\")","v":""},{"$f":"IFERROR(INDEX(TABPREBB!$A$10:$AF$281,MATCH($B$1&ROW($A44),TABPREBB!$AH$10:$AH$281,0),COLUMN()),\"\")","v":""},{"$f":"IFERROR(INDEX(TABPREBB!$A$10:$AF$281,MATCH($B$1&ROW($A44),TABPREBB!$AH$10:$AH$281,0),COLUMN()),\"\")","v":""},{"$f":"IFERROR(INDEX(TABPREBB!$A$10:$AF$281,MATCH($B$1&ROW($A44),TABPREBB!$AH$10:$AH$281,0),COLUMN()),\"\")","v":""},{"$f":"IFERROR(INDEX(TABPREBB!$A$10:$AF$281,MATCH($B$1&ROW($A44),TABPREBB!$AH$10:$AH$281,0),COLUMN()),\"\")","v":""},{"$f":"IFERROR(INDEX(TABPREBB!$A$10:$AF$281,MATCH($B$1&ROW($A44),TABPREBB!$AH$10:$AH$281,0),COLUMN()),\"\")","v":""},{"$f":"IFERROR(INDEX(TABPREBB!$A$10:$AF$281,MATCH($B$1&ROW($A44),TABPREBB!$AH$10:$AH$281,0),COLUMN()),\"\")","v":""},{"$f":"IFERROR(INDEX(TABPREBB!$A$10:$AF$281,MATCH($B$1&ROW($A44),TABPREBB!$AH$10:$AH$281,0),COLUMN()),\"\")","v":""},{"$f":"IFERROR(INDEX(TABPREBB!$A$10:$AF$281,MATCH($B$1&ROW($A44),TABPREBB!$AH$10:$AH$281,0),COLUMN()),\"\")","v":""},{"$f":"IFERROR(INDEX(TABPREBB!$A$10:$AF$281,MATCH($B$1&ROW($A44),TABPREBB!$AH$10:$AH$281,0),COLUMN()),\"\")","v":""}]
[{"$f":"IFERROR(INDEX(TABPREBB!$A$10:$AF$281,MATCH($B$1&ROW($A45),TABPREBB!$AH$10:$AH$281,0),COLUMN()),\"\")","v":""},{"$f":"IFERROR(INDEX(TABPREBB!$A$10:$AF$281,MATCH($B$1&ROW($A45),TABPREBB!$AH$10:$AH$281,0),COLUMN()),\"\")","v":""},{"$f":"IFERROR(INDEX(TABPREBB!$A$10:$AF$281,MATCH($B$1&ROW($A45),TABPREBB!$AH$10:$AH$281,0),COLUMN()),\"\")","v":""},{"$f":"IFERROR(INDEX(TABPREBB!$A$10:$AF$281,MATCH($B$1&ROW($A45),TABPREBB!$AH$10:$AH$281,0),COLUMN()),\"\")","v":""},{"$f":"IFERROR(INDEX(TABPREBB!$A$10:$AF$281,MATCH($B$1&ROW($A45),TABPREBB!$AH$10:$AH$281,0),COLUMN()),\"\")","v":""},{"$f":"IFERROR(INDEX(TABPREBB!$A$10:$AF$281,MATCH($B$1&ROW($A45),TABPREBB!$AH$10:$AH$281,0),COLUMN()),\"\")","v":""},{"$f":"IFERROR(INDEX(TABPREBB!$A$10:$AF$281,MATCH($B$1&ROW($A45),TABPREBB!$AH$10:$AH$281,0),COLUMN()),\"\")","v":""},{"$f":"IFERROR(INDEX(TABPREBB!$A$10:$AF$281,MATCH($B$1&ROW($A45),TABPREBB!$AH$10:$AH$281,0),COLUMN()),\"\")","v":""},{"$f":"IFERROR(INDEX(TABPREBB!$A$10:$AF$281,MATCH($B$1&ROW($A45),TABPREBB!$AH$10:$AH$281,0),COLUMN()),\"\")","v":""},{"$f":"IFERROR(INDEX(TABPREBB!$A$10:$AF$281,MATCH($B$1&ROW($A45),TABPREBB!$AH$10:$AH$281,0),COLUMN()),\"\")","v":""},{"$f":"IFERROR(INDEX(TABPREBB!$A$10:$AF$281,MATCH($B$1&ROW($A45),TABPREBB!$AH$10:$AH$281,0),COLUMN()),\"\")","v":""},{"$f":"IFERROR(INDEX(TABPREBB!$A$10:$AF$281,MATCH($B$1&ROW($A45),TABPREBB!$AH$10:$AH$281,0),COLUMN()),\"\")","v":""},{"$f":"IFERROR(INDEX(TABPREBB!$A$10:$AF$281,MATCH($B$1&ROW($A45),TABPREBB!$AH$10:$AH$281,0),COLUMN()),\"\")","v":""},{"$f":"IFERROR(INDEX(TABPREBB!$A$10:$AF$281,MATCH($B$1&ROW($A45),TABPREBB!$AH$10:$AH$281,0),COLUMN()),\"\")","v":""},{"$f":"IFERROR(INDEX(TABPREBB!$A$10:$AF$281,MATCH($B$1&ROW($A45),TABPREBB!$AH$10:$AH$281,0),COLUMN()),\"\")","v":""},{"$f":"IFERROR(INDEX(TABPREBB!$A$10:$AF$281,MATCH($B$1&ROW($A45),TABPREBB!$AH$10:$AH$281,0),COLUMN()),\"\")","v":""},{"$f":"IFERROR(INDEX(TABPREBB!$A$10:$AF$281,MATCH($B$1&ROW($A45),TABPREBB!$AH$10:$AH$281,0),COLUMN()),\"\")","v":""},{"$f":"IFERROR(INDEX(TABPREBB!$A$10:$AF$281,MATCH($B$1&ROW($A45),TABPREBB!$AH$10:$AH$281,0),COLUMN()),\"\")","v":""},{"$f":"IFERROR(INDEX(TABPREBB!$A$10:$AF$281,MATCH($B$1&ROW($A45),TABPREBB!$AH$10:$AH$281,0),COLUMN()),\"\")","v":""},{"$f":"IFERROR(INDEX(TABPREBB!$A$10:$AF$281,MATCH($B$1&ROW($A45),TABPREBB!$AH$10:$AH$281,0),COLUMN()),\"\")","v":""},{"$f":"IFERROR(INDEX(TABPREBB!$A$10:$AF$281,MATCH($B$1&ROW($A45),TABPREBB!$AH$10:$AH$281,0),COLUMN()),\"\")","v":""},{"$f":"IFERROR(INDEX(TABPREBB!$A$10:$AF$281,MATCH($B$1&ROW($A45),TABPREBB!$AH$10:$AH$281,0),COLUMN()),\"\")","v":""},{"$f":"IFERROR(INDEX(TABPREBB!$A$10:$AF$281,MATCH($B$1&ROW($A45),TABPREBB!$AH$10:$AH$281,0),COLUMN()),\"\")","v":""},{"$f":"IFERROR(INDEX(TABPREBB!$A$10:$AF$281,MATCH($B$1&ROW($A45),TABPREBB!$AH$10:$AH$281,0),COLUMN()),\"\")","v":""},{"$f":"IFERROR(INDEX(TABPREBB!$A$10:$AF$281,MATCH($B$1&ROW($A45),TABPREBB!$AH$10:$AH$281,0),COLUMN()),\"\")","v":""},{"$f":"IFERROR(INDEX(TABPREBB!$A$10:$AF$281,MATCH($B$1&ROW($A45),TABPREBB!$AH$10:$AH$281,0),COLUMN()),\"\")","v":""},{"$f":"IFERROR(INDEX(TABPREBB!$A$10:$AF$281,MATCH($B$1&ROW($A45),TABPREBB!$AH$10:$AH$281,0),COLUMN()),\"\")","v":""},{"$f":"IFERROR(INDEX(TABPREBB!$A$10:$AF$281,MATCH($B$1&ROW($A45),TABPREBB!$AH$10:$AH$281,0),COLUMN()),\"\")","v":""},{"$f":"IFERROR(INDEX(TABPREBB!$A$10:$AF$281,MATCH($B$1&ROW($A45),TABPREBB!$AH$10:$AH$281,0),COLUMN()),\"\")","v":""},{"$f":"IFERROR(INDEX(TABPREBB!$A$10:$AF$281,MATCH($B$1&ROW($A45),TABPREBB!$AH$10:$AH$281,0),COLUMN()),\"\")","v":""},{"$f":"IFERROR(INDEX(TABPREBB!$A$10:$AF$281,MATCH($B$1&ROW($A45),TABPREBB!$AH$10:$AH$281,0),COLUMN()),\"\")","v":""},{"$f":"IFERROR(INDEX(TABPREBB!$A$10:$AF$281,MATCH($B$1&ROW($A45),TABPREBB!$AH$10:$AH$281,0),COLUMN()),\"\")","v":""}]
[{"$f":"IFERROR(INDEX(TABPREBB!$A$10:$AF$281,MATCH($B$1&ROW($A46),TABPREBB!$AH$10:$AH$281,0),COLUMN()),\"\")","v":""},{"$f":"IFERROR(INDEX(TABPREBB!$A$10:$AF$281,MATCH($B$1&ROW($A46),TABPREBB!$AH$10:$AH$281,0),COLUMN()),\"\")","v":""},{"$f":"IFERROR(INDEX(TABPREBB!$A$10:$AF$281,MATCH($B$1&ROW($A46),TABPREBB!$AH$10:$AH$281,0),COLUMN()),\"\")","v":""},{"$f":"IFERROR(INDEX(TABPREBB!$A$10:$AF$281,MATCH($B$1&ROW($A46),TABPREBB!$AH$10:$AH$281,0),COLUMN()),\"\")","v":""},{"$f":"IFERROR(INDEX(TABPREBB!$A$10:$AF$281,MATCH($B$1&ROW($A46),TABPREBB!$AH$10:$AH$281,0),COLUMN()),\"\")","v":""},{"$f":"IFERROR(INDEX(TABPREBB!$A$10:$AF$281,MATCH($B$1&ROW($A46),TABPREBB!$AH$10:$AH$281,0),COLUMN()),\"\")","v":""},{"$f":"IFERROR(INDEX(TABPREBB!$A$10:$AF$281,MATCH($B$1&ROW($A46),TABPREBB!$AH$10:$AH$281,0),COLUMN()),\"\")","v":""},{"$f":"IFERROR(INDEX(TABPREBB!$A$10:$AF$281,MATCH($B$1&ROW($A46),TABPREBB!$AH$10:$AH$281,0),COLUMN()),\"\")","v":""},{"$f":"IFERROR(INDEX(TABPREBB!$A$10:$AF$281,MATCH($B$1&ROW($A46),TABPREBB!$AH$10:$AH$281,0),COLUMN()),\"\")","v":""},{"$f":"IFERROR(INDEX(TABPREBB!$A$10:$AF$281,MATCH($B$1&ROW($A46),TABPREBB!$AH$10:$AH$281,0),COLUMN()),\"\")","v":""},{"$f":"IFERROR(INDEX(TABPREBB!$A$10:$AF$281,MATCH($B$1&ROW($A46),TABPREBB!$AH$10:$AH$281,0),COLUMN()),\"\")","v":""},{"$f":"IFERROR(INDEX(TABPREBB!$A$10:$AF$281,MATCH($B$1&ROW($A46),TABPREBB!$AH$10:$AH$281,0),COLUMN()),\"\")","v":""},{"$f":"IFERROR(INDEX(TABPREBB!$A$10:$AF$281,MATCH($B$1&ROW($A46),TABPREBB!$AH$10:$AH$281,0),COLUMN()),\"\")","v":""},{"$f":"IFERROR(INDEX(TABPREBB!$A$10:$AF$281,MATCH($B$1&ROW($A46),TABPREBB!$AH$10:$AH$281,0),COLUMN()),\"\")","v":""},{"$f":"IFERROR(INDEX(TABPREBB!$A$10:$AF$281,MATCH($B$1&ROW($A46),TABPREBB!$AH$10:$AH$281,0),COLUMN()),\"\")","v":""},{"$f":"IFERROR(INDEX(TABPREBB!$A$10:$AF$281,MATCH($B$1&ROW($A46),TABPREBB!$AH$10:$AH$281,0),COLUMN()),\"\")","v":""},{"$f":"IFERROR(INDEX(TABPREBB!$A$10:$AF$281,MATCH($B$1&ROW($A46),TABPREBB!$AH$10:$AH$281,0),COLUMN()),\"\")","v":""},{"$f":"IFERROR(INDEX(TABPREBB!$A$10:$AF$281,MATCH($B$1&ROW($A46),TABPREBB!$AH$10:$AH$281,0),COLUMN()),\"\")","v":""},{"$f":"IFERROR(INDEX(TABPREBB!$A$10:$AF$281,MATCH($B$1&ROW($A46),TABPREBB!$AH$10:$AH$281,0),COLUMN()),\"\")","v":""},{"$f":"IFERROR(INDEX(TABPREBB!$A$10:$AF$281,MATCH($B$1&ROW($A46),TABPREBB!$AH$10:$AH$281,0),COLUMN()),\"\")","v":""},{"$f":"IFERROR(INDEX(TABPREBB!$A$10:$AF$281,MATCH($B$1&ROW($A46),TABPREBB!$AH$10:$AH$281,0),COLUMN()),\"\")","v":""},{"$f":"IFERROR(INDEX(TABPREBB!$A$10:$AF$281,MATCH($B$1&ROW($A46),TABPREBB!$AH$10:$AH$281,0),COLUMN()),\"\")","v":""},{"$f":"IFERROR(INDEX(TABPREBB!$A$10:$AF$281,MATCH($B$1&ROW($A46),TABPREBB!$AH$10:$AH$281,0),COLUMN()),\"\")","v":""},{"$f":"IFERROR(INDEX(TABPREBB!$A$10:$AF$281,MATCH($B$1&ROW($A46),TABPREBB!$AH$10:$AH$281,0),COLUMN()),\"\")","v":""},{"$f":"IFERROR(INDEX(TABPREBB!$A$10:$AF$281,MATCH($B$1&ROW($A46),TABPREBB!$AH$10:$AH$281,0),COLUMN()),\"\")","v":""},{"$f":"IFERROR(INDEX(TABPREBB!$A$10:$AF$281,MATCH($B$1&ROW($A46),TABPREBB!$AH$10:$AH$281,0),COLUMN()),\"\")","v":""},{"$f":"IFERROR(INDEX(TABPREBB!$A$10:$AF$281,MATCH($B$1&ROW($A46),TABPREBB!$AH$10:$AH$281,0),COLUMN()),\"\")","v":""},{"$f":"IFERROR(INDEX(TABPREBB!$A$10:$AF$281,MATCH($B$1&ROW($A46),TABPREBB!$AH$10:$AH$281,0),COLUMN()),\"\")","v":""},{"$f":"IFERROR(INDEX(TABPREBB!$A$10:$AF$281,MATCH($B$1&ROW($A46),TABPREBB!$AH$10:$AH$281,0),COLUMN()),\"\")","v":""},{"$f":"IFERROR(INDEX(TABPREBB!$A$10:$AF$281,MATCH($B$1&ROW($A46),TABPREBB!$AH$10:$AH$281,0),COLUMN()),\"\")","v":""},{"$f":"IFERROR(INDEX(TABPREBB!$A$10:$AF$281,MATCH($B$1&ROW($A46),TABPREBB!$AH$10:$AH$281,0),COLUMN()),\"\")","v":""},{"$f":"IFERROR(INDEX(TABPREBB!$A$10:$AF$281,MATCH($B$1&ROW($A46),TABPREBB!$AH$10:$AH$281,0),COLUMN()),\"\")","v":""}]
[{"$f":"IFERROR(INDEX(TABPREBB!$A$10:$AF$281,MATCH($B$1&ROW($A47),TABPREBB!$AH$10:$AH$281,0),COLUMN()),\"\")","v":""},{"$f":"IFERROR(INDEX(TABPREBB!$A$10:$AF$281,MATCH($B$1&ROW($A47),TABPREBB!$AH$10:$AH$281,0),COLUMN()),\"\")","v":""},{"$f":"IFERROR(INDEX(TABPREBB!$A$10:$AF$281,MATCH($B$1&ROW($A47),TABPREBB!$AH$10:$AH$281,0),COLUMN()),\"\")","v":""},{"$f":"IFERROR(INDEX(TABPREBB!$A$10:$AF$281,MATCH($B$1&ROW($A47),TABPREBB!$AH$10:$AH$281,0),COLUMN()),\"\")","v":""},{"$f":"IFERROR(INDEX(TABPREBB!$A$10:$AF$281,MATCH($B$1&ROW($A47),TABPREBB!$AH$10:$AH$281,0),COLUMN()),\"\")","v":""},{"$f":"IFERROR(INDEX(TABPREBB!$A$10:$AF$281,MATCH($B$1&ROW($A47),TABPREBB!$AH$10:$AH$281,0),COLUMN()),\"\")","v":""},{"$f":"IFERROR(INDEX(TABPREBB!$A$10:$AF$281,MATCH($B$1&ROW($A47),TABPREBB!$AH$10:$AH$281,0),COLUMN()),\"\")","v":""},{"$f":"IFERROR(INDEX(TABPREBB!$A$10:$AF$281,MATCH($B$1&ROW($A47),TABPREBB!$AH$10:$AH$281,0),COLUMN()),\"\")","v":""},{"$f":"IFERROR(INDEX(TABPREBB!$A$10:$AF$281,MATCH($B$1&ROW($A47),TABPREBB!$AH$10:$AH$281,0),COLUMN()),\"\")","v":""},{"$f":"IFERROR(INDEX(TABPREBB!$A$10:$AF$281,MATCH($B$1&ROW($A47),TABPREBB!$AH$10:$AH$281,0),COLUMN()),\"\")","v":""},{"$f":"IFERROR(INDEX(TABPREBB!$A$10:$AF$281,MATCH($B$1&ROW($A47),TABPREBB!$AH$10:$AH$281,0),COLUMN()),\"\")","v":""},{"$f":"IFERROR(INDEX(TABPREBB!$A$10:$AF$281,MATCH($B$1&ROW($A47),TABPREBB!$AH$10:$AH$281,0),COLUMN()),\"\")","v":""},{"$f":"IFERROR(INDEX(TABPREBB!$A$10:$AF$281,MATCH($B$1&ROW($A47),TABPREBB!$AH$10:$AH$281,0),COLUMN()),\"\")","v":""},{"$f":"IFERROR(INDEX(TABPREBB!$A$10:$AF$281,MATCH($B$1&ROW($A47),TABPREBB!$AH$10:$AH$281,0),COLUMN()),\"\")","v":""},{"$f":"IFERROR(INDEX(TABPREBB!$A$10:$AF$281,MATCH($B$1&ROW($A47),TABPREBB!$AH$10:$AH$281,0),COLUMN()),\"\")","v":""},{"$f":"IFERROR(INDEX(TABPREBB!$A$10:$AF$281,MATCH($B$1&ROW($A47),TABPREBB!$AH$10:$AH$281,0),COLUMN()),\"\")","v":""},{"$f":"IFERROR(INDEX(TABPREBB!$A$10:$AF$281,MATCH($B$1&ROW($A47),TABPREBB!$AH$10:$AH$281,0),COLUMN()),\"\")","v":""},{"$f":"IFERROR(INDEX(TABPREBB!$A$10:$AF$281,MATCH($B$1&ROW($A47),TABPREBB!$AH$10:$AH$281,0),COLUMN()),\"\")","v":""},{"$f":"IFERROR(INDEX(TABPREBB!$A$10:$AF$281,MATCH($B$1&ROW($A47),TABPREBB!$AH$10:$AH$281,0),COLUMN()),\"\")","v":""},{"$f":"IFERROR(INDEX(TABPREBB!$A$10:$AF$281,MATCH($B$1&ROW($A47),TABPREBB!$AH$10:$AH$281,0),COLUMN()),\"\")","v":""},{"$f":"IFERROR(INDEX(TABPREBB!$A$10:$AF$281,MATCH($B$1&ROW($A47),TABPREBB!$AH$10:$AH$281,0),COLUMN()),\"\")","v":""},{"$f":"IFERROR(INDEX(TABPREBB!$A$10:$AF$281,MATCH($B$1&ROW($A47),TABPREBB!$AH$10:$AH$281,0),COLUMN()),\"\")","v":""},{"$f":"IFERROR(INDEX(TABPREBB!$A$10:$AF$281,MATCH($B$1&ROW($A47),TABPREBB!$AH$10:$AH$281,0),COLUMN()),\"\")","v":""},{"$f":"IFERROR(INDEX(TABPREBB!$A$10:$AF$281,MATCH($B$1&ROW($A47),TABPREBB!$AH$10:$AH$281,0),COLUMN()),\"\")","v":""},{"$f":"IFERROR(INDEX(TABPREBB!$A$10:$AF$281,MATCH($B$1&ROW($A47),TABPREBB!$AH$10:$AH$281,0),COLUMN()),\"\")","v":""},{"$f":"IFERROR(INDEX(TABPREBB!$A$10:$AF$281,MATCH($B$1&ROW($A47),TABPREBB!$AH$10:$AH$281,0),COLUMN()),\"\")","v":""},{"$f":"IFERROR(INDEX(TABPREBB!$A$10:$AF$281,MATCH($B$1&ROW($A47),TABPREBB!$AH$10:$AH$281,0),COLUMN()),\"\")","v":""},{"$f":"IFERROR(INDEX(TABPREBB!$A$10:$AF$281,MATCH($B$1&ROW($A47),TABPREBB!$AH$10:$AH$281,0),COLUMN()),\"\")","v":""},{"$f":"IFERROR(INDEX(TABPREBB!$A$10:$AF$281,MATCH($B$1&ROW($A47),TABPREBB!$AH$10:$AH$281,0),COLUMN()),\"\")","v":""},{"$f":"IFERROR(INDEX(TABPREBB!$A$10:$AF$281,MATCH($B$1&ROW($A47),TABPREBB!$AH$10:$AH$281,0),COLUMN()),\"\")","v":""},{"$f":"IFERROR(INDEX(TABPREBB!$A$10:$AF$281,MATCH($B$1&ROW($A47),TABPREBB!$AH$10:$AH$281,0),COLUMN()),\"\")","v":""},{"$f":"IFERROR(INDEX(TABPREBB!$A$10:$AF$281,MATCH($B$1&ROW($A47),TABPREBB!$AH$10:$AH$281,0),COLUMN()),\"\")","v":""}]
[{"$f":"IFERROR(INDEX(TABPREBB!$A$10:$AF$281,MATCH($B$1&ROW($A48),TABPREBB!$AH$10:$AH$281,0),COLUMN()),\"\")","v":""},{"$f":"IFERROR(INDEX(TABPREBB!$A$10:$AF$281,MATCH($B$1&ROW($A48),TABPREBB!$AH$10:$AH$281,0),COLUMN()),\"\")","v":""},{"$f":"IFERROR(INDEX(TABPREBB!$A$10:$AF$281,MATCH($B$1&ROW($A48),TABPREBB!$AH$10:$AH$281,0),COLUMN()),\"\")","v":""},{"$f":"IFERROR(INDEX(TABPREBB!$A$10:$AF$281,MATCH($B$1&ROW($A48),TABPREBB!$AH$10:$AH$281,0),COLUMN()),\"\")","v":""},{"$f":"IFERROR(INDEX(TABPREBB!$A$10:$AF$281,MATCH($B$1&ROW($A48),TABPREBB!$AH$10:$AH$281,0),COLUMN()),\"\")","v":""},{"$f":"IFERROR(INDEX(TABPREBB!$A$10:$AF$281,MATCH($B$1&ROW($A48),TABPREBB!$AH$10:$AH$281,0),COLUMN()),\"\")","v":""},{"$f":"IFERROR(INDEX(TABPREBB!$A$10:$AF$281,MATCH($B$1&ROW($A48),TABPREBB!$AH$10:$AH$281,0),COLUMN()),\"\")","v":""},{"$f":"IFERROR(INDEX(TABPREBB!$A$10:$AF$281,MATCH($B$1&ROW($A48),TABPREBB!$AH$10:$AH$281,0),COLUMN()),\"\")","v":""},{"$f":"IFERROR(INDEX(TABPREBB!$A$10:$AF$281,MATCH($B$1&ROW($A48),TABPREBB!$AH$10:$AH$281,0),COLUMN()),\"\")","v":""},{"$f":"IFERROR(INDEX(TABPREBB!$A$10:$AF$281,MATCH($B$1&ROW($A48),TABPREBB!$AH$10:$AH$281,0),COLUMN()),\"\")","v":""},{"$f":"IFERROR(INDEX(TABPREBB!$A$10:$AF$281,MATCH($B$1&ROW($A48),TABPREBB!$AH$10:$AH$281,0),COLUMN()),\"\")","v":""},{"$f":"IFERROR(INDEX(TABPREBB!$A$10:$AF$281,MATCH($B$1&ROW($A48),TABPREBB!$AH$10:$AH$281,0),COLUMN()),\"\")","v":""},{"$f":"IFERROR(INDEX(TABPREBB!$A$10:$AF$281,MATCH($B$1&ROW($A48),TABPREBB!$AH$10:$AH$281,0),COLUMN()),\"\")","v":""},{"$f":"IFERROR(INDEX(TABPREBB!$A$10:$AF$281,MATCH($B$1&ROW($A48),TABPREBB!$AH$10:$AH$281,0),COLUMN()),\"\")","v":""},{"$f":"IFERROR(INDEX(TABPREBB!$A$10:$AF$281,MATCH($B$1&ROW($A48),TABPREBB!$AH$10:$AH$281,0),COLUMN()),\"\")","v":""},{"$f":"IFERROR(INDEX(TABPREBB!$A$10:$AF$281,MATCH($B$1&ROW($A48),TABPREBB!$AH$10:$AH$281,0),COLUMN()),\"\")","v":""},{"$f":"IFERROR(INDEX(TABPREBB!$A$10:$AF$281,MATCH($B$1&ROW($A48),TABPREBB!$AH$10:$AH$281,0),COLUMN()),\"\")","v":""},{"$f":"IFERROR(INDEX(TABPREBB!$A$10:$AF$281,MATCH($B$1&ROW($A48),TABPREBB!$AH$10:$AH$281,0),COLUMN()),\"\")","v":""},{"$f":"IFERROR(INDEX(TABPREBB!$A$10:$AF$281,MATCH($B$1&ROW($A48),TABPREBB!$AH$10:$AH$281,0),COLUMN()),\"\")","v":""},{"$f":"IFERROR(INDEX(TABPREBB!$A$10:$AF$281,MATCH($B$1&ROW($A48),TABPREBB!$AH$10:$AH$281,0),COLUMN()),\"\")","v":""},{"$f":"IFERROR(INDEX(TABPREBB!$A$10:$AF$281,MATCH($B$1&ROW($A48),TABPREBB!$AH$10:$AH$281,0),COLUMN()),\"\")","v":""},{"$f":"IFERROR(INDEX(TABPREBB!$A$10:$AF$281,MATCH($B$1&ROW($A48),TABPREBB!$AH$10:$AH$281,0),COLUMN()),\"\")","v":""},{"$f":"IFERROR(INDEX(TABPREBB!$A$10:$AF$281,MATCH($B$1&ROW($A48),TABPREBB!$AH$10:$AH$281,0),COLUMN()),\"\")","v":""},{"$f":"IFERROR(INDEX(TABPREBB!$A$10:$AF$281,MATCH($B$1&ROW($A48),TABPREBB!$AH$10:$AH$281,0),COLUMN()),\"\")","v":""},{"$f":"IFERROR(INDEX(TABPREBB!$A$10:$AF$281,MATCH($B$1&ROW($A48),TABPREBB!$AH$10:$AH$281,0),COLUMN()),\"\")","v":""},{"$f":"IFERROR(INDEX(TABPREBB!$A$10:$AF$281,MATCH($B$1&ROW($A48),TABPREBB!$AH$10:$AH$281,0),COLUMN()),\"\")","v":""},{"$f":"IFERROR(INDEX(TABPREBB!$A$10:$AF$281,MATCH($B$1&ROW($A48),TABPREBB!$AH$10:$AH$281,0),COLUMN()),\"\")","v":""},{"$f":"IFERROR(INDEX(TABPREBB!$A$10:$AF$281,MATCH($B$1&ROW($A48),TABPREBB!$AH$10:$AH$281,0),COLUMN()),\"\")","v":""},{"$f":"IFERROR(INDEX(TABPREBB!$A$10:$AF$281,MATCH($B$1&ROW($A48),TABPREBB!$AH$10:$AH$281,0),COLUMN()),\"\")","v":""},{"$f":"IFERROR(INDEX(TABPREBB!$A$10:$AF$281,MATCH($B$1&ROW($A48),TABPREBB!$AH$10:$AH$281,0),COLUMN()),\"\")","v":""},{"$f":"IFERROR(INDEX(TABPREBB!$A$10:$AF$281,MATCH($B$1&ROW($A48),TABPREBB!$AH$10:$AH$281,0),COLUMN()),\"\")","v":""},{"$f":"IFERROR(INDEX(TABPREBB!$A$10:$AF$281,MATCH($B$1&ROW($A48),TABPREBB!$AH$10:$AH$281,0),COLUMN()),\"\")","v":""}]
[{"$f":"IFERROR(INDEX(TABPREBB!$A$10:$AF$281,MATCH($B$1&ROW($A49),TABPREBB!$AH$10:$AH$281,0),COLUMN()),\"\")","v":""},{"$f":"IFERROR(INDEX(TABPREBB!$A$10:$AF$281,MATCH($B$1&ROW($A49),TABPREBB!$AH$10:$AH$281,0),COLUMN()),\"\")","v":""},{"$f":"IFERROR(INDEX(TABPREBB!$A$10:$AF$281,MATCH($B$1&ROW($A49),TABPREBB!$AH$10:$AH$281,0),COLUMN()),\"\")","v":""},{"$f":"IFERROR(INDEX(TABPREBB!$A$10:$AF$281,MATCH($B$1&ROW($A49),TABPREBB!$AH$10:$AH$281,0),COLUMN()),\"\")","v":""},{"$f":"IFERROR(INDEX(TABPREBB!$A$10:$AF$281,MATCH($B$1&ROW($A49),TABPREBB!$AH$10:$AH$281,0),COLUMN()),\"\")","v":""},{"$f":"IFERROR(INDEX(TABPREBB!$A$10:$AF$281,MATCH($B$1&ROW($A49),TABPREBB!$AH$10:$AH$281,0),COLUMN()),\"\")","v":""},{"$f":"IFERROR(INDEX(TABPREBB!$A$10:$AF$281,MATCH($B$1&ROW($A49),TABPREBB!$AH$10:$AH$281,0),COLUMN()),\"\")","v":""},{"$f":"IFERROR(INDEX(TABPREBB!$A$10:$AF$281,MATCH($B$1&ROW($A49),TABPREBB!$AH$10:$AH$281,0),COLUMN()),\"\")","v":""},{"$f":"IFERROR(INDEX(TABPREBB!$A$10:$AF$281,MATCH($B$1&ROW($A49),TABPREBB!$AH$10:$AH$281,0),COLUMN()),\"\")","v":""},{"$f":"IFERROR(INDEX(TABPREBB!$A$10:$AF$281,MATCH($B$1&ROW($A49),TABPREBB!$AH$10:$AH$281,0),COLUMN()),\"\")","v":""},{"$f":"IFERROR(INDEX(TABPREBB!$A$10:$AF$281,MATCH($B$1&ROW($A49),TABPREBB!$AH$10:$AH$281,0),COLUMN()),\"\")","v":""},{"$f":"IFERROR(INDEX(TABPREBB!$A$10:$AF$281,MATCH($B$1&ROW($A49),TABPREBB!$AH$10:$AH$281,0),COLUMN()),\"\")","v":""},{"$f":"IFERROR(INDEX(TABPREBB!$A$10:$AF$281,MATCH($B$1&ROW($A49),TABPREBB!$AH$10:$AH$281,0),COLUMN()),\"\")","v":""},{"$f":"IFERROR(INDEX(TABPREBB!$A$10:$AF$281,MATCH($B$1&ROW($A49),TABPREBB!$AH$10:$AH$281,0),COLUMN()),\"\")","v":""},{"$f":"IFERROR(INDEX(TABPREBB!$A$10:$AF$281,MATCH($B$1&ROW($A49),TABPREBB!$AH$10:$AH$281,0),COLUMN()),\"\")","v":""},{"$f":"IFERROR(INDEX(TABPREBB!$A$10:$AF$281,MATCH($B$1&ROW($A49),TABPREBB!$AH$10:$AH$281,0),COLUMN()),\"\")","v":""},{"$f":"IFERROR(INDEX(TABPREBB!$A$10:$AF$281,MATCH($B$1&ROW($A49),TABPREBB!$AH$10:$AH$281,0),COLUMN()),\"\")","v":""},{"$f":"IFERROR(INDEX(TABPREBB!$A$10:$AF$281,MATCH($B$1&ROW($A49),TABPREBB!$AH$10:$AH$281,0),COLUMN()),\"\")","v":""},{"$f":"IFERROR(INDEX(TABPREBB!$A$10:$AF$281,MATCH($B$1&ROW($A49),TABPREBB!$AH$10:$AH$281,0),COLUMN()),\"\")","v":""},{"$f":"IFERROR(INDEX(TABPREBB!$A$10:$AF$281,MATCH($B$1&ROW($A49),TABPREBB!$AH$10:$AH$281,0),COLUMN()),\"\")","v":""},{"$f":"IFERROR(INDEX(TABPREBB!$A$10:$AF$281,MATCH($B$1&ROW($A49),TABPREBB!$AH$10:$AH$281,0),COLUMN()),\"\")","v":""},{"$f":"IFERROR(INDEX(TABPREBB!$A$10:$AF$281,MATCH($B$1&ROW($A49),TABPREBB!$AH$10:$AH$281,0),COLUMN()),\"\")","v":""},{"$f":"IFERROR(INDEX(TABPREBB!$A$10:$AF$281,MATCH($B$1&ROW($A49),TABPREBB!$AH$10:$AH$281,0),COLUMN()),\"\")","v":""},{"$f":"IFERROR(INDEX(TABPREBB!$A$10:$AF$281,MATCH($B$1&ROW($A49),TABPREBB!$AH$10:$AH$281,0),COLUMN()),\"\")","v":""},{"$f":"IFERROR(INDEX(TABPREBB!$A$10:$AF$281,MATCH($B$1&ROW($A49),TABPREBB!$AH$10:$AH$281,0),COLUMN()),\"\")","v":""},{"$f":"IFERROR(INDEX(TABPREBB!$A$10:$AF$281,MATCH($B$1&ROW($A49),TABPREBB!$AH$10:$AH$281,0),COLUMN()),\"\")","v":""},{"$f":"IFERROR(INDEX(TABPREBB!$A$10:$AF$281,MATCH($B$1&ROW($A49),TABPREBB!$AH$10:$AH$281,0),COLUMN()),\"\")","v":""},{"$f":"IFERROR(INDEX(TABPREBB!$A$10:$AF$281,MATCH($B$1&ROW($A49),TABPREBB!$AH$10:$AH$281,0),COLUMN()),\"\")","v":""},{"$f":"IFERROR(INDEX(TABPREBB!$A$10:$AF$281,MATCH($B$1&ROW($A49),TABPREBB!$AH$10:$AH$281,0),COLUMN()),\"\")","v":""},{"$f":"IFERROR(INDEX(TABPREBB!$A$10:$AF$281,MATCH($B$1&ROW($A49),TABPREBB!$AH$10:$AH$281,0),COLUMN()),\"\")","v":""},{"$f":"IFERROR(INDEX(TABPREBB!$A$10:$AF$281,MATCH($B$1&ROW($A49),TABPREBB!$AH$10:$AH$281,0),COLUMN()),\"\")","v":""},{"$f":"IFERROR(INDEX(TABPREBB!$A$10:$AF$281,MATCH($B$1&ROW($A49),TABPREBB!$AH$10:$AH$281,0),COLUMN()),\"\")","v":""}]
[{"$f":"IFERROR(INDEX(TABPREBB!$A$10:$AF$281,MATCH($B$1&ROW($A50),TABPREBB!$AH$10:$AH$281,0),COLUMN()),\"\")","v":""},{"$f":"IFERROR(INDEX(TABPREBB!$A$10:$AF$281,MATCH($B$1&ROW($A50),TABPREBB!$AH$10:$AH$281,0),COLUMN()),\"\")","v":""},{"$f":"IFERROR(INDEX(TABPREBB!$A$10:$AF$281,MATCH($B$1&ROW($A50),TABPREBB!$AH$10:$AH$281,0),COLUMN()),\"\")","v":""},{"$f":"IFERROR(INDEX(TABPREBB!$A$10:$AF$281,MATCH($B$1&ROW($A50),TABPREBB!$AH$10:$AH$281,0),COLUMN()),\"\")","v":""},{"$f":"IFERROR(INDEX(TABPREBB!$A$10:$AF$281,MATCH($B$1&ROW($A50),TABPREBB!$AH$10:$AH$281,0),COLUMN()),\"\")","v":""},{"$f":"IFERROR(INDEX(TABPREBB!$A$10:$AF$281,MATCH($B$1&ROW($A50),TABPREBB!$AH$10:$AH$281,0),COLUMN()),\"\")","v":""},{"$f":"IFERROR(INDEX(TABPREBB!$A$10:$AF$281,MATCH($B$1&ROW($A50),TABPREBB!$AH$10:$AH$281,0),COLUMN()),\"\")","v":""},{"$f":"IFERROR(INDEX(TABPREBB!$A$10:$AF$281,MATCH($B$1&ROW($A50),TABPREBB!$AH$10:$AH$281,0),COLUMN()),\"\")","v":""},{"$f":"IFERROR(INDEX(TABPREBB!$A$10:$AF$281,MATCH($B$1&ROW($A50),TABPREBB!$AH$10:$AH$281,0),COLUMN()),\"\")","v":""},{"$f":"IFERROR(INDEX(TABPREBB!$A$10:$AF$281,MATCH($B$1&ROW($A50),TABPREBB!$AH$10:$AH$281,0),COLUMN()),\"\")","v":""},{"$f":"IFERROR(INDEX(TABPREBB!$A$10:$AF$281,MATCH($B$1&ROW($A50),TABPREBB!$AH$10:$AH$281,0),COLUMN()),\"\")","v":""},{"$f":"IFERROR(INDEX(TABPREBB!$A$10:$AF$281,MATCH($B$1&ROW($A50),TABPREBB!$AH$10:$AH$281,0),COLUMN()),\"\")","v":""},{"$f":"IFERROR(INDEX(TABPREBB!$A$10:$AF$281,MATCH($B$1&ROW($A50),TABPREBB!$AH$10:$AH$281,0),COLUMN()),\"\")","v":""},{"$f":"IFERROR(INDEX(TABPREBB!$A$10:$AF$281,MATCH($B$1&ROW($A50),TABPREBB!$AH$10:$AH$281,0),COLUMN()),\"\")","v":""},{"$f":"IFERROR(INDEX(TABPREBB!$A$10:$AF$281,MATCH($B$1&ROW($A50),TABPREBB!$AH$10:$AH$281,0),COLUMN()),\"\")","v":""},{"$f":"IFERROR(INDEX(TABPREBB!$A$10:$AF$281,MATCH($B$1&ROW($A50),TABPREBB!$AH$10:$AH$281,0),COLUMN()),\"\")","v":""},{"$f":"IFERROR(INDEX(TABPREBB!$A$10:$AF$281,MATCH($B$1&ROW($A50),TABPREBB!$AH$10:$AH$281,0),COLUMN()),\"\")","v":""},{"$f":"IFERROR(INDEX(TABPREBB!$A$10:$AF$281,MATCH($B$1&ROW($A50),TABPREBB!$AH$10:$AH$281,0),COLUMN()),\"\")","v":""},{"$f":"IFERROR(INDEX(TABPREBB!$A$10:$AF$281,MATCH($B$1&ROW($A50),TABPREBB!$AH$10:$AH$281,0),COLUMN()),\"\")","v":""},{"$f":"IFERROR(INDEX(TABPREBB!$A$10:$AF$281,MATCH($B$1&ROW($A50),TABPREBB!$AH$10:$AH$281,0),COLUMN()),\"\")","v":""},{"$f":"IFERROR(INDEX(TABPREBB!$A$10:$AF$281,MATCH($B$1&ROW($A50),TABPREBB!$AH$10:$AH$281,0),COLUMN()),\"\")","v":""},{"$f":"IFERROR(INDEX(TABPREBB!$A$10:$AF$281,MATCH($B$1&ROW($A50),TABPREBB!$AH$10:$AH$281,0),COLUMN()),\"\")","v":""},{"$f":"IFERROR(INDEX(TABPREBB!$A$10:$AF$281,MATCH($B$1&ROW($A50),TABPREBB!$AH$10:$AH$281,0),COLUMN()),\"\")","v":""},{"$f":"IFERROR(INDEX(TABPREBB!$A$10:$AF$281,MATCH($B$1&ROW($A50),TABPREBB!$AH$10:$AH$281,0),COLUMN()),\"\")","v":""},{"$f":"IFERROR(INDEX(TABPREBB!$A$10:$AF$281,MATCH($B$1&ROW($A50),TABPREBB!$AH$10:$AH$281,0),COLUMN()),\"\")","v":""},{"$f":"IFERROR(INDEX(TABPREBB!$A$10:$AF$281,MATCH($B$1&ROW($A50),TABPREBB!$AH$10:$AH$281,0),COLUMN()),\"\")","v":""},{"$f":"IFERROR(INDEX(TABPREBB!$A$10:$AF$281,MATCH($B$1&ROW($A50),TABPREBB!$AH$10:$AH$281,0),COLUMN()),\"\")","v":""},{"$f":"IFERROR(INDEX(TABPREBB!$A$10:$AF$281,MATCH($B$1&ROW($A50),TABPREBB!$AH$10:$AH$281,0),COLUMN()),\"\")","v":""},{"$f":"IFERROR(INDEX(TABPREBB!$A$10:$AF$281,MATCH($B$1&ROW($A50),TABPREBB!$AH$10:$AH$281,0),COLUMN()),\"\")","v":""},{"$f":"IFERROR(INDEX(TABPREBB!$A$10:$AF$281,MATCH($B$1&ROW($A50),TABPREBB!$AH$10:$AH$281,0),COLUMN()),\"\")","v":""},{"$f":"IFERROR(INDEX(TABPREBB!$A$10:$AF$281,MATCH($B$1&ROW($A50),TABPREBB!$AH$10:$AH$281,0),COLUMN()),\"\")","v":""},{"$f":"IFERROR(INDEX(TABPREBB!$A$10:$AF$281,MATCH($B$1&ROW($A50),TABPREBB!$AH$10:$AH$281,0),COLUMN()),\"\")","v":""}]
[{"$f":"IFERROR(INDEX(TABPREBB!$A$10:$AF$281,MATCH($B$1&ROW($A51),TABPREBB!$AH$10:$AH$281,0),COLUMN()),\"\")","v":""},{"$f":"IFERROR(INDEX(TABPREBB!$A$10:$AF$281,MATCH($B$1&ROW($A51),TABPREBB!$AH$10:$AH$281,0),COLUMN()),\"\")","v":""},{"$f":"IFERROR(INDEX(TABPREBB!$A$10:$AF$281,MATCH($B$1&ROW($A51),TABPREBB!$AH$10:$AH$281,0),COLUMN()),\"\")","v":""},{"$f":"IFERROR(INDEX(TABPREBB!$A$10:$AF$281,MATCH($B$1&ROW($A51),TABPREBB!$AH$10:$AH$281,0),COLUMN()),\"\")","v":""},{"$f":"IFERROR(INDEX(TABPREBB!$A$10:$AF$281,MATCH($B$1&ROW($A51),TABPREBB!$AH$10:$AH$281,0),COLUMN()),\"\")","v":""},{"$f":"IFERROR(INDEX(TABPREBB!$A$10:$AF$281,MATCH($B$1&ROW($A51),TABPREBB!$AH$10:$AH$281,0),COLUMN()),\"\")","v":""},{"$f":"IFERROR(INDEX(TABPREBB!$A$10:$AF$281,MATCH($B$1&ROW($A51),TABPREBB!$AH$10:$AH$281,0),COLUMN()),\"\")","v":""},{"$f":"IFERROR(INDEX(TABPREBB!$A$10:$AF$281,MATCH($B$1&ROW($A51),TABPREBB!$AH$10:$AH$281,0),COLUMN()),\"\")","v":""},{"$f":"IFERROR(INDEX(TABPREBB!$A$10:$AF$281,MATCH($B$1&ROW($A51),TABPREBB!$AH$10:$AH$281,0),COLUMN()),\"\")","v":""},{"$f":"IFERROR(INDEX(TABPREBB!$A$10:$AF$281,MATCH($B$1&ROW($A51),TABPREBB!$AH$10:$AH$281,0),COLUMN()),\"\")","v":""},{"$f":"IFERROR(INDEX(TABPREBB!$A$10:$AF$281,MATCH($B$1&ROW($A51),TABPREBB!$AH$10:$AH$281,0),COLUMN()),\"\")","v":""},{"$f":"IFERROR(INDEX(TABPREBB!$A$10:$AF$281,MATCH($B$1&ROW($A51),TABPREBB!$AH$10:$AH$281,0),COLUMN()),\"\")","v":""},{"$f":"IFERROR(INDEX(TABPREBB!$A$10:$AF$281,MATCH($B$1&ROW($A51),TABPREBB!$AH$10:$AH$281,0),COLUMN()),\"\")","v":""},{"$f":"IFERROR(INDEX(TABPREBB!$A$10:$AF$281,MATCH($B$1&ROW($A51),TABPREBB!$AH$10:$AH$281,0),COLUMN()),\"\")","v":""},{"$f":"IFERROR(INDEX(TABPREBB!$A$10:$AF$281,MATCH($B$1&ROW($A51),TABPREBB!$AH$10:$AH$281,0),COLUMN()),\"\")","v":""},{"$f":"IFERROR(INDEX(TABPREBB!$A$10:$AF$281,MATCH($B$1&ROW($A51),TABPREBB!$AH$10:$AH$281,0),COLUMN()),\"\")","v":""},{"$f":"IFERROR(INDEX(TABPREBB!$A$10:$AF$281,MATCH($B$1&ROW($A51),TABPREBB!$AH$10:$AH$281,0),COLUMN()),\"\")","v":""},{"$f":"IFERROR(INDEX(TABPREBB!$A$10:$AF$281,MATCH($B$1&ROW($A51),TABPREBB!$AH$10:$AH$281,0),COLUMN()),\"\")","v":""},{"$f":"IFERROR(INDEX(TABPREBB!$A$10:$AF$281,MATCH($B$1&ROW($A51),TABPREBB!$AH$10:$AH$281,0),COLUMN()),\"\")","v":""},{"$f":"IFERROR(INDEX(TABPREBB!$A$10:$AF$281,MATCH($B$1&ROW($A51),TABPREBB!$AH$10:$AH$281,0),COLUMN()),\"\")","v":""},{"$f":"IFERROR(INDEX(TABPREBB!$A$10:$AF$281,MATCH($B$1&ROW($A51),TABPREBB!$AH$10:$AH$281,0),COLUMN()),\"\")","v":""},{"$f":"IFERROR(INDEX(TABPREBB!$A$10:$AF$281,MATCH($B$1&ROW($A51),TABPREBB!$AH$10:$AH$281,0),COLUMN()),\"\")","v":""},{"$f":"IFERROR(INDEX(TABPREBB!$A$10:$AF$281,MATCH($B$1&ROW($A51),TABPREBB!$AH$10:$AH$281,0),COLUMN()),\"\")","v":""},{"$f":"IFERROR(INDEX(TABPREBB!$A$10:$AF$281,MATCH($B$1&ROW($A51),TABPREBB!$AH$10:$AH$281,0),COLUMN()),\"\")","v":""},{"$f":"IFERROR(INDEX(TABPREBB!$A$10:$AF$281,MATCH($B$1&ROW($A51),TABPREBB!$AH$10:$AH$281,0),COLUMN()),\"\")","v":""},{"$f":"IFERROR(INDEX(TABPREBB!$A$10:$AF$281,MATCH($B$1&ROW($A51),TABPREBB!$AH$10:$AH$281,0),COLUMN()),\"\")","v":""},{"$f":"IFERROR(INDEX(TABPREBB!$A$10:$AF$281,MATCH($B$1&ROW($A51),TABPREBB!$AH$10:$AH$281,0),COLUMN()),\"\")","v":""},{"$f":"IFERROR(INDEX(TABPREBB!$A$10:$AF$281,MATCH($B$1&ROW($A51),TABPREBB!$AH$10:$AH$281,0),COLUMN()),\"\")","v":""},{"$f":"IFERROR(INDEX(TABPREBB!$A$10:$AF$281,MATCH($B$1&ROW($A51),TABPREBB!$AH$10:$AH$281,0),COLUMN()),\"\")","v":""},{"$f":"IFERROR(INDEX(TABPREBB!$A$10:$AF$281,MATCH($B$1&ROW($A51),TABPREBB!$AH$10:$AH$281,0),COLUMN()),\"\")","v":""},{"$f":"IFERROR(INDEX(TABPREBB!$A$10:$AF$281,MATCH($B$1&ROW($A51),TABPREBB!$AH$10:$AH$281,0),COLUMN()),\"\")","v":""},{"$f":"IFERROR(INDEX(TABPREBB!$A$10:$AF$281,MATCH($B$1&ROW($A51),TABPREBB!$AH$10:$AH$281,0),COLUMN()),\"\")","v":""}]
[{"$f":"IFERROR(INDEX(TABPREBB!$A$10:$AF$281,MATCH($B$1&ROW($A52),TABPREBB!$AH$10:$AH$281,0),COLUMN()),\"\")","v":""},{"$f":"IFERROR(INDEX(TABPREBB!$A$10:$AF$281,MATCH($B$1&ROW($A52),TABPREBB!$AH$10:$AH$281,0),COLUMN()),\"\")","v":""},{"$f":"IFERROR(INDEX(TABPREBB!$A$10:$AF$281,MATCH($B$1&ROW($A52),TABPREBB!$AH$10:$AH$281,0),COLUMN()),\"\")","v":""},{"$f":"IFERROR(INDEX(TABPREBB!$A$10:$AF$281,MATCH($B$1&ROW($A52),TABPREBB!$AH$10:$AH$281,0),COLUMN()),\"\")","v":""},{"$f":"IFERROR(INDEX(TABPREBB!$A$10:$AF$281,MATCH($B$1&ROW($A52),TABPREBB!$AH$10:$AH$281,0),COLUMN()),\"\")","v":""},{"$f":"IFERROR(INDEX(TABPREBB!$A$10:$AF$281,MATCH($B$1&ROW($A52),TABPREBB!$AH$10:$AH$281,0),COLUMN()),\"\")","v":""},{"$f":"IFERROR(INDEX(TABPREBB!$A$10:$AF$281,MATCH($B$1&ROW($A52),TABPREBB!$AH$10:$AH$281,0),COLUMN()),\"\")","v":""},{"$f":"IFERROR(INDEX(TABPREBB!$A$10:$AF$281,MATCH($B$1&ROW($A52),TABPREBB!$AH$10:$AH$281,0),COLUMN()),\"\")","v":""},{"$f":"IFERROR(INDEX(TABPREBB!$A$10:$AF$281,MATCH($B$1&ROW($A52),TABPREBB!$AH$10:$AH$281,0),COLUMN()),\"\")","v":""},{"$f":"IFERROR(INDEX(TABPREBB!$A$10:$AF$281,MATCH($B$1&ROW($A52),TABPREBB!$AH$10:$AH$281,0),COLUMN()),\"\")","v":""},{"$f":"IFERROR(INDEX(TABPREBB!$A$10:$AF$281,MATCH($B$1&ROW($A52),TABPREBB!$AH$10:$AH$281,0),COLUMN()),\"\")","v":""},{"$f":"IFERROR(INDEX(TABPREBB!$A$10:$AF$281,MATCH($B$1&ROW($A52),TABPREBB!$AH$10:$AH$281,0),COLUMN()),\"\")","v":""},{"$f":"IFERROR(INDEX(TABPREBB!$A$10:$AF$281,MATCH($B$1&ROW($A52),TABPREBB!$AH$10:$AH$281,0),COLUMN()),\"\")","v":""},{"$f":"IFERROR(INDEX(TABPREBB!$A$10:$AF$281,MATCH($B$1&ROW($A52),TABPREBB!$AH$10:$AH$281,0),COLUMN()),\"\")","v":""},{"$f":"IFERROR(INDEX(TABPREBB!$A$10:$AF$281,MATCH($B$1&ROW($A52),TABPREBB!$AH$10:$AH$281,0),COLUMN()),\"\")","v":""},{"$f":"IFERROR(INDEX(TABPREBB!$A$10:$AF$281,MATCH($B$1&ROW($A52),TABPREBB!$AH$10:$AH$281,0),COLUMN()),\"\")","v":""},{"$f":"IFERROR(INDEX(TABPREBB!$A$10:$AF$281,MATCH($B$1&ROW($A52),TABPREBB!$AH$10:$AH$281,0),COLUMN()),\"\")","v":""},{"$f":"IFERROR(INDEX(TABPREBB!$A$10:$AF$281,MATCH($B$1&ROW($A52),TABPREBB!$AH$10:$AH$281,0),COLUMN()),\"\")","v":""},{"$f":"IFERROR(INDEX(TABPREBB!$A$10:$AF$281,MATCH($B$1&ROW($A52),TABPREBB!$AH$10:$AH$281,0),COLUMN()),\"\")","v":""},{"$f":"IFERROR(INDEX(TABPREBB!$A$10:$AF$281,MATCH($B$1&ROW($A52),TABPREBB!$AH$10:$AH$281,0),COLUMN()),\"\")","v":""},{"$f":"IFERROR(INDEX(TABPREBB!$A$10:$AF$281,MATCH($B$1&ROW($A52),TABPREBB!$AH$10:$AH$281,0),COLUMN()),\"\")","v":""},{"$f":"IFERROR(INDEX(TABPREBB!$A$10:$AF$281,MATCH($B$1&ROW($A52),TABPREBB!$AH$10:$AH$281,0),COLUMN()),\"\")","v":""},{"$f":"IFERROR(INDEX(TABPREBB!$A$10:$AF$281,MATCH($B$1&ROW($A52),TABPREBB!$AH$10:$AH$281,0),COLUMN()),\"\")","v":""},{"$f":"IFERROR(INDEX(TABPREBB!$A$10:$AF$281,MATCH($B$1&ROW($A52),TABPREBB!$AH$10:$AH$281,0),COLUMN()),\"\")","v":""},{"$f":"IFERROR(INDEX(TABPREBB!$A$10:$AF$281,MATCH($B$1&ROW($A52),TABPREBB!$AH$10:$AH$281,0),COLUMN()),\"\")","v":""},{"$f":"IFERROR(INDEX(TABPREBB!$A$10:$AF$281,MATCH($B$1&ROW($A52),TABPREBB!$AH$10:$AH$281,0),COLUMN()),\"\")","v":""},{"$f":"IFERROR(INDEX(TABPREBB!$A$10:$AF$281,MATCH($B$1&ROW($A52),TABPREBB!$AH$10:$AH$281,0),COLUMN()),\"\")","v":""},{"$f":"IFERROR(INDEX(TABPREBB!$A$10:$AF$281,MATCH($B$1&ROW($A52),TABPREBB!$AH$10:$AH$281,0),COLUMN()),\"\")","v":""},{"$f":"IFERROR(INDEX(TABPREBB!$A$10:$AF$281,MATCH($B$1&ROW($A52),TABPREBB!$AH$10:$AH$281,0),COLUMN()),\"\")","v":""},{"$f":"IFERROR(INDEX(TABPREBB!$A$10:$AF$281,MATCH($B$1&ROW($A52),TABPREBB!$AH$10:$AH$281,0),COLUMN()),\"\")","v":""},{"$f":"IFERROR(INDEX(TABPREBB!$A$10:$AF$281,MATCH($B$1&ROW($A52),TABPREBB!$AH$10:$AH$281,0),COLUMN()),\"\")","v":""},{"$f":"IFERROR(INDEX(TABPREBB!$A$10:$AF$281,MATCH($B$1&ROW($A52),TABPREBB!$AH$10:$AH$281,0),COLUMN()),\"\")","v":""}]
[{"$f":"IFERROR(INDEX(TABPREBB!$A$10:$AF$281,MATCH($B$1&ROW($A53),TABPREBB!$AH$10:$AH$281,0),COLUMN()),\"\")","v":""},{"$f":"IFERROR(INDEX(TABPREBB!$A$10:$AF$281,MATCH($B$1&ROW($A53),TABPREBB!$AH$10:$AH$281,0),COLUMN()),\"\")","v":""},{"$f":"IFERROR(INDEX(TABPREBB!$A$10:$AF$281,MATCH($B$1&ROW($A53),TABPREBB!$AH$10:$AH$281,0),COLUMN()),\"\")","v":""},{"$f":"IFERROR(INDEX(TABPREBB!$A$10:$AF$281,MATCH($B$1&ROW($A53),TABPREBB!$AH$10:$AH$281,0),COLUMN()),\"\")","v":""},{"$f":"IFERROR(INDEX(TABPREBB!$A$10:$AF$281,MATCH($B$1&ROW($A53),TABPREBB!$AH$10:$AH$281,0),COLUMN()),\"\")","v":""},{"$f":"IFERROR(INDEX(TABPREBB!$A$10:$AF$281,MATCH($B$1&ROW($A53),TABPREBB!$AH$10:$AH$281,0),COLUMN()),\"\")","v":""},{"$f":"IFERROR(INDEX(TABPREBB!$A$10:$AF$281,MATCH($B$1&ROW($A53),TABPREBB!$AH$10:$AH$281,0),COLUMN()),\"\")","v":""},{"$f":"IFERROR(INDEX(TABPREBB!$A$10:$AF$281,MATCH($B$1&ROW($A53),TABPREBB!$AH$10:$AH$281,0),COLUMN()),\"\")","v":""},{"$f":"IFERROR(INDEX(TABPREBB!$A$10:$AF$281,MATCH($B$1&ROW($A53),TABPREBB!$AH$10:$AH$281,0),COLUMN()),\"\")","v":""},{"$f":"IFERROR(INDEX(TABPREBB!$A$10:$AF$281,MATCH($B$1&ROW($A53),TABPREBB!$AH$10:$AH$281,0),COLUMN()),\"\")","v":""},{"$f":"IFERROR(INDEX(TABPREBB!$A$10:$AF$281,MATCH($B$1&ROW($A53),TABPREBB!$AH$10:$AH$281,0),COLUMN()),\"\")","v":""},{"$f":"IFERROR(INDEX(TABPREBB!$A$10:$AF$281,MATCH($B$1&ROW($A53),TABPREBB!$AH$10:$AH$281,0),COLUMN()),\"\")","v":""},{"$f":"IFERROR(INDEX(TABPREBB!$A$10:$AF$281,MATCH($B$1&ROW($A53),TABPREBB!$AH$10:$AH$281,0),COLUMN()),\"\")","v":""},{"$f":"IFERROR(INDEX(TABPREBB!$A$10:$AF$281,MATCH($B$1&ROW($A53),TABPREBB!$AH$10:$AH$281,0),COLUMN()),\"\")","v":""},{"$f":"IFERROR(INDEX(TABPREBB!$A$10:$AF$281,MATCH($B$1&ROW($A53),TABPREBB!$AH$10:$AH$281,0),COLUMN()),\"\")","v":""},{"$f":"IFERROR(INDEX(TABPREBB!$A$10:$AF$281,MATCH($B$1&ROW($A53),TABPREBB!$AH$10:$AH$281,0),COLUMN()),\"\")","v":""},{"$f":"IFERROR(INDEX(TABPREBB!$A$10:$AF$281,MATCH($B$1&ROW($A53),TABPREBB!$AH$10:$AH$281,0),COLUMN()),\"\")","v":""},{"$f":"IFERROR(INDEX(TABPREBB!$A$10:$AF$281,MATCH($B$1&ROW($A53),TABPREBB!$AH$10:$AH$281,0),COLUMN()),\"\")","v":""},{"$f":"IFERROR(INDEX(TABPREBB!$A$10:$AF$281,MATCH($B$1&ROW($A53),TABPREBB!$AH$10:$AH$281,0),COLUMN()),\"\")","v":""},{"$f":"IFERROR(INDEX(TABPREBB!$A$10:$AF$281,MATCH($B$1&ROW($A53),TABPREBB!$AH$10:$AH$281,0),COLUMN()),\"\")","v":""},{"$f":"IFERROR(INDEX(TABPREBB!$A$10:$AF$281,MATCH($B$1&ROW($A53),TABPREBB!$AH$10:$AH$281,0),COLUMN()),\"\")","v":""},{"$f":"IFERROR(INDEX(TABPREBB!$A$10:$AF$281,MATCH($B$1&ROW($A53),TABPREBB!$AH$10:$AH$281,0),COLUMN()),\"\")","v":""},{"$f":"IFERROR(INDEX(TABPREBB!$A$10:$AF$281,MATCH($B$1&ROW($A53),TABPREBB!$AH$10:$AH$281,0),COLUMN()),\"\")","v":""},{"$f":"IFERROR(INDEX(TABPREBB!$A$10:$AF$281,MATCH($B$1&ROW($A53),TABPREBB!$AH$10:$AH$281,0),COLUMN()),\"\")","v":""},{"$f":"IFERROR(INDEX(TABPREBB!$A$10:$AF$281,MATCH($B$1&ROW($A53),TABPREBB!$AH$10:$AH$281,0),COLUMN()),\"\")","v":""},{"$f":"IFERROR(INDEX(TABPREBB!$A$10:$AF$281,MATCH($B$1&ROW($A53),TABPREBB!$AH$10:$AH$281,0),COLUMN()),\"\")","v":""},{"$f":"IFERROR(INDEX(TABPREBB!$A$10:$AF$281,MATCH($B$1&ROW($A53),TABPREBB!$AH$10:$AH$281,0),COLUMN()),\"\")","v":""},{"$f":"IFERROR(INDEX(TABPREBB!$A$10:$AF$281,MATCH($B$1&ROW($A53),TABPREBB!$AH$10:$AH$281,0),COLUMN()),\"\")","v":""},{"$f":"IFERROR(INDEX(TABPREBB!$A$10:$AF$281,MATCH($B$1&ROW($A53),TABPREBB!$AH$10:$AH$281,0),COLUMN()),\"\")","v":""},{"$f":"IFERROR(INDEX(TABPREBB!$A$10:$AF$281,MATCH($B$1&ROW($A53),TABPREBB!$AH$10:$AH$281,0),COLUMN()),\"\")","v":""},{"$f":"IFERROR(INDEX(TABPREBB!$A$10:$AF$281,MATCH($B$1&ROW($A53),TABPREBB!$AH$10:$AH$281,0),COLUMN()),\"\")","v":""},{"$f":"IFERROR(INDEX(TABPREBB!$A$10:$AF$281,MATCH($B$1&ROW($A53),TABPREBB!$AH$10:$AH$281,0),COLUMN()),\"\")","v":""}]
[{"$f":"IFERROR(INDEX(TABPREBB!$A$10:$AF$281,MATCH($B$1&ROW($A54),TABPREBB!$AH$10:$AH$281,0),COLUMN()),\"\")","v":""},{"$f":"IFERROR(INDEX(TABPREBB!$A$10:$AF$281,MATCH($B$1&ROW($A54),TABPREBB!$AH$10:$AH$281,0),COLUMN()),\"\")","v":""},{"$f":"IFERROR(INDEX(TABPREBB!$A$10:$AF$281,MATCH($B$1&ROW($A54),TABPREBB!$AH$10:$AH$281,0),COLUMN()),\"\")","v":""},{"$f":"IFERROR(INDEX(TABPREBB!$A$10:$AF$281,MATCH($B$1&ROW($A54),TABPREBB!$AH$10:$AH$281,0),COLUMN()),\"\")","v":""},{"$f":"IFERROR(INDEX(TABPREBB!$A$10:$AF$281,MATCH($B$1&ROW($A54),TABPREBB!$AH$10:$AH$281,0),COLUMN()),\"\")","v":""},{"$f":"IFERROR(INDEX(TABPREBB!$A$10:$AF$281,MATCH($B$1&ROW($A54),TABPREBB!$AH$10:$AH$281,0),COLUMN()),\"\")","v":""},{"$f":"IFERROR(INDEX(TABPREBB!$A$10:$AF$281,MATCH($B$1&ROW($A54),TABPREBB!$AH$10:$AH$281,0),COLUMN()),\"\")","v":""},{"$f":"IFERROR(INDEX(TABPREBB!$A$10:$AF$281,MATCH($B$1&ROW($A54),TABPREBB!$AH$10:$AH$281,0),COLUMN()),\"\")","v":""},{"$f":"IFERROR(INDEX(TABPREBB!$A$10:$AF$281,MATCH($B$1&ROW($A54),TABPREBB!$AH$10:$AH$281,0),COLUMN()),\"\")","v":""},{"$f":"IFERROR(INDEX(TABPREBB!$A$10:$AF$281,MATCH($B$1&ROW($A54),TABPREBB!$AH$10:$AH$281,0),COLUMN()),\"\")","v":""},{"$f":"IFERROR(INDEX(TABPREBB!$A$10:$AF$281,MATCH($B$1&ROW($A54),TABPREBB!$AH$10:$AH$281,0),COLUMN()),\"\")","v":""},{"$f":"IFERROR(INDEX(TABPREBB!$A$10:$AF$281,MATCH($B$1&ROW($A54),TABPREBB!$AH$10:$AH$281,0),COLUMN()),\"\")","v":""},{"$f":"IFERROR(INDEX(TABPREBB!$A$10:$AF$281,MATCH($B$1&ROW($A54),TABPREBB!$AH$10:$AH$281,0),COLUMN()),\"\")","v":""},{"$f":"IFERROR(INDEX(TABPREBB!$A$10:$AF$281,MATCH($B$1&ROW($A54),TABPREBB!$AH$10:$AH$281,0),COLUMN()),\"\")","v":""},{"$f":"IFERROR(INDEX(TABPREBB!$A$10:$AF$281,MATCH($B$1&ROW($A54),TABPREBB!$AH$10:$AH$281,0),COLUMN()),\"\")","v":""},{"$f":"IFERROR(INDEX(TABPREBB!$A$10:$AF$281,MATCH($B$1&ROW($A54),TABPREBB!$AH$10:$AH$281,0),COLUMN()),\"\")","v":""},{"$f":"IFERROR(INDEX(TABPREBB!$A$10:$AF$281,MATCH($B$1&ROW($A54),TABPREBB!$AH$10:$AH$281,0),COLUMN()),\"\")","v":""},{"$f":"IFERROR(INDEX(TABPREBB!$A$10:$AF$281,MATCH($B$1&ROW($A54),TABPREBB!$AH$10:$AH$281,0),COLUMN()),\"\")","v":""},{"$f":"IFERROR(INDEX(TABPREBB!$A$10:$AF$281,MATCH($B$1&ROW($A54),TABPREBB!$AH$10:$AH$281,0),COLUMN()),\"\")","v":""},{"$f":"IFERROR(INDEX(TABPREBB!$A$10:$AF$281,MATCH($B$1&ROW($A54),TABPREBB!$AH$10:$AH$281,0),COLUMN()),\"\")","v":""},{"$f":"IFERROR(INDEX(TABPREBB!$A$10:$AF$281,MATCH($B$1&ROW($A54),TABPREBB!$AH$10:$AH$281,0),COLUMN()),\"\")","v":""},{"$f":"IFERROR(INDEX(TABPREBB!$A$10:$AF$281,MATCH($B$1&ROW($A54),TABPREBB!$AH$10:$AH$281,0),COLUMN()),\"\")","v":""},{"$f":"IFERROR(INDEX(TABPREBB!$A$10:$AF$281,MATCH($B$1&ROW($A54),TABPREBB!$AH$10:$AH$281,0),COLUMN()),\"\")","v":""},{"$f":"IFERROR(INDEX(TABPREBB!$A$10:$AF$281,MATCH($B$1&ROW($A54),TABPREBB!$AH$10:$AH$281,0),COLUMN()),\"\")","v":""},{"$f":"IFERROR(INDEX(TABPREBB!$A$10:$AF$281,MATCH($B$1&ROW($A54),TABPREBB!$AH$10:$AH$281,0),COLUMN()),\"\")","v":""},{"$f":"IFERROR(INDEX(TABPREBB!$A$10:$AF$281,MATCH($B$1&ROW($A54),TABPREBB!$AH$10:$AH$281,0),COLUMN()),\"\")","v":""},{"$f":"IFERROR(INDEX(TABPREBB!$A$10:$AF$281,MATCH($B$1&ROW($A54),TABPREBB!$AH$10:$AH$281,0),COLUMN()),\"\")","v":""},{"$f":"IFERROR(INDEX(TABPREBB!$A$10:$AF$281,MATCH($B$1&ROW($A54),TABPREBB!$AH$10:$AH$281,0),COLUMN()),\"\")","v":""},{"$f":"IFERROR(INDEX(TABPREBB!$A$10:$AF$281,MATCH($B$1&ROW($A54),TABPREBB!$AH$10:$AH$281,0),COLUMN()),\"\")","v":""},{"$f":"IFERROR(INDEX(TABPREBB!$A$10:$AF$281,MATCH($B$1&ROW($A54),TABPREBB!$AH$10:$AH$281,0),COLUMN()),\"\")","v":""},{"$f":"IFERROR(INDEX(TABPREBB!$A$10:$AF$281,MATCH($B$1&ROW($A54),TABPREBB!$AH$10:$AH$281,0),COLUMN()),\"\")","v":""},{"$f":"IFERROR(INDEX(TABPREBB!$A$10:$AF$281,MATCH($B$1&ROW($A54),TABPREBB!$AH$10:$AH$281,0),COLUMN()),\"\")","v":""}]
[{"$f":"IFERROR(INDEX(TABPREBB!$A$10:$AF$281,MATCH($B$1&ROW($A55),TABPREBB!$AH$10:$AH$281,0),COLUMN()),\"\")","v":""},{"$f":"IFERROR(INDEX(TABPREBB!$A$10:$AF$281,MATCH($B$1&ROW($A55),TABPREBB!$AH$10:$AH$281,0),COLUMN()),\"\")","v":""},{"$f":"IFERROR(INDEX(TABPREBB!$A$10:$AF$281,MATCH($B$1&ROW($A55),TABPREBB!$AH$10:$AH$281,0),COLUMN()),\"\")","v":""},{"$f":"IFERROR(INDEX(TABPREBB!$A$10:$AF$281,MATCH($B$1&ROW($A55),TABPREBB!$AH$10:$AH$281,0),COLUMN()),\"\")","v":""},{"$f":"IFERROR(INDEX(TABPREBB!$A$10:$AF$281,MATCH($B$1&ROW($A55),TABPREBB!$AH$10:$AH$281,0),COLUMN()),\"\")","v":""},{"$f":"IFERROR(INDEX(TABPREBB!$A$10:$AF$281,MATCH($B$1&ROW($A55),TABPREBB!$AH$10:$AH$281,0),COLUMN()),\"\")","v":""},{"$f":"IFERROR(INDEX(TABPREBB!$A$10:$AF$281,MATCH($B$1&ROW($A55),TABPREBB!$AH$10:$AH$281,0),COLUMN()),\"\")","v":""},{"$f":"IFERROR(INDEX(TABPREBB!$A$10:$AF$281,MATCH($B$1&ROW($A55),TABPREBB!$AH$10:$AH$281,0),COLUMN()),\"\")","v":""},{"$f":"IFERROR(INDEX(TABPREBB!$A$10:$AF$281,MATCH($B$1&ROW($A55),TABPREBB!$AH$10:$AH$281,0),COLUMN()),\"\")","v":""},{"$f":"IFERROR(INDEX(TABPREBB!$A$10:$AF$281,MATCH($B$1&ROW($A55),TABPREBB!$AH$10:$AH$281,0),COLUMN()),\"\")","v":""},{"$f":"IFERROR(INDEX(TABPREBB!$A$10:$AF$281,MATCH($B$1&ROW($A55),TABPREBB!$AH$10:$AH$281,0),COLUMN()),\"\")","v":""},{"$f":"IFERROR(INDEX(TABPREBB!$A$10:$AF$281,MATCH($B$1&ROW($A55),TABPREBB!$AH$10:$AH$281,0),COLUMN()),\"\")","v":""},{"$f":"IFERROR(INDEX(TABPREBB!$A$10:$AF$281,MATCH($B$1&ROW($A55),TABPREBB!$AH$10:$AH$281,0),COLUMN()),\"\")","v":""},{"$f":"IFERROR(INDEX(TABPREBB!$A$10:$AF$281,MATCH($B$1&ROW($A55),TABPREBB!$AH$10:$AH$281,0),COLUMN()),\"\")","v":""},{"$f":"IFERROR(INDEX(TABPREBB!$A$10:$AF$281,MATCH($B$1&ROW($A55),TABPREBB!$AH$10:$AH$281,0),COLUMN()),\"\")","v":""},{"$f":"IFERROR(INDEX(TABPREBB!$A$10:$AF$281,MATCH($B$1&ROW($A55),TABPREBB!$AH$10:$AH$281,0),COLUMN()),\"\")","v":""},{"$f":"IFERROR(INDEX(TABPREBB!$A$10:$AF$281,MATCH($B$1&ROW($A55),TABPREBB!$AH$10:$AH$281,0),COLUMN()),\"\")","v":""},{"$f":"IFERROR(INDEX(TABPREBB!$A$10:$AF$281,MATCH($B$1&ROW($A55),TABPREBB!$AH$10:$AH$281,0),COLUMN()),\"\")","v":""},{"$f":"IFERROR(INDEX(TABPREBB!$A$10:$AF$281,MATCH($B$1&ROW($A55),TABPREBB!$AH$10:$AH$281,0),COLUMN()),\"\")","v":""},{"$f":"IFERROR(INDEX(TABPREBB!$A$10:$AF$281,MATCH($B$1&ROW($A55),TABPREBB!$AH$10:$AH$281,0),COLUMN()),\"\")","v":""},{"$f":"IFERROR(INDEX(TABPREBB!$A$10:$AF$281,MATCH($B$1&ROW($A55),TABPREBB!$AH$10:$AH$281,0),COLUMN()),\"\")","v":""},{"$f":"IFERROR(INDEX(TABPREBB!$A$10:$AF$281,MATCH($B$1&ROW($A55),TABPREBB!$AH$10:$AH$281,0),COLUMN()),\"\")","v":""},{"$f":"IFERROR(INDEX(TABPREBB!$A$10:$AF$281,MATCH($B$1&ROW($A55),TABPREBB!$AH$10:$AH$281,0),COLUMN()),\"\")","v":""},{"$f":"IFERROR(INDEX(TABPREBB!$A$10:$AF$281,MATCH($B$1&ROW($A55),TABPREBB!$AH$10:$AH$281,0),COLUMN()),\"\")","v":""},{"$f":"IFERROR(INDEX(TABPREBB!$A$10:$AF$281,MATCH($B$1&ROW($A55),TABPREBB!$AH$10:$AH$281,0),COLUMN()),\"\")","v":""},{"$f":"IFERROR(INDEX(TABPREBB!$A$10:$AF$281,MATCH($B$1&ROW($A55),TABPREBB!$AH$10:$AH$281,0),COLUMN()),\"\")","v":""},{"$f":"IFERROR(INDEX(TABPREBB!$A$10:$AF$281,MATCH($B$1&ROW($A55),TABPREBB!$AH$10:$AH$281,0),COLUMN()),\"\")","v":""},{"$f":"IFERROR(INDEX(TABPREBB!$A$10:$AF$281,MATCH($B$1&ROW($A55),TABPREBB!$AH$10:$AH$281,0),COLUMN()),\"\")","v":""},{"$f":"IFERROR(INDEX(TABPREBB!$A$10:$AF$281,MATCH($B$1&ROW($A55),TABPREBB!$AH$10:$AH$281,0),COLUMN()),\"\")","v":""},{"$f":"IFERROR(INDEX(TABPREBB!$A$10:$AF$281,MATCH($B$1&ROW($A55),TABPREBB!$AH$10:$AH$281,0),COLUMN()),\"\")","v":""},{"$f":"IFERROR(INDEX(TABPREBB!$A$10:$AF$281,MATCH($B$1&ROW($A55),TABPREBB!$AH$10:$AH$281,0),COLUMN()),\"\")","v":""},{"$f":"IFERROR(INDEX(TABPREBB!$A$10:$AF$281,MATCH($B$1&ROW($A55),TABPREBB!$AH$10:$AH$281,0),COLUMN()),\"\")","v":""}]
[{"$f":"IFERROR(INDEX(TABPREBB!$A$10:$AF$281,MATCH($B$1&ROW($A56),TABPREBB!$AH$10:$AH$281,0),COLUMN()),\"\")","v":""},{"$f":"IFERROR(INDEX(TABPREBB!$A$10:$AF$281,MATCH($B$1&ROW($A56),TABPREBB!$AH$10:$AH$281,0),COLUMN()),\"\")","v":""},{"$f":"IFERROR(INDEX(TABPREBB!$A$10:$AF$281,MATCH($B$1&ROW($A56),TABPREBB!$AH$10:$AH$281,0),COLUMN()),\"\")","v":""},{"$f":"IFERROR(INDEX(TABPREBB!$A$10:$AF$281,MATCH($B$1&ROW($A56),TABPREBB!$AH$10:$AH$281,0),COLUMN()),\"\")","v":""},{"$f":"IFERROR(INDEX(TABPREBB!$A$10:$AF$281,MATCH($B$1&ROW($A56),TABPREBB!$AH$10:$AH$281,0),COLUMN()),\"\")","v":""},{"$f":"IFERROR(INDEX(TABPREBB!$A$10:$AF$281,MATCH($B$1&ROW($A56),TABPREBB!$AH$10:$AH$281,0),COLUMN()),\"\")","v":""},{"$f":"IFERROR(INDEX(TABPREBB!$A$10:$AF$281,MATCH($B$1&ROW($A56),TABPREBB!$AH$10:$AH$281,0),COLUMN()),\"\")","v":""},{"$f":"IFERROR(INDEX(TABPREBB!$A$10:$AF$281,MATCH($B$1&ROW($A56),TABPREBB!$AH$10:$AH$281,0),COLUMN()),\"\")","v":""},{"$f":"IFERROR(INDEX(TABPREBB!$A$10:$AF$281,MATCH($B$1&ROW($A56),TABPREBB!$AH$10:$AH$281,0),COLUMN()),\"\")","v":""},{"$f":"IFERROR(INDEX(TABPREBB!$A$10:$AF$281,MATCH($B$1&ROW($A56),TABPREBB!$AH$10:$AH$281,0),COLUMN()),\"\")","v":""},{"$f":"IFERROR(INDEX(TABPREBB!$A$10:$AF$281,MATCH($B$1&ROW($A56),TABPREBB!$AH$10:$AH$281,0),COLUMN()),\"\")","v":""},{"$f":"IFERROR(INDEX(TABPREBB!$A$10:$AF$281,MATCH($B$1&ROW($A56),TABPREBB!$AH$10:$AH$281,0),COLUMN()),\"\")","v":""},{"$f":"IFERROR(INDEX(TABPREBB!$A$10:$AF$281,MATCH($B$1&ROW($A56),TABPREBB!$AH$10:$AH$281,0),COLUMN()),\"\")","v":""},{"$f":"IFERROR(INDEX(TABPREBB!$A$10:$AF$281,MATCH($B$1&ROW($A56),TABPREBB!$AH$10:$AH$281,0),COLUMN()),\"\")","v":""},{"$f":"IFERROR(INDEX(TABPREBB!$A$10:$AF$281,MATCH($B$1&ROW($A56),TABPREBB!$AH$10:$AH$281,0),COLUMN()),\"\")","v":""},{"$f":"IFERROR(INDEX(TABPREBB!$A$10:$AF$281,MATCH($B$1&ROW($A56),TABPREBB!$AH$10:$AH$281,0),COLUMN()),\"\")","v":""},{"$f":"IFERROR(INDEX(TABPREBB!$A$10:$AF$281,MATCH($B$1&ROW($A56),TABPREBB!$AH$10:$AH$281,0),COLUMN()),\"\")","v":""},{"$f":"IFERROR(INDEX(TABPREBB!$A$10:$AF$281,MATCH($B$1&ROW($A56),TABPREBB!$AH$10:$AH$281,0),COLUMN()),\"\")","v":""},{"$f":"IFERROR(INDEX(TABPREBB!$A$10:$AF$281,MATCH($B$1&ROW($A56),TABPREBB!$AH$10:$AH$281,0),COLUMN()),\"\")","v":""},{"$f":"IFERROR(INDEX(TABPREBB!$A$10:$AF$281,MATCH($B$1&ROW($A56),TABPREBB!$AH$10:$AH$281,0),COLUMN()),\"\")","v":""},{"$f":"IFERROR(INDEX(TABPREBB!$A$10:$AF$281,MATCH($B$1&ROW($A56),TABPREBB!$AH$10:$AH$281,0),COLUMN()),\"\")","v":""},{"$f":"IFERROR(INDEX(TABPREBB!$A$10:$AF$281,MATCH($B$1&ROW($A56),TABPREBB!$AH$10:$AH$281,0),COLUMN()),\"\")","v":""},{"$f":"IFERROR(INDEX(TABPREBB!$A$10:$AF$281,MATCH($B$1&ROW($A56),TABPREBB!$AH$10:$AH$281,0),COLUMN()),\"\")","v":""},{"$f":"IFERROR(INDEX(TABPREBB!$A$10:$AF$281,MATCH($B$1&ROW($A56),TABPREBB!$AH$10:$AH$281,0),COLUMN()),\"\")","v":""},{"$f":"IFERROR(INDEX(TABPREBB!$A$10:$AF$281,MATCH($B$1&ROW($A56),TABPREBB!$AH$10:$AH$281,0),COLUMN()),\"\")","v":""},{"$f":"IFERROR(INDEX(TABPREBB!$A$10:$AF$281,MATCH($B$1&ROW($A56),TABPREBB!$AH$10:$AH$281,0),COLUMN()),\"\")","v":""},{"$f":"IFERROR(INDEX(TABPREBB!$A$10:$AF$281,MATCH($B$1&ROW($A56),TABPREBB!$AH$10:$AH$281,0),COLUMN()),\"\")","v":""},{"$f":"IFERROR(INDEX(TABPREBB!$A$10:$AF$281,MATCH($B$1&ROW($A56),TABPREBB!$AH$10:$AH$281,0),COLUMN()),\"\")","v":""},{"$f":"IFERROR(INDEX(TABPREBB!$A$10:$AF$281,MATCH($B$1&ROW($A56),TABPREBB!$AH$10:$AH$281,0),COLUMN()),\"\")","v":""},{"$f":"IFERROR(INDEX(TABPREBB!$A$10:$AF$281,MATCH($B$1&ROW($A56),TABPREBB!$AH$10:$AH$281,0),COLUMN()),\"\")","v":""},{"$f":"IFERROR(INDEX(TABPREBB!$A$10:$AF$281,MATCH($B$1&ROW($A56),TABPREBB!$AH$10:$AH$281,0),COLUMN()),\"\")","v":""},{"$f":"IFERROR(INDEX(TABPREBB!$A$10:$AF$281,MATCH($B$1&ROW($A56),TABPREBB!$AH$10:$AH$281,0),COLUMN()),\"\")","v":""}]
[{"$f":"IFERROR(INDEX(TABPREBB!$A$10:$AF$281,MATCH($B$1&ROW($A57),TABPREBB!$AH$10:$AH$281,0),COLUMN()),\"\")","v":""},{"$f":"IFERROR(INDEX(TABPREBB!$A$10:$AF$281,MATCH($B$1&ROW($A57),TABPREBB!$AH$10:$AH$281,0),COLUMN()),\"\")","v":""},{"$f":"IFERROR(INDEX(TABPREBB!$A$10:$AF$281,MATCH($B$1&ROW($A57),TABPREBB!$AH$10:$AH$281,0),COLUMN()),\"\")","v":""},{"$f":"IFERROR(INDEX(TABPREBB!$A$10:$AF$281,MATCH($B$1&ROW($A57),TABPREBB!$AH$10:$AH$281,0),COLUMN()),\"\")","v":""},{"$f":"IFERROR(INDEX(TABPREBB!$A$10:$AF$281,MATCH($B$1&ROW($A57),TABPREBB!$AH$10:$AH$281,0),COLUMN()),\"\")","v":""},{"$f":"IFERROR(INDEX(TABPREBB!$A$10:$AF$281,MATCH($B$1&ROW($A57),TABPREBB!$AH$10:$AH$281,0),COLUMN()),\"\")","v":""},{"$f":"IFERROR(INDEX(TABPREBB!$A$10:$AF$281,MATCH($B$1&ROW($A57),TABPREBB!$AH$10:$AH$281,0),COLUMN()),\"\")","v":""},{"$f":"IFERROR(INDEX(TABPREBB!$A$10:$AF$281,MATCH($B$1&ROW($A57),TABPREBB!$AH$10:$AH$281,0),COLUMN()),\"\")","v":""},{"$f":"IFERROR(INDEX(TABPREBB!$A$10:$AF$281,MATCH($B$1&ROW($A57),TABPREBB!$AH$10:$AH$281,0),COLUMN()),\"\")","v":""},{"$f":"IFERROR(INDEX(TABPREBB!$A$10:$AF$281,MATCH($B$1&ROW($A57),TABPREBB!$AH$10:$AH$281,0),COLUMN()),\"\")","v":""},{"$f":"IFERROR(INDEX(TABPREBB!$A$10:$AF$281,MATCH($B$1&ROW($A57),TABPREBB!$AH$10:$AH$281,0),COLUMN()),\"\")","v":""},{"$f":"IFERROR(INDEX(TABPREBB!$A$10:$AF$281,MATCH($B$1&ROW($A57),TABPREBB!$AH$10:$AH$281,0),COLUMN()),\"\")","v":""},{"$f":"IFERROR(INDEX(TABPREBB!$A$10:$AF$281,MATCH($B$1&ROW($A57),TABPREBB!$AH$10:$AH$281,0),COLUMN()),\"\")","v":""},{"$f":"IFERROR(INDEX(TABPREBB!$A$10:$AF$281,MATCH($B$1&ROW($A57),TABPREBB!$AH$10:$AH$281,0),COLUMN()),\"\")","v":""},{"$f":"IFERROR(INDEX(TABPREBB!$A$10:$AF$281,MATCH($B$1&ROW($A57),TABPREBB!$AH$10:$AH$281,0),COLUMN()),\"\")","v":""},{"$f":"IFERROR(INDEX(TABPREBB!$A$10:$AF$281,MATCH($B$1&ROW($A57),TABPREBB!$AH$10:$AH$281,0),COLUMN()),\"\")","v":""},{"$f":"IFERROR(INDEX(TABPREBB!$A$10:$AF$281,MATCH($B$1&ROW($A57),TABPREBB!$AH$10:$AH$281,0),COLUMN()),\"\")","v":""},{"$f":"IFERROR(INDEX(TABPREBB!$A$10:$AF$281,MATCH($B$1&ROW($A57),TABPREBB!$AH$10:$AH$281,0),COLUMN()),\"\")","v":""},{"$f":"IFERROR(INDEX(TABPREBB!$A$10:$AF$281,MATCH($B$1&ROW($A57),TABPREBB!$AH$10:$AH$281,0),COLUMN()),\"\")","v":""},{"$f":"IFERROR(INDEX(TABPREBB!$A$10:$AF$281,MATCH($B$1&ROW($A57),TABPREBB!$AH$10:$AH$281,0),COLUMN()),\"\")","v":""},{"$f":"IFERROR(INDEX(TABPREBB!$A$10:$AF$281,MATCH($B$1&ROW($A57),TABPREBB!$AH$10:$AH$281,0),COLUMN()),\"\")","v":""},{"$f":"IFERROR(INDEX(TABPREBB!$A$10:$AF$281,MATCH($B$1&ROW($A57),TABPREBB!$AH$10:$AH$281,0),COLUMN()),\"\")","v":""},{"$f":"IFERROR(INDEX(TABPREBB!$A$10:$AF$281,MATCH($B$1&ROW($A57),TABPREBB!$AH$10:$AH$281,0),COLUMN()),\"\")","v":""},{"$f":"IFERROR(INDEX(TABPREBB!$A$10:$AF$281,MATCH($B$1&ROW($A57),TABPREBB!$AH$10:$AH$281,0),COLUMN()),\"\")","v":""},{"$f":"IFERROR(INDEX(TABPREBB!$A$10:$AF$281,MATCH($B$1&ROW($A57),TABPREBB!$AH$10:$AH$281,0),COLUMN()),\"\")","v":""},{"$f":"IFERROR(INDEX(TABPREBB!$A$10:$AF$281,MATCH($B$1&ROW($A57),TABPREBB!$AH$10:$AH$281,0),COLUMN()),\"\")","v":""},{"$f":"IFERROR(INDEX(TABPREBB!$A$10:$AF$281,MATCH($B$1&ROW($A57),TABPREBB!$AH$10:$AH$281,0),COLUMN()),\"\")","v":""},{"$f":"IFERROR(INDEX(TABPREBB!$A$10:$AF$281,MATCH($B$1&ROW($A57),TABPREBB!$AH$10:$AH$281,0),COLUMN()),\"\")","v":""},{"$f":"IFERROR(INDEX(TABPREBB!$A$10:$AF$281,MATCH($B$1&ROW($A57),TABPREBB!$AH$10:$AH$281,0),COLUMN()),\"\")","v":""},{"$f":"IFERROR(INDEX(TABPREBB!$A$10:$AF$281,MATCH($B$1&ROW($A57),TABPREBB!$AH$10:$AH$281,0),COLUMN()),\"\")","v":""},{"$f":"IFERROR(INDEX(TABPREBB!$A$10:$AF$281,MATCH($B$1&ROW($A57),TABPREBB!$AH$10:$AH$281,0),COLUMN()),\"\")","v":""},{"$f":"IFERROR(INDEX(TABPREBB!$A$10:$AF$281,MATCH($B$1&ROW($A57),TABPREBB!$AH$10:$AH$281,0),COLUMN()),\"\")","v":""}]
[{"$f":"IFERROR(INDEX(TABPREBB!$A$10:$AF$281,MATCH($B$1&ROW($A58),TABPREBB!$AH$10:$AH$281,0),COLUMN()),\"\")","v":""},{"$f":"IFERROR(INDEX(TABPREBB!$A$10:$AF$281,MATCH($B$1&ROW($A58),TABPREBB!$AH$10:$AH$281,0),COLUMN()),\"\")","v":""},{"$f":"IFERROR(INDEX(TABPREBB!$A$10:$AF$281,MATCH($B$1&ROW($A58),TABPREBB!$AH$10:$AH$281,0),COLUMN()),\"\")","v":""},{"$f":"IFERROR(INDEX(TABPREBB!$A$10:$AF$281,MATCH($B$1&ROW($A58),TABPREBB!$AH$10:$AH$281,0),COLUMN()),\"\")","v":""},{"$f":"IFERROR(INDEX(TABPREBB!$A$10:$AF$281,MATCH($B$1&ROW($A58),TABPREBB!$AH$10:$AH$281,0),COLUMN()),\"\")","v":""},{"$f":"IFERROR(INDEX(TABPREBB!$A$10:$AF$281,MATCH($B$1&ROW($A58),TABPREBB!$AH$10:$AH$281,0),COLUMN()),\"\")","v":""},{"$f":"IFERROR(INDEX(TABPREBB!$A$10:$AF$281,MATCH($B$1&ROW($A58),TABPREBB!$AH$10:$AH$281,0),COLUMN()),\"\")","v":""},{"$f":"IFERROR(INDEX(TABPREBB!$A$10:$AF$281,MATCH($B$1&ROW($A58),TABPREBB!$AH$10:$AH$281,0),COLUMN()),\"\")","v":""},{"$f":"IFERROR(INDEX(TABPREBB!$A$10:$AF$281,MATCH($B$1&ROW($A58),TABPREBB!$AH$10:$AH$281,0),COLUMN()),\"\")","v":""},{"$f":"IFERROR(INDEX(TABPREBB!$A$10:$AF$281,MATCH($B$1&ROW($A58),TABPREBB!$AH$10:$AH$281,0),COLUMN()),\"\")","v":""},{"$f":"IFERROR(INDEX(TABPREBB!$A$10:$AF$281,MATCH($B$1&ROW($A58),TABPREBB!$AH$10:$AH$281,0),COLUMN()),\"\")","v":""},{"$f":"IFERROR(INDEX(TABPREBB!$A$10:$AF$281,MATCH($B$1&ROW($A58),TABPREBB!$AH$10:$AH$281,0),COLUMN()),\"\")","v":""},{"$f":"IFERROR(INDEX(TABPREBB!$A$10:$AF$281,MATCH($B$1&ROW($A58),TABPREBB!$AH$10:$AH$281,0),COLUMN()),\"\")","v":""},{"$f":"IFERROR(INDEX(TABPREBB!$A$10:$AF$281,MATCH($B$1&ROW($A58),TABPREBB!$AH$10:$AH$281,0),COLUMN()),\"\")","v":""},{"$f":"IFERROR(INDEX(TABPREBB!$A$10:$AF$281,MATCH($B$1&ROW($A58),TABPREBB!$AH$10:$AH$281,0),COLUMN()),\"\")","v":""},{"$f":"IFERROR(INDEX(TABPREBB!$A$10:$AF$281,MATCH($B$1&ROW($A58),TABPREBB!$AH$10:$AH$281,0),COLUMN()),\"\")","v":""},{"$f":"IFERROR(INDEX(TABPREBB!$A$10:$AF$281,MATCH($B$1&ROW($A58),TABPREBB!$AH$10:$AH$281,0),COLUMN()),\"\")","v":""},{"$f":"IFERROR(INDEX(TABPREBB!$A$10:$AF$281,MATCH($B$1&ROW($A58),TABPREBB!$AH$10:$AH$281,0),COLUMN()),\"\")","v":""},{"$f":"IFERROR(INDEX(TABPREBB!$A$10:$AF$281,MATCH($B$1&ROW($A58),TABPREBB!$AH$10:$AH$281,0),COLUMN()),\"\")","v":""},{"$f":"IFERROR(INDEX(TABPREBB!$A$10:$AF$281,MATCH($B$1&ROW($A58),TABPREBB!$AH$10:$AH$281,0),COLUMN()),\"\")","v":""},{"$f":"IFERROR(INDEX(TABPREBB!$A$10:$AF$281,MATCH($B$1&ROW($A58),TABPREBB!$AH$10:$AH$281,0),COLUMN()),\"\")","v":""},{"$f":"IFERROR(INDEX(TABPREBB!$A$10:$AF$281,MATCH($B$1&ROW($A58),TABPREBB!$AH$10:$AH$281,0),COLUMN()),\"\")","v":""},{"$f":"IFERROR(INDEX(TABPREBB!$A$10:$AF$281,MATCH($B$1&ROW($A58),TABPREBB!$AH$10:$AH$281,0),COLUMN()),\"\")","v":""},{"$f":"IFERROR(INDEX(TABPREBB!$A$10:$AF$281,MATCH($B$1&ROW($A58),TABPREBB!$AH$10:$AH$281,0),COLUMN()),\"\")","v":""},{"$f":"IFERROR(INDEX(TABPREBB!$A$10:$AF$281,MATCH($B$1&ROW($A58),TABPREBB!$AH$10:$AH$281,0),COLUMN()),\"\")","v":""},{"$f":"IFERROR(INDEX(TABPREBB!$A$10:$AF$281,MATCH($B$1&ROW($A58),TABPREBB!$AH$10:$AH$281,0),COLUMN()),\"\")","v":""},{"$f":"IFERROR(INDEX(TABPREBB!$A$10:$AF$281,MATCH($B$1&ROW($A58),TABPREBB!$AH$10:$AH$281,0),COLUMN()),\"\")","v":""},{"$f":"IFERROR(INDEX(TABPREBB!$A$10:$AF$281,MATCH($B$1&ROW($A58),TABPREBB!$AH$10:$AH$281,0),COLUMN()),\"\")","v":""},{"$f":"IFERROR(INDEX(TABPREBB!$A$10:$AF$281,MATCH($B$1&ROW($A58),TABPREBB!$AH$10:$AH$281,0),COLUMN()),\"\")","v":""},{"$f":"IFERROR(INDEX(TABPREBB!$A$10:$AF$281,MATCH($B$1&ROW($A58),TABPREBB!$AH$10:$AH$281,0),COLUMN()),\"\")","v":""},{"$f":"IFERROR(INDEX(TABPREBB!$A$10:$AF$281,MATCH($B$1&ROW($A58),TABPREBB!$AH$10:$AH$281,0),COLUMN()),\"\")","v":""},{"$f":"IFERROR(INDEX(TABPREBB!$A$10:$AF$281,MATCH($B$1&ROW($A58),TABPREBB!$AH$10:$AH$281,0),COLUMN()),\"\")","v":""}]
[{"$f":"IFERROR(INDEX(TABPREBB!$A$10:$AF$281,MATCH($B$1&ROW($A59),TABPREBB!$AH$10:$AH$281,0),COLUMN()),\"\")","v":""},{"$f":"IFERROR(INDEX(TABPREBB!$A$10:$AF$281,MATCH($B$1&ROW($A59),TABPREBB!$AH$10:$AH$281,0),COLUMN()),\"\")","v":""},{"$f":"IFERROR(INDEX(TABPREBB!$A$10:$AF$281,MATCH($B$1&ROW($A59),TABPREBB!$AH$10:$AH$281,0),COLUMN()),\"\")","v":""},{"$f":"IFERROR(INDEX(TABPREBB!$A$10:$AF$281,MATCH($B$1&ROW($A59),TABPREBB!$AH$10:$AH$281,0),COLUMN()),\"\")","v":""},{"$f":"IFERROR(INDEX(TABPREBB!$A$10:$AF$281,MATCH($B$1&ROW($A59),TABPREBB!$AH$10:$AH$281,0),COLUMN()),\"\")","v":""},{"$f":"IFERROR(INDEX(TABPREBB!$A$10:$AF$281,MATCH($B$1&ROW($A59),TABPREBB!$AH$10:$AH$281,0),COLUMN()),\"\")","v":""},{"$f":"IFERROR(INDEX(TABPREBB!$A$10:$AF$281,MATCH($B$1&ROW($A59),TABPREBB!$AH$10:$AH$281,0),COLUMN()),\"\")","v":""},{"$f":"IFERROR(INDEX(TABPREBB!$A$10:$AF$281,MATCH($B$1&ROW($A59),TABPREBB!$AH$10:$AH$281,0),COLUMN()),\"\")","v":""},{"$f":"IFERROR(INDEX(TABPREBB!$A$10:$AF$281,MATCH($B$1&ROW($A59),TABPREBB!$AH$10:$AH$281,0),COLUMN()),\"\")","v":""},{"$f":"IFERROR(INDEX(TABPREBB!$A$10:$AF$281,MATCH($B$1&ROW($A59),TABPREBB!$AH$10:$AH$281,0),COLUMN()),\"\")","v":""},{"$f":"IFERROR(INDEX(TABPREBB!$A$10:$AF$281,MATCH($B$1&ROW($A59),TABPREBB!$AH$10:$AH$281,0),COLUMN()),\"\")","v":""},{"$f":"IFERROR(INDEX(TABPREBB!$A$10:$AF$281,MATCH($B$1&ROW($A59),TABPREBB!$AH$10:$AH$281,0),COLUMN()),\"\")","v":""},{"$f":"IFERROR(INDEX(TABPREBB!$A$10:$AF$281,MATCH($B$1&ROW($A59),TABPREBB!$AH$10:$AH$281,0),COLUMN()),\"\")","v":""},{"$f":"IFERROR(INDEX(TABPREBB!$A$10:$AF$281,MATCH($B$1&ROW($A59),TABPREBB!$AH$10:$AH$281,0),COLUMN()),\"\")","v":""},{"$f":"IFERROR(INDEX(TABPREBB!$A$10:$AF$281,MATCH($B$1&ROW($A59),TABPREBB!$AH$10:$AH$281,0),COLUMN()),\"\")","v":""},{"$f":"IFERROR(INDEX(TABPREBB!$A$10:$AF$281,MATCH($B$1&ROW($A59),TABPREBB!$AH$10:$AH$281,0),COLUMN()),\"\")","v":""},{"$f":"IFERROR(INDEX(TABPREBB!$A$10:$AF$281,MATCH($B$1&ROW($A59),TABPREBB!$AH$10:$AH$281,0),COLUMN()),\"\")","v":""},{"$f":"IFERROR(INDEX(TABPREBB!$A$10:$AF$281,MATCH($B$1&ROW($A59),TABPREBB!$AH$10:$AH$281,0),COLUMN()),\"\")","v":""},{"$f":"IFERROR(INDEX(TABPREBB!$A$10:$AF$281,MATCH($B$1&ROW($A59),TABPREBB!$AH$10:$AH$281,0),COLUMN()),\"\")","v":""},{"$f":"IFERROR(INDEX(TABPREBB!$A$10:$AF$281,MATCH($B$1&ROW($A59),TABPREBB!$AH$10:$AH$281,0),COLUMN()),\"\")","v":""},{"$f":"IFERROR(INDEX(TABPREBB!$A$10:$AF$281,MATCH($B$1&ROW($A59),TABPREBB!$AH$10:$AH$281,0),COLUMN()),\"\")","v":""},{"$f":"IFERROR(INDEX(TABPREBB!$A$10:$AF$281,MATCH($B$1&ROW($A59),TABPREBB!$AH$10:$AH$281,0),COLUMN()),\"\")","v":""},{"$f":"IFERROR(INDEX(TABPREBB!$A$10:$AF$281,MATCH($B$1&ROW($A59),TABPREBB!$AH$10:$AH$281,0),COLUMN()),\"\")","v":""},{"$f":"IFERROR(INDEX(TABPREBB!$A$10:$AF$281,MATCH($B$1&ROW($A59),TABPREBB!$AH$10:$AH$281,0),COLUMN()),\"\")","v":""},{"$f":"IFERROR(INDEX(TABPREBB!$A$10:$AF$281,MATCH($B$1&ROW($A59),TABPREBB!$AH$10:$AH$281,0),COLUMN()),\"\")","v":""},{"$f":"IFERROR(INDEX(TABPREBB!$A$10:$AF$281,MATCH($B$1&ROW($A59),TABPREBB!$AH$10:$AH$281,0),COLUMN()),\"\")","v":""},{"$f":"IFERROR(INDEX(TABPREBB!$A$10:$AF$281,MATCH($B$1&ROW($A59),TABPREBB!$AH$10:$AH$281,0),COLUMN()),\"\")","v":""},{"$f":"IFERROR(INDEX(TABPREBB!$A$10:$AF$281,MATCH($B$1&ROW($A59),TABPREBB!$AH$10:$AH$281,0),COLUMN()),\"\")","v":""},{"$f":"IFERROR(INDEX(TABPREBB!$A$10:$AF$281,MATCH($B$1&ROW($A59),TABPREBB!$AH$10:$AH$281,0),COLUMN()),\"\")","v":""},{"$f":"IFERROR(INDEX(TABPREBB!$A$10:$AF$281,MATCH($B$1&ROW($A59),TABPREBB!$AH$10:$AH$281,0),COLUMN()),\"\")","v":""},{"$f":"IFERROR(INDEX(TABPREBB!$A$10:$AF$281,MATCH($B$1&ROW($A59),TABPREBB!$AH$10:$AH$281,0),COLUMN()),\"\")","v":""},{"$f":"IFERROR(INDEX(TABPREBB!$A$10:$AF$281,MATCH($B$1&ROW($A59),TABPREBB!$AH$10:$AH$281,0),COLUMN()),\"\")","v":""}]
[{"$f":"IFERROR(INDEX(TABPREBB!$A$10:$AF$281,MATCH($B$1&ROW($A60),TABPREBB!$AH$10:$AH$281,0),COLUMN()),\"\")","v":""},{"$f":"IFERROR(INDEX(TABPREBB!$A$10:$AF$281,MATCH($B$1&ROW($A60),TABPREBB!$AH$10:$AH$281,0),COLUMN()),\"\")","v":""},{"$f":"IFERROR(INDEX(TABPREBB!$A$10:$AF$281,MATCH($B$1&ROW($A60),TABPREBB!$AH$10:$AH$281,0),COLUMN()),\"\")","v":""},{"$f":"IFERROR(INDEX(TABPREBB!$A$10:$AF$281,MATCH($B$1&ROW($A60),TABPREBB!$AH$10:$AH$281,0),COLUMN()),\"\")","v":""},{"$f":"IFERROR(INDEX(TABPREBB!$A$10:$AF$281,MATCH($B$1&ROW($A60),TABPREBB!$AH$10:$AH$281,0),COLUMN()),\"\")","v":""},{"$f":"IFERROR(INDEX(TABPREBB!$A$10:$AF$281,MATCH($B$1&ROW($A60),TABPREBB!$AH$10:$AH$281,0),COLUMN()),\"\")","v":""},{"$f":"IFERROR(INDEX(TABPREBB!$A$10:$AF$281,MATCH($B$1&ROW($A60),TABPREBB!$AH$10:$AH$281,0),COLUMN()),\"\")","v":""},{"$f":"IFERROR(INDEX(TABPREBB!$A$10:$AF$281,MATCH($B$1&ROW($A60),TABPREBB!$AH$10:$AH$281,0),COLUMN()),\"\")","v":""},{"$f":"IFERROR(INDEX(TABPREBB!$A$10:$AF$281,MATCH($B$1&ROW($A60),TABPREBB!$AH$10:$AH$281,0),COLUMN()),\"\")","v":""},{"$f":"IFERROR(INDEX(TABPREBB!$A$10:$AF$281,MATCH($B$1&ROW($A60),TABPREBB!$AH$10:$AH$281,0),COLUMN()),\"\")","v":""},{"$f":"IFERROR(INDEX(TABPREBB!$A$10:$AF$281,MATCH($B$1&ROW($A60),TABPREBB!$AH$10:$AH$281,0),COLUMN()),\"\")","v":""},{"$f":"IFERROR(INDEX(TABPREBB!$A$10:$AF$281,MATCH($B$1&ROW($A60),TABPREBB!$AH$10:$AH$281,0),COLUMN()),\"\")","v":""},{"$f":"IFERROR(INDEX(TABPREBB!$A$10:$AF$281,MATCH($B$1&ROW($A60),TABPREBB!$AH$10:$AH$281,0),COLUMN()),\"\")","v":""},{"$f":"IFERROR(INDEX(TABPREBB!$A$10:$AF$281,MATCH($B$1&ROW($A60),TABPREBB!$AH$10:$AH$281,0),COLUMN()),\"\")","v":""},{"$f":"IFERROR(INDEX(TABPREBB!$A$10:$AF$281,MATCH($B$1&ROW($A60),TABPREBB!$AH$10:$AH$281,0),COLUMN()),\"\")","v":""},{"$f":"IFERROR(INDEX(TABPREBB!$A$10:$AF$281,MATCH($B$1&ROW($A60),TABPREBB!$AH$10:$AH$281,0),COLUMN()),\"\")","v":""},{"$f":"IFERROR(INDEX(TABPREBB!$A$10:$AF$281,MATCH($B$1&ROW($A60),TABPREBB!$AH$10:$AH$281,0),COLUMN()),\"\")","v":""},{"$f":"IFERROR(INDEX(TABPREBB!$A$10:$AF$281,MATCH($B$1&ROW($A60),TABPREBB!$AH$10:$AH$281,0),COLUMN()),\"\")","v":""},{"$f":"IFERROR(INDEX(TABPREBB!$A$10:$AF$281,MATCH($B$1&ROW($A60),TABPREBB!$AH$10:$AH$281,0),COLUMN()),\"\")","v":""},{"$f":"IFERROR(INDEX(TABPREBB!$A$10:$AF$281,MATCH($B$1&ROW($A60),TABPREBB!$AH$10:$AH$281,0),COLUMN()),\"\")","v":""},{"$f":"IFERROR(INDEX(TABPREBB!$A$10:$AF$281,MATCH($B$1&ROW($A60),TABPREBB!$AH$10:$AH$281,0),COLUMN()),\"\")","v":""},{"$f":"IFERROR(INDEX(TABPREBB!$A$10:$AF$281,MATCH($B$1&ROW($A60),TABPREBB!$AH$10:$AH$281,0),COLUMN()),\"\")","v":""},{"$f":"IFERROR(INDEX(TABPREBB!$A$10:$AF$281,MATCH($B$1&ROW($A60),TABPREBB!$AH$10:$AH$281,0),COLUMN()),\"\")","v":""},{"$f":"IFERROR(INDEX(TABPREBB!$A$10:$AF$281,MATCH($B$1&ROW($A60),TABPREBB!$AH$10:$AH$281,0),COLUMN()),\"\")","v":""},{"$f":"IFERROR(INDEX(TABPREBB!$A$10:$AF$281,MATCH($B$1&ROW($A60),TABPREBB!$AH$10:$AH$281,0),COLUMN()),\"\")","v":""},{"$f":"IFERROR(INDEX(TABPREBB!$A$10:$AF$281,MATCH($B$1&ROW($A60),TABPREBB!$AH$10:$AH$281,0),COLUMN()),\"\")","v":""},{"$f":"IFERROR(INDEX(TABPREBB!$A$10:$AF$281,MATCH($B$1&ROW($A60),TABPREBB!$AH$10:$AH$281,0),COLUMN()),\"\")","v":""},{"$f":"IFERROR(INDEX(TABPREBB!$A$10:$AF$281,MATCH($B$1&ROW($A60),TABPREBB!$AH$10:$AH$281,0),COLUMN()),\"\")","v":""},{"$f":"IFERROR(INDEX(TABPREBB!$A$10:$AF$281,MATCH($B$1&ROW($A60),TABPREBB!$AH$10:$AH$281,0),COLUMN()),\"\")","v":""},{"$f":"IFERROR(INDEX(TABPREBB!$A$10:$AF$281,MATCH($B$1&ROW($A60),TABPREBB!$AH$10:$AH$281,0),COLUMN()),\"\")","v":""},{"$f":"IFERROR(INDEX(TABPREBB!$A$10:$AF$281,MATCH($B$1&ROW($A60),TABPREBB!$AH$10:$AH$281,0),COLUMN()),\"\")","v":""},{"$f":"IFERROR(INDEX(TABPREBB!$A$10:$AF$281,MATCH($B$1&ROW($A60),TABPREBB!$AH$10:$AH$281,0),COLUMN()),\"\")","v":""}]
[{"$f":"IFERROR(INDEX(TABPREBB!$A$10:$AF$281,MATCH($B$1&ROW($A61),TABPREBB!$AH$10:$AH$281,0),COLUMN()),\"\")","v":""},{"$f":"IFERROR(INDEX(TABPREBB!$A$10:$AF$281,MATCH($B$1&ROW($A61),TABPREBB!$AH$10:$AH$281,0),COLUMN()),\"\")","v":""},{"$f":"IFERROR(INDEX(TABPREBB!$A$10:$AF$281,MATCH($B$1&ROW($A61),TABPREBB!$AH$10:$AH$281,0),COLUMN()),\"\")","v":""},{"$f":"IFERROR(INDEX(TABPREBB!$A$10:$AF$281,MATCH($B$1&ROW($A61),TABPREBB!$AH$10:$AH$281,0),COLUMN()),\"\")","v":""},{"$f":"IFERROR(INDEX(TABPREBB!$A$10:$AF$281,MATCH($B$1&ROW($A61),TABPREBB!$AH$10:$AH$281,0),COLUMN()),\"\")","v":""},{"$f":"IFERROR(INDEX(TABPREBB!$A$10:$AF$281,MATCH($B$1&ROW($A61),TABPREBB!$AH$10:$AH$281,0),COLUMN()),\"\")","v":""},{"$f":"IFERROR(INDEX(TABPREBB!$A$10:$AF$281,MATCH($B$1&ROW($A61),TABPREBB!$AH$10:$AH$281,0),COLUMN()),\"\")","v":""},{"$f":"IFERROR(INDEX(TABPREBB!$A$10:$AF$281,MATCH($B$1&ROW($A61),TABPREBB!$AH$10:$AH$281,0),COLUMN()),\"\")","v":""},{"$f":"IFERROR(INDEX(TABPREBB!$A$10:$AF$281,MATCH($B$1&ROW($A61),TABPREBB!$AH$10:$AH$281,0),COLUMN()),\"\")","v":""},{"$f":"IFERROR(INDEX(TABPREBB!$A$10:$AF$281,MATCH($B$1&ROW($A61),TABPREBB!$AH$10:$AH$281,0),COLUMN()),\"\")","v":""},{"$f":"IFERROR(INDEX(TABPREBB!$A$10:$AF$281,MATCH($B$1&ROW($A61),TABPREBB!$AH$10:$AH$281,0),COLUMN()),\"\")","v":""},{"$f":"IFERROR(INDEX(TABPREBB!$A$10:$AF$281,MATCH($B$1&ROW($A61),TABPREBB!$AH$10:$AH$281,0),COLUMN()),\"\")","v":""},{"$f":"IFERROR(INDEX(TABPREBB!$A$10:$AF$281,MATCH($B$1&ROW($A61),TABPREBB!$AH$10:$AH$281,0),COLUMN()),\"\")","v":""},{"$f":"IFERROR(INDEX(TABPREBB!$A$10:$AF$281,MATCH($B$1&ROW($A61),TABPREBB!$AH$10:$AH$281,0),COLUMN()),\"\")","v":""},{"$f":"IFERROR(INDEX(TABPREBB!$A$10:$AF$281,MATCH($B$1&ROW($A61),TABPREBB!$AH$10:$AH$281,0),COLUMN()),\"\")","v":""},{"$f":"IFERROR(INDEX(TABPREBB!$A$10:$AF$281,MATCH($B$1&ROW($A61),TABPREBB!$AH$10:$AH$281,0),COLUMN()),\"\")","v":""},{"$f":"IFERROR(INDEX(TABPREBB!$A$10:$AF$281,MATCH($B$1&ROW($A61),TABPREBB!$AH$10:$AH$281,0),COLUMN()),\"\")","v":""},{"$f":"IFERROR(INDEX(TABPREBB!$A$10:$AF$281,MATCH($B$1&ROW($A61),TABPREBB!$AH$10:$AH$281,0),COLUMN()),\"\")","v":""},{"$f":"IFERROR(INDEX(TABPREBB!$A$10:$AF$281,MATCH($B$1&ROW($A61),TABPREBB!$AH$10:$AH$281,0),COLUMN()),\"\")","v":""},{"$f":"IFERROR(INDEX(TABPREBB!$A$10:$AF$281,MATCH($B$1&ROW($A61),TABPREBB!$AH$10:$AH$281,0),COLUMN()),\"\")","v":""},{"$f":"IFERROR(INDEX(TABPREBB!$A$10:$AF$281,MATCH($B$1&ROW($A61),TABPREBB!$AH$10:$AH$281,0),COLUMN()),\"\")","v":""},{"$f":"IFERROR(INDEX(TABPREBB!$A$10:$AF$281,MATCH($B$1&ROW($A61),TABPREBB!$AH$10:$AH$281,0),COLUMN()),\"\")","v":""},{"$f":"IFERROR(INDEX(TABPREBB!$A$10:$AF$281,MATCH($B$1&ROW($A61),TABPREBB!$AH$10:$AH$281,0),COLUMN()),\"\")","v":""},{"$f":"IFERROR(INDEX(TABPREBB!$A$10:$AF$281,MATCH($B$1&ROW($A61),TABPREBB!$AH$10:$AH$281,0),COLUMN()),\"\")","v":""},{"$f":"IFERROR(INDEX(TABPREBB!$A$10:$AF$281,MATCH($B$1&ROW($A61),TABPREBB!$AH$10:$AH$281,0),COLUMN()),\"\")","v":""},{"$f":"IFERROR(INDEX(TABPREBB!$A$10:$AF$281,MATCH($B$1&ROW($A61),TABPREBB!$AH$10:$AH$281,0),COLUMN()),\"\")","v":""},{"$f":"IFERROR(INDEX(TABPREBB!$A$10:$AF$281,MATCH($B$1&ROW($A61),TABPREBB!$AH$10:$AH$281,0),COLUMN()),\"\")","v":""},{"$f":"IFERROR(INDEX(TABPREBB!$A$10:$AF$281,MATCH($B$1&ROW($A61),TABPREBB!$AH$10:$AH$281,0),COLUMN()),\"\")","v":""},{"$f":"IFERROR(INDEX(TABPREBB!$A$10:$AF$281,MATCH($B$1&ROW($A61),TABPREBB!$AH$10:$AH$281,0),COLUMN()),\"\")","v":""},{"$f":"IFERROR(INDEX(TABPREBB!$A$10:$AF$281,MATCH($B$1&ROW($A61),TABPREBB!$AH$10:$AH$281,0),COLUMN()),\"\")","v":""},{"$f":"IFERROR(INDEX(TABPREBB!$A$10:$AF$281,MATCH($B$1&ROW($A61),TABPREBB!$AH$10:$AH$281,0),COLUMN()),\"\")","v":""},{"$f":"IFERROR(INDEX(TABPREBB!$A$10:$AF$281,MATCH($B$1&ROW($A61),TABPREBB!$AH$10:$AH$281,0),COLUMN()),\"\")","v":""}]
[{"$f":"IFERROR(INDEX(TABPREBB!$A$10:$AF$281,MATCH($B$1&ROW($A62),TABPREBB!$AH$10:$AH$281,0),COLUMN()),\"\")","v":""},{"$f":"IFERROR(INDEX(TABPREBB!$A$10:$AF$281,MATCH($B$1&ROW($A62),TABPREBB!$AH$10:$AH$281,0),COLUMN()),\"\")","v":""},{"$f":"IFERROR(INDEX(TABPREBB!$A$10:$AF$281,MATCH($B$1&ROW($A62),TABPREBB!$AH$10:$AH$281,0),COLUMN()),\"\")","v":""},{"$f":"IFERROR(INDEX(TABPREBB!$A$10:$AF$281,MATCH($B$1&ROW($A62),TABPREBB!$AH$10:$AH$281,0),COLUMN()),\"\")","v":""},{"$f":"IFERROR(INDEX(TABPREBB!$A$10:$AF$281,MATCH($B$1&ROW($A62),TABPREBB!$AH$10:$AH$281,0),COLUMN()),\"\")","v":""},{"$f":"IFERROR(INDEX(TABPREBB!$A$10:$AF$281,MATCH($B$1&ROW($A62),TABPREBB!$AH$10:$AH$281,0),COLUMN()),\"\")","v":""},{"$f":"IFERROR(INDEX(TABPREBB!$A$10:$AF$281,MATCH($B$1&ROW($A62),TABPREBB!$AH$10:$AH$281,0),COLUMN()),\"\")","v":""},{"$f":"IFERROR(INDEX(TABPREBB!$A$10:$AF$281,MATCH($B$1&ROW($A62),TABPREBB!$AH$10:$AH$281,0),COLUMN()),\"\")","v":""},{"$f":"IFERROR(INDEX(TABPREBB!$A$10:$AF$281,MATCH($B$1&ROW($A62),TABPREBB!$AH$10:$AH$281,0),COLUMN()),\"\")","v":""},{"$f":"IFERROR(INDEX(TABPREBB!$A$10:$AF$281,MATCH($B$1&ROW($A62),TABPREBB!$AH$10:$AH$281,0),COLUMN()),\"\")","v":""},{"$f":"IFERROR(INDEX(TABPREBB!$A$10:$AF$281,MATCH($B$1&ROW($A62),TABPREBB!$AH$10:$AH$281,0),COLUMN()),\"\")","v":""},{"$f":"IFERROR(INDEX(TABPREBB!$A$10:$AF$281,MATCH($B$1&ROW($A62),TABPREBB!$AH$10:$AH$281,0),COLUMN()),\"\")","v":""},{"$f":"IFERROR(INDEX(TABPREBB!$A$10:$AF$281,MATCH($B$1&ROW($A62),TABPREBB!$AH$10:$AH$281,0),COLUMN()),\"\")","v":""},{"$f":"IFERROR(INDEX(TABPREBB!$A$10:$AF$281,MATCH($B$1&ROW($A62),TABPREBB!$AH$10:$AH$281,0),COLUMN()),\"\")","v":""},{"$f":"IFERROR(INDEX(TABPREBB!$A$10:$AF$281,MATCH($B$1&ROW($A62),TABPREBB!$AH$10:$AH$281,0),COLUMN()),\"\")","v":""},{"$f":"IFERROR(INDEX(TABPREBB!$A$10:$AF$281,MATCH($B$1&ROW($A62),TABPREBB!$AH$10:$AH$281,0),COLUMN()),\"\")","v":""},{"$f":"IFERROR(INDEX(TABPREBB!$A$10:$AF$281,MATCH($B$1&ROW($A62),TABPREBB!$AH$10:$AH$281,0),COLUMN()),\"\")","v":""},{"$f":"IFERROR(INDEX(TABPREBB!$A$10:$AF$281,MATCH($B$1&ROW($A62),TABPREBB!$AH$10:$AH$281,0),COLUMN()),\"\")","v":""},{"$f":"IFERROR(INDEX(TABPREBB!$A$10:$AF$281,MATCH($B$1&ROW($A62),TABPREBB!$AH$10:$AH$281,0),COLUMN()),\"\")","v":""},{"$f":"IFERROR(INDEX(TABPREBB!$A$10:$AF$281,MATCH($B$1&ROW($A62),TABPREBB!$AH$10:$AH$281,0),COLUMN()),\"\")","v":""},{"$f":"IFERROR(INDEX(TABPREBB!$A$10:$AF$281,MATCH($B$1&ROW($A62),TABPREBB!$AH$10:$AH$281,0),COLUMN()),\"\")","v":""},{"$f":"IFERROR(INDEX(TABPREBB!$A$10:$AF$281,MATCH($B$1&ROW($A62),TABPREBB!$AH$10:$AH$281,0),COLUMN()),\"\")","v":""},{"$f":"IFERROR(INDEX(TABPREBB!$A$10:$AF$281,MATCH($B$1&ROW($A62),TABPREBB!$AH$10:$AH$281,0),COLUMN()),\"\")","v":""},{"$f":"IFERROR(INDEX(TABPREBB!$A$10:$AF$281,MATCH($B$1&ROW($A62),TABPREBB!$AH$10:$AH$281,0),COLUMN()),\"\")","v":""},{"$f":"IFERROR(INDEX(TABPREBB!$A$10:$AF$281,MATCH($B$1&ROW($A62),TABPREBB!$AH$10:$AH$281,0),COLUMN()),\"\")","v":""},{"$f":"IFERROR(INDEX(TABPREBB!$A$10:$AF$281,MATCH($B$1&ROW($A62),TABPREBB!$AH$10:$AH$281,0),COLUMN()),\"\")","v":""},{"$f":"IFERROR(INDEX(TABPREBB!$A$10:$AF$281,MATCH($B$1&ROW($A62),TABPREBB!$AH$10:$AH$281,0),COLUMN()),\"\")","v":""},{"$f":"IFERROR(INDEX(TABPREBB!$A$10:$AF$281,MATCH($B$1&ROW($A62),TABPREBB!$AH$10:$AH$281,0),COLUMN()),\"\")","v":""},{"$f":"IFERROR(INDEX(TABPREBB!$A$10:$AF$281,MATCH($B$1&ROW($A62),TABPREBB!$AH$10:$AH$281,0),COLUMN()),\"\")","v":""},{"$f":"IFERROR(INDEX(TABPREBB!$A$10:$AF$281,MATCH($B$1&ROW($A62),TABPREBB!$AH$10:$AH$281,0),COLUMN()),\"\")","v":""},{"$f":"IFERROR(INDEX(TABPREBB!$A$10:$AF$281,MATCH($B$1&ROW($A62),TABPREBB!$AH$10:$AH$281,0),COLUMN()),\"\")","v":""},{"$f":"IFERROR(INDEX(TABPREBB!$A$10:$AF$281,MATCH($B$1&ROW($A62),TABPREBB!$AH$10:$AH$281,0),COLUMN()),\"\")","v":""}]
[{"$f":"IFERROR(INDEX(TABPREBB!$A$10:$AF$281,MATCH($B$1&ROW($A63),TABPREBB!$AH$10:$AH$281,0),COLUMN()),\"\")","v":""},{"$f":"IFERROR(INDEX(TABPREBB!$A$10:$AF$281,MATCH($B$1&ROW($A63),TABPREBB!$AH$10:$AH$281,0),COLUMN()),\"\")","v":""},{"$f":"IFERROR(INDEX(TABPREBB!$A$10:$AF$281,MATCH($B$1&ROW($A63),TABPREBB!$AH$10:$AH$281,0),COLUMN()),\"\")","v":""},{"$f":"IFERROR(INDEX(TABPREBB!$A$10:$AF$281,MATCH($B$1&ROW($A63),TABPREBB!$AH$10:$AH$281,0),COLUMN()),\"\")","v":""},{"$f":"IFERROR(INDEX(TABPREBB!$A$10:$AF$281,MATCH($B$1&ROW($A63),TABPREBB!$AH$10:$AH$281,0),COLUMN()),\"\")","v":""},{"$f":"IFERROR(INDEX(TABPREBB!$A$10:$AF$281,MATCH($B$1&ROW($A63),TABPREBB!$AH$10:$AH$281,0),COLUMN()),\"\")","v":""},{"$f":"IFERROR(INDEX(TABPREBB!$A$10:$AF$281,MATCH($B$1&ROW($A63),TABPREBB!$AH$10:$AH$281,0),COLUMN()),\"\")","v":""},{"$f":"IFERROR(INDEX(TABPREBB!$A$10:$AF$281,MATCH($B$1&ROW($A63),TABPREBB!$AH$10:$AH$281,0),COLUMN()),\"\")","v":""},{"$f":"IFERROR(INDEX(TABPREBB!$A$10:$AF$281,MATCH($B$1&ROW($A63),TABPREBB!$AH$10:$AH$281,0),COLUMN()),\"\")","v":""},{"$f":"IFERROR(INDEX(TABPREBB!$A$10:$AF$281,MATCH($B$1&ROW($A63),TABPREBB!$AH$10:$AH$281,0),COLUMN()),\"\")","v":""},{"$f":"IFERROR(INDEX(TABPREBB!$A$10:$AF$281,MATCH($B$1&ROW($A63),TABPREBB!$AH$10:$AH$281,0),COLUMN()),\"\")","v":""},{"$f":"IFERROR(INDEX(TABPREBB!$A$10:$AF$281,MATCH($B$1&ROW($A63),TABPREBB!$AH$10:$AH$281,0),COLUMN()),\"\")","v":""},{"$f":"IFERROR(INDEX(TABPREBB!$A$10:$AF$281,MATCH($B$1&ROW($A63),TABPREBB!$AH$10:$AH$281,0),COLUMN()),\"\")","v":""},{"$f":"IFERROR(INDEX(TABPREBB!$A$10:$AF$281,MATCH($B$1&ROW($A63),TABPREBB!$AH$10:$AH$281,0),COLUMN()),\"\")","v":""},{"$f":"IFERROR(INDEX(TABPREBB!$A$10:$AF$281,MATCH($B$1&ROW($A63),TABPREBB!$AH$10:$AH$281,0),COLUMN()),\"\")","v":""},{"$f":"IFERROR(INDEX(TABPREBB!$A$10:$AF$281,MATCH($B$1&ROW($A63),TABPREBB!$AH$10:$AH$281,0),COLUMN()),\"\")","v":""},{"$f":"IFERROR(INDEX(TABPREBB!$A$10:$AF$281,MATCH($B$1&ROW($A63),TABPREBB!$AH$10:$AH$281,0),COLUMN()),\"\")","v":""},{"$f":"IFERROR(INDEX(TABPREBB!$A$10:$AF$281,MATCH($B$1&ROW($A63),TABPREBB!$AH$10:$AH$281,0),COLUMN()),\"\")","v":""},{"$f":"IFERROR(INDEX(TABPREBB!$A$10:$AF$281,MATCH($B$1&ROW($A63),TABPREBB!$AH$10:$AH$281,0),COLUMN()),\"\")","v":""},{"$f":"IFERROR(INDEX(TABPREBB!$A$10:$AF$281,MATCH($B$1&ROW($A63),TABPREBB!$AH$10:$AH$281,0),COLUMN()),\"\")","v":""},{"$f":"IFERROR(INDEX(TABPREBB!$A$10:$AF$281,MATCH($B$1&ROW($A63),TABPREBB!$AH$10:$AH$281,0),COLUMN()),\"\")","v":""},{"$f":"IFERROR(INDEX(TABPREBB!$A$10:$AF$281,MATCH($B$1&ROW($A63),TABPREBB!$AH$10:$AH$281,0),COLUMN()),\"\")","v":""},{"$f":"IFERROR(INDEX(TABPREBB!$A$10:$AF$281,MATCH($B$1&ROW($A63),TABPREBB!$AH$10:$AH$281,0),COLUMN()),\"\")","v":""},{"$f":"IFERROR(INDEX(TABPREBB!$A$10:$AF$281,MATCH($B$1&ROW($A63),TABPREBB!$AH$10:$AH$281,0),COLUMN()),\"\")","v":""},{"$f":"IFERROR(INDEX(TABPREBB!$A$10:$AF$281,MATCH($B$1&ROW($A63),TABPREBB!$AH$10:$AH$281,0),COLUMN()),\"\")","v":""},{"$f":"IFERROR(INDEX(TABPREBB!$A$10:$AF$281,MATCH($B$1&ROW($A63),TABPREBB!$AH$10:$AH$281,0),COLUMN()),\"\")","v":""},{"$f":"IFERROR(INDEX(TABPREBB!$A$10:$AF$281,MATCH($B$1&ROW($A63),TABPREBB!$AH$10:$AH$281,0),COLUMN()),\"\")","v":""},{"$f":"IFERROR(INDEX(TABPREBB!$A$10:$AF$281,MATCH($B$1&ROW($A63),TABPREBB!$AH$10:$AH$281,0),COLUMN()),\"\")","v":""},{"$f":"IFERROR(INDEX(TABPREBB!$A$10:$AF$281,MATCH($B$1&ROW($A63),TABPREBB!$AH$10:$AH$281,0),COLUMN()),\"\")","v":""},{"$f":"IFERROR(INDEX(TABPREBB!$A$10:$AF$281,MATCH($B$1&ROW($A63),TABPREBB!$AH$10:$AH$281,0),COLUMN()),\"\")","v":""},{"$f":"IFERROR(INDEX(TABPREBB!$A$10:$AF$281,MATCH($B$1&ROW($A63),TABPREBB!$AH$10:$AH$281,0),COLUMN()),\"\")","v":""},{"$f":"IFERROR(INDEX(TABPREBB!$A$10:$AF$281,MATCH($B$1&ROW($A63),TABPREBB!$AH$10:$AH$281,0),COLUMN()),\"\")","v":""}]
[{"$f":"IFERROR(INDEX(TABPREBB!$A$10:$AF$281,MATCH($B$1&ROW($A64),TABPREBB!$AH$10:$AH$281,0),COLUMN()),\"\")","v":""},{"$f":"IFERROR(INDEX(TABPREBB!$A$10:$AF$281,MATCH($B$1&ROW($A64),TABPREBB!$AH$10:$AH$281,0),COLUMN()),\"\")","v":""},{"$f":"IFERROR(INDEX(TABPREBB!$A$10:$AF$281,MATCH($B$1&ROW($A64),TABPREBB!$AH$10:$AH$281,0),COLUMN()),\"\")","v":""},{"$f":"IFERROR(INDEX(TABPREBB!$A$10:$AF$281,MATCH($B$1&ROW($A64),TABPREBB!$AH$10:$AH$281,0),COLUMN()),\"\")","v":""},{"$f":"IFERROR(INDEX(TABPREBB!$A$10:$AF$281,MATCH($B$1&ROW($A64),TABPREBB!$AH$10:$AH$281,0),COLUMN()),\"\")","v":""},{"$f":"IFERROR(INDEX(TABPREBB!$A$10:$AF$281,MATCH($B$1&ROW($A64),TABPREBB!$AH$10:$AH$281,0),COLUMN()),\"\")","v":""},{"$f":"IFERROR(INDEX(TABPREBB!$A$10:$AF$281,MATCH($B$1&ROW($A64),TABPREBB!$AH$10:$AH$281,0),COLUMN()),\"\")","v":""},{"$f":"IFERROR(INDEX(TABPREBB!$A$10:$AF$281,MATCH($B$1&ROW($A64),TABPREBB!$AH$10:$AH$281,0),COLUMN()),\"\")","v":""},{"$f":"IFERROR(INDEX(TABPREBB!$A$10:$AF$281,MATCH($B$1&ROW($A64),TABPREBB!$AH$10:$AH$281,0),COLUMN()),\"\")","v":""},{"$f":"IFERROR(INDEX(TABPREBB!$A$10:$AF$281,MATCH($B$1&ROW($A64),TABPREBB!$AH$10:$AH$281,0),COLUMN()),\"\")","v":""},{"$f":"IFERROR(INDEX(TABPREBB!$A$10:$AF$281,MATCH($B$1&ROW($A64),TABPREBB!$AH$10:$AH$281,0),COLUMN()),\"\")","v":""},{"$f":"IFERROR(INDEX(TABPREBB!$A$10:$AF$281,MATCH($B$1&ROW($A64),TABPREBB!$AH$10:$AH$281,0),COLUMN()),\"\")","v":""},{"$f":"IFERROR(INDEX(TABPREBB!$A$10:$AF$281,MATCH($B$1&ROW($A64),TABPREBB!$AH$10:$AH$281,0),COLUMN()),\"\")","v":""},{"$f":"IFERROR(INDEX(TABPREBB!$A$10:$AF$281,MATCH($B$1&ROW($A64),TABPREBB!$AH$10:$AH$281,0),COLUMN()),\"\")","v":""},{"$f":"IFERROR(INDEX(TABPREBB!$A$10:$AF$281,MATCH($B$1&ROW($A64),TABPREBB!$AH$10:$AH$281,0),COLUMN()),\"\")","v":""},{"$f":"IFERROR(INDEX(TABPREBB!$A$10:$AF$281,MATCH($B$1&ROW($A64),TABPREBB!$AH$10:$AH$281,0),COLUMN()),\"\")","v":""},{"$f":"IFERROR(INDEX(TABPREBB!$A$10:$AF$281,MATCH($B$1&ROW($A64),TABPREBB!$AH$10:$AH$281,0),COLUMN()),\"\")","v":""},{"$f":"IFERROR(INDEX(TABPREBB!$A$10:$AF$281,MATCH($B$1&ROW($A64),TABPREBB!$AH$10:$AH$281,0),COLUMN()),\"\")","v":""},{"$f":"IFERROR(INDEX(TABPREBB!$A$10:$AF$281,MATCH($B$1&ROW($A64),TABPREBB!$AH$10:$AH$281,0),COLUMN()),\"\")","v":""},{"$f":"IFERROR(INDEX(TABPREBB!$A$10:$AF$281,MATCH($B$1&ROW($A64),TABPREBB!$AH$10:$AH$281,0),COLUMN()),\"\")","v":""},{"$f":"IFERROR(INDEX(TABPREBB!$A$10:$AF$281,MATCH($B$1&ROW($A64),TABPREBB!$AH$10:$AH$281,0),COLUMN()),\"\")","v":""},{"$f":"IFERROR(INDEX(TABPREBB!$A$10:$AF$281,MATCH($B$1&ROW($A64),TABPREBB!$AH$10:$AH$281,0),COLUMN()),\"\")","v":""},{"$f":"IFERROR(INDEX(TABPREBB!$A$10:$AF$281,MATCH($B$1&ROW($A64),TABPREBB!$AH$10:$AH$281,0),COLUMN()),\"\")","v":""},{"$f":"IFERROR(INDEX(TABPREBB!$A$10:$AF$281,MATCH($B$1&ROW($A64),TABPREBB!$AH$10:$AH$281,0),COLUMN()),\"\")","v":""},{"$f":"IFERROR(INDEX(TABPREBB!$A$10:$AF$281,MATCH($B$1&ROW($A64),TABPREBB!$AH$10:$AH$281,0),COLUMN()),\"\")","v":""},{"$f":"IFERROR(INDEX(TABPREBB!$A$10:$AF$281,MATCH($B$1&ROW($A64),TABPREBB!$AH$10:$AH$281,0),COLUMN()),\"\")","v":""},{"$f":"IFERROR(INDEX(TABPREBB!$A$10:$AF$281,MATCH($B$1&ROW($A64),TABPREBB!$AH$10:$AH$281,0),COLUMN()),\"\")","v":""},{"$f":"IFERROR(INDEX(TABPREBB!$A$10:$AF$281,MATCH($B$1&ROW($A64),TABPREBB!$AH$10:$AH$281,0),COLUMN()),\"\")","v":""},{"$f":"IFERROR(INDEX(TABPREBB!$A$10:$AF$281,MATCH($B$1&ROW($A64),TABPREBB!$AH$10:$AH$281,0),COLUMN()),\"\")","v":""},{"$f":"IFERROR(INDEX(TABPREBB!$A$10:$AF$281,MATCH($B$1&ROW($A64),TABPREBB!$AH$10:$AH$281,0),COLUMN()),\"\")","v":""},{"$f":"IFERROR(INDEX(TABPREBB!$A$10:$AF$281,MATCH($B$1&ROW($A64),TABPREBB!$AH$10:$AH$281,0),COLUMN()),\"\")","v":""},{"$f":"IFERROR(INDEX(TABPREBB!$A$10:$AF$281,MATCH($B$1&ROW($A64),TABPREBB!$AH$10:$AH$281,0),COLUMN()),\"\")","v":""}]
[{"$f":"IFERROR(INDEX(TABPREBB!$A$10:$AF$281,MATCH($B$1&ROW($A65),TABPREBB!$AH$10:$AH$281,0),COLUMN()),\"\")","v":""},{"$f":"IFERROR(INDEX(TABPREBB!$A$10:$AF$281,MATCH($B$1&ROW($A65),TABPREBB!$AH$10:$AH$281,0),COLUMN()),\"\")","v":""},{"$f":"IFERROR(INDEX(TABPREBB!$A$10:$AF$281,MATCH($B$1&ROW($A65),TABPREBB!$AH$10:$AH$281,0),COLUMN()),\"\")","v":""},{"$f":"IFERROR(INDEX(TABPREBB!$A$10:$AF$281,MATCH($B$1&ROW($A65),TABPREBB!$AH$10:$AH$281,0),COLUMN()),\"\")","v":""},{"$f":"IFERROR(INDEX(TABPREBB!$A$10:$AF$281,MATCH($B$1&ROW($A65),TABPREBB!$AH$10:$AH$281,0),COLUMN()),\"\")","v":""},{"$f":"IFERROR(INDEX(TABPREBB!$A$10:$AF$281,MATCH($B$1&ROW($A65),TABPREBB!$AH$10:$AH$281,0),COLUMN()),\"\")","v":""},{"$f":"IFERROR(INDEX(TABPREBB!$A$10:$AF$281,MATCH($B$1&ROW($A65),TABPREBB!$AH$10:$AH$281,0),COLUMN()),\"\")","v":""},{"$f":"IFERROR(INDEX(TABPREBB!$A$10:$AF$281,MATCH($B$1&ROW($A65),TABPREBB!$AH$10:$AH$281,0),COLUMN()),\"\")","v":""},{"$f":"IFERROR(INDEX(TABPREBB!$A$10:$AF$281,MATCH($B$1&ROW($A65),TABPREBB!$AH$10:$AH$281,0),COLUMN()),\"\")","v":""},{"$f":"IFERROR(INDEX(TABPREBB!$A$10:$AF$281,MATCH($B$1&ROW($A65),TABPREBB!$AH$10:$AH$281,0),COLUMN()),\"\")","v":""},{"$f":"IFERROR(INDEX(TABPREBB!$A$10:$AF$281,MATCH($B$1&ROW($A65),TABPREBB!$AH$10:$AH$281,0),COLUMN()),\"\")","v":""},{"$f":"IFERROR(INDEX(TABPREBB!$A$10:$AF$281,MATCH($B$1&ROW($A65),TABPREBB!$AH$10:$AH$281,0),COLUMN()),\"\")","v":""},{"$f":"IFERROR(INDEX(TABPREBB!$A$10:$AF$281,MATCH($B$1&ROW($A65),TABPREBB!$AH$10:$AH$281,0),COLUMN()),\"\")","v":""},{"$f":"IFERROR(INDEX(TABPREBB!$A$10:$AF$281,MATCH($B$1&ROW($A65),TABPREBB!$AH$10:$AH$281,0),COLUMN()),\"\")","v":""},{"$f":"IFERROR(INDEX(TABPREBB!$A$10:$AF$281,MATCH($B$1&ROW($A65),TABPREBB!$AH$10:$AH$281,0),COLUMN()),\"\")","v":""},{"$f":"IFERROR(INDEX(TABPREBB!$A$10:$AF$281,MATCH($B$1&ROW($A65),TABPREBB!$AH$10:$AH$281,0),COLUMN()),\"\")","v":""},{"$f":"IFERROR(INDEX(TABPREBB!$A$10:$AF$281,MATCH($B$1&ROW($A65),TABPREBB!$AH$10:$AH$281,0),COLUMN()),\"\")","v":""},{"$f":"IFERROR(INDEX(TABPREBB!$A$10:$AF$281,MATCH($B$1&ROW($A65),TABPREBB!$AH$10:$AH$281,0),COLUMN()),\"\")","v":""},{"$f":"IFERROR(INDEX(TABPREBB!$A$10:$AF$281,MATCH($B$1&ROW($A65),TABPREBB!$AH$10:$AH$281,0),COLUMN()),\"\")","v":""},{"$f":"IFERROR(INDEX(TABPREBB!$A$10:$AF$281,MATCH($B$1&ROW($A65),TABPREBB!$AH$10:$AH$281,0),COLUMN()),\"\")","v":""},{"$f":"IFERROR(INDEX(TABPREBB!$A$10:$AF$281,MATCH($B$1&ROW($A65),TABPREBB!$AH$10:$AH$281,0),COLUMN()),\"\")","v":""},{"$f":"IFERROR(INDEX(TABPREBB!$A$10:$AF$281,MATCH($B$1&ROW($A65),TABPREBB!$AH$10:$AH$281,0),COLUMN()),\"\")","v":""},{"$f":"IFERROR(INDEX(TABPREBB!$A$10:$AF$281,MATCH($B$1&ROW($A65),TABPREBB!$AH$10:$AH$281,0),COLUMN()),\"\")","v":""},{"$f":"IFERROR(INDEX(TABPREBB!$A$10:$AF$281,MATCH($B$1&ROW($A65),TABPREBB!$AH$10:$AH$281,0),COLUMN()),\"\")","v":""},{"$f":"IFERROR(INDEX(TABPREBB!$A$10:$AF$281,MATCH($B$1&ROW($A65),TABPREBB!$AH$10:$AH$281,0),COLUMN()),\"\")","v":""},{"$f":"IFERROR(INDEX(TABPREBB!$A$10:$AF$281,MATCH($B$1&ROW($A65),TABPREBB!$AH$10:$AH$281,0),COLUMN()),\"\")","v":""},{"$f":"IFERROR(INDEX(TABPREBB!$A$10:$AF$281,MATCH($B$1&ROW($A65),TABPREBB!$AH$10:$AH$281,0),COLUMN()),\"\")","v":""},{"$f":"IFERROR(INDEX(TABPREBB!$A$10:$AF$281,MATCH($B$1&ROW($A65),TABPREBB!$AH$10:$AH$281,0),COLUMN()),\"\")","v":""},{"$f":"IFERROR(INDEX(TABPREBB!$A$10:$AF$281,MATCH($B$1&ROW($A65),TABPREBB!$AH$10:$AH$281,0),COLUMN()),\"\")","v":""},{"$f":"IFERROR(INDEX(TABPREBB!$A$10:$AF$281,MATCH($B$1&ROW($A65),TABPREBB!$AH$10:$AH$281,0),COLUMN()),\"\")","v":""},{"$f":"IFERROR(INDEX(TABPREBB!$A$10:$AF$281,MATCH($B$1&ROW($A65),TABPREBB!$AH$10:$AH$281,0),COLUMN()),\"\")","v":""},{"$f":"IFERROR(INDEX(TABPREBB!$A$10:$AF$281,MATCH($B$1&ROW($A65),TABPREBB!$AH$10:$AH$281,0),COLUMN()),\"\")","v":""}]
[{"$f":"IFERROR(INDEX(TABPREBB!$A$10:$AF$281,MATCH($B$1&ROW($A66),TABPREBB!$AH$10:$AH$281,0),COLUMN()),\"\")","v":""},{"$f":"IFERROR(INDEX(TABPREBB!$A$10:$AF$281,MATCH($B$1&ROW($A66),TABPREBB!$AH$10:$AH$281,0),COLUMN()),\"\")","v":""},{"$f":"IFERROR(INDEX(TABPREBB!$A$10:$AF$281,MATCH($B$1&ROW($A66),TABPREBB!$AH$10:$AH$281,0),COLUMN()),\"\")","v":""},{"$f":"IFERROR(INDEX(TABPREBB!$A$10:$AF$281,MATCH($B$1&ROW($A66),TABPREBB!$AH$10:$AH$281,0),COLUMN()),\"\")","v":""},{"$f":"IFERROR(INDEX(TABPREBB!$A$10:$AF$281,MATCH($B$1&ROW($A66),TABPREBB!$AH$10:$AH$281,0),COLUMN()),\"\")","v":""},{"$f":"IFERROR(INDEX(TABPREBB!$A$10:$AF$281,MATCH($B$1&ROW($A66),TABPREBB!$AH$10:$AH$281,0),COLUMN()),\"\")","v":""},{"$f":"IFERROR(INDEX(TABPREBB!$A$10:$AF$281,MATCH($B$1&ROW($A66),TABPREBB!$AH$10:$AH$281,0),COLUMN()),\"\")","v":""},{"$f":"IFERROR(INDEX(TABPREBB!$A$10:$AF$281,MATCH($B$1&ROW($A66),TABPREBB!$AH$10:$AH$281,0),COLUMN()),\"\")","v":""},{"$f":"IFERROR(INDEX(TABPREBB!$A$10:$AF$281,MATCH($B$1&ROW($A66),TABPREBB!$AH$10:$AH$281,0),COLUMN()),\"\")","v":""},{"$f":"IFERROR(INDEX(TABPREBB!$A$10:$AF$281,MATCH($B$1&ROW($A66),TABPREBB!$AH$10:$AH$281,0),COLUMN()),\"\")","v":""},{"$f":"IFERROR(INDEX(TABPREBB!$A$10:$AF$281,MATCH($B$1&ROW($A66),TABPREBB!$AH$10:$AH$281,0),COLUMN()),\"\")","v":""},{"$f":"IFERROR(INDEX(TABPREBB!$A$10:$AF$281,MATCH($B$1&ROW($A66),TABPREBB!$AH$10:$AH$281,0),COLUMN()),\"\")","v":""},{"$f":"IFERROR(INDEX(TABPREBB!$A$10:$AF$281,MATCH($B$1&ROW($A66),TABPREBB!$AH$10:$AH$281,0),COLUMN()),\"\")","v":""},{"$f":"IFERROR(INDEX(TABPREBB!$A$10:$AF$281,MATCH($B$1&ROW($A66),TABPREBB!$AH$10:$AH$281,0),COLUMN()),\"\")","v":""},{"$f":"IFERROR(INDEX(TABPREBB!$A$10:$AF$281,MATCH($B$1&ROW($A66),TABPREBB!$AH$10:$AH$281,0),COLUMN()),\"\")","v":""},{"$f":"IFERROR(INDEX(TABPREBB!$A$10:$AF$281,MATCH($B$1&ROW($A66),TABPREBB!$AH$10:$AH$281,0),COLUMN()),\"\")","v":""},{"$f":"IFERROR(INDEX(TABPREBB!$A$10:$AF$281,MATCH($B$1&ROW($A66),TABPREBB!$AH$10:$AH$281,0),COLUMN()),\"\")","v":""},{"$f":"IFERROR(INDEX(TABPREBB!$A$10:$AF$281,MATCH($B$1&ROW($A66),TABPREBB!$AH$10:$AH$281,0),COLUMN()),\"\")","v":""},{"$f":"IFERROR(INDEX(TABPREBB!$A$10:$AF$281,MATCH($B$1&ROW($A66),TABPREBB!$AH$10:$AH$281,0),COLUMN()),\"\")","v":""},{"$f":"IFERROR(INDEX(TABPREBB!$A$10:$AF$281,MATCH($B$1&ROW($A66),TABPREBB!$AH$10:$AH$281,0),COLUMN()),\"\")","v":""},{"$f":"IFERROR(INDEX(TABPREBB!$A$10:$AF$281,MATCH($B$1&ROW($A66),TABPREBB!$AH$10:$AH$281,0),COLUMN()),\"\")","v":""},{"$f":"IFERROR(INDEX(TABPREBB!$A$10:$AF$281,MATCH($B$1&ROW($A66),TABPREBB!$AH$10:$AH$281,0),COLUMN()),\"\")","v":""},{"$f":"IFERROR(INDEX(TABPREBB!$A$10:$AF$281,MATCH($B$1&ROW($A66),TABPREBB!$AH$10:$AH$281,0),COLUMN()),\"\")","v":""},{"$f":"IFERROR(INDEX(TABPREBB!$A$10:$AF$281,MATCH($B$1&ROW($A66),TABPREBB!$AH$10:$AH$281,0),COLUMN()),\"\")","v":""},{"$f":"IFERROR(INDEX(TABPREBB!$A$10:$AF$281,MATCH($B$1&ROW($A66),TABPREBB!$AH$10:$AH$281,0),COLUMN()),\"\")","v":""},{"$f":"IFERROR(INDEX(TABPREBB!$A$10:$AF$281,MATCH($B$1&ROW($A66),TABPREBB!$AH$10:$AH$281,0),COLUMN()),\"\")","v":""},{"$f":"IFERROR(INDEX(TABPREBB!$A$10:$AF$281,MATCH($B$1&ROW($A66),TABPREBB!$AH$10:$AH$281,0),COLUMN()),\"\")","v":""},{"$f":"IFERROR(INDEX(TABPREBB!$A$10:$AF$281,MATCH($B$1&ROW($A66),TABPREBB!$AH$10:$AH$281,0),COLUMN()),\"\")","v":""},{"$f":"IFERROR(INDEX(TABPREBB!$A$10:$AF$281,MATCH($B$1&ROW($A66),TABPREBB!$AH$10:$AH$281,0),COLUMN()),\"\")","v":""},{"$f":"IFERROR(INDEX(TABPREBB!$A$10:$AF$281,MATCH($B$1&ROW($A66),TABPREBB!$AH$10:$AH$281,0),COLUMN()),\"\")","v":""},{"$f":"IFERROR(INDEX(TABPREBB!$A$10:$AF$281,MATCH($B$1&ROW($A66),TABPREBB!$AH$10:$AH$281,0),COLUMN()),\"\")","v":""},{"$f":"IFERROR(INDEX(TABPREBB!$A$10:$AF$281,MATCH($B$1&ROW($A66),TABPREBB!$AH$10:$AH$281,0),COLUMN()),\"\")","v":""}]
[{"$f":"IFERROR(INDEX(TABPREBB!$A$10:$AF$281,MATCH($B$1&ROW($A67),TABPREBB!$AH$10:$AH$281,0),COLUMN()),\"\")","v":""},{"$f":"IFERROR(INDEX(TABPREBB!$A$10:$AF$281,MATCH($B$1&ROW($A67),TABPREBB!$AH$10:$AH$281,0),COLUMN()),\"\")","v":""},{"$f":"IFERROR(INDEX(TABPREBB!$A$10:$AF$281,MATCH($B$1&ROW($A67),TABPREBB!$AH$10:$AH$281,0),COLUMN()),\"\")","v":""},{"$f":"IFERROR(INDEX(TABPREBB!$A$10:$AF$281,MATCH($B$1&ROW($A67),TABPREBB!$AH$10:$AH$281,0),COLUMN()),\"\")","v":""},{"$f":"IFERROR(INDEX(TABPREBB!$A$10:$AF$281,MATCH($B$1&ROW($A67),TABPREBB!$AH$10:$AH$281,0),COLUMN()),\"\")","v":""},{"$f":"IFERROR(INDEX(TABPREBB!$A$10:$AF$281,MATCH($B$1&ROW($A67),TABPREBB!$AH$10:$AH$281,0),COLUMN()),\"\")","v":""},{"$f":"IFERROR(INDEX(TABPREBB!$A$10:$AF$281,MATCH($B$1&ROW($A67),TABPREBB!$AH$10:$AH$281,0),COLUMN()),\"\")","v":""},{"$f":"IFERROR(INDEX(TABPREBB!$A$10:$AF$281,MATCH($B$1&ROW($A67),TABPREBB!$AH$10:$AH$281,0),COLUMN()),\"\")","v":""},{"$f":"IFERROR(INDEX(TABPREBB!$A$10:$AF$281,MATCH($B$1&ROW($A67),TABPREBB!$AH$10:$AH$281,0),COLUMN()),\"\")","v":""},{"$f":"IFERROR(INDEX(TABPREBB!$A$10:$AF$281,MATCH($B$1&ROW($A67),TABPREBB!$AH$10:$AH$281,0),COLUMN()),\"\")","v":""},{"$f":"IFERROR(INDEX(TABPREBB!$A$10:$AF$281,MATCH($B$1&ROW($A67),TABPREBB!$AH$10:$AH$281,0),COLUMN()),\"\")","v":""},{"$f":"IFERROR(INDEX(TABPREBB!$A$10:$AF$281,MATCH($B$1&ROW($A67),TABPREBB!$AH$10:$AH$281,0),COLUMN()),\"\")","v":""},{"$f":"IFERROR(INDEX(TABPREBB!$A$10:$AF$281,MATCH($B$1&ROW($A67),TABPREBB!$AH$10:$AH$281,0),COLUMN()),\"\")","v":""},{"$f":"IFERROR(INDEX(TABPREBB!$A$10:$AF$281,MATCH($B$1&ROW($A67),TABPREBB!$AH$10:$AH$281,0),COLUMN()),\"\")","v":""},{"$f":"IFERROR(INDEX(TABPREBB!$A$10:$AF$281,MATCH($B$1&ROW($A67),TABPREBB!$AH$10:$AH$281,0),COLUMN()),\"\")","v":""},{"$f":"IFERROR(INDEX(TABPREBB!$A$10:$AF$281,MATCH($B$1&ROW($A67),TABPREBB!$AH$10:$AH$281,0),COLUMN()),\"\")","v":""},{"$f":"IFERROR(INDEX(TABPREBB!$A$10:$AF$281,MATCH($B$1&ROW($A67),TABPREBB!$AH$10:$AH$281,0),COLUMN()),\"\")","v":""},{"$f":"IFERROR(INDEX(TABPREBB!$A$10:$AF$281,MATCH($B$1&ROW($A67),TABPREBB!$AH$10:$AH$281,0),COLUMN()),\"\")","v":""},{"$f":"IFERROR(INDEX(TABPREBB!$A$10:$AF$281,MATCH($B$1&ROW($A67),TABPREBB!$AH$10:$AH$281,0),COLUMN()),\"\")","v":""},{"$f":"IFERROR(INDEX(TABPREBB!$A$10:$AF$281,MATCH($B$1&ROW($A67),TABPREBB!$AH$10:$AH$281,0),COLUMN()),\"\")","v":""},{"$f":"IFERROR(INDEX(TABPREBB!$A$10:$AF$281,MATCH($B$1&ROW($A67),TABPREBB!$AH$10:$AH$281,0),COLUMN()),\"\")","v":""},{"$f":"IFERROR(INDEX(TABPREBB!$A$10:$AF$281,MATCH($B$1&ROW($A67),TABPREBB!$AH$10:$AH$281,0),COLUMN()),\"\")","v":""},{"$f":"IFERROR(INDEX(TABPREBB!$A$10:$AF$281,MATCH($B$1&ROW($A67),TABPREBB!$AH$10:$AH$281,0),COLUMN()),\"\")","v":""},{"$f":"IFERROR(INDEX(TABPREBB!$A$10:$AF$281,MATCH($B$1&ROW($A67),TABPREBB!$AH$10:$AH$281,0),COLUMN()),\"\")","v":""},{"$f":"IFERROR(INDEX(TABPREBB!$A$10:$AF$281,MATCH($B$1&ROW($A67),TABPREBB!$AH$10:$AH$281,0),COLUMN()),\"\")","v":""},{"$f":"IFERROR(INDEX(TABPREBB!$A$10:$AF$281,MATCH($B$1&ROW($A67),TABPREBB!$AH$10:$AH$281,0),COLUMN()),\"\")","v":""},{"$f":"IFERROR(INDEX(TABPREBB!$A$10:$AF$281,MATCH($B$1&ROW($A67),TABPREBB!$AH$10:$AH$281,0),COLUMN()),\"\")","v":""},{"$f":"IFERROR(INDEX(TABPREBB!$A$10:$AF$281,MATCH($B$1&ROW($A67),TABPREBB!$AH$10:$AH$281,0),COLUMN()),\"\")","v":""},{"$f":"IFERROR(INDEX(TABPREBB!$A$10:$AF$281,MATCH($B$1&ROW($A67),TABPREBB!$AH$10:$AH$281,0),COLUMN()),\"\")","v":""},{"$f":"IFERROR(INDEX(TABPREBB!$A$10:$AF$281,MATCH($B$1&ROW($A67),TABPREBB!$AH$10:$AH$281,0),COLUMN()),\"\")","v":""},{"$f":"IFERROR(INDEX(TABPREBB!$A$10:$AF$281,MATCH($B$1&ROW($A67),TABPREBB!$AH$10:$AH$281,0),COLUMN()),\"\")","v":""},{"$f":"IFERROR(INDEX(TABPREBB!$A$10:$AF$281,MATCH($B$1&ROW($A67),TABPREBB!$AH$10:$AH$281,0),COLUMN()),\"\")","v":""}]
[{"$f":"IFERROR(INDEX(TABPREBB!$A$10:$AF$281,MATCH($B$1&ROW($A68),TABPREBB!$AH$10:$AH$281,0),COLUMN()),\"\")","v":""},{"$f":"IFERROR(INDEX(TABPREBB!$A$10:$AF$281,MATCH($B$1&ROW($A68),TABPREBB!$AH$10:$AH$281,0),COLUMN()),\"\")","v":""},{"$f":"IFERROR(INDEX(TABPREBB!$A$10:$AF$281,MATCH($B$1&ROW($A68),TABPREBB!$AH$10:$AH$281,0),COLUMN()),\"\")","v":""},{"$f":"IFERROR(INDEX(TABPREBB!$A$10:$AF$281,MATCH($B$1&ROW($A68),TABPREBB!$AH$10:$AH$281,0),COLUMN()),\"\")","v":""},{"$f":"IFERROR(INDEX(TABPREBB!$A$10:$AF$281,MATCH($B$1&ROW($A68),TABPREBB!$AH$10:$AH$281,0),COLUMN()),\"\")","v":""},{"$f":"IFERROR(INDEX(TABPREBB!$A$10:$AF$281,MATCH($B$1&ROW($A68),TABPREBB!$AH$10:$AH$281,0),COLUMN()),\"\")","v":""},{"$f":"IFERROR(INDEX(TABPREBB!$A$10:$AF$281,MATCH($B$1&ROW($A68),TABPREBB!$AH$10:$AH$281,0),COLUMN()),\"\")","v":""},{"$f":"IFERROR(INDEX(TABPREBB!$A$10:$AF$281,MATCH($B$1&ROW($A68),TABPREBB!$AH$10:$AH$281,0),COLUMN()),\"\")","v":""},{"$f":"IFERROR(INDEX(TABPREBB!$A$10:$AF$281,MATCH($B$1&ROW($A68),TABPREBB!$AH$10:$AH$281,0),COLUMN()),\"\")","v":""},{"$f":"IFERROR(INDEX(TABPREBB!$A$10:$AF$281,MATCH($B$1&ROW($A68),TABPREBB!$AH$10:$AH$281,0),COLUMN()),\"\")","v":""},{"$f":"IFERROR(INDEX(TABPREBB!$A$10:$AF$281,MATCH($B$1&ROW($A68),TABPREBB!$AH$10:$AH$281,0),COLUMN()),\"\")","v":""},{"$f":"IFERROR(INDEX(TABPREBB!$A$10:$AF$281,MATCH($B$1&ROW($A68),TABPREBB!$AH$10:$AH$281,0),COLUMN()),\"\")","v":""},{"$f":"IFERROR(INDEX(TABPREBB!$A$10:$AF$281,MATCH($B$1&ROW($A68),TABPREBB!$AH$10:$AH$281,0),COLUMN()),\"\")","v":""},{"$f":"IFERROR(INDEX(TABPREBB!$A$10:$AF$281,MATCH($B$1&ROW($A68),TABPREBB!$AH$10:$AH$281,0),COLUMN()),\"\")","v":""},{"$f":"IFERROR(INDEX(TABPREBB!$A$10:$AF$281,MATCH($B$1&ROW($A68),TABPREBB!$AH$10:$AH$281,0),COLUMN()),\"\")","v":""},{"$f":"IFERROR(INDEX(TABPREBB!$A$10:$AF$281,MATCH($B$1&ROW($A68),TABPREBB!$AH$10:$AH$281,0),COLUMN()),\"\")","v":""},{"$f":"IFERROR(INDEX(TABPREBB!$A$10:$AF$281,MATCH($B$1&ROW($A68),TABPREBB!$AH$10:$AH$281,0),COLUMN()),\"\")","v":""},{"$f":"IFERROR(INDEX(TABPREBB!$A$10:$AF$281,MATCH($B$1&ROW($A68),TABPREBB!$AH$10:$AH$281,0),COLUMN()),\"\")","v":""},{"$f":"IFERROR(INDEX(TABPREBB!$A$10:$AF$281,MATCH($B$1&ROW($A68),TABPREBB!$AH$10:$AH$281,0),COLUMN()),\"\")","v":""},{"$f":"IFERROR(INDEX(TABPREBB!$A$10:$AF$281,MATCH($B$1&ROW($A68),TABPREBB!$AH$10:$AH$281,0),COLUMN()),\"\")","v":""},{"$f":"IFERROR(INDEX(TABPREBB!$A$10:$AF$281,MATCH($B$1&ROW($A68),TABPREBB!$AH$10:$AH$281,0),COLUMN()),\"\")","v":""},{"$f":"IFERROR(INDEX(TABPREBB!$A$10:$AF$281,MATCH($B$1&ROW($A68),TABPREBB!$AH$10:$AH$281,0),COLUMN()),\"\")","v":""},{"$f":"IFERROR(INDEX(TABPREBB!$A$10:$AF$281,MATCH($B$1&ROW($A68),TABPREBB!$AH$10:$AH$281,0),COLUMN()),\"\")","v":""},{"$f":"IFERROR(INDEX(TABPREBB!$A$10:$AF$281,MATCH($B$1&ROW($A68),TABPREBB!$AH$10:$AH$281,0),COLUMN()),\"\")","v":""},{"$f":"IFERROR(INDEX(TABPREBB!$A$10:$AF$281,MATCH($B$1&ROW($A68),TABPREBB!$AH$10:$AH$281,0),COLUMN()),\"\")","v":""},{"$f":"IFERROR(INDEX(TABPREBB!$A$10:$AF$281,MATCH($B$1&ROW($A68),TABPREBB!$AH$10:$AH$281,0),COLUMN()),\"\")","v":""},{"$f":"IFERROR(INDEX(TABPREBB!$A$10:$AF$281,MATCH($B$1&ROW($A68),TABPREBB!$AH$10:$AH$281,0),COLUMN()),\"\")","v":""},{"$f":"IFERROR(INDEX(TABPREBB!$A$10:$AF$281,MATCH($B$1&ROW($A68),TABPREBB!$AH$10:$AH$281,0),COLUMN()),\"\")","v":""},{"$f":"IFERROR(INDEX(TABPREBB!$A$10:$AF$281,MATCH($B$1&ROW($A68),TABPREBB!$AH$10:$AH$281,0),COLUMN()),\"\")","v":""},{"$f":"IFERROR(INDEX(TABPREBB!$A$10:$AF$281,MATCH($B$1&ROW($A68),TABPREBB!$AH$10:$AH$281,0),COLUMN()),\"\")","v":""},{"$f":"IFERROR(INDEX(TABPREBB!$A$10:$AF$281,MATCH($B$1&ROW($A68),TABPREBB!$AH$10:$AH$281,0),COLUMN()),\"\")","v":""},{"$f":"IFERROR(INDEX(TABPREBB!$A$10:$AF$281,MATCH($B$1&ROW($A68),TABPREBB!$AH$10:$AH$281,0),COLUMN()),\"\")","v":""}]
[{"$f":"IFERROR(INDEX(TABPREBB!$A$10:$AF$281,MATCH($B$1&ROW($A69),TABPREBB!$AH$10:$AH$281,0),COLUMN()),\"\")","v":""},{"$f":"IFERROR(INDEX(TABPREBB!$A$10:$AF$281,MATCH($B$1&ROW($A69),TABPREBB!$AH$10:$AH$281,0),COLUMN()),\"\")","v":""},{"$f":"IFERROR(INDEX(TABPREBB!$A$10:$AF$281,MATCH($B$1&ROW($A69),TABPREBB!$AH$10:$AH$281,0),COLUMN()),\"\")","v":""},{"$f":"IFERROR(INDEX(TABPREBB!$A$10:$AF$281,MATCH($B$1&ROW($A69),TABPREBB!$AH$10:$AH$281,0),COLUMN()),\"\")","v":""},{"$f":"IFERROR(INDEX(TABPREBB!$A$10:$AF$281,MATCH($B$1&ROW($A69),TABPREBB!$AH$10:$AH$281,0),COLUMN()),\"\")","v":""},{"$f":"IFERROR(INDEX(TABPREBB!$A$10:$AF$281,MATCH($B$1&ROW($A69),TABPREBB!$AH$10:$AH$281,0),COLUMN()),\"\")","v":""},{"$f":"IFERROR(INDEX(TABPREBB!$A$10:$AF$281,MATCH($B$1&ROW($A69),TABPREBB!$AH$10:$AH$281,0),COLUMN()),\"\")","v":""},{"$f":"IFERROR(INDEX(TABPREBB!$A$10:$AF$281,MATCH($B$1&ROW($A69),TABPREBB!$AH$10:$AH$281,0),COLUMN()),\"\")","v":""},{"$f":"IFERROR(INDEX(TABPREBB!$A$10:$AF$281,MATCH($B$1&ROW($A69),TABPREBB!$AH$10:$AH$281,0),COLUMN()),\"\")","v":""},{"$f":"IFERROR(INDEX(TABPREBB!$A$10:$AF$281,MATCH($B$1&ROW($A69),TABPREBB!$AH$10:$AH$281,0),COLUMN()),\"\")","v":""},{"$f":"IFERROR(INDEX(TABPREBB!$A$10:$AF$281,MATCH($B$1&ROW($A69),TABPREBB!$AH$10:$AH$281,0),COLUMN()),\"\")","v":""},{"$f":"IFERROR(INDEX(TABPREBB!$A$10:$AF$281,MATCH($B$1&ROW($A69),TABPREBB!$AH$10:$AH$281,0),COLUMN()),\"\")","v":""},{"$f":"IFERROR(INDEX(TABPREBB!$A$10:$AF$281,MATCH($B$1&ROW($A69),TABPREBB!$AH$10:$AH$281,0),COLUMN()),\"\")","v":""},{"$f":"IFERROR(INDEX(TABPREBB!$A$10:$AF$281,MATCH($B$1&ROW($A69),TABPREBB!$AH$10:$AH$281,0),COLUMN()),\"\")","v":""},{"$f":"IFERROR(INDEX(TABPREBB!$A$10:$AF$281,MATCH($B$1&ROW($A69),TABPREBB!$AH$10:$AH$281,0),COLUMN()),\"\")","v":""},{"$f":"IFERROR(INDEX(TABPREBB!$A$10:$AF$281,MATCH($B$1&ROW($A69),TABPREBB!$AH$10:$AH$281,0),COLUMN()),\"\")","v":""},{"$f":"IFERROR(INDEX(TABPREBB!$A$10:$AF$281,MATCH($B$1&ROW($A69),TABPREBB!$AH$10:$AH$281,0),COLUMN()),\"\")","v":""},{"$f":"IFERROR(INDEX(TABPREBB!$A$10:$AF$281,MATCH($B$1&ROW($A69),TABPREBB!$AH$10:$AH$281,0),COLUMN()),\"\")","v":""},{"$f":"IFERROR(INDEX(TABPREBB!$A$10:$AF$281,MATCH($B$1&ROW($A69),TABPREBB!$AH$10:$AH$281,0),COLUMN()),\"\")","v":""},{"$f":"IFERROR(INDEX(TABPREBB!$A$10:$AF$281,MATCH($B$1&ROW($A69),TABPREBB!$AH$10:$AH$281,0),COLUMN()),\"\")","v":""},{"$f":"IFERROR(INDEX(TABPREBB!$A$10:$AF$281,MATCH($B$1&ROW($A69),TABPREBB!$AH$10:$AH$281,0),COLUMN()),\"\")","v":""},{"$f":"IFERROR(INDEX(TABPREBB!$A$10:$AF$281,MATCH($B$1&ROW($A69),TABPREBB!$AH$10:$AH$281,0),COLUMN()),\"\")","v":""},{"$f":"IFERROR(INDEX(TABPREBB!$A$10:$AF$281,MATCH($B$1&ROW($A69),TABPREBB!$AH$10:$AH$281,0),COLUMN()),\"\")","v":""},{"$f":"IFERROR(INDEX(TABPREBB!$A$10:$AF$281,MATCH($B$1&ROW($A69),TABPREBB!$AH$10:$AH$281,0),COLUMN()),\"\")","v":""},{"$f":"IFERROR(INDEX(TABPREBB!$A$10:$AF$281,MATCH($B$1&ROW($A69),TABPREBB!$AH$10:$AH$281,0),COLUMN()),\"\")","v":""},{"$f":"IFERROR(INDEX(TABPREBB!$A$10:$AF$281,MATCH($B$1&ROW($A69),TABPREBB!$AH$10:$AH$281,0),COLUMN()),\"\")","v":""},{"$f":"IFERROR(INDEX(TABPREBB!$A$10:$AF$281,MATCH($B$1&ROW($A69),TABPREBB!$AH$10:$AH$281,0),COLUMN()),\"\")","v":""},{"$f":"IFERROR(INDEX(TABPREBB!$A$10:$AF$281,MATCH($B$1&ROW($A69),TABPREBB!$AH$10:$AH$281,0),COLUMN()),\"\")","v":""},{"$f":"IFERROR(INDEX(TABPREBB!$A$10:$AF$281,MATCH($B$1&ROW($A69),TABPREBB!$AH$10:$AH$281,0),COLUMN()),\"\")","v":""},{"$f":"IFERROR(INDEX(TABPREBB!$A$10:$AF$281,MATCH($B$1&ROW($A69),TABPREBB!$AH$10:$AH$281,0),COLUMN()),\"\")","v":""},{"$f":"IFERROR(INDEX(TABPREBB!$A$10:$AF$281,MATCH($B$1&ROW($A69),TABPREBB!$AH$10:$AH$281,0),COLUMN()),\"\")","v":""},{"$f":"IFERROR(INDEX(TABPREBB!$A$10:$AF$281,MATCH($B$1&ROW($A69),TABPREBB!$AH$10:$AH$281,0),COLUMN()),\"\")","v":""}]
[{"$f":"IFERROR(INDEX(TABPREBB!$A$10:$AF$281,MATCH($B$1&ROW($A70),TABPREBB!$AH$10:$AH$281,0),COLUMN()),\"\")","v":""},{"$f":"IFERROR(INDEX(TABPREBB!$A$10:$AF$281,MATCH($B$1&ROW($A70),TABPREBB!$AH$10:$AH$281,0),COLUMN()),\"\")","v":""},{"$f":"IFERROR(INDEX(TABPREBB!$A$10:$AF$281,MATCH($B$1&ROW($A70),TABPREBB!$AH$10:$AH$281,0),COLUMN()),\"\")","v":""},{"$f":"IFERROR(INDEX(TABPREBB!$A$10:$AF$281,MATCH($B$1&ROW($A70),TABPREBB!$AH$10:$AH$281,0),COLUMN()),\"\")","v":""},{"$f":"IFERROR(INDEX(TABPREBB!$A$10:$AF$281,MATCH($B$1&ROW($A70),TABPREBB!$AH$10:$AH$281,0),COLUMN()),\"\")","v":""},{"$f":"IFERROR(INDEX(TABPREBB!$A$10:$AF$281,MATCH($B$1&ROW($A70),TABPREBB!$AH$10:$AH$281,0),COLUMN()),\"\")","v":""},{"$f":"IFERROR(INDEX(TABPREBB!$A$10:$AF$281,MATCH($B$1&ROW($A70),TABPREBB!$AH$10:$AH$281,0),COLUMN()),\"\")","v":""},{"$f":"IFERROR(INDEX(TABPREBB!$A$10:$AF$281,MATCH($B$1&ROW($A70),TABPREBB!$AH$10:$AH$281,0),COLUMN()),\"\")","v":""},{"$f":"IFERROR(INDEX(TABPREBB!$A$10:$AF$281,MATCH($B$1&ROW($A70),TABPREBB!$AH$10:$AH$281,0),COLUMN()),\"\")","v":""},{"$f":"IFERROR(INDEX(TABPREBB!$A$10:$AF$281,MATCH($B$1&ROW($A70),TABPREBB!$AH$10:$AH$281,0),COLUMN()),\"\")","v":""},{"$f":"IFERROR(INDEX(TABPREBB!$A$10:$AF$281,MATCH($B$1&ROW($A70),TABPREBB!$AH$10:$AH$281,0),COLUMN()),\"\")","v":""},{"$f":"IFERROR(INDEX(TABPREBB!$A$10:$AF$281,MATCH($B$1&ROW($A70),TABPREBB!$AH$10:$AH$281,0),COLUMN()),\"\")","v":""},{"$f":"IFERROR(INDEX(TABPREBB!$A$10:$AF$281,MATCH($B$1&ROW($A70),TABPREBB!$AH$10:$AH$281,0),COLUMN()),\"\")","v":""},{"$f":"IFERROR(INDEX(TABPREBB!$A$10:$AF$281,MATCH($B$1&ROW($A70),TABPREBB!$AH$10:$AH$281,0),COLUMN()),\"\")","v":""},{"$f":"IFERROR(INDEX(TABPREBB!$A$10:$AF$281,MATCH($B$1&ROW($A70),TABPREBB!$AH$10:$AH$281,0),COLUMN()),\"\")","v":""},{"$f":"IFERROR(INDEX(TABPREBB!$A$10:$AF$281,MATCH($B$1&ROW($A70),TABPREBB!$AH$10:$AH$281,0),COLUMN()),\"\")","v":""},{"$f":"IFERROR(INDEX(TABPREBB!$A$10:$AF$281,MATCH($B$1&ROW($A70),TABPREBB!$AH$10:$AH$281,0),COLUMN()),\"\")","v":""},{"$f":"IFERROR(INDEX(TABPREBB!$A$10:$AF$281,MATCH($B$1&ROW($A70),TABPREBB!$AH$10:$AH$281,0),COLUMN()),\"\")","v":""},{"$f":"IFERROR(INDEX(TABPREBB!$A$10:$AF$281,MATCH($B$1&ROW($A70),TABPREBB!$AH$10:$AH$281,0),COLUMN()),\"\")","v":""},{"$f":"IFERROR(INDEX(TABPREBB!$A$10:$AF$281,MATCH($B$1&ROW($A70),TABPREBB!$AH$10:$AH$281,0),COLUMN()),\"\")","v":""},{"$f":"IFERROR(INDEX(TABPREBB!$A$10:$AF$281,MATCH($B$1&ROW($A70),TABPREBB!$AH$10:$AH$281,0),COLUMN()),\"\")","v":""},{"$f":"IFERROR(INDEX(TABPREBB!$A$10:$AF$281,MATCH($B$1&ROW($A70),TABPREBB!$AH$10:$AH$281,0),COLUMN()),\"\")","v":""},{"$f":"IFERROR(INDEX(TABPREBB!$A$10:$AF$281,MATCH($B$1&ROW($A70),TABPREBB!$AH$10:$AH$281,0),COLUMN()),\"\")","v":""},{"$f":"IFERROR(INDEX(TABPREBB!$A$10:$AF$281,MATCH($B$1&ROW($A70),TABPREBB!$AH$10:$AH$281,0),COLUMN()),\"\")","v":""},{"$f":"IFERROR(INDEX(TABPREBB!$A$10:$AF$281,MATCH($B$1&ROW($A70),TABPREBB!$AH$10:$AH$281,0),COLUMN()),\"\")","v":""},{"$f":"IFERROR(INDEX(TABPREBB!$A$10:$AF$281,MATCH($B$1&ROW($A70),TABPREBB!$AH$10:$AH$281,0),COLUMN()),\"\")","v":""},{"$f":"IFERROR(INDEX(TABPREBB!$A$10:$AF$281,MATCH($B$1&ROW($A70),TABPREBB!$AH$10:$AH$281,0),COLUMN()),\"\")","v":""},{"$f":"IFERROR(INDEX(TABPREBB!$A$10:$AF$281,MATCH($B$1&ROW($A70),TABPREBB!$AH$10:$AH$281,0),COLUMN()),\"\")","v":""},{"$f":"IFERROR(INDEX(TABPREBB!$A$10:$AF$281,MATCH($B$1&ROW($A70),TABPREBB!$AH$10:$AH$281,0),COLUMN()),\"\")","v":""},{"$f":"IFERROR(INDEX(TABPREBB!$A$10:$AF$281,MATCH($B$1&ROW($A70),TABPREBB!$AH$10:$AH$281,0),COLUMN()),\"\")","v":""},{"$f":"IFERROR(INDEX(TABPREBB!$A$10:$AF$281,MATCH($B$1&ROW($A70),TABPREBB!$AH$10:$AH$281,0),COLUMN()),\"\")","v":""},{"$f":"IFERROR(INDEX(TABPREBB!$A$10:$AF$281,MATCH($B$1&ROW($A70),TABPREBB!$AH$10:$AH$281,0),COLUMN()),\"\")","v":""}]
[{"$f":"IFERROR(INDEX(TABPREBB!$A$10:$AF$281,MATCH($B$1&ROW($A71),TABPREBB!$AH$10:$AH$281,0),COLUMN()),\"\")","v":""},{"$f":"IFERROR(INDEX(TABPREBB!$A$10:$AF$281,MATCH($B$1&ROW($A71),TABPREBB!$AH$10:$AH$281,0),COLUMN()),\"\")","v":""},{"$f":"IFERROR(INDEX(TABPREBB!$A$10:$AF$281,MATCH($B$1&ROW($A71),TABPREBB!$AH$10:$AH$281,0),COLUMN()),\"\")","v":""},{"$f":"IFERROR(INDEX(TABPREBB!$A$10:$AF$281,MATCH($B$1&ROW($A71),TABPREBB!$AH$10:$AH$281,0),COLUMN()),\"\")","v":""},{"$f":"IFERROR(INDEX(TABPREBB!$A$10:$AF$281,MATCH($B$1&ROW($A71),TABPREBB!$AH$10:$AH$281,0),COLUMN()),\"\")","v":""},{"$f":"IFERROR(INDEX(TABPREBB!$A$10:$AF$281,MATCH($B$1&ROW($A71),TABPREBB!$AH$10:$AH$281,0),COLUMN()),\"\")","v":""},{"$f":"IFERROR(INDEX(TABPREBB!$A$10:$AF$281,MATCH($B$1&ROW($A71),TABPREBB!$AH$10:$AH$281,0),COLUMN()),\"\")","v":""},{"$f":"IFERROR(INDEX(TABPREBB!$A$10:$AF$281,MATCH($B$1&ROW($A71),TABPREBB!$AH$10:$AH$281,0),COLUMN()),\"\")","v":""},{"$f":"IFERROR(INDEX(TABPREBB!$A$10:$AF$281,MATCH($B$1&ROW($A71),TABPREBB!$AH$10:$AH$281,0),COLUMN()),\"\")","v":""},{"$f":"IFERROR(INDEX(TABPREBB!$A$10:$AF$281,MATCH($B$1&ROW($A71),TABPREBB!$AH$10:$AH$281,0),COLUMN()),\"\")","v":""},{"$f":"IFERROR(INDEX(TABPREBB!$A$10:$AF$281,MATCH($B$1&ROW($A71),TABPREBB!$AH$10:$AH$281,0),COLUMN()),\"\")","v":""},{"$f":"IFERROR(INDEX(TABPREBB!$A$10:$AF$281,MATCH($B$1&ROW($A71),TABPREBB!$AH$10:$AH$281,0),COLUMN()),\"\")","v":""},{"$f":"IFERROR(INDEX(TABPREBB!$A$10:$AF$281,MATCH($B$1&ROW($A71),TABPREBB!$AH$10:$AH$281,0),COLUMN()),\"\")","v":""},{"$f":"IFERROR(INDEX(TABPREBB!$A$10:$AF$281,MATCH($B$1&ROW($A71),TABPREBB!$AH$10:$AH$281,0),COLUMN()),\"\")","v":""},{"$f":"IFERROR(INDEX(TABPREBB!$A$10:$AF$281,MATCH($B$1&ROW($A71),TABPREBB!$AH$10:$AH$281,0),COLUMN()),\"\")","v":""},{"$f":"IFERROR(INDEX(TABPREBB!$A$10:$AF$281,MATCH($B$1&ROW($A71),TABPREBB!$AH$10:$AH$281,0),COLUMN()),\"\")","v":""},{"$f":"IFERROR(INDEX(TABPREBB!$A$10:$AF$281,MATCH($B$1&ROW($A71),TABPREBB!$AH$10:$AH$281,0),COLUMN()),\"\")","v":""},{"$f":"IFERROR(INDEX(TABPREBB!$A$10:$AF$281,MATCH($B$1&ROW($A71),TABPREBB!$AH$10:$AH$281,0),COLUMN()),\"\")","v":""},{"$f":"IFERROR(INDEX(TABPREBB!$A$10:$AF$281,MATCH($B$1&ROW($A71),TABPREBB!$AH$10:$AH$281,0),COLUMN()),\"\")","v":""},{"$f":"IFERROR(INDEX(TABPREBB!$A$10:$AF$281,MATCH($B$1&ROW($A71),TABPREBB!$AH$10:$AH$281,0),COLUMN()),\"\")","v":""},{"$f":"IFERROR(INDEX(TABPREBB!$A$10:$AF$281,MATCH($B$1&ROW($A71),TABPREBB!$AH$10:$AH$281,0),COLUMN()),\"\")","v":""},{"$f":"IFERROR(INDEX(TABPREBB!$A$10:$AF$281,MATCH($B$1&ROW($A71),TABPREBB!$AH$10:$AH$281,0),COLUMN()),\"\")","v":""},{"$f":"IFERROR(INDEX(TABPREBB!$A$10:$AF$281,MATCH($B$1&ROW($A71),TABPREBB!$AH$10:$AH$281,0),COLUMN()),\"\")","v":""},{"$f":"IFERROR(INDEX(TABPREBB!$A$10:$AF$281,MATCH($B$1&ROW($A71),TABPREBB!$AH$10:$AH$281,0),COLUMN()),\"\")","v":""},{"$f":"IFERROR(INDEX(TABPREBB!$A$10:$AF$281,MATCH($B$1&ROW($A71),TABPREBB!$AH$10:$AH$281,0),COLUMN()),\"\")","v":""},{"$f":"IFERROR(INDEX(TABPREBB!$A$10:$AF$281,MATCH($B$1&ROW($A71),TABPREBB!$AH$10:$AH$281,0),COLUMN()),\"\")","v":""},{"$f":"IFERROR(INDEX(TABPREBB!$A$10:$AF$281,MATCH($B$1&ROW($A71),TABPREBB!$AH$10:$AH$281,0),COLUMN()),\"\")","v":""},{"$f":"IFERROR(INDEX(TABPREBB!$A$10:$AF$281,MATCH($B$1&ROW($A71),TABPREBB!$AH$10:$AH$281,0),COLUMN()),\"\")","v":""},{"$f":"IFERROR(INDEX(TABPREBB!$A$10:$AF$281,MATCH($B$1&ROW($A71),TABPREBB!$AH$10:$AH$281,0),COLUMN()),\"\")","v":""},{"$f":"IFERROR(INDEX(TABPREBB!$A$10:$AF$281,MATCH($B$1&ROW($A71),TABPREBB!$AH$10:$AH$281,0),COLUMN()),\"\")","v":""},{"$f":"IFERROR(INDEX(TABPREBB!$A$10:$AF$281,MATCH($B$1&ROW($A71),TABPREBB!$AH$10:$AH$281,0),COLUMN()),\"\")","v":""},{"$f":"IFERROR(INDEX(TABPREBB!$A$10:$AF$281,MATCH($B$1&ROW($A71),TABPREBB!$AH$10:$AH$281,0),COLUMN()),\"\")","v":""}]
[{"$f":"IFERROR(INDEX(TABPREBB!$A$10:$AF$281,MATCH($B$1&ROW($A72),TABPREBB!$AH$10:$AH$281,0),COLUMN()),\"\")","v":""},{"$f":"IFERROR(INDEX(TABPREBB!$A$10:$AF$281,MATCH($B$1&ROW($A72),TABPREBB!$AH$10:$AH$281,0),COLUMN()),\"\")","v":""},{"$f":"IFERROR(INDEX(TABPREBB!$A$10:$AF$281,MATCH($B$1&ROW($A72),TABPREBB!$AH$10:$AH$281,0),COLUMN()),\"\")","v":""},{"$f":"IFERROR(INDEX(TABPREBB!$A$10:$AF$281,MATCH($B$1&ROW($A72),TABPREBB!$AH$10:$AH$281,0),COLUMN()),\"\")","v":""},{"$f":"IFERROR(INDEX(TABPREBB!$A$10:$AF$281,MATCH($B$1&ROW($A72),TABPREBB!$AH$10:$AH$281,0),COLUMN()),\"\")","v":""},{"$f":"IFERROR(INDEX(TABPREBB!$A$10:$AF$281,MATCH($B$1&ROW($A72),TABPREBB!$AH$10:$AH$281,0),COLUMN()),\"\")","v":""},{"$f":"IFERROR(INDEX(TABPREBB!$A$10:$AF$281,MATCH($B$1&ROW($A72),TABPREBB!$AH$10:$AH$281,0),COLUMN()),\"\")","v":""},{"$f":"IFERROR(INDEX(TABPREBB!$A$10:$AF$281,MATCH($B$1&ROW($A72),TABPREBB!$AH$10:$AH$281,0),COLUMN()),\"\")","v":""},{"$f":"IFERROR(INDEX(TABPREBB!$A$10:$AF$281,MATCH($B$1&ROW($A72),TABPREBB!$AH$10:$AH$281,0),COLUMN()),\"\")","v":""},{"$f":"IFERROR(INDEX(TABPREBB!$A$10:$AF$281,MATCH($B$1&ROW($A72),TABPREBB!$AH$10:$AH$281,0),COLUMN()),\"\")","v":""},{"$f":"IFERROR(INDEX(TABPREBB!$A$10:$AF$281,MATCH($B$1&ROW($A72),TABPREBB!$AH$10:$AH$281,0),COLUMN()),\"\")","v":""},{"$f":"IFERROR(INDEX(TABPREBB!$A$10:$AF$281,MATCH($B$1&ROW($A72),TABPREBB!$AH$10:$AH$281,0),COLUMN()),\"\")","v":""},{"$f":"IFERROR(INDEX(TABPREBB!$A$10:$AF$281,MATCH($B$1&ROW($A72),TABPREBB!$AH$10:$AH$281,0),COLUMN()),\"\")","v":""},{"$f":"IFERROR(INDEX(TABPREBB!$A$10:$AF$281,MATCH($B$1&ROW($A72),TABPREBB!$AH$10:$AH$281,0),COLUMN()),\"\")","v":""},{"$f":"IFERROR(INDEX(TABPREBB!$A$10:$AF$281,MATCH($B$1&ROW($A72),TABPREBB!$AH$10:$AH$281,0),COLUMN()),\"\")","v":""},{"$f":"IFERROR(INDEX(TABPREBB!$A$10:$AF$281,MATCH($B$1&ROW($A72),TABPREBB!$AH$10:$AH$281,0),COLUMN()),\"\")","v":""},{"$f":"IFERROR(INDEX(TABPREBB!$A$10:$AF$281,MATCH($B$1&ROW($A72),TABPREBB!$AH$10:$AH$281,0),COLUMN()),\"\")","v":""},{"$f":"IFERROR(INDEX(TABPREBB!$A$10:$AF$281,MATCH($B$1&ROW($A72),TABPREBB!$AH$10:$AH$281,0),COLUMN()),\"\")","v":""},{"$f":"IFERROR(INDEX(TABPREBB!$A$10:$AF$281,MATCH($B$1&ROW($A72),TABPREBB!$AH$10:$AH$281,0),COLUMN()),\"\")","v":""},{"$f":"IFERROR(INDEX(TABPREBB!$A$10:$AF$281,MATCH($B$1&ROW($A72),TABPREBB!$AH$10:$AH$281,0),COLUMN()),\"\")","v":""},{"$f":"IFERROR(INDEX(TABPREBB!$A$10:$AF$281,MATCH($B$1&ROW($A72),TABPREBB!$AH$10:$AH$281,0),COLUMN()),\"\")","v":""},{"$f":"IFERROR(INDEX(TABPREBB!$A$10:$AF$281,MATCH($B$1&ROW($A72),TABPREBB!$AH$10:$AH$281,0),COLUMN()),\"\")","v":""},{"$f":"IFERROR(INDEX(TABPREBB!$A$10:$AF$281,MATCH($B$1&ROW($A72),TABPREBB!$AH$10:$AH$281,0),COLUMN()),\"\")","v":""},{"$f":"IFERROR(INDEX(TABPREBB!$A$10:$AF$281,MATCH($B$1&ROW($A72),TABPREBB!$AH$10:$AH$281,0),COLUMN()),\"\")","v":""},{"$f":"IFERROR(INDEX(TABPREBB!$A$10:$AF$281,MATCH($B$1&ROW($A72),TABPREBB!$AH$10:$AH$281,0),COLUMN()),\"\")","v":""},{"$f":"IFERROR(INDEX(TABPREBB!$A$10:$AF$281,MATCH($B$1&ROW($A72),TABPREBB!$AH$10:$AH$281,0),COLUMN()),\"\")","v":""},{"$f":"IFERROR(INDEX(TABPREBB!$A$10:$AF$281,MATCH($B$1&ROW($A72),TABPREBB!$AH$10:$AH$281,0),COLUMN()),\"\")","v":""},{"$f":"IFERROR(INDEX(TABPREBB!$A$10:$AF$281,MATCH($B$1&ROW($A72),TABPREBB!$AH$10:$AH$281,0),COLUMN()),\"\")","v":""},{"$f":"IFERROR(INDEX(TABPREBB!$A$10:$AF$281,MATCH($B$1&ROW($A72),TABPREBB!$AH$10:$AH$281,0),COLUMN()),\"\")","v":""},{"$f":"IFERROR(INDEX(TABPREBB!$A$10:$AF$281,MATCH($B$1&ROW($A72),TABPREBB!$AH$10:$AH$281,0),COLUMN()),\"\")","v":""},{"$f":"IFERROR(INDEX(TABPREBB!$A$10:$AF$281,MATCH($B$1&ROW($A72),TABPREBB!$AH$10:$AH$281,0),COLUMN()),\"\")","v":""},{"$f":"IFERROR(INDEX(TABPREBB!$A$10:$AF$281,MATCH($B$1&ROW($A72),TABPREBB!$AH$10:$AH$281,0),COLUMN()),\"\")","v":""}]
[{"$f":"IFERROR(INDEX(TABPREBB!$A$10:$AF$281,MATCH($B$1&ROW($A73),TABPREBB!$AH$10:$AH$281,0),COLUMN()),\"\")","v":""},{"$f":"IFERROR(INDEX(TABPREBB!$A$10:$AF$281,MATCH($B$1&ROW($A73),TABPREBB!$AH$10:$AH$281,0),COLUMN()),\"\")","v":""},{"$f":"IFERROR(INDEX(TABPREBB!$A$10:$AF$281,MATCH($B$1&ROW($A73),TABPREBB!$AH$10:$AH$281,0),COLUMN()),\"\")","v":""},{"$f":"IFERROR(INDEX(TABPREBB!$A$10:$AF$281,MATCH($B$1&ROW($A73),TABPREBB!$AH$10:$AH$281,0),COLUMN()),\"\")","v":""},{"$f":"IFERROR(INDEX(TABPREBB!$A$10:$AF$281,MATCH($B$1&ROW($A73),TABPREBB!$AH$10:$AH$281,0),COLUMN()),\"\")","v":""},{"$f":"IFERROR(INDEX(TABPREBB!$A$10:$AF$281,MATCH($B$1&ROW($A73),TABPREBB!$AH$10:$AH$281,0),COLUMN()),\"\")","v":""},{"$f":"IFERROR(INDEX(TABPREBB!$A$10:$AF$281,MATCH($B$1&ROW($A73),TABPREBB!$AH$10:$AH$281,0),COLUMN()),\"\")","v":""},{"$f":"IFERROR(INDEX(TABPREBB!$A$10:$AF$281,MATCH($B$1&ROW($A73),TABPREBB!$AH$10:$AH$281,0),COLUMN()),\"\")","v":""},{"$f":"IFERROR(INDEX(TABPREBB!$A$10:$AF$281,MATCH($B$1&ROW($A73),TABPREBB!$AH$10:$AH$281,0),COLUMN()),\"\")","v":""},{"$f":"IFERROR(INDEX(TABPREBB!$A$10:$AF$281,MATCH($B$1&ROW($A73),TABPREBB!$AH$10:$AH$281,0),COLUMN()),\"\")","v":""},{"$f":"IFERROR(INDEX(TABPREBB!$A$10:$AF$281,MATCH($B$1&ROW($A73),TABPREBB!$AH$10:$AH$281,0),COLUMN()),\"\")","v":""},{"$f":"IFERROR(INDEX(TABPREBB!$A$10:$AF$281,MATCH($B$1&ROW($A73),TABPREBB!$AH$10:$AH$281,0),COLUMN()),\"\")","v":""},{"$f":"IFERROR(INDEX(TABPREBB!$A$10:$AF$281,MATCH($B$1&ROW($A73),TABPREBB!$AH$10:$AH$281,0),COLUMN()),\"\")","v":""},{"$f":"IFERROR(INDEX(TABPREBB!$A$10:$AF$281,MATCH($B$1&ROW($A73),TABPREBB!$AH$10:$AH$281,0),COLUMN()),\"\")","v":""},{"$f":"IFERROR(INDEX(TABPREBB!$A$10:$AF$281,MATCH($B$1&ROW($A73),TABPREBB!$AH$10:$AH$281,0),COLUMN()),\"\")","v":""},{"$f":"IFERROR(INDEX(TABPREBB!$A$10:$AF$281,MATCH($B$1&ROW($A73),TABPREBB!$AH$10:$AH$281,0),COLUMN()),\"\")","v":""},{"$f":"IFERROR(INDEX(TABPREBB!$A$10:$AF$281,MATCH($B$1&ROW($A73),TABPREBB!$AH$10:$AH$281,0),COLUMN()),\"\")","v":""},{"$f":"IFERROR(INDEX(TABPREBB!$A$10:$AF$281,MATCH($B$1&ROW($A73),TABPREBB!$AH$10:$AH$281,0),COLUMN()),\"\")","v":""},{"$f":"IFERROR(INDEX(TABPREBB!$A$10:$AF$281,MATCH($B$1&ROW($A73),TABPREBB!$AH$10:$AH$281,0),COLUMN()),\"\")","v":""},{"$f":"IFERROR(INDEX(TABPREBB!$A$10:$AF$281,MATCH($B$1&ROW($A73),TABPREBB!$AH$10:$AH$281,0),COLUMN()),\"\")","v":""},{"$f":"IFERROR(INDEX(TABPREBB!$A$10:$AF$281,MATCH($B$1&ROW($A73),TABPREBB!$AH$10:$AH$281,0),COLUMN()),\"\")","v":""},{"$f":"IFERROR(INDEX(TABPREBB!$A$10:$AF$281,MATCH($B$1&ROW($A73),TABPREBB!$AH$10:$AH$281,0),COLUMN()),\"\")","v":""},{"$f":"IFERROR(INDEX(TABPREBB!$A$10:$AF$281,MATCH($B$1&ROW($A73),TABPREBB!$AH$10:$AH$281,0),COLUMN()),\"\")","v":""},{"$f":"IFERROR(INDEX(TABPREBB!$A$10:$AF$281,MATCH($B$1&ROW($A73),TABPREBB!$AH$10:$AH$281,0),COLUMN()),\"\")","v":""},{"$f":"IFERROR(INDEX(TABPREBB!$A$10:$AF$281,MATCH($B$1&ROW($A73),TABPREBB!$AH$10:$AH$281,0),COLUMN()),\"\")","v":""},{"$f":"IFERROR(INDEX(TABPREBB!$A$10:$AF$281,MATCH($B$1&ROW($A73),TABPREBB!$AH$10:$AH$281,0),COLUMN()),\"\")","v":""},{"$f":"IFERROR(INDEX(TABPREBB!$A$10:$AF$281,MATCH($B$1&ROW($A73),TABPREBB!$AH$10:$AH$281,0),COLUMN()),\"\")","v":""},{"$f":"IFERROR(INDEX(TABPREBB!$A$10:$AF$281,MATCH($B$1&ROW($A73),TABPREBB!$AH$10:$AH$281,0),COLUMN()),\"\")","v":""},{"$f":"IFERROR(INDEX(TABPREBB!$A$10:$AF$281,MATCH($B$1&ROW($A73),TABPREBB!$AH$10:$AH$281,0),COLUMN()),\"\")","v":""},{"$f":"IFERROR(INDEX(TABPREBB!$A$10:$AF$281,MATCH($B$1&ROW($A73),TABPREBB!$AH$10:$AH$281,0),COLUMN()),\"\")","v":""},{"$f":"IFERROR(INDEX(TABPREBB!$A$10:$AF$281,MATCH($B$1&ROW($A73),TABPREBB!$AH$10:$AH$281,0),COLUMN()),\"\")","v":""},{"$f":"IFERROR(INDEX(TABPREBB!$A$10:$AF$281,MATCH($B$1&ROW($A73),TABPREBB!$AH$10:$AH$281,0),COLUMN()),\"\")","v":""}]
[{"$f":"IFERROR(INDEX(TABPREBB!$A$10:$AF$281,MATCH($B$1&ROW($A74),TABPREBB!$AH$10:$AH$281,0),COLUMN()),\"\")","v":""},{"$f":"IFERROR(INDEX(TABPREBB!$A$10:$AF$281,MATCH($B$1&ROW($A74),TABPREBB!$AH$10:$AH$281,0),COLUMN()),\"\")","v":""},{"$f":"IFERROR(INDEX(TABPREBB!$A$10:$AF$281,MATCH($B$1&ROW($A74),TABPREBB!$AH$10:$AH$281,0),COLUMN()),\"\")","v":""},{"$f":"IFERROR(INDEX(TABPREBB!$A$10:$AF$281,MATCH($B$1&ROW($A74),TABPREBB!$AH$10:$AH$281,0),COLUMN()),\"\")","v":""},{"$f":"IFERROR(INDEX(TABPREBB!$A$10:$AF$281,MATCH($B$1&ROW($A74),TABPREBB!$AH$10:$AH$281,0),COLUMN()),\"\")","v":""},{"$f":"IFERROR(INDEX(TABPREBB!$A$10:$AF$281,MATCH($B$1&ROW($A74),TABPREBB!$AH$10:$AH$281,0),COLUMN()),\"\")","v":""},{"$f":"IFERROR(INDEX(TABPREBB!$A$10:$AF$281,MATCH($B$1&ROW($A74),TABPREBB!$AH$10:$AH$281,0),COLUMN()),\"\")","v":""},{"$f":"IFERROR(INDEX(TABPREBB!$A$10:$AF$281,MATCH($B$1&ROW($A74),TABPREBB!$AH$10:$AH$281,0),COLUMN()),\"\")","v":""},{"$f":"IFERROR(INDEX(TABPREBB!$A$10:$AF$281,MATCH($B$1&ROW($A74),TABPREBB!$AH$10:$AH$281,0),COLUMN()),\"\")","v":""},{"$f":"IFERROR(INDEX(TABPREBB!$A$10:$AF$281,MATCH($B$1&ROW($A74),TABPREBB!$AH$10:$AH$281,0),COLUMN()),\"\")","v":""},{"$f":"IFERROR(INDEX(TABPREBB!$A$10:$AF$281,MATCH($B$1&ROW($A74),TABPREBB!$AH$10:$AH$281,0),COLUMN()),\"\")","v":""},{"$f":"IFERROR(INDEX(TABPREBB!$A$10:$AF$281,MATCH($B$1&ROW($A74),TABPREBB!$AH$10:$AH$281,0),COLUMN()),\"\")","v":""},{"$f":"IFERROR(INDEX(TABPREBB!$A$10:$AF$281,MATCH($B$1&ROW($A74),TABPREBB!$AH$10:$AH$281,0),COLUMN()),\"\")","v":""},{"$f":"IFERROR(INDEX(TABPREBB!$A$10:$AF$281,MATCH($B$1&ROW($A74),TABPREBB!$AH$10:$AH$281,0),COLUMN()),\"\")","v":""},{"$f":"IFERROR(INDEX(TABPREBB!$A$10:$AF$281,MATCH($B$1&ROW($A74),TABPREBB!$AH$10:$AH$281,0),COLUMN()),\"\")","v":""},{"$f":"IFERROR(INDEX(TABPREBB!$A$10:$AF$281,MATCH($B$1&ROW($A74),TABPREBB!$AH$10:$AH$281,0),COLUMN()),\"\")","v":""},{"$f":"IFERROR(INDEX(TABPREBB!$A$10:$AF$281,MATCH($B$1&ROW($A74),TABPREBB!$AH$10:$AH$281,0),COLUMN()),\"\")","v":""},{"$f":"IFERROR(INDEX(TABPREBB!$A$10:$AF$281,MATCH($B$1&ROW($A74),TABPREBB!$AH$10:$AH$281,0),COLUMN()),\"\")","v":""},{"$f":"IFERROR(INDEX(TABPREBB!$A$10:$AF$281,MATCH($B$1&ROW($A74),TABPREBB!$AH$10:$AH$281,0),COLUMN()),\"\")","v":""},{"$f":"IFERROR(INDEX(TABPREBB!$A$10:$AF$281,MATCH($B$1&ROW($A74),TABPREBB!$AH$10:$AH$281,0),COLUMN()),\"\")","v":""},{"$f":"IFERROR(INDEX(TABPREBB!$A$10:$AF$281,MATCH($B$1&ROW($A74),TABPREBB!$AH$10:$AH$281,0),COLUMN()),\"\")","v":""},{"$f":"IFERROR(INDEX(TABPREBB!$A$10:$AF$281,MATCH($B$1&ROW($A74),TABPREBB!$AH$10:$AH$281,0),COLUMN()),\"\")","v":""},{"$f":"IFERROR(INDEX(TABPREBB!$A$10:$AF$281,MATCH($B$1&ROW($A74),TABPREBB!$AH$10:$AH$281,0),COLUMN()),\"\")","v":""},{"$f":"IFERROR(INDEX(TABPREBB!$A$10:$AF$281,MATCH($B$1&ROW($A74),TABPREBB!$AH$10:$AH$281,0),COLUMN()),\"\")","v":""},{"$f":"IFERROR(INDEX(TABPREBB!$A$10:$AF$281,MATCH($B$1&ROW($A74),TABPREBB!$AH$10:$AH$281,0),COLUMN()),\"\")","v":""},{"$f":"IFERROR(INDEX(TABPREBB!$A$10:$AF$281,MATCH($B$1&ROW($A74),TABPREBB!$AH$10:$AH$281,0),COLUMN()),\"\")","v":""},{"$f":"IFERROR(INDEX(TABPREBB!$A$10:$AF$281,MATCH($B$1&ROW($A74),TABPREBB!$AH$10:$AH$281,0),COLUMN()),\"\")","v":""},{"$f":"IFERROR(INDEX(TABPREBB!$A$10:$AF$281,MATCH($B$1&ROW($A74),TABPREBB!$AH$10:$AH$281,0),COLUMN()),\"\")","v":""},{"$f":"IFERROR(INDEX(TABPREBB!$A$10:$AF$281,MATCH($B$1&ROW($A74),TABPREBB!$AH$10:$AH$281,0),COLUMN()),\"\")","v":""},{"$f":"IFERROR(INDEX(TABPREBB!$A$10:$AF$281,MATCH($B$1&ROW($A74),TABPREBB!$AH$10:$AH$281,0),COLUMN()),\"\")","v":""},{"$f":"IFERROR(INDEX(TABPREBB!$A$10:$AF$281,MATCH($B$1&ROW($A74),TABPREBB!$AH$10:$AH$281,0),COLUMN()),\"\")","v":""},{"$f":"IFERROR(INDEX(TABPREBB!$A$10:$AF$281,MATCH($B$1&ROW($A74),TABPREBB!$AH$10:$AH$281,0),COLUMN()),\"\")","v":""}]
[{"$f":"IFERROR(INDEX(TABPREBB!$A$10:$AF$281,MATCH($B$1&ROW($A75),TABPREBB!$AH$10:$AH$281,0),COLUMN()),\"\")","v":""},{"$f":"IFERROR(INDEX(TABPREBB!$A$10:$AF$281,MATCH($B$1&ROW($A75),TABPREBB!$AH$10:$AH$281,0),COLUMN()),\"\")","v":""},{"$f":"IFERROR(INDEX(TABPREBB!$A$10:$AF$281,MATCH($B$1&ROW($A75),TABPREBB!$AH$10:$AH$281,0),COLUMN()),\"\")","v":""},{"$f":"IFERROR(INDEX(TABPREBB!$A$10:$AF$281,MATCH($B$1&ROW($A75),TABPREBB!$AH$10:$AH$281,0),COLUMN()),\"\")","v":""},{"$f":"IFERROR(INDEX(TABPREBB!$A$10:$AF$281,MATCH($B$1&ROW($A75),TABPREBB!$AH$10:$AH$281,0),COLUMN()),\"\")","v":""},{"$f":"IFERROR(INDEX(TABPREBB!$A$10:$AF$281,MATCH($B$1&ROW($A75),TABPREBB!$AH$10:$AH$281,0),COLUMN()),\"\")","v":""},{"$f":"IFERROR(INDEX(TABPREBB!$A$10:$AF$281,MATCH($B$1&ROW($A75),TABPREBB!$AH$10:$AH$281,0),COLUMN()),\"\")","v":""},{"$f":"IFERROR(INDEX(TABPREBB!$A$10:$AF$281,MATCH($B$1&ROW($A75),TABPREBB!$AH$10:$AH$281,0),COLUMN()),\"\")","v":""},{"$f":"IFERROR(INDEX(TABPREBB!$A$10:$AF$281,MATCH($B$1&ROW($A75),TABPREBB!$AH$10:$AH$281,0),COLUMN()),\"\")","v":""},{"$f":"IFERROR(INDEX(TABPREBB!$A$10:$AF$281,MATCH($B$1&ROW($A75),TABPREBB!$AH$10:$AH$281,0),COLUMN()),\"\")","v":""},{"$f":"IFERROR(INDEX(TABPREBB!$A$10:$AF$281,MATCH($B$1&ROW($A75),TABPREBB!$AH$10:$AH$281,0),COLUMN()),\"\")","v":""},{"$f":"IFERROR(INDEX(TABPREBB!$A$10:$AF$281,MATCH($B$1&ROW($A75),TABPREBB!$AH$10:$AH$281,0),COLUMN()),\"\")","v":""},{"$f":"IFERROR(INDEX(TABPREBB!$A$10:$AF$281,MATCH($B$1&ROW($A75),TABPREBB!$AH$10:$AH$281,0),COLUMN()),\"\")","v":""},{"$f":"IFERROR(INDEX(TABPREBB!$A$10:$AF$281,MATCH($B$1&ROW($A75),TABPREBB!$AH$10:$AH$281,0),COLUMN()),\"\")","v":""},{"$f":"IFERROR(INDEX(TABPREBB!$A$10:$AF$281,MATCH($B$1&ROW($A75),TABPREBB!$AH$10:$AH$281,0),COLUMN()),\"\")","v":""},{"$f":"IFERROR(INDEX(TABPREBB!$A$10:$AF$281,MATCH($B$1&ROW($A75),TABPREBB!$AH$10:$AH$281,0),COLUMN()),\"\")","v":""},{"$f":"IFERROR(INDEX(TABPREBB!$A$10:$AF$281,MATCH($B$1&ROW($A75),TABPREBB!$AH$10:$AH$281,0),COLUMN()),\"\")","v":""},{"$f":"IFERROR(INDEX(TABPREBB!$A$10:$AF$281,MATCH($B$1&ROW($A75),TABPREBB!$AH$10:$AH$281,0),COLUMN()),\"\")","v":""},{"$f":"IFERROR(INDEX(TABPREBB!$A$10:$AF$281,MATCH($B$1&ROW($A75),TABPREBB!$AH$10:$AH$281,0),COLUMN()),\"\")","v":""},{"$f":"IFERROR(INDEX(TABPREBB!$A$10:$AF$281,MATCH($B$1&ROW($A75),TABPREBB!$AH$10:$AH$281,0),COLUMN()),\"\")","v":""},{"$f":"IFERROR(INDEX(TABPREBB!$A$10:$AF$281,MATCH($B$1&ROW($A75),TABPREBB!$AH$10:$AH$281,0),COLUMN()),\"\")","v":""},{"$f":"IFERROR(INDEX(TABPREBB!$A$10:$AF$281,MATCH($B$1&ROW($A75),TABPREBB!$AH$10:$AH$281,0),COLUMN()),\"\")","v":""},{"$f":"IFERROR(INDEX(TABPREBB!$A$10:$AF$281,MATCH($B$1&ROW($A75),TABPREBB!$AH$10:$AH$281,0),COLUMN()),\"\")","v":""},{"$f":"IFERROR(INDEX(TABPREBB!$A$10:$AF$281,MATCH($B$1&ROW($A75),TABPREBB!$AH$10:$AH$281,0),COLUMN()),\"\")","v":""},{"$f":"IFERROR(INDEX(TABPREBB!$A$10:$AF$281,MATCH($B$1&ROW($A75),TABPREBB!$AH$10:$AH$281,0),COLUMN()),\"\")","v":""},{"$f":"IFERROR(INDEX(TABPREBB!$A$10:$AF$281,MATCH($B$1&ROW($A75),TABPREBB!$AH$10:$AH$281,0),COLUMN()),\"\")","v":""},{"$f":"IFERROR(INDEX(TABPREBB!$A$10:$AF$281,MATCH($B$1&ROW($A75),TABPREBB!$AH$10:$AH$281,0),COLUMN()),\"\")","v":""},{"$f":"IFERROR(INDEX(TABPREBB!$A$10:$AF$281,MATCH($B$1&ROW($A75),TABPREBB!$AH$10:$AH$281,0),COLUMN()),\"\")","v":""},{"$f":"IFERROR(INDEX(TABPREBB!$A$10:$AF$281,MATCH($B$1&ROW($A75),TABPREBB!$AH$10:$AH$281,0),COLUMN()),\"\")","v":""},{"$f":"IFERROR(INDEX(TABPREBB!$A$10:$AF$281,MATCH($B$1&ROW($A75),TABPREBB!$AH$10:$AH$281,0),COLUMN()),\"\")","v":""},{"$f":"IFERROR(INDEX(TABPREBB!$A$10:$AF$281,MATCH($B$1&ROW($A75),TABPREBB!$AH$10:$AH$281,0),COLUMN()),\"\")","v":""},{"$f":"IFERROR(INDEX(TABPREBB!$A$10:$AF$281,MATCH($B$1&ROW($A75),TABPREBB!$AH$10:$AH$281,0),COLUMN()),\"\")","v":""}]
[{"$f":"IFERROR(INDEX(TABPREBB!$A$10:$AF$281,MATCH($B$1&ROW($A76),TABPREBB!$AH$10:$AH$281,0),COLUMN()),\"\")","v":""},{"$f":"IFERROR(INDEX(TABPREBB!$A$10:$AF$281,MATCH($B$1&ROW($A76),TABPREBB!$AH$10:$AH$281,0),COLUMN()),\"\")","v":""},{"$f":"IFERROR(INDEX(TABPREBB!$A$10:$AF$281,MATCH($B$1&ROW($A76),TABPREBB!$AH$10:$AH$281,0),COLUMN()),\"\")","v":""},{"$f":"IFERROR(INDEX(TABPREBB!$A$10:$AF$281,MATCH($B$1&ROW($A76),TABPREBB!$AH$10:$AH$281,0),COLUMN()),\"\")","v":""},{"$f":"IFERROR(INDEX(TABPREBB!$A$10:$AF$281,MATCH($B$1&ROW($A76),TABPREBB!$AH$10:$AH$281,0),COLUMN()),\"\")","v":""},{"$f":"IFERROR(INDEX(TABPREBB!$A$10:$AF$281,MATCH($B$1&ROW($A76),TABPREBB!$AH$10:$AH$281,0),COLUMN()),\"\")","v":""},{"$f":"IFERROR(INDEX(TABPREBB!$A$10:$AF$281,MATCH($B$1&ROW($A76),TABPREBB!$AH$10:$AH$281,0),COLUMN()),\"\")","v":""},{"$f":"IFERROR(INDEX(TABPREBB!$A$10:$AF$281,MATCH($B$1&ROW($A76),TABPREBB!$AH$10:$AH$281,0),COLUMN()),\"\")","v":""},{"$f":"IFERROR(INDEX(TABPREBB!$A$10:$AF$281,MATCH($B$1&ROW($A76),TABPREBB!$AH$10:$AH$281,0),COLUMN()),\"\")","v":""},{"$f":"IFERROR(INDEX(TABPREBB!$A$10:$AF$281,MATCH($B$1&ROW($A76),TABPREBB!$AH$10:$AH$281,0),COLUMN()),\"\")","v":""},{"$f":"IFERROR(INDEX(TABPREBB!$A$10:$AF$281,MATCH($B$1&ROW($A76),TABPREBB!$AH$10:$AH$281,0),COLUMN()),\"\")","v":""},{"$f":"IFERROR(INDEX(TABPREBB!$A$10:$AF$281,MATCH($B$1&ROW($A76),TABPREBB!$AH$10:$AH$281,0),COLUMN()),\"\")","v":""},{"$f":"IFERROR(INDEX(TABPREBB!$A$10:$AF$281,MATCH($B$1&ROW($A76),TABPREBB!$AH$10:$AH$281,0),COLUMN()),\"\")","v":""},{"$f":"IFERROR(INDEX(TABPREBB!$A$10:$AF$281,MATCH($B$1&ROW($A76),TABPREBB!$AH$10:$AH$281,0),COLUMN()),\"\")","v":""},{"$f":"IFERROR(INDEX(TABPREBB!$A$10:$AF$281,MATCH($B$1&ROW($A76),TABPREBB!$AH$10:$AH$281,0),COLUMN()),\"\")","v":""},{"$f":"IFERROR(INDEX(TABPREBB!$A$10:$AF$281,MATCH($B$1&ROW($A76),TABPREBB!$AH$10:$AH$281,0),COLUMN()),\"\")","v":""},{"$f":"IFERROR(INDEX(TABPREBB!$A$10:$AF$281,MATCH($B$1&ROW($A76),TABPREBB!$AH$10:$AH$281,0),COLUMN()),\"\")","v":""},{"$f":"IFERROR(INDEX(TABPREBB!$A$10:$AF$281,MATCH($B$1&ROW($A76),TABPREBB!$AH$10:$AH$281,0),COLUMN()),\"\")","v":""},{"$f":"IFERROR(INDEX(TABPREBB!$A$10:$AF$281,MATCH($B$1&ROW($A76),TABPREBB!$AH$10:$AH$281,0),COLUMN()),\"\")","v":""},{"$f":"IFERROR(INDEX(TABPREBB!$A$10:$AF$281,MATCH($B$1&ROW($A76),TABPREBB!$AH$10:$AH$281,0),COLUMN()),\"\")","v":""},{"$f":"IFERROR(INDEX(TABPREBB!$A$10:$AF$281,MATCH($B$1&ROW($A76),TABPREBB!$AH$10:$AH$281,0),COLUMN()),\"\")","v":""},{"$f":"IFERROR(INDEX(TABPREBB!$A$10:$AF$281,MATCH($B$1&ROW($A76),TABPREBB!$AH$10:$AH$281,0),COLUMN()),\"\")","v":""},{"$f":"IFERROR(INDEX(TABPREBB!$A$10:$AF$281,MATCH($B$1&ROW($A76),TABPREBB!$AH$10:$AH$281,0),COLUMN()),\"\")","v":""},{"$f":"IFERROR(INDEX(TABPREBB!$A$10:$AF$281,MATCH($B$1&ROW($A76),TABPREBB!$AH$10:$AH$281,0),COLUMN()),\"\")","v":""},{"$f":"IFERROR(INDEX(TABPREBB!$A$10:$AF$281,MATCH($B$1&ROW($A76),TABPREBB!$AH$10:$AH$281,0),COLUMN()),\"\")","v":""},{"$f":"IFERROR(INDEX(TABPREBB!$A$10:$AF$281,MATCH($B$1&ROW($A76),TABPREBB!$AH$10:$AH$281,0),COLUMN()),\"\")","v":""},{"$f":"IFERROR(INDEX(TABPREBB!$A$10:$AF$281,MATCH($B$1&ROW($A76),TABPREBB!$AH$10:$AH$281,0),COLUMN()),\"\")","v":""},{"$f":"IFERROR(INDEX(TABPREBB!$A$10:$AF$281,MATCH($B$1&ROW($A76),TABPREBB!$AH$10:$AH$281,0),COLUMN()),\"\")","v":""},{"$f":"IFERROR(INDEX(TABPREBB!$A$10:$AF$281,MATCH($B$1&ROW($A76),TABPREBB!$AH$10:$AH$281,0),COLUMN()),\"\")","v":""},{"$f":"IFERROR(INDEX(TABPREBB!$A$10:$AF$281,MATCH($B$1&ROW($A76),TABPREBB!$AH$10:$AH$281,0),COLUMN()),\"\")","v":""},{"$f":"IFERROR(INDEX(TABPREBB!$A$10:$AF$281,MATCH($B$1&ROW($A76),TABPREBB!$AH$10:$AH$281,0),COLUMN()),\"\")","v":""},{"$f":"IFERROR(INDEX(TABPREBB!$A$10:$AF$281,MATCH($B$1&ROW($A76),TABPREBB!$AH$10:$AH$281,0),COLUMN()),\"\")","v":""}]
[{"$f":"IFERROR(INDEX(TABPREBB!$A$10:$AF$281,MATCH($B$1&ROW($A77),TABPREBB!$AH$10:$AH$281,0),COLUMN()),\"\")","v":""},{"$f":"IFERROR(INDEX(TABPREBB!$A$10:$AF$281,MATCH($B$1&ROW($A77),TABPREBB!$AH$10:$AH$281,0),COLUMN()),\"\")","v":""},{"$f":"IFERROR(INDEX(TABPREBB!$A$10:$AF$281,MATCH($B$1&ROW($A77),TABPREBB!$AH$10:$AH$281,0),COLUMN()),\"\")","v":""},{"$f":"IFERROR(INDEX(TABPREBB!$A$10:$AF$281,MATCH($B$1&ROW($A77),TABPREBB!$AH$10:$AH$281,0),COLUMN()),\"\")","v":""},{"$f":"IFERROR(INDEX(TABPREBB!$A$10:$AF$281,MATCH($B$1&ROW($A77),TABPREBB!$AH$10:$AH$281,0),COLUMN()),\"\")","v":""},{"$f":"IFERROR(INDEX(TABPREBB!$A$10:$AF$281,MATCH($B$1&ROW($A77),TABPREBB!$AH$10:$AH$281,0),COLUMN()),\"\")","v":""},{"$f":"IFERROR(INDEX(TABPREBB!$A$10:$AF$281,MATCH($B$1&ROW($A77),TABPREBB!$AH$10:$AH$281,0),COLUMN()),\"\")","v":""},{"$f":"IFERROR(INDEX(TABPREBB!$A$10:$AF$281,MATCH($B$1&ROW($A77),TABPREBB!$AH$10:$AH$281,0),COLUMN()),\"\")","v":""},{"$f":"IFERROR(INDEX(TABPREBB!$A$10:$AF$281,MATCH($B$1&ROW($A77),TABPREBB!$AH$10:$AH$281,0),COLUMN()),\"\")","v":""},{"$f":"IFERROR(INDEX(TABPREBB!$A$10:$AF$281,MATCH($B$1&ROW($A77),TABPREBB!$AH$10:$AH$281,0),COLUMN()),\"\")","v":""},{"$f":"IFERROR(INDEX(TABPREBB!$A$10:$AF$281,MATCH($B$1&ROW($A77),TABPREBB!$AH$10:$AH$281,0),COLUMN()),\"\")","v":""},{"$f":"IFERROR(INDEX(TABPREBB!$A$10:$AF$281,MATCH($B$1&ROW($A77),TABPREBB!$AH$10:$AH$281,0),COLUMN()),\"\")","v":""},{"$f":"IFERROR(INDEX(TABPREBB!$A$10:$AF$281,MATCH($B$1&ROW($A77),TABPREBB!$AH$10:$AH$281,0),COLUMN()),\"\")","v":""},{"$f":"IFERROR(INDEX(TABPREBB!$A$10:$AF$281,MATCH($B$1&ROW($A77),TABPREBB!$AH$10:$AH$281,0),COLUMN()),\"\")","v":""},{"$f":"IFERROR(INDEX(TABPREBB!$A$10:$AF$281,MATCH($B$1&ROW($A77),TABPREBB!$AH$10:$AH$281,0),COLUMN()),\"\")","v":""},{"$f":"IFERROR(INDEX(TABPREBB!$A$10:$AF$281,MATCH($B$1&ROW($A77),TABPREBB!$AH$10:$AH$281,0),COLUMN()),\"\")","v":""},{"$f":"IFERROR(INDEX(TABPREBB!$A$10:$AF$281,MATCH($B$1&ROW($A77),TABPREBB!$AH$10:$AH$281,0),COLUMN()),\"\")","v":""},{"$f":"IFERROR(INDEX(TABPREBB!$A$10:$AF$281,MATCH($B$1&ROW($A77),TABPREBB!$AH$10:$AH$281,0),COLUMN()),\"\")","v":""},{"$f":"IFERROR(INDEX(TABPREBB!$A$10:$AF$281,MATCH($B$1&ROW($A77),TABPREBB!$AH$10:$AH$281,0),COLUMN()),\"\")","v":""},{"$f":"IFERROR(INDEX(TABPREBB!$A$10:$AF$281,MATCH($B$1&ROW($A77),TABPREBB!$AH$10:$AH$281,0),COLUMN()),\"\")","v":""},{"$f":"IFERROR(INDEX(TABPREBB!$A$10:$AF$281,MATCH($B$1&ROW($A77),TABPREBB!$AH$10:$AH$281,0),COLUMN()),\"\")","v":""},{"$f":"IFERROR(INDEX(TABPREBB!$A$10:$AF$281,MATCH($B$1&ROW($A77),TABPREBB!$AH$10:$AH$281,0),COLUMN()),\"\")","v":""},{"$f":"IFERROR(INDEX(TABPREBB!$A$10:$AF$281,MATCH($B$1&ROW($A77),TABPREBB!$AH$10:$AH$281,0),COLUMN()),\"\")","v":""},{"$f":"IFERROR(INDEX(TABPREBB!$A$10:$AF$281,MATCH($B$1&ROW($A77),TABPREBB!$AH$10:$AH$281,0),COLUMN()),\"\")","v":""},{"$f":"IFERROR(INDEX(TABPREBB!$A$10:$AF$281,MATCH($B$1&ROW($A77),TABPREBB!$AH$10:$AH$281,0),COLUMN()),\"\")","v":""},{"$f":"IFERROR(INDEX(TABPREBB!$A$10:$AF$281,MATCH($B$1&ROW($A77),TABPREBB!$AH$10:$AH$281,0),COLUMN()),\"\")","v":""},{"$f":"IFERROR(INDEX(TABPREBB!$A$10:$AF$281,MATCH($B$1&ROW($A77),TABPREBB!$AH$10:$AH$281,0),COLUMN()),\"\")","v":""},{"$f":"IFERROR(INDEX(TABPREBB!$A$10:$AF$281,MATCH($B$1&ROW($A77),TABPREBB!$AH$10:$AH$281,0),COLUMN()),\"\")","v":""},{"$f":"IFERROR(INDEX(TABPREBB!$A$10:$AF$281,MATCH($B$1&ROW($A77),TABPREBB!$AH$10:$AH$281,0),COLUMN()),\"\")","v":""},{"$f":"IFERROR(INDEX(TABPREBB!$A$10:$AF$281,MATCH($B$1&ROW($A77),TABPREBB!$AH$10:$AH$281,0),COLUMN()),\"\")","v":""},{"$f":"IFERROR(INDEX(TABPREBB!$A$10:$AF$281,MATCH($B$1&ROW($A77),TABPREBB!$AH$10:$AH$281,0),COLUMN()),\"\")","v":""},{"$f":"IFERROR(INDEX(TABPREBB!$A$10:$AF$281,MATCH($B$1&ROW($A77),TABPREBB!$AH$10:$AH$281,0),COLUMN()),\"\")","v":""}]
[{"$f":"IFERROR(INDEX(TABPREBB!$A$10:$AF$281,MATCH($B$1&ROW($A78),TABPREBB!$AH$10:$AH$281,0),COLUMN()),\"\")","v":""},{"$f":"IFERROR(INDEX(TABPREBB!$A$10:$AF$281,MATCH($B$1&ROW($A78),TABPREBB!$AH$10:$AH$281,0),COLUMN()),\"\")","v":""},{"$f":"IFERROR(INDEX(TABPREBB!$A$10:$AF$281,MATCH($B$1&ROW($A78),TABPREBB!$AH$10:$AH$281,0),COLUMN()),\"\")","v":""},{"$f":"IFERROR(INDEX(TABPREBB!$A$10:$AF$281,MATCH($B$1&ROW($A78),TABPREBB!$AH$10:$AH$281,0),COLUMN()),\"\")","v":""},{"$f":"IFERROR(INDEX(TABPREBB!$A$10:$AF$281,MATCH($B$1&ROW($A78),TABPREBB!$AH$10:$AH$281,0),COLUMN()),\"\")","v":""},{"$f":"IFERROR(INDEX(TABPREBB!$A$10:$AF$281,MATCH($B$1&ROW($A78),TABPREBB!$AH$10:$AH$281,0),COLUMN()),\"\")","v":""},{"$f":"IFERROR(INDEX(TABPREBB!$A$10:$AF$281,MATCH($B$1&ROW($A78),TABPREBB!$AH$10:$AH$281,0),COLUMN()),\"\")","v":""},{"$f":"IFERROR(INDEX(TABPREBB!$A$10:$AF$281,MATCH($B$1&ROW($A78),TABPREBB!$AH$10:$AH$281,0),COLUMN()),\"\")","v":""},{"$f":"IFERROR(INDEX(TABPREBB!$A$10:$AF$281,MATCH($B$1&ROW($A78),TABPREBB!$AH$10:$AH$281,0),COLUMN()),\"\")","v":""},{"$f":"IFERROR(INDEX(TABPREBB!$A$10:$AF$281,MATCH($B$1&ROW($A78),TABPREBB!$AH$10:$AH$281,0),COLUMN()),\"\")","v":""},{"$f":"IFERROR(INDEX(TABPREBB!$A$10:$AF$281,MATCH($B$1&ROW($A78),TABPREBB!$AH$10:$AH$281,0),COLUMN()),\"\")","v":""},{"$f":"IFERROR(INDEX(TABPREBB!$A$10:$AF$281,MATCH($B$1&ROW($A78),TABPREBB!$AH$10:$AH$281,0),COLUMN()),\"\")","v":""},{"$f":"IFERROR(INDEX(TABPREBB!$A$10:$AF$281,MATCH($B$1&ROW($A78),TABPREBB!$AH$10:$AH$281,0),COLUMN()),\"\")","v":""},{"$f":"IFERROR(INDEX(TABPREBB!$A$10:$AF$281,MATCH($B$1&ROW($A78),TABPREBB!$AH$10:$AH$281,0),COLUMN()),\"\")","v":""},{"$f":"IFERROR(INDEX(TABPREBB!$A$10:$AF$281,MATCH($B$1&ROW($A78),TABPREBB!$AH$10:$AH$281,0),COLUMN()),\"\")","v":""},{"$f":"IFERROR(INDEX(TABPREBB!$A$10:$AF$281,MATCH($B$1&ROW($A78),TABPREBB!$AH$10:$AH$281,0),COLUMN()),\"\")","v":""},{"$f":"IFERROR(INDEX(TABPREBB!$A$10:$AF$281,MATCH($B$1&ROW($A78),TABPREBB!$AH$10:$AH$281,0),COLUMN()),\"\")","v":""},{"$f":"IFERROR(INDEX(TABPREBB!$A$10:$AF$281,MATCH($B$1&ROW($A78),TABPREBB!$AH$10:$AH$281,0),COLUMN()),\"\")","v":""},{"$f":"IFERROR(INDEX(TABPREBB!$A$10:$AF$281,MATCH($B$1&ROW($A78),TABPREBB!$AH$10:$AH$281,0),COLUMN()),\"\")","v":""},{"$f":"IFERROR(INDEX(TABPREBB!$A$10:$AF$281,MATCH($B$1&ROW($A78),TABPREBB!$AH$10:$AH$281,0),COLUMN()),\"\")","v":""},{"$f":"IFERROR(INDEX(TABPREBB!$A$10:$AF$281,MATCH($B$1&ROW($A78),TABPREBB!$AH$10:$AH$281,0),COLUMN()),\"\")","v":""},{"$f":"IFERROR(INDEX(TABPREBB!$A$10:$AF$281,MATCH($B$1&ROW($A78),TABPREBB!$AH$10:$AH$281,0),COLUMN()),\"\")","v":""},{"$f":"IFERROR(INDEX(TABPREBB!$A$10:$AF$281,MATCH($B$1&ROW($A78),TABPREBB!$AH$10:$AH$281,0),COLUMN()),\"\")","v":""},{"$f":"IFERROR(INDEX(TABPREBB!$A$10:$AF$281,MATCH($B$1&ROW($A78),TABPREBB!$AH$10:$AH$281,0),COLUMN()),\"\")","v":""},{"$f":"IFERROR(INDEX(TABPREBB!$A$10:$AF$281,MATCH($B$1&ROW($A78),TABPREBB!$AH$10:$AH$281,0),COLUMN()),\"\")","v":""},{"$f":"IFERROR(INDEX(TABPREBB!$A$10:$AF$281,MATCH($B$1&ROW($A78),TABPREBB!$AH$10:$AH$281,0),COLUMN()),\"\")","v":""},{"$f":"IFERROR(INDEX(TABPREBB!$A$10:$AF$281,MATCH($B$1&ROW($A78),TABPREBB!$AH$10:$AH$281,0),COLUMN()),\"\")","v":""},{"$f":"IFERROR(INDEX(TABPREBB!$A$10:$AF$281,MATCH($B$1&ROW($A78),TABPREBB!$AH$10:$AH$281,0),COLUMN()),\"\")","v":""},{"$f":"IFERROR(INDEX(TABPREBB!$A$10:$AF$281,MATCH($B$1&ROW($A78),TABPREBB!$AH$10:$AH$281,0),COLUMN()),\"\")","v":""},{"$f":"IFERROR(INDEX(TABPREBB!$A$10:$AF$281,MATCH($B$1&ROW($A78),TABPREBB!$AH$10:$AH$281,0),COLUMN()),\"\")","v":""},{"$f":"IFERROR(INDEX(TABPREBB!$A$10:$AF$281,MATCH($B$1&ROW($A78),TABPREBB!$AH$10:$AH$281,0),COLUMN()),\"\")","v":""},{"$f":"IFERROR(INDEX(TABPREBB!$A$10:$AF$281,MATCH($B$1&ROW($A78),TABPREBB!$AH$10:$AH$281,0),COLUMN()),\"\")","v":""}]
[{"$f":"IFERROR(INDEX(TABPREBB!$A$10:$AF$281,MATCH($B$1&ROW($A79),TABPREBB!$AH$10:$AH$281,0),COLUMN()),\"\")","v":""},{"$f":"IFERROR(INDEX(TABPREBB!$A$10:$AF$281,MATCH($B$1&ROW($A79),TABPREBB!$AH$10:$AH$281,0),COLUMN()),\"\")","v":""},{"$f":"IFERROR(INDEX(TABPREBB!$A$10:$AF$281,MATCH($B$1&ROW($A79),TABPREBB!$AH$10:$AH$281,0),COLUMN()),\"\")","v":""},{"$f":"IFERROR(INDEX(TABPREBB!$A$10:$AF$281,MATCH($B$1&ROW($A79),TABPREBB!$AH$10:$AH$281,0),COLUMN()),\"\")","v":""},{"$f":"IFERROR(INDEX(TABPREBB!$A$10:$AF$281,MATCH($B$1&ROW($A79),TABPREBB!$AH$10:$AH$281,0),COLUMN()),\"\")","v":""},{"$f":"IFERROR(INDEX(TABPREBB!$A$10:$AF$281,MATCH($B$1&ROW($A79),TABPREBB!$AH$10:$AH$281,0),COLUMN()),\"\")","v":""},{"$f":"IFERROR(INDEX(TABPREBB!$A$10:$AF$281,MATCH($B$1&ROW($A79),TABPREBB!$AH$10:$AH$281,0),COLUMN()),\"\")","v":""},{"$f":"IFERROR(INDEX(TABPREBB!$A$10:$AF$281,MATCH($B$1&ROW($A79),TABPREBB!$AH$10:$AH$281,0),COLUMN()),\"\")","v":""},{"$f":"IFERROR(INDEX(TABPREBB!$A$10:$AF$281,MATCH($B$1&ROW($A79),TABPREBB!$AH$10:$AH$281,0),COLUMN()),\"\")","v":""},{"$f":"IFERROR(INDEX(TABPREBB!$A$10:$AF$281,MATCH($B$1&ROW($A79),TABPREBB!$AH$10:$AH$281,0),COLUMN()),\"\")","v":""},{"$f":"IFERROR(INDEX(TABPREBB!$A$10:$AF$281,MATCH($B$1&ROW($A79),TABPREBB!$AH$10:$AH$281,0),COLUMN()),\"\")","v":""},{"$f":"IFERROR(INDEX(TABPREBB!$A$10:$AF$281,MATCH($B$1&ROW($A79),TABPREBB!$AH$10:$AH$281,0),COLUMN()),\"\")","v":""},{"$f":"IFERROR(INDEX(TABPREBB!$A$10:$AF$281,MATCH($B$1&ROW($A79),TABPREBB!$AH$10:$AH$281,0),COLUMN()),\"\")","v":""},{"$f":"IFERROR(INDEX(TABPREBB!$A$10:$AF$281,MATCH($B$1&ROW($A79),TABPREBB!$AH$10:$AH$281,0),COLUMN()),\"\")","v":""},{"$f":"IFERROR(INDEX(TABPREBB!$A$10:$AF$281,MATCH($B$1&ROW($A79),TABPREBB!$AH$10:$AH$281,0),COLUMN()),\"\")","v":""},{"$f":"IFERROR(INDEX(TABPREBB!$A$10:$AF$281,MATCH($B$1&ROW($A79),TABPREBB!$AH$10:$AH$281,0),COLUMN()),\"\")","v":""},{"$f":"IFERROR(INDEX(TABPREBB!$A$10:$AF$281,MATCH($B$1&ROW($A79),TABPREBB!$AH$10:$AH$281,0),COLUMN()),\"\")","v":""},{"$f":"IFERROR(INDEX(TABPREBB!$A$10:$AF$281,MATCH($B$1&ROW($A79),TABPREBB!$AH$10:$AH$281,0),COLUMN()),\"\")","v":""},{"$f":"IFERROR(INDEX(TABPREBB!$A$10:$AF$281,MATCH($B$1&ROW($A79),TABPREBB!$AH$10:$AH$281,0),COLUMN()),\"\")","v":""},{"$f":"IFERROR(INDEX(TABPREBB!$A$10:$AF$281,MATCH($B$1&ROW($A79),TABPREBB!$AH$10:$AH$281,0),COLUMN()),\"\")","v":""},{"$f":"IFERROR(INDEX(TABPREBB!$A$10:$AF$281,MATCH($B$1&ROW($A79),TABPREBB!$AH$10:$AH$281,0),COLUMN()),\"\")","v":""},{"$f":"IFERROR(INDEX(TABPREBB!$A$10:$AF$281,MATCH($B$1&ROW($A79),TABPREBB!$AH$10:$AH$281,0),COLUMN()),\"\")","v":""},{"$f":"IFERROR(INDEX(TABPREBB!$A$10:$AF$281,MATCH($B$1&ROW($A79),TABPREBB!$AH$10:$AH$281,0),COLUMN()),\"\")","v":""},{"$f":"IFERROR(INDEX(TABPREBB!$A$10:$AF$281,MATCH($B$1&ROW($A79),TABPREBB!$AH$10:$AH$281,0),COLUMN()),\"\")","v":""},{"$f":"IFERROR(INDEX(TABPREBB!$A$10:$AF$281,MATCH($B$1&ROW($A79),TABPREBB!$AH$10:$AH$281,0),COLUMN()),\"\")","v":""},{"$f":"IFERROR(INDEX(TABPREBB!$A$10:$AF$281,MATCH($B$1&ROW($A79),TABPREBB!$AH$10:$AH$281,0),COLUMN()),\"\")","v":""},{"$f":"IFERROR(INDEX(TABPREBB!$A$10:$AF$281,MATCH($B$1&ROW($A79),TABPREBB!$AH$10:$AH$281,0),COLUMN()),\"\")","v":""},{"$f":"IFERROR(INDEX(TABPREBB!$A$10:$AF$281,MATCH($B$1&ROW($A79),TABPREBB!$AH$10:$AH$281,0),COLUMN()),\"\")","v":""},{"$f":"IFERROR(INDEX(TABPREBB!$A$10:$AF$281,MATCH($B$1&ROW($A79),TABPREBB!$AH$10:$AH$281,0),COLUMN()),\"\")","v":""},{"$f":"IFERROR(INDEX(TABPREBB!$A$10:$AF$281,MATCH($B$1&ROW($A79),TABPREBB!$AH$10:$AH$281,0),COLUMN()),\"\")","v":""},{"$f":"IFERROR(INDEX(TABPREBB!$A$10:$AF$281,MATCH($B$1&ROW($A79),TABPREBB!$AH$10:$AH$281,0),COLUMN()),\"\")","v":""},{"$f":"IFERROR(INDEX(TABPREBB!$A$10:$AF$281,MATCH($B$1&ROW($A79),TABPREBB!$AH$10:$AH$281,0),COLUMN()),\"\")","v":""}]
[{"$f":"IFERROR(INDEX(TABPREBB!$A$10:$AF$281,MATCH($B$1&ROW($A80),TABPREBB!$AH$10:$AH$281,0),COLUMN()),\"\")","v":""},{"$f":"IFERROR(INDEX(TABPREBB!$A$10:$AF$281,MATCH($B$1&ROW($A80),TABPREBB!$AH$10:$AH$281,0),COLUMN()),\"\")","v":""},{"$f":"IFERROR(INDEX(TABPREBB!$A$10:$AF$281,MATCH($B$1&ROW($A80),TABPREBB!$AH$10:$AH$281,0),COLUMN()),\"\")","v":""},{"$f":"IFERROR(INDEX(TABPREBB!$A$10:$AF$281,MATCH($B$1&ROW($A80),TABPREBB!$AH$10:$AH$281,0),COLUMN()),\"\")","v":""},{"$f":"IFERROR(INDEX(TABPREBB!$A$10:$AF$281,MATCH($B$1&ROW($A80),TABPREBB!$AH$10:$AH$281,0),COLUMN()),\"\")","v":""},{"$f":"IFERROR(INDEX(TABPREBB!$A$10:$AF$281,MATCH($B$1&ROW($A80),TABPREBB!$AH$10:$AH$281,0),COLUMN()),\"\")","v":""},{"$f":"IFERROR(INDEX(TABPREBB!$A$10:$AF$281,MATCH($B$1&ROW($A80),TABPREBB!$AH$10:$AH$281,0),COLUMN()),\"\")","v":""},{"$f":"IFERROR(INDEX(TABPREBB!$A$10:$AF$281,MATCH($B$1&ROW($A80),TABPREBB!$AH$10:$AH$281,0),COLUMN()),\"\")","v":""},{"$f":"IFERROR(INDEX(TABPREBB!$A$10:$AF$281,MATCH($B$1&ROW($A80),TABPREBB!$AH$10:$AH$281,0),COLUMN()),\"\")","v":""},{"$f":"IFERROR(INDEX(TABPREBB!$A$10:$AF$281,MATCH($B$1&ROW($A80),TABPREBB!$AH$10:$AH$281,0),COLUMN()),\"\")","v":""},{"$f":"IFERROR(INDEX(TABPREBB!$A$10:$AF$281,MATCH($B$1&ROW($A80),TABPREBB!$AH$10:$AH$281,0),COLUMN()),\"\")","v":""},{"$f":"IFERROR(INDEX(TABPREBB!$A$10:$AF$281,MATCH($B$1&ROW($A80),TABPREBB!$AH$10:$AH$281,0),COLUMN()),\"\")","v":""},{"$f":"IFERROR(INDEX(TABPREBB!$A$10:$AF$281,MATCH($B$1&ROW($A80),TABPREBB!$AH$10:$AH$281,0),COLUMN()),\"\")","v":""},{"$f":"IFERROR(INDEX(TABPREBB!$A$10:$AF$281,MATCH($B$1&ROW($A80),TABPREBB!$AH$10:$AH$281,0),COLUMN()),\"\")","v":""},{"$f":"IFERROR(INDEX(TABPREBB!$A$10:$AF$281,MATCH($B$1&ROW($A80),TABPREBB!$AH$10:$AH$281,0),COLUMN()),\"\")","v":""},{"$f":"IFERROR(INDEX(TABPREBB!$A$10:$AF$281,MATCH($B$1&ROW($A80),TABPREBB!$AH$10:$AH$281,0),COLUMN()),\"\")","v":""},{"$f":"IFERROR(INDEX(TABPREBB!$A$10:$AF$281,MATCH($B$1&ROW($A80),TABPREBB!$AH$10:$AH$281,0),COLUMN()),\"\")","v":""},{"$f":"IFERROR(INDEX(TABPREBB!$A$10:$AF$281,MATCH($B$1&ROW($A80),TABPREBB!$AH$10:$AH$281,0),COLUMN()),\"\")","v":""},{"$f":"IFERROR(INDEX(TABPREBB!$A$10:$AF$281,MATCH($B$1&ROW($A80),TABPREBB!$AH$10:$AH$281,0),COLUMN()),\"\")","v":""},{"$f":"IFERROR(INDEX(TABPREBB!$A$10:$AF$281,MATCH($B$1&ROW($A80),TABPREBB!$AH$10:$AH$281,0),COLUMN()),\"\")","v":""},{"$f":"IFERROR(INDEX(TABPREBB!$A$10:$AF$281,MATCH($B$1&ROW($A80),TABPREBB!$AH$10:$AH$281,0),COLUMN()),\"\")","v":""},{"$f":"IFERROR(INDEX(TABPREBB!$A$10:$AF$281,MATCH($B$1&ROW($A80),TABPREBB!$AH$10:$AH$281,0),COLUMN()),\"\")","v":""},{"$f":"IFERROR(INDEX(TABPREBB!$A$10:$AF$281,MATCH($B$1&ROW($A80),TABPREBB!$AH$10:$AH$281,0),COLUMN()),\"\")","v":""},{"$f":"IFERROR(INDEX(TABPREBB!$A$10:$AF$281,MATCH($B$1&ROW($A80),TABPREBB!$AH$10:$AH$281,0),COLUMN()),\"\")","v":""},{"$f":"IFERROR(INDEX(TABPREBB!$A$10:$AF$281,MATCH($B$1&ROW($A80),TABPREBB!$AH$10:$AH$281,0),COLUMN()),\"\")","v":""},{"$f":"IFERROR(INDEX(TABPREBB!$A$10:$AF$281,MATCH($B$1&ROW($A80),TABPREBB!$AH$10:$AH$281,0),COLUMN()),\"\")","v":""},{"$f":"IFERROR(INDEX(TABPREBB!$A$10:$AF$281,MATCH($B$1&ROW($A80),TABPREBB!$AH$10:$AH$281,0),COLUMN()),\"\")","v":""},{"$f":"IFERROR(INDEX(TABPREBB!$A$10:$AF$281,MATCH($B$1&ROW($A80),TABPREBB!$AH$10:$AH$281,0),COLUMN()),\"\")","v":""},{"$f":"IFERROR(INDEX(TABPREBB!$A$10:$AF$281,MATCH($B$1&ROW($A80),TABPREBB!$AH$10:$AH$281,0),COLUMN()),\"\")","v":""},{"$f":"IFERROR(INDEX(TABPREBB!$A$10:$AF$281,MATCH($B$1&ROW($A80),TABPREBB!$AH$10:$AH$281,0),COLUMN()),\"\")","v":""},{"$f":"IFERROR(INDEX(TABPREBB!$A$10:$AF$281,MATCH($B$1&ROW($A80),TABPREBB!$AH$10:$AH$281,0),COLUMN()),\"\")","v":""},{"$f":"IFERROR(INDEX(TABPREBB!$A$10:$AF$281,MATCH($B$1&ROW($A80),TABPREBB!$AH$10:$AH$281,0),COLUMN()),\"\")","v":""}]
[{"$f":"IFERROR(INDEX(TABPREBB!$A$10:$AF$281,MATCH($B$1&ROW($A81),TABPREBB!$AH$10:$AH$281,0),COLUMN()),\"\")","v":""},{"$f":"IFERROR(INDEX(TABPREBB!$A$10:$AF$281,MATCH($B$1&ROW($A81),TABPREBB!$AH$10:$AH$281,0),COLUMN()),\"\")","v":""},{"$f":"IFERROR(INDEX(TABPREBB!$A$10:$AF$281,MATCH($B$1&ROW($A81),TABPREBB!$AH$10:$AH$281,0),COLUMN()),\"\")","v":""},{"$f":"IFERROR(INDEX(TABPREBB!$A$10:$AF$281,MATCH($B$1&ROW($A81),TABPREBB!$AH$10:$AH$281,0),COLUMN()),\"\")","v":""},{"$f":"IFERROR(INDEX(TABPREBB!$A$10:$AF$281,MATCH($B$1&ROW($A81),TABPREBB!$AH$10:$AH$281,0),COLUMN()),\"\")","v":""},{"$f":"IFERROR(INDEX(TABPREBB!$A$10:$AF$281,MATCH($B$1&ROW($A81),TABPREBB!$AH$10:$AH$281,0),COLUMN()),\"\")","v":""},{"$f":"IFERROR(INDEX(TABPREBB!$A$10:$AF$281,MATCH($B$1&ROW($A81),TABPREBB!$AH$10:$AH$281,0),COLUMN()),\"\")","v":""},{"$f":"IFERROR(INDEX(TABPREBB!$A$10:$AF$281,MATCH($B$1&ROW($A81),TABPREBB!$AH$10:$AH$281,0),COLUMN()),\"\")","v":""},{"$f":"IFERROR(INDEX(TABPREBB!$A$10:$AF$281,MATCH($B$1&ROW($A81),TABPREBB!$AH$10:$AH$281,0),COLUMN()),\"\")","v":""},{"$f":"IFERROR(INDEX(TABPREBB!$A$10:$AF$281,MATCH($B$1&ROW($A81),TABPREBB!$AH$10:$AH$281,0),COLUMN()),\"\")","v":""},{"$f":"IFERROR(INDEX(TABPREBB!$A$10:$AF$281,MATCH($B$1&ROW($A81),TABPREBB!$AH$10:$AH$281,0),COLUMN()),\"\")","v":""},{"$f":"IFERROR(INDEX(TABPREBB!$A$10:$AF$281,MATCH($B$1&ROW($A81),TABPREBB!$AH$10:$AH$281,0),COLUMN()),\"\")","v":""},{"$f":"IFERROR(INDEX(TABPREBB!$A$10:$AF$281,MATCH($B$1&ROW($A81),TABPREBB!$AH$10:$AH$281,0),COLUMN()),\"\")","v":""},{"$f":"IFERROR(INDEX(TABPREBB!$A$10:$AF$281,MATCH($B$1&ROW($A81),TABPREBB!$AH$10:$AH$281,0),COLUMN()),\"\")","v":""},{"$f":"IFERROR(INDEX(TABPREBB!$A$10:$AF$281,MATCH($B$1&ROW($A81),TABPREBB!$AH$10:$AH$281,0),COLUMN()),\"\")","v":""},{"$f":"IFERROR(INDEX(TABPREBB!$A$10:$AF$281,MATCH($B$1&ROW($A81),TABPREBB!$AH$10:$AH$281,0),COLUMN()),\"\")","v":""},{"$f":"IFERROR(INDEX(TABPREBB!$A$10:$AF$281,MATCH($B$1&ROW($A81),TABPREBB!$AH$10:$AH$281,0),COLUMN()),\"\")","v":""},{"$f":"IFERROR(INDEX(TABPREBB!$A$10:$AF$281,MATCH($B$1&ROW($A81),TABPREBB!$AH$10:$AH$281,0),COLUMN()),\"\")","v":""},{"$f":"IFERROR(INDEX(TABPREBB!$A$10:$AF$281,MATCH($B$1&ROW($A81),TABPREBB!$AH$10:$AH$281,0),COLUMN()),\"\")","v":""},{"$f":"IFERROR(INDEX(TABPREBB!$A$10:$AF$281,MATCH($B$1&ROW($A81),TABPREBB!$AH$10:$AH$281,0),COLUMN()),\"\")","v":""},{"$f":"IFERROR(INDEX(TABPREBB!$A$10:$AF$281,MATCH($B$1&ROW($A81),TABPREBB!$AH$10:$AH$281,0),COLUMN()),\"\")","v":""},{"$f":"IFERROR(INDEX(TABPREBB!$A$10:$AF$281,MATCH($B$1&ROW($A81),TABPREBB!$AH$10:$AH$281,0),COLUMN()),\"\")","v":""},{"$f":"IFERROR(INDEX(TABPREBB!$A$10:$AF$281,MATCH($B$1&ROW($A81),TABPREBB!$AH$10:$AH$281,0),COLUMN()),\"\")","v":""},{"$f":"IFERROR(INDEX(TABPREBB!$A$10:$AF$281,MATCH($B$1&ROW($A81),TABPREBB!$AH$10:$AH$281,0),COLUMN()),\"\")","v":""},{"$f":"IFERROR(INDEX(TABPREBB!$A$10:$AF$281,MATCH($B$1&ROW($A81),TABPREBB!$AH$10:$AH$281,0),COLUMN()),\"\")","v":""},{"$f":"IFERROR(INDEX(TABPREBB!$A$10:$AF$281,MATCH($B$1&ROW($A81),TABPREBB!$AH$10:$AH$281,0),COLUMN()),\"\")","v":""},{"$f":"IFERROR(INDEX(TABPREBB!$A$10:$AF$281,MATCH($B$1&ROW($A81),TABPREBB!$AH$10:$AH$281,0),COLUMN()),\"\")","v":""},{"$f":"IFERROR(INDEX(TABPREBB!$A$10:$AF$281,MATCH($B$1&ROW($A81),TABPREBB!$AH$10:$AH$281,0),COLUMN()),\"\")","v":""},{"$f":"IFERROR(INDEX(TABPREBB!$A$10:$AF$281,MATCH($B$1&ROW($A81),TABPREBB!$AH$10:$AH$281,0),COLUMN()),\"\")","v":""},{"$f":"IFERROR(INDEX(TABPREBB!$A$10:$AF$281,MATCH($B$1&ROW($A81),TABPREBB!$AH$10:$AH$281,0),COLUMN()),\"\")","v":""},{"$f":"IFERROR(INDEX(TABPREBB!$A$10:$AF$281,MATCH($B$1&ROW($A81),TABPREBB!$AH$10:$AH$281,0),COLUMN()),\"\")","v":""},{"$f":"IFERROR(INDEX(TABPREBB!$A$10:$AF$281,MATCH($B$1&ROW($A81),TABPREBB!$AH$10:$AH$281,0),COLUMN()),\"\")","v":""}]
[{"$f":"IFERROR(INDEX(TABPREBB!$A$10:$AF$281,MATCH($B$1&ROW($A82),TABPREBB!$AH$10:$AH$281,0),COLUMN()),\"\")","v":""},{"$f":"IFERROR(INDEX(TABPREBB!$A$10:$AF$281,MATCH($B$1&ROW($A82),TABPREBB!$AH$10:$AH$281,0),COLUMN()),\"\")","v":""},{"$f":"IFERROR(INDEX(TABPREBB!$A$10:$AF$281,MATCH($B$1&ROW($A82),TABPREBB!$AH$10:$AH$281,0),COLUMN()),\"\")","v":""},{"$f":"IFERROR(INDEX(TABPREBB!$A$10:$AF$281,MATCH($B$1&ROW($A82),TABPREBB!$AH$10:$AH$281,0),COLUMN()),\"\")","v":""},{"$f":"IFERROR(INDEX(TABPREBB!$A$10:$AF$281,MATCH($B$1&ROW($A82),TABPREBB!$AH$10:$AH$281,0),COLUMN()),\"\")","v":""},{"$f":"IFERROR(INDEX(TABPREBB!$A$10:$AF$281,MATCH($B$1&ROW($A82),TABPREBB!$AH$10:$AH$281,0),COLUMN()),\"\")","v":""},{"$f":"IFERROR(INDEX(TABPREBB!$A$10:$AF$281,MATCH($B$1&ROW($A82),TABPREBB!$AH$10:$AH$281,0),COLUMN()),\"\")","v":""},{"$f":"IFERROR(INDEX(TABPREBB!$A$10:$AF$281,MATCH($B$1&ROW($A82),TABPREBB!$AH$10:$AH$281,0),COLUMN()),\"\")","v":""},{"$f":"IFERROR(INDEX(TABPREBB!$A$10:$AF$281,MATCH($B$1&ROW($A82),TABPREBB!$AH$10:$AH$281,0),COLUMN()),\"\")","v":""},{"$f":"IFERROR(INDEX(TABPREBB!$A$10:$AF$281,MATCH($B$1&ROW($A82),TABPREBB!$AH$10:$AH$281,0),COLUMN()),\"\")","v":""},{"$f":"IFERROR(INDEX(TABPREBB!$A$10:$AF$281,MATCH($B$1&ROW($A82),TABPREBB!$AH$10:$AH$281,0),COLUMN()),\"\")","v":""},{"$f":"IFERROR(INDEX(TABPREBB!$A$10:$AF$281,MATCH($B$1&ROW($A82),TABPREBB!$AH$10:$AH$281,0),COLUMN()),\"\")","v":""},{"$f":"IFERROR(INDEX(TABPREBB!$A$10:$AF$281,MATCH($B$1&ROW($A82),TABPREBB!$AH$10:$AH$281,0),COLUMN()),\"\")","v":""},{"$f":"IFERROR(INDEX(TABPREBB!$A$10:$AF$281,MATCH($B$1&ROW($A82),TABPREBB!$AH$10:$AH$281,0),COLUMN()),\"\")","v":""},{"$f":"IFERROR(INDEX(TABPREBB!$A$10:$AF$281,MATCH($B$1&ROW($A82),TABPREBB!$AH$10:$AH$281,0),COLUMN()),\"\")","v":""},{"$f":"IFERROR(INDEX(TABPREBB!$A$10:$AF$281,MATCH($B$1&ROW($A82),TABPREBB!$AH$10:$AH$281,0),COLUMN()),\"\")","v":""},{"$f":"IFERROR(INDEX(TABPREBB!$A$10:$AF$281,MATCH($B$1&ROW($A82),TABPREBB!$AH$10:$AH$281,0),COLUMN()),\"\")","v":""},{"$f":"IFERROR(INDEX(TABPREBB!$A$10:$AF$281,MATCH($B$1&ROW($A82),TABPREBB!$AH$10:$AH$281,0),COLUMN()),\"\")","v":""},{"$f":"IFERROR(INDEX(TABPREBB!$A$10:$AF$281,MATCH($B$1&ROW($A82),TABPREBB!$AH$10:$AH$281,0),COLUMN()),\"\")","v":""},{"$f":"IFERROR(INDEX(TABPREBB!$A$10:$AF$281,MATCH($B$1&ROW($A82),TABPREBB!$AH$10:$AH$281,0),COLUMN()),\"\")","v":""},{"$f":"IFERROR(INDEX(TABPREBB!$A$10:$AF$281,MATCH($B$1&ROW($A82),TABPREBB!$AH$10:$AH$281,0),COLUMN()),\"\")","v":""},{"$f":"IFERROR(INDEX(TABPREBB!$A$10:$AF$281,MATCH($B$1&ROW($A82),TABPREBB!$AH$10:$AH$281,0),COLUMN()),\"\")","v":""},{"$f":"IFERROR(INDEX(TABPREBB!$A$10:$AF$281,MATCH($B$1&ROW($A82),TABPREBB!$AH$10:$AH$281,0),COLUMN()),\"\")","v":""},{"$f":"IFERROR(INDEX(TABPREBB!$A$10:$AF$281,MATCH($B$1&ROW($A82),TABPREBB!$AH$10:$AH$281,0),COLUMN()),\"\")","v":""},{"$f":"IFERROR(INDEX(TABPREBB!$A$10:$AF$281,MATCH($B$1&ROW($A82),TABPREBB!$AH$10:$AH$281,0),COLUMN()),\"\")","v":""},{"$f":"IFERROR(INDEX(TABPREBB!$A$10:$AF$281,MATCH($B$1&ROW($A82),TABPREBB!$AH$10:$AH$281,0),COLUMN()),\"\")","v":""},{"$f":"IFERROR(INDEX(TABPREBB!$A$10:$AF$281,MATCH($B$1&ROW($A82),TABPREBB!$AH$10:$AH$281,0),COLUMN()),\"\")","v":""},{"$f":"IFERROR(INDEX(TABPREBB!$A$10:$AF$281,MATCH($B$1&ROW($A82),TABPREBB!$AH$10:$AH$281,0),COLUMN()),\"\")","v":""},{"$f":"IFERROR(INDEX(TABPREBB!$A$10:$AF$281,MATCH($B$1&ROW($A82),TABPREBB!$AH$10:$AH$281,0),COLUMN()),\"\")","v":""},{"$f":"IFERROR(INDEX(TABPREBB!$A$10:$AF$281,MATCH($B$1&ROW($A82),TABPREBB!$AH$10:$AH$281,0),COLUMN()),\"\")","v":""},{"$f":"IFERROR(INDEX(TABPREBB!$A$10:$AF$281,MATCH($B$1&ROW($A82),TABPREBB!$AH$10:$AH$281,0),COLUMN()),\"\")","v":""},{"$f":"IFERROR(INDEX(TABPREBB!$A$10:$AF$281,MATCH($B$1&ROW($A82),TABPREBB!$AH$10:$AH$281,0),COLUMN()),\"\")","v":""}]
[{"$f":"IFERROR(INDEX(TABPREBB!$A$10:$AF$281,MATCH($B$1&ROW($A83),TABPREBB!$AH$10:$AH$281,0),COLUMN()),\"\")","v":""},{"$f":"IFERROR(INDEX(TABPREBB!$A$10:$AF$281,MATCH($B$1&ROW($A83),TABPREBB!$AH$10:$AH$281,0),COLUMN()),\"\")","v":""},{"$f":"IFERROR(INDEX(TABPREBB!$A$10:$AF$281,MATCH($B$1&ROW($A83),TABPREBB!$AH$10:$AH$281,0),COLUMN()),\"\")","v":""},{"$f":"IFERROR(INDEX(TABPREBB!$A$10:$AF$281,MATCH($B$1&ROW($A83),TABPREBB!$AH$10:$AH$281,0),COLUMN()),\"\")","v":""},{"$f":"IFERROR(INDEX(TABPREBB!$A$10:$AF$281,MATCH($B$1&ROW($A83),TABPREBB!$AH$10:$AH$281,0),COLUMN()),\"\")","v":""},{"$f":"IFERROR(INDEX(TABPREBB!$A$10:$AF$281,MATCH($B$1&ROW($A83),TABPREBB!$AH$10:$AH$281,0),COLUMN()),\"\")","v":""},{"$f":"IFERROR(INDEX(TABPREBB!$A$10:$AF$281,MATCH($B$1&ROW($A83),TABPREBB!$AH$10:$AH$281,0),COLUMN()),\"\")","v":""},{"$f":"IFERROR(INDEX(TABPREBB!$A$10:$AF$281,MATCH($B$1&ROW($A83),TABPREBB!$AH$10:$AH$281,0),COLUMN()),\"\")","v":""},{"$f":"IFERROR(INDEX(TABPREBB!$A$10:$AF$281,MATCH($B$1&ROW($A83),TABPREBB!$AH$10:$AH$281,0),COLUMN()),\"\")","v":""},{"$f":"IFERROR(INDEX(TABPREBB!$A$10:$AF$281,MATCH($B$1&ROW($A83),TABPREBB!$AH$10:$AH$281,0),COLUMN()),\"\")","v":""},{"$f":"IFERROR(INDEX(TABPREBB!$A$10:$AF$281,MATCH($B$1&ROW($A83),TABPREBB!$AH$10:$AH$281,0),COLUMN()),\"\")","v":""},{"$f":"IFERROR(INDEX(TABPREBB!$A$10:$AF$281,MATCH($B$1&ROW($A83),TABPREBB!$AH$10:$AH$281,0),COLUMN()),\"\")","v":""},{"$f":"IFERROR(INDEX(TABPREBB!$A$10:$AF$281,MATCH($B$1&ROW($A83),TABPREBB!$AH$10:$AH$281,0),COLUMN()),\"\")","v":""},{"$f":"IFERROR(INDEX(TABPREBB!$A$10:$AF$281,MATCH($B$1&ROW($A83),TABPREBB!$AH$10:$AH$281,0),COLUMN()),\"\")","v":""},{"$f":"IFERROR(INDEX(TABPREBB!$A$10:$AF$281,MATCH($B$1&ROW($A83),TABPREBB!$AH$10:$AH$281,0),COLUMN()),\"\")","v":""},{"$f":"IFERROR(INDEX(TABPREBB!$A$10:$AF$281,MATCH($B$1&ROW($A83),TABPREBB!$AH$10:$AH$281,0),COLUMN()),\"\")","v":""},{"$f":"IFERROR(INDEX(TABPREBB!$A$10:$AF$281,MATCH($B$1&ROW($A83),TABPREBB!$AH$10:$AH$281,0),COLUMN()),\"\")","v":""},{"$f":"IFERROR(INDEX(TABPREBB!$A$10:$AF$281,MATCH($B$1&ROW($A83),TABPREBB!$AH$10:$AH$281,0),COLUMN()),\"\")","v":""},{"$f":"IFERROR(INDEX(TABPREBB!$A$10:$AF$281,MATCH($B$1&ROW($A83),TABPREBB!$AH$10:$AH$281,0),COLUMN()),\"\")","v":""},{"$f":"IFERROR(INDEX(TABPREBB!$A$10:$AF$281,MATCH($B$1&ROW($A83),TABPREBB!$AH$10:$AH$281,0),COLUMN()),\"\")","v":""},{"$f":"IFERROR(INDEX(TABPREBB!$A$10:$AF$281,MATCH($B$1&ROW($A83),TABPREBB!$AH$10:$AH$281,0),COLUMN()),\"\")","v":""},{"$f":"IFERROR(INDEX(TABPREBB!$A$10:$AF$281,MATCH($B$1&ROW($A83),TABPREBB!$AH$10:$AH$281,0),COLUMN()),\"\")","v":""},{"$f":"IFERROR(INDEX(TABPREBB!$A$10:$AF$281,MATCH($B$1&ROW($A83),TABPREBB!$AH$10:$AH$281,0),COLUMN()),\"\")","v":""},{"$f":"IFERROR(INDEX(TABPREBB!$A$10:$AF$281,MATCH($B$1&ROW($A83),TABPREBB!$AH$10:$AH$281,0),COLUMN()),\"\")","v":""},{"$f":"IFERROR(INDEX(TABPREBB!$A$10:$AF$281,MATCH($B$1&ROW($A83),TABPREBB!$AH$10:$AH$281,0),COLUMN()),\"\")","v":""},{"$f":"IFERROR(INDEX(TABPREBB!$A$10:$AF$281,MATCH($B$1&ROW($A83),TABPREBB!$AH$10:$AH$281,0),COLUMN()),\"\")","v":""},{"$f":"IFERROR(INDEX(TABPREBB!$A$10:$AF$281,MATCH($B$1&ROW($A83),TABPREBB!$AH$10:$AH$281,0),COLUMN()),\"\")","v":""},{"$f":"IFERROR(INDEX(TABPREBB!$A$10:$AF$281,MATCH($B$1&ROW($A83),TABPREBB!$AH$10:$AH$281,0),COLUMN()),\"\")","v":""},{"$f":"IFERROR(INDEX(TABPREBB!$A$10:$AF$281,MATCH($B$1&ROW($A83),TABPREBB!$AH$10:$AH$281,0),COLUMN()),\"\")","v":""},{"$f":"IFERROR(INDEX(TABPREBB!$A$10:$AF$281,MATCH($B$1&ROW($A83),TABPREBB!$AH$10:$AH$281,0),COLUMN()),\"\")","v":""},{"$f":"IFERROR(INDEX(TABPREBB!$A$10:$AF$281,MATCH($B$1&ROW($A83),TABPREBB!$AH$10:$AH$281,0),COLUMN()),\"\")","v":""},{"$f":"IFERROR(INDEX(TABPREBB!$A$10:$AF$281,MATCH($B$1&ROW($A83),TABPREBB!$AH$10:$AH$281,0),COLUMN()),\"\")","v":""}]
[{"$f":"IFERROR(INDEX(TABPREBB!$A$10:$AF$281,MATCH($B$1&ROW($A84),TABPREBB!$AH$10:$AH$281,0),COLUMN()),\"\")","v":""},{"$f":"IFERROR(INDEX(TABPREBB!$A$10:$AF$281,MATCH($B$1&ROW($A84),TABPREBB!$AH$10:$AH$281,0),COLUMN()),\"\")","v":""},{"$f":"IFERROR(INDEX(TABPREBB!$A$10:$AF$281,MATCH($B$1&ROW($A84),TABPREBB!$AH$10:$AH$281,0),COLUMN()),\"\")","v":""},{"$f":"IFERROR(INDEX(TABPREBB!$A$10:$AF$281,MATCH($B$1&ROW($A84),TABPREBB!$AH$10:$AH$281,0),COLUMN()),\"\")","v":""},{"$f":"IFERROR(INDEX(TABPREBB!$A$10:$AF$281,MATCH($B$1&ROW($A84),TABPREBB!$AH$10:$AH$281,0),COLUMN()),\"\")","v":""},{"$f":"IFERROR(INDEX(TABPREBB!$A$10:$AF$281,MATCH($B$1&ROW($A84),TABPREBB!$AH$10:$AH$281,0),COLUMN()),\"\")","v":""},{"$f":"IFERROR(INDEX(TABPREBB!$A$10:$AF$281,MATCH($B$1&ROW($A84),TABPREBB!$AH$10:$AH$281,0),COLUMN()),\"\")","v":""},{"$f":"IFERROR(INDEX(TABPREBB!$A$10:$AF$281,MATCH($B$1&ROW($A84),TABPREBB!$AH$10:$AH$281,0),COLUMN()),\"\")","v":""},{"$f":"IFERROR(INDEX(TABPREBB!$A$10:$AF$281,MATCH($B$1&ROW($A84),TABPREBB!$AH$10:$AH$281,0),COLUMN()),\"\")","v":""},{"$f":"IFERROR(INDEX(TABPREBB!$A$10:$AF$281,MATCH($B$1&ROW($A84),TABPREBB!$AH$10:$AH$281,0),COLUMN()),\"\")","v":""},{"$f":"IFERROR(INDEX(TABPREBB!$A$10:$AF$281,MATCH($B$1&ROW($A84),TABPREBB!$AH$10:$AH$281,0),COLUMN()),\"\")","v":""},{"$f":"IFERROR(INDEX(TABPREBB!$A$10:$AF$281,MATCH($B$1&ROW($A84),TABPREBB!$AH$10:$AH$281,0),COLUMN()),\"\")","v":""},{"$f":"IFERROR(INDEX(TABPREBB!$A$10:$AF$281,MATCH($B$1&ROW($A84),TABPREBB!$AH$10:$AH$281,0),COLUMN()),\"\")","v":""},{"$f":"IFERROR(INDEX(TABPREBB!$A$10:$AF$281,MATCH($B$1&ROW($A84),TABPREBB!$AH$10:$AH$281,0),COLUMN()),\"\")","v":""},{"$f":"IFERROR(INDEX(TABPREBB!$A$10:$AF$281,MATCH($B$1&ROW($A84),TABPREBB!$AH$10:$AH$281,0),COLUMN()),\"\")","v":""},{"$f":"IFERROR(INDEX(TABPREBB!$A$10:$AF$281,MATCH($B$1&ROW($A84),TABPREBB!$AH$10:$AH$281,0),COLUMN()),\"\")","v":""},{"$f":"IFERROR(INDEX(TABPREBB!$A$10:$AF$281,MATCH($B$1&ROW($A84),TABPREBB!$AH$10:$AH$281,0),COLUMN()),\"\")","v":""},{"$f":"IFERROR(INDEX(TABPREBB!$A$10:$AF$281,MATCH($B$1&ROW($A84),TABPREBB!$AH$10:$AH$281,0),COLUMN()),\"\")","v":""},{"$f":"IFERROR(INDEX(TABPREBB!$A$10:$AF$281,MATCH($B$1&ROW($A84),TABPREBB!$AH$10:$AH$281,0),COLUMN()),\"\")","v":""},{"$f":"IFERROR(INDEX(TABPREBB!$A$10:$AF$281,MATCH($B$1&ROW($A84),TABPREBB!$AH$10:$AH$281,0),COLUMN()),\"\")","v":""},{"$f":"IFERROR(INDEX(TABPREBB!$A$10:$AF$281,MATCH($B$1&ROW($A84),TABPREBB!$AH$10:$AH$281,0),COLUMN()),\"\")","v":""},{"$f":"IFERROR(INDEX(TABPREBB!$A$10:$AF$281,MATCH($B$1&ROW($A84),TABPREBB!$AH$10:$AH$281,0),COLUMN()),\"\")","v":""},{"$f":"IFERROR(INDEX(TABPREBB!$A$10:$AF$281,MATCH($B$1&ROW($A84),TABPREBB!$AH$10:$AH$281,0),COLUMN()),\"\")","v":""},{"$f":"IFERROR(INDEX(TABPREBB!$A$10:$AF$281,MATCH($B$1&ROW($A84),TABPREBB!$AH$10:$AH$281,0),COLUMN()),\"\")","v":""},{"$f":"IFERROR(INDEX(TABPREBB!$A$10:$AF$281,MATCH($B$1&ROW($A84),TABPREBB!$AH$10:$AH$281,0),COLUMN()),\"\")","v":""},{"$f":"IFERROR(INDEX(TABPREBB!$A$10:$AF$281,MATCH($B$1&ROW($A84),TABPREBB!$AH$10:$AH$281,0),COLUMN()),\"\")","v":""},{"$f":"IFERROR(INDEX(TABPREBB!$A$10:$AF$281,MATCH($B$1&ROW($A84),TABPREBB!$AH$10:$AH$281,0),COLUMN()),\"\")","v":""},{"$f":"IFERROR(INDEX(TABPREBB!$A$10:$AF$281,MATCH($B$1&ROW($A84),TABPREBB!$AH$10:$AH$281,0),COLUMN()),\"\")","v":""},{"$f":"IFERROR(INDEX(TABPREBB!$A$10:$AF$281,MATCH($B$1&ROW($A84),TABPREBB!$AH$10:$AH$281,0),COLUMN()),\"\")","v":""},{"$f":"IFERROR(INDEX(TABPREBB!$A$10:$AF$281,MATCH($B$1&ROW($A84),TABPREBB!$AH$10:$AH$281,0),COLUMN()),\"\")","v":""},{"$f":"IFERROR(INDEX(TABPREBB!$A$10:$AF$281,MATCH($B$1&ROW($A84),TABPREBB!$AH$10:$AH$281,0),COLUMN()),\"\")","v":""},{"$f":"IFERROR(INDEX(TABPREBB!$A$10:$AF$281,MATCH($B$1&ROW($A84),TABPREBB!$AH$10:$AH$281,0),COLUMN()),\"\")","v":""}]
[{"$f":"IFERROR(INDEX(TABPREBB!$A$10:$AF$281,MATCH($B$1&ROW($A85),TABPREBB!$AH$10:$AH$281,0),COLUMN()),\"\")","v":""},{"$f":"IFERROR(INDEX(TABPREBB!$A$10:$AF$281,MATCH($B$1&ROW($A85),TABPREBB!$AH$10:$AH$281,0),COLUMN()),\"\")","v":""},{"$f":"IFERROR(INDEX(TABPREBB!$A$10:$AF$281,MATCH($B$1&ROW($A85),TABPREBB!$AH$10:$AH$281,0),COLUMN()),\"\")","v":""},{"$f":"IFERROR(INDEX(TABPREBB!$A$10:$AF$281,MATCH($B$1&ROW($A85),TABPREBB!$AH$10:$AH$281,0),COLUMN()),\"\")","v":""},{"$f":"IFERROR(INDEX(TABPREBB!$A$10:$AF$281,MATCH($B$1&ROW($A85),TABPREBB!$AH$10:$AH$281,0),COLUMN()),\"\")","v":""},{"$f":"IFERROR(INDEX(TABPREBB!$A$10:$AF$281,MATCH($B$1&ROW($A85),TABPREBB!$AH$10:$AH$281,0),COLUMN()),\"\")","v":""},{"$f":"IFERROR(INDEX(TABPREBB!$A$10:$AF$281,MATCH($B$1&ROW($A85),TABPREBB!$AH$10:$AH$281,0),COLUMN()),\"\")","v":""},{"$f":"IFERROR(INDEX(TABPREBB!$A$10:$AF$281,MATCH($B$1&ROW($A85),TABPREBB!$AH$10:$AH$281,0),COLUMN()),\"\")","v":""},{"$f":"IFERROR(INDEX(TABPREBB!$A$10:$AF$281,MATCH($B$1&ROW($A85),TABPREBB!$AH$10:$AH$281,0),COLUMN()),\"\")","v":""},{"$f":"IFERROR(INDEX(TABPREBB!$A$10:$AF$281,MATCH($B$1&ROW($A85),TABPREBB!$AH$10:$AH$281,0),COLUMN()),\"\")","v":""},{"$f":"IFERROR(INDEX(TABPREBB!$A$10:$AF$281,MATCH($B$1&ROW($A85),TABPREBB!$AH$10:$AH$281,0),COLUMN()),\"\")","v":""},{"$f":"IFERROR(INDEX(TABPREBB!$A$10:$AF$281,MATCH($B$1&ROW($A85),TABPREBB!$AH$10:$AH$281,0),COLUMN()),\"\")","v":""},{"$f":"IFERROR(INDEX(TABPREBB!$A$10:$AF$281,MATCH($B$1&ROW($A85),TABPREBB!$AH$10:$AH$281,0),COLUMN()),\"\")","v":""},{"$f":"IFERROR(INDEX(TABPREBB!$A$10:$AF$281,MATCH($B$1&ROW($A85),TABPREBB!$AH$10:$AH$281,0),COLUMN()),\"\")","v":""},{"$f":"IFERROR(INDEX(TABPREBB!$A$10:$AF$281,MATCH($B$1&ROW($A85),TABPREBB!$AH$10:$AH$281,0),COLUMN()),\"\")","v":""},{"$f":"IFERROR(INDEX(TABPREBB!$A$10:$AF$281,MATCH($B$1&ROW($A85),TABPREBB!$AH$10:$AH$281,0),COLUMN()),\"\")","v":""},{"$f":"IFERROR(INDEX(TABPREBB!$A$10:$AF$281,MATCH($B$1&ROW($A85),TABPREBB!$AH$10:$AH$281,0),COLUMN()),\"\")","v":""},{"$f":"IFERROR(INDEX(TABPREBB!$A$10:$AF$281,MATCH($B$1&ROW($A85),TABPREBB!$AH$10:$AH$281,0),COLUMN()),\"\")","v":""},{"$f":"IFERROR(INDEX(TABPREBB!$A$10:$AF$281,MATCH($B$1&ROW($A85),TABPREBB!$AH$10:$AH$281,0),COLUMN()),\"\")","v":""},{"$f":"IFERROR(INDEX(TABPREBB!$A$10:$AF$281,MATCH($B$1&ROW($A85),TABPREBB!$AH$10:$AH$281,0),COLUMN()),\"\")","v":""},{"$f":"IFERROR(INDEX(TABPREBB!$A$10:$AF$281,MATCH($B$1&ROW($A85),TABPREBB!$AH$10:$AH$281,0),COLUMN()),\"\")","v":""},{"$f":"IFERROR(INDEX(TABPREBB!$A$10:$AF$281,MATCH($B$1&ROW($A85),TABPREBB!$AH$10:$AH$281,0),COLUMN()),\"\")","v":""},{"$f":"IFERROR(INDEX(TABPREBB!$A$10:$AF$281,MATCH($B$1&ROW($A85),TABPREBB!$AH$10:$AH$281,0),COLUMN()),\"\")","v":""},{"$f":"IFERROR(INDEX(TABPREBB!$A$10:$AF$281,MATCH($B$1&ROW($A85),TABPREBB!$AH$10:$AH$281,0),COLUMN()),\"\")","v":""},{"$f":"IFERROR(INDEX(TABPREBB!$A$10:$AF$281,MATCH($B$1&ROW($A85),TABPREBB!$AH$10:$AH$281,0),COLUMN()),\"\")","v":""},{"$f":"IFERROR(INDEX(TABPREBB!$A$10:$AF$281,MATCH($B$1&ROW($A85),TABPREBB!$AH$10:$AH$281,0),COLUMN()),\"\")","v":""},{"$f":"IFERROR(INDEX(TABPREBB!$A$10:$AF$281,MATCH($B$1&ROW($A85),TABPREBB!$AH$10:$AH$281,0),COLUMN()),\"\")","v":""},{"$f":"IFERROR(INDEX(TABPREBB!$A$10:$AF$281,MATCH($B$1&ROW($A85),TABPREBB!$AH$10:$AH$281,0),COLUMN()),\"\")","v":""},{"$f":"IFERROR(INDEX(TABPREBB!$A$10:$AF$281,MATCH($B$1&ROW($A85),TABPREBB!$AH$10:$AH$281,0),COLUMN()),\"\")","v":""},{"$f":"IFERROR(INDEX(TABPREBB!$A$10:$AF$281,MATCH($B$1&ROW($A85),TABPREBB!$AH$10:$AH$281,0),COLUMN()),\"\")","v":""},{"$f":"IFERROR(INDEX(TABPREBB!$A$10:$AF$281,MATCH($B$1&ROW($A85),TABPREBB!$AH$10:$AH$281,0),COLUMN()),\"\")","v":""},{"$f":"IFERROR(INDEX(TABPREBB!$A$10:$AF$281,MATCH($B$1&ROW($A85),TABPREBB!$AH$10:$AH$281,0),COLUMN()),\"\")","v":""}]
[{"$f":"IFERROR(INDEX(TABPREBB!$A$10:$AF$281,MATCH($B$1&ROW($A86),TABPREBB!$AH$10:$AH$281,0),COLUMN()),\"\")","v":""},{"$f":"IFERROR(INDEX(TABPREBB!$A$10:$AF$281,MATCH($B$1&ROW($A86),TABPREBB!$AH$10:$AH$281,0),COLUMN()),\"\")","v":""},{"$f":"IFERROR(INDEX(TABPREBB!$A$10:$AF$281,MATCH($B$1&ROW($A86),TABPREBB!$AH$10:$AH$281,0),COLUMN()),\"\")","v":""},{"$f":"IFERROR(INDEX(TABPREBB!$A$10:$AF$281,MATCH($B$1&ROW($A86),TABPREBB!$AH$10:$AH$281,0),COLUMN()),\"\")","v":""},{"$f":"IFERROR(INDEX(TABPREBB!$A$10:$AF$281,MATCH($B$1&ROW($A86),TABPREBB!$AH$10:$AH$281,0),COLUMN()),\"\")","v":""},{"$f":"IFERROR(INDEX(TABPREBB!$A$10:$AF$281,MATCH($B$1&ROW($A86),TABPREBB!$AH$10:$AH$281,0),COLUMN()),\"\")","v":""},{"$f":"IFERROR(INDEX(TABPREBB!$A$10:$AF$281,MATCH($B$1&ROW($A86),TABPREBB!$AH$10:$AH$281,0),COLUMN()),\"\")","v":""},{"$f":"IFERROR(INDEX(TABPREBB!$A$10:$AF$281,MATCH($B$1&ROW($A86),TABPREBB!$AH$10:$AH$281,0),COLUMN()),\"\")","v":""},{"$f":"IFERROR(INDEX(TABPREBB!$A$10:$AF$281,MATCH($B$1&ROW($A86),TABPREBB!$AH$10:$AH$281,0),COLUMN()),\"\")","v":""},{"$f":"IFERROR(INDEX(TABPREBB!$A$10:$AF$281,MATCH($B$1&ROW($A86),TABPREBB!$AH$10:$AH$281,0),COLUMN()),\"\")","v":""},{"$f":"IFERROR(INDEX(TABPREBB!$A$10:$AF$281,MATCH($B$1&ROW($A86),TABPREBB!$AH$10:$AH$281,0),COLUMN()),\"\")","v":""},{"$f":"IFERROR(INDEX(TABPREBB!$A$10:$AF$281,MATCH($B$1&ROW($A86),TABPREBB!$AH$10:$AH$281,0),COLUMN()),\"\")","v":""},{"$f":"IFERROR(INDEX(TABPREBB!$A$10:$AF$281,MATCH($B$1&ROW($A86),TABPREBB!$AH$10:$AH$281,0),COLUMN()),\"\")","v":""},{"$f":"IFERROR(INDEX(TABPREBB!$A$10:$AF$281,MATCH($B$1&ROW($A86),TABPREBB!$AH$10:$AH$281,0),COLUMN()),\"\")","v":""},{"$f":"IFERROR(INDEX(TABPREBB!$A$10:$AF$281,MATCH($B$1&ROW($A86),TABPREBB!$AH$10:$AH$281,0),COLUMN()),\"\")","v":""},{"$f":"IFERROR(INDEX(TABPREBB!$A$10:$AF$281,MATCH($B$1&ROW($A86),TABPREBB!$AH$10:$AH$281,0),COLUMN()),\"\")","v":""},{"$f":"IFERROR(INDEX(TABPREBB!$A$10:$AF$281,MATCH($B$1&ROW($A86),TABPREBB!$AH$10:$AH$281,0),COLUMN()),\"\")","v":""},{"$f":"IFERROR(INDEX(TABPREBB!$A$10:$AF$281,MATCH($B$1&ROW($A86),TABPREBB!$AH$10:$AH$281,0),COLUMN()),\"\")","v":""},{"$f":"IFERROR(INDEX(TABPREBB!$A$10:$AF$281,MATCH($B$1&ROW($A86),TABPREBB!$AH$10:$AH$281,0),COLUMN()),\"\")","v":""},{"$f":"IFERROR(INDEX(TABPREBB!$A$10:$AF$281,MATCH($B$1&ROW($A86),TABPREBB!$AH$10:$AH$281,0),COLUMN()),\"\")","v":""},{"$f":"IFERROR(INDEX(TABPREBB!$A$10:$AF$281,MATCH($B$1&ROW($A86),TABPREBB!$AH$10:$AH$281,0),COLUMN()),\"\")","v":""},{"$f":"IFERROR(INDEX(TABPREBB!$A$10:$AF$281,MATCH($B$1&ROW($A86),TABPREBB!$AH$10:$AH$281,0),COLUMN()),\"\")","v":""},{"$f":"IFERROR(INDEX(TABPREBB!$A$10:$AF$281,MATCH($B$1&ROW($A86),TABPREBB!$AH$10:$AH$281,0),COLUMN()),\"\")","v":""},{"$f":"IFERROR(INDEX(TABPREBB!$A$10:$AF$281,MATCH($B$1&ROW($A86),TABPREBB!$AH$10:$AH$281,0),COLUMN()),\"\")","v":""},{"$f":"IFERROR(INDEX(TABPREBB!$A$10:$AF$281,MATCH($B$1&ROW($A86),TABPREBB!$AH$10:$AH$281,0),COLUMN()),\"\")","v":""},{"$f":"IFERROR(INDEX(TABPREBB!$A$10:$AF$281,MATCH($B$1&ROW($A86),TABPREBB!$AH$10:$AH$281,0),COLUMN()),\"\")","v":""},{"$f":"IFERROR(INDEX(TABPREBB!$A$10:$AF$281,MATCH($B$1&ROW($A86),TABPREBB!$AH$10:$AH$281,0),COLUMN()),\"\")","v":""},{"$f":"IFERROR(INDEX(TABPREBB!$A$10:$AF$281,MATCH($B$1&ROW($A86),TABPREBB!$AH$10:$AH$281,0),COLUMN()),\"\")","v":""},{"$f":"IFERROR(INDEX(TABPREBB!$A$10:$AF$281,MATCH($B$1&ROW($A86),TABPREBB!$AH$10:$AH$281,0),COLUMN()),\"\")","v":""},{"$f":"IFERROR(INDEX(TABPREBB!$A$10:$AF$281,MATCH($B$1&ROW($A86),TABPREBB!$AH$10:$AH$281,0),COLUMN()),\"\")","v":""},{"$f":"IFERROR(INDEX(TABPREBB!$A$10:$AF$281,MATCH($B$1&ROW($A86),TABPREBB!$AH$10:$AH$281,0),COLUMN()),\"\")","v":""},{"$f":"IFERROR(INDEX(TABPREBB!$A$10:$AF$281,MATCH($B$1&ROW($A86),TABPREBB!$AH$10:$AH$281,0),COLUMN()),\"\")","v":""}]
[{"$f":"IFERROR(INDEX(TABPREBB!$A$10:$AF$281,MATCH($B$1&ROW($A87),TABPREBB!$AH$10:$AH$281,0),COLUMN()),\"\")","v":""},{"$f":"IFERROR(INDEX(TABPREBB!$A$10:$AF$281,MATCH($B$1&ROW($A87),TABPREBB!$AH$10:$AH$281,0),COLUMN()),\"\")","v":""},{"$f":"IFERROR(INDEX(TABPREBB!$A$10:$AF$281,MATCH($B$1&ROW($A87),TABPREBB!$AH$10:$AH$281,0),COLUMN()),\"\")","v":""},{"$f":"IFERROR(INDEX(TABPREBB!$A$10:$AF$281,MATCH($B$1&ROW($A87),TABPREBB!$AH$10:$AH$281,0),COLUMN()),\"\")","v":""},{"$f":"IFERROR(INDEX(TABPREBB!$A$10:$AF$281,MATCH($B$1&ROW($A87),TABPREBB!$AH$10:$AH$281,0),COLUMN()),\"\")","v":""},{"$f":"IFERROR(INDEX(TABPREBB!$A$10:$AF$281,MATCH($B$1&ROW($A87),TABPREBB!$AH$10:$AH$281,0),COLUMN()),\"\")","v":""},{"$f":"IFERROR(INDEX(TABPREBB!$A$10:$AF$281,MATCH($B$1&ROW($A87),TABPREBB!$AH$10:$AH$281,0),COLUMN()),\"\")","v":""},{"$f":"IFERROR(INDEX(TABPREBB!$A$10:$AF$281,MATCH($B$1&ROW($A87),TABPREBB!$AH$10:$AH$281,0),COLUMN()),\"\")","v":""},{"$f":"IFERROR(INDEX(TABPREBB!$A$10:$AF$281,MATCH($B$1&ROW($A87),TABPREBB!$AH$10:$AH$281,0),COLUMN()),\"\")","v":""},{"$f":"IFERROR(INDEX(TABPREBB!$A$10:$AF$281,MATCH($B$1&ROW($A87),TABPREBB!$AH$10:$AH$281,0),COLUMN()),\"\")","v":""},{"$f":"IFERROR(INDEX(TABPREBB!$A$10:$AF$281,MATCH($B$1&ROW($A87),TABPREBB!$AH$10:$AH$281,0),COLUMN()),\"\")","v":""},{"$f":"IFERROR(INDEX(TABPREBB!$A$10:$AF$281,MATCH($B$1&ROW($A87),TABPREBB!$AH$10:$AH$281,0),COLUMN()),\"\")","v":""},{"$f":"IFERROR(INDEX(TABPREBB!$A$10:$AF$281,MATCH($B$1&ROW($A87),TABPREBB!$AH$10:$AH$281,0),COLUMN()),\"\")","v":""},{"$f":"IFERROR(INDEX(TABPREBB!$A$10:$AF$281,MATCH($B$1&ROW($A87),TABPREBB!$AH$10:$AH$281,0),COLUMN()),\"\")","v":""},{"$f":"IFERROR(INDEX(TABPREBB!$A$10:$AF$281,MATCH($B$1&ROW($A87),TABPREBB!$AH$10:$AH$281,0),COLUMN()),\"\")","v":""},{"$f":"IFERROR(INDEX(TABPREBB!$A$10:$AF$281,MATCH($B$1&ROW($A87),TABPREBB!$AH$10:$AH$281,0),COLUMN()),\"\")","v":""},{"$f":"IFERROR(INDEX(TABPREBB!$A$10:$AF$281,MATCH($B$1&ROW($A87),TABPREBB!$AH$10:$AH$281,0),COLUMN()),\"\")","v":""},{"$f":"IFERROR(INDEX(TABPREBB!$A$10:$AF$281,MATCH($B$1&ROW($A87),TABPREBB!$AH$10:$AH$281,0),COLUMN()),\"\")","v":""},{"$f":"IFERROR(INDEX(TABPREBB!$A$10:$AF$281,MATCH($B$1&ROW($A87),TABPREBB!$AH$10:$AH$281,0),COLUMN()),\"\")","v":""},{"$f":"IFERROR(INDEX(TABPREBB!$A$10:$AF$281,MATCH($B$1&ROW($A87),TABPREBB!$AH$10:$AH$281,0),COLUMN()),\"\")","v":""},{"$f":"IFERROR(INDEX(TABPREBB!$A$10:$AF$281,MATCH($B$1&ROW($A87),TABPREBB!$AH$10:$AH$281,0),COLUMN()),\"\")","v":""},{"$f":"IFERROR(INDEX(TABPREBB!$A$10:$AF$281,MATCH($B$1&ROW($A87),TABPREBB!$AH$10:$AH$281,0),COLUMN()),\"\")","v":""},{"$f":"IFERROR(INDEX(TABPREBB!$A$10:$AF$281,MATCH($B$1&ROW($A87),TABPREBB!$AH$10:$AH$281,0),COLUMN()),\"\")","v":""},{"$f":"IFERROR(INDEX(TABPREBB!$A$10:$AF$281,MATCH($B$1&ROW($A87),TABPREBB!$AH$10:$AH$281,0),COLUMN()),\"\")","v":""},{"$f":"IFERROR(INDEX(TABPREBB!$A$10:$AF$281,MATCH($B$1&ROW($A87),TABPREBB!$AH$10:$AH$281,0),COLUMN()),\"\")","v":""},{"$f":"IFERROR(INDEX(TABPREBB!$A$10:$AF$281,MATCH($B$1&ROW($A87),TABPREBB!$AH$10:$AH$281,0),COLUMN()),\"\")","v":""},{"$f":"IFERROR(INDEX(TABPREBB!$A$10:$AF$281,MATCH($B$1&ROW($A87),TABPREBB!$AH$10:$AH$281,0),COLUMN()),\"\")","v":""},{"$f":"IFERROR(INDEX(TABPREBB!$A$10:$AF$281,MATCH($B$1&ROW($A87),TABPREBB!$AH$10:$AH$281,0),COLUMN()),\"\")","v":""},{"$f":"IFERROR(INDEX(TABPREBB!$A$10:$AF$281,MATCH($B$1&ROW($A87),TABPREBB!$AH$10:$AH$281,0),COLUMN()),\"\")","v":""},{"$f":"IFERROR(INDEX(TABPREBB!$A$10:$AF$281,MATCH($B$1&ROW($A87),TABPREBB!$AH$10:$AH$281,0),COLUMN()),\"\")","v":""},{"$f":"IFERROR(INDEX(TABPREBB!$A$10:$AF$281,MATCH($B$1&ROW($A87),TABPREBB!$AH$10:$AH$281,0),COLUMN()),\"\")","v":""},{"$f":"IFERROR(INDEX(TABPREBB!$A$10:$AF$281,MATCH($B$1&ROW($A87),TABPREBB!$AH$10:$AH$281,0),COLUMN()),\"\")","v":""}]
[{"$f":"IFERROR(INDEX(TABPREBB!$A$10:$AF$281,MATCH($B$1&ROW($A88),TABPREBB!$AH$10:$AH$281,0),COLUMN()),\"\")","v":""},{"$f":"IFERROR(INDEX(TABPREBB!$A$10:$AF$281,MATCH($B$1&ROW($A88),TABPREBB!$AH$10:$AH$281,0),COLUMN()),\"\")","v":""},{"$f":"IFERROR(INDEX(TABPREBB!$A$10:$AF$281,MATCH($B$1&ROW($A88),TABPREBB!$AH$10:$AH$281,0),COLUMN()),\"\")","v":""},{"$f":"IFERROR(INDEX(TABPREBB!$A$10:$AF$281,MATCH($B$1&ROW($A88),TABPREBB!$AH$10:$AH$281,0),COLUMN()),\"\")","v":""},{"$f":"IFERROR(INDEX(TABPREBB!$A$10:$AF$281,MATCH($B$1&ROW($A88),TABPREBB!$AH$10:$AH$281,0),COLUMN()),\"\")","v":""},{"$f":"IFERROR(INDEX(TABPREBB!$A$10:$AF$281,MATCH($B$1&ROW($A88),TABPREBB!$AH$10:$AH$281,0),COLUMN()),\"\")","v":""},{"$f":"IFERROR(INDEX(TABPREBB!$A$10:$AF$281,MATCH($B$1&ROW($A88),TABPREBB!$AH$10:$AH$281,0),COLUMN()),\"\")","v":""},{"$f":"IFERROR(INDEX(TABPREBB!$A$10:$AF$281,MATCH($B$1&ROW($A88),TABPREBB!$AH$10:$AH$281,0),COLUMN()),\"\")","v":""},{"$f":"IFERROR(INDEX(TABPREBB!$A$10:$AF$281,MATCH($B$1&ROW($A88),TABPREBB!$AH$10:$AH$281,0),COLUMN()),\"\")","v":""},{"$f":"IFERROR(INDEX(TABPREBB!$A$10:$AF$281,MATCH($B$1&ROW($A88),TABPREBB!$AH$10:$AH$281,0),COLUMN()),\"\")","v":""},{"$f":"IFERROR(INDEX(TABPREBB!$A$10:$AF$281,MATCH($B$1&ROW($A88),TABPREBB!$AH$10:$AH$281,0),COLUMN()),\"\")","v":""},{"$f":"IFERROR(INDEX(TABPREBB!$A$10:$AF$281,MATCH($B$1&ROW($A88),TABPREBB!$AH$10:$AH$281,0),COLUMN()),\"\")","v":""},{"$f":"IFERROR(INDEX(TABPREBB!$A$10:$AF$281,MATCH($B$1&ROW($A88),TABPREBB!$AH$10:$AH$281,0),COLUMN()),\"\")","v":""},{"$f":"IFERROR(INDEX(TABPREBB!$A$10:$AF$281,MATCH($B$1&ROW($A88),TABPREBB!$AH$10:$AH$281,0),COLUMN()),\"\")","v":""},{"$f":"IFERROR(INDEX(TABPREBB!$A$10:$AF$281,MATCH($B$1&ROW($A88),TABPREBB!$AH$10:$AH$281,0),COLUMN()),\"\")","v":""},{"$f":"IFERROR(INDEX(TABPREBB!$A$10:$AF$281,MATCH($B$1&ROW($A88),TABPREBB!$AH$10:$AH$281,0),COLUMN()),\"\")","v":""},{"$f":"IFERROR(INDEX(TABPREBB!$A$10:$AF$281,MATCH($B$1&ROW($A88),TABPREBB!$AH$10:$AH$281,0),COLUMN()),\"\")","v":""},{"$f":"IFERROR(INDEX(TABPREBB!$A$10:$AF$281,MATCH($B$1&ROW($A88),TABPREBB!$AH$10:$AH$281,0),COLUMN()),\"\")","v":""},{"$f":"IFERROR(INDEX(TABPREBB!$A$10:$AF$281,MATCH($B$1&ROW($A88),TABPREBB!$AH$10:$AH$281,0),COLUMN()),\"\")","v":""},{"$f":"IFERROR(INDEX(TABPREBB!$A$10:$AF$281,MATCH($B$1&ROW($A88),TABPREBB!$AH$10:$AH$281,0),COLUMN()),\"\")","v":""},{"$f":"IFERROR(INDEX(TABPREBB!$A$10:$AF$281,MATCH($B$1&ROW($A88),TABPREBB!$AH$10:$AH$281,0),COLUMN()),\"\")","v":""},{"$f":"IFERROR(INDEX(TABPREBB!$A$10:$AF$281,MATCH($B$1&ROW($A88),TABPREBB!$AH$10:$AH$281,0),COLUMN()),\"\")","v":""},{"$f":"IFERROR(INDEX(TABPREBB!$A$10:$AF$281,MATCH($B$1&ROW($A88),TABPREBB!$AH$10:$AH$281,0),COLUMN()),\"\")","v":""},{"$f":"IFERROR(INDEX(TABPREBB!$A$10:$AF$281,MATCH($B$1&ROW($A88),TABPREBB!$AH$10:$AH$281,0),COLUMN()),\"\")","v":""},{"$f":"IFERROR(INDEX(TABPREBB!$A$10:$AF$281,MATCH($B$1&ROW($A88),TABPREBB!$AH$10:$AH$281,0),COLUMN()),\"\")","v":""},{"$f":"IFERROR(INDEX(TABPREBB!$A$10:$AF$281,MATCH($B$1&ROW($A88),TABPREBB!$AH$10:$AH$281,0),COLUMN()),\"\")","v":""},{"$f":"IFERROR(INDEX(TABPREBB!$A$10:$AF$281,MATCH($B$1&ROW($A88),TABPREBB!$AH$10:$AH$281,0),COLUMN()),\"\")","v":""},{"$f":"IFERROR(INDEX(TABPREBB!$A$10:$AF$281,MATCH($B$1&ROW($A88),TABPREBB!$AH$10:$AH$281,0),COLUMN()),\"\")","v":""},{"$f":"IFERROR(INDEX(TABPREBB!$A$10:$AF$281,MATCH($B$1&ROW($A88),TABPREBB!$AH$10:$AH$281,0),COLUMN()),\"\")","v":""},{"$f":"IFERROR(INDEX(TABPREBB!$A$10:$AF$281,MATCH($B$1&ROW($A88),TABPREBB!$AH$10:$AH$281,0),COLUMN()),\"\")","v":""},{"$f":"IFERROR(INDEX(TABPREBB!$A$10:$AF$281,MATCH($B$1&ROW($A88),TABPREBB!$AH$10:$AH$281,0),COLUMN()),\"\")","v":""},{"$f":"IFERROR(INDEX(TABPREBB!$A$10:$AF$281,MATCH($B$1&ROW($A88),TABPREBB!$AH$10:$AH$281,0),COLUMN()),\"\")","v":""}]
[{"$f":"IFERROR(INDEX(TABPREBB!$A$10:$AF$281,MATCH($B$1&ROW($A89),TABPREBB!$AH$10:$AH$281,0),COLUMN()),\"\")","v":""},{"$f":"IFERROR(INDEX(TABPREBB!$A$10:$AF$281,MATCH($B$1&ROW($A89),TABPREBB!$AH$10:$AH$281,0),COLUMN()),\"\")","v":""},{"$f":"IFERROR(INDEX(TABPREBB!$A$10:$AF$281,MATCH($B$1&ROW($A89),TABPREBB!$AH$10:$AH$281,0),COLUMN()),\"\")","v":""},{"$f":"IFERROR(INDEX(TABPREBB!$A$10:$AF$281,MATCH($B$1&ROW($A89),TABPREBB!$AH$10:$AH$281,0),COLUMN()),\"\")","v":""},{"$f":"IFERROR(INDEX(TABPREBB!$A$10:$AF$281,MATCH($B$1&ROW($A89),TABPREBB!$AH$10:$AH$281,0),COLUMN()),\"\")","v":""},{"$f":"IFERROR(INDEX(TABPREBB!$A$10:$AF$281,MATCH($B$1&ROW($A89),TABPREBB!$AH$10:$AH$281,0),COLUMN()),\"\")","v":""},{"$f":"IFERROR(INDEX(TABPREBB!$A$10:$AF$281,MATCH($B$1&ROW($A89),TABPREBB!$AH$10:$AH$281,0),COLUMN()),\"\")","v":""},{"$f":"IFERROR(INDEX(TABPREBB!$A$10:$AF$281,MATCH($B$1&ROW($A89),TABPREBB!$AH$10:$AH$281,0),COLUMN()),\"\")","v":""},{"$f":"IFERROR(INDEX(TABPREBB!$A$10:$AF$281,MATCH($B$1&ROW($A89),TABPREBB!$AH$10:$AH$281,0),COLUMN()),\"\")","v":""},{"$f":"IFERROR(INDEX(TABPREBB!$A$10:$AF$281,MATCH($B$1&ROW($A89),TABPREBB!$AH$10:$AH$281,0),COLUMN()),\"\")","v":""},{"$f":"IFERROR(INDEX(TABPREBB!$A$10:$AF$281,MATCH($B$1&ROW($A89),TABPREBB!$AH$10:$AH$281,0),COLUMN()),\"\")","v":""},{"$f":"IFERROR(INDEX(TABPREBB!$A$10:$AF$281,MATCH($B$1&ROW($A89),TABPREBB!$AH$10:$AH$281,0),COLUMN()),\"\")","v":""},{"$f":"IFERROR(INDEX(TABPREBB!$A$10:$AF$281,MATCH($B$1&ROW($A89),TABPREBB!$AH$10:$AH$281,0),COLUMN()),\"\")","v":""},{"$f":"IFERROR(INDEX(TABPREBB!$A$10:$AF$281,MATCH($B$1&ROW($A89),TABPREBB!$AH$10:$AH$281,0),COLUMN()),\"\")","v":""},{"$f":"IFERROR(INDEX(TABPREBB!$A$10:$AF$281,MATCH($B$1&ROW($A89),TABPREBB!$AH$10:$AH$281,0),COLUMN()),\"\")","v":""},{"$f":"IFERROR(INDEX(TABPREBB!$A$10:$AF$281,MATCH($B$1&ROW($A89),TABPREBB!$AH$10:$AH$281,0),COLUMN()),\"\")","v":""},{"$f":"IFERROR(INDEX(TABPREBB!$A$10:$AF$281,MATCH($B$1&ROW($A89),TABPREBB!$AH$10:$AH$281,0),COLUMN()),\"\")","v":""},{"$f":"IFERROR(INDEX(TABPREBB!$A$10:$AF$281,MATCH($B$1&ROW($A89),TABPREBB!$AH$10:$AH$281,0),COLUMN()),\"\")","v":""},{"$f":"IFERROR(INDEX(TABPREBB!$A$10:$AF$281,MATCH($B$1&ROW($A89),TABPREBB!$AH$10:$AH$281,0),COLUMN()),\"\")","v":""},{"$f":"IFERROR(INDEX(TABPREBB!$A$10:$AF$281,MATCH($B$1&ROW($A89),TABPREBB!$AH$10:$AH$281,0),COLUMN()),\"\")","v":""},{"$f":"IFERROR(INDEX(TABPREBB!$A$10:$AF$281,MATCH($B$1&ROW($A89),TABPREBB!$AH$10:$AH$281,0),COLUMN()),\"\")","v":""},{"$f":"IFERROR(INDEX(TABPREBB!$A$10:$AF$281,MATCH($B$1&ROW($A89),TABPREBB!$AH$10:$AH$281,0),COLUMN()),\"\")","v":""},{"$f":"IFERROR(INDEX(TABPREBB!$A$10:$AF$281,MATCH($B$1&ROW($A89),TABPREBB!$AH$10:$AH$281,0),COLUMN()),\"\")","v":""},{"$f":"IFERROR(INDEX(TABPREBB!$A$10:$AF$281,MATCH($B$1&ROW($A89),TABPREBB!$AH$10:$AH$281,0),COLUMN()),\"\")","v":""},{"$f":"IFERROR(INDEX(TABPREBB!$A$10:$AF$281,MATCH($B$1&ROW($A89),TABPREBB!$AH$10:$AH$281,0),COLUMN()),\"\")","v":""},{"$f":"IFERROR(INDEX(TABPREBB!$A$10:$AF$281,MATCH($B$1&ROW($A89),TABPREBB!$AH$10:$AH$281,0),COLUMN()),\"\")","v":""},{"$f":"IFERROR(INDEX(TABPREBB!$A$10:$AF$281,MATCH($B$1&ROW($A89),TABPREBB!$AH$10:$AH$281,0),COLUMN()),\"\")","v":""},{"$f":"IFERROR(INDEX(TABPREBB!$A$10:$AF$281,MATCH($B$1&ROW($A89),TABPREBB!$AH$10:$AH$281,0),COLUMN()),\"\")","v":""},{"$f":"IFERROR(INDEX(TABPREBB!$A$10:$AF$281,MATCH($B$1&ROW($A89),TABPREBB!$AH$10:$AH$281,0),COLUMN()),\"\")","v":""},{"$f":"IFERROR(INDEX(TABPREBB!$A$10:$AF$281,MATCH($B$1&ROW($A89),TABPREBB!$AH$10:$AH$281,0),COLUMN()),\"\")","v":""},{"$f":"IFERROR(INDEX(TABPREBB!$A$10:$AF$281,MATCH($B$1&ROW($A89),TABPREBB!$AH$10:$AH$281,0),COLUMN()),\"\")","v":""},{"$f":"IFERROR(INDEX(TABPREBB!$A$10:$AF$281,MATCH($B$1&ROW($A89),TABPREBB!$AH$10:$AH$281,0),COLUMN()),\"\")","v":""}]
[{"$f":"IFERROR(INDEX(TABPREBB!$A$10:$AF$281,MATCH($B$1&ROW($A90),TABPREBB!$AH$10:$AH$281,0),COLUMN()),\"\")","v":""},{"$f":"IFERROR(INDEX(TABPREBB!$A$10:$AF$281,MATCH($B$1&ROW($A90),TABPREBB!$AH$10:$AH$281,0),COLUMN()),\"\")","v":""},{"$f":"IFERROR(INDEX(TABPREBB!$A$10:$AF$281,MATCH($B$1&ROW($A90),TABPREBB!$AH$10:$AH$281,0),COLUMN()),\"\")","v":""},{"$f":"IFERROR(INDEX(TABPREBB!$A$10:$AF$281,MATCH($B$1&ROW($A90),TABPREBB!$AH$10:$AH$281,0),COLUMN()),\"\")","v":""},{"$f":"IFERROR(INDEX(TABPREBB!$A$10:$AF$281,MATCH($B$1&ROW($A90),TABPREBB!$AH$10:$AH$281,0),COLUMN()),\"\")","v":""},{"$f":"IFERROR(INDEX(TABPREBB!$A$10:$AF$281,MATCH($B$1&ROW($A90),TABPREBB!$AH$10:$AH$281,0),COLUMN()),\"\")","v":""},{"$f":"IFERROR(INDEX(TABPREBB!$A$10:$AF$281,MATCH($B$1&ROW($A90),TABPREBB!$AH$10:$AH$281,0),COLUMN()),\"\")","v":""},{"$f":"IFERROR(INDEX(TABPREBB!$A$10:$AF$281,MATCH($B$1&ROW($A90),TABPREBB!$AH$10:$AH$281,0),COLUMN()),\"\")","v":""},{"$f":"IFERROR(INDEX(TABPREBB!$A$10:$AF$281,MATCH($B$1&ROW($A90),TABPREBB!$AH$10:$AH$281,0),COLUMN()),\"\")","v":""},{"$f":"IFERROR(INDEX(TABPREBB!$A$10:$AF$281,MATCH($B$1&ROW($A90),TABPREBB!$AH$10:$AH$281,0),COLUMN()),\"\")","v":""},{"$f":"IFERROR(INDEX(TABPREBB!$A$10:$AF$281,MATCH($B$1&ROW($A90),TABPREBB!$AH$10:$AH$281,0),COLUMN()),\"\")","v":""},{"$f":"IFERROR(INDEX(TABPREBB!$A$10:$AF$281,MATCH($B$1&ROW($A90),TABPREBB!$AH$10:$AH$281,0),COLUMN()),\"\")","v":""},{"$f":"IFERROR(INDEX(TABPREBB!$A$10:$AF$281,MATCH($B$1&ROW($A90),TABPREBB!$AH$10:$AH$281,0),COLUMN()),\"\")","v":""},{"$f":"IFERROR(INDEX(TABPREBB!$A$10:$AF$281,MATCH($B$1&ROW($A90),TABPREBB!$AH$10:$AH$281,0),COLUMN()),\"\")","v":""},{"$f":"IFERROR(INDEX(TABPREBB!$A$10:$AF$281,MATCH($B$1&ROW($A90),TABPREBB!$AH$10:$AH$281,0),COLUMN()),\"\")","v":""},{"$f":"IFERROR(INDEX(TABPREBB!$A$10:$AF$281,MATCH($B$1&ROW($A90),TABPREBB!$AH$10:$AH$281,0),COLUMN()),\"\")","v":""},{"$f":"IFERROR(INDEX(TABPREBB!$A$10:$AF$281,MATCH($B$1&ROW($A90),TABPREBB!$AH$10:$AH$281,0),COLUMN()),\"\")","v":""},{"$f":"IFERROR(INDEX(TABPREBB!$A$10:$AF$281,MATCH($B$1&ROW($A90),TABPREBB!$AH$10:$AH$281,0),COLUMN()),\"\")","v":""},{"$f":"IFERROR(INDEX(TABPREBB!$A$10:$AF$281,MATCH($B$1&ROW($A90),TABPREBB!$AH$10:$AH$281,0),COLUMN()),\"\")","v":""},{"$f":"IFERROR(INDEX(TABPREBB!$A$10:$AF$281,MATCH($B$1&ROW($A90),TABPREBB!$AH$10:$AH$281,0),COLUMN()),\"\")","v":""},{"$f":"IFERROR(INDEX(TABPREBB!$A$10:$AF$281,MATCH($B$1&ROW($A90),TABPREBB!$AH$10:$AH$281,0),COLUMN()),\"\")","v":""},{"$f":"IFERROR(INDEX(TABPREBB!$A$10:$AF$281,MATCH($B$1&ROW($A90),TABPREBB!$AH$10:$AH$281,0),COLUMN()),\"\")","v":""},{"$f":"IFERROR(INDEX(TABPREBB!$A$10:$AF$281,MATCH($B$1&ROW($A90),TABPREBB!$AH$10:$AH$281,0),COLUMN()),\"\")","v":""},{"$f":"IFERROR(INDEX(TABPREBB!$A$10:$AF$281,MATCH($B$1&ROW($A90),TABPREBB!$AH$10:$AH$281,0),COLUMN()),\"\")","v":""},{"$f":"IFERROR(INDEX(TABPREBB!$A$10:$AF$281,MATCH($B$1&ROW($A90),TABPREBB!$AH$10:$AH$281,0),COLUMN()),\"\")","v":""},{"$f":"IFERROR(INDEX(TABPREBB!$A$10:$AF$281,MATCH($B$1&ROW($A90),TABPREBB!$AH$10:$AH$281,0),COLUMN()),\"\")","v":""},{"$f":"IFERROR(INDEX(TABPREBB!$A$10:$AF$281,MATCH($B$1&ROW($A90),TABPREBB!$AH$10:$AH$281,0),COLUMN()),\"\")","v":""},{"$f":"IFERROR(INDEX(TABPREBB!$A$10:$AF$281,MATCH($B$1&ROW($A90),TABPREBB!$AH$10:$AH$281,0),COLUMN()),\"\")","v":""},{"$f":"IFERROR(INDEX(TABPREBB!$A$10:$AF$281,MATCH($B$1&ROW($A90),TABPREBB!$AH$10:$AH$281,0),COLUMN()),\"\")","v":""},{"$f":"IFERROR(INDEX(TABPREBB!$A$10:$AF$281,MATCH($B$1&ROW($A90),TABPREBB!$AH$10:$AH$281,0),COLUMN()),\"\")","v":""},{"$f":"IFERROR(INDEX(TABPREBB!$A$10:$AF$281,MATCH($B$1&ROW($A90),TABPREBB!$AH$10:$AH$281,0),COLUMN()),\"\")","v":""},{"$f":"IFERROR(INDEX(TABPREBB!$A$10:$AF$281,MATCH($B$1&ROW($A90),TABPREBB!$AH$10:$AH$281,0),COLUMN()),\"\")","v":""}]
[{"$f":"IFERROR(INDEX(TABPREBB!$A$10:$AF$281,MATCH($B$1&ROW($A91),TABPREBB!$AH$10:$AH$281,0),COLUMN()),\"\")","v":""},{"$f":"IFERROR(INDEX(TABPREBB!$A$10:$AF$281,MATCH($B$1&ROW($A91),TABPREBB!$AH$10:$AH$281,0),COLUMN()),\"\")","v":""},{"$f":"IFERROR(INDEX(TABPREBB!$A$10:$AF$281,MATCH($B$1&ROW($A91),TABPREBB!$AH$10:$AH$281,0),COLUMN()),\"\")","v":""},{"$f":"IFERROR(INDEX(TABPREBB!$A$10:$AF$281,MATCH($B$1&ROW($A91),TABPREBB!$AH$10:$AH$281,0),COLUMN()),\"\")","v":""},{"$f":"IFERROR(INDEX(TABPREBB!$A$10:$AF$281,MATCH($B$1&ROW($A91),TABPREBB!$AH$10:$AH$281,0),COLUMN()),\"\")","v":""},{"$f":"IFERROR(INDEX(TABPREBB!$A$10:$AF$281,MATCH($B$1&ROW($A91),TABPREBB!$AH$10:$AH$281,0),COLUMN()),\"\")","v":""},{"$f":"IFERROR(INDEX(TABPREBB!$A$10:$AF$281,MATCH($B$1&ROW($A91),TABPREBB!$AH$10:$AH$281,0),COLUMN()),\"\")","v":""},{"$f":"IFERROR(INDEX(TABPREBB!$A$10:$AF$281,MATCH($B$1&ROW($A91),TABPREBB!$AH$10:$AH$281,0),COLUMN()),\"\")","v":""},{"$f":"IFERROR(INDEX(TABPREBB!$A$10:$AF$281,MATCH($B$1&ROW($A91),TABPREBB!$AH$10:$AH$281,0),COLUMN()),\"\")","v":""},{"$f":"IFERROR(INDEX(TABPREBB!$A$10:$AF$281,MATCH($B$1&ROW($A91),TABPREBB!$AH$10:$AH$281,0),COLUMN()),\"\")","v":""},{"$f":"IFERROR(INDEX(TABPREBB!$A$10:$AF$281,MATCH($B$1&ROW($A91),TABPREBB!$AH$10:$AH$281,0),COLUMN()),\"\")","v":""},{"$f":"IFERROR(INDEX(TABPREBB!$A$10:$AF$281,MATCH($B$1&ROW($A91),TABPREBB!$AH$10:$AH$281,0),COLUMN()),\"\")","v":""},{"$f":"IFERROR(INDEX(TABPREBB!$A$10:$AF$281,MATCH($B$1&ROW($A91),TABPREBB!$AH$10:$AH$281,0),COLUMN()),\"\")","v":""},{"$f":"IFERROR(INDEX(TABPREBB!$A$10:$AF$281,MATCH($B$1&ROW($A91),TABPREBB!$AH$10:$AH$281,0),COLUMN()),\"\")","v":""},{"$f":"IFERROR(INDEX(TABPREBB!$A$10:$AF$281,MATCH($B$1&ROW($A91),TABPREBB!$AH$10:$AH$281,0),COLUMN()),\"\")","v":""},{"$f":"IFERROR(INDEX(TABPREBB!$A$10:$AF$281,MATCH($B$1&ROW($A91),TABPREBB!$AH$10:$AH$281,0),COLUMN()),\"\")","v":""},{"$f":"IFERROR(INDEX(TABPREBB!$A$10:$AF$281,MATCH($B$1&ROW($A91),TABPREBB!$AH$10:$AH$281,0),COLUMN()),\"\")","v":""},{"$f":"IFERROR(INDEX(TABPREBB!$A$10:$AF$281,MATCH($B$1&ROW($A91),TABPREBB!$AH$10:$AH$281,0),COLUMN()),\"\")","v":""},{"$f":"IFERROR(INDEX(TABPREBB!$A$10:$AF$281,MATCH($B$1&ROW($A91),TABPREBB!$AH$10:$AH$281,0),COLUMN()),\"\")","v":""},{"$f":"IFERROR(INDEX(TABPREBB!$A$10:$AF$281,MATCH($B$1&ROW($A91),TABPREBB!$AH$10:$AH$281,0),COLUMN()),\"\")","v":""},{"$f":"IFERROR(INDEX(TABPREBB!$A$10:$AF$281,MATCH($B$1&ROW($A91),TABPREBB!$AH$10:$AH$281,0),COLUMN()),\"\")","v":""},{"$f":"IFERROR(INDEX(TABPREBB!$A$10:$AF$281,MATCH($B$1&ROW($A91),TABPREBB!$AH$10:$AH$281,0),COLUMN()),\"\")","v":""},{"$f":"IFERROR(INDEX(TABPREBB!$A$10:$AF$281,MATCH($B$1&ROW($A91),TABPREBB!$AH$10:$AH$281,0),COLUMN()),\"\")","v":""},{"$f":"IFERROR(INDEX(TABPREBB!$A$10:$AF$281,MATCH($B$1&ROW($A91),TABPREBB!$AH$10:$AH$281,0),COLUMN()),\"\")","v":""},{"$f":"IFERROR(INDEX(TABPREBB!$A$10:$AF$281,MATCH($B$1&ROW($A91),TABPREBB!$AH$10:$AH$281,0),COLUMN()),\"\")","v":""},{"$f":"IFERROR(INDEX(TABPREBB!$A$10:$AF$281,MATCH($B$1&ROW($A91),TABPREBB!$AH$10:$AH$281,0),COLUMN()),\"\")","v":""},{"$f":"IFERROR(INDEX(TABPREBB!$A$10:$AF$281,MATCH($B$1&ROW($A91),TABPREBB!$AH$10:$AH$281,0),COLUMN()),\"\")","v":""},{"$f":"IFERROR(INDEX(TABPREBB!$A$10:$AF$281,MATCH($B$1&ROW($A91),TABPREBB!$AH$10:$AH$281,0),COLUMN()),\"\")","v":""},{"$f":"IFERROR(INDEX(TABPREBB!$A$10:$AF$281,MATCH($B$1&ROW($A91),TABPREBB!$AH$10:$AH$281,0),COLUMN()),\"\")","v":""},{"$f":"IFERROR(INDEX(TABPREBB!$A$10:$AF$281,MATCH($B$1&ROW($A91),TABPREBB!$AH$10:$AH$281,0),COLUMN()),\"\")","v":""},{"$f":"IFERROR(INDEX(TABPREBB!$A$10:$AF$281,MATCH($B$1&ROW($A91),TABPREBB!$AH$10:$AH$281,0),COLUMN()),\"\")","v":""},{"$f":"IFERROR(INDEX(TABPREBB!$A$10:$AF$281,MATCH($B$1&ROW($A91),TABPREBB!$AH$10:$AH$281,0),COLUMN()),\"\")","v":""}]
[{"$f":"IFERROR(INDEX(TABPREBB!$A$10:$AF$281,MATCH($B$1&ROW($A92),TABPREBB!$AH$10:$AH$281,0),COLUMN()),\"\")","v":""},{"$f":"IFERROR(INDEX(TABPREBB!$A$10:$AF$281,MATCH($B$1&ROW($A92),TABPREBB!$AH$10:$AH$281,0),COLUMN()),\"\")","v":""},{"$f":"IFERROR(INDEX(TABPREBB!$A$10:$AF$281,MATCH($B$1&ROW($A92),TABPREBB!$AH$10:$AH$281,0),COLUMN()),\"\")","v":""},{"$f":"IFERROR(INDEX(TABPREBB!$A$10:$AF$281,MATCH($B$1&ROW($A92),TABPREBB!$AH$10:$AH$281,0),COLUMN()),\"\")","v":""},{"$f":"IFERROR(INDEX(TABPREBB!$A$10:$AF$281,MATCH($B$1&ROW($A92),TABPREBB!$AH$10:$AH$281,0),COLUMN()),\"\")","v":""},{"$f":"IFERROR(INDEX(TABPREBB!$A$10:$AF$281,MATCH($B$1&ROW($A92),TABPREBB!$AH$10:$AH$281,0),COLUMN()),\"\")","v":""},{"$f":"IFERROR(INDEX(TABPREBB!$A$10:$AF$281,MATCH($B$1&ROW($A92),TABPREBB!$AH$10:$AH$281,0),COLUMN()),\"\")","v":""},{"$f":"IFERROR(INDEX(TABPREBB!$A$10:$AF$281,MATCH($B$1&ROW($A92),TABPREBB!$AH$10:$AH$281,0),COLUMN()),\"\")","v":""},{"$f":"IFERROR(INDEX(TABPREBB!$A$10:$AF$281,MATCH($B$1&ROW($A92),TABPREBB!$AH$10:$AH$281,0),COLUMN()),\"\")","v":""},{"$f":"IFERROR(INDEX(TABPREBB!$A$10:$AF$281,MATCH($B$1&ROW($A92),TABPREBB!$AH$10:$AH$281,0),COLUMN()),\"\")","v":""},{"$f":"IFERROR(INDEX(TABPREBB!$A$10:$AF$281,MATCH($B$1&ROW($A92),TABPREBB!$AH$10:$AH$281,0),COLUMN()),\"\")","v":""},{"$f":"IFERROR(INDEX(TABPREBB!$A$10:$AF$281,MATCH($B$1&ROW($A92),TABPREBB!$AH$10:$AH$281,0),COLUMN()),\"\")","v":""},{"$f":"IFERROR(INDEX(TABPREBB!$A$10:$AF$281,MATCH($B$1&ROW($A92),TABPREBB!$AH$10:$AH$281,0),COLUMN()),\"\")","v":""},{"$f":"IFERROR(INDEX(TABPREBB!$A$10:$AF$281,MATCH($B$1&ROW($A92),TABPREBB!$AH$10:$AH$281,0),COLUMN()),\"\")","v":""},{"$f":"IFERROR(INDEX(TABPREBB!$A$10:$AF$281,MATCH($B$1&ROW($A92),TABPREBB!$AH$10:$AH$281,0),COLUMN()),\"\")","v":""},{"$f":"IFERROR(INDEX(TABPREBB!$A$10:$AF$281,MATCH($B$1&ROW($A92),TABPREBB!$AH$10:$AH$281,0),COLUMN()),\"\")","v":""},{"$f":"IFERROR(INDEX(TABPREBB!$A$10:$AF$281,MATCH($B$1&ROW($A92),TABPREBB!$AH$10:$AH$281,0),COLUMN()),\"\")","v":""},{"$f":"IFERROR(INDEX(TABPREBB!$A$10:$AF$281,MATCH($B$1&ROW($A92),TABPREBB!$AH$10:$AH$281,0),COLUMN()),\"\")","v":""},{"$f":"IFERROR(INDEX(TABPREBB!$A$10:$AF$281,MATCH($B$1&ROW($A92),TABPREBB!$AH$10:$AH$281,0),COLUMN()),\"\")","v":""},{"$f":"IFERROR(INDEX(TABPREBB!$A$10:$AF$281,MATCH($B$1&ROW($A92),TABPREBB!$AH$10:$AH$281,0),COLUMN()),\"\")","v":""},{"$f":"IFERROR(INDEX(TABPREBB!$A$10:$AF$281,MATCH($B$1&ROW($A92),TABPREBB!$AH$10:$AH$281,0),COLUMN()),\"\")","v":""},{"$f":"IFERROR(INDEX(TABPREBB!$A$10:$AF$281,MATCH($B$1&ROW($A92),TABPREBB!$AH$10:$AH$281,0),COLUMN()),\"\")","v":""},{"$f":"IFERROR(INDEX(TABPREBB!$A$10:$AF$281,MATCH($B$1&ROW($A92),TABPREBB!$AH$10:$AH$281,0),COLUMN()),\"\")","v":""},{"$f":"IFERROR(INDEX(TABPREBB!$A$10:$AF$281,MATCH($B$1&ROW($A92),TABPREBB!$AH$10:$AH$281,0),COLUMN()),\"\")","v":""},{"$f":"IFERROR(INDEX(TABPREBB!$A$10:$AF$281,MATCH($B$1&ROW($A92),TABPREBB!$AH$10:$AH$281,0),COLUMN()),\"\")","v":""},{"$f":"IFERROR(INDEX(TABPREBB!$A$10:$AF$281,MATCH($B$1&ROW($A92),TABPREBB!$AH$10:$AH$281,0),COLUMN()),\"\")","v":""},{"$f":"IFERROR(INDEX(TABPREBB!$A$10:$AF$281,MATCH($B$1&ROW($A92),TABPREBB!$AH$10:$AH$281,0),COLUMN()),\"\")","v":""},{"$f":"IFERROR(INDEX(TABPREBB!$A$10:$AF$281,MATCH($B$1&ROW($A92),TABPREBB!$AH$10:$AH$281,0),COLUMN()),\"\")","v":""},{"$f":"IFERROR(INDEX(TABPREBB!$A$10:$AF$281,MATCH($B$1&ROW($A92),TABPREBB!$AH$10:$AH$281,0),COLUMN()),\"\")","v":""},{"$f":"IFERROR(INDEX(TABPREBB!$A$10:$AF$281,MATCH($B$1&ROW($A92),TABPREBB!$AH$10:$AH$281,0),COLUMN()),\"\")","v":""},{"$f":"IFERROR(INDEX(TABPREBB!$A$10:$AF$281,MATCH($B$1&ROW($A92),TABPREBB!$AH$10:$AH$281,0),COLUMN()),\"\")","v":""},{"$f":"IFERROR(INDEX(TABPREBB!$A$10:$AF$281,MATCH($B$1&ROW($A92),TABPREBB!$AH$10:$AH$281,0),COLUMN()),\"\")","v":""}]
[{"$f":"IFERROR(INDEX(TABPREBB!$A$10:$AF$281,MATCH($B$1&ROW($A93),TABPREBB!$AH$10:$AH$281,0),COLUMN()),\"\")","v":""},{"$f":"IFERROR(INDEX(TABPREBB!$A$10:$AF$281,MATCH($B$1&ROW($A93),TABPREBB!$AH$10:$AH$281,0),COLUMN()),\"\")","v":""},{"$f":"IFERROR(INDEX(TABPREBB!$A$10:$AF$281,MATCH($B$1&ROW($A93),TABPREBB!$AH$10:$AH$281,0),COLUMN()),\"\")","v":""},{"$f":"IFERROR(INDEX(TABPREBB!$A$10:$AF$281,MATCH($B$1&ROW($A93),TABPREBB!$AH$10:$AH$281,0),COLUMN()),\"\")","v":""},{"$f":"IFERROR(INDEX(TABPREBB!$A$10:$AF$281,MATCH($B$1&ROW($A93),TABPREBB!$AH$10:$AH$281,0),COLUMN()),\"\")","v":""},{"$f":"IFERROR(INDEX(TABPREBB!$A$10:$AF$281,MATCH($B$1&ROW($A93),TABPREBB!$AH$10:$AH$281,0),COLUMN()),\"\")","v":""},{"$f":"IFERROR(INDEX(TABPREBB!$A$10:$AF$281,MATCH($B$1&ROW($A93),TABPREBB!$AH$10:$AH$281,0),COLUMN()),\"\")","v":""},{"$f":"IFERROR(INDEX(TABPREBB!$A$10:$AF$281,MATCH($B$1&ROW($A93),TABPREBB!$AH$10:$AH$281,0),COLUMN()),\"\")","v":""},{"$f":"IFERROR(INDEX(TABPREBB!$A$10:$AF$281,MATCH($B$1&ROW($A93),TABPREBB!$AH$10:$AH$281,0),COLUMN()),\"\")","v":""},{"$f":"IFERROR(INDEX(TABPREBB!$A$10:$AF$281,MATCH($B$1&ROW($A93),TABPREBB!$AH$10:$AH$281,0),COLUMN()),\"\")","v":""},{"$f":"IFERROR(INDEX(TABPREBB!$A$10:$AF$281,MATCH($B$1&ROW($A93),TABPREBB!$AH$10:$AH$281,0),COLUMN()),\"\")","v":""},{"$f":"IFERROR(INDEX(TABPREBB!$A$10:$AF$281,MATCH($B$1&ROW($A93),TABPREBB!$AH$10:$AH$281,0),COLUMN()),\"\")","v":""},{"$f":"IFERROR(INDEX(TABPREBB!$A$10:$AF$281,MATCH($B$1&ROW($A93),TABPREBB!$AH$10:$AH$281,0),COLUMN()),\"\")","v":""},{"$f":"IFERROR(INDEX(TABPREBB!$A$10:$AF$281,MATCH($B$1&ROW($A93),TABPREBB!$AH$10:$AH$281,0),COLUMN()),\"\")","v":""},{"$f":"IFERROR(INDEX(TABPREBB!$A$10:$AF$281,MATCH($B$1&ROW($A93),TABPREBB!$AH$10:$AH$281,0),COLUMN()),\"\")","v":""},{"$f":"IFERROR(INDEX(TABPREBB!$A$10:$AF$281,MATCH($B$1&ROW($A93),TABPREBB!$AH$10:$AH$281,0),COLUMN()),\"\")","v":""},{"$f":"IFERROR(INDEX(TABPREBB!$A$10:$AF$281,MATCH($B$1&ROW($A93),TABPREBB!$AH$10:$AH$281,0),COLUMN()),\"\")","v":""},{"$f":"IFERROR(INDEX(TABPREBB!$A$10:$AF$281,MATCH($B$1&ROW($A93),TABPREBB!$AH$10:$AH$281,0),COLUMN()),\"\")","v":""},{"$f":"IFERROR(INDEX(TABPREBB!$A$10:$AF$281,MATCH($B$1&ROW($A93),TABPREBB!$AH$10:$AH$281,0),COLUMN()),\"\")","v":""},{"$f":"IFERROR(INDEX(TABPREBB!$A$10:$AF$281,MATCH($B$1&ROW($A93),TABPREBB!$AH$10:$AH$281,0),COLUMN()),\"\")","v":""},{"$f":"IFERROR(INDEX(TABPREBB!$A$10:$AF$281,MATCH($B$1&ROW($A93),TABPREBB!$AH$10:$AH$281,0),COLUMN()),\"\")","v":""},{"$f":"IFERROR(INDEX(TABPREBB!$A$10:$AF$281,MATCH($B$1&ROW($A93),TABPREBB!$AH$10:$AH$281,0),COLUMN()),\"\")","v":""},{"$f":"IFERROR(INDEX(TABPREBB!$A$10:$AF$281,MATCH($B$1&ROW($A93),TABPREBB!$AH$10:$AH$281,0),COLUMN()),\"\")","v":""},{"$f":"IFERROR(INDEX(TABPREBB!$A$10:$AF$281,MATCH($B$1&ROW($A93),TABPREBB!$AH$10:$AH$281,0),COLUMN()),\"\")","v":""},{"$f":"IFERROR(INDEX(TABPREBB!$A$10:$AF$281,MATCH($B$1&ROW($A93),TABPREBB!$AH$10:$AH$281,0),COLUMN()),\"\")","v":""},{"$f":"IFERROR(INDEX(TABPREBB!$A$10:$AF$281,MATCH($B$1&ROW($A93),TABPREBB!$AH$10:$AH$281,0),COLUMN()),\"\")","v":""},{"$f":"IFERROR(INDEX(TABPREBB!$A$10:$AF$281,MATCH($B$1&ROW($A93),TABPREBB!$AH$10:$AH$281,0),COLUMN()),\"\")","v":""},{"$f":"IFERROR(INDEX(TABPREBB!$A$10:$AF$281,MATCH($B$1&ROW($A93),TABPREBB!$AH$10:$AH$281,0),COLUMN()),\"\")","v":""},{"$f":"IFERROR(INDEX(TABPREBB!$A$10:$AF$281,MATCH($B$1&ROW($A93),TABPREBB!$AH$10:$AH$281,0),COLUMN()),\"\")","v":""},{"$f":"IFERROR(INDEX(TABPREBB!$A$10:$AF$281,MATCH($B$1&ROW($A93),TABPREBB!$AH$10:$AH$281,0),COLUMN()),\"\")","v":""},{"$f":"IFERROR(INDEX(TABPREBB!$A$10:$AF$281,MATCH($B$1&ROW($A93),TABPREBB!$AH$10:$AH$281,0),COLUMN()),\"\")","v":""},{"$f":"IFERROR(INDEX(TABPREBB!$A$10:$AF$281,MATCH($B$1&ROW($A93),TABPREBB!$AH$10:$AH$281,0),COLUMN()),\"\")","v":""}]
[{"$f":"IFERROR(INDEX(TABPREBB!$A$10:$AF$281,MATCH($B$1&ROW($A94),TABPREBB!$AH$10:$AH$281,0),COLUMN()),\"\")","v":""},{"$f":"IFERROR(INDEX(TABPREBB!$A$10:$AF$281,MATCH($B$1&ROW($A94),TABPREBB!$AH$10:$AH$281,0),COLUMN()),\"\")","v":""},{"$f":"IFERROR(INDEX(TABPREBB!$A$10:$AF$281,MATCH($B$1&ROW($A94),TABPREBB!$AH$10:$AH$281,0),COLUMN()),\"\")","v":""},{"$f":"IFERROR(INDEX(TABPREBB!$A$10:$AF$281,MATCH($B$1&ROW($A94),TABPREBB!$AH$10:$AH$281,0),COLUMN()),\"\")","v":""},{"$f":"IFERROR(INDEX(TABPREBB!$A$10:$AF$281,MATCH($B$1&ROW($A94),TABPREBB!$AH$10:$AH$281,0),COLUMN()),\"\")","v":""},{"$f":"IFERROR(INDEX(TABPREBB!$A$10:$AF$281,MATCH($B$1&ROW($A94),TABPREBB!$AH$10:$AH$281,0),COLUMN()),\"\")","v":""},{"$f":"IFERROR(INDEX(TABPREBB!$A$10:$AF$281,MATCH($B$1&ROW($A94),TABPREBB!$AH$10:$AH$281,0),COLUMN()),\"\")","v":""},{"$f":"IFERROR(INDEX(TABPREBB!$A$10:$AF$281,MATCH($B$1&ROW($A94),TABPREBB!$AH$10:$AH$281,0),COLUMN()),\"\")","v":""},{"$f":"IFERROR(INDEX(TABPREBB!$A$10:$AF$281,MATCH($B$1&ROW($A94),TABPREBB!$AH$10:$AH$281,0),COLUMN()),\"\")","v":""},{"$f":"IFERROR(INDEX(TABPREBB!$A$10:$AF$281,MATCH($B$1&ROW($A94),TABPREBB!$AH$10:$AH$281,0),COLUMN()),\"\")","v":""},{"$f":"IFERROR(INDEX(TABPREBB!$A$10:$AF$281,MATCH($B$1&ROW($A94),TABPREBB!$AH$10:$AH$281,0),COLUMN()),\"\")","v":""},{"$f":"IFERROR(INDEX(TABPREBB!$A$10:$AF$281,MATCH($B$1&ROW($A94),TABPREBB!$AH$10:$AH$281,0),COLUMN()),\"\")","v":""},{"$f":"IFERROR(INDEX(TABPREBB!$A$10:$AF$281,MATCH($B$1&ROW($A94),TABPREBB!$AH$10:$AH$281,0),COLUMN()),\"\")","v":""},{"$f":"IFERROR(INDEX(TABPREBB!$A$10:$AF$281,MATCH($B$1&ROW($A94),TABPREBB!$AH$10:$AH$281,0),COLUMN()),\"\")","v":""},{"$f":"IFERROR(INDEX(TABPREBB!$A$10:$AF$281,MATCH($B$1&ROW($A94),TABPREBB!$AH$10:$AH$281,0),COLUMN()),\"\")","v":""},{"$f":"IFERROR(INDEX(TABPREBB!$A$10:$AF$281,MATCH($B$1&ROW($A94),TABPREBB!$AH$10:$AH$281,0),COLUMN()),\"\")","v":""},{"$f":"IFERROR(INDEX(TABPREBB!$A$10:$AF$281,MATCH($B$1&ROW($A94),TABPREBB!$AH$10:$AH$281,0),COLUMN()),\"\")","v":""},{"$f":"IFERROR(INDEX(TABPREBB!$A$10:$AF$281,MATCH($B$1&ROW($A94),TABPREBB!$AH$10:$AH$281,0),COLUMN()),\"\")","v":""},{"$f":"IFERROR(INDEX(TABPREBB!$A$10:$AF$281,MATCH($B$1&ROW($A94),TABPREBB!$AH$10:$AH$281,0),COLUMN()),\"\")","v":""},{"$f":"IFERROR(INDEX(TABPREBB!$A$10:$AF$281,MATCH($B$1&ROW($A94),TABPREBB!$AH$10:$AH$281,0),COLUMN()),\"\")","v":""},{"$f":"IFERROR(INDEX(TABPREBB!$A$10:$AF$281,MATCH($B$1&ROW($A94),TABPREBB!$AH$10:$AH$281,0),COLUMN()),\"\")","v":""},{"$f":"IFERROR(INDEX(TABPREBB!$A$10:$AF$281,MATCH($B$1&ROW($A94),TABPREBB!$AH$10:$AH$281,0),COLUMN()),\"\")","v":""},{"$f":"IFERROR(INDEX(TABPREBB!$A$10:$AF$281,MATCH($B$1&ROW($A94),TABPREBB!$AH$10:$AH$281,0),COLUMN()),\"\")","v":""},{"$f":"IFERROR(INDEX(TABPREBB!$A$10:$AF$281,MATCH($B$1&ROW($A94),TABPREBB!$AH$10:$AH$281,0),COLUMN()),\"\")","v":""},{"$f":"IFERROR(INDEX(TABPREBB!$A$10:$AF$281,MATCH($B$1&ROW($A94),TABPREBB!$AH$10:$AH$281,0),COLUMN()),\"\")","v":""},{"$f":"IFERROR(INDEX(TABPREBB!$A$10:$AF$281,MATCH($B$1&ROW($A94),TABPREBB!$AH$10:$AH$281,0),COLUMN()),\"\")","v":""},{"$f":"IFERROR(INDEX(TABPREBB!$A$10:$AF$281,MATCH($B$1&ROW($A94),TABPREBB!$AH$10:$AH$281,0),COLUMN()),\"\")","v":""},{"$f":"IFERROR(INDEX(TABPREBB!$A$10:$AF$281,MATCH($B$1&ROW($A94),TABPREBB!$AH$10:$AH$281,0),COLUMN()),\"\")","v":""},{"$f":"IFERROR(INDEX(TABPREBB!$A$10:$AF$281,MATCH($B$1&ROW($A94),TABPREBB!$AH$10:$AH$281,0),COLUMN()),\"\")","v":""},{"$f":"IFERROR(INDEX(TABPREBB!$A$10:$AF$281,MATCH($B$1&ROW($A94),TABPREBB!$AH$10:$AH$281,0),COLUMN()),\"\")","v":""},{"$f":"IFERROR(INDEX(TABPREBB!$A$10:$AF$281,MATCH($B$1&ROW($A94),TABPREBB!$AH$10:$AH$281,0),COLUMN()),\"\")","v":""},{"$f":"IFERROR(INDEX(TABPREBB!$A$10:$AF$281,MATCH($B$1&ROW($A94),TABPREBB!$AH$10:$AH$281,0),COLUMN()),\"\")","v":""}]
[{"$f":"IFERROR(INDEX(TABPREBB!$A$10:$AF$281,MATCH($B$1&ROW($A95),TABPREBB!$AH$10:$AH$281,0),COLUMN()),\"\")","v":""},{"$f":"IFERROR(INDEX(TABPREBB!$A$10:$AF$281,MATCH($B$1&ROW($A95),TABPREBB!$AH$10:$AH$281,0),COLUMN()),\"\")","v":""},{"$f":"IFERROR(INDEX(TABPREBB!$A$10:$AF$281,MATCH($B$1&ROW($A95),TABPREBB!$AH$10:$AH$281,0),COLUMN()),\"\")","v":""},{"$f":"IFERROR(INDEX(TABPREBB!$A$10:$AF$281,MATCH($B$1&ROW($A95),TABPREBB!$AH$10:$AH$281,0),COLUMN()),\"\")","v":""},{"$f":"IFERROR(INDEX(TABPREBB!$A$10:$AF$281,MATCH($B$1&ROW($A95),TABPREBB!$AH$10:$AH$281,0),COLUMN()),\"\")","v":""},{"$f":"IFERROR(INDEX(TABPREBB!$A$10:$AF$281,MATCH($B$1&ROW($A95),TABPREBB!$AH$10:$AH$281,0),COLUMN()),\"\")","v":""},{"$f":"IFERROR(INDEX(TABPREBB!$A$10:$AF$281,MATCH($B$1&ROW($A95),TABPREBB!$AH$10:$AH$281,0),COLUMN()),\"\")","v":""},{"$f":"IFERROR(INDEX(TABPREBB!$A$10:$AF$281,MATCH($B$1&ROW($A95),TABPREBB!$AH$10:$AH$281,0),COLUMN()),\"\")","v":""},{"$f":"IFERROR(INDEX(TABPREBB!$A$10:$AF$281,MATCH($B$1&ROW($A95),TABPREBB!$AH$10:$AH$281,0),COLUMN()),\"\")","v":""},{"$f":"IFERROR(INDEX(TABPREBB!$A$10:$AF$281,MATCH($B$1&ROW($A95),TABPREBB!$AH$10:$AH$281,0),COLUMN()),\"\")","v":""},{"$f":"IFERROR(INDEX(TABPREBB!$A$10:$AF$281,MATCH($B$1&ROW($A95),TABPREBB!$AH$10:$AH$281,0),COLUMN()),\"\")","v":""},{"$f":"IFERROR(INDEX(TABPREBB!$A$10:$AF$281,MATCH($B$1&ROW($A95),TABPREBB!$AH$10:$AH$281,0),COLUMN()),\"\")","v":""},{"$f":"IFERROR(INDEX(TABPREBB!$A$10:$AF$281,MATCH($B$1&ROW($A95),TABPREBB!$AH$10:$AH$281,0),COLUMN()),\"\")","v":""},{"$f":"IFERROR(INDEX(TABPREBB!$A$10:$AF$281,MATCH($B$1&ROW($A95),TABPREBB!$AH$10:$AH$281,0),COLUMN()),\"\")","v":""},{"$f":"IFERROR(INDEX(TABPREBB!$A$10:$AF$281,MATCH($B$1&ROW($A95),TABPREBB!$AH$10:$AH$281,0),COLUMN()),\"\")","v":""},{"$f":"IFERROR(INDEX(TABPREBB!$A$10:$AF$281,MATCH($B$1&ROW($A95),TABPREBB!$AH$10:$AH$281,0),COLUMN()),\"\")","v":""},{"$f":"IFERROR(INDEX(TABPREBB!$A$10:$AF$281,MATCH($B$1&ROW($A95),TABPREBB!$AH$10:$AH$281,0),COLUMN()),\"\")","v":""},{"$f":"IFERROR(INDEX(TABPREBB!$A$10:$AF$281,MATCH($B$1&ROW($A95),TABPREBB!$AH$10:$AH$281,0),COLUMN()),\"\")","v":""},{"$f":"IFERROR(INDEX(TABPREBB!$A$10:$AF$281,MATCH($B$1&ROW($A95),TABPREBB!$AH$10:$AH$281,0),COLUMN()),\"\")","v":""},{"$f":"IFERROR(INDEX(TABPREBB!$A$10:$AF$281,MATCH($B$1&ROW($A95),TABPREBB!$AH$10:$AH$281,0),COLUMN()),\"\")","v":""},{"$f":"IFERROR(INDEX(TABPREBB!$A$10:$AF$281,MATCH($B$1&ROW($A95),TABPREBB!$AH$10:$AH$281,0),COLUMN()),\"\")","v":""},{"$f":"IFERROR(INDEX(TABPREBB!$A$10:$AF$281,MATCH($B$1&ROW($A95),TABPREBB!$AH$10:$AH$281,0),COLUMN()),\"\")","v":""},{"$f":"IFERROR(INDEX(TABPREBB!$A$10:$AF$281,MATCH($B$1&ROW($A95),TABPREBB!$AH$10:$AH$281,0),COLUMN()),\"\")","v":""},{"$f":"IFERROR(INDEX(TABPREBB!$A$10:$AF$281,MATCH($B$1&ROW($A95),TABPREBB!$AH$10:$AH$281,0),COLUMN()),\"\")","v":""},{"$f":"IFERROR(INDEX(TABPREBB!$A$10:$AF$281,MATCH($B$1&ROW($A95),TABPREBB!$AH$10:$AH$281,0),COLUMN()),\"\")","v":""},{"$f":"IFERROR(INDEX(TABPREBB!$A$10:$AF$281,MATCH($B$1&ROW($A95),TABPREBB!$AH$10:$AH$281,0),COLUMN()),\"\")","v":""},{"$f":"IFERROR(INDEX(TABPREBB!$A$10:$AF$281,MATCH($B$1&ROW($A95),TABPREBB!$AH$10:$AH$281,0),COLUMN()),\"\")","v":""},{"$f":"IFERROR(INDEX(TABPREBB!$A$10:$AF$281,MATCH($B$1&ROW($A95),TABPREBB!$AH$10:$AH$281,0),COLUMN()),\"\")","v":""},{"$f":"IFERROR(INDEX(TABPREBB!$A$10:$AF$281,MATCH($B$1&ROW($A95),TABPREBB!$AH$10:$AH$281,0),COLUMN()),\"\")","v":""},{"$f":"IFERROR(INDEX(TABPREBB!$A$10:$AF$281,MATCH($B$1&ROW($A95),TABPREBB!$AH$10:$AH$281,0),COLUMN()),\"\")","v":""},{"$f":"IFERROR(INDEX(TABPREBB!$A$10:$AF$281,MATCH($B$1&ROW($A95),TABPREBB!$AH$10:$AH$281,0),COLUMN()),\"\")","v":""},{"$f":"IFERROR(INDEX(TABPREBB!$A$10:$AF$281,MATCH($B$1&ROW($A95),TABPREBB!$AH$10:$AH$281,0),COLUMN()),\"\")","v":""}]
[{"$f":"IFERROR(INDEX(TABPREBB!$A$10:$AF$281,MATCH($B$1&ROW($A96),TABPREBB!$AH$10:$AH$281,0),COLUMN()),\"\")","v":""},{"$f":"IFERROR(INDEX(TABPREBB!$A$10:$AF$281,MATCH($B$1&ROW($A96),TABPREBB!$AH$10:$AH$281,0),COLUMN()),\"\")","v":""},{"$f":"IFERROR(INDEX(TABPREBB!$A$10:$AF$281,MATCH($B$1&ROW($A96),TABPREBB!$AH$10:$AH$281,0),COLUMN()),\"\")","v":""},{"$f":"IFERROR(INDEX(TABPREBB!$A$10:$AF$281,MATCH($B$1&ROW($A96),TABPREBB!$AH$10:$AH$281,0),COLUMN()),\"\")","v":""},{"$f":"IFERROR(INDEX(TABPREBB!$A$10:$AF$281,MATCH($B$1&ROW($A96),TABPREBB!$AH$10:$AH$281,0),COLUMN()),\"\")","v":""},{"$f":"IFERROR(INDEX(TABPREBB!$A$10:$AF$281,MATCH($B$1&ROW($A96),TABPREBB!$AH$10:$AH$281,0),COLUMN()),\"\")","v":""},{"$f":"IFERROR(INDEX(TABPREBB!$A$10:$AF$281,MATCH($B$1&ROW($A96),TABPREBB!$AH$10:$AH$281,0),COLUMN()),\"\")","v":""},{"$f":"IFERROR(INDEX(TABPREBB!$A$10:$AF$281,MATCH($B$1&ROW($A96),TABPREBB!$AH$10:$AH$281,0),COLUMN()),\"\")","v":""},{"$f":"IFERROR(INDEX(TABPREBB!$A$10:$AF$281,MATCH($B$1&ROW($A96),TABPREBB!$AH$10:$AH$281,0),COLUMN()),\"\")","v":""},{"$f":"IFERROR(INDEX(TABPREBB!$A$10:$AF$281,MATCH($B$1&ROW($A96),TABPREBB!$AH$10:$AH$281,0),COLUMN()),\"\")","v":""},{"$f":"IFERROR(INDEX(TABPREBB!$A$10:$AF$281,MATCH($B$1&ROW($A96),TABPREBB!$AH$10:$AH$281,0),COLUMN()),\"\")","v":""},{"$f":"IFERROR(INDEX(TABPREBB!$A$10:$AF$281,MATCH($B$1&ROW($A96),TABPREBB!$AH$10:$AH$281,0),COLUMN()),\"\")","v":""},{"$f":"IFERROR(INDEX(TABPREBB!$A$10:$AF$281,MATCH($B$1&ROW($A96),TABPREBB!$AH$10:$AH$281,0),COLUMN()),\"\")","v":""},{"$f":"IFERROR(INDEX(TABPREBB!$A$10:$AF$281,MATCH($B$1&ROW($A96),TABPREBB!$AH$10:$AH$281,0),COLUMN()),\"\")","v":""},{"$f":"IFERROR(INDEX(TABPREBB!$A$10:$AF$281,MATCH($B$1&ROW($A96),TABPREBB!$AH$10:$AH$281,0),COLUMN()),\"\")","v":""},{"$f":"IFERROR(INDEX(TABPREBB!$A$10:$AF$281,MATCH($B$1&ROW($A96),TABPREBB!$AH$10:$AH$281,0),COLUMN()),\"\")","v":""},{"$f":"IFERROR(INDEX(TABPREBB!$A$10:$AF$281,MATCH($B$1&ROW($A96),TABPREBB!$AH$10:$AH$281,0),COLUMN()),\"\")","v":""},{"$f":"IFERROR(INDEX(TABPREBB!$A$10:$AF$281,MATCH($B$1&ROW($A96),TABPREBB!$AH$10:$AH$281,0),COLUMN()),\"\")","v":""},{"$f":"IFERROR(INDEX(TABPREBB!$A$10:$AF$281,MATCH($B$1&ROW($A96),TABPREBB!$AH$10:$AH$281,0),COLUMN()),\"\")","v":""},{"$f":"IFERROR(INDEX(TABPREBB!$A$10:$AF$281,MATCH($B$1&ROW($A96),TABPREBB!$AH$10:$AH$281,0),COLUMN()),\"\")","v":""},{"$f":"IFERROR(INDEX(TABPREBB!$A$10:$AF$281,MATCH($B$1&ROW($A96),TABPREBB!$AH$10:$AH$281,0),COLUMN()),\"\")","v":""},{"$f":"IFERROR(INDEX(TABPREBB!$A$10:$AF$281,MATCH($B$1&ROW($A96),TABPREBB!$AH$10:$AH$281,0),COLUMN()),\"\")","v":""},{"$f":"IFERROR(INDEX(TABPREBB!$A$10:$AF$281,MATCH($B$1&ROW($A96),TABPREBB!$AH$10:$AH$281,0),COLUMN()),\"\")","v":""},{"$f":"IFERROR(INDEX(TABPREBB!$A$10:$AF$281,MATCH($B$1&ROW($A96),TABPREBB!$AH$10:$AH$281,0),COLUMN()),\"\")","v":""},{"$f":"IFERROR(INDEX(TABPREBB!$A$10:$AF$281,MATCH($B$1&ROW($A96),TABPREBB!$AH$10:$AH$281,0),COLUMN()),\"\")","v":""},{"$f":"IFERROR(INDEX(TABPREBB!$A$10:$AF$281,MATCH($B$1&ROW($A96),TABPREBB!$AH$10:$AH$281,0),COLUMN()),\"\")","v":""},{"$f":"IFERROR(INDEX(TABPREBB!$A$10:$AF$281,MATCH($B$1&ROW($A96),TABPREBB!$AH$10:$AH$281,0),COLUMN()),\"\")","v":""},{"$f":"IFERROR(INDEX(TABPREBB!$A$10:$AF$281,MATCH($B$1&ROW($A96),TABPREBB!$AH$10:$AH$281,0),COLUMN()),\"\")","v":""},{"$f":"IFERROR(INDEX(TABPREBB!$A$10:$AF$281,MATCH($B$1&ROW($A96),TABPREBB!$AH$10:$AH$281,0),COLUMN()),\"\")","v":""},{"$f":"IFERROR(INDEX(TABPREBB!$A$10:$AF$281,MATCH($B$1&ROW($A96),TABPREBB!$AH$10:$AH$281,0),COLUMN()),\"\")","v":""},{"$f":"IFERROR(INDEX(TABPREBB!$A$10:$AF$281,MATCH($B$1&ROW($A96),TABPREBB!$AH$10:$AH$281,0),COLUMN()),\"\")","v":""},{"$f":"IFERROR(INDEX(TABPREBB!$A$10:$AF$281,MATCH($B$1&ROW($A96),TABPREBB!$AH$10:$AH$281,0),COLUMN()),\"\")","v":""}]
[{"$f":"IFERROR(INDEX(TABPREBB!$A$10:$AF$281,MATCH($B$1&ROW($A97),TABPREBB!$AH$10:$AH$281,0),COLUMN()),\"\")","v":""},{"$f":"IFERROR(INDEX(TABPREBB!$A$10:$AF$281,MATCH($B$1&ROW($A97),TABPREBB!$AH$10:$AH$281,0),COLUMN()),\"\")","v":""},{"$f":"IFERROR(INDEX(TABPREBB!$A$10:$AF$281,MATCH($B$1&ROW($A97),TABPREBB!$AH$10:$AH$281,0),COLUMN()),\"\")","v":""},{"$f":"IFERROR(INDEX(TABPREBB!$A$10:$AF$281,MATCH($B$1&ROW($A97),TABPREBB!$AH$10:$AH$281,0),COLUMN()),\"\")","v":""},{"$f":"IFERROR(INDEX(TABPREBB!$A$10:$AF$281,MATCH($B$1&ROW($A97),TABPREBB!$AH$10:$AH$281,0),COLUMN()),\"\")","v":""},{"$f":"IFERROR(INDEX(TABPREBB!$A$10:$AF$281,MATCH($B$1&ROW($A97),TABPREBB!$AH$10:$AH$281,0),COLUMN()),\"\")","v":""},{"$f":"IFERROR(INDEX(TABPREBB!$A$10:$AF$281,MATCH($B$1&ROW($A97),TABPREBB!$AH$10:$AH$281,0),COLUMN()),\"\")","v":""},{"$f":"IFERROR(INDEX(TABPREBB!$A$10:$AF$281,MATCH($B$1&ROW($A97),TABPREBB!$AH$10:$AH$281,0),COLUMN()),\"\")","v":""},{"$f":"IFERROR(INDEX(TABPREBB!$A$10:$AF$281,MATCH($B$1&ROW($A97),TABPREBB!$AH$10:$AH$281,0),COLUMN()),\"\")","v":""},{"$f":"IFERROR(INDEX(TABPREBB!$A$10:$AF$281,MATCH($B$1&ROW($A97),TABPREBB!$AH$10:$AH$281,0),COLUMN()),\"\")","v":""},{"$f":"IFERROR(INDEX(TABPREBB!$A$10:$AF$281,MATCH($B$1&ROW($A97),TABPREBB!$AH$10:$AH$281,0),COLUMN()),\"\")","v":""},{"$f":"IFERROR(INDEX(TABPREBB!$A$10:$AF$281,MATCH($B$1&ROW($A97),TABPREBB!$AH$10:$AH$281,0),COLUMN()),\"\")","v":""},{"$f":"IFERROR(INDEX(TABPREBB!$A$10:$AF$281,MATCH($B$1&ROW($A97),TABPREBB!$AH$10:$AH$281,0),COLUMN()),\"\")","v":""},{"$f":"IFERROR(INDEX(TABPREBB!$A$10:$AF$281,MATCH($B$1&ROW($A97),TABPREBB!$AH$10:$AH$281,0),COLUMN()),\"\")","v":""},{"$f":"IFERROR(INDEX(TABPREBB!$A$10:$AF$281,MATCH($B$1&ROW($A97),TABPREBB!$AH$10:$AH$281,0),COLUMN()),\"\")","v":""},{"$f":"IFERROR(INDEX(TABPREBB!$A$10:$AF$281,MATCH($B$1&ROW($A97),TABPREBB!$AH$10:$AH$281,0),COLUMN()),\"\")","v":""},{"$f":"IFERROR(INDEX(TABPREBB!$A$10:$AF$281,MATCH($B$1&ROW($A97),TABPREBB!$AH$10:$AH$281,0),COLUMN()),\"\")","v":""},{"$f":"IFERROR(INDEX(TABPREBB!$A$10:$AF$281,MATCH($B$1&ROW($A97),TABPREBB!$AH$10:$AH$281,0),COLUMN()),\"\")","v":""},{"$f":"IFERROR(INDEX(TABPREBB!$A$10:$AF$281,MATCH($B$1&ROW($A97),TABPREBB!$AH$10:$AH$281,0),COLUMN()),\"\")","v":""},{"$f":"IFERROR(INDEX(TABPREBB!$A$10:$AF$281,MATCH($B$1&ROW($A97),TABPREBB!$AH$10:$AH$281,0),COLUMN()),\"\")","v":""},{"$f":"IFERROR(INDEX(TABPREBB!$A$10:$AF$281,MATCH($B$1&ROW($A97),TABPREBB!$AH$10:$AH$281,0),COLUMN()),\"\")","v":""},{"$f":"IFERROR(INDEX(TABPREBB!$A$10:$AF$281,MATCH($B$1&ROW($A97),TABPREBB!$AH$10:$AH$281,0),COLUMN()),\"\")","v":""},{"$f":"IFERROR(INDEX(TABPREBB!$A$10:$AF$281,MATCH($B$1&ROW($A97),TABPREBB!$AH$10:$AH$281,0),COLUMN()),\"\")","v":""},{"$f":"IFERROR(INDEX(TABPREBB!$A$10:$AF$281,MATCH($B$1&ROW($A97),TABPREBB!$AH$10:$AH$281,0),COLUMN()),\"\")","v":""},{"$f":"IFERROR(INDEX(TABPREBB!$A$10:$AF$281,MATCH($B$1&ROW($A97),TABPREBB!$AH$10:$AH$281,0),COLUMN()),\"\")","v":""},{"$f":"IFERROR(INDEX(TABPREBB!$A$10:$AF$281,MATCH($B$1&ROW($A97),TABPREBB!$AH$10:$AH$281,0),COLUMN()),\"\")","v":""},{"$f":"IFERROR(INDEX(TABPREBB!$A$10:$AF$281,MATCH($B$1&ROW($A97),TABPREBB!$AH$10:$AH$281,0),COLUMN()),\"\")","v":""},{"$f":"IFERROR(INDEX(TABPREBB!$A$10:$AF$281,MATCH($B$1&ROW($A97),TABPREBB!$AH$10:$AH$281,0),COLUMN()),\"\")","v":""},{"$f":"IFERROR(INDEX(TABPREBB!$A$10:$AF$281,MATCH($B$1&ROW($A97),TABPREBB!$AH$10:$AH$281,0),COLUMN()),\"\")","v":""},{"$f":"IFERROR(INDEX(TABPREBB!$A$10:$AF$281,MATCH($B$1&ROW($A97),TABPREBB!$AH$10:$AH$281,0),COLUMN()),\"\")","v":""},{"$f":"IFERROR(INDEX(TABPREBB!$A$10:$AF$281,MATCH($B$1&ROW($A97),TABPREBB!$AH$10:$AH$281,0),COLUMN()),\"\")","v":""},{"$f":"IFERROR(INDEX(TABPREBB!$A$10:$AF$281,MATCH($B$1&ROW($A97),TABPREBB!$AH$10:$AH$281,0),COLUMN()),\"\")","v":""}]
[{"$f":"IFERROR(INDEX(TABPREBB!$A$10:$AF$281,MATCH($B$1&ROW($A98),TABPREBB!$AH$10:$AH$281,0),COLUMN()),\"\")","v":""},{"$f":"IFERROR(INDEX(TABPREBB!$A$10:$AF$281,MATCH($B$1&ROW($A98),TABPREBB!$AH$10:$AH$281,0),COLUMN()),\"\")","v":""},{"$f":"IFERROR(INDEX(TABPREBB!$A$10:$AF$281,MATCH($B$1&ROW($A98),TABPREBB!$AH$10:$AH$281,0),COLUMN()),\"\")","v":""},{"$f":"IFERROR(INDEX(TABPREBB!$A$10:$AF$281,MATCH($B$1&ROW($A98),TABPREBB!$AH$10:$AH$281,0),COLUMN()),\"\")","v":""},{"$f":"IFERROR(INDEX(TABPREBB!$A$10:$AF$281,MATCH($B$1&ROW($A98),TABPREBB!$AH$10:$AH$281,0),COLUMN()),\"\")","v":""},{"$f":"IFERROR(INDEX(TABPREBB!$A$10:$AF$281,MATCH($B$1&ROW($A98),TABPREBB!$AH$10:$AH$281,0),COLUMN()),\"\")","v":""},{"$f":"IFERROR(INDEX(TABPREBB!$A$10:$AF$281,MATCH($B$1&ROW($A98),TABPREBB!$AH$10:$AH$281,0),COLUMN()),\"\")","v":""},{"$f":"IFERROR(INDEX(TABPREBB!$A$10:$AF$281,MATCH($B$1&ROW($A98),TABPREBB!$AH$10:$AH$281,0),COLUMN()),\"\")","v":""},{"$f":"IFERROR(INDEX(TABPREBB!$A$10:$AF$281,MATCH($B$1&ROW($A98),TABPREBB!$AH$10:$AH$281,0),COLUMN()),\"\")","v":""},{"$f":"IFERROR(INDEX(TABPREBB!$A$10:$AF$281,MATCH($B$1&ROW($A98),TABPREBB!$AH$10:$AH$281,0),COLUMN()),\"\")","v":""},{"$f":"IFERROR(INDEX(TABPREBB!$A$10:$AF$281,MATCH($B$1&ROW($A98),TABPREBB!$AH$10:$AH$281,0),COLUMN()),\"\")","v":""},{"$f":"IFERROR(INDEX(TABPREBB!$A$10:$AF$281,MATCH($B$1&ROW($A98),TABPREBB!$AH$10:$AH$281,0),COLUMN()),\"\")","v":""},{"$f":"IFERROR(INDEX(TABPREBB!$A$10:$AF$281,MATCH($B$1&ROW($A98),TABPREBB!$AH$10:$AH$281,0),COLUMN()),\"\")","v":""},{"$f":"IFERROR(INDEX(TABPREBB!$A$10:$AF$281,MATCH($B$1&ROW($A98),TABPREBB!$AH$10:$AH$281,0),COLUMN()),\"\")","v":""},{"$f":"IFERROR(INDEX(TABPREBB!$A$10:$AF$281,MATCH($B$1&ROW($A98),TABPREBB!$AH$10:$AH$281,0),COLUMN()),\"\")","v":""},{"$f":"IFERROR(INDEX(TABPREBB!$A$10:$AF$281,MATCH($B$1&ROW($A98),TABPREBB!$AH$10:$AH$281,0),COLUMN()),\"\")","v":""},{"$f":"IFERROR(INDEX(TABPREBB!$A$10:$AF$281,MATCH($B$1&ROW($A98),TABPREBB!$AH$10:$AH$281,0),COLUMN()),\"\")","v":""},{"$f":"IFERROR(INDEX(TABPREBB!$A$10:$AF$281,MATCH($B$1&ROW($A98),TABPREBB!$AH$10:$AH$281,0),COLUMN()),\"\")","v":""},{"$f":"IFERROR(INDEX(TABPREBB!$A$10:$AF$281,MATCH($B$1&ROW($A98),TABPREBB!$AH$10:$AH$281,0),COLUMN()),\"\")","v":""},{"$f":"IFERROR(INDEX(TABPREBB!$A$10:$AF$281,MATCH($B$1&ROW($A98),TABPREBB!$AH$10:$AH$281,0),COLUMN()),\"\")","v":""},{"$f":"IFERROR(INDEX(TABPREBB!$A$10:$AF$281,MATCH($B$1&ROW($A98),TABPREBB!$AH$10:$AH$281,0),COLUMN()),\"\")","v":""},{"$f":"IFERROR(INDEX(TABPREBB!$A$10:$AF$281,MATCH($B$1&ROW($A98),TABPREBB!$AH$10:$AH$281,0),COLUMN()),\"\")","v":""},{"$f":"IFERROR(INDEX(TABPREBB!$A$10:$AF$281,MATCH($B$1&ROW($A98),TABPREBB!$AH$10:$AH$281,0),COLUMN()),\"\")","v":""},{"$f":"IFERROR(INDEX(TABPREBB!$A$10:$AF$281,MATCH($B$1&ROW($A98),TABPREBB!$AH$10:$AH$281,0),COLUMN()),\"\")","v":""},{"$f":"IFERROR(INDEX(TABPREBB!$A$10:$AF$281,MATCH($B$1&ROW($A98),TABPREBB!$AH$10:$AH$281,0),COLUMN()),\"\")","v":""},{"$f":"IFERROR(INDEX(TABPREBB!$A$10:$AF$281,MATCH($B$1&ROW($A98),TABPREBB!$AH$10:$AH$281,0),COLUMN()),\"\")","v":""},{"$f":"IFERROR(INDEX(TABPREBB!$A$10:$AF$281,MATCH($B$1&ROW($A98),TABPREBB!$AH$10:$AH$281,0),COLUMN()),\"\")","v":""},{"$f":"IFERROR(INDEX(TABPREBB!$A$10:$AF$281,MATCH($B$1&ROW($A98),TABPREBB!$AH$10:$AH$281,0),COLUMN()),\"\")","v":""},{"$f":"IFERROR(INDEX(TABPREBB!$A$10:$AF$281,MATCH($B$1&ROW($A98),TABPREBB!$AH$10:$AH$281,0),COLUMN()),\"\")","v":""},{"$f":"IFERROR(INDEX(TABPREBB!$A$10:$AF$281,MATCH($B$1&ROW($A98),TABPREBB!$AH$10:$AH$281,0),COLUMN()),\"\")","v":""},{"$f":"IFERROR(INDEX(TABPREBB!$A$10:$AF$281,MATCH($B$1&ROW($A98),TABPREBB!$AH$10:$AH$281,0),COLUMN()),\"\")","v":""},{"$f":"IFERROR(INDEX(TABPREBB!$A$10:$AF$281,MATCH($B$1&ROW($A98),TABPREBB!$AH$10:$AH$281,0),COLUMN()),\"\")","v":""}]
[{"$f":"IFERROR(INDEX(TABPREBB!$A$10:$AF$281,MATCH($B$1&ROW($A99),TABPREBB!$AH$10:$AH$281,0),COLUMN()),\"\")","v":""},{"$f":"IFERROR(INDEX(TABPREBB!$A$10:$AF$281,MATCH($B$1&ROW($A99),TABPREBB!$AH$10:$AH$281,0),COLUMN()),\"\")","v":""},{"$f":"IFERROR(INDEX(TABPREBB!$A$10:$AF$281,MATCH($B$1&ROW($A99),TABPREBB!$AH$10:$AH$281,0),COLUMN()),\"\")","v":""},{"$f":"IFERROR(INDEX(TABPREBB!$A$10:$AF$281,MATCH($B$1&ROW($A99),TABPREBB!$AH$10:$AH$281,0),COLUMN()),\"\")","v":""},{"$f":"IFERROR(INDEX(TABPREBB!$A$10:$AF$281,MATCH($B$1&ROW($A99),TABPREBB!$AH$10:$AH$281,0),COLUMN()),\"\")","v":""},{"$f":"IFERROR(INDEX(TABPREBB!$A$10:$AF$281,MATCH($B$1&ROW($A99),TABPREBB!$AH$10:$AH$281,0),COLUMN()),\"\")","v":""},{"$f":"IFERROR(INDEX(TABPREBB!$A$10:$AF$281,MATCH($B$1&ROW($A99),TABPREBB!$AH$10:$AH$281,0),COLUMN()),\"\")","v":""},{"$f":"IFERROR(INDEX(TABPREBB!$A$10:$AF$281,MATCH($B$1&ROW($A99),TABPREBB!$AH$10:$AH$281,0),COLUMN()),\"\")","v":""},{"$f":"IFERROR(INDEX(TABPREBB!$A$10:$AF$281,MATCH($B$1&ROW($A99),TABPREBB!$AH$10:$AH$281,0),COLUMN()),\"\")","v":""},{"$f":"IFERROR(INDEX(TABPREBB!$A$10:$AF$281,MATCH($B$1&ROW($A99),TABPREBB!$AH$10:$AH$281,0),COLUMN()),\"\")","v":""},{"$f":"IFERROR(INDEX(TABPREBB!$A$10:$AF$281,MATCH($B$1&ROW($A99),TABPREBB!$AH$10:$AH$281,0),COLUMN()),\"\")","v":""},{"$f":"IFERROR(INDEX(TABPREBB!$A$10:$AF$281,MATCH($B$1&ROW($A99),TABPREBB!$AH$10:$AH$281,0),COLUMN()),\"\")","v":""},{"$f":"IFERROR(INDEX(TABPREBB!$A$10:$AF$281,MATCH($B$1&ROW($A99),TABPREBB!$AH$10:$AH$281,0),COLUMN()),\"\")","v":""},{"$f":"IFERROR(INDEX(TABPREBB!$A$10:$AF$281,MATCH($B$1&ROW($A99),TABPREBB!$AH$10:$AH$281,0),COLUMN()),\"\")","v":""},{"$f":"IFERROR(INDEX(TABPREBB!$A$10:$AF$281,MATCH($B$1&ROW($A99),TABPREBB!$AH$10:$AH$281,0),COLUMN()),\"\")","v":""},{"$f":"IFERROR(INDEX(TABPREBB!$A$10:$AF$281,MATCH($B$1&ROW($A99),TABPREBB!$AH$10:$AH$281,0),COLUMN()),\"\")","v":""},{"$f":"IFERROR(INDEX(TABPREBB!$A$10:$AF$281,MATCH($B$1&ROW($A99),TABPREBB!$AH$10:$AH$281,0),COLUMN()),\"\")","v":""},{"$f":"IFERROR(INDEX(TABPREBB!$A$10:$AF$281,MATCH($B$1&ROW($A99),TABPREBB!$AH$10:$AH$281,0),COLUMN()),\"\")","v":""},{"$f":"IFERROR(INDEX(TABPREBB!$A$10:$AF$281,MATCH($B$1&ROW($A99),TABPREBB!$AH$10:$AH$281,0),COLUMN()),\"\")","v":""},{"$f":"IFERROR(INDEX(TABPREBB!$A$10:$AF$281,MATCH($B$1&ROW($A99),TABPREBB!$AH$10:$AH$281,0),COLUMN()),\"\")","v":""},{"$f":"IFERROR(INDEX(TABPREBB!$A$10:$AF$281,MATCH($B$1&ROW($A99),TABPREBB!$AH$10:$AH$281,0),COLUMN()),\"\")","v":""},{"$f":"IFERROR(INDEX(TABPREBB!$A$10:$AF$281,MATCH($B$1&ROW($A99),TABPREBB!$AH$10:$AH$281,0),COLUMN()),\"\")","v":""},{"$f":"IFERROR(INDEX(TABPREBB!$A$10:$AF$281,MATCH($B$1&ROW($A99),TABPREBB!$AH$10:$AH$281,0),COLUMN()),\"\")","v":""},{"$f":"IFERROR(INDEX(TABPREBB!$A$10:$AF$281,MATCH($B$1&ROW($A99),TABPREBB!$AH$10:$AH$281,0),COLUMN()),\"\")","v":""},{"$f":"IFERROR(INDEX(TABPREBB!$A$10:$AF$281,MATCH($B$1&ROW($A99),TABPREBB!$AH$10:$AH$281,0),COLUMN()),\"\")","v":""},{"$f":"IFERROR(INDEX(TABPREBB!$A$10:$AF$281,MATCH($B$1&ROW($A99),TABPREBB!$AH$10:$AH$281,0),COLUMN()),\"\")","v":""},{"$f":"IFERROR(INDEX(TABPREBB!$A$10:$AF$281,MATCH($B$1&ROW($A99),TABPREBB!$AH$10:$AH$281,0),COLUMN()),\"\")","v":""},{"$f":"IFERROR(INDEX(TABPREBB!$A$10:$AF$281,MATCH($B$1&ROW($A99),TABPREBB!$AH$10:$AH$281,0),COLUMN()),\"\")","v":""},{"$f":"IFERROR(INDEX(TABPREBB!$A$10:$AF$281,MATCH($B$1&ROW($A99),TABPREBB!$AH$10:$AH$281,0),COLUMN()),\"\")","v":""},{"$f":"IFERROR(INDEX(TABPREBB!$A$10:$AF$281,MATCH($B$1&ROW($A99),TABPREBB!$AH$10:$AH$281,0),COLUMN()),\"\")","v":""},{"$f":"IFERROR(INDEX(TABPREBB!$A$10:$AF$281,MATCH($B$1&ROW($A99),TABPREBB!$AH$10:$AH$281,0),COLUMN()),\"\")","v":""},{"$f":"IFERROR(INDEX(TABPREBB!$A$10:$AF$281,MATCH($B$1&ROW($A99),TABPREBB!$AH$10:$AH$281,0),COLUMN()),\"\")","v":""}]
[{"$f":"IFERROR(INDEX(TABPREBB!$A$10:$AF$281,MATCH($B$1&ROW($A100),TABPREBB!$AH$10:$AH$281,0),COLUMN()),\"\")","v":""},{"$f":"IFERROR(INDEX(TABPREBB!$A$10:$AF$281,MATCH($B$1&ROW($A100),TABPREBB!$AH$10:$AH$281,0),COLUMN()),\"\")","v":""},{"$f":"IFERROR(INDEX(TABPREBB!$A$10:$AF$281,MATCH($B$1&ROW($A100),TABPREBB!$AH$10:$AH$281,0),COLUMN()),\"\")","v":""},{"$f":"IFERROR(INDEX(TABPREBB!$A$10:$AF$281,MATCH($B$1&ROW($A100),TABPREBB!$AH$10:$AH$281,0),COLUMN()),\"\")","v":""},{"$f":"IFERROR(INDEX(TABPREBB!$A$10:$AF$281,MATCH($B$1&ROW($A100),TABPREBB!$AH$10:$AH$281,0),COLUMN()),\"\")","v":""},{"$f":"IFERROR(INDEX(TABPREBB!$A$10:$AF$281,MATCH($B$1&ROW($A100),TABPREBB!$AH$10:$AH$281,0),COLUMN()),\"\")","v":""},{"$f":"IFERROR(INDEX(TABPREBB!$A$10:$AF$281,MATCH($B$1&ROW($A100),TABPREBB!$AH$10:$AH$281,0),COLUMN()),\"\")","v":""},{"$f":"IFERROR(INDEX(TABPREBB!$A$10:$AF$281,MATCH($B$1&ROW($A100),TABPREBB!$AH$10:$AH$281,0),COLUMN()),\"\")","v":""},{"$f":"IFERROR(INDEX(TABPREBB!$A$10:$AF$281,MATCH($B$1&ROW($A100),TABPREBB!$AH$10:$AH$281,0),COLUMN()),\"\")","v":""},{"$f":"IFERROR(INDEX(TABPREBB!$A$10:$AF$281,MATCH($B$1&ROW($A100),TABPREBB!$AH$10:$AH$281,0),COLUMN()),\"\")","v":""},{"$f":"IFERROR(INDEX(TABPREBB!$A$10:$AF$281,MATCH($B$1&ROW($A100),TABPREBB!$AH$10:$AH$281,0),COLUMN()),\"\")","v":""},{"$f":"IFERROR(INDEX(TABPREBB!$A$10:$AF$281,MATCH($B$1&ROW($A100),TABPREBB!$AH$10:$AH$281,0),COLUMN()),\"\")","v":""},{"$f":"IFERROR(INDEX(TABPREBB!$A$10:$AF$281,MATCH($B$1&ROW($A100),TABPREBB!$AH$10:$AH$281,0),COLUMN()),\"\")","v":""},{"$f":"IFERROR(INDEX(TABPREBB!$A$10:$AF$281,MATCH($B$1&ROW($A100),TABPREBB!$AH$10:$AH$281,0),COLUMN()),\"\")","v":""},{"$f":"IFERROR(INDEX(TABPREBB!$A$10:$AF$281,MATCH($B$1&ROW($A100),TABPREBB!$AH$10:$AH$281,0),COLUMN()),\"\")","v":""},{"$f":"IFERROR(INDEX(TABPREBB!$A$10:$AF$281,MATCH($B$1&ROW($A100),TABPREBB!$AH$10:$AH$281,0),COLUMN()),\"\")","v":""},{"$f":"IFERROR(INDEX(TABPREBB!$A$10:$AF$281,MATCH($B$1&ROW($A100),TABPREBB!$AH$10:$AH$281,0),COLUMN()),\"\")","v":""},{"$f":"IFERROR(INDEX(TABPREBB!$A$10:$AF$281,MATCH($B$1&ROW($A100),TABPREBB!$AH$10:$AH$281,0),COLUMN()),\"\")","v":""},{"$f":"IFERROR(INDEX(TABPREBB!$A$10:$AF$281,MATCH($B$1&ROW($A100),TABPREBB!$AH$10:$AH$281,0),COLUMN()),\"\")","v":""},{"$f":"IFERROR(INDEX(TABPREBB!$A$10:$AF$281,MATCH($B$1&ROW($A100),TABPREBB!$AH$10:$AH$281,0),COLUMN()),\"\")","v":""},{"$f":"IFERROR(INDEX(TABPREBB!$A$10:$AF$281,MATCH($B$1&ROW($A100),TABPREBB!$AH$10:$AH$281,0),COLUMN()),\"\")","v":""},{"$f":"IFERROR(INDEX(TABPREBB!$A$10:$AF$281,MATCH($B$1&ROW($A100),TABPREBB!$AH$10:$AH$281,0),COLUMN()),\"\")","v":""},{"$f":"IFERROR(INDEX(TABPREBB!$A$10:$AF$281,MATCH($B$1&ROW($A100),TABPREBB!$AH$10:$AH$281,0),COLUMN()),\"\")","v":""},{"$f":"IFERROR(INDEX(TABPREBB!$A$10:$AF$281,MATCH($B$1&ROW($A100),TABPREBB!$AH$10:$AH$281,0),COLUMN()),\"\")","v":""},{"$f":"IFERROR(INDEX(TABPREBB!$A$10:$AF$281,MATCH($B$1&ROW($A100),TABPREBB!$AH$10:$AH$281,0),COLUMN()),\"\")","v":""},{"$f":"IFERROR(INDEX(TABPREBB!$A$10:$AF$281,MATCH($B$1&ROW($A100),TABPREBB!$AH$10:$AH$281,0),COLUMN()),\"\")","v":""},{"$f":"IFERROR(INDEX(TABPREBB!$A$10:$AF$281,MATCH($B$1&ROW($A100),TABPREBB!$AH$10:$AH$281,0),COLUMN()),\"\")","v":""},{"$f":"IFERROR(INDEX(TABPREBB!$A$10:$AF$281,MATCH($B$1&ROW($A100),TABPREBB!$AH$10:$AH$281,0),COLUMN()),\"\")","v":""},{"$f":"IFERROR(INDEX(TABPREBB!$A$10:$AF$281,MATCH($B$1&ROW($A100),TABPREBB!$AH$10:$AH$281,0),COLUMN()),\"\")","v":""},{"$f":"IFERROR(INDEX(TABPREBB!$A$10:$AF$281,MATCH($B$1&ROW($A100),TABPREBB!$AH$10:$AH$281,0),COLUMN()),\"\")","v":""},{"$f":"IFERROR(INDEX(TABPREBB!$A$10:$AF$281,MATCH($B$1&ROW($A100),TABPREBB!$AH$10:$AH$281,0),COLUMN()),\"\")","v":""},{"$f":"IFERROR(INDEX(TABPREBB!$A$10:$AF$281,MATCH($B$1&ROW($A100),TABPREBB!$AH$10:$AH$281,0),COLUMN()),\"\")","v":""}]
[{"$f":"IFERROR(INDEX(TABPREBB!$A$10:$AF$281,MATCH($B$1&ROW($A101),TABPREBB!$AH$10:$AH$281,0),COLUMN()),\"\")","v":""},{"$f":"IFERROR(INDEX(TABPREBB!$A$10:$AF$281,MATCH($B$1&ROW($A101),TABPREBB!$AH$10:$AH$281,0),COLUMN()),\"\")","v":""},{"$f":"IFERROR(INDEX(TABPREBB!$A$10:$AF$281,MATCH($B$1&ROW($A101),TABPREBB!$AH$10:$AH$281,0),COLUMN()),\"\")","v":""},{"$f":"IFERROR(INDEX(TABPREBB!$A$10:$AF$281,MATCH($B$1&ROW($A101),TABPREBB!$AH$10:$AH$281,0),COLUMN()),\"\")","v":""},{"$f":"IFERROR(INDEX(TABPREBB!$A$10:$AF$281,MATCH($B$1&ROW($A101),TABPREBB!$AH$10:$AH$281,0),COLUMN()),\"\")","v":""},{"$f":"IFERROR(INDEX(TABPREBB!$A$10:$AF$281,MATCH($B$1&ROW($A101),TABPREBB!$AH$10:$AH$281,0),COLUMN()),\"\")","v":""},{"$f":"IFERROR(INDEX(TABPREBB!$A$10:$AF$281,MATCH($B$1&ROW($A101),TABPREBB!$AH$10:$AH$281,0),COLUMN()),\"\")","v":""},{"$f":"IFERROR(INDEX(TABPREBB!$A$10:$AF$281,MATCH($B$1&ROW($A101),TABPREBB!$AH$10:$AH$281,0),COLUMN()),\"\")","v":""},{"$f":"IFERROR(INDEX(TABPREBB!$A$10:$AF$281,MATCH($B$1&ROW($A101),TABPREBB!$AH$10:$AH$281,0),COLUMN()),\"\")","v":""},{"$f":"IFERROR(INDEX(TABPREBB!$A$10:$AF$281,MATCH($B$1&ROW($A101),TABPREBB!$AH$10:$AH$281,0),COLUMN()),\"\")","v":""},{"$f":"IFERROR(INDEX(TABPREBB!$A$10:$AF$281,MATCH($B$1&ROW($A101),TABPREBB!$AH$10:$AH$281,0),COLUMN()),\"\")","v":""},{"$f":"IFERROR(INDEX(TABPREBB!$A$10:$AF$281,MATCH($B$1&ROW($A101),TABPREBB!$AH$10:$AH$281,0),COLUMN()),\"\")","v":""},{"$f":"IFERROR(INDEX(TABPREBB!$A$10:$AF$281,MATCH($B$1&ROW($A101),TABPREBB!$AH$10:$AH$281,0),COLUMN()),\"\")","v":""},{"$f":"IFERROR(INDEX(TABPREBB!$A$10:$AF$281,MATCH($B$1&ROW($A101),TABPREBB!$AH$10:$AH$281,0),COLUMN()),\"\")","v":""},{"$f":"IFERROR(INDEX(TABPREBB!$A$10:$AF$281,MATCH($B$1&ROW($A101),TABPREBB!$AH$10:$AH$281,0),COLUMN()),\"\")","v":""},{"$f":"IFERROR(INDEX(TABPREBB!$A$10:$AF$281,MATCH($B$1&ROW($A101),TABPREBB!$AH$10:$AH$281,0),COLUMN()),\"\")","v":""},{"$f":"IFERROR(INDEX(TABPREBB!$A$10:$AF$281,MATCH($B$1&ROW($A101),TABPREBB!$AH$10:$AH$281,0),COLUMN()),\"\")","v":""},{"$f":"IFERROR(INDEX(TABPREBB!$A$10:$AF$281,MATCH($B$1&ROW($A101),TABPREBB!$AH$10:$AH$281,0),COLUMN()),\"\")","v":""},{"$f":"IFERROR(INDEX(TABPREBB!$A$10:$AF$281,MATCH($B$1&ROW($A101),TABPREBB!$AH$10:$AH$281,0),COLUMN()),\"\")","v":""},{"$f":"IFERROR(INDEX(TABPREBB!$A$10:$AF$281,MATCH($B$1&ROW($A101),TABPREBB!$AH$10:$AH$281,0),COLUMN()),\"\")","v":""},{"$f":"IFERROR(INDEX(TABPREBB!$A$10:$AF$281,MATCH($B$1&ROW($A101),TABPREBB!$AH$10:$AH$281,0),COLUMN()),\"\")","v":""},{"$f":"IFERROR(INDEX(TABPREBB!$A$10:$AF$281,MATCH($B$1&ROW($A101),TABPREBB!$AH$10:$AH$281,0),COLUMN()),\"\")","v":""},{"$f":"IFERROR(INDEX(TABPREBB!$A$10:$AF$281,MATCH($B$1&ROW($A101),TABPREBB!$AH$10:$AH$281,0),COLUMN()),\"\")","v":""},{"$f":"IFERROR(INDEX(TABPREBB!$A$10:$AF$281,MATCH($B$1&ROW($A101),TABPREBB!$AH$10:$AH$281,0),COLUMN()),\"\")","v":""},{"$f":"IFERROR(INDEX(TABPREBB!$A$10:$AF$281,MATCH($B$1&ROW($A101),TABPREBB!$AH$10:$AH$281,0),COLUMN()),\"\")","v":""},{"$f":"IFERROR(INDEX(TABPREBB!$A$10:$AF$281,MATCH($B$1&ROW($A101),TABPREBB!$AH$10:$AH$281,0),COLUMN()),\"\")","v":""},{"$f":"IFERROR(INDEX(TABPREBB!$A$10:$AF$281,MATCH($B$1&ROW($A101),TABPREBB!$AH$10:$AH$281,0),COLUMN()),\"\")","v":""},{"$f":"IFERROR(INDEX(TABPREBB!$A$10:$AF$281,MATCH($B$1&ROW($A101),TABPREBB!$AH$10:$AH$281,0),COLUMN()),\"\")","v":""},{"$f":"IFERROR(INDEX(TABPREBB!$A$10:$AF$281,MATCH($B$1&ROW($A101),TABPREBB!$AH$10:$AH$281,0),COLUMN()),\"\")","v":""},{"$f":"IFERROR(INDEX(TABPREBB!$A$10:$AF$281,MATCH($B$1&ROW($A101),TABPREBB!$AH$10:$AH$281,0),COLUMN()),\"\")","v":""},{"$f":"IFERROR(INDEX(TABPREBB!$A$10:$AF$281,MATCH($B$1&ROW($A101),TABPREBB!$AH$10:$AH$281,0),COLUMN()),\"\")","v":""},{"$f":"IFERROR(INDEX(TABPREBB!$A$10:$AF$281,MATCH($B$1&ROW($A101),TABPREBB!$AH$10:$AH$281,0),COLUMN()),\"\")","v":""}]
[{"$f":"IFERROR(INDEX(TABPREBB!$A$10:$AF$281,MATCH($B$1&ROW($A102),TABPREBB!$AH$10:$AH$281,0),COLUMN()),\"\")","v":""},{"$f":"IFERROR(INDEX(TABPREBB!$A$10:$AF$281,MATCH($B$1&ROW($A102),TABPREBB!$AH$10:$AH$281,0),COLUMN()),\"\")","v":""},{"$f":"IFERROR(INDEX(TABPREBB!$A$10:$AF$281,MATCH($B$1&ROW($A102),TABPREBB!$AH$10:$AH$281,0),COLUMN()),\"\")","v":""},{"$f":"IFERROR(INDEX(TABPREBB!$A$10:$AF$281,MATCH($B$1&ROW($A102),TABPREBB!$AH$10:$AH$281,0),COLUMN()),\"\")","v":""},{"$f":"IFERROR(INDEX(TABPREBB!$A$10:$AF$281,MATCH($B$1&ROW($A102),TABPREBB!$AH$10:$AH$281,0),COLUMN()),\"\")","v":""},{"$f":"IFERROR(INDEX(TABPREBB!$A$10:$AF$281,MATCH($B$1&ROW($A102),TABPREBB!$AH$10:$AH$281,0),COLUMN()),\"\")","v":""},{"$f":"IFERROR(INDEX(TABPREBB!$A$10:$AF$281,MATCH($B$1&ROW($A102),TABPREBB!$AH$10:$AH$281,0),COLUMN()),\"\")","v":""},{"$f":"IFERROR(INDEX(TABPREBB!$A$10:$AF$281,MATCH($B$1&ROW($A102),TABPREBB!$AH$10:$AH$281,0),COLUMN()),\"\")","v":""},{"$f":"IFERROR(INDEX(TABPREBB!$A$10:$AF$281,MATCH($B$1&ROW($A102),TABPREBB!$AH$10:$AH$281,0),COLUMN()),\"\")","v":""},{"$f":"IFERROR(INDEX(TABPREBB!$A$10:$AF$281,MATCH($B$1&ROW($A102),TABPREBB!$AH$10:$AH$281,0),COLUMN()),\"\")","v":""},{"$f":"IFERROR(INDEX(TABPREBB!$A$10:$AF$281,MATCH($B$1&ROW($A102),TABPREBB!$AH$10:$AH$281,0),COLUMN()),\"\")","v":""},{"$f":"IFERROR(INDEX(TABPREBB!$A$10:$AF$281,MATCH($B$1&ROW($A102),TABPREBB!$AH$10:$AH$281,0),COLUMN()),\"\")","v":""},{"$f":"IFERROR(INDEX(TABPREBB!$A$10:$AF$281,MATCH($B$1&ROW($A102),TABPREBB!$AH$10:$AH$281,0),COLUMN()),\"\")","v":""},{"$f":"IFERROR(INDEX(TABPREBB!$A$10:$AF$281,MATCH($B$1&ROW($A102),TABPREBB!$AH$10:$AH$281,0),COLUMN()),\"\")","v":""},{"$f":"IFERROR(INDEX(TABPREBB!$A$10:$AF$281,MATCH($B$1&ROW($A102),TABPREBB!$AH$10:$AH$281,0),COLUMN()),\"\")","v":""},{"$f":"IFERROR(INDEX(TABPREBB!$A$10:$AF$281,MATCH($B$1&ROW($A102),TABPREBB!$AH$10:$AH$281,0),COLUMN()),\"\")","v":""},{"$f":"IFERROR(INDEX(TABPREBB!$A$10:$AF$281,MATCH($B$1&ROW($A102),TABPREBB!$AH$10:$AH$281,0),COLUMN()),\"\")","v":""},{"$f":"IFERROR(INDEX(TABPREBB!$A$10:$AF$281,MATCH($B$1&ROW($A102),TABPREBB!$AH$10:$AH$281,0),COLUMN()),\"\")","v":""},{"$f":"IFERROR(INDEX(TABPREBB!$A$10:$AF$281,MATCH($B$1&ROW($A102),TABPREBB!$AH$10:$AH$281,0),COLUMN()),\"\")","v":""},{"$f":"IFERROR(INDEX(TABPREBB!$A$10:$AF$281,MATCH($B$1&ROW($A102),TABPREBB!$AH$10:$AH$281,0),COLUMN()),\"\")","v":""},{"$f":"IFERROR(INDEX(TABPREBB!$A$10:$AF$281,MATCH($B$1&ROW($A102),TABPREBB!$AH$10:$AH$281,0),COLUMN()),\"\")","v":""},{"$f":"IFERROR(INDEX(TABPREBB!$A$10:$AF$281,MATCH($B$1&ROW($A102),TABPREBB!$AH$10:$AH$281,0),COLUMN()),\"\")","v":""},{"$f":"IFERROR(INDEX(TABPREBB!$A$10:$AF$281,MATCH($B$1&ROW($A102),TABPREBB!$AH$10:$AH$281,0),COLUMN()),\"\")","v":""},{"$f":"IFERROR(INDEX(TABPREBB!$A$10:$AF$281,MATCH($B$1&ROW($A102),TABPREBB!$AH$10:$AH$281,0),COLUMN()),\"\")","v":""},{"$f":"IFERROR(INDEX(TABPREBB!$A$10:$AF$281,MATCH($B$1&ROW($A102),TABPREBB!$AH$10:$AH$281,0),COLUMN()),\"\")","v":""},{"$f":"IFERROR(INDEX(TABPREBB!$A$10:$AF$281,MATCH($B$1&ROW($A102),TABPREBB!$AH$10:$AH$281,0),COLUMN()),\"\")","v":""},{"$f":"IFERROR(INDEX(TABPREBB!$A$10:$AF$281,MATCH($B$1&ROW($A102),TABPREBB!$AH$10:$AH$281,0),COLUMN()),\"\")","v":""},{"$f":"IFERROR(INDEX(TABPREBB!$A$10:$AF$281,MATCH($B$1&ROW($A102),TABPREBB!$AH$10:$AH$281,0),COLUMN()),\"\")","v":""},{"$f":"IFERROR(INDEX(TABPREBB!$A$10:$AF$281,MATCH($B$1&ROW($A102),TABPREBB!$AH$10:$AH$281,0),COLUMN()),\"\")","v":""},{"$f":"IFERROR(INDEX(TABPREBB!$A$10:$AF$281,MATCH($B$1&ROW($A102),TABPREBB!$AH$10:$AH$281,0),COLUMN()),\"\")","v":""},{"$f":"IFERROR(INDEX(TABPREBB!$A$10:$AF$281,MATCH($B$1&ROW($A102),TABPREBB!$AH$10:$AH$281,0),COLUMN()),\"\")","v":""},{"$f":"IFERROR(INDEX(TABPREBB!$A$10:$AF$281,MATCH($B$1&ROW($A102),TABPREBB!$AH$10:$AH$281,0),COLUMN()),\"\")","v":""}]
[{"$f":"IFERROR(INDEX(TABPREBB!$A$10:$AF$281,MATCH($B$1&ROW($A103),TABPREBB!$AH$10:$AH$281,0),COLUMN()),\"\")","v":""},{"$f":"IFERROR(INDEX(TABPREBB!$A$10:$AF$281,MATCH($B$1&ROW($A103),TABPREBB!$AH$10:$AH$281,0),COLUMN()),\"\")","v":""},{"$f":"IFERROR(INDEX(TABPREBB!$A$10:$AF$281,MATCH($B$1&ROW($A103),TABPREBB!$AH$10:$AH$281,0),COLUMN()),\"\")","v":""},{"$f":"IFERROR(INDEX(TABPREBB!$A$10:$AF$281,MATCH($B$1&ROW($A103),TABPREBB!$AH$10:$AH$281,0),COLUMN()),\"\")","v":""},{"$f":"IFERROR(INDEX(TABPREBB!$A$10:$AF$281,MATCH($B$1&ROW($A103),TABPREBB!$AH$10:$AH$281,0),COLUMN()),\"\")","v":""},{"$f":"IFERROR(INDEX(TABPREBB!$A$10:$AF$281,MATCH($B$1&ROW($A103),TABPREBB!$AH$10:$AH$281,0),COLUMN()),\"\")","v":""},{"$f":"IFERROR(INDEX(TABPREBB!$A$10:$AF$281,MATCH($B$1&ROW($A103),TABPREBB!$AH$10:$AH$281,0),COLUMN()),\"\")","v":""},{"$f":"IFERROR(INDEX(TABPREBB!$A$10:$AF$281,MATCH($B$1&ROW($A103),TABPREBB!$AH$10:$AH$281,0),COLUMN()),\"\")","v":""},{"$f":"IFERROR(INDEX(TABPREBB!$A$10:$AF$281,MATCH($B$1&ROW($A103),TABPREBB!$AH$10:$AH$281,0),COLUMN()),\"\")","v":""},{"$f":"IFERROR(INDEX(TABPREBB!$A$10:$AF$281,MATCH($B$1&ROW($A103),TABPREBB!$AH$10:$AH$281,0),COLUMN()),\"\")","v":""},{"$f":"IFERROR(INDEX(TABPREBB!$A$10:$AF$281,MATCH($B$1&ROW($A103),TABPREBB!$AH$10:$AH$281,0),COLUMN()),\"\")","v":""},{"$f":"IFERROR(INDEX(TABPREBB!$A$10:$AF$281,MATCH($B$1&ROW($A103),TABPREBB!$AH$10:$AH$281,0),COLUMN()),\"\")","v":""},{"$f":"IFERROR(INDEX(TABPREBB!$A$10:$AF$281,MATCH($B$1&ROW($A103),TABPREBB!$AH$10:$AH$281,0),COLUMN()),\"\")","v":""},{"$f":"IFERROR(INDEX(TABPREBB!$A$10:$AF$281,MATCH($B$1&ROW($A103),TABPREBB!$AH$10:$AH$281,0),COLUMN()),\"\")","v":""},{"$f":"IFERROR(INDEX(TABPREBB!$A$10:$AF$281,MATCH($B$1&ROW($A103),TABPREBB!$AH$10:$AH$281,0),COLUMN()),\"\")","v":""},{"$f":"IFERROR(INDEX(TABPREBB!$A$10:$AF$281,MATCH($B$1&ROW($A103),TABPREBB!$AH$10:$AH$281,0),COLUMN()),\"\")","v":""},{"$f":"IFERROR(INDEX(TABPREBB!$A$10:$AF$281,MATCH($B$1&ROW($A103),TABPREBB!$AH$10:$AH$281,0),COLUMN()),\"\")","v":""},{"$f":"IFERROR(INDEX(TABPREBB!$A$10:$AF$281,MATCH($B$1&ROW($A103),TABPREBB!$AH$10:$AH$281,0),COLUMN()),\"\")","v":""},{"$f":"IFERROR(INDEX(TABPREBB!$A$10:$AF$281,MATCH($B$1&ROW($A103),TABPREBB!$AH$10:$AH$281,0),COLUMN()),\"\")","v":""},{"$f":"IFERROR(INDEX(TABPREBB!$A$10:$AF$281,MATCH($B$1&ROW($A103),TABPREBB!$AH$10:$AH$281,0),COLUMN()),\"\")","v":""},{"$f":"IFERROR(INDEX(TABPREBB!$A$10:$AF$281,MATCH($B$1&ROW($A103),TABPREBB!$AH$10:$AH$281,0),COLUMN()),\"\")","v":""},{"$f":"IFERROR(INDEX(TABPREBB!$A$10:$AF$281,MATCH($B$1&ROW($A103),TABPREBB!$AH$10:$AH$281,0),COLUMN()),\"\")","v":""},{"$f":"IFERROR(INDEX(TABPREBB!$A$10:$AF$281,MATCH($B$1&ROW($A103),TABPREBB!$AH$10:$AH$281,0),COLUMN()),\"\")","v":""},{"$f":"IFERROR(INDEX(TABPREBB!$A$10:$AF$281,MATCH($B$1&ROW($A103),TABPREBB!$AH$10:$AH$281,0),COLUMN()),\"\")","v":""},{"$f":"IFERROR(INDEX(TABPREBB!$A$10:$AF$281,MATCH($B$1&ROW($A103),TABPREBB!$AH$10:$AH$281,0),COLUMN()),\"\")","v":""},{"$f":"IFERROR(INDEX(TABPREBB!$A$10:$AF$281,MATCH($B$1&ROW($A103),TABPREBB!$AH$10:$AH$281,0),COLUMN()),\"\")","v":""},{"$f":"IFERROR(INDEX(TABPREBB!$A$10:$AF$281,MATCH($B$1&ROW($A103),TABPREBB!$AH$10:$AH$281,0),COLUMN()),\"\")","v":""},{"$f":"IFERROR(INDEX(TABPREBB!$A$10:$AF$281,MATCH($B$1&ROW($A103),TABPREBB!$AH$10:$AH$281,0),COLUMN()),\"\")","v":""},{"$f":"IFERROR(INDEX(TABPREBB!$A$10:$AF$281,MATCH($B$1&ROW($A103),TABPREBB!$AH$10:$AH$281,0),COLUMN()),\"\")","v":""},{"$f":"IFERROR(INDEX(TABPREBB!$A$10:$AF$281,MATCH($B$1&ROW($A103),TABPREBB!$AH$10:$AH$281,0),COLUMN()),\"\")","v":""},{"$f":"IFERROR(INDEX(TABPREBB!$A$10:$AF$281,MATCH($B$1&ROW($A103),TABPREBB!$AH$10:$AH$281,0),COLUMN()),\"\")","v":""},{"$f":"IFERROR(INDEX(TABPREBB!$A$10:$AF$281,MATCH($B$1&ROW($A103),TABPREBB!$AH$10:$AH$281,0),COLUMN()),\"\")","v":""}]
[{"$f":"IFERROR(INDEX(TABPREBB!$A$10:$AF$281,MATCH($B$1&ROW($A104),TABPREBB!$AH$10:$AH$281,0),COLUMN()),\"\")","v":""},{"$f":"IFERROR(INDEX(TABPREBB!$A$10:$AF$281,MATCH($B$1&ROW($A104),TABPREBB!$AH$10:$AH$281,0),COLUMN()),\"\")","v":""},{"$f":"IFERROR(INDEX(TABPREBB!$A$10:$AF$281,MATCH($B$1&ROW($A104),TABPREBB!$AH$10:$AH$281,0),COLUMN()),\"\")","v":""},{"$f":"IFERROR(INDEX(TABPREBB!$A$10:$AF$281,MATCH($B$1&ROW($A104),TABPREBB!$AH$10:$AH$281,0),COLUMN()),\"\")","v":""},{"$f":"IFERROR(INDEX(TABPREBB!$A$10:$AF$281,MATCH($B$1&ROW($A104),TABPREBB!$AH$10:$AH$281,0),COLUMN()),\"\")","v":""},{"$f":"IFERROR(INDEX(TABPREBB!$A$10:$AF$281,MATCH($B$1&ROW($A104),TABPREBB!$AH$10:$AH$281,0),COLUMN()),\"\")","v":""},{"$f":"IFERROR(INDEX(TABPREBB!$A$10:$AF$281,MATCH($B$1&ROW($A104),TABPREBB!$AH$10:$AH$281,0),COLUMN()),\"\")","v":""},{"$f":"IFERROR(INDEX(TABPREBB!$A$10:$AF$281,MATCH($B$1&ROW($A104),TABPREBB!$AH$10:$AH$281,0),COLUMN()),\"\")","v":""},{"$f":"IFERROR(INDEX(TABPREBB!$A$10:$AF$281,MATCH($B$1&ROW($A104),TABPREBB!$AH$10:$AH$281,0),COLUMN()),\"\")","v":""},{"$f":"IFERROR(INDEX(TABPREBB!$A$10:$AF$281,MATCH($B$1&ROW($A104),TABPREBB!$AH$10:$AH$281,0),COLUMN()),\"\")","v":""},{"$f":"IFERROR(INDEX(TABPREBB!$A$10:$AF$281,MATCH($B$1&ROW($A104),TABPREBB!$AH$10:$AH$281,0),COLUMN()),\"\")","v":""},{"$f":"IFERROR(INDEX(TABPREBB!$A$10:$AF$281,MATCH($B$1&ROW($A104),TABPREBB!$AH$10:$AH$281,0),COLUMN()),\"\")","v":""},{"$f":"IFERROR(INDEX(TABPREBB!$A$10:$AF$281,MATCH($B$1&ROW($A104),TABPREBB!$AH$10:$AH$281,0),COLUMN()),\"\")","v":""},{"$f":"IFERROR(INDEX(TABPREBB!$A$10:$AF$281,MATCH($B$1&ROW($A104),TABPREBB!$AH$10:$AH$281,0),COLUMN()),\"\")","v":""},{"$f":"IFERROR(INDEX(TABPREBB!$A$10:$AF$281,MATCH($B$1&ROW($A104),TABPREBB!$AH$10:$AH$281,0),COLUMN()),\"\")","v":""},{"$f":"IFERROR(INDEX(TABPREBB!$A$10:$AF$281,MATCH($B$1&ROW($A104),TABPREBB!$AH$10:$AH$281,0),COLUMN()),\"\")","v":""},{"$f":"IFERROR(INDEX(TABPREBB!$A$10:$AF$281,MATCH($B$1&ROW($A104),TABPREBB!$AH$10:$AH$281,0),COLUMN()),\"\")","v":""},{"$f":"IFERROR(INDEX(TABPREBB!$A$10:$AF$281,MATCH($B$1&ROW($A104),TABPREBB!$AH$10:$AH$281,0),COLUMN()),\"\")","v":""},{"$f":"IFERROR(INDEX(TABPREBB!$A$10:$AF$281,MATCH($B$1&ROW($A104),TABPREBB!$AH$10:$AH$281,0),COLUMN()),\"\")","v":""},{"$f":"IFERROR(INDEX(TABPREBB!$A$10:$AF$281,MATCH($B$1&ROW($A104),TABPREBB!$AH$10:$AH$281,0),COLUMN()),\"\")","v":""},{"$f":"IFERROR(INDEX(TABPREBB!$A$10:$AF$281,MATCH($B$1&ROW($A104),TABPREBB!$AH$10:$AH$281,0),COLUMN()),\"\")","v":""},{"$f":"IFERROR(INDEX(TABPREBB!$A$10:$AF$281,MATCH($B$1&ROW($A104),TABPREBB!$AH$10:$AH$281,0),COLUMN()),\"\")","v":""},{"$f":"IFERROR(INDEX(TABPREBB!$A$10:$AF$281,MATCH($B$1&ROW($A104),TABPREBB!$AH$10:$AH$281,0),COLUMN()),\"\")","v":""},{"$f":"IFERROR(INDEX(TABPREBB!$A$10:$AF$281,MATCH($B$1&ROW($A104),TABPREBB!$AH$10:$AH$281,0),COLUMN()),\"\")","v":""},{"$f":"IFERROR(INDEX(TABPREBB!$A$10:$AF$281,MATCH($B$1&ROW($A104),TABPREBB!$AH$10:$AH$281,0),COLUMN()),\"\")","v":""},{"$f":"IFERROR(INDEX(TABPREBB!$A$10:$AF$281,MATCH($B$1&ROW($A104),TABPREBB!$AH$10:$AH$281,0),COLUMN()),\"\")","v":""},{"$f":"IFERROR(INDEX(TABPREBB!$A$10:$AF$281,MATCH($B$1&ROW($A104),TABPREBB!$AH$10:$AH$281,0),COLUMN()),\"\")","v":""},{"$f":"IFERROR(INDEX(TABPREBB!$A$10:$AF$281,MATCH($B$1&ROW($A104),TABPREBB!$AH$10:$AH$281,0),COLUMN()),\"\")","v":""},{"$f":"IFERROR(INDEX(TABPREBB!$A$10:$AF$281,MATCH($B$1&ROW($A104),TABPREBB!$AH$10:$AH$281,0),COLUMN()),\"\")","v":""},{"$f":"IFERROR(INDEX(TABPREBB!$A$10:$AF$281,MATCH($B$1&ROW($A104),TABPREBB!$AH$10:$AH$281,0),COLUMN()),\"\")","v":""},{"$f":"IFERROR(INDEX(TABPREBB!$A$10:$AF$281,MATCH($B$1&ROW($A104),TABPREBB!$AH$10:$AH$281,0),COLUMN()),\"\")","v":""},{"$f":"IFERROR(INDEX(TABPREBB!$A$10:$AF$281,MATCH($B$1&ROW($A104),TABPREBB!$AH$10:$AH$281,0),COLUMN()),\"\")","v":""}]
[{"$f":"IFERROR(INDEX(TABPREBB!$A$10:$AF$281,MATCH($B$1&ROW($A105),TABPREBB!$AH$10:$AH$281,0),COLUMN()),\"\")","v":""},{"$f":"IFERROR(INDEX(TABPREBB!$A$10:$AF$281,MATCH($B$1&ROW($A105),TABPREBB!$AH$10:$AH$281,0),COLUMN()),\"\")","v":""},{"$f":"IFERROR(INDEX(TABPREBB!$A$10:$AF$281,MATCH($B$1&ROW($A105),TABPREBB!$AH$10:$AH$281,0),COLUMN()),\"\")","v":""},{"$f":"IFERROR(INDEX(TABPREBB!$A$10:$AF$281,MATCH($B$1&ROW($A105),TABPREBB!$AH$10:$AH$281,0),COLUMN()),\"\")","v":""},{"$f":"IFERROR(INDEX(TABPREBB!$A$10:$AF$281,MATCH($B$1&ROW($A105),TABPREBB!$AH$10:$AH$281,0),COLUMN()),\"\")","v":""},{"$f":"IFERROR(INDEX(TABPREBB!$A$10:$AF$281,MATCH($B$1&ROW($A105),TABPREBB!$AH$10:$AH$281,0),COLUMN()),\"\")","v":""},{"$f":"IFERROR(INDEX(TABPREBB!$A$10:$AF$281,MATCH($B$1&ROW($A105),TABPREBB!$AH$10:$AH$281,0),COLUMN()),\"\")","v":""},{"$f":"IFERROR(INDEX(TABPREBB!$A$10:$AF$281,MATCH($B$1&ROW($A105),TABPREBB!$AH$10:$AH$281,0),COLUMN()),\"\")","v":""},{"$f":"IFERROR(INDEX(TABPREBB!$A$10:$AF$281,MATCH($B$1&ROW($A105),TABPREBB!$AH$10:$AH$281,0),COLUMN()),\"\")","v":""},{"$f":"IFERROR(INDEX(TABPREBB!$A$10:$AF$281,MATCH($B$1&ROW($A105),TABPREBB!$AH$10:$AH$281,0),COLUMN()),\"\")","v":""},{"$f":"IFERROR(INDEX(TABPREBB!$A$10:$AF$281,MATCH($B$1&ROW($A105),TABPREBB!$AH$10:$AH$281,0),COLUMN()),\"\")","v":""},{"$f":"IFERROR(INDEX(TABPREBB!$A$10:$AF$281,MATCH($B$1&ROW($A105),TABPREBB!$AH$10:$AH$281,0),COLUMN()),\"\")","v":""},{"$f":"IFERROR(INDEX(TABPREBB!$A$10:$AF$281,MATCH($B$1&ROW($A105),TABPREBB!$AH$10:$AH$281,0),COLUMN()),\"\")","v":""},{"$f":"IFERROR(INDEX(TABPREBB!$A$10:$AF$281,MATCH($B$1&ROW($A105),TABPREBB!$AH$10:$AH$281,0),COLUMN()),\"\")","v":""},{"$f":"IFERROR(INDEX(TABPREBB!$A$10:$AF$281,MATCH($B$1&ROW($A105),TABPREBB!$AH$10:$AH$281,0),COLUMN()),\"\")","v":""},{"$f":"IFERROR(INDEX(TABPREBB!$A$10:$AF$281,MATCH($B$1&ROW($A105),TABPREBB!$AH$10:$AH$281,0),COLUMN()),\"\")","v":""},{"$f":"IFERROR(INDEX(TABPREBB!$A$10:$AF$281,MATCH($B$1&ROW($A105),TABPREBB!$AH$10:$AH$281,0),COLUMN()),\"\")","v":""},{"$f":"IFERROR(INDEX(TABPREBB!$A$10:$AF$281,MATCH($B$1&ROW($A105),TABPREBB!$AH$10:$AH$281,0),COLUMN()),\"\")","v":""},{"$f":"IFERROR(INDEX(TABPREBB!$A$10:$AF$281,MATCH($B$1&ROW($A105),TABPREBB!$AH$10:$AH$281,0),COLUMN()),\"\")","v":""},{"$f":"IFERROR(INDEX(TABPREBB!$A$10:$AF$281,MATCH($B$1&ROW($A105),TABPREBB!$AH$10:$AH$281,0),COLUMN()),\"\")","v":""},{"$f":"IFERROR(INDEX(TABPREBB!$A$10:$AF$281,MATCH($B$1&ROW($A105),TABPREBB!$AH$10:$AH$281,0),COLUMN()),\"\")","v":""},{"$f":"IFERROR(INDEX(TABPREBB!$A$10:$AF$281,MATCH($B$1&ROW($A105),TABPREBB!$AH$10:$AH$281,0),COLUMN()),\"\")","v":""},{"$f":"IFERROR(INDEX(TABPREBB!$A$10:$AF$281,MATCH($B$1&ROW($A105),TABPREBB!$AH$10:$AH$281,0),COLUMN()),\"\")","v":""},{"$f":"IFERROR(INDEX(TABPREBB!$A$10:$AF$281,MATCH($B$1&ROW($A105),TABPREBB!$AH$10:$AH$281,0),COLUMN()),\"\")","v":""},{"$f":"IFERROR(INDEX(TABPREBB!$A$10:$AF$281,MATCH($B$1&ROW($A105),TABPREBB!$AH$10:$AH$281,0),COLUMN()),\"\")","v":""},{"$f":"IFERROR(INDEX(TABPREBB!$A$10:$AF$281,MATCH($B$1&ROW($A105),TABPREBB!$AH$10:$AH$281,0),COLUMN()),\"\")","v":""},{"$f":"IFERROR(INDEX(TABPREBB!$A$10:$AF$281,MATCH($B$1&ROW($A105),TABPREBB!$AH$10:$AH$281,0),COLUMN()),\"\")","v":""},{"$f":"IFERROR(INDEX(TABPREBB!$A$10:$AF$281,MATCH($B$1&ROW($A105),TABPREBB!$AH$10:$AH$281,0),COLUMN()),\"\")","v":""},{"$f":"IFERROR(INDEX(TABPREBB!$A$10:$AF$281,MATCH($B$1&ROW($A105),TABPREBB!$AH$10:$AH$281,0),COLUMN()),\"\")","v":""},{"$f":"IFERROR(INDEX(TABPREBB!$A$10:$AF$281,MATCH($B$1&ROW($A105),TABPREBB!$AH$10:$AH$281,0),COLUMN()),\"\")","v":""},{"$f":"IFERROR(INDEX(TABPREBB!$A$10:$AF$281,MATCH($B$1&ROW($A105),TABPREBB!$AH$10:$AH$281,0),COLUMN()),\"\")","v":""},{"$f":"IFERROR(INDEX(TABPREBB!$A$10:$AF$281,MATCH($B$1&ROW($A105),TABPREBB!$AH$10:$AH$281,0),COLUMN()),\"\")","v":""}]
[{"$f":"IFERROR(INDEX(TABPREBB!$A$10:$AF$281,MATCH($B$1&ROW($A106),TABPREBB!$AH$10:$AH$281,0),COLUMN()),\"\")","v":""},{"$f":"IFERROR(INDEX(TABPREBB!$A$10:$AF$281,MATCH($B$1&ROW($A106),TABPREBB!$AH$10:$AH$281,0),COLUMN()),\"\")","v":""},{"$f":"IFERROR(INDEX(TABPREBB!$A$10:$AF$281,MATCH($B$1&ROW($A106),TABPREBB!$AH$10:$AH$281,0),COLUMN()),\"\")","v":""},{"$f":"IFERROR(INDEX(TABPREBB!$A$10:$AF$281,MATCH($B$1&ROW($A106),TABPREBB!$AH$10:$AH$281,0),COLUMN()),\"\")","v":""},{"$f":"IFERROR(INDEX(TABPREBB!$A$10:$AF$281,MATCH($B$1&ROW($A106),TABPREBB!$AH$10:$AH$281,0),COLUMN()),\"\")","v":""},{"$f":"IFERROR(INDEX(TABPREBB!$A$10:$AF$281,MATCH($B$1&ROW($A106),TABPREBB!$AH$10:$AH$281,0),COLUMN()),\"\")","v":""},{"$f":"IFERROR(INDEX(TABPREBB!$A$10:$AF$281,MATCH($B$1&ROW($A106),TABPREBB!$AH$10:$AH$281,0),COLUMN()),\"\")","v":""},{"$f":"IFERROR(INDEX(TABPREBB!$A$10:$AF$281,MATCH($B$1&ROW($A106),TABPREBB!$AH$10:$AH$281,0),COLUMN()),\"\")","v":""},{"$f":"IFERROR(INDEX(TABPREBB!$A$10:$AF$281,MATCH($B$1&ROW($A106),TABPREBB!$AH$10:$AH$281,0),COLUMN()),\"\")","v":""},{"$f":"IFERROR(INDEX(TABPREBB!$A$10:$AF$281,MATCH($B$1&ROW($A106),TABPREBB!$AH$10:$AH$281,0),COLUMN()),\"\")","v":""},{"$f":"IFERROR(INDEX(TABPREBB!$A$10:$AF$281,MATCH($B$1&ROW($A106),TABPREBB!$AH$10:$AH$281,0),COLUMN()),\"\")","v":""},{"$f":"IFERROR(INDEX(TABPREBB!$A$10:$AF$281,MATCH($B$1&ROW($A106),TABPREBB!$AH$10:$AH$281,0),COLUMN()),\"\")","v":""},{"$f":"IFERROR(INDEX(TABPREBB!$A$10:$AF$281,MATCH($B$1&ROW($A106),TABPREBB!$AH$10:$AH$281,0),COLUMN()),\"\")","v":""},{"$f":"IFERROR(INDEX(TABPREBB!$A$10:$AF$281,MATCH($B$1&ROW($A106),TABPREBB!$AH$10:$AH$281,0),COLUMN()),\"\")","v":""},{"$f":"IFERROR(INDEX(TABPREBB!$A$10:$AF$281,MATCH($B$1&ROW($A106),TABPREBB!$AH$10:$AH$281,0),COLUMN()),\"\")","v":""},{"$f":"IFERROR(INDEX(TABPREBB!$A$10:$AF$281,MATCH($B$1&ROW($A106),TABPREBB!$AH$10:$AH$281,0),COLUMN()),\"\")","v":""},{"$f":"IFERROR(INDEX(TABPREBB!$A$10:$AF$281,MATCH($B$1&ROW($A106),TABPREBB!$AH$10:$AH$281,0),COLUMN()),\"\")","v":""},{"$f":"IFERROR(INDEX(TABPREBB!$A$10:$AF$281,MATCH($B$1&ROW($A106),TABPREBB!$AH$10:$AH$281,0),COLUMN()),\"\")","v":""},{"$f":"IFERROR(INDEX(TABPREBB!$A$10:$AF$281,MATCH($B$1&ROW($A106),TABPREBB!$AH$10:$AH$281,0),COLUMN()),\"\")","v":""},{"$f":"IFERROR(INDEX(TABPREBB!$A$10:$AF$281,MATCH($B$1&ROW($A106),TABPREBB!$AH$10:$AH$281,0),COLUMN()),\"\")","v":""},{"$f":"IFERROR(INDEX(TABPREBB!$A$10:$AF$281,MATCH($B$1&ROW($A106),TABPREBB!$AH$10:$AH$281,0),COLUMN()),\"\")","v":""},{"$f":"IFERROR(INDEX(TABPREBB!$A$10:$AF$281,MATCH($B$1&ROW($A106),TABPREBB!$AH$10:$AH$281,0),COLUMN()),\"\")","v":""},{"$f":"IFERROR(INDEX(TABPREBB!$A$10:$AF$281,MATCH($B$1&ROW($A106),TABPREBB!$AH$10:$AH$281,0),COLUMN()),\"\")","v":""},{"$f":"IFERROR(INDEX(TABPREBB!$A$10:$AF$281,MATCH($B$1&ROW($A106),TABPREBB!$AH$10:$AH$281,0),COLUMN()),\"\")","v":""},{"$f":"IFERROR(INDEX(TABPREBB!$A$10:$AF$281,MATCH($B$1&ROW($A106),TABPREBB!$AH$10:$AH$281,0),COLUMN()),\"\")","v":""},{"$f":"IFERROR(INDEX(TABPREBB!$A$10:$AF$281,MATCH($B$1&ROW($A106),TABPREBB!$AH$10:$AH$281,0),COLUMN()),\"\")","v":""},{"$f":"IFERROR(INDEX(TABPREBB!$A$10:$AF$281,MATCH($B$1&ROW($A106),TABPREBB!$AH$10:$AH$281,0),COLUMN()),\"\")","v":""},{"$f":"IFERROR(INDEX(TABPREBB!$A$10:$AF$281,MATCH($B$1&ROW($A106),TABPREBB!$AH$10:$AH$281,0),COLUMN()),\"\")","v":""},{"$f":"IFERROR(INDEX(TABPREBB!$A$10:$AF$281,MATCH($B$1&ROW($A106),TABPREBB!$AH$10:$AH$281,0),COLUMN()),\"\")","v":""},{"$f":"IFERROR(INDEX(TABPREBB!$A$10:$AF$281,MATCH($B$1&ROW($A106),TABPREBB!$AH$10:$AH$281,0),COLUMN()),\"\")","v":""},{"$f":"IFERROR(INDEX(TABPREBB!$A$10:$AF$281,MATCH($B$1&ROW($A106),TABPREBB!$AH$10:$AH$281,0),COLUMN()),\"\")","v":""},{"$f":"IFERROR(INDEX(TABPREBB!$A$10:$AF$281,MATCH($B$1&ROW($A106),TABPREBB!$AH$10:$AH$281,0),COLUMN()),\"\")","v":""}]
[{"$f":"IFERROR(INDEX(TABPREBB!$A$10:$AF$281,MATCH($B$1&ROW($A107),TABPREBB!$AH$10:$AH$281,0),COLUMN()),\"\")","v":""},{"$f":"IFERROR(INDEX(TABPREBB!$A$10:$AF$281,MATCH($B$1&ROW($A107),TABPREBB!$AH$10:$AH$281,0),COLUMN()),\"\")","v":""},{"$f":"IFERROR(INDEX(TABPREBB!$A$10:$AF$281,MATCH($B$1&ROW($A107),TABPREBB!$AH$10:$AH$281,0),COLUMN()),\"\")","v":""},{"$f":"IFERROR(INDEX(TABPREBB!$A$10:$AF$281,MATCH($B$1&ROW($A107),TABPREBB!$AH$10:$AH$281,0),COLUMN()),\"\")","v":""},{"$f":"IFERROR(INDEX(TABPREBB!$A$10:$AF$281,MATCH($B$1&ROW($A107),TABPREBB!$AH$10:$AH$281,0),COLUMN()),\"\")","v":""},{"$f":"IFERROR(INDEX(TABPREBB!$A$10:$AF$281,MATCH($B$1&ROW($A107),TABPREBB!$AH$10:$AH$281,0),COLUMN()),\"\")","v":""},{"$f":"IFERROR(INDEX(TABPREBB!$A$10:$AF$281,MATCH($B$1&ROW($A107),TABPREBB!$AH$10:$AH$281,0),COLUMN()),\"\")","v":""},{"$f":"IFERROR(INDEX(TABPREBB!$A$10:$AF$281,MATCH($B$1&ROW($A107),TABPREBB!$AH$10:$AH$281,0),COLUMN()),\"\")","v":""},{"$f":"IFERROR(INDEX(TABPREBB!$A$10:$AF$281,MATCH($B$1&ROW($A107),TABPREBB!$AH$10:$AH$281,0),COLUMN()),\"\")","v":""},{"$f":"IFERROR(INDEX(TABPREBB!$A$10:$AF$281,MATCH($B$1&ROW($A107),TABPREBB!$AH$10:$AH$281,0),COLUMN()),\"\")","v":""},{"$f":"IFERROR(INDEX(TABPREBB!$A$10:$AF$281,MATCH($B$1&ROW($A107),TABPREBB!$AH$10:$AH$281,0),COLUMN()),\"\")","v":""},{"$f":"IFERROR(INDEX(TABPREBB!$A$10:$AF$281,MATCH($B$1&ROW($A107),TABPREBB!$AH$10:$AH$281,0),COLUMN()),\"\")","v":""},{"$f":"IFERROR(INDEX(TABPREBB!$A$10:$AF$281,MATCH($B$1&ROW($A107),TABPREBB!$AH$10:$AH$281,0),COLUMN()),\"\")","v":""},{"$f":"IFERROR(INDEX(TABPREBB!$A$10:$AF$281,MATCH($B$1&ROW($A107),TABPREBB!$AH$10:$AH$281,0),COLUMN()),\"\")","v":""},{"$f":"IFERROR(INDEX(TABPREBB!$A$10:$AF$281,MATCH($B$1&ROW($A107),TABPREBB!$AH$10:$AH$281,0),COLUMN()),\"\")","v":""},{"$f":"IFERROR(INDEX(TABPREBB!$A$10:$AF$281,MATCH($B$1&ROW($A107),TABPREBB!$AH$10:$AH$281,0),COLUMN()),\"\")","v":""},{"$f":"IFERROR(INDEX(TABPREBB!$A$10:$AF$281,MATCH($B$1&ROW($A107),TABPREBB!$AH$10:$AH$281,0),COLUMN()),\"\")","v":""},{"$f":"IFERROR(INDEX(TABPREBB!$A$10:$AF$281,MATCH($B$1&ROW($A107),TABPREBB!$AH$10:$AH$281,0),COLUMN()),\"\")","v":""},{"$f":"IFERROR(INDEX(TABPREBB!$A$10:$AF$281,MATCH($B$1&ROW($A107),TABPREBB!$AH$10:$AH$281,0),COLUMN()),\"\")","v":""},{"$f":"IFERROR(INDEX(TABPREBB!$A$10:$AF$281,MATCH($B$1&ROW($A107),TABPREBB!$AH$10:$AH$281,0),COLUMN()),\"\")","v":""},{"$f":"IFERROR(INDEX(TABPREBB!$A$10:$AF$281,MATCH($B$1&ROW($A107),TABPREBB!$AH$10:$AH$281,0),COLUMN()),\"\")","v":""},{"$f":"IFERROR(INDEX(TABPREBB!$A$10:$AF$281,MATCH($B$1&ROW($A107),TABPREBB!$AH$10:$AH$281,0),COLUMN()),\"\")","v":""},{"$f":"IFERROR(INDEX(TABPREBB!$A$10:$AF$281,MATCH($B$1&ROW($A107),TABPREBB!$AH$10:$AH$281,0),COLUMN()),\"\")","v":""},{"$f":"IFERROR(INDEX(TABPREBB!$A$10:$AF$281,MATCH($B$1&ROW($A107),TABPREBB!$AH$10:$AH$281,0),COLUMN()),\"\")","v":""},{"$f":"IFERROR(INDEX(TABPREBB!$A$10:$AF$281,MATCH($B$1&ROW($A107),TABPREBB!$AH$10:$AH$281,0),COLUMN()),\"\")","v":""},{"$f":"IFERROR(INDEX(TABPREBB!$A$10:$AF$281,MATCH($B$1&ROW($A107),TABPREBB!$AH$10:$AH$281,0),COLUMN()),\"\")","v":""},{"$f":"IFERROR(INDEX(TABPREBB!$A$10:$AF$281,MATCH($B$1&ROW($A107),TABPREBB!$AH$10:$AH$281,0),COLUMN()),\"\")","v":""},{"$f":"IFERROR(INDEX(TABPREBB!$A$10:$AF$281,MATCH($B$1&ROW($A107),TABPREBB!$AH$10:$AH$281,0),COLUMN()),\"\")","v":""},{"$f":"IFERROR(INDEX(TABPREBB!$A$10:$AF$281,MATCH($B$1&ROW($A107),TABPREBB!$AH$10:$AH$281,0),COLUMN()),\"\")","v":""},{"$f":"IFERROR(INDEX(TABPREBB!$A$10:$AF$281,MATCH($B$1&ROW($A107),TABPREBB!$AH$10:$AH$281,0),COLUMN()),\"\")","v":""},{"$f":"IFERROR(INDEX(TABPREBB!$A$10:$AF$281,MATCH($B$1&ROW($A107),TABPREBB!$AH$10:$AH$281,0),COLUMN()),\"\")","v":""},{"$f":"IFERROR(INDEX(TABPREBB!$A$10:$AF$281,MATCH($B$1&ROW($A107),TABPREBB!$AH$10:$AH$281,0),COLUMN()),\"\")","v":""}]
[{"$f":"IFERROR(INDEX(TABPREBB!$A$10:$AF$281,MATCH($B$1&ROW($A108),TABPREBB!$AH$10:$AH$281,0),COLUMN()),\"\")","v":""},{"$f":"IFERROR(INDEX(TABPREBB!$A$10:$AF$281,MATCH($B$1&ROW($A108),TABPREBB!$AH$10:$AH$281,0),COLUMN()),\"\")","v":""},{"$f":"IFERROR(INDEX(TABPREBB!$A$10:$AF$281,MATCH($B$1&ROW($A108),TABPREBB!$AH$10:$AH$281,0),COLUMN()),\"\")","v":""},{"$f":"IFERROR(INDEX(TABPREBB!$A$10:$AF$281,MATCH($B$1&ROW($A108),TABPREBB!$AH$10:$AH$281,0),COLUMN()),\"\")","v":""},{"$f":"IFERROR(INDEX(TABPREBB!$A$10:$AF$281,MATCH($B$1&ROW($A108),TABPREBB!$AH$10:$AH$281,0),COLUMN()),\"\")","v":""},{"$f":"IFERROR(INDEX(TABPREBB!$A$10:$AF$281,MATCH($B$1&ROW($A108),TABPREBB!$AH$10:$AH$281,0),COLUMN()),\"\")","v":""},{"$f":"IFERROR(INDEX(TABPREBB!$A$10:$AF$281,MATCH($B$1&ROW($A108),TABPREBB!$AH$10:$AH$281,0),COLUMN()),\"\")","v":""},{"$f":"IFERROR(INDEX(TABPREBB!$A$10:$AF$281,MATCH($B$1&ROW($A108),TABPREBB!$AH$10:$AH$281,0),COLUMN()),\"\")","v":""},{"$f":"IFERROR(INDEX(TABPREBB!$A$10:$AF$281,MATCH($B$1&ROW($A108),TABPREBB!$AH$10:$AH$281,0),COLUMN()),\"\")","v":""},{"$f":"IFERROR(INDEX(TABPREBB!$A$10:$AF$281,MATCH($B$1&ROW($A108),TABPREBB!$AH$10:$AH$281,0),COLUMN()),\"\")","v":""},{"$f":"IFERROR(INDEX(TABPREBB!$A$10:$AF$281,MATCH($B$1&ROW($A108),TABPREBB!$AH$10:$AH$281,0),COLUMN()),\"\")","v":""},{"$f":"IFERROR(INDEX(TABPREBB!$A$10:$AF$281,MATCH($B$1&ROW($A108),TABPREBB!$AH$10:$AH$281,0),COLUMN()),\"\")","v":""},{"$f":"IFERROR(INDEX(TABPREBB!$A$10:$AF$281,MATCH($B$1&ROW($A108),TABPREBB!$AH$10:$AH$281,0),COLUMN()),\"\")","v":""},{"$f":"IFERROR(INDEX(TABPREBB!$A$10:$AF$281,MATCH($B$1&ROW($A108),TABPREBB!$AH$10:$AH$281,0),COLUMN()),\"\")","v":""},{"$f":"IFERROR(INDEX(TABPREBB!$A$10:$AF$281,MATCH($B$1&ROW($A108),TABPREBB!$AH$10:$AH$281,0),COLUMN()),\"\")","v":""},{"$f":"IFERROR(INDEX(TABPREBB!$A$10:$AF$281,MATCH($B$1&ROW($A108),TABPREBB!$AH$10:$AH$281,0),COLUMN()),\"\")","v":""},{"$f":"IFERROR(INDEX(TABPREBB!$A$10:$AF$281,MATCH($B$1&ROW($A108),TABPREBB!$AH$10:$AH$281,0),COLUMN()),\"\")","v":""},{"$f":"IFERROR(INDEX(TABPREBB!$A$10:$AF$281,MATCH($B$1&ROW($A108),TABPREBB!$AH$10:$AH$281,0),COLUMN()),\"\")","v":""},{"$f":"IFERROR(INDEX(TABPREBB!$A$10:$AF$281,MATCH($B$1&ROW($A108),TABPREBB!$AH$10:$AH$281,0),COLUMN()),\"\")","v":""},{"$f":"IFERROR(INDEX(TABPREBB!$A$10:$AF$281,MATCH($B$1&ROW($A108),TABPREBB!$AH$10:$AH$281,0),COLUMN()),\"\")","v":""},{"$f":"IFERROR(INDEX(TABPREBB!$A$10:$AF$281,MATCH($B$1&ROW($A108),TABPREBB!$AH$10:$AH$281,0),COLUMN()),\"\")","v":""},{"$f":"IFERROR(INDEX(TABPREBB!$A$10:$AF$281,MATCH($B$1&ROW($A108),TABPREBB!$AH$10:$AH$281,0),COLUMN()),\"\")","v":""},{"$f":"IFERROR(INDEX(TABPREBB!$A$10:$AF$281,MATCH($B$1&ROW($A108),TABPREBB!$AH$10:$AH$281,0),COLUMN()),\"\")","v":""},{"$f":"IFERROR(INDEX(TABPREBB!$A$10:$AF$281,MATCH($B$1&ROW($A108),TABPREBB!$AH$10:$AH$281,0),COLUMN()),\"\")","v":""},{"$f":"IFERROR(INDEX(TABPREBB!$A$10:$AF$281,MATCH($B$1&ROW($A108),TABPREBB!$AH$10:$AH$281,0),COLUMN()),\"\")","v":""},{"$f":"IFERROR(INDEX(TABPREBB!$A$10:$AF$281,MATCH($B$1&ROW($A108),TABPREBB!$AH$10:$AH$281,0),COLUMN()),\"\")","v":""},{"$f":"IFERROR(INDEX(TABPREBB!$A$10:$AF$281,MATCH($B$1&ROW($A108),TABPREBB!$AH$10:$AH$281,0),COLUMN()),\"\")","v":""},{"$f":"IFERROR(INDEX(TABPREBB!$A$10:$AF$281,MATCH($B$1&ROW($A108),TABPREBB!$AH$10:$AH$281,0),COLUMN()),\"\")","v":""},{"$f":"IFERROR(INDEX(TABPREBB!$A$10:$AF$281,MATCH($B$1&ROW($A108),TABPREBB!$AH$10:$AH$281,0),COLUMN()),\"\")","v":""},{"$f":"IFERROR(INDEX(TABPREBB!$A$10:$AF$281,MATCH($B$1&ROW($A108),TABPREBB!$AH$10:$AH$281,0),COLUMN()),\"\")","v":""},{"$f":"IFERROR(INDEX(TABPREBB!$A$10:$AF$281,MATCH($B$1&ROW($A108),TABPREBB!$AH$10:$AH$281,0),COLUMN()),\"\")","v":""},{"$f":"IFERROR(INDEX(TABPREBB!$A$10:$AF$281,MATCH($B$1&ROW($A108),TABPREBB!$AH$10:$AH$281,0),COLUMN()),\"\")","v":""}]
[{"$f":"IFERROR(INDEX(TABPREBB!$A$10:$AF$281,MATCH($B$1&ROW($A109),TABPREBB!$AH$10:$AH$281,0),COLUMN()),\"\")","v":""},{"$f":"IFERROR(INDEX(TABPREBB!$A$10:$AF$281,MATCH($B$1&ROW($A109),TABPREBB!$AH$10:$AH$281,0),COLUMN()),\"\")","v":""},{"$f":"IFERROR(INDEX(TABPREBB!$A$10:$AF$281,MATCH($B$1&ROW($A109),TABPREBB!$AH$10:$AH$281,0),COLUMN()),\"\")","v":""},{"$f":"IFERROR(INDEX(TABPREBB!$A$10:$AF$281,MATCH($B$1&ROW($A109),TABPREBB!$AH$10:$AH$281,0),COLUMN()),\"\")","v":""},{"$f":"IFERROR(INDEX(TABPREBB!$A$10:$AF$281,MATCH($B$1&ROW($A109),TABPREBB!$AH$10:$AH$281,0),COLUMN()),\"\")","v":""},{"$f":"IFERROR(INDEX(TABPREBB!$A$10:$AF$281,MATCH($B$1&ROW($A109),TABPREBB!$AH$10:$AH$281,0),COLUMN()),\"\")","v":""},{"$f":"IFERROR(INDEX(TABPREBB!$A$10:$AF$281,MATCH($B$1&ROW($A109),TABPREBB!$AH$10:$AH$281,0),COLUMN()),\"\")","v":""},{"$f":"IFERROR(INDEX(TABPREBB!$A$10:$AF$281,MATCH($B$1&ROW($A109),TABPREBB!$AH$10:$AH$281,0),COLUMN()),\"\")","v":""},{"$f":"IFERROR(INDEX(TABPREBB!$A$10:$AF$281,MATCH($B$1&ROW($A109),TABPREBB!$AH$10:$AH$281,0),COLUMN()),\"\")","v":""},{"$f":"IFERROR(INDEX(TABPREBB!$A$10:$AF$281,MATCH($B$1&ROW($A109),TABPREBB!$AH$10:$AH$281,0),COLUMN()),\"\")","v":""},{"$f":"IFERROR(INDEX(TABPREBB!$A$10:$AF$281,MATCH($B$1&ROW($A109),TABPREBB!$AH$10:$AH$281,0),COLUMN()),\"\")","v":""},{"$f":"IFERROR(INDEX(TABPREBB!$A$10:$AF$281,MATCH($B$1&ROW($A109),TABPREBB!$AH$10:$AH$281,0),COLUMN()),\"\")","v":""},{"$f":"IFERROR(INDEX(TABPREBB!$A$10:$AF$281,MATCH($B$1&ROW($A109),TABPREBB!$AH$10:$AH$281,0),COLUMN()),\"\")","v":""},{"$f":"IFERROR(INDEX(TABPREBB!$A$10:$AF$281,MATCH($B$1&ROW($A109),TABPREBB!$AH$10:$AH$281,0),COLUMN()),\"\")","v":""},{"$f":"IFERROR(INDEX(TABPREBB!$A$10:$AF$281,MATCH($B$1&ROW($A109),TABPREBB!$AH$10:$AH$281,0),COLUMN()),\"\")","v":""},{"$f":"IFERROR(INDEX(TABPREBB!$A$10:$AF$281,MATCH($B$1&ROW($A109),TABPREBB!$AH$10:$AH$281,0),COLUMN()),\"\")","v":""},{"$f":"IFERROR(INDEX(TABPREBB!$A$10:$AF$281,MATCH($B$1&ROW($A109),TABPREBB!$AH$10:$AH$281,0),COLUMN()),\"\")","v":""},{"$f":"IFERROR(INDEX(TABPREBB!$A$10:$AF$281,MATCH($B$1&ROW($A109),TABPREBB!$AH$10:$AH$281,0),COLUMN()),\"\")","v":""},{"$f":"IFERROR(INDEX(TABPREBB!$A$10:$AF$281,MATCH($B$1&ROW($A109),TABPREBB!$AH$10:$AH$281,0),COLUMN()),\"\")","v":""},{"$f":"IFERROR(INDEX(TABPREBB!$A$10:$AF$281,MATCH($B$1&ROW($A109),TABPREBB!$AH$10:$AH$281,0),COLUMN()),\"\")","v":""},{"$f":"IFERROR(INDEX(TABPREBB!$A$10:$AF$281,MATCH($B$1&ROW($A109),TABPREBB!$AH$10:$AH$281,0),COLUMN()),\"\")","v":""},{"$f":"IFERROR(INDEX(TABPREBB!$A$10:$AF$281,MATCH($B$1&ROW($A109),TABPREBB!$AH$10:$AH$281,0),COLUMN()),\"\")","v":""},{"$f":"IFERROR(INDEX(TABPREBB!$A$10:$AF$281,MATCH($B$1&ROW($A109),TABPREBB!$AH$10:$AH$281,0),COLUMN()),\"\")","v":""},{"$f":"IFERROR(INDEX(TABPREBB!$A$10:$AF$281,MATCH($B$1&ROW($A109),TABPREBB!$AH$10:$AH$281,0),COLUMN()),\"\")","v":""},{"$f":"IFERROR(INDEX(TABPREBB!$A$10:$AF$281,MATCH($B$1&ROW($A109),TABPREBB!$AH$10:$AH$281,0),COLUMN()),\"\")","v":""},{"$f":"IFERROR(INDEX(TABPREBB!$A$10:$AF$281,MATCH($B$1&ROW($A109),TABPREBB!$AH$10:$AH$281,0),COLUMN()),\"\")","v":""},{"$f":"IFERROR(INDEX(TABPREBB!$A$10:$AF$281,MATCH($B$1&ROW($A109),TABPREBB!$AH$10:$AH$281,0),COLUMN()),\"\")","v":""},{"$f":"IFERROR(INDEX(TABPREBB!$A$10:$AF$281,MATCH($B$1&ROW($A109),TABPREBB!$AH$10:$AH$281,0),COLUMN()),\"\")","v":""},{"$f":"IFERROR(INDEX(TABPREBB!$A$10:$AF$281,MATCH($B$1&ROW($A109),TABPREBB!$AH$10:$AH$281,0),COLUMN()),\"\")","v":""},{"$f":"IFERROR(INDEX(TABPREBB!$A$10:$AF$281,MATCH($B$1&ROW($A109),TABPREBB!$AH$10:$AH$281,0),COLUMN()),\"\")","v":""},{"$f":"IFERROR(INDEX(TABPREBB!$A$10:$AF$281,MATCH($B$1&ROW($A109),TABPREBB!$AH$10:$AH$281,0),COLUMN()),\"\")","v":""},{"$f":"IFERROR(INDEX(TABPREBB!$A$10:$AF$281,MATCH($B$1&ROW($A109),TABPREBB!$AH$10:$AH$281,0),COLUMN()),\"\")","v":""}]
[{"$f":"IFERROR(INDEX(TABPREBB!$A$10:$AF$281,MATCH($B$1&ROW($A110),TABPREBB!$AH$10:$AH$281,0),COLUMN()),\"\")","v":""},{"$f":"IFERROR(INDEX(TABPREBB!$A$10:$AF$281,MATCH($B$1&ROW($A110),TABPREBB!$AH$10:$AH$281,0),COLUMN()),\"\")","v":""},{"$f":"IFERROR(INDEX(TABPREBB!$A$10:$AF$281,MATCH($B$1&ROW($A110),TABPREBB!$AH$10:$AH$281,0),COLUMN()),\"\")","v":""},{"$f":"IFERROR(INDEX(TABPREBB!$A$10:$AF$281,MATCH($B$1&ROW($A110),TABPREBB!$AH$10:$AH$281,0),COLUMN()),\"\")","v":""},{"$f":"IFERROR(INDEX(TABPREBB!$A$10:$AF$281,MATCH($B$1&ROW($A110),TABPREBB!$AH$10:$AH$281,0),COLUMN()),\"\")","v":""},{"$f":"IFERROR(INDEX(TABPREBB!$A$10:$AF$281,MATCH($B$1&ROW($A110),TABPREBB!$AH$10:$AH$281,0),COLUMN()),\"\")","v":""},{"$f":"IFERROR(INDEX(TABPREBB!$A$10:$AF$281,MATCH($B$1&ROW($A110),TABPREBB!$AH$10:$AH$281,0),COLUMN()),\"\")","v":""},{"$f":"IFERROR(INDEX(TABPREBB!$A$10:$AF$281,MATCH($B$1&ROW($A110),TABPREBB!$AH$10:$AH$281,0),COLUMN()),\"\")","v":""},{"$f":"IFERROR(INDEX(TABPREBB!$A$10:$AF$281,MATCH($B$1&ROW($A110),TABPREBB!$AH$10:$AH$281,0),COLUMN()),\"\")","v":""},{"$f":"IFERROR(INDEX(TABPREBB!$A$10:$AF$281,MATCH($B$1&ROW($A110),TABPREBB!$AH$10:$AH$281,0),COLUMN()),\"\")","v":""},{"$f":"IFERROR(INDEX(TABPREBB!$A$10:$AF$281,MATCH($B$1&ROW($A110),TABPREBB!$AH$10:$AH$281,0),COLUMN()),\"\")","v":""},{"$f":"IFERROR(INDEX(TABPREBB!$A$10:$AF$281,MATCH($B$1&ROW($A110),TABPREBB!$AH$10:$AH$281,0),COLUMN()),\"\")","v":""},{"$f":"IFERROR(INDEX(TABPREBB!$A$10:$AF$281,MATCH($B$1&ROW($A110),TABPREBB!$AH$10:$AH$281,0),COLUMN()),\"\")","v":""},{"$f":"IFERROR(INDEX(TABPREBB!$A$10:$AF$281,MATCH($B$1&ROW($A110),TABPREBB!$AH$10:$AH$281,0),COLUMN()),\"\")","v":""},{"$f":"IFERROR(INDEX(TABPREBB!$A$10:$AF$281,MATCH($B$1&ROW($A110),TABPREBB!$AH$10:$AH$281,0),COLUMN()),\"\")","v":""},{"$f":"IFERROR(INDEX(TABPREBB!$A$10:$AF$281,MATCH($B$1&ROW($A110),TABPREBB!$AH$10:$AH$281,0),COLUMN()),\"\")","v":""},{"$f":"IFERROR(INDEX(TABPREBB!$A$10:$AF$281,MATCH($B$1&ROW($A110),TABPREBB!$AH$10:$AH$281,0),COLUMN()),\"\")","v":""},{"$f":"IFERROR(INDEX(TABPREBB!$A$10:$AF$281,MATCH($B$1&ROW($A110),TABPREBB!$AH$10:$AH$281,0),COLUMN()),\"\")","v":""},{"$f":"IFERROR(INDEX(TABPREBB!$A$10:$AF$281,MATCH($B$1&ROW($A110),TABPREBB!$AH$10:$AH$281,0),COLUMN()),\"\")","v":""},{"$f":"IFERROR(INDEX(TABPREBB!$A$10:$AF$281,MATCH($B$1&ROW($A110),TABPREBB!$AH$10:$AH$281,0),COLUMN()),\"\")","v":""},{"$f":"IFERROR(INDEX(TABPREBB!$A$10:$AF$281,MATCH($B$1&ROW($A110),TABPREBB!$AH$10:$AH$281,0),COLUMN()),\"\")","v":""},{"$f":"IFERROR(INDEX(TABPREBB!$A$10:$AF$281,MATCH($B$1&ROW($A110),TABPREBB!$AH$10:$AH$281,0),COLUMN()),\"\")","v":""},{"$f":"IFERROR(INDEX(TABPREBB!$A$10:$AF$281,MATCH($B$1&ROW($A110),TABPREBB!$AH$10:$AH$281,0),COLUMN()),\"\")","v":""},{"$f":"IFERROR(INDEX(TABPREBB!$A$10:$AF$281,MATCH($B$1&ROW($A110),TABPREBB!$AH$10:$AH$281,0),COLUMN()),\"\")","v":""},{"$f":"IFERROR(INDEX(TABPREBB!$A$10:$AF$281,MATCH($B$1&ROW($A110),TABPREBB!$AH$10:$AH$281,0),COLUMN()),\"\")","v":""},{"$f":"IFERROR(INDEX(TABPREBB!$A$10:$AF$281,MATCH($B$1&ROW($A110),TABPREBB!$AH$10:$AH$281,0),COLUMN()),\"\")","v":""},{"$f":"IFERROR(INDEX(TABPREBB!$A$10:$AF$281,MATCH($B$1&ROW($A110),TABPREBB!$AH$10:$AH$281,0),COLUMN()),\"\")","v":""},{"$f":"IFERROR(INDEX(TABPREBB!$A$10:$AF$281,MATCH($B$1&ROW($A110),TABPREBB!$AH$10:$AH$281,0),COLUMN()),\"\")","v":""},{"$f":"IFERROR(INDEX(TABPREBB!$A$10:$AF$281,MATCH($B$1&ROW($A110),TABPREBB!$AH$10:$AH$281,0),COLUMN()),\"\")","v":""},{"$f":"IFERROR(INDEX(TABPREBB!$A$10:$AF$281,MATCH($B$1&ROW($A110),TABPREBB!$AH$10:$AH$281,0),COLUMN()),\"\")","v":""},{"$f":"IFERROR(INDEX(TABPREBB!$A$10:$AF$281,MATCH($B$1&ROW($A110),TABPREBB!$AH$10:$AH$281,0),COLUMN()),\"\")","v":""},{"$f":"IFERROR(INDEX(TABPREBB!$A$10:$AF$281,MATCH($B$1&ROW($A110),TABPREBB!$AH$10:$AH$281,0),COLUMN()),\"\")","v":""}]
[{"$f":"IFERROR(INDEX(TABPREBB!$A$10:$AF$281,MATCH($B$1&ROW($A111),TABPREBB!$AH$10:$AH$281,0),COLUMN()),\"\")","v":""},{"$f":"IFERROR(INDEX(TABPREBB!$A$10:$AF$281,MATCH($B$1&ROW($A111),TABPREBB!$AH$10:$AH$281,0),COLUMN()),\"\")","v":""},{"$f":"IFERROR(INDEX(TABPREBB!$A$10:$AF$281,MATCH($B$1&ROW($A111),TABPREBB!$AH$10:$AH$281,0),COLUMN()),\"\")","v":""},{"$f":"IFERROR(INDEX(TABPREBB!$A$10:$AF$281,MATCH($B$1&ROW($A111),TABPREBB!$AH$10:$AH$281,0),COLUMN()),\"\")","v":""},{"$f":"IFERROR(INDEX(TABPREBB!$A$10:$AF$281,MATCH($B$1&ROW($A111),TABPREBB!$AH$10:$AH$281,0),COLUMN()),\"\")","v":""},{"$f":"IFERROR(INDEX(TABPREBB!$A$10:$AF$281,MATCH($B$1&ROW($A111),TABPREBB!$AH$10:$AH$281,0),COLUMN()),\"\")","v":""},{"$f":"IFERROR(INDEX(TABPREBB!$A$10:$AF$281,MATCH($B$1&ROW($A111),TABPREBB!$AH$10:$AH$281,0),COLUMN()),\"\")","v":""},{"$f":"IFERROR(INDEX(TABPREBB!$A$10:$AF$281,MATCH($B$1&ROW($A111),TABPREBB!$AH$10:$AH$281,0),COLUMN()),\"\")","v":""},{"$f":"IFERROR(INDEX(TABPREBB!$A$10:$AF$281,MATCH($B$1&ROW($A111),TABPREBB!$AH$10:$AH$281,0),COLUMN()),\"\")","v":""},{"$f":"IFERROR(INDEX(TABPREBB!$A$10:$AF$281,MATCH($B$1&ROW($A111),TABPREBB!$AH$10:$AH$281,0),COLUMN()),\"\")","v":""},{"$f":"IFERROR(INDEX(TABPREBB!$A$10:$AF$281,MATCH($B$1&ROW($A111),TABPREBB!$AH$10:$AH$281,0),COLUMN()),\"\")","v":""},{"$f":"IFERROR(INDEX(TABPREBB!$A$10:$AF$281,MATCH($B$1&ROW($A111),TABPREBB!$AH$10:$AH$281,0),COLUMN()),\"\")","v":""},{"$f":"IFERROR(INDEX(TABPREBB!$A$10:$AF$281,MATCH($B$1&ROW($A111),TABPREBB!$AH$10:$AH$281,0),COLUMN()),\"\")","v":""},{"$f":"IFERROR(INDEX(TABPREBB!$A$10:$AF$281,MATCH($B$1&ROW($A111),TABPREBB!$AH$10:$AH$281,0),COLUMN()),\"\")","v":""},{"$f":"IFERROR(INDEX(TABPREBB!$A$10:$AF$281,MATCH($B$1&ROW($A111),TABPREBB!$AH$10:$AH$281,0),COLUMN()),\"\")","v":""},{"$f":"IFERROR(INDEX(TABPREBB!$A$10:$AF$281,MATCH($B$1&ROW($A111),TABPREBB!$AH$10:$AH$281,0),COLUMN()),\"\")","v":""},{"$f":"IFERROR(INDEX(TABPREBB!$A$10:$AF$281,MATCH($B$1&ROW($A111),TABPREBB!$AH$10:$AH$281,0),COLUMN()),\"\")","v":""},{"$f":"IFERROR(INDEX(TABPREBB!$A$10:$AF$281,MATCH($B$1&ROW($A111),TABPREBB!$AH$10:$AH$281,0),COLUMN()),\"\")","v":""},{"$f":"IFERROR(INDEX(TABPREBB!$A$10:$AF$281,MATCH($B$1&ROW($A111),TABPREBB!$AH$10:$AH$281,0),COLUMN()),\"\")","v":""},{"$f":"IFERROR(INDEX(TABPREBB!$A$10:$AF$281,MATCH($B$1&ROW($A111),TABPREBB!$AH$10:$AH$281,0),COLUMN()),\"\")","v":""},{"$f":"IFERROR(INDEX(TABPREBB!$A$10:$AF$281,MATCH($B$1&ROW($A111),TABPREBB!$AH$10:$AH$281,0),COLUMN()),\"\")","v":""},{"$f":"IFERROR(INDEX(TABPREBB!$A$10:$AF$281,MATCH($B$1&ROW($A111),TABPREBB!$AH$10:$AH$281,0),COLUMN()),\"\")","v":""},{"$f":"IFERROR(INDEX(TABPREBB!$A$10:$AF$281,MATCH($B$1&ROW($A111),TABPREBB!$AH$10:$AH$281,0),COLUMN()),\"\")","v":""},{"$f":"IFERROR(INDEX(TABPREBB!$A$10:$AF$281,MATCH($B$1&ROW($A111),TABPREBB!$AH$10:$AH$281,0),COLUMN()),\"\")","v":""},{"$f":"IFERROR(INDEX(TABPREBB!$A$10:$AF$281,MATCH($B$1&ROW($A111),TABPREBB!$AH$10:$AH$281,0),COLUMN()),\"\")","v":""},{"$f":"IFERROR(INDEX(TABPREBB!$A$10:$AF$281,MATCH($B$1&ROW($A111),TABPREBB!$AH$10:$AH$281,0),COLUMN()),\"\")","v":""},{"$f":"IFERROR(INDEX(TABPREBB!$A$10:$AF$281,MATCH($B$1&ROW($A111),TABPREBB!$AH$10:$AH$281,0),COLUMN()),\"\")","v":""},{"$f":"IFERROR(INDEX(TABPREBB!$A$10:$AF$281,MATCH($B$1&ROW($A111),TABPREBB!$AH$10:$AH$281,0),COLUMN()),\"\")","v":""},{"$f":"IFERROR(INDEX(TABPREBB!$A$10:$AF$281,MATCH($B$1&ROW($A111),TABPREBB!$AH$10:$AH$281,0),COLUMN()),\"\")","v":""},{"$f":"IFERROR(INDEX(TABPREBB!$A$10:$AF$281,MATCH($B$1&ROW($A111),TABPREBB!$AH$10:$AH$281,0),COLUMN()),\"\")","v":""},{"$f":"IFERROR(INDEX(TABPREBB!$A$10:$AF$281,MATCH($B$1&ROW($A111),TABPREBB!$AH$10:$AH$281,0),COLUMN()),\"\")","v":""},{"$f":"IFERROR(INDEX(TABPREBB!$A$10:$AF$281,MATCH($B$1&ROW($A111),TABPREBB!$AH$10:$AH$281,0),COLUMN()),\"\")","v":""}]
[{"$f":"IFERROR(INDEX(TABPREBB!$A$10:$AF$281,MATCH($B$1&ROW($A112),TABPREBB!$AH$10:$AH$281,0),COLUMN()),\"\")","v":""},{"$f":"IFERROR(INDEX(TABPREBB!$A$10:$AF$281,MATCH($B$1&ROW($A112),TABPREBB!$AH$10:$AH$281,0),COLUMN()),\"\")","v":""},{"$f":"IFERROR(INDEX(TABPREBB!$A$10:$AF$281,MATCH($B$1&ROW($A112),TABPREBB!$AH$10:$AH$281,0),COLUMN()),\"\")","v":""},{"$f":"IFERROR(INDEX(TABPREBB!$A$10:$AF$281,MATCH($B$1&ROW($A112),TABPREBB!$AH$10:$AH$281,0),COLUMN()),\"\")","v":""},{"$f":"IFERROR(INDEX(TABPREBB!$A$10:$AF$281,MATCH($B$1&ROW($A112),TABPREBB!$AH$10:$AH$281,0),COLUMN()),\"\")","v":""},{"$f":"IFERROR(INDEX(TABPREBB!$A$10:$AF$281,MATCH($B$1&ROW($A112),TABPREBB!$AH$10:$AH$281,0),COLUMN()),\"\")","v":""},{"$f":"IFERROR(INDEX(TABPREBB!$A$10:$AF$281,MATCH($B$1&ROW($A112),TABPREBB!$AH$10:$AH$281,0),COLUMN()),\"\")","v":""},{"$f":"IFERROR(INDEX(TABPREBB!$A$10:$AF$281,MATCH($B$1&ROW($A112),TABPREBB!$AH$10:$AH$281,0),COLUMN()),\"\")","v":""},{"$f":"IFERROR(INDEX(TABPREBB!$A$10:$AF$281,MATCH($B$1&ROW($A112),TABPREBB!$AH$10:$AH$281,0),COLUMN()),\"\")","v":""},{"$f":"IFERROR(INDEX(TABPREBB!$A$10:$AF$281,MATCH($B$1&ROW($A112),TABPREBB!$AH$10:$AH$281,0),COLUMN()),\"\")","v":""},{"$f":"IFERROR(INDEX(TABPREBB!$A$10:$AF$281,MATCH($B$1&ROW($A112),TABPREBB!$AH$10:$AH$281,0),COLUMN()),\"\")","v":""},{"$f":"IFERROR(INDEX(TABPREBB!$A$10:$AF$281,MATCH($B$1&ROW($A112),TABPREBB!$AH$10:$AH$281,0),COLUMN()),\"\")","v":""},{"$f":"IFERROR(INDEX(TABPREBB!$A$10:$AF$281,MATCH($B$1&ROW($A112),TABPREBB!$AH$10:$AH$281,0),COLUMN()),\"\")","v":""},{"$f":"IFERROR(INDEX(TABPREBB!$A$10:$AF$281,MATCH($B$1&ROW($A112),TABPREBB!$AH$10:$AH$281,0),COLUMN()),\"\")","v":""},{"$f":"IFERROR(INDEX(TABPREBB!$A$10:$AF$281,MATCH($B$1&ROW($A112),TABPREBB!$AH$10:$AH$281,0),COLUMN()),\"\")","v":""},{"$f":"IFERROR(INDEX(TABPREBB!$A$10:$AF$281,MATCH($B$1&ROW($A112),TABPREBB!$AH$10:$AH$281,0),COLUMN()),\"\")","v":""},{"$f":"IFERROR(INDEX(TABPREBB!$A$10:$AF$281,MATCH($B$1&ROW($A112),TABPREBB!$AH$10:$AH$281,0),COLUMN()),\"\")","v":""},{"$f":"IFERROR(INDEX(TABPREBB!$A$10:$AF$281,MATCH($B$1&ROW($A112),TABPREBB!$AH$10:$AH$281,0),COLUMN()),\"\")","v":""},{"$f":"IFERROR(INDEX(TABPREBB!$A$10:$AF$281,MATCH($B$1&ROW($A112),TABPREBB!$AH$10:$AH$281,0),COLUMN()),\"\")","v":""},{"$f":"IFERROR(INDEX(TABPREBB!$A$10:$AF$281,MATCH($B$1&ROW($A112),TABPREBB!$AH$10:$AH$281,0),COLUMN()),\"\")","v":""},{"$f":"IFERROR(INDEX(TABPREBB!$A$10:$AF$281,MATCH($B$1&ROW($A112),TABPREBB!$AH$10:$AH$281,0),COLUMN()),\"\")","v":""},{"$f":"IFERROR(INDEX(TABPREBB!$A$10:$AF$281,MATCH($B$1&ROW($A112),TABPREBB!$AH$10:$AH$281,0),COLUMN()),\"\")","v":""},{"$f":"IFERROR(INDEX(TABPREBB!$A$10:$AF$281,MATCH($B$1&ROW($A112),TABPREBB!$AH$10:$AH$281,0),COLUMN()),\"\")","v":""},{"$f":"IFERROR(INDEX(TABPREBB!$A$10:$AF$281,MATCH($B$1&ROW($A112),TABPREBB!$AH$10:$AH$281,0),COLUMN()),\"\")","v":""},{"$f":"IFERROR(INDEX(TABPREBB!$A$10:$AF$281,MATCH($B$1&ROW($A112),TABPREBB!$AH$10:$AH$281,0),COLUMN()),\"\")","v":""},{"$f":"IFERROR(INDEX(TABPREBB!$A$10:$AF$281,MATCH($B$1&ROW($A112),TABPREBB!$AH$10:$AH$281,0),COLUMN()),\"\")","v":""},{"$f":"IFERROR(INDEX(TABPREBB!$A$10:$AF$281,MATCH($B$1&ROW($A112),TABPREBB!$AH$10:$AH$281,0),COLUMN()),\"\")","v":""},{"$f":"IFERROR(INDEX(TABPREBB!$A$10:$AF$281,MATCH($B$1&ROW($A112),TABPREBB!$AH$10:$AH$281,0),COLUMN()),\"\")","v":""},{"$f":"IFERROR(INDEX(TABPREBB!$A$10:$AF$281,MATCH($B$1&ROW($A112),TABPREBB!$AH$10:$AH$281,0),COLUMN()),\"\")","v":""},{"$f":"IFERROR(INDEX(TABPREBB!$A$10:$AF$281,MATCH($B$1&ROW($A112),TABPREBB!$AH$10:$AH$281,0),COLUMN()),\"\")","v":""},{"$f":"IFERROR(INDEX(TABPREBB!$A$10:$AF$281,MATCH($B$1&ROW($A112),TABPREBB!$AH$10:$AH$281,0),COLUMN()),\"\")","v":""},{"$f":"IFERROR(INDEX(TABPREBB!$A$10:$AF$281,MATCH($B$1&ROW($A112),TABPREBB!$AH$10:$AH$281,0),COLUMN()),\"\")","v":""}]
[{"$f":"IFERROR(INDEX(TABPREBB!$A$10:$AF$281,MATCH($B$1&ROW($A113),TABPREBB!$AH$10:$AH$281,0),COLUMN()),\"\")","v":""},{"$f":"IFERROR(INDEX(TABPREBB!$A$10:$AF$281,MATCH($B$1&ROW($A113),TABPREBB!$AH$10:$AH$281,0),COLUMN()),\"\")","v":""},{"$f":"IFERROR(INDEX(TABPREBB!$A$10:$AF$281,MATCH($B$1&ROW($A113),TABPREBB!$AH$10:$AH$281,0),COLUMN()),\"\")","v":""},{"$f":"IFERROR(INDEX(TABPREBB!$A$10:$AF$281,MATCH($B$1&ROW($A113),TABPREBB!$AH$10:$AH$281,0),COLUMN()),\"\")","v":""},{"$f":"IFERROR(INDEX(TABPREBB!$A$10:$AF$281,MATCH($B$1&ROW($A113),TABPREBB!$AH$10:$AH$281,0),COLUMN()),\"\")","v":""},{"$f":"IFERROR(INDEX(TABPREBB!$A$10:$AF$281,MATCH($B$1&ROW($A113),TABPREBB!$AH$10:$AH$281,0),COLUMN()),\"\")","v":""},{"$f":"IFERROR(INDEX(TABPREBB!$A$10:$AF$281,MATCH($B$1&ROW($A113),TABPREBB!$AH$10:$AH$281,0),COLUMN()),\"\")","v":""},{"$f":"IFERROR(INDEX(TABPREBB!$A$10:$AF$281,MATCH($B$1&ROW($A113),TABPREBB!$AH$10:$AH$281,0),COLUMN()),\"\")","v":""},{"$f":"IFERROR(INDEX(TABPREBB!$A$10:$AF$281,MATCH($B$1&ROW($A113),TABPREBB!$AH$10:$AH$281,0),COLUMN()),\"\")","v":""},{"$f":"IFERROR(INDEX(TABPREBB!$A$10:$AF$281,MATCH($B$1&ROW($A113),TABPREBB!$AH$10:$AH$281,0),COLUMN()),\"\")","v":""},{"$f":"IFERROR(INDEX(TABPREBB!$A$10:$AF$281,MATCH($B$1&ROW($A113),TABPREBB!$AH$10:$AH$281,0),COLUMN()),\"\")","v":""},{"$f":"IFERROR(INDEX(TABPREBB!$A$10:$AF$281,MATCH($B$1&ROW($A113),TABPREBB!$AH$10:$AH$281,0),COLUMN()),\"\")","v":""},{"$f":"IFERROR(INDEX(TABPREBB!$A$10:$AF$281,MATCH($B$1&ROW($A113),TABPREBB!$AH$10:$AH$281,0),COLUMN()),\"\")","v":""},{"$f":"IFERROR(INDEX(TABPREBB!$A$10:$AF$281,MATCH($B$1&ROW($A113),TABPREBB!$AH$10:$AH$281,0),COLUMN()),\"\")","v":""},{"$f":"IFERROR(INDEX(TABPREBB!$A$10:$AF$281,MATCH($B$1&ROW($A113),TABPREBB!$AH$10:$AH$281,0),COLUMN()),\"\")","v":""},{"$f":"IFERROR(INDEX(TABPREBB!$A$10:$AF$281,MATCH($B$1&ROW($A113),TABPREBB!$AH$10:$AH$281,0),COLUMN()),\"\")","v":""},{"$f":"IFERROR(INDEX(TABPREBB!$A$10:$AF$281,MATCH($B$1&ROW($A113),TABPREBB!$AH$10:$AH$281,0),COLUMN()),\"\")","v":""},{"$f":"IFERROR(INDEX(TABPREBB!$A$10:$AF$281,MATCH($B$1&ROW($A113),TABPREBB!$AH$10:$AH$281,0),COLUMN()),\"\")","v":""},{"$f":"IFERROR(INDEX(TABPREBB!$A$10:$AF$281,MATCH($B$1&ROW($A113),TABPREBB!$AH$10:$AH$281,0),COLUMN()),\"\")","v":""},{"$f":"IFERROR(INDEX(TABPREBB!$A$10:$AF$281,MATCH($B$1&ROW($A113),TABPREBB!$AH$10:$AH$281,0),COLUMN()),\"\")","v":""},{"$f":"IFERROR(INDEX(TABPREBB!$A$10:$AF$281,MATCH($B$1&ROW($A113),TABPREBB!$AH$10:$AH$281,0),COLUMN()),\"\")","v":""},{"$f":"IFERROR(INDEX(TABPREBB!$A$10:$AF$281,MATCH($B$1&ROW($A113),TABPREBB!$AH$10:$AH$281,0),COLUMN()),\"\")","v":""},{"$f":"IFERROR(INDEX(TABPREBB!$A$10:$AF$281,MATCH($B$1&ROW($A113),TABPREBB!$AH$10:$AH$281,0),COLUMN()),\"\")","v":""},{"$f":"IFERROR(INDEX(TABPREBB!$A$10:$AF$281,MATCH($B$1&ROW($A113),TABPREBB!$AH$10:$AH$281,0),COLUMN()),\"\")","v":""},{"$f":"IFERROR(INDEX(TABPREBB!$A$10:$AF$281,MATCH($B$1&ROW($A113),TABPREBB!$AH$10:$AH$281,0),COLUMN()),\"\")","v":""},{"$f":"IFERROR(INDEX(TABPREBB!$A$10:$AF$281,MATCH($B$1&ROW($A113),TABPREBB!$AH$10:$AH$281,0),COLUMN()),\"\")","v":""},{"$f":"IFERROR(INDEX(TABPREBB!$A$10:$AF$281,MATCH($B$1&ROW($A113),TABPREBB!$AH$10:$AH$281,0),COLUMN()),\"\")","v":""},{"$f":"IFERROR(INDEX(TABPREBB!$A$10:$AF$281,MATCH($B$1&ROW($A113),TABPREBB!$AH$10:$AH$281,0),COLUMN()),\"\")","v":""},{"$f":"IFERROR(INDEX(TABPREBB!$A$10:$AF$281,MATCH($B$1&ROW($A113),TABPREBB!$AH$10:$AH$281,0),COLUMN()),\"\")","v":""},{"$f":"IFERROR(INDEX(TABPREBB!$A$10:$AF$281,MATCH($B$1&ROW($A113),TABPREBB!$AH$10:$AH$281,0),COLUMN()),\"\")","v":""},{"$f":"IFERROR(INDEX(TABPREBB!$A$10:$AF$281,MATCH($B$1&ROW($A113),TABPREBB!$AH$10:$AH$281,0),COLUMN()),\"\")","v":""},{"$f":"IFERROR(INDEX(TABPREBB!$A$10:$AF$281,MATCH($B$1&ROW($A113),TABPREBB!$AH$10:$AH$281,0),COLUMN()),\"\")","v":""}]
[{"$f":"IFERROR(INDEX(TABPREBB!$A$10:$AF$281,MATCH($B$1&ROW($A114),TABPREBB!$AH$10:$AH$281,0),COLUMN()),\"\")","v":""},{"$f":"IFERROR(INDEX(TABPREBB!$A$10:$AF$281,MATCH($B$1&ROW($A114),TABPREBB!$AH$10:$AH$281,0),COLUMN()),\"\")","v":""},{"$f":"IFERROR(INDEX(TABPREBB!$A$10:$AF$281,MATCH($B$1&ROW($A114),TABPREBB!$AH$10:$AH$281,0),COLUMN()),\"\")","v":""},{"$f":"IFERROR(INDEX(TABPREBB!$A$10:$AF$281,MATCH($B$1&ROW($A114),TABPREBB!$AH$10:$AH$281,0),COLUMN()),\"\")","v":""},{"$f":"IFERROR(INDEX(TABPREBB!$A$10:$AF$281,MATCH($B$1&ROW($A114),TABPREBB!$AH$10:$AH$281,0),COLUMN()),\"\")","v":""},{"$f":"IFERROR(INDEX(TABPREBB!$A$10:$AF$281,MATCH($B$1&ROW($A114),TABPREBB!$AH$10:$AH$281,0),COLUMN()),\"\")","v":""},{"$f":"IFERROR(INDEX(TABPREBB!$A$10:$AF$281,MATCH($B$1&ROW($A114),TABPREBB!$AH$10:$AH$281,0),COLUMN()),\"\")","v":""},{"$f":"IFERROR(INDEX(TABPREBB!$A$10:$AF$281,MATCH($B$1&ROW($A114),TABPREBB!$AH$10:$AH$281,0),COLUMN()),\"\")","v":""},{"$f":"IFERROR(INDEX(TABPREBB!$A$10:$AF$281,MATCH($B$1&ROW($A114),TABPREBB!$AH$10:$AH$281,0),COLUMN()),\"\")","v":""},{"$f":"IFERROR(INDEX(TABPREBB!$A$10:$AF$281,MATCH($B$1&ROW($A114),TABPREBB!$AH$10:$AH$281,0),COLUMN()),\"\")","v":""},{"$f":"IFERROR(INDEX(TABPREBB!$A$10:$AF$281,MATCH($B$1&ROW($A114),TABPREBB!$AH$10:$AH$281,0),COLUMN()),\"\")","v":""},{"$f":"IFERROR(INDEX(TABPREBB!$A$10:$AF$281,MATCH($B$1&ROW($A114),TABPREBB!$AH$10:$AH$281,0),COLUMN()),\"\")","v":""},{"$f":"IFERROR(INDEX(TABPREBB!$A$10:$AF$281,MATCH($B$1&ROW($A114),TABPREBB!$AH$10:$AH$281,0),COLUMN()),\"\")","v":""},{"$f":"IFERROR(INDEX(TABPREBB!$A$10:$AF$281,MATCH($B$1&ROW($A114),TABPREBB!$AH$10:$AH$281,0),COLUMN()),\"\")","v":""},{"$f":"IFERROR(INDEX(TABPREBB!$A$10:$AF$281,MATCH($B$1&ROW($A114),TABPREBB!$AH$10:$AH$281,0),COLUMN()),\"\")","v":""},{"$f":"IFERROR(INDEX(TABPREBB!$A$10:$AF$281,MATCH($B$1&ROW($A114),TABPREBB!$AH$10:$AH$281,0),COLUMN()),\"\")","v":""},{"$f":"IFERROR(INDEX(TABPREBB!$A$10:$AF$281,MATCH($B$1&ROW($A114),TABPREBB!$AH$10:$AH$281,0),COLUMN()),\"\")","v":""},{"$f":"IFERROR(INDEX(TABPREBB!$A$10:$AF$281,MATCH($B$1&ROW($A114),TABPREBB!$AH$10:$AH$281,0),COLUMN()),\"\")","v":""},{"$f":"IFERROR(INDEX(TABPREBB!$A$10:$AF$281,MATCH($B$1&ROW($A114),TABPREBB!$AH$10:$AH$281,0),COLUMN()),\"\")","v":""},{"$f":"IFERROR(INDEX(TABPREBB!$A$10:$AF$281,MATCH($B$1&ROW($A114),TABPREBB!$AH$10:$AH$281,0),COLUMN()),\"\")","v":""},{"$f":"IFERROR(INDEX(TABPREBB!$A$10:$AF$281,MATCH($B$1&ROW($A114),TABPREBB!$AH$10:$AH$281,0),COLUMN()),\"\")","v":""},{"$f":"IFERROR(INDEX(TABPREBB!$A$10:$AF$281,MATCH($B$1&ROW($A114),TABPREBB!$AH$10:$AH$281,0),COLUMN()),\"\")","v":""},{"$f":"IFERROR(INDEX(TABPREBB!$A$10:$AF$281,MATCH($B$1&ROW($A114),TABPREBB!$AH$10:$AH$281,0),COLUMN()),\"\")","v":""},{"$f":"IFERROR(INDEX(TABPREBB!$A$10:$AF$281,MATCH($B$1&ROW($A114),TABPREBB!$AH$10:$AH$281,0),COLUMN()),\"\")","v":""},{"$f":"IFERROR(INDEX(TABPREBB!$A$10:$AF$281,MATCH($B$1&ROW($A114),TABPREBB!$AH$10:$AH$281,0),COLUMN()),\"\")","v":""},{"$f":"IFERROR(INDEX(TABPREBB!$A$10:$AF$281,MATCH($B$1&ROW($A114),TABPREBB!$AH$10:$AH$281,0),COLUMN()),\"\")","v":""},{"$f":"IFERROR(INDEX(TABPREBB!$A$10:$AF$281,MATCH($B$1&ROW($A114),TABPREBB!$AH$10:$AH$281,0),COLUMN()),\"\")","v":""},{"$f":"IFERROR(INDEX(TABPREBB!$A$10:$AF$281,MATCH($B$1&ROW($A114),TABPREBB!$AH$10:$AH$281,0),COLUMN()),\"\")","v":""},{"$f":"IFERROR(INDEX(TABPREBB!$A$10:$AF$281,MATCH($B$1&ROW($A114),TABPREBB!$AH$10:$AH$281,0),COLUMN()),\"\")","v":""},{"$f":"IFERROR(INDEX(TABPREBB!$A$10:$AF$281,MATCH($B$1&ROW($A114),TABPREBB!$AH$10:$AH$281,0),COLUMN()),\"\")","v":""},{"$f":"IFERROR(INDEX(TABPREBB!$A$10:$AF$281,MATCH($B$1&ROW($A114),TABPREBB!$AH$10:$AH$281,0),COLUMN()),\"\")","v":""},{"$f":"IFERROR(INDEX(TABPREBB!$A$10:$AF$281,MATCH($B$1&ROW($A114),TABPREBB!$AH$10:$AH$281,0),COLUMN()),\"\")","v":""}]
[{"$f":"IFERROR(INDEX(TABPREBB!$A$10:$AF$281,MATCH($B$1&ROW($A115),TABPREBB!$AH$10:$AH$281,0),COLUMN()),\"\")","v":""},{"$f":"IFERROR(INDEX(TABPREBB!$A$10:$AF$281,MATCH($B$1&ROW($A115),TABPREBB!$AH$10:$AH$281,0),COLUMN()),\"\")","v":""},{"$f":"IFERROR(INDEX(TABPREBB!$A$10:$AF$281,MATCH($B$1&ROW($A115),TABPREBB!$AH$10:$AH$281,0),COLUMN()),\"\")","v":""},{"$f":"IFERROR(INDEX(TABPREBB!$A$10:$AF$281,MATCH($B$1&ROW($A115),TABPREBB!$AH$10:$AH$281,0),COLUMN()),\"\")","v":""},{"$f":"IFERROR(INDEX(TABPREBB!$A$10:$AF$281,MATCH($B$1&ROW($A115),TABPREBB!$AH$10:$AH$281,0),COLUMN()),\"\")","v":""},{"$f":"IFERROR(INDEX(TABPREBB!$A$10:$AF$281,MATCH($B$1&ROW($A115),TABPREBB!$AH$10:$AH$281,0),COLUMN()),\"\")","v":""},{"$f":"IFERROR(INDEX(TABPREBB!$A$10:$AF$281,MATCH($B$1&ROW($A115),TABPREBB!$AH$10:$AH$281,0),COLUMN()),\"\")","v":""},{"$f":"IFERROR(INDEX(TABPREBB!$A$10:$AF$281,MATCH($B$1&ROW($A115),TABPREBB!$AH$10:$AH$281,0),COLUMN()),\"\")","v":""},{"$f":"IFERROR(INDEX(TABPREBB!$A$10:$AF$281,MATCH($B$1&ROW($A115),TABPREBB!$AH$10:$AH$281,0),COLUMN()),\"\")","v":""},{"$f":"IFERROR(INDEX(TABPREBB!$A$10:$AF$281,MATCH($B$1&ROW($A115),TABPREBB!$AH$10:$AH$281,0),COLUMN()),\"\")","v":""},{"$f":"IFERROR(INDEX(TABPREBB!$A$10:$AF$281,MATCH($B$1&ROW($A115),TABPREBB!$AH$10:$AH$281,0),COLUMN()),\"\")","v":""},{"$f":"IFERROR(INDEX(TABPREBB!$A$10:$AF$281,MATCH($B$1&ROW($A115),TABPREBB!$AH$10:$AH$281,0),COLUMN()),\"\")","v":""},{"$f":"IFERROR(INDEX(TABPREBB!$A$10:$AF$281,MATCH($B$1&ROW($A115),TABPREBB!$AH$10:$AH$281,0),COLUMN()),\"\")","v":""},{"$f":"IFERROR(INDEX(TABPREBB!$A$10:$AF$281,MATCH($B$1&ROW($A115),TABPREBB!$AH$10:$AH$281,0),COLUMN()),\"\")","v":""},{"$f":"IFERROR(INDEX(TABPREBB!$A$10:$AF$281,MATCH($B$1&ROW($A115),TABPREBB!$AH$10:$AH$281,0),COLUMN()),\"\")","v":""},{"$f":"IFERROR(INDEX(TABPREBB!$A$10:$AF$281,MATCH($B$1&ROW($A115),TABPREBB!$AH$10:$AH$281,0),COLUMN()),\"\")","v":""},{"$f":"IFERROR(INDEX(TABPREBB!$A$10:$AF$281,MATCH($B$1&ROW($A115),TABPREBB!$AH$10:$AH$281,0),COLUMN()),\"\")","v":""},{"$f":"IFERROR(INDEX(TABPREBB!$A$10:$AF$281,MATCH($B$1&ROW($A115),TABPREBB!$AH$10:$AH$281,0),COLUMN()),\"\")","v":""},{"$f":"IFERROR(INDEX(TABPREBB!$A$10:$AF$281,MATCH($B$1&ROW($A115),TABPREBB!$AH$10:$AH$281,0),COLUMN()),\"\")","v":""},{"$f":"IFERROR(INDEX(TABPREBB!$A$10:$AF$281,MATCH($B$1&ROW($A115),TABPREBB!$AH$10:$AH$281,0),COLUMN()),\"\")","v":""},{"$f":"IFERROR(INDEX(TABPREBB!$A$10:$AF$281,MATCH($B$1&ROW($A115),TABPREBB!$AH$10:$AH$281,0),COLUMN()),\"\")","v":""},{"$f":"IFERROR(INDEX(TABPREBB!$A$10:$AF$281,MATCH($B$1&ROW($A115),TABPREBB!$AH$10:$AH$281,0),COLUMN()),\"\")","v":""},{"$f":"IFERROR(INDEX(TABPREBB!$A$10:$AF$281,MATCH($B$1&ROW($A115),TABPREBB!$AH$10:$AH$281,0),COLUMN()),\"\")","v":""},{"$f":"IFERROR(INDEX(TABPREBB!$A$10:$AF$281,MATCH($B$1&ROW($A115),TABPREBB!$AH$10:$AH$281,0),COLUMN()),\"\")","v":""},{"$f":"IFERROR(INDEX(TABPREBB!$A$10:$AF$281,MATCH($B$1&ROW($A115),TABPREBB!$AH$10:$AH$281,0),COLUMN()),\"\")","v":""},{"$f":"IFERROR(INDEX(TABPREBB!$A$10:$AF$281,MATCH($B$1&ROW($A115),TABPREBB!$AH$10:$AH$281,0),COLUMN()),\"\")","v":""},{"$f":"IFERROR(INDEX(TABPREBB!$A$10:$AF$281,MATCH($B$1&ROW($A115),TABPREBB!$AH$10:$AH$281,0),COLUMN()),\"\")","v":""},{"$f":"IFERROR(INDEX(TABPREBB!$A$10:$AF$281,MATCH($B$1&ROW($A115),TABPREBB!$AH$10:$AH$281,0),COLUMN()),\"\")","v":""},{"$f":"IFERROR(INDEX(TABPREBB!$A$10:$AF$281,MATCH($B$1&ROW($A115),TABPREBB!$AH$10:$AH$281,0),COLUMN()),\"\")","v":""},{"$f":"IFERROR(INDEX(TABPREBB!$A$10:$AF$281,MATCH($B$1&ROW($A115),TABPREBB!$AH$10:$AH$281,0),COLUMN()),\"\")","v":""},{"$f":"IFERROR(INDEX(TABPREBB!$A$10:$AF$281,MATCH($B$1&ROW($A115),TABPREBB!$AH$10:$AH$281,0),COLUMN()),\"\")","v":""},{"$f":"IFERROR(INDEX(TABPREBB!$A$10:$AF$281,MATCH($B$1&ROW($A115),TABPREBB!$AH$10:$AH$281,0),COLUMN()),\"\")","v":""}]
[{"$f":"IFERROR(INDEX(TABPREBB!$A$10:$AF$281,MATCH($B$1&ROW($A116),TABPREBB!$AH$10:$AH$281,0),COLUMN()),\"\")","v":""},{"$f":"IFERROR(INDEX(TABPREBB!$A$10:$AF$281,MATCH($B$1&ROW($A116),TABPREBB!$AH$10:$AH$281,0),COLUMN()),\"\")","v":""},{"$f":"IFERROR(INDEX(TABPREBB!$A$10:$AF$281,MATCH($B$1&ROW($A116),TABPREBB!$AH$10:$AH$281,0),COLUMN()),\"\")","v":""},{"$f":"IFERROR(INDEX(TABPREBB!$A$10:$AF$281,MATCH($B$1&ROW($A116),TABPREBB!$AH$10:$AH$281,0),COLUMN()),\"\")","v":""},{"$f":"IFERROR(INDEX(TABPREBB!$A$10:$AF$281,MATCH($B$1&ROW($A116),TABPREBB!$AH$10:$AH$281,0),COLUMN()),\"\")","v":""},{"$f":"IFERROR(INDEX(TABPREBB!$A$10:$AF$281,MATCH($B$1&ROW($A116),TABPREBB!$AH$10:$AH$281,0),COLUMN()),\"\")","v":""},{"$f":"IFERROR(INDEX(TABPREBB!$A$10:$AF$281,MATCH($B$1&ROW($A116),TABPREBB!$AH$10:$AH$281,0),COLUMN()),\"\")","v":""},{"$f":"IFERROR(INDEX(TABPREBB!$A$10:$AF$281,MATCH($B$1&ROW($A116),TABPREBB!$AH$10:$AH$281,0),COLUMN()),\"\")","v":""},{"$f":"IFERROR(INDEX(TABPREBB!$A$10:$AF$281,MATCH($B$1&ROW($A116),TABPREBB!$AH$10:$AH$281,0),COLUMN()),\"\")","v":""},{"$f":"IFERROR(INDEX(TABPREBB!$A$10:$AF$281,MATCH($B$1&ROW($A116),TABPREBB!$AH$10:$AH$281,0),COLUMN()),\"\")","v":""},{"$f":"IFERROR(INDEX(TABPREBB!$A$10:$AF$281,MATCH($B$1&ROW($A116),TABPREBB!$AH$10:$AH$281,0),COLUMN()),\"\")","v":""},{"$f":"IFERROR(INDEX(TABPREBB!$A$10:$AF$281,MATCH($B$1&ROW($A116),TABPREBB!$AH$10:$AH$281,0),COLUMN()),\"\")","v":""},{"$f":"IFERROR(INDEX(TABPREBB!$A$10:$AF$281,MATCH($B$1&ROW($A116),TABPREBB!$AH$10:$AH$281,0),COLUMN()),\"\")","v":""},{"$f":"IFERROR(INDEX(TABPREBB!$A$10:$AF$281,MATCH($B$1&ROW($A116),TABPREBB!$AH$10:$AH$281,0),COLUMN()),\"\")","v":""},{"$f":"IFERROR(INDEX(TABPREBB!$A$10:$AF$281,MATCH($B$1&ROW($A116),TABPREBB!$AH$10:$AH$281,0),COLUMN()),\"\")","v":""},{"$f":"IFERROR(INDEX(TABPREBB!$A$10:$AF$281,MATCH($B$1&ROW($A116),TABPREBB!$AH$10:$AH$281,0),COLUMN()),\"\")","v":""},{"$f":"IFERROR(INDEX(TABPREBB!$A$10:$AF$281,MATCH($B$1&ROW($A116),TABPREBB!$AH$10:$AH$281,0),COLUMN()),\"\")","v":""},{"$f":"IFERROR(INDEX(TABPREBB!$A$10:$AF$281,MATCH($B$1&ROW($A116),TABPREBB!$AH$10:$AH$281,0),COLUMN()),\"\")","v":""},{"$f":"IFERROR(INDEX(TABPREBB!$A$10:$AF$281,MATCH($B$1&ROW($A116),TABPREBB!$AH$10:$AH$281,0),COLUMN()),\"\")","v":""},{"$f":"IFERROR(INDEX(TABPREBB!$A$10:$AF$281,MATCH($B$1&ROW($A116),TABPREBB!$AH$10:$AH$281,0),COLUMN()),\"\")","v":""},{"$f":"IFERROR(INDEX(TABPREBB!$A$10:$AF$281,MATCH($B$1&ROW($A116),TABPREBB!$AH$10:$AH$281,0),COLUMN()),\"\")","v":""},{"$f":"IFERROR(INDEX(TABPREBB!$A$10:$AF$281,MATCH($B$1&ROW($A116),TABPREBB!$AH$10:$AH$281,0),COLUMN()),\"\")","v":""},{"$f":"IFERROR(INDEX(TABPREBB!$A$10:$AF$281,MATCH($B$1&ROW($A116),TABPREBB!$AH$10:$AH$281,0),COLUMN()),\"\")","v":""},{"$f":"IFERROR(INDEX(TABPREBB!$A$10:$AF$281,MATCH($B$1&ROW($A116),TABPREBB!$AH$10:$AH$281,0),COLUMN()),\"\")","v":""},{"$f":"IFERROR(INDEX(TABPREBB!$A$10:$AF$281,MATCH($B$1&ROW($A116),TABPREBB!$AH$10:$AH$281,0),COLUMN()),\"\")","v":""},{"$f":"IFERROR(INDEX(TABPREBB!$A$10:$AF$281,MATCH($B$1&ROW($A116),TABPREBB!$AH$10:$AH$281,0),COLUMN()),\"\")","v":""},{"$f":"IFERROR(INDEX(TABPREBB!$A$10:$AF$281,MATCH($B$1&ROW($A116),TABPREBB!$AH$10:$AH$281,0),COLUMN()),\"\")","v":""},{"$f":"IFERROR(INDEX(TABPREBB!$A$10:$AF$281,MATCH($B$1&ROW($A116),TABPREBB!$AH$10:$AH$281,0),COLUMN()),\"\")","v":""},{"$f":"IFERROR(INDEX(TABPREBB!$A$10:$AF$281,MATCH($B$1&ROW($A116),TABPREBB!$AH$10:$AH$281,0),COLUMN()),\"\")","v":""},{"$f":"IFERROR(INDEX(TABPREBB!$A$10:$AF$281,MATCH($B$1&ROW($A116),TABPREBB!$AH$10:$AH$281,0),COLUMN()),\"\")","v":""},{"$f":"IFERROR(INDEX(TABPREBB!$A$10:$AF$281,MATCH($B$1&ROW($A116),TABPREBB!$AH$10:$AH$281,0),COLUMN()),\"\")","v":""},{"$f":"IFERROR(INDEX(TABPREBB!$A$10:$AF$281,MATCH($B$1&ROW($A116),TABPREBB!$AH$10:$AH$281,0),COLUMN()),\"\")","v":""}]
[{"$f":"IFERROR(INDEX(TABPREBB!$A$10:$AF$281,MATCH($B$1&ROW($A117),TABPREBB!$AH$10:$AH$281,0),COLUMN()),\"\")","v":""},{"$f":"IFERROR(INDEX(TABPREBB!$A$10:$AF$281,MATCH($B$1&ROW($A117),TABPREBB!$AH$10:$AH$281,0),COLUMN()),\"\")","v":""},{"$f":"IFERROR(INDEX(TABPREBB!$A$10:$AF$281,MATCH($B$1&ROW($A117),TABPREBB!$AH$10:$AH$281,0),COLUMN()),\"\")","v":""},{"$f":"IFERROR(INDEX(TABPREBB!$A$10:$AF$281,MATCH($B$1&ROW($A117),TABPREBB!$AH$10:$AH$281,0),COLUMN()),\"\")","v":""},{"$f":"IFERROR(INDEX(TABPREBB!$A$10:$AF$281,MATCH($B$1&ROW($A117),TABPREBB!$AH$10:$AH$281,0),COLUMN()),\"\")","v":""},{"$f":"IFERROR(INDEX(TABPREBB!$A$10:$AF$281,MATCH($B$1&ROW($A117),TABPREBB!$AH$10:$AH$281,0),COLUMN()),\"\")","v":""},{"$f":"IFERROR(INDEX(TABPREBB!$A$10:$AF$281,MATCH($B$1&ROW($A117),TABPREBB!$AH$10:$AH$281,0),COLUMN()),\"\")","v":""},{"$f":"IFERROR(INDEX(TABPREBB!$A$10:$AF$281,MATCH($B$1&ROW($A117),TABPREBB!$AH$10:$AH$281,0),COLUMN()),\"\")","v":""},{"$f":"IFERROR(INDEX(TABPREBB!$A$10:$AF$281,MATCH($B$1&ROW($A117),TABPREBB!$AH$10:$AH$281,0),COLUMN()),\"\")","v":""},{"$f":"IFERROR(INDEX(TABPREBB!$A$10:$AF$281,MATCH($B$1&ROW($A117),TABPREBB!$AH$10:$AH$281,0),COLUMN()),\"\")","v":""},{"$f":"IFERROR(INDEX(TABPREBB!$A$10:$AF$281,MATCH($B$1&ROW($A117),TABPREBB!$AH$10:$AH$281,0),COLUMN()),\"\")","v":""},{"$f":"IFERROR(INDEX(TABPREBB!$A$10:$AF$281,MATCH($B$1&ROW($A117),TABPREBB!$AH$10:$AH$281,0),COLUMN()),\"\")","v":""},{"$f":"IFERROR(INDEX(TABPREBB!$A$10:$AF$281,MATCH($B$1&ROW($A117),TABPREBB!$AH$10:$AH$281,0),COLUMN()),\"\")","v":""},{"$f":"IFERROR(INDEX(TABPREBB!$A$10:$AF$281,MATCH($B$1&ROW($A117),TABPREBB!$AH$10:$AH$281,0),COLUMN()),\"\")","v":""},{"$f":"IFERROR(INDEX(TABPREBB!$A$10:$AF$281,MATCH($B$1&ROW($A117),TABPREBB!$AH$10:$AH$281,0),COLUMN()),\"\")","v":""},{"$f":"IFERROR(INDEX(TABPREBB!$A$10:$AF$281,MATCH($B$1&ROW($A117),TABPREBB!$AH$10:$AH$281,0),COLUMN()),\"\")","v":""},{"$f":"IFERROR(INDEX(TABPREBB!$A$10:$AF$281,MATCH($B$1&ROW($A117),TABPREBB!$AH$10:$AH$281,0),COLUMN()),\"\")","v":""},{"$f":"IFERROR(INDEX(TABPREBB!$A$10:$AF$281,MATCH($B$1&ROW($A117),TABPREBB!$AH$10:$AH$281,0),COLUMN()),\"\")","v":""},{"$f":"IFERROR(INDEX(TABPREBB!$A$10:$AF$281,MATCH($B$1&ROW($A117),TABPREBB!$AH$10:$AH$281,0),COLUMN()),\"\")","v":""},{"$f":"IFERROR(INDEX(TABPREBB!$A$10:$AF$281,MATCH($B$1&ROW($A117),TABPREBB!$AH$10:$AH$281,0),COLUMN()),\"\")","v":""},{"$f":"IFERROR(INDEX(TABPREBB!$A$10:$AF$281,MATCH($B$1&ROW($A117),TABPREBB!$AH$10:$AH$281,0),COLUMN()),\"\")","v":""},{"$f":"IFERROR(INDEX(TABPREBB!$A$10:$AF$281,MATCH($B$1&ROW($A117),TABPREBB!$AH$10:$AH$281,0),COLUMN()),\"\")","v":""},{"$f":"IFERROR(INDEX(TABPREBB!$A$10:$AF$281,MATCH($B$1&ROW($A117),TABPREBB!$AH$10:$AH$281,0),COLUMN()),\"\")","v":""},{"$f":"IFERROR(INDEX(TABPREBB!$A$10:$AF$281,MATCH($B$1&ROW($A117),TABPREBB!$AH$10:$AH$281,0),COLUMN()),\"\")","v":""},{"$f":"IFERROR(INDEX(TABPREBB!$A$10:$AF$281,MATCH($B$1&ROW($A117),TABPREBB!$AH$10:$AH$281,0),COLUMN()),\"\")","v":""},{"$f":"IFERROR(INDEX(TABPREBB!$A$10:$AF$281,MATCH($B$1&ROW($A117),TABPREBB!$AH$10:$AH$281,0),COLUMN()),\"\")","v":""},{"$f":"IFERROR(INDEX(TABPREBB!$A$10:$AF$281,MATCH($B$1&ROW($A117),TABPREBB!$AH$10:$AH$281,0),COLUMN()),\"\")","v":""},{"$f":"IFERROR(INDEX(TABPREBB!$A$10:$AF$281,MATCH($B$1&ROW($A117),TABPREBB!$AH$10:$AH$281,0),COLUMN()),\"\")","v":""},{"$f":"IFERROR(INDEX(TABPREBB!$A$10:$AF$281,MATCH($B$1&ROW($A117),TABPREBB!$AH$10:$AH$281,0),COLUMN()),\"\")","v":""},{"$f":"IFERROR(INDEX(TABPREBB!$A$10:$AF$281,MATCH($B$1&ROW($A117),TABPREBB!$AH$10:$AH$281,0),COLUMN()),\"\")","v":""},{"$f":"IFERROR(INDEX(TABPREBB!$A$10:$AF$281,MATCH($B$1&ROW($A117),TABPREBB!$AH$10:$AH$281,0),COLUMN()),\"\")","v":""},{"$f":"IFERROR(INDEX(TABPREBB!$A$10:$AF$281,MATCH($B$1&ROW($A117),TABPREBB!$AH$10:$AH$281,0),COLUMN()),\"\")","v":""}]
[{"$f":"IFERROR(INDEX(TABPREBB!$A$10:$AF$281,MATCH($B$1&ROW($A118),TABPREBB!$AH$10:$AH$281,0),COLUMN()),\"\")","v":""},{"$f":"IFERROR(INDEX(TABPREBB!$A$10:$AF$281,MATCH($B$1&ROW($A118),TABPREBB!$AH$10:$AH$281,0),COLUMN()),\"\")","v":""},{"$f":"IFERROR(INDEX(TABPREBB!$A$10:$AF$281,MATCH($B$1&ROW($A118),TABPREBB!$AH$10:$AH$281,0),COLUMN()),\"\")","v":""},{"$f":"IFERROR(INDEX(TABPREBB!$A$10:$AF$281,MATCH($B$1&ROW($A118),TABPREBB!$AH$10:$AH$281,0),COLUMN()),\"\")","v":""},{"$f":"IFERROR(INDEX(TABPREBB!$A$10:$AF$281,MATCH($B$1&ROW($A118),TABPREBB!$AH$10:$AH$281,0),COLUMN()),\"\")","v":""},{"$f":"IFERROR(INDEX(TABPREBB!$A$10:$AF$281,MATCH($B$1&ROW($A118),TABPREBB!$AH$10:$AH$281,0),COLUMN()),\"\")","v":""},{"$f":"IFERROR(INDEX(TABPREBB!$A$10:$AF$281,MATCH($B$1&ROW($A118),TABPREBB!$AH$10:$AH$281,0),COLUMN()),\"\")","v":""},{"$f":"IFERROR(INDEX(TABPREBB!$A$10:$AF$281,MATCH($B$1&ROW($A118),TABPREBB!$AH$10:$AH$281,0),COLUMN()),\"\")","v":""},{"$f":"IFERROR(INDEX(TABPREBB!$A$10:$AF$281,MATCH($B$1&ROW($A118),TABPREBB!$AH$10:$AH$281,0),COLUMN()),\"\")","v":""},{"$f":"IFERROR(INDEX(TABPREBB!$A$10:$AF$281,MATCH($B$1&ROW($A118),TABPREBB!$AH$10:$AH$281,0),COLUMN()),\"\")","v":""},{"$f":"IFERROR(INDEX(TABPREBB!$A$10:$AF$281,MATCH($B$1&ROW($A118),TABPREBB!$AH$10:$AH$281,0),COLUMN()),\"\")","v":""},{"$f":"IFERROR(INDEX(TABPREBB!$A$10:$AF$281,MATCH($B$1&ROW($A118),TABPREBB!$AH$10:$AH$281,0),COLUMN()),\"\")","v":""},{"$f":"IFERROR(INDEX(TABPREBB!$A$10:$AF$281,MATCH($B$1&ROW($A118),TABPREBB!$AH$10:$AH$281,0),COLUMN()),\"\")","v":""},{"$f":"IFERROR(INDEX(TABPREBB!$A$10:$AF$281,MATCH($B$1&ROW($A118),TABPREBB!$AH$10:$AH$281,0),COLUMN()),\"\")","v":""},{"$f":"IFERROR(INDEX(TABPREBB!$A$10:$AF$281,MATCH($B$1&ROW($A118),TABPREBB!$AH$10:$AH$281,0),COLUMN()),\"\")","v":""},{"$f":"IFERROR(INDEX(TABPREBB!$A$10:$AF$281,MATCH($B$1&ROW($A118),TABPREBB!$AH$10:$AH$281,0),COLUMN()),\"\")","v":""},{"$f":"IFERROR(INDEX(TABPREBB!$A$10:$AF$281,MATCH($B$1&ROW($A118),TABPREBB!$AH$10:$AH$281,0),COLUMN()),\"\")","v":""},{"$f":"IFERROR(INDEX(TABPREBB!$A$10:$AF$281,MATCH($B$1&ROW($A118),TABPREBB!$AH$10:$AH$281,0),COLUMN()),\"\")","v":""},{"$f":"IFERROR(INDEX(TABPREBB!$A$10:$AF$281,MATCH($B$1&ROW($A118),TABPREBB!$AH$10:$AH$281,0),COLUMN()),\"\")","v":""},{"$f":"IFERROR(INDEX(TABPREBB!$A$10:$AF$281,MATCH($B$1&ROW($A118),TABPREBB!$AH$10:$AH$281,0),COLUMN()),\"\")","v":""},{"$f":"IFERROR(INDEX(TABPREBB!$A$10:$AF$281,MATCH($B$1&ROW($A118),TABPREBB!$AH$10:$AH$281,0),COLUMN()),\"\")","v":""},{"$f":"IFERROR(INDEX(TABPREBB!$A$10:$AF$281,MATCH($B$1&ROW($A118),TABPREBB!$AH$10:$AH$281,0),COLUMN()),\"\")","v":""},{"$f":"IFERROR(INDEX(TABPREBB!$A$10:$AF$281,MATCH($B$1&ROW($A118),TABPREBB!$AH$10:$AH$281,0),COLUMN()),\"\")","v":""},{"$f":"IFERROR(INDEX(TABPREBB!$A$10:$AF$281,MATCH($B$1&ROW($A118),TABPREBB!$AH$10:$AH$281,0),COLUMN()),\"\")","v":""},{"$f":"IFERROR(INDEX(TABPREBB!$A$10:$AF$281,MATCH($B$1&ROW($A118),TABPREBB!$AH$10:$AH$281,0),COLUMN()),\"\")","v":""},{"$f":"IFERROR(INDEX(TABPREBB!$A$10:$AF$281,MATCH($B$1&ROW($A118),TABPREBB!$AH$10:$AH$281,0),COLUMN()),\"\")","v":""},{"$f":"IFERROR(INDEX(TABPREBB!$A$10:$AF$281,MATCH($B$1&ROW($A118),TABPREBB!$AH$10:$AH$281,0),COLUMN()),\"\")","v":""},{"$f":"IFERROR(INDEX(TABPREBB!$A$10:$AF$281,MATCH($B$1&ROW($A118),TABPREBB!$AH$10:$AH$281,0),COLUMN()),\"\")","v":""},{"$f":"IFERROR(INDEX(TABPREBB!$A$10:$AF$281,MATCH($B$1&ROW($A118),TABPREBB!$AH$10:$AH$281,0),COLUMN()),\"\")","v":""},{"$f":"IFERROR(INDEX(TABPREBB!$A$10:$AF$281,MATCH($B$1&ROW($A118),TABPREBB!$AH$10:$AH$281,0),COLUMN()),\"\")","v":""},{"$f":"IFERROR(INDEX(TABPREBB!$A$10:$AF$281,MATCH($B$1&ROW($A118),TABPREBB!$AH$10:$AH$281,0),COLUMN()),\"\")","v":""},{"$f":"IFERROR(INDEX(TABPREBB!$A$10:$AF$281,MATCH($B$1&ROW($A118),TABPREBB!$AH$10:$AH$281,0),COLUMN()),\"\")","v":""}]
[{"$f":"IFERROR(INDEX(TABPREBB!$A$10:$AF$281,MATCH($B$1&ROW($A119),TABPREBB!$AH$10:$AH$281,0),COLUMN()),\"\")","v":""},{"$f":"IFERROR(INDEX(TABPREBB!$A$10:$AF$281,MATCH($B$1&ROW($A119),TABPREBB!$AH$10:$AH$281,0),COLUMN()),\"\")","v":""},{"$f":"IFERROR(INDEX(TABPREBB!$A$10:$AF$281,MATCH($B$1&ROW($A119),TABPREBB!$AH$10:$AH$281,0),COLUMN()),\"\")","v":""},{"$f":"IFERROR(INDEX(TABPREBB!$A$10:$AF$281,MATCH($B$1&ROW($A119),TABPREBB!$AH$10:$AH$281,0),COLUMN()),\"\")","v":""},{"$f":"IFERROR(INDEX(TABPREBB!$A$10:$AF$281,MATCH($B$1&ROW($A119),TABPREBB!$AH$10:$AH$281,0),COLUMN()),\"\")","v":""},{"$f":"IFERROR(INDEX(TABPREBB!$A$10:$AF$281,MATCH($B$1&ROW($A119),TABPREBB!$AH$10:$AH$281,0),COLUMN()),\"\")","v":""},{"$f":"IFERROR(INDEX(TABPREBB!$A$10:$AF$281,MATCH($B$1&ROW($A119),TABPREBB!$AH$10:$AH$281,0),COLUMN()),\"\")","v":""},{"$f":"IFERROR(INDEX(TABPREBB!$A$10:$AF$281,MATCH($B$1&ROW($A119),TABPREBB!$AH$10:$AH$281,0),COLUMN()),\"\")","v":""},{"$f":"IFERROR(INDEX(TABPREBB!$A$10:$AF$281,MATCH($B$1&ROW($A119),TABPREBB!$AH$10:$AH$281,0),COLUMN()),\"\")","v":""},{"$f":"IFERROR(INDEX(TABPREBB!$A$10:$AF$281,MATCH($B$1&ROW($A119),TABPREBB!$AH$10:$AH$281,0),COLUMN()),\"\")","v":""},{"$f":"IFERROR(INDEX(TABPREBB!$A$10:$AF$281,MATCH($B$1&ROW($A119),TABPREBB!$AH$10:$AH$281,0),COLUMN()),\"\")","v":""},{"$f":"IFERROR(INDEX(TABPREBB!$A$10:$AF$281,MATCH($B$1&ROW($A119),TABPREBB!$AH$10:$AH$281,0),COLUMN()),\"\")","v":""},{"$f":"IFERROR(INDEX(TABPREBB!$A$10:$AF$281,MATCH($B$1&ROW($A119),TABPREBB!$AH$10:$AH$281,0),COLUMN()),\"\")","v":""},{"$f":"IFERROR(INDEX(TABPREBB!$A$10:$AF$281,MATCH($B$1&ROW($A119),TABPREBB!$AH$10:$AH$281,0),COLUMN()),\"\")","v":""},{"$f":"IFERROR(INDEX(TABPREBB!$A$10:$AF$281,MATCH($B$1&ROW($A119),TABPREBB!$AH$10:$AH$281,0),COLUMN()),\"\")","v":""},{"$f":"IFERROR(INDEX(TABPREBB!$A$10:$AF$281,MATCH($B$1&ROW($A119),TABPREBB!$AH$10:$AH$281,0),COLUMN()),\"\")","v":""},{"$f":"IFERROR(INDEX(TABPREBB!$A$10:$AF$281,MATCH($B$1&ROW($A119),TABPREBB!$AH$10:$AH$281,0),COLUMN()),\"\")","v":""},{"$f":"IFERROR(INDEX(TABPREBB!$A$10:$AF$281,MATCH($B$1&ROW($A119),TABPREBB!$AH$10:$AH$281,0),COLUMN()),\"\")","v":""},{"$f":"IFERROR(INDEX(TABPREBB!$A$10:$AF$281,MATCH($B$1&ROW($A119),TABPREBB!$AH$10:$AH$281,0),COLUMN()),\"\")","v":""},{"$f":"IFERROR(INDEX(TABPREBB!$A$10:$AF$281,MATCH($B$1&ROW($A119),TABPREBB!$AH$10:$AH$281,0),COLUMN()),\"\")","v":""},{"$f":"IFERROR(INDEX(TABPREBB!$A$10:$AF$281,MATCH($B$1&ROW($A119),TABPREBB!$AH$10:$AH$281,0),COLUMN()),\"\")","v":""},{"$f":"IFERROR(INDEX(TABPREBB!$A$10:$AF$281,MATCH($B$1&ROW($A119),TABPREBB!$AH$10:$AH$281,0),COLUMN()),\"\")","v":""},{"$f":"IFERROR(INDEX(TABPREBB!$A$10:$AF$281,MATCH($B$1&ROW($A119),TABPREBB!$AH$10:$AH$281,0),COLUMN()),\"\")","v":""},{"$f":"IFERROR(INDEX(TABPREBB!$A$10:$AF$281,MATCH($B$1&ROW($A119),TABPREBB!$AH$10:$AH$281,0),COLUMN()),\"\")","v":""},{"$f":"IFERROR(INDEX(TABPREBB!$A$10:$AF$281,MATCH($B$1&ROW($A119),TABPREBB!$AH$10:$AH$281,0),COLUMN()),\"\")","v":""},{"$f":"IFERROR(INDEX(TABPREBB!$A$10:$AF$281,MATCH($B$1&ROW($A119),TABPREBB!$AH$10:$AH$281,0),COLUMN()),\"\")","v":""},{"$f":"IFERROR(INDEX(TABPREBB!$A$10:$AF$281,MATCH($B$1&ROW($A119),TABPREBB!$AH$10:$AH$281,0),COLUMN()),\"\")","v":""},{"$f":"IFERROR(INDEX(TABPREBB!$A$10:$AF$281,MATCH($B$1&ROW($A119),TABPREBB!$AH$10:$AH$281,0),COLUMN()),\"\")","v":""},{"$f":"IFERROR(INDEX(TABPREBB!$A$10:$AF$281,MATCH($B$1&ROW($A119),TABPREBB!$AH$10:$AH$281,0),COLUMN()),\"\")","v":""},{"$f":"IFERROR(INDEX(TABPREBB!$A$10:$AF$281,MATCH($B$1&ROW($A119),TABPREBB!$AH$10:$AH$281,0),COLUMN()),\"\")","v":""},{"$f":"IFERROR(INDEX(TABPREBB!$A$10:$AF$281,MATCH($B$1&ROW($A119),TABPREBB!$AH$10:$AH$281,0),COLUMN()),\"\")","v":""},{"$f":"IFERROR(INDEX(TABPREBB!$A$10:$AF$281,MATCH($B$1&ROW($A119),TABPREBB!$AH$10:$AH$281,0),COLUMN()),\"\")","v":""}]
[{"$f":"IFERROR(INDEX(TABPREBB!$A$10:$AF$281,MATCH($B$1&ROW($A120),TABPREBB!$AH$10:$AH$281,0),COLUMN()),\"\")","v":""},{"$f":"IFERROR(INDEX(TABPREBB!$A$10:$AF$281,MATCH($B$1&ROW($A120),TABPREBB!$AH$10:$AH$281,0),COLUMN()),\"\")","v":""},{"$f":"IFERROR(INDEX(TABPREBB!$A$10:$AF$281,MATCH($B$1&ROW($A120),TABPREBB!$AH$10:$AH$281,0),COLUMN()),\"\")","v":""},{"$f":"IFERROR(INDEX(TABPREBB!$A$10:$AF$281,MATCH($B$1&ROW($A120),TABPREBB!$AH$10:$AH$281,0),COLUMN()),\"\")","v":""},{"$f":"IFERROR(INDEX(TABPREBB!$A$10:$AF$281,MATCH($B$1&ROW($A120),TABPREBB!$AH$10:$AH$281,0),COLUMN()),\"\")","v":""},{"$f":"IFERROR(INDEX(TABPREBB!$A$10:$AF$281,MATCH($B$1&ROW($A120),TABPREBB!$AH$10:$AH$281,0),COLUMN()),\"\")","v":""},{"$f":"IFERROR(INDEX(TABPREBB!$A$10:$AF$281,MATCH($B$1&ROW($A120),TABPREBB!$AH$10:$AH$281,0),COLUMN()),\"\")","v":""},{"$f":"IFERROR(INDEX(TABPREBB!$A$10:$AF$281,MATCH($B$1&ROW($A120),TABPREBB!$AH$10:$AH$281,0),COLUMN()),\"\")","v":""},{"$f":"IFERROR(INDEX(TABPREBB!$A$10:$AF$281,MATCH($B$1&ROW($A120),TABPREBB!$AH$10:$AH$281,0),COLUMN()),\"\")","v":""},{"$f":"IFERROR(INDEX(TABPREBB!$A$10:$AF$281,MATCH($B$1&ROW($A120),TABPREBB!$AH$10:$AH$281,0),COLUMN()),\"\")","v":""},{"$f":"IFERROR(INDEX(TABPREBB!$A$10:$AF$281,MATCH($B$1&ROW($A120),TABPREBB!$AH$10:$AH$281,0),COLUMN()),\"\")","v":""},{"$f":"IFERROR(INDEX(TABPREBB!$A$10:$AF$281,MATCH($B$1&ROW($A120),TABPREBB!$AH$10:$AH$281,0),COLUMN()),\"\")","v":""},{"$f":"IFERROR(INDEX(TABPREBB!$A$10:$AF$281,MATCH($B$1&ROW($A120),TABPREBB!$AH$10:$AH$281,0),COLUMN()),\"\")","v":""},{"$f":"IFERROR(INDEX(TABPREBB!$A$10:$AF$281,MATCH($B$1&ROW($A120),TABPREBB!$AH$10:$AH$281,0),COLUMN()),\"\")","v":""},{"$f":"IFERROR(INDEX(TABPREBB!$A$10:$AF$281,MATCH($B$1&ROW($A120),TABPREBB!$AH$10:$AH$281,0),COLUMN()),\"\")","v":""},{"$f":"IFERROR(INDEX(TABPREBB!$A$10:$AF$281,MATCH($B$1&ROW($A120),TABPREBB!$AH$10:$AH$281,0),COLUMN()),\"\")","v":""},{"$f":"IFERROR(INDEX(TABPREBB!$A$10:$AF$281,MATCH($B$1&ROW($A120),TABPREBB!$AH$10:$AH$281,0),COLUMN()),\"\")","v":""},{"$f":"IFERROR(INDEX(TABPREBB!$A$10:$AF$281,MATCH($B$1&ROW($A120),TABPREBB!$AH$10:$AH$281,0),COLUMN()),\"\")","v":""},{"$f":"IFERROR(INDEX(TABPREBB!$A$10:$AF$281,MATCH($B$1&ROW($A120),TABPREBB!$AH$10:$AH$281,0),COLUMN()),\"\")","v":""},{"$f":"IFERROR(INDEX(TABPREBB!$A$10:$AF$281,MATCH($B$1&ROW($A120),TABPREBB!$AH$10:$AH$281,0),COLUMN()),\"\")","v":""},{"$f":"IFERROR(INDEX(TABPREBB!$A$10:$AF$281,MATCH($B$1&ROW($A120),TABPREBB!$AH$10:$AH$281,0),COLUMN()),\"\")","v":""},{"$f":"IFERROR(INDEX(TABPREBB!$A$10:$AF$281,MATCH($B$1&ROW($A120),TABPREBB!$AH$10:$AH$281,0),COLUMN()),\"\")","v":""},{"$f":"IFERROR(INDEX(TABPREBB!$A$10:$AF$281,MATCH($B$1&ROW($A120),TABPREBB!$AH$10:$AH$281,0),COLUMN()),\"\")","v":""},{"$f":"IFERROR(INDEX(TABPREBB!$A$10:$AF$281,MATCH($B$1&ROW($A120),TABPREBB!$AH$10:$AH$281,0),COLUMN()),\"\")","v":""},{"$f":"IFERROR(INDEX(TABPREBB!$A$10:$AF$281,MATCH($B$1&ROW($A120),TABPREBB!$AH$10:$AH$281,0),COLUMN()),\"\")","v":""},{"$f":"IFERROR(INDEX(TABPREBB!$A$10:$AF$281,MATCH($B$1&ROW($A120),TABPREBB!$AH$10:$AH$281,0),COLUMN()),\"\")","v":""},{"$f":"IFERROR(INDEX(TABPREBB!$A$10:$AF$281,MATCH($B$1&ROW($A120),TABPREBB!$AH$10:$AH$281,0),COLUMN()),\"\")","v":""},{"$f":"IFERROR(INDEX(TABPREBB!$A$10:$AF$281,MATCH($B$1&ROW($A120),TABPREBB!$AH$10:$AH$281,0),COLUMN()),\"\")","v":""},{"$f":"IFERROR(INDEX(TABPREBB!$A$10:$AF$281,MATCH($B$1&ROW($A120),TABPREBB!$AH$10:$AH$281,0),COLUMN()),\"\")","v":""},{"$f":"IFERROR(INDEX(TABPREBB!$A$10:$AF$281,MATCH($B$1&ROW($A120),TABPREBB!$AH$10:$AH$281,0),COLUMN()),\"\")","v":""},{"$f":"IFERROR(INDEX(TABPREBB!$A$10:$AF$281,MATCH($B$1&ROW($A120),TABPREBB!$AH$10:$AH$281,0),COLUMN()),\"\")","v":""},{"$f":"IFERROR(INDEX(TABPREBB!$A$10:$AF$281,MATCH($B$1&ROW($A120),TABPREBB!$AH$10:$AH$281,0),COLUMN()),\"\")","v":""}]
[{"$f":"IFERROR(INDEX(TABPREBB!$A$10:$AF$281,MATCH($B$1&ROW($A121),TABPREBB!$AH$10:$AH$281,0),COLUMN()),\"\")","v":""},{"$f":"IFERROR(INDEX(TABPREBB!$A$10:$AF$281,MATCH($B$1&ROW($A121),TABPREBB!$AH$10:$AH$281,0),COLUMN()),\"\")","v":""},{"$f":"IFERROR(INDEX(TABPREBB!$A$10:$AF$281,MATCH($B$1&ROW($A121),TABPREBB!$AH$10:$AH$281,0),COLUMN()),\"\")","v":""},{"$f":"IFERROR(INDEX(TABPREBB!$A$10:$AF$281,MATCH($B$1&ROW($A121),TABPREBB!$AH$10:$AH$281,0),COLUMN()),\"\")","v":""},{"$f":"IFERROR(INDEX(TABPREBB!$A$10:$AF$281,MATCH($B$1&ROW($A121),TABPREBB!$AH$10:$AH$281,0),COLUMN()),\"\")","v":""},{"$f":"IFERROR(INDEX(TABPREBB!$A$10:$AF$281,MATCH($B$1&ROW($A121),TABPREBB!$AH$10:$AH$281,0),COLUMN()),\"\")","v":""},{"$f":"IFERROR(INDEX(TABPREBB!$A$10:$AF$281,MATCH($B$1&ROW($A121),TABPREBB!$AH$10:$AH$281,0),COLUMN()),\"\")","v":""},{"$f":"IFERROR(INDEX(TABPREBB!$A$10:$AF$281,MATCH($B$1&ROW($A121),TABPREBB!$AH$10:$AH$281,0),COLUMN()),\"\")","v":""},{"$f":"IFERROR(INDEX(TABPREBB!$A$10:$AF$281,MATCH($B$1&ROW($A121),TABPREBB!$AH$10:$AH$281,0),COLUMN()),\"\")","v":""},{"$f":"IFERROR(INDEX(TABPREBB!$A$10:$AF$281,MATCH($B$1&ROW($A121),TABPREBB!$AH$10:$AH$281,0),COLUMN()),\"\")","v":""},{"$f":"IFERROR(INDEX(TABPREBB!$A$10:$AF$281,MATCH($B$1&ROW($A121),TABPREBB!$AH$10:$AH$281,0),COLUMN()),\"\")","v":""},{"$f":"IFERROR(INDEX(TABPREBB!$A$10:$AF$281,MATCH($B$1&ROW($A121),TABPREBB!$AH$10:$AH$281,0),COLUMN()),\"\")","v":""},{"$f":"IFERROR(INDEX(TABPREBB!$A$10:$AF$281,MATCH($B$1&ROW($A121),TABPREBB!$AH$10:$AH$281,0),COLUMN()),\"\")","v":""},{"$f":"IFERROR(INDEX(TABPREBB!$A$10:$AF$281,MATCH($B$1&ROW($A121),TABPREBB!$AH$10:$AH$281,0),COLUMN()),\"\")","v":""},{"$f":"IFERROR(INDEX(TABPREBB!$A$10:$AF$281,MATCH($B$1&ROW($A121),TABPREBB!$AH$10:$AH$281,0),COLUMN()),\"\")","v":""},{"$f":"IFERROR(INDEX(TABPREBB!$A$10:$AF$281,MATCH($B$1&ROW($A121),TABPREBB!$AH$10:$AH$281,0),COLUMN()),\"\")","v":""},{"$f":"IFERROR(INDEX(TABPREBB!$A$10:$AF$281,MATCH($B$1&ROW($A121),TABPREBB!$AH$10:$AH$281,0),COLUMN()),\"\")","v":""},{"$f":"IFERROR(INDEX(TABPREBB!$A$10:$AF$281,MATCH($B$1&ROW($A121),TABPREBB!$AH$10:$AH$281,0),COLUMN()),\"\")","v":""},{"$f":"IFERROR(INDEX(TABPREBB!$A$10:$AF$281,MATCH($B$1&ROW($A121),TABPREBB!$AH$10:$AH$281,0),COLUMN()),\"\")","v":""},{"$f":"IFERROR(INDEX(TABPREBB!$A$10:$AF$281,MATCH($B$1&ROW($A121),TABPREBB!$AH$10:$AH$281,0),COLUMN()),\"\")","v":""},{"$f":"IFERROR(INDEX(TABPREBB!$A$10:$AF$281,MATCH($B$1&ROW($A121),TABPREBB!$AH$10:$AH$281,0),COLUMN()),\"\")","v":""},{"$f":"IFERROR(INDEX(TABPREBB!$A$10:$AF$281,MATCH($B$1&ROW($A121),TABPREBB!$AH$10:$AH$281,0),COLUMN()),\"\")","v":""},{"$f":"IFERROR(INDEX(TABPREBB!$A$10:$AF$281,MATCH($B$1&ROW($A121),TABPREBB!$AH$10:$AH$281,0),COLUMN()),\"\")","v":""},{"$f":"IFERROR(INDEX(TABPREBB!$A$10:$AF$281,MATCH($B$1&ROW($A121),TABPREBB!$AH$10:$AH$281,0),COLUMN()),\"\")","v":""},{"$f":"IFERROR(INDEX(TABPREBB!$A$10:$AF$281,MATCH($B$1&ROW($A121),TABPREBB!$AH$10:$AH$281,0),COLUMN()),\"\")","v":""},{"$f":"IFERROR(INDEX(TABPREBB!$A$10:$AF$281,MATCH($B$1&ROW($A121),TABPREBB!$AH$10:$AH$281,0),COLUMN()),\"\")","v":""},{"$f":"IFERROR(INDEX(TABPREBB!$A$10:$AF$281,MATCH($B$1&ROW($A121),TABPREBB!$AH$10:$AH$281,0),COLUMN()),\"\")","v":""},{"$f":"IFERROR(INDEX(TABPREBB!$A$10:$AF$281,MATCH($B$1&ROW($A121),TABPREBB!$AH$10:$AH$281,0),COLUMN()),\"\")","v":""},{"$f":"IFERROR(INDEX(TABPREBB!$A$10:$AF$281,MATCH($B$1&ROW($A121),TABPREBB!$AH$10:$AH$281,0),COLUMN()),\"\")","v":""},{"$f":"IFERROR(INDEX(TABPREBB!$A$10:$AF$281,MATCH($B$1&ROW($A121),TABPREBB!$AH$10:$AH$281,0),COLUMN()),\"\")","v":""},{"$f":"IFERROR(INDEX(TABPREBB!$A$10:$AF$281,MATCH($B$1&ROW($A121),TABPREBB!$AH$10:$AH$281,0),COLUMN()),\"\")","v":""},{"$f":"IFERROR(INDEX(TABPREBB!$A$10:$AF$281,MATCH($B$1&ROW($A121),TABPREBB!$AH$10:$AH$281,0),COLUMN()),\"\")","v":""}]
[{"$f":"IFERROR(INDEX(TABPREBB!$A$10:$AF$281,MATCH($B$1&ROW($A122),TABPREBB!$AH$10:$AH$281,0),COLUMN()),\"\")","v":""},{"$f":"IFERROR(INDEX(TABPREBB!$A$10:$AF$281,MATCH($B$1&ROW($A122),TABPREBB!$AH$10:$AH$281,0),COLUMN()),\"\")","v":""},{"$f":"IFERROR(INDEX(TABPREBB!$A$10:$AF$281,MATCH($B$1&ROW($A122),TABPREBB!$AH$10:$AH$281,0),COLUMN()),\"\")","v":""},{"$f":"IFERROR(INDEX(TABPREBB!$A$10:$AF$281,MATCH($B$1&ROW($A122),TABPREBB!$AH$10:$AH$281,0),COLUMN()),\"\")","v":""},{"$f":"IFERROR(INDEX(TABPREBB!$A$10:$AF$281,MATCH($B$1&ROW($A122),TABPREBB!$AH$10:$AH$281,0),COLUMN()),\"\")","v":""},{"$f":"IFERROR(INDEX(TABPREBB!$A$10:$AF$281,MATCH($B$1&ROW($A122),TABPREBB!$AH$10:$AH$281,0),COLUMN()),\"\")","v":""},{"$f":"IFERROR(INDEX(TABPREBB!$A$10:$AF$281,MATCH($B$1&ROW($A122),TABPREBB!$AH$10:$AH$281,0),COLUMN()),\"\")","v":""},{"$f":"IFERROR(INDEX(TABPREBB!$A$10:$AF$281,MATCH($B$1&ROW($A122),TABPREBB!$AH$10:$AH$281,0),COLUMN()),\"\")","v":""},{"$f":"IFERROR(INDEX(TABPREBB!$A$10:$AF$281,MATCH($B$1&ROW($A122),TABPREBB!$AH$10:$AH$281,0),COLUMN()),\"\")","v":""},{"$f":"IFERROR(INDEX(TABPREBB!$A$10:$AF$281,MATCH($B$1&ROW($A122),TABPREBB!$AH$10:$AH$281,0),COLUMN()),\"\")","v":""},{"$f":"IFERROR(INDEX(TABPREBB!$A$10:$AF$281,MATCH($B$1&ROW($A122),TABPREBB!$AH$10:$AH$281,0),COLUMN()),\"\")","v":""},{"$f":"IFERROR(INDEX(TABPREBB!$A$10:$AF$281,MATCH($B$1&ROW($A122),TABPREBB!$AH$10:$AH$281,0),COLUMN()),\"\")","v":""},{"$f":"IFERROR(INDEX(TABPREBB!$A$10:$AF$281,MATCH($B$1&ROW($A122),TABPREBB!$AH$10:$AH$281,0),COLUMN()),\"\")","v":""},{"$f":"IFERROR(INDEX(TABPREBB!$A$10:$AF$281,MATCH($B$1&ROW($A122),TABPREBB!$AH$10:$AH$281,0),COLUMN()),\"\")","v":""},{"$f":"IFERROR(INDEX(TABPREBB!$A$10:$AF$281,MATCH($B$1&ROW($A122),TABPREBB!$AH$10:$AH$281,0),COLUMN()),\"\")","v":""},{"$f":"IFERROR(INDEX(TABPREBB!$A$10:$AF$281,MATCH($B$1&ROW($A122),TABPREBB!$AH$10:$AH$281,0),COLUMN()),\"\")","v":""},{"$f":"IFERROR(INDEX(TABPREBB!$A$10:$AF$281,MATCH($B$1&ROW($A122),TABPREBB!$AH$10:$AH$281,0),COLUMN()),\"\")","v":""},{"$f":"IFERROR(INDEX(TABPREBB!$A$10:$AF$281,MATCH($B$1&ROW($A122),TABPREBB!$AH$10:$AH$281,0),COLUMN()),\"\")","v":""},{"$f":"IFERROR(INDEX(TABPREBB!$A$10:$AF$281,MATCH($B$1&ROW($A122),TABPREBB!$AH$10:$AH$281,0),COLUMN()),\"\")","v":""},{"$f":"IFERROR(INDEX(TABPREBB!$A$10:$AF$281,MATCH($B$1&ROW($A122),TABPREBB!$AH$10:$AH$281,0),COLUMN()),\"\")","v":""},{"$f":"IFERROR(INDEX(TABPREBB!$A$10:$AF$281,MATCH($B$1&ROW($A122),TABPREBB!$AH$10:$AH$281,0),COLUMN()),\"\")","v":""},{"$f":"IFERROR(INDEX(TABPREBB!$A$10:$AF$281,MATCH($B$1&ROW($A122),TABPREBB!$AH$10:$AH$281,0),COLUMN()),\"\")","v":""},{"$f":"IFERROR(INDEX(TABPREBB!$A$10:$AF$281,MATCH($B$1&ROW($A122),TABPREBB!$AH$10:$AH$281,0),COLUMN()),\"\")","v":""},{"$f":"IFERROR(INDEX(TABPREBB!$A$10:$AF$281,MATCH($B$1&ROW($A122),TABPREBB!$AH$10:$AH$281,0),COLUMN()),\"\")","v":""},{"$f":"IFERROR(INDEX(TABPREBB!$A$10:$AF$281,MATCH($B$1&ROW($A122),TABPREBB!$AH$10:$AH$281,0),COLUMN()),\"\")","v":""},{"$f":"IFERROR(INDEX(TABPREBB!$A$10:$AF$281,MATCH($B$1&ROW($A122),TABPREBB!$AH$10:$AH$281,0),COLUMN()),\"\")","v":""},{"$f":"IFERROR(INDEX(TABPREBB!$A$10:$AF$281,MATCH($B$1&ROW($A122),TABPREBB!$AH$10:$AH$281,0),COLUMN()),\"\")","v":""},{"$f":"IFERROR(INDEX(TABPREBB!$A$10:$AF$281,MATCH($B$1&ROW($A122),TABPREBB!$AH$10:$AH$281,0),COLUMN()),\"\")","v":""},{"$f":"IFERROR(INDEX(TABPREBB!$A$10:$AF$281,MATCH($B$1&ROW($A122),TABPREBB!$AH$10:$AH$281,0),COLUMN()),\"\")","v":""},{"$f":"IFERROR(INDEX(TABPREBB!$A$10:$AF$281,MATCH($B$1&ROW($A122),TABPREBB!$AH$10:$AH$281,0),COLUMN()),\"\")","v":""},{"$f":"IFERROR(INDEX(TABPREBB!$A$10:$AF$281,MATCH($B$1&ROW($A122),TABPREBB!$AH$10:$AH$281,0),COLUMN()),\"\")","v":""},{"$f":"IFERROR(INDEX(TABPREBB!$A$10:$AF$281,MATCH($B$1&ROW($A122),TABPREBB!$AH$10:$AH$281,0),COLUMN()),\"\")","v":""}]
[{"$f":"IFERROR(INDEX(TABPREBB!$A$10:$AF$281,MATCH($B$1&ROW($A123),TABPREBB!$AH$10:$AH$281,0),COLUMN()),\"\")","v":""},{"$f":"IFERROR(INDEX(TABPREBB!$A$10:$AF$281,MATCH($B$1&ROW($A123),TABPREBB!$AH$10:$AH$281,0),COLUMN()),\"\")","v":""},{"$f":"IFERROR(INDEX(TABPREBB!$A$10:$AF$281,MATCH($B$1&ROW($A123),TABPREBB!$AH$10:$AH$281,0),COLUMN()),\"\")","v":""},{"$f":"IFERROR(INDEX(TABPREBB!$A$10:$AF$281,MATCH($B$1&ROW($A123),TABPREBB!$AH$10:$AH$281,0),COLUMN()),\"\")","v":""},{"$f":"IFERROR(INDEX(TABPREBB!$A$10:$AF$281,MATCH($B$1&ROW($A123),TABPREBB!$AH$10:$AH$281,0),COLUMN()),\"\")","v":""},{"$f":"IFERROR(INDEX(TABPREBB!$A$10:$AF$281,MATCH($B$1&ROW($A123),TABPREBB!$AH$10:$AH$281,0),COLUMN()),\"\")","v":""},{"$f":"IFERROR(INDEX(TABPREBB!$A$10:$AF$281,MATCH($B$1&ROW($A123),TABPREBB!$AH$10:$AH$281,0),COLUMN()),\"\")","v":""},{"$f":"IFERROR(INDEX(TABPREBB!$A$10:$AF$281,MATCH($B$1&ROW($A123),TABPREBB!$AH$10:$AH$281,0),COLUMN()),\"\")","v":""},{"$f":"IFERROR(INDEX(TABPREBB!$A$10:$AF$281,MATCH($B$1&ROW($A123),TABPREBB!$AH$10:$AH$281,0),COLUMN()),\"\")","v":""},{"$f":"IFERROR(INDEX(TABPREBB!$A$10:$AF$281,MATCH($B$1&ROW($A123),TABPREBB!$AH$10:$AH$281,0),COLUMN()),\"\")","v":""},{"$f":"IFERROR(INDEX(TABPREBB!$A$10:$AF$281,MATCH($B$1&ROW($A123),TABPREBB!$AH$10:$AH$281,0),COLUMN()),\"\")","v":""},{"$f":"IFERROR(INDEX(TABPREBB!$A$10:$AF$281,MATCH($B$1&ROW($A123),TABPREBB!$AH$10:$AH$281,0),COLUMN()),\"\")","v":""},{"$f":"IFERROR(INDEX(TABPREBB!$A$10:$AF$281,MATCH($B$1&ROW($A123),TABPREBB!$AH$10:$AH$281,0),COLUMN()),\"\")","v":""},{"$f":"IFERROR(INDEX(TABPREBB!$A$10:$AF$281,MATCH($B$1&ROW($A123),TABPREBB!$AH$10:$AH$281,0),COLUMN()),\"\")","v":""},{"$f":"IFERROR(INDEX(TABPREBB!$A$10:$AF$281,MATCH($B$1&ROW($A123),TABPREBB!$AH$10:$AH$281,0),COLUMN()),\"\")","v":""},{"$f":"IFERROR(INDEX(TABPREBB!$A$10:$AF$281,MATCH($B$1&ROW($A123),TABPREBB!$AH$10:$AH$281,0),COLUMN()),\"\")","v":""},{"$f":"IFERROR(INDEX(TABPREBB!$A$10:$AF$281,MATCH($B$1&ROW($A123),TABPREBB!$AH$10:$AH$281,0),COLUMN()),\"\")","v":""},{"$f":"IFERROR(INDEX(TABPREBB!$A$10:$AF$281,MATCH($B$1&ROW($A123),TABPREBB!$AH$10:$AH$281,0),COLUMN()),\"\")","v":""},{"$f":"IFERROR(INDEX(TABPREBB!$A$10:$AF$281,MATCH($B$1&ROW($A123),TABPREBB!$AH$10:$AH$281,0),COLUMN()),\"\")","v":""},{"$f":"IFERROR(INDEX(TABPREBB!$A$10:$AF$281,MATCH($B$1&ROW($A123),TABPREBB!$AH$10:$AH$281,0),COLUMN()),\"\")","v":""},{"$f":"IFERROR(INDEX(TABPREBB!$A$10:$AF$281,MATCH($B$1&ROW($A123),TABPREBB!$AH$10:$AH$281,0),COLUMN()),\"\")","v":""},{"$f":"IFERROR(INDEX(TABPREBB!$A$10:$AF$281,MATCH($B$1&ROW($A123),TABPREBB!$AH$10:$AH$281,0),COLUMN()),\"\")","v":""},{"$f":"IFERROR(INDEX(TABPREBB!$A$10:$AF$281,MATCH($B$1&ROW($A123),TABPREBB!$AH$10:$AH$281,0),COLUMN()),\"\")","v":""},{"$f":"IFERROR(INDEX(TABPREBB!$A$10:$AF$281,MATCH($B$1&ROW($A123),TABPREBB!$AH$10:$AH$281,0),COLUMN()),\"\")","v":""},{"$f":"IFERROR(INDEX(TABPREBB!$A$10:$AF$281,MATCH($B$1&ROW($A123),TABPREBB!$AH$10:$AH$281,0),COLUMN()),\"\")","v":""},{"$f":"IFERROR(INDEX(TABPREBB!$A$10:$AF$281,MATCH($B$1&ROW($A123),TABPREBB!$AH$10:$AH$281,0),COLUMN()),\"\")","v":""},{"$f":"IFERROR(INDEX(TABPREBB!$A$10:$AF$281,MATCH($B$1&ROW($A123),TABPREBB!$AH$10:$AH$281,0),COLUMN()),\"\")","v":""},{"$f":"IFERROR(INDEX(TABPREBB!$A$10:$AF$281,MATCH($B$1&ROW($A123),TABPREBB!$AH$10:$AH$281,0),COLUMN()),\"\")","v":""},{"$f":"IFERROR(INDEX(TABPREBB!$A$10:$AF$281,MATCH($B$1&ROW($A123),TABPREBB!$AH$10:$AH$281,0),COLUMN()),\"\")","v":""},{"$f":"IFERROR(INDEX(TABPREBB!$A$10:$AF$281,MATCH($B$1&ROW($A123),TABPREBB!$AH$10:$AH$281,0),COLUMN()),\"\")","v":""},{"$f":"IFERROR(INDEX(TABPREBB!$A$10:$AF$281,MATCH($B$1&ROW($A123),TABPREBB!$AH$10:$AH$281,0),COLUMN()),\"\")","v":""},{"$f":"IFERROR(INDEX(TABPREBB!$A$10:$AF$281,MATCH($B$1&ROW($A123),TABPREBB!$AH$10:$AH$281,0),COLUMN()),\"\")","v":""}]
[{"$f":"IFERROR(INDEX(TABPREBB!$A$10:$AF$281,MATCH($B$1&ROW($A124),TABPREBB!$AH$10:$AH$281,0),COLUMN()),\"\")","v":""},{"$f":"IFERROR(INDEX(TABPREBB!$A$10:$AF$281,MATCH($B$1&ROW($A124),TABPREBB!$AH$10:$AH$281,0),COLUMN()),\"\")","v":""},{"$f":"IFERROR(INDEX(TABPREBB!$A$10:$AF$281,MATCH($B$1&ROW($A124),TABPREBB!$AH$10:$AH$281,0),COLUMN()),\"\")","v":""},{"$f":"IFERROR(INDEX(TABPREBB!$A$10:$AF$281,MATCH($B$1&ROW($A124),TABPREBB!$AH$10:$AH$281,0),COLUMN()),\"\")","v":""},{"$f":"IFERROR(INDEX(TABPREBB!$A$10:$AF$281,MATCH($B$1&ROW($A124),TABPREBB!$AH$10:$AH$281,0),COLUMN()),\"\")","v":""},{"$f":"IFERROR(INDEX(TABPREBB!$A$10:$AF$281,MATCH($B$1&ROW($A124),TABPREBB!$AH$10:$AH$281,0),COLUMN()),\"\")","v":""},{"$f":"IFERROR(INDEX(TABPREBB!$A$10:$AF$281,MATCH($B$1&ROW($A124),TABPREBB!$AH$10:$AH$281,0),COLUMN()),\"\")","v":""},{"$f":"IFERROR(INDEX(TABPREBB!$A$10:$AF$281,MATCH($B$1&ROW($A124),TABPREBB!$AH$10:$AH$281,0),COLUMN()),\"\")","v":""},{"$f":"IFERROR(INDEX(TABPREBB!$A$10:$AF$281,MATCH($B$1&ROW($A124),TABPREBB!$AH$10:$AH$281,0),COLUMN()),\"\")","v":""},{"$f":"IFERROR(INDEX(TABPREBB!$A$10:$AF$281,MATCH($B$1&ROW($A124),TABPREBB!$AH$10:$AH$281,0),COLUMN()),\"\")","v":""},{"$f":"IFERROR(INDEX(TABPREBB!$A$10:$AF$281,MATCH($B$1&ROW($A124),TABPREBB!$AH$10:$AH$281,0),COLUMN()),\"\")","v":""},{"$f":"IFERROR(INDEX(TABPREBB!$A$10:$AF$281,MATCH($B$1&ROW($A124),TABPREBB!$AH$10:$AH$281,0),COLUMN()),\"\")","v":""},{"$f":"IFERROR(INDEX(TABPREBB!$A$10:$AF$281,MATCH($B$1&ROW($A124),TABPREBB!$AH$10:$AH$281,0),COLUMN()),\"\")","v":""},{"$f":"IFERROR(INDEX(TABPREBB!$A$10:$AF$281,MATCH($B$1&ROW($A124),TABPREBB!$AH$10:$AH$281,0),COLUMN()),\"\")","v":""},{"$f":"IFERROR(INDEX(TABPREBB!$A$10:$AF$281,MATCH($B$1&ROW($A124),TABPREBB!$AH$10:$AH$281,0),COLUMN()),\"\")","v":""},{"$f":"IFERROR(INDEX(TABPREBB!$A$10:$AF$281,MATCH($B$1&ROW($A124),TABPREBB!$AH$10:$AH$281,0),COLUMN()),\"\")","v":""},{"$f":"IFERROR(INDEX(TABPREBB!$A$10:$AF$281,MATCH($B$1&ROW($A124),TABPREBB!$AH$10:$AH$281,0),COLUMN()),\"\")","v":""},{"$f":"IFERROR(INDEX(TABPREBB!$A$10:$AF$281,MATCH($B$1&ROW($A124),TABPREBB!$AH$10:$AH$281,0),COLUMN()),\"\")","v":""},{"$f":"IFERROR(INDEX(TABPREBB!$A$10:$AF$281,MATCH($B$1&ROW($A124),TABPREBB!$AH$10:$AH$281,0),COLUMN()),\"\")","v":""},{"$f":"IFERROR(INDEX(TABPREBB!$A$10:$AF$281,MATCH($B$1&ROW($A124),TABPREBB!$AH$10:$AH$281,0),COLUMN()),\"\")","v":""},{"$f":"IFERROR(INDEX(TABPREBB!$A$10:$AF$281,MATCH($B$1&ROW($A124),TABPREBB!$AH$10:$AH$281,0),COLUMN()),\"\")","v":""},{"$f":"IFERROR(INDEX(TABPREBB!$A$10:$AF$281,MATCH($B$1&ROW($A124),TABPREBB!$AH$10:$AH$281,0),COLUMN()),\"\")","v":""},{"$f":"IFERROR(INDEX(TABPREBB!$A$10:$AF$281,MATCH($B$1&ROW($A124),TABPREBB!$AH$10:$AH$281,0),COLUMN()),\"\")","v":""},{"$f":"IFERROR(INDEX(TABPREBB!$A$10:$AF$281,MATCH($B$1&ROW($A124),TABPREBB!$AH$10:$AH$281,0),COLUMN()),\"\")","v":""},{"$f":"IFERROR(INDEX(TABPREBB!$A$10:$AF$281,MATCH($B$1&ROW($A124),TABPREBB!$AH$10:$AH$281,0),COLUMN()),\"\")","v":""},{"$f":"IFERROR(INDEX(TABPREBB!$A$10:$AF$281,MATCH($B$1&ROW($A124),TABPREBB!$AH$10:$AH$281,0),COLUMN()),\"\")","v":""},{"$f":"IFERROR(INDEX(TABPREBB!$A$10:$AF$281,MATCH($B$1&ROW($A124),TABPREBB!$AH$10:$AH$281,0),COLUMN()),\"\")","v":""},{"$f":"IFERROR(INDEX(TABPREBB!$A$10:$AF$281,MATCH($B$1&ROW($A124),TABPREBB!$AH$10:$AH$281,0),COLUMN()),\"\")","v":""},{"$f":"IFERROR(INDEX(TABPREBB!$A$10:$AF$281,MATCH($B$1&ROW($A124),TABPREBB!$AH$10:$AH$281,0),COLUMN()),\"\")","v":""},{"$f":"IFERROR(INDEX(TABPREBB!$A$10:$AF$281,MATCH($B$1&ROW($A124),TABPREBB!$AH$10:$AH$281,0),COLUMN()),\"\")","v":""},{"$f":"IFERROR(INDEX(TABPREBB!$A$10:$AF$281,MATCH($B$1&ROW($A124),TABPREBB!$AH$10:$AH$281,0),COLUMN()),\"\")","v":""},{"$f":"IFERROR(INDEX(TABPREBB!$A$10:$AF$281,MATCH($B$1&ROW($A124),TABPREBB!$AH$10:$AH$281,0),COLUMN()),\"\")","v":""}]
[{"$f":"IFERROR(INDEX(TABPREBB!$A$10:$AF$281,MATCH($B$1&ROW($A125),TABPREBB!$AH$10:$AH$281,0),COLUMN()),\"\")","v":""},{"$f":"IFERROR(INDEX(TABPREBB!$A$10:$AF$281,MATCH($B$1&ROW($A125),TABPREBB!$AH$10:$AH$281,0),COLUMN()),\"\")","v":""},{"$f":"IFERROR(INDEX(TABPREBB!$A$10:$AF$281,MATCH($B$1&ROW($A125),TABPREBB!$AH$10:$AH$281,0),COLUMN()),\"\")","v":""},{"$f":"IFERROR(INDEX(TABPREBB!$A$10:$AF$281,MATCH($B$1&ROW($A125),TABPREBB!$AH$10:$AH$281,0),COLUMN()),\"\")","v":""},{"$f":"IFERROR(INDEX(TABPREBB!$A$10:$AF$281,MATCH($B$1&ROW($A125),TABPREBB!$AH$10:$AH$281,0),COLUMN()),\"\")","v":""},{"$f":"IFERROR(INDEX(TABPREBB!$A$10:$AF$281,MATCH($B$1&ROW($A125),TABPREBB!$AH$10:$AH$281,0),COLUMN()),\"\")","v":""},{"$f":"IFERROR(INDEX(TABPREBB!$A$10:$AF$281,MATCH($B$1&ROW($A125),TABPREBB!$AH$10:$AH$281,0),COLUMN()),\"\")","v":""},{"$f":"IFERROR(INDEX(TABPREBB!$A$10:$AF$281,MATCH($B$1&ROW($A125),TABPREBB!$AH$10:$AH$281,0),COLUMN()),\"\")","v":""},{"$f":"IFERROR(INDEX(TABPREBB!$A$10:$AF$281,MATCH($B$1&ROW($A125),TABPREBB!$AH$10:$AH$281,0),COLUMN()),\"\")","v":""},{"$f":"IFERROR(INDEX(TABPREBB!$A$10:$AF$281,MATCH($B$1&ROW($A125),TABPREBB!$AH$10:$AH$281,0),COLUMN()),\"\")","v":""},{"$f":"IFERROR(INDEX(TABPREBB!$A$10:$AF$281,MATCH($B$1&ROW($A125),TABPREBB!$AH$10:$AH$281,0),COLUMN()),\"\")","v":""},{"$f":"IFERROR(INDEX(TABPREBB!$A$10:$AF$281,MATCH($B$1&ROW($A125),TABPREBB!$AH$10:$AH$281,0),COLUMN()),\"\")","v":""},{"$f":"IFERROR(INDEX(TABPREBB!$A$10:$AF$281,MATCH($B$1&ROW($A125),TABPREBB!$AH$10:$AH$281,0),COLUMN()),\"\")","v":""},{"$f":"IFERROR(INDEX(TABPREBB!$A$10:$AF$281,MATCH($B$1&ROW($A125),TABPREBB!$AH$10:$AH$281,0),COLUMN()),\"\")","v":""},{"$f":"IFERROR(INDEX(TABPREBB!$A$10:$AF$281,MATCH($B$1&ROW($A125),TABPREBB!$AH$10:$AH$281,0),COLUMN()),\"\")","v":""},{"$f":"IFERROR(INDEX(TABPREBB!$A$10:$AF$281,MATCH($B$1&ROW($A125),TABPREBB!$AH$10:$AH$281,0),COLUMN()),\"\")","v":""},{"$f":"IFERROR(INDEX(TABPREBB!$A$10:$AF$281,MATCH($B$1&ROW($A125),TABPREBB!$AH$10:$AH$281,0),COLUMN()),\"\")","v":""},{"$f":"IFERROR(INDEX(TABPREBB!$A$10:$AF$281,MATCH($B$1&ROW($A125),TABPREBB!$AH$10:$AH$281,0),COLUMN()),\"\")","v":""},{"$f":"IFERROR(INDEX(TABPREBB!$A$10:$AF$281,MATCH($B$1&ROW($A125),TABPREBB!$AH$10:$AH$281,0),COLUMN()),\"\")","v":""},{"$f":"IFERROR(INDEX(TABPREBB!$A$10:$AF$281,MATCH($B$1&ROW($A125),TABPREBB!$AH$10:$AH$281,0),COLUMN()),\"\")","v":""},{"$f":"IFERROR(INDEX(TABPREBB!$A$10:$AF$281,MATCH($B$1&ROW($A125),TABPREBB!$AH$10:$AH$281,0),COLUMN()),\"\")","v":""},{"$f":"IFERROR(INDEX(TABPREBB!$A$10:$AF$281,MATCH($B$1&ROW($A125),TABPREBB!$AH$10:$AH$281,0),COLUMN()),\"\")","v":""},{"$f":"IFERROR(INDEX(TABPREBB!$A$10:$AF$281,MATCH($B$1&ROW($A125),TABPREBB!$AH$10:$AH$281,0),COLUMN()),\"\")","v":""},{"$f":"IFERROR(INDEX(TABPREBB!$A$10:$AF$281,MATCH($B$1&ROW($A125),TABPREBB!$AH$10:$AH$281,0),COLUMN()),\"\")","v":""},{"$f":"IFERROR(INDEX(TABPREBB!$A$10:$AF$281,MATCH($B$1&ROW($A125),TABPREBB!$AH$10:$AH$281,0),COLUMN()),\"\")","v":""},{"$f":"IFERROR(INDEX(TABPREBB!$A$10:$AF$281,MATCH($B$1&ROW($A125),TABPREBB!$AH$10:$AH$281,0),COLUMN()),\"\")","v":""},{"$f":"IFERROR(INDEX(TABPREBB!$A$10:$AF$281,MATCH($B$1&ROW($A125),TABPREBB!$AH$10:$AH$281,0),COLUMN()),\"\")","v":""},{"$f":"IFERROR(INDEX(TABPREBB!$A$10:$AF$281,MATCH($B$1&ROW($A125),TABPREBB!$AH$10:$AH$281,0),COLUMN()),\"\")","v":""},{"$f":"IFERROR(INDEX(TABPREBB!$A$10:$AF$281,MATCH($B$1&ROW($A125),TABPREBB!$AH$10:$AH$281,0),COLUMN()),\"\")","v":""},{"$f":"IFERROR(INDEX(TABPREBB!$A$10:$AF$281,MATCH($B$1&ROW($A125),TABPREBB!$AH$10:$AH$281,0),COLUMN()),\"\")","v":""},{"$f":"IFERROR(INDEX(TABPREBB!$A$10:$AF$281,MATCH($B$1&ROW($A125),TABPREBB!$AH$10:$AH$281,0),COLUMN()),\"\")","v":""},{"$f":"IFERROR(INDEX(TABPREBB!$A$10:$AF$281,MATCH($B$1&ROW($A125),TABPREBB!$AH$10:$AH$281,0),COLUMN()),\"\")","v":""}]
[{"$f":"IFERROR(INDEX(TABPREBB!$A$10:$AF$281,MATCH($B$1&ROW($A126),TABPREBB!$AH$10:$AH$281,0),COLUMN()),\"\")","v":""},{"$f":"IFERROR(INDEX(TABPREBB!$A$10:$AF$281,MATCH($B$1&ROW($A126),TABPREBB!$AH$10:$AH$281,0),COLUMN()),\"\")","v":""},{"$f":"IFERROR(INDEX(TABPREBB!$A$10:$AF$281,MATCH($B$1&ROW($A126),TABPREBB!$AH$10:$AH$281,0),COLUMN()),\"\")","v":""},{"$f":"IFERROR(INDEX(TABPREBB!$A$10:$AF$281,MATCH($B$1&ROW($A126),TABPREBB!$AH$10:$AH$281,0),COLUMN()),\"\")","v":""},{"$f":"IFERROR(INDEX(TABPREBB!$A$10:$AF$281,MATCH($B$1&ROW($A126),TABPREBB!$AH$10:$AH$281,0),COLUMN()),\"\")","v":""},{"$f":"IFERROR(INDEX(TABPREBB!$A$10:$AF$281,MATCH($B$1&ROW($A126),TABPREBB!$AH$10:$AH$281,0),COLUMN()),\"\")","v":""},{"$f":"IFERROR(INDEX(TABPREBB!$A$10:$AF$281,MATCH($B$1&ROW($A126),TABPREBB!$AH$10:$AH$281,0),COLUMN()),\"\")","v":""},{"$f":"IFERROR(INDEX(TABPREBB!$A$10:$AF$281,MATCH($B$1&ROW($A126),TABPREBB!$AH$10:$AH$281,0),COLUMN()),\"\")","v":""},{"$f":"IFERROR(INDEX(TABPREBB!$A$10:$AF$281,MATCH($B$1&ROW($A126),TABPREBB!$AH$10:$AH$281,0),COLUMN()),\"\")","v":""},{"$f":"IFERROR(INDEX(TABPREBB!$A$10:$AF$281,MATCH($B$1&ROW($A126),TABPREBB!$AH$10:$AH$281,0),COLUMN()),\"\")","v":""},{"$f":"IFERROR(INDEX(TABPREBB!$A$10:$AF$281,MATCH($B$1&ROW($A126),TABPREBB!$AH$10:$AH$281,0),COLUMN()),\"\")","v":""},{"$f":"IFERROR(INDEX(TABPREBB!$A$10:$AF$281,MATCH($B$1&ROW($A126),TABPREBB!$AH$10:$AH$281,0),COLUMN()),\"\")","v":""},{"$f":"IFERROR(INDEX(TABPREBB!$A$10:$AF$281,MATCH($B$1&ROW($A126),TABPREBB!$AH$10:$AH$281,0),COLUMN()),\"\")","v":""},{"$f":"IFERROR(INDEX(TABPREBB!$A$10:$AF$281,MATCH($B$1&ROW($A126),TABPREBB!$AH$10:$AH$281,0),COLUMN()),\"\")","v":""},{"$f":"IFERROR(INDEX(TABPREBB!$A$10:$AF$281,MATCH($B$1&ROW($A126),TABPREBB!$AH$10:$AH$281,0),COLUMN()),\"\")","v":""},{"$f":"IFERROR(INDEX(TABPREBB!$A$10:$AF$281,MATCH($B$1&ROW($A126),TABPREBB!$AH$10:$AH$281,0),COLUMN()),\"\")","v":""},{"$f":"IFERROR(INDEX(TABPREBB!$A$10:$AF$281,MATCH($B$1&ROW($A126),TABPREBB!$AH$10:$AH$281,0),COLUMN()),\"\")","v":""},{"$f":"IFERROR(INDEX(TABPREBB!$A$10:$AF$281,MATCH($B$1&ROW($A126),TABPREBB!$AH$10:$AH$281,0),COLUMN()),\"\")","v":""},{"$f":"IFERROR(INDEX(TABPREBB!$A$10:$AF$281,MATCH($B$1&ROW($A126),TABPREBB!$AH$10:$AH$281,0),COLUMN()),\"\")","v":""},{"$f":"IFERROR(INDEX(TABPREBB!$A$10:$AF$281,MATCH($B$1&ROW($A126),TABPREBB!$AH$10:$AH$281,0),COLUMN()),\"\")","v":""},{"$f":"IFERROR(INDEX(TABPREBB!$A$10:$AF$281,MATCH($B$1&ROW($A126),TABPREBB!$AH$10:$AH$281,0),COLUMN()),\"\")","v":""},{"$f":"IFERROR(INDEX(TABPREBB!$A$10:$AF$281,MATCH($B$1&ROW($A126),TABPREBB!$AH$10:$AH$281,0),COLUMN()),\"\")","v":""},{"$f":"IFERROR(INDEX(TABPREBB!$A$10:$AF$281,MATCH($B$1&ROW($A126),TABPREBB!$AH$10:$AH$281,0),COLUMN()),\"\")","v":""},{"$f":"IFERROR(INDEX(TABPREBB!$A$10:$AF$281,MATCH($B$1&ROW($A126),TABPREBB!$AH$10:$AH$281,0),COLUMN()),\"\")","v":""},{"$f":"IFERROR(INDEX(TABPREBB!$A$10:$AF$281,MATCH($B$1&ROW($A126),TABPREBB!$AH$10:$AH$281,0),COLUMN()),\"\")","v":""},{"$f":"IFERROR(INDEX(TABPREBB!$A$10:$AF$281,MATCH($B$1&ROW($A126),TABPREBB!$AH$10:$AH$281,0),COLUMN()),\"\")","v":""},{"$f":"IFERROR(INDEX(TABPREBB!$A$10:$AF$281,MATCH($B$1&ROW($A126),TABPREBB!$AH$10:$AH$281,0),COLUMN()),\"\")","v":""},{"$f":"IFERROR(INDEX(TABPREBB!$A$10:$AF$281,MATCH($B$1&ROW($A126),TABPREBB!$AH$10:$AH$281,0),COLUMN()),\"\")","v":""},{"$f":"IFERROR(INDEX(TABPREBB!$A$10:$AF$281,MATCH($B$1&ROW($A126),TABPREBB!$AH$10:$AH$281,0),COLUMN()),\"\")","v":""},{"$f":"IFERROR(INDEX(TABPREBB!$A$10:$AF$281,MATCH($B$1&ROW($A126),TABPREBB!$AH$10:$AH$281,0),COLUMN()),\"\")","v":""},{"$f":"IFERROR(INDEX(TABPREBB!$A$10:$AF$281,MATCH($B$1&ROW($A126),TABPREBB!$AH$10:$AH$281,0),COLUMN()),\"\")","v":""},{"$f":"IFERROR(INDEX(TABPREBB!$A$10:$AF$281,MATCH($B$1&ROW($A126),TABPREBB!$AH$10:$AH$281,0),COLUMN()),\"\")","v":""}]
[{"$f":"IFERROR(INDEX(TABPREBB!$A$10:$AF$281,MATCH($B$1&ROW($A127),TABPREBB!$AH$10:$AH$281,0),COLUMN()),\"\")","v":""},{"$f":"IFERROR(INDEX(TABPREBB!$A$10:$AF$281,MATCH($B$1&ROW($A127),TABPREBB!$AH$10:$AH$281,0),COLUMN()),\"\")","v":""},{"$f":"IFERROR(INDEX(TABPREBB!$A$10:$AF$281,MATCH($B$1&ROW($A127),TABPREBB!$AH$10:$AH$281,0),COLUMN()),\"\")","v":""},{"$f":"IFERROR(INDEX(TABPREBB!$A$10:$AF$281,MATCH($B$1&ROW($A127),TABPREBB!$AH$10:$AH$281,0),COLUMN()),\"\")","v":""},{"$f":"IFERROR(INDEX(TABPREBB!$A$10:$AF$281,MATCH($B$1&ROW($A127),TABPREBB!$AH$10:$AH$281,0),COLUMN()),\"\")","v":""},{"$f":"IFERROR(INDEX(TABPREBB!$A$10:$AF$281,MATCH($B$1&ROW($A127),TABPREBB!$AH$10:$AH$281,0),COLUMN()),\"\")","v":""},{"$f":"IFERROR(INDEX(TABPREBB!$A$10:$AF$281,MATCH($B$1&ROW($A127),TABPREBB!$AH$10:$AH$281,0),COLUMN()),\"\")","v":""},{"$f":"IFERROR(INDEX(TABPREBB!$A$10:$AF$281,MATCH($B$1&ROW($A127),TABPREBB!$AH$10:$AH$281,0),COLUMN()),\"\")","v":""},{"$f":"IFERROR(INDEX(TABPREBB!$A$10:$AF$281,MATCH($B$1&ROW($A127),TABPREBB!$AH$10:$AH$281,0),COLUMN()),\"\")","v":""},{"$f":"IFERROR(INDEX(TABPREBB!$A$10:$AF$281,MATCH($B$1&ROW($A127),TABPREBB!$AH$10:$AH$281,0),COLUMN()),\"\")","v":""},{"$f":"IFERROR(INDEX(TABPREBB!$A$10:$AF$281,MATCH($B$1&ROW($A127),TABPREBB!$AH$10:$AH$281,0),COLUMN()),\"\")","v":""},{"$f":"IFERROR(INDEX(TABPREBB!$A$10:$AF$281,MATCH($B$1&ROW($A127),TABPREBB!$AH$10:$AH$281,0),COLUMN()),\"\")","v":""},{"$f":"IFERROR(INDEX(TABPREBB!$A$10:$AF$281,MATCH($B$1&ROW($A127),TABPREBB!$AH$10:$AH$281,0),COLUMN()),\"\")","v":""},{"$f":"IFERROR(INDEX(TABPREBB!$A$10:$AF$281,MATCH($B$1&ROW($A127),TABPREBB!$AH$10:$AH$281,0),COLUMN()),\"\")","v":""},{"$f":"IFERROR(INDEX(TABPREBB!$A$10:$AF$281,MATCH($B$1&ROW($A127),TABPREBB!$AH$10:$AH$281,0),COLUMN()),\"\")","v":""},{"$f":"IFERROR(INDEX(TABPREBB!$A$10:$AF$281,MATCH($B$1&ROW($A127),TABPREBB!$AH$10:$AH$281,0),COLUMN()),\"\")","v":""},{"$f":"IFERROR(INDEX(TABPREBB!$A$10:$AF$281,MATCH($B$1&ROW($A127),TABPREBB!$AH$10:$AH$281,0),COLUMN()),\"\")","v":""},{"$f":"IFERROR(INDEX(TABPREBB!$A$10:$AF$281,MATCH($B$1&ROW($A127),TABPREBB!$AH$10:$AH$281,0),COLUMN()),\"\")","v":""},{"$f":"IFERROR(INDEX(TABPREBB!$A$10:$AF$281,MATCH($B$1&ROW($A127),TABPREBB!$AH$10:$AH$281,0),COLUMN()),\"\")","v":""},{"$f":"IFERROR(INDEX(TABPREBB!$A$10:$AF$281,MATCH($B$1&ROW($A127),TABPREBB!$AH$10:$AH$281,0),COLUMN()),\"\")","v":""},{"$f":"IFERROR(INDEX(TABPREBB!$A$10:$AF$281,MATCH($B$1&ROW($A127),TABPREBB!$AH$10:$AH$281,0),COLUMN()),\"\")","v":""},{"$f":"IFERROR(INDEX(TABPREBB!$A$10:$AF$281,MATCH($B$1&ROW($A127),TABPREBB!$AH$10:$AH$281,0),COLUMN()),\"\")","v":""},{"$f":"IFERROR(INDEX(TABPREBB!$A$10:$AF$281,MATCH($B$1&ROW($A127),TABPREBB!$AH$10:$AH$281,0),COLUMN()),\"\")","v":""},{"$f":"IFERROR(INDEX(TABPREBB!$A$10:$AF$281,MATCH($B$1&ROW($A127),TABPREBB!$AH$10:$AH$281,0),COLUMN()),\"\")","v":""},{"$f":"IFERROR(INDEX(TABPREBB!$A$10:$AF$281,MATCH($B$1&ROW($A127),TABPREBB!$AH$10:$AH$281,0),COLUMN()),\"\")","v":""},{"$f":"IFERROR(INDEX(TABPREBB!$A$10:$AF$281,MATCH($B$1&ROW($A127),TABPREBB!$AH$10:$AH$281,0),COLUMN()),\"\")","v":""},{"$f":"IFERROR(INDEX(TABPREBB!$A$10:$AF$281,MATCH($B$1&ROW($A127),TABPREBB!$AH$10:$AH$281,0),COLUMN()),\"\")","v":""},{"$f":"IFERROR(INDEX(TABPREBB!$A$10:$AF$281,MATCH($B$1&ROW($A127),TABPREBB!$AH$10:$AH$281,0),COLUMN()),\"\")","v":""},{"$f":"IFERROR(INDEX(TABPREBB!$A$10:$AF$281,MATCH($B$1&ROW($A127),TABPREBB!$AH$10:$AH$281,0),COLUMN()),\"\")","v":""},{"$f":"IFERROR(INDEX(TABPREBB!$A$10:$AF$281,MATCH($B$1&ROW($A127),TABPREBB!$AH$10:$AH$281,0),COLUMN()),\"\")","v":""},{"$f":"IFERROR(INDEX(TABPREBB!$A$10:$AF$281,MATCH($B$1&ROW($A127),TABPREBB!$AH$10:$AH$281,0),COLUMN()),\"\")","v":""},{"$f":"IFERROR(INDEX(TABPREBB!$A$10:$AF$281,MATCH($B$1&ROW($A127),TABPREBB!$AH$10:$AH$281,0),COLUMN()),\"\")","v":""}]
[{"$f":"IFERROR(INDEX(TABPREBB!$A$10:$AF$281,MATCH($B$1&ROW($A128),TABPREBB!$AH$10:$AH$281,0),COLUMN()),\"\")","v":""},{"$f":"IFERROR(INDEX(TABPREBB!$A$10:$AF$281,MATCH($B$1&ROW($A128),TABPREBB!$AH$10:$AH$281,0),COLUMN()),\"\")","v":""},{"$f":"IFERROR(INDEX(TABPREBB!$A$10:$AF$281,MATCH($B$1&ROW($A128),TABPREBB!$AH$10:$AH$281,0),COLUMN()),\"\")","v":""},{"$f":"IFERROR(INDEX(TABPREBB!$A$10:$AF$281,MATCH($B$1&ROW($A128),TABPREBB!$AH$10:$AH$281,0),COLUMN()),\"\")","v":""},{"$f":"IFERROR(INDEX(TABPREBB!$A$10:$AF$281,MATCH($B$1&ROW($A128),TABPREBB!$AH$10:$AH$281,0),COLUMN()),\"\")","v":""},{"$f":"IFERROR(INDEX(TABPREBB!$A$10:$AF$281,MATCH($B$1&ROW($A128),TABPREBB!$AH$10:$AH$281,0),COLUMN()),\"\")","v":""},{"$f":"IFERROR(INDEX(TABPREBB!$A$10:$AF$281,MATCH($B$1&ROW($A128),TABPREBB!$AH$10:$AH$281,0),COLUMN()),\"\")","v":""},{"$f":"IFERROR(INDEX(TABPREBB!$A$10:$AF$281,MATCH($B$1&ROW($A128),TABPREBB!$AH$10:$AH$281,0),COLUMN()),\"\")","v":""},{"$f":"IFERROR(INDEX(TABPREBB!$A$10:$AF$281,MATCH($B$1&ROW($A128),TABPREBB!$AH$10:$AH$281,0),COLUMN()),\"\")","v":""},{"$f":"IFERROR(INDEX(TABPREBB!$A$10:$AF$281,MATCH($B$1&ROW($A128),TABPREBB!$AH$10:$AH$281,0),COLUMN()),\"\")","v":""},{"$f":"IFERROR(INDEX(TABPREBB!$A$10:$AF$281,MATCH($B$1&ROW($A128),TABPREBB!$AH$10:$AH$281,0),COLUMN()),\"\")","v":""},{"$f":"IFERROR(INDEX(TABPREBB!$A$10:$AF$281,MATCH($B$1&ROW($A128),TABPREBB!$AH$10:$AH$281,0),COLUMN()),\"\")","v":""},{"$f":"IFERROR(INDEX(TABPREBB!$A$10:$AF$281,MATCH($B$1&ROW($A128),TABPREBB!$AH$10:$AH$281,0),COLUMN()),\"\")","v":""},{"$f":"IFERROR(INDEX(TABPREBB!$A$10:$AF$281,MATCH($B$1&ROW($A128),TABPREBB!$AH$10:$AH$281,0),COLUMN()),\"\")","v":""},{"$f":"IFERROR(INDEX(TABPREBB!$A$10:$AF$281,MATCH($B$1&ROW($A128),TABPREBB!$AH$10:$AH$281,0),COLUMN()),\"\")","v":""},{"$f":"IFERROR(INDEX(TABPREBB!$A$10:$AF$281,MATCH($B$1&ROW($A128),TABPREBB!$AH$10:$AH$281,0),COLUMN()),\"\")","v":""},{"$f":"IFERROR(INDEX(TABPREBB!$A$10:$AF$281,MATCH($B$1&ROW($A128),TABPREBB!$AH$10:$AH$281,0),COLUMN()),\"\")","v":""},{"$f":"IFERROR(INDEX(TABPREBB!$A$10:$AF$281,MATCH($B$1&ROW($A128),TABPREBB!$AH$10:$AH$281,0),COLUMN()),\"\")","v":""},{"$f":"IFERROR(INDEX(TABPREBB!$A$10:$AF$281,MATCH($B$1&ROW($A128),TABPREBB!$AH$10:$AH$281,0),COLUMN()),\"\")","v":""},{"$f":"IFERROR(INDEX(TABPREBB!$A$10:$AF$281,MATCH($B$1&ROW($A128),TABPREBB!$AH$10:$AH$281,0),COLUMN()),\"\")","v":""},{"$f":"IFERROR(INDEX(TABPREBB!$A$10:$AF$281,MATCH($B$1&ROW($A128),TABPREBB!$AH$10:$AH$281,0),COLUMN()),\"\")","v":""},{"$f":"IFERROR(INDEX(TABPREBB!$A$10:$AF$281,MATCH($B$1&ROW($A128),TABPREBB!$AH$10:$AH$281,0),COLUMN()),\"\")","v":""},{"$f":"IFERROR(INDEX(TABPREBB!$A$10:$AF$281,MATCH($B$1&ROW($A128),TABPREBB!$AH$10:$AH$281,0),COLUMN()),\"\")","v":""},{"$f":"IFERROR(INDEX(TABPREBB!$A$10:$AF$281,MATCH($B$1&ROW($A128),TABPREBB!$AH$10:$AH$281,0),COLUMN()),\"\")","v":""},{"$f":"IFERROR(INDEX(TABPREBB!$A$10:$AF$281,MATCH($B$1&ROW($A128),TABPREBB!$AH$10:$AH$281,0),COLUMN()),\"\")","v":""},{"$f":"IFERROR(INDEX(TABPREBB!$A$10:$AF$281,MATCH($B$1&ROW($A128),TABPREBB!$AH$10:$AH$281,0),COLUMN()),\"\")","v":""},{"$f":"IFERROR(INDEX(TABPREBB!$A$10:$AF$281,MATCH($B$1&ROW($A128),TABPREBB!$AH$10:$AH$281,0),COLUMN()),\"\")","v":""},{"$f":"IFERROR(INDEX(TABPREBB!$A$10:$AF$281,MATCH($B$1&ROW($A128),TABPREBB!$AH$10:$AH$281,0),COLUMN()),\"\")","v":""},{"$f":"IFERROR(INDEX(TABPREBB!$A$10:$AF$281,MATCH($B$1&ROW($A128),TABPREBB!$AH$10:$AH$281,0),COLUMN()),\"\")","v":""},{"$f":"IFERROR(INDEX(TABPREBB!$A$10:$AF$281,MATCH($B$1&ROW($A128),TABPREBB!$AH$10:$AH$281,0),COLUMN()),\"\")","v":""},{"$f":"IFERROR(INDEX(TABPREBB!$A$10:$AF$281,MATCH($B$1&ROW($A128),TABPREBB!$AH$10:$AH$281,0),COLUMN()),\"\")","v":""},{"$f":"IFERROR(INDEX(TABPREBB!$A$10:$AF$281,MATCH($B$1&ROW($A128),TABPREBB!$AH$10:$AH$281,0),COLUMN()),\"\")","v":""}]
[{"$f":"IFERROR(INDEX(TABPREBB!$A$10:$AF$281,MATCH($B$1&ROW($A129),TABPREBB!$AH$10:$AH$281,0),COLUMN()),\"\")","v":""},{"$f":"IFERROR(INDEX(TABPREBB!$A$10:$AF$281,MATCH($B$1&ROW($A129),TABPREBB!$AH$10:$AH$281,0),COLUMN()),\"\")","v":""},{"$f":"IFERROR(INDEX(TABPREBB!$A$10:$AF$281,MATCH($B$1&ROW($A129),TABPREBB!$AH$10:$AH$281,0),COLUMN()),\"\")","v":""},{"$f":"IFERROR(INDEX(TABPREBB!$A$10:$AF$281,MATCH($B$1&ROW($A129),TABPREBB!$AH$10:$AH$281,0),COLUMN()),\"\")","v":""},{"$f":"IFERROR(INDEX(TABPREBB!$A$10:$AF$281,MATCH($B$1&ROW($A129),TABPREBB!$AH$10:$AH$281,0),COLUMN()),\"\")","v":""},{"$f":"IFERROR(INDEX(TABPREBB!$A$10:$AF$281,MATCH($B$1&ROW($A129),TABPREBB!$AH$10:$AH$281,0),COLUMN()),\"\")","v":""},{"$f":"IFERROR(INDEX(TABPREBB!$A$10:$AF$281,MATCH($B$1&ROW($A129),TABPREBB!$AH$10:$AH$281,0),COLUMN()),\"\")","v":""},{"$f":"IFERROR(INDEX(TABPREBB!$A$10:$AF$281,MATCH($B$1&ROW($A129),TABPREBB!$AH$10:$AH$281,0),COLUMN()),\"\")","v":""},{"$f":"IFERROR(INDEX(TABPREBB!$A$10:$AF$281,MATCH($B$1&ROW($A129),TABPREBB!$AH$10:$AH$281,0),COLUMN()),\"\")","v":""},{"$f":"IFERROR(INDEX(TABPREBB!$A$10:$AF$281,MATCH($B$1&ROW($A129),TABPREBB!$AH$10:$AH$281,0),COLUMN()),\"\")","v":""},{"$f":"IFERROR(INDEX(TABPREBB!$A$10:$AF$281,MATCH($B$1&ROW($A129),TABPREBB!$AH$10:$AH$281,0),COLUMN()),\"\")","v":""},{"$f":"IFERROR(INDEX(TABPREBB!$A$10:$AF$281,MATCH($B$1&ROW($A129),TABPREBB!$AH$10:$AH$281,0),COLUMN()),\"\")","v":""},{"$f":"IFERROR(INDEX(TABPREBB!$A$10:$AF$281,MATCH($B$1&ROW($A129),TABPREBB!$AH$10:$AH$281,0),COLUMN()),\"\")","v":""},{"$f":"IFERROR(INDEX(TABPREBB!$A$10:$AF$281,MATCH($B$1&ROW($A129),TABPREBB!$AH$10:$AH$281,0),COLUMN()),\"\")","v":""},{"$f":"IFERROR(INDEX(TABPREBB!$A$10:$AF$281,MATCH($B$1&ROW($A129),TABPREBB!$AH$10:$AH$281,0),COLUMN()),\"\")","v":""},{"$f":"IFERROR(INDEX(TABPREBB!$A$10:$AF$281,MATCH($B$1&ROW($A129),TABPREBB!$AH$10:$AH$281,0),COLUMN()),\"\")","v":""},{"$f":"IFERROR(INDEX(TABPREBB!$A$10:$AF$281,MATCH($B$1&ROW($A129),TABPREBB!$AH$10:$AH$281,0),COLUMN()),\"\")","v":""},{"$f":"IFERROR(INDEX(TABPREBB!$A$10:$AF$281,MATCH($B$1&ROW($A129),TABPREBB!$AH$10:$AH$281,0),COLUMN()),\"\")","v":""},{"$f":"IFERROR(INDEX(TABPREBB!$A$10:$AF$281,MATCH($B$1&ROW($A129),TABPREBB!$AH$10:$AH$281,0),COLUMN()),\"\")","v":""},{"$f":"IFERROR(INDEX(TABPREBB!$A$10:$AF$281,MATCH($B$1&ROW($A129),TABPREBB!$AH$10:$AH$281,0),COLUMN()),\"\")","v":""},{"$f":"IFERROR(INDEX(TABPREBB!$A$10:$AF$281,MATCH($B$1&ROW($A129),TABPREBB!$AH$10:$AH$281,0),COLUMN()),\"\")","v":""},{"$f":"IFERROR(INDEX(TABPREBB!$A$10:$AF$281,MATCH($B$1&ROW($A129),TABPREBB!$AH$10:$AH$281,0),COLUMN()),\"\")","v":""},{"$f":"IFERROR(INDEX(TABPREBB!$A$10:$AF$281,MATCH($B$1&ROW($A129),TABPREBB!$AH$10:$AH$281,0),COLUMN()),\"\")","v":""},{"$f":"IFERROR(INDEX(TABPREBB!$A$10:$AF$281,MATCH($B$1&ROW($A129),TABPREBB!$AH$10:$AH$281,0),COLUMN()),\"\")","v":""},{"$f":"IFERROR(INDEX(TABPREBB!$A$10:$AF$281,MATCH($B$1&ROW($A129),TABPREBB!$AH$10:$AH$281,0),COLUMN()),\"\")","v":""},{"$f":"IFERROR(INDEX(TABPREBB!$A$10:$AF$281,MATCH($B$1&ROW($A129),TABPREBB!$AH$10:$AH$281,0),COLUMN()),\"\")","v":""},{"$f":"IFERROR(INDEX(TABPREBB!$A$10:$AF$281,MATCH($B$1&ROW($A129),TABPREBB!$AH$10:$AH$281,0),COLUMN()),\"\")","v":""},{"$f":"IFERROR(INDEX(TABPREBB!$A$10:$AF$281,MATCH($B$1&ROW($A129),TABPREBB!$AH$10:$AH$281,0),COLUMN()),\"\")","v":""},{"$f":"IFERROR(INDEX(TABPREBB!$A$10:$AF$281,MATCH($B$1&ROW($A129),TABPREBB!$AH$10:$AH$281,0),COLUMN()),\"\")","v":""},{"$f":"IFERROR(INDEX(TABPREBB!$A$10:$AF$281,MATCH($B$1&ROW($A129),TABPREBB!$AH$10:$AH$281,0),COLUMN()),\"\")","v":""},{"$f":"IFERROR(INDEX(TABPREBB!$A$10:$AF$281,MATCH($B$1&ROW($A129),TABPREBB!$AH$10:$AH$281,0),COLUMN()),\"\")","v":""},{"$f":"IFERROR(INDEX(TABPREBB!$A$10:$AF$281,MATCH($B$1&ROW($A129),TABPREBB!$AH$10:$AH$281,0),COLUMN()),\"\")","v":""}]
[{"$f":"IFERROR(INDEX(TABPREBB!$A$10:$AF$281,MATCH($B$1&ROW($A130),TABPREBB!$AH$10:$AH$281,0),COLUMN()),\"\")","v":""},{"$f":"IFERROR(INDEX(TABPREBB!$A$10:$AF$281,MATCH($B$1&ROW($A130),TABPREBB!$AH$10:$AH$281,0),COLUMN()),\"\")","v":""},{"$f":"IFERROR(INDEX(TABPREBB!$A$10:$AF$281,MATCH($B$1&ROW($A130),TABPREBB!$AH$10:$AH$281,0),COLUMN()),\"\")","v":""},{"$f":"IFERROR(INDEX(TABPREBB!$A$10:$AF$281,MATCH($B$1&ROW($A130),TABPREBB!$AH$10:$AH$281,0),COLUMN()),\"\")","v":""},{"$f":"IFERROR(INDEX(TABPREBB!$A$10:$AF$281,MATCH($B$1&ROW($A130),TABPREBB!$AH$10:$AH$281,0),COLUMN()),\"\")","v":""},{"$f":"IFERROR(INDEX(TABPREBB!$A$10:$AF$281,MATCH($B$1&ROW($A130),TABPREBB!$AH$10:$AH$281,0),COLUMN()),\"\")","v":""},{"$f":"IFERROR(INDEX(TABPREBB!$A$10:$AF$281,MATCH($B$1&ROW($A130),TABPREBB!$AH$10:$AH$281,0),COLUMN()),\"\")","v":""},{"$f":"IFERROR(INDEX(TABPREBB!$A$10:$AF$281,MATCH($B$1&ROW($A130),TABPREBB!$AH$10:$AH$281,0),COLUMN()),\"\")","v":""},{"$f":"IFERROR(INDEX(TABPREBB!$A$10:$AF$281,MATCH($B$1&ROW($A130),TABPREBB!$AH$10:$AH$281,0),COLUMN()),\"\")","v":""},{"$f":"IFERROR(INDEX(TABPREBB!$A$10:$AF$281,MATCH($B$1&ROW($A130),TABPREBB!$AH$10:$AH$281,0),COLUMN()),\"\")","v":""},{"$f":"IFERROR(INDEX(TABPREBB!$A$10:$AF$281,MATCH($B$1&ROW($A130),TABPREBB!$AH$10:$AH$281,0),COLUMN()),\"\")","v":""},{"$f":"IFERROR(INDEX(TABPREBB!$A$10:$AF$281,MATCH($B$1&ROW($A130),TABPREBB!$AH$10:$AH$281,0),COLUMN()),\"\")","v":""},{"$f":"IFERROR(INDEX(TABPREBB!$A$10:$AF$281,MATCH($B$1&ROW($A130),TABPREBB!$AH$10:$AH$281,0),COLUMN()),\"\")","v":""},{"$f":"IFERROR(INDEX(TABPREBB!$A$10:$AF$281,MATCH($B$1&ROW($A130),TABPREBB!$AH$10:$AH$281,0),COLUMN()),\"\")","v":""},{"$f":"IFERROR(INDEX(TABPREBB!$A$10:$AF$281,MATCH($B$1&ROW($A130),TABPREBB!$AH$10:$AH$281,0),COLUMN()),\"\")","v":""},{"$f":"IFERROR(INDEX(TABPREBB!$A$10:$AF$281,MATCH($B$1&ROW($A130),TABPREBB!$AH$10:$AH$281,0),COLUMN()),\"\")","v":""},{"$f":"IFERROR(INDEX(TABPREBB!$A$10:$AF$281,MATCH($B$1&ROW($A130),TABPREBB!$AH$10:$AH$281,0),COLUMN()),\"\")","v":""},{"$f":"IFERROR(INDEX(TABPREBB!$A$10:$AF$281,MATCH($B$1&ROW($A130),TABPREBB!$AH$10:$AH$281,0),COLUMN()),\"\")","v":""},{"$f":"IFERROR(INDEX(TABPREBB!$A$10:$AF$281,MATCH($B$1&ROW($A130),TABPREBB!$AH$10:$AH$281,0),COLUMN()),\"\")","v":""},{"$f":"IFERROR(INDEX(TABPREBB!$A$10:$AF$281,MATCH($B$1&ROW($A130),TABPREBB!$AH$10:$AH$281,0),COLUMN()),\"\")","v":""},{"$f":"IFERROR(INDEX(TABPREBB!$A$10:$AF$281,MATCH($B$1&ROW($A130),TABPREBB!$AH$10:$AH$281,0),COLUMN()),\"\")","v":""},{"$f":"IFERROR(INDEX(TABPREBB!$A$10:$AF$281,MATCH($B$1&ROW($A130),TABPREBB!$AH$10:$AH$281,0),COLUMN()),\"\")","v":""},{"$f":"IFERROR(INDEX(TABPREBB!$A$10:$AF$281,MATCH($B$1&ROW($A130),TABPREBB!$AH$10:$AH$281,0),COLUMN()),\"\")","v":""},{"$f":"IFERROR(INDEX(TABPREBB!$A$10:$AF$281,MATCH($B$1&ROW($A130),TABPREBB!$AH$10:$AH$281,0),COLUMN()),\"\")","v":""},{"$f":"IFERROR(INDEX(TABPREBB!$A$10:$AF$281,MATCH($B$1&ROW($A130),TABPREBB!$AH$10:$AH$281,0),COLUMN()),\"\")","v":""},{"$f":"IFERROR(INDEX(TABPREBB!$A$10:$AF$281,MATCH($B$1&ROW($A130),TABPREBB!$AH$10:$AH$281,0),COLUMN()),\"\")","v":""},{"$f":"IFERROR(INDEX(TABPREBB!$A$10:$AF$281,MATCH($B$1&ROW($A130),TABPREBB!$AH$10:$AH$281,0),COLUMN()),\"\")","v":""},{"$f":"IFERROR(INDEX(TABPREBB!$A$10:$AF$281,MATCH($B$1&ROW($A130),TABPREBB!$AH$10:$AH$281,0),COLUMN()),\"\")","v":""},{"$f":"IFERROR(INDEX(TABPREBB!$A$10:$AF$281,MATCH($B$1&ROW($A130),TABPREBB!$AH$10:$AH$281,0),COLUMN()),\"\")","v":""},{"$f":"IFERROR(INDEX(TABPREBB!$A$10:$AF$281,MATCH($B$1&ROW($A130),TABPREBB!$AH$10:$AH$281,0),COLUMN()),\"\")","v":""},{"$f":"IFERROR(INDEX(TABPREBB!$A$10:$AF$281,MATCH($B$1&ROW($A130),TABPREBB!$AH$10:$AH$281,0),COLUMN()),\"\")","v":""},{"$f":"IFERROR(INDEX(TABPREBB!$A$10:$AF$281,MATCH($B$1&ROW($A130),TABPREBB!$AH$10:$AH$281,0),COLUMN()),\"\")","v":""}]
[{"$f":"IFERROR(INDEX(TABPREBB!$A$10:$AF$281,MATCH($B$1&ROW($A131),TABPREBB!$AH$10:$AH$281,0),COLUMN()),\"\")","v":""},{"$f":"IFERROR(INDEX(TABPREBB!$A$10:$AF$281,MATCH($B$1&ROW($A131),TABPREBB!$AH$10:$AH$281,0),COLUMN()),\"\")","v":""},{"$f":"IFERROR(INDEX(TABPREBB!$A$10:$AF$281,MATCH($B$1&ROW($A131),TABPREBB!$AH$10:$AH$281,0),COLUMN()),\"\")","v":""},{"$f":"IFERROR(INDEX(TABPREBB!$A$10:$AF$281,MATCH($B$1&ROW($A131),TABPREBB!$AH$10:$AH$281,0),COLUMN()),\"\")","v":""},{"$f":"IFERROR(INDEX(TABPREBB!$A$10:$AF$281,MATCH($B$1&ROW($A131),TABPREBB!$AH$10:$AH$281,0),COLUMN()),\"\")","v":""},{"$f":"IFERROR(INDEX(TABPREBB!$A$10:$AF$281,MATCH($B$1&ROW($A131),TABPREBB!$AH$10:$AH$281,0),COLUMN()),\"\")","v":""},{"$f":"IFERROR(INDEX(TABPREBB!$A$10:$AF$281,MATCH($B$1&ROW($A131),TABPREBB!$AH$10:$AH$281,0),COLUMN()),\"\")","v":""},{"$f":"IFERROR(INDEX(TABPREBB!$A$10:$AF$281,MATCH($B$1&ROW($A131),TABPREBB!$AH$10:$AH$281,0),COLUMN()),\"\")","v":""},{"$f":"IFERROR(INDEX(TABPREBB!$A$10:$AF$281,MATCH($B$1&ROW($A131),TABPREBB!$AH$10:$AH$281,0),COLUMN()),\"\")","v":""},{"$f":"IFERROR(INDEX(TABPREBB!$A$10:$AF$281,MATCH($B$1&ROW($A131),TABPREBB!$AH$10:$AH$281,0),COLUMN()),\"\")","v":""},{"$f":"IFERROR(INDEX(TABPREBB!$A$10:$AF$281,MATCH($B$1&ROW($A131),TABPREBB!$AH$10:$AH$281,0),COLUMN()),\"\")","v":""},{"$f":"IFERROR(INDEX(TABPREBB!$A$10:$AF$281,MATCH($B$1&ROW($A131),TABPREBB!$AH$10:$AH$281,0),COLUMN()),\"\")","v":""},{"$f":"IFERROR(INDEX(TABPREBB!$A$10:$AF$281,MATCH($B$1&ROW($A131),TABPREBB!$AH$10:$AH$281,0),COLUMN()),\"\")","v":""},{"$f":"IFERROR(INDEX(TABPREBB!$A$10:$AF$281,MATCH($B$1&ROW($A131),TABPREBB!$AH$10:$AH$281,0),COLUMN()),\"\")","v":""},{"$f":"IFERROR(INDEX(TABPREBB!$A$10:$AF$281,MATCH($B$1&ROW($A131),TABPREBB!$AH$10:$AH$281,0),COLUMN()),\"\")","v":""},{"$f":"IFERROR(INDEX(TABPREBB!$A$10:$AF$281,MATCH($B$1&ROW($A131),TABPREBB!$AH$10:$AH$281,0),COLUMN()),\"\")","v":""},{"$f":"IFERROR(INDEX(TABPREBB!$A$10:$AF$281,MATCH($B$1&ROW($A131),TABPREBB!$AH$10:$AH$281,0),COLUMN()),\"\")","v":""},{"$f":"IFERROR(INDEX(TABPREBB!$A$10:$AF$281,MATCH($B$1&ROW($A131),TABPREBB!$AH$10:$AH$281,0),COLUMN()),\"\")","v":""},{"$f":"IFERROR(INDEX(TABPREBB!$A$10:$AF$281,MATCH($B$1&ROW($A131),TABPREBB!$AH$10:$AH$281,0),COLUMN()),\"\")","v":""},{"$f":"IFERROR(INDEX(TABPREBB!$A$10:$AF$281,MATCH($B$1&ROW($A131),TABPREBB!$AH$10:$AH$281,0),COLUMN()),\"\")","v":""},{"$f":"IFERROR(INDEX(TABPREBB!$A$10:$AF$281,MATCH($B$1&ROW($A131),TABPREBB!$AH$10:$AH$281,0),COLUMN()),\"\")","v":""},{"$f":"IFERROR(INDEX(TABPREBB!$A$10:$AF$281,MATCH($B$1&ROW($A131),TABPREBB!$AH$10:$AH$281,0),COLUMN()),\"\")","v":""},{"$f":"IFERROR(INDEX(TABPREBB!$A$10:$AF$281,MATCH($B$1&ROW($A131),TABPREBB!$AH$10:$AH$281,0),COLUMN()),\"\")","v":""},{"$f":"IFERROR(INDEX(TABPREBB!$A$10:$AF$281,MATCH($B$1&ROW($A131),TABPREBB!$AH$10:$AH$281,0),COLUMN()),\"\")","v":""},{"$f":"IFERROR(INDEX(TABPREBB!$A$10:$AF$281,MATCH($B$1&ROW($A131),TABPREBB!$AH$10:$AH$281,0),COLUMN()),\"\")","v":""},{"$f":"IFERROR(INDEX(TABPREBB!$A$10:$AF$281,MATCH($B$1&ROW($A131),TABPREBB!$AH$10:$AH$281,0),COLUMN()),\"\")","v":""},{"$f":"IFERROR(INDEX(TABPREBB!$A$10:$AF$281,MATCH($B$1&ROW($A131),TABPREBB!$AH$10:$AH$281,0),COLUMN()),\"\")","v":""},{"$f":"IFERROR(INDEX(TABPREBB!$A$10:$AF$281,MATCH($B$1&ROW($A131),TABPREBB!$AH$10:$AH$281,0),COLUMN()),\"\")","v":""},{"$f":"IFERROR(INDEX(TABPREBB!$A$10:$AF$281,MATCH($B$1&ROW($A131),TABPREBB!$AH$10:$AH$281,0),COLUMN()),\"\")","v":""},{"$f":"IFERROR(INDEX(TABPREBB!$A$10:$AF$281,MATCH($B$1&ROW($A131),TABPREBB!$AH$10:$AH$281,0),COLUMN()),\"\")","v":""},{"$f":"IFERROR(INDEX(TABPREBB!$A$10:$AF$281,MATCH($B$1&ROW($A131),TABPREBB!$AH$10:$AH$281,0),COLUMN()),\"\")","v":""},{"$f":"IFERROR(INDEX(TABPREBB!$A$10:$AF$281,MATCH($B$1&ROW($A131),TABPREBB!$AH$10:$AH$281,0),COLUMN()),\"\")","v":""}]
[{"$f":"IFERROR(INDEX(TABPREBB!$A$10:$AF$281,MATCH($B$1&ROW($A132),TABPREBB!$AH$10:$AH$281,0),COLUMN()),\"\")","v":""},{"$f":"IFERROR(INDEX(TABPREBB!$A$10:$AF$281,MATCH($B$1&ROW($A132),TABPREBB!$AH$10:$AH$281,0),COLUMN()),\"\")","v":""},{"$f":"IFERROR(INDEX(TABPREBB!$A$10:$AF$281,MATCH($B$1&ROW($A132),TABPREBB!$AH$10:$AH$281,0),COLUMN()),\"\")","v":""},{"$f":"IFERROR(INDEX(TABPREBB!$A$10:$AF$281,MATCH($B$1&ROW($A132),TABPREBB!$AH$10:$AH$281,0),COLUMN()),\"\")","v":""},{"$f":"IFERROR(INDEX(TABPREBB!$A$10:$AF$281,MATCH($B$1&ROW($A132),TABPREBB!$AH$10:$AH$281,0),COLUMN()),\"\")","v":""},{"$f":"IFERROR(INDEX(TABPREBB!$A$10:$AF$281,MATCH($B$1&ROW($A132),TABPREBB!$AH$10:$AH$281,0),COLUMN()),\"\")","v":""},{"$f":"IFERROR(INDEX(TABPREBB!$A$10:$AF$281,MATCH($B$1&ROW($A132),TABPREBB!$AH$10:$AH$281,0),COLUMN()),\"\")","v":""},{"$f":"IFERROR(INDEX(TABPREBB!$A$10:$AF$281,MATCH($B$1&ROW($A132),TABPREBB!$AH$10:$AH$281,0),COLUMN()),\"\")","v":""},{"$f":"IFERROR(INDEX(TABPREBB!$A$10:$AF$281,MATCH($B$1&ROW($A132),TABPREBB!$AH$10:$AH$281,0),COLUMN()),\"\")","v":""},{"$f":"IFERROR(INDEX(TABPREBB!$A$10:$AF$281,MATCH($B$1&ROW($A132),TABPREBB!$AH$10:$AH$281,0),COLUMN()),\"\")","v":""},{"$f":"IFERROR(INDEX(TABPREBB!$A$10:$AF$281,MATCH($B$1&ROW($A132),TABPREBB!$AH$10:$AH$281,0),COLUMN()),\"\")","v":""},{"$f":"IFERROR(INDEX(TABPREBB!$A$10:$AF$281,MATCH($B$1&ROW($A132),TABPREBB!$AH$10:$AH$281,0),COLUMN()),\"\")","v":""},{"$f":"IFERROR(INDEX(TABPREBB!$A$10:$AF$281,MATCH($B$1&ROW($A132),TABPREBB!$AH$10:$AH$281,0),COLUMN()),\"\")","v":""},{"$f":"IFERROR(INDEX(TABPREBB!$A$10:$AF$281,MATCH($B$1&ROW($A132),TABPREBB!$AH$10:$AH$281,0),COLUMN()),\"\")","v":""},{"$f":"IFERROR(INDEX(TABPREBB!$A$10:$AF$281,MATCH($B$1&ROW($A132),TABPREBB!$AH$10:$AH$281,0),COLUMN()),\"\")","v":""},{"$f":"IFERROR(INDEX(TABPREBB!$A$10:$AF$281,MATCH($B$1&ROW($A132),TABPREBB!$AH$10:$AH$281,0),COLUMN()),\"\")","v":""},{"$f":"IFERROR(INDEX(TABPREBB!$A$10:$AF$281,MATCH($B$1&ROW($A132),TABPREBB!$AH$10:$AH$281,0),COLUMN()),\"\")","v":""},{"$f":"IFERROR(INDEX(TABPREBB!$A$10:$AF$281,MATCH($B$1&ROW($A132),TABPREBB!$AH$10:$AH$281,0),COLUMN()),\"\")","v":""},{"$f":"IFERROR(INDEX(TABPREBB!$A$10:$AF$281,MATCH($B$1&ROW($A132),TABPREBB!$AH$10:$AH$281,0),COLUMN()),\"\")","v":""},{"$f":"IFERROR(INDEX(TABPREBB!$A$10:$AF$281,MATCH($B$1&ROW($A132),TABPREBB!$AH$10:$AH$281,0),COLUMN()),\"\")","v":""},{"$f":"IFERROR(INDEX(TABPREBB!$A$10:$AF$281,MATCH($B$1&ROW($A132),TABPREBB!$AH$10:$AH$281,0),COLUMN()),\"\")","v":""},{"$f":"IFERROR(INDEX(TABPREBB!$A$10:$AF$281,MATCH($B$1&ROW($A132),TABPREBB!$AH$10:$AH$281,0),COLUMN()),\"\")","v":""},{"$f":"IFERROR(INDEX(TABPREBB!$A$10:$AF$281,MATCH($B$1&ROW($A132),TABPREBB!$AH$10:$AH$281,0),COLUMN()),\"\")","v":""},{"$f":"IFERROR(INDEX(TABPREBB!$A$10:$AF$281,MATCH($B$1&ROW($A132),TABPREBB!$AH$10:$AH$281,0),COLUMN()),\"\")","v":""},{"$f":"IFERROR(INDEX(TABPREBB!$A$10:$AF$281,MATCH($B$1&ROW($A132),TABPREBB!$AH$10:$AH$281,0),COLUMN()),\"\")","v":""},{"$f":"IFERROR(INDEX(TABPREBB!$A$10:$AF$281,MATCH($B$1&ROW($A132),TABPREBB!$AH$10:$AH$281,0),COLUMN()),\"\")","v":""},{"$f":"IFERROR(INDEX(TABPREBB!$A$10:$AF$281,MATCH($B$1&ROW($A132),TABPREBB!$AH$10:$AH$281,0),COLUMN()),\"\")","v":""},{"$f":"IFERROR(INDEX(TABPREBB!$A$10:$AF$281,MATCH($B$1&ROW($A132),TABPREBB!$AH$10:$AH$281,0),COLUMN()),\"\")","v":""},{"$f":"IFERROR(INDEX(TABPREBB!$A$10:$AF$281,MATCH($B$1&ROW($A132),TABPREBB!$AH$10:$AH$281,0),COLUMN()),\"\")","v":""},{"$f":"IFERROR(INDEX(TABPREBB!$A$10:$AF$281,MATCH($B$1&ROW($A132),TABPREBB!$AH$10:$AH$281,0),COLUMN()),\"\")","v":""},{"$f":"IFERROR(INDEX(TABPREBB!$A$10:$AF$281,MATCH($B$1&ROW($A132),TABPREBB!$AH$10:$AH$281,0),COLUMN()),\"\")","v":""},{"$f":"IFERROR(INDEX(TABPREBB!$A$10:$AF$281,MATCH($B$1&ROW($A132),TABPREBB!$AH$10:$AH$281,0),COLUMN()),\"\")","v":""}]
[{"$f":"IFERROR(INDEX(TABPREBB!$A$10:$AF$281,MATCH($B$1&ROW($A133),TABPREBB!$AH$10:$AH$281,0),COLUMN()),\"\")","v":""},{"$f":"IFERROR(INDEX(TABPREBB!$A$10:$AF$281,MATCH($B$1&ROW($A133),TABPREBB!$AH$10:$AH$281,0),COLUMN()),\"\")","v":""},{"$f":"IFERROR(INDEX(TABPREBB!$A$10:$AF$281,MATCH($B$1&ROW($A133),TABPREBB!$AH$10:$AH$281,0),COLUMN()),\"\")","v":""},{"$f":"IFERROR(INDEX(TABPREBB!$A$10:$AF$281,MATCH($B$1&ROW($A133),TABPREBB!$AH$10:$AH$281,0),COLUMN()),\"\")","v":""},{"$f":"IFERROR(INDEX(TABPREBB!$A$10:$AF$281,MATCH($B$1&ROW($A133),TABPREBB!$AH$10:$AH$281,0),COLUMN()),\"\")","v":""},{"$f":"IFERROR(INDEX(TABPREBB!$A$10:$AF$281,MATCH($B$1&ROW($A133),TABPREBB!$AH$10:$AH$281,0),COLUMN()),\"\")","v":""},{"$f":"IFERROR(INDEX(TABPREBB!$A$10:$AF$281,MATCH($B$1&ROW($A133),TABPREBB!$AH$10:$AH$281,0),COLUMN()),\"\")","v":""},{"$f":"IFERROR(INDEX(TABPREBB!$A$10:$AF$281,MATCH($B$1&ROW($A133),TABPREBB!$AH$10:$AH$281,0),COLUMN()),\"\")","v":""},{"$f":"IFERROR(INDEX(TABPREBB!$A$10:$AF$281,MATCH($B$1&ROW($A133),TABPREBB!$AH$10:$AH$281,0),COLUMN()),\"\")","v":""},{"$f":"IFERROR(INDEX(TABPREBB!$A$10:$AF$281,MATCH($B$1&ROW($A133),TABPREBB!$AH$10:$AH$281,0),COLUMN()),\"\")","v":""},{"$f":"IFERROR(INDEX(TABPREBB!$A$10:$AF$281,MATCH($B$1&ROW($A133),TABPREBB!$AH$10:$AH$281,0),COLUMN()),\"\")","v":""},{"$f":"IFERROR(INDEX(TABPREBB!$A$10:$AF$281,MATCH($B$1&ROW($A133),TABPREBB!$AH$10:$AH$281,0),COLUMN()),\"\")","v":""},{"$f":"IFERROR(INDEX(TABPREBB!$A$10:$AF$281,MATCH($B$1&ROW($A133),TABPREBB!$AH$10:$AH$281,0),COLUMN()),\"\")","v":""},{"$f":"IFERROR(INDEX(TABPREBB!$A$10:$AF$281,MATCH($B$1&ROW($A133),TABPREBB!$AH$10:$AH$281,0),COLUMN()),\"\")","v":""},{"$f":"IFERROR(INDEX(TABPREBB!$A$10:$AF$281,MATCH($B$1&ROW($A133),TABPREBB!$AH$10:$AH$281,0),COLUMN()),\"\")","v":""},{"$f":"IFERROR(INDEX(TABPREBB!$A$10:$AF$281,MATCH($B$1&ROW($A133),TABPREBB!$AH$10:$AH$281,0),COLUMN()),\"\")","v":""},{"$f":"IFERROR(INDEX(TABPREBB!$A$10:$AF$281,MATCH($B$1&ROW($A133),TABPREBB!$AH$10:$AH$281,0),COLUMN()),\"\")","v":""},{"$f":"IFERROR(INDEX(TABPREBB!$A$10:$AF$281,MATCH($B$1&ROW($A133),TABPREBB!$AH$10:$AH$281,0),COLUMN()),\"\")","v":""},{"$f":"IFERROR(INDEX(TABPREBB!$A$10:$AF$281,MATCH($B$1&ROW($A133),TABPREBB!$AH$10:$AH$281,0),COLUMN()),\"\")","v":""},{"$f":"IFERROR(INDEX(TABPREBB!$A$10:$AF$281,MATCH($B$1&ROW($A133),TABPREBB!$AH$10:$AH$281,0),COLUMN()),\"\")","v":""},{"$f":"IFERROR(INDEX(TABPREBB!$A$10:$AF$281,MATCH($B$1&ROW($A133),TABPREBB!$AH$10:$AH$281,0),COLUMN()),\"\")","v":""},{"$f":"IFERROR(INDEX(TABPREBB!$A$10:$AF$281,MATCH($B$1&ROW($A133),TABPREBB!$AH$10:$AH$281,0),COLUMN()),\"\")","v":""},{"$f":"IFERROR(INDEX(TABPREBB!$A$10:$AF$281,MATCH($B$1&ROW($A133),TABPREBB!$AH$10:$AH$281,0),COLUMN()),\"\")","v":""},{"$f":"IFERROR(INDEX(TABPREBB!$A$10:$AF$281,MATCH($B$1&ROW($A133),TABPREBB!$AH$10:$AH$281,0),COLUMN()),\"\")","v":""},{"$f":"IFERROR(INDEX(TABPREBB!$A$10:$AF$281,MATCH($B$1&ROW($A133),TABPREBB!$AH$10:$AH$281,0),COLUMN()),\"\")","v":""},{"$f":"IFERROR(INDEX(TABPREBB!$A$10:$AF$281,MATCH($B$1&ROW($A133),TABPREBB!$AH$10:$AH$281,0),COLUMN()),\"\")","v":""},{"$f":"IFERROR(INDEX(TABPREBB!$A$10:$AF$281,MATCH($B$1&ROW($A133),TABPREBB!$AH$10:$AH$281,0),COLUMN()),\"\")","v":""},{"$f":"IFERROR(INDEX(TABPREBB!$A$10:$AF$281,MATCH($B$1&ROW($A133),TABPREBB!$AH$10:$AH$281,0),COLUMN()),\"\")","v":""},{"$f":"IFERROR(INDEX(TABPREBB!$A$10:$AF$281,MATCH($B$1&ROW($A133),TABPREBB!$AH$10:$AH$281,0),COLUMN()),\"\")","v":""},{"$f":"IFERROR(INDEX(TABPREBB!$A$10:$AF$281,MATCH($B$1&ROW($A133),TABPREBB!$AH$10:$AH$281,0),COLUMN()),\"\")","v":""},{"$f":"IFERROR(INDEX(TABPREBB!$A$10:$AF$281,MATCH($B$1&ROW($A133),TABPREBB!$AH$10:$AH$281,0),COLUMN()),\"\")","v":""},{"$f":"IFERROR(INDEX(TABPREBB!$A$10:$AF$281,MATCH($B$1&ROW($A133),TABPREBB!$AH$10:$AH$281,0),COLUMN()),\"\")","v":""}]
[{"$f":"IFERROR(INDEX(TABPREBB!$A$10:$AF$281,MATCH($B$1&ROW($A134),TABPREBB!$AH$10:$AH$281,0),COLUMN()),\"\")","v":""},{"$f":"IFERROR(INDEX(TABPREBB!$A$10:$AF$281,MATCH($B$1&ROW($A134),TABPREBB!$AH$10:$AH$281,0),COLUMN()),\"\")","v":""},{"$f":"IFERROR(INDEX(TABPREBB!$A$10:$AF$281,MATCH($B$1&ROW($A134),TABPREBB!$AH$10:$AH$281,0),COLUMN()),\"\")","v":""},{"$f":"IFERROR(INDEX(TABPREBB!$A$10:$AF$281,MATCH($B$1&ROW($A134),TABPREBB!$AH$10:$AH$281,0),COLUMN()),\"\")","v":""},{"$f":"IFERROR(INDEX(TABPREBB!$A$10:$AF$281,MATCH($B$1&ROW($A134),TABPREBB!$AH$10:$AH$281,0),COLUMN()),\"\")","v":""},{"$f":"IFERROR(INDEX(TABPREBB!$A$10:$AF$281,MATCH($B$1&ROW($A134),TABPREBB!$AH$10:$AH$281,0),COLUMN()),\"\")","v":""},{"$f":"IFERROR(INDEX(TABPREBB!$A$10:$AF$281,MATCH($B$1&ROW($A134),TABPREBB!$AH$10:$AH$281,0),COLUMN()),\"\")","v":""},{"$f":"IFERROR(INDEX(TABPREBB!$A$10:$AF$281,MATCH($B$1&ROW($A134),TABPREBB!$AH$10:$AH$281,0),COLUMN()),\"\")","v":""},{"$f":"IFERROR(INDEX(TABPREBB!$A$10:$AF$281,MATCH($B$1&ROW($A134),TABPREBB!$AH$10:$AH$281,0),COLUMN()),\"\")","v":""},{"$f":"IFERROR(INDEX(TABPREBB!$A$10:$AF$281,MATCH($B$1&ROW($A134),TABPREBB!$AH$10:$AH$281,0),COLUMN()),\"\")","v":""},{"$f":"IFERROR(INDEX(TABPREBB!$A$10:$AF$281,MATCH($B$1&ROW($A134),TABPREBB!$AH$10:$AH$281,0),COLUMN()),\"\")","v":""},{"$f":"IFERROR(INDEX(TABPREBB!$A$10:$AF$281,MATCH($B$1&ROW($A134),TABPREBB!$AH$10:$AH$281,0),COLUMN()),\"\")","v":""},{"$f":"IFERROR(INDEX(TABPREBB!$A$10:$AF$281,MATCH($B$1&ROW($A134),TABPREBB!$AH$10:$AH$281,0),COLUMN()),\"\")","v":""},{"$f":"IFERROR(INDEX(TABPREBB!$A$10:$AF$281,MATCH($B$1&ROW($A134),TABPREBB!$AH$10:$AH$281,0),COLUMN()),\"\")","v":""},{"$f":"IFERROR(INDEX(TABPREBB!$A$10:$AF$281,MATCH($B$1&ROW($A134),TABPREBB!$AH$10:$AH$281,0),COLUMN()),\"\")","v":""},{"$f":"IFERROR(INDEX(TABPREBB!$A$10:$AF$281,MATCH($B$1&ROW($A134),TABPREBB!$AH$10:$AH$281,0),COLUMN()),\"\")","v":""},{"$f":"IFERROR(INDEX(TABPREBB!$A$10:$AF$281,MATCH($B$1&ROW($A134),TABPREBB!$AH$10:$AH$281,0),COLUMN()),\"\")","v":""},{"$f":"IFERROR(INDEX(TABPREBB!$A$10:$AF$281,MATCH($B$1&ROW($A134),TABPREBB!$AH$10:$AH$281,0),COLUMN()),\"\")","v":""},{"$f":"IFERROR(INDEX(TABPREBB!$A$10:$AF$281,MATCH($B$1&ROW($A134),TABPREBB!$AH$10:$AH$281,0),COLUMN()),\"\")","v":""},{"$f":"IFERROR(INDEX(TABPREBB!$A$10:$AF$281,MATCH($B$1&ROW($A134),TABPREBB!$AH$10:$AH$281,0),COLUMN()),\"\")","v":""},{"$f":"IFERROR(INDEX(TABPREBB!$A$10:$AF$281,MATCH($B$1&ROW($A134),TABPREBB!$AH$10:$AH$281,0),COLUMN()),\"\")","v":""},{"$f":"IFERROR(INDEX(TABPREBB!$A$10:$AF$281,MATCH($B$1&ROW($A134),TABPREBB!$AH$10:$AH$281,0),COLUMN()),\"\")","v":""},{"$f":"IFERROR(INDEX(TABPREBB!$A$10:$AF$281,MATCH($B$1&ROW($A134),TABPREBB!$AH$10:$AH$281,0),COLUMN()),\"\")","v":""},{"$f":"IFERROR(INDEX(TABPREBB!$A$10:$AF$281,MATCH($B$1&ROW($A134),TABPREBB!$AH$10:$AH$281,0),COLUMN()),\"\")","v":""},{"$f":"IFERROR(INDEX(TABPREBB!$A$10:$AF$281,MATCH($B$1&ROW($A134),TABPREBB!$AH$10:$AH$281,0),COLUMN()),\"\")","v":""},{"$f":"IFERROR(INDEX(TABPREBB!$A$10:$AF$281,MATCH($B$1&ROW($A134),TABPREBB!$AH$10:$AH$281,0),COLUMN()),\"\")","v":""},{"$f":"IFERROR(INDEX(TABPREBB!$A$10:$AF$281,MATCH($B$1&ROW($A134),TABPREBB!$AH$10:$AH$281,0),COLUMN()),\"\")","v":""},{"$f":"IFERROR(INDEX(TABPREBB!$A$10:$AF$281,MATCH($B$1&ROW($A134),TABPREBB!$AH$10:$AH$281,0),COLUMN()),\"\")","v":""},{"$f":"IFERROR(INDEX(TABPREBB!$A$10:$AF$281,MATCH($B$1&ROW($A134),TABPREBB!$AH$10:$AH$281,0),COLUMN()),\"\")","v":""},{"$f":"IFERROR(INDEX(TABPREBB!$A$10:$AF$281,MATCH($B$1&ROW($A134),TABPREBB!$AH$10:$AH$281,0),COLUMN()),\"\")","v":""},{"$f":"IFERROR(INDEX(TABPREBB!$A$10:$AF$281,MATCH($B$1&ROW($A134),TABPREBB!$AH$10:$AH$281,0),COLUMN()),\"\")","v":""},{"$f":"IFERROR(INDEX(TABPREBB!$A$10:$AF$281,MATCH($B$1&ROW($A134),TABPREBB!$AH$10:$AH$281,0),COLUMN()),\"\")","v":""}]
[{"$f":"IFERROR(INDEX(TABPREBB!$A$10:$AF$281,MATCH($B$1&ROW($A135),TABPREBB!$AH$10:$AH$281,0),COLUMN()),\"\")","v":""},{"$f":"IFERROR(INDEX(TABPREBB!$A$10:$AF$281,MATCH($B$1&ROW($A135),TABPREBB!$AH$10:$AH$281,0),COLUMN()),\"\")","v":""},{"$f":"IFERROR(INDEX(TABPREBB!$A$10:$AF$281,MATCH($B$1&ROW($A135),TABPREBB!$AH$10:$AH$281,0),COLUMN()),\"\")","v":""},{"$f":"IFERROR(INDEX(TABPREBB!$A$10:$AF$281,MATCH($B$1&ROW($A135),TABPREBB!$AH$10:$AH$281,0),COLUMN()),\"\")","v":""},{"$f":"IFERROR(INDEX(TABPREBB!$A$10:$AF$281,MATCH($B$1&ROW($A135),TABPREBB!$AH$10:$AH$281,0),COLUMN()),\"\")","v":""},{"$f":"IFERROR(INDEX(TABPREBB!$A$10:$AF$281,MATCH($B$1&ROW($A135),TABPREBB!$AH$10:$AH$281,0),COLUMN()),\"\")","v":""},{"$f":"IFERROR(INDEX(TABPREBB!$A$10:$AF$281,MATCH($B$1&ROW($A135),TABPREBB!$AH$10:$AH$281,0),COLUMN()),\"\")","v":""},{"$f":"IFERROR(INDEX(TABPREBB!$A$10:$AF$281,MATCH($B$1&ROW($A135),TABPREBB!$AH$10:$AH$281,0),COLUMN()),\"\")","v":""},{"$f":"IFERROR(INDEX(TABPREBB!$A$10:$AF$281,MATCH($B$1&ROW($A135),TABPREBB!$AH$10:$AH$281,0),COLUMN()),\"\")","v":""},{"$f":"IFERROR(INDEX(TABPREBB!$A$10:$AF$281,MATCH($B$1&ROW($A135),TABPREBB!$AH$10:$AH$281,0),COLUMN()),\"\")","v":""},{"$f":"IFERROR(INDEX(TABPREBB!$A$10:$AF$281,MATCH($B$1&ROW($A135),TABPREBB!$AH$10:$AH$281,0),COLUMN()),\"\")","v":""},{"$f":"IFERROR(INDEX(TABPREBB!$A$10:$AF$281,MATCH($B$1&ROW($A135),TABPREBB!$AH$10:$AH$281,0),COLUMN()),\"\")","v":""},{"$f":"IFERROR(INDEX(TABPREBB!$A$10:$AF$281,MATCH($B$1&ROW($A135),TABPREBB!$AH$10:$AH$281,0),COLUMN()),\"\")","v":""},{"$f":"IFERROR(INDEX(TABPREBB!$A$10:$AF$281,MATCH($B$1&ROW($A135),TABPREBB!$AH$10:$AH$281,0),COLUMN()),\"\")","v":""},{"$f":"IFERROR(INDEX(TABPREBB!$A$10:$AF$281,MATCH($B$1&ROW($A135),TABPREBB!$AH$10:$AH$281,0),COLUMN()),\"\")","v":""},{"$f":"IFERROR(INDEX(TABPREBB!$A$10:$AF$281,MATCH($B$1&ROW($A135),TABPREBB!$AH$10:$AH$281,0),COLUMN()),\"\")","v":""},{"$f":"IFERROR(INDEX(TABPREBB!$A$10:$AF$281,MATCH($B$1&ROW($A135),TABPREBB!$AH$10:$AH$281,0),COLUMN()),\"\")","v":""},{"$f":"IFERROR(INDEX(TABPREBB!$A$10:$AF$281,MATCH($B$1&ROW($A135),TABPREBB!$AH$10:$AH$281,0),COLUMN()),\"\")","v":""},{"$f":"IFERROR(INDEX(TABPREBB!$A$10:$AF$281,MATCH($B$1&ROW($A135),TABPREBB!$AH$10:$AH$281,0),COLUMN()),\"\")","v":""},{"$f":"IFERROR(INDEX(TABPREBB!$A$10:$AF$281,MATCH($B$1&ROW($A135),TABPREBB!$AH$10:$AH$281,0),COLUMN()),\"\")","v":""},{"$f":"IFERROR(INDEX(TABPREBB!$A$10:$AF$281,MATCH($B$1&ROW($A135),TABPREBB!$AH$10:$AH$281,0),COLUMN()),\"\")","v":""},{"$f":"IFERROR(INDEX(TABPREBB!$A$10:$AF$281,MATCH($B$1&ROW($A135),TABPREBB!$AH$10:$AH$281,0),COLUMN()),\"\")","v":""},{"$f":"IFERROR(INDEX(TABPREBB!$A$10:$AF$281,MATCH($B$1&ROW($A135),TABPREBB!$AH$10:$AH$281,0),COLUMN()),\"\")","v":""},{"$f":"IFERROR(INDEX(TABPREBB!$A$10:$AF$281,MATCH($B$1&ROW($A135),TABPREBB!$AH$10:$AH$281,0),COLUMN()),\"\")","v":""},{"$f":"IFERROR(INDEX(TABPREBB!$A$10:$AF$281,MATCH($B$1&ROW($A135),TABPREBB!$AH$10:$AH$281,0),COLUMN()),\"\")","v":""},{"$f":"IFERROR(INDEX(TABPREBB!$A$10:$AF$281,MATCH($B$1&ROW($A135),TABPREBB!$AH$10:$AH$281,0),COLUMN()),\"\")","v":""},{"$f":"IFERROR(INDEX(TABPREBB!$A$10:$AF$281,MATCH($B$1&ROW($A135),TABPREBB!$AH$10:$AH$281,0),COLUMN()),\"\")","v":""},{"$f":"IFERROR(INDEX(TABPREBB!$A$10:$AF$281,MATCH($B$1&ROW($A135),TABPREBB!$AH$10:$AH$281,0),COLUMN()),\"\")","v":""},{"$f":"IFERROR(INDEX(TABPREBB!$A$10:$AF$281,MATCH($B$1&ROW($A135),TABPREBB!$AH$10:$AH$281,0),COLUMN()),\"\")","v":""},{"$f":"IFERROR(INDEX(TABPREBB!$A$10:$AF$281,MATCH($B$1&ROW($A135),TABPREBB!$AH$10:$AH$281,0),COLUMN()),\"\")","v":""},{"$f":"IFERROR(INDEX(TABPREBB!$A$10:$AF$281,MATCH($B$1&ROW($A135),TABPREBB!$AH$10:$AH$281,0),COLUMN()),\"\")","v":""},{"$f":"IFERROR(INDEX(TABPREBB!$A$10:$AF$281,MATCH($B$1&ROW($A135),TABPREBB!$AH$10:$AH$281,0),COLUMN()),\"\")","v":""}]
[{"$f":"IFERROR(INDEX(TABPREBB!$A$10:$AF$281,MATCH($B$1&ROW($A136),TABPREBB!$AH$10:$AH$281,0),COLUMN()),\"\")","v":""},{"$f":"IFERROR(INDEX(TABPREBB!$A$10:$AF$281,MATCH($B$1&ROW($A136),TABPREBB!$AH$10:$AH$281,0),COLUMN()),\"\")","v":""},{"$f":"IFERROR(INDEX(TABPREBB!$A$10:$AF$281,MATCH($B$1&ROW($A136),TABPREBB!$AH$10:$AH$281,0),COLUMN()),\"\")","v":""},{"$f":"IFERROR(INDEX(TABPREBB!$A$10:$AF$281,MATCH($B$1&ROW($A136),TABPREBB!$AH$10:$AH$281,0),COLUMN()),\"\")","v":""},{"$f":"IFERROR(INDEX(TABPREBB!$A$10:$AF$281,MATCH($B$1&ROW($A136),TABPREBB!$AH$10:$AH$281,0),COLUMN()),\"\")","v":""},{"$f":"IFERROR(INDEX(TABPREBB!$A$10:$AF$281,MATCH($B$1&ROW($A136),TABPREBB!$AH$10:$AH$281,0),COLUMN()),\"\")","v":""},{"$f":"IFERROR(INDEX(TABPREBB!$A$10:$AF$281,MATCH($B$1&ROW($A136),TABPREBB!$AH$10:$AH$281,0),COLUMN()),\"\")","v":""},{"$f":"IFERROR(INDEX(TABPREBB!$A$10:$AF$281,MATCH($B$1&ROW($A136),TABPREBB!$AH$10:$AH$281,0),COLUMN()),\"\")","v":""},{"$f":"IFERROR(INDEX(TABPREBB!$A$10:$AF$281,MATCH($B$1&ROW($A136),TABPREBB!$AH$10:$AH$281,0),COLUMN()),\"\")","v":""},{"$f":"IFERROR(INDEX(TABPREBB!$A$10:$AF$281,MATCH($B$1&ROW($A136),TABPREBB!$AH$10:$AH$281,0),COLUMN()),\"\")","v":""},{"$f":"IFERROR(INDEX(TABPREBB!$A$10:$AF$281,MATCH($B$1&ROW($A136),TABPREBB!$AH$10:$AH$281,0),COLUMN()),\"\")","v":""},{"$f":"IFERROR(INDEX(TABPREBB!$A$10:$AF$281,MATCH($B$1&ROW($A136),TABPREBB!$AH$10:$AH$281,0),COLUMN()),\"\")","v":""},{"$f":"IFERROR(INDEX(TABPREBB!$A$10:$AF$281,MATCH($B$1&ROW($A136),TABPREBB!$AH$10:$AH$281,0),COLUMN()),\"\")","v":""},{"$f":"IFERROR(INDEX(TABPREBB!$A$10:$AF$281,MATCH($B$1&ROW($A136),TABPREBB!$AH$10:$AH$281,0),COLUMN()),\"\")","v":""},{"$f":"IFERROR(INDEX(TABPREBB!$A$10:$AF$281,MATCH($B$1&ROW($A136),TABPREBB!$AH$10:$AH$281,0),COLUMN()),\"\")","v":""},{"$f":"IFERROR(INDEX(TABPREBB!$A$10:$AF$281,MATCH($B$1&ROW($A136),TABPREBB!$AH$10:$AH$281,0),COLUMN()),\"\")","v":""},{"$f":"IFERROR(INDEX(TABPREBB!$A$10:$AF$281,MATCH($B$1&ROW($A136),TABPREBB!$AH$10:$AH$281,0),COLUMN()),\"\")","v":""},{"$f":"IFERROR(INDEX(TABPREBB!$A$10:$AF$281,MATCH($B$1&ROW($A136),TABPREBB!$AH$10:$AH$281,0),COLUMN()),\"\")","v":""},{"$f":"IFERROR(INDEX(TABPREBB!$A$10:$AF$281,MATCH($B$1&ROW($A136),TABPREBB!$AH$10:$AH$281,0),COLUMN()),\"\")","v":""},{"$f":"IFERROR(INDEX(TABPREBB!$A$10:$AF$281,MATCH($B$1&ROW($A136),TABPREBB!$AH$10:$AH$281,0),COLUMN()),\"\")","v":""},{"$f":"IFERROR(INDEX(TABPREBB!$A$10:$AF$281,MATCH($B$1&ROW($A136),TABPREBB!$AH$10:$AH$281,0),COLUMN()),\"\")","v":""},{"$f":"IFERROR(INDEX(TABPREBB!$A$10:$AF$281,MATCH($B$1&ROW($A136),TABPREBB!$AH$10:$AH$281,0),COLUMN()),\"\")","v":""},{"$f":"IFERROR(INDEX(TABPREBB!$A$10:$AF$281,MATCH($B$1&ROW($A136),TABPREBB!$AH$10:$AH$281,0),COLUMN()),\"\")","v":""},{"$f":"IFERROR(INDEX(TABPREBB!$A$10:$AF$281,MATCH($B$1&ROW($A136),TABPREBB!$AH$10:$AH$281,0),COLUMN()),\"\")","v":""},{"$f":"IFERROR(INDEX(TABPREBB!$A$10:$AF$281,MATCH($B$1&ROW($A136),TABPREBB!$AH$10:$AH$281,0),COLUMN()),\"\")","v":""},{"$f":"IFERROR(INDEX(TABPREBB!$A$10:$AF$281,MATCH($B$1&ROW($A136),TABPREBB!$AH$10:$AH$281,0),COLUMN()),\"\")","v":""},{"$f":"IFERROR(INDEX(TABPREBB!$A$10:$AF$281,MATCH($B$1&ROW($A136),TABPREBB!$AH$10:$AH$281,0),COLUMN()),\"\")","v":""},{"$f":"IFERROR(INDEX(TABPREBB!$A$10:$AF$281,MATCH($B$1&ROW($A136),TABPREBB!$AH$10:$AH$281,0),COLUMN()),\"\")","v":""},{"$f":"IFERROR(INDEX(TABPREBB!$A$10:$AF$281,MATCH($B$1&ROW($A136),TABPREBB!$AH$10:$AH$281,0),COLUMN()),\"\")","v":""},{"$f":"IFERROR(INDEX(TABPREBB!$A$10:$AF$281,MATCH($B$1&ROW($A136),TABPREBB!$AH$10:$AH$281,0),COLUMN()),\"\")","v":""},{"$f":"IFERROR(INDEX(TABPREBB!$A$10:$AF$281,MATCH($B$1&ROW($A136),TABPREBB!$AH$10:$AH$281,0),COLUMN()),\"\")","v":""},{"$f":"IFERROR(INDEX(TABPREBB!$A$10:$AF$281,MATCH($B$1&ROW($A136),TABPREBB!$AH$10:$AH$281,0),COLUMN()),\"\")","v":""}]
[{"$f":"IFERROR(INDEX(TABPREBB!$A$10:$AF$281,MATCH($B$1&ROW($A137),TABPREBB!$AH$10:$AH$281,0),COLUMN()),\"\")","v":""},{"$f":"IFERROR(INDEX(TABPREBB!$A$10:$AF$281,MATCH($B$1&ROW($A137),TABPREBB!$AH$10:$AH$281,0),COLUMN()),\"\")","v":""},{"$f":"IFERROR(INDEX(TABPREBB!$A$10:$AF$281,MATCH($B$1&ROW($A137),TABPREBB!$AH$10:$AH$281,0),COLUMN()),\"\")","v":""},{"$f":"IFERROR(INDEX(TABPREBB!$A$10:$AF$281,MATCH($B$1&ROW($A137),TABPREBB!$AH$10:$AH$281,0),COLUMN()),\"\")","v":""},{"$f":"IFERROR(INDEX(TABPREBB!$A$10:$AF$281,MATCH($B$1&ROW($A137),TABPREBB!$AH$10:$AH$281,0),COLUMN()),\"\")","v":""},{"$f":"IFERROR(INDEX(TABPREBB!$A$10:$AF$281,MATCH($B$1&ROW($A137),TABPREBB!$AH$10:$AH$281,0),COLUMN()),\"\")","v":""},{"$f":"IFERROR(INDEX(TABPREBB!$A$10:$AF$281,MATCH($B$1&ROW($A137),TABPREBB!$AH$10:$AH$281,0),COLUMN()),\"\")","v":""},{"$f":"IFERROR(INDEX(TABPREBB!$A$10:$AF$281,MATCH($B$1&ROW($A137),TABPREBB!$AH$10:$AH$281,0),COLUMN()),\"\")","v":""},{"$f":"IFERROR(INDEX(TABPREBB!$A$10:$AF$281,MATCH($B$1&ROW($A137),TABPREBB!$AH$10:$AH$281,0),COLUMN()),\"\")","v":""},{"$f":"IFERROR(INDEX(TABPREBB!$A$10:$AF$281,MATCH($B$1&ROW($A137),TABPREBB!$AH$10:$AH$281,0),COLUMN()),\"\")","v":""},{"$f":"IFERROR(INDEX(TABPREBB!$A$10:$AF$281,MATCH($B$1&ROW($A137),TABPREBB!$AH$10:$AH$281,0),COLUMN()),\"\")","v":""},{"$f":"IFERROR(INDEX(TABPREBB!$A$10:$AF$281,MATCH($B$1&ROW($A137),TABPREBB!$AH$10:$AH$281,0),COLUMN()),\"\")","v":""},{"$f":"IFERROR(INDEX(TABPREBB!$A$10:$AF$281,MATCH($B$1&ROW($A137),TABPREBB!$AH$10:$AH$281,0),COLUMN()),\"\")","v":""},{"$f":"IFERROR(INDEX(TABPREBB!$A$10:$AF$281,MATCH($B$1&ROW($A137),TABPREBB!$AH$10:$AH$281,0),COLUMN()),\"\")","v":""},{"$f":"IFERROR(INDEX(TABPREBB!$A$10:$AF$281,MATCH($B$1&ROW($A137),TABPREBB!$AH$10:$AH$281,0),COLUMN()),\"\")","v":""},{"$f":"IFERROR(INDEX(TABPREBB!$A$10:$AF$281,MATCH($B$1&ROW($A137),TABPREBB!$AH$10:$AH$281,0),COLUMN()),\"\")","v":""},{"$f":"IFERROR(INDEX(TABPREBB!$A$10:$AF$281,MATCH($B$1&ROW($A137),TABPREBB!$AH$10:$AH$281,0),COLUMN()),\"\")","v":""},{"$f":"IFERROR(INDEX(TABPREBB!$A$10:$AF$281,MATCH($B$1&ROW($A137),TABPREBB!$AH$10:$AH$281,0),COLUMN()),\"\")","v":""},{"$f":"IFERROR(INDEX(TABPREBB!$A$10:$AF$281,MATCH($B$1&ROW($A137),TABPREBB!$AH$10:$AH$281,0),COLUMN()),\"\")","v":""},{"$f":"IFERROR(INDEX(TABPREBB!$A$10:$AF$281,MATCH($B$1&ROW($A137),TABPREBB!$AH$10:$AH$281,0),COLUMN()),\"\")","v":""},{"$f":"IFERROR(INDEX(TABPREBB!$A$10:$AF$281,MATCH($B$1&ROW($A137),TABPREBB!$AH$10:$AH$281,0),COLUMN()),\"\")","v":""},{"$f":"IFERROR(INDEX(TABPREBB!$A$10:$AF$281,MATCH($B$1&ROW($A137),TABPREBB!$AH$10:$AH$281,0),COLUMN()),\"\")","v":""},{"$f":"IFERROR(INDEX(TABPREBB!$A$10:$AF$281,MATCH($B$1&ROW($A137),TABPREBB!$AH$10:$AH$281,0),COLUMN()),\"\")","v":""},{"$f":"IFERROR(INDEX(TABPREBB!$A$10:$AF$281,MATCH($B$1&ROW($A137),TABPREBB!$AH$10:$AH$281,0),COLUMN()),\"\")","v":""},{"$f":"IFERROR(INDEX(TABPREBB!$A$10:$AF$281,MATCH($B$1&ROW($A137),TABPREBB!$AH$10:$AH$281,0),COLUMN()),\"\")","v":""},{"$f":"IFERROR(INDEX(TABPREBB!$A$10:$AF$281,MATCH($B$1&ROW($A137),TABPREBB!$AH$10:$AH$281,0),COLUMN()),\"\")","v":""},{"$f":"IFERROR(INDEX(TABPREBB!$A$10:$AF$281,MATCH($B$1&ROW($A137),TABPREBB!$AH$10:$AH$281,0),COLUMN()),\"\")","v":""},{"$f":"IFERROR(INDEX(TABPREBB!$A$10:$AF$281,MATCH($B$1&ROW($A137),TABPREBB!$AH$10:$AH$281,0),COLUMN()),\"\")","v":""},{"$f":"IFERROR(INDEX(TABPREBB!$A$10:$AF$281,MATCH($B$1&ROW($A137),TABPREBB!$AH$10:$AH$281,0),COLUMN()),\"\")","v":""},{"$f":"IFERROR(INDEX(TABPREBB!$A$10:$AF$281,MATCH($B$1&ROW($A137),TABPREBB!$AH$10:$AH$281,0),COLUMN()),\"\")","v":""},{"$f":"IFERROR(INDEX(TABPREBB!$A$10:$AF$281,MATCH($B$1&ROW($A137),TABPREBB!$AH$10:$AH$281,0),COLUMN()),\"\")","v":""},{"$f":"IFERROR(INDEX(TABPREBB!$A$10:$AF$281,MATCH($B$1&ROW($A137),TABPREBB!$AH$10:$AH$281,0),COLUMN()),\"\")","v":""}]
[{"$f":"IFERROR(INDEX(TABPREBB!$A$10:$AF$281,MATCH($B$1&ROW($A138),TABPREBB!$AH$10:$AH$281,0),COLUMN()),\"\")","v":""},{"$f":"IFERROR(INDEX(TABPREBB!$A$10:$AF$281,MATCH($B$1&ROW($A138),TABPREBB!$AH$10:$AH$281,0),COLUMN()),\"\")","v":""},{"$f":"IFERROR(INDEX(TABPREBB!$A$10:$AF$281,MATCH($B$1&ROW($A138),TABPREBB!$AH$10:$AH$281,0),COLUMN()),\"\")","v":""},{"$f":"IFERROR(INDEX(TABPREBB!$A$10:$AF$281,MATCH($B$1&ROW($A138),TABPREBB!$AH$10:$AH$281,0),COLUMN()),\"\")","v":""},{"$f":"IFERROR(INDEX(TABPREBB!$A$10:$AF$281,MATCH($B$1&ROW($A138),TABPREBB!$AH$10:$AH$281,0),COLUMN()),\"\")","v":""},{"$f":"IFERROR(INDEX(TABPREBB!$A$10:$AF$281,MATCH($B$1&ROW($A138),TABPREBB!$AH$10:$AH$281,0),COLUMN()),\"\")","v":""},{"$f":"IFERROR(INDEX(TABPREBB!$A$10:$AF$281,MATCH($B$1&ROW($A138),TABPREBB!$AH$10:$AH$281,0),COLUMN()),\"\")","v":""},{"$f":"IFERROR(INDEX(TABPREBB!$A$10:$AF$281,MATCH($B$1&ROW($A138),TABPREBB!$AH$10:$AH$281,0),COLUMN()),\"\")","v":""},{"$f":"IFERROR(INDEX(TABPREBB!$A$10:$AF$281,MATCH($B$1&ROW($A138),TABPREBB!$AH$10:$AH$281,0),COLUMN()),\"\")","v":""},{"$f":"IFERROR(INDEX(TABPREBB!$A$10:$AF$281,MATCH($B$1&ROW($A138),TABPREBB!$AH$10:$AH$281,0),COLUMN()),\"\")","v":""},{"$f":"IFERROR(INDEX(TABPREBB!$A$10:$AF$281,MATCH($B$1&ROW($A138),TABPREBB!$AH$10:$AH$281,0),COLUMN()),\"\")","v":""},{"$f":"IFERROR(INDEX(TABPREBB!$A$10:$AF$281,MATCH($B$1&ROW($A138),TABPREBB!$AH$10:$AH$281,0),COLUMN()),\"\")","v":""},{"$f":"IFERROR(INDEX(TABPREBB!$A$10:$AF$281,MATCH($B$1&ROW($A138),TABPREBB!$AH$10:$AH$281,0),COLUMN()),\"\")","v":""},{"$f":"IFERROR(INDEX(TABPREBB!$A$10:$AF$281,MATCH($B$1&ROW($A138),TABPREBB!$AH$10:$AH$281,0),COLUMN()),\"\")","v":""},{"$f":"IFERROR(INDEX(TABPREBB!$A$10:$AF$281,MATCH($B$1&ROW($A138),TABPREBB!$AH$10:$AH$281,0),COLUMN()),\"\")","v":""},{"$f":"IFERROR(INDEX(TABPREBB!$A$10:$AF$281,MATCH($B$1&ROW($A138),TABPREBB!$AH$10:$AH$281,0),COLUMN()),\"\")","v":""},{"$f":"IFERROR(INDEX(TABPREBB!$A$10:$AF$281,MATCH($B$1&ROW($A138),TABPREBB!$AH$10:$AH$281,0),COLUMN()),\"\")","v":""},{"$f":"IFERROR(INDEX(TABPREBB!$A$10:$AF$281,MATCH($B$1&ROW($A138),TABPREBB!$AH$10:$AH$281,0),COLUMN()),\"\")","v":""},{"$f":"IFERROR(INDEX(TABPREBB!$A$10:$AF$281,MATCH($B$1&ROW($A138),TABPREBB!$AH$10:$AH$281,0),COLUMN()),\"\")","v":""},{"$f":"IFERROR(INDEX(TABPREBB!$A$10:$AF$281,MATCH($B$1&ROW($A138),TABPREBB!$AH$10:$AH$281,0),COLUMN()),\"\")","v":""},{"$f":"IFERROR(INDEX(TABPREBB!$A$10:$AF$281,MATCH($B$1&ROW($A138),TABPREBB!$AH$10:$AH$281,0),COLUMN()),\"\")","v":""},{"$f":"IFERROR(INDEX(TABPREBB!$A$10:$AF$281,MATCH($B$1&ROW($A138),TABPREBB!$AH$10:$AH$281,0),COLUMN()),\"\")","v":""},{"$f":"IFERROR(INDEX(TABPREBB!$A$10:$AF$281,MATCH($B$1&ROW($A138),TABPREBB!$AH$10:$AH$281,0),COLUMN()),\"\")","v":""},{"$f":"IFERROR(INDEX(TABPREBB!$A$10:$AF$281,MATCH($B$1&ROW($A138),TABPREBB!$AH$10:$AH$281,0),COLUMN()),\"\")","v":""},{"$f":"IFERROR(INDEX(TABPREBB!$A$10:$AF$281,MATCH($B$1&ROW($A138),TABPREBB!$AH$10:$AH$281,0),COLUMN()),\"\")","v":""},{"$f":"IFERROR(INDEX(TABPREBB!$A$10:$AF$281,MATCH($B$1&ROW($A138),TABPREBB!$AH$10:$AH$281,0),COLUMN()),\"\")","v":""},{"$f":"IFERROR(INDEX(TABPREBB!$A$10:$AF$281,MATCH($B$1&ROW($A138),TABPREBB!$AH$10:$AH$281,0),COLUMN()),\"\")","v":""},{"$f":"IFERROR(INDEX(TABPREBB!$A$10:$AF$281,MATCH($B$1&ROW($A138),TABPREBB!$AH$10:$AH$281,0),COLUMN()),\"\")","v":""},{"$f":"IFERROR(INDEX(TABPREBB!$A$10:$AF$281,MATCH($B$1&ROW($A138),TABPREBB!$AH$10:$AH$281,0),COLUMN()),\"\")","v":""},{"$f":"IFERROR(INDEX(TABPREBB!$A$10:$AF$281,MATCH($B$1&ROW($A138),TABPREBB!$AH$10:$AH$281,0),COLUMN()),\"\")","v":""},{"$f":"IFERROR(INDEX(TABPREBB!$A$10:$AF$281,MATCH($B$1&ROW($A138),TABPREBB!$AH$10:$AH$281,0),COLUMN()),\"\")","v":""},{"$f":"IFERROR(INDEX(TABPREBB!$A$10:$AF$281,MATCH($B$1&ROW($A138),TABPREBB!$AH$10:$AH$281,0),COLUMN()),\"\")","v":""}]
[{"$f":"IFERROR(INDEX(TABPREBB!$A$10:$AF$281,MATCH($B$1&ROW($A139),TABPREBB!$AH$10:$AH$281,0),COLUMN()),\"\")","v":""},{"$f":"IFERROR(INDEX(TABPREBB!$A$10:$AF$281,MATCH($B$1&ROW($A139),TABPREBB!$AH$10:$AH$281,0),COLUMN()),\"\")","v":""},{"$f":"IFERROR(INDEX(TABPREBB!$A$10:$AF$281,MATCH($B$1&ROW($A139),TABPREBB!$AH$10:$AH$281,0),COLUMN()),\"\")","v":""},{"$f":"IFERROR(INDEX(TABPREBB!$A$10:$AF$281,MATCH($B$1&ROW($A139),TABPREBB!$AH$10:$AH$281,0),COLUMN()),\"\")","v":""},{"$f":"IFERROR(INDEX(TABPREBB!$A$10:$AF$281,MATCH($B$1&ROW($A139),TABPREBB!$AH$10:$AH$281,0),COLUMN()),\"\")","v":""},{"$f":"IFERROR(INDEX(TABPREBB!$A$10:$AF$281,MATCH($B$1&ROW($A139),TABPREBB!$AH$10:$AH$281,0),COLUMN()),\"\")","v":""},{"$f":"IFERROR(INDEX(TABPREBB!$A$10:$AF$281,MATCH($B$1&ROW($A139),TABPREBB!$AH$10:$AH$281,0),COLUMN()),\"\")","v":""},{"$f":"IFERROR(INDEX(TABPREBB!$A$10:$AF$281,MATCH($B$1&ROW($A139),TABPREBB!$AH$10:$AH$281,0),COLUMN()),\"\")","v":""},{"$f":"IFERROR(INDEX(TABPREBB!$A$10:$AF$281,MATCH($B$1&ROW($A139),TABPREBB!$AH$10:$AH$281,0),COLUMN()),\"\")","v":""},{"$f":"IFERROR(INDEX(TABPREBB!$A$10:$AF$281,MATCH($B$1&ROW($A139),TABPREBB!$AH$10:$AH$281,0),COLUMN()),\"\")","v":""},{"$f":"IFERROR(INDEX(TABPREBB!$A$10:$AF$281,MATCH($B$1&ROW($A139),TABPREBB!$AH$10:$AH$281,0),COLUMN()),\"\")","v":""},{"$f":"IFERROR(INDEX(TABPREBB!$A$10:$AF$281,MATCH($B$1&ROW($A139),TABPREBB!$AH$10:$AH$281,0),COLUMN()),\"\")","v":""},{"$f":"IFERROR(INDEX(TABPREBB!$A$10:$AF$281,MATCH($B$1&ROW($A139),TABPREBB!$AH$10:$AH$281,0),COLUMN()),\"\")","v":""},{"$f":"IFERROR(INDEX(TABPREBB!$A$10:$AF$281,MATCH($B$1&ROW($A139),TABPREBB!$AH$10:$AH$281,0),COLUMN()),\"\")","v":""},{"$f":"IFERROR(INDEX(TABPREBB!$A$10:$AF$281,MATCH($B$1&ROW($A139),TABPREBB!$AH$10:$AH$281,0),COLUMN()),\"\")","v":""},{"$f":"IFERROR(INDEX(TABPREBB!$A$10:$AF$281,MATCH($B$1&ROW($A139),TABPREBB!$AH$10:$AH$281,0),COLUMN()),\"\")","v":""},{"$f":"IFERROR(INDEX(TABPREBB!$A$10:$AF$281,MATCH($B$1&ROW($A139),TABPREBB!$AH$10:$AH$281,0),COLUMN()),\"\")","v":""},{"$f":"IFERROR(INDEX(TABPREBB!$A$10:$AF$281,MATCH($B$1&ROW($A139),TABPREBB!$AH$10:$AH$281,0),COLUMN()),\"\")","v":""},{"$f":"IFERROR(INDEX(TABPREBB!$A$10:$AF$281,MATCH($B$1&ROW($A139),TABPREBB!$AH$10:$AH$281,0),COLUMN()),\"\")","v":""},{"$f":"IFERROR(INDEX(TABPREBB!$A$10:$AF$281,MATCH($B$1&ROW($A139),TABPREBB!$AH$10:$AH$281,0),COLUMN()),\"\")","v":""},{"$f":"IFERROR(INDEX(TABPREBB!$A$10:$AF$281,MATCH($B$1&ROW($A139),TABPREBB!$AH$10:$AH$281,0),COLUMN()),\"\")","v":""},{"$f":"IFERROR(INDEX(TABPREBB!$A$10:$AF$281,MATCH($B$1&ROW($A139),TABPREBB!$AH$10:$AH$281,0),COLUMN()),\"\")","v":""},{"$f":"IFERROR(INDEX(TABPREBB!$A$10:$AF$281,MATCH($B$1&ROW($A139),TABPREBB!$AH$10:$AH$281,0),COLUMN()),\"\")","v":""},{"$f":"IFERROR(INDEX(TABPREBB!$A$10:$AF$281,MATCH($B$1&ROW($A139),TABPREBB!$AH$10:$AH$281,0),COLUMN()),\"\")","v":""},{"$f":"IFERROR(INDEX(TABPREBB!$A$10:$AF$281,MATCH($B$1&ROW($A139),TABPREBB!$AH$10:$AH$281,0),COLUMN()),\"\")","v":""},{"$f":"IFERROR(INDEX(TABPREBB!$A$10:$AF$281,MATCH($B$1&ROW($A139),TABPREBB!$AH$10:$AH$281,0),COLUMN()),\"\")","v":""},{"$f":"IFERROR(INDEX(TABPREBB!$A$10:$AF$281,MATCH($B$1&ROW($A139),TABPREBB!$AH$10:$AH$281,0),COLUMN()),\"\")","v":""},{"$f":"IFERROR(INDEX(TABPREBB!$A$10:$AF$281,MATCH($B$1&ROW($A139),TABPREBB!$AH$10:$AH$281,0),COLUMN()),\"\")","v":""},{"$f":"IFERROR(INDEX(TABPREBB!$A$10:$AF$281,MATCH($B$1&ROW($A139),TABPREBB!$AH$10:$AH$281,0),COLUMN()),\"\")","v":""},{"$f":"IFERROR(INDEX(TABPREBB!$A$10:$AF$281,MATCH($B$1&ROW($A139),TABPREBB!$AH$10:$AH$281,0),COLUMN()),\"\")","v":""},{"$f":"IFERROR(INDEX(TABPREBB!$A$10:$AF$281,MATCH($B$1&ROW($A139),TABPREBB!$AH$10:$AH$281,0),COLUMN()),\"\")","v":""},{"$f":"IFERROR(INDEX(TABPREBB!$A$10:$AF$281,MATCH($B$1&ROW($A139),TABPREBB!$AH$10:$AH$281,0),COLUMN()),\"\")","v":""}]
[{"$f":"IFERROR(INDEX(TABPREBB!$A$10:$AF$281,MATCH($B$1&ROW($A140),TABPREBB!$AH$10:$AH$281,0),COLUMN()),\"\")","v":""},{"$f":"IFERROR(INDEX(TABPREBB!$A$10:$AF$281,MATCH($B$1&ROW($A140),TABPREBB!$AH$10:$AH$281,0),COLUMN()),\"\")","v":""},{"$f":"IFERROR(INDEX(TABPREBB!$A$10:$AF$281,MATCH($B$1&ROW($A140),TABPREBB!$AH$10:$AH$281,0),COLUMN()),\"\")","v":""},{"$f":"IFERROR(INDEX(TABPREBB!$A$10:$AF$281,MATCH($B$1&ROW($A140),TABPREBB!$AH$10:$AH$281,0),COLUMN()),\"\")","v":""},{"$f":"IFERROR(INDEX(TABPREBB!$A$10:$AF$281,MATCH($B$1&ROW($A140),TABPREBB!$AH$10:$AH$281,0),COLUMN()),\"\")","v":""},{"$f":"IFERROR(INDEX(TABPREBB!$A$10:$AF$281,MATCH($B$1&ROW($A140),TABPREBB!$AH$10:$AH$281,0),COLUMN()),\"\")","v":""},{"$f":"IFERROR(INDEX(TABPREBB!$A$10:$AF$281,MATCH($B$1&ROW($A140),TABPREBB!$AH$10:$AH$281,0),COLUMN()),\"\")","v":""},{"$f":"IFERROR(INDEX(TABPREBB!$A$10:$AF$281,MATCH($B$1&ROW($A140),TABPREBB!$AH$10:$AH$281,0),COLUMN()),\"\")","v":""},{"$f":"IFERROR(INDEX(TABPREBB!$A$10:$AF$281,MATCH($B$1&ROW($A140),TABPREBB!$AH$10:$AH$281,0),COLUMN()),\"\")","v":""},{"$f":"IFERROR(INDEX(TABPREBB!$A$10:$AF$281,MATCH($B$1&ROW($A140),TABPREBB!$AH$10:$AH$281,0),COLUMN()),\"\")","v":""},{"$f":"IFERROR(INDEX(TABPREBB!$A$10:$AF$281,MATCH($B$1&ROW($A140),TABPREBB!$AH$10:$AH$281,0),COLUMN()),\"\")","v":""},{"$f":"IFERROR(INDEX(TABPREBB!$A$10:$AF$281,MATCH($B$1&ROW($A140),TABPREBB!$AH$10:$AH$281,0),COLUMN()),\"\")","v":""},{"$f":"IFERROR(INDEX(TABPREBB!$A$10:$AF$281,MATCH($B$1&ROW($A140),TABPREBB!$AH$10:$AH$281,0),COLUMN()),\"\")","v":""},{"$f":"IFERROR(INDEX(TABPREBB!$A$10:$AF$281,MATCH($B$1&ROW($A140),TABPREBB!$AH$10:$AH$281,0),COLUMN()),\"\")","v":""},{"$f":"IFERROR(INDEX(TABPREBB!$A$10:$AF$281,MATCH($B$1&ROW($A140),TABPREBB!$AH$10:$AH$281,0),COLUMN()),\"\")","v":""},{"$f":"IFERROR(INDEX(TABPREBB!$A$10:$AF$281,MATCH($B$1&ROW($A140),TABPREBB!$AH$10:$AH$281,0),COLUMN()),\"\")","v":""},{"$f":"IFERROR(INDEX(TABPREBB!$A$10:$AF$281,MATCH($B$1&ROW($A140),TABPREBB!$AH$10:$AH$281,0),COLUMN()),\"\")","v":""},{"$f":"IFERROR(INDEX(TABPREBB!$A$10:$AF$281,MATCH($B$1&ROW($A140),TABPREBB!$AH$10:$AH$281,0),COLUMN()),\"\")","v":""},{"$f":"IFERROR(INDEX(TABPREBB!$A$10:$AF$281,MATCH($B$1&ROW($A140),TABPREBB!$AH$10:$AH$281,0),COLUMN()),\"\")","v":""},{"$f":"IFERROR(INDEX(TABPREBB!$A$10:$AF$281,MATCH($B$1&ROW($A140),TABPREBB!$AH$10:$AH$281,0),COLUMN()),\"\")","v":""},{"$f":"IFERROR(INDEX(TABPREBB!$A$10:$AF$281,MATCH($B$1&ROW($A140),TABPREBB!$AH$10:$AH$281,0),COLUMN()),\"\")","v":""},{"$f":"IFERROR(INDEX(TABPREBB!$A$10:$AF$281,MATCH($B$1&ROW($A140),TABPREBB!$AH$10:$AH$281,0),COLUMN()),\"\")","v":""},{"$f":"IFERROR(INDEX(TABPREBB!$A$10:$AF$281,MATCH($B$1&ROW($A140),TABPREBB!$AH$10:$AH$281,0),COLUMN()),\"\")","v":""},{"$f":"IFERROR(INDEX(TABPREBB!$A$10:$AF$281,MATCH($B$1&ROW($A140),TABPREBB!$AH$10:$AH$281,0),COLUMN()),\"\")","v":""},{"$f":"IFERROR(INDEX(TABPREBB!$A$10:$AF$281,MATCH($B$1&ROW($A140),TABPREBB!$AH$10:$AH$281,0),COLUMN()),\"\")","v":""},{"$f":"IFERROR(INDEX(TABPREBB!$A$10:$AF$281,MATCH($B$1&ROW($A140),TABPREBB!$AH$10:$AH$281,0),COLUMN()),\"\")","v":""},{"$f":"IFERROR(INDEX(TABPREBB!$A$10:$AF$281,MATCH($B$1&ROW($A140),TABPREBB!$AH$10:$AH$281,0),COLUMN()),\"\")","v":""},{"$f":"IFERROR(INDEX(TABPREBB!$A$10:$AF$281,MATCH($B$1&ROW($A140),TABPREBB!$AH$10:$AH$281,0),COLUMN()),\"\")","v":""},{"$f":"IFERROR(INDEX(TABPREBB!$A$10:$AF$281,MATCH($B$1&ROW($A140),TABPREBB!$AH$10:$AH$281,0),COLUMN()),\"\")","v":""},{"$f":"IFERROR(INDEX(TABPREBB!$A$10:$AF$281,MATCH($B$1&ROW($A140),TABPREBB!$AH$10:$AH$281,0),COLUMN()),\"\")","v":""},{"$f":"IFERROR(INDEX(TABPREBB!$A$10:$AF$281,MATCH($B$1&ROW($A140),TABPREBB!$AH$10:$AH$281,0),COLUMN()),\"\")","v":""},{"$f":"IFERROR(INDEX(TABPREBB!$A$10:$AF$281,MATCH($B$1&ROW($A140),TABPREBB!$AH$10:$AH$281,0),COLUMN()),\"\")","v":""}]
[{"$f":"IFERROR(INDEX(TABPREBB!$A$10:$AF$281,MATCH($B$1&ROW($A141),TABPREBB!$AH$10:$AH$281,0),COLUMN()),\"\")","v":""},{"$f":"IFERROR(INDEX(TABPREBB!$A$10:$AF$281,MATCH($B$1&ROW($A141),TABPREBB!$AH$10:$AH$281,0),COLUMN()),\"\")","v":""},{"$f":"IFERROR(INDEX(TABPREBB!$A$10:$AF$281,MATCH($B$1&ROW($A141),TABPREBB!$AH$10:$AH$281,0),COLUMN()),\"\")","v":""},{"$f":"IFERROR(INDEX(TABPREBB!$A$10:$AF$281,MATCH($B$1&ROW($A141),TABPREBB!$AH$10:$AH$281,0),COLUMN()),\"\")","v":""},{"$f":"IFERROR(INDEX(TABPREBB!$A$10:$AF$281,MATCH($B$1&ROW($A141),TABPREBB!$AH$10:$AH$281,0),COLUMN()),\"\")","v":""},{"$f":"IFERROR(INDEX(TABPREBB!$A$10:$AF$281,MATCH($B$1&ROW($A141),TABPREBB!$AH$10:$AH$281,0),COLUMN()),\"\")","v":""},{"$f":"IFERROR(INDEX(TABPREBB!$A$10:$AF$281,MATCH($B$1&ROW($A141),TABPREBB!$AH$10:$AH$281,0),COLUMN()),\"\")","v":""},{"$f":"IFERROR(INDEX(TABPREBB!$A$10:$AF$281,MATCH($B$1&ROW($A141),TABPREBB!$AH$10:$AH$281,0),COLUMN()),\"\")","v":""},{"$f":"IFERROR(INDEX(TABPREBB!$A$10:$AF$281,MATCH($B$1&ROW($A141),TABPREBB!$AH$10:$AH$281,0),COLUMN()),\"\")","v":""},{"$f":"IFERROR(INDEX(TABPREBB!$A$10:$AF$281,MATCH($B$1&ROW($A141),TABPREBB!$AH$10:$AH$281,0),COLUMN()),\"\")","v":""},{"$f":"IFERROR(INDEX(TABPREBB!$A$10:$AF$281,MATCH($B$1&ROW($A141),TABPREBB!$AH$10:$AH$281,0),COLUMN()),\"\")","v":""},{"$f":"IFERROR(INDEX(TABPREBB!$A$10:$AF$281,MATCH($B$1&ROW($A141),TABPREBB!$AH$10:$AH$281,0),COLUMN()),\"\")","v":""},{"$f":"IFERROR(INDEX(TABPREBB!$A$10:$AF$281,MATCH($B$1&ROW($A141),TABPREBB!$AH$10:$AH$281,0),COLUMN()),\"\")","v":""},{"$f":"IFERROR(INDEX(TABPREBB!$A$10:$AF$281,MATCH($B$1&ROW($A141),TABPREBB!$AH$10:$AH$281,0),COLUMN()),\"\")","v":""},{"$f":"IFERROR(INDEX(TABPREBB!$A$10:$AF$281,MATCH($B$1&ROW($A141),TABPREBB!$AH$10:$AH$281,0),COLUMN()),\"\")","v":""},{"$f":"IFERROR(INDEX(TABPREBB!$A$10:$AF$281,MATCH($B$1&ROW($A141),TABPREBB!$AH$10:$AH$281,0),COLUMN()),\"\")","v":""},{"$f":"IFERROR(INDEX(TABPREBB!$A$10:$AF$281,MATCH($B$1&ROW($A141),TABPREBB!$AH$10:$AH$281,0),COLUMN()),\"\")","v":""},{"$f":"IFERROR(INDEX(TABPREBB!$A$10:$AF$281,MATCH($B$1&ROW($A141),TABPREBB!$AH$10:$AH$281,0),COLUMN()),\"\")","v":""},{"$f":"IFERROR(INDEX(TABPREBB!$A$10:$AF$281,MATCH($B$1&ROW($A141),TABPREBB!$AH$10:$AH$281,0),COLUMN()),\"\")","v":""},{"$f":"IFERROR(INDEX(TABPREBB!$A$10:$AF$281,MATCH($B$1&ROW($A141),TABPREBB!$AH$10:$AH$281,0),COLUMN()),\"\")","v":""},{"$f":"IFERROR(INDEX(TABPREBB!$A$10:$AF$281,MATCH($B$1&ROW($A141),TABPREBB!$AH$10:$AH$281,0),COLUMN()),\"\")","v":""},{"$f":"IFERROR(INDEX(TABPREBB!$A$10:$AF$281,MATCH($B$1&ROW($A141),TABPREBB!$AH$10:$AH$281,0),COLUMN()),\"\")","v":""},{"$f":"IFERROR(INDEX(TABPREBB!$A$10:$AF$281,MATCH($B$1&ROW($A141),TABPREBB!$AH$10:$AH$281,0),COLUMN()),\"\")","v":""},{"$f":"IFERROR(INDEX(TABPREBB!$A$10:$AF$281,MATCH($B$1&ROW($A141),TABPREBB!$AH$10:$AH$281,0),COLUMN()),\"\")","v":""},{"$f":"IFERROR(INDEX(TABPREBB!$A$10:$AF$281,MATCH($B$1&ROW($A141),TABPREBB!$AH$10:$AH$281,0),COLUMN()),\"\")","v":""},{"$f":"IFERROR(INDEX(TABPREBB!$A$10:$AF$281,MATCH($B$1&ROW($A141),TABPREBB!$AH$10:$AH$281,0),COLUMN()),\"\")","v":""},{"$f":"IFERROR(INDEX(TABPREBB!$A$10:$AF$281,MATCH($B$1&ROW($A141),TABPREBB!$AH$10:$AH$281,0),COLUMN()),\"\")","v":""},{"$f":"IFERROR(INDEX(TABPREBB!$A$10:$AF$281,MATCH($B$1&ROW($A141),TABPREBB!$AH$10:$AH$281,0),COLUMN()),\"\")","v":""},{"$f":"IFERROR(INDEX(TABPREBB!$A$10:$AF$281,MATCH($B$1&ROW($A141),TABPREBB!$AH$10:$AH$281,0),COLUMN()),\"\")","v":""},{"$f":"IFERROR(INDEX(TABPREBB!$A$10:$AF$281,MATCH($B$1&ROW($A141),TABPREBB!$AH$10:$AH$281,0),COLUMN()),\"\")","v":""},{"$f":"IFERROR(INDEX(TABPREBB!$A$10:$AF$281,MATCH($B$1&ROW($A141),TABPREBB!$AH$10:$AH$281,0),COLUMN()),\"\")","v":""},{"$f":"IFERROR(INDEX(TABPREBB!$A$10:$AF$281,MATCH($B$1&ROW($A141),TABPREBB!$AH$10:$AH$281,0),COLUMN()),\"\")","v":""}]
[{"$f":"IFERROR(INDEX(TABPREBB!$A$10:$AF$281,MATCH($B$1&ROW($A142),TABPREBB!$AH$10:$AH$281,0),COLUMN()),\"\")","v":""},{"$f":"IFERROR(INDEX(TABPREBB!$A$10:$AF$281,MATCH($B$1&ROW($A142),TABPREBB!$AH$10:$AH$281,0),COLUMN()),\"\")","v":""},{"$f":"IFERROR(INDEX(TABPREBB!$A$10:$AF$281,MATCH($B$1&ROW($A142),TABPREBB!$AH$10:$AH$281,0),COLUMN()),\"\")","v":""},{"$f":"IFERROR(INDEX(TABPREBB!$A$10:$AF$281,MATCH($B$1&ROW($A142),TABPREBB!$AH$10:$AH$281,0),COLUMN()),\"\")","v":""},{"$f":"IFERROR(INDEX(TABPREBB!$A$10:$AF$281,MATCH($B$1&ROW($A142),TABPREBB!$AH$10:$AH$281,0),COLUMN()),\"\")","v":""},{"$f":"IFERROR(INDEX(TABPREBB!$A$10:$AF$281,MATCH($B$1&ROW($A142),TABPREBB!$AH$10:$AH$281,0),COLUMN()),\"\")","v":""},{"$f":"IFERROR(INDEX(TABPREBB!$A$10:$AF$281,MATCH($B$1&ROW($A142),TABPREBB!$AH$10:$AH$281,0),COLUMN()),\"\")","v":""},{"$f":"IFERROR(INDEX(TABPREBB!$A$10:$AF$281,MATCH($B$1&ROW($A142),TABPREBB!$AH$10:$AH$281,0),COLUMN()),\"\")","v":""},{"$f":"IFERROR(INDEX(TABPREBB!$A$10:$AF$281,MATCH($B$1&ROW($A142),TABPREBB!$AH$10:$AH$281,0),COLUMN()),\"\")","v":""},{"$f":"IFERROR(INDEX(TABPREBB!$A$10:$AF$281,MATCH($B$1&ROW($A142),TABPREBB!$AH$10:$AH$281,0),COLUMN()),\"\")","v":""},{"$f":"IFERROR(INDEX(TABPREBB!$A$10:$AF$281,MATCH($B$1&ROW($A142),TABPREBB!$AH$10:$AH$281,0),COLUMN()),\"\")","v":""},{"$f":"IFERROR(INDEX(TABPREBB!$A$10:$AF$281,MATCH($B$1&ROW($A142),TABPREBB!$AH$10:$AH$281,0),COLUMN()),\"\")","v":""},{"$f":"IFERROR(INDEX(TABPREBB!$A$10:$AF$281,MATCH($B$1&ROW($A142),TABPREBB!$AH$10:$AH$281,0),COLUMN()),\"\")","v":""},{"$f":"IFERROR(INDEX(TABPREBB!$A$10:$AF$281,MATCH($B$1&ROW($A142),TABPREBB!$AH$10:$AH$281,0),COLUMN()),\"\")","v":""},{"$f":"IFERROR(INDEX(TABPREBB!$A$10:$AF$281,MATCH($B$1&ROW($A142),TABPREBB!$AH$10:$AH$281,0),COLUMN()),\"\")","v":""},{"$f":"IFERROR(INDEX(TABPREBB!$A$10:$AF$281,MATCH($B$1&ROW($A142),TABPREBB!$AH$10:$AH$281,0),COLUMN()),\"\")","v":""},{"$f":"IFERROR(INDEX(TABPREBB!$A$10:$AF$281,MATCH($B$1&ROW($A142),TABPREBB!$AH$10:$AH$281,0),COLUMN()),\"\")","v":""},{"$f":"IFERROR(INDEX(TABPREBB!$A$10:$AF$281,MATCH($B$1&ROW($A142),TABPREBB!$AH$10:$AH$281,0),COLUMN()),\"\")","v":""},{"$f":"IFERROR(INDEX(TABPREBB!$A$10:$AF$281,MATCH($B$1&ROW($A142),TABPREBB!$AH$10:$AH$281,0),COLUMN()),\"\")","v":""},{"$f":"IFERROR(INDEX(TABPREBB!$A$10:$AF$281,MATCH($B$1&ROW($A142),TABPREBB!$AH$10:$AH$281,0),COLUMN()),\"\")","v":""},{"$f":"IFERROR(INDEX(TABPREBB!$A$10:$AF$281,MATCH($B$1&ROW($A142),TABPREBB!$AH$10:$AH$281,0),COLUMN()),\"\")","v":""},{"$f":"IFERROR(INDEX(TABPREBB!$A$10:$AF$281,MATCH($B$1&ROW($A142),TABPREBB!$AH$10:$AH$281,0),COLUMN()),\"\")","v":""},{"$f":"IFERROR(INDEX(TABPREBB!$A$10:$AF$281,MATCH($B$1&ROW($A142),TABPREBB!$AH$10:$AH$281,0),COLUMN()),\"\")","v":""},{"$f":"IFERROR(INDEX(TABPREBB!$A$10:$AF$281,MATCH($B$1&ROW($A142),TABPREBB!$AH$10:$AH$281,0),COLUMN()),\"\")","v":""},{"$f":"IFERROR(INDEX(TABPREBB!$A$10:$AF$281,MATCH($B$1&ROW($A142),TABPREBB!$AH$10:$AH$281,0),COLUMN()),\"\")","v":""},{"$f":"IFERROR(INDEX(TABPREBB!$A$10:$AF$281,MATCH($B$1&ROW($A142),TABPREBB!$AH$10:$AH$281,0),COLUMN()),\"\")","v":""},{"$f":"IFERROR(INDEX(TABPREBB!$A$10:$AF$281,MATCH($B$1&ROW($A142),TABPREBB!$AH$10:$AH$281,0),COLUMN()),\"\")","v":""},{"$f":"IFERROR(INDEX(TABPREBB!$A$10:$AF$281,MATCH($B$1&ROW($A142),TABPREBB!$AH$10:$AH$281,0),COLUMN()),\"\")","v":""},{"$f":"IFERROR(INDEX(TABPREBB!$A$10:$AF$281,MATCH($B$1&ROW($A142),TABPREBB!$AH$10:$AH$281,0),COLUMN()),\"\")","v":""},{"$f":"IFERROR(INDEX(TABPREBB!$A$10:$AF$281,MATCH($B$1&ROW($A142),TABPREBB!$AH$10:$AH$281,0),COLUMN()),\"\")","v":""},{"$f":"IFERROR(INDEX(TABPREBB!$A$10:$AF$281,MATCH($B$1&ROW($A142),TABPREBB!$AH$10:$AH$281,0),COLUMN()),\"\")","v":""},{"$f":"IFERROR(INDEX(TABPREBB!$A$10:$AF$281,MATCH($B$1&ROW($A142),TABPREBB!$AH$10:$AH$281,0),COLUMN()),\"\")","v":""}]
[{"$f":"IFERROR(INDEX(TABPREBB!$A$10:$AF$281,MATCH($B$1&ROW($A143),TABPREBB!$AH$10:$AH$281,0),COLUMN()),\"\")","v":""},{"$f":"IFERROR(INDEX(TABPREBB!$A$10:$AF$281,MATCH($B$1&ROW($A143),TABPREBB!$AH$10:$AH$281,0),COLUMN()),\"\")","v":""},{"$f":"IFERROR(INDEX(TABPREBB!$A$10:$AF$281,MATCH($B$1&ROW($A143),TABPREBB!$AH$10:$AH$281,0),COLUMN()),\"\")","v":""},{"$f":"IFERROR(INDEX(TABPREBB!$A$10:$AF$281,MATCH($B$1&ROW($A143),TABPREBB!$AH$10:$AH$281,0),COLUMN()),\"\")","v":""},{"$f":"IFERROR(INDEX(TABPREBB!$A$10:$AF$281,MATCH($B$1&ROW($A143),TABPREBB!$AH$10:$AH$281,0),COLUMN()),\"\")","v":""},{"$f":"IFERROR(INDEX(TABPREBB!$A$10:$AF$281,MATCH($B$1&ROW($A143),TABPREBB!$AH$10:$AH$281,0),COLUMN()),\"\")","v":""},{"$f":"IFERROR(INDEX(TABPREBB!$A$10:$AF$281,MATCH($B$1&ROW($A143),TABPREBB!$AH$10:$AH$281,0),COLUMN()),\"\")","v":""},{"$f":"IFERROR(INDEX(TABPREBB!$A$10:$AF$281,MATCH($B$1&ROW($A143),TABPREBB!$AH$10:$AH$281,0),COLUMN()),\"\")","v":""},{"$f":"IFERROR(INDEX(TABPREBB!$A$10:$AF$281,MATCH($B$1&ROW($A143),TABPREBB!$AH$10:$AH$281,0),COLUMN()),\"\")","v":""},{"$f":"IFERROR(INDEX(TABPREBB!$A$10:$AF$281,MATCH($B$1&ROW($A143),TABPREBB!$AH$10:$AH$281,0),COLUMN()),\"\")","v":""},{"$f":"IFERROR(INDEX(TABPREBB!$A$10:$AF$281,MATCH($B$1&ROW($A143),TABPREBB!$AH$10:$AH$281,0),COLUMN()),\"\")","v":""},{"$f":"IFERROR(INDEX(TABPREBB!$A$10:$AF$281,MATCH($B$1&ROW($A143),TABPREBB!$AH$10:$AH$281,0),COLUMN()),\"\")","v":""},{"$f":"IFERROR(INDEX(TABPREBB!$A$10:$AF$281,MATCH($B$1&ROW($A143),TABPREBB!$AH$10:$AH$281,0),COLUMN()),\"\")","v":""},{"$f":"IFERROR(INDEX(TABPREBB!$A$10:$AF$281,MATCH($B$1&ROW($A143),TABPREBB!$AH$10:$AH$281,0),COLUMN()),\"\")","v":""},{"$f":"IFERROR(INDEX(TABPREBB!$A$10:$AF$281,MATCH($B$1&ROW($A143),TABPREBB!$AH$10:$AH$281,0),COLUMN()),\"\")","v":""},{"$f":"IFERROR(INDEX(TABPREBB!$A$10:$AF$281,MATCH($B$1&ROW($A143),TABPREBB!$AH$10:$AH$281,0),COLUMN()),\"\")","v":""},{"$f":"IFERROR(INDEX(TABPREBB!$A$10:$AF$281,MATCH($B$1&ROW($A143),TABPREBB!$AH$10:$AH$281,0),COLUMN()),\"\")","v":""},{"$f":"IFERROR(INDEX(TABPREBB!$A$10:$AF$281,MATCH($B$1&ROW($A143),TABPREBB!$AH$10:$AH$281,0),COLUMN()),\"\")","v":""},{"$f":"IFERROR(INDEX(TABPREBB!$A$10:$AF$281,MATCH($B$1&ROW($A143),TABPREBB!$AH$10:$AH$281,0),COLUMN()),\"\")","v":""},{"$f":"IFERROR(INDEX(TABPREBB!$A$10:$AF$281,MATCH($B$1&ROW($A143),TABPREBB!$AH$10:$AH$281,0),COLUMN()),\"\")","v":""},{"$f":"IFERROR(INDEX(TABPREBB!$A$10:$AF$281,MATCH($B$1&ROW($A143),TABPREBB!$AH$10:$AH$281,0),COLUMN()),\"\")","v":""},{"$f":"IFERROR(INDEX(TABPREBB!$A$10:$AF$281,MATCH($B$1&ROW($A143),TABPREBB!$AH$10:$AH$281,0),COLUMN()),\"\")","v":""},{"$f":"IFERROR(INDEX(TABPREBB!$A$10:$AF$281,MATCH($B$1&ROW($A143),TABPREBB!$AH$10:$AH$281,0),COLUMN()),\"\")","v":""},{"$f":"IFERROR(INDEX(TABPREBB!$A$10:$AF$281,MATCH($B$1&ROW($A143),TABPREBB!$AH$10:$AH$281,0),COLUMN()),\"\")","v":""},{"$f":"IFERROR(INDEX(TABPREBB!$A$10:$AF$281,MATCH($B$1&ROW($A143),TABPREBB!$AH$10:$AH$281,0),COLUMN()),\"\")","v":""},{"$f":"IFERROR(INDEX(TABPREBB!$A$10:$AF$281,MATCH($B$1&ROW($A143),TABPREBB!$AH$10:$AH$281,0),COLUMN()),\"\")","v":""},{"$f":"IFERROR(INDEX(TABPREBB!$A$10:$AF$281,MATCH($B$1&ROW($A143),TABPREBB!$AH$10:$AH$281,0),COLUMN()),\"\")","v":""},{"$f":"IFERROR(INDEX(TABPREBB!$A$10:$AF$281,MATCH($B$1&ROW($A143),TABPREBB!$AH$10:$AH$281,0),COLUMN()),\"\")","v":""},{"$f":"IFERROR(INDEX(TABPREBB!$A$10:$AF$281,MATCH($B$1&ROW($A143),TABPREBB!$AH$10:$AH$281,0),COLUMN()),\"\")","v":""},{"$f":"IFERROR(INDEX(TABPREBB!$A$10:$AF$281,MATCH($B$1&ROW($A143),TABPREBB!$AH$10:$AH$281,0),COLUMN()),\"\")","v":""},{"$f":"IFERROR(INDEX(TABPREBB!$A$10:$AF$281,MATCH($B$1&ROW($A143),TABPREBB!$AH$10:$AH$281,0),COLUMN()),\"\")","v":""},{"$f":"IFERROR(INDEX(TABPREBB!$A$10:$AF$281,MATCH($B$1&ROW($A143),TABPREBB!$AH$10:$AH$281,0),COLUMN()),\"\")","v":""}]
[{"$f":"IFERROR(INDEX(TABPREBB!$A$10:$AF$281,MATCH($B$1&ROW($A144),TABPREBB!$AH$10:$AH$281,0),COLUMN()),\"\")","v":""},{"$f":"IFERROR(INDEX(TABPREBB!$A$10:$AF$281,MATCH($B$1&ROW($A144),TABPREBB!$AH$10:$AH$281,0),COLUMN()),\"\")","v":""},{"$f":"IFERROR(INDEX(TABPREBB!$A$10:$AF$281,MATCH($B$1&ROW($A144),TABPREBB!$AH$10:$AH$281,0),COLUMN()),\"\")","v":""},{"$f":"IFERROR(INDEX(TABPREBB!$A$10:$AF$281,MATCH($B$1&ROW($A144),TABPREBB!$AH$10:$AH$281,0),COLUMN()),\"\")","v":""},{"$f":"IFERROR(INDEX(TABPREBB!$A$10:$AF$281,MATCH($B$1&ROW($A144),TABPREBB!$AH$10:$AH$281,0),COLUMN()),\"\")","v":""},{"$f":"IFERROR(INDEX(TABPREBB!$A$10:$AF$281,MATCH($B$1&ROW($A144),TABPREBB!$AH$10:$AH$281,0),COLUMN()),\"\")","v":""},{"$f":"IFERROR(INDEX(TABPREBB!$A$10:$AF$281,MATCH($B$1&ROW($A144),TABPREBB!$AH$10:$AH$281,0),COLUMN()),\"\")","v":""},{"$f":"IFERROR(INDEX(TABPREBB!$A$10:$AF$281,MATCH($B$1&ROW($A144),TABPREBB!$AH$10:$AH$281,0),COLUMN()),\"\")","v":""},{"$f":"IFERROR(INDEX(TABPREBB!$A$10:$AF$281,MATCH($B$1&ROW($A144),TABPREBB!$AH$10:$AH$281,0),COLUMN()),\"\")","v":""},{"$f":"IFERROR(INDEX(TABPREBB!$A$10:$AF$281,MATCH($B$1&ROW($A144),TABPREBB!$AH$10:$AH$281,0),COLUMN()),\"\")","v":""},{"$f":"IFERROR(INDEX(TABPREBB!$A$10:$AF$281,MATCH($B$1&ROW($A144),TABPREBB!$AH$10:$AH$281,0),COLUMN()),\"\")","v":""},{"$f":"IFERROR(INDEX(TABPREBB!$A$10:$AF$281,MATCH($B$1&ROW($A144),TABPREBB!$AH$10:$AH$281,0),COLUMN()),\"\")","v":""},{"$f":"IFERROR(INDEX(TABPREBB!$A$10:$AF$281,MATCH($B$1&ROW($A144),TABPREBB!$AH$10:$AH$281,0),COLUMN()),\"\")","v":""},{"$f":"IFERROR(INDEX(TABPREBB!$A$10:$AF$281,MATCH($B$1&ROW($A144),TABPREBB!$AH$10:$AH$281,0),COLUMN()),\"\")","v":""},{"$f":"IFERROR(INDEX(TABPREBB!$A$10:$AF$281,MATCH($B$1&ROW($A144),TABPREBB!$AH$10:$AH$281,0),COLUMN()),\"\")","v":""},{"$f":"IFERROR(INDEX(TABPREBB!$A$10:$AF$281,MATCH($B$1&ROW($A144),TABPREBB!$AH$10:$AH$281,0),COLUMN()),\"\")","v":""},{"$f":"IFERROR(INDEX(TABPREBB!$A$10:$AF$281,MATCH($B$1&ROW($A144),TABPREBB!$AH$10:$AH$281,0),COLUMN()),\"\")","v":""},{"$f":"IFERROR(INDEX(TABPREBB!$A$10:$AF$281,MATCH($B$1&ROW($A144),TABPREBB!$AH$10:$AH$281,0),COLUMN()),\"\")","v":""},{"$f":"IFERROR(INDEX(TABPREBB!$A$10:$AF$281,MATCH($B$1&ROW($A144),TABPREBB!$AH$10:$AH$281,0),COLUMN()),\"\")","v":""},{"$f":"IFERROR(INDEX(TABPREBB!$A$10:$AF$281,MATCH($B$1&ROW($A144),TABPREBB!$AH$10:$AH$281,0),COLUMN()),\"\")","v":""},{"$f":"IFERROR(INDEX(TABPREBB!$A$10:$AF$281,MATCH($B$1&ROW($A144),TABPREBB!$AH$10:$AH$281,0),COLUMN()),\"\")","v":""},{"$f":"IFERROR(INDEX(TABPREBB!$A$10:$AF$281,MATCH($B$1&ROW($A144),TABPREBB!$AH$10:$AH$281,0),COLUMN()),\"\")","v":""},{"$f":"IFERROR(INDEX(TABPREBB!$A$10:$AF$281,MATCH($B$1&ROW($A144),TABPREBB!$AH$10:$AH$281,0),COLUMN()),\"\")","v":""},{"$f":"IFERROR(INDEX(TABPREBB!$A$10:$AF$281,MATCH($B$1&ROW($A144),TABPREBB!$AH$10:$AH$281,0),COLUMN()),\"\")","v":""},{"$f":"IFERROR(INDEX(TABPREBB!$A$10:$AF$281,MATCH($B$1&ROW($A144),TABPREBB!$AH$10:$AH$281,0),COLUMN()),\"\")","v":""},{"$f":"IFERROR(INDEX(TABPREBB!$A$10:$AF$281,MATCH($B$1&ROW($A144),TABPREBB!$AH$10:$AH$281,0),COLUMN()),\"\")","v":""},{"$f":"IFERROR(INDEX(TABPREBB!$A$10:$AF$281,MATCH($B$1&ROW($A144),TABPREBB!$AH$10:$AH$281,0),COLUMN()),\"\")","v":""},{"$f":"IFERROR(INDEX(TABPREBB!$A$10:$AF$281,MATCH($B$1&ROW($A144),TABPREBB!$AH$10:$AH$281,0),COLUMN()),\"\")","v":""},{"$f":"IFERROR(INDEX(TABPREBB!$A$10:$AF$281,MATCH($B$1&ROW($A144),TABPREBB!$AH$10:$AH$281,0),COLUMN()),\"\")","v":""},{"$f":"IFERROR(INDEX(TABPREBB!$A$10:$AF$281,MATCH($B$1&ROW($A144),TABPREBB!$AH$10:$AH$281,0),COLUMN()),\"\")","v":""},{"$f":"IFERROR(INDEX(TABPREBB!$A$10:$AF$281,MATCH($B$1&ROW($A144),TABPREBB!$AH$10:$AH$281,0),COLUMN()),\"\")","v":""},{"$f":"IFERROR(INDEX(TABPREBB!$A$10:$AF$281,MATCH($B$1&ROW($A144),TABPREBB!$AH$10:$AH$281,0),COLUMN()),\"\")","v":""}]
[{"$f":"IFERROR(INDEX(TABPREBB!$A$10:$AF$281,MATCH($B$1&ROW($A145),TABPREBB!$AH$10:$AH$281,0),COLUMN()),\"\")","v":""},{"$f":"IFERROR(INDEX(TABPREBB!$A$10:$AF$281,MATCH($B$1&ROW($A145),TABPREBB!$AH$10:$AH$281,0),COLUMN()),\"\")","v":""},{"$f":"IFERROR(INDEX(TABPREBB!$A$10:$AF$281,MATCH($B$1&ROW($A145),TABPREBB!$AH$10:$AH$281,0),COLUMN()),\"\")","v":""},{"$f":"IFERROR(INDEX(TABPREBB!$A$10:$AF$281,MATCH($B$1&ROW($A145),TABPREBB!$AH$10:$AH$281,0),COLUMN()),\"\")","v":""},{"$f":"IFERROR(INDEX(TABPREBB!$A$10:$AF$281,MATCH($B$1&ROW($A145),TABPREBB!$AH$10:$AH$281,0),COLUMN()),\"\")","v":""},{"$f":"IFERROR(INDEX(TABPREBB!$A$10:$AF$281,MATCH($B$1&ROW($A145),TABPREBB!$AH$10:$AH$281,0),COLUMN()),\"\")","v":""},{"$f":"IFERROR(INDEX(TABPREBB!$A$10:$AF$281,MATCH($B$1&ROW($A145),TABPREBB!$AH$10:$AH$281,0),COLUMN()),\"\")","v":""},{"$f":"IFERROR(INDEX(TABPREBB!$A$10:$AF$281,MATCH($B$1&ROW($A145),TABPREBB!$AH$10:$AH$281,0),COLUMN()),\"\")","v":""},{"$f":"IFERROR(INDEX(TABPREBB!$A$10:$AF$281,MATCH($B$1&ROW($A145),TABPREBB!$AH$10:$AH$281,0),COLUMN()),\"\")","v":""},{"$f":"IFERROR(INDEX(TABPREBB!$A$10:$AF$281,MATCH($B$1&ROW($A145),TABPREBB!$AH$10:$AH$281,0),COLUMN()),\"\")","v":""},{"$f":"IFERROR(INDEX(TABPREBB!$A$10:$AF$281,MATCH($B$1&ROW($A145),TABPREBB!$AH$10:$AH$281,0),COLUMN()),\"\")","v":""},{"$f":"IFERROR(INDEX(TABPREBB!$A$10:$AF$281,MATCH($B$1&ROW($A145),TABPREBB!$AH$10:$AH$281,0),COLUMN()),\"\")","v":""},{"$f":"IFERROR(INDEX(TABPREBB!$A$10:$AF$281,MATCH($B$1&ROW($A145),TABPREBB!$AH$10:$AH$281,0),COLUMN()),\"\")","v":""},{"$f":"IFERROR(INDEX(TABPREBB!$A$10:$AF$281,MATCH($B$1&ROW($A145),TABPREBB!$AH$10:$AH$281,0),COLUMN()),\"\")","v":""},{"$f":"IFERROR(INDEX(TABPREBB!$A$10:$AF$281,MATCH($B$1&ROW($A145),TABPREBB!$AH$10:$AH$281,0),COLUMN()),\"\")","v":""},{"$f":"IFERROR(INDEX(TABPREBB!$A$10:$AF$281,MATCH($B$1&ROW($A145),TABPREBB!$AH$10:$AH$281,0),COLUMN()),\"\")","v":""},{"$f":"IFERROR(INDEX(TABPREBB!$A$10:$AF$281,MATCH($B$1&ROW($A145),TABPREBB!$AH$10:$AH$281,0),COLUMN()),\"\")","v":""},{"$f":"IFERROR(INDEX(TABPREBB!$A$10:$AF$281,MATCH($B$1&ROW($A145),TABPREBB!$AH$10:$AH$281,0),COLUMN()),\"\")","v":""},{"$f":"IFERROR(INDEX(TABPREBB!$A$10:$AF$281,MATCH($B$1&ROW($A145),TABPREBB!$AH$10:$AH$281,0),COLUMN()),\"\")","v":""},{"$f":"IFERROR(INDEX(TABPREBB!$A$10:$AF$281,MATCH($B$1&ROW($A145),TABPREBB!$AH$10:$AH$281,0),COLUMN()),\"\")","v":""},{"$f":"IFERROR(INDEX(TABPREBB!$A$10:$AF$281,MATCH($B$1&ROW($A145),TABPREBB!$AH$10:$AH$281,0),COLUMN()),\"\")","v":""},{"$f":"IFERROR(INDEX(TABPREBB!$A$10:$AF$281,MATCH($B$1&ROW($A145),TABPREBB!$AH$10:$AH$281,0),COLUMN()),\"\")","v":""},{"$f":"IFERROR(INDEX(TABPREBB!$A$10:$AF$281,MATCH($B$1&ROW($A145),TABPREBB!$AH$10:$AH$281,0),COLUMN()),\"\")","v":""},{"$f":"IFERROR(INDEX(TABPREBB!$A$10:$AF$281,MATCH($B$1&ROW($A145),TABPREBB!$AH$10:$AH$281,0),COLUMN()),\"\")","v":""},{"$f":"IFERROR(INDEX(TABPREBB!$A$10:$AF$281,MATCH($B$1&ROW($A145),TABPREBB!$AH$10:$AH$281,0),COLUMN()),\"\")","v":""},{"$f":"IFERROR(INDEX(TABPREBB!$A$10:$AF$281,MATCH($B$1&ROW($A145),TABPREBB!$AH$10:$AH$281,0),COLUMN()),\"\")","v":""},{"$f":"IFERROR(INDEX(TABPREBB!$A$10:$AF$281,MATCH($B$1&ROW($A145),TABPREBB!$AH$10:$AH$281,0),COLUMN()),\"\")","v":""},{"$f":"IFERROR(INDEX(TABPREBB!$A$10:$AF$281,MATCH($B$1&ROW($A145),TABPREBB!$AH$10:$AH$281,0),COLUMN()),\"\")","v":""},{"$f":"IFERROR(INDEX(TABPREBB!$A$10:$AF$281,MATCH($B$1&ROW($A145),TABPREBB!$AH$10:$AH$281,0),COLUMN()),\"\")","v":""},{"$f":"IFERROR(INDEX(TABPREBB!$A$10:$AF$281,MATCH($B$1&ROW($A145),TABPREBB!$AH$10:$AH$281,0),COLUMN()),\"\")","v":""},{"$f":"IFERROR(INDEX(TABPREBB!$A$10:$AF$281,MATCH($B$1&ROW($A145),TABPREBB!$AH$10:$AH$281,0),COLUMN()),\"\")","v":""},{"$f":"IFERROR(INDEX(TABPREBB!$A$10:$AF$281,MATCH($B$1&ROW($A145),TABPREBB!$AH$10:$AH$281,0),COLUMN()),\"\")","v":""}]

{"sheet":"Feuil5","index":6,"n_rows":0,"n_cols":0,"rows_kept":0,"cut":false,"hidden":false,"merged":[]}

{"sheet":"Feuil6","index":7,"n_rows":0,"n_cols":0,"rows_kept":0,"cut":false,"hidden":false,"merged":[]}

{"sheet":"Feuil1","index":8,"n_rows":0,"n_cols":0,"rows_kept":0,"cut":false,"hidden":false,"merged":[]}