{"text_format":"1","workbook":"xlsx","n_sheets":7,"sheets":["Liste déroulante","Suivi du PA 1","Suivi du PA 2","Suivi du PA 3","Suivi du PA 4","Suivi du PA 5","Données cumulées"],"not_rendered":{"charts":0,"images":0,"macros":1,"external_links":0,"defined_names":18,"comments":2,"pivot_tables":0},"unopened":[],"bounds":{"document_bytes":16777216,"sheet_cells":100000,"rows_first":2000,"rows_last":500,"rows_between":2000,"halvings":0,"cell_chars":16384,"cell_head_chars":4096},"cells_cut":0,"cells_raw":0,"read":"whole","date_system":"1900"}

{"sheet":"Liste déroulante","index":0,"n_rows":21,"n_cols":24,"rows_kept":21,"cut":false,"hidden":false,"merged":[[4,6,4,14],[4,0,4,5],[4,15,4,23]]}
[]
[null,null,null,null,null,{"$f":"TODAY()","v":"2015-10-18"}]
[]
[]
["Présentation",null,null,null,null,null,"Plan d'actions",null,null,null,null,null,null,null,null,"Messure de l'efficacité"]
["Descriptif","Date","N°","Thème","Origine","Analyse des causes","Type d'action","Actions prévues","Responsable","Délai","Moyen","Statut","Date de solde","Respect du délai","Commentaire","Mesure de l'efficacité ?","Résultat Attendu","Délai de la mesure","Responsable de la mesure","Résultat Obtenu","Date de la mesure","Retard?","A faire?","Action efficace?"]
[null,null,null,"QSSE","Evaluation des Risques",null,"Corrective",null,null,null,"Financier","à lancer",null,null,null,null,null,null,"2013-12-31",null,"Oui",null,null,"Oui"]
[null,null,null,"Q","Analyse Environnementale",null,"Préventive",null,null,null,"Humain ","en cours",null,null,null,null,null,null,null,null,"Non",null,null,"Non"]
[null,null,null,"SS","Réglementation",null,"Currative",null,null,null,"Technique","finalisée"]
[null,null,null,"E","Accident",null,"de Progrès",null,null,null,"Financier\nHumain"]
[null,null,null,"SSE","Presqu'accident",null,null,null,null,null,"Financier\nTechnique"]
[null,null,null,"SSQ","Dysfonctionnement",null,null,null,null,null,"Humain\nTechnique"]
[null,null,null,"QE","Réclamation/Plainte",null,null,null,null,null,"Financier\nHumain\nTechnique"]
[null,null,null,null,"Non-Conformité"]
[null,null,null,null,"Fiche Amélioration et/ou Dysfonctionnement"]
[null,null,null,null,"Causerie/Sensibilisation"]
[null,null,null,null,"Exercice en Situation d'Urgence"]
[null,null,null,null,"CHSCT"]
[null,null,null,null,"Audit Interne"]
[null,null,null,null,"Audit de Certification"]
[null,null,null,null,"Audit Flash/VPS"]

{"sheet":"Suivi du PA 1","index":1,"n_rows":398,"n_cols":35,"rows_kept":398,"cut":false,"hidden":false,"merged":[[0,2,0,26],[4,1,4,6],[4,7,4,17],[4,18,4,26]]}
[null,null,"Plan d'actions",null,null,null,null,null,null,null,null,null,null,null,null,null,null,null,null,null,null,null,null,null,null,null,null,9,9]
[null,"Processus"]
[null,null,null,null,null,"Modifié le:",null,null,null,{"$f":"COUNTIF(M7:M79,\"en cours\")+COUNTIF(M7:M79,\"à lancer\")","v":0},"actions non clôturées",null,null,null,null,null,null,null,null,{"$f":"COUNTIF(Z8:Z44,\"Oui\")","v":0},"mesures d'efficacité à clôturer"]
[]
[null,"Présentation",null,null,null,null,null,"Plan d'actions",null,null,null,null,null,null,null,null,null,null,"Messure de l'efficacité"]
["Processus","Descriptif","Date","N°","Thème","Origine","Analyse des causes","Type d'action","Actions prévues","Responsable","Délai","Moyen(s)","Statut","Date de solde","Action en retard?","Respect du délai ?","Retard?","Commentaire","Mesure de l'efficacité ?","Résultat Attendu","Délai de la mesure","Responsable de la mesure","Résultat Obtenu","Date de la mesure","Retard?","A faire?","Action efficace?",null,null,null,null,"cat - année","année dysf°","Type d'action - Année","Statut - Type - Année"]
[{"$f":"IF(ISBLANK(B7),\"\",$C$2)","v":""},null,null,{"$f":"IF(ISBLANK(B7),\"\",COUNTA(#REF!))","v":""},null,null,null,null,null,null,null,null,null,null,{"$f":"IF(AND(K7<>\"\",ISBLANK(N7),K7<TODAY()),\"Oui\",\"Non\")","v":"Non"},{"$f":"IF(ISBLANK(I7),\"\",IF(K7=\"\",\"délai à préciser\",IF(M7=\"\",\"statut à préciser\",IF(M7=\"finalisée\",IF(N7=\"\",\"date de solde à préciser\",IF(K7>=N7,\"fait\",\"retard\")),(IF(K7<TODAY(),\"retard\",\"Ok\"))))))","v":""},{"$f":"IF(AND(N7<>\"\",ISBLANK(N7),K7<TODAY()),\"Oui\",\"Non\")","v":"Non"},null,{"$f":"IF(ISBLANK(H7),\"\",IF(OR(H7=\"Préventive\",H7=\"Corrective\"),\"Oui\",\"Non\"))","v":""},null,null,null,null,null,{"$f":"IF(AND(U7<>\"\",ISBLANK(X7),U7<TODAY()),\"Oui\",\"Non\")","v":"Non"},{"$f":"IF(AND(S7=\"Oui\",ISBLANK(X7)),\"Oui\",\"Non\")","v":"Non"},null,null,null,null,{"$f":"IF(K7=\"\",\"\",K7-TODAY())","v":""},{"$f":"IF(ISBLANK(F7),CONCATENATE(E7,\" - \",AG7),CONCATENATE(F7,\" - \",AG7))","v":" - "},{"$f":"IF(ISBLANK(B7),\"\",YEAR(C7))","v":""},{"$f":"CONCATENATE(H7,\"-\",AG7)","v":"-"},{"$f":"CONCATENATE(M7,\"-\",AH7)","v":"--"}]
["",null,null,{"$f":"IF(ISBLANK(B8),\"\",COUNTA(#REF!))","v":""},null,null,null,null,null,null,null,null,null,null,{"$f":"IF(AND(K8<>\"\",ISBLANK(N8),K8<TODAY()),\"Oui\",\"Non\")","v":"Non"},"",{"$f":"IF(AND(N8<>\"\",ISBLANK(N8),K8<TODAY()),\"Oui\",\"Non\")","v":"Non"},null,"",null,null,null,null,null,{"$f":"IF(AND(U8<>\"\",ISBLANK(X8),U8<TODAY()),\"Oui\",\"Non\")","v":"Non"},{"$f":"IF(AND(S7=\"Oui\",ISBLANK(X8)),\"Oui\",\"Non\")","v":"Non"},null,null,null,null,{"$f":"IF(K8=\"\",\"\",K8-TODAY())","v":""},{"$f":"IF(ISBLANK(F8),CONCATENATE(E8,\" - \",AG8),CONCATENATE(F8,\" - \",AG8))","v":" - "},{"$f":"IF(ISBLANK(B8),\"\",YEAR(C8))","v":""},{"$f":"CONCATENATE(H8,\"-\",AG8)","v":"-"},{"$f":"CONCATENATE(M8,\"-\",AH8)","v":"--"}]
["",null,null,{"$f":"IF(ISBLANK(B9),\"\",COUNTA(#REF!))","v":""},null,null,null,null,null,null,null,null,null,null,"Non","","Non",null,"",null,null,null,null,null,{"$f":"IF(AND(U9<>\"\",ISBLANK(X9),U9<TODAY()),\"Oui\",\"Non\")","v":"Non"},{"$f":"IF(AND(S9=\"Oui\",ISBLANK(X9)),\"Oui\",\"Non\")","v":"Non"},null,null,null,null,""," - ","","-","--"]
["",null,null,{"$f":"IF(ISBLANK(B10),\"\",COUNTA(#REF!))","v":""},null,null,null,null,null,null,null,null,null,null,"Non","","Non",null,"",null,null,null,null,null,null,null,null,null,null,null,""," - ","","-","--"]
["",null,null,{"$f":"IF(ISBLANK(B11),\"\",COUNTA(#REF!))","v":""},null,null,null,null,null,null,null,null,null,null,"Non","","Non",null,"",null,null,null,null,null,{"$f":"IF(AND(U11<>\"\",ISBLANK(X11),U11<TODAY()),\"Oui\",\"Non\")","v":"Non"},{"$f":"IF(AND(S10=\"Oui\",ISBLANK(X11)),\"Oui\",\"Non\")","v":"Non"},null,null,null,null,""," - ","","-","--"]
["",null,null,{"$f":"IF(ISBLANK(B12),\"\",COUNTA(#REF!))","v":""},null,null,null,null,null,null,null,null,null,null,"Non","","Non",null,"",null,null,null,null,null,{"$f":"IF(AND(U12<>\"\",ISBLANK(X12),U12<TODAY()),\"Oui\",\"Non\")","v":"Non"},{"$f":"IF(AND(S11=\"Oui\",ISBLANK(X12)),\"Oui\",\"Non\")","v":"Non"},null,null,null,null,""," - ","","-","--"]
["",null,null,{"$f":"IF(ISBLANK(B13),\"\",COUNTA(#REF!))","v":""},null,null,null,null,null,null,null,null,null,null,"Non","","Non",null,"",null,null,null,null,null,"Non","Non",null,null,null,null,""," - ","","-","--"]
["",null,null,{"$f":"IF(ISBLANK(B14),\"\",COUNTA(#REF!))","v":""},null,null,null,null,null,null,null,null,null,null,"Non","","Non",null,"",null,null,null,null,null,"Non","Non",null,null,null,null,""," - ","","-","--"]
["",null,null,{"$f":"IF(ISBLANK(B15),\"\",COUNTA(#REF!))","v":""},null,null,null,null,null,null,null,null,null,null,"Non","","Non",null,"",null,null,null,null,null,{"$f":"IF(AND(U15<>\"\",ISBLANK(X15),U15<TODAY()),\"Oui\",\"Non\")","v":"Non"},{"$f":"IF(AND(S14=\"Oui\",ISBLANK(X15)),\"Oui\",\"Non\")","v":"Non"},null,null,null,null,""," - ","","-","--"]
["",null,null,{"$f":"IF(ISBLANK(B16),\"\",COUNTA(#REF!))","v":""},null,null,null,null,null,null,null,null,null,null,"Non","","Non",null,"",null,null,null,null,null,{"$f":"IF(AND(U16<>\"\",ISBLANK(X16),U16<TODAY()),\"Oui\",\"Non\")","v":"Non"},{"$f":"IF(AND(S15=\"Oui\",ISBLANK(X16)),\"Oui\",\"Non\")","v":"Non"},null,null,null,null,""," - ","","-","--"]
["",null,null,{"$f":"IF(ISBLANK(B17),\"\",COUNTA(#REF!))","v":""},null,null,null,null,null,null,null,null,null,null,"Non","","Non",null,"",null,null,null,null,null,"Non","Non",null,null,null,null,""," - ","","-","--"]
["",null,null,{"$f":"IF(ISBLANK(B18),\"\",COUNTA(#REF!))","v":""},null,null,null,null,null,null,null,null,null,null,"Non","","Non",null,"",null,null,null,null,null,"Non","Non",null,null,null,null,""," - ","","-","--"]
["",null,null,{"$f":"IF(ISBLANK(B19),\"\",COUNTA(#REF!))","v":""},null,null,null,null,null,null,null,null,null,null,"Non","","Non",null,"",null,null,null,null,null,"Non","Non",null,null,null,null,""," - ","","-","--"]
["",null,null,{"$f":"IF(ISBLANK(B20),\"\",COUNTA(#REF!))","v":""},null,null,null,null,null,null,null,null,null,null,"Non","","Non",null,"",null,null,null,null,null,"Non","Non",null,null,null,null,""," - ","","-","--"]
["",null,null,{"$f":"IF(ISBLANK(B21),\"\",COUNTA(#REF!))","v":""},null,null,null,null,null,null,null,null,null,null,"Non","","Non",null,"",null,null,null,null,null,"Non","Non",null,null,null,null,""," - ","","-","--"]
["",null,null,{"$f":"IF(ISBLANK(B22),\"\",COUNTA(#REF!))","v":""},null,null,null,null,null,null,null,null,null,null,{"$f":"IF(AND(K22<>\"\",ISBLANK(N22),K22<TODAY()),\"Oui\",\"Non\")","v":"Non"},{"$f":"IF(ISBLANK(I22),\"\",IF(K22=\"\",\"délai à préciser\",IF(M22=\"\",\"statut à préciser\",IF(M22=\"finalisée\",IF(N22=\"\",\"date de solde à préciser\",IF(K22>=N22,\"fait\",\"retard\")),(IF(K22<TODAY(),\"retard\",\"Ok\"))))))","v":""},{"$f":"IF(AND(N22<>\"\",ISBLANK(N22),K22<TODAY()),\"Oui\",\"Non\")","v":"Non"},null,"",null,null,null,null,null,"Non","Non",null,null,null,null,{"$f":"IF(K22=\"\",\"\",K22-TODAY())","v":""},{"$f":"IF(ISBLANK(F22),CONCATENATE(E22,\" - \",AG22),CONCATENATE(F22,\" - \",AG22))","v":" - "},{"$f":"IF(ISBLANK(B22),\"\",YEAR(C22))","v":""},{"$f":"CONCATENATE(H22,\"-\",AG22)","v":"-"},{"$f":"CONCATENATE(M22,\"-\",AH22)","v":"--"}]
["",null,null,{"$f":"IF(ISBLANK(B23),\"\",COUNTA(#REF!))","v":""},null,null,null,null,null,null,null,null,null,null,{"$f":"IF(AND(K23<>\"\",ISBLANK(N23),K23<TODAY()),\"Oui\",\"Non\")","v":"Non"},{"$f":"IF(ISBLANK(I23),\"\",IF(K23=\"\",\"délai à préciser\",IF(M23=\"\",\"statut à préciser\",IF(M23=\"finalisée\",IF(N23=\"\",\"date de solde à préciser\",IF(K23>=N23,\"fait\",\"retard\")),(IF(K23<TODAY(),\"retard\",\"Ok\"))))))","v":""},{"$f":"IF(AND(N23<>\"\",ISBLANK(N23),K23<TODAY()),\"Oui\",\"Non\")","v":"Non"},null,"",null,null,null,null,null,{"$f":"IF(AND(U23<>\"\",ISBLANK(X23),U23<TODAY()),\"Oui\",\"Non\")","v":"Non"},{"$f":"IF(AND(S22=\"Oui\",ISBLANK(X23)),\"Oui\",\"Non\")","v":"Non"},null,null,null,null,{"$f":"IF(K23=\"\",\"\",K23-TODAY())","v":""},{"$f":"IF(ISBLANK(F23),CONCATENATE(E23,\" - \",AG23),CONCATENATE(F23,\" - \",AG23))","v":" - "},{"$f":"IF(ISBLANK(B23),\"\",YEAR(C23))","v":""},{"$f":"CONCATENATE(H23,\"-\",AG23)","v":"-"},{"$f":"CONCATENATE(M23,\"-\",AH23)","v":"--"}]
["",null,null,{"$f":"IF(ISBLANK(B24),\"\",COUNTA(#REF!))","v":""},null,null,null,null,null,null,null,null,null,null,"Non","","Non",null,"",null,null,null,null,null,{"$f":"IF(AND(U24<>\"\",ISBLANK(X24),U24<TODAY()),\"Oui\",\"Non\")","v":"Non"},{"$f":"IF(AND(S24=\"Oui\",ISBLANK(X24)),\"Oui\",\"Non\")","v":"Non"},null,null,null,null,""," - ","","-","--"]
["",null,null,{"$f":"IF(ISBLANK(B25),\"\",COUNTA(#REF!))","v":""},null,null,null,null,null,null,null,null,null,null,"Non","","Non",null,"",null,null,null,null,null,"Non","Non",null,null,null,null,""," - ","","-","--"]
["",null,null,{"$f":"IF(ISBLANK(B26),\"\",COUNTA(#REF!))","v":""},null,null,null,null,null,null,null,null,null,null,"Non","","Non",null,"",null,null,null,null,null,{"$f":"IF(AND(U26<>\"\",ISBLANK(X26),U26<TODAY()),\"Oui\",\"Non\")","v":"Non"},{"$f":"IF(AND(S25=\"Oui\",ISBLANK(X26)),\"Oui\",\"Non\")","v":"Non"},null,null,null,null,""," - ","","-","--"]
["",null,null,{"$f":"IF(ISBLANK(B27),\"\",COUNTA(#REF!))","v":""},null,null,null,null,null,null,null,null,null,null,"Non","","Non",null,"",null,null,null,null,null,{"$f":"IF(AND(U27<>\"\",ISBLANK(X27),U27<TODAY()),\"Oui\",\"Non\")","v":"Non"},{"$f":"IF(AND(S26=\"Oui\",ISBLANK(X27)),\"Oui\",\"Non\")","v":"Non"},null,null,null,null,""," - ","","-","--"]
["",null,null,{"$f":"IF(ISBLANK(B28),\"\",COUNTA(#REF!))","v":""},null,null,null,null,null,null,null,null,null,null,"Non","","Non",null,"",null,null,null,null,null,{"$f":"IF(AND(U28<>\"\",ISBLANK(X28),U28<TODAY()),\"Oui\",\"Non\")","v":"Non"},{"$f":"IF(AND(S28=\"Oui\",ISBLANK(X28)),\"Oui\",\"Non\")","v":"Non"},null,null,null,null,""," - ","","-","--"]
["",null,null,{"$f":"IF(ISBLANK(B29),\"\",COUNTA(#REF!))","v":""},null,null,null,null,null,null,null,null,null,null,"Non","","Non",null,"",null,null,null,null,null,"Non","Non",null,null,null,null,""," - ","","-","--"]
["",null,null,{"$f":"IF(ISBLANK(B30),\"\",COUNTA(#REF!))","v":""},null,null,null,null,null,null,null,null,null,null,"Non","","Non",null,"",null,null,null,null,null,"Non","Non",null,null,null,null,""," - ","","-","--"]
["",null,null,{"$f":"IF(ISBLANK(B31),\"\",COUNTA(#REF!))","v":""},null,null,null,null,null,null,null,null,null,null,"Non","","Non",null,"",null,null,null,null,null,"Non","Non",null,null,null,null,""," - ","","-","--"]
["",null,null,{"$f":"IF(ISBLANK(B32),\"\",COUNTA(#REF!))","v":""},null,null,null,null,null,null,null,null,null,null,"Non","","Non",null,"",null,null,null,null,null,"Non","Non",null,null,null,null,""," - ","","-","--"]
["",null,null,{"$f":"IF(ISBLANK(B33),\"\",COUNTA(#REF!))","v":""},null,null,null,null,null,null,null,null,null,null,"Non","","Non",null,"",null,null,null,null,null,"Non","Non",null,null,null,null,""," - ","","-","--"]
["",null,null,{"$f":"IF(ISBLANK(B34),\"\",COUNTA(#REF!))","v":""},null,null,null,null,null,null,null,null,null,null,"Non","","Non",null,"",null,null,null,null,null,"Non","Non",null,null,null,null,""," - ","","-","--"]
["",null,null,{"$f":"IF(ISBLANK(B35),\"\",COUNTA(#REF!))","v":""},null,null,null,null,null,null,null,null,null,null,"Non","","Non",null,"",null,null,null,null,null,"Non","Non",null,null,null,null,""," - ","","-","--"]
["",null,null,{"$f":"IF(ISBLANK(B36),\"\",COUNTA(#REF!))","v":""},null,null,null,null,null,null,null,null,null,null,"Non","","Non",null,"",null,null,null,null,null,"Non","Non",null,null,null,null,""," - ","","-","--"]
["",null,null,{"$f":"IF(ISBLANK(B37),\"\",COUNTA(#REF!))","v":""},null,null,null,null,null,null,null,null,null,null,"Non","","Non",null,"",null,null,null,null,null,"Non","Non",null,null,null,null,""," - ","","-","--"]
["",null,null,{"$f":"IF(ISBLANK(B38),\"\",COUNTA(#REF!))","v":""},null,null,null,null,null,null,null,null,null,null,"Non","","Non",null,"",null,null,null,null,null,"Non","Non",null,null,null,null,""," - ","","-","--"]
["",null,null,{"$f":"IF(ISBLANK(B39),\"\",COUNTA(#REF!))","v":""},null,null,null,null,null,null,null,null,null,null,"Non","","Non",null,"",null,null,null,null,null,"Non","Non",null,null,null,null,""," - ","","-","--"]
["",null,null,{"$f":"IF(ISBLANK(B40),\"\",COUNTA(#REF!))","v":""},null,null,null,null,null,null,null,null,null,null,"Non","","Non",null,"",null,null,null,null,null,"Non","Non",null,null,null,null,""," - ","","-","--"]
["",null,null,{"$f":"IF(ISBLANK(B41),\"\",COUNTA(#REF!))","v":""},null,null,null,null,null,null,null,null,null,null,"Non","","Non",null,"",null,null,null,null,null,"Non","Non",null,null,null,null,""," - ","","-","--"]
["",null,null,{"$f":"IF(ISBLANK(B42),\"\",COUNTA(#REF!))","v":""},null,null,null,null,null,null,null,null,null,null,"Non","","Non",null,"",null,null,null,null,null,"Non","Non",null,null,null,null,""," - ","","-","--"]
["",null,null,{"$f":"IF(ISBLANK(B43),\"\",COUNTA(#REF!))","v":""},null,null,null,null,null,null,null,null,null,null,"Non","","Non",null,"",null,null,null,null,null,"Non","Non",null,null,null,null,""," - ","","-","--"]
["",null,null,{"$f":"IF(ISBLANK(B44),\"\",COUNTA(#REF!))","v":""},null,null,null,null,null,null,null,null,null,null,"Non","","Non",null,"",null,null,null,null,null,"Non","Non",null,null,null,null,""," - ","","-","--"]
["",null,null,{"$f":"IF(ISBLANK(B45),\"\",COUNTA(#REF!))","v":""},null,null,null,null,null,null,null,null,null,null,"Non","","Non",null,"",null,null,null,null,null,"Non","Non",null,null,null,null,""," - ","","-","--"]
["",null,null,{"$f":"IF(ISBLANK(B46),\"\",COUNTA(#REF!))","v":""},null,null,null,null,null,null,null,null,null,null,"Non","","Non",null,"",null,null,null,null,null,"Non","Non",null,null,null,null,""," - ","","-","--"]
["",null,null,{"$f":"IF(ISBLANK(B47),\"\",COUNTA(#REF!))","v":""},null,null,null,null,null,null,null,null,null,null,"Non","","Non",null,"",null,null,null,null,null,"Non","Non",null,null,null,null,""," - ","","-","--"]
["",null,null,{"$f":"IF(ISBLANK(B48),\"\",COUNTA(#REF!))","v":""},null,null,null,null,null,null,null,null,null,null,"Non","","Non",null,"",null,null,null,null,null,"Non","Non",null,null,null,null,""," - ","","-","--"]
["",null,null,{"$f":"IF(ISBLANK(B49),\"\",COUNTA(#REF!))","v":""},null,null,null,null,null,null,null,null,null,null,"Non","","Non",null,"",null,null,null,null,null,"Non","Non",null,null,null,null,""," - ","","-","--"]
["",null,null,{"$f":"IF(ISBLANK(B50),\"\",COUNTA(#REF!))","v":""},null,null,null,null,null,null,null,null,null,null,"Non","","Non",null,"",null,null,null,null,null,"Non","Non",null,null,null,null,""," - ","","-","--"]
["",null,null,{"$f":"IF(ISBLANK(B51),\"\",COUNTA(#REF!))","v":""},null,null,null,null,null,null,null,null,null,null,"Non","","Non",null,"",null,null,null,null,null,"Non","Non",null,null,null,null,""," - ","","-","--"]
["",null,null,{"$f":"IF(ISBLANK(B52),\"\",COUNTA(#REF!))","v":""},null,null,null,null,null,null,null,null,null,null,"Non","","Non",null,"",null,null,null,null,null,"Non","Non",null,null,null,null,""," - ","","-","--"]
["",null,null,{"$f":"IF(ISBLANK(B53),\"\",COUNTA(#REF!))","v":""},null,null,null,null,null,null,null,null,null,null,"Non","","Non",null,"",null,null,null,null,null,"Non","Non",null,null,null,null,""," - ","","-","--"]
["",null,null,{"$f":"IF(ISBLANK(B54),\"\",COUNTA(#REF!))","v":""},null,null,null,null,null,null,null,null,null,null,"Non","","Non",null,"",null,null,null,null,null,"Non","Non",null,null,null,null,""," - ","","-","--"]
["",null,null,{"$f":"IF(ISBLANK(B55),\"\",COUNTA(#REF!))","v":""},null,null,null,null,null,null,null,null,null,null,"Non","","Non",null,"",null,null,null,null,null,"Non","Non",null,null,null,null,""," - ","","-","--"]
["",null,null,{"$f":"IF(ISBLANK(B56),\"\",COUNTA(#REF!))","v":""},null,null,null,null,null,null,null,null,null,null,"Non","","Non",null,"",null,null,null,null,null,"Non","Non",null,null,null,null,""," - ","","-","--"]
["",null,null,{"$f":"IF(ISBLANK(B57),\"\",COUNTA(#REF!))","v":""},null,null,null,null,null,null,null,null,null,null,"Non","","Non",null,"",null,null,null,null,null,"Non","Non",null,null,null,null,""," - ","","-","--"]
["",null,null,{"$f":"IF(ISBLANK(B58),\"\",COUNTA(#REF!))","v":""},null,null,null,null,null,null,null,null,null,null,"Non","","Non",null,"",null,null,null,null,null,"Non","Non",null,null,null,null,""," - ","","-","--"]
["",null,null,{"$f":"IF(ISBLANK(B59),\"\",COUNTA(#REF!))","v":""},null,null,null,null,null,null,null,null,null,null,"Non","","Non",null,"",null,null,null,null,null,"Non","Non",null,null,null,null,""," - ","","-","--"]
["",null,null,{"$f":"IF(ISBLANK(B60),\"\",COUNTA(#REF!))","v":""},null,null,null,null,null,null,null,null,null,null,"Non","","Non",null,"",null,null,null,null,null,"Non","Non",null,null,null,null,""," - ","","-","--"]
["",null,null,{"$f":"IF(ISBLANK(B61),\"\",COUNTA(#REF!))","v":""},null,null,null,null,null,null,null,null,null,null,"Non","","Non",null,"",null,null,null,null,null,"Non","Non",null,null,null,null,""," - ","","-","--"]
["",null,null,{"$f":"IF(ISBLANK(B62),\"\",COUNTA(#REF!))","v":""},null,null,null,null,null,null,null,null,null,null,"Non","","Non",null,"",null,null,null,null,null,"Non","Non",null,null,null,null,""," - ","","-","--"]
["",null,null,{"$f":"IF(ISBLANK(B63),\"\",COUNTA(#REF!))","v":""},null,null,null,null,null,null,null,null,null,null,"Non","","Non",null,"",null,null,null,null,null,"Non","Non",null,null,null,null,""," - ","","-","--"]
["",null,null,{"$f":"IF(ISBLANK(B64),\"\",COUNTA(#REF!))","v":""},null,null,null,null,null,null,null,null,null,null,"Non","","Non",null,"",null,null,null,null,null,"Non","Non",null,null,null,null,""," - ","","-","--"]
["",null,null,{"$f":"IF(ISBLANK(B65),\"\",COUNTA(#REF!))","v":""},null,null,null,null,null,null,null,null,null,null,"Non","","Non",null,"",null,null,null,null,null,"Non","Non",null,null,null,null,""," - ","","-","--"]
["",null,null,{"$f":"IF(ISBLANK(B66),\"\",COUNTA(#REF!))","v":""},null,null,null,null,null,null,null,null,null,null,"Non","","Non",null,"",null,null,null,null,null,"Non","Non",null,null,null,null,""," - ","","-","--"]
["",null,null,{"$f":"IF(ISBLANK(B67),\"\",COUNTA(#REF!))","v":""},null,null,null,null,null,null,null,null,null,null,"Non","","Non",null,"",null,null,null,null,null,"Non","Non",null,null,null,null,""," - ","","-","--"]
["",null,null,{"$f":"IF(ISBLANK(B68),\"\",COUNTA(#REF!))","v":""},null,null,null,null,null,null,null,null,null,null,"Non","","Non",null,"",null,null,null,null,null,"Non","Non",null,null,null,null,""," - ","","-","--"]
["",null,null,{"$f":"IF(ISBLANK(B69),\"\",COUNTA(#REF!))","v":""},null,null,null,null,null,null,null,null,null,null,"Non","","Non",null,"",null,null,null,null,null,"Non","Non",null,null,null,null,""," - ","","-","--"]
["",null,null,{"$f":"IF(ISBLANK(B70),\"\",COUNTA(#REF!))","v":""},null,null,null,null,null,null,null,null,null,null,"Non","","Non",null,"",null,null,null,null,null,"Non","Non",null,null,null,null,""," - ","","-","--"]
["",null,null,{"$f":"IF(ISBLANK(B71),\"\",COUNTA(#REF!))","v":""},null,null,null,null,null,null,null,null,null,null,"Non","","Non",null,{"$f":"IF(ISBLANK(H71),\"\",IF(OR(H71=\"Préventive\",H71=\"Corrective\"),\"Oui\",\"Non\"))","v":""},null,null,null,null,null,"Non","Non",null,null,null,null,""," - ","","-","--"]
[{"$f":"IF(ISBLANK(B72),\"\",$C$2)","v":""},null,null,{"$f":"IF(ISBLANK(B72),\"\",COUNTA(#REF!))","v":""},null,null,null,null,null,null,null,null,null,null,{"$f":"IF(AND(K72<>\"\",ISBLANK(N72),K72<TODAY()),\"Oui\",\"Non\")","v":"Non"},"",{"$f":"IF(AND(N72<>\"\",ISBLANK(N72),K72<TODAY()),\"Oui\",\"Non\")","v":"Non"},null,"",null,null,null,null,null,"Non","Non",null,null,null,null,{"$f":"IF(K72=\"\",\"\",K72-TODAY())","v":""},{"$f":"IF(ISBLANK(F72),CONCATENATE(E72,\" - \",AG72),CONCATENATE(F72,\" - \",AG72))","v":" - "},{"$f":"IF(ISBLANK(B72),\"\",YEAR(C72))","v":""},{"$f":"CONCATENATE(H72,\"-\",AG72)","v":"-"},{"$f":"CONCATENATE(M72,\"-\",AH72)","v":"--"}]
["",null,null,{"$f":"IF(ISBLANK(B73),\"\",COUNTA(#REF!))","v":""},null,null,null,null,null,null,null,null,null,null,"Non","","Non",null,"",null,null,null,null,null,{"$f":"IF(AND(U73<>\"\",ISBLANK(X73),U73<TODAY()),\"Oui\",\"Non\")","v":"Non"},{"$f":"IF(AND(S73=\"Oui\",ISBLANK(X73)),\"Oui\",\"Non\")","v":"Non"},null,null,null,null,""," - ","","-","--"]
["",null,null,{"$f":"IF(ISBLANK(B74),\"\",COUNTA(#REF!))","v":""},null,null,null,null,null,null,null,null,null,null,"Non","","Non",null,"",null,null,null,null,null,"Non","Non",null,null,null,null,""," - ","","-","--"]
["",null,null,{"$f":"IF(ISBLANK(B75),\"\",COUNTA(#REF!))","v":""},null,null,null,null,null,null,null,null,null,null,"Non","","Non",null,"",null,null,null,null,null,"Non","Non",null,null,null,null,""," - ","","-","--"]
["",null,null,{"$f":"IF(ISBLANK(B76),\"\",COUNTA(#REF!))","v":""},null,null,null,null,null,null,null,null,null,null,"Non","","Non",null,"",null,null,null,null,null,"Non","Non",null,null,null,null,""," - ","","-","--"]
["",null,null,{"$f":"IF(ISBLANK(B77),\"\",COUNTA(#REF!))","v":""},null,null,null,null,null,null,null,null,null,null,"Non","","Non",null,"",null,null,null,null,null,"Non","Non",null,null,null,null,""," - ","","-","--"]
["",null,null,{"$f":"IF(ISBLANK(B78),\"\",COUNTA(#REF!))","v":""},null,null,null,null,null,null,null,null,null,null,"Non","","Non",null,"",null,null,null,null,null,"Non","Non",null,null,null,null,""," - ","","-","--"]
["",null,null,{"$f":"IF(ISBLANK(B79),\"\",COUNTA(#REF!))","v":""},null,null,null,null,null,null,null,null,null,null,"Non","","Non",null,"",null,null,null,null,null,"Non","Non",null,null,null,null,""," - ","","-","--"]
["",null,null,{"$f":"IF(ISBLANK(B80),\"\",COUNTA(#REF!))","v":""},null,null,null,null,null,null,null,null,null,null,"Non","","Non",null,"",null,null,null,null,null,"Non","Non",null,null,null,null,""," - ","","-","--"]
["",null,null,{"$f":"IF(ISBLANK(B81),\"\",COUNTA(#REF!))","v":""},null,null,null,null,null,null,null,null,null,null,"Non","","Non",null,"",null,null,null,null,null,"Non","Non",null,null,null,null,""," - ","","-","--"]
["",null,null,{"$f":"IF(ISBLANK(B82),\"\",COUNTA(#REF!))","v":""},null,null,null,null,null,null,null,null,null,null,"Non","","Non",null,"",null,null,null,null,null,"Non","Non",null,null,null,null,{"$f":"IF(K82=\"\",\"\",K82-TODAY())","v":""},{"$f":"IF(ISBLANK(F82),CONCATENATE(E82,\" - \",AG82),CONCATENATE(F82,\" - \",AG82))","v":" - "},{"$f":"IF(ISBLANK(B82),\"\",YEAR(C82))","v":""},{"$f":"CONCATENATE(H82,\"-\",AG82)","v":"-"},"--"]
["",null,null,{"$f":"IF(ISBLANK(B83),\"\",COUNTA(#REF!))","v":""},null,null,null,null,null,null,null,null,null,null,"Non","","Non",null,"",null,null,null,null,null,"Non","Non",null,null,null,null,{"$f":"IF(K83=\"\",\"\",K83-TODAY())","v":""},{"$f":"IF(ISBLANK(F83),CONCATENATE(E83,\" - \",AG83),CONCATENATE(F83,\" - \",AG83))","v":" - "},{"$f":"IF(ISBLANK(B83),\"\",YEAR(C83))","v":""},{"$f":"CONCATENATE(H83,\"-\",AG83)","v":"-"},"--"]
["",null,null,{"$f":"IF(ISBLANK(B84),\"\",COUNTA(#REF!))","v":""},null,null,null,null,null,null,null,null,null,null,"Non","","Non",null,"",null,null,null,null,null,"Non","Non",null,null,null,null,""," - ","","-","--"]
["",null,null,{"$f":"IF(ISBLANK(B85),\"\",COUNTA(#REF!))","v":""},null,null,null,null,null,null,null,null,null,null,"Non","","Non",null,"",null,null,null,null,null,"Non","Non",null,null,null,null,""," - ","","-","--"]
["",null,null,{"$f":"IF(ISBLANK(B86),\"\",COUNTA(#REF!))","v":""},null,null,null,null,null,null,null,null,null,null,"Non","","Non",null,"",null,null,null,null,null,"Non","Non",null,null,null,null,""," - ","","-","--"]
["",null,null,{"$f":"IF(ISBLANK(B87),\"\",COUNTA(#REF!))","v":""},null,null,null,null,null,null,null,null,null,null,"Non",{"$f":"IF(ISBLANK(I87),\"\",IF(K87=\"\",\"délai à préciser\",IF(M87=\"\",\"statut à préciser\",IF(M87=\"finalisée\",IF(N87=\"\",\"date de solde à préciser\",IF(K87>=N87,\"fait\",\"retard\")),(IF(K87<TODAY(),\"retard\",\"Ok\"))))))","v":""},"Non",null,{"$f":"IF(ISBLANK(H87),\"\",IF(OR(H87=\"Préventive\",H87=\"Corrective\"),\"Oui\",\"Non\"))","v":""},null,null,null,null,null,"Non","Non",null,null,null,null,""," - ","","-","--"]
["",null,null,{"$f":"IF(ISBLANK(B88),\"\",COUNTA(#REF!))","v":""},null,null,null,null,null,null,null,null,null,null,"Non","","Non",null,{"$f":"IF(ISBLANK(H88),\"\",IF(OR(H88=\"Préventive\",H88=\"Corrective\"),\"Oui\",\"Non\"))","v":""},null,null,null,null,null,"Non","Non",null,null,null,null,""," - ","","-","--"]
["",null,null,{"$f":"IF(ISBLANK(B89),\"\",COUNTA(#REF!))","v":""},null,null,null,null,null,null,null,null,null,null,"Non","","Non",null,"",null,null,null,null,null,"Non","Non",null,null,null,null,""," - ","","-","--"]
["",null,null,{"$f":"IF(ISBLANK(B90),\"\",COUNTA(#REF!))","v":""},null,null,null,null,null,null,null,null,null,null,"Non","","Non",null,"",null,null,null,null,null,"Non","Non",null,null,null,null,""," - ","","-","--"]
["",null,null,{"$f":"IF(ISBLANK(B91),\"\",COUNTA(#REF!))","v":""},null,null,null,null,null,null,null,null,null,null,"Non","","Non",null,"",null,null,null,null,null,"Non","Non",null,null,null,null,""," - ","","-","--"]
["",null,null,{"$f":"IF(ISBLANK(B92),\"\",COUNTA(#REF!))","v":""},null,null,null,null,null,null,null,null,null,null,"Non","","Non",null,"",null,null,null,null,null,"Non","Non",null,null,null,null,""," - ","","-","--"]
["",null,null,{"$f":"IF(ISBLANK(B93),\"\",COUNTA(#REF!))","v":""},null,null,null,null,null,null,null,null,null,null,"Non","","Non",null,"",null,null,null,null,null,"Non","Non",null,null,null,null,""," - ","","-","--"]
["",null,null,{"$f":"IF(ISBLANK(B94),\"\",COUNTA(#REF!))","v":""},null,null,null,null,null,null,null,null,null,null,"Non","","Non",null,"",null,null,null,null,null,"Non","Non",null,null,null,null,""," - ","","-","--"]
["",null,null,{"$f":"IF(ISBLANK(B95),\"\",COUNTA(#REF!))","v":""},null,null,null,null,null,null,null,null,null,null,"Non","","Non",null,"",null,null,null,null,null,"Non","Non",null,null,null,null,""," - ","","-","--"]
["",null,null,{"$f":"IF(ISBLANK(B96),\"\",COUNTA(#REF!))","v":""},null,null,null,null,null,null,null,null,null,null,"Non","","Non",null,"",null,null,null,null,null,"Non","Non",null,null,null,null,""," - ","","-","--"]
["",null,null,{"$f":"IF(ISBLANK(B97),\"\",COUNTA(#REF!))","v":""},null,null,null,null,null,null,null,null,null,null,"Non","","Non",null,"",null,null,null,null,null,"Non","Non",null,null,null,null,""," - ","","-","--"]
["",null,null,{"$f":"IF(ISBLANK(B98),\"\",COUNTA(#REF!))","v":""},null,null,null,null,null,null,null,null,null,null,"Non","","Non",null,"",null,null,null,null,null,"Non","Non",null,null,null,null,""," - ","","-","--"]
["",null,null,{"$f":"IF(ISBLANK(B99),\"\",COUNTA(#REF!))","v":""},null,null,null,null,null,null,null,null,null,null,"Non","","Non",null,"",null,null,null,null,null,"Non","Non",null,null,null,null,""," - ","","-","--"]
["",null,null,{"$f":"IF(ISBLANK(B100),\"\",COUNTA(#REF!))","v":""},null,null,null,null,null,null,null,null,null,null,"Non","","Non",null,"",null,null,null,null,null,"Non","Non",null,null,null,null,""," - ","","-","--"]
["",null,null,{"$f":"IF(ISBLANK(B101),\"\",COUNTA(#REF!))","v":""},null,null,null,null,null,null,null,null,null,null,"Non","","Non",null,"",null,null,null,null,null,"Non","Non",null,null,null,null,""," - ","","-","--"]
["",null,null,{"$f":"IF(ISBLANK(B102),\"\",COUNTA(#REF!))","v":""},null,null,null,null,null,null,null,null,null,null,"Non","","Non",null,"",null,null,null,null,null,"Non","Non",null,null,null,null,""," - ","","-","--"]
["",null,null,{"$f":"IF(ISBLANK(B103),\"\",COUNTA(#REF!))","v":""},null,null,null,null,null,null,null,null,null,null,"Non","","Non",null,"",null,null,null,null,null,"Non","Non",null,null,null,null,""," - ","","-","--"]
["",null,null,{"$f":"IF(ISBLANK(B104),\"\",COUNTA(#REF!))","v":""},null,null,null,null,null,null,null,null,null,null,"Non","","Non",null,"",null,null,null,null,null,"Non","Non",null,null,null,null,""," - ","","-","--"]
["",null,null,{"$f":"IF(ISBLANK(B105),\"\",COUNTA(#REF!))","v":""},null,null,null,null,null,null,null,null,null,null,"Non","","Non",null,"",null,null,null,null,null,"Non","Non",null,null,null,null,""," - ","","-","--"]
["",null,null,{"$f":"IF(ISBLANK(B106),\"\",COUNTA(#REF!))","v":""},null,null,null,null,null,null,null,null,null,null,"Non","","Non",null,"",null,null,null,null,null,"Non","Non",null,null,null,null,""," - ","","-","--"]
["",null,null,{"$f":"IF(ISBLANK(B107),\"\",COUNTA(#REF!))","v":""},null,null,null,null,null,null,null,null,null,null,"Non","","Non",null,"",null,null,null,null,null,"Non","Non",null,null,null,null,""," - ","","-","--"]
["",null,null,{"$f":"IF(ISBLANK(B108),\"\",COUNTA(#REF!))","v":""},null,null,null,null,null,null,null,null,null,null,"Non","","Non",null,"",null,null,null,null,null,"Non","Non",null,null,null,null,""," - ","","-","--"]
["",null,null,{"$f":"IF(ISBLANK(B109),\"\",COUNTA(#REF!))","v":""},null,null,null,null,null,null,null,null,null,null,"Non","","Non",null,"",null,null,null,null,null,"Non","Non",null,null,null,null,""," - ","","-","--"]
["",null,null,{"$f":"IF(ISBLANK(B110),\"\",COUNTA(#REF!))","v":""},null,null,null,null,null,null,null,null,null,null,"Non","","Non",null,"",null,null,null,null,null,"Non","Non",null,null,null,null,""," - ","","-","--"]
["",null,null,{"$f":"IF(ISBLANK(B111),\"\",COUNTA(#REF!))","v":""},null,null,null,null,null,null,null,null,null,null,"Non","","Non",null,"",null,null,null,null,null,"Non","Non",null,null,null,null,""," - ","","-","--"]
["",null,null,{"$f":"IF(ISBLANK(B112),\"\",COUNTA(#REF!))","v":""},null,null,null,null,null,null,null,null,null,null,"Non","","Non",null,"",null,null,null,null,null,"Non","Non",null,null,null,null,""," - ","","-","--"]
["",null,null,{"$f":"IF(ISBLANK(B113),\"\",COUNTA(#REF!))","v":""},null,null,null,null,null,null,null,null,null,null,"Non","","Non",null,"",null,null,null,null,null,"Non","Non",null,null,null,null,""," - ","","-","--"]
["",null,null,{"$f":"IF(ISBLANK(B114),\"\",COUNTA(#REF!))","v":""},null,null,null,null,null,null,null,null,null,null,"Non","","Non",null,"",null,null,null,null,null,"Non","Non",null,null,null,null,""," - ","","-","--"]
["",null,null,{"$f":"IF(ISBLANK(B115),\"\",COUNTA(#REF!))","v":""},null,null,null,null,null,null,null,null,null,null,"Non","","Non",null,"",null,null,null,null,null,"Non","Non",null,null,null,null,""," - ","","-","--"]
["",null,null,{"$f":"IF(ISBLANK(B116),\"\",COUNTA(#REF!))","v":""},null,null,null,null,null,null,null,null,null,null,"Non","","Non",null,"",null,null,null,null,null,"Non","Non",null,null,null,null,""," - ","","-","--"]
["",null,null,{"$f":"IF(ISBLANK(B117),\"\",COUNTA(#REF!))","v":""},null,null,null,null,null,null,null,null,null,null,"Non","","Non",null,"",null,null,null,null,null,"Non","Non",null,null,null,null,""," - ","","-","--"]
["",null,null,{"$f":"IF(ISBLANK(B118),\"\",COUNTA(#REF!))","v":""},null,null,null,null,null,null,null,null,null,null,"Non","","Non",null,"",null,null,null,null,null,"Non","Non",null,null,null,null,""," - ","","-","--"]
["",null,null,{"$f":"IF(ISBLANK(B119),\"\",COUNTA(#REF!))","v":""},null,null,null,null,null,null,null,null,null,null,"Non","","Non",null,"",null,null,null,null,null,"Non","Non",null,null,null,null,""," - ","","-","--"]
["",null,null,{"$f":"IF(ISBLANK(B120),\"\",COUNTA(#REF!))","v":""},null,null,null,null,null,null,null,null,null,null,"Non","","Non",null,"",null,null,null,null,null,"Non","Non",null,null,null,null,""," - ","","-","--"]
["",null,null,{"$f":"IF(ISBLANK(B121),\"\",COUNTA(#REF!))","v":""},null,null,null,null,null,null,null,null,null,null,"Non","","Non",null,"",null,null,null,null,null,"Non","Non",null,null,null,null,""," - ","","-","--"]
["",null,null,{"$f":"IF(ISBLANK(B122),\"\",COUNTA(#REF!))","v":""},null,null,null,null,null,null,null,null,null,null,"Non","","Non",null,"",null,null,null,null,null,"Non","Non",null,null,null,null,""," - ","","-","--"]
["",null,null,{"$f":"IF(ISBLANK(B123),\"\",COUNTA(#REF!))","v":""},null,null,null,null,null,null,null,null,null,null,"Non","","Non",null,"",null,null,null,null,null,"Non","Non",null,null,null,null,""," - ","","-","--"]
["",null,null,{"$f":"IF(ISBLANK(B124),\"\",COUNTA(#REF!))","v":""},null,null,null,null,null,null,null,null,null,null,"Non","","Non",null,"",null,null,null,null,null,"Non","Non",null,null,null,null,""," - ","","-","--"]
["",null,null,{"$f":"IF(ISBLANK(B125),\"\",COUNTA(#REF!))","v":""},null,null,null,null,null,null,null,null,null,null,"Non","","Non",null,"",null,null,null,null,null,"Non","Non",null,null,null,null,""," - ","","-","--"]
["",null,null,{"$f":"IF(ISBLANK(B126),\"\",COUNTA(#REF!))","v":""},null,null,null,null,null,null,null,null,null,null,"Non","","Non",null,"",null,null,null,null,null,"Non","Non",null,null,null,null,""," - ","","-","--"]
["",null,null,{"$f":"IF(ISBLANK(B127),\"\",COUNTA(#REF!))","v":""},null,null,null,null,null,null,null,null,null,null,"Non","","Non",null,"",null,null,null,null,null,"Non","Non",null,null,null,null,""," - ","","-","--"]
["",null,null,{"$f":"IF(ISBLANK(B128),\"\",COUNTA(#REF!))","v":""},null,null,null,null,null,null,null,null,null,null,"Non","","Non",null,"",null,null,null,null,null,"Non","Non",null,null,null,null,""," - ","","-","--"]
["",null,null,{"$f":"IF(ISBLANK(B129),\"\",COUNTA(#REF!))","v":""},null,null,null,null,null,null,null,null,null,null,"Non","","Non",null,"",null,null,null,null,null,"Non","Non",null,null,null,null,""," - ","","-","--"]
["",null,null,{"$f":"IF(ISBLANK(B130),\"\",COUNTA(#REF!))","v":""},null,null,null,null,null,null,null,null,null,null,"Non","","Non",null,"",null,null,null,null,null,"Non","Non",null,null,null,null,""," - ","","-","--"]
["",null,null,{"$f":"IF(ISBLANK(B131),\"\",COUNTA(#REF!))","v":""},null,null,null,null,null,null,null,null,null,null,"Non","","Non",null,"",null,null,null,null,null,"Non","Non",null,null,null,null,""," - ","","-","--"]
["",null,null,{"$f":"IF(ISBLANK(B132),\"\",COUNTA(#REF!))","v":""},null,null,null,null,null,null,null,null,null,null,"Non","","Non",null,"",null,null,null,null,null,"Non","Non",null,null,null,null,""," - ","","-","--"]
["",null,null,{"$f":"IF(ISBLANK(B133),\"\",COUNTA(#REF!))","v":""},null,null,null,null,null,null,null,null,null,null,"Non","","Non",null,"",null,null,null,null,null,"Non","Non",null,null,null,null,""," - ","","-","--"]
["",null,null,{"$f":"IF(ISBLANK(B134),\"\",COUNTA(#REF!))","v":""},null,null,null,null,null,null,null,null,null,null,"Non","","Non",null,"",null,null,null,null,null,"Non","Non",null,null,null,null,""," - ","","-","--"]
["",null,null,{"$f":"IF(ISBLANK(B135),\"\",COUNTA(#REF!))","v":""},null,null,null,null,null,null,null,null,null,null,"Non","","Non",null,"",null,null,null,null,null,"Non","Non",null,null,null,null,""," - ","","-","--"]
[{"$f":"IF(ISBLANK(B136),\"\",$C$2)","v":""},null,null,{"$f":"IF(ISBLANK(B136),\"\",COUNTA(#REF!))","v":""},null,null,null,null,null,null,null,null,null,null,{"$f":"IF(AND(K136<>\"\",ISBLANK(N136),K136<TODAY()),\"Oui\",\"Non\")","v":"Non"},"",{"$f":"IF(AND(N136<>\"\",ISBLANK(N136),K136<TODAY()),\"Oui\",\"Non\")","v":"Non"},null,"",null,null,null,null,null,"Non","Non",null,null,null,null,""," - ","","-",{"$f":"CONCATENATE(M136,\"-\",AH136)","v":"--"}]
["",null,null,{"$f":"IF(ISBLANK(B137),\"\",COUNTA(#REF!))","v":""},null,null,null,null,null,null,null,null,null,null,"Non","","Non",null,"",null,null,null,null,null,{"$f":"IF(AND(U137<>\"\",ISBLANK(X137),U137<TODAY()),\"Oui\",\"Non\")","v":"Non"},{"$f":"IF(AND(S137=\"Oui\",ISBLANK(X137)),\"Oui\",\"Non\")","v":"Non"},null,null,null,null,""," - ","","-","--"]
["",null,null,{"$f":"IF(ISBLANK(B138),\"\",COUNTA(#REF!))","v":""},null,null,null,null,null,null,null,null,null,null,"Non","","Non",null,"",null,null,null,null,null,"Non","Non",null,null,null,null,""," - ","","-","--"]
["",null,null,{"$f":"IF(ISBLANK(B139),\"\",COUNTA(#REF!))","v":""},null,null,null,null,null,null,null,null,null,null,"Non","","Non",null,"",null,null,null,null,null,"Non","Non",null,null,null,null,""," - ","","-","--"]
["",null,null,{"$f":"IF(ISBLANK(B140),\"\",COUNTA(#REF!))","v":""},null,null,null,null,null,null,null,null,null,null,"Non","","Non",null,"",null,null,null,null,null,"Non","Non",null,null,null,null,""," - ","","-","--"]
["",null,null,{"$f":"IF(ISBLANK(B141),\"\",COUNTA(#REF!))","v":""},null,null,null,null,null,null,null,null,null,null,"Non","","Non",null,"",null,null,null,null,null,"Non","Non",null,null,null,null,""," - ","","-","--"]
["",null,null,{"$f":"IF(ISBLANK(B142),\"\",COUNTA(#REF!))","v":""},null,null,null,null,null,null,null,null,null,null,"Non","","Non",null,"",null,null,null,null,null,"Non","Non",null,null,null,null,""," - ","","-","--"]
["",null,null,{"$f":"IF(ISBLANK(B143),\"\",COUNTA(#REF!))","v":""},null,null,null,null,null,null,null,null,null,null,"Non","","Non",null,"",null,null,null,null,null,"Non","Non",null,null,null,null,""," - ","","-","--"]
["",null,null,{"$f":"IF(ISBLANK(B144),\"\",COUNTA(#REF!))","v":""},null,null,null,null,null,null,null,null,null,null,"Non","","Non",null,"",null,null,null,null,null,"Non","Non",null,null,null,null,""," - ","","-","--"]
["",null,null,{"$f":"IF(ISBLANK(B145),\"\",COUNTA(#REF!))","v":""},null,null,null,null,null,null,null,null,null,null,"Non","","Non",null,"",null,null,null,null,null,"Non","Non",null,null,null,null,""," - ","","-","--"]
["",null,null,{"$f":"IF(ISBLANK(B146),\"\",COUNTA(#REF!))","v":""},null,null,null,null,null,null,null,null,null,null,"Non","","Non",null,"",null,null,null,null,null,"Non","Non",null,null,null,null,""," - ","","-","--"]
["",null,null,{"$f":"IF(ISBLANK(B147),\"\",COUNTA(#REF!))","v":""},null,null,null,null,null,null,null,null,null,null,"Non","","Non",null,"",null,null,null,null,null,"Non","Non",null,null,null,null,{"$f":"IF(K147=\"\",\"\",K147-TODAY())","v":""},{"$f":"IF(ISBLANK(F147),CONCATENATE(E147,\" - \",AG147),CONCATENATE(F147,\" - \",AG147))","v":" - "},{"$f":"IF(ISBLANK(B147),\"\",YEAR(C147))","v":""},{"$f":"CONCATENATE(H147,\"-\",AG147)","v":"-"},"--"]
["",null,null,{"$f":"IF(ISBLANK(B148),\"\",COUNTA(#REF!))","v":""},null,null,null,null,null,null,null,null,null,null,"Non","","Non",null,"",null,null,null,null,null,"Non","Non",null,null,null,null,""," - ","","-","--"]
["",null,null,{"$f":"IF(ISBLANK(B149),\"\",COUNTA(#REF!))","v":""},null,null,null,null,null,null,null,null,null,null,"Non","","Non",null,"",null,null,null,null,null,"Non","Non",null,null,null,null,""," - ","","-","--"]
["",null,null,{"$f":"IF(ISBLANK(B150),\"\",COUNTA(#REF!))","v":""},null,null,null,null,null,null,null,null,null,null,"Non","","Non",null,"",null,null,null,null,null,"Non","Non",null,null,null,null,""," - ","","-","--"]
["",null,null,{"$f":"IF(ISBLANK(B151),\"\",COUNTA(#REF!))","v":""},null,null,null,null,null,null,null,null,null,null,"Non",{"$f":"IF(ISBLANK(I151),\"\",IF(K151=\"\",\"délai à préciser\",IF(M151=\"\",\"statut à préciser\",IF(M151=\"finalisée\",IF(N151=\"\",\"date de solde à préciser\",IF(K151>=N151,\"fait\",\"retard\")),(IF(K151<TODAY(),\"retard\",\"Ok\"))))))","v":""},"Non",null,"",null,null,null,null,null,"Non","Non",null,null,null,null,""," - ","","-","--"]
["",null,null,{"$f":"IF(ISBLANK(B152),\"\",COUNTA(#REF!))","v":""},null,null,null,null,null,null,null,null,null,null,"Non","","Non",null,{"$f":"IF(ISBLANK(H152),\"\",IF(OR(H152=\"Préventive\",H152=\"Corrective\"),\"Oui\",\"Non\"))","v":""},null,null,null,null,null,"Non","Non",null,null,null,null,""," - ","","-","--"]
["",null,null,{"$f":"IF(ISBLANK(B153),\"\",COUNTA(#REF!))","v":""},null,null,null,null,null,null,null,null,null,null,"Non","","Non",null,"",null,null,null,null,null,"Non","Non",null,null,null,null,""," - ","","-","--"]
["",null,null,{"$f":"IF(ISBLANK(B154),\"\",COUNTA(#REF!))","v":""},null,null,null,null,null,null,null,null,null,null,"Non","","Non",null,"",null,null,null,null,null,"Non","Non",null,null,null,null,""," - ","","-","--"]
["",null,null,{"$f":"IF(ISBLANK(B155),\"\",COUNTA(#REF!))","v":""},null,null,null,null,null,null,null,null,null,null,"Non","","Non",null,"",null,null,null,null,null,"Non","Non",null,null,null,null,""," - ","","-","--"]
["",null,null,{"$f":"IF(ISBLANK(B156),\"\",COUNTA(#REF!))","v":""},null,null,null,null,null,null,null,null,null,null,"Non","","Non",null,"",null,null,null,null,null,"Non","Non",null,null,null,null,""," - ","","-","--"]
["",null,null,{"$f":"IF(ISBLANK(B157),\"\",COUNTA(#REF!))","v":""},null,null,null,null,null,null,null,null,null,null,"Non","","Non",null,"",null,null,null,null,null,"Non","Non",null,null,null,null,""," - ","","-","--"]
["",null,null,{"$f":"IF(ISBLANK(B158),\"\",COUNTA(#REF!))","v":""},null,null,null,null,null,null,null,null,null,null,"Non","","Non",null,"",null,null,null,null,null,"Non","Non",null,null,null,null,""," - ","","-","--"]
["",null,null,{"$f":"IF(ISBLANK(B159),\"\",COUNTA(#REF!))","v":""},null,null,null,null,null,null,null,null,null,null,"Non","","Non",null,"",null,null,null,null,null,"Non","Non",null,null,null,null,""," - ","","-","--"]
["",null,null,{"$f":"IF(ISBLANK(B160),\"\",COUNTA(#REF!))","v":""},null,null,null,null,null,null,null,null,null,null,"Non","","Non",null,"",null,null,null,null,null,"Non","Non",null,null,null,null,""," - ","","-","--"]
["",null,null,{"$f":"IF(ISBLANK(B161),\"\",COUNTA(#REF!))","v":""},null,null,null,null,null,null,null,null,null,null,"Non","","Non",null,"",null,null,null,null,null,"Non","Non",null,null,null,null,""," - ","","-","--"]
["",null,null,{"$f":"IF(ISBLANK(B162),\"\",COUNTA(#REF!))","v":""},null,null,null,null,null,null,null,null,null,null,"Non","","Non",null,"",null,null,null,null,null,"Non","Non",null,null,null,null,""," - ","","-","--"]
["",null,null,{"$f":"IF(ISBLANK(B163),\"\",COUNTA(#REF!))","v":""},null,null,null,null,null,null,null,null,null,null,"Non","","Non",null,"",null,null,null,null,null,"Non","Non",null,null,null,null,""," - ","","-","--"]
["",null,null,{"$f":"IF(ISBLANK(B164),\"\",COUNTA(#REF!))","v":""},null,null,null,null,null,null,null,null,null,null,"Non","","Non",null,"",null,null,null,null,null,"Non","Non",null,null,null,null,""," - ","","-","--"]
["",null,null,{"$f":"IF(ISBLANK(B165),\"\",COUNTA(#REF!))","v":""},null,null,null,null,null,null,null,null,null,null,"Non","","Non",null,"",null,null,null,null,null,"Non","Non",null,null,null,null,""," - ","","-","--"]
["",null,null,{"$f":"IF(ISBLANK(B166),\"\",COUNTA(#REF!))","v":""},null,null,null,null,null,null,null,null,null,null,"Non","","Non",null,"",null,null,null,null,null,"Non","Non",null,null,null,null,""," - ","","-","--"]
["",null,null,{"$f":"IF(ISBLANK(B167),\"\",COUNTA(#REF!))","v":""},null,null,null,null,null,null,null,null,null,null,"Non","","Non",null,"",null,null,null,null,null,"Non","Non",null,null,null,null,""," - ","","-","--"]
["",null,null,{"$f":"IF(ISBLANK(B168),\"\",COUNTA(#REF!))","v":""},null,null,null,null,null,null,null,null,null,null,"Non","","Non",null,"",null,null,null,null,null,"Non","Non",null,null,null,null,""," - ","","-","--"]
["",null,null,{"$f":"IF(ISBLANK(B169),\"\",COUNTA(#REF!))","v":""},null,null,null,null,null,null,null,null,null,null,"Non","","Non",null,"",null,null,null,null,null,"Non","Non",null,null,null,null,""," - ","","-","--"]
["",null,null,{"$f":"IF(ISBLANK(B170),\"\",COUNTA(#REF!))","v":""},null,null,null,null,null,null,null,null,null,null,"Non","","Non",null,"",null,null,null,null,null,"Non","Non",null,null,null,null,""," - ","","-","--"]
["",null,null,{"$f":"IF(ISBLANK(B171),\"\",COUNTA(#REF!))","v":""},null,null,null,null,null,null,null,null,null,null,"Non","","Non",null,"",null,null,null,null,null,"Non","Non",null,null,null,null,""," - ","","-","--"]
["",null,null,{"$f":"IF(ISBLANK(B172),\"\",COUNTA(#REF!))","v":""},null,null,null,null,null,null,null,null,null,null,"Non","","Non",null,"",null,null,null,null,null,"Non","Non",null,null,null,null,""," - ","","-","--"]
["",null,null,{"$f":"IF(ISBLANK(B173),\"\",COUNTA(#REF!))","v":""},null,null,null,null,null,null,null,null,null,null,"Non","","Non",null,"",null,null,null,null,null,"Non","Non",null,null,null,null,""," - ","","-","--"]
["",null,null,{"$f":"IF(ISBLANK(B174),\"\",COUNTA(#REF!))","v":""},null,null,null,null,null,null,null,null,null,null,"Non","","Non",null,"",null,null,null,null,null,"Non","Non",null,null,null,null,""," - ","","-","--"]
["",null,null,{"$f":"IF(ISBLANK(B175),\"\",COUNTA(#REF!))","v":""},null,null,null,null,null,null,null,null,null,null,"Non","","Non",null,"",null,null,null,null,null,"Non","Non",null,null,null,null,""," - ","","-","--"]
["",null,null,{"$f":"IF(ISBLANK(B176),\"\",COUNTA(#REF!))","v":""},null,null,null,null,null,null,null,null,null,null,"Non","","Non",null,"",null,null,null,null,null,"Non","Non",null,null,null,null,""," - ","","-","--"]
["",null,null,{"$f":"IF(ISBLANK(B177),\"\",COUNTA(#REF!))","v":""},null,null,null,null,null,null,null,null,null,null,"Non","","Non",null,"",null,null,null,null,null,"Non","Non",null,null,null,null,""," - ","","-","--"]
["",null,null,{"$f":"IF(ISBLANK(B178),\"\",COUNTA(#REF!))","v":""},null,null,null,null,null,null,null,null,null,null,"Non","","Non",null,"",null,null,null,null,null,"Non","Non",null,null,null,null,""," - ","","-","--"]
["",null,null,{"$f":"IF(ISBLANK(B179),\"\",COUNTA(#REF!))","v":""},null,null,null,null,null,null,null,null,null,null,"Non","","Non",null,"",null,null,null,null,null,"Non","Non",null,null,null,null,""," - ","","-","--"]
["",null,null,{"$f":"IF(ISBLANK(B180),\"\",COUNTA(#REF!))","v":""},null,null,null,null,null,null,null,null,null,null,"Non","","Non",null,"",null,null,null,null,null,"Non","Non",null,null,null,null,""," - ","","-","--"]
["",null,null,{"$f":"IF(ISBLANK(B181),\"\",COUNTA(#REF!))","v":""},null,null,null,null,null,null,null,null,null,null,"Non","","Non",null,"",null,null,null,null,null,"Non","Non",null,null,null,null,""," - ","","-","--"]
["",null,null,{"$f":"IF(ISBLANK(B182),\"\",COUNTA(#REF!))","v":""},null,null,null,null,null,null,null,null,null,null,"Non","","Non",null,"",null,null,null,null,null,"Non","Non",null,null,null,null,""," - ","","-","--"]
["",null,null,{"$f":"IF(ISBLANK(B183),\"\",COUNTA(#REF!))","v":""},null,null,null,null,null,null,null,null,null,null,"Non","","Non",null,"",null,null,null,null,null,"Non","Non",null,null,null,null,""," - ","","-","--"]
["",null,null,{"$f":"IF(ISBLANK(B184),\"\",COUNTA(#REF!))","v":""},null,null,null,null,null,null,null,null,null,null,"Non","","Non",null,"",null,null,null,null,null,"Non","Non",null,null,null,null,""," - ","","-","--"]
["",null,null,{"$f":"IF(ISBLANK(B185),\"\",COUNTA(#REF!))","v":""},null,null,null,null,null,null,null,null,null,null,"Non","","Non",null,"",null,null,null,null,null,"Non","Non",null,null,null,null,""," - ","","-","--"]
["",null,null,{"$f":"IF(ISBLANK(B186),\"\",COUNTA(#REF!))","v":""},null,null,null,null,null,null,null,null,null,null,"Non","","Non",null,"",null,null,null,null,null,"Non","Non",null,null,null,null,""," - ","","-","--"]
["",null,null,{"$f":"IF(ISBLANK(B187),\"\",COUNTA(#REF!))","v":""},null,null,null,null,null,null,null,null,null,null,"Non","","Non",null,"",null,null,null,null,null,"Non","Non",null,null,null,null,""," - ","","-","--"]
["",null,null,{"$f":"IF(ISBLANK(B188),\"\",COUNTA(#REF!))","v":""},null,null,null,null,null,null,null,null,null,null,"Non","","Non",null,"",null,null,null,null,null,"Non","Non",null,null,null,null,""," - ","","-","--"]
["",null,null,{"$f":"IF(ISBLANK(B189),\"\",COUNTA(#REF!))","v":""},null,null,null,null,null,null,null,null,null,null,"Non","","Non",null,"",null,null,null,null,null,"Non","Non",null,null,null,null,""," - ","","-","--"]
["",null,null,{"$f":"IF(ISBLANK(B190),\"\",COUNTA(#REF!))","v":""},null,null,null,null,null,null,null,null,null,null,"Non","","Non",null,"",null,null,null,null,null,"Non","Non",null,null,null,null,""," - ","","-","--"]
["",null,null,{"$f":"IF(ISBLANK(B191),\"\",COUNTA(#REF!))","v":""},null,null,null,null,null,null,null,null,null,null,"Non","","Non",null,"",null,null,null,null,null,"Non","Non",null,null,null,null,""," - ","","-","--"]
["",null,null,{"$f":"IF(ISBLANK(B192),\"\",COUNTA(#REF!))","v":""},null,null,null,null,null,null,null,null,null,null,"Non","","Non",null,"",null,null,null,null,null,"Non","Non",null,null,null,null,""," - ","","-","--"]
["",null,null,{"$f":"IF(ISBLANK(B193),\"\",COUNTA(#REF!))","v":""},null,null,null,null,null,null,null,null,null,null,"Non","","Non",null,"",null,null,null,null,null,"Non","Non",null,null,null,null,""," - ","","-","--"]
["",null,null,{"$f":"IF(ISBLANK(B194),\"\",COUNTA(#REF!))","v":""},null,null,null,null,null,null,null,null,null,null,"Non","","Non",null,"",null,null,null,null,null,"Non","Non",null,null,null,null,""," - ","","-","--"]
["",null,null,{"$f":"IF(ISBLANK(B195),\"\",COUNTA(#REF!))","v":""},null,null,null,null,null,null,null,null,null,null,"Non","","Non",null,"",null,null,null,null,null,"Non","Non",null,null,null,null,""," - ","","-","--"]
["",null,null,{"$f":"IF(ISBLANK(B196),\"\",COUNTA(#REF!))","v":""},null,null,null,null,null,null,null,null,null,null,"Non","","Non",null,"",null,null,null,null,null,"Non","Non",null,null,null,null,""," - ","","-","--"]
["",null,null,{"$f":"IF(ISBLANK(B197),\"\",COUNTA(#REF!))","v":""},null,null,null,null,null,null,null,null,null,null,"Non","","Non",null,"",null,null,null,null,null,"Non","Non",null,null,null,null,""," - ","","-","--"]
["",null,null,{"$f":"IF(ISBLANK(B198),\"\",COUNTA(#REF!))","v":""},null,null,null,null,null,null,null,null,null,null,"Non","","Non",null,"",null,null,null,null,null,"Non","Non",null,null,null,null,""," - ","","-","--"]
["",null,null,{"$f":"IF(ISBLANK(B199),\"\",COUNTA(#REF!))","v":""},null,null,null,null,null,null,null,null,null,null,"Non","","Non",null,"",null,null,null,null,null,"Non","Non",null,null,null,null,""," - ","","-","--"]
[{"$f":"IF(ISBLANK(B200),\"\",$C$2)","v":""},null,null,{"$f":"IF(ISBLANK(B200),\"\",COUNTA(#REF!))","v":""},null,null,null,null,null,null,null,null,null,null,{"$f":"IF(AND(K200<>\"\",ISBLANK(N200),K200<TODAY()),\"Oui\",\"Non\")","v":"Non"},"",{"$f":"IF(AND(N200<>\"\",ISBLANK(N200),K200<TODAY()),\"Oui\",\"Non\")","v":"Non"},null,"",null,null,null,null,null,"Non","Non",null,null,null,null,""," - ","","-",{"$f":"CONCATENATE(M200,\"-\",AH200)","v":"--"}]
["",null,null,{"$f":"IF(ISBLANK(B201),\"\",COUNTA(#REF!))","v":""},null,null,null,null,null,null,null,null,null,null,"Non","","Non",null,"",null,null,null,null,null,{"$f":"IF(AND(U201<>\"\",ISBLANK(X201),U201<TODAY()),\"Oui\",\"Non\")","v":"Non"},{"$f":"IF(AND(S201=\"Oui\",ISBLANK(X201)),\"Oui\",\"Non\")","v":"Non"},null,null,null,null,""," - ","","-","--"]
["",null,null,{"$f":"IF(ISBLANK(B202),\"\",COUNTA(#REF!))","v":""},null,null,null,null,null,null,null,null,null,null,"Non","","Non",null,"",null,null,null,null,null,"Non","Non",null,null,null,null,""," - ","","-","--"]
["",null,null,{"$f":"IF(ISBLANK(B203),\"\",COUNTA(#REF!))","v":""},null,null,null,null,null,null,null,null,null,null,"Non","","Non",null,"",null,null,null,null,null,"Non","Non",null,null,null,null,""," - ","","-","--"]
["",null,null,{"$f":"IF(ISBLANK(B204),\"\",COUNTA(#REF!))","v":""},null,null,null,null,null,null,null,null,null,null,"Non","","Non",null,"",null,null,null,null,null,"Non","Non",null,null,null,null,""," - ","","-","--"]
["",null,null,{"$f":"IF(ISBLANK(B205),\"\",COUNTA(#REF!))","v":""},null,null,null,null,null,null,null,null,null,null,"Non","","Non",null,"",null,null,null,null,null,"Non","Non",null,null,null,null,""," - ","","-","--"]
["",null,null,{"$f":"IF(ISBLANK(B206),\"\",COUNTA(#REF!))","v":""},null,null,null,null,null,null,null,null,null,null,"Non","","Non",null,"",null,null,null,null,null,"Non","Non",null,null,null,null,""," - ","","-","--"]
["",null,null,{"$f":"IF(ISBLANK(B207),\"\",COUNTA(#REF!))","v":""},null,null,null,null,null,null,null,null,null,null,"Non","","Non",null,"",null,null,null,null,null,"Non","Non",null,null,null,null,""," - ","","-","--"]
["",null,null,{"$f":"IF(ISBLANK(B208),\"\",COUNTA(#REF!))","v":""},null,null,null,null,null,null,null,null,null,null,"Non","","Non",null,"",null,null,null,null,null,"Non","Non",null,null,null,null,""," - ","","-","--"]
["",null,null,{"$f":"IF(ISBLANK(B209),\"\",COUNTA(#REF!))","v":""},null,null,null,null,null,null,null,null,null,null,"Non","","Non",null,"",null,null,null,null,null,"Non","Non",null,null,null,null,""," - ","","-","--"]
["",null,null,{"$f":"IF(ISBLANK(B210),\"\",COUNTA(#REF!))","v":""},null,null,null,null,null,null,null,null,null,null,"Non","","Non",null,"",null,null,null,null,null,"Non","Non",null,null,null,null,""," - ","","-","--"]
["",null,null,{"$f":"IF(ISBLANK(B211),\"\",COUNTA(#REF!))","v":""},null,null,null,null,null,null,null,null,null,null,"Non","","Non",null,"",null,null,null,null,null,"Non","Non",null,null,null,null,{"$f":"IF(K211=\"\",\"\",K211-TODAY())","v":""},{"$f":"IF(ISBLANK(F211),CONCATENATE(E211,\" - \",AG211),CONCATENATE(F211,\" - \",AG211))","v":" - "},{"$f":"IF(ISBLANK(B211),\"\",YEAR(C211))","v":""},{"$f":"CONCATENATE(H211,\"-\",AG211)","v":"-"},"--"]
["",null,null,{"$f":"IF(ISBLANK(B212),\"\",COUNTA(#REF!))","v":""},null,null,null,null,null,null,null,null,null,null,"Non","","Non",null,"",null,null,null,null,null,"Non","Non",null,null,null,null,""," - ","","-","--"]
["",null,null,{"$f":"IF(ISBLANK(B213),\"\",COUNTA(#REF!))","v":""},null,null,null,null,null,null,null,null,null,null,"Non","","Non",null,"",null,null,null,null,null,"Non","Non",null,null,null,null,""," - ","","-","--"]
["",null,null,{"$f":"IF(ISBLANK(B214),\"\",COUNTA(#REF!))","v":""},null,null,null,null,null,null,null,null,null,null,"Non","","Non",null,"",null,null,null,null,null,"Non","Non",null,null,null,null,""," - ","","-","--"]
["",null,null,{"$f":"IF(ISBLANK(B215),\"\",COUNTA(#REF!))","v":""},null,null,null,null,null,null,null,null,null,null,"Non",{"$f":"IF(ISBLANK(I215),\"\",IF(K215=\"\",\"délai à préciser\",IF(M215=\"\",\"statut à préciser\",IF(M215=\"finalisée\",IF(N215=\"\",\"date de solde à préciser\",IF(K215>=N215,\"fait\",\"retard\")),(IF(K215<TODAY(),\"retard\",\"Ok\"))))))","v":""},"Non",null,"",null,null,null,null,null,"Non","Non",null,null,null,null,""," - ","","-","--"]
["",null,null,{"$f":"IF(ISBLANK(B216),\"\",COUNTA(#REF!))","v":""},null,null,null,null,null,null,null,null,null,null,"Non","","Non",null,{"$f":"IF(ISBLANK(H216),\"\",IF(OR(H216=\"Préventive\",H216=\"Corrective\"),\"Oui\",\"Non\"))","v":""},null,null,null,null,null,"Non","Non",null,null,null,null,""," - ","","-","--"]
["",null,null,{"$f":"IF(ISBLANK(B217),\"\",COUNTA(#REF!))","v":""},null,null,null,null,null,null,null,null,null,null,"Non","","Non",null,"",null,null,null,null,null,"Non","Non",null,null,null,null,""," - ","","-","--"]
["",null,null,{"$f":"IF(ISBLANK(B218),\"\",COUNTA(#REF!))","v":""},null,null,null,null,null,null,null,null,null,null,"Non","","Non",null,"",null,null,null,null,null,"Non","Non",null,null,null,null,""," - ","","-","--"]
["",null,null,{"$f":"IF(ISBLANK(B219),\"\",COUNTA(#REF!))","v":""},null,null,null,null,null,null,null,null,null,null,"Non","","Non",null,"",null,null,null,null,null,"Non","Non",null,null,null,null,""," - ","","-","--"]
["",null,null,{"$f":"IF(ISBLANK(B220),\"\",COUNTA(#REF!))","v":""},null,null,null,null,null,null,null,null,null,null,"Non","","Non",null,"",null,null,null,null,null,"Non","Non",null,null,null,null,""," - ","","-","--"]
["",null,null,{"$f":"IF(ISBLANK(B221),\"\",COUNTA(#REF!))","v":""},null,null,null,null,null,null,null,null,null,null,"Non","","Non",null,"",null,null,null,null,null,"Non","Non",null,null,null,null,""," - ","","-","--"]
["",null,null,{"$f":"IF(ISBLANK(B222),\"\",COUNTA(#REF!))","v":""},null,null,null,null,null,null,null,null,null,null,"Non","","Non",null,"",null,null,null,null,null,"Non","Non",null,null,null,null,""," - ","","-","--"]
["",null,null,{"$f":"IF(ISBLANK(B223),\"\",COUNTA(#REF!))","v":""},null,null,null,null,null,null,null,null,null,null,"Non","","Non",null,"",null,null,null,null,null,"Non","Non",null,null,null,null,""," - ","","-","--"]
["",null,null,{"$f":"IF(ISBLANK(B224),\"\",COUNTA(#REF!))","v":""},null,null,null,null,null,null,null,null,null,null,"Non","","Non",null,"",null,null,null,null,null,"Non","Non",null,null,null,null,""," - ","","-","--"]
["",null,null,{"$f":"IF(ISBLANK(B225),\"\",COUNTA(#REF!))","v":""},null,null,null,null,null,null,null,null,null,null,"Non","","Non",null,"",null,null,null,null,null,"Non","Non",null,null,null,null,""," - ","","-","--"]
["",null,null,{"$f":"IF(ISBLANK(B226),\"\",COUNTA(#REF!))","v":""},null,null,null,null,null,null,null,null,null,null,"Non","","Non",null,"",null,null,null,null,null,"Non","Non",null,null,null,null,""," - ","","-","--"]
["",null,null,{"$f":"IF(ISBLANK(B227),\"\",COUNTA(#REF!))","v":""},null,null,null,null,null,null,null,null,null,null,"Non","","Non",null,"",null,null,null,null,null,"Non","Non",null,null,null,null,""," - ","","-","--"]
["",null,null,{"$f":"IF(ISBLANK(B228),\"\",COUNTA(#REF!))","v":""},null,null,null,null,null,null,null,null,null,null,"Non","","Non",null,"",null,null,null,null,null,"Non","Non",null,null,null,null,""," - ","","-","--"]
["",null,null,{"$f":"IF(ISBLANK(B229),\"\",COUNTA(#REF!))","v":""},null,null,null,null,null,null,null,null,null,null,"Non","","Non",null,"",null,null,null,null,null,"Non","Non",null,null,null,null,""," - ","","-","--"]
["",null,null,{"$f":"IF(ISBLANK(B230),\"\",COUNTA(#REF!))","v":""},null,null,null,null,null,null,null,null,null,null,"Non","","Non",null,"",null,null,null,null,null,"Non","Non",null,null,null,null,""," - ","","-","--"]
["",null,null,{"$f":"IF(ISBLANK(B231),\"\",COUNTA(#REF!))","v":""},null,null,null,null,null,null,null,null,null,null,"Non","","Non",null,"",null,null,null,null,null,"Non","Non",null,null,null,null,""," - ","","-","--"]
["",null,null,{"$f":"IF(ISBLANK(B232),\"\",COUNTA(#REF!))","v":""},null,null,null,null,null,null,null,null,null,null,"Non","","Non",null,"",null,null,null,null,null,"Non","Non",null,null,null,null,""," - ","","-","--"]
["",null,null,{"$f":"IF(ISBLANK(B233),\"\",COUNTA(#REF!))","v":""},null,null,null,null,null,null,null,null,null,null,"Non","","Non",null,"",null,null,null,null,null,"Non","Non",null,null,null,null,""," - ","","-","--"]
["",null,null,{"$f":"IF(ISBLANK(B234),\"\",COUNTA(#REF!))","v":""},null,null,null,null,null,null,null,null,null,null,"Non","","Non",null,"",null,null,null,null,null,"Non","Non",null,null,null,null,""," - ","","-","--"]
["",null,null,{"$f":"IF(ISBLANK(B235),\"\",COUNTA(#REF!))","v":""},null,null,null,null,null,null,null,null,null,null,"Non","","Non",null,"",null,null,null,null,null,"Non","Non",null,null,null,null,""," - ","","-","--"]
["",null,null,{"$f":"IF(ISBLANK(B236),\"\",COUNTA(#REF!))","v":""},null,null,null,null,null,null,null,null,null,null,"Non","","Non",null,"",null,null,null,null,null,"Non","Non",null,null,null,null,""," - ","","-","--"]
["",null,null,{"$f":"IF(ISBLANK(B237),\"\",COUNTA(#REF!))","v":""},null,null,null,null,null,null,null,null,null,null,"Non","","Non",null,"",null,null,null,null,null,"Non","Non",null,null,null,null,""," - ","","-","--"]
["",null,null,{"$f":"IF(ISBLANK(B238),\"\",COUNTA(#REF!))","v":""},null,null,null,null,null,null,null,null,null,null,"Non","","Non",null,"",null,null,null,null,null,"Non","Non",null,null,null,null,""," - ","","-","--"]
["",null,null,{"$f":"IF(ISBLANK(B239),\"\",COUNTA(#REF!))","v":""},null,null,null,null,null,null,null,null,null,null,"Non","","Non",null,"",null,null,null,null,null,"Non","Non",null,null,null,null,""," - ","","-","--"]
["",null,null,{"$f":"IF(ISBLANK(B240),\"\",COUNTA(#REF!))","v":""},null,null,null,null,null,null,null,null,null,null,"Non","","Non",null,"",null,null,null,null,null,"Non","Non",null,null,null,null,""," - ","","-","--"]
["",null,null,{"$f":"IF(ISBLANK(B241),\"\",COUNTA(#REF!))","v":""},null,null,null,null,null,null,null,null,null,null,"Non","","Non",null,"",null,null,null,null,null,"Non","Non",null,null,null,null,""," - ","","-","--"]
["",null,null,{"$f":"IF(ISBLANK(B242),\"\",COUNTA(#REF!))","v":""},null,null,null,null,null,null,null,null,null,null,"Non","","Non",null,"",null,null,null,null,null,"Non","Non",null,null,null,null,""," - ","","-","--"]
["",null,null,{"$f":"IF(ISBLANK(B243),\"\",COUNTA(#REF!))","v":""},null,null,null,null,null,null,null,null,null,null,"Non","","Non",null,"",null,null,null,null,null,"Non","Non",null,null,null,null,""," - ","","-","--"]
["",null,null,{"$f":"IF(ISBLANK(B244),\"\",COUNTA(#REF!))","v":""},null,null,null,null,null,null,null,null,null,null,"Non","","Non",null,"",null,null,null,null,null,"Non","Non",null,null,null,null,""," - ","","-","--"]
["",null,null,{"$f":"IF(ISBLANK(B245),\"\",COUNTA(#REF!))","v":""},null,null,null,null,null,null,null,null,null,null,"Non","","Non",null,"",null,null,null,null,null,"Non","Non",null,null,null,null,""," - ","","-","--"]
["",null,null,{"$f":"IF(ISBLANK(B246),\"\",COUNTA(#REF!))","v":""},null,null,null,null,null,null,null,null,null,null,"Non","","Non",null,"",null,null,null,null,null,"Non","Non",null,null,null,null,""," - ","","-","--"]
["",null,null,{"$f":"IF(ISBLANK(B247),\"\",COUNTA(#REF!))","v":""},null,null,null,null,null,null,null,null,null,null,"Non","","Non",null,"",null,null,null,null,null,"Non","Non",null,null,null,null,""," - ","","-","--"]
["",null,null,{"$f":"IF(ISBLANK(B248),\"\",COUNTA(#REF!))","v":""},null,null,null,null,null,null,null,null,null,null,"Non","","Non",null,"",null,null,null,null,null,"Non","Non",null,null,null,null,""," - ","","-","--"]
["",null,null,{"$f":"IF(ISBLANK(B249),\"\",COUNTA(#REF!))","v":""},null,null,null,null,null,null,null,null,null,null,"Non","","Non",null,"",null,null,null,null,null,"Non","Non",null,null,null,null,""," - ","","-","--"]
["",null,null,{"$f":"IF(ISBLANK(B250),\"\",COUNTA(#REF!))","v":""},null,null,null,null,null,null,null,null,null,null,"Non","","Non",null,"",null,null,null,null,null,"Non","Non",null,null,null,null,""," - ","","-","--"]
["",null,null,{"$f":"IF(ISBLANK(B251),\"\",COUNTA(#REF!))","v":""},null,null,null,null,null,null,null,null,null,null,"Non","","Non",null,"",null,null,null,null,null,"Non","Non",null,null,null,null,""," - ","","-","--"]
["",null,null,{"$f":"IF(ISBLANK(B252),\"\",COUNTA(#REF!))","v":""},null,null,null,null,null,null,null,null,null,null,"Non","","Non",null,"",null,null,null,null,null,"Non","Non",null,null,null,null,""," - ","","-","--"]
["",null,null,{"$f":"IF(ISBLANK(B253),\"\",COUNTA(#REF!))","v":""},null,null,null,null,null,null,null,null,null,null,"Non","","Non",null,"",null,null,null,null,null,"Non","Non",null,null,null,null,""," - ","","-","--"]
["",null,null,{"$f":"IF(ISBLANK(B254),\"\",COUNTA(#REF!))","v":""},null,null,null,null,null,null,null,null,null,null,"Non","","Non",null,"",null,null,null,null,null,"Non","Non",null,null,null,null,""," - ","","-","--"]
["",null,null,{"$f":"IF(ISBLANK(B255),\"\",COUNTA(#REF!))","v":""},null,null,null,null,null,null,null,null,null,null,"Non","","Non",null,"",null,null,null,null,null,"Non","Non",null,null,null,null,""," - ","","-","--"]
["",null,null,{"$f":"IF(ISBLANK(B256),\"\",COUNTA(#REF!))","v":""},null,null,null,null,null,null,null,null,null,null,"Non","","Non",null,"",null,null,null,null,null,"Non","Non",null,null,null,null,""," - ","","-","--"]
["",null,null,{"$f":"IF(ISBLANK(B257),\"\",COUNTA(#REF!))","v":""},null,null,null,null,null,null,null,null,null,null,"Non","","Non",null,"",null,null,null,null,null,"Non","Non",null,null,null,null,""," - ","","-","--"]
["",null,null,{"$f":"IF(ISBLANK(B258),\"\",COUNTA(#REF!))","v":""},null,null,null,null,null,null,null,null,null,null,"Non","","Non",null,"",null,null,null,null,null,"Non","Non",null,null,null,null,""," - ","","-","--"]
["",null,null,{"$f":"IF(ISBLANK(B259),\"\",COUNTA(#REF!))","v":""},null,null,null,null,null,null,null,null,null,null,"Non","","Non",null,"",null,null,null,null,null,"Non","Non",null,null,null,null,""," - ","","-","--"]
["",null,null,{"$f":"IF(ISBLANK(B260),\"\",COUNTA(#REF!))","v":""},null,null,null,null,null,null,null,null,null,null,"Non","","Non",null,"",null,null,null,null,null,"Non","Non",null,null,null,null,""," - ","","-","--"]
["",null,null,{"$f":"IF(ISBLANK(B261),\"\",COUNTA(#REF!))","v":""},null,null,null,null,null,null,null,null,null,null,"Non","","Non",null,"",null,null,null,null,null,"Non","Non",null,null,null,null,""," - ","","-","--"]
["",null,null,{"$f":"IF(ISBLANK(B262),\"\",COUNTA(#REF!))","v":""},null,null,null,null,null,null,null,null,null,null,"Non","","Non",null,"",null,null,null,null,null,"Non","Non",null,null,null,null,""," - ","","-","--"]
["",null,null,{"$f":"IF(ISBLANK(B263),\"\",COUNTA(#REF!))","v":""},null,null,null,null,null,null,null,null,null,null,"Non","","Non",null,"",null,null,null,null,null,"Non","Non",null,null,null,null,""," - ","","-","--"]
[{"$f":"IF(ISBLANK(B264),\"\",$C$2)","v":""},null,null,{"$f":"IF(ISBLANK(B264),\"\",COUNTA(#REF!))","v":""},null,null,null,null,null,null,null,null,null,null,{"$f":"IF(AND(K264<>\"\",ISBLANK(N264),K264<TODAY()),\"Oui\",\"Non\")","v":"Non"},"",{"$f":"IF(AND(N264<>\"\",ISBLANK(N264),K264<TODAY()),\"Oui\",\"Non\")","v":"Non"},null,"",null,null,null,null,null,"Non","Non",null,null,null,null,""," - ","","-",{"$f":"CONCATENATE(M264,\"-\",AH264)","v":"--"}]
["",null,null,{"$f":"IF(ISBLANK(B265),\"\",COUNTA(#REF!))","v":""},null,null,null,null,null,null,null,null,null,null,"Non","","Non",null,"",null,null,null,null,null,{"$f":"IF(AND(U265<>\"\",ISBLANK(X265),U265<TODAY()),\"Oui\",\"Non\")","v":"Non"},{"$f":"IF(AND(S265=\"Oui\",ISBLANK(X265)),\"Oui\",\"Non\")","v":"Non"},null,null,null,null,""," - ","","-","--"]
["",null,null,{"$f":"IF(ISBLANK(B266),\"\",COUNTA(#REF!))","v":""},null,null,null,null,null,null,null,null,null,null,"Non","","Non",null,"",null,null,null,null,null,"Non","Non",null,null,null,null,""," - ","","-","--"]
["",null,null,{"$f":"IF(ISBLANK(B267),\"\",COUNTA(#REF!))","v":""},null,null,null,null,null,null,null,null,null,null,"Non","","Non",null,"",null,null,null,null,null,"Non","Non",null,null,null,null,""," - ","","-","--"]
["",null,null,{"$f":"IF(ISBLANK(B268),\"\",COUNTA(#REF!))","v":""},null,null,null,null,null,null,null,null,null,null,"Non","","Non",null,"",null,null,null,null,null,"Non","Non",null,null,null,null,""," - ","","-","--"]
["",null,null,{"$f":"IF(ISBLANK(B269),\"\",COUNTA(#REF!))","v":""},null,null,null,null,null,null,null,null,null,null,"Non","","Non",null,"",null,null,null,null,null,"Non","Non",null,null,null,null,""," - ","","-","--"]
["",null,null,{"$f":"IF(ISBLANK(B270),\"\",COUNTA(#REF!))","v":""},null,null,null,null,null,null,null,null,null,null,"Non","","Non",null,"",null,null,null,null,null,"Non","Non",null,null,null,null,""," - ","","-","--"]
["",null,null,{"$f":"IF(ISBLANK(B271),\"\",COUNTA(#REF!))","v":""},null,null,null,null,null,null,null,null,null,null,"Non","","Non",null,"",null,null,null,null,null,"Non","Non",null,null,null,null,""," - ","","-","--"]
["",null,null,{"$f":"IF(ISBLANK(B272),\"\",COUNTA(#REF!))","v":""},null,null,null,null,null,null,null,null,null,null,"Non","","Non",null,"",null,null,null,null,null,"Non","Non",null,null,null,null,""," - ","","-","--"]
["",null,null,{"$f":"IF(ISBLANK(B273),\"\",COUNTA(#REF!))","v":""},null,null,null,null,null,null,null,null,null,null,"Non","","Non",null,"",null,null,null,null,null,"Non","Non",null,null,null,null,""," - ","","-","--"]
["",null,null,{"$f":"IF(ISBLANK(B274),\"\",COUNTA(#REF!))","v":""},null,null,null,null,null,null,null,null,null,null,"Non","","Non",null,"",null,null,null,null,null,"Non","Non",null,null,null,null,""," - ","","-","--"]
["",null,null,{"$f":"IF(ISBLANK(B275),\"\",COUNTA(#REF!))","v":""},null,null,null,null,null,null,null,null,null,null,"Non","","Non",null,"",null,null,null,null,null,"Non","Non",null,null,null,null,{"$f":"IF(K275=\"\",\"\",K275-TODAY())","v":""},{"$f":"IF(ISBLANK(F275),CONCATENATE(E275,\" - \",AG275),CONCATENATE(F275,\" - \",AG275))","v":" - "},{"$f":"IF(ISBLANK(B275),\"\",YEAR(C275))","v":""},{"$f":"CONCATENATE(H275,\"-\",AG275)","v":"-"},"--"]
["",null,null,{"$f":"IF(ISBLANK(B276),\"\",COUNTA(#REF!))","v":""},null,null,null,null,null,null,null,null,null,null,"Non","","Non",null,"",null,null,null,null,null,"Non","Non",null,null,null,null,""," - ","","-","--"]
["",null,null,{"$f":"IF(ISBLANK(B277),\"\",COUNTA(#REF!))","v":""},null,null,null,null,null,null,null,null,null,null,"Non","","Non",null,"",null,null,null,null,null,"Non","Non",null,null,null,null,""," - ","","-","--"]
["",null,null,{"$f":"IF(ISBLANK(B278),\"\",COUNTA(#REF!))","v":""},null,null,null,null,null,null,null,null,null,null,"Non","","Non",null,"",null,null,null,null,null,"Non","Non",null,null,null,null,""," - ","","-","--"]
["",null,null,{"$f":"IF(ISBLANK(B279),\"\",COUNTA(#REF!))","v":""},null,null,null,null,null,null,null,null,null,null,"Non",{"$f":"IF(ISBLANK(I279),\"\",IF(K279=\"\",\"délai à préciser\",IF(M279=\"\",\"statut à préciser\",IF(M279=\"finalisée\",IF(N279=\"\",\"date de solde à préciser\",IF(K279>=N279,\"fait\",\"retard\")),(IF(K279<TODAY(),\"retard\",\"Ok\"))))))","v":""},"Non",null,"",null,null,null,null,null,"Non","Non",null,null,null,null,""," - ","","-","--"]
["",null,null,{"$f":"IF(ISBLANK(B280),\"\",COUNTA(#REF!))","v":""},null,null,null,null,null,null,null,null,null,null,"Non","","Non",null,{"$f":"IF(ISBLANK(H280),\"\",IF(OR(H280=\"Préventive\",H280=\"Corrective\"),\"Oui\",\"Non\"))","v":""},null,null,null,null,null,"Non","Non",null,null,null,null,""," - ","","-","--"]
["",null,null,{"$f":"IF(ISBLANK(B281),\"\",COUNTA(#REF!))","v":""},null,null,null,null,null,null,null,null,null,null,"Non","","Non",null,"",null,null,null,null,null,"Non","Non",null,null,null,null,""," - ","","-","--"]
["",null,null,{"$f":"IF(ISBLANK(B282),\"\",COUNTA(#REF!))","v":""},null,null,null,null,null,null,null,null,null,null,"Non","","Non",null,"",null,null,null,null,null,"Non","Non",null,null,null,null,""," - ","","-","--"]
["",null,null,{"$f":"IF(ISBLANK(B283),\"\",COUNTA(#REF!))","v":""},null,null,null,null,null,null,null,null,null,null,"Non","","Non",null,"",null,null,null,null,null,"Non","Non",null,null,null,null,""," - ","","-","--"]
["",null,null,{"$f":"IF(ISBLANK(B284),\"\",COUNTA(#REF!))","v":""},null,null,null,null,null,null,null,null,null,null,"Non","","Non",null,"",null,null,null,null,null,"Non","Non",null,null,null,null,""," - ","","-","--"]
["",null,null,{"$f":"IF(ISBLANK(B285),\"\",COUNTA(#REF!))","v":""},null,null,null,null,null,null,null,null,null,null,"Non","","Non",null,"",null,null,null,null,null,"Non","Non",null,null,null,null,""," - ","","-","--"]
["",null,null,{"$f":"IF(ISBLANK(B286),\"\",COUNTA(#REF!))","v":""},null,null,null,null,null,null,null,null,null,null,"Non","","Non",null,"",null,null,null,null,null,"Non","Non",null,null,null,null,""," - ","","-","--"]
["",null,null,{"$f":"IF(ISBLANK(B287),\"\",COUNTA(#REF!))","v":""},null,null,null,null,null,null,null,null,null,null,"Non","","Non",null,"",null,null,null,null,null,"Non","Non",null,null,null,null,""," - ","","-","--"]
["",null,null,{"$f":"IF(ISBLANK(B288),\"\",COUNTA(#REF!))","v":""},null,null,null,null,null,null,null,null,null,null,"Non","","Non",null,"",null,null,null,null,null,"Non","Non",null,null,null,null,""," - ","","-","--"]
["",null,null,{"$f":"IF(ISBLANK(B289),\"\",COUNTA(#REF!))","v":""},null,null,null,null,null,null,null,null,null,null,"Non","","Non",null,"",null,null,null,null,null,"Non","Non",null,null,null,null,""," - ","","-","--"]
["",null,null,{"$f":"IF(ISBLANK(B290),\"\",COUNTA(#REF!))","v":""},null,null,null,null,null,null,null,null,null,null,"Non","","Non",null,"",null,null,null,null,null,"Non","Non",null,null,null,null,""," - ","","-","--"]
["",null,null,{"$f":"IF(ISBLANK(B291),\"\",COUNTA(#REF!))","v":""},null,null,null,null,null,null,null,null,null,null,"Non","","Non",null,"",null,null,null,null,null,"Non","Non",null,null,null,null,""," - ","","-","--"]
["",null,null,{"$f":"IF(ISBLANK(B292),\"\",COUNTA(#REF!))","v":""},null,null,null,null,null,null,null,null,null,null,"Non","","Non",null,"",null,null,null,null,null,"Non","Non",null,null,null,null,""," - ","","-","--"]
["",null,null,{"$f":"IF(ISBLANK(B293),\"\",COUNTA(#REF!))","v":""},null,null,null,null,null,null,null,null,null,null,"Non","","Non",null,"",null,null,null,null,null,"Non","Non",null,null,null,null,""," - ","","-","--"]
["",null,null,{"$f":"IF(ISBLANK(B294),\"\",COUNTA(#REF!))","v":""},null,null,null,null,null,null,null,null,null,null,"Non","","Non",null,"",null,null,null,null,null,"Non","Non",null,null,null,null,""," - ","","-","--"]
["",null,null,{"$f":"IF(ISBLANK(B295),\"\",COUNTA(#REF!))","v":""},null,null,null,null,null,null,null,null,null,null,"Non","","Non",null,"",null,null,null,null,null,"Non","Non",null,null,null,null,""," - ","","-","--"]
["",null,null,{"$f":"IF(ISBLANK(B296),\"\",COUNTA(#REF!))","v":""},null,null,null,null,null,null,null,null,null,null,"Non","","Non",null,"",null,null,null,null,null,"Non","Non",null,null,null,null,""," - ","","-","--"]
["",null,null,{"$f":"IF(ISBLANK(B297),\"\",COUNTA(#REF!))","v":""},null,null,null,null,null,null,null,null,null,null,"Non","","Non",null,"",null,null,null,null,null,"Non","Non",null,null,null,null,""," - ","","-","--"]
["",null,null,{"$f":"IF(ISBLANK(B298),\"\",COUNTA(#REF!))","v":""},null,null,null,null,null,null,null,null,null,null,"Non","","Non",null,"",null,null,null,null,null,"Non","Non",null,null,null,null,""," - ","","-","--"]
["",null,null,{"$f":"IF(ISBLANK(B299),\"\",COUNTA(#REF!))","v":""},null,null,null,null,null,null,null,null,null,null,"Non","","Non",null,"",null,null,null,null,null,"Non","Non",null,null,null,null,""," - ","","-","--"]
["",null,null,{"$f":"IF(ISBLANK(B300),\"\",COUNTA(#REF!))","v":""},null,null,null,null,null,null,null,null,null,null,"Non","","Non",null,"",null,null,null,null,null,"Non","Non",null,null,null,null,""," - ","","-","--"]
["",null,null,{"$f":"IF(ISBLANK(B301),\"\",COUNTA(#REF!))","v":""},null,null,null,null,null,null,null,null,null,null,"Non","","Non",null,"",null,null,null,null,null,"Non","Non",null,null,null,null,""," - ","","-","--"]
["",null,null,{"$f":"IF(ISBLANK(B302),\"\",COUNTA(#REF!))","v":""},null,null,null,null,null,null,null,null,null,null,"Non","","Non",null,"",null,null,null,null,null,"Non","Non",null,null,null,null,""," - ","","-","--"]
["",null,null,{"$f":"IF(ISBLANK(B303),\"\",COUNTA(#REF!))","v":""},null,null,null,null,null,null,null,null,null,null,"Non","","Non",null,"",null,null,null,null,null,"Non","Non",null,null,null,null,""," - ","","-","--"]
["",null,null,{"$f":"IF(ISBLANK(B304),\"\",COUNTA(#REF!))","v":""},null,null,null,null,null,null,null,null,null,null,"Non","","Non",null,"",null,null,null,null,null,"Non","Non",null,null,null,null,""," - ","","-","--"]
["",null,null,{"$f":"IF(ISBLANK(B305),\"\",COUNTA(#REF!))","v":""},null,null,null,null,null,null,null,null,null,null,"Non","","Non",null,"",null,null,null,null,null,"Non","Non",null,null,null,null,""," - ","","-","--"]
["",null,null,{"$f":"IF(ISBLANK(B306),\"\",COUNTA(#REF!))","v":""},null,null,null,null,null,null,null,null,null,null,"Non","","Non",null,"",null,null,null,null,null,"Non","Non",null,null,null,null,""," - ","","-","--"]
["",null,null,{"$f":"IF(ISBLANK(B307),\"\",COUNTA(#REF!))","v":""},null,null,null,null,null,null,null,null,null,null,"Non","","Non",null,"",null,null,null,null,null,"Non","Non",null,null,null,null,""," - ","","-","--"]
["",null,null,{"$f":"IF(ISBLANK(B308),\"\",COUNTA(#REF!))","v":""},null,null,null,null,null,null,null,null,null,null,"Non","","Non",null,"",null,null,null,null,null,"Non","Non",null,null,null,null,""," - ","","-","--"]
["",null,null,{"$f":"IF(ISBLANK(B309),\"\",COUNTA(#REF!))","v":""},null,null,null,null,null,null,null,null,null,null,"Non","","Non",null,"",null,null,null,null,null,"Non","Non",null,null,null,null,""," - ","","-","--"]
["",null,null,{"$f":"IF(ISBLANK(B310),\"\",COUNTA(#REF!))","v":""},null,null,null,null,null,null,null,null,null,null,"Non","","Non",null,"",null,null,null,null,null,"Non","Non",null,null,null,null,""," - ","","-","--"]
["",null,null,{"$f":"IF(ISBLANK(B311),\"\",COUNTA(#REF!))","v":""},null,null,null,null,null,null,null,null,null,null,"Non","","Non",null,"",null,null,null,null,null,"Non","Non",null,null,null,null,""," - ","","-","--"]
["",null,null,{"$f":"IF(ISBLANK(B312),\"\",COUNTA(#REF!))","v":""},null,null,null,null,null,null,null,null,null,null,"Non","","Non",null,"",null,null,null,null,null,"Non","Non",null,null,null,null,""," - ","","-","--"]
["",null,null,{"$f":"IF(ISBLANK(B313),\"\",COUNTA(#REF!))","v":""},null,null,null,null,null,null,null,null,null,null,"Non","","Non",null,"",null,null,null,null,null,"Non","Non",null,null,null,null,""," - ","","-","--"]
["",null,null,{"$f":"IF(ISBLANK(B314),\"\",COUNTA(#REF!))","v":""},null,null,null,null,null,null,null,null,null,null,"Non","","Non",null,"",null,null,null,null,null,"Non","Non",null,null,null,null,""," - ","","-","--"]
["",null,null,{"$f":"IF(ISBLANK(B315),\"\",COUNTA(#REF!))","v":""},null,null,null,null,null,null,null,null,null,null,"Non","","Non",null,"",null,null,null,null,null,"Non","Non",null,null,null,null,""," - ","","-","--"]
["",null,null,{"$f":"IF(ISBLANK(B316),\"\",COUNTA(#REF!))","v":""},null,null,null,null,null,null,null,null,null,null,"Non","","Non",null,"",null,null,null,null,null,"Non","Non",null,null,null,null,""," - ","","-","--"]
["",null,null,{"$f":"IF(ISBLANK(B317),\"\",COUNTA(#REF!))","v":""},null,null,null,null,null,null,null,null,null,null,"Non","","Non",null,"",null,null,null,null,null,"Non","Non",null,null,null,null,""," - ","","-","--"]
["",null,null,{"$f":"IF(ISBLANK(B318),\"\",COUNTA(#REF!))","v":""},null,null,null,null,null,null,null,null,null,null,"Non","","Non",null,"",null,null,null,null,null,"Non","Non",null,null,null,null,""," - ","","-","--"]
["",null,null,{"$f":"IF(ISBLANK(B319),\"\",COUNTA(#REF!))","v":""},null,null,null,null,null,null,null,null,null,null,"Non","","Non",null,"",null,null,null,null,null,"Non","Non",null,null,null,null,""," - ","","-","--"]
["",null,null,{"$f":"IF(ISBLANK(B320),\"\",COUNTA(#REF!))","v":""},null,null,null,null,null,null,null,null,null,null,"Non","","Non",null,"",null,null,null,null,null,"Non","Non",null,null,null,null,""," - ","","-","--"]
["",null,null,{"$f":"IF(ISBLANK(B321),\"\",COUNTA(#REF!))","v":""},null,null,null,null,null,null,null,null,null,null,"Non","","Non",null,"",null,null,null,null,null,"Non","Non",null,null,null,null,""," - ","","-","--"]
["",null,null,{"$f":"IF(ISBLANK(B322),\"\",COUNTA(#REF!))","v":""},null,null,null,null,null,null,null,null,null,null,"Non","","Non",null,"",null,null,null,null,null,"Non","Non",null,null,null,null,""," - ","","-","--"]
["",null,null,{"$f":"IF(ISBLANK(B323),\"\",COUNTA(#REF!))","v":""},null,null,null,null,null,null,null,null,null,null,"Non","","Non",null,"",null,null,null,null,null,"Non","Non",null,null,null,null,""," - ","","-","--"]
["",null,null,{"$f":"IF(ISBLANK(B324),\"\",COUNTA(#REF!))","v":""},null,null,null,null,null,null,null,null,null,null,"Non","","Non",null,"",null,null,null,null,null,"Non","Non",null,null,null,null,""," - ","","-","--"]
["",null,null,{"$f":"IF(ISBLANK(B325),\"\",COUNTA(#REF!))","v":""},null,null,null,null,null,null,null,null,null,null,"Non","","Non",null,"",null,null,null,null,null,"Non","Non",null,null,null,null,""," - ","","-","--"]
["",null,null,{"$f":"IF(ISBLANK(B326),\"\",COUNTA(#REF!))","v":""},null,null,null,null,null,null,null,null,null,null,"Non","","Non",null,"",null,null,null,null,null,"Non","Non",null,null,null,null,""," - ","","-","--"]
["",null,null,{"$f":"IF(ISBLANK(B327),\"\",COUNTA(#REF!))","v":""},null,null,null,null,null,null,null,null,null,null,"Non","","Non",null,"",null,null,null,null,null,"Non","Non",null,null,null,null,""," - ","","-","--"]
[{"$f":"IF(ISBLANK(B328),\"\",$C$2)","v":""},null,null,{"$f":"IF(ISBLANK(B328),\"\",COUNTA(#REF!))","v":""},null,null,null,null,null,null,null,null,null,null,{"$f":"IF(AND(K328<>\"\",ISBLANK(N328),K328<TODAY()),\"Oui\",\"Non\")","v":"Non"},"",{"$f":"IF(AND(N328<>\"\",ISBLANK(N328),K328<TODAY()),\"Oui\",\"Non\")","v":"Non"},null,"",null,null,null,null,null,"Non","Non",null,null,null,null,""," - ","","-",{"$f":"CONCATENATE(M328,\"-\",AH328)","v":"--"}]
["",null,null,{"$f":"IF(ISBLANK(B329),\"\",COUNTA(#REF!))","v":""},null,null,null,null,null,null,null,null,null,null,"Non","","Non",null,"",null,null,null,null,null,{"$f":"IF(AND(U329<>\"\",ISBLANK(X329),U329<TODAY()),\"Oui\",\"Non\")","v":"Non"},{"$f":"IF(AND(S329=\"Oui\",ISBLANK(X329)),\"Oui\",\"Non\")","v":"Non"},null,null,null,null,""," - ","","-","--"]
["",null,null,{"$f":"IF(ISBLANK(B330),\"\",COUNTA(#REF!))","v":""},null,null,null,null,null,null,null,null,null,null,"Non","","Non",null,"",null,null,null,null,null,"Non","Non",null,null,null,null,""," - ","","-","--"]
["",null,null,{"$f":"IF(ISBLANK(B331),\"\",COUNTA(#REF!))","v":""},null,null,null,null,null,null,null,null,null,null,"Non","","Non",null,"",null,null,null,null,null,"Non","Non",null,null,null,null,""," - ","","-","--"]
["",null,null,{"$f":"IF(ISBLANK(B332),\"\",COUNTA(#REF!))","v":""},null,null,null,null,null,null,null,null,null,null,"Non","","Non",null,"",null,null,null,null,null,"Non","Non",null,null,null,null,""," - ","","-","--"]
["",null,null,{"$f":"IF(ISBLANK(B333),\"\",COUNTA(#REF!))","v":""},null,null,null,null,null,null,null,null,null,null,"Non","","Non",null,"",null,null,null,null,null,"Non","Non",null,null,null,null,""," - ","","-","--"]
["",null,null,{"$f":"IF(ISBLANK(B334),\"\",COUNTA(#REF!))","v":""},null,null,null,null,null,null,null,null,null,null,"Non","","Non",null,"",null,null,null,null,null,"Non","Non",null,null,null,null,""," - ","","-","--"]
["",null,null,{"$f":"IF(ISBLANK(B335),\"\",COUNTA(#REF!))","v":""},null,null,null,null,null,null,null,null,null,null,"Non","","Non",null,"",null,null,null,null,null,"Non","Non",null,null,null,null,""," - ","","-","--"]
["",null,null,{"$f":"IF(ISBLANK(B336),\"\",COUNTA(#REF!))","v":""},null,null,null,null,null,null,null,null,null,null,"Non","","Non",null,"",null,null,null,null,null,"Non","Non",null,null,null,null,""," - ","","-","--"]
["",null,null,{"$f":"IF(ISBLANK(B337),\"\",COUNTA(#REF!))","v":""},null,null,null,null,null,null,null,null,null,null,"Non","","Non",null,"",null,null,null,null,null,"Non","Non",null,null,null,null,""," - ","","-","--"]
["",null,null,{"$f":"IF(ISBLANK(B338),\"\",COUNTA(#REF!))","v":""},null,null,null,null,null,null,null,null,null,null,"Non","","Non",null,"",null,null,null,null,null,"Non","Non",null,null,null,null,""," - ","","-","--"]
["",null,null,{"$f":"IF(ISBLANK(B339),\"\",COUNTA(#REF!))","v":""},null,null,null,null,null,null,null,null,null,null,"Non","","Non",null,"",null,null,null,null,null,"Non","Non",null,null,null,null,{"$f":"IF(K339=\"\",\"\",K339-TODAY())","v":""},{"$f":"IF(ISBLANK(F339),CONCATENATE(E339,\" - \",AG339),CONCATENATE(F339,\" - \",AG339))","v":" - "},{"$f":"IF(ISBLANK(B339),\"\",YEAR(C339))","v":""},{"$f":"CONCATENATE(H339,\"-\",AG339)","v":"-"},"--"]
["",null,null,{"$f":"IF(ISBLANK(B340),\"\",COUNTA(#REF!))","v":""},null,null,null,null,null,null,null,null,null,null,"Non","","Non",null,"",null,null,null,null,null,"Non","Non",null,null,null,null,""," - ","","-","--"]
["",null,null,{"$f":"IF(ISBLANK(B341),\"\",COUNTA(#REF!))","v":""},null,null,null,null,null,null,null,null,null,null,"Non","","Non",null,"",null,null,null,null,null,"Non","Non",null,null,null,null,""," - ","","-","--"]
["",null,null,{"$f":"IF(ISBLANK(B342),\"\",COUNTA(#REF!))","v":""},null,null,null,null,null,null,null,null,null,null,"Non","","Non",null,"",null,null,null,null,null,"Non","Non",null,null,null,null,""," - ","","-","--"]
["",null,null,{"$f":"IF(ISBLANK(B343),\"\",COUNTA(#REF!))","v":""},null,null,null,null,null,null,null,null,null,null,"Non",{"$f":"IF(ISBLANK(I343),\"\",IF(K343=\"\",\"délai à préciser\",IF(M343=\"\",\"statut à préciser\",IF(M343=\"finalisée\",IF(N343=\"\",\"date de solde à préciser\",IF(K343>=N343,\"fait\",\"retard\")),(IF(K343<TODAY(),\"retard\",\"Ok\"))))))","v":""},"Non",null,"",null,null,null,null,null,"Non","Non",null,null,null,null,""," - ","","-","--"]
["",null,null,{"$f":"IF(ISBLANK(B344),\"\",COUNTA(#REF!))","v":""},null,null,null,null,null,null,null,null,null,null,"Non","","Non",null,{"$f":"IF(ISBLANK(H344),\"\",IF(OR(H344=\"Préventive\",H344=\"Corrective\"),\"Oui\",\"Non\"))","v":""},null,null,null,null,null,"Non","Non",null,null,null,null,""," - ","","-","--"]
["",null,null,{"$f":"IF(ISBLANK(B345),\"\",COUNTA(#REF!))","v":""},null,null,null,null,null,null,null,null,null,null,"Non","","Non",null,"",null,null,null,null,null,"Non","Non",null,null,null,null,""," - ","","-","--"]
["",null,null,{"$f":"IF(ISBLANK(B346),\"\",COUNTA(#REF!))","v":""},null,null,null,null,null,null,null,null,null,null,"Non","","Non",null,"",null,null,null,null,null,"Non","Non",null,null,null,null,""," - ","","-","--"]
["",null,null,{"$f":"IF(ISBLANK(B347),\"\",COUNTA(#REF!))","v":""},null,null,null,null,null,null,null,null,null,null,"Non","","Non",null,"",null,null,null,null,null,"Non","Non",null,null,null,null,""," - ","","-","--"]
["",null,null,{"$f":"IF(ISBLANK(B348),\"\",COUNTA(#REF!))","v":""},null,null,null,null,null,null,null,null,null,null,"Non","","Non",null,"",null,null,null,null,null,"Non","Non",null,null,null,null,""," - ","","-","--"]
["",null,null,{"$f":"IF(ISBLANK(B349),\"\",COUNTA(#REF!))","v":""},null,null,null,null,null,null,null,null,null,null,"Non","","Non",null,"",null,null,null,null,null,"Non","Non",null,null,null,null,""," - ","","-","--"]
["",null,null,{"$f":"IF(ISBLANK(B350),\"\",COUNTA(#REF!))","v":""},null,null,null,null,null,null,null,null,null,null,"Non","","Non",null,"",null,null,null,null,null,"Non","Non",null,null,null,null,""," - ","","-","--"]
["",null,null,{"$f":"IF(ISBLANK(B351),\"\",COUNTA(#REF!))","v":""},null,null,null,null,null,null,null,null,null,null,"Non","","Non",null,"",null,null,null,null,null,"Non","Non",null,null,null,null,""," - ","","-","--"]
["",null,null,{"$f":"IF(ISBLANK(B352),\"\",COUNTA(#REF!))","v":""},null,null,null,null,null,null,null,null,null,null,"Non","","Non",null,"",null,null,null,null,null,"Non","Non",null,null,null,null,""," - ","","-","--"]
["",null,null,{"$f":"IF(ISBLANK(B353),\"\",COUNTA(#REF!))","v":""},null,null,null,null,null,null,null,null,null,null,"Non","","Non",null,"",null,null,null,null,null,"Non","Non",null,null,null,null,""," - ","","-","--"]
["",null,null,{"$f":"IF(ISBLANK(B354),\"\",COUNTA(#REF!))","v":""},null,null,null,null,null,null,null,null,null,null,"Non","","Non",null,"",null,null,null,null,null,"Non","Non",null,null,null,null,""," - ","","-","--"]
["",null,null,{"$f":"IF(ISBLANK(B355),\"\",COUNTA(#REF!))","v":""},null,null,null,null,null,null,null,null,null,null,"Non","","Non",null,"",null,null,null,null,null,"Non","Non",null,null,null,null,""," - ","","-","--"]
["",null,null,{"$f":"IF(ISBLANK(B356),\"\",COUNTA(#REF!))","v":""},null,null,null,null,null,null,null,null,null,null,"Non","","Non",null,"",null,null,null,null,null,"Non","Non",null,null,null,null,""," - ","","-","--"]
["",null,null,{"$f":"IF(ISBLANK(B357),\"\",COUNTA(#REF!))","v":""},null,null,null,null,null,null,null,null,null,null,"Non","","Non",null,"",null,null,null,null,null,"Non","Non",null,null,null,null,""," - ","","-","--"]
["",null,null,{"$f":"IF(ISBLANK(B358),\"\",COUNTA(#REF!))","v":""},null,null,null,null,null,null,null,null,null,null,"Non","","Non",null,"",null,null,null,null,null,"Non","Non",null,null,null,null,""," - ","","-","--"]
["",null,null,{"$f":"IF(ISBLANK(B359),\"\",COUNTA(#REF!))","v":""},null,null,null,null,null,null,null,null,null,null,"Non","","Non",null,"",null,null,null,null,null,"Non","Non",null,null,null,null,""," - ","","-","--"]
["",null,null,{"$f":"IF(ISBLANK(B360),\"\",COUNTA(#REF!))","v":""},null,null,null,null,null,null,null,null,null,null,"Non","","Non",null,"",null,null,null,null,null,"Non","Non",null,null,null,null,""," - ","","-","--"]
["",null,null,{"$f":"IF(ISBLANK(B361),\"\",COUNTA(#REF!))","v":""},null,null,null,null,null,null,null,null,null,null,"Non","","Non",null,"",null,null,null,null,null,"Non","Non",null,null,null,null,""," - ","","-","--"]
["",null,null,{"$f":"IF(ISBLANK(B362),\"\",COUNTA(#REF!))","v":""},null,null,null,null,null,null,null,null,null,null,"Non","","Non",null,"",null,null,null,null,null,"Non","Non",null,null,null,null,""," - ","","-","--"]
["",null,null,{"$f":"IF(ISBLANK(B363),\"\",COUNTA(#REF!))","v":""},null,null,null,null,null,null,null,null,null,null,"Non","","Non",null,"",null,null,null,null,null,"Non","Non",null,null,null,null,""," - ","","-","--"]
["",null,null,{"$f":"IF(ISBLANK(B364),\"\",COUNTA(#REF!))","v":""},null,null,null,null,null,null,null,null,null,null,"Non","","Non",null,"",null,null,null,null,null,"Non","Non",null,null,null,null,""," - ","","-","--"]
["",null,null,{"$f":"IF(ISBLANK(B365),\"\",COUNTA(#REF!))","v":""},null,null,null,null,null,null,null,null,null,null,"Non","","Non",null,"",null,null,null,null,null,"Non","Non",null,null,null,null,""," - ","","-","--"]
["",null,null,{"$f":"IF(ISBLANK(B366),\"\",COUNTA(#REF!))","v":""},null,null,null,null,null,null,null,null,null,null,"Non","","Non",null,"",null,null,null,null,null,"Non","Non",null,null,null,null,""," - ","","-","--"]
["",null,null,{"$f":"IF(ISBLANK(B367),\"\",COUNTA(#REF!))","v":""},null,null,null,null,null,null,null,null,null,null,"Non","","Non",null,"",null,null,null,null,null,"Non","Non",null,null,null,null,""," - ","","-","--"]
["",null,null,{"$f":"IF(ISBLANK(B368),\"\",COUNTA(#REF!))","v":""},null,null,null,null,null,null,null,null,null,null,"Non","","Non",null,"",null,null,null,null,null,"Non","Non",null,null,null,null,""," - ","","-","--"]
["",null,null,{"$f":"IF(ISBLANK(B369),\"\",COUNTA(#REF!))","v":""},null,null,null,null,null,null,null,null,null,null,"Non","","Non",null,"",null,null,null,null,null,"Non","Non",null,null,null,null,""," - ","","-","--"]
["",null,null,{"$f":"IF(ISBLANK(B370),\"\",COUNTA(#REF!))","v":""},null,null,null,null,null,null,null,null,null,null,"Non","","Non",null,"",null,null,null,null,null,"Non","Non",null,null,null,null,""," - ","","-","--"]
["",null,null,{"$f":"IF(ISBLANK(B371),\"\",COUNTA(#REF!))","v":""},null,null,null,null,null,null,null,null,null,null,"Non","","Non",null,"",null,null,null,null,null,"Non","Non",null,null,null,null,""," - ","","-","--"]
["",null,null,{"$f":"IF(ISBLANK(B372),\"\",COUNTA(#REF!))","v":""},null,null,null,null,null,null,null,null,null,null,"Non","","Non",null,"",null,null,null,null,null,"Non","Non",null,null,null,null,""," - ","","-","--"]
["",null,null,{"$f":"IF(ISBLANK(B373),\"\",COUNTA(#REF!))","v":""},null,null,null,null,null,null,null,null,null,null,"Non","","Non",null,"",null,null,null,null,null,"Non","Non",null,null,null,null,""," - ","","-","--"]
["",null,null,{"$f":"IF(ISBLANK(B374),\"\",COUNTA(#REF!))","v":""},null,null,null,null,null,null,null,null,null,null,"Non","","Non",null,"",null,null,null,null,null,"Non","Non",null,null,null,null,""," - ","","-","--"]
["",null,null,{"$f":"IF(ISBLANK(B375),\"\",COUNTA(#REF!))","v":""},null,null,null,null,null,null,null,null,null,null,"Non","","Non",null,"",null,null,null,null,null,"Non","Non",null,null,null,null,""," - ","","-","--"]
["",null,null,{"$f":"IF(ISBLANK(B376),\"\",COUNTA(#REF!))","v":""},null,null,null,null,null,null,null,null,null,null,"Non","","Non",null,"",null,null,null,null,null,"Non","Non",null,null,null,null,""," - ","","-","--"]
["",null,null,{"$f":"IF(ISBLANK(B377),\"\",COUNTA(#REF!))","v":""},null,null,null,null,null,null,null,null,null,null,"Non","","Non",null,"",null,null,null,null,null,"Non","Non",null,null,null,null,""," - ","","-","--"]
["",null,null,{"$f":"IF(ISBLANK(B378),\"\",COUNTA(#REF!))","v":""},null,null,null,null,null,null,null,null,null,null,"Non","","Non",null,"",null,null,null,null,null,"Non","Non",null,null,null,null,""," - ","","-","--"]
["",null,null,{"$f":"IF(ISBLANK(B379),\"\",COUNTA(#REF!))","v":""},null,null,null,null,null,null,null,null,null,null,"Non","","Non",null,"",null,null,null,null,null,"Non","Non",null,null,null,null,""," - ","","-","--"]
["",null,null,{"$f":"IF(ISBLANK(B380),\"\",COUNTA(#REF!))","v":""},null,null,null,null,null,null,null,null,null,null,"Non","","Non",null,"",null,null,null,null,null,"Non","Non",null,null,null,null,""," - ","","-","--"]
["",null,null,{"$f":"IF(ISBLANK(B381),\"\",COUNTA(#REF!))","v":""},null,null,null,null,null,null,null,null,null,null,"Non","","Non",null,"",null,null,null,null,null,"Non","Non",null,null,null,null,""," - ","","-","--"]
["",null,null,{"$f":"IF(ISBLANK(B382),\"\",COUNTA(#REF!))","v":""},null,null,null,null,null,null,null,null,null,null,"Non","","Non",null,"",null,null,null,null,null,"Non","Non",null,null,null,null,""," - ","","-","--"]
["",null,null,{"$f":"IF(ISBLANK(B383),\"\",COUNTA(#REF!))","v":""},null,null,null,null,null,null,null,null,null,null,"Non","","Non",null,"",null,null,null,null,null,"Non","Non",null,null,null,null,""," - ","","-","--"]
["",null,null,{"$f":"IF(ISBLANK(B384),\"\",COUNTA(#REF!))","v":""},null,null,null,null,null,null,null,null,null,null,"Non","","Non",null,"",null,null,null,null,null,"Non","Non",null,null,null,null,""," - ","","-","--"]
["",null,null,{"$f":"IF(ISBLANK(B385),\"\",COUNTA(#REF!))","v":""},null,null,null,null,null,null,null,null,null,null,"Non","","Non",null,"",null,null,null,null,null,"Non","Non",null,null,null,null,""," - ","","-","--"]
["",null,null,{"$f":"IF(ISBLANK(B386),\"\",COUNTA(#REF!))","v":""},null,null,null,null,null,null,null,null,null,null,"Non","","Non",null,"",null,null,null,null,null,"Non","Non",null,null,null,null,""," - ","","-","--"]
["",null,null,{"$f":"IF(ISBLANK(B387),\"\",COUNTA(#REF!))","v":""},null,null,null,null,null,null,null,null,null,null,"Non","","Non",null,"",null,null,null,null,null,"Non","Non",null,null,null,null,""," - ","","-","--"]
["",null,null,{"$f":"IF(ISBLANK(B388),\"\",COUNTA(#REF!))","v":""},null,null,null,null,null,null,null,null,null,null,"Non","","Non",null,"",null,null,null,null,null,"Non","Non",null,null,null,null,""," - ","","-","--"]
["",null,null,{"$f":"IF(ISBLANK(B389),\"\",COUNTA(#REF!))","v":""},null,null,null,null,null,null,null,null,null,null,"Non","","Non",null,"",null,null,null,null,null,"Non","Non",null,null,null,null,""," - ","","-","--"]
["",null,null,{"$f":"IF(ISBLANK(B390),\"\",COUNTA(#REF!))","v":""},null,null,null,null,null,null,null,null,null,null,"Non","","Non",null,"",null,null,null,null,null,"Non","Non",null,null,null,null,""," - ","","-","--"]
["",null,null,{"$f":"IF(ISBLANK(B391),\"\",COUNTA(#REF!))","v":""},null,null,null,null,null,null,null,null,null,null,"Non","","Non",null,"",null,null,null,null,null,"Non","Non",null,null,null,null,""," - ","","-","--"]
[{"$f":"IF(ISBLANK(B392),\"\",$C$2)","v":""},null,null,{"$f":"IF(ISBLANK(B392),\"\",COUNTA(#REF!))","v":""},null,null,null,null,null,null,null,null,null,null,{"$f":"IF(AND(K392<>\"\",ISBLANK(N392),K392<TODAY()),\"Oui\",\"Non\")","v":"Non"},"",{"$f":"IF(AND(N392<>\"\",ISBLANK(N392),K392<TODAY()),\"Oui\",\"Non\")","v":"Non"},null,"",null,null,null,null,null,"Non","Non",null,null,null,null,""," - ","","-",{"$f":"CONCATENATE(M392,\"-\",AH392)","v":"--"}]
["",null,null,{"$f":"IF(ISBLANK(B393),\"\",COUNTA(#REF!))","v":""},null,null,null,null,null,null,null,null,null,null,"Non","","Non",null,"",null,null,null,null,null,{"$f":"IF(AND(U393<>\"\",ISBLANK(X393),U393<TODAY()),\"Oui\",\"Non\")","v":"Non"},{"$f":"IF(AND(S393=\"Oui\",ISBLANK(X393)),\"Oui\",\"Non\")","v":"Non"},null,null,null,null,""," - ","","-","--"]
["",null,null,{"$f":"IF(ISBLANK(B394),\"\",COUNTA(#REF!))","v":""},null,null,null,null,null,null,null,null,null,null,"Non","","Non",null,"",null,null,null,null,null,"Non","Non",null,null,null,null,""," - ","","-","--"]
["",null,null,{"$f":"IF(ISBLANK(B395),\"\",COUNTA(#REF!))","v":""},null,null,null,null,null,null,null,null,null,null,"Non","","Non",null,"",null,null,null,null,null,"Non","Non",null,null,null,null,""," - ","","-","--"]
["",null,null,{"$f":"IF(ISBLANK(B396),\"\",COUNTA(#REF!))","v":""},null,null,null,null,null,null,null,null,null,null,"Non","","Non",null,"",null,null,null,null,null,"Non","Non",null,null,null,null,""," - ","","-","--"]
["",null,null,{"$f":"IF(ISBLANK(B397),\"\",COUNTA(#REF!))","v":""},null,null,null,null,null,null,null,null,null,null,"Non","","Non",null,"",null,null,null,null,null,"Non","Non",null,null,null,null,""," - ","","-","--"]
["",null,null,{"$f":"IF(ISBLANK(B398),\"\",COUNTA(#REF!))","v":""},null,null,null,null,null,null,null,null,null,null,"Non","","Non",null,"",null,null,null,null,null,"Non","Non",null,null,null,null,""," - ","","-","--"]

{"sheet":"Suivi du PA 2","index":2,"n_rows":398,"n_cols":35,"rows_kept":398,"cut":false,"hidden":false,"merged":[[4,7,4,17],[4,18,4,26],[4,1,4,6],[0,2,0,26]]}
[null,null,"Plan d'actions",null,null,null,null,null,null,null,null,null,null,null,null,null,null,null,null,null,null,null,null,null,null,null,null,9,9]
[null,"Processus"]
[null,null,null,null,null,"Modifié le:",null,null,null,{"$f":"COUNTIF(M7:M79,\"en cours\")+COUNTIF(M7:M79,\"à lancer\")","v":0},"actions non clôturées",null,null,null,null,null,null,null,null,{"$f":"COUNTIF(Z8:Z44,\"Oui\")","v":0},"mesures d'efficacité à clôturer"]
[]
[null,"Présentation",null,null,null,null,null,"Plan d'actions",null,null,null,null,null,null,null,null,null,null,"Messure de l'efficacité"]
["Processus","Descriptif","Date","N°","Thème","Origine","Analyse des causes","Type d'action","Actions prévues","Responsable","Délai","Moyen(s)","Statut","Date de solde","Action en retard?","Respect du délai ?","Retard?","Commentaire","Mesure de l'efficacité ?","Résultat Attendu","Délai de la mesure","Responsable de la mesure","Résultat Obtenu","Date de la mesure","Retard?","A faire?","Action efficace?",null,null,null,null,"cat - année","année dysf°","Type d'action - Année","Statut - Type - Année"]
[{"$f":"IF(ISBLANK(B7),\"\",$C$2)","v":""},null,null,{"$f":"IF(ISBLANK(B7),\"\",COUNTA(#REF!))","v":""},null,null,null,null,null,null,null,null,null,null,{"$f":"IF(AND(K7<>\"\",ISBLANK(N7),K7<TODAY()),\"Oui\",\"Non\")","v":"Non"},{"$f":"IF(ISBLANK(I7),\"\",IF(K7=\"\",\"délai à préciser\",IF(M7=\"\",\"statut à préciser\",IF(M7=\"finalisée\",IF(N7=\"\",\"date de solde à préciser\",IF(K7>=N7,\"fait\",\"retard\")),(IF(K7<TODAY(),\"retard\",\"Ok\"))))))","v":""},{"$f":"IF(AND(N7<>\"\",ISBLANK(N7),K7<TODAY()),\"Oui\",\"Non\")","v":"Non"},null,{"$f":"IF(ISBLANK(H7),\"\",IF(OR(H7=\"Préventive\",H7=\"Corrective\"),\"Oui\",\"Non\"))","v":""},null,null,null,null,null,{"$f":"IF(AND(U7<>\"\",ISBLANK(X7),U7<TODAY()),\"Oui\",\"Non\")","v":"Non"},{"$f":"IF(AND(S7=\"Oui\",ISBLANK(X7)),\"Oui\",\"Non\")","v":"Non"},null,null,null,null,{"$f":"IF(K7=\"\",\"\",K7-TODAY())","v":""},{"$f":"IF(ISBLANK(F7),CONCATENATE(E7,\" - \",AG7),CONCATENATE(F7,\" - \",AG7))","v":" - "},{"$f":"IF(ISBLANK(B7),\"\",YEAR(C7))","v":""},{"$f":"CONCATENATE(H7,\"-\",AG7)","v":"-"},{"$f":"CONCATENATE(M7,\"-\",AH7)","v":"--"}]
["",null,null,{"$f":"IF(ISBLANK(B8),\"\",COUNTA(#REF!))","v":""},null,null,null,null,null,null,null,null,null,null,{"$f":"IF(AND(K8<>\"\",ISBLANK(N8),K8<TODAY()),\"Oui\",\"Non\")","v":"Non"},{"$f":"IF(ISBLANK(I8),\"\",IF(K8=\"\",\"délai à préciser\",IF(M8=\"\",\"statut à préciser\",IF(M8=\"finalisée\",IF(N8=\"\",\"date de solde à préciser\",IF(K8>=N8,\"fait\",\"retard\")),(IF(K8<TODAY(),\"retard\",\"Ok\"))))))","v":""},{"$f":"IF(AND(N8<>\"\",ISBLANK(N8),K8<TODAY()),\"Oui\",\"Non\")","v":"Non"},null,{"$f":"IF(ISBLANK(H8),\"\",IF(OR(H8=\"Préventive\",H8=\"Corrective\"),\"Oui\",\"Non\"))","v":""},null,null,null,null,null,{"$f":"IF(AND(U8<>\"\",ISBLANK(X8),U8<TODAY()),\"Oui\",\"Non\")","v":"Non"},{"$f":"IF(AND(S7=\"Oui\",ISBLANK(X8)),\"Oui\",\"Non\")","v":"Non"},null,null,null,null,{"$f":"IF(K8=\"\",\"\",K8-TODAY())","v":""},{"$f":"IF(ISBLANK(F8),CONCATENATE(E8,\" - \",AG8),CONCATENATE(F8,\" - \",AG8))","v":" - "},{"$f":"IF(ISBLANK(B8),\"\",YEAR(C8))","v":""},{"$f":"CONCATENATE(H8,\"-\",AG8)","v":"-"},{"$f":"CONCATENATE(M8,\"-\",AH8)","v":"--"}]
["",null,null,{"$f":"IF(ISBLANK(B9),\"\",COUNTA(#REF!))","v":""},null,null,null,null,null,null,null,null,null,null,{"$f":"IF(AND(K9<>\"\",ISBLANK(N9),K9<TODAY()),\"Oui\",\"Non\")","v":"Non"},{"$f":"IF(ISBLANK(I9),\"\",IF(K9=\"\",\"délai à préciser\",IF(M9=\"\",\"statut à préciser\",IF(M9=\"finalisée\",IF(N9=\"\",\"date de solde à préciser\",IF(K9>=N9,\"fait\",\"retard\")),(IF(K9<TODAY(),\"retard\",\"Ok\"))))))","v":""},{"$f":"IF(AND(N9<>\"\",ISBLANK(N9),K9<TODAY()),\"Oui\",\"Non\")","v":"Non"},null,{"$f":"IF(ISBLANK(H9),\"\",IF(OR(H9=\"Préventive\",H9=\"Corrective\"),\"Oui\",\"Non\"))","v":""},null,null,null,null,null,{"$f":"IF(AND(U9<>\"\",ISBLANK(X9),U9<TODAY()),\"Oui\",\"Non\")","v":"Non"},{"$f":"IF(AND(S9=\"Oui\",ISBLANK(X9)),\"Oui\",\"Non\")","v":"Non"},null,null,null,null,{"$f":"IF(K9=\"\",\"\",K9-TODAY())","v":""},{"$f":"IF(ISBLANK(F9),CONCATENATE(E9,\" - \",AG9),CONCATENATE(F9,\" - \",AG9))","v":" - "},{"$f":"IF(ISBLANK(B9),\"\",YEAR(C9))","v":""},{"$f":"CONCATENATE(H9,\"-\",AG9)","v":"-"},{"$f":"CONCATENATE(M9,\"-\",AH9)","v":"--"}]
["",null,null,{"$f":"IF(ISBLANK(B10),\"\",COUNTA(#REF!))","v":""},null,null,null,null,null,null,null,null,null,null,{"$f":"IF(AND(K10<>\"\",ISBLANK(N10),K10<TODAY()),\"Oui\",\"Non\")","v":"Non"},{"$f":"IF(ISBLANK(I10),\"\",IF(K10=\"\",\"délai à préciser\",IF(M10=\"\",\"statut à préciser\",IF(M10=\"finalisée\",IF(N10=\"\",\"date de solde à préciser\",IF(K10>=N10,\"fait\",\"retard\")),(IF(K10<TODAY(),\"retard\",\"Ok\"))))))","v":""},{"$f":"IF(AND(N10<>\"\",ISBLANK(N10),K10<TODAY()),\"Oui\",\"Non\")","v":"Non"},null,{"$f":"IF(ISBLANK(H10),\"\",IF(OR(H10=\"Préventive\",H10=\"Corrective\"),\"Oui\",\"Non\"))","v":""},null,null,null,null,null,null,null,null,null,null,null,{"$f":"IF(K10=\"\",\"\",K10-TODAY())","v":""},{"$f":"IF(ISBLANK(F10),CONCATENATE(E10,\" - \",AG10),CONCATENATE(F10,\" - \",AG10))","v":" - "},{"$f":"IF(ISBLANK(B10),\"\",YEAR(C10))","v":""},{"$f":"CONCATENATE(H10,\"-\",AG10)","v":"-"},{"$f":"CONCATENATE(M10,\"-\",AH10)","v":"--"}]
["",null,null,{"$f":"IF(ISBLANK(B11),\"\",COUNTA(#REF!))","v":""},null,null,null,null,null,null,null,null,null,null,{"$f":"IF(AND(K11<>\"\",ISBLANK(N11),K11<TODAY()),\"Oui\",\"Non\")","v":"Non"},{"$f":"IF(ISBLANK(I11),\"\",IF(K11=\"\",\"délai à préciser\",IF(M11=\"\",\"statut à préciser\",IF(M11=\"finalisée\",IF(N11=\"\",\"date de solde à préciser\",IF(K11>=N11,\"fait\",\"retard\")),(IF(K11<TODAY(),\"retard\",\"Ok\"))))))","v":""},{"$f":"IF(AND(N11<>\"\",ISBLANK(N11),K11<TODAY()),\"Oui\",\"Non\")","v":"Non"},null,{"$f":"IF(ISBLANK(H11),\"\",IF(OR(H11=\"Préventive\",H11=\"Corrective\"),\"Oui\",\"Non\"))","v":""},null,null,null,null,null,{"$f":"IF(AND(U11<>\"\",ISBLANK(X11),U11<TODAY()),\"Oui\",\"Non\")","v":"Non"},{"$f":"IF(AND(S10=\"Oui\",ISBLANK(X11)),\"Oui\",\"Non\")","v":"Non"},null,null,null,null,{"$f":"IF(K11=\"\",\"\",K11-TODAY())","v":""},{"$f":"IF(ISBLANK(F11),CONCATENATE(E11,\" - \",AG11),CONCATENATE(F11,\" - \",AG11))","v":" - "},{"$f":"IF(ISBLANK(B11),\"\",YEAR(C11))","v":""},{"$f":"CONCATENATE(H11,\"-\",AG11)","v":"-"},{"$f":"CONCATENATE(M11,\"-\",AH11)","v":"--"}]
[{"$f":"IF(ISBLANK(B12),\"\",$C$2)","v":""},null,null,{"$f":"IF(ISBLANK(B12),\"\",COUNTA(#REF!))","v":""},null,null,null,null,null,null,null,null,null,null,{"$f":"IF(AND(K12<>\"\",ISBLANK(N12),K12<TODAY()),\"Oui\",\"Non\")","v":"Non"},{"$f":"IF(ISBLANK(I12),\"\",IF(K12=\"\",\"délai à préciser\",IF(M12=\"\",\"statut à préciser\",IF(M12=\"finalisée\",IF(N12=\"\",\"date de solde à préciser\",IF(K12>=N12,\"fait\",\"retard\")),(IF(K12<TODAY(),\"retard\",\"Ok\"))))))","v":""},{"$f":"IF(AND(N12<>\"\",ISBLANK(N12),K12<TODAY()),\"Oui\",\"Non\")","v":"Non"},null,{"$f":"IF(ISBLANK(H12),\"\",IF(OR(H12=\"Préventive\",H12=\"Corrective\"),\"Oui\",\"Non\"))","v":""},null,null,null,null,null,{"$f":"IF(AND(U12<>\"\",ISBLANK(X12),U12<TODAY()),\"Oui\",\"Non\")","v":"Non"},{"$f":"IF(AND(S11=\"Oui\",ISBLANK(X12)),\"Oui\",\"Non\")","v":"Non"},null,null,null,null,{"$f":"IF(K12=\"\",\"\",K12-TODAY())","v":""},{"$f":"IF(ISBLANK(F12),CONCATENATE(E12,\" - \",AG12),CONCATENATE(F12,\" - \",AG12))","v":" - "},{"$f":"IF(ISBLANK(B12),\"\",YEAR(C12))","v":""},{"$f":"CONCATENATE(H12,\"-\",AG12)","v":"-"},{"$f":"CONCATENATE(M12,\"-\",AH12)","v":"--"}]
[{"$f":"IF(ISBLANK(B13),\"\",$C$2)","v":""},null,null,{"$f":"IF(ISBLANK(B13),\"\",COUNTA(#REF!))","v":""},null,null,null,null,null,null,null,null,null,null,{"$f":"IF(AND(K13<>\"\",ISBLANK(N13),K13<TODAY()),\"Oui\",\"Non\")","v":"Non"},{"$f":"IF(ISBLANK(I13),\"\",IF(K13=\"\",\"délai à préciser\",IF(M13=\"\",\"statut à préciser\",IF(M13=\"finalisée\",IF(N13=\"\",\"date de solde à préciser\",IF(K13>=N13,\"fait\",\"retard\")),(IF(K13<TODAY(),\"retard\",\"Ok\"))))))","v":""},{"$f":"IF(AND(N13<>\"\",ISBLANK(N13),K13<TODAY()),\"Oui\",\"Non\")","v":"Non"},null,{"$f":"IF(ISBLANK(H13),\"\",IF(OR(H13=\"Préventive\",H13=\"Corrective\"),\"Oui\",\"Non\"))","v":""},null,null,null,null,null,{"$f":"IF(AND(U13<>\"\",ISBLANK(X13),U13<TODAY()),\"Oui\",\"Non\")","v":"Non"},{"$f":"IF(AND(S13=\"Oui\",ISBLANK(X13)),\"Oui\",\"Non\")","v":"Non"},null,null,null,null,{"$f":"IF(K13=\"\",\"\",K13-TODAY())","v":""},{"$f":"IF(ISBLANK(F13),CONCATENATE(E13,\" - \",AG13),CONCATENATE(F13,\" - \",AG13))","v":" - "},{"$f":"IF(ISBLANK(B13),\"\",YEAR(C13))","v":""},{"$f":"CONCATENATE(H13,\"-\",AG13)","v":"-"},{"$f":"CONCATENATE(M13,\"-\",AH13)","v":"--"}]
[{"$f":"IF(ISBLANK(B14),\"\",$C$2)","v":""},null,null,{"$f":"IF(ISBLANK(B14),\"\",COUNTA(#REF!))","v":""},null,null,null,null,null,null,null,null,null,null,{"$f":"IF(AND(K14<>\"\",ISBLANK(N14),K14<TODAY()),\"Oui\",\"Non\")","v":"Non"},{"$f":"IF(ISBLANK(I14),\"\",IF(K14=\"\",\"délai à préciser\",IF(M14=\"\",\"statut à préciser\",IF(M14=\"finalisée\",IF(N14=\"\",\"date de solde à préciser\",IF(K14>=N14,\"fait\",\"retard\")),(IF(K14<TODAY(),\"retard\",\"Ok\"))))))","v":""},{"$f":"IF(AND(N14<>\"\",ISBLANK(N14),K14<TODAY()),\"Oui\",\"Non\")","v":"Non"},null,{"$f":"IF(ISBLANK(H14),\"\",IF(OR(H14=\"Préventive\",H14=\"Corrective\"),\"Oui\",\"Non\"))","v":""},null,null,null,null,null,{"$f":"IF(AND(U14<>\"\",ISBLANK(X14),U14<TODAY()),\"Oui\",\"Non\")","v":"Non"},{"$f":"IF(AND(S14=\"Oui\",ISBLANK(X14)),\"Oui\",\"Non\")","v":"Non"},null,null,null,null,{"$f":"IF(K14=\"\",\"\",K14-TODAY())","v":""},{"$f":"IF(ISBLANK(F14),CONCATENATE(E14,\" - \",AG14),CONCATENATE(F14,\" - \",AG14))","v":" - "},{"$f":"IF(ISBLANK(B14),\"\",YEAR(C14))","v":""},{"$f":"CONCATENATE(H14,\"-\",AG14)","v":"-"},{"$f":"CONCATENATE(M14,\"-\",AH14)","v":"--"}]
[{"$f":"IF(ISBLANK(B15),\"\",$C$2)","v":""},null,null,{"$f":"IF(ISBLANK(B15),\"\",COUNTA(#REF!))","v":""},null,null,null,null,null,null,null,null,null,null,{"$f":"IF(AND(K15<>\"\",ISBLANK(N15),K15<TODAY()),\"Oui\",\"Non\")","v":"Non"},{"$f":"IF(ISBLANK(I15),\"\",IF(K15=\"\",\"délai à préciser\",IF(M15=\"\",\"statut à préciser\",IF(M15=\"finalisée\",IF(N15=\"\",\"date de solde à préciser\",IF(K15>=N15,\"fait\",\"retard\")),(IF(K15<TODAY(),\"retard\",\"Ok\"))))))","v":""},{"$f":"IF(AND(N15<>\"\",ISBLANK(N15),K15<TODAY()),\"Oui\",\"Non\")","v":"Non"},null,{"$f":"IF(ISBLANK(H15),\"\",IF(OR(H15=\"Préventive\",H15=\"Corrective\"),\"Oui\",\"Non\"))","v":""},null,null,null,null,null,{"$f":"IF(AND(U15<>\"\",ISBLANK(X15),U15<TODAY()),\"Oui\",\"Non\")","v":"Non"},{"$f":"IF(AND(S14=\"Oui\",ISBLANK(X15)),\"Oui\",\"Non\")","v":"Non"},null,null,null,null,{"$f":"IF(K15=\"\",\"\",K15-TODAY())","v":""},{"$f":"IF(ISBLANK(F15),CONCATENATE(E15,\" - \",AG15),CONCATENATE(F15,\" - \",AG15))","v":" - "},{"$f":"IF(ISBLANK(B15),\"\",YEAR(C15))","v":""},{"$f":"CONCATENATE(H15,\"-\",AG15)","v":"-"},{"$f":"CONCATENATE(M15,\"-\",AH15)","v":"--"}]
[{"$f":"IF(ISBLANK(B16),\"\",$C$2)","v":""},null,null,{"$f":"IF(ISBLANK(B16),\"\",COUNTA(#REF!))","v":""},null,null,null,null,null,null,null,null,null,null,{"$f":"IF(AND(K16<>\"\",ISBLANK(N16),K16<TODAY()),\"Oui\",\"Non\")","v":"Non"},{"$f":"IF(ISBLANK(I16),\"\",IF(K16=\"\",\"délai à préciser\",IF(M16=\"\",\"statut à préciser\",IF(M16=\"finalisée\",IF(N16=\"\",\"date de solde à préciser\",IF(K16>=N16,\"fait\",\"retard\")),(IF(K16<TODAY(),\"retard\",\"Ok\"))))))","v":""},{"$f":"IF(AND(N16<>\"\",ISBLANK(N16),K16<TODAY()),\"Oui\",\"Non\")","v":"Non"},null,{"$f":"IF(ISBLANK(H16),\"\",IF(OR(H16=\"Préventive\",H16=\"Corrective\"),\"Oui\",\"Non\"))","v":""},null,null,null,null,null,{"$f":"IF(AND(U16<>\"\",ISBLANK(X16),U16<TODAY()),\"Oui\",\"Non\")","v":"Non"},{"$f":"IF(AND(S15=\"Oui\",ISBLANK(X16)),\"Oui\",\"Non\")","v":"Non"},null,null,null,null,{"$f":"IF(K16=\"\",\"\",K16-TODAY())","v":""},{"$f":"IF(ISBLANK(F16),CONCATENATE(E16,\" - \",AG16),CONCATENATE(F16,\" - \",AG16))","v":" - "},{"$f":"IF(ISBLANK(B16),\"\",YEAR(C16))","v":""},{"$f":"CONCATENATE(H16,\"-\",AG16)","v":"-"},{"$f":"CONCATENATE(M16,\"-\",AH16)","v":"--"}]
[{"$f":"IF(ISBLANK(B17),\"\",$C$2)","v":""},null,null,{"$f":"IF(ISBLANK(B17),\"\",COUNTA(#REF!))","v":""},null,null,null,null,null,null,null,null,null,null,{"$f":"IF(AND(K17<>\"\",ISBLANK(N17),K17<TODAY()),\"Oui\",\"Non\")","v":"Non"},{"$f":"IF(ISBLANK(I17),\"\",IF(K17=\"\",\"délai à préciser\",IF(M17=\"\",\"statut à préciser\",IF(M17=\"finalisée\",IF(N17=\"\",\"date de solde à préciser\",IF(K17>=N17,\"fait\",\"retard\")),(IF(K17<TODAY(),\"retard\",\"Ok\"))))))","v":""},{"$f":"IF(AND(N17<>\"\",ISBLANK(N17),K17<TODAY()),\"Oui\",\"Non\")","v":"Non"},null,{"$f":"IF(ISBLANK(H17),\"\",IF(OR(H17=\"Préventive\",H17=\"Corrective\"),\"Oui\",\"Non\"))","v":""},null,null,null,null,null,{"$f":"IF(AND(U17<>\"\",ISBLANK(X17),U17<TODAY()),\"Oui\",\"Non\")","v":"Non"},{"$f":"IF(AND(S17=\"Oui\",ISBLANK(X17)),\"Oui\",\"Non\")","v":"Non"},null,null,null,null,{"$f":"IF(K17=\"\",\"\",K17-TODAY())","v":""},{"$f":"IF(ISBLANK(F17),CONCATENATE(E17,\" - \",AG17),CONCATENATE(F17,\" - \",AG17))","v":" - "},{"$f":"IF(ISBLANK(B17),\"\",YEAR(C17))","v":""},{"$f":"CONCATENATE(H17,\"-\",AG17)","v":"-"},{"$f":"CONCATENATE(M17,\"-\",AH17)","v":"--"}]
[{"$f":"IF(ISBLANK(B18),\"\",$C$2)","v":""},null,null,{"$f":"IF(ISBLANK(B18),\"\",COUNTA(#REF!))","v":""},null,null,null,null,null,null,null,null,null,null,{"$f":"IF(AND(K18<>\"\",ISBLANK(N18),K18<TODAY()),\"Oui\",\"Non\")","v":"Non"},{"$f":"IF(ISBLANK(I18),\"\",IF(K18=\"\",\"délai à préciser\",IF(M18=\"\",\"statut à préciser\",IF(M18=\"finalisée\",IF(N18=\"\",\"date de solde à préciser\",IF(K18>=N18,\"fait\",\"retard\")),(IF(K18<TODAY(),\"retard\",\"Ok\"))))))","v":""},{"$f":"IF(AND(N18<>\"\",ISBLANK(N18),K18<TODAY()),\"Oui\",\"Non\")","v":"Non"},null,{"$f":"IF(ISBLANK(H18),\"\",IF(OR(H18=\"Préventive\",H18=\"Corrective\"),\"Oui\",\"Non\"))","v":""},null,null,null,null,null,{"$f":"IF(AND(U18<>\"\",ISBLANK(X18),U18<TODAY()),\"Oui\",\"Non\")","v":"Non"},{"$f":"IF(AND(S18=\"Oui\",ISBLANK(X18)),\"Oui\",\"Non\")","v":"Non"},null,null,null,null,{"$f":"IF(K18=\"\",\"\",K18-TODAY())","v":""},{"$f":"IF(ISBLANK(F18),CONCATENATE(E18,\" - \",AG18),CONCATENATE(F18,\" - \",AG18))","v":" - "},{"$f":"IF(ISBLANK(B18),\"\",YEAR(C18))","v":""},{"$f":"CONCATENATE(H18,\"-\",AG18)","v":"-"},{"$f":"CONCATENATE(M18,\"-\",AH18)","v":"--"}]
[{"$f":"IF(ISBLANK(B19),\"\",$C$2)","v":""},null,null,{"$f":"IF(ISBLANK(B19),\"\",COUNTA(#REF!))","v":""},null,null,null,null,null,null,null,null,null,null,{"$f":"IF(AND(K19<>\"\",ISBLANK(N19),K19<TODAY()),\"Oui\",\"Non\")","v":"Non"},{"$f":"IF(ISBLANK(I19),\"\",IF(K19=\"\",\"délai à préciser\",IF(M19=\"\",\"statut à préciser\",IF(M19=\"finalisée\",IF(N19=\"\",\"date de solde à préciser\",IF(K19>=N19,\"fait\",\"retard\")),(IF(K19<TODAY(),\"retard\",\"Ok\"))))))","v":""},{"$f":"IF(AND(N19<>\"\",ISBLANK(N19),K19<TODAY()),\"Oui\",\"Non\")","v":"Non"},null,{"$f":"IF(ISBLANK(H19),\"\",IF(OR(H19=\"Préventive\",H19=\"Corrective\"),\"Oui\",\"Non\"))","v":""},null,null,null,null,null,{"$f":"IF(AND(U19<>\"\",ISBLANK(X19),U19<TODAY()),\"Oui\",\"Non\")","v":"Non"},{"$f":"IF(AND(S19=\"Oui\",ISBLANK(X19)),\"Oui\",\"Non\")","v":"Non"},null,null,null,null,{"$f":"IF(K19=\"\",\"\",K19-TODAY())","v":""},{"$f":"IF(ISBLANK(F19),CONCATENATE(E19,\" - \",AG19),CONCATENATE(F19,\" - \",AG19))","v":" - "},{"$f":"IF(ISBLANK(B19),\"\",YEAR(C19))","v":""},{"$f":"CONCATENATE(H19,\"-\",AG19)","v":"-"},{"$f":"CONCATENATE(M19,\"-\",AH19)","v":"--"}]
[{"$f":"IF(ISBLANK(B20),\"\",$C$2)","v":""},null,null,{"$f":"IF(ISBLANK(B20),\"\",COUNTA(#REF!))","v":""},null,null,null,null,null,null,null,null,null,null,{"$f":"IF(AND(K20<>\"\",ISBLANK(N20),K20<TODAY()),\"Oui\",\"Non\")","v":"Non"},{"$f":"IF(ISBLANK(I20),\"\",IF(K20=\"\",\"délai à préciser\",IF(M20=\"\",\"statut à préciser\",IF(M20=\"finalisée\",IF(N20=\"\",\"date de solde à préciser\",IF(K20>=N20,\"fait\",\"retard\")),(IF(K20<TODAY(),\"retard\",\"Ok\"))))))","v":""},{"$f":"IF(AND(N20<>\"\",ISBLANK(N20),K20<TODAY()),\"Oui\",\"Non\")","v":"Non"},null,{"$f":"IF(ISBLANK(H20),\"\",IF(OR(H20=\"Préventive\",H20=\"Corrective\"),\"Oui\",\"Non\"))","v":""},null,null,null,null,null,{"$f":"IF(AND(U20<>\"\",ISBLANK(X20),U20<TODAY()),\"Oui\",\"Non\")","v":"Non"},{"$f":"IF(AND(S20=\"Oui\",ISBLANK(X20)),\"Oui\",\"Non\")","v":"Non"},null,null,null,null,{"$f":"IF(K20=\"\",\"\",K20-TODAY())","v":""},{"$f":"IF(ISBLANK(F20),CONCATENATE(E20,\" - \",AG20),CONCATENATE(F20,\" - \",AG20))","v":" - "},{"$f":"IF(ISBLANK(B20),\"\",YEAR(C20))","v":""},{"$f":"CONCATENATE(H20,\"-\",AG20)","v":"-"},{"$f":"CONCATENATE(M20,\"-\",AH20)","v":"--"}]
[{"$f":"IF(ISBLANK(B21),\"\",$C$2)","v":""},null,null,{"$f":"IF(ISBLANK(B21),\"\",COUNTA(#REF!))","v":""},null,null,null,null,null,null,null,null,null,null,{"$f":"IF(AND(K21<>\"\",ISBLANK(N21),K21<TODAY()),\"Oui\",\"Non\")","v":"Non"},{"$f":"IF(ISBLANK(I21),\"\",IF(K21=\"\",\"délai à préciser\",IF(M21=\"\",\"statut à préciser\",IF(M21=\"finalisée\",IF(N21=\"\",\"date de solde à préciser\",IF(K21>=N21,\"fait\",\"retard\")),(IF(K21<TODAY(),\"retard\",\"Ok\"))))))","v":""},{"$f":"IF(AND(N21<>\"\",ISBLANK(N21),K21<TODAY()),\"Oui\",\"Non\")","v":"Non"},null,{"$f":"IF(ISBLANK(H21),\"\",IF(OR(H21=\"Préventive\",H21=\"Corrective\"),\"Oui\",\"Non\"))","v":""},null,null,null,null,null,{"$f":"IF(AND(U21<>\"\",ISBLANK(X21),U21<TODAY()),\"Oui\",\"Non\")","v":"Non"},{"$f":"IF(AND(S21=\"Oui\",ISBLANK(X21)),\"Oui\",\"Non\")","v":"Non"},null,null,null,null,{"$f":"IF(K21=\"\",\"\",K21-TODAY())","v":""},{"$f":"IF(ISBLANK(F21),CONCATENATE(E21,\" - \",AG21),CONCATENATE(F21,\" - \",AG21))","v":" - "},{"$f":"IF(ISBLANK(B21),\"\",YEAR(C21))","v":""},{"$f":"CONCATENATE(H21,\"-\",AG21)","v":"-"},{"$f":"CONCATENATE(M21,\"-\",AH21)","v":"--"}]
[{"$f":"IF(ISBLANK(B22),\"\",$C$2)","v":""},null,null,{"$f":"IF(ISBLANK(B22),\"\",COUNTA(#REF!))","v":""},null,null,null,null,null,null,null,null,null,null,{"$f":"IF(AND(K22<>\"\",ISBLANK(N22),K22<TODAY()),\"Oui\",\"Non\")","v":"Non"},{"$f":"IF(ISBLANK(I22),\"\",IF(K22=\"\",\"délai à préciser\",IF(M22=\"\",\"statut à préciser\",IF(M22=\"finalisée\",IF(N22=\"\",\"date de solde à préciser\",IF(K22>=N22,\"fait\",\"retard\")),(IF(K22<TODAY(),\"retard\",\"Ok\"))))))","v":""},{"$f":"IF(AND(N22<>\"\",ISBLANK(N22),K22<TODAY()),\"Oui\",\"Non\")","v":"Non"},null,{"$f":"IF(ISBLANK(H22),\"\",IF(OR(H22=\"Préventive\",H22=\"Corrective\"),\"Oui\",\"Non\"))","v":""},null,null,null,null,null,{"$f":"IF(AND(U22<>\"\",ISBLANK(X22),U22<TODAY()),\"Oui\",\"Non\")","v":"Non"},{"$f":"IF(AND(S22=\"Oui\",ISBLANK(X22)),\"Oui\",\"Non\")","v":"Non"},null,null,null,null,{"$f":"IF(K22=\"\",\"\",K22-TODAY())","v":""},{"$f":"IF(ISBLANK(F22),CONCATENATE(E22,\" - \",AG22),CONCATENATE(F22,\" - \",AG22))","v":" - "},{"$f":"IF(ISBLANK(B22),\"\",YEAR(C22))","v":""},{"$f":"CONCATENATE(H22,\"-\",AG22)","v":"-"},{"$f":"CONCATENATE(M22,\"-\",AH22)","v":"--"}]
[{"$f":"IF(ISBLANK(B23),\"\",$C$2)","v":""},null,null,{"$f":"IF(ISBLANK(B23),\"\",COUNTA(#REF!))","v":""},null,null,null,null,null,null,null,null,null,null,{"$f":"IF(AND(K23<>\"\",ISBLANK(N23),K23<TODAY()),\"Oui\",\"Non\")","v":"Non"},{"$f":"IF(ISBLANK(I23),\"\",IF(K23=\"\",\"délai à préciser\",IF(M23=\"\",\"statut à préciser\",IF(M23=\"finalisée\",IF(N23=\"\",\"date de solde à préciser\",IF(K23>=N23,\"fait\",\"retard\")),(IF(K23<TODAY(),\"retard\",\"Ok\"))))))","v":""},{"$f":"IF(AND(N23<>\"\",ISBLANK(N23),K23<TODAY()),\"Oui\",\"Non\")","v":"Non"},null,{"$f":"IF(ISBLANK(H23),\"\",IF(OR(H23=\"Préventive\",H23=\"Corrective\"),\"Oui\",\"Non\"))","v":""},null,null,null,null,null,{"$f":"IF(AND(U23<>\"\",ISBLANK(X23),U23<TODAY()),\"Oui\",\"Non\")","v":"Non"},{"$f":"IF(AND(S22=\"Oui\",ISBLANK(X23)),\"Oui\",\"Non\")","v":"Non"},null,null,null,null,{"$f":"IF(K23=\"\",\"\",K23-TODAY())","v":""},{"$f":"IF(ISBLANK(F23),CONCATENATE(E23,\" - \",AG23),CONCATENATE(F23,\" - \",AG23))","v":" - "},{"$f":"IF(ISBLANK(B23),\"\",YEAR(C23))","v":""},{"$f":"CONCATENATE(H23,\"-\",AG23)","v":"-"},{"$f":"CONCATENATE(M23,\"-\",AH23)","v":"--"}]
[{"$f":"IF(ISBLANK(B24),\"\",$C$2)","v":""},null,null,{"$f":"IF(ISBLANK(B24),\"\",COUNTA(#REF!))","v":""},null,null,null,null,null,null,null,null,null,null,{"$f":"IF(AND(K24<>\"\",ISBLANK(N24),K24<TODAY()),\"Oui\",\"Non\")","v":"Non"},{"$f":"IF(ISBLANK(I24),\"\",IF(K24=\"\",\"délai à préciser\",IF(M24=\"\",\"statut à préciser\",IF(M24=\"finalisée\",IF(N24=\"\",\"date de solde à préciser\",IF(K24>=N24,\"fait\",\"retard\")),(IF(K24<TODAY(),\"retard\",\"Ok\"))))))","v":""},{"$f":"IF(AND(N24<>\"\",ISBLANK(N24),K24<TODAY()),\"Oui\",\"Non\")","v":"Non"},null,{"$f":"IF(ISBLANK(H24),\"\",IF(OR(H24=\"Préventive\",H24=\"Corrective\"),\"Oui\",\"Non\"))","v":""},null,null,null,null,null,{"$f":"IF(AND(U24<>\"\",ISBLANK(X24),U24<TODAY()),\"Oui\",\"Non\")","v":"Non"},{"$f":"IF(AND(S24=\"Oui\",ISBLANK(X24)),\"Oui\",\"Non\")","v":"Non"},null,null,null,null,{"$f":"IF(K24=\"\",\"\",K24-TODAY())","v":""},{"$f":"IF(ISBLANK(F24),CONCATENATE(E24,\" - \",AG24),CONCATENATE(F24,\" - \",AG24))","v":" - "},{"$f":"IF(ISBLANK(B24),\"\",YEAR(C24))","v":""},{"$f":"CONCATENATE(H24,\"-\",AG24)","v":"-"},{"$f":"CONCATENATE(M24,\"-\",AH24)","v":"--"}]
[{"$f":"IF(ISBLANK(B25),\"\",$C$2)","v":""},null,null,{"$f":"IF(ISBLANK(B25),\"\",COUNTA(#REF!))","v":""},null,null,null,null,null,null,null,null,null,null,{"$f":"IF(AND(K25<>\"\",ISBLANK(N25),K25<TODAY()),\"Oui\",\"Non\")","v":"Non"},{"$f":"IF(ISBLANK(I25),\"\",IF(K25=\"\",\"délai à préciser\",IF(M25=\"\",\"statut à préciser\",IF(M25=\"finalisée\",IF(N25=\"\",\"date de solde à préciser\",IF(K25>=N25,\"fait\",\"retard\")),(IF(K25<TODAY(),\"retard\",\"Ok\"))))))","v":""},{"$f":"IF(AND(N25<>\"\",ISBLANK(N25),K25<TODAY()),\"Oui\",\"Non\")","v":"Non"},null,{"$f":"IF(ISBLANK(H25),\"\",IF(OR(H25=\"Préventive\",H25=\"Corrective\"),\"Oui\",\"Non\"))","v":""},null,null,null,null,null,{"$f":"IF(AND(U25<>\"\",ISBLANK(X25),U25<TODAY()),\"Oui\",\"Non\")","v":"Non"},{"$f":"IF(AND(S25=\"Oui\",ISBLANK(X25)),\"Oui\",\"Non\")","v":"Non"},null,null,null,null,{"$f":"IF(K25=\"\",\"\",K25-TODAY())","v":""},{"$f":"IF(ISBLANK(F25),CONCATENATE(E25,\" - \",AG25),CONCATENATE(F25,\" - \",AG25))","v":" - "},{"$f":"IF(ISBLANK(B25),\"\",YEAR(C25))","v":""},{"$f":"CONCATENATE(H25,\"-\",AG25)","v":"-"},{"$f":"CONCATENATE(M25,\"-\",AH25)","v":"--"}]
[{"$f":"IF(ISBLANK(B26),\"\",$C$2)","v":""},null,null,{"$f":"IF(ISBLANK(B26),\"\",COUNTA(#REF!))","v":""},null,null,null,null,null,null,null,null,null,null,{"$f":"IF(AND(K26<>\"\",ISBLANK(N26),K26<TODAY()),\"Oui\",\"Non\")","v":"Non"},{"$f":"IF(ISBLANK(I26),\"\",IF(K26=\"\",\"délai à préciser\",IF(M26=\"\",\"statut à préciser\",IF(M26=\"finalisée\",IF(N26=\"\",\"date de solde à préciser\",IF(K26>=N26,\"fait\",\"retard\")),(IF(K26<TODAY(),\"retard\",\"Ok\"))))))","v":""},{"$f":"IF(AND(N26<>\"\",ISBLANK(N26),K26<TODAY()),\"Oui\",\"Non\")","v":"Non"},null,{"$f":"IF(ISBLANK(H26),\"\",IF(OR(H26=\"Préventive\",H26=\"Corrective\"),\"Oui\",\"Non\"))","v":""},null,null,null,null,null,{"$f":"IF(AND(U26<>\"\",ISBLANK(X26),U26<TODAY()),\"Oui\",\"Non\")","v":"Non"},{"$f":"IF(AND(S25=\"Oui\",ISBLANK(X26)),\"Oui\",\"Non\")","v":"Non"},null,null,null,null,{"$f":"IF(K26=\"\",\"\",K26-TODAY())","v":""},{"$f":"IF(ISBLANK(F26),CONCATENATE(E26,\" - \",AG26),CONCATENATE(F26,\" - \",AG26))","v":" - "},{"$f":"IF(ISBLANK(B26),\"\",YEAR(C26))","v":""},{"$f":"CONCATENATE(H26,\"-\",AG26)","v":"-"},{"$f":"CONCATENATE(M26,\"-\",AH26)","v":"--"}]
[{"$f":"IF(ISBLANK(B27),\"\",$C$2)","v":""},null,null,{"$f":"IF(ISBLANK(B27),\"\",COUNTA(#REF!))","v":""},null,null,null,null,null,null,null,null,null,null,{"$f":"IF(AND(K27<>\"\",ISBLANK(N27),K27<TODAY()),\"Oui\",\"Non\")","v":"Non"},{"$f":"IF(ISBLANK(I27),\"\",IF(K27=\"\",\"délai à préciser\",IF(M27=\"\",\"statut à préciser\",IF(M27=\"finalisée\",IF(N27=\"\",\"date de solde à préciser\",IF(K27>=N27,\"fait\",\"retard\")),(IF(K27<TODAY(),\"retard\",\"Ok\"))))))","v":""},{"$f":"IF(AND(N27<>\"\",ISBLANK(N27),K27<TODAY()),\"Oui\",\"Non\")","v":"Non"},null,{"$f":"IF(ISBLANK(H27),\"\",IF(OR(H27=\"Préventive\",H27=\"Corrective\"),\"Oui\",\"Non\"))","v":""},null,null,null,null,null,{"$f":"IF(AND(U27<>\"\",ISBLANK(X27),U27<TODAY()),\"Oui\",\"Non\")","v":"Non"},{"$f":"IF(AND(S26=\"Oui\",ISBLANK(X27)),\"Oui\",\"Non\")","v":"Non"},null,null,null,null,{"$f":"IF(K27=\"\",\"\",K27-TODAY())","v":""},{"$f":"IF(ISBLANK(F27),CONCATENATE(E27,\" - \",AG27),CONCATENATE(F27,\" - \",AG27))","v":" - "},{"$f":"IF(ISBLANK(B27),\"\",YEAR(C27))","v":""},{"$f":"CONCATENATE(H27,\"-\",AG27)","v":"-"},{"$f":"CONCATENATE(M27,\"-\",AH27)","v":"--"}]
[{"$f":"IF(ISBLANK(B28),\"\",$C$2)","v":""},null,null,{"$f":"IF(ISBLANK(B28),\"\",COUNTA(#REF!))","v":""},null,null,null,null,null,null,null,null,null,null,{"$f":"IF(AND(K28<>\"\",ISBLANK(N28),K28<TODAY()),\"Oui\",\"Non\")","v":"Non"},{"$f":"IF(ISBLANK(I28),\"\",IF(K28=\"\",\"délai à préciser\",IF(M28=\"\",\"statut à préciser\",IF(M28=\"finalisée\",IF(N28=\"\",\"date de solde à préciser\",IF(K28>=N28,\"fait\",\"retard\")),(IF(K28<TODAY(),\"retard\",\"Ok\"))))))","v":""},{"$f":"IF(AND(N28<>\"\",ISBLANK(N28),K28<TODAY()),\"Oui\",\"Non\")","v":"Non"},null,{"$f":"IF(ISBLANK(H28),\"\",IF(OR(H28=\"Préventive\",H28=\"Corrective\"),\"Oui\",\"Non\"))","v":""},null,null,null,null,null,{"$f":"IF(AND(U28<>\"\",ISBLANK(X28),U28<TODAY()),\"Oui\",\"Non\")","v":"Non"},{"$f":"IF(AND(S28=\"Oui\",ISBLANK(X28)),\"Oui\",\"Non\")","v":"Non"},null,null,null,null,{"$f":"IF(K28=\"\",\"\",K28-TODAY())","v":""},{"$f":"IF(ISBLANK(F28),CONCATENATE(E28,\" - \",AG28),CONCATENATE(F28,\" - \",AG28))","v":" - "},{"$f":"IF(ISBLANK(B28),\"\",YEAR(C28))","v":""},{"$f":"CONCATENATE(H28,\"-\",AG28)","v":"-"},{"$f":"CONCATENATE(M28,\"-\",AH28)","v":"--"}]
[{"$f":"IF(ISBLANK(B29),\"\",$C$2)","v":""},null,null,{"$f":"IF(ISBLANK(B29),\"\",COUNTA(#REF!))","v":""},null,null,null,null,null,null,null,null,null,null,{"$f":"IF(AND(K29<>\"\",ISBLANK(N29),K29<TODAY()),\"Oui\",\"Non\")","v":"Non"},{"$f":"IF(ISBLANK(I29),\"\",IF(K29=\"\",\"délai à préciser\",IF(M29=\"\",\"statut à préciser\",IF(M29=\"finalisée\",IF(N29=\"\",\"date de solde à préciser\",IF(K29>=N29,\"fait\",\"retard\")),(IF(K29<TODAY(),\"retard\",\"Ok\"))))))","v":""},{"$f":"IF(AND(N29<>\"\",ISBLANK(N29),K29<TODAY()),\"Oui\",\"Non\")","v":"Non"},null,{"$f":"IF(ISBLANK(H29),\"\",IF(OR(H29=\"Préventive\",H29=\"Corrective\"),\"Oui\",\"Non\"))","v":""},null,null,null,null,null,{"$f":"IF(AND(U29<>\"\",ISBLANK(X29),U29<TODAY()),\"Oui\",\"Non\")","v":"Non"},{"$f":"IF(AND(S29=\"Oui\",ISBLANK(X29)),\"Oui\",\"Non\")","v":"Non"},null,null,null,null,{"$f":"IF(K29=\"\",\"\",K29-TODAY())","v":""},{"$f":"IF(ISBLANK(F29),CONCATENATE(E29,\" - \",AG29),CONCATENATE(F29,\" - \",AG29))","v":" - "},{"$f":"IF(ISBLANK(B29),\"\",YEAR(C29))","v":""},{"$f":"CONCATENATE(H29,\"-\",AG29)","v":"-"},{"$f":"CONCATENATE(M29,\"-\",AH29)","v":"--"}]
[{"$f":"IF(ISBLANK(B30),\"\",$C$2)","v":""},null,null,{"$f":"IF(ISBLANK(B30),\"\",COUNTA(#REF!))","v":""},null,null,null,null,null,null,null,null,null,null,{"$f":"IF(AND(K30<>\"\",ISBLANK(N30),K30<TODAY()),\"Oui\",\"Non\")","v":"Non"},{"$f":"IF(ISBLANK(I30),\"\",IF(K30=\"\",\"délai à préciser\",IF(M30=\"\",\"statut à préciser\",IF(M30=\"finalisée\",IF(N30=\"\",\"date de solde à préciser\",IF(K30>=N30,\"fait\",\"retard\")),(IF(K30<TODAY(),\"retard\",\"Ok\"))))))","v":""},{"$f":"IF(AND(N30<>\"\",ISBLANK(N30),K30<TODAY()),\"Oui\",\"Non\")","v":"Non"},null,{"$f":"IF(ISBLANK(H30),\"\",IF(OR(H30=\"Préventive\",H30=\"Corrective\"),\"Oui\",\"Non\"))","v":""},null,null,null,null,null,{"$f":"IF(AND(U30<>\"\",ISBLANK(X30),U30<TODAY()),\"Oui\",\"Non\")","v":"Non"},{"$f":"IF(AND(S30=\"Oui\",ISBLANK(X30)),\"Oui\",\"Non\")","v":"Non"},null,null,null,null,{"$f":"IF(K30=\"\",\"\",K30-TODAY())","v":""},{"$f":"IF(ISBLANK(F30),CONCATENATE(E30,\" - \",AG30),CONCATENATE(F30,\" - \",AG30))","v":" - "},{"$f":"IF(ISBLANK(B30),\"\",YEAR(C30))","v":""},{"$f":"CONCATENATE(H30,\"-\",AG30)","v":"-"},{"$f":"CONCATENATE(M30,\"-\",AH30)","v":"--"}]
[{"$f":"IF(ISBLANK(B31),\"\",$C$2)","v":""},null,null,{"$f":"IF(ISBLANK(B31),\"\",COUNTA(#REF!))","v":""},null,null,null,null,null,null,null,null,null,null,{"$f":"IF(AND(K31<>\"\",ISBLANK(N31),K31<TODAY()),\"Oui\",\"Non\")","v":"Non"},{"$f":"IF(ISBLANK(I31),\"\",IF(K31=\"\",\"délai à préciser\",IF(M31=\"\",\"statut à préciser\",IF(M31=\"finalisée\",IF(N31=\"\",\"date de solde à préciser\",IF(K31>=N31,\"fait\",\"retard\")),(IF(K31<TODAY(),\"retard\",\"Ok\"))))))","v":""},{"$f":"IF(AND(N31<>\"\",ISBLANK(N31),K31<TODAY()),\"Oui\",\"Non\")","v":"Non"},null,{"$f":"IF(ISBLANK(H31),\"\",IF(OR(H31=\"Préventive\",H31=\"Corrective\"),\"Oui\",\"Non\"))","v":""},null,null,null,null,null,{"$f":"IF(AND(U31<>\"\",ISBLANK(X31),U31<TODAY()),\"Oui\",\"Non\")","v":"Non"},{"$f":"IF(AND(S31=\"Oui\",ISBLANK(X31)),\"Oui\",\"Non\")","v":"Non"},null,null,null,null,{"$f":"IF(K31=\"\",\"\",K31-TODAY())","v":""},{"$f":"IF(ISBLANK(F31),CONCATENATE(E31,\" - \",AG31),CONCATENATE(F31,\" - \",AG31))","v":" - "},{"$f":"IF(ISBLANK(B31),\"\",YEAR(C31))","v":""},{"$f":"CONCATENATE(H31,\"-\",AG31)","v":"-"},{"$f":"CONCATENATE(M31,\"-\",AH31)","v":"--"}]
[{"$f":"IF(ISBLANK(B32),\"\",$C$2)","v":""},null,null,{"$f":"IF(ISBLANK(B32),\"\",COUNTA(#REF!))","v":""},null,null,null,null,null,null,null,null,null,null,{"$f":"IF(AND(K32<>\"\",ISBLANK(N32),K32<TODAY()),\"Oui\",\"Non\")","v":"Non"},{"$f":"IF(ISBLANK(I32),\"\",IF(K32=\"\",\"délai à préciser\",IF(M32=\"\",\"statut à préciser\",IF(M32=\"finalisée\",IF(N32=\"\",\"date de solde à préciser\",IF(K32>=N32,\"fait\",\"retard\")),(IF(K32<TODAY(),\"retard\",\"Ok\"))))))","v":""},{"$f":"IF(AND(N32<>\"\",ISBLANK(N32),K32<TODAY()),\"Oui\",\"Non\")","v":"Non"},null,{"$f":"IF(ISBLANK(H32),\"\",IF(OR(H32=\"Préventive\",H32=\"Corrective\"),\"Oui\",\"Non\"))","v":""},null,null,null,null,null,{"$f":"IF(AND(U32<>\"\",ISBLANK(X32),U32<TODAY()),\"Oui\",\"Non\")","v":"Non"},{"$f":"IF(AND(S32=\"Oui\",ISBLANK(X32)),\"Oui\",\"Non\")","v":"Non"},null,null,null,null,{"$f":"IF(K32=\"\",\"\",K32-TODAY())","v":""},{"$f":"IF(ISBLANK(F32),CONCATENATE(E32,\" - \",AG32),CONCATENATE(F32,\" - \",AG32))","v":" - "},{"$f":"IF(ISBLANK(B32),\"\",YEAR(C32))","v":""},{"$f":"CONCATENATE(H32,\"-\",AG32)","v":"-"},{"$f":"CONCATENATE(M32,\"-\",AH32)","v":"--"}]
[{"$f":"IF(ISBLANK(B33),\"\",$C$2)","v":""},null,null,{"$f":"IF(ISBLANK(B33),\"\",COUNTA(#REF!))","v":""},null,null,null,null,null,null,null,null,null,null,{"$f":"IF(AND(K33<>\"\",ISBLANK(N33),K33<TODAY()),\"Oui\",\"Non\")","v":"Non"},{"$f":"IF(ISBLANK(I33),\"\",IF(K33=\"\",\"délai à préciser\",IF(M33=\"\",\"statut à préciser\",IF(M33=\"finalisée\",IF(N33=\"\",\"date de solde à préciser\",IF(K33>=N33,\"fait\",\"retard\")),(IF(K33<TODAY(),\"retard\",\"Ok\"))))))","v":""},{"$f":"IF(AND(N33<>\"\",ISBLANK(N33),K33<TODAY()),\"Oui\",\"Non\")","v":"Non"},null,{"$f":"IF(ISBLANK(H33),\"\",IF(OR(H33=\"Préventive\",H33=\"Corrective\"),\"Oui\",\"Non\"))","v":""},null,null,null,null,null,{"$f":"IF(AND(U33<>\"\",ISBLANK(X33),U33<TODAY()),\"Oui\",\"Non\")","v":"Non"},{"$f":"IF(AND(S33=\"Oui\",ISBLANK(X33)),\"Oui\",\"Non\")","v":"Non"},null,null,null,null,{"$f":"IF(K33=\"\",\"\",K33-TODAY())","v":""},{"$f":"IF(ISBLANK(F33),CONCATENATE(E33,\" - \",AG33),CONCATENATE(F33,\" - \",AG33))","v":" - "},{"$f":"IF(ISBLANK(B33),\"\",YEAR(C33))","v":""},{"$f":"CONCATENATE(H33,\"-\",AG33)","v":"-"},{"$f":"CONCATENATE(M33,\"-\",AH33)","v":"--"}]
[{"$f":"IF(ISBLANK(B34),\"\",$C$2)","v":""},null,null,{"$f":"IF(ISBLANK(B34),\"\",COUNTA(#REF!))","v":""},null,null,null,null,null,null,null,null,null,null,{"$f":"IF(AND(K34<>\"\",ISBLANK(N34),K34<TODAY()),\"Oui\",\"Non\")","v":"Non"},{"$f":"IF(ISBLANK(I34),\"\",IF(K34=\"\",\"délai à préciser\",IF(M34=\"\",\"statut à préciser\",IF(M34=\"finalisée\",IF(N34=\"\",\"date de solde à préciser\",IF(K34>=N34,\"fait\",\"retard\")),(IF(K34<TODAY(),\"retard\",\"Ok\"))))))","v":""},{"$f":"IF(AND(N34<>\"\",ISBLANK(N34),K34<TODAY()),\"Oui\",\"Non\")","v":"Non"},null,{"$f":"IF(ISBLANK(H34),\"\",IF(OR(H34=\"Préventive\",H34=\"Corrective\"),\"Oui\",\"Non\"))","v":""},null,null,null,null,null,{"$f":"IF(AND(U34<>\"\",ISBLANK(X34),U34<TODAY()),\"Oui\",\"Non\")","v":"Non"},{"$f":"IF(AND(S34=\"Oui\",ISBLANK(X34)),\"Oui\",\"Non\")","v":"Non"},null,null,null,null,{"$f":"IF(K34=\"\",\"\",K34-TODAY())","v":""},{"$f":"IF(ISBLANK(F34),CONCATENATE(E34,\" - \",AG34),CONCATENATE(F34,\" - \",AG34))","v":" - "},{"$f":"IF(ISBLANK(B34),\"\",YEAR(C34))","v":""},{"$f":"CONCATENATE(H34,\"-\",AG34)","v":"-"},{"$f":"CONCATENATE(M34,\"-\",AH34)","v":"--"}]
[{"$f":"IF(ISBLANK(B35),\"\",$C$2)","v":""},null,null,{"$f":"IF(ISBLANK(B35),\"\",COUNTA(#REF!))","v":""},null,null,null,null,null,null,null,null,null,null,{"$f":"IF(AND(K35<>\"\",ISBLANK(N35),K35<TODAY()),\"Oui\",\"Non\")","v":"Non"},{"$f":"IF(ISBLANK(I35),\"\",IF(K35=\"\",\"délai à préciser\",IF(M35=\"\",\"statut à préciser\",IF(M35=\"finalisée\",IF(N35=\"\",\"date de solde à préciser\",IF(K35>=N35,\"fait\",\"retard\")),(IF(K35<TODAY(),\"retard\",\"Ok\"))))))","v":""},{"$f":"IF(AND(N35<>\"\",ISBLANK(N35),K35<TODAY()),\"Oui\",\"Non\")","v":"Non"},null,{"$f":"IF(ISBLANK(H35),\"\",IF(OR(H35=\"Préventive\",H35=\"Corrective\"),\"Oui\",\"Non\"))","v":""},null,null,null,null,null,{"$f":"IF(AND(U35<>\"\",ISBLANK(X35),U35<TODAY()),\"Oui\",\"Non\")","v":"Non"},{"$f":"IF(AND(S35=\"Oui\",ISBLANK(X35)),\"Oui\",\"Non\")","v":"Non"},null,null,null,null,{"$f":"IF(K35=\"\",\"\",K35-TODAY())","v":""},{"$f":"IF(ISBLANK(F35),CONCATENATE(E35,\" - \",AG35),CONCATENATE(F35,\" - \",AG35))","v":" - "},{"$f":"IF(ISBLANK(B35),\"\",YEAR(C35))","v":""},{"$f":"CONCATENATE(H35,\"-\",AG35)","v":"-"},{"$f":"CONCATENATE(M35,\"-\",AH35)","v":"--"}]
[{"$f":"IF(ISBLANK(B36),\"\",$C$2)","v":""},null,null,{"$f":"IF(ISBLANK(B36),\"\",COUNTA(#REF!))","v":""},null,null,null,null,null,null,null,null,null,null,{"$f":"IF(AND(K36<>\"\",ISBLANK(N36),K36<TODAY()),\"Oui\",\"Non\")","v":"Non"},{"$f":"IF(ISBLANK(I36),\"\",IF(K36=\"\",\"délai à préciser\",IF(M36=\"\",\"statut à préciser\",IF(M36=\"finalisée\",IF(N36=\"\",\"date de solde à préciser\",IF(K36>=N36,\"fait\",\"retard\")),(IF(K36<TODAY(),\"retard\",\"Ok\"))))))","v":""},{"$f":"IF(AND(N36<>\"\",ISBLANK(N36),K36<TODAY()),\"Oui\",\"Non\")","v":"Non"},null,{"$f":"IF(ISBLANK(H36),\"\",IF(OR(H36=\"Préventive\",H36=\"Corrective\"),\"Oui\",\"Non\"))","v":""},null,null,null,null,null,{"$f":"IF(AND(U36<>\"\",ISBLANK(X36),U36<TODAY()),\"Oui\",\"Non\")","v":"Non"},{"$f":"IF(AND(S36=\"Oui\",ISBLANK(X36)),\"Oui\",\"Non\")","v":"Non"},null,null,null,null,{"$f":"IF(K36=\"\",\"\",K36-TODAY())","v":""},{"$f":"IF(ISBLANK(F36),CONCATENATE(E36,\" - \",AG36),CONCATENATE(F36,\" - \",AG36))","v":" - "},{"$f":"IF(ISBLANK(B36),\"\",YEAR(C36))","v":""},{"$f":"CONCATENATE(H36,\"-\",AG36)","v":"-"},{"$f":"CONCATENATE(M36,\"-\",AH36)","v":"--"}]
[{"$f":"IF(ISBLANK(B37),\"\",$C$2)","v":""},null,null,{"$f":"IF(ISBLANK(B37),\"\",COUNTA(#REF!))","v":""},null,null,null,null,null,null,null,null,null,null,{"$f":"IF(AND(K37<>\"\",ISBLANK(N37),K37<TODAY()),\"Oui\",\"Non\")","v":"Non"},{"$f":"IF(ISBLANK(I37),\"\",IF(K37=\"\",\"délai à préciser\",IF(M37=\"\",\"statut à préciser\",IF(M37=\"finalisée\",IF(N37=\"\",\"date de solde à préciser\",IF(K37>=N37,\"fait\",\"retard\")),(IF(K37<TODAY(),\"retard\",\"Ok\"))))))","v":""},{"$f":"IF(AND(N37<>\"\",ISBLANK(N37),K37<TODAY()),\"Oui\",\"Non\")","v":"Non"},null,{"$f":"IF(ISBLANK(H37),\"\",IF(OR(H37=\"Préventive\",H37=\"Corrective\"),\"Oui\",\"Non\"))","v":""},null,null,null,null,null,{"$f":"IF(AND(U37<>\"\",ISBLANK(X37),U37<TODAY()),\"Oui\",\"Non\")","v":"Non"},{"$f":"IF(AND(S37=\"Oui\",ISBLANK(X37)),\"Oui\",\"Non\")","v":"Non"},null,null,null,null,{"$f":"IF(K37=\"\",\"\",K37-TODAY())","v":""},{"$f":"IF(ISBLANK(F37),CONCATENATE(E37,\" - \",AG37),CONCATENATE(F37,\" - \",AG37))","v":" - "},{"$f":"IF(ISBLANK(B37),\"\",YEAR(C37))","v":""},{"$f":"CONCATENATE(H37,\"-\",AG37)","v":"-"},{"$f":"CONCATENATE(M37,\"-\",AH37)","v":"--"}]
[{"$f":"IF(ISBLANK(B38),\"\",$C$2)","v":""},null,null,{"$f":"IF(ISBLANK(B38),\"\",COUNTA(#REF!))","v":""},null,null,null,null,null,null,null,null,null,null,{"$f":"IF(AND(K38<>\"\",ISBLANK(N38),K38<TODAY()),\"Oui\",\"Non\")","v":"Non"},{"$f":"IF(ISBLANK(I38),\"\",IF(K38=\"\",\"délai à préciser\",IF(M38=\"\",\"statut à préciser\",IF(M38=\"finalisée\",IF(N38=\"\",\"date de solde à préciser\",IF(K38>=N38,\"fait\",\"retard\")),(IF(K38<TODAY(),\"retard\",\"Ok\"))))))","v":""},{"$f":"IF(AND(N38<>\"\",ISBLANK(N38),K38<TODAY()),\"Oui\",\"Non\")","v":"Non"},null,{"$f":"IF(ISBLANK(H38),\"\",IF(OR(H38=\"Préventive\",H38=\"Corrective\"),\"Oui\",\"Non\"))","v":""},null,null,null,null,null,{"$f":"IF(AND(U38<>\"\",ISBLANK(X38),U38<TODAY()),\"Oui\",\"Non\")","v":"Non"},{"$f":"IF(AND(S38=\"Oui\",ISBLANK(X38)),\"Oui\",\"Non\")","v":"Non"},null,null,null,null,{"$f":"IF(K38=\"\",\"\",K38-TODAY())","v":""},{"$f":"IF(ISBLANK(F38),CONCATENATE(E38,\" - \",AG38),CONCATENATE(F38,\" - \",AG38))","v":" - "},{"$f":"IF(ISBLANK(B38),\"\",YEAR(C38))","v":""},{"$f":"CONCATENATE(H38,\"-\",AG38)","v":"-"},{"$f":"CONCATENATE(M38,\"-\",AH38)","v":"--"}]
[{"$f":"IF(ISBLANK(B39),\"\",$C$2)","v":""},null,null,{"$f":"IF(ISBLANK(B39),\"\",COUNTA(#REF!))","v":""},null,null,null,null,null,null,null,null,null,null,{"$f":"IF(AND(K39<>\"\",ISBLANK(N39),K39<TODAY()),\"Oui\",\"Non\")","v":"Non"},{"$f":"IF(ISBLANK(I39),\"\",IF(K39=\"\",\"délai à préciser\",IF(M39=\"\",\"statut à préciser\",IF(M39=\"finalisée\",IF(N39=\"\",\"date de solde à préciser\",IF(K39>=N39,\"fait\",\"retard\")),(IF(K39<TODAY(),\"retard\",\"Ok\"))))))","v":""},{"$f":"IF(AND(N39<>\"\",ISBLANK(N39),K39<TODAY()),\"Oui\",\"Non\")","v":"Non"},null,{"$f":"IF(ISBLANK(H39),\"\",IF(OR(H39=\"Préventive\",H39=\"Corrective\"),\"Oui\",\"Non\"))","v":""},null,null,null,null,null,{"$f":"IF(AND(U39<>\"\",ISBLANK(X39),U39<TODAY()),\"Oui\",\"Non\")","v":"Non"},{"$f":"IF(AND(S39=\"Oui\",ISBLANK(X39)),\"Oui\",\"Non\")","v":"Non"},null,null,null,null,{"$f":"IF(K39=\"\",\"\",K39-TODAY())","v":""},{"$f":"IF(ISBLANK(F39),CONCATENATE(E39,\" - \",AG39),CONCATENATE(F39,\" - \",AG39))","v":" - "},{"$f":"IF(ISBLANK(B39),\"\",YEAR(C39))","v":""},{"$f":"CONCATENATE(H39,\"-\",AG39)","v":"-"},{"$f":"CONCATENATE(M39,\"-\",AH39)","v":"--"}]
[{"$f":"IF(ISBLANK(B40),\"\",$C$2)","v":""},null,null,{"$f":"IF(ISBLANK(B40),\"\",COUNTA(#REF!))","v":""},null,null,null,null,null,null,null,null,null,null,{"$f":"IF(AND(K40<>\"\",ISBLANK(N40),K40<TODAY()),\"Oui\",\"Non\")","v":"Non"},{"$f":"IF(ISBLANK(I40),\"\",IF(K40=\"\",\"délai à préciser\",IF(M40=\"\",\"statut à préciser\",IF(M40=\"finalisée\",IF(N40=\"\",\"date de solde à préciser\",IF(K40>=N40,\"fait\",\"retard\")),(IF(K40<TODAY(),\"retard\",\"Ok\"))))))","v":""},{"$f":"IF(AND(N40<>\"\",ISBLANK(N40),K40<TODAY()),\"Oui\",\"Non\")","v":"Non"},null,{"$f":"IF(ISBLANK(H40),\"\",IF(OR(H40=\"Préventive\",H40=\"Corrective\"),\"Oui\",\"Non\"))","v":""},null,null,null,null,null,{"$f":"IF(AND(U40<>\"\",ISBLANK(X40),U40<TODAY()),\"Oui\",\"Non\")","v":"Non"},{"$f":"IF(AND(S40=\"Oui\",ISBLANK(X40)),\"Oui\",\"Non\")","v":"Non"},null,null,null,null,{"$f":"IF(K40=\"\",\"\",K40-TODAY())","v":""},{"$f":"IF(ISBLANK(F40),CONCATENATE(E40,\" - \",AG40),CONCATENATE(F40,\" - \",AG40))","v":" - "},{"$f":"IF(ISBLANK(B40),\"\",YEAR(C40))","v":""},{"$f":"CONCATENATE(H40,\"-\",AG40)","v":"-"},{"$f":"CONCATENATE(M40,\"-\",AH40)","v":"--"}]
[{"$f":"IF(ISBLANK(B41),\"\",$C$2)","v":""},null,null,{"$f":"IF(ISBLANK(B41),\"\",COUNTA(#REF!))","v":""},null,null,null,null,null,null,null,null,null,null,{"$f":"IF(AND(K41<>\"\",ISBLANK(N41),K41<TODAY()),\"Oui\",\"Non\")","v":"Non"},{"$f":"IF(ISBLANK(I41),\"\",IF(K41=\"\",\"délai à préciser\",IF(M41=\"\",\"statut à préciser\",IF(M41=\"finalisée\",IF(N41=\"\",\"date de solde à préciser\",IF(K41>=N41,\"fait\",\"retard\")),(IF(K41<TODAY(),\"retard\",\"Ok\"))))))","v":""},{"$f":"IF(AND(N41<>\"\",ISBLANK(N41),K41<TODAY()),\"Oui\",\"Non\")","v":"Non"},null,{"$f":"IF(ISBLANK(H41),\"\",IF(OR(H41=\"Préventive\",H41=\"Corrective\"),\"Oui\",\"Non\"))","v":""},null,null,null,null,null,{"$f":"IF(AND(U41<>\"\",ISBLANK(X41),U41<TODAY()),\"Oui\",\"Non\")","v":"Non"},{"$f":"IF(AND(S41=\"Oui\",ISBLANK(X41)),\"Oui\",\"Non\")","v":"Non"},null,null,null,null,{"$f":"IF(K41=\"\",\"\",K41-TODAY())","v":""},{"$f":"IF(ISBLANK(F41),CONCATENATE(E41,\" - \",AG41),CONCATENATE(F41,\" - \",AG41))","v":" - "},{"$f":"IF(ISBLANK(B41),\"\",YEAR(C41))","v":""},{"$f":"CONCATENATE(H41,\"-\",AG41)","v":"-"},{"$f":"CONCATENATE(M41,\"-\",AH41)","v":"--"}]
[{"$f":"IF(ISBLANK(B42),\"\",$C$2)","v":""},null,null,{"$f":"IF(ISBLANK(B42),\"\",COUNTA(#REF!))","v":""},null,null,null,null,null,null,null,null,null,null,{"$f":"IF(AND(K42<>\"\",ISBLANK(N42),K42<TODAY()),\"Oui\",\"Non\")","v":"Non"},{"$f":"IF(ISBLANK(I42),\"\",IF(K42=\"\",\"délai à préciser\",IF(M42=\"\",\"statut à préciser\",IF(M42=\"finalisée\",IF(N42=\"\",\"date de solde à préciser\",IF(K42>=N42,\"fait\",\"retard\")),(IF(K42<TODAY(),\"retard\",\"Ok\"))))))","v":""},{"$f":"IF(AND(N42<>\"\",ISBLANK(N42),K42<TODAY()),\"Oui\",\"Non\")","v":"Non"},null,{"$f":"IF(ISBLANK(H42),\"\",IF(OR(H42=\"Préventive\",H42=\"Corrective\"),\"Oui\",\"Non\"))","v":""},null,null,null,null,null,{"$f":"IF(AND(U42<>\"\",ISBLANK(X42),U42<TODAY()),\"Oui\",\"Non\")","v":"Non"},{"$f":"IF(AND(S42=\"Oui\",ISBLANK(X42)),\"Oui\",\"Non\")","v":"Non"},null,null,null,null,{"$f":"IF(K42=\"\",\"\",K42-TODAY())","v":""},{"$f":"IF(ISBLANK(F42),CONCATENATE(E42,\" - \",AG42),CONCATENATE(F42,\" - \",AG42))","v":" - "},{"$f":"IF(ISBLANK(B42),\"\",YEAR(C42))","v":""},{"$f":"CONCATENATE(H42,\"-\",AG42)","v":"-"},{"$f":"CONCATENATE(M42,\"-\",AH42)","v":"--"}]
[{"$f":"IF(ISBLANK(B43),\"\",$C$2)","v":""},null,null,{"$f":"IF(ISBLANK(B43),\"\",COUNTA(#REF!))","v":""},null,null,null,null,null,null,null,null,null,null,{"$f":"IF(AND(K43<>\"\",ISBLANK(N43),K43<TODAY()),\"Oui\",\"Non\")","v":"Non"},{"$f":"IF(ISBLANK(I43),\"\",IF(K43=\"\",\"délai à préciser\",IF(M43=\"\",\"statut à préciser\",IF(M43=\"finalisée\",IF(N43=\"\",\"date de solde à préciser\",IF(K43>=N43,\"fait\",\"retard\")),(IF(K43<TODAY(),\"retard\",\"Ok\"))))))","v":""},{"$f":"IF(AND(N43<>\"\",ISBLANK(N43),K43<TODAY()),\"Oui\",\"Non\")","v":"Non"},null,{"$f":"IF(ISBLANK(H43),\"\",IF(OR(H43=\"Préventive\",H43=\"Corrective\"),\"Oui\",\"Non\"))","v":""},null,null,null,null,null,{"$f":"IF(AND(U43<>\"\",ISBLANK(X43),U43<TODAY()),\"Oui\",\"Non\")","v":"Non"},{"$f":"IF(AND(S43=\"Oui\",ISBLANK(X43)),\"Oui\",\"Non\")","v":"Non"},null,null,null,null,{"$f":"IF(K43=\"\",\"\",K43-TODAY())","v":""},{"$f":"IF(ISBLANK(F43),CONCATENATE(E43,\" - \",AG43),CONCATENATE(F43,\" - \",AG43))","v":" - "},{"$f":"IF(ISBLANK(B43),\"\",YEAR(C43))","v":""},{"$f":"CONCATENATE(H43,\"-\",AG43)","v":"-"},{"$f":"CONCATENATE(M43,\"-\",AH43)","v":"--"}]
[{"$f":"IF(ISBLANK(B44),\"\",$C$2)","v":""},null,null,{"$f":"IF(ISBLANK(B44),\"\",COUNTA(#REF!))","v":""},null,null,null,null,null,null,null,null,null,null,{"$f":"IF(AND(K44<>\"\",ISBLANK(N44),K44<TODAY()),\"Oui\",\"Non\")","v":"Non"},{"$f":"IF(ISBLANK(I44),\"\",IF(K44=\"\",\"délai à préciser\",IF(M44=\"\",\"statut à préciser\",IF(M44=\"finalisée\",IF(N44=\"\",\"date de solde à préciser\",IF(K44>=N44,\"fait\",\"retard\")),(IF(K44<TODAY(),\"retard\",\"Ok\"))))))","v":""},{"$f":"IF(AND(N44<>\"\",ISBLANK(N44),K44<TODAY()),\"Oui\",\"Non\")","v":"Non"},null,{"$f":"IF(ISBLANK(H44),\"\",IF(OR(H44=\"Préventive\",H44=\"Corrective\"),\"Oui\",\"Non\"))","v":""},null,null,null,null,null,{"$f":"IF(AND(U44<>\"\",ISBLANK(X44),U44<TODAY()),\"Oui\",\"Non\")","v":"Non"},{"$f":"IF(AND(S44=\"Oui\",ISBLANK(X44)),\"Oui\",\"Non\")","v":"Non"},null,null,null,null,{"$f":"IF(K44=\"\",\"\",K44-TODAY())","v":""},{"$f":"IF(ISBLANK(F44),CONCATENATE(E44,\" - \",AG44),CONCATENATE(F44,\" - \",AG44))","v":" - "},{"$f":"IF(ISBLANK(B44),\"\",YEAR(C44))","v":""},{"$f":"CONCATENATE(H44,\"-\",AG44)","v":"-"},{"$f":"CONCATENATE(M44,\"-\",AH44)","v":"--"}]
[{"$f":"IF(ISBLANK(B45),\"\",$C$2)","v":""},null,null,{"$f":"IF(ISBLANK(B45),\"\",COUNTA(#REF!))","v":""},null,null,null,null,null,null,null,null,null,null,{"$f":"IF(AND(K45<>\"\",ISBLANK(N45),K45<TODAY()),\"Oui\",\"Non\")","v":"Non"},{"$f":"IF(ISBLANK(I45),\"\",IF(K45=\"\",\"délai à préciser\",IF(M45=\"\",\"statut à préciser\",IF(M45=\"finalisée\",IF(N45=\"\",\"date de solde à préciser\",IF(K45>=N45,\"fait\",\"retard\")),(IF(K45<TODAY(),\"retard\",\"Ok\"))))))","v":""},{"$f":"IF(AND(N45<>\"\",ISBLANK(N45),K45<TODAY()),\"Oui\",\"Non\")","v":"Non"},null,{"$f":"IF(ISBLANK(H45),\"\",IF(OR(H45=\"Préventive\",H45=\"Corrective\"),\"Oui\",\"Non\"))","v":""},null,null,null,null,null,{"$f":"IF(AND(U45<>\"\",ISBLANK(X45),U45<TODAY()),\"Oui\",\"Non\")","v":"Non"},{"$f":"IF(AND(S45=\"Oui\",ISBLANK(X45)),\"Oui\",\"Non\")","v":"Non"},null,null,null,null,{"$f":"IF(K45=\"\",\"\",K45-TODAY())","v":""},{"$f":"IF(ISBLANK(F45),CONCATENATE(E45,\" - \",AG45),CONCATENATE(F45,\" - \",AG45))","v":" - "},{"$f":"IF(ISBLANK(B45),\"\",YEAR(C45))","v":""},{"$f":"CONCATENATE(H45,\"-\",AG45)","v":"-"},{"$f":"CONCATENATE(M45,\"-\",AH45)","v":"--"}]
[{"$f":"IF(ISBLANK(B46),\"\",$C$2)","v":""},null,null,{"$f":"IF(ISBLANK(B46),\"\",COUNTA(#REF!))","v":""},null,null,null,null,null,null,null,null,null,null,{"$f":"IF(AND(K46<>\"\",ISBLANK(N46),K46<TODAY()),\"Oui\",\"Non\")","v":"Non"},{"$f":"IF(ISBLANK(I46),\"\",IF(K46=\"\",\"délai à préciser\",IF(M46=\"\",\"statut à préciser\",IF(M46=\"finalisée\",IF(N46=\"\",\"date de solde à préciser\",IF(K46>=N46,\"fait\",\"retard\")),(IF(K46<TODAY(),\"retard\",\"Ok\"))))))","v":""},{"$f":"IF(AND(N46<>\"\",ISBLANK(N46),K46<TODAY()),\"Oui\",\"Non\")","v":"Non"},null,{"$f":"IF(ISBLANK(H46),\"\",IF(OR(H46=\"Préventive\",H46=\"Corrective\"),\"Oui\",\"Non\"))","v":""},null,null,null,null,null,{"$f":"IF(AND(U46<>\"\",ISBLANK(X46),U46<TODAY()),\"Oui\",\"Non\")","v":"Non"},{"$f":"IF(AND(S46=\"Oui\",ISBLANK(X46)),\"Oui\",\"Non\")","v":"Non"},null,null,null,null,{"$f":"IF(K46=\"\",\"\",K46-TODAY())","v":""},{"$f":"IF(ISBLANK(F46),CONCATENATE(E46,\" - \",AG46),CONCATENATE(F46,\" - \",AG46))","v":" - "},{"$f":"IF(ISBLANK(B46),\"\",YEAR(C46))","v":""},{"$f":"CONCATENATE(H46,\"-\",AG46)","v":"-"},{"$f":"CONCATENATE(M46,\"-\",AH46)","v":"--"}]
[{"$f":"IF(ISBLANK(B47),\"\",$C$2)","v":""},null,null,{"$f":"IF(ISBLANK(B47),\"\",COUNTA(#REF!))","v":""},null,null,null,null,null,null,null,null,null,null,{"$f":"IF(AND(K47<>\"\",ISBLANK(N47),K47<TODAY()),\"Oui\",\"Non\")","v":"Non"},{"$f":"IF(ISBLANK(I47),\"\",IF(K47=\"\",\"délai à préciser\",IF(M47=\"\",\"statut à préciser\",IF(M47=\"finalisée\",IF(N47=\"\",\"date de solde à préciser\",IF(K47>=N47,\"fait\",\"retard\")),(IF(K47<TODAY(),\"retard\",\"Ok\"))))))","v":""},{"$f":"IF(AND(N47<>\"\",ISBLANK(N47),K47<TODAY()),\"Oui\",\"Non\")","v":"Non"},null,{"$f":"IF(ISBLANK(H47),\"\",IF(OR(H47=\"Préventive\",H47=\"Corrective\"),\"Oui\",\"Non\"))","v":""},null,null,null,null,null,{"$f":"IF(AND(U47<>\"\",ISBLANK(X47),U47<TODAY()),\"Oui\",\"Non\")","v":"Non"},{"$f":"IF(AND(S47=\"Oui\",ISBLANK(X47)),\"Oui\",\"Non\")","v":"Non"},null,null,null,null,{"$f":"IF(K47=\"\",\"\",K47-TODAY())","v":""},{"$f":"IF(ISBLANK(F47),CONCATENATE(E47,\" - \",AG47),CONCATENATE(F47,\" - \",AG47))","v":" - "},{"$f":"IF(ISBLANK(B47),\"\",YEAR(C47))","v":""},{"$f":"CONCATENATE(H47,\"-\",AG47)","v":"-"},{"$f":"CONCATENATE(M47,\"-\",AH47)","v":"--"}]
[{"$f":"IF(ISBLANK(B48),\"\",$C$2)","v":""},null,null,{"$f":"IF(ISBLANK(B48),\"\",COUNTA(#REF!))","v":""},null,null,null,null,null,null,null,null,null,null,{"$f":"IF(AND(K48<>\"\",ISBLANK(N48),K48<TODAY()),\"Oui\",\"Non\")","v":"Non"},{"$f":"IF(ISBLANK(I48),\"\",IF(K48=\"\",\"délai à préciser\",IF(M48=\"\",\"statut à préciser\",IF(M48=\"finalisée\",IF(N48=\"\",\"date de solde à préciser\",IF(K48>=N48,\"fait\",\"retard\")),(IF(K48<TODAY(),\"retard\",\"Ok\"))))))","v":""},{"$f":"IF(AND(N48<>\"\",ISBLANK(N48),K48<TODAY()),\"Oui\",\"Non\")","v":"Non"},null,{"$f":"IF(ISBLANK(H48),\"\",IF(OR(H48=\"Préventive\",H48=\"Corrective\"),\"Oui\",\"Non\"))","v":""},null,null,null,null,null,{"$f":"IF(AND(U48<>\"\",ISBLANK(X48),U48<TODAY()),\"Oui\",\"Non\")","v":"Non"},{"$f":"IF(AND(S48=\"Oui\",ISBLANK(X48)),\"Oui\",\"Non\")","v":"Non"},null,null,null,null,{"$f":"IF(K48=\"\",\"\",K48-TODAY())","v":""},{"$f":"IF(ISBLANK(F48),CONCATENATE(E48,\" - \",AG48),CONCATENATE(F48,\" - \",AG48))","v":" - "},{"$f":"IF(ISBLANK(B48),\"\",YEAR(C48))","v":""},{"$f":"CONCATENATE(H48,\"-\",AG48)","v":"-"},{"$f":"CONCATENATE(M48,\"-\",AH48)","v":"--"}]
[{"$f":"IF(ISBLANK(B49),\"\",$C$2)","v":""},null,null,{"$f":"IF(ISBLANK(B49),\"\",COUNTA(#REF!))","v":""},null,null,null,null,null,null,null,null,null,null,{"$f":"IF(AND(K49<>\"\",ISBLANK(N49),K49<TODAY()),\"Oui\",\"Non\")","v":"Non"},{"$f":"IF(ISBLANK(I49),\"\",IF(K49=\"\",\"délai à préciser\",IF(M49=\"\",\"statut à préciser\",IF(M49=\"finalisée\",IF(N49=\"\",\"date de solde à préciser\",IF(K49>=N49,\"fait\",\"retard\")),(IF(K49<TODAY(),\"retard\",\"Ok\"))))))","v":""},{"$f":"IF(AND(N49<>\"\",ISBLANK(N49),K49<TODAY()),\"Oui\",\"Non\")","v":"Non"},null,{"$f":"IF(ISBLANK(H49),\"\",IF(OR(H49=\"Préventive\",H49=\"Corrective\"),\"Oui\",\"Non\"))","v":""},null,null,null,null,null,{"$f":"IF(AND(U49<>\"\",ISBLANK(X49),U49<TODAY()),\"Oui\",\"Non\")","v":"Non"},{"$f":"IF(AND(S49=\"Oui\",ISBLANK(X49)),\"Oui\",\"Non\")","v":"Non"},null,null,null,null,{"$f":"IF(K49=\"\",\"\",K49-TODAY())","v":""},{"$f":"IF(ISBLANK(F49),CONCATENATE(E49,\" - \",AG49),CONCATENATE(F49,\" - \",AG49))","v":" - "},{"$f":"IF(ISBLANK(B49),\"\",YEAR(C49))","v":""},{"$f":"CONCATENATE(H49,\"-\",AG49)","v":"-"},{"$f":"CONCATENATE(M49,\"-\",AH49)","v":"--"}]
[{"$f":"IF(ISBLANK(B50),\"\",$C$2)","v":""},null,null,{"$f":"IF(ISBLANK(B50),\"\",COUNTA(#REF!))","v":""},null,null,null,null,null,null,null,null,null,null,{"$f":"IF(AND(K50<>\"\",ISBLANK(N50),K50<TODAY()),\"Oui\",\"Non\")","v":"Non"},{"$f":"IF(ISBLANK(I50),\"\",IF(K50=\"\",\"délai à préciser\",IF(M50=\"\",\"statut à préciser\",IF(M50=\"finalisée\",IF(N50=\"\",\"date de solde à préciser\",IF(K50>=N50,\"fait\",\"retard\")),(IF(K50<TODAY(),\"retard\",\"Ok\"))))))","v":""},{"$f":"IF(AND(N50<>\"\",ISBLANK(N50),K50<TODAY()),\"Oui\",\"Non\")","v":"Non"},null,{"$f":"IF(ISBLANK(H50),\"\",IF(OR(H50=\"Préventive\",H50=\"Corrective\"),\"Oui\",\"Non\"))","v":""},null,null,null,null,null,{"$f":"IF(AND(U50<>\"\",ISBLANK(X50),U50<TODAY()),\"Oui\",\"Non\")","v":"Non"},{"$f":"IF(AND(S50=\"Oui\",ISBLANK(X50)),\"Oui\",\"Non\")","v":"Non"},null,null,null,null,{"$f":"IF(K50=\"\",\"\",K50-TODAY())","v":""},{"$f":"IF(ISBLANK(F50),CONCATENATE(E50,\" - \",AG50),CONCATENATE(F50,\" - \",AG50))","v":" - "},{"$f":"IF(ISBLANK(B50),\"\",YEAR(C50))","v":""},{"$f":"CONCATENATE(H50,\"-\",AG50)","v":"-"},{"$f":"CONCATENATE(M50,\"-\",AH50)","v":"--"}]
[{"$f":"IF(ISBLANK(B51),\"\",$C$2)","v":""},null,null,{"$f":"IF(ISBLANK(B51),\"\",COUNTA(#REF!))","v":""},null,null,null,null,null,null,null,null,null,null,{"$f":"IF(AND(K51<>\"\",ISBLANK(N51),K51<TODAY()),\"Oui\",\"Non\")","v":"Non"},{"$f":"IF(ISBLANK(I51),\"\",IF(K51=\"\",\"délai à préciser\",IF(M51=\"\",\"statut à préciser\",IF(M51=\"finalisée\",IF(N51=\"\",\"date de solde à préciser\",IF(K51>=N51,\"fait\",\"retard\")),(IF(K51<TODAY(),\"retard\",\"Ok\"))))))","v":""},{"$f":"IF(AND(N51<>\"\",ISBLANK(N51),K51<TODAY()),\"Oui\",\"Non\")","v":"Non"},null,{"$f":"IF(ISBLANK(H51),\"\",IF(OR(H51=\"Préventive\",H51=\"Corrective\"),\"Oui\",\"Non\"))","v":""},null,null,null,null,null,{"$f":"IF(AND(U51<>\"\",ISBLANK(X51),U51<TODAY()),\"Oui\",\"Non\")","v":"Non"},{"$f":"IF(AND(S51=\"Oui\",ISBLANK(X51)),\"Oui\",\"Non\")","v":"Non"},null,null,null,null,{"$f":"IF(K51=\"\",\"\",K51-TODAY())","v":""},{"$f":"IF(ISBLANK(F51),CONCATENATE(E51,\" - \",AG51),CONCATENATE(F51,\" - \",AG51))","v":" - "},{"$f":"IF(ISBLANK(B51),\"\",YEAR(C51))","v":""},{"$f":"CONCATENATE(H51,\"-\",AG51)","v":"-"},{"$f":"CONCATENATE(M51,\"-\",AH51)","v":"--"}]
[{"$f":"IF(ISBLANK(B52),\"\",$C$2)","v":""},null,null,{"$f":"IF(ISBLANK(B52),\"\",COUNTA(#REF!))","v":""},null,null,null,null,null,null,null,null,null,null,{"$f":"IF(AND(K52<>\"\",ISBLANK(N52),K52<TODAY()),\"Oui\",\"Non\")","v":"Non"},{"$f":"IF(ISBLANK(I52),\"\",IF(K52=\"\",\"délai à préciser\",IF(M52=\"\",\"statut à préciser\",IF(M52=\"finalisée\",IF(N52=\"\",\"date de solde à préciser\",IF(K52>=N52,\"fait\",\"retard\")),(IF(K52<TODAY(),\"retard\",\"Ok\"))))))","v":""},{"$f":"IF(AND(N52<>\"\",ISBLANK(N52),K52<TODAY()),\"Oui\",\"Non\")","v":"Non"},null,{"$f":"IF(ISBLANK(H52),\"\",IF(OR(H52=\"Préventive\",H52=\"Corrective\"),\"Oui\",\"Non\"))","v":""},null,null,null,null,null,{"$f":"IF(AND(U52<>\"\",ISBLANK(X52),U52<TODAY()),\"Oui\",\"Non\")","v":"Non"},{"$f":"IF(AND(S52=\"Oui\",ISBLANK(X52)),\"Oui\",\"Non\")","v":"Non"},null,null,null,null,{"$f":"IF(K52=\"\",\"\",K52-TODAY())","v":""},{"$f":"IF(ISBLANK(F52),CONCATENATE(E52,\" - \",AG52),CONCATENATE(F52,\" - \",AG52))","v":" - "},{"$f":"IF(ISBLANK(B52),\"\",YEAR(C52))","v":""},{"$f":"CONCATENATE(H52,\"-\",AG52)","v":"-"},{"$f":"CONCATENATE(M52,\"-\",AH52)","v":"--"}]
[{"$f":"IF(ISBLANK(B53),\"\",$C$2)","v":""},null,null,{"$f":"IF(ISBLANK(B53),\"\",COUNTA(#REF!))","v":""},null,null,null,null,null,null,null,null,null,null,{"$f":"IF(AND(K53<>\"\",ISBLANK(N53),K53<TODAY()),\"Oui\",\"Non\")","v":"Non"},{"$f":"IF(ISBLANK(I53),\"\",IF(K53=\"\",\"délai à préciser\",IF(M53=\"\",\"statut à préciser\",IF(M53=\"finalisée\",IF(N53=\"\",\"date de solde à préciser\",IF(K53>=N53,\"fait\",\"retard\")),(IF(K53<TODAY(),\"retard\",\"Ok\"))))))","v":""},{"$f":"IF(AND(N53<>\"\",ISBLANK(N53),K53<TODAY()),\"Oui\",\"Non\")","v":"Non"},null,{"$f":"IF(ISBLANK(H53),\"\",IF(OR(H53=\"Préventive\",H53=\"Corrective\"),\"Oui\",\"Non\"))","v":""},null,null,null,null,null,{"$f":"IF(AND(U53<>\"\",ISBLANK(X53),U53<TODAY()),\"Oui\",\"Non\")","v":"Non"},{"$f":"IF(AND(S53=\"Oui\",ISBLANK(X53)),\"Oui\",\"Non\")","v":"Non"},null,null,null,null,{"$f":"IF(K53=\"\",\"\",K53-TODAY())","v":""},{"$f":"IF(ISBLANK(F53),CONCATENATE(E53,\" - \",AG53),CONCATENATE(F53,\" - \",AG53))","v":" - "},{"$f":"IF(ISBLANK(B53),\"\",YEAR(C53))","v":""},{"$f":"CONCATENATE(H53,\"-\",AG53)","v":"-"},{"$f":"CONCATENATE(M53,\"-\",AH53)","v":"--"}]
[{"$f":"IF(ISBLANK(B54),\"\",$C$2)","v":""},null,null,{"$f":"IF(ISBLANK(B54),\"\",COUNTA(#REF!))","v":""},null,null,null,null,null,null,null,null,null,null,{"$f":"IF(AND(K54<>\"\",ISBLANK(N54),K54<TODAY()),\"Oui\",\"Non\")","v":"Non"},{"$f":"IF(ISBLANK(I54),\"\",IF(K54=\"\",\"délai à préciser\",IF(M54=\"\",\"statut à préciser\",IF(M54=\"finalisée\",IF(N54=\"\",\"date de solde à préciser\",IF(K54>=N54,\"fait\",\"retard\")),(IF(K54<TODAY(),\"retard\",\"Ok\"))))))","v":""},{"$f":"IF(AND(N54<>\"\",ISBLANK(N54),K54<TODAY()),\"Oui\",\"Non\")","v":"Non"},null,{"$f":"IF(ISBLANK(H54),\"\",IF(OR(H54=\"Préventive\",H54=\"Corrective\"),\"Oui\",\"Non\"))","v":""},null,null,null,null,null,{"$f":"IF(AND(U54<>\"\",ISBLANK(X54),U54<TODAY()),\"Oui\",\"Non\")","v":"Non"},{"$f":"IF(AND(S54=\"Oui\",ISBLANK(X54)),\"Oui\",\"Non\")","v":"Non"},null,null,null,null,{"$f":"IF(K54=\"\",\"\",K54-TODAY())","v":""},{"$f":"IF(ISBLANK(F54),CONCATENATE(E54,\" - \",AG54),CONCATENATE(F54,\" - \",AG54))","v":" - "},{"$f":"IF(ISBLANK(B54),\"\",YEAR(C54))","v":""},{"$f":"CONCATENATE(H54,\"-\",AG54)","v":"-"},{"$f":"CONCATENATE(M54,\"-\",AH54)","v":"--"}]
[{"$f":"IF(ISBLANK(B55),\"\",$C$2)","v":""},null,null,{"$f":"IF(ISBLANK(B55),\"\",COUNTA(#REF!))","v":""},null,null,null,null,null,null,null,null,null,null,{"$f":"IF(AND(K55<>\"\",ISBLANK(N55),K55<TODAY()),\"Oui\",\"Non\")","v":"Non"},{"$f":"IF(ISBLANK(I55),\"\",IF(K55=\"\",\"délai à préciser\",IF(M55=\"\",\"statut à préciser\",IF(M55=\"finalisée\",IF(N55=\"\",\"date de solde à préciser\",IF(K55>=N55,\"fait\",\"retard\")),(IF(K55<TODAY(),\"retard\",\"Ok\"))))))","v":""},{"$f":"IF(AND(N55<>\"\",ISBLANK(N55),K55<TODAY()),\"Oui\",\"Non\")","v":"Non"},null,{"$f":"IF(ISBLANK(H55),\"\",IF(OR(H55=\"Préventive\",H55=\"Corrective\"),\"Oui\",\"Non\"))","v":""},null,null,null,null,null,{"$f":"IF(AND(U55<>\"\",ISBLANK(X55),U55<TODAY()),\"Oui\",\"Non\")","v":"Non"},{"$f":"IF(AND(S55=\"Oui\",ISBLANK(X55)),\"Oui\",\"Non\")","v":"Non"},null,null,null,null,{"$f":"IF(K55=\"\",\"\",K55-TODAY())","v":""},{"$f":"IF(ISBLANK(F55),CONCATENATE(E55,\" - \",AG55),CONCATENATE(F55,\" - \",AG55))","v":" - "},{"$f":"IF(ISBLANK(B55),\"\",YEAR(C55))","v":""},{"$f":"CONCATENATE(H55,\"-\",AG55)","v":"-"},{"$f":"CONCATENATE(M55,\"-\",AH55)","v":"--"}]
[{"$f":"IF(ISBLANK(B56),\"\",$C$2)","v":""},null,null,{"$f":"IF(ISBLANK(B56),\"\",COUNTA(#REF!))","v":""},null,null,null,null,null,null,null,null,null,null,{"$f":"IF(AND(K56<>\"\",ISBLANK(N56),K56<TODAY()),\"Oui\",\"Non\")","v":"Non"},{"$f":"IF(ISBLANK(I56),\"\",IF(K56=\"\",\"délai à préciser\",IF(M56=\"\",\"statut à préciser\",IF(M56=\"finalisée\",IF(N56=\"\",\"date de solde à préciser\",IF(K56>=N56,\"fait\",\"retard\")),(IF(K56<TODAY(),\"retard\",\"Ok\"))))))","v":""},{"$f":"IF(AND(N56<>\"\",ISBLANK(N56),K56<TODAY()),\"Oui\",\"Non\")","v":"Non"},null,{"$f":"IF(ISBLANK(H56),\"\",IF(OR(H56=\"Préventive\",H56=\"Corrective\"),\"Oui\",\"Non\"))","v":""},null,null,null,null,null,{"$f":"IF(AND(U56<>\"\",ISBLANK(X56),U56<TODAY()),\"Oui\",\"Non\")","v":"Non"},{"$f":"IF(AND(S56=\"Oui\",ISBLANK(X56)),\"Oui\",\"Non\")","v":"Non"},null,null,null,null,{"$f":"IF(K56=\"\",\"\",K56-TODAY())","v":""},{"$f":"IF(ISBLANK(F56),CONCATENATE(E56,\" - \",AG56),CONCATENATE(F56,\" - \",AG56))","v":" - "},{"$f":"IF(ISBLANK(B56),\"\",YEAR(C56))","v":""},{"$f":"CONCATENATE(H56,\"-\",AG56)","v":"-"},{"$f":"CONCATENATE(M56,\"-\",AH56)","v":"--"}]
[{"$f":"IF(ISBLANK(B57),\"\",$C$2)","v":""},null,null,{"$f":"IF(ISBLANK(B57),\"\",COUNTA(#REF!))","v":""},null,null,null,null,null,null,null,null,null,null,{"$f":"IF(AND(K57<>\"\",ISBLANK(N57),K57<TODAY()),\"Oui\",\"Non\")","v":"Non"},{"$f":"IF(ISBLANK(I57),\"\",IF(K57=\"\",\"délai à préciser\",IF(M57=\"\",\"statut à préciser\",IF(M57=\"finalisée\",IF(N57=\"\",\"date de solde à préciser\",IF(K57>=N57,\"fait\",\"retard\")),(IF(K57<TODAY(),\"retard\",\"Ok\"))))))","v":""},{"$f":"IF(AND(N57<>\"\",ISBLANK(N57),K57<TODAY()),\"Oui\",\"Non\")","v":"Non"},null,{"$f":"IF(ISBLANK(H57),\"\",IF(OR(H57=\"Préventive\",H57=\"Corrective\"),\"Oui\",\"Non\"))","v":""},null,null,null,null,null,{"$f":"IF(AND(U57<>\"\",ISBLANK(X57),U57<TODAY()),\"Oui\",\"Non\")","v":"Non"},{"$f":"IF(AND(S57=\"Oui\",ISBLANK(X57)),\"Oui\",\"Non\")","v":"Non"},null,null,null,null,{"$f":"IF(K57=\"\",\"\",K57-TODAY())","v":""},{"$f":"IF(ISBLANK(F57),CONCATENATE(E57,\" - \",AG57),CONCATENATE(F57,\" - \",AG57))","v":" - "},{"$f":"IF(ISBLANK(B57),\"\",YEAR(C57))","v":""},{"$f":"CONCATENATE(H57,\"-\",AG57)","v":"-"},{"$f":"CONCATENATE(M57,\"-\",AH57)","v":"--"}]
[{"$f":"IF(ISBLANK(B58),\"\",$C$2)","v":""},null,null,{"$f":"IF(ISBLANK(B58),\"\",COUNTA(#REF!))","v":""},null,null,null,null,null,null,null,null,null,null,{"$f":"IF(AND(K58<>\"\",ISBLANK(N58),K58<TODAY()),\"Oui\",\"Non\")","v":"Non"},{"$f":"IF(ISBLANK(I58),\"\",IF(K58=\"\",\"délai à préciser\",IF(M58=\"\",\"statut à préciser\",IF(M58=\"finalisée\",IF(N58=\"\",\"date de solde à préciser\",IF(K58>=N58,\"fait\",\"retard\")),(IF(K58<TODAY(),\"retard\",\"Ok\"))))))","v":""},{"$f":"IF(AND(N58<>\"\",ISBLANK(N58),K58<TODAY()),\"Oui\",\"Non\")","v":"Non"},null,{"$f":"IF(ISBLANK(H58),\"\",IF(OR(H58=\"Préventive\",H58=\"Corrective\"),\"Oui\",\"Non\"))","v":""},null,null,null,null,null,{"$f":"IF(AND(U58<>\"\",ISBLANK(X58),U58<TODAY()),\"Oui\",\"Non\")","v":"Non"},{"$f":"IF(AND(S58=\"Oui\",ISBLANK(X58)),\"Oui\",\"Non\")","v":"Non"},null,null,null,null,{"$f":"IF(K58=\"\",\"\",K58-TODAY())","v":""},{"$f":"IF(ISBLANK(F58),CONCATENATE(E58,\" - \",AG58),CONCATENATE(F58,\" - \",AG58))","v":" - "},{"$f":"IF(ISBLANK(B58),\"\",YEAR(C58))","v":""},{"$f":"CONCATENATE(H58,\"-\",AG58)","v":"-"},{"$f":"CONCATENATE(M58,\"-\",AH58)","v":"--"}]
[{"$f":"IF(ISBLANK(B59),\"\",$C$2)","v":""},null,null,{"$f":"IF(ISBLANK(B59),\"\",COUNTA(#REF!))","v":""},null,null,null,null,null,null,null,null,null,null,{"$f":"IF(AND(K59<>\"\",ISBLANK(N59),K59<TODAY()),\"Oui\",\"Non\")","v":"Non"},{"$f":"IF(ISBLANK(I59),\"\",IF(K59=\"\",\"délai à préciser\",IF(M59=\"\",\"statut à préciser\",IF(M59=\"finalisée\",IF(N59=\"\",\"date de solde à préciser\",IF(K59>=N59,\"fait\",\"retard\")),(IF(K59<TODAY(),\"retard\",\"Ok\"))))))","v":""},{"$f":"IF(AND(N59<>\"\",ISBLANK(N59),K59<TODAY()),\"Oui\",\"Non\")","v":"Non"},null,{"$f":"IF(ISBLANK(H59),\"\",IF(OR(H59=\"Préventive\",H59=\"Corrective\"),\"Oui\",\"Non\"))","v":""},null,null,null,null,null,{"$f":"IF(AND(U59<>\"\",ISBLANK(X59),U59<TODAY()),\"Oui\",\"Non\")","v":"Non"},{"$f":"IF(AND(S59=\"Oui\",ISBLANK(X59)),\"Oui\",\"Non\")","v":"Non"},null,null,null,null,{"$f":"IF(K59=\"\",\"\",K59-TODAY())","v":""},{"$f":"IF(ISBLANK(F59),CONCATENATE(E59,\" - \",AG59),CONCATENATE(F59,\" - \",AG59))","v":" - "},{"$f":"IF(ISBLANK(B59),\"\",YEAR(C59))","v":""},{"$f":"CONCATENATE(H59,\"-\",AG59)","v":"-"},{"$f":"CONCATENATE(M59,\"-\",AH59)","v":"--"}]
[{"$f":"IF(ISBLANK(B60),\"\",$C$2)","v":""},null,null,{"$f":"IF(ISBLANK(B60),\"\",COUNTA(#REF!))","v":""},null,null,null,null,null,null,null,null,null,null,{"$f":"IF(AND(K60<>\"\",ISBLANK(N60),K60<TODAY()),\"Oui\",\"Non\")","v":"Non"},{"$f":"IF(ISBLANK(I60),\"\",IF(K60=\"\",\"délai à préciser\",IF(M60=\"\",\"statut à préciser\",IF(M60=\"finalisée\",IF(N60=\"\",\"date de solde à préciser\",IF(K60>=N60,\"fait\",\"retard\")),(IF(K60<TODAY(),\"retard\",\"Ok\"))))))","v":""},{"$f":"IF(AND(N60<>\"\",ISBLANK(N60),K60<TODAY()),\"Oui\",\"Non\")","v":"Non"},null,{"$f":"IF(ISBLANK(H60),\"\",IF(OR(H60=\"Préventive\",H60=\"Corrective\"),\"Oui\",\"Non\"))","v":""},null,null,null,null,null,{"$f":"IF(AND(U60<>\"\",ISBLANK(X60),U60<TODAY()),\"Oui\",\"Non\")","v":"Non"},{"$f":"IF(AND(S60=\"Oui\",ISBLANK(X60)),\"Oui\",\"Non\")","v":"Non"},null,null,null,null,{"$f":"IF(K60=\"\",\"\",K60-TODAY())","v":""},{"$f":"IF(ISBLANK(F60),CONCATENATE(E60,\" - \",AG60),CONCATENATE(F60,\" - \",AG60))","v":" - "},{"$f":"IF(ISBLANK(B60),\"\",YEAR(C60))","v":""},{"$f":"CONCATENATE(H60,\"-\",AG60)","v":"-"},{"$f":"CONCATENATE(M60,\"-\",AH60)","v":"--"}]
[{"$f":"IF(ISBLANK(B61),\"\",$C$2)","v":""},null,null,{"$f":"IF(ISBLANK(B61),\"\",COUNTA(#REF!))","v":""},null,null,null,null,null,null,null,null,null,null,{"$f":"IF(AND(K61<>\"\",ISBLANK(N61),K61<TODAY()),\"Oui\",\"Non\")","v":"Non"},{"$f":"IF(ISBLANK(I61),\"\",IF(K61=\"\",\"délai à préciser\",IF(M61=\"\",\"statut à préciser\",IF(M61=\"finalisée\",IF(N61=\"\",\"date de solde à préciser\",IF(K61>=N61,\"fait\",\"retard\")),(IF(K61<TODAY(),\"retard\",\"Ok\"))))))","v":""},{"$f":"IF(AND(N61<>\"\",ISBLANK(N61),K61<TODAY()),\"Oui\",\"Non\")","v":"Non"},null,{"$f":"IF(ISBLANK(H61),\"\",IF(OR(H61=\"Préventive\",H61=\"Corrective\"),\"Oui\",\"Non\"))","v":""},null,null,null,null,null,{"$f":"IF(AND(U61<>\"\",ISBLANK(X61),U61<TODAY()),\"Oui\",\"Non\")","v":"Non"},{"$f":"IF(AND(S61=\"Oui\",ISBLANK(X61)),\"Oui\",\"Non\")","v":"Non"},null,null,null,null,{"$f":"IF(K61=\"\",\"\",K61-TODAY())","v":""},{"$f":"IF(ISBLANK(F61),CONCATENATE(E61,\" - \",AG61),CONCATENATE(F61,\" - \",AG61))","v":" - "},{"$f":"IF(ISBLANK(B61),\"\",YEAR(C61))","v":""},{"$f":"CONCATENATE(H61,\"-\",AG61)","v":"-"},{"$f":"CONCATENATE(M61,\"-\",AH61)","v":"--"}]
[{"$f":"IF(ISBLANK(B62),\"\",$C$2)","v":""},null,null,{"$f":"IF(ISBLANK(B62),\"\",COUNTA(#REF!))","v":""},null,null,null,null,null,null,null,null,null,null,{"$f":"IF(AND(K62<>\"\",ISBLANK(N62),K62<TODAY()),\"Oui\",\"Non\")","v":"Non"},{"$f":"IF(ISBLANK(I62),\"\",IF(K62=\"\",\"délai à préciser\",IF(M62=\"\",\"statut à préciser\",IF(M62=\"finalisée\",IF(N62=\"\",\"date de solde à préciser\",IF(K62>=N62,\"fait\",\"retard\")),(IF(K62<TODAY(),\"retard\",\"Ok\"))))))","v":""},{"$f":"IF(AND(N62<>\"\",ISBLANK(N62),K62<TODAY()),\"Oui\",\"Non\")","v":"Non"},null,{"$f":"IF(ISBLANK(H62),\"\",IF(OR(H62=\"Préventive\",H62=\"Corrective\"),\"Oui\",\"Non\"))","v":""},null,null,null,null,null,{"$f":"IF(AND(U62<>\"\",ISBLANK(X62),U62<TODAY()),\"Oui\",\"Non\")","v":"Non"},{"$f":"IF(AND(S62=\"Oui\",ISBLANK(X62)),\"Oui\",\"Non\")","v":"Non"},null,null,null,null,{"$f":"IF(K62=\"\",\"\",K62-TODAY())","v":""},{"$f":"IF(ISBLANK(F62),CONCATENATE(E62,\" - \",AG62),CONCATENATE(F62,\" - \",AG62))","v":" - "},{"$f":"IF(ISBLANK(B62),\"\",YEAR(C62))","v":""},{"$f":"CONCATENATE(H62,\"-\",AG62)","v":"-"},{"$f":"CONCATENATE(M62,\"-\",AH62)","v":"--"}]
[{"$f":"IF(ISBLANK(B63),\"\",$C$2)","v":""},null,null,{"$f":"IF(ISBLANK(B63),\"\",COUNTA(#REF!))","v":""},null,null,null,null,null,null,null,null,null,null,{"$f":"IF(AND(K63<>\"\",ISBLANK(N63),K63<TODAY()),\"Oui\",\"Non\")","v":"Non"},{"$f":"IF(ISBLANK(I63),\"\",IF(K63=\"\",\"délai à préciser\",IF(M63=\"\",\"statut à préciser\",IF(M63=\"finalisée\",IF(N63=\"\",\"date de solde à préciser\",IF(K63>=N63,\"fait\",\"retard\")),(IF(K63<TODAY(),\"retard\",\"Ok\"))))))","v":""},{"$f":"IF(AND(N63<>\"\",ISBLANK(N63),K63<TODAY()),\"Oui\",\"Non\")","v":"Non"},null,{"$f":"IF(ISBLANK(H63),\"\",IF(OR(H63=\"Préventive\",H63=\"Corrective\"),\"Oui\",\"Non\"))","v":""},null,null,null,null,null,{"$f":"IF(AND(U63<>\"\",ISBLANK(X63),U63<TODAY()),\"Oui\",\"Non\")","v":"Non"},{"$f":"IF(AND(S63=\"Oui\",ISBLANK(X63)),\"Oui\",\"Non\")","v":"Non"},null,null,null,null,{"$f":"IF(K63=\"\",\"\",K63-TODAY())","v":""},{"$f":"IF(ISBLANK(F63),CONCATENATE(E63,\" - \",AG63),CONCATENATE(F63,\" - \",AG63))","v":" - "},{"$f":"IF(ISBLANK(B63),\"\",YEAR(C63))","v":""},{"$f":"CONCATENATE(H63,\"-\",AG63)","v":"-"},{"$f":"CONCATENATE(M63,\"-\",AH63)","v":"--"}]
[{"$f":"IF(ISBLANK(B64),\"\",$C$2)","v":""},null,null,{"$f":"IF(ISBLANK(B64),\"\",COUNTA(#REF!))","v":""},null,null,null,null,null,null,null,null,null,null,{"$f":"IF(AND(K64<>\"\",ISBLANK(N64),K64<TODAY()),\"Oui\",\"Non\")","v":"Non"},{"$f":"IF(ISBLANK(I64),\"\",IF(K64=\"\",\"délai à préciser\",IF(M64=\"\",\"statut à préciser\",IF(M64=\"finalisée\",IF(N64=\"\",\"date de solde à préciser\",IF(K64>=N64,\"fait\",\"retard\")),(IF(K64<TODAY(),\"retard\",\"Ok\"))))))","v":""},{"$f":"IF(AND(N64<>\"\",ISBLANK(N64),K64<TODAY()),\"Oui\",\"Non\")","v":"Non"},null,{"$f":"IF(ISBLANK(H64),\"\",IF(OR(H64=\"Préventive\",H64=\"Corrective\"),\"Oui\",\"Non\"))","v":""},null,null,null,null,null,{"$f":"IF(AND(U64<>\"\",ISBLANK(X64),U64<TODAY()),\"Oui\",\"Non\")","v":"Non"},{"$f":"IF(AND(S64=\"Oui\",ISBLANK(X64)),\"Oui\",\"Non\")","v":"Non"},null,null,null,null,{"$f":"IF(K64=\"\",\"\",K64-TODAY())","v":""},{"$f":"IF(ISBLANK(F64),CONCATENATE(E64,\" - \",AG64),CONCATENATE(F64,\" - \",AG64))","v":" - "},{"$f":"IF(ISBLANK(B64),\"\",YEAR(C64))","v":""},{"$f":"CONCATENATE(H64,\"-\",AG64)","v":"-"},{"$f":"CONCATENATE(M64,\"-\",AH64)","v":"--"}]
[{"$f":"IF(ISBLANK(B65),\"\",$C$2)","v":""},null,null,{"$f":"IF(ISBLANK(B65),\"\",COUNTA(#REF!))","v":""},null,null,null,null,null,null,null,null,null,null,{"$f":"IF(AND(K65<>\"\",ISBLANK(N65),K65<TODAY()),\"Oui\",\"Non\")","v":"Non"},{"$f":"IF(ISBLANK(I65),\"\",IF(K65=\"\",\"délai à préciser\",IF(M65=\"\",\"statut à préciser\",IF(M65=\"finalisée\",IF(N65=\"\",\"date de solde à préciser\",IF(K65>=N65,\"fait\",\"retard\")),(IF(K65<TODAY(),\"retard\",\"Ok\"))))))","v":""},{"$f":"IF(AND(N65<>\"\",ISBLANK(N65),K65<TODAY()),\"Oui\",\"Non\")","v":"Non"},null,{"$f":"IF(ISBLANK(H65),\"\",IF(OR(H65=\"Préventive\",H65=\"Corrective\"),\"Oui\",\"Non\"))","v":""},null,null,null,null,null,{"$f":"IF(AND(U65<>\"\",ISBLANK(X65),U65<TODAY()),\"Oui\",\"Non\")","v":"Non"},{"$f":"IF(AND(S65=\"Oui\",ISBLANK(X65)),\"Oui\",\"Non\")","v":"Non"},null,null,null,null,{"$f":"IF(K65=\"\",\"\",K65-TODAY())","v":""},{"$f":"IF(ISBLANK(F65),CONCATENATE(E65,\" - \",AG65),CONCATENATE(F65,\" - \",AG65))","v":" - "},{"$f":"IF(ISBLANK(B65),\"\",YEAR(C65))","v":""},{"$f":"CONCATENATE(H65,\"-\",AG65)","v":"-"},{"$f":"CONCATENATE(M65,\"-\",AH65)","v":"--"}]
[{"$f":"IF(ISBLANK(B66),\"\",$C$2)","v":""},null,null,{"$f":"IF(ISBLANK(B66),\"\",COUNTA(#REF!))","v":""},null,null,null,null,null,null,null,null,null,null,{"$f":"IF(AND(K66<>\"\",ISBLANK(N66),K66<TODAY()),\"Oui\",\"Non\")","v":"Non"},{"$f":"IF(ISBLANK(I66),\"\",IF(K66=\"\",\"délai à préciser\",IF(M66=\"\",\"statut à préciser\",IF(M66=\"finalisée\",IF(N66=\"\",\"date de solde à préciser\",IF(K66>=N66,\"fait\",\"retard\")),(IF(K66<TODAY(),\"retard\",\"Ok\"))))))","v":""},{"$f":"IF(AND(N66<>\"\",ISBLANK(N66),K66<TODAY()),\"Oui\",\"Non\")","v":"Non"},null,{"$f":"IF(ISBLANK(H66),\"\",IF(OR(H66=\"Préventive\",H66=\"Corrective\"),\"Oui\",\"Non\"))","v":""},null,null,null,null,null,{"$f":"IF(AND(U66<>\"\",ISBLANK(X66),U66<TODAY()),\"Oui\",\"Non\")","v":"Non"},{"$f":"IF(AND(S66=\"Oui\",ISBLANK(X66)),\"Oui\",\"Non\")","v":"Non"},null,null,null,null,{"$f":"IF(K66=\"\",\"\",K66-TODAY())","v":""},{"$f":"IF(ISBLANK(F66),CONCATENATE(E66,\" - \",AG66),CONCATENATE(F66,\" - \",AG66))","v":" - "},{"$f":"IF(ISBLANK(B66),\"\",YEAR(C66))","v":""},{"$f":"CONCATENATE(H66,\"-\",AG66)","v":"-"},{"$f":"CONCATENATE(M66,\"-\",AH66)","v":"--"}]
[{"$f":"IF(ISBLANK(B67),\"\",$C$2)","v":""},null,null,{"$f":"IF(ISBLANK(B67),\"\",COUNTA(#REF!))","v":""},null,null,null,null,null,null,null,null,null,null,{"$f":"IF(AND(K67<>\"\",ISBLANK(N67),K67<TODAY()),\"Oui\",\"Non\")","v":"Non"},{"$f":"IF(ISBLANK(I67),\"\",IF(K67=\"\",\"délai à préciser\",IF(M67=\"\",\"statut à préciser\",IF(M67=\"finalisée\",IF(N67=\"\",\"date de solde à préciser\",IF(K67>=N67,\"fait\",\"retard\")),(IF(K67<TODAY(),\"retard\",\"Ok\"))))))","v":""},{"$f":"IF(AND(N67<>\"\",ISBLANK(N67),K67<TODAY()),\"Oui\",\"Non\")","v":"Non"},null,{"$f":"IF(ISBLANK(H67),\"\",IF(OR(H67=\"Préventive\",H67=\"Corrective\"),\"Oui\",\"Non\"))","v":""},null,null,null,null,null,{"$f":"IF(AND(U67<>\"\",ISBLANK(X67),U67<TODAY()),\"Oui\",\"Non\")","v":"Non"},{"$f":"IF(AND(S67=\"Oui\",ISBLANK(X67)),\"Oui\",\"Non\")","v":"Non"},null,null,null,null,{"$f":"IF(K67=\"\",\"\",K67-TODAY())","v":""},{"$f":"IF(ISBLANK(F67),CONCATENATE(E67,\" - \",AG67),CONCATENATE(F67,\" - \",AG67))","v":" - "},{"$f":"IF(ISBLANK(B67),\"\",YEAR(C67))","v":""},{"$f":"CONCATENATE(H67,\"-\",AG67)","v":"-"},{"$f":"CONCATENATE(M67,\"-\",AH67)","v":"--"}]
[{"$f":"IF(ISBLANK(B68),\"\",$C$2)","v":""},null,null,{"$f":"IF(ISBLANK(B68),\"\",COUNTA(#REF!))","v":""},null,null,null,null,null,null,null,null,null,null,{"$f":"IF(AND(K68<>\"\",ISBLANK(N68),K68<TODAY()),\"Oui\",\"Non\")","v":"Non"},{"$f":"IF(ISBLANK(I68),\"\",IF(K68=\"\",\"délai à préciser\",IF(M68=\"\",\"statut à préciser\",IF(M68=\"finalisée\",IF(N68=\"\",\"date de solde à préciser\",IF(K68>=N68,\"fait\",\"retard\")),(IF(K68<TODAY(),\"retard\",\"Ok\"))))))","v":""},{"$f":"IF(AND(N68<>\"\",ISBLANK(N68),K68<TODAY()),\"Oui\",\"Non\")","v":"Non"},null,{"$f":"IF(ISBLANK(H68),\"\",IF(OR(H68=\"Préventive\",H68=\"Corrective\"),\"Oui\",\"Non\"))","v":""},null,null,null,null,null,{"$f":"IF(AND(U68<>\"\",ISBLANK(X68),U68<TODAY()),\"Oui\",\"Non\")","v":"Non"},{"$f":"IF(AND(S68=\"Oui\",ISBLANK(X68)),\"Oui\",\"Non\")","v":"Non"},null,null,null,null,{"$f":"IF(K68=\"\",\"\",K68-TODAY())","v":""},{"$f":"IF(ISBLANK(F68),CONCATENATE(E68,\" - \",AG68),CONCATENATE(F68,\" - \",AG68))","v":" - "},{"$f":"IF(ISBLANK(B68),\"\",YEAR(C68))","v":""},{"$f":"CONCATENATE(H68,\"-\",AG68)","v":"-"},{"$f":"CONCATENATE(M68,\"-\",AH68)","v":"--"}]
[{"$f":"IF(ISBLANK(B69),\"\",$C$2)","v":""},null,null,{"$f":"IF(ISBLANK(B69),\"\",COUNTA(#REF!))","v":""},null,null,null,null,null,null,null,null,null,null,{"$f":"IF(AND(K69<>\"\",ISBLANK(N69),K69<TODAY()),\"Oui\",\"Non\")","v":"Non"},{"$f":"IF(ISBLANK(I69),\"\",IF(K69=\"\",\"délai à préciser\",IF(M69=\"\",\"statut à préciser\",IF(M69=\"finalisée\",IF(N69=\"\",\"date de solde à préciser\",IF(K69>=N69,\"fait\",\"retard\")),(IF(K69<TODAY(),\"retard\",\"Ok\"))))))","v":""},{"$f":"IF(AND(N69<>\"\",ISBLANK(N69),K69<TODAY()),\"Oui\",\"Non\")","v":"Non"},null,{"$f":"IF(ISBLANK(H69),\"\",IF(OR(H69=\"Préventive\",H69=\"Corrective\"),\"Oui\",\"Non\"))","v":""},null,null,null,null,null,{"$f":"IF(AND(U69<>\"\",ISBLANK(X69),U69<TODAY()),\"Oui\",\"Non\")","v":"Non"},{"$f":"IF(AND(S69=\"Oui\",ISBLANK(X69)),\"Oui\",\"Non\")","v":"Non"},null,null,null,null,{"$f":"IF(K69=\"\",\"\",K69-TODAY())","v":""},{"$f":"IF(ISBLANK(F69),CONCATENATE(E69,\" - \",AG69),CONCATENATE(F69,\" - \",AG69))","v":" - "},{"$f":"IF(ISBLANK(B69),\"\",YEAR(C69))","v":""},{"$f":"CONCATENATE(H69,\"-\",AG69)","v":"-"},{"$f":"CONCATENATE(M69,\"-\",AH69)","v":"--"}]
[{"$f":"IF(ISBLANK(B70),\"\",$C$2)","v":""},null,null,{"$f":"IF(ISBLANK(B70),\"\",COUNTA(#REF!))","v":""},null,null,null,null,null,null,null,null,null,null,{"$f":"IF(AND(K70<>\"\",ISBLANK(N70),K70<TODAY()),\"Oui\",\"Non\")","v":"Non"},{"$f":"IF(ISBLANK(I70),\"\",IF(K70=\"\",\"délai à préciser\",IF(M70=\"\",\"statut à préciser\",IF(M70=\"finalisée\",IF(N70=\"\",\"date de solde à préciser\",IF(K70>=N70,\"fait\",\"retard\")),(IF(K70<TODAY(),\"retard\",\"Ok\"))))))","v":""},{"$f":"IF(AND(N70<>\"\",ISBLANK(N70),K70<TODAY()),\"Oui\",\"Non\")","v":"Non"},null,{"$f":"IF(ISBLANK(H70),\"\",IF(OR(H70=\"Préventive\",H70=\"Corrective\"),\"Oui\",\"Non\"))","v":""},null,null,null,null,null,{"$f":"IF(AND(U70<>\"\",ISBLANK(X70),U70<TODAY()),\"Oui\",\"Non\")","v":"Non"},{"$f":"IF(AND(S70=\"Oui\",ISBLANK(X70)),\"Oui\",\"Non\")","v":"Non"},null,null,null,null,{"$f":"IF(K70=\"\",\"\",K70-TODAY())","v":""},{"$f":"IF(ISBLANK(F70),CONCATENATE(E70,\" - \",AG70),CONCATENATE(F70,\" - \",AG70))","v":" - "},{"$f":"IF(ISBLANK(B70),\"\",YEAR(C70))","v":""},{"$f":"CONCATENATE(H70,\"-\",AG70)","v":"-"},{"$f":"CONCATENATE(M70,\"-\",AH70)","v":"--"}]
[{"$f":"IF(ISBLANK(B71),\"\",$C$2)","v":""},null,null,{"$f":"IF(ISBLANK(B71),\"\",COUNTA(#REF!))","v":""},null,null,null,null,null,null,null,null,null,null,{"$f":"IF(AND(K71<>\"\",ISBLANK(N71),K71<TODAY()),\"Oui\",\"Non\")","v":"Non"},{"$f":"IF(ISBLANK(I71),\"\",IF(K71=\"\",\"délai à préciser\",IF(M71=\"\",\"statut à préciser\",IF(M71=\"finalisée\",IF(N71=\"\",\"date de solde à préciser\",IF(K71>=N71,\"fait\",\"retard\")),(IF(K71<TODAY(),\"retard\",\"Ok\"))))))","v":""},{"$f":"IF(AND(N71<>\"\",ISBLANK(N71),K71<TODAY()),\"Oui\",\"Non\")","v":"Non"},null,{"$f":"IF(ISBLANK(H71),\"\",IF(OR(H71=\"Préventive\",H71=\"Corrective\"),\"Oui\",\"Non\"))","v":""},null,null,null,null,null,{"$f":"IF(AND(U71<>\"\",ISBLANK(X71),U71<TODAY()),\"Oui\",\"Non\")","v":"Non"},{"$f":"IF(AND(S71=\"Oui\",ISBLANK(X71)),\"Oui\",\"Non\")","v":"Non"},null,null,null,null,{"$f":"IF(K71=\"\",\"\",K71-TODAY())","v":""},{"$f":"IF(ISBLANK(F71),CONCATENATE(E71,\" - \",AG71),CONCATENATE(F71,\" - \",AG71))","v":" - "},{"$f":"IF(ISBLANK(B71),\"\",YEAR(C71))","v":""},{"$f":"CONCATENATE(H71,\"-\",AG71)","v":"-"},{"$f":"CONCATENATE(M71,\"-\",AH71)","v":"--"}]
[{"$f":"IF(ISBLANK(B72),\"\",$C$2)","v":""},null,null,{"$f":"IF(ISBLANK(B72),\"\",COUNTA(#REF!))","v":""},null,null,null,null,null,null,null,null,null,null,{"$f":"IF(AND(K72<>\"\",ISBLANK(N72),K72<TODAY()),\"Oui\",\"Non\")","v":"Non"},{"$f":"IF(ISBLANK(I72),\"\",IF(K72=\"\",\"délai à préciser\",IF(M72=\"\",\"statut à préciser\",IF(M72=\"finalisée\",IF(N72=\"\",\"date de solde à préciser\",IF(K72>=N72,\"fait\",\"retard\")),(IF(K72<TODAY(),\"retard\",\"Ok\"))))))","v":""},{"$f":"IF(AND(N72<>\"\",ISBLANK(N72),K72<TODAY()),\"Oui\",\"Non\")","v":"Non"},null,{"$f":"IF(ISBLANK(H72),\"\",IF(OR(H72=\"Préventive\",H72=\"Corrective\"),\"Oui\",\"Non\"))","v":""},null,null,null,null,null,{"$f":"IF(AND(U72<>\"\",ISBLANK(X72),U72<TODAY()),\"Oui\",\"Non\")","v":"Non"},{"$f":"IF(AND(S72=\"Oui\",ISBLANK(X72)),\"Oui\",\"Non\")","v":"Non"},null,null,null,null,{"$f":"IF(K72=\"\",\"\",K72-TODAY())","v":""},{"$f":"IF(ISBLANK(F72),CONCATENATE(E72,\" - \",AG72),CONCATENATE(F72,\" - \",AG72))","v":" - "},{"$f":"IF(ISBLANK(B72),\"\",YEAR(C72))","v":""},{"$f":"CONCATENATE(H72,\"-\",AG72)","v":"-"},{"$f":"CONCATENATE(M72,\"-\",AH72)","v":"--"}]
[{"$f":"IF(ISBLANK(B73),\"\",$C$2)","v":""},null,null,{"$f":"IF(ISBLANK(B73),\"\",COUNTA(#REF!))","v":""},null,null,null,null,null,null,null,null,null,null,{"$f":"IF(AND(K73<>\"\",ISBLANK(N73),K73<TODAY()),\"Oui\",\"Non\")","v":"Non"},{"$f":"IF(ISBLANK(I73),\"\",IF(K73=\"\",\"délai à préciser\",IF(M73=\"\",\"statut à préciser\",IF(M73=\"finalisée\",IF(N73=\"\",\"date de solde à préciser\",IF(K73>=N73,\"fait\",\"retard\")),(IF(K73<TODAY(),\"retard\",\"Ok\"))))))","v":""},{"$f":"IF(AND(N73<>\"\",ISBLANK(N73),K73<TODAY()),\"Oui\",\"Non\")","v":"Non"},null,{"$f":"IF(ISBLANK(H73),\"\",IF(OR(H73=\"Préventive\",H73=\"Corrective\"),\"Oui\",\"Non\"))","v":""},null,null,null,null,null,{"$f":"IF(AND(U73<>\"\",ISBLANK(X73),U73<TODAY()),\"Oui\",\"Non\")","v":"Non"},{"$f":"IF(AND(S73=\"Oui\",ISBLANK(X73)),\"Oui\",\"Non\")","v":"Non"},null,null,null,null,{"$f":"IF(K73=\"\",\"\",K73-TODAY())","v":""},{"$f":"IF(ISBLANK(F73),CONCATENATE(E73,\" - \",AG73),CONCATENATE(F73,\" - \",AG73))","v":" - "},{"$f":"IF(ISBLANK(B73),\"\",YEAR(C73))","v":""},{"$f":"CONCATENATE(H73,\"-\",AG73)","v":"-"},{"$f":"CONCATENATE(M73,\"-\",AH73)","v":"--"}]
[{"$f":"IF(ISBLANK(B74),\"\",$C$2)","v":""},null,null,{"$f":"IF(ISBLANK(B74),\"\",COUNTA(#REF!))","v":""},null,null,null,null,null,null,null,null,null,null,{"$f":"IF(AND(K74<>\"\",ISBLANK(N74),K74<TODAY()),\"Oui\",\"Non\")","v":"Non"},{"$f":"IF(ISBLANK(I74),\"\",IF(K74=\"\",\"délai à préciser\",IF(M74=\"\",\"statut à préciser\",IF(M74=\"finalisée\",IF(N74=\"\",\"date de solde à préciser\",IF(K74>=N74,\"fait\",\"retard\")),(IF(K74<TODAY(),\"retard\",\"Ok\"))))))","v":""},{"$f":"IF(AND(N74<>\"\",ISBLANK(N74),K74<TODAY()),\"Oui\",\"Non\")","v":"Non"},null,{"$f":"IF(ISBLANK(H74),\"\",IF(OR(H74=\"Préventive\",H74=\"Corrective\"),\"Oui\",\"Non\"))","v":""},null,null,null,null,null,{"$f":"IF(AND(U74<>\"\",ISBLANK(X74),U74<TODAY()),\"Oui\",\"Non\")","v":"Non"},{"$f":"IF(AND(S74=\"Oui\",ISBLANK(X74)),\"Oui\",\"Non\")","v":"Non"},null,null,null,null,{"$f":"IF(K74=\"\",\"\",K74-TODAY())","v":""},{"$f":"IF(ISBLANK(F74),CONCATENATE(E74,\" - \",AG74),CONCATENATE(F74,\" - \",AG74))","v":" - "},{"$f":"IF(ISBLANK(B74),\"\",YEAR(C74))","v":""},{"$f":"CONCATENATE(H74,\"-\",AG74)","v":"-"},{"$f":"CONCATENATE(M74,\"-\",AH74)","v":"--"}]
[{"$f":"IF(ISBLANK(B75),\"\",$C$2)","v":""},null,null,{"$f":"IF(ISBLANK(B75),\"\",COUNTA(#REF!))","v":""},null,null,null,null,null,null,null,null,null,null,{"$f":"IF(AND(K75<>\"\",ISBLANK(N75),K75<TODAY()),\"Oui\",\"Non\")","v":"Non"},{"$f":"IF(ISBLANK(I75),\"\",IF(K75=\"\",\"délai à préciser\",IF(M75=\"\",\"statut à préciser\",IF(M75=\"finalisée\",IF(N75=\"\",\"date de solde à préciser\",IF(K75>=N75,\"fait\",\"retard\")),(IF(K75<TODAY(),\"retard\",\"Ok\"))))))","v":""},{"$f":"IF(AND(N75<>\"\",ISBLANK(N75),K75<TODAY()),\"Oui\",\"Non\")","v":"Non"},null,{"$f":"IF(ISBLANK(H75),\"\",IF(OR(H75=\"Préventive\",H75=\"Corrective\"),\"Oui\",\"Non\"))","v":""},null,null,null,null,null,{"$f":"IF(AND(U75<>\"\",ISBLANK(X75),U75<TODAY()),\"Oui\",\"Non\")","v":"Non"},{"$f":"IF(AND(S75=\"Oui\",ISBLANK(X75)),\"Oui\",\"Non\")","v":"Non"},null,null,null,null,{"$f":"IF(K75=\"\",\"\",K75-TODAY())","v":""},{"$f":"IF(ISBLANK(F75),CONCATENATE(E75,\" - \",AG75),CONCATENATE(F75,\" - \",AG75))","v":" - "},{"$f":"IF(ISBLANK(B75),\"\",YEAR(C75))","v":""},{"$f":"CONCATENATE(H75,\"-\",AG75)","v":"-"},{"$f":"CONCATENATE(M75,\"-\",AH75)","v":"--"}]
[{"$f":"IF(ISBLANK(B76),\"\",$C$2)","v":""},null,null,{"$f":"IF(ISBLANK(B76),\"\",COUNTA(#REF!))","v":""},null,null,null,null,null,null,null,null,null,null,{"$f":"IF(AND(K76<>\"\",ISBLANK(N76),K76<TODAY()),\"Oui\",\"Non\")","v":"Non"},{"$f":"IF(ISBLANK(I76),\"\",IF(K76=\"\",\"délai à préciser\",IF(M76=\"\",\"statut à préciser\",IF(M76=\"finalisée\",IF(N76=\"\",\"date de solde à préciser\",IF(K76>=N76,\"fait\",\"retard\")),(IF(K76<TODAY(),\"retard\",\"Ok\"))))))","v":""},{"$f":"IF(AND(N76<>\"\",ISBLANK(N76),K76<TODAY()),\"Oui\",\"Non\")","v":"Non"},null,{"$f":"IF(ISBLANK(H76),\"\",IF(OR(H76=\"Préventive\",H76=\"Corrective\"),\"Oui\",\"Non\"))","v":""},null,null,null,null,null,{"$f":"IF(AND(U76<>\"\",ISBLANK(X76),U76<TODAY()),\"Oui\",\"Non\")","v":"Non"},{"$f":"IF(AND(S76=\"Oui\",ISBLANK(X76)),\"Oui\",\"Non\")","v":"Non"},null,null,null,null,{"$f":"IF(K76=\"\",\"\",K76-TODAY())","v":""},{"$f":"IF(ISBLANK(F76),CONCATENATE(E76,\" - \",AG76),CONCATENATE(F76,\" - \",AG76))","v":" - "},{"$f":"IF(ISBLANK(B76),\"\",YEAR(C76))","v":""},{"$f":"CONCATENATE(H76,\"-\",AG76)","v":"-"},{"$f":"CONCATENATE(M76,\"-\",AH76)","v":"--"}]
[{"$f":"IF(ISBLANK(B77),\"\",$C$2)","v":""},null,null,{"$f":"IF(ISBLANK(B77),\"\",COUNTA(#REF!))","v":""},null,null,null,null,null,null,null,null,null,null,{"$f":"IF(AND(K77<>\"\",ISBLANK(N77),K77<TODAY()),\"Oui\",\"Non\")","v":"Non"},{"$f":"IF(ISBLANK(I77),\"\",IF(K77=\"\",\"délai à préciser\",IF(M77=\"\",\"statut à préciser\",IF(M77=\"finalisée\",IF(N77=\"\",\"date de solde à préciser\",IF(K77>=N77,\"fait\",\"retard\")),(IF(K77<TODAY(),\"retard\",\"Ok\"))))))","v":""},{"$f":"IF(AND(N77<>\"\",ISBLANK(N77),K77<TODAY()),\"Oui\",\"Non\")","v":"Non"},null,{"$f":"IF(ISBLANK(H77),\"\",IF(OR(H77=\"Préventive\",H77=\"Corrective\"),\"Oui\",\"Non\"))","v":""},null,null,null,null,null,{"$f":"IF(AND(U77<>\"\",ISBLANK(X77),U77<TODAY()),\"Oui\",\"Non\")","v":"Non"},{"$f":"IF(AND(S77=\"Oui\",ISBLANK(X77)),\"Oui\",\"Non\")","v":"Non"},null,null,null,null,{"$f":"IF(K77=\"\",\"\",K77-TODAY())","v":""},{"$f":"IF(ISBLANK(F77),CONCATENATE(E77,\" - \",AG77),CONCATENATE(F77,\" - \",AG77))","v":" - "},{"$f":"IF(ISBLANK(B77),\"\",YEAR(C77))","v":""},{"$f":"CONCATENATE(H77,\"-\",AG77)","v":"-"},{"$f":"CONCATENATE(M77,\"-\",AH77)","v":"--"}]
[{"$f":"IF(ISBLANK(B78),\"\",$C$2)","v":""},null,null,{"$f":"IF(ISBLANK(B78),\"\",COUNTA(#REF!))","v":""},null,null,null,null,null,null,null,null,null,null,{"$f":"IF(AND(K78<>\"\",ISBLANK(N78),K78<TODAY()),\"Oui\",\"Non\")","v":"Non"},{"$f":"IF(ISBLANK(I78),\"\",IF(K78=\"\",\"délai à préciser\",IF(M78=\"\",\"statut à préciser\",IF(M78=\"finalisée\",IF(N78=\"\",\"date de solde à préciser\",IF(K78>=N78,\"fait\",\"retard\")),(IF(K78<TODAY(),\"retard\",\"Ok\"))))))","v":""},{"$f":"IF(AND(N78<>\"\",ISBLANK(N78),K78<TODAY()),\"Oui\",\"Non\")","v":"Non"},null,{"$f":"IF(ISBLANK(H78),\"\",IF(OR(H78=\"Préventive\",H78=\"Corrective\"),\"Oui\",\"Non\"))","v":""},null,null,null,null,null,{"$f":"IF(AND(U78<>\"\",ISBLANK(X78),U78<TODAY()),\"Oui\",\"Non\")","v":"Non"},{"$f":"IF(AND(S78=\"Oui\",ISBLANK(X78)),\"Oui\",\"Non\")","v":"Non"},null,null,null,null,{"$f":"IF(K78=\"\",\"\",K78-TODAY())","v":""},{"$f":"IF(ISBLANK(F78),CONCATENATE(E78,\" - \",AG78),CONCATENATE(F78,\" - \",AG78))","v":" - "},{"$f":"IF(ISBLANK(B78),\"\",YEAR(C78))","v":""},{"$f":"CONCATENATE(H78,\"-\",AG78)","v":"-"},{"$f":"CONCATENATE(M78,\"-\",AH78)","v":"--"}]
[{"$f":"IF(ISBLANK(B79),\"\",$C$2)","v":""},null,null,{"$f":"IF(ISBLANK(B79),\"\",COUNTA(#REF!))","v":""},null,null,null,null,null,null,null,null,null,null,{"$f":"IF(AND(K79<>\"\",ISBLANK(N79),K79<TODAY()),\"Oui\",\"Non\")","v":"Non"},{"$f":"IF(ISBLANK(I79),\"\",IF(K79=\"\",\"délai à préciser\",IF(M79=\"\",\"statut à préciser\",IF(M79=\"finalisée\",IF(N79=\"\",\"date de solde à préciser\",IF(K79>=N79,\"fait\",\"retard\")),(IF(K79<TODAY(),\"retard\",\"Ok\"))))))","v":""},{"$f":"IF(AND(N79<>\"\",ISBLANK(N79),K79<TODAY()),\"Oui\",\"Non\")","v":"Non"},null,{"$f":"IF(ISBLANK(H79),\"\",IF(OR(H79=\"Préventive\",H79=\"Corrective\"),\"Oui\",\"Non\"))","v":""},null,null,null,null,null,{"$f":"IF(AND(U79<>\"\",ISBLANK(X79),U79<TODAY()),\"Oui\",\"Non\")","v":"Non"},{"$f":"IF(AND(S79=\"Oui\",ISBLANK(X79)),\"Oui\",\"Non\")","v":"Non"},null,null,null,null,{"$f":"IF(K79=\"\",\"\",K79-TODAY())","v":""},{"$f":"IF(ISBLANK(F79),CONCATENATE(E79,\" - \",AG79),CONCATENATE(F79,\" - \",AG79))","v":" - "},{"$f":"IF(ISBLANK(B79),\"\",YEAR(C79))","v":""},{"$f":"CONCATENATE(H79,\"-\",AG79)","v":"-"},{"$f":"CONCATENATE(M79,\"-\",AH79)","v":"--"}]
[{"$f":"IF(ISBLANK(B80),\"\",$C$2)","v":""},null,null,{"$f":"IF(ISBLANK(B80),\"\",COUNTA(#REF!))","v":""},null,null,null,null,null,null,null,null,null,null,{"$f":"IF(AND(K80<>\"\",ISBLANK(N80),K80<TODAY()),\"Oui\",\"Non\")","v":"Non"},{"$f":"IF(ISBLANK(I80),\"\",IF(K80=\"\",\"délai à préciser\",IF(M80=\"\",\"statut à préciser\",IF(M80=\"finalisée\",IF(N80=\"\",\"date de solde à préciser\",IF(K80>=N80,\"fait\",\"retard\")),(IF(K80<TODAY(),\"retard\",\"Ok\"))))))","v":""},{"$f":"IF(AND(N80<>\"\",ISBLANK(N80),K80<TODAY()),\"Oui\",\"Non\")","v":"Non"},null,{"$f":"IF(ISBLANK(H80),\"\",IF(OR(H80=\"Préventive\",H80=\"Corrective\"),\"Oui\",\"Non\"))","v":""},null,null,null,null,null,{"$f":"IF(AND(U80<>\"\",ISBLANK(X80),U80<TODAY()),\"Oui\",\"Non\")","v":"Non"},{"$f":"IF(AND(S80=\"Oui\",ISBLANK(X80)),\"Oui\",\"Non\")","v":"Non"},null,null,null,null,{"$f":"IF(K80=\"\",\"\",K80-TODAY())","v":""},{"$f":"IF(ISBLANK(F80),CONCATENATE(E80,\" - \",AG80),CONCATENATE(F80,\" - \",AG80))","v":" - "},{"$f":"IF(ISBLANK(B80),\"\",YEAR(C80))","v":""},{"$f":"CONCATENATE(H80,\"-\",AG80)","v":"-"},{"$f":"CONCATENATE(M80,\"-\",AH80)","v":"--"}]
[{"$f":"IF(ISBLANK(B81),\"\",$C$2)","v":""},null,null,{"$f":"IF(ISBLANK(B81),\"\",COUNTA(#REF!))","v":""},null,null,null,null,null,null,null,null,null,null,{"$f":"IF(AND(K81<>\"\",ISBLANK(N81),K81<TODAY()),\"Oui\",\"Non\")","v":"Non"},{"$f":"IF(ISBLANK(I81),\"\",IF(K81=\"\",\"délai à préciser\",IF(M81=\"\",\"statut à préciser\",IF(M81=\"finalisée\",IF(N81=\"\",\"date de solde à préciser\",IF(K81>=N81,\"fait\",\"retard\")),(IF(K81<TODAY(),\"retard\",\"Ok\"))))))","v":""},{"$f":"IF(AND(N81<>\"\",ISBLANK(N81),K81<TODAY()),\"Oui\",\"Non\")","v":"Non"},null,{"$f":"IF(ISBLANK(H81),\"\",IF(OR(H81=\"Préventive\",H81=\"Corrective\"),\"Oui\",\"Non\"))","v":""},null,null,null,null,null,{"$f":"IF(AND(U81<>\"\",ISBLANK(X81),U81<TODAY()),\"Oui\",\"Non\")","v":"Non"},{"$f":"IF(AND(S81=\"Oui\",ISBLANK(X81)),\"Oui\",\"Non\")","v":"Non"},null,null,null,null,{"$f":"IF(K81=\"\",\"\",K81-TODAY())","v":""},{"$f":"IF(ISBLANK(F81),CONCATENATE(E81,\" - \",AG81),CONCATENATE(F81,\" - \",AG81))","v":" - "},{"$f":"IF(ISBLANK(B81),\"\",YEAR(C81))","v":""},{"$f":"CONCATENATE(H81,\"-\",AG81)","v":"-"},{"$f":"CONCATENATE(M81,\"-\",AH81)","v":"--"}]
[{"$f":"IF(ISBLANK(B82),\"\",$C$2)","v":""},null,null,{"$f":"IF(ISBLANK(B82),\"\",COUNTA(#REF!))","v":""},null,null,null,null,null,null,null,null,null,null,{"$f":"IF(AND(K82<>\"\",ISBLANK(N82),K82<TODAY()),\"Oui\",\"Non\")","v":"Non"},{"$f":"IF(ISBLANK(I82),\"\",IF(K82=\"\",\"délai à préciser\",IF(M82=\"\",\"statut à préciser\",IF(M82=\"finalisée\",IF(N82=\"\",\"date de solde à préciser\",IF(K82>=N82,\"fait\",\"retard\")),(IF(K82<TODAY(),\"retard\",\"Ok\"))))))","v":""},{"$f":"IF(AND(N82<>\"\",ISBLANK(N82),K82<TODAY()),\"Oui\",\"Non\")","v":"Non"},null,{"$f":"IF(ISBLANK(H82),\"\",IF(OR(H82=\"Préventive\",H82=\"Corrective\"),\"Oui\",\"Non\"))","v":""},null,null,null,null,null,{"$f":"IF(AND(U82<>\"\",ISBLANK(X82),U82<TODAY()),\"Oui\",\"Non\")","v":"Non"},{"$f":"IF(AND(S82=\"Oui\",ISBLANK(X82)),\"Oui\",\"Non\")","v":"Non"},null,null,null,null,{"$f":"IF(K82=\"\",\"\",K82-TODAY())","v":""},{"$f":"IF(ISBLANK(F82),CONCATENATE(E82,\" - \",AG82),CONCATENATE(F82,\" - \",AG82))","v":" - "},{"$f":"IF(ISBLANK(B82),\"\",YEAR(C82))","v":""},{"$f":"CONCATENATE(H82,\"-\",AG82)","v":"-"},{"$f":"CONCATENATE(M82,\"-\",AH82)","v":"--"}]
[{"$f":"IF(ISBLANK(B83),\"\",$C$2)","v":""},null,null,{"$f":"IF(ISBLANK(B83),\"\",COUNTA(#REF!))","v":""},null,null,null,null,null,null,null,null,null,null,{"$f":"IF(AND(K83<>\"\",ISBLANK(N83),K83<TODAY()),\"Oui\",\"Non\")","v":"Non"},{"$f":"IF(ISBLANK(I83),\"\",IF(K83=\"\",\"délai à préciser\",IF(M83=\"\",\"statut à préciser\",IF(M83=\"finalisée\",IF(N83=\"\",\"date de solde à préciser\",IF(K83>=N83,\"fait\",\"retard\")),(IF(K83<TODAY(),\"retard\",\"Ok\"))))))","v":""},{"$f":"IF(AND(N83<>\"\",ISBLANK(N83),K83<TODAY()),\"Oui\",\"Non\")","v":"Non"},null,{"$f":"IF(ISBLANK(H83),\"\",IF(OR(H83=\"Préventive\",H83=\"Corrective\"),\"Oui\",\"Non\"))","v":""},null,null,null,null,null,{"$f":"IF(AND(U83<>\"\",ISBLANK(X83),U83<TODAY()),\"Oui\",\"Non\")","v":"Non"},{"$f":"IF(AND(S83=\"Oui\",ISBLANK(X83)),\"Oui\",\"Non\")","v":"Non"},null,null,null,null,{"$f":"IF(K83=\"\",\"\",K83-TODAY())","v":""},{"$f":"IF(ISBLANK(F83),CONCATENATE(E83,\" - \",AG83),CONCATENATE(F83,\" - \",AG83))","v":" - "},{"$f":"IF(ISBLANK(B83),\"\",YEAR(C83))","v":""},{"$f":"CONCATENATE(H83,\"-\",AG83)","v":"-"},{"$f":"CONCATENATE(M83,\"-\",AH83)","v":"--"}]
[{"$f":"IF(ISBLANK(B84),\"\",$C$2)","v":""},null,null,{"$f":"IF(ISBLANK(B84),\"\",COUNTA(#REF!))","v":""},null,null,null,null,null,null,null,null,null,null,{"$f":"IF(AND(K84<>\"\",ISBLANK(N84),K84<TODAY()),\"Oui\",\"Non\")","v":"Non"},{"$f":"IF(ISBLANK(I84),\"\",IF(K84=\"\",\"délai à préciser\",IF(M84=\"\",\"statut à préciser\",IF(M84=\"finalisée\",IF(N84=\"\",\"date de solde à préciser\",IF(K84>=N84,\"fait\",\"retard\")),(IF(K84<TODAY(),\"retard\",\"Ok\"))))))","v":""},{"$f":"IF(AND(N84<>\"\",ISBLANK(N84),K84<TODAY()),\"Oui\",\"Non\")","v":"Non"},null,{"$f":"IF(ISBLANK(H84),\"\",IF(OR(H84=\"Préventive\",H84=\"Corrective\"),\"Oui\",\"Non\"))","v":""},null,null,null,null,null,{"$f":"IF(AND(U84<>\"\",ISBLANK(X84),U84<TODAY()),\"Oui\",\"Non\")","v":"Non"},{"$f":"IF(AND(S84=\"Oui\",ISBLANK(X84)),\"Oui\",\"Non\")","v":"Non"},null,null,null,null,{"$f":"IF(K84=\"\",\"\",K84-TODAY())","v":""},{"$f":"IF(ISBLANK(F84),CONCATENATE(E84,\" - \",AG84),CONCATENATE(F84,\" - \",AG84))","v":" - "},{"$f":"IF(ISBLANK(B84),\"\",YEAR(C84))","v":""},{"$f":"CONCATENATE(H84,\"-\",AG84)","v":"-"},{"$f":"CONCATENATE(M84,\"-\",AH84)","v":"--"}]
[{"$f":"IF(ISBLANK(B85),\"\",$C$2)","v":""},null,null,{"$f":"IF(ISBLANK(B85),\"\",COUNTA(#REF!))","v":""},null,null,null,null,null,null,null,null,null,null,{"$f":"IF(AND(K85<>\"\",ISBLANK(N85),K85<TODAY()),\"Oui\",\"Non\")","v":"Non"},{"$f":"IF(ISBLANK(I85),\"\",IF(K85=\"\",\"délai à préciser\",IF(M85=\"\",\"statut à préciser\",IF(M85=\"finalisée\",IF(N85=\"\",\"date de solde à préciser\",IF(K85>=N85,\"fait\",\"retard\")),(IF(K85<TODAY(),\"retard\",\"Ok\"))))))","v":""},{"$f":"IF(AND(N85<>\"\",ISBLANK(N85),K85<TODAY()),\"Oui\",\"Non\")","v":"Non"},null,{"$f":"IF(ISBLANK(H85),\"\",IF(OR(H85=\"Préventive\",H85=\"Corrective\"),\"Oui\",\"Non\"))","v":""},null,null,null,null,null,{"$f":"IF(AND(U85<>\"\",ISBLANK(X85),U85<TODAY()),\"Oui\",\"Non\")","v":"Non"},{"$f":"IF(AND(S85=\"Oui\",ISBLANK(X85)),\"Oui\",\"Non\")","v":"Non"},null,null,null,null,{"$f":"IF(K85=\"\",\"\",K85-TODAY())","v":""},{"$f":"IF(ISBLANK(F85),CONCATENATE(E85,\" - \",AG85),CONCATENATE(F85,\" - \",AG85))","v":" - "},{"$f":"IF(ISBLANK(B85),\"\",YEAR(C85))","v":""},{"$f":"CONCATENATE(H85,\"-\",AG85)","v":"-"},{"$f":"CONCATENATE(M85,\"-\",AH85)","v":"--"}]
[{"$f":"IF(ISBLANK(B86),\"\",$C$2)","v":""},null,null,{"$f":"IF(ISBLANK(B86),\"\",COUNTA(#REF!))","v":""},null,null,null,null,null,null,null,null,null,null,{"$f":"IF(AND(K86<>\"\",ISBLANK(N86),K86<TODAY()),\"Oui\",\"Non\")","v":"Non"},{"$f":"IF(ISBLANK(I86),\"\",IF(K86=\"\",\"délai à préciser\",IF(M86=\"\",\"statut à préciser\",IF(M86=\"finalisée\",IF(N86=\"\",\"date de solde à préciser\",IF(K86>=N86,\"fait\",\"retard\")),(IF(K86<TODAY(),\"retard\",\"Ok\"))))))","v":""},{"$f":"IF(AND(N86<>\"\",ISBLANK(N86),K86<TODAY()),\"Oui\",\"Non\")","v":"Non"},null,{"$f":"IF(ISBLANK(H86),\"\",IF(OR(H86=\"Préventive\",H86=\"Corrective\"),\"Oui\",\"Non\"))","v":""},null,null,null,null,null,{"$f":"IF(AND(U86<>\"\",ISBLANK(X86),U86<TODAY()),\"Oui\",\"Non\")","v":"Non"},{"$f":"IF(AND(S86=\"Oui\",ISBLANK(X86)),\"Oui\",\"Non\")","v":"Non"},null,null,null,null,{"$f":"IF(K86=\"\",\"\",K86-TODAY())","v":""},{"$f":"IF(ISBLANK(F86),CONCATENATE(E86,\" - \",AG86),CONCATENATE(F86,\" - \",AG86))","v":" - "},{"$f":"IF(ISBLANK(B86),\"\",YEAR(C86))","v":""},{"$f":"CONCATENATE(H86,\"-\",AG86)","v":"-"},{"$f":"CONCATENATE(M86,\"-\",AH86)","v":"--"}]
[{"$f":"IF(ISBLANK(B87),\"\",$C$2)","v":""},null,null,{"$f":"IF(ISBLANK(B87),\"\",COUNTA(#REF!))","v":""},null,null,null,null,null,null,null,null,null,null,{"$f":"IF(AND(K87<>\"\",ISBLANK(N87),K87<TODAY()),\"Oui\",\"Non\")","v":"Non"},{"$f":"IF(ISBLANK(I87),\"\",IF(K87=\"\",\"délai à préciser\",IF(M87=\"\",\"statut à préciser\",IF(M87=\"finalisée\",IF(N87=\"\",\"date de solde à préciser\",IF(K87>=N87,\"fait\",\"retard\")),(IF(K87<TODAY(),\"retard\",\"Ok\"))))))","v":""},{"$f":"IF(AND(N87<>\"\",ISBLANK(N87),K87<TODAY()),\"Oui\",\"Non\")","v":"Non"},null,{"$f":"IF(ISBLANK(H87),\"\",IF(OR(H87=\"Préventive\",H87=\"Corrective\"),\"Oui\",\"Non\"))","v":""},null,null,null,null,null,{"$f":"IF(AND(U87<>\"\",ISBLANK(X87),U87<TODAY()),\"Oui\",\"Non\")","v":"Non"},{"$f":"IF(AND(S87=\"Oui\",ISBLANK(X87)),\"Oui\",\"Non\")","v":"Non"},null,null,null,null,{"$f":"IF(K87=\"\",\"\",K87-TODAY())","v":""},{"$f":"IF(ISBLANK(F87),CONCATENATE(E87,\" - \",AG87),CONCATENATE(F87,\" - \",AG87))","v":" - "},{"$f":"IF(ISBLANK(B87),\"\",YEAR(C87))","v":""},{"$f":"CONCATENATE(H87,\"-\",AG87)","v":"-"},{"$f":"CONCATENATE(M87,\"-\",AH87)","v":"--"}]
[{"$f":"IF(ISBLANK(B88),\"\",$C$2)","v":""},null,null,{"$f":"IF(ISBLANK(B88),\"\",COUNTA(#REF!))","v":""},null,null,null,null,null,null,null,null,null,null,{"$f":"IF(AND(K88<>\"\",ISBLANK(N88),K88<TODAY()),\"Oui\",\"Non\")","v":"Non"},{"$f":"IF(ISBLANK(I88),\"\",IF(K88=\"\",\"délai à préciser\",IF(M88=\"\",\"statut à préciser\",IF(M88=\"finalisée\",IF(N88=\"\",\"date de solde à préciser\",IF(K88>=N88,\"fait\",\"retard\")),(IF(K88<TODAY(),\"retard\",\"Ok\"))))))","v":""},{"$f":"IF(AND(N88<>\"\",ISBLANK(N88),K88<TODAY()),\"Oui\",\"Non\")","v":"Non"},null,{"$f":"IF(ISBLANK(H88),\"\",IF(OR(H88=\"Préventive\",H88=\"Corrective\"),\"Oui\",\"Non\"))","v":""},null,null,null,null,null,{"$f":"IF(AND(U88<>\"\",ISBLANK(X88),U88<TODAY()),\"Oui\",\"Non\")","v":"Non"},{"$f":"IF(AND(S88=\"Oui\",ISBLANK(X88)),\"Oui\",\"Non\")","v":"Non"},null,null,null,null,{"$f":"IF(K88=\"\",\"\",K88-TODAY())","v":""},{"$f":"IF(ISBLANK(F88),CONCATENATE(E88,\" - \",AG88),CONCATENATE(F88,\" - \",AG88))","v":" - "},{"$f":"IF(ISBLANK(B88),\"\",YEAR(C88))","v":""},{"$f":"CONCATENATE(H88,\"-\",AG88)","v":"-"},{"$f":"CONCATENATE(M88,\"-\",AH88)","v":"--"}]
[{"$f":"IF(ISBLANK(B89),\"\",$C$2)","v":""},null,null,{"$f":"IF(ISBLANK(B89),\"\",COUNTA(#REF!))","v":""},null,null,null,null,null,null,null,null,null,null,{"$f":"IF(AND(K89<>\"\",ISBLANK(N89),K89<TODAY()),\"Oui\",\"Non\")","v":"Non"},{"$f":"IF(ISBLANK(I89),\"\",IF(K89=\"\",\"délai à préciser\",IF(M89=\"\",\"statut à préciser\",IF(M89=\"finalisée\",IF(N89=\"\",\"date de solde à préciser\",IF(K89>=N89,\"fait\",\"retard\")),(IF(K89<TODAY(),\"retard\",\"Ok\"))))))","v":""},{"$f":"IF(AND(N89<>\"\",ISBLANK(N89),K89<TODAY()),\"Oui\",\"Non\")","v":"Non"},null,{"$f":"IF(ISBLANK(H89),\"\",IF(OR(H89=\"Préventive\",H89=\"Corrective\"),\"Oui\",\"Non\"))","v":""},null,null,null,null,null,{"$f":"IF(AND(U89<>\"\",ISBLANK(X89),U89<TODAY()),\"Oui\",\"Non\")","v":"Non"},{"$f":"IF(AND(S89=\"Oui\",ISBLANK(X89)),\"Oui\",\"Non\")","v":"Non"},null,null,null,null,{"$f":"IF(K89=\"\",\"\",K89-TODAY())","v":""},{"$f":"IF(ISBLANK(F89),CONCATENATE(E89,\" - \",AG89),CONCATENATE(F89,\" - \",AG89))","v":" - "},{"$f":"IF(ISBLANK(B89),\"\",YEAR(C89))","v":""},{"$f":"CONCATENATE(H89,\"-\",AG89)","v":"-"},{"$f":"CONCATENATE(M89,\"-\",AH89)","v":"--"}]
[{"$f":"IF(ISBLANK(B90),\"\",$C$2)","v":""},null,null,{"$f":"IF(ISBLANK(B90),\"\",COUNTA(#REF!))","v":""},null,null,null,null,null,null,null,null,null,null,{"$f":"IF(AND(K90<>\"\",ISBLANK(N90),K90<TODAY()),\"Oui\",\"Non\")","v":"Non"},{"$f":"IF(ISBLANK(I90),\"\",IF(K90=\"\",\"délai à préciser\",IF(M90=\"\",\"statut à préciser\",IF(M90=\"finalisée\",IF(N90=\"\",\"date de solde à préciser\",IF(K90>=N90,\"fait\",\"retard\")),(IF(K90<TODAY(),\"retard\",\"Ok\"))))))","v":""},{"$f":"IF(AND(N90<>\"\",ISBLANK(N90),K90<TODAY()),\"Oui\",\"Non\")","v":"Non"},null,{"$f":"IF(ISBLANK(H90),\"\",IF(OR(H90=\"Préventive\",H90=\"Corrective\"),\"Oui\",\"Non\"))","v":""},null,null,null,null,null,{"$f":"IF(AND(U90<>\"\",ISBLANK(X90),U90<TODAY()),\"Oui\",\"Non\")","v":"Non"},{"$f":"IF(AND(S90=\"Oui\",ISBLANK(X90)),\"Oui\",\"Non\")","v":"Non"},null,null,null,null,{"$f":"IF(K90=\"\",\"\",K90-TODAY())","v":""},{"$f":"IF(ISBLANK(F90),CONCATENATE(E90,\" - \",AG90),CONCATENATE(F90,\" - \",AG90))","v":" - "},{"$f":"IF(ISBLANK(B90),\"\",YEAR(C90))","v":""},{"$f":"CONCATENATE(H90,\"-\",AG90)","v":"-"},{"$f":"CONCATENATE(M90,\"-\",AH90)","v":"--"}]
[{"$f":"IF(ISBLANK(B91),\"\",$C$2)","v":""},null,null,{"$f":"IF(ISBLANK(B91),\"\",COUNTA(#REF!))","v":""},null,null,null,null,null,null,null,null,null,null,{"$f":"IF(AND(K91<>\"\",ISBLANK(N91),K91<TODAY()),\"Oui\",\"Non\")","v":"Non"},{"$f":"IF(ISBLANK(I91),\"\",IF(K91=\"\",\"délai à préciser\",IF(M91=\"\",\"statut à préciser\",IF(M91=\"finalisée\",IF(N91=\"\",\"date de solde à préciser\",IF(K91>=N91,\"fait\",\"retard\")),(IF(K91<TODAY(),\"retard\",\"Ok\"))))))","v":""},{"$f":"IF(AND(N91<>\"\",ISBLANK(N91),K91<TODAY()),\"Oui\",\"Non\")","v":"Non"},null,{"$f":"IF(ISBLANK(H91),\"\",IF(OR(H91=\"Préventive\",H91=\"Corrective\"),\"Oui\",\"Non\"))","v":""},null,null,null,null,null,{"$f":"IF(AND(U91<>\"\",ISBLANK(X91),U91<TODAY()),\"Oui\",\"Non\")","v":"Non"},{"$f":"IF(AND(S91=\"Oui\",ISBLANK(X91)),\"Oui\",\"Non\")","v":"Non"},null,null,null,null,{"$f":"IF(K91=\"\",\"\",K91-TODAY())","v":""},{"$f":"IF(ISBLANK(F91),CONCATENATE(E91,\" - \",AG91),CONCATENATE(F91,\" - \",AG91))","v":" - "},{"$f":"IF(ISBLANK(B91),\"\",YEAR(C91))","v":""},{"$f":"CONCATENATE(H91,\"-\",AG91)","v":"-"},{"$f":"CONCATENATE(M91,\"-\",AH91)","v":"--"}]
[{"$f":"IF(ISBLANK(B92),\"\",$C$2)","v":""},null,null,{"$f":"IF(ISBLANK(B92),\"\",COUNTA(#REF!))","v":""},null,null,null,null,null,null,null,null,null,null,{"$f":"IF(AND(K92<>\"\",ISBLANK(N92),K92<TODAY()),\"Oui\",\"Non\")","v":"Non"},{"$f":"IF(ISBLANK(I92),\"\",IF(K92=\"\",\"délai à préciser\",IF(M92=\"\",\"statut à préciser\",IF(M92=\"finalisée\",IF(N92=\"\",\"date de solde à préciser\",IF(K92>=N92,\"fait\",\"retard\")),(IF(K92<TODAY(),\"retard\",\"Ok\"))))))","v":""},{"$f":"IF(AND(N92<>\"\",ISBLANK(N92),K92<TODAY()),\"Oui\",\"Non\")","v":"Non"},null,{"$f":"IF(ISBLANK(H92),\"\",IF(OR(H92=\"Préventive\",H92=\"Corrective\"),\"Oui\",\"Non\"))","v":""},null,null,null,null,null,{"$f":"IF(AND(U92<>\"\",ISBLANK(X92),U92<TODAY()),\"Oui\",\"Non\")","v":"Non"},{"$f":"IF(AND(S92=\"Oui\",ISBLANK(X92)),\"Oui\",\"Non\")","v":"Non"},null,null,null,null,{"$f":"IF(K92=\"\",\"\",K92-TODAY())","v":""},{"$f":"IF(ISBLANK(F92),CONCATENATE(E92,\" - \",AG92),CONCATENATE(F92,\" - \",AG92))","v":" - "},{"$f":"IF(ISBLANK(B92),\"\",YEAR(C92))","v":""},{"$f":"CONCATENATE(H92,\"-\",AG92)","v":"-"},{"$f":"CONCATENATE(M92,\"-\",AH92)","v":"--"}]
[{"$f":"IF(ISBLANK(B93),\"\",$C$2)","v":""},null,null,{"$f":"IF(ISBLANK(B93),\"\",COUNTA(#REF!))","v":""},null,null,null,null,null,null,null,null,null,null,{"$f":"IF(AND(K93<>\"\",ISBLANK(N93),K93<TODAY()),\"Oui\",\"Non\")","v":"Non"},{"$f":"IF(ISBLANK(I93),\"\",IF(K93=\"\",\"délai à préciser\",IF(M93=\"\",\"statut à préciser\",IF(M93=\"finalisée\",IF(N93=\"\",\"date de solde à préciser\",IF(K93>=N93,\"fait\",\"retard\")),(IF(K93<TODAY(),\"retard\",\"Ok\"))))))","v":""},{"$f":"IF(AND(N93<>\"\",ISBLANK(N93),K93<TODAY()),\"Oui\",\"Non\")","v":"Non"},null,{"$f":"IF(ISBLANK(H93),\"\",IF(OR(H93=\"Préventive\",H93=\"Corrective\"),\"Oui\",\"Non\"))","v":""},null,null,null,null,null,{"$f":"IF(AND(U93<>\"\",ISBLANK(X93),U93<TODAY()),\"Oui\",\"Non\")","v":"Non"},{"$f":"IF(AND(S93=\"Oui\",ISBLANK(X93)),\"Oui\",\"Non\")","v":"Non"},null,null,null,null,{"$f":"IF(K93=\"\",\"\",K93-TODAY())","v":""},{"$f":"IF(ISBLANK(F93),CONCATENATE(E93,\" - \",AG93),CONCATENATE(F93,\" - \",AG93))","v":" - "},{"$f":"IF(ISBLANK(B93),\"\",YEAR(C93))","v":""},{"$f":"CONCATENATE(H93,\"-\",AG93)","v":"-"},{"$f":"CONCATENATE(M93,\"-\",AH93)","v":"--"}]
[{"$f":"IF(ISBLANK(B94),\"\",$C$2)","v":""},null,null,{"$f":"IF(ISBLANK(B94),\"\",COUNTA(#REF!))","v":""},null,null,null,null,null,null,null,null,null,null,{"$f":"IF(AND(K94<>\"\",ISBLANK(N94),K94<TODAY()),\"Oui\",\"Non\")","v":"Non"},{"$f":"IF(ISBLANK(I94),\"\",IF(K94=\"\",\"délai à préciser\",IF(M94=\"\",\"statut à préciser\",IF(M94=\"finalisée\",IF(N94=\"\",\"date de solde à préciser\",IF(K94>=N94,\"fait\",\"retard\")),(IF(K94<TODAY(),\"retard\",\"Ok\"))))))","v":""},{"$f":"IF(AND(N94<>\"\",ISBLANK(N94),K94<TODAY()),\"Oui\",\"Non\")","v":"Non"},null,{"$f":"IF(ISBLANK(H94),\"\",IF(OR(H94=\"Préventive\",H94=\"Corrective\"),\"Oui\",\"Non\"))","v":""},null,null,null,null,null,{"$f":"IF(AND(U94<>\"\",ISBLANK(X94),U94<TODAY()),\"Oui\",\"Non\")","v":"Non"},{"$f":"IF(AND(S94=\"Oui\",ISBLANK(X94)),\"Oui\",\"Non\")","v":"Non"},null,null,null,null,{"$f":"IF(K94=\"\",\"\",K94-TODAY())","v":""},{"$f":"IF(ISBLANK(F94),CONCATENATE(E94,\" - \",AG94),CONCATENATE(F94,\" - \",AG94))","v":" - "},{"$f":"IF(ISBLANK(B94),\"\",YEAR(C94))","v":""},{"$f":"CONCATENATE(H94,\"-\",AG94)","v":"-"},{"$f":"CONCATENATE(M94,\"-\",AH94)","v":"--"}]
[{"$f":"IF(ISBLANK(B95),\"\",$C$2)","v":""},null,null,{"$f":"IF(ISBLANK(B95),\"\",COUNTA(#REF!))","v":""},null,null,null,null,null,null,null,null,null,null,{"$f":"IF(AND(K95<>\"\",ISBLANK(N95),K95<TODAY()),\"Oui\",\"Non\")","v":"Non"},{"$f":"IF(ISBLANK(I95),\"\",IF(K95=\"\",\"délai à préciser\",IF(M95=\"\",\"statut à préciser\",IF(M95=\"finalisée\",IF(N95=\"\",\"date de solde à préciser\",IF(K95>=N95,\"fait\",\"retard\")),(IF(K95<TODAY(),\"retard\",\"Ok\"))))))","v":""},{"$f":"IF(AND(N95<>\"\",ISBLANK(N95),K95<TODAY()),\"Oui\",\"Non\")","v":"Non"},null,{"$f":"IF(ISBLANK(H95),\"\",IF(OR(H95=\"Préventive\",H95=\"Corrective\"),\"Oui\",\"Non\"))","v":""},null,null,null,null,null,{"$f":"IF(AND(U95<>\"\",ISBLANK(X95),U95<TODAY()),\"Oui\",\"Non\")","v":"Non"},{"$f":"IF(AND(S95=\"Oui\",ISBLANK(X95)),\"Oui\",\"Non\")","v":"Non"},null,null,null,null,{"$f":"IF(K95=\"\",\"\",K95-TODAY())","v":""},{"$f":"IF(ISBLANK(F95),CONCATENATE(E95,\" - \",AG95),CONCATENATE(F95,\" - \",AG95))","v":" - "},{"$f":"IF(ISBLANK(B95),\"\",YEAR(C95))","v":""},{"$f":"CONCATENATE(H95,\"-\",AG95)","v":"-"},{"$f":"CONCATENATE(M95,\"-\",AH95)","v":"--"}]
[{"$f":"IF(ISBLANK(B96),\"\",$C$2)","v":""},null,null,{"$f":"IF(ISBLANK(B96),\"\",COUNTA(#REF!))","v":""},null,null,null,null,null,null,null,null,null,null,{"$f":"IF(AND(K96<>\"\",ISBLANK(N96),K96<TODAY()),\"Oui\",\"Non\")","v":"Non"},{"$f":"IF(ISBLANK(I96),\"\",IF(K96=\"\",\"délai à préciser\",IF(M96=\"\",\"statut à préciser\",IF(M96=\"finalisée\",IF(N96=\"\",\"date de solde à préciser\",IF(K96>=N96,\"fait\",\"retard\")),(IF(K96<TODAY(),\"retard\",\"Ok\"))))))","v":""},{"$f":"IF(AND(N96<>\"\",ISBLANK(N96),K96<TODAY()),\"Oui\",\"Non\")","v":"Non"},null,{"$f":"IF(ISBLANK(H96),\"\",IF(OR(H96=\"Préventive\",H96=\"Corrective\"),\"Oui\",\"Non\"))","v":""},null,null,null,null,null,{"$f":"IF(AND(U96<>\"\",ISBLANK(X96),U96<TODAY()),\"Oui\",\"Non\")","v":"Non"},{"$f":"IF(AND(S96=\"Oui\",ISBLANK(X96)),\"Oui\",\"Non\")","v":"Non"},null,null,null,null,{"$f":"IF(K96=\"\",\"\",K96-TODAY())","v":""},{"$f":"IF(ISBLANK(F96),CONCATENATE(E96,\" - \",AG96),CONCATENATE(F96,\" - \",AG96))","v":" - "},{"$f":"IF(ISBLANK(B96),\"\",YEAR(C96))","v":""},{"$f":"CONCATENATE(H96,\"-\",AG96)","v":"-"},{"$f":"CONCATENATE(M96,\"-\",AH96)","v":"--"}]
[{"$f":"IF(ISBLANK(B97),\"\",$C$2)","v":""},null,null,{"$f":"IF(ISBLANK(B97),\"\",COUNTA(#REF!))","v":""},null,null,null,null,null,null,null,null,null,null,{"$f":"IF(AND(K97<>\"\",ISBLANK(N97),K97<TODAY()),\"Oui\",\"Non\")","v":"Non"},{"$f":"IF(ISBLANK(I97),\"\",IF(K97=\"\",\"délai à préciser\",IF(M97=\"\",\"statut à préciser\",IF(M97=\"finalisée\",IF(N97=\"\",\"date de solde à préciser\",IF(K97>=N97,\"fait\",\"retard\")),(IF(K97<TODAY(),\"retard\",\"Ok\"))))))","v":""},{"$f":"IF(AND(N97<>\"\",ISBLANK(N97),K97<TODAY()),\"Oui\",\"Non\")","v":"Non"},null,{"$f":"IF(ISBLANK(H97),\"\",IF(OR(H97=\"Préventive\",H97=\"Corrective\"),\"Oui\",\"Non\"))","v":""},null,null,null,null,null,{"$f":"IF(AND(U97<>\"\",ISBLANK(X97),U97<TODAY()),\"Oui\",\"Non\")","v":"Non"},{"$f":"IF(AND(S97=\"Oui\",ISBLANK(X97)),\"Oui\",\"Non\")","v":"Non"},null,null,null,null,{"$f":"IF(K97=\"\",\"\",K97-TODAY())","v":""},{"$f":"IF(ISBLANK(F97),CONCATENATE(E97,\" - \",AG97),CONCATENATE(F97,\" - \",AG97))","v":" - "},{"$f":"IF(ISBLANK(B97),\"\",YEAR(C97))","v":""},{"$f":"CONCATENATE(H97,\"-\",AG97)","v":"-"},{"$f":"CONCATENATE(M97,\"-\",AH97)","v":"--"}]
[{"$f":"IF(ISBLANK(B98),\"\",$C$2)","v":""},null,null,{"$f":"IF(ISBLANK(B98),\"\",COUNTA(#REF!))","v":""},null,null,null,null,null,null,null,null,null,null,{"$f":"IF(AND(K98<>\"\",ISBLANK(N98),K98<TODAY()),\"Oui\",\"Non\")","v":"Non"},{"$f":"IF(ISBLANK(I98),\"\",IF(K98=\"\",\"délai à préciser\",IF(M98=\"\",\"statut à préciser\",IF(M98=\"finalisée\",IF(N98=\"\",\"date de solde à préciser\",IF(K98>=N98,\"fait\",\"retard\")),(IF(K98<TODAY(),\"retard\",\"Ok\"))))))","v":""},{"$f":"IF(AND(N98<>\"\",ISBLANK(N98),K98<TODAY()),\"Oui\",\"Non\")","v":"Non"},null,{"$f":"IF(ISBLANK(H98),\"\",IF(OR(H98=\"Préventive\",H98=\"Corrective\"),\"Oui\",\"Non\"))","v":""},null,null,null,null,null,{"$f":"IF(AND(U98<>\"\",ISBLANK(X98),U98<TODAY()),\"Oui\",\"Non\")","v":"Non"},{"$f":"IF(AND(S98=\"Oui\",ISBLANK(X98)),\"Oui\",\"Non\")","v":"Non"},null,null,null,null,{"$f":"IF(K98=\"\",\"\",K98-TODAY())","v":""},{"$f":"IF(ISBLANK(F98),CONCATENATE(E98,\" - \",AG98),CONCATENATE(F98,\" - \",AG98))","v":" - "},{"$f":"IF(ISBLANK(B98),\"\",YEAR(C98))","v":""},{"$f":"CONCATENATE(H98,\"-\",AG98)","v":"-"},{"$f":"CONCATENATE(M98,\"-\",AH98)","v":"--"}]
[{"$f":"IF(ISBLANK(B99),\"\",$C$2)","v":""},null,null,{"$f":"IF(ISBLANK(B99),\"\",COUNTA(#REF!))","v":""},null,null,null,null,null,null,null,null,null,null,{"$f":"IF(AND(K99<>\"\",ISBLANK(N99),K99<TODAY()),\"Oui\",\"Non\")","v":"Non"},{"$f":"IF(ISBLANK(I99),\"\",IF(K99=\"\",\"délai à préciser\",IF(M99=\"\",\"statut à préciser\",IF(M99=\"finalisée\",IF(N99=\"\",\"date de solde à préciser\",IF(K99>=N99,\"fait\",\"retard\")),(IF(K99<TODAY(),\"retard\",\"Ok\"))))))","v":""},{"$f":"IF(AND(N99<>\"\",ISBLANK(N99),K99<TODAY()),\"Oui\",\"Non\")","v":"Non"},null,{"$f":"IF(ISBLANK(H99),\"\",IF(OR(H99=\"Préventive\",H99=\"Corrective\"),\"Oui\",\"Non\"))","v":""},null,null,null,null,null,{"$f":"IF(AND(U99<>\"\",ISBLANK(X99),U99<TODAY()),\"Oui\",\"Non\")","v":"Non"},{"$f":"IF(AND(S99=\"Oui\",ISBLANK(X99)),\"Oui\",\"Non\")","v":"Non"},null,null,null,null,{"$f":"IF(K99=\"\",\"\",K99-TODAY())","v":""},{"$f":"IF(ISBLANK(F99),CONCATENATE(E99,\" - \",AG99),CONCATENATE(F99,\" - \",AG99))","v":" - "},{"$f":"IF(ISBLANK(B99),\"\",YEAR(C99))","v":""},{"$f":"CONCATENATE(H99,\"-\",AG99)","v":"-"},{"$f":"CONCATENATE(M99,\"-\",AH99)","v":"--"}]
[{"$f":"IF(ISBLANK(B100),\"\",$C$2)","v":""},null,null,{"$f":"IF(ISBLANK(B100),\"\",COUNTA(#REF!))","v":""},null,null,null,null,null,null,null,null,null,null,{"$f":"IF(AND(K100<>\"\",ISBLANK(N100),K100<TODAY()),\"Oui\",\"Non\")","v":"Non"},{"$f":"IF(ISBLANK(I100),\"\",IF(K100=\"\",\"délai à préciser\",IF(M100=\"\",\"statut à préciser\",IF(M100=\"finalisée\",IF(N100=\"\",\"date de solde à préciser\",IF(K100>=N100,\"fait\",\"retard\")),(IF(K100<TODAY(),\"retard\",\"Ok\"))))))","v":""},{"$f":"IF(AND(N100<>\"\",ISBLANK(N100),K100<TODAY()),\"Oui\",\"Non\")","v":"Non"},null,{"$f":"IF(ISBLANK(H100),\"\",IF(OR(H100=\"Préventive\",H100=\"Corrective\"),\"Oui\",\"Non\"))","v":""},null,null,null,null,null,{"$f":"IF(AND(U100<>\"\",ISBLANK(X100),U100<TODAY()),\"Oui\",\"Non\")","v":"Non"},{"$f":"IF(AND(S100=\"Oui\",ISBLANK(X100)),\"Oui\",\"Non\")","v":"Non"},null,null,null,null,{"$f":"IF(K100=\"\",\"\",K100-TODAY())","v":""},{"$f":"IF(ISBLANK(F100),CONCATENATE(E100,\" - \",AG100),CONCATENATE(F100,\" - \",AG100))","v":" - "},{"$f":"IF(ISBLANK(B100),\"\",YEAR(C100))","v":""},{"$f":"CONCATENATE(H100,\"-\",AG100)","v":"-"},{"$f":"CONCATENATE(M100,\"-\",AH100)","v":"--"}]
[{"$f":"IF(ISBLANK(B101),\"\",$C$2)","v":""},null,null,{"$f":"IF(ISBLANK(B101),\"\",COUNTA(#REF!))","v":""},null,null,null,null,null,null,null,null,null,null,{"$f":"IF(AND(K101<>\"\",ISBLANK(N101),K101<TODAY()),\"Oui\",\"Non\")","v":"Non"},{"$f":"IF(ISBLANK(I101),\"\",IF(K101=\"\",\"délai à préciser\",IF(M101=\"\",\"statut à préciser\",IF(M101=\"finalisée\",IF(N101=\"\",\"date de solde à préciser\",IF(K101>=N101,\"fait\",\"retard\")),(IF(K101<TODAY(),\"retard\",\"Ok\"))))))","v":""},{"$f":"IF(AND(N101<>\"\",ISBLANK(N101),K101<TODAY()),\"Oui\",\"Non\")","v":"Non"},null,{"$f":"IF(ISBLANK(H101),\"\",IF(OR(H101=\"Préventive\",H101=\"Corrective\"),\"Oui\",\"Non\"))","v":""},null,null,null,null,null,{"$f":"IF(AND(U101<>\"\",ISBLANK(X101),U101<TODAY()),\"Oui\",\"Non\")","v":"Non"},{"$f":"IF(AND(S101=\"Oui\",ISBLANK(X101)),\"Oui\",\"Non\")","v":"Non"},null,null,null,null,{"$f":"IF(K101=\"\",\"\",K101-TODAY())","v":""},{"$f":"IF(ISBLANK(F101),CONCATENATE(E101,\" - \",AG101),CONCATENATE(F101,\" - \",AG101))","v":" - "},{"$f":"IF(ISBLANK(B101),\"\",YEAR(C101))","v":""},{"$f":"CONCATENATE(H101,\"-\",AG101)","v":"-"},{"$f":"CONCATENATE(M101,\"-\",AH101)","v":"--"}]
[{"$f":"IF(ISBLANK(B102),\"\",$C$2)","v":""},null,null,{"$f":"IF(ISBLANK(B102),\"\",COUNTA(#REF!))","v":""},null,null,null,null,null,null,null,null,null,null,{"$f":"IF(AND(K102<>\"\",ISBLANK(N102),K102<TODAY()),\"Oui\",\"Non\")","v":"Non"},{"$f":"IF(ISBLANK(I102),\"\",IF(K102=\"\",\"délai à préciser\",IF(M102=\"\",\"statut à préciser\",IF(M102=\"finalisée\",IF(N102=\"\",\"date de solde à préciser\",IF(K102>=N102,\"fait\",\"retard\")),(IF(K102<TODAY(),\"retard\",\"Ok\"))))))","v":""},{"$f":"IF(AND(N102<>\"\",ISBLANK(N102),K102<TODAY()),\"Oui\",\"Non\")","v":"Non"},null,{"$f":"IF(ISBLANK(H102),\"\",IF(OR(H102=\"Préventive\",H102=\"Corrective\"),\"Oui\",\"Non\"))","v":""},null,null,null,null,null,{"$f":"IF(AND(U102<>\"\",ISBLANK(X102),U102<TODAY()),\"Oui\",\"Non\")","v":"Non"},{"$f":"IF(AND(S102=\"Oui\",ISBLANK(X102)),\"Oui\",\"Non\")","v":"Non"},null,null,null,null,{"$f":"IF(K102=\"\",\"\",K102-TODAY())","v":""},{"$f":"IF(ISBLANK(F102),CONCATENATE(E102,\" - \",AG102),CONCATENATE(F102,\" - \",AG102))","v":" - "},{"$f":"IF(ISBLANK(B102),\"\",YEAR(C102))","v":""},{"$f":"CONCATENATE(H102,\"-\",AG102)","v":"-"},{"$f":"CONCATENATE(M102,\"-\",AH102)","v":"--"}]
[{"$f":"IF(ISBLANK(B103),\"\",$C$2)","v":""},null,null,{"$f":"IF(ISBLANK(B103),\"\",COUNTA(#REF!))","v":""},null,null,null,null,null,null,null,null,null,null,{"$f":"IF(AND(K103<>\"\",ISBLANK(N103),K103<TODAY()),\"Oui\",\"Non\")","v":"Non"},{"$f":"IF(ISBLANK(I103),\"\",IF(K103=\"\",\"délai à préciser\",IF(M103=\"\",\"statut à préciser\",IF(M103=\"finalisée\",IF(N103=\"\",\"date de solde à préciser\",IF(K103>=N103,\"fait\",\"retard\")),(IF(K103<TODAY(),\"retard\",\"Ok\"))))))","v":""},{"$f":"IF(AND(N103<>\"\",ISBLANK(N103),K103<TODAY()),\"Oui\",\"Non\")","v":"Non"},null,{"$f":"IF(ISBLANK(H103),\"\",IF(OR(H103=\"Préventive\",H103=\"Corrective\"),\"Oui\",\"Non\"))","v":""},null,null,null,null,null,{"$f":"IF(AND(U103<>\"\",ISBLANK(X103),U103<TODAY()),\"Oui\",\"Non\")","v":"Non"},{"$f":"IF(AND(S103=\"Oui\",ISBLANK(X103)),\"Oui\",\"Non\")","v":"Non"},null,null,null,null,{"$f":"IF(K103=\"\",\"\",K103-TODAY())","v":""},{"$f":"IF(ISBLANK(F103),CONCATENATE(E103,\" - \",AG103),CONCATENATE(F103,\" - \",AG103))","v":" - "},{"$f":"IF(ISBLANK(B103),\"\",YEAR(C103))","v":""},{"$f":"CONCATENATE(H103,\"-\",AG103)","v":"-"},{"$f":"CONCATENATE(M103,\"-\",AH103)","v":"--"}]
[{"$f":"IF(ISBLANK(B104),\"\",$C$2)","v":""},null,null,{"$f":"IF(ISBLANK(B104),\"\",COUNTA(#REF!))","v":""},null,null,null,null,null,null,null,null,null,null,{"$f":"IF(AND(K104<>\"\",ISBLANK(N104),K104<TODAY()),\"Oui\",\"Non\")","v":"Non"},{"$f":"IF(ISBLANK(I104),\"\",IF(K104=\"\",\"délai à préciser\",IF(M104=\"\",\"statut à préciser\",IF(M104=\"finalisée\",IF(N104=\"\",\"date de solde à préciser\",IF(K104>=N104,\"fait\",\"retard\")),(IF(K104<TODAY(),\"retard\",\"Ok\"))))))","v":""},{"$f":"IF(AND(N104<>\"\",ISBLANK(N104),K104<TODAY()),\"Oui\",\"Non\")","v":"Non"},null,{"$f":"IF(ISBLANK(H104),\"\",IF(OR(H104=\"Préventive\",H104=\"Corrective\"),\"Oui\",\"Non\"))","v":""},null,null,null,null,null,{"$f":"IF(AND(U104<>\"\",ISBLANK(X104),U104<TODAY()),\"Oui\",\"Non\")","v":"Non"},{"$f":"IF(AND(S104=\"Oui\",ISBLANK(X104)),\"Oui\",\"Non\")","v":"Non"},null,null,null,null,{"$f":"IF(K104=\"\",\"\",K104-TODAY())","v":""},{"$f":"IF(ISBLANK(F104),CONCATENATE(E104,\" - \",AG104),CONCATENATE(F104,\" - \",AG104))","v":" - "},{"$f":"IF(ISBLANK(B104),\"\",YEAR(C104))","v":""},{"$f":"CONCATENATE(H104,\"-\",AG104)","v":"-"},{"$f":"CONCATENATE(M104,\"-\",AH104)","v":"--"}]
[{"$f":"IF(ISBLANK(B105),\"\",$C$2)","v":""},null,null,{"$f":"IF(ISBLANK(B105),\"\",COUNTA(#REF!))","v":""},null,null,null,null,null,null,null,null,null,null,{"$f":"IF(AND(K105<>\"\",ISBLANK(N105),K105<TODAY()),\"Oui\",\"Non\")","v":"Non"},{"$f":"IF(ISBLANK(I105),\"\",IF(K105=\"\",\"délai à préciser\",IF(M105=\"\",\"statut à préciser\",IF(M105=\"finalisée\",IF(N105=\"\",\"date de solde à préciser\",IF(K105>=N105,\"fait\",\"retard\")),(IF(K105<TODAY(),\"retard\",\"Ok\"))))))","v":""},{"$f":"IF(AND(N105<>\"\",ISBLANK(N105),K105<TODAY()),\"Oui\",\"Non\")","v":"Non"},null,{"$f":"IF(ISBLANK(H105),\"\",IF(OR(H105=\"Préventive\",H105=\"Corrective\"),\"Oui\",\"Non\"))","v":""},null,null,null,null,null,{"$f":"IF(AND(U105<>\"\",ISBLANK(X105),U105<TODAY()),\"Oui\",\"Non\")","v":"Non"},{"$f":"IF(AND(S105=\"Oui\",ISBLANK(X105)),\"Oui\",\"Non\")","v":"Non"},null,null,null,null,{"$f":"IF(K105=\"\",\"\",K105-TODAY())","v":""},{"$f":"IF(ISBLANK(F105),CONCATENATE(E105,\" - \",AG105),CONCATENATE(F105,\" - \",AG105))","v":" - "},{"$f":"IF(ISBLANK(B105),\"\",YEAR(C105))","v":""},{"$f":"CONCATENATE(H105,\"-\",AG105)","v":"-"},{"$f":"CONCATENATE(M105,\"-\",AH105)","v":"--"}]
[{"$f":"IF(ISBLANK(B106),\"\",$C$2)","v":""},null,null,{"$f":"IF(ISBLANK(B106),\"\",COUNTA(#REF!))","v":""},null,null,null,null,null,null,null,null,null,null,{"$f":"IF(AND(K106<>\"\",ISBLANK(N106),K106<TODAY()),\"Oui\",\"Non\")","v":"Non"},{"$f":"IF(ISBLANK(I106),\"\",IF(K106=\"\",\"délai à préciser\",IF(M106=\"\",\"statut à préciser\",IF(M106=\"finalisée\",IF(N106=\"\",\"date de solde à préciser\",IF(K106>=N106,\"fait\",\"retard\")),(IF(K106<TODAY(),\"retard\",\"Ok\"))))))","v":""},{"$f":"IF(AND(N106<>\"\",ISBLANK(N106),K106<TODAY()),\"Oui\",\"Non\")","v":"Non"},null,{"$f":"IF(ISBLANK(H106),\"\",IF(OR(H106=\"Préventive\",H106=\"Corrective\"),\"Oui\",\"Non\"))","v":""},null,null,null,null,null,{"$f":"IF(AND(U106<>\"\",ISBLANK(X106),U106<TODAY()),\"Oui\",\"Non\")","v":"Non"},{"$f":"IF(AND(S106=\"Oui\",ISBLANK(X106)),\"Oui\",\"Non\")","v":"Non"},null,null,null,null,{"$f":"IF(K106=\"\",\"\",K106-TODAY())","v":""},{"$f":"IF(ISBLANK(F106),CONCATENATE(E106,\" - \",AG106),CONCATENATE(F106,\" - \",AG106))","v":" - "},{"$f":"IF(ISBLANK(B106),\"\",YEAR(C106))","v":""},{"$f":"CONCATENATE(H106,\"-\",AG106)","v":"-"},{"$f":"CONCATENATE(M106,\"-\",AH106)","v":"--"}]
[{"$f":"IF(ISBLANK(B107),\"\",$C$2)","v":""},null,null,{"$f":"IF(ISBLANK(B107),\"\",COUNTA(#REF!))","v":""},null,null,null,null,null,null,null,null,null,null,{"$f":"IF(AND(K107<>\"\",ISBLANK(N107),K107<TODAY()),\"Oui\",\"Non\")","v":"Non"},{"$f":"IF(ISBLANK(I107),\"\",IF(K107=\"\",\"délai à préciser\",IF(M107=\"\",\"statut à préciser\",IF(M107=\"finalisée\",IF(N107=\"\",\"date de solde à préciser\",IF(K107>=N107,\"fait\",\"retard\")),(IF(K107<TODAY(),\"retard\",\"Ok\"))))))","v":""},{"$f":"IF(AND(N107<>\"\",ISBLANK(N107),K107<TODAY()),\"Oui\",\"Non\")","v":"Non"},null,{"$f":"IF(ISBLANK(H107),\"\",IF(OR(H107=\"Préventive\",H107=\"Corrective\"),\"Oui\",\"Non\"))","v":""},null,null,null,null,null,{"$f":"IF(AND(U107<>\"\",ISBLANK(X107),U107<TODAY()),\"Oui\",\"Non\")","v":"Non"},{"$f":"IF(AND(S107=\"Oui\",ISBLANK(X107)),\"Oui\",\"Non\")","v":"Non"},null,null,null,null,{"$f":"IF(K107=\"\",\"\",K107-TODAY())","v":""},{"$f":"IF(ISBLANK(F107),CONCATENATE(E107,\" - \",AG107),CONCATENATE(F107,\" - \",AG107))","v":" - "},{"$f":"IF(ISBLANK(B107),\"\",YEAR(C107))","v":""},{"$f":"CONCATENATE(H107,\"-\",AG107)","v":"-"},{"$f":"CONCATENATE(M107,\"-\",AH107)","v":"--"}]
[{"$f":"IF(ISBLANK(B108),\"\",$C$2)","v":""},null,null,{"$f":"IF(ISBLANK(B108),\"\",COUNTA(#REF!))","v":""},null,null,null,null,null,null,null,null,null,null,{"$f":"IF(AND(K108<>\"\",ISBLANK(N108),K108<TODAY()),\"Oui\",\"Non\")","v":"Non"},{"$f":"IF(ISBLANK(I108),\"\",IF(K108=\"\",\"délai à préciser\",IF(M108=\"\",\"statut à préciser\",IF(M108=\"finalisée\",IF(N108=\"\",\"date de solde à préciser\",IF(K108>=N108,\"fait\",\"retard\")),(IF(K108<TODAY(),\"retard\",\"Ok\"))))))","v":""},{"$f":"IF(AND(N108<>\"\",ISBLANK(N108),K108<TODAY()),\"Oui\",\"Non\")","v":"Non"},null,{"$f":"IF(ISBLANK(H108),\"\",IF(OR(H108=\"Préventive\",H108=\"Corrective\"),\"Oui\",\"Non\"))","v":""},null,null,null,null,null,{"$f":"IF(AND(U108<>\"\",ISBLANK(X108),U108<TODAY()),\"Oui\",\"Non\")","v":"Non"},{"$f":"IF(AND(S108=\"Oui\",ISBLANK(X108)),\"Oui\",\"Non\")","v":"Non"},null,null,null,null,{"$f":"IF(K108=\"\",\"\",K108-TODAY())","v":""},{"$f":"IF(ISBLANK(F108),CONCATENATE(E108,\" - \",AG108),CONCATENATE(F108,\" - \",AG108))","v":" - "},{"$f":"IF(ISBLANK(B108),\"\",YEAR(C108))","v":""},{"$f":"CONCATENATE(H108,\"-\",AG108)","v":"-"},{"$f":"CONCATENATE(M108,\"-\",AH108)","v":"--"}]
[{"$f":"IF(ISBLANK(B109),\"\",$C$2)","v":""},null,null,{"$f":"IF(ISBLANK(B109),\"\",COUNTA(#REF!))","v":""},null,null,null,null,null,null,null,null,null,null,{"$f":"IF(AND(K109<>\"\",ISBLANK(N109),K109<TODAY()),\"Oui\",\"Non\")","v":"Non"},{"$f":"IF(ISBLANK(I109),\"\",IF(K109=\"\",\"délai à préciser\",IF(M109=\"\",\"statut à préciser\",IF(M109=\"finalisée\",IF(N109=\"\",\"date de solde à préciser\",IF(K109>=N109,\"fait\",\"retard\")),(IF(K109<TODAY(),\"retard\",\"Ok\"))))))","v":""},{"$f":"IF(AND(N109<>\"\",ISBLANK(N109),K109<TODAY()),\"Oui\",\"Non\")","v":"Non"},null,{"$f":"IF(ISBLANK(H109),\"\",IF(OR(H109=\"Préventive\",H109=\"Corrective\"),\"Oui\",\"Non\"))","v":""},null,null,null,null,null,{"$f":"IF(AND(U109<>\"\",ISBLANK(X109),U109<TODAY()),\"Oui\",\"Non\")","v":"Non"},{"$f":"IF(AND(S109=\"Oui\",ISBLANK(X109)),\"Oui\",\"Non\")","v":"Non"},null,null,null,null,{"$f":"IF(K109=\"\",\"\",K109-TODAY())","v":""},{"$f":"IF(ISBLANK(F109),CONCATENATE(E109,\" - \",AG109),CONCATENATE(F109,\" - \",AG109))","v":" - "},{"$f":"IF(ISBLANK(B109),\"\",YEAR(C109))","v":""},{"$f":"CONCATENATE(H109,\"-\",AG109)","v":"-"},{"$f":"CONCATENATE(M109,\"-\",AH109)","v":"--"}]
[{"$f":"IF(ISBLANK(B110),\"\",$C$2)","v":""},null,null,{"$f":"IF(ISBLANK(B110),\"\",COUNTA(#REF!))","v":""},null,null,null,null,null,null,null,null,null,null,{"$f":"IF(AND(K110<>\"\",ISBLANK(N110),K110<TODAY()),\"Oui\",\"Non\")","v":"Non"},{"$f":"IF(ISBLANK(I110),\"\",IF(K110=\"\",\"délai à préciser\",IF(M110=\"\",\"statut à préciser\",IF(M110=\"finalisée\",IF(N110=\"\",\"date de solde à préciser\",IF(K110>=N110,\"fait\",\"retard\")),(IF(K110<TODAY(),\"retard\",\"Ok\"))))))","v":""},{"$f":"IF(AND(N110<>\"\",ISBLANK(N110),K110<TODAY()),\"Oui\",\"Non\")","v":"Non"},null,{"$f":"IF(ISBLANK(H110),\"\",IF(OR(H110=\"Préventive\",H110=\"Corrective\"),\"Oui\",\"Non\"))","v":""},null,null,null,null,null,{"$f":"IF(AND(U110<>\"\",ISBLANK(X110),U110<TODAY()),\"Oui\",\"Non\")","v":"Non"},{"$f":"IF(AND(S110=\"Oui\",ISBLANK(X110)),\"Oui\",\"Non\")","v":"Non"},null,null,null,null,{"$f":"IF(K110=\"\",\"\",K110-TODAY())","v":""},{"$f":"IF(ISBLANK(F110),CONCATENATE(E110,\" - \",AG110),CONCATENATE(F110,\" - \",AG110))","v":" - "},{"$f":"IF(ISBLANK(B110),\"\",YEAR(C110))","v":""},{"$f":"CONCATENATE(H110,\"-\",AG110)","v":"-"},{"$f":"CONCATENATE(M110,\"-\",AH110)","v":"--"}]
[{"$f":"IF(ISBLANK(B111),\"\",$C$2)","v":""},null,null,{"$f":"IF(ISBLANK(B111),\"\",COUNTA(#REF!))","v":""},null,null,null,null,null,null,null,null,null,null,{"$f":"IF(AND(K111<>\"\",ISBLANK(N111),K111<TODAY()),\"Oui\",\"Non\")","v":"Non"},{"$f":"IF(ISBLANK(I111),\"\",IF(K111=\"\",\"délai à préciser\",IF(M111=\"\",\"statut à préciser\",IF(M111=\"finalisée\",IF(N111=\"\",\"date de solde à préciser\",IF(K111>=N111,\"fait\",\"retard\")),(IF(K111<TODAY(),\"retard\",\"Ok\"))))))","v":""},{"$f":"IF(AND(N111<>\"\",ISBLANK(N111),K111<TODAY()),\"Oui\",\"Non\")","v":"Non"},null,{"$f":"IF(ISBLANK(H111),\"\",IF(OR(H111=\"Préventive\",H111=\"Corrective\"),\"Oui\",\"Non\"))","v":""},null,null,null,null,null,{"$f":"IF(AND(U111<>\"\",ISBLANK(X111),U111<TODAY()),\"Oui\",\"Non\")","v":"Non"},{"$f":"IF(AND(S111=\"Oui\",ISBLANK(X111)),\"Oui\",\"Non\")","v":"Non"},null,null,null,null,{"$f":"IF(K111=\"\",\"\",K111-TODAY())","v":""},{"$f":"IF(ISBLANK(F111),CONCATENATE(E111,\" - \",AG111),CONCATENATE(F111,\" - \",AG111))","v":" - "},{"$f":"IF(ISBLANK(B111),\"\",YEAR(C111))","v":""},{"$f":"CONCATENATE(H111,\"-\",AG111)","v":"-"},{"$f":"CONCATENATE(M111,\"-\",AH111)","v":"--"}]
[{"$f":"IF(ISBLANK(B112),\"\",$C$2)","v":""},null,null,{"$f":"IF(ISBLANK(B112),\"\",COUNTA(#REF!))","v":""},null,null,null,null,null,null,null,null,null,null,{"$f":"IF(AND(K112<>\"\",ISBLANK(N112),K112<TODAY()),\"Oui\",\"Non\")","v":"Non"},{"$f":"IF(ISBLANK(I112),\"\",IF(K112=\"\",\"délai à préciser\",IF(M112=\"\",\"statut à préciser\",IF(M112=\"finalisée\",IF(N112=\"\",\"date de solde à préciser\",IF(K112>=N112,\"fait\",\"retard\")),(IF(K112<TODAY(),\"retard\",\"Ok\"))))))","v":""},{"$f":"IF(AND(N112<>\"\",ISBLANK(N112),K112<TODAY()),\"Oui\",\"Non\")","v":"Non"},null,{"$f":"IF(ISBLANK(H112),\"\",IF(OR(H112=\"Préventive\",H112=\"Corrective\"),\"Oui\",\"Non\"))","v":""},null,null,null,null,null,{"$f":"IF(AND(U112<>\"\",ISBLANK(X112),U112<TODAY()),\"Oui\",\"Non\")","v":"Non"},{"$f":"IF(AND(S112=\"Oui\",ISBLANK(X112)),\"Oui\",\"Non\")","v":"Non"},null,null,null,null,{"$f":"IF(K112=\"\",\"\",K112-TODAY())","v":""},{"$f":"IF(ISBLANK(F112),CONCATENATE(E112,\" - \",AG112),CONCATENATE(F112,\" - \",AG112))","v":" - "},{"$f":"IF(ISBLANK(B112),\"\",YEAR(C112))","v":""},{"$f":"CONCATENATE(H112,\"-\",AG112)","v":"-"},{"$f":"CONCATENATE(M112,\"-\",AH112)","v":"--"}]
[{"$f":"IF(ISBLANK(B113),\"\",$C$2)","v":""},null,null,{"$f":"IF(ISBLANK(B113),\"\",COUNTA(#REF!))","v":""},null,null,null,null,null,null,null,null,null,null,{"$f":"IF(AND(K113<>\"\",ISBLANK(N113),K113<TODAY()),\"Oui\",\"Non\")","v":"Non"},{"$f":"IF(ISBLANK(I113),\"\",IF(K113=\"\",\"délai à préciser\",IF(M113=\"\",\"statut à préciser\",IF(M113=\"finalisée\",IF(N113=\"\",\"date de solde à préciser\",IF(K113>=N113,\"fait\",\"retard\")),(IF(K113<TODAY(),\"retard\",\"Ok\"))))))","v":""},{"$f":"IF(AND(N113<>\"\",ISBLANK(N113),K113<TODAY()),\"Oui\",\"Non\")","v":"Non"},null,{"$f":"IF(ISBLANK(H113),\"\",IF(OR(H113=\"Préventive\",H113=\"Corrective\"),\"Oui\",\"Non\"))","v":""},null,null,null,null,null,{"$f":"IF(AND(U113<>\"\",ISBLANK(X113),U113<TODAY()),\"Oui\",\"Non\")","v":"Non"},{"$f":"IF(AND(S113=\"Oui\",ISBLANK(X113)),\"Oui\",\"Non\")","v":"Non"},null,null,null,null,{"$f":"IF(K113=\"\",\"\",K113-TODAY())","v":""},{"$f":"IF(ISBLANK(F113),CONCATENATE(E113,\" - \",AG113),CONCATENATE(F113,\" - \",AG113))","v":" - "},{"$f":"IF(ISBLANK(B113),\"\",YEAR(C113))","v":""},{"$f":"CONCATENATE(H113,\"-\",AG113)","v":"-"},{"$f":"CONCATENATE(M113,\"-\",AH113)","v":"--"}]
[{"$f":"IF(ISBLANK(B114),\"\",$C$2)","v":""},null,null,{"$f":"IF(ISBLANK(B114),\"\",COUNTA(#REF!))","v":""},null,null,null,null,null,null,null,null,null,null,{"$f":"IF(AND(K114<>\"\",ISBLANK(N114),K114<TODAY()),\"Oui\",\"Non\")","v":"Non"},{"$f":"IF(ISBLANK(I114),\"\",IF(K114=\"\",\"délai à préciser\",IF(M114=\"\",\"statut à préciser\",IF(M114=\"finalisée\",IF(N114=\"\",\"date de solde à préciser\",IF(K114>=N114,\"fait\",\"retard\")),(IF(K114<TODAY(),\"retard\",\"Ok\"))))))","v":""},{"$f":"IF(AND(N114<>\"\",ISBLANK(N114),K114<TODAY()),\"Oui\",\"Non\")","v":"Non"},null,{"$f":"IF(ISBLANK(H114),\"\",IF(OR(H114=\"Préventive\",H114=\"Corrective\"),\"Oui\",\"Non\"))","v":""},null,null,null,null,null,{"$f":"IF(AND(U114<>\"\",ISBLANK(X114),U114<TODAY()),\"Oui\",\"Non\")","v":"Non"},{"$f":"IF(AND(S114=\"Oui\",ISBLANK(X114)),\"Oui\",\"Non\")","v":"Non"},null,null,null,null,{"$f":"IF(K114=\"\",\"\",K114-TODAY())","v":""},{"$f":"IF(ISBLANK(F114),CONCATENATE(E114,\" - \",AG114),CONCATENATE(F114,\" - \",AG114))","v":" - "},{"$f":"IF(ISBLANK(B114),\"\",YEAR(C114))","v":""},{"$f":"CONCATENATE(H114,\"-\",AG114)","v":"-"},{"$f":"CONCATENATE(M114,\"-\",AH114)","v":"--"}]
[{"$f":"IF(ISBLANK(B115),\"\",$C$2)","v":""},null,null,{"$f":"IF(ISBLANK(B115),\"\",COUNTA(#REF!))","v":""},null,null,null,null,null,null,null,null,null,null,{"$f":"IF(AND(K115<>\"\",ISBLANK(N115),K115<TODAY()),\"Oui\",\"Non\")","v":"Non"},{"$f":"IF(ISBLANK(I115),\"\",IF(K115=\"\",\"délai à préciser\",IF(M115=\"\",\"statut à préciser\",IF(M115=\"finalisée\",IF(N115=\"\",\"date de solde à préciser\",IF(K115>=N115,\"fait\",\"retard\")),(IF(K115<TODAY(),\"retard\",\"Ok\"))))))","v":""},{"$f":"IF(AND(N115<>\"\",ISBLANK(N115),K115<TODAY()),\"Oui\",\"Non\")","v":"Non"},null,{"$f":"IF(ISBLANK(H115),\"\",IF(OR(H115=\"Préventive\",H115=\"Corrective\"),\"Oui\",\"Non\"))","v":""},null,null,null,null,null,{"$f":"IF(AND(U115<>\"\",ISBLANK(X115),U115<TODAY()),\"Oui\",\"Non\")","v":"Non"},{"$f":"IF(AND(S115=\"Oui\",ISBLANK(X115)),\"Oui\",\"Non\")","v":"Non"},null,null,null,null,{"$f":"IF(K115=\"\",\"\",K115-TODAY())","v":""},{"$f":"IF(ISBLANK(F115),CONCATENATE(E115,\" - \",AG115),CONCATENATE(F115,\" - \",AG115))","v":" - "},{"$f":"IF(ISBLANK(B115),\"\",YEAR(C115))","v":""},{"$f":"CONCATENATE(H115,\"-\",AG115)","v":"-"},{"$f":"CONCATENATE(M115,\"-\",AH115)","v":"--"}]
[{"$f":"IF(ISBLANK(B116),\"\",$C$2)","v":""},null,null,{"$f":"IF(ISBLANK(B116),\"\",COUNTA(#REF!))","v":""},null,null,null,null,null,null,null,null,null,null,{"$f":"IF(AND(K116<>\"\",ISBLANK(N116),K116<TODAY()),\"Oui\",\"Non\")","v":"Non"},{"$f":"IF(ISBLANK(I116),\"\",IF(K116=\"\",\"délai à préciser\",IF(M116=\"\",\"statut à préciser\",IF(M116=\"finalisée\",IF(N116=\"\",\"date de solde à préciser\",IF(K116>=N116,\"fait\",\"retard\")),(IF(K116<TODAY(),\"retard\",\"Ok\"))))))","v":""},{"$f":"IF(AND(N116<>\"\",ISBLANK(N116),K116<TODAY()),\"Oui\",\"Non\")","v":"Non"},null,{"$f":"IF(ISBLANK(H116),\"\",IF(OR(H116=\"Préventive\",H116=\"Corrective\"),\"Oui\",\"Non\"))","v":""},null,null,null,null,null,{"$f":"IF(AND(U116<>\"\",ISBLANK(X116),U116<TODAY()),\"Oui\",\"Non\")","v":"Non"},{"$f":"IF(AND(S116=\"Oui\",ISBLANK(X116)),\"Oui\",\"Non\")","v":"Non"},null,null,null,null,{"$f":"IF(K116=\"\",\"\",K116-TODAY())","v":""},{"$f":"IF(ISBLANK(F116),CONCATENATE(E116,\" - \",AG116),CONCATENATE(F116,\" - \",AG116))","v":" - "},{"$f":"IF(ISBLANK(B116),\"\",YEAR(C116))","v":""},{"$f":"CONCATENATE(H116,\"-\",AG116)","v":"-"},{"$f":"CONCATENATE(M116,\"-\",AH116)","v":"--"}]
[{"$f":"IF(ISBLANK(B117),\"\",$C$2)","v":""},null,null,{"$f":"IF(ISBLANK(B117),\"\",COUNTA(#REF!))","v":""},null,null,null,null,null,null,null,null,null,null,{"$f":"IF(AND(K117<>\"\",ISBLANK(N117),K117<TODAY()),\"Oui\",\"Non\")","v":"Non"},{"$f":"IF(ISBLANK(I117),\"\",IF(K117=\"\",\"délai à préciser\",IF(M117=\"\",\"statut à préciser\",IF(M117=\"finalisée\",IF(N117=\"\",\"date de solde à préciser\",IF(K117>=N117,\"fait\",\"retard\")),(IF(K117<TODAY(),\"retard\",\"Ok\"))))))","v":""},{"$f":"IF(AND(N117<>\"\",ISBLANK(N117),K117<TODAY()),\"Oui\",\"Non\")","v":"Non"},null,{"$f":"IF(ISBLANK(H117),\"\",IF(OR(H117=\"Préventive\",H117=\"Corrective\"),\"Oui\",\"Non\"))","v":""},null,null,null,null,null,{"$f":"IF(AND(U117<>\"\",ISBLANK(X117),U117<TODAY()),\"Oui\",\"Non\")","v":"Non"},{"$f":"IF(AND(S117=\"Oui\",ISBLANK(X117)),\"Oui\",\"Non\")","v":"Non"},null,null,null,null,{"$f":"IF(K117=\"\",\"\",K117-TODAY())","v":""},{"$f":"IF(ISBLANK(F117),CONCATENATE(E117,\" - \",AG117),CONCATENATE(F117,\" - \",AG117))","v":" - "},{"$f":"IF(ISBLANK(B117),\"\",YEAR(C117))","v":""},{"$f":"CONCATENATE(H117,\"-\",AG117)","v":"-"},{"$f":"CONCATENATE(M117,\"-\",AH117)","v":"--"}]
[{"$f":"IF(ISBLANK(B118),\"\",$C$2)","v":""},null,null,{"$f":"IF(ISBLANK(B118),\"\",COUNTA(#REF!))","v":""},null,null,null,null,null,null,null,null,null,null,{"$f":"IF(AND(K118<>\"\",ISBLANK(N118),K118<TODAY()),\"Oui\",\"Non\")","v":"Non"},{"$f":"IF(ISBLANK(I118),\"\",IF(K118=\"\",\"délai à préciser\",IF(M118=\"\",\"statut à préciser\",IF(M118=\"finalisée\",IF(N118=\"\",\"date de solde à préciser\",IF(K118>=N118,\"fait\",\"retard\")),(IF(K118<TODAY(),\"retard\",\"Ok\"))))))","v":""},{"$f":"IF(AND(N118<>\"\",ISBLANK(N118),K118<TODAY()),\"Oui\",\"Non\")","v":"Non"},null,{"$f":"IF(ISBLANK(H118),\"\",IF(OR(H118=\"Préventive\",H118=\"Corrective\"),\"Oui\",\"Non\"))","v":""},null,null,null,null,null,{"$f":"IF(AND(U118<>\"\",ISBLANK(X118),U118<TODAY()),\"Oui\",\"Non\")","v":"Non"},{"$f":"IF(AND(S118=\"Oui\",ISBLANK(X118)),\"Oui\",\"Non\")","v":"Non"},null,null,null,null,{"$f":"IF(K118=\"\",\"\",K118-TODAY())","v":""},{"$f":"IF(ISBLANK(F118),CONCATENATE(E118,\" - \",AG118),CONCATENATE(F118,\" - \",AG118))","v":" - "},{"$f":"IF(ISBLANK(B118),\"\",YEAR(C118))","v":""},{"$f":"CONCATENATE(H118,\"-\",AG118)","v":"-"},{"$f":"CONCATENATE(M118,\"-\",AH118)","v":"--"}]
[{"$f":"IF(ISBLANK(B119),\"\",$C$2)","v":""},null,null,{"$f":"IF(ISBLANK(B119),\"\",COUNTA(#REF!))","v":""},null,null,null,null,null,null,null,null,null,null,{"$f":"IF(AND(K119<>\"\",ISBLANK(N119),K119<TODAY()),\"Oui\",\"Non\")","v":"Non"},{"$f":"IF(ISBLANK(I119),\"\",IF(K119=\"\",\"délai à préciser\",IF(M119=\"\",\"statut à préciser\",IF(M119=\"finalisée\",IF(N119=\"\",\"date de solde à préciser\",IF(K119>=N119,\"fait\",\"retard\")),(IF(K119<TODAY(),\"retard\",\"Ok\"))))))","v":""},{"$f":"IF(AND(N119<>\"\",ISBLANK(N119),K119<TODAY()),\"Oui\",\"Non\")","v":"Non"},null,{"$f":"IF(ISBLANK(H119),\"\",IF(OR(H119=\"Préventive\",H119=\"Corrective\"),\"Oui\",\"Non\"))","v":""},null,null,null,null,null,{"$f":"IF(AND(U119<>\"\",ISBLANK(X119),U119<TODAY()),\"Oui\",\"Non\")","v":"Non"},{"$f":"IF(AND(S119=\"Oui\",ISBLANK(X119)),\"Oui\",\"Non\")","v":"Non"},null,null,null,null,{"$f":"IF(K119=\"\",\"\",K119-TODAY())","v":""},{"$f":"IF(ISBLANK(F119),CONCATENATE(E119,\" - \",AG119),CONCATENATE(F119,\" - \",AG119))","v":" - "},{"$f":"IF(ISBLANK(B119),\"\",YEAR(C119))","v":""},{"$f":"CONCATENATE(H119,\"-\",AG119)","v":"-"},{"$f":"CONCATENATE(M119,\"-\",AH119)","v":"--"}]
[{"$f":"IF(ISBLANK(B120),\"\",$C$2)","v":""},null,null,{"$f":"IF(ISBLANK(B120),\"\",COUNTA(#REF!))","v":""},null,null,null,null,null,null,null,null,null,null,{"$f":"IF(AND(K120<>\"\",ISBLANK(N120),K120<TODAY()),\"Oui\",\"Non\")","v":"Non"},{"$f":"IF(ISBLANK(I120),\"\",IF(K120=\"\",\"délai à préciser\",IF(M120=\"\",\"statut à préciser\",IF(M120=\"finalisée\",IF(N120=\"\",\"date de solde à préciser\",IF(K120>=N120,\"fait\",\"retard\")),(IF(K120<TODAY(),\"retard\",\"Ok\"))))))","v":""},{"$f":"IF(AND(N120<>\"\",ISBLANK(N120),K120<TODAY()),\"Oui\",\"Non\")","v":"Non"},null,{"$f":"IF(ISBLANK(H120),\"\",IF(OR(H120=\"Préventive\",H120=\"Corrective\"),\"Oui\",\"Non\"))","v":""},null,null,null,null,null,{"$f":"IF(AND(U120<>\"\",ISBLANK(X120),U120<TODAY()),\"Oui\",\"Non\")","v":"Non"},{"$f":"IF(AND(S120=\"Oui\",ISBLANK(X120)),\"Oui\",\"Non\")","v":"Non"},null,null,null,null,{"$f":"IF(K120=\"\",\"\",K120-TODAY())","v":""},{"$f":"IF(ISBLANK(F120),CONCATENATE(E120,\" - \",AG120),CONCATENATE(F120,\" - \",AG120))","v":" - "},{"$f":"IF(ISBLANK(B120),\"\",YEAR(C120))","v":""},{"$f":"CONCATENATE(H120,\"-\",AG120)","v":"-"},{"$f":"CONCATENATE(M120,\"-\",AH120)","v":"--"}]
[{"$f":"IF(ISBLANK(B121),\"\",$C$2)","v":""},null,null,{"$f":"IF(ISBLANK(B121),\"\",COUNTA(#REF!))","v":""},null,null,null,null,null,null,null,null,null,null,{"$f":"IF(AND(K121<>\"\",ISBLANK(N121),K121<TODAY()),\"Oui\",\"Non\")","v":"Non"},{"$f":"IF(ISBLANK(I121),\"\",IF(K121=\"\",\"délai à préciser\",IF(M121=\"\",\"statut à préciser\",IF(M121=\"finalisée\",IF(N121=\"\",\"date de solde à préciser\",IF(K121>=N121,\"fait\",\"retard\")),(IF(K121<TODAY(),\"retard\",\"Ok\"))))))","v":""},{"$f":"IF(AND(N121<>\"\",ISBLANK(N121),K121<TODAY()),\"Oui\",\"Non\")","v":"Non"},null,{"$f":"IF(ISBLANK(H121),\"\",IF(OR(H121=\"Préventive\",H121=\"Corrective\"),\"Oui\",\"Non\"))","v":""},null,null,null,null,null,{"$f":"IF(AND(U121<>\"\",ISBLANK(X121),U121<TODAY()),\"Oui\",\"Non\")","v":"Non"},{"$f":"IF(AND(S121=\"Oui\",ISBLANK(X121)),\"Oui\",\"Non\")","v":"Non"},null,null,null,null,{"$f":"IF(K121=\"\",\"\",K121-TODAY())","v":""},{"$f":"IF(ISBLANK(F121),CONCATENATE(E121,\" - \",AG121),CONCATENATE(F121,\" - \",AG121))","v":" - "},{"$f":"IF(ISBLANK(B121),\"\",YEAR(C121))","v":""},{"$f":"CONCATENATE(H121,\"-\",AG121)","v":"-"},{"$f":"CONCATENATE(M121,\"-\",AH121)","v":"--"}]
[{"$f":"IF(ISBLANK(B122),\"\",$C$2)","v":""},null,null,{"$f":"IF(ISBLANK(B122),\"\",COUNTA(#REF!))","v":""},null,null,null,null,null,null,null,null,null,null,{"$f":"IF(AND(K122<>\"\",ISBLANK(N122),K122<TODAY()),\"Oui\",\"Non\")","v":"Non"},{"$f":"IF(ISBLANK(I122),\"\",IF(K122=\"\",\"délai à préciser\",IF(M122=\"\",\"statut à préciser\",IF(M122=\"finalisée\",IF(N122=\"\",\"date de solde à préciser\",IF(K122>=N122,\"fait\",\"retard\")),(IF(K122<TODAY(),\"retard\",\"Ok\"))))))","v":""},{"$f":"IF(AND(N122<>\"\",ISBLANK(N122),K122<TODAY()),\"Oui\",\"Non\")","v":"Non"},null,{"$f":"IF(ISBLANK(H122),\"\",IF(OR(H122=\"Préventive\",H122=\"Corrective\"),\"Oui\",\"Non\"))","v":""},null,null,null,null,null,{"$f":"IF(AND(U122<>\"\",ISBLANK(X122),U122<TODAY()),\"Oui\",\"Non\")","v":"Non"},{"$f":"IF(AND(S122=\"Oui\",ISBLANK(X122)),\"Oui\",\"Non\")","v":"Non"},null,null,null,null,{"$f":"IF(K122=\"\",\"\",K122-TODAY())","v":""},{"$f":"IF(ISBLANK(F122),CONCATENATE(E122,\" - \",AG122),CONCATENATE(F122,\" - \",AG122))","v":" - "},{"$f":"IF(ISBLANK(B122),\"\",YEAR(C122))","v":""},{"$f":"CONCATENATE(H122,\"-\",AG122)","v":"-"},{"$f":"CONCATENATE(M122,\"-\",AH122)","v":"--"}]
[{"$f":"IF(ISBLANK(B123),\"\",$C$2)","v":""},null,null,{"$f":"IF(ISBLANK(B123),\"\",COUNTA(#REF!))","v":""},null,null,null,null,null,null,null,null,null,null,{"$f":"IF(AND(K123<>\"\",ISBLANK(N123),K123<TODAY()),\"Oui\",\"Non\")","v":"Non"},{"$f":"IF(ISBLANK(I123),\"\",IF(K123=\"\",\"délai à préciser\",IF(M123=\"\",\"statut à préciser\",IF(M123=\"finalisée\",IF(N123=\"\",\"date de solde à préciser\",IF(K123>=N123,\"fait\",\"retard\")),(IF(K123<TODAY(),\"retard\",\"Ok\"))))))","v":""},{"$f":"IF(AND(N123<>\"\",ISBLANK(N123),K123<TODAY()),\"Oui\",\"Non\")","v":"Non"},null,{"$f":"IF(ISBLANK(H123),\"\",IF(OR(H123=\"Préventive\",H123=\"Corrective\"),\"Oui\",\"Non\"))","v":""},null,null,null,null,null,{"$f":"IF(AND(U123<>\"\",ISBLANK(X123),U123<TODAY()),\"Oui\",\"Non\")","v":"Non"},{"$f":"IF(AND(S123=\"Oui\",ISBLANK(X123)),\"Oui\",\"Non\")","v":"Non"},null,null,null,null,{"$f":"IF(K123=\"\",\"\",K123-TODAY())","v":""},{"$f":"IF(ISBLANK(F123),CONCATENATE(E123,\" - \",AG123),CONCATENATE(F123,\" - \",AG123))","v":" - "},{"$f":"IF(ISBLANK(B123),\"\",YEAR(C123))","v":""},{"$f":"CONCATENATE(H123,\"-\",AG123)","v":"-"},{"$f":"CONCATENATE(M123,\"-\",AH123)","v":"--"}]
[{"$f":"IF(ISBLANK(B124),\"\",$C$2)","v":""},null,null,{"$f":"IF(ISBLANK(B124),\"\",COUNTA(#REF!))","v":""},null,null,null,null,null,null,null,null,null,null,{"$f":"IF(AND(K124<>\"\",ISBLANK(N124),K124<TODAY()),\"Oui\",\"Non\")","v":"Non"},{"$f":"IF(ISBLANK(I124),\"\",IF(K124=\"\",\"délai à préciser\",IF(M124=\"\",\"statut à préciser\",IF(M124=\"finalisée\",IF(N124=\"\",\"date de solde à préciser\",IF(K124>=N124,\"fait\",\"retard\")),(IF(K124<TODAY(),\"retard\",\"Ok\"))))))","v":""},{"$f":"IF(AND(N124<>\"\",ISBLANK(N124),K124<TODAY()),\"Oui\",\"Non\")","v":"Non"},null,{"$f":"IF(ISBLANK(H124),\"\",IF(OR(H124=\"Préventive\",H124=\"Corrective\"),\"Oui\",\"Non\"))","v":""},null,null,null,null,null,{"$f":"IF(AND(U124<>\"\",ISBLANK(X124),U124<TODAY()),\"Oui\",\"Non\")","v":"Non"},{"$f":"IF(AND(S124=\"Oui\",ISBLANK(X124)),\"Oui\",\"Non\")","v":"Non"},null,null,null,null,{"$f":"IF(K124=\"\",\"\",K124-TODAY())","v":""},{"$f":"IF(ISBLANK(F124),CONCATENATE(E124,\" - \",AG124),CONCATENATE(F124,\" - \",AG124))","v":" - "},{"$f":"IF(ISBLANK(B124),\"\",YEAR(C124))","v":""},{"$f":"CONCATENATE(H124,\"-\",AG124)","v":"-"},{"$f":"CONCATENATE(M124,\"-\",AH124)","v":"--"}]
[{"$f":"IF(ISBLANK(B125),\"\",$C$2)","v":""},null,null,{"$f":"IF(ISBLANK(B125),\"\",COUNTA(#REF!))","v":""},null,null,null,null,null,null,null,null,null,null,{"$f":"IF(AND(K125<>\"\",ISBLANK(N125),K125<TODAY()),\"Oui\",\"Non\")","v":"Non"},{"$f":"IF(ISBLANK(I125),\"\",IF(K125=\"\",\"délai à préciser\",IF(M125=\"\",\"statut à préciser\",IF(M125=\"finalisée\",IF(N125=\"\",\"date de solde à préciser\",IF(K125>=N125,\"fait\",\"retard\")),(IF(K125<TODAY(),\"retard\",\"Ok\"))))))","v":""},{"$f":"IF(AND(N125<>\"\",ISBLANK(N125),K125<TODAY()),\"Oui\",\"Non\")","v":"Non"},null,{"$f":"IF(ISBLANK(H125),\"\",IF(OR(H125=\"Préventive\",H125=\"Corrective\"),\"Oui\",\"Non\"))","v":""},null,null,null,null,null,{"$f":"IF(AND(U125<>\"\",ISBLANK(X125),U125<TODAY()),\"Oui\",\"Non\")","v":"Non"},{"$f":"IF(AND(S125=\"Oui\",ISBLANK(X125)),\"Oui\",\"Non\")","v":"Non"},null,null,null,null,{"$f":"IF(K125=\"\",\"\",K125-TODAY())","v":""},{"$f":"IF(ISBLANK(F125),CONCATENATE(E125,\" - \",AG125),CONCATENATE(F125,\" - \",AG125))","v":" - "},{"$f":"IF(ISBLANK(B125),\"\",YEAR(C125))","v":""},{"$f":"CONCATENATE(H125,\"-\",AG125)","v":"-"},{"$f":"CONCATENATE(M125,\"-\",AH125)","v":"--"}]
[{"$f":"IF(ISBLANK(B126),\"\",$C$2)","v":""},null,null,{"$f":"IF(ISBLANK(B126),\"\",COUNTA(#REF!))","v":""},null,null,null,null,null,null,null,null,null,null,{"$f":"IF(AND(K126<>\"\",ISBLANK(N126),K126<TODAY()),\"Oui\",\"Non\")","v":"Non"},{"$f":"IF(ISBLANK(I126),\"\",IF(K126=\"\",\"délai à préciser\",IF(M126=\"\",\"statut à préciser\",IF(M126=\"finalisée\",IF(N126=\"\",\"date de solde à préciser\",IF(K126>=N126,\"fait\",\"retard\")),(IF(K126<TODAY(),\"retard\",\"Ok\"))))))","v":""},{"$f":"IF(AND(N126<>\"\",ISBLANK(N126),K126<TODAY()),\"Oui\",\"Non\")","v":"Non"},null,{"$f":"IF(ISBLANK(H126),\"\",IF(OR(H126=\"Préventive\",H126=\"Corrective\"),\"Oui\",\"Non\"))","v":""},null,null,null,null,null,{"$f":"IF(AND(U126<>\"\",ISBLANK(X126),U126<TODAY()),\"Oui\",\"Non\")","v":"Non"},{"$f":"IF(AND(S126=\"Oui\",ISBLANK(X126)),\"Oui\",\"Non\")","v":"Non"},null,null,null,null,{"$f":"IF(K126=\"\",\"\",K126-TODAY())","v":""},{"$f":"IF(ISBLANK(F126),CONCATENATE(E126,\" - \",AG126),CONCATENATE(F126,\" - \",AG126))","v":" - "},{"$f":"IF(ISBLANK(B126),\"\",YEAR(C126))","v":""},{"$f":"CONCATENATE(H126,\"-\",AG126)","v":"-"},{"$f":"CONCATENATE(M126,\"-\",AH126)","v":"--"}]
[{"$f":"IF(ISBLANK(B127),\"\",$C$2)","v":""},null,null,{"$f":"IF(ISBLANK(B127),\"\",COUNTA(#REF!))","v":""},null,null,null,null,null,null,null,null,null,null,{"$f":"IF(AND(K127<>\"\",ISBLANK(N127),K127<TODAY()),\"Oui\",\"Non\")","v":"Non"},{"$f":"IF(ISBLANK(I127),\"\",IF(K127=\"\",\"délai à préciser\",IF(M127=\"\",\"statut à préciser\",IF(M127=\"finalisée\",IF(N127=\"\",\"date de solde à préciser\",IF(K127>=N127,\"fait\",\"retard\")),(IF(K127<TODAY(),\"retard\",\"Ok\"))))))","v":""},{"$f":"IF(AND(N127<>\"\",ISBLANK(N127),K127<TODAY()),\"Oui\",\"Non\")","v":"Non"},null,{"$f":"IF(ISBLANK(H127),\"\",IF(OR(H127=\"Préventive\",H127=\"Corrective\"),\"Oui\",\"Non\"))","v":""},null,null,null,null,null,{"$f":"IF(AND(U127<>\"\",ISBLANK(X127),U127<TODAY()),\"Oui\",\"Non\")","v":"Non"},{"$f":"IF(AND(S127=\"Oui\",ISBLANK(X127)),\"Oui\",\"Non\")","v":"Non"},null,null,null,null,{"$f":"IF(K127=\"\",\"\",K127-TODAY())","v":""},{"$f":"IF(ISBLANK(F127),CONCATENATE(E127,\" - \",AG127),CONCATENATE(F127,\" - \",AG127))","v":" - "},{"$f":"IF(ISBLANK(B127),\"\",YEAR(C127))","v":""},{"$f":"CONCATENATE(H127,\"-\",AG127)","v":"-"},{"$f":"CONCATENATE(M127,\"-\",AH127)","v":"--"}]
[{"$f":"IF(ISBLANK(B128),\"\",$C$2)","v":""},null,null,{"$f":"IF(ISBLANK(B128),\"\",COUNTA(#REF!))","v":""},null,null,null,null,null,null,null,null,null,null,{"$f":"IF(AND(K128<>\"\",ISBLANK(N128),K128<TODAY()),\"Oui\",\"Non\")","v":"Non"},{"$f":"IF(ISBLANK(I128),\"\",IF(K128=\"\",\"délai à préciser\",IF(M128=\"\",\"statut à préciser\",IF(M128=\"finalisée\",IF(N128=\"\",\"date de solde à préciser\",IF(K128>=N128,\"fait\",\"retard\")),(IF(K128<TODAY(),\"retard\",\"Ok\"))))))","v":""},{"$f":"IF(AND(N128<>\"\",ISBLANK(N128),K128<TODAY()),\"Oui\",\"Non\")","v":"Non"},null,{"$f":"IF(ISBLANK(H128),\"\",IF(OR(H128=\"Préventive\",H128=\"Corrective\"),\"Oui\",\"Non\"))","v":""},null,null,null,null,null,{"$f":"IF(AND(U128<>\"\",ISBLANK(X128),U128<TODAY()),\"Oui\",\"Non\")","v":"Non"},{"$f":"IF(AND(S128=\"Oui\",ISBLANK(X128)),\"Oui\",\"Non\")","v":"Non"},null,null,null,null,{"$f":"IF(K128=\"\",\"\",K128-TODAY())","v":""},{"$f":"IF(ISBLANK(F128),CONCATENATE(E128,\" - \",AG128),CONCATENATE(F128,\" - \",AG128))","v":" - "},{"$f":"IF(ISBLANK(B128),\"\",YEAR(C128))","v":""},{"$f":"CONCATENATE(H128,\"-\",AG128)","v":"-"},{"$f":"CONCATENATE(M128,\"-\",AH128)","v":"--"}]
[{"$f":"IF(ISBLANK(B129),\"\",$C$2)","v":""},null,null,{"$f":"IF(ISBLANK(B129),\"\",COUNTA(#REF!))","v":""},null,null,null,null,null,null,null,null,null,null,{"$f":"IF(AND(K129<>\"\",ISBLANK(N129),K129<TODAY()),\"Oui\",\"Non\")","v":"Non"},{"$f":"IF(ISBLANK(I129),\"\",IF(K129=\"\",\"délai à préciser\",IF(M129=\"\",\"statut à préciser\",IF(M129=\"finalisée\",IF(N129=\"\",\"date de solde à préciser\",IF(K129>=N129,\"fait\",\"retard\")),(IF(K129<TODAY(),\"retard\",\"Ok\"))))))","v":""},{"$f":"IF(AND(N129<>\"\",ISBLANK(N129),K129<TODAY()),\"Oui\",\"Non\")","v":"Non"},null,{"$f":"IF(ISBLANK(H129),\"\",IF(OR(H129=\"Préventive\",H129=\"Corrective\"),\"Oui\",\"Non\"))","v":""},null,null,null,null,null,{"$f":"IF(AND(U129<>\"\",ISBLANK(X129),U129<TODAY()),\"Oui\",\"Non\")","v":"Non"},{"$f":"IF(AND(S129=\"Oui\",ISBLANK(X129)),\"Oui\",\"Non\")","v":"Non"},null,null,null,null,{"$f":"IF(K129=\"\",\"\",K129-TODAY())","v":""},{"$f":"IF(ISBLANK(F129),CONCATENATE(E129,\" - \",AG129),CONCATENATE(F129,\" - \",AG129))","v":" - "},{"$f":"IF(ISBLANK(B129),\"\",YEAR(C129))","v":""},{"$f":"CONCATENATE(H129,\"-\",AG129)","v":"-"},{"$f":"CONCATENATE(M129,\"-\",AH129)","v":"--"}]
[{"$f":"IF(ISBLANK(B130),\"\",$C$2)","v":""},null,null,{"$f":"IF(ISBLANK(B130),\"\",COUNTA(#REF!))","v":""},null,null,null,null,null,null,null,null,null,null,{"$f":"IF(AND(K130<>\"\",ISBLANK(N130),K130<TODAY()),\"Oui\",\"Non\")","v":"Non"},{"$f":"IF(ISBLANK(I130),\"\",IF(K130=\"\",\"délai à préciser\",IF(M130=\"\",\"statut à préciser\",IF(M130=\"finalisée\",IF(N130=\"\",\"date de solde à préciser\",IF(K130>=N130,\"fait\",\"retard\")),(IF(K130<TODAY(),\"retard\",\"Ok\"))))))","v":""},{"$f":"IF(AND(N130<>\"\",ISBLANK(N130),K130<TODAY()),\"Oui\",\"Non\")","v":"Non"},null,{"$f":"IF(ISBLANK(H130),\"\",IF(OR(H130=\"Préventive\",H130=\"Corrective\"),\"Oui\",\"Non\"))","v":""},null,null,null,null,null,{"$f":"IF(AND(U130<>\"\",ISBLANK(X130),U130<TODAY()),\"Oui\",\"Non\")","v":"Non"},{"$f":"IF(AND(S130=\"Oui\",ISBLANK(X130)),\"Oui\",\"Non\")","v":"Non"},null,null,null,null,{"$f":"IF(K130=\"\",\"\",K130-TODAY())","v":""},{"$f":"IF(ISBLANK(F130),CONCATENATE(E130,\" - \",AG130),CONCATENATE(F130,\" - \",AG130))","v":" - "},{"$f":"IF(ISBLANK(B130),\"\",YEAR(C130))","v":""},{"$f":"CONCATENATE(H130,\"-\",AG130)","v":"-"},{"$f":"CONCATENATE(M130,\"-\",AH130)","v":"--"}]
[{"$f":"IF(ISBLANK(B131),\"\",$C$2)","v":""},null,null,{"$f":"IF(ISBLANK(B131),\"\",COUNTA(#REF!))","v":""},null,null,null,null,null,null,null,null,null,null,{"$f":"IF(AND(K131<>\"\",ISBLANK(N131),K131<TODAY()),\"Oui\",\"Non\")","v":"Non"},{"$f":"IF(ISBLANK(I131),\"\",IF(K131=\"\",\"délai à préciser\",IF(M131=\"\",\"statut à préciser\",IF(M131=\"finalisée\",IF(N131=\"\",\"date de solde à préciser\",IF(K131>=N131,\"fait\",\"retard\")),(IF(K131<TODAY(),\"retard\",\"Ok\"))))))","v":""},{"$f":"IF(AND(N131<>\"\",ISBLANK(N131),K131<TODAY()),\"Oui\",\"Non\")","v":"Non"},null,{"$f":"IF(ISBLANK(H131),\"\",IF(OR(H131=\"Préventive\",H131=\"Corrective\"),\"Oui\",\"Non\"))","v":""},null,null,null,null,null,{"$f":"IF(AND(U131<>\"\",ISBLANK(X131),U131<TODAY()),\"Oui\",\"Non\")","v":"Non"},{"$f":"IF(AND(S131=\"Oui\",ISBLANK(X131)),\"Oui\",\"Non\")","v":"Non"},null,null,null,null,{"$f":"IF(K131=\"\",\"\",K131-TODAY())","v":""},{"$f":"IF(ISBLANK(F131),CONCATENATE(E131,\" - \",AG131),CONCATENATE(F131,\" - \",AG131))","v":" - "},{"$f":"IF(ISBLANK(B131),\"\",YEAR(C131))","v":""},{"$f":"CONCATENATE(H131,\"-\",AG131)","v":"-"},{"$f":"CONCATENATE(M131,\"-\",AH131)","v":"--"}]
[{"$f":"IF(ISBLANK(B132),\"\",$C$2)","v":""},null,null,{"$f":"IF(ISBLANK(B132),\"\",COUNTA(#REF!))","v":""},null,null,null,null,null,null,null,null,null,null,{"$f":"IF(AND(K132<>\"\",ISBLANK(N132),K132<TODAY()),\"Oui\",\"Non\")","v":"Non"},{"$f":"IF(ISBLANK(I132),\"\",IF(K132=\"\",\"délai à préciser\",IF(M132=\"\",\"statut à préciser\",IF(M132=\"finalisée\",IF(N132=\"\",\"date de solde à préciser\",IF(K132>=N132,\"fait\",\"retard\")),(IF(K132<TODAY(),\"retard\",\"Ok\"))))))","v":""},{"$f":"IF(AND(N132<>\"\",ISBLANK(N132),K132<TODAY()),\"Oui\",\"Non\")","v":"Non"},null,{"$f":"IF(ISBLANK(H132),\"\",IF(OR(H132=\"Préventive\",H132=\"Corrective\"),\"Oui\",\"Non\"))","v":""},null,null,null,null,null,{"$f":"IF(AND(U132<>\"\",ISBLANK(X132),U132<TODAY()),\"Oui\",\"Non\")","v":"Non"},{"$f":"IF(AND(S132=\"Oui\",ISBLANK(X132)),\"Oui\",\"Non\")","v":"Non"},null,null,null,null,{"$f":"IF(K132=\"\",\"\",K132-TODAY())","v":""},{"$f":"IF(ISBLANK(F132),CONCATENATE(E132,\" - \",AG132),CONCATENATE(F132,\" - \",AG132))","v":" - "},{"$f":"IF(ISBLANK(B132),\"\",YEAR(C132))","v":""},{"$f":"CONCATENATE(H132,\"-\",AG132)","v":"-"},{"$f":"CONCATENATE(M132,\"-\",AH132)","v":"--"}]
[{"$f":"IF(ISBLANK(B133),\"\",$C$2)","v":""},null,null,{"$f":"IF(ISBLANK(B133),\"\",COUNTA(#REF!))","v":""},null,null,null,null,null,null,null,null,null,null,{"$f":"IF(AND(K133<>\"\",ISBLANK(N133),K133<TODAY()),\"Oui\",\"Non\")","v":"Non"},{"$f":"IF(ISBLANK(I133),\"\",IF(K133=\"\",\"délai à préciser\",IF(M133=\"\",\"statut à préciser\",IF(M133=\"finalisée\",IF(N133=\"\",\"date de solde à préciser\",IF(K133>=N133,\"fait\",\"retard\")),(IF(K133<TODAY(),\"retard\",\"Ok\"))))))","v":""},{"$f":"IF(AND(N133<>\"\",ISBLANK(N133),K133<TODAY()),\"Oui\",\"Non\")","v":"Non"},null,{"$f":"IF(ISBLANK(H133),\"\",IF(OR(H133=\"Préventive\",H133=\"Corrective\"),\"Oui\",\"Non\"))","v":""},null,null,null,null,null,{"$f":"IF(AND(U133<>\"\",ISBLANK(X133),U133<TODAY()),\"Oui\",\"Non\")","v":"Non"},{"$f":"IF(AND(S133=\"Oui\",ISBLANK(X133)),\"Oui\",\"Non\")","v":"Non"},null,null,null,null,{"$f":"IF(K133=\"\",\"\",K133-TODAY())","v":""},{"$f":"IF(ISBLANK(F133),CONCATENATE(E133,\" - \",AG133),CONCATENATE(F133,\" - \",AG133))","v":" - "},{"$f":"IF(ISBLANK(B133),\"\",YEAR(C133))","v":""},{"$f":"CONCATENATE(H133,\"-\",AG133)","v":"-"},{"$f":"CONCATENATE(M133,\"-\",AH133)","v":"--"}]
[{"$f":"IF(ISBLANK(B134),\"\",$C$2)","v":""},null,null,{"$f":"IF(ISBLANK(B134),\"\",COUNTA(#REF!))","v":""},null,null,null,null,null,null,null,null,null,null,{"$f":"IF(AND(K134<>\"\",ISBLANK(N134),K134<TODAY()),\"Oui\",\"Non\")","v":"Non"},{"$f":"IF(ISBLANK(I134),\"\",IF(K134=\"\",\"délai à préciser\",IF(M134=\"\",\"statut à préciser\",IF(M134=\"finalisée\",IF(N134=\"\",\"date de solde à préciser\",IF(K134>=N134,\"fait\",\"retard\")),(IF(K134<TODAY(),\"retard\",\"Ok\"))))))","v":""},{"$f":"IF(AND(N134<>\"\",ISBLANK(N134),K134<TODAY()),\"Oui\",\"Non\")","v":"Non"},null,{"$f":"IF(ISBLANK(H134),\"\",IF(OR(H134=\"Préventive\",H134=\"Corrective\"),\"Oui\",\"Non\"))","v":""},null,null,null,null,null,{"$f":"IF(AND(U134<>\"\",ISBLANK(X134),U134<TODAY()),\"Oui\",\"Non\")","v":"Non"},{"$f":"IF(AND(S134=\"Oui\",ISBLANK(X134)),\"Oui\",\"Non\")","v":"Non"},null,null,null,null,{"$f":"IF(K134=\"\",\"\",K134-TODAY())","v":""},{"$f":"IF(ISBLANK(F134),CONCATENATE(E134,\" - \",AG134),CONCATENATE(F134,\" - \",AG134))","v":" - "},{"$f":"IF(ISBLANK(B134),\"\",YEAR(C134))","v":""},{"$f":"CONCATENATE(H134,\"-\",AG134)","v":"-"},{"$f":"CONCATENATE(M134,\"-\",AH134)","v":"--"}]
[{"$f":"IF(ISBLANK(B135),\"\",$C$2)","v":""},null,null,{"$f":"IF(ISBLANK(B135),\"\",COUNTA(#REF!))","v":""},null,null,null,null,null,null,null,null,null,null,{"$f":"IF(AND(K135<>\"\",ISBLANK(N135),K135<TODAY()),\"Oui\",\"Non\")","v":"Non"},{"$f":"IF(ISBLANK(I135),\"\",IF(K135=\"\",\"délai à préciser\",IF(M135=\"\",\"statut à préciser\",IF(M135=\"finalisée\",IF(N135=\"\",\"date de solde à préciser\",IF(K135>=N135,\"fait\",\"retard\")),(IF(K135<TODAY(),\"retard\",\"Ok\"))))))","v":""},{"$f":"IF(AND(N135<>\"\",ISBLANK(N135),K135<TODAY()),\"Oui\",\"Non\")","v":"Non"},null,{"$f":"IF(ISBLANK(H135),\"\",IF(OR(H135=\"Préventive\",H135=\"Corrective\"),\"Oui\",\"Non\"))","v":""},null,null,null,null,null,{"$f":"IF(AND(U135<>\"\",ISBLANK(X135),U135<TODAY()),\"Oui\",\"Non\")","v":"Non"},{"$f":"IF(AND(S135=\"Oui\",ISBLANK(X135)),\"Oui\",\"Non\")","v":"Non"},null,null,null,null,{"$f":"IF(K135=\"\",\"\",K135-TODAY())","v":""},{"$f":"IF(ISBLANK(F135),CONCATENATE(E135,\" - \",AG135),CONCATENATE(F135,\" - \",AG135))","v":" - "},{"$f":"IF(ISBLANK(B135),\"\",YEAR(C135))","v":""},{"$f":"CONCATENATE(H135,\"-\",AG135)","v":"-"},{"$f":"CONCATENATE(M135,\"-\",AH135)","v":"--"}]
[{"$f":"IF(ISBLANK(B136),\"\",$C$2)","v":""},null,null,{"$f":"IF(ISBLANK(B136),\"\",COUNTA(#REF!))","v":""},null,null,null,null,null,null,null,null,null,null,{"$f":"IF(AND(K136<>\"\",ISBLANK(N136),K136<TODAY()),\"Oui\",\"Non\")","v":"Non"},{"$f":"IF(ISBLANK(I136),\"\",IF(K136=\"\",\"délai à préciser\",IF(M136=\"\",\"statut à préciser\",IF(M136=\"finalisée\",IF(N136=\"\",\"date de solde à préciser\",IF(K136>=N136,\"fait\",\"retard\")),(IF(K136<TODAY(),\"retard\",\"Ok\"))))))","v":""},{"$f":"IF(AND(N136<>\"\",ISBLANK(N136),K136<TODAY()),\"Oui\",\"Non\")","v":"Non"},null,{"$f":"IF(ISBLANK(H136),\"\",IF(OR(H136=\"Préventive\",H136=\"Corrective\"),\"Oui\",\"Non\"))","v":""},null,null,null,null,null,{"$f":"IF(AND(U136<>\"\",ISBLANK(X136),U136<TODAY()),\"Oui\",\"Non\")","v":"Non"},{"$f":"IF(AND(S136=\"Oui\",ISBLANK(X136)),\"Oui\",\"Non\")","v":"Non"},null,null,null,null,{"$f":"IF(K136=\"\",\"\",K136-TODAY())","v":""},{"$f":"IF(ISBLANK(F136),CONCATENATE(E136,\" - \",AG136),CONCATENATE(F136,\" - \",AG136))","v":" - "},{"$f":"IF(ISBLANK(B136),\"\",YEAR(C136))","v":""},{"$f":"CONCATENATE(H136,\"-\",AG136)","v":"-"},{"$f":"CONCATENATE(M136,\"-\",AH136)","v":"--"}]
[{"$f":"IF(ISBLANK(B137),\"\",$C$2)","v":""},null,null,{"$f":"IF(ISBLANK(B137),\"\",COUNTA(#REF!))","v":""},null,null,null,null,null,null,null,null,null,null,{"$f":"IF(AND(K137<>\"\",ISBLANK(N137),K137<TODAY()),\"Oui\",\"Non\")","v":"Non"},{"$f":"IF(ISBLANK(I137),\"\",IF(K137=\"\",\"délai à préciser\",IF(M137=\"\",\"statut à préciser\",IF(M137=\"finalisée\",IF(N137=\"\",\"date de solde à préciser\",IF(K137>=N137,\"fait\",\"retard\")),(IF(K137<TODAY(),\"retard\",\"Ok\"))))))","v":""},{"$f":"IF(AND(N137<>\"\",ISBLANK(N137),K137<TODAY()),\"Oui\",\"Non\")","v":"Non"},null,{"$f":"IF(ISBLANK(H137),\"\",IF(OR(H137=\"Préventive\",H137=\"Corrective\"),\"Oui\",\"Non\"))","v":""},null,null,null,null,null,{"$f":"IF(AND(U137<>\"\",ISBLANK(X137),U137<TODAY()),\"Oui\",\"Non\")","v":"Non"},{"$f":"IF(AND(S137=\"Oui\",ISBLANK(X137)),\"Oui\",\"Non\")","v":"Non"},null,null,null,null,{"$f":"IF(K137=\"\",\"\",K137-TODAY())","v":""},{"$f":"IF(ISBLANK(F137),CONCATENATE(E137,\" - \",AG137),CONCATENATE(F137,\" - \",AG137))","v":" - "},{"$f":"IF(ISBLANK(B137),\"\",YEAR(C137))","v":""},{"$f":"CONCATENATE(H137,\"-\",AG137)","v":"-"},{"$f":"CONCATENATE(M137,\"-\",AH137)","v":"--"}]
[{"$f":"IF(ISBLANK(B138),\"\",$C$2)","v":""},null,null,{"$f":"IF(ISBLANK(B138),\"\",COUNTA(#REF!))","v":""},null,null,null,null,null,null,null,null,null,null,{"$f":"IF(AND(K138<>\"\",ISBLANK(N138),K138<TODAY()),\"Oui\",\"Non\")","v":"Non"},{"$f":"IF(ISBLANK(I138),\"\",IF(K138=\"\",\"délai à préciser\",IF(M138=\"\",\"statut à préciser\",IF(M138=\"finalisée\",IF(N138=\"\",\"date de solde à préciser\",IF(K138>=N138,\"fait\",\"retard\")),(IF(K138<TODAY(),\"retard\",\"Ok\"))))))","v":""},{"$f":"IF(AND(N138<>\"\",ISBLANK(N138),K138<TODAY()),\"Oui\",\"Non\")","v":"Non"},null,{"$f":"IF(ISBLANK(H138),\"\",IF(OR(H138=\"Préventive\",H138=\"Corrective\"),\"Oui\",\"Non\"))","v":""},null,null,null,null,null,{"$f":"IF(AND(U138<>\"\",ISBLANK(X138),U138<TODAY()),\"Oui\",\"Non\")","v":"Non"},{"$f":"IF(AND(S138=\"Oui\",ISBLANK(X138)),\"Oui\",\"Non\")","v":"Non"},null,null,null,null,{"$f":"IF(K138=\"\",\"\",K138-TODAY())","v":""},{"$f":"IF(ISBLANK(F138),CONCATENATE(E138,\" - \",AG138),CONCATENATE(F138,\" - \",AG138))","v":" - "},{"$f":"IF(ISBLANK(B138),\"\",YEAR(C138))","v":""},{"$f":"CONCATENATE(H138,\"-\",AG138)","v":"-"},{"$f":"CONCATENATE(M138,\"-\",AH138)","v":"--"}]
[{"$f":"IF(ISBLANK(B139),\"\",$C$2)","v":""},null,null,{"$f":"IF(ISBLANK(B139),\"\",COUNTA(#REF!))","v":""},null,null,null,null,null,null,null,null,null,null,{"$f":"IF(AND(K139<>\"\",ISBLANK(N139),K139<TODAY()),\"Oui\",\"Non\")","v":"Non"},{"$f":"IF(ISBLANK(I139),\"\",IF(K139=\"\",\"délai à préciser\",IF(M139=\"\",\"statut à préciser\",IF(M139=\"finalisée\",IF(N139=\"\",\"date de solde à préciser\",IF(K139>=N139,\"fait\",\"retard\")),(IF(K139<TODAY(),\"retard\",\"Ok\"))))))","v":""},{"$f":"IF(AND(N139<>\"\",ISBLANK(N139),K139<TODAY()),\"Oui\",\"Non\")","v":"Non"},null,{"$f":"IF(ISBLANK(H139),\"\",IF(OR(H139=\"Préventive\",H139=\"Corrective\"),\"Oui\",\"Non\"))","v":""},null,null,null,null,null,{"$f":"IF(AND(U139<>\"\",ISBLANK(X139),U139<TODAY()),\"Oui\",\"Non\")","v":"Non"},{"$f":"IF(AND(S139=\"Oui\",ISBLANK(X139)),\"Oui\",\"Non\")","v":"Non"},null,null,null,null,{"$f":"IF(K139=\"\",\"\",K139-TODAY())","v":""},{"$f":"IF(ISBLANK(F139),CONCATENATE(E139,\" - \",AG139),CONCATENATE(F139,\" - \",AG139))","v":" - "},{"$f":"IF(ISBLANK(B139),\"\",YEAR(C139))","v":""},{"$f":"CONCATENATE(H139,\"-\",AG139)","v":"-"},{"$f":"CONCATENATE(M139,\"-\",AH139)","v":"--"}]
[{"$f":"IF(ISBLANK(B140),\"\",$C$2)","v":""},null,null,{"$f":"IF(ISBLANK(B140),\"\",COUNTA(#REF!))","v":""},null,null,null,null,null,null,null,null,null,null,{"$f":"IF(AND(K140<>\"\",ISBLANK(N140),K140<TODAY()),\"Oui\",\"Non\")","v":"Non"},{"$f":"IF(ISBLANK(I140),\"\",IF(K140=\"\",\"délai à préciser\",IF(M140=\"\",\"statut à préciser\",IF(M140=\"finalisée\",IF(N140=\"\",\"date de solde à préciser\",IF(K140>=N140,\"fait\",\"retard\")),(IF(K140<TODAY(),\"retard\",\"Ok\"))))))","v":""},{"$f":"IF(AND(N140<>\"\",ISBLANK(N140),K140<TODAY()),\"Oui\",\"Non\")","v":"Non"},null,{"$f":"IF(ISBLANK(H140),\"\",IF(OR(H140=\"Préventive\",H140=\"Corrective\"),\"Oui\",\"Non\"))","v":""},null,null,null,null,null,{"$f":"IF(AND(U140<>\"\",ISBLANK(X140),U140<TODAY()),\"Oui\",\"Non\")","v":"Non"},{"$f":"IF(AND(S140=\"Oui\",ISBLANK(X140)),\"Oui\",\"Non\")","v":"Non"},null,null,null,null,{"$f":"IF(K140=\"\",\"\",K140-TODAY())","v":""},{"$f":"IF(ISBLANK(F140),CONCATENATE(E140,\" - \",AG140),CONCATENATE(F140,\" - \",AG140))","v":" - "},{"$f":"IF(ISBLANK(B140),\"\",YEAR(C140))","v":""},{"$f":"CONCATENATE(H140,\"-\",AG140)","v":"-"},{"$f":"CONCATENATE(M140,\"-\",AH140)","v":"--"}]
[{"$f":"IF(ISBLANK(B141),\"\",$C$2)","v":""},null,null,{"$f":"IF(ISBLANK(B141),\"\",COUNTA(#REF!))","v":""},null,null,null,null,null,null,null,null,null,null,{"$f":"IF(AND(K141<>\"\",ISBLANK(N141),K141<TODAY()),\"Oui\",\"Non\")","v":"Non"},{"$f":"IF(ISBLANK(I141),\"\",IF(K141=\"\",\"délai à préciser\",IF(M141=\"\",\"statut à préciser\",IF(M141=\"finalisée\",IF(N141=\"\",\"date de solde à préciser\",IF(K141>=N141,\"fait\",\"retard\")),(IF(K141<TODAY(),\"retard\",\"Ok\"))))))","v":""},{"$f":"IF(AND(N141<>\"\",ISBLANK(N141),K141<TODAY()),\"Oui\",\"Non\")","v":"Non"},null,{"$f":"IF(ISBLANK(H141),\"\",IF(OR(H141=\"Préventive\",H141=\"Corrective\"),\"Oui\",\"Non\"))","v":""},null,null,null,null,null,{"$f":"IF(AND(U141<>\"\",ISBLANK(X141),U141<TODAY()),\"Oui\",\"Non\")","v":"Non"},{"$f":"IF(AND(S141=\"Oui\",ISBLANK(X141)),\"Oui\",\"Non\")","v":"Non"},null,null,null,null,{"$f":"IF(K141=\"\",\"\",K141-TODAY())","v":""},{"$f":"IF(ISBLANK(F141),CONCATENATE(E141,\" - \",AG141),CONCATENATE(F141,\" - \",AG141))","v":" - "},{"$f":"IF(ISBLANK(B141),\"\",YEAR(C141))","v":""},{"$f":"CONCATENATE(H141,\"-\",AG141)","v":"-"},{"$f":"CONCATENATE(M141,\"-\",AH141)","v":"--"}]
[{"$f":"IF(ISBLANK(B142),\"\",$C$2)","v":""},null,null,{"$f":"IF(ISBLANK(B142),\"\",COUNTA(#REF!))","v":""},null,null,null,null,null,null,null,null,null,null,{"$f":"IF(AND(K142<>\"\",ISBLANK(N142),K142<TODAY()),\"Oui\",\"Non\")","v":"Non"},{"$f":"IF(ISBLANK(I142),\"\",IF(K142=\"\",\"délai à préciser\",IF(M142=\"\",\"statut à préciser\",IF(M142=\"finalisée\",IF(N142=\"\",\"date de solde à préciser\",IF(K142>=N142,\"fait\",\"retard\")),(IF(K142<TODAY(),\"retard\",\"Ok\"))))))","v":""},{"$f":"IF(AND(N142<>\"\",ISBLANK(N142),K142<TODAY()),\"Oui\",\"Non\")","v":"Non"},null,{"$f":"IF(ISBLANK(H142),\"\",IF(OR(H142=\"Préventive\",H142=\"Corrective\"),\"Oui\",\"Non\"))","v":""},null,null,null,null,null,{"$f":"IF(AND(U142<>\"\",ISBLANK(X142),U142<TODAY()),\"Oui\",\"Non\")","v":"Non"},{"$f":"IF(AND(S142=\"Oui\",ISBLANK(X142)),\"Oui\",\"Non\")","v":"Non"},null,null,null,null,{"$f":"IF(K142=\"\",\"\",K142-TODAY())","v":""},{"$f":"IF(ISBLANK(F142),CONCATENATE(E142,\" - \",AG142),CONCATENATE(F142,\" - \",AG142))","v":" - "},{"$f":"IF(ISBLANK(B142),\"\",YEAR(C142))","v":""},{"$f":"CONCATENATE(H142,\"-\",AG142)","v":"-"},{"$f":"CONCATENATE(M142,\"-\",AH142)","v":"--"}]
[{"$f":"IF(ISBLANK(B143),\"\",$C$2)","v":""},null,null,{"$f":"IF(ISBLANK(B143),\"\",COUNTA(#REF!))","v":""},null,null,null,null,null,null,null,null,null,null,{"$f":"IF(AND(K143<>\"\",ISBLANK(N143),K143<TODAY()),\"Oui\",\"Non\")","v":"Non"},{"$f":"IF(ISBLANK(I143),\"\",IF(K143=\"\",\"délai à préciser\",IF(M143=\"\",\"statut à préciser\",IF(M143=\"finalisée\",IF(N143=\"\",\"date de solde à préciser\",IF(K143>=N143,\"fait\",\"retard\")),(IF(K143<TODAY(),\"retard\",\"Ok\"))))))","v":""},{"$f":"IF(AND(N143<>\"\",ISBLANK(N143),K143<TODAY()),\"Oui\",\"Non\")","v":"Non"},null,{"$f":"IF(ISBLANK(H143),\"\",IF(OR(H143=\"Préventive\",H143=\"Corrective\"),\"Oui\",\"Non\"))","v":""},null,null,null,null,null,{"$f":"IF(AND(U143<>\"\",ISBLANK(X143),U143<TODAY()),\"Oui\",\"Non\")","v":"Non"},{"$f":"IF(AND(S143=\"Oui\",ISBLANK(X143)),\"Oui\",\"Non\")","v":"Non"},null,null,null,null,{"$f":"IF(K143=\"\",\"\",K143-TODAY())","v":""},{"$f":"IF(ISBLANK(F143),CONCATENATE(E143,\" - \",AG143),CONCATENATE(F143,\" - \",AG143))","v":" - "},{"$f":"IF(ISBLANK(B143),\"\",YEAR(C143))","v":""},{"$f":"CONCATENATE(H143,\"-\",AG143)","v":"-"},{"$f":"CONCATENATE(M143,\"-\",AH143)","v":"--"}]
[{"$f":"IF(ISBLANK(B144),\"\",$C$2)","v":""},null,null,{"$f":"IF(ISBLANK(B144),\"\",COUNTA(#REF!))","v":""},null,null,null,null,null,null,null,null,null,null,{"$f":"IF(AND(K144<>\"\",ISBLANK(N144),K144<TODAY()),\"Oui\",\"Non\")","v":"Non"},{"$f":"IF(ISBLANK(I144),\"\",IF(K144=\"\",\"délai à préciser\",IF(M144=\"\",\"statut à préciser\",IF(M144=\"finalisée\",IF(N144=\"\",\"date de solde à préciser\",IF(K144>=N144,\"fait\",\"retard\")),(IF(K144<TODAY(),\"retard\",\"Ok\"))))))","v":""},{"$f":"IF(AND(N144<>\"\",ISBLANK(N144),K144<TODAY()),\"Oui\",\"Non\")","v":"Non"},null,{"$f":"IF(ISBLANK(H144),\"\",IF(OR(H144=\"Préventive\",H144=\"Corrective\"),\"Oui\",\"Non\"))","v":""},null,null,null,null,null,{"$f":"IF(AND(U144<>\"\",ISBLANK(X144),U144<TODAY()),\"Oui\",\"Non\")","v":"Non"},{"$f":"IF(AND(S144=\"Oui\",ISBLANK(X144)),\"Oui\",\"Non\")","v":"Non"},null,null,null,null,{"$f":"IF(K144=\"\",\"\",K144-TODAY())","v":""},{"$f":"IF(ISBLANK(F144),CONCATENATE(E144,\" - \",AG144),CONCATENATE(F144,\" - \",AG144))","v":" - "},{"$f":"IF(ISBLANK(B144),\"\",YEAR(C144))","v":""},{"$f":"CONCATENATE(H144,\"-\",AG144)","v":"-"},{"$f":"CONCATENATE(M144,\"-\",AH144)","v":"--"}]
[{"$f":"IF(ISBLANK(B145),\"\",$C$2)","v":""},null,null,{"$f":"IF(ISBLANK(B145),\"\",COUNTA(#REF!))","v":""},null,null,null,null,null,null,null,null,null,null,{"$f":"IF(AND(K145<>\"\",ISBLANK(N145),K145<TODAY()),\"Oui\",\"Non\")","v":"Non"},{"$f":"IF(ISBLANK(I145),\"\",IF(K145=\"\",\"délai à préciser\",IF(M145=\"\",\"statut à préciser\",IF(M145=\"finalisée\",IF(N145=\"\",\"date de solde à préciser\",IF(K145>=N145,\"fait\",\"retard\")),(IF(K145<TODAY(),\"retard\",\"Ok\"))))))","v":""},{"$f":"IF(AND(N145<>\"\",ISBLANK(N145),K145<TODAY()),\"Oui\",\"Non\")","v":"Non"},null,{"$f":"IF(ISBLANK(H145),\"\",IF(OR(H145=\"Préventive\",H145=\"Corrective\"),\"Oui\",\"Non\"))","v":""},null,null,null,null,null,{"$f":"IF(AND(U145<>\"\",ISBLANK(X145),U145<TODAY()),\"Oui\",\"Non\")","v":"Non"},{"$f":"IF(AND(S145=\"Oui\",ISBLANK(X145)),\"Oui\",\"Non\")","v":"Non"},null,null,null,null,{"$f":"IF(K145=\"\",\"\",K145-TODAY())","v":""},{"$f":"IF(ISBLANK(F145),CONCATENATE(E145,\" - \",AG145),CONCATENATE(F145,\" - \",AG145))","v":" - "},{"$f":"IF(ISBLANK(B145),\"\",YEAR(C145))","v":""},{"$f":"CONCATENATE(H145,\"-\",AG145)","v":"-"},{"$f":"CONCATENATE(M145,\"-\",AH145)","v":"--"}]
[{"$f":"IF(ISBLANK(B146),\"\",$C$2)","v":""},null,null,{"$f":"IF(ISBLANK(B146),\"\",COUNTA(#REF!))","v":""},null,null,null,null,null,null,null,null,null,null,{"$f":"IF(AND(K146<>\"\",ISBLANK(N146),K146<TODAY()),\"Oui\",\"Non\")","v":"Non"},{"$f":"IF(ISBLANK(I146),\"\",IF(K146=\"\",\"délai à préciser\",IF(M146=\"\",\"statut à préciser\",IF(M146=\"finalisée\",IF(N146=\"\",\"date de solde à préciser\",IF(K146>=N146,\"fait\",\"retard\")),(IF(K146<TODAY(),\"retard\",\"Ok\"))))))","v":""},{"$f":"IF(AND(N146<>\"\",ISBLANK(N146),K146<TODAY()),\"Oui\",\"Non\")","v":"Non"},null,{"$f":"IF(ISBLANK(H146),\"\",IF(OR(H146=\"Préventive\",H146=\"Corrective\"),\"Oui\",\"Non\"))","v":""},null,null,null,null,null,{"$f":"IF(AND(U146<>\"\",ISBLANK(X146),U146<TODAY()),\"Oui\",\"Non\")","v":"Non"},{"$f":"IF(AND(S146=\"Oui\",ISBLANK(X146)),\"Oui\",\"Non\")","v":"Non"},null,null,null,null,{"$f":"IF(K146=\"\",\"\",K146-TODAY())","v":""},{"$f":"IF(ISBLANK(F146),CONCATENATE(E146,\" - \",AG146),CONCATENATE(F146,\" - \",AG146))","v":" - "},{"$f":"IF(ISBLANK(B146),\"\",YEAR(C146))","v":""},{"$f":"CONCATENATE(H146,\"-\",AG146)","v":"-"},{"$f":"CONCATENATE(M146,\"-\",AH146)","v":"--"}]
[{"$f":"IF(ISBLANK(B147),\"\",$C$2)","v":""},null,null,{"$f":"IF(ISBLANK(B147),\"\",COUNTA(#REF!))","v":""},null,null,null,null,null,null,null,null,null,null,{"$f":"IF(AND(K147<>\"\",ISBLANK(N147),K147<TODAY()),\"Oui\",\"Non\")","v":"Non"},{"$f":"IF(ISBLANK(I147),\"\",IF(K147=\"\",\"délai à préciser\",IF(M147=\"\",\"statut à préciser\",IF(M147=\"finalisée\",IF(N147=\"\",\"date de solde à préciser\",IF(K147>=N147,\"fait\",\"retard\")),(IF(K147<TODAY(),\"retard\",\"Ok\"))))))","v":""},{"$f":"IF(AND(N147<>\"\",ISBLANK(N147),K147<TODAY()),\"Oui\",\"Non\")","v":"Non"},null,{"$f":"IF(ISBLANK(H147),\"\",IF(OR(H147=\"Préventive\",H147=\"Corrective\"),\"Oui\",\"Non\"))","v":""},null,null,null,null,null,{"$f":"IF(AND(U147<>\"\",ISBLANK(X147),U147<TODAY()),\"Oui\",\"Non\")","v":"Non"},{"$f":"IF(AND(S147=\"Oui\",ISBLANK(X147)),\"Oui\",\"Non\")","v":"Non"},null,null,null,null,{"$f":"IF(K147=\"\",\"\",K147-TODAY())","v":""},{"$f":"IF(ISBLANK(F147),CONCATENATE(E147,\" - \",AG147),CONCATENATE(F147,\" - \",AG147))","v":" - "},{"$f":"IF(ISBLANK(B147),\"\",YEAR(C147))","v":""},{"$f":"CONCATENATE(H147,\"-\",AG147)","v":"-"},{"$f":"CONCATENATE(M147,\"-\",AH147)","v":"--"}]
[{"$f":"IF(ISBLANK(B148),\"\",$C$2)","v":""},null,null,{"$f":"IF(ISBLANK(B148),\"\",COUNTA(#REF!))","v":""},null,null,null,null,null,null,null,null,null,null,{"$f":"IF(AND(K148<>\"\",ISBLANK(N148),K148<TODAY()),\"Oui\",\"Non\")","v":"Non"},{"$f":"IF(ISBLANK(I148),\"\",IF(K148=\"\",\"délai à préciser\",IF(M148=\"\",\"statut à préciser\",IF(M148=\"finalisée\",IF(N148=\"\",\"date de solde à préciser\",IF(K148>=N148,\"fait\",\"retard\")),(IF(K148<TODAY(),\"retard\",\"Ok\"))))))","v":""},{"$f":"IF(AND(N148<>\"\",ISBLANK(N148),K148<TODAY()),\"Oui\",\"Non\")","v":"Non"},null,{"$f":"IF(ISBLANK(H148),\"\",IF(OR(H148=\"Préventive\",H148=\"Corrective\"),\"Oui\",\"Non\"))","v":""},null,null,null,null,null,{"$f":"IF(AND(U148<>\"\",ISBLANK(X148),U148<TODAY()),\"Oui\",\"Non\")","v":"Non"},{"$f":"IF(AND(S148=\"Oui\",ISBLANK(X148)),\"Oui\",\"Non\")","v":"Non"},null,null,null,null,{"$f":"IF(K148=\"\",\"\",K148-TODAY())","v":""},{"$f":"IF(ISBLANK(F148),CONCATENATE(E148,\" - \",AG148),CONCATENATE(F148,\" - \",AG148))","v":" - "},{"$f":"IF(ISBLANK(B148),\"\",YEAR(C148))","v":""},{"$f":"CONCATENATE(H148,\"-\",AG148)","v":"-"},{"$f":"CONCATENATE(M148,\"-\",AH148)","v":"--"}]
[{"$f":"IF(ISBLANK(B149),\"\",$C$2)","v":""},null,null,{"$f":"IF(ISBLANK(B149),\"\",COUNTA(#REF!))","v":""},null,null,null,null,null,null,null,null,null,null,{"$f":"IF(AND(K149<>\"\",ISBLANK(N149),K149<TODAY()),\"Oui\",\"Non\")","v":"Non"},{"$f":"IF(ISBLANK(I149),\"\",IF(K149=\"\",\"délai à préciser\",IF(M149=\"\",\"statut à préciser\",IF(M149=\"finalisée\",IF(N149=\"\",\"date de solde à préciser\",IF(K149>=N149,\"fait\",\"retard\")),(IF(K149<TODAY(),\"retard\",\"Ok\"))))))","v":""},{"$f":"IF(AND(N149<>\"\",ISBLANK(N149),K149<TODAY()),\"Oui\",\"Non\")","v":"Non"},null,{"$f":"IF(ISBLANK(H149),\"\",IF(OR(H149=\"Préventive\",H149=\"Corrective\"),\"Oui\",\"Non\"))","v":""},null,null,null,null,null,{"$f":"IF(AND(U149<>\"\",ISBLANK(X149),U149<TODAY()),\"Oui\",\"Non\")","v":"Non"},{"$f":"IF(AND(S149=\"Oui\",ISBLANK(X149)),\"Oui\",\"Non\")","v":"Non"},null,null,null,null,{"$f":"IF(K149=\"\",\"\",K149-TODAY())","v":""},{"$f":"IF(ISBLANK(F149),CONCATENATE(E149,\" - \",AG149),CONCATENATE(F149,\" - \",AG149))","v":" - "},{"$f":"IF(ISBLANK(B149),\"\",YEAR(C149))","v":""},{"$f":"CONCATENATE(H149,\"-\",AG149)","v":"-"},{"$f":"CONCATENATE(M149,\"-\",AH149)","v":"--"}]
[{"$f":"IF(ISBLANK(B150),\"\",$C$2)","v":""},null,null,{"$f":"IF(ISBLANK(B150),\"\",COUNTA(#REF!))","v":""},null,null,null,null,null,null,null,null,null,null,{"$f":"IF(AND(K150<>\"\",ISBLANK(N150),K150<TODAY()),\"Oui\",\"Non\")","v":"Non"},{"$f":"IF(ISBLANK(I150),\"\",IF(K150=\"\",\"délai à préciser\",IF(M150=\"\",\"statut à préciser\",IF(M150=\"finalisée\",IF(N150=\"\",\"date de solde à préciser\",IF(K150>=N150,\"fait\",\"retard\")),(IF(K150<TODAY(),\"retard\",\"Ok\"))))))","v":""},{"$f":"IF(AND(N150<>\"\",ISBLANK(N150),K150<TODAY()),\"Oui\",\"Non\")","v":"Non"},null,{"$f":"IF(ISBLANK(H150),\"\",IF(OR(H150=\"Préventive\",H150=\"Corrective\"),\"Oui\",\"Non\"))","v":""},null,null,null,null,null,{"$f":"IF(AND(U150<>\"\",ISBLANK(X150),U150<TODAY()),\"Oui\",\"Non\")","v":"Non"},{"$f":"IF(AND(S150=\"Oui\",ISBLANK(X150)),\"Oui\",\"Non\")","v":"Non"},null,null,null,null,{"$f":"IF(K150=\"\",\"\",K150-TODAY())","v":""},{"$f":"IF(ISBLANK(F150),CONCATENATE(E150,\" - \",AG150),CONCATENATE(F150,\" - \",AG150))","v":" - "},{"$f":"IF(ISBLANK(B150),\"\",YEAR(C150))","v":""},{"$f":"CONCATENATE(H150,\"-\",AG150)","v":"-"},{"$f":"CONCATENATE(M150,\"-\",AH150)","v":"--"}]
[{"$f":"IF(ISBLANK(B151),\"\",$C$2)","v":""},null,null,{"$f":"IF(ISBLANK(B151),\"\",COUNTA(#REF!))","v":""},null,null,null,null,null,null,null,null,null,null,{"$f":"IF(AND(K151<>\"\",ISBLANK(N151),K151<TODAY()),\"Oui\",\"Non\")","v":"Non"},{"$f":"IF(ISBLANK(I151),\"\",IF(K151=\"\",\"délai à préciser\",IF(M151=\"\",\"statut à préciser\",IF(M151=\"finalisée\",IF(N151=\"\",\"date de solde à préciser\",IF(K151>=N151,\"fait\",\"retard\")),(IF(K151<TODAY(),\"retard\",\"Ok\"))))))","v":""},{"$f":"IF(AND(N151<>\"\",ISBLANK(N151),K151<TODAY()),\"Oui\",\"Non\")","v":"Non"},null,{"$f":"IF(ISBLANK(H151),\"\",IF(OR(H151=\"Préventive\",H151=\"Corrective\"),\"Oui\",\"Non\"))","v":""},null,null,null,null,null,{"$f":"IF(AND(U151<>\"\",ISBLANK(X151),U151<TODAY()),\"Oui\",\"Non\")","v":"Non"},{"$f":"IF(AND(S151=\"Oui\",ISBLANK(X151)),\"Oui\",\"Non\")","v":"Non"},null,null,null,null,{"$f":"IF(K151=\"\",\"\",K151-TODAY())","v":""},{"$f":"IF(ISBLANK(F151),CONCATENATE(E151,\" - \",AG151),CONCATENATE(F151,\" - \",AG151))","v":" - "},{"$f":"IF(ISBLANK(B151),\"\",YEAR(C151))","v":""},{"$f":"CONCATENATE(H151,\"-\",AG151)","v":"-"},{"$f":"CONCATENATE(M151,\"-\",AH151)","v":"--"}]
[{"$f":"IF(ISBLANK(B152),\"\",$C$2)","v":""},null,null,{"$f":"IF(ISBLANK(B152),\"\",COUNTA(#REF!))","v":""},null,null,null,null,null,null,null,null,null,null,{"$f":"IF(AND(K152<>\"\",ISBLANK(N152),K152<TODAY()),\"Oui\",\"Non\")","v":"Non"},{"$f":"IF(ISBLANK(I152),\"\",IF(K152=\"\",\"délai à préciser\",IF(M152=\"\",\"statut à préciser\",IF(M152=\"finalisée\",IF(N152=\"\",\"date de solde à préciser\",IF(K152>=N152,\"fait\",\"retard\")),(IF(K152<TODAY(),\"retard\",\"Ok\"))))))","v":""},{"$f":"IF(AND(N152<>\"\",ISBLANK(N152),K152<TODAY()),\"Oui\",\"Non\")","v":"Non"},null,{"$f":"IF(ISBLANK(H152),\"\",IF(OR(H152=\"Préventive\",H152=\"Corrective\"),\"Oui\",\"Non\"))","v":""},null,null,null,null,null,{"$f":"IF(AND(U152<>\"\",ISBLANK(X152),U152<TODAY()),\"Oui\",\"Non\")","v":"Non"},{"$f":"IF(AND(S152=\"Oui\",ISBLANK(X152)),\"Oui\",\"Non\")","v":"Non"},null,null,null,null,{"$f":"IF(K152=\"\",\"\",K152-TODAY())","v":""},{"$f":"IF(ISBLANK(F152),CONCATENATE(E152,\" - \",AG152),CONCATENATE(F152,\" - \",AG152))","v":" - "},{"$f":"IF(ISBLANK(B152),\"\",YEAR(C152))","v":""},{"$f":"CONCATENATE(H152,\"-\",AG152)","v":"-"},{"$f":"CONCATENATE(M152,\"-\",AH152)","v":"--"}]
[{"$f":"IF(ISBLANK(B153),\"\",$C$2)","v":""},null,null,{"$f":"IF(ISBLANK(B153),\"\",COUNTA(#REF!))","v":""},null,null,null,null,null,null,null,null,null,null,{"$f":"IF(AND(K153<>\"\",ISBLANK(N153),K153<TODAY()),\"Oui\",\"Non\")","v":"Non"},{"$f":"IF(ISBLANK(I153),\"\",IF(K153=\"\",\"délai à préciser\",IF(M153=\"\",\"statut à préciser\",IF(M153=\"finalisée\",IF(N153=\"\",\"date de solde à préciser\",IF(K153>=N153,\"fait\",\"retard\")),(IF(K153<TODAY(),\"retard\",\"Ok\"))))))","v":""},{"$f":"IF(AND(N153<>\"\",ISBLANK(N153),K153<TODAY()),\"Oui\",\"Non\")","v":"Non"},null,{"$f":"IF(ISBLANK(H153),\"\",IF(OR(H153=\"Préventive\",H153=\"Corrective\"),\"Oui\",\"Non\"))","v":""},null,null,null,null,null,{"$f":"IF(AND(U153<>\"\",ISBLANK(X153),U153<TODAY()),\"Oui\",\"Non\")","v":"Non"},{"$f":"IF(AND(S153=\"Oui\",ISBLANK(X153)),\"Oui\",\"Non\")","v":"Non"},null,null,null,null,{"$f":"IF(K153=\"\",\"\",K153-TODAY())","v":""},{"$f":"IF(ISBLANK(F153),CONCATENATE(E153,\" - \",AG153),CONCATENATE(F153,\" - \",AG153))","v":" - "},{"$f":"IF(ISBLANK(B153),\"\",YEAR(C153))","v":""},{"$f":"CONCATENATE(H153,\"-\",AG153)","v":"-"},{"$f":"CONCATENATE(M153,\"-\",AH153)","v":"--"}]
[{"$f":"IF(ISBLANK(B154),\"\",$C$2)","v":""},null,null,{"$f":"IF(ISBLANK(B154),\"\",COUNTA(#REF!))","v":""},null,null,null,null,null,null,null,null,null,null,{"$f":"IF(AND(K154<>\"\",ISBLANK(N154),K154<TODAY()),\"Oui\",\"Non\")","v":"Non"},{"$f":"IF(ISBLANK(I154),\"\",IF(K154=\"\",\"délai à préciser\",IF(M154=\"\",\"statut à préciser\",IF(M154=\"finalisée\",IF(N154=\"\",\"date de solde à préciser\",IF(K154>=N154,\"fait\",\"retard\")),(IF(K154<TODAY(),\"retard\",\"Ok\"))))))","v":""},{"$f":"IF(AND(N154<>\"\",ISBLANK(N154),K154<TODAY()),\"Oui\",\"Non\")","v":"Non"},null,{"$f":"IF(ISBLANK(H154),\"\",IF(OR(H154=\"Préventive\",H154=\"Corrective\"),\"Oui\",\"Non\"))","v":""},null,null,null,null,null,{"$f":"IF(AND(U154<>\"\",ISBLANK(X154),U154<TODAY()),\"Oui\",\"Non\")","v":"Non"},{"$f":"IF(AND(S154=\"Oui\",ISBLANK(X154)),\"Oui\",\"Non\")","v":"Non"},null,null,null,null,{"$f":"IF(K154=\"\",\"\",K154-TODAY())","v":""},{"$f":"IF(ISBLANK(F154),CONCATENATE(E154,\" - \",AG154),CONCATENATE(F154,\" - \",AG154))","v":" - "},{"$f":"IF(ISBLANK(B154),\"\",YEAR(C154))","v":""},{"$f":"CONCATENATE(H154,\"-\",AG154)","v":"-"},{"$f":"CONCATENATE(M154,\"-\",AH154)","v":"--"}]
[{"$f":"IF(ISBLANK(B155),\"\",$C$2)","v":""},null,null,{"$f":"IF(ISBLANK(B155),\"\",COUNTA(#REF!))","v":""},null,null,null,null,null,null,null,null,null,null,{"$f":"IF(AND(K155<>\"\",ISBLANK(N155),K155<TODAY()),\"Oui\",\"Non\")","v":"Non"},{"$f":"IF(ISBLANK(I155),\"\",IF(K155=\"\",\"délai à préciser\",IF(M155=\"\",\"statut à préciser\",IF(M155=\"finalisée\",IF(N155=\"\",\"date de solde à préciser\",IF(K155>=N155,\"fait\",\"retard\")),(IF(K155<TODAY(),\"retard\",\"Ok\"))))))","v":""},{"$f":"IF(AND(N155<>\"\",ISBLANK(N155),K155<TODAY()),\"Oui\",\"Non\")","v":"Non"},null,{"$f":"IF(ISBLANK(H155),\"\",IF(OR(H155=\"Préventive\",H155=\"Corrective\"),\"Oui\",\"Non\"))","v":""},null,null,null,null,null,{"$f":"IF(AND(U155<>\"\",ISBLANK(X155),U155<TODAY()),\"Oui\",\"Non\")","v":"Non"},{"$f":"IF(AND(S155=\"Oui\",ISBLANK(X155)),\"Oui\",\"Non\")","v":"Non"},null,null,null,null,{"$f":"IF(K155=\"\",\"\",K155-TODAY())","v":""},{"$f":"IF(ISBLANK(F155),CONCATENATE(E155,\" - \",AG155),CONCATENATE(F155,\" - \",AG155))","v":" - "},{"$f":"IF(ISBLANK(B155),\"\",YEAR(C155))","v":""},{"$f":"CONCATENATE(H155,\"-\",AG155)","v":"-"},{"$f":"CONCATENATE(M155,\"-\",AH155)","v":"--"}]
[{"$f":"IF(ISBLANK(B156),\"\",$C$2)","v":""},null,null,{"$f":"IF(ISBLANK(B156),\"\",COUNTA(#REF!))","v":""},null,null,null,null,null,null,null,null,null,null,{"$f":"IF(AND(K156<>\"\",ISBLANK(N156),K156<TODAY()),\"Oui\",\"Non\")","v":"Non"},{"$f":"IF(ISBLANK(I156),\"\",IF(K156=\"\",\"délai à préciser\",IF(M156=\"\",\"statut à préciser\",IF(M156=\"finalisée\",IF(N156=\"\",\"date de solde à préciser\",IF(K156>=N156,\"fait\",\"retard\")),(IF(K156<TODAY(),\"retard\",\"Ok\"))))))","v":""},{"$f":"IF(AND(N156<>\"\",ISBLANK(N156),K156<TODAY()),\"Oui\",\"Non\")","v":"Non"},null,{"$f":"IF(ISBLANK(H156),\"\",IF(OR(H156=\"Préventive\",H156=\"Corrective\"),\"Oui\",\"Non\"))","v":""},null,null,null,null,null,{"$f":"IF(AND(U156<>\"\",ISBLANK(X156),U156<TODAY()),\"Oui\",\"Non\")","v":"Non"},{"$f":"IF(AND(S156=\"Oui\",ISBLANK(X156)),\"Oui\",\"Non\")","v":"Non"},null,null,null,null,{"$f":"IF(K156=\"\",\"\",K156-TODAY())","v":""},{"$f":"IF(ISBLANK(F156),CONCATENATE(E156,\" - \",AG156),CONCATENATE(F156,\" - \",AG156))","v":" - "},{"$f":"IF(ISBLANK(B156),\"\",YEAR(C156))","v":""},{"$f":"CONCATENATE(H156,\"-\",AG156)","v":"-"},{"$f":"CONCATENATE(M156,\"-\",AH156)","v":"--"}]
[{"$f":"IF(ISBLANK(B157),\"\",$C$2)","v":""},null,null,{"$f":"IF(ISBLANK(B157),\"\",COUNTA(#REF!))","v":""},null,null,null,null,null,null,null,null,null,null,{"$f":"IF(AND(K157<>\"\",ISBLANK(N157),K157<TODAY()),\"Oui\",\"Non\")","v":"Non"},{"$f":"IF(ISBLANK(I157),\"\",IF(K157=\"\",\"délai à préciser\",IF(M157=\"\",\"statut à préciser\",IF(M157=\"finalisée\",IF(N157=\"\",\"date de solde à préciser\",IF(K157>=N157,\"fait\",\"retard\")),(IF(K157<TODAY(),\"retard\",\"Ok\"))))))","v":""},{"$f":"IF(AND(N157<>\"\",ISBLANK(N157),K157<TODAY()),\"Oui\",\"Non\")","v":"Non"},null,{"$f":"IF(ISBLANK(H157),\"\",IF(OR(H157=\"Préventive\",H157=\"Corrective\"),\"Oui\",\"Non\"))","v":""},null,null,null,null,null,{"$f":"IF(AND(U157<>\"\",ISBLANK(X157),U157<TODAY()),\"Oui\",\"Non\")","v":"Non"},{"$f":"IF(AND(S157=\"Oui\",ISBLANK(X157)),\"Oui\",\"Non\")","v":"Non"},null,null,null,null,{"$f":"IF(K157=\"\",\"\",K157-TODAY())","v":""},{"$f":"IF(ISBLANK(F157),CONCATENATE(E157,\" - \",AG157),CONCATENATE(F157,\" - \",AG157))","v":" - "},{"$f":"IF(ISBLANK(B157),\"\",YEAR(C157))","v":""},{"$f":"CONCATENATE(H157,\"-\",AG157)","v":"-"},{"$f":"CONCATENATE(M157,\"-\",AH157)","v":"--"}]
[{"$f":"IF(ISBLANK(B158),\"\",$C$2)","v":""},null,null,{"$f":"IF(ISBLANK(B158),\"\",COUNTA(#REF!))","v":""},null,null,null,null,null,null,null,null,null,null,{"$f":"IF(AND(K158<>\"\",ISBLANK(N158),K158<TODAY()),\"Oui\",\"Non\")","v":"Non"},{"$f":"IF(ISBLANK(I158),\"\",IF(K158=\"\",\"délai à préciser\",IF(M158=\"\",\"statut à préciser\",IF(M158=\"finalisée\",IF(N158=\"\",\"date de solde à préciser\",IF(K158>=N158,\"fait\",\"retard\")),(IF(K158<TODAY(),\"retard\",\"Ok\"))))))","v":""},{"$f":"IF(AND(N158<>\"\",ISBLANK(N158),K158<TODAY()),\"Oui\",\"Non\")","v":"Non"},null,{"$f":"IF(ISBLANK(H158),\"\",IF(OR(H158=\"Préventive\",H158=\"Corrective\"),\"Oui\",\"Non\"))","v":""},null,null,null,null,null,{"$f":"IF(AND(U158<>\"\",ISBLANK(X158),U158<TODAY()),\"Oui\",\"Non\")","v":"Non"},{"$f":"IF(AND(S158=\"Oui\",ISBLANK(X158)),\"Oui\",\"Non\")","v":"Non"},null,null,null,null,{"$f":"IF(K158=\"\",\"\",K158-TODAY())","v":""},{"$f":"IF(ISBLANK(F158),CONCATENATE(E158,\" - \",AG158),CONCATENATE(F158,\" - \",AG158))","v":" - "},{"$f":"IF(ISBLANK(B158),\"\",YEAR(C158))","v":""},{"$f":"CONCATENATE(H158,\"-\",AG158)","v":"-"},{"$f":"CONCATENATE(M158,\"-\",AH158)","v":"--"}]
[{"$f":"IF(ISBLANK(B159),\"\",$C$2)","v":""},null,null,{"$f":"IF(ISBLANK(B159),\"\",COUNTA(#REF!))","v":""},null,null,null,null,null,null,null,null,null,null,{"$f":"IF(AND(K159<>\"\",ISBLANK(N159),K159<TODAY()),\"Oui\",\"Non\")","v":"Non"},{"$f":"IF(ISBLANK(I159),\"\",IF(K159=\"\",\"délai à préciser\",IF(M159=\"\",\"statut à préciser\",IF(M159=\"finalisée\",IF(N159=\"\",\"date de solde à préciser\",IF(K159>=N159,\"fait\",\"retard\")),(IF(K159<TODAY(),\"retard\",\"Ok\"))))))","v":""},{"$f":"IF(AND(N159<>\"\",ISBLANK(N159),K159<TODAY()),\"Oui\",\"Non\")","v":"Non"},null,{"$f":"IF(ISBLANK(H159),\"\",IF(OR(H159=\"Préventive\",H159=\"Corrective\"),\"Oui\",\"Non\"))","v":""},null,null,null,null,null,{"$f":"IF(AND(U159<>\"\",ISBLANK(X159),U159<TODAY()),\"Oui\",\"Non\")","v":"Non"},{"$f":"IF(AND(S159=\"Oui\",ISBLANK(X159)),\"Oui\",\"Non\")","v":"Non"},null,null,null,null,{"$f":"IF(K159=\"\",\"\",K159-TODAY())","v":""},{"$f":"IF(ISBLANK(F159),CONCATENATE(E159,\" - \",AG159),CONCATENATE(F159,\" - \",AG159))","v":" - "},{"$f":"IF(ISBLANK(B159),\"\",YEAR(C159))","v":""},{"$f":"CONCATENATE(H159,\"-\",AG159)","v":"-"},{"$f":"CONCATENATE(M159,\"-\",AH159)","v":"--"}]
[{"$f":"IF(ISBLANK(B160),\"\",$C$2)","v":""},null,null,{"$f":"IF(ISBLANK(B160),\"\",COUNTA(#REF!))","v":""},null,null,null,null,null,null,null,null,null,null,{"$f":"IF(AND(K160<>\"\",ISBLANK(N160),K160<TODAY()),\"Oui\",\"Non\")","v":"Non"},{"$f":"IF(ISBLANK(I160),\"\",IF(K160=\"\",\"délai à préciser\",IF(M160=\"\",\"statut à préciser\",IF(M160=\"finalisée\",IF(N160=\"\",\"date de solde à préciser\",IF(K160>=N160,\"fait\",\"retard\")),(IF(K160<TODAY(),\"retard\",\"Ok\"))))))","v":""},{"$f":"IF(AND(N160<>\"\",ISBLANK(N160),K160<TODAY()),\"Oui\",\"Non\")","v":"Non"},null,{"$f":"IF(ISBLANK(H160),\"\",IF(OR(H160=\"Préventive\",H160=\"Corrective\"),\"Oui\",\"Non\"))","v":""},null,null,null,null,null,{"$f":"IF(AND(U160<>\"\",ISBLANK(X160),U160<TODAY()),\"Oui\",\"Non\")","v":"Non"},{"$f":"IF(AND(S160=\"Oui\",ISBLANK(X160)),\"Oui\",\"Non\")","v":"Non"},null,null,null,null,{"$f":"IF(K160=\"\",\"\",K160-TODAY())","v":""},{"$f":"IF(ISBLANK(F160),CONCATENATE(E160,\" - \",AG160),CONCATENATE(F160,\" - \",AG160))","v":" - "},{"$f":"IF(ISBLANK(B160),\"\",YEAR(C160))","v":""},{"$f":"CONCATENATE(H160,\"-\",AG160)","v":"-"},{"$f":"CONCATENATE(M160,\"-\",AH160)","v":"--"}]
[{"$f":"IF(ISBLANK(B161),\"\",$C$2)","v":""},null,null,{"$f":"IF(ISBLANK(B161),\"\",COUNTA(#REF!))","v":""},null,null,null,null,null,null,null,null,null,null,{"$f":"IF(AND(K161<>\"\",ISBLANK(N161),K161<TODAY()),\"Oui\",\"Non\")","v":"Non"},{"$f":"IF(ISBLANK(I161),\"\",IF(K161=\"\",\"délai à préciser\",IF(M161=\"\",\"statut à préciser\",IF(M161=\"finalisée\",IF(N161=\"\",\"date de solde à préciser\",IF(K161>=N161,\"fait\",\"retard\")),(IF(K161<TODAY(),\"retard\",\"Ok\"))))))","v":""},{"$f":"IF(AND(N161<>\"\",ISBLANK(N161),K161<TODAY()),\"Oui\",\"Non\")","v":"Non"},null,{"$f":"IF(ISBLANK(H161),\"\",IF(OR(H161=\"Préventive\",H161=\"Corrective\"),\"Oui\",\"Non\"))","v":""},null,null,null,null,null,{"$f":"IF(AND(U161<>\"\",ISBLANK(X161),U161<TODAY()),\"Oui\",\"Non\")","v":"Non"},{"$f":"IF(AND(S161=\"Oui\",ISBLANK(X161)),\"Oui\",\"Non\")","v":"Non"},null,null,null,null,{"$f":"IF(K161=\"\",\"\",K161-TODAY())","v":""},{"$f":"IF(ISBLANK(F161),CONCATENATE(E161,\" - \",AG161),CONCATENATE(F161,\" - \",AG161))","v":" - "},{"$f":"IF(ISBLANK(B161),\"\",YEAR(C161))","v":""},{"$f":"CONCATENATE(H161,\"-\",AG161)","v":"-"},{"$f":"CONCATENATE(M161,\"-\",AH161)","v":"--"}]
[{"$f":"IF(ISBLANK(B162),\"\",$C$2)","v":""},null,null,{"$f":"IF(ISBLANK(B162),\"\",COUNTA(#REF!))","v":""},null,null,null,null,null,null,null,null,null,null,{"$f":"IF(AND(K162<>\"\",ISBLANK(N162),K162<TODAY()),\"Oui\",\"Non\")","v":"Non"},{"$f":"IF(ISBLANK(I162),\"\",IF(K162=\"\",\"délai à préciser\",IF(M162=\"\",\"statut à préciser\",IF(M162=\"finalisée\",IF(N162=\"\",\"date de solde à préciser\",IF(K162>=N162,\"fait\",\"retard\")),(IF(K162<TODAY(),\"retard\",\"Ok\"))))))","v":""},{"$f":"IF(AND(N162<>\"\",ISBLANK(N162),K162<TODAY()),\"Oui\",\"Non\")","v":"Non"},null,{"$f":"IF(ISBLANK(H162),\"\",IF(OR(H162=\"Préventive\",H162=\"Corrective\"),\"Oui\",\"Non\"))","v":""},null,null,null,null,null,{"$f":"IF(AND(U162<>\"\",ISBLANK(X162),U162<TODAY()),\"Oui\",\"Non\")","v":"Non"},{"$f":"IF(AND(S162=\"Oui\",ISBLANK(X162)),\"Oui\",\"Non\")","v":"Non"},null,null,null,null,{"$f":"IF(K162=\"\",\"\",K162-TODAY())","v":""},{"$f":"IF(ISBLANK(F162),CONCATENATE(E162,\" - \",AG162),CONCATENATE(F162,\" - \",AG162))","v":" - "},{"$f":"IF(ISBLANK(B162),\"\",YEAR(C162))","v":""},{"$f":"CONCATENATE(H162,\"-\",AG162)","v":"-"},{"$f":"CONCATENATE(M162,\"-\",AH162)","v":"--"}]
[{"$f":"IF(ISBLANK(B163),\"\",$C$2)","v":""},null,null,{"$f":"IF(ISBLANK(B163),\"\",COUNTA(#REF!))","v":""},null,null,null,null,null,null,null,null,null,null,{"$f":"IF(AND(K163<>\"\",ISBLANK(N163),K163<TODAY()),\"Oui\",\"Non\")","v":"Non"},{"$f":"IF(ISBLANK(I163),\"\",IF(K163=\"\",\"délai à préciser\",IF(M163=\"\",\"statut à préciser\",IF(M163=\"finalisée\",IF(N163=\"\",\"date de solde à préciser\",IF(K163>=N163,\"fait\",\"retard\")),(IF(K163<TODAY(),\"retard\",\"Ok\"))))))","v":""},{"$f":"IF(AND(N163<>\"\",ISBLANK(N163),K163<TODAY()),\"Oui\",\"Non\")","v":"Non"},null,{"$f":"IF(ISBLANK(H163),\"\",IF(OR(H163=\"Préventive\",H163=\"Corrective\"),\"Oui\",\"Non\"))","v":""},null,null,null,null,null,{"$f":"IF(AND(U163<>\"\",ISBLANK(X163),U163<TODAY()),\"Oui\",\"Non\")","v":"Non"},{"$f":"IF(AND(S163=\"Oui\",ISBLANK(X163)),\"Oui\",\"Non\")","v":"Non"},null,null,null,null,{"$f":"IF(K163=\"\",\"\",K163-TODAY())","v":""},{"$f":"IF(ISBLANK(F163),CONCATENATE(E163,\" - \",AG163),CONCATENATE(F163,\" - \",AG163))","v":" - "},{"$f":"IF(ISBLANK(B163),\"\",YEAR(C163))","v":""},{"$f":"CONCATENATE(H163,\"-\",AG163)","v":"-"},{"$f":"CONCATENATE(M163,\"-\",AH163)","v":"--"}]
[{"$f":"IF(ISBLANK(B164),\"\",$C$2)","v":""},null,null,{"$f":"IF(ISBLANK(B164),\"\",COUNTA(#REF!))","v":""},null,null,null,null,null,null,null,null,null,null,{"$f":"IF(AND(K164<>\"\",ISBLANK(N164),K164<TODAY()),\"Oui\",\"Non\")","v":"Non"},{"$f":"IF(ISBLANK(I164),\"\",IF(K164=\"\",\"délai à préciser\",IF(M164=\"\",\"statut à préciser\",IF(M164=\"finalisée\",IF(N164=\"\",\"date de solde à préciser\",IF(K164>=N164,\"fait\",\"retard\")),(IF(K164<TODAY(),\"retard\",\"Ok\"))))))","v":""},{"$f":"IF(AND(N164<>\"\",ISBLANK(N164),K164<TODAY()),\"Oui\",\"Non\")","v":"Non"},null,{"$f":"IF(ISBLANK(H164),\"\",IF(OR(H164=\"Préventive\",H164=\"Corrective\"),\"Oui\",\"Non\"))","v":""},null,null,null,null,null,{"$f":"IF(AND(U164<>\"\",ISBLANK(X164),U164<TODAY()),\"Oui\",\"Non\")","v":"Non"},{"$f":"IF(AND(S164=\"Oui\",ISBLANK(X164)),\"Oui\",\"Non\")","v":"Non"},null,null,null,null,{"$f":"IF(K164=\"\",\"\",K164-TODAY())","v":""},{"$f":"IF(ISBLANK(F164),CONCATENATE(E164,\" - \",AG164),CONCATENATE(F164,\" - \",AG164))","v":" - "},{"$f":"IF(ISBLANK(B164),\"\",YEAR(C164))","v":""},{"$f":"CONCATENATE(H164,\"-\",AG164)","v":"-"},{"$f":"CONCATENATE(M164,\"-\",AH164)","v":"--"}]
[{"$f":"IF(ISBLANK(B165),\"\",$C$2)","v":""},null,null,{"$f":"IF(ISBLANK(B165),\"\",COUNTA(#REF!))","v":""},null,null,null,null,null,null,null,null,null,null,{"$f":"IF(AND(K165<>\"\",ISBLANK(N165),K165<TODAY()),\"Oui\",\"Non\")","v":"Non"},{"$f":"IF(ISBLANK(I165),\"\",IF(K165=\"\",\"délai à préciser\",IF(M165=\"\",\"statut à préciser\",IF(M165=\"finalisée\",IF(N165=\"\",\"date de solde à préciser\",IF(K165>=N165,\"fait\",\"retard\")),(IF(K165<TODAY(),\"retard\",\"Ok\"))))))","v":""},{"$f":"IF(AND(N165<>\"\",ISBLANK(N165),K165<TODAY()),\"Oui\",\"Non\")","v":"Non"},null,{"$f":"IF(ISBLANK(H165),\"\",IF(OR(H165=\"Préventive\",H165=\"Corrective\"),\"Oui\",\"Non\"))","v":""},null,null,null,null,null,{"$f":"IF(AND(U165<>\"\",ISBLANK(X165),U165<TODAY()),\"Oui\",\"Non\")","v":"Non"},{"$f":"IF(AND(S165=\"Oui\",ISBLANK(X165)),\"Oui\",\"Non\")","v":"Non"},null,null,null,null,{"$f":"IF(K165=\"\",\"\",K165-TODAY())","v":""},{"$f":"IF(ISBLANK(F165),CONCATENATE(E165,\" - \",AG165),CONCATENATE(F165,\" - \",AG165))","v":" - "},{"$f":"IF(ISBLANK(B165),\"\",YEAR(C165))","v":""},{"$f":"CONCATENATE(H165,\"-\",AG165)","v":"-"},{"$f":"CONCATENATE(M165,\"-\",AH165)","v":"--"}]
[{"$f":"IF(ISBLANK(B166),\"\",$C$2)","v":""},null,null,{"$f":"IF(ISBLANK(B166),\"\",COUNTA(#REF!))","v":""},null,null,null,null,null,null,null,null,null,null,{"$f":"IF(AND(K166<>\"\",ISBLANK(N166),K166<TODAY()),\"Oui\",\"Non\")","v":"Non"},{"$f":"IF(ISBLANK(I166),\"\",IF(K166=\"\",\"délai à préciser\",IF(M166=\"\",\"statut à préciser\",IF(M166=\"finalisée\",IF(N166=\"\",\"date de solde à préciser\",IF(K166>=N166,\"fait\",\"retard\")),(IF(K166<TODAY(),\"retard\",\"Ok\"))))))","v":""},{"$f":"IF(AND(N166<>\"\",ISBLANK(N166),K166<TODAY()),\"Oui\",\"Non\")","v":"Non"},null,{"$f":"IF(ISBLANK(H166),\"\",IF(OR(H166=\"Préventive\",H166=\"Corrective\"),\"Oui\",\"Non\"))","v":""},null,null,null,null,null,{"$f":"IF(AND(U166<>\"\",ISBLANK(X166),U166<TODAY()),\"Oui\",\"Non\")","v":"Non"},{"$f":"IF(AND(S166=\"Oui\",ISBLANK(X166)),\"Oui\",\"Non\")","v":"Non"},null,null,null,null,{"$f":"IF(K166=\"\",\"\",K166-TODAY())","v":""},{"$f":"IF(ISBLANK(F166),CONCATENATE(E166,\" - \",AG166),CONCATENATE(F166,\" - \",AG166))","v":" - "},{"$f":"IF(ISBLANK(B166),\"\",YEAR(C166))","v":""},{"$f":"CONCATENATE(H166,\"-\",AG166)","v":"-"},{"$f":"CONCATENATE(M166,\"-\",AH166)","v":"--"}]
[{"$f":"IF(ISBLANK(B167),\"\",$C$2)","v":""},null,null,{"$f":"IF(ISBLANK(B167),\"\",COUNTA(#REF!))","v":""},null,null,null,null,null,null,null,null,null,null,{"$f":"IF(AND(K167<>\"\",ISBLANK(N167),K167<TODAY()),\"Oui\",\"Non\")","v":"Non"},{"$f":"IF(ISBLANK(I167),\"\",IF(K167=\"\",\"délai à préciser\",IF(M167=\"\",\"statut à préciser\",IF(M167=\"finalisée\",IF(N167=\"\",\"date de solde à préciser\",IF(K167>=N167,\"fait\",\"retard\")),(IF(K167<TODAY(),\"retard\",\"Ok\"))))))","v":""},{"$f":"IF(AND(N167<>\"\",ISBLANK(N167),K167<TODAY()),\"Oui\",\"Non\")","v":"Non"},null,{"$f":"IF(ISBLANK(H167),\"\",IF(OR(H167=\"Préventive\",H167=\"Corrective\"),\"Oui\",\"Non\"))","v":""},null,null,null,null,null,{"$f":"IF(AND(U167<>\"\",ISBLANK(X167),U167<TODAY()),\"Oui\",\"Non\")","v":"Non"},{"$f":"IF(AND(S167=\"Oui\",ISBLANK(X167)),\"Oui\",\"Non\")","v":"Non"},null,null,null,null,{"$f":"IF(K167=\"\",\"\",K167-TODAY())","v":""},{"$f":"IF(ISBLANK(F167),CONCATENATE(E167,\" - \",AG167),CONCATENATE(F167,\" - \",AG167))","v":" - "},{"$f":"IF(ISBLANK(B167),\"\",YEAR(C167))","v":""},{"$f":"CONCATENATE(H167,\"-\",AG167)","v":"-"},{"$f":"CONCATENATE(M167,\"-\",AH167)","v":"--"}]
[{"$f":"IF(ISBLANK(B168),\"\",$C$2)","v":""},null,null,{"$f":"IF(ISBLANK(B168),\"\",COUNTA(#REF!))","v":""},null,null,null,null,null,null,null,null,null,null,{"$f":"IF(AND(K168<>\"\",ISBLANK(N168),K168<TODAY()),\"Oui\",\"Non\")","v":"Non"},{"$f":"IF(ISBLANK(I168),\"\",IF(K168=\"\",\"délai à préciser\",IF(M168=\"\",\"statut à préciser\",IF(M168=\"finalisée\",IF(N168=\"\",\"date de solde à préciser\",IF(K168>=N168,\"fait\",\"retard\")),(IF(K168<TODAY(),\"retard\",\"Ok\"))))))","v":""},{"$f":"IF(AND(N168<>\"\",ISBLANK(N168),K168<TODAY()),\"Oui\",\"Non\")","v":"Non"},null,{"$f":"IF(ISBLANK(H168),\"\",IF(OR(H168=\"Préventive\",H168=\"Corrective\"),\"Oui\",\"Non\"))","v":""},null,null,null,null,null,{"$f":"IF(AND(U168<>\"\",ISBLANK(X168),U168<TODAY()),\"Oui\",\"Non\")","v":"Non"},{"$f":"IF(AND(S168=\"Oui\",ISBLANK(X168)),\"Oui\",\"Non\")","v":"Non"},null,null,null,null,{"$f":"IF(K168=\"\",\"\",K168-TODAY())","v":""},{"$f":"IF(ISBLANK(F168),CONCATENATE(E168,\" - \",AG168),CONCATENATE(F168,\" - \",AG168))","v":" - "},{"$f":"IF(ISBLANK(B168),\"\",YEAR(C168))","v":""},{"$f":"CONCATENATE(H168,\"-\",AG168)","v":"-"},{"$f":"CONCATENATE(M168,\"-\",AH168)","v":"--"}]
[{"$f":"IF(ISBLANK(B169),\"\",$C$2)","v":""},null,null,{"$f":"IF(ISBLANK(B169),\"\",COUNTA(#REF!))","v":""},null,null,null,null,null,null,null,null,null,null,{"$f":"IF(AND(K169<>\"\",ISBLANK(N169),K169<TODAY()),\"Oui\",\"Non\")","v":"Non"},{"$f":"IF(ISBLANK(I169),\"\",IF(K169=\"\",\"délai à préciser\",IF(M169=\"\",\"statut à préciser\",IF(M169=\"finalisée\",IF(N169=\"\",\"date de solde à préciser\",IF(K169>=N169,\"fait\",\"retard\")),(IF(K169<TODAY(),\"retard\",\"Ok\"))))))","v":""},{"$f":"IF(AND(N169<>\"\",ISBLANK(N169),K169<TODAY()),\"Oui\",\"Non\")","v":"Non"},null,{"$f":"IF(ISBLANK(H169),\"\",IF(OR(H169=\"Préventive\",H169=\"Corrective\"),\"Oui\",\"Non\"))","v":""},null,null,null,null,null,{"$f":"IF(AND(U169<>\"\",ISBLANK(X169),U169<TODAY()),\"Oui\",\"Non\")","v":"Non"},{"$f":"IF(AND(S169=\"Oui\",ISBLANK(X169)),\"Oui\",\"Non\")","v":"Non"},null,null,null,null,{"$f":"IF(K169=\"\",\"\",K169-TODAY())","v":""},{"$f":"IF(ISBLANK(F169),CONCATENATE(E169,\" - \",AG169),CONCATENATE(F169,\" - \",AG169))","v":" - "},{"$f":"IF(ISBLANK(B169),\"\",YEAR(C169))","v":""},{"$f":"CONCATENATE(H169,\"-\",AG169)","v":"-"},{"$f":"CONCATENATE(M169,\"-\",AH169)","v":"--"}]
[{"$f":"IF(ISBLANK(B170),\"\",$C$2)","v":""},null,null,{"$f":"IF(ISBLANK(B170),\"\",COUNTA(#REF!))","v":""},null,null,null,null,null,null,null,null,null,null,{"$f":"IF(AND(K170<>\"\",ISBLANK(N170),K170<TODAY()),\"Oui\",\"Non\")","v":"Non"},{"$f":"IF(ISBLANK(I170),\"\",IF(K170=\"\",\"délai à préciser\",IF(M170=\"\",\"statut à préciser\",IF(M170=\"finalisée\",IF(N170=\"\",\"date de solde à préciser\",IF(K170>=N170,\"fait\",\"retard\")),(IF(K170<TODAY(),\"retard\",\"Ok\"))))))","v":""},{"$f":"IF(AND(N170<>\"\",ISBLANK(N170),K170<TODAY()),\"Oui\",\"Non\")","v":"Non"},null,{"$f":"IF(ISBLANK(H170),\"\",IF(OR(H170=\"Préventive\",H170=\"Corrective\"),\"Oui\",\"Non\"))","v":""},null,null,null,null,null,{"$f":"IF(AND(U170<>\"\",ISBLANK(X170),U170<TODAY()),\"Oui\",\"Non\")","v":"Non"},{"$f":"IF(AND(S170=\"Oui\",ISBLANK(X170)),\"Oui\",\"Non\")","v":"Non"},null,null,null,null,{"$f":"IF(K170=\"\",\"\",K170-TODAY())","v":""},{"$f":"IF(ISBLANK(F170),CONCATENATE(E170,\" - \",AG170),CONCATENATE(F170,\" - \",AG170))","v":" - "},{"$f":"IF(ISBLANK(B170),\"\",YEAR(C170))","v":""},{"$f":"CONCATENATE(H170,\"-\",AG170)","v":"-"},{"$f":"CONCATENATE(M170,\"-\",AH170)","v":"--"}]
[{"$f":"IF(ISBLANK(B171),\"\",$C$2)","v":""},null,null,{"$f":"IF(ISBLANK(B171),\"\",COUNTA(#REF!))","v":""},null,null,null,null,null,null,null,null,null,null,{"$f":"IF(AND(K171<>\"\",ISBLANK(N171),K171<TODAY()),\"Oui\",\"Non\")","v":"Non"},{"$f":"IF(ISBLANK(I171),\"\",IF(K171=\"\",\"délai à préciser\",IF(M171=\"\",\"statut à préciser\",IF(M171=\"finalisée\",IF(N171=\"\",\"date de solde à préciser\",IF(K171>=N171,\"fait\",\"retard\")),(IF(K171<TODAY(),\"retard\",\"Ok\"))))))","v":""},{"$f":"IF(AND(N171<>\"\",ISBLANK(N171),K171<TODAY()),\"Oui\",\"Non\")","v":"Non"},null,{"$f":"IF(ISBLANK(H171),\"\",IF(OR(H171=\"Préventive\",H171=\"Corrective\"),\"Oui\",\"Non\"))","v":""},null,null,null,null,null,{"$f":"IF(AND(U171<>\"\",ISBLANK(X171),U171<TODAY()),\"Oui\",\"Non\")","v":"Non"},{"$f":"IF(AND(S171=\"Oui\",ISBLANK(X171)),\"Oui\",\"Non\")","v":"Non"},null,null,null,null,{"$f":"IF(K171=\"\",\"\",K171-TODAY())","v":""},{"$f":"IF(ISBLANK(F171),CONCATENATE(E171,\" - \",AG171),CONCATENATE(F171,\" - \",AG171))","v":" - "},{"$f":"IF(ISBLANK(B171),\"\",YEAR(C171))","v":""},{"$f":"CONCATENATE(H171,\"-\",AG171)","v":"-"},{"$f":"CONCATENATE(M171,\"-\",AH171)","v":"--"}]
[{"$f":"IF(ISBLANK(B172),\"\",$C$2)","v":""},null,null,{"$f":"IF(ISBLANK(B172),\"\",COUNTA(#REF!))","v":""},null,null,null,null,null,null,null,null,null,null,{"$f":"IF(AND(K172<>\"\",ISBLANK(N172),K172<TODAY()),\"Oui\",\"Non\")","v":"Non"},{"$f":"IF(ISBLANK(I172),\"\",IF(K172=\"\",\"délai à préciser\",IF(M172=\"\",\"statut à préciser\",IF(M172=\"finalisée\",IF(N172=\"\",\"date de solde à préciser\",IF(K172>=N172,\"fait\",\"retard\")),(IF(K172<TODAY(),\"retard\",\"Ok\"))))))","v":""},{"$f":"IF(AND(N172<>\"\",ISBLANK(N172),K172<TODAY()),\"Oui\",\"Non\")","v":"Non"},null,{"$f":"IF(ISBLANK(H172),\"\",IF(OR(H172=\"Préventive\",H172=\"Corrective\"),\"Oui\",\"Non\"))","v":""},null,null,null,null,null,{"$f":"IF(AND(U172<>\"\",ISBLANK(X172),U172<TODAY()),\"Oui\",\"Non\")","v":"Non"},{"$f":"IF(AND(S172=\"Oui\",ISBLANK(X172)),\"Oui\",\"Non\")","v":"Non"},null,null,null,null,{"$f":"IF(K172=\"\",\"\",K172-TODAY())","v":""},{"$f":"IF(ISBLANK(F172),CONCATENATE(E172,\" - \",AG172),CONCATENATE(F172,\" - \",AG172))","v":" - "},{"$f":"IF(ISBLANK(B172),\"\",YEAR(C172))","v":""},{"$f":"CONCATENATE(H172,\"-\",AG172)","v":"-"},{"$f":"CONCATENATE(M172,\"-\",AH172)","v":"--"}]
[{"$f":"IF(ISBLANK(B173),\"\",$C$2)","v":""},null,null,{"$f":"IF(ISBLANK(B173),\"\",COUNTA(#REF!))","v":""},null,null,null,null,null,null,null,null,null,null,{"$f":"IF(AND(K173<>\"\",ISBLANK(N173),K173<TODAY()),\"Oui\",\"Non\")","v":"Non"},{"$f":"IF(ISBLANK(I173),\"\",IF(K173=\"\",\"délai à préciser\",IF(M173=\"\",\"statut à préciser\",IF(M173=\"finalisée\",IF(N173=\"\",\"date de solde à préciser\",IF(K173>=N173,\"fait\",\"retard\")),(IF(K173<TODAY(),\"retard\",\"Ok\"))))))","v":""},{"$f":"IF(AND(N173<>\"\",ISBLANK(N173),K173<TODAY()),\"Oui\",\"Non\")","v":"Non"},null,{"$f":"IF(ISBLANK(H173),\"\",IF(OR(H173=\"Préventive\",H173=\"Corrective\"),\"Oui\",\"Non\"))","v":""},null,null,null,null,null,{"$f":"IF(AND(U173<>\"\",ISBLANK(X173),U173<TODAY()),\"Oui\",\"Non\")","v":"Non"},{"$f":"IF(AND(S173=\"Oui\",ISBLANK(X173)),\"Oui\",\"Non\")","v":"Non"},null,null,null,null,{"$f":"IF(K173=\"\",\"\",K173-TODAY())","v":""},{"$f":"IF(ISBLANK(F173),CONCATENATE(E173,\" - \",AG173),CONCATENATE(F173,\" - \",AG173))","v":" - "},{"$f":"IF(ISBLANK(B173),\"\",YEAR(C173))","v":""},{"$f":"CONCATENATE(H173,\"-\",AG173)","v":"-"},{"$f":"CONCATENATE(M173,\"-\",AH173)","v":"--"}]
[{"$f":"IF(ISBLANK(B174),\"\",$C$2)","v":""},null,null,{"$f":"IF(ISBLANK(B174),\"\",COUNTA(#REF!))","v":""},null,null,null,null,null,null,null,null,null,null,{"$f":"IF(AND(K174<>\"\",ISBLANK(N174),K174<TODAY()),\"Oui\",\"Non\")","v":"Non"},{"$f":"IF(ISBLANK(I174),\"\",IF(K174=\"\",\"délai à préciser\",IF(M174=\"\",\"statut à préciser\",IF(M174=\"finalisée\",IF(N174=\"\",\"date de solde à préciser\",IF(K174>=N174,\"fait\",\"retard\")),(IF(K174<TODAY(),\"retard\",\"Ok\"))))))","v":""},{"$f":"IF(AND(N174<>\"\",ISBLANK(N174),K174<TODAY()),\"Oui\",\"Non\")","v":"Non"},null,{"$f":"IF(ISBLANK(H174),\"\",IF(OR(H174=\"Préventive\",H174=\"Corrective\"),\"Oui\",\"Non\"))","v":""},null,null,null,null,null,{"$f":"IF(AND(U174<>\"\",ISBLANK(X174),U174<TODAY()),\"Oui\",\"Non\")","v":"Non"},{"$f":"IF(AND(S174=\"Oui\",ISBLANK(X174)),\"Oui\",\"Non\")","v":"Non"},null,null,null,null,{"$f":"IF(K174=\"\",\"\",K174-TODAY())","v":""},{"$f":"IF(ISBLANK(F174),CONCATENATE(E174,\" - \",AG174),CONCATENATE(F174,\" - \",AG174))","v":" - "},{"$f":"IF(ISBLANK(B174),\"\",YEAR(C174))","v":""},{"$f":"CONCATENATE(H174,\"-\",AG174)","v":"-"},{"$f":"CONCATENATE(M174,\"-\",AH174)","v":"--"}]
[{"$f":"IF(ISBLANK(B175),\"\",$C$2)","v":""},null,null,{"$f":"IF(ISBLANK(B175),\"\",COUNTA(#REF!))","v":""},null,null,null,null,null,null,null,null,null,null,{"$f":"IF(AND(K175<>\"\",ISBLANK(N175),K175<TODAY()),\"Oui\",\"Non\")","v":"Non"},{"$f":"IF(ISBLANK(I175),\"\",IF(K175=\"\",\"délai à préciser\",IF(M175=\"\",\"statut à préciser\",IF(M175=\"finalisée\",IF(N175=\"\",\"date de solde à préciser\",IF(K175>=N175,\"fait\",\"retard\")),(IF(K175<TODAY(),\"retard\",\"Ok\"))))))","v":""},{"$f":"IF(AND(N175<>\"\",ISBLANK(N175),K175<TODAY()),\"Oui\",\"Non\")","v":"Non"},null,{"$f":"IF(ISBLANK(H175),\"\",IF(OR(H175=\"Préventive\",H175=\"Corrective\"),\"Oui\",\"Non\"))","v":""},null,null,null,null,null,{"$f":"IF(AND(U175<>\"\",ISBLANK(X175),U175<TODAY()),\"Oui\",\"Non\")","v":"Non"},{"$f":"IF(AND(S175=\"Oui\",ISBLANK(X175)),\"Oui\",\"Non\")","v":"Non"},null,null,null,null,{"$f":"IF(K175=\"\",\"\",K175-TODAY())","v":""},{"$f":"IF(ISBLANK(F175),CONCATENATE(E175,\" - \",AG175),CONCATENATE(F175,\" - \",AG175))","v":" - "},{"$f":"IF(ISBLANK(B175),\"\",YEAR(C175))","v":""},{"$f":"CONCATENATE(H175,\"-\",AG175)","v":"-"},{"$f":"CONCATENATE(M175,\"-\",AH175)","v":"--"}]
[{"$f":"IF(ISBLANK(B176),\"\",$C$2)","v":""},null,null,{"$f":"IF(ISBLANK(B176),\"\",COUNTA(#REF!))","v":""},null,null,null,null,null,null,null,null,null,null,{"$f":"IF(AND(K176<>\"\",ISBLANK(N176),K176<TODAY()),\"Oui\",\"Non\")","v":"Non"},{"$f":"IF(ISBLANK(I176),\"\",IF(K176=\"\",\"délai à préciser\",IF(M176=\"\",\"statut à préciser\",IF(M176=\"finalisée\",IF(N176=\"\",\"date de solde à préciser\",IF(K176>=N176,\"fait\",\"retard\")),(IF(K176<TODAY(),\"retard\",\"Ok\"))))))","v":""},{"$f":"IF(AND(N176<>\"\",ISBLANK(N176),K176<TODAY()),\"Oui\",\"Non\")","v":"Non"},null,{"$f":"IF(ISBLANK(H176),\"\",IF(OR(H176=\"Préventive\",H176=\"Corrective\"),\"Oui\",\"Non\"))","v":""},null,null,null,null,null,{"$f":"IF(AND(U176<>\"\",ISBLANK(X176),U176<TODAY()),\"Oui\",\"Non\")","v":"Non"},{"$f":"IF(AND(S176=\"Oui\",ISBLANK(X176)),\"Oui\",\"Non\")","v":"Non"},null,null,null,null,{"$f":"IF(K176=\"\",\"\",K176-TODAY())","v":""},{"$f":"IF(ISBLANK(F176),CONCATENATE(E176,\" - \",AG176),CONCATENATE(F176,\" - \",AG176))","v":" - "},{"$f":"IF(ISBLANK(B176),\"\",YEAR(C176))","v":""},{"$f":"CONCATENATE(H176,\"-\",AG176)","v":"-"},{"$f":"CONCATENATE(M176,\"-\",AH176)","v":"--"}]
[{"$f":"IF(ISBLANK(B177),\"\",$C$2)","v":""},null,null,{"$f":"IF(ISBLANK(B177),\"\",COUNTA(#REF!))","v":""},null,null,null,null,null,null,null,null,null,null,{"$f":"IF(AND(K177<>\"\",ISBLANK(N177),K177<TODAY()),\"Oui\",\"Non\")","v":"Non"},{"$f":"IF(ISBLANK(I177),\"\",IF(K177=\"\",\"délai à préciser\",IF(M177=\"\",\"statut à préciser\",IF(M177=\"finalisée\",IF(N177=\"\",\"date de solde à préciser\",IF(K177>=N177,\"fait\",\"retard\")),(IF(K177<TODAY(),\"retard\",\"Ok\"))))))","v":""},{"$f":"IF(AND(N177<>\"\",ISBLANK(N177),K177<TODAY()),\"Oui\",\"Non\")","v":"Non"},null,{"$f":"IF(ISBLANK(H177),\"\",IF(OR(H177=\"Préventive\",H177=\"Corrective\"),\"Oui\",\"Non\"))","v":""},null,null,null,null,null,{"$f":"IF(AND(U177<>\"\",ISBLANK(X177),U177<TODAY()),\"Oui\",\"Non\")","v":"Non"},{"$f":"IF(AND(S177=\"Oui\",ISBLANK(X177)),\"Oui\",\"Non\")","v":"Non"},null,null,null,null,{"$f":"IF(K177=\"\",\"\",K177-TODAY())","v":""},{"$f":"IF(ISBLANK(F177),CONCATENATE(E177,\" - \",AG177),CONCATENATE(F177,\" - \",AG177))","v":" - "},{"$f":"IF(ISBLANK(B177),\"\",YEAR(C177))","v":""},{"$f":"CONCATENATE(H177,\"-\",AG177)","v":"-"},{"$f":"CONCATENATE(M177,\"-\",AH177)","v":"--"}]
[{"$f":"IF(ISBLANK(B178),\"\",$C$2)","v":""},null,null,{"$f":"IF(ISBLANK(B178),\"\",COUNTA(#REF!))","v":""},null,null,null,null,null,null,null,null,null,null,{"$f":"IF(AND(K178<>\"\",ISBLANK(N178),K178<TODAY()),\"Oui\",\"Non\")","v":"Non"},{"$f":"IF(ISBLANK(I178),\"\",IF(K178=\"\",\"délai à préciser\",IF(M178=\"\",\"statut à préciser\",IF(M178=\"finalisée\",IF(N178=\"\",\"date de solde à préciser\",IF(K178>=N178,\"fait\",\"retard\")),(IF(K178<TODAY(),\"retard\",\"Ok\"))))))","v":""},{"$f":"IF(AND(N178<>\"\",ISBLANK(N178),K178<TODAY()),\"Oui\",\"Non\")","v":"Non"},null,{"$f":"IF(ISBLANK(H178),\"\",IF(OR(H178=\"Préventive\",H178=\"Corrective\"),\"Oui\",\"Non\"))","v":""},null,null,null,null,null,{"$f":"IF(AND(U178<>\"\",ISBLANK(X178),U178<TODAY()),\"Oui\",\"Non\")","v":"Non"},{"$f":"IF(AND(S178=\"Oui\",ISBLANK(X178)),\"Oui\",\"Non\")","v":"Non"},null,null,null,null,{"$f":"IF(K178=\"\",\"\",K178-TODAY())","v":""},{"$f":"IF(ISBLANK(F178),CONCATENATE(E178,\" - \",AG178),CONCATENATE(F178,\" - \",AG178))","v":" - "},{"$f":"IF(ISBLANK(B178),\"\",YEAR(C178))","v":""},{"$f":"CONCATENATE(H178,\"-\",AG178)","v":"-"},{"$f":"CONCATENATE(M178,\"-\",AH178)","v":"--"}]
[{"$f":"IF(ISBLANK(B179),\"\",$C$2)","v":""},null,null,{"$f":"IF(ISBLANK(B179),\"\",COUNTA(#REF!))","v":""},null,null,null,null,null,null,null,null,null,null,{"$f":"IF(AND(K179<>\"\",ISBLANK(N179),K179<TODAY()),\"Oui\",\"Non\")","v":"Non"},{"$f":"IF(ISBLANK(I179),\"\",IF(K179=\"\",\"délai à préciser\",IF(M179=\"\",\"statut à préciser\",IF(M179=\"finalisée\",IF(N179=\"\",\"date de solde à préciser\",IF(K179>=N179,\"fait\",\"retard\")),(IF(K179<TODAY(),\"retard\",\"Ok\"))))))","v":""},{"$f":"IF(AND(N179<>\"\",ISBLANK(N179),K179<TODAY()),\"Oui\",\"Non\")","v":"Non"},null,{"$f":"IF(ISBLANK(H179),\"\",IF(OR(H179=\"Préventive\",H179=\"Corrective\"),\"Oui\",\"Non\"))","v":""},null,null,null,null,null,{"$f":"IF(AND(U179<>\"\",ISBLANK(X179),U179<TODAY()),\"Oui\",\"Non\")","v":"Non"},{"$f":"IF(AND(S179=\"Oui\",ISBLANK(X179)),\"Oui\",\"Non\")","v":"Non"},null,null,null,null,{"$f":"IF(K179=\"\",\"\",K179-TODAY())","v":""},{"$f":"IF(ISBLANK(F179),CONCATENATE(E179,\" - \",AG179),CONCATENATE(F179,\" - \",AG179))","v":" - "},{"$f":"IF(ISBLANK(B179),\"\",YEAR(C179))","v":""},{"$f":"CONCATENATE(H179,\"-\",AG179)","v":"-"},{"$f":"CONCATENATE(M179,\"-\",AH179)","v":"--"}]
[{"$f":"IF(ISBLANK(B180),\"\",$C$2)","v":""},null,null,{"$f":"IF(ISBLANK(B180),\"\",COUNTA(#REF!))","v":""},null,null,null,null,null,null,null,null,null,null,{"$f":"IF(AND(K180<>\"\",ISBLANK(N180),K180<TODAY()),\"Oui\",\"Non\")","v":"Non"},{"$f":"IF(ISBLANK(I180),\"\",IF(K180=\"\",\"délai à préciser\",IF(M180=\"\",\"statut à préciser\",IF(M180=\"finalisée\",IF(N180=\"\",\"date de solde à préciser\",IF(K180>=N180,\"fait\",\"retard\")),(IF(K180<TODAY(),\"retard\",\"Ok\"))))))","v":""},{"$f":"IF(AND(N180<>\"\",ISBLANK(N180),K180<TODAY()),\"Oui\",\"Non\")","v":"Non"},null,{"$f":"IF(ISBLANK(H180),\"\",IF(OR(H180=\"Préventive\",H180=\"Corrective\"),\"Oui\",\"Non\"))","v":""},null,null,null,null,null,{"$f":"IF(AND(U180<>\"\",ISBLANK(X180),U180<TODAY()),\"Oui\",\"Non\")","v":"Non"},{"$f":"IF(AND(S180=\"Oui\",ISBLANK(X180)),\"Oui\",\"Non\")","v":"Non"},null,null,null,null,{"$f":"IF(K180=\"\",\"\",K180-TODAY())","v":""},{"$f":"IF(ISBLANK(F180),CONCATENATE(E180,\" - \",AG180),CONCATENATE(F180,\" - \",AG180))","v":" - "},{"$f":"IF(ISBLANK(B180),\"\",YEAR(C180))","v":""},{"$f":"CONCATENATE(H180,\"-\",AG180)","v":"-"},{"$f":"CONCATENATE(M180,\"-\",AH180)","v":"--"}]
[{"$f":"IF(ISBLANK(B181),\"\",$C$2)","v":""},null,null,{"$f":"IF(ISBLANK(B181),\"\",COUNTA(#REF!))","v":""},null,null,null,null,null,null,null,null,null,null,{"$f":"IF(AND(K181<>\"\",ISBLANK(N181),K181<TODAY()),\"Oui\",\"Non\")","v":"Non"},{"$f":"IF(ISBLANK(I181),\"\",IF(K181=\"\",\"délai à préciser\",IF(M181=\"\",\"statut à préciser\",IF(M181=\"finalisée\",IF(N181=\"\",\"date de solde à préciser\",IF(K181>=N181,\"fait\",\"retard\")),(IF(K181<TODAY(),\"retard\",\"Ok\"))))))","v":""},{"$f":"IF(AND(N181<>\"\",ISBLANK(N181),K181<TODAY()),\"Oui\",\"Non\")","v":"Non"},null,{"$f":"IF(ISBLANK(H181),\"\",IF(OR(H181=\"Préventive\",H181=\"Corrective\"),\"Oui\",\"Non\"))","v":""},null,null,null,null,null,{"$f":"IF(AND(U181<>\"\",ISBLANK(X181),U181<TODAY()),\"Oui\",\"Non\")","v":"Non"},{"$f":"IF(AND(S181=\"Oui\",ISBLANK(X181)),\"Oui\",\"Non\")","v":"Non"},null,null,null,null,{"$f":"IF(K181=\"\",\"\",K181-TODAY())","v":""},{"$f":"IF(ISBLANK(F181),CONCATENATE(E181,\" - \",AG181),CONCATENATE(F181,\" - \",AG181))","v":" - "},{"$f":"IF(ISBLANK(B181),\"\",YEAR(C181))","v":""},{"$f":"CONCATENATE(H181,\"-\",AG181)","v":"-"},{"$f":"CONCATENATE(M181,\"-\",AH181)","v":"--"}]
[{"$f":"IF(ISBLANK(B182),\"\",$C$2)","v":""},null,null,{"$f":"IF(ISBLANK(B182),\"\",COUNTA(#REF!))","v":""},null,null,null,null,null,null,null,null,null,null,{"$f":"IF(AND(K182<>\"\",ISBLANK(N182),K182<TODAY()),\"Oui\",\"Non\")","v":"Non"},{"$f":"IF(ISBLANK(I182),\"\",IF(K182=\"\",\"délai à préciser\",IF(M182=\"\",\"statut à préciser\",IF(M182=\"finalisée\",IF(N182=\"\",\"date de solde à préciser\",IF(K182>=N182,\"fait\",\"retard\")),(IF(K182<TODAY(),\"retard\",\"Ok\"))))))","v":""},{"$f":"IF(AND(N182<>\"\",ISBLANK(N182),K182<TODAY()),\"Oui\",\"Non\")","v":"Non"},null,{"$f":"IF(ISBLANK(H182),\"\",IF(OR(H182=\"Préventive\",H182=\"Corrective\"),\"Oui\",\"Non\"))","v":""},null,null,null,null,null,{"$f":"IF(AND(U182<>\"\",ISBLANK(X182),U182<TODAY()),\"Oui\",\"Non\")","v":"Non"},{"$f":"IF(AND(S182=\"Oui\",ISBLANK(X182)),\"Oui\",\"Non\")","v":"Non"},null,null,null,null,{"$f":"IF(K182=\"\",\"\",K182-TODAY())","v":""},{"$f":"IF(ISBLANK(F182),CONCATENATE(E182,\" - \",AG182),CONCATENATE(F182,\" - \",AG182))","v":" - "},{"$f":"IF(ISBLANK(B182),\"\",YEAR(C182))","v":""},{"$f":"CONCATENATE(H182,\"-\",AG182)","v":"-"},{"$f":"CONCATENATE(M182,\"-\",AH182)","v":"--"}]
[{"$f":"IF(ISBLANK(B183),\"\",$C$2)","v":""},null,null,{"$f":"IF(ISBLANK(B183),\"\",COUNTA(#REF!))","v":""},null,null,null,null,null,null,null,null,null,null,{"$f":"IF(AND(K183<>\"\",ISBLANK(N183),K183<TODAY()),\"Oui\",\"Non\")","v":"Non"},{"$f":"IF(ISBLANK(I183),\"\",IF(K183=\"\",\"délai à préciser\",IF(M183=\"\",\"statut à préciser\",IF(M183=\"finalisée\",IF(N183=\"\",\"date de solde à préciser\",IF(K183>=N183,\"fait\",\"retard\")),(IF(K183<TODAY(),\"retard\",\"Ok\"))))))","v":""},{"$f":"IF(AND(N183<>\"\",ISBLANK(N183),K183<TODAY()),\"Oui\",\"Non\")","v":"Non"},null,{"$f":"IF(ISBLANK(H183),\"\",IF(OR(H183=\"Préventive\",H183=\"Corrective\"),\"Oui\",\"Non\"))","v":""},null,null,null,null,null,{"$f":"IF(AND(U183<>\"\",ISBLANK(X183),U183<TODAY()),\"Oui\",\"Non\")","v":"Non"},{"$f":"IF(AND(S183=\"Oui\",ISBLANK(X183)),\"Oui\",\"Non\")","v":"Non"},null,null,null,null,{"$f":"IF(K183=\"\",\"\",K183-TODAY())","v":""},{"$f":"IF(ISBLANK(F183),CONCATENATE(E183,\" - \",AG183),CONCATENATE(F183,\" - \",AG183))","v":" - "},{"$f":"IF(ISBLANK(B183),\"\",YEAR(C183))","v":""},{"$f":"CONCATENATE(H183,\"-\",AG183)","v":"-"},{"$f":"CONCATENATE(M183,\"-\",AH183)","v":"--"}]
[{"$f":"IF(ISBLANK(B184),\"\",$C$2)","v":""},null,null,{"$f":"IF(ISBLANK(B184),\"\",COUNTA(#REF!))","v":""},null,null,null,null,null,null,null,null,null,null,{"$f":"IF(AND(K184<>\"\",ISBLANK(N184),K184<TODAY()),\"Oui\",\"Non\")","v":"Non"},{"$f":"IF(ISBLANK(I184),\"\",IF(K184=\"\",\"délai à préciser\",IF(M184=\"\",\"statut à préciser\",IF(M184=\"finalisée\",IF(N184=\"\",\"date de solde à préciser\",IF(K184>=N184,\"fait\",\"retard\")),(IF(K184<TODAY(),\"retard\",\"Ok\"))))))","v":""},{"$f":"IF(AND(N184<>\"\",ISBLANK(N184),K184<TODAY()),\"Oui\",\"Non\")","v":"Non"},null,{"$f":"IF(ISBLANK(H184),\"\",IF(OR(H184=\"Préventive\",H184=\"Corrective\"),\"Oui\",\"Non\"))","v":""},null,null,null,null,null,{"$f":"IF(AND(U184<>\"\",ISBLANK(X184),U184<TODAY()),\"Oui\",\"Non\")","v":"Non"},{"$f":"IF(AND(S184=\"Oui\",ISBLANK(X184)),\"Oui\",\"Non\")","v":"Non"},null,null,null,null,{"$f":"IF(K184=\"\",\"\",K184-TODAY())","v":""},{"$f":"IF(ISBLANK(F184),CONCATENATE(E184,\" - \",AG184),CONCATENATE(F184,\" - \",AG184))","v":" - "},{"$f":"IF(ISBLANK(B184),\"\",YEAR(C184))","v":""},{"$f":"CONCATENATE(H184,\"-\",AG184)","v":"-"},{"$f":"CONCATENATE(M184,\"-\",AH184)","v":"--"}]
[{"$f":"IF(ISBLANK(B185),\"\",$C$2)","v":""},null,null,{"$f":"IF(ISBLANK(B185),\"\",COUNTA(#REF!))","v":""},null,null,null,null,null,null,null,null,null,null,{"$f":"IF(AND(K185<>\"\",ISBLANK(N185),K185<TODAY()),\"Oui\",\"Non\")","v":"Non"},{"$f":"IF(ISBLANK(I185),\"\",IF(K185=\"\",\"délai à préciser\",IF(M185=\"\",\"statut à préciser\",IF(M185=\"finalisée\",IF(N185=\"\",\"date de solde à préciser\",IF(K185>=N185,\"fait\",\"retard\")),(IF(K185<TODAY(),\"retard\",\"Ok\"))))))","v":""},{"$f":"IF(AND(N185<>\"\",ISBLANK(N185),K185<TODAY()),\"Oui\",\"Non\")","v":"Non"},null,{"$f":"IF(ISBLANK(H185),\"\",IF(OR(H185=\"Préventive\",H185=\"Corrective\"),\"Oui\",\"Non\"))","v":""},null,null,null,null,null,{"$f":"IF(AND(U185<>\"\",ISBLANK(X185),U185<TODAY()),\"Oui\",\"Non\")","v":"Non"},{"$f":"IF(AND(S185=\"Oui\",ISBLANK(X185)),\"Oui\",\"Non\")","v":"Non"},null,null,null,null,{"$f":"IF(K185=\"\",\"\",K185-TODAY())","v":""},{"$f":"IF(ISBLANK(F185),CONCATENATE(E185,\" - \",AG185),CONCATENATE(F185,\" - \",AG185))","v":" - "},{"$f":"IF(ISBLANK(B185),\"\",YEAR(C185))","v":""},{"$f":"CONCATENATE(H185,\"-\",AG185)","v":"-"},{"$f":"CONCATENATE(M185,\"-\",AH185)","v":"--"}]
[{"$f":"IF(ISBLANK(B186),\"\",$C$2)","v":""},null,null,{"$f":"IF(ISBLANK(B186),\"\",COUNTA(#REF!))","v":""},null,null,null,null,null,null,null,null,null,null,{"$f":"IF(AND(K186<>\"\",ISBLANK(N186),K186<TODAY()),\"Oui\",\"Non\")","v":"Non"},{"$f":"IF(ISBLANK(I186),\"\",IF(K186=\"\",\"délai à préciser\",IF(M186=\"\",\"statut à préciser\",IF(M186=\"finalisée\",IF(N186=\"\",\"date de solde à préciser\",IF(K186>=N186,\"fait\",\"retard\")),(IF(K186<TODAY(),\"retard\",\"Ok\"))))))","v":""},{"$f":"IF(AND(N186<>\"\",ISBLANK(N186),K186<TODAY()),\"Oui\",\"Non\")","v":"Non"},null,{"$f":"IF(ISBLANK(H186),\"\",IF(OR(H186=\"Préventive\",H186=\"Corrective\"),\"Oui\",\"Non\"))","v":""},null,null,null,null,null,{"$f":"IF(AND(U186<>\"\",ISBLANK(X186),U186<TODAY()),\"Oui\",\"Non\")","v":"Non"},{"$f":"IF(AND(S186=\"Oui\",ISBLANK(X186)),\"Oui\",\"Non\")","v":"Non"},null,null,null,null,{"$f":"IF(K186=\"\",\"\",K186-TODAY())","v":""},{"$f":"IF(ISBLANK(F186),CONCATENATE(E186,\" - \",AG186),CONCATENATE(F186,\" - \",AG186))","v":" - "},{"$f":"IF(ISBLANK(B186),\"\",YEAR(C186))","v":""},{"$f":"CONCATENATE(H186,\"-\",AG186)","v":"-"},{"$f":"CONCATENATE(M186,\"-\",AH186)","v":"--"}]
[{"$f":"IF(ISBLANK(B187),\"\",$C$2)","v":""},null,null,{"$f":"IF(ISBLANK(B187),\"\",COUNTA(#REF!))","v":""},null,null,null,null,null,null,null,null,null,null,{"$f":"IF(AND(K187<>\"\",ISBLANK(N187),K187<TODAY()),\"Oui\",\"Non\")","v":"Non"},{"$f":"IF(ISBLANK(I187),\"\",IF(K187=\"\",\"délai à préciser\",IF(M187=\"\",\"statut à préciser\",IF(M187=\"finalisée\",IF(N187=\"\",\"date de solde à préciser\",IF(K187>=N187,\"fait\",\"retard\")),(IF(K187<TODAY(),\"retard\",\"Ok\"))))))","v":""},{"$f":"IF(AND(N187<>\"\",ISBLANK(N187),K187<TODAY()),\"Oui\",\"Non\")","v":"Non"},null,{"$f":"IF(ISBLANK(H187),\"\",IF(OR(H187=\"Préventive\",H187=\"Corrective\"),\"Oui\",\"Non\"))","v":""},null,null,null,null,null,{"$f":"IF(AND(U187<>\"\",ISBLANK(X187),U187<TODAY()),\"Oui\",\"Non\")","v":"Non"},{"$f":"IF(AND(S187=\"Oui\",ISBLANK(X187)),\"Oui\",\"Non\")","v":"Non"},null,null,null,null,{"$f":"IF(K187=\"\",\"\",K187-TODAY())","v":""},{"$f":"IF(ISBLANK(F187),CONCATENATE(E187,\" - \",AG187),CONCATENATE(F187,\" - \",AG187))","v":" - "},{"$f":"IF(ISBLANK(B187),\"\",YEAR(C187))","v":""},{"$f":"CONCATENATE(H187,\"-\",AG187)","v":"-"},{"$f":"CONCATENATE(M187,\"-\",AH187)","v":"--"}]
[{"$f":"IF(ISBLANK(B188),\"\",$C$2)","v":""},null,null,{"$f":"IF(ISBLANK(B188),\"\",COUNTA(#REF!))","v":""},null,null,null,null,null,null,null,null,null,null,{"$f":"IF(AND(K188<>\"\",ISBLANK(N188),K188<TODAY()),\"Oui\",\"Non\")","v":"Non"},{"$f":"IF(ISBLANK(I188),\"\",IF(K188=\"\",\"délai à préciser\",IF(M188=\"\",\"statut à préciser\",IF(M188=\"finalisée\",IF(N188=\"\",\"date de solde à préciser\",IF(K188>=N188,\"fait\",\"retard\")),(IF(K188<TODAY(),\"retard\",\"Ok\"))))))","v":""},{"$f":"IF(AND(N188<>\"\",ISBLANK(N188),K188<TODAY()),\"Oui\",\"Non\")","v":"Non"},null,{"$f":"IF(ISBLANK(H188),\"\",IF(OR(H188=\"Préventive\",H188=\"Corrective\"),\"Oui\",\"Non\"))","v":""},null,null,null,null,null,{"$f":"IF(AND(U188<>\"\",ISBLANK(X188),U188<TODAY()),\"Oui\",\"Non\")","v":"Non"},{"$f":"IF(AND(S188=\"Oui\",ISBLANK(X188)),\"Oui\",\"Non\")","v":"Non"},null,null,null,null,{"$f":"IF(K188=\"\",\"\",K188-TODAY())","v":""},{"$f":"IF(ISBLANK(F188),CONCATENATE(E188,\" - \",AG188),CONCATENATE(F188,\" - \",AG188))","v":" - "},{"$f":"IF(ISBLANK(B188),\"\",YEAR(C188))","v":""},{"$f":"CONCATENATE(H188,\"-\",AG188)","v":"-"},{"$f":"CONCATENATE(M188,\"-\",AH188)","v":"--"}]
[{"$f":"IF(ISBLANK(B189),\"\",$C$2)","v":""},null,null,{"$f":"IF(ISBLANK(B189),\"\",COUNTA(#REF!))","v":""},null,null,null,null,null,null,null,null,null,null,{"$f":"IF(AND(K189<>\"\",ISBLANK(N189),K189<TODAY()),\"Oui\",\"Non\")","v":"Non"},{"$f":"IF(ISBLANK(I189),\"\",IF(K189=\"\",\"délai à préciser\",IF(M189=\"\",\"statut à préciser\",IF(M189=\"finalisée\",IF(N189=\"\",\"date de solde à préciser\",IF(K189>=N189,\"fait\",\"retard\")),(IF(K189<TODAY(),\"retard\",\"Ok\"))))))","v":""},{"$f":"IF(AND(N189<>\"\",ISBLANK(N189),K189<TODAY()),\"Oui\",\"Non\")","v":"Non"},null,{"$f":"IF(ISBLANK(H189),\"\",IF(OR(H189=\"Préventive\",H189=\"Corrective\"),\"Oui\",\"Non\"))","v":""},null,null,null,null,null,{"$f":"IF(AND(U189<>\"\",ISBLANK(X189),U189<TODAY()),\"Oui\",\"Non\")","v":"Non"},{"$f":"IF(AND(S189=\"Oui\",ISBLANK(X189)),\"Oui\",\"Non\")","v":"Non"},null,null,null,null,{"$f":"IF(K189=\"\",\"\",K189-TODAY())","v":""},{"$f":"IF(ISBLANK(F189),CONCATENATE(E189,\" - \",AG189),CONCATENATE(F189,\" - \",AG189))","v":" - "},{"$f":"IF(ISBLANK(B189),\"\",YEAR(C189))","v":""},{"$f":"CONCATENATE(H189,\"-\",AG189)","v":"-"},{"$f":"CONCATENATE(M189,\"-\",AH189)","v":"--"}]
[{"$f":"IF(ISBLANK(B190),\"\",$C$2)","v":""},null,null,{"$f":"IF(ISBLANK(B190),\"\",COUNTA(#REF!))","v":""},null,null,null,null,null,null,null,null,null,null,{"$f":"IF(AND(K190<>\"\",ISBLANK(N190),K190<TODAY()),\"Oui\",\"Non\")","v":"Non"},{"$f":"IF(ISBLANK(I190),\"\",IF(K190=\"\",\"délai à préciser\",IF(M190=\"\",\"statut à préciser\",IF(M190=\"finalisée\",IF(N190=\"\",\"date de solde à préciser\",IF(K190>=N190,\"fait\",\"retard\")),(IF(K190<TODAY(),\"retard\",\"Ok\"))))))","v":""},{"$f":"IF(AND(N190<>\"\",ISBLANK(N190),K190<TODAY()),\"Oui\",\"Non\")","v":"Non"},null,{"$f":"IF(ISBLANK(H190),\"\",IF(OR(H190=\"Préventive\",H190=\"Corrective\"),\"Oui\",\"Non\"))","v":""},null,null,null,null,null,{"$f":"IF(AND(U190<>\"\",ISBLANK(X190),U190<TODAY()),\"Oui\",\"Non\")","v":"Non"},{"$f":"IF(AND(S190=\"Oui\",ISBLANK(X190)),\"Oui\",\"Non\")","v":"Non"},null,null,null,null,{"$f":"IF(K190=\"\",\"\",K190-TODAY())","v":""},{"$f":"IF(ISBLANK(F190),CONCATENATE(E190,\" - \",AG190),CONCATENATE(F190,\" - \",AG190))","v":" - "},{"$f":"IF(ISBLANK(B190),\"\",YEAR(C190))","v":""},{"$f":"CONCATENATE(H190,\"-\",AG190)","v":"-"},{"$f":"CONCATENATE(M190,\"-\",AH190)","v":"--"}]
[{"$f":"IF(ISBLANK(B191),\"\",$C$2)","v":""},null,null,{"$f":"IF(ISBLANK(B191),\"\",COUNTA(#REF!))","v":""},null,null,null,null,null,null,null,null,null,null,{"$f":"IF(AND(K191<>\"\",ISBLANK(N191),K191<TODAY()),\"Oui\",\"Non\")","v":"Non"},{"$f":"IF(ISBLANK(I191),\"\",IF(K191=\"\",\"délai à préciser\",IF(M191=\"\",\"statut à préciser\",IF(M191=\"finalisée\",IF(N191=\"\",\"date de solde à préciser\",IF(K191>=N191,\"fait\",\"retard\")),(IF(K191<TODAY(),\"retard\",\"Ok\"))))))","v":""},{"$f":"IF(AND(N191<>\"\",ISBLANK(N191),K191<TODAY()),\"Oui\",\"Non\")","v":"Non"},null,{"$f":"IF(ISBLANK(H191),\"\",IF(OR(H191=\"Préventive\",H191=\"Corrective\"),\"Oui\",\"Non\"))","v":""},null,null,null,null,null,{"$f":"IF(AND(U191<>\"\",ISBLANK(X191),U191<TODAY()),\"Oui\",\"Non\")","v":"Non"},{"$f":"IF(AND(S191=\"Oui\",ISBLANK(X191)),\"Oui\",\"Non\")","v":"Non"},null,null,null,null,{"$f":"IF(K191=\"\",\"\",K191-TODAY())","v":""},{"$f":"IF(ISBLANK(F191),CONCATENATE(E191,\" - \",AG191),CONCATENATE(F191,\" - \",AG191))","v":" - "},{"$f":"IF(ISBLANK(B191),\"\",YEAR(C191))","v":""},{"$f":"CONCATENATE(H191,\"-\",AG191)","v":"-"},{"$f":"CONCATENATE(M191,\"-\",AH191)","v":"--"}]
[{"$f":"IF(ISBLANK(B192),\"\",$C$2)","v":""},null,null,{"$f":"IF(ISBLANK(B192),\"\",COUNTA(#REF!))","v":""},null,null,null,null,null,null,null,null,null,null,{"$f":"IF(AND(K192<>\"\",ISBLANK(N192),K192<TODAY()),\"Oui\",\"Non\")","v":"Non"},{"$f":"IF(ISBLANK(I192),\"\",IF(K192=\"\",\"délai à préciser\",IF(M192=\"\",\"statut à préciser\",IF(M192=\"finalisée\",IF(N192=\"\",\"date de solde à préciser\",IF(K192>=N192,\"fait\",\"retard\")),(IF(K192<TODAY(),\"retard\",\"Ok\"))))))","v":""},{"$f":"IF(AND(N192<>\"\",ISBLANK(N192),K192<TODAY()),\"Oui\",\"Non\")","v":"Non"},null,{"$f":"IF(ISBLANK(H192),\"\",IF(OR(H192=\"Préventive\",H192=\"Corrective\"),\"Oui\",\"Non\"))","v":""},null,null,null,null,null,{"$f":"IF(AND(U192<>\"\",ISBLANK(X192),U192<TODAY()),\"Oui\",\"Non\")","v":"Non"},{"$f":"IF(AND(S192=\"Oui\",ISBLANK(X192)),\"Oui\",\"Non\")","v":"Non"},null,null,null,null,{"$f":"IF(K192=\"\",\"\",K192-TODAY())","v":""},{"$f":"IF(ISBLANK(F192),CONCATENATE(E192,\" - \",AG192),CONCATENATE(F192,\" - \",AG192))","v":" - "},{"$f":"IF(ISBLANK(B192),\"\",YEAR(C192))","v":""},{"$f":"CONCATENATE(H192,\"-\",AG192)","v":"-"},{"$f":"CONCATENATE(M192,\"-\",AH192)","v":"--"}]
[{"$f":"IF(ISBLANK(B193),\"\",$C$2)","v":""},null,null,{"$f":"IF(ISBLANK(B193),\"\",COUNTA(#REF!))","v":""},null,null,null,null,null,null,null,null,null,null,{"$f":"IF(AND(K193<>\"\",ISBLANK(N193),K193<TODAY()),\"Oui\",\"Non\")","v":"Non"},{"$f":"IF(ISBLANK(I193),\"\",IF(K193=\"\",\"délai à préciser\",IF(M193=\"\",\"statut à préciser\",IF(M193=\"finalisée\",IF(N193=\"\",\"date de solde à préciser\",IF(K193>=N193,\"fait\",\"retard\")),(IF(K193<TODAY(),\"retard\",\"Ok\"))))))","v":""},{"$f":"IF(AND(N193<>\"\",ISBLANK(N193),K193<TODAY()),\"Oui\",\"Non\")","v":"Non"},null,{"$f":"IF(ISBLANK(H193),\"\",IF(OR(H193=\"Préventive\",H193=\"Corrective\"),\"Oui\",\"Non\"))","v":""},null,null,null,null,null,{"$f":"IF(AND(U193<>\"\",ISBLANK(X193),U193<TODAY()),\"Oui\",\"Non\")","v":"Non"},{"$f":"IF(AND(S193=\"Oui\",ISBLANK(X193)),\"Oui\",\"Non\")","v":"Non"},null,null,null,null,{"$f":"IF(K193=\"\",\"\",K193-TODAY())","v":""},{"$f":"IF(ISBLANK(F193),CONCATENATE(E193,\" - \",AG193),CONCATENATE(F193,\" - \",AG193))","v":" - "},{"$f":"IF(ISBLANK(B193),\"\",YEAR(C193))","v":""},{"$f":"CONCATENATE(H193,\"-\",AG193)","v":"-"},{"$f":"CONCATENATE(M193,\"-\",AH193)","v":"--"}]
[{"$f":"IF(ISBLANK(B194),\"\",$C$2)","v":""},null,null,{"$f":"IF(ISBLANK(B194),\"\",COUNTA(#REF!))","v":""},null,null,null,null,null,null,null,null,null,null,{"$f":"IF(AND(K194<>\"\",ISBLANK(N194),K194<TODAY()),\"Oui\",\"Non\")","v":"Non"},{"$f":"IF(ISBLANK(I194),\"\",IF(K194=\"\",\"délai à préciser\",IF(M194=\"\",\"statut à préciser\",IF(M194=\"finalisée\",IF(N194=\"\",\"date de solde à préciser\",IF(K194>=N194,\"fait\",\"retard\")),(IF(K194<TODAY(),\"retard\",\"Ok\"))))))","v":""},{"$f":"IF(AND(N194<>\"\",ISBLANK(N194),K194<TODAY()),\"Oui\",\"Non\")","v":"Non"},null,{"$f":"IF(ISBLANK(H194),\"\",IF(OR(H194=\"Préventive\",H194=\"Corrective\"),\"Oui\",\"Non\"))","v":""},null,null,null,null,null,{"$f":"IF(AND(U194<>\"\",ISBLANK(X194),U194<TODAY()),\"Oui\",\"Non\")","v":"Non"},{"$f":"IF(AND(S194=\"Oui\",ISBLANK(X194)),\"Oui\",\"Non\")","v":"Non"},null,null,null,null,{"$f":"IF(K194=\"\",\"\",K194-TODAY())","v":""},{"$f":"IF(ISBLANK(F194),CONCATENATE(E194,\" - \",AG194),CONCATENATE(F194,\" - \",AG194))","v":" - "},{"$f":"IF(ISBLANK(B194),\"\",YEAR(C194))","v":""},{"$f":"CONCATENATE(H194,\"-\",AG194)","v":"-"},{"$f":"CONCATENATE(M194,\"-\",AH194)","v":"--"}]
[{"$f":"IF(ISBLANK(B195),\"\",$C$2)","v":""},null,null,{"$f":"IF(ISBLANK(B195),\"\",COUNTA(#REF!))","v":""},null,null,null,null,null,null,null,null,null,null,{"$f":"IF(AND(K195<>\"\",ISBLANK(N195),K195<TODAY()),\"Oui\",\"Non\")","v":"Non"},{"$f":"IF(ISBLANK(I195),\"\",IF(K195=\"\",\"délai à préciser\",IF(M195=\"\",\"statut à préciser\",IF(M195=\"finalisée\",IF(N195=\"\",\"date de solde à préciser\",IF(K195>=N195,\"fait\",\"retard\")),(IF(K195<TODAY(),\"retard\",\"Ok\"))))))","v":""},{"$f":"IF(AND(N195<>\"\",ISBLANK(N195),K195<TODAY()),\"Oui\",\"Non\")","v":"Non"},null,{"$f":"IF(ISBLANK(H195),\"\",IF(OR(H195=\"Préventive\",H195=\"Corrective\"),\"Oui\",\"Non\"))","v":""},null,null,null,null,null,{"$f":"IF(AND(U195<>\"\",ISBLANK(X195),U195<TODAY()),\"Oui\",\"Non\")","v":"Non"},{"$f":"IF(AND(S195=\"Oui\",ISBLANK(X195)),\"Oui\",\"Non\")","v":"Non"},null,null,null,null,{"$f":"IF(K195=\"\",\"\",K195-TODAY())","v":""},{"$f":"IF(ISBLANK(F195),CONCATENATE(E195,\" - \",AG195),CONCATENATE(F195,\" - \",AG195))","v":" - "},{"$f":"IF(ISBLANK(B195),\"\",YEAR(C195))","v":""},{"$f":"CONCATENATE(H195,\"-\",AG195)","v":"-"},{"$f":"CONCATENATE(M195,\"-\",AH195)","v":"--"}]
[{"$f":"IF(ISBLANK(B196),\"\",$C$2)","v":""},null,null,{"$f":"IF(ISBLANK(B196),\"\",COUNTA(#REF!))","v":""},null,null,null,null,null,null,null,null,null,null,{"$f":"IF(AND(K196<>\"\",ISBLANK(N196),K196<TODAY()),\"Oui\",\"Non\")","v":"Non"},{"$f":"IF(ISBLANK(I196),\"\",IF(K196=\"\",\"délai à préciser\",IF(M196=\"\",\"statut à préciser\",IF(M196=\"finalisée\",IF(N196=\"\",\"date de solde à préciser\",IF(K196>=N196,\"fait\",\"retard\")),(IF(K196<TODAY(),\"retard\",\"Ok\"))))))","v":""},{"$f":"IF(AND(N196<>\"\",ISBLANK(N196),K196<TODAY()),\"Oui\",\"Non\")","v":"Non"},null,{"$f":"IF(ISBLANK(H196),\"\",IF(OR(H196=\"Préventive\",H196=\"Corrective\"),\"Oui\",\"Non\"))","v":""},null,null,null,null,null,{"$f":"IF(AND(U196<>\"\",ISBLANK(X196),U196<TODAY()),\"Oui\",\"Non\")","v":"Non"},{"$f":"IF(AND(S196=\"Oui\",ISBLANK(X196)),\"Oui\",\"Non\")","v":"Non"},null,null,null,null,{"$f":"IF(K196=\"\",\"\",K196-TODAY())","v":""},{"$f":"IF(ISBLANK(F196),CONCATENATE(E196,\" - \",AG196),CONCATENATE(F196,\" - \",AG196))","v":" - "},{"$f":"IF(ISBLANK(B196),\"\",YEAR(C196))","v":""},{"$f":"CONCATENATE(H196,\"-\",AG196)","v":"-"},{"$f":"CONCATENATE(M196,\"-\",AH196)","v":"--"}]
[{"$f":"IF(ISBLANK(B197),\"\",$C$2)","v":""},null,null,{"$f":"IF(ISBLANK(B197),\"\",COUNTA(#REF!))","v":""},null,null,null,null,null,null,null,null,null,null,{"$f":"IF(AND(K197<>\"\",ISBLANK(N197),K197<TODAY()),\"Oui\",\"Non\")","v":"Non"},{"$f":"IF(ISBLANK(I197),\"\",IF(K197=\"\",\"délai à préciser\",IF(M197=\"\",\"statut à préciser\",IF(M197=\"finalisée\",IF(N197=\"\",\"date de solde à préciser\",IF(K197>=N197,\"fait\",\"retard\")),(IF(K197<TODAY(),\"retard\",\"Ok\"))))))","v":""},{"$f":"IF(AND(N197<>\"\",ISBLANK(N197),K197<TODAY()),\"Oui\",\"Non\")","v":"Non"},null,{"$f":"IF(ISBLANK(H197),\"\",IF(OR(H197=\"Préventive\",H197=\"Corrective\"),\"Oui\",\"Non\"))","v":""},null,null,null,null,null,{"$f":"IF(AND(U197<>\"\",ISBLANK(X197),U197<TODAY()),\"Oui\",\"Non\")","v":"Non"},{"$f":"IF(AND(S197=\"Oui\",ISBLANK(X197)),\"Oui\",\"Non\")","v":"Non"},null,null,null,null,{"$f":"IF(K197=\"\",\"\",K197-TODAY())","v":""},{"$f":"IF(ISBLANK(F197),CONCATENATE(E197,\" - \",AG197),CONCATENATE(F197,\" - \",AG197))","v":" - "},{"$f":"IF(ISBLANK(B197),\"\",YEAR(C197))","v":""},{"$f":"CONCATENATE(H197,\"-\",AG197)","v":"-"},{"$f":"CONCATENATE(M197,\"-\",AH197)","v":"--"}]
[{"$f":"IF(ISBLANK(B198),\"\",$C$2)","v":""},null,null,{"$f":"IF(ISBLANK(B198),\"\",COUNTA(#REF!))","v":""},null,null,null,null,null,null,null,null,null,null,{"$f":"IF(AND(K198<>\"\",ISBLANK(N198),K198<TODAY()),\"Oui\",\"Non\")","v":"Non"},{"$f":"IF(ISBLANK(I198),\"\",IF(K198=\"\",\"délai à préciser\",IF(M198=\"\",\"statut à préciser\",IF(M198=\"finalisée\",IF(N198=\"\",\"date de solde à préciser\",IF(K198>=N198,\"fait\",\"retard\")),(IF(K198<TODAY(),\"retard\",\"Ok\"))))))","v":""},{"$f":"IF(AND(N198<>\"\",ISBLANK(N198),K198<TODAY()),\"Oui\",\"Non\")","v":"Non"},null,{"$f":"IF(ISBLANK(H198),\"\",IF(OR(H198=\"Préventive\",H198=\"Corrective\"),\"Oui\",\"Non\"))","v":""},null,null,null,null,null,{"$f":"IF(AND(U198<>\"\",ISBLANK(X198),U198<TODAY()),\"Oui\",\"Non\")","v":"Non"},{"$f":"IF(AND(S198=\"Oui\",ISBLANK(X198)),\"Oui\",\"Non\")","v":"Non"},null,null,null,null,{"$f":"IF(K198=\"\",\"\",K198-TODAY())","v":""},{"$f":"IF(ISBLANK(F198),CONCATENATE(E198,\" - \",AG198),CONCATENATE(F198,\" - \",AG198))","v":" - "},{"$f":"IF(ISBLANK(B198),\"\",YEAR(C198))","v":""},{"$f":"CONCATENATE(H198,\"-\",AG198)","v":"-"},{"$f":"CONCATENATE(M198,\"-\",AH198)","v":"--"}]
[{"$f":"IF(ISBLANK(B199),\"\",$C$2)","v":""},null,null,{"$f":"IF(ISBLANK(B199),\"\",COUNTA(#REF!))","v":""},null,null,null,null,null,null,null,null,null,null,{"$f":"IF(AND(K199<>\"\",ISBLANK(N199),K199<TODAY()),\"Oui\",\"Non\")","v":"Non"},{"$f":"IF(ISBLANK(I199),\"\",IF(K199=\"\",\"délai à préciser\",IF(M199=\"\",\"statut à préciser\",IF(M199=\"finalisée\",IF(N199=\"\",\"date de solde à préciser\",IF(K199>=N199,\"fait\",\"retard\")),(IF(K199<TODAY(),\"retard\",\"Ok\"))))))","v":""},{"$f":"IF(AND(N199<>\"\",ISBLANK(N199),K199<TODAY()),\"Oui\",\"Non\")","v":"Non"},null,{"$f":"IF(ISBLANK(H199),\"\",IF(OR(H199=\"Préventive\",H199=\"Corrective\"),\"Oui\",\"Non\"))","v":""},null,null,null,null,null,{"$f":"IF(AND(U199<>\"\",ISBLANK(X199),U199<TODAY()),\"Oui\",\"Non\")","v":"Non"},{"$f":"IF(AND(S199=\"Oui\",ISBLANK(X199)),\"Oui\",\"Non\")","v":"Non"},null,null,null,null,{"$f":"IF(K199=\"\",\"\",K199-TODAY())","v":""},{"$f":"IF(ISBLANK(F199),CONCATENATE(E199,\" - \",AG199),CONCATENATE(F199,\" - \",AG199))","v":" - "},{"$f":"IF(ISBLANK(B199),\"\",YEAR(C199))","v":""},{"$f":"CONCATENATE(H199,\"-\",AG199)","v":"-"},{"$f":"CONCATENATE(M199,\"-\",AH199)","v":"--"}]
[{"$f":"IF(ISBLANK(B200),\"\",$C$2)","v":""},null,null,{"$f":"IF(ISBLANK(B200),\"\",COUNTA(#REF!))","v":""},null,null,null,null,null,null,null,null,null,null,{"$f":"IF(AND(K200<>\"\",ISBLANK(N200),K200<TODAY()),\"Oui\",\"Non\")","v":"Non"},{"$f":"IF(ISBLANK(I200),\"\",IF(K200=\"\",\"délai à préciser\",IF(M200=\"\",\"statut à préciser\",IF(M200=\"finalisée\",IF(N200=\"\",\"date de solde à préciser\",IF(K200>=N200,\"fait\",\"retard\")),(IF(K200<TODAY(),\"retard\",\"Ok\"))))))","v":""},{"$f":"IF(AND(N200<>\"\",ISBLANK(N200),K200<TODAY()),\"Oui\",\"Non\")","v":"Non"},null,{"$f":"IF(ISBLANK(H200),\"\",IF(OR(H200=\"Préventive\",H200=\"Corrective\"),\"Oui\",\"Non\"))","v":""},null,null,null,null,null,{"$f":"IF(AND(U200<>\"\",ISBLANK(X200),U200<TODAY()),\"Oui\",\"Non\")","v":"Non"},{"$f":"IF(AND(S200=\"Oui\",ISBLANK(X200)),\"Oui\",\"Non\")","v":"Non"},null,null,null,null,{"$f":"IF(K200=\"\",\"\",K200-TODAY())","v":""},{"$f":"IF(ISBLANK(F200),CONCATENATE(E200,\" - \",AG200),CONCATENATE(F200,\" - \",AG200))","v":" - "},{"$f":"IF(ISBLANK(B200),\"\",YEAR(C200))","v":""},{"$f":"CONCATENATE(H200,\"-\",AG200)","v":"-"},{"$f":"CONCATENATE(M200,\"-\",AH200)","v":"--"}]
[{"$f":"IF(ISBLANK(B201),\"\",$C$2)","v":""},null,null,{"$f":"IF(ISBLANK(B201),\"\",COUNTA(#REF!))","v":""},null,null,null,null,null,null,null,null,null,null,{"$f":"IF(AND(K201<>\"\",ISBLANK(N201),K201<TODAY()),\"Oui\",\"Non\")","v":"Non"},{"$f":"IF(ISBLANK(I201),\"\",IF(K201=\"\",\"délai à préciser\",IF(M201=\"\",\"statut à préciser\",IF(M201=\"finalisée\",IF(N201=\"\",\"date de solde à préciser\",IF(K201>=N201,\"fait\",\"retard\")),(IF(K201<TODAY(),\"retard\",\"Ok\"))))))","v":""},{"$f":"IF(AND(N201<>\"\",ISBLANK(N201),K201<TODAY()),\"Oui\",\"Non\")","v":"Non"},null,{"$f":"IF(ISBLANK(H201),\"\",IF(OR(H201=\"Préventive\",H201=\"Corrective\"),\"Oui\",\"Non\"))","v":""},null,null,null,null,null,{"$f":"IF(AND(U201<>\"\",ISBLANK(X201),U201<TODAY()),\"Oui\",\"Non\")","v":"Non"},{"$f":"IF(AND(S201=\"Oui\",ISBLANK(X201)),\"Oui\",\"Non\")","v":"Non"},null,null,null,null,{"$f":"IF(K201=\"\",\"\",K201-TODAY())","v":""},{"$f":"IF(ISBLANK(F201),CONCATENATE(E201,\" - \",AG201),CONCATENATE(F201,\" - \",AG201))","v":" - "},{"$f":"IF(ISBLANK(B201),\"\",YEAR(C201))","v":""},{"$f":"CONCATENATE(H201,\"-\",AG201)","v":"-"},{"$f":"CONCATENATE(M201,\"-\",AH201)","v":"--"}]
[{"$f":"IF(ISBLANK(B202),\"\",$C$2)","v":""},null,null,{"$f":"IF(ISBLANK(B202),\"\",COUNTA(#REF!))","v":""},null,null,null,null,null,null,null,null,null,null,{"$f":"IF(AND(K202<>\"\",ISBLANK(N202),K202<TODAY()),\"Oui\",\"Non\")","v":"Non"},{"$f":"IF(ISBLANK(I202),\"\",IF(K202=\"\",\"délai à préciser\",IF(M202=\"\",\"statut à préciser\",IF(M202=\"finalisée\",IF(N202=\"\",\"date de solde à préciser\",IF(K202>=N202,\"fait\",\"retard\")),(IF(K202<TODAY(),\"retard\",\"Ok\"))))))","v":""},{"$f":"IF(AND(N202<>\"\",ISBLANK(N202),K202<TODAY()),\"Oui\",\"Non\")","v":"Non"},null,{"$f":"IF(ISBLANK(H202),\"\",IF(OR(H202=\"Préventive\",H202=\"Corrective\"),\"Oui\",\"Non\"))","v":""},null,null,null,null,null,{"$f":"IF(AND(U202<>\"\",ISBLANK(X202),U202<TODAY()),\"Oui\",\"Non\")","v":"Non"},{"$f":"IF(AND(S202=\"Oui\",ISBLANK(X202)),\"Oui\",\"Non\")","v":"Non"},null,null,null,null,{"$f":"IF(K202=\"\",\"\",K202-TODAY())","v":""},{"$f":"IF(ISBLANK(F202),CONCATENATE(E202,\" - \",AG202),CONCATENATE(F202,\" - \",AG202))","v":" - "},{"$f":"IF(ISBLANK(B202),\"\",YEAR(C202))","v":""},{"$f":"CONCATENATE(H202,\"-\",AG202)","v":"-"},{"$f":"CONCATENATE(M202,\"-\",AH202)","v":"--"}]
[{"$f":"IF(ISBLANK(B203),\"\",$C$2)","v":""},null,null,{"$f":"IF(ISBLANK(B203),\"\",COUNTA(#REF!))","v":""},null,null,null,null,null,null,null,null,null,null,{"$f":"IF(AND(K203<>\"\",ISBLANK(N203),K203<TODAY()),\"Oui\",\"Non\")","v":"Non"},{"$f":"IF(ISBLANK(I203),\"\",IF(K203=\"\",\"délai à préciser\",IF(M203=\"\",\"statut à préciser\",IF(M203=\"finalisée\",IF(N203=\"\",\"date de solde à préciser\",IF(K203>=N203,\"fait\",\"retard\")),(IF(K203<TODAY(),\"retard\",\"Ok\"))))))","v":""},{"$f":"IF(AND(N203<>\"\",ISBLANK(N203),K203<TODAY()),\"Oui\",\"Non\")","v":"Non"},null,{"$f":"IF(ISBLANK(H203),\"\",IF(OR(H203=\"Préventive\",H203=\"Corrective\"),\"Oui\",\"Non\"))","v":""},null,null,null,null,null,{"$f":"IF(AND(U203<>\"\",ISBLANK(X203),U203<TODAY()),\"Oui\",\"Non\")","v":"Non"},{"$f":"IF(AND(S203=\"Oui\",ISBLANK(X203)),\"Oui\",\"Non\")","v":"Non"},null,null,null,null,{"$f":"IF(K203=\"\",\"\",K203-TODAY())","v":""},{"$f":"IF(ISBLANK(F203),CONCATENATE(E203,\" - \",AG203),CONCATENATE(F203,\" - \",AG203))","v":" - "},{"$f":"IF(ISBLANK(B203),\"\",YEAR(C203))","v":""},{"$f":"CONCATENATE(H203,\"-\",AG203)","v":"-"},{"$f":"CONCATENATE(M203,\"-\",AH203)","v":"--"}]
[{"$f":"IF(ISBLANK(B204),\"\",$C$2)","v":""},null,null,{"$f":"IF(ISBLANK(B204),\"\",COUNTA(#REF!))","v":""},null,null,null,null,null,null,null,null,null,null,{"$f":"IF(AND(K204<>\"\",ISBLANK(N204),K204<TODAY()),\"Oui\",\"Non\")","v":"Non"},{"$f":"IF(ISBLANK(I204),\"\",IF(K204=\"\",\"délai à préciser\",IF(M204=\"\",\"statut à préciser\",IF(M204=\"finalisée\",IF(N204=\"\",\"date de solde à préciser\",IF(K204>=N204,\"fait\",\"retard\")),(IF(K204<TODAY(),\"retard\",\"Ok\"))))))","v":""},{"$f":"IF(AND(N204<>\"\",ISBLANK(N204),K204<TODAY()),\"Oui\",\"Non\")","v":"Non"},null,{"$f":"IF(ISBLANK(H204),\"\",IF(OR(H204=\"Préventive\",H204=\"Corrective\"),\"Oui\",\"Non\"))","v":""},null,null,null,null,null,{"$f":"IF(AND(U204<>\"\",ISBLANK(X204),U204<TODAY()),\"Oui\",\"Non\")","v":"Non"},{"$f":"IF(AND(S204=\"Oui\",ISBLANK(X204)),\"Oui\",\"Non\")","v":"Non"},null,null,null,null,{"$f":"IF(K204=\"\",\"\",K204-TODAY())","v":""},{"$f":"IF(ISBLANK(F204),CONCATENATE(E204,\" - \",AG204),CONCATENATE(F204,\" - \",AG204))","v":" - "},{"$f":"IF(ISBLANK(B204),\"\",YEAR(C204))","v":""},{"$f":"CONCATENATE(H204,\"-\",AG204)","v":"-"},{"$f":"CONCATENATE(M204,\"-\",AH204)","v":"--"}]
[{"$f":"IF(ISBLANK(B205),\"\",$C$2)","v":""},null,null,{"$f":"IF(ISBLANK(B205),\"\",COUNTA(#REF!))","v":""},null,null,null,null,null,null,null,null,null,null,{"$f":"IF(AND(K205<>\"\",ISBLANK(N205),K205<TODAY()),\"Oui\",\"Non\")","v":"Non"},{"$f":"IF(ISBLANK(I205),\"\",IF(K205=\"\",\"délai à préciser\",IF(M205=\"\",\"statut à préciser\",IF(M205=\"finalisée\",IF(N205=\"\",\"date de solde à préciser\",IF(K205>=N205,\"fait\",\"retard\")),(IF(K205<TODAY(),\"retard\",\"Ok\"))))))","v":""},{"$f":"IF(AND(N205<>\"\",ISBLANK(N205),K205<TODAY()),\"Oui\",\"Non\")","v":"Non"},null,{"$f":"IF(ISBLANK(H205),\"\",IF(OR(H205=\"Préventive\",H205=\"Corrective\"),\"Oui\",\"Non\"))","v":""},null,null,null,null,null,{"$f":"IF(AND(U205<>\"\",ISBLANK(X205),U205<TODAY()),\"Oui\",\"Non\")","v":"Non"},{"$f":"IF(AND(S205=\"Oui\",ISBLANK(X205)),\"Oui\",\"Non\")","v":"Non"},null,null,null,null,{"$f":"IF(K205=\"\",\"\",K205-TODAY())","v":""},{"$f":"IF(ISBLANK(F205),CONCATENATE(E205,\" - \",AG205),CONCATENATE(F205,\" - \",AG205))","v":" - "},{"$f":"IF(ISBLANK(B205),\"\",YEAR(C205))","v":""},{"$f":"CONCATENATE(H205,\"-\",AG205)","v":"-"},{"$f":"CONCATENATE(M205,\"-\",AH205)","v":"--"}]
[{"$f":"IF(ISBLANK(B206),\"\",$C$2)","v":""},null,null,{"$f":"IF(ISBLANK(B206),\"\",COUNTA(#REF!))","v":""},null,null,null,null,null,null,null,null,null,null,{"$f":"IF(AND(K206<>\"\",ISBLANK(N206),K206<TODAY()),\"Oui\",\"Non\")","v":"Non"},{"$f":"IF(ISBLANK(I206),\"\",IF(K206=\"\",\"délai à préciser\",IF(M206=\"\",\"statut à préciser\",IF(M206=\"finalisée\",IF(N206=\"\",\"date de solde à préciser\",IF(K206>=N206,\"fait\",\"retard\")),(IF(K206<TODAY(),\"retard\",\"Ok\"))))))","v":""},{"$f":"IF(AND(N206<>\"\",ISBLANK(N206),K206<TODAY()),\"Oui\",\"Non\")","v":"Non"},null,{"$f":"IF(ISBLANK(H206),\"\",IF(OR(H206=\"Préventive\",H206=\"Corrective\"),\"Oui\",\"Non\"))","v":""},null,null,null,null,null,{"$f":"IF(AND(U206<>\"\",ISBLANK(X206),U206<TODAY()),\"Oui\",\"Non\")","v":"Non"},{"$f":"IF(AND(S206=\"Oui\",ISBLANK(X206)),\"Oui\",\"Non\")","v":"Non"},null,null,null,null,{"$f":"IF(K206=\"\",\"\",K206-TODAY())","v":""},{"$f":"IF(ISBLANK(F206),CONCATENATE(E206,\" - \",AG206),CONCATENATE(F206,\" - \",AG206))","v":" - "},{"$f":"IF(ISBLANK(B206),\"\",YEAR(C206))","v":""},{"$f":"CONCATENATE(H206,\"-\",AG206)","v":"-"},{"$f":"CONCATENATE(M206,\"-\",AH206)","v":"--"}]
[{"$f":"IF(ISBLANK(B207),\"\",$C$2)","v":""},null,null,{"$f":"IF(ISBLANK(B207),\"\",COUNTA(#REF!))","v":""},null,null,null,null,null,null,null,null,null,null,{"$f":"IF(AND(K207<>\"\",ISBLANK(N207),K207<TODAY()),\"Oui\",\"Non\")","v":"Non"},{"$f":"IF(ISBLANK(I207),\"\",IF(K207=\"\",\"délai à préciser\",IF(M207=\"\",\"statut à préciser\",IF(M207=\"finalisée\",IF(N207=\"\",\"date de solde à préciser\",IF(K207>=N207,\"fait\",\"retard\")),(IF(K207<TODAY(),\"retard\",\"Ok\"))))))","v":""},{"$f":"IF(AND(N207<>\"\",ISBLANK(N207),K207<TODAY()),\"Oui\",\"Non\")","v":"Non"},null,{"$f":"IF(ISBLANK(H207),\"\",IF(OR(H207=\"Préventive\",H207=\"Corrective\"),\"Oui\",\"Non\"))","v":""},null,null,null,null,null,{"$f":"IF(AND(U207<>\"\",ISBLANK(X207),U207<TODAY()),\"Oui\",\"Non\")","v":"Non"},{"$f":"IF(AND(S207=\"Oui\",ISBLANK(X207)),\"Oui\",\"Non\")","v":"Non"},null,null,null,null,{"$f":"IF(K207=\"\",\"\",K207-TODAY())","v":""},{"$f":"IF(ISBLANK(F207),CONCATENATE(E207,\" - \",AG207),CONCATENATE(F207,\" - \",AG207))","v":" - "},{"$f":"IF(ISBLANK(B207),\"\",YEAR(C207))","v":""},{"$f":"CONCATENATE(H207,\"-\",AG207)","v":"-"},{"$f":"CONCATENATE(M207,\"-\",AH207)","v":"--"}]
[{"$f":"IF(ISBLANK(B208),\"\",$C$2)","v":""},null,null,{"$f":"IF(ISBLANK(B208),\"\",COUNTA(#REF!))","v":""},null,null,null,null,null,null,null,null,null,null,{"$f":"IF(AND(K208<>\"\",ISBLANK(N208),K208<TODAY()),\"Oui\",\"Non\")","v":"Non"},{"$f":"IF(ISBLANK(I208),\"\",IF(K208=\"\",\"délai à préciser\",IF(M208=\"\",\"statut à préciser\",IF(M208=\"finalisée\",IF(N208=\"\",\"date de solde à préciser\",IF(K208>=N208,\"fait\",\"retard\")),(IF(K208<TODAY(),\"retard\",\"Ok\"))))))","v":""},{"$f":"IF(AND(N208<>\"\",ISBLANK(N208),K208<TODAY()),\"Oui\",\"Non\")","v":"Non"},null,{"$f":"IF(ISBLANK(H208),\"\",IF(OR(H208=\"Préventive\",H208=\"Corrective\"),\"Oui\",\"Non\"))","v":""},null,null,null,null,null,{"$f":"IF(AND(U208<>\"\",ISBLANK(X208),U208<TODAY()),\"Oui\",\"Non\")","v":"Non"},{"$f":"IF(AND(S208=\"Oui\",ISBLANK(X208)),\"Oui\",\"Non\")","v":"Non"},null,null,null,null,{"$f":"IF(K208=\"\",\"\",K208-TODAY())","v":""},{"$f":"IF(ISBLANK(F208),CONCATENATE(E208,\" - \",AG208),CONCATENATE(F208,\" - \",AG208))","v":" - "},{"$f":"IF(ISBLANK(B208),\"\",YEAR(C208))","v":""},{"$f":"CONCATENATE(H208,\"-\",AG208)","v":"-"},{"$f":"CONCATENATE(M208,\"-\",AH208)","v":"--"}]
[{"$f":"IF(ISBLANK(B209),\"\",$C$2)","v":""},null,null,{"$f":"IF(ISBLANK(B209),\"\",COUNTA(#REF!))","v":""},null,null,null,null,null,null,null,null,null,null,{"$f":"IF(AND(K209<>\"\",ISBLANK(N209),K209<TODAY()),\"Oui\",\"Non\")","v":"Non"},{"$f":"IF(ISBLANK(I209),\"\",IF(K209=\"\",\"délai à préciser\",IF(M209=\"\",\"statut à préciser\",IF(M209=\"finalisée\",IF(N209=\"\",\"date de solde à préciser\",IF(K209>=N209,\"fait\",\"retard\")),(IF(K209<TODAY(),\"retard\",\"Ok\"))))))","v":""},{"$f":"IF(AND(N209<>\"\",ISBLANK(N209),K209<TODAY()),\"Oui\",\"Non\")","v":"Non"},null,{"$f":"IF(ISBLANK(H209),\"\",IF(OR(H209=\"Préventive\",H209=\"Corrective\"),\"Oui\",\"Non\"))","v":""},null,null,null,null,null,{"$f":"IF(AND(U209<>\"\",ISBLANK(X209),U209<TODAY()),\"Oui\",\"Non\")","v":"Non"},{"$f":"IF(AND(S209=\"Oui\",ISBLANK(X209)),\"Oui\",\"Non\")","v":"Non"},null,null,null,null,{"$f":"IF(K209=\"\",\"\",K209-TODAY())","v":""},{"$f":"IF(ISBLANK(F209),CONCATENATE(E209,\" - \",AG209),CONCATENATE(F209,\" - \",AG209))","v":" - "},{"$f":"IF(ISBLANK(B209),\"\",YEAR(C209))","v":""},{"$f":"CONCATENATE(H209,\"-\",AG209)","v":"-"},{"$f":"CONCATENATE(M209,\"-\",AH209)","v":"--"}]
[{"$f":"IF(ISBLANK(B210),\"\",$C$2)","v":""},null,null,{"$f":"IF(ISBLANK(B210),\"\",COUNTA(#REF!))","v":""},null,null,null,null,null,null,null,null,null,null,{"$f":"IF(AND(K210<>\"\",ISBLANK(N210),K210<TODAY()),\"Oui\",\"Non\")","v":"Non"},{"$f":"IF(ISBLANK(I210),\"\",IF(K210=\"\",\"délai à préciser\",IF(M210=\"\",\"statut à préciser\",IF(M210=\"finalisée\",IF(N210=\"\",\"date de solde à préciser\",IF(K210>=N210,\"fait\",\"retard\")),(IF(K210<TODAY(),\"retard\",\"Ok\"))))))","v":""},{"$f":"IF(AND(N210<>\"\",ISBLANK(N210),K210<TODAY()),\"Oui\",\"Non\")","v":"Non"},null,{"$f":"IF(ISBLANK(H210),\"\",IF(OR(H210=\"Préventive\",H210=\"Corrective\"),\"Oui\",\"Non\"))","v":""},null,null,null,null,null,{"$f":"IF(AND(U210<>\"\",ISBLANK(X210),U210<TODAY()),\"Oui\",\"Non\")","v":"Non"},{"$f":"IF(AND(S210=\"Oui\",ISBLANK(X210)),\"Oui\",\"Non\")","v":"Non"},null,null,null,null,{"$f":"IF(K210=\"\",\"\",K210-TODAY())","v":""},{"$f":"IF(ISBLANK(F210),CONCATENATE(E210,\" - \",AG210),CONCATENATE(F210,\" - \",AG210))","v":" - "},{"$f":"IF(ISBLANK(B210),\"\",YEAR(C210))","v":""},{"$f":"CONCATENATE(H210,\"-\",AG210)","v":"-"},{"$f":"CONCATENATE(M210,\"-\",AH210)","v":"--"}]
[{"$f":"IF(ISBLANK(B211),\"\",$C$2)","v":""},null,null,{"$f":"IF(ISBLANK(B211),\"\",COUNTA(#REF!))","v":""},null,null,null,null,null,null,null,null,null,null,{"$f":"IF(AND(K211<>\"\",ISBLANK(N211),K211<TODAY()),\"Oui\",\"Non\")","v":"Non"},{"$f":"IF(ISBLANK(I211),\"\",IF(K211=\"\",\"délai à préciser\",IF(M211=\"\",\"statut à préciser\",IF(M211=\"finalisée\",IF(N211=\"\",\"date de solde à préciser\",IF(K211>=N211,\"fait\",\"retard\")),(IF(K211<TODAY(),\"retard\",\"Ok\"))))))","v":""},{"$f":"IF(AND(N211<>\"\",ISBLANK(N211),K211<TODAY()),\"Oui\",\"Non\")","v":"Non"},null,{"$f":"IF(ISBLANK(H211),\"\",IF(OR(H211=\"Préventive\",H211=\"Corrective\"),\"Oui\",\"Non\"))","v":""},null,null,null,null,null,{"$f":"IF(AND(U211<>\"\",ISBLANK(X211),U211<TODAY()),\"Oui\",\"Non\")","v":"Non"},{"$f":"IF(AND(S211=\"Oui\",ISBLANK(X211)),\"Oui\",\"Non\")","v":"Non"},null,null,null,null,{"$f":"IF(K211=\"\",\"\",K211-TODAY())","v":""},{"$f":"IF(ISBLANK(F211),CONCATENATE(E211,\" - \",AG211),CONCATENATE(F211,\" - \",AG211))","v":" - "},{"$f":"IF(ISBLANK(B211),\"\",YEAR(C211))","v":""},{"$f":"CONCATENATE(H211,\"-\",AG211)","v":"-"},{"$f":"CONCATENATE(M211,\"-\",AH211)","v":"--"}]
[{"$f":"IF(ISBLANK(B212),\"\",$C$2)","v":""},null,null,{"$f":"IF(ISBLANK(B212),\"\",COUNTA(#REF!))","v":""},null,null,null,null,null,null,null,null,null,null,{"$f":"IF(AND(K212<>\"\",ISBLANK(N212),K212<TODAY()),\"Oui\",\"Non\")","v":"Non"},{"$f":"IF(ISBLANK(I212),\"\",IF(K212=\"\",\"délai à préciser\",IF(M212=\"\",\"statut à préciser\",IF(M212=\"finalisée\",IF(N212=\"\",\"date de solde à préciser\",IF(K212>=N212,\"fait\",\"retard\")),(IF(K212<TODAY(),\"retard\",\"Ok\"))))))","v":""},{"$f":"IF(AND(N212<>\"\",ISBLANK(N212),K212<TODAY()),\"Oui\",\"Non\")","v":"Non"},null,{"$f":"IF(ISBLANK(H212),\"\",IF(OR(H212=\"Préventive\",H212=\"Corrective\"),\"Oui\",\"Non\"))","v":""},null,null,null,null,null,{"$f":"IF(AND(U212<>\"\",ISBLANK(X212),U212<TODAY()),\"Oui\",\"Non\")","v":"Non"},{"$f":"IF(AND(S212=\"Oui\",ISBLANK(X212)),\"Oui\",\"Non\")","v":"Non"},null,null,null,null,{"$f":"IF(K212=\"\",\"\",K212-TODAY())","v":""},{"$f":"IF(ISBLANK(F212),CONCATENATE(E212,\" - \",AG212),CONCATENATE(F212,\" - \",AG212))","v":" - "},{"$f":"IF(ISBLANK(B212),\"\",YEAR(C212))","v":""},{"$f":"CONCATENATE(H212,\"-\",AG212)","v":"-"},{"$f":"CONCATENATE(M212,\"-\",AH212)","v":"--"}]
[{"$f":"IF(ISBLANK(B213),\"\",$C$2)","v":""},null,null,{"$f":"IF(ISBLANK(B213),\"\",COUNTA(#REF!))","v":""},null,null,null,null,null,null,null,null,null,null,{"$f":"IF(AND(K213<>\"\",ISBLANK(N213),K213<TODAY()),\"Oui\",\"Non\")","v":"Non"},{"$f":"IF(ISBLANK(I213),\"\",IF(K213=\"\",\"délai à préciser\",IF(M213=\"\",\"statut à préciser\",IF(M213=\"finalisée\",IF(N213=\"\",\"date de solde à préciser\",IF(K213>=N213,\"fait\",\"retard\")),(IF(K213<TODAY(),\"retard\",\"Ok\"))))))","v":""},{"$f":"IF(AND(N213<>\"\",ISBLANK(N213),K213<TODAY()),\"Oui\",\"Non\")","v":"Non"},null,{"$f":"IF(ISBLANK(H213),\"\",IF(OR(H213=\"Préventive\",H213=\"Corrective\"),\"Oui\",\"Non\"))","v":""},null,null,null,null,null,{"$f":"IF(AND(U213<>\"\",ISBLANK(X213),U213<TODAY()),\"Oui\",\"Non\")","v":"Non"},{"$f":"IF(AND(S213=\"Oui\",ISBLANK(X213)),\"Oui\",\"Non\")","v":"Non"},null,null,null,null,{"$f":"IF(K213=\"\",\"\",K213-TODAY())","v":""},{"$f":"IF(ISBLANK(F213),CONCATENATE(E213,\" - \",AG213),CONCATENATE(F213,\" - \",AG213))","v":" - "},{"$f":"IF(ISBLANK(B213),\"\",YEAR(C213))","v":""},{"$f":"CONCATENATE(H213,\"-\",AG213)","v":"-"},{"$f":"CONCATENATE(M213,\"-\",AH213)","v":"--"}]
[{"$f":"IF(ISBLANK(B214),\"\",$C$2)","v":""},null,null,{"$f":"IF(ISBLANK(B214),\"\",COUNTA(#REF!))","v":""},null,null,null,null,null,null,null,null,null,null,{"$f":"IF(AND(K214<>\"\",ISBLANK(N214),K214<TODAY()),\"Oui\",\"Non\")","v":"Non"},{"$f":"IF(ISBLANK(I214),\"\",IF(K214=\"\",\"délai à préciser\",IF(M214=\"\",\"statut à préciser\",IF(M214=\"finalisée\",IF(N214=\"\",\"date de solde à préciser\",IF(K214>=N214,\"fait\",\"retard\")),(IF(K214<TODAY(),\"retard\",\"Ok\"))))))","v":""},{"$f":"IF(AND(N214<>\"\",ISBLANK(N214),K214<TODAY()),\"Oui\",\"Non\")","v":"Non"},null,{"$f":"IF(ISBLANK(H214),\"\",IF(OR(H214=\"Préventive\",H214=\"Corrective\"),\"Oui\",\"Non\"))","v":""},null,null,null,null,null,{"$f":"IF(AND(U214<>\"\",ISBLANK(X214),U214<TODAY()),\"Oui\",\"Non\")","v":"Non"},{"$f":"IF(AND(S214=\"Oui\",ISBLANK(X214)),\"Oui\",\"Non\")","v":"Non"},null,null,null,null,{"$f":"IF(K214=\"\",\"\",K214-TODAY())","v":""},{"$f":"IF(ISBLANK(F214),CONCATENATE(E214,\" - \",AG214),CONCATENATE(F214,\" - \",AG214))","v":" - "},{"$f":"IF(ISBLANK(B214),\"\",YEAR(C214))","v":""},{"$f":"CONCATENATE(H214,\"-\",AG214)","v":"-"},{"$f":"CONCATENATE(M214,\"-\",AH214)","v":"--"}]
[{"$f":"IF(ISBLANK(B215),\"\",$C$2)","v":""},null,null,{"$f":"IF(ISBLANK(B215),\"\",COUNTA(#REF!))","v":""},null,null,null,null,null,null,null,null,null,null,{"$f":"IF(AND(K215<>\"\",ISBLANK(N215),K215<TODAY()),\"Oui\",\"Non\")","v":"Non"},{"$f":"IF(ISBLANK(I215),\"\",IF(K215=\"\",\"délai à préciser\",IF(M215=\"\",\"statut à préciser\",IF(M215=\"finalisée\",IF(N215=\"\",\"date de solde à préciser\",IF(K215>=N215,\"fait\",\"retard\")),(IF(K215<TODAY(),\"retard\",\"Ok\"))))))","v":""},{"$f":"IF(AND(N215<>\"\",ISBLANK(N215),K215<TODAY()),\"Oui\",\"Non\")","v":"Non"},null,{"$f":"IF(ISBLANK(H215),\"\",IF(OR(H215=\"Préventive\",H215=\"Corrective\"),\"Oui\",\"Non\"))","v":""},null,null,null,null,null,{"$f":"IF(AND(U215<>\"\",ISBLANK(X215),U215<TODAY()),\"Oui\",\"Non\")","v":"Non"},{"$f":"IF(AND(S215=\"Oui\",ISBLANK(X215)),\"Oui\",\"Non\")","v":"Non"},null,null,null,null,{"$f":"IF(K215=\"\",\"\",K215-TODAY())","v":""},{"$f":"IF(ISBLANK(F215),CONCATENATE(E215,\" - \",AG215),CONCATENATE(F215,\" - \",AG215))","v":" - "},{"$f":"IF(ISBLANK(B215),\"\",YEAR(C215))","v":""},{"$f":"CONCATENATE(H215,\"-\",AG215)","v":"-"},{"$f":"CONCATENATE(M215,\"-\",AH215)","v":"--"}]
[{"$f":"IF(ISBLANK(B216),\"\",$C$2)","v":""},null,null,{"$f":"IF(ISBLANK(B216),\"\",COUNTA(#REF!))","v":""},null,null,null,null,null,null,null,null,null,null,{"$f":"IF(AND(K216<>\"\",ISBLANK(N216),K216<TODAY()),\"Oui\",\"Non\")","v":"Non"},{"$f":"IF(ISBLANK(I216),\"\",IF(K216=\"\",\"délai à préciser\",IF(M216=\"\",\"statut à préciser\",IF(M216=\"finalisée\",IF(N216=\"\",\"date de solde à préciser\",IF(K216>=N216,\"fait\",\"retard\")),(IF(K216<TODAY(),\"retard\",\"Ok\"))))))","v":""},{"$f":"IF(AND(N216<>\"\",ISBLANK(N216),K216<TODAY()),\"Oui\",\"Non\")","v":"Non"},null,{"$f":"IF(ISBLANK(H216),\"\",IF(OR(H216=\"Préventive\",H216=\"Corrective\"),\"Oui\",\"Non\"))","v":""},null,null,null,null,null,{"$f":"IF(AND(U216<>\"\",ISBLANK(X216),U216<TODAY()),\"Oui\",\"Non\")","v":"Non"},{"$f":"IF(AND(S216=\"Oui\",ISBLANK(X216)),\"Oui\",\"Non\")","v":"Non"},null,null,null,null,{"$f":"IF(K216=\"\",\"\",K216-TODAY())","v":""},{"$f":"IF(ISBLANK(F216),CONCATENATE(E216,\" - \",AG216),CONCATENATE(F216,\" - \",AG216))","v":" - "},{"$f":"IF(ISBLANK(B216),\"\",YEAR(C216))","v":""},{"$f":"CONCATENATE(H216,\"-\",AG216)","v":"-"},{"$f":"CONCATENATE(M216,\"-\",AH216)","v":"--"}]
[{"$f":"IF(ISBLANK(B217),\"\",$C$2)","v":""},null,null,{"$f":"IF(ISBLANK(B217),\"\",COUNTA(#REF!))","v":""},null,null,null,null,null,null,null,null,null,null,{"$f":"IF(AND(K217<>\"\",ISBLANK(N217),K217<TODAY()),\"Oui\",\"Non\")","v":"Non"},{"$f":"IF(ISBLANK(I217),\"\",IF(K217=\"\",\"délai à préciser\",IF(M217=\"\",\"statut à préciser\",IF(M217=\"finalisée\",IF(N217=\"\",\"date de solde à préciser\",IF(K217>=N217,\"fait\",\"retard\")),(IF(K217<TODAY(),\"retard\",\"Ok\"))))))","v":""},{"$f":"IF(AND(N217<>\"\",ISBLANK(N217),K217<TODAY()),\"Oui\",\"Non\")","v":"Non"},null,{"$f":"IF(ISBLANK(H217),\"\",IF(OR(H217=\"Préventive\",H217=\"Corrective\"),\"Oui\",\"Non\"))","v":""},null,null,null,null,null,{"$f":"IF(AND(U217<>\"\",ISBLANK(X217),U217<TODAY()),\"Oui\",\"Non\")","v":"Non"},{"$f":"IF(AND(S217=\"Oui\",ISBLANK(X217)),\"Oui\",\"Non\")","v":"Non"},null,null,null,null,{"$f":"IF(K217=\"\",\"\",K217-TODAY())","v":""},{"$f":"IF(ISBLANK(F217),CONCATENATE(E217,\" - \",AG217),CONCATENATE(F217,\" - \",AG217))","v":" - "},{"$f":"IF(ISBLANK(B217),\"\",YEAR(C217))","v":""},{"$f":"CONCATENATE(H217,\"-\",AG217)","v":"-"},{"$f":"CONCATENATE(M217,\"-\",AH217)","v":"--"}]
[{"$f":"IF(ISBLANK(B218),\"\",$C$2)","v":""},null,null,{"$f":"IF(ISBLANK(B218),\"\",COUNTA(#REF!))","v":""},null,null,null,null,null,null,null,null,null,null,{"$f":"IF(AND(K218<>\"\",ISBLANK(N218),K218<TODAY()),\"Oui\",\"Non\")","v":"Non"},{"$f":"IF(ISBLANK(I218),\"\",IF(K218=\"\",\"délai à préciser\",IF(M218=\"\",\"statut à préciser\",IF(M218=\"finalisée\",IF(N218=\"\",\"date de solde à préciser\",IF(K218>=N218,\"fait\",\"retard\")),(IF(K218<TODAY(),\"retard\",\"Ok\"))))))","v":""},{"$f":"IF(AND(N218<>\"\",ISBLANK(N218),K218<TODAY()),\"Oui\",\"Non\")","v":"Non"},null,{"$f":"IF(ISBLANK(H218),\"\",IF(OR(H218=\"Préventive\",H218=\"Corrective\"),\"Oui\",\"Non\"))","v":""},null,null,null,null,null,{"$f":"IF(AND(U218<>\"\",ISBLANK(X218),U218<TODAY()),\"Oui\",\"Non\")","v":"Non"},{"$f":"IF(AND(S218=\"Oui\",ISBLANK(X218)),\"Oui\",\"Non\")","v":"Non"},null,null,null,null,{"$f":"IF(K218=\"\",\"\",K218-TODAY())","v":""},{"$f":"IF(ISBLANK(F218),CONCATENATE(E218,\" - \",AG218),CONCATENATE(F218,\" - \",AG218))","v":" - "},{"$f":"IF(ISBLANK(B218),\"\",YEAR(C218))","v":""},{"$f":"CONCATENATE(H218,\"-\",AG218)","v":"-"},{"$f":"CONCATENATE(M218,\"-\",AH218)","v":"--"}]
[{"$f":"IF(ISBLANK(B219),\"\",$C$2)","v":""},null,null,{"$f":"IF(ISBLANK(B219),\"\",COUNTA(#REF!))","v":""},null,null,null,null,null,null,null,null,null,null,{"$f":"IF(AND(K219<>\"\",ISBLANK(N219),K219<TODAY()),\"Oui\",\"Non\")","v":"Non"},{"$f":"IF(ISBLANK(I219),\"\",IF(K219=\"\",\"délai à préciser\",IF(M219=\"\",\"statut à préciser\",IF(M219=\"finalisée\",IF(N219=\"\",\"date de solde à préciser\",IF(K219>=N219,\"fait\",\"retard\")),(IF(K219<TODAY(),\"retard\",\"Ok\"))))))","v":""},{"$f":"IF(AND(N219<>\"\",ISBLANK(N219),K219<TODAY()),\"Oui\",\"Non\")","v":"Non"},null,{"$f":"IF(ISBLANK(H219),\"\",IF(OR(H219=\"Préventive\",H219=\"Corrective\"),\"Oui\",\"Non\"))","v":""},null,null,null,null,null,{"$f":"IF(AND(U219<>\"\",ISBLANK(X219),U219<TODAY()),\"Oui\",\"Non\")","v":"Non"},{"$f":"IF(AND(S219=\"Oui\",ISBLANK(X219)),\"Oui\",\"Non\")","v":"Non"},null,null,null,null,{"$f":"IF(K219=\"\",\"\",K219-TODAY())","v":""},{"$f":"IF(ISBLANK(F219),CONCATENATE(E219,\" - \",AG219),CONCATENATE(F219,\" - \",AG219))","v":" - "},{"$f":"IF(ISBLANK(B219),\"\",YEAR(C219))","v":""},{"$f":"CONCATENATE(H219,\"-\",AG219)","v":"-"},{"$f":"CONCATENATE(M219,\"-\",AH219)","v":"--"}]
[{"$f":"IF(ISBLANK(B220),\"\",$C$2)","v":""},null,null,{"$f":"IF(ISBLANK(B220),\"\",COUNTA(#REF!))","v":""},null,null,null,null,null,null,null,null,null,null,{"$f":"IF(AND(K220<>\"\",ISBLANK(N220),K220<TODAY()),\"Oui\",\"Non\")","v":"Non"},{"$f":"IF(ISBLANK(I220),\"\",IF(K220=\"\",\"délai à préciser\",IF(M220=\"\",\"statut à préciser\",IF(M220=\"finalisée\",IF(N220=\"\",\"date de solde à préciser\",IF(K220>=N220,\"fait\",\"retard\")),(IF(K220<TODAY(),\"retard\",\"Ok\"))))))","v":""},{"$f":"IF(AND(N220<>\"\",ISBLANK(N220),K220<TODAY()),\"Oui\",\"Non\")","v":"Non"},null,{"$f":"IF(ISBLANK(H220),\"\",IF(OR(H220=\"Préventive\",H220=\"Corrective\"),\"Oui\",\"Non\"))","v":""},null,null,null,null,null,{"$f":"IF(AND(U220<>\"\",ISBLANK(X220),U220<TODAY()),\"Oui\",\"Non\")","v":"Non"},{"$f":"IF(AND(S220=\"Oui\",ISBLANK(X220)),\"Oui\",\"Non\")","v":"Non"},null,null,null,null,{"$f":"IF(K220=\"\",\"\",K220-TODAY())","v":""},{"$f":"IF(ISBLANK(F220),CONCATENATE(E220,\" - \",AG220),CONCATENATE(F220,\" - \",AG220))","v":" - "},{"$f":"IF(ISBLANK(B220),\"\",YEAR(C220))","v":""},{"$f":"CONCATENATE(H220,\"-\",AG220)","v":"-"},{"$f":"CONCATENATE(M220,\"-\",AH220)","v":"--"}]
[{"$f":"IF(ISBLANK(B221),\"\",$C$2)","v":""},null,null,{"$f":"IF(ISBLANK(B221),\"\",COUNTA(#REF!))","v":""},null,null,null,null,null,null,null,null,null,null,{"$f":"IF(AND(K221<>\"\",ISBLANK(N221),K221<TODAY()),\"Oui\",\"Non\")","v":"Non"},{"$f":"IF(ISBLANK(I221),\"\",IF(K221=\"\",\"délai à préciser\",IF(M221=\"\",\"statut à préciser\",IF(M221=\"finalisée\",IF(N221=\"\",\"date de solde à préciser\",IF(K221>=N221,\"fait\",\"retard\")),(IF(K221<TODAY(),\"retard\",\"Ok\"))))))","v":""},{"$f":"IF(AND(N221<>\"\",ISBLANK(N221),K221<TODAY()),\"Oui\",\"Non\")","v":"Non"},null,{"$f":"IF(ISBLANK(H221),\"\",IF(OR(H221=\"Préventive\",H221=\"Corrective\"),\"Oui\",\"Non\"))","v":""},null,null,null,null,null,{"$f":"IF(AND(U221<>\"\",ISBLANK(X221),U221<TODAY()),\"Oui\",\"Non\")","v":"Non"},{"$f":"IF(AND(S221=\"Oui\",ISBLANK(X221)),\"Oui\",\"Non\")","v":"Non"},null,null,null,null,{"$f":"IF(K221=\"\",\"\",K221-TODAY())","v":""},{"$f":"IF(ISBLANK(F221),CONCATENATE(E221,\" - \",AG221),CONCATENATE(F221,\" - \",AG221))","v":" - "},{"$f":"IF(ISBLANK(B221),\"\",YEAR(C221))","v":""},{"$f":"CONCATENATE(H221,\"-\",AG221)","v":"-"},{"$f":"CONCATENATE(M221,\"-\",AH221)","v":"--"}]
[{"$f":"IF(ISBLANK(B222),\"\",$C$2)","v":""},null,null,{"$f":"IF(ISBLANK(B222),\"\",COUNTA(#REF!))","v":""},null,null,null,null,null,null,null,null,null,null,{"$f":"IF(AND(K222<>\"\",ISBLANK(N222),K222<TODAY()),\"Oui\",\"Non\")","v":"Non"},{"$f":"IF(ISBLANK(I222),\"\",IF(K222=\"\",\"délai à préciser\",IF(M222=\"\",\"statut à préciser\",IF(M222=\"finalisée\",IF(N222=\"\",\"date de solde à préciser\",IF(K222>=N222,\"fait\",\"retard\")),(IF(K222<TODAY(),\"retard\",\"Ok\"))))))","v":""},{"$f":"IF(AND(N222<>\"\",ISBLANK(N222),K222<TODAY()),\"Oui\",\"Non\")","v":"Non"},null,{"$f":"IF(ISBLANK(H222),\"\",IF(OR(H222=\"Préventive\",H222=\"Corrective\"),\"Oui\",\"Non\"))","v":""},null,null,null,null,null,{"$f":"IF(AND(U222<>\"\",ISBLANK(X222),U222<TODAY()),\"Oui\",\"Non\")","v":"Non"},{"$f":"IF(AND(S222=\"Oui\",ISBLANK(X222)),\"Oui\",\"Non\")","v":"Non"},null,null,null,null,{"$f":"IF(K222=\"\",\"\",K222-TODAY())","v":""},{"$f":"IF(ISBLANK(F222),CONCATENATE(E222,\" - \",AG222),CONCATENATE(F222,\" - \",AG222))","v":" - "},{"$f":"IF(ISBLANK(B222),\"\",YEAR(C222))","v":""},{"$f":"CONCATENATE(H222,\"-\",AG222)","v":"-"},{"$f":"CONCATENATE(M222,\"-\",AH222)","v":"--"}]
[{"$f":"IF(ISBLANK(B223),\"\",$C$2)","v":""},null,null,{"$f":"IF(ISBLANK(B223),\"\",COUNTA(#REF!))","v":""},null,null,null,null,null,null,null,null,null,null,{"$f":"IF(AND(K223<>\"\",ISBLANK(N223),K223<TODAY()),\"Oui\",\"Non\")","v":"Non"},{"$f":"IF(ISBLANK(I223),\"\",IF(K223=\"\",\"délai à préciser\",IF(M223=\"\",\"statut à préciser\",IF(M223=\"finalisée\",IF(N223=\"\",\"date de solde à préciser\",IF(K223>=N223,\"fait\",\"retard\")),(IF(K223<TODAY(),\"retard\",\"Ok\"))))))","v":""},{"$f":"IF(AND(N223<>\"\",ISBLANK(N223),K223<TODAY()),\"Oui\",\"Non\")","v":"Non"},null,{"$f":"IF(ISBLANK(H223),\"\",IF(OR(H223=\"Préventive\",H223=\"Corrective\"),\"Oui\",\"Non\"))","v":""},null,null,null,null,null,{"$f":"IF(AND(U223<>\"\",ISBLANK(X223),U223<TODAY()),\"Oui\",\"Non\")","v":"Non"},{"$f":"IF(AND(S223=\"Oui\",ISBLANK(X223)),\"Oui\",\"Non\")","v":"Non"},null,null,null,null,{"$f":"IF(K223=\"\",\"\",K223-TODAY())","v":""},{"$f":"IF(ISBLANK(F223),CONCATENATE(E223,\" - \",AG223),CONCATENATE(F223,\" - \",AG223))","v":" - "},{"$f":"IF(ISBLANK(B223),\"\",YEAR(C223))","v":""},{"$f":"CONCATENATE(H223,\"-\",AG223)","v":"-"},{"$f":"CONCATENATE(M223,\"-\",AH223)","v":"--"}]
[{"$f":"IF(ISBLANK(B224),\"\",$C$2)","v":""},null,null,{"$f":"IF(ISBLANK(B224),\"\",COUNTA(#REF!))","v":""},null,null,null,null,null,null,null,null,null,null,{"$f":"IF(AND(K224<>\"\",ISBLANK(N224),K224<TODAY()),\"Oui\",\"Non\")","v":"Non"},{"$f":"IF(ISBLANK(I224),\"\",IF(K224=\"\",\"délai à préciser\",IF(M224=\"\",\"statut à préciser\",IF(M224=\"finalisée\",IF(N224=\"\",\"date de solde à préciser\",IF(K224>=N224,\"fait\",\"retard\")),(IF(K224<TODAY(),\"retard\",\"Ok\"))))))","v":""},{"$f":"IF(AND(N224<>\"\",ISBLANK(N224),K224<TODAY()),\"Oui\",\"Non\")","v":"Non"},null,{"$f":"IF(ISBLANK(H224),\"\",IF(OR(H224=\"Préventive\",H224=\"Corrective\"),\"Oui\",\"Non\"))","v":""},null,null,null,null,null,{"$f":"IF(AND(U224<>\"\",ISBLANK(X224),U224<TODAY()),\"Oui\",\"Non\")","v":"Non"},{"$f":"IF(AND(S224=\"Oui\",ISBLANK(X224)),\"Oui\",\"Non\")","v":"Non"},null,null,null,null,{"$f":"IF(K224=\"\",\"\",K224-TODAY())","v":""},{"$f":"IF(ISBLANK(F224),CONCATENATE(E224,\" - \",AG224),CONCATENATE(F224,\" - \",AG224))","v":" - "},{"$f":"IF(ISBLANK(B224),\"\",YEAR(C224))","v":""},{"$f":"CONCATENATE(H224,\"-\",AG224)","v":"-"},{"$f":"CONCATENATE(M224,\"-\",AH224)","v":"--"}]
[{"$f":"IF(ISBLANK(B225),\"\",$C$2)","v":""},null,null,{"$f":"IF(ISBLANK(B225),\"\",COUNTA(#REF!))","v":""},null,null,null,null,null,null,null,null,null,null,{"$f":"IF(AND(K225<>\"\",ISBLANK(N225),K225<TODAY()),\"Oui\",\"Non\")","v":"Non"},{"$f":"IF(ISBLANK(I225),\"\",IF(K225=\"\",\"délai à préciser\",IF(M225=\"\",\"statut à préciser\",IF(M225=\"finalisée\",IF(N225=\"\",\"date de solde à préciser\",IF(K225>=N225,\"fait\",\"retard\")),(IF(K225<TODAY(),\"retard\",\"Ok\"))))))","v":""},{"$f":"IF(AND(N225<>\"\",ISBLANK(N225),K225<TODAY()),\"Oui\",\"Non\")","v":"Non"},null,{"$f":"IF(ISBLANK(H225),\"\",IF(OR(H225=\"Préventive\",H225=\"Corrective\"),\"Oui\",\"Non\"))","v":""},null,null,null,null,null,{"$f":"IF(AND(U225<>\"\",ISBLANK(X225),U225<TODAY()),\"Oui\",\"Non\")","v":"Non"},{"$f":"IF(AND(S225=\"Oui\",ISBLANK(X225)),\"Oui\",\"Non\")","v":"Non"},null,null,null,null,{"$f":"IF(K225=\"\",\"\",K225-TODAY())","v":""},{"$f":"IF(ISBLANK(F225),CONCATENATE(E225,\" - \",AG225),CONCATENATE(F225,\" - \",AG225))","v":" - "},{"$f":"IF(ISBLANK(B225),\"\",YEAR(C225))","v":""},{"$f":"CONCATENATE(H225,\"-\",AG225)","v":"-"},{"$f":"CONCATENATE(M225,\"-\",AH225)","v":"--"}]
[{"$f":"IF(ISBLANK(B226),\"\",$C$2)","v":""},null,null,{"$f":"IF(ISBLANK(B226),\"\",COUNTA(#REF!))","v":""},null,null,null,null,null,null,null,null,null,null,{"$f":"IF(AND(K226<>\"\",ISBLANK(N226),K226<TODAY()),\"Oui\",\"Non\")","v":"Non"},{"$f":"IF(ISBLANK(I226),\"\",IF(K226=\"\",\"délai à préciser\",IF(M226=\"\",\"statut à préciser\",IF(M226=\"finalisée\",IF(N226=\"\",\"date de solde à préciser\",IF(K226>=N226,\"fait\",\"retard\")),(IF(K226<TODAY(),\"retard\",\"Ok\"))))))","v":""},{"$f":"IF(AND(N226<>\"\",ISBLANK(N226),K226<TODAY()),\"Oui\",\"Non\")","v":"Non"},null,{"$f":"IF(ISBLANK(H226),\"\",IF(OR(H226=\"Préventive\",H226=\"Corrective\"),\"Oui\",\"Non\"))","v":""},null,null,null,null,null,{"$f":"IF(AND(U226<>\"\",ISBLANK(X226),U226<TODAY()),\"Oui\",\"Non\")","v":"Non"},{"$f":"IF(AND(S226=\"Oui\",ISBLANK(X226)),\"Oui\",\"Non\")","v":"Non"},null,null,null,null,{"$f":"IF(K226=\"\",\"\",K226-TODAY())","v":""},{"$f":"IF(ISBLANK(F226),CONCATENATE(E226,\" - \",AG226),CONCATENATE(F226,\" - \",AG226))","v":" - "},{"$f":"IF(ISBLANK(B226),\"\",YEAR(C226))","v":""},{"$f":"CONCATENATE(H226,\"-\",AG226)","v":"-"},{"$f":"CONCATENATE(M226,\"-\",AH226)","v":"--"}]
[{"$f":"IF(ISBLANK(B227),\"\",$C$2)","v":""},null,null,{"$f":"IF(ISBLANK(B227),\"\",COUNTA(#REF!))","v":""},null,null,null,null,null,null,null,null,null,null,{"$f":"IF(AND(K227<>\"\",ISBLANK(N227),K227<TODAY()),\"Oui\",\"Non\")","v":"Non"},{"$f":"IF(ISBLANK(I227),\"\",IF(K227=\"\",\"délai à préciser\",IF(M227=\"\",\"statut à préciser\",IF(M227=\"finalisée\",IF(N227=\"\",\"date de solde à préciser\",IF(K227>=N227,\"fait\",\"retard\")),(IF(K227<TODAY(),\"retard\",\"Ok\"))))))","v":""},{"$f":"IF(AND(N227<>\"\",ISBLANK(N227),K227<TODAY()),\"Oui\",\"Non\")","v":"Non"},null,{"$f":"IF(ISBLANK(H227),\"\",IF(OR(H227=\"Préventive\",H227=\"Corrective\"),\"Oui\",\"Non\"))","v":""},null,null,null,null,null,{"$f":"IF(AND(U227<>\"\",ISBLANK(X227),U227<TODAY()),\"Oui\",\"Non\")","v":"Non"},{"$f":"IF(AND(S227=\"Oui\",ISBLANK(X227)),\"Oui\",\"Non\")","v":"Non"},null,null,null,null,{"$f":"IF(K227=\"\",\"\",K227-TODAY())","v":""},{"$f":"IF(ISBLANK(F227),CONCATENATE(E227,\" - \",AG227),CONCATENATE(F227,\" - \",AG227))","v":" - "},{"$f":"IF(ISBLANK(B227),\"\",YEAR(C227))","v":""},{"$f":"CONCATENATE(H227,\"-\",AG227)","v":"-"},{"$f":"CONCATENATE(M227,\"-\",AH227)","v":"--"}]
[{"$f":"IF(ISBLANK(B228),\"\",$C$2)","v":""},null,null,{"$f":"IF(ISBLANK(B228),\"\",COUNTA(#REF!))","v":""},null,null,null,null,null,null,null,null,null,null,{"$f":"IF(AND(K228<>\"\",ISBLANK(N228),K228<TODAY()),\"Oui\",\"Non\")","v":"Non"},{"$f":"IF(ISBLANK(I228),\"\",IF(K228=\"\",\"délai à préciser\",IF(M228=\"\",\"statut à préciser\",IF(M228=\"finalisée\",IF(N228=\"\",\"date de solde à préciser\",IF(K228>=N228,\"fait\",\"retard\")),(IF(K228<TODAY(),\"retard\",\"Ok\"))))))","v":""},{"$f":"IF(AND(N228<>\"\",ISBLANK(N228),K228<TODAY()),\"Oui\",\"Non\")","v":"Non"},null,{"$f":"IF(ISBLANK(H228),\"\",IF(OR(H228=\"Préventive\",H228=\"Corrective\"),\"Oui\",\"Non\"))","v":""},null,null,null,null,null,{"$f":"IF(AND(U228<>\"\",ISBLANK(X228),U228<TODAY()),\"Oui\",\"Non\")","v":"Non"},{"$f":"IF(AND(S228=\"Oui\",ISBLANK(X228)),\"Oui\",\"Non\")","v":"Non"},null,null,null,null,{"$f":"IF(K228=\"\",\"\",K228-TODAY())","v":""},{"$f":"IF(ISBLANK(F228),CONCATENATE(E228,\" - \",AG228),CONCATENATE(F228,\" - \",AG228))","v":" - "},{"$f":"IF(ISBLANK(B228),\"\",YEAR(C228))","v":""},{"$f":"CONCATENATE(H228,\"-\",AG228)","v":"-"},{"$f":"CONCATENATE(M228,\"-\",AH228)","v":"--"}]
[{"$f":"IF(ISBLANK(B229),\"\",$C$2)","v":""},null,null,{"$f":"IF(ISBLANK(B229),\"\",COUNTA(#REF!))","v":""},null,null,null,null,null,null,null,null,null,null,{"$f":"IF(AND(K229<>\"\",ISBLANK(N229),K229<TODAY()),\"Oui\",\"Non\")","v":"Non"},{"$f":"IF(ISBLANK(I229),\"\",IF(K229=\"\",\"délai à préciser\",IF(M229=\"\",\"statut à préciser\",IF(M229=\"finalisée\",IF(N229=\"\",\"date de solde à préciser\",IF(K229>=N229,\"fait\",\"retard\")),(IF(K229<TODAY(),\"retard\",\"Ok\"))))))","v":""},{"$f":"IF(AND(N229<>\"\",ISBLANK(N229),K229<TODAY()),\"Oui\",\"Non\")","v":"Non"},null,{"$f":"IF(ISBLANK(H229),\"\",IF(OR(H229=\"Préventive\",H229=\"Corrective\"),\"Oui\",\"Non\"))","v":""},null,null,null,null,null,{"$f":"IF(AND(U229<>\"\",ISBLANK(X229),U229<TODAY()),\"Oui\",\"Non\")","v":"Non"},{"$f":"IF(AND(S229=\"Oui\",ISBLANK(X229)),\"Oui\",\"Non\")","v":"Non"},null,null,null,null,{"$f":"IF(K229=\"\",\"\",K229-TODAY())","v":""},{"$f":"IF(ISBLANK(F229),CONCATENATE(E229,\" - \",AG229),CONCATENATE(F229,\" - \",AG229))","v":" - "},{"$f":"IF(ISBLANK(B229),\"\",YEAR(C229))","v":""},{"$f":"CONCATENATE(H229,\"-\",AG229)","v":"-"},{"$f":"CONCATENATE(M229,\"-\",AH229)","v":"--"}]
[{"$f":"IF(ISBLANK(B230),\"\",$C$2)","v":""},null,null,{"$f":"IF(ISBLANK(B230),\"\",COUNTA(#REF!))","v":""},null,null,null,null,null,null,null,null,null,null,{"$f":"IF(AND(K230<>\"\",ISBLANK(N230),K230<TODAY()),\"Oui\",\"Non\")","v":"Non"},{"$f":"IF(ISBLANK(I230),\"\",IF(K230=\"\",\"délai à préciser\",IF(M230=\"\",\"statut à préciser\",IF(M230=\"finalisée\",IF(N230=\"\",\"date de solde à préciser\",IF(K230>=N230,\"fait\",\"retard\")),(IF(K230<TODAY(),\"retard\",\"Ok\"))))))","v":""},{"$f":"IF(AND(N230<>\"\",ISBLANK(N230),K230<TODAY()),\"Oui\",\"Non\")","v":"Non"},null,{"$f":"IF(ISBLANK(H230),\"\",IF(OR(H230=\"Préventive\",H230=\"Corrective\"),\"Oui\",\"Non\"))","v":""},null,null,null,null,null,{"$f":"IF(AND(U230<>\"\",ISBLANK(X230),U230<TODAY()),\"Oui\",\"Non\")","v":"Non"},{"$f":"IF(AND(S230=\"Oui\",ISBLANK(X230)),\"Oui\",\"Non\")","v":"Non"},null,null,null,null,{"$f":"IF(K230=\"\",\"\",K230-TODAY())","v":""},{"$f":"IF(ISBLANK(F230),CONCATENATE(E230,\" - \",AG230),CONCATENATE(F230,\" - \",AG230))","v":" - "},{"$f":"IF(ISBLANK(B230),\"\",YEAR(C230))","v":""},{"$f":"CONCATENATE(H230,\"-\",AG230)","v":"-"},{"$f":"CONCATENATE(M230,\"-\",AH230)","v":"--"}]
[{"$f":"IF(ISBLANK(B231),\"\",$C$2)","v":""},null,null,{"$f":"IF(ISBLANK(B231),\"\",COUNTA(#REF!))","v":""},null,null,null,null,null,null,null,null,null,null,{"$f":"IF(AND(K231<>\"\",ISBLANK(N231),K231<TODAY()),\"Oui\",\"Non\")","v":"Non"},{"$f":"IF(ISBLANK(I231),\"\",IF(K231=\"\",\"délai à préciser\",IF(M231=\"\",\"statut à préciser\",IF(M231=\"finalisée\",IF(N231=\"\",\"date de solde à préciser\",IF(K231>=N231,\"fait\",\"retard\")),(IF(K231<TODAY(),\"retard\",\"Ok\"))))))","v":""},{"$f":"IF(AND(N231<>\"\",ISBLANK(N231),K231<TODAY()),\"Oui\",\"Non\")","v":"Non"},null,{"$f":"IF(ISBLANK(H231),\"\",IF(OR(H231=\"Préventive\",H231=\"Corrective\"),\"Oui\",\"Non\"))","v":""},null,null,null,null,null,{"$f":"IF(AND(U231<>\"\",ISBLANK(X231),U231<TODAY()),\"Oui\",\"Non\")","v":"Non"},{"$f":"IF(AND(S231=\"Oui\",ISBLANK(X231)),\"Oui\",\"Non\")","v":"Non"},null,null,null,null,{"$f":"IF(K231=\"\",\"\",K231-TODAY())","v":""},{"$f":"IF(ISBLANK(F231),CONCATENATE(E231,\" - \",AG231),CONCATENATE(F231,\" - \",AG231))","v":" - "},{"$f":"IF(ISBLANK(B231),\"\",YEAR(C231))","v":""},{"$f":"CONCATENATE(H231,\"-\",AG231)","v":"-"},{"$f":"CONCATENATE(M231,\"-\",AH231)","v":"--"}]
[{"$f":"IF(ISBLANK(B232),\"\",$C$2)","v":""},null,null,{"$f":"IF(ISBLANK(B232),\"\",COUNTA(#REF!))","v":""},null,null,null,null,null,null,null,null,null,null,{"$f":"IF(AND(K232<>\"\",ISBLANK(N232),K232<TODAY()),\"Oui\",\"Non\")","v":"Non"},{"$f":"IF(ISBLANK(I232),\"\",IF(K232=\"\",\"délai à préciser\",IF(M232=\"\",\"statut à préciser\",IF(M232=\"finalisée\",IF(N232=\"\",\"date de solde à préciser\",IF(K232>=N232,\"fait\",\"retard\")),(IF(K232<TODAY(),\"retard\",\"Ok\"))))))","v":""},{"$f":"IF(AND(N232<>\"\",ISBLANK(N232),K232<TODAY()),\"Oui\",\"Non\")","v":"Non"},null,{"$f":"IF(ISBLANK(H232),\"\",IF(OR(H232=\"Préventive\",H232=\"Corrective\"),\"Oui\",\"Non\"))","v":""},null,null,null,null,null,{"$f":"IF(AND(U232<>\"\",ISBLANK(X232),U232<TODAY()),\"Oui\",\"Non\")","v":"Non"},{"$f":"IF(AND(S232=\"Oui\",ISBLANK(X232)),\"Oui\",\"Non\")","v":"Non"},null,null,null,null,{"$f":"IF(K232=\"\",\"\",K232-TODAY())","v":""},{"$f":"IF(ISBLANK(F232),CONCATENATE(E232,\" - \",AG232),CONCATENATE(F232,\" - \",AG232))","v":" - "},{"$f":"IF(ISBLANK(B232),\"\",YEAR(C232))","v":""},{"$f":"CONCATENATE(H232,\"-\",AG232)","v":"-"},{"$f":"CONCATENATE(M232,\"-\",AH232)","v":"--"}]
[{"$f":"IF(ISBLANK(B233),\"\",$C$2)","v":""},null,null,{"$f":"IF(ISBLANK(B233),\"\",COUNTA(#REF!))","v":""},null,null,null,null,null,null,null,null,null,null,{"$f":"IF(AND(K233<>\"\",ISBLANK(N233),K233<TODAY()),\"Oui\",\"Non\")","v":"Non"},{"$f":"IF(ISBLANK(I233),\"\",IF(K233=\"\",\"délai à préciser\",IF(M233=\"\",\"statut à préciser\",IF(M233=\"finalisée\",IF(N233=\"\",\"date de solde à préciser\",IF(K233>=N233,\"fait\",\"retard\")),(IF(K233<TODAY(),\"retard\",\"Ok\"))))))","v":""},{"$f":"IF(AND(N233<>\"\",ISBLANK(N233),K233<TODAY()),\"Oui\",\"Non\")","v":"Non"},null,{"$f":"IF(ISBLANK(H233),\"\",IF(OR(H233=\"Préventive\",H233=\"Corrective\"),\"Oui\",\"Non\"))","v":""},null,null,null,null,null,{"$f":"IF(AND(U233<>\"\",ISBLANK(X233),U233<TODAY()),\"Oui\",\"Non\")","v":"Non"},{"$f":"IF(AND(S233=\"Oui\",ISBLANK(X233)),\"Oui\",\"Non\")","v":"Non"},null,null,null,null,{"$f":"IF(K233=\"\",\"\",K233-TODAY())","v":""},{"$f":"IF(ISBLANK(F233),CONCATENATE(E233,\" - \",AG233),CONCATENATE(F233,\" - \",AG233))","v":" - "},{"$f":"IF(ISBLANK(B233),\"\",YEAR(C233))","v":""},{"$f":"CONCATENATE(H233,\"-\",AG233)","v":"-"},{"$f":"CONCATENATE(M233,\"-\",AH233)","v":"--"}]
[{"$f":"IF(ISBLANK(B234),\"\",$C$2)","v":""},null,null,{"$f":"IF(ISBLANK(B234),\"\",COUNTA(#REF!))","v":""},null,null,null,null,null,null,null,null,null,null,{"$f":"IF(AND(K234<>\"\",ISBLANK(N234),K234<TODAY()),\"Oui\",\"Non\")","v":"Non"},{"$f":"IF(ISBLANK(I234),\"\",IF(K234=\"\",\"délai à préciser\",IF(M234=\"\",\"statut à préciser\",IF(M234=\"finalisée\",IF(N234=\"\",\"date de solde à préciser\",IF(K234>=N234,\"fait\",\"retard\")),(IF(K234<TODAY(),\"retard\",\"Ok\"))))))","v":""},{"$f":"IF(AND(N234<>\"\",ISBLANK(N234),K234<TODAY()),\"Oui\",\"Non\")","v":"Non"},null,{"$f":"IF(ISBLANK(H234),\"\",IF(OR(H234=\"Préventive\",H234=\"Corrective\"),\"Oui\",\"Non\"))","v":""},null,null,null,null,null,{"$f":"IF(AND(U234<>\"\",ISBLANK(X234),U234<TODAY()),\"Oui\",\"Non\")","v":"Non"},{"$f":"IF(AND(S234=\"Oui\",ISBLANK(X234)),\"Oui\",\"Non\")","v":"Non"},null,null,null,null,{"$f":"IF(K234=\"\",\"\",K234-TODAY())","v":""},{"$f":"IF(ISBLANK(F234),CONCATENATE(E234,\" - \",AG234),CONCATENATE(F234,\" - \",AG234))","v":" - "},{"$f":"IF(ISBLANK(B234),\"\",YEAR(C234))","v":""},{"$f":"CONCATENATE(H234,\"-\",AG234)","v":"-"},{"$f":"CONCATENATE(M234,\"-\",AH234)","v":"--"}]
[{"$f":"IF(ISBLANK(B235),\"\",$C$2)","v":""},null,null,{"$f":"IF(ISBLANK(B235),\"\",COUNTA(#REF!))","v":""},null,null,null,null,null,null,null,null,null,null,{"$f":"IF(AND(K235<>\"\",ISBLANK(N235),K235<TODAY()),\"Oui\",\"Non\")","v":"Non"},{"$f":"IF(ISBLANK(I235),\"\",IF(K235=\"\",\"délai à préciser\",IF(M235=\"\",\"statut à préciser\",IF(M235=\"finalisée\",IF(N235=\"\",\"date de solde à préciser\",IF(K235>=N235,\"fait\",\"retard\")),(IF(K235<TODAY(),\"retard\",\"Ok\"))))))","v":""},{"$f":"IF(AND(N235<>\"\",ISBLANK(N235),K235<TODAY()),\"Oui\",\"Non\")","v":"Non"},null,{"$f":"IF(ISBLANK(H235),\"\",IF(OR(H235=\"Préventive\",H235=\"Corrective\"),\"Oui\",\"Non\"))","v":""},null,null,null,null,null,{"$f":"IF(AND(U235<>\"\",ISBLANK(X235),U235<TODAY()),\"Oui\",\"Non\")","v":"Non"},{"$f":"IF(AND(S235=\"Oui\",ISBLANK(X235)),\"Oui\",\"Non\")","v":"Non"},null,null,null,null,{"$f":"IF(K235=\"\",\"\",K235-TODAY())","v":""},{"$f":"IF(ISBLANK(F235),CONCATENATE(E235,\" - \",AG235),CONCATENATE(F235,\" - \",AG235))","v":" - "},{"$f":"IF(ISBLANK(B235),\"\",YEAR(C235))","v":""},{"$f":"CONCATENATE(H235,\"-\",AG235)","v":"-"},{"$f":"CONCATENATE(M235,\"-\",AH235)","v":"--"}]
[{"$f":"IF(ISBLANK(B236),\"\",$C$2)","v":""},null,null,{"$f":"IF(ISBLANK(B236),\"\",COUNTA(#REF!))","v":""},null,null,null,null,null,null,null,null,null,null,{"$f":"IF(AND(K236<>\"\",ISBLANK(N236),K236<TODAY()),\"Oui\",\"Non\")","v":"Non"},{"$f":"IF(ISBLANK(I236),\"\",IF(K236=\"\",\"délai à préciser\",IF(M236=\"\",\"statut à préciser\",IF(M236=\"finalisée\",IF(N236=\"\",\"date de solde à préciser\",IF(K236>=N236,\"fait\",\"retard\")),(IF(K236<TODAY(),\"retard\",\"Ok\"))))))","v":""},{"$f":"IF(AND(N236<>\"\",ISBLANK(N236),K236<TODAY()),\"Oui\",\"Non\")","v":"Non"},null,{"$f":"IF(ISBLANK(H236),\"\",IF(OR(H236=\"Préventive\",H236=\"Corrective\"),\"Oui\",\"Non\"))","v":""},null,null,null,null,null,{"$f":"IF(AND(U236<>\"\",ISBLANK(X236),U236<TODAY()),\"Oui\",\"Non\")","v":"Non"},{"$f":"IF(AND(S236=\"Oui\",ISBLANK(X236)),\"Oui\",\"Non\")","v":"Non"},null,null,null,null,{"$f":"IF(K236=\"\",\"\",K236-TODAY())","v":""},{"$f":"IF(ISBLANK(F236),CONCATENATE(E236,\" - \",AG236),CONCATENATE(F236,\" - \",AG236))","v":" - "},{"$f":"IF(ISBLANK(B236),\"\",YEAR(C236))","v":""},{"$f":"CONCATENATE(H236,\"-\",AG236)","v":"-"},{"$f":"CONCATENATE(M236,\"-\",AH236)","v":"--"}]
[{"$f":"IF(ISBLANK(B237),\"\",$C$2)","v":""},null,null,{"$f":"IF(ISBLANK(B237),\"\",COUNTA(#REF!))","v":""},null,null,null,null,null,null,null,null,null,null,{"$f":"IF(AND(K237<>\"\",ISBLANK(N237),K237<TODAY()),\"Oui\",\"Non\")","v":"Non"},{"$f":"IF(ISBLANK(I237),\"\",IF(K237=\"\",\"délai à préciser\",IF(M237=\"\",\"statut à préciser\",IF(M237=\"finalisée\",IF(N237=\"\",\"date de solde à préciser\",IF(K237>=N237,\"fait\",\"retard\")),(IF(K237<TODAY(),\"retard\",\"Ok\"))))))","v":""},{"$f":"IF(AND(N237<>\"\",ISBLANK(N237),K237<TODAY()),\"Oui\",\"Non\")","v":"Non"},null,{"$f":"IF(ISBLANK(H237),\"\",IF(OR(H237=\"Préventive\",H237=\"Corrective\"),\"Oui\",\"Non\"))","v":""},null,null,null,null,null,{"$f":"IF(AND(U237<>\"\",ISBLANK(X237),U237<TODAY()),\"Oui\",\"Non\")","v":"Non"},{"$f":"IF(AND(S237=\"Oui\",ISBLANK(X237)),\"Oui\",\"Non\")","v":"Non"},null,null,null,null,{"$f":"IF(K237=\"\",\"\",K237-TODAY())","v":""},{"$f":"IF(ISBLANK(F237),CONCATENATE(E237,\" - \",AG237),CONCATENATE(F237,\" - \",AG237))","v":" - "},{"$f":"IF(ISBLANK(B237),\"\",YEAR(C237))","v":""},{"$f":"CONCATENATE(H237,\"-\",AG237)","v":"-"},{"$f":"CONCATENATE(M237,\"-\",AH237)","v":"--"}]
[{"$f":"IF(ISBLANK(B238),\"\",$C$2)","v":""},null,null,{"$f":"IF(ISBLANK(B238),\"\",COUNTA(#REF!))","v":""},null,null,null,null,null,null,null,null,null,null,{"$f":"IF(AND(K238<>\"\",ISBLANK(N238),K238<TODAY()),\"Oui\",\"Non\")","v":"Non"},{"$f":"IF(ISBLANK(I238),\"\",IF(K238=\"\",\"délai à préciser\",IF(M238=\"\",\"statut à préciser\",IF(M238=\"finalisée\",IF(N238=\"\",\"date de solde à préciser\",IF(K238>=N238,\"fait\",\"retard\")),(IF(K238<TODAY(),\"retard\",\"Ok\"))))))","v":""},{"$f":"IF(AND(N238<>\"\",ISBLANK(N238),K238<TODAY()),\"Oui\",\"Non\")","v":"Non"},null,{"$f":"IF(ISBLANK(H238),\"\",IF(OR(H238=\"Préventive\",H238=\"Corrective\"),\"Oui\",\"Non\"))","v":""},null,null,null,null,null,{"$f":"IF(AND(U238<>\"\",ISBLANK(X238),U238<TODAY()),\"Oui\",\"Non\")","v":"Non"},{"$f":"IF(AND(S238=\"Oui\",ISBLANK(X238)),\"Oui\",\"Non\")","v":"Non"},null,null,null,null,{"$f":"IF(K238=\"\",\"\",K238-TODAY())","v":""},{"$f":"IF(ISBLANK(F238),CONCATENATE(E238,\" - \",AG238),CONCATENATE(F238,\" - \",AG238))","v":" - "},{"$f":"IF(ISBLANK(B238),\"\",YEAR(C238))","v":""},{"$f":"CONCATENATE(H238,\"-\",AG238)","v":"-"},{"$f":"CONCATENATE(M238,\"-\",AH238)","v":"--"}]
[{"$f":"IF(ISBLANK(B239),\"\",$C$2)","v":""},null,null,{"$f":"IF(ISBLANK(B239),\"\",COUNTA(#REF!))","v":""},null,null,null,null,null,null,null,null,null,null,{"$f":"IF(AND(K239<>\"\",ISBLANK(N239),K239<TODAY()),\"Oui\",\"Non\")","v":"Non"},{"$f":"IF(ISBLANK(I239),\"\",IF(K239=\"\",\"délai à préciser\",IF(M239=\"\",\"statut à préciser\",IF(M239=\"finalisée\",IF(N239=\"\",\"date de solde à préciser\",IF(K239>=N239,\"fait\",\"retard\")),(IF(K239<TODAY(),\"retard\",\"Ok\"))))))","v":""},{"$f":"IF(AND(N239<>\"\",ISBLANK(N239),K239<TODAY()),\"Oui\",\"Non\")","v":"Non"},null,{"$f":"IF(ISBLANK(H239),\"\",IF(OR(H239=\"Préventive\",H239=\"Corrective\"),\"Oui\",\"Non\"))","v":""},null,null,null,null,null,{"$f":"IF(AND(U239<>\"\",ISBLANK(X239),U239<TODAY()),\"Oui\",\"Non\")","v":"Non"},{"$f":"IF(AND(S239=\"Oui\",ISBLANK(X239)),\"Oui\",\"Non\")","v":"Non"},null,null,null,null,{"$f":"IF(K239=\"\",\"\",K239-TODAY())","v":""},{"$f":"IF(ISBLANK(F239),CONCATENATE(E239,\" - \",AG239),CONCATENATE(F239,\" - \",AG239))","v":" - "},{"$f":"IF(ISBLANK(B239),\"\",YEAR(C239))","v":""},{"$f":"CONCATENATE(H239,\"-\",AG239)","v":"-"},{"$f":"CONCATENATE(M239,\"-\",AH239)","v":"--"}]
[{"$f":"IF(ISBLANK(B240),\"\",$C$2)","v":""},null,null,{"$f":"IF(ISBLANK(B240),\"\",COUNTA(#REF!))","v":""},null,null,null,null,null,null,null,null,null,null,{"$f":"IF(AND(K240<>\"\",ISBLANK(N240),K240<TODAY()),\"Oui\",\"Non\")","v":"Non"},{"$f":"IF(ISBLANK(I240),\"\",IF(K240=\"\",\"délai à préciser\",IF(M240=\"\",\"statut à préciser\",IF(M240=\"finalisée\",IF(N240=\"\",\"date de solde à préciser\",IF(K240>=N240,\"fait\",\"retard\")),(IF(K240<TODAY(),\"retard\",\"Ok\"))))))","v":""},{"$f":"IF(AND(N240<>\"\",ISBLANK(N240),K240<TODAY()),\"Oui\",\"Non\")","v":"Non"},null,{"$f":"IF(ISBLANK(H240),\"\",IF(OR(H240=\"Préventive\",H240=\"Corrective\"),\"Oui\",\"Non\"))","v":""},null,null,null,null,null,{"$f":"IF(AND(U240<>\"\",ISBLANK(X240),U240<TODAY()),\"Oui\",\"Non\")","v":"Non"},{"$f":"IF(AND(S240=\"Oui\",ISBLANK(X240)),\"Oui\",\"Non\")","v":"Non"},null,null,null,null,{"$f":"IF(K240=\"\",\"\",K240-TODAY())","v":""},{"$f":"IF(ISBLANK(F240),CONCATENATE(E240,\" - \",AG240),CONCATENATE(F240,\" - \",AG240))","v":" - "},{"$f":"IF(ISBLANK(B240),\"\",YEAR(C240))","v":""},{"$f":"CONCATENATE(H240,\"-\",AG240)","v":"-"},{"$f":"CONCATENATE(M240,\"-\",AH240)","v":"--"}]
[{"$f":"IF(ISBLANK(B241),\"\",$C$2)","v":""},null,null,{"$f":"IF(ISBLANK(B241),\"\",COUNTA(#REF!))","v":""},null,null,null,null,null,null,null,null,null,null,{"$f":"IF(AND(K241<>\"\",ISBLANK(N241),K241<TODAY()),\"Oui\",\"Non\")","v":"Non"},{"$f":"IF(ISBLANK(I241),\"\",IF(K241=\"\",\"délai à préciser\",IF(M241=\"\",\"statut à préciser\",IF(M241=\"finalisée\",IF(N241=\"\",\"date de solde à préciser\",IF(K241>=N241,\"fait\",\"retard\")),(IF(K241<TODAY(),\"retard\",\"Ok\"))))))","v":""},{"$f":"IF(AND(N241<>\"\",ISBLANK(N241),K241<TODAY()),\"Oui\",\"Non\")","v":"Non"},null,{"$f":"IF(ISBLANK(H241),\"\",IF(OR(H241=\"Préventive\",H241=\"Corrective\"),\"Oui\",\"Non\"))","v":""},null,null,null,null,null,{"$f":"IF(AND(U241<>\"\",ISBLANK(X241),U241<TODAY()),\"Oui\",\"Non\")","v":"Non"},{"$f":"IF(AND(S241=\"Oui\",ISBLANK(X241)),\"Oui\",\"Non\")","v":"Non"},null,null,null,null,{"$f":"IF(K241=\"\",\"\",K241-TODAY())","v":""},{"$f":"IF(ISBLANK(F241),CONCATENATE(E241,\" - \",AG241),CONCATENATE(F241,\" - \",AG241))","v":" - "},{"$f":"IF(ISBLANK(B241),\"\",YEAR(C241))","v":""},{"$f":"CONCATENATE(H241,\"-\",AG241)","v":"-"},{"$f":"CONCATENATE(M241,\"-\",AH241)","v":"--"}]
[{"$f":"IF(ISBLANK(B242),\"\",$C$2)","v":""},null,null,{"$f":"IF(ISBLANK(B242),\"\",COUNTA(#REF!))","v":""},null,null,null,null,null,null,null,null,null,null,{"$f":"IF(AND(K242<>\"\",ISBLANK(N242),K242<TODAY()),\"Oui\",\"Non\")","v":"Non"},{"$f":"IF(ISBLANK(I242),\"\",IF(K242=\"\",\"délai à préciser\",IF(M242=\"\",\"statut à préciser\",IF(M242=\"finalisée\",IF(N242=\"\",\"date de solde à préciser\",IF(K242>=N242,\"fait\",\"retard\")),(IF(K242<TODAY(),\"retard\",\"Ok\"))))))","v":""},{"$f":"IF(AND(N242<>\"\",ISBLANK(N242),K242<TODAY()),\"Oui\",\"Non\")","v":"Non"},null,{"$f":"IF(ISBLANK(H242),\"\",IF(OR(H242=\"Préventive\",H242=\"Corrective\"),\"Oui\",\"Non\"))","v":""},null,null,null,null,null,{"$f":"IF(AND(U242<>\"\",ISBLANK(X242),U242<TODAY()),\"Oui\",\"Non\")","v":"Non"},{"$f":"IF(AND(S242=\"Oui\",ISBLANK(X242)),\"Oui\",\"Non\")","v":"Non"},null,null,null,null,{"$f":"IF(K242=\"\",\"\",K242-TODAY())","v":""},{"$f":"IF(ISBLANK(F242),CONCATENATE(E242,\" - \",AG242),CONCATENATE(F242,\" - \",AG242))","v":" - "},{"$f":"IF(ISBLANK(B242),\"\",YEAR(C242))","v":""},{"$f":"CONCATENATE(H242,\"-\",AG242)","v":"-"},{"$f":"CONCATENATE(M242,\"-\",AH242)","v":"--"}]
[{"$f":"IF(ISBLANK(B243),\"\",$C$2)","v":""},null,null,{"$f":"IF(ISBLANK(B243),\"\",COUNTA(#REF!))","v":""},null,null,null,null,null,null,null,null,null,null,{"$f":"IF(AND(K243<>\"\",ISBLANK(N243),K243<TODAY()),\"Oui\",\"Non\")","v":"Non"},{"$f":"IF(ISBLANK(I243),\"\",IF(K243=\"\",\"délai à préciser\",IF(M243=\"\",\"statut à préciser\",IF(M243=\"finalisée\",IF(N243=\"\",\"date de solde à préciser\",IF(K243>=N243,\"fait\",\"retard\")),(IF(K243<TODAY(),\"retard\",\"Ok\"))))))","v":""},{"$f":"IF(AND(N243<>\"\",ISBLANK(N243),K243<TODAY()),\"Oui\",\"Non\")","v":"Non"},null,{"$f":"IF(ISBLANK(H243),\"\",IF(OR(H243=\"Préventive\",H243=\"Corrective\"),\"Oui\",\"Non\"))","v":""},null,null,null,null,null,{"$f":"IF(AND(U243<>\"\",ISBLANK(X243),U243<TODAY()),\"Oui\",\"Non\")","v":"Non"},{"$f":"IF(AND(S243=\"Oui\",ISBLANK(X243)),\"Oui\",\"Non\")","v":"Non"},null,null,null,null,{"$f":"IF(K243=\"\",\"\",K243-TODAY())","v":""},{"$f":"IF(ISBLANK(F243),CONCATENATE(E243,\" - \",AG243),CONCATENATE(F243,\" - \",AG243))","v":" - "},{"$f":"IF(ISBLANK(B243),\"\",YEAR(C243))","v":""},{"$f":"CONCATENATE(H243,\"-\",AG243)","v":"-"},{"$f":"CONCATENATE(M243,\"-\",AH243)","v":"--"}]
[{"$f":"IF(ISBLANK(B244),\"\",$C$2)","v":""},null,null,{"$f":"IF(ISBLANK(B244),\"\",COUNTA(#REF!))","v":""},null,null,null,null,null,null,null,null,null,null,{"$f":"IF(AND(K244<>\"\",ISBLANK(N244),K244<TODAY()),\"Oui\",\"Non\")","v":"Non"},{"$f":"IF(ISBLANK(I244),\"\",IF(K244=\"\",\"délai à préciser\",IF(M244=\"\",\"statut à préciser\",IF(M244=\"finalisée\",IF(N244=\"\",\"date de solde à préciser\",IF(K244>=N244,\"fait\",\"retard\")),(IF(K244<TODAY(),\"retard\",\"Ok\"))))))","v":""},{"$f":"IF(AND(N244<>\"\",ISBLANK(N244),K244<TODAY()),\"Oui\",\"Non\")","v":"Non"},null,{"$f":"IF(ISBLANK(H244),\"\",IF(OR(H244=\"Préventive\",H244=\"Corrective\"),\"Oui\",\"Non\"))","v":""},null,null,null,null,null,{"$f":"IF(AND(U244<>\"\",ISBLANK(X244),U244<TODAY()),\"Oui\",\"Non\")","v":"Non"},{"$f":"IF(AND(S244=\"Oui\",ISBLANK(X244)),\"Oui\",\"Non\")","v":"Non"},null,null,null,null,{"$f":"IF(K244=\"\",\"\",K244-TODAY())","v":""},{"$f":"IF(ISBLANK(F244),CONCATENATE(E244,\" - \",AG244),CONCATENATE(F244,\" - \",AG244))","v":" - "},{"$f":"IF(ISBLANK(B244),\"\",YEAR(C244))","v":""},{"$f":"CONCATENATE(H244,\"-\",AG244)","v":"-"},{"$f":"CONCATENATE(M244,\"-\",AH244)","v":"--"}]
[{"$f":"IF(ISBLANK(B245),\"\",$C$2)","v":""},null,null,{"$f":"IF(ISBLANK(B245),\"\",COUNTA(#REF!))","v":""},null,null,null,null,null,null,null,null,null,null,{"$f":"IF(AND(K245<>\"\",ISBLANK(N245),K245<TODAY()),\"Oui\",\"Non\")","v":"Non"},{"$f":"IF(ISBLANK(I245),\"\",IF(K245=\"\",\"délai à préciser\",IF(M245=\"\",\"statut à préciser\",IF(M245=\"finalisée\",IF(N245=\"\",\"date de solde à préciser\",IF(K245>=N245,\"fait\",\"retard\")),(IF(K245<TODAY(),\"retard\",\"Ok\"))))))","v":""},{"$f":"IF(AND(N245<>\"\",ISBLANK(N245),K245<TODAY()),\"Oui\",\"Non\")","v":"Non"},null,{"$f":"IF(ISBLANK(H245),\"\",IF(OR(H245=\"Préventive\",H245=\"Corrective\"),\"Oui\",\"Non\"))","v":""},null,null,null,null,null,{"$f":"IF(AND(U245<>\"\",ISBLANK(X245),U245<TODAY()),\"Oui\",\"Non\")","v":"Non"},{"$f":"IF(AND(S245=\"Oui\",ISBLANK(X245)),\"Oui\",\"Non\")","v":"Non"},null,null,null,null,{"$f":"IF(K245=\"\",\"\",K245-TODAY())","v":""},{"$f":"IF(ISBLANK(F245),CONCATENATE(E245,\" - \",AG245),CONCATENATE(F245,\" - \",AG245))","v":" - "},{"$f":"IF(ISBLANK(B245),\"\",YEAR(C245))","v":""},{"$f":"CONCATENATE(H245,\"-\",AG245)","v":"-"},{"$f":"CONCATENATE(M245,\"-\",AH245)","v":"--"}]
[{"$f":"IF(ISBLANK(B246),\"\",$C$2)","v":""},null,null,{"$f":"IF(ISBLANK(B246),\"\",COUNTA(#REF!))","v":""},null,null,null,null,null,null,null,null,null,null,{"$f":"IF(AND(K246<>\"\",ISBLANK(N246),K246<TODAY()),\"Oui\",\"Non\")","v":"Non"},{"$f":"IF(ISBLANK(I246),\"\",IF(K246=\"\",\"délai à préciser\",IF(M246=\"\",\"statut à préciser\",IF(M246=\"finalisée\",IF(N246=\"\",\"date de solde à préciser\",IF(K246>=N246,\"fait\",\"retard\")),(IF(K246<TODAY(),\"retard\",\"Ok\"))))))","v":""},{"$f":"IF(AND(N246<>\"\",ISBLANK(N246),K246<TODAY()),\"Oui\",\"Non\")","v":"Non"},null,{"$f":"IF(ISBLANK(H246),\"\",IF(OR(H246=\"Préventive\",H246=\"Corrective\"),\"Oui\",\"Non\"))","v":""},null,null,null,null,null,{"$f":"IF(AND(U246<>\"\",ISBLANK(X246),U246<TODAY()),\"Oui\",\"Non\")","v":"Non"},{"$f":"IF(AND(S246=\"Oui\",ISBLANK(X246)),\"Oui\",\"Non\")","v":"Non"},null,null,null,null,{"$f":"IF(K246=\"\",\"\",K246-TODAY())","v":""},{"$f":"IF(ISBLANK(F246),CONCATENATE(E246,\" - \",AG246),CONCATENATE(F246,\" - \",AG246))","v":" - "},{"$f":"IF(ISBLANK(B246),\"\",YEAR(C246))","v":""},{"$f":"CONCATENATE(H246,\"-\",AG246)","v":"-"},{"$f":"CONCATENATE(M246,\"-\",AH246)","v":"--"}]
[{"$f":"IF(ISBLANK(B247),\"\",$C$2)","v":""},null,null,{"$f":"IF(ISBLANK(B247),\"\",COUNTA(#REF!))","v":""},null,null,null,null,null,null,null,null,null,null,{"$f":"IF(AND(K247<>\"\",ISBLANK(N247),K247<TODAY()),\"Oui\",\"Non\")","v":"Non"},{"$f":"IF(ISBLANK(I247),\"\",IF(K247=\"\",\"délai à préciser\",IF(M247=\"\",\"statut à préciser\",IF(M247=\"finalisée\",IF(N247=\"\",\"date de solde à préciser\",IF(K247>=N247,\"fait\",\"retard\")),(IF(K247<TODAY(),\"retard\",\"Ok\"))))))","v":""},{"$f":"IF(AND(N247<>\"\",ISBLANK(N247),K247<TODAY()),\"Oui\",\"Non\")","v":"Non"},null,{"$f":"IF(ISBLANK(H247),\"\",IF(OR(H247=\"Préventive\",H247=\"Corrective\"),\"Oui\",\"Non\"))","v":""},null,null,null,null,null,{"$f":"IF(AND(U247<>\"\",ISBLANK(X247),U247<TODAY()),\"Oui\",\"Non\")","v":"Non"},{"$f":"IF(AND(S247=\"Oui\",ISBLANK(X247)),\"Oui\",\"Non\")","v":"Non"},null,null,null,null,{"$f":"IF(K247=\"\",\"\",K247-TODAY())","v":""},{"$f":"IF(ISBLANK(F247),CONCATENATE(E247,\" - \",AG247),CONCATENATE(F247,\" - \",AG247))","v":" - "},{"$f":"IF(ISBLANK(B247),\"\",YEAR(C247))","v":""},{"$f":"CONCATENATE(H247,\"-\",AG247)","v":"-"},{"$f":"CONCATENATE(M247,\"-\",AH247)","v":"--"}]
[{"$f":"IF(ISBLANK(B248),\"\",$C$2)","v":""},null,null,{"$f":"IF(ISBLANK(B248),\"\",COUNTA(#REF!))","v":""},null,null,null,null,null,null,null,null,null,null,{"$f":"IF(AND(K248<>\"\",ISBLANK(N248),K248<TODAY()),\"Oui\",\"Non\")","v":"Non"},{"$f":"IF(ISBLANK(I248),\"\",IF(K248=\"\",\"délai à préciser\",IF(M248=\"\",\"statut à préciser\",IF(M248=\"finalisée\",IF(N248=\"\",\"date de solde à préciser\",IF(K248>=N248,\"fait\",\"retard\")),(IF(K248<TODAY(),\"retard\",\"Ok\"))))))","v":""},{"$f":"IF(AND(N248<>\"\",ISBLANK(N248),K248<TODAY()),\"Oui\",\"Non\")","v":"Non"},null,{"$f":"IF(ISBLANK(H248),\"\",IF(OR(H248=\"Préventive\",H248=\"Corrective\"),\"Oui\",\"Non\"))","v":""},null,null,null,null,null,{"$f":"IF(AND(U248<>\"\",ISBLANK(X248),U248<TODAY()),\"Oui\",\"Non\")","v":"Non"},{"$f":"IF(AND(S248=\"Oui\",ISBLANK(X248)),\"Oui\",\"Non\")","v":"Non"},null,null,null,null,{"$f":"IF(K248=\"\",\"\",K248-TODAY())","v":""},{"$f":"IF(ISBLANK(F248),CONCATENATE(E248,\" - \",AG248),CONCATENATE(F248,\" - \",AG248))","v":" - "},{"$f":"IF(ISBLANK(B248),\"\",YEAR(C248))","v":""},{"$f":"CONCATENATE(H248,\"-\",AG248)","v":"-"},{"$f":"CONCATENATE(M248,\"-\",AH248)","v":"--"}]
[{"$f":"IF(ISBLANK(B249),\"\",$C$2)","v":""},null,null,{"$f":"IF(ISBLANK(B249),\"\",COUNTA(#REF!))","v":""},null,null,null,null,null,null,null,null,null,null,{"$f":"IF(AND(K249<>\"\",ISBLANK(N249),K249<TODAY()),\"Oui\",\"Non\")","v":"Non"},{"$f":"IF(ISBLANK(I249),\"\",IF(K249=\"\",\"délai à préciser\",IF(M249=\"\",\"statut à préciser\",IF(M249=\"finalisée\",IF(N249=\"\",\"date de solde à préciser\",IF(K249>=N249,\"fait\",\"retard\")),(IF(K249<TODAY(),\"retard\",\"Ok\"))))))","v":""},{"$f":"IF(AND(N249<>\"\",ISBLANK(N249),K249<TODAY()),\"Oui\",\"Non\")","v":"Non"},null,{"$f":"IF(ISBLANK(H249),\"\",IF(OR(H249=\"Préventive\",H249=\"Corrective\"),\"Oui\",\"Non\"))","v":""},null,null,null,null,null,{"$f":"IF(AND(U249<>\"\",ISBLANK(X249),U249<TODAY()),\"Oui\",\"Non\")","v":"Non"},{"$f":"IF(AND(S249=\"Oui\",ISBLANK(X249)),\"Oui\",\"Non\")","v":"Non"},null,null,null,null,{"$f":"IF(K249=\"\",\"\",K249-TODAY())","v":""},{"$f":"IF(ISBLANK(F249),CONCATENATE(E249,\" - \",AG249),CONCATENATE(F249,\" - \",AG249))","v":" - "},{"$f":"IF(ISBLANK(B249),\"\",YEAR(C249))","v":""},{"$f":"CONCATENATE(H249,\"-\",AG249)","v":"-"},{"$f":"CONCATENATE(M249,\"-\",AH249)","v":"--"}]
[{"$f":"IF(ISBLANK(B250),\"\",$C$2)","v":""},null,null,{"$f":"IF(ISBLANK(B250),\"\",COUNTA(#REF!))","v":""},null,null,null,null,null,null,null,null,null,null,{"$f":"IF(AND(K250<>\"\",ISBLANK(N250),K250<TODAY()),\"Oui\",\"Non\")","v":"Non"},{"$f":"IF(ISBLANK(I250),\"\",IF(K250=\"\",\"délai à préciser\",IF(M250=\"\",\"statut à préciser\",IF(M250=\"finalisée\",IF(N250=\"\",\"date de solde à préciser\",IF(K250>=N250,\"fait\",\"retard\")),(IF(K250<TODAY(),\"retard\",\"Ok\"))))))","v":""},{"$f":"IF(AND(N250<>\"\",ISBLANK(N250),K250<TODAY()),\"Oui\",\"Non\")","v":"Non"},null,{"$f":"IF(ISBLANK(H250),\"\",IF(OR(H250=\"Préventive\",H250=\"Corrective\"),\"Oui\",\"Non\"))","v":""},null,null,null,null,null,{"$f":"IF(AND(U250<>\"\",ISBLANK(X250),U250<TODAY()),\"Oui\",\"Non\")","v":"Non"},{"$f":"IF(AND(S250=\"Oui\",ISBLANK(X250)),\"Oui\",\"Non\")","v":"Non"},null,null,null,null,{"$f":"IF(K250=\"\",\"\",K250-TODAY())","v":""},{"$f":"IF(ISBLANK(F250),CONCATENATE(E250,\" - \",AG250),CONCATENATE(F250,\" - \",AG250))","v":" - "},{"$f":"IF(ISBLANK(B250),\"\",YEAR(C250))","v":""},{"$f":"CONCATENATE(H250,\"-\",AG250)","v":"-"},{"$f":"CONCATENATE(M250,\"-\",AH250)","v":"--"}]
[{"$f":"IF(ISBLANK(B251),\"\",$C$2)","v":""},null,null,{"$f":"IF(ISBLANK(B251),\"\",COUNTA(#REF!))","v":""},null,null,null,null,null,null,null,null,null,null,{"$f":"IF(AND(K251<>\"\",ISBLANK(N251),K251<TODAY()),\"Oui\",\"Non\")","v":"Non"},{"$f":"IF(ISBLANK(I251),\"\",IF(K251=\"\",\"délai à préciser\",IF(M251=\"\",\"statut à préciser\",IF(M251=\"finalisée\",IF(N251=\"\",\"date de solde à préciser\",IF(K251>=N251,\"fait\",\"retard\")),(IF(K251<TODAY(),\"retard\",\"Ok\"))))))","v":""},{"$f":"IF(AND(N251<>\"\",ISBLANK(N251),K251<TODAY()),\"Oui\",\"Non\")","v":"Non"},null,{"$f":"IF(ISBLANK(H251),\"\",IF(OR(H251=\"Préventive\",H251=\"Corrective\"),\"Oui\",\"Non\"))","v":""},null,null,null,null,null,{"$f":"IF(AND(U251<>\"\",ISBLANK(X251),U251<TODAY()),\"Oui\",\"Non\")","v":"Non"},{"$f":"IF(AND(S251=\"Oui\",ISBLANK(X251)),\"Oui\",\"Non\")","v":"Non"},null,null,null,null,{"$f":"IF(K251=\"\",\"\",K251-TODAY())","v":""},{"$f":"IF(ISBLANK(F251),CONCATENATE(E251,\" - \",AG251),CONCATENATE(F251,\" - \",AG251))","v":" - "},{"$f":"IF(ISBLANK(B251),\"\",YEAR(C251))","v":""},{"$f":"CONCATENATE(H251,\"-\",AG251)","v":"-"},{"$f":"CONCATENATE(M251,\"-\",AH251)","v":"--"}]
[{"$f":"IF(ISBLANK(B252),\"\",$C$2)","v":""},null,null,{"$f":"IF(ISBLANK(B252),\"\",COUNTA(#REF!))","v":""},null,null,null,null,null,null,null,null,null,null,{"$f":"IF(AND(K252<>\"\",ISBLANK(N252),K252<TODAY()),\"Oui\",\"Non\")","v":"Non"},{"$f":"IF(ISBLANK(I252),\"\",IF(K252=\"\",\"délai à préciser\",IF(M252=\"\",\"statut à préciser\",IF(M252=\"finalisée\",IF(N252=\"\",\"date de solde à préciser\",IF(K252>=N252,\"fait\",\"retard\")),(IF(K252<TODAY(),\"retard\",\"Ok\"))))))","v":""},{"$f":"IF(AND(N252<>\"\",ISBLANK(N252),K252<TODAY()),\"Oui\",\"Non\")","v":"Non"},null,{"$f":"IF(ISBLANK(H252),\"\",IF(OR(H252=\"Préventive\",H252=\"Corrective\"),\"Oui\",\"Non\"))","v":""},null,null,null,null,null,{"$f":"IF(AND(U252<>\"\",ISBLANK(X252),U252<TODAY()),\"Oui\",\"Non\")","v":"Non"},{"$f":"IF(AND(S252=\"Oui\",ISBLANK(X252)),\"Oui\",\"Non\")","v":"Non"},null,null,null,null,{"$f":"IF(K252=\"\",\"\",K252-TODAY())","v":""},{"$f":"IF(ISBLANK(F252),CONCATENATE(E252,\" - \",AG252),CONCATENATE(F252,\" - \",AG252))","v":" - "},{"$f":"IF(ISBLANK(B252),\"\",YEAR(C252))","v":""},{"$f":"CONCATENATE(H252,\"-\",AG252)","v":"-"},{"$f":"CONCATENATE(M252,\"-\",AH252)","v":"--"}]
[{"$f":"IF(ISBLANK(B253),\"\",$C$2)","v":""},null,null,{"$f":"IF(ISBLANK(B253),\"\",COUNTA(#REF!))","v":""},null,null,null,null,null,null,null,null,null,null,{"$f":"IF(AND(K253<>\"\",ISBLANK(N253),K253<TODAY()),\"Oui\",\"Non\")","v":"Non"},{"$f":"IF(ISBLANK(I253),\"\",IF(K253=\"\",\"délai à préciser\",IF(M253=\"\",\"statut à préciser\",IF(M253=\"finalisée\",IF(N253=\"\",\"date de solde à préciser\",IF(K253>=N253,\"fait\",\"retard\")),(IF(K253<TODAY(),\"retard\",\"Ok\"))))))","v":""},{"$f":"IF(AND(N253<>\"\",ISBLANK(N253),K253<TODAY()),\"Oui\",\"Non\")","v":"Non"},null,{"$f":"IF(ISBLANK(H253),\"\",IF(OR(H253=\"Préventive\",H253=\"Corrective\"),\"Oui\",\"Non\"))","v":""},null,null,null,null,null,{"$f":"IF(AND(U253<>\"\",ISBLANK(X253),U253<TODAY()),\"Oui\",\"Non\")","v":"Non"},{"$f":"IF(AND(S253=\"Oui\",ISBLANK(X253)),\"Oui\",\"Non\")","v":"Non"},null,null,null,null,{"$f":"IF(K253=\"\",\"\",K253-TODAY())","v":""},{"$f":"IF(ISBLANK(F253),CONCATENATE(E253,\" - \",AG253),CONCATENATE(F253,\" - \",AG253))","v":" - "},{"$f":"IF(ISBLANK(B253),\"\",YEAR(C253))","v":""},{"$f":"CONCATENATE(H253,\"-\",AG253)","v":"-"},{"$f":"CONCATENATE(M253,\"-\",AH253)","v":"--"}]
[{"$f":"IF(ISBLANK(B254),\"\",$C$2)","v":""},null,null,{"$f":"IF(ISBLANK(B254),\"\",COUNTA(#REF!))","v":""},null,null,null,null,null,null,null,null,null,null,{"$f":"IF(AND(K254<>\"\",ISBLANK(N254),K254<TODAY()),\"Oui\",\"Non\")","v":"Non"},{"$f":"IF(ISBLANK(I254),\"\",IF(K254=\"\",\"délai à préciser\",IF(M254=\"\",\"statut à préciser\",IF(M254=\"finalisée\",IF(N254=\"\",\"date de solde à préciser\",IF(K254>=N254,\"fait\",\"retard\")),(IF(K254<TODAY(),\"retard\",\"Ok\"))))))","v":""},{"$f":"IF(AND(N254<>\"\",ISBLANK(N254),K254<TODAY()),\"Oui\",\"Non\")","v":"Non"},null,{"$f":"IF(ISBLANK(H254),\"\",IF(OR(H254=\"Préventive\",H254=\"Corrective\"),\"Oui\",\"Non\"))","v":""},null,null,null,null,null,{"$f":"IF(AND(U254<>\"\",ISBLANK(X254),U254<TODAY()),\"Oui\",\"Non\")","v":"Non"},{"$f":"IF(AND(S254=\"Oui\",ISBLANK(X254)),\"Oui\",\"Non\")","v":"Non"},null,null,null,null,{"$f":"IF(K254=\"\",\"\",K254-TODAY())","v":""},{"$f":"IF(ISBLANK(F254),CONCATENATE(E254,\" - \",AG254),CONCATENATE(F254,\" - \",AG254))","v":" - "},{"$f":"IF(ISBLANK(B254),\"\",YEAR(C254))","v":""},{"$f":"CONCATENATE(H254,\"-\",AG254)","v":"-"},{"$f":"CONCATENATE(M254,\"-\",AH254)","v":"--"}]
[{"$f":"IF(ISBLANK(B255),\"\",$C$2)","v":""},null,null,{"$f":"IF(ISBLANK(B255),\"\",COUNTA(#REF!))","v":""},null,null,null,null,null,null,null,null,null,null,{"$f":"IF(AND(K255<>\"\",ISBLANK(N255),K255<TODAY()),\"Oui\",\"Non\")","v":"Non"},{"$f":"IF(ISBLANK(I255),\"\",IF(K255=\"\",\"délai à préciser\",IF(M255=\"\",\"statut à préciser\",IF(M255=\"finalisée\",IF(N255=\"\",\"date de solde à préciser\",IF(K255>=N255,\"fait\",\"retard\")),(IF(K255<TODAY(),\"retard\",\"Ok\"))))))","v":""},{"$f":"IF(AND(N255<>\"\",ISBLANK(N255),K255<TODAY()),\"Oui\",\"Non\")","v":"Non"},null,{"$f":"IF(ISBLANK(H255),\"\",IF(OR(H255=\"Préventive\",H255=\"Corrective\"),\"Oui\",\"Non\"))","v":""},null,null,null,null,null,{"$f":"IF(AND(U255<>\"\",ISBLANK(X255),U255<TODAY()),\"Oui\",\"Non\")","v":"Non"},{"$f":"IF(AND(S255=\"Oui\",ISBLANK(X255)),\"Oui\",\"Non\")","v":"Non"},null,null,null,null,{"$f":"IF(K255=\"\",\"\",K255-TODAY())","v":""},{"$f":"IF(ISBLANK(F255),CONCATENATE(E255,\" - \",AG255),CONCATENATE(F255,\" - \",AG255))","v":" - "},{"$f":"IF(ISBLANK(B255),\"\",YEAR(C255))","v":""},{"$f":"CONCATENATE(H255,\"-\",AG255)","v":"-"},{"$f":"CONCATENATE(M255,\"-\",AH255)","v":"--"}]
[{"$f":"IF(ISBLANK(B256),\"\",$C$2)","v":""},null,null,{"$f":"IF(ISBLANK(B256),\"\",COUNTA(#REF!))","v":""},null,null,null,null,null,null,null,null,null,null,{"$f":"IF(AND(K256<>\"\",ISBLANK(N256),K256<TODAY()),\"Oui\",\"Non\")","v":"Non"},{"$f":"IF(ISBLANK(I256),\"\",IF(K256=\"\",\"délai à préciser\",IF(M256=\"\",\"statut à préciser\",IF(M256=\"finalisée\",IF(N256=\"\",\"date de solde à préciser\",IF(K256>=N256,\"fait\",\"retard\")),(IF(K256<TODAY(),\"retard\",\"Ok\"))))))","v":""},{"$f":"IF(AND(N256<>\"\",ISBLANK(N256),K256<TODAY()),\"Oui\",\"Non\")","v":"Non"},null,{"$f":"IF(ISBLANK(H256),\"\",IF(OR(H256=\"Préventive\",H256=\"Corrective\"),\"Oui\",\"Non\"))","v":""},null,null,null,null,null,{"$f":"IF(AND(U256<>\"\",ISBLANK(X256),U256<TODAY()),\"Oui\",\"Non\")","v":"Non"},{"$f":"IF(AND(S256=\"Oui\",ISBLANK(X256)),\"Oui\",\"Non\")","v":"Non"},null,null,null,null,{"$f":"IF(K256=\"\",\"\",K256-TODAY())","v":""},{"$f":"IF(ISBLANK(F256),CONCATENATE(E256,\" - \",AG256),CONCATENATE(F256,\" - \",AG256))","v":" - "},{"$f":"IF(ISBLANK(B256),\"\",YEAR(C256))","v":""},{"$f":"CONCATENATE(H256,\"-\",AG256)","v":"-"},{"$f":"CONCATENATE(M256,\"-\",AH256)","v":"--"}]
[{"$f":"IF(ISBLANK(B257),\"\",$C$2)","v":""},null,null,{"$f":"IF(ISBLANK(B257),\"\",COUNTA(#REF!))","v":""},null,null,null,null,null,null,null,null,null,null,{"$f":"IF(AND(K257<>\"\",ISBLANK(N257),K257<TODAY()),\"Oui\",\"Non\")","v":"Non"},{"$f":"IF(ISBLANK(I257),\"\",IF(K257=\"\",\"délai à préciser\",IF(M257=\"\",\"statut à préciser\",IF(M257=\"finalisée\",IF(N257=\"\",\"date de solde à préciser\",IF(K257>=N257,\"fait\",\"retard\")),(IF(K257<TODAY(),\"retard\",\"Ok\"))))))","v":""},{"$f":"IF(AND(N257<>\"\",ISBLANK(N257),K257<TODAY()),\"Oui\",\"Non\")","v":"Non"},null,{"$f":"IF(ISBLANK(H257),\"\",IF(OR(H257=\"Préventive\",H257=\"Corrective\"),\"Oui\",\"Non\"))","v":""},null,null,null,null,null,{"$f":"IF(AND(U257<>\"\",ISBLANK(X257),U257<TODAY()),\"Oui\",\"Non\")","v":"Non"},{"$f":"IF(AND(S257=\"Oui\",ISBLANK(X257)),\"Oui\",\"Non\")","v":"Non"},null,null,null,null,{"$f":"IF(K257=\"\",\"\",K257-TODAY())","v":""},{"$f":"IF(ISBLANK(F257),CONCATENATE(E257,\" - \",AG257),CONCATENATE(F257,\" - \",AG257))","v":" - "},{"$f":"IF(ISBLANK(B257),\"\",YEAR(C257))","v":""},{"$f":"CONCATENATE(H257,\"-\",AG257)","v":"-"},{"$f":"CONCATENATE(M257,\"-\",AH257)","v":"--"}]
[{"$f":"IF(ISBLANK(B258),\"\",$C$2)","v":""},null,null,{"$f":"IF(ISBLANK(B258),\"\",COUNTA(#REF!))","v":""},null,null,null,null,null,null,null,null,null,null,{"$f":"IF(AND(K258<>\"\",ISBLANK(N258),K258<TODAY()),\"Oui\",\"Non\")","v":"Non"},{"$f":"IF(ISBLANK(I258),\"\",IF(K258=\"\",\"délai à préciser\",IF(M258=\"\",\"statut à préciser\",IF(M258=\"finalisée\",IF(N258=\"\",\"date de solde à préciser\",IF(K258>=N258,\"fait\",\"retard\")),(IF(K258<TODAY(),\"retard\",\"Ok\"))))))","v":""},{"$f":"IF(AND(N258<>\"\",ISBLANK(N258),K258<TODAY()),\"Oui\",\"Non\")","v":"Non"},null,{"$f":"IF(ISBLANK(H258),\"\",IF(OR(H258=\"Préventive\",H258=\"Corrective\"),\"Oui\",\"Non\"))","v":""},null,null,null,null,null,{"$f":"IF(AND(U258<>\"\",ISBLANK(X258),U258<TODAY()),\"Oui\",\"Non\")","v":"Non"},{"$f":"IF(AND(S258=\"Oui\",ISBLANK(X258)),\"Oui\",\"Non\")","v":"Non"},null,null,null,null,{"$f":"IF(K258=\"\",\"\",K258-TODAY())","v":""},{"$f":"IF(ISBLANK(F258),CONCATENATE(E258,\" - \",AG258),CONCATENATE(F258,\" - \",AG258))","v":" - "},{"$f":"IF(ISBLANK(B258),\"\",YEAR(C258))","v":""},{"$f":"CONCATENATE(H258,\"-\",AG258)","v":"-"},{"$f":"CONCATENATE(M258,\"-\",AH258)","v":"--"}]
[{"$f":"IF(ISBLANK(B259),\"\",$C$2)","v":""},null,null,{"$f":"IF(ISBLANK(B259),\"\",COUNTA(#REF!))","v":""},null,null,null,null,null,null,null,null,null,null,{"$f":"IF(AND(K259<>\"\",ISBLANK(N259),K259<TODAY()),\"Oui\",\"Non\")","v":"Non"},{"$f":"IF(ISBLANK(I259),\"\",IF(K259=\"\",\"délai à préciser\",IF(M259=\"\",\"statut à préciser\",IF(M259=\"finalisée\",IF(N259=\"\",\"date de solde à préciser\",IF(K259>=N259,\"fait\",\"retard\")),(IF(K259<TODAY(),\"retard\",\"Ok\"))))))","v":""},{"$f":"IF(AND(N259<>\"\",ISBLANK(N259),K259<TODAY()),\"Oui\",\"Non\")","v":"Non"},null,{"$f":"IF(ISBLANK(H259),\"\",IF(OR(H259=\"Préventive\",H259=\"Corrective\"),\"Oui\",\"Non\"))","v":""},null,null,null,null,null,{"$f":"IF(AND(U259<>\"\",ISBLANK(X259),U259<TODAY()),\"Oui\",\"Non\")","v":"Non"},{"$f":"IF(AND(S259=\"Oui\",ISBLANK(X259)),\"Oui\",\"Non\")","v":"Non"},null,null,null,null,{"$f":"IF(K259=\"\",\"\",K259-TODAY())","v":""},{"$f":"IF(ISBLANK(F259),CONCATENATE(E259,\" - \",AG259),CONCATENATE(F259,\" - \",AG259))","v":" - "},{"$f":"IF(ISBLANK(B259),\"\",YEAR(C259))","v":""},{"$f":"CONCATENATE(H259,\"-\",AG259)","v":"-"},{"$f":"CONCATENATE(M259,\"-\",AH259)","v":"--"}]
[{"$f":"IF(ISBLANK(B260),\"\",$C$2)","v":""},null,null,{"$f":"IF(ISBLANK(B260),\"\",COUNTA(#REF!))","v":""},null,null,null,null,null,null,null,null,null,null,{"$f":"IF(AND(K260<>\"\",ISBLANK(N260),K260<TODAY()),\"Oui\",\"Non\")","v":"Non"},{"$f":"IF(ISBLANK(I260),\"\",IF(K260=\"\",\"délai à préciser\",IF(M260=\"\",\"statut à préciser\",IF(M260=\"finalisée\",IF(N260=\"\",\"date de solde à préciser\",IF(K260>=N260,\"fait\",\"retard\")),(IF(K260<TODAY(),\"retard\",\"Ok\"))))))","v":""},{"$f":"IF(AND(N260<>\"\",ISBLANK(N260),K260<TODAY()),\"Oui\",\"Non\")","v":"Non"},null,{"$f":"IF(ISBLANK(H260),\"\",IF(OR(H260=\"Préventive\",H260=\"Corrective\"),\"Oui\",\"Non\"))","v":""},null,null,null,null,null,{"$f":"IF(AND(U260<>\"\",ISBLANK(X260),U260<TODAY()),\"Oui\",\"Non\")","v":"Non"},{"$f":"IF(AND(S260=\"Oui\",ISBLANK(X260)),\"Oui\",\"Non\")","v":"Non"},null,null,null,null,{"$f":"IF(K260=\"\",\"\",K260-TODAY())","v":""},{"$f":"IF(ISBLANK(F260),CONCATENATE(E260,\" - \",AG260),CONCATENATE(F260,\" - \",AG260))","v":" - "},{"$f":"IF(ISBLANK(B260),\"\",YEAR(C260))","v":""},{"$f":"CONCATENATE(H260,\"-\",AG260)","v":"-"},{"$f":"CONCATENATE(M260,\"-\",AH260)","v":"--"}]
[{"$f":"IF(ISBLANK(B261),\"\",$C$2)","v":""},null,null,{"$f":"IF(ISBLANK(B261),\"\",COUNTA(#REF!))","v":""},null,null,null,null,null,null,null,null,null,null,{"$f":"IF(AND(K261<>\"\",ISBLANK(N261),K261<TODAY()),\"Oui\",\"Non\")","v":"Non"},{"$f":"IF(ISBLANK(I261),\"\",IF(K261=\"\",\"délai à préciser\",IF(M261=\"\",\"statut à préciser\",IF(M261=\"finalisée\",IF(N261=\"\",\"date de solde à préciser\",IF(K261>=N261,\"fait\",\"retard\")),(IF(K261<TODAY(),\"retard\",\"Ok\"))))))","v":""},{"$f":"IF(AND(N261<>\"\",ISBLANK(N261),K261<TODAY()),\"Oui\",\"Non\")","v":"Non"},null,{"$f":"IF(ISBLANK(H261),\"\",IF(OR(H261=\"Préventive\",H261=\"Corrective\"),\"Oui\",\"Non\"))","v":""},null,null,null,null,null,{"$f":"IF(AND(U261<>\"\",ISBLANK(X261),U261<TODAY()),\"Oui\",\"Non\")","v":"Non"},{"$f":"IF(AND(S261=\"Oui\",ISBLANK(X261)),\"Oui\",\"Non\")","v":"Non"},null,null,null,null,{"$f":"IF(K261=\"\",\"\",K261-TODAY())","v":""},{"$f":"IF(ISBLANK(F261),CONCATENATE(E261,\" - \",AG261),CONCATENATE(F261,\" - \",AG261))","v":" - "},{"$f":"IF(ISBLANK(B261),\"\",YEAR(C261))","v":""},{"$f":"CONCATENATE(H261,\"-\",AG261)","v":"-"},{"$f":"CONCATENATE(M261,\"-\",AH261)","v":"--"}]
[{"$f":"IF(ISBLANK(B262),\"\",$C$2)","v":""},null,null,{"$f":"IF(ISBLANK(B262),\"\",COUNTA(#REF!))","v":""},null,null,null,null,null,null,null,null,null,null,{"$f":"IF(AND(K262<>\"\",ISBLANK(N262),K262<TODAY()),\"Oui\",\"Non\")","v":"Non"},{"$f":"IF(ISBLANK(I262),\"\",IF(K262=\"\",\"délai à préciser\",IF(M262=\"\",\"statut à préciser\",IF(M262=\"finalisée\",IF(N262=\"\",\"date de solde à préciser\",IF(K262>=N262,\"fait\",\"retard\")),(IF(K262<TODAY(),\"retard\",\"Ok\"))))))","v":""},{"$f":"IF(AND(N262<>\"\",ISBLANK(N262),K262<TODAY()),\"Oui\",\"Non\")","v":"Non"},null,{"$f":"IF(ISBLANK(H262),\"\",IF(OR(H262=\"Préventive\",H262=\"Corrective\"),\"Oui\",\"Non\"))","v":""},null,null,null,null,null,{"$f":"IF(AND(U262<>\"\",ISBLANK(X262),U262<TODAY()),\"Oui\",\"Non\")","v":"Non"},{"$f":"IF(AND(S262=\"Oui\",ISBLANK(X262)),\"Oui\",\"Non\")","v":"Non"},null,null,null,null,{"$f":"IF(K262=\"\",\"\",K262-TODAY())","v":""},{"$f":"IF(ISBLANK(F262),CONCATENATE(E262,\" - \",AG262),CONCATENATE(F262,\" - \",AG262))","v":" - "},{"$f":"IF(ISBLANK(B262),\"\",YEAR(C262))","v":""},{"$f":"CONCATENATE(H262,\"-\",AG262)","v":"-"},{"$f":"CONCATENATE(M262,\"-\",AH262)","v":"--"}]
[{"$f":"IF(ISBLANK(B263),\"\",$C$2)","v":""},null,null,{"$f":"IF(ISBLANK(B263),\"\",COUNTA(#REF!))","v":""},null,null,null,null,null,null,null,null,null,null,{"$f":"IF(AND(K263<>\"\",ISBLANK(N263),K263<TODAY()),\"Oui\",\"Non\")","v":"Non"},{"$f":"IF(ISBLANK(I263),\"\",IF(K263=\"\",\"délai à préciser\",IF(M263=\"\",\"statut à préciser\",IF(M263=\"finalisée\",IF(N263=\"\",\"date de solde à préciser\",IF(K263>=N263,\"fait\",\"retard\")),(IF(K263<TODAY(),\"retard\",\"Ok\"))))))","v":""},{"$f":"IF(AND(N263<>\"\",ISBLANK(N263),K263<TODAY()),\"Oui\",\"Non\")","v":"Non"},null,{"$f":"IF(ISBLANK(H263),\"\",IF(OR(H263=\"Préventive\",H263=\"Corrective\"),\"Oui\",\"Non\"))","v":""},null,null,null,null,null,{"$f":"IF(AND(U263<>\"\",ISBLANK(X263),U263<TODAY()),\"Oui\",\"Non\")","v":"Non"},{"$f":"IF(AND(S263=\"Oui\",ISBLANK(X263)),\"Oui\",\"Non\")","v":"Non"},null,null,null,null,{"$f":"IF(K263=\"\",\"\",K263-TODAY())","v":""},{"$f":"IF(ISBLANK(F263),CONCATENATE(E263,\" - \",AG263),CONCATENATE(F263,\" - \",AG263))","v":" - "},{"$f":"IF(ISBLANK(B263),\"\",YEAR(C263))","v":""},{"$f":"CONCATENATE(H263,\"-\",AG263)","v":"-"},{"$f":"CONCATENATE(M263,\"-\",AH263)","v":"--"}]
[{"$f":"IF(ISBLANK(B264),\"\",$C$2)","v":""},null,null,{"$f":"IF(ISBLANK(B264),\"\",COUNTA(#REF!))","v":""},null,null,null,null,null,null,null,null,null,null,{"$f":"IF(AND(K264<>\"\",ISBLANK(N264),K264<TODAY()),\"Oui\",\"Non\")","v":"Non"},{"$f":"IF(ISBLANK(I264),\"\",IF(K264=\"\",\"délai à préciser\",IF(M264=\"\",\"statut à préciser\",IF(M264=\"finalisée\",IF(N264=\"\",\"date de solde à préciser\",IF(K264>=N264,\"fait\",\"retard\")),(IF(K264<TODAY(),\"retard\",\"Ok\"))))))","v":""},{"$f":"IF(AND(N264<>\"\",ISBLANK(N264),K264<TODAY()),\"Oui\",\"Non\")","v":"Non"},null,{"$f":"IF(ISBLANK(H264),\"\",IF(OR(H264=\"Préventive\",H264=\"Corrective\"),\"Oui\",\"Non\"))","v":""},null,null,null,null,null,{"$f":"IF(AND(U264<>\"\",ISBLANK(X264),U264<TODAY()),\"Oui\",\"Non\")","v":"Non"},{"$f":"IF(AND(S264=\"Oui\",ISBLANK(X264)),\"Oui\",\"Non\")","v":"Non"},null,null,null,null,{"$f":"IF(K264=\"\",\"\",K264-TODAY())","v":""},{"$f":"IF(ISBLANK(F264),CONCATENATE(E264,\" - \",AG264),CONCATENATE(F264,\" - \",AG264))","v":" - "},{"$f":"IF(ISBLANK(B264),\"\",YEAR(C264))","v":""},{"$f":"CONCATENATE(H264,\"-\",AG264)","v":"-"},{"$f":"CONCATENATE(M264,\"-\",AH264)","v":"--"}]
[{"$f":"IF(ISBLANK(B265),\"\",$C$2)","v":""},null,null,{"$f":"IF(ISBLANK(B265),\"\",COUNTA(#REF!))","v":""},null,null,null,null,null,null,null,null,null,null,{"$f":"IF(AND(K265<>\"\",ISBLANK(N265),K265<TODAY()),\"Oui\",\"Non\")","v":"Non"},{"$f":"IF(ISBLANK(I265),\"\",IF(K265=\"\",\"délai à préciser\",IF(M265=\"\",\"statut à préciser\",IF(M265=\"finalisée\",IF(N265=\"\",\"date de solde à préciser\",IF(K265>=N265,\"fait\",\"retard\")),(IF(K265<TODAY(),\"retard\",\"Ok\"))))))","v":""},{"$f":"IF(AND(N265<>\"\",ISBLANK(N265),K265<TODAY()),\"Oui\",\"Non\")","v":"Non"},null,{"$f":"IF(ISBLANK(H265),\"\",IF(OR(H265=\"Préventive\",H265=\"Corrective\"),\"Oui\",\"Non\"))","v":""},null,null,null,null,null,{"$f":"IF(AND(U265<>\"\",ISBLANK(X265),U265<TODAY()),\"Oui\",\"Non\")","v":"Non"},{"$f":"IF(AND(S265=\"Oui\",ISBLANK(X265)),\"Oui\",\"Non\")","v":"Non"},null,null,null,null,{"$f":"IF(K265=\"\",\"\",K265-TODAY())","v":""},{"$f":"IF(ISBLANK(F265),CONCATENATE(E265,\" - \",AG265),CONCATENATE(F265,\" - \",AG265))","v":" - "},{"$f":"IF(ISBLANK(B265),\"\",YEAR(C265))","v":""},{"$f":"CONCATENATE(H265,\"-\",AG265)","v":"-"},{"$f":"CONCATENATE(M265,\"-\",AH265)","v":"--"}]
[{"$f":"IF(ISBLANK(B266),\"\",$C$2)","v":""},null,null,{"$f":"IF(ISBLANK(B266),\"\",COUNTA(#REF!))","v":""},null,null,null,null,null,null,null,null,null,null,{"$f":"IF(AND(K266<>\"\",ISBLANK(N266),K266<TODAY()),\"Oui\",\"Non\")","v":"Non"},{"$f":"IF(ISBLANK(I266),\"\",IF(K266=\"\",\"délai à préciser\",IF(M266=\"\",\"statut à préciser\",IF(M266=\"finalisée\",IF(N266=\"\",\"date de solde à préciser\",IF(K266>=N266,\"fait\",\"retard\")),(IF(K266<TODAY(),\"retard\",\"Ok\"))))))","v":""},{"$f":"IF(AND(N266<>\"\",ISBLANK(N266),K266<TODAY()),\"Oui\",\"Non\")","v":"Non"},null,{"$f":"IF(ISBLANK(H266),\"\",IF(OR(H266=\"Préventive\",H266=\"Corrective\"),\"Oui\",\"Non\"))","v":""},null,null,null,null,null,{"$f":"IF(AND(U266<>\"\",ISBLANK(X266),U266<TODAY()),\"Oui\",\"Non\")","v":"Non"},{"$f":"IF(AND(S266=\"Oui\",ISBLANK(X266)),\"Oui\",\"Non\")","v":"Non"},null,null,null,null,{"$f":"IF(K266=\"\",\"\",K266-TODAY())","v":""},{"$f":"IF(ISBLANK(F266),CONCATENATE(E266,\" - \",AG266),CONCATENATE(F266,\" - \",AG266))","v":" - "},{"$f":"IF(ISBLANK(B266),\"\",YEAR(C266))","v":""},{"$f":"CONCATENATE(H266,\"-\",AG266)","v":"-"},{"$f":"CONCATENATE(M266,\"-\",AH266)","v":"--"}]
[{"$f":"IF(ISBLANK(B267),\"\",$C$2)","v":""},null,null,{"$f":"IF(ISBLANK(B267),\"\",COUNTA(#REF!))","v":""},null,null,null,null,null,null,null,null,null,null,{"$f":"IF(AND(K267<>\"\",ISBLANK(N267),K267<TODAY()),\"Oui\",\"Non\")","v":"Non"},{"$f":"IF(ISBLANK(I267),\"\",IF(K267=\"\",\"délai à préciser\",IF(M267=\"\",\"statut à préciser\",IF(M267=\"finalisée\",IF(N267=\"\",\"date de solde à préciser\",IF(K267>=N267,\"fait\",\"retard\")),(IF(K267<TODAY(),\"retard\",\"Ok\"))))))","v":""},{"$f":"IF(AND(N267<>\"\",ISBLANK(N267),K267<TODAY()),\"Oui\",\"Non\")","v":"Non"},null,{"$f":"IF(ISBLANK(H267),\"\",IF(OR(H267=\"Préventive\",H267=\"Corrective\"),\"Oui\",\"Non\"))","v":""},null,null,null,null,null,{"$f":"IF(AND(U267<>\"\",ISBLANK(X267),U267<TODAY()),\"Oui\",\"Non\")","v":"Non"},{"$f":"IF(AND(S267=\"Oui\",ISBLANK(X267)),\"Oui\",\"Non\")","v":"Non"},null,null,null,null,{"$f":"IF(K267=\"\",\"\",K267-TODAY())","v":""},{"$f":"IF(ISBLANK(F267),CONCATENATE(E267,\" - \",AG267),CONCATENATE(F267,\" - \",AG267))","v":" - "},{"$f":"IF(ISBLANK(B267),\"\",YEAR(C267))","v":""},{"$f":"CONCATENATE(H267,\"-\",AG267)","v":"-"},{"$f":"CONCATENATE(M267,\"-\",AH267)","v":"--"}]
[{"$f":"IF(ISBLANK(B268),\"\",$C$2)","v":""},null,null,{"$f":"IF(ISBLANK(B268),\"\",COUNTA(#REF!))","v":""},null,null,null,null,null,null,null,null,null,null,{"$f":"IF(AND(K268<>\"\",ISBLANK(N268),K268<TODAY()),\"Oui\",\"Non\")","v":"Non"},{"$f":"IF(ISBLANK(I268),\"\",IF(K268=\"\",\"délai à préciser\",IF(M268=\"\",\"statut à préciser\",IF(M268=\"finalisée\",IF(N268=\"\",\"date de solde à préciser\",IF(K268>=N268,\"fait\",\"retard\")),(IF(K268<TODAY(),\"retard\",\"Ok\"))))))","v":""},{"$f":"IF(AND(N268<>\"\",ISBLANK(N268),K268<TODAY()),\"Oui\",\"Non\")","v":"Non"},null,{"$f":"IF(ISBLANK(H268),\"\",IF(OR(H268=\"Préventive\",H268=\"Corrective\"),\"Oui\",\"Non\"))","v":""},null,null,null,null,null,{"$f":"IF(AND(U268<>\"\",ISBLANK(X268),U268<TODAY()),\"Oui\",\"Non\")","v":"Non"},{"$f":"IF(AND(S268=\"Oui\",ISBLANK(X268)),\"Oui\",\"Non\")","v":"Non"},null,null,null,null,{"$f":"IF(K268=\"\",\"\",K268-TODAY())","v":""},{"$f":"IF(ISBLANK(F268),CONCATENATE(E268,\" - \",AG268),CONCATENATE(F268,\" - \",AG268))","v":" - "},{"$f":"IF(ISBLANK(B268),\"\",YEAR(C268))","v":""},{"$f":"CONCATENATE(H268,\"-\",AG268)","v":"-"},{"$f":"CONCATENATE(M268,\"-\",AH268)","v":"--"}]
[{"$f":"IF(ISBLANK(B269),\"\",$C$2)","v":""},null,null,{"$f":"IF(ISBLANK(B269),\"\",COUNTA(#REF!))","v":""},null,null,null,null,null,null,null,null,null,null,{"$f":"IF(AND(K269<>\"\",ISBLANK(N269),K269<TODAY()),\"Oui\",\"Non\")","v":"Non"},{"$f":"IF(ISBLANK(I269),\"\",IF(K269=\"\",\"délai à préciser\",IF(M269=\"\",\"statut à préciser\",IF(M269=\"finalisée\",IF(N269=\"\",\"date de solde à préciser\",IF(K269>=N269,\"fait\",\"retard\")),(IF(K269<TODAY(),\"retard\",\"Ok\"))))))","v":""},{"$f":"IF(AND(N269<>\"\",ISBLANK(N269),K269<TODAY()),\"Oui\",\"Non\")","v":"Non"},null,{"$f":"IF(ISBLANK(H269),\"\",IF(OR(H269=\"Préventive\",H269=\"Corrective\"),\"Oui\",\"Non\"))","v":""},null,null,null,null,null,{"$f":"IF(AND(U269<>\"\",ISBLANK(X269),U269<TODAY()),\"Oui\",\"Non\")","v":"Non"},{"$f":"IF(AND(S269=\"Oui\",ISBLANK(X269)),\"Oui\",\"Non\")","v":"Non"},null,null,null,null,{"$f":"IF(K269=\"\",\"\",K269-TODAY())","v":""},{"$f":"IF(ISBLANK(F269),CONCATENATE(E269,\" - \",AG269),CONCATENATE(F269,\" - \",AG269))","v":" - "},{"$f":"IF(ISBLANK(B269),\"\",YEAR(C269))","v":""},{"$f":"CONCATENATE(H269,\"-\",AG269)","v":"-"},{"$f":"CONCATENATE(M269,\"-\",AH269)","v":"--"}]
[{"$f":"IF(ISBLANK(B270),\"\",$C$2)","v":""},null,null,{"$f":"IF(ISBLANK(B270),\"\",COUNTA(#REF!))","v":""},null,null,null,null,null,null,null,null,null,null,{"$f":"IF(AND(K270<>\"\",ISBLANK(N270),K270<TODAY()),\"Oui\",\"Non\")","v":"Non"},{"$f":"IF(ISBLANK(I270),\"\",IF(K270=\"\",\"délai à préciser\",IF(M270=\"\",\"statut à préciser\",IF(M270=\"finalisée\",IF(N270=\"\",\"date de solde à préciser\",IF(K270>=N270,\"fait\",\"retard\")),(IF(K270<TODAY(),\"retard\",\"Ok\"))))))","v":""},{"$f":"IF(AND(N270<>\"\",ISBLANK(N270),K270<TODAY()),\"Oui\",\"Non\")","v":"Non"},null,{"$f":"IF(ISBLANK(H270),\"\",IF(OR(H270=\"Préventive\",H270=\"Corrective\"),\"Oui\",\"Non\"))","v":""},null,null,null,null,null,{"$f":"IF(AND(U270<>\"\",ISBLANK(X270),U270<TODAY()),\"Oui\",\"Non\")","v":"Non"},{"$f":"IF(AND(S270=\"Oui\",ISBLANK(X270)),\"Oui\",\"Non\")","v":"Non"},null,null,null,null,{"$f":"IF(K270=\"\",\"\",K270-TODAY())","v":""},{"$f":"IF(ISBLANK(F270),CONCATENATE(E270,\" - \",AG270),CONCATENATE(F270,\" - \",AG270))","v":" - "},{"$f":"IF(ISBLANK(B270),\"\",YEAR(C270))","v":""},{"$f":"CONCATENATE(H270,\"-\",AG270)","v":"-"},{"$f":"CONCATENATE(M270,\"-\",AH270)","v":"--"}]
[{"$f":"IF(ISBLANK(B271),\"\",$C$2)","v":""},null,null,{"$f":"IF(ISBLANK(B271),\"\",COUNTA(#REF!))","v":""},null,null,null,null,null,null,null,null,null,null,{"$f":"IF(AND(K271<>\"\",ISBLANK(N271),K271<TODAY()),\"Oui\",\"Non\")","v":"Non"},{"$f":"IF(ISBLANK(I271),\"\",IF(K271=\"\",\"délai à préciser\",IF(M271=\"\",\"statut à préciser\",IF(M271=\"finalisée\",IF(N271=\"\",\"date de solde à préciser\",IF(K271>=N271,\"fait\",\"retard\")),(IF(K271<TODAY(),\"retard\",\"Ok\"))))))","v":""},{"$f":"IF(AND(N271<>\"\",ISBLANK(N271),K271<TODAY()),\"Oui\",\"Non\")","v":"Non"},null,{"$f":"IF(ISBLANK(H271),\"\",IF(OR(H271=\"Préventive\",H271=\"Corrective\"),\"Oui\",\"Non\"))","v":""},null,null,null,null,null,{"$f":"IF(AND(U271<>\"\",ISBLANK(X271),U271<TODAY()),\"Oui\",\"Non\")","v":"Non"},{"$f":"IF(AND(S271=\"Oui\",ISBLANK(X271)),\"Oui\",\"Non\")","v":"Non"},null,null,null,null,{"$f":"IF(K271=\"\",\"\",K271-TODAY())","v":""},{"$f":"IF(ISBLANK(F271),CONCATENATE(E271,\" - \",AG271),CONCATENATE(F271,\" - \",AG271))","v":" - "},{"$f":"IF(ISBLANK(B271),\"\",YEAR(C271))","v":""},{"$f":"CONCATENATE(H271,\"-\",AG271)","v":"-"},{"$f":"CONCATENATE(M271,\"-\",AH271)","v":"--"}]
[{"$f":"IF(ISBLANK(B272),\"\",$C$2)","v":""},null,null,{"$f":"IF(ISBLANK(B272),\"\",COUNTA(#REF!))","v":""},null,null,null,null,null,null,null,null,null,null,{"$f":"IF(AND(K272<>\"\",ISBLANK(N272),K272<TODAY()),\"Oui\",\"Non\")","v":"Non"},{"$f":"IF(ISBLANK(I272),\"\",IF(K272=\"\",\"délai à préciser\",IF(M272=\"\",\"statut à préciser\",IF(M272=\"finalisée\",IF(N272=\"\",\"date de solde à préciser\",IF(K272>=N272,\"fait\",\"retard\")),(IF(K272<TODAY(),\"retard\",\"Ok\"))))))","v":""},{"$f":"IF(AND(N272<>\"\",ISBLANK(N272),K272<TODAY()),\"Oui\",\"Non\")","v":"Non"},null,{"$f":"IF(ISBLANK(H272),\"\",IF(OR(H272=\"Préventive\",H272=\"Corrective\"),\"Oui\",\"Non\"))","v":""},null,null,null,null,null,{"$f":"IF(AND(U272<>\"\",ISBLANK(X272),U272<TODAY()),\"Oui\",\"Non\")","v":"Non"},{"$f":"IF(AND(S272=\"Oui\",ISBLANK(X272)),\"Oui\",\"Non\")","v":"Non"},null,null,null,null,{"$f":"IF(K272=\"\",\"\",K272-TODAY())","v":""},{"$f":"IF(ISBLANK(F272),CONCATENATE(E272,\" - \",AG272),CONCATENATE(F272,\" - \",AG272))","v":" - "},{"$f":"IF(ISBLANK(B272),\"\",YEAR(C272))","v":""},{"$f":"CONCATENATE(H272,\"-\",AG272)","v":"-"},{"$f":"CONCATENATE(M272,\"-\",AH272)","v":"--"}]
[{"$f":"IF(ISBLANK(B273),\"\",$C$2)","v":""},null,null,{"$f":"IF(ISBLANK(B273),\"\",COUNTA(#REF!))","v":""},null,null,null,null,null,null,null,null,null,null,{"$f":"IF(AND(K273<>\"\",ISBLANK(N273),K273<TODAY()),\"Oui\",\"Non\")","v":"Non"},{"$f":"IF(ISBLANK(I273),\"\",IF(K273=\"\",\"délai à préciser\",IF(M273=\"\",\"statut à préciser\",IF(M273=\"finalisée\",IF(N273=\"\",\"date de solde à préciser\",IF(K273>=N273,\"fait\",\"retard\")),(IF(K273<TODAY(),\"retard\",\"Ok\"))))))","v":""},{"$f":"IF(AND(N273<>\"\",ISBLANK(N273),K273<TODAY()),\"Oui\",\"Non\")","v":"Non"},null,{"$f":"IF(ISBLANK(H273),\"\",IF(OR(H273=\"Préventive\",H273=\"Corrective\"),\"Oui\",\"Non\"))","v":""},null,null,null,null,null,{"$f":"IF(AND(U273<>\"\",ISBLANK(X273),U273<TODAY()),\"Oui\",\"Non\")","v":"Non"},{"$f":"IF(AND(S273=\"Oui\",ISBLANK(X273)),\"Oui\",\"Non\")","v":"Non"},null,null,null,null,{"$f":"IF(K273=\"\",\"\",K273-TODAY())","v":""},{"$f":"IF(ISBLANK(F273),CONCATENATE(E273,\" - \",AG273),CONCATENATE(F273,\" - \",AG273))","v":" - "},{"$f":"IF(ISBLANK(B273),\"\",YEAR(C273))","v":""},{"$f":"CONCATENATE(H273,\"-\",AG273)","v":"-"},{"$f":"CONCATENATE(M273,\"-\",AH273)","v":"--"}]
[{"$f":"IF(ISBLANK(B274),\"\",$C$2)","v":""},null,null,{"$f":"IF(ISBLANK(B274),\"\",COUNTA(#REF!))","v":""},null,null,null,null,null,null,null,null,null,null,{"$f":"IF(AND(K274<>\"\",ISBLANK(N274),K274<TODAY()),\"Oui\",\"Non\")","v":"Non"},{"$f":"IF(ISBLANK(I274),\"\",IF(K274=\"\",\"délai à préciser\",IF(M274=\"\",\"statut à préciser\",IF(M274=\"finalisée\",IF(N274=\"\",\"date de solde à préciser\",IF(K274>=N274,\"fait\",\"retard\")),(IF(K274<TODAY(),\"retard\",\"Ok\"))))))","v":""},{"$f":"IF(AND(N274<>\"\",ISBLANK(N274),K274<TODAY()),\"Oui\",\"Non\")","v":"Non"},null,{"$f":"IF(ISBLANK(H274),\"\",IF(OR(H274=\"Préventive\",H274=\"Corrective\"),\"Oui\",\"Non\"))","v":""},null,null,null,null,null,{"$f":"IF(AND(U274<>\"\",ISBLANK(X274),U274<TODAY()),\"Oui\",\"Non\")","v":"Non"},{"$f":"IF(AND(S274=\"Oui\",ISBLANK(X274)),\"Oui\",\"Non\")","v":"Non"},null,null,null,null,{"$f":"IF(K274=\"\",\"\",K274-TODAY())","v":""},{"$f":"IF(ISBLANK(F274),CONCATENATE(E274,\" - \",AG274),CONCATENATE(F274,\" - \",AG274))","v":" - "},{"$f":"IF(ISBLANK(B274),\"\",YEAR(C274))","v":""},{"$f":"CONCATENATE(H274,\"-\",AG274)","v":"-"},{"$f":"CONCATENATE(M274,\"-\",AH274)","v":"--"}]
[{"$f":"IF(ISBLANK(B275),\"\",$C$2)","v":""},null,null,{"$f":"IF(ISBLANK(B275),\"\",COUNTA(#REF!))","v":""},null,null,null,null,null,null,null,null,null,null,{"$f":"IF(AND(K275<>\"\",ISBLANK(N275),K275<TODAY()),\"Oui\",\"Non\")","v":"Non"},{"$f":"IF(ISBLANK(I275),\"\",IF(K275=\"\",\"délai à préciser\",IF(M275=\"\",\"statut à préciser\",IF(M275=\"finalisée\",IF(N275=\"\",\"date de solde à préciser\",IF(K275>=N275,\"fait\",\"retard\")),(IF(K275<TODAY(),\"retard\",\"Ok\"))))))","v":""},{"$f":"IF(AND(N275<>\"\",ISBLANK(N275),K275<TODAY()),\"Oui\",\"Non\")","v":"Non"},null,{"$f":"IF(ISBLANK(H275),\"\",IF(OR(H275=\"Préventive\",H275=\"Corrective\"),\"Oui\",\"Non\"))","v":""},null,null,null,null,null,{"$f":"IF(AND(U275<>\"\",ISBLANK(X275),U275<TODAY()),\"Oui\",\"Non\")","v":"Non"},{"$f":"IF(AND(S275=\"Oui\",ISBLANK(X275)),\"Oui\",\"Non\")","v":"Non"},null,null,null,null,{"$f":"IF(K275=\"\",\"\",K275-TODAY())","v":""},{"$f":"IF(ISBLANK(F275),CONCATENATE(E275,\" - \",AG275),CONCATENATE(F275,\" - \",AG275))","v":" - "},{"$f":"IF(ISBLANK(B275),\"\",YEAR(C275))","v":""},{"$f":"CONCATENATE(H275,\"-\",AG275)","v":"-"},{"$f":"CONCATENATE(M275,\"-\",AH275)","v":"--"}]
[{"$f":"IF(ISBLANK(B276),\"\",$C$2)","v":""},null,null,{"$f":"IF(ISBLANK(B276),\"\",COUNTA(#REF!))","v":""},null,null,null,null,null,null,null,null,null,null,{"$f":"IF(AND(K276<>\"\",ISBLANK(N276),K276<TODAY()),\"Oui\",\"Non\")","v":"Non"},{"$f":"IF(ISBLANK(I276),\"\",IF(K276=\"\",\"délai à préciser\",IF(M276=\"\",\"statut à préciser\",IF(M276=\"finalisée\",IF(N276=\"\",\"date de solde à préciser\",IF(K276>=N276,\"fait\",\"retard\")),(IF(K276<TODAY(),\"retard\",\"Ok\"))))))","v":""},{"$f":"IF(AND(N276<>\"\",ISBLANK(N276),K276<TODAY()),\"Oui\",\"Non\")","v":"Non"},null,{"$f":"IF(ISBLANK(H276),\"\",IF(OR(H276=\"Préventive\",H276=\"Corrective\"),\"Oui\",\"Non\"))","v":""},null,null,null,null,null,{"$f":"IF(AND(U276<>\"\",ISBLANK(X276),U276<TODAY()),\"Oui\",\"Non\")","v":"Non"},{"$f":"IF(AND(S276=\"Oui\",ISBLANK(X276)),\"Oui\",\"Non\")","v":"Non"},null,null,null,null,{"$f":"IF(K276=\"\",\"\",K276-TODAY())","v":""},{"$f":"IF(ISBLANK(F276),CONCATENATE(E276,\" - \",AG276),CONCATENATE(F276,\" - \",AG276))","v":" - "},{"$f":"IF(ISBLANK(B276),\"\",YEAR(C276))","v":""},{"$f":"CONCATENATE(H276,\"-\",AG276)","v":"-"},{"$f":"CONCATENATE(M276,\"-\",AH276)","v":"--"}]
[{"$f":"IF(ISBLANK(B277),\"\",$C$2)","v":""},null,null,{"$f":"IF(ISBLANK(B277),\"\",COUNTA(#REF!))","v":""},null,null,null,null,null,null,null,null,null,null,{"$f":"IF(AND(K277<>\"\",ISBLANK(N277),K277<TODAY()),\"Oui\",\"Non\")","v":"Non"},{"$f":"IF(ISBLANK(I277),\"\",IF(K277=\"\",\"délai à préciser\",IF(M277=\"\",\"statut à préciser\",IF(M277=\"finalisée\",IF(N277=\"\",\"date de solde à préciser\",IF(K277>=N277,\"fait\",\"retard\")),(IF(K277<TODAY(),\"retard\",\"Ok\"))))))","v":""},{"$f":"IF(AND(N277<>\"\",ISBLANK(N277),K277<TODAY()),\"Oui\",\"Non\")","v":"Non"},null,{"$f":"IF(ISBLANK(H277),\"\",IF(OR(H277=\"Préventive\",H277=\"Corrective\"),\"Oui\",\"Non\"))","v":""},null,null,null,null,null,{"$f":"IF(AND(U277<>\"\",ISBLANK(X277),U277<TODAY()),\"Oui\",\"Non\")","v":"Non"},{"$f":"IF(AND(S277=\"Oui\",ISBLANK(X277)),\"Oui\",\"Non\")","v":"Non"},null,null,null,null,{"$f":"IF(K277=\"\",\"\",K277-TODAY())","v":""},{"$f":"IF(ISBLANK(F277),CONCATENATE(E277,\" - \",AG277),CONCATENATE(F277,\" - \",AG277))","v":" - "},{"$f":"IF(ISBLANK(B277),\"\",YEAR(C277))","v":""},{"$f":"CONCATENATE(H277,\"-\",AG277)","v":"-"},{"$f":"CONCATENATE(M277,\"-\",AH277)","v":"--"}]
[{"$f":"IF(ISBLANK(B278),\"\",$C$2)","v":""},null,null,{"$f":"IF(ISBLANK(B278),\"\",COUNTA(#REF!))","v":""},null,null,null,null,null,null,null,null,null,null,{"$f":"IF(AND(K278<>\"\",ISBLANK(N278),K278<TODAY()),\"Oui\",\"Non\")","v":"Non"},{"$f":"IF(ISBLANK(I278),\"\",IF(K278=\"\",\"délai à préciser\",IF(M278=\"\",\"statut à préciser\",IF(M278=\"finalisée\",IF(N278=\"\",\"date de solde à préciser\",IF(K278>=N278,\"fait\",\"retard\")),(IF(K278<TODAY(),\"retard\",\"Ok\"))))))","v":""},{"$f":"IF(AND(N278<>\"\",ISBLANK(N278),K278<TODAY()),\"Oui\",\"Non\")","v":"Non"},null,{"$f":"IF(ISBLANK(H278),\"\",IF(OR(H278=\"Préventive\",H278=\"Corrective\"),\"Oui\",\"Non\"))","v":""},null,null,null,null,null,{"$f":"IF(AND(U278<>\"\",ISBLANK(X278),U278<TODAY()),\"Oui\",\"Non\")","v":"Non"},{"$f":"IF(AND(S278=\"Oui\",ISBLANK(X278)),\"Oui\",\"Non\")","v":"Non"},null,null,null,null,{"$f":"IF(K278=\"\",\"\",K278-TODAY())","v":""},{"$f":"IF(ISBLANK(F278),CONCATENATE(E278,\" - \",AG278),CONCATENATE(F278,\" - \",AG278))","v":" - "},{"$f":"IF(ISBLANK(B278),\"\",YEAR(C278))","v":""},{"$f":"CONCATENATE(H278,\"-\",AG278)","v":"-"},{"$f":"CONCATENATE(M278,\"-\",AH278)","v":"--"}]
[{"$f":"IF(ISBLANK(B279),\"\",$C$2)","v":""},null,null,{"$f":"IF(ISBLANK(B279),\"\",COUNTA(#REF!))","v":""},null,null,null,null,null,null,null,null,null,null,{"$f":"IF(AND(K279<>\"\",ISBLANK(N279),K279<TODAY()),\"Oui\",\"Non\")","v":"Non"},{"$f":"IF(ISBLANK(I279),\"\",IF(K279=\"\",\"délai à préciser\",IF(M279=\"\",\"statut à préciser\",IF(M279=\"finalisée\",IF(N279=\"\",\"date de solde à préciser\",IF(K279>=N279,\"fait\",\"retard\")),(IF(K279<TODAY(),\"retard\",\"Ok\"))))))","v":""},{"$f":"IF(AND(N279<>\"\",ISBLANK(N279),K279<TODAY()),\"Oui\",\"Non\")","v":"Non"},null,{"$f":"IF(ISBLANK(H279),\"\",IF(OR(H279=\"Préventive\",H279=\"Corrective\"),\"Oui\",\"Non\"))","v":""},null,null,null,null,null,{"$f":"IF(AND(U279<>\"\",ISBLANK(X279),U279<TODAY()),\"Oui\",\"Non\")","v":"Non"},{"$f":"IF(AND(S279=\"Oui\",ISBLANK(X279)),\"Oui\",\"Non\")","v":"Non"},null,null,null,null,{"$f":"IF(K279=\"\",\"\",K279-TODAY())","v":""},{"$f":"IF(ISBLANK(F279),CONCATENATE(E279,\" - \",AG279),CONCATENATE(F279,\" - \",AG279))","v":" - "},{"$f":"IF(ISBLANK(B279),\"\",YEAR(C279))","v":""},{"$f":"CONCATENATE(H279,\"-\",AG279)","v":"-"},{"$f":"CONCATENATE(M279,\"-\",AH279)","v":"--"}]
[{"$f":"IF(ISBLANK(B280),\"\",$C$2)","v":""},null,null,{"$f":"IF(ISBLANK(B280),\"\",COUNTA(#REF!))","v":""},null,null,null,null,null,null,null,null,null,null,{"$f":"IF(AND(K280<>\"\",ISBLANK(N280),K280<TODAY()),\"Oui\",\"Non\")","v":"Non"},{"$f":"IF(ISBLANK(I280),\"\",IF(K280=\"\",\"délai à préciser\",IF(M280=\"\",\"statut à préciser\",IF(M280=\"finalisée\",IF(N280=\"\",\"date de solde à préciser\",IF(K280>=N280,\"fait\",\"retard\")),(IF(K280<TODAY(),\"retard\",\"Ok\"))))))","v":""},{"$f":"IF(AND(N280<>\"\",ISBLANK(N280),K280<TODAY()),\"Oui\",\"Non\")","v":"Non"},null,{"$f":"IF(ISBLANK(H280),\"\",IF(OR(H280=\"Préventive\",H280=\"Corrective\"),\"Oui\",\"Non\"))","v":""},null,null,null,null,null,{"$f":"IF(AND(U280<>\"\",ISBLANK(X280),U280<TODAY()),\"Oui\",\"Non\")","v":"Non"},{"$f":"IF(AND(S280=\"Oui\",ISBLANK(X280)),\"Oui\",\"Non\")","v":"Non"},null,null,null,null,{"$f":"IF(K280=\"\",\"\",K280-TODAY())","v":""},{"$f":"IF(ISBLANK(F280),CONCATENATE(E280,\" - \",AG280),CONCATENATE(F280,\" - \",AG280))","v":" - "},{"$f":"IF(ISBLANK(B280),\"\",YEAR(C280))","v":""},{"$f":"CONCATENATE(H280,\"-\",AG280)","v":"-"},{"$f":"CONCATENATE(M280,\"-\",AH280)","v":"--"}]
[{"$f":"IF(ISBLANK(B281),\"\",$C$2)","v":""},null,null,{"$f":"IF(ISBLANK(B281),\"\",COUNTA(#REF!))","v":""},null,null,null,null,null,null,null,null,null,null,{"$f":"IF(AND(K281<>\"\",ISBLANK(N281),K281<TODAY()),\"Oui\",\"Non\")","v":"Non"},{"$f":"IF(ISBLANK(I281),\"\",IF(K281=\"\",\"délai à préciser\",IF(M281=\"\",\"statut à préciser\",IF(M281=\"finalisée\",IF(N281=\"\",\"date de solde à préciser\",IF(K281>=N281,\"fait\",\"retard\")),(IF(K281<TODAY(),\"retard\",\"Ok\"))))))","v":""},{"$f":"IF(AND(N281<>\"\",ISBLANK(N281),K281<TODAY()),\"Oui\",\"Non\")","v":"Non"},null,{"$f":"IF(ISBLANK(H281),\"\",IF(OR(H281=\"Préventive\",H281=\"Corrective\"),\"Oui\",\"Non\"))","v":""},null,null,null,null,null,{"$f":"IF(AND(U281<>\"\",ISBLANK(X281),U281<TODAY()),\"Oui\",\"Non\")","v":"Non"},{"$f":"IF(AND(S281=\"Oui\",ISBLANK(X281)),\"Oui\",\"Non\")","v":"Non"},null,null,null,null,{"$f":"IF(K281=\"\",\"\",K281-TODAY())","v":""},{"$f":"IF(ISBLANK(F281),CONCATENATE(E281,\" - \",AG281),CONCATENATE(F281,\" - \",AG281))","v":" - "},{"$f":"IF(ISBLANK(B281),\"\",YEAR(C281))","v":""},{"$f":"CONCATENATE(H281,\"-\",AG281)","v":"-"},{"$f":"CONCATENATE(M281,\"-\",AH281)","v":"--"}]
[{"$f":"IF(ISBLANK(B282),\"\",$C$2)","v":""},null,null,{"$f":"IF(ISBLANK(B282),\"\",COUNTA(#REF!))","v":""},null,null,null,null,null,null,null,null,null,null,{"$f":"IF(AND(K282<>\"\",ISBLANK(N282),K282<TODAY()),\"Oui\",\"Non\")","v":"Non"},{"$f":"IF(ISBLANK(I282),\"\",IF(K282=\"\",\"délai à préciser\",IF(M282=\"\",\"statut à préciser\",IF(M282=\"finalisée\",IF(N282=\"\",\"date de solde à préciser\",IF(K282>=N282,\"fait\",\"retard\")),(IF(K282<TODAY(),\"retard\",\"Ok\"))))))","v":""},{"$f":"IF(AND(N282<>\"\",ISBLANK(N282),K282<TODAY()),\"Oui\",\"Non\")","v":"Non"},null,{"$f":"IF(ISBLANK(H282),\"\",IF(OR(H282=\"Préventive\",H282=\"Corrective\"),\"Oui\",\"Non\"))","v":""},null,null,null,null,null,{"$f":"IF(AND(U282<>\"\",ISBLANK(X282),U282<TODAY()),\"Oui\",\"Non\")","v":"Non"},{"$f":"IF(AND(S282=\"Oui\",ISBLANK(X282)),\"Oui\",\"Non\")","v":"Non"},null,null,null,null,{"$f":"IF(K282=\"\",\"\",K282-TODAY())","v":""},{"$f":"IF(ISBLANK(F282),CONCATENATE(E282,\" - \",AG282),CONCATENATE(F282,\" - \",AG282))","v":" - "},{"$f":"IF(ISBLANK(B282),\"\",YEAR(C282))","v":""},{"$f":"CONCATENATE(H282,\"-\",AG282)","v":"-"},{"$f":"CONCATENATE(M282,\"-\",AH282)","v":"--"}]
[{"$f":"IF(ISBLANK(B283),\"\",$C$2)","v":""},null,null,{"$f":"IF(ISBLANK(B283),\"\",COUNTA(#REF!))","v":""},null,null,null,null,null,null,null,null,null,null,{"$f":"IF(AND(K283<>\"\",ISBLANK(N283),K283<TODAY()),\"Oui\",\"Non\")","v":"Non"},{"$f":"IF(ISBLANK(I283),\"\",IF(K283=\"\",\"délai à préciser\",IF(M283=\"\",\"statut à préciser\",IF(M283=\"finalisée\",IF(N283=\"\",\"date de solde à préciser\",IF(K283>=N283,\"fait\",\"retard\")),(IF(K283<TODAY(),\"retard\",\"Ok\"))))))","v":""},{"$f":"IF(AND(N283<>\"\",ISBLANK(N283),K283<TODAY()),\"Oui\",\"Non\")","v":"Non"},null,{"$f":"IF(ISBLANK(H283),\"\",IF(OR(H283=\"Préventive\",H283=\"Corrective\"),\"Oui\",\"Non\"))","v":""},null,null,null,null,null,{"$f":"IF(AND(U283<>\"\",ISBLANK(X283),U283<TODAY()),\"Oui\",\"Non\")","v":"Non"},{"$f":"IF(AND(S283=\"Oui\",ISBLANK(X283)),\"Oui\",\"Non\")","v":"Non"},null,null,null,null,{"$f":"IF(K283=\"\",\"\",K283-TODAY())","v":""},{"$f":"IF(ISBLANK(F283),CONCATENATE(E283,\" - \",AG283),CONCATENATE(F283,\" - \",AG283))","v":" - "},{"$f":"IF(ISBLANK(B283),\"\",YEAR(C283))","v":""},{"$f":"CONCATENATE(H283,\"-\",AG283)","v":"-"},{"$f":"CONCATENATE(M283,\"-\",AH283)","v":"--"}]
[{"$f":"IF(ISBLANK(B284),\"\",$C$2)","v":""},null,null,{"$f":"IF(ISBLANK(B284),\"\",COUNTA(#REF!))","v":""},null,null,null,null,null,null,null,null,null,null,{"$f":"IF(AND(K284<>\"\",ISBLANK(N284),K284<TODAY()),\"Oui\",\"Non\")","v":"Non"},{"$f":"IF(ISBLANK(I284),\"\",IF(K284=\"\",\"délai à préciser\",IF(M284=\"\",\"statut à préciser\",IF(M284=\"finalisée\",IF(N284=\"\",\"date de solde à préciser\",IF(K284>=N284,\"fait\",\"retard\")),(IF(K284<TODAY(),\"retard\",\"Ok\"))))))","v":""},{"$f":"IF(AND(N284<>\"\",ISBLANK(N284),K284<TODAY()),\"Oui\",\"Non\")","v":"Non"},null,{"$f":"IF(ISBLANK(H284),\"\",IF(OR(H284=\"Préventive\",H284=\"Corrective\"),\"Oui\",\"Non\"))","v":""},null,null,null,null,null,{"$f":"IF(AND(U284<>\"\",ISBLANK(X284),U284<TODAY()),\"Oui\",\"Non\")","v":"Non"},{"$f":"IF(AND(S284=\"Oui\",ISBLANK(X284)),\"Oui\",\"Non\")","v":"Non"},null,null,null,null,{"$f":"IF(K284=\"\",\"\",K284-TODAY())","v":""},{"$f":"IF(ISBLANK(F284),CONCATENATE(E284,\" - \",AG284),CONCATENATE(F284,\" - \",AG284))","v":" - "},{"$f":"IF(ISBLANK(B284),\"\",YEAR(C284))","v":""},{"$f":"CONCATENATE(H284,\"-\",AG284)","v":"-"},{"$f":"CONCATENATE(M284,\"-\",AH284)","v":"--"}]
[{"$f":"IF(ISBLANK(B285),\"\",$C$2)","v":""},null,null,{"$f":"IF(ISBLANK(B285),\"\",COUNTA(#REF!))","v":""},null,null,null,null,null,null,null,null,null,null,{"$f":"IF(AND(K285<>\"\",ISBLANK(N285),K285<TODAY()),\"Oui\",\"Non\")","v":"Non"},{"$f":"IF(ISBLANK(I285),\"\",IF(K285=\"\",\"délai à préciser\",IF(M285=\"\",\"statut à préciser\",IF(M285=\"finalisée\",IF(N285=\"\",\"date de solde à préciser\",IF(K285>=N285,\"fait\",\"retard\")),(IF(K285<TODAY(),\"retard\",\"Ok\"))))))","v":""},{"$f":"IF(AND(N285<>\"\",ISBLANK(N285),K285<TODAY()),\"Oui\",\"Non\")","v":"Non"},null,{"$f":"IF(ISBLANK(H285),\"\",IF(OR(H285=\"Préventive\",H285=\"Corrective\"),\"Oui\",\"Non\"))","v":""},null,null,null,null,null,{"$f":"IF(AND(U285<>\"\",ISBLANK(X285),U285<TODAY()),\"Oui\",\"Non\")","v":"Non"},{"$f":"IF(AND(S285=\"Oui\",ISBLANK(X285)),\"Oui\",\"Non\")","v":"Non"},null,null,null,null,{"$f":"IF(K285=\"\",\"\",K285-TODAY())","v":""},{"$f":"IF(ISBLANK(F285),CONCATENATE(E285,\" - \",AG285),CONCATENATE(F285,\" - \",AG285))","v":" - "},{"$f":"IF(ISBLANK(B285),\"\",YEAR(C285))","v":""},{"$f":"CONCATENATE(H285,\"-\",AG285)","v":"-"},{"$f":"CONCATENATE(M285,\"-\",AH285)","v":"--"}]
[{"$f":"IF(ISBLANK(B286),\"\",$C$2)","v":""},null,null,{"$f":"IF(ISBLANK(B286),\"\",COUNTA(#REF!))","v":""},null,null,null,null,null,null,null,null,null,null,{"$f":"IF(AND(K286<>\"\",ISBLANK(N286),K286<TODAY()),\"Oui\",\"Non\")","v":"Non"},{"$f":"IF(ISBLANK(I286),\"\",IF(K286=\"\",\"délai à préciser\",IF(M286=\"\",\"statut à préciser\",IF(M286=\"finalisée\",IF(N286=\"\",\"date de solde à préciser\",IF(K286>=N286,\"fait\",\"retard\")),(IF(K286<TODAY(),\"retard\",\"Ok\"))))))","v":""},{"$f":"IF(AND(N286<>\"\",ISBLANK(N286),K286<TODAY()),\"Oui\",\"Non\")","v":"Non"},null,{"$f":"IF(ISBLANK(H286),\"\",IF(OR(H286=\"Préventive\",H286=\"Corrective\"),\"Oui\",\"Non\"))","v":""},null,null,null,null,null,{"$f":"IF(AND(U286<>\"\",ISBLANK(X286),U286<TODAY()),\"Oui\",\"Non\")","v":"Non"},{"$f":"IF(AND(S286=\"Oui\",ISBLANK(X286)),\"Oui\",\"Non\")","v":"Non"},null,null,null,null,{"$f":"IF(K286=\"\",\"\",K286-TODAY())","v":""},{"$f":"IF(ISBLANK(F286),CONCATENATE(E286,\" - \",AG286),CONCATENATE(F286,\" - \",AG286))","v":" - "},{"$f":"IF(ISBLANK(B286),\"\",YEAR(C286))","v":""},{"$f":"CONCATENATE(H286,\"-\",AG286)","v":"-"},{"$f":"CONCATENATE(M286,\"-\",AH286)","v":"--"}]
[{"$f":"IF(ISBLANK(B287),\"\",$C$2)","v":""},null,null,{"$f":"IF(ISBLANK(B287),\"\",COUNTA(#REF!))","v":""},null,null,null,null,null,null,null,null,null,null,{"$f":"IF(AND(K287<>\"\",ISBLANK(N287),K287<TODAY()),\"Oui\",\"Non\")","v":"Non"},{"$f":"IF(ISBLANK(I287),\"\",IF(K287=\"\",\"délai à préciser\",IF(M287=\"\",\"statut à préciser\",IF(M287=\"finalisée\",IF(N287=\"\",\"date de solde à préciser\",IF(K287>=N287,\"fait\",\"retard\")),(IF(K287<TODAY(),\"retard\",\"Ok\"))))))","v":""},{"$f":"IF(AND(N287<>\"\",ISBLANK(N287),K287<TODAY()),\"Oui\",\"Non\")","v":"Non"},null,{"$f":"IF(ISBLANK(H287),\"\",IF(OR(H287=\"Préventive\",H287=\"Corrective\"),\"Oui\",\"Non\"))","v":""},null,null,null,null,null,{"$f":"IF(AND(U287<>\"\",ISBLANK(X287),U287<TODAY()),\"Oui\",\"Non\")","v":"Non"},{"$f":"IF(AND(S287=\"Oui\",ISBLANK(X287)),\"Oui\",\"Non\")","v":"Non"},null,null,null,null,{"$f":"IF(K287=\"\",\"\",K287-TODAY())","v":""},{"$f":"IF(ISBLANK(F287),CONCATENATE(E287,\" - \",AG287),CONCATENATE(F287,\" - \",AG287))","v":" - "},{"$f":"IF(ISBLANK(B287),\"\",YEAR(C287))","v":""},{"$f":"CONCATENATE(H287,\"-\",AG287)","v":"-"},{"$f":"CONCATENATE(M287,\"-\",AH287)","v":"--"}]
[{"$f":"IF(ISBLANK(B288),\"\",$C$2)","v":""},null,null,{"$f":"IF(ISBLANK(B288),\"\",COUNTA(#REF!))","v":""},null,null,null,null,null,null,null,null,null,null,{"$f":"IF(AND(K288<>\"\",ISBLANK(N288),K288<TODAY()),\"Oui\",\"Non\")","v":"Non"},{"$f":"IF(ISBLANK(I288),\"\",IF(K288=\"\",\"délai à préciser\",IF(M288=\"\",\"statut à préciser\",IF(M288=\"finalisée\",IF(N288=\"\",\"date de solde à préciser\",IF(K288>=N288,\"fait\",\"retard\")),(IF(K288<TODAY(),\"retard\",\"Ok\"))))))","v":""},{"$f":"IF(AND(N288<>\"\",ISBLANK(N288),K288<TODAY()),\"Oui\",\"Non\")","v":"Non"},null,{"$f":"IF(ISBLANK(H288),\"\",IF(OR(H288=\"Préventive\",H288=\"Corrective\"),\"Oui\",\"Non\"))","v":""},null,null,null,null,null,{"$f":"IF(AND(U288<>\"\",ISBLANK(X288),U288<TODAY()),\"Oui\",\"Non\")","v":"Non"},{"$f":"IF(AND(S288=\"Oui\",ISBLANK(X288)),\"Oui\",\"Non\")","v":"Non"},null,null,null,null,{"$f":"IF(K288=\"\",\"\",K288-TODAY())","v":""},{"$f":"IF(ISBLANK(F288),CONCATENATE(E288,\" - \",AG288),CONCATENATE(F288,\" - \",AG288))","v":" - "},{"$f":"IF(ISBLANK(B288),\"\",YEAR(C288))","v":""},{"$f":"CONCATENATE(H288,\"-\",AG288)","v":"-"},{"$f":"CONCATENATE(M288,\"-\",AH288)","v":"--"}]
[{"$f":"IF(ISBLANK(B289),\"\",$C$2)","v":""},null,null,{"$f":"IF(ISBLANK(B289),\"\",COUNTA(#REF!))","v":""},null,null,null,null,null,null,null,null,null,null,{"$f":"IF(AND(K289<>\"\",ISBLANK(N289),K289<TODAY()),\"Oui\",\"Non\")","v":"Non"},{"$f":"IF(ISBLANK(I289),\"\",IF(K289=\"\",\"délai à préciser\",IF(M289=\"\",\"statut à préciser\",IF(M289=\"finalisée\",IF(N289=\"\",\"date de solde à préciser\",IF(K289>=N289,\"fait\",\"retard\")),(IF(K289<TODAY(),\"retard\",\"Ok\"))))))","v":""},{"$f":"IF(AND(N289<>\"\",ISBLANK(N289),K289<TODAY()),\"Oui\",\"Non\")","v":"Non"},null,{"$f":"IF(ISBLANK(H289),\"\",IF(OR(H289=\"Préventive\",H289=\"Corrective\"),\"Oui\",\"Non\"))","v":""},null,null,null,null,null,{"$f":"IF(AND(U289<>\"\",ISBLANK(X289),U289<TODAY()),\"Oui\",\"Non\")","v":"Non"},{"$f":"IF(AND(S289=\"Oui\",ISBLANK(X289)),\"Oui\",\"Non\")","v":"Non"},null,null,null,null,{"$f":"IF(K289=\"\",\"\",K289-TODAY())","v":""},{"$f":"IF(ISBLANK(F289),CONCATENATE(E289,\" - \",AG289),CONCATENATE(F289,\" - \",AG289))","v":" - "},{"$f":"IF(ISBLANK(B289),\"\",YEAR(C289))","v":""},{"$f":"CONCATENATE(H289,\"-\",AG289)","v":"-"},{"$f":"CONCATENATE(M289,\"-\",AH289)","v":"--"}]
[{"$f":"IF(ISBLANK(B290),\"\",$C$2)","v":""},null,null,{"$f":"IF(ISBLANK(B290),\"\",COUNTA(#REF!))","v":""},null,null,null,null,null,null,null,null,null,null,{"$f":"IF(AND(K290<>\"\",ISBLANK(N290),K290<TODAY()),\"Oui\",\"Non\")","v":"Non"},{"$f":"IF(ISBLANK(I290),\"\",IF(K290=\"\",\"délai à préciser\",IF(M290=\"\",\"statut à préciser\",IF(M290=\"finalisée\",IF(N290=\"\",\"date de solde à préciser\",IF(K290>=N290,\"fait\",\"retard\")),(IF(K290<TODAY(),\"retard\",\"Ok\"))))))","v":""},{"$f":"IF(AND(N290<>\"\",ISBLANK(N290),K290<TODAY()),\"Oui\",\"Non\")","v":"Non"},null,{"$f":"IF(ISBLANK(H290),\"\",IF(OR(H290=\"Préventive\",H290=\"Corrective\"),\"Oui\",\"Non\"))","v":""},null,null,null,null,null,{"$f":"IF(AND(U290<>\"\",ISBLANK(X290),U290<TODAY()),\"Oui\",\"Non\")","v":"Non"},{"$f":"IF(AND(S290=\"Oui\",ISBLANK(X290)),\"Oui\",\"Non\")","v":"Non"},null,null,null,null,{"$f":"IF(K290=\"\",\"\",K290-TODAY())","v":""},{"$f":"IF(ISBLANK(F290),CONCATENATE(E290,\" - \",AG290),CONCATENATE(F290,\" - \",AG290))","v":" - "},{"$f":"IF(ISBLANK(B290),\"\",YEAR(C290))","v":""},{"$f":"CONCATENATE(H290,\"-\",AG290)","v":"-"},{"$f":"CONCATENATE(M290,\"-\",AH290)","v":"--"}]
[{"$f":"IF(ISBLANK(B291),\"\",$C$2)","v":""},null,null,{"$f":"IF(ISBLANK(B291),\"\",COUNTA(#REF!))","v":""},null,null,null,null,null,null,null,null,null,null,{"$f":"IF(AND(K291<>\"\",ISBLANK(N291),K291<TODAY()),\"Oui\",\"Non\")","v":"Non"},{"$f":"IF(ISBLANK(I291),\"\",IF(K291=\"\",\"délai à préciser\",IF(M291=\"\",\"statut à préciser\",IF(M291=\"finalisée\",IF(N291=\"\",\"date de solde à préciser\",IF(K291>=N291,\"fait\",\"retard\")),(IF(K291<TODAY(),\"retard\",\"Ok\"))))))","v":""},{"$f":"IF(AND(N291<>\"\",ISBLANK(N291),K291<TODAY()),\"Oui\",\"Non\")","v":"Non"},null,{"$f":"IF(ISBLANK(H291),\"\",IF(OR(H291=\"Préventive\",H291=\"Corrective\"),\"Oui\",\"Non\"))","v":""},null,null,null,null,null,{"$f":"IF(AND(U291<>\"\",ISBLANK(X291),U291<TODAY()),\"Oui\",\"Non\")","v":"Non"},{"$f":"IF(AND(S291=\"Oui\",ISBLANK(X291)),\"Oui\",\"Non\")","v":"Non"},null,null,null,null,{"$f":"IF(K291=\"\",\"\",K291-TODAY())","v":""},{"$f":"IF(ISBLANK(F291),CONCATENATE(E291,\" - \",AG291),CONCATENATE(F291,\" - \",AG291))","v":" - "},{"$f":"IF(ISBLANK(B291),\"\",YEAR(C291))","v":""},{"$f":"CONCATENATE(H291,\"-\",AG291)","v":"-"},{"$f":"CONCATENATE(M291,\"-\",AH291)","v":"--"}]
[{"$f":"IF(ISBLANK(B292),\"\",$C$2)","v":""},null,null,{"$f":"IF(ISBLANK(B292),\"\",COUNTA(#REF!))","v":""},null,null,null,null,null,null,null,null,null,null,{"$f":"IF(AND(K292<>\"\",ISBLANK(N292),K292<TODAY()),\"Oui\",\"Non\")","v":"Non"},{"$f":"IF(ISBLANK(I292),\"\",IF(K292=\"\",\"délai à préciser\",IF(M292=\"\",\"statut à préciser\",IF(M292=\"finalisée\",IF(N292=\"\",\"date de solde à préciser\",IF(K292>=N292,\"fait\",\"retard\")),(IF(K292<TODAY(),\"retard\",\"Ok\"))))))","v":""},{"$f":"IF(AND(N292<>\"\",ISBLANK(N292),K292<TODAY()),\"Oui\",\"Non\")","v":"Non"},null,{"$f":"IF(ISBLANK(H292),\"\",IF(OR(H292=\"Préventive\",H292=\"Corrective\"),\"Oui\",\"Non\"))","v":""},null,null,null,null,null,{"$f":"IF(AND(U292<>\"\",ISBLANK(X292),U292<TODAY()),\"Oui\",\"Non\")","v":"Non"},{"$f":"IF(AND(S292=\"Oui\",ISBLANK(X292)),\"Oui\",\"Non\")","v":"Non"},null,null,null,null,{"$f":"IF(K292=\"\",\"\",K292-TODAY())","v":""},{"$f":"IF(ISBLANK(F292),CONCATENATE(E292,\" - \",AG292),CONCATENATE(F292,\" - \",AG292))","v":" - "},{"$f":"IF(ISBLANK(B292),\"\",YEAR(C292))","v":""},{"$f":"CONCATENATE(H292,\"-\",AG292)","v":"-"},{"$f":"CONCATENATE(M292,\"-\",AH292)","v":"--"}]
[{"$f":"IF(ISBLANK(B293),\"\",$C$2)","v":""},null,null,{"$f":"IF(ISBLANK(B293),\"\",COUNTA(#REF!))","v":""},null,null,null,null,null,null,null,null,null,null,{"$f":"IF(AND(K293<>\"\",ISBLANK(N293),K293<TODAY()),\"Oui\",\"Non\")","v":"Non"},{"$f":"IF(ISBLANK(I293),\"\",IF(K293=\"\",\"délai à préciser\",IF(M293=\"\",\"statut à préciser\",IF(M293=\"finalisée\",IF(N293=\"\",\"date de solde à préciser\",IF(K293>=N293,\"fait\",\"retard\")),(IF(K293<TODAY(),\"retard\",\"Ok\"))))))","v":""},{"$f":"IF(AND(N293<>\"\",ISBLANK(N293),K293<TODAY()),\"Oui\",\"Non\")","v":"Non"},null,{"$f":"IF(ISBLANK(H293),\"\",IF(OR(H293=\"Préventive\",H293=\"Corrective\"),\"Oui\",\"Non\"))","v":""},null,null,null,null,null,{"$f":"IF(AND(U293<>\"\",ISBLANK(X293),U293<TODAY()),\"Oui\",\"Non\")","v":"Non"},{"$f":"IF(AND(S293=\"Oui\",ISBLANK(X293)),\"Oui\",\"Non\")","v":"Non"},null,null,null,null,{"$f":"IF(K293=\"\",\"\",K293-TODAY())","v":""},{"$f":"IF(ISBLANK(F293),CONCATENATE(E293,\" - \",AG293),CONCATENATE(F293,\" - \",AG293))","v":" - "},{"$f":"IF(ISBLANK(B293),\"\",YEAR(C293))","v":""},{"$f":"CONCATENATE(H293,\"-\",AG293)","v":"-"},{"$f":"CONCATENATE(M293,\"-\",AH293)","v":"--"}]
[{"$f":"IF(ISBLANK(B294),\"\",$C$2)","v":""},null,null,{"$f":"IF(ISBLANK(B294),\"\",COUNTA(#REF!))","v":""},null,null,null,null,null,null,null,null,null,null,{"$f":"IF(AND(K294<>\"\",ISBLANK(N294),K294<TODAY()),\"Oui\",\"Non\")","v":"Non"},{"$f":"IF(ISBLANK(I294),\"\",IF(K294=\"\",\"délai à préciser\",IF(M294=\"\",\"statut à préciser\",IF(M294=\"finalisée\",IF(N294=\"\",\"date de solde à préciser\",IF(K294>=N294,\"fait\",\"retard\")),(IF(K294<TODAY(),\"retard\",\"Ok\"))))))","v":""},{"$f":"IF(AND(N294<>\"\",ISBLANK(N294),K294<TODAY()),\"Oui\",\"Non\")","v":"Non"},null,{"$f":"IF(ISBLANK(H294),\"\",IF(OR(H294=\"Préventive\",H294=\"Corrective\"),\"Oui\",\"Non\"))","v":""},null,null,null,null,null,{"$f":"IF(AND(U294<>\"\",ISBLANK(X294),U294<TODAY()),\"Oui\",\"Non\")","v":"Non"},{"$f":"IF(AND(S294=\"Oui\",ISBLANK(X294)),\"Oui\",\"Non\")","v":"Non"},null,null,null,null,{"$f":"IF(K294=\"\",\"\",K294-TODAY())","v":""},{"$f":"IF(ISBLANK(F294),CONCATENATE(E294,\" - \",AG294),CONCATENATE(F294,\" - \",AG294))","v":" - "},{"$f":"IF(ISBLANK(B294),\"\",YEAR(C294))","v":""},{"$f":"CONCATENATE(H294,\"-\",AG294)","v":"-"},{"$f":"CONCATENATE(M294,\"-\",AH294)","v":"--"}]
[{"$f":"IF(ISBLANK(B295),\"\",$C$2)","v":""},null,null,{"$f":"IF(ISBLANK(B295),\"\",COUNTA(#REF!))","v":""},null,null,null,null,null,null,null,null,null,null,{"$f":"IF(AND(K295<>\"\",ISBLANK(N295),K295<TODAY()),\"Oui\",\"Non\")","v":"Non"},{"$f":"IF(ISBLANK(I295),\"\",IF(K295=\"\",\"délai à préciser\",IF(M295=\"\",\"statut à préciser\",IF(M295=\"finalisée\",IF(N295=\"\",\"date de solde à préciser\",IF(K295>=N295,\"fait\",\"retard\")),(IF(K295<TODAY(),\"retard\",\"Ok\"))))))","v":""},{"$f":"IF(AND(N295<>\"\",ISBLANK(N295),K295<TODAY()),\"Oui\",\"Non\")","v":"Non"},null,{"$f":"IF(ISBLANK(H295),\"\",IF(OR(H295=\"Préventive\",H295=\"Corrective\"),\"Oui\",\"Non\"))","v":""},null,null,null,null,null,{"$f":"IF(AND(U295<>\"\",ISBLANK(X295),U295<TODAY()),\"Oui\",\"Non\")","v":"Non"},{"$f":"IF(AND(S295=\"Oui\",ISBLANK(X295)),\"Oui\",\"Non\")","v":"Non"},null,null,null,null,{"$f":"IF(K295=\"\",\"\",K295-TODAY())","v":""},{"$f":"IF(ISBLANK(F295),CONCATENATE(E295,\" - \",AG295),CONCATENATE(F295,\" - \",AG295))","v":" - "},{"$f":"IF(ISBLANK(B295),\"\",YEAR(C295))","v":""},{"$f":"CONCATENATE(H295,\"-\",AG295)","v":"-"},{"$f":"CONCATENATE(M295,\"-\",AH295)","v":"--"}]
[{"$f":"IF(ISBLANK(B296),\"\",$C$2)","v":""},null,null,{"$f":"IF(ISBLANK(B296),\"\",COUNTA(#REF!))","v":""},null,null,null,null,null,null,null,null,null,null,{"$f":"IF(AND(K296<>\"\",ISBLANK(N296),K296<TODAY()),\"Oui\",\"Non\")","v":"Non"},{"$f":"IF(ISBLANK(I296),\"\",IF(K296=\"\",\"délai à préciser\",IF(M296=\"\",\"statut à préciser\",IF(M296=\"finalisée\",IF(N296=\"\",\"date de solde à préciser\",IF(K296>=N296,\"fait\",\"retard\")),(IF(K296<TODAY(),\"retard\",\"Ok\"))))))","v":""},{"$f":"IF(AND(N296<>\"\",ISBLANK(N296),K296<TODAY()),\"Oui\",\"Non\")","v":"Non"},null,{"$f":"IF(ISBLANK(H296),\"\",IF(OR(H296=\"Préventive\",H296=\"Corrective\"),\"Oui\",\"Non\"))","v":""},null,null,null,null,null,{"$f":"IF(AND(U296<>\"\",ISBLANK(X296),U296<TODAY()),\"Oui\",\"Non\")","v":"Non"},{"$f":"IF(AND(S296=\"Oui\",ISBLANK(X296)),\"Oui\",\"Non\")","v":"Non"},null,null,null,null,{"$f":"IF(K296=\"\",\"\",K296-TODAY())","v":""},{"$f":"IF(ISBLANK(F296),CONCATENATE(E296,\" - \",AG296),CONCATENATE(F296,\" - \",AG296))","v":" - "},{"$f":"IF(ISBLANK(B296),\"\",YEAR(C296))","v":""},{"$f":"CONCATENATE(H296,\"-\",AG296)","v":"-"},{"$f":"CONCATENATE(M296,\"-\",AH296)","v":"--"}]
[{"$f":"IF(ISBLANK(B297),\"\",$C$2)","v":""},null,null,{"$f":"IF(ISBLANK(B297),\"\",COUNTA(#REF!))","v":""},null,null,null,null,null,null,null,null,null,null,{"$f":"IF(AND(K297<>\"\",ISBLANK(N297),K297<TODAY()),\"Oui\",\"Non\")","v":"Non"},{"$f":"IF(ISBLANK(I297),\"\",IF(K297=\"\",\"délai à préciser\",IF(M297=\"\",\"statut à préciser\",IF(M297=\"finalisée\",IF(N297=\"\",\"date de solde à préciser\",IF(K297>=N297,\"fait\",\"retard\")),(IF(K297<TODAY(),\"retard\",\"Ok\"))))))","v":""},{"$f":"IF(AND(N297<>\"\",ISBLANK(N297),K297<TODAY()),\"Oui\",\"Non\")","v":"Non"},null,{"$f":"IF(ISBLANK(H297),\"\",IF(OR(H297=\"Préventive\",H297=\"Corrective\"),\"Oui\",\"Non\"))","v":""},null,null,null,null,null,{"$f":"IF(AND(U297<>\"\",ISBLANK(X297),U297<TODAY()),\"Oui\",\"Non\")","v":"Non"},{"$f":"IF(AND(S297=\"Oui\",ISBLANK(X297)),\"Oui\",\"Non\")","v":"Non"},null,null,null,null,{"$f":"IF(K297=\"\",\"\",K297-TODAY())","v":""},{"$f":"IF(ISBLANK(F297),CONCATENATE(E297,\" - \",AG297),CONCATENATE(F297,\" - \",AG297))","v":" - "},{"$f":"IF(ISBLANK(B297),\"\",YEAR(C297))","v":""},{"$f":"CONCATENATE(H297,\"-\",AG297)","v":"-"},{"$f":"CONCATENATE(M297,\"-\",AH297)","v":"--"}]
[{"$f":"IF(ISBLANK(B298),\"\",$C$2)","v":""},null,null,{"$f":"IF(ISBLANK(B298),\"\",COUNTA(#REF!))","v":""},null,null,null,null,null,null,null,null,null,null,{"$f":"IF(AND(K298<>\"\",ISBLANK(N298),K298<TODAY()),\"Oui\",\"Non\")","v":"Non"},{"$f":"IF(ISBLANK(I298),\"\",IF(K298=\"\",\"délai à préciser\",IF(M298=\"\",\"statut à préciser\",IF(M298=\"finalisée\",IF(N298=\"\",\"date de solde à préciser\",IF(K298>=N298,\"fait\",\"retard\")),(IF(K298<TODAY(),\"retard\",\"Ok\"))))))","v":""},{"$f":"IF(AND(N298<>\"\",ISBLANK(N298),K298<TODAY()),\"Oui\",\"Non\")","v":"Non"},null,{"$f":"IF(ISBLANK(H298),\"\",IF(OR(H298=\"Préventive\",H298=\"Corrective\"),\"Oui\",\"Non\"))","v":""},null,null,null,null,null,{"$f":"IF(AND(U298<>\"\",ISBLANK(X298),U298<TODAY()),\"Oui\",\"Non\")","v":"Non"},{"$f":"IF(AND(S298=\"Oui\",ISBLANK(X298)),\"Oui\",\"Non\")","v":"Non"},null,null,null,null,{"$f":"IF(K298=\"\",\"\",K298-TODAY())","v":""},{"$f":"IF(ISBLANK(F298),CONCATENATE(E298,\" - \",AG298),CONCATENATE(F298,\" - \",AG298))","v":" - "},{"$f":"IF(ISBLANK(B298),\"\",YEAR(C298))","v":""},{"$f":"CONCATENATE(H298,\"-\",AG298)","v":"-"},{"$f":"CONCATENATE(M298,\"-\",AH298)","v":"--"}]
[{"$f":"IF(ISBLANK(B299),\"\",$C$2)","v":""},null,null,{"$f":"IF(ISBLANK(B299),\"\",COUNTA(#REF!))","v":""},null,null,null,null,null,null,null,null,null,null,{"$f":"IF(AND(K299<>\"\",ISBLANK(N299),K299<TODAY()),\"Oui\",\"Non\")","v":"Non"},{"$f":"IF(ISBLANK(I299),\"\",IF(K299=\"\",\"délai à préciser\",IF(M299=\"\",\"statut à préciser\",IF(M299=\"finalisée\",IF(N299=\"\",\"date de solde à préciser\",IF(K299>=N299,\"fait\",\"retard\")),(IF(K299<TODAY(),\"retard\",\"Ok\"))))))","v":""},{"$f":"IF(AND(N299<>\"\",ISBLANK(N299),K299<TODAY()),\"Oui\",\"Non\")","v":"Non"},null,{"$f":"IF(ISBLANK(H299),\"\",IF(OR(H299=\"Préventive\",H299=\"Corrective\"),\"Oui\",\"Non\"))","v":""},null,null,null,null,null,{"$f":"IF(AND(U299<>\"\",ISBLANK(X299),U299<TODAY()),\"Oui\",\"Non\")","v":"Non"},{"$f":"IF(AND(S299=\"Oui\",ISBLANK(X299)),\"Oui\",\"Non\")","v":"Non"},null,null,null,null,{"$f":"IF(K299=\"\",\"\",K299-TODAY())","v":""},{"$f":"IF(ISBLANK(F299),CONCATENATE(E299,\" - \",AG299),CONCATENATE(F299,\" - \",AG299))","v":" - "},{"$f":"IF(ISBLANK(B299),\"\",YEAR(C299))","v":""},{"$f":"CONCATENATE(H299,\"-\",AG299)","v":"-"},{"$f":"CONCATENATE(M299,\"-\",AH299)","v":"--"}]
[{"$f":"IF(ISBLANK(B300),\"\",$C$2)","v":""},null,null,{"$f":"IF(ISBLANK(B300),\"\",COUNTA(#REF!))","v":""},null,null,null,null,null,null,null,null,null,null,{"$f":"IF(AND(K300<>\"\",ISBLANK(N300),K300<TODAY()),\"Oui\",\"Non\")","v":"Non"},{"$f":"IF(ISBLANK(I300),\"\",IF(K300=\"\",\"délai à préciser\",IF(M300=\"\",\"statut à préciser\",IF(M300=\"finalisée\",IF(N300=\"\",\"date de solde à préciser\",IF(K300>=N300,\"fait\",\"retard\")),(IF(K300<TODAY(),\"retard\",\"Ok\"))))))","v":""},{"$f":"IF(AND(N300<>\"\",ISBLANK(N300),K300<TODAY()),\"Oui\",\"Non\")","v":"Non"},null,{"$f":"IF(ISBLANK(H300),\"\",IF(OR(H300=\"Préventive\",H300=\"Corrective\"),\"Oui\",\"Non\"))","v":""},null,null,null,null,null,{"$f":"IF(AND(U300<>\"\",ISBLANK(X300),U300<TODAY()),\"Oui\",\"Non\")","v":"Non"},{"$f":"IF(AND(S300=\"Oui\",ISBLANK(X300)),\"Oui\",\"Non\")","v":"Non"},null,null,null,null,{"$f":"IF(K300=\"\",\"\",K300-TODAY())","v":""},{"$f":"IF(ISBLANK(F300),CONCATENATE(E300,\" - \",AG300),CONCATENATE(F300,\" - \",AG300))","v":" - "},{"$f":"IF(ISBLANK(B300),\"\",YEAR(C300))","v":""},{"$f":"CONCATENATE(H300,\"-\",AG300)","v":"-"},{"$f":"CONCATENATE(M300,\"-\",AH300)","v":"--"}]
[{"$f":"IF(ISBLANK(B301),\"\",$C$2)","v":""},null,null,{"$f":"IF(ISBLANK(B301),\"\",COUNTA(#REF!))","v":""},null,null,null,null,null,null,null,null,null,null,{"$f":"IF(AND(K301<>\"\",ISBLANK(N301),K301<TODAY()),\"Oui\",\"Non\")","v":"Non"},{"$f":"IF(ISBLANK(I301),\"\",IF(K301=\"\",\"délai à préciser\",IF(M301=\"\",\"statut à préciser\",IF(M301=\"finalisée\",IF(N301=\"\",\"date de solde à préciser\",IF(K301>=N301,\"fait\",\"retard\")),(IF(K301<TODAY(),\"retard\",\"Ok\"))))))","v":""},{"$f":"IF(AND(N301<>\"\",ISBLANK(N301),K301<TODAY()),\"Oui\",\"Non\")","v":"Non"},null,{"$f":"IF(ISBLANK(H301),\"\",IF(OR(H301=\"Préventive\",H301=\"Corrective\"),\"Oui\",\"Non\"))","v":""},null,null,null,null,null,{"$f":"IF(AND(U301<>\"\",ISBLANK(X301),U301<TODAY()),\"Oui\",\"Non\")","v":"Non"},{"$f":"IF(AND(S301=\"Oui\",ISBLANK(X301)),\"Oui\",\"Non\")","v":"Non"},null,null,null,null,{"$f":"IF(K301=\"\",\"\",K301-TODAY())","v":""},{"$f":"IF(ISBLANK(F301),CONCATENATE(E301,\" - \",AG301),CONCATENATE(F301,\" - \",AG301))","v":" - "},{"$f":"IF(ISBLANK(B301),\"\",YEAR(C301))","v":""},{"$f":"CONCATENATE(H301,\"-\",AG301)","v":"-"},{"$f":"CONCATENATE(M301,\"-\",AH301)","v":"--"}]
[{"$f":"IF(ISBLANK(B302),\"\",$C$2)","v":""},null,null,{"$f":"IF(ISBLANK(B302),\"\",COUNTA(#REF!))","v":""},null,null,null,null,null,null,null,null,null,null,{"$f":"IF(AND(K302<>\"\",ISBLANK(N302),K302<TODAY()),\"Oui\",\"Non\")","v":"Non"},{"$f":"IF(ISBLANK(I302),\"\",IF(K302=\"\",\"délai à préciser\",IF(M302=\"\",\"statut à préciser\",IF(M302=\"finalisée\",IF(N302=\"\",\"date de solde à préciser\",IF(K302>=N302,\"fait\",\"retard\")),(IF(K302<TODAY(),\"retard\",\"Ok\"))))))","v":""},{"$f":"IF(AND(N302<>\"\",ISBLANK(N302),K302<TODAY()),\"Oui\",\"Non\")","v":"Non"},null,{"$f":"IF(ISBLANK(H302),\"\",IF(OR(H302=\"Préventive\",H302=\"Corrective\"),\"Oui\",\"Non\"))","v":""},null,null,null,null,null,{"$f":"IF(AND(U302<>\"\",ISBLANK(X302),U302<TODAY()),\"Oui\",\"Non\")","v":"Non"},{"$f":"IF(AND(S302=\"Oui\",ISBLANK(X302)),\"Oui\",\"Non\")","v":"Non"},null,null,null,null,{"$f":"IF(K302=\"\",\"\",K302-TODAY())","v":""},{"$f":"IF(ISBLANK(F302),CONCATENATE(E302,\" - \",AG302),CONCATENATE(F302,\" - \",AG302))","v":" - "},{"$f":"IF(ISBLANK(B302),\"\",YEAR(C302))","v":""},{"$f":"CONCATENATE(H302,\"-\",AG302)","v":"-"},{"$f":"CONCATENATE(M302,\"-\",AH302)","v":"--"}]
[{"$f":"IF(ISBLANK(B303),\"\",$C$2)","v":""},null,null,{"$f":"IF(ISBLANK(B303),\"\",COUNTA(#REF!))","v":""},null,null,null,null,null,null,null,null,null,null,{"$f":"IF(AND(K303<>\"\",ISBLANK(N303),K303<TODAY()),\"Oui\",\"Non\")","v":"Non"},{"$f":"IF(ISBLANK(I303),\"\",IF(K303=\"\",\"délai à préciser\",IF(M303=\"\",\"statut à préciser\",IF(M303=\"finalisée\",IF(N303=\"\",\"date de solde à préciser\",IF(K303>=N303,\"fait\",\"retard\")),(IF(K303<TODAY(),\"retard\",\"Ok\"))))))","v":""},{"$f":"IF(AND(N303<>\"\",ISBLANK(N303),K303<TODAY()),\"Oui\",\"Non\")","v":"Non"},null,{"$f":"IF(ISBLANK(H303),\"\",IF(OR(H303=\"Préventive\",H303=\"Corrective\"),\"Oui\",\"Non\"))","v":""},null,null,null,null,null,{"$f":"IF(AND(U303<>\"\",ISBLANK(X303),U303<TODAY()),\"Oui\",\"Non\")","v":"Non"},{"$f":"IF(AND(S303=\"Oui\",ISBLANK(X303)),\"Oui\",\"Non\")","v":"Non"},null,null,null,null,{"$f":"IF(K303=\"\",\"\",K303-TODAY())","v":""},{"$f":"IF(ISBLANK(F303),CONCATENATE(E303,\" - \",AG303),CONCATENATE(F303,\" - \",AG303))","v":" - "},{"$f":"IF(ISBLANK(B303),\"\",YEAR(C303))","v":""},{"$f":"CONCATENATE(H303,\"-\",AG303)","v":"-"},{"$f":"CONCATENATE(M303,\"-\",AH303)","v":"--"}]
[{"$f":"IF(ISBLANK(B304),\"\",$C$2)","v":""},null,null,{"$f":"IF(ISBLANK(B304),\"\",COUNTA(#REF!))","v":""},null,null,null,null,null,null,null,null,null,null,{"$f":"IF(AND(K304<>\"\",ISBLANK(N304),K304<TODAY()),\"Oui\",\"Non\")","v":"Non"},{"$f":"IF(ISBLANK(I304),\"\",IF(K304=\"\",\"délai à préciser\",IF(M304=\"\",\"statut à préciser\",IF(M304=\"finalisée\",IF(N304=\"\",\"date de solde à préciser\",IF(K304>=N304,\"fait\",\"retard\")),(IF(K304<TODAY(),\"retard\",\"Ok\"))))))","v":""},{"$f":"IF(AND(N304<>\"\",ISBLANK(N304),K304<TODAY()),\"Oui\",\"Non\")","v":"Non"},null,{"$f":"IF(ISBLANK(H304),\"\",IF(OR(H304=\"Préventive\",H304=\"Corrective\"),\"Oui\",\"Non\"))","v":""},null,null,null,null,null,{"$f":"IF(AND(U304<>\"\",ISBLANK(X304),U304<TODAY()),\"Oui\",\"Non\")","v":"Non"},{"$f":"IF(AND(S304=\"Oui\",ISBLANK(X304)),\"Oui\",\"Non\")","v":"Non"},null,null,null,null,{"$f":"IF(K304=\"\",\"\",K304-TODAY())","v":""},{"$f":"IF(ISBLANK(F304),CONCATENATE(E304,\" - \",AG304),CONCATENATE(F304,\" - \",AG304))","v":" - "},{"$f":"IF(ISBLANK(B304),\"\",YEAR(C304))","v":""},{"$f":"CONCATENATE(H304,\"-\",AG304)","v":"-"},{"$f":"CONCATENATE(M304,\"-\",AH304)","v":"--"}]
[{"$f":"IF(ISBLANK(B305),\"\",$C$2)","v":""},null,null,{"$f":"IF(ISBLANK(B305),\"\",COUNTA(#REF!))","v":""},null,null,null,null,null,null,null,null,null,null,{"$f":"IF(AND(K305<>\"\",ISBLANK(N305),K305<TODAY()),\"Oui\",\"Non\")","v":"Non"},{"$f":"IF(ISBLANK(I305),\"\",IF(K305=\"\",\"délai à préciser\",IF(M305=\"\",\"statut à préciser\",IF(M305=\"finalisée\",IF(N305=\"\",\"date de solde à préciser\",IF(K305>=N305,\"fait\",\"retard\")),(IF(K305<TODAY(),\"retard\",\"Ok\"))))))","v":""},{"$f":"IF(AND(N305<>\"\",ISBLANK(N305),K305<TODAY()),\"Oui\",\"Non\")","v":"Non"},null,{"$f":"IF(ISBLANK(H305),\"\",IF(OR(H305=\"Préventive\",H305=\"Corrective\"),\"Oui\",\"Non\"))","v":""},null,null,null,null,null,{"$f":"IF(AND(U305<>\"\",ISBLANK(X305),U305<TODAY()),\"Oui\",\"Non\")","v":"Non"},{"$f":"IF(AND(S305=\"Oui\",ISBLANK(X305)),\"Oui\",\"Non\")","v":"Non"},null,null,null,null,{"$f":"IF(K305=\"\",\"\",K305-TODAY())","v":""},{"$f":"IF(ISBLANK(F305),CONCATENATE(E305,\" - \",AG305),CONCATENATE(F305,\" - \",AG305))","v":" - "},{"$f":"IF(ISBLANK(B305),\"\",YEAR(C305))","v":""},{"$f":"CONCATENATE(H305,\"-\",AG305)","v":"-"},{"$f":"CONCATENATE(M305,\"-\",AH305)","v":"--"}]
[{"$f":"IF(ISBLANK(B306),\"\",$C$2)","v":""},null,null,{"$f":"IF(ISBLANK(B306),\"\",COUNTA(#REF!))","v":""},null,null,null,null,null,null,null,null,null,null,{"$f":"IF(AND(K306<>\"\",ISBLANK(N306),K306<TODAY()),\"Oui\",\"Non\")","v":"Non"},{"$f":"IF(ISBLANK(I306),\"\",IF(K306=\"\",\"délai à préciser\",IF(M306=\"\",\"statut à préciser\",IF(M306=\"finalisée\",IF(N306=\"\",\"date de solde à préciser\",IF(K306>=N306,\"fait\",\"retard\")),(IF(K306<TODAY(),\"retard\",\"Ok\"))))))","v":""},{"$f":"IF(AND(N306<>\"\",ISBLANK(N306),K306<TODAY()),\"Oui\",\"Non\")","v":"Non"},null,{"$f":"IF(ISBLANK(H306),\"\",IF(OR(H306=\"Préventive\",H306=\"Corrective\"),\"Oui\",\"Non\"))","v":""},null,null,null,null,null,{"$f":"IF(AND(U306<>\"\",ISBLANK(X306),U306<TODAY()),\"Oui\",\"Non\")","v":"Non"},{"$f":"IF(AND(S306=\"Oui\",ISBLANK(X306)),\"Oui\",\"Non\")","v":"Non"},null,null,null,null,{"$f":"IF(K306=\"\",\"\",K306-TODAY())","v":""},{"$f":"IF(ISBLANK(F306),CONCATENATE(E306,\" - \",AG306),CONCATENATE(F306,\" - \",AG306))","v":" - "},{"$f":"IF(ISBLANK(B306),\"\",YEAR(C306))","v":""},{"$f":"CONCATENATE(H306,\"-\",AG306)","v":"-"},{"$f":"CONCATENATE(M306,\"-\",AH306)","v":"--"}]
[{"$f":"IF(ISBLANK(B307),\"\",$C$2)","v":""},null,null,{"$f":"IF(ISBLANK(B307),\"\",COUNTA(#REF!))","v":""},null,null,null,null,null,null,null,null,null,null,{"$f":"IF(AND(K307<>\"\",ISBLANK(N307),K307<TODAY()),\"Oui\",\"Non\")","v":"Non"},{"$f":"IF(ISBLANK(I307),\"\",IF(K307=\"\",\"délai à préciser\",IF(M307=\"\",\"statut à préciser\",IF(M307=\"finalisée\",IF(N307=\"\",\"date de solde à préciser\",IF(K307>=N307,\"fait\",\"retard\")),(IF(K307<TODAY(),\"retard\",\"Ok\"))))))","v":""},{"$f":"IF(AND(N307<>\"\",ISBLANK(N307),K307<TODAY()),\"Oui\",\"Non\")","v":"Non"},null,{"$f":"IF(ISBLANK(H307),\"\",IF(OR(H307=\"Préventive\",H307=\"Corrective\"),\"Oui\",\"Non\"))","v":""},null,null,null,null,null,{"$f":"IF(AND(U307<>\"\",ISBLANK(X307),U307<TODAY()),\"Oui\",\"Non\")","v":"Non"},{"$f":"IF(AND(S307=\"Oui\",ISBLANK(X307)),\"Oui\",\"Non\")","v":"Non"},null,null,null,null,{"$f":"IF(K307=\"\",\"\",K307-TODAY())","v":""},{"$f":"IF(ISBLANK(F307),CONCATENATE(E307,\" - \",AG307),CONCATENATE(F307,\" - \",AG307))","v":" - "},{"$f":"IF(ISBLANK(B307),\"\",YEAR(C307))","v":""},{"$f":"CONCATENATE(H307,\"-\",AG307)","v":"-"},{"$f":"CONCATENATE(M307,\"-\",AH307)","v":"--"}]
[{"$f":"IF(ISBLANK(B308),\"\",$C$2)","v":""},null,null,{"$f":"IF(ISBLANK(B308),\"\",COUNTA(#REF!))","v":""},null,null,null,null,null,null,null,null,null,null,{"$f":"IF(AND(K308<>\"\",ISBLANK(N308),K308<TODAY()),\"Oui\",\"Non\")","v":"Non"},{"$f":"IF(ISBLANK(I308),\"\",IF(K308=\"\",\"délai à préciser\",IF(M308=\"\",\"statut à préciser\",IF(M308=\"finalisée\",IF(N308=\"\",\"date de solde à préciser\",IF(K308>=N308,\"fait\",\"retard\")),(IF(K308<TODAY(),\"retard\",\"Ok\"))))))","v":""},{"$f":"IF(AND(N308<>\"\",ISBLANK(N308),K308<TODAY()),\"Oui\",\"Non\")","v":"Non"},null,{"$f":"IF(ISBLANK(H308),\"\",IF(OR(H308=\"Préventive\",H308=\"Corrective\"),\"Oui\",\"Non\"))","v":""},null,null,null,null,null,{"$f":"IF(AND(U308<>\"\",ISBLANK(X308),U308<TODAY()),\"Oui\",\"Non\")","v":"Non"},{"$f":"IF(AND(S308=\"Oui\",ISBLANK(X308)),\"Oui\",\"Non\")","v":"Non"},null,null,null,null,{"$f":"IF(K308=\"\",\"\",K308-TODAY())","v":""},{"$f":"IF(ISBLANK(F308),CONCATENATE(E308,\" - \",AG308),CONCATENATE(F308,\" - \",AG308))","v":" - "},{"$f":"IF(ISBLANK(B308),\"\",YEAR(C308))","v":""},{"$f":"CONCATENATE(H308,\"-\",AG308)","v":"-"},{"$f":"CONCATENATE(M308,\"-\",AH308)","v":"--"}]
[{"$f":"IF(ISBLANK(B309),\"\",$C$2)","v":""},null,null,{"$f":"IF(ISBLANK(B309),\"\",COUNTA(#REF!))","v":""},null,null,null,null,null,null,null,null,null,null,{"$f":"IF(AND(K309<>\"\",ISBLANK(N309),K309<TODAY()),\"Oui\",\"Non\")","v":"Non"},{"$f":"IF(ISBLANK(I309),\"\",IF(K309=\"\",\"délai à préciser\",IF(M309=\"\",\"statut à préciser\",IF(M309=\"finalisée\",IF(N309=\"\",\"date de solde à préciser\",IF(K309>=N309,\"fait\",\"retard\")),(IF(K309<TODAY(),\"retard\",\"Ok\"))))))","v":""},{"$f":"IF(AND(N309<>\"\",ISBLANK(N309),K309<TODAY()),\"Oui\",\"Non\")","v":"Non"},null,{"$f":"IF(ISBLANK(H309),\"\",IF(OR(H309=\"Préventive\",H309=\"Corrective\"),\"Oui\",\"Non\"))","v":""},null,null,null,null,null,{"$f":"IF(AND(U309<>\"\",ISBLANK(X309),U309<TODAY()),\"Oui\",\"Non\")","v":"Non"},{"$f":"IF(AND(S309=\"Oui\",ISBLANK(X309)),\"Oui\",\"Non\")","v":"Non"},null,null,null,null,{"$f":"IF(K309=\"\",\"\",K309-TODAY())","v":""},{"$f":"IF(ISBLANK(F309),CONCATENATE(E309,\" - \",AG309),CONCATENATE(F309,\" - \",AG309))","v":" - "},{"$f":"IF(ISBLANK(B309),\"\",YEAR(C309))","v":""},{"$f":"CONCATENATE(H309,\"-\",AG309)","v":"-"},{"$f":"CONCATENATE(M309,\"-\",AH309)","v":"--"}]
[{"$f":"IF(ISBLANK(B310),\"\",$C$2)","v":""},null,null,{"$f":"IF(ISBLANK(B310),\"\",COUNTA(#REF!))","v":""},null,null,null,null,null,null,null,null,null,null,{"$f":"IF(AND(K310<>\"\",ISBLANK(N310),K310<TODAY()),\"Oui\",\"Non\")","v":"Non"},{"$f":"IF(ISBLANK(I310),\"\",IF(K310=\"\",\"délai à préciser\",IF(M310=\"\",\"statut à préciser\",IF(M310=\"finalisée\",IF(N310=\"\",\"date de solde à préciser\",IF(K310>=N310,\"fait\",\"retard\")),(IF(K310<TODAY(),\"retard\",\"Ok\"))))))","v":""},{"$f":"IF(AND(N310<>\"\",ISBLANK(N310),K310<TODAY()),\"Oui\",\"Non\")","v":"Non"},null,{"$f":"IF(ISBLANK(H310),\"\",IF(OR(H310=\"Préventive\",H310=\"Corrective\"),\"Oui\",\"Non\"))","v":""},null,null,null,null,null,{"$f":"IF(AND(U310<>\"\",ISBLANK(X310),U310<TODAY()),\"Oui\",\"Non\")","v":"Non"},{"$f":"IF(AND(S310=\"Oui\",ISBLANK(X310)),\"Oui\",\"Non\")","v":"Non"},null,null,null,null,{"$f":"IF(K310=\"\",\"\",K310-TODAY())","v":""},{"$f":"IF(ISBLANK(F310),CONCATENATE(E310,\" - \",AG310),CONCATENATE(F310,\" - \",AG310))","v":" - "},{"$f":"IF(ISBLANK(B310),\"\",YEAR(C310))","v":""},{"$f":"CONCATENATE(H310,\"-\",AG310)","v":"-"},{"$f":"CONCATENATE(M310,\"-\",AH310)","v":"--"}]
[{"$f":"IF(ISBLANK(B311),\"\",$C$2)","v":""},null,null,{"$f":"IF(ISBLANK(B311),\"\",COUNTA(#REF!))","v":""},null,null,null,null,null,null,null,null,null,null,{"$f":"IF(AND(K311<>\"\",ISBLANK(N311),K311<TODAY()),\"Oui\",\"Non\")","v":"Non"},{"$f":"IF(ISBLANK(I311),\"\",IF(K311=\"\",\"délai à préciser\",IF(M311=\"\",\"statut à préciser\",IF(M311=\"finalisée\",IF(N311=\"\",\"date de solde à préciser\",IF(K311>=N311,\"fait\",\"retard\")),(IF(K311<TODAY(),\"retard\",\"Ok\"))))))","v":""},{"$f":"IF(AND(N311<>\"\",ISBLANK(N311),K311<TODAY()),\"Oui\",\"Non\")","v":"Non"},null,{"$f":"IF(ISBLANK(H311),\"\",IF(OR(H311=\"Préventive\",H311=\"Corrective\"),\"Oui\",\"Non\"))","v":""},null,null,null,null,null,{"$f":"IF(AND(U311<>\"\",ISBLANK(X311),U311<TODAY()),\"Oui\",\"Non\")","v":"Non"},{"$f":"IF(AND(S311=\"Oui\",ISBLANK(X311)),\"Oui\",\"Non\")","v":"Non"},null,null,null,null,{"$f":"IF(K311=\"\",\"\",K311-TODAY())","v":""},{"$f":"IF(ISBLANK(F311),CONCATENATE(E311,\" - \",AG311),CONCATENATE(F311,\" - \",AG311))","v":" - "},{"$f":"IF(ISBLANK(B311),\"\",YEAR(C311))","v":""},{"$f":"CONCATENATE(H311,\"-\",AG311)","v":"-"},{"$f":"CONCATENATE(M311,\"-\",AH311)","v":"--"}]
[{"$f":"IF(ISBLANK(B312),\"\",$C$2)","v":""},null,null,{"$f":"IF(ISBLANK(B312),\"\",COUNTA(#REF!))","v":""},null,null,null,null,null,null,null,null,null,null,{"$f":"IF(AND(K312<>\"\",ISBLANK(N312),K312<TODAY()),\"Oui\",\"Non\")","v":"Non"},{"$f":"IF(ISBLANK(I312),\"\",IF(K312=\"\",\"délai à préciser\",IF(M312=\"\",\"statut à préciser\",IF(M312=\"finalisée\",IF(N312=\"\",\"date de solde à préciser\",IF(K312>=N312,\"fait\",\"retard\")),(IF(K312<TODAY(),\"retard\",\"Ok\"))))))","v":""},{"$f":"IF(AND(N312<>\"\",ISBLANK(N312),K312<TODAY()),\"Oui\",\"Non\")","v":"Non"},null,{"$f":"IF(ISBLANK(H312),\"\",IF(OR(H312=\"Préventive\",H312=\"Corrective\"),\"Oui\",\"Non\"))","v":""},null,null,null,null,null,{"$f":"IF(AND(U312<>\"\",ISBLANK(X312),U312<TODAY()),\"Oui\",\"Non\")","v":"Non"},{"$f":"IF(AND(S312=\"Oui\",ISBLANK(X312)),\"Oui\",\"Non\")","v":"Non"},null,null,null,null,{"$f":"IF(K312=\"\",\"\",K312-TODAY())","v":""},{"$f":"IF(ISBLANK(F312),CONCATENATE(E312,\" - \",AG312),CONCATENATE(F312,\" - \",AG312))","v":" - "},{"$f":"IF(ISBLANK(B312),\"\",YEAR(C312))","v":""},{"$f":"CONCATENATE(H312,\"-\",AG312)","v":"-"},{"$f":"CONCATENATE(M312,\"-\",AH312)","v":"--"}]
[{"$f":"IF(ISBLANK(B313),\"\",$C$2)","v":""},null,null,{"$f":"IF(ISBLANK(B313),\"\",COUNTA(#REF!))","v":""},null,null,null,null,null,null,null,null,null,null,{"$f":"IF(AND(K313<>\"\",ISBLANK(N313),K313<TODAY()),\"Oui\",\"Non\")","v":"Non"},{"$f":"IF(ISBLANK(I313),\"\",IF(K313=\"\",\"délai à préciser\",IF(M313=\"\",\"statut à préciser\",IF(M313=\"finalisée\",IF(N313=\"\",\"date de solde à préciser\",IF(K313>=N313,\"fait\",\"retard\")),(IF(K313<TODAY(),\"retard\",\"Ok\"))))))","v":""},{"$f":"IF(AND(N313<>\"\",ISBLANK(N313),K313<TODAY()),\"Oui\",\"Non\")","v":"Non"},null,{"$f":"IF(ISBLANK(H313),\"\",IF(OR(H313=\"Préventive\",H313=\"Corrective\"),\"Oui\",\"Non\"))","v":""},null,null,null,null,null,{"$f":"IF(AND(U313<>\"\",ISBLANK(X313),U313<TODAY()),\"Oui\",\"Non\")","v":"Non"},{"$f":"IF(AND(S313=\"Oui\",ISBLANK(X313)),\"Oui\",\"Non\")","v":"Non"},null,null,null,null,{"$f":"IF(K313=\"\",\"\",K313-TODAY())","v":""},{"$f":"IF(ISBLANK(F313),CONCATENATE(E313,\" - \",AG313),CONCATENATE(F313,\" - \",AG313))","v":" - "},{"$f":"IF(ISBLANK(B313),\"\",YEAR(C313))","v":""},{"$f":"CONCATENATE(H313,\"-\",AG313)","v":"-"},{"$f":"CONCATENATE(M313,\"-\",AH313)","v":"--"}]
[{"$f":"IF(ISBLANK(B314),\"\",$C$2)","v":""},null,null,{"$f":"IF(ISBLANK(B314),\"\",COUNTA(#REF!))","v":""},null,null,null,null,null,null,null,null,null,null,{"$f":"IF(AND(K314<>\"\",ISBLANK(N314),K314<TODAY()),\"Oui\",\"Non\")","v":"Non"},{"$f":"IF(ISBLANK(I314),\"\",IF(K314=\"\",\"délai à préciser\",IF(M314=\"\",\"statut à préciser\",IF(M314=\"finalisée\",IF(N314=\"\",\"date de solde à préciser\",IF(K314>=N314,\"fait\",\"retard\")),(IF(K314<TODAY(),\"retard\",\"Ok\"))))))","v":""},{"$f":"IF(AND(N314<>\"\",ISBLANK(N314),K314<TODAY()),\"Oui\",\"Non\")","v":"Non"},null,{"$f":"IF(ISBLANK(H314),\"\",IF(OR(H314=\"Préventive\",H314=\"Corrective\"),\"Oui\",\"Non\"))","v":""},null,null,null,null,null,{"$f":"IF(AND(U314<>\"\",ISBLANK(X314),U314<TODAY()),\"Oui\",\"Non\")","v":"Non"},{"$f":"IF(AND(S314=\"Oui\",ISBLANK(X314)),\"Oui\",\"Non\")","v":"Non"},null,null,null,null,{"$f":"IF(K314=\"\",\"\",K314-TODAY())","v":""},{"$f":"IF(ISBLANK(F314),CONCATENATE(E314,\" - \",AG314),CONCATENATE(F314,\" - \",AG314))","v":" - "},{"$f":"IF(ISBLANK(B314),\"\",YEAR(C314))","v":""},{"$f":"CONCATENATE(H314,\"-\",AG314)","v":"-"},{"$f":"CONCATENATE(M314,\"-\",AH314)","v":"--"}]
[{"$f":"IF(ISBLANK(B315),\"\",$C$2)","v":""},null,null,{"$f":"IF(ISBLANK(B315),\"\",COUNTA(#REF!))","v":""},null,null,null,null,null,null,null,null,null,null,{"$f":"IF(AND(K315<>\"\",ISBLANK(N315),K315<TODAY()),\"Oui\",\"Non\")","v":"Non"},{"$f":"IF(ISBLANK(I315),\"\",IF(K315=\"\",\"délai à préciser\",IF(M315=\"\",\"statut à préciser\",IF(M315=\"finalisée\",IF(N315=\"\",\"date de solde à préciser\",IF(K315>=N315,\"fait\",\"retard\")),(IF(K315<TODAY(),\"retard\",\"Ok\"))))))","v":""},{"$f":"IF(AND(N315<>\"\",ISBLANK(N315),K315<TODAY()),\"Oui\",\"Non\")","v":"Non"},null,{"$f":"IF(ISBLANK(H315),\"\",IF(OR(H315=\"Préventive\",H315=\"Corrective\"),\"Oui\",\"Non\"))","v":""},null,null,null,null,null,{"$f":"IF(AND(U315<>\"\",ISBLANK(X315),U315<TODAY()),\"Oui\",\"Non\")","v":"Non"},{"$f":"IF(AND(S315=\"Oui\",ISBLANK(X315)),\"Oui\",\"Non\")","v":"Non"},null,null,null,null,{"$f":"IF(K315=\"\",\"\",K315-TODAY())","v":""},{"$f":"IF(ISBLANK(F315),CONCATENATE(E315,\" - \",AG315),CONCATENATE(F315,\" - \",AG315))","v":" - "},{"$f":"IF(ISBLANK(B315),\"\",YEAR(C315))","v":""},{"$f":"CONCATENATE(H315,\"-\",AG315)","v":"-"},{"$f":"CONCATENATE(M315,\"-\",AH315)","v":"--"}]
[{"$f":"IF(ISBLANK(B316),\"\",$C$2)","v":""},null,null,{"$f":"IF(ISBLANK(B316),\"\",COUNTA(#REF!))","v":""},null,null,null,null,null,null,null,null,null,null,{"$f":"IF(AND(K316<>\"\",ISBLANK(N316),K316<TODAY()),\"Oui\",\"Non\")","v":"Non"},{"$f":"IF(ISBLANK(I316),\"\",IF(K316=\"\",\"délai à préciser\",IF(M316=\"\",\"statut à préciser\",IF(M316=\"finalisée\",IF(N316=\"\",\"date de solde à préciser\",IF(K316>=N316,\"fait\",\"retard\")),(IF(K316<TODAY(),\"retard\",\"Ok\"))))))","v":""},{"$f":"IF(AND(N316<>\"\",ISBLANK(N316),K316<TODAY()),\"Oui\",\"Non\")","v":"Non"},null,{"$f":"IF(ISBLANK(H316),\"\",IF(OR(H316=\"Préventive\",H316=\"Corrective\"),\"Oui\",\"Non\"))","v":""},null,null,null,null,null,{"$f":"IF(AND(U316<>\"\",ISBLANK(X316),U316<TODAY()),\"Oui\",\"Non\")","v":"Non"},{"$f":"IF(AND(S316=\"Oui\",ISBLANK(X316)),\"Oui\",\"Non\")","v":"Non"},null,null,null,null,{"$f":"IF(K316=\"\",\"\",K316-TODAY())","v":""},{"$f":"IF(ISBLANK(F316),CONCATENATE(E316,\" - \",AG316),CONCATENATE(F316,\" - \",AG316))","v":" - "},{"$f":"IF(ISBLANK(B316),\"\",YEAR(C316))","v":""},{"$f":"CONCATENATE(H316,\"-\",AG316)","v":"-"},{"$f":"CONCATENATE(M316,\"-\",AH316)","v":"--"}]
[{"$f":"IF(ISBLANK(B317),\"\",$C$2)","v":""},null,null,{"$f":"IF(ISBLANK(B317),\"\",COUNTA(#REF!))","v":""},null,null,null,null,null,null,null,null,null,null,{"$f":"IF(AND(K317<>\"\",ISBLANK(N317),K317<TODAY()),\"Oui\",\"Non\")","v":"Non"},{"$f":"IF(ISBLANK(I317),\"\",IF(K317=\"\",\"délai à préciser\",IF(M317=\"\",\"statut à préciser\",IF(M317=\"finalisée\",IF(N317=\"\",\"date de solde à préciser\",IF(K317>=N317,\"fait\",\"retard\")),(IF(K317<TODAY(),\"retard\",\"Ok\"))))))","v":""},{"$f":"IF(AND(N317<>\"\",ISBLANK(N317),K317<TODAY()),\"Oui\",\"Non\")","v":"Non"},null,{"$f":"IF(ISBLANK(H317),\"\",IF(OR(H317=\"Préventive\",H317=\"Corrective\"),\"Oui\",\"Non\"))","v":""},null,null,null,null,null,{"$f":"IF(AND(U317<>\"\",ISBLANK(X317),U317<TODAY()),\"Oui\",\"Non\")","v":"Non"},{"$f":"IF(AND(S317=\"Oui\",ISBLANK(X317)),\"Oui\",\"Non\")","v":"Non"},null,null,null,null,{"$f":"IF(K317=\"\",\"\",K317-TODAY())","v":""},{"$f":"IF(ISBLANK(F317),CONCATENATE(E317,\" - \",AG317),CONCATENATE(F317,\" - \",AG317))","v":" - "},{"$f":"IF(ISBLANK(B317),\"\",YEAR(C317))","v":""},{"$f":"CONCATENATE(H317,\"-\",AG317)","v":"-"},{"$f":"CONCATENATE(M317,\"-\",AH317)","v":"--"}]
[{"$f":"IF(ISBLANK(B318),\"\",$C$2)","v":""},null,null,{"$f":"IF(ISBLANK(B318),\"\",COUNTA(#REF!))","v":""},null,null,null,null,null,null,null,null,null,null,{"$f":"IF(AND(K318<>\"\",ISBLANK(N318),K318<TODAY()),\"Oui\",\"Non\")","v":"Non"},{"$f":"IF(ISBLANK(I318),\"\",IF(K318=\"\",\"délai à préciser\",IF(M318=\"\",\"statut à préciser\",IF(M318=\"finalisée\",IF(N318=\"\",\"date de solde à préciser\",IF(K318>=N318,\"fait\",\"retard\")),(IF(K318<TODAY(),\"retard\",\"Ok\"))))))","v":""},{"$f":"IF(AND(N318<>\"\",ISBLANK(N318),K318<TODAY()),\"Oui\",\"Non\")","v":"Non"},null,{"$f":"IF(ISBLANK(H318),\"\",IF(OR(H318=\"Préventive\",H318=\"Corrective\"),\"Oui\",\"Non\"))","v":""},null,null,null,null,null,{"$f":"IF(AND(U318<>\"\",ISBLANK(X318),U318<TODAY()),\"Oui\",\"Non\")","v":"Non"},{"$f":"IF(AND(S318=\"Oui\",ISBLANK(X318)),\"Oui\",\"Non\")","v":"Non"},null,null,null,null,{"$f":"IF(K318=\"\",\"\",K318-TODAY())","v":""},{"$f":"IF(ISBLANK(F318),CONCATENATE(E318,\" - \",AG318),CONCATENATE(F318,\" - \",AG318))","v":" - "},{"$f":"IF(ISBLANK(B318),\"\",YEAR(C318))","v":""},{"$f":"CONCATENATE(H318,\"-\",AG318)","v":"-"},{"$f":"CONCATENATE(M318,\"-\",AH318)","v":"--"}]
[{"$f":"IF(ISBLANK(B319),\"\",$C$2)","v":""},null,null,{"$f":"IF(ISBLANK(B319),\"\",COUNTA(#REF!))","v":""},null,null,null,null,null,null,null,null,null,null,{"$f":"IF(AND(K319<>\"\",ISBLANK(N319),K319<TODAY()),\"Oui\",\"Non\")","v":"Non"},{"$f":"IF(ISBLANK(I319),\"\",IF(K319=\"\",\"délai à préciser\",IF(M319=\"\",\"statut à préciser\",IF(M319=\"finalisée\",IF(N319=\"\",\"date de solde à préciser\",IF(K319>=N319,\"fait\",\"retard\")),(IF(K319<TODAY(),\"retard\",\"Ok\"))))))","v":""},{"$f":"IF(AND(N319<>\"\",ISBLANK(N319),K319<TODAY()),\"Oui\",\"Non\")","v":"Non"},null,{"$f":"IF(ISBLANK(H319),\"\",IF(OR(H319=\"Préventive\",H319=\"Corrective\"),\"Oui\",\"Non\"))","v":""},null,null,null,null,null,{"$f":"IF(AND(U319<>\"\",ISBLANK(X319),U319<TODAY()),\"Oui\",\"Non\")","v":"Non"},{"$f":"IF(AND(S319=\"Oui\",ISBLANK(X319)),\"Oui\",\"Non\")","v":"Non"},null,null,null,null,{"$f":"IF(K319=\"\",\"\",K319-TODAY())","v":""},{"$f":"IF(ISBLANK(F319),CONCATENATE(E319,\" - \",AG319),CONCATENATE(F319,\" - \",AG319))","v":" - "},{"$f":"IF(ISBLANK(B319),\"\",YEAR(C319))","v":""},{"$f":"CONCATENATE(H319,\"-\",AG319)","v":"-"},{"$f":"CONCATENATE(M319,\"-\",AH319)","v":"--"}]
[{"$f":"IF(ISBLANK(B320),\"\",$C$2)","v":""},null,null,{"$f":"IF(ISBLANK(B320),\"\",COUNTA(#REF!))","v":""},null,null,null,null,null,null,null,null,null,null,{"$f":"IF(AND(K320<>\"\",ISBLANK(N320),K320<TODAY()),\"Oui\",\"Non\")","v":"Non"},{"$f":"IF(ISBLANK(I320),\"\",IF(K320=\"\",\"délai à préciser\",IF(M320=\"\",\"statut à préciser\",IF(M320=\"finalisée\",IF(N320=\"\",\"date de solde à préciser\",IF(K320>=N320,\"fait\",\"retard\")),(IF(K320<TODAY(),\"retard\",\"Ok\"))))))","v":""},{"$f":"IF(AND(N320<>\"\",ISBLANK(N320),K320<TODAY()),\"Oui\",\"Non\")","v":"Non"},null,{"$f":"IF(ISBLANK(H320),\"\",IF(OR(H320=\"Préventive\",H320=\"Corrective\"),\"Oui\",\"Non\"))","v":""},null,null,null,null,null,{"$f":"IF(AND(U320<>\"\",ISBLANK(X320),U320<TODAY()),\"Oui\",\"Non\")","v":"Non"},{"$f":"IF(AND(S320=\"Oui\",ISBLANK(X320)),\"Oui\",\"Non\")","v":"Non"},null,null,null,null,{"$f":"IF(K320=\"\",\"\",K320-TODAY())","v":""},{"$f":"IF(ISBLANK(F320),CONCATENATE(E320,\" - \",AG320),CONCATENATE(F320,\" - \",AG320))","v":" - "},{"$f":"IF(ISBLANK(B320),\"\",YEAR(C320))","v":""},{"$f":"CONCATENATE(H320,\"-\",AG320)","v":"-"},{"$f":"CONCATENATE(M320,\"-\",AH320)","v":"--"}]
[{"$f":"IF(ISBLANK(B321),\"\",$C$2)","v":""},null,null,{"$f":"IF(ISBLANK(B321),\"\",COUNTA(#REF!))","v":""},null,null,null,null,null,null,null,null,null,null,{"$f":"IF(AND(K321<>\"\",ISBLANK(N321),K321<TODAY()),\"Oui\",\"Non\")","v":"Non"},{"$f":"IF(ISBLANK(I321),\"\",IF(K321=\"\",\"délai à préciser\",IF(M321=\"\",\"statut à préciser\",IF(M321=\"finalisée\",IF(N321=\"\",\"date de solde à préciser\",IF(K321>=N321,\"fait\",\"retard\")),(IF(K321<TODAY(),\"retard\",\"Ok\"))))))","v":""},{"$f":"IF(AND(N321<>\"\",ISBLANK(N321),K321<TODAY()),\"Oui\",\"Non\")","v":"Non"},null,{"$f":"IF(ISBLANK(H321),\"\",IF(OR(H321=\"Préventive\",H321=\"Corrective\"),\"Oui\",\"Non\"))","v":""},null,null,null,null,null,{"$f":"IF(AND(U321<>\"\",ISBLANK(X321),U321<TODAY()),\"Oui\",\"Non\")","v":"Non"},{"$f":"IF(AND(S321=\"Oui\",ISBLANK(X321)),\"Oui\",\"Non\")","v":"Non"},null,null,null,null,{"$f":"IF(K321=\"\",\"\",K321-TODAY())","v":""},{"$f":"IF(ISBLANK(F321),CONCATENATE(E321,\" - \",AG321),CONCATENATE(F321,\" - \",AG321))","v":" - "},{"$f":"IF(ISBLANK(B321),\"\",YEAR(C321))","v":""},{"$f":"CONCATENATE(H321,\"-\",AG321)","v":"-"},{"$f":"CONCATENATE(M321,\"-\",AH321)","v":"--"}]
[{"$f":"IF(ISBLANK(B322),\"\",$C$2)","v":""},null,null,{"$f":"IF(ISBLANK(B322),\"\",COUNTA(#REF!))","v":""},null,null,null,null,null,null,null,null,null,null,{"$f":"IF(AND(K322<>\"\",ISBLANK(N322),K322<TODAY()),\"Oui\",\"Non\")","v":"Non"},{"$f":"IF(ISBLANK(I322),\"\",IF(K322=\"\",\"délai à préciser\",IF(M322=\"\",\"statut à préciser\",IF(M322=\"finalisée\",IF(N322=\"\",\"date de solde à préciser\",IF(K322>=N322,\"fait\",\"retard\")),(IF(K322<TODAY(),\"retard\",\"Ok\"))))))","v":""},{"$f":"IF(AND(N322<>\"\",ISBLANK(N322),K322<TODAY()),\"Oui\",\"Non\")","v":"Non"},null,{"$f":"IF(ISBLANK(H322),\"\",IF(OR(H322=\"Préventive\",H322=\"Corrective\"),\"Oui\",\"Non\"))","v":""},null,null,null,null,null,{"$f":"IF(AND(U322<>\"\",ISBLANK(X322),U322<TODAY()),\"Oui\",\"Non\")","v":"Non"},{"$f":"IF(AND(S322=\"Oui\",ISBLANK(X322)),\"Oui\",\"Non\")","v":"Non"},null,null,null,null,{"$f":"IF(K322=\"\",\"\",K322-TODAY())","v":""},{"$f":"IF(ISBLANK(F322),CONCATENATE(E322,\" - \",AG322),CONCATENATE(F322,\" - \",AG322))","v":" - "},{"$f":"IF(ISBLANK(B322),\"\",YEAR(C322))","v":""},{"$f":"CONCATENATE(H322,\"-\",AG322)","v":"-"},{"$f":"CONCATENATE(M322,\"-\",AH322)","v":"--"}]
[{"$f":"IF(ISBLANK(B323),\"\",$C$2)","v":""},null,null,{"$f":"IF(ISBLANK(B323),\"\",COUNTA(#REF!))","v":""},null,null,null,null,null,null,null,null,null,null,{"$f":"IF(AND(K323<>\"\",ISBLANK(N323),K323<TODAY()),\"Oui\",\"Non\")","v":"Non"},{"$f":"IF(ISBLANK(I323),\"\",IF(K323=\"\",\"délai à préciser\",IF(M323=\"\",\"statut à préciser\",IF(M323=\"finalisée\",IF(N323=\"\",\"date de solde à préciser\",IF(K323>=N323,\"fait\",\"retard\")),(IF(K323<TODAY(),\"retard\",\"Ok\"))))))","v":""},{"$f":"IF(AND(N323<>\"\",ISBLANK(N323),K323<TODAY()),\"Oui\",\"Non\")","v":"Non"},null,{"$f":"IF(ISBLANK(H323),\"\",IF(OR(H323=\"Préventive\",H323=\"Corrective\"),\"Oui\",\"Non\"))","v":""},null,null,null,null,null,{"$f":"IF(AND(U323<>\"\",ISBLANK(X323),U323<TODAY()),\"Oui\",\"Non\")","v":"Non"},{"$f":"IF(AND(S323=\"Oui\",ISBLANK(X323)),\"Oui\",\"Non\")","v":"Non"},null,null,null,null,{"$f":"IF(K323=\"\",\"\",K323-TODAY())","v":""},{"$f":"IF(ISBLANK(F323),CONCATENATE(E323,\" - \",AG323),CONCATENATE(F323,\" - \",AG323))","v":" - "},{"$f":"IF(ISBLANK(B323),\"\",YEAR(C323))","v":""},{"$f":"CONCATENATE(H323,\"-\",AG323)","v":"-"},{"$f":"CONCATENATE(M323,\"-\",AH323)","v":"--"}]
[{"$f":"IF(ISBLANK(B324),\"\",$C$2)","v":""},null,null,{"$f":"IF(ISBLANK(B324),\"\",COUNTA(#REF!))","v":""},null,null,null,null,null,null,null,null,null,null,{"$f":"IF(AND(K324<>\"\",ISBLANK(N324),K324<TODAY()),\"Oui\",\"Non\")","v":"Non"},{"$f":"IF(ISBLANK(I324),\"\",IF(K324=\"\",\"délai à préciser\",IF(M324=\"\",\"statut à préciser\",IF(M324=\"finalisée\",IF(N324=\"\",\"date de solde à préciser\",IF(K324>=N324,\"fait\",\"retard\")),(IF(K324<TODAY(),\"retard\",\"Ok\"))))))","v":""},{"$f":"IF(AND(N324<>\"\",ISBLANK(N324),K324<TODAY()),\"Oui\",\"Non\")","v":"Non"},null,{"$f":"IF(ISBLANK(H324),\"\",IF(OR(H324=\"Préventive\",H324=\"Corrective\"),\"Oui\",\"Non\"))","v":""},null,null,null,null,null,{"$f":"IF(AND(U324<>\"\",ISBLANK(X324),U324<TODAY()),\"Oui\",\"Non\")","v":"Non"},{"$f":"IF(AND(S324=\"Oui\",ISBLANK(X324)),\"Oui\",\"Non\")","v":"Non"},null,null,null,null,{"$f":"IF(K324=\"\",\"\",K324-TODAY())","v":""},{"$f":"IF(ISBLANK(F324),CONCATENATE(E324,\" - \",AG324),CONCATENATE(F324,\" - \",AG324))","v":" - "},{"$f":"IF(ISBLANK(B324),\"\",YEAR(C324))","v":""},{"$f":"CONCATENATE(H324,\"-\",AG324)","v":"-"},{"$f":"CONCATENATE(M324,\"-\",AH324)","v":"--"}]
[{"$f":"IF(ISBLANK(B325),\"\",$C$2)","v":""},null,null,{"$f":"IF(ISBLANK(B325),\"\",COUNTA(#REF!))","v":""},null,null,null,null,null,null,null,null,null,null,{"$f":"IF(AND(K325<>\"\",ISBLANK(N325),K325<TODAY()),\"Oui\",\"Non\")","v":"Non"},{"$f":"IF(ISBLANK(I325),\"\",IF(K325=\"\",\"délai à préciser\",IF(M325=\"\",\"statut à préciser\",IF(M325=\"finalisée\",IF(N325=\"\",\"date de solde à préciser\",IF(K325>=N325,\"fait\",\"retard\")),(IF(K325<TODAY(),\"retard\",\"Ok\"))))))","v":""},{"$f":"IF(AND(N325<>\"\",ISBLANK(N325),K325<TODAY()),\"Oui\",\"Non\")","v":"Non"},null,{"$f":"IF(ISBLANK(H325),\"\",IF(OR(H325=\"Préventive\",H325=\"Corrective\"),\"Oui\",\"Non\"))","v":""},null,null,null,null,null,{"$f":"IF(AND(U325<>\"\",ISBLANK(X325),U325<TODAY()),\"Oui\",\"Non\")","v":"Non"},{"$f":"IF(AND(S325=\"Oui\",ISBLANK(X325)),\"Oui\",\"Non\")","v":"Non"},null,null,null,null,{"$f":"IF(K325=\"\",\"\",K325-TODAY())","v":""},{"$f":"IF(ISBLANK(F325),CONCATENATE(E325,\" - \",AG325),CONCATENATE(F325,\" - \",AG325))","v":" - "},{"$f":"IF(ISBLANK(B325),\"\",YEAR(C325))","v":""},{"$f":"CONCATENATE(H325,\"-\",AG325)","v":"-"},{"$f":"CONCATENATE(M325,\"-\",AH325)","v":"--"}]
[{"$f":"IF(ISBLANK(B326),\"\",$C$2)","v":""},null,null,{"$f":"IF(ISBLANK(B326),\"\",COUNTA(#REF!))","v":""},null,null,null,null,null,null,null,null,null,null,{"$f":"IF(AND(K326<>\"\",ISBLANK(N326),K326<TODAY()),\"Oui\",\"Non\")","v":"Non"},{"$f":"IF(ISBLANK(I326),\"\",IF(K326=\"\",\"délai à préciser\",IF(M326=\"\",\"statut à préciser\",IF(M326=\"finalisée\",IF(N326=\"\",\"date de solde à préciser\",IF(K326>=N326,\"fait\",\"retard\")),(IF(K326<TODAY(),\"retard\",\"Ok\"))))))","v":""},{"$f":"IF(AND(N326<>\"\",ISBLANK(N326),K326<TODAY()),\"Oui\",\"Non\")","v":"Non"},null,{"$f":"IF(ISBLANK(H326),\"\",IF(OR(H326=\"Préventive\",H326=\"Corrective\"),\"Oui\",\"Non\"))","v":""},null,null,null,null,null,{"$f":"IF(AND(U326<>\"\",ISBLANK(X326),U326<TODAY()),\"Oui\",\"Non\")","v":"Non"},{"$f":"IF(AND(S326=\"Oui\",ISBLANK(X326)),\"Oui\",\"Non\")","v":"Non"},null,null,null,null,{"$f":"IF(K326=\"\",\"\",K326-TODAY())","v":""},{"$f":"IF(ISBLANK(F326),CONCATENATE(E326,\" - \",AG326),CONCATENATE(F326,\" - \",AG326))","v":" - "},{"$f":"IF(ISBLANK(B326),\"\",YEAR(C326))","v":""},{"$f":"CONCATENATE(H326,\"-\",AG326)","v":"-"},{"$f":"CONCATENATE(M326,\"-\",AH326)","v":"--"}]
[{"$f":"IF(ISBLANK(B327),\"\",$C$2)","v":""},null,null,{"$f":"IF(ISBLANK(B327),\"\",COUNTA(#REF!))","v":""},null,null,null,null,null,null,null,null,null,null,{"$f":"IF(AND(K327<>\"\",ISBLANK(N327),K327<TODAY()),\"Oui\",\"Non\")","v":"Non"},{"$f":"IF(ISBLANK(I327),\"\",IF(K327=\"\",\"délai à préciser\",IF(M327=\"\",\"statut à préciser\",IF(M327=\"finalisée\",IF(N327=\"\",\"date de solde à préciser\",IF(K327>=N327,\"fait\",\"retard\")),(IF(K327<TODAY(),\"retard\",\"Ok\"))))))","v":""},{"$f":"IF(AND(N327<>\"\",ISBLANK(N327),K327<TODAY()),\"Oui\",\"Non\")","v":"Non"},null,{"$f":"IF(ISBLANK(H327),\"\",IF(OR(H327=\"Préventive\",H327=\"Corrective\"),\"Oui\",\"Non\"))","v":""},null,null,null,null,null,{"$f":"IF(AND(U327<>\"\",ISBLANK(X327),U327<TODAY()),\"Oui\",\"Non\")","v":"Non"},{"$f":"IF(AND(S327=\"Oui\",ISBLANK(X327)),\"Oui\",\"Non\")","v":"Non"},null,null,null,null,{"$f":"IF(K327=\"\",\"\",K327-TODAY())","v":""},{"$f":"IF(ISBLANK(F327),CONCATENATE(E327,\" - \",AG327),CONCATENATE(F327,\" - \",AG327))","v":" - "},{"$f":"IF(ISBLANK(B327),\"\",YEAR(C327))","v":""},{"$f":"CONCATENATE(H327,\"-\",AG327)","v":"-"},{"$f":"CONCATENATE(M327,\"-\",AH327)","v":"--"}]
[{"$f":"IF(ISBLANK(B328),\"\",$C$2)","v":""},null,null,{"$f":"IF(ISBLANK(B328),\"\",COUNTA(#REF!))","v":""},null,null,null,null,null,null,null,null,null,null,{"$f":"IF(AND(K328<>\"\",ISBLANK(N328),K328<TODAY()),\"Oui\",\"Non\")","v":"Non"},{"$f":"IF(ISBLANK(I328),\"\",IF(K328=\"\",\"délai à préciser\",IF(M328=\"\",\"statut à préciser\",IF(M328=\"finalisée\",IF(N328=\"\",\"date de solde à préciser\",IF(K328>=N328,\"fait\",\"retard\")),(IF(K328<TODAY(),\"retard\",\"Ok\"))))))","v":""},{"$f":"IF(AND(N328<>\"\",ISBLANK(N328),K328<TODAY()),\"Oui\",\"Non\")","v":"Non"},null,{"$f":"IF(ISBLANK(H328),\"\",IF(OR(H328=\"Préventive\",H328=\"Corrective\"),\"Oui\",\"Non\"))","v":""},null,null,null,null,null,{"$f":"IF(AND(U328<>\"\",ISBLANK(X328),U328<TODAY()),\"Oui\",\"Non\")","v":"Non"},{"$f":"IF(AND(S328=\"Oui\",ISBLANK(X328)),\"Oui\",\"Non\")","v":"Non"},null,null,null,null,{"$f":"IF(K328=\"\",\"\",K328-TODAY())","v":""},{"$f":"IF(ISBLANK(F328),CONCATENATE(E328,\" - \",AG328),CONCATENATE(F328,\" - \",AG328))","v":" - "},{"$f":"IF(ISBLANK(B328),\"\",YEAR(C328))","v":""},{"$f":"CONCATENATE(H328,\"-\",AG328)","v":"-"},{"$f":"CONCATENATE(M328,\"-\",AH328)","v":"--"}]
[{"$f":"IF(ISBLANK(B329),\"\",$C$2)","v":""},null,null,{"$f":"IF(ISBLANK(B329),\"\",COUNTA(#REF!))","v":""},null,null,null,null,null,null,null,null,null,null,{"$f":"IF(AND(K329<>\"\",ISBLANK(N329),K329<TODAY()),\"Oui\",\"Non\")","v":"Non"},{"$f":"IF(ISBLANK(I329),\"\",IF(K329=\"\",\"délai à préciser\",IF(M329=\"\",\"statut à préciser\",IF(M329=\"finalisée\",IF(N329=\"\",\"date de solde à préciser\",IF(K329>=N329,\"fait\",\"retard\")),(IF(K329<TODAY(),\"retard\",\"Ok\"))))))","v":""},{"$f":"IF(AND(N329<>\"\",ISBLANK(N329),K329<TODAY()),\"Oui\",\"Non\")","v":"Non"},null,{"$f":"IF(ISBLANK(H329),\"\",IF(OR(H329=\"Préventive\",H329=\"Corrective\"),\"Oui\",\"Non\"))","v":""},null,null,null,null,null,{"$f":"IF(AND(U329<>\"\",ISBLANK(X329),U329<TODAY()),\"Oui\",\"Non\")","v":"Non"},{"$f":"IF(AND(S329=\"Oui\",ISBLANK(X329)),\"Oui\",\"Non\")","v":"Non"},null,null,null,null,{"$f":"IF(K329=\"\",\"\",K329-TODAY())","v":""},{"$f":"IF(ISBLANK(F329),CONCATENATE(E329,\" - \",AG329),CONCATENATE(F329,\" - \",AG329))","v":" - "},{"$f":"IF(ISBLANK(B329),\"\",YEAR(C329))","v":""},{"$f":"CONCATENATE(H329,\"-\",AG329)","v":"-"},{"$f":"CONCATENATE(M329,\"-\",AH329)","v":"--"}]
[{"$f":"IF(ISBLANK(B330),\"\",$C$2)","v":""},null,null,{"$f":"IF(ISBLANK(B330),\"\",COUNTA(#REF!))","v":""},null,null,null,null,null,null,null,null,null,null,{"$f":"IF(AND(K330<>\"\",ISBLANK(N330),K330<TODAY()),\"Oui\",\"Non\")","v":"Non"},{"$f":"IF(ISBLANK(I330),\"\",IF(K330=\"\",\"délai à préciser\",IF(M330=\"\",\"statut à préciser\",IF(M330=\"finalisée\",IF(N330=\"\",\"date de solde à préciser\",IF(K330>=N330,\"fait\",\"retard\")),(IF(K330<TODAY(),\"retard\",\"Ok\"))))))","v":""},{"$f":"IF(AND(N330<>\"\",ISBLANK(N330),K330<TODAY()),\"Oui\",\"Non\")","v":"Non"},null,{"$f":"IF(ISBLANK(H330),\"\",IF(OR(H330=\"Préventive\",H330=\"Corrective\"),\"Oui\",\"Non\"))","v":""},null,null,null,null,null,{"$f":"IF(AND(U330<>\"\",ISBLANK(X330),U330<TODAY()),\"Oui\",\"Non\")","v":"Non"},{"$f":"IF(AND(S330=\"Oui\",ISBLANK(X330)),\"Oui\",\"Non\")","v":"Non"},null,null,null,null,{"$f":"IF(K330=\"\",\"\",K330-TODAY())","v":""},{"$f":"IF(ISBLANK(F330),CONCATENATE(E330,\" - \",AG330),CONCATENATE(F330,\" - \",AG330))","v":" - "},{"$f":"IF(ISBLANK(B330),\"\",YEAR(C330))","v":""},{"$f":"CONCATENATE(H330,\"-\",AG330)","v":"-"},{"$f":"CONCATENATE(M330,\"-\",AH330)","v":"--"}]
[{"$f":"IF(ISBLANK(B331),\"\",$C$2)","v":""},null,null,{"$f":"IF(ISBLANK(B331),\"\",COUNTA(#REF!))","v":""},null,null,null,null,null,null,null,null,null,null,{"$f":"IF(AND(K331<>\"\",ISBLANK(N331),K331<TODAY()),\"Oui\",\"Non\")","v":"Non"},{"$f":"IF(ISBLANK(I331),\"\",IF(K331=\"\",\"délai à préciser\",IF(M331=\"\",\"statut à préciser\",IF(M331=\"finalisée\",IF(N331=\"\",\"date de solde à préciser\",IF(K331>=N331,\"fait\",\"retard\")),(IF(K331<TODAY(),\"retard\",\"Ok\"))))))","v":""},{"$f":"IF(AND(N331<>\"\",ISBLANK(N331),K331<TODAY()),\"Oui\",\"Non\")","v":"Non"},null,{"$f":"IF(ISBLANK(H331),\"\",IF(OR(H331=\"Préventive\",H331=\"Corrective\"),\"Oui\",\"Non\"))","v":""},null,null,null,null,null,{"$f":"IF(AND(U331<>\"\",ISBLANK(X331),U331<TODAY()),\"Oui\",\"Non\")","v":"Non"},{"$f":"IF(AND(S331=\"Oui\",ISBLANK(X331)),\"Oui\",\"Non\")","v":"Non"},null,null,null,null,{"$f":"IF(K331=\"\",\"\",K331-TODAY())","v":""},{"$f":"IF(ISBLANK(F331),CONCATENATE(E331,\" - \",AG331),CONCATENATE(F331,\" - \",AG331))","v":" - "},{"$f":"IF(ISBLANK(B331),\"\",YEAR(C331))","v":""},{"$f":"CONCATENATE(H331,\"-\",AG331)","v":"-"},{"$f":"CONCATENATE(M331,\"-\",AH331)","v":"--"}]
[{"$f":"IF(ISBLANK(B332),\"\",$C$2)","v":""},null,null,{"$f":"IF(ISBLANK(B332),\"\",COUNTA(#REF!))","v":""},null,null,null,null,null,null,null,null,null,null,{"$f":"IF(AND(K332<>\"\",ISBLANK(N332),K332<TODAY()),\"Oui\",\"Non\")","v":"Non"},{"$f":"IF(ISBLANK(I332),\"\",IF(K332=\"\",\"délai à préciser\",IF(M332=\"\",\"statut à préciser\",IF(M332=\"finalisée\",IF(N332=\"\",\"date de solde à préciser\",IF(K332>=N332,\"fait\",\"retard\")),(IF(K332<TODAY(),\"retard\",\"Ok\"))))))","v":""},{"$f":"IF(AND(N332<>\"\",ISBLANK(N332),K332<TODAY()),\"Oui\",\"Non\")","v":"Non"},null,{"$f":"IF(ISBLANK(H332),\"\",IF(OR(H332=\"Préventive\",H332=\"Corrective\"),\"Oui\",\"Non\"))","v":""},null,null,null,null,null,{"$f":"IF(AND(U332<>\"\",ISBLANK(X332),U332<TODAY()),\"Oui\",\"Non\")","v":"Non"},{"$f":"IF(AND(S332=\"Oui\",ISBLANK(X332)),\"Oui\",\"Non\")","v":"Non"},null,null,null,null,{"$f":"IF(K332=\"\",\"\",K332-TODAY())","v":""},{"$f":"IF(ISBLANK(F332),CONCATENATE(E332,\" - \",AG332),CONCATENATE(F332,\" - \",AG332))","v":" - "},{"$f":"IF(ISBLANK(B332),\"\",YEAR(C332))","v":""},{"$f":"CONCATENATE(H332,\"-\",AG332)","v":"-"},{"$f":"CONCATENATE(M332,\"-\",AH332)","v":"--"}]
[{"$f":"IF(ISBLANK(B333),\"\",$C$2)","v":""},null,null,{"$f":"IF(ISBLANK(B333),\"\",COUNTA(#REF!))","v":""},null,null,null,null,null,null,null,null,null,null,{"$f":"IF(AND(K333<>\"\",ISBLANK(N333),K333<TODAY()),\"Oui\",\"Non\")","v":"Non"},{"$f":"IF(ISBLANK(I333),\"\",IF(K333=\"\",\"délai à préciser\",IF(M333=\"\",\"statut à préciser\",IF(M333=\"finalisée\",IF(N333=\"\",\"date de solde à préciser\",IF(K333>=N333,\"fait\",\"retard\")),(IF(K333<TODAY(),\"retard\",\"Ok\"))))))","v":""},{"$f":"IF(AND(N333<>\"\",ISBLANK(N333),K333<TODAY()),\"Oui\",\"Non\")","v":"Non"},null,{"$f":"IF(ISBLANK(H333),\"\",IF(OR(H333=\"Préventive\",H333=\"Corrective\"),\"Oui\",\"Non\"))","v":""},null,null,null,null,null,{"$f":"IF(AND(U333<>\"\",ISBLANK(X333),U333<TODAY()),\"Oui\",\"Non\")","v":"Non"},{"$f":"IF(AND(S333=\"Oui\",ISBLANK(X333)),\"Oui\",\"Non\")","v":"Non"},null,null,null,null,{"$f":"IF(K333=\"\",\"\",K333-TODAY())","v":""},{"$f":"IF(ISBLANK(F333),CONCATENATE(E333,\" - \",AG333),CONCATENATE(F333,\" - \",AG333))","v":" - "},{"$f":"IF(ISBLANK(B333),\"\",YEAR(C333))","v":""},{"$f":"CONCATENATE(H333,\"-\",AG333)","v":"-"},{"$f":"CONCATENATE(M333,\"-\",AH333)","v":"--"}]
[{"$f":"IF(ISBLANK(B334),\"\",$C$2)","v":""},null,null,{"$f":"IF(ISBLANK(B334),\"\",COUNTA(#REF!))","v":""},null,null,null,null,null,null,null,null,null,null,{"$f":"IF(AND(K334<>\"\",ISBLANK(N334),K334<TODAY()),\"Oui\",\"Non\")","v":"Non"},{"$f":"IF(ISBLANK(I334),\"\",IF(K334=\"\",\"délai à préciser\",IF(M334=\"\",\"statut à préciser\",IF(M334=\"finalisée\",IF(N334=\"\",\"date de solde à préciser\",IF(K334>=N334,\"fait\",\"retard\")),(IF(K334<TODAY(),\"retard\",\"Ok\"))))))","v":""},{"$f":"IF(AND(N334<>\"\",ISBLANK(N334),K334<TODAY()),\"Oui\",\"Non\")","v":"Non"},null,{"$f":"IF(ISBLANK(H334),\"\",IF(OR(H334=\"Préventive\",H334=\"Corrective\"),\"Oui\",\"Non\"))","v":""},null,null,null,null,null,{"$f":"IF(AND(U334<>\"\",ISBLANK(X334),U334<TODAY()),\"Oui\",\"Non\")","v":"Non"},{"$f":"IF(AND(S334=\"Oui\",ISBLANK(X334)),\"Oui\",\"Non\")","v":"Non"},null,null,null,null,{"$f":"IF(K334=\"\",\"\",K334-TODAY())","v":""},{"$f":"IF(ISBLANK(F334),CONCATENATE(E334,\" - \",AG334),CONCATENATE(F334,\" - \",AG334))","v":" - "},{"$f":"IF(ISBLANK(B334),\"\",YEAR(C334))","v":""},{"$f":"CONCATENATE(H334,\"-\",AG334)","v":"-"},{"$f":"CONCATENATE(M334,\"-\",AH334)","v":"--"}]
[{"$f":"IF(ISBLANK(B335),\"\",$C$2)","v":""},null,null,{"$f":"IF(ISBLANK(B335),\"\",COUNTA(#REF!))","v":""},null,null,null,null,null,null,null,null,null,null,{"$f":"IF(AND(K335<>\"\",ISBLANK(N335),K335<TODAY()),\"Oui\",\"Non\")","v":"Non"},{"$f":"IF(ISBLANK(I335),\"\",IF(K335=\"\",\"délai à préciser\",IF(M335=\"\",\"statut à préciser\",IF(M335=\"finalisée\",IF(N335=\"\",\"date de solde à préciser\",IF(K335>=N335,\"fait\",\"retard\")),(IF(K335<TODAY(),\"retard\",\"Ok\"))))))","v":""},{"$f":"IF(AND(N335<>\"\",ISBLANK(N335),K335<TODAY()),\"Oui\",\"Non\")","v":"Non"},null,{"$f":"IF(ISBLANK(H335),\"\",IF(OR(H335=\"Préventive\",H335=\"Corrective\"),\"Oui\",\"Non\"))","v":""},null,null,null,null,null,{"$f":"IF(AND(U335<>\"\",ISBLANK(X335),U335<TODAY()),\"Oui\",\"Non\")","v":"Non"},{"$f":"IF(AND(S335=\"Oui\",ISBLANK(X335)),\"Oui\",\"Non\")","v":"Non"},null,null,null,null,{"$f":"IF(K335=\"\",\"\",K335-TODAY())","v":""},{"$f":"IF(ISBLANK(F335),CONCATENATE(E335,\" - \",AG335),CONCATENATE(F335,\" - \",AG335))","v":" - "},{"$f":"IF(ISBLANK(B335),\"\",YEAR(C335))","v":""},{"$f":"CONCATENATE(H335,\"-\",AG335)","v":"-"},{"$f":"CONCATENATE(M335,\"-\",AH335)","v":"--"}]
[{"$f":"IF(ISBLANK(B336),\"\",$C$2)","v":""},null,null,{"$f":"IF(ISBLANK(B336),\"\",COUNTA(#REF!))","v":""},null,null,null,null,null,null,null,null,null,null,{"$f":"IF(AND(K336<>\"\",ISBLANK(N336),K336<TODAY()),\"Oui\",\"Non\")","v":"Non"},{"$f":"IF(ISBLANK(I336),\"\",IF(K336=\"\",\"délai à préciser\",IF(M336=\"\",\"statut à préciser\",IF(M336=\"finalisée\",IF(N336=\"\",\"date de solde à préciser\",IF(K336>=N336,\"fait\",\"retard\")),(IF(K336<TODAY(),\"retard\",\"Ok\"))))))","v":""},{"$f":"IF(AND(N336<>\"\",ISBLANK(N336),K336<TODAY()),\"Oui\",\"Non\")","v":"Non"},null,{"$f":"IF(ISBLANK(H336),\"\",IF(OR(H336=\"Préventive\",H336=\"Corrective\"),\"Oui\",\"Non\"))","v":""},null,null,null,null,null,{"$f":"IF(AND(U336<>\"\",ISBLANK(X336),U336<TODAY()),\"Oui\",\"Non\")","v":"Non"},{"$f":"IF(AND(S336=\"Oui\",ISBLANK(X336)),\"Oui\",\"Non\")","v":"Non"},null,null,null,null,{"$f":"IF(K336=\"\",\"\",K336-TODAY())","v":""},{"$f":"IF(ISBLANK(F336),CONCATENATE(E336,\" - \",AG336),CONCATENATE(F336,\" - \",AG336))","v":" - "},{"$f":"IF(ISBLANK(B336),\"\",YEAR(C336))","v":""},{"$f":"CONCATENATE(H336,\"-\",AG336)","v":"-"},{"$f":"CONCATENATE(M336,\"-\",AH336)","v":"--"}]
[{"$f":"IF(ISBLANK(B337),\"\",$C$2)","v":""},null,null,{"$f":"IF(ISBLANK(B337),\"\",COUNTA(#REF!))","v":""},null,null,null,null,null,null,null,null,null,null,{"$f":"IF(AND(K337<>\"\",ISBLANK(N337),K337<TODAY()),\"Oui\",\"Non\")","v":"Non"},{"$f":"IF(ISBLANK(I337),\"\",IF(K337=\"\",\"délai à préciser\",IF(M337=\"\",\"statut à préciser\",IF(M337=\"finalisée\",IF(N337=\"\",\"date de solde à préciser\",IF(K337>=N337,\"fait\",\"retard\")),(IF(K337<TODAY(),\"retard\",\"Ok\"))))))","v":""},{"$f":"IF(AND(N337<>\"\",ISBLANK(N337),K337<TODAY()),\"Oui\",\"Non\")","v":"Non"},null,{"$f":"IF(ISBLANK(H337),\"\",IF(OR(H337=\"Préventive\",H337=\"Corrective\"),\"Oui\",\"Non\"))","v":""},null,null,null,null,null,{"$f":"IF(AND(U337<>\"\",ISBLANK(X337),U337<TODAY()),\"Oui\",\"Non\")","v":"Non"},{"$f":"IF(AND(S337=\"Oui\",ISBLANK(X337)),\"Oui\",\"Non\")","v":"Non"},null,null,null,null,{"$f":"IF(K337=\"\",\"\",K337-TODAY())","v":""},{"$f":"IF(ISBLANK(F337),CONCATENATE(E337,\" - \",AG337),CONCATENATE(F337,\" - \",AG337))","v":" - "},{"$f":"IF(ISBLANK(B337),\"\",YEAR(C337))","v":""},{"$f":"CONCATENATE(H337,\"-\",AG337)","v":"-"},{"$f":"CONCATENATE(M337,\"-\",AH337)","v":"--"}]
[{"$f":"IF(ISBLANK(B338),\"\",$C$2)","v":""},null,null,{"$f":"IF(ISBLANK(B338),\"\",COUNTA(#REF!))","v":""},null,null,null,null,null,null,null,null,null,null,{"$f":"IF(AND(K338<>\"\",ISBLANK(N338),K338<TODAY()),\"Oui\",\"Non\")","v":"Non"},{"$f":"IF(ISBLANK(I338),\"\",IF(K338=\"\",\"délai à préciser\",IF(M338=\"\",\"statut à préciser\",IF(M338=\"finalisée\",IF(N338=\"\",\"date de solde à préciser\",IF(K338>=N338,\"fait\",\"retard\")),(IF(K338<TODAY(),\"retard\",\"Ok\"))))))","v":""},{"$f":"IF(AND(N338<>\"\",ISBLANK(N338),K338<TODAY()),\"Oui\",\"Non\")","v":"Non"},null,{"$f":"IF(ISBLANK(H338),\"\",IF(OR(H338=\"Préventive\",H338=\"Corrective\"),\"Oui\",\"Non\"))","v":""},null,null,null,null,null,{"$f":"IF(AND(U338<>\"\",ISBLANK(X338),U338<TODAY()),\"Oui\",\"Non\")","v":"Non"},{"$f":"IF(AND(S338=\"Oui\",ISBLANK(X338)),\"Oui\",\"Non\")","v":"Non"},null,null,null,null,{"$f":"IF(K338=\"\",\"\",K338-TODAY())","v":""},{"$f":"IF(ISBLANK(F338),CONCATENATE(E338,\" - \",AG338),CONCATENATE(F338,\" - \",AG338))","v":" - "},{"$f":"IF(ISBLANK(B338),\"\",YEAR(C338))","v":""},{"$f":"CONCATENATE(H338,\"-\",AG338)","v":"-"},{"$f":"CONCATENATE(M338,\"-\",AH338)","v":"--"}]
[{"$f":"IF(ISBLANK(B339),\"\",$C$2)","v":""},null,null,{"$f":"IF(ISBLANK(B339),\"\",COUNTA(#REF!))","v":""},null,null,null,null,null,null,null,null,null,null,{"$f":"IF(AND(K339<>\"\",ISBLANK(N339),K339<TODAY()),\"Oui\",\"Non\")","v":"Non"},{"$f":"IF(ISBLANK(I339),\"\",IF(K339=\"\",\"délai à préciser\",IF(M339=\"\",\"statut à préciser\",IF(M339=\"finalisée\",IF(N339=\"\",\"date de solde à préciser\",IF(K339>=N339,\"fait\",\"retard\")),(IF(K339<TODAY(),\"retard\",\"Ok\"))))))","v":""},{"$f":"IF(AND(N339<>\"\",ISBLANK(N339),K339<TODAY()),\"Oui\",\"Non\")","v":"Non"},null,{"$f":"IF(ISBLANK(H339),\"\",IF(OR(H339=\"Préventive\",H339=\"Corrective\"),\"Oui\",\"Non\"))","v":""},null,null,null,null,null,{"$f":"IF(AND(U339<>\"\",ISBLANK(X339),U339<TODAY()),\"Oui\",\"Non\")","v":"Non"},{"$f":"IF(AND(S339=\"Oui\",ISBLANK(X339)),\"Oui\",\"Non\")","v":"Non"},null,null,null,null,{"$f":"IF(K339=\"\",\"\",K339-TODAY())","v":""},{"$f":"IF(ISBLANK(F339),CONCATENATE(E339,\" - \",AG339),CONCATENATE(F339,\" - \",AG339))","v":" - "},{"$f":"IF(ISBLANK(B339),\"\",YEAR(C339))","v":""},{"$f":"CONCATENATE(H339,\"-\",AG339)","v":"-"},{"$f":"CONCATENATE(M339,\"-\",AH339)","v":"--"}]
[{"$f":"IF(ISBLANK(B340),\"\",$C$2)","v":""},null,null,{"$f":"IF(ISBLANK(B340),\"\",COUNTA(#REF!))","v":""},null,null,null,null,null,null,null,null,null,null,{"$f":"IF(AND(K340<>\"\",ISBLANK(N340),K340<TODAY()),\"Oui\",\"Non\")","v":"Non"},{"$f":"IF(ISBLANK(I340),\"\",IF(K340=\"\",\"délai à préciser\",IF(M340=\"\",\"statut à préciser\",IF(M340=\"finalisée\",IF(N340=\"\",\"date de solde à préciser\",IF(K340>=N340,\"fait\",\"retard\")),(IF(K340<TODAY(),\"retard\",\"Ok\"))))))","v":""},{"$f":"IF(AND(N340<>\"\",ISBLANK(N340),K340<TODAY()),\"Oui\",\"Non\")","v":"Non"},null,{"$f":"IF(ISBLANK(H340),\"\",IF(OR(H340=\"Préventive\",H340=\"Corrective\"),\"Oui\",\"Non\"))","v":""},null,null,null,null,null,{"$f":"IF(AND(U340<>\"\",ISBLANK(X340),U340<TODAY()),\"Oui\",\"Non\")","v":"Non"},{"$f":"IF(AND(S340=\"Oui\",ISBLANK(X340)),\"Oui\",\"Non\")","v":"Non"},null,null,null,null,{"$f":"IF(K340=\"\",\"\",K340-TODAY())","v":""},{"$f":"IF(ISBLANK(F340),CONCATENATE(E340,\" - \",AG340),CONCATENATE(F340,\" - \",AG340))","v":" - "},{"$f":"IF(ISBLANK(B340),\"\",YEAR(C340))","v":""},{"$f":"CONCATENATE(H340,\"-\",AG340)","v":"-"},{"$f":"CONCATENATE(M340,\"-\",AH340)","v":"--"}]
[{"$f":"IF(ISBLANK(B341),\"\",$C$2)","v":""},null,null,{"$f":"IF(ISBLANK(B341),\"\",COUNTA(#REF!))","v":""},null,null,null,null,null,null,null,null,null,null,{"$f":"IF(AND(K341<>\"\",ISBLANK(N341),K341<TODAY()),\"Oui\",\"Non\")","v":"Non"},{"$f":"IF(ISBLANK(I341),\"\",IF(K341=\"\",\"délai à préciser\",IF(M341=\"\",\"statut à préciser\",IF(M341=\"finalisée\",IF(N341=\"\",\"date de solde à préciser\",IF(K341>=N341,\"fait\",\"retard\")),(IF(K341<TODAY(),\"retard\",\"Ok\"))))))","v":""},{"$f":"IF(AND(N341<>\"\",ISBLANK(N341),K341<TODAY()),\"Oui\",\"Non\")","v":"Non"},null,{"$f":"IF(ISBLANK(H341),\"\",IF(OR(H341=\"Préventive\",H341=\"Corrective\"),\"Oui\",\"Non\"))","v":""},null,null,null,null,null,{"$f":"IF(AND(U341<>\"\",ISBLANK(X341),U341<TODAY()),\"Oui\",\"Non\")","v":"Non"},{"$f":"IF(AND(S341=\"Oui\",ISBLANK(X341)),\"Oui\",\"Non\")","v":"Non"},null,null,null,null,{"$f":"IF(K341=\"\",\"\",K341-TODAY())","v":""},{"$f":"IF(ISBLANK(F341),CONCATENATE(E341,\" - \",AG341),CONCATENATE(F341,\" - \",AG341))","v":" - "},{"$f":"IF(ISBLANK(B341),\"\",YEAR(C341))","v":""},{"$f":"CONCATENATE(H341,\"-\",AG341)","v":"-"},{"$f":"CONCATENATE(M341,\"-\",AH341)","v":"--"}]
[{"$f":"IF(ISBLANK(B342),\"\",$C$2)","v":""},null,null,{"$f":"IF(ISBLANK(B342),\"\",COUNTA(#REF!))","v":""},null,null,null,null,null,null,null,null,null,null,{"$f":"IF(AND(K342<>\"\",ISBLANK(N342),K342<TODAY()),\"Oui\",\"Non\")","v":"Non"},{"$f":"IF(ISBLANK(I342),\"\",IF(K342=\"\",\"délai à préciser\",IF(M342=\"\",\"statut à préciser\",IF(M342=\"finalisée\",IF(N342=\"\",\"date de solde à préciser\",IF(K342>=N342,\"fait\",\"retard\")),(IF(K342<TODAY(),\"retard\",\"Ok\"))))))","v":""},{"$f":"IF(AND(N342<>\"\",ISBLANK(N342),K342<TODAY()),\"Oui\",\"Non\")","v":"Non"},null,{"$f":"IF(ISBLANK(H342),\"\",IF(OR(H342=\"Préventive\",H342=\"Corrective\"),\"Oui\",\"Non\"))","v":""},null,null,null,null,null,{"$f":"IF(AND(U342<>\"\",ISBLANK(X342),U342<TODAY()),\"Oui\",\"Non\")","v":"Non"},{"$f":"IF(AND(S342=\"Oui\",ISBLANK(X342)),\"Oui\",\"Non\")","v":"Non"},null,null,null,null,{"$f":"IF(K342=\"\",\"\",K342-TODAY())","v":""},{"$f":"IF(ISBLANK(F342),CONCATENATE(E342,\" - \",AG342),CONCATENATE(F342,\" - \",AG342))","v":" - "},{"$f":"IF(ISBLANK(B342),\"\",YEAR(C342))","v":""},{"$f":"CONCATENATE(H342,\"-\",AG342)","v":"-"},{"$f":"CONCATENATE(M342,\"-\",AH342)","v":"--"}]
[{"$f":"IF(ISBLANK(B343),\"\",$C$2)","v":""},null,null,{"$f":"IF(ISBLANK(B343),\"\",COUNTA(#REF!))","v":""},null,null,null,null,null,null,null,null,null,null,{"$f":"IF(AND(K343<>\"\",ISBLANK(N343),K343<TODAY()),\"Oui\",\"Non\")","v":"Non"},{"$f":"IF(ISBLANK(I343),\"\",IF(K343=\"\",\"délai à préciser\",IF(M343=\"\",\"statut à préciser\",IF(M343=\"finalisée\",IF(N343=\"\",\"date de solde à préciser\",IF(K343>=N343,\"fait\",\"retard\")),(IF(K343<TODAY(),\"retard\",\"Ok\"))))))","v":""},{"$f":"IF(AND(N343<>\"\",ISBLANK(N343),K343<TODAY()),\"Oui\",\"Non\")","v":"Non"},null,{"$f":"IF(ISBLANK(H343),\"\",IF(OR(H343=\"Préventive\",H343=\"Corrective\"),\"Oui\",\"Non\"))","v":""},null,null,null,null,null,{"$f":"IF(AND(U343<>\"\",ISBLANK(X343),U343<TODAY()),\"Oui\",\"Non\")","v":"Non"},{"$f":"IF(AND(S343=\"Oui\",ISBLANK(X343)),\"Oui\",\"Non\")","v":"Non"},null,null,null,null,{"$f":"IF(K343=\"\",\"\",K343-TODAY())","v":""},{"$f":"IF(ISBLANK(F343),CONCATENATE(E343,\" - \",AG343),CONCATENATE(F343,\" - \",AG343))","v":" - "},{"$f":"IF(ISBLANK(B343),\"\",YEAR(C343))","v":""},{"$f":"CONCATENATE(H343,\"-\",AG343)","v":"-"},{"$f":"CONCATENATE(M343,\"-\",AH343)","v":"--"}]
[{"$f":"IF(ISBLANK(B344),\"\",$C$2)","v":""},null,null,{"$f":"IF(ISBLANK(B344),\"\",COUNTA(#REF!))","v":""},null,null,null,null,null,null,null,null,null,null,{"$f":"IF(AND(K344<>\"\",ISBLANK(N344),K344<TODAY()),\"Oui\",\"Non\")","v":"Non"},{"$f":"IF(ISBLANK(I344),\"\",IF(K344=\"\",\"délai à préciser\",IF(M344=\"\",\"statut à préciser\",IF(M344=\"finalisée\",IF(N344=\"\",\"date de solde à préciser\",IF(K344>=N344,\"fait\",\"retard\")),(IF(K344<TODAY(),\"retard\",\"Ok\"))))))","v":""},{"$f":"IF(AND(N344<>\"\",ISBLANK(N344),K344<TODAY()),\"Oui\",\"Non\")","v":"Non"},null,{"$f":"IF(ISBLANK(H344),\"\",IF(OR(H344=\"Préventive\",H344=\"Corrective\"),\"Oui\",\"Non\"))","v":""},null,null,null,null,null,{"$f":"IF(AND(U344<>\"\",ISBLANK(X344),U344<TODAY()),\"Oui\",\"Non\")","v":"Non"},{"$f":"IF(AND(S344=\"Oui\",ISBLANK(X344)),\"Oui\",\"Non\")","v":"Non"},null,null,null,null,{"$f":"IF(K344=\"\",\"\",K344-TODAY())","v":""},{"$f":"IF(ISBLANK(F344),CONCATENATE(E344,\" - \",AG344),CONCATENATE(F344,\" - \",AG344))","v":" - "},{"$f":"IF(ISBLANK(B344),\"\",YEAR(C344))","v":""},{"$f":"CONCATENATE(H344,\"-\",AG344)","v":"-"},{"$f":"CONCATENATE(M344,\"-\",AH344)","v":"--"}]
[{"$f":"IF(ISBLANK(B345),\"\",$C$2)","v":""},null,null,{"$f":"IF(ISBLANK(B345),\"\",COUNTA(#REF!))","v":""},null,null,null,null,null,null,null,null,null,null,{"$f":"IF(AND(K345<>\"\",ISBLANK(N345),K345<TODAY()),\"Oui\",\"Non\")","v":"Non"},{"$f":"IF(ISBLANK(I345),\"\",IF(K345=\"\",\"délai à préciser\",IF(M345=\"\",\"statut à préciser\",IF(M345=\"finalisée\",IF(N345=\"\",\"date de solde à préciser\",IF(K345>=N345,\"fait\",\"retard\")),(IF(K345<TODAY(),\"retard\",\"Ok\"))))))","v":""},{"$f":"IF(AND(N345<>\"\",ISBLANK(N345),K345<TODAY()),\"Oui\",\"Non\")","v":"Non"},null,{"$f":"IF(ISBLANK(H345),\"\",IF(OR(H345=\"Préventive\",H345=\"Corrective\"),\"Oui\",\"Non\"))","v":""},null,null,null,null,null,{"$f":"IF(AND(U345<>\"\",ISBLANK(X345),U345<TODAY()),\"Oui\",\"Non\")","v":"Non"},{"$f":"IF(AND(S345=\"Oui\",ISBLANK(X345)),\"Oui\",\"Non\")","v":"Non"},null,null,null,null,{"$f":"IF(K345=\"\",\"\",K345-TODAY())","v":""},{"$f":"IF(ISBLANK(F345),CONCATENATE(E345,\" - \",AG345),CONCATENATE(F345,\" - \",AG345))","v":" - "},{"$f":"IF(ISBLANK(B345),\"\",YEAR(C345))","v":""},{"$f":"CONCATENATE(H345,\"-\",AG345)","v":"-"},{"$f":"CONCATENATE(M345,\"-\",AH345)","v":"--"}]
[{"$f":"IF(ISBLANK(B346),\"\",$C$2)","v":""},null,null,{"$f":"IF(ISBLANK(B346),\"\",COUNTA(#REF!))","v":""},null,null,null,null,null,null,null,null,null,null,{"$f":"IF(AND(K346<>\"\",ISBLANK(N346),K346<TODAY()),\"Oui\",\"Non\")","v":"Non"},{"$f":"IF(ISBLANK(I346),\"\",IF(K346=\"\",\"délai à préciser\",IF(M346=\"\",\"statut à préciser\",IF(M346=\"finalisée\",IF(N346=\"\",\"date de solde à préciser\",IF(K346>=N346,\"fait\",\"retard\")),(IF(K346<TODAY(),\"retard\",\"Ok\"))))))","v":""},{"$f":"IF(AND(N346<>\"\",ISBLANK(N346),K346<TODAY()),\"Oui\",\"Non\")","v":"Non"},null,{"$f":"IF(ISBLANK(H346),\"\",IF(OR(H346=\"Préventive\",H346=\"Corrective\"),\"Oui\",\"Non\"))","v":""},null,null,null,null,null,{"$f":"IF(AND(U346<>\"\",ISBLANK(X346),U346<TODAY()),\"Oui\",\"Non\")","v":"Non"},{"$f":"IF(AND(S346=\"Oui\",ISBLANK(X346)),\"Oui\",\"Non\")","v":"Non"},null,null,null,null,{"$f":"IF(K346=\"\",\"\",K346-TODAY())","v":""},{"$f":"IF(ISBLANK(F346),CONCATENATE(E346,\" - \",AG346),CONCATENATE(F346,\" - \",AG346))","v":" - "},{"$f":"IF(ISBLANK(B346),\"\",YEAR(C346))","v":""},{"$f":"CONCATENATE(H346,\"-\",AG346)","v":"-"},{"$f":"CONCATENATE(M346,\"-\",AH346)","v":"--"}]
[{"$f":"IF(ISBLANK(B347),\"\",$C$2)","v":""},null,null,{"$f":"IF(ISBLANK(B347),\"\",COUNTA(#REF!))","v":""},null,null,null,null,null,null,null,null,null,null,{"$f":"IF(AND(K347<>\"\",ISBLANK(N347),K347<TODAY()),\"Oui\",\"Non\")","v":"Non"},{"$f":"IF(ISBLANK(I347),\"\",IF(K347=\"\",\"délai à préciser\",IF(M347=\"\",\"statut à préciser\",IF(M347=\"finalisée\",IF(N347=\"\",\"date de solde à préciser\",IF(K347>=N347,\"fait\",\"retard\")),(IF(K347<TODAY(),\"retard\",\"Ok\"))))))","v":""},{"$f":"IF(AND(N347<>\"\",ISBLANK(N347),K347<TODAY()),\"Oui\",\"Non\")","v":"Non"},null,{"$f":"IF(ISBLANK(H347),\"\",IF(OR(H347=\"Préventive\",H347=\"Corrective\"),\"Oui\",\"Non\"))","v":""},null,null,null,null,null,{"$f":"IF(AND(U347<>\"\",ISBLANK(X347),U347<TODAY()),\"Oui\",\"Non\")","v":"Non"},{"$f":"IF(AND(S347=\"Oui\",ISBLANK(X347)),\"Oui\",\"Non\")","v":"Non"},null,null,null,null,{"$f":"IF(K347=\"\",\"\",K347-TODAY())","v":""},{"$f":"IF(ISBLANK(F347),CONCATENATE(E347,\" - \",AG347),CONCATENATE(F347,\" - \",AG347))","v":" - "},{"$f":"IF(ISBLANK(B347),\"\",YEAR(C347))","v":""},{"$f":"CONCATENATE(H347,\"-\",AG347)","v":"-"},{"$f":"CONCATENATE(M347,\"-\",AH347)","v":"--"}]
[{"$f":"IF(ISBLANK(B348),\"\",$C$2)","v":""},null,null,{"$f":"IF(ISBLANK(B348),\"\",COUNTA(#REF!))","v":""},null,null,null,null,null,null,null,null,null,null,{"$f":"IF(AND(K348<>\"\",ISBLANK(N348),K348<TODAY()),\"Oui\",\"Non\")","v":"Non"},{"$f":"IF(ISBLANK(I348),\"\",IF(K348=\"\",\"délai à préciser\",IF(M348=\"\",\"statut à préciser\",IF(M348=\"finalisée\",IF(N348=\"\",\"date de solde à préciser\",IF(K348>=N348,\"fait\",\"retard\")),(IF(K348<TODAY(),\"retard\",\"Ok\"))))))","v":""},{"$f":"IF(AND(N348<>\"\",ISBLANK(N348),K348<TODAY()),\"Oui\",\"Non\")","v":"Non"},null,{"$f":"IF(ISBLANK(H348),\"\",IF(OR(H348=\"Préventive\",H348=\"Corrective\"),\"Oui\",\"Non\"))","v":""},null,null,null,null,null,{"$f":"IF(AND(U348<>\"\",ISBLANK(X348),U348<TODAY()),\"Oui\",\"Non\")","v":"Non"},{"$f":"IF(AND(S348=\"Oui\",ISBLANK(X348)),\"Oui\",\"Non\")","v":"Non"},null,null,null,null,{"$f":"IF(K348=\"\",\"\",K348-TODAY())","v":""},{"$f":"IF(ISBLANK(F348),CONCATENATE(E348,\" - \",AG348),CONCATENATE(F348,\" - \",AG348))","v":" - "},{"$f":"IF(ISBLANK(B348),\"\",YEAR(C348))","v":""},{"$f":"CONCATENATE(H348,\"-\",AG348)","v":"-"},{"$f":"CONCATENATE(M348,\"-\",AH348)","v":"--"}]
[{"$f":"IF(ISBLANK(B349),\"\",$C$2)","v":""},null,null,{"$f":"IF(ISBLANK(B349),\"\",COUNTA(#REF!))","v":""},null,null,null,null,null,null,null,null,null,null,{"$f":"IF(AND(K349<>\"\",ISBLANK(N349),K349<TODAY()),\"Oui\",\"Non\")","v":"Non"},{"$f":"IF(ISBLANK(I349),\"\",IF(K349=\"\",\"délai à préciser\",IF(M349=\"\",\"statut à préciser\",IF(M349=\"finalisée\",IF(N349=\"\",\"date de solde à préciser\",IF(K349>=N349,\"fait\",\"retard\")),(IF(K349<TODAY(),\"retard\",\"Ok\"))))))","v":""},{"$f":"IF(AND(N349<>\"\",ISBLANK(N349),K349<TODAY()),\"Oui\",\"Non\")","v":"Non"},null,{"$f":"IF(ISBLANK(H349),\"\",IF(OR(H349=\"Préventive\",H349=\"Corrective\"),\"Oui\",\"Non\"))","v":""},null,null,null,null,null,{"$f":"IF(AND(U349<>\"\",ISBLANK(X349),U349<TODAY()),\"Oui\",\"Non\")","v":"Non"},{"$f":"IF(AND(S349=\"Oui\",ISBLANK(X349)),\"Oui\",\"Non\")","v":"Non"},null,null,null,null,{"$f":"IF(K349=\"\",\"\",K349-TODAY())","v":""},{"$f":"IF(ISBLANK(F349),CONCATENATE(E349,\" - \",AG349),CONCATENATE(F349,\" - \",AG349))","v":" - "},{"$f":"IF(ISBLANK(B349),\"\",YEAR(C349))","v":""},{"$f":"CONCATENATE(H349,\"-\",AG349)","v":"-"},{"$f":"CONCATENATE(M349,\"-\",AH349)","v":"--"}]
[{"$f":"IF(ISBLANK(B350),\"\",$C$2)","v":""},null,null,{"$f":"IF(ISBLANK(B350),\"\",COUNTA(#REF!))","v":""},null,null,null,null,null,null,null,null,null,null,{"$f":"IF(AND(K350<>\"\",ISBLANK(N350),K350<TODAY()),\"Oui\",\"Non\")","v":"Non"},{"$f":"IF(ISBLANK(I350),\"\",IF(K350=\"\",\"délai à préciser\",IF(M350=\"\",\"statut à préciser\",IF(M350=\"finalisée\",IF(N350=\"\",\"date de solde à préciser\",IF(K350>=N350,\"fait\",\"retard\")),(IF(K350<TODAY(),\"retard\",\"Ok\"))))))","v":""},{"$f":"IF(AND(N350<>\"\",ISBLANK(N350),K350<TODAY()),\"Oui\",\"Non\")","v":"Non"},null,{"$f":"IF(ISBLANK(H350),\"\",IF(OR(H350=\"Préventive\",H350=\"Corrective\"),\"Oui\",\"Non\"))","v":""},null,null,null,null,null,{"$f":"IF(AND(U350<>\"\",ISBLANK(X350),U350<TODAY()),\"Oui\",\"Non\")","v":"Non"},{"$f":"IF(AND(S350=\"Oui\",ISBLANK(X350)),\"Oui\",\"Non\")","v":"Non"},null,null,null,null,{"$f":"IF(K350=\"\",\"\",K350-TODAY())","v":""},{"$f":"IF(ISBLANK(F350),CONCATENATE(E350,\" - \",AG350),CONCATENATE(F350,\" - \",AG350))","v":" - "},{"$f":"IF(ISBLANK(B350),\"\",YEAR(C350))","v":""},{"$f":"CONCATENATE(H350,\"-\",AG350)","v":"-"},{"$f":"CONCATENATE(M350,\"-\",AH350)","v":"--"}]
[{"$f":"IF(ISBLANK(B351),\"\",$C$2)","v":""},null,null,{"$f":"IF(ISBLANK(B351),\"\",COUNTA(#REF!))","v":""},null,null,null,null,null,null,null,null,null,null,{"$f":"IF(AND(K351<>\"\",ISBLANK(N351),K351<TODAY()),\"Oui\",\"Non\")","v":"Non"},{"$f":"IF(ISBLANK(I351),\"\",IF(K351=\"\",\"délai à préciser\",IF(M351=\"\",\"statut à préciser\",IF(M351=\"finalisée\",IF(N351=\"\",\"date de solde à préciser\",IF(K351>=N351,\"fait\",\"retard\")),(IF(K351<TODAY(),\"retard\",\"Ok\"))))))","v":""},{"$f":"IF(AND(N351<>\"\",ISBLANK(N351),K351<TODAY()),\"Oui\",\"Non\")","v":"Non"},null,{"$f":"IF(ISBLANK(H351),\"\",IF(OR(H351=\"Préventive\",H351=\"Corrective\"),\"Oui\",\"Non\"))","v":""},null,null,null,null,null,{"$f":"IF(AND(U351<>\"\",ISBLANK(X351),U351<TODAY()),\"Oui\",\"Non\")","v":"Non"},{"$f":"IF(AND(S351=\"Oui\",ISBLANK(X351)),\"Oui\",\"Non\")","v":"Non"},null,null,null,null,{"$f":"IF(K351=\"\",\"\",K351-TODAY())","v":""},{"$f":"IF(ISBLANK(F351),CONCATENATE(E351,\" - \",AG351),CONCATENATE(F351,\" - \",AG351))","v":" - "},{"$f":"IF(ISBLANK(B351),\"\",YEAR(C351))","v":""},{"$f":"CONCATENATE(H351,\"-\",AG351)","v":"-"},{"$f":"CONCATENATE(M351,\"-\",AH351)","v":"--"}]
[{"$f":"IF(ISBLANK(B352),\"\",$C$2)","v":""},null,null,{"$f":"IF(ISBLANK(B352),\"\",COUNTA(#REF!))","v":""},null,null,null,null,null,null,null,null,null,null,{"$f":"IF(AND(K352<>\"\",ISBLANK(N352),K352<TODAY()),\"Oui\",\"Non\")","v":"Non"},{"$f":"IF(ISBLANK(I352),\"\",IF(K352=\"\",\"délai à préciser\",IF(M352=\"\",\"statut à préciser\",IF(M352=\"finalisée\",IF(N352=\"\",\"date de solde à préciser\",IF(K352>=N352,\"fait\",\"retard\")),(IF(K352<TODAY(),\"retard\",\"Ok\"))))))","v":""},{"$f":"IF(AND(N352<>\"\",ISBLANK(N352),K352<TODAY()),\"Oui\",\"Non\")","v":"Non"},null,{"$f":"IF(ISBLANK(H352),\"\",IF(OR(H352=\"Préventive\",H352=\"Corrective\"),\"Oui\",\"Non\"))","v":""},null,null,null,null,null,{"$f":"IF(AND(U352<>\"\",ISBLANK(X352),U352<TODAY()),\"Oui\",\"Non\")","v":"Non"},{"$f":"IF(AND(S352=\"Oui\",ISBLANK(X352)),\"Oui\",\"Non\")","v":"Non"},null,null,null,null,{"$f":"IF(K352=\"\",\"\",K352-TODAY())","v":""},{"$f":"IF(ISBLANK(F352),CONCATENATE(E352,\" - \",AG352),CONCATENATE(F352,\" - \",AG352))","v":" - "},{"$f":"IF(ISBLANK(B352),\"\",YEAR(C352))","v":""},{"$f":"CONCATENATE(H352,\"-\",AG352)","v":"-"},{"$f":"CONCATENATE(M352,\"-\",AH352)","v":"--"}]
[{"$f":"IF(ISBLANK(B353),\"\",$C$2)","v":""},null,null,{"$f":"IF(ISBLANK(B353),\"\",COUNTA(#REF!))","v":""},null,null,null,null,null,null,null,null,null,null,{"$f":"IF(AND(K353<>\"\",ISBLANK(N353),K353<TODAY()),\"Oui\",\"Non\")","v":"Non"},{"$f":"IF(ISBLANK(I353),\"\",IF(K353=\"\",\"délai à préciser\",IF(M353=\"\",\"statut à préciser\",IF(M353=\"finalisée\",IF(N353=\"\",\"date de solde à préciser\",IF(K353>=N353,\"fait\",\"retard\")),(IF(K353<TODAY(),\"retard\",\"Ok\"))))))","v":""},{"$f":"IF(AND(N353<>\"\",ISBLANK(N353),K353<TODAY()),\"Oui\",\"Non\")","v":"Non"},null,{"$f":"IF(ISBLANK(H353),\"\",IF(OR(H353=\"Préventive\",H353=\"Corrective\"),\"Oui\",\"Non\"))","v":""},null,null,null,null,null,{"$f":"IF(AND(U353<>\"\",ISBLANK(X353),U353<TODAY()),\"Oui\",\"Non\")","v":"Non"},{"$f":"IF(AND(S353=\"Oui\",ISBLANK(X353)),\"Oui\",\"Non\")","v":"Non"},null,null,null,null,{"$f":"IF(K353=\"\",\"\",K353-TODAY())","v":""},{"$f":"IF(ISBLANK(F353),CONCATENATE(E353,\" - \",AG353),CONCATENATE(F353,\" - \",AG353))","v":" - "},{"$f":"IF(ISBLANK(B353),\"\",YEAR(C353))","v":""},{"$f":"CONCATENATE(H353,\"-\",AG353)","v":"-"},{"$f":"CONCATENATE(M353,\"-\",AH353)","v":"--"}]
[{"$f":"IF(ISBLANK(B354),\"\",$C$2)","v":""},null,null,{"$f":"IF(ISBLANK(B354),\"\",COUNTA(#REF!))","v":""},null,null,null,null,null,null,null,null,null,null,{"$f":"IF(AND(K354<>\"\",ISBLANK(N354),K354<TODAY()),\"Oui\",\"Non\")","v":"Non"},{"$f":"IF(ISBLANK(I354),\"\",IF(K354=\"\",\"délai à préciser\",IF(M354=\"\",\"statut à préciser\",IF(M354=\"finalisée\",IF(N354=\"\",\"date de solde à préciser\",IF(K354>=N354,\"fait\",\"retard\")),(IF(K354<TODAY(),\"retard\",\"Ok\"))))))","v":""},{"$f":"IF(AND(N354<>\"\",ISBLANK(N354),K354<TODAY()),\"Oui\",\"Non\")","v":"Non"},null,{"$f":"IF(ISBLANK(H354),\"\",IF(OR(H354=\"Préventive\",H354=\"Corrective\"),\"Oui\",\"Non\"))","v":""},null,null,null,null,null,{"$f":"IF(AND(U354<>\"\",ISBLANK(X354),U354<TODAY()),\"Oui\",\"Non\")","v":"Non"},{"$f":"IF(AND(S354=\"Oui\",ISBLANK(X354)),\"Oui\",\"Non\")","v":"Non"},null,null,null,null,{"$f":"IF(K354=\"\",\"\",K354-TODAY())","v":""},{"$f":"IF(ISBLANK(F354),CONCATENATE(E354,\" - \",AG354),CONCATENATE(F354,\" - \",AG354))","v":" - "},{"$f":"IF(ISBLANK(B354),\"\",YEAR(C354))","v":""},{"$f":"CONCATENATE(H354,\"-\",AG354)","v":"-"},{"$f":"CONCATENATE(M354,\"-\",AH354)","v":"--"}]
[{"$f":"IF(ISBLANK(B355),\"\",$C$2)","v":""},null,null,{"$f":"IF(ISBLANK(B355),\"\",COUNTA(#REF!))","v":""},null,null,null,null,null,null,null,null,null,null,{"$f":"IF(AND(K355<>\"\",ISBLANK(N355),K355<TODAY()),\"Oui\",\"Non\")","v":"Non"},{"$f":"IF(ISBLANK(I355),\"\",IF(K355=\"\",\"délai à préciser\",IF(M355=\"\",\"statut à préciser\",IF(M355=\"finalisée\",IF(N355=\"\",\"date de solde à préciser\",IF(K355>=N355,\"fait\",\"retard\")),(IF(K355<TODAY(),\"retard\",\"Ok\"))))))","v":""},{"$f":"IF(AND(N355<>\"\",ISBLANK(N355),K355<TODAY()),\"Oui\",\"Non\")","v":"Non"},null,{"$f":"IF(ISBLANK(H355),\"\",IF(OR(H355=\"Préventive\",H355=\"Corrective\"),\"Oui\",\"Non\"))","v":""},null,null,null,null,null,{"$f":"IF(AND(U355<>\"\",ISBLANK(X355),U355<TODAY()),\"Oui\",\"Non\")","v":"Non"},{"$f":"IF(AND(S355=\"Oui\",ISBLANK(X355)),\"Oui\",\"Non\")","v":"Non"},null,null,null,null,{"$f":"IF(K355=\"\",\"\",K355-TODAY())","v":""},{"$f":"IF(ISBLANK(F355),CONCATENATE(E355,\" - \",AG355),CONCATENATE(F355,\" - \",AG355))","v":" - "},{"$f":"IF(ISBLANK(B355),\"\",YEAR(C355))","v":""},{"$f":"CONCATENATE(H355,\"-\",AG355)","v":"-"},{"$f":"CONCATENATE(M355,\"-\",AH355)","v":"--"}]
[{"$f":"IF(ISBLANK(B356),\"\",$C$2)","v":""},null,null,{"$f":"IF(ISBLANK(B356),\"\",COUNTA(#REF!))","v":""},null,null,null,null,null,null,null,null,null,null,{"$f":"IF(AND(K356<>\"\",ISBLANK(N356),K356<TODAY()),\"Oui\",\"Non\")","v":"Non"},{"$f":"IF(ISBLANK(I356),\"\",IF(K356=\"\",\"délai à préciser\",IF(M356=\"\",\"statut à préciser\",IF(M356=\"finalisée\",IF(N356=\"\",\"date de solde à préciser\",IF(K356>=N356,\"fait\",\"retard\")),(IF(K356<TODAY(),\"retard\",\"Ok\"))))))","v":""},{"$f":"IF(AND(N356<>\"\",ISBLANK(N356),K356<TODAY()),\"Oui\",\"Non\")","v":"Non"},null,{"$f":"IF(ISBLANK(H356),\"\",IF(OR(H356=\"Préventive\",H356=\"Corrective\"),\"Oui\",\"Non\"))","v":""},null,null,null,null,null,{"$f":"IF(AND(U356<>\"\",ISBLANK(X356),U356<TODAY()),\"Oui\",\"Non\")","v":"Non"},{"$f":"IF(AND(S356=\"Oui\",ISBLANK(X356)),\"Oui\",\"Non\")","v":"Non"},null,null,null,null,{"$f":"IF(K356=\"\",\"\",K356-TODAY())","v":""},{"$f":"IF(ISBLANK(F356),CONCATENATE(E356,\" - \",AG356),CONCATENATE(F356,\" - \",AG356))","v":" - "},{"$f":"IF(ISBLANK(B356),\"\",YEAR(C356))","v":""},{"$f":"CONCATENATE(H356,\"-\",AG356)","v":"-"},{"$f":"CONCATENATE(M356,\"-\",AH356)","v":"--"}]
[{"$f":"IF(ISBLANK(B357),\"\",$C$2)","v":""},null,null,{"$f":"IF(ISBLANK(B357),\"\",COUNTA(#REF!))","v":""},null,null,null,null,null,null,null,null,null,null,{"$f":"IF(AND(K357<>\"\",ISBLANK(N357),K357<TODAY()),\"Oui\",\"Non\")","v":"Non"},{"$f":"IF(ISBLANK(I357),\"\",IF(K357=\"\",\"délai à préciser\",IF(M357=\"\",\"statut à préciser\",IF(M357=\"finalisée\",IF(N357=\"\",\"date de solde à préciser\",IF(K357>=N357,\"fait\",\"retard\")),(IF(K357<TODAY(),\"retard\",\"Ok\"))))))","v":""},{"$f":"IF(AND(N357<>\"\",ISBLANK(N357),K357<TODAY()),\"Oui\",\"Non\")","v":"Non"},null,{"$f":"IF(ISBLANK(H357),\"\",IF(OR(H357=\"Préventive\",H357=\"Corrective\"),\"Oui\",\"Non\"))","v":""},null,null,null,null,null,{"$f":"IF(AND(U357<>\"\",ISBLANK(X357),U357<TODAY()),\"Oui\",\"Non\")","v":"Non"},{"$f":"IF(AND(S357=\"Oui\",ISBLANK(X357)),\"Oui\",\"Non\")","v":"Non"},null,null,null,null,{"$f":"IF(K357=\"\",\"\",K357-TODAY())","v":""},{"$f":"IF(ISBLANK(F357),CONCATENATE(E357,\" - \",AG357),CONCATENATE(F357,\" - \",AG357))","v":" - "},{"$f":"IF(ISBLANK(B357),\"\",YEAR(C357))","v":""},{"$f":"CONCATENATE(H357,\"-\",AG357)","v":"-"},{"$f":"CONCATENATE(M357,\"-\",AH357)","v":"--"}]
[{"$f":"IF(ISBLANK(B358),\"\",$C$2)","v":""},null,null,{"$f":"IF(ISBLANK(B358),\"\",COUNTA(#REF!))","v":""},null,null,null,null,null,null,null,null,null,null,{"$f":"IF(AND(K358<>\"\",ISBLANK(N358),K358<TODAY()),\"Oui\",\"Non\")","v":"Non"},{"$f":"IF(ISBLANK(I358),\"\",IF(K358=\"\",\"délai à préciser\",IF(M358=\"\",\"statut à préciser\",IF(M358=\"finalisée\",IF(N358=\"\",\"date de solde à préciser\",IF(K358>=N358,\"fait\",\"retard\")),(IF(K358<TODAY(),\"retard\",\"Ok\"))))))","v":""},{"$f":"IF(AND(N358<>\"\",ISBLANK(N358),K358<TODAY()),\"Oui\",\"Non\")","v":"Non"},null,{"$f":"IF(ISBLANK(H358),\"\",IF(OR(H358=\"Préventive\",H358=\"Corrective\"),\"Oui\",\"Non\"))","v":""},null,null,null,null,null,{"$f":"IF(AND(U358<>\"\",ISBLANK(X358),U358<TODAY()),\"Oui\",\"Non\")","v":"Non"},{"$f":"IF(AND(S358=\"Oui\",ISBLANK(X358)),\"Oui\",\"Non\")","v":"Non"},null,null,null,null,{"$f":"IF(K358=\"\",\"\",K358-TODAY())","v":""},{"$f":"IF(ISBLANK(F358),CONCATENATE(E358,\" - \",AG358),CONCATENATE(F358,\" - \",AG358))","v":" - "},{"$f":"IF(ISBLANK(B358),\"\",YEAR(C358))","v":""},{"$f":"CONCATENATE(H358,\"-\",AG358)","v":"-"},{"$f":"CONCATENATE(M358,\"-\",AH358)","v":"--"}]
[{"$f":"IF(ISBLANK(B359),\"\",$C$2)","v":""},null,null,{"$f":"IF(ISBLANK(B359),\"\",COUNTA(#REF!))","v":""},null,null,null,null,null,null,null,null,null,null,{"$f":"IF(AND(K359<>\"\",ISBLANK(N359),K359<TODAY()),\"Oui\",\"Non\")","v":"Non"},{"$f":"IF(ISBLANK(I359),\"\",IF(K359=\"\",\"délai à préciser\",IF(M359=\"\",\"statut à préciser\",IF(M359=\"finalisée\",IF(N359=\"\",\"date de solde à préciser\",IF(K359>=N359,\"fait\",\"retard\")),(IF(K359<TODAY(),\"retard\",\"Ok\"))))))","v":""},{"$f":"IF(AND(N359<>\"\",ISBLANK(N359),K359<TODAY()),\"Oui\",\"Non\")","v":"Non"},null,{"$f":"IF(ISBLANK(H359),\"\",IF(OR(H359=\"Préventive\",H359=\"Corrective\"),\"Oui\",\"Non\"))","v":""},null,null,null,null,null,{"$f":"IF(AND(U359<>\"\",ISBLANK(X359),U359<TODAY()),\"Oui\",\"Non\")","v":"Non"},{"$f":"IF(AND(S359=\"Oui\",ISBLANK(X359)),\"Oui\",\"Non\")","v":"Non"},null,null,null,null,{"$f":"IF(K359=\"\",\"\",K359-TODAY())","v":""},{"$f":"IF(ISBLANK(F359),CONCATENATE(E359,\" - \",AG359),CONCATENATE(F359,\" - \",AG359))","v":" - "},{"$f":"IF(ISBLANK(B359),\"\",YEAR(C359))","v":""},{"$f":"CONCATENATE(H359,\"-\",AG359)","v":"-"},{"$f":"CONCATENATE(M359,\"-\",AH359)","v":"--"}]
[{"$f":"IF(ISBLANK(B360),\"\",$C$2)","v":""},null,null,{"$f":"IF(ISBLANK(B360),\"\",COUNTA(#REF!))","v":""},null,null,null,null,null,null,null,null,null,null,{"$f":"IF(AND(K360<>\"\",ISBLANK(N360),K360<TODAY()),\"Oui\",\"Non\")","v":"Non"},{"$f":"IF(ISBLANK(I360),\"\",IF(K360=\"\",\"délai à préciser\",IF(M360=\"\",\"statut à préciser\",IF(M360=\"finalisée\",IF(N360=\"\",\"date de solde à préciser\",IF(K360>=N360,\"fait\",\"retard\")),(IF(K360<TODAY(),\"retard\",\"Ok\"))))))","v":""},{"$f":"IF(AND(N360<>\"\",ISBLANK(N360),K360<TODAY()),\"Oui\",\"Non\")","v":"Non"},null,{"$f":"IF(ISBLANK(H360),\"\",IF(OR(H360=\"Préventive\",H360=\"Corrective\"),\"Oui\",\"Non\"))","v":""},null,null,null,null,null,{"$f":"IF(AND(U360<>\"\",ISBLANK(X360),U360<TODAY()),\"Oui\",\"Non\")","v":"Non"},{"$f":"IF(AND(S360=\"Oui\",ISBLANK(X360)),\"Oui\",\"Non\")","v":"Non"},null,null,null,null,{"$f":"IF(K360=\"\",\"\",K360-TODAY())","v":""},{"$f":"IF(ISBLANK(F360),CONCATENATE(E360,\" - \",AG360),CONCATENATE(F360,\" - \",AG360))","v":" - "},{"$f":"IF(ISBLANK(B360),\"\",YEAR(C360))","v":""},{"$f":"CONCATENATE(H360,\"-\",AG360)","v":"-"},{"$f":"CONCATENATE(M360,\"-\",AH360)","v":"--"}]
[{"$f":"IF(ISBLANK(B361),\"\",$C$2)","v":""},null,null,{"$f":"IF(ISBLANK(B361),\"\",COUNTA(#REF!))","v":""},null,null,null,null,null,null,null,null,null,null,{"$f":"IF(AND(K361<>\"\",ISBLANK(N361),K361<TODAY()),\"Oui\",\"Non\")","v":"Non"},{"$f":"IF(ISBLANK(I361),\"\",IF(K361=\"\",\"délai à préciser\",IF(M361=\"\",\"statut à préciser\",IF(M361=\"finalisée\",IF(N361=\"\",\"date de solde à préciser\",IF(K361>=N361,\"fait\",\"retard\")),(IF(K361<TODAY(),\"retard\",\"Ok\"))))))","v":""},{"$f":"IF(AND(N361<>\"\",ISBLANK(N361),K361<TODAY()),\"Oui\",\"Non\")","v":"Non"},null,{"$f":"IF(ISBLANK(H361),\"\",IF(OR(H361=\"Préventive\",H361=\"Corrective\"),\"Oui\",\"Non\"))","v":""},null,null,null,null,null,{"$f":"IF(AND(U361<>\"\",ISBLANK(X361),U361<TODAY()),\"Oui\",\"Non\")","v":"Non"},{"$f":"IF(AND(S361=\"Oui\",ISBLANK(X361)),\"Oui\",\"Non\")","v":"Non"},null,null,null,null,{"$f":"IF(K361=\"\",\"\",K361-TODAY())","v":""},{"$f":"IF(ISBLANK(F361),CONCATENATE(E361,\" - \",AG361),CONCATENATE(F361,\" - \",AG361))","v":" - "},{"$f":"IF(ISBLANK(B361),\"\",YEAR(C361))","v":""},{"$f":"CONCATENATE(H361,\"-\",AG361)","v":"-"},{"$f":"CONCATENATE(M361,\"-\",AH361)","v":"--"}]
[{"$f":"IF(ISBLANK(B362),\"\",$C$2)","v":""},null,null,{"$f":"IF(ISBLANK(B362),\"\",COUNTA(#REF!))","v":""},null,null,null,null,null,null,null,null,null,null,{"$f":"IF(AND(K362<>\"\",ISBLANK(N362),K362<TODAY()),\"Oui\",\"Non\")","v":"Non"},{"$f":"IF(ISBLANK(I362),\"\",IF(K362=\"\",\"délai à préciser\",IF(M362=\"\",\"statut à préciser\",IF(M362=\"finalisée\",IF(N362=\"\",\"date de solde à préciser\",IF(K362>=N362,\"fait\",\"retard\")),(IF(K362<TODAY(),\"retard\",\"Ok\"))))))","v":""},{"$f":"IF(AND(N362<>\"\",ISBLANK(N362),K362<TODAY()),\"Oui\",\"Non\")","v":"Non"},null,{"$f":"IF(ISBLANK(H362),\"\",IF(OR(H362=\"Préventive\",H362=\"Corrective\"),\"Oui\",\"Non\"))","v":""},null,null,null,null,null,{"$f":"IF(AND(U362<>\"\",ISBLANK(X362),U362<TODAY()),\"Oui\",\"Non\")","v":"Non"},{"$f":"IF(AND(S362=\"Oui\",ISBLANK(X362)),\"Oui\",\"Non\")","v":"Non"},null,null,null,null,{"$f":"IF(K362=\"\",\"\",K362-TODAY())","v":""},{"$f":"IF(ISBLANK(F362),CONCATENATE(E362,\" - \",AG362),CONCATENATE(F362,\" - \",AG362))","v":" - "},{"$f":"IF(ISBLANK(B362),\"\",YEAR(C362))","v":""},{"$f":"CONCATENATE(H362,\"-\",AG362)","v":"-"},{"$f":"CONCATENATE(M362,\"-\",AH362)","v":"--"}]
[{"$f":"IF(ISBLANK(B363),\"\",$C$2)","v":""},null,null,{"$f":"IF(ISBLANK(B363),\"\",COUNTA(#REF!))","v":""},null,null,null,null,null,null,null,null,null,null,{"$f":"IF(AND(K363<>\"\",ISBLANK(N363),K363<TODAY()),\"Oui\",\"Non\")","v":"Non"},{"$f":"IF(ISBLANK(I363),\"\",IF(K363=\"\",\"délai à préciser\",IF(M363=\"\",\"statut à préciser\",IF(M363=\"finalisée\",IF(N363=\"\",\"date de solde à préciser\",IF(K363>=N363,\"fait\",\"retard\")),(IF(K363<TODAY(),\"retard\",\"Ok\"))))))","v":""},{"$f":"IF(AND(N363<>\"\",ISBLANK(N363),K363<TODAY()),\"Oui\",\"Non\")","v":"Non"},null,{"$f":"IF(ISBLANK(H363),\"\",IF(OR(H363=\"Préventive\",H363=\"Corrective\"),\"Oui\",\"Non\"))","v":""},null,null,null,null,null,{"$f":"IF(AND(U363<>\"\",ISBLANK(X363),U363<TODAY()),\"Oui\",\"Non\")","v":"Non"},{"$f":"IF(AND(S363=\"Oui\",ISBLANK(X363)),\"Oui\",\"Non\")","v":"Non"},null,null,null,null,{"$f":"IF(K363=\"\",\"\",K363-TODAY())","v":""},{"$f":"IF(ISBLANK(F363),CONCATENATE(E363,\" - \",AG363),CONCATENATE(F363,\" - \",AG363))","v":" - "},{"$f":"IF(ISBLANK(B363),\"\",YEAR(C363))","v":""},{"$f":"CONCATENATE(H363,\"-\",AG363)","v":"-"},{"$f":"CONCATENATE(M363,\"-\",AH363)","v":"--"}]
[{"$f":"IF(ISBLANK(B364),\"\",$C$2)","v":""},null,null,{"$f":"IF(ISBLANK(B364),\"\",COUNTA(#REF!))","v":""},null,null,null,null,null,null,null,null,null,null,{"$f":"IF(AND(K364<>\"\",ISBLANK(N364),K364<TODAY()),\"Oui\",\"Non\")","v":"Non"},{"$f":"IF(ISBLANK(I364),\"\",IF(K364=\"\",\"délai à préciser\",IF(M364=\"\",\"statut à préciser\",IF(M364=\"finalisée\",IF(N364=\"\",\"date de solde à préciser\",IF(K364>=N364,\"fait\",\"retard\")),(IF(K364<TODAY(),\"retard\",\"Ok\"))))))","v":""},{"$f":"IF(AND(N364<>\"\",ISBLANK(N364),K364<TODAY()),\"Oui\",\"Non\")","v":"Non"},null,{"$f":"IF(ISBLANK(H364),\"\",IF(OR(H364=\"Préventive\",H364=\"Corrective\"),\"Oui\",\"Non\"))","v":""},null,null,null,null,null,{"$f":"IF(AND(U364<>\"\",ISBLANK(X364),U364<TODAY()),\"Oui\",\"Non\")","v":"Non"},{"$f":"IF(AND(S364=\"Oui\",ISBLANK(X364)),\"Oui\",\"Non\")","v":"Non"},null,null,null,null,{"$f":"IF(K364=\"\",\"\",K364-TODAY())","v":""},{"$f":"IF(ISBLANK(F364),CONCATENATE(E364,\" - \",AG364),CONCATENATE(F364,\" - \",AG364))","v":" - "},{"$f":"IF(ISBLANK(B364),\"\",YEAR(C364))","v":""},{"$f":"CONCATENATE(H364,\"-\",AG364)","v":"-"},{"$f":"CONCATENATE(M364,\"-\",AH364)","v":"--"}]
[{"$f":"IF(ISBLANK(B365),\"\",$C$2)","v":""},null,null,{"$f":"IF(ISBLANK(B365),\"\",COUNTA(#REF!))","v":""},null,null,null,null,null,null,null,null,null,null,{"$f":"IF(AND(K365<>\"\",ISBLANK(N365),K365<TODAY()),\"Oui\",\"Non\")","v":"Non"},{"$f":"IF(ISBLANK(I365),\"\",IF(K365=\"\",\"délai à préciser\",IF(M365=\"\",\"statut à préciser\",IF(M365=\"finalisée\",IF(N365=\"\",\"date de solde à préciser\",IF(K365>=N365,\"fait\",\"retard\")),(IF(K365<TODAY(),\"retard\",\"Ok\"))))))","v":""},{"$f":"IF(AND(N365<>\"\",ISBLANK(N365),K365<TODAY()),\"Oui\",\"Non\")","v":"Non"},null,{"$f":"IF(ISBLANK(H365),\"\",IF(OR(H365=\"Préventive\",H365=\"Corrective\"),\"Oui\",\"Non\"))","v":""},null,null,null,null,null,{"$f":"IF(AND(U365<>\"\",ISBLANK(X365),U365<TODAY()),\"Oui\",\"Non\")","v":"Non"},{"$f":"IF(AND(S365=\"Oui\",ISBLANK(X365)),\"Oui\",\"Non\")","v":"Non"},null,null,null,null,{"$f":"IF(K365=\"\",\"\",K365-TODAY())","v":""},{"$f":"IF(ISBLANK(F365),CONCATENATE(E365,\" - \",AG365),CONCATENATE(F365,\" - \",AG365))","v":" - "},{"$f":"IF(ISBLANK(B365),\"\",YEAR(C365))","v":""},{"$f":"CONCATENATE(H365,\"-\",AG365)","v":"-"},{"$f":"CONCATENATE(M365,\"-\",AH365)","v":"--"}]
[{"$f":"IF(ISBLANK(B366),\"\",$C$2)","v":""},null,null,{"$f":"IF(ISBLANK(B366),\"\",COUNTA(#REF!))","v":""},null,null,null,null,null,null,null,null,null,null,{"$f":"IF(AND(K366<>\"\",ISBLANK(N366),K366<TODAY()),\"Oui\",\"Non\")","v":"Non"},{"$f":"IF(ISBLANK(I366),\"\",IF(K366=\"\",\"délai à préciser\",IF(M366=\"\",\"statut à préciser\",IF(M366=\"finalisée\",IF(N366=\"\",\"date de solde à préciser\",IF(K366>=N366,\"fait\",\"retard\")),(IF(K366<TODAY(),\"retard\",\"Ok\"))))))","v":""},{"$f":"IF(AND(N366<>\"\",ISBLANK(N366),K366<TODAY()),\"Oui\",\"Non\")","v":"Non"},null,{"$f":"IF(ISBLANK(H366),\"\",IF(OR(H366=\"Préventive\",H366=\"Corrective\"),\"Oui\",\"Non\"))","v":""},null,null,null,null,null,{"$f":"IF(AND(U366<>\"\",ISBLANK(X366),U366<TODAY()),\"Oui\",\"Non\")","v":"Non"},{"$f":"IF(AND(S366=\"Oui\",ISBLANK(X366)),\"Oui\",\"Non\")","v":"Non"},null,null,null,null,{"$f":"IF(K366=\"\",\"\",K366-TODAY())","v":""},{"$f":"IF(ISBLANK(F366),CONCATENATE(E366,\" - \",AG366),CONCATENATE(F366,\" - \",AG366))","v":" - "},{"$f":"IF(ISBLANK(B366),\"\",YEAR(C366))","v":""},{"$f":"CONCATENATE(H366,\"-\",AG366)","v":"-"},{"$f":"CONCATENATE(M366,\"-\",AH366)","v":"--"}]
[{"$f":"IF(ISBLANK(B367),\"\",$C$2)","v":""},null,null,{"$f":"IF(ISBLANK(B367),\"\",COUNTA(#REF!))","v":""},null,null,null,null,null,null,null,null,null,null,{"$f":"IF(AND(K367<>\"\",ISBLANK(N367),K367<TODAY()),\"Oui\",\"Non\")","v":"Non"},{"$f":"IF(ISBLANK(I367),\"\",IF(K367=\"\",\"délai à préciser\",IF(M367=\"\",\"statut à préciser\",IF(M367=\"finalisée\",IF(N367=\"\",\"date de solde à préciser\",IF(K367>=N367,\"fait\",\"retard\")),(IF(K367<TODAY(),\"retard\",\"Ok\"))))))","v":""},{"$f":"IF(AND(N367<>\"\",ISBLANK(N367),K367<TODAY()),\"Oui\",\"Non\")","v":"Non"},null,{"$f":"IF(ISBLANK(H367),\"\",IF(OR(H367=\"Préventive\",H367=\"Corrective\"),\"Oui\",\"Non\"))","v":""},null,null,null,null,null,{"$f":"IF(AND(U367<>\"\",ISBLANK(X367),U367<TODAY()),\"Oui\",\"Non\")","v":"Non"},{"$f":"IF(AND(S367=\"Oui\",ISBLANK(X367)),\"Oui\",\"Non\")","v":"Non"},null,null,null,null,{"$f":"IF(K367=\"\",\"\",K367-TODAY())","v":""},{"$f":"IF(ISBLANK(F367),CONCATENATE(E367,\" - \",AG367),CONCATENATE(F367,\" - \",AG367))","v":" - "},{"$f":"IF(ISBLANK(B367),\"\",YEAR(C367))","v":""},{"$f":"CONCATENATE(H367,\"-\",AG367)","v":"-"},{"$f":"CONCATENATE(M367,\"-\",AH367)","v":"--"}]
[{"$f":"IF(ISBLANK(B368),\"\",$C$2)","v":""},null,null,{"$f":"IF(ISBLANK(B368),\"\",COUNTA(#REF!))","v":""},null,null,null,null,null,null,null,null,null,null,{"$f":"IF(AND(K368<>\"\",ISBLANK(N368),K368<TODAY()),\"Oui\",\"Non\")","v":"Non"},{"$f":"IF(ISBLANK(I368),\"\",IF(K368=\"\",\"délai à préciser\",IF(M368=\"\",\"statut à préciser\",IF(M368=\"finalisée\",IF(N368=\"\",\"date de solde à préciser\",IF(K368>=N368,\"fait\",\"retard\")),(IF(K368<TODAY(),\"retard\",\"Ok\"))))))","v":""},{"$f":"IF(AND(N368<>\"\",ISBLANK(N368),K368<TODAY()),\"Oui\",\"Non\")","v":"Non"},null,{"$f":"IF(ISBLANK(H368),\"\",IF(OR(H368=\"Préventive\",H368=\"Corrective\"),\"Oui\",\"Non\"))","v":""},null,null,null,null,null,{"$f":"IF(AND(U368<>\"\",ISBLANK(X368),U368<TODAY()),\"Oui\",\"Non\")","v":"Non"},{"$f":"IF(AND(S368=\"Oui\",ISBLANK(X368)),\"Oui\",\"Non\")","v":"Non"},null,null,null,null,{"$f":"IF(K368=\"\",\"\",K368-TODAY())","v":""},{"$f":"IF(ISBLANK(F368),CONCATENATE(E368,\" - \",AG368),CONCATENATE(F368,\" - \",AG368))","v":" - "},{"$f":"IF(ISBLANK(B368),\"\",YEAR(C368))","v":""},{"$f":"CONCATENATE(H368,\"-\",AG368)","v":"-"},{"$f":"CONCATENATE(M368,\"-\",AH368)","v":"--"}]
[{"$f":"IF(ISBLANK(B369),\"\",$C$2)","v":""},null,null,{"$f":"IF(ISBLANK(B369),\"\",COUNTA(#REF!))","v":""},null,null,null,null,null,null,null,null,null,null,{"$f":"IF(AND(K369<>\"\",ISBLANK(N369),K369<TODAY()),\"Oui\",\"Non\")","v":"Non"},{"$f":"IF(ISBLANK(I369),\"\",IF(K369=\"\",\"délai à préciser\",IF(M369=\"\",\"statut à préciser\",IF(M369=\"finalisée\",IF(N369=\"\",\"date de solde à préciser\",IF(K369>=N369,\"fait\",\"retard\")),(IF(K369<TODAY(),\"retard\",\"Ok\"))))))","v":""},{"$f":"IF(AND(N369<>\"\",ISBLANK(N369),K369<TODAY()),\"Oui\",\"Non\")","v":"Non"},null,{"$f":"IF(ISBLANK(H369),\"\",IF(OR(H369=\"Préventive\",H369=\"Corrective\"),\"Oui\",\"Non\"))","v":""},null,null,null,null,null,{"$f":"IF(AND(U369<>\"\",ISBLANK(X369),U369<TODAY()),\"Oui\",\"Non\")","v":"Non"},{"$f":"IF(AND(S369=\"Oui\",ISBLANK(X369)),\"Oui\",\"Non\")","v":"Non"},null,null,null,null,{"$f":"IF(K369=\"\",\"\",K369-TODAY())","v":""},{"$f":"IF(ISBLANK(F369),CONCATENATE(E369,\" - \",AG369),CONCATENATE(F369,\" - \",AG369))","v":" - "},{"$f":"IF(ISBLANK(B369),\"\",YEAR(C369))","v":""},{"$f":"CONCATENATE(H369,\"-\",AG369)","v":"-"},{"$f":"CONCATENATE(M369,\"-\",AH369)","v":"--"}]
[{"$f":"IF(ISBLANK(B370),\"\",$C$2)","v":""},null,null,{"$f":"IF(ISBLANK(B370),\"\",COUNTA(#REF!))","v":""},null,null,null,null,null,null,null,null,null,null,{"$f":"IF(AND(K370<>\"\",ISBLANK(N370),K370<TODAY()),\"Oui\",\"Non\")","v":"Non"},{"$f":"IF(ISBLANK(I370),\"\",IF(K370=\"\",\"délai à préciser\",IF(M370=\"\",\"statut à préciser\",IF(M370=\"finalisée\",IF(N370=\"\",\"date de solde à préciser\",IF(K370>=N370,\"fait\",\"retard\")),(IF(K370<TODAY(),\"retard\",\"Ok\"))))))","v":""},{"$f":"IF(AND(N370<>\"\",ISBLANK(N370),K370<TODAY()),\"Oui\",\"Non\")","v":"Non"},null,{"$f":"IF(ISBLANK(H370),\"\",IF(OR(H370=\"Préventive\",H370=\"Corrective\"),\"Oui\",\"Non\"))","v":""},null,null,null,null,null,{"$f":"IF(AND(U370<>\"\",ISBLANK(X370),U370<TODAY()),\"Oui\",\"Non\")","v":"Non"},{"$f":"IF(AND(S370=\"Oui\",ISBLANK(X370)),\"Oui\",\"Non\")","v":"Non"},null,null,null,null,{"$f":"IF(K370=\"\",\"\",K370-TODAY())","v":""},{"$f":"IF(ISBLANK(F370),CONCATENATE(E370,\" - \",AG370),CONCATENATE(F370,\" - \",AG370))","v":" - "},{"$f":"IF(ISBLANK(B370),\"\",YEAR(C370))","v":""},{"$f":"CONCATENATE(H370,\"-\",AG370)","v":"-"},{"$f":"CONCATENATE(M370,\"-\",AH370)","v":"--"}]
[{"$f":"IF(ISBLANK(B371),\"\",$C$2)","v":""},null,null,{"$f":"IF(ISBLANK(B371),\"\",COUNTA(#REF!))","v":""},null,null,null,null,null,null,null,null,null,null,{"$f":"IF(AND(K371<>\"\",ISBLANK(N371),K371<TODAY()),\"Oui\",\"Non\")","v":"Non"},{"$f":"IF(ISBLANK(I371),\"\",IF(K371=\"\",\"délai à préciser\",IF(M371=\"\",\"statut à préciser\",IF(M371=\"finalisée\",IF(N371=\"\",\"date de solde à préciser\",IF(K371>=N371,\"fait\",\"retard\")),(IF(K371<TODAY(),\"retard\",\"Ok\"))))))","v":""},{"$f":"IF(AND(N371<>\"\",ISBLANK(N371),K371<TODAY()),\"Oui\",\"Non\")","v":"Non"},null,{"$f":"IF(ISBLANK(H371),\"\",IF(OR(H371=\"Préventive\",H371=\"Corrective\"),\"Oui\",\"Non\"))","v":""},null,null,null,null,null,{"$f":"IF(AND(U371<>\"\",ISBLANK(X371),U371<TODAY()),\"Oui\",\"Non\")","v":"Non"},{"$f":"IF(AND(S371=\"Oui\",ISBLANK(X371)),\"Oui\",\"Non\")","v":"Non"},null,null,null,null,{"$f":"IF(K371=\"\",\"\",K371-TODAY())","v":""},{"$f":"IF(ISBLANK(F371),CONCATENATE(E371,\" - \",AG371),CONCATENATE(F371,\" - \",AG371))","v":" - "},{"$f":"IF(ISBLANK(B371),\"\",YEAR(C371))","v":""},{"$f":"CONCATENATE(H371,\"-\",AG371)","v":"-"},{"$f":"CONCATENATE(M371,\"-\",AH371)","v":"--"}]
[{"$f":"IF(ISBLANK(B372),\"\",$C$2)","v":""},null,null,{"$f":"IF(ISBLANK(B372),\"\",COUNTA(#REF!))","v":""},null,null,null,null,null,null,null,null,null,null,{"$f":"IF(AND(K372<>\"\",ISBLANK(N372),K372<TODAY()),\"Oui\",\"Non\")","v":"Non"},{"$f":"IF(ISBLANK(I372),\"\",IF(K372=\"\",\"délai à préciser\",IF(M372=\"\",\"statut à préciser\",IF(M372=\"finalisée\",IF(N372=\"\",\"date de solde à préciser\",IF(K372>=N372,\"fait\",\"retard\")),(IF(K372<TODAY(),\"retard\",\"Ok\"))))))","v":""},{"$f":"IF(AND(N372<>\"\",ISBLANK(N372),K372<TODAY()),\"Oui\",\"Non\")","v":"Non"},null,{"$f":"IF(ISBLANK(H372),\"\",IF(OR(H372=\"Préventive\",H372=\"Corrective\"),\"Oui\",\"Non\"))","v":""},null,null,null,null,null,{"$f":"IF(AND(U372<>\"\",ISBLANK(X372),U372<TODAY()),\"Oui\",\"Non\")","v":"Non"},{"$f":"IF(AND(S372=\"Oui\",ISBLANK(X372)),\"Oui\",\"Non\")","v":"Non"},null,null,null,null,{"$f":"IF(K372=\"\",\"\",K372-TODAY())","v":""},{"$f":"IF(ISBLANK(F372),CONCATENATE(E372,\" - \",AG372),CONCATENATE(F372,\" - \",AG372))","v":" - "},{"$f":"IF(ISBLANK(B372),\"\",YEAR(C372))","v":""},{"$f":"CONCATENATE(H372,\"-\",AG372)","v":"-"},{"$f":"CONCATENATE(M372,\"-\",AH372)","v":"--"}]
[{"$f":"IF(ISBLANK(B373),\"\",$C$2)","v":""},null,null,{"$f":"IF(ISBLANK(B373),\"\",COUNTA(#REF!))","v":""},null,null,null,null,null,null,null,null,null,null,{"$f":"IF(AND(K373<>\"\",ISBLANK(N373),K373<TODAY()),\"Oui\",\"Non\")","v":"Non"},{"$f":"IF(ISBLANK(I373),\"\",IF(K373=\"\",\"délai à préciser\",IF(M373=\"\",\"statut à préciser\",IF(M373=\"finalisée\",IF(N373=\"\",\"date de solde à préciser\",IF(K373>=N373,\"fait\",\"retard\")),(IF(K373<TODAY(),\"retard\",\"Ok\"))))))","v":""},{"$f":"IF(AND(N373<>\"\",ISBLANK(N373),K373<TODAY()),\"Oui\",\"Non\")","v":"Non"},null,{"$f":"IF(ISBLANK(H373),\"\",IF(OR(H373=\"Préventive\",H373=\"Corrective\"),\"Oui\",\"Non\"))","v":""},null,null,null,null,null,{"$f":"IF(AND(U373<>\"\",ISBLANK(X373),U373<TODAY()),\"Oui\",\"Non\")","v":"Non"},{"$f":"IF(AND(S373=\"Oui\",ISBLANK(X373)),\"Oui\",\"Non\")","v":"Non"},null,null,null,null,{"$f":"IF(K373=\"\",\"\",K373-TODAY())","v":""},{"$f":"IF(ISBLANK(F373),CONCATENATE(E373,\" - \",AG373),CONCATENATE(F373,\" - \",AG373))","v":" - "},{"$f":"IF(ISBLANK(B373),\"\",YEAR(C373))","v":""},{"$f":"CONCATENATE(H373,\"-\",AG373)","v":"-"},{"$f":"CONCATENATE(M373,\"-\",AH373)","v":"--"}]
[{"$f":"IF(ISBLANK(B374),\"\",$C$2)","v":""},null,null,{"$f":"IF(ISBLANK(B374),\"\",COUNTA(#REF!))","v":""},null,null,null,null,null,null,null,null,null,null,{"$f":"IF(AND(K374<>\"\",ISBLANK(N374),K374<TODAY()),\"Oui\",\"Non\")","v":"Non"},{"$f":"IF(ISBLANK(I374),\"\",IF(K374=\"\",\"délai à préciser\",IF(M374=\"\",\"statut à préciser\",IF(M374=\"finalisée\",IF(N374=\"\",\"date de solde à préciser\",IF(K374>=N374,\"fait\",\"retard\")),(IF(K374<TODAY(),\"retard\",\"Ok\"))))))","v":""},{"$f":"IF(AND(N374<>\"\",ISBLANK(N374),K374<TODAY()),\"Oui\",\"Non\")","v":"Non"},null,{"$f":"IF(ISBLANK(H374),\"\",IF(OR(H374=\"Préventive\",H374=\"Corrective\"),\"Oui\",\"Non\"))","v":""},null,null,null,null,null,{"$f":"IF(AND(U374<>\"\",ISBLANK(X374),U374<TODAY()),\"Oui\",\"Non\")","v":"Non"},{"$f":"IF(AND(S374=\"Oui\",ISBLANK(X374)),\"Oui\",\"Non\")","v":"Non"},null,null,null,null,{"$f":"IF(K374=\"\",\"\",K374-TODAY())","v":""},{"$f":"IF(ISBLANK(F374),CONCATENATE(E374,\" - \",AG374),CONCATENATE(F374,\" - \",AG374))","v":" - "},{"$f":"IF(ISBLANK(B374),\"\",YEAR(C374))","v":""},{"$f":"CONCATENATE(H374,\"-\",AG374)","v":"-"},{"$f":"CONCATENATE(M374,\"-\",AH374)","v":"--"}]
[{"$f":"IF(ISBLANK(B375),\"\",$C$2)","v":""},null,null,{"$f":"IF(ISBLANK(B375),\"\",COUNTA(#REF!))","v":""},null,null,null,null,null,null,null,null,null,null,{"$f":"IF(AND(K375<>\"\",ISBLANK(N375),K375<TODAY()),\"Oui\",\"Non\")","v":"Non"},{"$f":"IF(ISBLANK(I375),\"\",IF(K375=\"\",\"délai à préciser\",IF(M375=\"\",\"statut à préciser\",IF(M375=\"finalisée\",IF(N375=\"\",\"date de solde à préciser\",IF(K375>=N375,\"fait\",\"retard\")),(IF(K375<TODAY(),\"retard\",\"Ok\"))))))","v":""},{"$f":"IF(AND(N375<>\"\",ISBLANK(N375),K375<TODAY()),\"Oui\",\"Non\")","v":"Non"},null,{"$f":"IF(ISBLANK(H375),\"\",IF(OR(H375=\"Préventive\",H375=\"Corrective\"),\"Oui\",\"Non\"))","v":""},null,null,null,null,null,{"$f":"IF(AND(U375<>\"\",ISBLANK(X375),U375<TODAY()),\"Oui\",\"Non\")","v":"Non"},{"$f":"IF(AND(S375=\"Oui\",ISBLANK(X375)),\"Oui\",\"Non\")","v":"Non"},null,null,null,null,{"$f":"IF(K375=\"\",\"\",K375-TODAY())","v":""},{"$f":"IF(ISBLANK(F375),CONCATENATE(E375,\" - \",AG375),CONCATENATE(F375,\" - \",AG375))","v":" - "},{"$f":"IF(ISBLANK(B375),\"\",YEAR(C375))","v":""},{"$f":"CONCATENATE(H375,\"-\",AG375)","v":"-"},{"$f":"CONCATENATE(M375,\"-\",AH375)","v":"--"}]
[{"$f":"IF(ISBLANK(B376),\"\",$C$2)","v":""},null,null,{"$f":"IF(ISBLANK(B376),\"\",COUNTA(#REF!))","v":""},null,null,null,null,null,null,null,null,null,null,{"$f":"IF(AND(K376<>\"\",ISBLANK(N376),K376<TODAY()),\"Oui\",\"Non\")","v":"Non"},{"$f":"IF(ISBLANK(I376),\"\",IF(K376=\"\",\"délai à préciser\",IF(M376=\"\",\"statut à préciser\",IF(M376=\"finalisée\",IF(N376=\"\",\"date de solde à préciser\",IF(K376>=N376,\"fait\",\"retard\")),(IF(K376<TODAY(),\"retard\",\"Ok\"))))))","v":""},{"$f":"IF(AND(N376<>\"\",ISBLANK(N376),K376<TODAY()),\"Oui\",\"Non\")","v":"Non"},null,{"$f":"IF(ISBLANK(H376),\"\",IF(OR(H376=\"Préventive\",H376=\"Corrective\"),\"Oui\",\"Non\"))","v":""},null,null,null,null,null,{"$f":"IF(AND(U376<>\"\",ISBLANK(X376),U376<TODAY()),\"Oui\",\"Non\")","v":"Non"},{"$f":"IF(AND(S376=\"Oui\",ISBLANK(X376)),\"Oui\",\"Non\")","v":"Non"},null,null,null,null,{"$f":"IF(K376=\"\",\"\",K376-TODAY())","v":""},{"$f":"IF(ISBLANK(F376),CONCATENATE(E376,\" - \",AG376),CONCATENATE(F376,\" - \",AG376))","v":" - "},{"$f":"IF(ISBLANK(B376),\"\",YEAR(C376))","v":""},{"$f":"CONCATENATE(H376,\"-\",AG376)","v":"-"},{"$f":"CONCATENATE(M376,\"-\",AH376)","v":"--"}]
[{"$f":"IF(ISBLANK(B377),\"\",$C$2)","v":""},null,null,{"$f":"IF(ISBLANK(B377),\"\",COUNTA(#REF!))","v":""},null,null,null,null,null,null,null,null,null,null,{"$f":"IF(AND(K377<>\"\",ISBLANK(N377),K377<TODAY()),\"Oui\",\"Non\")","v":"Non"},{"$f":"IF(ISBLANK(I377),\"\",IF(K377=\"\",\"délai à préciser\",IF(M377=\"\",\"statut à préciser\",IF(M377=\"finalisée\",IF(N377=\"\",\"date de solde à préciser\",IF(K377>=N377,\"fait\",\"retard\")),(IF(K377<TODAY(),\"retard\",\"Ok\"))))))","v":""},{"$f":"IF(AND(N377<>\"\",ISBLANK(N377),K377<TODAY()),\"Oui\",\"Non\")","v":"Non"},null,{"$f":"IF(ISBLANK(H377),\"\",IF(OR(H377=\"Préventive\",H377=\"Corrective\"),\"Oui\",\"Non\"))","v":""},null,null,null,null,null,{"$f":"IF(AND(U377<>\"\",ISBLANK(X377),U377<TODAY()),\"Oui\",\"Non\")","v":"Non"},{"$f":"IF(AND(S377=\"Oui\",ISBLANK(X377)),\"Oui\",\"Non\")","v":"Non"},null,null,null,null,{"$f":"IF(K377=\"\",\"\",K377-TODAY())","v":""},{"$f":"IF(ISBLANK(F377),CONCATENATE(E377,\" - \",AG377),CONCATENATE(F377,\" - \",AG377))","v":" - "},{"$f":"IF(ISBLANK(B377),\"\",YEAR(C377))","v":""},{"$f":"CONCATENATE(H377,\"-\",AG377)","v":"-"},{"$f":"CONCATENATE(M377,\"-\",AH377)","v":"--"}]
[{"$f":"IF(ISBLANK(B378),\"\",$C$2)","v":""},null,null,{"$f":"IF(ISBLANK(B378),\"\",COUNTA(#REF!))","v":""},null,null,null,null,null,null,null,null,null,null,{"$f":"IF(AND(K378<>\"\",ISBLANK(N378),K378<TODAY()),\"Oui\",\"Non\")","v":"Non"},{"$f":"IF(ISBLANK(I378),\"\",IF(K378=\"\",\"délai à préciser\",IF(M378=\"\",\"statut à préciser\",IF(M378=\"finalisée\",IF(N378=\"\",\"date de solde à préciser\",IF(K378>=N378,\"fait\",\"retard\")),(IF(K378<TODAY(),\"retard\",\"Ok\"))))))","v":""},{"$f":"IF(AND(N378<>\"\",ISBLANK(N378),K378<TODAY()),\"Oui\",\"Non\")","v":"Non"},null,{"$f":"IF(ISBLANK(H378),\"\",IF(OR(H378=\"Préventive\",H378=\"Corrective\"),\"Oui\",\"Non\"))","v":""},null,null,null,null,null,{"$f":"IF(AND(U378<>\"\",ISBLANK(X378),U378<TODAY()),\"Oui\",\"Non\")","v":"Non"},{"$f":"IF(AND(S378=\"Oui\",ISBLANK(X378)),\"Oui\",\"Non\")","v":"Non"},null,null,null,null,{"$f":"IF(K378=\"\",\"\",K378-TODAY())","v":""},{"$f":"IF(ISBLANK(F378),CONCATENATE(E378,\" - \",AG378),CONCATENATE(F378,\" - \",AG378))","v":" - "},{"$f":"IF(ISBLANK(B378),\"\",YEAR(C378))","v":""},{"$f":"CONCATENATE(H378,\"-\",AG378)","v":"-"},{"$f":"CONCATENATE(M378,\"-\",AH378)","v":"--"}]
[{"$f":"IF(ISBLANK(B379),\"\",$C$2)","v":""},null,null,{"$f":"IF(ISBLANK(B379),\"\",COUNTA(#REF!))","v":""},null,null,null,null,null,null,null,null,null,null,{"$f":"IF(AND(K379<>\"\",ISBLANK(N379),K379<TODAY()),\"Oui\",\"Non\")","v":"Non"},{"$f":"IF(ISBLANK(I379),\"\",IF(K379=\"\",\"délai à préciser\",IF(M379=\"\",\"statut à préciser\",IF(M379=\"finalisée\",IF(N379=\"\",\"date de solde à préciser\",IF(K379>=N379,\"fait\",\"retard\")),(IF(K379<TODAY(),\"retard\",\"Ok\"))))))","v":""},{"$f":"IF(AND(N379<>\"\",ISBLANK(N379),K379<TODAY()),\"Oui\",\"Non\")","v":"Non"},null,{"$f":"IF(ISBLANK(H379),\"\",IF(OR(H379=\"Préventive\",H379=\"Corrective\"),\"Oui\",\"Non\"))","v":""},null,null,null,null,null,{"$f":"IF(AND(U379<>\"\",ISBLANK(X379),U379<TODAY()),\"Oui\",\"Non\")","v":"Non"},{"$f":"IF(AND(S379=\"Oui\",ISBLANK(X379)),\"Oui\",\"Non\")","v":"Non"},null,null,null,null,{"$f":"IF(K379=\"\",\"\",K379-TODAY())","v":""},{"$f":"IF(ISBLANK(F379),CONCATENATE(E379,\" - \",AG379),CONCATENATE(F379,\" - \",AG379))","v":" - "},{"$f":"IF(ISBLANK(B379),\"\",YEAR(C379))","v":""},{"$f":"CONCATENATE(H379,\"-\",AG379)","v":"-"},{"$f":"CONCATENATE(M379,\"-\",AH379)","v":"--"}]
[{"$f":"IF(ISBLANK(B380),\"\",$C$2)","v":""},null,null,{"$f":"IF(ISBLANK(B380),\"\",COUNTA(#REF!))","v":""},null,null,null,null,null,null,null,null,null,null,{"$f":"IF(AND(K380<>\"\",ISBLANK(N380),K380<TODAY()),\"Oui\",\"Non\")","v":"Non"},{"$f":"IF(ISBLANK(I380),\"\",IF(K380=\"\",\"délai à préciser\",IF(M380=\"\",\"statut à préciser\",IF(M380=\"finalisée\",IF(N380=\"\",\"date de solde à préciser\",IF(K380>=N380,\"fait\",\"retard\")),(IF(K380<TODAY(),\"retard\",\"Ok\"))))))","v":""},{"$f":"IF(AND(N380<>\"\",ISBLANK(N380),K380<TODAY()),\"Oui\",\"Non\")","v":"Non"},null,{"$f":"IF(ISBLANK(H380),\"\",IF(OR(H380=\"Préventive\",H380=\"Corrective\"),\"Oui\",\"Non\"))","v":""},null,null,null,null,null,{"$f":"IF(AND(U380<>\"\",ISBLANK(X380),U380<TODAY()),\"Oui\",\"Non\")","v":"Non"},{"$f":"IF(AND(S380=\"Oui\",ISBLANK(X380)),\"Oui\",\"Non\")","v":"Non"},null,null,null,null,{"$f":"IF(K380=\"\",\"\",K380-TODAY())","v":""},{"$f":"IF(ISBLANK(F380),CONCATENATE(E380,\" - \",AG380),CONCATENATE(F380,\" - \",AG380))","v":" - "},{"$f":"IF(ISBLANK(B380),\"\",YEAR(C380))","v":""},{"$f":"CONCATENATE(H380,\"-\",AG380)","v":"-"},{"$f":"CONCATENATE(M380,\"-\",AH380)","v":"--"}]
[{"$f":"IF(ISBLANK(B381),\"\",$C$2)","v":""},null,null,{"$f":"IF(ISBLANK(B381),\"\",COUNTA(#REF!))","v":""},null,null,null,null,null,null,null,null,null,null,{"$f":"IF(AND(K381<>\"\",ISBLANK(N381),K381<TODAY()),\"Oui\",\"Non\")","v":"Non"},{"$f":"IF(ISBLANK(I381),\"\",IF(K381=\"\",\"délai à préciser\",IF(M381=\"\",\"statut à préciser\",IF(M381=\"finalisée\",IF(N381=\"\",\"date de solde à préciser\",IF(K381>=N381,\"fait\",\"retard\")),(IF(K381<TODAY(),\"retard\",\"Ok\"))))))","v":""},{"$f":"IF(AND(N381<>\"\",ISBLANK(N381),K381<TODAY()),\"Oui\",\"Non\")","v":"Non"},null,{"$f":"IF(ISBLANK(H381),\"\",IF(OR(H381=\"Préventive\",H381=\"Corrective\"),\"Oui\",\"Non\"))","v":""},null,null,null,null,null,{"$f":"IF(AND(U381<>\"\",ISBLANK(X381),U381<TODAY()),\"Oui\",\"Non\")","v":"Non"},{"$f":"IF(AND(S381=\"Oui\",ISBLANK(X381)),\"Oui\",\"Non\")","v":"Non"},null,null,null,null,{"$f":"IF(K381=\"\",\"\",K381-TODAY())","v":""},{"$f":"IF(ISBLANK(F381),CONCATENATE(E381,\" - \",AG381),CONCATENATE(F381,\" - \",AG381))","v":" - "},{"$f":"IF(ISBLANK(B381),\"\",YEAR(C381))","v":""},{"$f":"CONCATENATE(H381,\"-\",AG381)","v":"-"},{"$f":"CONCATENATE(M381,\"-\",AH381)","v":"--"}]
[{"$f":"IF(ISBLANK(B382),\"\",$C$2)","v":""},null,null,{"$f":"IF(ISBLANK(B382),\"\",COUNTA(#REF!))","v":""},null,null,null,null,null,null,null,null,null,null,{"$f":"IF(AND(K382<>\"\",ISBLANK(N382),K382<TODAY()),\"Oui\",\"Non\")","v":"Non"},{"$f":"IF(ISBLANK(I382),\"\",IF(K382=\"\",\"délai à préciser\",IF(M382=\"\",\"statut à préciser\",IF(M382=\"finalisée\",IF(N382=\"\",\"date de solde à préciser\",IF(K382>=N382,\"fait\",\"retard\")),(IF(K382<TODAY(),\"retard\",\"Ok\"))))))","v":""},{"$f":"IF(AND(N382<>\"\",ISBLANK(N382),K382<TODAY()),\"Oui\",\"Non\")","v":"Non"},null,{"$f":"IF(ISBLANK(H382),\"\",IF(OR(H382=\"Préventive\",H382=\"Corrective\"),\"Oui\",\"Non\"))","v":""},null,null,null,null,null,{"$f":"IF(AND(U382<>\"\",ISBLANK(X382),U382<TODAY()),\"Oui\",\"Non\")","v":"Non"},{"$f":"IF(AND(S382=\"Oui\",ISBLANK(X382)),\"Oui\",\"Non\")","v":"Non"},null,null,null,null,{"$f":"IF(K382=\"\",\"\",K382-TODAY())","v":""},{"$f":"IF(ISBLANK(F382),CONCATENATE(E382,\" - \",AG382),CONCATENATE(F382,\" - \",AG382))","v":" - "},{"$f":"IF(ISBLANK(B382),\"\",YEAR(C382))","v":""},{"$f":"CONCATENATE(H382,\"-\",AG382)","v":"-"},{"$f":"CONCATENATE(M382,\"-\",AH382)","v":"--"}]
[{"$f":"IF(ISBLANK(B383),\"\",$C$2)","v":""},null,null,{"$f":"IF(ISBLANK(B383),\"\",COUNTA(#REF!))","v":""},null,null,null,null,null,null,null,null,null,null,{"$f":"IF(AND(K383<>\"\",ISBLANK(N383),K383<TODAY()),\"Oui\",\"Non\")","v":"Non"},{"$f":"IF(ISBLANK(I383),\"\",IF(K383=\"\",\"délai à préciser\",IF(M383=\"\",\"statut à préciser\",IF(M383=\"finalisée\",IF(N383=\"\",\"date de solde à préciser\",IF(K383>=N383,\"fait\",\"retard\")),(IF(K383<TODAY(),\"retard\",\"Ok\"))))))","v":""},{"$f":"IF(AND(N383<>\"\",ISBLANK(N383),K383<TODAY()),\"Oui\",\"Non\")","v":"Non"},null,{"$f":"IF(ISBLANK(H383),\"\",IF(OR(H383=\"Préventive\",H383=\"Corrective\"),\"Oui\",\"Non\"))","v":""},null,null,null,null,null,{"$f":"IF(AND(U383<>\"\",ISBLANK(X383),U383<TODAY()),\"Oui\",\"Non\")","v":"Non"},{"$f":"IF(AND(S383=\"Oui\",ISBLANK(X383)),\"Oui\",\"Non\")","v":"Non"},null,null,null,null,{"$f":"IF(K383=\"\",\"\",K383-TODAY())","v":""},{"$f":"IF(ISBLANK(F383),CONCATENATE(E383,\" - \",AG383),CONCATENATE(F383,\" - \",AG383))","v":" - "},{"$f":"IF(ISBLANK(B383),\"\",YEAR(C383))","v":""},{"$f":"CONCATENATE(H383,\"-\",AG383)","v":"-"},{"$f":"CONCATENATE(M383,\"-\",AH383)","v":"--"}]
[{"$f":"IF(ISBLANK(B384),\"\",$C$2)","v":""},null,null,{"$f":"IF(ISBLANK(B384),\"\",COUNTA(#REF!))","v":""},null,null,null,null,null,null,null,null,null,null,{"$f":"IF(AND(K384<>\"\",ISBLANK(N384),K384<TODAY()),\"Oui\",\"Non\")","v":"Non"},{"$f":"IF(ISBLANK(I384),\"\",IF(K384=\"\",\"délai à préciser\",IF(M384=\"\",\"statut à préciser\",IF(M384=\"finalisée\",IF(N384=\"\",\"date de solde à préciser\",IF(K384>=N384,\"fait\",\"retard\")),(IF(K384<TODAY(),\"retard\",\"Ok\"))))))","v":""},{"$f":"IF(AND(N384<>\"\",ISBLANK(N384),K384<TODAY()),\"Oui\",\"Non\")","v":"Non"},null,{"$f":"IF(ISBLANK(H384),\"\",IF(OR(H384=\"Préventive\",H384=\"Corrective\"),\"Oui\",\"Non\"))","v":""},null,null,null,null,null,{"$f":"IF(AND(U384<>\"\",ISBLANK(X384),U384<TODAY()),\"Oui\",\"Non\")","v":"Non"},{"$f":"IF(AND(S384=\"Oui\",ISBLANK(X384)),\"Oui\",\"Non\")","v":"Non"},null,null,null,null,{"$f":"IF(K384=\"\",\"\",K384-TODAY())","v":""},{"$f":"IF(ISBLANK(F384),CONCATENATE(E384,\" - \",AG384),CONCATENATE(F384,\" - \",AG384))","v":" - "},{"$f":"IF(ISBLANK(B384),\"\",YEAR(C384))","v":""},{"$f":"CONCATENATE(H384,\"-\",AG384)","v":"-"},{"$f":"CONCATENATE(M384,\"-\",AH384)","v":"--"}]
[{"$f":"IF(ISBLANK(B385),\"\",$C$2)","v":""},null,null,{"$f":"IF(ISBLANK(B385),\"\",COUNTA(#REF!))","v":""},null,null,null,null,null,null,null,null,null,null,{"$f":"IF(AND(K385<>\"\",ISBLANK(N385),K385<TODAY()),\"Oui\",\"Non\")","v":"Non"},{"$f":"IF(ISBLANK(I385),\"\",IF(K385=\"\",\"délai à préciser\",IF(M385=\"\",\"statut à préciser\",IF(M385=\"finalisée\",IF(N385=\"\",\"date de solde à préciser\",IF(K385>=N385,\"fait\",\"retard\")),(IF(K385<TODAY(),\"retard\",\"Ok\"))))))","v":""},{"$f":"IF(AND(N385<>\"\",ISBLANK(N385),K385<TODAY()),\"Oui\",\"Non\")","v":"Non"},null,{"$f":"IF(ISBLANK(H385),\"\",IF(OR(H385=\"Préventive\",H385=\"Corrective\"),\"Oui\",\"Non\"))","v":""},null,null,null,null,null,{"$f":"IF(AND(U385<>\"\",ISBLANK(X385),U385<TODAY()),\"Oui\",\"Non\")","v":"Non"},{"$f":"IF(AND(S385=\"Oui\",ISBLANK(X385)),\"Oui\",\"Non\")","v":"Non"},null,null,null,null,{"$f":"IF(K385=\"\",\"\",K385-TODAY())","v":""},{"$f":"IF(ISBLANK(F385),CONCATENATE(E385,\" - \",AG385),CONCATENATE(F385,\" - \",AG385))","v":" - "},{"$f":"IF(ISBLANK(B385),\"\",YEAR(C385))","v":""},{"$f":"CONCATENATE(H385,\"-\",AG385)","v":"-"},{"$f":"CONCATENATE(M385,\"-\",AH385)","v":"--"}]
[{"$f":"IF(ISBLANK(B386),\"\",$C$2)","v":""},null,null,{"$f":"IF(ISBLANK(B386),\"\",COUNTA(#REF!))","v":""},null,null,null,null,null,null,null,null,null,null,{"$f":"IF(AND(K386<>\"\",ISBLANK(N386),K386<TODAY()),\"Oui\",\"Non\")","v":"Non"},{"$f":"IF(ISBLANK(I386),\"\",IF(K386=\"\",\"délai à préciser\",IF(M386=\"\",\"statut à préciser\",IF(M386=\"finalisée\",IF(N386=\"\",\"date de solde à préciser\",IF(K386>=N386,\"fait\",\"retard\")),(IF(K386<TODAY(),\"retard\",\"Ok\"))))))","v":""},{"$f":"IF(AND(N386<>\"\",ISBLANK(N386),K386<TODAY()),\"Oui\",\"Non\")","v":"Non"},null,{"$f":"IF(ISBLANK(H386),\"\",IF(OR(H386=\"Préventive\",H386=\"Corrective\"),\"Oui\",\"Non\"))","v":""},null,null,null,null,null,{"$f":"IF(AND(U386<>\"\",ISBLANK(X386),U386<TODAY()),\"Oui\",\"Non\")","v":"Non"},{"$f":"IF(AND(S386=\"Oui\",ISBLANK(X386)),\"Oui\",\"Non\")","v":"Non"},null,null,null,null,{"$f":"IF(K386=\"\",\"\",K386-TODAY())","v":""},{"$f":"IF(ISBLANK(F386),CONCATENATE(E386,\" - \",AG386),CONCATENATE(F386,\" - \",AG386))","v":" - "},{"$f":"IF(ISBLANK(B386),\"\",YEAR(C386))","v":""},{"$f":"CONCATENATE(H386,\"-\",AG386)","v":"-"},{"$f":"CONCATENATE(M386,\"-\",AH386)","v":"--"}]
[{"$f":"IF(ISBLANK(B387),\"\",$C$2)","v":""},null,null,{"$f":"IF(ISBLANK(B387),\"\",COUNTA(#REF!))","v":""},null,null,null,null,null,null,null,null,null,null,{"$f":"IF(AND(K387<>\"\",ISBLANK(N387),K387<TODAY()),\"Oui\",\"Non\")","v":"Non"},{"$f":"IF(ISBLANK(I387),\"\",IF(K387=\"\",\"délai à préciser\",IF(M387=\"\",\"statut à préciser\",IF(M387=\"finalisée\",IF(N387=\"\",\"date de solde à préciser\",IF(K387>=N387,\"fait\",\"retard\")),(IF(K387<TODAY(),\"retard\",\"Ok\"))))))","v":""},{"$f":"IF(AND(N387<>\"\",ISBLANK(N387),K387<TODAY()),\"Oui\",\"Non\")","v":"Non"},null,{"$f":"IF(ISBLANK(H387),\"\",IF(OR(H387=\"Préventive\",H387=\"Corrective\"),\"Oui\",\"Non\"))","v":""},null,null,null,null,null,{"$f":"IF(AND(U387<>\"\",ISBLANK(X387),U387<TODAY()),\"Oui\",\"Non\")","v":"Non"},{"$f":"IF(AND(S387=\"Oui\",ISBLANK(X387)),\"Oui\",\"Non\")","v":"Non"},null,null,null,null,{"$f":"IF(K387=\"\",\"\",K387-TODAY())","v":""},{"$f":"IF(ISBLANK(F387),CONCATENATE(E387,\" - \",AG387),CONCATENATE(F387,\" - \",AG387))","v":" - "},{"$f":"IF(ISBLANK(B387),\"\",YEAR(C387))","v":""},{"$f":"CONCATENATE(H387,\"-\",AG387)","v":"-"},{"$f":"CONCATENATE(M387,\"-\",AH387)","v":"--"}]
[{"$f":"IF(ISBLANK(B388),\"\",$C$2)","v":""},null,null,{"$f":"IF(ISBLANK(B388),\"\",COUNTA(#REF!))","v":""},null,null,null,null,null,null,null,null,null,null,{"$f":"IF(AND(K388<>\"\",ISBLANK(N388),K388<TODAY()),\"Oui\",\"Non\")","v":"Non"},{"$f":"IF(ISBLANK(I388),\"\",IF(K388=\"\",\"délai à préciser\",IF(M388=\"\",\"statut à préciser\",IF(M388=\"finalisée\",IF(N388=\"\",\"date de solde à préciser\",IF(K388>=N388,\"fait\",\"retard\")),(IF(K388<TODAY(),\"retard\",\"Ok\"))))))","v":""},{"$f":"IF(AND(N388<>\"\",ISBLANK(N388),K388<TODAY()),\"Oui\",\"Non\")","v":"Non"},null,{"$f":"IF(ISBLANK(H388),\"\",IF(OR(H388=\"Préventive\",H388=\"Corrective\"),\"Oui\",\"Non\"))","v":""},null,null,null,null,null,{"$f":"IF(AND(U388<>\"\",ISBLANK(X388),U388<TODAY()),\"Oui\",\"Non\")","v":"Non"},{"$f":"IF(AND(S388=\"Oui\",ISBLANK(X388)),\"Oui\",\"Non\")","v":"Non"},null,null,null,null,{"$f":"IF(K388=\"\",\"\",K388-TODAY())","v":""},{"$f":"IF(ISBLANK(F388),CONCATENATE(E388,\" - \",AG388),CONCATENATE(F388,\" - \",AG388))","v":" - "},{"$f":"IF(ISBLANK(B388),\"\",YEAR(C388))","v":""},{"$f":"CONCATENATE(H388,\"-\",AG388)","v":"-"},{"$f":"CONCATENATE(M388,\"-\",AH388)","v":"--"}]
[{"$f":"IF(ISBLANK(B389),\"\",$C$2)","v":""},null,null,{"$f":"IF(ISBLANK(B389),\"\",COUNTA(#REF!))","v":""},null,null,null,null,null,null,null,null,null,null,{"$f":"IF(AND(K389<>\"\",ISBLANK(N389),K389<TODAY()),\"Oui\",\"Non\")","v":"Non"},{"$f":"IF(ISBLANK(I389),\"\",IF(K389=\"\",\"délai à préciser\",IF(M389=\"\",\"statut à préciser\",IF(M389=\"finalisée\",IF(N389=\"\",\"date de solde à préciser\",IF(K389>=N389,\"fait\",\"retard\")),(IF(K389<TODAY(),\"retard\",\"Ok\"))))))","v":""},{"$f":"IF(AND(N389<>\"\",ISBLANK(N389),K389<TODAY()),\"Oui\",\"Non\")","v":"Non"},null,{"$f":"IF(ISBLANK(H389),\"\",IF(OR(H389=\"Préventive\",H389=\"Corrective\"),\"Oui\",\"Non\"))","v":""},null,null,null,null,null,{"$f":"IF(AND(U389<>\"\",ISBLANK(X389),U389<TODAY()),\"Oui\",\"Non\")","v":"Non"},{"$f":"IF(AND(S389=\"Oui\",ISBLANK(X389)),\"Oui\",\"Non\")","v":"Non"},null,null,null,null,{"$f":"IF(K389=\"\",\"\",K389-TODAY())","v":""},{"$f":"IF(ISBLANK(F389),CONCATENATE(E389,\" - \",AG389),CONCATENATE(F389,\" - \",AG389))","v":" - "},{"$f":"IF(ISBLANK(B389),\"\",YEAR(C389))","v":""},{"$f":"CONCATENATE(H389,\"-\",AG389)","v":"-"},{"$f":"CONCATENATE(M389,\"-\",AH389)","v":"--"}]
[{"$f":"IF(ISBLANK(B390),\"\",$C$2)","v":""},null,null,{"$f":"IF(ISBLANK(B390),\"\",COUNTA(#REF!))","v":""},null,null,null,null,null,null,null,null,null,null,{"$f":"IF(AND(K390<>\"\",ISBLANK(N390),K390<TODAY()),\"Oui\",\"Non\")","v":"Non"},{"$f":"IF(ISBLANK(I390),\"\",IF(K390=\"\",\"délai à préciser\",IF(M390=\"\",\"statut à préciser\",IF(M390=\"finalisée\",IF(N390=\"\",\"date de solde à préciser\",IF(K390>=N390,\"fait\",\"retard\")),(IF(K390<TODAY(),\"retard\",\"Ok\"))))))","v":""},{"$f":"IF(AND(N390<>\"\",ISBLANK(N390),K390<TODAY()),\"Oui\",\"Non\")","v":"Non"},null,{"$f":"IF(ISBLANK(H390),\"\",IF(OR(H390=\"Préventive\",H390=\"Corrective\"),\"Oui\",\"Non\"))","v":""},null,null,null,null,null,{"$f":"IF(AND(U390<>\"\",ISBLANK(X390),U390<TODAY()),\"Oui\",\"Non\")","v":"Non"},{"$f":"IF(AND(S390=\"Oui\",ISBLANK(X390)),\"Oui\",\"Non\")","v":"Non"},null,null,null,null,{"$f":"IF(K390=\"\",\"\",K390-TODAY())","v":""},{"$f":"IF(ISBLANK(F390),CONCATENATE(E390,\" - \",AG390),CONCATENATE(F390,\" - \",AG390))","v":" - "},{"$f":"IF(ISBLANK(B390),\"\",YEAR(C390))","v":""},{"$f":"CONCATENATE(H390,\"-\",AG390)","v":"-"},{"$f":"CONCATENATE(M390,\"-\",AH390)","v":"--"}]
[{"$f":"IF(ISBLANK(B391),\"\",$C$2)","v":""},null,null,{"$f":"IF(ISBLANK(B391),\"\",COUNTA(#REF!))","v":""},null,null,null,null,null,null,null,null,null,null,{"$f":"IF(AND(K391<>\"\",ISBLANK(N391),K391<TODAY()),\"Oui\",\"Non\")","v":"Non"},{"$f":"IF(ISBLANK(I391),\"\",IF(K391=\"\",\"délai à préciser\",IF(M391=\"\",\"statut à préciser\",IF(M391=\"finalisée\",IF(N391=\"\",\"date de solde à préciser\",IF(K391>=N391,\"fait\",\"retard\")),(IF(K391<TODAY(),\"retard\",\"Ok\"))))))","v":""},{"$f":"IF(AND(N391<>\"\",ISBLANK(N391),K391<TODAY()),\"Oui\",\"Non\")","v":"Non"},null,{"$f":"IF(ISBLANK(H391),\"\",IF(OR(H391=\"Préventive\",H391=\"Corrective\"),\"Oui\",\"Non\"))","v":""},null,null,null,null,null,{"$f":"IF(AND(U391<>\"\",ISBLANK(X391),U391<TODAY()),\"Oui\",\"Non\")","v":"Non"},{"$f":"IF(AND(S391=\"Oui\",ISBLANK(X391)),\"Oui\",\"Non\")","v":"Non"},null,null,null,null,{"$f":"IF(K391=\"\",\"\",K391-TODAY())","v":""},{"$f":"IF(ISBLANK(F391),CONCATENATE(E391,\" - \",AG391),CONCATENATE(F391,\" - \",AG391))","v":" - "},{"$f":"IF(ISBLANK(B391),\"\",YEAR(C391))","v":""},{"$f":"CONCATENATE(H391,\"-\",AG391)","v":"-"},{"$f":"CONCATENATE(M391,\"-\",AH391)","v":"--"}]
[{"$f":"IF(ISBLANK(B392),\"\",$C$2)","v":""},null,null,{"$f":"IF(ISBLANK(B392),\"\",COUNTA(#REF!))","v":""},null,null,null,null,null,null,null,null,null,null,{"$f":"IF(AND(K392<>\"\",ISBLANK(N392),K392<TODAY()),\"Oui\",\"Non\")","v":"Non"},{"$f":"IF(ISBLANK(I392),\"\",IF(K392=\"\",\"délai à préciser\",IF(M392=\"\",\"statut à préciser\",IF(M392=\"finalisée\",IF(N392=\"\",\"date de solde à préciser\",IF(K392>=N392,\"fait\",\"retard\")),(IF(K392<TODAY(),\"retard\",\"Ok\"))))))","v":""},{"$f":"IF(AND(N392<>\"\",ISBLANK(N392),K392<TODAY()),\"Oui\",\"Non\")","v":"Non"},null,{"$f":"IF(ISBLANK(H392),\"\",IF(OR(H392=\"Préventive\",H392=\"Corrective\"),\"Oui\",\"Non\"))","v":""},null,null,null,null,null,{"$f":"IF(AND(U392<>\"\",ISBLANK(X392),U392<TODAY()),\"Oui\",\"Non\")","v":"Non"},{"$f":"IF(AND(S392=\"Oui\",ISBLANK(X392)),\"Oui\",\"Non\")","v":"Non"},null,null,null,null,{"$f":"IF(K392=\"\",\"\",K392-TODAY())","v":""},{"$f":"IF(ISBLANK(F392),CONCATENATE(E392,\" - \",AG392),CONCATENATE(F392,\" - \",AG392))","v":" - "},{"$f":"IF(ISBLANK(B392),\"\",YEAR(C392))","v":""},{"$f":"CONCATENATE(H392,\"-\",AG392)","v":"-"},{"$f":"CONCATENATE(M392,\"-\",AH392)","v":"--"}]
[{"$f":"IF(ISBLANK(B393),\"\",$C$2)","v":""},null,null,{"$f":"IF(ISBLANK(B393),\"\",COUNTA(#REF!))","v":""},null,null,null,null,null,null,null,null,null,null,{"$f":"IF(AND(K393<>\"\",ISBLANK(N393),K393<TODAY()),\"Oui\",\"Non\")","v":"Non"},{"$f":"IF(ISBLANK(I393),\"\",IF(K393=\"\",\"délai à préciser\",IF(M393=\"\",\"statut à préciser\",IF(M393=\"finalisée\",IF(N393=\"\",\"date de solde à préciser\",IF(K393>=N393,\"fait\",\"retard\")),(IF(K393<TODAY(),\"retard\",\"Ok\"))))))","v":""},{"$f":"IF(AND(N393<>\"\",ISBLANK(N393),K393<TODAY()),\"Oui\",\"Non\")","v":"Non"},null,{"$f":"IF(ISBLANK(H393),\"\",IF(OR(H393=\"Préventive\",H393=\"Corrective\"),\"Oui\",\"Non\"))","v":""},null,null,null,null,null,{"$f":"IF(AND(U393<>\"\",ISBLANK(X393),U393<TODAY()),\"Oui\",\"Non\")","v":"Non"},{"$f":"IF(AND(S393=\"Oui\",ISBLANK(X393)),\"Oui\",\"Non\")","v":"Non"},null,null,null,null,{"$f":"IF(K393=\"\",\"\",K393-TODAY())","v":""},{"$f":"IF(ISBLANK(F393),CONCATENATE(E393,\" - \",AG393),CONCATENATE(F393,\" - \",AG393))","v":" - "},{"$f":"IF(ISBLANK(B393),\"\",YEAR(C393))","v":""},{"$f":"CONCATENATE(H393,\"-\",AG393)","v":"-"},{"$f":"CONCATENATE(M393,\"-\",AH393)","v":"--"}]
[{"$f":"IF(ISBLANK(B394),\"\",$C$2)","v":""},null,null,{"$f":"IF(ISBLANK(B394),\"\",COUNTA(#REF!))","v":""},null,null,null,null,null,null,null,null,null,null,{"$f":"IF(AND(K394<>\"\",ISBLANK(N394),K394<TODAY()),\"Oui\",\"Non\")","v":"Non"},{"$f":"IF(ISBLANK(I394),\"\",IF(K394=\"\",\"délai à préciser\",IF(M394=\"\",\"statut à préciser\",IF(M394=\"finalisée\",IF(N394=\"\",\"date de solde à préciser\",IF(K394>=N394,\"fait\",\"retard\")),(IF(K394<TODAY(),\"retard\",\"Ok\"))))))","v":""},{"$f":"IF(AND(N394<>\"\",ISBLANK(N394),K394<TODAY()),\"Oui\",\"Non\")","v":"Non"},null,{"$f":"IF(ISBLANK(H394),\"\",IF(OR(H394=\"Préventive\",H394=\"Corrective\"),\"Oui\",\"Non\"))","v":""},null,null,null,null,null,{"$f":"IF(AND(U394<>\"\",ISBLANK(X394),U394<TODAY()),\"Oui\",\"Non\")","v":"Non"},{"$f":"IF(AND(S394=\"Oui\",ISBLANK(X394)),\"Oui\",\"Non\")","v":"Non"},null,null,null,null,{"$f":"IF(K394=\"\",\"\",K394-TODAY())","v":""},{"$f":"IF(ISBLANK(F394),CONCATENATE(E394,\" - \",AG394),CONCATENATE(F394,\" - \",AG394))","v":" - "},{"$f":"IF(ISBLANK(B394),\"\",YEAR(C394))","v":""},{"$f":"CONCATENATE(H394,\"-\",AG394)","v":"-"},{"$f":"CONCATENATE(M394,\"-\",AH394)","v":"--"}]
[{"$f":"IF(ISBLANK(B395),\"\",$C$2)","v":""},null,null,{"$f":"IF(ISBLANK(B395),\"\",COUNTA(#REF!))","v":""},null,null,null,null,null,null,null,null,null,null,{"$f":"IF(AND(K395<>\"\",ISBLANK(N395),K395<TODAY()),\"Oui\",\"Non\")","v":"Non"},{"$f":"IF(ISBLANK(I395),\"\",IF(K395=\"\",\"délai à préciser\",IF(M395=\"\",\"statut à préciser\",IF(M395=\"finalisée\",IF(N395=\"\",\"date de solde à préciser\",IF(K395>=N395,\"fait\",\"retard\")),(IF(K395<TODAY(),\"retard\",\"Ok\"))))))","v":""},{"$f":"IF(AND(N395<>\"\",ISBLANK(N395),K395<TODAY()),\"Oui\",\"Non\")","v":"Non"},null,{"$f":"IF(ISBLANK(H395),\"\",IF(OR(H395=\"Préventive\",H395=\"Corrective\"),\"Oui\",\"Non\"))","v":""},null,null,null,null,null,{"$f":"IF(AND(U395<>\"\",ISBLANK(X395),U395<TODAY()),\"Oui\",\"Non\")","v":"Non"},{"$f":"IF(AND(S395=\"Oui\",ISBLANK(X395)),\"Oui\",\"Non\")","v":"Non"},null,null,null,null,{"$f":"IF(K395=\"\",\"\",K395-TODAY())","v":""},{"$f":"IF(ISBLANK(F395),CONCATENATE(E395,\" - \",AG395),CONCATENATE(F395,\" - \",AG395))","v":" - "},{"$f":"IF(ISBLANK(B395),\"\",YEAR(C395))","v":""},{"$f":"CONCATENATE(H395,\"-\",AG395)","v":"-"},{"$f":"CONCATENATE(M395,\"-\",AH395)","v":"--"}]
[{"$f":"IF(ISBLANK(B396),\"\",$C$2)","v":""},null,null,{"$f":"IF(ISBLANK(B396),\"\",COUNTA(#REF!))","v":""},null,null,null,null,null,null,null,null,null,null,{"$f":"IF(AND(K396<>\"\",ISBLANK(N396),K396<TODAY()),\"Oui\",\"Non\")","v":"Non"},{"$f":"IF(ISBLANK(I396),\"\",IF(K396=\"\",\"délai à préciser\",IF(M396=\"\",\"statut à préciser\",IF(M396=\"finalisée\",IF(N396=\"\",\"date de solde à préciser\",IF(K396>=N396,\"fait\",\"retard\")),(IF(K396<TODAY(),\"retard\",\"Ok\"))))))","v":""},{"$f":"IF(AND(N396<>\"\",ISBLANK(N396),K396<TODAY()),\"Oui\",\"Non\")","v":"Non"},null,{"$f":"IF(ISBLANK(H396),\"\",IF(OR(H396=\"Préventive\",H396=\"Corrective\"),\"Oui\",\"Non\"))","v":""},null,null,null,null,null,{"$f":"IF(AND(U396<>\"\",ISBLANK(X396),U396<TODAY()),\"Oui\",\"Non\")","v":"Non"},{"$f":"IF(AND(S396=\"Oui\",ISBLANK(X396)),\"Oui\",\"Non\")","v":"Non"},null,null,null,null,{"$f":"IF(K396=\"\",\"\",K396-TODAY())","v":""},{"$f":"IF(ISBLANK(F396),CONCATENATE(E396,\" - \",AG396),CONCATENATE(F396,\" - \",AG396))","v":" - "},{"$f":"IF(ISBLANK(B396),\"\",YEAR(C396))","v":""},{"$f":"CONCATENATE(H396,\"-\",AG396)","v":"-"},{"$f":"CONCATENATE(M396,\"-\",AH396)","v":"--"}]
[{"$f":"IF(ISBLANK(B397),\"\",$C$2)","v":""},null,null,{"$f":"IF(ISBLANK(B397),\"\",COUNTA(#REF!))","v":""},null,null,null,null,null,null,null,null,null,null,{"$f":"IF(AND(K397<>\"\",ISBLANK(N397),K397<TODAY()),\"Oui\",\"Non\")","v":"Non"},{"$f":"IF(ISBLANK(I397),\"\",IF(K397=\"\",\"délai à préciser\",IF(M397=\"\",\"statut à préciser\",IF(M397=\"finalisée\",IF(N397=\"\",\"date de solde à préciser\",IF(K397>=N397,\"fait\",\"retard\")),(IF(K397<TODAY(),\"retard\",\"Ok\"))))))","v":""},{"$f":"IF(AND(N397<>\"\",ISBLANK(N397),K397<TODAY()),\"Oui\",\"Non\")","v":"Non"},null,{"$f":"IF(ISBLANK(H397),\"\",IF(OR(H397=\"Préventive\",H397=\"Corrective\"),\"Oui\",\"Non\"))","v":""},null,null,null,null,null,{"$f":"IF(AND(U397<>\"\",ISBLANK(X397),U397<TODAY()),\"Oui\",\"Non\")","v":"Non"},{"$f":"IF(AND(S397=\"Oui\",ISBLANK(X397)),\"Oui\",\"Non\")","v":"Non"},null,null,null,null,{"$f":"IF(K397=\"\",\"\",K397-TODAY())","v":""},{"$f":"IF(ISBLANK(F397),CONCATENATE(E397,\" - \",AG397),CONCATENATE(F397,\" - \",AG397))","v":" - "},{"$f":"IF(ISBLANK(B397),\"\",YEAR(C397))","v":""},{"$f":"CONCATENATE(H397,\"-\",AG397)","v":"-"},{"$f":"CONCATENATE(M397,\"-\",AH397)","v":"--"}]
[{"$f":"IF(ISBLANK(B398),\"\",$C$2)","v":""},null,null,{"$f":"IF(ISBLANK(B398),\"\",COUNTA(#REF!))","v":""},null,null,null,null,null,null,null,null,null,null,{"$f":"IF(AND(K398<>\"\",ISBLANK(N398),K398<TODAY()),\"Oui\",\"Non\")","v":"Non"},{"$f":"IF(ISBLANK(I398),\"\",IF(K398=\"\",\"délai à préciser\",IF(M398=\"\",\"statut à préciser\",IF(M398=\"finalisée\",IF(N398=\"\",\"date de solde à préciser\",IF(K398>=N398,\"fait\",\"retard\")),(IF(K398<TODAY(),\"retard\",\"Ok\"))))))","v":""},{"$f":"IF(AND(N398<>\"\",ISBLANK(N398),K398<TODAY()),\"Oui\",\"Non\")","v":"Non"},null,{"$f":"IF(ISBLANK(H398),\"\",IF(OR(H398=\"Préventive\",H398=\"Corrective\"),\"Oui\",\"Non\"))","v":""},null,null,null,null,null,{"$f":"IF(AND(U398<>\"\",ISBLANK(X398),U398<TODAY()),\"Oui\",\"Non\")","v":"Non"},{"$f":"IF(AND(S398=\"Oui\",ISBLANK(X398)),\"Oui\",\"Non\")","v":"Non"},null,null,null,null,{"$f":"IF(K398=\"\",\"\",K398-TODAY())","v":""},{"$f":"IF(ISBLANK(F398),CONCATENATE(E398,\" - \",AG398),CONCATENATE(F398,\" - \",AG398))","v":" - "},{"$f":"IF(ISBLANK(B398),\"\",YEAR(C398))","v":""},{"$f":"CONCATENATE(H398,\"-\",AG398)","v":"-"},{"$f":"CONCATENATE(M398,\"-\",AH398)","v":"--"}]

{"sheet":"Suivi du PA 3","index":3,"n_rows":398,"n_cols":35,"rows_kept":398,"cut":false,"hidden":false,"merged":[[0,2,0,26],[4,1,4,6],[4,7,4,17],[4,18,4,26]]}
[null,null,"Plan d'actions",null,null,null,null,null,null,null,null,null,null,null,null,null,null,null,null,null,null,null,null,null,null,null,null,9,9]
[null,"Processus"]
[null,null,null,null,null,"Modifié le:",null,null,null,{"$f":"COUNTIF(M7:M79,\"en cours\")+COUNTIF(M7:M79,\"à lancer\")","v":0},"actions non clôturées",null,null,null,null,null,null,null,null,{"$f":"COUNTIF(Z8:Z44,\"Oui\")","v":0},"mesures d'efficacité à clôturer"]
[]
[null,"Présentation",null,null,null,null,null,"Plan d'actions",null,null,null,null,null,null,null,null,null,null,"Messure de l'efficacité"]
["Processus","Descriptif","Date","N°","Thème","Origine","Analyse des causes","Type d'action","Actions prévues","Responsable","Délai","Moyen(s)","Statut","Date de solde","Action en retard?","Respect du délai ?","Retard?","Commentaire","Mesure de l'efficacité ?","Résultat Attendu","Délai de la mesure","Responsable de la mesure","Résultat Obtenu","Date de la mesure","Retard?","A faire?","Action efficace?",null,null,null,null,"cat - année","année dysf°","Type d'action - Année","Statut - Type - Année"]
[{"$f":"IF(ISBLANK(B7),\"\",$C$2)","v":""},null,null,{"$f":"IF(ISBLANK(B7),\"\",COUNTA(#REF!))","v":""},null,null,null,null,null,null,null,null,null,null,{"$f":"IF(AND(K7<>\"\",ISBLANK(N7),K7<TODAY()),\"Oui\",\"Non\")","v":"Non"},{"$f":"IF(ISBLANK(I7),\"\",IF(K7=\"\",\"délai à préciser\",IF(M7=\"\",\"statut à préciser\",IF(M7=\"finalisée\",IF(N7=\"\",\"date de solde à préciser\",IF(K7>=N7,\"fait\",\"retard\")),(IF(K7<TODAY(),\"retard\",\"Ok\"))))))","v":""},{"$f":"IF(AND(N7<>\"\",ISBLANK(N7),K7<TODAY()),\"Oui\",\"Non\")","v":"Non"},null,{"$f":"IF(ISBLANK(H7),\"\",IF(OR(H7=\"Préventive\",H7=\"Corrective\"),\"Oui\",\"Non\"))","v":""},null,null,null,null,null,{"$f":"IF(AND(U7<>\"\",ISBLANK(X7),U7<TODAY()),\"Oui\",\"Non\")","v":"Non"},{"$f":"IF(AND(S7=\"Oui\",ISBLANK(X7)),\"Oui\",\"Non\")","v":"Non"},null,null,null,null,{"$f":"IF(K7=\"\",\"\",K7-TODAY())","v":""},{"$f":"IF(ISBLANK(F7),CONCATENATE(E7,\" - \",AG7),CONCATENATE(F7,\" - \",AG7))","v":" - "},{"$f":"IF(ISBLANK(B7),\"\",YEAR(C7))","v":""},{"$f":"CONCATENATE(H7,\"-\",AG7)","v":"-"},{"$f":"CONCATENATE(M7,\"-\",AH7)","v":"--"}]
["",null,null,{"$f":"IF(ISBLANK(B8),\"\",COUNTA(#REF!))","v":""},null,null,null,null,null,null,null,null,null,null,{"$f":"IF(AND(K8<>\"\",ISBLANK(N8),K8<TODAY()),\"Oui\",\"Non\")","v":"Non"},"",{"$f":"IF(AND(N8<>\"\",ISBLANK(N8),K8<TODAY()),\"Oui\",\"Non\")","v":"Non"},null,"",null,null,null,null,null,{"$f":"IF(AND(U8<>\"\",ISBLANK(X8),U8<TODAY()),\"Oui\",\"Non\")","v":"Non"},{"$f":"IF(AND(S7=\"Oui\",ISBLANK(X8)),\"Oui\",\"Non\")","v":"Non"},null,null,null,null,{"$f":"IF(K8=\"\",\"\",K8-TODAY())","v":""},{"$f":"IF(ISBLANK(F8),CONCATENATE(E8,\" - \",AG8),CONCATENATE(F8,\" - \",AG8))","v":" - "},{"$f":"IF(ISBLANK(B8),\"\",YEAR(C8))","v":""},{"$f":"CONCATENATE(H8,\"-\",AG8)","v":"-"},{"$f":"CONCATENATE(M8,\"-\",AH8)","v":"--"}]
["",null,null,{"$f":"IF(ISBLANK(B9),\"\",COUNTA(#REF!))","v":""},null,null,null,null,null,null,null,null,null,null,"Non","","Non",null,"",null,null,null,null,null,{"$f":"IF(AND(U9<>\"\",ISBLANK(X9),U9<TODAY()),\"Oui\",\"Non\")","v":"Non"},{"$f":"IF(AND(S9=\"Oui\",ISBLANK(X9)),\"Oui\",\"Non\")","v":"Non"},null,null,null,null,""," - ","","-","--"]
["",null,null,{"$f":"IF(ISBLANK(B10),\"\",COUNTA(#REF!))","v":""},null,null,null,null,null,null,null,null,null,null,"Non","","Non",null,"",null,null,null,null,null,null,null,null,null,null,null,""," - ","","-","--"]
["",null,null,{"$f":"IF(ISBLANK(B11),\"\",COUNTA(#REF!))","v":""},null,null,null,null,null,null,null,null,null,null,"Non","","Non",null,"",null,null,null,null,null,{"$f":"IF(AND(U11<>\"\",ISBLANK(X11),U11<TODAY()),\"Oui\",\"Non\")","v":"Non"},{"$f":"IF(AND(S10=\"Oui\",ISBLANK(X11)),\"Oui\",\"Non\")","v":"Non"},null,null,null,null,""," - ","","-","--"]
["",null,null,{"$f":"IF(ISBLANK(B12),\"\",COUNTA(#REF!))","v":""},null,null,null,null,null,null,null,null,null,null,"Non","","Non",null,"",null,null,null,null,null,{"$f":"IF(AND(U12<>\"\",ISBLANK(X12),U12<TODAY()),\"Oui\",\"Non\")","v":"Non"},{"$f":"IF(AND(S11=\"Oui\",ISBLANK(X12)),\"Oui\",\"Non\")","v":"Non"},null,null,null,null,""," - ","","-","--"]
["",null,null,{"$f":"IF(ISBLANK(B13),\"\",COUNTA(#REF!))","v":""},null,null,null,null,null,null,null,null,null,null,"Non","","Non",null,"",null,null,null,null,null,"Non","Non",null,null,null,null,""," - ","","-","--"]
["",null,null,{"$f":"IF(ISBLANK(B14),\"\",COUNTA(#REF!))","v":""},null,null,null,null,null,null,null,null,null,null,"Non","","Non",null,"",null,null,null,null,null,"Non","Non",null,null,null,null,""," - ","","-","--"]
["",null,null,{"$f":"IF(ISBLANK(B15),\"\",COUNTA(#REF!))","v":""},null,null,null,null,null,null,null,null,null,null,"Non","","Non",null,"",null,null,null,null,null,{"$f":"IF(AND(U15<>\"\",ISBLANK(X15),U15<TODAY()),\"Oui\",\"Non\")","v":"Non"},{"$f":"IF(AND(S14=\"Oui\",ISBLANK(X15)),\"Oui\",\"Non\")","v":"Non"},null,null,null,null,""," - ","","-","--"]
["",null,null,{"$f":"IF(ISBLANK(B16),\"\",COUNTA(#REF!))","v":""},null,null,null,null,null,null,null,null,null,null,"Non","","Non",null,"",null,null,null,null,null,{"$f":"IF(AND(U16<>\"\",ISBLANK(X16),U16<TODAY()),\"Oui\",\"Non\")","v":"Non"},{"$f":"IF(AND(S15=\"Oui\",ISBLANK(X16)),\"Oui\",\"Non\")","v":"Non"},null,null,null,null,""," - ","","-","--"]
["",null,null,{"$f":"IF(ISBLANK(B17),\"\",COUNTA(#REF!))","v":""},null,null,null,null,null,null,null,null,null,null,"Non","","Non",null,"",null,null,null,null,null,"Non","Non",null,null,null,null,""," - ","","-","--"]
["",null,null,{"$f":"IF(ISBLANK(B18),\"\",COUNTA(#REF!))","v":""},null,null,null,null,null,null,null,null,null,null,"Non","","Non",null,"",null,null,null,null,null,"Non","Non",null,null,null,null,""," - ","","-","--"]
["",null,null,{"$f":"IF(ISBLANK(B19),\"\",COUNTA(#REF!))","v":""},null,null,null,null,null,null,null,null,null,null,"Non","","Non",null,"",null,null,null,null,null,"Non","Non",null,null,null,null,""," - ","","-","--"]
["",null,null,{"$f":"IF(ISBLANK(B20),\"\",COUNTA(#REF!))","v":""},null,null,null,null,null,null,null,null,null,null,"Non","","Non",null,"",null,null,null,null,null,"Non","Non",null,null,null,null,""," - ","","-","--"]
["",null,null,{"$f":"IF(ISBLANK(B21),\"\",COUNTA(#REF!))","v":""},null,null,null,null,null,null,null,null,null,null,"Non","","Non",null,"",null,null,null,null,null,"Non","Non",null,null,null,null,""," - ","","-","--"]
["",null,null,{"$f":"IF(ISBLANK(B22),\"\",COUNTA(#REF!))","v":""},null,null,null,null,null,null,null,null,null,null,{"$f":"IF(AND(K22<>\"\",ISBLANK(N22),K22<TODAY()),\"Oui\",\"Non\")","v":"Non"},{"$f":"IF(ISBLANK(I22),\"\",IF(K22=\"\",\"délai à préciser\",IF(M22=\"\",\"statut à préciser\",IF(M22=\"finalisée\",IF(N22=\"\",\"date de solde à préciser\",IF(K22>=N22,\"fait\",\"retard\")),(IF(K22<TODAY(),\"retard\",\"Ok\"))))))","v":""},{"$f":"IF(AND(N22<>\"\",ISBLANK(N22),K22<TODAY()),\"Oui\",\"Non\")","v":"Non"},null,"",null,null,null,null,null,"Non","Non",null,null,null,null,{"$f":"IF(K22=\"\",\"\",K22-TODAY())","v":""},{"$f":"IF(ISBLANK(F22),CONCATENATE(E22,\" - \",AG22),CONCATENATE(F22,\" - \",AG22))","v":" - "},{"$f":"IF(ISBLANK(B22),\"\",YEAR(C22))","v":""},{"$f":"CONCATENATE(H22,\"-\",AG22)","v":"-"},{"$f":"CONCATENATE(M22,\"-\",AH22)","v":"--"}]
["",null,null,{"$f":"IF(ISBLANK(B23),\"\",COUNTA(#REF!))","v":""},null,null,null,null,null,null,null,null,null,null,{"$f":"IF(AND(K23<>\"\",ISBLANK(N23),K23<TODAY()),\"Oui\",\"Non\")","v":"Non"},{"$f":"IF(ISBLANK(I23),\"\",IF(K23=\"\",\"délai à préciser\",IF(M23=\"\",\"statut à préciser\",IF(M23=\"finalisée\",IF(N23=\"\",\"date de solde à préciser\",IF(K23>=N23,\"fait\",\"retard\")),(IF(K23<TODAY(),\"retard\",\"Ok\"))))))","v":""},{"$f":"IF(AND(N23<>\"\",ISBLANK(N23),K23<TODAY()),\"Oui\",\"Non\")","v":"Non"},null,"",null,null,null,null,null,{"$f":"IF(AND(U23<>\"\",ISBLANK(X23),U23<TODAY()),\"Oui\",\"Non\")","v":"Non"},{"$f":"IF(AND(S22=\"Oui\",ISBLANK(X23)),\"Oui\",\"Non\")","v":"Non"},null,null,null,null,{"$f":"IF(K23=\"\",\"\",K23-TODAY())","v":""},{"$f":"IF(ISBLANK(F23),CONCATENATE(E23,\" - \",AG23),CONCATENATE(F23,\" - \",AG23))","v":" - "},{"$f":"IF(ISBLANK(B23),\"\",YEAR(C23))","v":""},{"$f":"CONCATENATE(H23,\"-\",AG23)","v":"-"},{"$f":"CONCATENATE(M23,\"-\",AH23)","v":"--"}]
["",null,null,{"$f":"IF(ISBLANK(B24),\"\",COUNTA(#REF!))","v":""},null,null,null,null,null,null,null,null,null,null,"Non","","Non",null,"",null,null,null,null,null,{"$f":"IF(AND(U24<>\"\",ISBLANK(X24),U24<TODAY()),\"Oui\",\"Non\")","v":"Non"},{"$f":"IF(AND(S24=\"Oui\",ISBLANK(X24)),\"Oui\",\"Non\")","v":"Non"},null,null,null,null,""," - ","","-","--"]
["",null,null,{"$f":"IF(ISBLANK(B25),\"\",COUNTA(#REF!))","v":""},null,null,null,null,null,null,null,null,null,null,"Non","","Non",null,"",null,null,null,null,null,"Non","Non",null,null,null,null,""," - ","","-","--"]
["",null,null,{"$f":"IF(ISBLANK(B26),\"\",COUNTA(#REF!))","v":""},null,null,null,null,null,null,null,null,null,null,"Non","","Non",null,"",null,null,null,null,null,{"$f":"IF(AND(U26<>\"\",ISBLANK(X26),U26<TODAY()),\"Oui\",\"Non\")","v":"Non"},{"$f":"IF(AND(S25=\"Oui\",ISBLANK(X26)),\"Oui\",\"Non\")","v":"Non"},null,null,null,null,""," - ","","-","--"]
["",null,null,{"$f":"IF(ISBLANK(B27),\"\",COUNTA(#REF!))","v":""},null,null,null,null,null,null,null,null,null,null,"Non","","Non",null,"",null,null,null,null,null,{"$f":"IF(AND(U27<>\"\",ISBLANK(X27),U27<TODAY()),\"Oui\",\"Non\")","v":"Non"},{"$f":"IF(AND(S26=\"Oui\",ISBLANK(X27)),\"Oui\",\"Non\")","v":"Non"},null,null,null,null,""," - ","","-","--"]
["",null,null,{"$f":"IF(ISBLANK(B28),\"\",COUNTA(#REF!))","v":""},null,null,null,null,null,null,null,null,null,null,"Non","","Non",null,"",null,null,null,null,null,{"$f":"IF(AND(U28<>\"\",ISBLANK(X28),U28<TODAY()),\"Oui\",\"Non\")","v":"Non"},{"$f":"IF(AND(S28=\"Oui\",ISBLANK(X28)),\"Oui\",\"Non\")","v":"Non"},null,null,null,null,""," - ","","-","--"]
["",null,null,{"$f":"IF(ISBLANK(B29),\"\",COUNTA(#REF!))","v":""},null,null,null,null,null,null,null,null,null,null,"Non","","Non",null,"",null,null,null,null,null,"Non","Non",null,null,null,null,""," - ","","-","--"]
["",null,null,{"$f":"IF(ISBLANK(B30),\"\",COUNTA(#REF!))","v":""},null,null,null,null,null,null,null,null,null,null,"Non","","Non",null,"",null,null,null,null,null,"Non","Non",null,null,null,null,""," - ","","-","--"]
["",null,null,{"$f":"IF(ISBLANK(B31),\"\",COUNTA(#REF!))","v":""},null,null,null,null,null,null,null,null,null,null,"Non","","Non",null,"",null,null,null,null,null,"Non","Non",null,null,null,null,""," - ","","-","--"]
["",null,null,{"$f":"IF(ISBLANK(B32),\"\",COUNTA(#REF!))","v":""},null,null,null,null,null,null,null,null,null,null,"Non","","Non",null,"",null,null,null,null,null,"Non","Non",null,null,null,null,""," - ","","-","--"]
["",null,null,{"$f":"IF(ISBLANK(B33),\"\",COUNTA(#REF!))","v":""},null,null,null,null,null,null,null,null,null,null,"Non","","Non",null,"",null,null,null,null,null,"Non","Non",null,null,null,null,""," - ","","-","--"]
["",null,null,{"$f":"IF(ISBLANK(B34),\"\",COUNTA(#REF!))","v":""},null,null,null,null,null,null,null,null,null,null,"Non","","Non",null,"",null,null,null,null,null,"Non","Non",null,null,null,null,""," - ","","-","--"]
["",null,null,{"$f":"IF(ISBLANK(B35),\"\",COUNTA(#REF!))","v":""},null,null,null,null,null,null,null,null,null,null,"Non","","Non",null,"",null,null,null,null,null,"Non","Non",null,null,null,null,""," - ","","-","--"]
["",null,null,{"$f":"IF(ISBLANK(B36),\"\",COUNTA(#REF!))","v":""},null,null,null,null,null,null,null,null,null,null,"Non","","Non",null,"",null,null,null,null,null,"Non","Non",null,null,null,null,""," - ","","-","--"]
["",null,null,{"$f":"IF(ISBLANK(B37),\"\",COUNTA(#REF!))","v":""},null,null,null,null,null,null,null,null,null,null,"Non","","Non",null,"",null,null,null,null,null,"Non","Non",null,null,null,null,""," - ","","-","--"]
["",null,null,{"$f":"IF(ISBLANK(B38),\"\",COUNTA(#REF!))","v":""},null,null,null,null,null,null,null,null,null,null,"Non","","Non",null,"",null,null,null,null,null,"Non","Non",null,null,null,null,""," - ","","-","--"]
["",null,null,{"$f":"IF(ISBLANK(B39),\"\",COUNTA(#REF!))","v":""},null,null,null,null,null,null,null,null,null,null,"Non","","Non",null,"",null,null,null,null,null,"Non","Non",null,null,null,null,""," - ","","-","--"]
["",null,null,{"$f":"IF(ISBLANK(B40),\"\",COUNTA(#REF!))","v":""},null,null,null,null,null,null,null,null,null,null,"Non","","Non",null,"",null,null,null,null,null,"Non","Non",null,null,null,null,""," - ","","-","--"]
["",null,null,{"$f":"IF(ISBLANK(B41),\"\",COUNTA(#REF!))","v":""},null,null,null,null,null,null,null,null,null,null,"Non","","Non",null,"",null,null,null,null,null,"Non","Non",null,null,null,null,""," - ","","-","--"]
["",null,null,{"$f":"IF(ISBLANK(B42),\"\",COUNTA(#REF!))","v":""},null,null,null,null,null,null,null,null,null,null,"Non","","Non",null,"",null,null,null,null,null,"Non","Non",null,null,null,null,""," - ","","-","--"]
["",null,null,{"$f":"IF(ISBLANK(B43),\"\",COUNTA(#REF!))","v":""},null,null,null,null,null,null,null,null,null,null,"Non","","Non",null,"",null,null,null,null,null,"Non","Non",null,null,null,null,""," - ","","-","--"]
["",null,null,{"$f":"IF(ISBLANK(B44),\"\",COUNTA(#REF!))","v":""},null,null,null,null,null,null,null,null,null,null,"Non","","Non",null,"",null,null,null,null,null,"Non","Non",null,null,null,null,""," - ","","-","--"]
["",null,null,{"$f":"IF(ISBLANK(B45),\"\",COUNTA(#REF!))","v":""},null,null,null,null,null,null,null,null,null,null,"Non","","Non",null,"",null,null,null,null,null,"Non","Non",null,null,null,null,""," - ","","-","--"]
["",null,null,{"$f":"IF(ISBLANK(B46),\"\",COUNTA(#REF!))","v":""},null,null,null,null,null,null,null,null,null,null,"Non","","Non",null,"",null,null,null,null,null,"Non","Non",null,null,null,null,""," - ","","-","--"]
["",null,null,{"$f":"IF(ISBLANK(B47),\"\",COUNTA(#REF!))","v":""},null,null,null,null,null,null,null,null,null,null,"Non","","Non",null,"",null,null,null,null,null,"Non","Non",null,null,null,null,""," - ","","-","--"]
["",null,null,{"$f":"IF(ISBLANK(B48),\"\",COUNTA(#REF!))","v":""},null,null,null,null,null,null,null,null,null,null,"Non","","Non",null,"",null,null,null,null,null,"Non","Non",null,null,null,null,""," - ","","-","--"]
["",null,null,{"$f":"IF(ISBLANK(B49),\"\",COUNTA(#REF!))","v":""},null,null,null,null,null,null,null,null,null,null,"Non","","Non",null,"",null,null,null,null,null,"Non","Non",null,null,null,null,""," - ","","-","--"]
["",null,null,{"$f":"IF(ISBLANK(B50),\"\",COUNTA(#REF!))","v":""},null,null,null,null,null,null,null,null,null,null,"Non","","Non",null,"",null,null,null,null,null,"Non","Non",null,null,null,null,""," - ","","-","--"]
["",null,null,{"$f":"IF(ISBLANK(B51),\"\",COUNTA(#REF!))","v":""},null,null,null,null,null,null,null,null,null,null,"Non","","Non",null,"",null,null,null,null,null,"Non","Non",null,null,null,null,""," - ","","-","--"]
["",null,null,{"$f":"IF(ISBLANK(B52),\"\",COUNTA(#REF!))","v":""},null,null,null,null,null,null,null,null,null,null,"Non","","Non",null,"",null,null,null,null,null,"Non","Non",null,null,null,null,""," - ","","-","--"]
["",null,null,{"$f":"IF(ISBLANK(B53),\"\",COUNTA(#REF!))","v":""},null,null,null,null,null,null,null,null,null,null,"Non","","Non",null,"",null,null,null,null,null,"Non","Non",null,null,null,null,""," - ","","-","--"]
["",null,null,{"$f":"IF(ISBLANK(B54),\"\",COUNTA(#REF!))","v":""},null,null,null,null,null,null,null,null,null,null,"Non","","Non",null,"",null,null,null,null,null,"Non","Non",null,null,null,null,""," - ","","-","--"]
["",null,null,{"$f":"IF(ISBLANK(B55),\"\",COUNTA(#REF!))","v":""},null,null,null,null,null,null,null,null,null,null,"Non","","Non",null,"",null,null,null,null,null,"Non","Non",null,null,null,null,""," - ","","-","--"]
["",null,null,{"$f":"IF(ISBLANK(B56),\"\",COUNTA(#REF!))","v":""},null,null,null,null,null,null,null,null,null,null,"Non","","Non",null,"",null,null,null,null,null,"Non","Non",null,null,null,null,""," - ","","-","--"]
["",null,null,{"$f":"IF(ISBLANK(B57),\"\",COUNTA(#REF!))","v":""},null,null,null,null,null,null,null,null,null,null,"Non","","Non",null,"",null,null,null,null,null,"Non","Non",null,null,null,null,""," - ","","-","--"]
["",null,null,{"$f":"IF(ISBLANK(B58),\"\",COUNTA(#REF!))","v":""},null,null,null,null,null,null,null,null,null,null,"Non","","Non",null,"",null,null,null,null,null,"Non","Non",null,null,null,null,""," - ","","-","--"]
["",null,null,{"$f":"IF(ISBLANK(B59),\"\",COUNTA(#REF!))","v":""},null,null,null,null,null,null,null,null,null,null,"Non","","Non",null,"",null,null,null,null,null,"Non","Non",null,null,null,null,""," - ","","-","--"]
["",null,null,{"$f":"IF(ISBLANK(B60),\"\",COUNTA(#REF!))","v":""},null,null,null,null,null,null,null,null,null,null,"Non","","Non",null,"",null,null,null,null,null,"Non","Non",null,null,null,null,""," - ","","-","--"]
["",null,null,{"$f":"IF(ISBLANK(B61),\"\",COUNTA(#REF!))","v":""},null,null,null,null,null,null,null,null,null,null,"Non","","Non",null,"",null,null,null,null,null,"Non","Non",null,null,null,null,""," - ","","-","--"]
["",null,null,{"$f":"IF(ISBLANK(B62),\"\",COUNTA(#REF!))","v":""},null,null,null,null,null,null,null,null,null,null,"Non","","Non",null,"",null,null,null,null,null,"Non","Non",null,null,null,null,""," - ","","-","--"]
["",null,null,{"$f":"IF(ISBLANK(B63),\"\",COUNTA(#REF!))","v":""},null,null,null,null,null,null,null,null,null,null,"Non","","Non",null,"",null,null,null,null,null,"Non","Non",null,null,null,null,""," - ","","-","--"]
["",null,null,{"$f":"IF(ISBLANK(B64),\"\",COUNTA(#REF!))","v":""},null,null,null,null,null,null,null,null,null,null,"Non","","Non",null,"",null,null,null,null,null,"Non","Non",null,null,null,null,""," - ","","-","--"]
["",null,null,{"$f":"IF(ISBLANK(B65),\"\",COUNTA(#REF!))","v":""},null,null,null,null,null,null,null,null,null,null,"Non","","Non",null,"",null,null,null,null,null,"Non","Non",null,null,null,null,""," - ","","-","--"]
["",null,null,{"$f":"IF(ISBLANK(B66),\"\",COUNTA(#REF!))","v":""},null,null,null,null,null,null,null,null,null,null,"Non","","Non",null,"",null,null,null,null,null,"Non","Non",null,null,null,null,""," - ","","-","--"]
["",null,null,{"$f":"IF(ISBLANK(B67),\"\",COUNTA(#REF!))","v":""},null,null,null,null,null,null,null,null,null,null,"Non","","Non",null,"",null,null,null,null,null,"Non","Non",null,null,null,null,""," - ","","-","--"]
["",null,null,{"$f":"IF(ISBLANK(B68),\"\",COUNTA(#REF!))","v":""},null,null,null,null,null,null,null,null,null,null,"Non","","Non",null,"",null,null,null,null,null,"Non","Non",null,null,null,null,""," - ","","-","--"]
["",null,null,{"$f":"IF(ISBLANK(B69),\"\",COUNTA(#REF!))","v":""},null,null,null,null,null,null,null,null,null,null,"Non","","Non",null,"",null,null,null,null,null,"Non","Non",null,null,null,null,""," - ","","-","--"]
["",null,null,{"$f":"IF(ISBLANK(B70),\"\",COUNTA(#REF!))","v":""},null,null,null,null,null,null,null,null,null,null,"Non","","Non",null,"",null,null,null,null,null,"Non","Non",null,null,null,null,""," - ","","-","--"]
["",null,null,{"$f":"IF(ISBLANK(B71),\"\",COUNTA(#REF!))","v":""},null,null,null,null,null,null,null,null,null,null,"Non","","Non",null,{"$f":"IF(ISBLANK(H71),\"\",IF(OR(H71=\"Préventive\",H71=\"Corrective\"),\"Oui\",\"Non\"))","v":""},null,null,null,null,null,"Non","Non",null,null,null,null,""," - ","","-","--"]
[{"$f":"IF(ISBLANK(B72),\"\",$C$2)","v":""},null,null,{"$f":"IF(ISBLANK(B72),\"\",COUNTA(#REF!))","v":""},null,null,null,null,null,null,null,null,null,null,{"$f":"IF(AND(K72<>\"\",ISBLANK(N72),K72<TODAY()),\"Oui\",\"Non\")","v":"Non"},"",{"$f":"IF(AND(N72<>\"\",ISBLANK(N72),K72<TODAY()),\"Oui\",\"Non\")","v":"Non"},null,"",null,null,null,null,null,"Non","Non",null,null,null,null,{"$f":"IF(K72=\"\",\"\",K72-TODAY())","v":""},{"$f":"IF(ISBLANK(F72),CONCATENATE(E72,\" - \",AG72),CONCATENATE(F72,\" - \",AG72))","v":" - "},{"$f":"IF(ISBLANK(B72),\"\",YEAR(C72))","v":""},{"$f":"CONCATENATE(H72,\"-\",AG72)","v":"-"},{"$f":"CONCATENATE(M72,\"-\",AH72)","v":"--"}]
["",null,null,{"$f":"IF(ISBLANK(B73),\"\",COUNTA(#REF!))","v":""},null,null,null,null,null,null,null,null,null,null,"Non","","Non",null,"",null,null,null,null,null,{"$f":"IF(AND(U73<>\"\",ISBLANK(X73),U73<TODAY()),\"Oui\",\"Non\")","v":"Non"},{"$f":"IF(AND(S73=\"Oui\",ISBLANK(X73)),\"Oui\",\"Non\")","v":"Non"},null,null,null,null,""," - ","","-","--"]
["",null,null,{"$f":"IF(ISBLANK(B74),\"\",COUNTA(#REF!))","v":""},null,null,null,null,null,null,null,null,null,null,"Non","","Non",null,"",null,null,null,null,null,"Non","Non",null,null,null,null,""," - ","","-","--"]
["",null,null,{"$f":"IF(ISBLANK(B75),\"\",COUNTA(#REF!))","v":""},null,null,null,null,null,null,null,null,null,null,"Non","","Non",null,"",null,null,null,null,null,"Non","Non",null,null,null,null,""," - ","","-","--"]
["",null,null,{"$f":"IF(ISBLANK(B76),\"\",COUNTA(#REF!))","v":""},null,null,null,null,null,null,null,null,null,null,"Non","","Non",null,"",null,null,null,null,null,"Non","Non",null,null,null,null,""," - ","","-","--"]
["",null,null,{"$f":"IF(ISBLANK(B77),\"\",COUNTA(#REF!))","v":""},null,null,null,null,null,null,null,null,null,null,"Non","","Non",null,"",null,null,null,null,null,"Non","Non",null,null,null,null,""," - ","","-","--"]
["",null,null,{"$f":"IF(ISBLANK(B78),\"\",COUNTA(#REF!))","v":""},null,null,null,null,null,null,null,null,null,null,"Non","","Non",null,"",null,null,null,null,null,"Non","Non",null,null,null,null,""," - ","","-","--"]
["",null,null,{"$f":"IF(ISBLANK(B79),\"\",COUNTA(#REF!))","v":""},null,null,null,null,null,null,null,null,null,null,"Non","","Non",null,"",null,null,null,null,null,"Non","Non",null,null,null,null,""," - ","","-","--"]
["",null,null,{"$f":"IF(ISBLANK(B80),\"\",COUNTA(#REF!))","v":""},null,null,null,null,null,null,null,null,null,null,"Non","","Non",null,"",null,null,null,null,null,"Non","Non",null,null,null,null,""," - ","","-","--"]
["",null,null,{"$f":"IF(ISBLANK(B81),\"\",COUNTA(#REF!))","v":""},null,null,null,null,null,null,null,null,null,null,"Non","","Non",null,"",null,null,null,null,null,"Non","Non",null,null,null,null,""," - ","","-","--"]
["",null,null,{"$f":"IF(ISBLANK(B82),\"\",COUNTA(#REF!))","v":""},null,null,null,null,null,null,null,null,null,null,"Non","","Non",null,"",null,null,null,null,null,"Non","Non",null,null,null,null,{"$f":"IF(K82=\"\",\"\",K82-TODAY())","v":""},{"$f":"IF(ISBLANK(F82),CONCATENATE(E82,\" - \",AG82),CONCATENATE(F82,\" - \",AG82))","v":" - "},{"$f":"IF(ISBLANK(B82),\"\",YEAR(C82))","v":""},{"$f":"CONCATENATE(H82,\"-\",AG82)","v":"-"},"--"]
["",null,null,{"$f":"IF(ISBLANK(B83),\"\",COUNTA(#REF!))","v":""},null,null,null,null,null,null,null,null,null,null,"Non","","Non",null,"",null,null,null,null,null,"Non","Non",null,null,null,null,{"$f":"IF(K83=\"\",\"\",K83-TODAY())","v":""},{"$f":"IF(ISBLANK(F83),CONCATENATE(E83,\" - \",AG83),CONCATENATE(F83,\" - \",AG83))","v":" - "},{"$f":"IF(ISBLANK(B83),\"\",YEAR(C83))","v":""},{"$f":"CONCATENATE(H83,\"-\",AG83)","v":"-"},"--"]
["",null,null,{"$f":"IF(ISBLANK(B84),\"\",COUNTA(#REF!))","v":""},null,null,null,null,null,null,null,null,null,null,"Non","","Non",null,"",null,null,null,null,null,"Non","Non",null,null,null,null,""," - ","","-","--"]
["",null,null,{"$f":"IF(ISBLANK(B85),\"\",COUNTA(#REF!))","v":""},null,null,null,null,null,null,null,null,null,null,"Non","","Non",null,"",null,null,null,null,null,"Non","Non",null,null,null,null,""," - ","","-","--"]
["",null,null,{"$f":"IF(ISBLANK(B86),\"\",COUNTA(#REF!))","v":""},null,null,null,null,null,null,null,null,null,null,"Non","","Non",null,"",null,null,null,null,null,"Non","Non",null,null,null,null,""," - ","","-","--"]
["",null,null,{"$f":"IF(ISBLANK(B87),\"\",COUNTA(#REF!))","v":""},null,null,null,null,null,null,null,null,null,null,"Non",{"$f":"IF(ISBLANK(I87),\"\",IF(K87=\"\",\"délai à préciser\",IF(M87=\"\",\"statut à préciser\",IF(M87=\"finalisée\",IF(N87=\"\",\"date de solde à préciser\",IF(K87>=N87,\"fait\",\"retard\")),(IF(K87<TODAY(),\"retard\",\"Ok\"))))))","v":""},"Non",null,{"$f":"IF(ISBLANK(H87),\"\",IF(OR(H87=\"Préventive\",H87=\"Corrective\"),\"Oui\",\"Non\"))","v":""},null,null,null,null,null,"Non","Non",null,null,null,null,""," - ","","-","--"]
["",null,null,{"$f":"IF(ISBLANK(B88),\"\",COUNTA(#REF!))","v":""},null,null,null,null,null,null,null,null,null,null,"Non","","Non",null,{"$f":"IF(ISBLANK(H88),\"\",IF(OR(H88=\"Préventive\",H88=\"Corrective\"),\"Oui\",\"Non\"))","v":""},null,null,null,null,null,"Non","Non",null,null,null,null,""," - ","","-","--"]
["",null,null,{"$f":"IF(ISBLANK(B89),\"\",COUNTA(#REF!))","v":""},null,null,null,null,null,null,null,null,null,null,"Non","","Non",null,"",null,null,null,null,null,"Non","Non",null,null,null,null,""," - ","","-","--"]
["",null,null,{"$f":"IF(ISBLANK(B90),\"\",COUNTA(#REF!))","v":""},null,null,null,null,null,null,null,null,null,null,"Non","","Non",null,"",null,null,null,null,null,"Non","Non",null,null,null,null,""," - ","","-","--"]
["",null,null,{"$f":"IF(ISBLANK(B91),\"\",COUNTA(#REF!))","v":""},null,null,null,null,null,null,null,null,null,null,"Non","","Non",null,"",null,null,null,null,null,"Non","Non",null,null,null,null,""," - ","","-","--"]
["",null,null,{"$f":"IF(ISBLANK(B92),\"\",COUNTA(#REF!))","v":""},null,null,null,null,null,null,null,null,null,null,"Non","","Non",null,"",null,null,null,null,null,"Non","Non",null,null,null,null,""," - ","","-","--"]
["",null,null,{"$f":"IF(ISBLANK(B93),\"\",COUNTA(#REF!))","v":""},null,null,null,null,null,null,null,null,null,null,"Non","","Non",null,"",null,null,null,null,null,"Non","Non",null,null,null,null,""," - ","","-","--"]
["",null,null,{"$f":"IF(ISBLANK(B94),\"\",COUNTA(#REF!))","v":""},null,null,null,null,null,null,null,null,null,null,"Non","","Non",null,"",null,null,null,null,null,"Non","Non",null,null,null,null,""," - ","","-","--"]
["",null,null,{"$f":"IF(ISBLANK(B95),\"\",COUNTA(#REF!))","v":""},null,null,null,null,null,null,null,null,null,null,"Non","","Non",null,"",null,null,null,null,null,"Non","Non",null,null,null,null,""," - ","","-","--"]
["",null,null,{"$f":"IF(ISBLANK(B96),\"\",COUNTA(#REF!))","v":""},null,null,null,null,null,null,null,null,null,null,"Non","","Non",null,"",null,null,null,null,null,"Non","Non",null,null,null,null,""," - ","","-","--"]
["",null,null,{"$f":"IF(ISBLANK(B97),\"\",COUNTA(#REF!))","v":""},null,null,null,null,null,null,null,null,null,null,"Non","","Non",null,"",null,null,null,null,null,"Non","Non",null,null,null,null,""," - ","","-","--"]
["",null,null,{"$f":"IF(ISBLANK(B98),\"\",COUNTA(#REF!))","v":""},null,null,null,null,null,null,null,null,null,null,"Non","","Non",null,"",null,null,null,null,null,"Non","Non",null,null,null,null,""," - ","","-","--"]
["",null,null,{"$f":"IF(ISBLANK(B99),\"\",COUNTA(#REF!))","v":""},null,null,null,null,null,null,null,null,null,null,"Non","","Non",null,"",null,null,null,null,null,"Non","Non",null,null,null,null,""," - ","","-","--"]
["",null,null,{"$f":"IF(ISBLANK(B100),\"\",COUNTA(#REF!))","v":""},null,null,null,null,null,null,null,null,null,null,"Non","","Non",null,"",null,null,null,null,null,"Non","Non",null,null,null,null,""," - ","","-","--"]
["",null,null,{"$f":"IF(ISBLANK(B101),\"\",COUNTA(#REF!))","v":""},null,null,null,null,null,null,null,null,null,null,"Non","","Non",null,"",null,null,null,null,null,"Non","Non",null,null,null,null,""," - ","","-","--"]
["",null,null,{"$f":"IF(ISBLANK(B102),\"\",COUNTA(#REF!))","v":""},null,null,null,null,null,null,null,null,null,null,"Non","","Non",null,"",null,null,null,null,null,"Non","Non",null,null,null,null,""," - ","","-","--"]
["",null,null,{"$f":"IF(ISBLANK(B103),\"\",COUNTA(#REF!))","v":""},null,null,null,null,null,null,null,null,null,null,"Non","","Non",null,"",null,null,null,null,null,"Non","Non",null,null,null,null,""," - ","","-","--"]
["",null,null,{"$f":"IF(ISBLANK(B104),\"\",COUNTA(#REF!))","v":""},null,null,null,null,null,null,null,null,null,null,"Non","","Non",null,"",null,null,null,null,null,"Non","Non",null,null,null,null,""," - ","","-","--"]
["",null,null,{"$f":"IF(ISBLANK(B105),\"\",COUNTA(#REF!))","v":""},null,null,null,null,null,null,null,null,null,null,"Non","","Non",null,"",null,null,null,null,null,"Non","Non",null,null,null,null,""," - ","","-","--"]
["",null,null,{"$f":"IF(ISBLANK(B106),\"\",COUNTA(#REF!))","v":""},null,null,null,null,null,null,null,null,null,null,"Non","","Non",null,"",null,null,null,null,null,"Non","Non",null,null,null,null,""," - ","","-","--"]
["",null,null,{"$f":"IF(ISBLANK(B107),\"\",COUNTA(#REF!))","v":""},null,null,null,null,null,null,null,null,null,null,"Non","","Non",null,"",null,null,null,null,null,"Non","Non",null,null,null,null,""," - ","","-","--"]
["",null,null,{"$f":"IF(ISBLANK(B108),\"\",COUNTA(#REF!))","v":""},null,null,null,null,null,null,null,null,null,null,"Non","","Non",null,"",null,null,null,null,null,"Non","Non",null,null,null,null,""," - ","","-","--"]
["",null,null,{"$f":"IF(ISBLANK(B109),\"\",COUNTA(#REF!))","v":""},null,null,null,null,null,null,null,null,null,null,"Non","","Non",null,"",null,null,null,null,null,"Non","Non",null,null,null,null,""," - ","","-","--"]
["",null,null,{"$f":"IF(ISBLANK(B110),\"\",COUNTA(#REF!))","v":""},null,null,null,null,null,null,null,null,null,null,"Non","","Non",null,"",null,null,null,null,null,"Non","Non",null,null,null,null,""," - ","","-","--"]
["",null,null,{"$f":"IF(ISBLANK(B111),\"\",COUNTA(#REF!))","v":""},null,null,null,null,null,null,null,null,null,null,"Non","","Non",null,"",null,null,null,null,null,"Non","Non",null,null,null,null,""," - ","","-","--"]
["",null,null,{"$f":"IF(ISBLANK(B112),\"\",COUNTA(#REF!))","v":""},null,null,null,null,null,null,null,null,null,null,"Non","","Non",null,"",null,null,null,null,null,"Non","Non",null,null,null,null,""," - ","","-","--"]
["",null,null,{"$f":"IF(ISBLANK(B113),\"\",COUNTA(#REF!))","v":""},null,null,null,null,null,null,null,null,null,null,"Non","","Non",null,"",null,null,null,null,null,"Non","Non",null,null,null,null,""," - ","","-","--"]
["",null,null,{"$f":"IF(ISBLANK(B114),\"\",COUNTA(#REF!))","v":""},null,null,null,null,null,null,null,null,null,null,"Non","","Non",null,"",null,null,null,null,null,"Non","Non",null,null,null,null,""," - ","","-","--"]
["",null,null,{"$f":"IF(ISBLANK(B115),\"\",COUNTA(#REF!))","v":""},null,null,null,null,null,null,null,null,null,null,"Non","","Non",null,"",null,null,null,null,null,"Non","Non",null,null,null,null,""," - ","","-","--"]
["",null,null,{"$f":"IF(ISBLANK(B116),\"\",COUNTA(#REF!))","v":""},null,null,null,null,null,null,null,null,null,null,"Non","","Non",null,"",null,null,null,null,null,"Non","Non",null,null,null,null,""," - ","","-","--"]
["",null,null,{"$f":"IF(ISBLANK(B117),\"\",COUNTA(#REF!))","v":""},null,null,null,null,null,null,null,null,null,null,"Non","","Non",null,"",null,null,null,null,null,"Non","Non",null,null,null,null,""," - ","","-","--"]
["",null,null,{"$f":"IF(ISBLANK(B118),\"\",COUNTA(#REF!))","v":""},null,null,null,null,null,null,null,null,null,null,"Non","","Non",null,"",null,null,null,null,null,"Non","Non",null,null,null,null,""," - ","","-","--"]
["",null,null,{"$f":"IF(ISBLANK(B119),\"\",COUNTA(#REF!))","v":""},null,null,null,null,null,null,null,null,null,null,"Non","","Non",null,"",null,null,null,null,null,"Non","Non",null,null,null,null,""," - ","","-","--"]
["",null,null,{"$f":"IF(ISBLANK(B120),\"\",COUNTA(#REF!))","v":""},null,null,null,null,null,null,null,null,null,null,"Non","","Non",null,"",null,null,null,null,null,"Non","Non",null,null,null,null,""," - ","","-","--"]
["",null,null,{"$f":"IF(ISBLANK(B121),\"\",COUNTA(#REF!))","v":""},null,null,null,null,null,null,null,null,null,null,"Non","","Non",null,"",null,null,null,null,null,"Non","Non",null,null,null,null,""," - ","","-","--"]
["",null,null,{"$f":"IF(ISBLANK(B122),\"\",COUNTA(#REF!))","v":""},null,null,null,null,null,null,null,null,null,null,"Non","","Non",null,"",null,null,null,null,null,"Non","Non",null,null,null,null,""," - ","","-","--"]
["",null,null,{"$f":"IF(ISBLANK(B123),\"\",COUNTA(#REF!))","v":""},null,null,null,null,null,null,null,null,null,null,"Non","","Non",null,"",null,null,null,null,null,"Non","Non",null,null,null,null,""," - ","","-","--"]
["",null,null,{"$f":"IF(ISBLANK(B124),\"\",COUNTA(#REF!))","v":""},null,null,null,null,null,null,null,null,null,null,"Non","","Non",null,"",null,null,null,null,null,"Non","Non",null,null,null,null,""," - ","","-","--"]
["",null,null,{"$f":"IF(ISBLANK(B125),\"\",COUNTA(#REF!))","v":""},null,null,null,null,null,null,null,null,null,null,"Non","","Non",null,"",null,null,null,null,null,"Non","Non",null,null,null,null,""," - ","","-","--"]
["",null,null,{"$f":"IF(ISBLANK(B126),\"\",COUNTA(#REF!))","v":""},null,null,null,null,null,null,null,null,null,null,"Non","","Non",null,"",null,null,null,null,null,"Non","Non",null,null,null,null,""," - ","","-","--"]
["",null,null,{"$f":"IF(ISBLANK(B127),\"\",COUNTA(#REF!))","v":""},null,null,null,null,null,null,null,null,null,null,"Non","","Non",null,"",null,null,null,null,null,"Non","Non",null,null,null,null,""," - ","","-","--"]
["",null,null,{"$f":"IF(ISBLANK(B128),\"\",COUNTA(#REF!))","v":""},null,null,null,null,null,null,null,null,null,null,"Non","","Non",null,"",null,null,null,null,null,"Non","Non",null,null,null,null,""," - ","","-","--"]
["",null,null,{"$f":"IF(ISBLANK(B129),\"\",COUNTA(#REF!))","v":""},null,null,null,null,null,null,null,null,null,null,"Non","","Non",null,"",null,null,null,null,null,"Non","Non",null,null,null,null,""," - ","","-","--"]
["",null,null,{"$f":"IF(ISBLANK(B130),\"\",COUNTA(#REF!))","v":""},null,null,null,null,null,null,null,null,null,null,"Non","","Non",null,"",null,null,null,null,null,"Non","Non",null,null,null,null,""," - ","","-","--"]
["",null,null,{"$f":"IF(ISBLANK(B131),\"\",COUNTA(#REF!))","v":""},null,null,null,null,null,null,null,null,null,null,"Non","","Non",null,"",null,null,null,null,null,"Non","Non",null,null,null,null,""," - ","","-","--"]
["",null,null,{"$f":"IF(ISBLANK(B132),\"\",COUNTA(#REF!))","v":""},null,null,null,null,null,null,null,null,null,null,"Non","","Non",null,"",null,null,null,null,null,"Non","Non",null,null,null,null,""," - ","","-","--"]
["",null,null,{"$f":"IF(ISBLANK(B133),\"\",COUNTA(#REF!))","v":""},null,null,null,null,null,null,null,null,null,null,"Non","","Non",null,"",null,null,null,null,null,"Non","Non",null,null,null,null,""," - ","","-","--"]
["",null,null,{"$f":"IF(ISBLANK(B134),\"\",COUNTA(#REF!))","v":""},null,null,null,null,null,null,null,null,null,null,"Non","","Non",null,"",null,null,null,null,null,"Non","Non",null,null,null,null,""," - ","","-","--"]
["",null,null,{"$f":"IF(ISBLANK(B135),\"\",COUNTA(#REF!))","v":""},null,null,null,null,null,null,null,null,null,null,"Non","","Non",null,"",null,null,null,null,null,"Non","Non",null,null,null,null,""," - ","","-","--"]
[{"$f":"IF(ISBLANK(B136),\"\",$C$2)","v":""},null,null,{"$f":"IF(ISBLANK(B136),\"\",COUNTA(#REF!))","v":""},null,null,null,null,null,null,null,null,null,null,{"$f":"IF(AND(K136<>\"\",ISBLANK(N136),K136<TODAY()),\"Oui\",\"Non\")","v":"Non"},"",{"$f":"IF(AND(N136<>\"\",ISBLANK(N136),K136<TODAY()),\"Oui\",\"Non\")","v":"Non"},null,"",null,null,null,null,null,"Non","Non",null,null,null,null,""," - ","","-",{"$f":"CONCATENATE(M136,\"-\",AH136)","v":"--"}]
["",null,null,{"$f":"IF(ISBLANK(B137),\"\",COUNTA(#REF!))","v":""},null,null,null,null,null,null,null,null,null,null,"Non","","Non",null,"",null,null,null,null,null,{"$f":"IF(AND(U137<>\"\",ISBLANK(X137),U137<TODAY()),\"Oui\",\"Non\")","v":"Non"},{"$f":"IF(AND(S137=\"Oui\",ISBLANK(X137)),\"Oui\",\"Non\")","v":"Non"},null,null,null,null,""," - ","","-","--"]
["",null,null,{"$f":"IF(ISBLANK(B138),\"\",COUNTA(#REF!))","v":""},null,null,null,null,null,null,null,null,null,null,"Non","","Non",null,"",null,null,null,null,null,"Non","Non",null,null,null,null,""," - ","","-","--"]
["",null,null,{"$f":"IF(ISBLANK(B139),\"\",COUNTA(#REF!))","v":""},null,null,null,null,null,null,null,null,null,null,"Non","","Non",null,"",null,null,null,null,null,"Non","Non",null,null,null,null,""," - ","","-","--"]
["",null,null,{"$f":"IF(ISBLANK(B140),\"\",COUNTA(#REF!))","v":""},null,null,null,null,null,null,null,null,null,null,"Non","","Non",null,"",null,null,null,null,null,"Non","Non",null,null,null,null,""," - ","","-","--"]
["",null,null,{"$f":"IF(ISBLANK(B141),\"\",COUNTA(#REF!))","v":""},null,null,null,null,null,null,null,null,null,null,"Non","","Non",null,"",null,null,null,null,null,"Non","Non",null,null,null,null,""," - ","","-","--"]
["",null,null,{"$f":"IF(ISBLANK(B142),\"\",COUNTA(#REF!))","v":""},null,null,null,null,null,null,null,null,null,null,"Non","","Non",null,"",null,null,null,null,null,"Non","Non",null,null,null,null,""," - ","","-","--"]
["",null,null,{"$f":"IF(ISBLANK(B143),\"\",COUNTA(#REF!))","v":""},null,null,null,null,null,null,null,null,null,null,"Non","","Non",null,"",null,null,null,null,null,"Non","Non",null,null,null,null,""," - ","","-","--"]
["",null,null,{"$f":"IF(ISBLANK(B144),\"\",COUNTA(#REF!))","v":""},null,null,null,null,null,null,null,null,null,null,"Non","","Non",null,"",null,null,null,null,null,"Non","Non",null,null,null,null,""," - ","","-","--"]
["",null,null,{"$f":"IF(ISBLANK(B145),\"\",COUNTA(#REF!))","v":""},null,null,null,null,null,null,null,null,null,null,"Non","","Non",null,"",null,null,null,null,null,"Non","Non",null,null,null,null,""," - ","","-","--"]
["",null,null,{"$f":"IF(ISBLANK(B146),\"\",COUNTA(#REF!))","v":""},null,null,null,null,null,null,null,null,null,null,"Non","","Non",null,"",null,null,null,null,null,"Non","Non",null,null,null,null,""," - ","","-","--"]
["",null,null,{"$f":"IF(ISBLANK(B147),\"\",COUNTA(#REF!))","v":""},null,null,null,null,null,null,null,null,null,null,"Non","","Non",null,"",null,null,null,null,null,"Non","Non",null,null,null,null,{"$f":"IF(K147=\"\",\"\",K147-TODAY())","v":""},{"$f":"IF(ISBLANK(F147),CONCATENATE(E147,\" - \",AG147),CONCATENATE(F147,\" - \",AG147))","v":" - "},{"$f":"IF(ISBLANK(B147),\"\",YEAR(C147))","v":""},{"$f":"CONCATENATE(H147,\"-\",AG147)","v":"-"},"--"]
["",null,null,{"$f":"IF(ISBLANK(B148),\"\",COUNTA(#REF!))","v":""},null,null,null,null,null,null,null,null,null,null,"Non","","Non",null,"",null,null,null,null,null,"Non","Non",null,null,null,null,""," - ","","-","--"]
["",null,null,{"$f":"IF(ISBLANK(B149),\"\",COUNTA(#REF!))","v":""},null,null,null,null,null,null,null,null,null,null,"Non","","Non",null,"",null,null,null,null,null,"Non","Non",null,null,null,null,""," - ","","-","--"]
["",null,null,{"$f":"IF(ISBLANK(B150),\"\",COUNTA(#REF!))","v":""},null,null,null,null,null,null,null,null,null,null,"Non","","Non",null,"",null,null,null,null,null,"Non","Non",null,null,null,null,""," - ","","-","--"]
["",null,null,{"$f":"IF(ISBLANK(B151),\"\",COUNTA(#REF!))","v":""},null,null,null,null,null,null,null,null,null,null,"Non",{"$f":"IF(ISBLANK(I151),\"\",IF(K151=\"\",\"délai à préciser\",IF(M151=\"\",\"statut à préciser\",IF(M151=\"finalisée\",IF(N151=\"\",\"date de solde à préciser\",IF(K151>=N151,\"fait\",\"retard\")),(IF(K151<TODAY(),\"retard\",\"Ok\"))))))","v":""},"Non",null,"",null,null,null,null,null,"Non","Non",null,null,null,null,""," - ","","-","--"]
["",null,null,{"$f":"IF(ISBLANK(B152),\"\",COUNTA(#REF!))","v":""},null,null,null,null,null,null,null,null,null,null,"Non","","Non",null,{"$f":"IF(ISBLANK(H152),\"\",IF(OR(H152=\"Préventive\",H152=\"Corrective\"),\"Oui\",\"Non\"))","v":""},null,null,null,null,null,"Non","Non",null,null,null,null,""," - ","","-","--"]
["",null,null,{"$f":"IF(ISBLANK(B153),\"\",COUNTA(#REF!))","v":""},null,null,null,null,null,null,null,null,null,null,"Non","","Non",null,"",null,null,null,null,null,"Non","Non",null,null,null,null,""," - ","","-","--"]
["",null,null,{"$f":"IF(ISBLANK(B154),\"\",COUNTA(#REF!))","v":""},null,null,null,null,null,null,null,null,null,null,"Non","","Non",null,"",null,null,null,null,null,"Non","Non",null,null,null,null,""," - ","","-","--"]
["",null,null,{"$f":"IF(ISBLANK(B155),\"\",COUNTA(#REF!))","v":""},null,null,null,null,null,null,null,null,null,null,"Non","","Non",null,"",null,null,null,null,null,"Non","Non",null,null,null,null,""," - ","","-","--"]
["",null,null,{"$f":"IF(ISBLANK(B156),\"\",COUNTA(#REF!))","v":""},null,null,null,null,null,null,null,null,null,null,"Non","","Non",null,"",null,null,null,null,null,"Non","Non",null,null,null,null,""," - ","","-","--"]
["",null,null,{"$f":"IF(ISBLANK(B157),\"\",COUNTA(#REF!))","v":""},null,null,null,null,null,null,null,null,null,null,"Non","","Non",null,"",null,null,null,null,null,"Non","Non",null,null,null,null,""," - ","","-","--"]
["",null,null,{"$f":"IF(ISBLANK(B158),\"\",COUNTA(#REF!))","v":""},null,null,null,null,null,null,null,null,null,null,"Non","","Non",null,"",null,null,null,null,null,"Non","Non",null,null,null,null,""," - ","","-","--"]
["",null,null,{"$f":"IF(ISBLANK(B159),\"\",COUNTA(#REF!))","v":""},null,null,null,null,null,null,null,null,null,null,"Non","","Non",null,"",null,null,null,null,null,"Non","Non",null,null,null,null,""," - ","","-","--"]
["",null,null,{"$f":"IF(ISBLANK(B160),\"\",COUNTA(#REF!))","v":""},null,null,null,null,null,null,null,null,null,null,"Non","","Non",null,"",null,null,null,null,null,"Non","Non",null,null,null,null,""," - ","","-","--"]
["",null,null,{"$f":"IF(ISBLANK(B161),\"\",COUNTA(#REF!))","v":""},null,null,null,null,null,null,null,null,null,null,"Non","","Non",null,"",null,null,null,null,null,"Non","Non",null,null,null,null,""," - ","","-","--"]
["",null,null,{"$f":"IF(ISBLANK(B162),\"\",COUNTA(#REF!))","v":""},null,null,null,null,null,null,null,null,null,null,"Non","","Non",null,"",null,null,null,null,null,"Non","Non",null,null,null,null,""," - ","","-","--"]
["",null,null,{"$f":"IF(ISBLANK(B163),\"\",COUNTA(#REF!))","v":""},null,null,null,null,null,null,null,null,null,null,"Non","","Non",null,"",null,null,null,null,null,"Non","Non",null,null,null,null,""," - ","","-","--"]
["",null,null,{"$f":"IF(ISBLANK(B164),\"\",COUNTA(#REF!))","v":""},null,null,null,null,null,null,null,null,null,null,"Non","","Non",null,"",null,null,null,null,null,"Non","Non",null,null,null,null,""," - ","","-","--"]
["",null,null,{"$f":"IF(ISBLANK(B165),\"\",COUNTA(#REF!))","v":""},null,null,null,null,null,null,null,null,null,null,"Non","","Non",null,"",null,null,null,null,null,"Non","Non",null,null,null,null,""," - ","","-","--"]
["",null,null,{"$f":"IF(ISBLANK(B166),\"\",COUNTA(#REF!))","v":""},null,null,null,null,null,null,null,null,null,null,"Non","","Non",null,"",null,null,null,null,null,"Non","Non",null,null,null,null,""," - ","","-","--"]
["",null,null,{"$f":"IF(ISBLANK(B167),\"\",COUNTA(#REF!))","v":""},null,null,null,null,null,null,null,null,null,null,"Non","","Non",null,"",null,null,null,null,null,"Non","Non",null,null,null,null,""," - ","","-","--"]
["",null,null,{"$f":"IF(ISBLANK(B168),\"\",COUNTA(#REF!))","v":""},null,null,null,null,null,null,null,null,null,null,"Non","","Non",null,"",null,null,null,null,null,"Non","Non",null,null,null,null,""," - ","","-","--"]
["",null,null,{"$f":"IF(ISBLANK(B169),\"\",COUNTA(#REF!))","v":""},null,null,null,null,null,null,null,null,null,null,"Non","","Non",null,"",null,null,null,null,null,"Non","Non",null,null,null,null,""," - ","","-","--"]
["",null,null,{"$f":"IF(ISBLANK(B170),\"\",COUNTA(#REF!))","v":""},null,null,null,null,null,null,null,null,null,null,"Non","","Non",null,"",null,null,null,null,null,"Non","Non",null,null,null,null,""," - ","","-","--"]
["",null,null,{"$f":"IF(ISBLANK(B171),\"\",COUNTA(#REF!))","v":""},null,null,null,null,null,null,null,null,null,null,"Non","","Non",null,"",null,null,null,null,null,"Non","Non",null,null,null,null,""," - ","","-","--"]
["",null,null,{"$f":"IF(ISBLANK(B172),\"\",COUNTA(#REF!))","v":""},null,null,null,null,null,null,null,null,null,null,"Non","","Non",null,"",null,null,null,null,null,"Non","Non",null,null,null,null,""," - ","","-","--"]
["",null,null,{"$f":"IF(ISBLANK(B173),\"\",COUNTA(#REF!))","v":""},null,null,null,null,null,null,null,null,null,null,"Non","","Non",null,"",null,null,null,null,null,"Non","Non",null,null,null,null,""," - ","","-","--"]
["",null,null,{"$f":"IF(ISBLANK(B174),\"\",COUNTA(#REF!))","v":""},null,null,null,null,null,null,null,null,null,null,"Non","","Non",null,"",null,null,null,null,null,"Non","Non",null,null,null,null,""," - ","","-","--"]
["",null,null,{"$f":"IF(ISBLANK(B175),\"\",COUNTA(#REF!))","v":""},null,null,null,null,null,null,null,null,null,null,"Non","","Non",null,"",null,null,null,null,null,"Non","Non",null,null,null,null,""," - ","","-","--"]
["",null,null,{"$f":"IF(ISBLANK(B176),\"\",COUNTA(#REF!))","v":""},null,null,null,null,null,null,null,null,null,null,"Non","","Non",null,"",null,null,null,null,null,"Non","Non",null,null,null,null,""," - ","","-","--"]
["",null,null,{"$f":"IF(ISBLANK(B177),\"\",COUNTA(#REF!))","v":""},null,null,null,null,null,null,null,null,null,null,"Non","","Non",null,"",null,null,null,null,null,"Non","Non",null,null,null,null,""," - ","","-","--"]
["",null,null,{"$f":"IF(ISBLANK(B178),\"\",COUNTA(#REF!))","v":""},null,null,null,null,null,null,null,null,null,null,"Non","","Non",null,"",null,null,null,null,null,"Non","Non",null,null,null,null,""," - ","","-","--"]
["",null,null,{"$f":"IF(ISBLANK(B179),\"\",COUNTA(#REF!))","v":""},null,null,null,null,null,null,null,null,null,null,"Non","","Non",null,"",null,null,null,null,null,"Non","Non",null,null,null,null,""," - ","","-","--"]
["",null,null,{"$f":"IF(ISBLANK(B180),\"\",COUNTA(#REF!))","v":""},null,null,null,null,null,null,null,null,null,null,"Non","","Non",null,"",null,null,null,null,null,"Non","Non",null,null,null,null,""," - ","","-","--"]
["",null,null,{"$f":"IF(ISBLANK(B181),\"\",COUNTA(#REF!))","v":""},null,null,null,null,null,null,null,null,null,null,"Non","","Non",null,"",null,null,null,null,null,"Non","Non",null,null,null,null,""," - ","","-","--"]
["",null,null,{"$f":"IF(ISBLANK(B182),\"\",COUNTA(#REF!))","v":""},null,null,null,null,null,null,null,null,null,null,"Non","","Non",null,"",null,null,null,null,null,"Non","Non",null,null,null,null,""," - ","","-","--"]
["",null,null,{"$f":"IF(ISBLANK(B183),\"\",COUNTA(#REF!))","v":""},null,null,null,null,null,null,null,null,null,null,"Non","","Non",null,"",null,null,null,null,null,"Non","Non",null,null,null,null,""," - ","","-","--"]
["",null,null,{"$f":"IF(ISBLANK(B184),\"\",COUNTA(#REF!))","v":""},null,null,null,null,null,null,null,null,null,null,"Non","","Non",null,"",null,null,null,null,null,"Non","Non",null,null,null,null,""," - ","","-","--"]
["",null,null,{"$f":"IF(ISBLANK(B185),\"\",COUNTA(#REF!))","v":""},null,null,null,null,null,null,null,null,null,null,"Non","","Non",null,"",null,null,null,null,null,"Non","Non",null,null,null,null,""," - ","","-","--"]
["",null,null,{"$f":"IF(ISBLANK(B186),\"\",COUNTA(#REF!))","v":""},null,null,null,null,null,null,null,null,null,null,"Non","","Non",null,"",null,null,null,null,null,"Non","Non",null,null,null,null,""," - ","","-","--"]
["",null,null,{"$f":"IF(ISBLANK(B187),\"\",COUNTA(#REF!))","v":""},null,null,null,null,null,null,null,null,null,null,"Non","","Non",null,"",null,null,null,null,null,"Non","Non",null,null,null,null,""," - ","","-","--"]
["",null,null,{"$f":"IF(ISBLANK(B188),\"\",COUNTA(#REF!))","v":""},null,null,null,null,null,null,null,null,null,null,"Non","","Non",null,"",null,null,null,null,null,"Non","Non",null,null,null,null,""," - ","","-","--"]
["",null,null,{"$f":"IF(ISBLANK(B189),\"\",COUNTA(#REF!))","v":""},null,null,null,null,null,null,null,null,null,null,"Non","","Non",null,"",null,null,null,null,null,"Non","Non",null,null,null,null,""," - ","","-","--"]
["",null,null,{"$f":"IF(ISBLANK(B190),\"\",COUNTA(#REF!))","v":""},null,null,null,null,null,null,null,null,null,null,"Non","","Non",null,"",null,null,null,null,null,"Non","Non",null,null,null,null,""," - ","","-","--"]
["",null,null,{"$f":"IF(ISBLANK(B191),\"\",COUNTA(#REF!))","v":""},null,null,null,null,null,null,null,null,null,null,"Non","","Non",null,"",null,null,null,null,null,"Non","Non",null,null,null,null,""," - ","","-","--"]
["",null,null,{"$f":"IF(ISBLANK(B192),\"\",COUNTA(#REF!))","v":""},null,null,null,null,null,null,null,null,null,null,"Non","","Non",null,"",null,null,null,null,null,"Non","Non",null,null,null,null,""," - ","","-","--"]
["",null,null,{"$f":"IF(ISBLANK(B193),\"\",COUNTA(#REF!))","v":""},null,null,null,null,null,null,null,null,null,null,"Non","","Non",null,"",null,null,null,null,null,"Non","Non",null,null,null,null,""," - ","","-","--"]
["",null,null,{"$f":"IF(ISBLANK(B194),\"\",COUNTA(#REF!))","v":""},null,null,null,null,null,null,null,null,null,null,"Non","","Non",null,"",null,null,null,null,null,"Non","Non",null,null,null,null,""," - ","","-","--"]
["",null,null,{"$f":"IF(ISBLANK(B195),\"\",COUNTA(#REF!))","v":""},null,null,null,null,null,null,null,null,null,null,"Non","","Non",null,"",null,null,null,null,null,"Non","Non",null,null,null,null,""," - ","","-","--"]
["",null,null,{"$f":"IF(ISBLANK(B196),\"\",COUNTA(#REF!))","v":""},null,null,null,null,null,null,null,null,null,null,"Non","","Non",null,"",null,null,null,null,null,"Non","Non",null,null,null,null,""," - ","","-","--"]
["",null,null,{"$f":"IF(ISBLANK(B197),\"\",COUNTA(#REF!))","v":""},null,null,null,null,null,null,null,null,null,null,"Non","","Non",null,"",null,null,null,null,null,"Non","Non",null,null,null,null,""," - ","","-","--"]
["",null,null,{"$f":"IF(ISBLANK(B198),\"\",COUNTA(#REF!))","v":""},null,null,null,null,null,null,null,null,null,null,"Non","","Non",null,"",null,null,null,null,null,"Non","Non",null,null,null,null,""," - ","","-","--"]
["",null,null,{"$f":"IF(ISBLANK(B199),\"\",COUNTA(#REF!))","v":""},null,null,null,null,null,null,null,null,null,null,"Non","","Non",null,"",null,null,null,null,null,"Non","Non",null,null,null,null,""," - ","","-","--"]
[{"$f":"IF(ISBLANK(B200),\"\",$C$2)","v":""},null,null,{"$f":"IF(ISBLANK(B200),\"\",COUNTA(#REF!))","v":""},null,null,null,null,null,null,null,null,null,null,{"$f":"IF(AND(K200<>\"\",ISBLANK(N200),K200<TODAY()),\"Oui\",\"Non\")","v":"Non"},"",{"$f":"IF(AND(N200<>\"\",ISBLANK(N200),K200<TODAY()),\"Oui\",\"Non\")","v":"Non"},null,"",null,null,null,null,null,"Non","Non",null,null,null,null,""," - ","","-",{"$f":"CONCATENATE(M200,\"-\",AH200)","v":"--"}]
["",null,null,{"$f":"IF(ISBLANK(B201),\"\",COUNTA(#REF!))","v":""},null,null,null,null,null,null,null,null,null,null,"Non","","Non",null,"",null,null,null,null,null,{"$f":"IF(AND(U201<>\"\",ISBLANK(X201),U201<TODAY()),\"Oui\",\"Non\")","v":"Non"},{"$f":"IF(AND(S201=\"Oui\",ISBLANK(X201)),\"Oui\",\"Non\")","v":"Non"},null,null,null,null,""," - ","","-","--"]
["",null,null,{"$f":"IF(ISBLANK(B202),\"\",COUNTA(#REF!))","v":""},null,null,null,null,null,null,null,null,null,null,"Non","","Non",null,"",null,null,null,null,null,"Non","Non",null,null,null,null,""," - ","","-","--"]
["",null,null,{"$f":"IF(ISBLANK(B203),\"\",COUNTA(#REF!))","v":""},null,null,null,null,null,null,null,null,null,null,"Non","","Non",null,"",null,null,null,null,null,"Non","Non",null,null,null,null,""," - ","","-","--"]
["",null,null,{"$f":"IF(ISBLANK(B204),\"\",COUNTA(#REF!))","v":""},null,null,null,null,null,null,null,null,null,null,"Non","","Non",null,"",null,null,null,null,null,"Non","Non",null,null,null,null,""," - ","","-","--"]
["",null,null,{"$f":"IF(ISBLANK(B205),\"\",COUNTA(#REF!))","v":""},null,null,null,null,null,null,null,null,null,null,"Non","","Non",null,"",null,null,null,null,null,"Non","Non",null,null,null,null,""," - ","","-","--"]
["",null,null,{"$f":"IF(ISBLANK(B206),\"\",COUNTA(#REF!))","v":""},null,null,null,null,null,null,null,null,null,null,"Non","","Non",null,"",null,null,null,null,null,"Non","Non",null,null,null,null,""," - ","","-","--"]
["",null,null,{"$f":"IF(ISBLANK(B207),\"\",COUNTA(#REF!))","v":""},null,null,null,null,null,null,null,null,null,null,"Non","","Non",null,"",null,null,null,null,null,"Non","Non",null,null,null,null,""," - ","","-","--"]
["",null,null,{"$f":"IF(ISBLANK(B208),\"\",COUNTA(#REF!))","v":""},null,null,null,null,null,null,null,null,null,null,"Non","","Non",null,"",null,null,null,null,null,"Non","Non",null,null,null,null,""," - ","","-","--"]
["",null,null,{"$f":"IF(ISBLANK(B209),\"\",COUNTA(#REF!))","v":""},null,null,null,null,null,null,null,null,null,null,"Non","","Non",null,"",null,null,null,null,null,"Non","Non",null,null,null,null,""," - ","","-","--"]
["",null,null,{"$f":"IF(ISBLANK(B210),\"\",COUNTA(#REF!))","v":""},null,null,null,null,null,null,null,null,null,null,"Non","","Non",null,"",null,null,null,null,null,"Non","Non",null,null,null,null,""," - ","","-","--"]
["",null,null,{"$f":"IF(ISBLANK(B211),\"\",COUNTA(#REF!))","v":""},null,null,null,null,null,null,null,null,null,null,"Non","","Non",null,"",null,null,null,null,null,"Non","Non",null,null,null,null,{"$f":"IF(K211=\"\",\"\",K211-TODAY())","v":""},{"$f":"IF(ISBLANK(F211),CONCATENATE(E211,\" - \",AG211),CONCATENATE(F211,\" - \",AG211))","v":" - "},{"$f":"IF(ISBLANK(B211),\"\",YEAR(C211))","v":""},{"$f":"CONCATENATE(H211,\"-\",AG211)","v":"-"},"--"]
["",null,null,{"$f":"IF(ISBLANK(B212),\"\",COUNTA(#REF!))","v":""},null,null,null,null,null,null,null,null,null,null,"Non","","Non",null,"",null,null,null,null,null,"Non","Non",null,null,null,null,""," - ","","-","--"]
["",null,null,{"$f":"IF(ISBLANK(B213),\"\",COUNTA(#REF!))","v":""},null,null,null,null,null,null,null,null,null,null,"Non","","Non",null,"",null,null,null,null,null,"Non","Non",null,null,null,null,""," - ","","-","--"]
["",null,null,{"$f":"IF(ISBLANK(B214),\"\",COUNTA(#REF!))","v":""},null,null,null,null,null,null,null,null,null,null,"Non","","Non",null,"",null,null,null,null,null,"Non","Non",null,null,null,null,""," - ","","-","--"]
["",null,null,{"$f":"IF(ISBLANK(B215),\"\",COUNTA(#REF!))","v":""},null,null,null,null,null,null,null,null,null,null,"Non",{"$f":"IF(ISBLANK(I215),\"\",IF(K215=\"\",\"délai à préciser\",IF(M215=\"\",\"statut à préciser\",IF(M215=\"finalisée\",IF(N215=\"\",\"date de solde à préciser\",IF(K215>=N215,\"fait\",\"retard\")),(IF(K215<TODAY(),\"retard\",\"Ok\"))))))","v":""},"Non",null,"",null,null,null,null,null,"Non","Non",null,null,null,null,""," - ","","-","--"]
["",null,null,{"$f":"IF(ISBLANK(B216),\"\",COUNTA(#REF!))","v":""},null,null,null,null,null,null,null,null,null,null,"Non","","Non",null,{"$f":"IF(ISBLANK(H216),\"\",IF(OR(H216=\"Préventive\",H216=\"Corrective\"),\"Oui\",\"Non\"))","v":""},null,null,null,null,null,"Non","Non",null,null,null,null,""," - ","","-","--"]
["",null,null,{"$f":"IF(ISBLANK(B217),\"\",COUNTA(#REF!))","v":""},null,null,null,null,null,null,null,null,null,null,"Non","","Non",null,"",null,null,null,null,null,"Non","Non",null,null,null,null,""," - ","","-","--"]
["",null,null,{"$f":"IF(ISBLANK(B218),\"\",COUNTA(#REF!))","v":""},null,null,null,null,null,null,null,null,null,null,"Non","","Non",null,"",null,null,null,null,null,"Non","Non",null,null,null,null,""," - ","","-","--"]
["",null,null,{"$f":"IF(ISBLANK(B219),\"\",COUNTA(#REF!))","v":""},null,null,null,null,null,null,null,null,null,null,"Non","","Non",null,"",null,null,null,null,null,"Non","Non",null,null,null,null,""," - ","","-","--"]
["",null,null,{"$f":"IF(ISBLANK(B220),\"\",COUNTA(#REF!))","v":""},null,null,null,null,null,null,null,null,null,null,"Non","","Non",null,"",null,null,null,null,null,"Non","Non",null,null,null,null,""," - ","","-","--"]
["",null,null,{"$f":"IF(ISBLANK(B221),\"\",COUNTA(#REF!))","v":""},null,null,null,null,null,null,null,null,null,null,"Non","","Non",null,"",null,null,null,null,null,"Non","Non",null,null,null,null,""," - ","","-","--"]
["",null,null,{"$f":"IF(ISBLANK(B222),\"\",COUNTA(#REF!))","v":""},null,null,null,null,null,null,null,null,null,null,"Non","","Non",null,"",null,null,null,null,null,"Non","Non",null,null,null,null,""," - ","","-","--"]
["",null,null,{"$f":"IF(ISBLANK(B223),\"\",COUNTA(#REF!))","v":""},null,null,null,null,null,null,null,null,null,null,"Non","","Non",null,"",null,null,null,null,null,"Non","Non",null,null,null,null,""," - ","","-","--"]
["",null,null,{"$f":"IF(ISBLANK(B224),\"\",COUNTA(#REF!))","v":""},null,null,null,null,null,null,null,null,null,null,"Non","","Non",null,"",null,null,null,null,null,"Non","Non",null,null,null,null,""," - ","","-","--"]
["",null,null,{"$f":"IF(ISBLANK(B225),\"\",COUNTA(#REF!))","v":""},null,null,null,null,null,null,null,null,null,null,"Non","","Non",null,"",null,null,null,null,null,"Non","Non",null,null,null,null,""," - ","","-","--"]
["",null,null,{"$f":"IF(ISBLANK(B226),\"\",COUNTA(#REF!))","v":""},null,null,null,null,null,null,null,null,null,null,"Non","","Non",null,"",null,null,null,null,null,"Non","Non",null,null,null,null,""," - ","","-","--"]
["",null,null,{"$f":"IF(ISBLANK(B227),\"\",COUNTA(#REF!))","v":""},null,null,null,null,null,null,null,null,null,null,"Non","","Non",null,"",null,null,null,null,null,"Non","Non",null,null,null,null,""," - ","","-","--"]
["",null,null,{"$f":"IF(ISBLANK(B228),\"\",COUNTA(#REF!))","v":""},null,null,null,null,null,null,null,null,null,null,"Non","","Non",null,"",null,null,null,null,null,"Non","Non",null,null,null,null,""," - ","","-","--"]
["",null,null,{"$f":"IF(ISBLANK(B229),\"\",COUNTA(#REF!))","v":""},null,null,null,null,null,null,null,null,null,null,"Non","","Non",null,"",null,null,null,null,null,"Non","Non",null,null,null,null,""," - ","","-","--"]
["",null,null,{"$f":"IF(ISBLANK(B230),\"\",COUNTA(#REF!))","v":""},null,null,null,null,null,null,null,null,null,null,"Non","","Non",null,"",null,null,null,null,null,"Non","Non",null,null,null,null,""," - ","","-","--"]
["",null,null,{"$f":"IF(ISBLANK(B231),\"\",COUNTA(#REF!))","v":""},null,null,null,null,null,null,null,null,null,null,"Non","","Non",null,"",null,null,null,null,null,"Non","Non",null,null,null,null,""," - ","","-","--"]
["",null,null,{"$f":"IF(ISBLANK(B232),\"\",COUNTA(#REF!))","v":""},null,null,null,null,null,null,null,null,null,null,"Non","","Non",null,"",null,null,null,null,null,"Non","Non",null,null,null,null,""," - ","","-","--"]
["",null,null,{"$f":"IF(ISBLANK(B233),\"\",COUNTA(#REF!))","v":""},null,null,null,null,null,null,null,null,null,null,"Non","","Non",null,"",null,null,null,null,null,"Non","Non",null,null,null,null,""," - ","","-","--"]
["",null,null,{"$f":"IF(ISBLANK(B234),\"\",COUNTA(#REF!))","v":""},null,null,null,null,null,null,null,null,null,null,"Non","","Non",null,"",null,null,null,null,null,"Non","Non",null,null,null,null,""," - ","","-","--"]
["",null,null,{"$f":"IF(ISBLANK(B235),\"\",COUNTA(#REF!))","v":""},null,null,null,null,null,null,null,null,null,null,"Non","","Non",null,"",null,null,null,null,null,"Non","Non",null,null,null,null,""," - ","","-","--"]
["",null,null,{"$f":"IF(ISBLANK(B236),\"\",COUNTA(#REF!))","v":""},null,null,null,null,null,null,null,null,null,null,"Non","","Non",null,"",null,null,null,null,null,"Non","Non",null,null,null,null,""," - ","","-","--"]
["",null,null,{"$f":"IF(ISBLANK(B237),\"\",COUNTA(#REF!))","v":""},null,null,null,null,null,null,null,null,null,null,"Non","","Non",null,"",null,null,null,null,null,"Non","Non",null,null,null,null,""," - ","","-","--"]
["",null,null,{"$f":"IF(ISBLANK(B238),\"\",COUNTA(#REF!))","v":""},null,null,null,null,null,null,null,null,null,null,"Non","","Non",null,"",null,null,null,null,null,"Non","Non",null,null,null,null,""," - ","","-","--"]
["",null,null,{"$f":"IF(ISBLANK(B239),\"\",COUNTA(#REF!))","v":""},null,null,null,null,null,null,null,null,null,null,"Non","","Non",null,"",null,null,null,null,null,"Non","Non",null,null,null,null,""," - ","","-","--"]
["",null,null,{"$f":"IF(ISBLANK(B240),\"\",COUNTA(#REF!))","v":""},null,null,null,null,null,null,null,null,null,null,"Non","","Non",null,"",null,null,null,null,null,"Non","Non",null,null,null,null,""," - ","","-","--"]
["",null,null,{"$f":"IF(ISBLANK(B241),\"\",COUNTA(#REF!))","v":""},null,null,null,null,null,null,null,null,null,null,"Non","","Non",null,"",null,null,null,null,null,"Non","Non",null,null,null,null,""," - ","","-","--"]
["",null,null,{"$f":"IF(ISBLANK(B242),\"\",COUNTA(#REF!))","v":""},null,null,null,null,null,null,null,null,null,null,"Non","","Non",null,"",null,null,null,null,null,"Non","Non",null,null,null,null,""," - ","","-","--"]
["",null,null,{"$f":"IF(ISBLANK(B243),\"\",COUNTA(#REF!))","v":""},null,null,null,null,null,null,null,null,null,null,"Non","","Non",null,"",null,null,null,null,null,"Non","Non",null,null,null,null,""," - ","","-","--"]
["",null,null,{"$f":"IF(ISBLANK(B244),\"\",COUNTA(#REF!))","v":""},null,null,null,null,null,null,null,null,null,null,"Non","","Non",null,"",null,null,null,null,null,"Non","Non",null,null,null,null,""," - ","","-","--"]
["",null,null,{"$f":"IF(ISBLANK(B245),\"\",COUNTA(#REF!))","v":""},null,null,null,null,null,null,null,null,null,null,"Non","","Non",null,"",null,null,null,null,null,"Non","Non",null,null,null,null,""," - ","","-","--"]
["",null,null,{"$f":"IF(ISBLANK(B246),\"\",COUNTA(#REF!))","v":""},null,null,null,null,null,null,null,null,null,null,"Non","","Non",null,"",null,null,null,null,null,"Non","Non",null,null,null,null,""," - ","","-","--"]
["",null,null,{"$f":"IF(ISBLANK(B247),\"\",COUNTA(#REF!))","v":""},null,null,null,null,null,null,null,null,null,null,"Non","","Non",null,"",null,null,null,null,null,"Non","Non",null,null,null,null,""," - ","","-","--"]
["",null,null,{"$f":"IF(ISBLANK(B248),\"\",COUNTA(#REF!))","v":""},null,null,null,null,null,null,null,null,null,null,"Non","","Non",null,"",null,null,null,null,null,"Non","Non",null,null,null,null,""," - ","","-","--"]
["",null,null,{"$f":"IF(ISBLANK(B249),\"\",COUNTA(#REF!))","v":""},null,null,null,null,null,null,null,null,null,null,"Non","","Non",null,"",null,null,null,null,null,"Non","Non",null,null,null,null,""," - ","","-","--"]
["",null,null,{"$f":"IF(ISBLANK(B250),\"\",COUNTA(#REF!))","v":""},null,null,null,null,null,null,null,null,null,null,"Non","","Non",null,"",null,null,null,null,null,"Non","Non",null,null,null,null,""," - ","","-","--"]
["",null,null,{"$f":"IF(ISBLANK(B251),\"\",COUNTA(#REF!))","v":""},null,null,null,null,null,null,null,null,null,null,"Non","","Non",null,"",null,null,null,null,null,"Non","Non",null,null,null,null,""," - ","","-","--"]
["",null,null,{"$f":"IF(ISBLANK(B252),\"\",COUNTA(#REF!))","v":""},null,null,null,null,null,null,null,null,null,null,"Non","","Non",null,"",null,null,null,null,null,"Non","Non",null,null,null,null,""," - ","","-","--"]
["",null,null,{"$f":"IF(ISBLANK(B253),\"\",COUNTA(#REF!))","v":""},null,null,null,null,null,null,null,null,null,null,"Non","","Non",null,"",null,null,null,null,null,"Non","Non",null,null,null,null,""," - ","","-","--"]
["",null,null,{"$f":"IF(ISBLANK(B254),\"\",COUNTA(#REF!))","v":""},null,null,null,null,null,null,null,null,null,null,"Non","","Non",null,"",null,null,null,null,null,"Non","Non",null,null,null,null,""," - ","","-","--"]
["",null,null,{"$f":"IF(ISBLANK(B255),\"\",COUNTA(#REF!))","v":""},null,null,null,null,null,null,null,null,null,null,"Non","","Non",null,"",null,null,null,null,null,"Non","Non",null,null,null,null,""," - ","","-","--"]
["",null,null,{"$f":"IF(ISBLANK(B256),\"\",COUNTA(#REF!))","v":""},null,null,null,null,null,null,null,null,null,null,"Non","","Non",null,"",null,null,null,null,null,"Non","Non",null,null,null,null,""," - ","","-","--"]
["",null,null,{"$f":"IF(ISBLANK(B257),\"\",COUNTA(#REF!))","v":""},null,null,null,null,null,null,null,null,null,null,"Non","","Non",null,"",null,null,null,null,null,"Non","Non",null,null,null,null,""," - ","","-","--"]
["",null,null,{"$f":"IF(ISBLANK(B258),\"\",COUNTA(#REF!))","v":""},null,null,null,null,null,null,null,null,null,null,"Non","","Non",null,"",null,null,null,null,null,"Non","Non",null,null,null,null,""," - ","","-","--"]
["",null,null,{"$f":"IF(ISBLANK(B259),\"\",COUNTA(#REF!))","v":""},null,null,null,null,null,null,null,null,null,null,"Non","","Non",null,"",null,null,null,null,null,"Non","Non",null,null,null,null,""," - ","","-","--"]
["",null,null,{"$f":"IF(ISBLANK(B260),\"\",COUNTA(#REF!))","v":""},null,null,null,null,null,null,null,null,null,null,"Non","","Non",null,"",null,null,null,null,null,"Non","Non",null,null,null,null,""," - ","","-","--"]
["",null,null,{"$f":"IF(ISBLANK(B261),\"\",COUNTA(#REF!))","v":""},null,null,null,null,null,null,null,null,null,null,"Non","","Non",null,"",null,null,null,null,null,"Non","Non",null,null,null,null,""," - ","","-","--"]
["",null,null,{"$f":"IF(ISBLANK(B262),\"\",COUNTA(#REF!))","v":""},null,null,null,null,null,null,null,null,null,null,"Non","","Non",null,"",null,null,null,null,null,"Non","Non",null,null,null,null,""," - ","","-","--"]
["",null,null,{"$f":"IF(ISBLANK(B263),\"\",COUNTA(#REF!))","v":""},null,null,null,null,null,null,null,null,null,null,"Non","","Non",null,"",null,null,null,null,null,"Non","Non",null,null,null,null,""," - ","","-","--"]
[{"$f":"IF(ISBLANK(B264),\"\",$C$2)","v":""},null,null,{"$f":"IF(ISBLANK(B264),\"\",COUNTA(#REF!))","v":""},null,null,null,null,null,null,null,null,null,null,{"$f":"IF(AND(K264<>\"\",ISBLANK(N264),K264<TODAY()),\"Oui\",\"Non\")","v":"Non"},"",{"$f":"IF(AND(N264<>\"\",ISBLANK(N264),K264<TODAY()),\"Oui\",\"Non\")","v":"Non"},null,"",null,null,null,null,null,"Non","Non",null,null,null,null,""," - ","","-",{"$f":"CONCATENATE(M264,\"-\",AH264)","v":"--"}]
["",null,null,{"$f":"IF(ISBLANK(B265),\"\",COUNTA(#REF!))","v":""},null,null,null,null,null,null,null,null,null,null,"Non","","Non",null,"",null,null,null,null,null,{"$f":"IF(AND(U265<>\"\",ISBLANK(X265),U265<TODAY()),\"Oui\",\"Non\")","v":"Non"},{"$f":"IF(AND(S265=\"Oui\",ISBLANK(X265)),\"Oui\",\"Non\")","v":"Non"},null,null,null,null,""," - ","","-","--"]
["",null,null,{"$f":"IF(ISBLANK(B266),\"\",COUNTA(#REF!))","v":""},null,null,null,null,null,null,null,null,null,null,"Non","","Non",null,"",null,null,null,null,null,"Non","Non",null,null,null,null,""," - ","","-","--"]
["",null,null,{"$f":"IF(ISBLANK(B267),\"\",COUNTA(#REF!))","v":""},null,null,null,null,null,null,null,null,null,null,"Non","","Non",null,"",null,null,null,null,null,"Non","Non",null,null,null,null,""," - ","","-","--"]
["",null,null,{"$f":"IF(ISBLANK(B268),\"\",COUNTA(#REF!))","v":""},null,null,null,null,null,null,null,null,null,null,"Non","","Non",null,"",null,null,null,null,null,"Non","Non",null,null,null,null,""," - ","","-","--"]
["",null,null,{"$f":"IF(ISBLANK(B269),\"\",COUNTA(#REF!))","v":""},null,null,null,null,null,null,null,null,null,null,"Non","","Non",null,"",null,null,null,null,null,"Non","Non",null,null,null,null,""," - ","","-","--"]
["",null,null,{"$f":"IF(ISBLANK(B270),\"\",COUNTA(#REF!))","v":""},null,null,null,null,null,null,null,null,null,null,"Non","","Non",null,"",null,null,null,null,null,"Non","Non",null,null,null,null,""," - ","","-","--"]
["",null,null,{"$f":"IF(ISBLANK(B271),\"\",COUNTA(#REF!))","v":""},null,null,null,null,null,null,null,null,null,null,"Non","","Non",null,"",null,null,null,null,null,"Non","Non",null,null,null,null,""," - ","","-","--"]
["",null,null,{"$f":"IF(ISBLANK(B272),\"\",COUNTA(#REF!))","v":""},null,null,null,null,null,null,null,null,null,null,"Non","","Non",null,"",null,null,null,null,null,"Non","Non",null,null,null,null,""," - ","","-","--"]
["",null,null,{"$f":"IF(ISBLANK(B273),\"\",COUNTA(#REF!))","v":""},null,null,null,null,null,null,null,null,null,null,"Non","","Non",null,"",null,null,null,null,null,"Non","Non",null,null,null,null,""," - ","","-","--"]
["",null,null,{"$f":"IF(ISBLANK(B274),\"\",COUNTA(#REF!))","v":""},null,null,null,null,null,null,null,null,null,null,"Non","","Non",null,"",null,null,null,null,null,"Non","Non",null,null,null,null,""," - ","","-","--"]
["",null,null,{"$f":"IF(ISBLANK(B275),\"\",COUNTA(#REF!))","v":""},null,null,null,null,null,null,null,null,null,null,"Non","","Non",null,"",null,null,null,null,null,"Non","Non",null,null,null,null,{"$f":"IF(K275=\"\",\"\",K275-TODAY())","v":""},{"$f":"IF(ISBLANK(F275),CONCATENATE(E275,\" - \",AG275),CONCATENATE(F275,\" - \",AG275))","v":" - "},{"$f":"IF(ISBLANK(B275),\"\",YEAR(C275))","v":""},{"$f":"CONCATENATE(H275,\"-\",AG275)","v":"-"},"--"]
["",null,null,{"$f":"IF(ISBLANK(B276),\"\",COUNTA(#REF!))","v":""},null,null,null,null,null,null,null,null,null,null,"Non","","Non",null,"",null,null,null,null,null,"Non","Non",null,null,null,null,""," - ","","-","--"]
["",null,null,{"$f":"IF(ISBLANK(B277),\"\",COUNTA(#REF!))","v":""},null,null,null,null,null,null,null,null,null,null,"Non","","Non",null,"",null,null,null,null,null,"Non","Non",null,null,null,null,""," - ","","-","--"]
["",null,null,{"$f":"IF(ISBLANK(B278),\"\",COUNTA(#REF!))","v":""},null,null,null,null,null,null,null,null,null,null,"Non","","Non",null,"",null,null,null,null,null,"Non","Non",null,null,null,null,""," - ","","-","--"]
["",null,null,{"$f":"IF(ISBLANK(B279),\"\",COUNTA(#REF!))","v":""},null,null,null,null,null,null,null,null,null,null,"Non",{"$f":"IF(ISBLANK(I279),\"\",IF(K279=\"\",\"délai à préciser\",IF(M279=\"\",\"statut à préciser\",IF(M279=\"finalisée\",IF(N279=\"\",\"date de solde à préciser\",IF(K279>=N279,\"fait\",\"retard\")),(IF(K279<TODAY(),\"retard\",\"Ok\"))))))","v":""},"Non",null,"",null,null,null,null,null,"Non","Non",null,null,null,null,""," - ","","-","--"]
["",null,null,{"$f":"IF(ISBLANK(B280),\"\",COUNTA(#REF!))","v":""},null,null,null,null,null,null,null,null,null,null,"Non","","Non",null,{"$f":"IF(ISBLANK(H280),\"\",IF(OR(H280=\"Préventive\",H280=\"Corrective\"),\"Oui\",\"Non\"))","v":""},null,null,null,null,null,"Non","Non",null,null,null,null,""," - ","","-","--"]
["",null,null,{"$f":"IF(ISBLANK(B281),\"\",COUNTA(#REF!))","v":""},null,null,null,null,null,null,null,null,null,null,"Non","","Non",null,"",null,null,null,null,null,"Non","Non",null,null,null,null,""," - ","","-","--"]
["",null,null,{"$f":"IF(ISBLANK(B282),\"\",COUNTA(#REF!))","v":""},null,null,null,null,null,null,null,null,null,null,"Non","","Non",null,"",null,null,null,null,null,"Non","Non",null,null,null,null,""," - ","","-","--"]
["",null,null,{"$f":"IF(ISBLANK(B283),\"\",COUNTA(#REF!))","v":""},null,null,null,null,null,null,null,null,null,null,"Non","","Non",null,"",null,null,null,null,null,"Non","Non",null,null,null,null,""," - ","","-","--"]
["",null,null,{"$f":"IF(ISBLANK(B284),\"\",COUNTA(#REF!))","v":""},null,null,null,null,null,null,null,null,null,null,"Non","","Non",null,"",null,null,null,null,null,"Non","Non",null,null,null,null,""," - ","","-","--"]
["",null,null,{"$f":"IF(ISBLANK(B285),\"\",COUNTA(#REF!))","v":""},null,null,null,null,null,null,null,null,null,null,"Non","","Non",null,"",null,null,null,null,null,"Non","Non",null,null,null,null,""," - ","","-","--"]
["",null,null,{"$f":"IF(ISBLANK(B286),\"\",COUNTA(#REF!))","v":""},null,null,null,null,null,null,null,null,null,null,"Non","","Non",null,"",null,null,null,null,null,"Non","Non",null,null,null,null,""," - ","","-","--"]
["",null,null,{"$f":"IF(ISBLANK(B287),\"\",COUNTA(#REF!))","v":""},null,null,null,null,null,null,null,null,null,null,"Non","","Non",null,"",null,null,null,null,null,"Non","Non",null,null,null,null,""," - ","","-","--"]
["",null,null,{"$f":"IF(ISBLANK(B288),\"\",COUNTA(#REF!))","v":""},null,null,null,null,null,null,null,null,null,null,"Non","","Non",null,"",null,null,null,null,null,"Non","Non",null,null,null,null,""," - ","","-","--"]
["",null,null,{"$f":"IF(ISBLANK(B289),\"\",COUNTA(#REF!))","v":""},null,null,null,null,null,null,null,null,null,null,"Non","","Non",null,"",null,null,null,null,null,"Non","Non",null,null,null,null,""," - ","","-","--"]
["",null,null,{"$f":"IF(ISBLANK(B290),\"\",COUNTA(#REF!))","v":""},null,null,null,null,null,null,null,null,null,null,"Non","","Non",null,"",null,null,null,null,null,"Non","Non",null,null,null,null,""," - ","","-","--"]
["",null,null,{"$f":"IF(ISBLANK(B291),\"\",COUNTA(#REF!))","v":""},null,null,null,null,null,null,null,null,null,null,"Non","","Non",null,"",null,null,null,null,null,"Non","Non",null,null,null,null,""," - ","","-","--"]
["",null,null,{"$f":"IF(ISBLANK(B292),\"\",COUNTA(#REF!))","v":""},null,null,null,null,null,null,null,null,null,null,"Non","","Non",null,"",null,null,null,null,null,"Non","Non",null,null,null,null,""," - ","","-","--"]
["",null,null,{"$f":"IF(ISBLANK(B293),\"\",COUNTA(#REF!))","v":""},null,null,null,null,null,null,null,null,null,null,"Non","","Non",null,"",null,null,null,null,null,"Non","Non",null,null,null,null,""," - ","","-","--"]
["",null,null,{"$f":"IF(ISBLANK(B294),\"\",COUNTA(#REF!))","v":""},null,null,null,null,null,null,null,null,null,null,"Non","","Non",null,"",null,null,null,null,null,"Non","Non",null,null,null,null,""," - ","","-","--"]
["",null,null,{"$f":"IF(ISBLANK(B295),\"\",COUNTA(#REF!))","v":""},null,null,null,null,null,null,null,null,null,null,"Non","","Non",null,"",null,null,null,null,null,"Non","Non",null,null,null,null,""," - ","","-","--"]
["",null,null,{"$f":"IF(ISBLANK(B296),\"\",COUNTA(#REF!))","v":""},null,null,null,null,null,null,null,null,null,null,"Non","","Non",null,"",null,null,null,null,null,"Non","Non",null,null,null,null,""," - ","","-","--"]
["",null,null,{"$f":"IF(ISBLANK(B297),\"\",COUNTA(#REF!))","v":""},null,null,null,null,null,null,null,null,null,null,"Non","","Non",null,"",null,null,null,null,null,"Non","Non",null,null,null,null,""," - ","","-","--"]
["",null,null,{"$f":"IF(ISBLANK(B298),\"\",COUNTA(#REF!))","v":""},null,null,null,null,null,null,null,null,null,null,"Non","","Non",null,"",null,null,null,null,null,"Non","Non",null,null,null,null,""," - ","","-","--"]
["",null,null,{"$f":"IF(ISBLANK(B299),\"\",COUNTA(#REF!))","v":""},null,null,null,null,null,null,null,null,null,null,"Non","","Non",null,"",null,null,null,null,null,"Non","Non",null,null,null,null,""," - ","","-","--"]
["",null,null,{"$f":"IF(ISBLANK(B300),\"\",COUNTA(#REF!))","v":""},null,null,null,null,null,null,null,null,null,null,"Non","","Non",null,"",null,null,null,null,null,"Non","Non",null,null,null,null,""," - ","","-","--"]
["",null,null,{"$f":"IF(ISBLANK(B301),\"\",COUNTA(#REF!))","v":""},null,null,null,null,null,null,null,null,null,null,"Non","","Non",null,"",null,null,null,null,null,"Non","Non",null,null,null,null,""," - ","","-","--"]
["",null,null,{"$f":"IF(ISBLANK(B302),\"\",COUNTA(#REF!))","v":""},null,null,null,null,null,null,null,null,null,null,"Non","","Non",null,"",null,null,null,null,null,"Non","Non",null,null,null,null,""," - ","","-","--"]
["",null,null,{"$f":"IF(ISBLANK(B303),\"\",COUNTA(#REF!))","v":""},null,null,null,null,null,null,null,null,null,null,"Non","","Non",null,"",null,null,null,null,null,"Non","Non",null,null,null,null,""," - ","","-","--"]
["",null,null,{"$f":"IF(ISBLANK(B304),\"\",COUNTA(#REF!))","v":""},null,null,null,null,null,null,null,null,null,null,"Non","","Non",null,"",null,null,null,null,null,"Non","Non",null,null,null,null,""," - ","","-","--"]
["",null,null,{"$f":"IF(ISBLANK(B305),\"\",COUNTA(#REF!))","v":""},null,null,null,null,null,null,null,null,null,null,"Non","","Non",null,"",null,null,null,null,null,"Non","Non",null,null,null,null,""," - ","","-","--"]
["",null,null,{"$f":"IF(ISBLANK(B306),\"\",COUNTA(#REF!))","v":""},null,null,null,null,null,null,null,null,null,null,"Non","","Non",null,"",null,null,null,null,null,"Non","Non",null,null,null,null,""," - ","","-","--"]
["",null,null,{"$f":"IF(ISBLANK(B307),\"\",COUNTA(#REF!))","v":""},null,null,null,null,null,null,null,null,null,null,"Non","","Non",null,"",null,null,null,null,null,"Non","Non",null,null,null,null,""," - ","","-","--"]
["",null,null,{"$f":"IF(ISBLANK(B308),\"\",COUNTA(#REF!))","v":""},null,null,null,null,null,null,null,null,null,null,"Non","","Non",null,"",null,null,null,null,null,"Non","Non",null,null,null,null,""," - ","","-","--"]
["",null,null,{"$f":"IF(ISBLANK(B309),\"\",COUNTA(#REF!))","v":""},null,null,null,null,null,null,null,null,null,null,"Non","","Non",null,"",null,null,null,null,null,"Non","Non",null,null,null,null,""," - ","","-","--"]
["",null,null,{"$f":"IF(ISBLANK(B310),\"\",COUNTA(#REF!))","v":""},null,null,null,null,null,null,null,null,null,null,"Non","","Non",null,"",null,null,null,null,null,"Non","Non",null,null,null,null,""," - ","","-","--"]
["",null,null,{"$f":"IF(ISBLANK(B311),\"\",COUNTA(#REF!))","v":""},null,null,null,null,null,null,null,null,null,null,"Non","","Non",null,"",null,null,null,null,null,"Non","Non",null,null,null,null,""," - ","","-","--"]
["",null,null,{"$f":"IF(ISBLANK(B312),\"\",COUNTA(#REF!))","v":""},null,null,null,null,null,null,null,null,null,null,"Non","","Non",null,"",null,null,null,null,null,"Non","Non",null,null,null,null,""," - ","","-","--"]
["",null,null,{"$f":"IF(ISBLANK(B313),\"\",COUNTA(#REF!))","v":""},null,null,null,null,null,null,null,null,null,null,"Non","","Non",null,"",null,null,null,null,null,"Non","Non",null,null,null,null,""," - ","","-","--"]
["",null,null,{"$f":"IF(ISBLANK(B314),\"\",COUNTA(#REF!))","v":""},null,null,null,null,null,null,null,null,null,null,"Non","","Non",null,"",null,null,null,null,null,"Non","Non",null,null,null,null,""," - ","","-","--"]
["",null,null,{"$f":"IF(ISBLANK(B315),\"\",COUNTA(#REF!))","v":""},null,null,null,null,null,null,null,null,null,null,"Non","","Non",null,"",null,null,null,null,null,"Non","Non",null,null,null,null,""," - ","","-","--"]
["",null,null,{"$f":"IF(ISBLANK(B316),\"\",COUNTA(#REF!))","v":""},null,null,null,null,null,null,null,null,null,null,"Non","","Non",null,"",null,null,null,null,null,"Non","Non",null,null,null,null,""," - ","","-","--"]
["",null,null,{"$f":"IF(ISBLANK(B317),\"\",COUNTA(#REF!))","v":""},null,null,null,null,null,null,null,null,null,null,"Non","","Non",null,"",null,null,null,null,null,"Non","Non",null,null,null,null,""," - ","","-","--"]
["",null,null,{"$f":"IF(ISBLANK(B318),\"\",COUNTA(#REF!))","v":""},null,null,null,null,null,null,null,null,null,null,"Non","","Non",null,"",null,null,null,null,null,"Non","Non",null,null,null,null,""," - ","","-","--"]
["",null,null,{"$f":"IF(ISBLANK(B319),\"\",COUNTA(#REF!))","v":""},null,null,null,null,null,null,null,null,null,null,"Non","","Non",null,"",null,null,null,null,null,"Non","Non",null,null,null,null,""," - ","","-","--"]
["",null,null,{"$f":"IF(ISBLANK(B320),\"\",COUNTA(#REF!))","v":""},null,null,null,null,null,null,null,null,null,null,"Non","","Non",null,"",null,null,null,null,null,"Non","Non",null,null,null,null,""," - ","","-","--"]
["",null,null,{"$f":"IF(ISBLANK(B321),\"\",COUNTA(#REF!))","v":""},null,null,null,null,null,null,null,null,null,null,"Non","","Non",null,"",null,null,null,null,null,"Non","Non",null,null,null,null,""," - ","","-","--"]
["",null,null,{"$f":"IF(ISBLANK(B322),\"\",COUNTA(#REF!))","v":""},null,null,null,null,null,null,null,null,null,null,"Non","","Non",null,"",null,null,null,null,null,"Non","Non",null,null,null,null,""," - ","","-","--"]
["",null,null,{"$f":"IF(ISBLANK(B323),\"\",COUNTA(#REF!))","v":""},null,null,null,null,null,null,null,null,null,null,"Non","","Non",null,"",null,null,null,null,null,"Non","Non",null,null,null,null,""," - ","","-","--"]
["",null,null,{"$f":"IF(ISBLANK(B324),\"\",COUNTA(#REF!))","v":""},null,null,null,null,null,null,null,null,null,null,"Non","","Non",null,"",null,null,null,null,null,"Non","Non",null,null,null,null,""," - ","","-","--"]
["",null,null,{"$f":"IF(ISBLANK(B325),\"\",COUNTA(#REF!))","v":""},null,null,null,null,null,null,null,null,null,null,"Non","","Non",null,"",null,null,null,null,null,"Non","Non",null,null,null,null,""," - ","","-","--"]
["",null,null,{"$f":"IF(ISBLANK(B326),\"\",COUNTA(#REF!))","v":""},null,null,null,null,null,null,null,null,null,null,"Non","","Non",null,"",null,null,null,null,null,"Non","Non",null,null,null,null,""," - ","","-","--"]
["",null,null,{"$f":"IF(ISBLANK(B327),\"\",COUNTA(#REF!))","v":""},null,null,null,null,null,null,null,null,null,null,"Non","","Non",null,"",null,null,null,null,null,"Non","Non",null,null,null,null,""," - ","","-","--"]
[{"$f":"IF(ISBLANK(B328),\"\",$C$2)","v":""},null,null,{"$f":"IF(ISBLANK(B328),\"\",COUNTA(#REF!))","v":""},null,null,null,null,null,null,null,null,null,null,{"$f":"IF(AND(K328<>\"\",ISBLANK(N328),K328<TODAY()),\"Oui\",\"Non\")","v":"Non"},"",{"$f":"IF(AND(N328<>\"\",ISBLANK(N328),K328<TODAY()),\"Oui\",\"Non\")","v":"Non"},null,"",null,null,null,null,null,"Non","Non",null,null,null,null,""," - ","","-",{"$f":"CONCATENATE(M328,\"-\",AH328)","v":"--"}]
["",null,null,{"$f":"IF(ISBLANK(B329),\"\",COUNTA(#REF!))","v":""},null,null,null,null,null,null,null,null,null,null,"Non","","Non",null,"",null,null,null,null,null,{"$f":"IF(AND(U329<>\"\",ISBLANK(X329),U329<TODAY()),\"Oui\",\"Non\")","v":"Non"},{"$f":"IF(AND(S329=\"Oui\",ISBLANK(X329)),\"Oui\",\"Non\")","v":"Non"},null,null,null,null,""," - ","","-","--"]
["",null,null,{"$f":"IF(ISBLANK(B330),\"\",COUNTA(#REF!))","v":""},null,null,null,null,null,null,null,null,null,null,"Non","","Non",null,"",null,null,null,null,null,"Non","Non",null,null,null,null,""," - ","","-","--"]
["",null,null,{"$f":"IF(ISBLANK(B331),\"\",COUNTA(#REF!))","v":""},null,null,null,null,null,null,null,null,null,null,"Non","","Non",null,"",null,null,null,null,null,"Non","Non",null,null,null,null,""," - ","","-","--"]
["",null,null,{"$f":"IF(ISBLANK(B332),\"\",COUNTA(#REF!))","v":""},null,null,null,null,null,null,null,null,null,null,"Non","","Non",null,"",null,null,null,null,null,"Non","Non",null,null,null,null,""," - ","","-","--"]
["",null,null,{"$f":"IF(ISBLANK(B333),\"\",COUNTA(#REF!))","v":""},null,null,null,null,null,null,null,null,null,null,"Non","","Non",null,"",null,null,null,null,null,"Non","Non",null,null,null,null,""," - ","","-","--"]
["",null,null,{"$f":"IF(ISBLANK(B334),\"\",COUNTA(#REF!))","v":""},null,null,null,null,null,null,null,null,null,null,"Non","","Non",null,"",null,null,null,null,null,"Non","Non",null,null,null,null,""," - ","","-","--"]
["",null,null,{"$f":"IF(ISBLANK(B335),\"\",COUNTA(#REF!))","v":""},null,null,null,null,null,null,null,null,null,null,"Non","","Non",null,"",null,null,null,null,null,"Non","Non",null,null,null,null,""," - ","","-","--"]
["",null,null,{"$f":"IF(ISBLANK(B336),\"\",COUNTA(#REF!))","v":""},null,null,null,null,null,null,null,null,null,null,"Non","","Non",null,"",null,null,null,null,null,"Non","Non",null,null,null,null,""," - ","","-","--"]
["",null,null,{"$f":"IF(ISBLANK(B337),\"\",COUNTA(#REF!))","v":""},null,null,null,null,null,null,null,null,null,null,"Non","","Non",null,"",null,null,null,null,null,"Non","Non",null,null,null,null,""," - ","","-","--"]
["",null,null,{"$f":"IF(ISBLANK(B338),\"\",COUNTA(#REF!))","v":""},null,null,null,null,null,null,null,null,null,null,"Non","","Non",null,"",null,null,null,null,null,"Non","Non",null,null,null,null,""," - ","","-","--"]
["",null,null,{"$f":"IF(ISBLANK(B339),\"\",COUNTA(#REF!))","v":""},null,null,null,null,null,null,null,null,null,null,"Non","","Non",null,"",null,null,null,null,null,"Non","Non",null,null,null,null,{"$f":"IF(K339=\"\",\"\",K339-TODAY())","v":""},{"$f":"IF(ISBLANK(F339),CONCATENATE(E339,\" - \",AG339),CONCATENATE(F339,\" - \",AG339))","v":" - "},{"$f":"IF(ISBLANK(B339),\"\",YEAR(C339))","v":""},{"$f":"CONCATENATE(H339,\"-\",AG339)","v":"-"},"--"]
["",null,null,{"$f":"IF(ISBLANK(B340),\"\",COUNTA(#REF!))","v":""},null,null,null,null,null,null,null,null,null,null,"Non","","Non",null,"",null,null,null,null,null,"Non","Non",null,null,null,null,""," - ","","-","--"]
["",null,null,{"$f":"IF(ISBLANK(B341),\"\",COUNTA(#REF!))","v":""},null,null,null,null,null,null,null,null,null,null,"Non","","Non",null,"",null,null,null,null,null,"Non","Non",null,null,null,null,""," - ","","-","--"]
["",null,null,{"$f":"IF(ISBLANK(B342),\"\",COUNTA(#REF!))","v":""},null,null,null,null,null,null,null,null,null,null,"Non","","Non",null,"",null,null,null,null,null,"Non","Non",null,null,null,null,""," - ","","-","--"]
["",null,null,{"$f":"IF(ISBLANK(B343),\"\",COUNTA(#REF!))","v":""},null,null,null,null,null,null,null,null,null,null,"Non",{"$f":"IF(ISBLANK(I343),\"\",IF(K343=\"\",\"délai à préciser\",IF(M343=\"\",\"statut à préciser\",IF(M343=\"finalisée\",IF(N343=\"\",\"date de solde à préciser\",IF(K343>=N343,\"fait\",\"retard\")),(IF(K343<TODAY(),\"retard\",\"Ok\"))))))","v":""},"Non",null,"",null,null,null,null,null,"Non","Non",null,null,null,null,""," - ","","-","--"]
["",null,null,{"$f":"IF(ISBLANK(B344),\"\",COUNTA(#REF!))","v":""},null,null,null,null,null,null,null,null,null,null,"Non","","Non",null,{"$f":"IF(ISBLANK(H344),\"\",IF(OR(H344=\"Préventive\",H344=\"Corrective\"),\"Oui\",\"Non\"))","v":""},null,null,null,null,null,"Non","Non",null,null,null,null,""," - ","","-","--"]
["",null,null,{"$f":"IF(ISBLANK(B345),\"\",COUNTA(#REF!))","v":""},null,null,null,null,null,null,null,null,null,null,"Non","","Non",null,"",null,null,null,null,null,"Non","Non",null,null,null,null,""," - ","","-","--"]
["",null,null,{"$f":"IF(ISBLANK(B346),\"\",COUNTA(#REF!))","v":""},null,null,null,null,null,null,null,null,null,null,"Non","","Non",null,"",null,null,null,null,null,"Non","Non",null,null,null,null,""," - ","","-","--"]
["",null,null,{"$f":"IF(ISBLANK(B347),\"\",COUNTA(#REF!))","v":""},null,null,null,null,null,null,null,null,null,null,"Non","","Non",null,"",null,null,null,null,null,"Non","Non",null,null,null,null,""," - ","","-","--"]
["",null,null,{"$f":"IF(ISBLANK(B348),\"\",COUNTA(#REF!))","v":""},null,null,null,null,null,null,null,null,null,null,"Non","","Non",null,"",null,null,null,null,null,"Non","Non",null,null,null,null,""," - ","","-","--"]
["",null,null,{"$f":"IF(ISBLANK(B349),\"\",COUNTA(#REF!))","v":""},null,null,null,null,null,null,null,null,null,null,"Non","","Non",null,"",null,null,null,null,null,"Non","Non",null,null,null,null,""," - ","","-","--"]
["",null,null,{"$f":"IF(ISBLANK(B350),\"\",COUNTA(#REF!))","v":""},null,null,null,null,null,null,null,null,null,null,"Non","","Non",null,"",null,null,null,null,null,"Non","Non",null,null,null,null,""," - ","","-","--"]
["",null,null,{"$f":"IF(ISBLANK(B351),\"\",COUNTA(#REF!))","v":""},null,null,null,null,null,null,null,null,null,null,"Non","","Non",null,"",null,null,null,null,null,"Non","Non",null,null,null,null,""," - ","","-","--"]
["",null,null,{"$f":"IF(ISBLANK(B352),\"\",COUNTA(#REF!))","v":""},null,null,null,null,null,null,null,null,null,null,"Non","","Non",null,"",null,null,null,null,null,"Non","Non",null,null,null,null,""," - ","","-","--"]
["",null,null,{"$f":"IF(ISBLANK(B353),\"\",COUNTA(#REF!))","v":""},null,null,null,null,null,null,null,null,null,null,"Non","","Non",null,"",null,null,null,null,null,"Non","Non",null,null,null,null,""," - ","","-","--"]
["",null,null,{"$f":"IF(ISBLANK(B354),\"\",COUNTA(#REF!))","v":""},null,null,null,null,null,null,null,null,null,null,"Non","","Non",null,"",null,null,null,null,null,"Non","Non",null,null,null,null,""," - ","","-","--"]
["",null,null,{"$f":"IF(ISBLANK(B355),\"\",COUNTA(#REF!))","v":""},null,null,null,null,null,null,null,null,null,null,"Non","","Non",null,"",null,null,null,null,null,"Non","Non",null,null,null,null,""," - ","","-","--"]
["",null,null,{"$f":"IF(ISBLANK(B356),\"\",COUNTA(#REF!))","v":""},null,null,null,null,null,null,null,null,null,null,"Non","","Non",null,"",null,null,null,null,null,"Non","Non",null,null,null,null,""," - ","","-","--"]
["",null,null,{"$f":"IF(ISBLANK(B357),\"\",COUNTA(#REF!))","v":""},null,null,null,null,null,null,null,null,null,null,"Non","","Non",null,"",null,null,null,null,null,"Non","Non",null,null,null,null,""," - ","","-","--"]
["",null,null,{"$f":"IF(ISBLANK(B358),\"\",COUNTA(#REF!))","v":""},null,null,null,null,null,null,null,null,null,null,"Non","","Non",null,"",null,null,null,null,null,"Non","Non",null,null,null,null,""," - ","","-","--"]
["",null,null,{"$f":"IF(ISBLANK(B359),\"\",COUNTA(#REF!))","v":""},null,null,null,null,null,null,null,null,null,null,"Non","","Non",null,"",null,null,null,null,null,"Non","Non",null,null,null,null,""," - ","","-","--"]
["",null,null,{"$f":"IF(ISBLANK(B360),\"\",COUNTA(#REF!))","v":""},null,null,null,null,null,null,null,null,null,null,"Non","","Non",null,"",null,null,null,null,null,"Non","Non",null,null,null,null,""," - ","","-","--"]
["",null,null,{"$f":"IF(ISBLANK(B361),\"\",COUNTA(#REF!))","v":""},null,null,null,null,null,null,null,null,null,null,"Non","","Non",null,"",null,null,null,null,null,"Non","Non",null,null,null,null,""," - ","","-","--"]
["",null,null,{"$f":"IF(ISBLANK(B362),\"\",COUNTA(#REF!))","v":""},null,null,null,null,null,null,null,null,null,null,"Non","","Non",null,"",null,null,null,null,null,"Non","Non",null,null,null,null,""," - ","","-","--"]
["",null,null,{"$f":"IF(ISBLANK(B363),\"\",COUNTA(#REF!))","v":""},null,null,null,null,null,null,null,null,null,null,"Non","","Non",null,"",null,null,null,null,null,"Non","Non",null,null,null,null,""," - ","","-","--"]
["",null,null,{"$f":"IF(ISBLANK(B364),\"\",COUNTA(#REF!))","v":""},null,null,null,null,null,null,null,null,null,null,"Non","","Non",null,"",null,null,null,null,null,"Non","Non",null,null,null,null,""," - ","","-","--"]
["",null,null,{"$f":"IF(ISBLANK(B365),\"\",COUNTA(#REF!))","v":""},null,null,null,null,null,null,null,null,null,null,"Non","","Non",null,"",null,null,null,null,null,"Non","Non",null,null,null,null,""," - ","","-","--"]
["",null,null,{"$f":"IF(ISBLANK(B366),\"\",COUNTA(#REF!))","v":""},null,null,null,null,null,null,null,null,null,null,"Non","","Non",null,"",null,null,null,null,null,"Non","Non",null,null,null,null,""," - ","","-","--"]
["",null,null,{"$f":"IF(ISBLANK(B367),\"\",COUNTA(#REF!))","v":""},null,null,null,null,null,null,null,null,null,null,"Non","","Non",null,"",null,null,null,null,null,"Non","Non",null,null,null,null,""," - ","","-","--"]
["",null,null,{"$f":"IF(ISBLANK(B368),\"\",COUNTA(#REF!))","v":""},null,null,null,null,null,null,null,null,null,null,"Non","","Non",null,"",null,null,null,null,null,"Non","Non",null,null,null,null,""," - ","","-","--"]
["",null,null,{"$f":"IF(ISBLANK(B369),\"\",COUNTA(#REF!))","v":""},null,null,null,null,null,null,null,null,null,null,"Non","","Non",null,"",null,null,null,null,null,"Non","Non",null,null,null,null,""," - ","","-","--"]
["",null,null,{"$f":"IF(ISBLANK(B370),\"\",COUNTA(#REF!))","v":""},null,null,null,null,null,null,null,null,null,null,"Non","","Non",null,"",null,null,null,null,null,"Non","Non",null,null,null,null,""," - ","","-","--"]
["",null,null,{"$f":"IF(ISBLANK(B371),\"\",COUNTA(#REF!))","v":""},null,null,null,null,null,null,null,null,null,null,"Non","","Non",null,"",null,null,null,null,null,"Non","Non",null,null,null,null,""," - ","","-","--"]
["",null,null,{"$f":"IF(ISBLANK(B372),\"\",COUNTA(#REF!))","v":""},null,null,null,null,null,null,null,null,null,null,"Non","","Non",null,"",null,null,null,null,null,"Non","Non",null,null,null,null,""," - ","","-","--"]
["",null,null,{"$f":"IF(ISBLANK(B373),\"\",COUNTA(#REF!))","v":""},null,null,null,null,null,null,null,null,null,null,"Non","","Non",null,"",null,null,null,null,null,"Non","Non",null,null,null,null,""," - ","","-","--"]
["",null,null,{"$f":"IF(ISBLANK(B374),\"\",COUNTA(#REF!))","v":""},null,null,null,null,null,null,null,null,null,null,"Non","","Non",null,"",null,null,null,null,null,"Non","Non",null,null,null,null,""," - ","","-","--"]
["",null,null,{"$f":"IF(ISBLANK(B375),\"\",COUNTA(#REF!))","v":""},null,null,null,null,null,null,null,null,null,null,"Non","","Non",null,"",null,null,null,null,null,"Non","Non",null,null,null,null,""," - ","","-","--"]
["",null,null,{"$f":"IF(ISBLANK(B376),\"\",COUNTA(#REF!))","v":""},null,null,null,null,null,null,null,null,null,null,"Non","","Non",null,"",null,null,null,null,null,"Non","Non",null,null,null,null,""," - ","","-","--"]
["",null,null,{"$f":"IF(ISBLANK(B377),\"\",COUNTA(#REF!))","v":""},null,null,null,null,null,null,null,null,null,null,"Non","","Non",null,"",null,null,null,null,null,"Non","Non",null,null,null,null,""," - ","","-","--"]
["",null,null,{"$f":"IF(ISBLANK(B378),\"\",COUNTA(#REF!))","v":""},null,null,null,null,null,null,null,null,null,null,"Non","","Non",null,"",null,null,null,null,null,"Non","Non",null,null,null,null,""," - ","","-","--"]
["",null,null,{"$f":"IF(ISBLANK(B379),\"\",COUNTA(#REF!))","v":""},null,null,null,null,null,null,null,null,null,null,"Non","","Non",null,"",null,null,null,null,null,"Non","Non",null,null,null,null,""," - ","","-","--"]
["",null,null,{"$f":"IF(ISBLANK(B380),\"\",COUNTA(#REF!))","v":""},null,null,null,null,null,null,null,null,null,null,"Non","","Non",null,"",null,null,null,null,null,"Non","Non",null,null,null,null,""," - ","","-","--"]
["",null,null,{"$f":"IF(ISBLANK(B381),\"\",COUNTA(#REF!))","v":""},null,null,null,null,null,null,null,null,null,null,"Non","","Non",null,"",null,null,null,null,null,"Non","Non",null,null,null,null,""," - ","","-","--"]
["",null,null,{"$f":"IF(ISBLANK(B382),\"\",COUNTA(#REF!))","v":""},null,null,null,null,null,null,null,null,null,null,"Non","","Non",null,"",null,null,null,null,null,"Non","Non",null,null,null,null,""," - ","","-","--"]
["",null,null,{"$f":"IF(ISBLANK(B383),\"\",COUNTA(#REF!))","v":""},null,null,null,null,null,null,null,null,null,null,"Non","","Non",null,"",null,null,null,null,null,"Non","Non",null,null,null,null,""," - ","","-","--"]
["",null,null,{"$f":"IF(ISBLANK(B384),\"\",COUNTA(#REF!))","v":""},null,null,null,null,null,null,null,null,null,null,"Non","","Non",null,"",null,null,null,null,null,"Non","Non",null,null,null,null,""," - ","","-","--"]
["",null,null,{"$f":"IF(ISBLANK(B385),\"\",COUNTA(#REF!))","v":""},null,null,null,null,null,null,null,null,null,null,"Non","","Non",null,"",null,null,null,null,null,"Non","Non",null,null,null,null,""," - ","","-","--"]
["",null,null,{"$f":"IF(ISBLANK(B386),\"\",COUNTA(#REF!))","v":""},null,null,null,null,null,null,null,null,null,null,"Non","","Non",null,"",null,null,null,null,null,"Non","Non",null,null,null,null,""," - ","","-","--"]
["",null,null,{"$f":"IF(ISBLANK(B387),\"\",COUNTA(#REF!))","v":""},null,null,null,null,null,null,null,null,null,null,"Non","","Non",null,"",null,null,null,null,null,"Non","Non",null,null,null,null,""," - ","","-","--"]
["",null,null,{"$f":"IF(ISBLANK(B388),\"\",COUNTA(#REF!))","v":""},null,null,null,null,null,null,null,null,null,null,"Non","","Non",null,"",null,null,null,null,null,"Non","Non",null,null,null,null,""," - ","","-","--"]
["",null,null,{"$f":"IF(ISBLANK(B389),\"\",COUNTA(#REF!))","v":""},null,null,null,null,null,null,null,null,null,null,"Non","","Non",null,"",null,null,null,null,null,"Non","Non",null,null,null,null,""," - ","","-","--"]
["",null,null,{"$f":"IF(ISBLANK(B390),\"\",COUNTA(#REF!))","v":""},null,null,null,null,null,null,null,null,null,null,"Non","","Non",null,"",null,null,null,null,null,"Non","Non",null,null,null,null,""," - ","","-","--"]
["",null,null,{"$f":"IF(ISBLANK(B391),\"\",COUNTA(#REF!))","v":""},null,null,null,null,null,null,null,null,null,null,"Non","","Non",null,"",null,null,null,null,null,"Non","Non",null,null,null,null,""," - ","","-","--"]
[{"$f":"IF(ISBLANK(B392),\"\",$C$2)","v":""},null,null,{"$f":"IF(ISBLANK(B392),\"\",COUNTA(#REF!))","v":""},null,null,null,null,null,null,null,null,null,null,{"$f":"IF(AND(K392<>\"\",ISBLANK(N392),K392<TODAY()),\"Oui\",\"Non\")","v":"Non"},"",{"$f":"IF(AND(N392<>\"\",ISBLANK(N392),K392<TODAY()),\"Oui\",\"Non\")","v":"Non"},null,"",null,null,null,null,null,"Non","Non",null,null,null,null,""," - ","","-",{"$f":"CONCATENATE(M392,\"-\",AH392)","v":"--"}]
["",null,null,{"$f":"IF(ISBLANK(B393),\"\",COUNTA(#REF!))","v":""},null,null,null,null,null,null,null,null,null,null,"Non","","Non",null,"",null,null,null,null,null,{"$f":"IF(AND(U393<>\"\",ISBLANK(X393),U393<TODAY()),\"Oui\",\"Non\")","v":"Non"},{"$f":"IF(AND(S393=\"Oui\",ISBLANK(X393)),\"Oui\",\"Non\")","v":"Non"},null,null,null,null,""," - ","","-","--"]
["",null,null,{"$f":"IF(ISBLANK(B394),\"\",COUNTA(#REF!))","v":""},null,null,null,null,null,null,null,null,null,null,"Non","","Non",null,"",null,null,null,null,null,"Non","Non",null,null,null,null,""," - ","","-","--"]
["",null,null,{"$f":"IF(ISBLANK(B395),\"\",COUNTA(#REF!))","v":""},null,null,null,null,null,null,null,null,null,null,"Non","","Non",null,"",null,null,null,null,null,"Non","Non",null,null,null,null,""," - ","","-","--"]
["",null,null,{"$f":"IF(ISBLANK(B396),\"\",COUNTA(#REF!))","v":""},null,null,null,null,null,null,null,null,null,null,"Non","","Non",null,"",null,null,null,null,null,"Non","Non",null,null,null,null,""," - ","","-","--"]
["",null,null,{"$f":"IF(ISBLANK(B397),\"\",COUNTA(#REF!))","v":""},null,null,null,null,null,null,null,null,null,null,"Non","","Non",null,"",null,null,null,null,null,"Non","Non",null,null,null,null,""," - ","","-","--"]
["",null,null,{"$f":"IF(ISBLANK(B398),\"\",COUNTA(#REF!))","v":""},null,null,null,null,null,null,null,null,null,null,"Non","","Non",null,"",null,null,null,null,null,"Non","Non",null,null,null,null,""," - ","","-","--"]

{"sheet":"Suivi du PA 4","index":4,"n_rows":398,"n_cols":35,"rows_kept":398,"cut":false,"hidden":false,"merged":[[0,2,0,26],[4,1,4,6],[4,7,4,17],[4,18,4,26]]}
[null,null,"Plan d'actions",null,null,null,null,null,null,null,null,null,null,null,null,null,null,null,null,null,null,null,null,null,null,null,null,9,9]
[null,"Processus"]
[null,null,null,null,null,"Modifié le:",null,null,null,{"$f":"COUNTIF(M7:M79,\"en cours\")+COUNTIF(M7:M79,\"à lancer\")","v":0},"actions non clôturées",null,null,null,null,null,null,null,null,{"$f":"COUNTIF(Z8:Z44,\"Oui\")","v":0},"mesures d'efficacité à clôturer"]
[]
[null,"Présentation",null,null,null,null,null,"Plan d'actions",null,null,null,null,null,null,null,null,null,null,"Messure de l'efficacité"]
["Processus","Descriptif","Date","N°","Thème","Origine","Analyse des causes","Type d'action","Actions prévues","Responsable","Délai","Moyen(s)","Statut","Date de solde","Action en retard?","Respect du délai ?","Retard?","Commentaire","Mesure de l'efficacité ?","Résultat Attendu","Délai de la mesure","Responsable de la mesure","Résultat Obtenu","Date de la mesure","Retard?","A faire?","Action efficace?",null,null,null,null,"cat - année","année dysf°","Type d'action - Année","Statut - Type - Année"]
[{"$f":"IF(ISBLANK(B7),\"\",$C$2)","v":""},null,null,{"$f":"IF(ISBLANK(B7),\"\",COUNTA(#REF!))","v":""},null,null,null,null,null,null,null,null,null,null,{"$f":"IF(AND(K7<>\"\",ISBLANK(N7),K7<TODAY()),\"Oui\",\"Non\")","v":"Non"},{"$f":"IF(ISBLANK(I7),\"\",IF(K7=\"\",\"délai à préciser\",IF(M7=\"\",\"statut à préciser\",IF(M7=\"finalisée\",IF(N7=\"\",\"date de solde à préciser\",IF(K7>=N7,\"fait\",\"retard\")),(IF(K7<TODAY(),\"retard\",\"Ok\"))))))","v":""},{"$f":"IF(AND(N7<>\"\",ISBLANK(N7),K7<TODAY()),\"Oui\",\"Non\")","v":"Non"},null,{"$f":"IF(ISBLANK(H7),\"\",IF(OR(H7=\"Préventive\",H7=\"Corrective\"),\"Oui\",\"Non\"))","v":""},null,null,null,null,null,{"$f":"IF(AND(U7<>\"\",ISBLANK(X7),U7<TODAY()),\"Oui\",\"Non\")","v":"Non"},{"$f":"IF(AND(S7=\"Oui\",ISBLANK(X7)),\"Oui\",\"Non\")","v":"Non"},null,null,null,null,{"$f":"IF(K7=\"\",\"\",K7-TODAY())","v":""},{"$f":"IF(ISBLANK(F7),CONCATENATE(E7,\" - \",AG7),CONCATENATE(F7,\" - \",AG7))","v":" - "},{"$f":"IF(ISBLANK(B7),\"\",YEAR(C7))","v":""},{"$f":"CONCATENATE(H7,\"-\",AG7)","v":"-"},{"$f":"CONCATENATE(M7,\"-\",AH7)","v":"--"}]
["",null,null,{"$f":"IF(ISBLANK(B8),\"\",COUNTA(#REF!))","v":""},null,null,null,null,null,null,null,null,null,null,{"$f":"IF(AND(K8<>\"\",ISBLANK(N8),K8<TODAY()),\"Oui\",\"Non\")","v":"Non"},"",{"$f":"IF(AND(N8<>\"\",ISBLANK(N8),K8<TODAY()),\"Oui\",\"Non\")","v":"Non"},null,"",null,null,null,null,null,{"$f":"IF(AND(U8<>\"\",ISBLANK(X8),U8<TODAY()),\"Oui\",\"Non\")","v":"Non"},{"$f":"IF(AND(S7=\"Oui\",ISBLANK(X8)),\"Oui\",\"Non\")","v":"Non"},null,null,null,null,{"$f":"IF(K8=\"\",\"\",K8-TODAY())","v":""},{"$f":"IF(ISBLANK(F8),CONCATENATE(E8,\" - \",AG8),CONCATENATE(F8,\" - \",AG8))","v":" - "},{"$f":"IF(ISBLANK(B8),\"\",YEAR(C8))","v":""},{"$f":"CONCATENATE(H8,\"-\",AG8)","v":"-"},{"$f":"CONCATENATE(M8,\"-\",AH8)","v":"--"}]
["",null,null,{"$f":"IF(ISBLANK(B9),\"\",COUNTA(#REF!))","v":""},null,null,null,null,null,null,null,null,null,null,"Non","","Non",null,"",null,null,null,null,null,{"$f":"IF(AND(U9<>\"\",ISBLANK(X9),U9<TODAY()),\"Oui\",\"Non\")","v":"Non"},{"$f":"IF(AND(S9=\"Oui\",ISBLANK(X9)),\"Oui\",\"Non\")","v":"Non"},null,null,null,null,""," - ","","-","--"]
["",null,null,{"$f":"IF(ISBLANK(B10),\"\",COUNTA(#REF!))","v":""},null,null,null,null,null,null,null,null,null,null,"Non","","Non",null,"",null,null,null,null,null,null,null,null,null,null,null,""," - ","","-","--"]
["",null,null,{"$f":"IF(ISBLANK(B11),\"\",COUNTA(#REF!))","v":""},null,null,null,null,null,null,null,null,null,null,"Non","","Non",null,"",null,null,null,null,null,{"$f":"IF(AND(U11<>\"\",ISBLANK(X11),U11<TODAY()),\"Oui\",\"Non\")","v":"Non"},{"$f":"IF(AND(S10=\"Oui\",ISBLANK(X11)),\"Oui\",\"Non\")","v":"Non"},null,null,null,null,""," - ","","-","--"]
["",null,null,{"$f":"IF(ISBLANK(B12),\"\",COUNTA(#REF!))","v":""},null,null,null,null,null,null,null,null,null,null,"Non","","Non",null,"",null,null,null,null,null,{"$f":"IF(AND(U12<>\"\",ISBLANK(X12),U12<TODAY()),\"Oui\",\"Non\")","v":"Non"},{"$f":"IF(AND(S11=\"Oui\",ISBLANK(X12)),\"Oui\",\"Non\")","v":"Non"},null,null,null,null,""," - ","","-","--"]
["",null,null,{"$f":"IF(ISBLANK(B13),\"\",COUNTA(#REF!))","v":""},null,null,null,null,null,null,null,null,null,null,"Non","","Non",null,"",null,null,null,null,null,"Non","Non",null,null,null,null,""," - ","","-","--"]
["",null,null,{"$f":"IF(ISBLANK(B14),\"\",COUNTA(#REF!))","v":""},null,null,null,null,null,null,null,null,null,null,"Non","","Non",null,"",null,null,null,null,null,"Non","Non",null,null,null,null,""," - ","","-","--"]
["",null,null,{"$f":"IF(ISBLANK(B15),\"\",COUNTA(#REF!))","v":""},null,null,null,null,null,null,null,null,null,null,"Non","","Non",null,"",null,null,null,null,null,{"$f":"IF(AND(U15<>\"\",ISBLANK(X15),U15<TODAY()),\"Oui\",\"Non\")","v":"Non"},{"$f":"IF(AND(S14=\"Oui\",ISBLANK(X15)),\"Oui\",\"Non\")","v":"Non"},null,null,null,null,""," - ","","-","--"]
["",null,null,{"$f":"IF(ISBLANK(B16),\"\",COUNTA(#REF!))","v":""},null,null,null,null,null,null,null,null,null,null,"Non","","Non",null,"",null,null,null,null,null,{"$f":"IF(AND(U16<>\"\",ISBLANK(X16),U16<TODAY()),\"Oui\",\"Non\")","v":"Non"},{"$f":"IF(AND(S15=\"Oui\",ISBLANK(X16)),\"Oui\",\"Non\")","v":"Non"},null,null,null,null,""," - ","","-","--"]
["",null,null,{"$f":"IF(ISBLANK(B17),\"\",COUNTA(#REF!))","v":""},null,null,null,null,null,null,null,null,null,null,"Non","","Non",null,"",null,null,null,null,null,"Non","Non",null,null,null,null,""," - ","","-","--"]
["",null,null,{"$f":"IF(ISBLANK(B18),\"\",COUNTA(#REF!))","v":""},null,null,null,null,null,null,null,null,null,null,"Non","","Non",null,"",null,null,null,null,null,"Non","Non",null,null,null,null,""," - ","","-","--"]
["",null,null,{"$f":"IF(ISBLANK(B19),\"\",COUNTA(#REF!))","v":""},null,null,null,null,null,null,null,null,null,null,"Non","","Non",null,"",null,null,null,null,null,"Non","Non",null,null,null,null,""," - ","","-","--"]
["",null,null,{"$f":"IF(ISBLANK(B20),\"\",COUNTA(#REF!))","v":""},null,null,null,null,null,null,null,null,null,null,"Non","","Non",null,"",null,null,null,null,null,"Non","Non",null,null,null,null,""," - ","","-","--"]
["",null,null,{"$f":"IF(ISBLANK(B21),\"\",COUNTA(#REF!))","v":""},null,null,null,null,null,null,null,null,null,null,"Non","","Non",null,"",null,null,null,null,null,"Non","Non",null,null,null,null,""," - ","","-","--"]
["",null,null,{"$f":"IF(ISBLANK(B22),\"\",COUNTA(#REF!))","v":""},null,null,null,null,null,null,null,null,null,null,{"$f":"IF(AND(K22<>\"\",ISBLANK(N22),K22<TODAY()),\"Oui\",\"Non\")","v":"Non"},{"$f":"IF(ISBLANK(I22),\"\",IF(K22=\"\",\"délai à préciser\",IF(M22=\"\",\"statut à préciser\",IF(M22=\"finalisée\",IF(N22=\"\",\"date de solde à préciser\",IF(K22>=N22,\"fait\",\"retard\")),(IF(K22<TODAY(),\"retard\",\"Ok\"))))))","v":""},{"$f":"IF(AND(N22<>\"\",ISBLANK(N22),K22<TODAY()),\"Oui\",\"Non\")","v":"Non"},null,"",null,null,null,null,null,"Non","Non",null,null,null,null,{"$f":"IF(K22=\"\",\"\",K22-TODAY())","v":""},{"$f":"IF(ISBLANK(F22),CONCATENATE(E22,\" - \",AG22),CONCATENATE(F22,\" - \",AG22))","v":" - "},{"$f":"IF(ISBLANK(B22),\"\",YEAR(C22))","v":""},{"$f":"CONCATENATE(H22,\"-\",AG22)","v":"-"},{"$f":"CONCATENATE(M22,\"-\",AH22)","v":"--"}]
["",null,null,{"$f":"IF(ISBLANK(B23),\"\",COUNTA(#REF!))","v":""},null,null,null,null,null,null,null,null,null,null,{"$f":"IF(AND(K23<>\"\",ISBLANK(N23),K23<TODAY()),\"Oui\",\"Non\")","v":"Non"},{"$f":"IF(ISBLANK(I23),\"\",IF(K23=\"\",\"délai à préciser\",IF(M23=\"\",\"statut à préciser\",IF(M23=\"finalisée\",IF(N23=\"\",\"date de solde à préciser\",IF(K23>=N23,\"fait\",\"retard\")),(IF(K23<TODAY(),\"retard\",\"Ok\"))))))","v":""},{"$f":"IF(AND(N23<>\"\",ISBLANK(N23),K23<TODAY()),\"Oui\",\"Non\")","v":"Non"},null,"",null,null,null,null,null,{"$f":"IF(AND(U23<>\"\",ISBLANK(X23),U23<TODAY()),\"Oui\",\"Non\")","v":"Non"},{"$f":"IF(AND(S22=\"Oui\",ISBLANK(X23)),\"Oui\",\"Non\")","v":"Non"},null,null,null,null,{"$f":"IF(K23=\"\",\"\",K23-TODAY())","v":""},{"$f":"IF(ISBLANK(F23),CONCATENATE(E23,\" - \",AG23),CONCATENATE(F23,\" - \",AG23))","v":" - "},{"$f":"IF(ISBLANK(B23),\"\",YEAR(C23))","v":""},{"$f":"CONCATENATE(H23,\"-\",AG23)","v":"-"},{"$f":"CONCATENATE(M23,\"-\",AH23)","v":"--"}]
["",null,null,{"$f":"IF(ISBLANK(B24),\"\",COUNTA(#REF!))","v":""},null,null,null,null,null,null,null,null,null,null,"Non","","Non",null,"",null,null,null,null,null,{"$f":"IF(AND(U24<>\"\",ISBLANK(X24),U24<TODAY()),\"Oui\",\"Non\")","v":"Non"},{"$f":"IF(AND(S24=\"Oui\",ISBLANK(X24)),\"Oui\",\"Non\")","v":"Non"},null,null,null,null,""," - ","","-","--"]
["",null,null,{"$f":"IF(ISBLANK(B25),\"\",COUNTA(#REF!))","v":""},null,null,null,null,null,null,null,null,null,null,"Non","","Non",null,"",null,null,null,null,null,"Non","Non",null,null,null,null,""," - ","","-","--"]
["",null,null,{"$f":"IF(ISBLANK(B26),\"\",COUNTA(#REF!))","v":""},null,null,null,null,null,null,null,null,null,null,"Non","","Non",null,"",null,null,null,null,null,{"$f":"IF(AND(U26<>\"\",ISBLANK(X26),U26<TODAY()),\"Oui\",\"Non\")","v":"Non"},{"$f":"IF(AND(S25=\"Oui\",ISBLANK(X26)),\"Oui\",\"Non\")","v":"Non"},null,null,null,null,""," - ","","-","--"]
["",null,null,{"$f":"IF(ISBLANK(B27),\"\",COUNTA(#REF!))","v":""},null,null,null,null,null,null,null,null,null,null,"Non","","Non",null,"",null,null,null,null,null,{"$f":"IF(AND(U27<>\"\",ISBLANK(X27),U27<TODAY()),\"Oui\",\"Non\")","v":"Non"},{"$f":"IF(AND(S26=\"Oui\",ISBLANK(X27)),\"Oui\",\"Non\")","v":"Non"},null,null,null,null,""," - ","","-","--"]
["",null,null,{"$f":"IF(ISBLANK(B28),\"\",COUNTA(#REF!))","v":""},null,null,null,null,null,null,null,null,null,null,"Non","","Non",null,"",null,null,null,null,null,{"$f":"IF(AND(U28<>\"\",ISBLANK(X28),U28<TODAY()),\"Oui\",\"Non\")","v":"Non"},{"$f":"IF(AND(S28=\"Oui\",ISBLANK(X28)),\"Oui\",\"Non\")","v":"Non"},null,null,null,null,""," - ","","-","--"]
["",null,null,{"$f":"IF(ISBLANK(B29),\"\",COUNTA(#REF!))","v":""},null,null,null,null,null,null,null,null,null,null,"Non","","Non",null,"",null,null,null,null,null,"Non","Non",null,null,null,null,""," - ","","-","--"]
["",null,null,{"$f":"IF(ISBLANK(B30),\"\",COUNTA(#REF!))","v":""},null,null,null,null,null,null,null,null,null,null,"Non","","Non",null,"",null,null,null,null,null,"Non","Non",null,null,null,null,""," - ","","-","--"]
["",null,null,{"$f":"IF(ISBLANK(B31),\"\",COUNTA(#REF!))","v":""},null,null,null,null,null,null,null,null,null,null,"Non","","Non",null,"",null,null,null,null,null,"Non","Non",null,null,null,null,""," - ","","-","--"]
["",null,null,{"$f":"IF(ISBLANK(B32),\"\",COUNTA(#REF!))","v":""},null,null,null,null,null,null,null,null,null,null,"Non","","Non",null,"",null,null,null,null,null,"Non","Non",null,null,null,null,""," - ","","-","--"]
["",null,null,{"$f":"IF(ISBLANK(B33),\"\",COUNTA(#REF!))","v":""},null,null,null,null,null,null,null,null,null,null,"Non","","Non",null,"",null,null,null,null,null,"Non","Non",null,null,null,null,""," - ","","-","--"]
["",null,null,{"$f":"IF(ISBLANK(B34),\"\",COUNTA(#REF!))","v":""},null,null,null,null,null,null,null,null,null,null,"Non","","Non",null,"",null,null,null,null,null,"Non","Non",null,null,null,null,""," - ","","-","--"]
["",null,null,{"$f":"IF(ISBLANK(B35),\"\",COUNTA(#REF!))","v":""},null,null,null,null,null,null,null,null,null,null,"Non","","Non",null,"",null,null,null,null,null,"Non","Non",null,null,null,null,""," - ","","-","--"]
["",null,null,{"$f":"IF(ISBLANK(B36),\"\",COUNTA(#REF!))","v":""},null,null,null,null,null,null,null,null,null,null,"Non","","Non",null,"",null,null,null,null,null,"Non","Non",null,null,null,null,""," - ","","-","--"]
["",null,null,{"$f":"IF(ISBLANK(B37),\"\",COUNTA(#REF!))","v":""},null,null,null,null,null,null,null,null,null,null,"Non","","Non",null,"",null,null,null,null,null,"Non","Non",null,null,null,null,""," - ","","-","--"]
["",null,null,{"$f":"IF(ISBLANK(B38),\"\",COUNTA(#REF!))","v":""},null,null,null,null,null,null,null,null,null,null,"Non","","Non",null,"",null,null,null,null,null,"Non","Non",null,null,null,null,""," - ","","-","--"]
["",null,null,{"$f":"IF(ISBLANK(B39),\"\",COUNTA(#REF!))","v":""},null,null,null,null,null,null,null,null,null,null,"Non","","Non",null,"",null,null,null,null,null,"Non","Non",null,null,null,null,""," - ","","-","--"]
["",null,null,{"$f":"IF(ISBLANK(B40),\"\",COUNTA(#REF!))","v":""},null,null,null,null,null,null,null,null,null,null,"Non","","Non",null,"",null,null,null,null,null,"Non","Non",null,null,null,null,""," - ","","-","--"]
["",null,null,{"$f":"IF(ISBLANK(B41),\"\",COUNTA(#REF!))","v":""},null,null,null,null,null,null,null,null,null,null,"Non","","Non",null,"",null,null,null,null,null,"Non","Non",null,null,null,null,""," - ","","-","--"]
["",null,null,{"$f":"IF(ISBLANK(B42),\"\",COUNTA(#REF!))","v":""},null,null,null,null,null,null,null,null,null,null,"Non","","Non",null,"",null,null,null,null,null,"Non","Non",null,null,null,null,""," - ","","-","--"]
["",null,null,{"$f":"IF(ISBLANK(B43),\"\",COUNTA(#REF!))","v":""},null,null,null,null,null,null,null,null,null,null,"Non","","Non",null,"",null,null,null,null,null,"Non","Non",null,null,null,null,""," - ","","-","--"]
["",null,null,{"$f":"IF(ISBLANK(B44),\"\",COUNTA(#REF!))","v":""},null,null,null,null,null,null,null,null,null,null,"Non","","Non",null,"",null,null,null,null,null,"Non","Non",null,null,null,null,""," - ","","-","--"]
["",null,null,{"$f":"IF(ISBLANK(B45),\"\",COUNTA(#REF!))","v":""},null,null,null,null,null,null,null,null,null,null,"Non","","Non",null,"",null,null,null,null,null,"Non","Non",null,null,null,null,""," - ","","-","--"]
["",null,null,{"$f":"IF(ISBLANK(B46),\"\",COUNTA(#REF!))","v":""},null,null,null,null,null,null,null,null,null,null,"Non","","Non",null,"",null,null,null,null,null,"Non","Non",null,null,null,null,""," - ","","-","--"]
["",null,null,{"$f":"IF(ISBLANK(B47),\"\",COUNTA(#REF!))","v":""},null,null,null,null,null,null,null,null,null,null,"Non","","Non",null,"",null,null,null,null,null,"Non","Non",null,null,null,null,""," - ","","-","--"]
["",null,null,{"$f":"IF(ISBLANK(B48),\"\",COUNTA(#REF!))","v":""},null,null,null,null,null,null,null,null,null,null,"Non","","Non",null,"",null,null,null,null,null,"Non","Non",null,null,null,null,""," - ","","-","--"]
["",null,null,{"$f":"IF(ISBLANK(B49),\"\",COUNTA(#REF!))","v":""},null,null,null,null,null,null,null,null,null,null,"Non","","Non",null,"",null,null,null,null,null,"Non","Non",null,null,null,null,""," - ","","-","--"]
["",null,null,{"$f":"IF(ISBLANK(B50),\"\",COUNTA(#REF!))","v":""},null,null,null,null,null,null,null,null,null,null,"Non","","Non",null,"",null,null,null,null,null,"Non","Non",null,null,null,null,""," - ","","-","--"]
["",null,null,{"$f":"IF(ISBLANK(B51),\"\",COUNTA(#REF!))","v":""},null,null,null,null,null,null,null,null,null,null,"Non","","Non",null,"",null,null,null,null,null,"Non","Non",null,null,null,null,""," - ","","-","--"]
["",null,null,{"$f":"IF(ISBLANK(B52),\"\",COUNTA(#REF!))","v":""},null,null,null,null,null,null,null,null,null,null,"Non","","Non",null,"",null,null,null,null,null,"Non","Non",null,null,null,null,""," - ","","-","--"]
["",null,null,{"$f":"IF(ISBLANK(B53),\"\",COUNTA(#REF!))","v":""},null,null,null,null,null,null,null,null,null,null,"Non","","Non",null,"",null,null,null,null,null,"Non","Non",null,null,null,null,""," - ","","-","--"]
["",null,null,{"$f":"IF(ISBLANK(B54),\"\",COUNTA(#REF!))","v":""},null,null,null,null,null,null,null,null,null,null,"Non","","Non",null,"",null,null,null,null,null,"Non","Non",null,null,null,null,""," - ","","-","--"]
["",null,null,{"$f":"IF(ISBLANK(B55),\"\",COUNTA(#REF!))","v":""},null,null,null,null,null,null,null,null,null,null,"Non","","Non",null,"",null,null,null,null,null,"Non","Non",null,null,null,null,""," - ","","-","--"]
["",null,null,{"$f":"IF(ISBLANK(B56),\"\",COUNTA(#REF!))","v":""},null,null,null,null,null,null,null,null,null,null,"Non","","Non",null,"",null,null,null,null,null,"Non","Non",null,null,null,null,""," - ","","-","--"]
["",null,null,{"$f":"IF(ISBLANK(B57),\"\",COUNTA(#REF!))","v":""},null,null,null,null,null,null,null,null,null,null,"Non","","Non",null,"",null,null,null,null,null,"Non","Non",null,null,null,null,""," - ","","-","--"]
["",null,null,{"$f":"IF(ISBLANK(B58),\"\",COUNTA(#REF!))","v":""},null,null,null,null,null,null,null,null,null,null,"Non","","Non",null,"",null,null,null,null,null,"Non","Non",null,null,null,null,""," - ","","-","--"]
["",null,null,{"$f":"IF(ISBLANK(B59),\"\",COUNTA(#REF!))","v":""},null,null,null,null,null,null,null,null,null,null,"Non","","Non",null,"",null,null,null,null,null,"Non","Non",null,null,null,null,""," - ","","-","--"]
["",null,null,{"$f":"IF(ISBLANK(B60),\"\",COUNTA(#REF!))","v":""},null,null,null,null,null,null,null,null,null,null,"Non","","Non",null,"",null,null,null,null,null,"Non","Non",null,null,null,null,""," - ","","-","--"]
["",null,null,{"$f":"IF(ISBLANK(B61),\"\",COUNTA(#REF!))","v":""},null,null,null,null,null,null,null,null,null,null,"Non","","Non",null,"",null,null,null,null,null,"Non","Non",null,null,null,null,""," - ","","-","--"]
["",null,null,{"$f":"IF(ISBLANK(B62),\"\",COUNTA(#REF!))","v":""},null,null,null,null,null,null,null,null,null,null,"Non","","Non",null,"",null,null,null,null,null,"Non","Non",null,null,null,null,""," - ","","-","--"]
["",null,null,{"$f":"IF(ISBLANK(B63),\"\",COUNTA(#REF!))","v":""},null,null,null,null,null,null,null,null,null,null,"Non","","Non",null,"",null,null,null,null,null,"Non","Non",null,null,null,null,""," - ","","-","--"]
["",null,null,{"$f":"IF(ISBLANK(B64),\"\",COUNTA(#REF!))","v":""},null,null,null,null,null,null,null,null,null,null,"Non","","Non",null,"",null,null,null,null,null,"Non","Non",null,null,null,null,""," - ","","-","--"]
["",null,null,{"$f":"IF(ISBLANK(B65),\"\",COUNTA(#REF!))","v":""},null,null,null,null,null,null,null,null,null,null,"Non","","Non",null,"",null,null,null,null,null,"Non","Non",null,null,null,null,""," - ","","-","--"]
["",null,null,{"$f":"IF(ISBLANK(B66),\"\",COUNTA(#REF!))","v":""},null,null,null,null,null,null,null,null,null,null,"Non","","Non",null,"",null,null,null,null,null,"Non","Non",null,null,null,null,""," - ","","-","--"]
["",null,null,{"$f":"IF(ISBLANK(B67),\"\",COUNTA(#REF!))","v":""},null,null,null,null,null,null,null,null,null,null,"Non","","Non",null,"",null,null,null,null,null,"Non","Non",null,null,null,null,""," - ","","-","--"]
["",null,null,{"$f":"IF(ISBLANK(B68),\"\",COUNTA(#REF!))","v":""},null,null,null,null,null,null,null,null,null,null,"Non","","Non",null,"",null,null,null,null,null,"Non","Non",null,null,null,null,""," - ","","-","--"]
["",null,null,{"$f":"IF(ISBLANK(B69),\"\",COUNTA(#REF!))","v":""},null,null,null,null,null,null,null,null,null,null,"Non","","Non",null,"",null,null,null,null,null,"Non","Non",null,null,null,null,""," - ","","-","--"]
["",null,null,{"$f":"IF(ISBLANK(B70),\"\",COUNTA(#REF!))","v":""},null,null,null,null,null,null,null,null,null,null,"Non","","Non",null,"",null,null,null,null,null,"Non","Non",null,null,null,null,""," - ","","-","--"]
["",null,null,{"$f":"IF(ISBLANK(B71),\"\",COUNTA(#REF!))","v":""},null,null,null,null,null,null,null,null,null,null,"Non","","Non",null,{"$f":"IF(ISBLANK(H71),\"\",IF(OR(H71=\"Préventive\",H71=\"Corrective\"),\"Oui\",\"Non\"))","v":""},null,null,null,null,null,"Non","Non",null,null,null,null,""," - ","","-","--"]
[{"$f":"IF(ISBLANK(B72),\"\",$C$2)","v":""},null,null,{"$f":"IF(ISBLANK(B72),\"\",COUNTA(#REF!))","v":""},null,null,null,null,null,null,null,null,null,null,{"$f":"IF(AND(K72<>\"\",ISBLANK(N72),K72<TODAY()),\"Oui\",\"Non\")","v":"Non"},"",{"$f":"IF(AND(N72<>\"\",ISBLANK(N72),K72<TODAY()),\"Oui\",\"Non\")","v":"Non"},null,"",null,null,null,null,null,"Non","Non",null,null,null,null,{"$f":"IF(K72=\"\",\"\",K72-TODAY())","v":""},{"$f":"IF(ISBLANK(F72),CONCATENATE(E72,\" - \",AG72),CONCATENATE(F72,\" - \",AG72))","v":" - "},{"$f":"IF(ISBLANK(B72),\"\",YEAR(C72))","v":""},{"$f":"CONCATENATE(H72,\"-\",AG72)","v":"-"},{"$f":"CONCATENATE(M72,\"-\",AH72)","v":"--"}]
["",null,null,{"$f":"IF(ISBLANK(B73),\"\",COUNTA(#REF!))","v":""},null,null,null,null,null,null,null,null,null,null,"Non","","Non",null,"",null,null,null,null,null,{"$f":"IF(AND(U73<>\"\",ISBLANK(X73),U73<TODAY()),\"Oui\",\"Non\")","v":"Non"},{"$f":"IF(AND(S73=\"Oui\",ISBLANK(X73)),\"Oui\",\"Non\")","v":"Non"},null,null,null,null,""," - ","","-","--"]
["",null,null,{"$f":"IF(ISBLANK(B74),\"\",COUNTA(#REF!))","v":""},null,null,null,null,null,null,null,null,null,null,"Non","","Non",null,"",null,null,null,null,null,"Non","Non",null,null,null,null,""," - ","","-","--"]
["",null,null,{"$f":"IF(ISBLANK(B75),\"\",COUNTA(#REF!))","v":""},null,null,null,null,null,null,null,null,null,null,"Non","","Non",null,"",null,null,null,null,null,"Non","Non",null,null,null,null,""," - ","","-","--"]
["",null,null,{"$f":"IF(ISBLANK(B76),\"\",COUNTA(#REF!))","v":""},null,null,null,null,null,null,null,null,null,null,"Non","","Non",null,"",null,null,null,null,null,"Non","Non",null,null,null,null,""," - ","","-","--"]
["",null,null,{"$f":"IF(ISBLANK(B77),\"\",COUNTA(#REF!))","v":""},null,null,null,null,null,null,null,null,null,null,"Non","","Non",null,"",null,null,null,null,null,"Non","Non",null,null,null,null,""," - ","","-","--"]
["",null,null,{"$f":"IF(ISBLANK(B78),\"\",COUNTA(#REF!))","v":""},null,null,null,null,null,null,null,null,null,null,"Non","","Non",null,"",null,null,null,null,null,"Non","Non",null,null,null,null,""," - ","","-","--"]
["",null,null,{"$f":"IF(ISBLANK(B79),\"\",COUNTA(#REF!))","v":""},null,null,null,null,null,null,null,null,null,null,"Non","","Non",null,"",null,null,null,null,null,"Non","Non",null,null,null,null,""," - ","","-","--"]
["",null,null,{"$f":"IF(ISBLANK(B80),\"\",COUNTA(#REF!))","v":""},null,null,null,null,null,null,null,null,null,null,"Non","","Non",null,"",null,null,null,null,null,"Non","Non",null,null,null,null,""," - ","","-","--"]
["",null,null,{"$f":"IF(ISBLANK(B81),\"\",COUNTA(#REF!))","v":""},null,null,null,null,null,null,null,null,null,null,"Non","","Non",null,"",null,null,null,null,null,"Non","Non",null,null,null,null,""," - ","","-","--"]
["",null,null,{"$f":"IF(ISBLANK(B82),\"\",COUNTA(#REF!))","v":""},null,null,null,null,null,null,null,null,null,null,"Non","","Non",null,"",null,null,null,null,null,"Non","Non",null,null,null,null,{"$f":"IF(K82=\"\",\"\",K82-TODAY())","v":""},{"$f":"IF(ISBLANK(F82),CONCATENATE(E82,\" - \",AG82),CONCATENATE(F82,\" - \",AG82))","v":" - "},{"$f":"IF(ISBLANK(B82),\"\",YEAR(C82))","v":""},{"$f":"CONCATENATE(H82,\"-\",AG82)","v":"-"},"--"]
["",null,null,{"$f":"IF(ISBLANK(B83),\"\",COUNTA(#REF!))","v":""},null,null,null,null,null,null,null,null,null,null,"Non","","Non",null,"",null,null,null,null,null,"Non","Non",null,null,null,null,{"$f":"IF(K83=\"\",\"\",K83-TODAY())","v":""},{"$f":"IF(ISBLANK(F83),CONCATENATE(E83,\" - \",AG83),CONCATENATE(F83,\" - \",AG83))","v":" - "},{"$f":"IF(ISBLANK(B83),\"\",YEAR(C83))","v":""},{"$f":"CONCATENATE(H83,\"-\",AG83)","v":"-"},"--"]
["",null,null,{"$f":"IF(ISBLANK(B84),\"\",COUNTA(#REF!))","v":""},null,null,null,null,null,null,null,null,null,null,"Non","","Non",null,"",null,null,null,null,null,"Non","Non",null,null,null,null,""," - ","","-","--"]
["",null,null,{"$f":"IF(ISBLANK(B85),\"\",COUNTA(#REF!))","v":""},null,null,null,null,null,null,null,null,null,null,"Non","","Non",null,"",null,null,null,null,null,"Non","Non",null,null,null,null,""," - ","","-","--"]
["",null,null,{"$f":"IF(ISBLANK(B86),\"\",COUNTA(#REF!))","v":""},null,null,null,null,null,null,null,null,null,null,"Non","","Non",null,"",null,null,null,null,null,"Non","Non",null,null,null,null,""," - ","","-","--"]
["",null,null,{"$f":"IF(ISBLANK(B87),\"\",COUNTA(#REF!))","v":""},null,null,null,null,null,null,null,null,null,null,"Non",{"$f":"IF(ISBLANK(I87),\"\",IF(K87=\"\",\"délai à préciser\",IF(M87=\"\",\"statut à préciser\",IF(M87=\"finalisée\",IF(N87=\"\",\"date de solde à préciser\",IF(K87>=N87,\"fait\",\"retard\")),(IF(K87<TODAY(),\"retard\",\"Ok\"))))))","v":""},"Non",null,{"$f":"IF(ISBLANK(H87),\"\",IF(OR(H87=\"Préventive\",H87=\"Corrective\"),\"Oui\",\"Non\"))","v":""},null,null,null,null,null,"Non","Non",null,null,null,null,""," - ","","-","--"]
["",null,null,{"$f":"IF(ISBLANK(B88),\"\",COUNTA(#REF!))","v":""},null,null,null,null,null,null,null,null,null,null,"Non","","Non",null,{"$f":"IF(ISBLANK(H88),\"\",IF(OR(H88=\"Préventive\",H88=\"Corrective\"),\"Oui\",\"Non\"))","v":""},null,null,null,null,null,"Non","Non",null,null,null,null,""," - ","","-","--"]
["",null,null,{"$f":"IF(ISBLANK(B89),\"\",COUNTA(#REF!))","v":""},null,null,null,null,null,null,null,null,null,null,"Non","","Non",null,"",null,null,null,null,null,"Non","Non",null,null,null,null,""," - ","","-","--"]
["",null,null,{"$f":"IF(ISBLANK(B90),\"\",COUNTA(#REF!))","v":""},null,null,null,null,null,null,null,null,null,null,"Non","","Non",null,"",null,null,null,null,null,"Non","Non",null,null,null,null,""," - ","","-","--"]
["",null,null,{"$f":"IF(ISBLANK(B91),\"\",COUNTA(#REF!))","v":""},null,null,null,null,null,null,null,null,null,null,"Non","","Non",null,"",null,null,null,null,null,"Non","Non",null,null,null,null,""," - ","","-","--"]
["",null,null,{"$f":"IF(ISBLANK(B92),\"\",COUNTA(#REF!))","v":""},null,null,null,null,null,null,null,null,null,null,"Non","","Non",null,"",null,null,null,null,null,"Non","Non",null,null,null,null,""," - ","","-","--"]
["",null,null,{"$f":"IF(ISBLANK(B93),\"\",COUNTA(#REF!))","v":""},null,null,null,null,null,null,null,null,null,null,"Non","","Non",null,"",null,null,null,null,null,"Non","Non",null,null,null,null,""," - ","","-","--"]
["",null,null,{"$f":"IF(ISBLANK(B94),\"\",COUNTA(#REF!))","v":""},null,null,null,null,null,null,null,null,null,null,"Non","","Non",null,"",null,null,null,null,null,"Non","Non",null,null,null,null,""," - ","","-","--"]
["",null,null,{"$f":"IF(ISBLANK(B95),\"\",COUNTA(#REF!))","v":""},null,null,null,null,null,null,null,null,null,null,"Non","","Non",null,"",null,null,null,null,null,"Non","Non",null,null,null,null,""," - ","","-","--"]
["",null,null,{"$f":"IF(ISBLANK(B96),\"\",COUNTA(#REF!))","v":""},null,null,null,null,null,null,null,null,null,null,"Non","","Non",null,"",null,null,null,null,null,"Non","Non",null,null,null,null,""," - ","","-","--"]
["",null,null,{"$f":"IF(ISBLANK(B97),\"\",COUNTA(#REF!))","v":""},null,null,null,null,null,null,null,null,null,null,"Non","","Non",null,"",null,null,null,null,null,"Non","Non",null,null,null,null,""," - ","","-","--"]
["",null,null,{"$f":"IF(ISBLANK(B98),\"\",COUNTA(#REF!))","v":""},null,null,null,null,null,null,null,null,null,null,"Non","","Non",null,"",null,null,null,null,null,"Non","Non",null,null,null,null,""," - ","","-","--"]
["",null,null,{"$f":"IF(ISBLANK(B99),\"\",COUNTA(#REF!))","v":""},null,null,null,null,null,null,null,null,null,null,"Non","","Non",null,"",null,null,null,null,null,"Non","Non",null,null,null,null,""," - ","","-","--"]
["",null,null,{"$f":"IF(ISBLANK(B100),\"\",COUNTA(#REF!))","v":""},null,null,null,null,null,null,null,null,null,null,"Non","","Non",null,"",null,null,null,null,null,"Non","Non",null,null,null,null,""," - ","","-","--"]
["",null,null,{"$f":"IF(ISBLANK(B101),\"\",COUNTA(#REF!))","v":""},null,null,null,null,null,null,null,null,null,null,"Non","","Non",null,"",null,null,null,null,null,"Non","Non",null,null,null,null,""," - ","","-","--"]
["",null,null,{"$f":"IF(ISBLANK(B102),\"\",COUNTA(#REF!))","v":""},null,null,null,null,null,null,null,null,null,null,"Non","","Non",null,"",null,null,null,null,null,"Non","Non",null,null,null,null,""," - ","","-","--"]
["",null,null,{"$f":"IF(ISBLANK(B103),\"\",COUNTA(#REF!))","v":""},null,null,null,null,null,null,null,null,null,null,"Non","","Non",null,"",null,null,null,null,null,"Non","Non",null,null,null,null,""," - ","","-","--"]
["",null,null,{"$f":"IF(ISBLANK(B104),\"\",COUNTA(#REF!))","v":""},null,null,null,null,null,null,null,null,null,null,"Non","","Non",null,"",null,null,null,null,null,"Non","Non",null,null,null,null,""," - ","","-","--"]
["",null,null,{"$f":"IF(ISBLANK(B105),\"\",COUNTA(#REF!))","v":""},null,null,null,null,null,null,null,null,null,null,"Non","","Non",null,"",null,null,null,null,null,"Non","Non",null,null,null,null,""," - ","","-","--"]
["",null,null,{"$f":"IF(ISBLANK(B106),\"\",COUNTA(#REF!))","v":""},null,null,null,null,null,null,null,null,null,null,"Non","","Non",null,"",null,null,null,null,null,"Non","Non",null,null,null,null,""," - ","","-","--"]
["",null,null,{"$f":"IF(ISBLANK(B107),\"\",COUNTA(#REF!))","v":""},null,null,null,null,null,null,null,null,null,null,"Non","","Non",null,"",null,null,null,null,null,"Non","Non",null,null,null,null,""," - ","","-","--"]
["",null,null,{"$f":"IF(ISBLANK(B108),\"\",COUNTA(#REF!))","v":""},null,null,null,null,null,null,null,null,null,null,"Non","","Non",null,"",null,null,null,null,null,"Non","Non",null,null,null,null,""," - ","","-","--"]
["",null,null,{"$f":"IF(ISBLANK(B109),\"\",COUNTA(#REF!))","v":""},null,null,null,null,null,null,null,null,null,null,"Non","","Non",null,"",null,null,null,null,null,"Non","Non",null,null,null,null,""," - ","","-","--"]
["",null,null,{"$f":"IF(ISBLANK(B110),\"\",COUNTA(#REF!))","v":""},null,null,null,null,null,null,null,null,null,null,"Non","","Non",null,"",null,null,null,null,null,"Non","Non",null,null,null,null,""," - ","","-","--"]
["",null,null,{"$f":"IF(ISBLANK(B111),\"\",COUNTA(#REF!))","v":""},null,null,null,null,null,null,null,null,null,null,"Non","","Non",null,"",null,null,null,null,null,"Non","Non",null,null,null,null,""," - ","","-","--"]
["",null,null,{"$f":"IF(ISBLANK(B112),\"\",COUNTA(#REF!))","v":""},null,null,null,null,null,null,null,null,null,null,"Non","","Non",null,"",null,null,null,null,null,"Non","Non",null,null,null,null,""," - ","","-","--"]
["",null,null,{"$f":"IF(ISBLANK(B113),\"\",COUNTA(#REF!))","v":""},null,null,null,null,null,null,null,null,null,null,"Non","","Non",null,"",null,null,null,null,null,"Non","Non",null,null,null,null,""," - ","","-","--"]
["",null,null,{"$f":"IF(ISBLANK(B114),\"\",COUNTA(#REF!))","v":""},null,null,null,null,null,null,null,null,null,null,"Non","","Non",null,"",null,null,null,null,null,"Non","Non",null,null,null,null,""," - ","","-","--"]
["",null,null,{"$f":"IF(ISBLANK(B115),\"\",COUNTA(#REF!))","v":""},null,null,null,null,null,null,null,null,null,null,"Non","","Non",null,"",null,null,null,null,null,"Non","Non",null,null,null,null,""," - ","","-","--"]
["",null,null,{"$f":"IF(ISBLANK(B116),\"\",COUNTA(#REF!))","v":""},null,null,null,null,null,null,null,null,null,null,"Non","","Non",null,"",null,null,null,null,null,"Non","Non",null,null,null,null,""," - ","","-","--"]
["",null,null,{"$f":"IF(ISBLANK(B117),\"\",COUNTA(#REF!))","v":""},null,null,null,null,null,null,null,null,null,null,"Non","","Non",null,"",null,null,null,null,null,"Non","Non",null,null,null,null,""," - ","","-","--"]
["",null,null,{"$f":"IF(ISBLANK(B118),\"\",COUNTA(#REF!))","v":""},null,null,null,null,null,null,null,null,null,null,"Non","","Non",null,"",null,null,null,null,null,"Non","Non",null,null,null,null,""," - ","","-","--"]
["",null,null,{"$f":"IF(ISBLANK(B119),\"\",COUNTA(#REF!))","v":""},null,null,null,null,null,null,null,null,null,null,"Non","","Non",null,"",null,null,null,null,null,"Non","Non",null,null,null,null,""," - ","","-","--"]
["",null,null,{"$f":"IF(ISBLANK(B120),\"\",COUNTA(#REF!))","v":""},null,null,null,null,null,null,null,null,null,null,"Non","","Non",null,"",null,null,null,null,null,"Non","Non",null,null,null,null,""," - ","","-","--"]
["",null,null,{"$f":"IF(ISBLANK(B121),\"\",COUNTA(#REF!))","v":""},null,null,null,null,null,null,null,null,null,null,"Non","","Non",null,"",null,null,null,null,null,"Non","Non",null,null,null,null,""," - ","","-","--"]
["",null,null,{"$f":"IF(ISBLANK(B122),\"\",COUNTA(#REF!))","v":""},null,null,null,null,null,null,null,null,null,null,"Non","","Non",null,"",null,null,null,null,null,"Non","Non",null,null,null,null,""," - ","","-","--"]
["",null,null,{"$f":"IF(ISBLANK(B123),\"\",COUNTA(#REF!))","v":""},null,null,null,null,null,null,null,null,null,null,"Non","","Non",null,"",null,null,null,null,null,"Non","Non",null,null,null,null,""," - ","","-","--"]
["",null,null,{"$f":"IF(ISBLANK(B124),\"\",COUNTA(#REF!))","v":""},null,null,null,null,null,null,null,null,null,null,"Non","","Non",null,"",null,null,null,null,null,"Non","Non",null,null,null,null,""," - ","","-","--"]
["",null,null,{"$f":"IF(ISBLANK(B125),\"\",COUNTA(#REF!))","v":""},null,null,null,null,null,null,null,null,null,null,"Non","","Non",null,"",null,null,null,null,null,"Non","Non",null,null,null,null,""," - ","","-","--"]
["",null,null,{"$f":"IF(ISBLANK(B126),\"\",COUNTA(#REF!))","v":""},null,null,null,null,null,null,null,null,null,null,"Non","","Non",null,"",null,null,null,null,null,"Non","Non",null,null,null,null,""," - ","","-","--"]
["",null,null,{"$f":"IF(ISBLANK(B127),\"\",COUNTA(#REF!))","v":""},null,null,null,null,null,null,null,null,null,null,"Non","","Non",null,"",null,null,null,null,null,"Non","Non",null,null,null,null,""," - ","","-","--"]
["",null,null,{"$f":"IF(ISBLANK(B128),\"\",COUNTA(#REF!))","v":""},null,null,null,null,null,null,null,null,null,null,"Non","","Non",null,"",null,null,null,null,null,"Non","Non",null,null,null,null,""," - ","","-","--"]
["",null,null,{"$f":"IF(ISBLANK(B129),\"\",COUNTA(#REF!))","v":""},null,null,null,null,null,null,null,null,null,null,"Non","","Non",null,"",null,null,null,null,null,"Non","Non",null,null,null,null,""," - ","","-","--"]
["",null,null,{"$f":"IF(ISBLANK(B130),\"\",COUNTA(#REF!))","v":""},null,null,null,null,null,null,null,null,null,null,"Non","","Non",null,"",null,null,null,null,null,"Non","Non",null,null,null,null,""," - ","","-","--"]
["",null,null,{"$f":"IF(ISBLANK(B131),\"\",COUNTA(#REF!))","v":""},null,null,null,null,null,null,null,null,null,null,"Non","","Non",null,"",null,null,null,null,null,"Non","Non",null,null,null,null,""," - ","","-","--"]
["",null,null,{"$f":"IF(ISBLANK(B132),\"\",COUNTA(#REF!))","v":""},null,null,null,null,null,null,null,null,null,null,"Non","","Non",null,"",null,null,null,null,null,"Non","Non",null,null,null,null,""," - ","","-","--"]
["",null,null,{"$f":"IF(ISBLANK(B133),\"\",COUNTA(#REF!))","v":""},null,null,null,null,null,null,null,null,null,null,"Non","","Non",null,"",null,null,null,null,null,"Non","Non",null,null,null,null,""," - ","","-","--"]
["",null,null,{"$f":"IF(ISBLANK(B134),\"\",COUNTA(#REF!))","v":""},null,null,null,null,null,null,null,null,null,null,"Non","","Non",null,"",null,null,null,null,null,"Non","Non",null,null,null,null,""," - ","","-","--"]
["",null,null,{"$f":"IF(ISBLANK(B135),\"\",COUNTA(#REF!))","v":""},null,null,null,null,null,null,null,null,null,null,"Non","","Non",null,"",null,null,null,null,null,"Non","Non",null,null,null,null,""," - ","","-","--"]
[{"$f":"IF(ISBLANK(B136),\"\",$C$2)","v":""},null,null,{"$f":"IF(ISBLANK(B136),\"\",COUNTA(#REF!))","v":""},null,null,null,null,null,null,null,null,null,null,{"$f":"IF(AND(K136<>\"\",ISBLANK(N136),K136<TODAY()),\"Oui\",\"Non\")","v":"Non"},"",{"$f":"IF(AND(N136<>\"\",ISBLANK(N136),K136<TODAY()),\"Oui\",\"Non\")","v":"Non"},null,"",null,null,null,null,null,"Non","Non",null,null,null,null,""," - ","","-",{"$f":"CONCATENATE(M136,\"-\",AH136)","v":"--"}]
["",null,null,{"$f":"IF(ISBLANK(B137),\"\",COUNTA(#REF!))","v":""},null,null,null,null,null,null,null,null,null,null,"Non","","Non",null,"",null,null,null,null,null,{"$f":"IF(AND(U137<>\"\",ISBLANK(X137),U137<TODAY()),\"Oui\",\"Non\")","v":"Non"},{"$f":"IF(AND(S137=\"Oui\",ISBLANK(X137)),\"Oui\",\"Non\")","v":"Non"},null,null,null,null,""," - ","","-","--"]
["",null,null,{"$f":"IF(ISBLANK(B138),\"\",COUNTA(#REF!))","v":""},null,null,null,null,null,null,null,null,null,null,"Non","","Non",null,"",null,null,null,null,null,"Non","Non",null,null,null,null,""," - ","","-","--"]
["",null,null,{"$f":"IF(ISBLANK(B139),\"\",COUNTA(#REF!))","v":""},null,null,null,null,null,null,null,null,null,null,"Non","","Non",null,"",null,null,null,null,null,"Non","Non",null,null,null,null,""," - ","","-","--"]
["",null,null,{"$f":"IF(ISBLANK(B140),\"\",COUNTA(#REF!))","v":""},null,null,null,null,null,null,null,null,null,null,"Non","","Non",null,"",null,null,null,null,null,"Non","Non",null,null,null,null,""," - ","","-","--"]
["",null,null,{"$f":"IF(ISBLANK(B141),\"\",COUNTA(#REF!))","v":""},null,null,null,null,null,null,null,null,null,null,"Non","","Non",null,"",null,null,null,null,null,"Non","Non",null,null,null,null,""," - ","","-","--"]
["",null,null,{"$f":"IF(ISBLANK(B142),\"\",COUNTA(#REF!))","v":""},null,null,null,null,null,null,null,null,null,null,"Non","","Non",null,"",null,null,null,null,null,"Non","Non",null,null,null,null,""," - ","","-","--"]
["",null,null,{"$f":"IF(ISBLANK(B143),\"\",COUNTA(#REF!))","v":""},null,null,null,null,null,null,null,null,null,null,"Non","","Non",null,"",null,null,null,null,null,"Non","Non",null,null,null,null,""," - ","","-","--"]
["",null,null,{"$f":"IF(ISBLANK(B144),\"\",COUNTA(#REF!))","v":""},null,null,null,null,null,null,null,null,null,null,"Non","","Non",null,"",null,null,null,null,null,"Non","Non",null,null,null,null,""," - ","","-","--"]
["",null,null,{"$f":"IF(ISBLANK(B145),\"\",COUNTA(#REF!))","v":""},null,null,null,null,null,null,null,null,null,null,"Non","","Non",null,"",null,null,null,null,null,"Non","Non",null,null,null,null,""," - ","","-","--"]
["",null,null,{"$f":"IF(ISBLANK(B146),\"\",COUNTA(#REF!))","v":""},null,null,null,null,null,null,null,null,null,null,"Non","","Non",null,"",null,null,null,null,null,"Non","Non",null,null,null,null,""," - ","","-","--"]
["",null,null,{"$f":"IF(ISBLANK(B147),\"\",COUNTA(#REF!))","v":""},null,null,null,null,null,null,null,null,null,null,"Non","","Non",null,"",null,null,null,null,null,"Non","Non",null,null,null,null,{"$f":"IF(K147=\"\",\"\",K147-TODAY())","v":""},{"$f":"IF(ISBLANK(F147),CONCATENATE(E147,\" - \",AG147),CONCATENATE(F147,\" - \",AG147))","v":" - "},{"$f":"IF(ISBLANK(B147),\"\",YEAR(C147))","v":""},{"$f":"CONCATENATE(H147,\"-\",AG147)","v":"-"},"--"]
["",null,null,{"$f":"IF(ISBLANK(B148),\"\",COUNTA(#REF!))","v":""},null,null,null,null,null,null,null,null,null,null,"Non","","Non",null,"",null,null,null,null,null,"Non","Non",null,null,null,null,""," - ","","-","--"]
["",null,null,{"$f":"IF(ISBLANK(B149),\"\",COUNTA(#REF!))","v":""},null,null,null,null,null,null,null,null,null,null,"Non","","Non",null,"",null,null,null,null,null,"Non","Non",null,null,null,null,""," - ","","-","--"]
["",null,null,{"$f":"IF(ISBLANK(B150),\"\",COUNTA(#REF!))","v":""},null,null,null,null,null,null,null,null,null,null,"Non","","Non",null,"",null,null,null,null,null,"Non","Non",null,null,null,null,""," - ","","-","--"]
["",null,null,{"$f":"IF(ISBLANK(B151),\"\",COUNTA(#REF!))","v":""},null,null,null,null,null,null,null,null,null,null,"Non",{"$f":"IF(ISBLANK(I151),\"\",IF(K151=\"\",\"délai à préciser\",IF(M151=\"\",\"statut à préciser\",IF(M151=\"finalisée\",IF(N151=\"\",\"date de solde à préciser\",IF(K151>=N151,\"fait\",\"retard\")),(IF(K151<TODAY(),\"retard\",\"Ok\"))))))","v":""},"Non",null,"",null,null,null,null,null,"Non","Non",null,null,null,null,""," - ","","-","--"]
["",null,null,{"$f":"IF(ISBLANK(B152),\"\",COUNTA(#REF!))","v":""},null,null,null,null,null,null,null,null,null,null,"Non","","Non",null,{"$f":"IF(ISBLANK(H152),\"\",IF(OR(H152=\"Préventive\",H152=\"Corrective\"),\"Oui\",\"Non\"))","v":""},null,null,null,null,null,"Non","Non",null,null,null,null,""," - ","","-","--"]
["",null,null,{"$f":"IF(ISBLANK(B153),\"\",COUNTA(#REF!))","v":""},null,null,null,null,null,null,null,null,null,null,"Non","","Non",null,"",null,null,null,null,null,"Non","Non",null,null,null,null,""," - ","","-","--"]
["",null,null,{"$f":"IF(ISBLANK(B154),\"\",COUNTA(#REF!))","v":""},null,null,null,null,null,null,null,null,null,null,"Non","","Non",null,"",null,null,null,null,null,"Non","Non",null,null,null,null,""," - ","","-","--"]
["",null,null,{"$f":"IF(ISBLANK(B155),\"\",COUNTA(#REF!))","v":""},null,null,null,null,null,null,null,null,null,null,"Non","","Non",null,"",null,null,null,null,null,"Non","Non",null,null,null,null,""," - ","","-","--"]
["",null,null,{"$f":"IF(ISBLANK(B156),\"\",COUNTA(#REF!))","v":""},null,null,null,null,null,null,null,null,null,null,"Non","","Non",null,"",null,null,null,null,null,"Non","Non",null,null,null,null,""," - ","","-","--"]
["",null,null,{"$f":"IF(ISBLANK(B157),\"\",COUNTA(#REF!))","v":""},null,null,null,null,null,null,null,null,null,null,"Non","","Non",null,"",null,null,null,null,null,"Non","Non",null,null,null,null,""," - ","","-","--"]
["",null,null,{"$f":"IF(ISBLANK(B158),\"\",COUNTA(#REF!))","v":""},null,null,null,null,null,null,null,null,null,null,"Non","","Non",null,"",null,null,null,null,null,"Non","Non",null,null,null,null,""," - ","","-","--"]
["",null,null,{"$f":"IF(ISBLANK(B159),\"\",COUNTA(#REF!))","v":""},null,null,null,null,null,null,null,null,null,null,"Non","","Non",null,"",null,null,null,null,null,"Non","Non",null,null,null,null,""," - ","","-","--"]
["",null,null,{"$f":"IF(ISBLANK(B160),\"\",COUNTA(#REF!))","v":""},null,null,null,null,null,null,null,null,null,null,"Non","","Non",null,"",null,null,null,null,null,"Non","Non",null,null,null,null,""," - ","","-","--"]
["",null,null,{"$f":"IF(ISBLANK(B161),\"\",COUNTA(#REF!))","v":""},null,null,null,null,null,null,null,null,null,null,"Non","","Non",null,"",null,null,null,null,null,"Non","Non",null,null,null,null,""," - ","","-","--"]
["",null,null,{"$f":"IF(ISBLANK(B162),\"\",COUNTA(#REF!))","v":""},null,null,null,null,null,null,null,null,null,null,"Non","","Non",null,"",null,null,null,null,null,"Non","Non",null,null,null,null,""," - ","","-","--"]
["",null,null,{"$f":"IF(ISBLANK(B163),\"\",COUNTA(#REF!))","v":""},null,null,null,null,null,null,null,null,null,null,"Non","","Non",null,"",null,null,null,null,null,"Non","Non",null,null,null,null,""," - ","","-","--"]
["",null,null,{"$f":"IF(ISBLANK(B164),\"\",COUNTA(#REF!))","v":""},null,null,null,null,null,null,null,null,null,null,"Non","","Non",null,"",null,null,null,null,null,"Non","Non",null,null,null,null,""," - ","","-","--"]
["",null,null,{"$f":"IF(ISBLANK(B165),\"\",COUNTA(#REF!))","v":""},null,null,null,null,null,null,null,null,null,null,"Non","","Non",null,"",null,null,null,null,null,"Non","Non",null,null,null,null,""," - ","","-","--"]
["",null,null,{"$f":"IF(ISBLANK(B166),\"\",COUNTA(#REF!))","v":""},null,null,null,null,null,null,null,null,null,null,"Non","","Non",null,"",null,null,null,null,null,"Non","Non",null,null,null,null,""," - ","","-","--"]
["",null,null,{"$f":"IF(ISBLANK(B167),\"\",COUNTA(#REF!))","v":""},null,null,null,null,null,null,null,null,null,null,"Non","","Non",null,"",null,null,null,null,null,"Non","Non",null,null,null,null,""," - ","","-","--"]
["",null,null,{"$f":"IF(ISBLANK(B168),\"\",COUNTA(#REF!))","v":""},null,null,null,null,null,null,null,null,null,null,"Non","","Non",null,"",null,null,null,null,null,"Non","Non",null,null,null,null,""," - ","","-","--"]
["",null,null,{"$f":"IF(ISBLANK(B169),\"\",COUNTA(#REF!))","v":""},null,null,null,null,null,null,null,null,null,null,"Non","","Non",null,"",null,null,null,null,null,"Non","Non",null,null,null,null,""," - ","","-","--"]
["",null,null,{"$f":"IF(ISBLANK(B170),\"\",COUNTA(#REF!))","v":""},null,null,null,null,null,null,null,null,null,null,"Non","","Non",null,"",null,null,null,null,null,"Non","Non",null,null,null,null,""," - ","","-","--"]
["",null,null,{"$f":"IF(ISBLANK(B171),\"\",COUNTA(#REF!))","v":""},null,null,null,null,null,null,null,null,null,null,"Non","","Non",null,"",null,null,null,null,null,"Non","Non",null,null,null,null,""," - ","","-","--"]
["",null,null,{"$f":"IF(ISBLANK(B172),\"\",COUNTA(#REF!))","v":""},null,null,null,null,null,null,null,null,null,null,"Non","","Non",null,"",null,null,null,null,null,"Non","Non",null,null,null,null,""," - ","","-","--"]
["",null,null,{"$f":"IF(ISBLANK(B173),\"\",COUNTA(#REF!))","v":""},null,null,null,null,null,null,null,null,null,null,"Non","","Non",null,"",null,null,null,null,null,"Non","Non",null,null,null,null,""," - ","","-","--"]
["",null,null,{"$f":"IF(ISBLANK(B174),\"\",COUNTA(#REF!))","v":""},null,null,null,null,null,null,null,null,null,null,"Non","","Non",null,"",null,null,null,null,null,"Non","Non",null,null,null,null,""," - ","","-","--"]
["",null,null,{"$f":"IF(ISBLANK(B175),\"\",COUNTA(#REF!))","v":""},null,null,null,null,null,null,null,null,null,null,"Non","","Non",null,"",null,null,null,null,null,"Non","Non",null,null,null,null,""," - ","","-","--"]
["",null,null,{"$f":"IF(ISBLANK(B176),\"\",COUNTA(#REF!))","v":""},null,null,null,null,null,null,null,null,null,null,"Non","","Non",null,"",null,null,null,null,null,"Non","Non",null,null,null,null,""," - ","","-","--"]
["",null,null,{"$f":"IF(ISBLANK(B177),\"\",COUNTA(#REF!))","v":""},null,null,null,null,null,null,null,null,null,null,"Non","","Non",null,"",null,null,null,null,null,"Non","Non",null,null,null,null,""," - ","","-","--"]
["",null,null,{"$f":"IF(ISBLANK(B178),\"\",COUNTA(#REF!))","v":""},null,null,null,null,null,null,null,null,null,null,"Non","","Non",null,"",null,null,null,null,null,"Non","Non",null,null,null,null,""," - ","","-","--"]
["",null,null,{"$f":"IF(ISBLANK(B179),\"\",COUNTA(#REF!))","v":""},null,null,null,null,null,null,null,null,null,null,"Non","","Non",null,"",null,null,null,null,null,"Non","Non",null,null,null,null,""," - ","","-","--"]
["",null,null,{"$f":"IF(ISBLANK(B180),\"\",COUNTA(#REF!))","v":""},null,null,null,null,null,null,null,null,null,null,"Non","","Non",null,"",null,null,null,null,null,"Non","Non",null,null,null,null,""," - ","","-","--"]
["",null,null,{"$f":"IF(ISBLANK(B181),\"\",COUNTA(#REF!))","v":""},null,null,null,null,null,null,null,null,null,null,"Non","","Non",null,"",null,null,null,null,null,"Non","Non",null,null,null,null,""," - ","","-","--"]
["",null,null,{"$f":"IF(ISBLANK(B182),\"\",COUNTA(#REF!))","v":""},null,null,null,null,null,null,null,null,null,null,"Non","","Non",null,"",null,null,null,null,null,"Non","Non",null,null,null,null,""," - ","","-","--"]
["",null,null,{"$f":"IF(ISBLANK(B183),\"\",COUNTA(#REF!))","v":""},null,null,null,null,null,null,null,null,null,null,"Non","","Non",null,"",null,null,null,null,null,"Non","Non",null,null,null,null,""," - ","","-","--"]
["",null,null,{"$f":"IF(ISBLANK(B184),\"\",COUNTA(#REF!))","v":""},null,null,null,null,null,null,null,null,null,null,"Non","","Non",null,"",null,null,null,null,null,"Non","Non",null,null,null,null,""," - ","","-","--"]
["",null,null,{"$f":"IF(ISBLANK(B185),\"\",COUNTA(#REF!))","v":""},null,null,null,null,null,null,null,null,null,null,"Non","","Non",null,"",null,null,null,null,null,"Non","Non",null,null,null,null,""," - ","","-","--"]
["",null,null,{"$f":"IF(ISBLANK(B186),\"\",COUNTA(#REF!))","v":""},null,null,null,null,null,null,null,null,null,null,"Non","","Non",null,"",null,null,null,null,null,"Non","Non",null,null,null,null,""," - ","","-","--"]
["",null,null,{"$f":"IF(ISBLANK(B187),\"\",COUNTA(#REF!))","v":""},null,null,null,null,null,null,null,null,null,null,"Non","","Non",null,"",null,null,null,null,null,"Non","Non",null,null,null,null,""," - ","","-","--"]
["",null,null,{"$f":"IF(ISBLANK(B188),\"\",COUNTA(#REF!))","v":""},null,null,null,null,null,null,null,null,null,null,"Non","","Non",null,"",null,null,null,null,null,"Non","Non",null,null,null,null,""," - ","","-","--"]
["",null,null,{"$f":"IF(ISBLANK(B189),\"\",COUNTA(#REF!))","v":""},null,null,null,null,null,null,null,null,null,null,"Non","","Non",null,"",null,null,null,null,null,"Non","Non",null,null,null,null,""," - ","","-","--"]
["",null,null,{"$f":"IF(ISBLANK(B190),\"\",COUNTA(#REF!))","v":""},null,null,null,null,null,null,null,null,null,null,"Non","","Non",null,"",null,null,null,null,null,"Non","Non",null,null,null,null,""," - ","","-","--"]
["",null,null,{"$f":"IF(ISBLANK(B191),\"\",COUNTA(#REF!))","v":""},null,null,null,null,null,null,null,null,null,null,"Non","","Non",null,"",null,null,null,null,null,"Non","Non",null,null,null,null,""," - ","","-","--"]
["",null,null,{"$f":"IF(ISBLANK(B192),\"\",COUNTA(#REF!))","v":""},null,null,null,null,null,null,null,null,null,null,"Non","","Non",null,"",null,null,null,null,null,"Non","Non",null,null,null,null,""," - ","","-","--"]
["",null,null,{"$f":"IF(ISBLANK(B193),\"\",COUNTA(#REF!))","v":""},null,null,null,null,null,null,null,null,null,null,"Non","","Non",null,"",null,null,null,null,null,"Non","Non",null,null,null,null,""," - ","","-","--"]
["",null,null,{"$f":"IF(ISBLANK(B194),\"\",COUNTA(#REF!))","v":""},null,null,null,null,null,null,null,null,null,null,"Non","","Non",null,"",null,null,null,null,null,"Non","Non",null,null,null,null,""," - ","","-","--"]
["",null,null,{"$f":"IF(ISBLANK(B195),\"\",COUNTA(#REF!))","v":""},null,null,null,null,null,null,null,null,null,null,"Non","","Non",null,"",null,null,null,null,null,"Non","Non",null,null,null,null,""," - ","","-","--"]
["",null,null,{"$f":"IF(ISBLANK(B196),\"\",COUNTA(#REF!))","v":""},null,null,null,null,null,null,null,null,null,null,"Non","","Non",null,"",null,null,null,null,null,"Non","Non",null,null,null,null,""," - ","","-","--"]
["",null,null,{"$f":"IF(ISBLANK(B197),\"\",COUNTA(#REF!))","v":""},null,null,null,null,null,null,null,null,null,null,"Non","","Non",null,"",null,null,null,null,null,"Non","Non",null,null,null,null,""," - ","","-","--"]
["",null,null,{"$f":"IF(ISBLANK(B198),\"\",COUNTA(#REF!))","v":""},null,null,null,null,null,null,null,null,null,null,"Non","","Non",null,"",null,null,null,null,null,"Non","Non",null,null,null,null,""," - ","","-","--"]
["",null,null,{"$f":"IF(ISBLANK(B199),\"\",COUNTA(#REF!))","v":""},null,null,null,null,null,null,null,null,null,null,"Non","","Non",null,"",null,null,null,null,null,"Non","Non",null,null,null,null,""," - ","","-","--"]
[{"$f":"IF(ISBLANK(B200),\"\",$C$2)","v":""},null,null,{"$f":"IF(ISBLANK(B200),\"\",COUNTA(#REF!))","v":""},null,null,null,null,null,null,null,null,null,null,{"$f":"IF(AND(K200<>\"\",ISBLANK(N200),K200<TODAY()),\"Oui\",\"Non\")","v":"Non"},"",{"$f":"IF(AND(N200<>\"\",ISBLANK(N200),K200<TODAY()),\"Oui\",\"Non\")","v":"Non"},null,"",null,null,null,null,null,"Non","Non",null,null,null,null,""," - ","","-",{"$f":"CONCATENATE(M200,\"-\",AH200)","v":"--"}]
["",null,null,{"$f":"IF(ISBLANK(B201),\"\",COUNTA(#REF!))","v":""},null,null,null,null,null,null,null,null,null,null,"Non","","Non",null,"",null,null,null,null,null,{"$f":"IF(AND(U201<>\"\",ISBLANK(X201),U201<TODAY()),\"Oui\",\"Non\")","v":"Non"},{"$f":"IF(AND(S201=\"Oui\",ISBLANK(X201)),\"Oui\",\"Non\")","v":"Non"},null,null,null,null,""," - ","","-","--"]
["",null,null,{"$f":"IF(ISBLANK(B202),\"\",COUNTA(#REF!))","v":""},null,null,null,null,null,null,null,null,null,null,"Non","","Non",null,"",null,null,null,null,null,"Non","Non",null,null,null,null,""," - ","","-","--"]
["",null,null,{"$f":"IF(ISBLANK(B203),\"\",COUNTA(#REF!))","v":""},null,null,null,null,null,null,null,null,null,null,"Non","","Non",null,"",null,null,null,null,null,"Non","Non",null,null,null,null,""," - ","","-","--"]
["",null,null,{"$f":"IF(ISBLANK(B204),\"\",COUNTA(#REF!))","v":""},null,null,null,null,null,null,null,null,null,null,"Non","","Non",null,"",null,null,null,null,null,"Non","Non",null,null,null,null,""," - ","","-","--"]
["",null,null,{"$f":"IF(ISBLANK(B205),\"\",COUNTA(#REF!))","v":""},null,null,null,null,null,null,null,null,null,null,"Non","","Non",null,"",null,null,null,null,null,"Non","Non",null,null,null,null,""," - ","","-","--"]
["",null,null,{"$f":"IF(ISBLANK(B206),\"\",COUNTA(#REF!))","v":""},null,null,null,null,null,null,null,null,null,null,"Non","","Non",null,"",null,null,null,null,null,"Non","Non",null,null,null,null,""," - ","","-","--"]
["",null,null,{"$f":"IF(ISBLANK(B207),\"\",COUNTA(#REF!))","v":""},null,null,null,null,null,null,null,null,null,null,"Non","","Non",null,"",null,null,null,null,null,"Non","Non",null,null,null,null,""," - ","","-","--"]
["",null,null,{"$f":"IF(ISBLANK(B208),\"\",COUNTA(#REF!))","v":""},null,null,null,null,null,null,null,null,null,null,"Non","","Non",null,"",null,null,null,null,null,"Non","Non",null,null,null,null,""," - ","","-","--"]
["",null,null,{"$f":"IF(ISBLANK(B209),\"\",COUNTA(#REF!))","v":""},null,null,null,null,null,null,null,null,null,null,"Non","","Non",null,"",null,null,null,null,null,"Non","Non",null,null,null,null,""," - ","","-","--"]
["",null,null,{"$f":"IF(ISBLANK(B210),\"\",COUNTA(#REF!))","v":""},null,null,null,null,null,null,null,null,null,null,"Non","","Non",null,"",null,null,null,null,null,"Non","Non",null,null,null,null,""," - ","","-","--"]
["",null,null,{"$f":"IF(ISBLANK(B211),\"\",COUNTA(#REF!))","v":""},null,null,null,null,null,null,null,null,null,null,"Non","","Non",null,"",null,null,null,null,null,"Non","Non",null,null,null,null,{"$f":"IF(K211=\"\",\"\",K211-TODAY())","v":""},{"$f":"IF(ISBLANK(F211),CONCATENATE(E211,\" - \",AG211),CONCATENATE(F211,\" - \",AG211))","v":" - "},{"$f":"IF(ISBLANK(B211),\"\",YEAR(C211))","v":""},{"$f":"CONCATENATE(H211,\"-\",AG211)","v":"-"},"--"]
["",null,null,{"$f":"IF(ISBLANK(B212),\"\",COUNTA(#REF!))","v":""},null,null,null,null,null,null,null,null,null,null,"Non","","Non",null,"",null,null,null,null,null,"Non","Non",null,null,null,null,""," - ","","-","--"]
["",null,null,{"$f":"IF(ISBLANK(B213),\"\",COUNTA(#REF!))","v":""},null,null,null,null,null,null,null,null,null,null,"Non","","Non",null,"",null,null,null,null,null,"Non","Non",null,null,null,null,""," - ","","-","--"]
["",null,null,{"$f":"IF(ISBLANK(B214),\"\",COUNTA(#REF!))","v":""},null,null,null,null,null,null,null,null,null,null,"Non","","Non",null,"",null,null,null,null,null,"Non","Non",null,null,null,null,""," - ","","-","--"]
["",null,null,{"$f":"IF(ISBLANK(B215),\"\",COUNTA(#REF!))","v":""},null,null,null,null,null,null,null,null,null,null,"Non",{"$f":"IF(ISBLANK(I215),\"\",IF(K215=\"\",\"délai à préciser\",IF(M215=\"\",\"statut à préciser\",IF(M215=\"finalisée\",IF(N215=\"\",\"date de solde à préciser\",IF(K215>=N215,\"fait\",\"retard\")),(IF(K215<TODAY(),\"retard\",\"Ok\"))))))","v":""},"Non",null,"",null,null,null,null,null,"Non","Non",null,null,null,null,""," - ","","-","--"]
["",null,null,{"$f":"IF(ISBLANK(B216),\"\",COUNTA(#REF!))","v":""},null,null,null,null,null,null,null,null,null,null,"Non","","Non",null,{"$f":"IF(ISBLANK(H216),\"\",IF(OR(H216=\"Préventive\",H216=\"Corrective\"),\"Oui\",\"Non\"))","v":""},null,null,null,null,null,"Non","Non",null,null,null,null,""," - ","","-","--"]
["",null,null,{"$f":"IF(ISBLANK(B217),\"\",COUNTA(#REF!))","v":""},null,null,null,null,null,null,null,null,null,null,"Non","","Non",null,"",null,null,null,null,null,"Non","Non",null,null,null,null,""," - ","","-","--"]
["",null,null,{"$f":"IF(ISBLANK(B218),\"\",COUNTA(#REF!))","v":""},null,null,null,null,null,null,null,null,null,null,"Non","","Non",null,"",null,null,null,null,null,"Non","Non",null,null,null,null,""," - ","","-","--"]
["",null,null,{"$f":"IF(ISBLANK(B219),\"\",COUNTA(#REF!))","v":""},null,null,null,null,null,null,null,null,null,null,"Non","","Non",null,"",null,null,null,null,null,"Non","Non",null,null,null,null,""," - ","","-","--"]
["",null,null,{"$f":"IF(ISBLANK(B220),\"\",COUNTA(#REF!))","v":""},null,null,null,null,null,null,null,null,null,null,"Non","","Non",null,"",null,null,null,null,null,"Non","Non",null,null,null,null,""," - ","","-","--"]
["",null,null,{"$f":"IF(ISBLANK(B221),\"\",COUNTA(#REF!))","v":""},null,null,null,null,null,null,null,null,null,null,"Non","","Non",null,"",null,null,null,null,null,"Non","Non",null,null,null,null,""," - ","","-","--"]
["",null,null,{"$f":"IF(ISBLANK(B222),\"\",COUNTA(#REF!))","v":""},null,null,null,null,null,null,null,null,null,null,"Non","","Non",null,"",null,null,null,null,null,"Non","Non",null,null,null,null,""," - ","","-","--"]
["",null,null,{"$f":"IF(ISBLANK(B223),\"\",COUNTA(#REF!))","v":""},null,null,null,null,null,null,null,null,null,null,"Non","","Non",null,"",null,null,null,null,null,"Non","Non",null,null,null,null,""," - ","","-","--"]
["",null,null,{"$f":"IF(ISBLANK(B224),\"\",COUNTA(#REF!))","v":""},null,null,null,null,null,null,null,null,null,null,"Non","","Non",null,"",null,null,null,null,null,"Non","Non",null,null,null,null,""," - ","","-","--"]
["",null,null,{"$f":"IF(ISBLANK(B225),\"\",COUNTA(#REF!))","v":""},null,null,null,null,null,null,null,null,null,null,"Non","","Non",null,"",null,null,null,null,null,"Non","Non",null,null,null,null,""," - ","","-","--"]
["",null,null,{"$f":"IF(ISBLANK(B226),\"\",COUNTA(#REF!))","v":""},null,null,null,null,null,null,null,null,null,null,"Non","","Non",null,"",null,null,null,null,null,"Non","Non",null,null,null,null,""," - ","","-","--"]
["",null,null,{"$f":"IF(ISBLANK(B227),\"\",COUNTA(#REF!))","v":""},null,null,null,null,null,null,null,null,null,null,"Non","","Non",null,"",null,null,null,null,null,"Non","Non",null,null,null,null,""," - ","","-","--"]
["",null,null,{"$f":"IF(ISBLANK(B228),\"\",COUNTA(#REF!))","v":""},null,null,null,null,null,null,null,null,null,null,"Non","","Non",null,"",null,null,null,null,null,"Non","Non",null,null,null,null,""," - ","","-","--"]
["",null,null,{"$f":"IF(ISBLANK(B229),\"\",COUNTA(#REF!))","v":""},null,null,null,null,null,null,null,null,null,null,"Non","","Non",null,"",null,null,null,null,null,"Non","Non",null,null,null,null,""," - ","","-","--"]
["",null,null,{"$f":"IF(ISBLANK(B230),\"\",COUNTA(#REF!))","v":""},null,null,null,null,null,null,null,null,null,null,"Non","","Non",null,"",null,null,null,null,null,"Non","Non",null,null,null,null,""," - ","","-","--"]
["",null,null,{"$f":"IF(ISBLANK(B231),\"\",COUNTA(#REF!))","v":""},null,null,null,null,null,null,null,null,null,null,"Non","","Non",null,"",null,null,null,null,null,"Non","Non",null,null,null,null,""," - ","","-","--"]
["",null,null,{"$f":"IF(ISBLANK(B232),\"\",COUNTA(#REF!))","v":""},null,null,null,null,null,null,null,null,null,null,"Non","","Non",null,"",null,null,null,null,null,"Non","Non",null,null,null,null,""," - ","","-","--"]
["",null,null,{"$f":"IF(ISBLANK(B233),\"\",COUNTA(#REF!))","v":""},null,null,null,null,null,null,null,null,null,null,"Non","","Non",null,"",null,null,null,null,null,"Non","Non",null,null,null,null,""," - ","","-","--"]
["",null,null,{"$f":"IF(ISBLANK(B234),\"\",COUNTA(#REF!))","v":""},null,null,null,null,null,null,null,null,null,null,"Non","","Non",null,"",null,null,null,null,null,"Non","Non",null,null,null,null,""," - ","","-","--"]
["",null,null,{"$f":"IF(ISBLANK(B235),\"\",COUNTA(#REF!))","v":""},null,null,null,null,null,null,null,null,null,null,"Non","","Non",null,"",null,null,null,null,null,"Non","Non",null,null,null,null,""," - ","","-","--"]
["",null,null,{"$f":"IF(ISBLANK(B236),\"\",COUNTA(#REF!))","v":""},null,null,null,null,null,null,null,null,null,null,"Non","","Non",null,"",null,null,null,null,null,"Non","Non",null,null,null,null,""," - ","","-","--"]
["",null,null,{"$f":"IF(ISBLANK(B237),\"\",COUNTA(#REF!))","v":""},null,null,null,null,null,null,null,null,null,null,"Non","","Non",null,"",null,null,null,null,null,"Non","Non",null,null,null,null,""," - ","","-","--"]
["",null,null,{"$f":"IF(ISBLANK(B238),\"\",COUNTA(#REF!))","v":""},null,null,null,null,null,null,null,null,null,null,"Non","","Non",null,"",null,null,null,null,null,"Non","Non",null,null,null,null,""," - ","","-","--"]
["",null,null,{"$f":"IF(ISBLANK(B239),\"\",COUNTA(#REF!))","v":""},null,null,null,null,null,null,null,null,null,null,"Non","","Non",null,"",null,null,null,null,null,"Non","Non",null,null,null,null,""," - ","","-","--"]
["",null,null,{"$f":"IF(ISBLANK(B240),\"\",COUNTA(#REF!))","v":""},null,null,null,null,null,null,null,null,null,null,"Non","","Non",null,"",null,null,null,null,null,"Non","Non",null,null,null,null,""," - ","","-","--"]
["",null,null,{"$f":"IF(ISBLANK(B241),\"\",COUNTA(#REF!))","v":""},null,null,null,null,null,null,null,null,null,null,"Non","","Non",null,"",null,null,null,null,null,"Non","Non",null,null,null,null,""," - ","","-","--"]
["",null,null,{"$f":"IF(ISBLANK(B242),\"\",COUNTA(#REF!))","v":""},null,null,null,null,null,null,null,null,null,null,"Non","","Non",null,"",null,null,null,null,null,"Non","Non",null,null,null,null,""," - ","","-","--"]
["",null,null,{"$f":"IF(ISBLANK(B243),\"\",COUNTA(#REF!))","v":""},null,null,null,null,null,null,null,null,null,null,"Non","","Non",null,"",null,null,null,null,null,"Non","Non",null,null,null,null,""," - ","","-","--"]
["",null,null,{"$f":"IF(ISBLANK(B244),\"\",COUNTA(#REF!))","v":""},null,null,null,null,null,null,null,null,null,null,"Non","","Non",null,"",null,null,null,null,null,"Non","Non",null,null,null,null,""," - ","","-","--"]
["",null,null,{"$f":"IF(ISBLANK(B245),\"\",COUNTA(#REF!))","v":""},null,null,null,null,null,null,null,null,null,null,"Non","","Non",null,"",null,null,null,null,null,"Non","Non",null,null,null,null,""," - ","","-","--"]
["",null,null,{"$f":"IF(ISBLANK(B246),\"\",COUNTA(#REF!))","v":""},null,null,null,null,null,null,null,null,null,null,"Non","","Non",null,"",null,null,null,null,null,"Non","Non",null,null,null,null,""," - ","","-","--"]
["",null,null,{"$f":"IF(ISBLANK(B247),\"\",COUNTA(#REF!))","v":""},null,null,null,null,null,null,null,null,null,null,"Non","","Non",null,"",null,null,null,null,null,"Non","Non",null,null,null,null,""," - ","","-","--"]
["",null,null,{"$f":"IF(ISBLANK(B248),\"\",COUNTA(#REF!))","v":""},null,null,null,null,null,null,null,null,null,null,"Non","","Non",null,"",null,null,null,null,null,"Non","Non",null,null,null,null,""," - ","","-","--"]
["",null,null,{"$f":"IF(ISBLANK(B249),\"\",COUNTA(#REF!))","v":""},null,null,null,null,null,null,null,null,null,null,"Non","","Non",null,"",null,null,null,null,null,"Non","Non",null,null,null,null,""," - ","","-","--"]
["",null,null,{"$f":"IF(ISBLANK(B250),\"\",COUNTA(#REF!))","v":""},null,null,null,null,null,null,null,null,null,null,"Non","","Non",null,"",null,null,null,null,null,"Non","Non",null,null,null,null,""," - ","","-","--"]
["",null,null,{"$f":"IF(ISBLANK(B251),\"\",COUNTA(#REF!))","v":""},null,null,null,null,null,null,null,null,null,null,"Non","","Non",null,"",null,null,null,null,null,"Non","Non",null,null,null,null,""," - ","","-","--"]
["",null,null,{"$f":"IF(ISBLANK(B252),\"\",COUNTA(#REF!))","v":""},null,null,null,null,null,null,null,null,null,null,"Non","","Non",null,"",null,null,null,null,null,"Non","Non",null,null,null,null,""," - ","","-","--"]
["",null,null,{"$f":"IF(ISBLANK(B253),\"\",COUNTA(#REF!))","v":""},null,null,null,null,null,null,null,null,null,null,"Non","","Non",null,"",null,null,null,null,null,"Non","Non",null,null,null,null,""," - ","","-","--"]
["",null,null,{"$f":"IF(ISBLANK(B254),\"\",COUNTA(#REF!))","v":""},null,null,null,null,null,null,null,null,null,null,"Non","","Non",null,"",null,null,null,null,null,"Non","Non",null,null,null,null,""," - ","","-","--"]
["",null,null,{"$f":"IF(ISBLANK(B255),\"\",COUNTA(#REF!))","v":""},null,null,null,null,null,null,null,null,null,null,"Non","","Non",null,"",null,null,null,null,null,"Non","Non",null,null,null,null,""," - ","","-","--"]
["",null,null,{"$f":"IF(ISBLANK(B256),\"\",COUNTA(#REF!))","v":""},null,null,null,null,null,null,null,null,null,null,"Non","","Non",null,"",null,null,null,null,null,"Non","Non",null,null,null,null,""," - ","","-","--"]
["",null,null,{"$f":"IF(ISBLANK(B257),\"\",COUNTA(#REF!))","v":""},null,null,null,null,null,null,null,null,null,null,"Non","","Non",null,"",null,null,null,null,null,"Non","Non",null,null,null,null,""," - ","","-","--"]
["",null,null,{"$f":"IF(ISBLANK(B258),\"\",COUNTA(#REF!))","v":""},null,null,null,null,null,null,null,null,null,null,"Non","","Non",null,"",null,null,null,null,null,"Non","Non",null,null,null,null,""," - ","","-","--"]
["",null,null,{"$f":"IF(ISBLANK(B259),\"\",COUNTA(#REF!))","v":""},null,null,null,null,null,null,null,null,null,null,"Non","","Non",null,"",null,null,null,null,null,"Non","Non",null,null,null,null,""," - ","","-","--"]
["",null,null,{"$f":"IF(ISBLANK(B260),\"\",COUNTA(#REF!))","v":""},null,null,null,null,null,null,null,null,null,null,"Non","","Non",null,"",null,null,null,null,null,"Non","Non",null,null,null,null,""," - ","","-","--"]
["",null,null,{"$f":"IF(ISBLANK(B261),\"\",COUNTA(#REF!))","v":""},null,null,null,null,null,null,null,null,null,null,"Non","","Non",null,"",null,null,null,null,null,"Non","Non",null,null,null,null,""," - ","","-","--"]
["",null,null,{"$f":"IF(ISBLANK(B262),\"\",COUNTA(#REF!))","v":""},null,null,null,null,null,null,null,null,null,null,"Non","","Non",null,"",null,null,null,null,null,"Non","Non",null,null,null,null,""," - ","","-","--"]
["",null,null,{"$f":"IF(ISBLANK(B263),\"\",COUNTA(#REF!))","v":""},null,null,null,null,null,null,null,null,null,null,"Non","","Non",null,"",null,null,null,null,null,"Non","Non",null,null,null,null,""," - ","","-","--"]
[{"$f":"IF(ISBLANK(B264),\"\",$C$2)","v":""},null,null,{"$f":"IF(ISBLANK(B264),\"\",COUNTA(#REF!))","v":""},null,null,null,null,null,null,null,null,null,null,{"$f":"IF(AND(K264<>\"\",ISBLANK(N264),K264<TODAY()),\"Oui\",\"Non\")","v":"Non"},"",{"$f":"IF(AND(N264<>\"\",ISBLANK(N264),K264<TODAY()),\"Oui\",\"Non\")","v":"Non"},null,"",null,null,null,null,null,"Non","Non",null,null,null,null,""," - ","","-",{"$f":"CONCATENATE(M264,\"-\",AH264)","v":"--"}]
["",null,null,{"$f":"IF(ISBLANK(B265),\"\",COUNTA(#REF!))","v":""},null,null,null,null,null,null,null,null,null,null,"Non","","Non",null,"",null,null,null,null,null,{"$f":"IF(AND(U265<>\"\",ISBLANK(X265),U265<TODAY()),\"Oui\",\"Non\")","v":"Non"},{"$f":"IF(AND(S265=\"Oui\",ISBLANK(X265)),\"Oui\",\"Non\")","v":"Non"},null,null,null,null,""," - ","","-","--"]
["",null,null,{"$f":"IF(ISBLANK(B266),\"\",COUNTA(#REF!))","v":""},null,null,null,null,null,null,null,null,null,null,"Non","","Non",null,"",null,null,null,null,null,"Non","Non",null,null,null,null,""," - ","","-","--"]
["",null,null,{"$f":"IF(ISBLANK(B267),\"\",COUNTA(#REF!))","v":""},null,null,null,null,null,null,null,null,null,null,"Non","","Non",null,"",null,null,null,null,null,"Non","Non",null,null,null,null,""," - ","","-","--"]
["",null,null,{"$f":"IF(ISBLANK(B268),\"\",COUNTA(#REF!))","v":""},null,null,null,null,null,null,null,null,null,null,"Non","","Non",null,"",null,null,null,null,null,"Non","Non",null,null,null,null,""," - ","","-","--"]
["",null,null,{"$f":"IF(ISBLANK(B269),\"\",COUNTA(#REF!))","v":""},null,null,null,null,null,null,null,null,null,null,"Non","","Non",null,"",null,null,null,null,null,"Non","Non",null,null,null,null,""," - ","","-","--"]
["",null,null,{"$f":"IF(ISBLANK(B270),\"\",COUNTA(#REF!))","v":""},null,null,null,null,null,null,null,null,null,null,"Non","","Non",null,"",null,null,null,null,null,"Non","Non",null,null,null,null,""," - ","","-","--"]
["",null,null,{"$f":"IF(ISBLANK(B271),\"\",COUNTA(#REF!))","v":""},null,null,null,null,null,null,null,null,null,null,"Non","","Non",null,"",null,null,null,null,null,"Non","Non",null,null,null,null,""," - ","","-","--"]
["",null,null,{"$f":"IF(ISBLANK(B272),\"\",COUNTA(#REF!))","v":""},null,null,null,null,null,null,null,null,null,null,"Non","","Non",null,"",null,null,null,null,null,"Non","Non",null,null,null,null,""," - ","","-","--"]
["",null,null,{"$f":"IF(ISBLANK(B273),\"\",COUNTA(#REF!))","v":""},null,null,null,null,null,null,null,null,null,null,"Non","","Non",null,"",null,null,null,null,null,"Non","Non",null,null,null,null,""," - ","","-","--"]
["",null,null,{"$f":"IF(ISBLANK(B274),\"\",COUNTA(#REF!))","v":""},null,null,null,null,null,null,null,null,null,null,"Non","","Non",null,"",null,null,null,null,null,"Non","Non",null,null,null,null,""," - ","","-","--"]
["",null,null,{"$f":"IF(ISBLANK(B275),\"\",COUNTA(#REF!))","v":""},null,null,null,null,null,null,null,null,null,null,"Non","","Non",null,"",null,null,null,null,null,"Non","Non",null,null,null,null,{"$f":"IF(K275=\"\",\"\",K275-TODAY())","v":""},{"$f":"IF(ISBLANK(F275),CONCATENATE(E275,\" - \",AG275),CONCATENATE(F275,\" - \",AG275))","v":" - "},{"$f":"IF(ISBLANK(B275),\"\",YEAR(C275))","v":""},{"$f":"CONCATENATE(H275,\"-\",AG275)","v":"-"},"--"]
["",null,null,{"$f":"IF(ISBLANK(B276),\"\",COUNTA(#REF!))","v":""},null,null,null,null,null,null,null,null,null,null,"Non","","Non",null,"",null,null,null,null,null,"Non","Non",null,null,null,null,""," - ","","-","--"]
["",null,null,{"$f":"IF(ISBLANK(B277),\"\",COUNTA(#REF!))","v":""},null,null,null,null,null,null,null,null,null,null,"Non","","Non",null,"",null,null,null,null,null,"Non","Non",null,null,null,null,""," - ","","-","--"]
["",null,null,{"$f":"IF(ISBLANK(B278),\"\",COUNTA(#REF!))","v":""},null,null,null,null,null,null,null,null,null,null,"Non","","Non",null,"",null,null,null,null,null,"Non","Non",null,null,null,null,""," - ","","-","--"]
["",null,null,{"$f":"IF(ISBLANK(B279),\"\",COUNTA(#REF!))","v":""},null,null,null,null,null,null,null,null,null,null,"Non",{"$f":"IF(ISBLANK(I279),\"\",IF(K279=\"\",\"délai à préciser\",IF(M279=\"\",\"statut à préciser\",IF(M279=\"finalisée\",IF(N279=\"\",\"date de solde à préciser\",IF(K279>=N279,\"fait\",\"retard\")),(IF(K279<TODAY(),\"retard\",\"Ok\"))))))","v":""},"Non",null,"",null,null,null,null,null,"Non","Non",null,null,null,null,""," - ","","-","--"]
["",null,null,{"$f":"IF(ISBLANK(B280),\"\",COUNTA(#REF!))","v":""},null,null,null,null,null,null,null,null,null,null,"Non","","Non",null,{"$f":"IF(ISBLANK(H280),\"\",IF(OR(H280=\"Préventive\",H280=\"Corrective\"),\"Oui\",\"Non\"))","v":""},null,null,null,null,null,"Non","Non",null,null,null,null,""," - ","","-","--"]
["",null,null,{"$f":"IF(ISBLANK(B281),\"\",COUNTA(#REF!))","v":""},null,null,null,null,null,null,null,null,null,null,"Non","","Non",null,"",null,null,null,null,null,"Non","Non",null,null,null,null,""," - ","","-","--"]
["",null,null,{"$f":"IF(ISBLANK(B282),\"\",COUNTA(#REF!))","v":""},null,null,null,null,null,null,null,null,null,null,"Non","","Non",null,"",null,null,null,null,null,"Non","Non",null,null,null,null,""," - ","","-","--"]
["",null,null,{"$f":"IF(ISBLANK(B283),\"\",COUNTA(#REF!))","v":""},null,null,null,null,null,null,null,null,null,null,"Non","","Non",null,"",null,null,null,null,null,"Non","Non",null,null,null,null,""," - ","","-","--"]
["",null,null,{"$f":"IF(ISBLANK(B284),\"\",COUNTA(#REF!))","v":""},null,null,null,null,null,null,null,null,null,null,"Non","","Non",null,"",null,null,null,null,null,"Non","Non",null,null,null,null,""," - ","","-","--"]
["",null,null,{"$f":"IF(ISBLANK(B285),\"\",COUNTA(#REF!))","v":""},null,null,null,null,null,null,null,null,null,null,"Non","","Non",null,"",null,null,null,null,null,"Non","Non",null,null,null,null,""," - ","","-","--"]
["",null,null,{"$f":"IF(ISBLANK(B286),\"\",COUNTA(#REF!))","v":""},null,null,null,null,null,null,null,null,null,null,"Non","","Non",null,"",null,null,null,null,null,"Non","Non",null,null,null,null,""," - ","","-","--"]
["",null,null,{"$f":"IF(ISBLANK(B287),\"\",COUNTA(#REF!))","v":""},null,null,null,null,null,null,null,null,null,null,"Non","","Non",null,"",null,null,null,null,null,"Non","Non",null,null,null,null,""," - ","","-","--"]
["",null,null,{"$f":"IF(ISBLANK(B288),\"\",COUNTA(#REF!))","v":""},null,null,null,null,null,null,null,null,null,null,"Non","","Non",null,"",null,null,null,null,null,"Non","Non",null,null,null,null,""," - ","","-","--"]
["",null,null,{"$f":"IF(ISBLANK(B289),\"\",COUNTA(#REF!))","v":""},null,null,null,null,null,null,null,null,null,null,"Non","","Non",null,"",null,null,null,null,null,"Non","Non",null,null,null,null,""," - ","","-","--"]
["",null,null,{"$f":"IF(ISBLANK(B290),\"\",COUNTA(#REF!))","v":""},null,null,null,null,null,null,null,null,null,null,"Non","","Non",null,"",null,null,null,null,null,"Non","Non",null,null,null,null,""," - ","","-","--"]
["",null,null,{"$f":"IF(ISBLANK(B291),\"\",COUNTA(#REF!))","v":""},null,null,null,null,null,null,null,null,null,null,"Non","","Non",null,"",null,null,null,null,null,"Non","Non",null,null,null,null,""," - ","","-","--"]
["",null,null,{"$f":"IF(ISBLANK(B292),\"\",COUNTA(#REF!))","v":""},null,null,null,null,null,null,null,null,null,null,"Non","","Non",null,"",null,null,null,null,null,"Non","Non",null,null,null,null,""," - ","","-","--"]
["",null,null,{"$f":"IF(ISBLANK(B293),\"\",COUNTA(#REF!))","v":""},null,null,null,null,null,null,null,null,null,null,"Non","","Non",null,"",null,null,null,null,null,"Non","Non",null,null,null,null,""," - ","","-","--"]
["",null,null,{"$f":"IF(ISBLANK(B294),\"\",COUNTA(#REF!))","v":""},null,null,null,null,null,null,null,null,null,null,"Non","","Non",null,"",null,null,null,null,null,"Non","Non",null,null,null,null,""," - ","","-","--"]
["",null,null,{"$f":"IF(ISBLANK(B295),\"\",COUNTA(#REF!))","v":""},null,null,null,null,null,null,null,null,null,null,"Non","","Non",null,"",null,null,null,null,null,"Non","Non",null,null,null,null,""," - ","","-","--"]
["",null,null,{"$f":"IF(ISBLANK(B296),\"\",COUNTA(#REF!))","v":""},null,null,null,null,null,null,null,null,null,null,"Non","","Non",null,"",null,null,null,null,null,"Non","Non",null,null,null,null,""," - ","","-","--"]
["",null,null,{"$f":"IF(ISBLANK(B297),\"\",COUNTA(#REF!))","v":""},null,null,null,null,null,null,null,null,null,null,"Non","","Non",null,"",null,null,null,null,null,"Non","Non",null,null,null,null,""," - ","","-","--"]
["",null,null,{"$f":"IF(ISBLANK(B298),\"\",COUNTA(#REF!))","v":""},null,null,null,null,null,null,null,null,null,null,"Non","","Non",null,"",null,null,null,null,null,"Non","Non",null,null,null,null,""," - ","","-","--"]
["",null,null,{"$f":"IF(ISBLANK(B299),\"\",COUNTA(#REF!))","v":""},null,null,null,null,null,null,null,null,null,null,"Non","","Non",null,"",null,null,null,null,null,"Non","Non",null,null,null,null,""," - ","","-","--"]
["",null,null,{"$f":"IF(ISBLANK(B300),\"\",COUNTA(#REF!))","v":""},null,null,null,null,null,null,null,null,null,null,"Non","","Non",null,"",null,null,null,null,null,"Non","Non",null,null,null,null,""," - ","","-","--"]
["",null,null,{"$f":"IF(ISBLANK(B301),\"\",COUNTA(#REF!))","v":""},null,null,null,null,null,null,null,null,null,null,"Non","","Non",null,"",null,null,null,null,null,"Non","Non",null,null,null,null,""," - ","","-","--"]
["",null,null,{"$f":"IF(ISBLANK(B302),\"\",COUNTA(#REF!))","v":""},null,null,null,null,null,null,null,null,null,null,"Non","","Non",null,"",null,null,null,null,null,"Non","Non",null,null,null,null,""," - ","","-","--"]
["",null,null,{"$f":"IF(ISBLANK(B303),\"\",COUNTA(#REF!))","v":""},null,null,null,null,null,null,null,null,null,null,"Non","","Non",null,"",null,null,null,null,null,"Non","Non",null,null,null,null,""," - ","","-","--"]
["",null,null,{"$f":"IF(ISBLANK(B304),\"\",COUNTA(#REF!))","v":""},null,null,null,null,null,null,null,null,null,null,"Non","","Non",null,"",null,null,null,null,null,"Non","Non",null,null,null,null,""," - ","","-","--"]
["",null,null,{"$f":"IF(ISBLANK(B305),\"\",COUNTA(#REF!))","v":""},null,null,null,null,null,null,null,null,null,null,"Non","","Non",null,"",null,null,null,null,null,"Non","Non",null,null,null,null,""," - ","","-","--"]
["",null,null,{"$f":"IF(ISBLANK(B306),\"\",COUNTA(#REF!))","v":""},null,null,null,null,null,null,null,null,null,null,"Non","","Non",null,"",null,null,null,null,null,"Non","Non",null,null,null,null,""," - ","","-","--"]
["",null,null,{"$f":"IF(ISBLANK(B307),\"\",COUNTA(#REF!))","v":""},null,null,null,null,null,null,null,null,null,null,"Non","","Non",null,"",null,null,null,null,null,"Non","Non",null,null,null,null,""," - ","","-","--"]
["",null,null,{"$f":"IF(ISBLANK(B308),\"\",COUNTA(#REF!))","v":""},null,null,null,null,null,null,null,null,null,null,"Non","","Non",null,"",null,null,null,null,null,"Non","Non",null,null,null,null,""," - ","","-","--"]
["",null,null,{"$f":"IF(ISBLANK(B309),\"\",COUNTA(#REF!))","v":""},null,null,null,null,null,null,null,null,null,null,"Non","","Non",null,"",null,null,null,null,null,"Non","Non",null,null,null,null,""," - ","","-","--"]
["",null,null,{"$f":"IF(ISBLANK(B310),\"\",COUNTA(#REF!))","v":""},null,null,null,null,null,null,null,null,null,null,"Non","","Non",null,"",null,null,null,null,null,"Non","Non",null,null,null,null,""," - ","","-","--"]
["",null,null,{"$f":"IF(ISBLANK(B311),\"\",COUNTA(#REF!))","v":""},null,null,null,null,null,null,null,null,null,null,"Non","","Non",null,"",null,null,null,null,null,"Non","Non",null,null,null,null,""," - ","","-","--"]
["",null,null,{"$f":"IF(ISBLANK(B312),\"\",COUNTA(#REF!))","v":""},null,null,null,null,null,null,null,null,null,null,"Non","","Non",null,"",null,null,null,null,null,"Non","Non",null,null,null,null,""," - ","","-","--"]
["",null,null,{"$f":"IF(ISBLANK(B313),\"\",COUNTA(#REF!))","v":""},null,null,null,null,null,null,null,null,null,null,"Non","","Non",null,"",null,null,null,null,null,"Non","Non",null,null,null,null,""," - ","","-","--"]
["",null,null,{"$f":"IF(ISBLANK(B314),\"\",COUNTA(#REF!))","v":""},null,null,null,null,null,null,null,null,null,null,"Non","","Non",null,"",null,null,null,null,null,"Non","Non",null,null,null,null,""," - ","","-","--"]
["",null,null,{"$f":"IF(ISBLANK(B315),\"\",COUNTA(#REF!))","v":""},null,null,null,null,null,null,null,null,null,null,"Non","","Non",null,"",null,null,null,null,null,"Non","Non",null,null,null,null,""," - ","","-","--"]
["",null,null,{"$f":"IF(ISBLANK(B316),\"\",COUNTA(#REF!))","v":""},null,null,null,null,null,null,null,null,null,null,"Non","","Non",null,"",null,null,null,null,null,"Non","Non",null,null,null,null,""," - ","","-","--"]
["",null,null,{"$f":"IF(ISBLANK(B317),\"\",COUNTA(#REF!))","v":""},null,null,null,null,null,null,null,null,null,null,"Non","","Non",null,"",null,null,null,null,null,"Non","Non",null,null,null,null,""," - ","","-","--"]
["",null,null,{"$f":"IF(ISBLANK(B318),\"\",COUNTA(#REF!))","v":""},null,null,null,null,null,null,null,null,null,null,"Non","","Non",null,"",null,null,null,null,null,"Non","Non",null,null,null,null,""," - ","","-","--"]
["",null,null,{"$f":"IF(ISBLANK(B319),\"\",COUNTA(#REF!))","v":""},null,null,null,null,null,null,null,null,null,null,"Non","","Non",null,"",null,null,null,null,null,"Non","Non",null,null,null,null,""," - ","","-","--"]
["",null,null,{"$f":"IF(ISBLANK(B320),\"\",COUNTA(#REF!))","v":""},null,null,null,null,null,null,null,null,null,null,"Non","","Non",null,"",null,null,null,null,null,"Non","Non",null,null,null,null,""," - ","","-","--"]
["",null,null,{"$f":"IF(ISBLANK(B321),\"\",COUNTA(#REF!))","v":""},null,null,null,null,null,null,null,null,null,null,"Non","","Non",null,"",null,null,null,null,null,"Non","Non",null,null,null,null,""," - ","","-","--"]
["",null,null,{"$f":"IF(ISBLANK(B322),\"\",COUNTA(#REF!))","v":""},null,null,null,null,null,null,null,null,null,null,"Non","","Non",null,"",null,null,null,null,null,"Non","Non",null,null,null,null,""," - ","","-","--"]
["",null,null,{"$f":"IF(ISBLANK(B323),\"\",COUNTA(#REF!))","v":""},null,null,null,null,null,null,null,null,null,null,"Non","","Non",null,"",null,null,null,null,null,"Non","Non",null,null,null,null,""," - ","","-","--"]
["",null,null,{"$f":"IF(ISBLANK(B324),\"\",COUNTA(#REF!))","v":""},null,null,null,null,null,null,null,null,null,null,"Non","","Non",null,"",null,null,null,null,null,"Non","Non",null,null,null,null,""," - ","","-","--"]
["",null,null,{"$f":"IF(ISBLANK(B325),\"\",COUNTA(#REF!))","v":""},null,null,null,null,null,null,null,null,null,null,"Non","","Non",null,"",null,null,null,null,null,"Non","Non",null,null,null,null,""," - ","","-","--"]
["",null,null,{"$f":"IF(ISBLANK(B326),\"\",COUNTA(#REF!))","v":""},null,null,null,null,null,null,null,null,null,null,"Non","","Non",null,"",null,null,null,null,null,"Non","Non",null,null,null,null,""," - ","","-","--"]
["",null,null,{"$f":"IF(ISBLANK(B327),\"\",COUNTA(#REF!))","v":""},null,null,null,null,null,null,null,null,null,null,"Non","","Non",null,"",null,null,null,null,null,"Non","Non",null,null,null,null,""," - ","","-","--"]
[{"$f":"IF(ISBLANK(B328),\"\",$C$2)","v":""},null,null,{"$f":"IF(ISBLANK(B328),\"\",COUNTA(#REF!))","v":""},null,null,null,null,null,null,null,null,null,null,{"$f":"IF(AND(K328<>\"\",ISBLANK(N328),K328<TODAY()),\"Oui\",\"Non\")","v":"Non"},"",{"$f":"IF(AND(N328<>\"\",ISBLANK(N328),K328<TODAY()),\"Oui\",\"Non\")","v":"Non"},null,"",null,null,null,null,null,"Non","Non",null,null,null,null,""," - ","","-",{"$f":"CONCATENATE(M328,\"-\",AH328)","v":"--"}]
["",null,null,{"$f":"IF(ISBLANK(B329),\"\",COUNTA(#REF!))","v":""},null,null,null,null,null,null,null,null,null,null,"Non","","Non",null,"",null,null,null,null,null,{"$f":"IF(AND(U329<>\"\",ISBLANK(X329),U329<TODAY()),\"Oui\",\"Non\")","v":"Non"},{"$f":"IF(AND(S329=\"Oui\",ISBLANK(X329)),\"Oui\",\"Non\")","v":"Non"},null,null,null,null,""," - ","","-","--"]
["",null,null,{"$f":"IF(ISBLANK(B330),\"\",COUNTA(#REF!))","v":""},null,null,null,null,null,null,null,null,null,null,"Non","","Non",null,"",null,null,null,null,null,"Non","Non",null,null,null,null,""," - ","","-","--"]
["",null,null,{"$f":"IF(ISBLANK(B331),\"\",COUNTA(#REF!))","v":""},null,null,null,null,null,null,null,null,null,null,"Non","","Non",null,"",null,null,null,null,null,"Non","Non",null,null,null,null,""," - ","","-","--"]
["",null,null,{"$f":"IF(ISBLANK(B332),\"\",COUNTA(#REF!))","v":""},null,null,null,null,null,null,null,null,null,null,"Non","","Non",null,"",null,null,null,null,null,"Non","Non",null,null,null,null,""," - ","","-","--"]
["",null,null,{"$f":"IF(ISBLANK(B333),\"\",COUNTA(#REF!))","v":""},null,null,null,null,null,null,null,null,null,null,"Non","","Non",null,"",null,null,null,null,null,"Non","Non",null,null,null,null,""," - ","","-","--"]
["",null,null,{"$f":"IF(ISBLANK(B334),\"\",COUNTA(#REF!))","v":""},null,null,null,null,null,null,null,null,null,null,"Non","","Non",null,"",null,null,null,null,null,"Non","Non",null,null,null,null,""," - ","","-","--"]
["",null,null,{"$f":"IF(ISBLANK(B335),\"\",COUNTA(#REF!))","v":""},null,null,null,null,null,null,null,null,null,null,"Non","","Non",null,"",null,null,null,null,null,"Non","Non",null,null,null,null,""," - ","","-","--"]
["",null,null,{"$f":"IF(ISBLANK(B336),\"\",COUNTA(#REF!))","v":""},null,null,null,null,null,null,null,null,null,null,"Non","","Non",null,"",null,null,null,null,null,"Non","Non",null,null,null,null,""," - ","","-","--"]
["",null,null,{"$f":"IF(ISBLANK(B337),\"\",COUNTA(#REF!))","v":""},null,null,null,null,null,null,null,null,null,null,"Non","","Non",null,"",null,null,null,null,null,"Non","Non",null,null,null,null,""," - ","","-","--"]
["",null,null,{"$f":"IF(ISBLANK(B338),\"\",COUNTA(#REF!))","v":""},null,null,null,null,null,null,null,null,null,null,"Non","","Non",null,"",null,null,null,null,null,"Non","Non",null,null,null,null,""," - ","","-","--"]
["",null,null,{"$f":"IF(ISBLANK(B339),\"\",COUNTA(#REF!))","v":""},null,null,null,null,null,null,null,null,null,null,"Non","","Non",null,"",null,null,null,null,null,"Non","Non",null,null,null,null,{"$f":"IF(K339=\"\",\"\",K339-TODAY())","v":""},{"$f":"IF(ISBLANK(F339),CONCATENATE(E339,\" - \",AG339),CONCATENATE(F339,\" - \",AG339))","v":" - "},{"$f":"IF(ISBLANK(B339),\"\",YEAR(C339))","v":""},{"$f":"CONCATENATE(H339,\"-\",AG339)","v":"-"},"--"]
["",null,null,{"$f":"IF(ISBLANK(B340),\"\",COUNTA(#REF!))","v":""},null,null,null,null,null,null,null,null,null,null,"Non","","Non",null,"",null,null,null,null,null,"Non","Non",null,null,null,null,""," - ","","-","--"]
["",null,null,{"$f":"IF(ISBLANK(B341),\"\",COUNTA(#REF!))","v":""},null,null,null,null,null,null,null,null,null,null,"Non","","Non",null,"",null,null,null,null,null,"Non","Non",null,null,null,null,""," - ","","-","--"]
["",null,null,{"$f":"IF(ISBLANK(B342),\"\",COUNTA(#REF!))","v":""},null,null,null,null,null,null,null,null,null,null,"Non","","Non",null,"",null,null,null,null,null,"Non","Non",null,null,null,null,""," - ","","-","--"]
["",null,null,{"$f":"IF(ISBLANK(B343),\"\",COUNTA(#REF!))","v":""},null,null,null,null,null,null,null,null,null,null,"Non",{"$f":"IF(ISBLANK(I343),\"\",IF(K343=\"\",\"délai à préciser\",IF(M343=\"\",\"statut à préciser\",IF(M343=\"finalisée\",IF(N343=\"\",\"date de solde à préciser\",IF(K343>=N343,\"fait\",\"retard\")),(IF(K343<TODAY(),\"retard\",\"Ok\"))))))","v":""},"Non",null,"",null,null,null,null,null,"Non","Non",null,null,null,null,""," - ","","-","--"]
["",null,null,{"$f":"IF(ISBLANK(B344),\"\",COUNTA(#REF!))","v":""},null,null,null,null,null,null,null,null,null,null,"Non","","Non",null,{"$f":"IF(ISBLANK(H344),\"\",IF(OR(H344=\"Préventive\",H344=\"Corrective\"),\"Oui\",\"Non\"))","v":""},null,null,null,null,null,"Non","Non",null,null,null,null,""," - ","","-","--"]
["",null,null,{"$f":"IF(ISBLANK(B345),\"\",COUNTA(#REF!))","v":""},null,null,null,null,null,null,null,null,null,null,"Non","","Non",null,"",null,null,null,null,null,"Non","Non",null,null,null,null,""," - ","","-","--"]
["",null,null,{"$f":"IF(ISBLANK(B346),\"\",COUNTA(#REF!))","v":""},null,null,null,null,null,null,null,null,null,null,"Non","","Non",null,"",null,null,null,null,null,"Non","Non",null,null,null,null,""," - ","","-","--"]
["",null,null,{"$f":"IF(ISBLANK(B347),\"\",COUNTA(#REF!))","v":""},null,null,null,null,null,null,null,null,null,null,"Non","","Non",null,"",null,null,null,null,null,"Non","Non",null,null,null,null,""," - ","","-","--"]
["",null,null,{"$f":"IF(ISBLANK(B348),\"\",COUNTA(#REF!))","v":""},null,null,null,null,null,null,null,null,null,null,"Non","","Non",null,"",null,null,null,null,null,"Non","Non",null,null,null,null,""," - ","","-","--"]
["",null,null,{"$f":"IF(ISBLANK(B349),\"\",COUNTA(#REF!))","v":""},null,null,null,null,null,null,null,null,null,null,"Non","","Non",null,"",null,null,null,null,null,"Non","Non",null,null,null,null,""," - ","","-","--"]
["",null,null,{"$f":"IF(ISBLANK(B350),\"\",COUNTA(#REF!))","v":""},null,null,null,null,null,null,null,null,null,null,"Non","","Non",null,"",null,null,null,null,null,"Non","Non",null,null,null,null,""," - ","","-","--"]
["",null,null,{"$f":"IF(ISBLANK(B351),\"\",COUNTA(#REF!))","v":""},null,null,null,null,null,null,null,null,null,null,"Non","","Non",null,"",null,null,null,null,null,"Non","Non",null,null,null,null,""," - ","","-","--"]
["",null,null,{"$f":"IF(ISBLANK(B352),\"\",COUNTA(#REF!))","v":""},null,null,null,null,null,null,null,null,null,null,"Non","","Non",null,"",null,null,null,null,null,"Non","Non",null,null,null,null,""," - ","","-","--"]
["",null,null,{"$f":"IF(ISBLANK(B353),\"\",COUNTA(#REF!))","v":""},null,null,null,null,null,null,null,null,null,null,"Non","","Non",null,"",null,null,null,null,null,"Non","Non",null,null,null,null,""," - ","","-","--"]
["",null,null,{"$f":"IF(ISBLANK(B354),\"\",COUNTA(#REF!))","v":""},null,null,null,null,null,null,null,null,null,null,"Non","","Non",null,"",null,null,null,null,null,"Non","Non",null,null,null,null,""," - ","","-","--"]
["",null,null,{"$f":"IF(ISBLANK(B355),\"\",COUNTA(#REF!))","v":""},null,null,null,null,null,null,null,null,null,null,"Non","","Non",null,"",null,null,null,null,null,"Non","Non",null,null,null,null,""," - ","","-","--"]
["",null,null,{"$f":"IF(ISBLANK(B356),\"\",COUNTA(#REF!))","v":""},null,null,null,null,null,null,null,null,null,null,"Non","","Non",null,"",null,null,null,null,null,"Non","Non",null,null,null,null,""," - ","","-","--"]
["",null,null,{"$f":"IF(ISBLANK(B357),\"\",COUNTA(#REF!))","v":""},null,null,null,null,null,null,null,null,null,null,"Non","","Non",null,"",null,null,null,null,null,"Non","Non",null,null,null,null,""," - ","","-","--"]
["",null,null,{"$f":"IF(ISBLANK(B358),\"\",COUNTA(#REF!))","v":""},null,null,null,null,null,null,null,null,null,null,"Non","","Non",null,"",null,null,null,null,null,"Non","Non",null,null,null,null,""," - ","","-","--"]
["",null,null,{"$f":"IF(ISBLANK(B359),\"\",COUNTA(#REF!))","v":""},null,null,null,null,null,null,null,null,null,null,"Non","","Non",null,"",null,null,null,null,null,"Non","Non",null,null,null,null,""," - ","","-","--"]
["",null,null,{"$f":"IF(ISBLANK(B360),\"\",COUNTA(#REF!))","v":""},null,null,null,null,null,null,null,null,null,null,"Non","","Non",null,"",null,null,null,null,null,"Non","Non",null,null,null,null,""," - ","","-","--"]
["",null,null,{"$f":"IF(ISBLANK(B361),\"\",COUNTA(#REF!))","v":""},null,null,null,null,null,null,null,null,null,null,"Non","","Non",null,"",null,null,null,null,null,"Non","Non",null,null,null,null,""," - ","","-","--"]
["",null,null,{"$f":"IF(ISBLANK(B362),\"\",COUNTA(#REF!))","v":""},null,null,null,null,null,null,null,null,null,null,"Non","","Non",null,"",null,null,null,null,null,"Non","Non",null,null,null,null,""," - ","","-","--"]
["",null,null,{"$f":"IF(ISBLANK(B363),\"\",COUNTA(#REF!))","v":""},null,null,null,null,null,null,null,null,null,null,"Non","","Non",null,"",null,null,null,null,null,"Non","Non",null,null,null,null,""," - ","","-","--"]
["",null,null,{"$f":"IF(ISBLANK(B364),\"\",COUNTA(#REF!))","v":""},null,null,null,null,null,null,null,null,null,null,"Non","","Non",null,"",null,null,null,null,null,"Non","Non",null,null,null,null,""," - ","","-","--"]
["",null,null,{"$f":"IF(ISBLANK(B365),\"\",COUNTA(#REF!))","v":""},null,null,null,null,null,null,null,null,null,null,"Non","","Non",null,"",null,null,null,null,null,"Non","Non",null,null,null,null,""," - ","","-","--"]
["",null,null,{"$f":"IF(ISBLANK(B366),\"\",COUNTA(#REF!))","v":""},null,null,null,null,null,null,null,null,null,null,"Non","","Non",null,"",null,null,null,null,null,"Non","Non",null,null,null,null,""," - ","","-","--"]
["",null,null,{"$f":"IF(ISBLANK(B367),\"\",COUNTA(#REF!))","v":""},null,null,null,null,null,null,null,null,null,null,"Non","","Non",null,"",null,null,null,null,null,"Non","Non",null,null,null,null,""," - ","","-","--"]
["",null,null,{"$f":"IF(ISBLANK(B368),\"\",COUNTA(#REF!))","v":""},null,null,null,null,null,null,null,null,null,null,"Non","","Non",null,"",null,null,null,null,null,"Non","Non",null,null,null,null,""," - ","","-","--"]
["",null,null,{"$f":"IF(ISBLANK(B369),\"\",COUNTA(#REF!))","v":""},null,null,null,null,null,null,null,null,null,null,"Non","","Non",null,"",null,null,null,null,null,"Non","Non",null,null,null,null,""," - ","","-","--"]
["",null,null,{"$f":"IF(ISBLANK(B370),\"\",COUNTA(#REF!))","v":""},null,null,null,null,null,null,null,null,null,null,"Non","","Non",null,"",null,null,null,null,null,"Non","Non",null,null,null,null,""," - ","","-","--"]
["",null,null,{"$f":"IF(ISBLANK(B371),\"\",COUNTA(#REF!))","v":""},null,null,null,null,null,null,null,null,null,null,"Non","","Non",null,"",null,null,null,null,null,"Non","Non",null,null,null,null,""," - ","","-","--"]
["",null,null,{"$f":"IF(ISBLANK(B372),\"\",COUNTA(#REF!))","v":""},null,null,null,null,null,null,null,null,null,null,"Non","","Non",null,"",null,null,null,null,null,"Non","Non",null,null,null,null,""," - ","","-","--"]
["",null,null,{"$f":"IF(ISBLANK(B373),\"\",COUNTA(#REF!))","v":""},null,null,null,null,null,null,null,null,null,null,"Non","","Non",null,"",null,null,null,null,null,"Non","Non",null,null,null,null,""," - ","","-","--"]
["",null,null,{"$f":"IF(ISBLANK(B374),\"\",COUNTA(#REF!))","v":""},null,null,null,null,null,null,null,null,null,null,"Non","","Non",null,"",null,null,null,null,null,"Non","Non",null,null,null,null,""," - ","","-","--"]
["",null,null,{"$f":"IF(ISBLANK(B375),\"\",COUNTA(#REF!))","v":""},null,null,null,null,null,null,null,null,null,null,"Non","","Non",null,"",null,null,null,null,null,"Non","Non",null,null,null,null,""," - ","","-","--"]
["",null,null,{"$f":"IF(ISBLANK(B376),\"\",COUNTA(#REF!))","v":""},null,null,null,null,null,null,null,null,null,null,"Non","","Non",null,"",null,null,null,null,null,"Non","Non",null,null,null,null,""," - ","","-","--"]
["",null,null,{"$f":"IF(ISBLANK(B377),\"\",COUNTA(#REF!))","v":""},null,null,null,null,null,null,null,null,null,null,"Non","","Non",null,"",null,null,null,null,null,"Non","Non",null,null,null,null,""," - ","","-","--"]
["",null,null,{"$f":"IF(ISBLANK(B378),\"\",COUNTA(#REF!))","v":""},null,null,null,null,null,null,null,null,null,null,"Non","","Non",null,"",null,null,null,null,null,"Non","Non",null,null,null,null,""," - ","","-","--"]
["",null,null,{"$f":"IF(ISBLANK(B379),\"\",COUNTA(#REF!))","v":""},null,null,null,null,null,null,null,null,null,null,"Non","","Non",null,"",null,null,null,null,null,"Non","Non",null,null,null,null,""," - ","","-","--"]
["",null,null,{"$f":"IF(ISBLANK(B380),\"\",COUNTA(#REF!))","v":""},null,null,null,null,null,null,null,null,null,null,"Non","","Non",null,"",null,null,null,null,null,"Non","Non",null,null,null,null,""," - ","","-","--"]
["",null,null,{"$f":"IF(ISBLANK(B381),\"\",COUNTA(#REF!))","v":""},null,null,null,null,null,null,null,null,null,null,"Non","","Non",null,"",null,null,null,null,null,"Non","Non",null,null,null,null,""," - ","","-","--"]
["",null,null,{"$f":"IF(ISBLANK(B382),\"\",COUNTA(#REF!))","v":""},null,null,null,null,null,null,null,null,null,null,"Non","","Non",null,"",null,null,null,null,null,"Non","Non",null,null,null,null,""," - ","","-","--"]
["",null,null,{"$f":"IF(ISBLANK(B383),\"\",COUNTA(#REF!))","v":""},null,null,null,null,null,null,null,null,null,null,"Non","","Non",null,"",null,null,null,null,null,"Non","Non",null,null,null,null,""," - ","","-","--"]
["",null,null,{"$f":"IF(ISBLANK(B384),\"\",COUNTA(#REF!))","v":""},null,null,null,null,null,null,null,null,null,null,"Non","","Non",null,"",null,null,null,null,null,"Non","Non",null,null,null,null,""," - ","","-","--"]
["",null,null,{"$f":"IF(ISBLANK(B385),\"\",COUNTA(#REF!))","v":""},null,null,null,null,null,null,null,null,null,null,"Non","","Non",null,"",null,null,null,null,null,"Non","Non",null,null,null,null,""," - ","","-","--"]
["",null,null,{"$f":"IF(ISBLANK(B386),\"\",COUNTA(#REF!))","v":""},null,null,null,null,null,null,null,null,null,null,"Non","","Non",null,"",null,null,null,null,null,"Non","Non",null,null,null,null,""," - ","","-","--"]
["",null,null,{"$f":"IF(ISBLANK(B387),\"\",COUNTA(#REF!))","v":""},null,null,null,null,null,null,null,null,null,null,"Non","","Non",null,"",null,null,null,null,null,"Non","Non",null,null,null,null,""," - ","","-","--"]
["",null,null,{"$f":"IF(ISBLANK(B388),\"\",COUNTA(#REF!))","v":""},null,null,null,null,null,null,null,null,null,null,"Non","","Non",null,"",null,null,null,null,null,"Non","Non",null,null,null,null,""," - ","","-","--"]
["",null,null,{"$f":"IF(ISBLANK(B389),\"\",COUNTA(#REF!))","v":""},null,null,null,null,null,null,null,null,null,null,"Non","","Non",null,"",null,null,null,null,null,"Non","Non",null,null,null,null,""," - ","","-","--"]
["",null,null,{"$f":"IF(ISBLANK(B390),\"\",COUNTA(#REF!))","v":""},null,null,null,null,null,null,null,null,null,null,"Non","","Non",null,"",null,null,null,null,null,"Non","Non",null,null,null,null,""," - ","","-","--"]
["",null,null,{"$f":"IF(ISBLANK(B391),\"\",COUNTA(#REF!))","v":""},null,null,null,null,null,null,null,null,null,null,"Non","","Non",null,"",null,null,null,null,null,"Non","Non",null,null,null,null,""," - ","","-","--"]
[{"$f":"IF(ISBLANK(B392),\"\",$C$2)","v":""},null,null,{"$f":"IF(ISBLANK(B392),\"\",COUNTA(#REF!))","v":""},null,null,null,null,null,null,null,null,null,null,{"$f":"IF(AND(K392<>\"\",ISBLANK(N392),K392<TODAY()),\"Oui\",\"Non\")","v":"Non"},"",{"$f":"IF(AND(N392<>\"\",ISBLANK(N392),K392<TODAY()),\"Oui\",\"Non\")","v":"Non"},null,"",null,null,null,null,null,"Non","Non",null,null,null,null,""," - ","","-",{"$f":"CONCATENATE(M392,\"-\",AH392)","v":"--"}]
["",null,null,{"$f":"IF(ISBLANK(B393),\"\",COUNTA(#REF!))","v":""},null,null,null,null,null,null,null,null,null,null,"Non","","Non",null,"",null,null,null,null,null,{"$f":"IF(AND(U393<>\"\",ISBLANK(X393),U393<TODAY()),\"Oui\",\"Non\")","v":"Non"},{"$f":"IF(AND(S393=\"Oui\",ISBLANK(X393)),\"Oui\",\"Non\")","v":"Non"},null,null,null,null,""," - ","","-","--"]
["",null,null,{"$f":"IF(ISBLANK(B394),\"\",COUNTA(#REF!))","v":""},null,null,null,null,null,null,null,null,null,null,"Non","","Non",null,"",null,null,null,null,null,"Non","Non",null,null,null,null,""," - ","","-","--"]
["",null,null,{"$f":"IF(ISBLANK(B395),\"\",COUNTA(#REF!))","v":""},null,null,null,null,null,null,null,null,null,null,"Non","","Non",null,"",null,null,null,null,null,"Non","Non",null,null,null,null,""," - ","","-","--"]
["",null,null,{"$f":"IF(ISBLANK(B396),\"\",COUNTA(#REF!))","v":""},null,null,null,null,null,null,null,null,null,null,"Non","","Non",null,"",null,null,null,null,null,"Non","Non",null,null,null,null,""," - ","","-","--"]
["",null,null,{"$f":"IF(ISBLANK(B397),\"\",COUNTA(#REF!))","v":""},null,null,null,null,null,null,null,null,null,null,"Non","","Non",null,"",null,null,null,null,null,"Non","Non",null,null,null,null,""," - ","","-","--"]
["",null,null,{"$f":"IF(ISBLANK(B398),\"\",COUNTA(#REF!))","v":""},null,null,null,null,null,null,null,null,null,null,"Non","","Non",null,"",null,null,null,null,null,"Non","Non",null,null,null,null,""," - ","","-","--"]

{"sheet":"Suivi du PA 5","index":5,"n_rows":398,"n_cols":35,"rows_kept":398,"cut":false,"hidden":false,"merged":[[0,2,0,26],[4,1,4,6],[4,7,4,17],[4,18,4,26]]}
[null,null,"Plan d'actions",null,null,null,null,null,null,null,null,null,null,null,null,null,null,null,null,null,null,null,null,null,null,null,null,9,9]
[null,"Processus"]
[null,null,null,null,null,"Modifié le:",null,null,null,{"$f":"COUNTIF(M7:M79,\"en cours\")+COUNTIF(M7:M79,\"à lancer\")","v":0},"actions non clôturées",null,null,null,null,null,null,null,null,{"$f":"COUNTIF(Z8:Z44,\"Oui\")","v":0},"mesures d'efficacité à clôturer"]
[]
[null,"Présentation",null,null,null,null,null,"Plan d'actions",null,null,null,null,null,null,null,null,null,null,"Messure de l'efficacité"]
["Processus","Descriptif","Date","N°","Thème","Origine","Analyse des causes","Type d'action","Actions prévues","Responsable","Délai","Moyen(s)","Statut","Date de solde","Action en retard?","Respect du délai ?","Retard?","Commentaire","Mesure de l'efficacité ?","Résultat Attendu","Délai de la mesure","Responsable de la mesure","Résultat Obtenu","Date de la mesure","Retard?","A faire?","Action efficace?",null,null,null,null,"cat - année","année dysf°","Type d'action - Année","Statut - Type - Année"]
[{"$f":"IF(ISBLANK(B7),\"\",$C$2)","v":""},null,null,{"$f":"IF(ISBLANK(B7),\"\",COUNTA(#REF!))","v":""},null,null,null,null,null,null,null,null,null,null,{"$f":"IF(AND(K7<>\"\",ISBLANK(N7),K7<TODAY()),\"Oui\",\"Non\")","v":"Non"},{"$f":"IF(ISBLANK(I7),\"\",IF(K7=\"\",\"délai à préciser\",IF(M7=\"\",\"statut à préciser\",IF(M7=\"finalisée\",IF(N7=\"\",\"date de solde à préciser\",IF(K7>=N7,\"fait\",\"retard\")),(IF(K7<TODAY(),\"retard\",\"Ok\"))))))","v":""},{"$f":"IF(AND(N7<>\"\",ISBLANK(N7),K7<TODAY()),\"Oui\",\"Non\")","v":"Non"},null,{"$f":"IF(ISBLANK(H7),\"\",IF(OR(H7=\"Préventive\",H7=\"Corrective\"),\"Oui\",\"Non\"))","v":""},null,null,null,null,null,{"$f":"IF(AND(U7<>\"\",ISBLANK(X7),U7<TODAY()),\"Oui\",\"Non\")","v":"Non"},{"$f":"IF(AND(S7=\"Oui\",ISBLANK(X7)),\"Oui\",\"Non\")","v":"Non"},null,null,null,null,{"$f":"IF(K7=\"\",\"\",K7-TODAY())","v":""},{"$f":"IF(ISBLANK(F7),CONCATENATE(E7,\" - \",AG7),CONCATENATE(F7,\" - \",AG7))","v":" - "},{"$f":"IF(ISBLANK(B7),\"\",YEAR(C7))","v":""},{"$f":"CONCATENATE(H7,\"-\",AG7)","v":"-"},{"$f":"CONCATENATE(M7,\"-\",AH7)","v":"--"}]
["",null,null,{"$f":"IF(ISBLANK(B8),\"\",COUNTA(#REF!))","v":""},null,null,null,null,null,null,null,null,null,null,{"$f":"IF(AND(K8<>\"\",ISBLANK(N8),K8<TODAY()),\"Oui\",\"Non\")","v":"Non"},"",{"$f":"IF(AND(N8<>\"\",ISBLANK(N8),K8<TODAY()),\"Oui\",\"Non\")","v":"Non"},null,"",null,null,null,null,null,{"$f":"IF(AND(U8<>\"\",ISBLANK(X8),U8<TODAY()),\"Oui\",\"Non\")","v":"Non"},{"$f":"IF(AND(S7=\"Oui\",ISBLANK(X8)),\"Oui\",\"Non\")","v":"Non"},null,null,null,null,{"$f":"IF(K8=\"\",\"\",K8-TODAY())","v":""},{"$f":"IF(ISBLANK(F8),CONCATENATE(E8,\" - \",AG8),CONCATENATE(F8,\" - \",AG8))","v":" - "},{"$f":"IF(ISBLANK(B8),\"\",YEAR(C8))","v":""},{"$f":"CONCATENATE(H8,\"-\",AG8)","v":"-"},{"$f":"CONCATENATE(M8,\"-\",AH8)","v":"--"}]
["",null,null,{"$f":"IF(ISBLANK(B9),\"\",COUNTA(#REF!))","v":""},null,null,null,null,null,null,null,null,null,null,"Non","","Non",null,"",null,null,null,null,null,{"$f":"IF(AND(U9<>\"\",ISBLANK(X9),U9<TODAY()),\"Oui\",\"Non\")","v":"Non"},{"$f":"IF(AND(S9=\"Oui\",ISBLANK(X9)),\"Oui\",\"Non\")","v":"Non"},null,null,null,null,""," - ","","-","--"]
["",null,null,{"$f":"IF(ISBLANK(B10),\"\",COUNTA(#REF!))","v":""},null,null,null,null,null,null,null,null,null,null,"Non","","Non",null,"",null,null,null,null,null,null,null,null,null,null,null,""," - ","","-","--"]
["",null,null,{"$f":"IF(ISBLANK(B11),\"\",COUNTA(#REF!))","v":""},null,null,null,null,null,null,null,null,null,null,"Non","","Non",null,"",null,null,null,null,null,{"$f":"IF(AND(U11<>\"\",ISBLANK(X11),U11<TODAY()),\"Oui\",\"Non\")","v":"Non"},{"$f":"IF(AND(S10=\"Oui\",ISBLANK(X11)),\"Oui\",\"Non\")","v":"Non"},null,null,null,null,""," - ","","-","--"]
["",null,null,{"$f":"IF(ISBLANK(B12),\"\",COUNTA(#REF!))","v":""},null,null,null,null,null,null,null,null,null,null,"Non","","Non",null,"",null,null,null,null,null,{"$f":"IF(AND(U12<>\"\",ISBLANK(X12),U12<TODAY()),\"Oui\",\"Non\")","v":"Non"},{"$f":"IF(AND(S11=\"Oui\",ISBLANK(X12)),\"Oui\",\"Non\")","v":"Non"},null,null,null,null,""," - ","","-","--"]
["",null,null,{"$f":"IF(ISBLANK(B13),\"\",COUNTA(#REF!))","v":""},null,null,null,null,null,null,null,null,null,null,"Non","","Non",null,"",null,null,null,null,null,"Non","Non",null,null,null,null,""," - ","","-","--"]
["",null,null,{"$f":"IF(ISBLANK(B14),\"\",COUNTA(#REF!))","v":""},null,null,null,null,null,null,null,null,null,null,"Non","","Non",null,"",null,null,null,null,null,"Non","Non",null,null,null,null,""," - ","","-","--"]
["",null,null,{"$f":"IF(ISBLANK(B15),\"\",COUNTA(#REF!))","v":""},null,null,null,null,null,null,null,null,null,null,"Non","","Non",null,"",null,null,null,null,null,{"$f":"IF(AND(U15<>\"\",ISBLANK(X15),U15<TODAY()),\"Oui\",\"Non\")","v":"Non"},{"$f":"IF(AND(S14=\"Oui\",ISBLANK(X15)),\"Oui\",\"Non\")","v":"Non"},null,null,null,null,""," - ","","-","--"]
["",null,null,{"$f":"IF(ISBLANK(B16),\"\",COUNTA(#REF!))","v":""},null,null,null,null,null,null,null,null,null,null,"Non","","Non",null,"",null,null,null,null,null,{"$f":"IF(AND(U16<>\"\",ISBLANK(X16),U16<TODAY()),\"Oui\",\"Non\")","v":"Non"},{"$f":"IF(AND(S15=\"Oui\",ISBLANK(X16)),\"Oui\",\"Non\")","v":"Non"},null,null,null,null,""," - ","","-","--"]
["",null,null,{"$f":"IF(ISBLANK(B17),\"\",COUNTA(#REF!))","v":""},null,null,null,null,null,null,null,null,null,null,"Non","","Non",null,"",null,null,null,null,null,"Non","Non",null,null,null,null,""," - ","","-","--"]
["",null,null,{"$f":"IF(ISBLANK(B18),\"\",COUNTA(#REF!))","v":""},null,null,null,null,null,null,null,null,null,null,"Non","","Non",null,"",null,null,null,null,null,"Non","Non",null,null,null,null,""," - ","","-","--"]
["",null,null,{"$f":"IF(ISBLANK(B19),\"\",COUNTA(#REF!))","v":""},null,null,null,null,null,null,null,null,null,null,"Non","","Non",null,"",null,null,null,null,null,"Non","Non",null,null,null,null,""," - ","","-","--"]
["",null,null,{"$f":"IF(ISBLANK(B20),\"\",COUNTA(#REF!))","v":""},null,null,null,null,null,null,null,null,null,null,"Non","","Non",null,"",null,null,null,null,null,"Non","Non",null,null,null,null,""," - ","","-","--"]
["",null,null,{"$f":"IF(ISBLANK(B21),\"\",COUNTA(#REF!))","v":""},null,null,null,null,null,null,null,null,null,null,"Non","","Non",null,"",null,null,null,null,null,"Non","Non",null,null,null,null,""," - ","","-","--"]
["",null,null,{"$f":"IF(ISBLANK(B22),\"\",COUNTA(#REF!))","v":""},null,null,null,null,null,null,null,null,null,null,{"$f":"IF(AND(K22<>\"\",ISBLANK(N22),K22<TODAY()),\"Oui\",\"Non\")","v":"Non"},{"$f":"IF(ISBLANK(I22),\"\",IF(K22=\"\",\"délai à préciser\",IF(M22=\"\",\"statut à préciser\",IF(M22=\"finalisée\",IF(N22=\"\",\"date de solde à préciser\",IF(K22>=N22,\"fait\",\"retard\")),(IF(K22<TODAY(),\"retard\",\"Ok\"))))))","v":""},{"$f":"IF(AND(N22<>\"\",ISBLANK(N22),K22<TODAY()),\"Oui\",\"Non\")","v":"Non"},null,"",null,null,null,null,null,"Non","Non",null,null,null,null,{"$f":"IF(K22=\"\",\"\",K22-TODAY())","v":""},{"$f":"IF(ISBLANK(F22),CONCATENATE(E22,\" - \",AG22),CONCATENATE(F22,\" - \",AG22))","v":" - "},{"$f":"IF(ISBLANK(B22),\"\",YEAR(C22))","v":""},{"$f":"CONCATENATE(H22,\"-\",AG22)","v":"-"},{"$f":"CONCATENATE(M22,\"-\",AH22)","v":"--"}]
["",null,null,{"$f":"IF(ISBLANK(B23),\"\",COUNTA(#REF!))","v":""},null,null,null,null,null,null,null,null,null,null,{"$f":"IF(AND(K23<>\"\",ISBLANK(N23),K23<TODAY()),\"Oui\",\"Non\")","v":"Non"},{"$f":"IF(ISBLANK(I23),\"\",IF(K23=\"\",\"délai à préciser\",IF(M23=\"\",\"statut à préciser\",IF(M23=\"finalisée\",IF(N23=\"\",\"date de solde à préciser\",IF(K23>=N23,\"fait\",\"retard\")),(IF(K23<TODAY(),\"retard\",\"Ok\"))))))","v":""},{"$f":"IF(AND(N23<>\"\",ISBLANK(N23),K23<TODAY()),\"Oui\",\"Non\")","v":"Non"},null,"",null,null,null,null,null,{"$f":"IF(AND(U23<>\"\",ISBLANK(X23),U23<TODAY()),\"Oui\",\"Non\")","v":"Non"},{"$f":"IF(AND(S22=\"Oui\",ISBLANK(X23)),\"Oui\",\"Non\")","v":"Non"},null,null,null,null,{"$f":"IF(K23=\"\",\"\",K23-TODAY())","v":""},{"$f":"IF(ISBLANK(F23),CONCATENATE(E23,\" - \",AG23),CONCATENATE(F23,\" - \",AG23))","v":" - "},{"$f":"IF(ISBLANK(B23),\"\",YEAR(C23))","v":""},{"$f":"CONCATENATE(H23,\"-\",AG23)","v":"-"},{"$f":"CONCATENATE(M23,\"-\",AH23)","v":"--"}]
["",null,null,{"$f":"IF(ISBLANK(B24),\"\",COUNTA(#REF!))","v":""},null,null,null,null,null,null,null,null,null,null,"Non","","Non",null,"",null,null,null,null,null,{"$f":"IF(AND(U24<>\"\",ISBLANK(X24),U24<TODAY()),\"Oui\",\"Non\")","v":"Non"},{"$f":"IF(AND(S24=\"Oui\",ISBLANK(X24)),\"Oui\",\"Non\")","v":"Non"},null,null,null,null,""," - ","","-","--"]
["",null,null,{"$f":"IF(ISBLANK(B25),\"\",COUNTA(#REF!))","v":""},null,null,null,null,null,null,null,null,null,null,"Non","","Non",null,"",null,null,null,null,null,"Non","Non",null,null,null,null,""," - ","","-","--"]
["",null,null,{"$f":"IF(ISBLANK(B26),\"\",COUNTA(#REF!))","v":""},null,null,null,null,null,null,null,null,null,null,"Non","","Non",null,"",null,null,null,null,null,{"$f":"IF(AND(U26<>\"\",ISBLANK(X26),U26<TODAY()),\"Oui\",\"Non\")","v":"Non"},{"$f":"IF(AND(S25=\"Oui\",ISBLANK(X26)),\"Oui\",\"Non\")","v":"Non"},null,null,null,null,""," - ","","-","--"]
["",null,null,{"$f":"IF(ISBLANK(B27),\"\",COUNTA(#REF!))","v":""},null,null,null,null,null,null,null,null,null,null,"Non","","Non",null,"",null,null,null,null,null,{"$f":"IF(AND(U27<>\"\",ISBLANK(X27),U27<TODAY()),\"Oui\",\"Non\")","v":"Non"},{"$f":"IF(AND(S26=\"Oui\",ISBLANK(X27)),\"Oui\",\"Non\")","v":"Non"},null,null,null,null,""," - ","","-","--"]
["",null,null,{"$f":"IF(ISBLANK(B28),\"\",COUNTA(#REF!))","v":""},null,null,null,null,null,null,null,null,null,null,"Non","","Non",null,"",null,null,null,null,null,{"$f":"IF(AND(U28<>\"\",ISBLANK(X28),U28<TODAY()),\"Oui\",\"Non\")","v":"Non"},{"$f":"IF(AND(S28=\"Oui\",ISBLANK(X28)),\"Oui\",\"Non\")","v":"Non"},null,null,null,null,""," - ","","-","--"]
["",null,null,{"$f":"IF(ISBLANK(B29),\"\",COUNTA(#REF!))","v":""},null,null,null,null,null,null,null,null,null,null,"Non","","Non",null,"",null,null,null,null,null,"Non","Non",null,null,null,null,""," - ","","-","--"]
["",null,null,{"$f":"IF(ISBLANK(B30),\"\",COUNTA(#REF!))","v":""},null,null,null,null,null,null,null,null,null,null,"Non","","Non",null,"",null,null,null,null,null,"Non","Non",null,null,null,null,""," - ","","-","--"]
["",null,null,{"$f":"IF(ISBLANK(B31),\"\",COUNTA(#REF!))","v":""},null,null,null,null,null,null,null,null,null,null,"Non","","Non",null,"",null,null,null,null,null,"Non","Non",null,null,null,null,""," - ","","-","--"]
["",null,null,{"$f":"IF(ISBLANK(B32),\"\",COUNTA(#REF!))","v":""},null,null,null,null,null,null,null,null,null,null,"Non","","Non",null,"",null,null,null,null,null,"Non","Non",null,null,null,null,""," - ","","-","--"]
["",null,null,{"$f":"IF(ISBLANK(B33),\"\",COUNTA(#REF!))","v":""},null,null,null,null,null,null,null,null,null,null,"Non","","Non",null,"",null,null,null,null,null,"Non","Non",null,null,null,null,""," - ","","-","--"]
["",null,null,{"$f":"IF(ISBLANK(B34),\"\",COUNTA(#REF!))","v":""},null,null,null,null,null,null,null,null,null,null,"Non","","Non",null,"",null,null,null,null,null,"Non","Non",null,null,null,null,""," - ","","-","--"]
["",null,null,{"$f":"IF(ISBLANK(B35),\"\",COUNTA(#REF!))","v":""},null,null,null,null,null,null,null,null,null,null,"Non","","Non",null,"",null,null,null,null,null,"Non","Non",null,null,null,null,""," - ","","-","--"]
["",null,null,{"$f":"IF(ISBLANK(B36),\"\",COUNTA(#REF!))","v":""},null,null,null,null,null,null,null,null,null,null,"Non","","Non",null,"",null,null,null,null,null,"Non","Non",null,null,null,null,""," - ","","-","--"]
["",null,null,{"$f":"IF(ISBLANK(B37),\"\",COUNTA(#REF!))","v":""},null,null,null,null,null,null,null,null,null,null,"Non","","Non",null,"",null,null,null,null,null,"Non","Non",null,null,null,null,""," - ","","-","--"]
["",null,null,{"$f":"IF(ISBLANK(B38),\"\",COUNTA(#REF!))","v":""},null,null,null,null,null,null,null,null,null,null,"Non","","Non",null,"",null,null,null,null,null,"Non","Non",null,null,null,null,""," - ","","-","--"]
["",null,null,{"$f":"IF(ISBLANK(B39),\"\",COUNTA(#REF!))","v":""},null,null,null,null,null,null,null,null,null,null,"Non","","Non",null,"",null,null,null,null,null,"Non","Non",null,null,null,null,""," - ","","-","--"]
["",null,null,{"$f":"IF(ISBLANK(B40),\"\",COUNTA(#REF!))","v":""},null,null,null,null,null,null,null,null,null,null,"Non","","Non",null,"",null,null,null,null,null,"Non","Non",null,null,null,null,""," - ","","-","--"]
["",null,null,{"$f":"IF(ISBLANK(B41),\"\",COUNTA(#REF!))","v":""},null,null,null,null,null,null,null,null,null,null,"Non","","Non",null,"",null,null,null,null,null,"Non","Non",null,null,null,null,""," - ","","-","--"]
["",null,null,{"$f":"IF(ISBLANK(B42),\"\",COUNTA(#REF!))","v":""},null,null,null,null,null,null,null,null,null,null,"Non","","Non",null,"",null,null,null,null,null,"Non","Non",null,null,null,null,""," - ","","-","--"]
["",null,null,{"$f":"IF(ISBLANK(B43),\"\",COUNTA(#REF!))","v":""},null,null,null,null,null,null,null,null,null,null,"Non","","Non",null,"",null,null,null,null,null,"Non","Non",null,null,null,null,""," - ","","-","--"]
["",null,null,{"$f":"IF(ISBLANK(B44),\"\",COUNTA(#REF!))","v":""},null,null,null,null,null,null,null,null,null,null,"Non","","Non",null,"",null,null,null,null,null,"Non","Non",null,null,null,null,""," - ","","-","--"]
["",null,null,{"$f":"IF(ISBLANK(B45),\"\",COUNTA(#REF!))","v":""},null,null,null,null,null,null,null,null,null,null,"Non","","Non",null,"",null,null,null,null,null,"Non","Non",null,null,null,null,""," - ","","-","--"]
["",null,null,{"$f":"IF(ISBLANK(B46),\"\",COUNTA(#REF!))","v":""},null,null,null,null,null,null,null,null,null,null,"Non","","Non",null,"",null,null,null,null,null,"Non","Non",null,null,null,null,""," - ","","-","--"]
["",null,null,{"$f":"IF(ISBLANK(B47),\"\",COUNTA(#REF!))","v":""},null,null,null,null,null,null,null,null,null,null,"Non","","Non",null,"",null,null,null,null,null,"Non","Non",null,null,null,null,""," - ","","-","--"]
["",null,null,{"$f":"IF(ISBLANK(B48),\"\",COUNTA(#REF!))","v":""},null,null,null,null,null,null,null,null,null,null,"Non","","Non",null,"",null,null,null,null,null,"Non","Non",null,null,null,null,""," - ","","-","--"]
["",null,null,{"$f":"IF(ISBLANK(B49),\"\",COUNTA(#REF!))","v":""},null,null,null,null,null,null,null,null,null,null,"Non","","Non",null,"",null,null,null,null,null,"Non","Non",null,null,null,null,""," - ","","-","--"]
["",null,null,{"$f":"IF(ISBLANK(B50),\"\",COUNTA(#REF!))","v":""},null,null,null,null,null,null,null,null,null,null,"Non","","Non",null,"",null,null,null,null,null,"Non","Non",null,null,null,null,""," - ","","-","--"]
["",null,null,{"$f":"IF(ISBLANK(B51),\"\",COUNTA(#REF!))","v":""},null,null,null,null,null,null,null,null,null,null,"Non","","Non",null,"",null,null,null,null,null,"Non","Non",null,null,null,null,""," - ","","-","--"]
["",null,null,{"$f":"IF(ISBLANK(B52),\"\",COUNTA(#REF!))","v":""},null,null,null,null,null,null,null,null,null,null,"Non","","Non",null,"",null,null,null,null,null,"Non","Non",null,null,null,null,""," - ","","-","--"]
["",null,null,{"$f":"IF(ISBLANK(B53),\"\",COUNTA(#REF!))","v":""},null,null,null,null,null,null,null,null,null,null,"Non","","Non",null,"",null,null,null,null,null,"Non","Non",null,null,null,null,""," - ","","-","--"]
["",null,null,{"$f":"IF(ISBLANK(B54),\"\",COUNTA(#REF!))","v":""},null,null,null,null,null,null,null,null,null,null,"Non","","Non",null,"",null,null,null,null,null,"Non","Non",null,null,null,null,""," - ","","-","--"]
["",null,null,{"$f":"IF(ISBLANK(B55),\"\",COUNTA(#REF!))","v":""},null,null,null,null,null,null,null,null,null,null,"Non","","Non",null,"",null,null,null,null,null,"Non","Non",null,null,null,null,""," - ","","-","--"]
["",null,null,{"$f":"IF(ISBLANK(B56),\"\",COUNTA(#REF!))","v":""},null,null,null,null,null,null,null,null,null,null,"Non","","Non",null,"",null,null,null,null,null,"Non","Non",null,null,null,null,""," - ","","-","--"]
["",null,null,{"$f":"IF(ISBLANK(B57),\"\",COUNTA(#REF!))","v":""},null,null,null,null,null,null,null,null,null,null,"Non","","Non",null,"",null,null,null,null,null,"Non","Non",null,null,null,null,""," - ","","-","--"]
["",null,null,{"$f":"IF(ISBLANK(B58),\"\",COUNTA(#REF!))","v":""},null,null,null,null,null,null,null,null,null,null,"Non","","Non",null,"",null,null,null,null,null,"Non","Non",null,null,null,null,""," - ","","-","--"]
["",null,null,{"$f":"IF(ISBLANK(B59),\"\",COUNTA(#REF!))","v":""},null,null,null,null,null,null,null,null,null,null,"Non","","Non",null,"",null,null,null,null,null,"Non","Non",null,null,null,null,""," - ","","-","--"]
["",null,null,{"$f":"IF(ISBLANK(B60),\"\",COUNTA(#REF!))","v":""},null,null,null,null,null,null,null,null,null,null,"Non","","Non",null,"",null,null,null,null,null,"Non","Non",null,null,null,null,""," - ","","-","--"]
["",null,null,{"$f":"IF(ISBLANK(B61),\"\",COUNTA(#REF!))","v":""},null,null,null,null,null,null,null,null,null,null,"Non","","Non",null,"",null,null,null,null,null,"Non","Non",null,null,null,null,""," - ","","-","--"]
["",null,null,{"$f":"IF(ISBLANK(B62),\"\",COUNTA(#REF!))","v":""},null,null,null,null,null,null,null,null,null,null,"Non","","Non",null,"",null,null,null,null,null,"Non","Non",null,null,null,null,""," - ","","-","--"]
["",null,null,{"$f":"IF(ISBLANK(B63),\"\",COUNTA(#REF!))","v":""},null,null,null,null,null,null,null,null,null,null,"Non","","Non",null,"",null,null,null,null,null,"Non","Non",null,null,null,null,""," - ","","-","--"]
["",null,null,{"$f":"IF(ISBLANK(B64),\"\",COUNTA(#REF!))","v":""},null,null,null,null,null,null,null,null,null,null,"Non","","Non",null,"",null,null,null,null,null,"Non","Non",null,null,null,null,""," - ","","-","--"]
["",null,null,{"$f":"IF(ISBLANK(B65),\"\",COUNTA(#REF!))","v":""},null,null,null,null,null,null,null,null,null,null,"Non","","Non",null,"",null,null,null,null,null,"Non","Non",null,null,null,null,""," - ","","-","--"]
["",null,null,{"$f":"IF(ISBLANK(B66),\"\",COUNTA(#REF!))","v":""},null,null,null,null,null,null,null,null,null,null,"Non","","Non",null,"",null,null,null,null,null,"Non","Non",null,null,null,null,""," - ","","-","--"]
["",null,null,{"$f":"IF(ISBLANK(B67),\"\",COUNTA(#REF!))","v":""},null,null,null,null,null,null,null,null,null,null,"Non","","Non",null,"",null,null,null,null,null,"Non","Non",null,null,null,null,""," - ","","-","--"]
["",null,null,{"$f":"IF(ISBLANK(B68),\"\",COUNTA(#REF!))","v":""},null,null,null,null,null,null,null,null,null,null,"Non","","Non",null,"",null,null,null,null,null,"Non","Non",null,null,null,null,""," - ","","-","--"]
["",null,null,{"$f":"IF(ISBLANK(B69),\"\",COUNTA(#REF!))","v":""},null,null,null,null,null,null,null,null,null,null,"Non","","Non",null,"",null,null,null,null,null,"Non","Non",null,null,null,null,""," - ","","-","--"]
["",null,null,{"$f":"IF(ISBLANK(B70),\"\",COUNTA(#REF!))","v":""},null,null,null,null,null,null,null,null,null,null,"Non","","Non",null,"",null,null,null,null,null,"Non","Non",null,null,null,null,""," - ","","-","--"]
["",null,null,{"$f":"IF(ISBLANK(B71),\"\",COUNTA(#REF!))","v":""},null,null,null,null,null,null,null,null,null,null,"Non","","Non",null,{"$f":"IF(ISBLANK(H71),\"\",IF(OR(H71=\"Préventive\",H71=\"Corrective\"),\"Oui\",\"Non\"))","v":""},null,null,null,null,null,"Non","Non",null,null,null,null,""," - ","","-","--"]
[{"$f":"IF(ISBLANK(B72),\"\",$C$2)","v":""},null,null,{"$f":"IF(ISBLANK(B72),\"\",COUNTA(#REF!))","v":""},null,null,null,null,null,null,null,null,null,null,{"$f":"IF(AND(K72<>\"\",ISBLANK(N72),K72<TODAY()),\"Oui\",\"Non\")","v":"Non"},"",{"$f":"IF(AND(N72<>\"\",ISBLANK(N72),K72<TODAY()),\"Oui\",\"Non\")","v":"Non"},null,"",null,null,null,null,null,"Non","Non",null,null,null,null,{"$f":"IF(K72=\"\",\"\",K72-TODAY())","v":""},{"$f":"IF(ISBLANK(F72),CONCATENATE(E72,\" - \",AG72),CONCATENATE(F72,\" - \",AG72))","v":" - "},{"$f":"IF(ISBLANK(B72),\"\",YEAR(C72))","v":""},{"$f":"CONCATENATE(H72,\"-\",AG72)","v":"-"},{"$f":"CONCATENATE(M72,\"-\",AH72)","v":"--"}]
["",null,null,{"$f":"IF(ISBLANK(B73),\"\",COUNTA(#REF!))","v":""},null,null,null,null,null,null,null,null,null,null,"Non","","Non",null,"",null,null,null,null,null,{"$f":"IF(AND(U73<>\"\",ISBLANK(X73),U73<TODAY()),\"Oui\",\"Non\")","v":"Non"},{"$f":"IF(AND(S73=\"Oui\",ISBLANK(X73)),\"Oui\",\"Non\")","v":"Non"},null,null,null,null,""," - ","","-","--"]
["",null,null,{"$f":"IF(ISBLANK(B74),\"\",COUNTA(#REF!))","v":""},null,null,null,null,null,null,null,null,null,null,"Non","","Non",null,"",null,null,null,null,null,"Non","Non",null,null,null,null,""," - ","","-","--"]
["",null,null,{"$f":"IF(ISBLANK(B75),\"\",COUNTA(#REF!))","v":""},null,null,null,null,null,null,null,null,null,null,"Non","","Non",null,"",null,null,null,null,null,"Non","Non",null,null,null,null,""," - ","","-","--"]
["",null,null,{"$f":"IF(ISBLANK(B76),\"\",COUNTA(#REF!))","v":""},null,null,null,null,null,null,null,null,null,null,"Non","","Non",null,"",null,null,null,null,null,"Non","Non",null,null,null,null,""," - ","","-","--"]
["",null,null,{"$f":"IF(ISBLANK(B77),\"\",COUNTA(#REF!))","v":""},null,null,null,null,null,null,null,null,null,null,"Non","","Non",null,"",null,null,null,null,null,"Non","Non",null,null,null,null,""," - ","","-","--"]
["",null,null,{"$f":"IF(ISBLANK(B78),\"\",COUNTA(#REF!))","v":""},null,null,null,null,null,null,null,null,null,null,"Non","","Non",null,"",null,null,null,null,null,"Non","Non",null,null,null,null,""," - ","","-","--"]
["",null,null,{"$f":"IF(ISBLANK(B79),\"\",COUNTA(#REF!))","v":""},null,null,null,null,null,null,null,null,null,null,"Non","","Non",null,"",null,null,null,null,null,"Non","Non",null,null,null,null,""," - ","","-","--"]
["",null,null,{"$f":"IF(ISBLANK(B80),\"\",COUNTA(#REF!))","v":""},null,null,null,null,null,null,null,null,null,null,"Non","","Non",null,"",null,null,null,null,null,"Non","Non",null,null,null,null,""," - ","","-","--"]
["",null,null,{"$f":"IF(ISBLANK(B81),\"\",COUNTA(#REF!))","v":""},null,null,null,null,null,null,null,null,null,null,"Non","","Non",null,"",null,null,null,null,null,"Non","Non",null,null,null,null,""," - ","","-","--"]
["",null,null,{"$f":"IF(ISBLANK(B82),\"\",COUNTA(#REF!))","v":""},null,null,null,null,null,null,null,null,null,null,"Non","","Non",null,"",null,null,null,null,null,"Non","Non",null,null,null,null,{"$f":"IF(K82=\"\",\"\",K82-TODAY())","v":""},{"$f":"IF(ISBLANK(F82),CONCATENATE(E82,\" - \",AG82),CONCATENATE(F82,\" - \",AG82))","v":" - "},{"$f":"IF(ISBLANK(B82),\"\",YEAR(C82))","v":""},{"$f":"CONCATENATE(H82,\"-\",AG82)","v":"-"},"--"]
["",null,null,{"$f":"IF(ISBLANK(B83),\"\",COUNTA(#REF!))","v":""},null,null,null,null,null,null,null,null,null,null,"Non","","Non",null,"",null,null,null,null,null,"Non","Non",null,null,null,null,{"$f":"IF(K83=\"\",\"\",K83-TODAY())","v":""},{"$f":"IF(ISBLANK(F83),CONCATENATE(E83,\" - \",AG83),CONCATENATE(F83,\" - \",AG83))","v":" - "},{"$f":"IF(ISBLANK(B83),\"\",YEAR(C83))","v":""},{"$f":"CONCATENATE(H83,\"-\",AG83)","v":"-"},"--"]
["",null,null,{"$f":"IF(ISBLANK(B84),\"\",COUNTA(#REF!))","v":""},null,null,null,null,null,null,null,null,null,null,"Non","","Non",null,"",null,null,null,null,null,"Non","Non",null,null,null,null,""," - ","","-","--"]
["",null,null,{"$f":"IF(ISBLANK(B85),\"\",COUNTA(#REF!))","v":""},null,null,null,null,null,null,null,null,null,null,"Non","","Non",null,"",null,null,null,null,null,"Non","Non",null,null,null,null,""," - ","","-","--"]
["",null,null,{"$f":"IF(ISBLANK(B86),\"\",COUNTA(#REF!))","v":""},null,null,null,null,null,null,null,null,null,null,"Non","","Non",null,"",null,null,null,null,null,"Non","Non",null,null,null,null,""," - ","","-","--"]
["",null,null,{"$f":"IF(ISBLANK(B87),\"\",COUNTA(#REF!))","v":""},null,null,null,null,null,null,null,null,null,null,"Non",{"$f":"IF(ISBLANK(I87),\"\",IF(K87=\"\",\"délai à préciser\",IF(M87=\"\",\"statut à préciser\",IF(M87=\"finalisée\",IF(N87=\"\",\"date de solde à préciser\",IF(K87>=N87,\"fait\",\"retard\")),(IF(K87<TODAY(),\"retard\",\"Ok\"))))))","v":""},"Non",null,{"$f":"IF(ISBLANK(H87),\"\",IF(OR(H87=\"Préventive\",H87=\"Corrective\"),\"Oui\",\"Non\"))","v":""},null,null,null,null,null,"Non","Non",null,null,null,null,""," - ","","-","--"]
["",null,null,{"$f":"IF(ISBLANK(B88),\"\",COUNTA(#REF!))","v":""},null,null,null,null,null,null,null,null,null,null,"Non","","Non",null,{"$f":"IF(ISBLANK(H88),\"\",IF(OR(H88=\"Préventive\",H88=\"Corrective\"),\"Oui\",\"Non\"))","v":""},null,null,null,null,null,"Non","Non",null,null,null,null,""," - ","","-","--"]
["",null,null,{"$f":"IF(ISBLANK(B89),\"\",COUNTA(#REF!))","v":""},null,null,null,null,null,null,null,null,null,null,"Non","","Non",null,"",null,null,null,null,null,"Non","Non",null,null,null,null,""," - ","","-","--"]
["",null,null,{"$f":"IF(ISBLANK(B90),\"\",COUNTA(#REF!))","v":""},null,null,null,null,null,null,null,null,null,null,"Non","","Non",null,"",null,null,null,null,null,"Non","Non",null,null,null,null,""," - ","","-","--"]
["",null,null,{"$f":"IF(ISBLANK(B91),\"\",COUNTA(#REF!))","v":""},null,null,null,null,null,null,null,null,null,null,"Non","","Non",null,"",null,null,null,null,null,"Non","Non",null,null,null,null,""," - ","","-","--"]
["",null,null,{"$f":"IF(ISBLANK(B92),\"\",COUNTA(#REF!))","v":""},null,null,null,null,null,null,null,null,null,null,"Non","","Non",null,"",null,null,null,null,null,"Non","Non",null,null,null,null,""," - ","","-","--"]
["",null,null,{"$f":"IF(ISBLANK(B93),\"\",COUNTA(#REF!))","v":""},null,null,null,null,null,null,null,null,null,null,"Non","","Non",null,"",null,null,null,null,null,"Non","Non",null,null,null,null,""," - ","","-","--"]
["",null,null,{"$f":"IF(ISBLANK(B94),\"\",COUNTA(#REF!))","v":""},null,null,null,null,null,null,null,null,null,null,"Non","","Non",null,"",null,null,null,null,null,"Non","Non",null,null,null,null,""," - ","","-","--"]
["",null,null,{"$f":"IF(ISBLANK(B95),\"\",COUNTA(#REF!))","v":""},null,null,null,null,null,null,null,null,null,null,"Non","","Non",null,"",null,null,null,null,null,"Non","Non",null,null,null,null,""," - ","","-","--"]
["",null,null,{"$f":"IF(ISBLANK(B96),\"\",COUNTA(#REF!))","v":""},null,null,null,null,null,null,null,null,null,null,"Non","","Non",null,"",null,null,null,null,null,"Non","Non",null,null,null,null,""," - ","","-","--"]
["",null,null,{"$f":"IF(ISBLANK(B97),\"\",COUNTA(#REF!))","v":""},null,null,null,null,null,null,null,null,null,null,"Non","","Non",null,"",null,null,null,null,null,"Non","Non",null,null,null,null,""," - ","","-","--"]
["",null,null,{"$f":"IF(ISBLANK(B98),\"\",COUNTA(#REF!))","v":""},null,null,null,null,null,null,null,null,null,null,"Non","","Non",null,"",null,null,null,null,null,"Non","Non",null,null,null,null,""," - ","","-","--"]
["",null,null,{"$f":"IF(ISBLANK(B99),\"\",COUNTA(#REF!))","v":""},null,null,null,null,null,null,null,null,null,null,"Non","","Non",null,"",null,null,null,null,null,"Non","Non",null,null,null,null,""," - ","","-","--"]
["",null,null,{"$f":"IF(ISBLANK(B100),\"\",COUNTA(#REF!))","v":""},null,null,null,null,null,null,null,null,null,null,"Non","","Non",null,"",null,null,null,null,null,"Non","Non",null,null,null,null,""," - ","","-","--"]
["",null,null,{"$f":"IF(ISBLANK(B101),\"\",COUNTA(#REF!))","v":""},null,null,null,null,null,null,null,null,null,null,"Non","","Non",null,"",null,null,null,null,null,"Non","Non",null,null,null,null,""," - ","","-","--"]
["",null,null,{"$f":"IF(ISBLANK(B102),\"\",COUNTA(#REF!))","v":""},null,null,null,null,null,null,null,null,null,null,"Non","","Non",null,"",null,null,null,null,null,"Non","Non",null,null,null,null,""," - ","","-","--"]
["",null,null,{"$f":"IF(ISBLANK(B103),\"\",COUNTA(#REF!))","v":""},null,null,null,null,null,null,null,null,null,null,"Non","","Non",null,"",null,null,null,null,null,"Non","Non",null,null,null,null,""," - ","","-","--"]
["",null,null,{"$f":"IF(ISBLANK(B104),\"\",COUNTA(#REF!))","v":""},null,null,null,null,null,null,null,null,null,null,"Non","","Non",null,"",null,null,null,null,null,"Non","Non",null,null,null,null,""," - ","","-","--"]
["",null,null,{"$f":"IF(ISBLANK(B105),\"\",COUNTA(#REF!))","v":""},null,null,null,null,null,null,null,null,null,null,"Non","","Non",null,"",null,null,null,null,null,"Non","Non",null,null,null,null,""," - ","","-","--"]
["",null,null,{"$f":"IF(ISBLANK(B106),\"\",COUNTA(#REF!))","v":""},null,null,null,null,null,null,null,null,null,null,"Non","","Non",null,"",null,null,null,null,null,"Non","Non",null,null,null,null,""," - ","","-","--"]
["",null,null,{"$f":"IF(ISBLANK(B107),\"\",COUNTA(#REF!))","v":""},null,null,null,null,null,null,null,null,null,null,"Non","","Non",null,"",null,null,null,null,null,"Non","Non",null,null,null,null,""," - ","","-","--"]
["",null,null,{"$f":"IF(ISBLANK(B108),\"\",COUNTA(#REF!))","v":""},null,null,null,null,null,null,null,null,null,null,"Non","","Non",null,"",null,null,null,null,null,"Non","Non",null,null,null,null,""," - ","","-","--"]
["",null,null,{"$f":"IF(ISBLANK(B109),\"\",COUNTA(#REF!))","v":""},null,null,null,null,null,null,null,null,null,null,"Non","","Non",null,"",null,null,null,null,null,"Non","Non",null,null,null,null,""," - ","","-","--"]
["",null,null,{"$f":"IF(ISBLANK(B110),\"\",COUNTA(#REF!))","v":""},null,null,null,null,null,null,null,null,null,null,"Non","","Non",null,"",null,null,null,null,null,"Non","Non",null,null,null,null,""," - ","","-","--"]
["",null,null,{"$f":"IF(ISBLANK(B111),\"\",COUNTA(#REF!))","v":""},null,null,null,null,null,null,null,null,null,null,"Non","","Non",null,"",null,null,null,null,null,"Non","Non",null,null,null,null,""," - ","","-","--"]
["",null,null,{"$f":"IF(ISBLANK(B112),\"\",COUNTA(#REF!))","v":""},null,null,null,null,null,null,null,null,null,null,"Non","","Non",null,"",null,null,null,null,null,"Non","Non",null,null,null,null,""," - ","","-","--"]
["",null,null,{"$f":"IF(ISBLANK(B113),\"\",COUNTA(#REF!))","v":""},null,null,null,null,null,null,null,null,null,null,"Non","","Non",null,"",null,null,null,null,null,"Non","Non",null,null,null,null,""," - ","","-","--"]
["",null,null,{"$f":"IF(ISBLANK(B114),\"\",COUNTA(#REF!))","v":""},null,null,null,null,null,null,null,null,null,null,"Non","","Non",null,"",null,null,null,null,null,"Non","Non",null,null,null,null,""," - ","","-","--"]
["",null,null,{"$f":"IF(ISBLANK(B115),\"\",COUNTA(#REF!))","v":""},null,null,null,null,null,null,null,null,null,null,"Non","","Non",null,"",null,null,null,null,null,"Non","Non",null,null,null,null,""," - ","","-","--"]
["",null,null,{"$f":"IF(ISBLANK(B116),\"\",COUNTA(#REF!))","v":""},null,null,null,null,null,null,null,null,null,null,"Non","","Non",null,"",null,null,null,null,null,"Non","Non",null,null,null,null,""," - ","","-","--"]
["",null,null,{"$f":"IF(ISBLANK(B117),\"\",COUNTA(#REF!))","v":""},null,null,null,null,null,null,null,null,null,null,"Non","","Non",null,"",null,null,null,null,null,"Non","Non",null,null,null,null,""," - ","","-","--"]
["",null,null,{"$f":"IF(ISBLANK(B118),\"\",COUNTA(#REF!))","v":""},null,null,null,null,null,null,null,null,null,null,"Non","","Non",null,"",null,null,null,null,null,"Non","Non",null,null,null,null,""," - ","","-","--"]
["",null,null,{"$f":"IF(ISBLANK(B119),\"\",COUNTA(#REF!))","v":""},null,null,null,null,null,null,null,null,null,null,"Non","","Non",null,"",null,null,null,null,null,"Non","Non",null,null,null,null,""," - ","","-","--"]
["",null,null,{"$f":"IF(ISBLANK(B120),\"\",COUNTA(#REF!))","v":""},null,null,null,null,null,null,null,null,null,null,"Non","","Non",null,"",null,null,null,null,null,"Non","Non",null,null,null,null,""," - ","","-","--"]
["",null,null,{"$f":"IF(ISBLANK(B121),\"\",COUNTA(#REF!))","v":""},null,null,null,null,null,null,null,null,null,null,"Non","","Non",null,"",null,null,null,null,null,"Non","Non",null,null,null,null,""," - ","","-","--"]
["",null,null,{"$f":"IF(ISBLANK(B122),\"\",COUNTA(#REF!))","v":""},null,null,null,null,null,null,null,null,null,null,"Non","","Non",null,"",null,null,null,null,null,"Non","Non",null,null,null,null,""," - ","","-","--"]
["",null,null,{"$f":"IF(ISBLANK(B123),\"\",COUNTA(#REF!))","v":""},null,null,null,null,null,null,null,null,null,null,"Non","","Non",null,"",null,null,null,null,null,"Non","Non",null,null,null,null,""," - ","","-","--"]
["",null,null,{"$f":"IF(ISBLANK(B124),\"\",COUNTA(#REF!))","v":""},null,null,null,null,null,null,null,null,null,null,"Non","","Non",null,"",null,null,null,null,null,"Non","Non",null,null,null,null,""," - ","","-","--"]
["",null,null,{"$f":"IF(ISBLANK(B125),\"\",COUNTA(#REF!))","v":""},null,null,null,null,null,null,null,null,null,null,"Non","","Non",null,"",null,null,null,null,null,"Non","Non",null,null,null,null,""," - ","","-","--"]
["",null,null,{"$f":"IF(ISBLANK(B126),\"\",COUNTA(#REF!))","v":""},null,null,null,null,null,null,null,null,null,null,"Non","","Non",null,"",null,null,null,null,null,"Non","Non",null,null,null,null,""," - ","","-","--"]
["",null,null,{"$f":"IF(ISBLANK(B127),\"\",COUNTA(#REF!))","v":""},null,null,null,null,null,null,null,null,null,null,"Non","","Non",null,"",null,null,null,null,null,"Non","Non",null,null,null,null,""," - ","","-","--"]
["",null,null,{"$f":"IF(ISBLANK(B128),\"\",COUNTA(#REF!))","v":""},null,null,null,null,null,null,null,null,null,null,"Non","","Non",null,"",null,null,null,null,null,"Non","Non",null,null,null,null,""," - ","","-","--"]
["",null,null,{"$f":"IF(ISBLANK(B129),\"\",COUNTA(#REF!))","v":""},null,null,null,null,null,null,null,null,null,null,"Non","","Non",null,"",null,null,null,null,null,"Non","Non",null,null,null,null,""," - ","","-","--"]
["",null,null,{"$f":"IF(ISBLANK(B130),\"\",COUNTA(#REF!))","v":""},null,null,null,null,null,null,null,null,null,null,"Non","","Non",null,"",null,null,null,null,null,"Non","Non",null,null,null,null,""," - ","","-","--"]
["",null,null,{"$f":"IF(ISBLANK(B131),\"\",COUNTA(#REF!))","v":""},null,null,null,null,null,null,null,null,null,null,"Non","","Non",null,"",null,null,null,null,null,"Non","Non",null,null,null,null,""," - ","","-","--"]
["",null,null,{"$f":"IF(ISBLANK(B132),\"\",COUNTA(#REF!))","v":""},null,null,null,null,null,null,null,null,null,null,"Non","","Non",null,"",null,null,null,null,null,"Non","Non",null,null,null,null,""," - ","","-","--"]
["",null,null,{"$f":"IF(ISBLANK(B133),\"\",COUNTA(#REF!))","v":""},null,null,null,null,null,null,null,null,null,null,"Non","","Non",null,"",null,null,null,null,null,"Non","Non",null,null,null,null,""," - ","","-","--"]
["",null,null,{"$f":"IF(ISBLANK(B134),\"\",COUNTA(#REF!))","v":""},null,null,null,null,null,null,null,null,null,null,"Non","","Non",null,"",null,null,null,null,null,"Non","Non",null,null,null,null,""," - ","","-","--"]
["",null,null,{"$f":"IF(ISBLANK(B135),\"\",COUNTA(#REF!))","v":""},null,null,null,null,null,null,null,null,null,null,"Non","","Non",null,"",null,null,null,null,null,"Non","Non",null,null,null,null,""," - ","","-","--"]
[{"$f":"IF(ISBLANK(B136),\"\",$C$2)","v":""},null,null,{"$f":"IF(ISBLANK(B136),\"\",COUNTA(#REF!))","v":""},null,null,null,null,null,null,null,null,null,null,{"$f":"IF(AND(K136<>\"\",ISBLANK(N136),K136<TODAY()),\"Oui\",\"Non\")","v":"Non"},"",{"$f":"IF(AND(N136<>\"\",ISBLANK(N136),K136<TODAY()),\"Oui\",\"Non\")","v":"Non"},null,"",null,null,null,null,null,"Non","Non",null,null,null,null,""," - ","","-",{"$f":"CONCATENATE(M136,\"-\",AH136)","v":"--"}]
["",null,null,{"$f":"IF(ISBLANK(B137),\"\",COUNTA(#REF!))","v":""},null,null,null,null,null,null,null,null,null,null,"Non","","Non",null,"",null,null,null,null,null,{"$f":"IF(AND(U137<>\"\",ISBLANK(X137),U137<TODAY()),\"Oui\",\"Non\")","v":"Non"},{"$f":"IF(AND(S137=\"Oui\",ISBLANK(X137)),\"Oui\",\"Non\")","v":"Non"},null,null,null,null,""," - ","","-","--"]
["",null,null,{"$f":"IF(ISBLANK(B138),\"\",COUNTA(#REF!))","v":""},null,null,null,null,null,null,null,null,null,null,"Non","","Non",null,"",null,null,null,null,null,"Non","Non",null,null,null,null,""," - ","","-","--"]
["",null,null,{"$f":"IF(ISBLANK(B139),\"\",COUNTA(#REF!))","v":""},null,null,null,null,null,null,null,null,null,null,"Non","","Non",null,"",null,null,null,null,null,"Non","Non",null,null,null,null,""," - ","","-","--"]
["",null,null,{"$f":"IF(ISBLANK(B140),\"\",COUNTA(#REF!))","v":""},null,null,null,null,null,null,null,null,null,null,"Non","","Non",null,"",null,null,null,null,null,"Non","Non",null,null,null,null,""," - ","","-","--"]
["",null,null,{"$f":"IF(ISBLANK(B141),\"\",COUNTA(#REF!))","v":""},null,null,null,null,null,null,null,null,null,null,"Non","","Non",null,"",null,null,null,null,null,"Non","Non",null,null,null,null,""," - ","","-","--"]
["",null,null,{"$f":"IF(ISBLANK(B142),\"\",COUNTA(#REF!))","v":""},null,null,null,null,null,null,null,null,null,null,"Non","","Non",null,"",null,null,null,null,null,"Non","Non",null,null,null,null,""," - ","","-","--"]
["",null,null,{"$f":"IF(ISBLANK(B143),\"\",COUNTA(#REF!))","v":""},null,null,null,null,null,null,null,null,null,null,"Non","","Non",null,"",null,null,null,null,null,"Non","Non",null,null,null,null,""," - ","","-","--"]
["",null,null,{"$f":"IF(ISBLANK(B144),\"\",COUNTA(#REF!))","v":""},null,null,null,null,null,null,null,null,null,null,"Non","","Non",null,"",null,null,null,null,null,"Non","Non",null,null,null,null,""," - ","","-","--"]
["",null,null,{"$f":"IF(ISBLANK(B145),\"\",COUNTA(#REF!))","v":""},null,null,null,null,null,null,null,null,null,null,"Non","","Non",null,"",null,null,null,null,null,"Non","Non",null,null,null,null,""," - ","","-","--"]
["",null,null,{"$f":"IF(ISBLANK(B146),\"\",COUNTA(#REF!))","v":""},null,null,null,null,null,null,null,null,null,null,"Non","","Non",null,"",null,null,null,null,null,"Non","Non",null,null,null,null,""," - ","","-","--"]
["",null,null,{"$f":"IF(ISBLANK(B147),\"\",COUNTA(#REF!))","v":""},null,null,null,null,null,null,null,null,null,null,"Non","","Non",null,"",null,null,null,null,null,"Non","Non",null,null,null,null,{"$f":"IF(K147=\"\",\"\",K147-TODAY())","v":""},{"$f":"IF(ISBLANK(F147),CONCATENATE(E147,\" - \",AG147),CONCATENATE(F147,\" - \",AG147))","v":" - "},{"$f":"IF(ISBLANK(B147),\"\",YEAR(C147))","v":""},{"$f":"CONCATENATE(H147,\"-\",AG147)","v":"-"},"--"]
["",null,null,{"$f":"IF(ISBLANK(B148),\"\",COUNTA(#REF!))","v":""},null,null,null,null,null,null,null,null,null,null,"Non","","Non",null,"",null,null,null,null,null,"Non","Non",null,null,null,null,""," - ","","-","--"]
["",null,null,{"$f":"IF(ISBLANK(B149),\"\",COUNTA(#REF!))","v":""},null,null,null,null,null,null,null,null,null,null,"Non","","Non",null,"",null,null,null,null,null,"Non","Non",null,null,null,null,""," - ","","-","--"]
["",null,null,{"$f":"IF(ISBLANK(B150),\"\",COUNTA(#REF!))","v":""},null,null,null,null,null,null,null,null,null,null,"Non","","Non",null,"",null,null,null,null,null,"Non","Non",null,null,null,null,""," - ","","-","--"]
["",null,null,{"$f":"IF(ISBLANK(B151),\"\",COUNTA(#REF!))","v":""},null,null,null,null,null,null,null,null,null,null,"Non",{"$f":"IF(ISBLANK(I151),\"\",IF(K151=\"\",\"délai à préciser\",IF(M151=\"\",\"statut à préciser\",IF(M151=\"finalisée\",IF(N151=\"\",\"date de solde à préciser\",IF(K151>=N151,\"fait\",\"retard\")),(IF(K151<TODAY(),\"retard\",\"Ok\"))))))","v":""},"Non",null,"",null,null,null,null,null,"Non","Non",null,null,null,null,""," - ","","-","--"]
["",null,null,{"$f":"IF(ISBLANK(B152),\"\",COUNTA(#REF!))","v":""},null,null,null,null,null,null,null,null,null,null,"Non","","Non",null,{"$f":"IF(ISBLANK(H152),\"\",IF(OR(H152=\"Préventive\",H152=\"Corrective\"),\"Oui\",\"Non\"))","v":""},null,null,null,null,null,"Non","Non",null,null,null,null,""," - ","","-","--"]
["",null,null,{"$f":"IF(ISBLANK(B153),\"\",COUNTA(#REF!))","v":""},null,null,null,null,null,null,null,null,null,null,"Non","","Non",null,"",null,null,null,null,null,"Non","Non",null,null,null,null,""," - ","","-","--"]
["",null,null,{"$f":"IF(ISBLANK(B154),\"\",COUNTA(#REF!))","v":""},null,null,null,null,null,null,null,null,null,null,"Non","","Non",null,"",null,null,null,null,null,"Non","Non",null,null,null,null,""," - ","","-","--"]
["",null,null,{"$f":"IF(ISBLANK(B155),\"\",COUNTA(#REF!))","v":""},null,null,null,null,null,null,null,null,null,null,"Non","","Non",null,"",null,null,null,null,null,"Non","Non",null,null,null,null,""," - ","","-","--"]
["",null,null,{"$f":"IF(ISBLANK(B156),\"\",COUNTA(#REF!))","v":""},null,null,null,null,null,null,null,null,null,null,"Non","","Non",null,"",null,null,null,null,null,"Non","Non",null,null,null,null,""," - ","","-","--"]
["",null,null,{"$f":"IF(ISBLANK(B157),\"\",COUNTA(#REF!))","v":""},null,null,null,null,null,null,null,null,null,null,"Non","","Non",null,"",null,null,null,null,null,"Non","Non",null,null,null,null,""," - ","","-","--"]
["",null,null,{"$f":"IF(ISBLANK(B158),\"\",COUNTA(#REF!))","v":""},null,null,null,null,null,null,null,null,null,null,"Non","","Non",null,"",null,null,null,null,null,"Non","Non",null,null,null,null,""," - ","","-","--"]
["",null,null,{"$f":"IF(ISBLANK(B159),\"\",COUNTA(#REF!))","v":""},null,null,null,null,null,null,null,null,null,null,"Non","","Non",null,"",null,null,null,null,null,"Non","Non",null,null,null,null,""," - ","","-","--"]
["",null,null,{"$f":"IF(ISBLANK(B160),\"\",COUNTA(#REF!))","v":""},null,null,null,null,null,null,null,null,null,null,"Non","","Non",null,"",null,null,null,null,null,"Non","Non",null,null,null,null,""," - ","","-","--"]
["",null,null,{"$f":"IF(ISBLANK(B161),\"\",COUNTA(#REF!))","v":""},null,null,null,null,null,null,null,null,null,null,"Non","","Non",null,"",null,null,null,null,null,"Non","Non",null,null,null,null,""," - ","","-","--"]
["",null,null,{"$f":"IF(ISBLANK(B162),\"\",COUNTA(#REF!))","v":""},null,null,null,null,null,null,null,null,null,null,"Non","","Non",null,"",null,null,null,null,null,"Non","Non",null,null,null,null,""," - ","","-","--"]
["",null,null,{"$f":"IF(ISBLANK(B163),\"\",COUNTA(#REF!))","v":""},null,null,null,null,null,null,null,null,null,null,"Non","","Non",null,"",null,null,null,null,null,"Non","Non",null,null,null,null,""," - ","","-","--"]
["",null,null,{"$f":"IF(ISBLANK(B164),\"\",COUNTA(#REF!))","v":""},null,null,null,null,null,null,null,null,null,null,"Non","","Non",null,"",null,null,null,null,null,"Non","Non",null,null,null,null,""," - ","","-","--"]
["",null,null,{"$f":"IF(ISBLANK(B165),\"\",COUNTA(#REF!))","v":""},null,null,null,null,null,null,null,null,null,null,"Non","","Non",null,"",null,null,null,null,null,"Non","Non",null,null,null,null,""," - ","","-","--"]
["",null,null,{"$f":"IF(ISBLANK(B166),\"\",COUNTA(#REF!))","v":""},null,null,null,null,null,null,null,null,null,null,"Non","","Non",null,"",null,null,null,null,null,"Non","Non",null,null,null,null,""," - ","","-","--"]
["",null,null,{"$f":"IF(ISBLANK(B167),\"\",COUNTA(#REF!))","v":""},null,null,null,null,null,null,null,null,null,null,"Non","","Non",null,"",null,null,null,null,null,"Non","Non",null,null,null,null,""," - ","","-","--"]
["",null,null,{"$f":"IF(ISBLANK(B168),\"\",COUNTA(#REF!))","v":""},null,null,null,null,null,null,null,null,null,null,"Non","","Non",null,"",null,null,null,null,null,"Non","Non",null,null,null,null,""," - ","","-","--"]
["",null,null,{"$f":"IF(ISBLANK(B169),\"\",COUNTA(#REF!))","v":""},null,null,null,null,null,null,null,null,null,null,"Non","","Non",null,"",null,null,null,null,null,"Non","Non",null,null,null,null,""," - ","","-","--"]
["",null,null,{"$f":"IF(ISBLANK(B170),\"\",COUNTA(#REF!))","v":""},null,null,null,null,null,null,null,null,null,null,"Non","","Non",null,"",null,null,null,null,null,"Non","Non",null,null,null,null,""," - ","","-","--"]
["",null,null,{"$f":"IF(ISBLANK(B171),\"\",COUNTA(#REF!))","v":""},null,null,null,null,null,null,null,null,null,null,"Non","","Non",null,"",null,null,null,null,null,"Non","Non",null,null,null,null,""," - ","","-","--"]
["",null,null,{"$f":"IF(ISBLANK(B172),\"\",COUNTA(#REF!))","v":""},null,null,null,null,null,null,null,null,null,null,"Non","","Non",null,"",null,null,null,null,null,"Non","Non",null,null,null,null,""," - ","","-","--"]
["",null,null,{"$f":"IF(ISBLANK(B173),\"\",COUNTA(#REF!))","v":""},null,null,null,null,null,null,null,null,null,null,"Non","","Non",null,"",null,null,null,null,null,"Non","Non",null,null,null,null,""," - ","","-","--"]
["",null,null,{"$f":"IF(ISBLANK(B174),\"\",COUNTA(#REF!))","v":""},null,null,null,null,null,null,null,null,null,null,"Non","","Non",null,"",null,null,null,null,null,"Non","Non",null,null,null,null,""," - ","","-","--"]
["",null,null,{"$f":"IF(ISBLANK(B175),\"\",COUNTA(#REF!))","v":""},null,null,null,null,null,null,null,null,null,null,"Non","","Non",null,"",null,null,null,null,null,"Non","Non",null,null,null,null,""," - ","","-","--"]
["",null,null,{"$f":"IF(ISBLANK(B176),\"\",COUNTA(#REF!))","v":""},null,null,null,null,null,null,null,null,null,null,"Non","","Non",null,"",null,null,null,null,null,"Non","Non",null,null,null,null,""," - ","","-","--"]
["",null,null,{"$f":"IF(ISBLANK(B177),\"\",COUNTA(#REF!))","v":""},null,null,null,null,null,null,null,null,null,null,"Non","","Non",null,"",null,null,null,null,null,"Non","Non",null,null,null,null,""," - ","","-","--"]
["",null,null,{"$f":"IF(ISBLANK(B178),\"\",COUNTA(#REF!))","v":""},null,null,null,null,null,null,null,null,null,null,"Non","","Non",null,"",null,null,null,null,null,"Non","Non",null,null,null,null,""," - ","","-","--"]
["",null,null,{"$f":"IF(ISBLANK(B179),\"\",COUNTA(#REF!))","v":""},null,null,null,null,null,null,null,null,null,null,"Non","","Non",null,"",null,null,null,null,null,"Non","Non",null,null,null,null,""," - ","","-","--"]
["",null,null,{"$f":"IF(ISBLANK(B180),\"\",COUNTA(#REF!))","v":""},null,null,null,null,null,null,null,null,null,null,"Non","","Non",null,"",null,null,null,null,null,"Non","Non",null,null,null,null,""," - ","","-","--"]
["",null,null,{"$f":"IF(ISBLANK(B181),\"\",COUNTA(#REF!))","v":""},null,null,null,null,null,null,null,null,null,null,"Non","","Non",null,"",null,null,null,null,null,"Non","Non",null,null,null,null,""," - ","","-","--"]
["",null,null,{"$f":"IF(ISBLANK(B182),\"\",COUNTA(#REF!))","v":""},null,null,null,null,null,null,null,null,null,null,"Non","","Non",null,"",null,null,null,null,null,"Non","Non",null,null,null,null,""," - ","","-","--"]
["",null,null,{"$f":"IF(ISBLANK(B183),\"\",COUNTA(#REF!))","v":""},null,null,null,null,null,null,null,null,null,null,"Non","","Non",null,"",null,null,null,null,null,"Non","Non",null,null,null,null,""," - ","","-","--"]
["",null,null,{"$f":"IF(ISBLANK(B184),\"\",COUNTA(#REF!))","v":""},null,null,null,null,null,null,null,null,null,null,"Non","","Non",null,"",null,null,null,null,null,"Non","Non",null,null,null,null,""," - ","","-","--"]
["",null,null,{"$f":"IF(ISBLANK(B185),\"\",COUNTA(#REF!))","v":""},null,null,null,null,null,null,null,null,null,null,"Non","","Non",null,"",null,null,null,null,null,"Non","Non",null,null,null,null,""," - ","","-","--"]
["",null,null,{"$f":"IF(ISBLANK(B186),\"\",COUNTA(#REF!))","v":""},null,null,null,null,null,null,null,null,null,null,"Non","","Non",null,"",null,null,null,null,null,"Non","Non",null,null,null,null,""," - ","","-","--"]
["",null,null,{"$f":"IF(ISBLANK(B187),\"\",COUNTA(#REF!))","v":""},null,null,null,null,null,null,null,null,null,null,"Non","","Non",null,"",null,null,null,null,null,"Non","Non",null,null,null,null,""," - ","","-","--"]
["",null,null,{"$f":"IF(ISBLANK(B188),\"\",COUNTA(#REF!))","v":""},null,null,null,null,null,null,null,null,null,null,"Non","","Non",null,"",null,null,null,null,null,"Non","Non",null,null,null,null,""," - ","","-","--"]
["",null,null,{"$f":"IF(ISBLANK(B189),\"\",COUNTA(#REF!))","v":""},null,null,null,null,null,null,null,null,null,null,"Non","","Non",null,"",null,null,null,null,null,"Non","Non",null,null,null,null,""," - ","","-","--"]
["",null,null,{"$f":"IF(ISBLANK(B190),\"\",COUNTA(#REF!))","v":""},null,null,null,null,null,null,null,null,null,null,"Non","","Non",null,"",null,null,null,null,null,"Non","Non",null,null,null,null,""," - ","","-","--"]
["",null,null,{"$f":"IF(ISBLANK(B191),\"\",COUNTA(#REF!))","v":""},null,null,null,null,null,null,null,null,null,null,"Non","","Non",null,"",null,null,null,null,null,"Non","Non",null,null,null,null,""," - ","","-","--"]
["",null,null,{"$f":"IF(ISBLANK(B192),\"\",COUNTA(#REF!))","v":""},null,null,null,null,null,null,null,null,null,null,"Non","","Non",null,"",null,null,null,null,null,"Non","Non",null,null,null,null,""," - ","","-","--"]
["",null,null,{"$f":"IF(ISBLANK(B193),\"\",COUNTA(#REF!))","v":""},null,null,null,null,null,null,null,null,null,null,"Non","","Non",null,"",null,null,null,null,null,"Non","Non",null,null,null,null,""," - ","","-","--"]
["",null,null,{"$f":"IF(ISBLANK(B194),\"\",COUNTA(#REF!))","v":""},null,null,null,null,null,null,null,null,null,null,"Non","","Non",null,"",null,null,null,null,null,"Non","Non",null,null,null,null,""," - ","","-","--"]
["",null,null,{"$f":"IF(ISBLANK(B195),\"\",COUNTA(#REF!))","v":""},null,null,null,null,null,null,null,null,null,null,"Non","","Non",null,"",null,null,null,null,null,"Non","Non",null,null,null,null,""," - ","","-","--"]
["",null,null,{"$f":"IF(ISBLANK(B196),\"\",COUNTA(#REF!))","v":""},null,null,null,null,null,null,null,null,null,null,"Non","","Non",null,"",null,null,null,null,null,"Non","Non",null,null,null,null,""," - ","","-","--"]
["",null,null,{"$f":"IF(ISBLANK(B197),\"\",COUNTA(#REF!))","v":""},null,null,null,null,null,null,null,null,null,null,"Non","","Non",null,"",null,null,null,null,null,"Non","Non",null,null,null,null,""," - ","","-","--"]
["",null,null,{"$f":"IF(ISBLANK(B198),\"\",COUNTA(#REF!))","v":""},null,null,null,null,null,null,null,null,null,null,"Non","","Non",null,"",null,null,null,null,null,"Non","Non",null,null,null,null,""," - ","","-","--"]
["",null,null,{"$f":"IF(ISBLANK(B199),\"\",COUNTA(#REF!))","v":""},null,null,null,null,null,null,null,null,null,null,"Non","","Non",null,"",null,null,null,null,null,"Non","Non",null,null,null,null,""," - ","","-","--"]
[{"$f":"IF(ISBLANK(B200),\"\",$C$2)","v":""},null,null,{"$f":"IF(ISBLANK(B200),\"\",COUNTA(#REF!))","v":""},null,null,null,null,null,null,null,null,null,null,{"$f":"IF(AND(K200<>\"\",ISBLANK(N200),K200<TODAY()),\"Oui\",\"Non\")","v":"Non"},"",{"$f":"IF(AND(N200<>\"\",ISBLANK(N200),K200<TODAY()),\"Oui\",\"Non\")","v":"Non"},null,"",null,null,null,null,null,"Non","Non",null,null,null,null,""," - ","","-",{"$f":"CONCATENATE(M200,\"-\",AH200)","v":"--"}]
["",null,null,{"$f":"IF(ISBLANK(B201),\"\",COUNTA(#REF!))","v":""},null,null,null,null,null,null,null,null,null,null,"Non","","Non",null,"",null,null,null,null,null,{"$f":"IF(AND(U201<>\"\",ISBLANK(X201),U201<TODAY()),\"Oui\",\"Non\")","v":"Non"},{"$f":"IF(AND(S201=\"Oui\",ISBLANK(X201)),\"Oui\",\"Non\")","v":"Non"},null,null,null,null,""," - ","","-","--"]
["",null,null,{"$f":"IF(ISBLANK(B202),\"\",COUNTA(#REF!))","v":""},null,null,null,null,null,null,null,null,null,null,"Non","","Non",null,"",null,null,null,null,null,"Non","Non",null,null,null,null,""," - ","","-","--"]
["",null,null,{"$f":"IF(ISBLANK(B203),\"\",COUNTA(#REF!))","v":""},null,null,null,null,null,null,null,null,null,null,"Non","","Non",null,"",null,null,null,null,null,"Non","Non",null,null,null,null,""," - ","","-","--"]
["",null,null,{"$f":"IF(ISBLANK(B204),\"\",COUNTA(#REF!))","v":""},null,null,null,null,null,null,null,null,null,null,"Non","","Non",null,"",null,null,null,null,null,"Non","Non",null,null,null,null,""," - ","","-","--"]
["",null,null,{"$f":"IF(ISBLANK(B205),\"\",COUNTA(#REF!))","v":""},null,null,null,null,null,null,null,null,null,null,"Non","","Non",null,"",null,null,null,null,null,"Non","Non",null,null,null,null,""," - ","","-","--"]
["",null,null,{"$f":"IF(ISBLANK(B206),\"\",COUNTA(#REF!))","v":""},null,null,null,null,null,null,null,null,null,null,"Non","","Non",null,"",null,null,null,null,null,"Non","Non",null,null,null,null,""," - ","","-","--"]
["",null,null,{"$f":"IF(ISBLANK(B207),\"\",COUNTA(#REF!))","v":""},null,null,null,null,null,null,null,null,null,null,"Non","","Non",null,"",null,null,null,null,null,"Non","Non",null,null,null,null,""," - ","","-","--"]
["",null,null,{"$f":"IF(ISBLANK(B208),\"\",COUNTA(#REF!))","v":""},null,null,null,null,null,null,null,null,null,null,"Non","","Non",null,"",null,null,null,null,null,"Non","Non",null,null,null,null,""," - ","","-","--"]
["",null,null,{"$f":"IF(ISBLANK(B209),\"\",COUNTA(#REF!))","v":""},null,null,null,null,null,null,null,null,null,null,"Non","","Non",null,"",null,null,null,null,null,"Non","Non",null,null,null,null,""," - ","","-","--"]
["",null,null,{"$f":"IF(ISBLANK(B210),\"\",COUNTA(#REF!))","v":""},null,null,null,null,null,null,null,null,null,null,"Non","","Non",null,"",null,null,null,null,null,"Non","Non",null,null,null,null,""," - ","","-","--"]
["",null,null,{"$f":"IF(ISBLANK(B211),\"\",COUNTA(#REF!))","v":""},null,null,null,null,null,null,null,null,null,null,"Non","","Non",null,"",null,null,null,null,null,"Non","Non",null,null,null,null,{"$f":"IF(K211=\"\",\"\",K211-TODAY())","v":""},{"$f":"IF(ISBLANK(F211),CONCATENATE(E211,\" - \",AG211),CONCATENATE(F211,\" - \",AG211))","v":" - "},{"$f":"IF(ISBLANK(B211),\"\",YEAR(C211))","v":""},{"$f":"CONCATENATE(H211,\"-\",AG211)","v":"-"},"--"]
["",null,null,{"$f":"IF(ISBLANK(B212),\"\",COUNTA(#REF!))","v":""},null,null,null,null,null,null,null,null,null,null,"Non","","Non",null,"",null,null,null,null,null,"Non","Non",null,null,null,null,""," - ","","-","--"]
["",null,null,{"$f":"IF(ISBLANK(B213),\"\",COUNTA(#REF!))","v":""},null,null,null,null,null,null,null,null,null,null,"Non","","Non",null,"",null,null,null,null,null,"Non","Non",null,null,null,null,""," - ","","-","--"]
["",null,null,{"$f":"IF(ISBLANK(B214),\"\",COUNTA(#REF!))","v":""},null,null,null,null,null,null,null,null,null,null,"Non","","Non",null,"",null,null,null,null,null,"Non","Non",null,null,null,null,""," - ","","-","--"]
["",null,null,{"$f":"IF(ISBLANK(B215),\"\",COUNTA(#REF!))","v":""},null,null,null,null,null,null,null,null,null,null,"Non",{"$f":"IF(ISBLANK(I215),\"\",IF(K215=\"\",\"délai à préciser\",IF(M215=\"\",\"statut à préciser\",IF(M215=\"finalisée\",IF(N215=\"\",\"date de solde à préciser\",IF(K215>=N215,\"fait\",\"retard\")),(IF(K215<TODAY(),\"retard\",\"Ok\"))))))","v":""},"Non",null,"",null,null,null,null,null,"Non","Non",null,null,null,null,""," - ","","-","--"]
["",null,null,{"$f":"IF(ISBLANK(B216),\"\",COUNTA(#REF!))","v":""},null,null,null,null,null,null,null,null,null,null,"Non","","Non",null,{"$f":"IF(ISBLANK(H216),\"\",IF(OR(H216=\"Préventive\",H216=\"Corrective\"),\"Oui\",\"Non\"))","v":""},null,null,null,null,null,"Non","Non",null,null,null,null,""," - ","","-","--"]
["",null,null,{"$f":"IF(ISBLANK(B217),\"\",COUNTA(#REF!))","v":""},null,null,null,null,null,null,null,null,null,null,"Non","","Non",null,"",null,null,null,null,null,"Non","Non",null,null,null,null,""," - ","","-","--"]
["",null,null,{"$f":"IF(ISBLANK(B218),\"\",COUNTA(#REF!))","v":""},null,null,null,null,null,null,null,null,null,null,"Non","","Non",null,"",null,null,null,null,null,"Non","Non",null,null,null,null,""," - ","","-","--"]
["",null,null,{"$f":"IF(ISBLANK(B219),\"\",COUNTA(#REF!))","v":""},null,null,null,null,null,null,null,null,null,null,"Non","","Non",null,"",null,null,null,null,null,"Non","Non",null,null,null,null,""," - ","","-","--"]
["",null,null,{"$f":"IF(ISBLANK(B220),\"\",COUNTA(#REF!))","v":""},null,null,null,null,null,null,null,null,null,null,"Non","","Non",null,"",null,null,null,null,null,"Non","Non",null,null,null,null,""," - ","","-","--"]
["",null,null,{"$f":"IF(ISBLANK(B221),\"\",COUNTA(#REF!))","v":""},null,null,null,null,null,null,null,null,null,null,"Non","","Non",null,"",null,null,null,null,null,"Non","Non",null,null,null,null,""," - ","","-","--"]
["",null,null,{"$f":"IF(ISBLANK(B222),\"\",COUNTA(#REF!))","v":""},null,null,null,null,null,null,null,null,null,null,"Non","","Non",null,"",null,null,null,null,null,"Non","Non",null,null,null,null,""," - ","","-","--"]
["",null,null,{"$f":"IF(ISBLANK(B223),\"\",COUNTA(#REF!))","v":""},null,null,null,null,null,null,null,null,null,null,"Non","","Non",null,"",null,null,null,null,null,"Non","Non",null,null,null,null,""," - ","","-","--"]
["",null,null,{"$f":"IF(ISBLANK(B224),\"\",COUNTA(#REF!))","v":""},null,null,null,null,null,null,null,null,null,null,"Non","","Non",null,"",null,null,null,null,null,"Non","Non",null,null,null,null,""," - ","","-","--"]
["",null,null,{"$f":"IF(ISBLANK(B225),\"\",COUNTA(#REF!))","v":""},null,null,null,null,null,null,null,null,null,null,"Non","","Non",null,"",null,null,null,null,null,"Non","Non",null,null,null,null,""," - ","","-","--"]
["",null,null,{"$f":"IF(ISBLANK(B226),\"\",COUNTA(#REF!))","v":""},null,null,null,null,null,null,null,null,null,null,"Non","","Non",null,"",null,null,null,null,null,"Non","Non",null,null,null,null,""," - ","","-","--"]
["",null,null,{"$f":"IF(ISBLANK(B227),\"\",COUNTA(#REF!))","v":""},null,null,null,null,null,null,null,null,null,null,"Non","","Non",null,"",null,null,null,null,null,"Non","Non",null,null,null,null,""," - ","","-","--"]
["",null,null,{"$f":"IF(ISBLANK(B228),\"\",COUNTA(#REF!))","v":""},null,null,null,null,null,null,null,null,null,null,"Non","","Non",null,"",null,null,null,null,null,"Non","Non",null,null,null,null,""," - ","","-","--"]
["",null,null,{"$f":"IF(ISBLANK(B229),\"\",COUNTA(#REF!))","v":""},null,null,null,null,null,null,null,null,null,null,"Non","","Non",null,"",null,null,null,null,null,"Non","Non",null,null,null,null,""," - ","","-","--"]
["",null,null,{"$f":"IF(ISBLANK(B230),\"\",COUNTA(#REF!))","v":""},null,null,null,null,null,null,null,null,null,null,"Non","","Non",null,"",null,null,null,null,null,"Non","Non",null,null,null,null,""," - ","","-","--"]
["",null,null,{"$f":"IF(ISBLANK(B231),\"\",COUNTA(#REF!))","v":""},null,null,null,null,null,null,null,null,null,null,"Non","","Non",null,"",null,null,null,null,null,"Non","Non",null,null,null,null,""," - ","","-","--"]
["",null,null,{"$f":"IF(ISBLANK(B232),\"\",COUNTA(#REF!))","v":""},null,null,null,null,null,null,null,null,null,null,"Non","","Non",null,"",null,null,null,null,null,"Non","Non",null,null,null,null,""," - ","","-","--"]
["",null,null,{"$f":"IF(ISBLANK(B233),\"\",COUNTA(#REF!))","v":""},null,null,null,null,null,null,null,null,null,null,"Non","","Non",null,"",null,null,null,null,null,"Non","Non",null,null,null,null,""," - ","","-","--"]
["",null,null,{"$f":"IF(ISBLANK(B234),\"\",COUNTA(#REF!))","v":""},null,null,null,null,null,null,null,null,null,null,"Non","","Non",null,"",null,null,null,null,null,"Non","Non",null,null,null,null,""," - ","","-","--"]
["",null,null,{"$f":"IF(ISBLANK(B235),\"\",COUNTA(#REF!))","v":""},null,null,null,null,null,null,null,null,null,null,"Non","","Non",null,"",null,null,null,null,null,"Non","Non",null,null,null,null,""," - ","","-","--"]
["",null,null,{"$f":"IF(ISBLANK(B236),\"\",COUNTA(#REF!))","v":""},null,null,null,null,null,null,null,null,null,null,"Non","","Non",null,"",null,null,null,null,null,"Non","Non",null,null,null,null,""," - ","","-","--"]
["",null,null,{"$f":"IF(ISBLANK(B237),\"\",COUNTA(#REF!))","v":""},null,null,null,null,null,null,null,null,null,null,"Non","","Non",null,"",null,null,null,null,null,"Non","Non",null,null,null,null,""," - ","","-","--"]
["",null,null,{"$f":"IF(ISBLANK(B238),\"\",COUNTA(#REF!))","v":""},null,null,null,null,null,null,null,null,null,null,"Non","","Non",null,"",null,null,null,null,null,"Non","Non",null,null,null,null,""," - ","","-","--"]
["",null,null,{"$f":"IF(ISBLANK(B239),\"\",COUNTA(#REF!))","v":""},null,null,null,null,null,null,null,null,null,null,"Non","","Non",null,"",null,null,null,null,null,"Non","Non",null,null,null,null,""," - ","","-","--"]
["",null,null,{"$f":"IF(ISBLANK(B240),\"\",COUNTA(#REF!))","v":""},null,null,null,null,null,null,null,null,null,null,"Non","","Non",null,"",null,null,null,null,null,"Non","Non",null,null,null,null,""," - ","","-","--"]
["",null,null,{"$f":"IF(ISBLANK(B241),\"\",COUNTA(#REF!))","v":""},null,null,null,null,null,null,null,null,null,null,"Non","","Non",null,"",null,null,null,null,null,"Non","Non",null,null,null,null,""," - ","","-","--"]
["",null,null,{"$f":"IF(ISBLANK(B242),\"\",COUNTA(#REF!))","v":""},null,null,null,null,null,null,null,null,null,null,"Non","","Non",null,"",null,null,null,null,null,"Non","Non",null,null,null,null,""," - ","","-","--"]
["",null,null,{"$f":"IF(ISBLANK(B243),\"\",COUNTA(#REF!))","v":""},null,null,null,null,null,null,null,null,null,null,"Non","","Non",null,"",null,null,null,null,null,"Non","Non",null,null,null,null,""," - ","","-","--"]
["",null,null,{"$f":"IF(ISBLANK(B244),\"\",COUNTA(#REF!))","v":""},null,null,null,null,null,null,null,null,null,null,"Non","","Non",null,"",null,null,null,null,null,"Non","Non",null,null,null,null,""," - ","","-","--"]
["",null,null,{"$f":"IF(ISBLANK(B245),\"\",COUNTA(#REF!))","v":""},null,null,null,null,null,null,null,null,null,null,"Non","","Non",null,"",null,null,null,null,null,"Non","Non",null,null,null,null,""," - ","","-","--"]
["",null,null,{"$f":"IF(ISBLANK(B246),\"\",COUNTA(#REF!))","v":""},null,null,null,null,null,null,null,null,null,null,"Non","","Non",null,"",null,null,null,null,null,"Non","Non",null,null,null,null,""," - ","","-","--"]
["",null,null,{"$f":"IF(ISBLANK(B247),\"\",COUNTA(#REF!))","v":""},null,null,null,null,null,null,null,null,null,null,"Non","","Non",null,"",null,null,null,null,null,"Non","Non",null,null,null,null,""," - ","","-","--"]
["",null,null,{"$f":"IF(ISBLANK(B248),\"\",COUNTA(#REF!))","v":""},null,null,null,null,null,null,null,null,null,null,"Non","","Non",null,"",null,null,null,null,null,"Non","Non",null,null,null,null,""," - ","","-","--"]
["",null,null,{"$f":"IF(ISBLANK(B249),\"\",COUNTA(#REF!))","v":""},null,null,null,null,null,null,null,null,null,null,"Non","","Non",null,"",null,null,null,null,null,"Non","Non",null,null,null,null,""," - ","","-","--"]
["",null,null,{"$f":"IF(ISBLANK(B250),\"\",COUNTA(#REF!))","v":""},null,null,null,null,null,null,null,null,null,null,"Non","","Non",null,"",null,null,null,null,null,"Non","Non",null,null,null,null,""," - ","","-","--"]
["",null,null,{"$f":"IF(ISBLANK(B251),\"\",COUNTA(#REF!))","v":""},null,null,null,null,null,null,null,null,null,null,"Non","","Non",null,"",null,null,null,null,null,"Non","Non",null,null,null,null,""," - ","","-","--"]
["",null,null,{"$f":"IF(ISBLANK(B252),\"\",COUNTA(#REF!))","v":""},null,null,null,null,null,null,null,null,null,null,"Non","","Non",null,"",null,null,null,null,null,"Non","Non",null,null,null,null,""," - ","","-","--"]
["",null,null,{"$f":"IF(ISBLANK(B253),\"\",COUNTA(#REF!))","v":""},null,null,null,null,null,null,null,null,null,null,"Non","","Non",null,"",null,null,null,null,null,"Non","Non",null,null,null,null,""," - ","","-","--"]
["",null,null,{"$f":"IF(ISBLANK(B254),\"\",COUNTA(#REF!))","v":""},null,null,null,null,null,null,null,null,null,null,"Non","","Non",null,"",null,null,null,null,null,"Non","Non",null,null,null,null,""," - ","","-","--"]
["",null,null,{"$f":"IF(ISBLANK(B255),\"\",COUNTA(#REF!))","v":""},null,null,null,null,null,null,null,null,null,null,"Non","","Non",null,"",null,null,null,null,null,"Non","Non",null,null,null,null,""," - ","","-","--"]
["",null,null,{"$f":"IF(ISBLANK(B256),\"\",COUNTA(#REF!))","v":""},null,null,null,null,null,null,null,null,null,null,"Non","","Non",null,"",null,null,null,null,null,"Non","Non",null,null,null,null,""," - ","","-","--"]
["",null,null,{"$f":"IF(ISBLANK(B257),\"\",COUNTA(#REF!))","v":""},null,null,null,null,null,null,null,null,null,null,"Non","","Non",null,"",null,null,null,null,null,"Non","Non",null,null,null,null,""," - ","","-","--"]
["",null,null,{"$f":"IF(ISBLANK(B258),\"\",COUNTA(#REF!))","v":""},null,null,null,null,null,null,null,null,null,null,"Non","","Non",null,"",null,null,null,null,null,"Non","Non",null,null,null,null,""," - ","","-","--"]
["",null,null,{"$f":"IF(ISBLANK(B259),\"\",COUNTA(#REF!))","v":""},null,null,null,null,null,null,null,null,null,null,"Non","","Non",null,"",null,null,null,null,null,"Non","Non",null,null,null,null,""," - ","","-","--"]
["",null,null,{"$f":"IF(ISBLANK(B260),\"\",COUNTA(#REF!))","v":""},null,null,null,null,null,null,null,null,null,null,"Non","","Non",null,"",null,null,null,null,null,"Non","Non",null,null,null,null,""," - ","","-","--"]
["",null,null,{"$f":"IF(ISBLANK(B261),\"\",COUNTA(#REF!))","v":""},null,null,null,null,null,null,null,null,null,null,"Non","","Non",null,"",null,null,null,null,null,"Non","Non",null,null,null,null,""," - ","","-","--"]
["",null,null,{"$f":"IF(ISBLANK(B262),\"\",COUNTA(#REF!))","v":""},null,null,null,null,null,null,null,null,null,null,"Non","","Non",null,"",null,null,null,null,null,"Non","Non",null,null,null,null,""," - ","","-","--"]
["",null,null,{"$f":"IF(ISBLANK(B263),\"\",COUNTA(#REF!))","v":""},null,null,null,null,null,null,null,null,null,null,"Non","","Non",null,"",null,null,null,null,null,"Non","Non",null,null,null,null,""," - ","","-","--"]
[{"$f":"IF(ISBLANK(B264),\"\",$C$2)","v":""},null,null,{"$f":"IF(ISBLANK(B264),\"\",COUNTA(#REF!))","v":""},null,null,null,null,null,null,null,null,null,null,{"$f":"IF(AND(K264<>\"\",ISBLANK(N264),K264<TODAY()),\"Oui\",\"Non\")","v":"Non"},"",{"$f":"IF(AND(N264<>\"\",ISBLANK(N264),K264<TODAY()),\"Oui\",\"Non\")","v":"Non"},null,"",null,null,null,null,null,"Non","Non",null,null,null,null,""," - ","","-",{"$f":"CONCATENATE(M264,\"-\",AH264)","v":"--"}]
["",null,null,{"$f":"IF(ISBLANK(B265),\"\",COUNTA(#REF!))","v":""},null,null,null,null,null,null,null,null,null,null,"Non","","Non",null,"",null,null,null,null,null,{"$f":"IF(AND(U265<>\"\",ISBLANK(X265),U265<TODAY()),\"Oui\",\"Non\")","v":"Non"},{"$f":"IF(AND(S265=\"Oui\",ISBLANK(X265)),\"Oui\",\"Non\")","v":"Non"},null,null,null,null,""," - ","","-","--"]
["",null,null,{"$f":"IF(ISBLANK(B266),\"\",COUNTA(#REF!))","v":""},null,null,null,null,null,null,null,null,null,null,"Non","","Non",null,"",null,null,null,null,null,"Non","Non",null,null,null,null,""," - ","","-","--"]
["",null,null,{"$f":"IF(ISBLANK(B267),\"\",COUNTA(#REF!))","v":""},null,null,null,null,null,null,null,null,null,null,"Non","","Non",null,"",null,null,null,null,null,"Non","Non",null,null,null,null,""," - ","","-","--"]
["",null,null,{"$f":"IF(ISBLANK(B268),\"\",COUNTA(#REF!))","v":""},null,null,null,null,null,null,null,null,null,null,"Non","","Non",null,"",null,null,null,null,null,"Non","Non",null,null,null,null,""," - ","","-","--"]
["",null,null,{"$f":"IF(ISBLANK(B269),\"\",COUNTA(#REF!))","v":""},null,null,null,null,null,null,null,null,null,null,"Non","","Non",null,"",null,null,null,null,null,"Non","Non",null,null,null,null,""," - ","","-","--"]
["",null,null,{"$f":"IF(ISBLANK(B270),\"\",COUNTA(#REF!))","v":""},null,null,null,null,null,null,null,null,null,null,"Non","","Non",null,"",null,null,null,null,null,"Non","Non",null,null,null,null,""," - ","","-","--"]
["",null,null,{"$f":"IF(ISBLANK(B271),\"\",COUNTA(#REF!))","v":""},null,null,null,null,null,null,null,null,null,null,"Non","","Non",null,"",null,null,null,null,null,"Non","Non",null,null,null,null,""," - ","","-","--"]
["",null,null,{"$f":"IF(ISBLANK(B272),\"\",COUNTA(#REF!))","v":""},null,null,null,null,null,null,null,null,null,null,"Non","","Non",null,"",null,null,null,null,null,"Non","Non",null,null,null,null,""," - ","","-","--"]
["",null,null,{"$f":"IF(ISBLANK(B273),\"\",COUNTA(#REF!))","v":""},null,null,null,null,null,null,null,null,null,null,"Non","","Non",null,"",null,null,null,null,null,"Non","Non",null,null,null,null,""," - ","","-","--"]
["",null,null,{"$f":"IF(ISBLANK(B274),\"\",COUNTA(#REF!))","v":""},null,null,null,null,null,null,null,null,null,null,"Non","","Non",null,"",null,null,null,null,null,"Non","Non",null,null,null,null,""," - ","","-","--"]
["",null,null,{"$f":"IF(ISBLANK(B275),\"\",COUNTA(#REF!))","v":""},null,null,null,null,null,null,null,null,null,null,"Non","","Non",null,"",null,null,null,null,null,"Non","Non",null,null,null,null,{"$f":"IF(K275=\"\",\"\",K275-TODAY())","v":""},{"$f":"IF(ISBLANK(F275),CONCATENATE(E275,\" - \",AG275),CONCATENATE(F275,\" - \",AG275))","v":" - "},{"$f":"IF(ISBLANK(B275),\"\",YEAR(C275))","v":""},{"$f":"CONCATENATE(H275,\"-\",AG275)","v":"-"},"--"]
["",null,null,{"$f":"IF(ISBLANK(B276),\"\",COUNTA(#REF!))","v":""},null,null,null,null,null,null,null,null,null,null,"Non","","Non",null,"",null,null,null,null,null,"Non","Non",null,null,null,null,""," - ","","-","--"]
["",null,null,{"$f":"IF(ISBLANK(B277),\"\",COUNTA(#REF!))","v":""},null,null,null,null,null,null,null,null,null,null,"Non","","Non",null,"",null,null,null,null,null,"Non","Non",null,null,null,null,""," - ","","-","--"]
["",null,null,{"$f":"IF(ISBLANK(B278),\"\",COUNTA(#REF!))","v":""},null,null,null,null,null,null,null,null,null,null,"Non","","Non",null,"",null,null,null,null,null,"Non","Non",null,null,null,null,""," - ","","-","--"]
["",null,null,{"$f":"IF(ISBLANK(B279),\"\",COUNTA(#REF!))","v":""},null,null,null,null,null,null,null,null,null,null,"Non",{"$f":"IF(ISBLANK(I279),\"\",IF(K279=\"\",\"délai à préciser\",IF(M279=\"\",\"statut à préciser\",IF(M279=\"finalisée\",IF(N279=\"\",\"date de solde à préciser\",IF(K279>=N279,\"fait\",\"retard\")),(IF(K279<TODAY(),\"retard\",\"Ok\"))))))","v":""},"Non",null,"",null,null,null,null,null,"Non","Non",null,null,null,null,""," - ","","-","--"]
["",null,null,{"$f":"IF(ISBLANK(B280),\"\",COUNTA(#REF!))","v":""},null,null,null,null,null,null,null,null,null,null,"Non","","Non",null,{"$f":"IF(ISBLANK(H280),\"\",IF(OR(H280=\"Préventive\",H280=\"Corrective\"),\"Oui\",\"Non\"))","v":""},null,null,null,null,null,"Non","Non",null,null,null,null,""," - ","","-","--"]
["",null,null,{"$f":"IF(ISBLANK(B281),\"\",COUNTA(#REF!))","v":""},null,null,null,null,null,null,null,null,null,null,"Non","","Non",null,"",null,null,null,null,null,"Non","Non",null,null,null,null,""," - ","","-","--"]
["",null,null,{"$f":"IF(ISBLANK(B282),\"\",COUNTA(#REF!))","v":""},null,null,null,null,null,null,null,null,null,null,"Non","","Non",null,"",null,null,null,null,null,"Non","Non",null,null,null,null,""," - ","","-","--"]
["",null,null,{"$f":"IF(ISBLANK(B283),\"\",COUNTA(#REF!))","v":""},null,null,null,null,null,null,null,null,null,null,"Non","","Non",null,"",null,null,null,null,null,"Non","Non",null,null,null,null,""," - ","","-","--"]
["",null,null,{"$f":"IF(ISBLANK(B284),\"\",COUNTA(#REF!))","v":""},null,null,null,null,null,null,null,null,null,null,"Non","","Non",null,"",null,null,null,null,null,"Non","Non",null,null,null,null,""," - ","","-","--"]
["",null,null,{"$f":"IF(ISBLANK(B285),\"\",COUNTA(#REF!))","v":""},null,null,null,null,null,null,null,null,null,null,"Non","","Non",null,"",null,null,null,null,null,"Non","Non",null,null,null,null,""," - ","","-","--"]
["",null,null,{"$f":"IF(ISBLANK(B286),\"\",COUNTA(#REF!))","v":""},null,null,null,null,null,null,null,null,null,null,"Non","","Non",null,"",null,null,null,null,null,"Non","Non",null,null,null,null,""," - ","","-","--"]
["",null,null,{"$f":"IF(ISBLANK(B287),\"\",COUNTA(#REF!))","v":""},null,null,null,null,null,null,null,null,null,null,"Non","","Non",null,"",null,null,null,null,null,"Non","Non",null,null,null,null,""," - ","","-","--"]
["",null,null,{"$f":"IF(ISBLANK(B288),\"\",COUNTA(#REF!))","v":""},null,null,null,null,null,null,null,null,null,null,"Non","","Non",null,"",null,null,null,null,null,"Non","Non",null,null,null,null,""," - ","","-","--"]
["",null,null,{"$f":"IF(ISBLANK(B289),\"\",COUNTA(#REF!))","v":""},null,null,null,null,null,null,null,null,null,null,"Non","","Non",null,"",null,null,null,null,null,"Non","Non",null,null,null,null,""," - ","","-","--"]
["",null,null,{"$f":"IF(ISBLANK(B290),\"\",COUNTA(#REF!))","v":""},null,null,null,null,null,null,null,null,null,null,"Non","","Non",null,"",null,null,null,null,null,"Non","Non",null,null,null,null,""," - ","","-","--"]
["",null,null,{"$f":"IF(ISBLANK(B291),\"\",COUNTA(#REF!))","v":""},null,null,null,null,null,null,null,null,null,null,"Non","","Non",null,"",null,null,null,null,null,"Non","Non",null,null,null,null,""," - ","","-","--"]
["",null,null,{"$f":"IF(ISBLANK(B292),\"\",COUNTA(#REF!))","v":""},null,null,null,null,null,null,null,null,null,null,"Non","","Non",null,"",null,null,null,null,null,"Non","Non",null,null,null,null,""," - ","","-","--"]
["",null,null,{"$f":"IF(ISBLANK(B293),\"\",COUNTA(#REF!))","v":""},null,null,null,null,null,null,null,null,null,null,"Non","","Non",null,"",null,null,null,null,null,"Non","Non",null,null,null,null,""," - ","","-","--"]
["",null,null,{"$f":"IF(ISBLANK(B294),\"\",COUNTA(#REF!))","v":""},null,null,null,null,null,null,null,null,null,null,"Non","","Non",null,"",null,null,null,null,null,"Non","Non",null,null,null,null,""," - ","","-","--"]
["",null,null,{"$f":"IF(ISBLANK(B295),\"\",COUNTA(#REF!))","v":""},null,null,null,null,null,null,null,null,null,null,"Non","","Non",null,"",null,null,null,null,null,"Non","Non",null,null,null,null,""," - ","","-","--"]
["",null,null,{"$f":"IF(ISBLANK(B296),\"\",COUNTA(#REF!))","v":""},null,null,null,null,null,null,null,null,null,null,"Non","","Non",null,"",null,null,null,null,null,"Non","Non",null,null,null,null,""," - ","","-","--"]
["",null,null,{"$f":"IF(ISBLANK(B297),\"\",COUNTA(#REF!))","v":""},null,null,null,null,null,null,null,null,null,null,"Non","","Non",null,"",null,null,null,null,null,"Non","Non",null,null,null,null,""," - ","","-","--"]
["",null,null,{"$f":"IF(ISBLANK(B298),\"\",COUNTA(#REF!))","v":""},null,null,null,null,null,null,null,null,null,null,"Non","","Non",null,"",null,null,null,null,null,"Non","Non",null,null,null,null,""," - ","","-","--"]
["",null,null,{"$f":"IF(ISBLANK(B299),\"\",COUNTA(#REF!))","v":""},null,null,null,null,null,null,null,null,null,null,"Non","","Non",null,"",null,null,null,null,null,"Non","Non",null,null,null,null,""," - ","","-","--"]
["",null,null,{"$f":"IF(ISBLANK(B300),\"\",COUNTA(#REF!))","v":""},null,null,null,null,null,null,null,null,null,null,"Non","","Non",null,"",null,null,null,null,null,"Non","Non",null,null,null,null,""," - ","","-","--"]
["",null,null,{"$f":"IF(ISBLANK(B301),\"\",COUNTA(#REF!))","v":""},null,null,null,null,null,null,null,null,null,null,"Non","","Non",null,"",null,null,null,null,null,"Non","Non",null,null,null,null,""," - ","","-","--"]
["",null,null,{"$f":"IF(ISBLANK(B302),\"\",COUNTA(#REF!))","v":""},null,null,null,null,null,null,null,null,null,null,"Non","","Non",null,"",null,null,null,null,null,"Non","Non",null,null,null,null,""," - ","","-","--"]
["",null,null,{"$f":"IF(ISBLANK(B303),\"\",COUNTA(#REF!))","v":""},null,null,null,null,null,null,null,null,null,null,"Non","","Non",null,"",null,null,null,null,null,"Non","Non",null,null,null,null,""," - ","","-","--"]
["",null,null,{"$f":"IF(ISBLANK(B304),\"\",COUNTA(#REF!))","v":""},null,null,null,null,null,null,null,null,null,null,"Non","","Non",null,"",null,null,null,null,null,"Non","Non",null,null,null,null,""," - ","","-","--"]
["",null,null,{"$f":"IF(ISBLANK(B305),\"\",COUNTA(#REF!))","v":""},null,null,null,null,null,null,null,null,null,null,"Non","","Non",null,"",null,null,null,null,null,"Non","Non",null,null,null,null,""," - ","","-","--"]
["",null,null,{"$f":"IF(ISBLANK(B306),\"\",COUNTA(#REF!))","v":""},null,null,null,null,null,null,null,null,null,null,"Non","","Non",null,"",null,null,null,null,null,"Non","Non",null,null,null,null,""," - ","","-","--"]
["",null,null,{"$f":"IF(ISBLANK(B307),\"\",COUNTA(#REF!))","v":""},null,null,null,null,null,null,null,null,null,null,"Non","","Non",null,"",null,null,null,null,null,"Non","Non",null,null,null,null,""," - ","","-","--"]
["",null,null,{"$f":"IF(ISBLANK(B308),\"\",COUNTA(#REF!))","v":""},null,null,null,null,null,null,null,null,null,null,"Non","","Non",null,"",null,null,null,null,null,"Non","Non",null,null,null,null,""," - ","","-","--"]
["",null,null,{"$f":"IF(ISBLANK(B309),\"\",COUNTA(#REF!))","v":""},null,null,null,null,null,null,null,null,null,null,"Non","","Non",null,"",null,null,null,null,null,"Non","Non",null,null,null,null,""," - ","","-","--"]
["",null,null,{"$f":"IF(ISBLANK(B310),\"\",COUNTA(#REF!))","v":""},null,null,null,null,null,null,null,null,null,null,"Non","","Non",null,"",null,null,null,null,null,"Non","Non",null,null,null,null,""," - ","","-","--"]
["",null,null,{"$f":"IF(ISBLANK(B311),\"\",COUNTA(#REF!))","v":""},null,null,null,null,null,null,null,null,null,null,"Non","","Non",null,"",null,null,null,null,null,"Non","Non",null,null,null,null,""," - ","","-","--"]
["",null,null,{"$f":"IF(ISBLANK(B312),\"\",COUNTA(#REF!))","v":""},null,null,null,null,null,null,null,null,null,null,"Non","","Non",null,"",null,null,null,null,null,"Non","Non",null,null,null,null,""," - ","","-","--"]
["",null,null,{"$f":"IF(ISBLANK(B313),\"\",COUNTA(#REF!))","v":""},null,null,null,null,null,null,null,null,null,null,"Non","","Non",null,"",null,null,null,null,null,"Non","Non",null,null,null,null,""," - ","","-","--"]
["",null,null,{"$f":"IF(ISBLANK(B314),\"\",COUNTA(#REF!))","v":""},null,null,null,null,null,null,null,null,null,null,"Non","","Non",null,"",null,null,null,null,null,"Non","Non",null,null,null,null,""," - ","","-","--"]
["",null,null,{"$f":"IF(ISBLANK(B315),\"\",COUNTA(#REF!))","v":""},null,null,null,null,null,null,null,null,null,null,"Non","","Non",null,"",null,null,null,null,null,"Non","Non",null,null,null,null,""," - ","","-","--"]
["",null,null,{"$f":"IF(ISBLANK(B316),\"\",COUNTA(#REF!))","v":""},null,null,null,null,null,null,null,null,null,null,"Non","","Non",null,"",null,null,null,null,null,"Non","Non",null,null,null,null,""," - ","","-","--"]
["",null,null,{"$f":"IF(ISBLANK(B317),\"\",COUNTA(#REF!))","v":""},null,null,null,null,null,null,null,null,null,null,"Non","","Non",null,"",null,null,null,null,null,"Non","Non",null,null,null,null,""," - ","","-","--"]
["",null,null,{"$f":"IF(ISBLANK(B318),\"\",COUNTA(#REF!))","v":""},null,null,null,null,null,null,null,null,null,null,"Non","","Non",null,"",null,null,null,null,null,"Non","Non",null,null,null,null,""," - ","","-","--"]
["",null,null,{"$f":"IF(ISBLANK(B319),\"\",COUNTA(#REF!))","v":""},null,null,null,null,null,null,null,null,null,null,"Non","","Non",null,"",null,null,null,null,null,"Non","Non",null,null,null,null,""," - ","","-","--"]
["",null,null,{"$f":"IF(ISBLANK(B320),\"\",COUNTA(#REF!))","v":""},null,null,null,null,null,null,null,null,null,null,"Non","","Non",null,"",null,null,null,null,null,"Non","Non",null,null,null,null,""," - ","","-","--"]
["",null,null,{"$f":"IF(ISBLANK(B321),\"\",COUNTA(#REF!))","v":""},null,null,null,null,null,null,null,null,null,null,"Non","","Non",null,"",null,null,null,null,null,"Non","Non",null,null,null,null,""," - ","","-","--"]
["",null,null,{"$f":"IF(ISBLANK(B322),\"\",COUNTA(#REF!))","v":""},null,null,null,null,null,null,null,null,null,null,"Non","","Non",null,"",null,null,null,null,null,"Non","Non",null,null,null,null,""," - ","","-","--"]
["",null,null,{"$f":"IF(ISBLANK(B323),\"\",COUNTA(#REF!))","v":""},null,null,null,null,null,null,null,null,null,null,"Non","","Non",null,"",null,null,null,null,null,"Non","Non",null,null,null,null,""," - ","","-","--"]
["",null,null,{"$f":"IF(ISBLANK(B324),\"\",COUNTA(#REF!))","v":""},null,null,null,null,null,null,null,null,null,null,"Non","","Non",null,"",null,null,null,null,null,"Non","Non",null,null,null,null,""," - ","","-","--"]
["",null,null,{"$f":"IF(ISBLANK(B325),\"\",COUNTA(#REF!))","v":""},null,null,null,null,null,null,null,null,null,null,"Non","","Non",null,"",null,null,null,null,null,"Non","Non",null,null,null,null,""," - ","","-","--"]
["",null,null,{"$f":"IF(ISBLANK(B326),\"\",COUNTA(#REF!))","v":""},null,null,null,null,null,null,null,null,null,null,"Non","","Non",null,"",null,null,null,null,null,"Non","Non",null,null,null,null,""," - ","","-","--"]
["",null,null,{"$f":"IF(ISBLANK(B327),\"\",COUNTA(#REF!))","v":""},null,null,null,null,null,null,null,null,null,null,"Non","","Non",null,"",null,null,null,null,null,"Non","Non",null,null,null,null,""," - ","","-","--"]
[{"$f":"IF(ISBLANK(B328),\"\",$C$2)","v":""},null,null,{"$f":"IF(ISBLANK(B328),\"\",COUNTA(#REF!))","v":""},null,null,null,null,null,null,null,null,null,null,{"$f":"IF(AND(K328<>\"\",ISBLANK(N328),K328<TODAY()),\"Oui\",\"Non\")","v":"Non"},"",{"$f":"IF(AND(N328<>\"\",ISBLANK(N328),K328<TODAY()),\"Oui\",\"Non\")","v":"Non"},null,"",null,null,null,null,null,"Non","Non",null,null,null,null,""," - ","","-",{"$f":"CONCATENATE(M328,\"-\",AH328)","v":"--"}]
["",null,null,{"$f":"IF(ISBLANK(B329),\"\",COUNTA(#REF!))","v":""},null,null,null,null,null,null,null,null,null,null,"Non","","Non",null,"",null,null,null,null,null,{"$f":"IF(AND(U329<>\"\",ISBLANK(X329),U329<TODAY()),\"Oui\",\"Non\")","v":"Non"},{"$f":"IF(AND(S329=\"Oui\",ISBLANK(X329)),\"Oui\",\"Non\")","v":"Non"},null,null,null,null,""," - ","","-","--"]
["",null,null,{"$f":"IF(ISBLANK(B330),\"\",COUNTA(#REF!))","v":""},null,null,null,null,null,null,null,null,null,null,"Non","","Non",null,"",null,null,null,null,null,"Non","Non",null,null,null,null,""," - ","","-","--"]
["",null,null,{"$f":"IF(ISBLANK(B331),\"\",COUNTA(#REF!))","v":""},null,null,null,null,null,null,null,null,null,null,"Non","","Non",null,"",null,null,null,null,null,"Non","Non",null,null,null,null,""," - ","","-","--"]
["",null,null,{"$f":"IF(ISBLANK(B332),\"\",COUNTA(#REF!))","v":""},null,null,null,null,null,null,null,null,null,null,"Non","","Non",null,"",null,null,null,null,null,"Non","Non",null,null,null,null,""," - ","","-","--"]
["",null,null,{"$f":"IF(ISBLANK(B333),\"\",COUNTA(#REF!))","v":""},null,null,null,null,null,null,null,null,null,null,"Non","","Non",null,"",null,null,null,null,null,"Non","Non",null,null,null,null,""," - ","","-","--"]
["",null,null,{"$f":"IF(ISBLANK(B334),\"\",COUNTA(#REF!))","v":""},null,null,null,null,null,null,null,null,null,null,"Non","","Non",null,"",null,null,null,null,null,"Non","Non",null,null,null,null,""," - ","","-","--"]
["",null,null,{"$f":"IF(ISBLANK(B335),\"\",COUNTA(#REF!))","v":""},null,null,null,null,null,null,null,null,null,null,"Non","","Non",null,"",null,null,null,null,null,"Non","Non",null,null,null,null,""," - ","","-","--"]
["",null,null,{"$f":"IF(ISBLANK(B336),\"\",COUNTA(#REF!))","v":""},null,null,null,null,null,null,null,null,null,null,"Non","","Non",null,"",null,null,null,null,null,"Non","Non",null,null,null,null,""," - ","","-","--"]
["",null,null,{"$f":"IF(ISBLANK(B337),\"\",COUNTA(#REF!))","v":""},null,null,null,null,null,null,null,null,null,null,"Non","","Non",null,"",null,null,null,null,null,"Non","Non",null,null,null,null,""," - ","","-","--"]
["",null,null,{"$f":"IF(ISBLANK(B338),\"\",COUNTA(#REF!))","v":""},null,null,null,null,null,null,null,null,null,null,"Non","","Non",null,"",null,null,null,null,null,"Non","Non",null,null,null,null,""," - ","","-","--"]
["",null,null,{"$f":"IF(ISBLANK(B339),\"\",COUNTA(#REF!))","v":""},null,null,null,null,null,null,null,null,null,null,"Non","","Non",null,"",null,null,null,null,null,"Non","Non",null,null,null,null,{"$f":"IF(K339=\"\",\"\",K339-TODAY())","v":""},{"$f":"IF(ISBLANK(F339),CONCATENATE(E339,\" - \",AG339),CONCATENATE(F339,\" - \",AG339))","v":" - "},{"$f":"IF(ISBLANK(B339),\"\",YEAR(C339))","v":""},{"$f":"CONCATENATE(H339,\"-\",AG339)","v":"-"},"--"]
["",null,null,{"$f":"IF(ISBLANK(B340),\"\",COUNTA(#REF!))","v":""},null,null,null,null,null,null,null,null,null,null,"Non","","Non",null,"",null,null,null,null,null,"Non","Non",null,null,null,null,""," - ","","-","--"]
["",null,null,{"$f":"IF(ISBLANK(B341),\"\",COUNTA(#REF!))","v":""},null,null,null,null,null,null,null,null,null,null,"Non","","Non",null,"",null,null,null,null,null,"Non","Non",null,null,null,null,""," - ","","-","--"]
["",null,null,{"$f":"IF(ISBLANK(B342),\"\",COUNTA(#REF!))","v":""},null,null,null,null,null,null,null,null,null,null,"Non","","Non",null,"",null,null,null,null,null,"Non","Non",null,null,null,null,""," - ","","-","--"]
["",null,null,{"$f":"IF(ISBLANK(B343),\"\",COUNTA(#REF!))","v":""},null,null,null,null,null,null,null,null,null,null,"Non",{"$f":"IF(ISBLANK(I343),\"\",IF(K343=\"\",\"délai à préciser\",IF(M343=\"\",\"statut à préciser\",IF(M343=\"finalisée\",IF(N343=\"\",\"date de solde à préciser\",IF(K343>=N343,\"fait\",\"retard\")),(IF(K343<TODAY(),\"retard\",\"Ok\"))))))","v":""},"Non",null,"",null,null,null,null,null,"Non","Non",null,null,null,null,""," - ","","-","--"]
["",null,null,{"$f":"IF(ISBLANK(B344),\"\",COUNTA(#REF!))","v":""},null,null,null,null,null,null,null,null,null,null,"Non","","Non",null,{"$f":"IF(ISBLANK(H344),\"\",IF(OR(H344=\"Préventive\",H344=\"Corrective\"),\"Oui\",\"Non\"))","v":""},null,null,null,null,null,"Non","Non",null,null,null,null,""," - ","","-","--"]
["",null,null,{"$f":"IF(ISBLANK(B345),\"\",COUNTA(#REF!))","v":""},null,null,null,null,null,null,null,null,null,null,"Non","","Non",null,"",null,null,null,null,null,"Non","Non",null,null,null,null,""," - ","","-","--"]
["",null,null,{"$f":"IF(ISBLANK(B346),\"\",COUNTA(#REF!))","v":""},null,null,null,null,null,null,null,null,null,null,"Non","","Non",null,"",null,null,null,null,null,"Non","Non",null,null,null,null,""," - ","","-","--"]
["",null,null,{"$f":"IF(ISBLANK(B347),\"\",COUNTA(#REF!))","v":""},null,null,null,null,null,null,null,null,null,null,"Non","","Non",null,"",null,null,null,null,null,"Non","Non",null,null,null,null,""," - ","","-","--"]
["",null,null,{"$f":"IF(ISBLANK(B348),\"\",COUNTA(#REF!))","v":""},null,null,null,null,null,null,null,null,null,null,"Non","","Non",null,"",null,null,null,null,null,"Non","Non",null,null,null,null,""," - ","","-","--"]
["",null,null,{"$f":"IF(ISBLANK(B349),\"\",COUNTA(#REF!))","v":""},null,null,null,null,null,null,null,null,null,null,"Non","","Non",null,"",null,null,null,null,null,"Non","Non",null,null,null,null,""," - ","","-","--"]
["",null,null,{"$f":"IF(ISBLANK(B350),\"\",COUNTA(#REF!))","v":""},null,null,null,null,null,null,null,null,null,null,"Non","","Non",null,"",null,null,null,null,null,"Non","Non",null,null,null,null,""," - ","","-","--"]
["",null,null,{"$f":"IF(ISBLANK(B351),\"\",COUNTA(#REF!))","v":""},null,null,null,null,null,null,null,null,null,null,"Non","","Non",null,"",null,null,null,null,null,"Non","Non",null,null,null,null,""," - ","","-","--"]
["",null,null,{"$f":"IF(ISBLANK(B352),\"\",COUNTA(#REF!))","v":""},null,null,null,null,null,null,null,null,null,null,"Non","","Non",null,"",null,null,null,null,null,"Non","Non",null,null,null,null,""," - ","","-","--"]
["",null,null,{"$f":"IF(ISBLANK(B353),\"\",COUNTA(#REF!))","v":""},null,null,null,null,null,null,null,null,null,null,"Non","","Non",null,"",null,null,null,null,null,"Non","Non",null,null,null,null,""," - ","","-","--"]
["",null,null,{"$f":"IF(ISBLANK(B354),\"\",COUNTA(#REF!))","v":""},null,null,null,null,null,null,null,null,null,null,"Non","","Non",null,"",null,null,null,null,null,"Non","Non",null,null,null,null,""," - ","","-","--"]
["",null,null,{"$f":"IF(ISBLANK(B355),\"\",COUNTA(#REF!))","v":""},null,null,null,null,null,null,null,null,null,null,"Non","","Non",null,"",null,null,null,null,null,"Non","Non",null,null,null,null,""," - ","","-","--"]
["",null,null,{"$f":"IF(ISBLANK(B356),\"\",COUNTA(#REF!))","v":""},null,null,null,null,null,null,null,null,null,null,"Non","","Non",null,"",null,null,null,null,null,"Non","Non",null,null,null,null,""," - ","","-","--"]
["",null,null,{"$f":"IF(ISBLANK(B357),\"\",COUNTA(#REF!))","v":""},null,null,null,null,null,null,null,null,null,null,"Non","","Non",null,"",null,null,null,null,null,"Non","Non",null,null,null,null,""," - ","","-","--"]
["",null,null,{"$f":"IF(ISBLANK(B358),\"\",COUNTA(#REF!))","v":""},null,null,null,null,null,null,null,null,null,null,"Non","","Non",null,"",null,null,null,null,null,"Non","Non",null,null,null,null,""," - ","","-","--"]
["",null,null,{"$f":"IF(ISBLANK(B359),\"\",COUNTA(#REF!))","v":""},null,null,null,null,null,null,null,null,null,null,"Non","","Non",null,"",null,null,null,null,null,"Non","Non",null,null,null,null,""," - ","","-","--"]
["",null,null,{"$f":"IF(ISBLANK(B360),\"\",COUNTA(#REF!))","v":""},null,null,null,null,null,null,null,null,null,null,"Non","","Non",null,"",null,null,null,null,null,"Non","Non",null,null,null,null,""," - ","","-","--"]
["",null,null,{"$f":"IF(ISBLANK(B361),\"\",COUNTA(#REF!))","v":""},null,null,null,null,null,null,null,null,null,null,"Non","","Non",null,"",null,null,null,null,null,"Non","Non",null,null,null,null,""," - ","","-","--"]
["",null,null,{"$f":"IF(ISBLANK(B362),\"\",COUNTA(#REF!))","v":""},null,null,null,null,null,null,null,null,null,null,"Non","","Non",null,"",null,null,null,null,null,"Non","Non",null,null,null,null,""," - ","","-","--"]
["",null,null,{"$f":"IF(ISBLANK(B363),\"\",COUNTA(#REF!))","v":""},null,null,null,null,null,null,null,null,null,null,"Non","","Non",null,"",null,null,null,null,null,"Non","Non",null,null,null,null,""," - ","","-","--"]
["",null,null,{"$f":"IF(ISBLANK(B364),\"\",COUNTA(#REF!))","v":""},null,null,null,null,null,null,null,null,null,null,"Non","","Non",null,"",null,null,null,null,null,"Non","Non",null,null,null,null,""," - ","","-","--"]
["",null,null,{"$f":"IF(ISBLANK(B365),\"\",COUNTA(#REF!))","v":""},null,null,null,null,null,null,null,null,null,null,"Non","","Non",null,"",null,null,null,null,null,"Non","Non",null,null,null,null,""," - ","","-","--"]
["",null,null,{"$f":"IF(ISBLANK(B366),\"\",COUNTA(#REF!))","v":""},null,null,null,null,null,null,null,null,null,null,"Non","","Non",null,"",null,null,null,null,null,"Non","Non",null,null,null,null,""," - ","","-","--"]
["",null,null,{"$f":"IF(ISBLANK(B367),\"\",COUNTA(#REF!))","v":""},null,null,null,null,null,null,null,null,null,null,"Non","","Non",null,"",null,null,null,null,null,"Non","Non",null,null,null,null,""," - ","","-","--"]
["",null,null,{"$f":"IF(ISBLANK(B368),\"\",COUNTA(#REF!))","v":""},null,null,null,null,null,null,null,null,null,null,"Non","","Non",null,"",null,null,null,null,null,"Non","Non",null,null,null,null,""," - ","","-","--"]
["",null,null,{"$f":"IF(ISBLANK(B369),\"\",COUNTA(#REF!))","v":""},null,null,null,null,null,null,null,null,null,null,"Non","","Non",null,"",null,null,null,null,null,"Non","Non",null,null,null,null,""," - ","","-","--"]
["",null,null,{"$f":"IF(ISBLANK(B370),\"\",COUNTA(#REF!))","v":""},null,null,null,null,null,null,null,null,null,null,"Non","","Non",null,"",null,null,null,null,null,"Non","Non",null,null,null,null,""," - ","","-","--"]
["",null,null,{"$f":"IF(ISBLANK(B371),\"\",COUNTA(#REF!))","v":""},null,null,null,null,null,null,null,null,null,null,"Non","","Non",null,"",null,null,null,null,null,"Non","Non",null,null,null,null,""," - ","","-","--"]
["",null,null,{"$f":"IF(ISBLANK(B372),\"\",COUNTA(#REF!))","v":""},null,null,null,null,null,null,null,null,null,null,"Non","","Non",null,"",null,null,null,null,null,"Non","Non",null,null,null,null,""," - ","","-","--"]
["",null,null,{"$f":"IF(ISBLANK(B373),\"\",COUNTA(#REF!))","v":""},null,null,null,null,null,null,null,null,null,null,"Non","","Non",null,"",null,null,null,null,null,"Non","Non",null,null,null,null,""," - ","","-","--"]
["",null,null,{"$f":"IF(ISBLANK(B374),\"\",COUNTA(#REF!))","v":""},null,null,null,null,null,null,null,null,null,null,"Non","","Non",null,"",null,null,null,null,null,"Non","Non",null,null,null,null,""," - ","","-","--"]
["",null,null,{"$f":"IF(ISBLANK(B375),\"\",COUNTA(#REF!))","v":""},null,null,null,null,null,null,null,null,null,null,"Non","","Non",null,"",null,null,null,null,null,"Non","Non",null,null,null,null,""," - ","","-","--"]
["",null,null,{"$f":"IF(ISBLANK(B376),\"\",COUNTA(#REF!))","v":""},null,null,null,null,null,null,null,null,null,null,"Non","","Non",null,"",null,null,null,null,null,"Non","Non",null,null,null,null,""," - ","","-","--"]
["",null,null,{"$f":"IF(ISBLANK(B377),\"\",COUNTA(#REF!))","v":""},null,null,null,null,null,null,null,null,null,null,"Non","","Non",null,"",null,null,null,null,null,"Non","Non",null,null,null,null,""," - ","","-","--"]
["",null,null,{"$f":"IF(ISBLANK(B378),\"\",COUNTA(#REF!))","v":""},null,null,null,null,null,null,null,null,null,null,"Non","","Non",null,"",null,null,null,null,null,"Non","Non",null,null,null,null,""," - ","","-","--"]
["",null,null,{"$f":"IF(ISBLANK(B379),\"\",COUNTA(#REF!))","v":""},null,null,null,null,null,null,null,null,null,null,"Non","","Non",null,"",null,null,null,null,null,"Non","Non",null,null,null,null,""," - ","","-","--"]
["",null,null,{"$f":"IF(ISBLANK(B380),\"\",COUNTA(#REF!))","v":""},null,null,null,null,null,null,null,null,null,null,"Non","","Non",null,"",null,null,null,null,null,"Non","Non",null,null,null,null,""," - ","","-","--"]
["",null,null,{"$f":"IF(ISBLANK(B381),\"\",COUNTA(#REF!))","v":""},null,null,null,null,null,null,null,null,null,null,"Non","","Non",null,"",null,null,null,null,null,"Non","Non",null,null,null,null,""," - ","","-","--"]
["",null,null,{"$f":"IF(ISBLANK(B382),\"\",COUNTA(#REF!))","v":""},null,null,null,null,null,null,null,null,null,null,"Non","","Non",null,"",null,null,null,null,null,"Non","Non",null,null,null,null,""," - ","","-","--"]
["",null,null,{"$f":"IF(ISBLANK(B383),\"\",COUNTA(#REF!))","v":""},null,null,null,null,null,null,null,null,null,null,"Non","","Non",null,"",null,null,null,null,null,"Non","Non",null,null,null,null,""," - ","","-","--"]
["",null,null,{"$f":"IF(ISBLANK(B384),\"\",COUNTA(#REF!))","v":""},null,null,null,null,null,null,null,null,null,null,"Non","","Non",null,"",null,null,null,null,null,"Non","Non",null,null,null,null,""," - ","","-","--"]
["",null,null,{"$f":"IF(ISBLANK(B385),\"\",COUNTA(#REF!))","v":""},null,null,null,null,null,null,null,null,null,null,"Non","","Non",null,"",null,null,null,null,null,"Non","Non",null,null,null,null,""," - ","","-","--"]
["",null,null,{"$f":"IF(ISBLANK(B386),\"\",COUNTA(#REF!))","v":""},null,null,null,null,null,null,null,null,null,null,"Non","","Non",null,"",null,null,null,null,null,"Non","Non",null,null,null,null,""," - ","","-","--"]
["",null,null,{"$f":"IF(ISBLANK(B387),\"\",COUNTA(#REF!))","v":""},null,null,null,null,null,null,null,null,null,null,"Non","","Non",null,"",null,null,null,null,null,"Non","Non",null,null,null,null,""," - ","","-","--"]
["",null,null,{"$f":"IF(ISBLANK(B388),\"\",COUNTA(#REF!))","v":""},null,null,null,null,null,null,null,null,null,null,"Non","","Non",null,"",null,null,null,null,null,"Non","Non",null,null,null,null,""," - ","","-","--"]
["",null,null,{"$f":"IF(ISBLANK(B389),\"\",COUNTA(#REF!))","v":""},null,null,null,null,null,null,null,null,null,null,"Non","","Non",null,"",null,null,null,null,null,"Non","Non",null,null,null,null,""," - ","","-","--"]
["",null,null,{"$f":"IF(ISBLANK(B390),\"\",COUNTA(#REF!))","v":""},null,null,null,null,null,null,null,null,null,null,"Non","","Non",null,"",null,null,null,null,null,"Non","Non",null,null,null,null,""," - ","","-","--"]
["",null,null,{"$f":"IF(ISBLANK(B391),\"\",COUNTA(#REF!))","v":""},null,null,null,null,null,null,null,null,null,null,"Non","","Non",null,"",null,null,null,null,null,"Non","Non",null,null,null,null,""," - ","","-","--"]
[{"$f":"IF(ISBLANK(B392),\"\",$C$2)","v":""},null,null,{"$f":"IF(ISBLANK(B392),\"\",COUNTA(#REF!))","v":""},null,null,null,null,null,null,null,null,null,null,{"$f":"IF(AND(K392<>\"\",ISBLANK(N392),K392<TODAY()),\"Oui\",\"Non\")","v":"Non"},"",{"$f":"IF(AND(N392<>\"\",ISBLANK(N392),K392<TODAY()),\"Oui\",\"Non\")","v":"Non"},null,"",null,null,null,null,null,"Non","Non",null,null,null,null,""," - ","","-",{"$f":"CONCATENATE(M392,\"-\",AH392)","v":"--"}]
["",null,null,{"$f":"IF(ISBLANK(B393),\"\",COUNTA(#REF!))","v":""},null,null,null,null,null,null,null,null,null,null,"Non","","Non",null,"",null,null,null,null,null,{"$f":"IF(AND(U393<>\"\",ISBLANK(X393),U393<TODAY()),\"Oui\",\"Non\")","v":"Non"},{"$f":"IF(AND(S393=\"Oui\",ISBLANK(X393)),\"Oui\",\"Non\")","v":"Non"},null,null,null,null,""," - ","","-","--"]
["",null,null,{"$f":"IF(ISBLANK(B394),\"\",COUNTA(#REF!))","v":""},null,null,null,null,null,null,null,null,null,null,"Non","","Non",null,"",null,null,null,null,null,"Non","Non",null,null,null,null,""," - ","","-","--"]
["",null,null,{"$f":"IF(ISBLANK(B395),\"\",COUNTA(#REF!))","v":""},null,null,null,null,null,null,null,null,null,null,"Non","","Non",null,"",null,null,null,null,null,"Non","Non",null,null,null,null,""," - ","","-","--"]
["",null,null,{"$f":"IF(ISBLANK(B396),\"\",COUNTA(#REF!))","v":""},null,null,null,null,null,null,null,null,null,null,"Non","","Non",null,"",null,null,null,null,null,"Non","Non",null,null,null,null,""," - ","","-","--"]
["",null,null,{"$f":"IF(ISBLANK(B397),\"\",COUNTA(#REF!))","v":""},null,null,null,null,null,null,null,null,null,null,"Non","","Non",null,"",null,null,null,null,null,"Non","Non",null,null,null,null,""," - ","","-","--"]
["",null,null,{"$f":"IF(ISBLANK(B398),\"\",COUNTA(#REF!))","v":""},null,null,null,null,null,null,null,null,null,null,"Non","","Non",null,"",null,null,null,null,null,"Non","Non",null,null,null,null,""," - ","","-","--"]

{"sheet":"Données cumulées","index":6,"n_rows":398,"n_cols":35,"rows_kept":398,"cut":false,"hidden":false,"merged":[[0,2,0,26],[4,1,4,6],[4,7,4,17],[4,18,4,26]]}
[null,null,"Plan d'actions",null,null,null,null,null,null,null,null,null,null,null,null,null,null,null,null,null,null,null,null,null,null,null,null,9,9]
[null,"Processus"]
[null,null,null,null,null,"Modifié le:",null,null,null,{"$f":"COUNTIF(M7:M79,\"en cours\")+COUNTIF(M7:M79,\"à lancer\")","v":0},"actions non clôturées",null,null,null,null,null,null,null,null,{"$f":"COUNTIF(Z8:Z44,\"Oui\")","v":0},"mesures d'efficacité à clôturer"]
[]
[null,"Présentation",null,null,null,null,null,"Plan d'actions",null,null,null,null,null,null,null,null,null,null,"Messure de l'efficacité"]
["Processus","Descriptif","Date","N°","Thème","Origine","Analyse des causes","Type d'action","Actions prévues","Responsable","Délai","Moyen(s)","Statut","Date de solde","Action en retard?","Respect du délai ?","Retard?","Commentaire","Mesure de l'efficacité ?","Résultat Attendu","Délai de la mesure","Responsable de la mesure","Résultat Obtenu","Date de la mesure","Retard?","A faire?","Action efficace?",null,null,null,null,"cat - année","année dysf°","Type d'action - Année","Statut - Type - Année"]
[{"$f":"IF(ISBLANK(B7),\"\",$C$2)","v":""},null,null,null,null,null,null,null,null,null,null,null,null,null,null,null,null,null,null,null,null,null,null,null,null,null,null,null,null,null,{"$f":"IF(K7=\"\",\"\",K7-TODAY())","v":""},{"$f":"IF(ISBLANK(F7),CONCATENATE(E7,\" - \",AG7),CONCATENATE(F7,\" - \",AG7))","v":" - "},{"$f":"IF(ISBLANK(B7),\"\",YEAR(C7))","v":""},{"$f":"CONCATENATE(H7,\"-\",AG7)","v":"-"},{"$f":"CONCATENATE(M7,\"-\",AH7)","v":"--"}]
["",null,null,null,null,null,null,null,null,null,null,null,null,null,null,null,null,null,null,null,null,null,null,null,null,null,null,null,null,null,{"$f":"IF(K8=\"\",\"\",K8-TODAY())","v":""},{"$f":"IF(ISBLANK(F8),CONCATENATE(E8,\" - \",AG8),CONCATENATE(F8,\" - \",AG8))","v":" - "},{"$f":"IF(ISBLANK(B8),\"\",YEAR(C8))","v":""},{"$f":"CONCATENATE(H8,\"-\",AG8)","v":"-"},{"$f":"CONCATENATE(M8,\"-\",AH8)","v":"--"}]
["",null,null,null,null,null,null,null,null,null,null,null,null,null,null,null,null,null,null,null,null,null,null,null,null,null,null,null,null,null,""," - ","","-","--"]
["",null,null,null,null,null,null,null,null,null,null,null,null,null,null,null,null,null,null,null,null,null,null,null,null,null,null,null,null,null,""," - ","","-","--"]
["",null,null,null,null,null,null,null,null,null,null,null,null,null,null,null,null,null,null,null,null,null,null,null,null,null,null,null,null,null,""," - ","","-","--"]
["",null,null,null,null,null,null,null,null,null,null,null,null,null,null,null,null,null,null,null,null,null,null,null,null,null,null,null,null,null,""," - ","","-","--"]
["",null,null,null,null,null,null,null,null,null,null,null,null,null,null,null,null,null,null,null,null,null,null,null,null,null,null,null,null,null,""," - ","","-","--"]
["",null,null,null,null,null,null,null,null,null,null,null,null,null,null,null,null,null,null,null,null,null,null,null,null,null,null,null,null,null,""," - ","","-","--"]
["",null,null,null,null,null,null,null,null,null,null,null,null,null,null,null,null,null,null,null,null,null,null,null,null,null,null,null,null,null,""," - ","","-","--"]
["",null,null,null,null,null,null,null,null,null,null,null,null,null,null,null,null,null,null,null,null,null,null,null,null,null,null,null,null,null,""," - ","","-","--"]
["",null,null,null,null,null,null,null,null,null,null,null,null,null,null,null,null,null,null,null,null,null,null,null,null,null,null,null,null,null,""," - ","","-","--"]
["",null,null,null,null,null,null,null,null,null,null,null,null,null,null,null,null,null,null,null,null,null,null,null,null,null,null,null,null,null,""," - ","","-","--"]
["",null,null,{"$f":"IF(ISBLANK(B19),\"\",COUNTA(#REF!))","v":""},null,null,null,null,null,null,null,null,null,null,{"$f":"IF(AND(K19<>\"\",ISBLANK(N19),K19<TODAY()),\"Oui\",\"Non\")","v":"Non"},{"$f":"IF(ISBLANK(I19),\"\",IF(K19=\"\",\"délai à préciser\",IF(M19=\"\",\"statut à préciser\",IF(M19=\"finalisée\",IF(N19=\"\",\"date de solde à préciser\",IF(K19>=N19,\"fait\",\"retard\")),(IF(K19<TODAY(),\"retard\",\"Ok\"))))))","v":""},{"$f":"IF(AND(N19<>\"\",ISBLANK(N19),K19<TODAY()),\"Oui\",\"Non\")","v":"Non"},null,{"$f":"IF(ISBLANK(H19),\"\",IF(OR(H19=\"Préventive\",H19=\"Corrective\"),\"Oui\",\"Non\"))","v":""},null,null,null,null,null,{"$f":"IF(AND(U19<>\"\",ISBLANK(X19),U19<TODAY()),\"Oui\",\"Non\")","v":"Non"},{"$f":"IF(AND(S19=\"Oui\",ISBLANK(X19)),\"Oui\",\"Non\")","v":"Non"},null,null,null,null,""," - ","","-","--"]
["",null,null,{"$f":"IF(ISBLANK(B20),\"\",COUNTA(#REF!))","v":""},null,null,null,null,null,null,null,null,null,null,"Non","","Non",null,"",null,null,null,null,null,"Non","Non",null,null,null,null,""," - ","","-","--"]
["",null,null,{"$f":"IF(ISBLANK(B21),\"\",COUNTA(#REF!))","v":""},null,null,null,null,null,null,null,null,null,null,"Non","","Non",null,"",null,null,null,null,null,"Non","Non",null,null,null,null,""," - ","","-","--"]
["",null,null,{"$f":"IF(ISBLANK(B22),\"\",COUNTA(#REF!))","v":""},null,null,null,null,null,null,null,null,null,null,{"$f":"IF(AND(K22<>\"\",ISBLANK(N22),K22<TODAY()),\"Oui\",\"Non\")","v":"Non"},{"$f":"IF(ISBLANK(I22),\"\",IF(K22=\"\",\"délai à préciser\",IF(M22=\"\",\"statut à préciser\",IF(M22=\"finalisée\",IF(N22=\"\",\"date de solde à préciser\",IF(K22>=N22,\"fait\",\"retard\")),(IF(K22<TODAY(),\"retard\",\"Ok\"))))))","v":""},{"$f":"IF(AND(N22<>\"\",ISBLANK(N22),K22<TODAY()),\"Oui\",\"Non\")","v":"Non"},null,"",null,null,null,null,null,"Non","Non",null,null,null,null,{"$f":"IF(K22=\"\",\"\",K22-TODAY())","v":""},{"$f":"IF(ISBLANK(F22),CONCATENATE(E22,\" - \",AG22),CONCATENATE(F22,\" - \",AG22))","v":" - "},{"$f":"IF(ISBLANK(B22),\"\",YEAR(C22))","v":""},{"$f":"CONCATENATE(H22,\"-\",AG22)","v":"-"},{"$f":"CONCATENATE(M22,\"-\",AH22)","v":"--"}]
["",null,null,{"$f":"IF(ISBLANK(B23),\"\",COUNTA(#REF!))","v":""},null,null,null,null,null,null,null,null,null,null,{"$f":"IF(AND(K23<>\"\",ISBLANK(N23),K23<TODAY()),\"Oui\",\"Non\")","v":"Non"},{"$f":"IF(ISBLANK(I23),\"\",IF(K23=\"\",\"délai à préciser\",IF(M23=\"\",\"statut à préciser\",IF(M23=\"finalisée\",IF(N23=\"\",\"date de solde à préciser\",IF(K23>=N23,\"fait\",\"retard\")),(IF(K23<TODAY(),\"retard\",\"Ok\"))))))","v":""},{"$f":"IF(AND(N23<>\"\",ISBLANK(N23),K23<TODAY()),\"Oui\",\"Non\")","v":"Non"},null,"",null,null,null,null,null,{"$f":"IF(AND(U23<>\"\",ISBLANK(X23),U23<TODAY()),\"Oui\",\"Non\")","v":"Non"},{"$f":"IF(AND(S22=\"Oui\",ISBLANK(X23)),\"Oui\",\"Non\")","v":"Non"},null,null,null,null,{"$f":"IF(K23=\"\",\"\",K23-TODAY())","v":""},{"$f":"IF(ISBLANK(F23),CONCATENATE(E23,\" - \",AG23),CONCATENATE(F23,\" - \",AG23))","v":" - "},{"$f":"IF(ISBLANK(B23),\"\",YEAR(C23))","v":""},{"$f":"CONCATENATE(H23,\"-\",AG23)","v":"-"},{"$f":"CONCATENATE(M23,\"-\",AH23)","v":"--"}]
["",null,null,{"$f":"IF(ISBLANK(B24),\"\",COUNTA(#REF!))","v":""},null,null,null,null,null,null,null,null,null,null,"Non","","Non",null,"",null,null,null,null,null,{"$f":"IF(AND(U24<>\"\",ISBLANK(X24),U24<TODAY()),\"Oui\",\"Non\")","v":"Non"},{"$f":"IF(AND(S24=\"Oui\",ISBLANK(X24)),\"Oui\",\"Non\")","v":"Non"},null,null,null,null,""," - ","","-","--"]
["",null,null,{"$f":"IF(ISBLANK(B25),\"\",COUNTA(#REF!))","v":""},null,null,null,null,null,null,null,null,null,null,"Non","","Non",null,"",null,null,null,null,null,"Non","Non",null,null,null,null,""," - ","","-","--"]
["",null,null,{"$f":"IF(ISBLANK(B26),\"\",COUNTA(#REF!))","v":""},null,null,null,null,null,null,null,null,null,null,"Non","","Non",null,"",null,null,null,null,null,{"$f":"IF(AND(U26<>\"\",ISBLANK(X26),U26<TODAY()),\"Oui\",\"Non\")","v":"Non"},{"$f":"IF(AND(S25=\"Oui\",ISBLANK(X26)),\"Oui\",\"Non\")","v":"Non"},null,null,null,null,""," - ","","-","--"]
["",null,null,{"$f":"IF(ISBLANK(B27),\"\",COUNTA(#REF!))","v":""},null,null,null,null,null,null,null,null,null,null,"Non","","Non",null,"",null,null,null,null,null,{"$f":"IF(AND(U27<>\"\",ISBLANK(X27),U27<TODAY()),\"Oui\",\"Non\")","v":"Non"},{"$f":"IF(AND(S26=\"Oui\",ISBLANK(X27)),\"Oui\",\"Non\")","v":"Non"},null,null,null,null,""," - ","","-","--"]
["",null,null,{"$f":"IF(ISBLANK(B28),\"\",COUNTA(#REF!))","v":""},null,null,null,null,null,null,null,null,null,null,"Non","","Non",null,"",null,null,null,null,null,{"$f":"IF(AND(U28<>\"\",ISBLANK(X28),U28<TODAY()),\"Oui\",\"Non\")","v":"Non"},{"$f":"IF(AND(S28=\"Oui\",ISBLANK(X28)),\"Oui\",\"Non\")","v":"Non"},null,null,null,null,""," - ","","-","--"]
["",null,null,{"$f":"IF(ISBLANK(B29),\"\",COUNTA(#REF!))","v":""},null,null,null,null,null,null,null,null,null,null,"Non","","Non",null,"",null,null,null,null,null,"Non","Non",null,null,null,null,""," - ","","-","--"]
["",null,null,{"$f":"IF(ISBLANK(B30),\"\",COUNTA(#REF!))","v":""},null,null,null,null,null,null,null,null,null,null,"Non","","Non",null,"",null,null,null,null,null,"Non","Non",null,null,null,null,""," - ","","-","--"]
["",null,null,{"$f":"IF(ISBLANK(B31),\"\",COUNTA(#REF!))","v":""},null,null,null,null,null,null,null,null,null,null,"Non","","Non",null,"",null,null,null,null,null,"Non","Non",null,null,null,null,""," - ","","-","--"]
["",null,null,{"$f":"IF(ISBLANK(B32),\"\",COUNTA(#REF!))","v":""},null,null,null,null,null,null,null,null,null,null,"Non","","Non",null,"",null,null,null,null,null,"Non","Non",null,null,null,null,""," - ","","-","--"]
["",null,null,{"$f":"IF(ISBLANK(B33),\"\",COUNTA(#REF!))","v":""},null,null,null,null,null,null,null,null,null,null,"Non","","Non",null,"",null,null,null,null,null,"Non","Non",null,null,null,null,""," - ","","-","--"]
["",null,null,{"$f":"IF(ISBLANK(B34),\"\",COUNTA(#REF!))","v":""},null,null,null,null,null,null,null,null,null,null,"Non","","Non",null,"",null,null,null,null,null,"Non","Non",null,null,null,null,""," - ","","-","--"]
["",null,null,{"$f":"IF(ISBLANK(B35),\"\",COUNTA(#REF!))","v":""},null,null,null,null,null,null,null,null,null,null,"Non","","Non",null,"",null,null,null,null,null,"Non","Non",null,null,null,null,""," - ","","-","--"]
["",null,null,{"$f":"IF(ISBLANK(B36),\"\",COUNTA(#REF!))","v":""},null,null,null,null,null,null,null,null,null,null,"Non","","Non",null,"",null,null,null,null,null,"Non","Non",null,null,null,null,""," - ","","-","--"]
["",null,null,{"$f":"IF(ISBLANK(B37),\"\",COUNTA(#REF!))","v":""},null,null,null,null,null,null,null,null,null,null,"Non","","Non",null,"",null,null,null,null,null,"Non","Non",null,null,null,null,""," - ","","-","--"]
["",null,null,{"$f":"IF(ISBLANK(B38),\"\",COUNTA(#REF!))","v":""},null,null,null,null,null,null,null,null,null,null,"Non","","Non",null,"",null,null,null,null,null,"Non","Non",null,null,null,null,""," - ","","-","--"]
["",null,null,{"$f":"IF(ISBLANK(B39),\"\",COUNTA(#REF!))","v":""},null,null,null,null,null,null,null,null,null,null,"Non","","Non",null,"",null,null,null,null,null,"Non","Non",null,null,null,null,""," - ","","-","--"]
["",null,null,{"$f":"IF(ISBLANK(B40),\"\",COUNTA(#REF!))","v":""},null,null,null,null,null,null,null,null,null,null,"Non","","Non",null,"",null,null,null,null,null,"Non","Non",null,null,null,null,""," - ","","-","--"]
["",null,null,{"$f":"IF(ISBLANK(B41),\"\",COUNTA(#REF!))","v":""},null,null,null,null,null,null,null,null,null,null,"Non","","Non",null,"",null,null,null,null,null,"Non","Non",null,null,null,null,""," - ","","-","--"]
["",null,null,{"$f":"IF(ISBLANK(B42),\"\",COUNTA(#REF!))","v":""},null,null,null,null,null,null,null,null,null,null,"Non","","Non",null,"",null,null,null,null,null,"Non","Non",null,null,null,null,""," - ","","-","--"]
["",null,null,{"$f":"IF(ISBLANK(B43),\"\",COUNTA(#REF!))","v":""},null,null,null,null,null,null,null,null,null,null,"Non","","Non",null,"",null,null,null,null,null,"Non","Non",null,null,null,null,""," - ","","-","--"]
["",null,null,{"$f":"IF(ISBLANK(B44),\"\",COUNTA(#REF!))","v":""},null,null,null,null,null,null,null,null,null,null,"Non","","Non",null,"",null,null,null,null,null,"Non","Non",null,null,null,null,""," - ","","-","--"]
["",null,null,{"$f":"IF(ISBLANK(B45),\"\",COUNTA(#REF!))","v":""},null,null,null,null,null,null,null,null,null,null,"Non","","Non",null,"",null,null,null,null,null,"Non","Non",null,null,null,null,""," - ","","-","--"]
["",null,null,{"$f":"IF(ISBLANK(B46),\"\",COUNTA(#REF!))","v":""},null,null,null,null,null,null,null,null,null,null,"Non","","Non",null,"",null,null,null,null,null,"Non","Non",null,null,null,null,""," - ","","-","--"]
["",null,null,{"$f":"IF(ISBLANK(B47),\"\",COUNTA(#REF!))","v":""},null,null,null,null,null,null,null,null,null,null,"Non","","Non",null,"",null,null,null,null,null,"Non","Non",null,null,null,null,""," - ","","-","--"]
["",null,null,{"$f":"IF(ISBLANK(B48),\"\",COUNTA(#REF!))","v":""},null,null,null,null,null,null,null,null,null,null,"Non","","Non",null,"",null,null,null,null,null,"Non","Non",null,null,null,null,""," - ","","-","--"]
["",null,null,{"$f":"IF(ISBLANK(B49),\"\",COUNTA(#REF!))","v":""},null,null,null,null,null,null,null,null,null,null,"Non","","Non",null,"",null,null,null,null,null,"Non","Non",null,null,null,null,""," - ","","-","--"]
["",null,null,{"$f":"IF(ISBLANK(B50),\"\",COUNTA(#REF!))","v":""},null,null,null,null,null,null,null,null,null,null,"Non","","Non",null,"",null,null,null,null,null,"Non","Non",null,null,null,null,""," - ","","-","--"]
["",null,null,{"$f":"IF(ISBLANK(B51),\"\",COUNTA(#REF!))","v":""},null,null,null,null,null,null,null,null,null,null,"Non","","Non",null,"",null,null,null,null,null,"Non","Non",null,null,null,null,""," - ","","-","--"]
["",null,null,{"$f":"IF(ISBLANK(B52),\"\",COUNTA(#REF!))","v":""},null,null,null,null,null,null,null,null,null,null,"Non","","Non",null,"",null,null,null,null,null,"Non","Non",null,null,null,null,""," - ","","-","--"]
["",null,null,{"$f":"IF(ISBLANK(B53),\"\",COUNTA(#REF!))","v":""},null,null,null,null,null,null,null,null,null,null,"Non","","Non",null,"",null,null,null,null,null,"Non","Non",null,null,null,null,""," - ","","-","--"]
["",null,null,{"$f":"IF(ISBLANK(B54),\"\",COUNTA(#REF!))","v":""},null,null,null,null,null,null,null,null,null,null,"Non","","Non",null,"",null,null,null,null,null,"Non","Non",null,null,null,null,""," - ","","-","--"]
["",null,null,{"$f":"IF(ISBLANK(B55),\"\",COUNTA(#REF!))","v":""},null,null,null,null,null,null,null,null,null,null,"Non","","Non",null,"",null,null,null,null,null,"Non","Non",null,null,null,null,""," - ","","-","--"]
["",null,null,{"$f":"IF(ISBLANK(B56),\"\",COUNTA(#REF!))","v":""},null,null,null,null,null,null,null,null,null,null,"Non","","Non",null,"",null,null,null,null,null,"Non","Non",null,null,null,null,""," - ","","-","--"]
["",null,null,{"$f":"IF(ISBLANK(B57),\"\",COUNTA(#REF!))","v":""},null,null,null,null,null,null,null,null,null,null,"Non","","Non",null,"",null,null,null,null,null,"Non","Non",null,null,null,null,""," - ","","-","--"]
["",null,null,{"$f":"IF(ISBLANK(B58),\"\",COUNTA(#REF!))","v":""},null,null,null,null,null,null,null,null,null,null,"Non","","Non",null,"",null,null,null,null,null,"Non","Non",null,null,null,null,""," - ","","-","--"]
["",null,null,{"$f":"IF(ISBLANK(B59),\"\",COUNTA(#REF!))","v":""},null,null,null,null,null,null,null,null,null,null,"Non","","Non",null,"",null,null,null,null,null,"Non","Non",null,null,null,null,""," - ","","-","--"]
["",null,null,{"$f":"IF(ISBLANK(B60),\"\",COUNTA(#REF!))","v":""},null,null,null,null,null,null,null,null,null,null,"Non","","Non",null,"",null,null,null,null,null,"Non","Non",null,null,null,null,""," - ","","-","--"]
["",null,null,{"$f":"IF(ISBLANK(B61),\"\",COUNTA(#REF!))","v":""},null,null,null,null,null,null,null,null,null,null,"Non","","Non",null,"",null,null,null,null,null,"Non","Non",null,null,null,null,""," - ","","-","--"]
["",null,null,{"$f":"IF(ISBLANK(B62),\"\",COUNTA(#REF!))","v":""},null,null,null,null,null,null,null,null,null,null,"Non","","Non",null,"",null,null,null,null,null,"Non","Non",null,null,null,null,""," - ","","-","--"]
["",null,null,{"$f":"IF(ISBLANK(B63),\"\",COUNTA(#REF!))","v":""},null,null,null,null,null,null,null,null,null,null,"Non","","Non",null,"",null,null,null,null,null,"Non","Non",null,null,null,null,""," - ","","-","--"]
["",null,null,{"$f":"IF(ISBLANK(B64),\"\",COUNTA(#REF!))","v":""},null,null,null,null,null,null,null,null,null,null,"Non","","Non",null,"",null,null,null,null,null,"Non","Non",null,null,null,null,""," - ","","-","--"]
["",null,null,{"$f":"IF(ISBLANK(B65),\"\",COUNTA(#REF!))","v":""},null,null,null,null,null,null,null,null,null,null,"Non","","Non",null,"",null,null,null,null,null,"Non","Non",null,null,null,null,""," - ","","-","--"]
["",null,null,{"$f":"IF(ISBLANK(B66),\"\",COUNTA(#REF!))","v":""},null,null,null,null,null,null,null,null,null,null,"Non","","Non",null,"",null,null,null,null,null,"Non","Non",null,null,null,null,""," - ","","-","--"]
["",null,null,{"$f":"IF(ISBLANK(B67),\"\",COUNTA(#REF!))","v":""},null,null,null,null,null,null,null,null,null,null,"Non","","Non",null,"",null,null,null,null,null,"Non","Non",null,null,null,null,""," - ","","-","--"]
["",null,null,{"$f":"IF(ISBLANK(B68),\"\",COUNTA(#REF!))","v":""},null,null,null,null,null,null,null,null,null,null,"Non","","Non",null,"",null,null,null,null,null,"Non","Non",null,null,null,null,""," - ","","-","--"]
["",null,null,{"$f":"IF(ISBLANK(B69),\"\",COUNTA(#REF!))","v":""},null,null,null,null,null,null,null,null,null,null,"Non","","Non",null,"",null,null,null,null,null,"Non","Non",null,null,null,null,""," - ","","-","--"]
["",null,null,{"$f":"IF(ISBLANK(B70),\"\",COUNTA(#REF!))","v":""},null,null,null,null,null,null,null,null,null,null,"Non","","Non",null,"",null,null,null,null,null,"Non","Non",null,null,null,null,""," - ","","-","--"]
["",null,null,{"$f":"IF(ISBLANK(B71),\"\",COUNTA(#REF!))","v":""},null,null,null,null,null,null,null,null,null,null,"Non","","Non",null,{"$f":"IF(ISBLANK(H71),\"\",IF(OR(H71=\"Préventive\",H71=\"Corrective\"),\"Oui\",\"Non\"))","v":""},null,null,null,null,null,"Non","Non",null,null,null,null,""," - ","","-","--"]
[{"$f":"IF(ISBLANK(B72),\"\",$C$2)","v":""},null,null,{"$f":"IF(ISBLANK(B72),\"\",COUNTA(#REF!))","v":""},null,null,null,null,null,null,null,null,null,null,{"$f":"IF(AND(K72<>\"\",ISBLANK(N72),K72<TODAY()),\"Oui\",\"Non\")","v":"Non"},"",{"$f":"IF(AND(N72<>\"\",ISBLANK(N72),K72<TODAY()),\"Oui\",\"Non\")","v":"Non"},null,"",null,null,null,null,null,"Non","Non",null,null,null,null,{"$f":"IF(K72=\"\",\"\",K72-TODAY())","v":""},{"$f":"IF(ISBLANK(F72),CONCATENATE(E72,\" - \",AG72),CONCATENATE(F72,\" - \",AG72))","v":" - "},{"$f":"IF(ISBLANK(B72),\"\",YEAR(C72))","v":""},{"$f":"CONCATENATE(H72,\"-\",AG72)","v":"-"},{"$f":"CONCATENATE(M72,\"-\",AH72)","v":"--"}]
["",null,null,{"$f":"IF(ISBLANK(B73),\"\",COUNTA(#REF!))","v":""},null,null,null,null,null,null,null,null,null,null,"Non","","Non",null,"",null,null,null,null,null,{"$f":"IF(AND(U73<>\"\",ISBLANK(X73),U73<TODAY()),\"Oui\",\"Non\")","v":"Non"},{"$f":"IF(AND(S73=\"Oui\",ISBLANK(X73)),\"Oui\",\"Non\")","v":"Non"},null,null,null,null,""," - ","","-","--"]
["",null,null,{"$f":"IF(ISBLANK(B74),\"\",COUNTA(#REF!))","v":""},null,null,null,null,null,null,null,null,null,null,"Non","","Non",null,"",null,null,null,null,null,"Non","Non",null,null,null,null,""," - ","","-","--"]
["",null,null,{"$f":"IF(ISBLANK(B75),\"\",COUNTA(#REF!))","v":""},null,null,null,null,null,null,null,null,null,null,"Non","","Non",null,"",null,null,null,null,null,"Non","Non",null,null,null,null,""," - ","","-","--"]
["",null,null,{"$f":"IF(ISBLANK(B76),\"\",COUNTA(#REF!))","v":""},null,null,null,null,null,null,null,null,null,null,"Non","","Non",null,"",null,null,null,null,null,"Non","Non",null,null,null,null,""," - ","","-","--"]
["",null,null,{"$f":"IF(ISBLANK(B77),\"\",COUNTA(#REF!))","v":""},null,null,null,null,null,null,null,null,null,null,"Non","","Non",null,"",null,null,null,null,null,"Non","Non",null,null,null,null,""," - ","","-","--"]
["",null,null,{"$f":"IF(ISBLANK(B78),\"\",COUNTA(#REF!))","v":""},null,null,null,null,null,null,null,null,null,null,"Non","","Non",null,"",null,null,null,null,null,"Non","Non",null,null,null,null,""," - ","","-","--"]
["",null,null,{"$f":"IF(ISBLANK(B79),\"\",COUNTA(#REF!))","v":""},null,null,null,null,null,null,null,null,null,null,"Non","","Non",null,"",null,null,null,null,null,"Non","Non",null,null,null,null,""," - ","","-","--"]
["",null,null,{"$f":"IF(ISBLANK(B80),\"\",COUNTA(#REF!))","v":""},null,null,null,null,null,null,null,null,null,null,"Non","","Non",null,"",null,null,null,null,null,"Non","Non",null,null,null,null,""," - ","","-","--"]
["",null,null,{"$f":"IF(ISBLANK(B81),\"\",COUNTA(#REF!))","v":""},null,null,null,null,null,null,null,null,null,null,"Non","","Non",null,"",null,null,null,null,null,"Non","Non",null,null,null,null,""," - ","","-","--"]
["",null,null,{"$f":"IF(ISBLANK(B82),\"\",COUNTA(#REF!))","v":""},null,null,null,null,null,null,null,null,null,null,"Non","","Non",null,"",null,null,null,null,null,"Non","Non",null,null,null,null,{"$f":"IF(K82=\"\",\"\",K82-TODAY())","v":""},{"$f":"IF(ISBLANK(F82),CONCATENATE(E82,\" - \",AG82),CONCATENATE(F82,\" - \",AG82))","v":" - "},{"$f":"IF(ISBLANK(B82),\"\",YEAR(C82))","v":""},{"$f":"CONCATENATE(H82,\"-\",AG82)","v":"-"},"--"]
["",null,null,{"$f":"IF(ISBLANK(B83),\"\",COUNTA(#REF!))","v":""},null,null,null,null,null,null,null,null,null,null,"Non","","Non",null,"",null,null,null,null,null,"Non","Non",null,null,null,null,{"$f":"IF(K83=\"\",\"\",K83-TODAY())","v":""},{"$f":"IF(ISBLANK(F83),CONCATENATE(E83,\" - \",AG83),CONCATENATE(F83,\" - \",AG83))","v":" - "},{"$f":"IF(ISBLANK(B83),\"\",YEAR(C83))","v":""},{"$f":"CONCATENATE(H83,\"-\",AG83)","v":"-"},"--"]
["",null,null,{"$f":"IF(ISBLANK(B84),\"\",COUNTA(#REF!))","v":""},null,null,null,null,null,null,null,null,null,null,"Non","","Non",null,"",null,null,null,null,null,"Non","Non",null,null,null,null,""," - ","","-","--"]
["",null,null,{"$f":"IF(ISBLANK(B85),\"\",COUNTA(#REF!))","v":""},null,null,null,null,null,null,null,null,null,null,"Non","","Non",null,"",null,null,null,null,null,"Non","Non",null,null,null,null,""," - ","","-","--"]
["",null,null,{"$f":"IF(ISBLANK(B86),\"\",COUNTA(#REF!))","v":""},null,null,null,null,null,null,null,null,null,null,"Non","","Non",null,"",null,null,null,null,null,"Non","Non",null,null,null,null,""," - ","","-","--"]
["",null,null,{"$f":"IF(ISBLANK(B87),\"\",COUNTA(#REF!))","v":""},null,null,null,null,null,null,null,null,null,null,"Non",{"$f":"IF(ISBLANK(I87),\"\",IF(K87=\"\",\"délai à préciser\",IF(M87=\"\",\"statut à préciser\",IF(M87=\"finalisée\",IF(N87=\"\",\"date de solde à préciser\",IF(K87>=N87,\"fait\",\"retard\")),(IF(K87<TODAY(),\"retard\",\"Ok\"))))))","v":""},"Non",null,{"$f":"IF(ISBLANK(H87),\"\",IF(OR(H87=\"Préventive\",H87=\"Corrective\"),\"Oui\",\"Non\"))","v":""},null,null,null,null,null,"Non","Non",null,null,null,null,""," - ","","-","--"]
["",null,null,{"$f":"IF(ISBLANK(B88),\"\",COUNTA(#REF!))","v":""},null,null,null,null,null,null,null,null,null,null,"Non","","Non",null,{"$f":"IF(ISBLANK(H88),\"\",IF(OR(H88=\"Préventive\",H88=\"Corrective\"),\"Oui\",\"Non\"))","v":""},null,null,null,null,null,"Non","Non",null,null,null,null,""," - ","","-","--"]
["",null,null,{"$f":"IF(ISBLANK(B89),\"\",COUNTA(#REF!))","v":""},null,null,null,null,null,null,null,null,null,null,"Non","","Non",null,"",null,null,null,null,null,"Non","Non",null,null,null,null,""," - ","","-","--"]
["",null,null,{"$f":"IF(ISBLANK(B90),\"\",COUNTA(#REF!))","v":""},null,null,null,null,null,null,null,null,null,null,"Non","","Non",null,"",null,null,null,null,null,"Non","Non",null,null,null,null,""," - ","","-","--"]
["",null,null,{"$f":"IF(ISBLANK(B91),\"\",COUNTA(#REF!))","v":""},null,null,null,null,null,null,null,null,null,null,"Non","","Non",null,"",null,null,null,null,null,"Non","Non",null,null,null,null,""," - ","","-","--"]
["",null,null,{"$f":"IF(ISBLANK(B92),\"\",COUNTA(#REF!))","v":""},null,null,null,null,null,null,null,null,null,null,"Non","","Non",null,"",null,null,null,null,null,"Non","Non",null,null,null,null,""," - ","","-","--"]
["",null,null,{"$f":"IF(ISBLANK(B93),\"\",COUNTA(#REF!))","v":""},null,null,null,null,null,null,null,null,null,null,"Non","","Non",null,"",null,null,null,null,null,"Non","Non",null,null,null,null,""," - ","","-","--"]
["",null,null,{"$f":"IF(ISBLANK(B94),\"\",COUNTA(#REF!))","v":""},null,null,null,null,null,null,null,null,null,null,"Non","","Non",null,"",null,null,null,null,null,"Non","Non",null,null,null,null,""," - ","","-","--"]
["",null,null,{"$f":"IF(ISBLANK(B95),\"\",COUNTA(#REF!))","v":""},null,null,null,null,null,null,null,null,null,null,"Non","","Non",null,"",null,null,null,null,null,"Non","Non",null,null,null,null,""," - ","","-","--"]
["",null,null,{"$f":"IF(ISBLANK(B96),\"\",COUNTA(#REF!))","v":""},null,null,null,null,null,null,null,null,null,null,"Non","","Non",null,"",null,null,null,null,null,"Non","Non",null,null,null,null,""," - ","","-","--"]
["",null,null,{"$f":"IF(ISBLANK(B97),\"\",COUNTA(#REF!))","v":""},null,null,null,null,null,null,null,null,null,null,"Non","","Non",null,"",null,null,null,null,null,"Non","Non",null,null,null,null,""," - ","","-","--"]
["",null,null,{"$f":"IF(ISBLANK(B98),\"\",COUNTA(#REF!))","v":""},null,null,null,null,null,null,null,null,null,null,"Non","","Non",null,"",null,null,null,null,null,"Non","Non",null,null,null,null,""," - ","","-","--"]
["",null,null,{"$f":"IF(ISBLANK(B99),\"\",COUNTA(#REF!))","v":""},null,null,null,null,null,null,null,null,null,null,"Non","","Non",null,"",null,null,null,null,null,"Non","Non",null,null,null,null,""," - ","","-","--"]
["",null,null,{"$f":"IF(ISBLANK(B100),\"\",COUNTA(#REF!))","v":""},null,null,null,null,null,null,null,null,null,null,"Non","","Non",null,"",null,null,null,null,null,"Non","Non",null,null,null,null,""," - ","","-","--"]
["",null,null,{"$f":"IF(ISBLANK(B101),\"\",COUNTA(#REF!))","v":""},null,null,null,null,null,null,null,null,null,null,"Non","","Non",null,"",null,null,null,null,null,"Non","Non",null,null,null,null,""," - ","","-","--"]
["",null,null,{"$f":"IF(ISBLANK(B102),\"\",COUNTA(#REF!))","v":""},null,null,null,null,null,null,null,null,null,null,"Non","","Non",null,"",null,null,null,null,null,"Non","Non",null,null,null,null,""," - ","","-","--"]
["",null,null,{"$f":"IF(ISBLANK(B103),\"\",COUNTA(#REF!))","v":""},null,null,null,null,null,null,null,null,null,null,"Non","","Non",null,"",null,null,null,null,null,"Non","Non",null,null,null,null,""," - ","","-","--"]
["",null,null,{"$f":"IF(ISBLANK(B104),\"\",COUNTA(#REF!))","v":""},null,null,null,null,null,null,null,null,null,null,"Non","","Non",null,"",null,null,null,null,null,"Non","Non",null,null,null,null,""," - ","","-","--"]
["",null,null,{"$f":"IF(ISBLANK(B105),\"\",COUNTA(#REF!))","v":""},null,null,null,null,null,null,null,null,null,null,"Non","","Non",null,"",null,null,null,null,null,"Non","Non",null,null,null,null,""," - ","","-","--"]
["",null,null,{"$f":"IF(ISBLANK(B106),\"\",COUNTA(#REF!))","v":""},null,null,null,null,null,null,null,null,null,null,"Non","","Non",null,"",null,null,null,null,null,"Non","Non",null,null,null,null,""," - ","","-","--"]
["",null,null,{"$f":"IF(ISBLANK(B107),\"\",COUNTA(#REF!))","v":""},null,null,null,null,null,null,null,null,null,null,"Non","","Non",null,"",null,null,null,null,null,"Non","Non",null,null,null,null,""," - ","","-","--"]
["",null,null,{"$f":"IF(ISBLANK(B108),\"\",COUNTA(#REF!))","v":""},null,null,null,null,null,null,null,null,null,null,"Non","","Non",null,"",null,null,null,null,null,"Non","Non",null,null,null,null,""," - ","","-","--"]
["",null,null,{"$f":"IF(ISBLANK(B109),\"\",COUNTA(#REF!))","v":""},null,null,null,null,null,null,null,null,null,null,"Non","","Non",null,"",null,null,null,null,null,"Non","Non",null,null,null,null,""," - ","","-","--"]
["",null,null,{"$f":"IF(ISBLANK(B110),\"\",COUNTA(#REF!))","v":""},null,null,null,null,null,null,null,null,null,null,"Non","","Non",null,"",null,null,null,null,null,"Non","Non",null,null,null,null,""," - ","","-","--"]
["",null,null,{"$f":"IF(ISBLANK(B111),\"\",COUNTA(#REF!))","v":""},null,null,null,null,null,null,null,null,null,null,"Non","","Non",null,"",null,null,null,null,null,"Non","Non",null,null,null,null,""," - ","","-","--"]
["",null,null,{"$f":"IF(ISBLANK(B112),\"\",COUNTA(#REF!))","v":""},null,null,null,null,null,null,null,null,null,null,"Non","","Non",null,"",null,null,null,null,null,"Non","Non",null,null,null,null,""," - ","","-","--"]
["",null,null,{"$f":"IF(ISBLANK(B113),\"\",COUNTA(#REF!))","v":""},null,null,null,null,null,null,null,null,null,null,"Non","","Non",null,"",null,null,null,null,null,"Non","Non",null,null,null,null,""," - ","","-","--"]
["",null,null,{"$f":"IF(ISBLANK(B114),\"\",COUNTA(#REF!))","v":""},null,null,null,null,null,null,null,null,null,null,"Non","","Non",null,"",null,null,null,null,null,"Non","Non",null,null,null,null,""," - ","","-","--"]
["",null,null,{"$f":"IF(ISBLANK(B115),\"\",COUNTA(#REF!))","v":""},null,null,null,null,null,null,null,null,null,null,"Non","","Non",null,"",null,null,null,null,null,"Non","Non",null,null,null,null,""," - ","","-","--"]
["",null,null,{"$f":"IF(ISBLANK(B116),\"\",COUNTA(#REF!))","v":""},null,null,null,null,null,null,null,null,null,null,"Non","","Non",null,"",null,null,null,null,null,"Non","Non",null,null,null,null,""," - ","","-","--"]
["",null,null,{"$f":"IF(ISBLANK(B117),\"\",COUNTA(#REF!))","v":""},null,null,null,null,null,null,null,null,null,null,"Non","","Non",null,"",null,null,null,null,null,"Non","Non",null,null,null,null,""," - ","","-","--"]
["",null,null,{"$f":"IF(ISBLANK(B118),\"\",COUNTA(#REF!))","v":""},null,null,null,null,null,null,null,null,null,null,"Non","","Non",null,"",null,null,null,null,null,"Non","Non",null,null,null,null,""," - ","","-","--"]
["",null,null,{"$f":"IF(ISBLANK(B119),\"\",COUNTA(#REF!))","v":""},null,null,null,null,null,null,null,null,null,null,"Non","","Non",null,"",null,null,null,null,null,"Non","Non",null,null,null,null,""," - ","","-","--"]
["",null,null,{"$f":"IF(ISBLANK(B120),\"\",COUNTA(#REF!))","v":""},null,null,null,null,null,null,null,null,null,null,"Non","","Non",null,"",null,null,null,null,null,"Non","Non",null,null,null,null,""," - ","","-","--"]
["",null,null,{"$f":"IF(ISBLANK(B121),\"\",COUNTA(#REF!))","v":""},null,null,null,null,null,null,null,null,null,null,"Non","","Non",null,"",null,null,null,null,null,"Non","Non",null,null,null,null,""," - ","","-","--"]
["",null,null,{"$f":"IF(ISBLANK(B122),\"\",COUNTA(#REF!))","v":""},null,null,null,null,null,null,null,null,null,null,"Non","","Non",null,"",null,null,null,null,null,"Non","Non",null,null,null,null,""," - ","","-","--"]
["",null,null,{"$f":"IF(ISBLANK(B123),\"\",COUNTA(#REF!))","v":""},null,null,null,null,null,null,null,null,null,null,"Non","","Non",null,"",null,null,null,null,null,"Non","Non",null,null,null,null,""," - ","","-","--"]
["",null,null,{"$f":"IF(ISBLANK(B124),\"\",COUNTA(#REF!))","v":""},null,null,null,null,null,null,null,null,null,null,"Non","","Non",null,"",null,null,null,null,null,"Non","Non",null,null,null,null,""," - ","","-","--"]
["",null,null,{"$f":"IF(ISBLANK(B125),\"\",COUNTA(#REF!))","v":""},null,null,null,null,null,null,null,null,null,null,"Non","","Non",null,"",null,null,null,null,null,"Non","Non",null,null,null,null,""," - ","","-","--"]
["",null,null,{"$f":"IF(ISBLANK(B126),\"\",COUNTA(#REF!))","v":""},null,null,null,null,null,null,null,null,null,null,"Non","","Non",null,"",null,null,null,null,null,"Non","Non",null,null,null,null,""," - ","","-","--"]
["",null,null,{"$f":"IF(ISBLANK(B127),\"\",COUNTA(#REF!))","v":""},null,null,null,null,null,null,null,null,null,null,"Non","","Non",null,"",null,null,null,null,null,"Non","Non",null,null,null,null,""," - ","","-","--"]
["",null,null,{"$f":"IF(ISBLANK(B128),\"\",COUNTA(#REF!))","v":""},null,null,null,null,null,null,null,null,null,null,"Non","","Non",null,"",null,null,null,null,null,"Non","Non",null,null,null,null,""," - ","","-","--"]
["",null,null,{"$f":"IF(ISBLANK(B129),\"\",COUNTA(#REF!))","v":""},null,null,null,null,null,null,null,null,null,null,"Non","","Non",null,"",null,null,null,null,null,"Non","Non",null,null,null,null,""," - ","","-","--"]
["",null,null,{"$f":"IF(ISBLANK(B130),\"\",COUNTA(#REF!))","v":""},null,null,null,null,null,null,null,null,null,null,"Non","","Non",null,"",null,null,null,null,null,"Non","Non",null,null,null,null,""," - ","","-","--"]
["",null,null,{"$f":"IF(ISBLANK(B131),\"\",COUNTA(#REF!))","v":""},null,null,null,null,null,null,null,null,null,null,"Non","","Non",null,"",null,null,null,null,null,"Non","Non",null,null,null,null,""," - ","","-","--"]
["",null,null,{"$f":"IF(ISBLANK(B132),\"\",COUNTA(#REF!))","v":""},null,null,null,null,null,null,null,null,null,null,"Non","","Non",null,"",null,null,null,null,null,"Non","Non",null,null,null,null,""," - ","","-","--"]
["",null,null,{"$f":"IF(ISBLANK(B133),\"\",COUNTA(#REF!))","v":""},null,null,null,null,null,null,null,null,null,null,"Non","","Non",null,"",null,null,null,null,null,"Non","Non",null,null,null,null,""," - ","","-","--"]
["",null,null,{"$f":"IF(ISBLANK(B134),\"\",COUNTA(#REF!))","v":""},null,null,null,null,null,null,null,null,null,null,"Non","","Non",null,"",null,null,null,null,null,"Non","Non",null,null,null,null,""," - ","","-","--"]
["",null,null,{"$f":"IF(ISBLANK(B135),\"\",COUNTA(#REF!))","v":""},null,null,null,null,null,null,null,null,null,null,"Non","","Non",null,"",null,null,null,null,null,"Non","Non",null,null,null,null,""," - ","","-","--"]
[{"$f":"IF(ISBLANK(B136),\"\",$C$2)","v":""},null,null,{"$f":"IF(ISBLANK(B136),\"\",COUNTA(#REF!))","v":""},null,null,null,null,null,null,null,null,null,null,{"$f":"IF(AND(K136<>\"\",ISBLANK(N136),K136<TODAY()),\"Oui\",\"Non\")","v":"Non"},"",{"$f":"IF(AND(N136<>\"\",ISBLANK(N136),K136<TODAY()),\"Oui\",\"Non\")","v":"Non"},null,"",null,null,null,null,null,"Non","Non",null,null,null,null,""," - ","","-",{"$f":"CONCATENATE(M136,\"-\",AH136)","v":"--"}]
["",null,null,{"$f":"IF(ISBLANK(B137),\"\",COUNTA(#REF!))","v":""},null,null,null,null,null,null,null,null,null,null,"Non","","Non",null,"",null,null,null,null,null,{"$f":"IF(AND(U137<>\"\",ISBLANK(X137),U137<TODAY()),\"Oui\",\"Non\")","v":"Non"},{"$f":"IF(AND(S137=\"Oui\",ISBLANK(X137)),\"Oui\",\"Non\")","v":"Non"},null,null,null,null,""," - ","","-","--"]
["",null,null,{"$f":"IF(ISBLANK(B138),\"\",COUNTA(#REF!))","v":""},null,null,null,null,null,null,null,null,null,null,"Non","","Non",null,"",null,null,null,null,null,"Non","Non",null,null,null,null,""," - ","","-","--"]
["",null,null,{"$f":"IF(ISBLANK(B139),\"\",COUNTA(#REF!))","v":""},null,null,null,null,null,null,null,null,null,null,"Non","","Non",null,"",null,null,null,null,null,"Non","Non",null,null,null,null,""," - ","","-","--"]
["",null,null,{"$f":"IF(ISBLANK(B140),\"\",COUNTA(#REF!))","v":""},null,null,null,null,null,null,null,null,null,null,"Non","","Non",null,"",null,null,null,null,null,"Non","Non",null,null,null,null,""," - ","","-","--"]
["",null,null,{"$f":"IF(ISBLANK(B141),\"\",COUNTA(#REF!))","v":""},null,null,null,null,null,null,null,null,null,null,"Non","","Non",null,"",null,null,null,null,null,"Non","Non",null,null,null,null,""," - ","","-","--"]
["",null,null,{"$f":"IF(ISBLANK(B142),\"\",COUNTA(#REF!))","v":""},null,null,null,null,null,null,null,null,null,null,"Non","","Non",null,"",null,null,null,null,null,"Non","Non",null,null,null,null,""," - ","","-","--"]
["",null,null,{"$f":"IF(ISBLANK(B143),\"\",COUNTA(#REF!))","v":""},null,null,null,null,null,null,null,null,null,null,"Non","","Non",null,"",null,null,null,null,null,"Non","Non",null,null,null,null,""," - ","","-","--"]
["",null,null,{"$f":"IF(ISBLANK(B144),\"\",COUNTA(#REF!))","v":""},null,null,null,null,null,null,null,null,null,null,"Non","","Non",null,"",null,null,null,null,null,"Non","Non",null,null,null,null,""," - ","","-","--"]
["",null,null,{"$f":"IF(ISBLANK(B145),\"\",COUNTA(#REF!))","v":""},null,null,null,null,null,null,null,null,null,null,"Non","","Non",null,"",null,null,null,null,null,"Non","Non",null,null,null,null,""," - ","","-","--"]
["",null,null,{"$f":"IF(ISBLANK(B146),\"\",COUNTA(#REF!))","v":""},null,null,null,null,null,null,null,null,null,null,"Non","","Non",null,"",null,null,null,null,null,"Non","Non",null,null,null,null,""," - ","","-","--"]
["",null,null,{"$f":"IF(ISBLANK(B147),\"\",COUNTA(#REF!))","v":""},null,null,null,null,null,null,null,null,null,null,"Non","","Non",null,"",null,null,null,null,null,"Non","Non",null,null,null,null,{"$f":"IF(K147=\"\",\"\",K147-TODAY())","v":""},{"$f":"IF(ISBLANK(F147),CONCATENATE(E147,\" - \",AG147),CONCATENATE(F147,\" - \",AG147))","v":" - "},{"$f":"IF(ISBLANK(B147),\"\",YEAR(C147))","v":""},{"$f":"CONCATENATE(H147,\"-\",AG147)","v":"-"},"--"]
["",null,null,{"$f":"IF(ISBLANK(B148),\"\",COUNTA(#REF!))","v":""},null,null,null,null,null,null,null,null,null,null,"Non","","Non",null,"",null,null,null,null,null,"Non","Non",null,null,null,null,""," - ","","-","--"]
["",null,null,{"$f":"IF(ISBLANK(B149),\"\",COUNTA(#REF!))","v":""},null,null,null,null,null,null,null,null,null,null,"Non","","Non",null,"",null,null,null,null,null,"Non","Non",null,null,null,null,""," - ","","-","--"]
["",null,null,{"$f":"IF(ISBLANK(B150),\"\",COUNTA(#REF!))","v":""},null,null,null,null,null,null,null,null,null,null,"Non","","Non",null,"",null,null,null,null,null,"Non","Non",null,null,null,null,""," - ","","-","--"]
["",null,null,{"$f":"IF(ISBLANK(B151),\"\",COUNTA(#REF!))","v":""},null,null,null,null,null,null,null,null,null,null,"Non",{"$f":"IF(ISBLANK(I151),\"\",IF(K151=\"\",\"délai à préciser\",IF(M151=\"\",\"statut à préciser\",IF(M151=\"finalisée\",IF(N151=\"\",\"date de solde à préciser\",IF(K151>=N151,\"fait\",\"retard\")),(IF(K151<TODAY(),\"retard\",\"Ok\"))))))","v":""},"Non",null,"",null,null,null,null,null,"Non","Non",null,null,null,null,""," - ","","-","--"]
["",null,null,{"$f":"IF(ISBLANK(B152),\"\",COUNTA(#REF!))","v":""},null,null,null,null,null,null,null,null,null,null,"Non","","Non",null,{"$f":"IF(ISBLANK(H152),\"\",IF(OR(H152=\"Préventive\",H152=\"Corrective\"),\"Oui\",\"Non\"))","v":""},null,null,null,null,null,"Non","Non",null,null,null,null,""," - ","","-","--"]
["",null,null,{"$f":"IF(ISBLANK(B153),\"\",COUNTA(#REF!))","v":""},null,null,null,null,null,null,null,null,null,null,"Non","","Non",null,"",null,null,null,null,null,"Non","Non",null,null,null,null,""," - ","","-","--"]
["",null,null,{"$f":"IF(ISBLANK(B154),\"\",COUNTA(#REF!))","v":""},null,null,null,null,null,null,null,null,null,null,"Non","","Non",null,"",null,null,null,null,null,"Non","Non",null,null,null,null,""," - ","","-","--"]
["",null,null,{"$f":"IF(ISBLANK(B155),\"\",COUNTA(#REF!))","v":""},null,null,null,null,null,null,null,null,null,null,"Non","","Non",null,"",null,null,null,null,null,"Non","Non",null,null,null,null,""," - ","","-","--"]
["",null,null,{"$f":"IF(ISBLANK(B156),\"\",COUNTA(#REF!))","v":""},null,null,null,null,null,null,null,null,null,null,"Non","","Non",null,"",null,null,null,null,null,"Non","Non",null,null,null,null,""," - ","","-","--"]
["",null,null,{"$f":"IF(ISBLANK(B157),\"\",COUNTA(#REF!))","v":""},null,null,null,null,null,null,null,null,null,null,"Non","","Non",null,"",null,null,null,null,null,"Non","Non",null,null,null,null,""," - ","","-","--"]
["",null,null,{"$f":"IF(ISBLANK(B158),\"\",COUNTA(#REF!))","v":""},null,null,null,null,null,null,null,null,null,null,"Non","","Non",null,"",null,null,null,null,null,"Non","Non",null,null,null,null,""," - ","","-","--"]
["",null,null,{"$f":"IF(ISBLANK(B159),\"\",COUNTA(#REF!))","v":""},null,null,null,null,null,null,null,null,null,null,"Non","","Non",null,"",null,null,null,null,null,"Non","Non",null,null,null,null,""," - ","","-","--"]
["",null,null,{"$f":"IF(ISBLANK(B160),\"\",COUNTA(#REF!))","v":""},null,null,null,null,null,null,null,null,null,null,"Non","","Non",null,"",null,null,null,null,null,"Non","Non",null,null,null,null,""," - ","","-","--"]
["",null,null,{"$f":"IF(ISBLANK(B161),\"\",COUNTA(#REF!))","v":""},null,null,null,null,null,null,null,null,null,null,"Non","","Non",null,"",null,null,null,null,null,"Non","Non",null,null,null,null,""," - ","","-","--"]
["",null,null,{"$f":"IF(ISBLANK(B162),\"\",COUNTA(#REF!))","v":""},null,null,null,null,null,null,null,null,null,null,"Non","","Non",null,"",null,null,null,null,null,"Non","Non",null,null,null,null,""," - ","","-","--"]
["",null,null,{"$f":"IF(ISBLANK(B163),\"\",COUNTA(#REF!))","v":""},null,null,null,null,null,null,null,null,null,null,"Non","","Non",null,"",null,null,null,null,null,"Non","Non",null,null,null,null,""," - ","","-","--"]
["",null,null,{"$f":"IF(ISBLANK(B164),\"\",COUNTA(#REF!))","v":""},null,null,null,null,null,null,null,null,null,null,"Non","","Non",null,"",null,null,null,null,null,"Non","Non",null,null,null,null,""," - ","","-","--"]
["",null,null,{"$f":"IF(ISBLANK(B165),\"\",COUNTA(#REF!))","v":""},null,null,null,null,null,null,null,null,null,null,"Non","","Non",null,"",null,null,null,null,null,"Non","Non",null,null,null,null,""," - ","","-","--"]
["",null,null,{"$f":"IF(ISBLANK(B166),\"\",COUNTA(#REF!))","v":""},null,null,null,null,null,null,null,null,null,null,"Non","","Non",null,"",null,null,null,null,null,"Non","Non",null,null,null,null,""," - ","","-","--"]
["",null,null,{"$f":"IF(ISBLANK(B167),\"\",COUNTA(#REF!))","v":""},null,null,null,null,null,null,null,null,null,null,"Non","","Non",null,"",null,null,null,null,null,"Non","Non",null,null,null,null,""," - ","","-","--"]
["",null,null,{"$f":"IF(ISBLANK(B168),\"\",COUNTA(#REF!))","v":""},null,null,null,null,null,null,null,null,null,null,"Non","","Non",null,"",null,null,null,null,null,"Non","Non",null,null,null,null,""," - ","","-","--"]
["",null,null,{"$f":"IF(ISBLANK(B169),\"\",COUNTA(#REF!))","v":""},null,null,null,null,null,null,null,null,null,null,"Non","","Non",null,"",null,null,null,null,null,"Non","Non",null,null,null,null,""," - ","","-","--"]
["",null,null,{"$f":"IF(ISBLANK(B170),\"\",COUNTA(#REF!))","v":""},null,null,null,null,null,null,null,null,null,null,"Non","","Non",null,"",null,null,null,null,null,"Non","Non",null,null,null,null,""," - ","","-","--"]
["",null,null,{"$f":"IF(ISBLANK(B171),\"\",COUNTA(#REF!))","v":""},null,null,null,null,null,null,null,null,null,null,"Non","","Non",null,"",null,null,null,null,null,"Non","Non",null,null,null,null,""," - ","","-","--"]
["",null,null,{"$f":"IF(ISBLANK(B172),\"\",COUNTA(#REF!))","v":""},null,null,null,null,null,null,null,null,null,null,"Non","","Non",null,"",null,null,null,null,null,"Non","Non",null,null,null,null,""," - ","","-","--"]
["",null,null,{"$f":"IF(ISBLANK(B173),\"\",COUNTA(#REF!))","v":""},null,null,null,null,null,null,null,null,null,null,"Non","","Non",null,"",null,null,null,null,null,"Non","Non",null,null,null,null,""," - ","","-","--"]
["",null,null,{"$f":"IF(ISBLANK(B174),\"\",COUNTA(#REF!))","v":""},null,null,null,null,null,null,null,null,null,null,"Non","","Non",null,"",null,null,null,null,null,"Non","Non",null,null,null,null,""," - ","","-","--"]
["",null,null,{"$f":"IF(ISBLANK(B175),\"\",COUNTA(#REF!))","v":""},null,null,null,null,null,null,null,null,null,null,"Non","","Non",null,"",null,null,null,null,null,"Non","Non",null,null,null,null,""," - ","","-","--"]
["",null,null,{"$f":"IF(ISBLANK(B176),\"\",COUNTA(#REF!))","v":""},null,null,null,null,null,null,null,null,null,null,"Non","","Non",null,"",null,null,null,null,null,"Non","Non",null,null,null,null,""," - ","","-","--"]
["",null,null,{"$f":"IF(ISBLANK(B177),\"\",COUNTA(#REF!))","v":""},null,null,null,null,null,null,null,null,null,null,"Non","","Non",null,"",null,null,null,null,null,"Non","Non",null,null,null,null,""," - ","","-","--"]
["",null,null,{"$f":"IF(ISBLANK(B178),\"\",COUNTA(#REF!))","v":""},null,null,null,null,null,null,null,null,null,null,"Non","","Non",null,"",null,null,null,null,null,"Non","Non",null,null,null,null,""," - ","","-","--"]
["",null,null,{"$f":"IF(ISBLANK(B179),\"\",COUNTA(#REF!))","v":""},null,null,null,null,null,null,null,null,null,null,"Non","","Non",null,"",null,null,null,null,null,"Non","Non",null,null,null,null,""," - ","","-","--"]
["",null,null,{"$f":"IF(ISBLANK(B180),\"\",COUNTA(#REF!))","v":""},null,null,null,null,null,null,null,null,null,null,"Non","","Non",null,"",null,null,null,null,null,"Non","Non",null,null,null,null,""," - ","","-","--"]
["",null,null,{"$f":"IF(ISBLANK(B181),\"\",COUNTA(#REF!))","v":""},null,null,null,null,null,null,null,null,null,null,"Non","","Non",null,"",null,null,null,null,null,"Non","Non",null,null,null,null,""," - ","","-","--"]
["",null,null,{"$f":"IF(ISBLANK(B182),\"\",COUNTA(#REF!))","v":""},null,null,null,null,null,null,null,null,null,null,"Non","","Non",null,"",null,null,null,null,null,"Non","Non",null,null,null,null,""," - ","","-","--"]
["",null,null,{"$f":"IF(ISBLANK(B183),\"\",COUNTA(#REF!))","v":""},null,null,null,null,null,null,null,null,null,null,"Non","","Non",null,"",null,null,null,null,null,"Non","Non",null,null,null,null,""," - ","","-","--"]
["",null,null,{"$f":"IF(ISBLANK(B184),\"\",COUNTA(#REF!))","v":""},null,null,null,null,null,null,null,null,null,null,"Non","","Non",null,"",null,null,null,null,null,"Non","Non",null,null,null,null,""," - ","","-","--"]
["",null,null,{"$f":"IF(ISBLANK(B185),\"\",COUNTA(#REF!))","v":""},null,null,null,null,null,null,null,null,null,null,"Non","","Non",null,"",null,null,null,null,null,"Non","Non",null,null,null,null,""," - ","","-","--"]
["",null,null,{"$f":"IF(ISBLANK(B186),\"\",COUNTA(#REF!))","v":""},null,null,null,null,null,null,null,null,null,null,"Non","","Non",null,"",null,null,null,null,null,"Non","Non",null,null,null,null,""," - ","","-","--"]
["",null,null,{"$f":"IF(ISBLANK(B187),\"\",COUNTA(#REF!))","v":""},null,null,null,null,null,null,null,null,null,null,"Non","","Non",null,"",null,null,null,null,null,"Non","Non",null,null,null,null,""," - ","","-","--"]
["",null,null,{"$f":"IF(ISBLANK(B188),\"\",COUNTA(#REF!))","v":""},null,null,null,null,null,null,null,null,null,null,"Non","","Non",null,"",null,null,null,null,null,"Non","Non",null,null,null,null,""," - ","","-","--"]
["",null,null,{"$f":"IF(ISBLANK(B189),\"\",COUNTA(#REF!))","v":""},null,null,null,null,null,null,null,null,null,null,"Non","","Non",null,"",null,null,null,null,null,"Non","Non",null,null,null,null,""," - ","","-","--"]
["",null,null,{"$f":"IF(ISBLANK(B190),\"\",COUNTA(#REF!))","v":""},null,null,null,null,null,null,null,null,null,null,"Non","","Non",null,"",null,null,null,null,null,"Non","Non",null,null,null,null,""," - ","","-","--"]
["",null,null,{"$f":"IF(ISBLANK(B191),\"\",COUNTA(#REF!))","v":""},null,null,null,null,null,null,null,null,null,null,"Non","","Non",null,"",null,null,null,null,null,"Non","Non",null,null,null,null,""," - ","","-","--"]
["",null,null,{"$f":"IF(ISBLANK(B192),\"\",COUNTA(#REF!))","v":""},null,null,null,null,null,null,null,null,null,null,"Non","","Non",null,"",null,null,null,null,null,"Non","Non",null,null,null,null,""," - ","","-","--"]
["",null,null,{"$f":"IF(ISBLANK(B193),\"\",COUNTA(#REF!))","v":""},null,null,null,null,null,null,null,null,null,null,"Non","","Non",null,"",null,null,null,null,null,"Non","Non",null,null,null,null,""," - ","","-","--"]
["",null,null,{"$f":"IF(ISBLANK(B194),\"\",COUNTA(#REF!))","v":""},null,null,null,null,null,null,null,null,null,null,"Non","","Non",null,"",null,null,null,null,null,"Non","Non",null,null,null,null,""," - ","","-","--"]
["",null,null,{"$f":"IF(ISBLANK(B195),\"\",COUNTA(#REF!))","v":""},null,null,null,null,null,null,null,null,null,null,"Non","","Non",null,"",null,null,null,null,null,"Non","Non",null,null,null,null,""," - ","","-","--"]
["",null,null,{"$f":"IF(ISBLANK(B196),\"\",COUNTA(#REF!))","v":""},null,null,null,null,null,null,null,null,null,null,"Non","","Non",null,"",null,null,null,null,null,"Non","Non",null,null,null,null,""," - ","","-","--"]
["",null,null,{"$f":"IF(ISBLANK(B197),\"\",COUNTA(#REF!))","v":""},null,null,null,null,null,null,null,null,null,null,"Non","","Non",null,"",null,null,null,null,null,"Non","Non",null,null,null,null,""," - ","","-","--"]
["",null,null,{"$f":"IF(ISBLANK(B198),\"\",COUNTA(#REF!))","v":""},null,null,null,null,null,null,null,null,null,null,"Non","","Non",null,"",null,null,null,null,null,"Non","Non",null,null,null,null,""," - ","","-","--"]
["",null,null,{"$f":"IF(ISBLANK(B199),\"\",COUNTA(#REF!))","v":""},null,null,null,null,null,null,null,null,null,null,"Non","","Non",null,"",null,null,null,null,null,"Non","Non",null,null,null,null,""," - ","","-","--"]
[{"$f":"IF(ISBLANK(B200),\"\",$C$2)","v":""},null,null,{"$f":"IF(ISBLANK(B200),\"\",COUNTA(#REF!))","v":""},null,null,null,null,null,null,null,null,null,null,{"$f":"IF(AND(K200<>\"\",ISBLANK(N200),K200<TODAY()),\"Oui\",\"Non\")","v":"Non"},"",{"$f":"IF(AND(N200<>\"\",ISBLANK(N200),K200<TODAY()),\"Oui\",\"Non\")","v":"Non"},null,"",null,null,null,null,null,"Non","Non",null,null,null,null,""," - ","","-",{"$f":"CONCATENATE(M200,\"-\",AH200)","v":"--"}]
["",null,null,{"$f":"IF(ISBLANK(B201),\"\",COUNTA(#REF!))","v":""},null,null,null,null,null,null,null,null,null,null,"Non","","Non",null,"",null,null,null,null,null,{"$f":"IF(AND(U201<>\"\",ISBLANK(X201),U201<TODAY()),\"Oui\",\"Non\")","v":"Non"},{"$f":"IF(AND(S201=\"Oui\",ISBLANK(X201)),\"Oui\",\"Non\")","v":"Non"},null,null,null,null,""," - ","","-","--"]
["",null,null,{"$f":"IF(ISBLANK(B202),\"\",COUNTA(#REF!))","v":""},null,null,null,null,null,null,null,null,null,null,"Non","","Non",null,"",null,null,null,null,null,"Non","Non",null,null,null,null,""," - ","","-","--"]
["",null,null,{"$f":"IF(ISBLANK(B203),\"\",COUNTA(#REF!))","v":""},null,null,null,null,null,null,null,null,null,null,"Non","","Non",null,"",null,null,null,null,null,"Non","Non",null,null,null,null,""," - ","","-","--"]
["",null,null,{"$f":"IF(ISBLANK(B204),\"\",COUNTA(#REF!))","v":""},null,null,null,null,null,null,null,null,null,null,"Non","","Non",null,"",null,null,null,null,null,"Non","Non",null,null,null,null,""," - ","","-","--"]
["",null,null,{"$f":"IF(ISBLANK(B205),\"\",COUNTA(#REF!))","v":""},null,null,null,null,null,null,null,null,null,null,"Non","","Non",null,"",null,null,null,null,null,"Non","Non",null,null,null,null,""," - ","","-","--"]
["",null,null,{"$f":"IF(ISBLANK(B206),\"\",COUNTA(#REF!))","v":""},null,null,null,null,null,null,null,null,null,null,"Non","","Non",null,"",null,null,null,null,null,"Non","Non",null,null,null,null,""," - ","","-","--"]
["",null,null,{"$f":"IF(ISBLANK(B207),\"\",COUNTA(#REF!))","v":""},null,null,null,null,null,null,null,null,null,null,"Non","","Non",null,"",null,null,null,null,null,"Non","Non",null,null,null,null,""," - ","","-","--"]
["",null,null,{"$f":"IF(ISBLANK(B208),\"\",COUNTA(#REF!))","v":""},null,null,null,null,null,null,null,null,null,null,"Non","","Non",null,"",null,null,null,null,null,"Non","Non",null,null,null,null,""," - ","","-","--"]
["",null,null,{"$f":"IF(ISBLANK(B209),\"\",COUNTA(#REF!))","v":""},null,null,null,null,null,null,null,null,null,null,"Non","","Non",null,"",null,null,null,null,null,"Non","Non",null,null,null,null,""," - ","","-","--"]
["",null,null,{"$f":"IF(ISBLANK(B210),\"\",COUNTA(#REF!))","v":""},null,null,null,null,null,null,null,null,null,null,"Non","","Non",null,"",null,null,null,null,null,"Non","Non",null,null,null,null,""," - ","","-","--"]
["",null,null,{"$f":"IF(ISBLANK(B211),\"\",COUNTA(#REF!))","v":""},null,null,null,null,null,null,null,null,null,null,"Non","","Non",null,"",null,null,null,null,null,"Non","Non",null,null,null,null,{"$f":"IF(K211=\"\",\"\",K211-TODAY())","v":""},{"$f":"IF(ISBLANK(F211),CONCATENATE(E211,\" - \",AG211),CONCATENATE(F211,\" - \",AG211))","v":" - "},{"$f":"IF(ISBLANK(B211),\"\",YEAR(C211))","v":""},{"$f":"CONCATENATE(H211,\"-\",AG211)","v":"-"},"--"]
["",null,null,{"$f":"IF(ISBLANK(B212),\"\",COUNTA(#REF!))","v":""},null,null,null,null,null,null,null,null,null,null,"Non","","Non",null,"",null,null,null,null,null,"Non","Non",null,null,null,null,""," - ","","-","--"]
["",null,null,{"$f":"IF(ISBLANK(B213),\"\",COUNTA(#REF!))","v":""},null,null,null,null,null,null,null,null,null,null,"Non","","Non",null,"",null,null,null,null,null,"Non","Non",null,null,null,null,""," - ","","-","--"]
["",null,null,{"$f":"IF(ISBLANK(B214),\"\",COUNTA(#REF!))","v":""},null,null,null,null,null,null,null,null,null,null,"Non","","Non",null,"",null,null,null,null,null,"Non","Non",null,null,null,null,""," - ","","-","--"]
["",null,null,{"$f":"IF(ISBLANK(B215),\"\",COUNTA(#REF!))","v":""},null,null,null,null,null,null,null,null,null,null,"Non",{"$f":"IF(ISBLANK(I215),\"\",IF(K215=\"\",\"délai à préciser\",IF(M215=\"\",\"statut à préciser\",IF(M215=\"finalisée\",IF(N215=\"\",\"date de solde à préciser\",IF(K215>=N215,\"fait\",\"retard\")),(IF(K215<TODAY(),\"retard\",\"Ok\"))))))","v":""},"Non",null,"",null,null,null,null,null,"Non","Non",null,null,null,null,""," - ","","-","--"]
["",null,null,{"$f":"IF(ISBLANK(B216),\"\",COUNTA(#REF!))","v":""},null,null,null,null,null,null,null,null,null,null,"Non","","Non",null,{"$f":"IF(ISBLANK(H216),\"\",IF(OR(H216=\"Préventive\",H216=\"Corrective\"),\"Oui\",\"Non\"))","v":""},null,null,null,null,null,"Non","Non",null,null,null,null,""," - ","","-","--"]
["",null,null,{"$f":"IF(ISBLANK(B217),\"\",COUNTA(#REF!))","v":""},null,null,null,null,null,null,null,null,null,null,"Non","","Non",null,"",null,null,null,null,null,"Non","Non",null,null,null,null,""," - ","","-","--"]
["",null,null,{"$f":"IF(ISBLANK(B218),\"\",COUNTA(#REF!))","v":""},null,null,null,null,null,null,null,null,null,null,"Non","","Non",null,"",null,null,null,null,null,"Non","Non",null,null,null,null,""," - ","","-","--"]
["",null,null,{"$f":"IF(ISBLANK(B219),\"\",COUNTA(#REF!))","v":""},null,null,null,null,null,null,null,null,null,null,"Non","","Non",null,"",null,null,null,null,null,"Non","Non",null,null,null,null,""," - ","","-","--"]
["",null,null,{"$f":"IF(ISBLANK(B220),\"\",COUNTA(#REF!))","v":""},null,null,null,null,null,null,null,null,null,null,"Non","","Non",null,"",null,null,null,null,null,"Non","Non",null,null,null,null,""," - ","","-","--"]
["",null,null,{"$f":"IF(ISBLANK(B221),\"\",COUNTA(#REF!))","v":""},null,null,null,null,null,null,null,null,null,null,"Non","","Non",null,"",null,null,null,null,null,"Non","Non",null,null,null,null,""," - ","","-","--"]
["",null,null,{"$f":"IF(ISBLANK(B222),\"\",COUNTA(#REF!))","v":""},null,null,null,null,null,null,null,null,null,null,"Non","","Non",null,"",null,null,null,null,null,"Non","Non",null,null,null,null,""," - ","","-","--"]
["",null,null,{"$f":"IF(ISBLANK(B223),\"\",COUNTA(#REF!))","v":""},null,null,null,null,null,null,null,null,null,null,"Non","","Non",null,"",null,null,null,null,null,"Non","Non",null,null,null,null,""," - ","","-","--"]
["",null,null,{"$f":"IF(ISBLANK(B224),\"\",COUNTA(#REF!))","v":""},null,null,null,null,null,null,null,null,null,null,"Non","","Non",null,"",null,null,null,null,null,"Non","Non",null,null,null,null,""," - ","","-","--"]
["",null,null,{"$f":"IF(ISBLANK(B225),\"\",COUNTA(#REF!))","v":""},null,null,null,null,null,null,null,null,null,null,"Non","","Non",null,"",null,null,null,null,null,"Non","Non",null,null,null,null,""," - ","","-","--"]
["",null,null,{"$f":"IF(ISBLANK(B226),\"\",COUNTA(#REF!))","v":""},null,null,null,null,null,null,null,null,null,null,"Non","","Non",null,"",null,null,null,null,null,"Non","Non",null,null,null,null,""," - ","","-","--"]
["",null,null,{"$f":"IF(ISBLANK(B227),\"\",COUNTA(#REF!))","v":""},null,null,null,null,null,null,null,null,null,null,"Non","","Non",null,"",null,null,null,null,null,"Non","Non",null,null,null,null,""," - ","","-","--"]
["",null,null,{"$f":"IF(ISBLANK(B228),\"\",COUNTA(#REF!))","v":""},null,null,null,null,null,null,null,null,null,null,"Non","","Non",null,"",null,null,null,null,null,"Non","Non",null,null,null,null,""," - ","","-","--"]
["",null,null,{"$f":"IF(ISBLANK(B229),\"\",COUNTA(#REF!))","v":""},null,null,null,null,null,null,null,null,null,null,"Non","","Non",null,"",null,null,null,null,null,"Non","Non",null,null,null,null,""," - ","","-","--"]
["",null,null,{"$f":"IF(ISBLANK(B230),\"\",COUNTA(#REF!))","v":""},null,null,null,null,null,null,null,null,null,null,"Non","","Non",null,"",null,null,null,null,null,"Non","Non",null,null,null,null,""," - ","","-","--"]
["",null,null,{"$f":"IF(ISBLANK(B231),\"\",COUNTA(#REF!))","v":""},null,null,null,null,null,null,null,null,null,null,"Non","","Non",null,"",null,null,null,null,null,"Non","Non",null,null,null,null,""," - ","","-","--"]
["",null,null,{"$f":"IF(ISBLANK(B232),\"\",COUNTA(#REF!))","v":""},null,null,null,null,null,null,null,null,null,null,"Non","","Non",null,"",null,null,null,null,null,"Non","Non",null,null,null,null,""," - ","","-","--"]
["",null,null,{"$f":"IF(ISBLANK(B233),\"\",COUNTA(#REF!))","v":""},null,null,null,null,null,null,null,null,null,null,"Non","","Non",null,"",null,null,null,null,null,"Non","Non",null,null,null,null,""," - ","","-","--"]
["",null,null,{"$f":"IF(ISBLANK(B234),\"\",COUNTA(#REF!))","v":""},null,null,null,null,null,null,null,null,null,null,"Non","","Non",null,"",null,null,null,null,null,"Non","Non",null,null,null,null,""," - ","","-","--"]
["",null,null,{"$f":"IF(ISBLANK(B235),\"\",COUNTA(#REF!))","v":""},null,null,null,null,null,null,null,null,null,null,"Non","","Non",null,"",null,null,null,null,null,"Non","Non",null,null,null,null,""," - ","","-","--"]
["",null,null,{"$f":"IF(ISBLANK(B236),\"\",COUNTA(#REF!))","v":""},null,null,null,null,null,null,null,null,null,null,"Non","","Non",null,"",null,null,null,null,null,"Non","Non",null,null,null,null,""," - ","","-","--"]
["",null,null,{"$f":"IF(ISBLANK(B237),\"\",COUNTA(#REF!))","v":""},null,null,null,null,null,null,null,null,null,null,"Non","","Non",null,"",null,null,null,null,null,"Non","Non",null,null,null,null,""," - ","","-","--"]
["",null,null,{"$f":"IF(ISBLANK(B238),\"\",COUNTA(#REF!))","v":""},null,null,null,null,null,null,null,null,null,null,"Non","","Non",null,"",null,null,null,null,null,"Non","Non",null,null,null,null,""," - ","","-","--"]
["",null,null,{"$f":"IF(ISBLANK(B239),\"\",COUNTA(#REF!))","v":""},null,null,null,null,null,null,null,null,null,null,"Non","","Non",null,"",null,null,null,null,null,"Non","Non",null,null,null,null,""," - ","","-","--"]
["",null,null,{"$f":"IF(ISBLANK(B240),\"\",COUNTA(#REF!))","v":""},null,null,null,null,null,null,null,null,null,null,"Non","","Non",null,"",null,null,null,null,null,"Non","Non",null,null,null,null,""," - ","","-","--"]
["",null,null,{"$f":"IF(ISBLANK(B241),\"\",COUNTA(#REF!))","v":""},null,null,null,null,null,null,null,null,null,null,"Non","","Non",null,"",null,null,null,null,null,"Non","Non",null,null,null,null,""," - ","","-","--"]
["",null,null,{"$f":"IF(ISBLANK(B242),\"\",COUNTA(#REF!))","v":""},null,null,null,null,null,null,null,null,null,null,"Non","","Non",null,"",null,null,null,null,null,"Non","Non",null,null,null,null,""," - ","","-","--"]
["",null,null,{"$f":"IF(ISBLANK(B243),\"\",COUNTA(#REF!))","v":""},null,null,null,null,null,null,null,null,null,null,"Non","","Non",null,"",null,null,null,null,null,"Non","Non",null,null,null,null,""," - ","","-","--"]
["",null,null,{"$f":"IF(ISBLANK(B244),\"\",COUNTA(#REF!))","v":""},null,null,null,null,null,null,null,null,null,null,"Non","","Non",null,"",null,null,null,null,null,"Non","Non",null,null,null,null,""," - ","","-","--"]
["",null,null,{"$f":"IF(ISBLANK(B245),\"\",COUNTA(#REF!))","v":""},null,null,null,null,null,null,null,null,null,null,"Non","","Non",null,"",null,null,null,null,null,"Non","Non",null,null,null,null,""," - ","","-","--"]
["",null,null,{"$f":"IF(ISBLANK(B246),\"\",COUNTA(#REF!))","v":""},null,null,null,null,null,null,null,null,null,null,"Non","","Non",null,"",null,null,null,null,null,"Non","Non",null,null,null,null,""," - ","","-","--"]
["",null,null,{"$f":"IF(ISBLANK(B247),\"\",COUNTA(#REF!))","v":""},null,null,null,null,null,null,null,null,null,null,"Non","","Non",null,"",null,null,null,null,null,"Non","Non",null,null,null,null,""," - ","","-","--"]
["",null,null,{"$f":"IF(ISBLANK(B248),\"\",COUNTA(#REF!))","v":""},null,null,null,null,null,null,null,null,null,null,"Non","","Non",null,"",null,null,null,null,null,"Non","Non",null,null,null,null,""," - ","","-","--"]
["",null,null,{"$f":"IF(ISBLANK(B249),\"\",COUNTA(#REF!))","v":""},null,null,null,null,null,null,null,null,null,null,"Non","","Non",null,"",null,null,null,null,null,"Non","Non",null,null,null,null,""," - ","","-","--"]
["",null,null,{"$f":"IF(ISBLANK(B250),\"\",COUNTA(#REF!))","v":""},null,null,null,null,null,null,null,null,null,null,"Non","","Non",null,"",null,null,null,null,null,"Non","Non",null,null,null,null,""," - ","","-","--"]
["",null,null,{"$f":"IF(ISBLANK(B251),\"\",COUNTA(#REF!))","v":""},null,null,null,null,null,null,null,null,null,null,"Non","","Non",null,"",null,null,null,null,null,"Non","Non",null,null,null,null,""," - ","","-","--"]
["",null,null,{"$f":"IF(ISBLANK(B252),\"\",COUNTA(#REF!))","v":""},null,null,null,null,null,null,null,null,null,null,"Non","","Non",null,"",null,null,null,null,null,"Non","Non",null,null,null,null,""," - ","","-","--"]
["",null,null,{"$f":"IF(ISBLANK(B253),\"\",COUNTA(#REF!))","v":""},null,null,null,null,null,null,null,null,null,null,"Non","","Non",null,"",null,null,null,null,null,"Non","Non",null,null,null,null,""," - ","","-","--"]
["",null,null,{"$f":"IF(ISBLANK(B254),\"\",COUNTA(#REF!))","v":""},null,null,null,null,null,null,null,null,null,null,"Non","","Non",null,"",null,null,null,null,null,"Non","Non",null,null,null,null,""," - ","","-","--"]
["",null,null,{"$f":"IF(ISBLANK(B255),\"\",COUNTA(#REF!))","v":""},null,null,null,null,null,null,null,null,null,null,"Non","","Non",null,"",null,null,null,null,null,"Non","Non",null,null,null,null,""," - ","","-","--"]
["",null,null,{"$f":"IF(ISBLANK(B256),\"\",COUNTA(#REF!))","v":""},null,null,null,null,null,null,null,null,null,null,"Non","","Non",null,"",null,null,null,null,null,"Non","Non",null,null,null,null,""," - ","","-","--"]
["",null,null,{"$f":"IF(ISBLANK(B257),\"\",COUNTA(#REF!))","v":""},null,null,null,null,null,null,null,null,null,null,"Non","","Non",null,"",null,null,null,null,null,"Non","Non",null,null,null,null,""," - ","","-","--"]
["",null,null,{"$f":"IF(ISBLANK(B258),\"\",COUNTA(#REF!))","v":""},null,null,null,null,null,null,null,null,null,null,"Non","","Non",null,"",null,null,null,null,null,"Non","Non",null,null,null,null,""," - ","","-","--"]
["",null,null,{"$f":"IF(ISBLANK(B259),\"\",COUNTA(#REF!))","v":""},null,null,null,null,null,null,null,null,null,null,"Non","","Non",null,"",null,null,null,null,null,"Non","Non",null,null,null,null,""," - ","","-","--"]
["",null,null,{"$f":"IF(ISBLANK(B260),\"\",COUNTA(#REF!))","v":""},null,null,null,null,null,null,null,null,null,null,"Non","","Non",null,"",null,null,null,null,null,"Non","Non",null,null,null,null,""," - ","","-","--"]
["",null,null,{"$f":"IF(ISBLANK(B261),\"\",COUNTA(#REF!))","v":""},null,null,null,null,null,null,null,null,null,null,"Non","","Non",null,"",null,null,null,null,null,"Non","Non",null,null,null,null,""," - ","","-","--"]
["",null,null,{"$f":"IF(ISBLANK(B262),\"\",COUNTA(#REF!))","v":""},null,null,null,null,null,null,null,null,null,null,"Non","","Non",null,"",null,null,null,null,null,"Non","Non",null,null,null,null,""," - ","","-","--"]
["",null,null,{"$f":"IF(ISBLANK(B263),\"\",COUNTA(#REF!))","v":""},null,null,null,null,null,null,null,null,null,null,"Non","","Non",null,"",null,null,null,null,null,"Non","Non",null,null,null,null,""," - ","","-","--"]
[{"$f":"IF(ISBLANK(B264),\"\",$C$2)","v":""},null,null,{"$f":"IF(ISBLANK(B264),\"\",COUNTA(#REF!))","v":""},null,null,null,null,null,null,null,null,null,null,{"$f":"IF(AND(K264<>\"\",ISBLANK(N264),K264<TODAY()),\"Oui\",\"Non\")","v":"Non"},"",{"$f":"IF(AND(N264<>\"\",ISBLANK(N264),K264<TODAY()),\"Oui\",\"Non\")","v":"Non"},null,"",null,null,null,null,null,"Non","Non",null,null,null,null,""," - ","","-",{"$f":"CONCATENATE(M264,\"-\",AH264)","v":"--"}]
["",null,null,{"$f":"IF(ISBLANK(B265),\"\",COUNTA(#REF!))","v":""},null,null,null,null,null,null,null,null,null,null,"Non","","Non",null,"",null,null,null,null,null,{"$f":"IF(AND(U265<>\"\",ISBLANK(X265),U265<TODAY()),\"Oui\",\"Non\")","v":"Non"},{"$f":"IF(AND(S265=\"Oui\",ISBLANK(X265)),\"Oui\",\"Non\")","v":"Non"},null,null,null,null,""," - ","","-","--"]
["",null,null,{"$f":"IF(ISBLANK(B266),\"\",COUNTA(#REF!))","v":""},null,null,null,null,null,null,null,null,null,null,"Non","","Non",null,"",null,null,null,null,null,"Non","Non",null,null,null,null,""," - ","","-","--"]
["",null,null,{"$f":"IF(ISBLANK(B267),\"\",COUNTA(#REF!))","v":""},null,null,null,null,null,null,null,null,null,null,"Non","","Non",null,"",null,null,null,null,null,"Non","Non",null,null,null,null,""," - ","","-","--"]
["",null,null,{"$f":"IF(ISBLANK(B268),\"\",COUNTA(#REF!))","v":""},null,null,null,null,null,null,null,null,null,null,"Non","","Non",null,"",null,null,null,null,null,"Non","Non",null,null,null,null,""," - ","","-","--"]
["",null,null,{"$f":"IF(ISBLANK(B269),\"\",COUNTA(#REF!))","v":""},null,null,null,null,null,null,null,null,null,null,"Non","","Non",null,"",null,null,null,null,null,"Non","Non",null,null,null,null,""," - ","","-","--"]
["",null,null,{"$f":"IF(ISBLANK(B270),\"\",COUNTA(#REF!))","v":""},null,null,null,null,null,null,null,null,null,null,"Non","","Non",null,"",null,null,null,null,null,"Non","Non",null,null,null,null,""," - ","","-","--"]
["",null,null,{"$f":"IF(ISBLANK(B271),\"\",COUNTA(#REF!))","v":""},null,null,null,null,null,null,null,null,null,null,"Non","","Non",null,"",null,null,null,null,null,"Non","Non",null,null,null,null,""," - ","","-","--"]
["",null,null,{"$f":"IF(ISBLANK(B272),\"\",COUNTA(#REF!))","v":""},null,null,null,null,null,null,null,null,null,null,"Non","","Non",null,"",null,null,null,null,null,"Non","Non",null,null,null,null,""," - ","","-","--"]
["",null,null,{"$f":"IF(ISBLANK(B273),\"\",COUNTA(#REF!))","v":""},null,null,null,null,null,null,null,null,null,null,"Non","","Non",null,"",null,null,null,null,null,"Non","Non",null,null,null,null,""," - ","","-","--"]
["",null,null,{"$f":"IF(ISBLANK(B274),\"\",COUNTA(#REF!))","v":""},null,null,null,null,null,null,null,null,null,null,"Non","","Non",null,"",null,null,null,null,null,"Non","Non",null,null,null,null,""," - ","","-","--"]
["",null,null,{"$f":"IF(ISBLANK(B275),\"\",COUNTA(#REF!))","v":""},null,null,null,null,null,null,null,null,null,null,"Non","","Non",null,"",null,null,null,null,null,"Non","Non",null,null,null,null,{"$f":"IF(K275=\"\",\"\",K275-TODAY())","v":""},{"$f":"IF(ISBLANK(F275),CONCATENATE(E275,\" - \",AG275),CONCATENATE(F275,\" - \",AG275))","v":" - "},{"$f":"IF(ISBLANK(B275),\"\",YEAR(C275))","v":""},{"$f":"CONCATENATE(H275,\"-\",AG275)","v":"-"},"--"]
["",null,null,{"$f":"IF(ISBLANK(B276),\"\",COUNTA(#REF!))","v":""},null,null,null,null,null,null,null,null,null,null,"Non","","Non",null,"",null,null,null,null,null,"Non","Non",null,null,null,null,""," - ","","-","--"]
["",null,null,{"$f":"IF(ISBLANK(B277),\"\",COUNTA(#REF!))","v":""},null,null,null,null,null,null,null,null,null,null,"Non","","Non",null,"",null,null,null,null,null,"Non","Non",null,null,null,null,""," - ","","-","--"]
["",null,null,{"$f":"IF(ISBLANK(B278),\"\",COUNTA(#REF!))","v":""},null,null,null,null,null,null,null,null,null,null,"Non","","Non",null,"",null,null,null,null,null,"Non","Non",null,null,null,null,""," - ","","-","--"]
["",null,null,{"$f":"IF(ISBLANK(B279),\"\",COUNTA(#REF!))","v":""},null,null,null,null,null,null,null,null,null,null,"Non",{"$f":"IF(ISBLANK(I279),\"\",IF(K279=\"\",\"délai à préciser\",IF(M279=\"\",\"statut à préciser\",IF(M279=\"finalisée\",IF(N279=\"\",\"date de solde à préciser\",IF(K279>=N279,\"fait\",\"retard\")),(IF(K279<TODAY(),\"retard\",\"Ok\"))))))","v":""},"Non",null,"",null,null,null,null,null,"Non","Non",null,null,null,null,""," - ","","-","--"]
["",null,null,{"$f":"IF(ISBLANK(B280),\"\",COUNTA(#REF!))","v":""},null,null,null,null,null,null,null,null,null,null,"Non","","Non",null,{"$f":"IF(ISBLANK(H280),\"\",IF(OR(H280=\"Préventive\",H280=\"Corrective\"),\"Oui\",\"Non\"))","v":""},null,null,null,null,null,"Non","Non",null,null,null,null,""," - ","","-","--"]
["",null,null,{"$f":"IF(ISBLANK(B281),\"\",COUNTA(#REF!))","v":""},null,null,null,null,null,null,null,null,null,null,"Non","","Non",null,"",null,null,null,null,null,"Non","Non",null,null,null,null,""," - ","","-","--"]
["",null,null,{"$f":"IF(ISBLANK(B282),\"\",COUNTA(#REF!))","v":""},null,null,null,null,null,null,null,null,null,null,"Non","","Non",null,"",null,null,null,null,null,"Non","Non",null,null,null,null,""," - ","","-","--"]
["",null,null,{"$f":"IF(ISBLANK(B283),\"\",COUNTA(#REF!))","v":""},null,null,null,null,null,null,null,null,null,null,"Non","","Non",null,"",null,null,null,null,null,"Non","Non",null,null,null,null,""," - ","","-","--"]
["",null,null,{"$f":"IF(ISBLANK(B284),\"\",COUNTA(#REF!))","v":""},null,null,null,null,null,null,null,null,null,null,"Non","","Non",null,"",null,null,null,null,null,"Non","Non",null,null,null,null,""," - ","","-","--"]
["",null,null,{"$f":"IF(ISBLANK(B285),\"\",COUNTA(#REF!))","v":""},null,null,null,null,null,null,null,null,null,null,"Non","","Non",null,"",null,null,null,null,null,"Non","Non",null,null,null,null,""," - ","","-","--"]
["",null,null,{"$f":"IF(ISBLANK(B286),\"\",COUNTA(#REF!))","v":""},null,null,null,null,null,null,null,null,null,null,"Non","","Non",null,"",null,null,null,null,null,"Non","Non",null,null,null,null,""," - ","","-","--"]
["",null,null,{"$f":"IF(ISBLANK(B287),\"\",COUNTA(#REF!))","v":""},null,null,null,null,null,null,null,null,null,null,"Non","","Non",null,"",null,null,null,null,null,"Non","Non",null,null,null,null,""," - ","","-","--"]
["",null,null,{"$f":"IF(ISBLANK(B288),\"\",COUNTA(#REF!))","v":""},null,null,null,null,null,null,null,null,null,null,"Non","","Non",null,"",null,null,null,null,null,"Non","Non",null,null,null,null,""," - ","","-","--"]
["",null,null,{"$f":"IF(ISBLANK(B289),\"\",COUNTA(#REF!))","v":""},null,null,null,null,null,null,null,null,null,null,"Non","","Non",null,"",null,null,null,null,null,"Non","Non",null,null,null,null,""," - ","","-","--"]
["",null,null,{"$f":"IF(ISBLANK(B290),\"\",COUNTA(#REF!))","v":""},null,null,null,null,null,null,null,null,null,null,"Non","","Non",null,"",null,null,null,null,null,"Non","Non",null,null,null,null,""," - ","","-","--"]
["",null,null,{"$f":"IF(ISBLANK(B291),\"\",COUNTA(#REF!))","v":""},null,null,null,null,null,null,null,null,null,null,"Non","","Non",null,"",null,null,null,null,null,"Non","Non",null,null,null,null,""," - ","","-","--"]
["",null,null,{"$f":"IF(ISBLANK(B292),\"\",COUNTA(#REF!))","v":""},null,null,null,null,null,null,null,null,null,null,"Non","","Non",null,"",null,null,null,null,null,"Non","Non",null,null,null,null,""," - ","","-","--"]
["",null,null,{"$f":"IF(ISBLANK(B293),\"\",COUNTA(#REF!))","v":""},null,null,null,null,null,null,null,null,null,null,"Non","","Non",null,"",null,null,null,null,null,"Non","Non",null,null,null,null,""," - ","","-","--"]
["",null,null,{"$f":"IF(ISBLANK(B294),\"\",COUNTA(#REF!))","v":""},null,null,null,null,null,null,null,null,null,null,"Non","","Non",null,"",null,null,null,null,null,"Non","Non",null,null,null,null,""," - ","","-","--"]
["",null,null,{"$f":"IF(ISBLANK(B295),\"\",COUNTA(#REF!))","v":""},null,null,null,null,null,null,null,null,null,null,"Non","","Non",null,"",null,null,null,null,null,"Non","Non",null,null,null,null,""," - ","","-","--"]
["",null,null,{"$f":"IF(ISBLANK(B296),\"\",COUNTA(#REF!))","v":""},null,null,null,null,null,null,null,null,null,null,"Non","","Non",null,"",null,null,null,null,null,"Non","Non",null,null,null,null,""," - ","","-","--"]
["",null,null,{"$f":"IF(ISBLANK(B297),\"\",COUNTA(#REF!))","v":""},null,null,null,null,null,null,null,null,null,null,"Non","","Non",null,"",null,null,null,null,null,"Non","Non",null,null,null,null,""," - ","","-","--"]
["",null,null,{"$f":"IF(ISBLANK(B298),\"\",COUNTA(#REF!))","v":""},null,null,null,null,null,null,null,null,null,null,"Non","","Non",null,"",null,null,null,null,null,"Non","Non",null,null,null,null,""," - ","","-","--"]
["",null,null,{"$f":"IF(ISBLANK(B299),\"\",COUNTA(#REF!))","v":""},null,null,null,null,null,null,null,null,null,null,"Non","","Non",null,"",null,null,null,null,null,"Non","Non",null,null,null,null,""," - ","","-","--"]
["",null,null,{"$f":"IF(ISBLANK(B300),\"\",COUNTA(#REF!))","v":""},null,null,null,null,null,null,null,null,null,null,"Non","","Non",null,"",null,null,null,null,null,"Non","Non",null,null,null,null,""," - ","","-","--"]
["",null,null,{"$f":"IF(ISBLANK(B301),\"\",COUNTA(#REF!))","v":""},null,null,null,null,null,null,null,null,null,null,"Non","","Non",null,"",null,null,null,null,null,"Non","Non",null,null,null,null,""," - ","","-","--"]
["",null,null,{"$f":"IF(ISBLANK(B302),\"\",COUNTA(#REF!))","v":""},null,null,null,null,null,null,null,null,null,null,"Non","","Non",null,"",null,null,null,null,null,"Non","Non",null,null,null,null,""," - ","","-","--"]
["",null,null,{"$f":"IF(ISBLANK(B303),\"\",COUNTA(#REF!))","v":""},null,null,null,null,null,null,null,null,null,null,"Non","","Non",null,"",null,null,null,null,null,"Non","Non",null,null,null,null,""," - ","","-","--"]
["",null,null,{"$f":"IF(ISBLANK(B304),\"\",COUNTA(#REF!))","v":""},null,null,null,null,null,null,null,null,null,null,"Non","","Non",null,"",null,null,null,null,null,"Non","Non",null,null,null,null,""," - ","","-","--"]
["",null,null,{"$f":"IF(ISBLANK(B305),\"\",COUNTA(#REF!))","v":""},null,null,null,null,null,null,null,null,null,null,"Non","","Non",null,"",null,null,null,null,null,"Non","Non",null,null,null,null,""," - ","","-","--"]
["",null,null,{"$f":"IF(ISBLANK(B306),\"\",COUNTA(#REF!))","v":""},null,null,null,null,null,null,null,null,null,null,"Non","","Non",null,"",null,null,null,null,null,"Non","Non",null,null,null,null,""," - ","","-","--"]
["",null,null,{"$f":"IF(ISBLANK(B307),\"\",COUNTA(#REF!))","v":""},null,null,null,null,null,null,null,null,null,null,"Non","","Non",null,"",null,null,null,null,null,"Non","Non",null,null,null,null,""," - ","","-","--"]
["",null,null,{"$f":"IF(ISBLANK(B308),\"\",COUNTA(#REF!))","v":""},null,null,null,null,null,null,null,null,null,null,"Non","","Non",null,"",null,null,null,null,null,"Non","Non",null,null,null,null,""," - ","","-","--"]
["",null,null,{"$f":"IF(ISBLANK(B309),\"\",COUNTA(#REF!))","v":""},null,null,null,null,null,null,null,null,null,null,"Non","","Non",null,"",null,null,null,null,null,"Non","Non",null,null,null,null,""," - ","","-","--"]
["",null,null,{"$f":"IF(ISBLANK(B310),\"\",COUNTA(#REF!))","v":""},null,null,null,null,null,null,null,null,null,null,"Non","","Non",null,"",null,null,null,null,null,"Non","Non",null,null,null,null,""," - ","","-","--"]
["",null,null,{"$f":"IF(ISBLANK(B311),\"\",COUNTA(#REF!))","v":""},null,null,null,null,null,null,null,null,null,null,"Non","","Non",null,"",null,null,null,null,null,"Non","Non",null,null,null,null,""," - ","","-","--"]
["",null,null,{"$f":"IF(ISBLANK(B312),\"\",COUNTA(#REF!))","v":""},null,null,null,null,null,null,null,null,null,null,"Non","","Non",null,"",null,null,null,null,null,"Non","Non",null,null,null,null,""," - ","","-","--"]
["",null,null,{"$f":"IF(ISBLANK(B313),\"\",COUNTA(#REF!))","v":""},null,null,null,null,null,null,null,null,null,null,"Non","","Non",null,"",null,null,null,null,null,"Non","Non",null,null,null,null,""," - ","","-","--"]
["",null,null,{"$f":"IF(ISBLANK(B314),\"\",COUNTA(#REF!))","v":""},null,null,null,null,null,null,null,null,null,null,"Non","","Non",null,"",null,null,null,null,null,"Non","Non",null,null,null,null,""," - ","","-","--"]
["",null,null,{"$f":"IF(ISBLANK(B315),\"\",COUNTA(#REF!))","v":""},null,null,null,null,null,null,null,null,null,null,"Non","","Non",null,"",null,null,null,null,null,"Non","Non",null,null,null,null,""," - ","","-","--"]
["",null,null,{"$f":"IF(ISBLANK(B316),\"\",COUNTA(#REF!))","v":""},null,null,null,null,null,null,null,null,null,null,"Non","","Non",null,"",null,null,null,null,null,"Non","Non",null,null,null,null,""," - ","","-","--"]
["",null,null,{"$f":"IF(ISBLANK(B317),\"\",COUNTA(#REF!))","v":""},null,null,null,null,null,null,null,null,null,null,"Non","","Non",null,"",null,null,null,null,null,"Non","Non",null,null,null,null,""," - ","","-","--"]
["",null,null,{"$f":"IF(ISBLANK(B318),\"\",COUNTA(#REF!))","v":""},null,null,null,null,null,null,null,null,null,null,"Non","","Non",null,"",null,null,null,null,null,"Non","Non",null,null,null,null,""," - ","","-","--"]
["",null,null,{"$f":"IF(ISBLANK(B319),\"\",COUNTA(#REF!))","v":""},null,null,null,null,null,null,null,null,null,null,"Non","","Non",null,"",null,null,null,null,null,"Non","Non",null,null,null,null,""," - ","","-","--"]
["",null,null,{"$f":"IF(ISBLANK(B320),\"\",COUNTA(#REF!))","v":""},null,null,null,null,null,null,null,null,null,null,"Non","","Non",null,"",null,null,null,null,null,"Non","Non",null,null,null,null,""," - ","","-","--"]
["",null,null,{"$f":"IF(ISBLANK(B321),\"\",COUNTA(#REF!))","v":""},null,null,null,null,null,null,null,null,null,null,"Non","","Non",null,"",null,null,null,null,null,"Non","Non",null,null,null,null,""," - ","","-","--"]
["",null,null,{"$f":"IF(ISBLANK(B322),\"\",COUNTA(#REF!))","v":""},null,null,null,null,null,null,null,null,null,null,"Non","","Non",null,"",null,null,null,null,null,"Non","Non",null,null,null,null,""," - ","","-","--"]
["",null,null,{"$f":"IF(ISBLANK(B323),\"\",COUNTA(#REF!))","v":""},null,null,null,null,null,null,null,null,null,null,"Non","","Non",null,"",null,null,null,null,null,"Non","Non",null,null,null,null,""," - ","","-","--"]
["",null,null,{"$f":"IF(ISBLANK(B324),\"\",COUNTA(#REF!))","v":""},null,null,null,null,null,null,null,null,null,null,"Non","","Non",null,"",null,null,null,null,null,"Non","Non",null,null,null,null,""," - ","","-","--"]
["",null,null,{"$f":"IF(ISBLANK(B325),\"\",COUNTA(#REF!))","v":""},null,null,null,null,null,null,null,null,null,null,"Non","","Non",null,"",null,null,null,null,null,"Non","Non",null,null,null,null,""," - ","","-","--"]
["",null,null,{"$f":"IF(ISBLANK(B326),\"\",COUNTA(#REF!))","v":""},null,null,null,null,null,null,null,null,null,null,"Non","","Non",null,"",null,null,null,null,null,"Non","Non",null,null,null,null,""," - ","","-","--"]
["",null,null,{"$f":"IF(ISBLANK(B327),\"\",COUNTA(#REF!))","v":""},null,null,null,null,null,null,null,null,null,null,"Non","","Non",null,"",null,null,null,null,null,"Non","Non",null,null,null,null,""," - ","","-","--"]
[{"$f":"IF(ISBLANK(B328),\"\",$C$2)","v":""},null,null,{"$f":"IF(ISBLANK(B328),\"\",COUNTA(#REF!))","v":""},null,null,null,null,null,null,null,null,null,null,{"$f":"IF(AND(K328<>\"\",ISBLANK(N328),K328<TODAY()),\"Oui\",\"Non\")","v":"Non"},"",{"$f":"IF(AND(N328<>\"\",ISBLANK(N328),K328<TODAY()),\"Oui\",\"Non\")","v":"Non"},null,"",null,null,null,null,null,"Non","Non",null,null,null,null,""," - ","","-",{"$f":"CONCATENATE(M328,\"-\",AH328)","v":"--"}]
["",null,null,{"$f":"IF(ISBLANK(B329),\"\",COUNTA(#REF!))","v":""},null,null,null,null,null,null,null,null,null,null,"Non","","Non",null,"",null,null,null,null,null,{"$f":"IF(AND(U329<>\"\",ISBLANK(X329),U329<TODAY()),\"Oui\",\"Non\")","v":"Non"},{"$f":"IF(AND(S329=\"Oui\",ISBLANK(X329)),\"Oui\",\"Non\")","v":"Non"},null,null,null,null,""," - ","","-","--"]
["",null,null,{"$f":"IF(ISBLANK(B330),\"\",COUNTA(#REF!))","v":""},null,null,null,null,null,null,null,null,null,null,"Non","","Non",null,"",null,null,null,null,null,"Non","Non",null,null,null,null,""," - ","","-","--"]
["",null,null,{"$f":"IF(ISBLANK(B331),\"\",COUNTA(#REF!))","v":""},null,null,null,null,null,null,null,null,null,null,"Non","","Non",null,"",null,null,null,null,null,"Non","Non",null,null,null,null,""," - ","","-","--"]
["",null,null,{"$f":"IF(ISBLANK(B332),\"\",COUNTA(#REF!))","v":""},null,null,null,null,null,null,null,null,null,null,"Non","","Non",null,"",null,null,null,null,null,"Non","Non",null,null,null,null,""," - ","","-","--"]
["",null,null,{"$f":"IF(ISBLANK(B333),\"\",COUNTA(#REF!))","v":""},null,null,null,null,null,null,null,null,null,null,"Non","","Non",null,"",null,null,null,null,null,"Non","Non",null,null,null,null,""," - ","","-","--"]
["",null,null,{"$f":"IF(ISBLANK(B334),\"\",COUNTA(#REF!))","v":""},null,null,null,null,null,null,null,null,null,null,"Non","","Non",null,"",null,null,null,null,null,"Non","Non",null,null,null,null,""," - ","","-","--"]
["",null,null,{"$f":"IF(ISBLANK(B335),\"\",COUNTA(#REF!))","v":""},null,null,null,null,null,null,null,null,null,null,"Non","","Non",null,"",null,null,null,null,null,"Non","Non",null,null,null,null,""," - ","","-","--"]
["",null,null,{"$f":"IF(ISBLANK(B336),\"\",COUNTA(#REF!))","v":""},null,null,null,null,null,null,null,null,null,null,"Non","","Non",null,"",null,null,null,null,null,"Non","Non",null,null,null,null,""," - ","","-","--"]
["",null,null,{"$f":"IF(ISBLANK(B337),\"\",COUNTA(#REF!))","v":""},null,null,null,null,null,null,null,null,null,null,"Non","","Non",null,"",null,null,null,null,null,"Non","Non",null,null,null,null,""," - ","","-","--"]
["",null,null,{"$f":"IF(ISBLANK(B338),\"\",COUNTA(#REF!))","v":""},null,null,null,null,null,null,null,null,null,null,"Non","","Non",null,"",null,null,null,null,null,"Non","Non",null,null,null,null,""," - ","","-","--"]
["",null,null,{"$f":"IF(ISBLANK(B339),\"\",COUNTA(#REF!))","v":""},null,null,null,null,null,null,null,null,null,null,"Non","","Non",null,"",null,null,null,null,null,"Non","Non",null,null,null,null,{"$f":"IF(K339=\"\",\"\",K339-TODAY())","v":""},{"$f":"IF(ISBLANK(F339),CONCATENATE(E339,\" - \",AG339),CONCATENATE(F339,\" - \",AG339))","v":" - "},{"$f":"IF(ISBLANK(B339),\"\",YEAR(C339))","v":""},{"$f":"CONCATENATE(H339,\"-\",AG339)","v":"-"},"--"]
["",null,null,{"$f":"IF(ISBLANK(B340),\"\",COUNTA(#REF!))","v":""},null,null,null,null,null,null,null,null,null,null,"Non","","Non",null,"",null,null,null,null,null,"Non","Non",null,null,null,null,""," - ","","-","--"]
["",null,null,{"$f":"IF(ISBLANK(B341),\"\",COUNTA(#REF!))","v":""},null,null,null,null,null,null,null,null,null,null,"Non","","Non",null,"",null,null,null,null,null,"Non","Non",null,null,null,null,""," - ","","-","--"]
["",null,null,{"$f":"IF(ISBLANK(B342),\"\",COUNTA(#REF!))","v":""},null,null,null,null,null,null,null,null,null,null,"Non","","Non",null,"",null,null,null,null,null,"Non","Non",null,null,null,null,""," - ","","-","--"]
["",null,null,{"$f":"IF(ISBLANK(B343),\"\",COUNTA(#REF!))","v":""},null,null,null,null,null,null,null,null,null,null,"Non",{"$f":"IF(ISBLANK(I343),\"\",IF(K343=\"\",\"délai à préciser\",IF(M343=\"\",\"statut à préciser\",IF(M343=\"finalisée\",IF(N343=\"\",\"date de solde à préciser\",IF(K343>=N343,\"fait\",\"retard\")),(IF(K343<TODAY(),\"retard\",\"Ok\"))))))","v":""},"Non",null,"",null,null,null,null,null,"Non","Non",null,null,null,null,""," - ","","-","--"]
["",null,null,{"$f":"IF(ISBLANK(B344),\"\",COUNTA(#REF!))","v":""},null,null,null,null,null,null,null,null,null,null,"Non","","Non",null,{"$f":"IF(ISBLANK(H344),\"\",IF(OR(H344=\"Préventive\",H344=\"Corrective\"),\"Oui\",\"Non\"))","v":""},null,null,null,null,null,"Non","Non",null,null,null,null,""," - ","","-","--"]
["",null,null,{"$f":"IF(ISBLANK(B345),\"\",COUNTA(#REF!))","v":""},null,null,null,null,null,null,null,null,null,null,"Non","","Non",null,"",null,null,null,null,null,"Non","Non",null,null,null,null,""," - ","","-","--"]
["",null,null,{"$f":"IF(ISBLANK(B346),\"\",COUNTA(#REF!))","v":""},null,null,null,null,null,null,null,null,null,null,"Non","","Non",null,"",null,null,null,null,null,"Non","Non",null,null,null,null,""," - ","","-","--"]
["",null,null,{"$f":"IF(ISBLANK(B347),\"\",COUNTA(#REF!))","v":""},null,null,null,null,null,null,null,null,null,null,"Non","","Non",null,"",null,null,null,null,null,"Non","Non",null,null,null,null,""," - ","","-","--"]
["",null,null,{"$f":"IF(ISBLANK(B348),\"\",COUNTA(#REF!))","v":""},null,null,null,null,null,null,null,null,null,null,"Non","","Non",null,"",null,null,null,null,null,"Non","Non",null,null,null,null,""," - ","","-","--"]
["",null,null,{"$f":"IF(ISBLANK(B349),\"\",COUNTA(#REF!))","v":""},null,null,null,null,null,null,null,null,null,null,"Non","","Non",null,"",null,null,null,null,null,"Non","Non",null,null,null,null,""," - ","","-","--"]
["",null,null,{"$f":"IF(ISBLANK(B350),\"\",COUNTA(#REF!))","v":""},null,null,null,null,null,null,null,null,null,null,"Non","","Non",null,"",null,null,null,null,null,"Non","Non",null,null,null,null,""," - ","","-","--"]
["",null,null,{"$f":"IF(ISBLANK(B351),\"\",COUNTA(#REF!))","v":""},null,null,null,null,null,null,null,null,null,null,"Non","","Non",null,"",null,null,null,null,null,"Non","Non",null,null,null,null,""," - ","","-","--"]
["",null,null,{"$f":"IF(ISBLANK(B352),\"\",COUNTA(#REF!))","v":""},null,null,null,null,null,null,null,null,null,null,"Non","","Non",null,"",null,null,null,null,null,"Non","Non",null,null,null,null,""," - ","","-","--"]
["",null,null,{"$f":"IF(ISBLANK(B353),\"\",COUNTA(#REF!))","v":""},null,null,null,null,null,null,null,null,null,null,"Non","","Non",null,"",null,null,null,null,null,"Non","Non",null,null,null,null,""," - ","","-","--"]
["",null,null,{"$f":"IF(ISBLANK(B354),\"\",COUNTA(#REF!))","v":""},null,null,null,null,null,null,null,null,null,null,"Non","","Non",null,"",null,null,null,null,null,"Non","Non",null,null,null,null,""," - ","","-","--"]
["",null,null,{"$f":"IF(ISBLANK(B355),\"\",COUNTA(#REF!))","v":""},null,null,null,null,null,null,null,null,null,null,"Non","","Non",null,"",null,null,null,null,null,"Non","Non",null,null,null,null,""," - ","","-","--"]
["",null,null,{"$f":"IF(ISBLANK(B356),\"\",COUNTA(#REF!))","v":""},null,null,null,null,null,null,null,null,null,null,"Non","","Non",null,"",null,null,null,null,null,"Non","Non",null,null,null,null,""," - ","","-","--"]
["",null,null,{"$f":"IF(ISBLANK(B357),\"\",COUNTA(#REF!))","v":""},null,null,null,null,null,null,null,null,null,null,"Non","","Non",null,"",null,null,null,null,null,"Non","Non",null,null,null,null,""," - ","","-","--"]
["",null,null,{"$f":"IF(ISBLANK(B358),\"\",COUNTA(#REF!))","v":""},null,null,null,null,null,null,null,null,null,null,"Non","","Non",null,"",null,null,null,null,null,"Non","Non",null,null,null,null,""," - ","","-","--"]
["",null,null,{"$f":"IF(ISBLANK(B359),\"\",COUNTA(#REF!))","v":""},null,null,null,null,null,null,null,null,null,null,"Non","","Non",null,"",null,null,null,null,null,"Non","Non",null,null,null,null,""," - ","","-","--"]
["",null,null,{"$f":"IF(ISBLANK(B360),\"\",COUNTA(#REF!))","v":""},null,null,null,null,null,null,null,null,null,null,"Non","","Non",null,"",null,null,null,null,null,"Non","Non",null,null,null,null,""," - ","","-","--"]
["",null,null,{"$f":"IF(ISBLANK(B361),\"\",COUNTA(#REF!))","v":""},null,null,null,null,null,null,null,null,null,null,"Non","","Non",null,"",null,null,null,null,null,"Non","Non",null,null,null,null,""," - ","","-","--"]
["",null,null,{"$f":"IF(ISBLANK(B362),\"\",COUNTA(#REF!))","v":""},null,null,null,null,null,null,null,null,null,null,"Non","","Non",null,"",null,null,null,null,null,"Non","Non",null,null,null,null,""," - ","","-","--"]
["",null,null,{"$f":"IF(ISBLANK(B363),\"\",COUNTA(#REF!))","v":""},null,null,null,null,null,null,null,null,null,null,"Non","","Non",null,"",null,null,null,null,null,"Non","Non",null,null,null,null,""," - ","","-","--"]
["",null,null,{"$f":"IF(ISBLANK(B364),\"\",COUNTA(#REF!))","v":""},null,null,null,null,null,null,null,null,null,null,"Non","","Non",null,"",null,null,null,null,null,"Non","Non",null,null,null,null,""," - ","","-","--"]
["",null,null,{"$f":"IF(ISBLANK(B365),\"\",COUNTA(#REF!))","v":""},null,null,null,null,null,null,null,null,null,null,"Non","","Non",null,"",null,null,null,null,null,"Non","Non",null,null,null,null,""," - ","","-","--"]
["",null,null,{"$f":"IF(ISBLANK(B366),\"\",COUNTA(#REF!))","v":""},null,null,null,null,null,null,null,null,null,null,"Non","","Non",null,"",null,null,null,null,null,"Non","Non",null,null,null,null,""," - ","","-","--"]
["",null,null,{"$f":"IF(ISBLANK(B367),\"\",COUNTA(#REF!))","v":""},null,null,null,null,null,null,null,null,null,null,"Non","","Non",null,"",null,null,null,null,null,"Non","Non",null,null,null,null,""," - ","","-","--"]
["",null,null,{"$f":"IF(ISBLANK(B368),\"\",COUNTA(#REF!))","v":""},null,null,null,null,null,null,null,null,null,null,"Non","","Non",null,"",null,null,null,null,null,"Non","Non",null,null,null,null,""," - ","","-","--"]
["",null,null,{"$f":"IF(ISBLANK(B369),\"\",COUNTA(#REF!))","v":""},null,null,null,null,null,null,null,null,null,null,"Non","","Non",null,"",null,null,null,null,null,"Non","Non",null,null,null,null,""," - ","","-","--"]
["",null,null,{"$f":"IF(ISBLANK(B370),\"\",COUNTA(#REF!))","v":""},null,null,null,null,null,null,null,null,null,null,"Non","","Non",null,"",null,null,null,null,null,"Non","Non",null,null,null,null,""," - ","","-","--"]
["",null,null,{"$f":"IF(ISBLANK(B371),\"\",COUNTA(#REF!))","v":""},null,null,null,null,null,null,null,null,null,null,"Non","","Non",null,"",null,null,null,null,null,"Non","Non",null,null,null,null,""," - ","","-","--"]
["",null,null,{"$f":"IF(ISBLANK(B372),\"\",COUNTA(#REF!))","v":""},null,null,null,null,null,null,null,null,null,null,"Non","","Non",null,"",null,null,null,null,null,"Non","Non",null,null,null,null,""," - ","","-","--"]
["",null,null,{"$f":"IF(ISBLANK(B373),\"\",COUNTA(#REF!))","v":""},null,null,null,null,null,null,null,null,null,null,"Non","","Non",null,"",null,null,null,null,null,"Non","Non",null,null,null,null,""," - ","","-","--"]
["",null,null,{"$f":"IF(ISBLANK(B374),\"\",COUNTA(#REF!))","v":""},null,null,null,null,null,null,null,null,null,null,"Non","","Non",null,"",null,null,null,null,null,"Non","Non",null,null,null,null,""," - ","","-","--"]
["",null,null,{"$f":"IF(ISBLANK(B375),\"\",COUNTA(#REF!))","v":""},null,null,null,null,null,null,null,null,null,null,"Non","","Non",null,"",null,null,null,null,null,"Non","Non",null,null,null,null,""," - ","","-","--"]
["",null,null,{"$f":"IF(ISBLANK(B376),\"\",COUNTA(#REF!))","v":""},null,null,null,null,null,null,null,null,null,null,"Non","","Non",null,"",null,null,null,null,null,"Non","Non",null,null,null,null,""," - ","","-","--"]
["",null,null,{"$f":"IF(ISBLANK(B377),\"\",COUNTA(#REF!))","v":""},null,null,null,null,null,null,null,null,null,null,"Non","","Non",null,"",null,null,null,null,null,"Non","Non",null,null,null,null,""," - ","","-","--"]
["",null,null,{"$f":"IF(ISBLANK(B378),\"\",COUNTA(#REF!))","v":""},null,null,null,null,null,null,null,null,null,null,"Non","","Non",null,"",null,null,null,null,null,"Non","Non",null,null,null,null,""," - ","","-","--"]
["",null,null,{"$f":"IF(ISBLANK(B379),\"\",COUNTA(#REF!))","v":""},null,null,null,null,null,null,null,null,null,null,"Non","","Non",null,"",null,null,null,null,null,"Non","Non",null,null,null,null,""," - ","","-","--"]
["",null,null,{"$f":"IF(ISBLANK(B380),\"\",COUNTA(#REF!))","v":""},null,null,null,null,null,null,null,null,null,null,"Non","","Non",null,"",null,null,null,null,null,"Non","Non",null,null,null,null,""," - ","","-","--"]
["",null,null,{"$f":"IF(ISBLANK(B381),\"\",COUNTA(#REF!))","v":""},null,null,null,null,null,null,null,null,null,null,"Non","","Non",null,"",null,null,null,null,null,"Non","Non",null,null,null,null,""," - ","","-","--"]
["",null,null,{"$f":"IF(ISBLANK(B382),\"\",COUNTA(#REF!))","v":""},null,null,null,null,null,null,null,null,null,null,"Non","","Non",null,"",null,null,null,null,null,"Non","Non",null,null,null,null,""," - ","","-","--"]
["",null,null,{"$f":"IF(ISBLANK(B383),\"\",COUNTA(#REF!))","v":""},null,null,null,null,null,null,null,null,null,null,"Non","","Non",null,"",null,null,null,null,null,"Non","Non",null,null,null,null,""," - ","","-","--"]
["",null,null,{"$f":"IF(ISBLANK(B384),\"\",COUNTA(#REF!))","v":""},null,null,null,null,null,null,null,null,null,null,"Non","","Non",null,"",null,null,null,null,null,"Non","Non",null,null,null,null,""," - ","","-","--"]
["",null,null,{"$f":"IF(ISBLANK(B385),\"\",COUNTA(#REF!))","v":""},null,null,null,null,null,null,null,null,null,null,"Non","","Non",null,"",null,null,null,null,null,"Non","Non",null,null,null,null,""," - ","","-","--"]
["",null,null,{"$f":"IF(ISBLANK(B386),\"\",COUNTA(#REF!))","v":""},null,null,null,null,null,null,null,null,null,null,"Non","","Non",null,"",null,null,null,null,null,"Non","Non",null,null,null,null,""," - ","","-","--"]
["",null,null,{"$f":"IF(ISBLANK(B387),\"\",COUNTA(#REF!))","v":""},null,null,null,null,null,null,null,null,null,null,"Non","","Non",null,"",null,null,null,null,null,"Non","Non",null,null,null,null,""," - ","","-","--"]
["",null,null,{"$f":"IF(ISBLANK(B388),\"\",COUNTA(#REF!))","v":""},null,null,null,null,null,null,null,null,null,null,"Non","","Non",null,"",null,null,null,null,null,"Non","Non",null,null,null,null,""," - ","","-","--"]
["",null,null,{"$f":"IF(ISBLANK(B389),\"\",COUNTA(#REF!))","v":""},null,null,null,null,null,null,null,null,null,null,"Non","","Non",null,"",null,null,null,null,null,"Non","Non",null,null,null,null,""," - ","","-","--"]
["",null,null,{"$f":"IF(ISBLANK(B390),\"\",COUNTA(#REF!))","v":""},null,null,null,null,null,null,null,null,null,null,"Non","","Non",null,"",null,null,null,null,null,"Non","Non",null,null,null,null,""," - ","","-","--"]
["",null,null,{"$f":"IF(ISBLANK(B391),\"\",COUNTA(#REF!))","v":""},null,null,null,null,null,null,null,null,null,null,"Non","","Non",null,"",null,null,null,null,null,"Non","Non",null,null,null,null,""," - ","","-","--"]
[{"$f":"IF(ISBLANK(B392),\"\",$C$2)","v":""},null,null,{"$f":"IF(ISBLANK(B392),\"\",COUNTA(#REF!))","v":""},null,null,null,null,null,null,null,null,null,null,{"$f":"IF(AND(K392<>\"\",ISBLANK(N392),K392<TODAY()),\"Oui\",\"Non\")","v":"Non"},"",{"$f":"IF(AND(N392<>\"\",ISBLANK(N392),K392<TODAY()),\"Oui\",\"Non\")","v":"Non"},null,"",null,null,null,null,null,"Non","Non",null,null,null,null,""," - ","","-",{"$f":"CONCATENATE(M392,\"-\",AH392)","v":"--"}]
["",null,null,{"$f":"IF(ISBLANK(B393),\"\",COUNTA(#REF!))","v":""},null,null,null,null,null,null,null,null,null,null,"Non","","Non",null,"",null,null,null,null,null,{"$f":"IF(AND(U393<>\"\",ISBLANK(X393),U393<TODAY()),\"Oui\",\"Non\")","v":"Non"},{"$f":"IF(AND(S393=\"Oui\",ISBLANK(X393)),\"Oui\",\"Non\")","v":"Non"},null,null,null,null,""," - ","","-","--"]
["",null,null,{"$f":"IF(ISBLANK(B394),\"\",COUNTA(#REF!))","v":""},null,null,null,null,null,null,null,null,null,null,"Non","","Non",null,"",null,null,null,null,null,"Non","Non",null,null,null,null,""," - ","","-","--"]
["",null,null,{"$f":"IF(ISBLANK(B395),\"\",COUNTA(#REF!))","v":""},null,null,null,null,null,null,null,null,null,null,"Non","","Non",null,"",null,null,null,null,null,"Non","Non",null,null,null,null,""," - ","","-","--"]
["",null,null,{"$f":"IF(ISBLANK(B396),\"\",COUNTA(#REF!))","v":""},null,null,null,null,null,null,null,null,null,null,"Non","","Non",null,"",null,null,null,null,null,"Non","Non",null,null,null,null,""," - ","","-","--"]
["",null,null,{"$f":"IF(ISBLANK(B397),\"\",COUNTA(#REF!))","v":""},null,null,null,null,null,null,null,null,null,null,"Non","","Non",null,"",null,null,null,null,null,"Non","Non",null,null,null,null,""," - ","","-","--"]
["",null,null,{"$f":"IF(ISBLANK(B398),\"\",COUNTA(#REF!))","v":""},null,null,null,null,null,null,null,null,null,null,"Non","","Non",null,"",null,null,null,null,null,"Non","Non",null,null,null,null,""," - ","","-","--"]