{"text_format":"1","workbook":"xlsx","n_sheets":41,"sheets":["Accueil","Machin","Deuxième atelier","Etc…","Mouchoirs","Lego","Canard","Anglais","Bijoux","Météorite","Poissons","Dauphin","Excel","Ordinateur","Piège","Plantes","Truc","2","3","4","5","6","7","8","9","10","11","12","13","14","Oh","CP Mme Aara","CP-CE1 Mme Krishna","CE1 Mme La","CE1-CE2 Mme Machute","CE2 Mme Nahshon","CM1 M. Obel","CM1-CM2 M. Paola","CM2 M. Quartet","CLIS Mme Raeann","Statistiques"],"not_rendered":{"charts":0,"images":1,"macros":1,"external_links":0,"defined_names":17,"comments":0,"pivot_tables":0},"unopened":[],"bounds":{"document_bytes":16777216,"sheet_cells":100000,"rows_first":2000,"rows_last":500,"rows_between":2000,"halvings":0,"cell_chars":16384,"cell_head_chars":4096},"cells_cut":0,"cells_raw":0,"read":"whole","date_system":"1900"}

{"sheet":"Accueil","index":0,"n_rows":66,"n_cols":10,"rows_kept":66,"cut":false,"hidden":false,"merged":[[11,4,12,4],[11,5,12,5],[13,7,14,7],[13,8,14,8],[19,4,20,4],[19,5,20,5],[65,0,66,10],[17,8,18,8],[17,5,18,5],[15,4,16,4],[15,5,16,5],[15,6,16,6],[17,4,18,4],[17,7,18,7],[17,6,18,6],[15,8,16,8],[15,7,16,7],[4,0,18,0],[34,0,35,8],[19,6,20,6],[11,6,12,6],[13,6,14,6],[0,0,1,10],[23,4,33,10],[2,0,2,2],[10,9,10,10],[21,4,21,5],[19,7,20,7],[19,8,20,8],[19,0,33,0],[11,7,12,7],[10,4,10,8],[11,8,12,8],[13,4,14,4],[13,5,14,5]]}
["Atelier Périscolaires / 2014-2015"]
[]
["Renseignements ateliers :"]
[null,"Nom de l'atelier","Nom des intervenants","Description"]
["Atelier du lundi","Machin","Le porc","En partenariat avec la ferme pédagogique de Pise et la jardinerie de Rome"]
[null,"Deuxième atelier"]
[null,"Etc…"]
[null,"Mouchoirs"]
[null,"Lego"]
[null,"Canard"]
[null,"Anglais",null,null,"Dates des périodes :",null,null,null,null,"Imprimer les ateliers"]
[null,"Bijoux",null,null,"P1","du","2014-09-02","au","2014-10-17"]
[null,"Météorite"]
[null,"Poissons",null,null,"P2","du","2014-11-02","au","2014-12-18"]
[null,"Dauphin"]
[null,"Excel",null,null,"P3","du","2015-01-04","au","2015-02-20"]
[null,"Ordinateur"]
[null,"Piège",null,null,"P4","du","2015-03-08","au","2015-04-15"]
[null,"Plantes"]
["Atelier du jeudi","Truc",null,null,"P5","du","2015-05-03","au","2015-07-03"]
[null,2]
[null,3,null,null,"Nombre total d'élèves :",null,{"$f":"SUM('CP Mme Aara'!B6:C6,'CP-CE1 Mme Krishna'!A6:C6,'CE1 Mme La'!A6:C6,'CE1-CE2 Mme Machute'!A6:C6,'CE2 Mme Nahshon'!A6:C6,'CM1 M. Obel'!A6:C6,'CM1-CM2 M. Paola'!A6:C6,'CLIS Mme Raeann'!A6:C6,'CM2 M. Quartet'!A6:C6)","v":194}]
[null,4]
[null,5,null,null,"Afin de profiter de toutes les fonctionnalités de ce classeur, merci de renseigner :\n- Les aterliers du lundi et du jeudi\n- Les dates des périodes\n- Les dates des ateliers de chaque période et de chaque jour"]
[null,6]
[null,7]
[null,8]
[null,9]
[null,10]
[null,11]
[null,12]
[null,13]
[null,14]
[null,"Oh"]
["Indiquer les dates des ateliers du lundi et du jeudi"]
[]
["Jour","J1","J2","J3","J4","J5","J6","J7","J8"]
["Lundi P1","2014-09-02","2014-09-03","2014-09-04","2014-09-05","2014-09-06","2014-09-07","2014-09-08","2014-09-08"]
["Jeudi P1","2015-09-05","2015-09-06","2015-09-07","2015-09-08","2015-09-09","2015-09-10","2015-09-11","2015-09-11"]
["Lundi P2","2014-11-02","2014-11-03","2014-11-04","2014-11-05","2014-11-06","2014-11-07","2014-11-08","2014-11-08"]
["Jeudi P2","2014-11-03","2014-11-04","2014-11-05","2014-11-06","2014-11-07","2014-11-08","2014-11-09","2014-11-09"]
["Lundi P3","2015-01-04","2015-01-04","2015-01-04","2015-01-04","2015-01-04","2015-01-04","2015-01-04","2015-01-04"]
["Jeudi P3","2015-01-05","2015-01-06","2015-01-07","2015-01-08","2015-01-09","2015-01-10","2015-01-11","2015-01-11"]
["Lundi P4","2015-03-08","2015-03-08","2015-03-08","2015-03-08","2015-03-08","2015-03-08","2015-03-08","2015-03-08"]
["Jeudi P4","2015-03-09","2015-03-10","2015-03-11","2015-03-12","2015-03-13","2015-03-14","2015-03-15","2015-03-15"]
["Lundi P5","2015-05-03","2015-05-03","2015-05-03","2015-05-03","2015-05-03","2015-05-03","2015-05-03","2015-05-03"]
["Jeudi P5","2015-05-04","2015-05-05","2015-05-06","2015-05-07","2015-05-08","2015-05-09","2015-05-10","2015-05-10"]
[]
[]
[]
[]
[]
[]
[]
[]
[]
[]
[]
[]
[]
[]
[]
[]
[]
[]
["Remerciements à la communauté CCM pour leur soutien technique !"]

{"sheet":"Machin","index":1,"n_rows":333,"n_cols":11,"rows_kept":333,"cut":false,"hidden":false,"merged":[[331,2,331,6],[332,2,332,6],[323,0,324,10],[327,2,327,6],[328,2,328,6],[329,2,329,6],[330,2,330,6],[265,0,266,10],[269,0,269,3],[269,4,269,5],[321,0,321,1],[322,0,322,1],[322,2,322,9],[207,0,208,10],[211,0,211,3],[211,4,211,5],[263,0,263,1],[264,0,264,1],[264,2,264,9],[149,0,150,10],[153,0,153,3],[153,4,153,5],[205,0,205,1],[206,0,206,1],[206,2,206,9],[91,0,92,10],[95,0,95,3],[95,4,95,5],[147,0,147,1],[148,0,148,1],[148,2,148,9],[8,1,15,9],[33,0,34,10],[37,0,37,3],[89,0,89,1],[90,0,90,1],[90,2,90,9],[37,4,37,5],[27,0,28,10],[29,0,32,10],[16,2,16,9],[19,1,25,9],[18,1,18,2]]}
[]
[]
[]
[]
[]
[]
[]
[]
[null,{"$f":"Accueil!B5","v":"Machin"}]
[]
[]
[]
[]
[]
[]
[]
[null,"Avec :",{"$f":"Accueil!C5","v":"Le porc"}]
[]
[null,"Description :"]
[null,{"$f":"Accueil!D5","v":"En partenariat avec la ferme pédagogique de Pise et la jardinerie de Rome"}]
[]
[]
[]
[]
[]
[]
[]
["ATTENTION !"]
[]
["Vous ne devez pas ajouter ou supprimer les enfants depuis cette feuille ! \nPour ajouter des enfants dans cet atelier -> Aller dans la feuille de la classe des enfants et suivre les instructions.\nPour supprimer des enfants de cet atelier -> Aller dans la feuille de la classe des enfants et suivre les instructions."]
[]
[]
[]
[{"$f":"Accueil!$B$5","v":"Machin"}]
[]
[]
["Période :",{"$f":"Accueil!$E$12","v":"P1"},{"$f":"Accueil!$F$12","v":"du"},{"$f":"Accueil!G12","v":"2014-09-02"},{"$f":"Accueil!$H$12","v":"au"},{"$f":"Accueil!$I$12","v":"2014-10-17"}]
["Selectionnez la classe participant à l'atelier :"]
["NOM","Prénom",{"$f":"Accueil!$B$38","v":"2014-09-02"},{"$f":"Accueil!$C$38","v":"2014-09-03"},{"$f":"Accueil!$D$38","v":"2014-09-04"},{"$f":"Accueil!$E$38","v":"2014-09-05"},{"$f":"Accueil!$F$38","v":"2014-09-06"},{"$f":"Accueil!$G$38","v":"2014-09-07"},{"$f":"Accueil!$H$38","v":"2014-09-08"},{"$f":"Accueil!$I$38","v":"2014-09-08"},"TOT"]
[null,null,null,null,null,null,null,null,null,null,{"$f":"SUM(C40:J40)","v":0}]
[null,null,null,null,null,null,null,null,null,null,{"$f":"SUM(C41:J41)","v":0}]
[null,null,null,null,null,null,null,null,null,null,0]
[null,null,null,null,null,null,null,null,null,null,0]
[null,null,null,null,null,null,null,null,null,null,0]
[null,null,null,null,null,null,null,null,null,null,0]
[null,null,null,null,null,null,null,null,null,null,0]
[null,null,null,null,null,null,null,null,null,null,0]
[null,null,null,null,null,null,null,null,null,null,0]
[null,null,null,null,null,null,null,null,null,null,0]
[null,null,null,null,null,null,null,null,null,null,0]
[null,null,null,null,null,null,null,null,null,null,0]
[null,null,null,null,null,null,null,null,null,null,0]
[null,null,null,null,null,null,null,null,null,null,0]
[null,null,null,null,null,null,null,null,null,null,0]
[null,null,null,null,null,null,null,null,null,null,0]
[null,null,null,null,null,null,null,null,null,null,0]
[null,null,null,null,null,null,null,null,null,null,0]
[null,null,null,null,null,null,null,null,null,null,0]
[null,null,null,null,null,null,null,null,null,null,0]
[null,null,null,null,null,null,null,null,null,null,0]
[null,null,null,null,null,null,null,null,null,null,0]
[null,null,null,null,null,null,null,null,null,null,0]
[null,null,null,null,null,null,null,null,null,null,0]
[null,null,null,null,null,null,null,null,null,null,0]
[null,null,null,null,null,null,null,null,null,null,{"$f":"SUM(C65:J65)","v":0}]
[null,null,null,null,null,null,null,null,null,null,{"$f":"SUM(C66:J66)","v":0}]
[null,null,null,null,null,null,null,null,null,null,0]
[null,null,null,null,null,null,null,null,null,null,0]
[null,null,null,null,null,null,null,null,null,null,0]
[null,null,null,null,null,null,null,null,null,null,0]
[null,null,null,null,null,null,null,null,null,null,0]
[null,null,null,null,null,null,null,null,null,null,0]
[null,null,null,null,null,null,null,null,null,null,0]
[null,null,null,null,null,null,null,null,null,null,0]
[null,null,null,null,null,null,null,null,null,null,0]
[null,null,null,null,null,null,null,null,null,null,0]
[null,null,null,null,null,null,null,null,null,null,0]
[null,null,null,null,null,null,null,null,null,null,0]
[null,null,null,null,null,null,null,null,null,null,0]
[null,null,null,null,null,null,null,null,null,null,0]
[null,null,null,null,null,null,null,null,null,null,0]
[null,null,null,null,null,null,null,null,null,null,0]
[null,null,null,null,null,null,null,null,null,null,{"$f":"SUM(C83:J83)","v":0}]
[null,null,null,null,null,null,null,null,null,null,0]
[null,null,null,null,null,null,null,null,null,null,0]
[null,null,null,null,null,null,null,null,null,null,0]
[null,null,null,null,null,null,null,null,null,null,0]
[null,null,null,null,null,null,null,null,null,null,0]
[null,null,null,null,null,null,null,null,null,null,0]
["TOT Jour",null,{"$f":"SUM(C40:C89)","v":0},{"$f":"SUM(D40:D89)","v":0},0,0,0,0,0,0]
["TOT Période",null,{"$f":"SUM(C90:J90)","v":0}]
[{"$f":"Accueil!$B$5","v":"Machin"}]
[]
[]
["Période :",{"$f":"Accueil!$E14","v":"P2"},{"$f":"Accueil!$F14","v":"du"},{"$f":"Accueil!$G14","v":"2014-11-02"},{"$f":"Accueil!$H14","v":"au"},{"$f":"Accueil!$I14","v":"2014-12-18"}]
["Selectionnez la classe participant à l'atelier :"]
["NOM","Prénom",{"$f":"Accueil!B40","v":"2014-11-02"},{"$f":"Accueil!C40","v":"2014-11-03"},{"$f":"Accueil!D40","v":"2014-11-04"},{"$f":"Accueil!E40","v":"2014-11-05"},{"$f":"Accueil!F40","v":"2014-11-06"},{"$f":"Accueil!G40","v":"2014-11-07"},{"$f":"Accueil!H40","v":"2014-11-08"},{"$f":"Accueil!I40","v":"2014-11-08"},"TOT"]
[null,null,null,null,null,null,null,null,null,null,{"$f":"SUM(C98:J98)","v":0}]
[null,null,null,null,null,null,null,null,null,null,{"$f":"SUM(C99:J99)","v":0}]
[null,null,null,null,null,null,null,null,null,null,0]
[null,null,null,null,null,null,null,null,null,null,0]
[null,null,null,null,null,null,null,null,null,null,0]
[null,null,null,null,null,null,null,null,null,null,0]
[null,null,null,null,null,null,null,null,null,null,0]
[null,null,null,null,null,null,null,null,null,null,0]
[null,null,null,null,null,null,null,null,null,null,0]
[null,null,null,null,null,null,null,null,null,null,0]
[null,null,null,null,null,null,null,null,null,null,0]
[null,null,null,null,null,null,null,null,null,null,0]
[null,null,null,null,null,null,null,null,null,null,0]
[null,null,null,null,null,null,null,null,null,null,0]
[null,null,null,null,null,null,null,null,null,null,0]
[null,null,null,null,null,null,null,null,null,null,0]
[null,null,null,null,null,null,null,null,null,null,0]
[null,null,null,null,null,null,null,null,null,null,0]
[null,null,null,null,null,null,null,null,null,null,0]
[null,null,null,null,null,null,null,null,null,null,0]
[null,null,null,null,null,null,null,null,null,null,0]
[null,null,null,null,null,null,null,null,null,null,0]
[null,null,null,null,null,null,null,null,null,null,0]
[null,null,null,null,null,null,null,null,null,null,0]
[null,null,null,null,null,null,null,null,null,null,0]
[null,null,null,null,null,null,null,null,null,null,{"$f":"SUM(C123:J123)","v":0}]
[null,null,null,null,null,null,null,null,null,null,{"$f":"SUM(C124:J124)","v":0}]
[null,null,null,null,null,null,null,null,null,null,0]
[null,null,null,null,null,null,null,null,null,null,0]
[null,null,null,null,null,null,null,null,null,null,0]
[null,null,null,null,null,null,null,null,null,null,0]
[null,null,null,null,null,null,null,null,null,null,0]
[null,null,null,null,null,null,null,null,null,null,0]
[null,null,null,null,null,null,null,null,null,null,0]
[null,null,null,null,null,null,null,null,null,null,0]
[null,null,null,null,null,null,null,null,null,null,0]
[null,null,null,null,null,null,null,null,null,null,0]
[null,null,null,null,null,null,null,null,null,null,0]
[null,null,null,null,null,null,null,null,null,null,0]
[null,null,null,null,null,null,null,null,null,null,0]
[null,null,null,null,null,null,null,null,null,null,0]
[null,null,null,null,null,null,null,null,null,null,0]
[null,null,null,null,null,null,null,null,null,null,0]
[null,null,null,null,null,null,null,null,null,null,0]
[null,null,null,null,null,null,null,null,null,null,0]
[null,null,null,null,null,null,null,null,null,null,0]
[null,null,null,null,null,null,null,null,null,null,0]
[null,null,null,null,null,null,null,null,null,null,0]
[null,null,null,null,null,null,null,null,null,null,0]
[null,null,null,null,null,null,null,null,null,null,0]
["TOT Jour",null,{"$f":"SUM(C98:C147)","v":0},{"$f":"SUM(D98:D147)","v":0},0,0,0,0,0,0]
["TOT Période",null,{"$f":"SUM(C148:J148)","v":0}]
[{"$f":"Accueil!$B$5","v":"Machin"}]
[]
[]
["Période :",{"$f":"Accueil!E16","v":"P3"},{"$f":"Accueil!$F16","v":"du"},{"$f":"Accueil!$G16","v":"2015-01-04"},{"$f":"Accueil!$H16","v":"au"},{"$f":"Accueil!$I16","v":"2015-02-20"}]
["Selectionnez la classe participant à l'atelier :"]
["NOM","Prénom",{"$f":"Accueil!B42","v":"2015-01-04"},{"$f":"Accueil!C42","v":"2015-01-04"},{"$f":"Accueil!D42","v":"2015-01-04"},{"$f":"Accueil!E42","v":"2015-01-04"},{"$f":"Accueil!F42","v":"2015-01-04"},{"$f":"Accueil!G42","v":"2015-01-04"},{"$f":"Accueil!H42","v":"2015-01-04"},{"$f":"Accueil!I42","v":"2015-01-04"},"TOT"]
[null,null,null,null,null,null,null,null,null,null,{"$f":"SUM(C156:J156)","v":0}]
[null,null,null,null,null,null,null,null,null,null,{"$f":"SUM(C157:J157)","v":0}]
[null,null,null,null,null,null,null,null,null,null,0]
[null,null,null,null,null,null,null,null,null,null,0]
[null,null,null,null,null,null,null,null,null,null,0]
[null,null,null,null,null,null,null,null,null,null,0]
[null,null,null,null,null,null,null,null,null,null,0]
[null,null,null,null,null,null,null,null,null,null,0]
[null,null,null,null,null,null,null,null,null,null,0]
[null,null,null,null,null,null,null,null,null,null,0]
[null,null,null,null,null,null,null,null,null,null,0]
[null,null,null,null,null,null,null,null,null,null,0]
[null,null,null,null,null,null,null,null,null,null,0]
[null,null,null,null,null,null,null,null,null,null,0]
[null,null,null,null,null,null,null,null,null,null,0]
[null,null,null,null,null,null,null,null,null,null,0]
[null,null,null,null,null,null,null,null,null,null,0]
[null,null,null,null,null,null,null,null,null,null,0]
[null,null,null,null,null,null,null,null,null,null,0]
[null,null,null,null,null,null,null,null,null,null,0]
[null,null,null,null,null,null,null,null,null,null,0]
[null,null,null,null,null,null,null,null,null,null,0]
[null,null,null,null,null,null,null,null,null,null,0]
[null,null,null,null,null,null,null,null,null,null,0]
[null,null,null,null,null,null,null,null,null,null,0]
[null,null,null,null,null,null,null,null,null,null,{"$f":"SUM(C181:J181)","v":0}]
[null,null,null,null,null,null,null,null,null,null,{"$f":"SUM(C182:J182)","v":0}]
[null,null,null,null,null,null,null,null,null,null,0]
[null,null,null,null,null,null,null,null,null,null,0]
[null,null,null,null,null,null,null,null,null,null,0]
[null,null,null,null,null,null,null,null,null,null,0]
[null,null,null,null,null,null,null,null,null,null,0]
[null,null,null,null,null,null,null,null,null,null,0]
[null,null,null,null,null,null,null,null,null,null,0]
[null,null,null,null,null,null,null,null,null,null,0]
[null,null,null,null,null,null,null,null,null,null,0]
[null,null,null,null,null,null,null,null,null,null,0]
[null,null,null,null,null,null,null,null,null,null,0]
[null,null,null,null,null,null,null,null,null,null,0]
[null,null,null,null,null,null,null,null,null,null,0]
[null,null,null,null,null,null,null,null,null,null,0]
[null,null,null,null,null,null,null,null,null,null,0]
[null,null,null,null,null,null,null,null,null,null,0]
[null,null,null,null,null,null,null,null,null,null,0]
[null,null,null,null,null,null,null,null,null,null,0]
[null,null,null,null,null,null,null,null,null,null,0]
[null,null,null,null,null,null,null,null,null,null,0]
[null,null,null,null,null,null,null,null,null,null,0]
[null,null,null,null,null,null,null,null,null,null,0]
[null,null,null,null,null,null,null,null,null,null,0]
["TOT Jour",null,{"$f":"SUM(C156:C205)","v":0},{"$f":"SUM(D156:D205)","v":0},0,0,0,0,0,0]
["TOT Période",null,{"$f":"SUM(C206:J206)","v":0}]
[{"$f":"Accueil!$B$5","v":"Machin"}]
[]
[]
["Période :",{"$f":"Accueil!E18","v":"P4"},{"$f":"Accueil!$F18","v":"du"},{"$f":"Accueil!$G18","v":"2015-03-08"},{"$f":"Accueil!$H18","v":"au"},{"$f":"Accueil!$I18","v":"2015-04-15"}]
["Selectionnez la classe participant à l'atelier :"]
["NOM","Prénom",{"$f":"Accueil!B44","v":"2015-03-08"},{"$f":"Accueil!C44","v":"2015-03-08"},{"$f":"Accueil!D44","v":"2015-03-08"},{"$f":"Accueil!E44","v":"2015-03-08"},{"$f":"Accueil!F44","v":"2015-03-08"},{"$f":"Accueil!G44","v":"2015-03-08"},{"$f":"Accueil!H44","v":"2015-03-08"},{"$f":"Accueil!I44","v":"2015-03-08"},"TOT"]
[null,null,null,null,null,null,null,null,null,null,{"$f":"SUM(C214:J214)","v":0}]
[null,null,null,null,null,null,null,null,null,null,{"$f":"SUM(C215:J215)","v":0}]
[null,null,null,null,null,null,null,null,null,null,0]
[null,null,null,null,null,null,null,null,null,null,0]
[null,null,null,null,null,null,null,null,null,null,0]
[null,null,null,null,null,null,null,null,null,null,0]
[null,null,null,null,null,null,null,null,null,null,0]
[null,null,null,null,null,null,null,null,null,null,0]
[null,null,null,null,null,null,null,null,null,null,0]
[null,null,null,null,null,null,null,null,null,null,0]
[null,null,null,null,null,null,null,null,null,null,0]
[null,null,null,null,null,null,null,null,null,null,0]
[null,null,null,null,null,null,null,null,null,null,0]
[null,null,null,null,null,null,null,null,null,null,0]
[null,null,null,null,null,null,null,null,null,null,0]
[null,null,null,null,null,null,null,null,null,null,0]
[null,null,null,null,null,null,null,null,null,null,0]
[null,null,null,null,null,null,null,null,null,null,0]
[null,null,null,null,null,null,null,null,null,null,0]
[null,null,null,null,null,null,null,null,null,null,0]
[null,null,null,null,null,null,null,null,null,null,0]
[null,null,null,null,null,null,null,null,null,null,0]
[null,null,null,null,null,null,null,null,null,null,0]
[null,null,null,null,null,null,null,null,null,null,0]
[null,null,null,null,null,null,null,null,null,null,0]
[null,null,null,null,null,null,null,null,null,null,{"$f":"SUM(C239:J239)","v":0}]
[null,null,null,null,null,null,null,null,null,null,{"$f":"SUM(C240:J240)","v":0}]
[null,null,null,null,null,null,null,null,null,null,0]
[null,null,null,null,null,null,null,null,null,null,0]
[null,null,null,null,null,null,null,null,null,null,0]
[null,null,null,null,null,null,null,null,null,null,0]
[null,null,null,null,null,null,null,null,null,null,0]
[null,null,null,null,null,null,null,null,null,null,0]
[null,null,null,null,null,null,null,null,null,null,0]
[null,null,null,null,null,null,null,null,null,null,0]
[null,null,null,null,null,null,null,null,null,null,0]
[null,null,null,null,null,null,null,null,null,null,0]
[null,null,null,null,null,null,null,null,null,null,0]
[null,null,null,null,null,null,null,null,null,null,0]
[null,null,null,null,null,null,null,null,null,null,0]
[null,null,null,null,null,null,null,null,null,null,0]
[null,null,null,null,null,null,null,null,null,null,0]
[null,null,null,null,null,null,null,null,null,null,0]
[null,null,null,null,null,null,null,null,null,null,0]
[null,null,null,null,null,null,null,null,null,null,0]
[null,null,null,null,null,null,null,null,null,null,0]
[null,null,null,null,null,null,null,null,null,null,0]
[null,null,null,null,null,null,null,null,null,null,0]
[null,null,null,null,null,null,null,null,null,null,0]
[null,null,null,null,null,null,null,null,null,null,0]
["TOT Jour",null,{"$f":"SUM(C214:C263)","v":0},{"$f":"SUM(D214:D263)","v":0},0,0,0,0,0,0]
["TOT Période",null,{"$f":"SUM(C264:J264)","v":0}]
[{"$f":"Accueil!$B$5","v":"Machin"}]
[]
[]
["Période :",{"$f":"Accueil!E20","v":"P5"},{"$f":"Accueil!$F20","v":"du"},{"$f":"Accueil!$G20","v":"2015-05-03"},{"$f":"Accueil!$H20","v":"au"},{"$f":"Accueil!$I20","v":"2015-07-03"}]
["Selectionnez la classe participant à l'atelier :"]
["NOM","Prénom",{"$f":"Accueil!B46","v":"2015-05-03"},{"$f":"Accueil!C46","v":"2015-05-03"},{"$f":"Accueil!D46","v":"2015-05-03"},{"$f":"Accueil!E46","v":"2015-05-03"},{"$f":"Accueil!F46","v":"2015-05-03"},{"$f":"Accueil!G46","v":"2015-05-03"},{"$f":"Accueil!H46","v":"2015-05-03"},{"$f":"Accueil!I46","v":"2015-05-03"},"TOT"]
[null,null,null,null,null,null,null,null,null,null,{"$f":"SUM(C272:J272)","v":0}]
[null,null,null,null,null,null,null,null,null,null,{"$f":"SUM(C273:J273)","v":0}]
[null,null,null,null,null,null,null,null,null,null,0]
[null,null,null,null,null,null,null,null,null,null,0]
[null,null,null,null,null,null,null,null,null,null,0]
[null,null,null,null,null,null,null,null,null,null,0]
[null,null,null,null,null,null,null,null,null,null,0]
[null,null,null,null,null,null,null,null,null,null,0]
[null,null,null,null,null,null,null,null,null,null,0]
[null,null,null,null,null,null,null,null,null,null,0]
[null,null,null,null,null,null,null,null,null,null,0]
[null,null,null,null,null,null,null,null,null,null,0]
[null,null,null,null,null,null,null,null,null,null,0]
[null,null,null,null,null,null,null,null,null,null,0]
[null,null,null,null,null,null,null,null,null,null,0]
[null,null,null,null,null,null,null,null,null,null,0]
[null,null,null,null,null,null,null,null,null,null,0]
[null,null,null,null,null,null,null,null,null,null,0]
[null,null,null,null,null,null,null,null,null,null,0]
[null,null,null,null,null,null,null,null,null,null,0]
[null,null,null,null,null,null,null,null,null,null,0]
[null,null,null,null,null,null,null,null,null,null,0]
[null,null,null,null,null,null,null,null,null,null,0]
[null,null,null,null,null,null,null,null,null,null,0]
[null,null,null,null,null,null,null,null,null,null,0]
[null,null,null,null,null,null,null,null,null,null,{"$f":"SUM(C297:J297)","v":0}]
[null,null,null,null,null,null,null,null,null,null,{"$f":"SUM(C298:J298)","v":0}]
[null,null,null,null,null,null,null,null,null,null,0]
[null,null,null,null,null,null,null,null,null,null,0]
[null,null,null,null,null,null,null,null,null,null,0]
[null,null,null,null,null,null,null,null,null,null,0]
[null,null,null,null,null,null,null,null,null,null,0]
[null,null,null,null,null,null,null,null,null,null,0]
[null,null,null,null,null,null,null,null,null,null,0]
[null,null,null,null,null,null,null,null,null,null,0]
[null,null,null,null,null,null,null,null,null,null,0]
[null,null,null,null,null,null,null,null,null,null,0]
[null,null,null,null,null,null,null,null,null,null,0]
[null,null,null,null,null,null,null,null,null,null,0]
[null,null,null,null,null,null,null,null,null,null,0]
[null,null,null,null,null,null,null,null,null,null,0]
[null,null,null,null,null,null,null,null,null,null,0]
[null,null,null,null,null,null,null,null,null,null,0]
[null,null,null,null,null,null,null,null,null,null,0]
[null,null,null,null,null,null,null,null,null,null,0]
[null,null,null,null,null,null,null,null,null,null,0]
[null,null,null,null,null,null,null,null,null,null,0]
[null,null,null,null,null,null,null,null,null,null,0]
[null,null,null,null,null,null,null,null,null,null,0]
[null,null,null,null,null,null,null,null,null,null,0]
["TOT Jour",null,{"$f":"SUM(C272:C321)","v":0},{"$f":"SUM(D272:D321)","v":0},0,0,0,0,0,0]
["TOT Période",null,{"$f":"SUM(C322:J322)","v":0}]
["Statistiques"]
[]
[]
["Nombre d'heure de fréquentation :"]
[{"$f":"Accueil!$E12","v":"P1"},{"$f":"$C$91*1.5","v":0},"heures de présence pour cet atelier et pour cette période"]
[{"$f":"Accueil!$E14","v":"P2"},{"$f":"$C$149*1.5","v":0},"heures de présence pour cet atelier et pour cette période"]
[{"$f":"Accueil!$E16","v":"P3"},{"$f":"$C$207*1.5","v":0},"heures de présence pour cet atelier et pour cette période"]
[{"$f":"Accueil!$E18","v":"P4"},{"$f":"$C$265*1.5","v":0},"heures de présence pour cet atelier et pour cette période"]
[{"$f":"Accueil!$E20","v":"P5"},{"$f":"$C$323*1.5","v":0},"heures de présence pour cet atelier et pour cette période"]
["TOT",{"$f":"SUM($B$328:$B$332)","v":0},"heures de présence pour cet atelier et pour l'année"]

{"sheet":"Deuxième atelier","index":2,"n_rows":333,"n_cols":11,"rows_kept":333,"cut":false,"hidden":false,"merged":[[90,2,90,9],[91,0,92,10],[95,0,95,3],[95,4,95,5],[16,2,16,9],[33,0,34,10],[37,0,37,3],[37,4,37,5],[89,0,89,1],[264,2,264,9],[19,0,22,10],[17,0,18,10],[205,0,205,1],[206,0,206,1],[206,2,206,9],[207,0,208,10],[211,0,211,3],[211,4,211,5],[147,0,147,1],[148,0,148,1],[148,2,148,9],[149,0,150,10],[153,0,153,3],[153,4,153,5],[90,0,90,1],[331,2,331,6],[332,2,332,6],[8,1,15,9],[323,0,324,10],[327,2,327,6],[328,2,328,6],[329,2,329,6],[330,2,330,6],[265,0,266,10],[269,0,269,3],[269,4,269,5],[321,0,321,1],[322,0,322,1],[322,2,322,9],[263,0,263,1],[264,0,264,1]]}
[]
[]
[]
[]
[]
[]
[]
[]
[null,{"$f":"Accueil!B6","v":"Deuxième atelier"}]
[]
[]
[]
[]
[]
[]
[]
[null,{"$f":"Machin!B17","v":"Avec :"},{"$f":"Accueil!C6","v":0}]
[{"$f":"Machin!$A$28","v":"ATTENTION !"}]
[]
[{"$f":"Machin!$A$30","v":"Vous ne devez pas ajouter ou supprimer les enfants depuis cette feuille ! \nPour ajouter des enfants dans cet atelier -> Aller dans la feuille de la classe des enfants et suivre les instructions.\nPour supprimer des enfants de cet atelier -> Aller dans la feuille de la classe des enfants et suivre les instructions."}]
[]
[]
[]
[]
[]
[]
[]
[]
[]
[]
[]
[]
[]
[{"$f":"Accueil!$B6","v":"Deuxième atelier"}]
[]
[]
["Période :",{"$f":"Accueil!$E$12","v":"P1"},{"$f":"Accueil!$F$12","v":"du"},{"$f":"Accueil!$G$12","v":"2014-09-02"},{"$f":"Accueil!$H$12","v":"au"},{"$f":"Accueil!$I$12","v":"2014-10-17"}]
["Selectionnez la classe participant à l'atelier :"]
["NOM","Prénom",{"$f":"Accueil!$B$38","v":"2014-09-02"},{"$f":"Accueil!$C$38","v":"2014-09-03"},{"$f":"Accueil!$D$38","v":"2014-09-04"},{"$f":"Accueil!$E$38","v":"2014-09-05"},{"$f":"Accueil!$F$38","v":"2014-09-06"},{"$f":"Accueil!$G$38","v":"2014-09-07"},{"$f":"Accueil!$H$38","v":"2014-09-08"},{"$f":"Accueil!$I$38","v":"2014-09-08"},"TOT"]
[null,null,null,null,null,null,null,null,null,null,{"$f":"SUM(C40:J40)","v":0}]
[null,null,null,null,null,null,null,null,null,null,{"$f":"SUM(C41:J41)","v":0}]
[null,null,null,null,null,null,null,null,null,null,0]
[null,null,null,null,null,null,null,null,null,null,0]
[null,null,null,null,null,null,null,null,null,null,0]
[null,null,null,null,null,null,null,null,null,null,0]
[null,null,null,null,null,null,null,null,null,null,0]
[null,null,null,null,null,null,null,null,null,null,0]
[null,null,null,null,null,null,null,null,null,null,0]
[null,null,null,null,null,null,null,null,null,null,0]
[null,null,null,null,null,null,null,null,null,null,0]
[null,null,null,null,null,null,null,null,null,null,0]
[null,null,null,null,null,null,null,null,null,null,0]
[null,null,null,null,null,null,null,null,null,null,0]
[null,null,null,null,null,null,null,null,null,null,0]
[null,null,null,null,null,null,null,null,null,null,0]
[null,null,null,null,null,null,null,null,null,null,0]
[null,null,null,null,null,null,null,null,null,null,0]
[null,null,null,null,null,null,null,null,null,null,0]
[null,null,null,null,null,null,null,null,null,null,0]
[null,null,null,null,null,null,null,null,null,null,0]
[null,null,null,null,null,null,null,null,null,null,0]
[null,null,null,null,null,null,null,null,null,null,0]
[null,null,null,null,null,null,null,null,null,null,0]
[null,null,null,null,null,null,null,null,null,null,0]
[null,null,null,null,null,null,null,null,null,null,{"$f":"SUM(C65:J65)","v":0}]
[null,null,null,null,null,null,null,null,null,null,{"$f":"SUM(C66:J66)","v":0}]
[null,null,null,null,null,null,null,null,null,null,0]
[null,null,null,null,null,null,null,null,null,null,0]
[null,null,null,null,null,null,null,null,null,null,0]
[null,null,null,null,null,null,null,null,null,null,0]
[null,null,null,null,null,null,null,null,null,null,0]
[null,null,null,null,null,null,null,null,null,null,0]
[null,null,null,null,null,null,null,null,null,null,0]
[null,null,null,null,null,null,null,null,null,null,0]
[null,null,null,null,null,null,null,null,null,null,0]
[null,null,null,null,null,null,null,null,null,null,0]
[null,null,null,null,null,null,null,null,null,null,0]
[null,null,null,null,null,null,null,null,null,null,0]
[null,null,null,null,null,null,null,null,null,null,0]
[null,null,null,null,null,null,null,null,null,null,0]
[null,null,null,null,null,null,null,null,null,null,0]
[null,null,null,null,null,null,null,null,null,null,0]
[null,null,null,null,null,null,null,null,null,null,0]
[null,null,null,null,null,null,null,null,null,null,0]
[null,null,null,null,null,null,null,null,null,null,0]
[null,null,null,null,null,null,null,null,null,null,0]
[null,null,null,null,null,null,null,null,null,null,0]
[null,null,null,null,null,null,null,null,null,null,0]
[null,null,null,null,null,null,null,null,null,null,0]
["TOT Jour",null,{"$f":"SUM(C40:C89)","v":0},{"$f":"SUM(D40:D89)","v":0},0,0,0,0,0,0]
["TOT Période",null,{"$f":"SUM(C90:J90)","v":0}]
[{"$f":"Accueil!$B6","v":"Deuxième atelier"}]
[]
[]
["Période :",{"$f":"Accueil!$E14","v":"P2"},{"$f":"Accueil!$F14","v":"du"},{"$f":"Accueil!$G14","v":"2014-11-02"},{"$f":"Accueil!$H14","v":"au"},{"$f":"Accueil!$I14","v":"2014-12-18"}]
["Selectionnez la classe participant à l'atelier :"]
["NOM","Prénom",{"$f":"Accueil!B40","v":"2014-11-02"},{"$f":"Accueil!C40","v":"2014-11-03"},{"$f":"Accueil!D40","v":"2014-11-04"},{"$f":"Accueil!E40","v":"2014-11-05"},{"$f":"Accueil!F40","v":"2014-11-06"},{"$f":"Accueil!G40","v":"2014-11-07"},{"$f":"Accueil!H40","v":"2014-11-08"},{"$f":"Accueil!I40","v":"2014-11-08"},"TOT"]
[null,null,null,null,null,null,null,null,null,null,{"$f":"SUM(C98:J98)","v":0}]
[null,null,null,null,null,null,null,null,null,null,{"$f":"SUM(C99:J99)","v":0}]
[null,null,null,null,null,null,null,null,null,null,0]
[null,null,null,null,null,null,null,null,null,null,0]
[null,null,null,null,null,null,null,null,null,null,0]
[null,null,null,null,null,null,null,null,null,null,0]
[null,null,null,null,null,null,null,null,null,null,0]
[null,null,null,null,null,null,null,null,null,null,0]
[null,null,null,null,null,null,null,null,null,null,0]
[null,null,null,null,null,null,null,null,null,null,0]
[null,null,null,null,null,null,null,null,null,null,0]
[null,null,null,null,null,null,null,null,null,null,0]
[null,null,null,null,null,null,null,null,null,null,0]
[null,null,null,null,null,null,null,null,null,null,0]
[null,null,null,null,null,null,null,null,null,null,0]
[null,null,null,null,null,null,null,null,null,null,0]
[null,null,null,null,null,null,null,null,null,null,0]
[null,null,null,null,null,null,null,null,null,null,0]
[null,null,null,null,null,null,null,null,null,null,0]
[null,null,null,null,null,null,null,null,null,null,0]
[null,null,null,null,null,null,null,null,null,null,0]
[null,null,null,null,null,null,null,null,null,null,0]
[null,null,null,null,null,null,null,null,null,null,0]
[null,null,null,null,null,null,null,null,null,null,0]
[null,null,null,null,null,null,null,null,null,null,0]
[null,null,null,null,null,null,null,null,null,null,{"$f":"SUM(C123:J123)","v":0}]
[null,null,null,null,null,null,null,null,null,null,{"$f":"SUM(C124:J124)","v":0}]
[null,null,null,null,null,null,null,null,null,null,0]
[null,null,null,null,null,null,null,null,null,null,0]
[null,null,null,null,null,null,null,null,null,null,0]
[null,null,null,null,null,null,null,null,null,null,0]
[null,null,null,null,null,null,null,null,null,null,0]
[null,null,null,null,null,null,null,null,null,null,0]
[null,null,null,null,null,null,null,null,null,null,0]
[null,null,null,null,null,null,null,null,null,null,0]
[null,null,null,null,null,null,null,null,null,null,0]
[null,null,null,null,null,null,null,null,null,null,0]
[null,null,null,null,null,null,null,null,null,null,0]
[null,null,null,null,null,null,null,null,null,null,0]
[null,null,null,null,null,null,null,null,null,null,0]
[null,null,null,null,null,null,null,null,null,null,0]
[null,null,null,null,null,null,null,null,null,null,0]
[null,null,null,null,null,null,null,null,null,null,0]
[null,null,null,null,null,null,null,null,null,null,0]
[null,null,null,null,null,null,null,null,null,null,0]
[null,null,null,null,null,null,null,null,null,null,0]
[null,null,null,null,null,null,null,null,null,null,0]
[null,null,null,null,null,null,null,null,null,null,0]
[null,null,null,null,null,null,null,null,null,null,0]
[null,null,null,null,null,null,null,null,null,null,0]
["TOT Jour",null,{"$f":"SUM(C98:C147)","v":0},{"$f":"SUM(D98:D147)","v":0},0,0,0,0,0,0]
["TOT Période",null,{"$f":"SUM(C148:J148)","v":0}]
[{"$f":"Accueil!$B6","v":"Deuxième atelier"}]
[]
[]
["Période :",{"$f":"Accueil!E16","v":"P3"},{"$f":"Accueil!$F16","v":"du"},{"$f":"Accueil!$G16","v":"2015-01-04"},{"$f":"Accueil!$H16","v":"au"},{"$f":"Accueil!$I16","v":"2015-02-20"}]
["Selectionnez la classe participant à l'atelier :"]
["NOM","Prénom",{"$f":"Accueil!B42","v":"2015-01-04"},{"$f":"Accueil!C42","v":"2015-01-04"},{"$f":"Accueil!D42","v":"2015-01-04"},{"$f":"Accueil!E42","v":"2015-01-04"},{"$f":"Accueil!F42","v":"2015-01-04"},{"$f":"Accueil!G42","v":"2015-01-04"},{"$f":"Accueil!H42","v":"2015-01-04"},{"$f":"Accueil!I42","v":"2015-01-04"},"TOT"]
[null,null,null,null,null,null,null,null,null,null,{"$f":"SUM(C156:J156)","v":0}]
[null,null,null,null,null,null,null,null,null,null,{"$f":"SUM(C157:J157)","v":0}]
[null,null,null,null,null,null,null,null,null,null,0]
[null,null,null,null,null,null,null,null,null,null,0]
[null,null,null,null,null,null,null,null,null,null,0]
[null,null,null,null,null,null,null,null,null,null,0]
[null,null,null,null,null,null,null,null,null,null,0]
[null,null,null,null,null,null,null,null,null,null,0]
[null,null,null,null,null,null,null,null,null,null,0]
[null,null,null,null,null,null,null,null,null,null,0]
[null,null,null,null,null,null,null,null,null,null,0]
[null,null,null,null,null,null,null,null,null,null,0]
[null,null,null,null,null,null,null,null,null,null,0]
[null,null,null,null,null,null,null,null,null,null,0]
[null,null,null,null,null,null,null,null,null,null,0]
[null,null,null,null,null,null,null,null,null,null,0]
[null,null,null,null,null,null,null,null,null,null,0]
[null,null,null,null,null,null,null,null,null,null,0]
[null,null,null,null,null,null,null,null,null,null,0]
[null,null,null,null,null,null,null,null,null,null,0]
[null,null,null,null,null,null,null,null,null,null,0]
[null,null,null,null,null,null,null,null,null,null,0]
[null,null,null,null,null,null,null,null,null,null,0]
[null,null,null,null,null,null,null,null,null,null,0]
[null,null,null,null,null,null,null,null,null,null,0]
[null,null,null,null,null,null,null,null,null,null,{"$f":"SUM(C181:J181)","v":0}]
[null,null,null,null,null,null,null,null,null,null,{"$f":"SUM(C182:J182)","v":0}]
[null,null,null,null,null,null,null,null,null,null,0]
[null,null,null,null,null,null,null,null,null,null,0]
[null,null,null,null,null,null,null,null,null,null,0]
[null,null,null,null,null,null,null,null,null,null,0]
[null,null,null,null,null,null,null,null,null,null,0]
[null,null,null,null,null,null,null,null,null,null,0]
[null,null,null,null,null,null,null,null,null,null,0]
[null,null,null,null,null,null,null,null,null,null,0]
[null,null,null,null,null,null,null,null,null,null,0]
[null,null,null,null,null,null,null,null,null,null,0]
[null,null,null,null,null,null,null,null,null,null,0]
[null,null,null,null,null,null,null,null,null,null,0]
[null,null,null,null,null,null,null,null,null,null,0]
[null,null,null,null,null,null,null,null,null,null,0]
[null,null,null,null,null,null,null,null,null,null,0]
[null,null,null,null,null,null,null,null,null,null,0]
[null,null,null,null,null,null,null,null,null,null,0]
[null,null,null,null,null,null,null,null,null,null,0]
[null,null,null,null,null,null,null,null,null,null,0]
[null,null,null,null,null,null,null,null,null,null,0]
[null,null,null,null,null,null,null,null,null,null,0]
[null,null,null,null,null,null,null,null,null,null,0]
[null,null,null,null,null,null,null,null,null,null,0]
["TOT Jour",null,{"$f":"SUM(C156:C205)","v":0},{"$f":"SUM(D156:D205)","v":0},0,0,0,0,0,0]
["TOT Période",null,{"$f":"SUM(C206:J206)","v":0}]
[{"$f":"Accueil!$B6","v":"Deuxième atelier"}]
[]
[]
["Période :",{"$f":"Accueil!E18","v":"P4"},{"$f":"Accueil!$F18","v":"du"},{"$f":"Accueil!$G18","v":"2015-03-08"},{"$f":"Accueil!$H18","v":"au"},{"$f":"Accueil!$I18","v":"2015-04-15"}]
["Selectionnez la classe participant à l'atelier :"]
["NOM","Prénom",{"$f":"Accueil!B44","v":"2015-03-08"},{"$f":"Accueil!C44","v":"2015-03-08"},{"$f":"Accueil!D44","v":"2015-03-08"},{"$f":"Accueil!E44","v":"2015-03-08"},{"$f":"Accueil!F44","v":"2015-03-08"},{"$f":"Accueil!G44","v":"2015-03-08"},{"$f":"Accueil!H44","v":"2015-03-08"},{"$f":"Accueil!I44","v":"2015-03-08"},"TOT"]
[null,null,null,null,null,null,null,null,null,null,{"$f":"SUM(C214:J214)","v":0}]
[null,null,null,null,null,null,null,null,null,null,{"$f":"SUM(C215:J215)","v":0}]
[null,null,null,null,null,null,null,null,null,null,0]
[null,null,null,null,null,null,null,null,null,null,0]
[null,null,null,null,null,null,null,null,null,null,0]
[null,null,null,null,null,null,null,null,null,null,0]
[null,null,null,null,null,null,null,null,null,null,0]
[null,null,null,null,null,null,null,null,null,null,0]
[null,null,null,null,null,null,null,null,null,null,0]
[null,null,null,null,null,null,null,null,null,null,0]
[null,null,null,null,null,null,null,null,null,null,0]
[null,null,null,null,null,null,null,null,null,null,0]
[null,null,null,null,null,null,null,null,null,null,0]
[null,null,null,null,null,null,null,null,null,null,0]
[null,null,null,null,null,null,null,null,null,null,0]
[null,null,null,null,null,null,null,null,null,null,0]
[null,null,null,null,null,null,null,null,null,null,0]
[null,null,null,null,null,null,null,null,null,null,0]
[null,null,null,null,null,null,null,null,null,null,0]
[null,null,null,null,null,null,null,null,null,null,0]
[null,null,null,null,null,null,null,null,null,null,0]
[null,null,null,null,null,null,null,null,null,null,0]
[null,null,null,null,null,null,null,null,null,null,0]
[null,null,null,null,null,null,null,null,null,null,0]
[null,null,null,null,null,null,null,null,null,null,0]
[null,null,null,null,null,null,null,null,null,null,{"$f":"SUM(C239:J239)","v":0}]
[null,null,null,null,null,null,null,null,null,null,{"$f":"SUM(C240:J240)","v":0}]
[null,null,null,null,null,null,null,null,null,null,0]
[null,null,null,null,null,null,null,null,null,null,0]
[null,null,null,null,null,null,null,null,null,null,0]
[null,null,null,null,null,null,null,null,null,null,0]
[null,null,null,null,null,null,null,null,null,null,0]
[null,null,null,null,null,null,null,null,null,null,0]
[null,null,null,null,null,null,null,null,null,null,0]
[null,null,null,null,null,null,null,null,null,null,0]
[null,null,null,null,null,null,null,null,null,null,0]
[null,null,null,null,null,null,null,null,null,null,0]
[null,null,null,null,null,null,null,null,null,null,0]
[null,null,null,null,null,null,null,null,null,null,0]
[null,null,null,null,null,null,null,null,null,null,0]
[null,null,null,null,null,null,null,null,null,null,0]
[null,null,null,null,null,null,null,null,null,null,0]
[null,null,null,null,null,null,null,null,null,null,0]
[null,null,null,null,null,null,null,null,null,null,0]
[null,null,null,null,null,null,null,null,null,null,0]
[null,null,null,null,null,null,null,null,null,null,0]
[null,null,null,null,null,null,null,null,null,null,0]
[null,null,null,null,null,null,null,null,null,null,0]
[null,null,null,null,null,null,null,null,null,null,0]
[null,null,null,null,null,null,null,null,null,null,0]
["TOT Jour",null,{"$f":"SUM(C214:C263)","v":0},{"$f":"SUM(D214:D263)","v":0},0,0,0,0,0,0]
["TOT Période",null,{"$f":"SUM(C264:J264)","v":0}]
[{"$f":"Accueil!$B6","v":"Deuxième atelier"}]
[]
[]
["Période :",{"$f":"Accueil!E20","v":"P5"},{"$f":"Accueil!$F20","v":"du"},{"$f":"Accueil!$G20","v":"2015-05-03"},{"$f":"Accueil!$H20","v":"au"},{"$f":"Accueil!$I20","v":"2015-07-03"}]
["Selectionnez la classe participant à l'atelier :"]
["NOM","Prénom",{"$f":"Accueil!B46","v":"2015-05-03"},{"$f":"Accueil!C46","v":"2015-05-03"},{"$f":"Accueil!D46","v":"2015-05-03"},{"$f":"Accueil!E46","v":"2015-05-03"},{"$f":"Accueil!F46","v":"2015-05-03"},{"$f":"Accueil!G46","v":"2015-05-03"},{"$f":"Accueil!H46","v":"2015-05-03"},{"$f":"Accueil!I46","v":"2015-05-03"},"TOT"]
[null,null,null,null,null,null,null,null,null,null,{"$f":"SUM(C272:J272)","v":0}]
[null,null,null,null,null,null,null,null,null,null,{"$f":"SUM(C273:J273)","v":0}]
[null,null,null,null,null,null,null,null,null,null,0]
[null,null,null,null,null,null,null,null,null,null,0]
[null,null,null,null,null,null,null,null,null,null,0]
[null,null,null,null,null,null,null,null,null,null,0]
[null,null,null,null,null,null,null,null,null,null,0]
[null,null,null,null,null,null,null,null,null,null,0]
[null,null,null,null,null,null,null,null,null,null,0]
[null,null,null,null,null,null,null,null,null,null,0]
[null,null,null,null,null,null,null,null,null,null,0]
[null,null,null,null,null,null,null,null,null,null,0]
[null,null,null,null,null,null,null,null,null,null,0]
[null,null,null,null,null,null,null,null,null,null,0]
[null,null,null,null,null,null,null,null,null,null,0]
[null,null,null,null,null,null,null,null,null,null,0]
[null,null,null,null,null,null,null,null,null,null,0]
[null,null,null,null,null,null,null,null,null,null,0]
[null,null,null,null,null,null,null,null,null,null,0]
[null,null,null,null,null,null,null,null,null,null,0]
[null,null,null,null,null,null,null,null,null,null,0]
[null,null,null,null,null,null,null,null,null,null,0]
[null,null,null,null,null,null,null,null,null,null,0]
[null,null,null,null,null,null,null,null,null,null,0]
[null,null,null,null,null,null,null,null,null,null,0]
[null,null,null,null,null,null,null,null,null,null,{"$f":"SUM(C297:J297)","v":0}]
[null,null,null,null,null,null,null,null,null,null,{"$f":"SUM(C298:J298)","v":0}]
[null,null,null,null,null,null,null,null,null,null,0]
[null,null,null,null,null,null,null,null,null,null,0]
[null,null,null,null,null,null,null,null,null,null,0]
[null,null,null,null,null,null,null,null,null,null,0]
[null,null,null,null,null,null,null,null,null,null,0]
[null,null,null,null,null,null,null,null,null,null,0]
[null,null,null,null,null,null,null,null,null,null,0]
[null,null,null,null,null,null,null,null,null,null,0]
[null,null,null,null,null,null,null,null,null,null,0]
[null,null,null,null,null,null,null,null,null,null,0]
[null,null,null,null,null,null,null,null,null,null,0]
[null,null,null,null,null,null,null,null,null,null,0]
[null,null,null,null,null,null,null,null,null,null,0]
[null,null,null,null,null,null,null,null,null,null,0]
[null,null,null,null,null,null,null,null,null,null,0]
[null,null,null,null,null,null,null,null,null,null,0]
[null,null,null,null,null,null,null,null,null,null,0]
[null,null,null,null,null,null,null,null,null,null,0]
[null,null,null,null,null,null,null,null,null,null,0]
[null,null,null,null,null,null,null,null,null,null,0]
[null,null,null,null,null,null,null,null,null,null,0]
[null,null,null,null,null,null,null,null,null,null,0]
[null,null,null,null,null,null,null,null,null,null,0]
["TOT Jour",null,{"$f":"SUM(C272:C321)","v":0},{"$f":"SUM(D272:D321)","v":0},0,0,0,0,0,0]
["TOT Période",null,{"$f":"SUM(C322:J322)","v":0}]
["Statistiques"]
[]
[]
["Nombre d'heure de fréquentation :"]
[{"$f":"Accueil!$E12","v":"P1"},{"$f":"$C$91*1.5","v":0},"heures de présence pour cet atelier et pour cette période"]
[{"$f":"Accueil!$E14","v":"P2"},{"$f":"$C$149*1.5","v":0},"heures de présence pour cet atelier et pour cette période"]
[{"$f":"Accueil!$E16","v":"P3"},{"$f":"$C$207*1.5","v":0},"heures de présence pour cet atelier et pour cette période"]
[{"$f":"Accueil!$E18","v":"P4"},{"$f":"$C$265*1.5","v":0},"heures de présence pour cet atelier et pour cette période"]
[{"$f":"Accueil!$E20","v":"P5"},{"$f":"$C$323*1.5","v":0},"heures de présence pour cet atelier et pour cette période"]
["TOT",{"$f":"SUM($B$328:$B$332)","v":0},"heures de présence pour cet atelier et pour l'année"]

{"sheet":"Etc…","index":3,"n_rows":333,"n_cols":11,"rows_kept":333,"cut":false,"hidden":false,"merged":[[90,2,90,9],[91,0,92,10],[95,0,95,3],[95,4,95,5],[16,2,16,9],[33,0,34,10],[37,0,37,3],[37,4,37,5],[89,0,89,1],[264,2,264,9],[17,0,18,10],[19,0,22,10],[205,0,205,1],[206,0,206,1],[206,2,206,9],[207,0,208,10],[211,0,211,3],[211,4,211,5],[147,0,147,1],[148,0,148,1],[148,2,148,9],[149,0,150,10],[153,0,153,3],[153,4,153,5],[90,0,90,1],[8,1,15,9],[332,2,332,6],[323,0,324,10],[327,2,327,6],[328,2,328,6],[329,2,329,6],[330,2,330,6],[331,2,331,6],[265,0,266,10],[269,0,269,3],[269,4,269,5],[321,0,321,1],[322,0,322,1],[322,2,322,9],[263,0,263,1],[264,0,264,1]]}
[]
[]
[]
[]
[]
[]
[]
[]
[null,{"$f":"Accueil!B7","v":"Etc…"}]
[]
[]
[]
[]
[]
[]
[]
[null,{"$f":"Machin!B17","v":"Avec :"},{"$f":"Accueil!C7","v":0}]
[{"$f":"Machin!$A$28","v":"ATTENTION !"}]
[]
[{"$f":"Machin!A30","v":"Vous ne devez pas ajouter ou supprimer les enfants depuis cette feuille ! \nPour ajouter des enfants dans cet atelier -> Aller dans la feuille de la classe des enfants et suivre les instructions.\nPour supprimer des enfants de cet atelier -> Aller dans la feuille de la classe des enfants et suivre les instructions."}]
[]
[]
[]
[]
[]
[]
[]
[]
[]
[]
[]
[]
[]
[{"$f":"Accueil!$B7","v":"Etc…"}]
[]
[]
["Période :",{"$f":"Accueil!$E$12","v":"P1"},{"$f":"Accueil!$F$12","v":"du"},{"$f":"Accueil!$G$12","v":"2014-09-02"},{"$f":"Accueil!$H$12","v":"au"},{"$f":"Accueil!$I$12","v":"2014-10-17"}]
["Selectionnez la classe participant à l'atelier :"]
["NOM","Prénom",{"$f":"Accueil!$B$38","v":"2014-09-02"},{"$f":"Accueil!$C$38","v":"2014-09-03"},{"$f":"Accueil!$D$38","v":"2014-09-04"},{"$f":"Accueil!$E$38","v":"2014-09-05"},{"$f":"Accueil!$F$38","v":"2014-09-06"},{"$f":"Accueil!$G$38","v":"2014-09-07"},{"$f":"Accueil!$H$38","v":"2014-09-08"},{"$f":"Accueil!$I$38","v":"2014-09-08"},"TOT"]
[null,null,null,null,null,null,null,null,null,null,{"$f":"SUM(C40:J40)","v":0}]
[null,null,null,null,null,null,null,null,null,null,{"$f":"SUM(C41:J41)","v":0}]
[null,null,null,null,null,null,null,null,null,null,0]
[null,null,null,null,null,null,null,null,null,null,0]
[null,null,null,null,null,null,null,null,null,null,0]
[null,null,null,null,null,null,null,null,null,null,0]
[null,null,null,null,null,null,null,null,null,null,0]
[null,null,null,null,null,null,null,null,null,null,0]
[null,null,null,null,null,null,null,null,null,null,0]
[null,null,null,null,null,null,null,null,null,null,0]
[null,null,null,null,null,null,null,null,null,null,0]
[null,null,null,null,null,null,null,null,null,null,0]
[null,null,null,null,null,null,null,null,null,null,0]
[null,null,null,null,null,null,null,null,null,null,0]
[null,null,null,null,null,null,null,null,null,null,0]
[null,null,null,null,null,null,null,null,null,null,0]
[null,null,null,null,null,null,null,null,null,null,0]
[null,null,null,null,null,null,null,null,null,null,0]
[null,null,null,null,null,null,null,null,null,null,0]
[null,null,null,null,null,null,null,null,null,null,0]
[null,null,null,null,null,null,null,null,null,null,0]
[null,null,null,null,null,null,null,null,null,null,0]
[null,null,null,null,null,null,null,null,null,null,0]
[null,null,null,null,null,null,null,null,null,null,0]
[null,null,null,null,null,null,null,null,null,null,0]
[null,null,null,null,null,null,null,null,null,null,{"$f":"SUM(C65:J65)","v":0}]
[null,null,null,null,null,null,null,null,null,null,{"$f":"SUM(C66:J66)","v":0}]
[null,null,null,null,null,null,null,null,null,null,0]
[null,null,null,null,null,null,null,null,null,null,0]
[null,null,null,null,null,null,null,null,null,null,0]
[null,null,null,null,null,null,null,null,null,null,0]
[null,null,null,null,null,null,null,null,null,null,0]
[null,null,null,null,null,null,null,null,null,null,0]
[null,null,null,null,null,null,null,null,null,null,0]
[null,null,null,null,null,null,null,null,null,null,0]
[null,null,null,null,null,null,null,null,null,null,0]
[null,null,null,null,null,null,null,null,null,null,0]
[null,null,null,null,null,null,null,null,null,null,0]
[null,null,null,null,null,null,null,null,null,null,0]
[null,null,null,null,null,null,null,null,null,null,0]
[null,null,null,null,null,null,null,null,null,null,0]
[null,null,null,null,null,null,null,null,null,null,0]
[null,null,null,null,null,null,null,null,null,null,0]
[null,null,null,null,null,null,null,null,null,null,0]
[null,null,null,null,null,null,null,null,null,null,0]
[null,null,null,null,null,null,null,null,null,null,0]
[null,null,null,null,null,null,null,null,null,null,0]
[null,null,null,null,null,null,null,null,null,null,0]
[null,null,null,null,null,null,null,null,null,null,0]
[null,null,null,null,null,null,null,null,null,null,0]
["TOT Jour",null,{"$f":"SUM(C40:C89)","v":0},{"$f":"SUM(D40:D89)","v":0},0,0,0,0,0,0]
["TOT Période",null,{"$f":"SUM(C90:J90)","v":0}]
[{"$f":"Accueil!$B7","v":"Etc…"}]
[]
[]
["Période :",{"$f":"Accueil!$E14","v":"P2"},{"$f":"Accueil!$F14","v":"du"},{"$f":"Accueil!$G14","v":"2014-11-02"},{"$f":"Accueil!$H14","v":"au"},{"$f":"Accueil!$I14","v":"2014-12-18"}]
["Selectionnez la classe participant à l'atelier :"]
["NOM","Prénom",{"$f":"Accueil!B40","v":"2014-11-02"},{"$f":"Accueil!C40","v":"2014-11-03"},{"$f":"Accueil!D40","v":"2014-11-04"},{"$f":"Accueil!E40","v":"2014-11-05"},{"$f":"Accueil!F40","v":"2014-11-06"},{"$f":"Accueil!G40","v":"2014-11-07"},{"$f":"Accueil!H40","v":"2014-11-08"},{"$f":"Accueil!I40","v":"2014-11-08"},"TOT"]
[null,null,null,null,null,null,null,null,null,null,{"$f":"SUM(C98:J98)","v":0}]
[null,null,null,null,null,null,null,null,null,null,{"$f":"SUM(C99:J99)","v":0}]
[null,null,null,null,null,null,null,null,null,null,0]
[null,null,null,null,null,null,null,null,null,null,0]
[null,null,null,null,null,null,null,null,null,null,0]
[null,null,null,null,null,null,null,null,null,null,0]
[null,null,null,null,null,null,null,null,null,null,0]
[null,null,null,null,null,null,null,null,null,null,0]
[null,null,null,null,null,null,null,null,null,null,0]
[null,null,null,null,null,null,null,null,null,null,0]
[null,null,null,null,null,null,null,null,null,null,0]
[null,null,null,null,null,null,null,null,null,null,0]
[null,null,null,null,null,null,null,null,null,null,0]
[null,null,null,null,null,null,null,null,null,null,0]
[null,null,null,null,null,null,null,null,null,null,0]
[null,null,null,null,null,null,null,null,null,null,0]
[null,null,null,null,null,null,null,null,null,null,0]
[null,null,null,null,null,null,null,null,null,null,0]
[null,null,null,null,null,null,null,null,null,null,0]
[null,null,null,null,null,null,null,null,null,null,0]
[null,null,null,null,null,null,null,null,null,null,0]
[null,null,null,null,null,null,null,null,null,null,0]
[null,null,null,null,null,null,null,null,null,null,0]
[null,null,null,null,null,null,null,null,null,null,0]
[null,null,null,null,null,null,null,null,null,null,0]
[null,null,null,null,null,null,null,null,null,null,{"$f":"SUM(C123:J123)","v":0}]
[null,null,null,null,null,null,null,null,null,null,{"$f":"SUM(C124:J124)","v":0}]
[null,null,null,null,null,null,null,null,null,null,0]
[null,null,null,null,null,null,null,null,null,null,0]
[null,null,null,null,null,null,null,null,null,null,0]
[null,null,null,null,null,null,null,null,null,null,0]
[null,null,null,null,null,null,null,null,null,null,0]
[null,null,null,null,null,null,null,null,null,null,0]
[null,null,null,null,null,null,null,null,null,null,0]
[null,null,null,null,null,null,null,null,null,null,0]
[null,null,null,null,null,null,null,null,null,null,0]
[null,null,null,null,null,null,null,null,null,null,0]
[null,null,null,null,null,null,null,null,null,null,0]
[null,null,null,null,null,null,null,null,null,null,0]
[null,null,null,null,null,null,null,null,null,null,0]
[null,null,null,null,null,null,null,null,null,null,0]
[null,null,null,null,null,null,null,null,null,null,0]
[null,null,null,null,null,null,null,null,null,null,0]
[null,null,null,null,null,null,null,null,null,null,0]
[null,null,null,null,null,null,null,null,null,null,0]
[null,null,null,null,null,null,null,null,null,null,0]
[null,null,null,null,null,null,null,null,null,null,0]
[null,null,null,null,null,null,null,null,null,null,0]
[null,null,null,null,null,null,null,null,null,null,0]
[null,null,null,null,null,null,null,null,null,null,0]
["TOT Jour",null,{"$f":"SUM(C98:C147)","v":0},{"$f":"SUM(D98:D147)","v":0},0,0,0,0,0,0]
["TOT Période",null,{"$f":"SUM(C148:J148)","v":0}]
[{"$f":"Accueil!$B7","v":"Etc…"}]
[]
[]
["Période :",{"$f":"Accueil!E16","v":"P3"},{"$f":"Accueil!$F16","v":"du"},{"$f":"Accueil!$G16","v":"2015-01-04"},{"$f":"Accueil!$H16","v":"au"},{"$f":"Accueil!$I16","v":"2015-02-20"}]
["Selectionnez la classe participant à l'atelier :"]
["NOM","Prénom",{"$f":"Accueil!B42","v":"2015-01-04"},{"$f":"Accueil!C42","v":"2015-01-04"},{"$f":"Accueil!D42","v":"2015-01-04"},{"$f":"Accueil!E42","v":"2015-01-04"},{"$f":"Accueil!F42","v":"2015-01-04"},{"$f":"Accueil!G42","v":"2015-01-04"},{"$f":"Accueil!H42","v":"2015-01-04"},{"$f":"Accueil!I42","v":"2015-01-04"},"TOT"]
[null,null,null,null,null,null,null,null,null,null,{"$f":"SUM(C156:J156)","v":0}]
[null,null,null,null,null,null,null,null,null,null,{"$f":"SUM(C157:J157)","v":0}]
[null,null,null,null,null,null,null,null,null,null,0]
[null,null,null,null,null,null,null,null,null,null,0]
[null,null,null,null,null,null,null,null,null,null,0]
[null,null,null,null,null,null,null,null,null,null,0]
[null,null,null,null,null,null,null,null,null,null,0]
[null,null,null,null,null,null,null,null,null,null,0]
[null,null,null,null,null,null,null,null,null,null,0]
[null,null,null,null,null,null,null,null,null,null,0]
[null,null,null,null,null,null,null,null,null,null,0]
[null,null,null,null,null,null,null,null,null,null,0]
[null,null,null,null,null,null,null,null,null,null,0]
[null,null,null,null,null,null,null,null,null,null,0]
[null,null,null,null,null,null,null,null,null,null,0]
[null,null,null,null,null,null,null,null,null,null,0]
[null,null,null,null,null,null,null,null,null,null,0]
[null,null,null,null,null,null,null,null,null,null,0]
[null,null,null,null,null,null,null,null,null,null,0]
[null,null,null,null,null,null,null,null,null,null,0]
[null,null,null,null,null,null,null,null,null,null,0]
[null,null,null,null,null,null,null,null,null,null,0]
[null,null,null,null,null,null,null,null,null,null,0]
[null,null,null,null,null,null,null,null,null,null,0]
[null,null,null,null,null,null,null,null,null,null,0]
[null,null,null,null,null,null,null,null,null,null,{"$f":"SUM(C181:J181)","v":0}]
[null,null,null,null,null,null,null,null,null,null,{"$f":"SUM(C182:J182)","v":0}]
[null,null,null,null,null,null,null,null,null,null,0]
[null,null,null,null,null,null,null,null,null,null,0]
[null,null,null,null,null,null,null,null,null,null,0]
[null,null,null,null,null,null,null,null,null,null,0]
[null,null,null,null,null,null,null,null,null,null,0]
[null,null,null,null,null,null,null,null,null,null,0]
[null,null,null,null,null,null,null,null,null,null,0]
[null,null,null,null,null,null,null,null,null,null,0]
[null,null,null,null,null,null,null,null,null,null,0]
[null,null,null,null,null,null,null,null,null,null,0]
[null,null,null,null,null,null,null,null,null,null,0]
[null,null,null,null,null,null,null,null,null,null,0]
[null,null,null,null,null,null,null,null,null,null,0]
[null,null,null,null,null,null,null,null,null,null,0]
[null,null,null,null,null,null,null,null,null,null,0]
[null,null,null,null,null,null,null,null,null,null,0]
[null,null,null,null,null,null,null,null,null,null,0]
[null,null,null,null,null,null,null,null,null,null,0]
[null,null,null,null,null,null,null,null,null,null,0]
[null,null,null,null,null,null,null,null,null,null,0]
[null,null,null,null,null,null,null,null,null,null,0]
[null,null,null,null,null,null,null,null,null,null,0]
[null,null,null,null,null,null,null,null,null,null,0]
["TOT Jour",null,{"$f":"SUM(C156:C205)","v":0},{"$f":"SUM(D156:D205)","v":0},0,0,0,0,0,0]
["TOT Période",null,{"$f":"SUM(C206:J206)","v":0}]
[{"$f":"Accueil!$B7","v":"Etc…"}]
[]
[]
["Période :",{"$f":"Accueil!E18","v":"P4"},{"$f":"Accueil!$F18","v":"du"},{"$f":"Accueil!$G18","v":"2015-03-08"},{"$f":"Accueil!$H18","v":"au"},{"$f":"Accueil!$I18","v":"2015-04-15"}]
["Selectionnez la classe participant à l'atelier :"]
["NOM","Prénom",{"$f":"Accueil!B44","v":"2015-03-08"},{"$f":"Accueil!C44","v":"2015-03-08"},{"$f":"Accueil!D44","v":"2015-03-08"},{"$f":"Accueil!E44","v":"2015-03-08"},{"$f":"Accueil!F44","v":"2015-03-08"},{"$f":"Accueil!G44","v":"2015-03-08"},{"$f":"Accueil!H44","v":"2015-03-08"},{"$f":"Accueil!I44","v":"2015-03-08"},"TOT"]
[null,null,null,null,null,null,null,null,null,null,{"$f":"SUM(C214:J214)","v":0}]
[null,null,null,null,null,null,null,null,null,null,{"$f":"SUM(C215:J215)","v":0}]
[null,null,null,null,null,null,null,null,null,null,0]
[null,null,null,null,null,null,null,null,null,null,0]
[null,null,null,null,null,null,null,null,null,null,0]
[null,null,null,null,null,null,null,null,null,null,0]
[null,null,null,null,null,null,null,null,null,null,0]
[null,null,null,null,null,null,null,null,null,null,0]
[null,null,null,null,null,null,null,null,null,null,0]
[null,null,null,null,null,null,null,null,null,null,0]
[null,null,null,null,null,null,null,null,null,null,0]
[null,null,null,null,null,null,null,null,null,null,0]
[null,null,null,null,null,null,null,null,null,null,0]
[null,null,null,null,null,null,null,null,null,null,0]
[null,null,null,null,null,null,null,null,null,null,0]
[null,null,null,null,null,null,null,null,null,null,0]
[null,null,null,null,null,null,null,null,null,null,0]
[null,null,null,null,null,null,null,null,null,null,0]
[null,null,null,null,null,null,null,null,null,null,0]
[null,null,null,null,null,null,null,null,null,null,0]
[null,null,null,null,null,null,null,null,null,null,0]
[null,null,null,null,null,null,null,null,null,null,0]
[null,null,null,null,null,null,null,null,null,null,0]
[null,null,null,null,null,null,null,null,null,null,0]
[null,null,null,null,null,null,null,null,null,null,0]
[null,null,null,null,null,null,null,null,null,null,{"$f":"SUM(C239:J239)","v":0}]
[null,null,null,null,null,null,null,null,null,null,{"$f":"SUM(C240:J240)","v":0}]
[null,null,null,null,null,null,null,null,null,null,0]
[null,null,null,null,null,null,null,null,null,null,0]
[null,null,null,null,null,null,null,null,null,null,0]
[null,null,null,null,null,null,null,null,null,null,0]
[null,null,null,null,null,null,null,null,null,null,0]
[null,null,null,null,null,null,null,null,null,null,0]
[null,null,null,null,null,null,null,null,null,null,0]
[null,null,null,null,null,null,null,null,null,null,0]
[null,null,null,null,null,null,null,null,null,null,0]
[null,null,null,null,null,null,null,null,null,null,0]
[null,null,null,null,null,null,null,null,null,null,0]
[null,null,null,null,null,null,null,null,null,null,0]
[null,null,null,null,null,null,null,null,null,null,0]
[null,null,null,null,null,null,null,null,null,null,0]
[null,null,null,null,null,null,null,null,null,null,0]
[null,null,null,null,null,null,null,null,null,null,0]
[null,null,null,null,null,null,null,null,null,null,0]
[null,null,null,null,null,null,null,null,null,null,0]
[null,null,null,null,null,null,null,null,null,null,0]
[null,null,null,null,null,null,null,null,null,null,0]
[null,null,null,null,null,null,null,null,null,null,0]
[null,null,null,null,null,null,null,null,null,null,0]
[null,null,null,null,null,null,null,null,null,null,0]
["TOT Jour",null,{"$f":"SUM(C214:C263)","v":0},{"$f":"SUM(D214:D263)","v":0},0,0,0,0,0,0]
["TOT Période",null,{"$f":"SUM(C264:J264)","v":0}]
[{"$f":"Accueil!$B7","v":"Etc…"}]
[]
[]
["Période :",{"$f":"Accueil!E20","v":"P5"},{"$f":"Accueil!$F20","v":"du"},{"$f":"Accueil!$G20","v":"2015-05-03"},{"$f":"Accueil!$H20","v":"au"},{"$f":"Accueil!$I20","v":"2015-07-03"}]
["Selectionnez la classe participant à l'atelier :"]
["NOM","Prénom",{"$f":"Accueil!B46","v":"2015-05-03"},{"$f":"Accueil!C46","v":"2015-05-03"},{"$f":"Accueil!D46","v":"2015-05-03"},{"$f":"Accueil!E46","v":"2015-05-03"},{"$f":"Accueil!F46","v":"2015-05-03"},{"$f":"Accueil!G46","v":"2015-05-03"},{"$f":"Accueil!H46","v":"2015-05-03"},{"$f":"Accueil!I46","v":"2015-05-03"},"TOT"]
[null,null,null,null,null,null,null,null,null,null,{"$f":"SUM(C272:J272)","v":0}]
[null,null,null,null,null,null,null,null,null,null,{"$f":"SUM(C273:J273)","v":0}]
[null,null,null,null,null,null,null,null,null,null,0]
[null,null,null,null,null,null,null,null,null,null,0]
[null,null,null,null,null,null,null,null,null,null,0]
[null,null,null,null,null,null,null,null,null,null,0]
[null,null,null,null,null,null,null,null,null,null,0]
[null,null,null,null,null,null,null,null,null,null,0]
[null,null,null,null,null,null,null,null,null,null,0]
[null,null,null,null,null,null,null,null,null,null,0]
[null,null,null,null,null,null,null,null,null,null,0]
[null,null,null,null,null,null,null,null,null,null,0]
[null,null,null,null,null,null,null,null,null,null,0]
[null,null,null,null,null,null,null,null,null,null,0]
[null,null,null,null,null,null,null,null,null,null,0]
[null,null,null,null,null,null,null,null,null,null,0]
[null,null,null,null,null,null,null,null,null,null,0]
[null,null,null,null,null,null,null,null,null,null,0]
[null,null,null,null,null,null,null,null,null,null,0]
[null,null,null,null,null,null,null,null,null,null,0]
[null,null,null,null,null,null,null,null,null,null,0]
[null,null,null,null,null,null,null,null,null,null,0]
[null,null,null,null,null,null,null,null,null,null,0]
[null,null,null,null,null,null,null,null,null,null,0]
[null,null,null,null,null,null,null,null,null,null,0]
[null,null,null,null,null,null,null,null,null,null,{"$f":"SUM(C297:J297)","v":0}]
[null,null,null,null,null,null,null,null,null,null,{"$f":"SUM(C298:J298)","v":0}]
[null,null,null,null,null,null,null,null,null,null,0]
[null,null,null,null,null,null,null,null,null,null,0]
[null,null,null,null,null,null,null,null,null,null,0]
[null,null,null,null,null,null,null,null,null,null,0]
[null,null,null,null,null,null,null,null,null,null,0]
[null,null,null,null,null,null,null,null,null,null,0]
[null,null,null,null,null,null,null,null,null,null,0]
[null,null,null,null,null,null,null,null,null,null,0]
[null,null,null,null,null,null,null,null,null,null,0]
[null,null,null,null,null,null,null,null,null,null,0]
[null,null,null,null,null,null,null,null,null,null,0]
[null,null,null,null,null,null,null,null,null,null,0]
[null,null,null,null,null,null,null,null,null,null,0]
[null,null,null,null,null,null,null,null,null,null,0]
[null,null,null,null,null,null,null,null,null,null,0]
[null,null,null,null,null,null,null,null,null,null,0]
[null,null,null,null,null,null,null,null,null,null,0]
[null,null,null,null,null,null,null,null,null,null,0]
[null,null,null,null,null,null,null,null,null,null,0]
[null,null,null,null,null,null,null,null,null,null,0]
[null,null,null,null,null,null,null,null,null,null,0]
[null,null,null,null,null,null,null,null,null,null,0]
[null,null,null,null,null,null,null,null,null,null,0]
["TOT Jour",null,{"$f":"SUM(C272:C321)","v":0},{"$f":"SUM(D272:D321)","v":0},0,0,0,0,0,0]
["TOT Période",null,{"$f":"SUM(C322:J322)","v":0}]
["Statistiques"]
[]
[]
["Nombre d'heure de fréquentation :"]
[{"$f":"Accueil!$E12","v":"P1"},{"$f":"$C$91*1.5","v":0},"heures de présence pour cet atelier et pour cette période"]
[{"$f":"Accueil!$E14","v":"P2"},{"$f":"$C$149*1.5","v":0},"heures de présence pour cet atelier et pour cette période"]
[{"$f":"Accueil!$E16","v":"P3"},{"$f":"$C$207*1.5","v":0},"heures de présence pour cet atelier et pour cette période"]
[{"$f":"Accueil!$E18","v":"P4"},{"$f":"$C$265*1.5","v":0},"heures de présence pour cet atelier et pour cette période"]
[{"$f":"Accueil!$E20","v":"P5"},{"$f":"$C$323*1.5","v":0},"heures de présence pour cet atelier et pour cette période"]
["TOT",{"$f":"SUM($B$328:$B$332)","v":0},"heures de présence pour cet atelier et pour l'année"]

{"sheet":"Mouchoirs","index":4,"n_rows":333,"n_cols":11,"rows_kept":333,"cut":false,"hidden":false,"merged":[[16,2,16,9],[33,0,34,10],[37,0,37,3],[37,4,37,5],[89,0,89,1],[90,0,90,1],[90,2,90,9],[91,0,92,10],[95,0,95,3],[95,4,95,5],[147,0,147,1],[148,0,148,1],[148,2,148,9],[149,0,150,10],[153,0,153,3],[153,4,153,5],[263,0,263,1],[264,0,264,1],[264,2,264,9],[205,0,205,1],[206,0,206,1],[206,2,206,9],[207,0,208,10],[211,0,211,3],[211,4,211,5],[331,2,331,6],[332,2,332,6],[8,1,15,9],[323,0,324,10],[327,2,327,6],[328,2,328,6],[329,2,329,6],[330,2,330,6],[265,0,266,10],[269,0,269,3],[269,4,269,5],[321,0,321,1],[322,0,322,1],[322,2,322,9],[17,0,18,10],[19,0,22,10]]}
[]
[]
[]
[]
[]
[]
[]
[]
[null,{"$f":"Accueil!B8","v":"Mouchoirs"}]
[]
[]
[]
[]
[]
[]
[]
[null,{"$f":"Machin!B17","v":"Avec :"},{"$f":"Accueil!C8","v":0}]
[{"$f":"Machin!$A$28","v":"ATTENTION !"}]
[]
[{"$f":"Machin!$A$30","v":"Vous ne devez pas ajouter ou supprimer les enfants depuis cette feuille ! \nPour ajouter des enfants dans cet atelier -> Aller dans la feuille de la classe des enfants et suivre les instructions.\nPour supprimer des enfants de cet atelier -> Aller dans la feuille de la classe des enfants et suivre les instructions."}]
[]
[]
[]
[]
[]
[]
[]
[]
[]
[]
[]
[]
[]
[{"$f":"Accueil!$B8","v":"Mouchoirs"}]
[]
[]
["Période :",{"$f":"Accueil!$E$12","v":"P1"},{"$f":"Accueil!$F$12","v":"du"},{"$f":"Accueil!$G$12","v":"2014-09-02"},{"$f":"Accueil!$H$12","v":"au"},{"$f":"Accueil!$I$12","v":"2014-10-17"}]
["Selectionnez la classe participant à l'atelier :"]
["NOM","Prénom",{"$f":"Accueil!$B$38","v":"2014-09-02"},{"$f":"Accueil!$C$38","v":"2014-09-03"},{"$f":"Accueil!$D$38","v":"2014-09-04"},{"$f":"Accueil!$E$38","v":"2014-09-05"},{"$f":"Accueil!$F$38","v":"2014-09-06"},{"$f":"Accueil!$G$38","v":"2014-09-07"},{"$f":"Accueil!$H$38","v":"2014-09-08"},{"$f":"Accueil!$I$38","v":"2014-09-08"},"TOT"]
[null,null,null,null,null,null,null,null,null,null,{"$f":"SUM(C40:J40)","v":0}]
[null,null,null,null,null,null,null,null,null,null,{"$f":"SUM(C41:J41)","v":0}]
[null,null,null,null,null,null,null,null,null,null,0]
[null,null,null,null,null,null,null,null,null,null,0]
[null,null,null,null,null,null,null,null,null,null,0]
[null,null,null,null,null,null,null,null,null,null,0]
[null,null,null,null,null,null,null,null,null,null,0]
[null,null,null,null,null,null,null,null,null,null,0]
[null,null,null,null,null,null,null,null,null,null,0]
[null,null,null,null,null,null,null,null,null,null,0]
[null,null,null,null,null,null,null,null,null,null,0]
[null,null,null,null,null,null,null,null,null,null,0]
[null,null,null,null,null,null,null,null,null,null,0]
[null,null,null,null,null,null,null,null,null,null,0]
[null,null,null,null,null,null,null,null,null,null,0]
[null,null,null,null,null,null,null,null,null,null,0]
[null,null,null,null,null,null,null,null,null,null,0]
[null,null,null,null,null,null,null,null,null,null,0]
[null,null,null,null,null,null,null,null,null,null,0]
[null,null,null,null,null,null,null,null,null,null,0]
[null,null,null,null,null,null,null,null,null,null,0]
[null,null,null,null,null,null,null,null,null,null,0]
[null,null,null,null,null,null,null,null,null,null,0]
[null,null,null,null,null,null,null,null,null,null,0]
[null,null,null,null,null,null,null,null,null,null,0]
[null,null,null,null,null,null,null,null,null,null,{"$f":"SUM(C65:J65)","v":0}]
[null,null,null,null,null,null,null,null,null,null,{"$f":"SUM(C66:J66)","v":0}]
[null,null,null,null,null,null,null,null,null,null,0]
[null,null,null,null,null,null,null,null,null,null,0]
[null,null,null,null,null,null,null,null,null,null,0]
[null,null,null,null,null,null,null,null,null,null,0]
[null,null,null,null,null,null,null,null,null,null,0]
[null,null,null,null,null,null,null,null,null,null,0]
[null,null,null,null,null,null,null,null,null,null,0]
[null,null,null,null,null,null,null,null,null,null,0]
[null,null,null,null,null,null,null,null,null,null,0]
[null,null,null,null,null,null,null,null,null,null,0]
[null,null,null,null,null,null,null,null,null,null,0]
[null,null,null,null,null,null,null,null,null,null,0]
[null,null,null,null,null,null,null,null,null,null,0]
[null,null,null,null,null,null,null,null,null,null,0]
[null,null,null,null,null,null,null,null,null,null,0]
[null,null,null,null,null,null,null,null,null,null,0]
[null,null,null,null,null,null,null,null,null,null,0]
[null,null,null,null,null,null,null,null,null,null,0]
[null,null,null,null,null,null,null,null,null,null,0]
[null,null,null,null,null,null,null,null,null,null,0]
[null,null,null,null,null,null,null,null,null,null,0]
[null,null,null,null,null,null,null,null,null,null,0]
[null,null,null,null,null,null,null,null,null,null,0]
["TOT Jour",null,{"$f":"SUM(C40:C89)","v":0},{"$f":"SUM(D40:D89)","v":0},0,0,0,0,0,0]
["TOT Période",null,{"$f":"SUM(C90:J90)","v":0}]
[{"$f":"Accueil!$B8","v":"Mouchoirs"}]
[]
[]
["Période :",{"$f":"Accueil!$E14","v":"P2"},{"$f":"Accueil!$F14","v":"du"},{"$f":"Accueil!$G14","v":"2014-11-02"},{"$f":"Accueil!$H14","v":"au"},{"$f":"Accueil!$I14","v":"2014-12-18"}]
["Selectionnez la classe participant à l'atelier :"]
["NOM","Prénom",{"$f":"Accueil!B40","v":"2014-11-02"},{"$f":"Accueil!C40","v":"2014-11-03"},{"$f":"Accueil!D40","v":"2014-11-04"},{"$f":"Accueil!E40","v":"2014-11-05"},{"$f":"Accueil!F40","v":"2014-11-06"},{"$f":"Accueil!G40","v":"2014-11-07"},{"$f":"Accueil!H40","v":"2014-11-08"},{"$f":"Accueil!I40","v":"2014-11-08"},"TOT"]
[null,null,null,null,null,null,null,null,null,null,{"$f":"SUM(C98:J98)","v":0}]
[null,null,null,null,null,null,null,null,null,null,{"$f":"SUM(C99:J99)","v":0}]
[null,null,null,null,null,null,null,null,null,null,0]
[null,null,null,null,null,null,null,null,null,null,0]
[null,null,null,null,null,null,null,null,null,null,0]
[null,null,null,null,null,null,null,null,null,null,0]
[null,null,null,null,null,null,null,null,null,null,0]
[null,null,null,null,null,null,null,null,null,null,0]
[null,null,null,null,null,null,null,null,null,null,0]
[null,null,null,null,null,null,null,null,null,null,0]
[null,null,null,null,null,null,null,null,null,null,0]
[null,null,null,null,null,null,null,null,null,null,0]
[null,null,null,null,null,null,null,null,null,null,0]
[null,null,null,null,null,null,null,null,null,null,0]
[null,null,null,null,null,null,null,null,null,null,0]
[null,null,null,null,null,null,null,null,null,null,0]
[null,null,null,null,null,null,null,null,null,null,0]
[null,null,null,null,null,null,null,null,null,null,0]
[null,null,null,null,null,null,null,null,null,null,0]
[null,null,null,null,null,null,null,null,null,null,0]
[null,null,null,null,null,null,null,null,null,null,0]
[null,null,null,null,null,null,null,null,null,null,0]
[null,null,null,null,null,null,null,null,null,null,0]
[null,null,null,null,null,null,null,null,null,null,0]
[null,null,null,null,null,null,null,null,null,null,0]
[null,null,null,null,null,null,null,null,null,null,{"$f":"SUM(C123:J123)","v":0}]
[null,null,null,null,null,null,null,null,null,null,{"$f":"SUM(C124:J124)","v":0}]
[null,null,null,null,null,null,null,null,null,null,0]
[null,null,null,null,null,null,null,null,null,null,0]
[null,null,null,null,null,null,null,null,null,null,0]
[null,null,null,null,null,null,null,null,null,null,0]
[null,null,null,null,null,null,null,null,null,null,0]
[null,null,null,null,null,null,null,null,null,null,0]
[null,null,null,null,null,null,null,null,null,null,0]
[null,null,null,null,null,null,null,null,null,null,0]
[null,null,null,null,null,null,null,null,null,null,0]
[null,null,null,null,null,null,null,null,null,null,0]
[null,null,null,null,null,null,null,null,null,null,0]
[null,null,null,null,null,null,null,null,null,null,0]
[null,null,null,null,null,null,null,null,null,null,0]
[null,null,null,null,null,null,null,null,null,null,0]
[null,null,null,null,null,null,null,null,null,null,0]
[null,null,null,null,null,null,null,null,null,null,0]
[null,null,null,null,null,null,null,null,null,null,0]
[null,null,null,null,null,null,null,null,null,null,0]
[null,null,null,null,null,null,null,null,null,null,0]
[null,null,null,null,null,null,null,null,null,null,0]
[null,null,null,null,null,null,null,null,null,null,0]
[null,null,null,null,null,null,null,null,null,null,0]
[null,null,null,null,null,null,null,null,null,null,0]
["TOT Jour",null,{"$f":"SUM(C98:C147)","v":0},{"$f":"SUM(D98:D147)","v":0},0,0,0,0,0,0]
["TOT Période",null,{"$f":"SUM(C148:J148)","v":0}]
[{"$f":"Accueil!$B8","v":"Mouchoirs"}]
[]
[]
["Période :",{"$f":"Accueil!E16","v":"P3"},{"$f":"Accueil!$F16","v":"du"},{"$f":"Accueil!$G16","v":"2015-01-04"},{"$f":"Accueil!$H16","v":"au"},{"$f":"Accueil!$I16","v":"2015-02-20"}]
["Selectionnez la classe participant à l'atelier :"]
["NOM","Prénom",{"$f":"Accueil!B42","v":"2015-01-04"},{"$f":"Accueil!C42","v":"2015-01-04"},{"$f":"Accueil!D42","v":"2015-01-04"},{"$f":"Accueil!E42","v":"2015-01-04"},{"$f":"Accueil!F42","v":"2015-01-04"},{"$f":"Accueil!G42","v":"2015-01-04"},{"$f":"Accueil!H42","v":"2015-01-04"},{"$f":"Accueil!I42","v":"2015-01-04"},"TOT"]
[null,null,null,null,null,null,null,null,null,null,{"$f":"SUM(C156:J156)","v":0}]
[null,null,null,null,null,null,null,null,null,null,{"$f":"SUM(C157:J157)","v":0}]
[null,null,null,null,null,null,null,null,null,null,0]
[null,null,null,null,null,null,null,null,null,null,0]
[null,null,null,null,null,null,null,null,null,null,0]
[null,null,null,null,null,null,null,null,null,null,0]
[null,null,null,null,null,null,null,null,null,null,0]
[null,null,null,null,null,null,null,null,null,null,0]
[null,null,null,null,null,null,null,null,null,null,0]
[null,null,null,null,null,null,null,null,null,null,0]
[null,null,null,null,null,null,null,null,null,null,0]
[null,null,null,null,null,null,null,null,null,null,0]
[null,null,null,null,null,null,null,null,null,null,0]
[null,null,null,null,null,null,null,null,null,null,0]
[null,null,null,null,null,null,null,null,null,null,0]
[null,null,null,null,null,null,null,null,null,null,0]
[null,null,null,null,null,null,null,null,null,null,0]
[null,null,null,null,null,null,null,null,null,null,0]
[null,null,null,null,null,null,null,null,null,null,0]
[null,null,null,null,null,null,null,null,null,null,0]
[null,null,null,null,null,null,null,null,null,null,0]
[null,null,null,null,null,null,null,null,null,null,0]
[null,null,null,null,null,null,null,null,null,null,0]
[null,null,null,null,null,null,null,null,null,null,0]
[null,null,null,null,null,null,null,null,null,null,0]
[null,null,null,null,null,null,null,null,null,null,{"$f":"SUM(C181:J181)","v":0}]
[null,null,null,null,null,null,null,null,null,null,{"$f":"SUM(C182:J182)","v":0}]
[null,null,null,null,null,null,null,null,null,null,0]
[null,null,null,null,null,null,null,null,null,null,0]
[null,null,null,null,null,null,null,null,null,null,0]
[null,null,null,null,null,null,null,null,null,null,0]
[null,null,null,null,null,null,null,null,null,null,0]
[null,null,null,null,null,null,null,null,null,null,0]
[null,null,null,null,null,null,null,null,null,null,0]
[null,null,null,null,null,null,null,null,null,null,0]
[null,null,null,null,null,null,null,null,null,null,0]
[null,null,null,null,null,null,null,null,null,null,0]
[null,null,null,null,null,null,null,null,null,null,0]
[null,null,null,null,null,null,null,null,null,null,0]
[null,null,null,null,null,null,null,null,null,null,0]
[null,null,null,null,null,null,null,null,null,null,0]
[null,null,null,null,null,null,null,null,null,null,0]
[null,null,null,null,null,null,null,null,null,null,0]
[null,null,null,null,null,null,null,null,null,null,0]
[null,null,null,null,null,null,null,null,null,null,0]
[null,null,null,null,null,null,null,null,null,null,0]
[null,null,null,null,null,null,null,null,null,null,0]
[null,null,null,null,null,null,null,null,null,null,0]
[null,null,null,null,null,null,null,null,null,null,0]
[null,null,null,null,null,null,null,null,null,null,0]
["TOT Jour",null,{"$f":"SUM(C156:C205)","v":0},{"$f":"SUM(D156:D205)","v":0},0,0,0,0,0,0]
["TOT Période",null,{"$f":"SUM(C206:J206)","v":0}]
[{"$f":"Accueil!$B8","v":"Mouchoirs"}]
[]
[]
["Période :",{"$f":"Accueil!E18","v":"P4"},{"$f":"Accueil!$F18","v":"du"},{"$f":"Accueil!$G18","v":"2015-03-08"},{"$f":"Accueil!$H18","v":"au"},{"$f":"Accueil!$I18","v":"2015-04-15"}]
["Selectionnez la classe participant à l'atelier :"]
["NOM","Prénom",{"$f":"Accueil!B44","v":"2015-03-08"},{"$f":"Accueil!C44","v":"2015-03-08"},{"$f":"Accueil!D44","v":"2015-03-08"},{"$f":"Accueil!E44","v":"2015-03-08"},{"$f":"Accueil!F44","v":"2015-03-08"},{"$f":"Accueil!G44","v":"2015-03-08"},{"$f":"Accueil!H44","v":"2015-03-08"},{"$f":"Accueil!I44","v":"2015-03-08"},"TOT"]
[null,null,null,null,null,null,null,null,null,null,{"$f":"SUM(C214:J214)","v":0}]
[null,null,null,null,null,null,null,null,null,null,{"$f":"SUM(C215:J215)","v":0}]
[null,null,null,null,null,null,null,null,null,null,0]
[null,null,null,null,null,null,null,null,null,null,0]
[null,null,null,null,null,null,null,null,null,null,0]
[null,null,null,null,null,null,null,null,null,null,0]
[null,null,null,null,null,null,null,null,null,null,0]
[null,null,null,null,null,null,null,null,null,null,0]
[null,null,null,null,null,null,null,null,null,null,0]
[null,null,null,null,null,null,null,null,null,null,0]
[null,null,null,null,null,null,null,null,null,null,0]
[null,null,null,null,null,null,null,null,null,null,0]
[null,null,null,null,null,null,null,null,null,null,0]
[null,null,null,null,null,null,null,null,null,null,0]
[null,null,null,null,null,null,null,null,null,null,0]
[null,null,null,null,null,null,null,null,null,null,0]
[null,null,null,null,null,null,null,null,null,null,0]
[null,null,null,null,null,null,null,null,null,null,0]
[null,null,null,null,null,null,null,null,null,null,0]
[null,null,null,null,null,null,null,null,null,null,0]
[null,null,null,null,null,null,null,null,null,null,0]
[null,null,null,null,null,null,null,null,null,null,0]
[null,null,null,null,null,null,null,null,null,null,0]
[null,null,null,null,null,null,null,null,null,null,0]
[null,null,null,null,null,null,null,null,null,null,0]
[null,null,null,null,null,null,null,null,null,null,{"$f":"SUM(C239:J239)","v":0}]
[null,null,null,null,null,null,null,null,null,null,{"$f":"SUM(C240:J240)","v":0}]
[null,null,null,null,null,null,null,null,null,null,0]
[null,null,null,null,null,null,null,null,null,null,0]
[null,null,null,null,null,null,null,null,null,null,0]
[null,null,null,null,null,null,null,null,null,null,0]
[null,null,null,null,null,null,null,null,null,null,0]
[null,null,null,null,null,null,null,null,null,null,0]
[null,null,null,null,null,null,null,null,null,null,0]
[null,null,null,null,null,null,null,null,null,null,0]
[null,null,null,null,null,null,null,null,null,null,0]
[null,null,null,null,null,null,null,null,null,null,0]
[null,null,null,null,null,null,null,null,null,null,0]
[null,null,null,null,null,null,null,null,null,null,0]
[null,null,null,null,null,null,null,null,null,null,0]
[null,null,null,null,null,null,null,null,null,null,0]
[null,null,null,null,null,null,null,null,null,null,0]
[null,null,null,null,null,null,null,null,null,null,0]
[null,null,null,null,null,null,null,null,null,null,0]
[null,null,null,null,null,null,null,null,null,null,0]
[null,null,null,null,null,null,null,null,null,null,0]
[null,null,null,null,null,null,null,null,null,null,0]
[null,null,null,null,null,null,null,null,null,null,0]
[null,null,null,null,null,null,null,null,null,null,0]
[null,null,null,null,null,null,null,null,null,null,0]
["TOT Jour",null,{"$f":"SUM(C214:C263)","v":0},{"$f":"SUM(D214:D263)","v":0},0,0,0,0,0,0]
["TOT Période",null,{"$f":"SUM(C264:J264)","v":0}]
[{"$f":"Accueil!$B8","v":"Mouchoirs"}]
[]
[]
["Période :",{"$f":"Accueil!E20","v":"P5"},{"$f":"Accueil!$F20","v":"du"},{"$f":"Accueil!$G20","v":"2015-05-03"},{"$f":"Accueil!$H20","v":"au"},{"$f":"Accueil!$I20","v":"2015-07-03"}]
["Selectionnez la classe participant à l'atelier :"]
["NOM","Prénom",{"$f":"Accueil!B46","v":"2015-05-03"},{"$f":"Accueil!C46","v":"2015-05-03"},{"$f":"Accueil!D46","v":"2015-05-03"},{"$f":"Accueil!E46","v":"2015-05-03"},{"$f":"Accueil!F46","v":"2015-05-03"},{"$f":"Accueil!G46","v":"2015-05-03"},{"$f":"Accueil!H46","v":"2015-05-03"},{"$f":"Accueil!I46","v":"2015-05-03"},"TOT"]
[null,null,null,null,null,null,null,null,null,null,{"$f":"SUM(C272:J272)","v":0}]
[null,null,null,null,null,null,null,null,null,null,{"$f":"SUM(C273:J273)","v":0}]
[null,null,null,null,null,null,null,null,null,null,0]
[null,null,null,null,null,null,null,null,null,null,0]
[null,null,null,null,null,null,null,null,null,null,0]
[null,null,null,null,null,null,null,null,null,null,0]
[null,null,null,null,null,null,null,null,null,null,0]
[null,null,null,null,null,null,null,null,null,null,0]
[null,null,null,null,null,null,null,null,null,null,0]
[null,null,null,null,null,null,null,null,null,null,0]
[null,null,null,null,null,null,null,null,null,null,0]
[null,null,null,null,null,null,null,null,null,null,0]
[null,null,null,null,null,null,null,null,null,null,0]
[null,null,null,null,null,null,null,null,null,null,0]
[null,null,null,null,null,null,null,null,null,null,0]
[null,null,null,null,null,null,null,null,null,null,0]
[null,null,null,null,null,null,null,null,null,null,0]
[null,null,null,null,null,null,null,null,null,null,0]
[null,null,null,null,null,null,null,null,null,null,0]
[null,null,null,null,null,null,null,null,null,null,0]
[null,null,null,null,null,null,null,null,null,null,0]
[null,null,null,null,null,null,null,null,null,null,0]
[null,null,null,null,null,null,null,null,null,null,0]
[null,null,null,null,null,null,null,null,null,null,0]
[null,null,null,null,null,null,null,null,null,null,0]
[null,null,null,null,null,null,null,null,null,null,{"$f":"SUM(C297:J297)","v":0}]
[null,null,null,null,null,null,null,null,null,null,{"$f":"SUM(C298:J298)","v":0}]
[null,null,null,null,null,null,null,null,null,null,0]
[null,null,null,null,null,null,null,null,null,null,0]
[null,null,null,null,null,null,null,null,null,null,0]
[null,null,null,null,null,null,null,null,null,null,0]
[null,null,null,null,null,null,null,null,null,null,0]
[null,null,null,null,null,null,null,null,null,null,0]
[null,null,null,null,null,null,null,null,null,null,0]
[null,null,null,null,null,null,null,null,null,null,0]
[null,null,null,null,null,null,null,null,null,null,0]
[null,null,null,null,null,null,null,null,null,null,0]
[null,null,null,null,null,null,null,null,null,null,0]
[null,null,null,null,null,null,null,null,null,null,0]
[null,null,null,null,null,null,null,null,null,null,0]
[null,null,null,null,null,null,null,null,null,null,0]
[null,null,null,null,null,null,null,null,null,null,0]
[null,null,null,null,null,null,null,null,null,null,0]
[null,null,null,null,null,null,null,null,null,null,0]
[null,null,null,null,null,null,null,null,null,null,0]
[null,null,null,null,null,null,null,null,null,null,0]
[null,null,null,null,null,null,null,null,null,null,0]
[null,null,null,null,null,null,null,null,null,null,0]
[null,null,null,null,null,null,null,null,null,null,0]
[null,null,null,null,null,null,null,null,null,null,0]
["TOT Jour",null,{"$f":"SUM(C272:C321)","v":0},{"$f":"SUM(D272:D321)","v":0},0,0,0,0,0,0]
["TOT Période",null,{"$f":"SUM(C322:J322)","v":0}]
["Statistiques"]
[]
[]
["Nombre d'heure de fréquentation :"]
[{"$f":"Accueil!$E12","v":"P1"},{"$f":"$C$91*1.5","v":0},"heures de présence pour cet atelier et pour cette période"]
[{"$f":"Accueil!$E14","v":"P2"},{"$f":"$C$149*1.5","v":0},"heures de présence pour cet atelier et pour cette période"]
[{"$f":"Accueil!$E16","v":"P3"},{"$f":"$C$207*1.5","v":0},"heures de présence pour cet atelier et pour cette période"]
[{"$f":"Accueil!$E18","v":"P4"},{"$f":"$C$265*1.5","v":0},"heures de présence pour cet atelier et pour cette période"]
[{"$f":"Accueil!$E20","v":"P5"},{"$f":"$C$323*1.5","v":0},"heures de présence pour cet atelier et pour cette période"]
["TOT",{"$f":"SUM($B$328:$B$332)","v":0},"heures de présence pour cet atelier et pour l'année"]

{"sheet":"Lego","index":5,"n_rows":333,"n_cols":11,"rows_kept":333,"cut":false,"hidden":false,"merged":[[16,2,16,9],[33,0,34,10],[37,0,37,3],[37,4,37,5],[89,0,89,1],[90,0,90,1],[90,2,90,9],[91,0,92,10],[95,0,95,3],[95,4,95,5],[147,0,147,1],[148,0,148,1],[148,2,148,9],[149,0,150,10],[153,0,153,3],[153,4,153,5],[263,0,263,1],[264,0,264,1],[264,2,264,9],[205,0,205,1],[206,0,206,1],[206,2,206,9],[207,0,208,10],[211,0,211,3],[211,4,211,5],[331,2,331,6],[332,2,332,6],[8,1,15,9],[323,0,324,10],[327,2,327,6],[328,2,328,6],[329,2,329,6],[330,2,330,6],[265,0,266,10],[269,0,269,3],[269,4,269,5],[321,0,321,1],[322,0,322,1],[322,2,322,9],[17,0,18,10],[19,0,22,10]]}
[]
[]
[]
[]
[]
[]
[]
[]
[null,{"$f":"Accueil!B9","v":"Lego"}]
[]
[]
[]
[]
[]
[]
[]
[null,{"$f":"Machin!B17","v":"Avec :"},{"$f":"Accueil!C9","v":0}]
[{"$f":"Machin!$A$28","v":"ATTENTION !"}]
[]
[{"$f":"Machin!$A$30","v":"Vous ne devez pas ajouter ou supprimer les enfants depuis cette feuille ! \nPour ajouter des enfants dans cet atelier -> Aller dans la feuille de la classe des enfants et suivre les instructions.\nPour supprimer des enfants de cet atelier -> Aller dans la feuille de la classe des enfants et suivre les instructions."}]
[]
[]
[]
[]
[]
[]
[]
[]
[]
[]
[]
[]
[]
[{"$f":"Accueil!$B9","v":"Lego"}]
[]
[]
["Période :",{"$f":"Accueil!$E$12","v":"P1"},{"$f":"Accueil!$F$12","v":"du"},{"$f":"Accueil!$G$12","v":"2014-09-02"},{"$f":"Accueil!$H$12","v":"au"},{"$f":"Accueil!$I$12","v":"2014-10-17"}]
["Selectionnez la classe participant à l'atelier :"]
["NOM","Prénom",{"$f":"Accueil!$B$38","v":"2014-09-02"},{"$f":"Accueil!$C$38","v":"2014-09-03"},{"$f":"Accueil!$D$38","v":"2014-09-04"},{"$f":"Accueil!$E$38","v":"2014-09-05"},{"$f":"Accueil!$F$38","v":"2014-09-06"},{"$f":"Accueil!$G$38","v":"2014-09-07"},{"$f":"Accueil!$H$38","v":"2014-09-08"},{"$f":"Accueil!$I$38","v":"2014-09-08"},"TOT"]
[null,null,null,null,null,null,null,null,null,null,{"$f":"SUM(C40:J40)","v":0}]
[null,null,null,null,null,null,null,null,null,null,{"$f":"SUM(C41:J41)","v":0}]
[null,null,null,null,null,null,null,null,null,null,0]
[null,null,null,null,null,null,null,null,null,null,0]
[null,null,null,null,null,null,null,null,null,null,0]
[null,null,null,null,null,null,null,null,null,null,0]
[null,null,null,null,null,null,null,null,null,null,0]
[null,null,null,null,null,null,null,null,null,null,0]
[null,null,null,null,null,null,null,null,null,null,0]
[null,null,null,null,null,null,null,null,null,null,0]
[null,null,null,null,null,null,null,null,null,null,0]
[null,null,null,null,null,null,null,null,null,null,0]
[null,null,null,null,null,null,null,null,null,null,0]
[null,null,null,null,null,null,null,null,null,null,0]
[null,null,null,null,null,null,null,null,null,null,0]
[null,null,null,null,null,null,null,null,null,null,0]
[null,null,null,null,null,null,null,null,null,null,0]
[null,null,null,null,null,null,null,null,null,null,0]
[null,null,null,null,null,null,null,null,null,null,0]
[null,null,null,null,null,null,null,null,null,null,0]
[null,null,null,null,null,null,null,null,null,null,0]
[null,null,null,null,null,null,null,null,null,null,0]
[null,null,null,null,null,null,null,null,null,null,0]
[null,null,null,null,null,null,null,null,null,null,0]
[null,null,null,null,null,null,null,null,null,null,0]
[null,null,null,null,null,null,null,null,null,null,{"$f":"SUM(C65:J65)","v":0}]
[null,null,null,null,null,null,null,null,null,null,{"$f":"SUM(C66:J66)","v":0}]
[null,null,null,null,null,null,null,null,null,null,0]
[null,null,null,null,null,null,null,null,null,null,0]
[null,null,null,null,null,null,null,null,null,null,0]
[null,null,null,null,null,null,null,null,null,null,0]
[null,null,null,null,null,null,null,null,null,null,0]
[null,null,null,null,null,null,null,null,null,null,0]
[null,null,null,null,null,null,null,null,null,null,0]
[null,null,null,null,null,null,null,null,null,null,0]
[null,null,null,null,null,null,null,null,null,null,0]
[null,null,null,null,null,null,null,null,null,null,0]
[null,null,null,null,null,null,null,null,null,null,0]
[null,null,null,null,null,null,null,null,null,null,0]
[null,null,null,null,null,null,null,null,null,null,0]
[null,null,null,null,null,null,null,null,null,null,0]
[null,null,null,null,null,null,null,null,null,null,0]
[null,null,null,null,null,null,null,null,null,null,0]
[null,null,null,null,null,null,null,null,null,null,0]
[null,null,null,null,null,null,null,null,null,null,0]
[null,null,null,null,null,null,null,null,null,null,0]
[null,null,null,null,null,null,null,null,null,null,0]
[null,null,null,null,null,null,null,null,null,null,0]
[null,null,null,null,null,null,null,null,null,null,0]
[null,null,null,null,null,null,null,null,null,null,0]
["TOT Jour",null,{"$f":"SUM(C40:C89)","v":0},{"$f":"SUM(D40:D89)","v":0},0,0,0,0,0,0]
["TOT Période",null,{"$f":"SUM(C90:J90)","v":0}]
[{"$f":"Accueil!$B9","v":"Lego"}]
[]
[]
["Période :",{"$f":"Accueil!$E14","v":"P2"},{"$f":"Accueil!$F14","v":"du"},{"$f":"Accueil!$G14","v":"2014-11-02"},{"$f":"Accueil!$H14","v":"au"},{"$f":"Accueil!$I14","v":"2014-12-18"}]
["Selectionnez la classe participant à l'atelier :"]
["NOM","Prénom",{"$f":"Accueil!B40","v":"2014-11-02"},{"$f":"Accueil!C40","v":"2014-11-03"},{"$f":"Accueil!D40","v":"2014-11-04"},{"$f":"Accueil!E40","v":"2014-11-05"},{"$f":"Accueil!F40","v":"2014-11-06"},{"$f":"Accueil!G40","v":"2014-11-07"},{"$f":"Accueil!H40","v":"2014-11-08"},{"$f":"Accueil!I40","v":"2014-11-08"},"TOT"]
[null,null,null,null,null,null,null,null,null,null,{"$f":"SUM(C98:J98)","v":0}]
[null,null,null,null,null,null,null,null,null,null,{"$f":"SUM(C99:J99)","v":0}]
[null,null,null,null,null,null,null,null,null,null,0]
[null,null,null,null,null,null,null,null,null,null,0]
[null,null,null,null,null,null,null,null,null,null,0]
[null,null,null,null,null,null,null,null,null,null,0]
[null,null,null,null,null,null,null,null,null,null,0]
[null,null,null,null,null,null,null,null,null,null,0]
[null,null,null,null,null,null,null,null,null,null,0]
[null,null,null,null,null,null,null,null,null,null,0]
[null,null,null,null,null,null,null,null,null,null,0]
[null,null,null,null,null,null,null,null,null,null,0]
[null,null,null,null,null,null,null,null,null,null,0]
[null,null,null,null,null,null,null,null,null,null,0]
[null,null,null,null,null,null,null,null,null,null,0]
[null,null,null,null,null,null,null,null,null,null,0]
[null,null,null,null,null,null,null,null,null,null,0]
[null,null,null,null,null,null,null,null,null,null,0]
[null,null,null,null,null,null,null,null,null,null,0]
[null,null,null,null,null,null,null,null,null,null,0]
[null,null,null,null,null,null,null,null,null,null,0]
[null,null,null,null,null,null,null,null,null,null,0]
[null,null,null,null,null,null,null,null,null,null,0]
[null,null,null,null,null,null,null,null,null,null,0]
[null,null,null,null,null,null,null,null,null,null,0]
[null,null,null,null,null,null,null,null,null,null,{"$f":"SUM(C123:J123)","v":0}]
[null,null,null,null,null,null,null,null,null,null,{"$f":"SUM(C124:J124)","v":0}]
[null,null,null,null,null,null,null,null,null,null,0]
[null,null,null,null,null,null,null,null,null,null,0]
[null,null,null,null,null,null,null,null,null,null,0]
[null,null,null,null,null,null,null,null,null,null,0]
[null,null,null,null,null,null,null,null,null,null,0]
[null,null,null,null,null,null,null,null,null,null,0]
[null,null,null,null,null,null,null,null,null,null,0]
[null,null,null,null,null,null,null,null,null,null,0]
[null,null,null,null,null,null,null,null,null,null,0]
[null,null,null,null,null,null,null,null,null,null,0]
[null,null,null,null,null,null,null,null,null,null,0]
[null,null,null,null,null,null,null,null,null,null,0]
[null,null,null,null,null,null,null,null,null,null,0]
[null,null,null,null,null,null,null,null,null,null,0]
[null,null,null,null,null,null,null,null,null,null,0]
[null,null,null,null,null,null,null,null,null,null,0]
[null,null,null,null,null,null,null,null,null,null,0]
[null,null,null,null,null,null,null,null,null,null,0]
[null,null,null,null,null,null,null,null,null,null,0]
[null,null,null,null,null,null,null,null,null,null,0]
[null,null,null,null,null,null,null,null,null,null,0]
[null,null,null,null,null,null,null,null,null,null,0]
[null,null,null,null,null,null,null,null,null,null,0]
["TOT Jour",null,{"$f":"SUM(C98:C147)","v":0},{"$f":"SUM(D98:D147)","v":0},0,0,0,0,0,0]
["TOT Période",null,{"$f":"SUM(C148:J148)","v":0}]
[{"$f":"Accueil!$B9","v":"Lego"}]
[]
[]
["Période :",{"$f":"Accueil!E16","v":"P3"},{"$f":"Accueil!$F16","v":"du"},{"$f":"Accueil!$G16","v":"2015-01-04"},{"$f":"Accueil!$H16","v":"au"},{"$f":"Accueil!$I16","v":"2015-02-20"}]
["Selectionnez la classe participant à l'atelier :"]
["NOM","Prénom",{"$f":"Accueil!B42","v":"2015-01-04"},{"$f":"Accueil!C42","v":"2015-01-04"},{"$f":"Accueil!D42","v":"2015-01-04"},{"$f":"Accueil!E42","v":"2015-01-04"},{"$f":"Accueil!F42","v":"2015-01-04"},{"$f":"Accueil!G42","v":"2015-01-04"},{"$f":"Accueil!H42","v":"2015-01-04"},{"$f":"Accueil!I42","v":"2015-01-04"},"TOT"]
[null,null,null,null,null,null,null,null,null,null,{"$f":"SUM(C156:J156)","v":0}]
[null,null,null,null,null,null,null,null,null,null,{"$f":"SUM(C157:J157)","v":0}]
[null,null,null,null,null,null,null,null,null,null,0]
[null,null,null,null,null,null,null,null,null,null,0]
[null,null,null,null,null,null,null,null,null,null,0]
[null,null,null,null,null,null,null,null,null,null,0]
[null,null,null,null,null,null,null,null,null,null,0]
[null,null,null,null,null,null,null,null,null,null,0]
[null,null,null,null,null,null,null,null,null,null,0]
[null,null,null,null,null,null,null,null,null,null,0]
[null,null,null,null,null,null,null,null,null,null,0]
[null,null,null,null,null,null,null,null,null,null,0]
[null,null,null,null,null,null,null,null,null,null,0]
[null,null,null,null,null,null,null,null,null,null,0]
[null,null,null,null,null,null,null,null,null,null,0]
[null,null,null,null,null,null,null,null,null,null,0]
[null,null,null,null,null,null,null,null,null,null,0]
[null,null,null,null,null,null,null,null,null,null,0]
[null,null,null,null,null,null,null,null,null,null,0]
[null,null,null,null,null,null,null,null,null,null,0]
[null,null,null,null,null,null,null,null,null,null,0]
[null,null,null,null,null,null,null,null,null,null,0]
[null,null,null,null,null,null,null,null,null,null,0]
[null,null,null,null,null,null,null,null,null,null,0]
[null,null,null,null,null,null,null,null,null,null,0]
[null,null,null,null,null,null,null,null,null,null,{"$f":"SUM(C181:J181)","v":0}]
[null,null,null,null,null,null,null,null,null,null,{"$f":"SUM(C182:J182)","v":0}]
[null,null,null,null,null,null,null,null,null,null,0]
[null,null,null,null,null,null,null,null,null,null,0]
[null,null,null,null,null,null,null,null,null,null,0]
[null,null,null,null,null,null,null,null,null,null,0]
[null,null,null,null,null,null,null,null,null,null,0]
[null,null,null,null,null,null,null,null,null,null,0]
[null,null,null,null,null,null,null,null,null,null,0]
[null,null,null,null,null,null,null,null,null,null,0]
[null,null,null,null,null,null,null,null,null,null,0]
[null,null,null,null,null,null,null,null,null,null,0]
[null,null,null,null,null,null,null,null,null,null,0]
[null,null,null,null,null,null,null,null,null,null,0]
[null,null,null,null,null,null,null,null,null,null,0]
[null,null,null,null,null,null,null,null,null,null,0]
[null,null,null,null,null,null,null,null,null,null,0]
[null,null,null,null,null,null,null,null,null,null,0]
[null,null,null,null,null,null,null,null,null,null,0]
[null,null,null,null,null,null,null,null,null,null,0]
[null,null,null,null,null,null,null,null,null,null,0]
[null,null,null,null,null,null,null,null,null,null,0]
[null,null,null,null,null,null,null,null,null,null,0]
[null,null,null,null,null,null,null,null,null,null,0]
[null,null,null,null,null,null,null,null,null,null,0]
["TOT Jour",null,{"$f":"SUM(C156:C205)","v":0},{"$f":"SUM(D156:D205)","v":0},0,0,0,0,0,0]
["TOT Période",null,{"$f":"SUM(C206:J206)","v":0}]
[{"$f":"Accueil!$B9","v":"Lego"}]
[]
[]
["Période :",{"$f":"Accueil!E18","v":"P4"},{"$f":"Accueil!$F18","v":"du"},{"$f":"Accueil!$G18","v":"2015-03-08"},{"$f":"Accueil!$H18","v":"au"},{"$f":"Accueil!$I18","v":"2015-04-15"}]
["Selectionnez la classe participant à l'atelier :"]
["NOM","Prénom",{"$f":"Accueil!B44","v":"2015-03-08"},{"$f":"Accueil!C44","v":"2015-03-08"},{"$f":"Accueil!D44","v":"2015-03-08"},{"$f":"Accueil!E44","v":"2015-03-08"},{"$f":"Accueil!F44","v":"2015-03-08"},{"$f":"Accueil!G44","v":"2015-03-08"},{"$f":"Accueil!H44","v":"2015-03-08"},{"$f":"Accueil!I44","v":"2015-03-08"},"TOT"]
[null,null,null,null,null,null,null,null,null,null,{"$f":"SUM(C214:J214)","v":0}]
[null,null,null,null,null,null,null,null,null,null,{"$f":"SUM(C215:J215)","v":0}]
[null,null,null,null,null,null,null,null,null,null,0]
[null,null,null,null,null,null,null,null,null,null,0]
[null,null,null,null,null,null,null,null,null,null,0]
[null,null,null,null,null,null,null,null,null,null,0]
[null,null,null,null,null,null,null,null,null,null,0]
[null,null,null,null,null,null,null,null,null,null,0]
[null,null,null,null,null,null,null,null,null,null,0]
[null,null,null,null,null,null,null,null,null,null,0]
[null,null,null,null,null,null,null,null,null,null,0]
[null,null,null,null,null,null,null,null,null,null,0]
[null,null,null,null,null,null,null,null,null,null,0]
[null,null,null,null,null,null,null,null,null,null,0]
[null,null,null,null,null,null,null,null,null,null,0]
[null,null,null,null,null,null,null,null,null,null,0]
[null,null,null,null,null,null,null,null,null,null,0]
[null,null,null,null,null,null,null,null,null,null,0]
[null,null,null,null,null,null,null,null,null,null,0]
[null,null,null,null,null,null,null,null,null,null,0]
[null,null,null,null,null,null,null,null,null,null,0]
[null,null,null,null,null,null,null,null,null,null,0]
[null,null,null,null,null,null,null,null,null,null,0]
[null,null,null,null,null,null,null,null,null,null,0]
[null,null,null,null,null,null,null,null,null,null,0]
[null,null,null,null,null,null,null,null,null,null,{"$f":"SUM(C239:J239)","v":0}]
[null,null,null,null,null,null,null,null,null,null,{"$f":"SUM(C240:J240)","v":0}]
[null,null,null,null,null,null,null,null,null,null,0]
[null,null,null,null,null,null,null,null,null,null,0]
[null,null,null,null,null,null,null,null,null,null,0]
[null,null,null,null,null,null,null,null,null,null,0]
[null,null,null,null,null,null,null,null,null,null,0]
[null,null,null,null,null,null,null,null,null,null,0]
[null,null,null,null,null,null,null,null,null,null,0]
[null,null,null,null,null,null,null,null,null,null,0]
[null,null,null,null,null,null,null,null,null,null,0]
[null,null,null,null,null,null,null,null,null,null,0]
[null,null,null,null,null,null,null,null,null,null,0]
[null,null,null,null,null,null,null,null,null,null,0]
[null,null,null,null,null,null,null,null,null,null,0]
[null,null,null,null,null,null,null,null,null,null,0]
[null,null,null,null,null,null,null,null,null,null,0]
[null,null,null,null,null,null,null,null,null,null,0]
[null,null,null,null,null,null,null,null,null,null,0]
[null,null,null,null,null,null,null,null,null,null,0]
[null,null,null,null,null,null,null,null,null,null,0]
[null,null,null,null,null,null,null,null,null,null,0]
[null,null,null,null,null,null,null,null,null,null,0]
[null,null,null,null,null,null,null,null,null,null,0]
[null,null,null,null,null,null,null,null,null,null,0]
["TOT Jour",null,{"$f":"SUM(C214:C263)","v":0},{"$f":"SUM(D214:D263)","v":0},0,0,0,0,0,0]
["TOT Période",null,{"$f":"SUM(C264:J264)","v":0}]
[{"$f":"Accueil!$B9","v":"Lego"}]
[]
[]
["Période :",{"$f":"Accueil!E20","v":"P5"},{"$f":"Accueil!$F20","v":"du"},{"$f":"Accueil!$G20","v":"2015-05-03"},{"$f":"Accueil!$H20","v":"au"},{"$f":"Accueil!$I20","v":"2015-07-03"}]
["Selectionnez la classe participant à l'atelier :"]
["NOM","Prénom",{"$f":"Accueil!B46","v":"2015-05-03"},{"$f":"Accueil!C46","v":"2015-05-03"},{"$f":"Accueil!D46","v":"2015-05-03"},{"$f":"Accueil!E46","v":"2015-05-03"},{"$f":"Accueil!F46","v":"2015-05-03"},{"$f":"Accueil!G46","v":"2015-05-03"},{"$f":"Accueil!H46","v":"2015-05-03"},{"$f":"Accueil!I46","v":"2015-05-03"},"TOT"]
[null,null,null,null,null,null,null,null,null,null,{"$f":"SUM(C272:J272)","v":0}]
[null,null,null,null,null,null,null,null,null,null,{"$f":"SUM(C273:J273)","v":0}]
[null,null,null,null,null,null,null,null,null,null,0]
[null,null,null,null,null,null,null,null,null,null,0]
[null,null,null,null,null,null,null,null,null,null,0]
[null,null,null,null,null,null,null,null,null,null,0]
[null,null,null,null,null,null,null,null,null,null,0]
[null,null,null,null,null,null,null,null,null,null,0]
[null,null,null,null,null,null,null,null,null,null,0]
[null,null,null,null,null,null,null,null,null,null,0]
[null,null,null,null,null,null,null,null,null,null,0]
[null,null,null,null,null,null,null,null,null,null,0]
[null,null,null,null,null,null,null,null,null,null,0]
[null,null,null,null,null,null,null,null,null,null,0]
[null,null,null,null,null,null,null,null,null,null,0]
[null,null,null,null,null,null,null,null,null,null,0]
[null,null,null,null,null,null,null,null,null,null,0]
[null,null,null,null,null,null,null,null,null,null,0]
[null,null,null,null,null,null,null,null,null,null,0]
[null,null,null,null,null,null,null,null,null,null,0]
[null,null,null,null,null,null,null,null,null,null,0]
[null,null,null,null,null,null,null,null,null,null,0]
[null,null,null,null,null,null,null,null,null,null,0]
[null,null,null,null,null,null,null,null,null,null,0]
[null,null,null,null,null,null,null,null,null,null,0]
[null,null,null,null,null,null,null,null,null,null,{"$f":"SUM(C297:J297)","v":0}]
[null,null,null,null,null,null,null,null,null,null,{"$f":"SUM(C298:J298)","v":0}]
[null,null,null,null,null,null,null,null,null,null,0]
[null,null,null,null,null,null,null,null,null,null,0]
[null,null,null,null,null,null,null,null,null,null,0]
[null,null,null,null,null,null,null,null,null,null,0]
[null,null,null,null,null,null,null,null,null,null,0]
[null,null,null,null,null,null,null,null,null,null,0]
[null,null,null,null,null,null,null,null,null,null,0]
[null,null,null,null,null,null,null,null,null,null,0]
[null,null,null,null,null,null,null,null,null,null,0]
[null,null,null,null,null,null,null,null,null,null,0]
[null,null,null,null,null,null,null,null,null,null,0]
[null,null,null,null,null,null,null,null,null,null,0]
[null,null,null,null,null,null,null,null,null,null,0]
[null,null,null,null,null,null,null,null,null,null,0]
[null,null,null,null,null,null,null,null,null,null,0]
[null,null,null,null,null,null,null,null,null,null,0]
[null,null,null,null,null,null,null,null,null,null,0]
[null,null,null,null,null,null,null,null,null,null,0]
[null,null,null,null,null,null,null,null,null,null,0]
[null,null,null,null,null,null,null,null,null,null,0]
[null,null,null,null,null,null,null,null,null,null,0]
[null,null,null,null,null,null,null,null,null,null,0]
[null,null,null,null,null,null,null,null,null,null,0]
["TOT Jour",null,{"$f":"SUM(C272:C321)","v":0},{"$f":"SUM(D272:D321)","v":0},0,0,0,0,0,0]
["TOT Période",null,{"$f":"SUM(C322:J322)","v":0}]
["Statistiques"]
[]
[]
["Nombre d'heure de fréquentation :"]
[{"$f":"Accueil!$E12","v":"P1"},{"$f":"$C$91*1.5","v":0},"heures de présence pour cet atelier et pour cette période"]
[{"$f":"Accueil!$E14","v":"P2"},{"$f":"$C$149*1.5","v":0},"heures de présence pour cet atelier et pour cette période"]
[{"$f":"Accueil!$E16","v":"P3"},{"$f":"$C$207*1.5","v":0},"heures de présence pour cet atelier et pour cette période"]
[{"$f":"Accueil!$E18","v":"P4"},{"$f":"$C$265*1.5","v":0},"heures de présence pour cet atelier et pour cette période"]
[{"$f":"Accueil!$E20","v":"P5"},{"$f":"$C$323*1.5","v":0},"heures de présence pour cet atelier et pour cette période"]
["TOT",{"$f":"SUM($B$328:$B$332)","v":0},"heures de présence pour cet atelier et pour l'année"]

{"sheet":"Canard","index":6,"n_rows":333,"n_cols":11,"rows_kept":333,"cut":false,"hidden":false,"merged":[[16,2,16,9],[33,0,34,10],[37,0,37,3],[37,4,37,5],[89,0,89,1],[90,0,90,1],[90,2,90,9],[91,0,92,10],[95,0,95,3],[95,4,95,5],[147,0,147,1],[148,0,148,1],[148,2,148,9],[149,0,150,10],[153,0,153,3],[153,4,153,5],[263,0,263,1],[264,0,264,1],[264,2,264,9],[205,0,205,1],[206,0,206,1],[206,2,206,9],[207,0,208,10],[211,0,211,3],[211,4,211,5],[331,2,331,6],[332,2,332,6],[8,1,15,9],[323,0,324,10],[327,2,327,6],[328,2,328,6],[329,2,329,6],[330,2,330,6],[265,0,266,10],[269,0,269,3],[269,4,269,5],[321,0,321,1],[322,0,322,1],[322,2,322,9],[17,0,18,10],[19,0,22,10]]}
[]
[]
[]
[]
[]
[]
[]
[]
[null,{"$f":"Accueil!B10","v":"Canard"}]
[]
[]
[]
[]
[]
[]
[]
[null,{"$f":"Machin!B17","v":"Avec :"},{"$f":"Accueil!C10","v":0}]
[{"$f":"Machin!$A$28","v":"ATTENTION !"}]
[]
[{"$f":"Machin!$A$30","v":"Vous ne devez pas ajouter ou supprimer les enfants depuis cette feuille ! \nPour ajouter des enfants dans cet atelier -> Aller dans la feuille de la classe des enfants et suivre les instructions.\nPour supprimer des enfants de cet atelier -> Aller dans la feuille de la classe des enfants et suivre les instructions."}]
[]
[]
[]
[]
[]
[]
[]
[]
[]
[]
[]
[]
[]
[{"$f":"Accueil!$B10","v":"Canard"}]
[]
[]
["Période :",{"$f":"Accueil!$E$12","v":"P1"},{"$f":"Accueil!$F$12","v":"du"},{"$f":"Accueil!$G$12","v":"2014-09-02"},{"$f":"Accueil!$H$12","v":"au"},{"$f":"Accueil!$I$12","v":"2014-10-17"}]
["Selectionnez la classe participant à l'atelier :"]
["NOM","Prénom",{"$f":"Accueil!$B$38","v":"2014-09-02"},{"$f":"Accueil!$C$38","v":"2014-09-03"},{"$f":"Accueil!$D$38","v":"2014-09-04"},{"$f":"Accueil!$E$38","v":"2014-09-05"},{"$f":"Accueil!$F$38","v":"2014-09-06"},{"$f":"Accueil!$G$38","v":"2014-09-07"},{"$f":"Accueil!$H$38","v":"2014-09-08"},{"$f":"Accueil!$I$38","v":"2014-09-08"},"TOT"]
[null,null,null,null,null,null,null,null,null,null,{"$f":"SUM(C40:J40)","v":0}]
[null,null,null,null,null,null,null,null,null,null,{"$f":"SUM(C41:J41)","v":0}]
[null,null,null,null,null,null,null,null,null,null,0]
[null,null,null,null,null,null,null,null,null,null,0]
[null,null,null,null,null,null,null,null,null,null,0]
[null,null,null,null,null,null,null,null,null,null,0]
[null,null,null,null,null,null,null,null,null,null,0]
[null,null,null,null,null,null,null,null,null,null,0]
[null,null,null,null,null,null,null,null,null,null,0]
[null,null,null,null,null,null,null,null,null,null,0]
[null,null,null,null,null,null,null,null,null,null,0]
[null,null,null,null,null,null,null,null,null,null,0]
[null,null,null,null,null,null,null,null,null,null,0]
[null,null,null,null,null,null,null,null,null,null,0]
[null,null,null,null,null,null,null,null,null,null,0]
[null,null,null,null,null,null,null,null,null,null,0]
[null,null,null,null,null,null,null,null,null,null,0]
[null,null,null,null,null,null,null,null,null,null,0]
[null,null,null,null,null,null,null,null,null,null,0]
[null,null,null,null,null,null,null,null,null,null,0]
[null,null,null,null,null,null,null,null,null,null,0]
[null,null,null,null,null,null,null,null,null,null,0]
[null,null,null,null,null,null,null,null,null,null,0]
[null,null,null,null,null,null,null,null,null,null,0]
[null,null,null,null,null,null,null,null,null,null,0]
[null,null,null,null,null,null,null,null,null,null,{"$f":"SUM(C65:J65)","v":0}]
[null,null,null,null,null,null,null,null,null,null,{"$f":"SUM(C66:J66)","v":0}]
[null,null,null,null,null,null,null,null,null,null,0]
[null,null,null,null,null,null,null,null,null,null,0]
[null,null,null,null,null,null,null,null,null,null,0]
[null,null,null,null,null,null,null,null,null,null,0]
[null,null,null,null,null,null,null,null,null,null,0]
[null,null,null,null,null,null,null,null,null,null,0]
[null,null,null,null,null,null,null,null,null,null,0]
[null,null,null,null,null,null,null,null,null,null,0]
[null,null,null,null,null,null,null,null,null,null,0]
[null,null,null,null,null,null,null,null,null,null,0]
[null,null,null,null,null,null,null,null,null,null,0]
[null,null,null,null,null,null,null,null,null,null,0]
[null,null,null,null,null,null,null,null,null,null,0]
[null,null,null,null,null,null,null,null,null,null,0]
[null,null,null,null,null,null,null,null,null,null,0]
[null,null,null,null,null,null,null,null,null,null,0]
[null,null,null,null,null,null,null,null,null,null,0]
[null,null,null,null,null,null,null,null,null,null,0]
[null,null,null,null,null,null,null,null,null,null,0]
[null,null,null,null,null,null,null,null,null,null,0]
[null,null,null,null,null,null,null,null,null,null,0]
[null,null,null,null,null,null,null,null,null,null,0]
[null,null,null,null,null,null,null,null,null,null,0]
["TOT Jour",null,{"$f":"SUM(C40:C89)","v":0},{"$f":"SUM(D40:D89)","v":0},0,0,0,0,0,0]
["TOT Période",null,{"$f":"SUM(C90:J90)","v":0}]
[{"$f":"Accueil!$B10","v":"Canard"}]
[]
[]
["Période :",{"$f":"Accueil!$E14","v":"P2"},{"$f":"Accueil!$F14","v":"du"},{"$f":"Accueil!$G14","v":"2014-11-02"},{"$f":"Accueil!$H14","v":"au"},{"$f":"Accueil!$I14","v":"2014-12-18"}]
["Selectionnez la classe participant à l'atelier :"]
["NOM","Prénom",{"$f":"Accueil!B40","v":"2014-11-02"},{"$f":"Accueil!C40","v":"2014-11-03"},{"$f":"Accueil!D40","v":"2014-11-04"},{"$f":"Accueil!E40","v":"2014-11-05"},{"$f":"Accueil!F40","v":"2014-11-06"},{"$f":"Accueil!G40","v":"2014-11-07"},{"$f":"Accueil!H40","v":"2014-11-08"},{"$f":"Accueil!I40","v":"2014-11-08"},"TOT"]
[null,null,null,null,null,null,null,null,null,null,{"$f":"SUM(C98:J98)","v":0}]
[null,null,null,null,null,null,null,null,null,null,{"$f":"SUM(C99:J99)","v":0}]
[null,null,null,null,null,null,null,null,null,null,0]
[null,null,null,null,null,null,null,null,null,null,0]
[null,null,null,null,null,null,null,null,null,null,0]
[null,null,null,null,null,null,null,null,null,null,0]
[null,null,null,null,null,null,null,null,null,null,0]
[null,null,null,null,null,null,null,null,null,null,0]
[null,null,null,null,null,null,null,null,null,null,0]
[null,null,null,null,null,null,null,null,null,null,0]
[null,null,null,null,null,null,null,null,null,null,0]
[null,null,null,null,null,null,null,null,null,null,0]
[null,null,null,null,null,null,null,null,null,null,0]
[null,null,null,null,null,null,null,null,null,null,0]
[null,null,null,null,null,null,null,null,null,null,0]
[null,null,null,null,null,null,null,null,null,null,0]
[null,null,null,null,null,null,null,null,null,null,0]
[null,null,null,null,null,null,null,null,null,null,0]
[null,null,null,null,null,null,null,null,null,null,0]
[null,null,null,null,null,null,null,null,null,null,0]
[null,null,null,null,null,null,null,null,null,null,0]
[null,null,null,null,null,null,null,null,null,null,0]
[null,null,null,null,null,null,null,null,null,null,0]
[null,null,null,null,null,null,null,null,null,null,0]
[null,null,null,null,null,null,null,null,null,null,0]
[null,null,null,null,null,null,null,null,null,null,{"$f":"SUM(C123:J123)","v":0}]
[null,null,null,null,null,null,null,null,null,null,{"$f":"SUM(C124:J124)","v":0}]
[null,null,null,null,null,null,null,null,null,null,0]
[null,null,null,null,null,null,null,null,null,null,0]
[null,null,null,null,null,null,null,null,null,null,0]
[null,null,null,null,null,null,null,null,null,null,0]
[null,null,null,null,null,null,null,null,null,null,0]
[null,null,null,null,null,null,null,null,null,null,0]
[null,null,null,null,null,null,null,null,null,null,0]
[null,null,null,null,null,null,null,null,null,null,0]
[null,null,null,null,null,null,null,null,null,null,0]
[null,null,null,null,null,null,null,null,null,null,0]
[null,null,null,null,null,null,null,null,null,null,0]
[null,null,null,null,null,null,null,null,null,null,0]
[null,null,null,null,null,null,null,null,null,null,0]
[null,null,null,null,null,null,null,null,null,null,0]
[null,null,null,null,null,null,null,null,null,null,0]
[null,null,null,null,null,null,null,null,null,null,0]
[null,null,null,null,null,null,null,null,null,null,0]
[null,null,null,null,null,null,null,null,null,null,0]
[null,null,null,null,null,null,null,null,null,null,0]
[null,null,null,null,null,null,null,null,null,null,0]
[null,null,null,null,null,null,null,null,null,null,0]
[null,null,null,null,null,null,null,null,null,null,0]
[null,null,null,null,null,null,null,null,null,null,0]
["TOT Jour",null,{"$f":"SUM(C98:C147)","v":0},{"$f":"SUM(D98:D147)","v":0},0,0,0,0,0,0]
["TOT Période",null,{"$f":"SUM(C148:J148)","v":0}]
[{"$f":"Accueil!$B10","v":"Canard"}]
[]
[]
["Période :",{"$f":"Accueil!E16","v":"P3"},{"$f":"Accueil!$F16","v":"du"},{"$f":"Accueil!$G16","v":"2015-01-04"},{"$f":"Accueil!$H16","v":"au"},{"$f":"Accueil!$I16","v":"2015-02-20"}]
["Selectionnez la classe participant à l'atelier :"]
["NOM","Prénom",{"$f":"Accueil!B42","v":"2015-01-04"},{"$f":"Accueil!C42","v":"2015-01-04"},{"$f":"Accueil!D42","v":"2015-01-04"},{"$f":"Accueil!E42","v":"2015-01-04"},{"$f":"Accueil!F42","v":"2015-01-04"},{"$f":"Accueil!G42","v":"2015-01-04"},{"$f":"Accueil!H42","v":"2015-01-04"},{"$f":"Accueil!I42","v":"2015-01-04"},"TOT"]
[null,null,null,null,null,null,null,null,null,null,{"$f":"SUM(C156:J156)","v":0}]
[null,null,null,null,null,null,null,null,null,null,{"$f":"SUM(C157:J157)","v":0}]
[null,null,null,null,null,null,null,null,null,null,0]
[null,null,null,null,null,null,null,null,null,null,0]
[null,null,null,null,null,null,null,null,null,null,0]
[null,null,null,null,null,null,null,null,null,null,0]
[null,null,null,null,null,null,null,null,null,null,0]
[null,null,null,null,null,null,null,null,null,null,0]
[null,null,null,null,null,null,null,null,null,null,0]
[null,null,null,null,null,null,null,null,null,null,0]
[null,null,null,null,null,null,null,null,null,null,0]
[null,null,null,null,null,null,null,null,null,null,0]
[null,null,null,null,null,null,null,null,null,null,0]
[null,null,null,null,null,null,null,null,null,null,0]
[null,null,null,null,null,null,null,null,null,null,0]
[null,null,null,null,null,null,null,null,null,null,0]
[null,null,null,null,null,null,null,null,null,null,0]
[null,null,null,null,null,null,null,null,null,null,0]
[null,null,null,null,null,null,null,null,null,null,0]
[null,null,null,null,null,null,null,null,null,null,0]
[null,null,null,null,null,null,null,null,null,null,0]
[null,null,null,null,null,null,null,null,null,null,0]
[null,null,null,null,null,null,null,null,null,null,0]
[null,null,null,null,null,null,null,null,null,null,0]
[null,null,null,null,null,null,null,null,null,null,0]
[null,null,null,null,null,null,null,null,null,null,{"$f":"SUM(C181:J181)","v":0}]
[null,null,null,null,null,null,null,null,null,null,{"$f":"SUM(C182:J182)","v":0}]
[null,null,null,null,null,null,null,null,null,null,0]
[null,null,null,null,null,null,null,null,null,null,0]
[null,null,null,null,null,null,null,null,null,null,0]
[null,null,null,null,null,null,null,null,null,null,0]
[null,null,null,null,null,null,null,null,null,null,0]
[null,null,null,null,null,null,null,null,null,null,0]
[null,null,null,null,null,null,null,null,null,null,0]
[null,null,null,null,null,null,null,null,null,null,0]
[null,null,null,null,null,null,null,null,null,null,0]
[null,null,null,null,null,null,null,null,null,null,0]
[null,null,null,null,null,null,null,null,null,null,0]
[null,null,null,null,null,null,null,null,null,null,0]
[null,null,null,null,null,null,null,null,null,null,0]
[null,null,null,null,null,null,null,null,null,null,0]
[null,null,null,null,null,null,null,null,null,null,0]
[null,null,null,null,null,null,null,null,null,null,0]
[null,null,null,null,null,null,null,null,null,null,0]
[null,null,null,null,null,null,null,null,null,null,0]
[null,null,null,null,null,null,null,null,null,null,0]
[null,null,null,null,null,null,null,null,null,null,0]
[null,null,null,null,null,null,null,null,null,null,0]
[null,null,null,null,null,null,null,null,null,null,0]
[null,null,null,null,null,null,null,null,null,null,0]
["TOT Jour",null,{"$f":"SUM(C156:C205)","v":0},{"$f":"SUM(D156:D205)","v":0},0,0,0,0,0,0]
["TOT Période",null,{"$f":"SUM(C206:J206)","v":0}]
[{"$f":"Accueil!$B10","v":"Canard"}]
[]
[]
["Période :",{"$f":"Accueil!E18","v":"P4"},{"$f":"Accueil!$F18","v":"du"},{"$f":"Accueil!$G18","v":"2015-03-08"},{"$f":"Accueil!$H18","v":"au"},{"$f":"Accueil!$I18","v":"2015-04-15"}]
["Selectionnez la classe participant à l'atelier :"]
["NOM","Prénom",{"$f":"Accueil!B44","v":"2015-03-08"},{"$f":"Accueil!C44","v":"2015-03-08"},{"$f":"Accueil!D44","v":"2015-03-08"},{"$f":"Accueil!E44","v":"2015-03-08"},{"$f":"Accueil!F44","v":"2015-03-08"},{"$f":"Accueil!G44","v":"2015-03-08"},{"$f":"Accueil!H44","v":"2015-03-08"},{"$f":"Accueil!I44","v":"2015-03-08"},"TOT"]
[null,null,null,null,null,null,null,null,null,null,{"$f":"SUM(C214:J214)","v":0}]
[null,null,null,null,null,null,null,null,null,null,{"$f":"SUM(C215:J215)","v":0}]
[null,null,null,null,null,null,null,null,null,null,0]
[null,null,null,null,null,null,null,null,null,null,0]
[null,null,null,null,null,null,null,null,null,null,0]
[null,null,null,null,null,null,null,null,null,null,0]
[null,null,null,null,null,null,null,null,null,null,0]
[null,null,null,null,null,null,null,null,null,null,0]
[null,null,null,null,null,null,null,null,null,null,0]
[null,null,null,null,null,null,null,null,null,null,0]
[null,null,null,null,null,null,null,null,null,null,0]
[null,null,null,null,null,null,null,null,null,null,0]
[null,null,null,null,null,null,null,null,null,null,0]
[null,null,null,null,null,null,null,null,null,null,0]
[null,null,null,null,null,null,null,null,null,null,0]
[null,null,null,null,null,null,null,null,null,null,0]
[null,null,null,null,null,null,null,null,null,null,0]
[null,null,null,null,null,null,null,null,null,null,0]
[null,null,null,null,null,null,null,null,null,null,0]
[null,null,null,null,null,null,null,null,null,null,0]
[null,null,null,null,null,null,null,null,null,null,0]
[null,null,null,null,null,null,null,null,null,null,0]
[null,null,null,null,null,null,null,null,null,null,0]
[null,null,null,null,null,null,null,null,null,null,0]
[null,null,null,null,null,null,null,null,null,null,0]
[null,null,null,null,null,null,null,null,null,null,{"$f":"SUM(C239:J239)","v":0}]
[null,null,null,null,null,null,null,null,null,null,{"$f":"SUM(C240:J240)","v":0}]
[null,null,null,null,null,null,null,null,null,null,0]
[null,null,null,null,null,null,null,null,null,null,0]
[null,null,null,null,null,null,null,null,null,null,0]
[null,null,null,null,null,null,null,null,null,null,0]
[null,null,null,null,null,null,null,null,null,null,0]
[null,null,null,null,null,null,null,null,null,null,0]
[null,null,null,null,null,null,null,null,null,null,0]
[null,null,null,null,null,null,null,null,null,null,0]
[null,null,null,null,null,null,null,null,null,null,0]
[null,null,null,null,null,null,null,null,null,null,0]
[null,null,null,null,null,null,null,null,null,null,0]
[null,null,null,null,null,null,null,null,null,null,0]
[null,null,null,null,null,null,null,null,null,null,0]
[null,null,null,null,null,null,null,null,null,null,0]
[null,null,null,null,null,null,null,null,null,null,0]
[null,null,null,null,null,null,null,null,null,null,0]
[null,null,null,null,null,null,null,null,null,null,0]
[null,null,null,null,null,null,null,null,null,null,0]
[null,null,null,null,null,null,null,null,null,null,0]
[null,null,null,null,null,null,null,null,null,null,0]
[null,null,null,null,null,null,null,null,null,null,0]
[null,null,null,null,null,null,null,null,null,null,0]
[null,null,null,null,null,null,null,null,null,null,0]
["TOT Jour",null,{"$f":"SUM(C214:C263)","v":0},{"$f":"SUM(D214:D263)","v":0},0,0,0,0,0,0]
["TOT Période",null,{"$f":"SUM(C264:J264)","v":0}]
[{"$f":"Accueil!$B10","v":"Canard"}]
[]
[]
["Période :",{"$f":"Accueil!E20","v":"P5"},{"$f":"Accueil!$F20","v":"du"},{"$f":"Accueil!$G20","v":"2015-05-03"},{"$f":"Accueil!$H20","v":"au"},{"$f":"Accueil!$I20","v":"2015-07-03"}]
["Selectionnez la classe participant à l'atelier :"]
["NOM","Prénom",{"$f":"Accueil!B46","v":"2015-05-03"},{"$f":"Accueil!C46","v":"2015-05-03"},{"$f":"Accueil!D46","v":"2015-05-03"},{"$f":"Accueil!E46","v":"2015-05-03"},{"$f":"Accueil!F46","v":"2015-05-03"},{"$f":"Accueil!G46","v":"2015-05-03"},{"$f":"Accueil!H46","v":"2015-05-03"},{"$f":"Accueil!I46","v":"2015-05-03"},"TOT"]
[null,null,null,null,null,null,null,null,null,null,{"$f":"SUM(C272:J272)","v":0}]
[null,null,null,null,null,null,null,null,null,null,{"$f":"SUM(C273:J273)","v":0}]
[null,null,null,null,null,null,null,null,null,null,0]
[null,null,null,null,null,null,null,null,null,null,0]
[null,null,null,null,null,null,null,null,null,null,0]
[null,null,null,null,null,null,null,null,null,null,0]
[null,null,null,null,null,null,null,null,null,null,0]
[null,null,null,null,null,null,null,null,null,null,0]
[null,null,null,null,null,null,null,null,null,null,0]
[null,null,null,null,null,null,null,null,null,null,0]
[null,null,null,null,null,null,null,null,null,null,0]
[null,null,null,null,null,null,null,null,null,null,0]
[null,null,null,null,null,null,null,null,null,null,0]
[null,null,null,null,null,null,null,null,null,null,0]
[null,null,null,null,null,null,null,null,null,null,0]
[null,null,null,null,null,null,null,null,null,null,0]
[null,null,null,null,null,null,null,null,null,null,0]
[null,null,null,null,null,null,null,null,null,null,0]
[null,null,null,null,null,null,null,null,null,null,0]
[null,null,null,null,null,null,null,null,null,null,0]
[null,null,null,null,null,null,null,null,null,null,0]
[null,null,null,null,null,null,null,null,null,null,0]
[null,null,null,null,null,null,null,null,null,null,0]
[null,null,null,null,null,null,null,null,null,null,0]
[null,null,null,null,null,null,null,null,null,null,0]
[null,null,null,null,null,null,null,null,null,null,{"$f":"SUM(C297:J297)","v":0}]
[null,null,null,null,null,null,null,null,null,null,{"$f":"SUM(C298:J298)","v":0}]
[null,null,null,null,null,null,null,null,null,null,0]
[null,null,null,null,null,null,null,null,null,null,0]
[null,null,null,null,null,null,null,null,null,null,0]
[null,null,null,null,null,null,null,null,null,null,0]
[null,null,null,null,null,null,null,null,null,null,0]
[null,null,null,null,null,null,null,null,null,null,0]
[null,null,null,null,null,null,null,null,null,null,0]
[null,null,null,null,null,null,null,null,null,null,0]
[null,null,null,null,null,null,null,null,null,null,0]
[null,null,null,null,null,null,null,null,null,null,0]
[null,null,null,null,null,null,null,null,null,null,0]
[null,null,null,null,null,null,null,null,null,null,0]
[null,null,null,null,null,null,null,null,null,null,0]
[null,null,null,null,null,null,null,null,null,null,0]
[null,null,null,null,null,null,null,null,null,null,0]
[null,null,null,null,null,null,null,null,null,null,0]
[null,null,null,null,null,null,null,null,null,null,0]
[null,null,null,null,null,null,null,null,null,null,0]
[null,null,null,null,null,null,null,null,null,null,0]
[null,null,null,null,null,null,null,null,null,null,0]
[null,null,null,null,null,null,null,null,null,null,0]
[null,null,null,null,null,null,null,null,null,null,0]
[null,null,null,null,null,null,null,null,null,null,0]
["TOT Jour",null,{"$f":"SUM(C272:C321)","v":0},{"$f":"SUM(D272:D321)","v":0},0,0,0,0,0,0]
["TOT Période",null,{"$f":"SUM(C322:J322)","v":0}]
["Statistiques"]
[]
[]
["Nombre d'heure de fréquentation :"]
[{"$f":"Accueil!$E12","v":"P1"},{"$f":"$C$91*1.5","v":0},"heures de présence pour cet atelier et pour cette période"]
[{"$f":"Accueil!$E14","v":"P2"},{"$f":"$C$149*1.5","v":0},"heures de présence pour cet atelier et pour cette période"]
[{"$f":"Accueil!$E16","v":"P3"},{"$f":"$C$207*1.5","v":0},"heures de présence pour cet atelier et pour cette période"]
[{"$f":"Accueil!$E18","v":"P4"},{"$f":"$C$265*1.5","v":0},"heures de présence pour cet atelier et pour cette période"]
[{"$f":"Accueil!$E20","v":"P5"},{"$f":"$C$323*1.5","v":0},"heures de présence pour cet atelier et pour cette période"]
["TOT",{"$f":"SUM($B$328:$B$332)","v":0},"heures de présence pour cet atelier et pour l'année"]

{"sheet":"Anglais","index":7,"n_rows":333,"n_cols":11,"rows_kept":333,"cut":false,"hidden":false,"merged":[[16,2,16,9],[33,0,34,10],[37,0,37,3],[37,4,37,5],[89,0,89,1],[90,0,90,1],[90,2,90,9],[91,0,92,10],[95,0,95,3],[95,4,95,5],[147,0,147,1],[148,0,148,1],[148,2,148,9],[149,0,150,10],[153,0,153,3],[153,4,153,5],[263,0,263,1],[264,0,264,1],[264,2,264,9],[205,0,205,1],[206,0,206,1],[206,2,206,9],[207,0,208,10],[211,0,211,3],[211,4,211,5],[331,2,331,6],[332,2,332,6],[8,1,15,9],[323,0,324,10],[327,2,327,6],[328,2,328,6],[329,2,329,6],[330,2,330,6],[265,0,266,10],[269,0,269,3],[269,4,269,5],[321,0,321,1],[322,0,322,1],[322,2,322,9],[17,0,18,10],[19,0,22,10]]}
[]
[]
[]
[]
[]
[]
[]
[]
[null,{"$f":"Accueil!B11","v":"Anglais"}]
[]
[]
[]
[]
[]
[]
[]
[null,{"$f":"Machin!B17","v":"Avec :"},{"$f":"Accueil!C11","v":0}]
[{"$f":"Machin!$A$28","v":"ATTENTION !"}]
[]
[{"$f":"Machin!$A$30","v":"Vous ne devez pas ajouter ou supprimer les enfants depuis cette feuille ! \nPour ajouter des enfants dans cet atelier -> Aller dans la feuille de la classe des enfants et suivre les instructions.\nPour supprimer des enfants de cet atelier -> Aller dans la feuille de la classe des enfants et suivre les instructions."}]
[]
[]
[]
[]
[]
[]
[]
[]
[]
[]
[]
[]
[]
[{"$f":"Accueil!$B11","v":"Anglais"}]
[]
[]
["Période :",{"$f":"Accueil!$E$12","v":"P1"},{"$f":"Accueil!$F$12","v":"du"},{"$f":"Accueil!$G$12","v":"2014-09-02"},{"$f":"Accueil!$H$12","v":"au"},{"$f":"Accueil!$I$12","v":"2014-10-17"}]
["Selectionnez la classe participant à l'atelier :"]
["NOM","Prénom",{"$f":"Accueil!$B$38","v":"2014-09-02"},{"$f":"Accueil!$C$38","v":"2014-09-03"},{"$f":"Accueil!$D$38","v":"2014-09-04"},{"$f":"Accueil!$E$38","v":"2014-09-05"},{"$f":"Accueil!$F$38","v":"2014-09-06"},{"$f":"Accueil!$G$38","v":"2014-09-07"},{"$f":"Accueil!$H$38","v":"2014-09-08"},{"$f":"Accueil!$I$38","v":"2014-09-08"},"TOT"]
[null,null,null,null,null,null,null,null,null,null,{"$f":"SUM(C40:J40)","v":0}]
[null,null,null,null,null,null,null,null,null,null,{"$f":"SUM(C41:J41)","v":0}]
[null,null,null,null,null,null,null,null,null,null,0]
[null,null,null,null,null,null,null,null,null,null,0]
[null,null,null,null,null,null,null,null,null,null,0]
[null,null,null,null,null,null,null,null,null,null,0]
[null,null,null,null,null,null,null,null,null,null,0]
[null,null,null,null,null,null,null,null,null,null,0]
[null,null,null,null,null,null,null,null,null,null,0]
[null,null,null,null,null,null,null,null,null,null,0]
[null,null,null,null,null,null,null,null,null,null,0]
[null,null,null,null,null,null,null,null,null,null,0]
[null,null,null,null,null,null,null,null,null,null,0]
[null,null,null,null,null,null,null,null,null,null,0]
[null,null,null,null,null,null,null,null,null,null,0]
[null,null,null,null,null,null,null,null,null,null,0]
[null,null,null,null,null,null,null,null,null,null,0]
[null,null,null,null,null,null,null,null,null,null,0]
[null,null,null,null,null,null,null,null,null,null,0]
[null,null,null,null,null,null,null,null,null,null,0]
[null,null,null,null,null,null,null,null,null,null,0]
[null,null,null,null,null,null,null,null,null,null,0]
[null,null,null,null,null,null,null,null,null,null,0]
[null,null,null,null,null,null,null,null,null,null,0]
[null,null,null,null,null,null,null,null,null,null,0]
[null,null,null,null,null,null,null,null,null,null,{"$f":"SUM(C65:J65)","v":0}]
[null,null,null,null,null,null,null,null,null,null,{"$f":"SUM(C66:J66)","v":0}]
[null,null,null,null,null,null,null,null,null,null,0]
[null,null,null,null,null,null,null,null,null,null,0]
[null,null,null,null,null,null,null,null,null,null,0]
[null,null,null,null,null,null,null,null,null,null,0]
[null,null,null,null,null,null,null,null,null,null,0]
[null,null,null,null,null,null,null,null,null,null,0]
[null,null,null,null,null,null,null,null,null,null,0]
[null,null,null,null,null,null,null,null,null,null,0]
[null,null,null,null,null,null,null,null,null,null,0]
[null,null,null,null,null,null,null,null,null,null,0]
[null,null,null,null,null,null,null,null,null,null,0]
[null,null,null,null,null,null,null,null,null,null,0]
[null,null,null,null,null,null,null,null,null,null,0]
[null,null,null,null,null,null,null,null,null,null,0]
[null,null,null,null,null,null,null,null,null,null,0]
[null,null,null,null,null,null,null,null,null,null,0]
[null,null,null,null,null,null,null,null,null,null,0]
[null,null,null,null,null,null,null,null,null,null,0]
[null,null,null,null,null,null,null,null,null,null,0]
[null,null,null,null,null,null,null,null,null,null,0]
[null,null,null,null,null,null,null,null,null,null,0]
[null,null,null,null,null,null,null,null,null,null,0]
[null,null,null,null,null,null,null,null,null,null,0]
["TOT Jour",null,{"$f":"SUM(C40:C89)","v":0},{"$f":"SUM(D40:D89)","v":0},0,0,0,0,0,0]
["TOT Période",null,{"$f":"SUM(C90:J90)","v":0}]
[{"$f":"Accueil!$B11","v":"Anglais"}]
[]
[]
["Période :",{"$f":"Accueil!$E14","v":"P2"},{"$f":"Accueil!$F14","v":"du"},{"$f":"Accueil!$G14","v":"2014-11-02"},{"$f":"Accueil!$H14","v":"au"},{"$f":"Accueil!$I14","v":"2014-12-18"}]
["Selectionnez la classe participant à l'atelier :"]
["NOM","Prénom",{"$f":"Accueil!B40","v":"2014-11-02"},{"$f":"Accueil!C40","v":"2014-11-03"},{"$f":"Accueil!D40","v":"2014-11-04"},{"$f":"Accueil!E40","v":"2014-11-05"},{"$f":"Accueil!F40","v":"2014-11-06"},{"$f":"Accueil!G40","v":"2014-11-07"},{"$f":"Accueil!H40","v":"2014-11-08"},{"$f":"Accueil!I40","v":"2014-11-08"},"TOT"]
[null,null,null,null,null,null,null,null,null,null,{"$f":"SUM(C98:J98)","v":0}]
[null,null,null,null,null,null,null,null,null,null,{"$f":"SUM(C99:J99)","v":0}]
[null,null,null,null,null,null,null,null,null,null,0]
[null,null,null,null,null,null,null,null,null,null,0]
[null,null,null,null,null,null,null,null,null,null,0]
[null,null,null,null,null,null,null,null,null,null,0]
[null,null,null,null,null,null,null,null,null,null,0]
[null,null,null,null,null,null,null,null,null,null,0]
[null,null,null,null,null,null,null,null,null,null,0]
[null,null,null,null,null,null,null,null,null,null,0]
[null,null,null,null,null,null,null,null,null,null,0]
[null,null,null,null,null,null,null,null,null,null,0]
[null,null,null,null,null,null,null,null,null,null,0]
[null,null,null,null,null,null,null,null,null,null,0]
[null,null,null,null,null,null,null,null,null,null,0]
[null,null,null,null,null,null,null,null,null,null,0]
[null,null,null,null,null,null,null,null,null,null,0]
[null,null,null,null,null,null,null,null,null,null,0]
[null,null,null,null,null,null,null,null,null,null,0]
[null,null,null,null,null,null,null,null,null,null,0]
[null,null,null,null,null,null,null,null,null,null,0]
[null,null,null,null,null,null,null,null,null,null,0]
[null,null,null,null,null,null,null,null,null,null,0]
[null,null,null,null,null,null,null,null,null,null,0]
[null,null,null,null,null,null,null,null,null,null,0]
[null,null,null,null,null,null,null,null,null,null,{"$f":"SUM(C123:J123)","v":0}]
[null,null,null,null,null,null,null,null,null,null,{"$f":"SUM(C124:J124)","v":0}]
[null,null,null,null,null,null,null,null,null,null,0]
[null,null,null,null,null,null,null,null,null,null,0]
[null,null,null,null,null,null,null,null,null,null,0]
[null,null,null,null,null,null,null,null,null,null,0]
[null,null,null,null,null,null,null,null,null,null,0]
[null,null,null,null,null,null,null,null,null,null,0]
[null,null,null,null,null,null,null,null,null,null,0]
[null,null,null,null,null,null,null,null,null,null,0]
[null,null,null,null,null,null,null,null,null,null,0]
[null,null,null,null,null,null,null,null,null,null,0]
[null,null,null,null,null,null,null,null,null,null,0]
[null,null,null,null,null,null,null,null,null,null,0]
[null,null,null,null,null,null,null,null,null,null,0]
[null,null,null,null,null,null,null,null,null,null,0]
[null,null,null,null,null,null,null,null,null,null,0]
[null,null,null,null,null,null,null,null,null,null,0]
[null,null,null,null,null,null,null,null,null,null,0]
[null,null,null,null,null,null,null,null,null,null,0]
[null,null,null,null,null,null,null,null,null,null,0]
[null,null,null,null,null,null,null,null,null,null,0]
[null,null,null,null,null,null,null,null,null,null,0]
[null,null,null,null,null,null,null,null,null,null,0]
[null,null,null,null,null,null,null,null,null,null,0]
["TOT Jour",null,{"$f":"SUM(C98:C147)","v":0},{"$f":"SUM(D98:D147)","v":0},0,0,0,0,0,0]
["TOT Période",null,{"$f":"SUM(C148:J148)","v":0}]
[{"$f":"Accueil!$B11","v":"Anglais"}]
[]
[]
["Période :",{"$f":"Accueil!E16","v":"P3"},{"$f":"Accueil!$F16","v":"du"},{"$f":"Accueil!$G16","v":"2015-01-04"},{"$f":"Accueil!$H16","v":"au"},{"$f":"Accueil!$I16","v":"2015-02-20"}]
["Selectionnez la classe participant à l'atelier :"]
["NOM","Prénom",{"$f":"Accueil!B42","v":"2015-01-04"},{"$f":"Accueil!C42","v":"2015-01-04"},{"$f":"Accueil!D42","v":"2015-01-04"},{"$f":"Accueil!E42","v":"2015-01-04"},{"$f":"Accueil!F42","v":"2015-01-04"},{"$f":"Accueil!G42","v":"2015-01-04"},{"$f":"Accueil!H42","v":"2015-01-04"},{"$f":"Accueil!I42","v":"2015-01-04"},"TOT"]
[null,null,null,null,null,null,null,null,null,null,{"$f":"SUM(C156:J156)","v":0}]
[null,null,null,null,null,null,null,null,null,null,{"$f":"SUM(C157:J157)","v":0}]
[null,null,null,null,null,null,null,null,null,null,0]
[null,null,null,null,null,null,null,null,null,null,0]
[null,null,null,null,null,null,null,null,null,null,0]
[null,null,null,null,null,null,null,null,null,null,0]
[null,null,null,null,null,null,null,null,null,null,0]
[null,null,null,null,null,null,null,null,null,null,0]
[null,null,null,null,null,null,null,null,null,null,0]
[null,null,null,null,null,null,null,null,null,null,0]
[null,null,null,null,null,null,null,null,null,null,0]
[null,null,null,null,null,null,null,null,null,null,0]
[null,null,null,null,null,null,null,null,null,null,0]
[null,null,null,null,null,null,null,null,null,null,0]
[null,null,null,null,null,null,null,null,null,null,0]
[null,null,null,null,null,null,null,null,null,null,0]
[null,null,null,null,null,null,null,null,null,null,0]
[null,null,null,null,null,null,null,null,null,null,0]
[null,null,null,null,null,null,null,null,null,null,0]
[null,null,null,null,null,null,null,null,null,null,0]
[null,null,null,null,null,null,null,null,null,null,0]
[null,null,null,null,null,null,null,null,null,null,0]
[null,null,null,null,null,null,null,null,null,null,0]
[null,null,null,null,null,null,null,null,null,null,0]
[null,null,null,null,null,null,null,null,null,null,0]
[null,null,null,null,null,null,null,null,null,null,{"$f":"SUM(C181:J181)","v":0}]
[null,null,null,null,null,null,null,null,null,null,{"$f":"SUM(C182:J182)","v":0}]
[null,null,null,null,null,null,null,null,null,null,0]
[null,null,null,null,null,null,null,null,null,null,0]
[null,null,null,null,null,null,null,null,null,null,0]
[null,null,null,null,null,null,null,null,null,null,0]
[null,null,null,null,null,null,null,null,null,null,0]
[null,null,null,null,null,null,null,null,null,null,0]
[null,null,null,null,null,null,null,null,null,null,0]
[null,null,null,null,null,null,null,null,null,null,0]
[null,null,null,null,null,null,null,null,null,null,0]
[null,null,null,null,null,null,null,null,null,null,0]
[null,null,null,null,null,null,null,null,null,null,0]
[null,null,null,null,null,null,null,null,null,null,0]
[null,null,null,null,null,null,null,null,null,null,0]
[null,null,null,null,null,null,null,null,null,null,0]
[null,null,null,null,null,null,null,null,null,null,0]
[null,null,null,null,null,null,null,null,null,null,0]
[null,null,null,null,null,null,null,null,null,null,0]
[null,null,null,null,null,null,null,null,null,null,0]
[null,null,null,null,null,null,null,null,null,null,0]
[null,null,null,null,null,null,null,null,null,null,0]
[null,null,null,null,null,null,null,null,null,null,0]
[null,null,null,null,null,null,null,null,null,null,0]
[null,null,null,null,null,null,null,null,null,null,0]
["TOT Jour",null,{"$f":"SUM(C156:C205)","v":0},{"$f":"SUM(D156:D205)","v":0},0,0,0,0,0,0]
["TOT Période",null,{"$f":"SUM(C206:J206)","v":0}]
[{"$f":"Accueil!$B11","v":"Anglais"}]
[]
[]
["Période :",{"$f":"Accueil!E18","v":"P4"},{"$f":"Accueil!$F18","v":"du"},{"$f":"Accueil!$G18","v":"2015-03-08"},{"$f":"Accueil!$H18","v":"au"},{"$f":"Accueil!$I18","v":"2015-04-15"}]
["Selectionnez la classe participant à l'atelier :"]
["NOM","Prénom",{"$f":"Accueil!B44","v":"2015-03-08"},{"$f":"Accueil!C44","v":"2015-03-08"},{"$f":"Accueil!D44","v":"2015-03-08"},{"$f":"Accueil!E44","v":"2015-03-08"},{"$f":"Accueil!F44","v":"2015-03-08"},{"$f":"Accueil!G44","v":"2015-03-08"},{"$f":"Accueil!H44","v":"2015-03-08"},{"$f":"Accueil!I44","v":"2015-03-08"},"TOT"]
[null,null,null,null,null,null,null,null,null,null,{"$f":"SUM(C214:J214)","v":0}]
[null,null,null,null,null,null,null,null,null,null,{"$f":"SUM(C215:J215)","v":0}]
[null,null,null,null,null,null,null,null,null,null,0]
[null,null,null,null,null,null,null,null,null,null,0]
[null,null,null,null,null,null,null,null,null,null,0]
[null,null,null,null,null,null,null,null,null,null,0]
[null,null,null,null,null,null,null,null,null,null,0]
[null,null,null,null,null,null,null,null,null,null,0]
[null,null,null,null,null,null,null,null,null,null,0]
[null,null,null,null,null,null,null,null,null,null,0]
[null,null,null,null,null,null,null,null,null,null,0]
[null,null,null,null,null,null,null,null,null,null,0]
[null,null,null,null,null,null,null,null,null,null,0]
[null,null,null,null,null,null,null,null,null,null,0]
[null,null,null,null,null,null,null,null,null,null,0]
[null,null,null,null,null,null,null,null,null,null,0]
[null,null,null,null,null,null,null,null,null,null,0]
[null,null,null,null,null,null,null,null,null,null,0]
[null,null,null,null,null,null,null,null,null,null,0]
[null,null,null,null,null,null,null,null,null,null,0]
[null,null,null,null,null,null,null,null,null,null,0]
[null,null,null,null,null,null,null,null,null,null,0]
[null,null,null,null,null,null,null,null,null,null,0]
[null,null,null,null,null,null,null,null,null,null,0]
[null,null,null,null,null,null,null,null,null,null,0]
[null,null,null,null,null,null,null,null,null,null,{"$f":"SUM(C239:J239)","v":0}]
[null,null,null,null,null,null,null,null,null,null,{"$f":"SUM(C240:J240)","v":0}]
[null,null,null,null,null,null,null,null,null,null,0]
[null,null,null,null,null,null,null,null,null,null,0]
[null,null,null,null,null,null,null,null,null,null,0]
[null,null,null,null,null,null,null,null,null,null,0]
[null,null,null,null,null,null,null,null,null,null,0]
[null,null,null,null,null,null,null,null,null,null,0]
[null,null,null,null,null,null,null,null,null,null,0]
[null,null,null,null,null,null,null,null,null,null,0]
[null,null,null,null,null,null,null,null,null,null,0]
[null,null,null,null,null,null,null,null,null,null,0]
[null,null,null,null,null,null,null,null,null,null,0]
[null,null,null,null,null,null,null,null,null,null,0]
[null,null,null,null,null,null,null,null,null,null,0]
[null,null,null,null,null,null,null,null,null,null,0]
[null,null,null,null,null,null,null,null,null,null,0]
[null,null,null,null,null,null,null,null,null,null,0]
[null,null,null,null,null,null,null,null,null,null,0]
[null,null,null,null,null,null,null,null,null,null,0]
[null,null,null,null,null,null,null,null,null,null,0]
[null,null,null,null,null,null,null,null,null,null,0]
[null,null,null,null,null,null,null,null,null,null,0]
[null,null,null,null,null,null,null,null,null,null,0]
[null,null,null,null,null,null,null,null,null,null,0]
["TOT Jour",null,{"$f":"SUM(C214:C263)","v":0},{"$f":"SUM(D214:D263)","v":0},0,0,0,0,0,0]
["TOT Période",null,{"$f":"SUM(C264:J264)","v":0}]
[{"$f":"Accueil!$B11","v":"Anglais"}]
[]
[]
["Période :",{"$f":"Accueil!E20","v":"P5"},{"$f":"Accueil!$F20","v":"du"},{"$f":"Accueil!$G20","v":"2015-05-03"},{"$f":"Accueil!$H20","v":"au"},{"$f":"Accueil!$I20","v":"2015-07-03"}]
["Selectionnez la classe participant à l'atelier :"]
["NOM","Prénom",{"$f":"Accueil!B46","v":"2015-05-03"},{"$f":"Accueil!C46","v":"2015-05-03"},{"$f":"Accueil!D46","v":"2015-05-03"},{"$f":"Accueil!E46","v":"2015-05-03"},{"$f":"Accueil!F46","v":"2015-05-03"},{"$f":"Accueil!G46","v":"2015-05-03"},{"$f":"Accueil!H46","v":"2015-05-03"},{"$f":"Accueil!I46","v":"2015-05-03"},"TOT"]
[null,null,null,null,null,null,null,null,null,null,{"$f":"SUM(C272:J272)","v":0}]
[null,null,null,null,null,null,null,null,null,null,{"$f":"SUM(C273:J273)","v":0}]
[null,null,null,null,null,null,null,null,null,null,0]
[null,null,null,null,null,null,null,null,null,null,0]
[null,null,null,null,null,null,null,null,null,null,0]
[null,null,null,null,null,null,null,null,null,null,0]
[null,null,null,null,null,null,null,null,null,null,0]
[null,null,null,null,null,null,null,null,null,null,0]
[null,null,null,null,null,null,null,null,null,null,0]
[null,null,null,null,null,null,null,null,null,null,0]
[null,null,null,null,null,null,null,null,null,null,0]
[null,null,null,null,null,null,null,null,null,null,0]
[null,null,null,null,null,null,null,null,null,null,0]
[null,null,null,null,null,null,null,null,null,null,0]
[null,null,null,null,null,null,null,null,null,null,0]
[null,null,null,null,null,null,null,null,null,null,0]
[null,null,null,null,null,null,null,null,null,null,0]
[null,null,null,null,null,null,null,null,null,null,0]
[null,null,null,null,null,null,null,null,null,null,0]
[null,null,null,null,null,null,null,null,null,null,0]
[null,null,null,null,null,null,null,null,null,null,0]
[null,null,null,null,null,null,null,null,null,null,0]
[null,null,null,null,null,null,null,null,null,null,0]
[null,null,null,null,null,null,null,null,null,null,0]
[null,null,null,null,null,null,null,null,null,null,0]
[null,null,null,null,null,null,null,null,null,null,{"$f":"SUM(C297:J297)","v":0}]
[null,null,null,null,null,null,null,null,null,null,{"$f":"SUM(C298:J298)","v":0}]
[null,null,null,null,null,null,null,null,null,null,0]
[null,null,null,null,null,null,null,null,null,null,0]
[null,null,null,null,null,null,null,null,null,null,0]
[null,null,null,null,null,null,null,null,null,null,0]
[null,null,null,null,null,null,null,null,null,null,0]
[null,null,null,null,null,null,null,null,null,null,0]
[null,null,null,null,null,null,null,null,null,null,0]
[null,null,null,null,null,null,null,null,null,null,0]
[null,null,null,null,null,null,null,null,null,null,0]
[null,null,null,null,null,null,null,null,null,null,0]
[null,null,null,null,null,null,null,null,null,null,0]
[null,null,null,null,null,null,null,null,null,null,0]
[null,null,null,null,null,null,null,null,null,null,0]
[null,null,null,null,null,null,null,null,null,null,0]
[null,null,null,null,null,null,null,null,null,null,0]
[null,null,null,null,null,null,null,null,null,null,0]
[null,null,null,null,null,null,null,null,null,null,0]
[null,null,null,null,null,null,null,null,null,null,0]
[null,null,null,null,null,null,null,null,null,null,0]
[null,null,null,null,null,null,null,null,null,null,0]
[null,null,null,null,null,null,null,null,null,null,0]
[null,null,null,null,null,null,null,null,null,null,0]
[null,null,null,null,null,null,null,null,null,null,0]
["TOT Jour",null,{"$f":"SUM(C272:C321)","v":0},{"$f":"SUM(D272:D321)","v":0},0,0,0,0,0,0]
["TOT Période",null,{"$f":"SUM(C322:J322)","v":0}]
["Statistiques"]
[]
[]
["Nombre d'heure de fréquentation :"]
[{"$f":"Accueil!$E12","v":"P1"},{"$f":"$C$91*1.5","v":0},"heures de présence pour cet atelier et pour cette période"]
[{"$f":"Accueil!$E14","v":"P2"},{"$f":"$C$149*1.5","v":0},"heures de présence pour cet atelier et pour cette période"]
[{"$f":"Accueil!$E16","v":"P3"},{"$f":"$C$207*1.5","v":0},"heures de présence pour cet atelier et pour cette période"]
[{"$f":"Accueil!$E18","v":"P4"},{"$f":"$C$265*1.5","v":0},"heures de présence pour cet atelier et pour cette période"]
[{"$f":"Accueil!$E20","v":"P5"},{"$f":"$C$323*1.5","v":0},"heures de présence pour cet atelier et pour cette période"]
["TOT",{"$f":"SUM($B$328:$B$332)","v":0},"heures de présence pour cet atelier et pour l'année"]

{"sheet":"Bijoux","index":8,"n_rows":333,"n_cols":11,"rows_kept":333,"cut":false,"hidden":false,"merged":[[16,2,16,9],[33,0,34,10],[37,0,37,3],[37,4,37,5],[89,0,89,1],[90,0,90,1],[90,2,90,9],[91,0,92,10],[95,0,95,3],[95,4,95,5],[147,0,147,1],[148,0,148,1],[148,2,148,9],[149,0,150,10],[153,0,153,3],[153,4,153,5],[263,0,263,1],[264,0,264,1],[264,2,264,9],[205,0,205,1],[206,0,206,1],[206,2,206,9],[207,0,208,10],[211,0,211,3],[211,4,211,5],[331,2,331,6],[332,2,332,6],[8,1,15,9],[323,0,324,10],[327,2,327,6],[328,2,328,6],[329,2,329,6],[330,2,330,6],[265,0,266,10],[269,0,269,3],[269,4,269,5],[321,0,321,1],[322,0,322,1],[322,2,322,9],[17,0,18,10],[19,0,22,10]]}
[]
[]
[]
[]
[]
[]
[]
[]
[null,{"$f":"Accueil!B12","v":"Bijoux"}]
[]
[]
[]
[]
[]
[]
[]
[null,{"$f":"Machin!B17","v":"Avec :"},{"$f":"Accueil!C12","v":0}]
[{"$f":"Machin!$A$28","v":"ATTENTION !"}]
[]
[{"$f":"Machin!$A$30","v":"Vous ne devez pas ajouter ou supprimer les enfants depuis cette feuille ! \nPour ajouter des enfants dans cet atelier -> Aller dans la feuille de la classe des enfants et suivre les instructions.\nPour supprimer des enfants de cet atelier -> Aller dans la feuille de la classe des enfants et suivre les instructions."}]
[]
[]
[]
[]
[]
[]
[]
[]
[]
[]
[]
[]
[]
[{"$f":"Accueil!$B12","v":"Bijoux"}]
[]
[]
["Période :",{"$f":"Accueil!$E$12","v":"P1"},{"$f":"Accueil!$F$12","v":"du"},{"$f":"Accueil!$G$12","v":"2014-09-02"},{"$f":"Accueil!$H$12","v":"au"},{"$f":"Accueil!$I$12","v":"2014-10-17"}]
["Selectionnez la classe participant à l'atelier :"]
["NOM","Prénom",{"$f":"Accueil!$B$38","v":"2014-09-02"},{"$f":"Accueil!$C$38","v":"2014-09-03"},{"$f":"Accueil!$D$38","v":"2014-09-04"},{"$f":"Accueil!$E$38","v":"2014-09-05"},{"$f":"Accueil!$F$38","v":"2014-09-06"},{"$f":"Accueil!$G$38","v":"2014-09-07"},{"$f":"Accueil!$H$38","v":"2014-09-08"},{"$f":"Accueil!$I$38","v":"2014-09-08"},"TOT"]
[null,null,null,null,null,null,null,null,null,null,{"$f":"SUM(C40:J40)","v":0}]
[null,null,null,null,null,null,null,null,null,null,{"$f":"SUM(C41:J41)","v":0}]
[null,null,null,null,null,null,null,null,null,null,0]
[null,null,null,null,null,null,null,null,null,null,0]
[null,null,null,null,null,null,null,null,null,null,0]
[null,null,null,null,null,null,null,null,null,null,0]
[null,null,null,null,null,null,null,null,null,null,0]
[null,null,null,null,null,null,null,null,null,null,0]
[null,null,null,null,null,null,null,null,null,null,0]
[null,null,null,null,null,null,null,null,null,null,0]
[null,null,null,null,null,null,null,null,null,null,0]
[null,null,null,null,null,null,null,null,null,null,0]
[null,null,null,null,null,null,null,null,null,null,0]
[null,null,null,null,null,null,null,null,null,null,0]
[null,null,null,null,null,null,null,null,null,null,0]
[null,null,null,null,null,null,null,null,null,null,0]
[null,null,null,null,null,null,null,null,null,null,0]
[null,null,null,null,null,null,null,null,null,null,0]
[null,null,null,null,null,null,null,null,null,null,0]
[null,null,null,null,null,null,null,null,null,null,0]
[null,null,null,null,null,null,null,null,null,null,0]
[null,null,null,null,null,null,null,null,null,null,0]
[null,null,null,null,null,null,null,null,null,null,0]
[null,null,null,null,null,null,null,null,null,null,0]
[null,null,null,null,null,null,null,null,null,null,0]
[null,null,null,null,null,null,null,null,null,null,{"$f":"SUM(C65:J65)","v":0}]
[null,null,null,null,null,null,null,null,null,null,{"$f":"SUM(C66:J66)","v":0}]
[null,null,null,null,null,null,null,null,null,null,0]
[null,null,null,null,null,null,null,null,null,null,0]
[null,null,null,null,null,null,null,null,null,null,0]
[null,null,null,null,null,null,null,null,null,null,0]
[null,null,null,null,null,null,null,null,null,null,0]
[null,null,null,null,null,null,null,null,null,null,0]
[null,null,null,null,null,null,null,null,null,null,0]
[null,null,null,null,null,null,null,null,null,null,0]
[null,null,null,null,null,null,null,null,null,null,0]
[null,null,null,null,null,null,null,null,null,null,0]
[null,null,null,null,null,null,null,null,null,null,0]
[null,null,null,null,null,null,null,null,null,null,0]
[null,null,null,null,null,null,null,null,null,null,0]
[null,null,null,null,null,null,null,null,null,null,0]
[null,null,null,null,null,null,null,null,null,null,0]
[null,null,null,null,null,null,null,null,null,null,0]
[null,null,null,null,null,null,null,null,null,null,0]
[null,null,null,null,null,null,null,null,null,null,0]
[null,null,null,null,null,null,null,null,null,null,0]
[null,null,null,null,null,null,null,null,null,null,0]
[null,null,null,null,null,null,null,null,null,null,0]
[null,null,null,null,null,null,null,null,null,null,0]
[null,null,null,null,null,null,null,null,null,null,0]
["TOT Jour",null,{"$f":"SUM(C40:C89)","v":0},{"$f":"SUM(D40:D89)","v":0},0,0,0,0,0,0]
["TOT Période",null,{"$f":"SUM(C90:J90)","v":0}]
[{"$f":"Accueil!$B12","v":"Bijoux"}]
[]
[]
["Période :",{"$f":"Accueil!$E14","v":"P2"},{"$f":"Accueil!$F14","v":"du"},{"$f":"Accueil!$G14","v":"2014-11-02"},{"$f":"Accueil!$H14","v":"au"},{"$f":"Accueil!$I14","v":"2014-12-18"}]
["Selectionnez la classe participant à l'atelier :"]
["NOM","Prénom",{"$f":"Accueil!B40","v":"2014-11-02"},{"$f":"Accueil!C40","v":"2014-11-03"},{"$f":"Accueil!D40","v":"2014-11-04"},{"$f":"Accueil!E40","v":"2014-11-05"},{"$f":"Accueil!F40","v":"2014-11-06"},{"$f":"Accueil!G40","v":"2014-11-07"},{"$f":"Accueil!H40","v":"2014-11-08"},{"$f":"Accueil!I40","v":"2014-11-08"},"TOT"]
[null,null,null,null,null,null,null,null,null,null,{"$f":"SUM(C98:J98)","v":0}]
[null,null,null,null,null,null,null,null,null,null,{"$f":"SUM(C99:J99)","v":0}]
[null,null,null,null,null,null,null,null,null,null,0]
[null,null,null,null,null,null,null,null,null,null,0]
[null,null,null,null,null,null,null,null,null,null,0]
[null,null,null,null,null,null,null,null,null,null,0]
[null,null,null,null,null,null,null,null,null,null,0]
[null,null,null,null,null,null,null,null,null,null,0]
[null,null,null,null,null,null,null,null,null,null,0]
[null,null,null,null,null,null,null,null,null,null,0]
[null,null,null,null,null,null,null,null,null,null,0]
[null,null,null,null,null,null,null,null,null,null,0]
[null,null,null,null,null,null,null,null,null,null,0]
[null,null,null,null,null,null,null,null,null,null,0]
[null,null,null,null,null,null,null,null,null,null,0]
[null,null,null,null,null,null,null,null,null,null,0]
[null,null,null,null,null,null,null,null,null,null,0]
[null,null,null,null,null,null,null,null,null,null,0]
[null,null,null,null,null,null,null,null,null,null,0]
[null,null,null,null,null,null,null,null,null,null,0]
[null,null,null,null,null,null,null,null,null,null,0]
[null,null,null,null,null,null,null,null,null,null,0]
[null,null,null,null,null,null,null,null,null,null,0]
[null,null,null,null,null,null,null,null,null,null,0]
[null,null,null,null,null,null,null,null,null,null,0]
[null,null,null,null,null,null,null,null,null,null,{"$f":"SUM(C123:J123)","v":0}]
[null,null,null,null,null,null,null,null,null,null,{"$f":"SUM(C124:J124)","v":0}]
[null,null,null,null,null,null,null,null,null,null,0]
[null,null,null,null,null,null,null,null,null,null,0]
[null,null,null,null,null,null,null,null,null,null,0]
[null,null,null,null,null,null,null,null,null,null,0]
[null,null,null,null,null,null,null,null,null,null,0]
[null,null,null,null,null,null,null,null,null,null,0]
[null,null,null,null,null,null,null,null,null,null,0]
[null,null,null,null,null,null,null,null,null,null,0]
[null,null,null,null,null,null,null,null,null,null,0]
[null,null,null,null,null,null,null,null,null,null,0]
[null,null,null,null,null,null,null,null,null,null,0]
[null,null,null,null,null,null,null,null,null,null,0]
[null,null,null,null,null,null,null,null,null,null,0]
[null,null,null,null,null,null,null,null,null,null,0]
[null,null,null,null,null,null,null,null,null,null,0]
[null,null,null,null,null,null,null,null,null,null,0]
[null,null,null,null,null,null,null,null,null,null,0]
[null,null,null,null,null,null,null,null,null,null,0]
[null,null,null,null,null,null,null,null,null,null,0]
[null,null,null,null,null,null,null,null,null,null,0]
[null,null,null,null,null,null,null,null,null,null,0]
[null,null,null,null,null,null,null,null,null,null,0]
[null,null,null,null,null,null,null,null,null,null,0]
["TOT Jour",null,{"$f":"SUM(C98:C147)","v":0},{"$f":"SUM(D98:D147)","v":0},0,0,0,0,0,0]
["TOT Période",null,{"$f":"SUM(C148:J148)","v":0}]
[{"$f":"Accueil!$B12","v":"Bijoux"}]
[]
[]
["Période :",{"$f":"Accueil!E16","v":"P3"},{"$f":"Accueil!$F16","v":"du"},{"$f":"Accueil!$G16","v":"2015-01-04"},{"$f":"Accueil!$H16","v":"au"},{"$f":"Accueil!$I16","v":"2015-02-20"}]
["Selectionnez la classe participant à l'atelier :"]
["NOM","Prénom",{"$f":"Accueil!B42","v":"2015-01-04"},{"$f":"Accueil!C42","v":"2015-01-04"},{"$f":"Accueil!D42","v":"2015-01-04"},{"$f":"Accueil!E42","v":"2015-01-04"},{"$f":"Accueil!F42","v":"2015-01-04"},{"$f":"Accueil!G42","v":"2015-01-04"},{"$f":"Accueil!H42","v":"2015-01-04"},{"$f":"Accueil!I42","v":"2015-01-04"},"TOT"]
[null,null,null,null,null,null,null,null,null,null,{"$f":"SUM(C156:J156)","v":0}]
[null,null,null,null,null,null,null,null,null,null,{"$f":"SUM(C157:J157)","v":0}]
[null,null,null,null,null,null,null,null,null,null,0]
[null,null,null,null,null,null,null,null,null,null,0]
[null,null,null,null,null,null,null,null,null,null,0]
[null,null,null,null,null,null,null,null,null,null,0]
[null,null,null,null,null,null,null,null,null,null,0]
[null,null,null,null,null,null,null,null,null,null,0]
[null,null,null,null,null,null,null,null,null,null,0]
[null,null,null,null,null,null,null,null,null,null,0]
[null,null,null,null,null,null,null,null,null,null,0]
[null,null,null,null,null,null,null,null,null,null,0]
[null,null,null,null,null,null,null,null,null,null,0]
[null,null,null,null,null,null,null,null,null,null,0]
[null,null,null,null,null,null,null,null,null,null,0]
[null,null,null,null,null,null,null,null,null,null,0]
[null,null,null,null,null,null,null,null,null,null,0]
[null,null,null,null,null,null,null,null,null,null,0]
[null,null,null,null,null,null,null,null,null,null,0]
[null,null,null,null,null,null,null,null,null,null,0]
[null,null,null,null,null,null,null,null,null,null,0]
[null,null,null,null,null,null,null,null,null,null,0]
[null,null,null,null,null,null,null,null,null,null,0]
[null,null,null,null,null,null,null,null,null,null,0]
[null,null,null,null,null,null,null,null,null,null,0]
[null,null,null,null,null,null,null,null,null,null,{"$f":"SUM(C181:J181)","v":0}]
[null,null,null,null,null,null,null,null,null,null,{"$f":"SUM(C182:J182)","v":0}]
[null,null,null,null,null,null,null,null,null,null,0]
[null,null,null,null,null,null,null,null,null,null,0]
[null,null,null,null,null,null,null,null,null,null,0]
[null,null,null,null,null,null,null,null,null,null,0]
[null,null,null,null,null,null,null,null,null,null,0]
[null,null,null,null,null,null,null,null,null,null,0]
[null,null,null,null,null,null,null,null,null,null,0]
[null,null,null,null,null,null,null,null,null,null,0]
[null,null,null,null,null,null,null,null,null,null,0]
[null,null,null,null,null,null,null,null,null,null,0]
[null,null,null,null,null,null,null,null,null,null,0]
[null,null,null,null,null,null,null,null,null,null,0]
[null,null,null,null,null,null,null,null,null,null,0]
[null,null,null,null,null,null,null,null,null,null,0]
[null,null,null,null,null,null,null,null,null,null,0]
[null,null,null,null,null,null,null,null,null,null,0]
[null,null,null,null,null,null,null,null,null,null,0]
[null,null,null,null,null,null,null,null,null,null,0]
[null,null,null,null,null,null,null,null,null,null,0]
[null,null,null,null,null,null,null,null,null,null,0]
[null,null,null,null,null,null,null,null,null,null,0]
[null,null,null,null,null,null,null,null,null,null,0]
[null,null,null,null,null,null,null,null,null,null,0]
["TOT Jour",null,{"$f":"SUM(C156:C205)","v":0},{"$f":"SUM(D156:D205)","v":0},0,0,0,0,0,0]
["TOT Période",null,{"$f":"SUM(C206:J206)","v":0}]
[{"$f":"Accueil!$B12","v":"Bijoux"}]
[]
[]
["Période :",{"$f":"Accueil!E18","v":"P4"},{"$f":"Accueil!$F18","v":"du"},{"$f":"Accueil!$G18","v":"2015-03-08"},{"$f":"Accueil!$H18","v":"au"},{"$f":"Accueil!$I18","v":"2015-04-15"}]
["Selectionnez la classe participant à l'atelier :"]
["NOM","Prénom",{"$f":"Accueil!B44","v":"2015-03-08"},{"$f":"Accueil!C44","v":"2015-03-08"},{"$f":"Accueil!D44","v":"2015-03-08"},{"$f":"Accueil!E44","v":"2015-03-08"},{"$f":"Accueil!F44","v":"2015-03-08"},{"$f":"Accueil!G44","v":"2015-03-08"},{"$f":"Accueil!H44","v":"2015-03-08"},{"$f":"Accueil!I44","v":"2015-03-08"},"TOT"]
[null,null,null,null,null,null,null,null,null,null,{"$f":"SUM(C214:J214)","v":0}]
[null,null,null,null,null,null,null,null,null,null,{"$f":"SUM(C215:J215)","v":0}]
[null,null,null,null,null,null,null,null,null,null,0]
[null,null,null,null,null,null,null,null,null,null,0]
[null,null,null,null,null,null,null,null,null,null,0]
[null,null,null,null,null,null,null,null,null,null,0]
[null,null,null,null,null,null,null,null,null,null,0]
[null,null,null,null,null,null,null,null,null,null,0]
[null,null,null,null,null,null,null,null,null,null,0]
[null,null,null,null,null,null,null,null,null,null,0]
[null,null,null,null,null,null,null,null,null,null,0]
[null,null,null,null,null,null,null,null,null,null,0]
[null,null,null,null,null,null,null,null,null,null,0]
[null,null,null,null,null,null,null,null,null,null,0]
[null,null,null,null,null,null,null,null,null,null,0]
[null,null,null,null,null,null,null,null,null,null,0]
[null,null,null,null,null,null,null,null,null,null,0]
[null,null,null,null,null,null,null,null,null,null,0]
[null,null,null,null,null,null,null,null,null,null,0]
[null,null,null,null,null,null,null,null,null,null,0]
[null,null,null,null,null,null,null,null,null,null,0]
[null,null,null,null,null,null,null,null,null,null,0]
[null,null,null,null,null,null,null,null,null,null,0]
[null,null,null,null,null,null,null,null,null,null,0]
[null,null,null,null,null,null,null,null,null,null,0]
[null,null,null,null,null,null,null,null,null,null,{"$f":"SUM(C239:J239)","v":0}]
[null,null,null,null,null,null,null,null,null,null,{"$f":"SUM(C240:J240)","v":0}]
[null,null,null,null,null,null,null,null,null,null,0]
[null,null,null,null,null,null,null,null,null,null,0]
[null,null,null,null,null,null,null,null,null,null,0]
[null,null,null,null,null,null,null,null,null,null,0]
[null,null,null,null,null,null,null,null,null,null,0]
[null,null,null,null,null,null,null,null,null,null,0]
[null,null,null,null,null,null,null,null,null,null,0]
[null,null,null,null,null,null,null,null,null,null,0]
[null,null,null,null,null,null,null,null,null,null,0]
[null,null,null,null,null,null,null,null,null,null,0]
[null,null,null,null,null,null,null,null,null,null,0]
[null,null,null,null,null,null,null,null,null,null,0]
[null,null,null,null,null,null,null,null,null,null,0]
[null,null,null,null,null,null,null,null,null,null,0]
[null,null,null,null,null,null,null,null,null,null,0]
[null,null,null,null,null,null,null,null,null,null,0]
[null,null,null,null,null,null,null,null,null,null,0]
[null,null,null,null,null,null,null,null,null,null,0]
[null,null,null,null,null,null,null,null,null,null,0]
[null,null,null,null,null,null,null,null,null,null,0]
[null,null,null,null,null,null,null,null,null,null,0]
[null,null,null,null,null,null,null,null,null,null,0]
[null,null,null,null,null,null,null,null,null,null,0]
["TOT Jour",null,{"$f":"SUM(C214:C263)","v":0},{"$f":"SUM(D214:D263)","v":0},0,0,0,0,0,0]
["TOT Période",null,{"$f":"SUM(C264:J264)","v":0}]
[{"$f":"Accueil!$B12","v":"Bijoux"}]
[]
[]
["Période :",{"$f":"Accueil!E20","v":"P5"},{"$f":"Accueil!$F20","v":"du"},{"$f":"Accueil!$G20","v":"2015-05-03"},{"$f":"Accueil!$H20","v":"au"},{"$f":"Accueil!$I20","v":"2015-07-03"}]
["Selectionnez la classe participant à l'atelier :"]
["NOM","Prénom",{"$f":"Accueil!B46","v":"2015-05-03"},{"$f":"Accueil!C46","v":"2015-05-03"},{"$f":"Accueil!D46","v":"2015-05-03"},{"$f":"Accueil!E46","v":"2015-05-03"},{"$f":"Accueil!F46","v":"2015-05-03"},{"$f":"Accueil!G46","v":"2015-05-03"},{"$f":"Accueil!H46","v":"2015-05-03"},{"$f":"Accueil!I46","v":"2015-05-03"},"TOT"]
[null,null,null,null,null,null,null,null,null,null,{"$f":"SUM(C272:J272)","v":0}]
[null,null,null,null,null,null,null,null,null,null,{"$f":"SUM(C273:J273)","v":0}]
[null,null,null,null,null,null,null,null,null,null,0]
[null,null,null,null,null,null,null,null,null,null,0]
[null,null,null,null,null,null,null,null,null,null,0]
[null,null,null,null,null,null,null,null,null,null,0]
[null,null,null,null,null,null,null,null,null,null,0]
[null,null,null,null,null,null,null,null,null,null,0]
[null,null,null,null,null,null,null,null,null,null,0]
[null,null,null,null,null,null,null,null,null,null,0]
[null,null,null,null,null,null,null,null,null,null,0]
[null,null,null,null,null,null,null,null,null,null,0]
[null,null,null,null,null,null,null,null,null,null,0]
[null,null,null,null,null,null,null,null,null,null,0]
[null,null,null,null,null,null,null,null,null,null,0]
[null,null,null,null,null,null,null,null,null,null,0]
[null,null,null,null,null,null,null,null,null,null,0]
[null,null,null,null,null,null,null,null,null,null,0]
[null,null,null,null,null,null,null,null,null,null,0]
[null,null,null,null,null,null,null,null,null,null,0]
[null,null,null,null,null,null,null,null,null,null,0]
[null,null,null,null,null,null,null,null,null,null,0]
[null,null,null,null,null,null,null,null,null,null,0]
[null,null,null,null,null,null,null,null,null,null,0]
[null,null,null,null,null,null,null,null,null,null,0]
[null,null,null,null,null,null,null,null,null,null,{"$f":"SUM(C297:J297)","v":0}]
[null,null,null,null,null,null,null,null,null,null,{"$f":"SUM(C298:J298)","v":0}]
[null,null,null,null,null,null,null,null,null,null,0]
[null,null,null,null,null,null,null,null,null,null,0]
[null,null,null,null,null,null,null,null,null,null,0]
[null,null,null,null,null,null,null,null,null,null,0]
[null,null,null,null,null,null,null,null,null,null,0]
[null,null,null,null,null,null,null,null,null,null,0]
[null,null,null,null,null,null,null,null,null,null,0]
[null,null,null,null,null,null,null,null,null,null,0]
[null,null,null,null,null,null,null,null,null,null,0]
[null,null,null,null,null,null,null,null,null,null,0]
[null,null,null,null,null,null,null,null,null,null,0]
[null,null,null,null,null,null,null,null,null,null,0]
[null,null,null,null,null,null,null,null,null,null,0]
[null,null,null,null,null,null,null,null,null,null,0]
[null,null,null,null,null,null,null,null,null,null,0]
[null,null,null,null,null,null,null,null,null,null,0]
[null,null,null,null,null,null,null,null,null,null,0]
[null,null,null,null,null,null,null,null,null,null,0]
[null,null,null,null,null,null,null,null,null,null,0]
[null,null,null,null,null,null,null,null,null,null,0]
[null,null,null,null,null,null,null,null,null,null,0]
[null,null,null,null,null,null,null,null,null,null,0]
[null,null,null,null,null,null,null,null,null,null,0]
["TOT Jour",null,{"$f":"SUM(C272:C321)","v":0},{"$f":"SUM(D272:D321)","v":0},0,0,0,0,0,0]
["TOT Période",null,{"$f":"SUM(C322:J322)","v":0}]
["Statistiques"]
[]
[]
["Nombre d'heure de fréquentation :"]
[{"$f":"Accueil!$E12","v":"P1"},{"$f":"$C$91*1.5","v":0},"heures de présence pour cet atelier et pour cette période"]
[{"$f":"Accueil!$E14","v":"P2"},{"$f":"$C$149*1.5","v":0},"heures de présence pour cet atelier et pour cette période"]
[{"$f":"Accueil!$E16","v":"P3"},{"$f":"$C$207*1.5","v":0},"heures de présence pour cet atelier et pour cette période"]
[{"$f":"Accueil!$E18","v":"P4"},{"$f":"$C$265*1.5","v":0},"heures de présence pour cet atelier et pour cette période"]
[{"$f":"Accueil!$E20","v":"P5"},{"$f":"$C$323*1.5","v":0},"heures de présence pour cet atelier et pour cette période"]
["TOT",{"$f":"SUM($B$328:$B$332)","v":0},"heures de présence pour cet atelier et pour l'année"]

{"sheet":"Météorite","index":9,"n_rows":333,"n_cols":11,"rows_kept":333,"cut":false,"hidden":false,"merged":[[16,2,16,9],[33,0,34,10],[37,0,37,3],[37,4,37,5],[89,0,89,1],[90,0,90,1],[90,2,90,9],[91,0,92,10],[95,0,95,3],[95,4,95,5],[147,0,147,1],[148,0,148,1],[148,2,148,9],[149,0,150,10],[153,0,153,3],[153,4,153,5],[263,0,263,1],[264,0,264,1],[264,2,264,9],[205,0,205,1],[206,0,206,1],[206,2,206,9],[207,0,208,10],[211,0,211,3],[211,4,211,5],[331,2,331,6],[332,2,332,6],[8,1,15,9],[323,0,324,10],[327,2,327,6],[328,2,328,6],[329,2,329,6],[330,2,330,6],[265,0,266,10],[269,0,269,3],[269,4,269,5],[321,0,321,1],[322,0,322,1],[322,2,322,9],[17,0,18,10],[19,0,22,10]]}
[]
[]
[]
[]
[]
[]
[]
[]
[null,{"$f":"Accueil!B13","v":"Météorite"}]
[]
[]
[]
[]
[]
[]
[]
[null,{"$f":"Machin!B17","v":"Avec :"},{"$f":"Accueil!C13","v":0}]
[{"$f":"Machin!$A$28","v":"ATTENTION !"}]
[]
[{"$f":"Machin!$A$30","v":"Vous ne devez pas ajouter ou supprimer les enfants depuis cette feuille ! \nPour ajouter des enfants dans cet atelier -> Aller dans la feuille de la classe des enfants et suivre les instructions.\nPour supprimer des enfants de cet atelier -> Aller dans la feuille de la classe des enfants et suivre les instructions."}]
[]
[]
[]
[]
[]
[]
[]
[]
[]
[]
[]
[]
[]
[{"$f":"Accueil!$B13","v":"Météorite"}]
[]
[]
["Période :",{"$f":"Accueil!$E$12","v":"P1"},{"$f":"Accueil!$F$12","v":"du"},{"$f":"Accueil!$G$12","v":"2014-09-02"},{"$f":"Accueil!$H$12","v":"au"},{"$f":"Accueil!$I$12","v":"2014-10-17"}]
["Selectionnez la classe participant à l'atelier :"]
["NOM","Prénom",{"$f":"Accueil!$B$38","v":"2014-09-02"},{"$f":"Accueil!$C$38","v":"2014-09-03"},{"$f":"Accueil!$D$38","v":"2014-09-04"},{"$f":"Accueil!$E$38","v":"2014-09-05"},{"$f":"Accueil!$F$38","v":"2014-09-06"},{"$f":"Accueil!$G$38","v":"2014-09-07"},{"$f":"Accueil!$H$38","v":"2014-09-08"},{"$f":"Accueil!$I$38","v":"2014-09-08"},"TOT"]
[null,null,null,null,null,null,null,null,null,null,{"$f":"SUM(C40:J40)","v":0}]
[null,null,null,null,null,null,null,null,null,null,{"$f":"SUM(C41:J41)","v":0}]
[null,null,null,null,null,null,null,null,null,null,0]
[null,null,null,null,null,null,null,null,null,null,0]
[null,null,null,null,null,null,null,null,null,null,0]
[null,null,null,null,null,null,null,null,null,null,0]
[null,null,null,null,null,null,null,null,null,null,0]
[null,null,null,null,null,null,null,null,null,null,0]
[null,null,null,null,null,null,null,null,null,null,0]
[null,null,null,null,null,null,null,null,null,null,0]
[null,null,null,null,null,null,null,null,null,null,0]
[null,null,null,null,null,null,null,null,null,null,0]
[null,null,null,null,null,null,null,null,null,null,0]
[null,null,null,null,null,null,null,null,null,null,0]
[null,null,null,null,null,null,null,null,null,null,0]
[null,null,null,null,null,null,null,null,null,null,0]
[null,null,null,null,null,null,null,null,null,null,0]
[null,null,null,null,null,null,null,null,null,null,0]
[null,null,null,null,null,null,null,null,null,null,0]
[null,null,null,null,null,null,null,null,null,null,0]
[null,null,null,null,null,null,null,null,null,null,0]
[null,null,null,null,null,null,null,null,null,null,0]
[null,null,null,null,null,null,null,null,null,null,0]
[null,null,null,null,null,null,null,null,null,null,0]
[null,null,null,null,null,null,null,null,null,null,0]
[null,null,null,null,null,null,null,null,null,null,{"$f":"SUM(C65:J65)","v":0}]
[null,null,null,null,null,null,null,null,null,null,{"$f":"SUM(C66:J66)","v":0}]
[null,null,null,null,null,null,null,null,null,null,0]
[null,null,null,null,null,null,null,null,null,null,0]
[null,null,null,null,null,null,null,null,null,null,0]
[null,null,null,null,null,null,null,null,null,null,0]
[null,null,null,null,null,null,null,null,null,null,0]
[null,null,null,null,null,null,null,null,null,null,0]
[null,null,null,null,null,null,null,null,null,null,0]
[null,null,null,null,null,null,null,null,null,null,0]
[null,null,null,null,null,null,null,null,null,null,0]
[null,null,null,null,null,null,null,null,null,null,0]
[null,null,null,null,null,null,null,null,null,null,0]
[null,null,null,null,null,null,null,null,null,null,0]
[null,null,null,null,null,null,null,null,null,null,0]
[null,null,null,null,null,null,null,null,null,null,0]
[null,null,null,null,null,null,null,null,null,null,0]
[null,null,null,null,null,null,null,null,null,null,0]
[null,null,null,null,null,null,null,null,null,null,0]
[null,null,null,null,null,null,null,null,null,null,0]
[null,null,null,null,null,null,null,null,null,null,0]
[null,null,null,null,null,null,null,null,null,null,0]
[null,null,null,null,null,null,null,null,null,null,0]
[null,null,null,null,null,null,null,null,null,null,0]
[null,null,null,null,null,null,null,null,null,null,0]
["TOT Jour",null,{"$f":"SUM(C40:C89)","v":0},{"$f":"SUM(D40:D89)","v":0},0,0,0,0,0,0]
["TOT Période",null,{"$f":"SUM(C90:J90)","v":0}]
[{"$f":"Accueil!$B13","v":"Météorite"}]
[]
[]
["Période :",{"$f":"Accueil!$E14","v":"P2"},{"$f":"Accueil!$F14","v":"du"},{"$f":"Accueil!$G14","v":"2014-11-02"},{"$f":"Accueil!$H14","v":"au"},{"$f":"Accueil!$I14","v":"2014-12-18"}]
["Selectionnez la classe participant à l'atelier :"]
["NOM","Prénom",{"$f":"Accueil!B40","v":"2014-11-02"},{"$f":"Accueil!C40","v":"2014-11-03"},{"$f":"Accueil!D40","v":"2014-11-04"},{"$f":"Accueil!E40","v":"2014-11-05"},{"$f":"Accueil!F40","v":"2014-11-06"},{"$f":"Accueil!G40","v":"2014-11-07"},{"$f":"Accueil!H40","v":"2014-11-08"},{"$f":"Accueil!I40","v":"2014-11-08"},"TOT"]
[null,null,null,null,null,null,null,null,null,null,{"$f":"SUM(C98:J98)","v":0}]
[null,null,null,null,null,null,null,null,null,null,{"$f":"SUM(C99:J99)","v":0}]
[null,null,null,null,null,null,null,null,null,null,0]
[null,null,null,null,null,null,null,null,null,null,0]
[null,null,null,null,null,null,null,null,null,null,0]
[null,null,null,null,null,null,null,null,null,null,0]
[null,null,null,null,null,null,null,null,null,null,0]
[null,null,null,null,null,null,null,null,null,null,0]
[null,null,null,null,null,null,null,null,null,null,0]
[null,null,null,null,null,null,null,null,null,null,0]
[null,null,null,null,null,null,null,null,null,null,0]
[null,null,null,null,null,null,null,null,null,null,0]
[null,null,null,null,null,null,null,null,null,null,0]
[null,null,null,null,null,null,null,null,null,null,0]
[null,null,null,null,null,null,null,null,null,null,0]
[null,null,null,null,null,null,null,null,null,null,0]
[null,null,null,null,null,null,null,null,null,null,0]
[null,null,null,null,null,null,null,null,null,null,0]
[null,null,null,null,null,null,null,null,null,null,0]
[null,null,null,null,null,null,null,null,null,null,0]
[null,null,null,null,null,null,null,null,null,null,0]
[null,null,null,null,null,null,null,null,null,null,0]
[null,null,null,null,null,null,null,null,null,null,0]
[null,null,null,null,null,null,null,null,null,null,0]
[null,null,null,null,null,null,null,null,null,null,0]
[null,null,null,null,null,null,null,null,null,null,{"$f":"SUM(C123:J123)","v":0}]
[null,null,null,null,null,null,null,null,null,null,{"$f":"SUM(C124:J124)","v":0}]
[null,null,null,null,null,null,null,null,null,null,0]
[null,null,null,null,null,null,null,null,null,null,0]
[null,null,null,null,null,null,null,null,null,null,0]
[null,null,null,null,null,null,null,null,null,null,0]
[null,null,null,null,null,null,null,null,null,null,0]
[null,null,null,null,null,null,null,null,null,null,0]
[null,null,null,null,null,null,null,null,null,null,0]
[null,null,null,null,null,null,null,null,null,null,0]
[null,null,null,null,null,null,null,null,null,null,0]
[null,null,null,null,null,null,null,null,null,null,0]
[null,null,null,null,null,null,null,null,null,null,0]
[null,null,null,null,null,null,null,null,null,null,0]
[null,null,null,null,null,null,null,null,null,null,0]
[null,null,null,null,null,null,null,null,null,null,0]
[null,null,null,null,null,null,null,null,null,null,0]
[null,null,null,null,null,null,null,null,null,null,0]
[null,null,null,null,null,null,null,null,null,null,0]
[null,null,null,null,null,null,null,null,null,null,0]
[null,null,null,null,null,null,null,null,null,null,0]
[null,null,null,null,null,null,null,null,null,null,0]
[null,null,null,null,null,null,null,null,null,null,0]
[null,null,null,null,null,null,null,null,null,null,0]
[null,null,null,null,null,null,null,null,null,null,0]
["TOT Jour",null,{"$f":"SUM(C98:C147)","v":0},{"$f":"SUM(D98:D147)","v":0},0,0,0,0,0,0]
["TOT Période",null,{"$f":"SUM(C148:J148)","v":0}]
[{"$f":"Accueil!$B13","v":"Météorite"}]
[]
[]
["Période :",{"$f":"Accueil!E16","v":"P3"},{"$f":"Accueil!$F16","v":"du"},{"$f":"Accueil!$G16","v":"2015-01-04"},{"$f":"Accueil!$H16","v":"au"},{"$f":"Accueil!$I16","v":"2015-02-20"}]
["Selectionnez la classe participant à l'atelier :"]
["NOM","Prénom",{"$f":"Accueil!B42","v":"2015-01-04"},{"$f":"Accueil!C42","v":"2015-01-04"},{"$f":"Accueil!D42","v":"2015-01-04"},{"$f":"Accueil!E42","v":"2015-01-04"},{"$f":"Accueil!F42","v":"2015-01-04"},{"$f":"Accueil!G42","v":"2015-01-04"},{"$f":"Accueil!H42","v":"2015-01-04"},{"$f":"Accueil!I42","v":"2015-01-04"},"TOT"]
[null,null,null,null,null,null,null,null,null,null,{"$f":"SUM(C156:J156)","v":0}]
[null,null,null,null,null,null,null,null,null,null,{"$f":"SUM(C157:J157)","v":0}]
[null,null,null,null,null,null,null,null,null,null,0]
[null,null,null,null,null,null,null,null,null,null,0]
[null,null,null,null,null,null,null,null,null,null,0]
[null,null,null,null,null,null,null,null,null,null,0]
[null,null,null,null,null,null,null,null,null,null,0]
[null,null,null,null,null,null,null,null,null,null,0]
[null,null,null,null,null,null,null,null,null,null,0]
[null,null,null,null,null,null,null,null,null,null,0]
[null,null,null,null,null,null,null,null,null,null,0]
[null,null,null,null,null,null,null,null,null,null,0]
[null,null,null,null,null,null,null,null,null,null,0]
[null,null,null,null,null,null,null,null,null,null,0]
[null,null,null,null,null,null,null,null,null,null,0]
[null,null,null,null,null,null,null,null,null,null,0]
[null,null,null,null,null,null,null,null,null,null,0]
[null,null,null,null,null,null,null,null,null,null,0]
[null,null,null,null,null,null,null,null,null,null,0]
[null,null,null,null,null,null,null,null,null,null,0]
[null,null,null,null,null,null,null,null,null,null,0]
[null,null,null,null,null,null,null,null,null,null,0]
[null,null,null,null,null,null,null,null,null,null,0]
[null,null,null,null,null,null,null,null,null,null,0]
[null,null,null,null,null,null,null,null,null,null,0]
[null,null,null,null,null,null,null,null,null,null,{"$f":"SUM(C181:J181)","v":0}]
[null,null,null,null,null,null,null,null,null,null,{"$f":"SUM(C182:J182)","v":0}]
[null,null,null,null,null,null,null,null,null,null,0]
[null,null,null,null,null,null,null,null,null,null,0]
[null,null,null,null,null,null,null,null,null,null,0]
[null,null,null,null,null,null,null,null,null,null,0]
[null,null,null,null,null,null,null,null,null,null,0]
[null,null,null,null,null,null,null,null,null,null,0]
[null,null,null,null,null,null,null,null,null,null,0]
[null,null,null,null,null,null,null,null,null,null,0]
[null,null,null,null,null,null,null,null,null,null,0]
[null,null,null,null,null,null,null,null,null,null,0]
[null,null,null,null,null,null,null,null,null,null,0]
[null,null,null,null,null,null,null,null,null,null,0]
[null,null,null,null,null,null,null,null,null,null,0]
[null,null,null,null,null,null,null,null,null,null,0]
[null,null,null,null,null,null,null,null,null,null,0]
[null,null,null,null,null,null,null,null,null,null,0]
[null,null,null,null,null,null,null,null,null,null,0]
[null,null,null,null,null,null,null,null,null,null,0]
[null,null,null,null,null,null,null,null,null,null,0]
[null,null,null,null,null,null,null,null,null,null,0]
[null,null,null,null,null,null,null,null,null,null,0]
[null,null,null,null,null,null,null,null,null,null,0]
[null,null,null,null,null,null,null,null,null,null,0]
["TOT Jour",null,{"$f":"SUM(C156:C205)","v":0},{"$f":"SUM(D156:D205)","v":0},0,0,0,0,0,0]
["TOT Période",null,{"$f":"SUM(C206:J206)","v":0}]
[{"$f":"Accueil!$B13","v":"Météorite"}]
[]
[]
["Période :",{"$f":"Accueil!E18","v":"P4"},{"$f":"Accueil!$F18","v":"du"},{"$f":"Accueil!$G18","v":"2015-03-08"},{"$f":"Accueil!$H18","v":"au"},{"$f":"Accueil!$I18","v":"2015-04-15"}]
["Selectionnez la classe participant à l'atelier :"]
["NOM","Prénom",{"$f":"Accueil!B44","v":"2015-03-08"},{"$f":"Accueil!C44","v":"2015-03-08"},{"$f":"Accueil!D44","v":"2015-03-08"},{"$f":"Accueil!E44","v":"2015-03-08"},{"$f":"Accueil!F44","v":"2015-03-08"},{"$f":"Accueil!G44","v":"2015-03-08"},{"$f":"Accueil!H44","v":"2015-03-08"},{"$f":"Accueil!I44","v":"2015-03-08"},"TOT"]
[null,null,null,null,null,null,null,null,null,null,{"$f":"SUM(C214:J214)","v":0}]
[null,null,null,null,null,null,null,null,null,null,{"$f":"SUM(C215:J215)","v":0}]
[null,null,null,null,null,null,null,null,null,null,0]
[null,null,null,null,null,null,null,null,null,null,0]
[null,null,null,null,null,null,null,null,null,null,0]
[null,null,null,null,null,null,null,null,null,null,0]
[null,null,null,null,null,null,null,null,null,null,0]
[null,null,null,null,null,null,null,null,null,null,0]
[null,null,null,null,null,null,null,null,null,null,0]
[null,null,null,null,null,null,null,null,null,null,0]
[null,null,null,null,null,null,null,null,null,null,0]
[null,null,null,null,null,null,null,null,null,null,0]
[null,null,null,null,null,null,null,null,null,null,0]
[null,null,null,null,null,null,null,null,null,null,0]
[null,null,null,null,null,null,null,null,null,null,0]
[null,null,null,null,null,null,null,null,null,null,0]
[null,null,null,null,null,null,null,null,null,null,0]
[null,null,null,null,null,null,null,null,null,null,0]
[null,null,null,null,null,null,null,null,null,null,0]
[null,null,null,null,null,null,null,null,null,null,0]
[null,null,null,null,null,null,null,null,null,null,0]
[null,null,null,null,null,null,null,null,null,null,0]
[null,null,null,null,null,null,null,null,null,null,0]
[null,null,null,null,null,null,null,null,null,null,0]
[null,null,null,null,null,null,null,null,null,null,0]
[null,null,null,null,null,null,null,null,null,null,{"$f":"SUM(C239:J239)","v":0}]
[null,null,null,null,null,null,null,null,null,null,{"$f":"SUM(C240:J240)","v":0}]
[null,null,null,null,null,null,null,null,null,null,0]
[null,null,null,null,null,null,null,null,null,null,0]
[null,null,null,null,null,null,null,null,null,null,0]
[null,null,null,null,null,null,null,null,null,null,0]
[null,null,null,null,null,null,null,null,null,null,0]
[null,null,null,null,null,null,null,null,null,null,0]
[null,null,null,null,null,null,null,null,null,null,0]
[null,null,null,null,null,null,null,null,null,null,0]
[null,null,null,null,null,null,null,null,null,null,0]
[null,null,null,null,null,null,null,null,null,null,0]
[null,null,null,null,null,null,null,null,null,null,0]
[null,null,null,null,null,null,null,null,null,null,0]
[null,null,null,null,null,null,null,null,null,null,0]
[null,null,null,null,null,null,null,null,null,null,0]
[null,null,null,null,null,null,null,null,null,null,0]
[null,null,null,null,null,null,null,null,null,null,0]
[null,null,null,null,null,null,null,null,null,null,0]
[null,null,null,null,null,null,null,null,null,null,0]
[null,null,null,null,null,null,null,null,null,null,0]
[null,null,null,null,null,null,null,null,null,null,0]
[null,null,null,null,null,null,null,null,null,null,0]
[null,null,null,null,null,null,null,null,null,null,0]
[null,null,null,null,null,null,null,null,null,null,0]
["TOT Jour",null,{"$f":"SUM(C214:C263)","v":0},{"$f":"SUM(D214:D263)","v":0},0,0,0,0,0,0]
["TOT Période",null,{"$f":"SUM(C264:J264)","v":0}]
[{"$f":"Accueil!$B13","v":"Météorite"}]
[]
[]
["Période :",{"$f":"Accueil!E20","v":"P5"},{"$f":"Accueil!$F20","v":"du"},{"$f":"Accueil!$G20","v":"2015-05-03"},{"$f":"Accueil!$H20","v":"au"},{"$f":"Accueil!$I20","v":"2015-07-03"}]
["Selectionnez la classe participant à l'atelier :"]
["NOM","Prénom",{"$f":"Accueil!B46","v":"2015-05-03"},{"$f":"Accueil!C46","v":"2015-05-03"},{"$f":"Accueil!D46","v":"2015-05-03"},{"$f":"Accueil!E46","v":"2015-05-03"},{"$f":"Accueil!F46","v":"2015-05-03"},{"$f":"Accueil!G46","v":"2015-05-03"},{"$f":"Accueil!H46","v":"2015-05-03"},{"$f":"Accueil!I46","v":"2015-05-03"},"TOT"]
[null,null,null,null,null,null,null,null,null,null,{"$f":"SUM(C272:J272)","v":0}]
[null,null,null,null,null,null,null,null,null,null,{"$f":"SUM(C273:J273)","v":0}]
[null,null,null,null,null,null,null,null,null,null,0]
[null,null,null,null,null,null,null,null,null,null,0]
[null,null,null,null,null,null,null,null,null,null,0]
[null,null,null,null,null,null,null,null,null,null,0]
[null,null,null,null,null,null,null,null,null,null,0]
[null,null,null,null,null,null,null,null,null,null,0]
[null,null,null,null,null,null,null,null,null,null,0]
[null,null,null,null,null,null,null,null,null,null,0]
[null,null,null,null,null,null,null,null,null,null,0]
[null,null,null,null,null,null,null,null,null,null,0]
[null,null,null,null,null,null,null,null,null,null,0]
[null,null,null,null,null,null,null,null,null,null,0]
[null,null,null,null,null,null,null,null,null,null,0]
[null,null,null,null,null,null,null,null,null,null,0]
[null,null,null,null,null,null,null,null,null,null,0]
[null,null,null,null,null,null,null,null,null,null,0]
[null,null,null,null,null,null,null,null,null,null,0]
[null,null,null,null,null,null,null,null,null,null,0]
[null,null,null,null,null,null,null,null,null,null,0]
[null,null,null,null,null,null,null,null,null,null,0]
[null,null,null,null,null,null,null,null,null,null,0]
[null,null,null,null,null,null,null,null,null,null,0]
[null,null,null,null,null,null,null,null,null,null,0]
[null,null,null,null,null,null,null,null,null,null,{"$f":"SUM(C297:J297)","v":0}]
[null,null,null,null,null,null,null,null,null,null,{"$f":"SUM(C298:J298)","v":0}]
[null,null,null,null,null,null,null,null,null,null,0]
[null,null,null,null,null,null,null,null,null,null,0]
[null,null,null,null,null,null,null,null,null,null,0]
[null,null,null,null,null,null,null,null,null,null,0]
[null,null,null,null,null,null,null,null,null,null,0]
[null,null,null,null,null,null,null,null,null,null,0]
[null,null,null,null,null,null,null,null,null,null,0]
[null,null,null,null,null,null,null,null,null,null,0]
[null,null,null,null,null,null,null,null,null,null,0]
[null,null,null,null,null,null,null,null,null,null,0]
[null,null,null,null,null,null,null,null,null,null,0]
[null,null,null,null,null,null,null,null,null,null,0]
[null,null,null,null,null,null,null,null,null,null,0]
[null,null,null,null,null,null,null,null,null,null,0]
[null,null,null,null,null,null,null,null,null,null,0]
[null,null,null,null,null,null,null,null,null,null,0]
[null,null,null,null,null,null,null,null,null,null,0]
[null,null,null,null,null,null,null,null,null,null,0]
[null,null,null,null,null,null,null,null,null,null,0]
[null,null,null,null,null,null,null,null,null,null,0]
[null,null,null,null,null,null,null,null,null,null,0]
[null,null,null,null,null,null,null,null,null,null,0]
[null,null,null,null,null,null,null,null,null,null,0]
["TOT Jour",null,{"$f":"SUM(C272:C321)","v":0},{"$f":"SUM(D272:D321)","v":0},0,0,0,0,0,0]
["TOT Période",null,{"$f":"SUM(C322:J322)","v":0}]
["Statistiques"]
[]
[]
["Nombre d'heure de fréquentation :"]
[{"$f":"Accueil!$E12","v":"P1"},{"$f":"$C$91*1.5","v":0},"heures de présence pour cet atelier et pour cette période"]
[{"$f":"Accueil!$E14","v":"P2"},{"$f":"$C$149*1.5","v":0},"heures de présence pour cet atelier et pour cette période"]
[{"$f":"Accueil!$E16","v":"P3"},{"$f":"$C$207*1.5","v":0},"heures de présence pour cet atelier et pour cette période"]
[{"$f":"Accueil!$E18","v":"P4"},{"$f":"$C$265*1.5","v":0},"heures de présence pour cet atelier et pour cette période"]
[{"$f":"Accueil!$E20","v":"P5"},{"$f":"$C$323*1.5","v":0},"heures de présence pour cet atelier et pour cette période"]
["TOT",{"$f":"SUM($B$328:$B$332)","v":0},"heures de présence pour cet atelier et pour l'année"]

{"sheet":"Poissons","index":10,"n_rows":333,"n_cols":11,"rows_kept":333,"cut":false,"hidden":false,"merged":[[16,2,16,9],[33,0,34,10],[37,0,37,3],[37,4,37,5],[89,0,89,1],[90,0,90,1],[90,2,90,9],[91,0,92,10],[95,0,95,3],[95,4,95,5],[147,0,147,1],[148,0,148,1],[148,2,148,9],[149,0,150,10],[153,0,153,3],[153,4,153,5],[263,0,263,1],[264,0,264,1],[264,2,264,9],[205,0,205,1],[206,0,206,1],[206,2,206,9],[207,0,208,10],[211,0,211,3],[211,4,211,5],[331,2,331,6],[332,2,332,6],[8,1,15,9],[323,0,324,10],[327,2,327,6],[328,2,328,6],[329,2,329,6],[330,2,330,6],[265,0,266,10],[269,0,269,3],[269,4,269,5],[321,0,321,1],[322,0,322,1],[322,2,322,9],[17,0,18,10],[19,0,22,10]]}
[]
[]
[]
[]
[]
[]
[]
[]
[null,{"$f":"Accueil!B14","v":"Poissons"}]
[]
[]
[]
[]
[]
[]
[]
[null,{"$f":"Machin!B17","v":"Avec :"},{"$f":"Accueil!C14","v":0}]
[{"$f":"Machin!$A$28","v":"ATTENTION !"}]
[]
[{"$f":"Machin!$A$30","v":"Vous ne devez pas ajouter ou supprimer les enfants depuis cette feuille ! \nPour ajouter des enfants dans cet atelier -> Aller dans la feuille de la classe des enfants et suivre les instructions.\nPour supprimer des enfants de cet atelier -> Aller dans la feuille de la classe des enfants et suivre les instructions."}]
[]
[]
[]
[]
[]
[]
[]
[]
[]
[]
[]
[]
[]
[{"$f":"Accueil!$B14","v":"Poissons"}]
[]
[]
["Période :",{"$f":"Accueil!$E$12","v":"P1"},{"$f":"Accueil!$F$12","v":"du"},{"$f":"Accueil!$G$12","v":"2014-09-02"},{"$f":"Accueil!$H$12","v":"au"},{"$f":"Accueil!$I$12","v":"2014-10-17"}]
["Selectionnez la classe participant à l'atelier :"]
["NOM","Prénom",{"$f":"Accueil!$B$38","v":"2014-09-02"},{"$f":"Accueil!$C$38","v":"2014-09-03"},{"$f":"Accueil!$D$38","v":"2014-09-04"},{"$f":"Accueil!$E$38","v":"2014-09-05"},{"$f":"Accueil!$F$38","v":"2014-09-06"},{"$f":"Accueil!$G$38","v":"2014-09-07"},{"$f":"Accueil!$H$38","v":"2014-09-08"},{"$f":"Accueil!$I$38","v":"2014-09-08"},"TOT"]
[null,null,null,null,null,null,null,null,null,null,{"$f":"SUM(C40:J40)","v":0}]
[null,null,null,null,null,null,null,null,null,null,{"$f":"SUM(C41:J41)","v":0}]
[null,null,null,null,null,null,null,null,null,null,0]
[null,null,null,null,null,null,null,null,null,null,0]
[null,null,null,null,null,null,null,null,null,null,0]
[null,null,null,null,null,null,null,null,null,null,0]
[null,null,null,null,null,null,null,null,null,null,0]
[null,null,null,null,null,null,null,null,null,null,0]
[null,null,null,null,null,null,null,null,null,null,0]
[null,null,null,null,null,null,null,null,null,null,0]
[null,null,null,null,null,null,null,null,null,null,0]
[null,null,null,null,null,null,null,null,null,null,0]
[null,null,null,null,null,null,null,null,null,null,0]
[null,null,null,null,null,null,null,null,null,null,0]
[null,null,null,null,null,null,null,null,null,null,0]
[null,null,null,null,null,null,null,null,null,null,0]
[null,null,null,null,null,null,null,null,null,null,0]
[null,null,null,null,null,null,null,null,null,null,0]
[null,null,null,null,null,null,null,null,null,null,0]
[null,null,null,null,null,null,null,null,null,null,0]
[null,null,null,null,null,null,null,null,null,null,0]
[null,null,null,null,null,null,null,null,null,null,0]
[null,null,null,null,null,null,null,null,null,null,0]
[null,null,null,null,null,null,null,null,null,null,0]
[null,null,null,null,null,null,null,null,null,null,0]
[null,null,null,null,null,null,null,null,null,null,{"$f":"SUM(C65:J65)","v":0}]
[null,null,null,null,null,null,null,null,null,null,{"$f":"SUM(C66:J66)","v":0}]
[null,null,null,null,null,null,null,null,null,null,0]
[null,null,null,null,null,null,null,null,null,null,0]
[null,null,null,null,null,null,null,null,null,null,0]
[null,null,null,null,null,null,null,null,null,null,0]
[null,null,null,null,null,null,null,null,null,null,0]
[null,null,null,null,null,null,null,null,null,null,0]
[null,null,null,null,null,null,null,null,null,null,0]
[null,null,null,null,null,null,null,null,null,null,0]
[null,null,null,null,null,null,null,null,null,null,0]
[null,null,null,null,null,null,null,null,null,null,0]
[null,null,null,null,null,null,null,null,null,null,0]
[null,null,null,null,null,null,null,null,null,null,0]
[null,null,null,null,null,null,null,null,null,null,0]
[null,null,null,null,null,null,null,null,null,null,0]
[null,null,null,null,null,null,null,null,null,null,0]
[null,null,null,null,null,null,null,null,null,null,0]
[null,null,null,null,null,null,null,null,null,null,0]
[null,null,null,null,null,null,null,null,null,null,0]
[null,null,null,null,null,null,null,null,null,null,0]
[null,null,null,null,null,null,null,null,null,null,0]
[null,null,null,null,null,null,null,null,null,null,0]
[null,null,null,null,null,null,null,null,null,null,0]
[null,null,null,null,null,null,null,null,null,null,0]
["TOT Jour",null,{"$f":"SUM(C40:C89)","v":0},{"$f":"SUM(D40:D89)","v":0},0,0,0,0,0,0]
["TOT Période",null,{"$f":"SUM(C90:J90)","v":0}]
[{"$f":"Accueil!$B14","v":"Poissons"}]
[]
[]
["Période :",{"$f":"Accueil!$E14","v":"P2"},{"$f":"Accueil!$F14","v":"du"},{"$f":"Accueil!$G14","v":"2014-11-02"},{"$f":"Accueil!$H14","v":"au"},{"$f":"Accueil!$I14","v":"2014-12-18"}]
["Selectionnez la classe participant à l'atelier :"]
["NOM","Prénom",{"$f":"Accueil!B40","v":"2014-11-02"},{"$f":"Accueil!C40","v":"2014-11-03"},{"$f":"Accueil!D40","v":"2014-11-04"},{"$f":"Accueil!E40","v":"2014-11-05"},{"$f":"Accueil!F40","v":"2014-11-06"},{"$f":"Accueil!G40","v":"2014-11-07"},{"$f":"Accueil!H40","v":"2014-11-08"},{"$f":"Accueil!I40","v":"2014-11-08"},"TOT"]
[null,null,null,null,null,null,null,null,null,null,{"$f":"SUM(C98:J98)","v":0}]
[null,null,null,null,null,null,null,null,null,null,{"$f":"SUM(C99:J99)","v":0}]
[null,null,null,null,null,null,null,null,null,null,0]
[null,null,null,null,null,null,null,null,null,null,0]
[null,null,null,null,null,null,null,null,null,null,0]
[null,null,null,null,null,null,null,null,null,null,0]
[null,null,null,null,null,null,null,null,null,null,0]
[null,null,null,null,null,null,null,null,null,null,0]
[null,null,null,null,null,null,null,null,null,null,0]
[null,null,null,null,null,null,null,null,null,null,0]
[null,null,null,null,null,null,null,null,null,null,0]
[null,null,null,null,null,null,null,null,null,null,0]
[null,null,null,null,null,null,null,null,null,null,0]
[null,null,null,null,null,null,null,null,null,null,0]
[null,null,null,null,null,null,null,null,null,null,0]
[null,null,null,null,null,null,null,null,null,null,0]
[null,null,null,null,null,null,null,null,null,null,0]
[null,null,null,null,null,null,null,null,null,null,0]
[null,null,null,null,null,null,null,null,null,null,0]
[null,null,null,null,null,null,null,null,null,null,0]
[null,null,null,null,null,null,null,null,null,null,0]
[null,null,null,null,null,null,null,null,null,null,0]
[null,null,null,null,null,null,null,null,null,null,0]
[null,null,null,null,null,null,null,null,null,null,0]
[null,null,null,null,null,null,null,null,null,null,0]
[null,null,null,null,null,null,null,null,null,null,{"$f":"SUM(C123:J123)","v":0}]
[null,null,null,null,null,null,null,null,null,null,{"$f":"SUM(C124:J124)","v":0}]
[null,null,null,null,null,null,null,null,null,null,0]
[null,null,null,null,null,null,null,null,null,null,0]
[null,null,null,null,null,null,null,null,null,null,0]
[null,null,null,null,null,null,null,null,null,null,0]
[null,null,null,null,null,null,null,null,null,null,0]
[null,null,null,null,null,null,null,null,null,null,0]
[null,null,null,null,null,null,null,null,null,null,0]
[null,null,null,null,null,null,null,null,null,null,0]
[null,null,null,null,null,null,null,null,null,null,0]
[null,null,null,null,null,null,null,null,null,null,0]
[null,null,null,null,null,null,null,null,null,null,0]
[null,null,null,null,null,null,null,null,null,null,0]
[null,null,null,null,null,null,null,null,null,null,0]
[null,null,null,null,null,null,null,null,null,null,0]
[null,null,null,null,null,null,null,null,null,null,0]
[null,null,null,null,null,null,null,null,null,null,0]
[null,null,null,null,null,null,null,null,null,null,0]
[null,null,null,null,null,null,null,null,null,null,0]
[null,null,null,null,null,null,null,null,null,null,0]
[null,null,null,null,null,null,null,null,null,null,0]
[null,null,null,null,null,null,null,null,null,null,0]
[null,null,null,null,null,null,null,null,null,null,0]
[null,null,null,null,null,null,null,null,null,null,0]
["TOT Jour",null,{"$f":"SUM(C98:C147)","v":0},{"$f":"SUM(D98:D147)","v":0},0,0,0,0,0,0]
["TOT Période",null,{"$f":"SUM(C148:J148)","v":0}]
[{"$f":"Accueil!$B14","v":"Poissons"}]
[]
[]
["Période :",{"$f":"Accueil!E16","v":"P3"},{"$f":"Accueil!$F16","v":"du"},{"$f":"Accueil!$G16","v":"2015-01-04"},{"$f":"Accueil!$H16","v":"au"},{"$f":"Accueil!$I16","v":"2015-02-20"}]
["Selectionnez la classe participant à l'atelier :"]
["NOM","Prénom",{"$f":"Accueil!B42","v":"2015-01-04"},{"$f":"Accueil!C42","v":"2015-01-04"},{"$f":"Accueil!D42","v":"2015-01-04"},{"$f":"Accueil!E42","v":"2015-01-04"},{"$f":"Accueil!F42","v":"2015-01-04"},{"$f":"Accueil!G42","v":"2015-01-04"},{"$f":"Accueil!H42","v":"2015-01-04"},{"$f":"Accueil!I42","v":"2015-01-04"},"TOT"]
[null,null,null,null,null,null,null,null,null,null,{"$f":"SUM(C156:J156)","v":0}]
[null,null,null,null,null,null,null,null,null,null,{"$f":"SUM(C157:J157)","v":0}]
[null,null,null,null,null,null,null,null,null,null,0]
[null,null,null,null,null,null,null,null,null,null,0]
[null,null,null,null,null,null,null,null,null,null,0]
[null,null,null,null,null,null,null,null,null,null,0]
[null,null,null,null,null,null,null,null,null,null,0]
[null,null,null,null,null,null,null,null,null,null,0]
[null,null,null,null,null,null,null,null,null,null,0]
[null,null,null,null,null,null,null,null,null,null,0]
[null,null,null,null,null,null,null,null,null,null,0]
[null,null,null,null,null,null,null,null,null,null,0]
[null,null,null,null,null,null,null,null,null,null,0]
[null,null,null,null,null,null,null,null,null,null,0]
[null,null,null,null,null,null,null,null,null,null,0]
[null,null,null,null,null,null,null,null,null,null,0]
[null,null,null,null,null,null,null,null,null,null,0]
[null,null,null,null,null,null,null,null,null,null,0]
[null,null,null,null,null,null,null,null,null,null,0]
[null,null,null,null,null,null,null,null,null,null,0]
[null,null,null,null,null,null,null,null,null,null,0]
[null,null,null,null,null,null,null,null,null,null,0]
[null,null,null,null,null,null,null,null,null,null,0]
[null,null,null,null,null,null,null,null,null,null,0]
[null,null,null,null,null,null,null,null,null,null,0]
[null,null,null,null,null,null,null,null,null,null,{"$f":"SUM(C181:J181)","v":0}]
[null,null,null,null,null,null,null,null,null,null,{"$f":"SUM(C182:J182)","v":0}]
[null,null,null,null,null,null,null,null,null,null,0]
[null,null,null,null,null,null,null,null,null,null,0]
[null,null,null,null,null,null,null,null,null,null,0]
[null,null,null,null,null,null,null,null,null,null,0]
[null,null,null,null,null,null,null,null,null,null,0]
[null,null,null,null,null,null,null,null,null,null,0]
[null,null,null,null,null,null,null,null,null,null,0]
[null,null,null,null,null,null,null,null,null,null,0]
[null,null,null,null,null,null,null,null,null,null,0]
[null,null,null,null,null,null,null,null,null,null,0]
[null,null,null,null,null,null,null,null,null,null,0]
[null,null,null,null,null,null,null,null,null,null,0]
[null,null,null,null,null,null,null,null,null,null,0]
[null,null,null,null,null,null,null,null,null,null,0]
[null,null,null,null,null,null,null,null,null,null,0]
[null,null,null,null,null,null,null,null,null,null,0]
[null,null,null,null,null,null,null,null,null,null,0]
[null,null,null,null,null,null,null,null,null,null,0]
[null,null,null,null,null,null,null,null,null,null,0]
[null,null,null,null,null,null,null,null,null,null,0]
[null,null,null,null,null,null,null,null,null,null,0]
[null,null,null,null,null,null,null,null,null,null,0]
[null,null,null,null,null,null,null,null,null,null,0]
["TOT Jour",null,{"$f":"SUM(C156:C205)","v":0},{"$f":"SUM(D156:D205)","v":0},0,0,0,0,0,0]
["TOT Période",null,{"$f":"SUM(C206:J206)","v":0}]
[{"$f":"Accueil!$B14","v":"Poissons"}]
[]
[]
["Période :",{"$f":"Accueil!E18","v":"P4"},{"$f":"Accueil!$F18","v":"du"},{"$f":"Accueil!$G18","v":"2015-03-08"},{"$f":"Accueil!$H18","v":"au"},{"$f":"Accueil!$I18","v":"2015-04-15"}]
["Selectionnez la classe participant à l'atelier :"]
["NOM","Prénom",{"$f":"Accueil!B44","v":"2015-03-08"},{"$f":"Accueil!C44","v":"2015-03-08"},{"$f":"Accueil!D44","v":"2015-03-08"},{"$f":"Accueil!E44","v":"2015-03-08"},{"$f":"Accueil!F44","v":"2015-03-08"},{"$f":"Accueil!G44","v":"2015-03-08"},{"$f":"Accueil!H44","v":"2015-03-08"},{"$f":"Accueil!I44","v":"2015-03-08"},"TOT"]
[null,null,null,null,null,null,null,null,null,null,{"$f":"SUM(C214:J214)","v":0}]
[null,null,null,null,null,null,null,null,null,null,{"$f":"SUM(C215:J215)","v":0}]
[null,null,null,null,null,null,null,null,null,null,0]
[null,null,null,null,null,null,null,null,null,null,0]
[null,null,null,null,null,null,null,null,null,null,0]
[null,null,null,null,null,null,null,null,null,null,0]
[null,null,null,null,null,null,null,null,null,null,0]
[null,null,null,null,null,null,null,null,null,null,0]
[null,null,null,null,null,null,null,null,null,null,0]
[null,null,null,null,null,null,null,null,null,null,0]
[null,null,null,null,null,null,null,null,null,null,0]
[null,null,null,null,null,null,null,null,null,null,0]
[null,null,null,null,null,null,null,null,null,null,0]
[null,null,null,null,null,null,null,null,null,null,0]
[null,null,null,null,null,null,null,null,null,null,0]
[null,null,null,null,null,null,null,null,null,null,0]
[null,null,null,null,null,null,null,null,null,null,0]
[null,null,null,null,null,null,null,null,null,null,0]
[null,null,null,null,null,null,null,null,null,null,0]
[null,null,null,null,null,null,null,null,null,null,0]
[null,null,null,null,null,null,null,null,null,null,0]
[null,null,null,null,null,null,null,null,null,null,0]
[null,null,null,null,null,null,null,null,null,null,0]
[null,null,null,null,null,null,null,null,null,null,0]
[null,null,null,null,null,null,null,null,null,null,0]
[null,null,null,null,null,null,null,null,null,null,{"$f":"SUM(C239:J239)","v":0}]
[null,null,null,null,null,null,null,null,null,null,{"$f":"SUM(C240:J240)","v":0}]
[null,null,null,null,null,null,null,null,null,null,0]
[null,null,null,null,null,null,null,null,null,null,0]
[null,null,null,null,null,null,null,null,null,null,0]
[null,null,null,null,null,null,null,null,null,null,0]
[null,null,null,null,null,null,null,null,null,null,0]
[null,null,null,null,null,null,null,null,null,null,0]
[null,null,null,null,null,null,null,null,null,null,0]
[null,null,null,null,null,null,null,null,null,null,0]
[null,null,null,null,null,null,null,null,null,null,0]
[null,null,null,null,null,null,null,null,null,null,0]
[null,null,null,null,null,null,null,null,null,null,0]
[null,null,null,null,null,null,null,null,null,null,0]
[null,null,null,null,null,null,null,null,null,null,0]
[null,null,null,null,null,null,null,null,null,null,0]
[null,null,null,null,null,null,null,null,null,null,0]
[null,null,null,null,null,null,null,null,null,null,0]
[null,null,null,null,null,null,null,null,null,null,0]
[null,null,null,null,null,null,null,null,null,null,0]
[null,null,null,null,null,null,null,null,null,null,0]
[null,null,null,null,null,null,null,null,null,null,0]
[null,null,null,null,null,null,null,null,null,null,0]
[null,null,null,null,null,null,null,null,null,null,0]
[null,null,null,null,null,null,null,null,null,null,0]
["TOT Jour",null,{"$f":"SUM(C214:C263)","v":0},{"$f":"SUM(D214:D263)","v":0},0,0,0,0,0,0]
["TOT Période",null,{"$f":"SUM(C264:J264)","v":0}]
[{"$f":"Accueil!$B14","v":"Poissons"}]
[]
[]
["Période :",{"$f":"Accueil!E20","v":"P5"},{"$f":"Accueil!$F20","v":"du"},{"$f":"Accueil!$G20","v":"2015-05-03"},{"$f":"Accueil!$H20","v":"au"},{"$f":"Accueil!$I20","v":"2015-07-03"}]
["Selectionnez la classe participant à l'atelier :"]
["NOM","Prénom",{"$f":"Accueil!B46","v":"2015-05-03"},{"$f":"Accueil!C46","v":"2015-05-03"},{"$f":"Accueil!D46","v":"2015-05-03"},{"$f":"Accueil!E46","v":"2015-05-03"},{"$f":"Accueil!F46","v":"2015-05-03"},{"$f":"Accueil!G46","v":"2015-05-03"},{"$f":"Accueil!H46","v":"2015-05-03"},{"$f":"Accueil!I46","v":"2015-05-03"},"TOT"]
[null,null,null,null,null,null,null,null,null,null,{"$f":"SUM(C272:J272)","v":0}]
[null,null,null,null,null,null,null,null,null,null,{"$f":"SUM(C273:J273)","v":0}]
[null,null,null,null,null,null,null,null,null,null,0]
[null,null,null,null,null,null,null,null,null,null,0]
[null,null,null,null,null,null,null,null,null,null,0]
[null,null,null,null,null,null,null,null,null,null,0]
[null,null,null,null,null,null,null,null,null,null,0]
[null,null,null,null,null,null,null,null,null,null,0]
[null,null,null,null,null,null,null,null,null,null,0]
[null,null,null,null,null,null,null,null,null,null,0]
[null,null,null,null,null,null,null,null,null,null,0]
[null,null,null,null,null,null,null,null,null,null,0]
[null,null,null,null,null,null,null,null,null,null,0]
[null,null,null,null,null,null,null,null,null,null,0]
[null,null,null,null,null,null,null,null,null,null,0]
[null,null,null,null,null,null,null,null,null,null,0]
[null,null,null,null,null,null,null,null,null,null,0]
[null,null,null,null,null,null,null,null,null,null,0]
[null,null,null,null,null,null,null,null,null,null,0]
[null,null,null,null,null,null,null,null,null,null,0]
[null,null,null,null,null,null,null,null,null,null,0]
[null,null,null,null,null,null,null,null,null,null,0]
[null,null,null,null,null,null,null,null,null,null,0]
[null,null,null,null,null,null,null,null,null,null,0]
[null,null,null,null,null,null,null,null,null,null,0]
[null,null,null,null,null,null,null,null,null,null,{"$f":"SUM(C297:J297)","v":0}]
[null,null,null,null,null,null,null,null,null,null,{"$f":"SUM(C298:J298)","v":0}]
[null,null,null,null,null,null,null,null,null,null,0]
[null,null,null,null,null,null,null,null,null,null,0]
[null,null,null,null,null,null,null,null,null,null,0]
[null,null,null,null,null,null,null,null,null,null,0]
[null,null,null,null,null,null,null,null,null,null,0]
[null,null,null,null,null,null,null,null,null,null,0]
[null,null,null,null,null,null,null,null,null,null,0]
[null,null,null,null,null,null,null,null,null,null,0]
[null,null,null,null,null,null,null,null,null,null,0]
[null,null,null,null,null,null,null,null,null,null,0]
[null,null,null,null,null,null,null,null,null,null,0]
[null,null,null,null,null,null,null,null,null,null,0]
[null,null,null,null,null,null,null,null,null,null,0]
[null,null,null,null,null,null,null,null,null,null,0]
[null,null,null,null,null,null,null,null,null,null,0]
[null,null,null,null,null,null,null,null,null,null,0]
[null,null,null,null,null,null,null,null,null,null,0]
[null,null,null,null,null,null,null,null,null,null,0]
[null,null,null,null,null,null,null,null,null,null,0]
[null,null,null,null,null,null,null,null,null,null,0]
[null,null,null,null,null,null,null,null,null,null,0]
[null,null,null,null,null,null,null,null,null,null,0]
[null,null,null,null,null,null,null,null,null,null,0]
["TOT Jour",null,{"$f":"SUM(C272:C321)","v":0},{"$f":"SUM(D272:D321)","v":0},0,0,0,0,0,0]
["TOT Période",null,{"$f":"SUM(C322:J322)","v":0}]
["Statistiques"]
[]
[]
["Nombre d'heure de fréquentation :"]
[{"$f":"Accueil!$E12","v":"P1"},{"$f":"$C$91*1.5","v":0},"heures de présence pour cet atelier et pour cette période"]
[{"$f":"Accueil!$E14","v":"P2"},{"$f":"$C$149*1.5","v":0},"heures de présence pour cet atelier et pour cette période"]
[{"$f":"Accueil!$E16","v":"P3"},{"$f":"$C$207*1.5","v":0},"heures de présence pour cet atelier et pour cette période"]
[{"$f":"Accueil!$E18","v":"P4"},{"$f":"$C$265*1.5","v":0},"heures de présence pour cet atelier et pour cette période"]
[{"$f":"Accueil!$E20","v":"P5"},{"$f":"$C$323*1.5","v":0},"heures de présence pour cet atelier et pour cette période"]
["TOT",{"$f":"SUM($B$328:$B$332)","v":0},"heures de présence pour cet atelier et pour l'année"]

{"sheet":"Dauphin","index":11,"n_rows":333,"n_cols":11,"rows_kept":333,"cut":false,"hidden":false,"merged":[[16,2,16,9],[33,0,34,10],[37,0,37,3],[37,4,37,5],[89,0,89,1],[90,0,90,1],[90,2,90,9],[91,0,92,10],[95,0,95,3],[95,4,95,5],[147,0,147,1],[148,0,148,1],[148,2,148,9],[149,0,150,10],[153,0,153,3],[153,4,153,5],[263,0,263,1],[264,0,264,1],[264,2,264,9],[205,0,205,1],[206,0,206,1],[206,2,206,9],[207,0,208,10],[211,0,211,3],[211,4,211,5],[331,2,331,6],[332,2,332,6],[8,1,15,9],[323,0,324,10],[327,2,327,6],[328,2,328,6],[329,2,329,6],[330,2,330,6],[265,0,266,10],[269,0,269,3],[269,4,269,5],[321,0,321,1],[322,0,322,1],[322,2,322,9],[17,0,18,10],[19,0,22,10]]}
[]
[]
[]
[]
[]
[]
[]
[]
[null,{"$f":"Accueil!B15","v":"Dauphin"}]
[]
[]
[]
[]
[]
[]
[]
[null,{"$f":"Machin!B17","v":"Avec :"},{"$f":"Accueil!C15","v":0}]
[{"$f":"Machin!$A$28","v":"ATTENTION !"}]
[]
[{"$f":"Machin!$A$30","v":"Vous ne devez pas ajouter ou supprimer les enfants depuis cette feuille ! \nPour ajouter des enfants dans cet atelier -> Aller dans la feuille de la classe des enfants et suivre les instructions.\nPour supprimer des enfants de cet atelier -> Aller dans la feuille de la classe des enfants et suivre les instructions."}]
[]
[]
[]
[]
[]
[]
[]
[]
[]
[]
[]
[]
[]
[{"$f":"Accueil!$B15","v":"Dauphin"}]
[]
[]
["Période :",{"$f":"Accueil!$E$12","v":"P1"},{"$f":"Accueil!$F$12","v":"du"},{"$f":"Accueil!$G$12","v":"2014-09-02"},{"$f":"Accueil!$H$12","v":"au"},{"$f":"Accueil!$I$12","v":"2014-10-17"}]
["Selectionnez la classe participant à l'atelier :"]
["NOM","Prénom",{"$f":"Accueil!$B$38","v":"2014-09-02"},{"$f":"Accueil!$C$38","v":"2014-09-03"},{"$f":"Accueil!$D$38","v":"2014-09-04"},{"$f":"Accueil!$E$38","v":"2014-09-05"},{"$f":"Accueil!$F$38","v":"2014-09-06"},{"$f":"Accueil!$G$38","v":"2014-09-07"},{"$f":"Accueil!$H$38","v":"2014-09-08"},{"$f":"Accueil!$I$38","v":"2014-09-08"},"TOT"]
[null,null,null,null,null,null,null,null,null,null,{"$f":"SUM(C40:J40)","v":0}]
[null,null,null,null,null,null,null,null,null,null,{"$f":"SUM(C41:J41)","v":0}]
[null,null,null,null,null,null,null,null,null,null,0]
[null,null,null,null,null,null,null,null,null,null,0]
[null,null,null,null,null,null,null,null,null,null,0]
[null,null,null,null,null,null,null,null,null,null,0]
[null,null,null,null,null,null,null,null,null,null,0]
[null,null,null,null,null,null,null,null,null,null,0]
[null,null,null,null,null,null,null,null,null,null,0]
[null,null,null,null,null,null,null,null,null,null,0]
[null,null,null,null,null,null,null,null,null,null,0]
[null,null,null,null,null,null,null,null,null,null,0]
[null,null,null,null,null,null,null,null,null,null,0]
[null,null,null,null,null,null,null,null,null,null,0]
[null,null,null,null,null,null,null,null,null,null,0]
[null,null,null,null,null,null,null,null,null,null,0]
[null,null,null,null,null,null,null,null,null,null,0]
[null,null,null,null,null,null,null,null,null,null,0]
[null,null,null,null,null,null,null,null,null,null,0]
[null,null,null,null,null,null,null,null,null,null,0]
[null,null,null,null,null,null,null,null,null,null,0]
[null,null,null,null,null,null,null,null,null,null,0]
[null,null,null,null,null,null,null,null,null,null,0]
[null,null,null,null,null,null,null,null,null,null,0]
[null,null,null,null,null,null,null,null,null,null,0]
[null,null,null,null,null,null,null,null,null,null,{"$f":"SUM(C65:J65)","v":0}]
[null,null,null,null,null,null,null,null,null,null,{"$f":"SUM(C66:J66)","v":0}]
[null,null,null,null,null,null,null,null,null,null,0]
[null,null,null,null,null,null,null,null,null,null,0]
[null,null,null,null,null,null,null,null,null,null,0]
[null,null,null,null,null,null,null,null,null,null,0]
[null,null,null,null,null,null,null,null,null,null,0]
[null,null,null,null,null,null,null,null,null,null,0]
[null,null,null,null,null,null,null,null,null,null,0]
[null,null,null,null,null,null,null,null,null,null,0]
[null,null,null,null,null,null,null,null,null,null,0]
[null,null,null,null,null,null,null,null,null,null,0]
[null,null,null,null,null,null,null,null,null,null,0]
[null,null,null,null,null,null,null,null,null,null,0]
[null,null,null,null,null,null,null,null,null,null,0]
[null,null,null,null,null,null,null,null,null,null,0]
[null,null,null,null,null,null,null,null,null,null,0]
[null,null,null,null,null,null,null,null,null,null,0]
[null,null,null,null,null,null,null,null,null,null,0]
[null,null,null,null,null,null,null,null,null,null,0]
[null,null,null,null,null,null,null,null,null,null,0]
[null,null,null,null,null,null,null,null,null,null,0]
[null,null,null,null,null,null,null,null,null,null,0]
[null,null,null,null,null,null,null,null,null,null,0]
[null,null,null,null,null,null,null,null,null,null,0]
["TOT Jour",null,{"$f":"SUM(C40:C89)","v":0},{"$f":"SUM(D40:D89)","v":0},0,0,0,0,0,0]
["TOT Période",null,{"$f":"SUM(C90:J90)","v":0}]
[{"$f":"Accueil!$B15","v":"Dauphin"}]
[]
[]
["Période :",{"$f":"Accueil!$E14","v":"P2"},{"$f":"Accueil!$F14","v":"du"},{"$f":"Accueil!$G14","v":"2014-11-02"},{"$f":"Accueil!$H14","v":"au"},{"$f":"Accueil!$I14","v":"2014-12-18"}]
["Selectionnez la classe participant à l'atelier :"]
["NOM","Prénom",{"$f":"Accueil!B40","v":"2014-11-02"},{"$f":"Accueil!C40","v":"2014-11-03"},{"$f":"Accueil!D40","v":"2014-11-04"},{"$f":"Accueil!E40","v":"2014-11-05"},{"$f":"Accueil!F40","v":"2014-11-06"},{"$f":"Accueil!G40","v":"2014-11-07"},{"$f":"Accueil!H40","v":"2014-11-08"},{"$f":"Accueil!I40","v":"2014-11-08"},"TOT"]
[null,null,null,null,null,null,null,null,null,null,{"$f":"SUM(C98:J98)","v":0}]
[null,null,null,null,null,null,null,null,null,null,{"$f":"SUM(C99:J99)","v":0}]
[null,null,null,null,null,null,null,null,null,null,0]
[null,null,null,null,null,null,null,null,null,null,0]
[null,null,null,null,null,null,null,null,null,null,0]
[null,null,null,null,null,null,null,null,null,null,0]
[null,null,null,null,null,null,null,null,null,null,0]
[null,null,null,null,null,null,null,null,null,null,0]
[null,null,null,null,null,null,null,null,null,null,0]
[null,null,null,null,null,null,null,null,null,null,0]
[null,null,null,null,null,null,null,null,null,null,0]
[null,null,null,null,null,null,null,null,null,null,0]
[null,null,null,null,null,null,null,null,null,null,0]
[null,null,null,null,null,null,null,null,null,null,0]
[null,null,null,null,null,null,null,null,null,null,0]
[null,null,null,null,null,null,null,null,null,null,0]
[null,null,null,null,null,null,null,null,null,null,0]
[null,null,null,null,null,null,null,null,null,null,0]
[null,null,null,null,null,null,null,null,null,null,0]
[null,null,null,null,null,null,null,null,null,null,0]
[null,null,null,null,null,null,null,null,null,null,0]
[null,null,null,null,null,null,null,null,null,null,0]
[null,null,null,null,null,null,null,null,null,null,0]
[null,null,null,null,null,null,null,null,null,null,0]
[null,null,null,null,null,null,null,null,null,null,0]
[null,null,null,null,null,null,null,null,null,null,{"$f":"SUM(C123:J123)","v":0}]
[null,null,null,null,null,null,null,null,null,null,{"$f":"SUM(C124:J124)","v":0}]
[null,null,null,null,null,null,null,null,null,null,0]
[null,null,null,null,null,null,null,null,null,null,0]
[null,null,null,null,null,null,null,null,null,null,0]
[null,null,null,null,null,null,null,null,null,null,0]
[null,null,null,null,null,null,null,null,null,null,0]
[null,null,null,null,null,null,null,null,null,null,0]
[null,null,null,null,null,null,null,null,null,null,0]
[null,null,null,null,null,null,null,null,null,null,0]
[null,null,null,null,null,null,null,null,null,null,0]
[null,null,null,null,null,null,null,null,null,null,0]
[null,null,null,null,null,null,null,null,null,null,0]
[null,null,null,null,null,null,null,null,null,null,0]
[null,null,null,null,null,null,null,null,null,null,0]
[null,null,null,null,null,null,null,null,null,null,0]
[null,null,null,null,null,null,null,null,null,null,0]
[null,null,null,null,null,null,null,null,null,null,0]
[null,null,null,null,null,null,null,null,null,null,0]
[null,null,null,null,null,null,null,null,null,null,0]
[null,null,null,null,null,null,null,null,null,null,0]
[null,null,null,null,null,null,null,null,null,null,0]
[null,null,null,null,null,null,null,null,null,null,0]
[null,null,null,null,null,null,null,null,null,null,0]
[null,null,null,null,null,null,null,null,null,null,0]
["TOT Jour",null,{"$f":"SUM(C98:C147)","v":0},{"$f":"SUM(D98:D147)","v":0},0,0,0,0,0,0]
["TOT Période",null,{"$f":"SUM(C148:J148)","v":0}]
[{"$f":"Accueil!$B15","v":"Dauphin"}]
[]
[]
["Période :",{"$f":"Accueil!E16","v":"P3"},{"$f":"Accueil!$F16","v":"du"},{"$f":"Accueil!$G16","v":"2015-01-04"},{"$f":"Accueil!$H16","v":"au"},{"$f":"Accueil!$I16","v":"2015-02-20"}]
["Selectionnez la classe participant à l'atelier :"]
["NOM","Prénom",{"$f":"Accueil!B42","v":"2015-01-04"},{"$f":"Accueil!C42","v":"2015-01-04"},{"$f":"Accueil!D42","v":"2015-01-04"},{"$f":"Accueil!E42","v":"2015-01-04"},{"$f":"Accueil!F42","v":"2015-01-04"},{"$f":"Accueil!G42","v":"2015-01-04"},{"$f":"Accueil!H42","v":"2015-01-04"},{"$f":"Accueil!I42","v":"2015-01-04"},"TOT"]
[null,null,null,null,null,null,null,null,null,null,{"$f":"SUM(C156:J156)","v":0}]
[null,null,null,null,null,null,null,null,null,null,{"$f":"SUM(C157:J157)","v":0}]
[null,null,null,null,null,null,null,null,null,null,0]
[null,null,null,null,null,null,null,null,null,null,0]
[null,null,null,null,null,null,null,null,null,null,0]
[null,null,null,null,null,null,null,null,null,null,0]
[null,null,null,null,null,null,null,null,null,null,0]
[null,null,null,null,null,null,null,null,null,null,0]
[null,null,null,null,null,null,null,null,null,null,0]
[null,null,null,null,null,null,null,null,null,null,0]
[null,null,null,null,null,null,null,null,null,null,0]
[null,null,null,null,null,null,null,null,null,null,0]
[null,null,null,null,null,null,null,null,null,null,0]
[null,null,null,null,null,null,null,null,null,null,0]
[null,null,null,null,null,null,null,null,null,null,0]
[null,null,null,null,null,null,null,null,null,null,0]
[null,null,null,null,null,null,null,null,null,null,0]
[null,null,null,null,null,null,null,null,null,null,0]
[null,null,null,null,null,null,null,null,null,null,0]
[null,null,null,null,null,null,null,null,null,null,0]
[null,null,null,null,null,null,null,null,null,null,0]
[null,null,null,null,null,null,null,null,null,null,0]
[null,null,null,null,null,null,null,null,null,null,0]
[null,null,null,null,null,null,null,null,null,null,0]
[null,null,null,null,null,null,null,null,null,null,0]
[null,null,null,null,null,null,null,null,null,null,{"$f":"SUM(C181:J181)","v":0}]
[null,null,null,null,null,null,null,null,null,null,{"$f":"SUM(C182:J182)","v":0}]
[null,null,null,null,null,null,null,null,null,null,0]
[null,null,null,null,null,null,null,null,null,null,0]
[null,null,null,null,null,null,null,null,null,null,0]
[null,null,null,null,null,null,null,null,null,null,0]
[null,null,null,null,null,null,null,null,null,null,0]
[null,null,null,null,null,null,null,null,null,null,0]
[null,null,null,null,null,null,null,null,null,null,0]
[null,null,null,null,null,null,null,null,null,null,0]
[null,null,null,null,null,null,null,null,null,null,0]
[null,null,null,null,null,null,null,null,null,null,0]
[null,null,null,null,null,null,null,null,null,null,0]
[null,null,null,null,null,null,null,null,null,null,0]
[null,null,null,null,null,null,null,null,null,null,0]
[null,null,null,null,null,null,null,null,null,null,0]
[null,null,null,null,null,null,null,null,null,null,0]
[null,null,null,null,null,null,null,null,null,null,0]
[null,null,null,null,null,null,null,null,null,null,0]
[null,null,null,null,null,null,null,null,null,null,0]
[null,null,null,null,null,null,null,null,null,null,0]
[null,null,null,null,null,null,null,null,null,null,0]
[null,null,null,null,null,null,null,null,null,null,0]
[null,null,null,null,null,null,null,null,null,null,0]
[null,null,null,null,null,null,null,null,null,null,0]
["TOT Jour",null,{"$f":"SUM(C156:C205)","v":0},{"$f":"SUM(D156:D205)","v":0},0,0,0,0,0,0]
["TOT Période",null,{"$f":"SUM(C206:J206)","v":0}]
[{"$f":"Accueil!$B15","v":"Dauphin"}]
[]
[]
["Période :",{"$f":"Accueil!E18","v":"P4"},{"$f":"Accueil!$F18","v":"du"},{"$f":"Accueil!$G18","v":"2015-03-08"},{"$f":"Accueil!$H18","v":"au"},{"$f":"Accueil!$I18","v":"2015-04-15"}]
["Selectionnez la classe participant à l'atelier :"]
["NOM","Prénom",{"$f":"Accueil!B44","v":"2015-03-08"},{"$f":"Accueil!C44","v":"2015-03-08"},{"$f":"Accueil!D44","v":"2015-03-08"},{"$f":"Accueil!E44","v":"2015-03-08"},{"$f":"Accueil!F44","v":"2015-03-08"},{"$f":"Accueil!G44","v":"2015-03-08"},{"$f":"Accueil!H44","v":"2015-03-08"},{"$f":"Accueil!I44","v":"2015-03-08"},"TOT"]
[null,null,null,null,null,null,null,null,null,null,{"$f":"SUM(C214:J214)","v":0}]
[null,null,null,null,null,null,null,null,null,null,{"$f":"SUM(C215:J215)","v":0}]
[null,null,null,null,null,null,null,null,null,null,0]
[null,null,null,null,null,null,null,null,null,null,0]
[null,null,null,null,null,null,null,null,null,null,0]
[null,null,null,null,null,null,null,null,null,null,0]
[null,null,null,null,null,null,null,null,null,null,0]
[null,null,null,null,null,null,null,null,null,null,0]
[null,null,null,null,null,null,null,null,null,null,0]
[null,null,null,null,null,null,null,null,null,null,0]
[null,null,null,null,null,null,null,null,null,null,0]
[null,null,null,null,null,null,null,null,null,null,0]
[null,null,null,null,null,null,null,null,null,null,0]
[null,null,null,null,null,null,null,null,null,null,0]
[null,null,null,null,null,null,null,null,null,null,0]
[null,null,null,null,null,null,null,null,null,null,0]
[null,null,null,null,null,null,null,null,null,null,0]
[null,null,null,null,null,null,null,null,null,null,0]
[null,null,null,null,null,null,null,null,null,null,0]
[null,null,null,null,null,null,null,null,null,null,0]
[null,null,null,null,null,null,null,null,null,null,0]
[null,null,null,null,null,null,null,null,null,null,0]
[null,null,null,null,null,null,null,null,null,null,0]
[null,null,null,null,null,null,null,null,null,null,0]
[null,null,null,null,null,null,null,null,null,null,0]
[null,null,null,null,null,null,null,null,null,null,{"$f":"SUM(C239:J239)","v":0}]
[null,null,null,null,null,null,null,null,null,null,{"$f":"SUM(C240:J240)","v":0}]
[null,null,null,null,null,null,null,null,null,null,0]
[null,null,null,null,null,null,null,null,null,null,0]
[null,null,null,null,null,null,null,null,null,null,0]
[null,null,null,null,null,null,null,null,null,null,0]
[null,null,null,null,null,null,null,null,null,null,0]
[null,null,null,null,null,null,null,null,null,null,0]
[null,null,null,null,null,null,null,null,null,null,0]
[null,null,null,null,null,null,null,null,null,null,0]
[null,null,null,null,null,null,null,null,null,null,0]
[null,null,null,null,null,null,null,null,null,null,0]
[null,null,null,null,null,null,null,null,null,null,0]
[null,null,null,null,null,null,null,null,null,null,0]
[null,null,null,null,null,null,null,null,null,null,0]
[null,null,null,null,null,null,null,null,null,null,0]
[null,null,null,null,null,null,null,null,null,null,0]
[null,null,null,null,null,null,null,null,null,null,0]
[null,null,null,null,null,null,null,null,null,null,0]
[null,null,null,null,null,null,null,null,null,null,0]
[null,null,null,null,null,null,null,null,null,null,0]
[null,null,null,null,null,null,null,null,null,null,0]
[null,null,null,null,null,null,null,null,null,null,0]
[null,null,null,null,null,null,null,null,null,null,0]
[null,null,null,null,null,null,null,null,null,null,0]
["TOT Jour",null,{"$f":"SUM(C214:C263)","v":0},{"$f":"SUM(D214:D263)","v":0},0,0,0,0,0,0]
["TOT Période",null,{"$f":"SUM(C264:J264)","v":0}]
[{"$f":"Accueil!$B15","v":"Dauphin"}]
[]
[]
["Période :",{"$f":"Accueil!E20","v":"P5"},{"$f":"Accueil!$F20","v":"du"},{"$f":"Accueil!$G20","v":"2015-05-03"},{"$f":"Accueil!$H20","v":"au"},{"$f":"Accueil!$I20","v":"2015-07-03"}]
["Selectionnez la classe participant à l'atelier :"]
["NOM","Prénom",{"$f":"Accueil!B46","v":"2015-05-03"},{"$f":"Accueil!C46","v":"2015-05-03"},{"$f":"Accueil!D46","v":"2015-05-03"},{"$f":"Accueil!E46","v":"2015-05-03"},{"$f":"Accueil!F46","v":"2015-05-03"},{"$f":"Accueil!G46","v":"2015-05-03"},{"$f":"Accueil!H46","v":"2015-05-03"},{"$f":"Accueil!I46","v":"2015-05-03"},"TOT"]
[null,null,null,null,null,null,null,null,null,null,{"$f":"SUM(C272:J272)","v":0}]
[null,null,null,null,null,null,null,null,null,null,{"$f":"SUM(C273:J273)","v":0}]
[null,null,null,null,null,null,null,null,null,null,0]
[null,null,null,null,null,null,null,null,null,null,0]
[null,null,null,null,null,null,null,null,null,null,0]
[null,null,null,null,null,null,null,null,null,null,0]
[null,null,null,null,null,null,null,null,null,null,0]
[null,null,null,null,null,null,null,null,null,null,0]
[null,null,null,null,null,null,null,null,null,null,0]
[null,null,null,null,null,null,null,null,null,null,0]
[null,null,null,null,null,null,null,null,null,null,0]
[null,null,null,null,null,null,null,null,null,null,0]
[null,null,null,null,null,null,null,null,null,null,0]
[null,null,null,null,null,null,null,null,null,null,0]
[null,null,null,null,null,null,null,null,null,null,0]
[null,null,null,null,null,null,null,null,null,null,0]
[null,null,null,null,null,null,null,null,null,null,0]
[null,null,null,null,null,null,null,null,null,null,0]
[null,null,null,null,null,null,null,null,null,null,0]
[null,null,null,null,null,null,null,null,null,null,0]
[null,null,null,null,null,null,null,null,null,null,0]
[null,null,null,null,null,null,null,null,null,null,0]
[null,null,null,null,null,null,null,null,null,null,0]
[null,null,null,null,null,null,null,null,null,null,0]
[null,null,null,null,null,null,null,null,null,null,0]
[null,null,null,null,null,null,null,null,null,null,{"$f":"SUM(C297:J297)","v":0}]
[null,null,null,null,null,null,null,null,null,null,{"$f":"SUM(C298:J298)","v":0}]
[null,null,null,null,null,null,null,null,null,null,0]
[null,null,null,null,null,null,null,null,null,null,0]
[null,null,null,null,null,null,null,null,null,null,0]
[null,null,null,null,null,null,null,null,null,null,0]
[null,null,null,null,null,null,null,null,null,null,0]
[null,null,null,null,null,null,null,null,null,null,0]
[null,null,null,null,null,null,null,null,null,null,0]
[null,null,null,null,null,null,null,null,null,null,0]
[null,null,null,null,null,null,null,null,null,null,0]
[null,null,null,null,null,null,null,null,null,null,0]
[null,null,null,null,null,null,null,null,null,null,0]
[null,null,null,null,null,null,null,null,null,null,0]
[null,null,null,null,null,null,null,null,null,null,0]
[null,null,null,null,null,null,null,null,null,null,0]
[null,null,null,null,null,null,null,null,null,null,0]
[null,null,null,null,null,null,null,null,null,null,0]
[null,null,null,null,null,null,null,null,null,null,0]
[null,null,null,null,null,null,null,null,null,null,0]
[null,null,null,null,null,null,null,null,null,null,0]
[null,null,null,null,null,null,null,null,null,null,0]
[null,null,null,null,null,null,null,null,null,null,0]
[null,null,null,null,null,null,null,null,null,null,0]
[null,null,null,null,null,null,null,null,null,null,0]
["TOT Jour",null,{"$f":"SUM(C272:C321)","v":0},{"$f":"SUM(D272:D321)","v":0},0,0,0,0,0,0]
["TOT Période",null,{"$f":"SUM(C322:J322)","v":0}]
["Statistiques"]
[]
[]
["Nombre d'heure de fréquentation :"]
[{"$f":"Accueil!$E12","v":"P1"},{"$f":"$C$91*1.5","v":0},"heures de présence pour cet atelier et pour cette période"]
[{"$f":"Accueil!$E14","v":"P2"},{"$f":"$C$149*1.5","v":0},"heures de présence pour cet atelier et pour cette période"]
[{"$f":"Accueil!$E16","v":"P3"},{"$f":"$C$207*1.5","v":0},"heures de présence pour cet atelier et pour cette période"]
[{"$f":"Accueil!$E18","v":"P4"},{"$f":"$C$265*1.5","v":0},"heures de présence pour cet atelier et pour cette période"]
[{"$f":"Accueil!$E20","v":"P5"},{"$f":"$C$323*1.5","v":0},"heures de présence pour cet atelier et pour cette période"]
["TOT",{"$f":"SUM($B$328:$B$332)","v":0},"heures de présence pour cet atelier et pour l'année"]

{"sheet":"Excel","index":12,"n_rows":333,"n_cols":11,"rows_kept":333,"cut":false,"hidden":false,"merged":[[16,2,16,9],[33,0,34,10],[37,0,37,3],[37,4,37,5],[89,0,89,1],[90,0,90,1],[90,2,90,9],[91,0,92,10],[95,0,95,3],[95,4,95,5],[147,0,147,1],[148,0,148,1],[148,2,148,9],[149,0,150,10],[153,0,153,3],[153,4,153,5],[263,0,263,1],[264,0,264,1],[264,2,264,9],[205,0,205,1],[206,0,206,1],[206,2,206,9],[207,0,208,10],[211,0,211,3],[211,4,211,5],[331,2,331,6],[332,2,332,6],[8,1,15,9],[323,0,324,10],[327,2,327,6],[328,2,328,6],[329,2,329,6],[330,2,330,6],[265,0,266,10],[269,0,269,3],[269,4,269,5],[321,0,321,1],[322,0,322,1],[322,2,322,9],[17,0,18,10],[19,0,22,10]]}
[]
[]
[]
[]
[]
[]
[]
[]
[null,{"$f":"Accueil!B16","v":"Excel"}]
[]
[]
[]
[]
[]
[]
[]
[null,{"$f":"Machin!B17","v":"Avec :"},{"$f":"Accueil!C16","v":0}]
[{"$f":"Machin!$A$28","v":"ATTENTION !"}]
[]
[{"$f":"Machin!$A$30","v":"Vous ne devez pas ajouter ou supprimer les enfants depuis cette feuille ! \nPour ajouter des enfants dans cet atelier -> Aller dans la feuille de la classe des enfants et suivre les instructions.\nPour supprimer des enfants de cet atelier -> Aller dans la feuille de la classe des enfants et suivre les instructions."}]
[]
[]
[]
[]
[]
[]
[]
[]
[]
[]
[]
[]
[]
[{"$f":"Accueil!B16","v":"Excel"}]
[]
[]
["Période :",{"$f":"Accueil!$E$12","v":"P1"},{"$f":"Accueil!$F$12","v":"du"},{"$f":"Accueil!$G$12","v":"2014-09-02"},{"$f":"Accueil!$H$12","v":"au"},{"$f":"Accueil!$I$12","v":"2014-10-17"}]
["Selectionnez la classe participant à l'atelier :"]
["NOM","Prénom",{"$f":"Accueil!$B$38","v":"2014-09-02"},{"$f":"Accueil!$C$38","v":"2014-09-03"},{"$f":"Accueil!$D$38","v":"2014-09-04"},{"$f":"Accueil!$E$38","v":"2014-09-05"},{"$f":"Accueil!$F$38","v":"2014-09-06"},{"$f":"Accueil!$G$38","v":"2014-09-07"},{"$f":"Accueil!$H$38","v":"2014-09-08"},{"$f":"Accueil!$I$38","v":"2014-09-08"},"TOT"]
[null,null,null,null,null,null,null,null,null,null,{"$f":"SUM(C40:J40)","v":0}]
[null,null,null,null,null,null,null,null,null,null,{"$f":"SUM(C41:J41)","v":0}]
[null,null,null,null,null,null,null,null,null,null,0]
[null,null,null,null,null,null,null,null,null,null,0]
[null,null,null,null,null,null,null,null,null,null,0]
[null,null,null,null,null,null,null,null,null,null,0]
[null,null,null,null,null,null,null,null,null,null,0]
[null,null,null,null,null,null,null,null,null,null,0]
[null,null,null,null,null,null,null,null,null,null,0]
[null,null,null,null,null,null,null,null,null,null,0]
[null,null,null,null,null,null,null,null,null,null,0]
[null,null,null,null,null,null,null,null,null,null,0]
[null,null,null,null,null,null,null,null,null,null,0]
[null,null,null,null,null,null,null,null,null,null,0]
[null,null,null,null,null,null,null,null,null,null,0]
[null,null,null,null,null,null,null,null,null,null,0]
[null,null,null,null,null,null,null,null,null,null,0]
[null,null,null,null,null,null,null,null,null,null,0]
[null,null,null,null,null,null,null,null,null,null,0]
[null,null,null,null,null,null,null,null,null,null,0]
[null,null,null,null,null,null,null,null,null,null,0]
[null,null,null,null,null,null,null,null,null,null,0]
[null,null,null,null,null,null,null,null,null,null,0]
[null,null,null,null,null,null,null,null,null,null,0]
[null,null,null,null,null,null,null,null,null,null,0]
[null,null,null,null,null,null,null,null,null,null,{"$f":"SUM(C65:J65)","v":0}]
[null,null,null,null,null,null,null,null,null,null,{"$f":"SUM(C66:J66)","v":0}]
[null,null,null,null,null,null,null,null,null,null,0]
[null,null,null,null,null,null,null,null,null,null,0]
[null,null,null,null,null,null,null,null,null,null,0]
[null,null,null,null,null,null,null,null,null,null,0]
[null,null,null,null,null,null,null,null,null,null,0]
[null,null,null,null,null,null,null,null,null,null,0]
[null,null,null,null,null,null,null,null,null,null,0]
[null,null,null,null,null,null,null,null,null,null,0]
[null,null,null,null,null,null,null,null,null,null,0]
[null,null,null,null,null,null,null,null,null,null,0]
[null,null,null,null,null,null,null,null,null,null,0]
[null,null,null,null,null,null,null,null,null,null,0]
[null,null,null,null,null,null,null,null,null,null,0]
[null,null,null,null,null,null,null,null,null,null,0]
[null,null,null,null,null,null,null,null,null,null,0]
[null,null,null,null,null,null,null,null,null,null,0]
[null,null,null,null,null,null,null,null,null,null,0]
[null,null,null,null,null,null,null,null,null,null,0]
[null,null,null,null,null,null,null,null,null,null,0]
[null,null,null,null,null,null,null,null,null,null,0]
[null,null,null,null,null,null,null,null,null,null,0]
[null,null,null,null,null,null,null,null,null,null,0]
[null,null,null,null,null,null,null,null,null,null,0]
["TOT Jour",null,{"$f":"SUM(C40:C89)","v":0},{"$f":"SUM(D40:D89)","v":0},0,0,0,0,0,0]
["TOT Période",null,{"$f":"SUM(C90:J90)","v":0}]
[{"$f":"Accueil!B16","v":"Excel"}]
[]
[]
["Période :",{"$f":"Accueil!$E14","v":"P2"},{"$f":"Accueil!$F14","v":"du"},{"$f":"Accueil!$G14","v":"2014-11-02"},{"$f":"Accueil!$H14","v":"au"},{"$f":"Accueil!$I14","v":"2014-12-18"}]
["Selectionnez la classe participant à l'atelier :"]
["NOM","Prénom",{"$f":"Accueil!B40","v":"2014-11-02"},{"$f":"Accueil!C40","v":"2014-11-03"},{"$f":"Accueil!D40","v":"2014-11-04"},{"$f":"Accueil!E40","v":"2014-11-05"},{"$f":"Accueil!F40","v":"2014-11-06"},{"$f":"Accueil!G40","v":"2014-11-07"},{"$f":"Accueil!H40","v":"2014-11-08"},{"$f":"Accueil!I40","v":"2014-11-08"},"TOT"]
[null,null,null,null,null,null,null,null,null,null,{"$f":"SUM(C98:J98)","v":0}]
[null,null,null,null,null,null,null,null,null,null,{"$f":"SUM(C99:J99)","v":0}]
[null,null,null,null,null,null,null,null,null,null,0]
[null,null,null,null,null,null,null,null,null,null,0]
[null,null,null,null,null,null,null,null,null,null,0]
[null,null,null,null,null,null,null,null,null,null,0]
[null,null,null,null,null,null,null,null,null,null,0]
[null,null,null,null,null,null,null,null,null,null,0]
[null,null,null,null,null,null,null,null,null,null,0]
[null,null,null,null,null,null,null,null,null,null,0]
[null,null,null,null,null,null,null,null,null,null,0]
[null,null,null,null,null,null,null,null,null,null,0]
[null,null,null,null,null,null,null,null,null,null,0]
[null,null,null,null,null,null,null,null,null,null,0]
[null,null,null,null,null,null,null,null,null,null,0]
[null,null,null,null,null,null,null,null,null,null,0]
[null,null,null,null,null,null,null,null,null,null,0]
[null,null,null,null,null,null,null,null,null,null,0]
[null,null,null,null,null,null,null,null,null,null,0]
[null,null,null,null,null,null,null,null,null,null,0]
[null,null,null,null,null,null,null,null,null,null,0]
[null,null,null,null,null,null,null,null,null,null,0]
[null,null,null,null,null,null,null,null,null,null,0]
[null,null,null,null,null,null,null,null,null,null,0]
[null,null,null,null,null,null,null,null,null,null,0]
[null,null,null,null,null,null,null,null,null,null,{"$f":"SUM(C123:J123)","v":0}]
[null,null,null,null,null,null,null,null,null,null,{"$f":"SUM(C124:J124)","v":0}]
[null,null,null,null,null,null,null,null,null,null,0]
[null,null,null,null,null,null,null,null,null,null,0]
[null,null,null,null,null,null,null,null,null,null,0]
[null,null,null,null,null,null,null,null,null,null,0]
[null,null,null,null,null,null,null,null,null,null,0]
[null,null,null,null,null,null,null,null,null,null,0]
[null,null,null,null,null,null,null,null,null,null,0]
[null,null,null,null,null,null,null,null,null,null,0]
[null,null,null,null,null,null,null,null,null,null,0]
[null,null,null,null,null,null,null,null,null,null,0]
[null,null,null,null,null,null,null,null,null,null,0]
[null,null,null,null,null,null,null,null,null,null,0]
[null,null,null,null,null,null,null,null,null,null,0]
[null,null,null,null,null,null,null,null,null,null,0]
[null,null,null,null,null,null,null,null,null,null,0]
[null,null,null,null,null,null,null,null,null,null,0]
[null,null,null,null,null,null,null,null,null,null,0]
[null,null,null,null,null,null,null,null,null,null,0]
[null,null,null,null,null,null,null,null,null,null,0]
[null,null,null,null,null,null,null,null,null,null,0]
[null,null,null,null,null,null,null,null,null,null,0]
[null,null,null,null,null,null,null,null,null,null,0]
[null,null,null,null,null,null,null,null,null,null,0]
["TOT Jour",null,{"$f":"SUM(C98:C147)","v":0},{"$f":"SUM(D98:D147)","v":0},0,0,0,0,0,0]
["TOT Période",null,{"$f":"SUM(C148:J148)","v":0}]
[{"$f":"Accueil!B16","v":"Excel"}]
[]
[]
["Période :",{"$f":"Accueil!E16","v":"P3"},{"$f":"Accueil!$F16","v":"du"},{"$f":"Accueil!$G16","v":"2015-01-04"},{"$f":"Accueil!$H16","v":"au"},{"$f":"Accueil!$I16","v":"2015-02-20"}]
["Selectionnez la classe participant à l'atelier :"]
["NOM","Prénom",{"$f":"Accueil!B42","v":"2015-01-04"},{"$f":"Accueil!C42","v":"2015-01-04"},{"$f":"Accueil!D42","v":"2015-01-04"},{"$f":"Accueil!E42","v":"2015-01-04"},{"$f":"Accueil!F42","v":"2015-01-04"},{"$f":"Accueil!G42","v":"2015-01-04"},{"$f":"Accueil!H42","v":"2015-01-04"},{"$f":"Accueil!I42","v":"2015-01-04"},"TOT"]
[null,null,null,null,null,null,null,null,null,null,{"$f":"SUM(C156:J156)","v":0}]
[null,null,null,null,null,null,null,null,null,null,{"$f":"SUM(C157:J157)","v":0}]
[null,null,null,null,null,null,null,null,null,null,0]
[null,null,null,null,null,null,null,null,null,null,0]
[null,null,null,null,null,null,null,null,null,null,0]
[null,null,null,null,null,null,null,null,null,null,0]
[null,null,null,null,null,null,null,null,null,null,0]
[null,null,null,null,null,null,null,null,null,null,0]
[null,null,null,null,null,null,null,null,null,null,0]
[null,null,null,null,null,null,null,null,null,null,0]
[null,null,null,null,null,null,null,null,null,null,0]
[null,null,null,null,null,null,null,null,null,null,0]
[null,null,null,null,null,null,null,null,null,null,0]
[null,null,null,null,null,null,null,null,null,null,0]
[null,null,null,null,null,null,null,null,null,null,0]
[null,null,null,null,null,null,null,null,null,null,0]
[null,null,null,null,null,null,null,null,null,null,0]
[null,null,null,null,null,null,null,null,null,null,0]
[null,null,null,null,null,null,null,null,null,null,0]
[null,null,null,null,null,null,null,null,null,null,0]
[null,null,null,null,null,null,null,null,null,null,0]
[null,null,null,null,null,null,null,null,null,null,0]
[null,null,null,null,null,null,null,null,null,null,0]
[null,null,null,null,null,null,null,null,null,null,0]
[null,null,null,null,null,null,null,null,null,null,0]
[null,null,null,null,null,null,null,null,null,null,{"$f":"SUM(C181:J181)","v":0}]
[null,null,null,null,null,null,null,null,null,null,{"$f":"SUM(C182:J182)","v":0}]
[null,null,null,null,null,null,null,null,null,null,0]
[null,null,null,null,null,null,null,null,null,null,0]
[null,null,null,null,null,null,null,null,null,null,0]
[null,null,null,null,null,null,null,null,null,null,0]
[null,null,null,null,null,null,null,null,null,null,0]
[null,null,null,null,null,null,null,null,null,null,0]
[null,null,null,null,null,null,null,null,null,null,0]
[null,null,null,null,null,null,null,null,null,null,0]
[null,null,null,null,null,null,null,null,null,null,0]
[null,null,null,null,null,null,null,null,null,null,0]
[null,null,null,null,null,null,null,null,null,null,0]
[null,null,null,null,null,null,null,null,null,null,0]
[null,null,null,null,null,null,null,null,null,null,0]
[null,null,null,null,null,null,null,null,null,null,0]
[null,null,null,null,null,null,null,null,null,null,0]
[null,null,null,null,null,null,null,null,null,null,0]
[null,null,null,null,null,null,null,null,null,null,0]
[null,null,null,null,null,null,null,null,null,null,0]
[null,null,null,null,null,null,null,null,null,null,0]
[null,null,null,null,null,null,null,null,null,null,0]
[null,null,null,null,null,null,null,null,null,null,0]
[null,null,null,null,null,null,null,null,null,null,0]
[null,null,null,null,null,null,null,null,null,null,0]
["TOT Jour",null,{"$f":"SUM(C156:C205)","v":0},{"$f":"SUM(D156:D205)","v":0},0,0,0,0,0,0]
["TOT Période",null,{"$f":"SUM(C206:J206)","v":0}]
[{"$f":"Accueil!B16","v":"Excel"}]
[]
[]
["Période :",{"$f":"Accueil!E18","v":"P4"},{"$f":"Accueil!$F18","v":"du"},{"$f":"Accueil!$G18","v":"2015-03-08"},{"$f":"Accueil!$H18","v":"au"},{"$f":"Accueil!$I18","v":"2015-04-15"}]
["Selectionnez la classe participant à l'atelier :"]
["NOM","Prénom",{"$f":"Accueil!B44","v":"2015-03-08"},{"$f":"Accueil!C44","v":"2015-03-08"},{"$f":"Accueil!D44","v":"2015-03-08"},{"$f":"Accueil!E44","v":"2015-03-08"},{"$f":"Accueil!F44","v":"2015-03-08"},{"$f":"Accueil!G44","v":"2015-03-08"},{"$f":"Accueil!H44","v":"2015-03-08"},{"$f":"Accueil!I44","v":"2015-03-08"},"TOT"]
[null,null,null,null,null,null,null,null,null,null,{"$f":"SUM(C214:J214)","v":0}]
[null,null,null,null,null,null,null,null,null,null,{"$f":"SUM(C215:J215)","v":0}]
[null,null,null,null,null,null,null,null,null,null,0]
[null,null,null,null,null,null,null,null,null,null,0]
[null,null,null,null,null,null,null,null,null,null,0]
[null,null,null,null,null,null,null,null,null,null,0]
[null,null,null,null,null,null,null,null,null,null,0]
[null,null,null,null,null,null,null,null,null,null,0]
[null,null,null,null,null,null,null,null,null,null,0]
[null,null,null,null,null,null,null,null,null,null,0]
[null,null,null,null,null,null,null,null,null,null,0]
[null,null,null,null,null,null,null,null,null,null,0]
[null,null,null,null,null,null,null,null,null,null,0]
[null,null,null,null,null,null,null,null,null,null,0]
[null,null,null,null,null,null,null,null,null,null,0]
[null,null,null,null,null,null,null,null,null,null,0]
[null,null,null,null,null,null,null,null,null,null,0]
[null,null,null,null,null,null,null,null,null,null,0]
[null,null,null,null,null,null,null,null,null,null,0]
[null,null,null,null,null,null,null,null,null,null,0]
[null,null,null,null,null,null,null,null,null,null,0]
[null,null,null,null,null,null,null,null,null,null,0]
[null,null,null,null,null,null,null,null,null,null,0]
[null,null,null,null,null,null,null,null,null,null,0]
[null,null,null,null,null,null,null,null,null,null,0]
[null,null,null,null,null,null,null,null,null,null,{"$f":"SUM(C239:J239)","v":0}]
[null,null,null,null,null,null,null,null,null,null,{"$f":"SUM(C240:J240)","v":0}]
[null,null,null,null,null,null,null,null,null,null,0]
[null,null,null,null,null,null,null,null,null,null,0]
[null,null,null,null,null,null,null,null,null,null,0]
[null,null,null,null,null,null,null,null,null,null,0]
[null,null,null,null,null,null,null,null,null,null,0]
[null,null,null,null,null,null,null,null,null,null,0]
[null,null,null,null,null,null,null,null,null,null,0]
[null,null,null,null,null,null,null,null,null,null,0]
[null,null,null,null,null,null,null,null,null,null,0]
[null,null,null,null,null,null,null,null,null,null,0]
[null,null,null,null,null,null,null,null,null,null,0]
[null,null,null,null,null,null,null,null,null,null,0]
[null,null,null,null,null,null,null,null,null,null,0]
[null,null,null,null,null,null,null,null,null,null,0]
[null,null,null,null,null,null,null,null,null,null,0]
[null,null,null,null,null,null,null,null,null,null,0]
[null,null,null,null,null,null,null,null,null,null,0]
[null,null,null,null,null,null,null,null,null,null,0]
[null,null,null,null,null,null,null,null,null,null,0]
[null,null,null,null,null,null,null,null,null,null,0]
[null,null,null,null,null,null,null,null,null,null,0]
[null,null,null,null,null,null,null,null,null,null,0]
[null,null,null,null,null,null,null,null,null,null,0]
["TOT Jour",null,{"$f":"SUM(C214:C263)","v":0},{"$f":"SUM(D214:D263)","v":0},0,0,0,0,0,0]
["TOT Période",null,{"$f":"SUM(C264:J264)","v":0}]
[{"$f":"Accueil!B16","v":"Excel"}]
[]
[]
["Période :",{"$f":"Accueil!E20","v":"P5"},{"$f":"Accueil!$F20","v":"du"},{"$f":"Accueil!$G20","v":"2015-05-03"},{"$f":"Accueil!$H20","v":"au"},{"$f":"Accueil!$I20","v":"2015-07-03"}]
["Selectionnez la classe participant à l'atelier :"]
["NOM","Prénom",{"$f":"Accueil!B46","v":"2015-05-03"},{"$f":"Accueil!C46","v":"2015-05-03"},{"$f":"Accueil!D46","v":"2015-05-03"},{"$f":"Accueil!E46","v":"2015-05-03"},{"$f":"Accueil!F46","v":"2015-05-03"},{"$f":"Accueil!G46","v":"2015-05-03"},{"$f":"Accueil!H46","v":"2015-05-03"},{"$f":"Accueil!I46","v":"2015-05-03"},"TOT"]
[null,null,null,null,null,null,null,null,null,null,{"$f":"SUM(C272:J272)","v":0}]
[null,null,null,null,null,null,null,null,null,null,{"$f":"SUM(C273:J273)","v":0}]
[null,null,null,null,null,null,null,null,null,null,0]
[null,null,null,null,null,null,null,null,null,null,0]
[null,null,null,null,null,null,null,null,null,null,0]
[null,null,null,null,null,null,null,null,null,null,0]
[null,null,null,null,null,null,null,null,null,null,0]
[null,null,null,null,null,null,null,null,null,null,0]
[null,null,null,null,null,null,null,null,null,null,0]
[null,null,null,null,null,null,null,null,null,null,0]
[null,null,null,null,null,null,null,null,null,null,0]
[null,null,null,null,null,null,null,null,null,null,0]
[null,null,null,null,null,null,null,null,null,null,0]
[null,null,null,null,null,null,null,null,null,null,0]
[null,null,null,null,null,null,null,null,null,null,0]
[null,null,null,null,null,null,null,null,null,null,0]
[null,null,null,null,null,null,null,null,null,null,0]
[null,null,null,null,null,null,null,null,null,null,0]
[null,null,null,null,null,null,null,null,null,null,0]
[null,null,null,null,null,null,null,null,null,null,0]
[null,null,null,null,null,null,null,null,null,null,0]
[null,null,null,null,null,null,null,null,null,null,0]
[null,null,null,null,null,null,null,null,null,null,0]
[null,null,null,null,null,null,null,null,null,null,0]
[null,null,null,null,null,null,null,null,null,null,0]
[null,null,null,null,null,null,null,null,null,null,{"$f":"SUM(C297:J297)","v":0}]
[null,null,null,null,null,null,null,null,null,null,{"$f":"SUM(C298:J298)","v":0}]
[null,null,null,null,null,null,null,null,null,null,0]
[null,null,null,null,null,null,null,null,null,null,0]
[null,null,null,null,null,null,null,null,null,null,0]
[null,null,null,null,null,null,null,null,null,null,0]
[null,null,null,null,null,null,null,null,null,null,0]
[null,null,null,null,null,null,null,null,null,null,0]
[null,null,null,null,null,null,null,null,null,null,0]
[null,null,null,null,null,null,null,null,null,null,0]
[null,null,null,null,null,null,null,null,null,null,0]
[null,null,null,null,null,null,null,null,null,null,0]
[null,null,null,null,null,null,null,null,null,null,0]
[null,null,null,null,null,null,null,null,null,null,0]
[null,null,null,null,null,null,null,null,null,null,0]
[null,null,null,null,null,null,null,null,null,null,0]
[null,null,null,null,null,null,null,null,null,null,0]
[null,null,null,null,null,null,null,null,null,null,0]
[null,null,null,null,null,null,null,null,null,null,0]
[null,null,null,null,null,null,null,null,null,null,0]
[null,null,null,null,null,null,null,null,null,null,0]
[null,null,null,null,null,null,null,null,null,null,0]
[null,null,null,null,null,null,null,null,null,null,0]
[null,null,null,null,null,null,null,null,null,null,0]
[null,null,null,null,null,null,null,null,null,null,0]
["TOT Jour",null,{"$f":"SUM(C272:C321)","v":0},{"$f":"SUM(D272:D321)","v":0},0,0,0,0,0,0]
["TOT Période",null,{"$f":"SUM(C322:J322)","v":0}]
["Statistiques"]
[]
[]
["Nombre d'heure de fréquentation :"]
[{"$f":"Accueil!$E12","v":"P1"},{"$f":"$C$91*1.5","v":0},"heures de présence pour cet atelier et pour cette période"]
[{"$f":"Accueil!$E14","v":"P2"},{"$f":"$C$149*1.5","v":0},"heures de présence pour cet atelier et pour cette période"]
[{"$f":"Accueil!$E16","v":"P3"},{"$f":"$C$207*1.5","v":0},"heures de présence pour cet atelier et pour cette période"]
[{"$f":"Accueil!$E18","v":"P4"},{"$f":"$C$265*1.5","v":0},"heures de présence pour cet atelier et pour cette période"]
[{"$f":"Accueil!$E20","v":"P5"},{"$f":"$C$323*1.5","v":0},"heures de présence pour cet atelier et pour cette période"]
["TOT",{"$f":"SUM($B$328:$B$332)","v":0},"heures de présence pour cet atelier et pour l'année"]

{"sheet":"Ordinateur","index":13,"n_rows":333,"n_cols":11,"rows_kept":333,"cut":false,"hidden":false,"merged":[[16,2,16,9],[33,0,34,10],[37,0,37,3],[37,4,37,5],[89,0,89,1],[90,0,90,1],[90,2,90,9],[91,0,92,10],[95,0,95,3],[95,4,95,5],[147,0,147,1],[148,0,148,1],[148,2,148,9],[149,0,150,10],[153,0,153,3],[153,4,153,5],[263,0,263,1],[264,0,264,1],[264,2,264,9],[205,0,205,1],[206,0,206,1],[206,2,206,9],[207,0,208,10],[211,0,211,3],[211,4,211,5],[331,2,331,6],[332,2,332,6],[8,1,15,9],[323,0,324,10],[327,2,327,6],[328,2,328,6],[329,2,329,6],[330,2,330,6],[265,0,266,10],[269,0,269,3],[269,4,269,5],[321,0,321,1],[322,0,322,1],[322,2,322,9],[17,0,18,10],[19,0,22,10]]}
[]
[]
[]
[]
[]
[]
[]
[]
[null,{"$f":"Accueil!B17","v":"Ordinateur"}]
[]
[]
[]
[]
[]
[]
[]
[null,{"$f":"Machin!B17","v":"Avec :"},{"$f":"Accueil!C17","v":0}]
[{"$f":"Machin!$A$28","v":"ATTENTION !"}]
[]
[{"$f":"Machin!$A$30","v":"Vous ne devez pas ajouter ou supprimer les enfants depuis cette feuille ! \nPour ajouter des enfants dans cet atelier -> Aller dans la feuille de la classe des enfants et suivre les instructions.\nPour supprimer des enfants de cet atelier -> Aller dans la feuille de la classe des enfants et suivre les instructions."}]
[]
[]
[]
[]
[]
[]
[]
[]
[]
[]
[]
[]
[]
[{"$f":"Accueil!B17","v":"Ordinateur"}]
[]
[]
["Période :",{"$f":"Accueil!$E$12","v":"P1"},{"$f":"Accueil!$F$12","v":"du"},{"$f":"Accueil!$G$12","v":"2014-09-02"},{"$f":"Accueil!$H$12","v":"au"},{"$f":"Accueil!$I$12","v":"2014-10-17"}]
["Selectionnez la classe participant à l'atelier :"]
["NOM","Prénom",{"$f":"Accueil!$B$38","v":"2014-09-02"},{"$f":"Accueil!$C$38","v":"2014-09-03"},{"$f":"Accueil!$D$38","v":"2014-09-04"},{"$f":"Accueil!$E$38","v":"2014-09-05"},{"$f":"Accueil!$F$38","v":"2014-09-06"},{"$f":"Accueil!$G$38","v":"2014-09-07"},{"$f":"Accueil!$H$38","v":"2014-09-08"},{"$f":"Accueil!$I$38","v":"2014-09-08"},"TOT"]
[null,null,null,null,null,null,null,null,null,null,{"$f":"SUM(C40:J40)","v":0}]
[null,null,null,null,null,null,null,null,null,null,{"$f":"SUM(C41:J41)","v":0}]
[null,null,null,null,null,null,null,null,null,null,0]
[null,null,null,null,null,null,null,null,null,null,0]
[null,null,null,null,null,null,null,null,null,null,0]
[null,null,null,null,null,null,null,null,null,null,0]
[null,null,null,null,null,null,null,null,null,null,0]
[null,null,null,null,null,null,null,null,null,null,0]
[null,null,null,null,null,null,null,null,null,null,0]
[null,null,null,null,null,null,null,null,null,null,0]
[null,null,null,null,null,null,null,null,null,null,0]
[null,null,null,null,null,null,null,null,null,null,0]
[null,null,null,null,null,null,null,null,null,null,0]
[null,null,null,null,null,null,null,null,null,null,0]
[null,null,null,null,null,null,null,null,null,null,0]
[null,null,null,null,null,null,null,null,null,null,0]
[null,null,null,null,null,null,null,null,null,null,0]
[null,null,null,null,null,null,null,null,null,null,0]
[null,null,null,null,null,null,null,null,null,null,0]
[null,null,null,null,null,null,null,null,null,null,0]
[null,null,null,null,null,null,null,null,null,null,0]
[null,null,null,null,null,null,null,null,null,null,0]
[null,null,null,null,null,null,null,null,null,null,0]
[null,null,null,null,null,null,null,null,null,null,0]
[null,null,null,null,null,null,null,null,null,null,0]
[null,null,null,null,null,null,null,null,null,null,{"$f":"SUM(C65:J65)","v":0}]
[null,null,null,null,null,null,null,null,null,null,{"$f":"SUM(C66:J66)","v":0}]
[null,null,null,null,null,null,null,null,null,null,0]
[null,null,null,null,null,null,null,null,null,null,0]
[null,null,null,null,null,null,null,null,null,null,0]
[null,null,null,null,null,null,null,null,null,null,0]
[null,null,null,null,null,null,null,null,null,null,0]
[null,null,null,null,null,null,null,null,null,null,0]
[null,null,null,null,null,null,null,null,null,null,0]
[null,null,null,null,null,null,null,null,null,null,0]
[null,null,null,null,null,null,null,null,null,null,0]
[null,null,null,null,null,null,null,null,null,null,0]
[null,null,null,null,null,null,null,null,null,null,0]
[null,null,null,null,null,null,null,null,null,null,0]
[null,null,null,null,null,null,null,null,null,null,0]
[null,null,null,null,null,null,null,null,null,null,0]
[null,null,null,null,null,null,null,null,null,null,0]
[null,null,null,null,null,null,null,null,null,null,0]
[null,null,null,null,null,null,null,null,null,null,0]
[null,null,null,null,null,null,null,null,null,null,0]
[null,null,null,null,null,null,null,null,null,null,0]
[null,null,null,null,null,null,null,null,null,null,0]
[null,null,null,null,null,null,null,null,null,null,0]
[null,null,null,null,null,null,null,null,null,null,0]
[null,null,null,null,null,null,null,null,null,null,0]
["TOT Jour",null,{"$f":"SUM(C40:C89)","v":0},{"$f":"SUM(D40:D89)","v":0},0,0,0,0,0,0]
["TOT Période",null,{"$f":"SUM(C90:J90)","v":0}]
[{"$f":"Accueil!B17","v":"Ordinateur"}]
[]
[]
["Période :",{"$f":"Accueil!$E14","v":"P2"},{"$f":"Accueil!$F14","v":"du"},{"$f":"Accueil!$G14","v":"2014-11-02"},{"$f":"Accueil!$H14","v":"au"},{"$f":"Accueil!$I14","v":"2014-12-18"}]
["Selectionnez la classe participant à l'atelier :"]
["NOM","Prénom",{"$f":"Accueil!B40","v":"2014-11-02"},{"$f":"Accueil!C40","v":"2014-11-03"},{"$f":"Accueil!D40","v":"2014-11-04"},{"$f":"Accueil!E40","v":"2014-11-05"},{"$f":"Accueil!F40","v":"2014-11-06"},{"$f":"Accueil!G40","v":"2014-11-07"},{"$f":"Accueil!H40","v":"2014-11-08"},{"$f":"Accueil!I40","v":"2014-11-08"},"TOT"]
[null,null,null,null,null,null,null,null,null,null,{"$f":"SUM(C98:J98)","v":0}]
[null,null,null,null,null,null,null,null,null,null,{"$f":"SUM(C99:J99)","v":0}]
[null,null,null,null,null,null,null,null,null,null,0]
[null,null,null,null,null,null,null,null,null,null,0]
[null,null,null,null,null,null,null,null,null,null,0]
[null,null,null,null,null,null,null,null,null,null,0]
[null,null,null,null,null,null,null,null,null,null,0]
[null,null,null,null,null,null,null,null,null,null,0]
[null,null,null,null,null,null,null,null,null,null,0]
[null,null,null,null,null,null,null,null,null,null,0]
[null,null,null,null,null,null,null,null,null,null,0]
[null,null,null,null,null,null,null,null,null,null,0]
[null,null,null,null,null,null,null,null,null,null,0]
[null,null,null,null,null,null,null,null,null,null,0]
[null,null,null,null,null,null,null,null,null,null,0]
[null,null,null,null,null,null,null,null,null,null,0]
[null,null,null,null,null,null,null,null,null,null,0]
[null,null,null,null,null,null,null,null,null,null,0]
[null,null,null,null,null,null,null,null,null,null,0]
[null,null,null,null,null,null,null,null,null,null,0]
[null,null,null,null,null,null,null,null,null,null,0]
[null,null,null,null,null,null,null,null,null,null,0]
[null,null,null,null,null,null,null,null,null,null,0]
[null,null,null,null,null,null,null,null,null,null,0]
[null,null,null,null,null,null,null,null,null,null,0]
[null,null,null,null,null,null,null,null,null,null,{"$f":"SUM(C123:J123)","v":0}]
[null,null,null,null,null,null,null,null,null,null,{"$f":"SUM(C124:J124)","v":0}]
[null,null,null,null,null,null,null,null,null,null,0]
[null,null,null,null,null,null,null,null,null,null,0]
[null,null,null,null,null,null,null,null,null,null,0]
[null,null,null,null,null,null,null,null,null,null,0]
[null,null,null,null,null,null,null,null,null,null,0]
[null,null,null,null,null,null,null,null,null,null,0]
[null,null,null,null,null,null,null,null,null,null,0]
[null,null,null,null,null,null,null,null,null,null,0]
[null,null,null,null,null,null,null,null,null,null,0]
[null,null,null,null,null,null,null,null,null,null,0]
[null,null,null,null,null,null,null,null,null,null,0]
[null,null,null,null,null,null,null,null,null,null,0]
[null,null,null,null,null,null,null,null,null,null,0]
[null,null,null,null,null,null,null,null,null,null,0]
[null,null,null,null,null,null,null,null,null,null,0]
[null,null,null,null,null,null,null,null,null,null,0]
[null,null,null,null,null,null,null,null,null,null,0]
[null,null,null,null,null,null,null,null,null,null,0]
[null,null,null,null,null,null,null,null,null,null,0]
[null,null,null,null,null,null,null,null,null,null,0]
[null,null,null,null,null,null,null,null,null,null,0]
[null,null,null,null,null,null,null,null,null,null,0]
[null,null,null,null,null,null,null,null,null,null,0]
["TOT Jour",null,{"$f":"SUM(C98:C147)","v":0},{"$f":"SUM(D98:D147)","v":0},0,0,0,0,0,0]
["TOT Période",null,{"$f":"SUM(C148:J148)","v":0}]
[{"$f":"Accueil!B17","v":"Ordinateur"}]
[]
[]
["Période :",{"$f":"Accueil!E16","v":"P3"},{"$f":"Accueil!$F16","v":"du"},{"$f":"Accueil!$G16","v":"2015-01-04"},{"$f":"Accueil!$H16","v":"au"},{"$f":"Accueil!$I16","v":"2015-02-20"}]
["Selectionnez la classe participant à l'atelier :"]
["NOM","Prénom",{"$f":"Accueil!B42","v":"2015-01-04"},{"$f":"Accueil!C42","v":"2015-01-04"},{"$f":"Accueil!D42","v":"2015-01-04"},{"$f":"Accueil!E42","v":"2015-01-04"},{"$f":"Accueil!F42","v":"2015-01-04"},{"$f":"Accueil!G42","v":"2015-01-04"},{"$f":"Accueil!H42","v":"2015-01-04"},{"$f":"Accueil!I42","v":"2015-01-04"},"TOT"]
[null,null,null,null,null,null,null,null,null,null,{"$f":"SUM(C156:J156)","v":0}]
[null,null,null,null,null,null,null,null,null,null,{"$f":"SUM(C157:J157)","v":0}]
[null,null,null,null,null,null,null,null,null,null,0]
[null,null,null,null,null,null,null,null,null,null,0]
[null,null,null,null,null,null,null,null,null,null,0]
[null,null,null,null,null,null,null,null,null,null,0]
[null,null,null,null,null,null,null,null,null,null,0]
[null,null,null,null,null,null,null,null,null,null,0]
[null,null,null,null,null,null,null,null,null,null,0]
[null,null,null,null,null,null,null,null,null,null,0]
[null,null,null,null,null,null,null,null,null,null,0]
[null,null,null,null,null,null,null,null,null,null,0]
[null,null,null,null,null,null,null,null,null,null,0]
[null,null,null,null,null,null,null,null,null,null,0]
[null,null,null,null,null,null,null,null,null,null,0]
[null,null,null,null,null,null,null,null,null,null,0]
[null,null,null,null,null,null,null,null,null,null,0]
[null,null,null,null,null,null,null,null,null,null,0]
[null,null,null,null,null,null,null,null,null,null,0]
[null,null,null,null,null,null,null,null,null,null,0]
[null,null,null,null,null,null,null,null,null,null,0]
[null,null,null,null,null,null,null,null,null,null,0]
[null,null,null,null,null,null,null,null,null,null,0]
[null,null,null,null,null,null,null,null,null,null,0]
[null,null,null,null,null,null,null,null,null,null,0]
[null,null,null,null,null,null,null,null,null,null,{"$f":"SUM(C181:J181)","v":0}]
[null,null,null,null,null,null,null,null,null,null,{"$f":"SUM(C182:J182)","v":0}]
[null,null,null,null,null,null,null,null,null,null,0]
[null,null,null,null,null,null,null,null,null,null,0]
[null,null,null,null,null,null,null,null,null,null,0]
[null,null,null,null,null,null,null,null,null,null,0]
[null,null,null,null,null,null,null,null,null,null,0]
[null,null,null,null,null,null,null,null,null,null,0]
[null,null,null,null,null,null,null,null,null,null,0]
[null,null,null,null,null,null,null,null,null,null,0]
[null,null,null,null,null,null,null,null,null,null,0]
[null,null,null,null,null,null,null,null,null,null,0]
[null,null,null,null,null,null,null,null,null,null,0]
[null,null,null,null,null,null,null,null,null,null,0]
[null,null,null,null,null,null,null,null,null,null,0]
[null,null,null,null,null,null,null,null,null,null,0]
[null,null,null,null,null,null,null,null,null,null,0]
[null,null,null,null,null,null,null,null,null,null,0]
[null,null,null,null,null,null,null,null,null,null,0]
[null,null,null,null,null,null,null,null,null,null,0]
[null,null,null,null,null,null,null,null,null,null,0]
[null,null,null,null,null,null,null,null,null,null,0]
[null,null,null,null,null,null,null,null,null,null,0]
[null,null,null,null,null,null,null,null,null,null,0]
[null,null,null,null,null,null,null,null,null,null,0]
["TOT Jour",null,{"$f":"SUM(C156:C205)","v":0},{"$f":"SUM(D156:D205)","v":0},0,0,0,0,0,0]
["TOT Période",null,{"$f":"SUM(C206:J206)","v":0}]
[{"$f":"Accueil!B17","v":"Ordinateur"}]
[]
[]
["Période :",{"$f":"Accueil!E18","v":"P4"},{"$f":"Accueil!$F18","v":"du"},{"$f":"Accueil!$G18","v":"2015-03-08"},{"$f":"Accueil!$H18","v":"au"},{"$f":"Accueil!$I18","v":"2015-04-15"}]
["Selectionnez la classe participant à l'atelier :"]
["NOM","Prénom",{"$f":"Accueil!B44","v":"2015-03-08"},{"$f":"Accueil!C44","v":"2015-03-08"},{"$f":"Accueil!D44","v":"2015-03-08"},{"$f":"Accueil!E44","v":"2015-03-08"},{"$f":"Accueil!F44","v":"2015-03-08"},{"$f":"Accueil!G44","v":"2015-03-08"},{"$f":"Accueil!H44","v":"2015-03-08"},{"$f":"Accueil!I44","v":"2015-03-08"},"TOT"]
[null,null,null,null,null,null,null,null,null,null,{"$f":"SUM(C214:J214)","v":0}]
[null,null,null,null,null,null,null,null,null,null,{"$f":"SUM(C215:J215)","v":0}]
[null,null,null,null,null,null,null,null,null,null,0]
[null,null,null,null,null,null,null,null,null,null,0]
[null,null,null,null,null,null,null,null,null,null,0]
[null,null,null,null,null,null,null,null,null,null,0]
[null,null,null,null,null,null,null,null,null,null,0]
[null,null,null,null,null,null,null,null,null,null,0]
[null,null,null,null,null,null,null,null,null,null,0]
[null,null,null,null,null,null,null,null,null,null,0]
[null,null,null,null,null,null,null,null,null,null,0]
[null,null,null,null,null,null,null,null,null,null,0]
[null,null,null,null,null,null,null,null,null,null,0]
[null,null,null,null,null,null,null,null,null,null,0]
[null,null,null,null,null,null,null,null,null,null,0]
[null,null,null,null,null,null,null,null,null,null,0]
[null,null,null,null,null,null,null,null,null,null,0]
[null,null,null,null,null,null,null,null,null,null,0]
[null,null,null,null,null,null,null,null,null,null,0]
[null,null,null,null,null,null,null,null,null,null,0]
[null,null,null,null,null,null,null,null,null,null,0]
[null,null,null,null,null,null,null,null,null,null,0]
[null,null,null,null,null,null,null,null,null,null,0]
[null,null,null,null,null,null,null,null,null,null,0]
[null,null,null,null,null,null,null,null,null,null,0]
[null,null,null,null,null,null,null,null,null,null,{"$f":"SUM(C239:J239)","v":0}]
[null,null,null,null,null,null,null,null,null,null,{"$f":"SUM(C240:J240)","v":0}]
[null,null,null,null,null,null,null,null,null,null,0]
[null,null,null,null,null,null,null,null,null,null,0]
[null,null,null,null,null,null,null,null,null,null,0]
[null,null,null,null,null,null,null,null,null,null,0]
[null,null,null,null,null,null,null,null,null,null,0]
[null,null,null,null,null,null,null,null,null,null,0]
[null,null,null,null,null,null,null,null,null,null,0]
[null,null,null,null,null,null,null,null,null,null,0]
[null,null,null,null,null,null,null,null,null,null,0]
[null,null,null,null,null,null,null,null,null,null,0]
[null,null,null,null,null,null,null,null,null,null,0]
[null,null,null,null,null,null,null,null,null,null,0]
[null,null,null,null,null,null,null,null,null,null,0]
[null,null,null,null,null,null,null,null,null,null,0]
[null,null,null,null,null,null,null,null,null,null,0]
[null,null,null,null,null,null,null,null,null,null,0]
[null,null,null,null,null,null,null,null,null,null,0]
[null,null,null,null,null,null,null,null,null,null,0]
[null,null,null,null,null,null,null,null,null,null,0]
[null,null,null,null,null,null,null,null,null,null,0]
[null,null,null,null,null,null,null,null,null,null,0]
[null,null,null,null,null,null,null,null,null,null,0]
[null,null,null,null,null,null,null,null,null,null,0]
["TOT Jour",null,{"$f":"SUM(C214:C263)","v":0},{"$f":"SUM(D214:D263)","v":0},0,0,0,0,0,0]
["TOT Période",null,{"$f":"SUM(C264:J264)","v":0}]
[{"$f":"Accueil!B17","v":"Ordinateur"}]
[]
[]
["Période :",{"$f":"Accueil!E20","v":"P5"},{"$f":"Accueil!$F20","v":"du"},{"$f":"Accueil!$G20","v":"2015-05-03"},{"$f":"Accueil!$H20","v":"au"},{"$f":"Accueil!$I20","v":"2015-07-03"}]
["Selectionnez la classe participant à l'atelier :"]
["NOM","Prénom",{"$f":"Accueil!B46","v":"2015-05-03"},{"$f":"Accueil!C46","v":"2015-05-03"},{"$f":"Accueil!D46","v":"2015-05-03"},{"$f":"Accueil!E46","v":"2015-05-03"},{"$f":"Accueil!F46","v":"2015-05-03"},{"$f":"Accueil!G46","v":"2015-05-03"},{"$f":"Accueil!H46","v":"2015-05-03"},{"$f":"Accueil!I46","v":"2015-05-03"},"TOT"]
[null,null,null,null,null,null,null,null,null,null,{"$f":"SUM(C272:J272)","v":0}]
[null,null,null,null,null,null,null,null,null,null,{"$f":"SUM(C273:J273)","v":0}]
[null,null,null,null,null,null,null,null,null,null,0]
[null,null,null,null,null,null,null,null,null,null,0]
[null,null,null,null,null,null,null,null,null,null,0]
[null,null,null,null,null,null,null,null,null,null,0]
[null,null,null,null,null,null,null,null,null,null,0]
[null,null,null,null,null,null,null,null,null,null,0]
[null,null,null,null,null,null,null,null,null,null,0]
[null,null,null,null,null,null,null,null,null,null,0]
[null,null,null,null,null,null,null,null,null,null,0]
[null,null,null,null,null,null,null,null,null,null,0]
[null,null,null,null,null,null,null,null,null,null,0]
[null,null,null,null,null,null,null,null,null,null,0]
[null,null,null,null,null,null,null,null,null,null,0]
[null,null,null,null,null,null,null,null,null,null,0]
[null,null,null,null,null,null,null,null,null,null,0]
[null,null,null,null,null,null,null,null,null,null,0]
[null,null,null,null,null,null,null,null,null,null,0]
[null,null,null,null,null,null,null,null,null,null,0]
[null,null,null,null,null,null,null,null,null,null,0]
[null,null,null,null,null,null,null,null,null,null,0]
[null,null,null,null,null,null,null,null,null,null,0]
[null,null,null,null,null,null,null,null,null,null,0]
[null,null,null,null,null,null,null,null,null,null,0]
[null,null,null,null,null,null,null,null,null,null,{"$f":"SUM(C297:J297)","v":0}]
[null,null,null,null,null,null,null,null,null,null,{"$f":"SUM(C298:J298)","v":0}]
[null,null,null,null,null,null,null,null,null,null,0]
[null,null,null,null,null,null,null,null,null,null,0]
[null,null,null,null,null,null,null,null,null,null,0]
[null,null,null,null,null,null,null,null,null,null,0]
[null,null,null,null,null,null,null,null,null,null,0]
[null,null,null,null,null,null,null,null,null,null,0]
[null,null,null,null,null,null,null,null,null,null,0]
[null,null,null,null,null,null,null,null,null,null,0]
[null,null,null,null,null,null,null,null,null,null,0]
[null,null,null,null,null,null,null,null,null,null,0]
[null,null,null,null,null,null,null,null,null,null,0]
[null,null,null,null,null,null,null,null,null,null,0]
[null,null,null,null,null,null,null,null,null,null,0]
[null,null,null,null,null,null,null,null,null,null,0]
[null,null,null,null,null,null,null,null,null,null,0]
[null,null,null,null,null,null,null,null,null,null,0]
[null,null,null,null,null,null,null,null,null,null,0]
[null,null,null,null,null,null,null,null,null,null,0]
[null,null,null,null,null,null,null,null,null,null,0]
[null,null,null,null,null,null,null,null,null,null,0]
[null,null,null,null,null,null,null,null,null,null,0]
[null,null,null,null,null,null,null,null,null,null,0]
[null,null,null,null,null,null,null,null,null,null,0]
["TOT Jour",null,{"$f":"SUM(C272:C321)","v":0},{"$f":"SUM(D272:D321)","v":0},0,0,0,0,0,0]
["TOT Période",null,{"$f":"SUM(C322:J322)","v":0}]
["Statistiques"]
[]
[]
["Nombre d'heure de fréquentation :"]
[{"$f":"Accueil!$E12","v":"P1"},{"$f":"$C$91*1.5","v":0},"heures de présence pour cet atelier et pour cette période"]
[{"$f":"Accueil!$E14","v":"P2"},{"$f":"$C$149*1.5","v":0},"heures de présence pour cet atelier et pour cette période"]
[{"$f":"Accueil!$E16","v":"P3"},{"$f":"$C$207*1.5","v":0},"heures de présence pour cet atelier et pour cette période"]
[{"$f":"Accueil!$E18","v":"P4"},{"$f":"$C$265*1.5","v":0},"heures de présence pour cet atelier et pour cette période"]
[{"$f":"Accueil!$E20","v":"P5"},{"$f":"$C$323*1.5","v":0},"heures de présence pour cet atelier et pour cette période"]
["TOT",{"$f":"SUM($B$328:$B$332)","v":0},"heures de présence pour cet atelier et pour l'année"]

{"sheet":"Piège","index":14,"n_rows":333,"n_cols":11,"rows_kept":333,"cut":false,"hidden":false,"merged":[[16,2,16,9],[33,0,34,10],[37,0,37,3],[37,4,37,5],[89,0,89,1],[90,0,90,1],[90,2,90,9],[91,0,92,10],[95,0,95,3],[95,4,95,5],[147,0,147,1],[148,0,148,1],[148,2,148,9],[149,0,150,10],[153,0,153,3],[153,4,153,5],[263,0,263,1],[264,0,264,1],[264,2,264,9],[205,0,205,1],[206,0,206,1],[206,2,206,9],[207,0,208,10],[211,0,211,3],[211,4,211,5],[331,2,331,6],[332,2,332,6],[8,1,15,9],[323,0,324,10],[327,2,327,6],[328,2,328,6],[329,2,329,6],[330,2,330,6],[265,0,266,10],[269,0,269,3],[269,4,269,5],[321,0,321,1],[322,0,322,1],[322,2,322,9],[17,0,18,10],[19,0,22,10]]}
[]
[]
[]
[]
[]
[]
[]
[]
[null,{"$f":"Accueil!B18","v":"Piège"}]
[]
[]
[]
[]
[]
[]
[]
[null,{"$f":"Machin!B17","v":"Avec :"},{"$f":"Accueil!C18","v":0}]
[{"$f":"Machin!$A$28","v":"ATTENTION !"}]
[]
[{"$f":"Machin!$A$30","v":"Vous ne devez pas ajouter ou supprimer les enfants depuis cette feuille ! \nPour ajouter des enfants dans cet atelier -> Aller dans la feuille de la classe des enfants et suivre les instructions.\nPour supprimer des enfants de cet atelier -> Aller dans la feuille de la classe des enfants et suivre les instructions."}]
[]
[]
[]
[]
[]
[]
[]
[]
[]
[]
[]
[]
[]
[{"$f":"Accueil!B18","v":"Piège"}]
[]
[]
["Période :",{"$f":"Accueil!$E$12","v":"P1"},{"$f":"Accueil!$F$12","v":"du"},{"$f":"Accueil!$G$12","v":"2014-09-02"},{"$f":"Accueil!$H$12","v":"au"},{"$f":"Accueil!$I$12","v":"2014-10-17"}]
["Selectionnez la classe participant à l'atelier :"]
["NOM","Prénom",{"$f":"Accueil!$B$38","v":"2014-09-02"},{"$f":"Accueil!$C$38","v":"2014-09-03"},{"$f":"Accueil!$D$38","v":"2014-09-04"},{"$f":"Accueil!$E$38","v":"2014-09-05"},{"$f":"Accueil!$F$38","v":"2014-09-06"},{"$f":"Accueil!$G$38","v":"2014-09-07"},{"$f":"Accueil!$H$38","v":"2014-09-08"},{"$f":"Accueil!$I$38","v":"2014-09-08"},"TOT"]
[null,null,null,null,null,null,null,null,null,null,{"$f":"SUM(C40:J40)","v":0}]
[null,null,null,null,null,null,null,null,null,null,{"$f":"SUM(C41:J41)","v":0}]
[null,null,null,null,null,null,null,null,null,null,0]
[null,null,null,null,null,null,null,null,null,null,0]
[null,null,null,null,null,null,null,null,null,null,0]
[null,null,null,null,null,null,null,null,null,null,0]
[null,null,null,null,null,null,null,null,null,null,0]
[null,null,null,null,null,null,null,null,null,null,0]
[null,null,null,null,null,null,null,null,null,null,0]
[null,null,null,null,null,null,null,null,null,null,0]
[null,null,null,null,null,null,null,null,null,null,0]
[null,null,null,null,null,null,null,null,null,null,0]
[null,null,null,null,null,null,null,null,null,null,0]
[null,null,null,null,null,null,null,null,null,null,0]
[null,null,null,null,null,null,null,null,null,null,0]
[null,null,null,null,null,null,null,null,null,null,0]
[null,null,null,null,null,null,null,null,null,null,0]
[null,null,null,null,null,null,null,null,null,null,0]
[null,null,null,null,null,null,null,null,null,null,0]
[null,null,null,null,null,null,null,null,null,null,0]
[null,null,null,null,null,null,null,null,null,null,0]
[null,null,null,null,null,null,null,null,null,null,0]
[null,null,null,null,null,null,null,null,null,null,0]
[null,null,null,null,null,null,null,null,null,null,0]
[null,null,null,null,null,null,null,null,null,null,0]
[null,null,null,null,null,null,null,null,null,null,{"$f":"SUM(C65:J65)","v":0}]
[null,null,null,null,null,null,null,null,null,null,{"$f":"SUM(C66:J66)","v":0}]
[null,null,null,null,null,null,null,null,null,null,0]
[null,null,null,null,null,null,null,null,null,null,0]
[null,null,null,null,null,null,null,null,null,null,0]
[null,null,null,null,null,null,null,null,null,null,0]
[null,null,null,null,null,null,null,null,null,null,0]
[null,null,null,null,null,null,null,null,null,null,0]
[null,null,null,null,null,null,null,null,null,null,0]
[null,null,null,null,null,null,null,null,null,null,0]
[null,null,null,null,null,null,null,null,null,null,0]
[null,null,null,null,null,null,null,null,null,null,0]
[null,null,null,null,null,null,null,null,null,null,0]
[null,null,null,null,null,null,null,null,null,null,0]
[null,null,null,null,null,null,null,null,null,null,0]
[null,null,null,null,null,null,null,null,null,null,0]
[null,null,null,null,null,null,null,null,null,null,0]
[null,null,null,null,null,null,null,null,null,null,0]
[null,null,null,null,null,null,null,null,null,null,0]
[null,null,null,null,null,null,null,null,null,null,0]
[null,null,null,null,null,null,null,null,null,null,0]
[null,null,null,null,null,null,null,null,null,null,0]
[null,null,null,null,null,null,null,null,null,null,0]
[null,null,null,null,null,null,null,null,null,null,0]
[null,null,null,null,null,null,null,null,null,null,0]
["TOT Jour",null,{"$f":"SUM(C40:C89)","v":0},{"$f":"SUM(D40:D89)","v":0},0,0,0,0,0,0]
["TOT Période",null,{"$f":"SUM(C90:J90)","v":0}]
[{"$f":"Accueil!B18","v":"Piège"}]
[]
[]
["Période :",{"$f":"Accueil!$E14","v":"P2"},{"$f":"Accueil!$F14","v":"du"},{"$f":"Accueil!$G14","v":"2014-11-02"},{"$f":"Accueil!$H14","v":"au"},{"$f":"Accueil!$I14","v":"2014-12-18"}]
["Selectionnez la classe participant à l'atelier :"]
["NOM","Prénom",{"$f":"Accueil!B40","v":"2014-11-02"},{"$f":"Accueil!C40","v":"2014-11-03"},{"$f":"Accueil!D40","v":"2014-11-04"},{"$f":"Accueil!E40","v":"2014-11-05"},{"$f":"Accueil!F40","v":"2014-11-06"},{"$f":"Accueil!G40","v":"2014-11-07"},{"$f":"Accueil!H40","v":"2014-11-08"},{"$f":"Accueil!I40","v":"2014-11-08"},"TOT"]
[null,null,null,null,null,null,null,null,null,null,{"$f":"SUM(C98:J98)","v":0}]
[null,null,null,null,null,null,null,null,null,null,{"$f":"SUM(C99:J99)","v":0}]
[null,null,null,null,null,null,null,null,null,null,0]
[null,null,null,null,null,null,null,null,null,null,0]
[null,null,null,null,null,null,null,null,null,null,0]
[null,null,null,null,null,null,null,null,null,null,0]
[null,null,null,null,null,null,null,null,null,null,0]
[null,null,null,null,null,null,null,null,null,null,0]
[null,null,null,null,null,null,null,null,null,null,0]
[null,null,null,null,null,null,null,null,null,null,0]
[null,null,null,null,null,null,null,null,null,null,0]
[null,null,null,null,null,null,null,null,null,null,0]
[null,null,null,null,null,null,null,null,null,null,0]
[null,null,null,null,null,null,null,null,null,null,0]
[null,null,null,null,null,null,null,null,null,null,0]
[null,null,null,null,null,null,null,null,null,null,0]
[null,null,null,null,null,null,null,null,null,null,0]
[null,null,null,null,null,null,null,null,null,null,0]
[null,null,null,null,null,null,null,null,null,null,0]
[null,null,null,null,null,null,null,null,null,null,0]
[null,null,null,null,null,null,null,null,null,null,0]
[null,null,null,null,null,null,null,null,null,null,0]
[null,null,null,null,null,null,null,null,null,null,0]
[null,null,null,null,null,null,null,null,null,null,0]
[null,null,null,null,null,null,null,null,null,null,0]
[null,null,null,null,null,null,null,null,null,null,{"$f":"SUM(C123:J123)","v":0}]
[null,null,null,null,null,null,null,null,null,null,{"$f":"SUM(C124:J124)","v":0}]
[null,null,null,null,null,null,null,null,null,null,0]
[null,null,null,null,null,null,null,null,null,null,0]
[null,null,null,null,null,null,null,null,null,null,0]
[null,null,null,null,null,null,null,null,null,null,0]
[null,null,null,null,null,null,null,null,null,null,0]
[null,null,null,null,null,null,null,null,null,null,0]
[null,null,null,null,null,null,null,null,null,null,0]
[null,null,null,null,null,null,null,null,null,null,0]
[null,null,null,null,null,null,null,null,null,null,0]
[null,null,null,null,null,null,null,null,null,null,0]
[null,null,null,null,null,null,null,null,null,null,0]
[null,null,null,null,null,null,null,null,null,null,0]
[null,null,null,null,null,null,null,null,null,null,0]
[null,null,null,null,null,null,null,null,null,null,0]
[null,null,null,null,null,null,null,null,null,null,0]
[null,null,null,null,null,null,null,null,null,null,0]
[null,null,null,null,null,null,null,null,null,null,0]
[null,null,null,null,null,null,null,null,null,null,0]
[null,null,null,null,null,null,null,null,null,null,0]
[null,null,null,null,null,null,null,null,null,null,0]
[null,null,null,null,null,null,null,null,null,null,0]
[null,null,null,null,null,null,null,null,null,null,0]
[null,null,null,null,null,null,null,null,null,null,0]
["TOT Jour",null,{"$f":"SUM(C98:C147)","v":0},{"$f":"SUM(D98:D147)","v":0},0,0,0,0,0,0]
["TOT Période",null,{"$f":"SUM(C148:J148)","v":0}]
[{"$f":"Accueil!B18","v":"Piège"}]
[]
[]
["Période :",{"$f":"Accueil!E16","v":"P3"},{"$f":"Accueil!$F16","v":"du"},{"$f":"Accueil!$G16","v":"2015-01-04"},{"$f":"Accueil!$H16","v":"au"},{"$f":"Accueil!$I16","v":"2015-02-20"}]
["Selectionnez la classe participant à l'atelier :"]
["NOM","Prénom",{"$f":"Accueil!B42","v":"2015-01-04"},{"$f":"Accueil!C42","v":"2015-01-04"},{"$f":"Accueil!D42","v":"2015-01-04"},{"$f":"Accueil!E42","v":"2015-01-04"},{"$f":"Accueil!F42","v":"2015-01-04"},{"$f":"Accueil!G42","v":"2015-01-04"},{"$f":"Accueil!H42","v":"2015-01-04"},{"$f":"Accueil!I42","v":"2015-01-04"},"TOT"]
[null,null,null,null,null,null,null,null,null,null,{"$f":"SUM(C156:J156)","v":0}]
[null,null,null,null,null,null,null,null,null,null,{"$f":"SUM(C157:J157)","v":0}]
[null,null,null,null,null,null,null,null,null,null,0]
[null,null,null,null,null,null,null,null,null,null,0]
[null,null,null,null,null,null,null,null,null,null,0]
[null,null,null,null,null,null,null,null,null,null,0]
[null,null,null,null,null,null,null,null,null,null,0]
[null,null,null,null,null,null,null,null,null,null,0]
[null,null,null,null,null,null,null,null,null,null,0]
[null,null,null,null,null,null,null,null,null,null,0]
[null,null,null,null,null,null,null,null,null,null,0]
[null,null,null,null,null,null,null,null,null,null,0]
[null,null,null,null,null,null,null,null,null,null,0]
[null,null,null,null,null,null,null,null,null,null,0]
[null,null,null,null,null,null,null,null,null,null,0]
[null,null,null,null,null,null,null,null,null,null,0]
[null,null,null,null,null,null,null,null,null,null,0]
[null,null,null,null,null,null,null,null,null,null,0]
[null,null,null,null,null,null,null,null,null,null,0]
[null,null,null,null,null,null,null,null,null,null,0]
[null,null,null,null,null,null,null,null,null,null,0]
[null,null,null,null,null,null,null,null,null,null,0]
[null,null,null,null,null,null,null,null,null,null,0]
[null,null,null,null,null,null,null,null,null,null,0]
[null,null,null,null,null,null,null,null,null,null,0]
[null,null,null,null,null,null,null,null,null,null,{"$f":"SUM(C181:J181)","v":0}]
[null,null,null,null,null,null,null,null,null,null,{"$f":"SUM(C182:J182)","v":0}]
[null,null,null,null,null,null,null,null,null,null,0]
[null,null,null,null,null,null,null,null,null,null,0]
[null,null,null,null,null,null,null,null,null,null,0]
[null,null,null,null,null,null,null,null,null,null,0]
[null,null,null,null,null,null,null,null,null,null,0]
[null,null,null,null,null,null,null,null,null,null,0]
[null,null,null,null,null,null,null,null,null,null,0]
[null,null,null,null,null,null,null,null,null,null,0]
[null,null,null,null,null,null,null,null,null,null,0]
[null,null,null,null,null,null,null,null,null,null,0]
[null,null,null,null,null,null,null,null,null,null,0]
[null,null,null,null,null,null,null,null,null,null,0]
[null,null,null,null,null,null,null,null,null,null,0]
[null,null,null,null,null,null,null,null,null,null,0]
[null,null,null,null,null,null,null,null,null,null,0]
[null,null,null,null,null,null,null,null,null,null,0]
[null,null,null,null,null,null,null,null,null,null,0]
[null,null,null,null,null,null,null,null,null,null,0]
[null,null,null,null,null,null,null,null,null,null,0]
[null,null,null,null,null,null,null,null,null,null,0]
[null,null,null,null,null,null,null,null,null,null,0]
[null,null,null,null,null,null,null,null,null,null,0]
[null,null,null,null,null,null,null,null,null,null,0]
["TOT Jour",null,{"$f":"SUM(C156:C205)","v":0},{"$f":"SUM(D156:D205)","v":0},0,0,0,0,0,0]
["TOT Période",null,{"$f":"SUM(C206:J206)","v":0}]
[{"$f":"Accueil!B18","v":"Piège"}]
[]
[]
["Période :",{"$f":"Accueil!E18","v":"P4"},{"$f":"Accueil!$F18","v":"du"},{"$f":"Accueil!$G18","v":"2015-03-08"},{"$f":"Accueil!$H18","v":"au"},{"$f":"Accueil!$I18","v":"2015-04-15"}]
["Selectionnez la classe participant à l'atelier :"]
["NOM","Prénom",{"$f":"Accueil!B44","v":"2015-03-08"},{"$f":"Accueil!C44","v":"2015-03-08"},{"$f":"Accueil!D44","v":"2015-03-08"},{"$f":"Accueil!E44","v":"2015-03-08"},{"$f":"Accueil!F44","v":"2015-03-08"},{"$f":"Accueil!G44","v":"2015-03-08"},{"$f":"Accueil!H44","v":"2015-03-08"},{"$f":"Accueil!I44","v":"2015-03-08"},"TOT"]
[null,null,null,null,null,null,null,null,null,null,{"$f":"SUM(C214:J214)","v":0}]
[null,null,null,null,null,null,null,null,null,null,{"$f":"SUM(C215:J215)","v":0}]
[null,null,null,null,null,null,null,null,null,null,0]
[null,null,null,null,null,null,null,null,null,null,0]
[null,null,null,null,null,null,null,null,null,null,0]
[null,null,null,null,null,null,null,null,null,null,0]
[null,null,null,null,null,null,null,null,null,null,0]
[null,null,null,null,null,null,null,null,null,null,0]
[null,null,null,null,null,null,null,null,null,null,0]
[null,null,null,null,null,null,null,null,null,null,0]
[null,null,null,null,null,null,null,null,null,null,0]
[null,null,null,null,null,null,null,null,null,null,0]
[null,null,null,null,null,null,null,null,null,null,0]
[null,null,null,null,null,null,null,null,null,null,0]
[null,null,null,null,null,null,null,null,null,null,0]
[null,null,null,null,null,null,null,null,null,null,0]
[null,null,null,null,null,null,null,null,null,null,0]
[null,null,null,null,null,null,null,null,null,null,0]
[null,null,null,null,null,null,null,null,null,null,0]
[null,null,null,null,null,null,null,null,null,null,0]
[null,null,null,null,null,null,null,null,null,null,0]
[null,null,null,null,null,null,null,null,null,null,0]
[null,null,null,null,null,null,null,null,null,null,0]
[null,null,null,null,null,null,null,null,null,null,0]
[null,null,null,null,null,null,null,null,null,null,0]
[null,null,null,null,null,null,null,null,null,null,{"$f":"SUM(C239:J239)","v":0}]
[null,null,null,null,null,null,null,null,null,null,{"$f":"SUM(C240:J240)","v":0}]
[null,null,null,null,null,null,null,null,null,null,0]
[null,null,null,null,null,null,null,null,null,null,0]
[null,null,null,null,null,null,null,null,null,null,0]
[null,null,null,null,null,null,null,null,null,null,0]
[null,null,null,null,null,null,null,null,null,null,0]
[null,null,null,null,null,null,null,null,null,null,0]
[null,null,null,null,null,null,null,null,null,null,0]
[null,null,null,null,null,null,null,null,null,null,0]
[null,null,null,null,null,null,null,null,null,null,0]
[null,null,null,null,null,null,null,null,null,null,0]
[null,null,null,null,null,null,null,null,null,null,0]
[null,null,null,null,null,null,null,null,null,null,0]
[null,null,null,null,null,null,null,null,null,null,0]
[null,null,null,null,null,null,null,null,null,null,0]
[null,null,null,null,null,null,null,null,null,null,0]
[null,null,null,null,null,null,null,null,null,null,0]
[null,null,null,null,null,null,null,null,null,null,0]
[null,null,null,null,null,null,null,null,null,null,0]
[null,null,null,null,null,null,null,null,null,null,0]
[null,null,null,null,null,null,null,null,null,null,0]
[null,null,null,null,null,null,null,null,null,null,0]
[null,null,null,null,null,null,null,null,null,null,0]
[null,null,null,null,null,null,null,null,null,null,0]
["TOT Jour",null,{"$f":"SUM(C214:C263)","v":0},{"$f":"SUM(D214:D263)","v":0},0,0,0,0,0,0]
["TOT Période",null,{"$f":"SUM(C264:J264)","v":0}]
[{"$f":"Accueil!B18","v":"Piège"}]
[]
[]
["Période :",{"$f":"Accueil!E20","v":"P5"},{"$f":"Accueil!$F20","v":"du"},{"$f":"Accueil!$G20","v":"2015-05-03"},{"$f":"Accueil!$H20","v":"au"},{"$f":"Accueil!$I20","v":"2015-07-03"}]
["Selectionnez la classe participant à l'atelier :"]
["NOM","Prénom",{"$f":"Accueil!B46","v":"2015-05-03"},{"$f":"Accueil!C46","v":"2015-05-03"},{"$f":"Accueil!D46","v":"2015-05-03"},{"$f":"Accueil!E46","v":"2015-05-03"},{"$f":"Accueil!F46","v":"2015-05-03"},{"$f":"Accueil!G46","v":"2015-05-03"},{"$f":"Accueil!H46","v":"2015-05-03"},{"$f":"Accueil!I46","v":"2015-05-03"},"TOT"]
[null,null,null,null,null,null,null,null,null,null,{"$f":"SUM(C272:J272)","v":0}]
[null,null,null,null,null,null,null,null,null,null,{"$f":"SUM(C273:J273)","v":0}]
[null,null,null,null,null,null,null,null,null,null,0]
[null,null,null,null,null,null,null,null,null,null,0]
[null,null,null,null,null,null,null,null,null,null,0]
[null,null,null,null,null,null,null,null,null,null,0]
[null,null,null,null,null,null,null,null,null,null,0]
[null,null,null,null,null,null,null,null,null,null,0]
[null,null,null,null,null,null,null,null,null,null,0]
[null,null,null,null,null,null,null,null,null,null,0]
[null,null,null,null,null,null,null,null,null,null,0]
[null,null,null,null,null,null,null,null,null,null,0]
[null,null,null,null,null,null,null,null,null,null,0]
[null,null,null,null,null,null,null,null,null,null,0]
[null,null,null,null,null,null,null,null,null,null,0]
[null,null,null,null,null,null,null,null,null,null,0]
[null,null,null,null,null,null,null,null,null,null,0]
[null,null,null,null,null,null,null,null,null,null,0]
[null,null,null,null,null,null,null,null,null,null,0]
[null,null,null,null,null,null,null,null,null,null,0]
[null,null,null,null,null,null,null,null,null,null,0]
[null,null,null,null,null,null,null,null,null,null,0]
[null,null,null,null,null,null,null,null,null,null,0]
[null,null,null,null,null,null,null,null,null,null,0]
[null,null,null,null,null,null,null,null,null,null,0]
[null,null,null,null,null,null,null,null,null,null,{"$f":"SUM(C297:J297)","v":0}]
[null,null,null,null,null,null,null,null,null,null,{"$f":"SUM(C298:J298)","v":0}]
[null,null,null,null,null,null,null,null,null,null,0]
[null,null,null,null,null,null,null,null,null,null,0]
[null,null,null,null,null,null,null,null,null,null,0]
[null,null,null,null,null,null,null,null,null,null,0]
[null,null,null,null,null,null,null,null,null,null,0]
[null,null,null,null,null,null,null,null,null,null,0]
[null,null,null,null,null,null,null,null,null,null,0]
[null,null,null,null,null,null,null,null,null,null,0]
[null,null,null,null,null,null,null,null,null,null,0]
[null,null,null,null,null,null,null,null,null,null,0]
[null,null,null,null,null,null,null,null,null,null,0]
[null,null,null,null,null,null,null,null,null,null,0]
[null,null,null,null,null,null,null,null,null,null,0]
[null,null,null,null,null,null,null,null,null,null,0]
[null,null,null,null,null,null,null,null,null,null,0]
[null,null,null,null,null,null,null,null,null,null,0]
[null,null,null,null,null,null,null,null,null,null,0]
[null,null,null,null,null,null,null,null,null,null,0]
[null,null,null,null,null,null,null,null,null,null,0]
[null,null,null,null,null,null,null,null,null,null,0]
[null,null,null,null,null,null,null,null,null,null,0]
[null,null,null,null,null,null,null,null,null,null,0]
[null,null,null,null,null,null,null,null,null,null,0]
["TOT Jour",null,{"$f":"SUM(C272:C321)","v":0},{"$f":"SUM(D272:D321)","v":0},0,0,0,0,0,0]
["TOT Période",null,{"$f":"SUM(C322:J322)","v":0}]
["Statistiques"]
[]
[]
["Nombre d'heure de fréquentation :"]
[{"$f":"Accueil!$E12","v":"P1"},{"$f":"$C$91*1.5","v":0},"heures de présence pour cet atelier et pour cette période"]
[{"$f":"Accueil!$E14","v":"P2"},{"$f":"$C$149*1.5","v":0},"heures de présence pour cet atelier et pour cette période"]
[{"$f":"Accueil!$E16","v":"P3"},{"$f":"$C$207*1.5","v":0},"heures de présence pour cet atelier et pour cette période"]
[{"$f":"Accueil!$E18","v":"P4"},{"$f":"$C$265*1.5","v":0},"heures de présence pour cet atelier et pour cette période"]
[{"$f":"Accueil!$E20","v":"P5"},{"$f":"$C$323*1.5","v":0},"heures de présence pour cet atelier et pour cette période"]
["TOT",{"$f":"SUM($B$328:$B$332)","v":0},"heures de présence pour cet atelier et pour l'année"]

{"sheet":"Plantes","index":15,"n_rows":333,"n_cols":11,"rows_kept":333,"cut":false,"hidden":false,"merged":[[16,2,16,9],[33,0,34,10],[37,0,37,3],[37,4,37,5],[89,0,89,1],[90,0,90,1],[90,2,90,9],[91,0,92,10],[95,0,95,3],[95,4,95,5],[147,0,147,1],[148,0,148,1],[148,2,148,9],[149,0,150,10],[153,0,153,3],[153,4,153,5],[263,0,263,1],[264,0,264,1],[264,2,264,9],[205,0,205,1],[206,0,206,1],[206,2,206,9],[207,0,208,10],[211,0,211,3],[211,4,211,5],[331,2,331,6],[332,2,332,6],[8,1,15,9],[323,0,324,10],[327,2,327,6],[328,2,328,6],[329,2,329,6],[330,2,330,6],[265,0,266,10],[269,0,269,3],[269,4,269,5],[321,0,321,1],[322,0,322,1],[322,2,322,9],[17,0,18,10],[19,0,22,10]]}
[]
[]
[]
[]
[]
[]
[]
[]
[null,{"$f":"Accueil!B19","v":"Plantes"}]
[]
[]
[]
[]
[]
[]
[]
[null,{"$f":"Machin!B17","v":"Avec :"},{"$f":"Accueil!C19","v":0}]
[{"$f":"Machin!$A$28","v":"ATTENTION !"}]
[]
[{"$f":"Machin!$A$30","v":"Vous ne devez pas ajouter ou supprimer les enfants depuis cette feuille ! \nPour ajouter des enfants dans cet atelier -> Aller dans la feuille de la classe des enfants et suivre les instructions.\nPour supprimer des enfants de cet atelier -> Aller dans la feuille de la classe des enfants et suivre les instructions."}]
[]
[]
[]
[]
[]
[]
[]
[]
[]
[]
[]
[]
[]
[{"$f":"Accueil!B19","v":"Plantes"}]
[]
[]
["Période :",{"$f":"Accueil!$E$12","v":"P1"},{"$f":"Accueil!$F$12","v":"du"},{"$f":"Accueil!$G$12","v":"2014-09-02"},{"$f":"Accueil!$H$12","v":"au"},{"$f":"Accueil!$I$12","v":"2014-10-17"}]
["Selectionnez la classe participant à l'atelier :"]
["NOM","Prénom",{"$f":"Accueil!$B$38","v":"2014-09-02"},{"$f":"Accueil!$C$38","v":"2014-09-03"},{"$f":"Accueil!$D$38","v":"2014-09-04"},{"$f":"Accueil!$E$38","v":"2014-09-05"},{"$f":"Accueil!$F$38","v":"2014-09-06"},{"$f":"Accueil!$G$38","v":"2014-09-07"},{"$f":"Accueil!$H$38","v":"2014-09-08"},{"$f":"Accueil!$I$38","v":"2014-09-08"},"TOT"]
[null,null,null,null,null,null,null,null,null,null,{"$f":"SUM(C40:J40)","v":0}]
[null,null,null,null,null,null,null,null,null,null,0]
[null,null,null,null,null,null,null,null,null,null,0]
[null,null,null,null,null,null,null,null,null,null,0]
[null,null,null,null,null,null,null,null,null,null,0]
[null,null,null,null,null,null,null,null,null,null,0]
[null,null,null,null,null,null,null,null,null,null,0]
[null,null,null,null,null,null,null,null,null,null,0]
[null,null,null,null,null,null,null,null,null,null,0]
[null,null,null,null,null,null,null,null,null,null,0]
[null,null,null,null,null,null,null,null,null,null,0]
[null,null,null,null,null,null,null,null,null,null,0]
[null,null,null,null,null,null,null,null,null,null,0]
[null,null,null,null,null,null,null,null,null,null,0]
[null,null,null,null,null,null,null,null,null,null,0]
[null,null,null,null,null,null,null,null,null,null,0]
[null,null,null,null,null,null,null,null,null,null,0]
[null,null,null,null,null,null,null,null,null,null,0]
[null,null,null,null,null,null,null,null,null,null,0]
[null,null,null,null,null,null,null,null,null,null,0]
[null,null,null,null,null,null,null,null,null,null,0]
[null,null,null,null,null,null,null,null,null,null,0]
[null,null,null,null,null,null,null,null,null,null,0]
[null,null,null,null,null,null,null,null,null,null,0]
[null,null,null,null,null,null,null,null,null,null,0]
[null,null,null,null,null,null,null,null,null,null,{"$f":"SUM(C65:J65)","v":0}]
[null,null,null,null,null,null,null,null,null,null,{"$f":"SUM(C66:J66)","v":0}]
[null,null,null,null,null,null,null,null,null,null,0]
[null,null,null,null,null,null,null,null,null,null,0]
[null,null,null,null,null,null,null,null,null,null,0]
[null,null,null,null,null,null,null,null,null,null,0]
[null,null,null,null,null,null,null,null,null,null,0]
[null,null,null,null,null,null,null,null,null,null,0]
[null,null,null,null,null,null,null,null,null,null,0]
[null,null,null,null,null,null,null,null,null,null,0]
[null,null,null,null,null,null,null,null,null,null,0]
[null,null,null,null,null,null,null,null,null,null,0]
[null,null,null,null,null,null,null,null,null,null,0]
[null,null,null,null,null,null,null,null,null,null,0]
[null,null,null,null,null,null,null,null,null,null,0]
[null,null,null,null,null,null,null,null,null,null,0]
[null,null,null,null,null,null,null,null,null,null,0]
[null,null,null,null,null,null,null,null,null,null,0]
[null,null,null,null,null,null,null,null,null,null,0]
[null,null,null,null,null,null,null,null,null,null,0]
[null,null,null,null,null,null,null,null,null,null,0]
[null,null,null,null,null,null,null,null,null,null,0]
[null,null,null,null,null,null,null,null,null,null,0]
[null,null,null,null,null,null,null,null,null,null,0]
[null,null,null,null,null,null,null,null,null,null,0]
["TOT Jour",null,{"$f":"SUM(C40:C89)","v":0},{"$f":"SUM(D40:D89)","v":0},0,0,0,0,0,0]
["TOT Période",null,{"$f":"SUM(C90:J90)","v":0}]
[{"$f":"Accueil!B19","v":"Plantes"}]
[]
[]
["Période :",{"$f":"Accueil!$E14","v":"P2"},{"$f":"Accueil!$F14","v":"du"},{"$f":"Accueil!$G14","v":"2014-11-02"},{"$f":"Accueil!$H14","v":"au"},{"$f":"Accueil!$I14","v":"2014-12-18"}]
["Selectionnez la classe participant à l'atelier :"]
["NOM","Prénom",{"$f":"Accueil!B40","v":"2014-11-02"},{"$f":"Accueil!C40","v":"2014-11-03"},{"$f":"Accueil!D40","v":"2014-11-04"},{"$f":"Accueil!E40","v":"2014-11-05"},{"$f":"Accueil!F40","v":"2014-11-06"},{"$f":"Accueil!G40","v":"2014-11-07"},{"$f":"Accueil!H40","v":"2014-11-08"},{"$f":"Accueil!I40","v":"2014-11-08"},"TOT"]
[null,null,null,null,null,null,null,null,null,null,{"$f":"SUM(C98:J98)","v":0}]
[null,null,null,null,null,null,null,null,null,null,{"$f":"SUM(C99:J99)","v":0}]
[null,null,null,null,null,null,null,null,null,null,0]
[null,null,null,null,null,null,null,null,null,null,0]
[null,null,null,null,null,null,null,null,null,null,0]
[null,null,null,null,null,null,null,null,null,null,0]
[null,null,null,null,null,null,null,null,null,null,0]
[null,null,null,null,null,null,null,null,null,null,0]
[null,null,null,null,null,null,null,null,null,null,0]
[null,null,null,null,null,null,null,null,null,null,0]
[null,null,null,null,null,null,null,null,null,null,0]
[null,null,null,null,null,null,null,null,null,null,0]
[null,null,null,null,null,null,null,null,null,null,0]
[null,null,null,null,null,null,null,null,null,null,0]
[null,null,null,null,null,null,null,null,null,null,0]
[null,null,null,null,null,null,null,null,null,null,0]
[null,null,null,null,null,null,null,null,null,null,0]
[null,null,null,null,null,null,null,null,null,null,0]
[null,null,null,null,null,null,null,null,null,null,0]
[null,null,null,null,null,null,null,null,null,null,0]
[null,null,null,null,null,null,null,null,null,null,0]
[null,null,null,null,null,null,null,null,null,null,0]
[null,null,null,null,null,null,null,null,null,null,0]
[null,null,null,null,null,null,null,null,null,null,0]
[null,null,null,null,null,null,null,null,null,null,0]
[null,null,null,null,null,null,null,null,null,null,{"$f":"SUM(C123:J123)","v":0}]
[null,null,null,null,null,null,null,null,null,null,{"$f":"SUM(C124:J124)","v":0}]
[null,null,null,null,null,null,null,null,null,null,0]
[null,null,null,null,null,null,null,null,null,null,0]
[null,null,null,null,null,null,null,null,null,null,0]
[null,null,null,null,null,null,null,null,null,null,0]
[null,null,null,null,null,null,null,null,null,null,0]
[null,null,null,null,null,null,null,null,null,null,0]
[null,null,null,null,null,null,null,null,null,null,0]
[null,null,null,null,null,null,null,null,null,null,0]
[null,null,null,null,null,null,null,null,null,null,0]
[null,null,null,null,null,null,null,null,null,null,0]
[null,null,null,null,null,null,null,null,null,null,0]
[null,null,null,null,null,null,null,null,null,null,0]
[null,null,null,null,null,null,null,null,null,null,0]
[null,null,null,null,null,null,null,null,null,null,0]
[null,null,null,null,null,null,null,null,null,null,0]
[null,null,null,null,null,null,null,null,null,null,0]
[null,null,null,null,null,null,null,null,null,null,0]
[null,null,null,null,null,null,null,null,null,null,0]
[null,null,null,null,null,null,null,null,null,null,0]
[null,null,null,null,null,null,null,null,null,null,0]
[null,null,null,null,null,null,null,null,null,null,0]
[null,null,null,null,null,null,null,null,null,null,0]
[null,null,null,null,null,null,null,null,null,null,0]
["TOT Jour",null,{"$f":"SUM(C98:C147)","v":0},{"$f":"SUM(D98:D147)","v":0},0,0,0,0,0,0]
["TOT Période",null,{"$f":"SUM(C148:J148)","v":0}]
[{"$f":"Accueil!B19","v":"Plantes"}]
[]
[]
["Période :",{"$f":"Accueil!E16","v":"P3"},{"$f":"Accueil!$F16","v":"du"},{"$f":"Accueil!$G16","v":"2015-01-04"},{"$f":"Accueil!$H16","v":"au"},{"$f":"Accueil!$I16","v":"2015-02-20"}]
["Selectionnez la classe participant à l'atelier :"]
["NOM","Prénom",{"$f":"Accueil!B42","v":"2015-01-04"},{"$f":"Accueil!C42","v":"2015-01-04"},{"$f":"Accueil!D42","v":"2015-01-04"},{"$f":"Accueil!E42","v":"2015-01-04"},{"$f":"Accueil!F42","v":"2015-01-04"},{"$f":"Accueil!G42","v":"2015-01-04"},{"$f":"Accueil!H42","v":"2015-01-04"},{"$f":"Accueil!I42","v":"2015-01-04"},"TOT"]
[null,null,null,null,null,null,null,null,null,null,{"$f":"SUM(C156:J156)","v":0}]
[null,null,null,null,null,null,null,null,null,null,{"$f":"SUM(C157:J157)","v":0}]
[null,null,null,null,null,null,null,null,null,null,0]
[null,null,null,null,null,null,null,null,null,null,0]
[null,null,null,null,null,null,null,null,null,null,0]
[null,null,null,null,null,null,null,null,null,null,0]
[null,null,null,null,null,null,null,null,null,null,0]
[null,null,null,null,null,null,null,null,null,null,0]
[null,null,null,null,null,null,null,null,null,null,0]
[null,null,null,null,null,null,null,null,null,null,0]
[null,null,null,null,null,null,null,null,null,null,0]
[null,null,null,null,null,null,null,null,null,null,0]
[null,null,null,null,null,null,null,null,null,null,0]
[null,null,null,null,null,null,null,null,null,null,0]
[null,null,null,null,null,null,null,null,null,null,0]
[null,null,null,null,null,null,null,null,null,null,0]
[null,null,null,null,null,null,null,null,null,null,0]
[null,null,null,null,null,null,null,null,null,null,0]
[null,null,null,null,null,null,null,null,null,null,0]
[null,null,null,null,null,null,null,null,null,null,0]
[null,null,null,null,null,null,null,null,null,null,0]
[null,null,null,null,null,null,null,null,null,null,0]
[null,null,null,null,null,null,null,null,null,null,0]
[null,null,null,null,null,null,null,null,null,null,0]
[null,null,null,null,null,null,null,null,null,null,0]
[null,null,null,null,null,null,null,null,null,null,{"$f":"SUM(C181:J181)","v":0}]
[null,null,null,null,null,null,null,null,null,null,{"$f":"SUM(C182:J182)","v":0}]
[null,null,null,null,null,null,null,null,null,null,0]
[null,null,null,null,null,null,null,null,null,null,0]
[null,null,null,null,null,null,null,null,null,null,0]
[null,null,null,null,null,null,null,null,null,null,0]
[null,null,null,null,null,null,null,null,null,null,0]
[null,null,null,null,null,null,null,null,null,null,0]
[null,null,null,null,null,null,null,null,null,null,0]
[null,null,null,null,null,null,null,null,null,null,0]
[null,null,null,null,null,null,null,null,null,null,0]
[null,null,null,null,null,null,null,null,null,null,0]
[null,null,null,null,null,null,null,null,null,null,0]
[null,null,null,null,null,null,null,null,null,null,0]
[null,null,null,null,null,null,null,null,null,null,0]
[null,null,null,null,null,null,null,null,null,null,0]
[null,null,null,null,null,null,null,null,null,null,0]
[null,null,null,null,null,null,null,null,null,null,0]
[null,null,null,null,null,null,null,null,null,null,0]
[null,null,null,null,null,null,null,null,null,null,0]
[null,null,null,null,null,null,null,null,null,null,0]
[null,null,null,null,null,null,null,null,null,null,0]
[null,null,null,null,null,null,null,null,null,null,0]
[null,null,null,null,null,null,null,null,null,null,0]
[null,null,null,null,null,null,null,null,null,null,0]
["TOT Jour",null,{"$f":"SUM(C156:C205)","v":0},{"$f":"SUM(D156:D205)","v":0},0,0,0,0,0,0]
["TOT Période",null,{"$f":"SUM(C206:J206)","v":0}]
[{"$f":"Accueil!B19","v":"Plantes"}]
[]
[]
["Période :",{"$f":"Accueil!E18","v":"P4"},{"$f":"Accueil!$F18","v":"du"},{"$f":"Accueil!$G18","v":"2015-03-08"},{"$f":"Accueil!$H18","v":"au"},{"$f":"Accueil!$I18","v":"2015-04-15"}]
["Selectionnez la classe participant à l'atelier :"]
["NOM","Prénom",{"$f":"Accueil!B44","v":"2015-03-08"},{"$f":"Accueil!C44","v":"2015-03-08"},{"$f":"Accueil!D44","v":"2015-03-08"},{"$f":"Accueil!E44","v":"2015-03-08"},{"$f":"Accueil!F44","v":"2015-03-08"},{"$f":"Accueil!G44","v":"2015-03-08"},{"$f":"Accueil!H44","v":"2015-03-08"},{"$f":"Accueil!I44","v":"2015-03-08"},"TOT"]
[null,null,null,null,null,null,null,null,null,null,{"$f":"SUM(C214:J214)","v":0}]
[null,null,null,null,null,null,null,null,null,null,{"$f":"SUM(C215:J215)","v":0}]
[null,null,null,null,null,null,null,null,null,null,0]
[null,null,null,null,null,null,null,null,null,null,0]
[null,null,null,null,null,null,null,null,null,null,0]
[null,null,null,null,null,null,null,null,null,null,0]
[null,null,null,null,null,null,null,null,null,null,0]
[null,null,null,null,null,null,null,null,null,null,0]
[null,null,null,null,null,null,null,null,null,null,0]
[null,null,null,null,null,null,null,null,null,null,0]
[null,null,null,null,null,null,null,null,null,null,0]
[null,null,null,null,null,null,null,null,null,null,0]
[null,null,null,null,null,null,null,null,null,null,0]
[null,null,null,null,null,null,null,null,null,null,0]
[null,null,null,null,null,null,null,null,null,null,0]
[null,null,null,null,null,null,null,null,null,null,0]
[null,null,null,null,null,null,null,null,null,null,0]
[null,null,null,null,null,null,null,null,null,null,0]
[null,null,null,null,null,null,null,null,null,null,0]
[null,null,null,null,null,null,null,null,null,null,0]
[null,null,null,null,null,null,null,null,null,null,0]
[null,null,null,null,null,null,null,null,null,null,0]
[null,null,null,null,null,null,null,null,null,null,0]
[null,null,null,null,null,null,null,null,null,null,0]
[null,null,null,null,null,null,null,null,null,null,0]
[null,null,null,null,null,null,null,null,null,null,{"$f":"SUM(C239:J239)","v":0}]
[null,null,null,null,null,null,null,null,null,null,{"$f":"SUM(C240:J240)","v":0}]
[null,null,null,null,null,null,null,null,null,null,0]
[null,null,null,null,null,null,null,null,null,null,0]
[null,null,null,null,null,null,null,null,null,null,0]
[null,null,null,null,null,null,null,null,null,null,0]
[null,null,null,null,null,null,null,null,null,null,0]
[null,null,null,null,null,null,null,null,null,null,0]
[null,null,null,null,null,null,null,null,null,null,0]
[null,null,null,null,null,null,null,null,null,null,0]
[null,null,null,null,null,null,null,null,null,null,0]
[null,null,null,null,null,null,null,null,null,null,0]
[null,null,null,null,null,null,null,null,null,null,0]
[null,null,null,null,null,null,null,null,null,null,0]
[null,null,null,null,null,null,null,null,null,null,0]
[null,null,null,null,null,null,null,null,null,null,0]
[null,null,null,null,null,null,null,null,null,null,0]
[null,null,null,null,null,null,null,null,null,null,0]
[null,null,null,null,null,null,null,null,null,null,0]
[null,null,null,null,null,null,null,null,null,null,0]
[null,null,null,null,null,null,null,null,null,null,0]
[null,null,null,null,null,null,null,null,null,null,0]
[null,null,null,null,null,null,null,null,null,null,0]
[null,null,null,null,null,null,null,null,null,null,0]
[null,null,null,null,null,null,null,null,null,null,0]
["TOT Jour",null,{"$f":"SUM(C214:C263)","v":0},{"$f":"SUM(D214:D263)","v":0},0,0,0,0,0,0]
["TOT Période",null,{"$f":"SUM(C264:J264)","v":0}]
[{"$f":"Accueil!B19","v":"Plantes"}]
[]
[]
["Période :",{"$f":"Accueil!E20","v":"P5"},{"$f":"Accueil!$F20","v":"du"},{"$f":"Accueil!$G20","v":"2015-05-03"},{"$f":"Accueil!$H20","v":"au"},{"$f":"Accueil!$I20","v":"2015-07-03"}]
["Selectionnez la classe participant à l'atelier :"]
["NOM","Prénom",{"$f":"Accueil!B46","v":"2015-05-03"},{"$f":"Accueil!C46","v":"2015-05-03"},{"$f":"Accueil!D46","v":"2015-05-03"},{"$f":"Accueil!E46","v":"2015-05-03"},{"$f":"Accueil!F46","v":"2015-05-03"},{"$f":"Accueil!G46","v":"2015-05-03"},{"$f":"Accueil!H46","v":"2015-05-03"},{"$f":"Accueil!I46","v":"2015-05-03"},"TOT"]
[null,null,null,null,null,null,null,null,null,null,{"$f":"SUM(C272:J272)","v":0}]
[null,null,null,null,null,null,null,null,null,null,{"$f":"SUM(C273:J273)","v":0}]
[null,null,null,null,null,null,null,null,null,null,0]
[null,null,null,null,null,null,null,null,null,null,0]
[null,null,null,null,null,null,null,null,null,null,0]
[null,null,null,null,null,null,null,null,null,null,0]
[null,null,null,null,null,null,null,null,null,null,0]
[null,null,null,null,null,null,null,null,null,null,0]
[null,null,null,null,null,null,null,null,null,null,0]
[null,null,null,null,null,null,null,null,null,null,0]
[null,null,null,null,null,null,null,null,null,null,0]
[null,null,null,null,null,null,null,null,null,null,0]
[null,null,null,null,null,null,null,null,null,null,0]
[null,null,null,null,null,null,null,null,null,null,0]
[null,null,null,null,null,null,null,null,null,null,0]
[null,null,null,null,null,null,null,null,null,null,0]
[null,null,null,null,null,null,null,null,null,null,0]
[null,null,null,null,null,null,null,null,null,null,0]
[null,null,null,null,null,null,null,null,null,null,0]
[null,null,null,null,null,null,null,null,null,null,0]
[null,null,null,null,null,null,null,null,null,null,0]
[null,null,null,null,null,null,null,null,null,null,0]
[null,null,null,null,null,null,null,null,null,null,0]
[null,null,null,null,null,null,null,null,null,null,0]
[null,null,null,null,null,null,null,null,null,null,0]
[null,null,null,null,null,null,null,null,null,null,{"$f":"SUM(C297:J297)","v":0}]
[null,null,null,null,null,null,null,null,null,null,{"$f":"SUM(C298:J298)","v":0}]
[null,null,null,null,null,null,null,null,null,null,0]
[null,null,null,null,null,null,null,null,null,null,0]
[null,null,null,null,null,null,null,null,null,null,0]
[null,null,null,null,null,null,null,null,null,null,0]
[null,null,null,null,null,null,null,null,null,null,0]
[null,null,null,null,null,null,null,null,null,null,0]
[null,null,null,null,null,null,null,null,null,null,0]
[null,null,null,null,null,null,null,null,null,null,0]
[null,null,null,null,null,null,null,null,null,null,0]
[null,null,null,null,null,null,null,null,null,null,0]
[null,null,null,null,null,null,null,null,null,null,0]
[null,null,null,null,null,null,null,null,null,null,0]
[null,null,null,null,null,null,null,null,null,null,0]
[null,null,null,null,null,null,null,null,null,null,0]
[null,null,null,null,null,null,null,null,null,null,0]
[null,null,null,null,null,null,null,null,null,null,0]
[null,null,null,null,null,null,null,null,null,null,0]
[null,null,null,null,null,null,null,null,null,null,0]
[null,null,null,null,null,null,null,null,null,null,0]
[null,null,null,null,null,null,null,null,null,null,0]
[null,null,null,null,null,null,null,null,null,null,0]
[null,null,null,null,null,null,null,null,null,null,0]
[null,null,null,null,null,null,null,null,null,null,0]
["TOT Jour",null,{"$f":"SUM(C272:C321)","v":0},{"$f":"SUM(D272:D321)","v":0},0,0,0,0,0,0]
["TOT Période",null,{"$f":"SUM(C322:J322)","v":0}]
["Statistiques"]
[]
[]
["Nombre d'heure de fréquentation :"]
[{"$f":"Accueil!$E12","v":"P1"},{"$f":"$C$91*1.5","v":0},"heures de présence pour cet atelier et pour cette période"]
[{"$f":"Accueil!$E14","v":"P2"},{"$f":"$C$149*1.5","v":0},"heures de présence pour cet atelier et pour cette période"]
[{"$f":"Accueil!$E16","v":"P3"},{"$f":"$C$207*1.5","v":0},"heures de présence pour cet atelier et pour cette période"]
[{"$f":"Accueil!$E18","v":"P4"},{"$f":"$C$265*1.5","v":0},"heures de présence pour cet atelier et pour cette période"]
[{"$f":"Accueil!$E20","v":"P5"},{"$f":"$C$323*1.5","v":0},"heures de présence pour cet atelier et pour cette période"]
["TOT",{"$f":"SUM($B$328:$B$332)","v":0},"heures de présence pour cet atelier et pour l'année"]

{"sheet":"Truc","index":16,"n_rows":333,"n_cols":11,"rows_kept":333,"cut":false,"hidden":false,"merged":[[332,2,332,6],[323,0,324,10],[327,2,327,6],[328,2,328,6],[329,2,329,6],[330,2,330,6],[331,2,331,6],[265,0,266,10],[269,0,269,3],[269,4,269,5],[321,0,321,1],[322,0,322,1],[322,2,322,9],[207,0,208,10],[211,0,211,3],[211,4,211,5],[263,0,263,1],[264,0,264,1],[264,2,264,9],[149,0,150,10],[153,0,153,3],[153,4,153,5],[205,0,205,1],[206,0,206,1],[206,2,206,9],[91,0,92,10],[95,0,95,3],[95,4,95,5],[147,0,147,1],[148,0,148,1],[148,2,148,9],[90,0,90,1],[90,2,90,9],[8,1,15,9],[33,0,34,10],[37,0,37,3],[37,4,37,5],[89,0,89,1],[17,0,18,10],[19,0,22,10],[16,2,16,9]]}
[]
[]
[]
[]
[]
[]
[]
[]
[null,{"$f":"Accueil!B20","v":"Truc"}]
[]
[]
[]
[]
[]
[]
[]
[null,{"$f":"Machin!B17","v":"Avec :"},{"$f":"Accueil!C20","v":0}]
[{"$f":"Machin!$A$28","v":"ATTENTION !"}]
[]
[{"$f":"Machin!$A$30","v":"Vous ne devez pas ajouter ou supprimer les enfants depuis cette feuille ! \nPour ajouter des enfants dans cet atelier -> Aller dans la feuille de la classe des enfants et suivre les instructions.\nPour supprimer des enfants de cet atelier -> Aller dans la feuille de la classe des enfants et suivre les instructions."}]
[]
[]
[]
[]
[]
[]
[]
[]
[]
[]
[]
[]
[]
[{"$f":"Accueil!B20","v":"Truc"}]
[]
[]
["Période :",{"$f":"Accueil!$E$12","v":"P1"},{"$f":"Accueil!$F$12","v":"du"},{"$f":"Accueil!$G$12","v":"2014-09-02"},{"$f":"Accueil!$H$12","v":"au"},{"$f":"Accueil!$I$12","v":"2014-10-17"}]
["Selectionnez la classe participant à l'atelier :"]
["NOM","Prénom",{"$f":"Accueil!B39","v":"2015-09-05"},{"$f":"Accueil!C39","v":"2015-09-06"},{"$f":"Accueil!D39","v":"2015-09-07"},{"$f":"Accueil!E39","v":"2015-09-08"},{"$f":"Accueil!F39","v":"2015-09-09"},{"$f":"Accueil!G39","v":"2015-09-10"},{"$f":"Accueil!H39","v":"2015-09-11"},{"$f":"Accueil!I39","v":"2015-09-11"},"TOT"]
[null,null,null,null,null,null,null,null,null,null,{"$f":"SUM(C40:J40)","v":0}]
[null,null,null,null,null,null,null,null,null,null,{"$f":"SUM(C41:J41)","v":0}]
[null,null,null,null,null,null,null,null,null,null,0]
[null,null,null,null,null,null,null,null,null,null,0]
[null,null,null,null,null,null,null,null,null,null,0]
[null,null,null,null,null,null,null,null,null,null,0]
[null,null,null,null,null,null,null,null,null,null,0]
[null,null,null,null,null,null,null,null,null,null,0]
[null,null,null,null,null,null,null,null,null,null,0]
[null,null,null,null,null,null,null,null,null,null,0]
[null,null,null,null,null,null,null,null,null,null,0]
[null,null,null,null,null,null,null,null,null,null,0]
[null,null,null,null,null,null,null,null,null,null,0]
[null,null,null,null,null,null,null,null,null,null,0]
[null,null,null,null,null,null,null,null,null,null,0]
[null,null,null,null,null,null,null,null,null,null,0]
[null,null,null,null,null,null,null,null,null,null,0]
[null,null,null,null,null,null,null,null,null,null,0]
[null,null,null,null,null,null,null,null,null,null,0]
[null,null,null,null,null,null,null,null,null,null,0]
[null,null,null,null,null,null,null,null,null,null,0]
[null,null,null,null,null,null,null,null,null,null,0]
[null,null,null,null,null,null,null,null,null,null,0]
[null,null,null,null,null,null,null,null,null,null,0]
[null,null,null,null,null,null,null,null,null,null,0]
[null,null,null,null,null,null,null,null,null,null,{"$f":"SUM(C65:J65)","v":0}]
[null,null,null,null,null,null,null,null,null,null,{"$f":"SUM(C66:J66)","v":0}]
[null,null,null,null,null,null,null,null,null,null,0]
[null,null,null,null,null,null,null,null,null,null,0]
[null,null,null,null,null,null,null,null,null,null,0]
[null,null,null,null,null,null,null,null,null,null,0]
[null,null,null,null,null,null,null,null,null,null,0]
[null,null,null,null,null,null,null,null,null,null,0]
[null,null,null,null,null,null,null,null,null,null,0]
[null,null,null,null,null,null,null,null,null,null,0]
[null,null,null,null,null,null,null,null,null,null,0]
[null,null,null,null,null,null,null,null,null,null,0]
[null,null,null,null,null,null,null,null,null,null,0]
[null,null,null,null,null,null,null,null,null,null,0]
[null,null,null,null,null,null,null,null,null,null,0]
[null,null,null,null,null,null,null,null,null,null,0]
[null,null,null,null,null,null,null,null,null,null,0]
[null,null,null,null,null,null,null,null,null,null,0]
[null,null,null,null,null,null,null,null,null,null,0]
[null,null,null,null,null,null,null,null,null,null,0]
[null,null,null,null,null,null,null,null,null,null,0]
[null,null,null,null,null,null,null,null,null,null,0]
[null,null,null,null,null,null,null,null,null,null,0]
[null,null,null,null,null,null,null,null,null,null,0]
[null,null,null,null,null,null,null,null,null,null,0]
["TOT Jour",null,{"$f":"SUM(C40:C89)","v":0},{"$f":"SUM(D40:D89)","v":0},0,0,0,0,0,0]
["TOT Période",null,{"$f":"SUM(C90:J90)","v":0}]
[{"$f":"Accueil!B20","v":"Truc"}]
[]
[]
["Période :",{"$f":"Accueil!$E14","v":"P2"},{"$f":"Accueil!$F14","v":"du"},{"$f":"Accueil!$G14","v":"2014-11-02"},{"$f":"Accueil!$H14","v":"au"},{"$f":"Accueil!$I14","v":"2014-12-18"}]
["Selectionnez la classe participant à l'atelier :"]
["NOM","Prénom",{"$f":"Accueil!B41","v":"2014-11-03"},{"$f":"Accueil!C41","v":"2014-11-04"},{"$f":"Accueil!D41","v":"2014-11-05"},{"$f":"Accueil!E41","v":"2014-11-06"},{"$f":"Accueil!F41","v":"2014-11-07"},{"$f":"Accueil!G41","v":"2014-11-08"},{"$f":"Accueil!H41","v":"2014-11-09"},{"$f":"Accueil!I41","v":"2014-11-09"},"TOT"]
[null,null,null,null,null,null,null,null,null,null,{"$f":"SUM(C98:J98)","v":0}]
[null,null,null,null,null,null,null,null,null,null,{"$f":"SUM(C99:J99)","v":0}]
[null,null,null,null,null,null,null,null,null,null,0]
[null,null,null,null,null,null,null,null,null,null,0]
[null,null,null,null,null,null,null,null,null,null,0]
[null,null,null,null,null,null,null,null,null,null,0]
[null,null,null,null,null,null,null,null,null,null,0]
[null,null,null,null,null,null,null,null,null,null,0]
[null,null,null,null,null,null,null,null,null,null,0]
[null,null,null,null,null,null,null,null,null,null,0]
[null,null,null,null,null,null,null,null,null,null,0]
[null,null,null,null,null,null,null,null,null,null,0]
[null,null,null,null,null,null,null,null,null,null,0]
[null,null,null,null,null,null,null,null,null,null,0]
[null,null,null,null,null,null,null,null,null,null,0]
[null,null,null,null,null,null,null,null,null,null,0]
[null,null,null,null,null,null,null,null,null,null,0]
[null,null,null,null,null,null,null,null,null,null,0]
[null,null,null,null,null,null,null,null,null,null,0]
[null,null,null,null,null,null,null,null,null,null,0]
[null,null,null,null,null,null,null,null,null,null,0]
[null,null,null,null,null,null,null,null,null,null,0]
[null,null,null,null,null,null,null,null,null,null,0]
[null,null,null,null,null,null,null,null,null,null,0]
[null,null,null,null,null,null,null,null,null,null,0]
[null,null,null,null,null,null,null,null,null,null,{"$f":"SUM(C123:J123)","v":0}]
[null,null,null,null,null,null,null,null,null,null,{"$f":"SUM(C124:J124)","v":0}]
[null,null,null,null,null,null,null,null,null,null,0]
[null,null,null,null,null,null,null,null,null,null,0]
[null,null,null,null,null,null,null,null,null,null,0]
[null,null,null,null,null,null,null,null,null,null,0]
[null,null,null,null,null,null,null,null,null,null,0]
[null,null,null,null,null,null,null,null,null,null,0]
[null,null,null,null,null,null,null,null,null,null,0]
[null,null,null,null,null,null,null,null,null,null,0]
[null,null,null,null,null,null,null,null,null,null,0]
[null,null,null,null,null,null,null,null,null,null,0]
[null,null,null,null,null,null,null,null,null,null,0]
[null,null,null,null,null,null,null,null,null,null,0]
[null,null,null,null,null,null,null,null,null,null,0]
[null,null,null,null,null,null,null,null,null,null,0]
[null,null,null,null,null,null,null,null,null,null,0]
[null,null,null,null,null,null,null,null,null,null,0]
[null,null,null,null,null,null,null,null,null,null,0]
[null,null,null,null,null,null,null,null,null,null,0]
[null,null,null,null,null,null,null,null,null,null,0]
[null,null,null,null,null,null,null,null,null,null,0]
[null,null,null,null,null,null,null,null,null,null,0]
[null,null,null,null,null,null,null,null,null,null,0]
[null,null,null,null,null,null,null,null,null,null,0]
["TOT Jour",null,{"$f":"SUM(C98:C147)","v":0},{"$f":"SUM(D98:D147)","v":0},0,0,0,0,0,0]
["TOT Période",null,{"$f":"SUM(C148:J148)","v":0}]
[{"$f":"Accueil!B20","v":"Truc"}]
[]
[]
["Période :",{"$f":"Accueil!E16","v":"P3"},{"$f":"Accueil!$F16","v":"du"},{"$f":"Accueil!$G16","v":"2015-01-04"},{"$f":"Accueil!$H16","v":"au"},{"$f":"Accueil!$I16","v":"2015-02-20"}]
["Selectionnez la classe participant à l'atelier :"]
["NOM","Prénom",{"$f":"Accueil!B43","v":"2015-01-05"},{"$f":"Accueil!C43","v":"2015-01-06"},{"$f":"Accueil!D43","v":"2015-01-07"},{"$f":"Accueil!E43","v":"2015-01-08"},{"$f":"Accueil!F43","v":"2015-01-09"},{"$f":"Accueil!G43","v":"2015-01-10"},{"$f":"Accueil!H43","v":"2015-01-11"},{"$f":"Accueil!I43","v":"2015-01-11"},"TOT"]
[null,null,null,null,null,null,null,null,null,null,{"$f":"SUM(C156:J156)","v":0}]
[null,null,null,null,null,null,null,null,null,null,{"$f":"SUM(C157:J157)","v":0}]
[null,null,null,null,null,null,null,null,null,null,0]
[null,null,null,null,null,null,null,null,null,null,0]
[null,null,null,null,null,null,null,null,null,null,0]
[null,null,null,null,null,null,null,null,null,null,0]
[null,null,null,null,null,null,null,null,null,null,0]
[null,null,null,null,null,null,null,null,null,null,0]
[null,null,null,null,null,null,null,null,null,null,0]
[null,null,null,null,null,null,null,null,null,null,0]
[null,null,null,null,null,null,null,null,null,null,0]
[null,null,null,null,null,null,null,null,null,null,0]
[null,null,null,null,null,null,null,null,null,null,0]
[null,null,null,null,null,null,null,null,null,null,0]
[null,null,null,null,null,null,null,null,null,null,0]
[null,null,null,null,null,null,null,null,null,null,0]
[null,null,null,null,null,null,null,null,null,null,0]
[null,null,null,null,null,null,null,null,null,null,0]
[null,null,null,null,null,null,null,null,null,null,0]
[null,null,null,null,null,null,null,null,null,null,0]
[null,null,null,null,null,null,null,null,null,null,0]
[null,null,null,null,null,null,null,null,null,null,0]
[null,null,null,null,null,null,null,null,null,null,0]
[null,null,null,null,null,null,null,null,null,null,0]
[null,null,null,null,null,null,null,null,null,null,0]
[null,null,null,null,null,null,null,null,null,null,{"$f":"SUM(C181:J181)","v":0}]
[null,null,null,null,null,null,null,null,null,null,{"$f":"SUM(C182:J182)","v":0}]
[null,null,null,null,null,null,null,null,null,null,0]
[null,null,null,null,null,null,null,null,null,null,0]
[null,null,null,null,null,null,null,null,null,null,0]
[null,null,null,null,null,null,null,null,null,null,0]
[null,null,null,null,null,null,null,null,null,null,0]
[null,null,null,null,null,null,null,null,null,null,0]
[null,null,null,null,null,null,null,null,null,null,0]
[null,null,null,null,null,null,null,null,null,null,0]
[null,null,null,null,null,null,null,null,null,null,0]
[null,null,null,null,null,null,null,null,null,null,0]
[null,null,null,null,null,null,null,null,null,null,0]
[null,null,null,null,null,null,null,null,null,null,0]
[null,null,null,null,null,null,null,null,null,null,0]
[null,null,null,null,null,null,null,null,null,null,0]
[null,null,null,null,null,null,null,null,null,null,0]
[null,null,null,null,null,null,null,null,null,null,0]
[null,null,null,null,null,null,null,null,null,null,0]
[null,null,null,null,null,null,null,null,null,null,0]
[null,null,null,null,null,null,null,null,null,null,0]
[null,null,null,null,null,null,null,null,null,null,0]
[null,null,null,null,null,null,null,null,null,null,0]
[null,null,null,null,null,null,null,null,null,null,0]
[null,null,null,null,null,null,null,null,null,null,0]
["TOT Jour",null,{"$f":"SUM(C156:C205)","v":0},{"$f":"SUM(D156:D205)","v":0},0,0,0,0,0,0]
["TOT Période",null,{"$f":"SUM(C206:J206)","v":0}]
[{"$f":"Accueil!B20","v":"Truc"}]
[]
[]
["Période :",{"$f":"Accueil!E18","v":"P4"},{"$f":"Accueil!$F18","v":"du"},{"$f":"Accueil!$G18","v":"2015-03-08"},{"$f":"Accueil!$H18","v":"au"},{"$f":"Accueil!$I18","v":"2015-04-15"}]
["Selectionnez la classe participant à l'atelier :"]
["NOM","Prénom",{"$f":"Accueil!B45","v":"2015-03-09"},{"$f":"Accueil!C45","v":"2015-03-10"},{"$f":"Accueil!D45","v":"2015-03-11"},{"$f":"Accueil!E45","v":"2015-03-12"},{"$f":"Accueil!F45","v":"2015-03-13"},{"$f":"Accueil!G45","v":"2015-03-14"},{"$f":"Accueil!H45","v":"2015-03-15"},{"$f":"Accueil!I45","v":"2015-03-15"},"TOT"]
[null,null,null,null,null,null,null,null,null,null,{"$f":"SUM(C214:J214)","v":0}]
[null,null,null,null,null,null,null,null,null,null,{"$f":"SUM(C215:J215)","v":0}]
[null,null,null,null,null,null,null,null,null,null,0]
[null,null,null,null,null,null,null,null,null,null,0]
[null,null,null,null,null,null,null,null,null,null,0]
[null,null,null,null,null,null,null,null,null,null,0]
[null,null,null,null,null,null,null,null,null,null,0]
[null,null,null,null,null,null,null,null,null,null,0]
[null,null,null,null,null,null,null,null,null,null,0]
[null,null,null,null,null,null,null,null,null,null,0]
[null,null,null,null,null,null,null,null,null,null,0]
[null,null,null,null,null,null,null,null,null,null,0]
[null,null,null,null,null,null,null,null,null,null,0]
[null,null,null,null,null,null,null,null,null,null,0]
[null,null,null,null,null,null,null,null,null,null,0]
[null,null,null,null,null,null,null,null,null,null,0]
[null,null,null,null,null,null,null,null,null,null,0]
[null,null,null,null,null,null,null,null,null,null,0]
[null,null,null,null,null,null,null,null,null,null,0]
[null,null,null,null,null,null,null,null,null,null,0]
[null,null,null,null,null,null,null,null,null,null,0]
[null,null,null,null,null,null,null,null,null,null,0]
[null,null,null,null,null,null,null,null,null,null,0]
[null,null,null,null,null,null,null,null,null,null,0]
[null,null,null,null,null,null,null,null,null,null,0]
[null,null,null,null,null,null,null,null,null,null,{"$f":"SUM(C239:J239)","v":0}]
[null,null,null,null,null,null,null,null,null,null,{"$f":"SUM(C240:J240)","v":0}]
[null,null,null,null,null,null,null,null,null,null,0]
[null,null,null,null,null,null,null,null,null,null,0]
[null,null,null,null,null,null,null,null,null,null,0]
[null,null,null,null,null,null,null,null,null,null,0]
[null,null,null,null,null,null,null,null,null,null,0]
[null,null,null,null,null,null,null,null,null,null,0]
[null,null,null,null,null,null,null,null,null,null,0]
[null,null,null,null,null,null,null,null,null,null,0]
[null,null,null,null,null,null,null,null,null,null,0]
[null,null,null,null,null,null,null,null,null,null,0]
[null,null,null,null,null,null,null,null,null,null,0]
[null,null,null,null,null,null,null,null,null,null,0]
[null,null,null,null,null,null,null,null,null,null,0]
[null,null,null,null,null,null,null,null,null,null,0]
[null,null,null,null,null,null,null,null,null,null,0]
[null,null,null,null,null,null,null,null,null,null,0]
[null,null,null,null,null,null,null,null,null,null,0]
[null,null,null,null,null,null,null,null,null,null,0]
[null,null,null,null,null,null,null,null,null,null,0]
[null,null,null,null,null,null,null,null,null,null,0]
[null,null,null,null,null,null,null,null,null,null,0]
[null,null,null,null,null,null,null,null,null,null,0]
[null,null,null,null,null,null,null,null,null,null,0]
["TOT Jour",null,{"$f":"SUM(C214:C263)","v":0},{"$f":"SUM(D214:D263)","v":0},0,0,0,0,0,0]
["TOT Période",null,{"$f":"SUM(C264:J264)","v":0}]
[{"$f":"Accueil!B20","v":"Truc"}]
[]
[]
["Période :",{"$f":"Accueil!E20","v":"P5"},{"$f":"Accueil!$F20","v":"du"},{"$f":"Accueil!$G20","v":"2015-05-03"},{"$f":"Accueil!$H20","v":"au"},{"$f":"Accueil!$I20","v":"2015-07-03"}]
["Selectionnez la classe participant à l'atelier :"]
["NOM","Prénom",{"$f":"Accueil!B47","v":"2015-05-04"},{"$f":"Accueil!C47","v":"2015-05-05"},{"$f":"Accueil!D47","v":"2015-05-06"},{"$f":"Accueil!E47","v":"2015-05-07"},{"$f":"Accueil!F47","v":"2015-05-08"},{"$f":"Accueil!G47","v":"2015-05-09"},{"$f":"Accueil!H47","v":"2015-05-10"},{"$f":"Accueil!I47","v":"2015-05-10"},"TOT"]
[null,null,null,null,null,null,null,null,null,null,{"$f":"SUM(C272:J272)","v":0}]
[null,null,null,null,null,null,null,null,null,null,{"$f":"SUM(C273:J273)","v":0}]
[null,null,null,null,null,null,null,null,null,null,0]
[null,null,null,null,null,null,null,null,null,null,0]
[null,null,null,null,null,null,null,null,null,null,0]
[null,null,null,null,null,null,null,null,null,null,0]
[null,null,null,null,null,null,null,null,null,null,0]
[null,null,null,null,null,null,null,null,null,null,0]
[null,null,null,null,null,null,null,null,null,null,0]
[null,null,null,null,null,null,null,null,null,null,0]
[null,null,null,null,null,null,null,null,null,null,0]
[null,null,null,null,null,null,null,null,null,null,0]
[null,null,null,null,null,null,null,null,null,null,0]
[null,null,null,null,null,null,null,null,null,null,0]
[null,null,null,null,null,null,null,null,null,null,0]
[null,null,null,null,null,null,null,null,null,null,0]
[null,null,null,null,null,null,null,null,null,null,0]
[null,null,null,null,null,null,null,null,null,null,0]
[null,null,null,null,null,null,null,null,null,null,0]
[null,null,null,null,null,null,null,null,null,null,0]
[null,null,null,null,null,null,null,null,null,null,0]
[null,null,null,null,null,null,null,null,null,null,0]
[null,null,null,null,null,null,null,null,null,null,0]
[null,null,null,null,null,null,null,null,null,null,0]
[null,null,null,null,null,null,null,null,null,null,0]
[null,null,null,null,null,null,null,null,null,null,{"$f":"SUM(C297:J297)","v":0}]
[null,null,null,null,null,null,null,null,null,null,{"$f":"SUM(C298:J298)","v":0}]
[null,null,null,null,null,null,null,null,null,null,0]
[null,null,null,null,null,null,null,null,null,null,0]
[null,null,null,null,null,null,null,null,null,null,0]
[null,null,null,null,null,null,null,null,null,null,0]
[null,null,null,null,null,null,null,null,null,null,0]
[null,null,null,null,null,null,null,null,null,null,0]
[null,null,null,null,null,null,null,null,null,null,0]
[null,null,null,null,null,null,null,null,null,null,0]
[null,null,null,null,null,null,null,null,null,null,0]
[null,null,null,null,null,null,null,null,null,null,0]
[null,null,null,null,null,null,null,null,null,null,0]
[null,null,null,null,null,null,null,null,null,null,0]
[null,null,null,null,null,null,null,null,null,null,0]
[null,null,null,null,null,null,null,null,null,null,0]
[null,null,null,null,null,null,null,null,null,null,0]
[null,null,null,null,null,null,null,null,null,null,0]
[null,null,null,null,null,null,null,null,null,null,0]
[null,null,null,null,null,null,null,null,null,null,0]
[null,null,null,null,null,null,null,null,null,null,0]
[null,null,null,null,null,null,null,null,null,null,0]
[null,null,null,null,null,null,null,null,null,null,0]
[null,null,null,null,null,null,null,null,null,null,0]
[null,null,null,null,null,null,null,null,null,null,0]
["TOT Jour",null,{"$f":"SUM(C272:C321)","v":0},{"$f":"SUM(D272:D321)","v":0},0,0,0,0,0,0]
["TOT Période",null,{"$f":"SUM(C322:J322)","v":0}]
["Statistiques"]
[]
[]
["Nombre d'heure de fréquentation :"]
[{"$f":"Accueil!$E12","v":"P1"},{"$f":"$C$91*1.5","v":0},"heures de présence pour cet atelier et pour cette période"]
[{"$f":"Accueil!$E14","v":"P2"},{"$f":"$C$149*1.5","v":0},"heures de présence pour cet atelier et pour cette période"]
[{"$f":"Accueil!$E16","v":"P3"},{"$f":"$C$207*1.5","v":0},"heures de présence pour cet atelier et pour cette période"]
[{"$f":"Accueil!$E18","v":"P4"},{"$f":"$C$265*1.5","v":0},"heures de présence pour cet atelier et pour cette période"]
[{"$f":"Accueil!$E20","v":"P5"},{"$f":"$C$323*1.5","v":0},"heures de présence pour cet atelier et pour cette période"]
["TOT",{"$f":"SUM($B$328:$B$332)","v":0},"heures de présence pour cet atelier et pour l'année"]

{"sheet":"2","index":17,"n_rows":333,"n_cols":11,"rows_kept":333,"cut":false,"hidden":false,"merged":[[332,2,332,6],[323,0,324,10],[327,2,327,6],[328,2,328,6],[329,2,329,6],[330,2,330,6],[331,2,331,6],[265,0,266,10],[269,0,269,3],[269,4,269,5],[321,0,321,1],[322,0,322,1],[322,2,322,9],[207,0,208,10],[211,0,211,3],[211,4,211,5],[263,0,263,1],[264,0,264,1],[264,2,264,9],[149,0,150,10],[153,0,153,3],[153,4,153,5],[205,0,205,1],[206,0,206,1],[206,2,206,9],[91,0,92,10],[95,0,95,3],[95,4,95,5],[147,0,147,1],[148,0,148,1],[148,2,148,9],[90,0,90,1],[90,2,90,9],[8,1,15,9],[33,0,34,10],[37,0,37,3],[37,4,37,5],[89,0,89,1],[17,0,18,10],[19,0,22,10],[16,2,16,9]]}
[]
[]
[]
[]
[]
[]
[]
[]
[null,{"$f":"Accueil!B21","v":2}]
[]
[]
[]
[]
[]
[]
[]
[null,{"$f":"Machin!B17","v":"Avec :"},{"$f":"Accueil!C21","v":0}]
[{"$f":"Machin!$A$28","v":"ATTENTION !"}]
[]
[{"$f":"Machin!$A$30","v":"Vous ne devez pas ajouter ou supprimer les enfants depuis cette feuille ! \nPour ajouter des enfants dans cet atelier -> Aller dans la feuille de la classe des enfants et suivre les instructions.\nPour supprimer des enfants de cet atelier -> Aller dans la feuille de la classe des enfants et suivre les instructions."}]
[]
[]
[]
[]
[]
[]
[]
[]
[]
[]
[]
[]
[]
[{"$f":"B9","v":2}]
[]
[]
["Période :",{"$f":"Accueil!$E$12","v":"P1"},{"$f":"Accueil!$F$12","v":"du"},{"$f":"Accueil!$G$12","v":"2014-09-02"},{"$f":"Accueil!$H$12","v":"au"},{"$f":"Accueil!$I$12","v":"2014-10-17"}]
["Selectionnez la classe participant à l'atelier :"]
["NOM","Prénom",{"$f":"Accueil!B39","v":"2015-09-05"},{"$f":"Accueil!C39","v":"2015-09-06"},{"$f":"Accueil!D39","v":"2015-09-07"},{"$f":"Accueil!E39","v":"2015-09-08"},{"$f":"Accueil!F39","v":"2015-09-09"},{"$f":"Accueil!G39","v":"2015-09-10"},{"$f":"Accueil!H39","v":"2015-09-11"},{"$f":"Accueil!I39","v":"2015-09-11"},"TOT"]
[null,null,null,null,null,null,null,null,null,null,{"$f":"SUM(C40:J40)","v":0}]
[null,null,null,null,null,null,null,null,null,null,{"$f":"SUM(C41:J41)","v":0}]
[null,null,null,null,null,null,null,null,null,null,0]
[null,null,null,null,null,null,null,null,null,null,0]
[null,null,null,null,null,null,null,null,null,null,0]
[null,null,null,null,null,null,null,null,null,null,0]
[null,null,null,null,null,null,null,null,null,null,0]
[null,null,null,null,null,null,null,null,null,null,0]
[null,null,null,null,null,null,null,null,null,null,0]
[null,null,null,null,null,null,null,null,null,null,0]
[null,null,null,null,null,null,null,null,null,null,0]
[null,null,null,null,null,null,null,null,null,null,0]
[null,null,null,null,null,null,null,null,null,null,0]
[null,null,null,null,null,null,null,null,null,null,0]
[null,null,null,null,null,null,null,null,null,null,0]
[null,null,null,null,null,null,null,null,null,null,0]
[null,null,null,null,null,null,null,null,null,null,0]
[null,null,null,null,null,null,null,null,null,null,0]
[null,null,null,null,null,null,null,null,null,null,0]
[null,null,null,null,null,null,null,null,null,null,0]
[null,null,null,null,null,null,null,null,null,null,0]
[null,null,null,null,null,null,null,null,null,null,0]
[null,null,null,null,null,null,null,null,null,null,0]
[null,null,null,null,null,null,null,null,null,null,0]
[null,null,null,null,null,null,null,null,null,null,0]
[null,null,null,null,null,null,null,null,null,null,{"$f":"SUM(C65:J65)","v":0}]
[null,null,null,null,null,null,null,null,null,null,{"$f":"SUM(C66:J66)","v":0}]
[null,null,null,null,null,null,null,null,null,null,0]
[null,null,null,null,null,null,null,null,null,null,0]
[null,null,null,null,null,null,null,null,null,null,0]
[null,null,null,null,null,null,null,null,null,null,0]
[null,null,null,null,null,null,null,null,null,null,0]
[null,null,null,null,null,null,null,null,null,null,0]
[null,null,null,null,null,null,null,null,null,null,0]
[null,null,null,null,null,null,null,null,null,null,0]
[null,null,null,null,null,null,null,null,null,null,0]
[null,null,null,null,null,null,null,null,null,null,0]
[null,null,null,null,null,null,null,null,null,null,0]
[null,null,null,null,null,null,null,null,null,null,0]
[null,null,null,null,null,null,null,null,null,null,0]
[null,null,null,null,null,null,null,null,null,null,0]
[null,null,null,null,null,null,null,null,null,null,0]
[null,null,null,null,null,null,null,null,null,null,0]
[null,null,null,null,null,null,null,null,null,null,0]
[null,null,null,null,null,null,null,null,null,null,0]
[null,null,null,null,null,null,null,null,null,null,0]
[null,null,null,null,null,null,null,null,null,null,0]
[null,null,null,null,null,null,null,null,null,null,0]
[null,null,null,null,null,null,null,null,null,null,0]
[null,null,null,null,null,null,null,null,null,null,0]
["TOT Jour",null,{"$f":"SUM(C40:C89)","v":0},{"$f":"SUM(D40:D89)","v":0},0,0,0,0,0,0]
["TOT Période",null,{"$f":"SUM(C90:J90)","v":0}]
[{"$f":"B9","v":2}]
[]
[]
["Période :",{"$f":"Accueil!$E14","v":"P2"},{"$f":"Accueil!$F14","v":"du"},{"$f":"Accueil!$G14","v":"2014-11-02"},{"$f":"Accueil!$H14","v":"au"},{"$f":"Accueil!$I14","v":"2014-12-18"}]
["Selectionnez la classe participant à l'atelier :"]
["NOM","Prénom",{"$f":"Accueil!B41","v":"2014-11-03"},{"$f":"Accueil!C41","v":"2014-11-04"},{"$f":"Accueil!D41","v":"2014-11-05"},{"$f":"Accueil!E41","v":"2014-11-06"},{"$f":"Accueil!F41","v":"2014-11-07"},{"$f":"Accueil!G41","v":"2014-11-08"},{"$f":"Accueil!H41","v":"2014-11-09"},{"$f":"Accueil!I41","v":"2014-11-09"},"TOT"]
[null,null,null,null,null,null,null,null,null,null,{"$f":"SUM(C98:J98)","v":0}]
[null,null,null,null,null,null,null,null,null,null,{"$f":"SUM(C99:J99)","v":0}]
[null,null,null,null,null,null,null,null,null,null,0]
[null,null,null,null,null,null,null,null,null,null,0]
[null,null,null,null,null,null,null,null,null,null,0]
[null,null,null,null,null,null,null,null,null,null,0]
[null,null,null,null,null,null,null,null,null,null,0]
[null,null,null,null,null,null,null,null,null,null,0]
[null,null,null,null,null,null,null,null,null,null,0]
[null,null,null,null,null,null,null,null,null,null,0]
[null,null,null,null,null,null,null,null,null,null,0]
[null,null,null,null,null,null,null,null,null,null,0]
[null,null,null,null,null,null,null,null,null,null,0]
[null,null,null,null,null,null,null,null,null,null,0]
[null,null,null,null,null,null,null,null,null,null,0]
[null,null,null,null,null,null,null,null,null,null,0]
[null,null,null,null,null,null,null,null,null,null,0]
[null,null,null,null,null,null,null,null,null,null,0]
[null,null,null,null,null,null,null,null,null,null,0]
[null,null,null,null,null,null,null,null,null,null,0]
[null,null,null,null,null,null,null,null,null,null,0]
[null,null,null,null,null,null,null,null,null,null,0]
[null,null,null,null,null,null,null,null,null,null,0]
[null,null,null,null,null,null,null,null,null,null,0]
[null,null,null,null,null,null,null,null,null,null,0]
[null,null,null,null,null,null,null,null,null,null,{"$f":"SUM(C123:J123)","v":0}]
[null,null,null,null,null,null,null,null,null,null,{"$f":"SUM(C124:J124)","v":0}]
[null,null,null,null,null,null,null,null,null,null,0]
[null,null,null,null,null,null,null,null,null,null,0]
[null,null,null,null,null,null,null,null,null,null,0]
[null,null,null,null,null,null,null,null,null,null,0]
[null,null,null,null,null,null,null,null,null,null,0]
[null,null,null,null,null,null,null,null,null,null,0]
[null,null,null,null,null,null,null,null,null,null,0]
[null,null,null,null,null,null,null,null,null,null,0]
[null,null,null,null,null,null,null,null,null,null,0]
[null,null,null,null,null,null,null,null,null,null,0]
[null,null,null,null,null,null,null,null,null,null,0]
[null,null,null,null,null,null,null,null,null,null,0]
[null,null,null,null,null,null,null,null,null,null,0]
[null,null,null,null,null,null,null,null,null,null,0]
[null,null,null,null,null,null,null,null,null,null,0]
[null,null,null,null,null,null,null,null,null,null,0]
[null,null,null,null,null,null,null,null,null,null,0]
[null,null,null,null,null,null,null,null,null,null,0]
[null,null,null,null,null,null,null,null,null,null,0]
[null,null,null,null,null,null,null,null,null,null,0]
[null,null,null,null,null,null,null,null,null,null,0]
[null,null,null,null,null,null,null,null,null,null,0]
[null,null,null,null,null,null,null,null,null,null,0]
["TOT Jour",null,{"$f":"SUM(C98:C147)","v":0},{"$f":"SUM(D98:D147)","v":0},0,0,0,0,0,0]
["TOT Période",null,{"$f":"SUM(C148:J148)","v":0}]
[{"$f":"B9","v":2}]
[]
[]
["Période :",{"$f":"Accueil!E16","v":"P3"},{"$f":"Accueil!$F16","v":"du"},{"$f":"Accueil!$G16","v":"2015-01-04"},{"$f":"Accueil!$H16","v":"au"},{"$f":"Accueil!$I16","v":"2015-02-20"}]
["Selectionnez la classe participant à l'atelier :"]
["NOM","Prénom",{"$f":"Accueil!B43","v":"2015-01-05"},{"$f":"Accueil!C43","v":"2015-01-06"},{"$f":"Accueil!D43","v":"2015-01-07"},{"$f":"Accueil!E43","v":"2015-01-08"},{"$f":"Accueil!F43","v":"2015-01-09"},{"$f":"Accueil!G43","v":"2015-01-10"},{"$f":"Accueil!H43","v":"2015-01-11"},{"$f":"Accueil!I43","v":"2015-01-11"},"TOT"]
[null,null,null,null,null,null,null,null,null,null,{"$f":"SUM(C156:J156)","v":0}]
[null,null,null,null,null,null,null,null,null,null,{"$f":"SUM(C157:J157)","v":0}]
[null,null,null,null,null,null,null,null,null,null,0]
[null,null,null,null,null,null,null,null,null,null,0]
[null,null,null,null,null,null,null,null,null,null,0]
[null,null,null,null,null,null,null,null,null,null,0]
[null,null,null,null,null,null,null,null,null,null,0]
[null,null,null,null,null,null,null,null,null,null,0]
[null,null,null,null,null,null,null,null,null,null,0]
[null,null,null,null,null,null,null,null,null,null,0]
[null,null,null,null,null,null,null,null,null,null,0]
[null,null,null,null,null,null,null,null,null,null,0]
[null,null,null,null,null,null,null,null,null,null,0]
[null,null,null,null,null,null,null,null,null,null,0]
[null,null,null,null,null,null,null,null,null,null,0]
[null,null,null,null,null,null,null,null,null,null,0]
[null,null,null,null,null,null,null,null,null,null,0]
[null,null,null,null,null,null,null,null,null,null,0]
[null,null,null,null,null,null,null,null,null,null,0]
[null,null,null,null,null,null,null,null,null,null,0]
[null,null,null,null,null,null,null,null,null,null,0]
[null,null,null,null,null,null,null,null,null,null,0]
[null,null,null,null,null,null,null,null,null,null,0]
[null,null,null,null,null,null,null,null,null,null,0]
[null,null,null,null,null,null,null,null,null,null,0]
[null,null,null,null,null,null,null,null,null,null,{"$f":"SUM(C181:J181)","v":0}]
[null,null,null,null,null,null,null,null,null,null,{"$f":"SUM(C182:J182)","v":0}]
[null,null,null,null,null,null,null,null,null,null,0]
[null,null,null,null,null,null,null,null,null,null,0]
[null,null,null,null,null,null,null,null,null,null,0]
[null,null,null,null,null,null,null,null,null,null,0]
[null,null,null,null,null,null,null,null,null,null,0]
[null,null,null,null,null,null,null,null,null,null,0]
[null,null,null,null,null,null,null,null,null,null,0]
[null,null,null,null,null,null,null,null,null,null,0]
[null,null,null,null,null,null,null,null,null,null,0]
[null,null,null,null,null,null,null,null,null,null,0]
[null,null,null,null,null,null,null,null,null,null,0]
[null,null,null,null,null,null,null,null,null,null,0]
[null,null,null,null,null,null,null,null,null,null,0]
[null,null,null,null,null,null,null,null,null,null,0]
[null,null,null,null,null,null,null,null,null,null,0]
[null,null,null,null,null,null,null,null,null,null,0]
[null,null,null,null,null,null,null,null,null,null,0]
[null,null,null,null,null,null,null,null,null,null,0]
[null,null,null,null,null,null,null,null,null,null,0]
[null,null,null,null,null,null,null,null,null,null,0]
[null,null,null,null,null,null,null,null,null,null,0]
[null,null,null,null,null,null,null,null,null,null,0]
[null,null,null,null,null,null,null,null,null,null,0]
["TOT Jour",null,{"$f":"SUM(C156:C205)","v":0},{"$f":"SUM(D156:D205)","v":0},0,0,0,0,0,0]
["TOT Période",null,{"$f":"SUM(C206:J206)","v":0}]
[{"$f":"B9","v":2}]
[]
[]
["Période :",{"$f":"Accueil!E18","v":"P4"},{"$f":"Accueil!$F18","v":"du"},{"$f":"Accueil!$G18","v":"2015-03-08"},{"$f":"Accueil!$H18","v":"au"},{"$f":"Accueil!$I18","v":"2015-04-15"}]
["Selectionnez la classe participant à l'atelier :"]
["NOM","Prénom",{"$f":"Accueil!B45","v":"2015-03-09"},{"$f":"Accueil!C45","v":"2015-03-10"},{"$f":"Accueil!D45","v":"2015-03-11"},{"$f":"Accueil!E45","v":"2015-03-12"},{"$f":"Accueil!F45","v":"2015-03-13"},{"$f":"Accueil!G45","v":"2015-03-14"},{"$f":"Accueil!H45","v":"2015-03-15"},{"$f":"Accueil!I45","v":"2015-03-15"},"TOT"]
[null,null,null,null,null,null,null,null,null,null,{"$f":"SUM(C214:J214)","v":0}]
[null,null,null,null,null,null,null,null,null,null,{"$f":"SUM(C215:J215)","v":0}]
[null,null,null,null,null,null,null,null,null,null,0]
[null,null,null,null,null,null,null,null,null,null,0]
[null,null,null,null,null,null,null,null,null,null,0]
[null,null,null,null,null,null,null,null,null,null,0]
[null,null,null,null,null,null,null,null,null,null,0]
[null,null,null,null,null,null,null,null,null,null,0]
[null,null,null,null,null,null,null,null,null,null,0]
[null,null,null,null,null,null,null,null,null,null,0]
[null,null,null,null,null,null,null,null,null,null,0]
[null,null,null,null,null,null,null,null,null,null,0]
[null,null,null,null,null,null,null,null,null,null,0]
[null,null,null,null,null,null,null,null,null,null,0]
[null,null,null,null,null,null,null,null,null,null,0]
[null,null,null,null,null,null,null,null,null,null,0]
[null,null,null,null,null,null,null,null,null,null,0]
[null,null,null,null,null,null,null,null,null,null,0]
[null,null,null,null,null,null,null,null,null,null,0]
[null,null,null,null,null,null,null,null,null,null,0]
[null,null,null,null,null,null,null,null,null,null,0]
[null,null,null,null,null,null,null,null,null,null,0]
[null,null,null,null,null,null,null,null,null,null,0]
[null,null,null,null,null,null,null,null,null,null,0]
[null,null,null,null,null,null,null,null,null,null,0]
[null,null,null,null,null,null,null,null,null,null,{"$f":"SUM(C239:J239)","v":0}]
[null,null,null,null,null,null,null,null,null,null,{"$f":"SUM(C240:J240)","v":0}]
[null,null,null,null,null,null,null,null,null,null,0]
[null,null,null,null,null,null,null,null,null,null,0]
[null,null,null,null,null,null,null,null,null,null,0]
[null,null,null,null,null,null,null,null,null,null,0]
[null,null,null,null,null,null,null,null,null,null,0]
[null,null,null,null,null,null,null,null,null,null,0]
[null,null,null,null,null,null,null,null,null,null,0]
[null,null,null,null,null,null,null,null,null,null,0]
[null,null,null,null,null,null,null,null,null,null,0]
[null,null,null,null,null,null,null,null,null,null,0]
[null,null,null,null,null,null,null,null,null,null,0]
[null,null,null,null,null,null,null,null,null,null,0]
[null,null,null,null,null,null,null,null,null,null,0]
[null,null,null,null,null,null,null,null,null,null,0]
[null,null,null,null,null,null,null,null,null,null,0]
[null,null,null,null,null,null,null,null,null,null,0]
[null,null,null,null,null,null,null,null,null,null,0]
[null,null,null,null,null,null,null,null,null,null,0]
[null,null,null,null,null,null,null,null,null,null,0]
[null,null,null,null,null,null,null,null,null,null,0]
[null,null,null,null,null,null,null,null,null,null,0]
[null,null,null,null,null,null,null,null,null,null,0]
[null,null,null,null,null,null,null,null,null,null,0]
["TOT Jour",null,{"$f":"SUM(C214:C263)","v":0},{"$f":"SUM(D214:D263)","v":0},0,0,0,0,0,0]
["TOT Période",null,{"$f":"SUM(C264:J264)","v":0}]
[{"$f":"B9","v":2}]
[]
[]
["Période :",{"$f":"Accueil!E20","v":"P5"},{"$f":"Accueil!$F20","v":"du"},{"$f":"Accueil!$G20","v":"2015-05-03"},{"$f":"Accueil!$H20","v":"au"},{"$f":"Accueil!$I20","v":"2015-07-03"}]
["Selectionnez la classe participant à l'atelier :"]
["NOM","Prénom",{"$f":"Accueil!B47","v":"2015-05-04"},{"$f":"Accueil!C47","v":"2015-05-05"},{"$f":"Accueil!D47","v":"2015-05-06"},{"$f":"Accueil!E47","v":"2015-05-07"},{"$f":"Accueil!F47","v":"2015-05-08"},{"$f":"Accueil!G47","v":"2015-05-09"},{"$f":"Accueil!H47","v":"2015-05-10"},{"$f":"Accueil!I47","v":"2015-05-10"},"TOT"]
[null,null,null,null,null,null,null,null,null,null,{"$f":"SUM(C272:J272)","v":0}]
[null,null,null,null,null,null,null,null,null,null,{"$f":"SUM(C273:J273)","v":0}]
[null,null,null,null,null,null,null,null,null,null,0]
[null,null,null,null,null,null,null,null,null,null,0]
[null,null,null,null,null,null,null,null,null,null,0]
[null,null,null,null,null,null,null,null,null,null,0]
[null,null,null,null,null,null,null,null,null,null,0]
[null,null,null,null,null,null,null,null,null,null,0]
[null,null,null,null,null,null,null,null,null,null,0]
[null,null,null,null,null,null,null,null,null,null,0]
[null,null,null,null,null,null,null,null,null,null,0]
[null,null,null,null,null,null,null,null,null,null,0]
[null,null,null,null,null,null,null,null,null,null,0]
[null,null,null,null,null,null,null,null,null,null,0]
[null,null,null,null,null,null,null,null,null,null,0]
[null,null,null,null,null,null,null,null,null,null,0]
[null,null,null,null,null,null,null,null,null,null,0]
[null,null,null,null,null,null,null,null,null,null,0]
[null,null,null,null,null,null,null,null,null,null,0]
[null,null,null,null,null,null,null,null,null,null,0]
[null,null,null,null,null,null,null,null,null,null,0]
[null,null,null,null,null,null,null,null,null,null,0]
[null,null,null,null,null,null,null,null,null,null,0]
[null,null,null,null,null,null,null,null,null,null,0]
[null,null,null,null,null,null,null,null,null,null,0]
[null,null,null,null,null,null,null,null,null,null,{"$f":"SUM(C297:J297)","v":0}]
[null,null,null,null,null,null,null,null,null,null,{"$f":"SUM(C298:J298)","v":0}]
[null,null,null,null,null,null,null,null,null,null,0]
[null,null,null,null,null,null,null,null,null,null,0]
[null,null,null,null,null,null,null,null,null,null,0]
[null,null,null,null,null,null,null,null,null,null,0]
[null,null,null,null,null,null,null,null,null,null,0]
[null,null,null,null,null,null,null,null,null,null,0]
[null,null,null,null,null,null,null,null,null,null,0]
[null,null,null,null,null,null,null,null,null,null,0]
[null,null,null,null,null,null,null,null,null,null,0]
[null,null,null,null,null,null,null,null,null,null,0]
[null,null,null,null,null,null,null,null,null,null,0]
[null,null,null,null,null,null,null,null,null,null,0]
[null,null,null,null,null,null,null,null,null,null,0]
[null,null,null,null,null,null,null,null,null,null,0]
[null,null,null,null,null,null,null,null,null,null,0]
[null,null,null,null,null,null,null,null,null,null,0]
[null,null,null,null,null,null,null,null,null,null,0]
[null,null,null,null,null,null,null,null,null,null,0]
[null,null,null,null,null,null,null,null,null,null,0]
[null,null,null,null,null,null,null,null,null,null,0]
[null,null,null,null,null,null,null,null,null,null,0]
[null,null,null,null,null,null,null,null,null,null,0]
[null,null,null,null,null,null,null,null,null,null,0]
["TOT Jour",null,{"$f":"SUM(C272:C321)","v":0},{"$f":"SUM(D272:D321)","v":0},0,0,0,0,0,0]
["TOT Période",null,{"$f":"SUM(C322:J322)","v":0}]
["Statistiques"]
[]
[]
["Nombre d'heure de fréquentation :"]
[{"$f":"Accueil!$E12","v":"P1"},{"$f":"$C$91*1.5","v":0},"heures de présence pour cet atelier et pour cette période"]
[{"$f":"Accueil!$E14","v":"P2"},{"$f":"$C$149*1.5","v":0},"heures de présence pour cet atelier et pour cette période"]
[{"$f":"Accueil!$E16","v":"P3"},{"$f":"$C$207*1.5","v":0},"heures de présence pour cet atelier et pour cette période"]
[{"$f":"Accueil!$E18","v":"P4"},{"$f":"$C$265*1.5","v":0},"heures de présence pour cet atelier et pour cette période"]
[{"$f":"Accueil!$E20","v":"P5"},{"$f":"$C$323*1.5","v":0},"heures de présence pour cet atelier et pour cette période"]
["TOT",{"$f":"SUM($B$328:$B$332)","v":0},"heures de présence pour cet atelier et pour l'année"]

{"sheet":"3","index":18,"n_rows":333,"n_cols":11,"rows_kept":333,"cut":false,"hidden":false,"merged":[[332,2,332,6],[323,0,324,10],[327,2,327,6],[328,2,328,6],[329,2,329,6],[330,2,330,6],[331,2,331,6],[265,0,266,10],[269,0,269,3],[269,4,269,5],[321,0,321,1],[322,0,322,1],[322,2,322,9],[207,0,208,10],[211,0,211,3],[211,4,211,5],[263,0,263,1],[264,0,264,1],[264,2,264,9],[149,0,150,10],[153,0,153,3],[153,4,153,5],[205,0,205,1],[206,0,206,1],[206,2,206,9],[91,0,92,10],[95,0,95,3],[95,4,95,5],[147,0,147,1],[148,0,148,1],[148,2,148,9],[90,0,90,1],[90,2,90,9],[8,1,15,9],[33,0,34,10],[37,0,37,3],[37,4,37,5],[89,0,89,1],[17,0,18,10],[19,0,22,10],[16,2,16,9]]}
[]
[]
[]
[]
[]
[]
[]
[]
[null,{"$f":"Accueil!B22","v":3}]
[]
[]
[]
[]
[]
[]
[]
[null,{"$f":"Machin!B17","v":"Avec :"},{"$f":"Accueil!C22","v":0}]
[{"$f":"Machin!$A$28","v":"ATTENTION !"}]
[]
[{"$f":"Machin!$A$30","v":"Vous ne devez pas ajouter ou supprimer les enfants depuis cette feuille ! \nPour ajouter des enfants dans cet atelier -> Aller dans la feuille de la classe des enfants et suivre les instructions.\nPour supprimer des enfants de cet atelier -> Aller dans la feuille de la classe des enfants et suivre les instructions."}]
[]
[]
[]
[]
[]
[]
[]
[]
[]
[]
[]
[]
[]
[{"$f":"B9","v":3}]
[]
[]
["Période :",{"$f":"Accueil!$E$12","v":"P1"},{"$f":"Accueil!$F$12","v":"du"},{"$f":"Accueil!$G$12","v":"2014-09-02"},{"$f":"Accueil!$H$12","v":"au"},{"$f":"Accueil!$I$12","v":"2014-10-17"}]
["Selectionnez la classe participant à l'atelier :"]
["NOM","Prénom",{"$f":"Accueil!B39","v":"2015-09-05"},{"$f":"Accueil!C39","v":"2015-09-06"},{"$f":"Accueil!D39","v":"2015-09-07"},{"$f":"Accueil!E39","v":"2015-09-08"},{"$f":"Accueil!F39","v":"2015-09-09"},{"$f":"Accueil!G39","v":"2015-09-10"},{"$f":"Accueil!H39","v":"2015-09-11"},{"$f":"Accueil!I39","v":"2015-09-11"},"TOT"]
[null,null,null,null,null,null,null,null,null,null,{"$f":"SUM(C40:J40)","v":0}]
[null,null,null,null,null,null,null,null,null,null,{"$f":"SUM(C41:J41)","v":0}]
[null,null,null,null,null,null,null,null,null,null,0]
[null,null,null,null,null,null,null,null,null,null,0]
[null,null,null,null,null,null,null,null,null,null,0]
[null,null,null,null,null,null,null,null,null,null,0]
[null,null,null,null,null,null,null,null,null,null,0]
[null,null,null,null,null,null,null,null,null,null,0]
[null,null,null,null,null,null,null,null,null,null,0]
[null,null,null,null,null,null,null,null,null,null,0]
[null,null,null,null,null,null,null,null,null,null,0]
[null,null,null,null,null,null,null,null,null,null,0]
[null,null,null,null,null,null,null,null,null,null,0]
[null,null,null,null,null,null,null,null,null,null,0]
[null,null,null,null,null,null,null,null,null,null,0]
[null,null,null,null,null,null,null,null,null,null,0]
[null,null,null,null,null,null,null,null,null,null,0]
[null,null,null,null,null,null,null,null,null,null,0]
[null,null,null,null,null,null,null,null,null,null,0]
[null,null,null,null,null,null,null,null,null,null,0]
[null,null,null,null,null,null,null,null,null,null,0]
[null,null,null,null,null,null,null,null,null,null,0]
[null,null,null,null,null,null,null,null,null,null,0]
[null,null,null,null,null,null,null,null,null,null,0]
[null,null,null,null,null,null,null,null,null,null,0]
[null,null,null,null,null,null,null,null,null,null,{"$f":"SUM(C65:J65)","v":0}]
[null,null,null,null,null,null,null,null,null,null,{"$f":"SUM(C66:J66)","v":0}]
[null,null,null,null,null,null,null,null,null,null,0]
[null,null,null,null,null,null,null,null,null,null,0]
[null,null,null,null,null,null,null,null,null,null,0]
[null,null,null,null,null,null,null,null,null,null,0]
[null,null,null,null,null,null,null,null,null,null,0]
[null,null,null,null,null,null,null,null,null,null,0]
[null,null,null,null,null,null,null,null,null,null,0]
[null,null,null,null,null,null,null,null,null,null,0]
[null,null,null,null,null,null,null,null,null,null,0]
[null,null,null,null,null,null,null,null,null,null,0]
[null,null,null,null,null,null,null,null,null,null,0]
[null,null,null,null,null,null,null,null,null,null,0]
[null,null,null,null,null,null,null,null,null,null,0]
[null,null,null,null,null,null,null,null,null,null,0]
[null,null,null,null,null,null,null,null,null,null,0]
[null,null,null,null,null,null,null,null,null,null,0]
[null,null,null,null,null,null,null,null,null,null,0]
[null,null,null,null,null,null,null,null,null,null,0]
[null,null,null,null,null,null,null,null,null,null,0]
[null,null,null,null,null,null,null,null,null,null,0]
[null,null,null,null,null,null,null,null,null,null,0]
[null,null,null,null,null,null,null,null,null,null,0]
[null,null,null,null,null,null,null,null,null,null,0]
["TOT Jour",null,{"$f":"SUM(C40:C89)","v":0},{"$f":"SUM(D40:D89)","v":0},0,0,0,0,0,0]
["TOT Période",null,{"$f":"SUM(C90:J90)","v":0}]
[{"$f":"B9","v":3}]
[]
[]
["Période :",{"$f":"Accueil!$E14","v":"P2"},{"$f":"Accueil!$F14","v":"du"},{"$f":"Accueil!$G14","v":"2014-11-02"},{"$f":"Accueil!$H14","v":"au"},{"$f":"Accueil!$I14","v":"2014-12-18"}]
["Selectionnez la classe participant à l'atelier :"]
["NOM","Prénom",{"$f":"Accueil!B41","v":"2014-11-03"},{"$f":"Accueil!C41","v":"2014-11-04"},{"$f":"Accueil!D41","v":"2014-11-05"},{"$f":"Accueil!E41","v":"2014-11-06"},{"$f":"Accueil!F41","v":"2014-11-07"},{"$f":"Accueil!G41","v":"2014-11-08"},{"$f":"Accueil!H41","v":"2014-11-09"},{"$f":"Accueil!I41","v":"2014-11-09"},"TOT"]
[null,null,null,null,null,null,null,null,null,null,{"$f":"SUM(C98:J98)","v":0}]
[null,null,null,null,null,null,null,null,null,null,{"$f":"SUM(C99:J99)","v":0}]
[null,null,null,null,null,null,null,null,null,null,0]
[null,null,null,null,null,null,null,null,null,null,0]
[null,null,null,null,null,null,null,null,null,null,0]
[null,null,null,null,null,null,null,null,null,null,0]
[null,null,null,null,null,null,null,null,null,null,0]
[null,null,null,null,null,null,null,null,null,null,0]
[null,null,null,null,null,null,null,null,null,null,0]
[null,null,null,null,null,null,null,null,null,null,0]
[null,null,null,null,null,null,null,null,null,null,0]
[null,null,null,null,null,null,null,null,null,null,0]
[null,null,null,null,null,null,null,null,null,null,0]
[null,null,null,null,null,null,null,null,null,null,0]
[null,null,null,null,null,null,null,null,null,null,0]
[null,null,null,null,null,null,null,null,null,null,0]
[null,null,null,null,null,null,null,null,null,null,0]
[null,null,null,null,null,null,null,null,null,null,0]
[null,null,null,null,null,null,null,null,null,null,0]
[null,null,null,null,null,null,null,null,null,null,0]
[null,null,null,null,null,null,null,null,null,null,0]
[null,null,null,null,null,null,null,null,null,null,0]
[null,null,null,null,null,null,null,null,null,null,0]
[null,null,null,null,null,null,null,null,null,null,0]
[null,null,null,null,null,null,null,null,null,null,0]
[null,null,null,null,null,null,null,null,null,null,{"$f":"SUM(C123:J123)","v":0}]
[null,null,null,null,null,null,null,null,null,null,{"$f":"SUM(C124:J124)","v":0}]
[null,null,null,null,null,null,null,null,null,null,0]
[null,null,null,null,null,null,null,null,null,null,0]
[null,null,null,null,null,null,null,null,null,null,0]
[null,null,null,null,null,null,null,null,null,null,0]
[null,null,null,null,null,null,null,null,null,null,0]
[null,null,null,null,null,null,null,null,null,null,0]
[null,null,null,null,null,null,null,null,null,null,0]
[null,null,null,null,null,null,null,null,null,null,0]
[null,null,null,null,null,null,null,null,null,null,0]
[null,null,null,null,null,null,null,null,null,null,0]
[null,null,null,null,null,null,null,null,null,null,0]
[null,null,null,null,null,null,null,null,null,null,0]
[null,null,null,null,null,null,null,null,null,null,0]
[null,null,null,null,null,null,null,null,null,null,0]
[null,null,null,null,null,null,null,null,null,null,0]
[null,null,null,null,null,null,null,null,null,null,0]
[null,null,null,null,null,null,null,null,null,null,0]
[null,null,null,null,null,null,null,null,null,null,0]
[null,null,null,null,null,null,null,null,null,null,0]
[null,null,null,null,null,null,null,null,null,null,0]
[null,null,null,null,null,null,null,null,null,null,0]
[null,null,null,null,null,null,null,null,null,null,0]
[null,null,null,null,null,null,null,null,null,null,0]
["TOT Jour",null,{"$f":"SUM(C98:C147)","v":0},{"$f":"SUM(D98:D147)","v":0},0,0,0,0,0,0]
["TOT Période",null,{"$f":"SUM(C148:J148)","v":0}]
[{"$f":"B9","v":3}]
[]
[]
["Période :",{"$f":"Accueil!E16","v":"P3"},{"$f":"Accueil!$F16","v":"du"},{"$f":"Accueil!$G16","v":"2015-01-04"},{"$f":"Accueil!$H16","v":"au"},{"$f":"Accueil!$I16","v":"2015-02-20"}]
["Selectionnez la classe participant à l'atelier :"]
["NOM","Prénom",{"$f":"Accueil!B43","v":"2015-01-05"},{"$f":"Accueil!C43","v":"2015-01-06"},{"$f":"Accueil!D43","v":"2015-01-07"},{"$f":"Accueil!E43","v":"2015-01-08"},{"$f":"Accueil!F43","v":"2015-01-09"},{"$f":"Accueil!G43","v":"2015-01-10"},{"$f":"Accueil!H43","v":"2015-01-11"},{"$f":"Accueil!I43","v":"2015-01-11"},"TOT"]
[null,null,null,null,null,null,null,null,null,null,{"$f":"SUM(C156:J156)","v":0}]
[null,null,null,null,null,null,null,null,null,null,{"$f":"SUM(C157:J157)","v":0}]
[null,null,null,null,null,null,null,null,null,null,0]
[null,null,null,null,null,null,null,null,null,null,0]
[null,null,null,null,null,null,null,null,null,null,0]
[null,null,null,null,null,null,null,null,null,null,0]
[null,null,null,null,null,null,null,null,null,null,0]
[null,null,null,null,null,null,null,null,null,null,0]
[null,null,null,null,null,null,null,null,null,null,0]
[null,null,null,null,null,null,null,null,null,null,0]
[null,null,null,null,null,null,null,null,null,null,0]
[null,null,null,null,null,null,null,null,null,null,0]
[null,null,null,null,null,null,null,null,null,null,0]
[null,null,null,null,null,null,null,null,null,null,0]
[null,null,null,null,null,null,null,null,null,null,0]
[null,null,null,null,null,null,null,null,null,null,0]
[null,null,null,null,null,null,null,null,null,null,0]
[null,null,null,null,null,null,null,null,null,null,0]
[null,null,null,null,null,null,null,null,null,null,0]
[null,null,null,null,null,null,null,null,null,null,0]
[null,null,null,null,null,null,null,null,null,null,0]
[null,null,null,null,null,null,null,null,null,null,0]
[null,null,null,null,null,null,null,null,null,null,0]
[null,null,null,null,null,null,null,null,null,null,0]
[null,null,null,null,null,null,null,null,null,null,0]
[null,null,null,null,null,null,null,null,null,null,{"$f":"SUM(C181:J181)","v":0}]
[null,null,null,null,null,null,null,null,null,null,{"$f":"SUM(C182:J182)","v":0}]
[null,null,null,null,null,null,null,null,null,null,0]
[null,null,null,null,null,null,null,null,null,null,0]
[null,null,null,null,null,null,null,null,null,null,0]
[null,null,null,null,null,null,null,null,null,null,0]
[null,null,null,null,null,null,null,null,null,null,0]
[null,null,null,null,null,null,null,null,null,null,0]
[null,null,null,null,null,null,null,null,null,null,0]
[null,null,null,null,null,null,null,null,null,null,0]
[null,null,null,null,null,null,null,null,null,null,0]
[null,null,null,null,null,null,null,null,null,null,0]
[null,null,null,null,null,null,null,null,null,null,0]
[null,null,null,null,null,null,null,null,null,null,0]
[null,null,null,null,null,null,null,null,null,null,0]
[null,null,null,null,null,null,null,null,null,null,0]
[null,null,null,null,null,null,null,null,null,null,0]
[null,null,null,null,null,null,null,null,null,null,0]
[null,null,null,null,null,null,null,null,null,null,0]
[null,null,null,null,null,null,null,null,null,null,0]
[null,null,null,null,null,null,null,null,null,null,0]
[null,null,null,null,null,null,null,null,null,null,0]
[null,null,null,null,null,null,null,null,null,null,0]
[null,null,null,null,null,null,null,null,null,null,0]
[null,null,null,null,null,null,null,null,null,null,0]
["TOT Jour",null,{"$f":"SUM(C156:C205)","v":0},{"$f":"SUM(D156:D205)","v":0},0,0,0,0,0,0]
["TOT Période",null,{"$f":"SUM(C206:J206)","v":0}]
[{"$f":"B9","v":3}]
[]
[]
["Période :",{"$f":"Accueil!E18","v":"P4"},{"$f":"Accueil!$F18","v":"du"},{"$f":"Accueil!$G18","v":"2015-03-08"},{"$f":"Accueil!$H18","v":"au"},{"$f":"Accueil!$I18","v":"2015-04-15"}]
["Selectionnez la classe participant à l'atelier :"]
["NOM","Prénom",{"$f":"Accueil!B45","v":"2015-03-09"},{"$f":"Accueil!C45","v":"2015-03-10"},{"$f":"Accueil!D45","v":"2015-03-11"},{"$f":"Accueil!E45","v":"2015-03-12"},{"$f":"Accueil!F45","v":"2015-03-13"},{"$f":"Accueil!G45","v":"2015-03-14"},{"$f":"Accueil!H45","v":"2015-03-15"},{"$f":"Accueil!I45","v":"2015-03-15"},"TOT"]
[null,null,null,null,null,null,null,null,null,null,{"$f":"SUM(C214:J214)","v":0}]
[null,null,null,null,null,null,null,null,null,null,{"$f":"SUM(C215:J215)","v":0}]
[null,null,null,null,null,null,null,null,null,null,0]
[null,null,null,null,null,null,null,null,null,null,0]
[null,null,null,null,null,null,null,null,null,null,0]
[null,null,null,null,null,null,null,null,null,null,0]
[null,null,null,null,null,null,null,null,null,null,0]
[null,null,null,null,null,null,null,null,null,null,0]
[null,null,null,null,null,null,null,null,null,null,0]
[null,null,null,null,null,null,null,null,null,null,0]
[null,null,null,null,null,null,null,null,null,null,0]
[null,null,null,null,null,null,null,null,null,null,0]
[null,null,null,null,null,null,null,null,null,null,0]
[null,null,null,null,null,null,null,null,null,null,0]
[null,null,null,null,null,null,null,null,null,null,0]
[null,null,null,null,null,null,null,null,null,null,0]
[null,null,null,null,null,null,null,null,null,null,0]
[null,null,null,null,null,null,null,null,null,null,0]
[null,null,null,null,null,null,null,null,null,null,0]
[null,null,null,null,null,null,null,null,null,null,0]
[null,null,null,null,null,null,null,null,null,null,0]
[null,null,null,null,null,null,null,null,null,null,0]
[null,null,null,null,null,null,null,null,null,null,0]
[null,null,null,null,null,null,null,null,null,null,0]
[null,null,null,null,null,null,null,null,null,null,0]
[null,null,null,null,null,null,null,null,null,null,{"$f":"SUM(C239:J239)","v":0}]
[null,null,null,null,null,null,null,null,null,null,{"$f":"SUM(C240:J240)","v":0}]
[null,null,null,null,null,null,null,null,null,null,0]
[null,null,null,null,null,null,null,null,null,null,0]
[null,null,null,null,null,null,null,null,null,null,0]
[null,null,null,null,null,null,null,null,null,null,0]
[null,null,null,null,null,null,null,null,null,null,0]
[null,null,null,null,null,null,null,null,null,null,0]
[null,null,null,null,null,null,null,null,null,null,0]
[null,null,null,null,null,null,null,null,null,null,0]
[null,null,null,null,null,null,null,null,null,null,0]
[null,null,null,null,null,null,null,null,null,null,0]
[null,null,null,null,null,null,null,null,null,null,0]
[null,null,null,null,null,null,null,null,null,null,0]
[null,null,null,null,null,null,null,null,null,null,0]
[null,null,null,null,null,null,null,null,null,null,0]
[null,null,null,null,null,null,null,null,null,null,0]
[null,null,null,null,null,null,null,null,null,null,0]
[null,null,null,null,null,null,null,null,null,null,0]
[null,null,null,null,null,null,null,null,null,null,0]
[null,null,null,null,null,null,null,null,null,null,0]
[null,null,null,null,null,null,null,null,null,null,0]
[null,null,null,null,null,null,null,null,null,null,0]
[null,null,null,null,null,null,null,null,null,null,0]
[null,null,null,null,null,null,null,null,null,null,0]
["TOT Jour",null,{"$f":"SUM(C214:C263)","v":0},{"$f":"SUM(D214:D263)","v":0},0,0,0,0,0,0]
["TOT Période",null,{"$f":"SUM(C264:J264)","v":0}]
[{"$f":"B9","v":3}]
[]
[]
["Période :",{"$f":"Accueil!E20","v":"P5"},{"$f":"Accueil!$F20","v":"du"},{"$f":"Accueil!$G20","v":"2015-05-03"},{"$f":"Accueil!$H20","v":"au"},{"$f":"Accueil!$I20","v":"2015-07-03"}]
["Selectionnez la classe participant à l'atelier :"]
["NOM","Prénom",{"$f":"Accueil!B47","v":"2015-05-04"},{"$f":"Accueil!C47","v":"2015-05-05"},{"$f":"Accueil!D47","v":"2015-05-06"},{"$f":"Accueil!E47","v":"2015-05-07"},{"$f":"Accueil!F47","v":"2015-05-08"},{"$f":"Accueil!G47","v":"2015-05-09"},{"$f":"Accueil!H47","v":"2015-05-10"},{"$f":"Accueil!I47","v":"2015-05-10"},"TOT"]
[null,null,null,null,null,null,null,null,null,null,{"$f":"SUM(C272:J272)","v":0}]
[null,null,null,null,null,null,null,null,null,null,{"$f":"SUM(C273:J273)","v":0}]
[null,null,null,null,null,null,null,null,null,null,0]
[null,null,null,null,null,null,null,null,null,null,0]
[null,null,null,null,null,null,null,null,null,null,0]
[null,null,null,null,null,null,null,null,null,null,0]
[null,null,null,null,null,null,null,null,null,null,0]
[null,null,null,null,null,null,null,null,null,null,0]
[null,null,null,null,null,null,null,null,null,null,0]
[null,null,null,null,null,null,null,null,null,null,0]
[null,null,null,null,null,null,null,null,null,null,0]
[null,null,null,null,null,null,null,null,null,null,0]
[null,null,null,null,null,null,null,null,null,null,0]
[null,null,null,null,null,null,null,null,null,null,0]
[null,null,null,null,null,null,null,null,null,null,0]
[null,null,null,null,null,null,null,null,null,null,0]
[null,null,null,null,null,null,null,null,null,null,0]
[null,null,null,null,null,null,null,null,null,null,0]
[null,null,null,null,null,null,null,null,null,null,0]
[null,null,null,null,null,null,null,null,null,null,0]
[null,null,null,null,null,null,null,null,null,null,0]
[null,null,null,null,null,null,null,null,null,null,0]
[null,null,null,null,null,null,null,null,null,null,0]
[null,null,null,null,null,null,null,null,null,null,0]
[null,null,null,null,null,null,null,null,null,null,0]
[null,null,null,null,null,null,null,null,null,null,{"$f":"SUM(C297:J297)","v":0}]
[null,null,null,null,null,null,null,null,null,null,{"$f":"SUM(C298:J298)","v":0}]
[null,null,null,null,null,null,null,null,null,null,0]
[null,null,null,null,null,null,null,null,null,null,0]
[null,null,null,null,null,null,null,null,null,null,0]
[null,null,null,null,null,null,null,null,null,null,0]
[null,null,null,null,null,null,null,null,null,null,0]
[null,null,null,null,null,null,null,null,null,null,0]
[null,null,null,null,null,null,null,null,null,null,0]
[null,null,null,null,null,null,null,null,null,null,0]
[null,null,null,null,null,null,null,null,null,null,0]
[null,null,null,null,null,null,null,null,null,null,0]
[null,null,null,null,null,null,null,null,null,null,0]
[null,null,null,null,null,null,null,null,null,null,0]
[null,null,null,null,null,null,null,null,null,null,0]
[null,null,null,null,null,null,null,null,null,null,0]
[null,null,null,null,null,null,null,null,null,null,0]
[null,null,null,null,null,null,null,null,null,null,0]
[null,null,null,null,null,null,null,null,null,null,0]
[null,null,null,null,null,null,null,null,null,null,0]
[null,null,null,null,null,null,null,null,null,null,0]
[null,null,null,null,null,null,null,null,null,null,0]
[null,null,null,null,null,null,null,null,null,null,0]
[null,null,null,null,null,null,null,null,null,null,0]
[null,null,null,null,null,null,null,null,null,null,0]
["TOT Jour",null,{"$f":"SUM(C272:C321)","v":0},{"$f":"SUM(D272:D321)","v":0},0,0,0,0,0,0]
["TOT Période",null,{"$f":"SUM(C322:J322)","v":0}]
["Statistiques"]
[]
[]
["Nombre d'heure de fréquentation :"]
[{"$f":"Accueil!$E12","v":"P1"},{"$f":"$C$91*1.5","v":0},"heures de présence pour cet atelier et pour cette période"]
[{"$f":"Accueil!$E14","v":"P2"},{"$f":"$C$149*1.5","v":0},"heures de présence pour cet atelier et pour cette période"]
[{"$f":"Accueil!$E16","v":"P3"},{"$f":"$C$207*1.5","v":0},"heures de présence pour cet atelier et pour cette période"]
[{"$f":"Accueil!$E18","v":"P4"},{"$f":"$C$265*1.5","v":0},"heures de présence pour cet atelier et pour cette période"]
[{"$f":"Accueil!$E20","v":"P5"},{"$f":"$C$323*1.5","v":0},"heures de présence pour cet atelier et pour cette période"]
["TOT",{"$f":"SUM($B$328:$B$332)","v":0},"heures de présence pour cet atelier et pour l'année"]

{"sheet":"4","index":19,"n_rows":333,"n_cols":11,"rows_kept":333,"cut":false,"hidden":false,"merged":[[332,2,332,6],[323,0,324,10],[327,2,327,6],[328,2,328,6],[329,2,329,6],[330,2,330,6],[331,2,331,6],[265,0,266,10],[269,0,269,3],[269,4,269,5],[321,0,321,1],[322,0,322,1],[322,2,322,9],[207,0,208,10],[211,0,211,3],[211,4,211,5],[263,0,263,1],[264,0,264,1],[264,2,264,9],[149,0,150,10],[153,0,153,3],[153,4,153,5],[205,0,205,1],[206,0,206,1],[206,2,206,9],[91,0,92,10],[95,0,95,3],[95,4,95,5],[147,0,147,1],[148,0,148,1],[148,2,148,9],[90,0,90,1],[90,2,90,9],[8,1,15,9],[33,0,34,10],[37,0,37,3],[37,4,37,5],[89,0,89,1],[17,0,18,10],[19,0,22,10],[16,2,16,9]]}
[]
[]
[]
[]
[]
[]
[]
[]
[null,{"$f":"Accueil!B23","v":4}]
[]
[]
[]
[]
[]
[]
[]
[null,{"$f":"Machin!B17","v":"Avec :"},{"$f":"Accueil!C23","v":0}]
[{"$f":"Machin!$A$28","v":"ATTENTION !"}]
[]
[{"$f":"Machin!$A$30","v":"Vous ne devez pas ajouter ou supprimer les enfants depuis cette feuille ! \nPour ajouter des enfants dans cet atelier -> Aller dans la feuille de la classe des enfants et suivre les instructions.\nPour supprimer des enfants de cet atelier -> Aller dans la feuille de la classe des enfants et suivre les instructions."}]
[]
[]
[]
[]
[]
[]
[]
[]
[]
[]
[]
[]
[]
[{"$f":"B9","v":4}]
[]
[]
["Période :",{"$f":"Accueil!$E$12","v":"P1"},{"$f":"Accueil!$F$12","v":"du"},{"$f":"Accueil!$G$12","v":"2014-09-02"},{"$f":"Accueil!$H$12","v":"au"},{"$f":"Accueil!$I$12","v":"2014-10-17"}]
["Selectionnez la classe participant à l'atelier :"]
["NOM","Prénom",{"$f":"Accueil!B39","v":"2015-09-05"},{"$f":"Accueil!C39","v":"2015-09-06"},{"$f":"Accueil!D39","v":"2015-09-07"},{"$f":"Accueil!E39","v":"2015-09-08"},{"$f":"Accueil!F39","v":"2015-09-09"},{"$f":"Accueil!G39","v":"2015-09-10"},{"$f":"Accueil!H39","v":"2015-09-11"},{"$f":"Accueil!I39","v":"2015-09-11"},"TOT"]
[null,null,null,null,null,null,null,null,null,null,{"$f":"SUM(C40:J40)","v":0}]
[null,null,null,null,null,null,null,null,null,null,{"$f":"SUM(C41:J41)","v":0}]
[null,null,null,null,null,null,null,null,null,null,0]
[null,null,null,null,null,null,null,null,null,null,0]
[null,null,null,null,null,null,null,null,null,null,0]
[null,null,null,null,null,null,null,null,null,null,0]
[null,null,null,null,null,null,null,null,null,null,0]
[null,null,null,null,null,null,null,null,null,null,0]
[null,null,null,null,null,null,null,null,null,null,0]
[null,null,null,null,null,null,null,null,null,null,0]
[null,null,null,null,null,null,null,null,null,null,0]
[null,null,null,null,null,null,null,null,null,null,0]
[null,null,null,null,null,null,null,null,null,null,0]
[null,null,null,null,null,null,null,null,null,null,0]
[null,null,null,null,null,null,null,null,null,null,0]
[null,null,null,null,null,null,null,null,null,null,0]
[null,null,null,null,null,null,null,null,null,null,0]
[null,null,null,null,null,null,null,null,null,null,0]
[null,null,null,null,null,null,null,null,null,null,0]
[null,null,null,null,null,null,null,null,null,null,0]
[null,null,null,null,null,null,null,null,null,null,0]
[null,null,null,null,null,null,null,null,null,null,0]
[null,null,null,null,null,null,null,null,null,null,0]
[null,null,null,null,null,null,null,null,null,null,0]
[null,null,null,null,null,null,null,null,null,null,0]
[null,null,null,null,null,null,null,null,null,null,{"$f":"SUM(C65:J65)","v":0}]
[null,null,null,null,null,null,null,null,null,null,{"$f":"SUM(C66:J66)","v":0}]
[null,null,null,null,null,null,null,null,null,null,0]
[null,null,null,null,null,null,null,null,null,null,0]
[null,null,null,null,null,null,null,null,null,null,0]
[null,null,null,null,null,null,null,null,null,null,0]
[null,null,null,null,null,null,null,null,null,null,0]
[null,null,null,null,null,null,null,null,null,null,0]
[null,null,null,null,null,null,null,null,null,null,0]
[null,null,null,null,null,null,null,null,null,null,0]
[null,null,null,null,null,null,null,null,null,null,0]
[null,null,null,null,null,null,null,null,null,null,0]
[null,null,null,null,null,null,null,null,null,null,0]
[null,null,null,null,null,null,null,null,null,null,0]
[null,null,null,null,null,null,null,null,null,null,0]
[null,null,null,null,null,null,null,null,null,null,0]
[null,null,null,null,null,null,null,null,null,null,0]
[null,null,null,null,null,null,null,null,null,null,0]
[null,null,null,null,null,null,null,null,null,null,0]
[null,null,null,null,null,null,null,null,null,null,0]
[null,null,null,null,null,null,null,null,null,null,0]
[null,null,null,null,null,null,null,null,null,null,0]
[null,null,null,null,null,null,null,null,null,null,0]
[null,null,null,null,null,null,null,null,null,null,0]
[null,null,null,null,null,null,null,null,null,null,0]
["TOT Jour",null,{"$f":"SUM(C40:C89)","v":0},{"$f":"SUM(D40:D89)","v":0},0,0,0,0,0,0]
["TOT Période",null,{"$f":"SUM(C90:J90)","v":0}]
[{"$f":"B9","v":4}]
[]
[]
["Période :",{"$f":"Accueil!$E14","v":"P2"},{"$f":"Accueil!$F14","v":"du"},{"$f":"Accueil!$G14","v":"2014-11-02"},{"$f":"Accueil!$H14","v":"au"},{"$f":"Accueil!$I14","v":"2014-12-18"}]
["Selectionnez la classe participant à l'atelier :"]
["NOM","Prénom",{"$f":"Accueil!B41","v":"2014-11-03"},{"$f":"Accueil!C41","v":"2014-11-04"},{"$f":"Accueil!D41","v":"2014-11-05"},{"$f":"Accueil!E41","v":"2014-11-06"},{"$f":"Accueil!F41","v":"2014-11-07"},{"$f":"Accueil!G41","v":"2014-11-08"},{"$f":"Accueil!H41","v":"2014-11-09"},{"$f":"Accueil!I41","v":"2014-11-09"},"TOT"]
[null,null,null,null,null,null,null,null,null,null,{"$f":"SUM(C98:J98)","v":0}]
[null,null,null,null,null,null,null,null,null,null,{"$f":"SUM(C99:J99)","v":0}]
[null,null,null,null,null,null,null,null,null,null,0]
[null,null,null,null,null,null,null,null,null,null,0]
[null,null,null,null,null,null,null,null,null,null,0]
[null,null,null,null,null,null,null,null,null,null,0]
[null,null,null,null,null,null,null,null,null,null,0]
[null,null,null,null,null,null,null,null,null,null,0]
[null,null,null,null,null,null,null,null,null,null,0]
[null,null,null,null,null,null,null,null,null,null,0]
[null,null,null,null,null,null,null,null,null,null,0]
[null,null,null,null,null,null,null,null,null,null,0]
[null,null,null,null,null,null,null,null,null,null,0]
[null,null,null,null,null,null,null,null,null,null,0]
[null,null,null,null,null,null,null,null,null,null,0]
[null,null,null,null,null,null,null,null,null,null,0]
[null,null,null,null,null,null,null,null,null,null,0]
[null,null,null,null,null,null,null,null,null,null,0]
[null,null,null,null,null,null,null,null,null,null,0]
[null,null,null,null,null,null,null,null,null,null,0]
[null,null,null,null,null,null,null,null,null,null,0]
[null,null,null,null,null,null,null,null,null,null,0]
[null,null,null,null,null,null,null,null,null,null,0]
[null,null,null,null,null,null,null,null,null,null,0]
[null,null,null,null,null,null,null,null,null,null,0]
[null,null,null,null,null,null,null,null,null,null,{"$f":"SUM(C123:J123)","v":0}]
[null,null,null,null,null,null,null,null,null,null,{"$f":"SUM(C124:J124)","v":0}]
[null,null,null,null,null,null,null,null,null,null,0]
[null,null,null,null,null,null,null,null,null,null,0]
[null,null,null,null,null,null,null,null,null,null,0]
[null,null,null,null,null,null,null,null,null,null,0]
[null,null,null,null,null,null,null,null,null,null,0]
[null,null,null,null,null,null,null,null,null,null,0]
[null,null,null,null,null,null,null,null,null,null,0]
[null,null,null,null,null,null,null,null,null,null,0]
[null,null,null,null,null,null,null,null,null,null,0]
[null,null,null,null,null,null,null,null,null,null,0]
[null,null,null,null,null,null,null,null,null,null,0]
[null,null,null,null,null,null,null,null,null,null,0]
[null,null,null,null,null,null,null,null,null,null,0]
[null,null,null,null,null,null,null,null,null,null,0]
[null,null,null,null,null,null,null,null,null,null,0]
[null,null,null,null,null,null,null,null,null,null,0]
[null,null,null,null,null,null,null,null,null,null,0]
[null,null,null,null,null,null,null,null,null,null,0]
[null,null,null,null,null,null,null,null,null,null,0]
[null,null,null,null,null,null,null,null,null,null,0]
[null,null,null,null,null,null,null,null,null,null,0]
[null,null,null,null,null,null,null,null,null,null,0]
[null,null,null,null,null,null,null,null,null,null,0]
["TOT Jour",null,{"$f":"SUM(C98:C147)","v":0},{"$f":"SUM(D98:D147)","v":0},0,0,0,0,0,0]
["TOT Période",null,{"$f":"SUM(C148:J148)","v":0}]
[{"$f":"B9","v":4}]
[]
[]
["Période :",{"$f":"Accueil!E16","v":"P3"},{"$f":"Accueil!$F16","v":"du"},{"$f":"Accueil!$G16","v":"2015-01-04"},{"$f":"Accueil!$H16","v":"au"},{"$f":"Accueil!$I16","v":"2015-02-20"}]
["Selectionnez la classe participant à l'atelier :"]
["NOM","Prénom",{"$f":"Accueil!B43","v":"2015-01-05"},{"$f":"Accueil!C43","v":"2015-01-06"},{"$f":"Accueil!D43","v":"2015-01-07"},{"$f":"Accueil!E43","v":"2015-01-08"},{"$f":"Accueil!F43","v":"2015-01-09"},{"$f":"Accueil!G43","v":"2015-01-10"},{"$f":"Accueil!H43","v":"2015-01-11"},{"$f":"Accueil!I43","v":"2015-01-11"},"TOT"]
[null,null,null,null,null,null,null,null,null,null,{"$f":"SUM(C156:J156)","v":0}]
[null,null,null,null,null,null,null,null,null,null,{"$f":"SUM(C157:J157)","v":0}]
[null,null,null,null,null,null,null,null,null,null,0]
[null,null,null,null,null,null,null,null,null,null,0]
[null,null,null,null,null,null,null,null,null,null,0]
[null,null,null,null,null,null,null,null,null,null,0]
[null,null,null,null,null,null,null,null,null,null,0]
[null,null,null,null,null,null,null,null,null,null,0]
[null,null,null,null,null,null,null,null,null,null,0]
[null,null,null,null,null,null,null,null,null,null,0]
[null,null,null,null,null,null,null,null,null,null,0]
[null,null,null,null,null,null,null,null,null,null,0]
[null,null,null,null,null,null,null,null,null,null,0]
[null,null,null,null,null,null,null,null,null,null,0]
[null,null,null,null,null,null,null,null,null,null,0]
[null,null,null,null,null,null,null,null,null,null,0]
[null,null,null,null,null,null,null,null,null,null,0]
[null,null,null,null,null,null,null,null,null,null,0]
[null,null,null,null,null,null,null,null,null,null,0]
[null,null,null,null,null,null,null,null,null,null,0]
[null,null,null,null,null,null,null,null,null,null,0]
[null,null,null,null,null,null,null,null,null,null,0]
[null,null,null,null,null,null,null,null,null,null,0]
[null,null,null,null,null,null,null,null,null,null,0]
[null,null,null,null,null,null,null,null,null,null,0]
[null,null,null,null,null,null,null,null,null,null,{"$f":"SUM(C181:J181)","v":0}]
[null,null,null,null,null,null,null,null,null,null,{"$f":"SUM(C182:J182)","v":0}]
[null,null,null,null,null,null,null,null,null,null,0]
[null,null,null,null,null,null,null,null,null,null,0]
[null,null,null,null,null,null,null,null,null,null,0]
[null,null,null,null,null,null,null,null,null,null,0]
[null,null,null,null,null,null,null,null,null,null,0]
[null,null,null,null,null,null,null,null,null,null,0]
[null,null,null,null,null,null,null,null,null,null,0]
[null,null,null,null,null,null,null,null,null,null,0]
[null,null,null,null,null,null,null,null,null,null,0]
[null,null,null,null,null,null,null,null,null,null,0]
[null,null,null,null,null,null,null,null,null,null,0]
[null,null,null,null,null,null,null,null,null,null,0]
[null,null,null,null,null,null,null,null,null,null,0]
[null,null,null,null,null,null,null,null,null,null,0]
[null,null,null,null,null,null,null,null,null,null,0]
[null,null,null,null,null,null,null,null,null,null,0]
[null,null,null,null,null,null,null,null,null,null,0]
[null,null,null,null,null,null,null,null,null,null,0]
[null,null,null,null,null,null,null,null,null,null,0]
[null,null,null,null,null,null,null,null,null,null,0]
[null,null,null,null,null,null,null,null,null,null,0]
[null,null,null,null,null,null,null,null,null,null,0]
[null,null,null,null,null,null,null,null,null,null,0]
["TOT Jour",null,{"$f":"SUM(C156:C205)","v":0},{"$f":"SUM(D156:D205)","v":0},0,0,0,0,0,0]
["TOT Période",null,{"$f":"SUM(C206:J206)","v":0}]
[{"$f":"B9","v":4}]
[]
[]
["Période :",{"$f":"Accueil!E18","v":"P4"},{"$f":"Accueil!$F18","v":"du"},{"$f":"Accueil!$G18","v":"2015-03-08"},{"$f":"Accueil!$H18","v":"au"},{"$f":"Accueil!$I18","v":"2015-04-15"}]
["Selectionnez la classe participant à l'atelier :"]
["NOM","Prénom",{"$f":"Accueil!B45","v":"2015-03-09"},{"$f":"Accueil!C45","v":"2015-03-10"},{"$f":"Accueil!D45","v":"2015-03-11"},{"$f":"Accueil!E45","v":"2015-03-12"},{"$f":"Accueil!F45","v":"2015-03-13"},{"$f":"Accueil!G45","v":"2015-03-14"},{"$f":"Accueil!H45","v":"2015-03-15"},{"$f":"Accueil!I45","v":"2015-03-15"},"TOT"]
[null,null,null,null,null,null,null,null,null,null,{"$f":"SUM(C214:J214)","v":0}]
[null,null,null,null,null,null,null,null,null,null,{"$f":"SUM(C215:J215)","v":0}]
[null,null,null,null,null,null,null,null,null,null,0]
[null,null,null,null,null,null,null,null,null,null,0]
[null,null,null,null,null,null,null,null,null,null,0]
[null,null,null,null,null,null,null,null,null,null,0]
[null,null,null,null,null,null,null,null,null,null,0]
[null,null,null,null,null,null,null,null,null,null,0]
[null,null,null,null,null,null,null,null,null,null,0]
[null,null,null,null,null,null,null,null,null,null,0]
[null,null,null,null,null,null,null,null,null,null,0]
[null,null,null,null,null,null,null,null,null,null,0]
[null,null,null,null,null,null,null,null,null,null,0]
[null,null,null,null,null,null,null,null,null,null,0]
[null,null,null,null,null,null,null,null,null,null,0]
[null,null,null,null,null,null,null,null,null,null,0]
[null,null,null,null,null,null,null,null,null,null,0]
[null,null,null,null,null,null,null,null,null,null,0]
[null,null,null,null,null,null,null,null,null,null,0]
[null,null,null,null,null,null,null,null,null,null,0]
[null,null,null,null,null,null,null,null,null,null,0]
[null,null,null,null,null,null,null,null,null,null,0]
[null,null,null,null,null,null,null,null,null,null,0]
[null,null,null,null,null,null,null,null,null,null,0]
[null,null,null,null,null,null,null,null,null,null,0]
[null,null,null,null,null,null,null,null,null,null,{"$f":"SUM(C239:J239)","v":0}]
[null,null,null,null,null,null,null,null,null,null,{"$f":"SUM(C240:J240)","v":0}]
[null,null,null,null,null,null,null,null,null,null,0]
[null,null,null,null,null,null,null,null,null,null,0]
[null,null,null,null,null,null,null,null,null,null,0]
[null,null,null,null,null,null,null,null,null,null,0]
[null,null,null,null,null,null,null,null,null,null,0]
[null,null,null,null,null,null,null,null,null,null,0]
[null,null,null,null,null,null,null,null,null,null,0]
[null,null,null,null,null,null,null,null,null,null,0]
[null,null,null,null,null,null,null,null,null,null,0]
[null,null,null,null,null,null,null,null,null,null,0]
[null,null,null,null,null,null,null,null,null,null,0]
[null,null,null,null,null,null,null,null,null,null,0]
[null,null,null,null,null,null,null,null,null,null,0]
[null,null,null,null,null,null,null,null,null,null,0]
[null,null,null,null,null,null,null,null,null,null,0]
[null,null,null,null,null,null,null,null,null,null,0]
[null,null,null,null,null,null,null,null,null,null,0]
[null,null,null,null,null,null,null,null,null,null,0]
[null,null,null,null,null,null,null,null,null,null,0]
[null,null,null,null,null,null,null,null,null,null,0]
[null,null,null,null,null,null,null,null,null,null,0]
[null,null,null,null,null,null,null,null,null,null,0]
[null,null,null,null,null,null,null,null,null,null,0]
["TOT Jour",null,{"$f":"SUM(C214:C263)","v":0},{"$f":"SUM(D214:D263)","v":0},0,0,0,0,0,0]
["TOT Période",null,{"$f":"SUM(C264:J264)","v":0}]
[{"$f":"B9","v":4}]
[]
[]
["Période :",{"$f":"Accueil!E20","v":"P5"},{"$f":"Accueil!$F20","v":"du"},{"$f":"Accueil!$G20","v":"2015-05-03"},{"$f":"Accueil!$H20","v":"au"},{"$f":"Accueil!$I20","v":"2015-07-03"}]
["Selectionnez la classe participant à l'atelier :"]
["NOM","Prénom",{"$f":"Accueil!B47","v":"2015-05-04"},{"$f":"Accueil!C47","v":"2015-05-05"},{"$f":"Accueil!D47","v":"2015-05-06"},{"$f":"Accueil!E47","v":"2015-05-07"},{"$f":"Accueil!F47","v":"2015-05-08"},{"$f":"Accueil!G47","v":"2015-05-09"},{"$f":"Accueil!H47","v":"2015-05-10"},{"$f":"Accueil!I47","v":"2015-05-10"},"TOT"]
[null,null,null,null,null,null,null,null,null,null,{"$f":"SUM(C272:J272)","v":0}]
[null,null,null,null,null,null,null,null,null,null,{"$f":"SUM(C273:J273)","v":0}]
[null,null,null,null,null,null,null,null,null,null,0]
[null,null,null,null,null,null,null,null,null,null,0]
[null,null,null,null,null,null,null,null,null,null,0]
[null,null,null,null,null,null,null,null,null,null,0]
[null,null,null,null,null,null,null,null,null,null,0]
[null,null,null,null,null,null,null,null,null,null,0]
[null,null,null,null,null,null,null,null,null,null,0]
[null,null,null,null,null,null,null,null,null,null,0]
[null,null,null,null,null,null,null,null,null,null,0]
[null,null,null,null,null,null,null,null,null,null,0]
[null,null,null,null,null,null,null,null,null,null,0]
[null,null,null,null,null,null,null,null,null,null,0]
[null,null,null,null,null,null,null,null,null,null,0]
[null,null,null,null,null,null,null,null,null,null,0]
[null,null,null,null,null,null,null,null,null,null,0]
[null,null,null,null,null,null,null,null,null,null,0]
[null,null,null,null,null,null,null,null,null,null,0]
[null,null,null,null,null,null,null,null,null,null,0]
[null,null,null,null,null,null,null,null,null,null,0]
[null,null,null,null,null,null,null,null,null,null,0]
[null,null,null,null,null,null,null,null,null,null,0]
[null,null,null,null,null,null,null,null,null,null,0]
[null,null,null,null,null,null,null,null,null,null,0]
[null,null,null,null,null,null,null,null,null,null,{"$f":"SUM(C297:J297)","v":0}]
[null,null,null,null,null,null,null,null,null,null,{"$f":"SUM(C298:J298)","v":0}]
[null,null,null,null,null,null,null,null,null,null,0]
[null,null,null,null,null,null,null,null,null,null,0]
[null,null,null,null,null,null,null,null,null,null,0]
[null,null,null,null,null,null,null,null,null,null,0]
[null,null,null,null,null,null,null,null,null,null,0]
[null,null,null,null,null,null,null,null,null,null,0]
[null,null,null,null,null,null,null,null,null,null,0]
[null,null,null,null,null,null,null,null,null,null,0]
[null,null,null,null,null,null,null,null,null,null,0]
[null,null,null,null,null,null,null,null,null,null,0]
[null,null,null,null,null,null,null,null,null,null,0]
[null,null,null,null,null,null,null,null,null,null,0]
[null,null,null,null,null,null,null,null,null,null,0]
[null,null,null,null,null,null,null,null,null,null,0]
[null,null,null,null,null,null,null,null,null,null,0]
[null,null,null,null,null,null,null,null,null,null,0]
[null,null,null,null,null,null,null,null,null,null,0]
[null,null,null,null,null,null,null,null,null,null,0]
[null,null,null,null,null,null,null,null,null,null,0]
[null,null,null,null,null,null,null,null,null,null,0]
[null,null,null,null,null,null,null,null,null,null,0]
[null,null,null,null,null,null,null,null,null,null,0]
[null,null,null,null,null,null,null,null,null,null,0]
["TOT Jour",null,{"$f":"SUM(C272:C321)","v":0},{"$f":"SUM(D272:D321)","v":0},0,0,0,0,0,0]
["TOT Période",null,{"$f":"SUM(C322:J322)","v":0}]
["Statistiques"]
[]
[]
["Nombre d'heure de fréquentation :"]
[{"$f":"Accueil!$E12","v":"P1"},{"$f":"$C$91*1.5","v":0},"heures de présence pour cet atelier et pour cette période"]
[{"$f":"Accueil!$E14","v":"P2"},{"$f":"$C$149*1.5","v":0},"heures de présence pour cet atelier et pour cette période"]
[{"$f":"Accueil!$E16","v":"P3"},{"$f":"$C$207*1.5","v":0},"heures de présence pour cet atelier et pour cette période"]
[{"$f":"Accueil!$E18","v":"P4"},{"$f":"$C$265*1.5","v":0},"heures de présence pour cet atelier et pour cette période"]
[{"$f":"Accueil!$E20","v":"P5"},{"$f":"$C$323*1.5","v":0},"heures de présence pour cet atelier et pour cette période"]
["TOT",{"$f":"SUM($B$328:$B$332)","v":0},"heures de présence pour cet atelier et pour l'année"]

{"sheet":"5","index":20,"n_rows":333,"n_cols":11,"rows_kept":333,"cut":false,"hidden":false,"merged":[[332,2,332,6],[323,0,324,10],[327,2,327,6],[328,2,328,6],[329,2,329,6],[330,2,330,6],[331,2,331,6],[265,0,266,10],[269,0,269,3],[269,4,269,5],[321,0,321,1],[322,0,322,1],[322,2,322,9],[207,0,208,10],[211,0,211,3],[211,4,211,5],[263,0,263,1],[264,0,264,1],[264,2,264,9],[149,0,150,10],[153,0,153,3],[153,4,153,5],[205,0,205,1],[206,0,206,1],[206,2,206,9],[91,0,92,10],[95,0,95,3],[95,4,95,5],[147,0,147,1],[148,0,148,1],[148,2,148,9],[90,0,90,1],[90,2,90,9],[8,1,15,9],[33,0,34,10],[37,0,37,3],[37,4,37,5],[89,0,89,1],[17,0,18,10],[19,0,22,10],[16,2,16,9]]}
[]
[]
[]
[]
[]
[]
[]
[]
[null,{"$f":"Accueil!B24","v":5}]
[]
[]
[]
[]
[]
[]
[]
[null,{"$f":"Machin!B17","v":"Avec :"},{"$f":"Accueil!C24","v":0}]
[{"$f":"Machin!$A$28","v":"ATTENTION !"}]
[]
[{"$f":"Machin!$A$30","v":"Vous ne devez pas ajouter ou supprimer les enfants depuis cette feuille ! \nPour ajouter des enfants dans cet atelier -> Aller dans la feuille de la classe des enfants et suivre les instructions.\nPour supprimer des enfants de cet atelier -> Aller dans la feuille de la classe des enfants et suivre les instructions."}]
[]
[]
[]
[]
[]
[]
[]
[]
[]
[]
[]
[]
[]
[{"$f":"B9","v":5}]
[]
[]
["Période :",{"$f":"Accueil!$E$12","v":"P1"},{"$f":"Accueil!$F$12","v":"du"},{"$f":"Accueil!$G$12","v":"2014-09-02"},{"$f":"Accueil!$H$12","v":"au"},{"$f":"Accueil!$I$12","v":"2014-10-17"}]
["Selectionnez la classe participant à l'atelier :"]
["NOM","Prénom",{"$f":"Accueil!B39","v":"2015-09-05"},{"$f":"Accueil!C39","v":"2015-09-06"},{"$f":"Accueil!D39","v":"2015-09-07"},{"$f":"Accueil!E39","v":"2015-09-08"},{"$f":"Accueil!F39","v":"2015-09-09"},{"$f":"Accueil!G39","v":"2015-09-10"},{"$f":"Accueil!H39","v":"2015-09-11"},{"$f":"Accueil!I39","v":"2015-09-11"},"TOT"]
[null,null,null,null,null,null,null,null,null,null,{"$f":"SUM(C40:J40)","v":0}]
[null,null,null,null,null,null,null,null,null,null,{"$f":"SUM(C41:J41)","v":0}]
[null,null,null,null,null,null,null,null,null,null,0]
[null,null,null,null,null,null,null,null,null,null,0]
[null,null,null,null,null,null,null,null,null,null,0]
[null,null,null,null,null,null,null,null,null,null,0]
[null,null,null,null,null,null,null,null,null,null,0]
[null,null,null,null,null,null,null,null,null,null,0]
[null,null,null,null,null,null,null,null,null,null,0]
[null,null,null,null,null,null,null,null,null,null,0]
[null,null,null,null,null,null,null,null,null,null,0]
[null,null,null,null,null,null,null,null,null,null,0]
[null,null,null,null,null,null,null,null,null,null,0]
[null,null,null,null,null,null,null,null,null,null,0]
[null,null,null,null,null,null,null,null,null,null,0]
[null,null,null,null,null,null,null,null,null,null,0]
[null,null,null,null,null,null,null,null,null,null,0]
[null,null,null,null,null,null,null,null,null,null,0]
[null,null,null,null,null,null,null,null,null,null,0]
[null,null,null,null,null,null,null,null,null,null,0]
[null,null,null,null,null,null,null,null,null,null,0]
[null,null,null,null,null,null,null,null,null,null,0]
[null,null,null,null,null,null,null,null,null,null,0]
[null,null,null,null,null,null,null,null,null,null,0]
[null,null,null,null,null,null,null,null,null,null,0]
[null,null,null,null,null,null,null,null,null,null,{"$f":"SUM(C65:J65)","v":0}]
[null,null,null,null,null,null,null,null,null,null,{"$f":"SUM(C66:J66)","v":0}]
[null,null,null,null,null,null,null,null,null,null,0]
[null,null,null,null,null,null,null,null,null,null,0]
[null,null,null,null,null,null,null,null,null,null,0]
[null,null,null,null,null,null,null,null,null,null,0]
[null,null,null,null,null,null,null,null,null,null,0]
[null,null,null,null,null,null,null,null,null,null,0]
[null,null,null,null,null,null,null,null,null,null,0]
[null,null,null,null,null,null,null,null,null,null,0]
[null,null,null,null,null,null,null,null,null,null,0]
[null,null,null,null,null,null,null,null,null,null,0]
[null,null,null,null,null,null,null,null,null,null,0]
[null,null,null,null,null,null,null,null,null,null,0]
[null,null,null,null,null,null,null,null,null,null,0]
[null,null,null,null,null,null,null,null,null,null,0]
[null,null,null,null,null,null,null,null,null,null,0]
[null,null,null,null,null,null,null,null,null,null,0]
[null,null,null,null,null,null,null,null,null,null,0]
[null,null,null,null,null,null,null,null,null,null,0]
[null,null,null,null,null,null,null,null,null,null,0]
[null,null,null,null,null,null,null,null,null,null,0]
[null,null,null,null,null,null,null,null,null,null,0]
[null,null,null,null,null,null,null,null,null,null,0]
[null,null,null,null,null,null,null,null,null,null,0]
["TOT Jour",null,{"$f":"SUM(C40:C89)","v":0},{"$f":"SUM(D40:D89)","v":0},0,0,0,0,0,0]
["TOT Période",null,{"$f":"SUM(C90:J90)","v":0}]
[{"$f":"B9","v":5}]
[]
[]
["Période :",{"$f":"Accueil!$E14","v":"P2"},{"$f":"Accueil!$F14","v":"du"},{"$f":"Accueil!$G14","v":"2014-11-02"},{"$f":"Accueil!$H14","v":"au"},{"$f":"Accueil!$I14","v":"2014-12-18"}]
["Selectionnez la classe participant à l'atelier :"]
["NOM","Prénom",{"$f":"Accueil!B41","v":"2014-11-03"},{"$f":"Accueil!C41","v":"2014-11-04"},{"$f":"Accueil!D41","v":"2014-11-05"},{"$f":"Accueil!E41","v":"2014-11-06"},{"$f":"Accueil!F41","v":"2014-11-07"},{"$f":"Accueil!G41","v":"2014-11-08"},{"$f":"Accueil!H41","v":"2014-11-09"},{"$f":"Accueil!I41","v":"2014-11-09"},"TOT"]
[null,null,null,null,null,null,null,null,null,null,{"$f":"SUM(C98:J98)","v":0}]
[null,null,null,null,null,null,null,null,null,null,{"$f":"SUM(C99:J99)","v":0}]
[null,null,null,null,null,null,null,null,null,null,0]
[null,null,null,null,null,null,null,null,null,null,0]
[null,null,null,null,null,null,null,null,null,null,0]
[null,null,null,null,null,null,null,null,null,null,0]
[null,null,null,null,null,null,null,null,null,null,0]
[null,null,null,null,null,null,null,null,null,null,0]
[null,null,null,null,null,null,null,null,null,null,0]
[null,null,null,null,null,null,null,null,null,null,0]
[null,null,null,null,null,null,null,null,null,null,0]
[null,null,null,null,null,null,null,null,null,null,0]
[null,null,null,null,null,null,null,null,null,null,0]
[null,null,null,null,null,null,null,null,null,null,0]
[null,null,null,null,null,null,null,null,null,null,0]
[null,null,null,null,null,null,null,null,null,null,0]
[null,null,null,null,null,null,null,null,null,null,0]
[null,null,null,null,null,null,null,null,null,null,0]
[null,null,null,null,null,null,null,null,null,null,0]
[null,null,null,null,null,null,null,null,null,null,0]
[null,null,null,null,null,null,null,null,null,null,0]
[null,null,null,null,null,null,null,null,null,null,0]
[null,null,null,null,null,null,null,null,null,null,0]
[null,null,null,null,null,null,null,null,null,null,0]
[null,null,null,null,null,null,null,null,null,null,0]
[null,null,null,null,null,null,null,null,null,null,{"$f":"SUM(C123:J123)","v":0}]
[null,null,null,null,null,null,null,null,null,null,{"$f":"SUM(C124:J124)","v":0}]
[null,null,null,null,null,null,null,null,null,null,0]
[null,null,null,null,null,null,null,null,null,null,0]
[null,null,null,null,null,null,null,null,null,null,0]
[null,null,null,null,null,null,null,null,null,null,0]
[null,null,null,null,null,null,null,null,null,null,0]
[null,null,null,null,null,null,null,null,null,null,0]
[null,null,null,null,null,null,null,null,null,null,0]
[null,null,null,null,null,null,null,null,null,null,0]
[null,null,null,null,null,null,null,null,null,null,0]
[null,null,null,null,null,null,null,null,null,null,0]
[null,null,null,null,null,null,null,null,null,null,0]
[null,null,null,null,null,null,null,null,null,null,0]
[null,null,null,null,null,null,null,null,null,null,0]
[null,null,null,null,null,null,null,null,null,null,0]
[null,null,null,null,null,null,null,null,null,null,0]
[null,null,null,null,null,null,null,null,null,null,0]
[null,null,null,null,null,null,null,null,null,null,0]
[null,null,null,null,null,null,null,null,null,null,0]
[null,null,null,null,null,null,null,null,null,null,0]
[null,null,null,null,null,null,null,null,null,null,0]
[null,null,null,null,null,null,null,null,null,null,0]
[null,null,null,null,null,null,null,null,null,null,0]
[null,null,null,null,null,null,null,null,null,null,0]
["TOT Jour",null,{"$f":"SUM(C98:C147)","v":0},{"$f":"SUM(D98:D147)","v":0},0,0,0,0,0,0]
["TOT Période",null,{"$f":"SUM(C148:J148)","v":0}]
[{"$f":"B9","v":5}]
[]
[]
["Période :",{"$f":"Accueil!E16","v":"P3"},{"$f":"Accueil!$F16","v":"du"},{"$f":"Accueil!$G16","v":"2015-01-04"},{"$f":"Accueil!$H16","v":"au"},{"$f":"Accueil!$I16","v":"2015-02-20"}]
["Selectionnez la classe participant à l'atelier :"]
["NOM","Prénom",{"$f":"Accueil!B43","v":"2015-01-05"},{"$f":"Accueil!C43","v":"2015-01-06"},{"$f":"Accueil!D43","v":"2015-01-07"},{"$f":"Accueil!E43","v":"2015-01-08"},{"$f":"Accueil!F43","v":"2015-01-09"},{"$f":"Accueil!G43","v":"2015-01-10"},{"$f":"Accueil!H43","v":"2015-01-11"},{"$f":"Accueil!I43","v":"2015-01-11"},"TOT"]
[null,null,null,null,null,null,null,null,null,null,{"$f":"SUM(C156:J156)","v":0}]
[null,null,null,null,null,null,null,null,null,null,{"$f":"SUM(C157:J157)","v":0}]
[null,null,null,null,null,null,null,null,null,null,0]
[null,null,null,null,null,null,null,null,null,null,0]
[null,null,null,null,null,null,null,null,null,null,0]
[null,null,null,null,null,null,null,null,null,null,0]
[null,null,null,null,null,null,null,null,null,null,0]
[null,null,null,null,null,null,null,null,null,null,0]
[null,null,null,null,null,null,null,null,null,null,0]
[null,null,null,null,null,null,null,null,null,null,0]
[null,null,null,null,null,null,null,null,null,null,0]
[null,null,null,null,null,null,null,null,null,null,0]
[null,null,null,null,null,null,null,null,null,null,0]
[null,null,null,null,null,null,null,null,null,null,0]
[null,null,null,null,null,null,null,null,null,null,0]
[null,null,null,null,null,null,null,null,null,null,0]
[null,null,null,null,null,null,null,null,null,null,0]
[null,null,null,null,null,null,null,null,null,null,0]
[null,null,null,null,null,null,null,null,null,null,0]
[null,null,null,null,null,null,null,null,null,null,0]
[null,null,null,null,null,null,null,null,null,null,0]
[null,null,null,null,null,null,null,null,null,null,0]
[null,null,null,null,null,null,null,null,null,null,0]
[null,null,null,null,null,null,null,null,null,null,0]
[null,null,null,null,null,null,null,null,null,null,0]
[null,null,null,null,null,null,null,null,null,null,{"$f":"SUM(C181:J181)","v":0}]
[null,null,null,null,null,null,null,null,null,null,{"$f":"SUM(C182:J182)","v":0}]
[null,null,null,null,null,null,null,null,null,null,0]
[null,null,null,null,null,null,null,null,null,null,0]
[null,null,null,null,null,null,null,null,null,null,0]
[null,null,null,null,null,null,null,null,null,null,0]
[null,null,null,null,null,null,null,null,null,null,0]
[null,null,null,null,null,null,null,null,null,null,0]
[null,null,null,null,null,null,null,null,null,null,0]
[null,null,null,null,null,null,null,null,null,null,0]
[null,null,null,null,null,null,null,null,null,null,0]
[null,null,null,null,null,null,null,null,null,null,0]
[null,null,null,null,null,null,null,null,null,null,0]
[null,null,null,null,null,null,null,null,null,null,0]
[null,null,null,null,null,null,null,null,null,null,0]
[null,null,null,null,null,null,null,null,null,null,0]
[null,null,null,null,null,null,null,null,null,null,0]
[null,null,null,null,null,null,null,null,null,null,0]
[null,null,null,null,null,null,null,null,null,null,0]
[null,null,null,null,null,null,null,null,null,null,0]
[null,null,null,null,null,null,null,null,null,null,0]
[null,null,null,null,null,null,null,null,null,null,0]
[null,null,null,null,null,null,null,null,null,null,0]
[null,null,null,null,null,null,null,null,null,null,0]
[null,null,null,null,null,null,null,null,null,null,0]
["TOT Jour",null,{"$f":"SUM(C156:C205)","v":0},{"$f":"SUM(D156:D205)","v":0},0,0,0,0,0,0]
["TOT Période",null,{"$f":"SUM(C206:J206)","v":0}]
[{"$f":"B9","v":5}]
[]
[]
["Période :",{"$f":"Accueil!E18","v":"P4"},{"$f":"Accueil!$F18","v":"du"},{"$f":"Accueil!$G18","v":"2015-03-08"},{"$f":"Accueil!$H18","v":"au"},{"$f":"Accueil!$I18","v":"2015-04-15"}]
["Selectionnez la classe participant à l'atelier :"]
["NOM","Prénom",{"$f":"Accueil!B45","v":"2015-03-09"},{"$f":"Accueil!C45","v":"2015-03-10"},{"$f":"Accueil!D45","v":"2015-03-11"},{"$f":"Accueil!E45","v":"2015-03-12"},{"$f":"Accueil!F45","v":"2015-03-13"},{"$f":"Accueil!G45","v":"2015-03-14"},{"$f":"Accueil!H45","v":"2015-03-15"},{"$f":"Accueil!I45","v":"2015-03-15"},"TOT"]
[null,null,null,null,null,null,null,null,null,null,{"$f":"SUM(C214:J214)","v":0}]
[null,null,null,null,null,null,null,null,null,null,{"$f":"SUM(C215:J215)","v":0}]
[null,null,null,null,null,null,null,null,null,null,0]
[null,null,null,null,null,null,null,null,null,null,0]
[null,null,null,null,null,null,null,null,null,null,0]
[null,null,null,null,null,null,null,null,null,null,0]
[null,null,null,null,null,null,null,null,null,null,0]
[null,null,null,null,null,null,null,null,null,null,0]
[null,null,null,null,null,null,null,null,null,null,0]
[null,null,null,null,null,null,null,null,null,null,0]
[null,null,null,null,null,null,null,null,null,null,0]
[null,null,null,null,null,null,null,null,null,null,0]
[null,null,null,null,null,null,null,null,null,null,0]
[null,null,null,null,null,null,null,null,null,null,0]
[null,null,null,null,null,null,null,null,null,null,0]
[null,null,null,null,null,null,null,null,null,null,0]
[null,null,null,null,null,null,null,null,null,null,0]
[null,null,null,null,null,null,null,null,null,null,0]
[null,null,null,null,null,null,null,null,null,null,0]
[null,null,null,null,null,null,null,null,null,null,0]
[null,null,null,null,null,null,null,null,null,null,0]
[null,null,null,null,null,null,null,null,null,null,0]
[null,null,null,null,null,null,null,null,null,null,0]
[null,null,null,null,null,null,null,null,null,null,0]
[null,null,null,null,null,null,null,null,null,null,0]
[null,null,null,null,null,null,null,null,null,null,{"$f":"SUM(C239:J239)","v":0}]
[null,null,null,null,null,null,null,null,null,null,{"$f":"SUM(C240:J240)","v":0}]
[null,null,null,null,null,null,null,null,null,null,0]
[null,null,null,null,null,null,null,null,null,null,0]
[null,null,null,null,null,null,null,null,null,null,0]
[null,null,null,null,null,null,null,null,null,null,0]
[null,null,null,null,null,null,null,null,null,null,0]
[null,null,null,null,null,null,null,null,null,null,0]
[null,null,null,null,null,null,null,null,null,null,0]
[null,null,null,null,null,null,null,null,null,null,0]
[null,null,null,null,null,null,null,null,null,null,0]
[null,null,null,null,null,null,null,null,null,null,0]
[null,null,null,null,null,null,null,null,null,null,0]
[null,null,null,null,null,null,null,null,null,null,0]
[null,null,null,null,null,null,null,null,null,null,0]
[null,null,null,null,null,null,null,null,null,null,0]
[null,null,null,null,null,null,null,null,null,null,0]
[null,null,null,null,null,null,null,null,null,null,0]
[null,null,null,null,null,null,null,null,null,null,0]
[null,null,null,null,null,null,null,null,null,null,0]
[null,null,null,null,null,null,null,null,null,null,0]
[null,null,null,null,null,null,null,null,null,null,0]
[null,null,null,null,null,null,null,null,null,null,0]
[null,null,null,null,null,null,null,null,null,null,0]
[null,null,null,null,null,null,null,null,null,null,0]
["TOT Jour",null,{"$f":"SUM(C214:C263)","v":0},{"$f":"SUM(D214:D263)","v":0},0,0,0,0,0,0]
["TOT Période",null,{"$f":"SUM(C264:J264)","v":0}]
[{"$f":"B9","v":5}]
[]
[]
["Période :",{"$f":"Accueil!E20","v":"P5"},{"$f":"Accueil!$F20","v":"du"},{"$f":"Accueil!$G20","v":"2015-05-03"},{"$f":"Accueil!$H20","v":"au"},{"$f":"Accueil!$I20","v":"2015-07-03"}]
["Selectionnez la classe participant à l'atelier :"]
["NOM","Prénom",{"$f":"Accueil!B47","v":"2015-05-04"},{"$f":"Accueil!C47","v":"2015-05-05"},{"$f":"Accueil!D47","v":"2015-05-06"},{"$f":"Accueil!E47","v":"2015-05-07"},{"$f":"Accueil!F47","v":"2015-05-08"},{"$f":"Accueil!G47","v":"2015-05-09"},{"$f":"Accueil!H47","v":"2015-05-10"},{"$f":"Accueil!I47","v":"2015-05-10"},"TOT"]
[null,null,null,null,null,null,null,null,null,null,{"$f":"SUM(C272:J272)","v":0}]
[null,null,null,null,null,null,null,null,null,null,{"$f":"SUM(C273:J273)","v":0}]
[null,null,null,null,null,null,null,null,null,null,0]
[null,null,null,null,null,null,null,null,null,null,0]
[null,null,null,null,null,null,null,null,null,null,0]
[null,null,null,null,null,null,null,null,null,null,0]
[null,null,null,null,null,null,null,null,null,null,0]
[null,null,null,null,null,null,null,null,null,null,0]
[null,null,null,null,null,null,null,null,null,null,0]
[null,null,null,null,null,null,null,null,null,null,0]
[null,null,null,null,null,null,null,null,null,null,0]
[null,null,null,null,null,null,null,null,null,null,0]
[null,null,null,null,null,null,null,null,null,null,0]
[null,null,null,null,null,null,null,null,null,null,0]
[null,null,null,null,null,null,null,null,null,null,0]
[null,null,null,null,null,null,null,null,null,null,0]
[null,null,null,null,null,null,null,null,null,null,0]
[null,null,null,null,null,null,null,null,null,null,0]
[null,null,null,null,null,null,null,null,null,null,0]
[null,null,null,null,null,null,null,null,null,null,0]
[null,null,null,null,null,null,null,null,null,null,0]
[null,null,null,null,null,null,null,null,null,null,0]
[null,null,null,null,null,null,null,null,null,null,0]
[null,null,null,null,null,null,null,null,null,null,0]
[null,null,null,null,null,null,null,null,null,null,0]
[null,null,null,null,null,null,null,null,null,null,{"$f":"SUM(C297:J297)","v":0}]
[null,null,null,null,null,null,null,null,null,null,{"$f":"SUM(C298:J298)","v":0}]
[null,null,null,null,null,null,null,null,null,null,0]
[null,null,null,null,null,null,null,null,null,null,0]
[null,null,null,null,null,null,null,null,null,null,0]
[null,null,null,null,null,null,null,null,null,null,0]
[null,null,null,null,null,null,null,null,null,null,0]
[null,null,null,null,null,null,null,null,null,null,0]
[null,null,null,null,null,null,null,null,null,null,0]
[null,null,null,null,null,null,null,null,null,null,0]
[null,null,null,null,null,null,null,null,null,null,0]
[null,null,null,null,null,null,null,null,null,null,0]
[null,null,null,null,null,null,null,null,null,null,0]
[null,null,null,null,null,null,null,null,null,null,0]
[null,null,null,null,null,null,null,null,null,null,0]
[null,null,null,null,null,null,null,null,null,null,0]
[null,null,null,null,null,null,null,null,null,null,0]
[null,null,null,null,null,null,null,null,null,null,0]
[null,null,null,null,null,null,null,null,null,null,0]
[null,null,null,null,null,null,null,null,null,null,0]
[null,null,null,null,null,null,null,null,null,null,0]
[null,null,null,null,null,null,null,null,null,null,0]
[null,null,null,null,null,null,null,null,null,null,0]
[null,null,null,null,null,null,null,null,null,null,0]
[null,null,null,null,null,null,null,null,null,null,0]
["TOT Jour",null,{"$f":"SUM(C272:C321)","v":0},{"$f":"SUM(D272:D321)","v":0},0,0,0,0,0,0]
["TOT Période",null,{"$f":"SUM(C322:J322)","v":0}]
["Statistiques"]
[]
[]
["Nombre d'heure de fréquentation :"]
[{"$f":"Accueil!$E12","v":"P1"},{"$f":"$C$91*1.5","v":0},"heures de présence pour cet atelier et pour cette période"]
[{"$f":"Accueil!$E14","v":"P2"},{"$f":"$C$149*1.5","v":0},"heures de présence pour cet atelier et pour cette période"]
[{"$f":"Accueil!$E16","v":"P3"},{"$f":"$C$207*1.5","v":0},"heures de présence pour cet atelier et pour cette période"]
[{"$f":"Accueil!$E18","v":"P4"},{"$f":"$C$265*1.5","v":0},"heures de présence pour cet atelier et pour cette période"]
[{"$f":"Accueil!$E20","v":"P5"},{"$f":"$C$323*1.5","v":0},"heures de présence pour cet atelier et pour cette période"]
["TOT",{"$f":"SUM($B$328:$B$332)","v":0},"heures de présence pour cet atelier et pour l'année"]

{"sheet":"6","index":21,"n_rows":333,"n_cols":11,"rows_kept":333,"cut":false,"hidden":false,"merged":[[332,2,332,6],[323,0,324,10],[327,2,327,6],[328,2,328,6],[329,2,329,6],[330,2,330,6],[331,2,331,6],[265,0,266,10],[269,0,269,3],[269,4,269,5],[321,0,321,1],[322,0,322,1],[322,2,322,9],[207,0,208,10],[211,0,211,3],[211,4,211,5],[263,0,263,1],[264,0,264,1],[264,2,264,9],[149,0,150,10],[153,0,153,3],[153,4,153,5],[205,0,205,1],[206,0,206,1],[206,2,206,9],[91,0,92,10],[95,0,95,3],[95,4,95,5],[147,0,147,1],[148,0,148,1],[148,2,148,9],[90,0,90,1],[90,2,90,9],[8,1,15,9],[33,0,34,10],[37,0,37,3],[37,4,37,5],[89,0,89,1],[17,0,18,10],[19,0,22,10],[16,2,16,9]]}
[]
[]
[]
[]
[]
[]
[]
[]
[null,{"$f":"Accueil!B25","v":6}]
[]
[]
[]
[]
[]
[]
[]
[null,{"$f":"Machin!B17","v":"Avec :"},{"$f":"Accueil!C25","v":0}]
[{"$f":"Machin!$A$28","v":"ATTENTION !"}]
[]
[{"$f":"Machin!$A$30","v":"Vous ne devez pas ajouter ou supprimer les enfants depuis cette feuille ! \nPour ajouter des enfants dans cet atelier -> Aller dans la feuille de la classe des enfants et suivre les instructions.\nPour supprimer des enfants de cet atelier -> Aller dans la feuille de la classe des enfants et suivre les instructions."}]
[]
[]
[]
[]
[]
[]
[]
[]
[]
[]
[]
[]
[]
[{"$f":"B9","v":6}]
[]
[]
["Période :",{"$f":"Accueil!$E$12","v":"P1"},{"$f":"Accueil!$F$12","v":"du"},{"$f":"Accueil!$G$12","v":"2014-09-02"},{"$f":"Accueil!$H$12","v":"au"},{"$f":"Accueil!$I$12","v":"2014-10-17"}]
["Selectionnez la classe participant à l'atelier :"]
["NOM","Prénom",{"$f":"Accueil!B39","v":"2015-09-05"},{"$f":"Accueil!C39","v":"2015-09-06"},{"$f":"Accueil!D39","v":"2015-09-07"},{"$f":"Accueil!E39","v":"2015-09-08"},{"$f":"Accueil!F39","v":"2015-09-09"},{"$f":"Accueil!G39","v":"2015-09-10"},{"$f":"Accueil!H39","v":"2015-09-11"},{"$f":"Accueil!I39","v":"2015-09-11"},"TOT"]
[null,null,null,null,null,null,null,null,null,null,{"$f":"SUM(C40:J40)","v":0}]
[null,null,null,null,null,null,null,null,null,null,{"$f":"SUM(C41:J41)","v":0}]
[null,null,null,null,null,null,null,null,null,null,0]
[null,null,null,null,null,null,null,null,null,null,0]
[null,null,null,null,null,null,null,null,null,null,0]
[null,null,null,null,null,null,null,null,null,null,0]
[null,null,null,null,null,null,null,null,null,null,0]
[null,null,null,null,null,null,null,null,null,null,0]
[null,null,null,null,null,null,null,null,null,null,0]
[null,null,null,null,null,null,null,null,null,null,0]
[null,null,null,null,null,null,null,null,null,null,0]
[null,null,null,null,null,null,null,null,null,null,0]
[null,null,null,null,null,null,null,null,null,null,0]
[null,null,null,null,null,null,null,null,null,null,0]
[null,null,null,null,null,null,null,null,null,null,0]
[null,null,null,null,null,null,null,null,null,null,0]
[null,null,null,null,null,null,null,null,null,null,0]
[null,null,null,null,null,null,null,null,null,null,0]
[null,null,null,null,null,null,null,null,null,null,0]
[null,null,null,null,null,null,null,null,null,null,0]
[null,null,null,null,null,null,null,null,null,null,0]
[null,null,null,null,null,null,null,null,null,null,0]
[null,null,null,null,null,null,null,null,null,null,0]
[null,null,null,null,null,null,null,null,null,null,0]
[null,null,null,null,null,null,null,null,null,null,0]
[null,null,null,null,null,null,null,null,null,null,{"$f":"SUM(C65:J65)","v":0}]
[null,null,null,null,null,null,null,null,null,null,{"$f":"SUM(C66:J66)","v":0}]
[null,null,null,null,null,null,null,null,null,null,0]
[null,null,null,null,null,null,null,null,null,null,0]
[null,null,null,null,null,null,null,null,null,null,0]
[null,null,null,null,null,null,null,null,null,null,0]
[null,null,null,null,null,null,null,null,null,null,0]
[null,null,null,null,null,null,null,null,null,null,0]
[null,null,null,null,null,null,null,null,null,null,0]
[null,null,null,null,null,null,null,null,null,null,0]
[null,null,null,null,null,null,null,null,null,null,0]
[null,null,null,null,null,null,null,null,null,null,0]
[null,null,null,null,null,null,null,null,null,null,0]
[null,null,null,null,null,null,null,null,null,null,0]
[null,null,null,null,null,null,null,null,null,null,0]
[null,null,null,null,null,null,null,null,null,null,0]
[null,null,null,null,null,null,null,null,null,null,0]
[null,null,null,null,null,null,null,null,null,null,0]
[null,null,null,null,null,null,null,null,null,null,0]
[null,null,null,null,null,null,null,null,null,null,0]
[null,null,null,null,null,null,null,null,null,null,0]
[null,null,null,null,null,null,null,null,null,null,0]
[null,null,null,null,null,null,null,null,null,null,0]
[null,null,null,null,null,null,null,null,null,null,0]
[null,null,null,null,null,null,null,null,null,null,0]
["TOT Jour",null,{"$f":"SUM(C40:C89)","v":0},{"$f":"SUM(D40:D89)","v":0},0,0,0,0,0,0]
["TOT Période",null,{"$f":"SUM(C90:J90)","v":0}]
[{"$f":"B9","v":6}]
[]
[]
["Période :",{"$f":"Accueil!$E14","v":"P2"},{"$f":"Accueil!$F14","v":"du"},{"$f":"Accueil!$G14","v":"2014-11-02"},{"$f":"Accueil!$H14","v":"au"},{"$f":"Accueil!$I14","v":"2014-12-18"}]
["Selectionnez la classe participant à l'atelier :"]
["NOM","Prénom",{"$f":"Accueil!B41","v":"2014-11-03"},{"$f":"Accueil!C41","v":"2014-11-04"},{"$f":"Accueil!D41","v":"2014-11-05"},{"$f":"Accueil!E41","v":"2014-11-06"},{"$f":"Accueil!F41","v":"2014-11-07"},{"$f":"Accueil!G41","v":"2014-11-08"},{"$f":"Accueil!H41","v":"2014-11-09"},{"$f":"Accueil!I41","v":"2014-11-09"},"TOT"]
[null,null,null,null,null,null,null,null,null,null,{"$f":"SUM(C98:J98)","v":0}]
[null,null,null,null,null,null,null,null,null,null,{"$f":"SUM(C99:J99)","v":0}]
[null,null,null,null,null,null,null,null,null,null,0]
[null,null,null,null,null,null,null,null,null,null,0]
[null,null,null,null,null,null,null,null,null,null,0]
[null,null,null,null,null,null,null,null,null,null,0]
[null,null,null,null,null,null,null,null,null,null,0]
[null,null,null,null,null,null,null,null,null,null,0]
[null,null,null,null,null,null,null,null,null,null,0]
[null,null,null,null,null,null,null,null,null,null,0]
[null,null,null,null,null,null,null,null,null,null,0]
[null,null,null,null,null,null,null,null,null,null,0]
[null,null,null,null,null,null,null,null,null,null,0]
[null,null,null,null,null,null,null,null,null,null,0]
[null,null,null,null,null,null,null,null,null,null,0]
[null,null,null,null,null,null,null,null,null,null,0]
[null,null,null,null,null,null,null,null,null,null,0]
[null,null,null,null,null,null,null,null,null,null,0]
[null,null,null,null,null,null,null,null,null,null,0]
[null,null,null,null,null,null,null,null,null,null,0]
[null,null,null,null,null,null,null,null,null,null,0]
[null,null,null,null,null,null,null,null,null,null,0]
[null,null,null,null,null,null,null,null,null,null,0]
[null,null,null,null,null,null,null,null,null,null,0]
[null,null,null,null,null,null,null,null,null,null,0]
[null,null,null,null,null,null,null,null,null,null,{"$f":"SUM(C123:J123)","v":0}]
[null,null,null,null,null,null,null,null,null,null,{"$f":"SUM(C124:J124)","v":0}]
[null,null,null,null,null,null,null,null,null,null,0]
[null,null,null,null,null,null,null,null,null,null,0]
[null,null,null,null,null,null,null,null,null,null,0]
[null,null,null,null,null,null,null,null,null,null,0]
[null,null,null,null,null,null,null,null,null,null,0]
[null,null,null,null,null,null,null,null,null,null,0]
[null,null,null,null,null,null,null,null,null,null,0]
[null,null,null,null,null,null,null,null,null,null,0]
[null,null,null,null,null,null,null,null,null,null,0]
[null,null,null,null,null,null,null,null,null,null,0]
[null,null,null,null,null,null,null,null,null,null,0]
[null,null,null,null,null,null,null,null,null,null,0]
[null,null,null,null,null,null,null,null,null,null,0]
[null,null,null,null,null,null,null,null,null,null,0]
[null,null,null,null,null,null,null,null,null,null,0]
[null,null,null,null,null,null,null,null,null,null,0]
[null,null,null,null,null,null,null,null,null,null,0]
[null,null,null,null,null,null,null,null,null,null,0]
[null,null,null,null,null,null,null,null,null,null,0]
[null,null,null,null,null,null,null,null,null,null,0]
[null,null,null,null,null,null,null,null,null,null,0]
[null,null,null,null,null,null,null,null,null,null,0]
[null,null,null,null,null,null,null,null,null,null,0]
["TOT Jour",null,{"$f":"SUM(C98:C147)","v":0},{"$f":"SUM(D98:D147)","v":0},0,0,0,0,0,0]
["TOT Période",null,{"$f":"SUM(C148:J148)","v":0}]
[{"$f":"B9","v":6}]
[]
[]
["Période :",{"$f":"Accueil!E16","v":"P3"},{"$f":"Accueil!$F16","v":"du"},{"$f":"Accueil!$G16","v":"2015-01-04"},{"$f":"Accueil!$H16","v":"au"},{"$f":"Accueil!$I16","v":"2015-02-20"}]
["Selectionnez la classe participant à l'atelier :"]
["NOM","Prénom",{"$f":"Accueil!B43","v":"2015-01-05"},{"$f":"Accueil!C43","v":"2015-01-06"},{"$f":"Accueil!D43","v":"2015-01-07"},{"$f":"Accueil!E43","v":"2015-01-08"},{"$f":"Accueil!F43","v":"2015-01-09"},{"$f":"Accueil!G43","v":"2015-01-10"},{"$f":"Accueil!H43","v":"2015-01-11"},{"$f":"Accueil!I43","v":"2015-01-11"},"TOT"]
[null,null,null,null,null,null,null,null,null,null,{"$f":"SUM(C156:J156)","v":0}]
[null,null,null,null,null,null,null,null,null,null,{"$f":"SUM(C157:J157)","v":0}]
[null,null,null,null,null,null,null,null,null,null,0]
[null,null,null,null,null,null,null,null,null,null,0]
[null,null,null,null,null,null,null,null,null,null,0]
[null,null,null,null,null,null,null,null,null,null,0]
[null,null,null,null,null,null,null,null,null,null,0]
[null,null,null,null,null,null,null,null,null,null,0]
[null,null,null,null,null,null,null,null,null,null,0]
[null,null,null,null,null,null,null,null,null,null,0]
[null,null,null,null,null,null,null,null,null,null,0]
[null,null,null,null,null,null,null,null,null,null,0]
[null,null,null,null,null,null,null,null,null,null,0]
[null,null,null,null,null,null,null,null,null,null,0]
[null,null,null,null,null,null,null,null,null,null,0]
[null,null,null,null,null,null,null,null,null,null,0]
[null,null,null,null,null,null,null,null,null,null,0]
[null,null,null,null,null,null,null,null,null,null,0]
[null,null,null,null,null,null,null,null,null,null,0]
[null,null,null,null,null,null,null,null,null,null,0]
[null,null,null,null,null,null,null,null,null,null,0]
[null,null,null,null,null,null,null,null,null,null,0]
[null,null,null,null,null,null,null,null,null,null,0]
[null,null,null,null,null,null,null,null,null,null,0]
[null,null,null,null,null,null,null,null,null,null,0]
[null,null,null,null,null,null,null,null,null,null,{"$f":"SUM(C181:J181)","v":0}]
[null,null,null,null,null,null,null,null,null,null,{"$f":"SUM(C182:J182)","v":0}]
[null,null,null,null,null,null,null,null,null,null,0]
[null,null,null,null,null,null,null,null,null,null,0]
[null,null,null,null,null,null,null,null,null,null,0]
[null,null,null,null,null,null,null,null,null,null,0]
[null,null,null,null,null,null,null,null,null,null,0]
[null,null,null,null,null,null,null,null,null,null,0]
[null,null,null,null,null,null,null,null,null,null,0]
[null,null,null,null,null,null,null,null,null,null,0]
[null,null,null,null,null,null,null,null,null,null,0]
[null,null,null,null,null,null,null,null,null,null,0]
[null,null,null,null,null,null,null,null,null,null,0]
[null,null,null,null,null,null,null,null,null,null,0]
[null,null,null,null,null,null,null,null,null,null,0]
[null,null,null,null,null,null,null,null,null,null,0]
[null,null,null,null,null,null,null,null,null,null,0]
[null,null,null,null,null,null,null,null,null,null,0]
[null,null,null,null,null,null,null,null,null,null,0]
[null,null,null,null,null,null,null,null,null,null,0]
[null,null,null,null,null,null,null,null,null,null,0]
[null,null,null,null,null,null,null,null,null,null,0]
[null,null,null,null,null,null,null,null,null,null,0]
[null,null,null,null,null,null,null,null,null,null,0]
[null,null,null,null,null,null,null,null,null,null,0]
["TOT Jour",null,{"$f":"SUM(C156:C205)","v":0},{"$f":"SUM(D156:D205)","v":0},0,0,0,0,0,0]
["TOT Période",null,{"$f":"SUM(C206:J206)","v":0}]
[{"$f":"B9","v":6}]
[]
[]
["Période :",{"$f":"Accueil!E18","v":"P4"},{"$f":"Accueil!$F18","v":"du"},{"$f":"Accueil!$G18","v":"2015-03-08"},{"$f":"Accueil!$H18","v":"au"},{"$f":"Accueil!$I18","v":"2015-04-15"}]
["Selectionnez la classe participant à l'atelier :"]
["NOM","Prénom",{"$f":"Accueil!B45","v":"2015-03-09"},{"$f":"Accueil!C45","v":"2015-03-10"},{"$f":"Accueil!D45","v":"2015-03-11"},{"$f":"Accueil!E45","v":"2015-03-12"},{"$f":"Accueil!F45","v":"2015-03-13"},{"$f":"Accueil!G45","v":"2015-03-14"},{"$f":"Accueil!H45","v":"2015-03-15"},{"$f":"Accueil!I45","v":"2015-03-15"},"TOT"]
[null,null,null,null,null,null,null,null,null,null,{"$f":"SUM(C214:J214)","v":0}]
[null,null,null,null,null,null,null,null,null,null,{"$f":"SUM(C215:J215)","v":0}]
[null,null,null,null,null,null,null,null,null,null,0]
[null,null,null,null,null,null,null,null,null,null,0]
[null,null,null,null,null,null,null,null,null,null,0]
[null,null,null,null,null,null,null,null,null,null,0]
[null,null,null,null,null,null,null,null,null,null,0]
[null,null,null,null,null,null,null,null,null,null,0]
[null,null,null,null,null,null,null,null,null,null,0]
[null,null,null,null,null,null,null,null,null,null,0]
[null,null,null,null,null,null,null,null,null,null,0]
[null,null,null,null,null,null,null,null,null,null,0]
[null,null,null,null,null,null,null,null,null,null,0]
[null,null,null,null,null,null,null,null,null,null,0]
[null,null,null,null,null,null,null,null,null,null,0]
[null,null,null,null,null,null,null,null,null,null,0]
[null,null,null,null,null,null,null,null,null,null,0]
[null,null,null,null,null,null,null,null,null,null,0]
[null,null,null,null,null,null,null,null,null,null,0]
[null,null,null,null,null,null,null,null,null,null,0]
[null,null,null,null,null,null,null,null,null,null,0]
[null,null,null,null,null,null,null,null,null,null,0]
[null,null,null,null,null,null,null,null,null,null,0]
[null,null,null,null,null,null,null,null,null,null,0]
[null,null,null,null,null,null,null,null,null,null,0]
[null,null,null,null,null,null,null,null,null,null,{"$f":"SUM(C239:J239)","v":0}]
[null,null,null,null,null,null,null,null,null,null,{"$f":"SUM(C240:J240)","v":0}]
[null,null,null,null,null,null,null,null,null,null,0]
[null,null,null,null,null,null,null,null,null,null,0]
[null,null,null,null,null,null,null,null,null,null,0]
[null,null,null,null,null,null,null,null,null,null,0]
[null,null,null,null,null,null,null,null,null,null,0]
[null,null,null,null,null,null,null,null,null,null,0]
[null,null,null,null,null,null,null,null,null,null,0]
[null,null,null,null,null,null,null,null,null,null,0]
[null,null,null,null,null,null,null,null,null,null,0]
[null,null,null,null,null,null,null,null,null,null,0]
[null,null,null,null,null,null,null,null,null,null,0]
[null,null,null,null,null,null,null,null,null,null,0]
[null,null,null,null,null,null,null,null,null,null,0]
[null,null,null,null,null,null,null,null,null,null,0]
[null,null,null,null,null,null,null,null,null,null,0]
[null,null,null,null,null,null,null,null,null,null,0]
[null,null,null,null,null,null,null,null,null,null,0]
[null,null,null,null,null,null,null,null,null,null,0]
[null,null,null,null,null,null,null,null,null,null,0]
[null,null,null,null,null,null,null,null,null,null,0]
[null,null,null,null,null,null,null,null,null,null,0]
[null,null,null,null,null,null,null,null,null,null,0]
[null,null,null,null,null,null,null,null,null,null,0]
["TOT Jour",null,{"$f":"SUM(C214:C263)","v":0},{"$f":"SUM(D214:D263)","v":0},0,0,0,0,0,0]
["TOT Période",null,{"$f":"SUM(C264:J264)","v":0}]
[{"$f":"B9","v":6}]
[]
[]
["Période :",{"$f":"Accueil!E20","v":"P5"},{"$f":"Accueil!$F20","v":"du"},{"$f":"Accueil!$G20","v":"2015-05-03"},{"$f":"Accueil!$H20","v":"au"},{"$f":"Accueil!$I20","v":"2015-07-03"}]
["Selectionnez la classe participant à l'atelier :"]
["NOM","Prénom",{"$f":"Accueil!B47","v":"2015-05-04"},{"$f":"Accueil!C47","v":"2015-05-05"},{"$f":"Accueil!D47","v":"2015-05-06"},{"$f":"Accueil!E47","v":"2015-05-07"},{"$f":"Accueil!F47","v":"2015-05-08"},{"$f":"Accueil!G47","v":"2015-05-09"},{"$f":"Accueil!H47","v":"2015-05-10"},{"$f":"Accueil!I47","v":"2015-05-10"},"TOT"]
[null,null,null,null,null,null,null,null,null,null,{"$f":"SUM(C272:J272)","v":0}]
[null,null,null,null,null,null,null,null,null,null,{"$f":"SUM(C273:J273)","v":0}]
[null,null,null,null,null,null,null,null,null,null,0]
[null,null,null,null,null,null,null,null,null,null,0]
[null,null,null,null,null,null,null,null,null,null,0]
[null,null,null,null,null,null,null,null,null,null,0]
[null,null,null,null,null,null,null,null,null,null,0]
[null,null,null,null,null,null,null,null,null,null,0]
[null,null,null,null,null,null,null,null,null,null,0]
[null,null,null,null,null,null,null,null,null,null,0]
[null,null,null,null,null,null,null,null,null,null,0]
[null,null,null,null,null,null,null,null,null,null,0]
[null,null,null,null,null,null,null,null,null,null,0]
[null,null,null,null,null,null,null,null,null,null,0]
[null,null,null,null,null,null,null,null,null,null,0]
[null,null,null,null,null,null,null,null,null,null,0]
[null,null,null,null,null,null,null,null,null,null,0]
[null,null,null,null,null,null,null,null,null,null,0]
[null,null,null,null,null,null,null,null,null,null,0]
[null,null,null,null,null,null,null,null,null,null,0]
[null,null,null,null,null,null,null,null,null,null,0]
[null,null,null,null,null,null,null,null,null,null,0]
[null,null,null,null,null,null,null,null,null,null,0]
[null,null,null,null,null,null,null,null,null,null,0]
[null,null,null,null,null,null,null,null,null,null,0]
[null,null,null,null,null,null,null,null,null,null,{"$f":"SUM(C297:J297)","v":0}]
[null,null,null,null,null,null,null,null,null,null,{"$f":"SUM(C298:J298)","v":0}]
[null,null,null,null,null,null,null,null,null,null,0]
[null,null,null,null,null,null,null,null,null,null,0]
[null,null,null,null,null,null,null,null,null,null,0]
[null,null,null,null,null,null,null,null,null,null,0]
[null,null,null,null,null,null,null,null,null,null,0]
[null,null,null,null,null,null,null,null,null,null,0]
[null,null,null,null,null,null,null,null,null,null,0]
[null,null,null,null,null,null,null,null,null,null,0]
[null,null,null,null,null,null,null,null,null,null,0]
[null,null,null,null,null,null,null,null,null,null,0]
[null,null,null,null,null,null,null,null,null,null,0]
[null,null,null,null,null,null,null,null,null,null,0]
[null,null,null,null,null,null,null,null,null,null,0]
[null,null,null,null,null,null,null,null,null,null,0]
[null,null,null,null,null,null,null,null,null,null,0]
[null,null,null,null,null,null,null,null,null,null,0]
[null,null,null,null,null,null,null,null,null,null,0]
[null,null,null,null,null,null,null,null,null,null,0]
[null,null,null,null,null,null,null,null,null,null,0]
[null,null,null,null,null,null,null,null,null,null,0]
[null,null,null,null,null,null,null,null,null,null,0]
[null,null,null,null,null,null,null,null,null,null,0]
[null,null,null,null,null,null,null,null,null,null,0]
["TOT Jour",null,{"$f":"SUM(C272:C321)","v":0},{"$f":"SUM(D272:D321)","v":0},0,0,0,0,0,0]
["TOT Période",null,{"$f":"SUM(C322:J322)","v":0}]
["Statistiques"]
[]
[]
["Nombre d'heure de fréquentation :"]
[{"$f":"Accueil!$E12","v":"P1"},{"$f":"$C$91*1.5","v":0},"heures de présence pour cet atelier et pour cette période"]
[{"$f":"Accueil!$E14","v":"P2"},{"$f":"$C$149*1.5","v":0},"heures de présence pour cet atelier et pour cette période"]
[{"$f":"Accueil!$E16","v":"P3"},{"$f":"$C$207*1.5","v":0},"heures de présence pour cet atelier et pour cette période"]
[{"$f":"Accueil!$E18","v":"P4"},{"$f":"$C$265*1.5","v":0},"heures de présence pour cet atelier et pour cette période"]
[{"$f":"Accueil!$E20","v":"P5"},{"$f":"$C$323*1.5","v":0},"heures de présence pour cet atelier et pour cette période"]
["TOT",{"$f":"SUM($B$328:$B$332)","v":0},"heures de présence pour cet atelier et pour l'année"]

{"sheet":"7","index":22,"n_rows":333,"n_cols":11,"rows_kept":333,"cut":false,"hidden":false,"merged":[[332,2,332,6],[323,0,324,10],[327,2,327,6],[328,2,328,6],[329,2,329,6],[330,2,330,6],[331,2,331,6],[265,0,266,10],[269,0,269,3],[269,4,269,5],[321,0,321,1],[322,0,322,1],[322,2,322,9],[207,0,208,10],[211,0,211,3],[211,4,211,5],[263,0,263,1],[264,0,264,1],[264,2,264,9],[149,0,150,10],[153,0,153,3],[153,4,153,5],[205,0,205,1],[206,0,206,1],[206,2,206,9],[91,0,92,10],[95,0,95,3],[95,4,95,5],[147,0,147,1],[148,0,148,1],[148,2,148,9],[90,0,90,1],[90,2,90,9],[8,1,15,9],[33,0,34,10],[37,0,37,3],[37,4,37,5],[89,0,89,1],[17,0,18,10],[19,0,22,10],[16,2,16,9]]}
[]
[]
[]
[]
[]
[]
[]
[]
[null,{"$f":"Accueil!B26","v":7}]
[]
[]
[]
[]
[]
[]
[]
[null,{"$f":"Machin!B17","v":"Avec :"},{"$f":"Accueil!C26","v":0}]
[{"$f":"Machin!$A$28","v":"ATTENTION !"}]
[]
[{"$f":"Machin!$A$30","v":"Vous ne devez pas ajouter ou supprimer les enfants depuis cette feuille ! \nPour ajouter des enfants dans cet atelier -> Aller dans la feuille de la classe des enfants et suivre les instructions.\nPour supprimer des enfants de cet atelier -> Aller dans la feuille de la classe des enfants et suivre les instructions."}]
[]
[]
[]
[]
[]
[]
[]
[]
[]
[]
[]
[]
[]
[{"$f":"B9","v":7}]
[]
[]
["Période :",{"$f":"Accueil!$E$12","v":"P1"},{"$f":"Accueil!$F$12","v":"du"},{"$f":"Accueil!$G$12","v":"2014-09-02"},{"$f":"Accueil!$H$12","v":"au"},{"$f":"Accueil!$I$12","v":"2014-10-17"}]
["Selectionnez la classe participant à l'atelier :"]
["NOM","Prénom",{"$f":"Accueil!B39","v":"2015-09-05"},{"$f":"Accueil!C39","v":"2015-09-06"},{"$f":"Accueil!D39","v":"2015-09-07"},{"$f":"Accueil!E39","v":"2015-09-08"},{"$f":"Accueil!F39","v":"2015-09-09"},{"$f":"Accueil!G39","v":"2015-09-10"},{"$f":"Accueil!H39","v":"2015-09-11"},{"$f":"Accueil!I39","v":"2015-09-11"},"TOT"]
[null,null,null,null,null,null,null,null,null,null,{"$f":"SUM(C40:J40)","v":0}]
[null,null,null,null,null,null,null,null,null,null,{"$f":"SUM(C41:J41)","v":0}]
[null,null,null,null,null,null,null,null,null,null,0]
[null,null,null,null,null,null,null,null,null,null,0]
[null,null,null,null,null,null,null,null,null,null,0]
[null,null,null,null,null,null,null,null,null,null,0]
[null,null,null,null,null,null,null,null,null,null,0]
[null,null,null,null,null,null,null,null,null,null,0]
[null,null,null,null,null,null,null,null,null,null,0]
[null,null,null,null,null,null,null,null,null,null,0]
[null,null,null,null,null,null,null,null,null,null,0]
[null,null,null,null,null,null,null,null,null,null,0]
[null,null,null,null,null,null,null,null,null,null,0]
[null,null,null,null,null,null,null,null,null,null,0]
[null,null,null,null,null,null,null,null,null,null,0]
[null,null,null,null,null,null,null,null,null,null,0]
[null,null,null,null,null,null,null,null,null,null,0]
[null,null,null,null,null,null,null,null,null,null,0]
[null,null,null,null,null,null,null,null,null,null,0]
[null,null,null,null,null,null,null,null,null,null,0]
[null,null,null,null,null,null,null,null,null,null,0]
[null,null,null,null,null,null,null,null,null,null,0]
[null,null,null,null,null,null,null,null,null,null,0]
[null,null,null,null,null,null,null,null,null,null,0]
[null,null,null,null,null,null,null,null,null,null,0]
[null,null,null,null,null,null,null,null,null,null,{"$f":"SUM(C65:J65)","v":0}]
[null,null,null,null,null,null,null,null,null,null,{"$f":"SUM(C66:J66)","v":0}]
[null,null,null,null,null,null,null,null,null,null,0]
[null,null,null,null,null,null,null,null,null,null,0]
[null,null,null,null,null,null,null,null,null,null,0]
[null,null,null,null,null,null,null,null,null,null,0]
[null,null,null,null,null,null,null,null,null,null,0]
[null,null,null,null,null,null,null,null,null,null,0]
[null,null,null,null,null,null,null,null,null,null,0]
[null,null,null,null,null,null,null,null,null,null,0]
[null,null,null,null,null,null,null,null,null,null,0]
[null,null,null,null,null,null,null,null,null,null,0]
[null,null,null,null,null,null,null,null,null,null,0]
[null,null,null,null,null,null,null,null,null,null,0]
[null,null,null,null,null,null,null,null,null,null,0]
[null,null,null,null,null,null,null,null,null,null,0]
[null,null,null,null,null,null,null,null,null,null,0]
[null,null,null,null,null,null,null,null,null,null,0]
[null,null,null,null,null,null,null,null,null,null,0]
[null,null,null,null,null,null,null,null,null,null,0]
[null,null,null,null,null,null,null,null,null,null,0]
[null,null,null,null,null,null,null,null,null,null,0]
[null,null,null,null,null,null,null,null,null,null,0]
[null,null,null,null,null,null,null,null,null,null,0]
[null,null,null,null,null,null,null,null,null,null,0]
["TOT Jour",null,{"$f":"SUM(C40:C89)","v":0},{"$f":"SUM(D40:D89)","v":0},0,0,0,0,0,0]
["TOT Période",null,{"$f":"SUM(C90:J90)","v":0}]
[{"$f":"B9","v":7}]
[]
[]
["Période :",{"$f":"Accueil!$E14","v":"P2"},{"$f":"Accueil!$F14","v":"du"},{"$f":"Accueil!$G14","v":"2014-11-02"},{"$f":"Accueil!$H14","v":"au"},{"$f":"Accueil!$I14","v":"2014-12-18"}]
["Selectionnez la classe participant à l'atelier :"]
["NOM","Prénom",{"$f":"Accueil!B41","v":"2014-11-03"},{"$f":"Accueil!C41","v":"2014-11-04"},{"$f":"Accueil!D41","v":"2014-11-05"},{"$f":"Accueil!E41","v":"2014-11-06"},{"$f":"Accueil!F41","v":"2014-11-07"},{"$f":"Accueil!G41","v":"2014-11-08"},{"$f":"Accueil!H41","v":"2014-11-09"},{"$f":"Accueil!I41","v":"2014-11-09"},"TOT"]
[null,null,null,null,null,null,null,null,null,null,{"$f":"SUM(C98:J98)","v":0}]
[null,null,null,null,null,null,null,null,null,null,{"$f":"SUM(C99:J99)","v":0}]
[null,null,null,null,null,null,null,null,null,null,0]
[null,null,null,null,null,null,null,null,null,null,0]
[null,null,null,null,null,null,null,null,null,null,0]
[null,null,null,null,null,null,null,null,null,null,0]
[null,null,null,null,null,null,null,null,null,null,0]
[null,null,null,null,null,null,null,null,null,null,0]
[null,null,null,null,null,null,null,null,null,null,0]
[null,null,null,null,null,null,null,null,null,null,0]
[null,null,null,null,null,null,null,null,null,null,0]
[null,null,null,null,null,null,null,null,null,null,0]
[null,null,null,null,null,null,null,null,null,null,0]
[null,null,null,null,null,null,null,null,null,null,0]
[null,null,null,null,null,null,null,null,null,null,0]
[null,null,null,null,null,null,null,null,null,null,0]
[null,null,null,null,null,null,null,null,null,null,0]
[null,null,null,null,null,null,null,null,null,null,0]
[null,null,null,null,null,null,null,null,null,null,0]
[null,null,null,null,null,null,null,null,null,null,0]
[null,null,null,null,null,null,null,null,null,null,0]
[null,null,null,null,null,null,null,null,null,null,0]
[null,null,null,null,null,null,null,null,null,null,0]
[null,null,null,null,null,null,null,null,null,null,0]
[null,null,null,null,null,null,null,null,null,null,0]
[null,null,null,null,null,null,null,null,null,null,{"$f":"SUM(C123:J123)","v":0}]
[null,null,null,null,null,null,null,null,null,null,{"$f":"SUM(C124:J124)","v":0}]
[null,null,null,null,null,null,null,null,null,null,0]
[null,null,null,null,null,null,null,null,null,null,0]
[null,null,null,null,null,null,null,null,null,null,0]
[null,null,null,null,null,null,null,null,null,null,0]
[null,null,null,null,null,null,null,null,null,null,0]
[null,null,null,null,null,null,null,null,null,null,0]
[null,null,null,null,null,null,null,null,null,null,0]
[null,null,null,null,null,null,null,null,null,null,0]
[null,null,null,null,null,null,null,null,null,null,0]
[null,null,null,null,null,null,null,null,null,null,0]
[null,null,null,null,null,null,null,null,null,null,0]
[null,null,null,null,null,null,null,null,null,null,0]
[null,null,null,null,null,null,null,null,null,null,0]
[null,null,null,null,null,null,null,null,null,null,0]
[null,null,null,null,null,null,null,null,null,null,0]
[null,null,null,null,null,null,null,null,null,null,0]
[null,null,null,null,null,null,null,null,null,null,0]
[null,null,null,null,null,null,null,null,null,null,0]
[null,null,null,null,null,null,null,null,null,null,0]
[null,null,null,null,null,null,null,null,null,null,0]
[null,null,null,null,null,null,null,null,null,null,0]
[null,null,null,null,null,null,null,null,null,null,0]
[null,null,null,null,null,null,null,null,null,null,0]
["TOT Jour",null,{"$f":"SUM(C98:C147)","v":0},{"$f":"SUM(D98:D147)","v":0},0,0,0,0,0,0]
["TOT Période",null,{"$f":"SUM(C148:J148)","v":0}]
[{"$f":"B9","v":7}]
[]
[]
["Période :",{"$f":"Accueil!E16","v":"P3"},{"$f":"Accueil!$F16","v":"du"},{"$f":"Accueil!$G16","v":"2015-01-04"},{"$f":"Accueil!$H16","v":"au"},{"$f":"Accueil!$I16","v":"2015-02-20"}]
["Selectionnez la classe participant à l'atelier :"]
["NOM","Prénom",{"$f":"Accueil!B43","v":"2015-01-05"},{"$f":"Accueil!C43","v":"2015-01-06"},{"$f":"Accueil!D43","v":"2015-01-07"},{"$f":"Accueil!E43","v":"2015-01-08"},{"$f":"Accueil!F43","v":"2015-01-09"},{"$f":"Accueil!G43","v":"2015-01-10"},{"$f":"Accueil!H43","v":"2015-01-11"},{"$f":"Accueil!I43","v":"2015-01-11"},"TOT"]
[null,null,null,null,null,null,null,null,null,null,{"$f":"SUM(C156:J156)","v":0}]
[null,null,null,null,null,null,null,null,null,null,{"$f":"SUM(C157:J157)","v":0}]
[null,null,null,null,null,null,null,null,null,null,0]
[null,null,null,null,null,null,null,null,null,null,0]
[null,null,null,null,null,null,null,null,null,null,0]
[null,null,null,null,null,null,null,null,null,null,0]
[null,null,null,null,null,null,null,null,null,null,0]
[null,null,null,null,null,null,null,null,null,null,0]
[null,null,null,null,null,null,null,null,null,null,0]
[null,null,null,null,null,null,null,null,null,null,0]
[null,null,null,null,null,null,null,null,null,null,0]
[null,null,null,null,null,null,null,null,null,null,0]
[null,null,null,null,null,null,null,null,null,null,0]
[null,null,null,null,null,null,null,null,null,null,0]
[null,null,null,null,null,null,null,null,null,null,0]
[null,null,null,null,null,null,null,null,null,null,0]
[null,null,null,null,null,null,null,null,null,null,0]
[null,null,null,null,null,null,null,null,null,null,0]
[null,null,null,null,null,null,null,null,null,null,0]
[null,null,null,null,null,null,null,null,null,null,0]
[null,null,null,null,null,null,null,null,null,null,0]
[null,null,null,null,null,null,null,null,null,null,0]
[null,null,null,null,null,null,null,null,null,null,0]
[null,null,null,null,null,null,null,null,null,null,0]
[null,null,null,null,null,null,null,null,null,null,0]
[null,null,null,null,null,null,null,null,null,null,{"$f":"SUM(C181:J181)","v":0}]
[null,null,null,null,null,null,null,null,null,null,{"$f":"SUM(C182:J182)","v":0}]
[null,null,null,null,null,null,null,null,null,null,0]
[null,null,null,null,null,null,null,null,null,null,0]
[null,null,null,null,null,null,null,null,null,null,0]
[null,null,null,null,null,null,null,null,null,null,0]
[null,null,null,null,null,null,null,null,null,null,0]
[null,null,null,null,null,null,null,null,null,null,0]
[null,null,null,null,null,null,null,null,null,null,0]
[null,null,null,null,null,null,null,null,null,null,0]
[null,null,null,null,null,null,null,null,null,null,0]
[null,null,null,null,null,null,null,null,null,null,0]
[null,null,null,null,null,null,null,null,null,null,0]
[null,null,null,null,null,null,null,null,null,null,0]
[null,null,null,null,null,null,null,null,null,null,0]
[null,null,null,null,null,null,null,null,null,null,0]
[null,null,null,null,null,null,null,null,null,null,0]
[null,null,null,null,null,null,null,null,null,null,0]
[null,null,null,null,null,null,null,null,null,null,0]
[null,null,null,null,null,null,null,null,null,null,0]
[null,null,null,null,null,null,null,null,null,null,0]
[null,null,null,null,null,null,null,null,null,null,0]
[null,null,null,null,null,null,null,null,null,null,0]
[null,null,null,null,null,null,null,null,null,null,0]
[null,null,null,null,null,null,null,null,null,null,0]
["TOT Jour",null,{"$f":"SUM(C156:C205)","v":0},{"$f":"SUM(D156:D205)","v":0},0,0,0,0,0,0]
["TOT Période",null,{"$f":"SUM(C206:J206)","v":0}]
[{"$f":"B9","v":7}]
[]
[]
["Période :",{"$f":"Accueil!E18","v":"P4"},{"$f":"Accueil!$F18","v":"du"},{"$f":"Accueil!$G18","v":"2015-03-08"},{"$f":"Accueil!$H18","v":"au"},{"$f":"Accueil!$I18","v":"2015-04-15"}]
["Selectionnez la classe participant à l'atelier :"]
["NOM","Prénom",{"$f":"Accueil!B45","v":"2015-03-09"},{"$f":"Accueil!C45","v":"2015-03-10"},{"$f":"Accueil!D45","v":"2015-03-11"},{"$f":"Accueil!E45","v":"2015-03-12"},{"$f":"Accueil!F45","v":"2015-03-13"},{"$f":"Accueil!G45","v":"2015-03-14"},{"$f":"Accueil!H45","v":"2015-03-15"},{"$f":"Accueil!I45","v":"2015-03-15"},"TOT"]
[null,null,null,null,null,null,null,null,null,null,{"$f":"SUM(C214:J214)","v":0}]
[null,null,null,null,null,null,null,null,null,null,{"$f":"SUM(C215:J215)","v":0}]
[null,null,null,null,null,null,null,null,null,null,0]
[null,null,null,null,null,null,null,null,null,null,0]
[null,null,null,null,null,null,null,null,null,null,0]
[null,null,null,null,null,null,null,null,null,null,0]
[null,null,null,null,null,null,null,null,null,null,0]
[null,null,null,null,null,null,null,null,null,null,0]
[null,null,null,null,null,null,null,null,null,null,0]
[null,null,null,null,null,null,null,null,null,null,0]
[null,null,null,null,null,null,null,null,null,null,0]
[null,null,null,null,null,null,null,null,null,null,0]
[null,null,null,null,null,null,null,null,null,null,0]
[null,null,null,null,null,null,null,null,null,null,0]
[null,null,null,null,null,null,null,null,null,null,0]
[null,null,null,null,null,null,null,null,null,null,0]
[null,null,null,null,null,null,null,null,null,null,0]
[null,null,null,null,null,null,null,null,null,null,0]
[null,null,null,null,null,null,null,null,null,null,0]
[null,null,null,null,null,null,null,null,null,null,0]
[null,null,null,null,null,null,null,null,null,null,0]
[null,null,null,null,null,null,null,null,null,null,0]
[null,null,null,null,null,null,null,null,null,null,0]
[null,null,null,null,null,null,null,null,null,null,0]
[null,null,null,null,null,null,null,null,null,null,0]
[null,null,null,null,null,null,null,null,null,null,{"$f":"SUM(C239:J239)","v":0}]
[null,null,null,null,null,null,null,null,null,null,{"$f":"SUM(C240:J240)","v":0}]
[null,null,null,null,null,null,null,null,null,null,0]
[null,null,null,null,null,null,null,null,null,null,0]
[null,null,null,null,null,null,null,null,null,null,0]
[null,null,null,null,null,null,null,null,null,null,0]
[null,null,null,null,null,null,null,null,null,null,0]
[null,null,null,null,null,null,null,null,null,null,0]
[null,null,null,null,null,null,null,null,null,null,0]
[null,null,null,null,null,null,null,null,null,null,0]
[null,null,null,null,null,null,null,null,null,null,0]
[null,null,null,null,null,null,null,null,null,null,0]
[null,null,null,null,null,null,null,null,null,null,0]
[null,null,null,null,null,null,null,null,null,null,0]
[null,null,null,null,null,null,null,null,null,null,0]
[null,null,null,null,null,null,null,null,null,null,0]
[null,null,null,null,null,null,null,null,null,null,0]
[null,null,null,null,null,null,null,null,null,null,0]
[null,null,null,null,null,null,null,null,null,null,0]
[null,null,null,null,null,null,null,null,null,null,0]
[null,null,null,null,null,null,null,null,null,null,0]
[null,null,null,null,null,null,null,null,null,null,0]
[null,null,null,null,null,null,null,null,null,null,0]
[null,null,null,null,null,null,null,null,null,null,0]
[null,null,null,null,null,null,null,null,null,null,0]
["TOT Jour",null,{"$f":"SUM(C214:C263)","v":0},{"$f":"SUM(D214:D263)","v":0},0,0,0,0,0,0]
["TOT Période",null,{"$f":"SUM(C264:J264)","v":0}]
[{"$f":"B9","v":7}]
[]
[]
["Période :",{"$f":"Accueil!E20","v":"P5"},{"$f":"Accueil!$F20","v":"du"},{"$f":"Accueil!$G20","v":"2015-05-03"},{"$f":"Accueil!$H20","v":"au"},{"$f":"Accueil!$I20","v":"2015-07-03"}]
["Selectionnez la classe participant à l'atelier :"]
["NOM","Prénom",{"$f":"Accueil!B47","v":"2015-05-04"},{"$f":"Accueil!C47","v":"2015-05-05"},{"$f":"Accueil!D47","v":"2015-05-06"},{"$f":"Accueil!E47","v":"2015-05-07"},{"$f":"Accueil!F47","v":"2015-05-08"},{"$f":"Accueil!G47","v":"2015-05-09"},{"$f":"Accueil!H47","v":"2015-05-10"},{"$f":"Accueil!I47","v":"2015-05-10"},"TOT"]
[null,null,null,null,null,null,null,null,null,null,{"$f":"SUM(C272:J272)","v":0}]
[null,null,null,null,null,null,null,null,null,null,{"$f":"SUM(C273:J273)","v":0}]
[null,null,null,null,null,null,null,null,null,null,0]
[null,null,null,null,null,null,null,null,null,null,0]
[null,null,null,null,null,null,null,null,null,null,0]
[null,null,null,null,null,null,null,null,null,null,0]
[null,null,null,null,null,null,null,null,null,null,0]
[null,null,null,null,null,null,null,null,null,null,0]
[null,null,null,null,null,null,null,null,null,null,0]
[null,null,null,null,null,null,null,null,null,null,0]
[null,null,null,null,null,null,null,null,null,null,0]
[null,null,null,null,null,null,null,null,null,null,0]
[null,null,null,null,null,null,null,null,null,null,0]
[null,null,null,null,null,null,null,null,null,null,0]
[null,null,null,null,null,null,null,null,null,null,0]
[null,null,null,null,null,null,null,null,null,null,0]
[null,null,null,null,null,null,null,null,null,null,0]
[null,null,null,null,null,null,null,null,null,null,0]
[null,null,null,null,null,null,null,null,null,null,0]
[null,null,null,null,null,null,null,null,null,null,0]
[null,null,null,null,null,null,null,null,null,null,0]
[null,null,null,null,null,null,null,null,null,null,0]
[null,null,null,null,null,null,null,null,null,null,0]
[null,null,null,null,null,null,null,null,null,null,0]
[null,null,null,null,null,null,null,null,null,null,0]
[null,null,null,null,null,null,null,null,null,null,{"$f":"SUM(C297:J297)","v":0}]
[null,null,null,null,null,null,null,null,null,null,{"$f":"SUM(C298:J298)","v":0}]
[null,null,null,null,null,null,null,null,null,null,0]
[null,null,null,null,null,null,null,null,null,null,0]
[null,null,null,null,null,null,null,null,null,null,0]
[null,null,null,null,null,null,null,null,null,null,0]
[null,null,null,null,null,null,null,null,null,null,0]
[null,null,null,null,null,null,null,null,null,null,0]
[null,null,null,null,null,null,null,null,null,null,0]
[null,null,null,null,null,null,null,null,null,null,0]
[null,null,null,null,null,null,null,null,null,null,0]
[null,null,null,null,null,null,null,null,null,null,0]
[null,null,null,null,null,null,null,null,null,null,0]
[null,null,null,null,null,null,null,null,null,null,0]
[null,null,null,null,null,null,null,null,null,null,0]
[null,null,null,null,null,null,null,null,null,null,0]
[null,null,null,null,null,null,null,null,null,null,0]
[null,null,null,null,null,null,null,null,null,null,0]
[null,null,null,null,null,null,null,null,null,null,0]
[null,null,null,null,null,null,null,null,null,null,0]
[null,null,null,null,null,null,null,null,null,null,0]
[null,null,null,null,null,null,null,null,null,null,0]
[null,null,null,null,null,null,null,null,null,null,0]
[null,null,null,null,null,null,null,null,null,null,0]
[null,null,null,null,null,null,null,null,null,null,0]
["TOT Jour",null,{"$f":"SUM(C272:C321)","v":0},{"$f":"SUM(D272:D321)","v":0},0,0,0,0,0,0]
["TOT Période",null,{"$f":"SUM(C322:J322)","v":0}]
["Statistiques"]
[]
[]
["Nombre d'heure de fréquentation :"]
[{"$f":"Accueil!$E12","v":"P1"},{"$f":"$C$91*1.5","v":0},"heures de présence pour cet atelier et pour cette période"]
[{"$f":"Accueil!$E14","v":"P2"},{"$f":"$C$149*1.5","v":0},"heures de présence pour cet atelier et pour cette période"]
[{"$f":"Accueil!$E16","v":"P3"},{"$f":"$C$207*1.5","v":0},"heures de présence pour cet atelier et pour cette période"]
[{"$f":"Accueil!$E18","v":"P4"},{"$f":"$C$265*1.5","v":0},"heures de présence pour cet atelier et pour cette période"]
[{"$f":"Accueil!$E20","v":"P5"},{"$f":"$C$323*1.5","v":0},"heures de présence pour cet atelier et pour cette période"]
["TOT",{"$f":"SUM($B$328:$B$332)","v":0},"heures de présence pour cet atelier et pour l'année"]

{"sheet":"8","index":23,"n_rows":333,"n_cols":11,"rows_kept":333,"cut":false,"hidden":false,"merged":[[332,2,332,6],[323,0,324,10],[327,2,327,6],[328,2,328,6],[329,2,329,6],[330,2,330,6],[331,2,331,6],[265,0,266,10],[269,0,269,3],[269,4,269,5],[321,0,321,1],[322,0,322,1],[322,2,322,9],[207,0,208,10],[211,0,211,3],[211,4,211,5],[263,0,263,1],[264,0,264,1],[264,2,264,9],[149,0,150,10],[153,0,153,3],[153,4,153,5],[205,0,205,1],[206,0,206,1],[206,2,206,9],[91,0,92,10],[95,0,95,3],[95,4,95,5],[147,0,147,1],[148,0,148,1],[148,2,148,9],[90,0,90,1],[90,2,90,9],[8,1,15,9],[33,0,34,10],[37,0,37,3],[37,4,37,5],[89,0,89,1],[17,0,18,10],[19,0,22,10],[16,2,16,9]]}
[]
[]
[]
[]
[]
[]
[]
[]
[null,{"$f":"Accueil!B27","v":8}]
[]
[]
[]
[]
[]
[]
[]
[null,{"$f":"Machin!B17","v":"Avec :"},{"$f":"Accueil!C27","v":0}]
[{"$f":"Machin!$A$28","v":"ATTENTION !"}]
[]
[{"$f":"Machin!$A$30","v":"Vous ne devez pas ajouter ou supprimer les enfants depuis cette feuille ! \nPour ajouter des enfants dans cet atelier -> Aller dans la feuille de la classe des enfants et suivre les instructions.\nPour supprimer des enfants de cet atelier -> Aller dans la feuille de la classe des enfants et suivre les instructions."}]
[]
[]
[]
[]
[]
[]
[]
[]
[]
[]
[]
[]
[]
[{"$f":"B9","v":8}]
[]
[]
["Période :",{"$f":"Accueil!$E$12","v":"P1"},{"$f":"Accueil!$F$12","v":"du"},{"$f":"Accueil!$G$12","v":"2014-09-02"},{"$f":"Accueil!$H$12","v":"au"},{"$f":"Accueil!$I$12","v":"2014-10-17"}]
["Selectionnez la classe participant à l'atelier :"]
["NOM","Prénom",{"$f":"Accueil!B39","v":"2015-09-05"},{"$f":"Accueil!C39","v":"2015-09-06"},{"$f":"Accueil!D39","v":"2015-09-07"},{"$f":"Accueil!E39","v":"2015-09-08"},{"$f":"Accueil!F39","v":"2015-09-09"},{"$f":"Accueil!G39","v":"2015-09-10"},{"$f":"Accueil!H39","v":"2015-09-11"},{"$f":"Accueil!I39","v":"2015-09-11"},"TOT"]
[null,null,null,null,null,null,null,null,null,null,{"$f":"SUM(C40:J40)","v":0}]
[null,null,null,null,null,null,null,null,null,null,{"$f":"SUM(C41:J41)","v":0}]
[null,null,null,null,null,null,null,null,null,null,0]
[null,null,null,null,null,null,null,null,null,null,0]
[null,null,null,null,null,null,null,null,null,null,0]
[null,null,null,null,null,null,null,null,null,null,0]
[null,null,null,null,null,null,null,null,null,null,0]
[null,null,null,null,null,null,null,null,null,null,0]
[null,null,null,null,null,null,null,null,null,null,0]
[null,null,null,null,null,null,null,null,null,null,0]
[null,null,null,null,null,null,null,null,null,null,0]
[null,null,null,null,null,null,null,null,null,null,0]
[null,null,null,null,null,null,null,null,null,null,0]
[null,null,null,null,null,null,null,null,null,null,0]
[null,null,null,null,null,null,null,null,null,null,0]
[null,null,null,null,null,null,null,null,null,null,0]
[null,null,null,null,null,null,null,null,null,null,0]
[null,null,null,null,null,null,null,null,null,null,0]
[null,null,null,null,null,null,null,null,null,null,0]
[null,null,null,null,null,null,null,null,null,null,0]
[null,null,null,null,null,null,null,null,null,null,0]
[null,null,null,null,null,null,null,null,null,null,0]
[null,null,null,null,null,null,null,null,null,null,0]
[null,null,null,null,null,null,null,null,null,null,0]
[null,null,null,null,null,null,null,null,null,null,0]
[null,null,null,null,null,null,null,null,null,null,{"$f":"SUM(C65:J65)","v":0}]
[null,null,null,null,null,null,null,null,null,null,{"$f":"SUM(C66:J66)","v":0}]
[null,null,null,null,null,null,null,null,null,null,0]
[null,null,null,null,null,null,null,null,null,null,0]
[null,null,null,null,null,null,null,null,null,null,0]
[null,null,null,null,null,null,null,null,null,null,0]
[null,null,null,null,null,null,null,null,null,null,0]
[null,null,null,null,null,null,null,null,null,null,0]
[null,null,null,null,null,null,null,null,null,null,0]
[null,null,null,null,null,null,null,null,null,null,0]
[null,null,null,null,null,null,null,null,null,null,0]
[null,null,null,null,null,null,null,null,null,null,0]
[null,null,null,null,null,null,null,null,null,null,0]
[null,null,null,null,null,null,null,null,null,null,0]
[null,null,null,null,null,null,null,null,null,null,0]
[null,null,null,null,null,null,null,null,null,null,0]
[null,null,null,null,null,null,null,null,null,null,0]
[null,null,null,null,null,null,null,null,null,null,0]
[null,null,null,null,null,null,null,null,null,null,0]
[null,null,null,null,null,null,null,null,null,null,0]
[null,null,null,null,null,null,null,null,null,null,0]
[null,null,null,null,null,null,null,null,null,null,0]
[null,null,null,null,null,null,null,null,null,null,0]
[null,null,null,null,null,null,null,null,null,null,0]
[null,null,null,null,null,null,null,null,null,null,0]
["TOT Jour",null,{"$f":"SUM(C40:C89)","v":0},{"$f":"SUM(D40:D89)","v":0},0,0,0,0,0,0]
["TOT Période",null,{"$f":"SUM(C90:J90)","v":0}]
[{"$f":"B9","v":8}]
[]
[]
["Période :",{"$f":"Accueil!$E14","v":"P2"},{"$f":"Accueil!$F14","v":"du"},{"$f":"Accueil!$G14","v":"2014-11-02"},{"$f":"Accueil!$H14","v":"au"},{"$f":"Accueil!$I14","v":"2014-12-18"}]
["Selectionnez la classe participant à l'atelier :"]
["NOM","Prénom",{"$f":"Accueil!B41","v":"2014-11-03"},{"$f":"Accueil!C41","v":"2014-11-04"},{"$f":"Accueil!D41","v":"2014-11-05"},{"$f":"Accueil!E41","v":"2014-11-06"},{"$f":"Accueil!F41","v":"2014-11-07"},{"$f":"Accueil!G41","v":"2014-11-08"},{"$f":"Accueil!H41","v":"2014-11-09"},{"$f":"Accueil!I41","v":"2014-11-09"},"TOT"]
[null,null,null,null,null,null,null,null,null,null,{"$f":"SUM(C98:J98)","v":0}]
[null,null,null,null,null,null,null,null,null,null,{"$f":"SUM(C99:J99)","v":0}]
[null,null,null,null,null,null,null,null,null,null,0]
[null,null,null,null,null,null,null,null,null,null,0]
[null,null,null,null,null,null,null,null,null,null,0]
[null,null,null,null,null,null,null,null,null,null,0]
[null,null,null,null,null,null,null,null,null,null,0]
[null,null,null,null,null,null,null,null,null,null,0]
[null,null,null,null,null,null,null,null,null,null,0]
[null,null,null,null,null,null,null,null,null,null,0]
[null,null,null,null,null,null,null,null,null,null,0]
[null,null,null,null,null,null,null,null,null,null,0]
[null,null,null,null,null,null,null,null,null,null,0]
[null,null,null,null,null,null,null,null,null,null,0]
[null,null,null,null,null,null,null,null,null,null,0]
[null,null,null,null,null,null,null,null,null,null,0]
[null,null,null,null,null,null,null,null,null,null,0]
[null,null,null,null,null,null,null,null,null,null,0]
[null,null,null,null,null,null,null,null,null,null,0]
[null,null,null,null,null,null,null,null,null,null,0]
[null,null,null,null,null,null,null,null,null,null,0]
[null,null,null,null,null,null,null,null,null,null,0]
[null,null,null,null,null,null,null,null,null,null,0]
[null,null,null,null,null,null,null,null,null,null,0]
[null,null,null,null,null,null,null,null,null,null,0]
[null,null,null,null,null,null,null,null,null,null,{"$f":"SUM(C123:J123)","v":0}]
[null,null,null,null,null,null,null,null,null,null,{"$f":"SUM(C124:J124)","v":0}]
[null,null,null,null,null,null,null,null,null,null,0]
[null,null,null,null,null,null,null,null,null,null,0]
[null,null,null,null,null,null,null,null,null,null,0]
[null,null,null,null,null,null,null,null,null,null,0]
[null,null,null,null,null,null,null,null,null,null,0]
[null,null,null,null,null,null,null,null,null,null,0]
[null,null,null,null,null,null,null,null,null,null,0]
[null,null,null,null,null,null,null,null,null,null,0]
[null,null,null,null,null,null,null,null,null,null,0]
[null,null,null,null,null,null,null,null,null,null,0]
[null,null,null,null,null,null,null,null,null,null,0]
[null,null,null,null,null,null,null,null,null,null,0]
[null,null,null,null,null,null,null,null,null,null,0]
[null,null,null,null,null,null,null,null,null,null,0]
[null,null,null,null,null,null,null,null,null,null,0]
[null,null,null,null,null,null,null,null,null,null,0]
[null,null,null,null,null,null,null,null,null,null,0]
[null,null,null,null,null,null,null,null,null,null,0]
[null,null,null,null,null,null,null,null,null,null,0]
[null,null,null,null,null,null,null,null,null,null,0]
[null,null,null,null,null,null,null,null,null,null,0]
[null,null,null,null,null,null,null,null,null,null,0]
[null,null,null,null,null,null,null,null,null,null,0]
["TOT Jour",null,{"$f":"SUM(C98:C147)","v":0},{"$f":"SUM(D98:D147)","v":0},0,0,0,0,0,0]
["TOT Période",null,{"$f":"SUM(C148:J148)","v":0}]
[{"$f":"B9","v":8}]
[]
[]
["Période :",{"$f":"Accueil!E16","v":"P3"},{"$f":"Accueil!$F16","v":"du"},{"$f":"Accueil!$G16","v":"2015-01-04"},{"$f":"Accueil!$H16","v":"au"},{"$f":"Accueil!$I16","v":"2015-02-20"}]
["Selectionnez la classe participant à l'atelier :"]
["NOM","Prénom",{"$f":"Accueil!B43","v":"2015-01-05"},{"$f":"Accueil!C43","v":"2015-01-06"},{"$f":"Accueil!D43","v":"2015-01-07"},{"$f":"Accueil!E43","v":"2015-01-08"},{"$f":"Accueil!F43","v":"2015-01-09"},{"$f":"Accueil!G43","v":"2015-01-10"},{"$f":"Accueil!H43","v":"2015-01-11"},{"$f":"Accueil!I43","v":"2015-01-11"},"TOT"]
[null,null,null,null,null,null,null,null,null,null,{"$f":"SUM(C156:J156)","v":0}]
[null,null,null,null,null,null,null,null,null,null,{"$f":"SUM(C157:J157)","v":0}]
[null,null,null,null,null,null,null,null,null,null,0]
[null,null,null,null,null,null,null,null,null,null,0]
[null,null,null,null,null,null,null,null,null,null,0]
[null,null,null,null,null,null,null,null,null,null,0]
[null,null,null,null,null,null,null,null,null,null,0]
[null,null,null,null,null,null,null,null,null,null,0]
[null,null,null,null,null,null,null,null,null,null,0]
[null,null,null,null,null,null,null,null,null,null,0]
[null,null,null,null,null,null,null,null,null,null,0]
[null,null,null,null,null,null,null,null,null,null,0]
[null,null,null,null,null,null,null,null,null,null,0]
[null,null,null,null,null,null,null,null,null,null,0]
[null,null,null,null,null,null,null,null,null,null,0]
[null,null,null,null,null,null,null,null,null,null,0]
[null,null,null,null,null,null,null,null,null,null,0]
[null,null,null,null,null,null,null,null,null,null,0]
[null,null,null,null,null,null,null,null,null,null,0]
[null,null,null,null,null,null,null,null,null,null,0]
[null,null,null,null,null,null,null,null,null,null,0]
[null,null,null,null,null,null,null,null,null,null,0]
[null,null,null,null,null,null,null,null,null,null,0]
[null,null,null,null,null,null,null,null,null,null,0]
[null,null,null,null,null,null,null,null,null,null,0]
[null,null,null,null,null,null,null,null,null,null,{"$f":"SUM(C181:J181)","v":0}]
[null,null,null,null,null,null,null,null,null,null,{"$f":"SUM(C182:J182)","v":0}]
[null,null,null,null,null,null,null,null,null,null,0]
[null,null,null,null,null,null,null,null,null,null,0]
[null,null,null,null,null,null,null,null,null,null,0]
[null,null,null,null,null,null,null,null,null,null,0]
[null,null,null,null,null,null,null,null,null,null,0]
[null,null,null,null,null,null,null,null,null,null,0]
[null,null,null,null,null,null,null,null,null,null,0]
[null,null,null,null,null,null,null,null,null,null,0]
[null,null,null,null,null,null,null,null,null,null,0]
[null,null,null,null,null,null,null,null,null,null,0]
[null,null,null,null,null,null,null,null,null,null,0]
[null,null,null,null,null,null,null,null,null,null,0]
[null,null,null,null,null,null,null,null,null,null,0]
[null,null,null,null,null,null,null,null,null,null,0]
[null,null,null,null,null,null,null,null,null,null,0]
[null,null,null,null,null,null,null,null,null,null,0]
[null,null,null,null,null,null,null,null,null,null,0]
[null,null,null,null,null,null,null,null,null,null,0]
[null,null,null,null,null,null,null,null,null,null,0]
[null,null,null,null,null,null,null,null,null,null,0]
[null,null,null,null,null,null,null,null,null,null,0]
[null,null,null,null,null,null,null,null,null,null,0]
[null,null,null,null,null,null,null,null,null,null,0]
["TOT Jour",null,{"$f":"SUM(C156:C205)","v":0},{"$f":"SUM(D156:D205)","v":0},0,0,0,0,0,0]
["TOT Période",null,{"$f":"SUM(C206:J206)","v":0}]
[{"$f":"B9","v":8}]
[]
[]
["Période :",{"$f":"Accueil!E18","v":"P4"},{"$f":"Accueil!$F18","v":"du"},{"$f":"Accueil!$G18","v":"2015-03-08"},{"$f":"Accueil!$H18","v":"au"},{"$f":"Accueil!$I18","v":"2015-04-15"}]
["Selectionnez la classe participant à l'atelier :"]
["NOM","Prénom",{"$f":"Accueil!B45","v":"2015-03-09"},{"$f":"Accueil!C45","v":"2015-03-10"},{"$f":"Accueil!D45","v":"2015-03-11"},{"$f":"Accueil!E45","v":"2015-03-12"},{"$f":"Accueil!F45","v":"2015-03-13"},{"$f":"Accueil!G45","v":"2015-03-14"},{"$f":"Accueil!H45","v":"2015-03-15"},{"$f":"Accueil!I45","v":"2015-03-15"},"TOT"]
[null,null,null,null,null,null,null,null,null,null,{"$f":"SUM(C214:J214)","v":0}]
[null,null,null,null,null,null,null,null,null,null,{"$f":"SUM(C215:J215)","v":0}]
[null,null,null,null,null,null,null,null,null,null,0]
[null,null,null,null,null,null,null,null,null,null,0]
[null,null,null,null,null,null,null,null,null,null,0]
[null,null,null,null,null,null,null,null,null,null,0]
[null,null,null,null,null,null,null,null,null,null,0]
[null,null,null,null,null,null,null,null,null,null,0]
[null,null,null,null,null,null,null,null,null,null,0]
[null,null,null,null,null,null,null,null,null,null,0]
[null,null,null,null,null,null,null,null,null,null,0]
[null,null,null,null,null,null,null,null,null,null,0]
[null,null,null,null,null,null,null,null,null,null,0]
[null,null,null,null,null,null,null,null,null,null,0]
[null,null,null,null,null,null,null,null,null,null,0]
[null,null,null,null,null,null,null,null,null,null,0]
[null,null,null,null,null,null,null,null,null,null,0]
[null,null,null,null,null,null,null,null,null,null,0]
[null,null,null,null,null,null,null,null,null,null,0]
[null,null,null,null,null,null,null,null,null,null,0]
[null,null,null,null,null,null,null,null,null,null,0]
[null,null,null,null,null,null,null,null,null,null,0]
[null,null,null,null,null,null,null,null,null,null,0]
[null,null,null,null,null,null,null,null,null,null,0]
[null,null,null,null,null,null,null,null,null,null,0]
[null,null,null,null,null,null,null,null,null,null,{"$f":"SUM(C239:J239)","v":0}]
[null,null,null,null,null,null,null,null,null,null,{"$f":"SUM(C240:J240)","v":0}]
[null,null,null,null,null,null,null,null,null,null,0]
[null,null,null,null,null,null,null,null,null,null,0]
[null,null,null,null,null,null,null,null,null,null,0]
[null,null,null,null,null,null,null,null,null,null,0]
[null,null,null,null,null,null,null,null,null,null,0]
[null,null,null,null,null,null,null,null,null,null,0]
[null,null,null,null,null,null,null,null,null,null,0]
[null,null,null,null,null,null,null,null,null,null,0]
[null,null,null,null,null,null,null,null,null,null,0]
[null,null,null,null,null,null,null,null,null,null,0]
[null,null,null,null,null,null,null,null,null,null,0]
[null,null,null,null,null,null,null,null,null,null,0]
[null,null,null,null,null,null,null,null,null,null,0]
[null,null,null,null,null,null,null,null,null,null,0]
[null,null,null,null,null,null,null,null,null,null,0]
[null,null,null,null,null,null,null,null,null,null,0]
[null,null,null,null,null,null,null,null,null,null,0]
[null,null,null,null,null,null,null,null,null,null,0]
[null,null,null,null,null,null,null,null,null,null,0]
[null,null,null,null,null,null,null,null,null,null,0]
[null,null,null,null,null,null,null,null,null,null,0]
[null,null,null,null,null,null,null,null,null,null,0]
[null,null,null,null,null,null,null,null,null,null,0]
["TOT Jour",null,{"$f":"SUM(C214:C263)","v":0},{"$f":"SUM(D214:D263)","v":0},0,0,0,0,0,0]
["TOT Période",null,{"$f":"SUM(C264:J264)","v":0}]
[{"$f":"B9","v":8}]
[]
[]
["Période :",{"$f":"Accueil!E20","v":"P5"},{"$f":"Accueil!$F20","v":"du"},{"$f":"Accueil!$G20","v":"2015-05-03"},{"$f":"Accueil!$H20","v":"au"},{"$f":"Accueil!$I20","v":"2015-07-03"}]
["Selectionnez la classe participant à l'atelier :"]
["NOM","Prénom",{"$f":"Accueil!B47","v":"2015-05-04"},{"$f":"Accueil!C47","v":"2015-05-05"},{"$f":"Accueil!D47","v":"2015-05-06"},{"$f":"Accueil!E47","v":"2015-05-07"},{"$f":"Accueil!F47","v":"2015-05-08"},{"$f":"Accueil!G47","v":"2015-05-09"},{"$f":"Accueil!H47","v":"2015-05-10"},{"$f":"Accueil!I47","v":"2015-05-10"},"TOT"]
[null,null,null,null,null,null,null,null,null,null,{"$f":"SUM(C272:J272)","v":0}]
[null,null,null,null,null,null,null,null,null,null,{"$f":"SUM(C273:J273)","v":0}]
[null,null,null,null,null,null,null,null,null,null,0]
[null,null,null,null,null,null,null,null,null,null,0]
[null,null,null,null,null,null,null,null,null,null,0]
[null,null,null,null,null,null,null,null,null,null,0]
[null,null,null,null,null,null,null,null,null,null,0]
[null,null,null,null,null,null,null,null,null,null,0]
[null,null,null,null,null,null,null,null,null,null,0]
[null,null,null,null,null,null,null,null,null,null,0]
[null,null,null,null,null,null,null,null,null,null,0]
[null,null,null,null,null,null,null,null,null,null,0]
[null,null,null,null,null,null,null,null,null,null,0]
[null,null,null,null,null,null,null,null,null,null,0]
[null,null,null,null,null,null,null,null,null,null,0]
[null,null,null,null,null,null,null,null,null,null,0]
[null,null,null,null,null,null,null,null,null,null,0]
[null,null,null,null,null,null,null,null,null,null,0]
[null,null,null,null,null,null,null,null,null,null,0]
[null,null,null,null,null,null,null,null,null,null,0]
[null,null,null,null,null,null,null,null,null,null,0]
[null,null,null,null,null,null,null,null,null,null,0]
[null,null,null,null,null,null,null,null,null,null,0]
[null,null,null,null,null,null,null,null,null,null,0]
[null,null,null,null,null,null,null,null,null,null,0]
[null,null,null,null,null,null,null,null,null,null,{"$f":"SUM(C297:J297)","v":0}]
[null,null,null,null,null,null,null,null,null,null,{"$f":"SUM(C298:J298)","v":0}]
[null,null,null,null,null,null,null,null,null,null,0]
[null,null,null,null,null,null,null,null,null,null,0]
[null,null,null,null,null,null,null,null,null,null,0]
[null,null,null,null,null,null,null,null,null,null,0]
[null,null,null,null,null,null,null,null,null,null,0]
[null,null,null,null,null,null,null,null,null,null,0]
[null,null,null,null,null,null,null,null,null,null,0]
[null,null,null,null,null,null,null,null,null,null,0]
[null,null,null,null,null,null,null,null,null,null,0]
[null,null,null,null,null,null,null,null,null,null,0]
[null,null,null,null,null,null,null,null,null,null,0]
[null,null,null,null,null,null,null,null,null,null,0]
[null,null,null,null,null,null,null,null,null,null,0]
[null,null,null,null,null,null,null,null,null,null,0]
[null,null,null,null,null,null,null,null,null,null,0]
[null,null,null,null,null,null,null,null,null,null,0]
[null,null,null,null,null,null,null,null,null,null,0]
[null,null,null,null,null,null,null,null,null,null,0]
[null,null,null,null,null,null,null,null,null,null,0]
[null,null,null,null,null,null,null,null,null,null,0]
[null,null,null,null,null,null,null,null,null,null,0]
[null,null,null,null,null,null,null,null,null,null,0]
[null,null,null,null,null,null,null,null,null,null,0]
["TOT Jour",null,{"$f":"SUM(C272:C321)","v":0},{"$f":"SUM(D272:D321)","v":0},0,0,0,0,0,0]
["TOT Période",null,{"$f":"SUM(C322:J322)","v":0}]
["Statistiques"]
[]
[]
["Nombre d'heure de fréquentation :"]
[{"$f":"Accueil!$E12","v":"P1"},{"$f":"$C$91*1.5","v":0},"heures de présence pour cet atelier et pour cette période"]
[{"$f":"Accueil!$E14","v":"P2"},{"$f":"$C$149*1.5","v":0},"heures de présence pour cet atelier et pour cette période"]
[{"$f":"Accueil!$E16","v":"P3"},{"$f":"$C$207*1.5","v":0},"heures de présence pour cet atelier et pour cette période"]
[{"$f":"Accueil!$E18","v":"P4"},{"$f":"$C$265*1.5","v":0},"heures de présence pour cet atelier et pour cette période"]
[{"$f":"Accueil!$E20","v":"P5"},{"$f":"$C$323*1.5","v":0},"heures de présence pour cet atelier et pour cette période"]
["TOT",{"$f":"SUM($B$328:$B$332)","v":0},"heures de présence pour cet atelier et pour l'année"]

{"sheet":"9","index":24,"n_rows":333,"n_cols":11,"rows_kept":333,"cut":false,"hidden":false,"merged":[[332,2,332,6],[323,0,324,10],[327,2,327,6],[328,2,328,6],[329,2,329,6],[330,2,330,6],[331,2,331,6],[265,0,266,10],[269,0,269,3],[269,4,269,5],[321,0,321,1],[322,0,322,1],[322,2,322,9],[207,0,208,10],[211,0,211,3],[211,4,211,5],[263,0,263,1],[264,0,264,1],[264,2,264,9],[149,0,150,10],[153,0,153,3],[153,4,153,5],[205,0,205,1],[206,0,206,1],[206,2,206,9],[91,0,92,10],[95,0,95,3],[95,4,95,5],[147,0,147,1],[148,0,148,1],[148,2,148,9],[90,0,90,1],[90,2,90,9],[8,1,15,9],[33,0,34,10],[37,0,37,3],[37,4,37,5],[89,0,89,1],[17,0,18,10],[19,0,22,10],[16,2,16,9]]}
[]
[]
[]
[]
[]
[]
[]
[]
[null,{"$f":"Accueil!B28","v":9}]
[]
[]
[]
[]
[]
[]
[]
[null,{"$f":"Machin!B17","v":"Avec :"},{"$f":"Accueil!C28","v":0}]
[{"$f":"Machin!$A$28","v":"ATTENTION !"}]
[]
[{"$f":"Machin!$A$30","v":"Vous ne devez pas ajouter ou supprimer les enfants depuis cette feuille ! \nPour ajouter des enfants dans cet atelier -> Aller dans la feuille de la classe des enfants et suivre les instructions.\nPour supprimer des enfants de cet atelier -> Aller dans la feuille de la classe des enfants et suivre les instructions."}]
[]
[]
[]
[]
[]
[]
[]
[]
[]
[]
[]
[]
[]
[{"$f":"B9","v":9}]
[]
[]
["Période :",{"$f":"Accueil!$E$12","v":"P1"},{"$f":"Accueil!$F$12","v":"du"},{"$f":"Accueil!$G$12","v":"2014-09-02"},{"$f":"Accueil!$H$12","v":"au"},{"$f":"Accueil!$I$12","v":"2014-10-17"}]
["Selectionnez la classe participant à l'atelier :"]
["NOM","Prénom",{"$f":"Accueil!B39","v":"2015-09-05"},{"$f":"Accueil!C39","v":"2015-09-06"},{"$f":"Accueil!D39","v":"2015-09-07"},{"$f":"Accueil!E39","v":"2015-09-08"},{"$f":"Accueil!F39","v":"2015-09-09"},{"$f":"Accueil!G39","v":"2015-09-10"},{"$f":"Accueil!H39","v":"2015-09-11"},{"$f":"Accueil!I39","v":"2015-09-11"},"TOT"]
[null,null,null,null,null,null,null,null,null,null,{"$f":"SUM(C40:J40)","v":0}]
[null,null,null,null,null,null,null,null,null,null,{"$f":"SUM(C41:J41)","v":0}]
[null,null,null,null,null,null,null,null,null,null,0]
[null,null,null,null,null,null,null,null,null,null,0]
[null,null,null,null,null,null,null,null,null,null,0]
[null,null,null,null,null,null,null,null,null,null,0]
[null,null,null,null,null,null,null,null,null,null,0]
[null,null,null,null,null,null,null,null,null,null,0]
[null,null,null,null,null,null,null,null,null,null,0]
[null,null,null,null,null,null,null,null,null,null,0]
[null,null,null,null,null,null,null,null,null,null,0]
[null,null,null,null,null,null,null,null,null,null,0]
[null,null,null,null,null,null,null,null,null,null,0]
[null,null,null,null,null,null,null,null,null,null,0]
[null,null,null,null,null,null,null,null,null,null,0]
[null,null,null,null,null,null,null,null,null,null,0]
[null,null,null,null,null,null,null,null,null,null,0]
[null,null,null,null,null,null,null,null,null,null,0]
[null,null,null,null,null,null,null,null,null,null,0]
[null,null,null,null,null,null,null,null,null,null,0]
[null,null,null,null,null,null,null,null,null,null,0]
[null,null,null,null,null,null,null,null,null,null,0]
[null,null,null,null,null,null,null,null,null,null,0]
[null,null,null,null,null,null,null,null,null,null,0]
[null,null,null,null,null,null,null,null,null,null,0]
[null,null,null,null,null,null,null,null,null,null,{"$f":"SUM(C65:J65)","v":0}]
[null,null,null,null,null,null,null,null,null,null,{"$f":"SUM(C66:J66)","v":0}]
[null,null,null,null,null,null,null,null,null,null,0]
[null,null,null,null,null,null,null,null,null,null,0]
[null,null,null,null,null,null,null,null,null,null,0]
[null,null,null,null,null,null,null,null,null,null,0]
[null,null,null,null,null,null,null,null,null,null,0]
[null,null,null,null,null,null,null,null,null,null,0]
[null,null,null,null,null,null,null,null,null,null,0]
[null,null,null,null,null,null,null,null,null,null,0]
[null,null,null,null,null,null,null,null,null,null,0]
[null,null,null,null,null,null,null,null,null,null,0]
[null,null,null,null,null,null,null,null,null,null,0]
[null,null,null,null,null,null,null,null,null,null,0]
[null,null,null,null,null,null,null,null,null,null,0]
[null,null,null,null,null,null,null,null,null,null,0]
[null,null,null,null,null,null,null,null,null,null,0]
[null,null,null,null,null,null,null,null,null,null,0]
[null,null,null,null,null,null,null,null,null,null,0]
[null,null,null,null,null,null,null,null,null,null,0]
[null,null,null,null,null,null,null,null,null,null,0]
[null,null,null,null,null,null,null,null,null,null,0]
[null,null,null,null,null,null,null,null,null,null,0]
[null,null,null,null,null,null,null,null,null,null,0]
[null,null,null,null,null,null,null,null,null,null,0]
["TOT Jour",null,{"$f":"SUM(C40:C89)","v":0},{"$f":"SUM(D40:D89)","v":0},0,0,0,0,0,0]
["TOT Période",null,{"$f":"SUM(C90:J90)","v":0}]
[{"$f":"B9","v":9}]
[]
[]
["Période :",{"$f":"Accueil!$E14","v":"P2"},{"$f":"Accueil!$F14","v":"du"},{"$f":"Accueil!$G14","v":"2014-11-02"},{"$f":"Accueil!$H14","v":"au"},{"$f":"Accueil!$I14","v":"2014-12-18"}]
["Selectionnez la classe participant à l'atelier :"]
["NOM","Prénom",{"$f":"Accueil!B41","v":"2014-11-03"},{"$f":"Accueil!C41","v":"2014-11-04"},{"$f":"Accueil!D41","v":"2014-11-05"},{"$f":"Accueil!E41","v":"2014-11-06"},{"$f":"Accueil!F41","v":"2014-11-07"},{"$f":"Accueil!G41","v":"2014-11-08"},{"$f":"Accueil!H41","v":"2014-11-09"},{"$f":"Accueil!I41","v":"2014-11-09"},"TOT"]
[null,null,null,null,null,null,null,null,null,null,{"$f":"SUM(C98:J98)","v":0}]
[null,null,null,null,null,null,null,null,null,null,{"$f":"SUM(C99:J99)","v":0}]
[null,null,null,null,null,null,null,null,null,null,0]
[null,null,null,null,null,null,null,null,null,null,0]
[null,null,null,null,null,null,null,null,null,null,0]
[null,null,null,null,null,null,null,null,null,null,0]
[null,null,null,null,null,null,null,null,null,null,0]
[null,null,null,null,null,null,null,null,null,null,0]
[null,null,null,null,null,null,null,null,null,null,0]
[null,null,null,null,null,null,null,null,null,null,0]
[null,null,null,null,null,null,null,null,null,null,0]
[null,null,null,null,null,null,null,null,null,null,0]
[null,null,null,null,null,null,null,null,null,null,0]
[null,null,null,null,null,null,null,null,null,null,0]
[null,null,null,null,null,null,null,null,null,null,0]
[null,null,null,null,null,null,null,null,null,null,0]
[null,null,null,null,null,null,null,null,null,null,0]
[null,null,null,null,null,null,null,null,null,null,0]
[null,null,null,null,null,null,null,null,null,null,0]
[null,null,null,null,null,null,null,null,null,null,0]
[null,null,null,null,null,null,null,null,null,null,0]
[null,null,null,null,null,null,null,null,null,null,0]
[null,null,null,null,null,null,null,null,null,null,0]
[null,null,null,null,null,null,null,null,null,null,0]
[null,null,null,null,null,null,null,null,null,null,0]
[null,null,null,null,null,null,null,null,null,null,{"$f":"SUM(C123:J123)","v":0}]
[null,null,null,null,null,null,null,null,null,null,{"$f":"SUM(C124:J124)","v":0}]
[null,null,null,null,null,null,null,null,null,null,0]
[null,null,null,null,null,null,null,null,null,null,0]
[null,null,null,null,null,null,null,null,null,null,0]
[null,null,null,null,null,null,null,null,null,null,0]
[null,null,null,null,null,null,null,null,null,null,0]
[null,null,null,null,null,null,null,null,null,null,0]
[null,null,null,null,null,null,null,null,null,null,0]
[null,null,null,null,null,null,null,null,null,null,0]
[null,null,null,null,null,null,null,null,null,null,0]
[null,null,null,null,null,null,null,null,null,null,0]
[null,null,null,null,null,null,null,null,null,null,0]
[null,null,null,null,null,null,null,null,null,null,0]
[null,null,null,null,null,null,null,null,null,null,0]
[null,null,null,null,null,null,null,null,null,null,0]
[null,null,null,null,null,null,null,null,null,null,0]
[null,null,null,null,null,null,null,null,null,null,0]
[null,null,null,null,null,null,null,null,null,null,0]
[null,null,null,null,null,null,null,null,null,null,0]
[null,null,null,null,null,null,null,null,null,null,0]
[null,null,null,null,null,null,null,null,null,null,0]
[null,null,null,null,null,null,null,null,null,null,0]
[null,null,null,null,null,null,null,null,null,null,0]
[null,null,null,null,null,null,null,null,null,null,0]
["TOT Jour",null,{"$f":"SUM(C98:C147)","v":0},{"$f":"SUM(D98:D147)","v":0},0,0,0,0,0,0]
["TOT Période",null,{"$f":"SUM(C148:J148)","v":0}]
[{"$f":"B9","v":9}]
[]
[]
["Période :",{"$f":"Accueil!E16","v":"P3"},{"$f":"Accueil!$F16","v":"du"},{"$f":"Accueil!$G16","v":"2015-01-04"},{"$f":"Accueil!$H16","v":"au"},{"$f":"Accueil!$I16","v":"2015-02-20"}]
["Selectionnez la classe participant à l'atelier :"]
["NOM","Prénom",{"$f":"Accueil!B43","v":"2015-01-05"},{"$f":"Accueil!C43","v":"2015-01-06"},{"$f":"Accueil!D43","v":"2015-01-07"},{"$f":"Accueil!E43","v":"2015-01-08"},{"$f":"Accueil!F43","v":"2015-01-09"},{"$f":"Accueil!G43","v":"2015-01-10"},{"$f":"Accueil!H43","v":"2015-01-11"},{"$f":"Accueil!I43","v":"2015-01-11"},"TOT"]
[null,null,null,null,null,null,null,null,null,null,{"$f":"SUM(C156:J156)","v":0}]
[null,null,null,null,null,null,null,null,null,null,{"$f":"SUM(C157:J157)","v":0}]
[null,null,null,null,null,null,null,null,null,null,0]
[null,null,null,null,null,null,null,null,null,null,0]
[null,null,null,null,null,null,null,null,null,null,0]
[null,null,null,null,null,null,null,null,null,null,0]
[null,null,null,null,null,null,null,null,null,null,0]
[null,null,null,null,null,null,null,null,null,null,0]
[null,null,null,null,null,null,null,null,null,null,0]
[null,null,null,null,null,null,null,null,null,null,0]
[null,null,null,null,null,null,null,null,null,null,0]
[null,null,null,null,null,null,null,null,null,null,0]
[null,null,null,null,null,null,null,null,null,null,0]
[null,null,null,null,null,null,null,null,null,null,0]
[null,null,null,null,null,null,null,null,null,null,0]
[null,null,null,null,null,null,null,null,null,null,0]
[null,null,null,null,null,null,null,null,null,null,0]
[null,null,null,null,null,null,null,null,null,null,0]
[null,null,null,null,null,null,null,null,null,null,0]
[null,null,null,null,null,null,null,null,null,null,0]
[null,null,null,null,null,null,null,null,null,null,0]
[null,null,null,null,null,null,null,null,null,null,0]
[null,null,null,null,null,null,null,null,null,null,0]
[null,null,null,null,null,null,null,null,null,null,0]
[null,null,null,null,null,null,null,null,null,null,0]
[null,null,null,null,null,null,null,null,null,null,{"$f":"SUM(C181:J181)","v":0}]
[null,null,null,null,null,null,null,null,null,null,{"$f":"SUM(C182:J182)","v":0}]
[null,null,null,null,null,null,null,null,null,null,0]
[null,null,null,null,null,null,null,null,null,null,0]
[null,null,null,null,null,null,null,null,null,null,0]
[null,null,null,null,null,null,null,null,null,null,0]
[null,null,null,null,null,null,null,null,null,null,0]
[null,null,null,null,null,null,null,null,null,null,0]
[null,null,null,null,null,null,null,null,null,null,0]
[null,null,null,null,null,null,null,null,null,null,0]
[null,null,null,null,null,null,null,null,null,null,0]
[null,null,null,null,null,null,null,null,null,null,0]
[null,null,null,null,null,null,null,null,null,null,0]
[null,null,null,null,null,null,null,null,null,null,0]
[null,null,null,null,null,null,null,null,null,null,0]
[null,null,null,null,null,null,null,null,null,null,0]
[null,null,null,null,null,null,null,null,null,null,0]
[null,null,null,null,null,null,null,null,null,null,0]
[null,null,null,null,null,null,null,null,null,null,0]
[null,null,null,null,null,null,null,null,null,null,0]
[null,null,null,null,null,null,null,null,null,null,0]
[null,null,null,null,null,null,null,null,null,null,0]
[null,null,null,null,null,null,null,null,null,null,0]
[null,null,null,null,null,null,null,null,null,null,0]
[null,null,null,null,null,null,null,null,null,null,0]
["TOT Jour",null,{"$f":"SUM(C156:C205)","v":0},{"$f":"SUM(D156:D205)","v":0},0,0,0,0,0,0]
["TOT Période",null,{"$f":"SUM(C206:J206)","v":0}]
[{"$f":"B9","v":9}]
[]
[]
["Période :",{"$f":"Accueil!E18","v":"P4"},{"$f":"Accueil!$F18","v":"du"},{"$f":"Accueil!$G18","v":"2015-03-08"},{"$f":"Accueil!$H18","v":"au"},{"$f":"Accueil!$I18","v":"2015-04-15"}]
["Selectionnez la classe participant à l'atelier :"]
["NOM","Prénom",{"$f":"Accueil!B45","v":"2015-03-09"},{"$f":"Accueil!C45","v":"2015-03-10"},{"$f":"Accueil!D45","v":"2015-03-11"},{"$f":"Accueil!E45","v":"2015-03-12"},{"$f":"Accueil!F45","v":"2015-03-13"},{"$f":"Accueil!G45","v":"2015-03-14"},{"$f":"Accueil!H45","v":"2015-03-15"},{"$f":"Accueil!I45","v":"2015-03-15"},"TOT"]
[null,null,null,null,null,null,null,null,null,null,{"$f":"SUM(C214:J214)","v":0}]
[null,null,null,null,null,null,null,null,null,null,{"$f":"SUM(C215:J215)","v":0}]
[null,null,null,null,null,null,null,null,null,null,0]
[null,null,null,null,null,null,null,null,null,null,0]
[null,null,null,null,null,null,null,null,null,null,0]
[null,null,null,null,null,null,null,null,null,null,0]
[null,null,null,null,null,null,null,null,null,null,0]
[null,null,null,null,null,null,null,null,null,null,0]
[null,null,null,null,null,null,null,null,null,null,0]
[null,null,null,null,null,null,null,null,null,null,0]
[null,null,null,null,null,null,null,null,null,null,0]
[null,null,null,null,null,null,null,null,null,null,0]
[null,null,null,null,null,null,null,null,null,null,0]
[null,null,null,null,null,null,null,null,null,null,0]
[null,null,null,null,null,null,null,null,null,null,0]
[null,null,null,null,null,null,null,null,null,null,0]
[null,null,null,null,null,null,null,null,null,null,0]
[null,null,null,null,null,null,null,null,null,null,0]
[null,null,null,null,null,null,null,null,null,null,0]
[null,null,null,null,null,null,null,null,null,null,0]
[null,null,null,null,null,null,null,null,null,null,0]
[null,null,null,null,null,null,null,null,null,null,0]
[null,null,null,null,null,null,null,null,null,null,0]
[null,null,null,null,null,null,null,null,null,null,0]
[null,null,null,null,null,null,null,null,null,null,0]
[null,null,null,null,null,null,null,null,null,null,{"$f":"SUM(C239:J239)","v":0}]
[null,null,null,null,null,null,null,null,null,null,{"$f":"SUM(C240:J240)","v":0}]
[null,null,null,null,null,null,null,null,null,null,0]
[null,null,null,null,null,null,null,null,null,null,0]
[null,null,null,null,null,null,null,null,null,null,0]
[null,null,null,null,null,null,null,null,null,null,0]
[null,null,null,null,null,null,null,null,null,null,0]
[null,null,null,null,null,null,null,null,null,null,0]
[null,null,null,null,null,null,null,null,null,null,0]
[null,null,null,null,null,null,null,null,null,null,0]
[null,null,null,null,null,null,null,null,null,null,0]
[null,null,null,null,null,null,null,null,null,null,0]
[null,null,null,null,null,null,null,null,null,null,0]
[null,null,null,null,null,null,null,null,null,null,0]
[null,null,null,null,null,null,null,null,null,null,0]
[null,null,null,null,null,null,null,null,null,null,0]
[null,null,null,null,null,null,null,null,null,null,0]
[null,null,null,null,null,null,null,null,null,null,0]
[null,null,null,null,null,null,null,null,null,null,0]
[null,null,null,null,null,null,null,null,null,null,0]
[null,null,null,null,null,null,null,null,null,null,0]
[null,null,null,null,null,null,null,null,null,null,0]
[null,null,null,null,null,null,null,null,null,null,0]
[null,null,null,null,null,null,null,null,null,null,0]
[null,null,null,null,null,null,null,null,null,null,0]
["TOT Jour",null,{"$f":"SUM(C214:C263)","v":0},{"$f":"SUM(D214:D263)","v":0},0,0,0,0,0,0]
["TOT Période",null,{"$f":"SUM(C264:J264)","v":0}]
[{"$f":"B9","v":9}]
[]
[]
["Période :",{"$f":"Accueil!E20","v":"P5"},{"$f":"Accueil!$F20","v":"du"},{"$f":"Accueil!$G20","v":"2015-05-03"},{"$f":"Accueil!$H20","v":"au"},{"$f":"Accueil!$I20","v":"2015-07-03"}]
["Selectionnez la classe participant à l'atelier :"]
["NOM","Prénom",{"$f":"Accueil!B47","v":"2015-05-04"},{"$f":"Accueil!C47","v":"2015-05-05"},{"$f":"Accueil!D47","v":"2015-05-06"},{"$f":"Accueil!E47","v":"2015-05-07"},{"$f":"Accueil!F47","v":"2015-05-08"},{"$f":"Accueil!G47","v":"2015-05-09"},{"$f":"Accueil!H47","v":"2015-05-10"},{"$f":"Accueil!I47","v":"2015-05-10"},"TOT"]
[null,null,null,null,null,null,null,null,null,null,{"$f":"SUM(C272:J272)","v":0}]
[null,null,null,null,null,null,null,null,null,null,{"$f":"SUM(C273:J273)","v":0}]
[null,null,null,null,null,null,null,null,null,null,0]
[null,null,null,null,null,null,null,null,null,null,0]
[null,null,null,null,null,null,null,null,null,null,0]
[null,null,null,null,null,null,null,null,null,null,0]
[null,null,null,null,null,null,null,null,null,null,0]
[null,null,null,null,null,null,null,null,null,null,0]
[null,null,null,null,null,null,null,null,null,null,0]
[null,null,null,null,null,null,null,null,null,null,0]
[null,null,null,null,null,null,null,null,null,null,0]
[null,null,null,null,null,null,null,null,null,null,0]
[null,null,null,null,null,null,null,null,null,null,0]
[null,null,null,null,null,null,null,null,null,null,0]
[null,null,null,null,null,null,null,null,null,null,0]
[null,null,null,null,null,null,null,null,null,null,0]
[null,null,null,null,null,null,null,null,null,null,0]
[null,null,null,null,null,null,null,null,null,null,0]
[null,null,null,null,null,null,null,null,null,null,0]
[null,null,null,null,null,null,null,null,null,null,0]
[null,null,null,null,null,null,null,null,null,null,0]
[null,null,null,null,null,null,null,null,null,null,0]
[null,null,null,null,null,null,null,null,null,null,0]
[null,null,null,null,null,null,null,null,null,null,0]
[null,null,null,null,null,null,null,null,null,null,0]
[null,null,null,null,null,null,null,null,null,null,{"$f":"SUM(C297:J297)","v":0}]
[null,null,null,null,null,null,null,null,null,null,{"$f":"SUM(C298:J298)","v":0}]
[null,null,null,null,null,null,null,null,null,null,0]
[null,null,null,null,null,null,null,null,null,null,0]
[null,null,null,null,null,null,null,null,null,null,0]
[null,null,null,null,null,null,null,null,null,null,0]
[null,null,null,null,null,null,null,null,null,null,0]
[null,null,null,null,null,null,null,null,null,null,0]
[null,null,null,null,null,null,null,null,null,null,0]
[null,null,null,null,null,null,null,null,null,null,0]
[null,null,null,null,null,null,null,null,null,null,0]
[null,null,null,null,null,null,null,null,null,null,0]
[null,null,null,null,null,null,null,null,null,null,0]
[null,null,null,null,null,null,null,null,null,null,0]
[null,null,null,null,null,null,null,null,null,null,0]
[null,null,null,null,null,null,null,null,null,null,0]
[null,null,null,null,null,null,null,null,null,null,0]
[null,null,null,null,null,null,null,null,null,null,0]
[null,null,null,null,null,null,null,null,null,null,0]
[null,null,null,null,null,null,null,null,null,null,0]
[null,null,null,null,null,null,null,null,null,null,0]
[null,null,null,null,null,null,null,null,null,null,0]
[null,null,null,null,null,null,null,null,null,null,0]
[null,null,null,null,null,null,null,null,null,null,0]
[null,null,null,null,null,null,null,null,null,null,0]
["TOT Jour",null,{"$f":"SUM(C272:C321)","v":0},{"$f":"SUM(D272:D321)","v":0},0,0,0,0,0,0]
["TOT Période",null,{"$f":"SUM(C322:J322)","v":0}]
["Statistiques"]
[]
[]
["Nombre d'heure de fréquentation :"]
[{"$f":"Accueil!$E12","v":"P1"},{"$f":"$C$91*1.5","v":0},"heures de présence pour cet atelier et pour cette période"]
[{"$f":"Accueil!$E14","v":"P2"},{"$f":"$C$149*1.5","v":0},"heures de présence pour cet atelier et pour cette période"]
[{"$f":"Accueil!$E16","v":"P3"},{"$f":"$C$207*1.5","v":0},"heures de présence pour cet atelier et pour cette période"]
[{"$f":"Accueil!$E18","v":"P4"},{"$f":"$C$265*1.5","v":0},"heures de présence pour cet atelier et pour cette période"]
[{"$f":"Accueil!$E20","v":"P5"},{"$f":"$C$323*1.5","v":0},"heures de présence pour cet atelier et pour cette période"]
["TOT",{"$f":"SUM($B$328:$B$332)","v":0},"heures de présence pour cet atelier et pour l'année"]

{"sheet":"10","index":25,"n_rows":333,"n_cols":11,"rows_kept":333,"cut":false,"hidden":false,"merged":[[332,2,332,6],[323,0,324,10],[327,2,327,6],[328,2,328,6],[329,2,329,6],[330,2,330,6],[331,2,331,6],[265,0,266,10],[269,0,269,3],[269,4,269,5],[321,0,321,1],[322,0,322,1],[322,2,322,9],[207,0,208,10],[211,0,211,3],[211,4,211,5],[263,0,263,1],[264,0,264,1],[264,2,264,9],[149,0,150,10],[153,0,153,3],[153,4,153,5],[205,0,205,1],[206,0,206,1],[206,2,206,9],[91,0,92,10],[95,0,95,3],[95,4,95,5],[147,0,147,1],[148,0,148,1],[148,2,148,9],[90,0,90,1],[90,2,90,9],[8,1,15,9],[33,0,34,10],[37,0,37,3],[37,4,37,5],[89,0,89,1],[17,0,18,10],[19,0,22,10],[16,2,16,9]]}
[]
[]
[]
[]
[]
[]
[]
[]
[null,{"$f":"Accueil!B29","v":10}]
[]
[]
[]
[]
[]
[]
[]
[null,{"$f":"Machin!B17","v":"Avec :"},{"$f":"Accueil!C29","v":0}]
[{"$f":"Machin!$A$28","v":"ATTENTION !"}]
[]
[{"$f":"Machin!$A$30","v":"Vous ne devez pas ajouter ou supprimer les enfants depuis cette feuille ! \nPour ajouter des enfants dans cet atelier -> Aller dans la feuille de la classe des enfants et suivre les instructions.\nPour supprimer des enfants de cet atelier -> Aller dans la feuille de la classe des enfants et suivre les instructions."}]
[]
[]
[]
[]
[]
[]
[]
[]
[]
[]
[]
[]
[]
[{"$f":"B9","v":10}]
[]
[]
["Période :",{"$f":"Accueil!$E$12","v":"P1"},{"$f":"Accueil!$F$12","v":"du"},{"$f":"Accueil!$G$12","v":"2014-09-02"},{"$f":"Accueil!$H$12","v":"au"},{"$f":"Accueil!$I$12","v":"2014-10-17"}]
["Selectionnez la classe participant à l'atelier :"]
["NOM","Prénom",{"$f":"Accueil!B39","v":"2015-09-05"},{"$f":"Accueil!C39","v":"2015-09-06"},{"$f":"Accueil!D39","v":"2015-09-07"},{"$f":"Accueil!E39","v":"2015-09-08"},{"$f":"Accueil!F39","v":"2015-09-09"},{"$f":"Accueil!G39","v":"2015-09-10"},{"$f":"Accueil!H39","v":"2015-09-11"},{"$f":"Accueil!I39","v":"2015-09-11"},"TOT"]
[null,null,null,null,null,null,null,null,null,null,{"$f":"SUM(C40:J40)","v":0}]
[null,null,null,null,null,null,null,null,null,null,{"$f":"SUM(C41:J41)","v":0}]
[null,null,null,null,null,null,null,null,null,null,0]
[null,null,null,null,null,null,null,null,null,null,0]
[null,null,null,null,null,null,null,null,null,null,0]
[null,null,null,null,null,null,null,null,null,null,0]
[null,null,null,null,null,null,null,null,null,null,0]
[null,null,null,null,null,null,null,null,null,null,0]
[null,null,null,null,null,null,null,null,null,null,0]
[null,null,null,null,null,null,null,null,null,null,0]
[null,null,null,null,null,null,null,null,null,null,0]
[null,null,null,null,null,null,null,null,null,null,0]
[null,null,null,null,null,null,null,null,null,null,0]
[null,null,null,null,null,null,null,null,null,null,0]
[null,null,null,null,null,null,null,null,null,null,0]
[null,null,null,null,null,null,null,null,null,null,0]
[null,null,null,null,null,null,null,null,null,null,0]
[null,null,null,null,null,null,null,null,null,null,0]
[null,null,null,null,null,null,null,null,null,null,0]
[null,null,null,null,null,null,null,null,null,null,0]
[null,null,null,null,null,null,null,null,null,null,0]
[null,null,null,null,null,null,null,null,null,null,0]
[null,null,null,null,null,null,null,null,null,null,0]
[null,null,null,null,null,null,null,null,null,null,0]
[null,null,null,null,null,null,null,null,null,null,0]
[null,null,null,null,null,null,null,null,null,null,{"$f":"SUM(C65:J65)","v":0}]
[null,null,null,null,null,null,null,null,null,null,{"$f":"SUM(C66:J66)","v":0}]
[null,null,null,null,null,null,null,null,null,null,0]
[null,null,null,null,null,null,null,null,null,null,0]
[null,null,null,null,null,null,null,null,null,null,0]
[null,null,null,null,null,null,null,null,null,null,0]
[null,null,null,null,null,null,null,null,null,null,0]
[null,null,null,null,null,null,null,null,null,null,0]
[null,null,null,null,null,null,null,null,null,null,0]
[null,null,null,null,null,null,null,null,null,null,0]
[null,null,null,null,null,null,null,null,null,null,0]
[null,null,null,null,null,null,null,null,null,null,0]
[null,null,null,null,null,null,null,null,null,null,0]
[null,null,null,null,null,null,null,null,null,null,0]
[null,null,null,null,null,null,null,null,null,null,0]
[null,null,null,null,null,null,null,null,null,null,0]
[null,null,null,null,null,null,null,null,null,null,0]
[null,null,null,null,null,null,null,null,null,null,0]
[null,null,null,null,null,null,null,null,null,null,0]
[null,null,null,null,null,null,null,null,null,null,0]
[null,null,null,null,null,null,null,null,null,null,0]
[null,null,null,null,null,null,null,null,null,null,0]
[null,null,null,null,null,null,null,null,null,null,0]
[null,null,null,null,null,null,null,null,null,null,0]
[null,null,null,null,null,null,null,null,null,null,0]
["TOT Jour",null,{"$f":"SUM(C40:C89)","v":0},{"$f":"SUM(D40:D89)","v":0},0,0,0,0,0,0]
["TOT Période",null,{"$f":"SUM(C90:J90)","v":0}]
[{"$f":"B9","v":10}]
[]
[]
["Période :",{"$f":"Accueil!$E14","v":"P2"},{"$f":"Accueil!$F14","v":"du"},{"$f":"Accueil!$G14","v":"2014-11-02"},{"$f":"Accueil!$H14","v":"au"},{"$f":"Accueil!$I14","v":"2014-12-18"}]
["Selectionnez la classe participant à l'atelier :"]
["NOM","Prénom",{"$f":"Accueil!B41","v":"2014-11-03"},{"$f":"Accueil!C41","v":"2014-11-04"},{"$f":"Accueil!D41","v":"2014-11-05"},{"$f":"Accueil!E41","v":"2014-11-06"},{"$f":"Accueil!F41","v":"2014-11-07"},{"$f":"Accueil!G41","v":"2014-11-08"},{"$f":"Accueil!H41","v":"2014-11-09"},{"$f":"Accueil!I41","v":"2014-11-09"},"TOT"]
[null,null,null,null,null,null,null,null,null,null,{"$f":"SUM(C98:J98)","v":0}]
[null,null,null,null,null,null,null,null,null,null,{"$f":"SUM(C99:J99)","v":0}]
[null,null,null,null,null,null,null,null,null,null,0]
[null,null,null,null,null,null,null,null,null,null,0]
[null,null,null,null,null,null,null,null,null,null,0]
[null,null,null,null,null,null,null,null,null,null,0]
[null,null,null,null,null,null,null,null,null,null,0]
[null,null,null,null,null,null,null,null,null,null,0]
[null,null,null,null,null,null,null,null,null,null,0]
[null,null,null,null,null,null,null,null,null,null,0]
[null,null,null,null,null,null,null,null,null,null,0]
[null,null,null,null,null,null,null,null,null,null,0]
[null,null,null,null,null,null,null,null,null,null,0]
[null,null,null,null,null,null,null,null,null,null,0]
[null,null,null,null,null,null,null,null,null,null,0]
[null,null,null,null,null,null,null,null,null,null,0]
[null,null,null,null,null,null,null,null,null,null,0]
[null,null,null,null,null,null,null,null,null,null,0]
[null,null,null,null,null,null,null,null,null,null,0]
[null,null,null,null,null,null,null,null,null,null,0]
[null,null,null,null,null,null,null,null,null,null,0]
[null,null,null,null,null,null,null,null,null,null,0]
[null,null,null,null,null,null,null,null,null,null,0]
[null,null,null,null,null,null,null,null,null,null,0]
[null,null,null,null,null,null,null,null,null,null,0]
[null,null,null,null,null,null,null,null,null,null,{"$f":"SUM(C123:J123)","v":0}]
[null,null,null,null,null,null,null,null,null,null,{"$f":"SUM(C124:J124)","v":0}]
[null,null,null,null,null,null,null,null,null,null,0]
[null,null,null,null,null,null,null,null,null,null,0]
[null,null,null,null,null,null,null,null,null,null,0]
[null,null,null,null,null,null,null,null,null,null,0]
[null,null,null,null,null,null,null,null,null,null,0]
[null,null,null,null,null,null,null,null,null,null,0]
[null,null,null,null,null,null,null,null,null,null,0]
[null,null,null,null,null,null,null,null,null,null,0]
[null,null,null,null,null,null,null,null,null,null,0]
[null,null,null,null,null,null,null,null,null,null,0]
[null,null,null,null,null,null,null,null,null,null,0]
[null,null,null,null,null,null,null,null,null,null,0]
[null,null,null,null,null,null,null,null,null,null,0]
[null,null,null,null,null,null,null,null,null,null,0]
[null,null,null,null,null,null,null,null,null,null,0]
[null,null,null,null,null,null,null,null,null,null,0]
[null,null,null,null,null,null,null,null,null,null,0]
[null,null,null,null,null,null,null,null,null,null,0]
[null,null,null,null,null,null,null,null,null,null,0]
[null,null,null,null,null,null,null,null,null,null,0]
[null,null,null,null,null,null,null,null,null,null,0]
[null,null,null,null,null,null,null,null,null,null,0]
[null,null,null,null,null,null,null,null,null,null,0]
["TOT Jour",null,{"$f":"SUM(C98:C147)","v":0},{"$f":"SUM(D98:D147)","v":0},0,0,0,0,0,0]
["TOT Période",null,{"$f":"SUM(C148:J148)","v":0}]
[{"$f":"B9","v":10}]
[]
[]
["Période :",{"$f":"Accueil!E16","v":"P3"},{"$f":"Accueil!$F16","v":"du"},{"$f":"Accueil!$G16","v":"2015-01-04"},{"$f":"Accueil!$H16","v":"au"},{"$f":"Accueil!$I16","v":"2015-02-20"}]
["Selectionnez la classe participant à l'atelier :"]
["NOM","Prénom",{"$f":"Accueil!B43","v":"2015-01-05"},{"$f":"Accueil!C43","v":"2015-01-06"},{"$f":"Accueil!D43","v":"2015-01-07"},{"$f":"Accueil!E43","v":"2015-01-08"},{"$f":"Accueil!F43","v":"2015-01-09"},{"$f":"Accueil!G43","v":"2015-01-10"},{"$f":"Accueil!H43","v":"2015-01-11"},{"$f":"Accueil!I43","v":"2015-01-11"},"TOT"]
[null,null,null,null,null,null,null,null,null,null,{"$f":"SUM(C156:J156)","v":0}]
[null,null,null,null,null,null,null,null,null,null,{"$f":"SUM(C157:J157)","v":0}]
[null,null,null,null,null,null,null,null,null,null,0]
[null,null,null,null,null,null,null,null,null,null,0]
[null,null,null,null,null,null,null,null,null,null,0]
[null,null,null,null,null,null,null,null,null,null,0]
[null,null,null,null,null,null,null,null,null,null,0]
[null,null,null,null,null,null,null,null,null,null,0]
[null,null,null,null,null,null,null,null,null,null,0]
[null,null,null,null,null,null,null,null,null,null,0]
[null,null,null,null,null,null,null,null,null,null,0]
[null,null,null,null,null,null,null,null,null,null,0]
[null,null,null,null,null,null,null,null,null,null,0]
[null,null,null,null,null,null,null,null,null,null,0]
[null,null,null,null,null,null,null,null,null,null,0]
[null,null,null,null,null,null,null,null,null,null,0]
[null,null,null,null,null,null,null,null,null,null,0]
[null,null,null,null,null,null,null,null,null,null,0]
[null,null,null,null,null,null,null,null,null,null,0]
[null,null,null,null,null,null,null,null,null,null,0]
[null,null,null,null,null,null,null,null,null,null,0]
[null,null,null,null,null,null,null,null,null,null,0]
[null,null,null,null,null,null,null,null,null,null,0]
[null,null,null,null,null,null,null,null,null,null,0]
[null,null,null,null,null,null,null,null,null,null,0]
[null,null,null,null,null,null,null,null,null,null,{"$f":"SUM(C181:J181)","v":0}]
[null,null,null,null,null,null,null,null,null,null,{"$f":"SUM(C182:J182)","v":0}]
[null,null,null,null,null,null,null,null,null,null,0]
[null,null,null,null,null,null,null,null,null,null,0]
[null,null,null,null,null,null,null,null,null,null,0]
[null,null,null,null,null,null,null,null,null,null,0]
[null,null,null,null,null,null,null,null,null,null,0]
[null,null,null,null,null,null,null,null,null,null,0]
[null,null,null,null,null,null,null,null,null,null,0]
[null,null,null,null,null,null,null,null,null,null,0]
[null,null,null,null,null,null,null,null,null,null,0]
[null,null,null,null,null,null,null,null,null,null,0]
[null,null,null,null,null,null,null,null,null,null,0]
[null,null,null,null,null,null,null,null,null,null,0]
[null,null,null,null,null,null,null,null,null,null,0]
[null,null,null,null,null,null,null,null,null,null,0]
[null,null,null,null,null,null,null,null,null,null,0]
[null,null,null,null,null,null,null,null,null,null,0]
[null,null,null,null,null,null,null,null,null,null,0]
[null,null,null,null,null,null,null,null,null,null,0]
[null,null,null,null,null,null,null,null,null,null,0]
[null,null,null,null,null,null,null,null,null,null,0]
[null,null,null,null,null,null,null,null,null,null,0]
[null,null,null,null,null,null,null,null,null,null,0]
[null,null,null,null,null,null,null,null,null,null,0]
["TOT Jour",null,{"$f":"SUM(C156:C205)","v":0},{"$f":"SUM(D156:D205)","v":0},0,0,0,0,0,0]
["TOT Période",null,{"$f":"SUM(C206:J206)","v":0}]
[{"$f":"B9","v":10}]
[]
[]
["Période :",{"$f":"Accueil!E18","v":"P4"},{"$f":"Accueil!$F18","v":"du"},{"$f":"Accueil!$G18","v":"2015-03-08"},{"$f":"Accueil!$H18","v":"au"},{"$f":"Accueil!$I18","v":"2015-04-15"}]
["Selectionnez la classe participant à l'atelier :"]
["NOM","Prénom",{"$f":"Accueil!B45","v":"2015-03-09"},{"$f":"Accueil!C45","v":"2015-03-10"},{"$f":"Accueil!D45","v":"2015-03-11"},{"$f":"Accueil!E45","v":"2015-03-12"},{"$f":"Accueil!F45","v":"2015-03-13"},{"$f":"Accueil!G45","v":"2015-03-14"},{"$f":"Accueil!H45","v":"2015-03-15"},{"$f":"Accueil!I45","v":"2015-03-15"},"TOT"]
[null,null,null,null,null,null,null,null,null,null,{"$f":"SUM(C214:J214)","v":0}]
[null,null,null,null,null,null,null,null,null,null,{"$f":"SUM(C215:J215)","v":0}]
[null,null,null,null,null,null,null,null,null,null,0]
[null,null,null,null,null,null,null,null,null,null,0]
[null,null,null,null,null,null,null,null,null,null,0]
[null,null,null,null,null,null,null,null,null,null,0]
[null,null,null,null,null,null,null,null,null,null,0]
[null,null,null,null,null,null,null,null,null,null,0]
[null,null,null,null,null,null,null,null,null,null,0]
[null,null,null,null,null,null,null,null,null,null,0]
[null,null,null,null,null,null,null,null,null,null,0]
[null,null,null,null,null,null,null,null,null,null,0]
[null,null,null,null,null,null,null,null,null,null,0]
[null,null,null,null,null,null,null,null,null,null,0]
[null,null,null,null,null,null,null,null,null,null,0]
[null,null,null,null,null,null,null,null,null,null,0]
[null,null,null,null,null,null,null,null,null,null,0]
[null,null,null,null,null,null,null,null,null,null,0]
[null,null,null,null,null,null,null,null,null,null,0]
[null,null,null,null,null,null,null,null,null,null,0]
[null,null,null,null,null,null,null,null,null,null,0]
[null,null,null,null,null,null,null,null,null,null,0]
[null,null,null,null,null,null,null,null,null,null,0]
[null,null,null,null,null,null,null,null,null,null,0]
[null,null,null,null,null,null,null,null,null,null,0]
[null,null,null,null,null,null,null,null,null,null,{"$f":"SUM(C239:J239)","v":0}]
[null,null,null,null,null,null,null,null,null,null,{"$f":"SUM(C240:J240)","v":0}]
[null,null,null,null,null,null,null,null,null,null,0]
[null,null,null,null,null,null,null,null,null,null,0]
[null,null,null,null,null,null,null,null,null,null,0]
[null,null,null,null,null,null,null,null,null,null,0]
[null,null,null,null,null,null,null,null,null,null,0]
[null,null,null,null,null,null,null,null,null,null,0]
[null,null,null,null,null,null,null,null,null,null,0]
[null,null,null,null,null,null,null,null,null,null,0]
[null,null,null,null,null,null,null,null,null,null,0]
[null,null,null,null,null,null,null,null,null,null,0]
[null,null,null,null,null,null,null,null,null,null,0]
[null,null,null,null,null,null,null,null,null,null,0]
[null,null,null,null,null,null,null,null,null,null,0]
[null,null,null,null,null,null,null,null,null,null,0]
[null,null,null,null,null,null,null,null,null,null,0]
[null,null,null,null,null,null,null,null,null,null,0]
[null,null,null,null,null,null,null,null,null,null,0]
[null,null,null,null,null,null,null,null,null,null,0]
[null,null,null,null,null,null,null,null,null,null,0]
[null,null,null,null,null,null,null,null,null,null,0]
[null,null,null,null,null,null,null,null,null,null,0]
[null,null,null,null,null,null,null,null,null,null,0]
[null,null,null,null,null,null,null,null,null,null,0]
["TOT Jour",null,{"$f":"SUM(C214:C263)","v":0},{"$f":"SUM(D214:D263)","v":0},0,0,0,0,0,0]
["TOT Période",null,{"$f":"SUM(C264:J264)","v":0}]
[{"$f":"B9","v":10}]
[]
[]
["Période :",{"$f":"Accueil!E20","v":"P5"},{"$f":"Accueil!$F20","v":"du"},{"$f":"Accueil!$G20","v":"2015-05-03"},{"$f":"Accueil!$H20","v":"au"},{"$f":"Accueil!$I20","v":"2015-07-03"}]
["Selectionnez la classe participant à l'atelier :"]
["NOM","Prénom",{"$f":"Accueil!B47","v":"2015-05-04"},{"$f":"Accueil!C47","v":"2015-05-05"},{"$f":"Accueil!D47","v":"2015-05-06"},{"$f":"Accueil!E47","v":"2015-05-07"},{"$f":"Accueil!F47","v":"2015-05-08"},{"$f":"Accueil!G47","v":"2015-05-09"},{"$f":"Accueil!H47","v":"2015-05-10"},{"$f":"Accueil!I47","v":"2015-05-10"},"TOT"]
[null,null,null,null,null,null,null,null,null,null,{"$f":"SUM(C272:J272)","v":0}]
[null,null,null,null,null,null,null,null,null,null,{"$f":"SUM(C273:J273)","v":0}]
[null,null,null,null,null,null,null,null,null,null,0]
[null,null,null,null,null,null,null,null,null,null,0]
[null,null,null,null,null,null,null,null,null,null,0]
[null,null,null,null,null,null,null,null,null,null,0]
[null,null,null,null,null,null,null,null,null,null,0]
[null,null,null,null,null,null,null,null,null,null,0]
[null,null,null,null,null,null,null,null,null,null,0]
[null,null,null,null,null,null,null,null,null,null,0]
[null,null,null,null,null,null,null,null,null,null,0]
[null,null,null,null,null,null,null,null,null,null,0]
[null,null,null,null,null,null,null,null,null,null,0]
[null,null,null,null,null,null,null,null,null,null,0]
[null,null,null,null,null,null,null,null,null,null,0]
[null,null,null,null,null,null,null,null,null,null,0]
[null,null,null,null,null,null,null,null,null,null,0]
[null,null,null,null,null,null,null,null,null,null,0]
[null,null,null,null,null,null,null,null,null,null,0]
[null,null,null,null,null,null,null,null,null,null,0]
[null,null,null,null,null,null,null,null,null,null,0]
[null,null,null,null,null,null,null,null,null,null,0]
[null,null,null,null,null,null,null,null,null,null,0]
[null,null,null,null,null,null,null,null,null,null,0]
[null,null,null,null,null,null,null,null,null,null,0]
[null,null,null,null,null,null,null,null,null,null,{"$f":"SUM(C297:J297)","v":0}]
[null,null,null,null,null,null,null,null,null,null,{"$f":"SUM(C298:J298)","v":0}]
[null,null,null,null,null,null,null,null,null,null,0]
[null,null,null,null,null,null,null,null,null,null,0]
[null,null,null,null,null,null,null,null,null,null,0]
[null,null,null,null,null,null,null,null,null,null,0]
[null,null,null,null,null,null,null,null,null,null,0]
[null,null,null,null,null,null,null,null,null,null,0]
[null,null,null,null,null,null,null,null,null,null,0]
[null,null,null,null,null,null,null,null,null,null,0]
[null,null,null,null,null,null,null,null,null,null,0]
[null,null,null,null,null,null,null,null,null,null,0]
[null,null,null,null,null,null,null,null,null,null,0]
[null,null,null,null,null,null,null,null,null,null,0]
[null,null,null,null,null,null,null,null,null,null,0]
[null,null,null,null,null,null,null,null,null,null,0]
[null,null,null,null,null,null,null,null,null,null,0]
[null,null,null,null,null,null,null,null,null,null,0]
[null,null,null,null,null,null,null,null,null,null,0]
[null,null,null,null,null,null,null,null,null,null,0]
[null,null,null,null,null,null,null,null,null,null,0]
[null,null,null,null,null,null,null,null,null,null,0]
[null,null,null,null,null,null,null,null,null,null,0]
[null,null,null,null,null,null,null,null,null,null,0]
[null,null,null,null,null,null,null,null,null,null,0]
["TOT Jour",null,{"$f":"SUM(C272:C321)","v":0},{"$f":"SUM(D272:D321)","v":0},0,0,0,0,0,0]
["TOT Période",null,{"$f":"SUM(C322:J322)","v":0}]
["Statistiques"]
[]
[]
["Nombre d'heure de fréquentation :"]
[{"$f":"Accueil!$E12","v":"P1"},{"$f":"$C$91*1.5","v":0},"heures de présence pour cet atelier et pour cette période"]
[{"$f":"Accueil!$E14","v":"P2"},{"$f":"$C$149*1.5","v":0},"heures de présence pour cet atelier et pour cette période"]
[{"$f":"Accueil!$E16","v":"P3"},{"$f":"$C$207*1.5","v":0},"heures de présence pour cet atelier et pour cette période"]
[{"$f":"Accueil!$E18","v":"P4"},{"$f":"$C$265*1.5","v":0},"heures de présence pour cet atelier et pour cette période"]
[{"$f":"Accueil!$E20","v":"P5"},{"$f":"$C$323*1.5","v":0},"heures de présence pour cet atelier et pour cette période"]
["TOT",{"$f":"SUM($B$328:$B$332)","v":0},"heures de présence pour cet atelier et pour l'année"]

{"sheet":"11","index":26,"n_rows":333,"n_cols":11,"rows_kept":333,"cut":false,"hidden":false,"merged":[[332,2,332,6],[323,0,324,10],[327,2,327,6],[328,2,328,6],[329,2,329,6],[330,2,330,6],[331,2,331,6],[265,0,266,10],[269,0,269,3],[269,4,269,5],[321,0,321,1],[322,0,322,1],[322,2,322,9],[207,0,208,10],[211,0,211,3],[211,4,211,5],[263,0,263,1],[264,0,264,1],[264,2,264,9],[149,0,150,10],[153,0,153,3],[153,4,153,5],[205,0,205,1],[206,0,206,1],[206,2,206,9],[91,0,92,10],[95,0,95,3],[95,4,95,5],[147,0,147,1],[148,0,148,1],[148,2,148,9],[90,0,90,1],[90,2,90,9],[8,1,15,9],[33,0,34,10],[37,0,37,3],[37,4,37,5],[89,0,89,1],[17,0,18,10],[19,0,22,10],[16,2,16,9]]}
[]
[]
[]
[]
[]
[]
[]
[]
[null,{"$f":"Accueil!B30","v":11}]
[]
[]
[]
[]
[]
[]
[]
[null,{"$f":"Machin!B17","v":"Avec :"},{"$f":"Accueil!C30","v":0}]
[{"$f":"Machin!$A$28","v":"ATTENTION !"}]
[]
[{"$f":"Machin!$A$30","v":"Vous ne devez pas ajouter ou supprimer les enfants depuis cette feuille ! \nPour ajouter des enfants dans cet atelier -> Aller dans la feuille de la classe des enfants et suivre les instructions.\nPour supprimer des enfants de cet atelier -> Aller dans la feuille de la classe des enfants et suivre les instructions."}]
[]
[]
[]
[]
[]
[]
[]
[]
[]
[]
[]
[]
[]
[{"$f":"B9","v":11}]
[]
[]
["Période :",{"$f":"Accueil!$E$12","v":"P1"},{"$f":"Accueil!$F$12","v":"du"},{"$f":"Accueil!$G$12","v":"2014-09-02"},{"$f":"Accueil!$H$12","v":"au"},{"$f":"Accueil!$I$12","v":"2014-10-17"}]
["Selectionnez la classe participant à l'atelier :"]
["NOM","Prénom",{"$f":"Accueil!B39","v":"2015-09-05"},{"$f":"Accueil!C39","v":"2015-09-06"},{"$f":"Accueil!D39","v":"2015-09-07"},{"$f":"Accueil!E39","v":"2015-09-08"},{"$f":"Accueil!F39","v":"2015-09-09"},{"$f":"Accueil!G39","v":"2015-09-10"},{"$f":"Accueil!H39","v":"2015-09-11"},{"$f":"Accueil!I39","v":"2015-09-11"},"TOT"]
[null,null,null,null,null,null,null,null,null,null,{"$f":"SUM(C40:J40)","v":0}]
[null,null,null,null,null,null,null,null,null,null,{"$f":"SUM(C41:J41)","v":0}]
[null,null,null,null,null,null,null,null,null,null,0]
[null,null,null,null,null,null,null,null,null,null,0]
[null,null,null,null,null,null,null,null,null,null,0]
[null,null,null,null,null,null,null,null,null,null,0]
[null,null,null,null,null,null,null,null,null,null,0]
[null,null,null,null,null,null,null,null,null,null,0]
[null,null,null,null,null,null,null,null,null,null,0]
[null,null,null,null,null,null,null,null,null,null,0]
[null,null,null,null,null,null,null,null,null,null,0]
[null,null,null,null,null,null,null,null,null,null,0]
[null,null,null,null,null,null,null,null,null,null,0]
[null,null,null,null,null,null,null,null,null,null,0]
[null,null,null,null,null,null,null,null,null,null,0]
[null,null,null,null,null,null,null,null,null,null,0]
[null,null,null,null,null,null,null,null,null,null,0]
[null,null,null,null,null,null,null,null,null,null,0]
[null,null,null,null,null,null,null,null,null,null,0]
[null,null,null,null,null,null,null,null,null,null,0]
[null,null,null,null,null,null,null,null,null,null,0]
[null,null,null,null,null,null,null,null,null,null,0]
[null,null,null,null,null,null,null,null,null,null,0]
[null,null,null,null,null,null,null,null,null,null,0]
[null,null,null,null,null,null,null,null,null,null,0]
[null,null,null,null,null,null,null,null,null,null,{"$f":"SUM(C65:J65)","v":0}]
[null,null,null,null,null,null,null,null,null,null,{"$f":"SUM(C66:J66)","v":0}]
[null,null,null,null,null,null,null,null,null,null,0]
[null,null,null,null,null,null,null,null,null,null,0]
[null,null,null,null,null,null,null,null,null,null,0]
[null,null,null,null,null,null,null,null,null,null,0]
[null,null,null,null,null,null,null,null,null,null,0]
[null,null,null,null,null,null,null,null,null,null,0]
[null,null,null,null,null,null,null,null,null,null,0]
[null,null,null,null,null,null,null,null,null,null,0]
[null,null,null,null,null,null,null,null,null,null,0]
[null,null,null,null,null,null,null,null,null,null,0]
[null,null,null,null,null,null,null,null,null,null,0]
[null,null,null,null,null,null,null,null,null,null,0]
[null,null,null,null,null,null,null,null,null,null,0]
[null,null,null,null,null,null,null,null,null,null,0]
[null,null,null,null,null,null,null,null,null,null,0]
[null,null,null,null,null,null,null,null,null,null,0]
[null,null,null,null,null,null,null,null,null,null,0]
[null,null,null,null,null,null,null,null,null,null,0]
[null,null,null,null,null,null,null,null,null,null,0]
[null,null,null,null,null,null,null,null,null,null,0]
[null,null,null,null,null,null,null,null,null,null,0]
[null,null,null,null,null,null,null,null,null,null,0]
[null,null,null,null,null,null,null,null,null,null,0]
["TOT Jour",null,{"$f":"SUM(C40:C89)","v":0},{"$f":"SUM(D40:D89)","v":0},0,0,0,0,0,0]
["TOT Période",null,{"$f":"SUM(C90:J90)","v":0}]
[{"$f":"B9","v":11}]
[]
[]
["Période :",{"$f":"Accueil!$E14","v":"P2"},{"$f":"Accueil!$F14","v":"du"},{"$f":"Accueil!$G14","v":"2014-11-02"},{"$f":"Accueil!$H14","v":"au"},{"$f":"Accueil!$I14","v":"2014-12-18"}]
["Selectionnez la classe participant à l'atelier :"]
["NOM","Prénom",{"$f":"Accueil!B41","v":"2014-11-03"},{"$f":"Accueil!C41","v":"2014-11-04"},{"$f":"Accueil!D41","v":"2014-11-05"},{"$f":"Accueil!E41","v":"2014-11-06"},{"$f":"Accueil!F41","v":"2014-11-07"},{"$f":"Accueil!G41","v":"2014-11-08"},{"$f":"Accueil!H41","v":"2014-11-09"},{"$f":"Accueil!I41","v":"2014-11-09"},"TOT"]
[null,null,null,null,null,null,null,null,null,null,{"$f":"SUM(C98:J98)","v":0}]
[null,null,null,null,null,null,null,null,null,null,{"$f":"SUM(C99:J99)","v":0}]
[null,null,null,null,null,null,null,null,null,null,0]
[null,null,null,null,null,null,null,null,null,null,0]
[null,null,null,null,null,null,null,null,null,null,0]
[null,null,null,null,null,null,null,null,null,null,0]
[null,null,null,null,null,null,null,null,null,null,0]
[null,null,null,null,null,null,null,null,null,null,0]
[null,null,null,null,null,null,null,null,null,null,0]
[null,null,null,null,null,null,null,null,null,null,0]
[null,null,null,null,null,null,null,null,null,null,0]
[null,null,null,null,null,null,null,null,null,null,0]
[null,null,null,null,null,null,null,null,null,null,0]
[null,null,null,null,null,null,null,null,null,null,0]
[null,null,null,null,null,null,null,null,null,null,0]
[null,null,null,null,null,null,null,null,null,null,0]
[null,null,null,null,null,null,null,null,null,null,0]
[null,null,null,null,null,null,null,null,null,null,0]
[null,null,null,null,null,null,null,null,null,null,0]
[null,null,null,null,null,null,null,null,null,null,0]
[null,null,null,null,null,null,null,null,null,null,0]
[null,null,null,null,null,null,null,null,null,null,0]
[null,null,null,null,null,null,null,null,null,null,0]
[null,null,null,null,null,null,null,null,null,null,0]
[null,null,null,null,null,null,null,null,null,null,0]
[null,null,null,null,null,null,null,null,null,null,{"$f":"SUM(C123:J123)","v":0}]
[null,null,null,null,null,null,null,null,null,null,{"$f":"SUM(C124:J124)","v":0}]
[null,null,null,null,null,null,null,null,null,null,0]
[null,null,null,null,null,null,null,null,null,null,0]
[null,null,null,null,null,null,null,null,null,null,0]
[null,null,null,null,null,null,null,null,null,null,0]
[null,null,null,null,null,null,null,null,null,null,0]
[null,null,null,null,null,null,null,null,null,null,0]
[null,null,null,null,null,null,null,null,null,null,0]
[null,null,null,null,null,null,null,null,null,null,0]
[null,null,null,null,null,null,null,null,null,null,0]
[null,null,null,null,null,null,null,null,null,null,0]
[null,null,null,null,null,null,null,null,null,null,0]
[null,null,null,null,null,null,null,null,null,null,0]
[null,null,null,null,null,null,null,null,null,null,0]
[null,null,null,null,null,null,null,null,null,null,0]
[null,null,null,null,null,null,null,null,null,null,0]
[null,null,null,null,null,null,null,null,null,null,0]
[null,null,null,null,null,null,null,null,null,null,0]
[null,null,null,null,null,null,null,null,null,null,0]
[null,null,null,null,null,null,null,null,null,null,0]
[null,null,null,null,null,null,null,null,null,null,0]
[null,null,null,null,null,null,null,null,null,null,0]
[null,null,null,null,null,null,null,null,null,null,0]
[null,null,null,null,null,null,null,null,null,null,0]
["TOT Jour",null,{"$f":"SUM(C98:C147)","v":0},{"$f":"SUM(D98:D147)","v":0},0,0,0,0,0,0]
["TOT Période",null,{"$f":"SUM(C148:J148)","v":0}]
[{"$f":"B9","v":11}]
[]
[]
["Période :",{"$f":"Accueil!E16","v":"P3"},{"$f":"Accueil!$F16","v":"du"},{"$f":"Accueil!$G16","v":"2015-01-04"},{"$f":"Accueil!$H16","v":"au"},{"$f":"Accueil!$I16","v":"2015-02-20"}]
["Selectionnez la classe participant à l'atelier :"]
["NOM","Prénom",{"$f":"Accueil!B43","v":"2015-01-05"},{"$f":"Accueil!C43","v":"2015-01-06"},{"$f":"Accueil!D43","v":"2015-01-07"},{"$f":"Accueil!E43","v":"2015-01-08"},{"$f":"Accueil!F43","v":"2015-01-09"},{"$f":"Accueil!G43","v":"2015-01-10"},{"$f":"Accueil!H43","v":"2015-01-11"},{"$f":"Accueil!I43","v":"2015-01-11"},"TOT"]
[null,null,null,null,null,null,null,null,null,null,{"$f":"SUM(C156:J156)","v":0}]
[null,null,null,null,null,null,null,null,null,null,{"$f":"SUM(C157:J157)","v":0}]
[null,null,null,null,null,null,null,null,null,null,0]
[null,null,null,null,null,null,null,null,null,null,0]
[null,null,null,null,null,null,null,null,null,null,0]
[null,null,null,null,null,null,null,null,null,null,0]
[null,null,null,null,null,null,null,null,null,null,0]
[null,null,null,null,null,null,null,null,null,null,0]
[null,null,null,null,null,null,null,null,null,null,0]
[null,null,null,null,null,null,null,null,null,null,0]
[null,null,null,null,null,null,null,null,null,null,0]
[null,null,null,null,null,null,null,null,null,null,0]
[null,null,null,null,null,null,null,null,null,null,0]
[null,null,null,null,null,null,null,null,null,null,0]
[null,null,null,null,null,null,null,null,null,null,0]
[null,null,null,null,null,null,null,null,null,null,0]
[null,null,null,null,null,null,null,null,null,null,0]
[null,null,null,null,null,null,null,null,null,null,0]
[null,null,null,null,null,null,null,null,null,null,0]
[null,null,null,null,null,null,null,null,null,null,0]
[null,null,null,null,null,null,null,null,null,null,0]
[null,null,null,null,null,null,null,null,null,null,0]
[null,null,null,null,null,null,null,null,null,null,0]
[null,null,null,null,null,null,null,null,null,null,0]
[null,null,null,null,null,null,null,null,null,null,0]
[null,null,null,null,null,null,null,null,null,null,{"$f":"SUM(C181:J181)","v":0}]
[null,null,null,null,null,null,null,null,null,null,{"$f":"SUM(C182:J182)","v":0}]
[null,null,null,null,null,null,null,null,null,null,0]
[null,null,null,null,null,null,null,null,null,null,0]
[null,null,null,null,null,null,null,null,null,null,0]
[null,null,null,null,null,null,null,null,null,null,0]
[null,null,null,null,null,null,null,null,null,null,0]
[null,null,null,null,null,null,null,null,null,null,0]
[null,null,null,null,null,null,null,null,null,null,0]
[null,null,null,null,null,null,null,null,null,null,0]
[null,null,null,null,null,null,null,null,null,null,0]
[null,null,null,null,null,null,null,null,null,null,0]
[null,null,null,null,null,null,null,null,null,null,0]
[null,null,null,null,null,null,null,null,null,null,0]
[null,null,null,null,null,null,null,null,null,null,0]
[null,null,null,null,null,null,null,null,null,null,0]
[null,null,null,null,null,null,null,null,null,null,0]
[null,null,null,null,null,null,null,null,null,null,0]
[null,null,null,null,null,null,null,null,null,null,0]
[null,null,null,null,null,null,null,null,null,null,0]
[null,null,null,null,null,null,null,null,null,null,0]
[null,null,null,null,null,null,null,null,null,null,0]
[null,null,null,null,null,null,null,null,null,null,0]
[null,null,null,null,null,null,null,null,null,null,0]
[null,null,null,null,null,null,null,null,null,null,0]
["TOT Jour",null,{"$f":"SUM(C156:C205)","v":0},{"$f":"SUM(D156:D205)","v":0},0,0,0,0,0,0]
["TOT Période",null,{"$f":"SUM(C206:J206)","v":0}]
[{"$f":"B9","v":11}]
[]
[]
["Période :",{"$f":"Accueil!E18","v":"P4"},{"$f":"Accueil!$F18","v":"du"},{"$f":"Accueil!$G18","v":"2015-03-08"},{"$f":"Accueil!$H18","v":"au"},{"$f":"Accueil!$I18","v":"2015-04-15"}]
["Selectionnez la classe participant à l'atelier :"]
["NOM","Prénom",{"$f":"Accueil!B45","v":"2015-03-09"},{"$f":"Accueil!C45","v":"2015-03-10"},{"$f":"Accueil!D45","v":"2015-03-11"},{"$f":"Accueil!E45","v":"2015-03-12"},{"$f":"Accueil!F45","v":"2015-03-13"},{"$f":"Accueil!G45","v":"2015-03-14"},{"$f":"Accueil!H45","v":"2015-03-15"},{"$f":"Accueil!I45","v":"2015-03-15"},"TOT"]
[null,null,null,null,null,null,null,null,null,null,{"$f":"SUM(C214:J214)","v":0}]
[null,null,null,null,null,null,null,null,null,null,{"$f":"SUM(C215:J215)","v":0}]
[null,null,null,null,null,null,null,null,null,null,0]
[null,null,null,null,null,null,null,null,null,null,0]
[null,null,null,null,null,null,null,null,null,null,0]
[null,null,null,null,null,null,null,null,null,null,0]
[null,null,null,null,null,null,null,null,null,null,0]
[null,null,null,null,null,null,null,null,null,null,0]
[null,null,null,null,null,null,null,null,null,null,0]
[null,null,null,null,null,null,null,null,null,null,0]
[null,null,null,null,null,null,null,null,null,null,0]
[null,null,null,null,null,null,null,null,null,null,0]
[null,null,null,null,null,null,null,null,null,null,0]
[null,null,null,null,null,null,null,null,null,null,0]
[null,null,null,null,null,null,null,null,null,null,0]
[null,null,null,null,null,null,null,null,null,null,0]
[null,null,null,null,null,null,null,null,null,null,0]
[null,null,null,null,null,null,null,null,null,null,0]
[null,null,null,null,null,null,null,null,null,null,0]
[null,null,null,null,null,null,null,null,null,null,0]
[null,null,null,null,null,null,null,null,null,null,0]
[null,null,null,null,null,null,null,null,null,null,0]
[null,null,null,null,null,null,null,null,null,null,0]
[null,null,null,null,null,null,null,null,null,null,0]
[null,null,null,null,null,null,null,null,null,null,0]
[null,null,null,null,null,null,null,null,null,null,{"$f":"SUM(C239:J239)","v":0}]
[null,null,null,null,null,null,null,null,null,null,{"$f":"SUM(C240:J240)","v":0}]
[null,null,null,null,null,null,null,null,null,null,0]
[null,null,null,null,null,null,null,null,null,null,0]
[null,null,null,null,null,null,null,null,null,null,0]
[null,null,null,null,null,null,null,null,null,null,0]
[null,null,null,null,null,null,null,null,null,null,0]
[null,null,null,null,null,null,null,null,null,null,0]
[null,null,null,null,null,null,null,null,null,null,0]
[null,null,null,null,null,null,null,null,null,null,0]
[null,null,null,null,null,null,null,null,null,null,0]
[null,null,null,null,null,null,null,null,null,null,0]
[null,null,null,null,null,null,null,null,null,null,0]
[null,null,null,null,null,null,null,null,null,null,0]
[null,null,null,null,null,null,null,null,null,null,0]
[null,null,null,null,null,null,null,null,null,null,0]
[null,null,null,null,null,null,null,null,null,null,0]
[null,null,null,null,null,null,null,null,null,null,0]
[null,null,null,null,null,null,null,null,null,null,0]
[null,null,null,null,null,null,null,null,null,null,0]
[null,null,null,null,null,null,null,null,null,null,0]
[null,null,null,null,null,null,null,null,null,null,0]
[null,null,null,null,null,null,null,null,null,null,0]
[null,null,null,null,null,null,null,null,null,null,0]
[null,null,null,null,null,null,null,null,null,null,0]
["TOT Jour",null,{"$f":"SUM(C214:C263)","v":0},{"$f":"SUM(D214:D263)","v":0},0,0,0,0,0,0]
["TOT Période",null,{"$f":"SUM(C264:J264)","v":0}]
[{"$f":"B9","v":11}]
[]
[]
["Période :",{"$f":"Accueil!E20","v":"P5"},{"$f":"Accueil!$F20","v":"du"},{"$f":"Accueil!$G20","v":"2015-05-03"},{"$f":"Accueil!$H20","v":"au"},{"$f":"Accueil!$I20","v":"2015-07-03"}]
["Selectionnez la classe participant à l'atelier :"]
["NOM","Prénom",{"$f":"Accueil!B47","v":"2015-05-04"},{"$f":"Accueil!C47","v":"2015-05-05"},{"$f":"Accueil!D47","v":"2015-05-06"},{"$f":"Accueil!E47","v":"2015-05-07"},{"$f":"Accueil!F47","v":"2015-05-08"},{"$f":"Accueil!G47","v":"2015-05-09"},{"$f":"Accueil!H47","v":"2015-05-10"},{"$f":"Accueil!I47","v":"2015-05-10"},"TOT"]
[null,null,null,null,null,null,null,null,null,null,{"$f":"SUM(C272:J272)","v":0}]
[null,null,null,null,null,null,null,null,null,null,{"$f":"SUM(C273:J273)","v":0}]
[null,null,null,null,null,null,null,null,null,null,0]
[null,null,null,null,null,null,null,null,null,null,0]
[null,null,null,null,null,null,null,null,null,null,0]
[null,null,null,null,null,null,null,null,null,null,0]
[null,null,null,null,null,null,null,null,null,null,0]
[null,null,null,null,null,null,null,null,null,null,0]
[null,null,null,null,null,null,null,null,null,null,0]
[null,null,null,null,null,null,null,null,null,null,0]
[null,null,null,null,null,null,null,null,null,null,0]
[null,null,null,null,null,null,null,null,null,null,0]
[null,null,null,null,null,null,null,null,null,null,0]
[null,null,null,null,null,null,null,null,null,null,0]
[null,null,null,null,null,null,null,null,null,null,0]
[null,null,null,null,null,null,null,null,null,null,0]
[null,null,null,null,null,null,null,null,null,null,0]
[null,null,null,null,null,null,null,null,null,null,0]
[null,null,null,null,null,null,null,null,null,null,0]
[null,null,null,null,null,null,null,null,null,null,0]
[null,null,null,null,null,null,null,null,null,null,0]
[null,null,null,null,null,null,null,null,null,null,0]
[null,null,null,null,null,null,null,null,null,null,0]
[null,null,null,null,null,null,null,null,null,null,0]
[null,null,null,null,null,null,null,null,null,null,0]
[null,null,null,null,null,null,null,null,null,null,{"$f":"SUM(C297:J297)","v":0}]
[null,null,null,null,null,null,null,null,null,null,{"$f":"SUM(C298:J298)","v":0}]
[null,null,null,null,null,null,null,null,null,null,0]
[null,null,null,null,null,null,null,null,null,null,0]
[null,null,null,null,null,null,null,null,null,null,0]
[null,null,null,null,null,null,null,null,null,null,0]
[null,null,null,null,null,null,null,null,null,null,0]
[null,null,null,null,null,null,null,null,null,null,0]
[null,null,null,null,null,null,null,null,null,null,0]
[null,null,null,null,null,null,null,null,null,null,0]
[null,null,null,null,null,null,null,null,null,null,0]
[null,null,null,null,null,null,null,null,null,null,0]
[null,null,null,null,null,null,null,null,null,null,0]
[null,null,null,null,null,null,null,null,null,null,0]
[null,null,null,null,null,null,null,null,null,null,0]
[null,null,null,null,null,null,null,null,null,null,0]
[null,null,null,null,null,null,null,null,null,null,0]
[null,null,null,null,null,null,null,null,null,null,0]
[null,null,null,null,null,null,null,null,null,null,0]
[null,null,null,null,null,null,null,null,null,null,0]
[null,null,null,null,null,null,null,null,null,null,0]
[null,null,null,null,null,null,null,null,null,null,0]
[null,null,null,null,null,null,null,null,null,null,0]
[null,null,null,null,null,null,null,null,null,null,0]
[null,null,null,null,null,null,null,null,null,null,0]
["TOT Jour",null,{"$f":"SUM(C272:C321)","v":0},{"$f":"SUM(D272:D321)","v":0},0,0,0,0,0,0]
["TOT Période",null,{"$f":"SUM(C322:J322)","v":0}]
["Statistiques"]
[]
[]
["Nombre d'heure de fréquentation :"]
[{"$f":"Accueil!$E12","v":"P1"},{"$f":"$C$91*1.5","v":0},"heures de présence pour cet atelier et pour cette période"]
[{"$f":"Accueil!$E14","v":"P2"},{"$f":"$C$149*1.5","v":0},"heures de présence pour cet atelier et pour cette période"]
[{"$f":"Accueil!$E16","v":"P3"},{"$f":"$C$207*1.5","v":0},"heures de présence pour cet atelier et pour cette période"]
[{"$f":"Accueil!$E18","v":"P4"},{"$f":"$C$265*1.5","v":0},"heures de présence pour cet atelier et pour cette période"]
[{"$f":"Accueil!$E20","v":"P5"},{"$f":"$C$323*1.5","v":0},"heures de présence pour cet atelier et pour cette période"]
["TOT",{"$f":"SUM($B$328:$B$332)","v":0},"heures de présence pour cet atelier et pour l'année"]

{"sheet":"12","index":27,"n_rows":333,"n_cols":11,"rows_kept":333,"cut":false,"hidden":false,"merged":[[332,2,332,6],[323,0,324,10],[327,2,327,6],[328,2,328,6],[329,2,329,6],[330,2,330,6],[331,2,331,6],[265,0,266,10],[269,0,269,3],[269,4,269,5],[321,0,321,1],[322,0,322,1],[322,2,322,9],[207,0,208,10],[211,0,211,3],[211,4,211,5],[263,0,263,1],[264,0,264,1],[264,2,264,9],[149,0,150,10],[153,0,153,3],[153,4,153,5],[205,0,205,1],[206,0,206,1],[206,2,206,9],[91,0,92,10],[95,0,95,3],[95,4,95,5],[147,0,147,1],[148,0,148,1],[148,2,148,9],[90,0,90,1],[90,2,90,9],[8,1,15,9],[33,0,34,10],[37,0,37,3],[37,4,37,5],[89,0,89,1],[17,0,18,10],[19,0,22,10],[16,2,16,9]]}
[]
[]
[]
[]
[]
[]
[]
[]
[null,{"$f":"Accueil!B31","v":12}]
[]
[]
[]
[]
[]
[]
[]
[null,{"$f":"Machin!B17","v":"Avec :"},{"$f":"Accueil!C31","v":0}]
[{"$f":"Machin!$A$28","v":"ATTENTION !"}]
[]
[{"$f":"Machin!$A$30","v":"Vous ne devez pas ajouter ou supprimer les enfants depuis cette feuille ! \nPour ajouter des enfants dans cet atelier -> Aller dans la feuille de la classe des enfants et suivre les instructions.\nPour supprimer des enfants de cet atelier -> Aller dans la feuille de la classe des enfants et suivre les instructions."}]
[]
[]
[]
[]
[]
[]
[]
[]
[]
[]
[]
[]
[]
[{"$f":"B9","v":12}]
[]
[]
["Période :",{"$f":"Accueil!$E$12","v":"P1"},{"$f":"Accueil!$F$12","v":"du"},{"$f":"Accueil!$G$12","v":"2014-09-02"},{"$f":"Accueil!$H$12","v":"au"},{"$f":"Accueil!$I$12","v":"2014-10-17"}]
["Selectionnez la classe participant à l'atelier :"]
["NOM","Prénom",{"$f":"Accueil!B39","v":"2015-09-05"},{"$f":"Accueil!C39","v":"2015-09-06"},{"$f":"Accueil!D39","v":"2015-09-07"},{"$f":"Accueil!E39","v":"2015-09-08"},{"$f":"Accueil!F39","v":"2015-09-09"},{"$f":"Accueil!G39","v":"2015-09-10"},{"$f":"Accueil!H39","v":"2015-09-11"},{"$f":"Accueil!I39","v":"2015-09-11"},"TOT"]
[null,null,null,null,null,null,null,null,null,null,{"$f":"SUM(C40:J40)","v":0}]
[null,null,null,null,null,null,null,null,null,null,{"$f":"SUM(C41:J41)","v":0}]
[null,null,null,null,null,null,null,null,null,null,0]
[null,null,null,null,null,null,null,null,null,null,0]
[null,null,null,null,null,null,null,null,null,null,0]
[null,null,null,null,null,null,null,null,null,null,0]
[null,null,null,null,null,null,null,null,null,null,0]
[null,null,null,null,null,null,null,null,null,null,0]
[null,null,null,null,null,null,null,null,null,null,0]
[null,null,null,null,null,null,null,null,null,null,0]
[null,null,null,null,null,null,null,null,null,null,0]
[null,null,null,null,null,null,null,null,null,null,0]
[null,null,null,null,null,null,null,null,null,null,0]
[null,null,null,null,null,null,null,null,null,null,0]
[null,null,null,null,null,null,null,null,null,null,0]
[null,null,null,null,null,null,null,null,null,null,0]
[null,null,null,null,null,null,null,null,null,null,0]
[null,null,null,null,null,null,null,null,null,null,0]
[null,null,null,null,null,null,null,null,null,null,0]
[null,null,null,null,null,null,null,null,null,null,0]
[null,null,null,null,null,null,null,null,null,null,0]
[null,null,null,null,null,null,null,null,null,null,0]
[null,null,null,null,null,null,null,null,null,null,0]
[null,null,null,null,null,null,null,null,null,null,0]
[null,null,null,null,null,null,null,null,null,null,0]
[null,null,null,null,null,null,null,null,null,null,{"$f":"SUM(C65:J65)","v":0}]
[null,null,null,null,null,null,null,null,null,null,{"$f":"SUM(C66:J66)","v":0}]
[null,null,null,null,null,null,null,null,null,null,0]
[null,null,null,null,null,null,null,null,null,null,0]
[null,null,null,null,null,null,null,null,null,null,0]
[null,null,null,null,null,null,null,null,null,null,0]
[null,null,null,null,null,null,null,null,null,null,0]
[null,null,null,null,null,null,null,null,null,null,0]
[null,null,null,null,null,null,null,null,null,null,0]
[null,null,null,null,null,null,null,null,null,null,0]
[null,null,null,null,null,null,null,null,null,null,0]
[null,null,null,null,null,null,null,null,null,null,0]
[null,null,null,null,null,null,null,null,null,null,0]
[null,null,null,null,null,null,null,null,null,null,0]
[null,null,null,null,null,null,null,null,null,null,0]
[null,null,null,null,null,null,null,null,null,null,0]
[null,null,null,null,null,null,null,null,null,null,0]
[null,null,null,null,null,null,null,null,null,null,0]
[null,null,null,null,null,null,null,null,null,null,0]
[null,null,null,null,null,null,null,null,null,null,0]
[null,null,null,null,null,null,null,null,null,null,0]
[null,null,null,null,null,null,null,null,null,null,0]
[null,null,null,null,null,null,null,null,null,null,0]
[null,null,null,null,null,null,null,null,null,null,0]
[null,null,null,null,null,null,null,null,null,null,0]
["TOT Jour",null,{"$f":"SUM(C40:C89)","v":0},{"$f":"SUM(D40:D89)","v":0},0,0,0,0,0,0]
["TOT Période",null,{"$f":"SUM(C90:J90)","v":0}]
[{"$f":"B9","v":12}]
[]
[]
["Période :",{"$f":"Accueil!$E14","v":"P2"},{"$f":"Accueil!$F14","v":"du"},{"$f":"Accueil!$G14","v":"2014-11-02"},{"$f":"Accueil!$H14","v":"au"},{"$f":"Accueil!$I14","v":"2014-12-18"}]
["Selectionnez la classe participant à l'atelier :"]
["NOM","Prénom",{"$f":"Accueil!B41","v":"2014-11-03"},{"$f":"Accueil!C41","v":"2014-11-04"},{"$f":"Accueil!D41","v":"2014-11-05"},{"$f":"Accueil!E41","v":"2014-11-06"},{"$f":"Accueil!F41","v":"2014-11-07"},{"$f":"Accueil!G41","v":"2014-11-08"},{"$f":"Accueil!H41","v":"2014-11-09"},{"$f":"Accueil!I41","v":"2014-11-09"},"TOT"]
[null,null,null,null,null,null,null,null,null,null,{"$f":"SUM(C98:J98)","v":0}]
[null,null,null,null,null,null,null,null,null,null,{"$f":"SUM(C99:J99)","v":0}]
[null,null,null,null,null,null,null,null,null,null,0]
[null,null,null,null,null,null,null,null,null,null,0]
[null,null,null,null,null,null,null,null,null,null,0]
[null,null,null,null,null,null,null,null,null,null,0]
[null,null,null,null,null,null,null,null,null,null,0]
[null,null,null,null,null,null,null,null,null,null,0]
[null,null,null,null,null,null,null,null,null,null,0]
[null,null,null,null,null,null,null,null,null,null,0]
[null,null,null,null,null,null,null,null,null,null,0]
[null,null,null,null,null,null,null,null,null,null,0]
[null,null,null,null,null,null,null,null,null,null,0]
[null,null,null,null,null,null,null,null,null,null,0]
[null,null,null,null,null,null,null,null,null,null,0]
[null,null,null,null,null,null,null,null,null,null,0]
[null,null,null,null,null,null,null,null,null,null,0]
[null,null,null,null,null,null,null,null,null,null,0]
[null,null,null,null,null,null,null,null,null,null,0]
[null,null,null,null,null,null,null,null,null,null,0]
[null,null,null,null,null,null,null,null,null,null,0]
[null,null,null,null,null,null,null,null,null,null,0]
[null,null,null,null,null,null,null,null,null,null,0]
[null,null,null,null,null,null,null,null,null,null,0]
[null,null,null,null,null,null,null,null,null,null,0]
[null,null,null,null,null,null,null,null,null,null,{"$f":"SUM(C123:J123)","v":0}]
[null,null,null,null,null,null,null,null,null,null,{"$f":"SUM(C124:J124)","v":0}]
[null,null,null,null,null,null,null,null,null,null,0]
[null,null,null,null,null,null,null,null,null,null,0]
[null,null,null,null,null,null,null,null,null,null,0]
[null,null,null,null,null,null,null,null,null,null,0]
[null,null,null,null,null,null,null,null,null,null,0]
[null,null,null,null,null,null,null,null,null,null,0]
[null,null,null,null,null,null,null,null,null,null,0]
[null,null,null,null,null,null,null,null,null,null,0]
[null,null,null,null,null,null,null,null,null,null,0]
[null,null,null,null,null,null,null,null,null,null,0]
[null,null,null,null,null,null,null,null,null,null,0]
[null,null,null,null,null,null,null,null,null,null,0]
[null,null,null,null,null,null,null,null,null,null,0]
[null,null,null,null,null,null,null,null,null,null,0]
[null,null,null,null,null,null,null,null,null,null,0]
[null,null,null,null,null,null,null,null,null,null,0]
[null,null,null,null,null,null,null,null,null,null,0]
[null,null,null,null,null,null,null,null,null,null,0]
[null,null,null,null,null,null,null,null,null,null,0]
[null,null,null,null,null,null,null,null,null,null,0]
[null,null,null,null,null,null,null,null,null,null,0]
[null,null,null,null,null,null,null,null,null,null,0]
[null,null,null,null,null,null,null,null,null,null,0]
["TOT Jour",null,{"$f":"SUM(C98:C147)","v":0},{"$f":"SUM(D98:D147)","v":0},0,0,0,0,0,0]
["TOT Période",null,{"$f":"SUM(C148:J148)","v":0}]
[{"$f":"B9","v":12}]
[]
[]
["Période :",{"$f":"Accueil!E16","v":"P3"},{"$f":"Accueil!$F16","v":"du"},{"$f":"Accueil!$G16","v":"2015-01-04"},{"$f":"Accueil!$H16","v":"au"},{"$f":"Accueil!$I16","v":"2015-02-20"}]
["Selectionnez la classe participant à l'atelier :"]
["NOM","Prénom",{"$f":"Accueil!B43","v":"2015-01-05"},{"$f":"Accueil!C43","v":"2015-01-06"},{"$f":"Accueil!D43","v":"2015-01-07"},{"$f":"Accueil!E43","v":"2015-01-08"},{"$f":"Accueil!F43","v":"2015-01-09"},{"$f":"Accueil!G43","v":"2015-01-10"},{"$f":"Accueil!H43","v":"2015-01-11"},{"$f":"Accueil!I43","v":"2015-01-11"},"TOT"]
[null,null,null,null,null,null,null,null,null,null,{"$f":"SUM(C156:J156)","v":0}]
[null,null,null,null,null,null,null,null,null,null,{"$f":"SUM(C157:J157)","v":0}]
[null,null,null,null,null,null,null,null,null,null,0]
[null,null,null,null,null,null,null,null,null,null,0]
[null,null,null,null,null,null,null,null,null,null,0]
[null,null,null,null,null,null,null,null,null,null,0]
[null,null,null,null,null,null,null,null,null,null,0]
[null,null,null,null,null,null,null,null,null,null,0]
[null,null,null,null,null,null,null,null,null,null,0]
[null,null,null,null,null,null,null,null,null,null,0]
[null,null,null,null,null,null,null,null,null,null,0]
[null,null,null,null,null,null,null,null,null,null,0]
[null,null,null,null,null,null,null,null,null,null,0]
[null,null,null,null,null,null,null,null,null,null,0]
[null,null,null,null,null,null,null,null,null,null,0]
[null,null,null,null,null,null,null,null,null,null,0]
[null,null,null,null,null,null,null,null,null,null,0]
[null,null,null,null,null,null,null,null,null,null,0]
[null,null,null,null,null,null,null,null,null,null,0]
[null,null,null,null,null,null,null,null,null,null,0]
[null,null,null,null,null,null,null,null,null,null,0]
[null,null,null,null,null,null,null,null,null,null,0]
[null,null,null,null,null,null,null,null,null,null,0]
[null,null,null,null,null,null,null,null,null,null,0]
[null,null,null,null,null,null,null,null,null,null,0]
[null,null,null,null,null,null,null,null,null,null,{"$f":"SUM(C181:J181)","v":0}]
[null,null,null,null,null,null,null,null,null,null,{"$f":"SUM(C182:J182)","v":0}]
[null,null,null,null,null,null,null,null,null,null,0]
[null,null,null,null,null,null,null,null,null,null,0]
[null,null,null,null,null,null,null,null,null,null,0]
[null,null,null,null,null,null,null,null,null,null,0]
[null,null,null,null,null,null,null,null,null,null,0]
[null,null,null,null,null,null,null,null,null,null,0]
[null,null,null,null,null,null,null,null,null,null,0]
[null,null,null,null,null,null,null,null,null,null,0]
[null,null,null,null,null,null,null,null,null,null,0]
[null,null,null,null,null,null,null,null,null,null,0]
[null,null,null,null,null,null,null,null,null,null,0]
[null,null,null,null,null,null,null,null,null,null,0]
[null,null,null,null,null,null,null,null,null,null,0]
[null,null,null,null,null,null,null,null,null,null,0]
[null,null,null,null,null,null,null,null,null,null,0]
[null,null,null,null,null,null,null,null,null,null,0]
[null,null,null,null,null,null,null,null,null,null,0]
[null,null,null,null,null,null,null,null,null,null,0]
[null,null,null,null,null,null,null,null,null,null,0]
[null,null,null,null,null,null,null,null,null,null,0]
[null,null,null,null,null,null,null,null,null,null,0]
[null,null,null,null,null,null,null,null,null,null,0]
[null,null,null,null,null,null,null,null,null,null,0]
["TOT Jour",null,{"$f":"SUM(C156:C205)","v":0},{"$f":"SUM(D156:D205)","v":0},0,0,0,0,0,0]
["TOT Période",null,{"$f":"SUM(C206:J206)","v":0}]
[{"$f":"B9","v":12}]
[]
[]
["Période :",{"$f":"Accueil!E18","v":"P4"},{"$f":"Accueil!$F18","v":"du"},{"$f":"Accueil!$G18","v":"2015-03-08"},{"$f":"Accueil!$H18","v":"au"},{"$f":"Accueil!$I18","v":"2015-04-15"}]
["Selectionnez la classe participant à l'atelier :"]
["NOM","Prénom",{"$f":"Accueil!B45","v":"2015-03-09"},{"$f":"Accueil!C45","v":"2015-03-10"},{"$f":"Accueil!D45","v":"2015-03-11"},{"$f":"Accueil!E45","v":"2015-03-12"},{"$f":"Accueil!F45","v":"2015-03-13"},{"$f":"Accueil!G45","v":"2015-03-14"},{"$f":"Accueil!H45","v":"2015-03-15"},{"$f":"Accueil!I45","v":"2015-03-15"},"TOT"]
[null,null,null,null,null,null,null,null,null,null,{"$f":"SUM(C214:J214)","v":0}]
[null,null,null,null,null,null,null,null,null,null,{"$f":"SUM(C215:J215)","v":0}]
[null,null,null,null,null,null,null,null,null,null,0]
[null,null,null,null,null,null,null,null,null,null,0]
[null,null,null,null,null,null,null,null,null,null,0]
[null,null,null,null,null,null,null,null,null,null,0]
[null,null,null,null,null,null,null,null,null,null,0]
[null,null,null,null,null,null,null,null,null,null,0]
[null,null,null,null,null,null,null,null,null,null,0]
[null,null,null,null,null,null,null,null,null,null,0]
[null,null,null,null,null,null,null,null,null,null,0]
[null,null,null,null,null,null,null,null,null,null,0]
[null,null,null,null,null,null,null,null,null,null,0]
[null,null,null,null,null,null,null,null,null,null,0]
[null,null,null,null,null,null,null,null,null,null,0]
[null,null,null,null,null,null,null,null,null,null,0]
[null,null,null,null,null,null,null,null,null,null,0]
[null,null,null,null,null,null,null,null,null,null,0]
[null,null,null,null,null,null,null,null,null,null,0]
[null,null,null,null,null,null,null,null,null,null,0]
[null,null,null,null,null,null,null,null,null,null,0]
[null,null,null,null,null,null,null,null,null,null,0]
[null,null,null,null,null,null,null,null,null,null,0]
[null,null,null,null,null,null,null,null,null,null,0]
[null,null,null,null,null,null,null,null,null,null,0]
[null,null,null,null,null,null,null,null,null,null,{"$f":"SUM(C239:J239)","v":0}]
[null,null,null,null,null,null,null,null,null,null,{"$f":"SUM(C240:J240)","v":0}]
[null,null,null,null,null,null,null,null,null,null,0]
[null,null,null,null,null,null,null,null,null,null,0]
[null,null,null,null,null,null,null,null,null,null,0]
[null,null,null,null,null,null,null,null,null,null,0]
[null,null,null,null,null,null,null,null,null,null,0]
[null,null,null,null,null,null,null,null,null,null,0]
[null,null,null,null,null,null,null,null,null,null,0]
[null,null,null,null,null,null,null,null,null,null,0]
[null,null,null,null,null,null,null,null,null,null,0]
[null,null,null,null,null,null,null,null,null,null,0]
[null,null,null,null,null,null,null,null,null,null,0]
[null,null,null,null,null,null,null,null,null,null,0]
[null,null,null,null,null,null,null,null,null,null,0]
[null,null,null,null,null,null,null,null,null,null,0]
[null,null,null,null,null,null,null,null,null,null,0]
[null,null,null,null,null,null,null,null,null,null,0]
[null,null,null,null,null,null,null,null,null,null,0]
[null,null,null,null,null,null,null,null,null,null,0]
[null,null,null,null,null,null,null,null,null,null,0]
[null,null,null,null,null,null,null,null,null,null,0]
[null,null,null,null,null,null,null,null,null,null,0]
[null,null,null,null,null,null,null,null,null,null,0]
[null,null,null,null,null,null,null,null,null,null,0]
["TOT Jour",null,{"$f":"SUM(C214:C263)","v":0},{"$f":"SUM(D214:D263)","v":0},0,0,0,0,0,0]
["TOT Période",null,{"$f":"SUM(C264:J264)","v":0}]
[{"$f":"B9","v":12}]
[]
[]
["Période :",{"$f":"Accueil!E20","v":"P5"},{"$f":"Accueil!$F20","v":"du"},{"$f":"Accueil!$G20","v":"2015-05-03"},{"$f":"Accueil!$H20","v":"au"},{"$f":"Accueil!$I20","v":"2015-07-03"}]
["Selectionnez la classe participant à l'atelier :"]
["NOM","Prénom",{"$f":"Accueil!B47","v":"2015-05-04"},{"$f":"Accueil!C47","v":"2015-05-05"},{"$f":"Accueil!D47","v":"2015-05-06"},{"$f":"Accueil!E47","v":"2015-05-07"},{"$f":"Accueil!F47","v":"2015-05-08"},{"$f":"Accueil!G47","v":"2015-05-09"},{"$f":"Accueil!H47","v":"2015-05-10"},{"$f":"Accueil!I47","v":"2015-05-10"},"TOT"]
[null,null,null,null,null,null,null,null,null,null,{"$f":"SUM(C272:J272)","v":0}]
[null,null,null,null,null,null,null,null,null,null,{"$f":"SUM(C273:J273)","v":0}]
[null,null,null,null,null,null,null,null,null,null,0]
[null,null,null,null,null,null,null,null,null,null,0]
[null,null,null,null,null,null,null,null,null,null,0]
[null,null,null,null,null,null,null,null,null,null,0]
[null,null,null,null,null,null,null,null,null,null,0]
[null,null,null,null,null,null,null,null,null,null,0]
[null,null,null,null,null,null,null,null,null,null,0]
[null,null,null,null,null,null,null,null,null,null,0]
[null,null,null,null,null,null,null,null,null,null,0]
[null,null,null,null,null,null,null,null,null,null,0]
[null,null,null,null,null,null,null,null,null,null,0]
[null,null,null,null,null,null,null,null,null,null,0]
[null,null,null,null,null,null,null,null,null,null,0]
[null,null,null,null,null,null,null,null,null,null,0]
[null,null,null,null,null,null,null,null,null,null,0]
[null,null,null,null,null,null,null,null,null,null,0]
[null,null,null,null,null,null,null,null,null,null,0]
[null,null,null,null,null,null,null,null,null,null,0]
[null,null,null,null,null,null,null,null,null,null,0]
[null,null,null,null,null,null,null,null,null,null,0]
[null,null,null,null,null,null,null,null,null,null,0]
[null,null,null,null,null,null,null,null,null,null,0]
[null,null,null,null,null,null,null,null,null,null,0]
[null,null,null,null,null,null,null,null,null,null,{"$f":"SUM(C297:J297)","v":0}]
[null,null,null,null,null,null,null,null,null,null,{"$f":"SUM(C298:J298)","v":0}]
[null,null,null,null,null,null,null,null,null,null,0]
[null,null,null,null,null,null,null,null,null,null,0]
[null,null,null,null,null,null,null,null,null,null,0]
[null,null,null,null,null,null,null,null,null,null,0]
[null,null,null,null,null,null,null,null,null,null,0]
[null,null,null,null,null,null,null,null,null,null,0]
[null,null,null,null,null,null,null,null,null,null,0]
[null,null,null,null,null,null,null,null,null,null,0]
[null,null,null,null,null,null,null,null,null,null,0]
[null,null,null,null,null,null,null,null,null,null,0]
[null,null,null,null,null,null,null,null,null,null,0]
[null,null,null,null,null,null,null,null,null,null,0]
[null,null,null,null,null,null,null,null,null,null,0]
[null,null,null,null,null,null,null,null,null,null,0]
[null,null,null,null,null,null,null,null,null,null,0]
[null,null,null,null,null,null,null,null,null,null,0]
[null,null,null,null,null,null,null,null,null,null,0]
[null,null,null,null,null,null,null,null,null,null,0]
[null,null,null,null,null,null,null,null,null,null,0]
[null,null,null,null,null,null,null,null,null,null,0]
[null,null,null,null,null,null,null,null,null,null,0]
[null,null,null,null,null,null,null,null,null,null,0]
[null,null,null,null,null,null,null,null,null,null,0]
["TOT Jour",null,{"$f":"SUM(C272:C321)","v":0},{"$f":"SUM(D272:D321)","v":0},0,0,0,0,0,0]
["TOT Période",null,{"$f":"SUM(C322:J322)","v":0}]
["Statistiques"]
[]
[]
["Nombre d'heure de fréquentation :"]
[{"$f":"Accueil!$E12","v":"P1"},{"$f":"$C$91*1.5","v":0},"heures de présence pour cet atelier et pour cette période"]
[{"$f":"Accueil!$E14","v":"P2"},{"$f":"$C$149*1.5","v":0},"heures de présence pour cet atelier et pour cette période"]
[{"$f":"Accueil!$E16","v":"P3"},{"$f":"$C$207*1.5","v":0},"heures de présence pour cet atelier et pour cette période"]
[{"$f":"Accueil!$E18","v":"P4"},{"$f":"$C$265*1.5","v":0},"heures de présence pour cet atelier et pour cette période"]
[{"$f":"Accueil!$E20","v":"P5"},{"$f":"$C$323*1.5","v":0},"heures de présence pour cet atelier et pour cette période"]
["TOT",{"$f":"SUM($B$328:$B$332)","v":0},"heures de présence pour cet atelier et pour l'année"]

{"sheet":"13","index":28,"n_rows":333,"n_cols":11,"rows_kept":333,"cut":false,"hidden":false,"merged":[[332,2,332,6],[323,0,324,10],[327,2,327,6],[328,2,328,6],[329,2,329,6],[330,2,330,6],[331,2,331,6],[265,0,266,10],[269,0,269,3],[269,4,269,5],[321,0,321,1],[322,0,322,1],[322,2,322,9],[207,0,208,10],[211,0,211,3],[211,4,211,5],[263,0,263,1],[264,0,264,1],[264,2,264,9],[149,0,150,10],[153,0,153,3],[153,4,153,5],[205,0,205,1],[206,0,206,1],[206,2,206,9],[91,0,92,10],[95,0,95,3],[95,4,95,5],[147,0,147,1],[148,0,148,1],[148,2,148,9],[90,0,90,1],[90,2,90,9],[8,1,15,9],[33,0,34,10],[37,0,37,3],[37,4,37,5],[89,0,89,1],[17,0,18,10],[19,0,22,10],[16,2,16,9]]}
[]
[]
[]
[]
[]
[]
[]
[]
[null,{"$f":"Accueil!B32","v":13}]
[]
[]
[]
[]
[]
[]
[]
[null,{"$f":"Machin!B17","v":"Avec :"},{"$f":"Accueil!C32","v":0}]
[{"$f":"Machin!$A$28","v":"ATTENTION !"}]
[]
[{"$f":"Machin!$A$30","v":"Vous ne devez pas ajouter ou supprimer les enfants depuis cette feuille ! \nPour ajouter des enfants dans cet atelier -> Aller dans la feuille de la classe des enfants et suivre les instructions.\nPour supprimer des enfants de cet atelier -> Aller dans la feuille de la classe des enfants et suivre les instructions."}]
[]
[]
[]
[]
[]
[]
[]
[]
[]
[]
[]
[]
[]
[{"$f":"B9","v":13}]
[]
[]
["Période :",{"$f":"Accueil!$E$12","v":"P1"},{"$f":"Accueil!$F$12","v":"du"},{"$f":"Accueil!$G$12","v":"2014-09-02"},{"$f":"Accueil!$H$12","v":"au"},{"$f":"Accueil!$I$12","v":"2014-10-17"}]
["Selectionnez la classe participant à l'atelier :"]
["NOM","Prénom",{"$f":"Accueil!B39","v":"2015-09-05"},{"$f":"Accueil!C39","v":"2015-09-06"},{"$f":"Accueil!D39","v":"2015-09-07"},{"$f":"Accueil!E39","v":"2015-09-08"},{"$f":"Accueil!F39","v":"2015-09-09"},{"$f":"Accueil!G39","v":"2015-09-10"},{"$f":"Accueil!H39","v":"2015-09-11"},{"$f":"Accueil!I39","v":"2015-09-11"},"TOT"]
[null,null,null,null,null,null,null,null,null,null,{"$f":"SUM(C40:J40)","v":0}]
[null,null,null,null,null,null,null,null,null,null,{"$f":"SUM(C41:J41)","v":0}]
[null,null,null,null,null,null,null,null,null,null,0]
[null,null,null,null,null,null,null,null,null,null,0]
[null,null,null,null,null,null,null,null,null,null,0]
[null,null,null,null,null,null,null,null,null,null,0]
[null,null,null,null,null,null,null,null,null,null,0]
[null,null,null,null,null,null,null,null,null,null,0]
[null,null,null,null,null,null,null,null,null,null,0]
[null,null,null,null,null,null,null,null,null,null,0]
[null,null,null,null,null,null,null,null,null,null,0]
[null,null,null,null,null,null,null,null,null,null,0]
[null,null,null,null,null,null,null,null,null,null,0]
[null,null,null,null,null,null,null,null,null,null,0]
[null,null,null,null,null,null,null,null,null,null,0]
[null,null,null,null,null,null,null,null,null,null,0]
[null,null,null,null,null,null,null,null,null,null,0]
[null,null,null,null,null,null,null,null,null,null,0]
[null,null,null,null,null,null,null,null,null,null,0]
[null,null,null,null,null,null,null,null,null,null,0]
[null,null,null,null,null,null,null,null,null,null,0]
[null,null,null,null,null,null,null,null,null,null,0]
[null,null,null,null,null,null,null,null,null,null,0]
[null,null,null,null,null,null,null,null,null,null,0]
[null,null,null,null,null,null,null,null,null,null,0]
[null,null,null,null,null,null,null,null,null,null,{"$f":"SUM(C65:J65)","v":0}]
[null,null,null,null,null,null,null,null,null,null,{"$f":"SUM(C66:J66)","v":0}]
[null,null,null,null,null,null,null,null,null,null,0]
[null,null,null,null,null,null,null,null,null,null,0]
[null,null,null,null,null,null,null,null,null,null,0]
[null,null,null,null,null,null,null,null,null,null,0]
[null,null,null,null,null,null,null,null,null,null,0]
[null,null,null,null,null,null,null,null,null,null,0]
[null,null,null,null,null,null,null,null,null,null,0]
[null,null,null,null,null,null,null,null,null,null,0]
[null,null,null,null,null,null,null,null,null,null,0]
[null,null,null,null,null,null,null,null,null,null,0]
[null,null,null,null,null,null,null,null,null,null,0]
[null,null,null,null,null,null,null,null,null,null,0]
[null,null,null,null,null,null,null,null,null,null,0]
[null,null,null,null,null,null,null,null,null,null,0]
[null,null,null,null,null,null,null,null,null,null,0]
[null,null,null,null,null,null,null,null,null,null,0]
[null,null,null,null,null,null,null,null,null,null,0]
[null,null,null,null,null,null,null,null,null,null,0]
[null,null,null,null,null,null,null,null,null,null,0]
[null,null,null,null,null,null,null,null,null,null,0]
[null,null,null,null,null,null,null,null,null,null,0]
[null,null,null,null,null,null,null,null,null,null,0]
[null,null,null,null,null,null,null,null,null,null,0]
["TOT Jour",null,{"$f":"SUM(C40:C89)","v":0},{"$f":"SUM(D40:D89)","v":0},0,0,0,0,0,0]
["TOT Période",null,{"$f":"SUM(C90:J90)","v":0}]
[{"$f":"B9","v":13}]
[]
[]
["Période :",{"$f":"Accueil!$E14","v":"P2"},{"$f":"Accueil!$F14","v":"du"},{"$f":"Accueil!$G14","v":"2014-11-02"},{"$f":"Accueil!$H14","v":"au"},{"$f":"Accueil!$I14","v":"2014-12-18"}]
["Selectionnez la classe participant à l'atelier :"]
["NOM","Prénom",{"$f":"Accueil!B41","v":"2014-11-03"},{"$f":"Accueil!C41","v":"2014-11-04"},{"$f":"Accueil!D41","v":"2014-11-05"},{"$f":"Accueil!E41","v":"2014-11-06"},{"$f":"Accueil!F41","v":"2014-11-07"},{"$f":"Accueil!G41","v":"2014-11-08"},{"$f":"Accueil!H41","v":"2014-11-09"},{"$f":"Accueil!I41","v":"2014-11-09"},"TOT"]
[null,null,null,null,null,null,null,null,null,null,{"$f":"SUM(C98:J98)","v":0}]
[null,null,null,null,null,null,null,null,null,null,{"$f":"SUM(C99:J99)","v":0}]
[null,null,null,null,null,null,null,null,null,null,0]
[null,null,null,null,null,null,null,null,null,null,0]
[null,null,null,null,null,null,null,null,null,null,0]
[null,null,null,null,null,null,null,null,null,null,0]
[null,null,null,null,null,null,null,null,null,null,0]
[null,null,null,null,null,null,null,null,null,null,0]
[null,null,null,null,null,null,null,null,null,null,0]
[null,null,null,null,null,null,null,null,null,null,0]
[null,null,null,null,null,null,null,null,null,null,0]
[null,null,null,null,null,null,null,null,null,null,0]
[null,null,null,null,null,null,null,null,null,null,0]
[null,null,null,null,null,null,null,null,null,null,0]
[null,null,null,null,null,null,null,null,null,null,0]
[null,null,null,null,null,null,null,null,null,null,0]
[null,null,null,null,null,null,null,null,null,null,0]
[null,null,null,null,null,null,null,null,null,null,0]
[null,null,null,null,null,null,null,null,null,null,0]
[null,null,null,null,null,null,null,null,null,null,0]
[null,null,null,null,null,null,null,null,null,null,0]
[null,null,null,null,null,null,null,null,null,null,0]
[null,null,null,null,null,null,null,null,null,null,0]
[null,null,null,null,null,null,null,null,null,null,0]
[null,null,null,null,null,null,null,null,null,null,0]
[null,null,null,null,null,null,null,null,null,null,{"$f":"SUM(C123:J123)","v":0}]
[null,null,null,null,null,null,null,null,null,null,{"$f":"SUM(C124:J124)","v":0}]
[null,null,null,null,null,null,null,null,null,null,0]
[null,null,null,null,null,null,null,null,null,null,0]
[null,null,null,null,null,null,null,null,null,null,0]
[null,null,null,null,null,null,null,null,null,null,0]
[null,null,null,null,null,null,null,null,null,null,0]
[null,null,null,null,null,null,null,null,null,null,0]
[null,null,null,null,null,null,null,null,null,null,0]
[null,null,null,null,null,null,null,null,null,null,0]
[null,null,null,null,null,null,null,null,null,null,0]
[null,null,null,null,null,null,null,null,null,null,0]
[null,null,null,null,null,null,null,null,null,null,0]
[null,null,null,null,null,null,null,null,null,null,0]
[null,null,null,null,null,null,null,null,null,null,0]
[null,null,null,null,null,null,null,null,null,null,0]
[null,null,null,null,null,null,null,null,null,null,0]
[null,null,null,null,null,null,null,null,null,null,0]
[null,null,null,null,null,null,null,null,null,null,0]
[null,null,null,null,null,null,null,null,null,null,0]
[null,null,null,null,null,null,null,null,null,null,0]
[null,null,null,null,null,null,null,null,null,null,0]
[null,null,null,null,null,null,null,null,null,null,0]
[null,null,null,null,null,null,null,null,null,null,0]
[null,null,null,null,null,null,null,null,null,null,0]
["TOT Jour",null,{"$f":"SUM(C98:C147)","v":0},{"$f":"SUM(D98:D147)","v":0},0,0,0,0,0,0]
["TOT Période",null,{"$f":"SUM(C148:J148)","v":0}]
[{"$f":"B9","v":13}]
[]
[]
["Période :",{"$f":"Accueil!E16","v":"P3"},{"$f":"Accueil!$F16","v":"du"},{"$f":"Accueil!$G16","v":"2015-01-04"},{"$f":"Accueil!$H16","v":"au"},{"$f":"Accueil!$I16","v":"2015-02-20"}]
["Selectionnez la classe participant à l'atelier :"]
["NOM","Prénom",{"$f":"Accueil!B43","v":"2015-01-05"},{"$f":"Accueil!C43","v":"2015-01-06"},{"$f":"Accueil!D43","v":"2015-01-07"},{"$f":"Accueil!E43","v":"2015-01-08"},{"$f":"Accueil!F43","v":"2015-01-09"},{"$f":"Accueil!G43","v":"2015-01-10"},{"$f":"Accueil!H43","v":"2015-01-11"},{"$f":"Accueil!I43","v":"2015-01-11"},"TOT"]
[null,null,null,null,null,null,null,null,null,null,{"$f":"SUM(C156:J156)","v":0}]
[null,null,null,null,null,null,null,null,null,null,{"$f":"SUM(C157:J157)","v":0}]
[null,null,null,null,null,null,null,null,null,null,0]
[null,null,null,null,null,null,null,null,null,null,0]
[null,null,null,null,null,null,null,null,null,null,0]
[null,null,null,null,null,null,null,null,null,null,0]
[null,null,null,null,null,null,null,null,null,null,0]
[null,null,null,null,null,null,null,null,null,null,0]
[null,null,null,null,null,null,null,null,null,null,0]
[null,null,null,null,null,null,null,null,null,null,0]
[null,null,null,null,null,null,null,null,null,null,0]
[null,null,null,null,null,null,null,null,null,null,0]
[null,null,null,null,null,null,null,null,null,null,0]
[null,null,null,null,null,null,null,null,null,null,0]
[null,null,null,null,null,null,null,null,null,null,0]
[null,null,null,null,null,null,null,null,null,null,0]
[null,null,null,null,null,null,null,null,null,null,0]
[null,null,null,null,null,null,null,null,null,null,0]
[null,null,null,null,null,null,null,null,null,null,0]
[null,null,null,null,null,null,null,null,null,null,0]
[null,null,null,null,null,null,null,null,null,null,0]
[null,null,null,null,null,null,null,null,null,null,0]
[null,null,null,null,null,null,null,null,null,null,0]
[null,null,null,null,null,null,null,null,null,null,0]
[null,null,null,null,null,null,null,null,null,null,0]
[null,null,null,null,null,null,null,null,null,null,{"$f":"SUM(C181:J181)","v":0}]
[null,null,null,null,null,null,null,null,null,null,{"$f":"SUM(C182:J182)","v":0}]
[null,null,null,null,null,null,null,null,null,null,0]
[null,null,null,null,null,null,null,null,null,null,0]
[null,null,null,null,null,null,null,null,null,null,0]
[null,null,null,null,null,null,null,null,null,null,0]
[null,null,null,null,null,null,null,null,null,null,0]
[null,null,null,null,null,null,null,null,null,null,0]
[null,null,null,null,null,null,null,null,null,null,0]
[null,null,null,null,null,null,null,null,null,null,0]
[null,null,null,null,null,null,null,null,null,null,0]
[null,null,null,null,null,null,null,null,null,null,0]
[null,null,null,null,null,null,null,null,null,null,0]
[null,null,null,null,null,null,null,null,null,null,0]
[null,null,null,null,null,null,null,null,null,null,0]
[null,null,null,null,null,null,null,null,null,null,0]
[null,null,null,null,null,null,null,null,null,null,0]
[null,null,null,null,null,null,null,null,null,null,0]
[null,null,null,null,null,null,null,null,null,null,0]
[null,null,null,null,null,null,null,null,null,null,0]
[null,null,null,null,null,null,null,null,null,null,0]
[null,null,null,null,null,null,null,null,null,null,0]
[null,null,null,null,null,null,null,null,null,null,0]
[null,null,null,null,null,null,null,null,null,null,0]
[null,null,null,null,null,null,null,null,null,null,0]
["TOT Jour",null,{"$f":"SUM(C156:C205)","v":0},{"$f":"SUM(D156:D205)","v":0},0,0,0,0,0,0]
["TOT Période",null,{"$f":"SUM(C206:J206)","v":0}]
[{"$f":"B9","v":13}]
[]
[]
["Période :",{"$f":"Accueil!E18","v":"P4"},{"$f":"Accueil!$F18","v":"du"},{"$f":"Accueil!$G18","v":"2015-03-08"},{"$f":"Accueil!$H18","v":"au"},{"$f":"Accueil!$I18","v":"2015-04-15"}]
["Selectionnez la classe participant à l'atelier :"]
["NOM","Prénom",{"$f":"Accueil!B45","v":"2015-03-09"},{"$f":"Accueil!C45","v":"2015-03-10"},{"$f":"Accueil!D45","v":"2015-03-11"},{"$f":"Accueil!E45","v":"2015-03-12"},{"$f":"Accueil!F45","v":"2015-03-13"},{"$f":"Accueil!G45","v":"2015-03-14"},{"$f":"Accueil!H45","v":"2015-03-15"},{"$f":"Accueil!I45","v":"2015-03-15"},"TOT"]
[null,null,null,null,null,null,null,null,null,null,{"$f":"SUM(C214:J214)","v":0}]
[null,null,null,null,null,null,null,null,null,null,{"$f":"SUM(C215:J215)","v":0}]
[null,null,null,null,null,null,null,null,null,null,0]
[null,null,null,null,null,null,null,null,null,null,0]
[null,null,null,null,null,null,null,null,null,null,0]
[null,null,null,null,null,null,null,null,null,null,0]
[null,null,null,null,null,null,null,null,null,null,0]
[null,null,null,null,null,null,null,null,null,null,0]
[null,null,null,null,null,null,null,null,null,null,0]
[null,null,null,null,null,null,null,null,null,null,0]
[null,null,null,null,null,null,null,null,null,null,0]
[null,null,null,null,null,null,null,null,null,null,0]
[null,null,null,null,null,null,null,null,null,null,0]
[null,null,null,null,null,null,null,null,null,null,0]
[null,null,null,null,null,null,null,null,null,null,0]
[null,null,null,null,null,null,null,null,null,null,0]
[null,null,null,null,null,null,null,null,null,null,0]
[null,null,null,null,null,null,null,null,null,null,0]
[null,null,null,null,null,null,null,null,null,null,0]
[null,null,null,null,null,null,null,null,null,null,0]
[null,null,null,null,null,null,null,null,null,null,0]
[null,null,null,null,null,null,null,null,null,null,0]
[null,null,null,null,null,null,null,null,null,null,0]
[null,null,null,null,null,null,null,null,null,null,0]
[null,null,null,null,null,null,null,null,null,null,0]
[null,null,null,null,null,null,null,null,null,null,{"$f":"SUM(C239:J239)","v":0}]
[null,null,null,null,null,null,null,null,null,null,{"$f":"SUM(C240:J240)","v":0}]
[null,null,null,null,null,null,null,null,null,null,0]
[null,null,null,null,null,null,null,null,null,null,0]
[null,null,null,null,null,null,null,null,null,null,0]
[null,null,null,null,null,null,null,null,null,null,0]
[null,null,null,null,null,null,null,null,null,null,0]
[null,null,null,null,null,null,null,null,null,null,0]
[null,null,null,null,null,null,null,null,null,null,0]
[null,null,null,null,null,null,null,null,null,null,0]
[null,null,null,null,null,null,null,null,null,null,0]
[null,null,null,null,null,null,null,null,null,null,0]
[null,null,null,null,null,null,null,null,null,null,0]
[null,null,null,null,null,null,null,null,null,null,0]
[null,null,null,null,null,null,null,null,null,null,0]
[null,null,null,null,null,null,null,null,null,null,0]
[null,null,null,null,null,null,null,null,null,null,0]
[null,null,null,null,null,null,null,null,null,null,0]
[null,null,null,null,null,null,null,null,null,null,0]
[null,null,null,null,null,null,null,null,null,null,0]
[null,null,null,null,null,null,null,null,null,null,0]
[null,null,null,null,null,null,null,null,null,null,0]
[null,null,null,null,null,null,null,null,null,null,0]
[null,null,null,null,null,null,null,null,null,null,0]
[null,null,null,null,null,null,null,null,null,null,0]
["TOT Jour",null,{"$f":"SUM(C214:C263)","v":0},{"$f":"SUM(D214:D263)","v":0},0,0,0,0,0,0]
["TOT Période",null,{"$f":"SUM(C264:J264)","v":0}]
[{"$f":"B9","v":13}]
[]
[]
["Période :",{"$f":"Accueil!E20","v":"P5"},{"$f":"Accueil!$F20","v":"du"},{"$f":"Accueil!$G20","v":"2015-05-03"},{"$f":"Accueil!$H20","v":"au"},{"$f":"Accueil!$I20","v":"2015-07-03"}]
["Selectionnez la classe participant à l'atelier :"]
["NOM","Prénom",{"$f":"Accueil!B47","v":"2015-05-04"},{"$f":"Accueil!C47","v":"2015-05-05"},{"$f":"Accueil!D47","v":"2015-05-06"},{"$f":"Accueil!E47","v":"2015-05-07"},{"$f":"Accueil!F47","v":"2015-05-08"},{"$f":"Accueil!G47","v":"2015-05-09"},{"$f":"Accueil!H47","v":"2015-05-10"},{"$f":"Accueil!I47","v":"2015-05-10"},"TOT"]
[null,null,null,null,null,null,null,null,null,null,{"$f":"SUM(C272:J272)","v":0}]
[null,null,null,null,null,null,null,null,null,null,{"$f":"SUM(C273:J273)","v":0}]
[null,null,null,null,null,null,null,null,null,null,0]
[null,null,null,null,null,null,null,null,null,null,0]
[null,null,null,null,null,null,null,null,null,null,0]
[null,null,null,null,null,null,null,null,null,null,0]
[null,null,null,null,null,null,null,null,null,null,0]
[null,null,null,null,null,null,null,null,null,null,0]
[null,null,null,null,null,null,null,null,null,null,0]
[null,null,null,null,null,null,null,null,null,null,0]
[null,null,null,null,null,null,null,null,null,null,0]
[null,null,null,null,null,null,null,null,null,null,0]
[null,null,null,null,null,null,null,null,null,null,0]
[null,null,null,null,null,null,null,null,null,null,0]
[null,null,null,null,null,null,null,null,null,null,0]
[null,null,null,null,null,null,null,null,null,null,0]
[null,null,null,null,null,null,null,null,null,null,0]
[null,null,null,null,null,null,null,null,null,null,0]
[null,null,null,null,null,null,null,null,null,null,0]
[null,null,null,null,null,null,null,null,null,null,0]
[null,null,null,null,null,null,null,null,null,null,0]
[null,null,null,null,null,null,null,null,null,null,0]
[null,null,null,null,null,null,null,null,null,null,0]
[null,null,null,null,null,null,null,null,null,null,0]
[null,null,null,null,null,null,null,null,null,null,0]
[null,null,null,null,null,null,null,null,null,null,{"$f":"SUM(C297:J297)","v":0}]
[null,null,null,null,null,null,null,null,null,null,{"$f":"SUM(C298:J298)","v":0}]
[null,null,null,null,null,null,null,null,null,null,0]
[null,null,null,null,null,null,null,null,null,null,0]
[null,null,null,null,null,null,null,null,null,null,0]
[null,null,null,null,null,null,null,null,null,null,0]
[null,null,null,null,null,null,null,null,null,null,0]
[null,null,null,null,null,null,null,null,null,null,0]
[null,null,null,null,null,null,null,null,null,null,0]
[null,null,null,null,null,null,null,null,null,null,0]
[null,null,null,null,null,null,null,null,null,null,0]
[null,null,null,null,null,null,null,null,null,null,0]
[null,null,null,null,null,null,null,null,null,null,0]
[null,null,null,null,null,null,null,null,null,null,0]
[null,null,null,null,null,null,null,null,null,null,0]
[null,null,null,null,null,null,null,null,null,null,0]
[null,null,null,null,null,null,null,null,null,null,0]
[null,null,null,null,null,null,null,null,null,null,0]
[null,null,null,null,null,null,null,null,null,null,0]
[null,null,null,null,null,null,null,null,null,null,0]
[null,null,null,null,null,null,null,null,null,null,0]
[null,null,null,null,null,null,null,null,null,null,0]
[null,null,null,null,null,null,null,null,null,null,0]
[null,null,null,null,null,null,null,null,null,null,0]
[null,null,null,null,null,null,null,null,null,null,0]
["TOT Jour",null,{"$f":"SUM(C272:C321)","v":0},{"$f":"SUM(D272:D321)","v":0},0,0,0,0,0,0]
["TOT Période",null,{"$f":"SUM(C322:J322)","v":0}]
["Statistiques"]
[]
[]
["Nombre d'heure de fréquentation :"]
[{"$f":"Accueil!$E12","v":"P1"},{"$f":"$C$91*1.5","v":0},"heures de présence pour cet atelier et pour cette période"]
[{"$f":"Accueil!$E14","v":"P2"},{"$f":"$C$149*1.5","v":0},"heures de présence pour cet atelier et pour cette période"]
[{"$f":"Accueil!$E16","v":"P3"},{"$f":"$C$207*1.5","v":0},"heures de présence pour cet atelier et pour cette période"]
[{"$f":"Accueil!$E18","v":"P4"},{"$f":"$C$265*1.5","v":0},"heures de présence pour cet atelier et pour cette période"]
[{"$f":"Accueil!$E20","v":"P5"},{"$f":"$C$323*1.5","v":0},"heures de présence pour cet atelier et pour cette période"]
["TOT",{"$f":"SUM($B$328:$B$332)","v":0},"heures de présence pour cet atelier et pour l'année"]

{"sheet":"14","index":29,"n_rows":333,"n_cols":11,"rows_kept":333,"cut":false,"hidden":false,"merged":[[332,2,332,6],[323,0,324,10],[327,2,327,6],[328,2,328,6],[329,2,329,6],[330,2,330,6],[331,2,331,6],[265,0,266,10],[269,0,269,3],[269,4,269,5],[321,0,321,1],[322,0,322,1],[322,2,322,9],[207,0,208,10],[211,0,211,3],[211,4,211,5],[263,0,263,1],[264,0,264,1],[264,2,264,9],[149,0,150,10],[153,0,153,3],[153,4,153,5],[205,0,205,1],[206,0,206,1],[206,2,206,9],[91,0,92,10],[95,0,95,3],[95,4,95,5],[147,0,147,1],[148,0,148,1],[148,2,148,9],[90,0,90,1],[90,2,90,9],[8,1,15,9],[33,0,34,10],[37,0,37,3],[37,4,37,5],[89,0,89,1],[17,0,18,10],[19,0,22,10],[16,2,16,9]]}
[]
[]
[]
[]
[]
[]
[]
[]
[null,{"$f":"Accueil!B33","v":14}]
[]
[]
[]
[]
[]
[]
[]
[null,{"$f":"Machin!B17","v":"Avec :"},{"$f":"Accueil!C33","v":0}]
[{"$f":"Machin!$A$28","v":"ATTENTION !"}]
[]
[{"$f":"Machin!$A$30","v":"Vous ne devez pas ajouter ou supprimer les enfants depuis cette feuille ! \nPour ajouter des enfants dans cet atelier -> Aller dans la feuille de la classe des enfants et suivre les instructions.\nPour supprimer des enfants de cet atelier -> Aller dans la feuille de la classe des enfants et suivre les instructions."}]
[]
[]
[]
[]
[]
[]
[]
[]
[]
[]
[]
[]
[]
[{"$f":"B9","v":14}]
[]
[]
["Période :",{"$f":"Accueil!$E$12","v":"P1"},{"$f":"Accueil!$F$12","v":"du"},{"$f":"Accueil!$G$12","v":"2014-09-02"},{"$f":"Accueil!$H$12","v":"au"},{"$f":"Accueil!$I$12","v":"2014-10-17"}]
["Selectionnez la classe participant à l'atelier :"]
["NOM","Prénom",{"$f":"Accueil!B39","v":"2015-09-05"},{"$f":"Accueil!C39","v":"2015-09-06"},{"$f":"Accueil!D39","v":"2015-09-07"},{"$f":"Accueil!E39","v":"2015-09-08"},{"$f":"Accueil!F39","v":"2015-09-09"},{"$f":"Accueil!G39","v":"2015-09-10"},{"$f":"Accueil!H39","v":"2015-09-11"},{"$f":"Accueil!I39","v":"2015-09-11"},"TOT"]
[null,null,null,null,null,null,null,null,null,null,{"$f":"SUM(C40:J40)","v":0}]
[null,null,null,null,null,null,null,null,null,null,{"$f":"SUM(C41:J41)","v":0}]
[null,null,null,null,null,null,null,null,null,null,0]
[null,null,null,null,null,null,null,null,null,null,0]
[null,null,null,null,null,null,null,null,null,null,0]
[null,null,null,null,null,null,null,null,null,null,0]
[null,null,null,null,null,null,null,null,null,null,0]
[null,null,null,null,null,null,null,null,null,null,0]
[null,null,null,null,null,null,null,null,null,null,0]
[null,null,null,null,null,null,null,null,null,null,0]
[null,null,null,null,null,null,null,null,null,null,0]
[null,null,null,null,null,null,null,null,null,null,0]
[null,null,null,null,null,null,null,null,null,null,0]
[null,null,null,null,null,null,null,null,null,null,0]
[null,null,null,null,null,null,null,null,null,null,0]
[null,null,null,null,null,null,null,null,null,null,0]
[null,null,null,null,null,null,null,null,null,null,0]
[null,null,null,null,null,null,null,null,null,null,0]
[null,null,null,null,null,null,null,null,null,null,0]
[null,null,null,null,null,null,null,null,null,null,0]
[null,null,null,null,null,null,null,null,null,null,0]
[null,null,null,null,null,null,null,null,null,null,0]
[null,null,null,null,null,null,null,null,null,null,0]
[null,null,null,null,null,null,null,null,null,null,0]
[null,null,null,null,null,null,null,null,null,null,0]
[null,null,null,null,null,null,null,null,null,null,{"$f":"SUM(C65:J65)","v":0}]
[null,null,null,null,null,null,null,null,null,null,{"$f":"SUM(C66:J66)","v":0}]
[null,null,null,null,null,null,null,null,null,null,0]
[null,null,null,null,null,null,null,null,null,null,0]
[null,null,null,null,null,null,null,null,null,null,0]
[null,null,null,null,null,null,null,null,null,null,0]
[null,null,null,null,null,null,null,null,null,null,0]
[null,null,null,null,null,null,null,null,null,null,0]
[null,null,null,null,null,null,null,null,null,null,0]
[null,null,null,null,null,null,null,null,null,null,0]
[null,null,null,null,null,null,null,null,null,null,0]
[null,null,null,null,null,null,null,null,null,null,0]
[null,null,null,null,null,null,null,null,null,null,0]
[null,null,null,null,null,null,null,null,null,null,0]
[null,null,null,null,null,null,null,null,null,null,0]
[null,null,null,null,null,null,null,null,null,null,0]
[null,null,null,null,null,null,null,null,null,null,0]
[null,null,null,null,null,null,null,null,null,null,0]
[null,null,null,null,null,null,null,null,null,null,0]
[null,null,null,null,null,null,null,null,null,null,0]
[null,null,null,null,null,null,null,null,null,null,0]
[null,null,null,null,null,null,null,null,null,null,0]
[null,null,null,null,null,null,null,null,null,null,0]
[null,null,null,null,null,null,null,null,null,null,0]
[null,null,null,null,null,null,null,null,null,null,0]
["TOT Jour",null,{"$f":"SUM(C40:C89)","v":0},{"$f":"SUM(D40:D89)","v":0},0,0,0,0,0,0]
["TOT Période",null,{"$f":"SUM(C90:J90)","v":0}]
[{"$f":"B9","v":14}]
[]
[]
["Période :",{"$f":"Accueil!$E14","v":"P2"},{"$f":"Accueil!$F14","v":"du"},{"$f":"Accueil!$G14","v":"2014-11-02"},{"$f":"Accueil!$H14","v":"au"},{"$f":"Accueil!$I14","v":"2014-12-18"}]
["Selectionnez la classe participant à l'atelier :"]
["NOM","Prénom",{"$f":"Accueil!B41","v":"2014-11-03"},{"$f":"Accueil!C41","v":"2014-11-04"},{"$f":"Accueil!D41","v":"2014-11-05"},{"$f":"Accueil!E41","v":"2014-11-06"},{"$f":"Accueil!F41","v":"2014-11-07"},{"$f":"Accueil!G41","v":"2014-11-08"},{"$f":"Accueil!H41","v":"2014-11-09"},{"$f":"Accueil!I41","v":"2014-11-09"},"TOT"]
[null,null,null,null,null,null,null,null,null,null,{"$f":"SUM(C98:J98)","v":0}]
[null,null,null,null,null,null,null,null,null,null,{"$f":"SUM(C99:J99)","v":0}]
[null,null,null,null,null,null,null,null,null,null,0]
[null,null,null,null,null,null,null,null,null,null,0]
[null,null,null,null,null,null,null,null,null,null,0]
[null,null,null,null,null,null,null,null,null,null,0]
[null,null,null,null,null,null,null,null,null,null,0]
[null,null,null,null,null,null,null,null,null,null,0]
[null,null,null,null,null,null,null,null,null,null,0]
[null,null,null,null,null,null,null,null,null,null,0]
[null,null,null,null,null,null,null,null,null,null,0]
[null,null,null,null,null,null,null,null,null,null,0]
[null,null,null,null,null,null,null,null,null,null,0]
[null,null,null,null,null,null,null,null,null,null,0]
[null,null,null,null,null,null,null,null,null,null,0]
[null,null,null,null,null,null,null,null,null,null,0]
[null,null,null,null,null,null,null,null,null,null,0]
[null,null,null,null,null,null,null,null,null,null,0]
[null,null,null,null,null,null,null,null,null,null,0]
[null,null,null,null,null,null,null,null,null,null,0]
[null,null,null,null,null,null,null,null,null,null,0]
[null,null,null,null,null,null,null,null,null,null,0]
[null,null,null,null,null,null,null,null,null,null,0]
[null,null,null,null,null,null,null,null,null,null,0]
[null,null,null,null,null,null,null,null,null,null,0]
[null,null,null,null,null,null,null,null,null,null,{"$f":"SUM(C123:J123)","v":0}]
[null,null,null,null,null,null,null,null,null,null,{"$f":"SUM(C124:J124)","v":0}]
[null,null,null,null,null,null,null,null,null,null,0]
[null,null,null,null,null,null,null,null,null,null,0]
[null,null,null,null,null,null,null,null,null,null,0]
[null,null,null,null,null,null,null,null,null,null,0]
[null,null,null,null,null,null,null,null,null,null,0]
[null,null,null,null,null,null,null,null,null,null,0]
[null,null,null,null,null,null,null,null,null,null,0]
[null,null,null,null,null,null,null,null,null,null,0]
[null,null,null,null,null,null,null,null,null,null,0]
[null,null,null,null,null,null,null,null,null,null,0]
[null,null,null,null,null,null,null,null,null,null,0]
[null,null,null,null,null,null,null,null,null,null,0]
[null,null,null,null,null,null,null,null,null,null,0]
[null,null,null,null,null,null,null,null,null,null,0]
[null,null,null,null,null,null,null,null,null,null,0]
[null,null,null,null,null,null,null,null,null,null,0]
[null,null,null,null,null,null,null,null,null,null,0]
[null,null,null,null,null,null,null,null,null,null,0]
[null,null,null,null,null,null,null,null,null,null,0]
[null,null,null,null,null,null,null,null,null,null,0]
[null,null,null,null,null,null,null,null,null,null,0]
[null,null,null,null,null,null,null,null,null,null,0]
[null,null,null,null,null,null,null,null,null,null,0]
["TOT Jour",null,{"$f":"SUM(C98:C147)","v":0},{"$f":"SUM(D98:D147)","v":0},0,0,0,0,0,0]
["TOT Période",null,{"$f":"SUM(C148:J148)","v":0}]
[{"$f":"B9","v":14}]
[]
[]
["Période :",{"$f":"Accueil!E16","v":"P3"},{"$f":"Accueil!$F16","v":"du"},{"$f":"Accueil!$G16","v":"2015-01-04"},{"$f":"Accueil!$H16","v":"au"},{"$f":"Accueil!$I16","v":"2015-02-20"}]
["Selectionnez la classe participant à l'atelier :"]
["NOM","Prénom",{"$f":"Accueil!B43","v":"2015-01-05"},{"$f":"Accueil!C43","v":"2015-01-06"},{"$f":"Accueil!D43","v":"2015-01-07"},{"$f":"Accueil!E43","v":"2015-01-08"},{"$f":"Accueil!F43","v":"2015-01-09"},{"$f":"Accueil!G43","v":"2015-01-10"},{"$f":"Accueil!H43","v":"2015-01-11"},{"$f":"Accueil!I43","v":"2015-01-11"},"TOT"]
[null,null,null,null,null,null,null,null,null,null,{"$f":"SUM(C156:J156)","v":0}]
[null,null,null,null,null,null,null,null,null,null,{"$f":"SUM(C157:J157)","v":0}]
[null,null,null,null,null,null,null,null,null,null,0]
[null,null,null,null,null,null,null,null,null,null,0]
[null,null,null,null,null,null,null,null,null,null,0]
[null,null,null,null,null,null,null,null,null,null,0]
[null,null,null,null,null,null,null,null,null,null,0]
[null,null,null,null,null,null,null,null,null,null,0]
[null,null,null,null,null,null,null,null,null,null,0]
[null,null,null,null,null,null,null,null,null,null,0]
[null,null,null,null,null,null,null,null,null,null,0]
[null,null,null,null,null,null,null,null,null,null,0]
[null,null,null,null,null,null,null,null,null,null,0]
[null,null,null,null,null,null,null,null,null,null,0]
[null,null,null,null,null,null,null,null,null,null,0]
[null,null,null,null,null,null,null,null,null,null,0]
[null,null,null,null,null,null,null,null,null,null,0]
[null,null,null,null,null,null,null,null,null,null,0]
[null,null,null,null,null,null,null,null,null,null,0]
[null,null,null,null,null,null,null,null,null,null,0]
[null,null,null,null,null,null,null,null,null,null,0]
[null,null,null,null,null,null,null,null,null,null,0]
[null,null,null,null,null,null,null,null,null,null,0]
[null,null,null,null,null,null,null,null,null,null,0]
[null,null,null,null,null,null,null,null,null,null,0]
[null,null,null,null,null,null,null,null,null,null,{"$f":"SUM(C181:J181)","v":0}]
[null,null,null,null,null,null,null,null,null,null,{"$f":"SUM(C182:J182)","v":0}]
[null,null,null,null,null,null,null,null,null,null,0]
[null,null,null,null,null,null,null,null,null,null,0]
[null,null,null,null,null,null,null,null,null,null,0]
[null,null,null,null,null,null,null,null,null,null,0]
[null,null,null,null,null,null,null,null,null,null,0]
[null,null,null,null,null,null,null,null,null,null,0]
[null,null,null,null,null,null,null,null,null,null,0]
[null,null,null,null,null,null,null,null,null,null,0]
[null,null,null,null,null,null,null,null,null,null,0]
[null,null,null,null,null,null,null,null,null,null,0]
[null,null,null,null,null,null,null,null,null,null,0]
[null,null,null,null,null,null,null,null,null,null,0]
[null,null,null,null,null,null,null,null,null,null,0]
[null,null,null,null,null,null,null,null,null,null,0]
[null,null,null,null,null,null,null,null,null,null,0]
[null,null,null,null,null,null,null,null,null,null,0]
[null,null,null,null,null,null,null,null,null,null,0]
[null,null,null,null,null,null,null,null,null,null,0]
[null,null,null,null,null,null,null,null,null,null,0]
[null,null,null,null,null,null,null,null,null,null,0]
[null,null,null,null,null,null,null,null,null,null,0]
[null,null,null,null,null,null,null,null,null,null,0]
[null,null,null,null,null,null,null,null,null,null,0]
["TOT Jour",null,{"$f":"SUM(C156:C205)","v":0},{"$f":"SUM(D156:D205)","v":0},0,0,0,0,0,0]
["TOT Période",null,{"$f":"SUM(C206:J206)","v":0}]
[{"$f":"B9","v":14}]
[]
[]
["Période :",{"$f":"Accueil!E18","v":"P4"},{"$f":"Accueil!$F18","v":"du"},{"$f":"Accueil!$G18","v":"2015-03-08"},{"$f":"Accueil!$H18","v":"au"},{"$f":"Accueil!$I18","v":"2015-04-15"}]
["Selectionnez la classe participant à l'atelier :"]
["NOM","Prénom",{"$f":"Accueil!B45","v":"2015-03-09"},{"$f":"Accueil!C45","v":"2015-03-10"},{"$f":"Accueil!D45","v":"2015-03-11"},{"$f":"Accueil!E45","v":"2015-03-12"},{"$f":"Accueil!F45","v":"2015-03-13"},{"$f":"Accueil!G45","v":"2015-03-14"},{"$f":"Accueil!H45","v":"2015-03-15"},{"$f":"Accueil!I45","v":"2015-03-15"},"TOT"]
[null,null,null,null,null,null,null,null,null,null,{"$f":"SUM(C214:J214)","v":0}]
[null,null,null,null,null,null,null,null,null,null,{"$f":"SUM(C215:J215)","v":0}]
[null,null,null,null,null,null,null,null,null,null,0]
[null,null,null,null,null,null,null,null,null,null,0]
[null,null,null,null,null,null,null,null,null,null,0]
[null,null,null,null,null,null,null,null,null,null,0]
[null,null,null,null,null,null,null,null,null,null,0]
[null,null,null,null,null,null,null,null,null,null,0]
[null,null,null,null,null,null,null,null,null,null,0]
[null,null,null,null,null,null,null,null,null,null,0]
[null,null,null,null,null,null,null,null,null,null,0]
[null,null,null,null,null,null,null,null,null,null,0]
[null,null,null,null,null,null,null,null,null,null,0]
[null,null,null,null,null,null,null,null,null,null,0]
[null,null,null,null,null,null,null,null,null,null,0]
[null,null,null,null,null,null,null,null,null,null,0]
[null,null,null,null,null,null,null,null,null,null,0]
[null,null,null,null,null,null,null,null,null,null,0]
[null,null,null,null,null,null,null,null,null,null,0]
[null,null,null,null,null,null,null,null,null,null,0]
[null,null,null,null,null,null,null,null,null,null,0]
[null,null,null,null,null,null,null,null,null,null,0]
[null,null,null,null,null,null,null,null,null,null,0]
[null,null,null,null,null,null,null,null,null,null,0]
[null,null,null,null,null,null,null,null,null,null,0]
[null,null,null,null,null,null,null,null,null,null,{"$f":"SUM(C239:J239)","v":0}]
[null,null,null,null,null,null,null,null,null,null,{"$f":"SUM(C240:J240)","v":0}]
[null,null,null,null,null,null,null,null,null,null,0]
[null,null,null,null,null,null,null,null,null,null,0]
[null,null,null,null,null,null,null,null,null,null,0]
[null,null,null,null,null,null,null,null,null,null,0]
[null,null,null,null,null,null,null,null,null,null,0]
[null,null,null,null,null,null,null,null,null,null,0]
[null,null,null,null,null,null,null,null,null,null,0]
[null,null,null,null,null,null,null,null,null,null,0]
[null,null,null,null,null,null,null,null,null,null,0]
[null,null,null,null,null,null,null,null,null,null,0]
[null,null,null,null,null,null,null,null,null,null,0]
[null,null,null,null,null,null,null,null,null,null,0]
[null,null,null,null,null,null,null,null,null,null,0]
[null,null,null,null,null,null,null,null,null,null,0]
[null,null,null,null,null,null,null,null,null,null,0]
[null,null,null,null,null,null,null,null,null,null,0]
[null,null,null,null,null,null,null,null,null,null,0]
[null,null,null,null,null,null,null,null,null,null,0]
[null,null,null,null,null,null,null,null,null,null,0]
[null,null,null,null,null,null,null,null,null,null,0]
[null,null,null,null,null,null,null,null,null,null,0]
[null,null,null,null,null,null,null,null,null,null,0]
[null,null,null,null,null,null,null,null,null,null,0]
["TOT Jour",null,{"$f":"SUM(C214:C263)","v":0},{"$f":"SUM(D214:D263)","v":0},0,0,0,0,0,0]
["TOT Période",null,{"$f":"SUM(C264:J264)","v":0}]
[{"$f":"B9","v":14}]
[]
[]
["Période :",{"$f":"Accueil!E20","v":"P5"},{"$f":"Accueil!$F20","v":"du"},{"$f":"Accueil!$G20","v":"2015-05-03"},{"$f":"Accueil!$H20","v":"au"},{"$f":"Accueil!$I20","v":"2015-07-03"}]
["Selectionnez la classe participant à l'atelier :"]
["NOM","Prénom",{"$f":"Accueil!B47","v":"2015-05-04"},{"$f":"Accueil!C47","v":"2015-05-05"},{"$f":"Accueil!D47","v":"2015-05-06"},{"$f":"Accueil!E47","v":"2015-05-07"},{"$f":"Accueil!F47","v":"2015-05-08"},{"$f":"Accueil!G47","v":"2015-05-09"},{"$f":"Accueil!H47","v":"2015-05-10"},{"$f":"Accueil!I47","v":"2015-05-10"},"TOT"]
[null,null,null,null,null,null,null,null,null,null,{"$f":"SUM(C272:J272)","v":0}]
[null,null,null,null,null,null,null,null,null,null,{"$f":"SUM(C273:J273)","v":0}]
[null,null,null,null,null,null,null,null,null,null,0]
[null,null,null,null,null,null,null,null,null,null,0]
[null,null,null,null,null,null,null,null,null,null,0]
[null,null,null,null,null,null,null,null,null,null,0]
[null,null,null,null,null,null,null,null,null,null,0]
[null,null,null,null,null,null,null,null,null,null,0]
[null,null,null,null,null,null,null,null,null,null,0]
[null,null,null,null,null,null,null,null,null,null,0]
[null,null,null,null,null,null,null,null,null,null,0]
[null,null,null,null,null,null,null,null,null,null,0]
[null,null,null,null,null,null,null,null,null,null,0]
[null,null,null,null,null,null,null,null,null,null,0]
[null,null,null,null,null,null,null,null,null,null,0]
[null,null,null,null,null,null,null,null,null,null,0]
[null,null,null,null,null,null,null,null,null,null,0]
[null,null,null,null,null,null,null,null,null,null,0]
[null,null,null,null,null,null,null,null,null,null,0]
[null,null,null,null,null,null,null,null,null,null,0]
[null,null,null,null,null,null,null,null,null,null,0]
[null,null,null,null,null,null,null,null,null,null,0]
[null,null,null,null,null,null,null,null,null,null,0]
[null,null,null,null,null,null,null,null,null,null,0]
[null,null,null,null,null,null,null,null,null,null,0]
[null,null,null,null,null,null,null,null,null,null,{"$f":"SUM(C297:J297)","v":0}]
[null,null,null,null,null,null,null,null,null,null,{"$f":"SUM(C298:J298)","v":0}]
[null,null,null,null,null,null,null,null,null,null,0]
[null,null,null,null,null,null,null,null,null,null,0]
[null,null,null,null,null,null,null,null,null,null,0]
[null,null,null,null,null,null,null,null,null,null,0]
[null,null,null,null,null,null,null,null,null,null,0]
[null,null,null,null,null,null,null,null,null,null,0]
[null,null,null,null,null,null,null,null,null,null,0]
[null,null,null,null,null,null,null,null,null,null,0]
[null,null,null,null,null,null,null,null,null,null,0]
[null,null,null,null,null,null,null,null,null,null,0]
[null,null,null,null,null,null,null,null,null,null,0]
[null,null,null,null,null,null,null,null,null,null,0]
[null,null,null,null,null,null,null,null,null,null,0]
[null,null,null,null,null,null,null,null,null,null,0]
[null,null,null,null,null,null,null,null,null,null,0]
[null,null,null,null,null,null,null,null,null,null,0]
[null,null,null,null,null,null,null,null,null,null,0]
[null,null,null,null,null,null,null,null,null,null,0]
[null,null,null,null,null,null,null,null,null,null,0]
[null,null,null,null,null,null,null,null,null,null,0]
[null,null,null,null,null,null,null,null,null,null,0]
[null,null,null,null,null,null,null,null,null,null,0]
[null,null,null,null,null,null,null,null,null,null,0]
["TOT Jour",null,{"$f":"SUM(C272:C321)","v":0},{"$f":"SUM(D272:D321)","v":0},0,0,0,0,0,0]
["TOT Période",null,{"$f":"SUM(C322:J322)","v":0}]
["Statistiques"]
[]
[]
["Nombre d'heure de fréquentation :"]
[{"$f":"Accueil!$E12","v":"P1"},{"$f":"$C$91*1.5","v":0},"heures de présence pour cet atelier et pour cette période"]
[{"$f":"Accueil!$E14","v":"P2"},{"$f":"$C$149*1.5","v":0},"heures de présence pour cet atelier et pour cette période"]
[{"$f":"Accueil!$E16","v":"P3"},{"$f":"$C$207*1.5","v":0},"heures de présence pour cet atelier et pour cette période"]
[{"$f":"Accueil!$E18","v":"P4"},{"$f":"$C$265*1.5","v":0},"heures de présence pour cet atelier et pour cette période"]
[{"$f":"Accueil!$E20","v":"P5"},{"$f":"$C$323*1.5","v":0},"heures de présence pour cet atelier et pour cette période"]
["TOT",{"$f":"SUM($B$328:$B$332)","v":0},"heures de présence pour cet atelier et pour l'année"]

{"sheet":"Oh","index":30,"n_rows":333,"n_cols":11,"rows_kept":333,"cut":false,"hidden":false,"merged":[[332,2,332,6],[323,0,324,10],[327,2,327,6],[328,2,328,6],[329,2,329,6],[330,2,330,6],[331,2,331,6],[265,0,266,10],[269,0,269,3],[269,4,269,5],[321,0,321,1],[322,0,322,1],[322,2,322,9],[207,0,208,10],[211,0,211,3],[211,4,211,5],[263,0,263,1],[264,0,264,1],[264,2,264,9],[149,0,150,10],[153,0,153,3],[153,4,153,5],[205,0,205,1],[206,0,206,1],[206,2,206,9],[91,0,92,10],[95,0,95,3],[95,4,95,5],[147,0,147,1],[148,0,148,1],[148,2,148,9],[90,0,90,1],[90,2,90,9],[8,1,15,9],[33,0,34,10],[37,0,37,3],[37,4,37,5],[89,0,89,1],[17,0,18,10],[19,0,22,10],[16,2,16,9]]}
[]
[]
[]
[]
[]
[]
[]
[]
[null,{"$f":"Accueil!B34","v":"Oh"}]
[]
[]
[]
[]
[]
[]
[]
[null,{"$f":"Machin!B17","v":"Avec :"},{"$f":"Accueil!C34","v":0}]
[{"$f":"Machin!$A$28","v":"ATTENTION !"}]
[]
[{"$f":"Machin!$A$30","v":"Vous ne devez pas ajouter ou supprimer les enfants depuis cette feuille ! \nPour ajouter des enfants dans cet atelier -> Aller dans la feuille de la classe des enfants et suivre les instructions.\nPour supprimer des enfants de cet atelier -> Aller dans la feuille de la classe des enfants et suivre les instructions."}]
[]
[]
[]
[]
[]
[]
[]
[]
[]
[]
[]
[]
[]
[{"$f":"B9","v":"Oh"}]
[]
[]
["Période :",{"$f":"Accueil!$E$12","v":"P1"},{"$f":"Accueil!$F$12","v":"du"},{"$f":"Accueil!$G$12","v":"2014-09-02"},{"$f":"Accueil!$H$12","v":"au"},{"$f":"Accueil!$I$12","v":"2014-10-17"}]
["Selectionnez la classe participant à l'atelier :"]
["NOM","Prénom",{"$f":"Accueil!B39","v":"2015-09-05"},{"$f":"Accueil!C39","v":"2015-09-06"},{"$f":"Accueil!D39","v":"2015-09-07"},{"$f":"Accueil!E39","v":"2015-09-08"},{"$f":"Accueil!F39","v":"2015-09-09"},{"$f":"Accueil!G39","v":"2015-09-10"},{"$f":"Accueil!H39","v":"2015-09-11"},{"$f":"Accueil!I39","v":"2015-09-11"},"TOT"]
[null,null,null,null,null,null,null,null,null,null,{"$f":"SUM(C40:J40)","v":0}]
[null,null,null,null,null,null,null,null,null,null,{"$f":"SUM(C41:J41)","v":0}]
[null,null,null,null,null,null,null,null,null,null,0]
[null,null,null,null,null,null,null,null,null,null,0]
[null,null,null,null,null,null,null,null,null,null,0]
[null,null,null,null,null,null,null,null,null,null,0]
[null,null,null,null,null,null,null,null,null,null,0]
[null,null,null,null,null,null,null,null,null,null,0]
[null,null,null,null,null,null,null,null,null,null,0]
[null,null,null,null,null,null,null,null,null,null,0]
[null,null,null,null,null,null,null,null,null,null,0]
[null,null,null,null,null,null,null,null,null,null,0]
[null,null,null,null,null,null,null,null,null,null,0]
[null,null,null,null,null,null,null,null,null,null,0]
[null,null,null,null,null,null,null,null,null,null,0]
[null,null,null,null,null,null,null,null,null,null,0]
[null,null,null,null,null,null,null,null,null,null,0]
[null,null,null,null,null,null,null,null,null,null,0]
[null,null,null,null,null,null,null,null,null,null,0]
[null,null,null,null,null,null,null,null,null,null,0]
[null,null,null,null,null,null,null,null,null,null,0]
[null,null,null,null,null,null,null,null,null,null,0]
[null,null,null,null,null,null,null,null,null,null,0]
[null,null,null,null,null,null,null,null,null,null,0]
[null,null,null,null,null,null,null,null,null,null,0]
[null,null,null,null,null,null,null,null,null,null,{"$f":"SUM(C65:J65)","v":0}]
[null,null,null,null,null,null,null,null,null,null,{"$f":"SUM(C66:J66)","v":0}]
[null,null,null,null,null,null,null,null,null,null,0]
[null,null,null,null,null,null,null,null,null,null,0]
[null,null,null,null,null,null,null,null,null,null,0]
[null,null,null,null,null,null,null,null,null,null,0]
[null,null,null,null,null,null,null,null,null,null,0]
[null,null,null,null,null,null,null,null,null,null,0]
[null,null,null,null,null,null,null,null,null,null,0]
[null,null,null,null,null,null,null,null,null,null,0]
[null,null,null,null,null,null,null,null,null,null,0]
[null,null,null,null,null,null,null,null,null,null,0]
[null,null,null,null,null,null,null,null,null,null,0]
[null,null,null,null,null,null,null,null,null,null,0]
[null,null,null,null,null,null,null,null,null,null,0]
[null,null,null,null,null,null,null,null,null,null,0]
[null,null,null,null,null,null,null,null,null,null,0]
[null,null,null,null,null,null,null,null,null,null,0]
[null,null,null,null,null,null,null,null,null,null,0]
[null,null,null,null,null,null,null,null,null,null,0]
[null,null,null,null,null,null,null,null,null,null,0]
[null,null,null,null,null,null,null,null,null,null,0]
[null,null,null,null,null,null,null,null,null,null,0]
[null,null,null,null,null,null,null,null,null,null,0]
[null,null,null,null,null,null,null,null,null,null,0]
["TOT Jour",null,{"$f":"SUM(C40:C89)","v":0},{"$f":"SUM(D40:D89)","v":0},0,0,0,0,0,0]
["TOT Période",null,{"$f":"SUM(C90:J90)","v":0}]
[{"$f":"B9","v":"Oh"}]
[]
[]
["Période :",{"$f":"Accueil!$E14","v":"P2"},{"$f":"Accueil!$F14","v":"du"},{"$f":"Accueil!$G14","v":"2014-11-02"},{"$f":"Accueil!$H14","v":"au"},{"$f":"Accueil!$I14","v":"2014-12-18"}]
["Selectionnez la classe participant à l'atelier :"]
["NOM","Prénom",{"$f":"Accueil!B41","v":"2014-11-03"},{"$f":"Accueil!C41","v":"2014-11-04"},{"$f":"Accueil!D41","v":"2014-11-05"},{"$f":"Accueil!E41","v":"2014-11-06"},{"$f":"Accueil!F41","v":"2014-11-07"},{"$f":"Accueil!G41","v":"2014-11-08"},{"$f":"Accueil!H41","v":"2014-11-09"},{"$f":"Accueil!I41","v":"2014-11-09"},"TOT"]
[null,null,null,null,null,null,null,null,null,null,{"$f":"SUM(C98:J98)","v":0}]
[null,null,null,null,null,null,null,null,null,null,{"$f":"SUM(C99:J99)","v":0}]
[null,null,null,null,null,null,null,null,null,null,0]
[null,null,null,null,null,null,null,null,null,null,0]
[null,null,null,null,null,null,null,null,null,null,0]
[null,null,null,null,null,null,null,null,null,null,0]
[null,null,null,null,null,null,null,null,null,null,0]
[null,null,null,null,null,null,null,null,null,null,0]
[null,null,null,null,null,null,null,null,null,null,0]
[null,null,null,null,null,null,null,null,null,null,0]
[null,null,null,null,null,null,null,null,null,null,0]
[null,null,null,null,null,null,null,null,null,null,0]
[null,null,null,null,null,null,null,null,null,null,0]
[null,null,null,null,null,null,null,null,null,null,0]
[null,null,null,null,null,null,null,null,null,null,0]
[null,null,null,null,null,null,null,null,null,null,0]
[null,null,null,null,null,null,null,null,null,null,0]
[null,null,null,null,null,null,null,null,null,null,0]
[null,null,null,null,null,null,null,null,null,null,0]
[null,null,null,null,null,null,null,null,null,null,0]
[null,null,null,null,null,null,null,null,null,null,0]
[null,null,null,null,null,null,null,null,null,null,0]
[null,null,null,null,null,null,null,null,null,null,0]
[null,null,null,null,null,null,null,null,null,null,0]
[null,null,null,null,null,null,null,null,null,null,0]
[null,null,null,null,null,null,null,null,null,null,{"$f":"SUM(C123:J123)","v":0}]
[null,null,null,null,null,null,null,null,null,null,{"$f":"SUM(C124:J124)","v":0}]
[null,null,null,null,null,null,null,null,null,null,0]
[null,null,null,null,null,null,null,null,null,null,0]
[null,null,null,null,null,null,null,null,null,null,0]
[null,null,null,null,null,null,null,null,null,null,0]
[null,null,null,null,null,null,null,null,null,null,0]
[null,null,null,null,null,null,null,null,null,null,0]
[null,null,null,null,null,null,null,null,null,null,0]
[null,null,null,null,null,null,null,null,null,null,0]
[null,null,null,null,null,null,null,null,null,null,0]
[null,null,null,null,null,null,null,null,null,null,0]
[null,null,null,null,null,null,null,null,null,null,0]
[null,null,null,null,null,null,null,null,null,null,0]
[null,null,null,null,null,null,null,null,null,null,0]
[null,null,null,null,null,null,null,null,null,null,0]
[null,null,null,null,null,null,null,null,null,null,0]
[null,null,null,null,null,null,null,null,null,null,0]
[null,null,null,null,null,null,null,null,null,null,0]
[null,null,null,null,null,null,null,null,null,null,0]
[null,null,null,null,null,null,null,null,null,null,0]
[null,null,null,null,null,null,null,null,null,null,0]
[null,null,null,null,null,null,null,null,null,null,0]
[null,null,null,null,null,null,null,null,null,null,0]
[null,null,null,null,null,null,null,null,null,null,0]
["TOT Jour",null,{"$f":"SUM(C98:C147)","v":0},{"$f":"SUM(D98:D147)","v":0},0,0,0,0,0,0]
["TOT Période",null,{"$f":"SUM(C148:J148)","v":0}]
[{"$f":"B9","v":"Oh"}]
[]
[]
["Période :",{"$f":"Accueil!E16","v":"P3"},{"$f":"Accueil!$F16","v":"du"},{"$f":"Accueil!$G16","v":"2015-01-04"},{"$f":"Accueil!$H16","v":"au"},{"$f":"Accueil!$I16","v":"2015-02-20"}]
["Selectionnez la classe participant à l'atelier :"]
["NOM","Prénom",{"$f":"Accueil!B43","v":"2015-01-05"},{"$f":"Accueil!C43","v":"2015-01-06"},{"$f":"Accueil!D43","v":"2015-01-07"},{"$f":"Accueil!E43","v":"2015-01-08"},{"$f":"Accueil!F43","v":"2015-01-09"},{"$f":"Accueil!G43","v":"2015-01-10"},{"$f":"Accueil!H43","v":"2015-01-11"},{"$f":"Accueil!I43","v":"2015-01-11"},"TOT"]
[null,null,null,null,null,null,null,null,null,null,{"$f":"SUM(C156:J156)","v":0}]
[null,null,null,null,null,null,null,null,null,null,{"$f":"SUM(C157:J157)","v":0}]
[null,null,null,null,null,null,null,null,null,null,0]
[null,null,null,null,null,null,null,null,null,null,0]
[null,null,null,null,null,null,null,null,null,null,0]
[null,null,null,null,null,null,null,null,null,null,0]
[null,null,null,null,null,null,null,null,null,null,0]
[null,null,null,null,null,null,null,null,null,null,0]
[null,null,null,null,null,null,null,null,null,null,0]
[null,null,null,null,null,null,null,null,null,null,0]
[null,null,null,null,null,null,null,null,null,null,0]
[null,null,null,null,null,null,null,null,null,null,0]
[null,null,null,null,null,null,null,null,null,null,0]
[null,null,null,null,null,null,null,null,null,null,0]
[null,null,null,null,null,null,null,null,null,null,0]
[null,null,null,null,null,null,null,null,null,null,0]
[null,null,null,null,null,null,null,null,null,null,0]
[null,null,null,null,null,null,null,null,null,null,0]
[null,null,null,null,null,null,null,null,null,null,0]
[null,null,null,null,null,null,null,null,null,null,0]
[null,null,null,null,null,null,null,null,null,null,0]
[null,null,null,null,null,null,null,null,null,null,0]
[null,null,null,null,null,null,null,null,null,null,0]
[null,null,null,null,null,null,null,null,null,null,0]
[null,null,null,null,null,null,null,null,null,null,0]
[null,null,null,null,null,null,null,null,null,null,{"$f":"SUM(C181:J181)","v":0}]
[null,null,null,null,null,null,null,null,null,null,{"$f":"SUM(C182:J182)","v":0}]
[null,null,null,null,null,null,null,null,null,null,0]
[null,null,null,null,null,null,null,null,null,null,0]
[null,null,null,null,null,null,null,null,null,null,0]
[null,null,null,null,null,null,null,null,null,null,0]
[null,null,null,null,null,null,null,null,null,null,0]
[null,null,null,null,null,null,null,null,null,null,0]
[null,null,null,null,null,null,null,null,null,null,0]
[null,null,null,null,null,null,null,null,null,null,0]
[null,null,null,null,null,null,null,null,null,null,0]
[null,null,null,null,null,null,null,null,null,null,0]
[null,null,null,null,null,null,null,null,null,null,0]
[null,null,null,null,null,null,null,null,null,null,0]
[null,null,null,null,null,null,null,null,null,null,0]
[null,null,null,null,null,null,null,null,null,null,0]
[null,null,null,null,null,null,null,null,null,null,0]
[null,null,null,null,null,null,null,null,null,null,0]
[null,null,null,null,null,null,null,null,null,null,0]
[null,null,null,null,null,null,null,null,null,null,0]
[null,null,null,null,null,null,null,null,null,null,0]
[null,null,null,null,null,null,null,null,null,null,0]
[null,null,null,null,null,null,null,null,null,null,0]
[null,null,null,null,null,null,null,null,null,null,0]
[null,null,null,null,null,null,null,null,null,null,0]
["TOT Jour",null,{"$f":"SUM(C156:C205)","v":0},{"$f":"SUM(D156:D205)","v":0},0,0,0,0,0,0]
["TOT Période",null,{"$f":"SUM(C206:J206)","v":0}]
[{"$f":"B9","v":"Oh"}]
[]
[]
["Période :",{"$f":"Accueil!E18","v":"P4"},{"$f":"Accueil!$F18","v":"du"},{"$f":"Accueil!$G18","v":"2015-03-08"},{"$f":"Accueil!$H18","v":"au"},{"$f":"Accueil!$I18","v":"2015-04-15"}]
["Selectionnez la classe participant à l'atelier :"]
["NOM","Prénom",{"$f":"Accueil!B45","v":"2015-03-09"},{"$f":"Accueil!C45","v":"2015-03-10"},{"$f":"Accueil!D45","v":"2015-03-11"},{"$f":"Accueil!E45","v":"2015-03-12"},{"$f":"Accueil!F45","v":"2015-03-13"},{"$f":"Accueil!G45","v":"2015-03-14"},{"$f":"Accueil!H45","v":"2015-03-15"},{"$f":"Accueil!I45","v":"2015-03-15"},"TOT"]
[null,null,null,null,null,null,null,null,null,null,{"$f":"SUM(C214:J214)","v":0}]
[null,null,null,null,null,null,null,null,null,null,{"$f":"SUM(C215:J215)","v":0}]
[null,null,null,null,null,null,null,null,null,null,0]
[null,null,null,null,null,null,null,null,null,null,0]
[null,null,null,null,null,null,null,null,null,null,0]
[null,null,null,null,null,null,null,null,null,null,0]
[null,null,null,null,null,null,null,null,null,null,0]
[null,null,null,null,null,null,null,null,null,null,0]
[null,null,null,null,null,null,null,null,null,null,0]
[null,null,null,null,null,null,null,null,null,null,0]
[null,null,null,null,null,null,null,null,null,null,0]
[null,null,null,null,null,null,null,null,null,null,0]
[null,null,null,null,null,null,null,null,null,null,0]
[null,null,null,null,null,null,null,null,null,null,0]
[null,null,null,null,null,null,null,null,null,null,0]
[null,null,null,null,null,null,null,null,null,null,0]
[null,null,null,null,null,null,null,null,null,null,0]
[null,null,null,null,null,null,null,null,null,null,0]
[null,null,null,null,null,null,null,null,null,null,0]
[null,null,null,null,null,null,null,null,null,null,0]
[null,null,null,null,null,null,null,null,null,null,0]
[null,null,null,null,null,null,null,null,null,null,0]
[null,null,null,null,null,null,null,null,null,null,0]
[null,null,null,null,null,null,null,null,null,null,0]
[null,null,null,null,null,null,null,null,null,null,0]
[null,null,null,null,null,null,null,null,null,null,{"$f":"SUM(C239:J239)","v":0}]
[null,null,null,null,null,null,null,null,null,null,{"$f":"SUM(C240:J240)","v":0}]
[null,null,null,null,null,null,null,null,null,null,0]
[null,null,null,null,null,null,null,null,null,null,0]
[null,null,null,null,null,null,null,null,null,null,0]
[null,null,null,null,null,null,null,null,null,null,0]
[null,null,null,null,null,null,null,null,null,null,0]
[null,null,null,null,null,null,null,null,null,null,0]
[null,null,null,null,null,null,null,null,null,null,0]
[null,null,null,null,null,null,null,null,null,null,0]
[null,null,null,null,null,null,null,null,null,null,0]
[null,null,null,null,null,null,null,null,null,null,0]
[null,null,null,null,null,null,null,null,null,null,0]
[null,null,null,null,null,null,null,null,null,null,0]
[null,null,null,null,null,null,null,null,null,null,0]
[null,null,null,null,null,null,null,null,null,null,0]
[null,null,null,null,null,null,null,null,null,null,0]
[null,null,null,null,null,null,null,null,null,null,0]
[null,null,null,null,null,null,null,null,null,null,0]
[null,null,null,null,null,null,null,null,null,null,0]
[null,null,null,null,null,null,null,null,null,null,0]
[null,null,null,null,null,null,null,null,null,null,0]
[null,null,null,null,null,null,null,null,null,null,0]
[null,null,null,null,null,null,null,null,null,null,0]
[null,null,null,null,null,null,null,null,null,null,0]
["TOT Jour",null,{"$f":"SUM(C214:C263)","v":0},{"$f":"SUM(D214:D263)","v":0},0,0,0,0,0,0]
["TOT Période",null,{"$f":"SUM(C264:J264)","v":0}]
[{"$f":"B9","v":"Oh"}]
[]
[]
["Période :",{"$f":"Accueil!E20","v":"P5"},{"$f":"Accueil!$F20","v":"du"},{"$f":"Accueil!$G20","v":"2015-05-03"},{"$f":"Accueil!$H20","v":"au"},{"$f":"Accueil!$I20","v":"2015-07-03"}]
["Selectionnez la classe participant à l'atelier :"]
["NOM","Prénom",{"$f":"Accueil!B47","v":"2015-05-04"},{"$f":"Accueil!C47","v":"2015-05-05"},{"$f":"Accueil!D47","v":"2015-05-06"},{"$f":"Accueil!E47","v":"2015-05-07"},{"$f":"Accueil!F47","v":"2015-05-08"},{"$f":"Accueil!G47","v":"2015-05-09"},{"$f":"Accueil!H47","v":"2015-05-10"},{"$f":"Accueil!I47","v":"2015-05-10"},"TOT"]
[null,null,null,null,null,null,null,null,null,null,{"$f":"SUM(C272:J272)","v":0}]
[null,null,null,null,null,null,null,null,null,null,{"$f":"SUM(C273:J273)","v":0}]
[null,null,null,null,null,null,null,null,null,null,0]
[null,null,null,null,null,null,null,null,null,null,0]
[null,null,null,null,null,null,null,null,null,null,0]
[null,null,null,null,null,null,null,null,null,null,0]
[null,null,null,null,null,null,null,null,null,null,0]
[null,null,null,null,null,null,null,null,null,null,0]
[null,null,null,null,null,null,null,null,null,null,0]
[null,null,null,null,null,null,null,null,null,null,0]
[null,null,null,null,null,null,null,null,null,null,0]
[null,null,null,null,null,null,null,null,null,null,0]
[null,null,null,null,null,null,null,null,null,null,0]
[null,null,null,null,null,null,null,null,null,null,0]
[null,null,null,null,null,null,null,null,null,null,0]
[null,null,null,null,null,null,null,null,null,null,0]
[null,null,null,null,null,null,null,null,null,null,0]
[null,null,null,null,null,null,null,null,null,null,0]
[null,null,null,null,null,null,null,null,null,null,0]
[null,null,null,null,null,null,null,null,null,null,0]
[null,null,null,null,null,null,null,null,null,null,0]
[null,null,null,null,null,null,null,null,null,null,0]
[null,null,null,null,null,null,null,null,null,null,0]
[null,null,null,null,null,null,null,null,null,null,0]
[null,null,null,null,null,null,null,null,null,null,0]
[null,null,null,null,null,null,null,null,null,null,{"$f":"SUM(C297:J297)","v":0}]
[null,null,null,null,null,null,null,null,null,null,{"$f":"SUM(C298:J298)","v":0}]
[null,null,null,null,null,null,null,null,null,null,0]
[null,null,null,null,null,null,null,null,null,null,0]
[null,null,null,null,null,null,null,null,null,null,0]
[null,null,null,null,null,null,null,null,null,null,0]
[null,null,null,null,null,null,null,null,null,null,0]
[null,null,null,null,null,null,null,null,null,null,0]
[null,null,null,null,null,null,null,null,null,null,0]
[null,null,null,null,null,null,null,null,null,null,0]
[null,null,null,null,null,null,null,null,null,null,0]
[null,null,null,null,null,null,null,null,null,null,0]
[null,null,null,null,null,null,null,null,null,null,0]
[null,null,null,null,null,null,null,null,null,null,0]
[null,null,null,null,null,null,null,null,null,null,0]
[null,null,null,null,null,null,null,null,null,null,0]
[null,null,null,null,null,null,null,null,null,null,0]
[null,null,null,null,null,null,null,null,null,null,0]
[null,null,null,null,null,null,null,null,null,null,0]
[null,null,null,null,null,null,null,null,null,null,0]
[null,null,null,null,null,null,null,null,null,null,0]
[null,null,null,null,null,null,null,null,null,null,0]
[null,null,null,null,null,null,null,null,null,null,0]
[null,null,null,null,null,null,null,null,null,null,0]
[null,null,null,null,null,null,null,null,null,null,0]
["TOT Jour",null,{"$f":"SUM(C272:C321)","v":0},{"$f":"SUM(D272:D321)","v":0},0,0,0,0,0,0]
["TOT Période",null,{"$f":"SUM(C322:J322)","v":0}]
["Statistiques"]
[]
[]
["Nombre d'heure de fréquentation :"]
[{"$f":"Accueil!$E12","v":"P1"},{"$f":"$C$91*1.5","v":0},"heures de présence pour cet atelier et pour cette période"]
[{"$f":"Accueil!$E14","v":"P2"},{"$f":"$C$149*1.5","v":0},"heures de présence pour cet atelier et pour cette période"]
[{"$f":"Accueil!$E16","v":"P3"},{"$f":"$C$207*1.5","v":0},"heures de présence pour cet atelier et pour cette période"]
[{"$f":"Accueil!$E18","v":"P4"},{"$f":"$C$265*1.5","v":0},"heures de présence pour cet atelier et pour cette période"]
[{"$f":"Accueil!$E20","v":"P5"},{"$f":"$C$323*1.5","v":0},"heures de présence pour cet atelier et pour cette période"]
["TOT",{"$f":"SUM($B$328:$B$332)","v":0},"heures de présence pour cet atelier et pour l'année"]

{"sheet":"CP Mme Aara","index":31,"n_rows":28,"n_cols":13,"rows_kept":28,"cut":false,"hidden":false,"merged":[[0,0,1,12],[5,11,5,12],[5,3,5,4],[5,5,5,6],[5,7,5,8],[5,9,5,10]]}
["CP Mme Aara"]
[]
[]
[]
[]
["Nombre d'enfants",{"$f":"SUM(COUNTA(A8:A28))","v":21},null,"Atelier P1",null,"Atelier P2",null,"Atelier P3",null,"Atelier P4",null,"Atelier P5"]
["NOM","Prénom","Niveau","Lundi","Jeudi","Lundi","Jeudi","Lundi","Jeudi","Lundi","Jeudi","Lundi","Jeudi"]
["Aara ","Alban","CP"]
["Aaren ","Nathan","CP"]
["Aarika ","Yoan","CP"]
["Aaron ","Chloé","CP"]
["Ab ","Amélie","CP"]
["Aba ","Johan","CP"]
["Abagael ","Luke","CP"]
["Abagail ","Lucie","CP"]
["Abana ","Noémie","CP"]
["Abba ","Yanis","CP"]
["Abbe ","Thalia","CP"]
["Abbey ","Arthur","CP"]
["Abbi ","Woody","CP"]
["Abbie ","Alyssa","CP"]
["Abbot ","Antonin","CP"]
["Abbotsen ","Louanne","CP"]
["Abbotson ","Samia","CP"]
["Abbotsun ","Clarence","CP"]
["Abbott ","Gabriel","CP"]
["Abbottson ","Jade","CP"]
["Abby ","Mathéo","CP"]

{"sheet":"CP-CE1 Mme Krishna","index":32,"n_rows":27,"n_cols":13,"rows_kept":27,"cut":false,"hidden":false,"merged":[[0,0,1,12],[5,9,5,10],[5,11,5,12],[5,0,5,2],[5,3,5,4],[5,5,5,6],[5,7,5,8]]}
["CP-CE1 Mme Krishna"]
[]
[]
[]
[]
[{"$f":"SUM(COUNTA(A8:A39))","v":20},null,null,{"$f":"'CP Mme Aara'!D6:E6","v":"Atelier P1"},null,{"$f":"'CP Mme Aara'!F6:G6","v":"Atelier P2"},null,{"$f":"'CP Mme Aara'!H6:I6","v":"Atelier P3"},null,{"$f":"'CP Mme Aara'!J6:K6","v":"Atelier P4"},null,{"$f":"'CP Mme Aara'!L6:M6","v":"Atelier P5"}]
["NOM","Prénom","Niveau","Lundi","Jeudi","Lundi","Jeudi","Lundi","Jeudi","Lundi","Jeudi","Lundi","Jeudi"]
["Krishna ","Manon","CP"]
["Krishnah ","Alexandre","CP"]
["Krispin ","Lukas","CP"]
["Kriss ","Gaëtane","CP"]
["Krissie ","Maïa","CP"]
["Krissy ","Bastien","CP"]
["Krista ","Nathanaël","CP"]
["Kristal ","Milo","CP"]
["Kristan ","Julie","CP"]
["Kristel ","Lou-Ann","CE1"]
["Kristen ","Lilou","CE1"]
["Kristi ","Cléo","CE1"]
["Kristian ","Alycia","CE1"]
["Kristie ","Emilie","CE1"]
["Kristin ","Lily","CE1"]
["Kristina ","Clara","CE1"]
["Kristine ","Kinsley","CE1"]
["Kristo ","Eloïse","CE1"]
["Kristofer ","Killian","CE1"]
["Kristoffer ","Zoé","CE1"]

{"sheet":"CE1 Mme La","index":33,"n_rows":29,"n_cols":13,"rows_kept":29,"cut":false,"hidden":false,"merged":[[0,0,1,12],[5,9,5,10],[5,11,5,12],[5,0,5,2],[5,3,5,4],[5,5,5,6],[5,7,5,8]]}
["CE1 Mme La"]
[]
[]
[]
[]
[{"$f":"SUM(COUNTA(A8:A39))","v":22},null,null,{"$f":"'CP Mme Aara'!D6:E6","v":"Atelier P1"},null,{"$f":"'CP Mme Aara'!F6:G6","v":"Atelier P2"},null,{"$f":"'CP Mme Aara'!H6:I6","v":"Atelier P3"},null,{"$f":"'CP Mme Aara'!J6:K6","v":"Atelier P4"},null,{"$f":"'CP Mme Aara'!L6:M6","v":"Atelier P5"}]
["NOM","Prénom","Niveau","Lundi","Jeudi","Lundi","Jeudi","Lundi","Jeudi","Lundi","Jeudi","Lundi","Jeudi"]
["La ","Marvin","CE1"]
["Laban ","Andréa","CE1"]
["Labana ","Pippa","CE1"]
["Labanna ","Lilou","CE1"]
["Labannah ","Camille","CE1"]
["Lacee ","Savana","CE1"]
["Lacey ","Eloïse","CE1"]
["Lach ","Maëva","CE1"]
["Lachish ","Jérémie","CE1"]
["Lachlan ","Anaïs","CE1"]
["Lachus ","Maria","CE1"]
["Lacie ","Maélice","CE1"]
["Lad ","Maud","CE1"]
["Ladd ","Bastien","CE1"]
["Laddie ","Clément","CE1"]
["Laddy ","Alexis","CE1"]
["Ladonna ","Erwan","CE1"]
["Lady ","Solaine","CE1"]
["Lael ","Imanol","CE1"]
["Laetitia ","Loli","CE1"]
["Lai ","Mathéo","CE1"]
["Lail ","Louna","CE1"]

{"sheet":"CE1-CE2 Mme Machute","index":34,"n_rows":27,"n_cols":13,"rows_kept":27,"cut":false,"hidden":false,"merged":[[0,0,1,12],[5,9,5,10],[5,11,5,12],[5,0,5,2],[5,3,5,4],[5,5,5,6],[5,7,5,8]]}
["CE1-CE2 Mme Machute"]
[]
[]
[]
[]
[{"$f":"SUM(COUNTA(A8:A39))","v":20},null,null,{"$f":"'CP Mme Aara'!D6:E6","v":"Atelier P1"},null,{"$f":"'CP Mme Aara'!F6:G6","v":"Atelier P2"},null,{"$f":"'CP Mme Aara'!H6:I6","v":"Atelier P3"},null,{"$f":"'CP Mme Aara'!J6:K6","v":"Atelier P4"},null,{"$f":"'CP Mme Aara'!L6:M6","v":"Atelier P5"}]
["NOM","Prénom","Niveau","Lundi","Jeudi","Lundi","Jeudi","Lundi","Jeudi","Lundi","Jeudi","Lundi","Jeudi"]
["Machute ","Romain","CE1"]
["Mack ","Soléane","CE1"]
["Mackenzie ","Léopold","CE1"]
["Macknair ","Gaël","CE1"]
["Macnair ","Maud","CE1"]
["Macy ","Emma","CE1"]
["Mada ","Tifenn","CE1"]
["Madai ","Gabrielle","CE2"]
["Madaih ","Yanis","CE2"]
["Madalena ","Lise","CE2"]
["Madalyn ","Léanna","CE2"]
["Maddalena ","Logan","CE2"]
["Maddi ","Chloé","CE2"]
["Maddie ","Daisy","CE2"]
["Maddis ","Noah","CE2"]
["Maddock ","Pierre","CE2"]
["Maddox ","Justin","CE2"]
["Maddy ","Ambre","CE2"]
["Madea ","Antonin","CE2"]
["Madel ","Mattéo","CE2"]

{"sheet":"CE2 Mme Nahshon","index":35,"n_rows":33,"n_cols":13,"rows_kept":33,"cut":false,"hidden":false,"merged":[[0,0,1,12],[5,9,5,10],[5,11,5,12],[5,0,5,2],[5,3,5,4],[5,5,5,6],[5,7,5,8]]}
["CE2 Mme Nahshon"]
[]
[]
[]
[]
[{"$f":"SUM(COUNTA(A8:A39))","v":26},null,null,{"$f":"'CP Mme Aara'!D6:E6","v":"Atelier P1"},null,{"$f":"'CP Mme Aara'!F6:G6","v":"Atelier P2"},null,{"$f":"'CP Mme Aara'!H6:I6","v":"Atelier P3"},null,{"$f":"'CP Mme Aara'!J6:K6","v":"Atelier P4"},null,{"$f":"'CP Mme Aara'!L6:M6","v":"Atelier P5"}]
["NOM","Prénom","Niveau","Lundi","Jeudi","Lundi","Jeudi","Lundi","Jeudi","Lundi","Jeudi","Lundi","Jeudi"]
["Nahshon ","Simon","CE2"]
["Nahshu ","Mathis","CE2"]
["Nahshun ","Louis","CE2"]
["Nahshunn ","Mathéo","CE2"]
["Nahtanha ","Andy","CE2"]
["Nahum ","Antony","CE2"]
["Nalani ","Justine","CE2"]
["Naldo ","Johanna","CE2"]
["Nalor ","Lucas","CE2"]
["Nam ","Marie","CE2"]
["Naman ","Alycia","CE2"]
["Nan ","Benjamin","CE2"]
["Nana ","Elouan","CE2"]
["Nance ","Lucas","CE2"]
["Nancee ","Fanny","CE2"]
["Nancey ","Eva","CE2"]
["Nanci ","Ewan","CE2"]
["Nancie ","Samuel","CE2"]
["Nancy ","Léa","CE2"]
["Nandor ","Lucie","CE2"]
["Nanete ","Maeva","CE2"]
["Nanette ","Louis","CE2"]
["Nani ","Océane","CE2"]
["Nanice ","Paul","CE2"]
["Nanine ","Mathias","CE2"]
["Nanni ","Lucas","CE2"]

{"sheet":"CM1 M. Obel","index":36,"n_rows":32,"n_cols":13,"rows_kept":32,"cut":false,"hidden":false,"merged":[[0,0,1,12],[5,9,5,10],[5,11,5,12],[5,0,5,2],[5,3,5,4],[5,5,5,6],[5,7,5,8]]}
["CM1 M. Obel"]
[]
[]
[]
[]
[{"$f":"SUM(COUNTA(A8:A39))","v":25},null,null,{"$f":"'CP Mme Aara'!D6:E6","v":"Atelier P1"},null,{"$f":"'CP Mme Aara'!F6:G6","v":"Atelier P2"},null,{"$f":"'CP Mme Aara'!H6:I6","v":"Atelier P3"},null,{"$f":"'CP Mme Aara'!J6:K6","v":"Atelier P4"},null,{"$f":"'CP Mme Aara'!L6:M6","v":"Atelier P5"}]
["NOM","Prénom","Niveau","Lundi","Jeudi","Lundi","Jeudi","Lundi","Jeudi","Lundi","Jeudi","Lundi","Jeudi"]
["Obel ","Quentin","CM1"]
["Obelia ","Hugo","CM1"]
["Obellia ","Gabriel","CM1"]
["Oberon ","Tom","CM1"]
["Obie ","Adrien","CM1"]
["Obla ","Mathis","CM1"]
["Obola ","Noémie","CM1"]
["Oby ","Morgane","CM1"]
["Octave ","Florian","CM1"]
["Octavia ","Maelys","CM1"]
["Octavian ","Solenn","CM1"]
["Octavie ","Jeanne","CM1"]
["Octavius ","Quentin","CM1"]
["Octavus ","Cornélia","CM1"]
["Odab ","Rafaël","CM1"]
["Ode ","Charlotte","CM1"]
["Odeen ","Victor","CM1"]
["Odel ","Adrien","CM1"]
["Odele ","Lucie","CM1"]
["Odelet ","Maxime","CM1"]
["Odelia ","Florian","CM1"]
["Odelinda ","Agathe","CM1"]
["Odell ","Ghislain","CM1"]
["Odella ","Zoé","CM1"]
["Odelle ","Cindy","CM1"]

{"sheet":"CM1-CM2 M. Paola","index":37,"n_rows":30,"n_cols":13,"rows_kept":30,"cut":false,"hidden":false,"merged":[[0,0,1,12],[5,9,5,10],[5,11,5,12],[5,0,5,2],[5,3,5,4],[5,5,5,6],[5,7,5,8]]}
["CM1-CM2 M. Paola"]
[]
[]
[]
[]
[{"$f":"SUM(COUNTA(A8:A39))","v":23},null,null,{"$f":"'CP Mme Aara'!D6:E6","v":"Atelier P1"},null,{"$f":"'CP Mme Aara'!F6:G6","v":"Atelier P2"},null,{"$f":"'CP Mme Aara'!H6:I6","v":"Atelier P3"},null,{"$f":"'CP Mme Aara'!J6:K6","v":"Atelier P4"},null,{"$f":"'CP Mme Aara'!L6:M6","v":"Atelier P5"}]
["NOM","Prénom","Niveau","Lundi","Jeudi","Lundi","Jeudi","Lundi","Jeudi","Lundi","Jeudi","Lundi","Jeudi"]
["Paola ","Sacha","CM1"]
["Paolina ","Sophie","CM1"]
["Paolo ","Léa","CM1"]
["Paquito ","Eva","CM1"]
["Park ","Noa","CM1"]
["Parke ","Mathis","CM1"]
["Parker ","Andy","CM1"]
["Parnell ","Manon","CM1"]
["Parrie ","Lucie","CM1"]
["Parrisch ","Arthur","CM1"]
["Parrish ","Kalvin","CM2"]
["Parrnell ","Clélia","CM2"]
["Parry ","Eva","CM2"]
["Parsifal ","Aléxia","CM2"]
["Parthen ","Maxence","CM2"]
["Parthena ","Justine","CM2"]
["Parthenia ","Gaëtan","CM2"]
["Parthinia ","Florence","CM2"]
["Pascal ","Océane","CM2"]
["Pascale ","Flore","CM2"]
["Pascasia ","Sacha","CM2"]
["Pascha ","Alexis","CM2"]
["Paschasia ","Nathan","CM2"]

{"sheet":"CM2 M. Quartet","index":38,"n_rows":32,"n_cols":13,"rows_kept":32,"cut":false,"hidden":false,"merged":[[0,0,1,12],[5,9,5,10],[5,11,5,12],[5,0,5,2],[5,3,5,4],[5,5,5,6],[5,7,5,8]]}
["CM2 M. Quartet"]
[]
[]
[]
[]
[{"$f":"SUM(COUNTA(A8:A39))","v":25},null,null,{"$f":"'CP Mme Aara'!D6:E6","v":"Atelier P1"},null,{"$f":"'CP Mme Aara'!F6:G6","v":"Atelier P2"},null,{"$f":"'CP Mme Aara'!H6:I6","v":"Atelier P3"},null,{"$f":"'CP Mme Aara'!J6:K6","v":"Atelier P4"},null,{"$f":"'CP Mme Aara'!L6:M6","v":"Atelier P5"}]
["NOM","Prénom","Niveau","Lundi","Jeudi","Lundi","Jeudi","Lundi","Jeudi","Lundi","Jeudi","Lundi","Jeudi"]
["Quartet ","Manon","CM2"]
["Quartis ","Léo","CM2"]
["Quartus ","Alexandre","CM2"]
["Queena ","Morgane","CM2"]
["Quenby ","Mathys","CM2"]
["Quenna ","Axel","CM2"]
["Quennie ","Lilian","CM2"]
["Quent ","Yanis","CM2"]
["Quentin ","Maëva","CM2"]
["Queri ","Mélina","CM2"]
["Querida ","Auxane","CM2"]
["Queridas ","Emmy","CM2"]
["Questa ","Edwin","CM2"]
["Quill ","Lucas","CM2"]
["Quillan ","Bérénice","CM2"]
["Quinby ","Célinda","CM2"]
["Quincy ","Alexandre","CM2"]
["Quinlan ","Axelle","CM2"]
["Quinn ","Théa","CM2"]
["Quint ","Sarah","CM2"]
["Quinta ","Matea","CM2"]
["Quintana ","Giovany","CM2"]
["Quintessa ","Shana","CM2"]
["Quintie ","Antonin","CM2"]
["Quintilla ","Clément","CM2"]

{"sheet":"CLIS Mme Raeann","index":39,"n_rows":19,"n_cols":13,"rows_kept":19,"cut":false,"hidden":false,"merged":[[0,0,1,12],[5,9,5,10],[5,11,5,12],[5,0,5,2],[5,3,5,4],[5,5,5,6],[5,7,5,8]]}
["CLIS Mme Raeann"]
[]
[]
[]
[]
[{"$f":"SUM(COUNTA(A8:A39))","v":12},null,null,{"$f":"'CP Mme Aara'!D6:E6","v":"Atelier P1"},null,{"$f":"'CP Mme Aara'!F6:G6","v":"Atelier P2"},null,{"$f":"'CP Mme Aara'!H6:I6","v":"Atelier P3"},null,{"$f":"'CP Mme Aara'!J6:K6","v":"Atelier P4"},null,{"$f":"'CP Mme Aara'!L6:M6","v":"Atelier P5"}]
["NOM","Prénom","Niveau","Lundi","Jeudi","Lundi","Jeudi","Lundi","Jeudi","Lundi","Jeudi","Lundi","Jeudi"]
["Raeann ","Pédro","Clis"]
["Rafa ","Laura","Clis"]
["Rafael ","Evan","Clis"]
["Rafaela ","Aurélien","Clis"]
["Rafaelia ","Eléna","Clis"]
["Rafaelle ","Diego","Clis"]
["Rafaello ","Hortanse","Clis"]
["Rafe ","Evan","Clis"]
["Raff ","Coleen","Clis"]
["Raffaello ","Raphaël","Clis"]
["Raffarty ","Alison","Clis"]
["Rafferty ","Owena","Clis"]

{"sheet":"Statistiques","index":40,"n_rows":60,"n_cols":11,"rows_kept":60,"cut":false,"hidden":false,"merged":[[1,1,8,9],[11,0,12,10],[13,1,13,2],[13,3,13,4],[13,5,13,6],[13,7,13,8],[13,9,13,10],[52,0,53,10],[33,0,34,10],[35,1,35,2],[35,3,35,4],[35,5,35,6],[35,7,35,8],[35,9,35,10]]}
[]
[null,"Statistiques"]
[]
[]
[]
[]
[]
[]
[]
[]
[]
["Statistiques Lundi"]
[]
[null,"Période 1",null,"Période 2",null,"Période 3",null,"Période 4",null,"Période 5"]
[{"$f":"Accueil!B5","v":"Machin"},{"$f":"SUM(Machin!$B$328)","v":0},"heures",{"$f":"SUM(Machin!B$329)","v":0},"heures",{"$f":"SUM(Machin!B$330)","v":0},"heures",{"$f":"SUM(Machin!B$331)","v":0},"heures",{"$f":"SUM(Machin!B$332)","v":0},"heures"]
[{"$f":"Accueil!B6","v":"Deuxième atelier"},{"$f":"SUM('Deuxième atelier'!$B$328)","v":0},{"$f":"C$15","v":"heures"},{"$f":"SUM('Deuxième atelier'!B$329)","v":0},{"$f":"E$15","v":"heures"},{"$f":"SUM('Deuxième atelier'!B$330)","v":0},{"$f":"G$15","v":"heures"},{"$f":"SUM('Deuxième atelier'!B$331)","v":0},{"$f":"I$15","v":"heures"},{"$f":"SUM('Deuxième atelier'!B$332)","v":0},{"$f":"K$15","v":"heures"}]
[{"$f":"Accueil!B7","v":"Etc…"},{"$f":"SUM(Etc…!$B$328)","v":0},{"$f":"C$15","v":"heures"},{"$f":"SUM(Etc…!B$329)","v":0},{"$f":"E$15","v":"heures"},{"$f":"SUM(Etc…!B$330)","v":0},{"$f":"G$15","v":"heures"},{"$f":"SUM(Etc…!B$331)","v":0},{"$f":"I$15","v":"heures"},{"$f":"SUM(Etc…!B$332)","v":0},{"$f":"K$15","v":"heures"}]
[{"$f":"Accueil!B8","v":"Mouchoirs"},{"$f":"SUM(Mouchoirs!$B$328)","v":0},"heures",{"$f":"SUM(Mouchoirs!B$329)","v":0},"heures",{"$f":"SUM(Mouchoirs!B$330)","v":0},"heures",{"$f":"SUM(Mouchoirs!B$331)","v":0},"heures",{"$f":"SUM(Mouchoirs!B$332)","v":0},"heures"]
[{"$f":"Accueil!B9","v":"Lego"},{"$f":"SUM(Lego!$B$328)","v":0},"heures",{"$f":"SUM(Lego!B$329)","v":0},"heures",{"$f":"SUM(Lego!B$330)","v":0},"heures",{"$f":"SUM(Lego!B$331)","v":0},"heures",{"$f":"SUM(Lego!B$332)","v":0},"heures"]
[{"$f":"Accueil!B10","v":"Canard"},{"$f":"SUM(Canard!$B$328)","v":0},"heures",{"$f":"SUM(Canard!B$329)","v":0},"heures",{"$f":"SUM(Canard!B$330)","v":0},"heures",{"$f":"SUM(Canard!B$331)","v":0},"heures",{"$f":"SUM(Canard!B$332)","v":0},"heures"]
[{"$f":"Accueil!B11","v":"Anglais"},{"$f":"SUM(Anglais!$B$328)","v":0},"heures",{"$f":"SUM(Anglais!B$329)","v":0},"heures",{"$f":"SUM(Anglais!B$330)","v":0},"heures",{"$f":"SUM(Anglais!B$331)","v":0},"heures",{"$f":"SUM(Anglais!B$332)","v":0},"heures"]
[{"$f":"Accueil!B12","v":"Bijoux"},{"$f":"SUM(Bijoux!$B$328)","v":0},"heures",{"$f":"SUM(Bijoux!B$329)","v":0},"heures",{"$f":"SUM(Bijoux!B$330)","v":0},"heures",{"$f":"SUM(Bijoux!B$331)","v":0},"heures",{"$f":"SUM(Bijoux!B$332)","v":0},"heures"]
[{"$f":"Accueil!B13","v":"Météorite"},{"$f":"SUM(Météorite!$B$328)","v":0},"heures",{"$f":"SUM(Météorite!B$329)","v":0},"heures",{"$f":"SUM(Météorite!B$330)","v":0},"heures",{"$f":"SUM(Météorite!B$331)","v":0},"heures",{"$f":"SUM(Météorite!B$332)","v":0},"heures"]
[{"$f":"Accueil!B14","v":"Poissons"},{"$f":"SUM(Poissons!$B$328)","v":0},"heures",{"$f":"SUM(Poissons!B$329)","v":0},"heures",{"$f":"SUM(Poissons!B$330)","v":0},"heures",{"$f":"SUM(Poissons!B$331)","v":0},"heures",{"$f":"SUM(Poissons!B$332)","v":0},"heures"]
[{"$f":"Accueil!B15","v":"Dauphin"},{"$f":"SUM(Dauphin!$B$328)","v":0},"heures",{"$f":"SUM(Dauphin!B$329)","v":0},"heures",{"$f":"SUM(Dauphin!B$330)","v":0},"heures",{"$f":"SUM(Dauphin!B$331)","v":0},"heures",{"$f":"SUM(Dauphin!B$332)","v":0},"heures"]
[{"$f":"Accueil!B16","v":"Excel"},{"$f":"SUM(Excel!$B$328)","v":0},"heures",{"$f":"SUM(Excel!B$329)","v":0},"heures",{"$f":"SUM(Excel!B$330)","v":0},"heures",{"$f":"SUM(Excel!B$331)","v":0},"heures",{"$f":"SUM(Excel!B$332)","v":0},"heures"]
[{"$f":"Accueil!B17","v":"Ordinateur"},{"$f":"SUM(Ordinateur!$B$328)","v":0},"heures",{"$f":"SUM(Ordinateur!B$329)","v":0},"heures",{"$f":"SUM(Ordinateur!B$330)","v":0},"heures",{"$f":"SUM(Ordinateur!B$331)","v":0},"heures",{"$f":"SUM(Ordinateur!B$332)","v":0},"heures"]
[{"$f":"Accueil!B18","v":"Piège"},{"$f":"SUM(Piège!$B$328)","v":0},"heures",{"$f":"SUM(Piège!B$329)","v":0},"heures",{"$f":"SUM(Piège!B$330)","v":0},"heures",{"$f":"SUM(Piège!B$331)","v":0},"heures",{"$f":"SUM(Piège!B$332)","v":0},"heures"]
[{"$f":"Accueil!B19","v":"Plantes"},{"$f":"SUM(Plantes!$B$328)","v":0},"heures",{"$f":"SUM(Plantes!B$329)","v":0},"heures",{"$f":"SUM(Plantes!B$330)","v":0},"heures",{"$f":"SUM(Plantes!B$331)","v":0},"heures",{"$f":"SUM(Plantes!B$332)","v":0},"heures"]
[]
[]
[]
[]
["Statistiques Jeudi"]
[]
[null,"Période 1",null,"Période 2",null,"Période 3",null,"Période 4",null,"Période 5"]
[{"$f":"Accueil!B20","v":"Truc"},{"$f":"SUM(Truc!$B$328)","v":0},"heures",{"$f":"SUM(Truc!B$329)","v":0},"heures",{"$f":"SUM(Truc!B$330)","v":0},"heures",{"$f":"SUM(Truc!B$331)","v":0},"heures",{"$f":"SUM(Truc!B$332)","v":0},"heures"]
[{"$f":"Accueil!B21","v":2},{"$f":"SUM('2'!$B$328)","v":0},{"$f":"C$15","v":"heures"},{"$f":"SUM('2'!B$329)","v":0},{"$f":"E$15","v":"heures"},{"$f":"SUM('2'!B$330)","v":0},{"$f":"G$15","v":"heures"},{"$f":"SUM('2'!B$331)","v":0},{"$f":"I$15","v":"heures"},{"$f":"SUM('2'!B$332)","v":0},{"$f":"K$15","v":"heures"}]
[{"$f":"Accueil!B22","v":3},{"$f":"SUM('3'!$B$328)","v":0},{"$f":"C$15","v":"heures"},{"$f":"SUM('3'!B$329)","v":0},{"$f":"E$15","v":"heures"},{"$f":"SUM('3'!B$330)","v":0},{"$f":"G$15","v":"heures"},{"$f":"SUM('3'!B$331)","v":0},{"$f":"I$15","v":"heures"},{"$f":"SUM('3'!B$332)","v":0},{"$f":"K$15","v":"heures"}]
[{"$f":"Accueil!B23","v":4},{"$f":"SUM('4'!$B$328)","v":0},"heures",{"$f":"SUM('4'!B$329)","v":0},"heures",{"$f":"SUM('4'!B$330)","v":0},"heures",{"$f":"SUM('4'!B$331)","v":0},"heures",{"$f":"SUM('4'!B$332)","v":0},"heures"]
[{"$f":"Accueil!B24","v":5},{"$f":"SUM('5'!$B$328)","v":0},"heures",{"$f":"SUM('5'!B$329)","v":0},"heures",{"$f":"SUM('5'!B$330)","v":0},"heures",{"$f":"SUM('5'!B$331)","v":0},"heures",{"$f":"SUM('5'!B$332)","v":0},"heures"]
[{"$f":"Accueil!B25","v":6},{"$f":"SUM('6'!$B$328)","v":0},"heures",{"$f":"SUM('6'!B$329)","v":0},"heures",{"$f":"SUM('6'!B$330)","v":0},"heures",{"$f":"SUM('6'!B$331)","v":0},"heures",{"$f":"SUM('6'!B$332)","v":0},"heures"]
[{"$f":"Accueil!B26","v":7},{"$f":"SUM('7'!$B$328)","v":0},"heures",{"$f":"SUM('7'!B$329)","v":0},"heures",{"$f":"SUM('7'!B$330)","v":0},"heures",{"$f":"SUM('7'!B$331)","v":0},"heures",{"$f":"SUM('7'!B$332)","v":0},"heures"]
[{"$f":"Accueil!B27","v":8},{"$f":"SUM('8'!$B$328)","v":0},"heures",{"$f":"SUM('8'!B$329)","v":0},"heures",{"$f":"SUM('8'!B$330)","v":0},"heures",{"$f":"SUM('8'!B$331)","v":0},"heures",{"$f":"SUM('8'!B$332)","v":0},"heures"]
[{"$f":"Accueil!B28","v":9},{"$f":"SUM('9'!$B$328)","v":0},"heures",{"$f":"SUM('9'!B$329)","v":0},"heures",{"$f":"SUM('9'!B$330)","v":0},"heures",{"$f":"SUM('9'!B$331)","v":0},"heures",{"$f":"SUM('9'!B$332)","v":0},"heures"]
[{"$f":"Accueil!B29","v":10},{"$f":"SUM('10'!$B$328)","v":0},"heures",{"$f":"SUM('10'!B$329)","v":0},"heures",{"$f":"SUM('10'!B$330)","v":0},"heures",{"$f":"SUM('10'!B$331)","v":0},"heures",{"$f":"SUM('10'!B$332)","v":0},"heures"]
[{"$f":"Accueil!B30","v":11},{"$f":"SUM('11'!$B$328)","v":0},"heures",{"$f":"SUM('11'!B$329)","v":0},"heures",{"$f":"SUM('11'!B$330)","v":0},"heures",{"$f":"SUM('11'!B$331)","v":0},"heures",{"$f":"SUM('11'!B$332)","v":0},"heures"]
[{"$f":"Accueil!B31","v":12},{"$f":"SUM('12'!$B$328)","v":0},"heures",{"$f":"SUM('12'!B$329)","v":0},"heures",{"$f":"SUM('12'!B$330)","v":0},"heures",{"$f":"SUM('12'!B$331)","v":0},"heures",{"$f":"SUM('12'!B$332)","v":0},"heures"]
[{"$f":"Accueil!B32","v":13},{"$f":"SUM('13'!$B$328)","v":0},"heures",{"$f":"SUM('13'!B$329)","v":0},"heures",{"$f":"SUM('13'!B$330)","v":0},"heures",{"$f":"SUM('13'!B$331)","v":0},"heures",{"$f":"SUM('13'!B$332)","v":0},"heures"]
[{"$f":"Accueil!B33","v":14},{"$f":"SUM('14'!$B$328)","v":0},"heures",{"$f":"SUM('14'!B$329)","v":0},"heures",{"$f":"SUM('14'!B$330)","v":0},"heures",{"$f":"SUM('14'!B$331)","v":0},"heures",{"$f":"SUM('14'!B$332)","v":0},"heures"]
[{"$f":"Accueil!B34","v":"Oh"},{"$f":"SUM(Oh!$B$328)","v":0},"heures",{"$f":"SUM(Oh!B$329)","v":0},"heures",{"$f":"SUM(Oh!B$330)","v":0},"heures",{"$f":"SUM(Oh!B$331)","v":0},"heures",{"$f":"SUM(Oh!B$332)","v":0},"heures"]
[]
["Statistiques globales"]
[]
[]
["Période 1","du",{"$f":"Accueil!G12","v":"2014-09-02"},"au",{"$f":"Accueil!I12","v":"2014-10-17"},"=",{"$f":"SUM(B37:B51,B15:B29)","v":0}]
["Période 2","du",{"$f":"Accueil!G14","v":"2014-11-02"},"au",{"$f":"Accueil!I14","v":"2014-12-18"},"=",{"$f":"SUM(D37:D51,D15:D29)","v":0}]
["Période 3","du",{"$f":"Accueil!G16","v":"2015-01-04"},"au",{"$f":"Accueil!I16","v":"2015-02-20"},"=",{"$f":"SUM(F37:F51,F15:F29)","v":0}]
["Période 4","du",{"$f":"Accueil!G18","v":"2015-03-08"},"au",{"$f":"Accueil!I18","v":"2015-04-15"},"=",{"$f":"SUM(H37:H51,H15:H29)","v":0}]
["Période 5","du",{"$f":"Accueil!G20","v":"2015-05-03"},"au",{"$f":"Accueil!I20","v":"2015-07-03"},"=",{"$f":"SUM(J37:J51,J15:J29)","v":0}]