{"text_format":"1","workbook":"xlsx","n_sheets":35,"sheets":["PLANNING PRINCIPAL","Feuil1","DATA S1","DATA S2","DATA S3","DATA S4","DATA S5","DATA S6","DATA S7","DATA S8","DATA S9","DATA S10","DATA S11","DATA S12","DATA S13","DATA S14","DATA S15","DATA S16","DATA S17","DATA S18","DATA S19","DATA S20","DATA S21","DATA S22","DATA S23","DATA S24","DATA S25","DATA S26","DATA S27","DATA S28","DATA S29","DATA S30","DATA S31","DATA S32","DATA S33"],"not_rendered":{"charts":0,"images":0,"macros":0,"external_links":0,"defined_names":36,"comments":0,"pivot_tables":0},"unopened":[],"bounds":{"document_bytes":16777216,"sheet_cells":100000,"rows_first":2000,"rows_last":500,"rows_between":2000,"halvings":0,"cell_chars":16384,"cell_head_chars":4096},"cells_cut":0,"cells_raw":0,"read":"whole","date_system":"1900"}

{"sheet":"PLANNING PRINCIPAL","index":0,"n_rows":1227,"n_cols":24,"rows_kept":1227,"cut":false,"hidden":false,"merged":[[1226,6,1226,7],[1204,5,1226,5],[1204,6,1206,6],[1204,7,1206,7],[1207,6,1209,6],[1207,7,1209,7],[1210,6,1212,6],[1210,7,1212,7],[1213,6,1215,6],[1213,7,1215,7],[1216,6,1218,6],[1216,7,1218,7],[1219,6,1221,6],[1219,7,1221,7],[1222,6,1224,6],[1222,7,1224,7],[1225,6,1225,7],[1181,5,1203,5],[1181,6,1183,6],[1181,7,1183,7],[1184,6,1186,6],[1184,7,1186,7],[1187,6,1189,6],[1187,7,1189,7],[1190,6,1192,6],[1190,7,1192,7],[1193,6,1195,6],[1193,7,1195,7],[1196,6,1198,6],[1196,7,1198,7],[1199,6,1201,6],[1199,7,1201,7],[1202,6,1202,7],[1203,6,1203,7],[1158,5,1180,5],[1158,6,1160,6],[1158,7,1160,7],[1161,6,1163,6],[1161,7,1163,7],[1164,6,1166,6],[1164,7,1166,7],[1167,6,1169,6],[1167,7,1169,7],[1170,6,1172,6],[1170,7,1172,7],[1173,6,1175,6],[1173,7,1175,7],[1176,6,1178,6],[1176,7,1178,7],[1179,6,1179,7],[1180,6,1180,7],[1133,6,1133,7],[1134,6,1134,7],[1135,5,1157,5],[1135,6,1137,6],[1135,7,1137,7],[1138,6,1140,6],[1138,7,1140,7],[1141,6,1143,6],[1141,7,1143,7],[1144,6,1146,6],[1144,7,1146,7],[1147,6,1149,6],[1147,7,1149,7],[1150,6,1152,6],[1150,7,1152,7],[1153,6,1155,6],[1153,7,1155,7],[1156,6,1156,7],[1157,6,1157,7],[1111,6,1111,7],[1112,5,1134,5],[1112,6,1114,6],[1112,7,1114,7],[1115,6,1117,6],[1115,7,1117,7],[1118,6,1120,6],[1118,7,1120,7],[1121,6,1123,6],[1121,7,1123,7],[1124,6,1126,6],[1124,7,1126,7],[1127,6,1129,6],[1127,7,1129,7],[1130,6,1132,6],[1130,7,1132,7],[1089,5,1111,5],[1089,6,1091,6],[1089,7,1091,7],[1092,6,1094,6],[1092,7,1094,7],[1095,6,1097,6],[1095,7,1097,7],[1098,6,1100,6],[1098,7,1100,7],[1101,6,1103,6],[1101,7,1103,7],[1104,6,1106,6],[1104,7,1106,7],[1107,6,1109,6],[1107,7,1109,7],[1110,6,1110,7],[1081,7,1083,7],[1084,6,1086,6],[1084,7,1086,7],[1087,6,1087,7],[1088,6,1088,7],[1066,5,1088,5],[1066,6,1068,6],[1066,7,1068,7],[1069,6,1071,6],[1069,7,1071,7],[1072,6,1074,6],[1072,7,1074,7],[1075,6,1077,6],[1075,7,1077,7],[1078,6,1080,6],[1078,7,1080,7],[1081,6,1083,6],[1043,5,1065,5],[1043,6,1045,6],[1043,7,1045,7],[1046,6,1048,6],[1046,7,1048,7],[1049,6,1051,6],[1049,7,1051,7],[1052,6,1054,6],[1052,7,1054,7],[1055,6,1057,6],[1055,7,1057,7],[1058,6,1060,6],[1058,7,1060,7],[1061,6,1063,6],[1061,7,1063,7],[1064,6,1064,7],[1065,6,1065,7],[1018,6,1018,7],[1019,6,1019,7],[1020,5,1042,5],[1020,6,1022,6],[1020,7,1022,7],[1023,6,1025,6],[1023,7,1025,7],[1026,6,1028,6],[1026,7,1028,7],[1029,6,1031,6],[1029,7,1031,7],[1032,6,1034,6],[1032,7,1034,7],[1035,6,1037,6],[1035,7,1037,7],[1038,6,1040,6],[1038,7,1040,7],[1041,6,1041,7],[1042,6,1042,7],[996,6,996,7],[997,5,1019,5],[997,6,999,6],[997,7,999,7],[1000,6,1002,6],[1000,7,1002,7],[1003,6,1005,6],[1003,7,1005,7],[1006,6,1008,6],[1006,7,1008,7],[1009,6,1011,6],[1009,7,1011,7],[1012,6,1014,6],[1012,7,1014,7],[1015,6,1017,6],[1015,7,1017,7],[974,5,996,5],[974,6,976,6],[974,7,976,7],[977,6,979,6],[977,7,979,7],[980,6,982,6],[980,7,982,7],[983,6,985,6],[983,7,985,7],[986,6,988,6],[986,7,988,7],[989,6,991,6],[989,7,991,7],[992,6,994,6],[992,7,994,7],[995,6,995,7],[966,7,968,7],[969,6,971,6],[969,7,971,7],[972,6,972,7],[973,6,973,7],[951,5,973,5],[951,6,953,6],[951,7,953,7],[954,6,956,6],[954,7,956,7],[957,6,959,6],[957,7,959,7],[960,6,962,6],[960,7,962,7],[963,6,965,6],[963,7,965,7],[966,6,968,6],[928,5,950,5],[928,6,930,6],[928,7,930,7],[931,6,933,6],[931,7,933,7],[934,6,936,6],[934,7,936,7],[937,6,939,6],[937,7,939,7],[940,6,942,6],[940,7,942,7],[943,6,945,6],[943,7,945,7],[946,6,948,6],[946,7,948,7],[949,6,949,7],[950,6,950,7],[903,6,903,7],[904,6,904,7],[905,5,927,5],[905,6,907,6],[905,7,907,7],[908,6,910,6],[908,7,910,7],[911,6,913,6],[911,7,913,7],[914,6,916,6],[914,7,916,7],[917,6,919,6],[917,7,919,7],[920,6,922,6],[920,7,922,7],[923,6,925,6],[923,7,925,7],[926,6,926,7],[927,6,927,7],[881,6,881,7],[882,5,904,5],[882,6,884,6],[882,7,884,7],[885,6,887,6],[885,7,887,7],[888,6,890,6],[888,7,890,7],[891,6,893,6],[891,7,893,7],[894,6,896,6],[894,7,896,7],[897,6,899,6],[897,7,899,7],[900,6,902,6],[900,7,902,7],[859,5,881,5],[859,6,861,6],[859,7,861,7],[862,6,864,6],[862,7,864,7],[865,6,867,6],[865,7,867,7],[868,6,870,6],[868,7,870,7],[871,6,873,6],[871,7,873,7],[874,6,876,6],[874,7,876,7],[877,6,879,6],[877,7,879,7],[880,6,880,7],[851,7,853,7],[854,6,856,6],[854,7,856,7],[857,6,857,7],[858,6,858,7],[836,5,858,5],[836,6,838,6],[836,7,838,7],[839,6,841,6],[839,7,841,7],[842,6,844,6],[842,7,844,7],[845,6,847,6],[845,7,847,7],[848,6,850,6],[848,7,850,7],[851,6,853,6],[813,5,835,5],[813,6,815,6],[813,7,815,7],[816,6,818,6],[816,7,818,7],[819,6,821,6],[819,7,821,7],[822,6,824,6],[822,7,824,7],[825,6,827,6],[825,7,827,7],[828,6,830,6],[828,7,830,7],[831,6,833,6],[831,7,833,7],[834,6,834,7],[835,6,835,7],[788,6,788,7],[789,6,789,7],[790,5,812,5],[790,6,792,6],[790,7,792,7],[793,6,795,6],[793,7,795,7],[796,6,798,6],[796,7,798,7],[799,6,801,6],[799,7,801,7],[802,6,804,6],[802,7,804,7],[805,6,807,6],[805,7,807,7],[808,6,810,6],[808,7,810,7],[811,6,811,7],[812,6,812,7],[766,6,766,7],[767,5,789,5],[767,6,769,6],[767,7,769,7],[770,6,772,6],[770,7,772,7],[773,6,775,6],[773,7,775,7],[776,6,778,6],[776,7,778,7],[779,6,781,6],[779,7,781,7],[782,6,784,6],[782,7,784,7],[785,6,787,6],[785,7,787,7],[744,5,766,5],[744,6,746,6],[744,7,746,7],[747,6,749,6],[747,7,749,7],[750,6,752,6],[750,7,752,7],[753,6,755,6],[753,7,755,7],[756,6,758,6],[756,7,758,7],[759,6,761,6],[759,7,761,7],[762,6,764,6],[762,7,764,7],[765,6,765,7],[736,7,738,7],[739,6,741,6],[739,7,741,7],[742,6,742,7],[743,6,743,7],[721,5,743,5],[721,6,723,6],[721,7,723,7],[724,6,726,6],[724,7,726,7],[727,6,729,6],[727,7,729,7],[730,6,732,6],[730,7,732,7],[733,6,735,6],[733,7,735,7],[736,6,738,6],[698,5,720,5],[698,6,700,6],[698,7,700,7],[701,6,703,6],[701,7,703,7],[704,6,706,6],[704,7,706,7],[707,6,709,6],[707,7,709,7],[710,6,712,6],[710,7,712,7],[713,6,715,6],[713,7,715,7],[716,6,718,6],[716,7,718,7],[719,6,719,7],[720,6,720,7],[673,6,673,7],[674,6,674,7],[675,5,697,5],[675,6,677,6],[675,7,677,7],[678,6,680,6],[678,7,680,7],[681,6,683,6],[681,7,683,7],[684,6,686,6],[684,7,686,7],[687,6,689,6],[687,7,689,7],[690,6,692,6],[690,7,692,7],[693,6,695,6],[693,7,695,7],[696,6,696,7],[697,6,697,7],[651,6,651,7],[652,5,674,5],[652,6,654,6],[652,7,654,7],[655,6,657,6],[655,7,657,7],[658,6,660,6],[658,7,660,7],[661,6,663,6],[661,7,663,7],[664,6,666,6],[664,7,666,7],[667,6,669,6],[667,7,669,7],[670,6,672,6],[670,7,672,7],[629,5,651,5],[629,6,631,6],[629,7,631,7],[632,6,634,6],[632,7,634,7],[635,6,637,6],[635,7,637,7],[638,6,640,6],[638,7,640,7],[641,6,643,6],[641,7,643,7],[644,6,646,6],[644,7,646,7],[647,6,649,6],[647,7,649,7],[650,6,650,7],[621,7,623,7],[624,6,626,6],[624,7,626,7],[627,6,627,7],[628,6,628,7],[606,5,628,5],[606,6,608,6],[606,7,608,7],[609,6,611,6],[609,7,611,7],[612,6,614,6],[612,7,614,7],[615,6,617,6],[615,7,617,7],[618,6,620,6],[618,7,620,7],[621,6,623,6],[583,5,605,5],[583,6,585,6],[583,7,585,7],[586,6,588,6],[586,7,588,7],[589,6,591,6],[589,7,591,7],[592,6,594,6],[592,7,594,7],[595,6,597,6],[595,7,597,7],[598,6,600,6],[598,7,600,7],[601,6,603,6],[601,7,603,7],[604,6,604,7],[605,6,605,7],[558,6,558,7],[559,6,559,7],[560,5,582,5],[560,6,562,6],[560,7,562,7],[563,6,565,6],[563,7,565,7],[566,6,568,6],[566,7,568,7],[569,6,571,6],[569,7,571,7],[572,6,574,6],[572,7,574,7],[575,6,577,6],[575,7,577,7],[578,6,580,6],[578,7,580,7],[581,6,581,7],[582,6,582,7],[536,6,536,7],[537,5,559,5],[537,6,539,6],[537,7,539,7],[540,6,542,6],[540,7,542,7],[543,6,545,6],[543,7,545,7],[546,6,548,6],[546,7,548,7],[549,6,551,6],[549,7,551,7],[552,6,554,6],[552,7,554,7],[555,6,557,6],[555,7,557,7],[514,5,536,5],[514,6,516,6],[514,7,516,7],[517,6,519,6],[517,7,519,7],[520,6,522,6],[520,7,522,7],[523,6,525,6],[523,7,525,7],[526,6,528,6],[526,7,528,7],[529,6,531,6],[529,7,531,7],[532,6,534,6],[532,7,534,7],[535,6,535,7],[506,7,508,7],[509,6,511,6],[509,7,511,7],[512,6,512,7],[513,6,513,7],[491,5,513,5],[491,6,493,6],[491,7,493,7],[494,6,496,6],[494,7,496,7],[497,6,499,6],[497,7,499,7],[500,6,502,6],[500,7,502,7],[503,6,505,6],[503,7,505,7],[506,6,508,6],[468,5,490,5],[468,6,470,6],[468,7,470,7],[471,6,473,6],[471,7,473,7],[474,6,476,6],[474,7,476,7],[477,6,479,6],[477,7,479,7],[480,6,482,6],[480,7,482,7],[483,6,485,6],[483,7,485,7],[486,6,488,6],[486,7,488,7],[489,6,489,7],[490,6,490,7],[443,6,443,7],[444,6,444,7],[445,5,467,5],[445,6,447,6],[445,7,447,7],[448,6,450,6],[448,7,450,7],[451,6,453,6],[451,7,453,7],[454,6,456,6],[454,7,456,7],[457,6,459,6],[457,7,459,7],[460,6,462,6],[460,7,462,7],[463,6,465,6],[463,7,465,7],[466,6,466,7],[467,6,467,7],[421,6,421,7],[422,5,444,5],[422,6,424,6],[422,7,424,7],[425,6,427,6],[425,7,427,7],[428,6,430,6],[428,7,430,7],[431,6,433,6],[431,7,433,7],[434,6,436,6],[434,7,436,7],[437,6,439,6],[437,7,439,7],[440,6,442,6],[440,7,442,7],[399,5,421,5],[399,6,401,6],[399,7,401,7],[402,6,404,6],[402,7,404,7],[405,6,407,6],[405,7,407,7],[408,6,410,6],[408,7,410,7],[411,6,413,6],[411,7,413,7],[414,6,416,6],[414,7,416,7],[417,6,419,6],[417,7,419,7],[420,6,420,7],[391,7,393,7],[394,6,396,6],[394,7,396,7],[397,6,397,7],[398,6,398,7],[376,5,398,5],[376,6,378,6],[376,7,378,7],[379,6,381,6],[379,7,381,7],[382,6,384,6],[382,7,384,7],[385,6,387,6],[385,7,387,7],[388,6,390,6],[388,7,390,7],[391,6,393,6],[353,5,375,5],[353,6,355,6],[353,7,355,7],[356,6,358,6],[356,7,358,7],[359,6,361,6],[359,7,361,7],[362,6,364,6],[362,7,364,7],[365,6,367,6],[365,7,367,7],[368,6,370,6],[368,7,370,7],[371,6,373,6],[371,7,373,7],[374,6,374,7],[375,6,375,7],[328,6,328,7],[329,6,329,7],[330,5,352,5],[330,6,332,6],[330,7,332,7],[333,6,335,6],[333,7,335,7],[336,6,338,6],[336,7,338,7],[339,6,341,6],[339,7,341,7],[342,6,344,6],[342,7,344,7],[345,6,347,6],[345,7,347,7],[348,6,350,6],[348,7,350,7],[351,6,351,7],[352,6,352,7],[306,6,306,7],[307,5,329,5],[307,6,309,6],[307,7,309,7],[310,6,312,6],[310,7,312,7],[313,6,315,6],[313,7,315,7],[316,6,318,6],[316,7,318,7],[319,6,321,6],[319,7,321,7],[322,6,324,6],[322,7,324,7],[325,6,327,6],[325,7,327,7],[284,5,306,5],[284,6,286,6],[284,7,286,7],[287,6,289,6],[287,7,289,7],[290,6,292,6],[290,7,292,7],[293,6,295,6],[293,7,295,7],[296,6,298,6],[296,7,298,7],[299,6,301,6],[299,7,301,7],[302,6,304,6],[302,7,304,7],[305,6,305,7],[276,7,278,7],[279,6,281,6],[279,7,281,7],[282,6,282,7],[283,6,283,7],[261,5,283,5],[261,6,263,6],[261,7,263,7],[264,6,266,6],[264,7,266,7],[267,6,269,6],[267,7,269,7],[270,6,272,6],[270,7,272,7],[273,6,275,6],[273,7,275,7],[276,6,278,6],[238,5,260,5],[238,6,240,6],[238,7,240,7],[241,6,243,6],[241,7,243,7],[244,6,246,6],[244,7,246,7],[247,6,249,6],[247,7,249,7],[250,6,252,6],[250,7,252,7],[253,6,255,6],[253,7,255,7],[256,6,258,6],[256,7,258,7],[259,6,259,7],[260,6,260,7],[213,6,213,7],[214,6,214,7],[215,5,237,5],[215,6,217,6],[215,7,217,7],[218,6,220,6],[218,7,220,7],[221,6,223,6],[221,7,223,7],[224,6,226,6],[224,7,226,7],[227,6,229,6],[227,7,229,7],[230,6,232,6],[230,7,232,7],[233,6,235,6],[233,7,235,7],[236,6,236,7],[237,6,237,7],[191,6,191,7],[192,5,214,5],[192,6,194,6],[192,7,194,7],[195,6,197,6],[195,7,197,7],[198,6,200,6],[198,7,200,7],[201,6,203,6],[201,7,203,7],[204,6,206,6],[204,7,206,7],[207,6,209,6],[207,7,209,7],[210,6,212,6],[210,7,212,7],[169,5,191,5],[169,6,171,6],[169,7,171,7],[172,6,174,6],[172,7,174,7],[175,6,177,6],[175,7,177,7],[178,6,180,6],[178,7,180,7],[181,6,183,6],[181,7,183,7],[184,6,186,6],[184,7,186,7],[187,6,189,6],[187,7,189,7],[190,6,190,7],[161,7,163,7],[164,6,166,6],[164,7,166,7],[167,6,167,7],[168,6,168,7],[146,5,168,5],[146,6,148,6],[146,7,148,7],[149,6,151,6],[149,7,151,7],[152,6,154,6],[152,7,154,7],[155,6,157,6],[155,7,157,7],[158,6,160,6],[158,7,160,7],[161,6,163,6],[123,5,145,5],[123,6,125,6],[123,7,125,7],[126,6,128,6],[126,7,128,7],[129,6,131,6],[129,7,131,7],[132,6,134,6],[132,7,134,7],[135,6,137,6],[135,7,137,7],[138,6,140,6],[138,7,140,7],[141,6,143,6],[141,7,143,7],[144,6,144,7],[145,6,145,7],[98,6,98,7],[99,6,99,7],[100,5,122,5],[100,6,102,6],[100,7,102,7],[103,6,105,6],[103,7,105,7],[106,6,108,6],[106,7,108,7],[109,6,111,6],[109,7,111,7],[112,6,114,6],[112,7,114,7],[115,6,117,6],[115,7,117,7],[118,6,120,6],[118,7,120,7],[121,6,121,7],[122,6,122,7],[76,6,76,7],[77,5,99,5],[77,6,79,6],[77,7,79,7],[80,6,82,6],[80,7,82,7],[83,6,85,6],[83,7,85,7],[86,6,88,6],[86,7,88,7],[89,6,91,6],[89,7,91,7],[92,6,94,6],[92,7,94,7],[95,6,97,6],[95,7,97,7],[54,5,76,5],[54,6,56,6],[54,7,56,7],[57,6,59,6],[57,7,59,7],[60,6,62,6],[60,7,62,7],[63,6,65,6],[69,6,71,6],[69,7,71,7],[72,6,74,6],[72,7,74,7],[75,6,75,7],[46,7,48,7],[49,6,51,6],[49,7,51,7],[52,6,52,7],[53,6,53,7],[26,7,28,7],[17,6,19,6],[17,7,19,7],[20,6,22,6],[20,7,22,7],[23,6,25,6],[63,7,65,7],[66,6,68,6],[66,7,68,7],[23,7,25,7],[14,6,16,6],[14,7,16,7],[11,6,13,6],[11,7,13,7],[30,6,30,7],[29,6,29,7],[4,21,5,23],[31,5,53,5],[31,6,33,6],[31,7,33,7],[34,6,36,6],[34,7,36,7],[37,6,39,6],[37,7,39,7],[40,6,42,6],[40,7,42,7],[43,6,45,6],[43,7,45,7],[46,6,48,6],[4,5,6,7],[8,5,30,5],[8,6,10,6],[8,7,10,7],[26,6,28,6]]}
[]
[]
[]
[]
[null,null,null,null,null,null,null,null,null,null,null,null,null,null,null,null,null,null,null,null,null,"INTERIMAIRES"]
[null,null,null,null,null,null,null,null,"RESP CHANTIER","MONTEUR","RESP CHANTIER","MONTEUR","RESP CHANTIER","MONTEUR","RESP CHANTIER","MONTEUR","RESP CHANTIER","APPRENTI","MONTEUR","APPRENTI","APPRENTI"]
[null,null,null,null,null,null,null,null,"PERSONNE 1","PERSONNE 2","PERSONNE 3","PERSONNE 4","PERSONNE 5","PERSONNE 6","PERSONNE 7","PERSONNE 8","PERSONNE 9","PERSONNE 10","PERSONNE 11","PERSONNE 12","PERSONNE 13","INTERIM 1","INTERIM 2","INTERIM 3"]
[]
[null,null,null,null,null,"SEMAINE 1","2014-12-29","XX"]
[]
[]
[null,null,null,null,null,null,"2014-12-30","XX"]
[]
[]
[null,null,null,null,null,null,"2014-12-31","XX"]
[]
[]
[null,null,null,null,null,null,"2015-01-01","XX"]
[]
[]
[null,null,null,null,null,null,"2015-01-02","XX"]
[]
[]
[null,null,null,null,null,null,"2015-01-03","XX"]
[]
[]
[null,null,null,null,null,null,"2015-01-04","XX"]
[]
[]
[null,null,null,null,null,null,"ASTREINTES/TOURNEE DE LAMPE"]
[null,null,null,null,null,null,"INFORMATIONS DIVERSES"]
[null,null,null,null,null,"SEMAINE 2","2015-01-05","XX"]
[]
[]
[null,null,null,null,null,null,"2015-01-06","XX"]
[]
[]
[null,null,null,null,null,null,"2015-01-07","XX"]
[]
[]
[null,null,null,null,null,null,"2015-01-08","XX"]
[]
[]
[null,null,null,null,null,null,"2015-01-09","XX"]
[]
[]
[null,null,null,null,null,null,"2015-01-10","XX"]
[]
[]
[null,null,null,null,null,null,"2015-01-11","XX"]
[]
[]
[null,null,null,null,null,null,"ASTREINTES/TOURNEE DE LAMPE"]
[null,null,null,null,null,null,"INFORMATIONS DIVERSES"]
[null,null,null,null,null,"SEMAINE 3","2015-01-12","XX"]
[]
[]
[null,null,null,null,null,null,"2015-01-13","XX"]
[]
[]
[null,null,null,null,null,null,"2015-01-14","XX"]
[]
[]
[null,null,null,null,null,null,"2015-01-15","XX"]
[]
[]
[null,null,null,null,null,null,"2015-01-16","XX"]
[]
[]
[null,null,null,null,null,null,"2015-01-17","XX"]
[]
[]
[null,null,null,null,null,null,"2015-01-18","XX"]
[]
[]
[null,null,null,null,null,null,"ASTREINTES/TOURNEE DE LAMPE"]
[null,null,null,null,null,null,"INFORMATIONS DIVERSES"]
[null,null,null,null,null,"SEMAINE 4","2015-01-19","XX"]
[]
[]
[null,null,null,null,null,null,"2015-01-20","XX"]
[]
[]
[null,null,null,null,null,null,"2015-01-21","XX"]
[]
[]
[null,null,null,null,null,null,"2015-01-22","XX"]
[]
[]
[null,null,null,null,null,null,"2015-01-23","XX"]
[]
[]
[null,null,null,null,null,null,"2015-01-24","XX"]
[]
[]
[null,null,null,null,null,null,"2015-01-25","XX"]
[]
[]
[null,null,null,null,null,null,"ASTREINTES/TOURNEE DE LAMPE"]
[null,null,null,null,null,null,"INFORMATIONS DIVERSES"]
[null,null,null,null,null,"SEMAINE 5","2015-01-26","XX"]
[]
[]
[null,null,null,null,null,null,"2015-01-27","XX"]
[]
[]
[null,null,null,null,null,null,"2015-01-28","XX"]
[]
[]
[null,null,null,null,null,null,"2015-01-29","XX"]
[]
[]
[null,null,null,null,null,null,"2015-01-30","XX"]
[]
[]
[null,null,null,null,null,null,"2015-01-31","XX"]
[]
[]
[null,null,null,null,null,null,"2015-02-01","XX"]
[]
[]
[null,null,null,null,null,null,"ASTREINTES/TOURNEE DE LAMPE"]
[null,null,null,null,null,null,"INFORMATIONS DIVERSES"]
[null,null,null,null,null,"SEMAINE 6","2015-02-02","XX"]
[]
[]
[null,null,null,null,null,null,"2015-02-03","XX"]
[]
[]
[null,null,null,null,null,null,"2015-02-04","XX"]
[]
[]
[null,null,null,null,null,null,"2015-02-05","XX"]
[]
[]
[null,null,null,null,null,null,"2015-02-06","XX"]
[]
[]
[null,null,null,null,null,null,"2015-02-07","XX"]
[]
[]
[null,null,null,null,null,null,"2015-02-08","XX"]
[]
[]
[null,null,null,null,null,null,"ASTREINTES/TOURNEE DE LAMPE"]
[null,null,null,null,null,null,"INFORMATIONS DIVERSES"]
[null,null,null,null,null,"SEMAINE 7","2015-02-09","XX"]
[]
[]
[null,null,null,null,null,null,"2015-02-10","XX"]
[]
[]
[null,null,null,null,null,null,"2015-02-11","XX"]
[]
[]
[null,null,null,null,null,null,"2015-02-12","XX"]
[]
[]
[null,null,null,null,null,null,"2015-02-13","XX"]
[]
[]
[null,null,null,null,null,null,"2015-02-14","XX"]
[]
[]
[null,null,null,null,null,null,"2015-02-15","XX"]
[]
[]
[null,null,null,null,null,null,"ASTREINTES/TOURNEE DE LAMPE"]
[null,null,null,null,null,null,"INFORMATIONS DIVERSES"]
[null,null,null,null,null,"SEMAINE 8","2015-02-16","XX"]
[]
[]
[null,null,null,null,null,null,"2015-02-17","XX"]
[]
[]
[null,null,null,null,null,null,"2015-02-18","XX"]
[]
[]
[null,null,null,null,null,null,"2015-02-19","XX"]
[]
[]
[null,null,null,null,null,null,"2015-02-20","XX"]
[]
[]
[null,null,null,null,null,null,"2015-02-21","XX"]
[]
[]
[null,null,null,null,null,null,"2015-02-22","XX"]
[]
[]
[null,null,null,null,null,null,"ASTREINTES/TOURNEE DE LAMPE"]
[null,null,null,null,null,null,"INFORMATIONS DIVERSES"]
[null,null,null,null,null,"SEMAINE 9","2015-02-23","XX","BEAULIEU","BEAULIEU","BEAULIEU","BEAULIEU","EP","EP","EP","EP","ARRET","ENTRETIEN SLT ","ENTRETIEN SLT ","ECOLE","CFA"]
[null,null,null,null,null,null,null,null,"MAS XX ","LOC NAC SOLOMAT","MAS YY ",null,"MAS PL ",null,"MAS VQ ",null,null,"NAC EGIE"]
[]
[null,null,null,null,null,null,"2015-02-24","XX","BEAULIEU","BEAULIEU","BEAULIEU","BEAULIEU","EP","EP","EP","ARRET","ARRET","ENTRETIEN SLT ","ENTRETIEN SLT ","ECOLE","CFA"]
[null,null,null,null,null,null,null,null,"MAS XX ","LOC NAC SOLOMAT","MAS YY ",null,"MAS PL ",null,"MAS VQ ",null,null,"NAC EGIE"]
[]
[null,null,null,null,null,null,"2015-02-25","XX","DEPOSE CARREFOUR ","DEPOSE CARREFOUR ","DEPOSE CARREFOUR ","DEPOSE CARREFOUR ","EP","EP","EP","ARRET","ARRET","ENTRETIEN SLT ","ENTRETIEN SLT ","ECOLE","CFA"]
[null,null,null,null,null,null,null,null,"MAS XX ","LOC NAC SOLOMAT","MAS YY ",null,"MAS PL ",null,"MAS VQ ",null,null,"NAC EGIE"]
[]
[null,null,null,null,null,null,"2015-02-26","XX","DEPOSE CARREFOUR ","DEPOSE CARREFOUR ","DEPOSE CARREFOUR ","DEPOSE CARREFOUR ","EP","EP","EP","ARRET","ARRET","ENTRETIEN SLT ","ENTRETIEN SLT ","ECOLE","CFA"]
[null,null,null,null,null,null,null,null,"MAS XX ","LOC NAC SOLOMAT",null,null,"MAS PL ",null,"MAS VQ ",null,null,"NAC EGIE"]
[]
[null,null,null,null,null,null,"2015-02-27","XX","BEAULIEU","BEAULIEU","BEAULIEU","RUE DU  CHENE","EP","EP","EP","ARRET","ARRET","ENTRETIEN SLT ","ENTRETIEN SLT ","ECOLE","CFA"]
[null,null,null,null,null,null,null,null,"MAS XX ","LOC NAC SOLOMAT","MAS YY ",null,"MAS PL ",null,"MAS VQ ",null,null,"NAC EGIE"]
[]
[null,null,null,null,null,null,"2015-02-28","XX"]
[]
[]
[null,null,null,null,null,null,"2015-03-01","XX"]
[]
[]
[null,null,null,null,null,null,"ASTREINTES/TOURNEE DE LAMPE",null,null,null,"ASTREINTE SLT",null,null,null,"ASTREINTE EP"]
[null,null,null,null,null,null,"INFORMATIONS DIVERSES"]
[null,null,null,null,null,"SEMAINE 10","2015-03-02","XX","BEAULIEU","BEAULIEU","BEAULIEU","BEAULIEU","EP","EP","EP","EP","ARRET","ENTRETIEN SLT ","ENTRETIEN SLT ","ECOLE","CFA"]
[]
[]
[null,null,null,null,null,null,"2015-03-03","XX","BEAULIEU","BEAULIEU","BEAULIEU","BEAULIEU","EP","EP","EP","ARRET","ARRET","ENTRETIEN SLT ","ENTRETIEN SLT ","ECOLE","CFA"]
[]
[]
[null,null,null,null,null,null,"2015-03-04","XX","DEPOSE CARREFOUR ","DEPOSE CARREFOUR ","DEPOSE CARREFOUR ","DEPOSE CARREFOUR ","EP","EP","EP","ARRET","ARRET","ENTRETIEN SLT ","ENTRETIEN SLT ","ECOLE","CFA"]
[]
[]
[null,null,null,null,null,null,"2015-03-05","XX","DEPOSE CARREFOUR ","DEPOSE CARREFOUR ","DEPOSE CARREFOUR ","DEPOSE CARREFOUR ","EP","EP","EP","ARRET","ARRET","ENTRETIEN SLT ","ENTRETIEN SLT ","ECOLE","CFA"]
[]
[]
[null,null,null,null,null,null,"2015-03-06","XX","BEAULIEU","BEAULIEU","BEAULIEU","RUE DU  CHENE","EP","EP","EP","ARRET","ARRET","ENTRETIEN SLT ","ENTRETIEN SLT ","ECOLE","CFA"]
[]
[]
[null,null,null,null,null,null,"2015-03-07","XX"]
[]
[]
[null,null,null,null,null,null,"2015-03-08","XX"]
[]
[]
[null,null,null,null,null,null,"ASTREINTES/TOURNEE DE LAMPE"]
[null,null,null,null,null,null,"INFORMATIONS DIVERSES"]
[null,null,null,null,null,"SEMAINE 11","2015-03-09","XX"]
[]
[]
[null,null,null,null,null,null,"2015-03-10","XX"]
[]
[]
[null,null,null,null,null,null,"2015-03-11","XX"]
[]
[]
[null,null,null,null,null,null,"2015-03-12","XX"]
[]
[]
[null,null,null,null,null,null,"2015-03-13","XX"]
[]
[]
[null,null,null,null,null,null,"2015-03-14","XX"]
[]
[]
[null,null,null,null,null,null,"2015-03-15","XX"]
[]
[]
[null,null,null,null,null,null,"ASTREINTES/TOURNEE DE LAMPE"]
[null,null,null,null,null,null,"INFORMATIONS DIVERSES"]
[null,null,null,null,null,"SEMAINE 12","2015-03-16","XX","BEAULIEU","BEAULIEU","BEAULIEU"]
[null,null,null,null,null,null,null,null,"MAS YY CH049BT","MAS XX BL873DN","MAS PL CH297BV"]
[]
[null,null,null,null,null,null,"2015-03-17","XX","BEAULIEU","BEAULIEU","BEAULIEU"]
[null,null,null,null,null,null,null,null,"MAS XX BL873DN","MAS PL CH297BV","MAS XX BL873DN"]
[]
[null,null,null,null,null,null,"2015-03-18","XX","BEAULIEU","BEAULIEU","BEAULIEU"]
[null,null,null,null,null,null,null,null,"MAS XX BL873DN","MAS XX BL873DN","MAS XX BL873DN"]
[]
[null,null,null,null,null,null,"2015-03-19","XX","BEAULIEU","BEAULIEU","BEAULIEU"]
[null,null,null,null,null,null,null,null,"MAS XX BL873DN","MAS XX BL873DN","MAS XX BL873DN"]
[]
[null,null,null,null,null,null,"2015-03-20","XX","BEAULIEU","BEAULIEU","BEAULIEU"]
[null,null,null,null,null,null,null,null,"MAS XX BL873DN","MAS XX BL873DN","MAS XX BL873DN"]
[]
[null,null,null,null,null,null,"2015-03-21","XX"]
[]
[]
[null,null,null,null,null,null,"2015-03-22","XX"]
[]
[]
[null,null,null,null,null,null,"ASTREINTES/TOURNEE DE LAMPE"]
[null,null,null,null,null,null,"INFORMATIONS DIVERSES"]
[null,null,null,null,null,"SEMAINE 13","2015-03-23","XX",null,"BEAULIEU"]
[null,null,null,null,null,null,null,null,null,"MAS PL CH297BV"]
[]
[null,null,null,null,null,null,"2015-03-24","XX",null,"BEAULIEU"]
[null,null,null,null,null,null,null,null,null,"MAS XX BL873DN"]
[]
[null,null,null,null,null,null,"2015-03-25","XX",null,"BEAULIEU"]
[null,null,null,null,null,null,null,null,null,"MAS XX BL873DN"]
[]
[null,null,null,null,null,null,"2015-03-26","XX",null,"BEAULIEU"]
[null,null,null,null,null,null,null,null,null,"MAS XX BL873DN"]
[]
[null,null,null,null,null,null,"2015-03-27","XX",null,"BEAULIEU"]
[null,null,null,null,null,null,null,null,null,"MAS XX BL873DN"]
[]
[null,null,null,null,null,null,"2015-03-28","XX"]
[]
[]
[null,null,null,null,null,null,"2015-03-29","XX"]
[]
[]
[null,null,null,null,null,null,"ASTREINTES/TOURNEE DE LAMPE"]
[null,null,null,null,null,null,"INFORMATIONS DIVERSES"]
[null,null,null,null,null,"SEMAINE 14","2015-03-30","XX"]
[]
[]
[null,null,null,null,null,null,"2015-03-31","XX"]
[]
[]
[null,null,null,null,null,null,"2015-04-01","XX"]
[]
[]
[null,null,null,null,null,null,"2015-04-02","XX"]
[]
[]
[null,null,null,null,null,null,"2015-04-03","XX"]
[]
[]
[null,null,null,null,null,null,"2015-04-04","XX"]
[]
[]
[null,null,null,null,null,null,"2015-04-05","XX"]
[]
[]
[null,null,null,null,null,null,"ASTREINTES/TOURNEE DE LAMPE"]
[null,null,null,null,null,null,"INFORMATIONS DIVERSES"]
[null,null,null,null,null,"SEMAINE 15","2015-04-06","XX"]
[]
[]
[null,null,null,null,null,null,"2015-04-07","XX"]
[]
[]
[null,null,null,null,null,null,"2015-04-08","XX"]
[]
[]
[null,null,null,null,null,null,"2015-04-09","XX"]
[]
[]
[null,null,null,null,null,null,"2015-04-10","XX"]
[]
[]
[null,null,null,null,null,null,"2015-04-11","XX"]
[]
[]
[null,null,null,null,null,null,"2015-04-12","XX"]
[]
[]
[null,null,null,null,null,null,"ASTREINTES/TOURNEE DE LAMPE"]
[null,null,null,null,null,null,"INFORMATIONS DIVERSES"]
[null,null,null,null,null,"SEMAINE 16","2015-04-13","XX"]
[]
[]
[null,null,null,null,null,null,"2015-04-14","XX"]
[]
[]
[null,null,null,null,null,null,"2015-04-15","XX"]
[]
[]
[null,null,null,null,null,null,"2015-04-16","XX"]
[]
[]
[null,null,null,null,null,null,"2015-04-17","XX"]
[]
[]
[null,null,null,null,null,null,"2015-04-18","XX"]
[]
[]
[null,null,null,null,null,null,"2015-04-19","XX"]
[]
[]
[null,null,null,null,null,null,"ASTREINTES/TOURNEE DE LAMPE"]
[null,null,null,null,null,null,"INFORMATIONS DIVERSES"]
[null,null,null,null,null,"SEMAINE 17","2015-04-20","XX"]
[]
[]
[null,null,null,null,null,null,"2015-04-21","XX"]
[]
[]
[null,null,null,null,null,null,"2015-04-22","XX"]
[]
[]
[null,null,null,null,null,null,"2015-04-23","XX"]
[]
[]
[null,null,null,null,null,null,"2015-04-24","XX"]
[]
[]
[null,null,null,null,null,null,"2015-04-25","XX"]
[]
[]
[null,null,null,null,null,null,"2015-04-26","XX"]
[]
[]
[null,null,null,null,null,null,"ASTREINTES/TOURNEE DE LAMPE"]
[null,null,null,null,null,null,"INFORMATIONS DIVERSES"]
[null,null,null,null,null,"SEMAINE 18","2015-04-27","XX"]
[]
[]
[null,null,null,null,null,null,"2015-04-28","XX"]
[]
[]
[null,null,null,null,null,null,"2015-04-29","XX"]
[]
[]
[null,null,null,null,null,null,"2015-04-30","XX"]
[]
[]
[null,null,null,null,null,null,"2015-05-01","XX"]
[]
[]
[null,null,null,null,null,null,"2015-05-02","XX"]
[]
[]
[null,null,null,null,null,null,"2015-05-03","XX"]
[]
[]
[null,null,null,null,null,null,"ASTREINTES/TOURNEE DE LAMPE"]
[null,null,null,null,null,null,"INFORMATIONS DIVERSES"]
[null,null,null,null,null,"SEMAINE 19","2015-05-04","XX"]
[]
[]
[null,null,null,null,null,null,"2015-05-05","XX"]
[]
[]
[null,null,null,null,null,null,"2015-05-06","XX"]
[]
[]
[null,null,null,null,null,null,"2015-05-07","XX"]
[]
[]
[null,null,null,null,null,null,"2015-05-08","XX"]
[]
[]
[null,null,null,null,null,null,"2015-05-09","XX"]
[]
[]
[null,null,null,null,null,null,"2015-05-10","XX"]
[]
[]
[null,null,null,null,null,null,"ASTREINTES/TOURNEE DE LAMPE"]
[null,null,null,null,null,null,"INFORMATIONS DIVERSES"]
[null,null,null,null,null,"SEMAINE 20","2015-05-11","XX"]
[]
[]
[null,null,null,null,null,null,"2015-05-12","XX"]
[]
[]
[null,null,null,null,null,null,"2015-05-13","XX"]
[]
[]
[null,null,null,null,null,null,"2015-05-14","XX"]
[null,null,null,null,null,null,null,null,null,"MAS XX BL873DN","MAS YY CH049BT"]
[]
[null,null,null,null,null,null,"2015-05-15","XX"]
[]
[]
[null,null,null,null,null,null,"2015-05-16","XX"]
[]
[]
[null,null,null,null,null,null,"2015-05-17","XX"]
[]
[]
[null,null,null,null,null,null,"ASTREINTES/TOURNEE DE LAMPE"]
[null,null,null,null,null,null,"INFORMATIONS DIVERSES"]
[null,null,null,null,null,"SEMAINE 21","2015-05-18","XX"]
[]
[]
[null,null,null,null,null,null,"2015-05-19","XX"]
[]
[]
[null,null,null,null,null,null,"2015-05-20","XX"]
[]
[]
[null,null,null,null,null,null,"2015-05-21","XX"]
[]
[]
[null,null,null,null,null,null,"2015-05-22","XX"]
[]
[]
[null,null,null,null,null,null,"2015-05-23","XX"]
[]
[]
[null,null,null,null,null,null,"2015-05-24","XX"]
[]
[]
[null,null,null,null,null,null,"ASTREINTES/TOURNEE DE LAMPE"]
[null,null,null,null,null,null,"INFORMATIONS DIVERSES"]
[null,null,null,null,null,"SEMAINE 22","2015-05-25","XX"]
[]
[]
[null,null,null,null,null,null,"2015-05-26","XX"]
[]
[]
[null,null,null,null,null,null,"2015-05-27","XX"]
[]
[]
[null,null,null,null,null,null,"2015-05-28","XX"]
[]
[]
[null,null,null,null,null,null,"2015-05-29","XX"]
[]
[]
[null,null,null,null,null,null,"2015-05-30","XX"]
[]
[]
[null,null,null,null,null,null,"2015-05-31","XX"]
[]
[]
[null,null,null,null,null,null,"ASTREINTES/TOURNEE DE LAMPE"]
[null,null,null,null,null,null,"INFORMATIONS DIVERSES"]
[null,null,null,null,null,"SEMAINE 23","2015-06-01","XX"]
[]
[]
[null,null,null,null,null,null,"2015-06-02","XX"]
[]
[]
[null,null,null,null,null,null,"2015-06-03","XX"]
[]
[]
[null,null,null,null,null,null,"2015-06-04","XX"]
[]
[]
[null,null,null,null,null,null,"2015-06-05","XX"]
[]
[]
[null,null,null,null,null,null,"2015-06-06","XX"]
[]
[]
[null,null,null,null,null,null,"2015-06-07","XX"]
[]
[]
[null,null,null,null,null,null,"ASTREINTES/TOURNEE DE LAMPE"]
[null,null,null,null,null,null,"INFORMATIONS DIVERSES"]
[null,null,null,null,null,"SEMAINE 24","2015-06-08","XX"]
[]
[]
[null,null,null,null,null,null,"2015-06-09","XX"]
[]
[]
[null,null,null,null,null,null,"2015-06-10","XX"]
[]
[]
[null,null,null,null,null,null,"2015-06-11","XX"]
[]
[]
[null,null,null,null,null,null,"2015-06-12","XX"]
[]
[]
[null,null,null,null,null,null,"2015-06-13","XX"]
[]
[]
[null,null,null,null,null,null,"2015-06-14","XX"]
[]
[]
[null,null,null,null,null,null,"ASTREINTES/TOURNEE DE LAMPE"]
[null,null,null,null,null,null,"INFORMATIONS DIVERSES"]
[null,null,null,null,null,"SEMAINE 25","2015-06-15","XX"]
[]
[]
[null,null,null,null,null,null,"2015-06-16","XX"]
[]
[]
[null,null,null,null,null,null,"2015-06-17","XX"]
[]
[]
[null,null,null,null,null,null,"2015-06-18","XX"]
[]
[]
[null,null,null,null,null,null,"2015-06-19","XX"]
[]
[]
[null,null,null,null,null,null,"2015-06-20","XX"]
[]
[]
[null,null,null,null,null,null,"2015-06-21","XX"]
[]
[]
[null,null,null,null,null,null,"ASTREINTES/TOURNEE DE LAMPE"]
[null,null,null,null,null,null,"INFORMATIONS DIVERSES"]
[null,null,null,null,null,"SEMAINE 26","2015-06-22","XX"]
[]
[]
[null,null,null,null,null,null,"2015-06-23","XX"]
[]
[]
[null,null,null,null,null,null,"2015-06-24","XX"]
[]
[]
[null,null,null,null,null,null,"2015-06-25","XX"]
[]
[]
[null,null,null,null,null,null,"2015-06-26","XX"]
[]
[]
[null,null,null,null,null,null,"2015-06-27","XX"]
[]
[]
[null,null,null,null,null,null,"2015-06-28","XX"]
[]
[]
[null,null,null,null,null,null,"ASTREINTES/TOURNEE DE LAMPE"]
[null,null,null,null,null,null,"INFORMATIONS DIVERSES"]
[null,null,null,null,null,"SEMAINE 27","2015-06-29","XX"]
[]
[]
[null,null,null,null,null,null,"2015-06-30","XX"]
[]
[]
[null,null,null,null,null,null,"2015-07-01","XX"]
[]
[]
[null,null,null,null,null,null,"2015-07-02","XX"]
[]
[]
[null,null,null,null,null,null,"2015-07-03","XX"]
[]
[]
[null,null,null,null,null,null,"2015-07-04","XX"]
[]
[]
[null,null,null,null,null,null,"2015-07-05","XX"]
[]
[]
[null,null,null,null,null,null,"ASTREINTES/TOURNEE DE LAMPE"]
[null,null,null,null,null,null,"INFORMATIONS DIVERSES"]
[null,null,null,null,null,"SEMAINE 28","2015-07-06","XX"]
[]
[]
[null,null,null,null,null,null,"2015-07-07","XX"]
[]
[]
[null,null,null,null,null,null,"2015-07-08","XX"]
[]
[]
[null,null,null,null,null,null,"2015-07-09","XX"]
[]
[]
[null,null,null,null,null,null,"2015-07-10","XX"]
[]
[]
[null,null,null,null,null,null,"2015-07-11","XX"]
[]
[]
[null,null,null,null,null,null,"2015-07-12","XX"]
[]
[]
[null,null,null,null,null,null,"ASTREINTES/TOURNEE DE LAMPE"]
[null,null,null,null,null,null,"INFORMATIONS DIVERSES"]
[null,null,null,null,null,"SEMAINE 29","2015-07-13","XX"]
[]
[]
[null,null,null,null,null,null,"2015-07-14","XX"]
[]
[]
[null,null,null,null,null,null,"2015-07-15","XX"]
[]
[]
[null,null,null,null,null,null,"2015-07-16","XX"]
[]
[]
[null,null,null,null,null,null,"2015-07-17","XX"]
[]
[]
[null,null,null,null,null,null,"2015-07-18","XX"]
[]
[]
[null,null,null,null,null,null,"2015-07-19","XX"]
[]
[]
[null,null,null,null,null,null,"ASTREINTES/TOURNEE DE LAMPE"]
[null,null,null,null,null,null,"INFORMATIONS DIVERSES"]
[null,null,null,null,null,"SEMAINE 30","2015-07-20","XX"]
[]
[]
[null,null,null,null,null,null,"2015-07-21","XX"]
[]
[]
[null,null,null,null,null,null,"2015-07-22","XX"]
[]
[]
[null,null,null,null,null,null,"2015-07-23","XX"]
[]
[]
[null,null,null,null,null,null,"2015-07-24","XX"]
[]
[]
[null,null,null,null,null,null,"2015-07-25","XX"]
[]
[]
[null,null,null,null,null,null,"2015-07-26","XX"]
[]
[]
[null,null,null,null,null,null,"ASTREINTES/TOURNEE DE LAMPE"]
[null,null,null,null,null,null,"INFORMATIONS DIVERSES"]
[null,null,null,null,null,"SEMAINE 31","2015-07-27","XX"]
[]
[]
[null,null,null,null,null,null,"2015-07-28","XX"]
[]
[]
[null,null,null,null,null,null,"2015-07-29","XX"]
[]
[]
[null,null,null,null,null,null,"2015-07-30","XX"]
[]
[]
[null,null,null,null,null,null,"2015-07-31","XX"]
[]
[]
[null,null,null,null,null,null,"2015-08-01","XX"]
[]
[]
[null,null,null,null,null,null,"2015-08-02","XX"]
[]
[]
[null,null,null,null,null,null,"ASTREINTES/TOURNEE DE LAMPE"]
[null,null,null,null,null,null,"INFORMATIONS DIVERSES"]
[null,null,null,null,null,"SEMAINE 32","2015-08-03","XX"]
[]
[]
[null,null,null,null,null,null,"2015-08-04","XX"]
[]
[]
[null,null,null,null,null,null,"2015-08-05","XX"]
[]
[]
[null,null,null,null,null,null,"2015-08-06","XX"]
[]
[]
[null,null,null,null,null,null,"2015-08-07","XX"]
[]
[]
[null,null,null,null,null,null,"2015-08-08","XX"]
[]
[]
[null,null,null,null,null,null,"2015-08-09","XX"]
[]
[]
[null,null,null,null,null,null,"ASTREINTES/TOURNEE DE LAMPE"]
[null,null,null,null,null,null,"INFORMATIONS DIVERSES"]
[null,null,null,null,null,"SEMAINE 33","2015-08-10","XX"]
[]
[]
[null,null,null,null,null,null,"2015-08-11","XX"]
[]
[]
[null,null,null,null,null,null,"2015-08-12","XX"]
[]
[]
[null,null,null,null,null,null,"2015-08-13","XX"]
[]
[]
[null,null,null,null,null,null,"2015-08-14","XX"]
[]
[]
[null,null,null,null,null,null,"2015-08-15","XX"]
[]
[]
[null,null,null,null,null,null,"2015-08-16","XX"]
[]
[]
[null,null,null,null,null,null,"ASTREINTES/TOURNEE DE LAMPE"]
[null,null,null,null,null,null,"INFORMATIONS DIVERSES"]
[null,null,null,null,null,"SEMAINE 34","2015-08-17","XX"]
[]
[]
[null,null,null,null,null,null,"2015-08-18","XX"]
[]
[]
[null,null,null,null,null,null,"2015-08-19","XX"]
[]
[]
[null,null,null,null,null,null,"2015-08-20","XX"]
[]
[]
[null,null,null,null,null,null,"2015-08-21","XX"]
[]
[]
[null,null,null,null,null,null,"2015-08-22","XX"]
[]
[]
[null,null,null,null,null,null,"2015-08-23","XX"]
[]
[]
[null,null,null,null,null,null,"ASTREINTES/TOURNEE DE LAMPE"]
[null,null,null,null,null,null,"INFORMATIONS DIVERSES"]
[null,null,null,null,null,"SEMAINE 35","2015-08-24","XX"]
[]
[]
[null,null,null,null,null,null,"2015-08-25","XX"]
[]
[]
[null,null,null,null,null,null,"2015-08-26","XX"]
[]
[]
[null,null,null,null,null,null,"2015-08-27","XX"]
[]
[]
[null,null,null,null,null,null,"2015-08-28","XX"]
[]
[]
[null,null,null,null,null,null,"2015-08-29","XX"]
[]
[]
[null,null,null,null,null,null,"2015-08-30","XX"]
[]
[]
[null,null,null,null,null,null,"ASTREINTES/TOURNEE DE LAMPE"]
[null,null,null,null,null,null,"INFORMATIONS DIVERSES"]
[null,null,null,null,null,"SEMAINE 36","2015-08-31","XX"]
[]
[]
[null,null,null,null,null,null,"2015-09-01","XX"]
[]
[]
[null,null,null,null,null,null,"2015-09-02","XX"]
[]
[]
[null,null,null,null,null,null,"2015-09-03","XX"]
[]
[]
[null,null,null,null,null,null,"2015-09-04","XX"]
[null,null,null,null,null,null,null,null,null,"MAS XX BL873DN","MAS XX BL873DN"]
[]
[null,null,null,null,null,null,"2015-09-05","XX"]
[]
[]
[null,null,null,null,null,null,"2015-09-06","XX"]
[]
[]
[null,null,null,null,null,null,"ASTREINTES/TOURNEE DE LAMPE"]
[null,null,null,null,null,null,"INFORMATIONS DIVERSES"]
[null,null,null,null,null,"SEMAINE 37","2015-09-07","XX"]
[]
[]
[null,null,null,null,null,null,"2015-09-08","XX"]
[]
[]
[null,null,null,null,null,null,"2015-09-09","XX"]
[]
[]
[null,null,null,null,null,null,"2015-09-10","XX"]
[]
[]
[null,null,null,null,null,null,"2015-09-11","XX"]
[]
[]
[null,null,null,null,null,null,"2015-09-12","XX"]
[]
[]
[null,null,null,null,null,null,"2015-09-13","XX"]
[]
[]
[null,null,null,null,null,null,"ASTREINTES/TOURNEE DE LAMPE"]
[null,null,null,null,null,null,"INFORMATIONS DIVERSES"]
[null,null,null,null,null,"SEMAINE 38","2015-09-14","XX"]
[]
[]
[null,null,null,null,null,null,"2015-09-15","XX"]
[]
[]
[null,null,null,null,null,null,"2015-09-16","XX"]
[]
[]
[null,null,null,null,null,null,"2015-09-17","XX"]
[]
[]
[null,null,null,null,null,null,"2015-09-18","XX"]
[]
[]
[null,null,null,null,null,null,"2015-09-19","XX"]
[]
[]
[null,null,null,null,null,null,"2015-09-20","XX"]
[]
[]
[null,null,null,null,null,null,"ASTREINTES/TOURNEE DE LAMPE"]
[null,null,null,null,null,null,"INFORMATIONS DIVERSES"]
[null,null,null,null,null,"SEMAINE 39","2015-09-21","XX"]
[]
[]
[null,null,null,null,null,null,"2015-09-22","XX"]
[]
[]
[null,null,null,null,null,null,"2015-09-23","XX"]
[]
[]
[null,null,null,null,null,null,"2015-09-24","XX"]
[]
[]
[null,null,null,null,null,null,"2015-09-25","XX"]
[]
[]
[null,null,null,null,null,null,"2015-09-26","XX"]
[]
[]
[null,null,null,null,null,null,"2015-09-27","XX"]
[]
[]
[null,null,null,null,null,null,"ASTREINTES/TOURNEE DE LAMPE"]
[null,null,null,null,null,null,"INFORMATIONS DIVERSES"]
[null,null,null,null,null,"SEMAINE 40","2015-09-28","XX"]
[]
[]
[null,null,null,null,null,null,"2015-09-29","XX"]
[]
[]
[null,null,null,null,null,null,"2015-09-30","XX"]
[]
[]
[null,null,null,null,null,null,"2015-10-01","XX"]
[]
[]
[null,null,null,null,null,null,"2015-10-02","XX"]
[]
[]
[null,null,null,null,null,null,"2015-10-03","XX"]
[]
[]
[null,null,null,null,null,null,"2015-10-04","XX"]
[]
[]
[null,null,null,null,null,null,"ASTREINTES/TOURNEE DE LAMPE"]
[null,null,null,null,null,null,"INFORMATIONS DIVERSES"]
[null,null,null,null,null,"SEMAINE 41","2015-10-05","XX"]
[]
[]
[null,null,null,null,null,null,"2015-10-06","XX"]
[]
[]
[null,null,null,null,null,null,"2015-10-07","XX"]
[]
[]
[null,null,null,null,null,null,"2015-10-08","XX"]
[]
[]
[null,null,null,null,null,null,"2015-10-09","XX"]
[]
[]
[null,null,null,null,null,null,"2015-10-10","XX"]
[]
[]
[null,null,null,null,null,null,"2015-10-11","XX"]
[]
[]
[null,null,null,null,null,null,"ASTREINTES/TOURNEE DE LAMPE"]
[null,null,null,null,null,null,"INFORMATIONS DIVERSES"]
[null,null,null,null,null,"SEMAINE 42","2015-10-12","XX"]
[]
[]
[null,null,null,null,null,null,"2015-10-13","XX"]
[]
[]
[null,null,null,null,null,null,"2015-10-14","XX"]
[]
[]
[null,null,null,null,null,null,"2015-10-15","XX"]
[]
[]
[null,null,null,null,null,null,"2015-10-16","XX"]
[]
[]
[null,null,null,null,null,null,"2015-10-17","XX"]
[]
[]
[null,null,null,null,null,null,"2015-10-18","XX"]
[]
[]
[null,null,null,null,null,null,"ASTREINTES/TOURNEE DE LAMPE"]
[null,null,null,null,null,null,"INFORMATIONS DIVERSES"]
[null,null,null,null,null,"SEMAINE 43","2015-10-19","XX"]
[]
[]
[null,null,null,null,null,null,"2015-10-20","XX"]
[]
[]
[null,null,null,null,null,null,"2015-10-21","XX"]
[]
[]
[null,null,null,null,null,null,"2015-10-22","XX"]
[]
[]
[null,null,null,null,null,null,"2015-10-23","XX"]
[]
[]
[null,null,null,null,null,null,"2015-10-24","XX"]
[]
[]
[null,null,null,null,null,null,"2015-10-25","XX"]
[]
[]
[null,null,null,null,null,null,"ASTREINTES/TOURNEE DE LAMPE"]
[null,null,null,null,null,null,"INFORMATIONS DIVERSES"]
[null,null,null,null,null,"SEMAINE 44","2015-10-26","XX"]
[]
[]
[null,null,null,null,null,null,"2015-10-27","XX"]
[]
[]
[null,null,null,null,null,null,"2015-10-28","XX"]
[]
[]
[null,null,null,null,null,null,"2015-10-29","XX"]
[]
[]
[null,null,null,null,null,null,"2015-10-30","XX"]
[null,null,null,null,null,null,null,null,"MAS XX BL873DN","MAS XX BL873DN","MAS YY CH049BT"]
[]
[null,null,null,null,null,null,"2015-10-31","XX"]
[]
[]
[null,null,null,null,null,null,"2015-11-01","XX"]
[]
[]
[null,null,null,null,null,null,"ASTREINTES/TOURNEE DE LAMPE"]
[null,null,null,null,null,null,"INFORMATIONS DIVERSES"]
[null,null,null,null,null,"SEMAINE 45","2015-11-02","XX"]
[]
[]
[null,null,null,null,null,null,"2015-11-03","XX"]
[]
[]
[null,null,null,null,null,null,"2015-11-04","XX"]
[]
[]
[null,null,null,null,null,null,"2015-11-05","XX"]
[]
[]
[null,null,null,null,null,null,"2015-11-06","XX"]
[]
[]
[null,null,null,null,null,null,"2015-11-07","XX"]
[]
[]
[null,null,null,null,null,null,"2015-11-08","XX"]
[]
[]
[null,null,null,null,null,null,"ASTREINTES/TOURNEE DE LAMPE"]
[null,null,null,null,null,null,"INFORMATIONS DIVERSES"]
[null,null,null,null,null,"SEMAINE 46","2015-11-09","XX"]
[]
[]
[null,null,null,null,null,null,"2015-11-10","XX"]
[]
[]
[null,null,null,null,null,null,"2015-11-11","XX"]
[]
[]
[null,null,null,null,null,null,"2015-11-12","XX"]
[]
[]
[null,null,null,null,null,null,"2015-11-13","XX"]
[]
[]
[null,null,null,null,null,null,"2015-11-14","XX"]
[]
[]
[null,null,null,null,null,null,"2015-11-15","XX"]
[]
[]
[null,null,null,null,null,null,"ASTREINTES/TOURNEE DE LAMPE"]
[null,null,null,null,null,null,"INFORMATIONS DIVERSES"]
[null,null,null,null,null,"SEMAINE 47","2015-11-16","XX"]
[]
[]
[null,null,null,null,null,null,"2015-11-17","XX"]
[]
[]
[null,null,null,null,null,null,"2015-11-18","XX"]
[]
[]
[null,null,null,null,null,null,"2015-11-19","XX"]
[]
[]
[null,null,null,null,null,null,"2015-11-20","XX"]
[]
[]
[null,null,null,null,null,null,"2015-11-21","XX"]
[]
[]
[null,null,null,null,null,null,"2015-11-22","XX"]
[]
[]
[null,null,null,null,null,null,"ASTREINTES/TOURNEE DE LAMPE"]
[null,null,null,null,null,null,"INFORMATIONS DIVERSES"]
[null,null,null,null,null,"SEMAINE 48","2015-11-23","XX"]
[]
[]
[null,null,null,null,null,null,"2015-11-24","XX"]
[]
[]
[null,null,null,null,null,null,"2015-11-25","XX"]
[]
[]
[null,null,null,null,null,null,"2015-11-26","XX"]
[]
[]
[null,null,null,null,null,null,"2015-11-27","XX"]
[]
[]
[null,null,null,null,null,null,"2015-11-28","XX"]
[]
[]
[null,null,null,null,null,null,"2015-11-29","XX"]
[]
[]
[null,null,null,null,null,null,"ASTREINTES/TOURNEE DE LAMPE"]
[null,null,null,null,null,null,"INFORMATIONS DIVERSES"]
[null,null,null,null,null,"SEMAINE 49","2015-11-30","XX"]
[]
[]
[null,null,null,null,null,null,"2015-12-01","XX"]
[]
[]
[null,null,null,null,null,null,"2015-12-02","XX"]
[]
[]
[null,null,null,null,null,null,"2015-12-03","XX"]
[]
[]
[null,null,null,null,null,null,"2015-12-04","XX"]
[]
[]
[null,null,null,null,null,null,"2015-12-05","XX"]
[]
[]
[null,null,null,null,null,null,"2015-12-06","XX"]
[]
[]
[null,null,null,null,null,null,"ASTREINTES/TOURNEE DE LAMPE"]
[null,null,null,null,null,null,"INFORMATIONS DIVERSES"]
[null,null,null,null,null,"SEMAINE 50","2015-12-07","XX"]
[]
[]
[null,null,null,null,null,null,"2015-12-08","XX"]
[]
[]
[null,null,null,null,null,null,"2015-12-09","XX"]
[]
[]
[null,null,null,null,null,null,"2015-12-10","XX"]
[]
[]
[null,null,null,null,null,null,"2015-12-11","XX"]
[]
[]
[null,null,null,null,null,null,"2015-12-12","XX"]
[]
[]
[null,null,null,null,null,null,"2015-12-13","XX"]
[]
[]
[null,null,null,null,null,null,"ASTREINTES/TOURNEE DE LAMPE"]
[null,null,null,null,null,null,"INFORMATIONS DIVERSES"]
[null,null,null,null,null,"SEMAINE 51","2015-12-14","XX"]
[]
[]
[null,null,null,null,null,null,"2015-12-15","XX"]
[]
[]
[null,null,null,null,null,null,"2015-12-16","XX"]
[]
[]
[null,null,null,null,null,null,"2015-12-17","XX"]
[]
[]
[null,null,null,null,null,null,"2015-12-18","XX"]
[]
[]
[null,null,null,null,null,null,"2015-12-19","XX"]
[]
[]
[null,null,null,null,null,null,"2015-12-20","XX"]
[]
[]
[null,null,null,null,null,null,"ASTREINTES/TOURNEE DE LAMPE"]
[null,null,null,null,null,null,"INFORMATIONS DIVERSES"]
[null,null,null,null,null,"SEMAINE 52","2015-12-21","XX"]
[]
[]
[null,null,null,null,null,null,"2015-12-22","XX"]
[]
[]
[null,null,null,null,null,null,"2015-12-23","XX"]
[]
[]
[null,null,null,null,null,null,"2015-12-24","XX"]
[]
[]
[null,null,null,null,null,null,"2015-12-25","XX"]
[]
[]
[null,null,null,null,null,null,"2015-12-26","XX"]
[]
[]
[null,null,null,null,null,null,"2015-12-27","XX"]
[]
[]
[null,null,null,null,null,null,"ASTREINTES/TOURNEE DE LAMPE"]
[null,null,null,null,null,null,"INFORMATIONS DIVERSES"]
[null,null,null,null,null,"SEMAINE 53","2015-12-28","XX"]
[]
[]
[null,null,null,null,null,null,"2015-12-29","XX"]
[]
[]
[null,null,null,null,null,null,"2015-12-30","XX"]
[]
[]
[null,null,null,null,null,null,"2015-12-31","XX"]
[]
[]
[null,null,null,null,null,null,"2016-01-01","XX"]
[]
[]
[null,null,null,null,null,null,"2016-01-02","XX"]
[]
[]
[null,null,null,null,null,null,"2016-01-03","XX"]
[]
[]
[null,null,null,null,null,null,"ASTREINTES/TOURNEE DE LAMPE"]
[null,null,null,null,null,null,"INFORMATIONS DIVERSES"]

{"sheet":"Feuil1","index":1,"n_rows":9,"n_cols":2,"rows_kept":9,"cut":false,"hidden":false,"merged":[[0,1,7,1],[8,1,15,1]]}
[null,1]
[]
[]
[]
[]
[]
[]
[]
[null,2]

{"sheet":"DATA S1","index":2,"n_rows":35,"n_cols":24,"rows_kept":35,"cut":false,"hidden":false,"merged":[[34,18,34,20],[34,21,34,23],[34,0,34,2],[34,3,34,5],[34,6,34,8],[34,9,34,11],[34,12,34,14],[34,15,34,17]]}
["MAS XX ",{"$f":"IF(COUNTIF('PLANNING PRINCIPAL'!$I$10:$X$10,A1)>=1,\"\",ROW())","v":1},{"$f":"IF(ROW(A1)-ROW(A$1)+1>COUNT(B:B),\"\", INDEX(A:A,SMALL(B:B,1+ROW(A1)-ROW(A$1))))","v":"MAS XX "},{"$f":"A1","v":"MAS XX "},{"$f":"IF(COUNTIF('PLANNING PRINCIPAL'!$I$13:$X$13,D1)>=1,\"\",ROW())","v":1},{"$f":"IF(ROW(D1)-ROW(D$1)+1>COUNT(E:E),\"\", INDEX(D:D,SMALL(E:E,1+ROW(D1)-ROW(D$1))))","v":"MAS XX "},{"$f":"A1","v":"MAS XX "},{"$f":"IF(COUNTIF('PLANNING PRINCIPAL'!$I$16:$X$16,G1)>=1,\"\",ROW())","v":1},{"$f":"IF(ROW(G1)-ROW(G$1)+1>COUNT(H:H),\"\", INDEX(G:G,SMALL(H:H,1+ROW(G1)-ROW(G$1))))","v":"MAS XX "},{"$f":"A1","v":"MAS XX "},{"$f":"IF(COUNTIF('PLANNING PRINCIPAL'!$I$19:$X$19,J1)>=1,\"\",ROW())","v":1},{"$f":"IF(ROW(J1)-ROW(J$1)+1>COUNT(K:K),\"\", INDEX(J:J,SMALL(K:K,1+ROW(J1)-ROW(J$1))))","v":"MAS XX "},{"$f":"A1","v":"MAS XX "},{"$f":"IF(COUNTIF('PLANNING PRINCIPAL'!$I$22:$X$22,M1)>=1,\"\",ROW())","v":1},{"$f":"IF(ROW(M1)-ROW(M$1)+1>COUNT(N:N),\"\", INDEX(M:M,SMALL(N:N,1+ROW(M1)-ROW(M$1))))","v":"MAS XX "},{"$f":"A1","v":"MAS XX "},{"$f":"IF(COUNTIF('PLANNING PRINCIPAL'!$I$25:$X$25,P1)>=1,\"\",ROW())","v":1},{"$f":"IF(ROW(P1)-ROW(P$1)+1>COUNT(Q:Q),\"\", INDEX(P:P,SMALL(Q:Q,1+ROW(P1)-ROW(P$1))))","v":"MAS XX "},{"$f":"A1","v":"MAS XX "},{"$f":"IF(COUNTIF('PLANNING PRINCIPAL'!$I$28:$X$28,S1)>=1,\"\",ROW())","v":1},{"$f":"IF(ROW(S1)-ROW(S$1)+1>COUNT(T:T),\"\", INDEX(S:S,SMALL(T:T,1+ROW(S1)-ROW(S$1))))","v":"MAS XX "},"ASTREINTE SLT",{"$f":"IF(COUNTIF('PLANNING PRINCIPAL'!$I$30:$X$30,V1)>=1,\"\",ROW())","v":1},{"$f":"IF(ROW(V1)-ROW(V$1)+1>COUNT(W:W),\"\", INDEX(V:V,SMALL(W:W,1+ROW(V1)-ROW(V$1))))","v":"ASTREINTE SLT"}]
["MAS YY ",{"$f":"IF(COUNTIF('PLANNING PRINCIPAL'!$I$10:$X$10,A2)>=1,\"\",ROW())","v":2},{"$f":"IF(ROW(A2)-ROW(A$1)+1>COUNT(B:B),\"\", INDEX(A:A,SMALL(B:B,1+ROW(A2)-ROW(A$1))))","v":"MAS YY "},"MAS YY ",{"$f":"IF(COUNTIF('PLANNING PRINCIPAL'!$I$13:$X$13,D2)>=1,\"\",ROW())","v":2},{"$f":"IF(ROW(D2)-ROW(D$1)+1>COUNT(E:E),\"\", INDEX(D:D,SMALL(E:E,1+ROW(D2)-ROW(D$1))))","v":"MAS YY "},{"$f":"A2","v":"MAS YY "},{"$f":"IF(COUNTIF('PLANNING PRINCIPAL'!$I$16:$X$16,G2)>=1,\"\",ROW())","v":2},{"$f":"IF(ROW(G2)-ROW(G$1)+1>COUNT(H:H),\"\", INDEX(G:G,SMALL(H:H,1+ROW(G2)-ROW(G$1))))","v":"MAS YY "},{"$f":"A2","v":"MAS YY "},{"$f":"IF(COUNTIF('PLANNING PRINCIPAL'!$I$19:$X$19,J2)>=1,\"\",ROW())","v":2},{"$f":"IF(ROW(J2)-ROW(J$1)+1>COUNT(K:K),\"\", INDEX(J:J,SMALL(K:K,1+ROW(J2)-ROW(J$1))))","v":"MAS YY "},{"$f":"A2","v":"MAS YY "},{"$f":"IF(COUNTIF('PLANNING PRINCIPAL'!$I$22:$X$22,M2)>=1,\"\",ROW())","v":2},{"$f":"IF(ROW(M2)-ROW(M$1)+1>COUNT(N:N),\"\", INDEX(M:M,SMALL(N:N,1+ROW(M2)-ROW(M$1))))","v":"MAS YY "},{"$f":"A2","v":"MAS YY "},{"$f":"IF(COUNTIF('PLANNING PRINCIPAL'!$I$25:$X$25,P2)>=1,\"\",ROW())","v":2},{"$f":"IF(ROW(P2)-ROW(P$1)+1>COUNT(Q:Q),\"\", INDEX(P:P,SMALL(Q:Q,1+ROW(P2)-ROW(P$1))))","v":"MAS YY "},{"$f":"A2","v":"MAS YY "},{"$f":"IF(COUNTIF('PLANNING PRINCIPAL'!$I$28:$X$28,S2)>=1,\"\",ROW())","v":2},{"$f":"IF(ROW(S2)-ROW(S$1)+1>COUNT(T:T),\"\", INDEX(S:S,SMALL(T:T,1+ROW(S2)-ROW(S$1))))","v":"MAS YY "},"ASTREINTE EP",{"$f":"IF(COUNTIF('PLANNING PRINCIPAL'!$I$30:$X$30,V2)>=1,\"\",ROW())","v":2},{"$f":"IF(ROW(V2)-ROW(V$1)+1>COUNT(W:W),\"\", INDEX(V:V,SMALL(W:W,1+ROW(V2)-ROW(V$1))))","v":"ASTREINTE EP"}]
["MAS VQ ",{"$f":"IF(COUNTIF('PLANNING PRINCIPAL'!$I$10:$X$10,A3)>=1,\"\",ROW())","v":3},"MAS VQ ","MAS VQ ",{"$f":"IF(COUNTIF('PLANNING PRINCIPAL'!$I$13:$X$13,D3)>=1,\"\",ROW())","v":3},"MAS VQ ","MAS VQ ",{"$f":"IF(COUNTIF('PLANNING PRINCIPAL'!$I$16:$X$16,G3)>=1,\"\",ROW())","v":3},"MAS VQ ","MAS VQ ",{"$f":"IF(COUNTIF('PLANNING PRINCIPAL'!$I$19:$X$19,J3)>=1,\"\",ROW())","v":3},"MAS VQ ","MAS VQ ",{"$f":"IF(COUNTIF('PLANNING PRINCIPAL'!$I$22:$X$22,M3)>=1,\"\",ROW())","v":3},"MAS VQ ","MAS VQ ",{"$f":"IF(COUNTIF('PLANNING PRINCIPAL'!$I$25:$X$25,P3)>=1,\"\",ROW())","v":3},"MAS VQ ","MAS VQ ",{"$f":"IF(COUNTIF('PLANNING PRINCIPAL'!$I$28:$X$28,S3)>=1,\"\",ROW())","v":3},"MAS VQ ","V NOC CHARTRES",{"$f":"IF(COUNTIF('PLANNING PRINCIPAL'!$I$30:$X$30,V3)>=1,\"\",ROW())","v":3},"V NOC CHARTRES"]
["MAS PL ",{"$f":"IF(COUNTIF('PLANNING PRINCIPAL'!$I$10:$X$10,A4)>=1,\"\",ROW())","v":4},"MAS PL ","MAS PL ",{"$f":"IF(COUNTIF('PLANNING PRINCIPAL'!$I$13:$X$13,D4)>=1,\"\",ROW())","v":4},"MAS PL ","MAS PL ",{"$f":"IF(COUNTIF('PLANNING PRINCIPAL'!$I$16:$X$16,G4)>=1,\"\",ROW())","v":4},"MAS PL ","MAS PL ",{"$f":"IF(COUNTIF('PLANNING PRINCIPAL'!$I$19:$X$19,J4)>=1,\"\",ROW())","v":4},"MAS PL ","MAS PL ",{"$f":"IF(COUNTIF('PLANNING PRINCIPAL'!$I$22:$X$22,M4)>=1,\"\",ROW())","v":4},"MAS PL ","MAS PL ",{"$f":"IF(COUNTIF('PLANNING PRINCIPAL'!$I$25:$X$25,P4)>=1,\"\",ROW())","v":4},"MAS PL ","MAS PL ",{"$f":"IF(COUNTIF('PLANNING PRINCIPAL'!$I$28:$X$28,S4)>=1,\"\",ROW())","v":4},"MAS PL ","V NOC EPERNON",{"$f":"IF(COUNTIF('PLANNING PRINCIPAL'!$I$30:$X$30,V4)>=1,\"\",ROW())","v":4},"V NOC EPERNON"]
["BEN VL PT ",{"$f":"IF(COUNTIF('PLANNING PRINCIPAL'!$I$10:$X$10,A5)>=1,\"\",ROW())","v":5},"BEN VL PT ","BEN VL PT ",{"$f":"IF(COUNTIF('PLANNING PRINCIPAL'!$I$13:$X$13,D5)>=1,\"\",ROW())","v":5},"BEN VL PT ","BEN VL PT ",{"$f":"IF(COUNTIF('PLANNING PRINCIPAL'!$I$16:$X$16,G5)>=1,\"\",ROW())","v":5},"BEN VL PT ","BEN VL PT ",{"$f":"IF(COUNTIF('PLANNING PRINCIPAL'!$I$19:$X$19,J5)>=1,\"\",ROW())","v":5},"BEN VL PT ","BEN VL PT ",{"$f":"IF(COUNTIF('PLANNING PRINCIPAL'!$I$22:$X$22,M5)>=1,\"\",ROW())","v":5},"BEN VL PT ","BEN VL PT ",{"$f":"IF(COUNTIF('PLANNING PRINCIPAL'!$I$25:$X$25,P5)>=1,\"\",ROW())","v":5},"BEN VL PT ","BEN VL PT ",{"$f":"IF(COUNTIF('PLANNING PRINCIPAL'!$I$28:$X$28,S5)>=1,\"\",ROW())","v":5},"BEN VL PT ","V NOC HANCHES",{"$f":"IF(COUNTIF('PLANNING PRINCIPAL'!$I$30:$X$30,V5)>=1,\"\",ROW())","v":5},"V NOC HANCHES"]
["BEN 19T ",{"$f":"IF(COUNTIF('PLANNING PRINCIPAL'!$I$10:$X$10,A6)>=1,\"\",ROW())","v":6},"BEN 19T ","BEN 19T ",{"$f":"IF(COUNTIF('PLANNING PRINCIPAL'!$I$13:$X$13,D6)>=1,\"\",ROW())","v":6},"BEN 19T ","BEN 19T ",{"$f":"IF(COUNTIF('PLANNING PRINCIPAL'!$I$16:$X$16,G6)>=1,\"\",ROW())","v":6},"BEN 19T ","BEN 19T ",{"$f":"IF(COUNTIF('PLANNING PRINCIPAL'!$I$19:$X$19,J6)>=1,\"\",ROW())","v":6},"BEN 19T ","BEN 19T ",{"$f":"IF(COUNTIF('PLANNING PRINCIPAL'!$I$22:$X$22,M6)>=1,\"\",ROW())","v":6},"BEN 19T ","BEN 19T ",{"$f":"IF(COUNTIF('PLANNING PRINCIPAL'!$I$25:$X$25,P6)>=1,\"\",ROW())","v":6},"BEN 19T ","BEN 19T ",{"$f":"IF(COUNTIF('PLANNING PRINCIPAL'!$I$28:$X$28,S6)>=1,\"\",ROW())","v":6},"BEN 19T ","V NOC MAINTENON",{"$f":"IF(COUNTIF('PLANNING PRINCIPAL'!$I$30:$X$30,V6)>=1,\"\",ROW())","v":6},"V NOC MAINTENON"]
["BEN 13T ",{"$f":"IF(COUNTIF('PLANNING PRINCIPAL'!$I$10:$X$10,A7)>=1,\"\",ROW())","v":7},"BEN 13T ","BEN 13T ",{"$f":"IF(COUNTIF('PLANNING PRINCIPAL'!$I$13:$X$13,D7)>=1,\"\",ROW())","v":7},"BEN 13T ","BEN 13T ",{"$f":"IF(COUNTIF('PLANNING PRINCIPAL'!$I$16:$X$16,G7)>=1,\"\",ROW())","v":7},"BEN 13T ","BEN 13T ",{"$f":"IF(COUNTIF('PLANNING PRINCIPAL'!$I$19:$X$19,J7)>=1,\"\",ROW())","v":7},"BEN 13T ","BEN 13T ",{"$f":"IF(COUNTIF('PLANNING PRINCIPAL'!$I$22:$X$22,M7)>=1,\"\",ROW())","v":7},"BEN 13T ","BEN 13T ",{"$f":"IF(COUNTIF('PLANNING PRINCIPAL'!$I$25:$X$25,P7)>=1,\"\",ROW())","v":7},"BEN 13T ","BEN 13T ",{"$f":"IF(COUNTIF('PLANNING PRINCIPAL'!$I$28:$X$28,S7)>=1,\"\",ROW())","v":7},"BEN 13T ",null,{"$f":"IF(COUNTIF('PLANNING PRINCIPAL'!$I$30:$X$30,V7)>=1,\"\",ROW())","v":7}]
["NAC VL 18M ",{"$f":"IF(COUNTIF('PLANNING PRINCIPAL'!$I$10:$X$10,A8)>=1,\"\",ROW())","v":8},"NAC VL 18M ","NAC VL 18M ",{"$f":"IF(COUNTIF('PLANNING PRINCIPAL'!$I$13:$X$13,D8)>=1,\"\",ROW())","v":8},"NAC VL 18M ","NAC VL 18M ",{"$f":"IF(COUNTIF('PLANNING PRINCIPAL'!$I$16:$X$16,G8)>=1,\"\",ROW())","v":8},"NAC VL 18M ","NAC VL 18M ",{"$f":"IF(COUNTIF('PLANNING PRINCIPAL'!$I$19:$X$19,J8)>=1,\"\",ROW())","v":8},"NAC VL 18M ","NAC VL 18M ",{"$f":"IF(COUNTIF('PLANNING PRINCIPAL'!$I$22:$X$22,M8)>=1,\"\",ROW())","v":8},"NAC VL 18M ","NAC VL 18M ",{"$f":"IF(COUNTIF('PLANNING PRINCIPAL'!$I$25:$X$25,P8)>=1,\"\",ROW())","v":8},"NAC VL 18M ","NAC VL 18M ",{"$f":"IF(COUNTIF('PLANNING PRINCIPAL'!$I$28:$X$28,S8)>=1,\"\",ROW())","v":8},"NAC VL 18M ",null,{"$f":"IF(COUNTIF('PLANNING PRINCIPAL'!$I$30:$X$30,V8)>=1,\"\",ROW())","v":8}]
["NAC EGIE",{"$f":"IF(COUNTIF('PLANNING PRINCIPAL'!$I$10:$X$10,A9)>=1,\"\",ROW())","v":9},"NAC EGIE","NAC EGIE",{"$f":"IF(COUNTIF('PLANNING PRINCIPAL'!$I$13:$X$13,D9)>=1,\"\",ROW())","v":9},"NAC EGIE","NAC EGIE",{"$f":"IF(COUNTIF('PLANNING PRINCIPAL'!$I$16:$X$16,G9)>=1,\"\",ROW())","v":9},"NAC EGIE","NAC EGIE",{"$f":"IF(COUNTIF('PLANNING PRINCIPAL'!$I$19:$X$19,J9)>=1,\"\",ROW())","v":9},"NAC EGIE","NAC EGIE",{"$f":"IF(COUNTIF('PLANNING PRINCIPAL'!$I$22:$X$22,M9)>=1,\"\",ROW())","v":9},"NAC EGIE","NAC EGIE",{"$f":"IF(COUNTIF('PLANNING PRINCIPAL'!$I$25:$X$25,P9)>=1,\"\",ROW())","v":9},"NAC EGIE","NAC EGIE",{"$f":"IF(COUNTIF('PLANNING PRINCIPAL'!$I$28:$X$28,S9)>=1,\"\",ROW())","v":9},"NAC EGIE",null,{"$f":"IF(COUNTIF('PLANNING PRINCIPAL'!$I$30:$X$30,V9)>=1,\"\",ROW())","v":9}]
["NAC COMI ",{"$f":"IF(COUNTIF('PLANNING PRINCIPAL'!$I$10:$X$10,A10)>=1,\"\",ROW())","v":10},"NAC COMI ","NAC COMI ",{"$f":"IF(COUNTIF('PLANNING PRINCIPAL'!$I$13:$X$13,D10)>=1,\"\",ROW())","v":10},"NAC COMI ","NAC COMI ",{"$f":"IF(COUNTIF('PLANNING PRINCIPAL'!$I$16:$X$16,G10)>=1,\"\",ROW())","v":10},"NAC COMI ","NAC COMI ",{"$f":"IF(COUNTIF('PLANNING PRINCIPAL'!$I$19:$X$19,J10)>=1,\"\",ROW())","v":10},"NAC COMI ","NAC COMI ",{"$f":"IF(COUNTIF('PLANNING PRINCIPAL'!$I$22:$X$22,M10)>=1,\"\",ROW())","v":10},"NAC COMI ","NAC COMI ",{"$f":"IF(COUNTIF('PLANNING PRINCIPAL'!$I$25:$X$25,P10)>=1,\"\",ROW())","v":10},"NAC COMI ","NAC COMI ",{"$f":"IF(COUNTIF('PLANNING PRINCIPAL'!$I$28:$X$28,S10)>=1,\"\",ROW())","v":10},"NAC COMI ",null,{"$f":"IF(COUNTIF('PLANNING PRINCIPAL'!$I$30:$X$30,V10)>=1,\"\",ROW())","v":10}]
["#####LOCATION#####",{"$f":"IF(COUNTIF('PLANNING PRINCIPAL'!$I$10:$X$10,A11)>=1,\"\",ROW())","v":11},"#####LOCATION#####","#####LOCATION#####",{"$f":"IF(COUNTIF('PLANNING PRINCIPAL'!$I$13:$X$13,D11)>=1,\"\",ROW())","v":11},"#####LOCATION#####","#####LOCATION#####",{"$f":"IF(COUNTIF('PLANNING PRINCIPAL'!$I$16:$X$16,G11)>=1,\"\",ROW())","v":11},"#####LOCATION#####","#####LOCATION#####",{"$f":"IF(COUNTIF('PLANNING PRINCIPAL'!$I$19:$X$19,J11)>=1,\"\",ROW())","v":11},"#####LOCATION#####","#####LOCATION#####",{"$f":"IF(COUNTIF('PLANNING PRINCIPAL'!$I$22:$X$22,M11)>=1,\"\",ROW())","v":11},"#####LOCATION#####","#####LOCATION#####",{"$f":"IF(COUNTIF('PLANNING PRINCIPAL'!$I$25:$X$25,P11)>=1,\"\",ROW())","v":11},"#####LOCATION#####","#####LOCATION#####",{"$f":"IF(COUNTIF('PLANNING PRINCIPAL'!$I$28:$X$28,S11)>=1,\"\",ROW())","v":11},"#####LOCATION#####",null,{"$f":"IF(COUNTIF('PLANNING PRINCIPAL'!$I$30:$X$30,V11)>=1,\"\",ROW())","v":11}]
["LOC NAC SOLOMAT",{"$f":"IF(COUNTIF('PLANNING PRINCIPAL'!$I$10:$X$10,A12)>=1,\"\",ROW())","v":12},"LOC NAC SOLOMAT","LOC NAC SOLOMAT",{"$f":"IF(COUNTIF('PLANNING PRINCIPAL'!$I$13:$X$13,D12)>=1,\"\",ROW())","v":12},"LOC NAC SOLOMAT","LOC NAC SOLOMAT",{"$f":"IF(COUNTIF('PLANNING PRINCIPAL'!$I$16:$X$16,G12)>=1,\"\",ROW())","v":12},"LOC NAC SOLOMAT","LOC NAC SOLOMAT",{"$f":"IF(COUNTIF('PLANNING PRINCIPAL'!$I$19:$X$19,J12)>=1,\"\",ROW())","v":12},"LOC NAC SOLOMAT","LOC NAC SOLOMAT",{"$f":"IF(COUNTIF('PLANNING PRINCIPAL'!$I$22:$X$22,M12)>=1,\"\",ROW())","v":12},"LOC NAC SOLOMAT","LOC NAC SOLOMAT",{"$f":"IF(COUNTIF('PLANNING PRINCIPAL'!$I$25:$X$25,P12)>=1,\"\",ROW())","v":12},"LOC NAC SOLOMAT","LOC NAC SOLOMAT",{"$f":"IF(COUNTIF('PLANNING PRINCIPAL'!$I$28:$X$28,S12)>=1,\"\",ROW())","v":12},"LOC NAC SOLOMAT",null,{"$f":"IF(COUNTIF('PLANNING PRINCIPAL'!$I$30:$X$30,V12)>=1,\"\",ROW())","v":12}]
["LOC NAC AEB",{"$f":"IF(COUNTIF('PLANNING PRINCIPAL'!$I$10:$X$10,A13)>=1,\"\",ROW())","v":13},"LOC NAC AEB","LOC NAC AEB",{"$f":"IF(COUNTIF('PLANNING PRINCIPAL'!$I$13:$X$13,D13)>=1,\"\",ROW())","v":13},"LOC NAC AEB","LOC NAC AEB",{"$f":"IF(COUNTIF('PLANNING PRINCIPAL'!$I$16:$X$16,G13)>=1,\"\",ROW())","v":13},"LOC NAC AEB","LOC NAC AEB",{"$f":"IF(COUNTIF('PLANNING PRINCIPAL'!$I$19:$X$19,J13)>=1,\"\",ROW())","v":13},"LOC NAC AEB","LOC NAC AEB",{"$f":"IF(COUNTIF('PLANNING PRINCIPAL'!$I$22:$X$22,M13)>=1,\"\",ROW())","v":13},"LOC NAC AEB","LOC NAC AEB",{"$f":"IF(COUNTIF('PLANNING PRINCIPAL'!$I$25:$X$25,P13)>=1,\"\",ROW())","v":13},"LOC NAC AEB","LOC NAC AEB",{"$f":"IF(COUNTIF('PLANNING PRINCIPAL'!$I$28:$X$28,S13)>=1,\"\",ROW())","v":13},"LOC NAC AEB",null,{"$f":"IF(COUNTIF('PLANNING PRINCIPAL'!$I$30:$X$30,V13)>=1,\"\",ROW())","v":13}]
["LOC NAC INTERLOC",{"$f":"IF(COUNTIF('PLANNING PRINCIPAL'!$I$10:$X$10,A14)>=1,\"\",ROW())","v":14},"LOC NAC INTERLOC","LOC NAC INTERLOC",{"$f":"IF(COUNTIF('PLANNING PRINCIPAL'!$I$13:$X$13,D14)>=1,\"\",ROW())","v":14},"LOC NAC INTERLOC","LOC NAC INTERLOC",{"$f":"IF(COUNTIF('PLANNING PRINCIPAL'!$I$16:$X$16,G14)>=1,\"\",ROW())","v":14},"LOC NAC INTERLOC","LOC NAC INTERLOC",{"$f":"IF(COUNTIF('PLANNING PRINCIPAL'!$I$19:$X$19,J14)>=1,\"\",ROW())","v":14},"LOC NAC INTERLOC","LOC NAC INTERLOC",{"$f":"IF(COUNTIF('PLANNING PRINCIPAL'!$I$22:$X$22,M14)>=1,\"\",ROW())","v":14},"LOC NAC INTERLOC","LOC NAC INTERLOC",{"$f":"IF(COUNTIF('PLANNING PRINCIPAL'!$I$25:$X$25,P14)>=1,\"\",ROW())","v":14},"LOC NAC INTERLOC","LOC NAC INTERLOC",{"$f":"IF(COUNTIF('PLANNING PRINCIPAL'!$I$28:$X$28,S14)>=1,\"\",ROW())","v":14},"LOC NAC INTERLOC",null,{"$f":"IF(COUNTIF('PLANNING PRINCIPAL'!$I$30:$X$30,V14)>=1,\"\",ROW())","v":14}]
["LOC NAC KILOUTOU",{"$f":"IF(COUNTIF('PLANNING PRINCIPAL'!$I$10:$X$10,A15)>=1,\"\",ROW())","v":15},"LOC NAC KILOUTOU","LOC NAC KILOUTOU",{"$f":"IF(COUNTIF('PLANNING PRINCIPAL'!$I$13:$X$13,D15)>=1,\"\",ROW())","v":15},"LOC NAC KILOUTOU","LOC NAC KILOUTOU",{"$f":"IF(COUNTIF('PLANNING PRINCIPAL'!$I$16:$X$16,G15)>=1,\"\",ROW())","v":15},"LOC NAC KILOUTOU","LOC NAC KILOUTOU",{"$f":"IF(COUNTIF('PLANNING PRINCIPAL'!$I$19:$X$19,J15)>=1,\"\",ROW())","v":15},"LOC NAC KILOUTOU","LOC NAC KILOUTOU",{"$f":"IF(COUNTIF('PLANNING PRINCIPAL'!$I$22:$X$22,M15)>=1,\"\",ROW())","v":15},"LOC NAC KILOUTOU","LOC NAC KILOUTOU",{"$f":"IF(COUNTIF('PLANNING PRINCIPAL'!$I$25:$X$25,P15)>=1,\"\",ROW())","v":15},"LOC NAC KILOUTOU","LOC NAC KILOUTOU",{"$f":"IF(COUNTIF('PLANNING PRINCIPAL'!$I$28:$X$28,S15)>=1,\"\",ROW())","v":15},"LOC NAC KILOUTOU",null,{"$f":"IF(COUNTIF('PLANNING PRINCIPAL'!$I$30:$X$30,V15)>=1,\"\",ROW())","v":15}]
["LOC NAC AEB",{"$f":"IF(COUNTIF('PLANNING PRINCIPAL'!$I$10:$X$10,A16)>=1,\"\",ROW())","v":16},"LOC NAC AEB","LOC NAC AEB",{"$f":"IF(COUNTIF('PLANNING PRINCIPAL'!$I$13:$X$13,D16)>=1,\"\",ROW())","v":16},"LOC NAC AEB","LOC NAC AEB",{"$f":"IF(COUNTIF('PLANNING PRINCIPAL'!$I$16:$X$16,G16)>=1,\"\",ROW())","v":16},"LOC NAC AEB","LOC NAC AEB",{"$f":"IF(COUNTIF('PLANNING PRINCIPAL'!$I$19:$X$19,J16)>=1,\"\",ROW())","v":16},"LOC NAC AEB","LOC NAC AEB",{"$f":"IF(COUNTIF('PLANNING PRINCIPAL'!$I$22:$X$22,M16)>=1,\"\",ROW())","v":16},"LOC NAC AEB","LOC NAC AEB",{"$f":"IF(COUNTIF('PLANNING PRINCIPAL'!$I$25:$X$25,P16)>=1,\"\",ROW())","v":16},"LOC NAC AEB","LOC NAC AEB",{"$f":"IF(COUNTIF('PLANNING PRINCIPAL'!$I$28:$X$28,S16)>=1,\"\",ROW())","v":16},"LOC NAC AEB",null,{"$f":"IF(COUNTIF('PLANNING PRINCIPAL'!$I$30:$X$30,V16)>=1,\"\",ROW())","v":16}]
["LOC PELLE SOLOMAT",{"$f":"IF(COUNTIF('PLANNING PRINCIPAL'!$I$10:$X$10,A17)>=1,\"\",ROW())","v":17},"LOC PELLE SOLOMAT","LOC PELLE SOLOMAT",{"$f":"IF(COUNTIF('PLANNING PRINCIPAL'!$I$13:$X$13,D17)>=1,\"\",ROW())","v":17},"LOC PELLE SOLOMAT","LOC PELLE SOLOMAT",{"$f":"IF(COUNTIF('PLANNING PRINCIPAL'!$I$16:$X$16,G17)>=1,\"\",ROW())","v":17},"LOC PELLE SOLOMAT","LOC PELLE SOLOMAT",{"$f":"IF(COUNTIF('PLANNING PRINCIPAL'!$I$19:$X$19,J17)>=1,\"\",ROW())","v":17},"LOC PELLE SOLOMAT","LOC PELLE SOLOMAT",{"$f":"IF(COUNTIF('PLANNING PRINCIPAL'!$I$22:$X$22,M17)>=1,\"\",ROW())","v":17},"LOC PELLE SOLOMAT","LOC PELLE SOLOMAT",{"$f":"IF(COUNTIF('PLANNING PRINCIPAL'!$I$25:$X$25,P17)>=1,\"\",ROW())","v":17},"LOC PELLE SOLOMAT","LOC PELLE SOLOMAT",{"$f":"IF(COUNTIF('PLANNING PRINCIPAL'!$I$28:$X$28,S17)>=1,\"\",ROW())","v":17},"LOC PELLE SOLOMAT",null,{"$f":"IF(COUNTIF('PLANNING PRINCIPAL'!$I$30:$X$30,V17)>=1,\"\",ROW())","v":17}]
["LOC PELLE AEB",{"$f":"IF(COUNTIF('PLANNING PRINCIPAL'!$I$10:$X$10,A18)>=1,\"\",ROW())","v":18},"LOC PELLE AEB","LOC PELLE AEB",{"$f":"IF(COUNTIF('PLANNING PRINCIPAL'!$I$13:$X$13,D18)>=1,\"\",ROW())","v":18},"LOC PELLE AEB","LOC PELLE AEB",{"$f":"IF(COUNTIF('PLANNING PRINCIPAL'!$I$16:$X$16,G18)>=1,\"\",ROW())","v":18},"LOC PELLE AEB","LOC PELLE AEB",{"$f":"IF(COUNTIF('PLANNING PRINCIPAL'!$I$19:$X$19,J18)>=1,\"\",ROW())","v":18},"LOC PELLE AEB","LOC PELLE AEB",{"$f":"IF(COUNTIF('PLANNING PRINCIPAL'!$I$22:$X$22,M18)>=1,\"\",ROW())","v":18},"LOC PELLE AEB","LOC PELLE AEB",{"$f":"IF(COUNTIF('PLANNING PRINCIPAL'!$I$25:$X$25,P18)>=1,\"\",ROW())","v":18},"LOC PELLE AEB","LOC PELLE AEB",{"$f":"IF(COUNTIF('PLANNING PRINCIPAL'!$I$28:$X$28,S18)>=1,\"\",ROW())","v":18},"LOC PELLE AEB",null,{"$f":"IF(COUNTIF('PLANNING PRINCIPAL'!$I$30:$X$30,V18)>=1,\"\",ROW())","v":18}]
["LOC PELLE INTERLOC",{"$f":"IF(COUNTIF('PLANNING PRINCIPAL'!$I$10:$X$10,A19)>=1,\"\",ROW())","v":19},"LOC PELLE INTERLOC","LOC PELLE INTERLOC",{"$f":"IF(COUNTIF('PLANNING PRINCIPAL'!$I$13:$X$13,D19)>=1,\"\",ROW())","v":19},"LOC PELLE INTERLOC","LOC PELLE INTERLOC",{"$f":"IF(COUNTIF('PLANNING PRINCIPAL'!$I$16:$X$16,G19)>=1,\"\",ROW())","v":19},"LOC PELLE INTERLOC","LOC PELLE INTERLOC",{"$f":"IF(COUNTIF('PLANNING PRINCIPAL'!$I$19:$X$19,J19)>=1,\"\",ROW())","v":19},"LOC PELLE INTERLOC","LOC PELLE INTERLOC",{"$f":"IF(COUNTIF('PLANNING PRINCIPAL'!$I$22:$X$22,M19)>=1,\"\",ROW())","v":19},"LOC PELLE INTERLOC","LOC PELLE INTERLOC",{"$f":"IF(COUNTIF('PLANNING PRINCIPAL'!$I$25:$X$25,P19)>=1,\"\",ROW())","v":19},"LOC PELLE INTERLOC","LOC PELLE INTERLOC",{"$f":"IF(COUNTIF('PLANNING PRINCIPAL'!$I$28:$X$28,S19)>=1,\"\",ROW())","v":19},"LOC PELLE INTERLOC",null,{"$f":"IF(COUNTIF('PLANNING PRINCIPAL'!$I$30:$X$30,V19)>=1,\"\",ROW())","v":19}]
["LOC PELLE KILOUTOU",{"$f":"IF(COUNTIF('PLANNING PRINCIPAL'!$I$10:$X$10,A20)>=1,\"\",ROW())","v":20},"LOC PELLE KILOUTOU","LOC PELLE KILOUTOU",{"$f":"IF(COUNTIF('PLANNING PRINCIPAL'!$I$13:$X$13,D20)>=1,\"\",ROW())","v":20},"LOC PELLE KILOUTOU","LOC PELLE KILOUTOU",{"$f":"IF(COUNTIF('PLANNING PRINCIPAL'!$I$16:$X$16,G20)>=1,\"\",ROW())","v":20},"LOC PELLE KILOUTOU","LOC PELLE KILOUTOU",{"$f":"IF(COUNTIF('PLANNING PRINCIPAL'!$I$19:$X$19,J20)>=1,\"\",ROW())","v":20},"LOC PELLE KILOUTOU","LOC PELLE KILOUTOU",{"$f":"IF(COUNTIF('PLANNING PRINCIPAL'!$I$22:$X$22,M20)>=1,\"\",ROW())","v":20},"LOC PELLE KILOUTOU","LOC PELLE KILOUTOU",{"$f":"IF(COUNTIF('PLANNING PRINCIPAL'!$I$25:$X$25,P20)>=1,\"\",ROW())","v":20},"LOC PELLE KILOUTOU","LOC PELLE KILOUTOU",{"$f":"IF(COUNTIF('PLANNING PRINCIPAL'!$I$28:$X$28,S20)>=1,\"\",ROW())","v":20},"LOC PELLE KILOUTOU",null,{"$f":"IF(COUNTIF('PLANNING PRINCIPAL'!$I$30:$X$30,V20)>=1,\"\",ROW())","v":20}]
[null,{"$f":"IF(COUNTIF('PLANNING PRINCIPAL'!$I$10:$X$10,A21)>=1,\"\",ROW())","v":21},null,null,{"$f":"IF(COUNTIF('PLANNING PRINCIPAL'!$I$13:$X$13,D21)>=1,\"\",ROW())","v":21},null,null,{"$f":"IF(COUNTIF('PLANNING PRINCIPAL'!$I$16:$X$16,G21)>=1,\"\",ROW())","v":21},null,null,{"$f":"IF(COUNTIF('PLANNING PRINCIPAL'!$I$19:$X$19,J21)>=1,\"\",ROW())","v":21},null,null,{"$f":"IF(COUNTIF('PLANNING PRINCIPAL'!$I$22:$X$22,M21)>=1,\"\",ROW())","v":21},null,null,{"$f":"IF(COUNTIF('PLANNING PRINCIPAL'!$I$25:$X$25,P21)>=1,\"\",ROW())","v":21},null,null,{"$f":"IF(COUNTIF('PLANNING PRINCIPAL'!$I$28:$X$28,S21)>=1,\"\",ROW())","v":21},null,null,{"$f":"IF(COUNTIF('PLANNING PRINCIPAL'!$I$30:$X$30,V21)>=1,\"\",ROW())","v":21}]
[null,{"$f":"IF(COUNTIF('PLANNING PRINCIPAL'!$I$10:$X$10,A22)>=1,\"\",ROW())","v":22},null,null,{"$f":"IF(COUNTIF('PLANNING PRINCIPAL'!$I$13:$X$13,D22)>=1,\"\",ROW())","v":22},null,null,{"$f":"IF(COUNTIF('PLANNING PRINCIPAL'!$I$16:$X$16,G22)>=1,\"\",ROW())","v":22},null,null,{"$f":"IF(COUNTIF('PLANNING PRINCIPAL'!$I$19:$X$19,J22)>=1,\"\",ROW())","v":22},null,null,{"$f":"IF(COUNTIF('PLANNING PRINCIPAL'!$I$22:$X$22,M22)>=1,\"\",ROW())","v":22},null,null,{"$f":"IF(COUNTIF('PLANNING PRINCIPAL'!$I$25:$X$25,P22)>=1,\"\",ROW())","v":22},null,null,{"$f":"IF(COUNTIF('PLANNING PRINCIPAL'!$I$28:$X$28,S22)>=1,\"\",ROW())","v":22},null,null,{"$f":"IF(COUNTIF('PLANNING PRINCIPAL'!$I$30:$X$30,V22)>=1,\"\",ROW())","v":22}]
[null,{"$f":"IF(COUNTIF('PLANNING PRINCIPAL'!$I$10:$X$10,A23)>=1,\"\",ROW())","v":23},null,null,{"$f":"IF(COUNTIF('PLANNING PRINCIPAL'!$I$13:$X$13,D23)>=1,\"\",ROW())","v":23},null,null,{"$f":"IF(COUNTIF('PLANNING PRINCIPAL'!$I$16:$X$16,G23)>=1,\"\",ROW())","v":23},null,null,{"$f":"IF(COUNTIF('PLANNING PRINCIPAL'!$I$19:$X$19,J23)>=1,\"\",ROW())","v":23},null,null,{"$f":"IF(COUNTIF('PLANNING PRINCIPAL'!$I$22:$X$22,M23)>=1,\"\",ROW())","v":23},null,null,{"$f":"IF(COUNTIF('PLANNING PRINCIPAL'!$I$25:$X$25,P23)>=1,\"\",ROW())","v":23},null,null,{"$f":"IF(COUNTIF('PLANNING PRINCIPAL'!$I$28:$X$28,S23)>=1,\"\",ROW())","v":23},null,null,{"$f":"IF(COUNTIF('PLANNING PRINCIPAL'!$I$30:$X$30,V23)>=1,\"\",ROW())","v":23}]
[null,{"$f":"IF(COUNTIF('PLANNING PRINCIPAL'!$I$10:$X$10,A24)>=1,\"\",ROW())","v":24},null,null,{"$f":"IF(COUNTIF('PLANNING PRINCIPAL'!$I$13:$X$13,D24)>=1,\"\",ROW())","v":24},null,null,{"$f":"IF(COUNTIF('PLANNING PRINCIPAL'!$I$16:$X$16,G24)>=1,\"\",ROW())","v":24},null,null,{"$f":"IF(COUNTIF('PLANNING PRINCIPAL'!$I$19:$X$19,J24)>=1,\"\",ROW())","v":24},null,null,{"$f":"IF(COUNTIF('PLANNING PRINCIPAL'!$I$22:$X$22,M24)>=1,\"\",ROW())","v":24},null,null,{"$f":"IF(COUNTIF('PLANNING PRINCIPAL'!$I$25:$X$25,P24)>=1,\"\",ROW())","v":24},null,null,{"$f":"IF(COUNTIF('PLANNING PRINCIPAL'!$I$28:$X$28,S24)>=1,\"\",ROW())","v":24},null,null,{"$f":"IF(COUNTIF('PLANNING PRINCIPAL'!$I$30:$X$30,V24)>=1,\"\",ROW())","v":24}]
[null,{"$f":"IF(COUNTIF('PLANNING PRINCIPAL'!$I$10:$X$10,A25)>=1,\"\",ROW())","v":25},null,null,{"$f":"IF(COUNTIF('PLANNING PRINCIPAL'!$I$13:$X$13,D25)>=1,\"\",ROW())","v":25},null,null,{"$f":"IF(COUNTIF('PLANNING PRINCIPAL'!$I$16:$X$16,G25)>=1,\"\",ROW())","v":25},null,null,{"$f":"IF(COUNTIF('PLANNING PRINCIPAL'!$I$19:$X$19,J25)>=1,\"\",ROW())","v":25},null,null,{"$f":"IF(COUNTIF('PLANNING PRINCIPAL'!$I$22:$X$22,M25)>=1,\"\",ROW())","v":25},null,null,{"$f":"IF(COUNTIF('PLANNING PRINCIPAL'!$I$25:$X$25,P25)>=1,\"\",ROW())","v":25},null,null,{"$f":"IF(COUNTIF('PLANNING PRINCIPAL'!$I$28:$X$28,S25)>=1,\"\",ROW())","v":25},null,null,{"$f":"IF(COUNTIF('PLANNING PRINCIPAL'!$I$30:$X$30,V25)>=1,\"\",ROW())","v":25}]
[null,{"$f":"IF(COUNTIF('PLANNING PRINCIPAL'!$I$10:$X$10,A26)>=1,\"\",ROW())","v":26},null,null,{"$f":"IF(COUNTIF('PLANNING PRINCIPAL'!$I$13:$X$13,D26)>=1,\"\",ROW())","v":26},null,null,{"$f":"IF(COUNTIF('PLANNING PRINCIPAL'!$I$16:$X$16,G26)>=1,\"\",ROW())","v":26},null,null,{"$f":"IF(COUNTIF('PLANNING PRINCIPAL'!$I$19:$X$19,J26)>=1,\"\",ROW())","v":26},null,null,{"$f":"IF(COUNTIF('PLANNING PRINCIPAL'!$I$22:$X$22,M26)>=1,\"\",ROW())","v":26},null,null,{"$f":"IF(COUNTIF('PLANNING PRINCIPAL'!$I$25:$X$25,P26)>=1,\"\",ROW())","v":26},null,null,{"$f":"IF(COUNTIF('PLANNING PRINCIPAL'!$I$28:$X$28,S26)>=1,\"\",ROW())","v":26},null,null,{"$f":"IF(COUNTIF('PLANNING PRINCIPAL'!$I$30:$X$30,V26)>=1,\"\",ROW())","v":26}]
[null,{"$f":"IF(COUNTIF('PLANNING PRINCIPAL'!$I$10:$X$10,A27)>=1,\"\",ROW())","v":27},null,null,{"$f":"IF(COUNTIF('PLANNING PRINCIPAL'!$I$13:$X$13,D27)>=1,\"\",ROW())","v":27},null,null,{"$f":"IF(COUNTIF('PLANNING PRINCIPAL'!$I$16:$X$16,G27)>=1,\"\",ROW())","v":27},null,null,{"$f":"IF(COUNTIF('PLANNING PRINCIPAL'!$I$19:$X$19,J27)>=1,\"\",ROW())","v":27},null,null,{"$f":"IF(COUNTIF('PLANNING PRINCIPAL'!$I$22:$X$22,M27)>=1,\"\",ROW())","v":27},null,null,{"$f":"IF(COUNTIF('PLANNING PRINCIPAL'!$I$25:$X$25,P27)>=1,\"\",ROW())","v":27},null,null,{"$f":"IF(COUNTIF('PLANNING PRINCIPAL'!$I$28:$X$28,S27)>=1,\"\",ROW())","v":27},null,null,{"$f":"IF(COUNTIF('PLANNING PRINCIPAL'!$I$30:$X$30,V27)>=1,\"\",ROW())","v":27}]
[null,{"$f":"IF(COUNTIF('PLANNING PRINCIPAL'!$I$10:$X$10,A28)>=1,\"\",ROW())","v":28},null,null,{"$f":"IF(COUNTIF('PLANNING PRINCIPAL'!$I$13:$X$13,D28)>=1,\"\",ROW())","v":28},null,null,{"$f":"IF(COUNTIF('PLANNING PRINCIPAL'!$I$16:$X$16,G28)>=1,\"\",ROW())","v":28},null,null,{"$f":"IF(COUNTIF('PLANNING PRINCIPAL'!$I$19:$X$19,J28)>=1,\"\",ROW())","v":28},null,null,{"$f":"IF(COUNTIF('PLANNING PRINCIPAL'!$I$22:$X$22,M28)>=1,\"\",ROW())","v":28},null,null,{"$f":"IF(COUNTIF('PLANNING PRINCIPAL'!$I$25:$X$25,P28)>=1,\"\",ROW())","v":28},null,null,{"$f":"IF(COUNTIF('PLANNING PRINCIPAL'!$I$28:$X$28,S28)>=1,\"\",ROW())","v":28},null,null,{"$f":"IF(COUNTIF('PLANNING PRINCIPAL'!$I$30:$X$30,V28)>=1,\"\",ROW())","v":28}]
[null,{"$f":"IF(COUNTIF('PLANNING PRINCIPAL'!$I$10:$X$10,A29)>=1,\"\",ROW())","v":29},null,null,{"$f":"IF(COUNTIF('PLANNING PRINCIPAL'!$I$13:$X$13,D29)>=1,\"\",ROW())","v":29},null,null,{"$f":"IF(COUNTIF('PLANNING PRINCIPAL'!$I$16:$X$16,G29)>=1,\"\",ROW())","v":29},null,null,{"$f":"IF(COUNTIF('PLANNING PRINCIPAL'!$I$19:$X$19,J29)>=1,\"\",ROW())","v":29},null,null,{"$f":"IF(COUNTIF('PLANNING PRINCIPAL'!$I$22:$X$22,M29)>=1,\"\",ROW())","v":29},null,null,{"$f":"IF(COUNTIF('PLANNING PRINCIPAL'!$I$25:$X$25,P29)>=1,\"\",ROW())","v":29},null,null,{"$f":"IF(COUNTIF('PLANNING PRINCIPAL'!$I$28:$X$28,S29)>=1,\"\",ROW())","v":29},null,null,{"$f":"IF(COUNTIF('PLANNING PRINCIPAL'!$I$30:$X$30,V29)>=1,\"\",ROW())","v":29}]
[null,{"$f":"IF(COUNTIF('PLANNING PRINCIPAL'!$I$10:$X$10,A30)>=1,\"\",ROW())","v":30},null,null,{"$f":"IF(COUNTIF('PLANNING PRINCIPAL'!$I$13:$X$13,D30)>=1,\"\",ROW())","v":30},null,null,{"$f":"IF(COUNTIF('PLANNING PRINCIPAL'!$I$16:$X$16,G30)>=1,\"\",ROW())","v":30},null,null,{"$f":"IF(COUNTIF('PLANNING PRINCIPAL'!$I$19:$X$19,J30)>=1,\"\",ROW())","v":30},null,null,{"$f":"IF(COUNTIF('PLANNING PRINCIPAL'!$I$22:$X$22,M30)>=1,\"\",ROW())","v":30},null,null,{"$f":"IF(COUNTIF('PLANNING PRINCIPAL'!$I$25:$X$25,P30)>=1,\"\",ROW())","v":30},null,null,{"$f":"IF(COUNTIF('PLANNING PRINCIPAL'!$I$28:$X$28,S30)>=1,\"\",ROW())","v":30},null,null,{"$f":"IF(COUNTIF('PLANNING PRINCIPAL'!$I$30:$X$30,V30)>=1,\"\",ROW())","v":30}]
[null,{"$f":"IF(COUNTIF('PLANNING PRINCIPAL'!$I$10:$X$10,A31)>=1,\"\",ROW())","v":31},null,null,{"$f":"IF(COUNTIF('PLANNING PRINCIPAL'!$I$13:$X$13,D31)>=1,\"\",ROW())","v":31},null,null,{"$f":"IF(COUNTIF('PLANNING PRINCIPAL'!$I$16:$X$16,G31)>=1,\"\",ROW())","v":31},null,null,{"$f":"IF(COUNTIF('PLANNING PRINCIPAL'!$I$19:$X$19,J31)>=1,\"\",ROW())","v":31},null,null,{"$f":"IF(COUNTIF('PLANNING PRINCIPAL'!$I$22:$X$22,M31)>=1,\"\",ROW())","v":31},null,null,{"$f":"IF(COUNTIF('PLANNING PRINCIPAL'!$I$25:$X$25,P31)>=1,\"\",ROW())","v":31},null,null,{"$f":"IF(COUNTIF('PLANNING PRINCIPAL'!$I$28:$X$28,S31)>=1,\"\",ROW())","v":31},null,null,{"$f":"IF(COUNTIF('PLANNING PRINCIPAL'!$I$30:$X$30,V31)>=1,\"\",ROW())","v":31}]
[null,{"$f":"IF(COUNTIF('PLANNING PRINCIPAL'!$I$10:$X$10,A32)>=1,\"\",ROW())","v":32},null,null,{"$f":"IF(COUNTIF('PLANNING PRINCIPAL'!$I$13:$X$13,D32)>=1,\"\",ROW())","v":32},null,null,{"$f":"IF(COUNTIF('PLANNING PRINCIPAL'!$I$16:$X$16,G32)>=1,\"\",ROW())","v":32},null,null,{"$f":"IF(COUNTIF('PLANNING PRINCIPAL'!$I$19:$X$19,J32)>=1,\"\",ROW())","v":32},null,null,{"$f":"IF(COUNTIF('PLANNING PRINCIPAL'!$I$22:$X$22,M32)>=1,\"\",ROW())","v":32},null,null,{"$f":"IF(COUNTIF('PLANNING PRINCIPAL'!$I$25:$X$25,P32)>=1,\"\",ROW())","v":32},null,null,{"$f":"IF(COUNTIF('PLANNING PRINCIPAL'!$I$28:$X$28,S32)>=1,\"\",ROW())","v":32},null,null,{"$f":"IF(COUNTIF('PLANNING PRINCIPAL'!$I$30:$X$30,V32)>=1,\"\",ROW())","v":32}]
[null,{"$f":"IF(COUNTIF('PLANNING PRINCIPAL'!$I$10:$X$10,A33)>=1,\"\",ROW())","v":33},null,null,{"$f":"IF(COUNTIF('PLANNING PRINCIPAL'!$I$13:$X$13,D33)>=1,\"\",ROW())","v":33},null,null,{"$f":"IF(COUNTIF('PLANNING PRINCIPAL'!$I$16:$X$16,G33)>=1,\"\",ROW())","v":33},null,null,{"$f":"IF(COUNTIF('PLANNING PRINCIPAL'!$I$19:$X$19,J33)>=1,\"\",ROW())","v":33},null,null,{"$f":"IF(COUNTIF('PLANNING PRINCIPAL'!$I$22:$X$22,M33)>=1,\"\",ROW())","v":33},null,null,{"$f":"IF(COUNTIF('PLANNING PRINCIPAL'!$I$25:$X$25,P33)>=1,\"\",ROW())","v":33},null,null,{"$f":"IF(COUNTIF('PLANNING PRINCIPAL'!$I$28:$X$28,S33)>=1,\"\",ROW())","v":33},null,null,{"$f":"IF(COUNTIF('PLANNING PRINCIPAL'!$I$30:$X$30,V33)>=1,\"\",ROW())","v":33}]
[null,{"$f":"IF(COUNTIF('PLANNING PRINCIPAL'!$I$10:$X$10,A34)>=1,\"\",ROW())","v":34},null,null,{"$f":"IF(COUNTIF('PLANNING PRINCIPAL'!$I$13:$X$13,D34)>=1,\"\",ROW())","v":34},null,null,{"$f":"IF(COUNTIF('PLANNING PRINCIPAL'!$I$56:$X$56,G34)>=1,\"\",ROW())","v":34},null,null,{"$f":"IF(COUNTIF('PLANNING PRINCIPAL'!$I$19:$X$19,J34)>=1,\"\",ROW())","v":34},null,null,{"$f":"IF(COUNTIF('PLANNING PRINCIPAL'!$I$22:$X$22,M34)>=1,\"\",ROW())","v":34},null,null,{"$f":"IF(COUNTIF('PLANNING PRINCIPAL'!$I$25:$X$25,P34)>=1,\"\",ROW())","v":34},null,null,{"$f":"IF(COUNTIF('PLANNING PRINCIPAL'!$I$28:$X$28,S34)>=1,\"\",ROW())","v":34},null,null,{"$f":"IF(COUNTIF('PLANNING PRINCIPAL'!$I$30:$X$30,V34)>=1,\"\",ROW())","v":34}]
["LUNDI",null,null,"MARDI",null,null,"MERCREDI",null,null,"JEUDI",null,null,"VENDREDI",null,null,"SAMEDI",null,null,"DIMANCHE",null,null,"ASTREINTE"]

{"sheet":"DATA S2","index":3,"n_rows":35,"n_cols":24,"rows_kept":35,"cut":false,"hidden":false,"merged":[[34,18,34,20],[34,21,34,23],[34,0,34,2],[34,3,34,5],[34,6,34,8],[34,9,34,11],[34,12,34,14],[34,15,34,17]]}
[{"$f":"'DATA S1'!A1","v":"MAS XX "},{"$f":"IF(COUNTIF('PLANNING PRINCIPAL'!$I$33:$X$33,A1)>=1,\"\",ROW())","v":1},{"$f":"IF(ROW(A1)-ROW(A$1)+1>COUNT(B:B),\"\", INDEX(A:A,SMALL(B:B,1+ROW(A1)-ROW(A$1))))","v":"MAS XX "},{"$f":"A1","v":"MAS XX "},{"$f":"IF(COUNTIF('PLANNING PRINCIPAL'!$I$36:$X$36,D1)>=1,\"\",ROW())","v":1},{"$f":"IF(ROW(D1)-ROW(D$1)+1>COUNT(E:E),\"\", INDEX(D:D,SMALL(E:E,1+ROW(D1)-ROW(D$1))))","v":"MAS XX "},{"$f":"A1","v":"MAS XX "},{"$f":"IF(COUNTIF('PLANNING PRINCIPAL'!$I$39:$X$39,G1)>=1,\"\",ROW())","v":1},{"$f":"IF(ROW(G1)-ROW(G$1)+1>COUNT(H:H),\"\", INDEX(G:G,SMALL(H:H,1+ROW(G1)-ROW(G$1))))","v":"MAS XX "},{"$f":"A1","v":"MAS XX "},{"$f":"IF(COUNTIF('PLANNING PRINCIPAL'!$I$42:$X$42,J1)>=1,\"\",ROW())","v":1},{"$f":"IF(ROW(J1)-ROW(J$1)+1>COUNT(K:K),\"\", INDEX(J:J,SMALL(K:K,1+ROW(J1)-ROW(J$1))))","v":"MAS XX "},{"$f":"A1","v":"MAS XX "},{"$f":"IF(COUNTIF('PLANNING PRINCIPAL'!$I$45:$X$45,M1)>=1,\"\",ROW())","v":1},{"$f":"IF(ROW(M1)-ROW(M$1)+1>COUNT(N:N),\"\", INDEX(M:M,SMALL(N:N,1+ROW(M1)-ROW(M$1))))","v":"MAS XX "},{"$f":"A1","v":"MAS XX "},{"$f":"IF(COUNTIF('PLANNING PRINCIPAL'!$I$48:$X$48,P1)>=1,\"\",ROW())","v":1},{"$f":"IF(ROW(P1)-ROW(P$1)+1>COUNT(Q:Q),\"\", INDEX(P:P,SMALL(Q:Q,1+ROW(P1)-ROW(P$1))))","v":"MAS XX "},{"$f":"A1","v":"MAS XX "},{"$f":"IF(COUNTIF('PLANNING PRINCIPAL'!$I$51:$X$51,S1)>=1,\"\",ROW())","v":1},{"$f":"IF(ROW(S1)-ROW(S$1)+1>COUNT(T:T),\"\", INDEX(S:S,SMALL(T:T,1+ROW(S1)-ROW(S$1))))","v":"MAS XX "},{"$f":"'DATA S1'!V1","v":"ASTREINTE SLT"},{"$f":"IF(COUNTIF('PLANNING PRINCIPAL'!$I$53:$X$53,V1)>=1,\"\",ROW())","v":1},{"$f":"IF(ROW(V1)-ROW(V$1)+1>COUNT(W:W),\"\", INDEX(V:V,SMALL(W:W,1+ROW(V1)-ROW(V$1))))","v":"ASTREINTE SLT"}]
[{"$f":"'DATA S1'!A2","v":"MAS YY "},{"$f":"IF(COUNTIF('PLANNING PRINCIPAL'!$I$33:$X$33,A2)>=1,\"\",ROW())","v":2},{"$f":"IF(ROW(A2)-ROW(A$1)+1>COUNT(B:B),\"\", INDEX(A:A,SMALL(B:B,1+ROW(A2)-ROW(A$1))))","v":"MAS YY "},"MAS YY ",{"$f":"IF(COUNTIF('PLANNING PRINCIPAL'!$I$36:$X$36,D2)>=1,\"\",ROW())","v":2},{"$f":"IF(ROW(D2)-ROW(D$1)+1>COUNT(E:E),\"\", INDEX(D:D,SMALL(E:E,1+ROW(D2)-ROW(D$1))))","v":"MAS YY "},{"$f":"A2","v":"MAS YY "},{"$f":"IF(COUNTIF('PLANNING PRINCIPAL'!$I$39:$X$39,G2)>=1,\"\",ROW())","v":2},{"$f":"IF(ROW(G2)-ROW(G$1)+1>COUNT(H:H),\"\", INDEX(G:G,SMALL(H:H,1+ROW(G2)-ROW(G$1))))","v":"MAS YY "},{"$f":"A2","v":"MAS YY "},{"$f":"IF(COUNTIF('PLANNING PRINCIPAL'!$I$42:$X$42,J2)>=1,\"\",ROW())","v":2},{"$f":"IF(ROW(J2)-ROW(J$1)+1>COUNT(K:K),\"\", INDEX(J:J,SMALL(K:K,1+ROW(J2)-ROW(J$1))))","v":"MAS YY "},{"$f":"A2","v":"MAS YY "},{"$f":"IF(COUNTIF('PLANNING PRINCIPAL'!$I$45:$X$45,M2)>=1,\"\",ROW())","v":2},{"$f":"IF(ROW(M2)-ROW(M$1)+1>COUNT(N:N),\"\", INDEX(M:M,SMALL(N:N,1+ROW(M2)-ROW(M$1))))","v":"MAS YY "},{"$f":"A2","v":"MAS YY "},{"$f":"IF(COUNTIF('PLANNING PRINCIPAL'!$I$48:$X$48,P2)>=1,\"\",ROW())","v":2},{"$f":"IF(ROW(P2)-ROW(P$1)+1>COUNT(Q:Q),\"\", INDEX(P:P,SMALL(Q:Q,1+ROW(P2)-ROW(P$1))))","v":"MAS YY "},{"$f":"A2","v":"MAS YY "},{"$f":"IF(COUNTIF('PLANNING PRINCIPAL'!$I$51:$X$51,S2)>=1,\"\",ROW())","v":2},{"$f":"IF(ROW(S2)-ROW(S$1)+1>COUNT(T:T),\"\", INDEX(S:S,SMALL(T:T,1+ROW(S2)-ROW(S$1))))","v":"MAS YY "},{"$f":"'DATA S1'!V2","v":"ASTREINTE EP"},{"$f":"IF(COUNTIF('PLANNING PRINCIPAL'!$I$53:$X$53,V2)>=1,\"\",ROW())","v":2},{"$f":"IF(ROW(V2)-ROW(V$1)+1>COUNT(W:W),\"\", INDEX(V:V,SMALL(W:W,1+ROW(V2)-ROW(V$1))))","v":"ASTREINTE EP"}]
[{"$f":"'DATA S1'!A3","v":"MAS VQ "},{"$f":"IF(COUNTIF('PLANNING PRINCIPAL'!$I$33:$X$33,A3)>=1,\"\",ROW())","v":3},"MAS VQ ","MAS VQ ",{"$f":"IF(COUNTIF('PLANNING PRINCIPAL'!$I$36:$X$36,D3)>=1,\"\",ROW())","v":3},"MAS VQ ","MAS VQ ",{"$f":"IF(COUNTIF('PLANNING PRINCIPAL'!$I$39:$X$39,G3)>=1,\"\",ROW())","v":3},"MAS VQ ","MAS VQ ",{"$f":"IF(COUNTIF('PLANNING PRINCIPAL'!$I$42:$X$42,J3)>=1,\"\",ROW())","v":3},"MAS VQ ","MAS VQ ",{"$f":"IF(COUNTIF('PLANNING PRINCIPAL'!$I$45:$X$45,M3)>=1,\"\",ROW())","v":3},"MAS VQ ","MAS VQ ",{"$f":"IF(COUNTIF('PLANNING PRINCIPAL'!$I$48:$X$48,P3)>=1,\"\",ROW())","v":3},"MAS VQ ","MAS VQ ",{"$f":"IF(COUNTIF('PLANNING PRINCIPAL'!$I$51:$X$51,S3)>=1,\"\",ROW())","v":3},"MAS VQ ",{"$f":"'DATA S1'!V3","v":"V NOC CHARTRES"},{"$f":"IF(COUNTIF('PLANNING PRINCIPAL'!$I$53:$X$53,V3)>=1,\"\",ROW())","v":3},"V NOC CHARTRES"]
[{"$f":"'DATA S1'!A4","v":"MAS PL "},{"$f":"IF(COUNTIF('PLANNING PRINCIPAL'!$I$33:$X$33,A4)>=1,\"\",ROW())","v":4},"MAS PL ","MAS PL ",{"$f":"IF(COUNTIF('PLANNING PRINCIPAL'!$I$36:$X$36,D4)>=1,\"\",ROW())","v":4},"MAS PL ","MAS PL ",{"$f":"IF(COUNTIF('PLANNING PRINCIPAL'!$I$39:$X$39,G4)>=1,\"\",ROW())","v":4},"MAS PL ","MAS PL ",{"$f":"IF(COUNTIF('PLANNING PRINCIPAL'!$I$42:$X$42,J4)>=1,\"\",ROW())","v":4},"MAS PL ","MAS PL ",{"$f":"IF(COUNTIF('PLANNING PRINCIPAL'!$I$45:$X$45,M4)>=1,\"\",ROW())","v":4},"MAS PL ","MAS PL ",{"$f":"IF(COUNTIF('PLANNING PRINCIPAL'!$I$48:$X$48,P4)>=1,\"\",ROW())","v":4},"MAS PL ","MAS PL ",{"$f":"IF(COUNTIF('PLANNING PRINCIPAL'!$I$51:$X$51,S4)>=1,\"\",ROW())","v":4},"MAS PL ",{"$f":"'DATA S1'!V4","v":"V NOC EPERNON"},{"$f":"IF(COUNTIF('PLANNING PRINCIPAL'!$I$53:$X$53,V4)>=1,\"\",ROW())","v":4},"V NOC EPERNON"]
[{"$f":"'DATA S1'!A5","v":"BEN VL PT "},{"$f":"IF(COUNTIF('PLANNING PRINCIPAL'!$I$33:$X$33,A5)>=1,\"\",ROW())","v":5},"BEN VL PT ","BEN VL PT ",{"$f":"IF(COUNTIF('PLANNING PRINCIPAL'!$I$36:$X$36,D5)>=1,\"\",ROW())","v":5},"BEN VL PT ","BEN VL PT ",{"$f":"IF(COUNTIF('PLANNING PRINCIPAL'!$I$39:$X$39,G5)>=1,\"\",ROW())","v":5},"BEN VL PT ","BEN VL PT ",{"$f":"IF(COUNTIF('PLANNING PRINCIPAL'!$I$42:$X$42,J5)>=1,\"\",ROW())","v":5},"BEN VL PT ","BEN VL PT ",{"$f":"IF(COUNTIF('PLANNING PRINCIPAL'!$I$45:$X$45,M5)>=1,\"\",ROW())","v":5},"BEN VL PT ","BEN VL PT ",{"$f":"IF(COUNTIF('PLANNING PRINCIPAL'!$I$48:$X$48,P5)>=1,\"\",ROW())","v":5},"BEN VL PT ","BEN VL PT ",{"$f":"IF(COUNTIF('PLANNING PRINCIPAL'!$I$51:$X$51,S5)>=1,\"\",ROW())","v":5},"BEN VL PT ",{"$f":"'DATA S1'!V5","v":"V NOC HANCHES"},{"$f":"IF(COUNTIF('PLANNING PRINCIPAL'!$I$53:$X$53,V5)>=1,\"\",ROW())","v":5},"V NOC HANCHES"]
[{"$f":"'DATA S1'!A6","v":"BEN 19T "},{"$f":"IF(COUNTIF('PLANNING PRINCIPAL'!$I$33:$X$33,A6)>=1,\"\",ROW())","v":6},"BEN 19T ","BEN 19T ",{"$f":"IF(COUNTIF('PLANNING PRINCIPAL'!$I$36:$X$36,D6)>=1,\"\",ROW())","v":6},"BEN 19T ","BEN 19T ",{"$f":"IF(COUNTIF('PLANNING PRINCIPAL'!$I$39:$X$39,G6)>=1,\"\",ROW())","v":6},"BEN 19T ","BEN 19T ",{"$f":"IF(COUNTIF('PLANNING PRINCIPAL'!$I$42:$X$42,J6)>=1,\"\",ROW())","v":6},"BEN 19T ","BEN 19T ",{"$f":"IF(COUNTIF('PLANNING PRINCIPAL'!$I$45:$X$45,M6)>=1,\"\",ROW())","v":6},"BEN 19T ","BEN 19T ",{"$f":"IF(COUNTIF('PLANNING PRINCIPAL'!$I$48:$X$48,P6)>=1,\"\",ROW())","v":6},"BEN 19T ","BEN 19T ",{"$f":"IF(COUNTIF('PLANNING PRINCIPAL'!$I$51:$X$51,S6)>=1,\"\",ROW())","v":6},"BEN 19T ",{"$f":"'DATA S1'!V6","v":"V NOC MAINTENON"},{"$f":"IF(COUNTIF('PLANNING PRINCIPAL'!$I$53:$X$53,V6)>=1,\"\",ROW())","v":6},"V NOC MAINTENON"]
[{"$f":"'DATA S1'!A7","v":"BEN 13T "},{"$f":"IF(COUNTIF('PLANNING PRINCIPAL'!$I$33:$X$33,A7)>=1,\"\",ROW())","v":7},"BEN 13T ","BEN 13T ",{"$f":"IF(COUNTIF('PLANNING PRINCIPAL'!$I$36:$X$36,D7)>=1,\"\",ROW())","v":7},"BEN 13T ","BEN 13T ",{"$f":"IF(COUNTIF('PLANNING PRINCIPAL'!$I$39:$X$39,G7)>=1,\"\",ROW())","v":7},"BEN 13T ","BEN 13T ",{"$f":"IF(COUNTIF('PLANNING PRINCIPAL'!$I$42:$X$42,J7)>=1,\"\",ROW())","v":7},"BEN 13T ","BEN 13T ",{"$f":"IF(COUNTIF('PLANNING PRINCIPAL'!$I$45:$X$45,M7)>=1,\"\",ROW())","v":7},"BEN 13T ","BEN 13T ",{"$f":"IF(COUNTIF('PLANNING PRINCIPAL'!$I$48:$X$48,P7)>=1,\"\",ROW())","v":7},"BEN 13T ","BEN 13T ",{"$f":"IF(COUNTIF('PLANNING PRINCIPAL'!$I$51:$X$51,S7)>=1,\"\",ROW())","v":7},"BEN 13T ",null,{"$f":"IF(COUNTIF('PLANNING PRINCIPAL'!$I$53:$X$53,V7)>=1,\"\",ROW())","v":7}]
[{"$f":"'DATA S1'!A8","v":"NAC VL 18M "},{"$f":"IF(COUNTIF('PLANNING PRINCIPAL'!$I$33:$X$33,A8)>=1,\"\",ROW())","v":8},"NAC VL 18M ","NAC VL 18M ",{"$f":"IF(COUNTIF('PLANNING PRINCIPAL'!$I$36:$X$36,D8)>=1,\"\",ROW())","v":8},"NAC VL 18M ","NAC VL 18M ",{"$f":"IF(COUNTIF('PLANNING PRINCIPAL'!$I$39:$X$39,G8)>=1,\"\",ROW())","v":8},"NAC VL 18M ","NAC VL 18M ",{"$f":"IF(COUNTIF('PLANNING PRINCIPAL'!$I$42:$X$42,J8)>=1,\"\",ROW())","v":8},"NAC VL 18M ","NAC VL 18M ",{"$f":"IF(COUNTIF('PLANNING PRINCIPAL'!$I$45:$X$45,M8)>=1,\"\",ROW())","v":8},"NAC VL 18M ","NAC VL 18M ",{"$f":"IF(COUNTIF('PLANNING PRINCIPAL'!$I$48:$X$48,P8)>=1,\"\",ROW())","v":8},"NAC VL 18M ","NAC VL 18M ",{"$f":"IF(COUNTIF('PLANNING PRINCIPAL'!$I$51:$X$51,S8)>=1,\"\",ROW())","v":8},"NAC VL 18M ",null,{"$f":"IF(COUNTIF('PLANNING PRINCIPAL'!$I$53:$X$53,V8)>=1,\"\",ROW())","v":8}]
[{"$f":"'DATA S1'!A9","v":"NAC EGIE"},{"$f":"IF(COUNTIF('PLANNING PRINCIPAL'!$I$33:$X$33,A9)>=1,\"\",ROW())","v":9},"NAC EGIE","NAC EGIE",{"$f":"IF(COUNTIF('PLANNING PRINCIPAL'!$I$36:$X$36,D9)>=1,\"\",ROW())","v":9},"NAC EGIE","NAC EGIE",{"$f":"IF(COUNTIF('PLANNING PRINCIPAL'!$I$39:$X$39,G9)>=1,\"\",ROW())","v":9},"NAC EGIE","NAC EGIE",{"$f":"IF(COUNTIF('PLANNING PRINCIPAL'!$I$42:$X$42,J9)>=1,\"\",ROW())","v":9},"NAC EGIE","NAC EGIE",{"$f":"IF(COUNTIF('PLANNING PRINCIPAL'!$I$45:$X$45,M9)>=1,\"\",ROW())","v":9},"NAC EGIE","NAC EGIE",{"$f":"IF(COUNTIF('PLANNING PRINCIPAL'!$I$48:$X$48,P9)>=1,\"\",ROW())","v":9},"NAC EGIE","NAC EGIE",{"$f":"IF(COUNTIF('PLANNING PRINCIPAL'!$I$51:$X$51,S9)>=1,\"\",ROW())","v":9},"NAC EGIE",null,{"$f":"IF(COUNTIF('PLANNING PRINCIPAL'!$I$53:$X$53,V9)>=1,\"\",ROW())","v":9}]
[{"$f":"'DATA S1'!A10","v":"NAC COMI "},{"$f":"IF(COUNTIF('PLANNING PRINCIPAL'!$I$33:$X$33,A10)>=1,\"\",ROW())","v":10},"NAC COMI ","NAC COMI ",{"$f":"IF(COUNTIF('PLANNING PRINCIPAL'!$I$36:$X$36,D10)>=1,\"\",ROW())","v":10},"NAC COMI ","NAC COMI ",{"$f":"IF(COUNTIF('PLANNING PRINCIPAL'!$I$39:$X$39,G10)>=1,\"\",ROW())","v":10},"NAC COMI ","NAC COMI ",{"$f":"IF(COUNTIF('PLANNING PRINCIPAL'!$I$42:$X$42,J10)>=1,\"\",ROW())","v":10},"NAC COMI ","NAC COMI ",{"$f":"IF(COUNTIF('PLANNING PRINCIPAL'!$I$45:$X$45,M10)>=1,\"\",ROW())","v":10},"NAC COMI ","NAC COMI ",{"$f":"IF(COUNTIF('PLANNING PRINCIPAL'!$I$48:$X$48,P10)>=1,\"\",ROW())","v":10},"NAC COMI ","NAC COMI ",{"$f":"IF(COUNTIF('PLANNING PRINCIPAL'!$I$51:$X$51,S10)>=1,\"\",ROW())","v":10},"NAC COMI ",null,{"$f":"IF(COUNTIF('PLANNING PRINCIPAL'!$I$53:$X$53,V10)>=1,\"\",ROW())","v":10}]
[{"$f":"'DATA S1'!A11","v":"#####LOCATION#####"},{"$f":"IF(COUNTIF('PLANNING PRINCIPAL'!$I$33:$X$33,A11)>=1,\"\",ROW())","v":11},"#####LOCATION#####","#####LOCATION#####",{"$f":"IF(COUNTIF('PLANNING PRINCIPAL'!$I$36:$X$36,D11)>=1,\"\",ROW())","v":11},"#####LOCATION#####","#####LOCATION#####",{"$f":"IF(COUNTIF('PLANNING PRINCIPAL'!$I$39:$X$39,G11)>=1,\"\",ROW())","v":11},"#####LOCATION#####","#####LOCATION#####",{"$f":"IF(COUNTIF('PLANNING PRINCIPAL'!$I$42:$X$42,J11)>=1,\"\",ROW())","v":11},"#####LOCATION#####","#####LOCATION#####",{"$f":"IF(COUNTIF('PLANNING PRINCIPAL'!$I$45:$X$45,M11)>=1,\"\",ROW())","v":11},"#####LOCATION#####","#####LOCATION#####",{"$f":"IF(COUNTIF('PLANNING PRINCIPAL'!$I$48:$X$48,P11)>=1,\"\",ROW())","v":11},"#####LOCATION#####","#####LOCATION#####",{"$f":"IF(COUNTIF('PLANNING PRINCIPAL'!$I$51:$X$51,S11)>=1,\"\",ROW())","v":11},"#####LOCATION#####",null,{"$f":"IF(COUNTIF('PLANNING PRINCIPAL'!$I$53:$X$53,V11)>=1,\"\",ROW())","v":11}]
[{"$f":"'DATA S1'!A12","v":"LOC NAC SOLOMAT"},{"$f":"IF(COUNTIF('PLANNING PRINCIPAL'!$I$33:$X$33,A12)>=1,\"\",ROW())","v":12},"LOC NAC SOLOMAT","LOC NAC SOLOMAT",{"$f":"IF(COUNTIF('PLANNING PRINCIPAL'!$I$36:$X$36,D12)>=1,\"\",ROW())","v":12},"LOC NAC SOLOMAT","LOC NAC SOLOMAT",{"$f":"IF(COUNTIF('PLANNING PRINCIPAL'!$I$39:$X$39,G12)>=1,\"\",ROW())","v":12},"LOC NAC SOLOMAT","LOC NAC SOLOMAT",{"$f":"IF(COUNTIF('PLANNING PRINCIPAL'!$I$42:$X$42,J12)>=1,\"\",ROW())","v":12},"LOC NAC SOLOMAT","LOC NAC SOLOMAT",{"$f":"IF(COUNTIF('PLANNING PRINCIPAL'!$I$45:$X$45,M12)>=1,\"\",ROW())","v":12},"LOC NAC SOLOMAT","LOC NAC SOLOMAT",{"$f":"IF(COUNTIF('PLANNING PRINCIPAL'!$I$48:$X$48,P12)>=1,\"\",ROW())","v":12},"LOC NAC SOLOMAT","LOC NAC SOLOMAT",{"$f":"IF(COUNTIF('PLANNING PRINCIPAL'!$I$51:$X$51,S12)>=1,\"\",ROW())","v":12},"LOC NAC SOLOMAT",null,{"$f":"IF(COUNTIF('PLANNING PRINCIPAL'!$I$53:$X$53,V12)>=1,\"\",ROW())","v":12}]
[{"$f":"'DATA S1'!A13","v":"LOC NAC AEB"},{"$f":"IF(COUNTIF('PLANNING PRINCIPAL'!$I$33:$X$33,A13)>=1,\"\",ROW())","v":13},"LOC NAC AEB","LOC NAC AEB",{"$f":"IF(COUNTIF('PLANNING PRINCIPAL'!$I$36:$X$36,D13)>=1,\"\",ROW())","v":13},"LOC NAC AEB","LOC NAC AEB",{"$f":"IF(COUNTIF('PLANNING PRINCIPAL'!$I$39:$X$39,G13)>=1,\"\",ROW())","v":13},"LOC NAC AEB","LOC NAC AEB",{"$f":"IF(COUNTIF('PLANNING PRINCIPAL'!$I$42:$X$42,J13)>=1,\"\",ROW())","v":13},"LOC NAC AEB","LOC NAC AEB",{"$f":"IF(COUNTIF('PLANNING PRINCIPAL'!$I$45:$X$45,M13)>=1,\"\",ROW())","v":13},"LOC NAC AEB","LOC NAC AEB",{"$f":"IF(COUNTIF('PLANNING PRINCIPAL'!$I$48:$X$48,P13)>=1,\"\",ROW())","v":13},"LOC NAC AEB","LOC NAC AEB",{"$f":"IF(COUNTIF('PLANNING PRINCIPAL'!$I$51:$X$51,S13)>=1,\"\",ROW())","v":13},"LOC NAC AEB",null,{"$f":"IF(COUNTIF('PLANNING PRINCIPAL'!$I$53:$X$53,V13)>=1,\"\",ROW())","v":13}]
[{"$f":"'DATA S1'!A14","v":"LOC NAC INTERLOC"},{"$f":"IF(COUNTIF('PLANNING PRINCIPAL'!$I$33:$X$33,A14)>=1,\"\",ROW())","v":14},"LOC NAC INTERLOC","LOC NAC INTERLOC",{"$f":"IF(COUNTIF('PLANNING PRINCIPAL'!$I$36:$X$36,D14)>=1,\"\",ROW())","v":14},"LOC NAC INTERLOC","LOC NAC INTERLOC",{"$f":"IF(COUNTIF('PLANNING PRINCIPAL'!$I$39:$X$39,G14)>=1,\"\",ROW())","v":14},"LOC NAC INTERLOC","LOC NAC INTERLOC",{"$f":"IF(COUNTIF('PLANNING PRINCIPAL'!$I$42:$X$42,J14)>=1,\"\",ROW())","v":14},"LOC NAC INTERLOC","LOC NAC INTERLOC",{"$f":"IF(COUNTIF('PLANNING PRINCIPAL'!$I$45:$X$45,M14)>=1,\"\",ROW())","v":14},"LOC NAC INTERLOC","LOC NAC INTERLOC",{"$f":"IF(COUNTIF('PLANNING PRINCIPAL'!$I$48:$X$48,P14)>=1,\"\",ROW())","v":14},"LOC NAC INTERLOC","LOC NAC INTERLOC",{"$f":"IF(COUNTIF('PLANNING PRINCIPAL'!$I$51:$X$51,S14)>=1,\"\",ROW())","v":14},"LOC NAC INTERLOC",null,{"$f":"IF(COUNTIF('PLANNING PRINCIPAL'!$I$53:$X$53,V14)>=1,\"\",ROW())","v":14}]
[{"$f":"'DATA S1'!A15","v":"LOC NAC KILOUTOU"},{"$f":"IF(COUNTIF('PLANNING PRINCIPAL'!$I$33:$X$33,A15)>=1,\"\",ROW())","v":15},"LOC NAC KILOUTOU","LOC NAC KILOUTOU",{"$f":"IF(COUNTIF('PLANNING PRINCIPAL'!$I$36:$X$36,D15)>=1,\"\",ROW())","v":15},"LOC NAC KILOUTOU","LOC NAC KILOUTOU",{"$f":"IF(COUNTIF('PLANNING PRINCIPAL'!$I$39:$X$39,G15)>=1,\"\",ROW())","v":15},"LOC NAC KILOUTOU","LOC NAC KILOUTOU",{"$f":"IF(COUNTIF('PLANNING PRINCIPAL'!$I$42:$X$42,J15)>=1,\"\",ROW())","v":15},"LOC NAC KILOUTOU","LOC NAC KILOUTOU",{"$f":"IF(COUNTIF('PLANNING PRINCIPAL'!$I$45:$X$45,M15)>=1,\"\",ROW())","v":15},"LOC NAC KILOUTOU","LOC NAC KILOUTOU",{"$f":"IF(COUNTIF('PLANNING PRINCIPAL'!$I$48:$X$48,P15)>=1,\"\",ROW())","v":15},"LOC NAC KILOUTOU","LOC NAC KILOUTOU",{"$f":"IF(COUNTIF('PLANNING PRINCIPAL'!$I$51:$X$51,S15)>=1,\"\",ROW())","v":15},"LOC NAC KILOUTOU",null,{"$f":"IF(COUNTIF('PLANNING PRINCIPAL'!$I$53:$X$53,V15)>=1,\"\",ROW())","v":15}]
[{"$f":"'DATA S1'!A16","v":"LOC NAC AEB"},{"$f":"IF(COUNTIF('PLANNING PRINCIPAL'!$I$33:$X$33,A16)>=1,\"\",ROW())","v":16},"LOC NAC AEB","LOC NAC AEB",{"$f":"IF(COUNTIF('PLANNING PRINCIPAL'!$I$36:$X$36,D16)>=1,\"\",ROW())","v":16},"LOC NAC AEB","LOC NAC AEB",{"$f":"IF(COUNTIF('PLANNING PRINCIPAL'!$I$39:$X$39,G16)>=1,\"\",ROW())","v":16},"LOC NAC AEB","LOC NAC AEB",{"$f":"IF(COUNTIF('PLANNING PRINCIPAL'!$I$42:$X$42,J16)>=1,\"\",ROW())","v":16},"LOC NAC AEB","LOC NAC AEB",{"$f":"IF(COUNTIF('PLANNING PRINCIPAL'!$I$45:$X$45,M16)>=1,\"\",ROW())","v":16},"LOC NAC AEB","LOC NAC AEB",{"$f":"IF(COUNTIF('PLANNING PRINCIPAL'!$I$48:$X$48,P16)>=1,\"\",ROW())","v":16},"LOC NAC AEB","LOC NAC AEB",{"$f":"IF(COUNTIF('PLANNING PRINCIPAL'!$I$51:$X$51,S16)>=1,\"\",ROW())","v":16},"LOC NAC AEB",null,{"$f":"IF(COUNTIF('PLANNING PRINCIPAL'!$I$53:$X$53,V16)>=1,\"\",ROW())","v":16}]
[{"$f":"'DATA S1'!A17","v":"LOC PELLE SOLOMAT"},{"$f":"IF(COUNTIF('PLANNING PRINCIPAL'!$I$33:$X$33,A17)>=1,\"\",ROW())","v":17},"LOC PELLE SOLOMAT","LOC PELLE SOLOMAT",{"$f":"IF(COUNTIF('PLANNING PRINCIPAL'!$I$36:$X$36,D17)>=1,\"\",ROW())","v":17},"LOC PELLE SOLOMAT","LOC PELLE SOLOMAT",{"$f":"IF(COUNTIF('PLANNING PRINCIPAL'!$I$39:$X$39,G17)>=1,\"\",ROW())","v":17},"LOC PELLE SOLOMAT","LOC PELLE SOLOMAT",{"$f":"IF(COUNTIF('PLANNING PRINCIPAL'!$I$42:$X$42,J17)>=1,\"\",ROW())","v":17},"LOC PELLE SOLOMAT","LOC PELLE SOLOMAT",{"$f":"IF(COUNTIF('PLANNING PRINCIPAL'!$I$45:$X$45,M17)>=1,\"\",ROW())","v":17},"LOC PELLE SOLOMAT","LOC PELLE SOLOMAT",{"$f":"IF(COUNTIF('PLANNING PRINCIPAL'!$I$48:$X$48,P17)>=1,\"\",ROW())","v":17},"LOC PELLE SOLOMAT","LOC PELLE SOLOMAT",{"$f":"IF(COUNTIF('PLANNING PRINCIPAL'!$I$51:$X$51,S17)>=1,\"\",ROW())","v":17},"LOC PELLE SOLOMAT",null,{"$f":"IF(COUNTIF('PLANNING PRINCIPAL'!$I$53:$X$53,V17)>=1,\"\",ROW())","v":17}]
[{"$f":"'DATA S1'!A18","v":"LOC PELLE AEB"},{"$f":"IF(COUNTIF('PLANNING PRINCIPAL'!$I$33:$X$33,A18)>=1,\"\",ROW())","v":18},"LOC PELLE AEB","LOC PELLE AEB",{"$f":"IF(COUNTIF('PLANNING PRINCIPAL'!$I$36:$X$36,D18)>=1,\"\",ROW())","v":18},"LOC PELLE AEB","LOC PELLE AEB",{"$f":"IF(COUNTIF('PLANNING PRINCIPAL'!$I$39:$X$39,G18)>=1,\"\",ROW())","v":18},"LOC PELLE AEB","LOC PELLE AEB",{"$f":"IF(COUNTIF('PLANNING PRINCIPAL'!$I$42:$X$42,J18)>=1,\"\",ROW())","v":18},"LOC PELLE AEB","LOC PELLE AEB",{"$f":"IF(COUNTIF('PLANNING PRINCIPAL'!$I$45:$X$45,M18)>=1,\"\",ROW())","v":18},"LOC PELLE AEB","LOC PELLE AEB",{"$f":"IF(COUNTIF('PLANNING PRINCIPAL'!$I$48:$X$48,P18)>=1,\"\",ROW())","v":18},"LOC PELLE AEB","LOC PELLE AEB",{"$f":"IF(COUNTIF('PLANNING PRINCIPAL'!$I$51:$X$51,S18)>=1,\"\",ROW())","v":18},"LOC PELLE AEB",null,{"$f":"IF(COUNTIF('PLANNING PRINCIPAL'!$I$53:$X$53,V18)>=1,\"\",ROW())","v":18}]
[{"$f":"'DATA S1'!A19","v":"LOC PELLE INTERLOC"},{"$f":"IF(COUNTIF('PLANNING PRINCIPAL'!$I$33:$X$33,A19)>=1,\"\",ROW())","v":19},"LOC PELLE INTERLOC","LOC PELLE INTERLOC",{"$f":"IF(COUNTIF('PLANNING PRINCIPAL'!$I$36:$X$36,D19)>=1,\"\",ROW())","v":19},"LOC PELLE INTERLOC","LOC PELLE INTERLOC",{"$f":"IF(COUNTIF('PLANNING PRINCIPAL'!$I$39:$X$39,G19)>=1,\"\",ROW())","v":19},"LOC PELLE INTERLOC","LOC PELLE INTERLOC",{"$f":"IF(COUNTIF('PLANNING PRINCIPAL'!$I$42:$X$42,J19)>=1,\"\",ROW())","v":19},"LOC PELLE INTERLOC","LOC PELLE INTERLOC",{"$f":"IF(COUNTIF('PLANNING PRINCIPAL'!$I$45:$X$45,M19)>=1,\"\",ROW())","v":19},"LOC PELLE INTERLOC","LOC PELLE INTERLOC",{"$f":"IF(COUNTIF('PLANNING PRINCIPAL'!$I$48:$X$48,P19)>=1,\"\",ROW())","v":19},"LOC PELLE INTERLOC","LOC PELLE INTERLOC",{"$f":"IF(COUNTIF('PLANNING PRINCIPAL'!$I$51:$X$51,S19)>=1,\"\",ROW())","v":19},"LOC PELLE INTERLOC",null,{"$f":"IF(COUNTIF('PLANNING PRINCIPAL'!$I$53:$X$53,V19)>=1,\"\",ROW())","v":19}]
[{"$f":"'DATA S1'!A20","v":"LOC PELLE KILOUTOU"},{"$f":"IF(COUNTIF('PLANNING PRINCIPAL'!$I$33:$X$33,A20)>=1,\"\",ROW())","v":20},"LOC PELLE KILOUTOU","LOC PELLE KILOUTOU",{"$f":"IF(COUNTIF('PLANNING PRINCIPAL'!$I$36:$X$36,D20)>=1,\"\",ROW())","v":20},"LOC PELLE KILOUTOU","LOC PELLE KILOUTOU",{"$f":"IF(COUNTIF('PLANNING PRINCIPAL'!$I$39:$X$39,G20)>=1,\"\",ROW())","v":20},"LOC PELLE KILOUTOU","LOC PELLE KILOUTOU",{"$f":"IF(COUNTIF('PLANNING PRINCIPAL'!$I$42:$X$42,J20)>=1,\"\",ROW())","v":20},"LOC PELLE KILOUTOU","LOC PELLE KILOUTOU",{"$f":"IF(COUNTIF('PLANNING PRINCIPAL'!$I$45:$X$45,M20)>=1,\"\",ROW())","v":20},"LOC PELLE KILOUTOU","LOC PELLE KILOUTOU",{"$f":"IF(COUNTIF('PLANNING PRINCIPAL'!$I$48:$X$48,P20)>=1,\"\",ROW())","v":20},"LOC PELLE KILOUTOU","LOC PELLE KILOUTOU",{"$f":"IF(COUNTIF('PLANNING PRINCIPAL'!$I$51:$X$51,S20)>=1,\"\",ROW())","v":20},"LOC PELLE KILOUTOU",null,{"$f":"IF(COUNTIF('PLANNING PRINCIPAL'!$I$53:$X$53,V20)>=1,\"\",ROW())","v":20}]
[null,{"$f":"IF(COUNTIF('PLANNING PRINCIPAL'!$I$33:$X$33,A21)>=1,\"\",ROW())","v":21},null,null,{"$f":"IF(COUNTIF('PLANNING PRINCIPAL'!$I$36:$X$36,D21)>=1,\"\",ROW())","v":21},null,null,{"$f":"IF(COUNTIF('PLANNING PRINCIPAL'!$I$39:$X$39,G21)>=1,\"\",ROW())","v":21},null,null,{"$f":"IF(COUNTIF('PLANNING PRINCIPAL'!$I$42:$X$42,J21)>=1,\"\",ROW())","v":21},null,null,{"$f":"IF(COUNTIF('PLANNING PRINCIPAL'!$I$45:$X$45,M21)>=1,\"\",ROW())","v":21},null,null,{"$f":"IF(COUNTIF('PLANNING PRINCIPAL'!$I$48:$X$48,P21)>=1,\"\",ROW())","v":21},null,null,{"$f":"IF(COUNTIF('PLANNING PRINCIPAL'!$I$51:$X$51,S21)>=1,\"\",ROW())","v":21},null,null,{"$f":"IF(COUNTIF('PLANNING PRINCIPAL'!$I$53:$X$53,V21)>=1,\"\",ROW())","v":21}]
[null,{"$f":"IF(COUNTIF('PLANNING PRINCIPAL'!$I$33:$X$33,A22)>=1,\"\",ROW())","v":22},null,null,{"$f":"IF(COUNTIF('PLANNING PRINCIPAL'!$I$36:$X$36,D22)>=1,\"\",ROW())","v":22},null,null,{"$f":"IF(COUNTIF('PLANNING PRINCIPAL'!$I$39:$X$39,G22)>=1,\"\",ROW())","v":22},null,null,{"$f":"IF(COUNTIF('PLANNING PRINCIPAL'!$I$42:$X$42,J22)>=1,\"\",ROW())","v":22},null,null,{"$f":"IF(COUNTIF('PLANNING PRINCIPAL'!$I$45:$X$45,M22)>=1,\"\",ROW())","v":22},null,null,{"$f":"IF(COUNTIF('PLANNING PRINCIPAL'!$I$48:$X$48,P22)>=1,\"\",ROW())","v":22},null,null,{"$f":"IF(COUNTIF('PLANNING PRINCIPAL'!$I$51:$X$51,S22)>=1,\"\",ROW())","v":22},null,null,{"$f":"IF(COUNTIF('PLANNING PRINCIPAL'!$I$53:$X$53,V22)>=1,\"\",ROW())","v":22}]
[null,{"$f":"IF(COUNTIF('PLANNING PRINCIPAL'!$I$33:$X$33,A23)>=1,\"\",ROW())","v":23},null,null,{"$f":"IF(COUNTIF('PLANNING PRINCIPAL'!$I$36:$X$36,D23)>=1,\"\",ROW())","v":23},null,null,{"$f":"IF(COUNTIF('PLANNING PRINCIPAL'!$I$39:$X$39,G23)>=1,\"\",ROW())","v":23},null,null,{"$f":"IF(COUNTIF('PLANNING PRINCIPAL'!$I$42:$X$42,J23)>=1,\"\",ROW())","v":23},null,null,{"$f":"IF(COUNTIF('PLANNING PRINCIPAL'!$I$45:$X$45,M23)>=1,\"\",ROW())","v":23},null,null,{"$f":"IF(COUNTIF('PLANNING PRINCIPAL'!$I$48:$X$48,P23)>=1,\"\",ROW())","v":23},null,null,{"$f":"IF(COUNTIF('PLANNING PRINCIPAL'!$I$51:$X$51,S23)>=1,\"\",ROW())","v":23},null,null,{"$f":"IF(COUNTIF('PLANNING PRINCIPAL'!$I$53:$X$53,V23)>=1,\"\",ROW())","v":23}]
[null,{"$f":"IF(COUNTIF('PLANNING PRINCIPAL'!$I$33:$X$33,A24)>=1,\"\",ROW())","v":24},null,null,{"$f":"IF(COUNTIF('PLANNING PRINCIPAL'!$I$36:$X$36,D24)>=1,\"\",ROW())","v":24},null,null,{"$f":"IF(COUNTIF('PLANNING PRINCIPAL'!$I$39:$X$39,G24)>=1,\"\",ROW())","v":24},null,null,{"$f":"IF(COUNTIF('PLANNING PRINCIPAL'!$I$42:$X$42,J24)>=1,\"\",ROW())","v":24},null,null,{"$f":"IF(COUNTIF('PLANNING PRINCIPAL'!$I$45:$X$45,M24)>=1,\"\",ROW())","v":24},null,null,{"$f":"IF(COUNTIF('PLANNING PRINCIPAL'!$I$48:$X$48,P24)>=1,\"\",ROW())","v":24},null,null,{"$f":"IF(COUNTIF('PLANNING PRINCIPAL'!$I$51:$X$51,S24)>=1,\"\",ROW())","v":24},null,null,{"$f":"IF(COUNTIF('PLANNING PRINCIPAL'!$I$53:$X$53,V24)>=1,\"\",ROW())","v":24}]
[null,{"$f":"IF(COUNTIF('PLANNING PRINCIPAL'!$I$33:$X$33,A25)>=1,\"\",ROW())","v":25},null,null,{"$f":"IF(COUNTIF('PLANNING PRINCIPAL'!$I$36:$X$36,D25)>=1,\"\",ROW())","v":25},null,null,{"$f":"IF(COUNTIF('PLANNING PRINCIPAL'!$I$39:$X$39,G25)>=1,\"\",ROW())","v":25},null,null,{"$f":"IF(COUNTIF('PLANNING PRINCIPAL'!$I$42:$X$42,J25)>=1,\"\",ROW())","v":25},null,null,{"$f":"IF(COUNTIF('PLANNING PRINCIPAL'!$I$45:$X$45,M25)>=1,\"\",ROW())","v":25},null,null,{"$f":"IF(COUNTIF('PLANNING PRINCIPAL'!$I$48:$X$48,P25)>=1,\"\",ROW())","v":25},null,null,{"$f":"IF(COUNTIF('PLANNING PRINCIPAL'!$I$51:$X$51,S25)>=1,\"\",ROW())","v":25},null,null,{"$f":"IF(COUNTIF('PLANNING PRINCIPAL'!$I$53:$X$53,V25)>=1,\"\",ROW())","v":25}]
[null,{"$f":"IF(COUNTIF('PLANNING PRINCIPAL'!$I$33:$X$33,A26)>=1,\"\",ROW())","v":26},null,null,{"$f":"IF(COUNTIF('PLANNING PRINCIPAL'!$I$36:$X$36,D26)>=1,\"\",ROW())","v":26},null,null,{"$f":"IF(COUNTIF('PLANNING PRINCIPAL'!$I$39:$X$39,G26)>=1,\"\",ROW())","v":26},null,null,{"$f":"IF(COUNTIF('PLANNING PRINCIPAL'!$I$42:$X$42,J26)>=1,\"\",ROW())","v":26},null,null,{"$f":"IF(COUNTIF('PLANNING PRINCIPAL'!$I$45:$X$45,M26)>=1,\"\",ROW())","v":26},null,null,{"$f":"IF(COUNTIF('PLANNING PRINCIPAL'!$I$48:$X$48,P26)>=1,\"\",ROW())","v":26},null,null,{"$f":"IF(COUNTIF('PLANNING PRINCIPAL'!$I$51:$X$51,S26)>=1,\"\",ROW())","v":26},null,null,{"$f":"IF(COUNTIF('PLANNING PRINCIPAL'!$I$53:$X$53,V26)>=1,\"\",ROW())","v":26}]
[null,{"$f":"IF(COUNTIF('PLANNING PRINCIPAL'!$I$33:$X$33,A27)>=1,\"\",ROW())","v":27},null,null,{"$f":"IF(COUNTIF('PLANNING PRINCIPAL'!$I$36:$X$36,D27)>=1,\"\",ROW())","v":27},null,null,{"$f":"IF(COUNTIF('PLANNING PRINCIPAL'!$I$39:$X$39,G27)>=1,\"\",ROW())","v":27},null,null,{"$f":"IF(COUNTIF('PLANNING PRINCIPAL'!$I$42:$X$42,J27)>=1,\"\",ROW())","v":27},null,null,{"$f":"IF(COUNTIF('PLANNING PRINCIPAL'!$I$45:$X$45,M27)>=1,\"\",ROW())","v":27},null,null,{"$f":"IF(COUNTIF('PLANNING PRINCIPAL'!$I$48:$X$48,P27)>=1,\"\",ROW())","v":27},null,null,{"$f":"IF(COUNTIF('PLANNING PRINCIPAL'!$I$51:$X$51,S27)>=1,\"\",ROW())","v":27},null,null,{"$f":"IF(COUNTIF('PLANNING PRINCIPAL'!$I$53:$X$53,V27)>=1,\"\",ROW())","v":27}]
[null,{"$f":"IF(COUNTIF('PLANNING PRINCIPAL'!$I$33:$X$33,A28)>=1,\"\",ROW())","v":28},null,null,{"$f":"IF(COUNTIF('PLANNING PRINCIPAL'!$I$36:$X$36,D28)>=1,\"\",ROW())","v":28},null,null,{"$f":"IF(COUNTIF('PLANNING PRINCIPAL'!$I$39:$X$39,G28)>=1,\"\",ROW())","v":28},null,null,{"$f":"IF(COUNTIF('PLANNING PRINCIPAL'!$I$42:$X$42,J28)>=1,\"\",ROW())","v":28},null,null,{"$f":"IF(COUNTIF('PLANNING PRINCIPAL'!$I$45:$X$45,M28)>=1,\"\",ROW())","v":28},null,null,{"$f":"IF(COUNTIF('PLANNING PRINCIPAL'!$I$48:$X$48,P28)>=1,\"\",ROW())","v":28},null,null,{"$f":"IF(COUNTIF('PLANNING PRINCIPAL'!$I$51:$X$51,S28)>=1,\"\",ROW())","v":28},null,null,{"$f":"IF(COUNTIF('PLANNING PRINCIPAL'!$I$53:$X$53,V28)>=1,\"\",ROW())","v":28}]
[null,{"$f":"IF(COUNTIF('PLANNING PRINCIPAL'!$I$33:$X$33,A29)>=1,\"\",ROW())","v":29},null,null,{"$f":"IF(COUNTIF('PLANNING PRINCIPAL'!$I$36:$X$36,D29)>=1,\"\",ROW())","v":29},null,null,{"$f":"IF(COUNTIF('PLANNING PRINCIPAL'!$I$39:$X$39,G29)>=1,\"\",ROW())","v":29},null,null,{"$f":"IF(COUNTIF('PLANNING PRINCIPAL'!$I$42:$X$42,J29)>=1,\"\",ROW())","v":29},null,null,{"$f":"IF(COUNTIF('PLANNING PRINCIPAL'!$I$45:$X$45,M29)>=1,\"\",ROW())","v":29},null,null,{"$f":"IF(COUNTIF('PLANNING PRINCIPAL'!$I$48:$X$48,P29)>=1,\"\",ROW())","v":29},null,null,{"$f":"IF(COUNTIF('PLANNING PRINCIPAL'!$I$51:$X$51,S29)>=1,\"\",ROW())","v":29},null,null,{"$f":"IF(COUNTIF('PLANNING PRINCIPAL'!$I$53:$X$53,V29)>=1,\"\",ROW())","v":29}]
[null,{"$f":"IF(COUNTIF('PLANNING PRINCIPAL'!$I$33:$X$33,A30)>=1,\"\",ROW())","v":30},null,null,{"$f":"IF(COUNTIF('PLANNING PRINCIPAL'!$I$36:$X$36,D30)>=1,\"\",ROW())","v":30},null,null,{"$f":"IF(COUNTIF('PLANNING PRINCIPAL'!$I$39:$X$39,G30)>=1,\"\",ROW())","v":30},null,null,{"$f":"IF(COUNTIF('PLANNING PRINCIPAL'!$I$42:$X$42,J30)>=1,\"\",ROW())","v":30},null,null,{"$f":"IF(COUNTIF('PLANNING PRINCIPAL'!$I$45:$X$45,M30)>=1,\"\",ROW())","v":30},null,null,{"$f":"IF(COUNTIF('PLANNING PRINCIPAL'!$I$48:$X$48,P30)>=1,\"\",ROW())","v":30},null,null,{"$f":"IF(COUNTIF('PLANNING PRINCIPAL'!$I$51:$X$51,S30)>=1,\"\",ROW())","v":30},null,null,{"$f":"IF(COUNTIF('PLANNING PRINCIPAL'!$I$53:$X$53,V30)>=1,\"\",ROW())","v":30}]
[null,{"$f":"IF(COUNTIF('PLANNING PRINCIPAL'!$I$33:$X$33,A31)>=1,\"\",ROW())","v":31},null,null,{"$f":"IF(COUNTIF('PLANNING PRINCIPAL'!$I$36:$X$36,D31)>=1,\"\",ROW())","v":31},null,null,{"$f":"IF(COUNTIF('PLANNING PRINCIPAL'!$I$39:$X$39,G31)>=1,\"\",ROW())","v":31},null,null,{"$f":"IF(COUNTIF('PLANNING PRINCIPAL'!$I$42:$X$42,J31)>=1,\"\",ROW())","v":31},null,null,{"$f":"IF(COUNTIF('PLANNING PRINCIPAL'!$I$45:$X$45,M31)>=1,\"\",ROW())","v":31},null,null,{"$f":"IF(COUNTIF('PLANNING PRINCIPAL'!$I$48:$X$48,P31)>=1,\"\",ROW())","v":31},null,null,{"$f":"IF(COUNTIF('PLANNING PRINCIPAL'!$I$51:$X$51,S31)>=1,\"\",ROW())","v":31},null,null,{"$f":"IF(COUNTIF('PLANNING PRINCIPAL'!$I$53:$X$53,V31)>=1,\"\",ROW())","v":31}]
[null,{"$f":"IF(COUNTIF('PLANNING PRINCIPAL'!$I$33:$X$33,A32)>=1,\"\",ROW())","v":32},null,null,{"$f":"IF(COUNTIF('PLANNING PRINCIPAL'!$I$36:$X$36,D32)>=1,\"\",ROW())","v":32},null,null,{"$f":"IF(COUNTIF('PLANNING PRINCIPAL'!$I$39:$X$39,G32)>=1,\"\",ROW())","v":32},null,null,{"$f":"IF(COUNTIF('PLANNING PRINCIPAL'!$I$42:$X$42,J32)>=1,\"\",ROW())","v":32},null,null,{"$f":"IF(COUNTIF('PLANNING PRINCIPAL'!$I$45:$X$45,M32)>=1,\"\",ROW())","v":32},null,null,{"$f":"IF(COUNTIF('PLANNING PRINCIPAL'!$I$48:$X$48,P32)>=1,\"\",ROW())","v":32},null,null,{"$f":"IF(COUNTIF('PLANNING PRINCIPAL'!$I$51:$X$51,S32)>=1,\"\",ROW())","v":32},null,null,{"$f":"IF(COUNTIF('PLANNING PRINCIPAL'!$I$53:$X$53,V32)>=1,\"\",ROW())","v":32}]
[null,{"$f":"IF(COUNTIF('PLANNING PRINCIPAL'!$I$33:$X$33,A33)>=1,\"\",ROW())","v":33},null,null,{"$f":"IF(COUNTIF('PLANNING PRINCIPAL'!$I$36:$X$36,D33)>=1,\"\",ROW())","v":33},null,null,{"$f":"IF(COUNTIF('PLANNING PRINCIPAL'!$I$39:$X$39,G33)>=1,\"\",ROW())","v":33},null,null,{"$f":"IF(COUNTIF('PLANNING PRINCIPAL'!$I$42:$X$42,J33)>=1,\"\",ROW())","v":33},null,null,{"$f":"IF(COUNTIF('PLANNING PRINCIPAL'!$I$45:$X$45,M33)>=1,\"\",ROW())","v":33},null,null,{"$f":"IF(COUNTIF('PLANNING PRINCIPAL'!$I$48:$X$48,P33)>=1,\"\",ROW())","v":33},null,null,{"$f":"IF(COUNTIF('PLANNING PRINCIPAL'!$I$51:$X$51,S33)>=1,\"\",ROW())","v":33},null,null,{"$f":"IF(COUNTIF('PLANNING PRINCIPAL'!$I$53:$X$53,V33)>=1,\"\",ROW())","v":33}]
[null,{"$f":"IF(COUNTIF('PLANNING PRINCIPAL'!$I$33:$X$33,A34)>=1,\"\",ROW())","v":34},null,null,{"$f":"IF(COUNTIF('PLANNING PRINCIPAL'!$I$36:$X$36,D34)>=1,\"\",ROW())","v":34},null,null,{"$f":"IF(COUNTIF('PLANNING PRINCIPAL'!$I$39:$X$39,G34)>=1,\"\",ROW())","v":34},null,null,{"$f":"IF(COUNTIF('PLANNING PRINCIPAL'!$I$42:$X$42,J34)>=1,\"\",ROW())","v":34},null,null,{"$f":"IF(COUNTIF('PLANNING PRINCIPAL'!$I$45:$X$45,M34)>=1,\"\",ROW())","v":34},null,null,{"$f":"IF(COUNTIF('PLANNING PRINCIPAL'!$I$48:$X$48,P34)>=1,\"\",ROW())","v":34},null,null,{"$f":"IF(COUNTIF('PLANNING PRINCIPAL'!$I$51:$X$51,S34)>=1,\"\",ROW())","v":34},null,null,{"$f":"IF(COUNTIF('PLANNING PRINCIPAL'!$I$53:$X$53,V34)>=1,\"\",ROW())","v":34}]
["LUNDI",null,null,"MARDI",null,null,"MERCREDI",null,null,"JEUDI",null,null,"VENDREDI",null,null,"SAMEDI",null,null,"DIMANCHE",null,null,"ASTREINTE"]

{"sheet":"DATA S3","index":4,"n_rows":35,"n_cols":24,"rows_kept":35,"cut":false,"hidden":false,"merged":[[34,18,34,20],[34,21,34,23],[34,0,34,2],[34,3,34,5],[34,6,34,8],[34,9,34,11],[34,12,34,14],[34,15,34,17]]}
[{"$f":"'DATA S1'!A1","v":"MAS XX "},{"$f":"IF(COUNTIF('PLANNING PRINCIPAL'!$I$56:$X$56,A1)>=1,\"\",ROW())","v":1},{"$f":"IF(ROW(A1)-ROW(A$1)+1>COUNT(B:B),\"\", INDEX(A:A,SMALL(B:B,1+ROW(A1)-ROW(A$1))))","v":"MAS XX "},{"$f":"A1","v":"MAS XX "},{"$f":"IF(COUNTIF('PLANNING PRINCIPAL'!$I$59:$X$59,D1)>=1,\"\",ROW())","v":1},{"$f":"IF(ROW(D1)-ROW(D$1)+1>COUNT(E:E),\"\", INDEX(D:D,SMALL(E:E,1+ROW(D1)-ROW(D$1))))","v":"MAS XX "},{"$f":"A1","v":"MAS XX "},{"$f":"IF(COUNTIF('PLANNING PRINCIPAL'!$I$62:$X$62,G1)>=1,\"\",ROW())","v":1},{"$f":"IF(ROW(G1)-ROW(G$1)+1>COUNT(H:H),\"\", INDEX(G:G,SMALL(H:H,1+ROW(G1)-ROW(G$1))))","v":"MAS XX "},{"$f":"A1","v":"MAS XX "},{"$f":"IF(COUNTIF('PLANNING PRINCIPAL'!$I$65:$X$65,J1)>=1,\"\",ROW())","v":1},{"$f":"IF(ROW(J1)-ROW(J$1)+1>COUNT(K:K),\"\", INDEX(J:J,SMALL(K:K,1+ROW(J1)-ROW(J$1))))","v":"MAS XX "},{"$f":"A1","v":"MAS XX "},{"$f":"IF(COUNTIF('PLANNING PRINCIPAL'!$I$68:$X$68,M1)>=1,\"\",ROW())","v":1},{"$f":"IF(ROW(M1)-ROW(M$1)+1>COUNT(N:N),\"\", INDEX(M:M,SMALL(N:N,1+ROW(M1)-ROW(M$1))))","v":"MAS XX "},{"$f":"A1","v":"MAS XX "},{"$f":"IF(COUNTIF('PLANNING PRINCIPAL'!$I$71:$X$71,P1)>=1,\"\",ROW())","v":1},{"$f":"IF(ROW(P1)-ROW(P$1)+1>COUNT(Q:Q),\"\", INDEX(P:P,SMALL(Q:Q,1+ROW(P1)-ROW(P$1))))","v":"MAS XX "},{"$f":"A1","v":"MAS XX "},{"$f":"IF(COUNTIF('PLANNING PRINCIPAL'!$I$74:$X$74,S1)>=1,\"\",ROW())","v":1},{"$f":"IF(ROW(S1)-ROW(S$1)+1>COUNT(T:T),\"\", INDEX(S:S,SMALL(T:T,1+ROW(S1)-ROW(S$1))))","v":"MAS XX "},{"$f":"'DATA S1'!V1","v":"ASTREINTE SLT"},{"$f":"IF(COUNTIF('PLANNING PRINCIPAL'!$I$77:$X$77,V1)>=1,\"\",ROW())","v":1},{"$f":"IF(ROW(V1)-ROW(V$1)+1>COUNT(W:W),\"\", INDEX(V:V,SMALL(W:W,1+ROW(V1)-ROW(V$1))))","v":"ASTREINTE SLT"}]
[{"$f":"'DATA S1'!A2","v":"MAS YY "},{"$f":"IF(COUNTIF('PLANNING PRINCIPAL'!$I$56:$X$56,A2)>=1,\"\",ROW())","v":2},{"$f":"IF(ROW(A2)-ROW(A$1)+1>COUNT(B:B),\"\", INDEX(A:A,SMALL(B:B,1+ROW(A2)-ROW(A$1))))","v":"MAS YY "},"MAS YY ",{"$f":"IF(COUNTIF('PLANNING PRINCIPAL'!$I$59:$X$59,D2)>=1,\"\",ROW())","v":2},{"$f":"IF(ROW(D2)-ROW(D$1)+1>COUNT(E:E),\"\", INDEX(D:D,SMALL(E:E,1+ROW(D2)-ROW(D$1))))","v":"MAS YY "},{"$f":"A2","v":"MAS YY "},{"$f":"IF(COUNTIF('PLANNING PRINCIPAL'!$I$62:$X$62,G2)>=1,\"\",ROW())","v":2},{"$f":"IF(ROW(G2)-ROW(G$1)+1>COUNT(H:H),\"\", INDEX(G:G,SMALL(H:H,1+ROW(G2)-ROW(G$1))))","v":"MAS YY "},{"$f":"A2","v":"MAS YY "},{"$f":"IF(COUNTIF('PLANNING PRINCIPAL'!$I$65:$X$65,J2)>=1,\"\",ROW())","v":2},{"$f":"IF(ROW(J2)-ROW(J$1)+1>COUNT(K:K),\"\", INDEX(J:J,SMALL(K:K,1+ROW(J2)-ROW(J$1))))","v":"MAS YY "},{"$f":"A2","v":"MAS YY "},{"$f":"IF(COUNTIF('PLANNING PRINCIPAL'!$I$68:$X$68,M2)>=1,\"\",ROW())","v":2},{"$f":"IF(ROW(M2)-ROW(M$1)+1>COUNT(N:N),\"\", INDEX(M:M,SMALL(N:N,1+ROW(M2)-ROW(M$1))))","v":"MAS YY "},{"$f":"A2","v":"MAS YY "},{"$f":"IF(COUNTIF('PLANNING PRINCIPAL'!$I$71:$X$71,P2)>=1,\"\",ROW())","v":2},{"$f":"IF(ROW(P2)-ROW(P$1)+1>COUNT(Q:Q),\"\", INDEX(P:P,SMALL(Q:Q,1+ROW(P2)-ROW(P$1))))","v":"MAS YY "},{"$f":"A2","v":"MAS YY "},{"$f":"IF(COUNTIF('PLANNING PRINCIPAL'!$I$74:$X$74,S2)>=1,\"\",ROW())","v":2},{"$f":"IF(ROW(S2)-ROW(S$1)+1>COUNT(T:T),\"\", INDEX(S:S,SMALL(T:T,1+ROW(S2)-ROW(S$1))))","v":"MAS YY "},{"$f":"'DATA S1'!V2","v":"ASTREINTE EP"},{"$f":"IF(COUNTIF('PLANNING PRINCIPAL'!$I$77:$X$77,V2)>=1,\"\",ROW())","v":2},{"$f":"IF(ROW(V2)-ROW(V$1)+1>COUNT(W:W),\"\", INDEX(V:V,SMALL(W:W,1+ROW(V2)-ROW(V$1))))","v":"ASTREINTE EP"}]
[{"$f":"'DATA S1'!A3","v":"MAS VQ "},{"$f":"IF(COUNTIF('PLANNING PRINCIPAL'!$I$56:$X$56,A3)>=1,\"\",ROW())","v":3},"MAS VQ ","MAS VQ ",{"$f":"IF(COUNTIF('PLANNING PRINCIPAL'!$I$59:$X$59,D3)>=1,\"\",ROW())","v":3},"MAS VQ ","MAS VQ ",{"$f":"IF(COUNTIF('PLANNING PRINCIPAL'!$I$62:$X$62,G3)>=1,\"\",ROW())","v":3},"MAS VQ ","MAS VQ ",{"$f":"IF(COUNTIF('PLANNING PRINCIPAL'!$I$65:$X$65,J3)>=1,\"\",ROW())","v":3},"MAS VQ ","MAS VQ ",{"$f":"IF(COUNTIF('PLANNING PRINCIPAL'!$I$68:$X$68,M3)>=1,\"\",ROW())","v":3},"MAS VQ ","MAS VQ ",{"$f":"IF(COUNTIF('PLANNING PRINCIPAL'!$I$71:$X$71,P3)>=1,\"\",ROW())","v":3},"MAS VQ ","MAS VQ ",{"$f":"IF(COUNTIF('PLANNING PRINCIPAL'!$I$74:$X$74,S3)>=1,\"\",ROW())","v":3},"MAS VQ ",{"$f":"'DATA S1'!V3","v":"V NOC CHARTRES"},{"$f":"IF(COUNTIF('PLANNING PRINCIPAL'!$I$77:$X$77,V3)>=1,\"\",ROW())","v":3},"V NOC CHARTRES"]
[{"$f":"'DATA S1'!A4","v":"MAS PL "},{"$f":"IF(COUNTIF('PLANNING PRINCIPAL'!$I$56:$X$56,A4)>=1,\"\",ROW())","v":4},"MAS PL ","MAS PL ",{"$f":"IF(COUNTIF('PLANNING PRINCIPAL'!$I$59:$X$59,D4)>=1,\"\",ROW())","v":4},"MAS PL ","MAS PL ",{"$f":"IF(COUNTIF('PLANNING PRINCIPAL'!$I$62:$X$62,G4)>=1,\"\",ROW())","v":4},"MAS PL ","MAS PL ",{"$f":"IF(COUNTIF('PLANNING PRINCIPAL'!$I$65:$X$65,J4)>=1,\"\",ROW())","v":4},"MAS PL ","MAS PL ",{"$f":"IF(COUNTIF('PLANNING PRINCIPAL'!$I$68:$X$68,M4)>=1,\"\",ROW())","v":4},"MAS PL ","MAS PL ",{"$f":"IF(COUNTIF('PLANNING PRINCIPAL'!$I$71:$X$71,P4)>=1,\"\",ROW())","v":4},"MAS PL ","MAS PL ",{"$f":"IF(COUNTIF('PLANNING PRINCIPAL'!$I$74:$X$74,S4)>=1,\"\",ROW())","v":4},"MAS PL ",{"$f":"'DATA S1'!V4","v":"V NOC EPERNON"},{"$f":"IF(COUNTIF('PLANNING PRINCIPAL'!$I$77:$X$77,V4)>=1,\"\",ROW())","v":4},"V NOC EPERNON"]
[{"$f":"'DATA S1'!A5","v":"BEN VL PT "},{"$f":"IF(COUNTIF('PLANNING PRINCIPAL'!$I$56:$X$56,A5)>=1,\"\",ROW())","v":5},"BEN VL PT ","BEN VL PT ",{"$f":"IF(COUNTIF('PLANNING PRINCIPAL'!$I$59:$X$59,D5)>=1,\"\",ROW())","v":5},"BEN VL PT ","BEN VL PT ",{"$f":"IF(COUNTIF('PLANNING PRINCIPAL'!$I$62:$X$62,G5)>=1,\"\",ROW())","v":5},"BEN VL PT ","BEN VL PT ",{"$f":"IF(COUNTIF('PLANNING PRINCIPAL'!$I$65:$X$65,J5)>=1,\"\",ROW())","v":5},"BEN VL PT ","BEN VL PT ",{"$f":"IF(COUNTIF('PLANNING PRINCIPAL'!$I$68:$X$68,M5)>=1,\"\",ROW())","v":5},"BEN VL PT ","BEN VL PT ",{"$f":"IF(COUNTIF('PLANNING PRINCIPAL'!$I$71:$X$71,P5)>=1,\"\",ROW())","v":5},"BEN VL PT ","BEN VL PT ",{"$f":"IF(COUNTIF('PLANNING PRINCIPAL'!$I$74:$X$74,S5)>=1,\"\",ROW())","v":5},"BEN VL PT ",{"$f":"'DATA S1'!V5","v":"V NOC HANCHES"},{"$f":"IF(COUNTIF('PLANNING PRINCIPAL'!$I$77:$X$77,V5)>=1,\"\",ROW())","v":5},"V NOC HANCHES"]
[{"$f":"'DATA S1'!A6","v":"BEN 19T "},{"$f":"IF(COUNTIF('PLANNING PRINCIPAL'!$I$56:$X$56,A6)>=1,\"\",ROW())","v":6},"BEN 19T ","BEN 19T ",{"$f":"IF(COUNTIF('PLANNING PRINCIPAL'!$I$59:$X$59,D6)>=1,\"\",ROW())","v":6},"BEN 19T ","BEN 19T ",{"$f":"IF(COUNTIF('PLANNING PRINCIPAL'!$I$62:$X$62,G6)>=1,\"\",ROW())","v":6},"BEN 19T ","BEN 19T ",{"$f":"IF(COUNTIF('PLANNING PRINCIPAL'!$I$65:$X$65,J6)>=1,\"\",ROW())","v":6},"BEN 19T ","BEN 19T ",{"$f":"IF(COUNTIF('PLANNING PRINCIPAL'!$I$68:$X$68,M6)>=1,\"\",ROW())","v":6},"BEN 19T ","BEN 19T ",{"$f":"IF(COUNTIF('PLANNING PRINCIPAL'!$I$71:$X$71,P6)>=1,\"\",ROW())","v":6},"BEN 19T ","BEN 19T ",{"$f":"IF(COUNTIF('PLANNING PRINCIPAL'!$I$74:$X$74,S6)>=1,\"\",ROW())","v":6},"BEN 19T ",{"$f":"'DATA S1'!V6","v":"V NOC MAINTENON"},{"$f":"IF(COUNTIF('PLANNING PRINCIPAL'!$I$77:$X$77,V6)>=1,\"\",ROW())","v":6},"V NOC MAINTENON"]
[{"$f":"'DATA S1'!A7","v":"BEN 13T "},{"$f":"IF(COUNTIF('PLANNING PRINCIPAL'!$I$56:$X$56,A7)>=1,\"\",ROW())","v":7},"BEN 13T ","BEN 13T ",{"$f":"IF(COUNTIF('PLANNING PRINCIPAL'!$I$59:$X$59,D7)>=1,\"\",ROW())","v":7},"BEN 13T ","BEN 13T ",{"$f":"IF(COUNTIF('PLANNING PRINCIPAL'!$I$62:$X$62,G7)>=1,\"\",ROW())","v":7},"BEN 13T ","BEN 13T ",{"$f":"IF(COUNTIF('PLANNING PRINCIPAL'!$I$65:$X$65,J7)>=1,\"\",ROW())","v":7},"BEN 13T ","BEN 13T ",{"$f":"IF(COUNTIF('PLANNING PRINCIPAL'!$I$68:$X$68,M7)>=1,\"\",ROW())","v":7},"BEN 13T ","BEN 13T ",{"$f":"IF(COUNTIF('PLANNING PRINCIPAL'!$I$71:$X$71,P7)>=1,\"\",ROW())","v":7},"BEN 13T ","BEN 13T ",{"$f":"IF(COUNTIF('PLANNING PRINCIPAL'!$I$74:$X$74,S7)>=1,\"\",ROW())","v":7},"BEN 13T ",null,{"$f":"IF(COUNTIF('PLANNING PRINCIPAL'!$I$77:$X$77,V7)>=1,\"\",ROW())","v":7}]
[{"$f":"'DATA S1'!A8","v":"NAC VL 18M "},{"$f":"IF(COUNTIF('PLANNING PRINCIPAL'!$I$56:$X$56,A8)>=1,\"\",ROW())","v":8},"NAC VL 18M ","NAC VL 18M ",{"$f":"IF(COUNTIF('PLANNING PRINCIPAL'!$I$59:$X$59,D8)>=1,\"\",ROW())","v":8},"NAC VL 18M ","NAC VL 18M ",{"$f":"IF(COUNTIF('PLANNING PRINCIPAL'!$I$62:$X$62,G8)>=1,\"\",ROW())","v":8},"NAC VL 18M ","NAC VL 18M ",{"$f":"IF(COUNTIF('PLANNING PRINCIPAL'!$I$65:$X$65,J8)>=1,\"\",ROW())","v":8},"NAC VL 18M ","NAC VL 18M ",{"$f":"IF(COUNTIF('PLANNING PRINCIPAL'!$I$68:$X$68,M8)>=1,\"\",ROW())","v":8},"NAC VL 18M ","NAC VL 18M ",{"$f":"IF(COUNTIF('PLANNING PRINCIPAL'!$I$71:$X$71,P8)>=1,\"\",ROW())","v":8},"NAC VL 18M ","NAC VL 18M ",{"$f":"IF(COUNTIF('PLANNING PRINCIPAL'!$I$74:$X$74,S8)>=1,\"\",ROW())","v":8},"NAC VL 18M ",null,{"$f":"IF(COUNTIF('PLANNING PRINCIPAL'!$I$77:$X$77,V8)>=1,\"\",ROW())","v":8}]
[{"$f":"'DATA S1'!A9","v":"NAC EGIE"},{"$f":"IF(COUNTIF('PLANNING PRINCIPAL'!$I$56:$X$56,A9)>=1,\"\",ROW())","v":9},"NAC EGIE","NAC EGIE",{"$f":"IF(COUNTIF('PLANNING PRINCIPAL'!$I$59:$X$59,D9)>=1,\"\",ROW())","v":9},"NAC EGIE","NAC EGIE",{"$f":"IF(COUNTIF('PLANNING PRINCIPAL'!$I$62:$X$62,G9)>=1,\"\",ROW())","v":9},"NAC EGIE","NAC EGIE",{"$f":"IF(COUNTIF('PLANNING PRINCIPAL'!$I$65:$X$65,J9)>=1,\"\",ROW())","v":9},"NAC EGIE","NAC EGIE",{"$f":"IF(COUNTIF('PLANNING PRINCIPAL'!$I$68:$X$68,M9)>=1,\"\",ROW())","v":9},"NAC EGIE","NAC EGIE",{"$f":"IF(COUNTIF('PLANNING PRINCIPAL'!$I$71:$X$71,P9)>=1,\"\",ROW())","v":9},"NAC EGIE","NAC EGIE",{"$f":"IF(COUNTIF('PLANNING PRINCIPAL'!$I$74:$X$74,S9)>=1,\"\",ROW())","v":9},"NAC EGIE",null,{"$f":"IF(COUNTIF('PLANNING PRINCIPAL'!$I$77:$X$77,V9)>=1,\"\",ROW())","v":9}]
[{"$f":"'DATA S1'!A10","v":"NAC COMI "},{"$f":"IF(COUNTIF('PLANNING PRINCIPAL'!$I$56:$X$56,A10)>=1,\"\",ROW())","v":10},"NAC COMI ","NAC COMI ",{"$f":"IF(COUNTIF('PLANNING PRINCIPAL'!$I$59:$X$59,D10)>=1,\"\",ROW())","v":10},"NAC COMI ","NAC COMI ",{"$f":"IF(COUNTIF('PLANNING PRINCIPAL'!$I$62:$X$62,G10)>=1,\"\",ROW())","v":10},"NAC COMI ","NAC COMI ",{"$f":"IF(COUNTIF('PLANNING PRINCIPAL'!$I$65:$X$65,J10)>=1,\"\",ROW())","v":10},"NAC COMI ","NAC COMI ",{"$f":"IF(COUNTIF('PLANNING PRINCIPAL'!$I$68:$X$68,M10)>=1,\"\",ROW())","v":10},"NAC COMI ","NAC COMI ",{"$f":"IF(COUNTIF('PLANNING PRINCIPAL'!$I$71:$X$71,P10)>=1,\"\",ROW())","v":10},"NAC COMI ","NAC COMI ",{"$f":"IF(COUNTIF('PLANNING PRINCIPAL'!$I$74:$X$74,S10)>=1,\"\",ROW())","v":10},"NAC COMI ",null,{"$f":"IF(COUNTIF('PLANNING PRINCIPAL'!$I$77:$X$77,V10)>=1,\"\",ROW())","v":10}]
[{"$f":"'DATA S1'!A11","v":"#####LOCATION#####"},{"$f":"IF(COUNTIF('PLANNING PRINCIPAL'!$I$56:$X$56,A11)>=1,\"\",ROW())","v":11},"#####LOCATION#####","#####LOCATION#####",{"$f":"IF(COUNTIF('PLANNING PRINCIPAL'!$I$59:$X$59,D11)>=1,\"\",ROW())","v":11},"#####LOCATION#####","#####LOCATION#####",{"$f":"IF(COUNTIF('PLANNING PRINCIPAL'!$I$62:$X$62,G11)>=1,\"\",ROW())","v":11},"#####LOCATION#####","#####LOCATION#####",{"$f":"IF(COUNTIF('PLANNING PRINCIPAL'!$I$65:$X$65,J11)>=1,\"\",ROW())","v":11},"#####LOCATION#####","#####LOCATION#####",{"$f":"IF(COUNTIF('PLANNING PRINCIPAL'!$I$68:$X$68,M11)>=1,\"\",ROW())","v":11},"#####LOCATION#####","#####LOCATION#####",{"$f":"IF(COUNTIF('PLANNING PRINCIPAL'!$I$71:$X$71,P11)>=1,\"\",ROW())","v":11},"#####LOCATION#####","#####LOCATION#####",{"$f":"IF(COUNTIF('PLANNING PRINCIPAL'!$I$74:$X$74,S11)>=1,\"\",ROW())","v":11},"#####LOCATION#####",null,{"$f":"IF(COUNTIF('PLANNING PRINCIPAL'!$I$77:$X$77,V11)>=1,\"\",ROW())","v":11}]
[{"$f":"'DATA S1'!A12","v":"LOC NAC SOLOMAT"},{"$f":"IF(COUNTIF('PLANNING PRINCIPAL'!$I$56:$X$56,A12)>=1,\"\",ROW())","v":12},"LOC NAC SOLOMAT","LOC NAC SOLOMAT",{"$f":"IF(COUNTIF('PLANNING PRINCIPAL'!$I$59:$X$59,D12)>=1,\"\",ROW())","v":12},"LOC NAC SOLOMAT","LOC NAC SOLOMAT",{"$f":"IF(COUNTIF('PLANNING PRINCIPAL'!$I$62:$X$62,G12)>=1,\"\",ROW())","v":12},"LOC NAC SOLOMAT","LOC NAC SOLOMAT",{"$f":"IF(COUNTIF('PLANNING PRINCIPAL'!$I$65:$X$65,J12)>=1,\"\",ROW())","v":12},"LOC NAC SOLOMAT","LOC NAC SOLOMAT",{"$f":"IF(COUNTIF('PLANNING PRINCIPAL'!$I$68:$X$68,M12)>=1,\"\",ROW())","v":12},"LOC NAC SOLOMAT","LOC NAC SOLOMAT",{"$f":"IF(COUNTIF('PLANNING PRINCIPAL'!$I$71:$X$71,P12)>=1,\"\",ROW())","v":12},"LOC NAC SOLOMAT","LOC NAC SOLOMAT",{"$f":"IF(COUNTIF('PLANNING PRINCIPAL'!$I$74:$X$74,S12)>=1,\"\",ROW())","v":12},"LOC NAC SOLOMAT",null,{"$f":"IF(COUNTIF('PLANNING PRINCIPAL'!$I$77:$X$77,V12)>=1,\"\",ROW())","v":12}]
[{"$f":"'DATA S1'!A13","v":"LOC NAC AEB"},{"$f":"IF(COUNTIF('PLANNING PRINCIPAL'!$I$56:$X$56,A13)>=1,\"\",ROW())","v":13},"LOC NAC AEB","LOC NAC AEB",{"$f":"IF(COUNTIF('PLANNING PRINCIPAL'!$I$59:$X$59,D13)>=1,\"\",ROW())","v":13},"LOC NAC AEB","LOC NAC AEB",{"$f":"IF(COUNTIF('PLANNING PRINCIPAL'!$I$62:$X$62,G13)>=1,\"\",ROW())","v":13},"LOC NAC AEB","LOC NAC AEB",{"$f":"IF(COUNTIF('PLANNING PRINCIPAL'!$I$65:$X$65,J13)>=1,\"\",ROW())","v":13},"LOC NAC AEB","LOC NAC AEB",{"$f":"IF(COUNTIF('PLANNING PRINCIPAL'!$I$68:$X$68,M13)>=1,\"\",ROW())","v":13},"LOC NAC AEB","LOC NAC AEB",{"$f":"IF(COUNTIF('PLANNING PRINCIPAL'!$I$71:$X$71,P13)>=1,\"\",ROW())","v":13},"LOC NAC AEB","LOC NAC AEB",{"$f":"IF(COUNTIF('PLANNING PRINCIPAL'!$I$74:$X$74,S13)>=1,\"\",ROW())","v":13},"LOC NAC AEB",null,{"$f":"IF(COUNTIF('PLANNING PRINCIPAL'!$I$77:$X$77,V13)>=1,\"\",ROW())","v":13}]
[{"$f":"'DATA S1'!A14","v":"LOC NAC INTERLOC"},{"$f":"IF(COUNTIF('PLANNING PRINCIPAL'!$I$56:$X$56,A14)>=1,\"\",ROW())","v":14},"LOC NAC INTERLOC","LOC NAC INTERLOC",{"$f":"IF(COUNTIF('PLANNING PRINCIPAL'!$I$59:$X$59,D14)>=1,\"\",ROW())","v":14},"LOC NAC INTERLOC","LOC NAC INTERLOC",{"$f":"IF(COUNTIF('PLANNING PRINCIPAL'!$I$62:$X$62,G14)>=1,\"\",ROW())","v":14},"LOC NAC INTERLOC","LOC NAC INTERLOC",{"$f":"IF(COUNTIF('PLANNING PRINCIPAL'!$I$65:$X$65,J14)>=1,\"\",ROW())","v":14},"LOC NAC INTERLOC","LOC NAC INTERLOC",{"$f":"IF(COUNTIF('PLANNING PRINCIPAL'!$I$68:$X$68,M14)>=1,\"\",ROW())","v":14},"LOC NAC INTERLOC","LOC NAC INTERLOC",{"$f":"IF(COUNTIF('PLANNING PRINCIPAL'!$I$71:$X$71,P14)>=1,\"\",ROW())","v":14},"LOC NAC INTERLOC","LOC NAC INTERLOC",{"$f":"IF(COUNTIF('PLANNING PRINCIPAL'!$I$74:$X$74,S14)>=1,\"\",ROW())","v":14},"LOC NAC INTERLOC",null,{"$f":"IF(COUNTIF('PLANNING PRINCIPAL'!$I$77:$X$77,V14)>=1,\"\",ROW())","v":14}]
[{"$f":"'DATA S1'!A15","v":"LOC NAC KILOUTOU"},{"$f":"IF(COUNTIF('PLANNING PRINCIPAL'!$I$56:$X$56,A15)>=1,\"\",ROW())","v":15},"LOC NAC KILOUTOU","LOC NAC KILOUTOU",{"$f":"IF(COUNTIF('PLANNING PRINCIPAL'!$I$59:$X$59,D15)>=1,\"\",ROW())","v":15},"LOC NAC KILOUTOU","LOC NAC KILOUTOU",{"$f":"IF(COUNTIF('PLANNING PRINCIPAL'!$I$62:$X$62,G15)>=1,\"\",ROW())","v":15},"LOC NAC KILOUTOU","LOC NAC KILOUTOU",{"$f":"IF(COUNTIF('PLANNING PRINCIPAL'!$I$65:$X$65,J15)>=1,\"\",ROW())","v":15},"LOC NAC KILOUTOU","LOC NAC KILOUTOU",{"$f":"IF(COUNTIF('PLANNING PRINCIPAL'!$I$68:$X$68,M15)>=1,\"\",ROW())","v":15},"LOC NAC KILOUTOU","LOC NAC KILOUTOU",{"$f":"IF(COUNTIF('PLANNING PRINCIPAL'!$I$71:$X$71,P15)>=1,\"\",ROW())","v":15},"LOC NAC KILOUTOU","LOC NAC KILOUTOU",{"$f":"IF(COUNTIF('PLANNING PRINCIPAL'!$I$74:$X$74,S15)>=1,\"\",ROW())","v":15},"LOC NAC KILOUTOU",null,{"$f":"IF(COUNTIF('PLANNING PRINCIPAL'!$I$77:$X$77,V15)>=1,\"\",ROW())","v":15}]
[{"$f":"'DATA S1'!A16","v":"LOC NAC AEB"},{"$f":"IF(COUNTIF('PLANNING PRINCIPAL'!$I$56:$X$56,A16)>=1,\"\",ROW())","v":16},"LOC NAC AEB","LOC NAC AEB",{"$f":"IF(COUNTIF('PLANNING PRINCIPAL'!$I$59:$X$59,D16)>=1,\"\",ROW())","v":16},"LOC NAC AEB","LOC NAC AEB",{"$f":"IF(COUNTIF('PLANNING PRINCIPAL'!$I$62:$X$62,G16)>=1,\"\",ROW())","v":16},"LOC NAC AEB","LOC NAC AEB",{"$f":"IF(COUNTIF('PLANNING PRINCIPAL'!$I$65:$X$65,J16)>=1,\"\",ROW())","v":16},"LOC NAC AEB","LOC NAC AEB",{"$f":"IF(COUNTIF('PLANNING PRINCIPAL'!$I$68:$X$68,M16)>=1,\"\",ROW())","v":16},"LOC NAC AEB","LOC NAC AEB",{"$f":"IF(COUNTIF('PLANNING PRINCIPAL'!$I$71:$X$71,P16)>=1,\"\",ROW())","v":16},"LOC NAC AEB","LOC NAC AEB",{"$f":"IF(COUNTIF('PLANNING PRINCIPAL'!$I$74:$X$74,S16)>=1,\"\",ROW())","v":16},"LOC NAC AEB",null,{"$f":"IF(COUNTIF('PLANNING PRINCIPAL'!$I$77:$X$77,V16)>=1,\"\",ROW())","v":16}]
[{"$f":"'DATA S1'!A17","v":"LOC PELLE SOLOMAT"},{"$f":"IF(COUNTIF('PLANNING PRINCIPAL'!$I$56:$X$56,A17)>=1,\"\",ROW())","v":17},"LOC PELLE SOLOMAT","LOC PELLE SOLOMAT",{"$f":"IF(COUNTIF('PLANNING PRINCIPAL'!$I$59:$X$59,D17)>=1,\"\",ROW())","v":17},"LOC PELLE SOLOMAT","LOC PELLE SOLOMAT",{"$f":"IF(COUNTIF('PLANNING PRINCIPAL'!$I$62:$X$62,G17)>=1,\"\",ROW())","v":17},"LOC PELLE SOLOMAT","LOC PELLE SOLOMAT",{"$f":"IF(COUNTIF('PLANNING PRINCIPAL'!$I$65:$X$65,J17)>=1,\"\",ROW())","v":17},"LOC PELLE SOLOMAT","LOC PELLE SOLOMAT",{"$f":"IF(COUNTIF('PLANNING PRINCIPAL'!$I$68:$X$68,M17)>=1,\"\",ROW())","v":17},"LOC PELLE SOLOMAT","LOC PELLE SOLOMAT",{"$f":"IF(COUNTIF('PLANNING PRINCIPAL'!$I$71:$X$71,P17)>=1,\"\",ROW())","v":17},"LOC PELLE SOLOMAT","LOC PELLE SOLOMAT",{"$f":"IF(COUNTIF('PLANNING PRINCIPAL'!$I$74:$X$74,S17)>=1,\"\",ROW())","v":17},"LOC PELLE SOLOMAT",null,{"$f":"IF(COUNTIF('PLANNING PRINCIPAL'!$I$77:$X$77,V17)>=1,\"\",ROW())","v":17}]
[{"$f":"'DATA S1'!A18","v":"LOC PELLE AEB"},{"$f":"IF(COUNTIF('PLANNING PRINCIPAL'!$I$56:$X$56,A18)>=1,\"\",ROW())","v":18},"LOC PELLE AEB","LOC PELLE AEB",{"$f":"IF(COUNTIF('PLANNING PRINCIPAL'!$I$59:$X$59,D18)>=1,\"\",ROW())","v":18},"LOC PELLE AEB","LOC PELLE AEB",{"$f":"IF(COUNTIF('PLANNING PRINCIPAL'!$I$62:$X$62,G18)>=1,\"\",ROW())","v":18},"LOC PELLE AEB","LOC PELLE AEB",{"$f":"IF(COUNTIF('PLANNING PRINCIPAL'!$I$65:$X$65,J18)>=1,\"\",ROW())","v":18},"LOC PELLE AEB","LOC PELLE AEB",{"$f":"IF(COUNTIF('PLANNING PRINCIPAL'!$I$68:$X$68,M18)>=1,\"\",ROW())","v":18},"LOC PELLE AEB","LOC PELLE AEB",{"$f":"IF(COUNTIF('PLANNING PRINCIPAL'!$I$71:$X$71,P18)>=1,\"\",ROW())","v":18},"LOC PELLE AEB","LOC PELLE AEB",{"$f":"IF(COUNTIF('PLANNING PRINCIPAL'!$I$74:$X$74,S18)>=1,\"\",ROW())","v":18},"LOC PELLE AEB",null,{"$f":"IF(COUNTIF('PLANNING PRINCIPAL'!$I$77:$X$77,V18)>=1,\"\",ROW())","v":18}]
[{"$f":"'DATA S1'!A19","v":"LOC PELLE INTERLOC"},{"$f":"IF(COUNTIF('PLANNING PRINCIPAL'!$I$56:$X$56,A19)>=1,\"\",ROW())","v":19},"LOC PELLE INTERLOC","LOC PELLE INTERLOC",{"$f":"IF(COUNTIF('PLANNING PRINCIPAL'!$I$59:$X$59,D19)>=1,\"\",ROW())","v":19},"LOC PELLE INTERLOC","LOC PELLE INTERLOC",{"$f":"IF(COUNTIF('PLANNING PRINCIPAL'!$I$62:$X$62,G19)>=1,\"\",ROW())","v":19},"LOC PELLE INTERLOC","LOC PELLE INTERLOC",{"$f":"IF(COUNTIF('PLANNING PRINCIPAL'!$I$65:$X$65,J19)>=1,\"\",ROW())","v":19},"LOC PELLE INTERLOC","LOC PELLE INTERLOC",{"$f":"IF(COUNTIF('PLANNING PRINCIPAL'!$I$68:$X$68,M19)>=1,\"\",ROW())","v":19},"LOC PELLE INTERLOC","LOC PELLE INTERLOC",{"$f":"IF(COUNTIF('PLANNING PRINCIPAL'!$I$71:$X$71,P19)>=1,\"\",ROW())","v":19},"LOC PELLE INTERLOC","LOC PELLE INTERLOC",{"$f":"IF(COUNTIF('PLANNING PRINCIPAL'!$I$74:$X$74,S19)>=1,\"\",ROW())","v":19},"LOC PELLE INTERLOC",null,{"$f":"IF(COUNTIF('PLANNING PRINCIPAL'!$I$77:$X$77,V19)>=1,\"\",ROW())","v":19}]
[{"$f":"'DATA S1'!A20","v":"LOC PELLE KILOUTOU"},{"$f":"IF(COUNTIF('PLANNING PRINCIPAL'!$I$56:$X$56,A20)>=1,\"\",ROW())","v":20},"LOC PELLE KILOUTOU","LOC PELLE KILOUTOU",{"$f":"IF(COUNTIF('PLANNING PRINCIPAL'!$I$59:$X$59,D20)>=1,\"\",ROW())","v":20},"LOC PELLE KILOUTOU","LOC PELLE KILOUTOU",{"$f":"IF(COUNTIF('PLANNING PRINCIPAL'!$I$62:$X$62,G20)>=1,\"\",ROW())","v":20},"LOC PELLE KILOUTOU","LOC PELLE KILOUTOU",{"$f":"IF(COUNTIF('PLANNING PRINCIPAL'!$I$65:$X$65,J20)>=1,\"\",ROW())","v":20},"LOC PELLE KILOUTOU","LOC PELLE KILOUTOU",{"$f":"IF(COUNTIF('PLANNING PRINCIPAL'!$I$68:$X$68,M20)>=1,\"\",ROW())","v":20},"LOC PELLE KILOUTOU","LOC PELLE KILOUTOU",{"$f":"IF(COUNTIF('PLANNING PRINCIPAL'!$I$71:$X$71,P20)>=1,\"\",ROW())","v":20},"LOC PELLE KILOUTOU","LOC PELLE KILOUTOU",{"$f":"IF(COUNTIF('PLANNING PRINCIPAL'!$I$74:$X$74,S20)>=1,\"\",ROW())","v":20},"LOC PELLE KILOUTOU",null,{"$f":"IF(COUNTIF('PLANNING PRINCIPAL'!$I$77:$X$77,V20)>=1,\"\",ROW())","v":20}]
[null,{"$f":"IF(COUNTIF('PLANNING PRINCIPAL'!$I$56:$X$56,A21)>=1,\"\",ROW())","v":21},null,null,{"$f":"IF(COUNTIF('PLANNING PRINCIPAL'!$I$59:$X$59,D21)>=1,\"\",ROW())","v":21},null,null,{"$f":"IF(COUNTIF('PLANNING PRINCIPAL'!$I$62:$X$62,G21)>=1,\"\",ROW())","v":21},null,null,{"$f":"IF(COUNTIF('PLANNING PRINCIPAL'!$I$65:$X$65,J21)>=1,\"\",ROW())","v":21},null,null,{"$f":"IF(COUNTIF('PLANNING PRINCIPAL'!$I$68:$X$68,M21)>=1,\"\",ROW())","v":21},null,null,{"$f":"IF(COUNTIF('PLANNING PRINCIPAL'!$I$71:$X$71,P21)>=1,\"\",ROW())","v":21},null,null,{"$f":"IF(COUNTIF('PLANNING PRINCIPAL'!$I$74:$X$74,S21)>=1,\"\",ROW())","v":21},null,null,{"$f":"IF(COUNTIF('PLANNING PRINCIPAL'!$I$77:$X$77,V21)>=1,\"\",ROW())","v":21}]
[null,{"$f":"IF(COUNTIF('PLANNING PRINCIPAL'!$I$56:$X$56,A22)>=1,\"\",ROW())","v":22},null,null,{"$f":"IF(COUNTIF('PLANNING PRINCIPAL'!$I$59:$X$59,D22)>=1,\"\",ROW())","v":22},null,null,{"$f":"IF(COUNTIF('PLANNING PRINCIPAL'!$I$62:$X$62,G22)>=1,\"\",ROW())","v":22},null,null,{"$f":"IF(COUNTIF('PLANNING PRINCIPAL'!$I$65:$X$65,J22)>=1,\"\",ROW())","v":22},null,null,{"$f":"IF(COUNTIF('PLANNING PRINCIPAL'!$I$68:$X$68,M22)>=1,\"\",ROW())","v":22},null,null,{"$f":"IF(COUNTIF('PLANNING PRINCIPAL'!$I$71:$X$71,P22)>=1,\"\",ROW())","v":22},null,null,{"$f":"IF(COUNTIF('PLANNING PRINCIPAL'!$I$74:$X$74,S22)>=1,\"\",ROW())","v":22},null,null,{"$f":"IF(COUNTIF('PLANNING PRINCIPAL'!$I$77:$X$77,V22)>=1,\"\",ROW())","v":22}]
[null,{"$f":"IF(COUNTIF('PLANNING PRINCIPAL'!$I$56:$X$56,A23)>=1,\"\",ROW())","v":23},null,null,{"$f":"IF(COUNTIF('PLANNING PRINCIPAL'!$I$59:$X$59,D23)>=1,\"\",ROW())","v":23},null,null,{"$f":"IF(COUNTIF('PLANNING PRINCIPAL'!$I$62:$X$62,G23)>=1,\"\",ROW())","v":23},null,null,{"$f":"IF(COUNTIF('PLANNING PRINCIPAL'!$I$65:$X$65,J23)>=1,\"\",ROW())","v":23},null,null,{"$f":"IF(COUNTIF('PLANNING PRINCIPAL'!$I$68:$X$68,M23)>=1,\"\",ROW())","v":23},null,null,{"$f":"IF(COUNTIF('PLANNING PRINCIPAL'!$I$71:$X$71,P23)>=1,\"\",ROW())","v":23},null,null,{"$f":"IF(COUNTIF('PLANNING PRINCIPAL'!$I$74:$X$74,S23)>=1,\"\",ROW())","v":23},null,null,{"$f":"IF(COUNTIF('PLANNING PRINCIPAL'!$I$77:$X$77,V23)>=1,\"\",ROW())","v":23}]
[null,{"$f":"IF(COUNTIF('PLANNING PRINCIPAL'!$I$56:$X$56,A24)>=1,\"\",ROW())","v":24},null,null,{"$f":"IF(COUNTIF('PLANNING PRINCIPAL'!$I$59:$X$59,D24)>=1,\"\",ROW())","v":24},null,null,{"$f":"IF(COUNTIF('PLANNING PRINCIPAL'!$I$62:$X$62,G24)>=1,\"\",ROW())","v":24},null,null,{"$f":"IF(COUNTIF('PLANNING PRINCIPAL'!$I$65:$X$65,J24)>=1,\"\",ROW())","v":24},null,null,{"$f":"IF(COUNTIF('PLANNING PRINCIPAL'!$I$68:$X$68,M24)>=1,\"\",ROW())","v":24},null,null,{"$f":"IF(COUNTIF('PLANNING PRINCIPAL'!$I$71:$X$71,P24)>=1,\"\",ROW())","v":24},null,null,{"$f":"IF(COUNTIF('PLANNING PRINCIPAL'!$I$74:$X$74,S24)>=1,\"\",ROW())","v":24},null,null,{"$f":"IF(COUNTIF('PLANNING PRINCIPAL'!$I$77:$X$77,V24)>=1,\"\",ROW())","v":24}]
[null,{"$f":"IF(COUNTIF('PLANNING PRINCIPAL'!$I$56:$X$56,A25)>=1,\"\",ROW())","v":25},null,null,{"$f":"IF(COUNTIF('PLANNING PRINCIPAL'!$I$59:$X$59,D25)>=1,\"\",ROW())","v":25},null,null,{"$f":"IF(COUNTIF('PLANNING PRINCIPAL'!$I$62:$X$62,G25)>=1,\"\",ROW())","v":25},null,null,{"$f":"IF(COUNTIF('PLANNING PRINCIPAL'!$I$65:$X$65,J25)>=1,\"\",ROW())","v":25},null,null,{"$f":"IF(COUNTIF('PLANNING PRINCIPAL'!$I$68:$X$68,M25)>=1,\"\",ROW())","v":25},null,null,{"$f":"IF(COUNTIF('PLANNING PRINCIPAL'!$I$71:$X$71,P25)>=1,\"\",ROW())","v":25},null,null,{"$f":"IF(COUNTIF('PLANNING PRINCIPAL'!$I$74:$X$74,S25)>=1,\"\",ROW())","v":25},null,null,{"$f":"IF(COUNTIF('PLANNING PRINCIPAL'!$I$77:$X$77,V25)>=1,\"\",ROW())","v":25}]
[null,{"$f":"IF(COUNTIF('PLANNING PRINCIPAL'!$I$56:$X$56,A26)>=1,\"\",ROW())","v":26},null,null,{"$f":"IF(COUNTIF('PLANNING PRINCIPAL'!$I$59:$X$59,D26)>=1,\"\",ROW())","v":26},null,null,{"$f":"IF(COUNTIF('PLANNING PRINCIPAL'!$I$62:$X$62,G26)>=1,\"\",ROW())","v":26},null,null,{"$f":"IF(COUNTIF('PLANNING PRINCIPAL'!$I$65:$X$65,J26)>=1,\"\",ROW())","v":26},null,null,{"$f":"IF(COUNTIF('PLANNING PRINCIPAL'!$I$68:$X$68,M26)>=1,\"\",ROW())","v":26},null,null,{"$f":"IF(COUNTIF('PLANNING PRINCIPAL'!$I$71:$X$71,P26)>=1,\"\",ROW())","v":26},null,null,{"$f":"IF(COUNTIF('PLANNING PRINCIPAL'!$I$74:$X$74,S26)>=1,\"\",ROW())","v":26},null,null,{"$f":"IF(COUNTIF('PLANNING PRINCIPAL'!$I$77:$X$77,V26)>=1,\"\",ROW())","v":26}]
[null,{"$f":"IF(COUNTIF('PLANNING PRINCIPAL'!$I$56:$X$56,A27)>=1,\"\",ROW())","v":27},null,null,{"$f":"IF(COUNTIF('PLANNING PRINCIPAL'!$I$59:$X$59,D27)>=1,\"\",ROW())","v":27},null,null,{"$f":"IF(COUNTIF('PLANNING PRINCIPAL'!$I$62:$X$62,G27)>=1,\"\",ROW())","v":27},null,null,{"$f":"IF(COUNTIF('PLANNING PRINCIPAL'!$I$65:$X$65,J27)>=1,\"\",ROW())","v":27},null,null,{"$f":"IF(COUNTIF('PLANNING PRINCIPAL'!$I$68:$X$68,M27)>=1,\"\",ROW())","v":27},null,null,{"$f":"IF(COUNTIF('PLANNING PRINCIPAL'!$I$71:$X$71,P27)>=1,\"\",ROW())","v":27},null,null,{"$f":"IF(COUNTIF('PLANNING PRINCIPAL'!$I$74:$X$74,S27)>=1,\"\",ROW())","v":27},null,null,{"$f":"IF(COUNTIF('PLANNING PRINCIPAL'!$I$77:$X$77,V27)>=1,\"\",ROW())","v":27}]
[null,{"$f":"IF(COUNTIF('PLANNING PRINCIPAL'!$I$56:$X$56,A28)>=1,\"\",ROW())","v":28},null,null,{"$f":"IF(COUNTIF('PLANNING PRINCIPAL'!$I$59:$X$59,D28)>=1,\"\",ROW())","v":28},null,null,{"$f":"IF(COUNTIF('PLANNING PRINCIPAL'!$I$62:$X$62,G28)>=1,\"\",ROW())","v":28},null,null,{"$f":"IF(COUNTIF('PLANNING PRINCIPAL'!$I$65:$X$65,J28)>=1,\"\",ROW())","v":28},null,null,{"$f":"IF(COUNTIF('PLANNING PRINCIPAL'!$I$68:$X$68,M28)>=1,\"\",ROW())","v":28},null,null,{"$f":"IF(COUNTIF('PLANNING PRINCIPAL'!$I$71:$X$71,P28)>=1,\"\",ROW())","v":28},null,null,{"$f":"IF(COUNTIF('PLANNING PRINCIPAL'!$I$74:$X$74,S28)>=1,\"\",ROW())","v":28},null,null,{"$f":"IF(COUNTIF('PLANNING PRINCIPAL'!$I$77:$X$77,V28)>=1,\"\",ROW())","v":28}]
[null,{"$f":"IF(COUNTIF('PLANNING PRINCIPAL'!$I$56:$X$56,A29)>=1,\"\",ROW())","v":29},null,null,{"$f":"IF(COUNTIF('PLANNING PRINCIPAL'!$I$59:$X$59,D29)>=1,\"\",ROW())","v":29},null,null,{"$f":"IF(COUNTIF('PLANNING PRINCIPAL'!$I$62:$X$62,G29)>=1,\"\",ROW())","v":29},null,null,{"$f":"IF(COUNTIF('PLANNING PRINCIPAL'!$I$65:$X$65,J29)>=1,\"\",ROW())","v":29},null,null,{"$f":"IF(COUNTIF('PLANNING PRINCIPAL'!$I$68:$X$68,M29)>=1,\"\",ROW())","v":29},null,null,{"$f":"IF(COUNTIF('PLANNING PRINCIPAL'!$I$71:$X$71,P29)>=1,\"\",ROW())","v":29},null,null,{"$f":"IF(COUNTIF('PLANNING PRINCIPAL'!$I$74:$X$74,S29)>=1,\"\",ROW())","v":29},null,null,{"$f":"IF(COUNTIF('PLANNING PRINCIPAL'!$I$77:$X$77,V29)>=1,\"\",ROW())","v":29}]
[null,{"$f":"IF(COUNTIF('PLANNING PRINCIPAL'!$I$56:$X$56,A30)>=1,\"\",ROW())","v":30},null,null,{"$f":"IF(COUNTIF('PLANNING PRINCIPAL'!$I$59:$X$59,D30)>=1,\"\",ROW())","v":30},null,null,{"$f":"IF(COUNTIF('PLANNING PRINCIPAL'!$I$62:$X$62,G30)>=1,\"\",ROW())","v":30},null,null,{"$f":"IF(COUNTIF('PLANNING PRINCIPAL'!$I$65:$X$65,J30)>=1,\"\",ROW())","v":30},null,null,{"$f":"IF(COUNTIF('PLANNING PRINCIPAL'!$I$68:$X$68,M30)>=1,\"\",ROW())","v":30},null,null,{"$f":"IF(COUNTIF('PLANNING PRINCIPAL'!$I$71:$X$71,P30)>=1,\"\",ROW())","v":30},null,null,{"$f":"IF(COUNTIF('PLANNING PRINCIPAL'!$I$74:$X$74,S30)>=1,\"\",ROW())","v":30},null,null,{"$f":"IF(COUNTIF('PLANNING PRINCIPAL'!$I$77:$X$77,V30)>=1,\"\",ROW())","v":30}]
[null,{"$f":"IF(COUNTIF('PLANNING PRINCIPAL'!$I$56:$X$56,A31)>=1,\"\",ROW())","v":31},null,null,{"$f":"IF(COUNTIF('PLANNING PRINCIPAL'!$I$59:$X$59,D31)>=1,\"\",ROW())","v":31},null,null,{"$f":"IF(COUNTIF('PLANNING PRINCIPAL'!$I$62:$X$62,G31)>=1,\"\",ROW())","v":31},null,null,{"$f":"IF(COUNTIF('PLANNING PRINCIPAL'!$I$65:$X$65,J31)>=1,\"\",ROW())","v":31},null,null,{"$f":"IF(COUNTIF('PLANNING PRINCIPAL'!$I$68:$X$68,M31)>=1,\"\",ROW())","v":31},null,null,{"$f":"IF(COUNTIF('PLANNING PRINCIPAL'!$I$71:$X$71,P31)>=1,\"\",ROW())","v":31},null,null,{"$f":"IF(COUNTIF('PLANNING PRINCIPAL'!$I$74:$X$74,S31)>=1,\"\",ROW())","v":31},null,null,{"$f":"IF(COUNTIF('PLANNING PRINCIPAL'!$I$77:$X$77,V31)>=1,\"\",ROW())","v":31}]
[null,{"$f":"IF(COUNTIF('PLANNING PRINCIPAL'!$I$56:$X$56,A32)>=1,\"\",ROW())","v":32},null,null,{"$f":"IF(COUNTIF('PLANNING PRINCIPAL'!$I$59:$X$59,D32)>=1,\"\",ROW())","v":32},null,null,{"$f":"IF(COUNTIF('PLANNING PRINCIPAL'!$I$62:$X$62,G32)>=1,\"\",ROW())","v":32},null,null,{"$f":"IF(COUNTIF('PLANNING PRINCIPAL'!$I$65:$X$65,J32)>=1,\"\",ROW())","v":32},null,null,{"$f":"IF(COUNTIF('PLANNING PRINCIPAL'!$I$68:$X$68,M32)>=1,\"\",ROW())","v":32},null,null,{"$f":"IF(COUNTIF('PLANNING PRINCIPAL'!$I$71:$X$71,P32)>=1,\"\",ROW())","v":32},null,null,{"$f":"IF(COUNTIF('PLANNING PRINCIPAL'!$I$74:$X$74,S32)>=1,\"\",ROW())","v":32},null,null,{"$f":"IF(COUNTIF('PLANNING PRINCIPAL'!$I$77:$X$77,V32)>=1,\"\",ROW())","v":32}]
[null,{"$f":"IF(COUNTIF('PLANNING PRINCIPAL'!$I$56:$X$56,A33)>=1,\"\",ROW())","v":33},null,null,{"$f":"IF(COUNTIF('PLANNING PRINCIPAL'!$I$59:$X$59,D33)>=1,\"\",ROW())","v":33},null,null,{"$f":"IF(COUNTIF('PLANNING PRINCIPAL'!$I$62:$X$62,G33)>=1,\"\",ROW())","v":33},null,null,{"$f":"IF(COUNTIF('PLANNING PRINCIPAL'!$I$65:$X$65,J33)>=1,\"\",ROW())","v":33},null,null,{"$f":"IF(COUNTIF('PLANNING PRINCIPAL'!$I$68:$X$68,M33)>=1,\"\",ROW())","v":33},null,null,{"$f":"IF(COUNTIF('PLANNING PRINCIPAL'!$I$71:$X$71,P33)>=1,\"\",ROW())","v":33},null,null,{"$f":"IF(COUNTIF('PLANNING PRINCIPAL'!$I$74:$X$74,S33)>=1,\"\",ROW())","v":33},null,null,{"$f":"IF(COUNTIF('PLANNING PRINCIPAL'!$I$77:$X$77,V33)>=1,\"\",ROW())","v":33}]
[null,{"$f":"IF(COUNTIF('PLANNING PRINCIPAL'!$I$56:$X$56,A34)>=1,\"\",ROW())","v":34},null,null,{"$f":"IF(COUNTIF('PLANNING PRINCIPAL'!$I$59:$X$59,D34)>=1,\"\",ROW())","v":34},null,null,{"$f":"IF(COUNTIF('PLANNING PRINCIPAL'!$I$62:$X$62,G34)>=1,\"\",ROW())","v":34},null,null,{"$f":"IF(COUNTIF('PLANNING PRINCIPAL'!$I$65:$X$65,J34)>=1,\"\",ROW())","v":34},null,null,{"$f":"IF(COUNTIF('PLANNING PRINCIPAL'!$I$68:$X$68,M34)>=1,\"\",ROW())","v":34},null,null,{"$f":"IF(COUNTIF('PLANNING PRINCIPAL'!$I$71:$X$71,P34)>=1,\"\",ROW())","v":34},null,null,{"$f":"IF(COUNTIF('PLANNING PRINCIPAL'!$I$74:$X$74,S34)>=1,\"\",ROW())","v":34},null,null,{"$f":"IF(COUNTIF('PLANNING PRINCIPAL'!$I$77:$X$77,V34)>=1,\"\",ROW())","v":34}]
["LUNDI",null,null,"MARDI",null,null,"MERCREDI",null,null,"JEUDI",null,null,"VENDREDI",null,null,"SAMEDI",null,null,"DIMANCHE",null,null,"ASTREINTE"]

{"sheet":"DATA S4","index":5,"n_rows":35,"n_cols":24,"rows_kept":35,"cut":false,"hidden":false,"merged":[[34,18,34,20],[34,21,34,23],[34,0,34,2],[34,3,34,5],[34,6,34,8],[34,9,34,11],[34,12,34,14],[34,15,34,17]]}
[{"$f":"'DATA S1'!A1","v":"MAS XX "},{"$f":"IF(COUNTIF('PLANNING PRINCIPAL'!$I$79:$X$79,A1)>=1,\"\",ROW())","v":1},{"$f":"IF(ROW(A1)-ROW(A$1)+1>COUNT(B:B),\"\", INDEX(A:A,SMALL(B:B,1+ROW(A1)-ROW(A$1))))","v":"MAS XX "},{"$f":"A1","v":"MAS XX "},{"$f":"IF(COUNTIF('PLANNING PRINCIPAL'!$I$82:$X$82,D1)>=1,\"\",ROW())","v":1},{"$f":"IF(ROW(D1)-ROW(D$1)+1>COUNT(E:E),\"\", INDEX(D:D,SMALL(E:E,1+ROW(D1)-ROW(D$1))))","v":"MAS XX "},{"$f":"A1","v":"MAS XX "},{"$f":"IF(COUNTIF('PLANNING PRINCIPAL'!$I$85:$X$85,G1)>=1,\"\",ROW())","v":1},{"$f":"IF(ROW(G1)-ROW(G$1)+1>COUNT(H:H),\"\", INDEX(G:G,SMALL(H:H,1+ROW(G1)-ROW(G$1))))","v":"MAS XX "},{"$f":"A1","v":"MAS XX "},{"$f":"IF(COUNTIF('PLANNING PRINCIPAL'!$I$88:$X$88,J1)>=1,\"\",ROW())","v":1},{"$f":"IF(ROW(J1)-ROW(J$1)+1>COUNT(K:K),\"\", INDEX(J:J,SMALL(K:K,1+ROW(J1)-ROW(J$1))))","v":"MAS XX "},{"$f":"A1","v":"MAS XX "},{"$f":"IF(COUNTIF('PLANNING PRINCIPAL'!$I$91:$X$91,M1)>=1,\"\",ROW())","v":1},{"$f":"IF(ROW(M1)-ROW(M$1)+1>COUNT(N:N),\"\", INDEX(M:M,SMALL(N:N,1+ROW(M1)-ROW(M$1))))","v":"MAS XX "},{"$f":"A1","v":"MAS XX "},{"$f":"IF(COUNTIF('PLANNING PRINCIPAL'!$I$94:$X$94,P1)>=1,\"\",ROW())","v":1},{"$f":"IF(ROW(P1)-ROW(P$1)+1>COUNT(Q:Q),\"\", INDEX(P:P,SMALL(Q:Q,1+ROW(P1)-ROW(P$1))))","v":"MAS XX "},{"$f":"A1","v":"MAS XX "},{"$f":"IF(COUNTIF('PLANNING PRINCIPAL'!$I$97:$X$97,S1)>=1,\"\",ROW())","v":1},{"$f":"IF(ROW(S1)-ROW(S$1)+1>COUNT(T:T),\"\", INDEX(S:S,SMALL(T:T,1+ROW(S1)-ROW(S$1))))","v":"MAS XX "},{"$f":"'DATA S1'!V1","v":"ASTREINTE SLT"},{"$f":"IF(COUNTIF('PLANNING PRINCIPAL'!$I$99:$X$99,V1)>=1,\"\",ROW())","v":1},{"$f":"IF(ROW(V1)-ROW(V$1)+1>COUNT(W:W),\"\", INDEX(V:V,SMALL(W:W,1+ROW(V1)-ROW(V$1))))","v":"ASTREINTE SLT"}]
[{"$f":"'DATA S1'!A2","v":"MAS YY "},{"$f":"IF(COUNTIF('PLANNING PRINCIPAL'!$I$79:$X$79,A2)>=1,\"\",ROW())","v":2},{"$f":"IF(ROW(A2)-ROW(A$1)+1>COUNT(B:B),\"\", INDEX(A:A,SMALL(B:B,1+ROW(A2)-ROW(A$1))))","v":"MAS YY "},"MAS YY ",{"$f":"IF(COUNTIF('PLANNING PRINCIPAL'!$I$82:$X$82,D2)>=1,\"\",ROW())","v":2},{"$f":"IF(ROW(D2)-ROW(D$1)+1>COUNT(E:E),\"\", INDEX(D:D,SMALL(E:E,1+ROW(D2)-ROW(D$1))))","v":"MAS YY "},{"$f":"A2","v":"MAS YY "},{"$f":"IF(COUNTIF('PLANNING PRINCIPAL'!$I$85:$X$85,G2)>=1,\"\",ROW())","v":2},{"$f":"IF(ROW(G2)-ROW(G$1)+1>COUNT(H:H),\"\", INDEX(G:G,SMALL(H:H,1+ROW(G2)-ROW(G$1))))","v":"MAS YY "},{"$f":"A2","v":"MAS YY "},{"$f":"IF(COUNTIF('PLANNING PRINCIPAL'!$I$88:$X$88,J2)>=1,\"\",ROW())","v":2},{"$f":"IF(ROW(J2)-ROW(J$1)+1>COUNT(K:K),\"\", INDEX(J:J,SMALL(K:K,1+ROW(J2)-ROW(J$1))))","v":"MAS YY "},{"$f":"A2","v":"MAS YY "},{"$f":"IF(COUNTIF('PLANNING PRINCIPAL'!$I$91:$X$91,M2)>=1,\"\",ROW())","v":2},{"$f":"IF(ROW(M2)-ROW(M$1)+1>COUNT(N:N),\"\", INDEX(M:M,SMALL(N:N,1+ROW(M2)-ROW(M$1))))","v":"MAS YY "},{"$f":"A2","v":"MAS YY "},{"$f":"IF(COUNTIF('PLANNING PRINCIPAL'!$I$94:$X$94,P2)>=1,\"\",ROW())","v":2},{"$f":"IF(ROW(P2)-ROW(P$1)+1>COUNT(Q:Q),\"\", INDEX(P:P,SMALL(Q:Q,1+ROW(P2)-ROW(P$1))))","v":"MAS YY "},{"$f":"A2","v":"MAS YY "},{"$f":"IF(COUNTIF('PLANNING PRINCIPAL'!$I$97:$X$97,S2)>=1,\"\",ROW())","v":2},{"$f":"IF(ROW(S2)-ROW(S$1)+1>COUNT(T:T),\"\", INDEX(S:S,SMALL(T:T,1+ROW(S2)-ROW(S$1))))","v":"MAS YY "},{"$f":"'DATA S1'!V2","v":"ASTREINTE EP"},{"$f":"IF(COUNTIF('PLANNING PRINCIPAL'!$I$99:$X$99,V2)>=1,\"\",ROW())","v":2},{"$f":"IF(ROW(V2)-ROW(V$1)+1>COUNT(W:W),\"\", INDEX(V:V,SMALL(W:W,1+ROW(V2)-ROW(V$1))))","v":"ASTREINTE EP"}]
[{"$f":"'DATA S1'!A3","v":"MAS VQ "},{"$f":"IF(COUNTIF('PLANNING PRINCIPAL'!$I$79:$X$79,A3)>=1,\"\",ROW())","v":3},"MAS VQ ","MAS VQ ",{"$f":"IF(COUNTIF('PLANNING PRINCIPAL'!$I$82:$X$82,D3)>=1,\"\",ROW())","v":3},"MAS VQ ","MAS VQ ",{"$f":"IF(COUNTIF('PLANNING PRINCIPAL'!$I$85:$X$85,G3)>=1,\"\",ROW())","v":3},"MAS VQ ","MAS VQ ",{"$f":"IF(COUNTIF('PLANNING PRINCIPAL'!$I$88:$X$88,J3)>=1,\"\",ROW())","v":3},"MAS VQ ","MAS VQ ",{"$f":"IF(COUNTIF('PLANNING PRINCIPAL'!$I$91:$X$91,M3)>=1,\"\",ROW())","v":3},"MAS VQ ","MAS VQ ",{"$f":"IF(COUNTIF('PLANNING PRINCIPAL'!$I$94:$X$94,P3)>=1,\"\",ROW())","v":3},"MAS VQ ","MAS VQ ",{"$f":"IF(COUNTIF('PLANNING PRINCIPAL'!$I$97:$X$97,S3)>=1,\"\",ROW())","v":3},"MAS VQ ",{"$f":"'DATA S1'!V3","v":"V NOC CHARTRES"},{"$f":"IF(COUNTIF('PLANNING PRINCIPAL'!$I$99:$X$99,V3)>=1,\"\",ROW())","v":3},"V NOC CHARTRES"]
[{"$f":"'DATA S1'!A4","v":"MAS PL "},{"$f":"IF(COUNTIF('PLANNING PRINCIPAL'!$I$79:$X$79,A4)>=1,\"\",ROW())","v":4},"MAS PL ","MAS PL ",{"$f":"IF(COUNTIF('PLANNING PRINCIPAL'!$I$82:$X$82,D4)>=1,\"\",ROW())","v":4},"MAS PL ","MAS PL ",{"$f":"IF(COUNTIF('PLANNING PRINCIPAL'!$I$85:$X$85,G4)>=1,\"\",ROW())","v":4},"MAS PL ","MAS PL ",{"$f":"IF(COUNTIF('PLANNING PRINCIPAL'!$I$88:$X$88,J4)>=1,\"\",ROW())","v":4},"MAS PL ","MAS PL ",{"$f":"IF(COUNTIF('PLANNING PRINCIPAL'!$I$91:$X$91,M4)>=1,\"\",ROW())","v":4},"MAS PL ","MAS PL ",{"$f":"IF(COUNTIF('PLANNING PRINCIPAL'!$I$94:$X$94,P4)>=1,\"\",ROW())","v":4},"MAS PL ","MAS PL ",{"$f":"IF(COUNTIF('PLANNING PRINCIPAL'!$I$97:$X$97,S4)>=1,\"\",ROW())","v":4},"MAS PL ",{"$f":"'DATA S1'!V4","v":"V NOC EPERNON"},{"$f":"IF(COUNTIF('PLANNING PRINCIPAL'!$I$99:$X$99,V4)>=1,\"\",ROW())","v":4},"V NOC EPERNON"]
[{"$f":"'DATA S1'!A5","v":"BEN VL PT "},{"$f":"IF(COUNTIF('PLANNING PRINCIPAL'!$I$79:$X$79,A5)>=1,\"\",ROW())","v":5},"BEN VL PT ","BEN VL PT ",{"$f":"IF(COUNTIF('PLANNING PRINCIPAL'!$I$82:$X$82,D5)>=1,\"\",ROW())","v":5},"BEN VL PT ","BEN VL PT ",{"$f":"IF(COUNTIF('PLANNING PRINCIPAL'!$I$85:$X$85,G5)>=1,\"\",ROW())","v":5},"BEN VL PT ","BEN VL PT ",{"$f":"IF(COUNTIF('PLANNING PRINCIPAL'!$I$88:$X$88,J5)>=1,\"\",ROW())","v":5},"BEN VL PT ","BEN VL PT ",{"$f":"IF(COUNTIF('PLANNING PRINCIPAL'!$I$91:$X$91,M5)>=1,\"\",ROW())","v":5},"BEN VL PT ","BEN VL PT ",{"$f":"IF(COUNTIF('PLANNING PRINCIPAL'!$I$94:$X$94,P5)>=1,\"\",ROW())","v":5},"BEN VL PT ","BEN VL PT ",{"$f":"IF(COUNTIF('PLANNING PRINCIPAL'!$I$97:$X$97,S5)>=1,\"\",ROW())","v":5},"BEN VL PT ",{"$f":"'DATA S1'!V5","v":"V NOC HANCHES"},{"$f":"IF(COUNTIF('PLANNING PRINCIPAL'!$I$99:$X$99,V5)>=1,\"\",ROW())","v":5},"V NOC HANCHES"]
[{"$f":"'DATA S1'!A6","v":"BEN 19T "},{"$f":"IF(COUNTIF('PLANNING PRINCIPAL'!$I$79:$X$79,A6)>=1,\"\",ROW())","v":6},"BEN 19T ","BEN 19T ",{"$f":"IF(COUNTIF('PLANNING PRINCIPAL'!$I$82:$X$82,D6)>=1,\"\",ROW())","v":6},"BEN 19T ","BEN 19T ",{"$f":"IF(COUNTIF('PLANNING PRINCIPAL'!$I$85:$X$85,G6)>=1,\"\",ROW())","v":6},"BEN 19T ","BEN 19T ",{"$f":"IF(COUNTIF('PLANNING PRINCIPAL'!$I$88:$X$88,J6)>=1,\"\",ROW())","v":6},"BEN 19T ","BEN 19T ",{"$f":"IF(COUNTIF('PLANNING PRINCIPAL'!$I$91:$X$91,M6)>=1,\"\",ROW())","v":6},"BEN 19T ","BEN 19T ",{"$f":"IF(COUNTIF('PLANNING PRINCIPAL'!$I$94:$X$94,P6)>=1,\"\",ROW())","v":6},"BEN 19T ","BEN 19T ",{"$f":"IF(COUNTIF('PLANNING PRINCIPAL'!$I$97:$X$97,S6)>=1,\"\",ROW())","v":6},"BEN 19T ",{"$f":"'DATA S1'!V6","v":"V NOC MAINTENON"},{"$f":"IF(COUNTIF('PLANNING PRINCIPAL'!$I$99:$X$99,V6)>=1,\"\",ROW())","v":6},"V NOC MAINTENON"]
[{"$f":"'DATA S1'!A7","v":"BEN 13T "},{"$f":"IF(COUNTIF('PLANNING PRINCIPAL'!$I$79:$X$79,A7)>=1,\"\",ROW())","v":7},"BEN 13T ","BEN 13T ",{"$f":"IF(COUNTIF('PLANNING PRINCIPAL'!$I$82:$X$82,D7)>=1,\"\",ROW())","v":7},"BEN 13T ","BEN 13T ",{"$f":"IF(COUNTIF('PLANNING PRINCIPAL'!$I$85:$X$85,G7)>=1,\"\",ROW())","v":7},"BEN 13T ","BEN 13T ",{"$f":"IF(COUNTIF('PLANNING PRINCIPAL'!$I$88:$X$88,J7)>=1,\"\",ROW())","v":7},"BEN 13T ","BEN 13T ",{"$f":"IF(COUNTIF('PLANNING PRINCIPAL'!$I$91:$X$91,M7)>=1,\"\",ROW())","v":7},"BEN 13T ","BEN 13T ",{"$f":"IF(COUNTIF('PLANNING PRINCIPAL'!$I$94:$X$94,P7)>=1,\"\",ROW())","v":7},"BEN 13T ","BEN 13T ",{"$f":"IF(COUNTIF('PLANNING PRINCIPAL'!$I$97:$X$97,S7)>=1,\"\",ROW())","v":7},"BEN 13T ",null,{"$f":"IF(COUNTIF('PLANNING PRINCIPAL'!$I$99:$X$99,V7)>=1,\"\",ROW())","v":7}]
[{"$f":"'DATA S1'!A8","v":"NAC VL 18M "},{"$f":"IF(COUNTIF('PLANNING PRINCIPAL'!$I$79:$X$79,A8)>=1,\"\",ROW())","v":8},"NAC VL 18M ","NAC VL 18M ",{"$f":"IF(COUNTIF('PLANNING PRINCIPAL'!$I$82:$X$82,D8)>=1,\"\",ROW())","v":8},"NAC VL 18M ","NAC VL 18M ",{"$f":"IF(COUNTIF('PLANNING PRINCIPAL'!$I$85:$X$85,G8)>=1,\"\",ROW())","v":8},"NAC VL 18M ","NAC VL 18M ",{"$f":"IF(COUNTIF('PLANNING PRINCIPAL'!$I$88:$X$88,J8)>=1,\"\",ROW())","v":8},"NAC VL 18M ","NAC VL 18M ",{"$f":"IF(COUNTIF('PLANNING PRINCIPAL'!$I$91:$X$91,M8)>=1,\"\",ROW())","v":8},"NAC VL 18M ","NAC VL 18M ",{"$f":"IF(COUNTIF('PLANNING PRINCIPAL'!$I$94:$X$94,P8)>=1,\"\",ROW())","v":8},"NAC VL 18M ","NAC VL 18M ",{"$f":"IF(COUNTIF('PLANNING PRINCIPAL'!$I$97:$X$97,S8)>=1,\"\",ROW())","v":8},"NAC VL 18M ",null,{"$f":"IF(COUNTIF('PLANNING PRINCIPAL'!$I$99:$X$99,V8)>=1,\"\",ROW())","v":8}]
[{"$f":"'DATA S1'!A9","v":"NAC EGIE"},{"$f":"IF(COUNTIF('PLANNING PRINCIPAL'!$I$79:$X$79,A9)>=1,\"\",ROW())","v":9},"NAC EGIE","NAC EGIE",{"$f":"IF(COUNTIF('PLANNING PRINCIPAL'!$I$82:$X$82,D9)>=1,\"\",ROW())","v":9},"NAC EGIE","NAC EGIE",{"$f":"IF(COUNTIF('PLANNING PRINCIPAL'!$I$85:$X$85,G9)>=1,\"\",ROW())","v":9},"NAC EGIE","NAC EGIE",{"$f":"IF(COUNTIF('PLANNING PRINCIPAL'!$I$88:$X$88,J9)>=1,\"\",ROW())","v":9},"NAC EGIE","NAC EGIE",{"$f":"IF(COUNTIF('PLANNING PRINCIPAL'!$I$91:$X$91,M9)>=1,\"\",ROW())","v":9},"NAC EGIE","NAC EGIE",{"$f":"IF(COUNTIF('PLANNING PRINCIPAL'!$I$94:$X$94,P9)>=1,\"\",ROW())","v":9},"NAC EGIE","NAC EGIE",{"$f":"IF(COUNTIF('PLANNING PRINCIPAL'!$I$97:$X$97,S9)>=1,\"\",ROW())","v":9},"NAC EGIE",null,{"$f":"IF(COUNTIF('PLANNING PRINCIPAL'!$I$99:$X$99,V9)>=1,\"\",ROW())","v":9}]
[{"$f":"'DATA S1'!A10","v":"NAC COMI "},{"$f":"IF(COUNTIF('PLANNING PRINCIPAL'!$I$79:$X$79,A10)>=1,\"\",ROW())","v":10},"NAC COMI ","NAC COMI ",{"$f":"IF(COUNTIF('PLANNING PRINCIPAL'!$I$82:$X$82,D10)>=1,\"\",ROW())","v":10},"NAC COMI ","NAC COMI ",{"$f":"IF(COUNTIF('PLANNING PRINCIPAL'!$I$85:$X$85,G10)>=1,\"\",ROW())","v":10},"NAC COMI ","NAC COMI ",{"$f":"IF(COUNTIF('PLANNING PRINCIPAL'!$I$88:$X$88,J10)>=1,\"\",ROW())","v":10},"NAC COMI ","NAC COMI ",{"$f":"IF(COUNTIF('PLANNING PRINCIPAL'!$I$91:$X$91,M10)>=1,\"\",ROW())","v":10},"NAC COMI ","NAC COMI ",{"$f":"IF(COUNTIF('PLANNING PRINCIPAL'!$I$94:$X$94,P10)>=1,\"\",ROW())","v":10},"NAC COMI ","NAC COMI ",{"$f":"IF(COUNTIF('PLANNING PRINCIPAL'!$I$97:$X$97,S10)>=1,\"\",ROW())","v":10},"NAC COMI ",null,{"$f":"IF(COUNTIF('PLANNING PRINCIPAL'!$I$99:$X$99,V10)>=1,\"\",ROW())","v":10}]
[{"$f":"'DATA S1'!A11","v":"#####LOCATION#####"},{"$f":"IF(COUNTIF('PLANNING PRINCIPAL'!$I$79:$X$79,A11)>=1,\"\",ROW())","v":11},"#####LOCATION#####","#####LOCATION#####",{"$f":"IF(COUNTIF('PLANNING PRINCIPAL'!$I$82:$X$82,D11)>=1,\"\",ROW())","v":11},"#####LOCATION#####","#####LOCATION#####",{"$f":"IF(COUNTIF('PLANNING PRINCIPAL'!$I$85:$X$85,G11)>=1,\"\",ROW())","v":11},"#####LOCATION#####","#####LOCATION#####",{"$f":"IF(COUNTIF('PLANNING PRINCIPAL'!$I$88:$X$88,J11)>=1,\"\",ROW())","v":11},"#####LOCATION#####","#####LOCATION#####",{"$f":"IF(COUNTIF('PLANNING PRINCIPAL'!$I$91:$X$91,M11)>=1,\"\",ROW())","v":11},"#####LOCATION#####","#####LOCATION#####",{"$f":"IF(COUNTIF('PLANNING PRINCIPAL'!$I$94:$X$94,P11)>=1,\"\",ROW())","v":11},"#####LOCATION#####","#####LOCATION#####",{"$f":"IF(COUNTIF('PLANNING PRINCIPAL'!$I$97:$X$97,S11)>=1,\"\",ROW())","v":11},"#####LOCATION#####",null,{"$f":"IF(COUNTIF('PLANNING PRINCIPAL'!$I$99:$X$99,V11)>=1,\"\",ROW())","v":11}]
[{"$f":"'DATA S1'!A12","v":"LOC NAC SOLOMAT"},{"$f":"IF(COUNTIF('PLANNING PRINCIPAL'!$I$79:$X$79,A12)>=1,\"\",ROW())","v":12},"LOC NAC SOLOMAT","LOC NAC SOLOMAT",{"$f":"IF(COUNTIF('PLANNING PRINCIPAL'!$I$82:$X$82,D12)>=1,\"\",ROW())","v":12},"LOC NAC SOLOMAT","LOC NAC SOLOMAT",{"$f":"IF(COUNTIF('PLANNING PRINCIPAL'!$I$85:$X$85,G12)>=1,\"\",ROW())","v":12},"LOC NAC SOLOMAT","LOC NAC SOLOMAT",{"$f":"IF(COUNTIF('PLANNING PRINCIPAL'!$I$88:$X$88,J12)>=1,\"\",ROW())","v":12},"LOC NAC SOLOMAT","LOC NAC SOLOMAT",{"$f":"IF(COUNTIF('PLANNING PRINCIPAL'!$I$91:$X$91,M12)>=1,\"\",ROW())","v":12},"LOC NAC SOLOMAT","LOC NAC SOLOMAT",{"$f":"IF(COUNTIF('PLANNING PRINCIPAL'!$I$94:$X$94,P12)>=1,\"\",ROW())","v":12},"LOC NAC SOLOMAT","LOC NAC SOLOMAT",{"$f":"IF(COUNTIF('PLANNING PRINCIPAL'!$I$97:$X$97,S12)>=1,\"\",ROW())","v":12},"LOC NAC SOLOMAT",null,{"$f":"IF(COUNTIF('PLANNING PRINCIPAL'!$I$99:$X$99,V12)>=1,\"\",ROW())","v":12}]
[{"$f":"'DATA S1'!A13","v":"LOC NAC AEB"},{"$f":"IF(COUNTIF('PLANNING PRINCIPAL'!$I$79:$X$79,A13)>=1,\"\",ROW())","v":13},"LOC NAC AEB","LOC NAC AEB",{"$f":"IF(COUNTIF('PLANNING PRINCIPAL'!$I$82:$X$82,D13)>=1,\"\",ROW())","v":13},"LOC NAC AEB","LOC NAC AEB",{"$f":"IF(COUNTIF('PLANNING PRINCIPAL'!$I$85:$X$85,G13)>=1,\"\",ROW())","v":13},"LOC NAC AEB","LOC NAC AEB",{"$f":"IF(COUNTIF('PLANNING PRINCIPAL'!$I$88:$X$88,J13)>=1,\"\",ROW())","v":13},"LOC NAC AEB","LOC NAC AEB",{"$f":"IF(COUNTIF('PLANNING PRINCIPAL'!$I$91:$X$91,M13)>=1,\"\",ROW())","v":13},"LOC NAC AEB","LOC NAC AEB",{"$f":"IF(COUNTIF('PLANNING PRINCIPAL'!$I$94:$X$94,P13)>=1,\"\",ROW())","v":13},"LOC NAC AEB","LOC NAC AEB",{"$f":"IF(COUNTIF('PLANNING PRINCIPAL'!$I$97:$X$97,S13)>=1,\"\",ROW())","v":13},"LOC NAC AEB",null,{"$f":"IF(COUNTIF('PLANNING PRINCIPAL'!$I$99:$X$99,V13)>=1,\"\",ROW())","v":13}]
[{"$f":"'DATA S1'!A14","v":"LOC NAC INTERLOC"},{"$f":"IF(COUNTIF('PLANNING PRINCIPAL'!$I$79:$X$79,A14)>=1,\"\",ROW())","v":14},"LOC NAC INTERLOC","LOC NAC INTERLOC",{"$f":"IF(COUNTIF('PLANNING PRINCIPAL'!$I$82:$X$82,D14)>=1,\"\",ROW())","v":14},"LOC NAC INTERLOC","LOC NAC INTERLOC",{"$f":"IF(COUNTIF('PLANNING PRINCIPAL'!$I$85:$X$85,G14)>=1,\"\",ROW())","v":14},"LOC NAC INTERLOC","LOC NAC INTERLOC",{"$f":"IF(COUNTIF('PLANNING PRINCIPAL'!$I$88:$X$88,J14)>=1,\"\",ROW())","v":14},"LOC NAC INTERLOC","LOC NAC INTERLOC",{"$f":"IF(COUNTIF('PLANNING PRINCIPAL'!$I$91:$X$91,M14)>=1,\"\",ROW())","v":14},"LOC NAC INTERLOC","LOC NAC INTERLOC",{"$f":"IF(COUNTIF('PLANNING PRINCIPAL'!$I$94:$X$94,P14)>=1,\"\",ROW())","v":14},"LOC NAC INTERLOC","LOC NAC INTERLOC",{"$f":"IF(COUNTIF('PLANNING PRINCIPAL'!$I$97:$X$97,S14)>=1,\"\",ROW())","v":14},"LOC NAC INTERLOC",null,{"$f":"IF(COUNTIF('PLANNING PRINCIPAL'!$I$99:$X$99,V14)>=1,\"\",ROW())","v":14}]
[{"$f":"'DATA S1'!A15","v":"LOC NAC KILOUTOU"},{"$f":"IF(COUNTIF('PLANNING PRINCIPAL'!$I$79:$X$79,A15)>=1,\"\",ROW())","v":15},"LOC NAC KILOUTOU","LOC NAC KILOUTOU",{"$f":"IF(COUNTIF('PLANNING PRINCIPAL'!$I$82:$X$82,D15)>=1,\"\",ROW())","v":15},"LOC NAC KILOUTOU","LOC NAC KILOUTOU",{"$f":"IF(COUNTIF('PLANNING PRINCIPAL'!$I$85:$X$85,G15)>=1,\"\",ROW())","v":15},"LOC NAC KILOUTOU","LOC NAC KILOUTOU",{"$f":"IF(COUNTIF('PLANNING PRINCIPAL'!$I$88:$X$88,J15)>=1,\"\",ROW())","v":15},"LOC NAC KILOUTOU","LOC NAC KILOUTOU",{"$f":"IF(COUNTIF('PLANNING PRINCIPAL'!$I$91:$X$91,M15)>=1,\"\",ROW())","v":15},"LOC NAC KILOUTOU","LOC NAC KILOUTOU",{"$f":"IF(COUNTIF('PLANNING PRINCIPAL'!$I$94:$X$94,P15)>=1,\"\",ROW())","v":15},"LOC NAC KILOUTOU","LOC NAC KILOUTOU",{"$f":"IF(COUNTIF('PLANNING PRINCIPAL'!$I$97:$X$97,S15)>=1,\"\",ROW())","v":15},"LOC NAC KILOUTOU",null,{"$f":"IF(COUNTIF('PLANNING PRINCIPAL'!$I$99:$X$99,V15)>=1,\"\",ROW())","v":15}]
[{"$f":"'DATA S1'!A16","v":"LOC NAC AEB"},{"$f":"IF(COUNTIF('PLANNING PRINCIPAL'!$I$79:$X$79,A16)>=1,\"\",ROW())","v":16},"LOC NAC AEB","LOC NAC AEB",{"$f":"IF(COUNTIF('PLANNING PRINCIPAL'!$I$82:$X$82,D16)>=1,\"\",ROW())","v":16},"LOC NAC AEB","LOC NAC AEB",{"$f":"IF(COUNTIF('PLANNING PRINCIPAL'!$I$85:$X$85,G16)>=1,\"\",ROW())","v":16},"LOC NAC AEB","LOC NAC AEB",{"$f":"IF(COUNTIF('PLANNING PRINCIPAL'!$I$88:$X$88,J16)>=1,\"\",ROW())","v":16},"LOC NAC AEB","LOC NAC AEB",{"$f":"IF(COUNTIF('PLANNING PRINCIPAL'!$I$91:$X$91,M16)>=1,\"\",ROW())","v":16},"LOC NAC AEB","LOC NAC AEB",{"$f":"IF(COUNTIF('PLANNING PRINCIPAL'!$I$94:$X$94,P16)>=1,\"\",ROW())","v":16},"LOC NAC AEB","LOC NAC AEB",{"$f":"IF(COUNTIF('PLANNING PRINCIPAL'!$I$97:$X$97,S16)>=1,\"\",ROW())","v":16},"LOC NAC AEB",null,{"$f":"IF(COUNTIF('PLANNING PRINCIPAL'!$I$99:$X$99,V16)>=1,\"\",ROW())","v":16}]
[{"$f":"'DATA S1'!A17","v":"LOC PELLE SOLOMAT"},{"$f":"IF(COUNTIF('PLANNING PRINCIPAL'!$I$79:$X$79,A17)>=1,\"\",ROW())","v":17},"LOC PELLE SOLOMAT","LOC PELLE SOLOMAT",{"$f":"IF(COUNTIF('PLANNING PRINCIPAL'!$I$82:$X$82,D17)>=1,\"\",ROW())","v":17},"LOC PELLE SOLOMAT","LOC PELLE SOLOMAT",{"$f":"IF(COUNTIF('PLANNING PRINCIPAL'!$I$85:$X$85,G17)>=1,\"\",ROW())","v":17},"LOC PELLE SOLOMAT","LOC PELLE SOLOMAT",{"$f":"IF(COUNTIF('PLANNING PRINCIPAL'!$I$88:$X$88,J17)>=1,\"\",ROW())","v":17},"LOC PELLE SOLOMAT","LOC PELLE SOLOMAT",{"$f":"IF(COUNTIF('PLANNING PRINCIPAL'!$I$91:$X$91,M17)>=1,\"\",ROW())","v":17},"LOC PELLE SOLOMAT","LOC PELLE SOLOMAT",{"$f":"IF(COUNTIF('PLANNING PRINCIPAL'!$I$94:$X$94,P17)>=1,\"\",ROW())","v":17},"LOC PELLE SOLOMAT","LOC PELLE SOLOMAT",{"$f":"IF(COUNTIF('PLANNING PRINCIPAL'!$I$97:$X$97,S17)>=1,\"\",ROW())","v":17},"LOC PELLE SOLOMAT",null,{"$f":"IF(COUNTIF('PLANNING PRINCIPAL'!$I$99:$X$99,V17)>=1,\"\",ROW())","v":17}]
[{"$f":"'DATA S1'!A18","v":"LOC PELLE AEB"},{"$f":"IF(COUNTIF('PLANNING PRINCIPAL'!$I$79:$X$79,A18)>=1,\"\",ROW())","v":18},"LOC PELLE AEB","LOC PELLE AEB",{"$f":"IF(COUNTIF('PLANNING PRINCIPAL'!$I$82:$X$82,D18)>=1,\"\",ROW())","v":18},"LOC PELLE AEB","LOC PELLE AEB",{"$f":"IF(COUNTIF('PLANNING PRINCIPAL'!$I$85:$X$85,G18)>=1,\"\",ROW())","v":18},"LOC PELLE AEB","LOC PELLE AEB",{"$f":"IF(COUNTIF('PLANNING PRINCIPAL'!$I$88:$X$88,J18)>=1,\"\",ROW())","v":18},"LOC PELLE AEB","LOC PELLE AEB",{"$f":"IF(COUNTIF('PLANNING PRINCIPAL'!$I$91:$X$91,M18)>=1,\"\",ROW())","v":18},"LOC PELLE AEB","LOC PELLE AEB",{"$f":"IF(COUNTIF('PLANNING PRINCIPAL'!$I$94:$X$94,P18)>=1,\"\",ROW())","v":18},"LOC PELLE AEB","LOC PELLE AEB",{"$f":"IF(COUNTIF('PLANNING PRINCIPAL'!$I$97:$X$97,S18)>=1,\"\",ROW())","v":18},"LOC PELLE AEB",null,{"$f":"IF(COUNTIF('PLANNING PRINCIPAL'!$I$99:$X$99,V18)>=1,\"\",ROW())","v":18}]
[{"$f":"'DATA S1'!A19","v":"LOC PELLE INTERLOC"},{"$f":"IF(COUNTIF('PLANNING PRINCIPAL'!$I$79:$X$79,A19)>=1,\"\",ROW())","v":19},"LOC PELLE INTERLOC","LOC PELLE INTERLOC",{"$f":"IF(COUNTIF('PLANNING PRINCIPAL'!$I$82:$X$82,D19)>=1,\"\",ROW())","v":19},"LOC PELLE INTERLOC","LOC PELLE INTERLOC",{"$f":"IF(COUNTIF('PLANNING PRINCIPAL'!$I$85:$X$85,G19)>=1,\"\",ROW())","v":19},"LOC PELLE INTERLOC","LOC PELLE INTERLOC",{"$f":"IF(COUNTIF('PLANNING PRINCIPAL'!$I$88:$X$88,J19)>=1,\"\",ROW())","v":19},"LOC PELLE INTERLOC","LOC PELLE INTERLOC",{"$f":"IF(COUNTIF('PLANNING PRINCIPAL'!$I$91:$X$91,M19)>=1,\"\",ROW())","v":19},"LOC PELLE INTERLOC","LOC PELLE INTERLOC",{"$f":"IF(COUNTIF('PLANNING PRINCIPAL'!$I$94:$X$94,P19)>=1,\"\",ROW())","v":19},"LOC PELLE INTERLOC","LOC PELLE INTERLOC",{"$f":"IF(COUNTIF('PLANNING PRINCIPAL'!$I$97:$X$97,S19)>=1,\"\",ROW())","v":19},"LOC PELLE INTERLOC",null,{"$f":"IF(COUNTIF('PLANNING PRINCIPAL'!$I$99:$X$99,V19)>=1,\"\",ROW())","v":19}]
[{"$f":"'DATA S1'!A20","v":"LOC PELLE KILOUTOU"},{"$f":"IF(COUNTIF('PLANNING PRINCIPAL'!$I$79:$X$79,A20)>=1,\"\",ROW())","v":20},"LOC PELLE KILOUTOU","LOC PELLE KILOUTOU",{"$f":"IF(COUNTIF('PLANNING PRINCIPAL'!$I$82:$X$82,D20)>=1,\"\",ROW())","v":20},"LOC PELLE KILOUTOU","LOC PELLE KILOUTOU",{"$f":"IF(COUNTIF('PLANNING PRINCIPAL'!$I$85:$X$85,G20)>=1,\"\",ROW())","v":20},"LOC PELLE KILOUTOU","LOC PELLE KILOUTOU",{"$f":"IF(COUNTIF('PLANNING PRINCIPAL'!$I$88:$X$88,J20)>=1,\"\",ROW())","v":20},"LOC PELLE KILOUTOU","LOC PELLE KILOUTOU",{"$f":"IF(COUNTIF('PLANNING PRINCIPAL'!$I$91:$X$91,M20)>=1,\"\",ROW())","v":20},"LOC PELLE KILOUTOU","LOC PELLE KILOUTOU",{"$f":"IF(COUNTIF('PLANNING PRINCIPAL'!$I$94:$X$94,P20)>=1,\"\",ROW())","v":20},"LOC PELLE KILOUTOU","LOC PELLE KILOUTOU",{"$f":"IF(COUNTIF('PLANNING PRINCIPAL'!$I$97:$X$97,S20)>=1,\"\",ROW())","v":20},"LOC PELLE KILOUTOU",null,{"$f":"IF(COUNTIF('PLANNING PRINCIPAL'!$I$99:$X$99,V20)>=1,\"\",ROW())","v":20}]
[null,{"$f":"IF(COUNTIF('PLANNING PRINCIPAL'!$I$79:$X$79,A21)>=1,\"\",ROW())","v":21},null,null,{"$f":"IF(COUNTIF('PLANNING PRINCIPAL'!$I$82:$X$82,D21)>=1,\"\",ROW())","v":21},null,null,{"$f":"IF(COUNTIF('PLANNING PRINCIPAL'!$I$85:$X$85,G21)>=1,\"\",ROW())","v":21},null,null,{"$f":"IF(COUNTIF('PLANNING PRINCIPAL'!$I$88:$X$88,J21)>=1,\"\",ROW())","v":21},null,null,{"$f":"IF(COUNTIF('PLANNING PRINCIPAL'!$I$91:$X$91,M21)>=1,\"\",ROW())","v":21},null,null,{"$f":"IF(COUNTIF('PLANNING PRINCIPAL'!$I$94:$X$94,P21)>=1,\"\",ROW())","v":21},null,null,{"$f":"IF(COUNTIF('PLANNING PRINCIPAL'!$I$97:$X$97,S21)>=1,\"\",ROW())","v":21},null,null,{"$f":"IF(COUNTIF('PLANNING PRINCIPAL'!$I$99:$X$99,V21)>=1,\"\",ROW())","v":21}]
[null,{"$f":"IF(COUNTIF('PLANNING PRINCIPAL'!$I$79:$X$79,A22)>=1,\"\",ROW())","v":22},null,null,{"$f":"IF(COUNTIF('PLANNING PRINCIPAL'!$I$82:$X$82,D22)>=1,\"\",ROW())","v":22},null,null,{"$f":"IF(COUNTIF('PLANNING PRINCIPAL'!$I$85:$X$85,G22)>=1,\"\",ROW())","v":22},null,null,{"$f":"IF(COUNTIF('PLANNING PRINCIPAL'!$I$88:$X$88,J22)>=1,\"\",ROW())","v":22},null,null,{"$f":"IF(COUNTIF('PLANNING PRINCIPAL'!$I$91:$X$91,M22)>=1,\"\",ROW())","v":22},null,null,{"$f":"IF(COUNTIF('PLANNING PRINCIPAL'!$I$94:$X$94,P22)>=1,\"\",ROW())","v":22},null,null,{"$f":"IF(COUNTIF('PLANNING PRINCIPAL'!$I$97:$X$97,S22)>=1,\"\",ROW())","v":22},null,null,{"$f":"IF(COUNTIF('PLANNING PRINCIPAL'!$I$99:$X$99,V22)>=1,\"\",ROW())","v":22}]
[null,{"$f":"IF(COUNTIF('PLANNING PRINCIPAL'!$I$79:$X$79,A23)>=1,\"\",ROW())","v":23},null,null,{"$f":"IF(COUNTIF('PLANNING PRINCIPAL'!$I$82:$X$82,D23)>=1,\"\",ROW())","v":23},null,null,{"$f":"IF(COUNTIF('PLANNING PRINCIPAL'!$I$85:$X$85,G23)>=1,\"\",ROW())","v":23},null,null,{"$f":"IF(COUNTIF('PLANNING PRINCIPAL'!$I$88:$X$88,J23)>=1,\"\",ROW())","v":23},null,null,{"$f":"IF(COUNTIF('PLANNING PRINCIPAL'!$I$91:$X$91,M23)>=1,\"\",ROW())","v":23},null,null,{"$f":"IF(COUNTIF('PLANNING PRINCIPAL'!$I$94:$X$94,P23)>=1,\"\",ROW())","v":23},null,null,{"$f":"IF(COUNTIF('PLANNING PRINCIPAL'!$I$97:$X$97,S23)>=1,\"\",ROW())","v":23},null,null,{"$f":"IF(COUNTIF('PLANNING PRINCIPAL'!$I$99:$X$99,V23)>=1,\"\",ROW())","v":23}]
[null,{"$f":"IF(COUNTIF('PLANNING PRINCIPAL'!$I$79:$X$79,A24)>=1,\"\",ROW())","v":24},null,null,{"$f":"IF(COUNTIF('PLANNING PRINCIPAL'!$I$82:$X$82,D24)>=1,\"\",ROW())","v":24},null,null,{"$f":"IF(COUNTIF('PLANNING PRINCIPAL'!$I$85:$X$85,G24)>=1,\"\",ROW())","v":24},null,null,{"$f":"IF(COUNTIF('PLANNING PRINCIPAL'!$I$88:$X$88,J24)>=1,\"\",ROW())","v":24},null,null,{"$f":"IF(COUNTIF('PLANNING PRINCIPAL'!$I$91:$X$91,M24)>=1,\"\",ROW())","v":24},null,null,{"$f":"IF(COUNTIF('PLANNING PRINCIPAL'!$I$94:$X$94,P24)>=1,\"\",ROW())","v":24},null,null,{"$f":"IF(COUNTIF('PLANNING PRINCIPAL'!$I$97:$X$97,S24)>=1,\"\",ROW())","v":24},null,null,{"$f":"IF(COUNTIF('PLANNING PRINCIPAL'!$I$99:$X$99,V24)>=1,\"\",ROW())","v":24}]
[null,{"$f":"IF(COUNTIF('PLANNING PRINCIPAL'!$I$79:$X$79,A25)>=1,\"\",ROW())","v":25},null,null,{"$f":"IF(COUNTIF('PLANNING PRINCIPAL'!$I$82:$X$82,D25)>=1,\"\",ROW())","v":25},null,null,{"$f":"IF(COUNTIF('PLANNING PRINCIPAL'!$I$85:$X$85,G25)>=1,\"\",ROW())","v":25},null,null,{"$f":"IF(COUNTIF('PLANNING PRINCIPAL'!$I$88:$X$88,J25)>=1,\"\",ROW())","v":25},null,null,{"$f":"IF(COUNTIF('PLANNING PRINCIPAL'!$I$91:$X$91,M25)>=1,\"\",ROW())","v":25},null,null,{"$f":"IF(COUNTIF('PLANNING PRINCIPAL'!$I$94:$X$94,P25)>=1,\"\",ROW())","v":25},null,null,{"$f":"IF(COUNTIF('PLANNING PRINCIPAL'!$I$97:$X$97,S25)>=1,\"\",ROW())","v":25},null,null,{"$f":"IF(COUNTIF('PLANNING PRINCIPAL'!$I$99:$X$99,V25)>=1,\"\",ROW())","v":25}]
[null,{"$f":"IF(COUNTIF('PLANNING PRINCIPAL'!$I$79:$X$79,A26)>=1,\"\",ROW())","v":26},null,null,{"$f":"IF(COUNTIF('PLANNING PRINCIPAL'!$I$82:$X$82,D26)>=1,\"\",ROW())","v":26},null,null,{"$f":"IF(COUNTIF('PLANNING PRINCIPAL'!$I$85:$X$85,G26)>=1,\"\",ROW())","v":26},null,null,{"$f":"IF(COUNTIF('PLANNING PRINCIPAL'!$I$88:$X$88,J26)>=1,\"\",ROW())","v":26},null,null,{"$f":"IF(COUNTIF('PLANNING PRINCIPAL'!$I$91:$X$91,M26)>=1,\"\",ROW())","v":26},null,null,{"$f":"IF(COUNTIF('PLANNING PRINCIPAL'!$I$94:$X$94,P26)>=1,\"\",ROW())","v":26},null,null,{"$f":"IF(COUNTIF('PLANNING PRINCIPAL'!$I$97:$X$97,S26)>=1,\"\",ROW())","v":26},null,null,{"$f":"IF(COUNTIF('PLANNING PRINCIPAL'!$I$99:$X$99,V26)>=1,\"\",ROW())","v":26}]
[null,{"$f":"IF(COUNTIF('PLANNING PRINCIPAL'!$I$79:$X$79,A27)>=1,\"\",ROW())","v":27},null,null,{"$f":"IF(COUNTIF('PLANNING PRINCIPAL'!$I$82:$X$82,D27)>=1,\"\",ROW())","v":27},null,null,{"$f":"IF(COUNTIF('PLANNING PRINCIPAL'!$I$85:$X$85,G27)>=1,\"\",ROW())","v":27},null,null,{"$f":"IF(COUNTIF('PLANNING PRINCIPAL'!$I$88:$X$88,J27)>=1,\"\",ROW())","v":27},null,null,{"$f":"IF(COUNTIF('PLANNING PRINCIPAL'!$I$91:$X$91,M27)>=1,\"\",ROW())","v":27},null,null,{"$f":"IF(COUNTIF('PLANNING PRINCIPAL'!$I$94:$X$94,P27)>=1,\"\",ROW())","v":27},null,null,{"$f":"IF(COUNTIF('PLANNING PRINCIPAL'!$I$97:$X$97,S27)>=1,\"\",ROW())","v":27},null,null,{"$f":"IF(COUNTIF('PLANNING PRINCIPAL'!$I$99:$X$99,V27)>=1,\"\",ROW())","v":27}]
[null,{"$f":"IF(COUNTIF('PLANNING PRINCIPAL'!$I$79:$X$79,A28)>=1,\"\",ROW())","v":28},null,null,{"$f":"IF(COUNTIF('PLANNING PRINCIPAL'!$I$82:$X$82,D28)>=1,\"\",ROW())","v":28},null,null,{"$f":"IF(COUNTIF('PLANNING PRINCIPAL'!$I$85:$X$85,G28)>=1,\"\",ROW())","v":28},null,null,{"$f":"IF(COUNTIF('PLANNING PRINCIPAL'!$I$88:$X$88,J28)>=1,\"\",ROW())","v":28},null,null,{"$f":"IF(COUNTIF('PLANNING PRINCIPAL'!$I$91:$X$91,M28)>=1,\"\",ROW())","v":28},null,null,{"$f":"IF(COUNTIF('PLANNING PRINCIPAL'!$I$94:$X$94,P28)>=1,\"\",ROW())","v":28},null,null,{"$f":"IF(COUNTIF('PLANNING PRINCIPAL'!$I$97:$X$97,S28)>=1,\"\",ROW())","v":28},null,null,{"$f":"IF(COUNTIF('PLANNING PRINCIPAL'!$I$99:$X$99,V28)>=1,\"\",ROW())","v":28}]
[null,{"$f":"IF(COUNTIF('PLANNING PRINCIPAL'!$I$79:$X$79,A29)>=1,\"\",ROW())","v":29},null,null,{"$f":"IF(COUNTIF('PLANNING PRINCIPAL'!$I$82:$X$82,D29)>=1,\"\",ROW())","v":29},null,null,{"$f":"IF(COUNTIF('PLANNING PRINCIPAL'!$I$85:$X$85,G29)>=1,\"\",ROW())","v":29},null,null,{"$f":"IF(COUNTIF('PLANNING PRINCIPAL'!$I$88:$X$88,J29)>=1,\"\",ROW())","v":29},null,null,{"$f":"IF(COUNTIF('PLANNING PRINCIPAL'!$I$91:$X$91,M29)>=1,\"\",ROW())","v":29},null,null,{"$f":"IF(COUNTIF('PLANNING PRINCIPAL'!$I$94:$X$94,P29)>=1,\"\",ROW())","v":29},null,null,{"$f":"IF(COUNTIF('PLANNING PRINCIPAL'!$I$97:$X$97,S29)>=1,\"\",ROW())","v":29},null,null,{"$f":"IF(COUNTIF('PLANNING PRINCIPAL'!$I$99:$X$99,V29)>=1,\"\",ROW())","v":29}]
[null,{"$f":"IF(COUNTIF('PLANNING PRINCIPAL'!$I$79:$X$79,A30)>=1,\"\",ROW())","v":30},null,null,{"$f":"IF(COUNTIF('PLANNING PRINCIPAL'!$I$82:$X$82,D30)>=1,\"\",ROW())","v":30},null,null,{"$f":"IF(COUNTIF('PLANNING PRINCIPAL'!$I$85:$X$85,G30)>=1,\"\",ROW())","v":30},null,null,{"$f":"IF(COUNTIF('PLANNING PRINCIPAL'!$I$88:$X$88,J30)>=1,\"\",ROW())","v":30},null,null,{"$f":"IF(COUNTIF('PLANNING PRINCIPAL'!$I$91:$X$91,M30)>=1,\"\",ROW())","v":30},null,null,{"$f":"IF(COUNTIF('PLANNING PRINCIPAL'!$I$94:$X$94,P30)>=1,\"\",ROW())","v":30},null,null,{"$f":"IF(COUNTIF('PLANNING PRINCIPAL'!$I$97:$X$97,S30)>=1,\"\",ROW())","v":30},null,null,{"$f":"IF(COUNTIF('PLANNING PRINCIPAL'!$I$99:$X$99,V30)>=1,\"\",ROW())","v":30}]
[null,{"$f":"IF(COUNTIF('PLANNING PRINCIPAL'!$I$79:$X$79,A31)>=1,\"\",ROW())","v":31},null,null,{"$f":"IF(COUNTIF('PLANNING PRINCIPAL'!$I$82:$X$82,D31)>=1,\"\",ROW())","v":31},null,null,{"$f":"IF(COUNTIF('PLANNING PRINCIPAL'!$I$85:$X$85,G31)>=1,\"\",ROW())","v":31},null,null,{"$f":"IF(COUNTIF('PLANNING PRINCIPAL'!$I$88:$X$88,J31)>=1,\"\",ROW())","v":31},null,null,{"$f":"IF(COUNTIF('PLANNING PRINCIPAL'!$I$91:$X$91,M31)>=1,\"\",ROW())","v":31},null,null,{"$f":"IF(COUNTIF('PLANNING PRINCIPAL'!$I$94:$X$94,P31)>=1,\"\",ROW())","v":31},null,null,{"$f":"IF(COUNTIF('PLANNING PRINCIPAL'!$I$97:$X$97,S31)>=1,\"\",ROW())","v":31},null,null,{"$f":"IF(COUNTIF('PLANNING PRINCIPAL'!$I$99:$X$99,V31)>=1,\"\",ROW())","v":31}]
[null,{"$f":"IF(COUNTIF('PLANNING PRINCIPAL'!$I$79:$X$79,A32)>=1,\"\",ROW())","v":32},null,null,{"$f":"IF(COUNTIF('PLANNING PRINCIPAL'!$I$82:$X$82,D32)>=1,\"\",ROW())","v":32},null,null,{"$f":"IF(COUNTIF('PLANNING PRINCIPAL'!$I$85:$X$85,G32)>=1,\"\",ROW())","v":32},null,null,{"$f":"IF(COUNTIF('PLANNING PRINCIPAL'!$I$88:$X$88,J32)>=1,\"\",ROW())","v":32},null,null,{"$f":"IF(COUNTIF('PLANNING PRINCIPAL'!$I$91:$X$91,M32)>=1,\"\",ROW())","v":32},null,null,{"$f":"IF(COUNTIF('PLANNING PRINCIPAL'!$I$94:$X$94,P32)>=1,\"\",ROW())","v":32},null,null,{"$f":"IF(COUNTIF('PLANNING PRINCIPAL'!$I$97:$X$97,S32)>=1,\"\",ROW())","v":32},null,null,{"$f":"IF(COUNTIF('PLANNING PRINCIPAL'!$I$99:$X$99,V32)>=1,\"\",ROW())","v":32}]
[null,{"$f":"IF(COUNTIF('PLANNING PRINCIPAL'!$I$79:$X$79,A33)>=1,\"\",ROW())","v":33},null,null,{"$f":"IF(COUNTIF('PLANNING PRINCIPAL'!$I$82:$X$82,D33)>=1,\"\",ROW())","v":33},null,null,{"$f":"IF(COUNTIF('PLANNING PRINCIPAL'!$I$85:$X$85,G33)>=1,\"\",ROW())","v":33},null,null,{"$f":"IF(COUNTIF('PLANNING PRINCIPAL'!$I$88:$X$88,J33)>=1,\"\",ROW())","v":33},null,null,{"$f":"IF(COUNTIF('PLANNING PRINCIPAL'!$I$91:$X$91,M33)>=1,\"\",ROW())","v":33},null,null,{"$f":"IF(COUNTIF('PLANNING PRINCIPAL'!$I$94:$X$94,P33)>=1,\"\",ROW())","v":33},null,null,{"$f":"IF(COUNTIF('PLANNING PRINCIPAL'!$I$97:$X$97,S33)>=1,\"\",ROW())","v":33},null,null,{"$f":"IF(COUNTIF('PLANNING PRINCIPAL'!$I$99:$X$99,V33)>=1,\"\",ROW())","v":33}]
[null,{"$f":"IF(COUNTIF('PLANNING PRINCIPAL'!$I$79:$X$79,A34)>=1,\"\",ROW())","v":34},null,null,{"$f":"IF(COUNTIF('PLANNING PRINCIPAL'!$I$82:$X$82,D34)>=1,\"\",ROW())","v":34},null,null,{"$f":"IF(COUNTIF('PLANNING PRINCIPAL'!$I$86:$X$86,G34)>=1,\"\",ROW())","v":34},null,null,{"$f":"IF(COUNTIF('PLANNING PRINCIPAL'!$I$88:$X$88,J34)>=1,\"\",ROW())","v":34},null,null,{"$f":"IF(COUNTIF('PLANNING PRINCIPAL'!$I$91:$X$91,M34)>=1,\"\",ROW())","v":34},null,null,{"$f":"IF(COUNTIF('PLANNING PRINCIPAL'!$I$94:$X$94,P34)>=1,\"\",ROW())","v":34},null,null,{"$f":"IF(COUNTIF('PLANNING PRINCIPAL'!$I$97:$X$97,S34)>=1,\"\",ROW())","v":34},null,null,{"$f":"IF(COUNTIF('PLANNING PRINCIPAL'!$I$99:$X$99,V34)>=1,\"\",ROW())","v":34}]
["LUNDI",null,null,"MARDI",null,null,"MERCREDI",null,null,"JEUDI",null,null,"VENDREDI",null,null,"SAMEDI",null,null,"DIMANCHE",null,null,"ASTREINTE"]

{"sheet":"DATA S5","index":6,"n_rows":35,"n_cols":24,"rows_kept":35,"cut":false,"hidden":false,"merged":[[34,18,34,20],[34,21,34,23],[34,0,34,2],[34,3,34,5],[34,6,34,8],[34,9,34,11],[34,12,34,14],[34,15,34,17]]}
[{"$f":"'DATA S1'!A1","v":"MAS XX "},{"$f":"IF(COUNTIF('PLANNING PRINCIPAL'!$I$102:$X$102,A1)>=1,\"\",ROW())","v":1},{"$f":"IF(ROW(A1)-ROW(A$1)+1>COUNT(B:B),\"\", INDEX(A:A,SMALL(B:B,1+ROW(A1)-ROW(A$1))))","v":"MAS XX "},{"$f":"A1","v":"MAS XX "},{"$f":"IF(COUNTIF('PLANNING PRINCIPAL'!$I$105:$X$105,D1)>=1,\"\",ROW())","v":1},{"$f":"IF(ROW(D1)-ROW(D$1)+1>COUNT(E:E),\"\", INDEX(D:D,SMALL(E:E,1+ROW(D1)-ROW(D$1))))","v":"MAS XX "},{"$f":"A1","v":"MAS XX "},{"$f":"IF(COUNTIF('PLANNING PRINCIPAL'!$I$108:$X$108,G1)>=1,\"\",ROW())","v":1},{"$f":"IF(ROW(G1)-ROW(G$1)+1>COUNT(H:H),\"\", INDEX(G:G,SMALL(H:H,1+ROW(G1)-ROW(G$1))))","v":"MAS XX "},{"$f":"A1","v":"MAS XX "},{"$f":"IF(COUNTIF('PLANNING PRINCIPAL'!$I$111:$X$111,J1)>=1,\"\",ROW())","v":1},{"$f":"IF(ROW(J1)-ROW(J$1)+1>COUNT(K:K),\"\", INDEX(J:J,SMALL(K:K,1+ROW(J1)-ROW(J$1))))","v":"MAS XX "},{"$f":"A1","v":"MAS XX "},{"$f":"IF(COUNTIF('PLANNING PRINCIPAL'!$I$114:$X$114,M1)>=1,\"\",ROW())","v":1},{"$f":"IF(ROW(M1)-ROW(M$1)+1>COUNT(N:N),\"\", INDEX(M:M,SMALL(N:N,1+ROW(M1)-ROW(M$1))))","v":"MAS XX "},{"$f":"A1","v":"MAS XX "},{"$f":"IF(COUNTIF('PLANNING PRINCIPAL'!$I$117:$X$117,P1)>=1,\"\",ROW())","v":1},{"$f":"IF(ROW(P1)-ROW(P$1)+1>COUNT(Q:Q),\"\", INDEX(P:P,SMALL(Q:Q,1+ROW(P1)-ROW(P$1))))","v":"MAS XX "},{"$f":"A1","v":"MAS XX "},{"$f":"IF(COUNTIF('PLANNING PRINCIPAL'!$I$120:$X$120,S1)>=1,\"\",ROW())","v":1},{"$f":"IF(ROW(S1)-ROW(S$1)+1>COUNT(T:T),\"\", INDEX(S:S,SMALL(T:T,1+ROW(S1)-ROW(S$1))))","v":"MAS XX "},{"$f":"'DATA S1'!V1","v":"ASTREINTE SLT"},{"$f":"IF(COUNTIF('PLANNING PRINCIPAL'!$I$122:$X$122,V1)>=1,\"\",ROW())","v":1},{"$f":"IF(ROW(V1)-ROW(V$1)+1>COUNT(W:W),\"\", INDEX(V:V,SMALL(W:W,1+ROW(V1)-ROW(V$1))))","v":"ASTREINTE SLT"}]
[{"$f":"'DATA S1'!A2","v":"MAS YY "},{"$f":"IF(COUNTIF('PLANNING PRINCIPAL'!$I$102:$X$102,A2)>=1,\"\",ROW())","v":2},{"$f":"IF(ROW(A2)-ROW(A$1)+1>COUNT(B:B),\"\", INDEX(A:A,SMALL(B:B,1+ROW(A2)-ROW(A$1))))","v":"MAS YY "},"MAS YY ",{"$f":"IF(COUNTIF('PLANNING PRINCIPAL'!$I$105:$X$105,D2)>=1,\"\",ROW())","v":2},{"$f":"IF(ROW(D2)-ROW(D$1)+1>COUNT(E:E),\"\", INDEX(D:D,SMALL(E:E,1+ROW(D2)-ROW(D$1))))","v":"MAS YY "},{"$f":"A2","v":"MAS YY "},{"$f":"IF(COUNTIF('PLANNING PRINCIPAL'!$I$108:$X$108,G2)>=1,\"\",ROW())","v":2},{"$f":"IF(ROW(G2)-ROW(G$1)+1>COUNT(H:H),\"\", INDEX(G:G,SMALL(H:H,1+ROW(G2)-ROW(G$1))))","v":"MAS YY "},{"$f":"A2","v":"MAS YY "},{"$f":"IF(COUNTIF('PLANNING PRINCIPAL'!$I$111:$X$111,J2)>=1,\"\",ROW())","v":2},{"$f":"IF(ROW(J2)-ROW(J$1)+1>COUNT(K:K),\"\", INDEX(J:J,SMALL(K:K,1+ROW(J2)-ROW(J$1))))","v":"MAS YY "},{"$f":"A2","v":"MAS YY "},{"$f":"IF(COUNTIF('PLANNING PRINCIPAL'!$I$114:$X$114,M2)>=1,\"\",ROW())","v":2},{"$f":"IF(ROW(M2)-ROW(M$1)+1>COUNT(N:N),\"\", INDEX(M:M,SMALL(N:N,1+ROW(M2)-ROW(M$1))))","v":"MAS YY "},{"$f":"A2","v":"MAS YY "},{"$f":"IF(COUNTIF('PLANNING PRINCIPAL'!$I$117:$X$117,P2)>=1,\"\",ROW())","v":2},{"$f":"IF(ROW(P2)-ROW(P$1)+1>COUNT(Q:Q),\"\", INDEX(P:P,SMALL(Q:Q,1+ROW(P2)-ROW(P$1))))","v":"MAS YY "},{"$f":"A2","v":"MAS YY "},{"$f":"IF(COUNTIF('PLANNING PRINCIPAL'!$I$120:$X$120,S2)>=1,\"\",ROW())","v":2},{"$f":"IF(ROW(S2)-ROW(S$1)+1>COUNT(T:T),\"\", INDEX(S:S,SMALL(T:T,1+ROW(S2)-ROW(S$1))))","v":"MAS YY "},{"$f":"'DATA S1'!V2","v":"ASTREINTE EP"},{"$f":"IF(COUNTIF('PLANNING PRINCIPAL'!$I$122:$X$122,V2)>=1,\"\",ROW())","v":2},{"$f":"IF(ROW(V2)-ROW(V$1)+1>COUNT(W:W),\"\", INDEX(V:V,SMALL(W:W,1+ROW(V2)-ROW(V$1))))","v":"ASTREINTE EP"}]
[{"$f":"'DATA S1'!A3","v":"MAS VQ "},{"$f":"IF(COUNTIF('PLANNING PRINCIPAL'!$I$102:$X$102,A3)>=1,\"\",ROW())","v":3},"MAS VQ ","MAS VQ ",{"$f":"IF(COUNTIF('PLANNING PRINCIPAL'!$I$105:$X$105,D3)>=1,\"\",ROW())","v":3},"MAS VQ ","MAS VQ ",{"$f":"IF(COUNTIF('PLANNING PRINCIPAL'!$I$108:$X$108,G3)>=1,\"\",ROW())","v":3},"MAS VQ ","MAS VQ ",{"$f":"IF(COUNTIF('PLANNING PRINCIPAL'!$I$111:$X$111,J3)>=1,\"\",ROW())","v":3},"MAS VQ ","MAS VQ ",{"$f":"IF(COUNTIF('PLANNING PRINCIPAL'!$I$114:$X$114,M3)>=1,\"\",ROW())","v":3},"MAS VQ ","MAS VQ ",{"$f":"IF(COUNTIF('PLANNING PRINCIPAL'!$I$117:$X$117,P3)>=1,\"\",ROW())","v":3},"MAS VQ ","MAS VQ ",{"$f":"IF(COUNTIF('PLANNING PRINCIPAL'!$I$120:$X$120,S3)>=1,\"\",ROW())","v":3},"MAS VQ ",{"$f":"'DATA S1'!V3","v":"V NOC CHARTRES"},{"$f":"IF(COUNTIF('PLANNING PRINCIPAL'!$I$122:$X$122,V3)>=1,\"\",ROW())","v":3},"V NOC CHARTRES"]
[{"$f":"'DATA S1'!A4","v":"MAS PL "},{"$f":"IF(COUNTIF('PLANNING PRINCIPAL'!$I$102:$X$102,A4)>=1,\"\",ROW())","v":4},"MAS PL ","MAS PL ",{"$f":"IF(COUNTIF('PLANNING PRINCIPAL'!$I$105:$X$105,D4)>=1,\"\",ROW())","v":4},"MAS PL ","MAS PL ",{"$f":"IF(COUNTIF('PLANNING PRINCIPAL'!$I$108:$X$108,G4)>=1,\"\",ROW())","v":4},"MAS PL ","MAS PL ",{"$f":"IF(COUNTIF('PLANNING PRINCIPAL'!$I$111:$X$111,J4)>=1,\"\",ROW())","v":4},"MAS PL ","MAS PL ",{"$f":"IF(COUNTIF('PLANNING PRINCIPAL'!$I$114:$X$114,M4)>=1,\"\",ROW())","v":4},"MAS PL ","MAS PL ",{"$f":"IF(COUNTIF('PLANNING PRINCIPAL'!$I$117:$X$117,P4)>=1,\"\",ROW())","v":4},"MAS PL ","MAS PL ",{"$f":"IF(COUNTIF('PLANNING PRINCIPAL'!$I$120:$X$120,S4)>=1,\"\",ROW())","v":4},"MAS PL ",{"$f":"'DATA S1'!V4","v":"V NOC EPERNON"},{"$f":"IF(COUNTIF('PLANNING PRINCIPAL'!$I$122:$X$122,V4)>=1,\"\",ROW())","v":4},"V NOC EPERNON"]
[{"$f":"'DATA S1'!A5","v":"BEN VL PT "},{"$f":"IF(COUNTIF('PLANNING PRINCIPAL'!$I$102:$X$102,A5)>=1,\"\",ROW())","v":5},"BEN VL PT ","BEN VL PT ",{"$f":"IF(COUNTIF('PLANNING PRINCIPAL'!$I$105:$X$105,D5)>=1,\"\",ROW())","v":5},"BEN VL PT ","BEN VL PT ",{"$f":"IF(COUNTIF('PLANNING PRINCIPAL'!$I$108:$X$108,G5)>=1,\"\",ROW())","v":5},"BEN VL PT ","BEN VL PT ",{"$f":"IF(COUNTIF('PLANNING PRINCIPAL'!$I$111:$X$111,J5)>=1,\"\",ROW())","v":5},"BEN VL PT ","BEN VL PT ",{"$f":"IF(COUNTIF('PLANNING PRINCIPAL'!$I$114:$X$114,M5)>=1,\"\",ROW())","v":5},"BEN VL PT ","BEN VL PT ",{"$f":"IF(COUNTIF('PLANNING PRINCIPAL'!$I$117:$X$117,P5)>=1,\"\",ROW())","v":5},"BEN VL PT ","BEN VL PT ",{"$f":"IF(COUNTIF('PLANNING PRINCIPAL'!$I$120:$X$120,S5)>=1,\"\",ROW())","v":5},"BEN VL PT ",{"$f":"'DATA S1'!V5","v":"V NOC HANCHES"},{"$f":"IF(COUNTIF('PLANNING PRINCIPAL'!$I$122:$X$122,V5)>=1,\"\",ROW())","v":5},"V NOC HANCHES"]
[{"$f":"'DATA S1'!A6","v":"BEN 19T "},{"$f":"IF(COUNTIF('PLANNING PRINCIPAL'!$I$102:$X$102,A6)>=1,\"\",ROW())","v":6},"BEN 19T ","BEN 19T ",{"$f":"IF(COUNTIF('PLANNING PRINCIPAL'!$I$105:$X$105,D6)>=1,\"\",ROW())","v":6},"BEN 19T ","BEN 19T ",{"$f":"IF(COUNTIF('PLANNING PRINCIPAL'!$I$108:$X$108,G6)>=1,\"\",ROW())","v":6},"BEN 19T ","BEN 19T ",{"$f":"IF(COUNTIF('PLANNING PRINCIPAL'!$I$111:$X$111,J6)>=1,\"\",ROW())","v":6},"BEN 19T ","BEN 19T ",{"$f":"IF(COUNTIF('PLANNING PRINCIPAL'!$I$114:$X$114,M6)>=1,\"\",ROW())","v":6},"BEN 19T ","BEN 19T ",{"$f":"IF(COUNTIF('PLANNING PRINCIPAL'!$I$117:$X$117,P6)>=1,\"\",ROW())","v":6},"BEN 19T ","BEN 19T ",{"$f":"IF(COUNTIF('PLANNING PRINCIPAL'!$I$120:$X$120,S6)>=1,\"\",ROW())","v":6},"BEN 19T ",{"$f":"'DATA S1'!V6","v":"V NOC MAINTENON"},{"$f":"IF(COUNTIF('PLANNING PRINCIPAL'!$I$122:$X$122,V6)>=1,\"\",ROW())","v":6},"V NOC MAINTENON"]
[{"$f":"'DATA S1'!A7","v":"BEN 13T "},{"$f":"IF(COUNTIF('PLANNING PRINCIPAL'!$I$102:$X$102,A7)>=1,\"\",ROW())","v":7},"BEN 13T ","BEN 13T ",{"$f":"IF(COUNTIF('PLANNING PRINCIPAL'!$I$105:$X$105,D7)>=1,\"\",ROW())","v":7},"BEN 13T ","BEN 13T ",{"$f":"IF(COUNTIF('PLANNING PRINCIPAL'!$I$108:$X$108,G7)>=1,\"\",ROW())","v":7},"BEN 13T ","BEN 13T ",{"$f":"IF(COUNTIF('PLANNING PRINCIPAL'!$I$111:$X$111,J7)>=1,\"\",ROW())","v":7},"BEN 13T ","BEN 13T ",{"$f":"IF(COUNTIF('PLANNING PRINCIPAL'!$I$114:$X$114,M7)>=1,\"\",ROW())","v":7},"BEN 13T ","BEN 13T ",{"$f":"IF(COUNTIF('PLANNING PRINCIPAL'!$I$117:$X$117,P7)>=1,\"\",ROW())","v":7},"BEN 13T ","BEN 13T ",{"$f":"IF(COUNTIF('PLANNING PRINCIPAL'!$I$120:$X$120,S7)>=1,\"\",ROW())","v":7},"BEN 13T ",null,{"$f":"IF(COUNTIF('PLANNING PRINCIPAL'!$I$122:$X$122,V7)>=1,\"\",ROW())","v":7}]
[{"$f":"'DATA S1'!A8","v":"NAC VL 18M "},{"$f":"IF(COUNTIF('PLANNING PRINCIPAL'!$I$102:$X$102,A8)>=1,\"\",ROW())","v":8},"NAC VL 18M ","NAC VL 18M ",{"$f":"IF(COUNTIF('PLANNING PRINCIPAL'!$I$105:$X$105,D8)>=1,\"\",ROW())","v":8},"NAC VL 18M ","NAC VL 18M ",{"$f":"IF(COUNTIF('PLANNING PRINCIPAL'!$I$108:$X$108,G8)>=1,\"\",ROW())","v":8},"NAC VL 18M ","NAC VL 18M ",{"$f":"IF(COUNTIF('PLANNING PRINCIPAL'!$I$111:$X$111,J8)>=1,\"\",ROW())","v":8},"NAC VL 18M ","NAC VL 18M ",{"$f":"IF(COUNTIF('PLANNING PRINCIPAL'!$I$114:$X$114,M8)>=1,\"\",ROW())","v":8},"NAC VL 18M ","NAC VL 18M ",{"$f":"IF(COUNTIF('PLANNING PRINCIPAL'!$I$117:$X$117,P8)>=1,\"\",ROW())","v":8},"NAC VL 18M ","NAC VL 18M ",{"$f":"IF(COUNTIF('PLANNING PRINCIPAL'!$I$120:$X$120,S8)>=1,\"\",ROW())","v":8},"NAC VL 18M ",null,{"$f":"IF(COUNTIF('PLANNING PRINCIPAL'!$I$122:$X$122,V8)>=1,\"\",ROW())","v":8}]
[{"$f":"'DATA S1'!A9","v":"NAC EGIE"},{"$f":"IF(COUNTIF('PLANNING PRINCIPAL'!$I$102:$X$102,A9)>=1,\"\",ROW())","v":9},"NAC EGIE","NAC EGIE",{"$f":"IF(COUNTIF('PLANNING PRINCIPAL'!$I$105:$X$105,D9)>=1,\"\",ROW())","v":9},"NAC EGIE","NAC EGIE",{"$f":"IF(COUNTIF('PLANNING PRINCIPAL'!$I$108:$X$108,G9)>=1,\"\",ROW())","v":9},"NAC EGIE","NAC EGIE",{"$f":"IF(COUNTIF('PLANNING PRINCIPAL'!$I$111:$X$111,J9)>=1,\"\",ROW())","v":9},"NAC EGIE","NAC EGIE",{"$f":"IF(COUNTIF('PLANNING PRINCIPAL'!$I$114:$X$114,M9)>=1,\"\",ROW())","v":9},"NAC EGIE","NAC EGIE",{"$f":"IF(COUNTIF('PLANNING PRINCIPAL'!$I$117:$X$117,P9)>=1,\"\",ROW())","v":9},"NAC EGIE","NAC EGIE",{"$f":"IF(COUNTIF('PLANNING PRINCIPAL'!$I$120:$X$120,S9)>=1,\"\",ROW())","v":9},"NAC EGIE",null,{"$f":"IF(COUNTIF('PLANNING PRINCIPAL'!$I$122:$X$122,V9)>=1,\"\",ROW())","v":9}]
[{"$f":"'DATA S1'!A10","v":"NAC COMI "},{"$f":"IF(COUNTIF('PLANNING PRINCIPAL'!$I$102:$X$102,A10)>=1,\"\",ROW())","v":10},"NAC COMI ","NAC COMI ",{"$f":"IF(COUNTIF('PLANNING PRINCIPAL'!$I$105:$X$105,D10)>=1,\"\",ROW())","v":10},"NAC COMI ","NAC COMI ",{"$f":"IF(COUNTIF('PLANNING PRINCIPAL'!$I$108:$X$108,G10)>=1,\"\",ROW())","v":10},"NAC COMI ","NAC COMI ",{"$f":"IF(COUNTIF('PLANNING PRINCIPAL'!$I$111:$X$111,J10)>=1,\"\",ROW())","v":10},"NAC COMI ","NAC COMI ",{"$f":"IF(COUNTIF('PLANNING PRINCIPAL'!$I$114:$X$114,M10)>=1,\"\",ROW())","v":10},"NAC COMI ","NAC COMI ",{"$f":"IF(COUNTIF('PLANNING PRINCIPAL'!$I$117:$X$117,P10)>=1,\"\",ROW())","v":10},"NAC COMI ","NAC COMI ",{"$f":"IF(COUNTIF('PLANNING PRINCIPAL'!$I$120:$X$120,S10)>=1,\"\",ROW())","v":10},"NAC COMI ",null,{"$f":"IF(COUNTIF('PLANNING PRINCIPAL'!$I$122:$X$122,V10)>=1,\"\",ROW())","v":10}]
[{"$f":"'DATA S1'!A11","v":"#####LOCATION#####"},{"$f":"IF(COUNTIF('PLANNING PRINCIPAL'!$I$102:$X$102,A11)>=1,\"\",ROW())","v":11},"#####LOCATION#####","#####LOCATION#####",{"$f":"IF(COUNTIF('PLANNING PRINCIPAL'!$I$105:$X$105,D11)>=1,\"\",ROW())","v":11},"#####LOCATION#####","#####LOCATION#####",{"$f":"IF(COUNTIF('PLANNING PRINCIPAL'!$I$108:$X$108,G11)>=1,\"\",ROW())","v":11},"#####LOCATION#####","#####LOCATION#####",{"$f":"IF(COUNTIF('PLANNING PRINCIPAL'!$I$111:$X$111,J11)>=1,\"\",ROW())","v":11},"#####LOCATION#####","#####LOCATION#####",{"$f":"IF(COUNTIF('PLANNING PRINCIPAL'!$I$114:$X$114,M11)>=1,\"\",ROW())","v":11},"#####LOCATION#####","#####LOCATION#####",{"$f":"IF(COUNTIF('PLANNING PRINCIPAL'!$I$117:$X$117,P11)>=1,\"\",ROW())","v":11},"#####LOCATION#####","#####LOCATION#####",{"$f":"IF(COUNTIF('PLANNING PRINCIPAL'!$I$120:$X$120,S11)>=1,\"\",ROW())","v":11},"#####LOCATION#####",null,{"$f":"IF(COUNTIF('PLANNING PRINCIPAL'!$I$99:$X$99,V11)>=1,\"\",ROW())","v":11}]
[{"$f":"'DATA S1'!A12","v":"LOC NAC SOLOMAT"},{"$f":"IF(COUNTIF('PLANNING PRINCIPAL'!$I$102:$X$102,A12)>=1,\"\",ROW())","v":12},"LOC NAC SOLOMAT","LOC NAC SOLOMAT",{"$f":"IF(COUNTIF('PLANNING PRINCIPAL'!$I$105:$X$105,D12)>=1,\"\",ROW())","v":12},"LOC NAC SOLOMAT","LOC NAC SOLOMAT",{"$f":"IF(COUNTIF('PLANNING PRINCIPAL'!$I$108:$X$108,G12)>=1,\"\",ROW())","v":12},"LOC NAC SOLOMAT","LOC NAC SOLOMAT",{"$f":"IF(COUNTIF('PLANNING PRINCIPAL'!$I$111:$X$111,J12)>=1,\"\",ROW())","v":12},"LOC NAC SOLOMAT","LOC NAC SOLOMAT",{"$f":"IF(COUNTIF('PLANNING PRINCIPAL'!$I$114:$X$114,M12)>=1,\"\",ROW())","v":12},"LOC NAC SOLOMAT","LOC NAC SOLOMAT",{"$f":"IF(COUNTIF('PLANNING PRINCIPAL'!$I$117:$X$117,P12)>=1,\"\",ROW())","v":12},"LOC NAC SOLOMAT","LOC NAC SOLOMAT",{"$f":"IF(COUNTIF('PLANNING PRINCIPAL'!$I$120:$X$120,S12)>=1,\"\",ROW())","v":12},"LOC NAC SOLOMAT",null,{"$f":"IF(COUNTIF('PLANNING PRINCIPAL'!$I$99:$X$99,V12)>=1,\"\",ROW())","v":12}]
[{"$f":"'DATA S1'!A13","v":"LOC NAC AEB"},{"$f":"IF(COUNTIF('PLANNING PRINCIPAL'!$I$102:$X$102,A13)>=1,\"\",ROW())","v":13},"LOC NAC AEB","LOC NAC AEB",{"$f":"IF(COUNTIF('PLANNING PRINCIPAL'!$I$105:$X$105,D13)>=1,\"\",ROW())","v":13},"LOC NAC AEB","LOC NAC AEB",{"$f":"IF(COUNTIF('PLANNING PRINCIPAL'!$I$108:$X$108,G13)>=1,\"\",ROW())","v":13},"LOC NAC AEB","LOC NAC AEB",{"$f":"IF(COUNTIF('PLANNING PRINCIPAL'!$I$111:$X$111,J13)>=1,\"\",ROW())","v":13},"LOC NAC AEB","LOC NAC AEB",{"$f":"IF(COUNTIF('PLANNING PRINCIPAL'!$I$114:$X$114,M13)>=1,\"\",ROW())","v":13},"LOC NAC AEB","LOC NAC AEB",{"$f":"IF(COUNTIF('PLANNING PRINCIPAL'!$I$117:$X$117,P13)>=1,\"\",ROW())","v":13},"LOC NAC AEB","LOC NAC AEB",{"$f":"IF(COUNTIF('PLANNING PRINCIPAL'!$I$120:$X$120,S13)>=1,\"\",ROW())","v":13},"LOC NAC AEB",null,{"$f":"IF(COUNTIF('PLANNING PRINCIPAL'!$I$99:$X$99,V13)>=1,\"\",ROW())","v":13}]
[{"$f":"'DATA S1'!A14","v":"LOC NAC INTERLOC"},{"$f":"IF(COUNTIF('PLANNING PRINCIPAL'!$I$102:$X$102,A14)>=1,\"\",ROW())","v":14},"LOC NAC INTERLOC","LOC NAC INTERLOC",{"$f":"IF(COUNTIF('PLANNING PRINCIPAL'!$I$105:$X$105,D14)>=1,\"\",ROW())","v":14},"LOC NAC INTERLOC","LOC NAC INTERLOC",{"$f":"IF(COUNTIF('PLANNING PRINCIPAL'!$I$108:$X$108,G14)>=1,\"\",ROW())","v":14},"LOC NAC INTERLOC","LOC NAC INTERLOC",{"$f":"IF(COUNTIF('PLANNING PRINCIPAL'!$I$111:$X$111,J14)>=1,\"\",ROW())","v":14},"LOC NAC INTERLOC","LOC NAC INTERLOC",{"$f":"IF(COUNTIF('PLANNING PRINCIPAL'!$I$114:$X$114,M14)>=1,\"\",ROW())","v":14},"LOC NAC INTERLOC","LOC NAC INTERLOC",{"$f":"IF(COUNTIF('PLANNING PRINCIPAL'!$I$117:$X$117,P14)>=1,\"\",ROW())","v":14},"LOC NAC INTERLOC","LOC NAC INTERLOC",{"$f":"IF(COUNTIF('PLANNING PRINCIPAL'!$I$120:$X$120,S14)>=1,\"\",ROW())","v":14},"LOC NAC INTERLOC",null,{"$f":"IF(COUNTIF('PLANNING PRINCIPAL'!$I$99:$X$99,V14)>=1,\"\",ROW())","v":14}]
[{"$f":"'DATA S1'!A15","v":"LOC NAC KILOUTOU"},{"$f":"IF(COUNTIF('PLANNING PRINCIPAL'!$I$102:$X$102,A15)>=1,\"\",ROW())","v":15},"LOC NAC KILOUTOU","LOC NAC KILOUTOU",{"$f":"IF(COUNTIF('PLANNING PRINCIPAL'!$I$105:$X$105,D15)>=1,\"\",ROW())","v":15},"LOC NAC KILOUTOU","LOC NAC KILOUTOU",{"$f":"IF(COUNTIF('PLANNING PRINCIPAL'!$I$108:$X$108,G15)>=1,\"\",ROW())","v":15},"LOC NAC KILOUTOU","LOC NAC KILOUTOU",{"$f":"IF(COUNTIF('PLANNING PRINCIPAL'!$I$111:$X$111,J15)>=1,\"\",ROW())","v":15},"LOC NAC KILOUTOU","LOC NAC KILOUTOU",{"$f":"IF(COUNTIF('PLANNING PRINCIPAL'!$I$114:$X$114,M15)>=1,\"\",ROW())","v":15},"LOC NAC KILOUTOU","LOC NAC KILOUTOU",{"$f":"IF(COUNTIF('PLANNING PRINCIPAL'!$I$117:$X$117,P15)>=1,\"\",ROW())","v":15},"LOC NAC KILOUTOU","LOC NAC KILOUTOU",{"$f":"IF(COUNTIF('PLANNING PRINCIPAL'!$I$120:$X$120,S15)>=1,\"\",ROW())","v":15},"LOC NAC KILOUTOU",null,{"$f":"IF(COUNTIF('PLANNING PRINCIPAL'!$I$99:$X$99,V15)>=1,\"\",ROW())","v":15}]
[{"$f":"'DATA S1'!A16","v":"LOC NAC AEB"},{"$f":"IF(COUNTIF('PLANNING PRINCIPAL'!$I$102:$X$102,A16)>=1,\"\",ROW())","v":16},"LOC NAC AEB","LOC NAC AEB",{"$f":"IF(COUNTIF('PLANNING PRINCIPAL'!$I$105:$X$105,D16)>=1,\"\",ROW())","v":16},"LOC NAC AEB","LOC NAC AEB",{"$f":"IF(COUNTIF('PLANNING PRINCIPAL'!$I$108:$X$108,G16)>=1,\"\",ROW())","v":16},"LOC NAC AEB","LOC NAC AEB",{"$f":"IF(COUNTIF('PLANNING PRINCIPAL'!$I$111:$X$111,J16)>=1,\"\",ROW())","v":16},"LOC NAC AEB","LOC NAC AEB",{"$f":"IF(COUNTIF('PLANNING PRINCIPAL'!$I$114:$X$114,M16)>=1,\"\",ROW())","v":16},"LOC NAC AEB","LOC NAC AEB",{"$f":"IF(COUNTIF('PLANNING PRINCIPAL'!$I$117:$X$117,P16)>=1,\"\",ROW())","v":16},"LOC NAC AEB","LOC NAC AEB",{"$f":"IF(COUNTIF('PLANNING PRINCIPAL'!$I$120:$X$120,S16)>=1,\"\",ROW())","v":16},"LOC NAC AEB",null,{"$f":"IF(COUNTIF('PLANNING PRINCIPAL'!$I$99:$X$99,V16)>=1,\"\",ROW())","v":16}]
[{"$f":"'DATA S1'!A17","v":"LOC PELLE SOLOMAT"},{"$f":"IF(COUNTIF('PLANNING PRINCIPAL'!$I$102:$X$102,A17)>=1,\"\",ROW())","v":17},"LOC PELLE SOLOMAT","LOC PELLE SOLOMAT",{"$f":"IF(COUNTIF('PLANNING PRINCIPAL'!$I$105:$X$105,D17)>=1,\"\",ROW())","v":17},"LOC PELLE SOLOMAT","LOC PELLE SOLOMAT",{"$f":"IF(COUNTIF('PLANNING PRINCIPAL'!$I$108:$X$108,G17)>=1,\"\",ROW())","v":17},"LOC PELLE SOLOMAT","LOC PELLE SOLOMAT",{"$f":"IF(COUNTIF('PLANNING PRINCIPAL'!$I$111:$X$111,J17)>=1,\"\",ROW())","v":17},"LOC PELLE SOLOMAT","LOC PELLE SOLOMAT",{"$f":"IF(COUNTIF('PLANNING PRINCIPAL'!$I$114:$X$114,M17)>=1,\"\",ROW())","v":17},"LOC PELLE SOLOMAT","LOC PELLE SOLOMAT",{"$f":"IF(COUNTIF('PLANNING PRINCIPAL'!$I$117:$X$117,P17)>=1,\"\",ROW())","v":17},"LOC PELLE SOLOMAT","LOC PELLE SOLOMAT",{"$f":"IF(COUNTIF('PLANNING PRINCIPAL'!$I$120:$X$120,S17)>=1,\"\",ROW())","v":17},"LOC PELLE SOLOMAT",null,{"$f":"IF(COUNTIF('PLANNING PRINCIPAL'!$I$99:$X$99,V17)>=1,\"\",ROW())","v":17}]
[{"$f":"'DATA S1'!A18","v":"LOC PELLE AEB"},{"$f":"IF(COUNTIF('PLANNING PRINCIPAL'!$I$102:$X$102,A18)>=1,\"\",ROW())","v":18},"LOC PELLE AEB","LOC PELLE AEB",{"$f":"IF(COUNTIF('PLANNING PRINCIPAL'!$I$105:$X$105,D18)>=1,\"\",ROW())","v":18},"LOC PELLE AEB","LOC PELLE AEB",{"$f":"IF(COUNTIF('PLANNING PRINCIPAL'!$I$108:$X$108,G18)>=1,\"\",ROW())","v":18},"LOC PELLE AEB","LOC PELLE AEB",{"$f":"IF(COUNTIF('PLANNING PRINCIPAL'!$I$111:$X$111,J18)>=1,\"\",ROW())","v":18},"LOC PELLE AEB","LOC PELLE AEB",{"$f":"IF(COUNTIF('PLANNING PRINCIPAL'!$I$114:$X$114,M18)>=1,\"\",ROW())","v":18},"LOC PELLE AEB","LOC PELLE AEB",{"$f":"IF(COUNTIF('PLANNING PRINCIPAL'!$I$117:$X$117,P18)>=1,\"\",ROW())","v":18},"LOC PELLE AEB","LOC PELLE AEB",{"$f":"IF(COUNTIF('PLANNING PRINCIPAL'!$I$120:$X$120,S18)>=1,\"\",ROW())","v":18},"LOC PELLE AEB",null,{"$f":"IF(COUNTIF('PLANNING PRINCIPAL'!$I$99:$X$99,V18)>=1,\"\",ROW())","v":18}]
[{"$f":"'DATA S1'!A19","v":"LOC PELLE INTERLOC"},{"$f":"IF(COUNTIF('PLANNING PRINCIPAL'!$I$102:$X$102,A19)>=1,\"\",ROW())","v":19},"LOC PELLE INTERLOC","LOC PELLE INTERLOC",{"$f":"IF(COUNTIF('PLANNING PRINCIPAL'!$I$105:$X$105,D19)>=1,\"\",ROW())","v":19},"LOC PELLE INTERLOC","LOC PELLE INTERLOC",{"$f":"IF(COUNTIF('PLANNING PRINCIPAL'!$I$108:$X$108,G19)>=1,\"\",ROW())","v":19},"LOC PELLE INTERLOC","LOC PELLE INTERLOC",{"$f":"IF(COUNTIF('PLANNING PRINCIPAL'!$I$111:$X$111,J19)>=1,\"\",ROW())","v":19},"LOC PELLE INTERLOC","LOC PELLE INTERLOC",{"$f":"IF(COUNTIF('PLANNING PRINCIPAL'!$I$114:$X$114,M19)>=1,\"\",ROW())","v":19},"LOC PELLE INTERLOC","LOC PELLE INTERLOC",{"$f":"IF(COUNTIF('PLANNING PRINCIPAL'!$I$117:$X$117,P19)>=1,\"\",ROW())","v":19},"LOC PELLE INTERLOC","LOC PELLE INTERLOC",{"$f":"IF(COUNTIF('PLANNING PRINCIPAL'!$I$120:$X$120,S19)>=1,\"\",ROW())","v":19},"LOC PELLE INTERLOC",null,{"$f":"IF(COUNTIF('PLANNING PRINCIPAL'!$I$99:$X$99,V19)>=1,\"\",ROW())","v":19}]
[{"$f":"'DATA S1'!A20","v":"LOC PELLE KILOUTOU"},{"$f":"IF(COUNTIF('PLANNING PRINCIPAL'!$I$102:$X$102,A20)>=1,\"\",ROW())","v":20},"LOC PELLE KILOUTOU","LOC PELLE KILOUTOU",{"$f":"IF(COUNTIF('PLANNING PRINCIPAL'!$I$105:$X$105,D20)>=1,\"\",ROW())","v":20},"LOC PELLE KILOUTOU","LOC PELLE KILOUTOU",{"$f":"IF(COUNTIF('PLANNING PRINCIPAL'!$I$108:$X$108,G20)>=1,\"\",ROW())","v":20},"LOC PELLE KILOUTOU","LOC PELLE KILOUTOU",{"$f":"IF(COUNTIF('PLANNING PRINCIPAL'!$I$111:$X$111,J20)>=1,\"\",ROW())","v":20},"LOC PELLE KILOUTOU","LOC PELLE KILOUTOU",{"$f":"IF(COUNTIF('PLANNING PRINCIPAL'!$I$114:$X$114,M20)>=1,\"\",ROW())","v":20},"LOC PELLE KILOUTOU","LOC PELLE KILOUTOU",{"$f":"IF(COUNTIF('PLANNING PRINCIPAL'!$I$117:$X$117,P20)>=1,\"\",ROW())","v":20},"LOC PELLE KILOUTOU","LOC PELLE KILOUTOU",{"$f":"IF(COUNTIF('PLANNING PRINCIPAL'!$I$120:$X$120,S20)>=1,\"\",ROW())","v":20},"LOC PELLE KILOUTOU",null,{"$f":"IF(COUNTIF('PLANNING PRINCIPAL'!$I$99:$X$99,V20)>=1,\"\",ROW())","v":20}]
[null,{"$f":"IF(COUNTIF('PLANNING PRINCIPAL'!$I$102:$X$102,A21)>=1,\"\",ROW())","v":21},null,null,{"$f":"IF(COUNTIF('PLANNING PRINCIPAL'!$I$105:$X$105,D21)>=1,\"\",ROW())","v":21},null,null,{"$f":"IF(COUNTIF('PLANNING PRINCIPAL'!$I$108:$X$108,G21)>=1,\"\",ROW())","v":21},null,null,{"$f":"IF(COUNTIF('PLANNING PRINCIPAL'!$I$111:$X$111,J21)>=1,\"\",ROW())","v":21},null,null,{"$f":"IF(COUNTIF('PLANNING PRINCIPAL'!$I$114:$X$114,M21)>=1,\"\",ROW())","v":21},null,null,{"$f":"IF(COUNTIF('PLANNING PRINCIPAL'!$I$117:$X$117,P21)>=1,\"\",ROW())","v":21},null,null,{"$f":"IF(COUNTIF('PLANNING PRINCIPAL'!$I$120:$X$120,S21)>=1,\"\",ROW())","v":21},null,null,{"$f":"IF(COUNTIF('PLANNING PRINCIPAL'!$I$99:$X$99,V21)>=1,\"\",ROW())","v":21}]
[null,{"$f":"IF(COUNTIF('PLANNING PRINCIPAL'!$I$102:$X$102,A22)>=1,\"\",ROW())","v":22},null,null,{"$f":"IF(COUNTIF('PLANNING PRINCIPAL'!$I$105:$X$105,D22)>=1,\"\",ROW())","v":22},null,null,{"$f":"IF(COUNTIF('PLANNING PRINCIPAL'!$I$108:$X$108,G22)>=1,\"\",ROW())","v":22},null,null,{"$f":"IF(COUNTIF('PLANNING PRINCIPAL'!$I$111:$X$111,J22)>=1,\"\",ROW())","v":22},null,null,{"$f":"IF(COUNTIF('PLANNING PRINCIPAL'!$I$114:$X$114,M22)>=1,\"\",ROW())","v":22},null,null,{"$f":"IF(COUNTIF('PLANNING PRINCIPAL'!$I$117:$X$117,P22)>=1,\"\",ROW())","v":22},null,null,{"$f":"IF(COUNTIF('PLANNING PRINCIPAL'!$I$120:$X$120,S22)>=1,\"\",ROW())","v":22},null,null,{"$f":"IF(COUNTIF('PLANNING PRINCIPAL'!$I$99:$X$99,V22)>=1,\"\",ROW())","v":22}]
[null,{"$f":"IF(COUNTIF('PLANNING PRINCIPAL'!$I$102:$X$102,A23)>=1,\"\",ROW())","v":23},null,null,{"$f":"IF(COUNTIF('PLANNING PRINCIPAL'!$I$105:$X$105,D23)>=1,\"\",ROW())","v":23},null,null,{"$f":"IF(COUNTIF('PLANNING PRINCIPAL'!$I$108:$X$108,G23)>=1,\"\",ROW())","v":23},null,null,{"$f":"IF(COUNTIF('PLANNING PRINCIPAL'!$I$111:$X$111,J23)>=1,\"\",ROW())","v":23},null,null,{"$f":"IF(COUNTIF('PLANNING PRINCIPAL'!$I$114:$X$114,M23)>=1,\"\",ROW())","v":23},null,null,{"$f":"IF(COUNTIF('PLANNING PRINCIPAL'!$I$117:$X$117,P23)>=1,\"\",ROW())","v":23},null,null,{"$f":"IF(COUNTIF('PLANNING PRINCIPAL'!$I$120:$X$120,S23)>=1,\"\",ROW())","v":23},null,null,{"$f":"IF(COUNTIF('PLANNING PRINCIPAL'!$I$99:$X$99,V23)>=1,\"\",ROW())","v":23}]
[null,{"$f":"IF(COUNTIF('PLANNING PRINCIPAL'!$I$102:$X$102,A24)>=1,\"\",ROW())","v":24},null,null,{"$f":"IF(COUNTIF('PLANNING PRINCIPAL'!$I$105:$X$105,D24)>=1,\"\",ROW())","v":24},null,null,{"$f":"IF(COUNTIF('PLANNING PRINCIPAL'!$I$108:$X$108,G24)>=1,\"\",ROW())","v":24},null,null,{"$f":"IF(COUNTIF('PLANNING PRINCIPAL'!$I$111:$X$111,J24)>=1,\"\",ROW())","v":24},null,null,{"$f":"IF(COUNTIF('PLANNING PRINCIPAL'!$I$114:$X$114,M24)>=1,\"\",ROW())","v":24},null,null,{"$f":"IF(COUNTIF('PLANNING PRINCIPAL'!$I$117:$X$117,P24)>=1,\"\",ROW())","v":24},null,null,{"$f":"IF(COUNTIF('PLANNING PRINCIPAL'!$I$120:$X$120,S24)>=1,\"\",ROW())","v":24},null,null,{"$f":"IF(COUNTIF('PLANNING PRINCIPAL'!$I$99:$X$99,V24)>=1,\"\",ROW())","v":24}]
[null,{"$f":"IF(COUNTIF('PLANNING PRINCIPAL'!$I$102:$X$102,A25)>=1,\"\",ROW())","v":25},null,null,{"$f":"IF(COUNTIF('PLANNING PRINCIPAL'!$I$105:$X$105,D25)>=1,\"\",ROW())","v":25},null,null,{"$f":"IF(COUNTIF('PLANNING PRINCIPAL'!$I$108:$X$108,G25)>=1,\"\",ROW())","v":25},null,null,{"$f":"IF(COUNTIF('PLANNING PRINCIPAL'!$I$111:$X$111,J25)>=1,\"\",ROW())","v":25},null,null,{"$f":"IF(COUNTIF('PLANNING PRINCIPAL'!$I$114:$X$114,M25)>=1,\"\",ROW())","v":25},null,null,{"$f":"IF(COUNTIF('PLANNING PRINCIPAL'!$I$117:$X$117,P25)>=1,\"\",ROW())","v":25},null,null,{"$f":"IF(COUNTIF('PLANNING PRINCIPAL'!$I$120:$X$120,S25)>=1,\"\",ROW())","v":25},null,null,{"$f":"IF(COUNTIF('PLANNING PRINCIPAL'!$I$99:$X$99,V25)>=1,\"\",ROW())","v":25}]
[null,{"$f":"IF(COUNTIF('PLANNING PRINCIPAL'!$I$102:$X$102,A26)>=1,\"\",ROW())","v":26},null,null,{"$f":"IF(COUNTIF('PLANNING PRINCIPAL'!$I$105:$X$105,D26)>=1,\"\",ROW())","v":26},null,null,{"$f":"IF(COUNTIF('PLANNING PRINCIPAL'!$I$108:$X$108,G26)>=1,\"\",ROW())","v":26},null,null,{"$f":"IF(COUNTIF('PLANNING PRINCIPAL'!$I$111:$X$111,J26)>=1,\"\",ROW())","v":26},null,null,{"$f":"IF(COUNTIF('PLANNING PRINCIPAL'!$I$114:$X$114,M26)>=1,\"\",ROW())","v":26},null,null,{"$f":"IF(COUNTIF('PLANNING PRINCIPAL'!$I$117:$X$117,P26)>=1,\"\",ROW())","v":26},null,null,{"$f":"IF(COUNTIF('PLANNING PRINCIPAL'!$I$120:$X$120,S26)>=1,\"\",ROW())","v":26},null,null,{"$f":"IF(COUNTIF('PLANNING PRINCIPAL'!$I$99:$X$99,V26)>=1,\"\",ROW())","v":26}]
[null,{"$f":"IF(COUNTIF('PLANNING PRINCIPAL'!$I$102:$X$102,A27)>=1,\"\",ROW())","v":27},null,null,{"$f":"IF(COUNTIF('PLANNING PRINCIPAL'!$I$105:$X$105,D27)>=1,\"\",ROW())","v":27},null,null,{"$f":"IF(COUNTIF('PLANNING PRINCIPAL'!$I$108:$X$108,G27)>=1,\"\",ROW())","v":27},null,null,{"$f":"IF(COUNTIF('PLANNING PRINCIPAL'!$I$111:$X$111,J27)>=1,\"\",ROW())","v":27},null,null,{"$f":"IF(COUNTIF('PLANNING PRINCIPAL'!$I$114:$X$114,M27)>=1,\"\",ROW())","v":27},null,null,{"$f":"IF(COUNTIF('PLANNING PRINCIPAL'!$I$117:$X$117,P27)>=1,\"\",ROW())","v":27},null,null,{"$f":"IF(COUNTIF('PLANNING PRINCIPAL'!$I$120:$X$120,S27)>=1,\"\",ROW())","v":27},null,null,{"$f":"IF(COUNTIF('PLANNING PRINCIPAL'!$I$99:$X$99,V27)>=1,\"\",ROW())","v":27}]
[null,{"$f":"IF(COUNTIF('PLANNING PRINCIPAL'!$I$102:$X$102,A28)>=1,\"\",ROW())","v":28},null,null,{"$f":"IF(COUNTIF('PLANNING PRINCIPAL'!$I$105:$X$105,D28)>=1,\"\",ROW())","v":28},null,null,{"$f":"IF(COUNTIF('PLANNING PRINCIPAL'!$I$108:$X$108,G28)>=1,\"\",ROW())","v":28},null,null,{"$f":"IF(COUNTIF('PLANNING PRINCIPAL'!$I$111:$X$111,J28)>=1,\"\",ROW())","v":28},null,null,{"$f":"IF(COUNTIF('PLANNING PRINCIPAL'!$I$114:$X$114,M28)>=1,\"\",ROW())","v":28},null,null,{"$f":"IF(COUNTIF('PLANNING PRINCIPAL'!$I$117:$X$117,P28)>=1,\"\",ROW())","v":28},null,null,{"$f":"IF(COUNTIF('PLANNING PRINCIPAL'!$I$120:$X$120,S28)>=1,\"\",ROW())","v":28},null,null,{"$f":"IF(COUNTIF('PLANNING PRINCIPAL'!$I$99:$X$99,V28)>=1,\"\",ROW())","v":28}]
[null,{"$f":"IF(COUNTIF('PLANNING PRINCIPAL'!$I$102:$X$102,A29)>=1,\"\",ROW())","v":29},null,null,{"$f":"IF(COUNTIF('PLANNING PRINCIPAL'!$I$105:$X$105,D29)>=1,\"\",ROW())","v":29},null,null,{"$f":"IF(COUNTIF('PLANNING PRINCIPAL'!$I$108:$X$108,G29)>=1,\"\",ROW())","v":29},null,null,{"$f":"IF(COUNTIF('PLANNING PRINCIPAL'!$I$111:$X$111,J29)>=1,\"\",ROW())","v":29},null,null,{"$f":"IF(COUNTIF('PLANNING PRINCIPAL'!$I$114:$X$114,M29)>=1,\"\",ROW())","v":29},null,null,{"$f":"IF(COUNTIF('PLANNING PRINCIPAL'!$I$117:$X$117,P29)>=1,\"\",ROW())","v":29},null,null,{"$f":"IF(COUNTIF('PLANNING PRINCIPAL'!$I$120:$X$120,S29)>=1,\"\",ROW())","v":29},null,null,{"$f":"IF(COUNTIF('PLANNING PRINCIPAL'!$I$99:$X$99,V29)>=1,\"\",ROW())","v":29}]
[null,{"$f":"IF(COUNTIF('PLANNING PRINCIPAL'!$I$102:$X$102,A30)>=1,\"\",ROW())","v":30},null,null,{"$f":"IF(COUNTIF('PLANNING PRINCIPAL'!$I$105:$X$105,D30)>=1,\"\",ROW())","v":30},null,null,{"$f":"IF(COUNTIF('PLANNING PRINCIPAL'!$I$108:$X$108,G30)>=1,\"\",ROW())","v":30},null,null,{"$f":"IF(COUNTIF('PLANNING PRINCIPAL'!$I$111:$X$111,J30)>=1,\"\",ROW())","v":30},null,null,{"$f":"IF(COUNTIF('PLANNING PRINCIPAL'!$I$114:$X$114,M30)>=1,\"\",ROW())","v":30},null,null,{"$f":"IF(COUNTIF('PLANNING PRINCIPAL'!$I$117:$X$117,P30)>=1,\"\",ROW())","v":30},null,null,{"$f":"IF(COUNTIF('PLANNING PRINCIPAL'!$I$120:$X$120,S30)>=1,\"\",ROW())","v":30},null,null,{"$f":"IF(COUNTIF('PLANNING PRINCIPAL'!$I$99:$X$99,V30)>=1,\"\",ROW())","v":30}]
[null,{"$f":"IF(COUNTIF('PLANNING PRINCIPAL'!$I$102:$X$102,A31)>=1,\"\",ROW())","v":31},null,null,{"$f":"IF(COUNTIF('PLANNING PRINCIPAL'!$I$105:$X$105,D31)>=1,\"\",ROW())","v":31},null,null,{"$f":"IF(COUNTIF('PLANNING PRINCIPAL'!$I$108:$X$108,G31)>=1,\"\",ROW())","v":31},null,null,{"$f":"IF(COUNTIF('PLANNING PRINCIPAL'!$I$111:$X$111,J31)>=1,\"\",ROW())","v":31},null,null,{"$f":"IF(COUNTIF('PLANNING PRINCIPAL'!$I$114:$X$114,M31)>=1,\"\",ROW())","v":31},null,null,{"$f":"IF(COUNTIF('PLANNING PRINCIPAL'!$I$117:$X$117,P31)>=1,\"\",ROW())","v":31},null,null,{"$f":"IF(COUNTIF('PLANNING PRINCIPAL'!$I$120:$X$120,S31)>=1,\"\",ROW())","v":31},null,null,{"$f":"IF(COUNTIF('PLANNING PRINCIPAL'!$I$99:$X$99,V31)>=1,\"\",ROW())","v":31}]
[null,{"$f":"IF(COUNTIF('PLANNING PRINCIPAL'!$I$102:$X$102,A32)>=1,\"\",ROW())","v":32},null,null,{"$f":"IF(COUNTIF('PLANNING PRINCIPAL'!$I$105:$X$105,D32)>=1,\"\",ROW())","v":32},null,null,{"$f":"IF(COUNTIF('PLANNING PRINCIPAL'!$I$108:$X$108,G32)>=1,\"\",ROW())","v":32},null,null,{"$f":"IF(COUNTIF('PLANNING PRINCIPAL'!$I$111:$X$111,J32)>=1,\"\",ROW())","v":32},null,null,{"$f":"IF(COUNTIF('PLANNING PRINCIPAL'!$I$114:$X$114,M32)>=1,\"\",ROW())","v":32},null,null,{"$f":"IF(COUNTIF('PLANNING PRINCIPAL'!$I$117:$X$117,P32)>=1,\"\",ROW())","v":32},null,null,{"$f":"IF(COUNTIF('PLANNING PRINCIPAL'!$I$120:$X$120,S32)>=1,\"\",ROW())","v":32},null,null,{"$f":"IF(COUNTIF('PLANNING PRINCIPAL'!$I$99:$X$99,V32)>=1,\"\",ROW())","v":32}]
[null,{"$f":"IF(COUNTIF('PLANNING PRINCIPAL'!$I$102:$X$102,A33)>=1,\"\",ROW())","v":33},null,null,{"$f":"IF(COUNTIF('PLANNING PRINCIPAL'!$I$105:$X$105,D33)>=1,\"\",ROW())","v":33},null,null,{"$f":"IF(COUNTIF('PLANNING PRINCIPAL'!$I$108:$X$108,G33)>=1,\"\",ROW())","v":33},null,null,{"$f":"IF(COUNTIF('PLANNING PRINCIPAL'!$I$111:$X$111,J33)>=1,\"\",ROW())","v":33},null,null,{"$f":"IF(COUNTIF('PLANNING PRINCIPAL'!$I$114:$X$114,M33)>=1,\"\",ROW())","v":33},null,null,{"$f":"IF(COUNTIF('PLANNING PRINCIPAL'!$I$117:$X$117,P33)>=1,\"\",ROW())","v":33},null,null,{"$f":"IF(COUNTIF('PLANNING PRINCIPAL'!$I$120:$X$120,S33)>=1,\"\",ROW())","v":33},null,null,{"$f":"IF(COUNTIF('PLANNING PRINCIPAL'!$I$99:$X$99,V33)>=1,\"\",ROW())","v":33}]
[null,{"$f":"IF(COUNTIF('PLANNING PRINCIPAL'!$I$102:$X$102,A34)>=1,\"\",ROW())","v":34},null,null,{"$f":"IF(COUNTIF('PLANNING PRINCIPAL'!$I$105:$X$105,D34)>=1,\"\",ROW())","v":34},null,null,{"$f":"IF(COUNTIF('PLANNING PRINCIPAL'!$I$108:$X$108,G34)>=1,\"\",ROW())","v":34},null,null,{"$f":"IF(COUNTIF('PLANNING PRINCIPAL'!$I$111:$X$111,J34)>=1,\"\",ROW())","v":34},null,null,{"$f":"IF(COUNTIF('PLANNING PRINCIPAL'!$I$114:$X$114,M34)>=1,\"\",ROW())","v":34},null,null,{"$f":"IF(COUNTIF('PLANNING PRINCIPAL'!$I$117:$X$117,P34)>=1,\"\",ROW())","v":34},null,null,{"$f":"IF(COUNTIF('PLANNING PRINCIPAL'!$I$120:$X$120,S34)>=1,\"\",ROW())","v":34},null,null,{"$f":"IF(COUNTIF('PLANNING PRINCIPAL'!$I$99:$X$99,V34)>=1,\"\",ROW())","v":34}]
["LUNDI",null,null,"MARDI",null,null,"MERCREDI",null,null,"JEUDI",null,null,"VENDREDI",null,null,"SAMEDI",null,null,"DIMANCHE",null,null,"ASTREINTE"]

{"sheet":"DATA S6","index":7,"n_rows":35,"n_cols":24,"rows_kept":35,"cut":false,"hidden":false,"merged":[[34,18,34,20],[34,21,34,23],[34,0,34,2],[34,3,34,5],[34,6,34,8],[34,9,34,11],[34,12,34,14],[34,15,34,17]]}
[{"$f":"'DATA S1'!A1","v":"MAS XX "},{"$f":"IF(COUNTIF('PLANNING PRINCIPAL'!$I$125:$X$125,A1)>=1,\"\",ROW())","v":1},{"$f":"IF(ROW(A1)-ROW(A$1)+1>COUNT(B:B),\"\", INDEX(A:A,SMALL(B:B,1+ROW(A1)-ROW(A$1))))","v":"MAS XX "},{"$f":"A1","v":"MAS XX "},{"$f":"IF(COUNTIF('PLANNING PRINCIPAL'!$I$128:$X$128,D1)>=1,\"\",ROW())","v":1},{"$f":"IF(ROW(D1)-ROW(D$1)+1>COUNT(E:E),\"\", INDEX(D:D,SMALL(E:E,1+ROW(D1)-ROW(D$1))))","v":"MAS XX "},{"$f":"A1","v":"MAS XX "},{"$f":"IF(COUNTIF('PLANNING PRINCIPAL'!$I$131:$X$131,G1)>=1,\"\",ROW())","v":1},{"$f":"IF(ROW(G1)-ROW(G$1)+1>COUNT(H:H),\"\", INDEX(G:G,SMALL(H:H,1+ROW(G1)-ROW(G$1))))","v":"MAS XX "},{"$f":"A1","v":"MAS XX "},{"$f":"IF(COUNTIF('PLANNING PRINCIPAL'!$I$134:$X$134,J1)>=1,\"\",ROW())","v":1},{"$f":"IF(ROW(J1)-ROW(J$1)+1>COUNT(K:K),\"\", INDEX(J:J,SMALL(K:K,1+ROW(J1)-ROW(J$1))))","v":"MAS XX "},{"$f":"A1","v":"MAS XX "},{"$f":"IF(COUNTIF('PLANNING PRINCIPAL'!$I$137:$X$137,M1)>=1,\"\",ROW())","v":1},{"$f":"IF(ROW(M1)-ROW(M$1)+1>COUNT(N:N),\"\", INDEX(M:M,SMALL(N:N,1+ROW(M1)-ROW(M$1))))","v":"MAS XX "},{"$f":"A1","v":"MAS XX "},{"$f":"IF(COUNTIF('PLANNING PRINCIPAL'!$I$140:$X$140,P1)>=1,\"\",ROW())","v":1},{"$f":"IF(ROW(P1)-ROW(P$1)+1>COUNT(Q:Q),\"\", INDEX(P:P,SMALL(Q:Q,1+ROW(P1)-ROW(P$1))))","v":"MAS XX "},{"$f":"A1","v":"MAS XX "},{"$f":"IF(COUNTIF('PLANNING PRINCIPAL'!$I$143:$X$143,S1)>=1,\"\",ROW())","v":1},{"$f":"IF(ROW(S1)-ROW(S$1)+1>COUNT(T:T),\"\", INDEX(S:S,SMALL(T:T,1+ROW(S1)-ROW(S$1))))","v":"MAS XX "},{"$f":"'DATA S1'!V1","v":"ASTREINTE SLT"},{"$f":"IF(COUNTIF('PLANNING PRINCIPAL'!$I$145:$X$145,V1)>=1,\"\",ROW())","v":1},{"$f":"IF(ROW(V1)-ROW(V$1)+1>COUNT(W:W),\"\", INDEX(V:V,SMALL(W:W,1+ROW(V1)-ROW(V$1))))","v":"ASTREINTE SLT"}]
[{"$f":"'DATA S1'!A2","v":"MAS YY "},{"$f":"IF(COUNTIF('PLANNING PRINCIPAL'!$I$125:$X$125,A2)>=1,\"\",ROW())","v":2},{"$f":"IF(ROW(A2)-ROW(A$1)+1>COUNT(B:B),\"\", INDEX(A:A,SMALL(B:B,1+ROW(A2)-ROW(A$1))))","v":"MAS YY "},"MAS YY ",{"$f":"IF(COUNTIF('PLANNING PRINCIPAL'!$I$128:$X$128,D2)>=1,\"\",ROW())","v":2},{"$f":"IF(ROW(D2)-ROW(D$1)+1>COUNT(E:E),\"\", INDEX(D:D,SMALL(E:E,1+ROW(D2)-ROW(D$1))))","v":"MAS YY "},{"$f":"A2","v":"MAS YY "},{"$f":"IF(COUNTIF('PLANNING PRINCIPAL'!$I$131:$X$131,G2)>=1,\"\",ROW())","v":2},{"$f":"IF(ROW(G2)-ROW(G$1)+1>COUNT(H:H),\"\", INDEX(G:G,SMALL(H:H,1+ROW(G2)-ROW(G$1))))","v":"MAS YY "},{"$f":"A2","v":"MAS YY "},{"$f":"IF(COUNTIF('PLANNING PRINCIPAL'!$I$134:$X$134,J2)>=1,\"\",ROW())","v":2},{"$f":"IF(ROW(J2)-ROW(J$1)+1>COUNT(K:K),\"\", INDEX(J:J,SMALL(K:K,1+ROW(J2)-ROW(J$1))))","v":"MAS YY "},{"$f":"A2","v":"MAS YY "},{"$f":"IF(COUNTIF('PLANNING PRINCIPAL'!$I$137:$X$137,M2)>=1,\"\",ROW())","v":2},{"$f":"IF(ROW(M2)-ROW(M$1)+1>COUNT(N:N),\"\", INDEX(M:M,SMALL(N:N,1+ROW(M2)-ROW(M$1))))","v":"MAS YY "},{"$f":"A2","v":"MAS YY "},{"$f":"IF(COUNTIF('PLANNING PRINCIPAL'!$I$140:$X$140,P2)>=1,\"\",ROW())","v":2},{"$f":"IF(ROW(P2)-ROW(P$1)+1>COUNT(Q:Q),\"\", INDEX(P:P,SMALL(Q:Q,1+ROW(P2)-ROW(P$1))))","v":"MAS YY "},{"$f":"A2","v":"MAS YY "},{"$f":"IF(COUNTIF('PLANNING PRINCIPAL'!$I$120:$X$120,S2)>=1,\"\",ROW())","v":2},{"$f":"IF(ROW(S2)-ROW(S$1)+1>COUNT(T:T),\"\", INDEX(S:S,SMALL(T:T,1+ROW(S2)-ROW(S$1))))","v":"MAS YY "},{"$f":"'DATA S1'!V2","v":"ASTREINTE EP"},{"$f":"IF(COUNTIF('PLANNING PRINCIPAL'!$I$145:$X$145,V2)>=1,\"\",ROW())","v":2},{"$f":"IF(ROW(V2)-ROW(V$1)+1>COUNT(W:W),\"\", INDEX(V:V,SMALL(W:W,1+ROW(V2)-ROW(V$1))))","v":"ASTREINTE EP"}]
[{"$f":"'DATA S1'!A3","v":"MAS VQ "},{"$f":"IF(COUNTIF('PLANNING PRINCIPAL'!$I$125:$X$125,A3)>=1,\"\",ROW())","v":3},"MAS VQ ","MAS VQ ",{"$f":"IF(COUNTIF('PLANNING PRINCIPAL'!$I$128:$X$128,D3)>=1,\"\",ROW())","v":3},"MAS VQ ","MAS VQ ",{"$f":"IF(COUNTIF('PLANNING PRINCIPAL'!$I$131:$X$131,G3)>=1,\"\",ROW())","v":3},"MAS VQ ","MAS VQ ",{"$f":"IF(COUNTIF('PLANNING PRINCIPAL'!$I$134:$X$134,J3)>=1,\"\",ROW())","v":3},"MAS VQ ","MAS VQ ",{"$f":"IF(COUNTIF('PLANNING PRINCIPAL'!$I$137:$X$137,M3)>=1,\"\",ROW())","v":3},"MAS VQ ","MAS VQ ",{"$f":"IF(COUNTIF('PLANNING PRINCIPAL'!$I$140:$X$140,P3)>=1,\"\",ROW())","v":3},"MAS VQ ","MAS VQ ",{"$f":"IF(COUNTIF('PLANNING PRINCIPAL'!$I$120:$X$120,S3)>=1,\"\",ROW())","v":3},"MAS VQ ",{"$f":"'DATA S1'!V3","v":"V NOC CHARTRES"},{"$f":"IF(COUNTIF('PLANNING PRINCIPAL'!$I$145:$X$145,V3)>=1,\"\",ROW())","v":3},"V NOC CHARTRES"]
[{"$f":"'DATA S1'!A4","v":"MAS PL "},{"$f":"IF(COUNTIF('PLANNING PRINCIPAL'!$I$125:$X$125,A4)>=1,\"\",ROW())","v":4},"MAS PL ","MAS PL ",{"$f":"IF(COUNTIF('PLANNING PRINCIPAL'!$I$128:$X$128,D4)>=1,\"\",ROW())","v":4},"MAS PL ","MAS PL ",{"$f":"IF(COUNTIF('PLANNING PRINCIPAL'!$I$131:$X$131,G4)>=1,\"\",ROW())","v":4},"MAS PL ","MAS PL ",{"$f":"IF(COUNTIF('PLANNING PRINCIPAL'!$I$134:$X$134,J4)>=1,\"\",ROW())","v":4},"MAS PL ","MAS PL ",{"$f":"IF(COUNTIF('PLANNING PRINCIPAL'!$I$137:$X$137,M4)>=1,\"\",ROW())","v":4},"MAS PL ","MAS PL ",{"$f":"IF(COUNTIF('PLANNING PRINCIPAL'!$I$140:$X$140,P4)>=1,\"\",ROW())","v":4},"MAS PL ","MAS PL ",{"$f":"IF(COUNTIF('PLANNING PRINCIPAL'!$I$120:$X$120,S4)>=1,\"\",ROW())","v":4},"MAS PL ",{"$f":"'DATA S1'!V4","v":"V NOC EPERNON"},{"$f":"IF(COUNTIF('PLANNING PRINCIPAL'!$I$145:$X$145,V4)>=1,\"\",ROW())","v":4},"V NOC EPERNON"]
[{"$f":"'DATA S1'!A5","v":"BEN VL PT "},{"$f":"IF(COUNTIF('PLANNING PRINCIPAL'!$I$125:$X$125,A5)>=1,\"\",ROW())","v":5},"BEN VL PT ","BEN VL PT ",{"$f":"IF(COUNTIF('PLANNING PRINCIPAL'!$I$128:$X$128,D5)>=1,\"\",ROW())","v":5},"BEN VL PT ","BEN VL PT ",{"$f":"IF(COUNTIF('PLANNING PRINCIPAL'!$I$131:$X$131,G5)>=1,\"\",ROW())","v":5},"BEN VL PT ","BEN VL PT ",{"$f":"IF(COUNTIF('PLANNING PRINCIPAL'!$I$134:$X$134,J5)>=1,\"\",ROW())","v":5},"BEN VL PT ","BEN VL PT ",{"$f":"IF(COUNTIF('PLANNING PRINCIPAL'!$I$137:$X$137,M5)>=1,\"\",ROW())","v":5},"BEN VL PT ","BEN VL PT ",{"$f":"IF(COUNTIF('PLANNING PRINCIPAL'!$I$140:$X$140,P5)>=1,\"\",ROW())","v":5},"BEN VL PT ","BEN VL PT ",{"$f":"IF(COUNTIF('PLANNING PRINCIPAL'!$I$120:$X$120,S5)>=1,\"\",ROW())","v":5},"BEN VL PT ",{"$f":"'DATA S1'!V5","v":"V NOC HANCHES"},{"$f":"IF(COUNTIF('PLANNING PRINCIPAL'!$I$145:$X$145,V5)>=1,\"\",ROW())","v":5},"V NOC HANCHES"]
[{"$f":"'DATA S1'!A6","v":"BEN 19T "},{"$f":"IF(COUNTIF('PLANNING PRINCIPAL'!$I$125:$X$125,A6)>=1,\"\",ROW())","v":6},"BEN 19T ","BEN 19T ",{"$f":"IF(COUNTIF('PLANNING PRINCIPAL'!$I$128:$X$128,D6)>=1,\"\",ROW())","v":6},"BEN 19T ","BEN 19T ",{"$f":"IF(COUNTIF('PLANNING PRINCIPAL'!$I$131:$X$131,G6)>=1,\"\",ROW())","v":6},"BEN 19T ","BEN 19T ",{"$f":"IF(COUNTIF('PLANNING PRINCIPAL'!$I$134:$X$134,J6)>=1,\"\",ROW())","v":6},"BEN 19T ","BEN 19T ",{"$f":"IF(COUNTIF('PLANNING PRINCIPAL'!$I$137:$X$137,M6)>=1,\"\",ROW())","v":6},"BEN 19T ","BEN 19T ",{"$f":"IF(COUNTIF('PLANNING PRINCIPAL'!$I$140:$X$140,P6)>=1,\"\",ROW())","v":6},"BEN 19T ","BEN 19T ",{"$f":"IF(COUNTIF('PLANNING PRINCIPAL'!$I$120:$X$120,S6)>=1,\"\",ROW())","v":6},"BEN 19T ",{"$f":"'DATA S1'!V6","v":"V NOC MAINTENON"},{"$f":"IF(COUNTIF('PLANNING PRINCIPAL'!$I$145:$X$145,V6)>=1,\"\",ROW())","v":6},"V NOC MAINTENON"]
[{"$f":"'DATA S1'!A7","v":"BEN 13T "},{"$f":"IF(COUNTIF('PLANNING PRINCIPAL'!$I$125:$X$125,A7)>=1,\"\",ROW())","v":7},"BEN 13T ","BEN 13T ",{"$f":"IF(COUNTIF('PLANNING PRINCIPAL'!$I$128:$X$128,D7)>=1,\"\",ROW())","v":7},"BEN 13T ","BEN 13T ",{"$f":"IF(COUNTIF('PLANNING PRINCIPAL'!$I$131:$X$131,G7)>=1,\"\",ROW())","v":7},"BEN 13T ","BEN 13T ",{"$f":"IF(COUNTIF('PLANNING PRINCIPAL'!$I$134:$X$134,J7)>=1,\"\",ROW())","v":7},"BEN 13T ","BEN 13T ",{"$f":"IF(COUNTIF('PLANNING PRINCIPAL'!$I$137:$X$137,M7)>=1,\"\",ROW())","v":7},"BEN 13T ","BEN 13T ",{"$f":"IF(COUNTIF('PLANNING PRINCIPAL'!$I$140:$X$140,P7)>=1,\"\",ROW())","v":7},"BEN 13T ","BEN 13T ",{"$f":"IF(COUNTIF('PLANNING PRINCIPAL'!$I$120:$X$120,S7)>=1,\"\",ROW())","v":7},"BEN 13T ",null,{"$f":"IF(COUNTIF('PLANNING PRINCIPAL'!$I$145:$X$145,V7)>=1,\"\",ROW())","v":7}]
[{"$f":"'DATA S1'!A8","v":"NAC VL 18M "},{"$f":"IF(COUNTIF('PLANNING PRINCIPAL'!$I$125:$X$125,A8)>=1,\"\",ROW())","v":8},"NAC VL 18M ","NAC VL 18M ",{"$f":"IF(COUNTIF('PLANNING PRINCIPAL'!$I$128:$X$128,D8)>=1,\"\",ROW())","v":8},"NAC VL 18M ","NAC VL 18M ",{"$f":"IF(COUNTIF('PLANNING PRINCIPAL'!$I$131:$X$131,G8)>=1,\"\",ROW())","v":8},"NAC VL 18M ","NAC VL 18M ",{"$f":"IF(COUNTIF('PLANNING PRINCIPAL'!$I$134:$X$134,J8)>=1,\"\",ROW())","v":8},"NAC VL 18M ","NAC VL 18M ",{"$f":"IF(COUNTIF('PLANNING PRINCIPAL'!$I$137:$X$137,M8)>=1,\"\",ROW())","v":8},"NAC VL 18M ","NAC VL 18M ",{"$f":"IF(COUNTIF('PLANNING PRINCIPAL'!$I$140:$X$140,P8)>=1,\"\",ROW())","v":8},"NAC VL 18M ","NAC VL 18M ",{"$f":"IF(COUNTIF('PLANNING PRINCIPAL'!$I$120:$X$120,S8)>=1,\"\",ROW())","v":8},"NAC VL 18M ",null,{"$f":"IF(COUNTIF('PLANNING PRINCIPAL'!$I$145:$X$145,V8)>=1,\"\",ROW())","v":8}]
[{"$f":"'DATA S1'!A9","v":"NAC EGIE"},{"$f":"IF(COUNTIF('PLANNING PRINCIPAL'!$I$125:$X$125,A9)>=1,\"\",ROW())","v":9},"NAC EGIE","NAC EGIE",{"$f":"IF(COUNTIF('PLANNING PRINCIPAL'!$I$128:$X$128,D9)>=1,\"\",ROW())","v":9},"NAC EGIE","NAC EGIE",{"$f":"IF(COUNTIF('PLANNING PRINCIPAL'!$I$131:$X$131,G9)>=1,\"\",ROW())","v":9},"NAC EGIE","NAC EGIE",{"$f":"IF(COUNTIF('PLANNING PRINCIPAL'!$I$134:$X$134,J9)>=1,\"\",ROW())","v":9},"NAC EGIE","NAC EGIE",{"$f":"IF(COUNTIF('PLANNING PRINCIPAL'!$I$137:$X$137,M9)>=1,\"\",ROW())","v":9},"NAC EGIE","NAC EGIE",{"$f":"IF(COUNTIF('PLANNING PRINCIPAL'!$I$140:$X$140,P9)>=1,\"\",ROW())","v":9},"NAC EGIE","NAC EGIE",{"$f":"IF(COUNTIF('PLANNING PRINCIPAL'!$I$120:$X$120,S9)>=1,\"\",ROW())","v":9},"NAC EGIE",null,{"$f":"IF(COUNTIF('PLANNING PRINCIPAL'!$I$145:$X$145,V9)>=1,\"\",ROW())","v":9}]
[{"$f":"'DATA S1'!A10","v":"NAC COMI "},{"$f":"IF(COUNTIF('PLANNING PRINCIPAL'!$I$125:$X$125,A10)>=1,\"\",ROW())","v":10},"NAC COMI ","NAC COMI ",{"$f":"IF(COUNTIF('PLANNING PRINCIPAL'!$I$128:$X$128,D10)>=1,\"\",ROW())","v":10},"NAC COMI ","NAC COMI ",{"$f":"IF(COUNTIF('PLANNING PRINCIPAL'!$I$131:$X$131,G10)>=1,\"\",ROW())","v":10},"NAC COMI ","NAC COMI ",{"$f":"IF(COUNTIF('PLANNING PRINCIPAL'!$I$134:$X$134,J10)>=1,\"\",ROW())","v":10},"NAC COMI ","NAC COMI ",{"$f":"IF(COUNTIF('PLANNING PRINCIPAL'!$I$137:$X$137,M10)>=1,\"\",ROW())","v":10},"NAC COMI ","NAC COMI ",{"$f":"IF(COUNTIF('PLANNING PRINCIPAL'!$I$140:$X$140,P10)>=1,\"\",ROW())","v":10},"NAC COMI ","NAC COMI ",{"$f":"IF(COUNTIF('PLANNING PRINCIPAL'!$I$120:$X$120,S10)>=1,\"\",ROW())","v":10},"NAC COMI ",null,{"$f":"IF(COUNTIF('PLANNING PRINCIPAL'!$I$145:$X$145,V10)>=1,\"\",ROW())","v":10}]
[{"$f":"'DATA S1'!A11","v":"#####LOCATION#####"},{"$f":"IF(COUNTIF('PLANNING PRINCIPAL'!$I$125:$X$125,A11)>=1,\"\",ROW())","v":11},"#####LOCATION#####","#####LOCATION#####",{"$f":"IF(COUNTIF('PLANNING PRINCIPAL'!$I$128:$X$128,D11)>=1,\"\",ROW())","v":11},"#####LOCATION#####","#####LOCATION#####",{"$f":"IF(COUNTIF('PLANNING PRINCIPAL'!$I$131:$X$131,G11)>=1,\"\",ROW())","v":11},"#####LOCATION#####","#####LOCATION#####",{"$f":"IF(COUNTIF('PLANNING PRINCIPAL'!$I$134:$X$134,J11)>=1,\"\",ROW())","v":11},"#####LOCATION#####","#####LOCATION#####",{"$f":"IF(COUNTIF('PLANNING PRINCIPAL'!$I$137:$X$137,M11)>=1,\"\",ROW())","v":11},"#####LOCATION#####","#####LOCATION#####",{"$f":"IF(COUNTIF('PLANNING PRINCIPAL'!$I$140:$X$140,P11)>=1,\"\",ROW())","v":11},"#####LOCATION#####","#####LOCATION#####",{"$f":"IF(COUNTIF('PLANNING PRINCIPAL'!$I$120:$X$120,S11)>=1,\"\",ROW())","v":11},"#####LOCATION#####",null,{"$f":"IF(COUNTIF('PLANNING PRINCIPAL'!$I$145:$X$145,V11)>=1,\"\",ROW())","v":11}]
[{"$f":"'DATA S1'!A12","v":"LOC NAC SOLOMAT"},{"$f":"IF(COUNTIF('PLANNING PRINCIPAL'!$I$125:$X$125,A12)>=1,\"\",ROW())","v":12},"LOC NAC SOLOMAT","LOC NAC SOLOMAT",{"$f":"IF(COUNTIF('PLANNING PRINCIPAL'!$I$128:$X$128,D12)>=1,\"\",ROW())","v":12},"LOC NAC SOLOMAT","LOC NAC SOLOMAT",{"$f":"IF(COUNTIF('PLANNING PRINCIPAL'!$I$131:$X$131,G12)>=1,\"\",ROW())","v":12},"LOC NAC SOLOMAT","LOC NAC SOLOMAT",{"$f":"IF(COUNTIF('PLANNING PRINCIPAL'!$I$134:$X$134,J12)>=1,\"\",ROW())","v":12},"LOC NAC SOLOMAT","LOC NAC SOLOMAT",{"$f":"IF(COUNTIF('PLANNING PRINCIPAL'!$I$137:$X$137,M12)>=1,\"\",ROW())","v":12},"LOC NAC SOLOMAT","LOC NAC SOLOMAT",{"$f":"IF(COUNTIF('PLANNING PRINCIPAL'!$I$140:$X$140,P12)>=1,\"\",ROW())","v":12},"LOC NAC SOLOMAT","LOC NAC SOLOMAT",{"$f":"IF(COUNTIF('PLANNING PRINCIPAL'!$I$120:$X$120,S12)>=1,\"\",ROW())","v":12},"LOC NAC SOLOMAT",null,{"$f":"IF(COUNTIF('PLANNING PRINCIPAL'!$I$145:$X$145,V12)>=1,\"\",ROW())","v":12}]
[{"$f":"'DATA S1'!A13","v":"LOC NAC AEB"},{"$f":"IF(COUNTIF('PLANNING PRINCIPAL'!$I$125:$X$125,A13)>=1,\"\",ROW())","v":13},"LOC NAC AEB","LOC NAC AEB",{"$f":"IF(COUNTIF('PLANNING PRINCIPAL'!$I$128:$X$128,D13)>=1,\"\",ROW())","v":13},"LOC NAC AEB","LOC NAC AEB",{"$f":"IF(COUNTIF('PLANNING PRINCIPAL'!$I$131:$X$131,G13)>=1,\"\",ROW())","v":13},"LOC NAC AEB","LOC NAC AEB",{"$f":"IF(COUNTIF('PLANNING PRINCIPAL'!$I$134:$X$134,J13)>=1,\"\",ROW())","v":13},"LOC NAC AEB","LOC NAC AEB",{"$f":"IF(COUNTIF('PLANNING PRINCIPAL'!$I$137:$X$137,M13)>=1,\"\",ROW())","v":13},"LOC NAC AEB","LOC NAC AEB",{"$f":"IF(COUNTIF('PLANNING PRINCIPAL'!$I$140:$X$140,P13)>=1,\"\",ROW())","v":13},"LOC NAC AEB","LOC NAC AEB",{"$f":"IF(COUNTIF('PLANNING PRINCIPAL'!$I$120:$X$120,S13)>=1,\"\",ROW())","v":13},"LOC NAC AEB",null,{"$f":"IF(COUNTIF('PLANNING PRINCIPAL'!$I$145:$X$145,V13)>=1,\"\",ROW())","v":13}]
[{"$f":"'DATA S1'!A14","v":"LOC NAC INTERLOC"},{"$f":"IF(COUNTIF('PLANNING PRINCIPAL'!$I$125:$X$125,A14)>=1,\"\",ROW())","v":14},"LOC NAC INTERLOC","LOC NAC INTERLOC",{"$f":"IF(COUNTIF('PLANNING PRINCIPAL'!$I$128:$X$128,D14)>=1,\"\",ROW())","v":14},"LOC NAC INTERLOC","LOC NAC INTERLOC",{"$f":"IF(COUNTIF('PLANNING PRINCIPAL'!$I$131:$X$131,G14)>=1,\"\",ROW())","v":14},"LOC NAC INTERLOC","LOC NAC INTERLOC",{"$f":"IF(COUNTIF('PLANNING PRINCIPAL'!$I$134:$X$134,J14)>=1,\"\",ROW())","v":14},"LOC NAC INTERLOC","LOC NAC INTERLOC",{"$f":"IF(COUNTIF('PLANNING PRINCIPAL'!$I$137:$X$137,M14)>=1,\"\",ROW())","v":14},"LOC NAC INTERLOC","LOC NAC INTERLOC",{"$f":"IF(COUNTIF('PLANNING PRINCIPAL'!$I$140:$X$140,P14)>=1,\"\",ROW())","v":14},"LOC NAC INTERLOC","LOC NAC INTERLOC",{"$f":"IF(COUNTIF('PLANNING PRINCIPAL'!$I$120:$X$120,S14)>=1,\"\",ROW())","v":14},"LOC NAC INTERLOC",null,{"$f":"IF(COUNTIF('PLANNING PRINCIPAL'!$I$145:$X$145,V14)>=1,\"\",ROW())","v":14}]
[{"$f":"'DATA S1'!A15","v":"LOC NAC KILOUTOU"},{"$f":"IF(COUNTIF('PLANNING PRINCIPAL'!$I$125:$X$125,A15)>=1,\"\",ROW())","v":15},"LOC NAC KILOUTOU","LOC NAC KILOUTOU",{"$f":"IF(COUNTIF('PLANNING PRINCIPAL'!$I$128:$X$128,D15)>=1,\"\",ROW())","v":15},"LOC NAC KILOUTOU","LOC NAC KILOUTOU",{"$f":"IF(COUNTIF('PLANNING PRINCIPAL'!$I$131:$X$131,G15)>=1,\"\",ROW())","v":15},"LOC NAC KILOUTOU","LOC NAC KILOUTOU",{"$f":"IF(COUNTIF('PLANNING PRINCIPAL'!$I$134:$X$134,J15)>=1,\"\",ROW())","v":15},"LOC NAC KILOUTOU","LOC NAC KILOUTOU",{"$f":"IF(COUNTIF('PLANNING PRINCIPAL'!$I$137:$X$137,M15)>=1,\"\",ROW())","v":15},"LOC NAC KILOUTOU","LOC NAC KILOUTOU",{"$f":"IF(COUNTIF('PLANNING PRINCIPAL'!$I$140:$X$140,P15)>=1,\"\",ROW())","v":15},"LOC NAC KILOUTOU","LOC NAC KILOUTOU",{"$f":"IF(COUNTIF('PLANNING PRINCIPAL'!$I$120:$X$120,S15)>=1,\"\",ROW())","v":15},"LOC NAC KILOUTOU",null,{"$f":"IF(COUNTIF('PLANNING PRINCIPAL'!$I$145:$X$145,V15)>=1,\"\",ROW())","v":15}]
[{"$f":"'DATA S1'!A16","v":"LOC NAC AEB"},{"$f":"IF(COUNTIF('PLANNING PRINCIPAL'!$I$125:$X$125,A16)>=1,\"\",ROW())","v":16},"LOC NAC AEB","LOC NAC AEB",{"$f":"IF(COUNTIF('PLANNING PRINCIPAL'!$I$128:$X$128,D16)>=1,\"\",ROW())","v":16},"LOC NAC AEB","LOC NAC AEB",{"$f":"IF(COUNTIF('PLANNING PRINCIPAL'!$I$131:$X$131,G16)>=1,\"\",ROW())","v":16},"LOC NAC AEB","LOC NAC AEB",{"$f":"IF(COUNTIF('PLANNING PRINCIPAL'!$I$134:$X$134,J16)>=1,\"\",ROW())","v":16},"LOC NAC AEB","LOC NAC AEB",{"$f":"IF(COUNTIF('PLANNING PRINCIPAL'!$I$137:$X$137,M16)>=1,\"\",ROW())","v":16},"LOC NAC AEB","LOC NAC AEB",{"$f":"IF(COUNTIF('PLANNING PRINCIPAL'!$I$140:$X$140,P16)>=1,\"\",ROW())","v":16},"LOC NAC AEB","LOC NAC AEB",{"$f":"IF(COUNTIF('PLANNING PRINCIPAL'!$I$120:$X$120,S16)>=1,\"\",ROW())","v":16},"LOC NAC AEB",null,{"$f":"IF(COUNTIF('PLANNING PRINCIPAL'!$I$145:$X$145,V16)>=1,\"\",ROW())","v":16}]
[{"$f":"'DATA S1'!A17","v":"LOC PELLE SOLOMAT"},{"$f":"IF(COUNTIF('PLANNING PRINCIPAL'!$I$125:$X$125,A17)>=1,\"\",ROW())","v":17},"LOC PELLE SOLOMAT","LOC PELLE SOLOMAT",{"$f":"IF(COUNTIF('PLANNING PRINCIPAL'!$I$128:$X$128,D17)>=1,\"\",ROW())","v":17},"LOC PELLE SOLOMAT","LOC PELLE SOLOMAT",{"$f":"IF(COUNTIF('PLANNING PRINCIPAL'!$I$131:$X$131,G17)>=1,\"\",ROW())","v":17},"LOC PELLE SOLOMAT","LOC PELLE SOLOMAT",{"$f":"IF(COUNTIF('PLANNING PRINCIPAL'!$I$134:$X$134,J17)>=1,\"\",ROW())","v":17},"LOC PELLE SOLOMAT","LOC PELLE SOLOMAT",{"$f":"IF(COUNTIF('PLANNING PRINCIPAL'!$I$137:$X$137,M17)>=1,\"\",ROW())","v":17},"LOC PELLE SOLOMAT","LOC PELLE SOLOMAT",{"$f":"IF(COUNTIF('PLANNING PRINCIPAL'!$I$140:$X$140,P17)>=1,\"\",ROW())","v":17},"LOC PELLE SOLOMAT","LOC PELLE SOLOMAT",{"$f":"IF(COUNTIF('PLANNING PRINCIPAL'!$I$120:$X$120,S17)>=1,\"\",ROW())","v":17},"LOC PELLE SOLOMAT",null,{"$f":"IF(COUNTIF('PLANNING PRINCIPAL'!$I$145:$X$145,V17)>=1,\"\",ROW())","v":17}]
[{"$f":"'DATA S1'!A18","v":"LOC PELLE AEB"},{"$f":"IF(COUNTIF('PLANNING PRINCIPAL'!$I$125:$X$125,A18)>=1,\"\",ROW())","v":18},"LOC PELLE AEB","LOC PELLE AEB",{"$f":"IF(COUNTIF('PLANNING PRINCIPAL'!$I$128:$X$128,D18)>=1,\"\",ROW())","v":18},"LOC PELLE AEB","LOC PELLE AEB",{"$f":"IF(COUNTIF('PLANNING PRINCIPAL'!$I$131:$X$131,G18)>=1,\"\",ROW())","v":18},"LOC PELLE AEB","LOC PELLE AEB",{"$f":"IF(COUNTIF('PLANNING PRINCIPAL'!$I$134:$X$134,J18)>=1,\"\",ROW())","v":18},"LOC PELLE AEB","LOC PELLE AEB",{"$f":"IF(COUNTIF('PLANNING PRINCIPAL'!$I$137:$X$137,M18)>=1,\"\",ROW())","v":18},"LOC PELLE AEB","LOC PELLE AEB",{"$f":"IF(COUNTIF('PLANNING PRINCIPAL'!$I$140:$X$140,P18)>=1,\"\",ROW())","v":18},"LOC PELLE AEB","LOC PELLE AEB",{"$f":"IF(COUNTIF('PLANNING PRINCIPAL'!$I$120:$X$120,S18)>=1,\"\",ROW())","v":18},"LOC PELLE AEB",null,{"$f":"IF(COUNTIF('PLANNING PRINCIPAL'!$I$145:$X$145,V18)>=1,\"\",ROW())","v":18}]
[{"$f":"'DATA S1'!A19","v":"LOC PELLE INTERLOC"},{"$f":"IF(COUNTIF('PLANNING PRINCIPAL'!$I$125:$X$125,A19)>=1,\"\",ROW())","v":19},"LOC PELLE INTERLOC","LOC PELLE INTERLOC",{"$f":"IF(COUNTIF('PLANNING PRINCIPAL'!$I$128:$X$128,D19)>=1,\"\",ROW())","v":19},"LOC PELLE INTERLOC","LOC PELLE INTERLOC",{"$f":"IF(COUNTIF('PLANNING PRINCIPAL'!$I$131:$X$131,G19)>=1,\"\",ROW())","v":19},"LOC PELLE INTERLOC","LOC PELLE INTERLOC",{"$f":"IF(COUNTIF('PLANNING PRINCIPAL'!$I$134:$X$134,J19)>=1,\"\",ROW())","v":19},"LOC PELLE INTERLOC","LOC PELLE INTERLOC",{"$f":"IF(COUNTIF('PLANNING PRINCIPAL'!$I$137:$X$137,M19)>=1,\"\",ROW())","v":19},"LOC PELLE INTERLOC","LOC PELLE INTERLOC",{"$f":"IF(COUNTIF('PLANNING PRINCIPAL'!$I$140:$X$140,P19)>=1,\"\",ROW())","v":19},"LOC PELLE INTERLOC","LOC PELLE INTERLOC",{"$f":"IF(COUNTIF('PLANNING PRINCIPAL'!$I$120:$X$120,S19)>=1,\"\",ROW())","v":19},"LOC PELLE INTERLOC",null,{"$f":"IF(COUNTIF('PLANNING PRINCIPAL'!$I$145:$X$145,V19)>=1,\"\",ROW())","v":19}]
[{"$f":"'DATA S1'!A20","v":"LOC PELLE KILOUTOU"},{"$f":"IF(COUNTIF('PLANNING PRINCIPAL'!$I$125:$X$125,A20)>=1,\"\",ROW())","v":20},"LOC PELLE KILOUTOU","LOC PELLE KILOUTOU",{"$f":"IF(COUNTIF('PLANNING PRINCIPAL'!$I$128:$X$128,D20)>=1,\"\",ROW())","v":20},"LOC PELLE KILOUTOU","LOC PELLE KILOUTOU",{"$f":"IF(COUNTIF('PLANNING PRINCIPAL'!$I$131:$X$131,G20)>=1,\"\",ROW())","v":20},"LOC PELLE KILOUTOU","LOC PELLE KILOUTOU",{"$f":"IF(COUNTIF('PLANNING PRINCIPAL'!$I$134:$X$134,J20)>=1,\"\",ROW())","v":20},"LOC PELLE KILOUTOU","LOC PELLE KILOUTOU",{"$f":"IF(COUNTIF('PLANNING PRINCIPAL'!$I$137:$X$137,M20)>=1,\"\",ROW())","v":20},"LOC PELLE KILOUTOU","LOC PELLE KILOUTOU",{"$f":"IF(COUNTIF('PLANNING PRINCIPAL'!$I$140:$X$140,P20)>=1,\"\",ROW())","v":20},"LOC PELLE KILOUTOU","LOC PELLE KILOUTOU",{"$f":"IF(COUNTIF('PLANNING PRINCIPAL'!$I$120:$X$120,S20)>=1,\"\",ROW())","v":20},"LOC PELLE KILOUTOU",null,{"$f":"IF(COUNTIF('PLANNING PRINCIPAL'!$I$145:$X$145,V20)>=1,\"\",ROW())","v":20}]
[null,{"$f":"IF(COUNTIF('PLANNING PRINCIPAL'!$I$125:$X$125,A21)>=1,\"\",ROW())","v":21},null,null,{"$f":"IF(COUNTIF('PLANNING PRINCIPAL'!$I$128:$X$128,D21)>=1,\"\",ROW())","v":21},null,null,{"$f":"IF(COUNTIF('PLANNING PRINCIPAL'!$I$131:$X$131,G21)>=1,\"\",ROW())","v":21},null,null,{"$f":"IF(COUNTIF('PLANNING PRINCIPAL'!$I$134:$X$134,J21)>=1,\"\",ROW())","v":21},null,null,{"$f":"IF(COUNTIF('PLANNING PRINCIPAL'!$I$137:$X$137,M21)>=1,\"\",ROW())","v":21},null,null,{"$f":"IF(COUNTIF('PLANNING PRINCIPAL'!$I$140:$X$140,P21)>=1,\"\",ROW())","v":21},null,null,{"$f":"IF(COUNTIF('PLANNING PRINCIPAL'!$I$120:$X$120,S21)>=1,\"\",ROW())","v":21},null,null,{"$f":"IF(COUNTIF('PLANNING PRINCIPAL'!$I$145:$X$145,V21)>=1,\"\",ROW())","v":21}]
[null,{"$f":"IF(COUNTIF('PLANNING PRINCIPAL'!$I$125:$X$125,A22)>=1,\"\",ROW())","v":22},null,null,{"$f":"IF(COUNTIF('PLANNING PRINCIPAL'!$I$128:$X$128,D22)>=1,\"\",ROW())","v":22},null,null,{"$f":"IF(COUNTIF('PLANNING PRINCIPAL'!$I$131:$X$131,G22)>=1,\"\",ROW())","v":22},null,null,{"$f":"IF(COUNTIF('PLANNING PRINCIPAL'!$I$134:$X$134,J22)>=1,\"\",ROW())","v":22},null,null,{"$f":"IF(COUNTIF('PLANNING PRINCIPAL'!$I$137:$X$137,M22)>=1,\"\",ROW())","v":22},null,null,{"$f":"IF(COUNTIF('PLANNING PRINCIPAL'!$I$140:$X$140,P22)>=1,\"\",ROW())","v":22},null,null,{"$f":"IF(COUNTIF('PLANNING PRINCIPAL'!$I$120:$X$120,S22)>=1,\"\",ROW())","v":22},null,null,{"$f":"IF(COUNTIF('PLANNING PRINCIPAL'!$I$145:$X$145,V22)>=1,\"\",ROW())","v":22}]
[null,{"$f":"IF(COUNTIF('PLANNING PRINCIPAL'!$I$125:$X$125,A23)>=1,\"\",ROW())","v":23},null,null,{"$f":"IF(COUNTIF('PLANNING PRINCIPAL'!$I$128:$X$128,D23)>=1,\"\",ROW())","v":23},null,null,{"$f":"IF(COUNTIF('PLANNING PRINCIPAL'!$I$131:$X$131,G23)>=1,\"\",ROW())","v":23},null,null,{"$f":"IF(COUNTIF('PLANNING PRINCIPAL'!$I$134:$X$134,J23)>=1,\"\",ROW())","v":23},null,null,{"$f":"IF(COUNTIF('PLANNING PRINCIPAL'!$I$137:$X$137,M23)>=1,\"\",ROW())","v":23},null,null,{"$f":"IF(COUNTIF('PLANNING PRINCIPAL'!$I$140:$X$140,P23)>=1,\"\",ROW())","v":23},null,null,{"$f":"IF(COUNTIF('PLANNING PRINCIPAL'!$I$120:$X$120,S23)>=1,\"\",ROW())","v":23},null,null,{"$f":"IF(COUNTIF('PLANNING PRINCIPAL'!$I$145:$X$145,V23)>=1,\"\",ROW())","v":23}]
[null,{"$f":"IF(COUNTIF('PLANNING PRINCIPAL'!$I$125:$X$125,A24)>=1,\"\",ROW())","v":24},null,null,{"$f":"IF(COUNTIF('PLANNING PRINCIPAL'!$I$128:$X$128,D24)>=1,\"\",ROW())","v":24},null,null,{"$f":"IF(COUNTIF('PLANNING PRINCIPAL'!$I$131:$X$131,G24)>=1,\"\",ROW())","v":24},null,null,{"$f":"IF(COUNTIF('PLANNING PRINCIPAL'!$I$134:$X$134,J24)>=1,\"\",ROW())","v":24},null,null,{"$f":"IF(COUNTIF('PLANNING PRINCIPAL'!$I$137:$X$137,M24)>=1,\"\",ROW())","v":24},null,null,{"$f":"IF(COUNTIF('PLANNING PRINCIPAL'!$I$140:$X$140,P24)>=1,\"\",ROW())","v":24},null,null,{"$f":"IF(COUNTIF('PLANNING PRINCIPAL'!$I$120:$X$120,S24)>=1,\"\",ROW())","v":24},null,null,{"$f":"IF(COUNTIF('PLANNING PRINCIPAL'!$I$145:$X$145,V24)>=1,\"\",ROW())","v":24}]
[null,{"$f":"IF(COUNTIF('PLANNING PRINCIPAL'!$I$125:$X$125,A25)>=1,\"\",ROW())","v":25},null,null,{"$f":"IF(COUNTIF('PLANNING PRINCIPAL'!$I$128:$X$128,D25)>=1,\"\",ROW())","v":25},null,null,{"$f":"IF(COUNTIF('PLANNING PRINCIPAL'!$I$131:$X$131,G25)>=1,\"\",ROW())","v":25},null,null,{"$f":"IF(COUNTIF('PLANNING PRINCIPAL'!$I$134:$X$134,J25)>=1,\"\",ROW())","v":25},null,null,{"$f":"IF(COUNTIF('PLANNING PRINCIPAL'!$I$137:$X$137,M25)>=1,\"\",ROW())","v":25},null,null,{"$f":"IF(COUNTIF('PLANNING PRINCIPAL'!$I$140:$X$140,P25)>=1,\"\",ROW())","v":25},null,null,{"$f":"IF(COUNTIF('PLANNING PRINCIPAL'!$I$120:$X$120,S25)>=1,\"\",ROW())","v":25},null,null,{"$f":"IF(COUNTIF('PLANNING PRINCIPAL'!$I$145:$X$145,V25)>=1,\"\",ROW())","v":25}]
[null,{"$f":"IF(COUNTIF('PLANNING PRINCIPAL'!$I$125:$X$125,A26)>=1,\"\",ROW())","v":26},null,null,{"$f":"IF(COUNTIF('PLANNING PRINCIPAL'!$I$128:$X$128,D26)>=1,\"\",ROW())","v":26},null,null,{"$f":"IF(COUNTIF('PLANNING PRINCIPAL'!$I$131:$X$131,G26)>=1,\"\",ROW())","v":26},null,null,{"$f":"IF(COUNTIF('PLANNING PRINCIPAL'!$I$134:$X$134,J26)>=1,\"\",ROW())","v":26},null,null,{"$f":"IF(COUNTIF('PLANNING PRINCIPAL'!$I$137:$X$137,M26)>=1,\"\",ROW())","v":26},null,null,{"$f":"IF(COUNTIF('PLANNING PRINCIPAL'!$I$140:$X$140,P26)>=1,\"\",ROW())","v":26},null,null,{"$f":"IF(COUNTIF('PLANNING PRINCIPAL'!$I$120:$X$120,S26)>=1,\"\",ROW())","v":26},null,null,{"$f":"IF(COUNTIF('PLANNING PRINCIPAL'!$I$145:$X$145,V26)>=1,\"\",ROW())","v":26}]
[null,{"$f":"IF(COUNTIF('PLANNING PRINCIPAL'!$I$125:$X$125,A27)>=1,\"\",ROW())","v":27},null,null,{"$f":"IF(COUNTIF('PLANNING PRINCIPAL'!$I$128:$X$128,D27)>=1,\"\",ROW())","v":27},null,null,{"$f":"IF(COUNTIF('PLANNING PRINCIPAL'!$I$131:$X$131,G27)>=1,\"\",ROW())","v":27},null,null,{"$f":"IF(COUNTIF('PLANNING PRINCIPAL'!$I$134:$X$134,J27)>=1,\"\",ROW())","v":27},null,null,{"$f":"IF(COUNTIF('PLANNING PRINCIPAL'!$I$137:$X$137,M27)>=1,\"\",ROW())","v":27},null,null,{"$f":"IF(COUNTIF('PLANNING PRINCIPAL'!$I$140:$X$140,P27)>=1,\"\",ROW())","v":27},null,null,{"$f":"IF(COUNTIF('PLANNING PRINCIPAL'!$I$120:$X$120,S27)>=1,\"\",ROW())","v":27},null,null,{"$f":"IF(COUNTIF('PLANNING PRINCIPAL'!$I$145:$X$145,V27)>=1,\"\",ROW())","v":27}]
[null,{"$f":"IF(COUNTIF('PLANNING PRINCIPAL'!$I$125:$X$125,A28)>=1,\"\",ROW())","v":28},null,null,{"$f":"IF(COUNTIF('PLANNING PRINCIPAL'!$I$128:$X$128,D28)>=1,\"\",ROW())","v":28},null,null,{"$f":"IF(COUNTIF('PLANNING PRINCIPAL'!$I$131:$X$131,G28)>=1,\"\",ROW())","v":28},null,null,{"$f":"IF(COUNTIF('PLANNING PRINCIPAL'!$I$134:$X$134,J28)>=1,\"\",ROW())","v":28},null,null,{"$f":"IF(COUNTIF('PLANNING PRINCIPAL'!$I$137:$X$137,M28)>=1,\"\",ROW())","v":28},null,null,{"$f":"IF(COUNTIF('PLANNING PRINCIPAL'!$I$140:$X$140,P28)>=1,\"\",ROW())","v":28},null,null,{"$f":"IF(COUNTIF('PLANNING PRINCIPAL'!$I$120:$X$120,S28)>=1,\"\",ROW())","v":28},null,null,{"$f":"IF(COUNTIF('PLANNING PRINCIPAL'!$I$145:$X$145,V28)>=1,\"\",ROW())","v":28}]
[null,{"$f":"IF(COUNTIF('PLANNING PRINCIPAL'!$I$125:$X$125,A29)>=1,\"\",ROW())","v":29},null,null,{"$f":"IF(COUNTIF('PLANNING PRINCIPAL'!$I$128:$X$128,D29)>=1,\"\",ROW())","v":29},null,null,{"$f":"IF(COUNTIF('PLANNING PRINCIPAL'!$I$131:$X$131,G29)>=1,\"\",ROW())","v":29},null,null,{"$f":"IF(COUNTIF('PLANNING PRINCIPAL'!$I$134:$X$134,J29)>=1,\"\",ROW())","v":29},null,null,{"$f":"IF(COUNTIF('PLANNING PRINCIPAL'!$I$137:$X$137,M29)>=1,\"\",ROW())","v":29},null,null,{"$f":"IF(COUNTIF('PLANNING PRINCIPAL'!$I$140:$X$140,P29)>=1,\"\",ROW())","v":29},null,null,{"$f":"IF(COUNTIF('PLANNING PRINCIPAL'!$I$120:$X$120,S29)>=1,\"\",ROW())","v":29},null,null,{"$f":"IF(COUNTIF('PLANNING PRINCIPAL'!$I$145:$X$145,V29)>=1,\"\",ROW())","v":29}]
[null,{"$f":"IF(COUNTIF('PLANNING PRINCIPAL'!$I$125:$X$125,A30)>=1,\"\",ROW())","v":30},null,null,{"$f":"IF(COUNTIF('PLANNING PRINCIPAL'!$I$128:$X$128,D30)>=1,\"\",ROW())","v":30},null,null,{"$f":"IF(COUNTIF('PLANNING PRINCIPAL'!$I$131:$X$131,G30)>=1,\"\",ROW())","v":30},null,null,{"$f":"IF(COUNTIF('PLANNING PRINCIPAL'!$I$134:$X$134,J30)>=1,\"\",ROW())","v":30},null,null,{"$f":"IF(COUNTIF('PLANNING PRINCIPAL'!$I$137:$X$137,M30)>=1,\"\",ROW())","v":30},null,null,{"$f":"IF(COUNTIF('PLANNING PRINCIPAL'!$I$140:$X$140,P30)>=1,\"\",ROW())","v":30},null,null,{"$f":"IF(COUNTIF('PLANNING PRINCIPAL'!$I$120:$X$120,S30)>=1,\"\",ROW())","v":30},null,null,{"$f":"IF(COUNTIF('PLANNING PRINCIPAL'!$I$145:$X$145,V30)>=1,\"\",ROW())","v":30}]
[null,{"$f":"IF(COUNTIF('PLANNING PRINCIPAL'!$I$125:$X$125,A31)>=1,\"\",ROW())","v":31},null,null,{"$f":"IF(COUNTIF('PLANNING PRINCIPAL'!$I$128:$X$128,D31)>=1,\"\",ROW())","v":31},null,null,{"$f":"IF(COUNTIF('PLANNING PRINCIPAL'!$I$131:$X$131,G31)>=1,\"\",ROW())","v":31},null,null,{"$f":"IF(COUNTIF('PLANNING PRINCIPAL'!$I$134:$X$134,J31)>=1,\"\",ROW())","v":31},null,null,{"$f":"IF(COUNTIF('PLANNING PRINCIPAL'!$I$137:$X$137,M31)>=1,\"\",ROW())","v":31},null,null,{"$f":"IF(COUNTIF('PLANNING PRINCIPAL'!$I$140:$X$140,P31)>=1,\"\",ROW())","v":31},null,null,{"$f":"IF(COUNTIF('PLANNING PRINCIPAL'!$I$120:$X$120,S31)>=1,\"\",ROW())","v":31},null,null,{"$f":"IF(COUNTIF('PLANNING PRINCIPAL'!$I$145:$X$145,V31)>=1,\"\",ROW())","v":31}]
[null,{"$f":"IF(COUNTIF('PLANNING PRINCIPAL'!$I$125:$X$125,A32)>=1,\"\",ROW())","v":32},null,null,{"$f":"IF(COUNTIF('PLANNING PRINCIPAL'!$I$128:$X$128,D32)>=1,\"\",ROW())","v":32},null,null,{"$f":"IF(COUNTIF('PLANNING PRINCIPAL'!$I$131:$X$131,G32)>=1,\"\",ROW())","v":32},null,null,{"$f":"IF(COUNTIF('PLANNING PRINCIPAL'!$I$134:$X$134,J32)>=1,\"\",ROW())","v":32},null,null,{"$f":"IF(COUNTIF('PLANNING PRINCIPAL'!$I$137:$X$137,M32)>=1,\"\",ROW())","v":32},null,null,{"$f":"IF(COUNTIF('PLANNING PRINCIPAL'!$I$140:$X$140,P32)>=1,\"\",ROW())","v":32},null,null,{"$f":"IF(COUNTIF('PLANNING PRINCIPAL'!$I$120:$X$120,S32)>=1,\"\",ROW())","v":32},null,null,{"$f":"IF(COUNTIF('PLANNING PRINCIPAL'!$I$145:$X$145,V32)>=1,\"\",ROW())","v":32}]
[null,{"$f":"IF(COUNTIF('PLANNING PRINCIPAL'!$I$125:$X$125,A33)>=1,\"\",ROW())","v":33},null,null,{"$f":"IF(COUNTIF('PLANNING PRINCIPAL'!$I$128:$X$128,D33)>=1,\"\",ROW())","v":33},null,null,{"$f":"IF(COUNTIF('PLANNING PRINCIPAL'!$I$131:$X$131,G33)>=1,\"\",ROW())","v":33},null,null,{"$f":"IF(COUNTIF('PLANNING PRINCIPAL'!$I$134:$X$134,J33)>=1,\"\",ROW())","v":33},null,null,{"$f":"IF(COUNTIF('PLANNING PRINCIPAL'!$I$137:$X$137,M33)>=1,\"\",ROW())","v":33},null,null,{"$f":"IF(COUNTIF('PLANNING PRINCIPAL'!$I$140:$X$140,P33)>=1,\"\",ROW())","v":33},null,null,{"$f":"IF(COUNTIF('PLANNING PRINCIPAL'!$I$120:$X$120,S33)>=1,\"\",ROW())","v":33},null,null,{"$f":"IF(COUNTIF('PLANNING PRINCIPAL'!$I$145:$X$145,V33)>=1,\"\",ROW())","v":33}]
[null,{"$f":"IF(COUNTIF('PLANNING PRINCIPAL'!$I$125:$X$125,A34)>=1,\"\",ROW())","v":34},null,null,{"$f":"IF(COUNTIF('PLANNING PRINCIPAL'!$I$128:$X$128,D34)>=1,\"\",ROW())","v":34},null,null,{"$f":"IF(COUNTIF('PLANNING PRINCIPAL'!$I$131:$X$131,G34)>=1,\"\",ROW())","v":34},null,null,{"$f":"IF(COUNTIF('PLANNING PRINCIPAL'!$I$134:$X$134,J34)>=1,\"\",ROW())","v":34},null,null,{"$f":"IF(COUNTIF('PLANNING PRINCIPAL'!$I$137:$X$137,M34)>=1,\"\",ROW())","v":34},null,null,{"$f":"IF(COUNTIF('PLANNING PRINCIPAL'!$I$140:$X$140,P34)>=1,\"\",ROW())","v":34},null,null,{"$f":"IF(COUNTIF('PLANNING PRINCIPAL'!$I$120:$X$120,S34)>=1,\"\",ROW())","v":34},null,null,{"$f":"IF(COUNTIF('PLANNING PRINCIPAL'!$I$145:$X$145,V34)>=1,\"\",ROW())","v":34}]
["LUNDI",null,null,"MARDI",null,null,"MERCREDI",null,null,"JEUDI",null,null,"VENDREDI",null,null,"SAMEDI",null,null,"DIMANCHE",null,null,"ASTREINTE"]

{"sheet":"DATA S7","index":8,"n_rows":35,"n_cols":24,"rows_kept":35,"cut":false,"hidden":false,"merged":[[34,18,34,20],[34,21,34,23],[34,0,34,2],[34,3,34,5],[34,6,34,8],[34,9,34,11],[34,12,34,14],[34,15,34,17]]}
[{"$f":"'DATA S1'!A1","v":"MAS XX "},{"$f":"IF(COUNTIF('PLANNING PRINCIPAL'!$I$148:$X$148,A1)>=1,\"\",ROW())","v":1},{"$f":"IF(ROW(A1)-ROW(A$1)+1>COUNT(B:B),\"\", INDEX(A:A,SMALL(B:B,1+ROW(A1)-ROW(A$1))))","v":"MAS XX "},{"$f":"A1","v":"MAS XX "},{"$f":"IF(COUNTIF('PLANNING PRINCIPAL'!$I$151:$X$151,D1)>=1,\"\",ROW())","v":1},{"$f":"IF(ROW(D1)-ROW(D$1)+1>COUNT(E:E),\"\", INDEX(D:D,SMALL(E:E,1+ROW(D1)-ROW(D$1))))","v":"MAS XX "},{"$f":"A1","v":"MAS XX "},{"$f":"IF(COUNTIF('PLANNING PRINCIPAL'!$I$154:$X$154,G1)>=1,\"\",ROW())","v":1},{"$f":"IF(ROW(G1)-ROW(G$1)+1>COUNT(H:H),\"\", INDEX(G:G,SMALL(H:H,1+ROW(G1)-ROW(G$1))))","v":"MAS XX "},{"$f":"A1","v":"MAS XX "},{"$f":"IF(COUNTIF('PLANNING PRINCIPAL'!$I$157:$X$157,J1)>=1,\"\",ROW())","v":1},{"$f":"IF(ROW(J1)-ROW(J$1)+1>COUNT(K:K),\"\", INDEX(J:J,SMALL(K:K,1+ROW(J1)-ROW(J$1))))","v":"MAS XX "},{"$f":"A1","v":"MAS XX "},{"$f":"IF(COUNTIF('PLANNING PRINCIPAL'!$I$160:$X$160,M1)>=1,\"\",ROW())","v":1},{"$f":"IF(ROW(M1)-ROW(M$1)+1>COUNT(N:N),\"\", INDEX(M:M,SMALL(N:N,1+ROW(M1)-ROW(M$1))))","v":"MAS XX "},{"$f":"A1","v":"MAS XX "},{"$f":"IF(COUNTIF('PLANNING PRINCIPAL'!$I$163:$X$163,P1)>=1,\"\",ROW())","v":1},{"$f":"IF(ROW(P1)-ROW(P$1)+1>COUNT(Q:Q),\"\", INDEX(P:P,SMALL(Q:Q,1+ROW(P1)-ROW(P$1))))","v":"MAS XX "},{"$f":"A1","v":"MAS XX "},{"$f":"IF(COUNTIF('PLANNING PRINCIPAL'!$I$166:$X$166,S1)>=1,\"\",ROW())","v":1},{"$f":"IF(ROW(S1)-ROW(S$1)+1>COUNT(T:T),\"\", INDEX(S:S,SMALL(T:T,1+ROW(S1)-ROW(S$1))))","v":"MAS XX "},{"$f":"'DATA S1'!V1","v":"ASTREINTE SLT"},{"$f":"IF(COUNTIF('PLANNING PRINCIPAL'!$I$168:$X$168,V1)>=1,\"\",ROW())","v":1},{"$f":"IF(ROW(V1)-ROW(V$1)+1>COUNT(W:W),\"\", INDEX(V:V,SMALL(W:W,1+ROW(V1)-ROW(V$1))))","v":"ASTREINTE SLT"}]
[{"$f":"'DATA S1'!A2","v":"MAS YY "},{"$f":"IF(COUNTIF('PLANNING PRINCIPAL'!$I$148:$X$148,A2)>=1,\"\",ROW())","v":2},{"$f":"IF(ROW(A2)-ROW(A$1)+1>COUNT(B:B),\"\", INDEX(A:A,SMALL(B:B,1+ROW(A2)-ROW(A$1))))","v":"MAS YY "},"MAS YY ",{"$f":"IF(COUNTIF('PLANNING PRINCIPAL'!$I$151:$X$151,D2)>=1,\"\",ROW())","v":2},{"$f":"IF(ROW(D2)-ROW(D$1)+1>COUNT(E:E),\"\", INDEX(D:D,SMALL(E:E,1+ROW(D2)-ROW(D$1))))","v":"MAS YY "},{"$f":"A2","v":"MAS YY "},{"$f":"IF(COUNTIF('PLANNING PRINCIPAL'!$I$154:$X$154,G2)>=1,\"\",ROW())","v":2},{"$f":"IF(ROW(G2)-ROW(G$1)+1>COUNT(H:H),\"\", INDEX(G:G,SMALL(H:H,1+ROW(G2)-ROW(G$1))))","v":"MAS YY "},{"$f":"A2","v":"MAS YY "},{"$f":"IF(COUNTIF('PLANNING PRINCIPAL'!$I$157:$X$157,J2)>=1,\"\",ROW())","v":2},{"$f":"IF(ROW(J2)-ROW(J$1)+1>COUNT(K:K),\"\", INDEX(J:J,SMALL(K:K,1+ROW(J2)-ROW(J$1))))","v":"MAS YY "},{"$f":"A2","v":"MAS YY "},{"$f":"IF(COUNTIF('PLANNING PRINCIPAL'!$I$160:$X$160,M2)>=1,\"\",ROW())","v":2},{"$f":"IF(ROW(M2)-ROW(M$1)+1>COUNT(N:N),\"\", INDEX(M:M,SMALL(N:N,1+ROW(M2)-ROW(M$1))))","v":"MAS YY "},{"$f":"A2","v":"MAS YY "},{"$f":"IF(COUNTIF('PLANNING PRINCIPAL'!$I$163:$X$163,P2)>=1,\"\",ROW())","v":2},{"$f":"IF(ROW(P2)-ROW(P$1)+1>COUNT(Q:Q),\"\", INDEX(P:P,SMALL(Q:Q,1+ROW(P2)-ROW(P$1))))","v":"MAS YY "},{"$f":"A2","v":"MAS YY "},{"$f":"IF(COUNTIF('PLANNING PRINCIPAL'!$I$166:$X$166,S2)>=1,\"\",ROW())","v":2},{"$f":"IF(ROW(S2)-ROW(S$1)+1>COUNT(T:T),\"\", INDEX(S:S,SMALL(T:T,1+ROW(S2)-ROW(S$1))))","v":"MAS YY "},{"$f":"'DATA S1'!V2","v":"ASTREINTE EP"},{"$f":"IF(COUNTIF('PLANNING PRINCIPAL'!$I$168:$X$168,V2)>=1,\"\",ROW())","v":2},{"$f":"IF(ROW(V2)-ROW(V$1)+1>COUNT(W:W),\"\", INDEX(V:V,SMALL(W:W,1+ROW(V2)-ROW(V$1))))","v":"ASTREINTE EP"}]
[{"$f":"'DATA S1'!A3","v":"MAS VQ "},{"$f":"IF(COUNTIF('PLANNING PRINCIPAL'!$I$148:$X$148,A3)>=1,\"\",ROW())","v":3},"MAS VQ ","MAS VQ ",{"$f":"IF(COUNTIF('PLANNING PRINCIPAL'!$I$151:$X$151,D3)>=1,\"\",ROW())","v":3},"MAS VQ ","MAS VQ ",{"$f":"IF(COUNTIF('PLANNING PRINCIPAL'!$I$154:$X$154,G3)>=1,\"\",ROW())","v":3},"MAS VQ ","MAS VQ ",{"$f":"IF(COUNTIF('PLANNING PRINCIPAL'!$I$157:$X$157,J3)>=1,\"\",ROW())","v":3},"MAS VQ ","MAS VQ ",{"$f":"IF(COUNTIF('PLANNING PRINCIPAL'!$I$160:$X$160,M3)>=1,\"\",ROW())","v":3},"MAS VQ ","MAS VQ ",{"$f":"IF(COUNTIF('PLANNING PRINCIPAL'!$I$163:$X$163,P3)>=1,\"\",ROW())","v":3},"MAS VQ ","MAS VQ ",{"$f":"IF(COUNTIF('PLANNING PRINCIPAL'!$I$166:$X$166,S3)>=1,\"\",ROW())","v":3},"MAS VQ ",{"$f":"'DATA S1'!V3","v":"V NOC CHARTRES"},{"$f":"IF(COUNTIF('PLANNING PRINCIPAL'!$I$168:$X$168,V3)>=1,\"\",ROW())","v":3},"V NOC CHARTRES"]
[{"$f":"'DATA S1'!A4","v":"MAS PL "},{"$f":"IF(COUNTIF('PLANNING PRINCIPAL'!$I$148:$X$148,A4)>=1,\"\",ROW())","v":4},"MAS PL ","MAS PL ",{"$f":"IF(COUNTIF('PLANNING PRINCIPAL'!$I$151:$X$151,D4)>=1,\"\",ROW())","v":4},"MAS PL ","MAS PL ",{"$f":"IF(COUNTIF('PLANNING PRINCIPAL'!$I$154:$X$154,G4)>=1,\"\",ROW())","v":4},"MAS PL ","MAS PL ",{"$f":"IF(COUNTIF('PLANNING PRINCIPAL'!$I$157:$X$157,J4)>=1,\"\",ROW())","v":4},"MAS PL ","MAS PL ",{"$f":"IF(COUNTIF('PLANNING PRINCIPAL'!$I$160:$X$160,M4)>=1,\"\",ROW())","v":4},"MAS PL ","MAS PL ",{"$f":"IF(COUNTIF('PLANNING PRINCIPAL'!$I$163:$X$163,P4)>=1,\"\",ROW())","v":4},"MAS PL ","MAS PL ",{"$f":"IF(COUNTIF('PLANNING PRINCIPAL'!$I$166:$X$166,S4)>=1,\"\",ROW())","v":4},"MAS PL ",{"$f":"'DATA S1'!V4","v":"V NOC EPERNON"},{"$f":"IF(COUNTIF('PLANNING PRINCIPAL'!$I$168:$X$168,V4)>=1,\"\",ROW())","v":4},"V NOC EPERNON"]
[{"$f":"'DATA S1'!A5","v":"BEN VL PT "},{"$f":"IF(COUNTIF('PLANNING PRINCIPAL'!$I$148:$X$148,A5)>=1,\"\",ROW())","v":5},"BEN VL PT ","BEN VL PT ",{"$f":"IF(COUNTIF('PLANNING PRINCIPAL'!$I$151:$X$151,D5)>=1,\"\",ROW())","v":5},"BEN VL PT ","BEN VL PT ",{"$f":"IF(COUNTIF('PLANNING PRINCIPAL'!$I$154:$X$154,G5)>=1,\"\",ROW())","v":5},"BEN VL PT ","BEN VL PT ",{"$f":"IF(COUNTIF('PLANNING PRINCIPAL'!$I$157:$X$157,J5)>=1,\"\",ROW())","v":5},"BEN VL PT ","BEN VL PT ",{"$f":"IF(COUNTIF('PLANNING PRINCIPAL'!$I$160:$X$160,M5)>=1,\"\",ROW())","v":5},"BEN VL PT ","BEN VL PT ",{"$f":"IF(COUNTIF('PLANNING PRINCIPAL'!$I$163:$X$163,P5)>=1,\"\",ROW())","v":5},"BEN VL PT ","BEN VL PT ",{"$f":"IF(COUNTIF('PLANNING PRINCIPAL'!$I$166:$X$166,S5)>=1,\"\",ROW())","v":5},"BEN VL PT ",{"$f":"'DATA S1'!V5","v":"V NOC HANCHES"},{"$f":"IF(COUNTIF('PLANNING PRINCIPAL'!$I$168:$X$168,V5)>=1,\"\",ROW())","v":5},"V NOC HANCHES"]
[{"$f":"'DATA S1'!A6","v":"BEN 19T "},{"$f":"IF(COUNTIF('PLANNING PRINCIPAL'!$I$148:$X$148,A6)>=1,\"\",ROW())","v":6},"BEN 19T ","BEN 19T ",{"$f":"IF(COUNTIF('PLANNING PRINCIPAL'!$I$151:$X$151,D6)>=1,\"\",ROW())","v":6},"BEN 19T ","BEN 19T ",{"$f":"IF(COUNTIF('PLANNING PRINCIPAL'!$I$154:$X$154,G6)>=1,\"\",ROW())","v":6},"BEN 19T ","BEN 19T ",{"$f":"IF(COUNTIF('PLANNING PRINCIPAL'!$I$157:$X$157,J6)>=1,\"\",ROW())","v":6},"BEN 19T ","BEN 19T ",{"$f":"IF(COUNTIF('PLANNING PRINCIPAL'!$I$160:$X$160,M6)>=1,\"\",ROW())","v":6},"BEN 19T ","BEN 19T ",{"$f":"IF(COUNTIF('PLANNING PRINCIPAL'!$I$163:$X$163,P6)>=1,\"\",ROW())","v":6},"BEN 19T ","BEN 19T ",{"$f":"IF(COUNTIF('PLANNING PRINCIPAL'!$I$166:$X$166,S6)>=1,\"\",ROW())","v":6},"BEN 19T ",{"$f":"'DATA S1'!V6","v":"V NOC MAINTENON"},{"$f":"IF(COUNTIF('PLANNING PRINCIPAL'!$I$168:$X$168,V6)>=1,\"\",ROW())","v":6},"V NOC MAINTENON"]
[{"$f":"'DATA S1'!A7","v":"BEN 13T "},{"$f":"IF(COUNTIF('PLANNING PRINCIPAL'!$I$148:$X$148,A7)>=1,\"\",ROW())","v":7},"BEN 13T ","BEN 13T ",{"$f":"IF(COUNTIF('PLANNING PRINCIPAL'!$I$151:$X$151,D7)>=1,\"\",ROW())","v":7},"BEN 13T ","BEN 13T ",{"$f":"IF(COUNTIF('PLANNING PRINCIPAL'!$I$154:$X$154,G7)>=1,\"\",ROW())","v":7},"BEN 13T ","BEN 13T ",{"$f":"IF(COUNTIF('PLANNING PRINCIPAL'!$I$157:$X$157,J7)>=1,\"\",ROW())","v":7},"BEN 13T ","BEN 13T ",{"$f":"IF(COUNTIF('PLANNING PRINCIPAL'!$I$160:$X$160,M7)>=1,\"\",ROW())","v":7},"BEN 13T ","BEN 13T ",{"$f":"IF(COUNTIF('PLANNING PRINCIPAL'!$I$163:$X$163,P7)>=1,\"\",ROW())","v":7},"BEN 13T ","BEN 13T ",{"$f":"IF(COUNTIF('PLANNING PRINCIPAL'!$I$166:$X$166,S7)>=1,\"\",ROW())","v":7},"BEN 13T ",null,{"$f":"IF(COUNTIF('PLANNING PRINCIPAL'!$I$168:$X$168,V7)>=1,\"\",ROW())","v":7}]
[{"$f":"'DATA S1'!A8","v":"NAC VL 18M "},{"$f":"IF(COUNTIF('PLANNING PRINCIPAL'!$I$148:$X$148,A8)>=1,\"\",ROW())","v":8},"NAC VL 18M ","NAC VL 18M ",{"$f":"IF(COUNTIF('PLANNING PRINCIPAL'!$I$151:$X$151,D8)>=1,\"\",ROW())","v":8},"NAC VL 18M ","NAC VL 18M ",{"$f":"IF(COUNTIF('PLANNING PRINCIPAL'!$I$154:$X$154,G8)>=1,\"\",ROW())","v":8},"NAC VL 18M ","NAC VL 18M ",{"$f":"IF(COUNTIF('PLANNING PRINCIPAL'!$I$157:$X$157,J8)>=1,\"\",ROW())","v":8},"NAC VL 18M ","NAC VL 18M ",{"$f":"IF(COUNTIF('PLANNING PRINCIPAL'!$I$160:$X$160,M8)>=1,\"\",ROW())","v":8},"NAC VL 18M ","NAC VL 18M ",{"$f":"IF(COUNTIF('PLANNING PRINCIPAL'!$I$163:$X$163,P8)>=1,\"\",ROW())","v":8},"NAC VL 18M ","NAC VL 18M ",{"$f":"IF(COUNTIF('PLANNING PRINCIPAL'!$I$166:$X$166,S8)>=1,\"\",ROW())","v":8},"NAC VL 18M ",null,{"$f":"IF(COUNTIF('PLANNING PRINCIPAL'!$I$168:$X$168,V8)>=1,\"\",ROW())","v":8}]
[{"$f":"'DATA S1'!A9","v":"NAC EGIE"},{"$f":"IF(COUNTIF('PLANNING PRINCIPAL'!$I$148:$X$148,A9)>=1,\"\",ROW())","v":9},"NAC EGIE","NAC EGIE",{"$f":"IF(COUNTIF('PLANNING PRINCIPAL'!$I$151:$X$151,D9)>=1,\"\",ROW())","v":9},"NAC EGIE","NAC EGIE",{"$f":"IF(COUNTIF('PLANNING PRINCIPAL'!$I$154:$X$154,G9)>=1,\"\",ROW())","v":9},"NAC EGIE","NAC EGIE",{"$f":"IF(COUNTIF('PLANNING PRINCIPAL'!$I$157:$X$157,J9)>=1,\"\",ROW())","v":9},"NAC EGIE","NAC EGIE",{"$f":"IF(COUNTIF('PLANNING PRINCIPAL'!$I$160:$X$160,M9)>=1,\"\",ROW())","v":9},"NAC EGIE","NAC EGIE",{"$f":"IF(COUNTIF('PLANNING PRINCIPAL'!$I$163:$X$163,P9)>=1,\"\",ROW())","v":9},"NAC EGIE","NAC EGIE",{"$f":"IF(COUNTIF('PLANNING PRINCIPAL'!$I$166:$X$166,S9)>=1,\"\",ROW())","v":9},"NAC EGIE",null,{"$f":"IF(COUNTIF('PLANNING PRINCIPAL'!$I$168:$X$168,V9)>=1,\"\",ROW())","v":9}]
[{"$f":"'DATA S1'!A10","v":"NAC COMI "},{"$f":"IF(COUNTIF('PLANNING PRINCIPAL'!$I$148:$X$148,A10)>=1,\"\",ROW())","v":10},"NAC COMI ","NAC COMI ",{"$f":"IF(COUNTIF('PLANNING PRINCIPAL'!$I$151:$X$151,D10)>=1,\"\",ROW())","v":10},"NAC COMI ","NAC COMI ",{"$f":"IF(COUNTIF('PLANNING PRINCIPAL'!$I$154:$X$154,G10)>=1,\"\",ROW())","v":10},"NAC COMI ","NAC COMI ",{"$f":"IF(COUNTIF('PLANNING PRINCIPAL'!$I$157:$X$157,J10)>=1,\"\",ROW())","v":10},"NAC COMI ","NAC COMI ",{"$f":"IF(COUNTIF('PLANNING PRINCIPAL'!$I$160:$X$160,M10)>=1,\"\",ROW())","v":10},"NAC COMI ","NAC COMI ",{"$f":"IF(COUNTIF('PLANNING PRINCIPAL'!$I$163:$X$163,P10)>=1,\"\",ROW())","v":10},"NAC COMI ","NAC COMI ",{"$f":"IF(COUNTIF('PLANNING PRINCIPAL'!$I$166:$X$166,S10)>=1,\"\",ROW())","v":10},"NAC COMI ",null,{"$f":"IF(COUNTIF('PLANNING PRINCIPAL'!$I$168:$X$168,V10)>=1,\"\",ROW())","v":10}]
[{"$f":"'DATA S1'!A11","v":"#####LOCATION#####"},{"$f":"IF(COUNTIF('PLANNING PRINCIPAL'!$I$148:$X$148,A11)>=1,\"\",ROW())","v":11},"#####LOCATION#####","#####LOCATION#####",{"$f":"IF(COUNTIF('PLANNING PRINCIPAL'!$I$151:$X$151,D11)>=1,\"\",ROW())","v":11},"#####LOCATION#####","#####LOCATION#####",{"$f":"IF(COUNTIF('PLANNING PRINCIPAL'!$I$154:$X$154,G11)>=1,\"\",ROW())","v":11},"#####LOCATION#####","#####LOCATION#####",{"$f":"IF(COUNTIF('PLANNING PRINCIPAL'!$I$157:$X$157,J11)>=1,\"\",ROW())","v":11},"#####LOCATION#####","#####LOCATION#####",{"$f":"IF(COUNTIF('PLANNING PRINCIPAL'!$I$160:$X$160,M11)>=1,\"\",ROW())","v":11},"#####LOCATION#####","#####LOCATION#####",{"$f":"IF(COUNTIF('PLANNING PRINCIPAL'!$I$163:$X$163,P11)>=1,\"\",ROW())","v":11},"#####LOCATION#####","#####LOCATION#####",{"$f":"IF(COUNTIF('PLANNING PRINCIPAL'!$I$166:$X$166,S11)>=1,\"\",ROW())","v":11},"#####LOCATION#####",null,{"$f":"IF(COUNTIF('PLANNING PRINCIPAL'!$I$168:$X$168,V11)>=1,\"\",ROW())","v":11}]
[{"$f":"'DATA S1'!A12","v":"LOC NAC SOLOMAT"},{"$f":"IF(COUNTIF('PLANNING PRINCIPAL'!$I$148:$X$148,A12)>=1,\"\",ROW())","v":12},"LOC NAC SOLOMAT","LOC NAC SOLOMAT",{"$f":"IF(COUNTIF('PLANNING PRINCIPAL'!$I$151:$X$151,D12)>=1,\"\",ROW())","v":12},"LOC NAC SOLOMAT","LOC NAC SOLOMAT",{"$f":"IF(COUNTIF('PLANNING PRINCIPAL'!$I$154:$X$154,G12)>=1,\"\",ROW())","v":12},"LOC NAC SOLOMAT","LOC NAC SOLOMAT",{"$f":"IF(COUNTIF('PLANNING PRINCIPAL'!$I$157:$X$157,J12)>=1,\"\",ROW())","v":12},"LOC NAC SOLOMAT","LOC NAC SOLOMAT",{"$f":"IF(COUNTIF('PLANNING PRINCIPAL'!$I$160:$X$160,M12)>=1,\"\",ROW())","v":12},"LOC NAC SOLOMAT","LOC NAC SOLOMAT",{"$f":"IF(COUNTIF('PLANNING PRINCIPAL'!$I$163:$X$163,P12)>=1,\"\",ROW())","v":12},"LOC NAC SOLOMAT","LOC NAC SOLOMAT",{"$f":"IF(COUNTIF('PLANNING PRINCIPAL'!$I$166:$X$166,S12)>=1,\"\",ROW())","v":12},"LOC NAC SOLOMAT",null,{"$f":"IF(COUNTIF('PLANNING PRINCIPAL'!$I$168:$X$168,V12)>=1,\"\",ROW())","v":12}]
[{"$f":"'DATA S1'!A13","v":"LOC NAC AEB"},{"$f":"IF(COUNTIF('PLANNING PRINCIPAL'!$I$148:$X$148,A13)>=1,\"\",ROW())","v":13},"LOC NAC AEB","LOC NAC AEB",{"$f":"IF(COUNTIF('PLANNING PRINCIPAL'!$I$151:$X$151,D13)>=1,\"\",ROW())","v":13},"LOC NAC AEB","LOC NAC AEB",{"$f":"IF(COUNTIF('PLANNING PRINCIPAL'!$I$154:$X$154,G13)>=1,\"\",ROW())","v":13},"LOC NAC AEB","LOC NAC AEB",{"$f":"IF(COUNTIF('PLANNING PRINCIPAL'!$I$157:$X$157,J13)>=1,\"\",ROW())","v":13},"LOC NAC AEB","LOC NAC AEB",{"$f":"IF(COUNTIF('PLANNING PRINCIPAL'!$I$160:$X$160,M13)>=1,\"\",ROW())","v":13},"LOC NAC AEB","LOC NAC AEB",{"$f":"IF(COUNTIF('PLANNING PRINCIPAL'!$I$163:$X$163,P13)>=1,\"\",ROW())","v":13},"LOC NAC AEB","LOC NAC AEB",{"$f":"IF(COUNTIF('PLANNING PRINCIPAL'!$I$166:$X$166,S13)>=1,\"\",ROW())","v":13},"LOC NAC AEB",null,{"$f":"IF(COUNTIF('PLANNING PRINCIPAL'!$I$168:$X$168,V13)>=1,\"\",ROW())","v":13}]
[{"$f":"'DATA S1'!A14","v":"LOC NAC INTERLOC"},{"$f":"IF(COUNTIF('PLANNING PRINCIPAL'!$I$148:$X$148,A14)>=1,\"\",ROW())","v":14},"LOC NAC INTERLOC","LOC NAC INTERLOC",{"$f":"IF(COUNTIF('PLANNING PRINCIPAL'!$I$151:$X$151,D14)>=1,\"\",ROW())","v":14},"LOC NAC INTERLOC","LOC NAC INTERLOC",{"$f":"IF(COUNTIF('PLANNING PRINCIPAL'!$I$154:$X$154,G14)>=1,\"\",ROW())","v":14},"LOC NAC INTERLOC","LOC NAC INTERLOC",{"$f":"IF(COUNTIF('PLANNING PRINCIPAL'!$I$157:$X$157,J14)>=1,\"\",ROW())","v":14},"LOC NAC INTERLOC","LOC NAC INTERLOC",{"$f":"IF(COUNTIF('PLANNING PRINCIPAL'!$I$160:$X$160,M14)>=1,\"\",ROW())","v":14},"LOC NAC INTERLOC","LOC NAC INTERLOC",{"$f":"IF(COUNTIF('PLANNING PRINCIPAL'!$I$163:$X$163,P14)>=1,\"\",ROW())","v":14},"LOC NAC INTERLOC","LOC NAC INTERLOC",{"$f":"IF(COUNTIF('PLANNING PRINCIPAL'!$I$166:$X$166,S14)>=1,\"\",ROW())","v":14},"LOC NAC INTERLOC",null,{"$f":"IF(COUNTIF('PLANNING PRINCIPAL'!$I$168:$X$168,V14)>=1,\"\",ROW())","v":14}]
[{"$f":"'DATA S1'!A15","v":"LOC NAC KILOUTOU"},{"$f":"IF(COUNTIF('PLANNING PRINCIPAL'!$I$148:$X$148,A15)>=1,\"\",ROW())","v":15},"LOC NAC KILOUTOU","LOC NAC KILOUTOU",{"$f":"IF(COUNTIF('PLANNING PRINCIPAL'!$I$151:$X$151,D15)>=1,\"\",ROW())","v":15},"LOC NAC KILOUTOU","LOC NAC KILOUTOU",{"$f":"IF(COUNTIF('PLANNING PRINCIPAL'!$I$154:$X$154,G15)>=1,\"\",ROW())","v":15},"LOC NAC KILOUTOU","LOC NAC KILOUTOU",{"$f":"IF(COUNTIF('PLANNING PRINCIPAL'!$I$157:$X$157,J15)>=1,\"\",ROW())","v":15},"LOC NAC KILOUTOU","LOC NAC KILOUTOU",{"$f":"IF(COUNTIF('PLANNING PRINCIPAL'!$I$160:$X$160,M15)>=1,\"\",ROW())","v":15},"LOC NAC KILOUTOU","LOC NAC KILOUTOU",{"$f":"IF(COUNTIF('PLANNING PRINCIPAL'!$I$163:$X$163,P15)>=1,\"\",ROW())","v":15},"LOC NAC KILOUTOU","LOC NAC KILOUTOU",{"$f":"IF(COUNTIF('PLANNING PRINCIPAL'!$I$166:$X$166,S15)>=1,\"\",ROW())","v":15},"LOC NAC KILOUTOU",null,{"$f":"IF(COUNTIF('PLANNING PRINCIPAL'!$I$168:$X$168,V15)>=1,\"\",ROW())","v":15}]
[{"$f":"'DATA S1'!A16","v":"LOC NAC AEB"},{"$f":"IF(COUNTIF('PLANNING PRINCIPAL'!$I$148:$X$148,A16)>=1,\"\",ROW())","v":16},"LOC NAC AEB","LOC NAC AEB",{"$f":"IF(COUNTIF('PLANNING PRINCIPAL'!$I$151:$X$151,D16)>=1,\"\",ROW())","v":16},"LOC NAC AEB","LOC NAC AEB",{"$f":"IF(COUNTIF('PLANNING PRINCIPAL'!$I$154:$X$154,G16)>=1,\"\",ROW())","v":16},"LOC NAC AEB","LOC NAC AEB",{"$f":"IF(COUNTIF('PLANNING PRINCIPAL'!$I$157:$X$157,J16)>=1,\"\",ROW())","v":16},"LOC NAC AEB","LOC NAC AEB",{"$f":"IF(COUNTIF('PLANNING PRINCIPAL'!$I$160:$X$160,M16)>=1,\"\",ROW())","v":16},"LOC NAC AEB","LOC NAC AEB",{"$f":"IF(COUNTIF('PLANNING PRINCIPAL'!$I$163:$X$163,P16)>=1,\"\",ROW())","v":16},"LOC NAC AEB","LOC NAC AEB",{"$f":"IF(COUNTIF('PLANNING PRINCIPAL'!$I$166:$X$166,S16)>=1,\"\",ROW())","v":16},"LOC NAC AEB",null,{"$f":"IF(COUNTIF('PLANNING PRINCIPAL'!$I$168:$X$168,V16)>=1,\"\",ROW())","v":16}]
[{"$f":"'DATA S1'!A17","v":"LOC PELLE SOLOMAT"},{"$f":"IF(COUNTIF('PLANNING PRINCIPAL'!$I$148:$X$148,A17)>=1,\"\",ROW())","v":17},"LOC PELLE SOLOMAT","LOC PELLE SOLOMAT",{"$f":"IF(COUNTIF('PLANNING PRINCIPAL'!$I$151:$X$151,D17)>=1,\"\",ROW())","v":17},"LOC PELLE SOLOMAT","LOC PELLE SOLOMAT",{"$f":"IF(COUNTIF('PLANNING PRINCIPAL'!$I$154:$X$154,G17)>=1,\"\",ROW())","v":17},"LOC PELLE SOLOMAT","LOC PELLE SOLOMAT",{"$f":"IF(COUNTIF('PLANNING PRINCIPAL'!$I$157:$X$157,J17)>=1,\"\",ROW())","v":17},"LOC PELLE SOLOMAT","LOC PELLE SOLOMAT",{"$f":"IF(COUNTIF('PLANNING PRINCIPAL'!$I$160:$X$160,M17)>=1,\"\",ROW())","v":17},"LOC PELLE SOLOMAT","LOC PELLE SOLOMAT",{"$f":"IF(COUNTIF('PLANNING PRINCIPAL'!$I$163:$X$163,P17)>=1,\"\",ROW())","v":17},"LOC PELLE SOLOMAT","LOC PELLE SOLOMAT",{"$f":"IF(COUNTIF('PLANNING PRINCIPAL'!$I$166:$X$166,S17)>=1,\"\",ROW())","v":17},"LOC PELLE SOLOMAT",null,{"$f":"IF(COUNTIF('PLANNING PRINCIPAL'!$I$168:$X$168,V17)>=1,\"\",ROW())","v":17}]
[{"$f":"'DATA S1'!A18","v":"LOC PELLE AEB"},{"$f":"IF(COUNTIF('PLANNING PRINCIPAL'!$I$148:$X$148,A18)>=1,\"\",ROW())","v":18},"LOC PELLE AEB","LOC PELLE AEB",{"$f":"IF(COUNTIF('PLANNING PRINCIPAL'!$I$151:$X$151,D18)>=1,\"\",ROW())","v":18},"LOC PELLE AEB","LOC PELLE AEB",{"$f":"IF(COUNTIF('PLANNING PRINCIPAL'!$I$154:$X$154,G18)>=1,\"\",ROW())","v":18},"LOC PELLE AEB","LOC PELLE AEB",{"$f":"IF(COUNTIF('PLANNING PRINCIPAL'!$I$157:$X$157,J18)>=1,\"\",ROW())","v":18},"LOC PELLE AEB","LOC PELLE AEB",{"$f":"IF(COUNTIF('PLANNING PRINCIPAL'!$I$160:$X$160,M18)>=1,\"\",ROW())","v":18},"LOC PELLE AEB","LOC PELLE AEB",{"$f":"IF(COUNTIF('PLANNING PRINCIPAL'!$I$163:$X$163,P18)>=1,\"\",ROW())","v":18},"LOC PELLE AEB","LOC PELLE AEB",{"$f":"IF(COUNTIF('PLANNING PRINCIPAL'!$I$166:$X$166,S18)>=1,\"\",ROW())","v":18},"LOC PELLE AEB",null,{"$f":"IF(COUNTIF('PLANNING PRINCIPAL'!$I$168:$X$168,V18)>=1,\"\",ROW())","v":18}]
[{"$f":"'DATA S1'!A19","v":"LOC PELLE INTERLOC"},{"$f":"IF(COUNTIF('PLANNING PRINCIPAL'!$I$148:$X$148,A19)>=1,\"\",ROW())","v":19},"LOC PELLE INTERLOC","LOC PELLE INTERLOC",{"$f":"IF(COUNTIF('PLANNING PRINCIPAL'!$I$151:$X$151,D19)>=1,\"\",ROW())","v":19},"LOC PELLE INTERLOC","LOC PELLE INTERLOC",{"$f":"IF(COUNTIF('PLANNING PRINCIPAL'!$I$154:$X$154,G19)>=1,\"\",ROW())","v":19},"LOC PELLE INTERLOC","LOC PELLE INTERLOC",{"$f":"IF(COUNTIF('PLANNING PRINCIPAL'!$I$157:$X$157,J19)>=1,\"\",ROW())","v":19},"LOC PELLE INTERLOC","LOC PELLE INTERLOC",{"$f":"IF(COUNTIF('PLANNING PRINCIPAL'!$I$160:$X$160,M19)>=1,\"\",ROW())","v":19},"LOC PELLE INTERLOC","LOC PELLE INTERLOC",{"$f":"IF(COUNTIF('PLANNING PRINCIPAL'!$I$163:$X$163,P19)>=1,\"\",ROW())","v":19},"LOC PELLE INTERLOC","LOC PELLE INTERLOC",{"$f":"IF(COUNTIF('PLANNING PRINCIPAL'!$I$166:$X$166,S19)>=1,\"\",ROW())","v":19},"LOC PELLE INTERLOC",null,{"$f":"IF(COUNTIF('PLANNING PRINCIPAL'!$I$168:$X$168,V19)>=1,\"\",ROW())","v":19}]
[{"$f":"'DATA S1'!A20","v":"LOC PELLE KILOUTOU"},{"$f":"IF(COUNTIF('PLANNING PRINCIPAL'!$I$148:$X$148,A20)>=1,\"\",ROW())","v":20},"LOC PELLE KILOUTOU","LOC PELLE KILOUTOU",{"$f":"IF(COUNTIF('PLANNING PRINCIPAL'!$I$151:$X$151,D20)>=1,\"\",ROW())","v":20},"LOC PELLE KILOUTOU","LOC PELLE KILOUTOU",{"$f":"IF(COUNTIF('PLANNING PRINCIPAL'!$I$154:$X$154,G20)>=1,\"\",ROW())","v":20},"LOC PELLE KILOUTOU","LOC PELLE KILOUTOU",{"$f":"IF(COUNTIF('PLANNING PRINCIPAL'!$I$157:$X$157,J20)>=1,\"\",ROW())","v":20},"LOC PELLE KILOUTOU","LOC PELLE KILOUTOU",{"$f":"IF(COUNTIF('PLANNING PRINCIPAL'!$I$160:$X$160,M20)>=1,\"\",ROW())","v":20},"LOC PELLE KILOUTOU","LOC PELLE KILOUTOU",{"$f":"IF(COUNTIF('PLANNING PRINCIPAL'!$I$163:$X$163,P20)>=1,\"\",ROW())","v":20},"LOC PELLE KILOUTOU","LOC PELLE KILOUTOU",{"$f":"IF(COUNTIF('PLANNING PRINCIPAL'!$I$166:$X$166,S20)>=1,\"\",ROW())","v":20},"LOC PELLE KILOUTOU",null,{"$f":"IF(COUNTIF('PLANNING PRINCIPAL'!$I$168:$X$168,V20)>=1,\"\",ROW())","v":20}]
[null,{"$f":"IF(COUNTIF('PLANNING PRINCIPAL'!$I$148:$X$148,A21)>=1,\"\",ROW())","v":21},null,null,{"$f":"IF(COUNTIF('PLANNING PRINCIPAL'!$I$151:$X$151,D21)>=1,\"\",ROW())","v":21},null,null,{"$f":"IF(COUNTIF('PLANNING PRINCIPAL'!$I$154:$X$154,G21)>=1,\"\",ROW())","v":21},null,null,{"$f":"IF(COUNTIF('PLANNING PRINCIPAL'!$I$157:$X$157,J21)>=1,\"\",ROW())","v":21},null,null,{"$f":"IF(COUNTIF('PLANNING PRINCIPAL'!$I$160:$X$160,M21)>=1,\"\",ROW())","v":21},null,null,{"$f":"IF(COUNTIF('PLANNING PRINCIPAL'!$I$163:$X$163,P21)>=1,\"\",ROW())","v":21},null,null,{"$f":"IF(COUNTIF('PLANNING PRINCIPAL'!$I$166:$X$166,S21)>=1,\"\",ROW())","v":21},null,null,{"$f":"IF(COUNTIF('PLANNING PRINCIPAL'!$I$168:$X$168,V21)>=1,\"\",ROW())","v":21}]
[null,{"$f":"IF(COUNTIF('PLANNING PRINCIPAL'!$I$148:$X$148,A22)>=1,\"\",ROW())","v":22},null,null,{"$f":"IF(COUNTIF('PLANNING PRINCIPAL'!$I$151:$X$151,D22)>=1,\"\",ROW())","v":22},null,null,{"$f":"IF(COUNTIF('PLANNING PRINCIPAL'!$I$154:$X$154,G22)>=1,\"\",ROW())","v":22},null,null,{"$f":"IF(COUNTIF('PLANNING PRINCIPAL'!$I$157:$X$157,J22)>=1,\"\",ROW())","v":22},null,null,{"$f":"IF(COUNTIF('PLANNING PRINCIPAL'!$I$160:$X$160,M22)>=1,\"\",ROW())","v":22},null,null,{"$f":"IF(COUNTIF('PLANNING PRINCIPAL'!$I$163:$X$163,P22)>=1,\"\",ROW())","v":22},null,null,{"$f":"IF(COUNTIF('PLANNING PRINCIPAL'!$I$166:$X$166,S22)>=1,\"\",ROW())","v":22},null,null,{"$f":"IF(COUNTIF('PLANNING PRINCIPAL'!$I$168:$X$168,V22)>=1,\"\",ROW())","v":22}]
[null,{"$f":"IF(COUNTIF('PLANNING PRINCIPAL'!$I$148:$X$148,A23)>=1,\"\",ROW())","v":23},null,null,{"$f":"IF(COUNTIF('PLANNING PRINCIPAL'!$I$151:$X$151,D23)>=1,\"\",ROW())","v":23},null,null,{"$f":"IF(COUNTIF('PLANNING PRINCIPAL'!$I$154:$X$154,G23)>=1,\"\",ROW())","v":23},null,null,{"$f":"IF(COUNTIF('PLANNING PRINCIPAL'!$I$157:$X$157,J23)>=1,\"\",ROW())","v":23},null,null,{"$f":"IF(COUNTIF('PLANNING PRINCIPAL'!$I$160:$X$160,M23)>=1,\"\",ROW())","v":23},null,null,{"$f":"IF(COUNTIF('PLANNING PRINCIPAL'!$I$163:$X$163,P23)>=1,\"\",ROW())","v":23},null,null,{"$f":"IF(COUNTIF('PLANNING PRINCIPAL'!$I$166:$X$166,S23)>=1,\"\",ROW())","v":23},null,null,{"$f":"IF(COUNTIF('PLANNING PRINCIPAL'!$I$168:$X$168,V23)>=1,\"\",ROW())","v":23}]
[null,{"$f":"IF(COUNTIF('PLANNING PRINCIPAL'!$I$148:$X$148,A24)>=1,\"\",ROW())","v":24},null,null,{"$f":"IF(COUNTIF('PLANNING PRINCIPAL'!$I$151:$X$151,D24)>=1,\"\",ROW())","v":24},null,null,{"$f":"IF(COUNTIF('PLANNING PRINCIPAL'!$I$154:$X$154,G24)>=1,\"\",ROW())","v":24},null,null,{"$f":"IF(COUNTIF('PLANNING PRINCIPAL'!$I$157:$X$157,J24)>=1,\"\",ROW())","v":24},null,null,{"$f":"IF(COUNTIF('PLANNING PRINCIPAL'!$I$160:$X$160,M24)>=1,\"\",ROW())","v":24},null,null,{"$f":"IF(COUNTIF('PLANNING PRINCIPAL'!$I$163:$X$163,P24)>=1,\"\",ROW())","v":24},null,null,{"$f":"IF(COUNTIF('PLANNING PRINCIPAL'!$I$166:$X$166,S24)>=1,\"\",ROW())","v":24},null,null,{"$f":"IF(COUNTIF('PLANNING PRINCIPAL'!$I$168:$X$168,V24)>=1,\"\",ROW())","v":24}]
[null,{"$f":"IF(COUNTIF('PLANNING PRINCIPAL'!$I$148:$X$148,A25)>=1,\"\",ROW())","v":25},null,null,{"$f":"IF(COUNTIF('PLANNING PRINCIPAL'!$I$151:$X$151,D25)>=1,\"\",ROW())","v":25},null,null,{"$f":"IF(COUNTIF('PLANNING PRINCIPAL'!$I$154:$X$154,G25)>=1,\"\",ROW())","v":25},null,null,{"$f":"IF(COUNTIF('PLANNING PRINCIPAL'!$I$157:$X$157,J25)>=1,\"\",ROW())","v":25},null,null,{"$f":"IF(COUNTIF('PLANNING PRINCIPAL'!$I$160:$X$160,M25)>=1,\"\",ROW())","v":25},null,null,{"$f":"IF(COUNTIF('PLANNING PRINCIPAL'!$I$163:$X$163,P25)>=1,\"\",ROW())","v":25},null,null,{"$f":"IF(COUNTIF('PLANNING PRINCIPAL'!$I$166:$X$166,S25)>=1,\"\",ROW())","v":25},null,null,{"$f":"IF(COUNTIF('PLANNING PRINCIPAL'!$I$168:$X$168,V25)>=1,\"\",ROW())","v":25}]
[null,{"$f":"IF(COUNTIF('PLANNING PRINCIPAL'!$I$148:$X$148,A26)>=1,\"\",ROW())","v":26},null,null,{"$f":"IF(COUNTIF('PLANNING PRINCIPAL'!$I$151:$X$151,D26)>=1,\"\",ROW())","v":26},null,null,{"$f":"IF(COUNTIF('PLANNING PRINCIPAL'!$I$154:$X$154,G26)>=1,\"\",ROW())","v":26},null,null,{"$f":"IF(COUNTIF('PLANNING PRINCIPAL'!$I$157:$X$157,J26)>=1,\"\",ROW())","v":26},null,null,{"$f":"IF(COUNTIF('PLANNING PRINCIPAL'!$I$160:$X$160,M26)>=1,\"\",ROW())","v":26},null,null,{"$f":"IF(COUNTIF('PLANNING PRINCIPAL'!$I$163:$X$163,P26)>=1,\"\",ROW())","v":26},null,null,{"$f":"IF(COUNTIF('PLANNING PRINCIPAL'!$I$166:$X$166,S26)>=1,\"\",ROW())","v":26},null,null,{"$f":"IF(COUNTIF('PLANNING PRINCIPAL'!$I$168:$X$168,V26)>=1,\"\",ROW())","v":26}]
[null,{"$f":"IF(COUNTIF('PLANNING PRINCIPAL'!$I$148:$X$148,A27)>=1,\"\",ROW())","v":27},null,null,{"$f":"IF(COUNTIF('PLANNING PRINCIPAL'!$I$151:$X$151,D27)>=1,\"\",ROW())","v":27},null,null,{"$f":"IF(COUNTIF('PLANNING PRINCIPAL'!$I$154:$X$154,G27)>=1,\"\",ROW())","v":27},null,null,{"$f":"IF(COUNTIF('PLANNING PRINCIPAL'!$I$157:$X$157,J27)>=1,\"\",ROW())","v":27},null,null,{"$f":"IF(COUNTIF('PLANNING PRINCIPAL'!$I$160:$X$160,M27)>=1,\"\",ROW())","v":27},null,null,{"$f":"IF(COUNTIF('PLANNING PRINCIPAL'!$I$163:$X$163,P27)>=1,\"\",ROW())","v":27},null,null,{"$f":"IF(COUNTIF('PLANNING PRINCIPAL'!$I$166:$X$166,S27)>=1,\"\",ROW())","v":27},null,null,{"$f":"IF(COUNTIF('PLANNING PRINCIPAL'!$I$168:$X$168,V27)>=1,\"\",ROW())","v":27}]
[null,{"$f":"IF(COUNTIF('PLANNING PRINCIPAL'!$I$148:$X$148,A28)>=1,\"\",ROW())","v":28},null,null,{"$f":"IF(COUNTIF('PLANNING PRINCIPAL'!$I$151:$X$151,D28)>=1,\"\",ROW())","v":28},null,null,{"$f":"IF(COUNTIF('PLANNING PRINCIPAL'!$I$154:$X$154,G28)>=1,\"\",ROW())","v":28},null,null,{"$f":"IF(COUNTIF('PLANNING PRINCIPAL'!$I$157:$X$157,J28)>=1,\"\",ROW())","v":28},null,null,{"$f":"IF(COUNTIF('PLANNING PRINCIPAL'!$I$160:$X$160,M28)>=1,\"\",ROW())","v":28},null,null,{"$f":"IF(COUNTIF('PLANNING PRINCIPAL'!$I$163:$X$163,P28)>=1,\"\",ROW())","v":28},null,null,{"$f":"IF(COUNTIF('PLANNING PRINCIPAL'!$I$166:$X$166,S28)>=1,\"\",ROW())","v":28},null,null,{"$f":"IF(COUNTIF('PLANNING PRINCIPAL'!$I$168:$X$168,V28)>=1,\"\",ROW())","v":28}]
[null,{"$f":"IF(COUNTIF('PLANNING PRINCIPAL'!$I$148:$X$148,A29)>=1,\"\",ROW())","v":29},null,null,{"$f":"IF(COUNTIF('PLANNING PRINCIPAL'!$I$151:$X$151,D29)>=1,\"\",ROW())","v":29},null,null,{"$f":"IF(COUNTIF('PLANNING PRINCIPAL'!$I$154:$X$154,G29)>=1,\"\",ROW())","v":29},null,null,{"$f":"IF(COUNTIF('PLANNING PRINCIPAL'!$I$157:$X$157,J29)>=1,\"\",ROW())","v":29},null,null,{"$f":"IF(COUNTIF('PLANNING PRINCIPAL'!$I$160:$X$160,M29)>=1,\"\",ROW())","v":29},null,null,{"$f":"IF(COUNTIF('PLANNING PRINCIPAL'!$I$163:$X$163,P29)>=1,\"\",ROW())","v":29},null,null,{"$f":"IF(COUNTIF('PLANNING PRINCIPAL'!$I$166:$X$166,S29)>=1,\"\",ROW())","v":29},null,null,{"$f":"IF(COUNTIF('PLANNING PRINCIPAL'!$I$168:$X$168,V29)>=1,\"\",ROW())","v":29}]
[null,{"$f":"IF(COUNTIF('PLANNING PRINCIPAL'!$I$148:$X$148,A30)>=1,\"\",ROW())","v":30},null,null,{"$f":"IF(COUNTIF('PLANNING PRINCIPAL'!$I$151:$X$151,D30)>=1,\"\",ROW())","v":30},null,null,{"$f":"IF(COUNTIF('PLANNING PRINCIPAL'!$I$154:$X$154,G30)>=1,\"\",ROW())","v":30},null,null,{"$f":"IF(COUNTIF('PLANNING PRINCIPAL'!$I$157:$X$157,J30)>=1,\"\",ROW())","v":30},null,null,{"$f":"IF(COUNTIF('PLANNING PRINCIPAL'!$I$160:$X$160,M30)>=1,\"\",ROW())","v":30},null,null,{"$f":"IF(COUNTIF('PLANNING PRINCIPAL'!$I$163:$X$163,P30)>=1,\"\",ROW())","v":30},null,null,{"$f":"IF(COUNTIF('PLANNING PRINCIPAL'!$I$166:$X$166,S30)>=1,\"\",ROW())","v":30},null,null,{"$f":"IF(COUNTIF('PLANNING PRINCIPAL'!$I$168:$X$168,V30)>=1,\"\",ROW())","v":30}]
[null,{"$f":"IF(COUNTIF('PLANNING PRINCIPAL'!$I$148:$X$148,A31)>=1,\"\",ROW())","v":31},null,null,{"$f":"IF(COUNTIF('PLANNING PRINCIPAL'!$I$151:$X$151,D31)>=1,\"\",ROW())","v":31},null,null,{"$f":"IF(COUNTIF('PLANNING PRINCIPAL'!$I$154:$X$154,G31)>=1,\"\",ROW())","v":31},null,null,{"$f":"IF(COUNTIF('PLANNING PRINCIPAL'!$I$157:$X$157,J31)>=1,\"\",ROW())","v":31},null,null,{"$f":"IF(COUNTIF('PLANNING PRINCIPAL'!$I$160:$X$160,M31)>=1,\"\",ROW())","v":31},null,null,{"$f":"IF(COUNTIF('PLANNING PRINCIPAL'!$I$163:$X$163,P31)>=1,\"\",ROW())","v":31},null,null,{"$f":"IF(COUNTIF('PLANNING PRINCIPAL'!$I$166:$X$166,S31)>=1,\"\",ROW())","v":31},null,null,{"$f":"IF(COUNTIF('PLANNING PRINCIPAL'!$I$168:$X$168,V31)>=1,\"\",ROW())","v":31}]
[null,{"$f":"IF(COUNTIF('PLANNING PRINCIPAL'!$I$148:$X$148,A32)>=1,\"\",ROW())","v":32},null,null,{"$f":"IF(COUNTIF('PLANNING PRINCIPAL'!$I$151:$X$151,D32)>=1,\"\",ROW())","v":32},null,null,{"$f":"IF(COUNTIF('PLANNING PRINCIPAL'!$I$154:$X$154,G32)>=1,\"\",ROW())","v":32},null,null,{"$f":"IF(COUNTIF('PLANNING PRINCIPAL'!$I$157:$X$157,J32)>=1,\"\",ROW())","v":32},null,null,{"$f":"IF(COUNTIF('PLANNING PRINCIPAL'!$I$160:$X$160,M32)>=1,\"\",ROW())","v":32},null,null,{"$f":"IF(COUNTIF('PLANNING PRINCIPAL'!$I$163:$X$163,P32)>=1,\"\",ROW())","v":32},null,null,{"$f":"IF(COUNTIF('PLANNING PRINCIPAL'!$I$166:$X$166,S32)>=1,\"\",ROW())","v":32},null,null,{"$f":"IF(COUNTIF('PLANNING PRINCIPAL'!$I$168:$X$168,V32)>=1,\"\",ROW())","v":32}]
[null,{"$f":"IF(COUNTIF('PLANNING PRINCIPAL'!$I$148:$X$148,A33)>=1,\"\",ROW())","v":33},null,null,{"$f":"IF(COUNTIF('PLANNING PRINCIPAL'!$I$151:$X$151,D33)>=1,\"\",ROW())","v":33},null,null,{"$f":"IF(COUNTIF('PLANNING PRINCIPAL'!$I$154:$X$154,G33)>=1,\"\",ROW())","v":33},null,null,{"$f":"IF(COUNTIF('PLANNING PRINCIPAL'!$I$157:$X$157,J33)>=1,\"\",ROW())","v":33},null,null,{"$f":"IF(COUNTIF('PLANNING PRINCIPAL'!$I$160:$X$160,M33)>=1,\"\",ROW())","v":33},null,null,{"$f":"IF(COUNTIF('PLANNING PRINCIPAL'!$I$163:$X$163,P33)>=1,\"\",ROW())","v":33},null,null,{"$f":"IF(COUNTIF('PLANNING PRINCIPAL'!$I$166:$X$166,S33)>=1,\"\",ROW())","v":33},null,null,{"$f":"IF(COUNTIF('PLANNING PRINCIPAL'!$I$168:$X$168,V33)>=1,\"\",ROW())","v":33}]
[null,{"$f":"IF(COUNTIF('PLANNING PRINCIPAL'!$I$148:$X$148,A34)>=1,\"\",ROW())","v":34},null,null,{"$f":"IF(COUNTIF('PLANNING PRINCIPAL'!$I$151:$X$151,D34)>=1,\"\",ROW())","v":34},null,null,{"$f":"IF(COUNTIF('PLANNING PRINCIPAL'!$I$154:$X$154,G34)>=1,\"\",ROW())","v":34},null,null,{"$f":"IF(COUNTIF('PLANNING PRINCIPAL'!$I$157:$X$157,J34)>=1,\"\",ROW())","v":34},null,null,{"$f":"IF(COUNTIF('PLANNING PRINCIPAL'!$I$160:$X$160,M34)>=1,\"\",ROW())","v":34},null,null,{"$f":"IF(COUNTIF('PLANNING PRINCIPAL'!$I$163:$X$163,P34)>=1,\"\",ROW())","v":34},null,null,{"$f":"IF(COUNTIF('PLANNING PRINCIPAL'!$I$166:$X$166,S34)>=1,\"\",ROW())","v":34},null,null,{"$f":"IF(COUNTIF('PLANNING PRINCIPAL'!$I$168:$X$168,V34)>=1,\"\",ROW())","v":34}]
["LUNDI",null,null,"MARDI",null,null,"MERCREDI",null,null,"JEUDI",null,null,"VENDREDI",null,null,"SAMEDI",null,null,"DIMANCHE",null,null,"ASTREINTE"]

{"sheet":"DATA S8","index":9,"n_rows":35,"n_cols":24,"rows_kept":35,"cut":false,"hidden":false,"merged":[[34,18,34,20],[34,21,34,23],[34,0,34,2],[34,3,34,5],[34,6,34,8],[34,9,34,11],[34,12,34,14],[34,15,34,17]]}
[{"$f":"'DATA S1'!A1","v":"MAS XX "},{"$f":"IF(COUNTIF('PLANNING PRINCIPAL'!$I$171:$X$171,A1)>=1,\"\",ROW())","v":1},{"$f":"IF(ROW(A1)-ROW(A$1)+1>COUNT(B:B),\"\", INDEX(A:A,SMALL(B:B,1+ROW(A1)-ROW(A$1))))","v":"MAS XX "},{"$f":"A1","v":"MAS XX "},{"$f":"IF(COUNTIF('PLANNING PRINCIPAL'!$I$174:$X$174,D1)>=1,\"\",ROW())","v":1},{"$f":"IF(ROW(D1)-ROW(D$1)+1>COUNT(E:E),\"\", INDEX(D:D,SMALL(E:E,1+ROW(D1)-ROW(D$1))))","v":"MAS XX "},{"$f":"A1","v":"MAS XX "},{"$f":"IF(COUNTIF('PLANNING PRINCIPAL'!$I$177:$X$177,G1)>=1,\"\",ROW())","v":1},{"$f":"IF(ROW(G1)-ROW(G$1)+1>COUNT(H:H),\"\", INDEX(G:G,SMALL(H:H,1+ROW(G1)-ROW(G$1))))","v":"MAS XX "},{"$f":"A1","v":"MAS XX "},{"$f":"IF(COUNTIF('PLANNING PRINCIPAL'!$I$180:$X$180,J1)>=1,\"\",ROW())","v":1},{"$f":"IF(ROW(J1)-ROW(J$1)+1>COUNT(K:K),\"\", INDEX(J:J,SMALL(K:K,1+ROW(J1)-ROW(J$1))))","v":"MAS XX "},{"$f":"A1","v":"MAS XX "},{"$f":"IF(COUNTIF('PLANNING PRINCIPAL'!$I$183:$X$183,M1)>=1,\"\",ROW())","v":1},{"$f":"IF(ROW(M1)-ROW(M$1)+1>COUNT(N:N),\"\", INDEX(M:M,SMALL(N:N,1+ROW(M1)-ROW(M$1))))","v":"MAS XX "},{"$f":"A1","v":"MAS XX "},{"$f":"IF(COUNTIF('PLANNING PRINCIPAL'!$I$186:$X$186,P1)>=1,\"\",ROW())","v":1},{"$f":"IF(ROW(P1)-ROW(P$1)+1>COUNT(Q:Q),\"\", INDEX(P:P,SMALL(Q:Q,1+ROW(P1)-ROW(P$1))))","v":"MAS XX "},{"$f":"A1","v":"MAS XX "},{"$f":"IF(COUNTIF('PLANNING PRINCIPAL'!$I$189:$X$189,S1)>=1,\"\",ROW())","v":1},{"$f":"IF(ROW(S1)-ROW(S$1)+1>COUNT(T:T),\"\", INDEX(S:S,SMALL(T:T,1+ROW(S1)-ROW(S$1))))","v":"MAS XX "},{"$f":"'DATA S1'!V1","v":"ASTREINTE SLT"},{"$f":"IF(COUNTIF('PLANNING PRINCIPAL'!$I$191:$X$191,V1)>=1,\"\",ROW())","v":1},{"$f":"IF(ROW(V1)-ROW(V$1)+1>COUNT(W:W),\"\", INDEX(V:V,SMALL(W:W,1+ROW(V1)-ROW(V$1))))","v":"ASTREINTE SLT"}]
[{"$f":"'DATA S1'!A2","v":"MAS YY "},{"$f":"IF(COUNTIF('PLANNING PRINCIPAL'!$I$171:$X$171,A2)>=1,\"\",ROW())","v":2},{"$f":"IF(ROW(A2)-ROW(A$1)+1>COUNT(B:B),\"\", INDEX(A:A,SMALL(B:B,1+ROW(A2)-ROW(A$1))))","v":"MAS YY "},"MAS YY ",{"$f":"IF(COUNTIF('PLANNING PRINCIPAL'!$I$174:$X$174,D2)>=1,\"\",ROW())","v":2},{"$f":"IF(ROW(D2)-ROW(D$1)+1>COUNT(E:E),\"\", INDEX(D:D,SMALL(E:E,1+ROW(D2)-ROW(D$1))))","v":"MAS YY "},{"$f":"A2","v":"MAS YY "},{"$f":"IF(COUNTIF('PLANNING PRINCIPAL'!$I$177:$X$177,G2)>=1,\"\",ROW())","v":2},{"$f":"IF(ROW(G2)-ROW(G$1)+1>COUNT(H:H),\"\", INDEX(G:G,SMALL(H:H,1+ROW(G2)-ROW(G$1))))","v":"MAS YY "},{"$f":"A2","v":"MAS YY "},{"$f":"IF(COUNTIF('PLANNING PRINCIPAL'!$I$180:$X$180,J2)>=1,\"\",ROW())","v":2},{"$f":"IF(ROW(J2)-ROW(J$1)+1>COUNT(K:K),\"\", INDEX(J:J,SMALL(K:K,1+ROW(J2)-ROW(J$1))))","v":"MAS YY "},{"$f":"A2","v":"MAS YY "},{"$f":"IF(COUNTIF('PLANNING PRINCIPAL'!$I$183:$X$183,M2)>=1,\"\",ROW())","v":2},{"$f":"IF(ROW(M2)-ROW(M$1)+1>COUNT(N:N),\"\", INDEX(M:M,SMALL(N:N,1+ROW(M2)-ROW(M$1))))","v":"MAS YY "},{"$f":"A2","v":"MAS YY "},{"$f":"IF(COUNTIF('PLANNING PRINCIPAL'!$I$186:$X$186,P2)>=1,\"\",ROW())","v":2},{"$f":"IF(ROW(P2)-ROW(P$1)+1>COUNT(Q:Q),\"\", INDEX(P:P,SMALL(Q:Q,1+ROW(P2)-ROW(P$1))))","v":"MAS YY "},{"$f":"A2","v":"MAS YY "},{"$f":"IF(COUNTIF('PLANNING PRINCIPAL'!$I$189:$X$189,S2)>=1,\"\",ROW())","v":2},{"$f":"IF(ROW(S2)-ROW(S$1)+1>COUNT(T:T),\"\", INDEX(S:S,SMALL(T:T,1+ROW(S2)-ROW(S$1))))","v":"MAS YY "},{"$f":"'DATA S1'!V2","v":"ASTREINTE EP"},{"$f":"IF(COUNTIF('PLANNING PRINCIPAL'!$I$191:$X$191,V2)>=1,\"\",ROW())","v":2},{"$f":"IF(ROW(V2)-ROW(V$1)+1>COUNT(W:W),\"\", INDEX(V:V,SMALL(W:W,1+ROW(V2)-ROW(V$1))))","v":"ASTREINTE EP"}]
[{"$f":"'DATA S1'!A3","v":"MAS VQ "},{"$f":"IF(COUNTIF('PLANNING PRINCIPAL'!$I$171:$X$171,A3)>=1,\"\",ROW())","v":3},"MAS VQ ","MAS VQ ",{"$f":"IF(COUNTIF('PLANNING PRINCIPAL'!$I$174:$X$174,D3)>=1,\"\",ROW())","v":3},"MAS VQ ","MAS VQ ",{"$f":"IF(COUNTIF('PLANNING PRINCIPAL'!$I$177:$X$177,G3)>=1,\"\",ROW())","v":3},"MAS VQ ","MAS VQ ",{"$f":"IF(COUNTIF('PLANNING PRINCIPAL'!$I$180:$X$180,J3)>=1,\"\",ROW())","v":3},"MAS VQ ","MAS VQ ",{"$f":"IF(COUNTIF('PLANNING PRINCIPAL'!$I$183:$X$183,M3)>=1,\"\",ROW())","v":3},"MAS VQ ","MAS VQ ",{"$f":"IF(COUNTIF('PLANNING PRINCIPAL'!$I$186:$X$186,P3)>=1,\"\",ROW())","v":3},"MAS VQ ","MAS VQ ",{"$f":"IF(COUNTIF('PLANNING PRINCIPAL'!$I$189:$X$189,S3)>=1,\"\",ROW())","v":3},"MAS VQ ",{"$f":"'DATA S1'!V3","v":"V NOC CHARTRES"},{"$f":"IF(COUNTIF('PLANNING PRINCIPAL'!$I$191:$X$191,V3)>=1,\"\",ROW())","v":3},"V NOC CHARTRES"]
[{"$f":"'DATA S1'!A4","v":"MAS PL "},{"$f":"IF(COUNTIF('PLANNING PRINCIPAL'!$I$171:$X$171,A4)>=1,\"\",ROW())","v":4},"MAS PL ","MAS PL ",{"$f":"IF(COUNTIF('PLANNING PRINCIPAL'!$I$174:$X$174,D4)>=1,\"\",ROW())","v":4},"MAS PL ","MAS PL ",{"$f":"IF(COUNTIF('PLANNING PRINCIPAL'!$I$177:$X$177,G4)>=1,\"\",ROW())","v":4},"MAS PL ","MAS PL ",{"$f":"IF(COUNTIF('PLANNING PRINCIPAL'!$I$180:$X$180,J4)>=1,\"\",ROW())","v":4},"MAS PL ","MAS PL ",{"$f":"IF(COUNTIF('PLANNING PRINCIPAL'!$I$183:$X$183,M4)>=1,\"\",ROW())","v":4},"MAS PL ","MAS PL ",{"$f":"IF(COUNTIF('PLANNING PRINCIPAL'!$I$186:$X$186,P4)>=1,\"\",ROW())","v":4},"MAS PL ","MAS PL ",{"$f":"IF(COUNTIF('PLANNING PRINCIPAL'!$I$189:$X$189,S4)>=1,\"\",ROW())","v":4},"MAS PL ",{"$f":"'DATA S1'!V4","v":"V NOC EPERNON"},{"$f":"IF(COUNTIF('PLANNING PRINCIPAL'!$I$191:$X$191,V4)>=1,\"\",ROW())","v":4},"V NOC EPERNON"]
[{"$f":"'DATA S1'!A5","v":"BEN VL PT "},{"$f":"IF(COUNTIF('PLANNING PRINCIPAL'!$I$171:$X$171,A5)>=1,\"\",ROW())","v":5},"BEN VL PT ","BEN VL PT ",{"$f":"IF(COUNTIF('PLANNING PRINCIPAL'!$I$174:$X$174,D5)>=1,\"\",ROW())","v":5},"BEN VL PT ","BEN VL PT ",{"$f":"IF(COUNTIF('PLANNING PRINCIPAL'!$I$177:$X$177,G5)>=1,\"\",ROW())","v":5},"BEN VL PT ","BEN VL PT ",{"$f":"IF(COUNTIF('PLANNING PRINCIPAL'!$I$180:$X$180,J5)>=1,\"\",ROW())","v":5},"BEN VL PT ","BEN VL PT ",{"$f":"IF(COUNTIF('PLANNING PRINCIPAL'!$I$183:$X$183,M5)>=1,\"\",ROW())","v":5},"BEN VL PT ","BEN VL PT ",{"$f":"IF(COUNTIF('PLANNING PRINCIPAL'!$I$186:$X$186,P5)>=1,\"\",ROW())","v":5},"BEN VL PT ","BEN VL PT ",{"$f":"IF(COUNTIF('PLANNING PRINCIPAL'!$I$189:$X$189,S5)>=1,\"\",ROW())","v":5},"BEN VL PT ",{"$f":"'DATA S1'!V5","v":"V NOC HANCHES"},{"$f":"IF(COUNTIF('PLANNING PRINCIPAL'!$I$191:$X$191,V5)>=1,\"\",ROW())","v":5},"V NOC HANCHES"]
[{"$f":"'DATA S1'!A6","v":"BEN 19T "},{"$f":"IF(COUNTIF('PLANNING PRINCIPAL'!$I$171:$X$171,A6)>=1,\"\",ROW())","v":6},"BEN 19T ","BEN 19T ",{"$f":"IF(COUNTIF('PLANNING PRINCIPAL'!$I$174:$X$174,D6)>=1,\"\",ROW())","v":6},"BEN 19T ","BEN 19T ",{"$f":"IF(COUNTIF('PLANNING PRINCIPAL'!$I$177:$X$177,G6)>=1,\"\",ROW())","v":6},"BEN 19T ","BEN 19T ",{"$f":"IF(COUNTIF('PLANNING PRINCIPAL'!$I$180:$X$180,J6)>=1,\"\",ROW())","v":6},"BEN 19T ","BEN 19T ",{"$f":"IF(COUNTIF('PLANNING PRINCIPAL'!$I$183:$X$183,M6)>=1,\"\",ROW())","v":6},"BEN 19T ","BEN 19T ",{"$f":"IF(COUNTIF('PLANNING PRINCIPAL'!$I$186:$X$186,P6)>=1,\"\",ROW())","v":6},"BEN 19T ","BEN 19T ",{"$f":"IF(COUNTIF('PLANNING PRINCIPAL'!$I$189:$X$189,S6)>=1,\"\",ROW())","v":6},"BEN 19T ",{"$f":"'DATA S1'!V6","v":"V NOC MAINTENON"},{"$f":"IF(COUNTIF('PLANNING PRINCIPAL'!$I$191:$X$191,V6)>=1,\"\",ROW())","v":6},"V NOC MAINTENON"]
[{"$f":"'DATA S1'!A7","v":"BEN 13T "},{"$f":"IF(COUNTIF('PLANNING PRINCIPAL'!$I$171:$X$171,A7)>=1,\"\",ROW())","v":7},"BEN 13T ","BEN 13T ",{"$f":"IF(COUNTIF('PLANNING PRINCIPAL'!$I$174:$X$174,D7)>=1,\"\",ROW())","v":7},"BEN 13T ","BEN 13T ",{"$f":"IF(COUNTIF('PLANNING PRINCIPAL'!$I$177:$X$177,G7)>=1,\"\",ROW())","v":7},"BEN 13T ","BEN 13T ",{"$f":"IF(COUNTIF('PLANNING PRINCIPAL'!$I$180:$X$180,J7)>=1,\"\",ROW())","v":7},"BEN 13T ","BEN 13T ",{"$f":"IF(COUNTIF('PLANNING PRINCIPAL'!$I$183:$X$183,M7)>=1,\"\",ROW())","v":7},"BEN 13T ","BEN 13T ",{"$f":"IF(COUNTIF('PLANNING PRINCIPAL'!$I$186:$X$186,P7)>=1,\"\",ROW())","v":7},"BEN 13T ","BEN 13T ",{"$f":"IF(COUNTIF('PLANNING PRINCIPAL'!$I$189:$X$189,S7)>=1,\"\",ROW())","v":7},"BEN 13T ",null,{"$f":"IF(COUNTIF('PLANNING PRINCIPAL'!$I$191:$X$191,V7)>=1,\"\",ROW())","v":7}]
[{"$f":"'DATA S1'!A8","v":"NAC VL 18M "},{"$f":"IF(COUNTIF('PLANNING PRINCIPAL'!$I$171:$X$171,A8)>=1,\"\",ROW())","v":8},"NAC VL 18M ","NAC VL 18M ",{"$f":"IF(COUNTIF('PLANNING PRINCIPAL'!$I$174:$X$174,D8)>=1,\"\",ROW())","v":8},"NAC VL 18M ","NAC VL 18M ",{"$f":"IF(COUNTIF('PLANNING PRINCIPAL'!$I$177:$X$177,G8)>=1,\"\",ROW())","v":8},"NAC VL 18M ","NAC VL 18M ",{"$f":"IF(COUNTIF('PLANNING PRINCIPAL'!$I$180:$X$180,J8)>=1,\"\",ROW())","v":8},"NAC VL 18M ","NAC VL 18M ",{"$f":"IF(COUNTIF('PLANNING PRINCIPAL'!$I$183:$X$183,M8)>=1,\"\",ROW())","v":8},"NAC VL 18M ","NAC VL 18M ",{"$f":"IF(COUNTIF('PLANNING PRINCIPAL'!$I$186:$X$186,P8)>=1,\"\",ROW())","v":8},"NAC VL 18M ","NAC VL 18M ",{"$f":"IF(COUNTIF('PLANNING PRINCIPAL'!$I$189:$X$189,S8)>=1,\"\",ROW())","v":8},"NAC VL 18M ",null,{"$f":"IF(COUNTIF('PLANNING PRINCIPAL'!$I$191:$X$191,V8)>=1,\"\",ROW())","v":8}]
[{"$f":"'DATA S1'!A9","v":"NAC EGIE"},{"$f":"IF(COUNTIF('PLANNING PRINCIPAL'!$I$171:$X$171,A9)>=1,\"\",ROW())","v":9},"NAC EGIE","NAC EGIE",{"$f":"IF(COUNTIF('PLANNING PRINCIPAL'!$I$174:$X$174,D9)>=1,\"\",ROW())","v":9},"NAC EGIE","NAC EGIE",{"$f":"IF(COUNTIF('PLANNING PRINCIPAL'!$I$177:$X$177,G9)>=1,\"\",ROW())","v":9},"NAC EGIE","NAC EGIE",{"$f":"IF(COUNTIF('PLANNING PRINCIPAL'!$I$180:$X$180,J9)>=1,\"\",ROW())","v":9},"NAC EGIE","NAC EGIE",{"$f":"IF(COUNTIF('PLANNING PRINCIPAL'!$I$183:$X$183,M9)>=1,\"\",ROW())","v":9},"NAC EGIE","NAC EGIE",{"$f":"IF(COUNTIF('PLANNING PRINCIPAL'!$I$186:$X$186,P9)>=1,\"\",ROW())","v":9},"NAC EGIE","NAC EGIE",{"$f":"IF(COUNTIF('PLANNING PRINCIPAL'!$I$189:$X$189,S9)>=1,\"\",ROW())","v":9},"NAC EGIE",null,{"$f":"IF(COUNTIF('PLANNING PRINCIPAL'!$I$191:$X$191,V9)>=1,\"\",ROW())","v":9}]
[{"$f":"'DATA S1'!A10","v":"NAC COMI "},{"$f":"IF(COUNTIF('PLANNING PRINCIPAL'!$I$171:$X$171,A10)>=1,\"\",ROW())","v":10},"NAC COMI ","NAC COMI ",{"$f":"IF(COUNTIF('PLANNING PRINCIPAL'!$I$174:$X$174,D10)>=1,\"\",ROW())","v":10},"NAC COMI ","NAC COMI ",{"$f":"IF(COUNTIF('PLANNING PRINCIPAL'!$I$177:$X$177,G10)>=1,\"\",ROW())","v":10},"NAC COMI ","NAC COMI ",{"$f":"IF(COUNTIF('PLANNING PRINCIPAL'!$I$180:$X$180,J10)>=1,\"\",ROW())","v":10},"NAC COMI ","NAC COMI ",{"$f":"IF(COUNTIF('PLANNING PRINCIPAL'!$I$183:$X$183,M10)>=1,\"\",ROW())","v":10},"NAC COMI ","NAC COMI ",{"$f":"IF(COUNTIF('PLANNING PRINCIPAL'!$I$186:$X$186,P10)>=1,\"\",ROW())","v":10},"NAC COMI ","NAC COMI ",{"$f":"IF(COUNTIF('PLANNING PRINCIPAL'!$I$189:$X$189,S10)>=1,\"\",ROW())","v":10},"NAC COMI ",null,{"$f":"IF(COUNTIF('PLANNING PRINCIPAL'!$I$191:$X$191,V10)>=1,\"\",ROW())","v":10}]
[{"$f":"'DATA S1'!A11","v":"#####LOCATION#####"},{"$f":"IF(COUNTIF('PLANNING PRINCIPAL'!$I$171:$X$171,A11)>=1,\"\",ROW())","v":11},"#####LOCATION#####","#####LOCATION#####",{"$f":"IF(COUNTIF('PLANNING PRINCIPAL'!$I$174:$X$174,D11)>=1,\"\",ROW())","v":11},"#####LOCATION#####","#####LOCATION#####",{"$f":"IF(COUNTIF('PLANNING PRINCIPAL'!$I$177:$X$177,G11)>=1,\"\",ROW())","v":11},"#####LOCATION#####","#####LOCATION#####",{"$f":"IF(COUNTIF('PLANNING PRINCIPAL'!$I$180:$X$180,J11)>=1,\"\",ROW())","v":11},"#####LOCATION#####","#####LOCATION#####",{"$f":"IF(COUNTIF('PLANNING PRINCIPAL'!$I$183:$X$183,M11)>=1,\"\",ROW())","v":11},"#####LOCATION#####","#####LOCATION#####",{"$f":"IF(COUNTIF('PLANNING PRINCIPAL'!$I$186:$X$186,P11)>=1,\"\",ROW())","v":11},"#####LOCATION#####","#####LOCATION#####",{"$f":"IF(COUNTIF('PLANNING PRINCIPAL'!$I$189:$X$189,S11)>=1,\"\",ROW())","v":11},"#####LOCATION#####",null,{"$f":"IF(COUNTIF('PLANNING PRINCIPAL'!$I$191:$X$191,V11)>=1,\"\",ROW())","v":11}]
[{"$f":"'DATA S1'!A12","v":"LOC NAC SOLOMAT"},{"$f":"IF(COUNTIF('PLANNING PRINCIPAL'!$I$171:$X$171,A12)>=1,\"\",ROW())","v":12},"LOC NAC SOLOMAT","LOC NAC SOLOMAT",{"$f":"IF(COUNTIF('PLANNING PRINCIPAL'!$I$174:$X$174,D12)>=1,\"\",ROW())","v":12},"LOC NAC SOLOMAT","LOC NAC SOLOMAT",{"$f":"IF(COUNTIF('PLANNING PRINCIPAL'!$I$177:$X$177,G12)>=1,\"\",ROW())","v":12},"LOC NAC SOLOMAT","LOC NAC SOLOMAT",{"$f":"IF(COUNTIF('PLANNING PRINCIPAL'!$I$180:$X$180,J12)>=1,\"\",ROW())","v":12},"LOC NAC SOLOMAT","LOC NAC SOLOMAT",{"$f":"IF(COUNTIF('PLANNING PRINCIPAL'!$I$183:$X$183,M12)>=1,\"\",ROW())","v":12},"LOC NAC SOLOMAT","LOC NAC SOLOMAT",{"$f":"IF(COUNTIF('PLANNING PRINCIPAL'!$I$186:$X$186,P12)>=1,\"\",ROW())","v":12},"LOC NAC SOLOMAT","LOC NAC SOLOMAT",{"$f":"IF(COUNTIF('PLANNING PRINCIPAL'!$I$189:$X$189,S12)>=1,\"\",ROW())","v":12},"LOC NAC SOLOMAT",null,{"$f":"IF(COUNTIF('PLANNING PRINCIPAL'!$I$191:$X$191,V12)>=1,\"\",ROW())","v":12}]
[{"$f":"'DATA S1'!A13","v":"LOC NAC AEB"},{"$f":"IF(COUNTIF('PLANNING PRINCIPAL'!$I$171:$X$171,A13)>=1,\"\",ROW())","v":13},"LOC NAC AEB","LOC NAC AEB",{"$f":"IF(COUNTIF('PLANNING PRINCIPAL'!$I$174:$X$174,D13)>=1,\"\",ROW())","v":13},"LOC NAC AEB","LOC NAC AEB",{"$f":"IF(COUNTIF('PLANNING PRINCIPAL'!$I$177:$X$177,G13)>=1,\"\",ROW())","v":13},"LOC NAC AEB","LOC NAC AEB",{"$f":"IF(COUNTIF('PLANNING PRINCIPAL'!$I$180:$X$180,J13)>=1,\"\",ROW())","v":13},"LOC NAC AEB","LOC NAC AEB",{"$f":"IF(COUNTIF('PLANNING PRINCIPAL'!$I$183:$X$183,M13)>=1,\"\",ROW())","v":13},"LOC NAC AEB","LOC NAC AEB",{"$f":"IF(COUNTIF('PLANNING PRINCIPAL'!$I$186:$X$186,P13)>=1,\"\",ROW())","v":13},"LOC NAC AEB","LOC NAC AEB",{"$f":"IF(COUNTIF('PLANNING PRINCIPAL'!$I$189:$X$189,S13)>=1,\"\",ROW())","v":13},"LOC NAC AEB",null,{"$f":"IF(COUNTIF('PLANNING PRINCIPAL'!$I$191:$X$191,V13)>=1,\"\",ROW())","v":13}]
[{"$f":"'DATA S1'!A14","v":"LOC NAC INTERLOC"},{"$f":"IF(COUNTIF('PLANNING PRINCIPAL'!$I$171:$X$171,A14)>=1,\"\",ROW())","v":14},"LOC NAC INTERLOC","LOC NAC INTERLOC",{"$f":"IF(COUNTIF('PLANNING PRINCIPAL'!$I$174:$X$174,D14)>=1,\"\",ROW())","v":14},"LOC NAC INTERLOC","LOC NAC INTERLOC",{"$f":"IF(COUNTIF('PLANNING PRINCIPAL'!$I$177:$X$177,G14)>=1,\"\",ROW())","v":14},"LOC NAC INTERLOC","LOC NAC INTERLOC",{"$f":"IF(COUNTIF('PLANNING PRINCIPAL'!$I$180:$X$180,J14)>=1,\"\",ROW())","v":14},"LOC NAC INTERLOC","LOC NAC INTERLOC",{"$f":"IF(COUNTIF('PLANNING PRINCIPAL'!$I$183:$X$183,M14)>=1,\"\",ROW())","v":14},"LOC NAC INTERLOC","LOC NAC INTERLOC",{"$f":"IF(COUNTIF('PLANNING PRINCIPAL'!$I$186:$X$186,P14)>=1,\"\",ROW())","v":14},"LOC NAC INTERLOC","LOC NAC INTERLOC",{"$f":"IF(COUNTIF('PLANNING PRINCIPAL'!$I$189:$X$189,S14)>=1,\"\",ROW())","v":14},"LOC NAC INTERLOC",null,{"$f":"IF(COUNTIF('PLANNING PRINCIPAL'!$I$191:$X$191,V14)>=1,\"\",ROW())","v":14}]
[{"$f":"'DATA S1'!A15","v":"LOC NAC KILOUTOU"},{"$f":"IF(COUNTIF('PLANNING PRINCIPAL'!$I$171:$X$171,A15)>=1,\"\",ROW())","v":15},"LOC NAC KILOUTOU","LOC NAC KILOUTOU",{"$f":"IF(COUNTIF('PLANNING PRINCIPAL'!$I$174:$X$174,D15)>=1,\"\",ROW())","v":15},"LOC NAC KILOUTOU","LOC NAC KILOUTOU",{"$f":"IF(COUNTIF('PLANNING PRINCIPAL'!$I$177:$X$177,G15)>=1,\"\",ROW())","v":15},"LOC NAC KILOUTOU","LOC NAC KILOUTOU",{"$f":"IF(COUNTIF('PLANNING PRINCIPAL'!$I$180:$X$180,J15)>=1,\"\",ROW())","v":15},"LOC NAC KILOUTOU","LOC NAC KILOUTOU",{"$f":"IF(COUNTIF('PLANNING PRINCIPAL'!$I$183:$X$183,M15)>=1,\"\",ROW())","v":15},"LOC NAC KILOUTOU","LOC NAC KILOUTOU",{"$f":"IF(COUNTIF('PLANNING PRINCIPAL'!$I$186:$X$186,P15)>=1,\"\",ROW())","v":15},"LOC NAC KILOUTOU","LOC NAC KILOUTOU",{"$f":"IF(COUNTIF('PLANNING PRINCIPAL'!$I$189:$X$189,S15)>=1,\"\",ROW())","v":15},"LOC NAC KILOUTOU",null,{"$f":"IF(COUNTIF('PLANNING PRINCIPAL'!$I$191:$X$191,V15)>=1,\"\",ROW())","v":15}]
[{"$f":"'DATA S1'!A16","v":"LOC NAC AEB"},{"$f":"IF(COUNTIF('PLANNING PRINCIPAL'!$I$171:$X$171,A16)>=1,\"\",ROW())","v":16},"LOC NAC AEB","LOC NAC AEB",{"$f":"IF(COUNTIF('PLANNING PRINCIPAL'!$I$174:$X$174,D16)>=1,\"\",ROW())","v":16},"LOC NAC AEB","LOC NAC AEB",{"$f":"IF(COUNTIF('PLANNING PRINCIPAL'!$I$177:$X$177,G16)>=1,\"\",ROW())","v":16},"LOC NAC AEB","LOC NAC AEB",{"$f":"IF(COUNTIF('PLANNING PRINCIPAL'!$I$180:$X$180,J16)>=1,\"\",ROW())","v":16},"LOC NAC AEB","LOC NAC AEB",{"$f":"IF(COUNTIF('PLANNING PRINCIPAL'!$I$183:$X$183,M16)>=1,\"\",ROW())","v":16},"LOC NAC AEB","LOC NAC AEB",{"$f":"IF(COUNTIF('PLANNING PRINCIPAL'!$I$186:$X$186,P16)>=1,\"\",ROW())","v":16},"LOC NAC AEB","LOC NAC AEB",{"$f":"IF(COUNTIF('PLANNING PRINCIPAL'!$I$189:$X$189,S16)>=1,\"\",ROW())","v":16},"LOC NAC AEB",null,{"$f":"IF(COUNTIF('PLANNING PRINCIPAL'!$I$191:$X$191,V16)>=1,\"\",ROW())","v":16}]
[{"$f":"'DATA S1'!A17","v":"LOC PELLE SOLOMAT"},{"$f":"IF(COUNTIF('PLANNING PRINCIPAL'!$I$171:$X$171,A17)>=1,\"\",ROW())","v":17},"LOC PELLE SOLOMAT","LOC PELLE SOLOMAT",{"$f":"IF(COUNTIF('PLANNING PRINCIPAL'!$I$174:$X$174,D17)>=1,\"\",ROW())","v":17},"LOC PELLE SOLOMAT","LOC PELLE SOLOMAT",{"$f":"IF(COUNTIF('PLANNING PRINCIPAL'!$I$177:$X$177,G17)>=1,\"\",ROW())","v":17},"LOC PELLE SOLOMAT","LOC PELLE SOLOMAT",{"$f":"IF(COUNTIF('PLANNING PRINCIPAL'!$I$180:$X$180,J17)>=1,\"\",ROW())","v":17},"LOC PELLE SOLOMAT","LOC PELLE SOLOMAT",{"$f":"IF(COUNTIF('PLANNING PRINCIPAL'!$I$183:$X$183,M17)>=1,\"\",ROW())","v":17},"LOC PELLE SOLOMAT","LOC PELLE SOLOMAT",{"$f":"IF(COUNTIF('PLANNING PRINCIPAL'!$I$186:$X$186,P17)>=1,\"\",ROW())","v":17},"LOC PELLE SOLOMAT","LOC PELLE SOLOMAT",{"$f":"IF(COUNTIF('PLANNING PRINCIPAL'!$I$189:$X$189,S17)>=1,\"\",ROW())","v":17},"LOC PELLE SOLOMAT",null,{"$f":"IF(COUNTIF('PLANNING PRINCIPAL'!$I$191:$X$191,V17)>=1,\"\",ROW())","v":17}]
[{"$f":"'DATA S1'!A18","v":"LOC PELLE AEB"},{"$f":"IF(COUNTIF('PLANNING PRINCIPAL'!$I$171:$X$171,A18)>=1,\"\",ROW())","v":18},"LOC PELLE AEB","LOC PELLE AEB",{"$f":"IF(COUNTIF('PLANNING PRINCIPAL'!$I$174:$X$174,D18)>=1,\"\",ROW())","v":18},"LOC PELLE AEB","LOC PELLE AEB",{"$f":"IF(COUNTIF('PLANNING PRINCIPAL'!$I$177:$X$177,G18)>=1,\"\",ROW())","v":18},"LOC PELLE AEB","LOC PELLE AEB",{"$f":"IF(COUNTIF('PLANNING PRINCIPAL'!$I$180:$X$180,J18)>=1,\"\",ROW())","v":18},"LOC PELLE AEB","LOC PELLE AEB",{"$f":"IF(COUNTIF('PLANNING PRINCIPAL'!$I$183:$X$183,M18)>=1,\"\",ROW())","v":18},"LOC PELLE AEB","LOC PELLE AEB",{"$f":"IF(COUNTIF('PLANNING PRINCIPAL'!$I$186:$X$186,P18)>=1,\"\",ROW())","v":18},"LOC PELLE AEB","LOC PELLE AEB",{"$f":"IF(COUNTIF('PLANNING PRINCIPAL'!$I$189:$X$189,S18)>=1,\"\",ROW())","v":18},"LOC PELLE AEB",null,{"$f":"IF(COUNTIF('PLANNING PRINCIPAL'!$I$191:$X$191,V18)>=1,\"\",ROW())","v":18}]
[{"$f":"'DATA S1'!A19","v":"LOC PELLE INTERLOC"},{"$f":"IF(COUNTIF('PLANNING PRINCIPAL'!$I$171:$X$171,A19)>=1,\"\",ROW())","v":19},"LOC PELLE INTERLOC","LOC PELLE INTERLOC",{"$f":"IF(COUNTIF('PLANNING PRINCIPAL'!$I$174:$X$174,D19)>=1,\"\",ROW())","v":19},"LOC PELLE INTERLOC","LOC PELLE INTERLOC",{"$f":"IF(COUNTIF('PLANNING PRINCIPAL'!$I$177:$X$177,G19)>=1,\"\",ROW())","v":19},"LOC PELLE INTERLOC","LOC PELLE INTERLOC",{"$f":"IF(COUNTIF('PLANNING PRINCIPAL'!$I$180:$X$180,J19)>=1,\"\",ROW())","v":19},"LOC PELLE INTERLOC","LOC PELLE INTERLOC",{"$f":"IF(COUNTIF('PLANNING PRINCIPAL'!$I$183:$X$183,M19)>=1,\"\",ROW())","v":19},"LOC PELLE INTERLOC","LOC PELLE INTERLOC",{"$f":"IF(COUNTIF('PLANNING PRINCIPAL'!$I$186:$X$186,P19)>=1,\"\",ROW())","v":19},"LOC PELLE INTERLOC","LOC PELLE INTERLOC",{"$f":"IF(COUNTIF('PLANNING PRINCIPAL'!$I$189:$X$189,S19)>=1,\"\",ROW())","v":19},"LOC PELLE INTERLOC",null,{"$f":"IF(COUNTIF('PLANNING PRINCIPAL'!$I$191:$X$191,V19)>=1,\"\",ROW())","v":19}]
[{"$f":"'DATA S1'!A20","v":"LOC PELLE KILOUTOU"},{"$f":"IF(COUNTIF('PLANNING PRINCIPAL'!$I$171:$X$171,A20)>=1,\"\",ROW())","v":20},"LOC PELLE KILOUTOU","LOC PELLE KILOUTOU",{"$f":"IF(COUNTIF('PLANNING PRINCIPAL'!$I$174:$X$174,D20)>=1,\"\",ROW())","v":20},"LOC PELLE KILOUTOU","LOC PELLE KILOUTOU",{"$f":"IF(COUNTIF('PLANNING PRINCIPAL'!$I$177:$X$177,G20)>=1,\"\",ROW())","v":20},"LOC PELLE KILOUTOU","LOC PELLE KILOUTOU",{"$f":"IF(COUNTIF('PLANNING PRINCIPAL'!$I$180:$X$180,J20)>=1,\"\",ROW())","v":20},"LOC PELLE KILOUTOU","LOC PELLE KILOUTOU",{"$f":"IF(COUNTIF('PLANNING PRINCIPAL'!$I$183:$X$183,M20)>=1,\"\",ROW())","v":20},"LOC PELLE KILOUTOU","LOC PELLE KILOUTOU",{"$f":"IF(COUNTIF('PLANNING PRINCIPAL'!$I$186:$X$186,P20)>=1,\"\",ROW())","v":20},"LOC PELLE KILOUTOU","LOC PELLE KILOUTOU",{"$f":"IF(COUNTIF('PLANNING PRINCIPAL'!$I$189:$X$189,S20)>=1,\"\",ROW())","v":20},"LOC PELLE KILOUTOU",null,{"$f":"IF(COUNTIF('PLANNING PRINCIPAL'!$I$191:$X$191,V20)>=1,\"\",ROW())","v":20}]
[null,{"$f":"IF(COUNTIF('PLANNING PRINCIPAL'!$I$171:$X$171,A21)>=1,\"\",ROW())","v":21},null,null,{"$f":"IF(COUNTIF('PLANNING PRINCIPAL'!$I$174:$X$174,D21)>=1,\"\",ROW())","v":21},null,null,{"$f":"IF(COUNTIF('PLANNING PRINCIPAL'!$I$177:$X$177,G21)>=1,\"\",ROW())","v":21},null,null,{"$f":"IF(COUNTIF('PLANNING PRINCIPAL'!$I$180:$X$180,J21)>=1,\"\",ROW())","v":21},null,null,{"$f":"IF(COUNTIF('PLANNING PRINCIPAL'!$I$183:$X$183,M21)>=1,\"\",ROW())","v":21},null,null,{"$f":"IF(COUNTIF('PLANNING PRINCIPAL'!$I$186:$X$186,P21)>=1,\"\",ROW())","v":21},null,null,{"$f":"IF(COUNTIF('PLANNING PRINCIPAL'!$I$189:$X$189,S21)>=1,\"\",ROW())","v":21},null,null,{"$f":"IF(COUNTIF('PLANNING PRINCIPAL'!$I$191:$X$191,V21)>=1,\"\",ROW())","v":21}]
[null,{"$f":"IF(COUNTIF('PLANNING PRINCIPAL'!$I$171:$X$171,A22)>=1,\"\",ROW())","v":22},null,null,{"$f":"IF(COUNTIF('PLANNING PRINCIPAL'!$I$174:$X$174,D22)>=1,\"\",ROW())","v":22},null,null,{"$f":"IF(COUNTIF('PLANNING PRINCIPAL'!$I$177:$X$177,G22)>=1,\"\",ROW())","v":22},null,null,{"$f":"IF(COUNTIF('PLANNING PRINCIPAL'!$I$180:$X$180,J22)>=1,\"\",ROW())","v":22},null,null,{"$f":"IF(COUNTIF('PLANNING PRINCIPAL'!$I$183:$X$183,M22)>=1,\"\",ROW())","v":22},null,null,{"$f":"IF(COUNTIF('PLANNING PRINCIPAL'!$I$186:$X$186,P22)>=1,\"\",ROW())","v":22},null,null,{"$f":"IF(COUNTIF('PLANNING PRINCIPAL'!$I$189:$X$189,S22)>=1,\"\",ROW())","v":22},null,null,{"$f":"IF(COUNTIF('PLANNING PRINCIPAL'!$I$191:$X$191,V22)>=1,\"\",ROW())","v":22}]
[null,{"$f":"IF(COUNTIF('PLANNING PRINCIPAL'!$I$171:$X$171,A23)>=1,\"\",ROW())","v":23},null,null,{"$f":"IF(COUNTIF('PLANNING PRINCIPAL'!$I$174:$X$174,D23)>=1,\"\",ROW())","v":23},null,null,{"$f":"IF(COUNTIF('PLANNING PRINCIPAL'!$I$177:$X$177,G23)>=1,\"\",ROW())","v":23},null,null,{"$f":"IF(COUNTIF('PLANNING PRINCIPAL'!$I$180:$X$180,J23)>=1,\"\",ROW())","v":23},null,null,{"$f":"IF(COUNTIF('PLANNING PRINCIPAL'!$I$183:$X$183,M23)>=1,\"\",ROW())","v":23},null,null,{"$f":"IF(COUNTIF('PLANNING PRINCIPAL'!$I$186:$X$186,P23)>=1,\"\",ROW())","v":23},null,null,{"$f":"IF(COUNTIF('PLANNING PRINCIPAL'!$I$189:$X$189,S23)>=1,\"\",ROW())","v":23},null,null,{"$f":"IF(COUNTIF('PLANNING PRINCIPAL'!$I$191:$X$191,V23)>=1,\"\",ROW())","v":23}]
[null,{"$f":"IF(COUNTIF('PLANNING PRINCIPAL'!$I$171:$X$171,A24)>=1,\"\",ROW())","v":24},null,null,{"$f":"IF(COUNTIF('PLANNING PRINCIPAL'!$I$174:$X$174,D24)>=1,\"\",ROW())","v":24},null,null,{"$f":"IF(COUNTIF('PLANNING PRINCIPAL'!$I$177:$X$177,G24)>=1,\"\",ROW())","v":24},null,null,{"$f":"IF(COUNTIF('PLANNING PRINCIPAL'!$I$180:$X$180,J24)>=1,\"\",ROW())","v":24},null,null,{"$f":"IF(COUNTIF('PLANNING PRINCIPAL'!$I$183:$X$183,M24)>=1,\"\",ROW())","v":24},null,null,{"$f":"IF(COUNTIF('PLANNING PRINCIPAL'!$I$186:$X$186,P24)>=1,\"\",ROW())","v":24},null,null,{"$f":"IF(COUNTIF('PLANNING PRINCIPAL'!$I$189:$X$189,S24)>=1,\"\",ROW())","v":24},null,null,{"$f":"IF(COUNTIF('PLANNING PRINCIPAL'!$I$191:$X$191,V24)>=1,\"\",ROW())","v":24}]
[null,{"$f":"IF(COUNTIF('PLANNING PRINCIPAL'!$I$171:$X$171,A25)>=1,\"\",ROW())","v":25},null,null,{"$f":"IF(COUNTIF('PLANNING PRINCIPAL'!$I$174:$X$174,D25)>=1,\"\",ROW())","v":25},null,null,{"$f":"IF(COUNTIF('PLANNING PRINCIPAL'!$I$177:$X$177,G25)>=1,\"\",ROW())","v":25},null,null,{"$f":"IF(COUNTIF('PLANNING PRINCIPAL'!$I$180:$X$180,J25)>=1,\"\",ROW())","v":25},null,null,{"$f":"IF(COUNTIF('PLANNING PRINCIPAL'!$I$183:$X$183,M25)>=1,\"\",ROW())","v":25},null,null,{"$f":"IF(COUNTIF('PLANNING PRINCIPAL'!$I$186:$X$186,P25)>=1,\"\",ROW())","v":25},null,null,{"$f":"IF(COUNTIF('PLANNING PRINCIPAL'!$I$189:$X$189,S25)>=1,\"\",ROW())","v":25},null,null,{"$f":"IF(COUNTIF('PLANNING PRINCIPAL'!$I$191:$X$191,V25)>=1,\"\",ROW())","v":25}]
[null,{"$f":"IF(COUNTIF('PLANNING PRINCIPAL'!$I$171:$X$171,A26)>=1,\"\",ROW())","v":26},null,null,{"$f":"IF(COUNTIF('PLANNING PRINCIPAL'!$I$174:$X$174,D26)>=1,\"\",ROW())","v":26},null,null,{"$f":"IF(COUNTIF('PLANNING PRINCIPAL'!$I$177:$X$177,G26)>=1,\"\",ROW())","v":26},null,null,{"$f":"IF(COUNTIF('PLANNING PRINCIPAL'!$I$180:$X$180,J26)>=1,\"\",ROW())","v":26},null,null,{"$f":"IF(COUNTIF('PLANNING PRINCIPAL'!$I$183:$X$183,M26)>=1,\"\",ROW())","v":26},null,null,{"$f":"IF(COUNTIF('PLANNING PRINCIPAL'!$I$186:$X$186,P26)>=1,\"\",ROW())","v":26},null,null,{"$f":"IF(COUNTIF('PLANNING PRINCIPAL'!$I$189:$X$189,S26)>=1,\"\",ROW())","v":26},null,null,{"$f":"IF(COUNTIF('PLANNING PRINCIPAL'!$I$191:$X$191,V26)>=1,\"\",ROW())","v":26}]
[null,{"$f":"IF(COUNTIF('PLANNING PRINCIPAL'!$I$171:$X$171,A27)>=1,\"\",ROW())","v":27},null,null,{"$f":"IF(COUNTIF('PLANNING PRINCIPAL'!$I$174:$X$174,D27)>=1,\"\",ROW())","v":27},null,null,{"$f":"IF(COUNTIF('PLANNING PRINCIPAL'!$I$177:$X$177,G27)>=1,\"\",ROW())","v":27},null,null,{"$f":"IF(COUNTIF('PLANNING PRINCIPAL'!$I$180:$X$180,J27)>=1,\"\",ROW())","v":27},null,null,{"$f":"IF(COUNTIF('PLANNING PRINCIPAL'!$I$183:$X$183,M27)>=1,\"\",ROW())","v":27},null,null,{"$f":"IF(COUNTIF('PLANNING PRINCIPAL'!$I$186:$X$186,P27)>=1,\"\",ROW())","v":27},null,null,{"$f":"IF(COUNTIF('PLANNING PRINCIPAL'!$I$189:$X$189,S27)>=1,\"\",ROW())","v":27},null,null,{"$f":"IF(COUNTIF('PLANNING PRINCIPAL'!$I$191:$X$191,V27)>=1,\"\",ROW())","v":27}]
[null,{"$f":"IF(COUNTIF('PLANNING PRINCIPAL'!$I$171:$X$171,A28)>=1,\"\",ROW())","v":28},null,null,{"$f":"IF(COUNTIF('PLANNING PRINCIPAL'!$I$174:$X$174,D28)>=1,\"\",ROW())","v":28},null,null,{"$f":"IF(COUNTIF('PLANNING PRINCIPAL'!$I$177:$X$177,G28)>=1,\"\",ROW())","v":28},null,null,{"$f":"IF(COUNTIF('PLANNING PRINCIPAL'!$I$180:$X$180,J28)>=1,\"\",ROW())","v":28},null,null,{"$f":"IF(COUNTIF('PLANNING PRINCIPAL'!$I$183:$X$183,M28)>=1,\"\",ROW())","v":28},null,null,{"$f":"IF(COUNTIF('PLANNING PRINCIPAL'!$I$186:$X$186,P28)>=1,\"\",ROW())","v":28},null,null,{"$f":"IF(COUNTIF('PLANNING PRINCIPAL'!$I$189:$X$189,S28)>=1,\"\",ROW())","v":28},null,null,{"$f":"IF(COUNTIF('PLANNING PRINCIPAL'!$I$191:$X$191,V28)>=1,\"\",ROW())","v":28}]
[null,{"$f":"IF(COUNTIF('PLANNING PRINCIPAL'!$I$171:$X$171,A29)>=1,\"\",ROW())","v":29},null,null,{"$f":"IF(COUNTIF('PLANNING PRINCIPAL'!$I$174:$X$174,D29)>=1,\"\",ROW())","v":29},null,null,{"$f":"IF(COUNTIF('PLANNING PRINCIPAL'!$I$177:$X$177,G29)>=1,\"\",ROW())","v":29},null,null,{"$f":"IF(COUNTIF('PLANNING PRINCIPAL'!$I$180:$X$180,J29)>=1,\"\",ROW())","v":29},null,null,{"$f":"IF(COUNTIF('PLANNING PRINCIPAL'!$I$183:$X$183,M29)>=1,\"\",ROW())","v":29},null,null,{"$f":"IF(COUNTIF('PLANNING PRINCIPAL'!$I$186:$X$186,P29)>=1,\"\",ROW())","v":29},null,null,{"$f":"IF(COUNTIF('PLANNING PRINCIPAL'!$I$189:$X$189,S29)>=1,\"\",ROW())","v":29},null,null,{"$f":"IF(COUNTIF('PLANNING PRINCIPAL'!$I$191:$X$191,V29)>=1,\"\",ROW())","v":29}]
[null,{"$f":"IF(COUNTIF('PLANNING PRINCIPAL'!$I$171:$X$171,A30)>=1,\"\",ROW())","v":30},null,null,{"$f":"IF(COUNTIF('PLANNING PRINCIPAL'!$I$174:$X$174,D30)>=1,\"\",ROW())","v":30},null,null,{"$f":"IF(COUNTIF('PLANNING PRINCIPAL'!$I$177:$X$177,G30)>=1,\"\",ROW())","v":30},null,null,{"$f":"IF(COUNTIF('PLANNING PRINCIPAL'!$I$180:$X$180,J30)>=1,\"\",ROW())","v":30},null,null,{"$f":"IF(COUNTIF('PLANNING PRINCIPAL'!$I$183:$X$183,M30)>=1,\"\",ROW())","v":30},null,null,{"$f":"IF(COUNTIF('PLANNING PRINCIPAL'!$I$186:$X$186,P30)>=1,\"\",ROW())","v":30},null,null,{"$f":"IF(COUNTIF('PLANNING PRINCIPAL'!$I$189:$X$189,S30)>=1,\"\",ROW())","v":30},null,null,{"$f":"IF(COUNTIF('PLANNING PRINCIPAL'!$I$191:$X$191,V30)>=1,\"\",ROW())","v":30}]
[null,{"$f":"IF(COUNTIF('PLANNING PRINCIPAL'!$I$171:$X$171,A31)>=1,\"\",ROW())","v":31},null,null,{"$f":"IF(COUNTIF('PLANNING PRINCIPAL'!$I$174:$X$174,D31)>=1,\"\",ROW())","v":31},null,null,{"$f":"IF(COUNTIF('PLANNING PRINCIPAL'!$I$177:$X$177,G31)>=1,\"\",ROW())","v":31},null,null,{"$f":"IF(COUNTIF('PLANNING PRINCIPAL'!$I$180:$X$180,J31)>=1,\"\",ROW())","v":31},null,null,{"$f":"IF(COUNTIF('PLANNING PRINCIPAL'!$I$183:$X$183,M31)>=1,\"\",ROW())","v":31},null,null,{"$f":"IF(COUNTIF('PLANNING PRINCIPAL'!$I$186:$X$186,P31)>=1,\"\",ROW())","v":31},null,null,{"$f":"IF(COUNTIF('PLANNING PRINCIPAL'!$I$189:$X$189,S31)>=1,\"\",ROW())","v":31},null,null,{"$f":"IF(COUNTIF('PLANNING PRINCIPAL'!$I$191:$X$191,V31)>=1,\"\",ROW())","v":31}]
[null,{"$f":"IF(COUNTIF('PLANNING PRINCIPAL'!$I$171:$X$171,A32)>=1,\"\",ROW())","v":32},null,null,{"$f":"IF(COUNTIF('PLANNING PRINCIPAL'!$I$174:$X$174,D32)>=1,\"\",ROW())","v":32},null,null,{"$f":"IF(COUNTIF('PLANNING PRINCIPAL'!$I$177:$X$177,G32)>=1,\"\",ROW())","v":32},null,null,{"$f":"IF(COUNTIF('PLANNING PRINCIPAL'!$I$180:$X$180,J32)>=1,\"\",ROW())","v":32},null,null,{"$f":"IF(COUNTIF('PLANNING PRINCIPAL'!$I$183:$X$183,M32)>=1,\"\",ROW())","v":32},null,null,{"$f":"IF(COUNTIF('PLANNING PRINCIPAL'!$I$186:$X$186,P32)>=1,\"\",ROW())","v":32},null,null,{"$f":"IF(COUNTIF('PLANNING PRINCIPAL'!$I$189:$X$189,S32)>=1,\"\",ROW())","v":32},null,null,{"$f":"IF(COUNTIF('PLANNING PRINCIPAL'!$I$191:$X$191,V32)>=1,\"\",ROW())","v":32}]
[null,{"$f":"IF(COUNTIF('PLANNING PRINCIPAL'!$I$171:$X$171,A33)>=1,\"\",ROW())","v":33},null,null,{"$f":"IF(COUNTIF('PLANNING PRINCIPAL'!$I$174:$X$174,D33)>=1,\"\",ROW())","v":33},null,null,{"$f":"IF(COUNTIF('PLANNING PRINCIPAL'!$I$177:$X$177,G33)>=1,\"\",ROW())","v":33},null,null,{"$f":"IF(COUNTIF('PLANNING PRINCIPAL'!$I$180:$X$180,J33)>=1,\"\",ROW())","v":33},null,null,{"$f":"IF(COUNTIF('PLANNING PRINCIPAL'!$I$183:$X$183,M33)>=1,\"\",ROW())","v":33},null,null,{"$f":"IF(COUNTIF('PLANNING PRINCIPAL'!$I$186:$X$186,P33)>=1,\"\",ROW())","v":33},null,null,{"$f":"IF(COUNTIF('PLANNING PRINCIPAL'!$I$189:$X$189,S33)>=1,\"\",ROW())","v":33},null,null,{"$f":"IF(COUNTIF('PLANNING PRINCIPAL'!$I$191:$X$191,V33)>=1,\"\",ROW())","v":33}]
[null,{"$f":"IF(COUNTIF('PLANNING PRINCIPAL'!$I$171:$X$171,A34)>=1,\"\",ROW())","v":34},null,null,{"$f":"IF(COUNTIF('PLANNING PRINCIPAL'!$I$174:$X$174,D34)>=1,\"\",ROW())","v":34},null,null,{"$f":"IF(COUNTIF('PLANNING PRINCIPAL'!$I$177:$X$177,G34)>=1,\"\",ROW())","v":34},null,null,{"$f":"IF(COUNTIF('PLANNING PRINCIPAL'!$I$180:$X$180,J34)>=1,\"\",ROW())","v":34},null,null,{"$f":"IF(COUNTIF('PLANNING PRINCIPAL'!$I$183:$X$183,M34)>=1,\"\",ROW())","v":34},null,null,{"$f":"IF(COUNTIF('PLANNING PRINCIPAL'!$I$186:$X$186,P34)>=1,\"\",ROW())","v":34},null,null,{"$f":"IF(COUNTIF('PLANNING PRINCIPAL'!$I$189:$X$189,S34)>=1,\"\",ROW())","v":34},null,null,{"$f":"IF(COUNTIF('PLANNING PRINCIPAL'!$I$191:$X$191,V34)>=1,\"\",ROW())","v":34}]
["LUNDI",null,null,"MARDI",null,null,"MERCREDI",null,null,"JEUDI",null,null,"VENDREDI",null,null,"SAMEDI",null,null,"DIMANCHE",null,null,"ASTREINTE"]

{"sheet":"DATA S9","index":10,"n_rows":35,"n_cols":24,"rows_kept":35,"cut":false,"hidden":false,"merged":[[34,18,34,20],[34,21,34,23],[34,0,34,2],[34,3,34,5],[34,6,34,8],[34,9,34,11],[34,12,34,14],[34,15,34,17]]}
[{"$f":"'DATA S1'!A1","v":"MAS XX "},{"$f":"IF(COUNTIF('PLANNING PRINCIPAL'!$I$194:$X$194,A1)>=1,\"\",ROW())","v":""},{"$f":"IF(ROW(A1)-ROW(A$1)+1>COUNT(B:B),\"\", INDEX(A:A,SMALL(B:B,1+ROW(A1)-ROW(A$1))))","v":"BEN VL PT "},{"$f":"A1","v":"MAS XX "},{"$f":"IF(COUNTIF('PLANNING PRINCIPAL'!$I$197:$X$197,D1)>=1,\"\",ROW())","v":""},{"$f":"IF(ROW(D1)-ROW(D$1)+1>COUNT(E:E),\"\", INDEX(D:D,SMALL(E:E,1+ROW(D1)-ROW(D$1))))","v":"BEN VL PT "},{"$f":"A1","v":"MAS XX "},{"$f":"IF(COUNTIF('PLANNING PRINCIPAL'!$I$200:$X$200,G1)>=1,\"\",ROW())","v":""},{"$f":"IF(ROW(G1)-ROW(G$1)+1>COUNT(H:H),\"\", INDEX(G:G,SMALL(H:H,1+ROW(G1)-ROW(G$1))))","v":"BEN VL PT "},{"$f":"A1","v":"MAS XX "},{"$f":"IF(COUNTIF('PLANNING PRINCIPAL'!$I$203:$X$203,J1)>=1,\"\",ROW())","v":""},{"$f":"IF(ROW(J1)-ROW(J$1)+1>COUNT(K:K),\"\", INDEX(J:J,SMALL(K:K,1+ROW(J1)-ROW(J$1))))","v":"MAS YY "},{"$f":"A1","v":"MAS XX "},{"$f":"IF(COUNTIF('PLANNING PRINCIPAL'!$I$206:$X$206,M1)>=1,\"\",ROW())","v":""},{"$f":"IF(ROW(M1)-ROW(M$1)+1>COUNT(N:N),\"\", INDEX(M:M,SMALL(N:N,1+ROW(M1)-ROW(M$1))))","v":"BEN VL PT "},{"$f":"A1","v":"MAS XX "},{"$f":"IF(COUNTIF('PLANNING PRINCIPAL'!$I$209:$X$209,P1)>=1,\"\",ROW())","v":1},{"$f":"IF(ROW(P1)-ROW(P$1)+1>COUNT(Q:Q),\"\", INDEX(P:P,SMALL(Q:Q,1+ROW(P1)-ROW(P$1))))","v":"MAS XX "},{"$f":"A1","v":"MAS XX "},{"$f":"IF(COUNTIF('PLANNING PRINCIPAL'!$I$212:$X$212,S1)>=1,\"\",ROW())","v":1},{"$f":"IF(ROW(S1)-ROW(S$1)+1>COUNT(T:T),\"\", INDEX(S:S,SMALL(T:T,1+ROW(S1)-ROW(S$1))))","v":"MAS XX "},{"$f":"'DATA S1'!V1","v":"ASTREINTE SLT"},{"$f":"IF(COUNTIF('PLANNING PRINCIPAL'!$I$214:$X$214,V1)>=1,\"\",ROW())","v":""},{"$f":"IF(ROW(V1)-ROW(V$1)+1>COUNT(W:W),\"\", INDEX(V:V,SMALL(W:W,1+ROW(V1)-ROW(V$1))))","v":"V NOC CHARTRES"}]
[{"$f":"'DATA S1'!A2","v":"MAS YY "},{"$f":"IF(COUNTIF('PLANNING PRINCIPAL'!$I$194:$X$194,A2)>=1,\"\",ROW())","v":""},{"$f":"IF(ROW(A2)-ROW(A$1)+1>COUNT(B:B),\"\", INDEX(A:A,SMALL(B:B,1+ROW(A2)-ROW(A$1))))","v":"BEN 19T "},"MAS YY ",{"$f":"IF(COUNTIF('PLANNING PRINCIPAL'!$I$197:$X$197,D2)>=1,\"\",ROW())","v":""},{"$f":"IF(ROW(D2)-ROW(D$1)+1>COUNT(E:E),\"\", INDEX(D:D,SMALL(E:E,1+ROW(D2)-ROW(D$1))))","v":"BEN 19T "},{"$f":"A2","v":"MAS YY "},{"$f":"IF(COUNTIF('PLANNING PRINCIPAL'!$I$200:$X$200,G2)>=1,\"\",ROW())","v":""},{"$f":"IF(ROW(G2)-ROW(G$1)+1>COUNT(H:H),\"\", INDEX(G:G,SMALL(H:H,1+ROW(G2)-ROW(G$1))))","v":"BEN 19T "},{"$f":"A2","v":"MAS YY "},{"$f":"IF(COUNTIF('PLANNING PRINCIPAL'!$I$203:$X$203,J2)>=1,\"\",ROW())","v":2},{"$f":"IF(ROW(J2)-ROW(J$1)+1>COUNT(K:K),\"\", INDEX(J:J,SMALL(K:K,1+ROW(J2)-ROW(J$1))))","v":"BEN VL PT "},{"$f":"A2","v":"MAS YY "},{"$f":"IF(COUNTIF('PLANNING PRINCIPAL'!$I$206:$X$206,M2)>=1,\"\",ROW())","v":""},{"$f":"IF(ROW(M2)-ROW(M$1)+1>COUNT(N:N),\"\", INDEX(M:M,SMALL(N:N,1+ROW(M2)-ROW(M$1))))","v":"BEN 19T "},{"$f":"A2","v":"MAS YY "},{"$f":"IF(COUNTIF('PLANNING PRINCIPAL'!$I$209:$X$209,P2)>=1,\"\",ROW())","v":2},{"$f":"IF(ROW(P2)-ROW(P$1)+1>COUNT(Q:Q),\"\", INDEX(P:P,SMALL(Q:Q,1+ROW(P2)-ROW(P$1))))","v":"MAS YY "},{"$f":"A2","v":"MAS YY "},{"$f":"IF(COUNTIF('PLANNING PRINCIPAL'!$I$212:$X$212,S2)>=1,\"\",ROW())","v":2},{"$f":"IF(ROW(S2)-ROW(S$1)+1>COUNT(T:T),\"\", INDEX(S:S,SMALL(T:T,1+ROW(S2)-ROW(S$1))))","v":"MAS YY "},{"$f":"'DATA S1'!V2","v":"ASTREINTE EP"},{"$f":"IF(COUNTIF('PLANNING PRINCIPAL'!$I$214:$X$214,V2)>=1,\"\",ROW())","v":""},{"$f":"IF(ROW(V2)-ROW(V$1)+1>COUNT(W:W),\"\", INDEX(V:V,SMALL(W:W,1+ROW(V2)-ROW(V$1))))","v":"V NOC EPERNON"}]
[{"$f":"'DATA S1'!A3","v":"MAS VQ "},{"$f":"IF(COUNTIF('PLANNING PRINCIPAL'!$I$194:$X$194,A3)>=1,\"\",ROW())","v":""},"BEN 13T ","MAS VQ ",{"$f":"IF(COUNTIF('PLANNING PRINCIPAL'!$I$197:$X$197,D3)>=1,\"\",ROW())","v":""},"BEN 13T ","MAS VQ ",{"$f":"IF(COUNTIF('PLANNING PRINCIPAL'!$I$200:$X$200,G3)>=1,\"\",ROW())","v":""},"BEN 13T ","MAS VQ ",{"$f":"IF(COUNTIF('PLANNING PRINCIPAL'!$I$203:$X$203,J3)>=1,\"\",ROW())","v":""},"BEN 19T ","MAS VQ ",{"$f":"IF(COUNTIF('PLANNING PRINCIPAL'!$I$206:$X$206,M3)>=1,\"\",ROW())","v":""},"BEN 13T ","MAS VQ ",{"$f":"IF(COUNTIF('PLANNING PRINCIPAL'!$I$209:$X$209,P3)>=1,\"\",ROW())","v":3},"MAS VQ ","MAS VQ ",{"$f":"IF(COUNTIF('PLANNING PRINCIPAL'!$I$212:$X$212,S3)>=1,\"\",ROW())","v":3},"MAS VQ ",{"$f":"'DATA S1'!V3","v":"V NOC CHARTRES"},{"$f":"IF(COUNTIF('PLANNING PRINCIPAL'!$I$214:$X$214,V3)>=1,\"\",ROW())","v":3},"V NOC HANCHES"]
[{"$f":"'DATA S1'!A4","v":"MAS PL "},{"$f":"IF(COUNTIF('PLANNING PRINCIPAL'!$I$194:$X$194,A4)>=1,\"\",ROW())","v":""},"NAC VL 18M ","MAS PL ",{"$f":"IF(COUNTIF('PLANNING PRINCIPAL'!$I$197:$X$197,D4)>=1,\"\",ROW())","v":""},"NAC VL 18M ","MAS PL ",{"$f":"IF(COUNTIF('PLANNING PRINCIPAL'!$I$200:$X$200,G4)>=1,\"\",ROW())","v":""},"NAC VL 18M ","MAS PL ",{"$f":"IF(COUNTIF('PLANNING PRINCIPAL'!$I$203:$X$203,J4)>=1,\"\",ROW())","v":""},"BEN 13T ","MAS PL ",{"$f":"IF(COUNTIF('PLANNING PRINCIPAL'!$I$206:$X$206,M4)>=1,\"\",ROW())","v":""},"NAC VL 18M ","MAS PL ",{"$f":"IF(COUNTIF('PLANNING PRINCIPAL'!$I$209:$X$209,P4)>=1,\"\",ROW())","v":4},"MAS PL ","MAS PL ",{"$f":"IF(COUNTIF('PLANNING PRINCIPAL'!$I$212:$X$212,S4)>=1,\"\",ROW())","v":4},"MAS PL ",{"$f":"'DATA S1'!V4","v":"V NOC EPERNON"},{"$f":"IF(COUNTIF('PLANNING PRINCIPAL'!$I$214:$X$214,V4)>=1,\"\",ROW())","v":4},"V NOC MAINTENON"]
[{"$f":"'DATA S1'!A5","v":"BEN VL PT "},{"$f":"IF(COUNTIF('PLANNING PRINCIPAL'!$I$194:$X$194,A5)>=1,\"\",ROW())","v":5},"NAC COMI ","BEN VL PT ",{"$f":"IF(COUNTIF('PLANNING PRINCIPAL'!$I$197:$X$197,D5)>=1,\"\",ROW())","v":5},"NAC COMI ","BEN VL PT ",{"$f":"IF(COUNTIF('PLANNING PRINCIPAL'!$I$200:$X$200,G5)>=1,\"\",ROW())","v":5},"NAC COMI ","BEN VL PT ",{"$f":"IF(COUNTIF('PLANNING PRINCIPAL'!$I$203:$X$203,J5)>=1,\"\",ROW())","v":5},"NAC VL 18M ","BEN VL PT ",{"$f":"IF(COUNTIF('PLANNING PRINCIPAL'!$I$206:$X$206,M5)>=1,\"\",ROW())","v":5},"NAC COMI ","BEN VL PT ",{"$f":"IF(COUNTIF('PLANNING PRINCIPAL'!$I$209:$X$209,P5)>=1,\"\",ROW())","v":5},"BEN VL PT ","BEN VL PT ",{"$f":"IF(COUNTIF('PLANNING PRINCIPAL'!$I$212:$X$212,S5)>=1,\"\",ROW())","v":5},"BEN VL PT ",{"$f":"'DATA S1'!V5","v":"V NOC HANCHES"},{"$f":"IF(COUNTIF('PLANNING PRINCIPAL'!$I$214:$X$214,V5)>=1,\"\",ROW())","v":5},0]
[{"$f":"'DATA S1'!A6","v":"BEN 19T "},{"$f":"IF(COUNTIF('PLANNING PRINCIPAL'!$I$194:$X$194,A6)>=1,\"\",ROW())","v":6},"#####LOCATION#####","BEN 19T ",{"$f":"IF(COUNTIF('PLANNING PRINCIPAL'!$I$197:$X$197,D6)>=1,\"\",ROW())","v":6},"#####LOCATION#####","BEN 19T ",{"$f":"IF(COUNTIF('PLANNING PRINCIPAL'!$I$200:$X$200,G6)>=1,\"\",ROW())","v":6},"#####LOCATION#####","BEN 19T ",{"$f":"IF(COUNTIF('PLANNING PRINCIPAL'!$I$203:$X$203,J6)>=1,\"\",ROW())","v":6},"NAC COMI ","BEN 19T ",{"$f":"IF(COUNTIF('PLANNING PRINCIPAL'!$I$206:$X$206,M6)>=1,\"\",ROW())","v":6},"#####LOCATION#####","BEN 19T ",{"$f":"IF(COUNTIF('PLANNING PRINCIPAL'!$I$209:$X$209,P6)>=1,\"\",ROW())","v":6},"BEN 19T ","BEN 19T ",{"$f":"IF(COUNTIF('PLANNING PRINCIPAL'!$I$212:$X$212,S6)>=1,\"\",ROW())","v":6},"BEN 19T ",{"$f":"'DATA S1'!V6","v":"V NOC MAINTENON"},{"$f":"IF(COUNTIF('PLANNING PRINCIPAL'!$I$214:$X$214,V6)>=1,\"\",ROW())","v":6},0]
[{"$f":"'DATA S1'!A7","v":"BEN 13T "},{"$f":"IF(COUNTIF('PLANNING PRINCIPAL'!$I$194:$X$194,A7)>=1,\"\",ROW())","v":7},"LOC NAC AEB","BEN 13T ",{"$f":"IF(COUNTIF('PLANNING PRINCIPAL'!$I$197:$X$197,D7)>=1,\"\",ROW())","v":7},"LOC NAC AEB","BEN 13T ",{"$f":"IF(COUNTIF('PLANNING PRINCIPAL'!$I$200:$X$200,G7)>=1,\"\",ROW())","v":7},"LOC NAC AEB","BEN 13T ",{"$f":"IF(COUNTIF('PLANNING PRINCIPAL'!$I$203:$X$203,J7)>=1,\"\",ROW())","v":7},"#####LOCATION#####","BEN 13T ",{"$f":"IF(COUNTIF('PLANNING PRINCIPAL'!$I$206:$X$206,M7)>=1,\"\",ROW())","v":7},"LOC NAC AEB","BEN 13T ",{"$f":"IF(COUNTIF('PLANNING PRINCIPAL'!$I$209:$X$209,P7)>=1,\"\",ROW())","v":7},"BEN 13T ","BEN 13T ",{"$f":"IF(COUNTIF('PLANNING PRINCIPAL'!$I$212:$X$212,S7)>=1,\"\",ROW())","v":7},"BEN 13T ",null,{"$f":"IF(COUNTIF('PLANNING PRINCIPAL'!$I$214:$X$214,V7)>=1,\"\",ROW())","v":7}]
[{"$f":"'DATA S1'!A8","v":"NAC VL 18M "},{"$f":"IF(COUNTIF('PLANNING PRINCIPAL'!$I$194:$X$194,A8)>=1,\"\",ROW())","v":8},"LOC NAC INTERLOC","NAC VL 18M ",{"$f":"IF(COUNTIF('PLANNING PRINCIPAL'!$I$197:$X$197,D8)>=1,\"\",ROW())","v":8},"LOC NAC INTERLOC","NAC VL 18M ",{"$f":"IF(COUNTIF('PLANNING PRINCIPAL'!$I$200:$X$200,G8)>=1,\"\",ROW())","v":8},"LOC NAC INTERLOC","NAC VL 18M ",{"$f":"IF(COUNTIF('PLANNING PRINCIPAL'!$I$203:$X$203,J8)>=1,\"\",ROW())","v":8},"LOC NAC AEB","NAC VL 18M ",{"$f":"IF(COUNTIF('PLANNING PRINCIPAL'!$I$206:$X$206,M8)>=1,\"\",ROW())","v":8},"LOC NAC INTERLOC","NAC VL 18M ",{"$f":"IF(COUNTIF('PLANNING PRINCIPAL'!$I$209:$X$209,P8)>=1,\"\",ROW())","v":8},"NAC VL 18M ","NAC VL 18M ",{"$f":"IF(COUNTIF('PLANNING PRINCIPAL'!$I$212:$X$212,S8)>=1,\"\",ROW())","v":8},"NAC VL 18M ",null,{"$f":"IF(COUNTIF('PLANNING PRINCIPAL'!$I$214:$X$214,V8)>=1,\"\",ROW())","v":8}]
[{"$f":"'DATA S1'!A9","v":"NAC EGIE"},{"$f":"IF(COUNTIF('PLANNING PRINCIPAL'!$I$194:$X$194,A9)>=1,\"\",ROW())","v":""},"LOC NAC KILOUTOU","NAC EGIE",{"$f":"IF(COUNTIF('PLANNING PRINCIPAL'!$I$197:$X$197,D9)>=1,\"\",ROW())","v":""},"LOC NAC KILOUTOU","NAC EGIE",{"$f":"IF(COUNTIF('PLANNING PRINCIPAL'!$I$200:$X$200,G9)>=1,\"\",ROW())","v":""},"LOC NAC KILOUTOU","NAC EGIE",{"$f":"IF(COUNTIF('PLANNING PRINCIPAL'!$I$203:$X$203,J9)>=1,\"\",ROW())","v":""},"LOC NAC INTERLOC","NAC EGIE",{"$f":"IF(COUNTIF('PLANNING PRINCIPAL'!$I$206:$X$206,M9)>=1,\"\",ROW())","v":""},"LOC NAC KILOUTOU","NAC EGIE",{"$f":"IF(COUNTIF('PLANNING PRINCIPAL'!$I$209:$X$209,P9)>=1,\"\",ROW())","v":9},"NAC EGIE","NAC EGIE",{"$f":"IF(COUNTIF('PLANNING PRINCIPAL'!$I$212:$X$212,S9)>=1,\"\",ROW())","v":9},"NAC EGIE",null,{"$f":"IF(COUNTIF('PLANNING PRINCIPAL'!$I$214:$X$214,V9)>=1,\"\",ROW())","v":9}]
[{"$f":"'DATA S1'!A10","v":"NAC COMI "},{"$f":"IF(COUNTIF('PLANNING PRINCIPAL'!$I$194:$X$194,A10)>=1,\"\",ROW())","v":10},"LOC NAC AEB","NAC COMI ",{"$f":"IF(COUNTIF('PLANNING PRINCIPAL'!$I$197:$X$197,D10)>=1,\"\",ROW())","v":10},"LOC NAC AEB","NAC COMI ",{"$f":"IF(COUNTIF('PLANNING PRINCIPAL'!$I$200:$X$200,G10)>=1,\"\",ROW())","v":10},"LOC NAC AEB","NAC COMI ",{"$f":"IF(COUNTIF('PLANNING PRINCIPAL'!$I$203:$X$203,J10)>=1,\"\",ROW())","v":10},"LOC NAC KILOUTOU","NAC COMI ",{"$f":"IF(COUNTIF('PLANNING PRINCIPAL'!$I$206:$X$206,M10)>=1,\"\",ROW())","v":10},"LOC NAC AEB","NAC COMI ",{"$f":"IF(COUNTIF('PLANNING PRINCIPAL'!$I$209:$X$209,P10)>=1,\"\",ROW())","v":10},"NAC COMI ","NAC COMI ",{"$f":"IF(COUNTIF('PLANNING PRINCIPAL'!$I$212:$X$212,S10)>=1,\"\",ROW())","v":10},"NAC COMI ",null,{"$f":"IF(COUNTIF('PLANNING PRINCIPAL'!$I$214:$X$214,V10)>=1,\"\",ROW())","v":10}]
[{"$f":"'DATA S1'!A11","v":"#####LOCATION#####"},{"$f":"IF(COUNTIF('PLANNING PRINCIPAL'!$I$194:$X$194,A11)>=1,\"\",ROW())","v":11},"LOC PELLE SOLOMAT","#####LOCATION#####",{"$f":"IF(COUNTIF('PLANNING PRINCIPAL'!$I$197:$X$197,D11)>=1,\"\",ROW())","v":11},"LOC PELLE SOLOMAT","#####LOCATION#####",{"$f":"IF(COUNTIF('PLANNING PRINCIPAL'!$I$200:$X$200,G11)>=1,\"\",ROW())","v":11},"LOC PELLE SOLOMAT","#####LOCATION#####",{"$f":"IF(COUNTIF('PLANNING PRINCIPAL'!$I$203:$X$203,J11)>=1,\"\",ROW())","v":11},"LOC NAC AEB","#####LOCATION#####",{"$f":"IF(COUNTIF('PLANNING PRINCIPAL'!$I$206:$X$206,M11)>=1,\"\",ROW())","v":11},"LOC PELLE SOLOMAT","#####LOCATION#####",{"$f":"IF(COUNTIF('PLANNING PRINCIPAL'!$I$209:$X$209,P11)>=1,\"\",ROW())","v":11},"#####LOCATION#####","#####LOCATION#####",{"$f":"IF(COUNTIF('PLANNING PRINCIPAL'!$I$212:$X$212,S11)>=1,\"\",ROW())","v":11},"#####LOCATION#####",null,{"$f":"IF(COUNTIF('PLANNING PRINCIPAL'!$I$214:$X$214,V11)>=1,\"\",ROW())","v":11}]
[{"$f":"'DATA S1'!A12","v":"LOC NAC SOLOMAT"},{"$f":"IF(COUNTIF('PLANNING PRINCIPAL'!$I$194:$X$194,A12)>=1,\"\",ROW())","v":""},"LOC PELLE AEB","LOC NAC SOLOMAT",{"$f":"IF(COUNTIF('PLANNING PRINCIPAL'!$I$197:$X$197,D12)>=1,\"\",ROW())","v":""},"LOC PELLE AEB","LOC NAC SOLOMAT",{"$f":"IF(COUNTIF('PLANNING PRINCIPAL'!$I$200:$X$200,G12)>=1,\"\",ROW())","v":""},"LOC PELLE AEB","LOC NAC SOLOMAT",{"$f":"IF(COUNTIF('PLANNING PRINCIPAL'!$I$203:$X$203,J12)>=1,\"\",ROW())","v":""},"LOC PELLE SOLOMAT","LOC NAC SOLOMAT",{"$f":"IF(COUNTIF('PLANNING PRINCIPAL'!$I$206:$X$206,M12)>=1,\"\",ROW())","v":""},"LOC PELLE AEB","LOC NAC SOLOMAT",{"$f":"IF(COUNTIF('PLANNING PRINCIPAL'!$I$209:$X$209,P12)>=1,\"\",ROW())","v":12},"LOC NAC SOLOMAT","LOC NAC SOLOMAT",{"$f":"IF(COUNTIF('PLANNING PRINCIPAL'!$I$212:$X$212,S12)>=1,\"\",ROW())","v":12},"LOC NAC SOLOMAT",null,{"$f":"IF(COUNTIF('PLANNING PRINCIPAL'!$I$214:$X$214,V12)>=1,\"\",ROW())","v":12}]
[{"$f":"'DATA S1'!A13","v":"LOC NAC AEB"},{"$f":"IF(COUNTIF('PLANNING PRINCIPAL'!$I$194:$X$194,A13)>=1,\"\",ROW())","v":13},"LOC PELLE INTERLOC","LOC NAC AEB",{"$f":"IF(COUNTIF('PLANNING PRINCIPAL'!$I$197:$X$197,D13)>=1,\"\",ROW())","v":13},"LOC PELLE INTERLOC","LOC NAC AEB",{"$f":"IF(COUNTIF('PLANNING PRINCIPAL'!$I$200:$X$200,G13)>=1,\"\",ROW())","v":13},"LOC PELLE INTERLOC","LOC NAC AEB",{"$f":"IF(COUNTIF('PLANNING PRINCIPAL'!$I$203:$X$203,J13)>=1,\"\",ROW())","v":13},"LOC PELLE AEB","LOC NAC AEB",{"$f":"IF(COUNTIF('PLANNING PRINCIPAL'!$I$206:$X$206,M13)>=1,\"\",ROW())","v":13},"LOC PELLE INTERLOC","LOC NAC AEB",{"$f":"IF(COUNTIF('PLANNING PRINCIPAL'!$I$209:$X$209,P13)>=1,\"\",ROW())","v":13},"LOC NAC AEB","LOC NAC AEB",{"$f":"IF(COUNTIF('PLANNING PRINCIPAL'!$I$212:$X$212,S13)>=1,\"\",ROW())","v":13},"LOC NAC AEB",null,{"$f":"IF(COUNTIF('PLANNING PRINCIPAL'!$I$214:$X$214,V13)>=1,\"\",ROW())","v":13}]
[{"$f":"'DATA S1'!A14","v":"LOC NAC INTERLOC"},{"$f":"IF(COUNTIF('PLANNING PRINCIPAL'!$I$194:$X$194,A14)>=1,\"\",ROW())","v":14},"LOC PELLE KILOUTOU","LOC NAC INTERLOC",{"$f":"IF(COUNTIF('PLANNING PRINCIPAL'!$I$197:$X$197,D14)>=1,\"\",ROW())","v":14},"LOC PELLE KILOUTOU","LOC NAC INTERLOC",{"$f":"IF(COUNTIF('PLANNING PRINCIPAL'!$I$200:$X$200,G14)>=1,\"\",ROW())","v":14},"LOC PELLE KILOUTOU","LOC NAC INTERLOC",{"$f":"IF(COUNTIF('PLANNING PRINCIPAL'!$I$203:$X$203,J14)>=1,\"\",ROW())","v":14},"LOC PELLE INTERLOC","LOC NAC INTERLOC",{"$f":"IF(COUNTIF('PLANNING PRINCIPAL'!$I$206:$X$206,M14)>=1,\"\",ROW())","v":14},"LOC PELLE KILOUTOU","LOC NAC INTERLOC",{"$f":"IF(COUNTIF('PLANNING PRINCIPAL'!$I$209:$X$209,P14)>=1,\"\",ROW())","v":14},"LOC NAC INTERLOC","LOC NAC INTERLOC",{"$f":"IF(COUNTIF('PLANNING PRINCIPAL'!$I$212:$X$212,S14)>=1,\"\",ROW())","v":14},"LOC NAC INTERLOC",null,{"$f":"IF(COUNTIF('PLANNING PRINCIPAL'!$I$214:$X$214,V14)>=1,\"\",ROW())","v":14}]
[{"$f":"'DATA S1'!A15","v":"LOC NAC KILOUTOU"},{"$f":"IF(COUNTIF('PLANNING PRINCIPAL'!$I$194:$X$194,A15)>=1,\"\",ROW())","v":15},0,"LOC NAC KILOUTOU",{"$f":"IF(COUNTIF('PLANNING PRINCIPAL'!$I$197:$X$197,D15)>=1,\"\",ROW())","v":15},0,"LOC NAC KILOUTOU",{"$f":"IF(COUNTIF('PLANNING PRINCIPAL'!$I$200:$X$200,G15)>=1,\"\",ROW())","v":15},0,"LOC NAC KILOUTOU",{"$f":"IF(COUNTIF('PLANNING PRINCIPAL'!$I$203:$X$203,J15)>=1,\"\",ROW())","v":15},"LOC PELLE KILOUTOU","LOC NAC KILOUTOU",{"$f":"IF(COUNTIF('PLANNING PRINCIPAL'!$I$206:$X$206,M15)>=1,\"\",ROW())","v":15},0,"LOC NAC KILOUTOU",{"$f":"IF(COUNTIF('PLANNING PRINCIPAL'!$I$209:$X$209,P15)>=1,\"\",ROW())","v":15},"LOC NAC KILOUTOU","LOC NAC KILOUTOU",{"$f":"IF(COUNTIF('PLANNING PRINCIPAL'!$I$212:$X$212,S15)>=1,\"\",ROW())","v":15},"LOC NAC KILOUTOU",null,{"$f":"IF(COUNTIF('PLANNING PRINCIPAL'!$I$214:$X$214,V15)>=1,\"\",ROW())","v":15}]
[{"$f":"'DATA S1'!A16","v":"LOC NAC AEB"},{"$f":"IF(COUNTIF('PLANNING PRINCIPAL'!$I$194:$X$194,A16)>=1,\"\",ROW())","v":16},0,"LOC NAC AEB",{"$f":"IF(COUNTIF('PLANNING PRINCIPAL'!$I$197:$X$197,D16)>=1,\"\",ROW())","v":16},0,"LOC NAC AEB",{"$f":"IF(COUNTIF('PLANNING PRINCIPAL'!$I$200:$X$200,G16)>=1,\"\",ROW())","v":16},0,"LOC NAC AEB",{"$f":"IF(COUNTIF('PLANNING PRINCIPAL'!$I$203:$X$203,J16)>=1,\"\",ROW())","v":16},0,"LOC NAC AEB",{"$f":"IF(COUNTIF('PLANNING PRINCIPAL'!$I$206:$X$206,M16)>=1,\"\",ROW())","v":16},0,"LOC NAC AEB",{"$f":"IF(COUNTIF('PLANNING PRINCIPAL'!$I$209:$X$209,P16)>=1,\"\",ROW())","v":16},"LOC NAC AEB","LOC NAC AEB",{"$f":"IF(COUNTIF('PLANNING PRINCIPAL'!$I$212:$X$212,S16)>=1,\"\",ROW())","v":16},"LOC NAC AEB",null,{"$f":"IF(COUNTIF('PLANNING PRINCIPAL'!$I$214:$X$214,V16)>=1,\"\",ROW())","v":16}]
[{"$f":"'DATA S1'!A17","v":"LOC PELLE SOLOMAT"},{"$f":"IF(COUNTIF('PLANNING PRINCIPAL'!$I$194:$X$194,A17)>=1,\"\",ROW())","v":17},0,"LOC PELLE SOLOMAT",{"$f":"IF(COUNTIF('PLANNING PRINCIPAL'!$I$197:$X$197,D17)>=1,\"\",ROW())","v":17},0,"LOC PELLE SOLOMAT",{"$f":"IF(COUNTIF('PLANNING PRINCIPAL'!$I$200:$X$200,G17)>=1,\"\",ROW())","v":17},0,"LOC PELLE SOLOMAT",{"$f":"IF(COUNTIF('PLANNING PRINCIPAL'!$I$203:$X$203,J17)>=1,\"\",ROW())","v":17},0,"LOC PELLE SOLOMAT",{"$f":"IF(COUNTIF('PLANNING PRINCIPAL'!$I$206:$X$206,M17)>=1,\"\",ROW())","v":17},0,"LOC PELLE SOLOMAT",{"$f":"IF(COUNTIF('PLANNING PRINCIPAL'!$I$209:$X$209,P17)>=1,\"\",ROW())","v":17},"LOC PELLE SOLOMAT","LOC PELLE SOLOMAT",{"$f":"IF(COUNTIF('PLANNING PRINCIPAL'!$I$212:$X$212,S17)>=1,\"\",ROW())","v":17},"LOC PELLE SOLOMAT",null,{"$f":"IF(COUNTIF('PLANNING PRINCIPAL'!$I$214:$X$214,V17)>=1,\"\",ROW())","v":17}]
[{"$f":"'DATA S1'!A18","v":"LOC PELLE AEB"},{"$f":"IF(COUNTIF('PLANNING PRINCIPAL'!$I$194:$X$194,A18)>=1,\"\",ROW())","v":18},0,"LOC PELLE AEB",{"$f":"IF(COUNTIF('PLANNING PRINCIPAL'!$I$197:$X$197,D18)>=1,\"\",ROW())","v":18},0,"LOC PELLE AEB",{"$f":"IF(COUNTIF('PLANNING PRINCIPAL'!$I$200:$X$200,G18)>=1,\"\",ROW())","v":18},0,"LOC PELLE AEB",{"$f":"IF(COUNTIF('PLANNING PRINCIPAL'!$I$203:$X$203,J18)>=1,\"\",ROW())","v":18},0,"LOC PELLE AEB",{"$f":"IF(COUNTIF('PLANNING PRINCIPAL'!$I$206:$X$206,M18)>=1,\"\",ROW())","v":18},0,"LOC PELLE AEB",{"$f":"IF(COUNTIF('PLANNING PRINCIPAL'!$I$209:$X$209,P18)>=1,\"\",ROW())","v":18},"LOC PELLE AEB","LOC PELLE AEB",{"$f":"IF(COUNTIF('PLANNING PRINCIPAL'!$I$212:$X$212,S18)>=1,\"\",ROW())","v":18},"LOC PELLE AEB",null,{"$f":"IF(COUNTIF('PLANNING PRINCIPAL'!$I$214:$X$214,V18)>=1,\"\",ROW())","v":18}]
[{"$f":"'DATA S1'!A19","v":"LOC PELLE INTERLOC"},{"$f":"IF(COUNTIF('PLANNING PRINCIPAL'!$I$194:$X$194,A19)>=1,\"\",ROW())","v":19},0,"LOC PELLE INTERLOC",{"$f":"IF(COUNTIF('PLANNING PRINCIPAL'!$I$197:$X$197,D19)>=1,\"\",ROW())","v":19},0,"LOC PELLE INTERLOC",{"$f":"IF(COUNTIF('PLANNING PRINCIPAL'!$I$200:$X$200,G19)>=1,\"\",ROW())","v":19},0,"LOC PELLE INTERLOC",{"$f":"IF(COUNTIF('PLANNING PRINCIPAL'!$I$203:$X$203,J19)>=1,\"\",ROW())","v":19},0,"LOC PELLE INTERLOC",{"$f":"IF(COUNTIF('PLANNING PRINCIPAL'!$I$206:$X$206,M19)>=1,\"\",ROW())","v":19},0,"LOC PELLE INTERLOC",{"$f":"IF(COUNTIF('PLANNING PRINCIPAL'!$I$209:$X$209,P19)>=1,\"\",ROW())","v":19},"LOC PELLE INTERLOC","LOC PELLE INTERLOC",{"$f":"IF(COUNTIF('PLANNING PRINCIPAL'!$I$212:$X$212,S19)>=1,\"\",ROW())","v":19},"LOC PELLE INTERLOC",null,{"$f":"IF(COUNTIF('PLANNING PRINCIPAL'!$I$214:$X$214,V19)>=1,\"\",ROW())","v":19}]
[{"$f":"'DATA S1'!A20","v":"LOC PELLE KILOUTOU"},{"$f":"IF(COUNTIF('PLANNING PRINCIPAL'!$I$194:$X$194,A20)>=1,\"\",ROW())","v":20},0,"LOC PELLE KILOUTOU",{"$f":"IF(COUNTIF('PLANNING PRINCIPAL'!$I$197:$X$197,D20)>=1,\"\",ROW())","v":20},0,"LOC PELLE KILOUTOU",{"$f":"IF(COUNTIF('PLANNING PRINCIPAL'!$I$200:$X$200,G20)>=1,\"\",ROW())","v":20},0,"LOC PELLE KILOUTOU",{"$f":"IF(COUNTIF('PLANNING PRINCIPAL'!$I$203:$X$203,J20)>=1,\"\",ROW())","v":20},0,"LOC PELLE KILOUTOU",{"$f":"IF(COUNTIF('PLANNING PRINCIPAL'!$I$206:$X$206,M20)>=1,\"\",ROW())","v":20},0,"LOC PELLE KILOUTOU",{"$f":"IF(COUNTIF('PLANNING PRINCIPAL'!$I$209:$X$209,P20)>=1,\"\",ROW())","v":20},"LOC PELLE KILOUTOU","LOC PELLE KILOUTOU",{"$f":"IF(COUNTIF('PLANNING PRINCIPAL'!$I$212:$X$212,S20)>=1,\"\",ROW())","v":20},"LOC PELLE KILOUTOU",null,{"$f":"IF(COUNTIF('PLANNING PRINCIPAL'!$I$214:$X$214,V20)>=1,\"\",ROW())","v":20}]
[null,{"$f":"IF(COUNTIF('PLANNING PRINCIPAL'!$I$194:$X$194,A21)>=1,\"\",ROW())","v":21},null,null,{"$f":"IF(COUNTIF('PLANNING PRINCIPAL'!$I$197:$X$197,D21)>=1,\"\",ROW())","v":21},null,null,{"$f":"IF(COUNTIF('PLANNING PRINCIPAL'!$I$200:$X$200,G21)>=1,\"\",ROW())","v":21},null,null,{"$f":"IF(COUNTIF('PLANNING PRINCIPAL'!$I$203:$X$203,J21)>=1,\"\",ROW())","v":21},null,null,{"$f":"IF(COUNTIF('PLANNING PRINCIPAL'!$I$206:$X$206,M21)>=1,\"\",ROW())","v":21},null,null,{"$f":"IF(COUNTIF('PLANNING PRINCIPAL'!$I$209:$X$209,P21)>=1,\"\",ROW())","v":21},null,null,{"$f":"IF(COUNTIF('PLANNING PRINCIPAL'!$I$212:$X$212,S21)>=1,\"\",ROW())","v":21},null,null,{"$f":"IF(COUNTIF('PLANNING PRINCIPAL'!$I$214:$X$214,V21)>=1,\"\",ROW())","v":21}]
[null,{"$f":"IF(COUNTIF('PLANNING PRINCIPAL'!$I$194:$X$194,A22)>=1,\"\",ROW())","v":22},null,null,{"$f":"IF(COUNTIF('PLANNING PRINCIPAL'!$I$197:$X$197,D22)>=1,\"\",ROW())","v":22},null,null,{"$f":"IF(COUNTIF('PLANNING PRINCIPAL'!$I$200:$X$200,G22)>=1,\"\",ROW())","v":22},null,null,{"$f":"IF(COUNTIF('PLANNING PRINCIPAL'!$I$203:$X$203,J22)>=1,\"\",ROW())","v":22},null,null,{"$f":"IF(COUNTIF('PLANNING PRINCIPAL'!$I$206:$X$206,M22)>=1,\"\",ROW())","v":22},null,null,{"$f":"IF(COUNTIF('PLANNING PRINCIPAL'!$I$209:$X$209,P22)>=1,\"\",ROW())","v":22},null,null,{"$f":"IF(COUNTIF('PLANNING PRINCIPAL'!$I$212:$X$212,S22)>=1,\"\",ROW())","v":22},null,null,{"$f":"IF(COUNTIF('PLANNING PRINCIPAL'!$I$214:$X$214,V22)>=1,\"\",ROW())","v":22}]
[null,{"$f":"IF(COUNTIF('PLANNING PRINCIPAL'!$I$194:$X$194,A23)>=1,\"\",ROW())","v":23},null,null,{"$f":"IF(COUNTIF('PLANNING PRINCIPAL'!$I$197:$X$197,D23)>=1,\"\",ROW())","v":23},null,null,{"$f":"IF(COUNTIF('PLANNING PRINCIPAL'!$I$200:$X$200,G23)>=1,\"\",ROW())","v":23},null,null,{"$f":"IF(COUNTIF('PLANNING PRINCIPAL'!$I$203:$X$203,J23)>=1,\"\",ROW())","v":23},null,null,{"$f":"IF(COUNTIF('PLANNING PRINCIPAL'!$I$206:$X$206,M23)>=1,\"\",ROW())","v":23},null,null,{"$f":"IF(COUNTIF('PLANNING PRINCIPAL'!$I$209:$X$209,P23)>=1,\"\",ROW())","v":23},null,null,{"$f":"IF(COUNTIF('PLANNING PRINCIPAL'!$I$212:$X$212,S23)>=1,\"\",ROW())","v":23},null,null,{"$f":"IF(COUNTIF('PLANNING PRINCIPAL'!$I$214:$X$214,V23)>=1,\"\",ROW())","v":23}]
[null,{"$f":"IF(COUNTIF('PLANNING PRINCIPAL'!$I$194:$X$194,A24)>=1,\"\",ROW())","v":24},null,null,{"$f":"IF(COUNTIF('PLANNING PRINCIPAL'!$I$197:$X$197,D24)>=1,\"\",ROW())","v":24},null,null,{"$f":"IF(COUNTIF('PLANNING PRINCIPAL'!$I$200:$X$200,G24)>=1,\"\",ROW())","v":24},null,null,{"$f":"IF(COUNTIF('PLANNING PRINCIPAL'!$I$203:$X$203,J24)>=1,\"\",ROW())","v":24},null,null,{"$f":"IF(COUNTIF('PLANNING PRINCIPAL'!$I$206:$X$206,M24)>=1,\"\",ROW())","v":24},null,null,{"$f":"IF(COUNTIF('PLANNING PRINCIPAL'!$I$209:$X$209,P24)>=1,\"\",ROW())","v":24},null,null,{"$f":"IF(COUNTIF('PLANNING PRINCIPAL'!$I$212:$X$212,S24)>=1,\"\",ROW())","v":24},null,null,{"$f":"IF(COUNTIF('PLANNING PRINCIPAL'!$I$214:$X$214,V24)>=1,\"\",ROW())","v":24}]
[null,{"$f":"IF(COUNTIF('PLANNING PRINCIPAL'!$I$194:$X$194,A25)>=1,\"\",ROW())","v":25},null,null,{"$f":"IF(COUNTIF('PLANNING PRINCIPAL'!$I$197:$X$197,D25)>=1,\"\",ROW())","v":25},null,null,{"$f":"IF(COUNTIF('PLANNING PRINCIPAL'!$I$200:$X$200,G25)>=1,\"\",ROW())","v":25},null,null,{"$f":"IF(COUNTIF('PLANNING PRINCIPAL'!$I$203:$X$203,J25)>=1,\"\",ROW())","v":25},null,null,{"$f":"IF(COUNTIF('PLANNING PRINCIPAL'!$I$206:$X$206,M25)>=1,\"\",ROW())","v":25},null,null,{"$f":"IF(COUNTIF('PLANNING PRINCIPAL'!$I$209:$X$209,P25)>=1,\"\",ROW())","v":25},null,null,{"$f":"IF(COUNTIF('PLANNING PRINCIPAL'!$I$212:$X$212,S25)>=1,\"\",ROW())","v":25},null,null,{"$f":"IF(COUNTIF('PLANNING PRINCIPAL'!$I$214:$X$214,V25)>=1,\"\",ROW())","v":25}]
[null,{"$f":"IF(COUNTIF('PLANNING PRINCIPAL'!$I$194:$X$194,A26)>=1,\"\",ROW())","v":26},null,null,{"$f":"IF(COUNTIF('PLANNING PRINCIPAL'!$I$197:$X$197,D26)>=1,\"\",ROW())","v":26},null,null,{"$f":"IF(COUNTIF('PLANNING PRINCIPAL'!$I$200:$X$200,G26)>=1,\"\",ROW())","v":26},null,null,{"$f":"IF(COUNTIF('PLANNING PRINCIPAL'!$I$203:$X$203,J26)>=1,\"\",ROW())","v":26},null,null,{"$f":"IF(COUNTIF('PLANNING PRINCIPAL'!$I$206:$X$206,M26)>=1,\"\",ROW())","v":26},null,null,{"$f":"IF(COUNTIF('PLANNING PRINCIPAL'!$I$209:$X$209,P26)>=1,\"\",ROW())","v":26},null,null,{"$f":"IF(COUNTIF('PLANNING PRINCIPAL'!$I$212:$X$212,S26)>=1,\"\",ROW())","v":26},null,null,{"$f":"IF(COUNTIF('PLANNING PRINCIPAL'!$I$214:$X$214,V26)>=1,\"\",ROW())","v":26}]
[null,{"$f":"IF(COUNTIF('PLANNING PRINCIPAL'!$I$194:$X$194,A27)>=1,\"\",ROW())","v":27},null,null,{"$f":"IF(COUNTIF('PLANNING PRINCIPAL'!$I$197:$X$197,D27)>=1,\"\",ROW())","v":27},null,null,{"$f":"IF(COUNTIF('PLANNING PRINCIPAL'!$I$200:$X$200,G27)>=1,\"\",ROW())","v":27},null,null,{"$f":"IF(COUNTIF('PLANNING PRINCIPAL'!$I$203:$X$203,J27)>=1,\"\",ROW())","v":27},null,null,{"$f":"IF(COUNTIF('PLANNING PRINCIPAL'!$I$206:$X$206,M27)>=1,\"\",ROW())","v":27},null,null,{"$f":"IF(COUNTIF('PLANNING PRINCIPAL'!$I$209:$X$209,P27)>=1,\"\",ROW())","v":27},null,null,{"$f":"IF(COUNTIF('PLANNING PRINCIPAL'!$I$212:$X$212,S27)>=1,\"\",ROW())","v":27},null,null,{"$f":"IF(COUNTIF('PLANNING PRINCIPAL'!$I$214:$X$214,V27)>=1,\"\",ROW())","v":27}]
[null,{"$f":"IF(COUNTIF('PLANNING PRINCIPAL'!$I$194:$X$194,A28)>=1,\"\",ROW())","v":28},null,null,{"$f":"IF(COUNTIF('PLANNING PRINCIPAL'!$I$197:$X$197,D28)>=1,\"\",ROW())","v":28},null,null,{"$f":"IF(COUNTIF('PLANNING PRINCIPAL'!$I$200:$X$200,G28)>=1,\"\",ROW())","v":28},null,null,{"$f":"IF(COUNTIF('PLANNING PRINCIPAL'!$I$203:$X$203,J28)>=1,\"\",ROW())","v":28},null,null,{"$f":"IF(COUNTIF('PLANNING PRINCIPAL'!$I$206:$X$206,M28)>=1,\"\",ROW())","v":28},null,null,{"$f":"IF(COUNTIF('PLANNING PRINCIPAL'!$I$209:$X$209,P28)>=1,\"\",ROW())","v":28},null,null,{"$f":"IF(COUNTIF('PLANNING PRINCIPAL'!$I$212:$X$212,S28)>=1,\"\",ROW())","v":28},null,null,{"$f":"IF(COUNTIF('PLANNING PRINCIPAL'!$I$214:$X$214,V28)>=1,\"\",ROW())","v":28}]
[null,{"$f":"IF(COUNTIF('PLANNING PRINCIPAL'!$I$194:$X$194,A29)>=1,\"\",ROW())","v":29},null,null,{"$f":"IF(COUNTIF('PLANNING PRINCIPAL'!$I$197:$X$197,D29)>=1,\"\",ROW())","v":29},null,null,{"$f":"IF(COUNTIF('PLANNING PRINCIPAL'!$I$200:$X$200,G29)>=1,\"\",ROW())","v":29},null,null,{"$f":"IF(COUNTIF('PLANNING PRINCIPAL'!$I$203:$X$203,J29)>=1,\"\",ROW())","v":29},null,null,{"$f":"IF(COUNTIF('PLANNING PRINCIPAL'!$I$206:$X$206,M29)>=1,\"\",ROW())","v":29},null,null,{"$f":"IF(COUNTIF('PLANNING PRINCIPAL'!$I$209:$X$209,P29)>=1,\"\",ROW())","v":29},null,null,{"$f":"IF(COUNTIF('PLANNING PRINCIPAL'!$I$212:$X$212,S29)>=1,\"\",ROW())","v":29},null,null,{"$f":"IF(COUNTIF('PLANNING PRINCIPAL'!$I$214:$X$214,V29)>=1,\"\",ROW())","v":29}]
[null,{"$f":"IF(COUNTIF('PLANNING PRINCIPAL'!$I$194:$X$194,A30)>=1,\"\",ROW())","v":30},null,null,{"$f":"IF(COUNTIF('PLANNING PRINCIPAL'!$I$197:$X$197,D30)>=1,\"\",ROW())","v":30},null,null,{"$f":"IF(COUNTIF('PLANNING PRINCIPAL'!$I$200:$X$200,G30)>=1,\"\",ROW())","v":30},null,null,{"$f":"IF(COUNTIF('PLANNING PRINCIPAL'!$I$203:$X$203,J30)>=1,\"\",ROW())","v":30},null,null,{"$f":"IF(COUNTIF('PLANNING PRINCIPAL'!$I$206:$X$206,M30)>=1,\"\",ROW())","v":30},null,null,{"$f":"IF(COUNTIF('PLANNING PRINCIPAL'!$I$209:$X$209,P30)>=1,\"\",ROW())","v":30},null,null,{"$f":"IF(COUNTIF('PLANNING PRINCIPAL'!$I$212:$X$212,S30)>=1,\"\",ROW())","v":30},null,null,{"$f":"IF(COUNTIF('PLANNING PRINCIPAL'!$I$214:$X$214,V30)>=1,\"\",ROW())","v":30}]
[null,{"$f":"IF(COUNTIF('PLANNING PRINCIPAL'!$I$194:$X$194,A31)>=1,\"\",ROW())","v":31},null,null,{"$f":"IF(COUNTIF('PLANNING PRINCIPAL'!$I$197:$X$197,D31)>=1,\"\",ROW())","v":31},null,null,{"$f":"IF(COUNTIF('PLANNING PRINCIPAL'!$I$200:$X$200,G31)>=1,\"\",ROW())","v":31},null,null,{"$f":"IF(COUNTIF('PLANNING PRINCIPAL'!$I$203:$X$203,J31)>=1,\"\",ROW())","v":31},null,null,{"$f":"IF(COUNTIF('PLANNING PRINCIPAL'!$I$206:$X$206,M31)>=1,\"\",ROW())","v":31},null,null,{"$f":"IF(COUNTIF('PLANNING PRINCIPAL'!$I$209:$X$209,P31)>=1,\"\",ROW())","v":31},null,null,{"$f":"IF(COUNTIF('PLANNING PRINCIPAL'!$I$212:$X$212,S31)>=1,\"\",ROW())","v":31},null,null,{"$f":"IF(COUNTIF('PLANNING PRINCIPAL'!$I$214:$X$214,V31)>=1,\"\",ROW())","v":31}]
[null,{"$f":"IF(COUNTIF('PLANNING PRINCIPAL'!$I$194:$X$194,A32)>=1,\"\",ROW())","v":32},null,null,{"$f":"IF(COUNTIF('PLANNING PRINCIPAL'!$I$197:$X$197,D32)>=1,\"\",ROW())","v":32},null,null,{"$f":"IF(COUNTIF('PLANNING PRINCIPAL'!$I$200:$X$200,G32)>=1,\"\",ROW())","v":32},null,null,{"$f":"IF(COUNTIF('PLANNING PRINCIPAL'!$I$203:$X$203,J32)>=1,\"\",ROW())","v":32},null,null,{"$f":"IF(COUNTIF('PLANNING PRINCIPAL'!$I$206:$X$206,M32)>=1,\"\",ROW())","v":32},null,null,{"$f":"IF(COUNTIF('PLANNING PRINCIPAL'!$I$209:$X$209,P32)>=1,\"\",ROW())","v":32},null,null,{"$f":"IF(COUNTIF('PLANNING PRINCIPAL'!$I$212:$X$212,S32)>=1,\"\",ROW())","v":32},null,null,{"$f":"IF(COUNTIF('PLANNING PRINCIPAL'!$I$214:$X$214,V32)>=1,\"\",ROW())","v":32}]
[null,{"$f":"IF(COUNTIF('PLANNING PRINCIPAL'!$I$194:$X$194,A33)>=1,\"\",ROW())","v":33},null,null,{"$f":"IF(COUNTIF('PLANNING PRINCIPAL'!$I$197:$X$197,D33)>=1,\"\",ROW())","v":33},null,null,{"$f":"IF(COUNTIF('PLANNING PRINCIPAL'!$I$200:$X$200,G33)>=1,\"\",ROW())","v":33},null,null,{"$f":"IF(COUNTIF('PLANNING PRINCIPAL'!$I$203:$X$203,J33)>=1,\"\",ROW())","v":33},null,null,{"$f":"IF(COUNTIF('PLANNING PRINCIPAL'!$I$206:$X$206,M33)>=1,\"\",ROW())","v":33},null,null,{"$f":"IF(COUNTIF('PLANNING PRINCIPAL'!$I$209:$X$209,P33)>=1,\"\",ROW())","v":33},null,null,{"$f":"IF(COUNTIF('PLANNING PRINCIPAL'!$I$212:$X$212,S33)>=1,\"\",ROW())","v":33},null,null,{"$f":"IF(COUNTIF('PLANNING PRINCIPAL'!$I$214:$X$214,V33)>=1,\"\",ROW())","v":33}]
[null,{"$f":"IF(COUNTIF('PLANNING PRINCIPAL'!$I$194:$X$194,A34)>=1,\"\",ROW())","v":34},null,null,{"$f":"IF(COUNTIF('PLANNING PRINCIPAL'!$I$197:$X$197,D34)>=1,\"\",ROW())","v":34},null,null,{"$f":"IF(COUNTIF('PLANNING PRINCIPAL'!$I$200:$X$200,G34)>=1,\"\",ROW())","v":34},null,null,{"$f":"IF(COUNTIF('PLANNING PRINCIPAL'!$I$203:$X$203,J34)>=1,\"\",ROW())","v":34},null,null,{"$f":"IF(COUNTIF('PLANNING PRINCIPAL'!$I$206:$X$206,M34)>=1,\"\",ROW())","v":34},null,null,{"$f":"IF(COUNTIF('PLANNING PRINCIPAL'!$I$209:$X$209,P34)>=1,\"\",ROW())","v":34},null,null,{"$f":"IF(COUNTIF('PLANNING PRINCIPAL'!$I$212:$X$212,S34)>=1,\"\",ROW())","v":34},null,null,{"$f":"IF(COUNTIF('PLANNING PRINCIPAL'!$I$214:$X$214,V34)>=1,\"\",ROW())","v":34}]
["LUNDI",null,null,"MARDI",null,null,"MERCREDI",null,null,"JEUDI",null,null,"VENDREDI",null,null,"SAMEDI",null,null,"DIMANCHE",null,null,"ASTREINTE"]

{"sheet":"DATA S10","index":11,"n_rows":35,"n_cols":24,"rows_kept":35,"cut":false,"hidden":false,"merged":[[34,18,34,20],[34,21,34,23],[34,0,34,2],[34,3,34,5],[34,6,34,8],[34,9,34,11],[34,12,34,14],[34,15,34,17]]}
[{"$f":"'DATA S1'!A1","v":"MAS XX "},{"$f":"IF(COUNTIF('PLANNING PRINCIPAL'!$I$217:$X$217,A1)>=1,\"\",ROW())","v":1},{"$f":"IF(ROW(A1)-ROW(A$1)+1>COUNT(B:B),\"\", INDEX(A:A,SMALL(B:B,1+ROW(A1)-ROW(A$1))))","v":"MAS XX "},{"$f":"A1","v":"MAS XX "},{"$f":"IF(COUNTIF('PLANNING PRINCIPAL'!$I$220:$X$220,D1)>=1,\"\",ROW())","v":1},{"$f":"IF(ROW(D1)-ROW(D$1)+1>COUNT(E:E),\"\", INDEX(D:D,SMALL(E:E,1+ROW(D1)-ROW(D$1))))","v":"MAS XX "},{"$f":"A1","v":"MAS XX "},{"$f":"IF(COUNTIF('PLANNING PRINCIPAL'!$I$223:$X$223,G1)>=1,\"\",ROW())","v":1},{"$f":"IF(ROW(G1)-ROW(G$1)+1>COUNT(H:H),\"\", INDEX(G:G,SMALL(H:H,1+ROW(G1)-ROW(G$1))))","v":"MAS XX "},{"$f":"A1","v":"MAS XX "},{"$f":"IF(COUNTIF('PLANNING PRINCIPAL'!$I$226:$X$226,J1)>=1,\"\",ROW())","v":1},{"$f":"IF(ROW(J1)-ROW(J$1)+1>COUNT(K:K),\"\", INDEX(J:J,SMALL(K:K,1+ROW(J1)-ROW(J$1))))","v":"MAS XX "},{"$f":"A1","v":"MAS XX "},{"$f":"IF(COUNTIF('PLANNING PRINCIPAL'!$I$229:$X$229,M1)>=1,\"\",ROW())","v":1},{"$f":"IF(ROW(M1)-ROW(M$1)+1>COUNT(N:N),\"\", INDEX(M:M,SMALL(N:N,1+ROW(M1)-ROW(M$1))))","v":"MAS XX "},{"$f":"A1","v":"MAS XX "},{"$f":"IF(COUNTIF('PLANNING PRINCIPAL'!$I$232:$X$232,P1)>=1,\"\",ROW())","v":1},{"$f":"IF(ROW(P1)-ROW(P$1)+1>COUNT(Q:Q),\"\", INDEX(P:P,SMALL(Q:Q,1+ROW(P1)-ROW(P$1))))","v":"MAS XX "},{"$f":"A1","v":"MAS XX "},{"$f":"IF(COUNTIF('PLANNING PRINCIPAL'!$I$235:$X$235,S1)>=1,\"\",ROW())","v":1},{"$f":"IF(ROW(S1)-ROW(S$1)+1>COUNT(T:T),\"\", INDEX(S:S,SMALL(T:T,1+ROW(S1)-ROW(S$1))))","v":"MAS XX "},{"$f":"'DATA S1'!V1","v":"ASTREINTE SLT"},{"$f":"IF(COUNTIF('PLANNING PRINCIPAL'!$I$237:$X$237,V1)>=1,\"\",ROW())","v":1},{"$f":"IF(ROW(V1)-ROW(V$1)+1>COUNT(W:W),\"\", INDEX(V:V,SMALL(W:W,1+ROW(V1)-ROW(V$1))))","v":"ASTREINTE SLT"}]
[{"$f":"'DATA S1'!A2","v":"MAS YY "},{"$f":"IF(COUNTIF('PLANNING PRINCIPAL'!$I$217:$X$217,A2)>=1,\"\",ROW())","v":2},{"$f":"IF(ROW(A2)-ROW(A$1)+1>COUNT(B:B),\"\", INDEX(A:A,SMALL(B:B,1+ROW(A2)-ROW(A$1))))","v":"MAS YY "},"MAS YY ",{"$f":"IF(COUNTIF('PLANNING PRINCIPAL'!$I$220:$X$220,D2)>=1,\"\",ROW())","v":2},{"$f":"IF(ROW(D2)-ROW(D$1)+1>COUNT(E:E),\"\", INDEX(D:D,SMALL(E:E,1+ROW(D2)-ROW(D$1))))","v":"MAS YY "},{"$f":"A2","v":"MAS YY "},{"$f":"IF(COUNTIF('PLANNING PRINCIPAL'!$I$223:$X$223,G2)>=1,\"\",ROW())","v":2},{"$f":"IF(ROW(G2)-ROW(G$1)+1>COUNT(H:H),\"\", INDEX(G:G,SMALL(H:H,1+ROW(G2)-ROW(G$1))))","v":"MAS YY "},{"$f":"A2","v":"MAS YY "},{"$f":"IF(COUNTIF('PLANNING PRINCIPAL'!$I$226:$X$226,J2)>=1,\"\",ROW())","v":2},{"$f":"IF(ROW(J2)-ROW(J$1)+1>COUNT(K:K),\"\", INDEX(J:J,SMALL(K:K,1+ROW(J2)-ROW(J$1))))","v":"MAS YY "},{"$f":"A2","v":"MAS YY "},{"$f":"IF(COUNTIF('PLANNING PRINCIPAL'!$I$206:$X$206,M2)>=1,\"\",ROW())","v":""},{"$f":"IF(ROW(M2)-ROW(M$1)+1>COUNT(N:N),\"\", INDEX(M:M,SMALL(N:N,1+ROW(M2)-ROW(M$1))))","v":"BEN VL PT "},{"$f":"A2","v":"MAS YY "},{"$f":"IF(COUNTIF('PLANNING PRINCIPAL'!$I$232:$X$232,P2)>=1,\"\",ROW())","v":2},{"$f":"IF(ROW(P2)-ROW(P$1)+1>COUNT(Q:Q),\"\", INDEX(P:P,SMALL(Q:Q,1+ROW(P2)-ROW(P$1))))","v":"MAS YY "},{"$f":"A2","v":"MAS YY "},{"$f":"IF(COUNTIF('PLANNING PRINCIPAL'!$I$235:$X$235,S2)>=1,\"\",ROW())","v":2},{"$f":"IF(ROW(S2)-ROW(S$1)+1>COUNT(T:T),\"\", INDEX(S:S,SMALL(T:T,1+ROW(S2)-ROW(S$1))))","v":"MAS YY "},{"$f":"'DATA S1'!V2","v":"ASTREINTE EP"},{"$f":"IF(COUNTIF('PLANNING PRINCIPAL'!$I$237:$X$237,V2)>=1,\"\",ROW())","v":2},{"$f":"IF(ROW(V2)-ROW(V$1)+1>COUNT(W:W),\"\", INDEX(V:V,SMALL(W:W,1+ROW(V2)-ROW(V$1))))","v":"ASTREINTE EP"}]
[{"$f":"'DATA S1'!A3","v":"MAS VQ "},{"$f":"IF(COUNTIF('PLANNING PRINCIPAL'!$I$217:$X$217,A3)>=1,\"\",ROW())","v":3},"MAS VQ ","MAS VQ ",{"$f":"IF(COUNTIF('PLANNING PRINCIPAL'!$I$220:$X$220,D3)>=1,\"\",ROW())","v":3},"MAS VQ ","MAS VQ ",{"$f":"IF(COUNTIF('PLANNING PRINCIPAL'!$I$223:$X$223,G3)>=1,\"\",ROW())","v":3},"MAS VQ ","MAS VQ ",{"$f":"IF(COUNTIF('PLANNING PRINCIPAL'!$I$226:$X$226,J3)>=1,\"\",ROW())","v":3},"MAS VQ ","MAS VQ ",{"$f":"IF(COUNTIF('PLANNING PRINCIPAL'!$I$206:$X$206,M3)>=1,\"\",ROW())","v":""},"BEN 19T ","MAS VQ ",{"$f":"IF(COUNTIF('PLANNING PRINCIPAL'!$I$232:$X$232,P3)>=1,\"\",ROW())","v":3},"MAS VQ ","MAS VQ ",{"$f":"IF(COUNTIF('PLANNING PRINCIPAL'!$I$235:$X$235,S3)>=1,\"\",ROW())","v":3},"MAS VQ ",{"$f":"'DATA S1'!V3","v":"V NOC CHARTRES"},{"$f":"IF(COUNTIF('PLANNING PRINCIPAL'!$I$237:$X$237,V3)>=1,\"\",ROW())","v":3},"V NOC CHARTRES"]
[{"$f":"'DATA S1'!A4","v":"MAS PL "},{"$f":"IF(COUNTIF('PLANNING PRINCIPAL'!$I$217:$X$217,A4)>=1,\"\",ROW())","v":4},"MAS PL ","MAS PL ",{"$f":"IF(COUNTIF('PLANNING PRINCIPAL'!$I$220:$X$220,D4)>=1,\"\",ROW())","v":4},"MAS PL ","MAS PL ",{"$f":"IF(COUNTIF('PLANNING PRINCIPAL'!$I$223:$X$223,G4)>=1,\"\",ROW())","v":4},"MAS PL ","MAS PL ",{"$f":"IF(COUNTIF('PLANNING PRINCIPAL'!$I$226:$X$226,J4)>=1,\"\",ROW())","v":4},"MAS PL ","MAS PL ",{"$f":"IF(COUNTIF('PLANNING PRINCIPAL'!$I$206:$X$206,M4)>=1,\"\",ROW())","v":""},"BEN 13T ","MAS PL ",{"$f":"IF(COUNTIF('PLANNING PRINCIPAL'!$I$232:$X$232,P4)>=1,\"\",ROW())","v":4},"MAS PL ","MAS PL ",{"$f":"IF(COUNTIF('PLANNING PRINCIPAL'!$I$235:$X$235,S4)>=1,\"\",ROW())","v":4},"MAS PL ",{"$f":"'DATA S1'!V4","v":"V NOC EPERNON"},{"$f":"IF(COUNTIF('PLANNING PRINCIPAL'!$I$237:$X$237,V4)>=1,\"\",ROW())","v":4},"V NOC EPERNON"]
[{"$f":"'DATA S1'!A5","v":"BEN VL PT "},{"$f":"IF(COUNTIF('PLANNING PRINCIPAL'!$I$217:$X$217,A5)>=1,\"\",ROW())","v":5},"BEN VL PT ","BEN VL PT ",{"$f":"IF(COUNTIF('PLANNING PRINCIPAL'!$I$220:$X$220,D5)>=1,\"\",ROW())","v":5},"BEN VL PT ","BEN VL PT ",{"$f":"IF(COUNTIF('PLANNING PRINCIPAL'!$I$223:$X$223,G5)>=1,\"\",ROW())","v":5},"BEN VL PT ","BEN VL PT ",{"$f":"IF(COUNTIF('PLANNING PRINCIPAL'!$I$226:$X$226,J5)>=1,\"\",ROW())","v":5},"BEN VL PT ","BEN VL PT ",{"$f":"IF(COUNTIF('PLANNING PRINCIPAL'!$I$206:$X$206,M5)>=1,\"\",ROW())","v":5},"NAC VL 18M ","BEN VL PT ",{"$f":"IF(COUNTIF('PLANNING PRINCIPAL'!$I$232:$X$232,P5)>=1,\"\",ROW())","v":5},"BEN VL PT ","BEN VL PT ",{"$f":"IF(COUNTIF('PLANNING PRINCIPAL'!$I$235:$X$235,S5)>=1,\"\",ROW())","v":5},"BEN VL PT ",{"$f":"'DATA S1'!V5","v":"V NOC HANCHES"},{"$f":"IF(COUNTIF('PLANNING PRINCIPAL'!$I$237:$X$237,V5)>=1,\"\",ROW())","v":5},"V NOC HANCHES"]
[{"$f":"'DATA S1'!A6","v":"BEN 19T "},{"$f":"IF(COUNTIF('PLANNING PRINCIPAL'!$I$217:$X$217,A6)>=1,\"\",ROW())","v":6},"BEN 19T ","BEN 19T ",{"$f":"IF(COUNTIF('PLANNING PRINCIPAL'!$I$220:$X$220,D6)>=1,\"\",ROW())","v":6},"BEN 19T ","BEN 19T ",{"$f":"IF(COUNTIF('PLANNING PRINCIPAL'!$I$223:$X$223,G6)>=1,\"\",ROW())","v":6},"BEN 19T ","BEN 19T ",{"$f":"IF(COUNTIF('PLANNING PRINCIPAL'!$I$226:$X$226,J6)>=1,\"\",ROW())","v":6},"BEN 19T ","BEN 19T ",{"$f":"IF(COUNTIF('PLANNING PRINCIPAL'!$I$206:$X$206,M6)>=1,\"\",ROW())","v":6},"NAC COMI ","BEN 19T ",{"$f":"IF(COUNTIF('PLANNING PRINCIPAL'!$I$232:$X$232,P6)>=1,\"\",ROW())","v":6},"BEN 19T ","BEN 19T ",{"$f":"IF(COUNTIF('PLANNING PRINCIPAL'!$I$235:$X$235,S6)>=1,\"\",ROW())","v":6},"BEN 19T ",{"$f":"'DATA S1'!V6","v":"V NOC MAINTENON"},{"$f":"IF(COUNTIF('PLANNING PRINCIPAL'!$I$237:$X$237,V6)>=1,\"\",ROW())","v":6},"V NOC MAINTENON"]
[{"$f":"'DATA S1'!A7","v":"BEN 13T "},{"$f":"IF(COUNTIF('PLANNING PRINCIPAL'!$I$217:$X$217,A7)>=1,\"\",ROW())","v":7},"BEN 13T ","BEN 13T ",{"$f":"IF(COUNTIF('PLANNING PRINCIPAL'!$I$220:$X$220,D7)>=1,\"\",ROW())","v":7},"BEN 13T ","BEN 13T ",{"$f":"IF(COUNTIF('PLANNING PRINCIPAL'!$I$223:$X$223,G7)>=1,\"\",ROW())","v":7},"BEN 13T ","BEN 13T ",{"$f":"IF(COUNTIF('PLANNING PRINCIPAL'!$I$226:$X$226,J7)>=1,\"\",ROW())","v":7},"BEN 13T ","BEN 13T ",{"$f":"IF(COUNTIF('PLANNING PRINCIPAL'!$I$206:$X$206,M7)>=1,\"\",ROW())","v":7},"#####LOCATION#####","BEN 13T ",{"$f":"IF(COUNTIF('PLANNING PRINCIPAL'!$I$232:$X$232,P7)>=1,\"\",ROW())","v":7},"BEN 13T ","BEN 13T ",{"$f":"IF(COUNTIF('PLANNING PRINCIPAL'!$I$235:$X$235,S7)>=1,\"\",ROW())","v":7},"BEN 13T ",null,{"$f":"IF(COUNTIF('PLANNING PRINCIPAL'!$I$214:$X$214,V7)>=1,\"\",ROW())","v":7}]
[{"$f":"'DATA S1'!A8","v":"NAC VL 18M "},{"$f":"IF(COUNTIF('PLANNING PRINCIPAL'!$I$217:$X$217,A8)>=1,\"\",ROW())","v":8},"NAC VL 18M ","NAC VL 18M ",{"$f":"IF(COUNTIF('PLANNING PRINCIPAL'!$I$220:$X$220,D8)>=1,\"\",ROW())","v":8},"NAC VL 18M ","NAC VL 18M ",{"$f":"IF(COUNTIF('PLANNING PRINCIPAL'!$I$223:$X$223,G8)>=1,\"\",ROW())","v":8},"NAC VL 18M ","NAC VL 18M ",{"$f":"IF(COUNTIF('PLANNING PRINCIPAL'!$I$226:$X$226,J8)>=1,\"\",ROW())","v":8},"NAC VL 18M ","NAC VL 18M ",{"$f":"IF(COUNTIF('PLANNING PRINCIPAL'!$I$206:$X$206,M8)>=1,\"\",ROW())","v":8},"LOC NAC AEB","NAC VL 18M ",{"$f":"IF(COUNTIF('PLANNING PRINCIPAL'!$I$232:$X$232,P8)>=1,\"\",ROW())","v":8},"NAC VL 18M ","NAC VL 18M ",{"$f":"IF(COUNTIF('PLANNING PRINCIPAL'!$I$235:$X$235,S8)>=1,\"\",ROW())","v":8},"NAC VL 18M ",null,{"$f":"IF(COUNTIF('PLANNING PRINCIPAL'!$I$214:$X$214,V8)>=1,\"\",ROW())","v":8}]
[{"$f":"'DATA S1'!A9","v":"NAC EGIE"},{"$f":"IF(COUNTIF('PLANNING PRINCIPAL'!$I$217:$X$217,A9)>=1,\"\",ROW())","v":9},"NAC EGIE","NAC EGIE",{"$f":"IF(COUNTIF('PLANNING PRINCIPAL'!$I$220:$X$220,D9)>=1,\"\",ROW())","v":9},"NAC EGIE","NAC EGIE",{"$f":"IF(COUNTIF('PLANNING PRINCIPAL'!$I$223:$X$223,G9)>=1,\"\",ROW())","v":9},"NAC EGIE","NAC EGIE",{"$f":"IF(COUNTIF('PLANNING PRINCIPAL'!$I$226:$X$226,J9)>=1,\"\",ROW())","v":9},"NAC EGIE","NAC EGIE",{"$f":"IF(COUNTIF('PLANNING PRINCIPAL'!$I$206:$X$206,M9)>=1,\"\",ROW())","v":""},"LOC NAC INTERLOC","NAC EGIE",{"$f":"IF(COUNTIF('PLANNING PRINCIPAL'!$I$232:$X$232,P9)>=1,\"\",ROW())","v":9},"NAC EGIE","NAC EGIE",{"$f":"IF(COUNTIF('PLANNING PRINCIPAL'!$I$235:$X$235,S9)>=1,\"\",ROW())","v":9},"NAC EGIE",null,{"$f":"IF(COUNTIF('PLANNING PRINCIPAL'!$I$214:$X$214,V9)>=1,\"\",ROW())","v":9}]
[{"$f":"'DATA S1'!A10","v":"NAC COMI "},{"$f":"IF(COUNTIF('PLANNING PRINCIPAL'!$I$217:$X$217,A10)>=1,\"\",ROW())","v":10},"NAC COMI ","NAC COMI ",{"$f":"IF(COUNTIF('PLANNING PRINCIPAL'!$I$220:$X$220,D10)>=1,\"\",ROW())","v":10},"NAC COMI ","NAC COMI ",{"$f":"IF(COUNTIF('PLANNING PRINCIPAL'!$I$223:$X$223,G10)>=1,\"\",ROW())","v":10},"NAC COMI ","NAC COMI ",{"$f":"IF(COUNTIF('PLANNING PRINCIPAL'!$I$226:$X$226,J10)>=1,\"\",ROW())","v":10},"NAC COMI ","NAC COMI ",{"$f":"IF(COUNTIF('PLANNING PRINCIPAL'!$I$206:$X$206,M10)>=1,\"\",ROW())","v":10},"LOC NAC KILOUTOU","NAC COMI ",{"$f":"IF(COUNTIF('PLANNING PRINCIPAL'!$I$232:$X$232,P10)>=1,\"\",ROW())","v":10},"NAC COMI ","NAC COMI ",{"$f":"IF(COUNTIF('PLANNING PRINCIPAL'!$I$235:$X$235,S10)>=1,\"\",ROW())","v":10},"NAC COMI ",null,{"$f":"IF(COUNTIF('PLANNING PRINCIPAL'!$I$214:$X$214,V10)>=1,\"\",ROW())","v":10}]
[{"$f":"'DATA S1'!A11","v":"#####LOCATION#####"},{"$f":"IF(COUNTIF('PLANNING PRINCIPAL'!$I$217:$X$217,A11)>=1,\"\",ROW())","v":11},"#####LOCATION#####","#####LOCATION#####",{"$f":"IF(COUNTIF('PLANNING PRINCIPAL'!$I$220:$X$220,D11)>=1,\"\",ROW())","v":11},"#####LOCATION#####","#####LOCATION#####",{"$f":"IF(COUNTIF('PLANNING PRINCIPAL'!$I$223:$X$223,G11)>=1,\"\",ROW())","v":11},"#####LOCATION#####","#####LOCATION#####",{"$f":"IF(COUNTIF('PLANNING PRINCIPAL'!$I$226:$X$226,J11)>=1,\"\",ROW())","v":11},"#####LOCATION#####","#####LOCATION#####",{"$f":"IF(COUNTIF('PLANNING PRINCIPAL'!$I$206:$X$206,M11)>=1,\"\",ROW())","v":11},"LOC NAC AEB","#####LOCATION#####",{"$f":"IF(COUNTIF('PLANNING PRINCIPAL'!$I$232:$X$232,P11)>=1,\"\",ROW())","v":11},"#####LOCATION#####","#####LOCATION#####",{"$f":"IF(COUNTIF('PLANNING PRINCIPAL'!$I$235:$X$235,S11)>=1,\"\",ROW())","v":11},"#####LOCATION#####",null,{"$f":"IF(COUNTIF('PLANNING PRINCIPAL'!$I$214:$X$214,V11)>=1,\"\",ROW())","v":11}]
[{"$f":"'DATA S1'!A12","v":"LOC NAC SOLOMAT"},{"$f":"IF(COUNTIF('PLANNING PRINCIPAL'!$I$217:$X$217,A12)>=1,\"\",ROW())","v":12},"LOC NAC SOLOMAT","LOC NAC SOLOMAT",{"$f":"IF(COUNTIF('PLANNING PRINCIPAL'!$I$220:$X$220,D12)>=1,\"\",ROW())","v":12},"LOC NAC SOLOMAT","LOC NAC SOLOMAT",{"$f":"IF(COUNTIF('PLANNING PRINCIPAL'!$I$223:$X$223,G12)>=1,\"\",ROW())","v":12},"LOC NAC SOLOMAT","LOC NAC SOLOMAT",{"$f":"IF(COUNTIF('PLANNING PRINCIPAL'!$I$226:$X$226,J12)>=1,\"\",ROW())","v":12},"LOC NAC SOLOMAT","LOC NAC SOLOMAT",{"$f":"IF(COUNTIF('PLANNING PRINCIPAL'!$I$206:$X$206,M12)>=1,\"\",ROW())","v":""},"LOC PELLE SOLOMAT","LOC NAC SOLOMAT",{"$f":"IF(COUNTIF('PLANNING PRINCIPAL'!$I$232:$X$232,P12)>=1,\"\",ROW())","v":12},"LOC NAC SOLOMAT","LOC NAC SOLOMAT",{"$f":"IF(COUNTIF('PLANNING PRINCIPAL'!$I$235:$X$235,S12)>=1,\"\",ROW())","v":12},"LOC NAC SOLOMAT",null,{"$f":"IF(COUNTIF('PLANNING PRINCIPAL'!$I$214:$X$214,V12)>=1,\"\",ROW())","v":12}]
[{"$f":"'DATA S1'!A13","v":"LOC NAC AEB"},{"$f":"IF(COUNTIF('PLANNING PRINCIPAL'!$I$217:$X$217,A13)>=1,\"\",ROW())","v":13},"LOC NAC AEB","LOC NAC AEB",{"$f":"IF(COUNTIF('PLANNING PRINCIPAL'!$I$220:$X$220,D13)>=1,\"\",ROW())","v":13},"LOC NAC AEB","LOC NAC AEB",{"$f":"IF(COUNTIF('PLANNING PRINCIPAL'!$I$223:$X$223,G13)>=1,\"\",ROW())","v":13},"LOC NAC AEB","LOC NAC AEB",{"$f":"IF(COUNTIF('PLANNING PRINCIPAL'!$I$226:$X$226,J13)>=1,\"\",ROW())","v":13},"LOC NAC AEB","LOC NAC AEB",{"$f":"IF(COUNTIF('PLANNING PRINCIPAL'!$I$206:$X$206,M13)>=1,\"\",ROW())","v":13},"LOC PELLE AEB","LOC NAC AEB",{"$f":"IF(COUNTIF('PLANNING PRINCIPAL'!$I$232:$X$232,P13)>=1,\"\",ROW())","v":13},"LOC NAC AEB","LOC NAC AEB",{"$f":"IF(COUNTIF('PLANNING PRINCIPAL'!$I$235:$X$235,S13)>=1,\"\",ROW())","v":13},"LOC NAC AEB",null,{"$f":"IF(COUNTIF('PLANNING PRINCIPAL'!$I$214:$X$214,V13)>=1,\"\",ROW())","v":13}]
[{"$f":"'DATA S1'!A14","v":"LOC NAC INTERLOC"},{"$f":"IF(COUNTIF('PLANNING PRINCIPAL'!$I$217:$X$217,A14)>=1,\"\",ROW())","v":14},"LOC NAC INTERLOC","LOC NAC INTERLOC",{"$f":"IF(COUNTIF('PLANNING PRINCIPAL'!$I$220:$X$220,D14)>=1,\"\",ROW())","v":14},"LOC NAC INTERLOC","LOC NAC INTERLOC",{"$f":"IF(COUNTIF('PLANNING PRINCIPAL'!$I$223:$X$223,G14)>=1,\"\",ROW())","v":14},"LOC NAC INTERLOC","LOC NAC INTERLOC",{"$f":"IF(COUNTIF('PLANNING PRINCIPAL'!$I$226:$X$226,J14)>=1,\"\",ROW())","v":14},"LOC NAC INTERLOC","LOC NAC INTERLOC",{"$f":"IF(COUNTIF('PLANNING PRINCIPAL'!$I$206:$X$206,M14)>=1,\"\",ROW())","v":14},"LOC PELLE INTERLOC","LOC NAC INTERLOC",{"$f":"IF(COUNTIF('PLANNING PRINCIPAL'!$I$232:$X$232,P14)>=1,\"\",ROW())","v":14},"LOC NAC INTERLOC","LOC NAC INTERLOC",{"$f":"IF(COUNTIF('PLANNING PRINCIPAL'!$I$235:$X$235,S14)>=1,\"\",ROW())","v":14},"LOC NAC INTERLOC",null,{"$f":"IF(COUNTIF('PLANNING PRINCIPAL'!$I$214:$X$214,V14)>=1,\"\",ROW())","v":14}]
[{"$f":"'DATA S1'!A15","v":"LOC NAC KILOUTOU"},{"$f":"IF(COUNTIF('PLANNING PRINCIPAL'!$I$217:$X$217,A15)>=1,\"\",ROW())","v":15},"LOC NAC KILOUTOU","LOC NAC KILOUTOU",{"$f":"IF(COUNTIF('PLANNING PRINCIPAL'!$I$220:$X$220,D15)>=1,\"\",ROW())","v":15},"LOC NAC KILOUTOU","LOC NAC KILOUTOU",{"$f":"IF(COUNTIF('PLANNING PRINCIPAL'!$I$223:$X$223,G15)>=1,\"\",ROW())","v":15},"LOC NAC KILOUTOU","LOC NAC KILOUTOU",{"$f":"IF(COUNTIF('PLANNING PRINCIPAL'!$I$226:$X$226,J15)>=1,\"\",ROW())","v":15},"LOC NAC KILOUTOU","LOC NAC KILOUTOU",{"$f":"IF(COUNTIF('PLANNING PRINCIPAL'!$I$206:$X$206,M15)>=1,\"\",ROW())","v":15},"LOC PELLE KILOUTOU","LOC NAC KILOUTOU",{"$f":"IF(COUNTIF('PLANNING PRINCIPAL'!$I$232:$X$232,P15)>=1,\"\",ROW())","v":15},"LOC NAC KILOUTOU","LOC NAC KILOUTOU",{"$f":"IF(COUNTIF('PLANNING PRINCIPAL'!$I$235:$X$235,S15)>=1,\"\",ROW())","v":15},"LOC NAC KILOUTOU",null,{"$f":"IF(COUNTIF('PLANNING PRINCIPAL'!$I$214:$X$214,V15)>=1,\"\",ROW())","v":15}]
[{"$f":"'DATA S1'!A16","v":"LOC NAC AEB"},{"$f":"IF(COUNTIF('PLANNING PRINCIPAL'!$I$217:$X$217,A16)>=1,\"\",ROW())","v":16},"LOC NAC AEB","LOC NAC AEB",{"$f":"IF(COUNTIF('PLANNING PRINCIPAL'!$I$220:$X$220,D16)>=1,\"\",ROW())","v":16},"LOC NAC AEB","LOC NAC AEB",{"$f":"IF(COUNTIF('PLANNING PRINCIPAL'!$I$223:$X$223,G16)>=1,\"\",ROW())","v":16},"LOC NAC AEB","LOC NAC AEB",{"$f":"IF(COUNTIF('PLANNING PRINCIPAL'!$I$226:$X$226,J16)>=1,\"\",ROW())","v":16},"LOC NAC AEB","LOC NAC AEB",{"$f":"IF(COUNTIF('PLANNING PRINCIPAL'!$I$206:$X$206,M16)>=1,\"\",ROW())","v":16},0,"LOC NAC AEB",{"$f":"IF(COUNTIF('PLANNING PRINCIPAL'!$I$232:$X$232,P16)>=1,\"\",ROW())","v":16},"LOC NAC AEB","LOC NAC AEB",{"$f":"IF(COUNTIF('PLANNING PRINCIPAL'!$I$235:$X$235,S16)>=1,\"\",ROW())","v":16},"LOC NAC AEB",null,{"$f":"IF(COUNTIF('PLANNING PRINCIPAL'!$I$214:$X$214,V16)>=1,\"\",ROW())","v":16}]
[{"$f":"'DATA S1'!A17","v":"LOC PELLE SOLOMAT"},{"$f":"IF(COUNTIF('PLANNING PRINCIPAL'!$I$217:$X$217,A17)>=1,\"\",ROW())","v":17},"LOC PELLE SOLOMAT","LOC PELLE SOLOMAT",{"$f":"IF(COUNTIF('PLANNING PRINCIPAL'!$I$220:$X$220,D17)>=1,\"\",ROW())","v":17},"LOC PELLE SOLOMAT","LOC PELLE SOLOMAT",{"$f":"IF(COUNTIF('PLANNING PRINCIPAL'!$I$223:$X$223,G17)>=1,\"\",ROW())","v":17},"LOC PELLE SOLOMAT","LOC PELLE SOLOMAT",{"$f":"IF(COUNTIF('PLANNING PRINCIPAL'!$I$226:$X$226,J17)>=1,\"\",ROW())","v":17},"LOC PELLE SOLOMAT","LOC PELLE SOLOMAT",{"$f":"IF(COUNTIF('PLANNING PRINCIPAL'!$I$206:$X$206,M17)>=1,\"\",ROW())","v":17},0,"LOC PELLE SOLOMAT",{"$f":"IF(COUNTIF('PLANNING PRINCIPAL'!$I$232:$X$232,P17)>=1,\"\",ROW())","v":17},"LOC PELLE SOLOMAT","LOC PELLE SOLOMAT",{"$f":"IF(COUNTIF('PLANNING PRINCIPAL'!$I$235:$X$235,S17)>=1,\"\",ROW())","v":17},"LOC PELLE SOLOMAT",null,{"$f":"IF(COUNTIF('PLANNING PRINCIPAL'!$I$214:$X$214,V17)>=1,\"\",ROW())","v":17}]
[{"$f":"'DATA S1'!A18","v":"LOC PELLE AEB"},{"$f":"IF(COUNTIF('PLANNING PRINCIPAL'!$I$217:$X$217,A18)>=1,\"\",ROW())","v":18},"LOC PELLE AEB","LOC PELLE AEB",{"$f":"IF(COUNTIF('PLANNING PRINCIPAL'!$I$220:$X$220,D18)>=1,\"\",ROW())","v":18},"LOC PELLE AEB","LOC PELLE AEB",{"$f":"IF(COUNTIF('PLANNING PRINCIPAL'!$I$223:$X$223,G18)>=1,\"\",ROW())","v":18},"LOC PELLE AEB","LOC PELLE AEB",{"$f":"IF(COUNTIF('PLANNING PRINCIPAL'!$I$226:$X$226,J18)>=1,\"\",ROW())","v":18},"LOC PELLE AEB","LOC PELLE AEB",{"$f":"IF(COUNTIF('PLANNING PRINCIPAL'!$I$206:$X$206,M18)>=1,\"\",ROW())","v":18},0,"LOC PELLE AEB",{"$f":"IF(COUNTIF('PLANNING PRINCIPAL'!$I$232:$X$232,P18)>=1,\"\",ROW())","v":18},"LOC PELLE AEB","LOC PELLE AEB",{"$f":"IF(COUNTIF('PLANNING PRINCIPAL'!$I$235:$X$235,S18)>=1,\"\",ROW())","v":18},"LOC PELLE AEB",null,{"$f":"IF(COUNTIF('PLANNING PRINCIPAL'!$I$214:$X$214,V18)>=1,\"\",ROW())","v":18}]
[{"$f":"'DATA S1'!A19","v":"LOC PELLE INTERLOC"},{"$f":"IF(COUNTIF('PLANNING PRINCIPAL'!$I$217:$X$217,A19)>=1,\"\",ROW())","v":19},"LOC PELLE INTERLOC","LOC PELLE INTERLOC",{"$f":"IF(COUNTIF('PLANNING PRINCIPAL'!$I$220:$X$220,D19)>=1,\"\",ROW())","v":19},"LOC PELLE INTERLOC","LOC PELLE INTERLOC",{"$f":"IF(COUNTIF('PLANNING PRINCIPAL'!$I$223:$X$223,G19)>=1,\"\",ROW())","v":19},"LOC PELLE INTERLOC","LOC PELLE INTERLOC",{"$f":"IF(COUNTIF('PLANNING PRINCIPAL'!$I$226:$X$226,J19)>=1,\"\",ROW())","v":19},"LOC PELLE INTERLOC","LOC PELLE INTERLOC",{"$f":"IF(COUNTIF('PLANNING PRINCIPAL'!$I$206:$X$206,M19)>=1,\"\",ROW())","v":19},0,"LOC PELLE INTERLOC",{"$f":"IF(COUNTIF('PLANNING PRINCIPAL'!$I$232:$X$232,P19)>=1,\"\",ROW())","v":19},"LOC PELLE INTERLOC","LOC PELLE INTERLOC",{"$f":"IF(COUNTIF('PLANNING PRINCIPAL'!$I$235:$X$235,S19)>=1,\"\",ROW())","v":19},"LOC PELLE INTERLOC",null,{"$f":"IF(COUNTIF('PLANNING PRINCIPAL'!$I$214:$X$214,V19)>=1,\"\",ROW())","v":19}]
[{"$f":"'DATA S1'!A20","v":"LOC PELLE KILOUTOU"},{"$f":"IF(COUNTIF('PLANNING PRINCIPAL'!$I$217:$X$217,A20)>=1,\"\",ROW())","v":20},"LOC PELLE KILOUTOU","LOC PELLE KILOUTOU",{"$f":"IF(COUNTIF('PLANNING PRINCIPAL'!$I$220:$X$220,D20)>=1,\"\",ROW())","v":20},"LOC PELLE KILOUTOU","LOC PELLE KILOUTOU",{"$f":"IF(COUNTIF('PLANNING PRINCIPAL'!$I$223:$X$223,G20)>=1,\"\",ROW())","v":20},"LOC PELLE KILOUTOU","LOC PELLE KILOUTOU",{"$f":"IF(COUNTIF('PLANNING PRINCIPAL'!$I$226:$X$226,J20)>=1,\"\",ROW())","v":20},"LOC PELLE KILOUTOU","LOC PELLE KILOUTOU",{"$f":"IF(COUNTIF('PLANNING PRINCIPAL'!$I$206:$X$206,M20)>=1,\"\",ROW())","v":20},0,"LOC PELLE KILOUTOU",{"$f":"IF(COUNTIF('PLANNING PRINCIPAL'!$I$232:$X$232,P20)>=1,\"\",ROW())","v":20},"LOC PELLE KILOUTOU","LOC PELLE KILOUTOU",{"$f":"IF(COUNTIF('PLANNING PRINCIPAL'!$I$235:$X$235,S20)>=1,\"\",ROW())","v":20},"LOC PELLE KILOUTOU",null,{"$f":"IF(COUNTIF('PLANNING PRINCIPAL'!$I$214:$X$214,V20)>=1,\"\",ROW())","v":20}]
[null,{"$f":"IF(COUNTIF('PLANNING PRINCIPAL'!$I$217:$X$217,A21)>=1,\"\",ROW())","v":21},null,null,{"$f":"IF(COUNTIF('PLANNING PRINCIPAL'!$I$220:$X$220,D21)>=1,\"\",ROW())","v":21},null,null,{"$f":"IF(COUNTIF('PLANNING PRINCIPAL'!$I$223:$X$223,G21)>=1,\"\",ROW())","v":21},null,null,{"$f":"IF(COUNTIF('PLANNING PRINCIPAL'!$I$226:$X$226,J21)>=1,\"\",ROW())","v":21},null,null,{"$f":"IF(COUNTIF('PLANNING PRINCIPAL'!$I$206:$X$206,M21)>=1,\"\",ROW())","v":21},null,null,{"$f":"IF(COUNTIF('PLANNING PRINCIPAL'!$I$232:$X$232,P21)>=1,\"\",ROW())","v":21},null,null,{"$f":"IF(COUNTIF('PLANNING PRINCIPAL'!$I$235:$X$235,S21)>=1,\"\",ROW())","v":21},null,null,{"$f":"IF(COUNTIF('PLANNING PRINCIPAL'!$I$214:$X$214,V21)>=1,\"\",ROW())","v":21}]
[null,{"$f":"IF(COUNTIF('PLANNING PRINCIPAL'!$I$217:$X$217,A22)>=1,\"\",ROW())","v":22},null,null,{"$f":"IF(COUNTIF('PLANNING PRINCIPAL'!$I$220:$X$220,D22)>=1,\"\",ROW())","v":22},null,null,{"$f":"IF(COUNTIF('PLANNING PRINCIPAL'!$I$223:$X$223,G22)>=1,\"\",ROW())","v":22},null,null,{"$f":"IF(COUNTIF('PLANNING PRINCIPAL'!$I$226:$X$226,J22)>=1,\"\",ROW())","v":22},null,null,{"$f":"IF(COUNTIF('PLANNING PRINCIPAL'!$I$206:$X$206,M22)>=1,\"\",ROW())","v":22},null,null,{"$f":"IF(COUNTIF('PLANNING PRINCIPAL'!$I$232:$X$232,P22)>=1,\"\",ROW())","v":22},null,null,{"$f":"IF(COUNTIF('PLANNING PRINCIPAL'!$I$235:$X$235,S22)>=1,\"\",ROW())","v":22},null,null,{"$f":"IF(COUNTIF('PLANNING PRINCIPAL'!$I$214:$X$214,V22)>=1,\"\",ROW())","v":22}]
[null,{"$f":"IF(COUNTIF('PLANNING PRINCIPAL'!$I$217:$X$217,A23)>=1,\"\",ROW())","v":23},null,null,{"$f":"IF(COUNTIF('PLANNING PRINCIPAL'!$I$220:$X$220,D23)>=1,\"\",ROW())","v":23},null,null,{"$f":"IF(COUNTIF('PLANNING PRINCIPAL'!$I$223:$X$223,G23)>=1,\"\",ROW())","v":23},null,null,{"$f":"IF(COUNTIF('PLANNING PRINCIPAL'!$I$226:$X$226,J23)>=1,\"\",ROW())","v":23},null,null,{"$f":"IF(COUNTIF('PLANNING PRINCIPAL'!$I$206:$X$206,M23)>=1,\"\",ROW())","v":23},null,null,{"$f":"IF(COUNTIF('PLANNING PRINCIPAL'!$I$232:$X$232,P23)>=1,\"\",ROW())","v":23},null,null,{"$f":"IF(COUNTIF('PLANNING PRINCIPAL'!$I$235:$X$235,S23)>=1,\"\",ROW())","v":23},null,null,{"$f":"IF(COUNTIF('PLANNING PRINCIPAL'!$I$214:$X$214,V23)>=1,\"\",ROW())","v":23}]
[null,{"$f":"IF(COUNTIF('PLANNING PRINCIPAL'!$I$217:$X$217,A24)>=1,\"\",ROW())","v":24},null,null,{"$f":"IF(COUNTIF('PLANNING PRINCIPAL'!$I$220:$X$220,D24)>=1,\"\",ROW())","v":24},null,null,{"$f":"IF(COUNTIF('PLANNING PRINCIPAL'!$I$223:$X$223,G24)>=1,\"\",ROW())","v":24},null,null,{"$f":"IF(COUNTIF('PLANNING PRINCIPAL'!$I$226:$X$226,J24)>=1,\"\",ROW())","v":24},null,null,{"$f":"IF(COUNTIF('PLANNING PRINCIPAL'!$I$206:$X$206,M24)>=1,\"\",ROW())","v":24},null,null,{"$f":"IF(COUNTIF('PLANNING PRINCIPAL'!$I$232:$X$232,P24)>=1,\"\",ROW())","v":24},null,null,{"$f":"IF(COUNTIF('PLANNING PRINCIPAL'!$I$235:$X$235,S24)>=1,\"\",ROW())","v":24},null,null,{"$f":"IF(COUNTIF('PLANNING PRINCIPAL'!$I$214:$X$214,V24)>=1,\"\",ROW())","v":24}]
[null,{"$f":"IF(COUNTIF('PLANNING PRINCIPAL'!$I$217:$X$217,A25)>=1,\"\",ROW())","v":25},null,null,{"$f":"IF(COUNTIF('PLANNING PRINCIPAL'!$I$220:$X$220,D25)>=1,\"\",ROW())","v":25},null,null,{"$f":"IF(COUNTIF('PLANNING PRINCIPAL'!$I$223:$X$223,G25)>=1,\"\",ROW())","v":25},null,null,{"$f":"IF(COUNTIF('PLANNING PRINCIPAL'!$I$226:$X$226,J25)>=1,\"\",ROW())","v":25},null,null,{"$f":"IF(COUNTIF('PLANNING PRINCIPAL'!$I$206:$X$206,M25)>=1,\"\",ROW())","v":25},null,null,{"$f":"IF(COUNTIF('PLANNING PRINCIPAL'!$I$232:$X$232,P25)>=1,\"\",ROW())","v":25},null,null,{"$f":"IF(COUNTIF('PLANNING PRINCIPAL'!$I$235:$X$235,S25)>=1,\"\",ROW())","v":25},null,null,{"$f":"IF(COUNTIF('PLANNING PRINCIPAL'!$I$214:$X$214,V25)>=1,\"\",ROW())","v":25}]
[null,{"$f":"IF(COUNTIF('PLANNING PRINCIPAL'!$I$217:$X$217,A26)>=1,\"\",ROW())","v":26},null,null,{"$f":"IF(COUNTIF('PLANNING PRINCIPAL'!$I$220:$X$220,D26)>=1,\"\",ROW())","v":26},null,null,{"$f":"IF(COUNTIF('PLANNING PRINCIPAL'!$I$223:$X$223,G26)>=1,\"\",ROW())","v":26},null,null,{"$f":"IF(COUNTIF('PLANNING PRINCIPAL'!$I$226:$X$226,J26)>=1,\"\",ROW())","v":26},null,null,{"$f":"IF(COUNTIF('PLANNING PRINCIPAL'!$I$206:$X$206,M26)>=1,\"\",ROW())","v":26},null,null,{"$f":"IF(COUNTIF('PLANNING PRINCIPAL'!$I$232:$X$232,P26)>=1,\"\",ROW())","v":26},null,null,{"$f":"IF(COUNTIF('PLANNING PRINCIPAL'!$I$235:$X$235,S26)>=1,\"\",ROW())","v":26},null,null,{"$f":"IF(COUNTIF('PLANNING PRINCIPAL'!$I$214:$X$214,V26)>=1,\"\",ROW())","v":26}]
[null,{"$f":"IF(COUNTIF('PLANNING PRINCIPAL'!$I$217:$X$217,A27)>=1,\"\",ROW())","v":27},null,null,{"$f":"IF(COUNTIF('PLANNING PRINCIPAL'!$I$220:$X$220,D27)>=1,\"\",ROW())","v":27},null,null,{"$f":"IF(COUNTIF('PLANNING PRINCIPAL'!$I$223:$X$223,G27)>=1,\"\",ROW())","v":27},null,null,{"$f":"IF(COUNTIF('PLANNING PRINCIPAL'!$I$226:$X$226,J27)>=1,\"\",ROW())","v":27},null,null,{"$f":"IF(COUNTIF('PLANNING PRINCIPAL'!$I$206:$X$206,M27)>=1,\"\",ROW())","v":27},null,null,{"$f":"IF(COUNTIF('PLANNING PRINCIPAL'!$I$232:$X$232,P27)>=1,\"\",ROW())","v":27},null,null,{"$f":"IF(COUNTIF('PLANNING PRINCIPAL'!$I$235:$X$235,S27)>=1,\"\",ROW())","v":27},null,null,{"$f":"IF(COUNTIF('PLANNING PRINCIPAL'!$I$214:$X$214,V27)>=1,\"\",ROW())","v":27}]
[null,{"$f":"IF(COUNTIF('PLANNING PRINCIPAL'!$I$217:$X$217,A28)>=1,\"\",ROW())","v":28},null,null,{"$f":"IF(COUNTIF('PLANNING PRINCIPAL'!$I$220:$X$220,D28)>=1,\"\",ROW())","v":28},null,null,{"$f":"IF(COUNTIF('PLANNING PRINCIPAL'!$I$223:$X$223,G28)>=1,\"\",ROW())","v":28},null,null,{"$f":"IF(COUNTIF('PLANNING PRINCIPAL'!$I$226:$X$226,J28)>=1,\"\",ROW())","v":28},null,null,{"$f":"IF(COUNTIF('PLANNING PRINCIPAL'!$I$206:$X$206,M28)>=1,\"\",ROW())","v":28},null,null,{"$f":"IF(COUNTIF('PLANNING PRINCIPAL'!$I$232:$X$232,P28)>=1,\"\",ROW())","v":28},null,null,{"$f":"IF(COUNTIF('PLANNING PRINCIPAL'!$I$235:$X$235,S28)>=1,\"\",ROW())","v":28},null,null,{"$f":"IF(COUNTIF('PLANNING PRINCIPAL'!$I$214:$X$214,V28)>=1,\"\",ROW())","v":28}]
[null,{"$f":"IF(COUNTIF('PLANNING PRINCIPAL'!$I$217:$X$217,A29)>=1,\"\",ROW())","v":29},null,null,{"$f":"IF(COUNTIF('PLANNING PRINCIPAL'!$I$220:$X$220,D29)>=1,\"\",ROW())","v":29},null,null,{"$f":"IF(COUNTIF('PLANNING PRINCIPAL'!$I$223:$X$223,G29)>=1,\"\",ROW())","v":29},null,null,{"$f":"IF(COUNTIF('PLANNING PRINCIPAL'!$I$226:$X$226,J29)>=1,\"\",ROW())","v":29},null,null,{"$f":"IF(COUNTIF('PLANNING PRINCIPAL'!$I$206:$X$206,M29)>=1,\"\",ROW())","v":29},null,null,{"$f":"IF(COUNTIF('PLANNING PRINCIPAL'!$I$232:$X$232,P29)>=1,\"\",ROW())","v":29},null,null,{"$f":"IF(COUNTIF('PLANNING PRINCIPAL'!$I$235:$X$235,S29)>=1,\"\",ROW())","v":29},null,null,{"$f":"IF(COUNTIF('PLANNING PRINCIPAL'!$I$214:$X$214,V29)>=1,\"\",ROW())","v":29}]
[null,{"$f":"IF(COUNTIF('PLANNING PRINCIPAL'!$I$217:$X$217,A30)>=1,\"\",ROW())","v":30},null,null,{"$f":"IF(COUNTIF('PLANNING PRINCIPAL'!$I$220:$X$220,D30)>=1,\"\",ROW())","v":30},null,null,{"$f":"IF(COUNTIF('PLANNING PRINCIPAL'!$I$223:$X$223,G30)>=1,\"\",ROW())","v":30},null,null,{"$f":"IF(COUNTIF('PLANNING PRINCIPAL'!$I$226:$X$226,J30)>=1,\"\",ROW())","v":30},null,null,{"$f":"IF(COUNTIF('PLANNING PRINCIPAL'!$I$206:$X$206,M30)>=1,\"\",ROW())","v":30},null,null,{"$f":"IF(COUNTIF('PLANNING PRINCIPAL'!$I$232:$X$232,P30)>=1,\"\",ROW())","v":30},null,null,{"$f":"IF(COUNTIF('PLANNING PRINCIPAL'!$I$235:$X$235,S30)>=1,\"\",ROW())","v":30},null,null,{"$f":"IF(COUNTIF('PLANNING PRINCIPAL'!$I$214:$X$214,V30)>=1,\"\",ROW())","v":30}]
[null,{"$f":"IF(COUNTIF('PLANNING PRINCIPAL'!$I$217:$X$217,A31)>=1,\"\",ROW())","v":31},null,null,{"$f":"IF(COUNTIF('PLANNING PRINCIPAL'!$I$220:$X$220,D31)>=1,\"\",ROW())","v":31},null,null,{"$f":"IF(COUNTIF('PLANNING PRINCIPAL'!$I$223:$X$223,G31)>=1,\"\",ROW())","v":31},null,null,{"$f":"IF(COUNTIF('PLANNING PRINCIPAL'!$I$226:$X$226,J31)>=1,\"\",ROW())","v":31},null,null,{"$f":"IF(COUNTIF('PLANNING PRINCIPAL'!$I$206:$X$206,M31)>=1,\"\",ROW())","v":31},null,null,{"$f":"IF(COUNTIF('PLANNING PRINCIPAL'!$I$232:$X$232,P31)>=1,\"\",ROW())","v":31},null,null,{"$f":"IF(COUNTIF('PLANNING PRINCIPAL'!$I$235:$X$235,S31)>=1,\"\",ROW())","v":31},null,null,{"$f":"IF(COUNTIF('PLANNING PRINCIPAL'!$I$214:$X$214,V31)>=1,\"\",ROW())","v":31}]
[null,{"$f":"IF(COUNTIF('PLANNING PRINCIPAL'!$I$217:$X$217,A32)>=1,\"\",ROW())","v":32},null,null,{"$f":"IF(COUNTIF('PLANNING PRINCIPAL'!$I$220:$X$220,D32)>=1,\"\",ROW())","v":32},null,null,{"$f":"IF(COUNTIF('PLANNING PRINCIPAL'!$I$223:$X$223,G32)>=1,\"\",ROW())","v":32},null,null,{"$f":"IF(COUNTIF('PLANNING PRINCIPAL'!$I$226:$X$226,J32)>=1,\"\",ROW())","v":32},null,null,{"$f":"IF(COUNTIF('PLANNING PRINCIPAL'!$I$206:$X$206,M32)>=1,\"\",ROW())","v":32},null,null,{"$f":"IF(COUNTIF('PLANNING PRINCIPAL'!$I$232:$X$232,P32)>=1,\"\",ROW())","v":32},null,null,{"$f":"IF(COUNTIF('PLANNING PRINCIPAL'!$I$235:$X$235,S32)>=1,\"\",ROW())","v":32},null,null,{"$f":"IF(COUNTIF('PLANNING PRINCIPAL'!$I$214:$X$214,V32)>=1,\"\",ROW())","v":32}]
[null,{"$f":"IF(COUNTIF('PLANNING PRINCIPAL'!$I$217:$X$217,A33)>=1,\"\",ROW())","v":33},null,null,{"$f":"IF(COUNTIF('PLANNING PRINCIPAL'!$I$220:$X$220,D33)>=1,\"\",ROW())","v":33},null,null,{"$f":"IF(COUNTIF('PLANNING PRINCIPAL'!$I$223:$X$223,G33)>=1,\"\",ROW())","v":33},null,null,{"$f":"IF(COUNTIF('PLANNING PRINCIPAL'!$I$226:$X$226,J33)>=1,\"\",ROW())","v":33},null,null,{"$f":"IF(COUNTIF('PLANNING PRINCIPAL'!$I$206:$X$206,M33)>=1,\"\",ROW())","v":33},null,null,{"$f":"IF(COUNTIF('PLANNING PRINCIPAL'!$I$232:$X$232,P33)>=1,\"\",ROW())","v":33},null,null,{"$f":"IF(COUNTIF('PLANNING PRINCIPAL'!$I$235:$X$235,S33)>=1,\"\",ROW())","v":33},null,null,{"$f":"IF(COUNTIF('PLANNING PRINCIPAL'!$I$214:$X$214,V33)>=1,\"\",ROW())","v":33}]
[null,{"$f":"IF(COUNTIF('PLANNING PRINCIPAL'!$I$217:$X$217,A34)>=1,\"\",ROW())","v":34},null,null,{"$f":"IF(COUNTIF('PLANNING PRINCIPAL'!$I$220:$X$220,D34)>=1,\"\",ROW())","v":34},null,null,{"$f":"IF(COUNTIF('PLANNING PRINCIPAL'!$I$223:$X$223,G34)>=1,\"\",ROW())","v":34},null,null,{"$f":"IF(COUNTIF('PLANNING PRINCIPAL'!$I$226:$X$226,J34)>=1,\"\",ROW())","v":34},null,null,{"$f":"IF(COUNTIF('PLANNING PRINCIPAL'!$I$206:$X$206,M34)>=1,\"\",ROW())","v":34},null,null,{"$f":"IF(COUNTIF('PLANNING PRINCIPAL'!$I$232:$X$232,P34)>=1,\"\",ROW())","v":34},null,null,{"$f":"IF(COUNTIF('PLANNING PRINCIPAL'!$I$235:$X$235,S34)>=1,\"\",ROW())","v":34},null,null,{"$f":"IF(COUNTIF('PLANNING PRINCIPAL'!$I$214:$X$214,V34)>=1,\"\",ROW())","v":34}]
["LUNDI",null,null,"MARDI",null,null,"MERCREDI",null,null,"JEUDI",null,null,"VENDREDI",null,null,"SAMEDI",null,null,"DIMANCHE",null,null,"ASTREINTE"]

{"sheet":"DATA S11","index":12,"n_rows":35,"n_cols":24,"rows_kept":35,"cut":false,"hidden":false,"merged":[[34,18,34,20],[34,21,34,23],[34,0,34,2],[34,3,34,5],[34,6,34,8],[34,9,34,11],[34,12,34,14],[34,15,34,17]]}
[{"$f":"'DATA S1'!A1","v":"MAS XX "},{"$f":"IF(COUNTIF('PLANNING PRINCIPAL'!$I$240:$X$240,A1)>=1,\"\",ROW())","v":1},{"$f":"IF(ROW(A1)-ROW(A$1)+1>COUNT(B:B),\"\", INDEX(A:A,SMALL(B:B,1+ROW(A1)-ROW(A$1))))","v":"MAS XX "},{"$f":"A1","v":"MAS XX "},{"$f":"IF(COUNTIF('PLANNING PRINCIPAL'!$I$243:$X$243,D1)>=1,\"\",ROW())","v":1},{"$f":"IF(ROW(D1)-ROW(D$1)+1>COUNT(E:E),\"\", INDEX(D:D,SMALL(E:E,1+ROW(D1)-ROW(D$1))))","v":"MAS XX "},{"$f":"A1","v":"MAS XX "},{"$f":"IF(COUNTIF('PLANNING PRINCIPAL'!$I$246:$X$246,G1)>=1,\"\",ROW())","v":1},{"$f":"IF(ROW(G1)-ROW(G$1)+1>COUNT(H:H),\"\", INDEX(G:G,SMALL(H:H,1+ROW(G1)-ROW(G$1))))","v":"MAS XX "},{"$f":"A1","v":"MAS XX "},{"$f":"IF(COUNTIF('PLANNING PRINCIPAL'!$I$249:$X$249,J1)>=1,\"\",ROW())","v":1},{"$f":"IF(ROW(J1)-ROW(J$1)+1>COUNT(K:K),\"\", INDEX(J:J,SMALL(K:K,1+ROW(J1)-ROW(J$1))))","v":"MAS XX "},{"$f":"A1","v":"MAS XX "},{"$f":"IF(COUNTIF('PLANNING PRINCIPAL'!$I$252:$X$252,M1)>=1,\"\",ROW())","v":1},{"$f":"IF(ROW(M1)-ROW(M$1)+1>COUNT(N:N),\"\", INDEX(M:M,SMALL(N:N,1+ROW(M1)-ROW(M$1))))","v":"MAS XX "},{"$f":"A1","v":"MAS XX "},{"$f":"IF(COUNTIF('PLANNING PRINCIPAL'!$I$255:$X$255,P1)>=1,\"\",ROW())","v":1},{"$f":"IF(ROW(P1)-ROW(P$1)+1>COUNT(Q:Q),\"\", INDEX(P:P,SMALL(Q:Q,1+ROW(P1)-ROW(P$1))))","v":"MAS XX "},{"$f":"A1","v":"MAS XX "},{"$f":"IF(COUNTIF('PLANNING PRINCIPAL'!$I$258:$X$258,S1)>=1,\"\",ROW())","v":1},{"$f":"IF(ROW(S1)-ROW(S$1)+1>COUNT(T:T),\"\", INDEX(S:S,SMALL(T:T,1+ROW(S1)-ROW(S$1))))","v":"MAS XX "},{"$f":"'DATA S1'!V1","v":"ASTREINTE SLT"},{"$f":"IF(COUNTIF('PLANNING PRINCIPAL'!$I$260:$X$260,V1)>=1,\"\",ROW())","v":1},{"$f":"IF(ROW(V1)-ROW(V$1)+1>COUNT(W:W),\"\", INDEX(V:V,SMALL(W:W,1+ROW(V1)-ROW(V$1))))","v":"ASTREINTE SLT"}]
[{"$f":"'DATA S1'!A2","v":"MAS YY "},{"$f":"IF(COUNTIF('PLANNING PRINCIPAL'!$I$240:$X$240,A2)>=1,\"\",ROW())","v":2},{"$f":"IF(ROW(A2)-ROW(A$1)+1>COUNT(B:B),\"\", INDEX(A:A,SMALL(B:B,1+ROW(A2)-ROW(A$1))))","v":"MAS YY "},"MAS YY ",{"$f":"IF(COUNTIF('PLANNING PRINCIPAL'!$I$243:$X$243,D2)>=1,\"\",ROW())","v":2},{"$f":"IF(ROW(D2)-ROW(D$1)+1>COUNT(E:E),\"\", INDEX(D:D,SMALL(E:E,1+ROW(D2)-ROW(D$1))))","v":"MAS YY "},{"$f":"A2","v":"MAS YY "},{"$f":"IF(COUNTIF('PLANNING PRINCIPAL'!$I$246:$X$246,G2)>=1,\"\",ROW())","v":2},{"$f":"IF(ROW(G2)-ROW(G$1)+1>COUNT(H:H),\"\", INDEX(G:G,SMALL(H:H,1+ROW(G2)-ROW(G$1))))","v":"MAS YY "},{"$f":"A2","v":"MAS YY "},{"$f":"IF(COUNTIF('PLANNING PRINCIPAL'!$I$249:$X$249,J2)>=1,\"\",ROW())","v":2},{"$f":"IF(ROW(J2)-ROW(J$1)+1>COUNT(K:K),\"\", INDEX(J:J,SMALL(K:K,1+ROW(J2)-ROW(J$1))))","v":"MAS YY "},{"$f":"A2","v":"MAS YY "},{"$f":"IF(COUNTIF('PLANNING PRINCIPAL'!$I$252:$X$252,M2)>=1,\"\",ROW())","v":2},{"$f":"IF(ROW(M2)-ROW(M$1)+1>COUNT(N:N),\"\", INDEX(M:M,SMALL(N:N,1+ROW(M2)-ROW(M$1))))","v":"MAS YY "},{"$f":"A2","v":"MAS YY "},{"$f":"IF(COUNTIF('PLANNING PRINCIPAL'!$I$255:$X$255,P2)>=1,\"\",ROW())","v":2},{"$f":"IF(ROW(P2)-ROW(P$1)+1>COUNT(Q:Q),\"\", INDEX(P:P,SMALL(Q:Q,1+ROW(P2)-ROW(P$1))))","v":"MAS YY "},{"$f":"A2","v":"MAS YY "},{"$f":"IF(COUNTIF('PLANNING PRINCIPAL'!$I$258:$X$258,S2)>=1,\"\",ROW())","v":2},{"$f":"IF(ROW(S2)-ROW(S$1)+1>COUNT(T:T),\"\", INDEX(S:S,SMALL(T:T,1+ROW(S2)-ROW(S$1))))","v":"MAS YY "},{"$f":"'DATA S1'!V2","v":"ASTREINTE EP"},{"$f":"IF(COUNTIF('PLANNING PRINCIPAL'!$I$260:$X$260,V2)>=1,\"\",ROW())","v":2},{"$f":"IF(ROW(V2)-ROW(V$1)+1>COUNT(W:W),\"\", INDEX(V:V,SMALL(W:W,1+ROW(V2)-ROW(V$1))))","v":"ASTREINTE EP"}]
[{"$f":"'DATA S1'!A3","v":"MAS VQ "},{"$f":"IF(COUNTIF('PLANNING PRINCIPAL'!$I$240:$X$240,A3)>=1,\"\",ROW())","v":3},"MAS VQ ","MAS VQ ",{"$f":"IF(COUNTIF('PLANNING PRINCIPAL'!$I$243:$X$243,D3)>=1,\"\",ROW())","v":3},"MAS VQ ","MAS VQ ",{"$f":"IF(COUNTIF('PLANNING PRINCIPAL'!$I$246:$X$246,G3)>=1,\"\",ROW())","v":3},"MAS VQ ","MAS VQ ",{"$f":"IF(COUNTIF('PLANNING PRINCIPAL'!$I$249:$X$249,J3)>=1,\"\",ROW())","v":3},"MAS VQ ","MAS VQ ",{"$f":"IF(COUNTIF('PLANNING PRINCIPAL'!$I$252:$X$252,M3)>=1,\"\",ROW())","v":3},"MAS VQ ","MAS VQ ",{"$f":"IF(COUNTIF('PLANNING PRINCIPAL'!$I$255:$X$255,P3)>=1,\"\",ROW())","v":3},"MAS VQ ","MAS VQ ",{"$f":"IF(COUNTIF('PLANNING PRINCIPAL'!$I$258:$X$258,S3)>=1,\"\",ROW())","v":3},"MAS VQ ",{"$f":"'DATA S1'!V3","v":"V NOC CHARTRES"},{"$f":"IF(COUNTIF('PLANNING PRINCIPAL'!$I$260:$X$260,V3)>=1,\"\",ROW())","v":3},"V NOC CHARTRES"]
[{"$f":"'DATA S1'!A4","v":"MAS PL "},{"$f":"IF(COUNTIF('PLANNING PRINCIPAL'!$I$240:$X$240,A4)>=1,\"\",ROW())","v":4},"MAS PL ","MAS PL ",{"$f":"IF(COUNTIF('PLANNING PRINCIPAL'!$I$243:$X$243,D4)>=1,\"\",ROW())","v":4},"MAS PL ","MAS PL ",{"$f":"IF(COUNTIF('PLANNING PRINCIPAL'!$I$246:$X$246,G4)>=1,\"\",ROW())","v":4},"MAS PL ","MAS PL ",{"$f":"IF(COUNTIF('PLANNING PRINCIPAL'!$I$249:$X$249,J4)>=1,\"\",ROW())","v":4},"MAS PL ","MAS PL ",{"$f":"IF(COUNTIF('PLANNING PRINCIPAL'!$I$252:$X$252,M4)>=1,\"\",ROW())","v":4},"MAS PL ","MAS PL ",{"$f":"IF(COUNTIF('PLANNING PRINCIPAL'!$I$255:$X$255,P4)>=1,\"\",ROW())","v":4},"MAS PL ","MAS PL ",{"$f":"IF(COUNTIF('PLANNING PRINCIPAL'!$I$258:$X$258,S4)>=1,\"\",ROW())","v":4},"MAS PL ",{"$f":"'DATA S1'!V4","v":"V NOC EPERNON"},{"$f":"IF(COUNTIF('PLANNING PRINCIPAL'!$I$260:$X$260,V4)>=1,\"\",ROW())","v":4},"V NOC EPERNON"]
[{"$f":"'DATA S1'!A5","v":"BEN VL PT "},{"$f":"IF(COUNTIF('PLANNING PRINCIPAL'!$I$240:$X$240,A5)>=1,\"\",ROW())","v":5},"BEN VL PT ","BEN VL PT ",{"$f":"IF(COUNTIF('PLANNING PRINCIPAL'!$I$243:$X$243,D5)>=1,\"\",ROW())","v":5},"BEN VL PT ","BEN VL PT ",{"$f":"IF(COUNTIF('PLANNING PRINCIPAL'!$I$246:$X$246,G5)>=1,\"\",ROW())","v":5},"BEN VL PT ","BEN VL PT ",{"$f":"IF(COUNTIF('PLANNING PRINCIPAL'!$I$249:$X$249,J5)>=1,\"\",ROW())","v":5},"BEN VL PT ","BEN VL PT ",{"$f":"IF(COUNTIF('PLANNING PRINCIPAL'!$I$252:$X$252,M5)>=1,\"\",ROW())","v":5},"BEN VL PT ","BEN VL PT ",{"$f":"IF(COUNTIF('PLANNING PRINCIPAL'!$I$255:$X$255,P5)>=1,\"\",ROW())","v":5},"BEN VL PT ","BEN VL PT ",{"$f":"IF(COUNTIF('PLANNING PRINCIPAL'!$I$258:$X$258,S5)>=1,\"\",ROW())","v":5},"BEN VL PT ",{"$f":"'DATA S1'!V5","v":"V NOC HANCHES"},{"$f":"IF(COUNTIF('PLANNING PRINCIPAL'!$I$260:$X$260,V5)>=1,\"\",ROW())","v":5},"V NOC HANCHES"]
[{"$f":"'DATA S1'!A6","v":"BEN 19T "},{"$f":"IF(COUNTIF('PLANNING PRINCIPAL'!$I$240:$X$240,A6)>=1,\"\",ROW())","v":6},"BEN 19T ","BEN 19T ",{"$f":"IF(COUNTIF('PLANNING PRINCIPAL'!$I$243:$X$243,D6)>=1,\"\",ROW())","v":6},"BEN 19T ","BEN 19T ",{"$f":"IF(COUNTIF('PLANNING PRINCIPAL'!$I$246:$X$246,G6)>=1,\"\",ROW())","v":6},"BEN 19T ","BEN 19T ",{"$f":"IF(COUNTIF('PLANNING PRINCIPAL'!$I$249:$X$249,J6)>=1,\"\",ROW())","v":6},"BEN 19T ","BEN 19T ",{"$f":"IF(COUNTIF('PLANNING PRINCIPAL'!$I$252:$X$252,M6)>=1,\"\",ROW())","v":6},"BEN 19T ","BEN 19T ",{"$f":"IF(COUNTIF('PLANNING PRINCIPAL'!$I$255:$X$255,P6)>=1,\"\",ROW())","v":6},"BEN 19T ","BEN 19T ",{"$f":"IF(COUNTIF('PLANNING PRINCIPAL'!$I$258:$X$258,S6)>=1,\"\",ROW())","v":6},"BEN 19T ",{"$f":"'DATA S1'!V6","v":"V NOC MAINTENON"},{"$f":"IF(COUNTIF('PLANNING PRINCIPAL'!$I$260:$X$260,V6)>=1,\"\",ROW())","v":6},"V NOC MAINTENON"]
[{"$f":"'DATA S1'!A7","v":"BEN 13T "},{"$f":"IF(COUNTIF('PLANNING PRINCIPAL'!$I$240:$X$240,A7)>=1,\"\",ROW())","v":7},"BEN 13T ","BEN 13T ",{"$f":"IF(COUNTIF('PLANNING PRINCIPAL'!$I$243:$X$243,D7)>=1,\"\",ROW())","v":7},"BEN 13T ","BEN 13T ",{"$f":"IF(COUNTIF('PLANNING PRINCIPAL'!$I$246:$X$246,G7)>=1,\"\",ROW())","v":7},"BEN 13T ","BEN 13T ",{"$f":"IF(COUNTIF('PLANNING PRINCIPAL'!$I$249:$X$249,J7)>=1,\"\",ROW())","v":7},"BEN 13T ","BEN 13T ",{"$f":"IF(COUNTIF('PLANNING PRINCIPAL'!$I$252:$X$252,M7)>=1,\"\",ROW())","v":7},"BEN 13T ","BEN 13T ",{"$f":"IF(COUNTIF('PLANNING PRINCIPAL'!$I$255:$X$255,P7)>=1,\"\",ROW())","v":7},"BEN 13T ","BEN 13T ",{"$f":"IF(COUNTIF('PLANNING PRINCIPAL'!$I$258:$X$258,S7)>=1,\"\",ROW())","v":7},"BEN 13T ",null,{"$f":"IF(COUNTIF('PLANNING PRINCIPAL'!$I$260:$X$260,V7)>=1,\"\",ROW())","v":7}]
[{"$f":"'DATA S1'!A8","v":"NAC VL 18M "},{"$f":"IF(COUNTIF('PLANNING PRINCIPAL'!$I$240:$X$240,A8)>=1,\"\",ROW())","v":8},"NAC VL 18M ","NAC VL 18M ",{"$f":"IF(COUNTIF('PLANNING PRINCIPAL'!$I$243:$X$243,D8)>=1,\"\",ROW())","v":8},"NAC VL 18M ","NAC VL 18M ",{"$f":"IF(COUNTIF('PLANNING PRINCIPAL'!$I$246:$X$246,G8)>=1,\"\",ROW())","v":8},"NAC VL 18M ","NAC VL 18M ",{"$f":"IF(COUNTIF('PLANNING PRINCIPAL'!$I$249:$X$249,J8)>=1,\"\",ROW())","v":8},"NAC VL 18M ","NAC VL 18M ",{"$f":"IF(COUNTIF('PLANNING PRINCIPAL'!$I$252:$X$252,M8)>=1,\"\",ROW())","v":8},"NAC VL 18M ","NAC VL 18M ",{"$f":"IF(COUNTIF('PLANNING PRINCIPAL'!$I$255:$X$255,P8)>=1,\"\",ROW())","v":8},"NAC VL 18M ","NAC VL 18M ",{"$f":"IF(COUNTIF('PLANNING PRINCIPAL'!$I$258:$X$258,S8)>=1,\"\",ROW())","v":8},"NAC VL 18M ",null,{"$f":"IF(COUNTIF('PLANNING PRINCIPAL'!$I$260:$X$260,V8)>=1,\"\",ROW())","v":8}]
[{"$f":"'DATA S1'!A9","v":"NAC EGIE"},{"$f":"IF(COUNTIF('PLANNING PRINCIPAL'!$I$240:$X$240,A9)>=1,\"\",ROW())","v":9},"NAC EGIE","NAC EGIE",{"$f":"IF(COUNTIF('PLANNING PRINCIPAL'!$I$243:$X$243,D9)>=1,\"\",ROW())","v":9},"NAC EGIE","NAC EGIE",{"$f":"IF(COUNTIF('PLANNING PRINCIPAL'!$I$246:$X$246,G9)>=1,\"\",ROW())","v":9},"NAC EGIE","NAC EGIE",{"$f":"IF(COUNTIF('PLANNING PRINCIPAL'!$I$249:$X$249,J9)>=1,\"\",ROW())","v":9},"NAC EGIE","NAC EGIE",{"$f":"IF(COUNTIF('PLANNING PRINCIPAL'!$I$252:$X$252,M9)>=1,\"\",ROW())","v":9},"NAC EGIE","NAC EGIE",{"$f":"IF(COUNTIF('PLANNING PRINCIPAL'!$I$255:$X$255,P9)>=1,\"\",ROW())","v":9},"NAC EGIE","NAC EGIE",{"$f":"IF(COUNTIF('PLANNING PRINCIPAL'!$I$258:$X$258,S9)>=1,\"\",ROW())","v":9},"NAC EGIE",null,{"$f":"IF(COUNTIF('PLANNING PRINCIPAL'!$I$260:$X$260,V9)>=1,\"\",ROW())","v":9}]
[{"$f":"'DATA S1'!A10","v":"NAC COMI "},{"$f":"IF(COUNTIF('PLANNING PRINCIPAL'!$I$240:$X$240,A10)>=1,\"\",ROW())","v":10},"NAC COMI ","NAC COMI ",{"$f":"IF(COUNTIF('PLANNING PRINCIPAL'!$I$243:$X$243,D10)>=1,\"\",ROW())","v":10},"NAC COMI ","NAC COMI ",{"$f":"IF(COUNTIF('PLANNING PRINCIPAL'!$I$246:$X$246,G10)>=1,\"\",ROW())","v":10},"NAC COMI ","NAC COMI ",{"$f":"IF(COUNTIF('PLANNING PRINCIPAL'!$I$249:$X$249,J10)>=1,\"\",ROW())","v":10},"NAC COMI ","NAC COMI ",{"$f":"IF(COUNTIF('PLANNING PRINCIPAL'!$I$252:$X$252,M10)>=1,\"\",ROW())","v":10},"NAC COMI ","NAC COMI ",{"$f":"IF(COUNTIF('PLANNING PRINCIPAL'!$I$255:$X$255,P10)>=1,\"\",ROW())","v":10},"NAC COMI ","NAC COMI ",{"$f":"IF(COUNTIF('PLANNING PRINCIPAL'!$I$258:$X$258,S10)>=1,\"\",ROW())","v":10},"NAC COMI ",null,{"$f":"IF(COUNTIF('PLANNING PRINCIPAL'!$I$260:$X$260,V10)>=1,\"\",ROW())","v":10}]
[{"$f":"'DATA S1'!A11","v":"#####LOCATION#####"},{"$f":"IF(COUNTIF('PLANNING PRINCIPAL'!$I$240:$X$240,A11)>=1,\"\",ROW())","v":11},"#####LOCATION#####","#####LOCATION#####",{"$f":"IF(COUNTIF('PLANNING PRINCIPAL'!$I$243:$X$243,D11)>=1,\"\",ROW())","v":11},"#####LOCATION#####","#####LOCATION#####",{"$f":"IF(COUNTIF('PLANNING PRINCIPAL'!$I$246:$X$246,G11)>=1,\"\",ROW())","v":11},"#####LOCATION#####","#####LOCATION#####",{"$f":"IF(COUNTIF('PLANNING PRINCIPAL'!$I$249:$X$249,J11)>=1,\"\",ROW())","v":11},"#####LOCATION#####","#####LOCATION#####",{"$f":"IF(COUNTIF('PLANNING PRINCIPAL'!$I$252:$X$252,M11)>=1,\"\",ROW())","v":11},"#####LOCATION#####","#####LOCATION#####",{"$f":"IF(COUNTIF('PLANNING PRINCIPAL'!$I$255:$X$255,P11)>=1,\"\",ROW())","v":11},"#####LOCATION#####","#####LOCATION#####",{"$f":"IF(COUNTIF('PLANNING PRINCIPAL'!$I$258:$X$258,S11)>=1,\"\",ROW())","v":11},"#####LOCATION#####",null,{"$f":"IF(COUNTIF('PLANNING PRINCIPAL'!$I$260:$X$260,V11)>=1,\"\",ROW())","v":11}]
[{"$f":"'DATA S1'!A12","v":"LOC NAC SOLOMAT"},{"$f":"IF(COUNTIF('PLANNING PRINCIPAL'!$I$240:$X$240,A12)>=1,\"\",ROW())","v":12},"LOC NAC SOLOMAT","LOC NAC SOLOMAT",{"$f":"IF(COUNTIF('PLANNING PRINCIPAL'!$I$243:$X$243,D12)>=1,\"\",ROW())","v":12},"LOC NAC SOLOMAT","LOC NAC SOLOMAT",{"$f":"IF(COUNTIF('PLANNING PRINCIPAL'!$I$246:$X$246,G12)>=1,\"\",ROW())","v":12},"LOC NAC SOLOMAT","LOC NAC SOLOMAT",{"$f":"IF(COUNTIF('PLANNING PRINCIPAL'!$I$249:$X$249,J12)>=1,\"\",ROW())","v":12},"LOC NAC SOLOMAT","LOC NAC SOLOMAT",{"$f":"IF(COUNTIF('PLANNING PRINCIPAL'!$I$252:$X$252,M12)>=1,\"\",ROW())","v":12},"LOC NAC SOLOMAT","LOC NAC SOLOMAT",{"$f":"IF(COUNTIF('PLANNING PRINCIPAL'!$I$255:$X$255,P12)>=1,\"\",ROW())","v":12},"LOC NAC SOLOMAT","LOC NAC SOLOMAT",{"$f":"IF(COUNTIF('PLANNING PRINCIPAL'!$I$258:$X$258,S12)>=1,\"\",ROW())","v":12},"LOC NAC SOLOMAT",null,{"$f":"IF(COUNTIF('PLANNING PRINCIPAL'!$I$260:$X$260,V12)>=1,\"\",ROW())","v":12}]
[{"$f":"'DATA S1'!A13","v":"LOC NAC AEB"},{"$f":"IF(COUNTIF('PLANNING PRINCIPAL'!$I$240:$X$240,A13)>=1,\"\",ROW())","v":13},"LOC NAC AEB","LOC NAC AEB",{"$f":"IF(COUNTIF('PLANNING PRINCIPAL'!$I$243:$X$243,D13)>=1,\"\",ROW())","v":13},"LOC NAC AEB","LOC NAC AEB",{"$f":"IF(COUNTIF('PLANNING PRINCIPAL'!$I$246:$X$246,G13)>=1,\"\",ROW())","v":13},"LOC NAC AEB","LOC NAC AEB",{"$f":"IF(COUNTIF('PLANNING PRINCIPAL'!$I$249:$X$249,J13)>=1,\"\",ROW())","v":13},"LOC NAC AEB","LOC NAC AEB",{"$f":"IF(COUNTIF('PLANNING PRINCIPAL'!$I$252:$X$252,M13)>=1,\"\",ROW())","v":13},"LOC NAC AEB","LOC NAC AEB",{"$f":"IF(COUNTIF('PLANNING PRINCIPAL'!$I$255:$X$255,P13)>=1,\"\",ROW())","v":13},"LOC NAC AEB","LOC NAC AEB",{"$f":"IF(COUNTIF('PLANNING PRINCIPAL'!$I$258:$X$258,S13)>=1,\"\",ROW())","v":13},"LOC NAC AEB",null,{"$f":"IF(COUNTIF('PLANNING PRINCIPAL'!$I$260:$X$260,V13)>=1,\"\",ROW())","v":13}]
[{"$f":"'DATA S1'!A14","v":"LOC NAC INTERLOC"},{"$f":"IF(COUNTIF('PLANNING PRINCIPAL'!$I$240:$X$240,A14)>=1,\"\",ROW())","v":14},"LOC NAC INTERLOC","LOC NAC INTERLOC",{"$f":"IF(COUNTIF('PLANNING PRINCIPAL'!$I$243:$X$243,D14)>=1,\"\",ROW())","v":14},"LOC NAC INTERLOC","LOC NAC INTERLOC",{"$f":"IF(COUNTIF('PLANNING PRINCIPAL'!$I$246:$X$246,G14)>=1,\"\",ROW())","v":14},"LOC NAC INTERLOC","LOC NAC INTERLOC",{"$f":"IF(COUNTIF('PLANNING PRINCIPAL'!$I$249:$X$249,J14)>=1,\"\",ROW())","v":14},"LOC NAC INTERLOC","LOC NAC INTERLOC",{"$f":"IF(COUNTIF('PLANNING PRINCIPAL'!$I$252:$X$252,M14)>=1,\"\",ROW())","v":14},"LOC NAC INTERLOC","LOC NAC INTERLOC",{"$f":"IF(COUNTIF('PLANNING PRINCIPAL'!$I$255:$X$255,P14)>=1,\"\",ROW())","v":14},"LOC NAC INTERLOC","LOC NAC INTERLOC",{"$f":"IF(COUNTIF('PLANNING PRINCIPAL'!$I$258:$X$258,S14)>=1,\"\",ROW())","v":14},"LOC NAC INTERLOC",null,{"$f":"IF(COUNTIF('PLANNING PRINCIPAL'!$I$260:$X$260,V14)>=1,\"\",ROW())","v":14}]
[{"$f":"'DATA S1'!A15","v":"LOC NAC KILOUTOU"},{"$f":"IF(COUNTIF('PLANNING PRINCIPAL'!$I$240:$X$240,A15)>=1,\"\",ROW())","v":15},"LOC NAC KILOUTOU","LOC NAC KILOUTOU",{"$f":"IF(COUNTIF('PLANNING PRINCIPAL'!$I$243:$X$243,D15)>=1,\"\",ROW())","v":15},"LOC NAC KILOUTOU","LOC NAC KILOUTOU",{"$f":"IF(COUNTIF('PLANNING PRINCIPAL'!$I$246:$X$246,G15)>=1,\"\",ROW())","v":15},"LOC NAC KILOUTOU","LOC NAC KILOUTOU",{"$f":"IF(COUNTIF('PLANNING PRINCIPAL'!$I$249:$X$249,J15)>=1,\"\",ROW())","v":15},"LOC NAC KILOUTOU","LOC NAC KILOUTOU",{"$f":"IF(COUNTIF('PLANNING PRINCIPAL'!$I$252:$X$252,M15)>=1,\"\",ROW())","v":15},"LOC NAC KILOUTOU","LOC NAC KILOUTOU",{"$f":"IF(COUNTIF('PLANNING PRINCIPAL'!$I$255:$X$255,P15)>=1,\"\",ROW())","v":15},"LOC NAC KILOUTOU","LOC NAC KILOUTOU",{"$f":"IF(COUNTIF('PLANNING PRINCIPAL'!$I$258:$X$258,S15)>=1,\"\",ROW())","v":15},"LOC NAC KILOUTOU",null,{"$f":"IF(COUNTIF('PLANNING PRINCIPAL'!$I$260:$X$260,V15)>=1,\"\",ROW())","v":15}]
[{"$f":"'DATA S1'!A16","v":"LOC NAC AEB"},{"$f":"IF(COUNTIF('PLANNING PRINCIPAL'!$I$240:$X$240,A16)>=1,\"\",ROW())","v":16},"LOC NAC AEB","LOC NAC AEB",{"$f":"IF(COUNTIF('PLANNING PRINCIPAL'!$I$243:$X$243,D16)>=1,\"\",ROW())","v":16},"LOC NAC AEB","LOC NAC AEB",{"$f":"IF(COUNTIF('PLANNING PRINCIPAL'!$I$246:$X$246,G16)>=1,\"\",ROW())","v":16},"LOC NAC AEB","LOC NAC AEB",{"$f":"IF(COUNTIF('PLANNING PRINCIPAL'!$I$249:$X$249,J16)>=1,\"\",ROW())","v":16},"LOC NAC AEB","LOC NAC AEB",{"$f":"IF(COUNTIF('PLANNING PRINCIPAL'!$I$252:$X$252,M16)>=1,\"\",ROW())","v":16},"LOC NAC AEB","LOC NAC AEB",{"$f":"IF(COUNTIF('PLANNING PRINCIPAL'!$I$255:$X$255,P16)>=1,\"\",ROW())","v":16},"LOC NAC AEB","LOC NAC AEB",{"$f":"IF(COUNTIF('PLANNING PRINCIPAL'!$I$258:$X$258,S16)>=1,\"\",ROW())","v":16},"LOC NAC AEB",null,{"$f":"IF(COUNTIF('PLANNING PRINCIPAL'!$I$260:$X$260,V16)>=1,\"\",ROW())","v":16}]
[{"$f":"'DATA S1'!A17","v":"LOC PELLE SOLOMAT"},{"$f":"IF(COUNTIF('PLANNING PRINCIPAL'!$I$240:$X$240,A17)>=1,\"\",ROW())","v":17},"LOC PELLE SOLOMAT","LOC PELLE SOLOMAT",{"$f":"IF(COUNTIF('PLANNING PRINCIPAL'!$I$243:$X$243,D17)>=1,\"\",ROW())","v":17},"LOC PELLE SOLOMAT","LOC PELLE SOLOMAT",{"$f":"IF(COUNTIF('PLANNING PRINCIPAL'!$I$246:$X$246,G17)>=1,\"\",ROW())","v":17},"LOC PELLE SOLOMAT","LOC PELLE SOLOMAT",{"$f":"IF(COUNTIF('PLANNING PRINCIPAL'!$I$249:$X$249,J17)>=1,\"\",ROW())","v":17},"LOC PELLE SOLOMAT","LOC PELLE SOLOMAT",{"$f":"IF(COUNTIF('PLANNING PRINCIPAL'!$I$252:$X$252,M17)>=1,\"\",ROW())","v":17},"LOC PELLE SOLOMAT","LOC PELLE SOLOMAT",{"$f":"IF(COUNTIF('PLANNING PRINCIPAL'!$I$255:$X$255,P17)>=1,\"\",ROW())","v":17},"LOC PELLE SOLOMAT","LOC PELLE SOLOMAT",{"$f":"IF(COUNTIF('PLANNING PRINCIPAL'!$I$258:$X$258,S17)>=1,\"\",ROW())","v":17},"LOC PELLE SOLOMAT",null,{"$f":"IF(COUNTIF('PLANNING PRINCIPAL'!$I$260:$X$260,V17)>=1,\"\",ROW())","v":17}]
[{"$f":"'DATA S1'!A18","v":"LOC PELLE AEB"},{"$f":"IF(COUNTIF('PLANNING PRINCIPAL'!$I$240:$X$240,A18)>=1,\"\",ROW())","v":18},"LOC PELLE AEB","LOC PELLE AEB",{"$f":"IF(COUNTIF('PLANNING PRINCIPAL'!$I$243:$X$243,D18)>=1,\"\",ROW())","v":18},"LOC PELLE AEB","LOC PELLE AEB",{"$f":"IF(COUNTIF('PLANNING PRINCIPAL'!$I$246:$X$246,G18)>=1,\"\",ROW())","v":18},"LOC PELLE AEB","LOC PELLE AEB",{"$f":"IF(COUNTIF('PLANNING PRINCIPAL'!$I$249:$X$249,J18)>=1,\"\",ROW())","v":18},"LOC PELLE AEB","LOC PELLE AEB",{"$f":"IF(COUNTIF('PLANNING PRINCIPAL'!$I$252:$X$252,M18)>=1,\"\",ROW())","v":18},"LOC PELLE AEB","LOC PELLE AEB",{"$f":"IF(COUNTIF('PLANNING PRINCIPAL'!$I$255:$X$255,P18)>=1,\"\",ROW())","v":18},"LOC PELLE AEB","LOC PELLE AEB",{"$f":"IF(COUNTIF('PLANNING PRINCIPAL'!$I$258:$X$258,S18)>=1,\"\",ROW())","v":18},"LOC PELLE AEB",null,{"$f":"IF(COUNTIF('PLANNING PRINCIPAL'!$I$260:$X$260,V18)>=1,\"\",ROW())","v":18}]
[{"$f":"'DATA S1'!A19","v":"LOC PELLE INTERLOC"},{"$f":"IF(COUNTIF('PLANNING PRINCIPAL'!$I$240:$X$240,A19)>=1,\"\",ROW())","v":19},"LOC PELLE INTERLOC","LOC PELLE INTERLOC",{"$f":"IF(COUNTIF('PLANNING PRINCIPAL'!$I$243:$X$243,D19)>=1,\"\",ROW())","v":19},"LOC PELLE INTERLOC","LOC PELLE INTERLOC",{"$f":"IF(COUNTIF('PLANNING PRINCIPAL'!$I$246:$X$246,G19)>=1,\"\",ROW())","v":19},"LOC PELLE INTERLOC","LOC PELLE INTERLOC",{"$f":"IF(COUNTIF('PLANNING PRINCIPAL'!$I$249:$X$249,J19)>=1,\"\",ROW())","v":19},"LOC PELLE INTERLOC","LOC PELLE INTERLOC",{"$f":"IF(COUNTIF('PLANNING PRINCIPAL'!$I$252:$X$252,M19)>=1,\"\",ROW())","v":19},"LOC PELLE INTERLOC","LOC PELLE INTERLOC",{"$f":"IF(COUNTIF('PLANNING PRINCIPAL'!$I$255:$X$255,P19)>=1,\"\",ROW())","v":19},"LOC PELLE INTERLOC","LOC PELLE INTERLOC",{"$f":"IF(COUNTIF('PLANNING PRINCIPAL'!$I$258:$X$258,S19)>=1,\"\",ROW())","v":19},"LOC PELLE INTERLOC",null,{"$f":"IF(COUNTIF('PLANNING PRINCIPAL'!$I$260:$X$260,V19)>=1,\"\",ROW())","v":19}]
[{"$f":"'DATA S1'!A20","v":"LOC PELLE KILOUTOU"},{"$f":"IF(COUNTIF('PLANNING PRINCIPAL'!$I$240:$X$240,A20)>=1,\"\",ROW())","v":20},"LOC PELLE KILOUTOU","LOC PELLE KILOUTOU",{"$f":"IF(COUNTIF('PLANNING PRINCIPAL'!$I$243:$X$243,D20)>=1,\"\",ROW())","v":20},"LOC PELLE KILOUTOU","LOC PELLE KILOUTOU",{"$f":"IF(COUNTIF('PLANNING PRINCIPAL'!$I$246:$X$246,G20)>=1,\"\",ROW())","v":20},"LOC PELLE KILOUTOU","LOC PELLE KILOUTOU",{"$f":"IF(COUNTIF('PLANNING PRINCIPAL'!$I$249:$X$249,J20)>=1,\"\",ROW())","v":20},"LOC PELLE KILOUTOU","LOC PELLE KILOUTOU",{"$f":"IF(COUNTIF('PLANNING PRINCIPAL'!$I$252:$X$252,M20)>=1,\"\",ROW())","v":20},"LOC PELLE KILOUTOU","LOC PELLE KILOUTOU",{"$f":"IF(COUNTIF('PLANNING PRINCIPAL'!$I$255:$X$255,P20)>=1,\"\",ROW())","v":20},"LOC PELLE KILOUTOU","LOC PELLE KILOUTOU",{"$f":"IF(COUNTIF('PLANNING PRINCIPAL'!$I$258:$X$258,S20)>=1,\"\",ROW())","v":20},"LOC PELLE KILOUTOU",null,{"$f":"IF(COUNTIF('PLANNING PRINCIPAL'!$I$260:$X$260,V20)>=1,\"\",ROW())","v":20}]
[null,{"$f":"IF(COUNTIF('PLANNING PRINCIPAL'!$I$240:$X$240,A21)>=1,\"\",ROW())","v":21},null,null,{"$f":"IF(COUNTIF('PLANNING PRINCIPAL'!$I$243:$X$243,D21)>=1,\"\",ROW())","v":21},null,null,{"$f":"IF(COUNTIF('PLANNING PRINCIPAL'!$I$246:$X$246,G21)>=1,\"\",ROW())","v":21},null,null,{"$f":"IF(COUNTIF('PLANNING PRINCIPAL'!$I$249:$X$249,J21)>=1,\"\",ROW())","v":21},null,null,{"$f":"IF(COUNTIF('PLANNING PRINCIPAL'!$I$252:$X$252,M21)>=1,\"\",ROW())","v":21},null,null,{"$f":"IF(COUNTIF('PLANNING PRINCIPAL'!$I$255:$X$255,P21)>=1,\"\",ROW())","v":21},null,null,{"$f":"IF(COUNTIF('PLANNING PRINCIPAL'!$I$258:$X$258,S21)>=1,\"\",ROW())","v":21},null,null,{"$f":"IF(COUNTIF('PLANNING PRINCIPAL'!$I$260:$X$260,V21)>=1,\"\",ROW())","v":21}]
[null,{"$f":"IF(COUNTIF('PLANNING PRINCIPAL'!$I$240:$X$240,A22)>=1,\"\",ROW())","v":22},null,null,{"$f":"IF(COUNTIF('PLANNING PRINCIPAL'!$I$243:$X$243,D22)>=1,\"\",ROW())","v":22},null,null,{"$f":"IF(COUNTIF('PLANNING PRINCIPAL'!$I$246:$X$246,G22)>=1,\"\",ROW())","v":22},null,null,{"$f":"IF(COUNTIF('PLANNING PRINCIPAL'!$I$249:$X$249,J22)>=1,\"\",ROW())","v":22},null,null,{"$f":"IF(COUNTIF('PLANNING PRINCIPAL'!$I$252:$X$252,M22)>=1,\"\",ROW())","v":22},null,null,{"$f":"IF(COUNTIF('PLANNING PRINCIPAL'!$I$255:$X$255,P22)>=1,\"\",ROW())","v":22},null,null,{"$f":"IF(COUNTIF('PLANNING PRINCIPAL'!$I$258:$X$258,S22)>=1,\"\",ROW())","v":22},null,null,{"$f":"IF(COUNTIF('PLANNING PRINCIPAL'!$I$260:$X$260,V22)>=1,\"\",ROW())","v":22}]
[null,{"$f":"IF(COUNTIF('PLANNING PRINCIPAL'!$I$240:$X$240,A23)>=1,\"\",ROW())","v":23},null,null,{"$f":"IF(COUNTIF('PLANNING PRINCIPAL'!$I$243:$X$243,D23)>=1,\"\",ROW())","v":23},null,null,{"$f":"IF(COUNTIF('PLANNING PRINCIPAL'!$I$246:$X$246,G23)>=1,\"\",ROW())","v":23},null,null,{"$f":"IF(COUNTIF('PLANNING PRINCIPAL'!$I$249:$X$249,J23)>=1,\"\",ROW())","v":23},null,null,{"$f":"IF(COUNTIF('PLANNING PRINCIPAL'!$I$252:$X$252,M23)>=1,\"\",ROW())","v":23},null,null,{"$f":"IF(COUNTIF('PLANNING PRINCIPAL'!$I$255:$X$255,P23)>=1,\"\",ROW())","v":23},null,null,{"$f":"IF(COUNTIF('PLANNING PRINCIPAL'!$I$258:$X$258,S23)>=1,\"\",ROW())","v":23},null,null,{"$f":"IF(COUNTIF('PLANNING PRINCIPAL'!$I$260:$X$260,V23)>=1,\"\",ROW())","v":23}]
[null,{"$f":"IF(COUNTIF('PLANNING PRINCIPAL'!$I$240:$X$240,A24)>=1,\"\",ROW())","v":24},null,null,{"$f":"IF(COUNTIF('PLANNING PRINCIPAL'!$I$243:$X$243,D24)>=1,\"\",ROW())","v":24},null,null,{"$f":"IF(COUNTIF('PLANNING PRINCIPAL'!$I$246:$X$246,G24)>=1,\"\",ROW())","v":24},null,null,{"$f":"IF(COUNTIF('PLANNING PRINCIPAL'!$I$249:$X$249,J24)>=1,\"\",ROW())","v":24},null,null,{"$f":"IF(COUNTIF('PLANNING PRINCIPAL'!$I$252:$X$252,M24)>=1,\"\",ROW())","v":24},null,null,{"$f":"IF(COUNTIF('PLANNING PRINCIPAL'!$I$255:$X$255,P24)>=1,\"\",ROW())","v":24},null,null,{"$f":"IF(COUNTIF('PLANNING PRINCIPAL'!$I$258:$X$258,S24)>=1,\"\",ROW())","v":24},null,null,{"$f":"IF(COUNTIF('PLANNING PRINCIPAL'!$I$260:$X$260,V24)>=1,\"\",ROW())","v":24}]
[null,{"$f":"IF(COUNTIF('PLANNING PRINCIPAL'!$I$240:$X$240,A25)>=1,\"\",ROW())","v":25},null,null,{"$f":"IF(COUNTIF('PLANNING PRINCIPAL'!$I$243:$X$243,D25)>=1,\"\",ROW())","v":25},null,null,{"$f":"IF(COUNTIF('PLANNING PRINCIPAL'!$I$246:$X$246,G25)>=1,\"\",ROW())","v":25},null,null,{"$f":"IF(COUNTIF('PLANNING PRINCIPAL'!$I$249:$X$249,J25)>=1,\"\",ROW())","v":25},null,null,{"$f":"IF(COUNTIF('PLANNING PRINCIPAL'!$I$252:$X$252,M25)>=1,\"\",ROW())","v":25},null,null,{"$f":"IF(COUNTIF('PLANNING PRINCIPAL'!$I$255:$X$255,P25)>=1,\"\",ROW())","v":25},null,null,{"$f":"IF(COUNTIF('PLANNING PRINCIPAL'!$I$258:$X$258,S25)>=1,\"\",ROW())","v":25},null,null,{"$f":"IF(COUNTIF('PLANNING PRINCIPAL'!$I$260:$X$260,V25)>=1,\"\",ROW())","v":25}]
[null,{"$f":"IF(COUNTIF('PLANNING PRINCIPAL'!$I$240:$X$240,A26)>=1,\"\",ROW())","v":26},null,null,{"$f":"IF(COUNTIF('PLANNING PRINCIPAL'!$I$243:$X$243,D26)>=1,\"\",ROW())","v":26},null,null,{"$f":"IF(COUNTIF('PLANNING PRINCIPAL'!$I$246:$X$246,G26)>=1,\"\",ROW())","v":26},null,null,{"$f":"IF(COUNTIF('PLANNING PRINCIPAL'!$I$249:$X$249,J26)>=1,\"\",ROW())","v":26},null,null,{"$f":"IF(COUNTIF('PLANNING PRINCIPAL'!$I$252:$X$252,M26)>=1,\"\",ROW())","v":26},null,null,{"$f":"IF(COUNTIF('PLANNING PRINCIPAL'!$I$255:$X$255,P26)>=1,\"\",ROW())","v":26},null,null,{"$f":"IF(COUNTIF('PLANNING PRINCIPAL'!$I$258:$X$258,S26)>=1,\"\",ROW())","v":26},null,null,{"$f":"IF(COUNTIF('PLANNING PRINCIPAL'!$I$260:$X$260,V26)>=1,\"\",ROW())","v":26}]
[null,{"$f":"IF(COUNTIF('PLANNING PRINCIPAL'!$I$240:$X$240,A27)>=1,\"\",ROW())","v":27},null,null,{"$f":"IF(COUNTIF('PLANNING PRINCIPAL'!$I$243:$X$243,D27)>=1,\"\",ROW())","v":27},null,null,{"$f":"IF(COUNTIF('PLANNING PRINCIPAL'!$I$246:$X$246,G27)>=1,\"\",ROW())","v":27},null,null,{"$f":"IF(COUNTIF('PLANNING PRINCIPAL'!$I$249:$X$249,J27)>=1,\"\",ROW())","v":27},null,null,{"$f":"IF(COUNTIF('PLANNING PRINCIPAL'!$I$252:$X$252,M27)>=1,\"\",ROW())","v":27},null,null,{"$f":"IF(COUNTIF('PLANNING PRINCIPAL'!$I$255:$X$255,P27)>=1,\"\",ROW())","v":27},null,null,{"$f":"IF(COUNTIF('PLANNING PRINCIPAL'!$I$258:$X$258,S27)>=1,\"\",ROW())","v":27},null,null,{"$f":"IF(COUNTIF('PLANNING PRINCIPAL'!$I$260:$X$260,V27)>=1,\"\",ROW())","v":27}]
[null,{"$f":"IF(COUNTIF('PLANNING PRINCIPAL'!$I$240:$X$240,A28)>=1,\"\",ROW())","v":28},null,null,{"$f":"IF(COUNTIF('PLANNING PRINCIPAL'!$I$243:$X$243,D28)>=1,\"\",ROW())","v":28},null,null,{"$f":"IF(COUNTIF('PLANNING PRINCIPAL'!$I$246:$X$246,G28)>=1,\"\",ROW())","v":28},null,null,{"$f":"IF(COUNTIF('PLANNING PRINCIPAL'!$I$249:$X$249,J28)>=1,\"\",ROW())","v":28},null,null,{"$f":"IF(COUNTIF('PLANNING PRINCIPAL'!$I$252:$X$252,M28)>=1,\"\",ROW())","v":28},null,null,{"$f":"IF(COUNTIF('PLANNING PRINCIPAL'!$I$255:$X$255,P28)>=1,\"\",ROW())","v":28},null,null,{"$f":"IF(COUNTIF('PLANNING PRINCIPAL'!$I$258:$X$258,S28)>=1,\"\",ROW())","v":28},null,null,{"$f":"IF(COUNTIF('PLANNING PRINCIPAL'!$I$260:$X$260,V28)>=1,\"\",ROW())","v":28}]
[null,{"$f":"IF(COUNTIF('PLANNING PRINCIPAL'!$I$240:$X$240,A29)>=1,\"\",ROW())","v":29},null,null,{"$f":"IF(COUNTIF('PLANNING PRINCIPAL'!$I$243:$X$243,D29)>=1,\"\",ROW())","v":29},null,null,{"$f":"IF(COUNTIF('PLANNING PRINCIPAL'!$I$246:$X$246,G29)>=1,\"\",ROW())","v":29},null,null,{"$f":"IF(COUNTIF('PLANNING PRINCIPAL'!$I$249:$X$249,J29)>=1,\"\",ROW())","v":29},null,null,{"$f":"IF(COUNTIF('PLANNING PRINCIPAL'!$I$252:$X$252,M29)>=1,\"\",ROW())","v":29},null,null,{"$f":"IF(COUNTIF('PLANNING PRINCIPAL'!$I$255:$X$255,P29)>=1,\"\",ROW())","v":29},null,null,{"$f":"IF(COUNTIF('PLANNING PRINCIPAL'!$I$258:$X$258,S29)>=1,\"\",ROW())","v":29},null,null,{"$f":"IF(COUNTIF('PLANNING PRINCIPAL'!$I$260:$X$260,V29)>=1,\"\",ROW())","v":29}]
[null,{"$f":"IF(COUNTIF('PLANNING PRINCIPAL'!$I$240:$X$240,A30)>=1,\"\",ROW())","v":30},null,null,{"$f":"IF(COUNTIF('PLANNING PRINCIPAL'!$I$243:$X$243,D30)>=1,\"\",ROW())","v":30},null,null,{"$f":"IF(COUNTIF('PLANNING PRINCIPAL'!$I$246:$X$246,G30)>=1,\"\",ROW())","v":30},null,null,{"$f":"IF(COUNTIF('PLANNING PRINCIPAL'!$I$249:$X$249,J30)>=1,\"\",ROW())","v":30},null,null,{"$f":"IF(COUNTIF('PLANNING PRINCIPAL'!$I$252:$X$252,M30)>=1,\"\",ROW())","v":30},null,null,{"$f":"IF(COUNTIF('PLANNING PRINCIPAL'!$I$255:$X$255,P30)>=1,\"\",ROW())","v":30},null,null,{"$f":"IF(COUNTIF('PLANNING PRINCIPAL'!$I$258:$X$258,S30)>=1,\"\",ROW())","v":30},null,null,{"$f":"IF(COUNTIF('PLANNING PRINCIPAL'!$I$260:$X$260,V30)>=1,\"\",ROW())","v":30}]
[null,{"$f":"IF(COUNTIF('PLANNING PRINCIPAL'!$I$240:$X$240,A31)>=1,\"\",ROW())","v":31},null,null,{"$f":"IF(COUNTIF('PLANNING PRINCIPAL'!$I$243:$X$243,D31)>=1,\"\",ROW())","v":31},null,null,{"$f":"IF(COUNTIF('PLANNING PRINCIPAL'!$I$246:$X$246,G31)>=1,\"\",ROW())","v":31},null,null,{"$f":"IF(COUNTIF('PLANNING PRINCIPAL'!$I$249:$X$249,J31)>=1,\"\",ROW())","v":31},null,null,{"$f":"IF(COUNTIF('PLANNING PRINCIPAL'!$I$252:$X$252,M31)>=1,\"\",ROW())","v":31},null,null,{"$f":"IF(COUNTIF('PLANNING PRINCIPAL'!$I$255:$X$255,P31)>=1,\"\",ROW())","v":31},null,null,{"$f":"IF(COUNTIF('PLANNING PRINCIPAL'!$I$258:$X$258,S31)>=1,\"\",ROW())","v":31},null,null,{"$f":"IF(COUNTIF('PLANNING PRINCIPAL'!$I$260:$X$260,V31)>=1,\"\",ROW())","v":31}]
[null,{"$f":"IF(COUNTIF('PLANNING PRINCIPAL'!$I$240:$X$240,A32)>=1,\"\",ROW())","v":32},null,null,{"$f":"IF(COUNTIF('PLANNING PRINCIPAL'!$I$243:$X$243,D32)>=1,\"\",ROW())","v":32},null,null,{"$f":"IF(COUNTIF('PLANNING PRINCIPAL'!$I$246:$X$246,G32)>=1,\"\",ROW())","v":32},null,null,{"$f":"IF(COUNTIF('PLANNING PRINCIPAL'!$I$249:$X$249,J32)>=1,\"\",ROW())","v":32},null,null,{"$f":"IF(COUNTIF('PLANNING PRINCIPAL'!$I$252:$X$252,M32)>=1,\"\",ROW())","v":32},null,null,{"$f":"IF(COUNTIF('PLANNING PRINCIPAL'!$I$255:$X$255,P32)>=1,\"\",ROW())","v":32},null,null,{"$f":"IF(COUNTIF('PLANNING PRINCIPAL'!$I$258:$X$258,S32)>=1,\"\",ROW())","v":32},null,null,{"$f":"IF(COUNTIF('PLANNING PRINCIPAL'!$I$260:$X$260,V32)>=1,\"\",ROW())","v":32}]
[null,{"$f":"IF(COUNTIF('PLANNING PRINCIPAL'!$I$240:$X$240,A33)>=1,\"\",ROW())","v":33},null,null,{"$f":"IF(COUNTIF('PLANNING PRINCIPAL'!$I$243:$X$243,D33)>=1,\"\",ROW())","v":33},null,null,{"$f":"IF(COUNTIF('PLANNING PRINCIPAL'!$I$246:$X$246,G33)>=1,\"\",ROW())","v":33},null,null,{"$f":"IF(COUNTIF('PLANNING PRINCIPAL'!$I$249:$X$249,J33)>=1,\"\",ROW())","v":33},null,null,{"$f":"IF(COUNTIF('PLANNING PRINCIPAL'!$I$252:$X$252,M33)>=1,\"\",ROW())","v":33},null,null,{"$f":"IF(COUNTIF('PLANNING PRINCIPAL'!$I$255:$X$255,P33)>=1,\"\",ROW())","v":33},null,null,{"$f":"IF(COUNTIF('PLANNING PRINCIPAL'!$I$258:$X$258,S33)>=1,\"\",ROW())","v":33},null,null,{"$f":"IF(COUNTIF('PLANNING PRINCIPAL'!$I$260:$X$260,V33)>=1,\"\",ROW())","v":33}]
[null,{"$f":"IF(COUNTIF('PLANNING PRINCIPAL'!$I$240:$X$240,A34)>=1,\"\",ROW())","v":34},null,null,{"$f":"IF(COUNTIF('PLANNING PRINCIPAL'!$I$243:$X$243,D34)>=1,\"\",ROW())","v":34},null,null,{"$f":"IF(COUNTIF('PLANNING PRINCIPAL'!$I$246:$X$246,G34)>=1,\"\",ROW())","v":34},null,null,{"$f":"IF(COUNTIF('PLANNING PRINCIPAL'!$I$249:$X$249,J34)>=1,\"\",ROW())","v":34},null,null,{"$f":"IF(COUNTIF('PLANNING PRINCIPAL'!$I$252:$X$252,M34)>=1,\"\",ROW())","v":34},null,null,{"$f":"IF(COUNTIF('PLANNING PRINCIPAL'!$I$255:$X$255,P34)>=1,\"\",ROW())","v":34},null,null,{"$f":"IF(COUNTIF('PLANNING PRINCIPAL'!$I$258:$X$258,S34)>=1,\"\",ROW())","v":34},null,null,{"$f":"IF(COUNTIF('PLANNING PRINCIPAL'!$I$260:$X$260,V34)>=1,\"\",ROW())","v":34}]
["LUNDI",null,null,"MARDI",null,null,"MERCREDI",null,null,"JEUDI",null,null,"VENDREDI",null,null,"SAMEDI",null,null,"DIMANCHE",null,null,"ASTREINTE"]

{"sheet":"DATA S12","index":13,"n_rows":35,"n_cols":24,"rows_kept":35,"cut":false,"hidden":false,"merged":[[34,18,34,20],[34,21,34,23],[34,0,34,2],[34,3,34,5],[34,6,34,8],[34,9,34,11],[34,12,34,14],[34,15,34,17]]}
[{"$f":"'DATA S1'!A1","v":"MAS XX "},{"$f":"IF(COUNTIF('PLANNING PRINCIPAL'!$I$263:$X$263,A1)>=1,\"\",ROW())","v":1},{"$f":"IF(ROW(A1)-ROW(A$1)+1>COUNT(B:B),\"\", INDEX(A:A,SMALL(B:B,1+ROW(A1)-ROW(A$1))))","v":"MAS XX "},{"$f":"A1","v":"MAS XX "},{"$f":"IF(COUNTIF('PLANNING PRINCIPAL'!$I$266:$X$266,D1)>=1,\"\",ROW())","v":1},{"$f":"IF(ROW(D1)-ROW(D$1)+1>COUNT(E:E),\"\", INDEX(D:D,SMALL(E:E,1+ROW(D1)-ROW(D$1))))","v":"MAS XX "},{"$f":"A1","v":"MAS XX "},{"$f":"IF(COUNTIF('PLANNING PRINCIPAL'!$I$269:$X$269,G1)>=1,\"\",ROW())","v":1},{"$f":"IF(ROW(G1)-ROW(G$1)+1>COUNT(H:H),\"\", INDEX(G:G,SMALL(H:H,1+ROW(G1)-ROW(G$1))))","v":"MAS XX "},{"$f":"A1","v":"MAS XX "},{"$f":"IF(COUNTIF('PLANNING PRINCIPAL'!$I$272:$X$272,J1)>=1,\"\",ROW())","v":1},{"$f":"IF(ROW(J1)-ROW(J$1)+1>COUNT(K:K),\"\", INDEX(J:J,SMALL(K:K,1+ROW(J1)-ROW(J$1))))","v":"MAS XX "},{"$f":"A1","v":"MAS XX "},{"$f":"IF(COUNTIF('PLANNING PRINCIPAL'!$I$275:$X$275,M1)>=1,\"\",ROW())","v":1},{"$f":"IF(ROW(M1)-ROW(M$1)+1>COUNT(N:N),\"\", INDEX(M:M,SMALL(N:N,1+ROW(M1)-ROW(M$1))))","v":"MAS XX "},{"$f":"A1","v":"MAS XX "},{"$f":"IF(COUNTIF('PLANNING PRINCIPAL'!$I$278:$X$278,P1)>=1,\"\",ROW())","v":1},{"$f":"IF(ROW(P1)-ROW(P$1)+1>COUNT(Q:Q),\"\", INDEX(P:P,SMALL(Q:Q,1+ROW(P1)-ROW(P$1))))","v":"MAS XX "},{"$f":"A1","v":"MAS XX "},{"$f":"IF(COUNTIF('PLANNING PRINCIPAL'!$I$281:$X$281,S1)>=1,\"\",ROW())","v":1},{"$f":"IF(ROW(S1)-ROW(S$1)+1>COUNT(T:T),\"\", INDEX(S:S,SMALL(T:T,1+ROW(S1)-ROW(S$1))))","v":"MAS XX "},{"$f":"'DATA S1'!V1","v":"ASTREINTE SLT"},{"$f":"IF(COUNTIF('PLANNING PRINCIPAL'!$I$285:$X$285,V1)>=1,\"\",ROW())","v":1},{"$f":"IF(ROW(V1)-ROW(V$1)+1>COUNT(W:W),\"\", INDEX(V:V,SMALL(W:W,1+ROW(V1)-ROW(V$1))))","v":"ASTREINTE SLT"}]
[{"$f":"'DATA S1'!A2","v":"MAS YY "},{"$f":"IF(COUNTIF('PLANNING PRINCIPAL'!$I$263:$X$263,A2)>=1,\"\",ROW())","v":2},{"$f":"IF(ROW(A2)-ROW(A$1)+1>COUNT(B:B),\"\", INDEX(A:A,SMALL(B:B,1+ROW(A2)-ROW(A$1))))","v":"MAS YY "},"MAS YY ",{"$f":"IF(COUNTIF('PLANNING PRINCIPAL'!$I$266:$X$266,D2)>=1,\"\",ROW())","v":2},{"$f":"IF(ROW(D2)-ROW(D$1)+1>COUNT(E:E),\"\", INDEX(D:D,SMALL(E:E,1+ROW(D2)-ROW(D$1))))","v":"MAS YY "},{"$f":"A2","v":"MAS YY "},{"$f":"IF(COUNTIF('PLANNING PRINCIPAL'!$I$269:$X$269,G2)>=1,\"\",ROW())","v":2},{"$f":"IF(ROW(G2)-ROW(G$1)+1>COUNT(H:H),\"\", INDEX(G:G,SMALL(H:H,1+ROW(G2)-ROW(G$1))))","v":"MAS YY "},{"$f":"A2","v":"MAS YY "},{"$f":"IF(COUNTIF('PLANNING PRINCIPAL'!$I$272:$X$272,J2)>=1,\"\",ROW())","v":2},{"$f":"IF(ROW(J2)-ROW(J$1)+1>COUNT(K:K),\"\", INDEX(J:J,SMALL(K:K,1+ROW(J2)-ROW(J$1))))","v":"MAS YY "},{"$f":"A2","v":"MAS YY "},{"$f":"IF(COUNTIF('PLANNING PRINCIPAL'!$I$275:$X$275,M2)>=1,\"\",ROW())","v":2},{"$f":"IF(ROW(M2)-ROW(M$1)+1>COUNT(N:N),\"\", INDEX(M:M,SMALL(N:N,1+ROW(M2)-ROW(M$1))))","v":"MAS YY "},{"$f":"A2","v":"MAS YY "},{"$f":"IF(COUNTIF('PLANNING PRINCIPAL'!$I$278:$X$278,P2)>=1,\"\",ROW())","v":2},{"$f":"IF(ROW(P2)-ROW(P$1)+1>COUNT(Q:Q),\"\", INDEX(P:P,SMALL(Q:Q,1+ROW(P2)-ROW(P$1))))","v":"MAS YY "},{"$f":"A2","v":"MAS YY "},{"$f":"IF(COUNTIF('PLANNING PRINCIPAL'!$I$281:$X$281,S2)>=1,\"\",ROW())","v":2},{"$f":"IF(ROW(S2)-ROW(S$1)+1>COUNT(T:T),\"\", INDEX(S:S,SMALL(T:T,1+ROW(S2)-ROW(S$1))))","v":"MAS YY "},{"$f":"'DATA S1'!V2","v":"ASTREINTE EP"},{"$f":"IF(COUNTIF('PLANNING PRINCIPAL'!$I$285:$X$285,V2)>=1,\"\",ROW())","v":2},{"$f":"IF(ROW(V2)-ROW(V$1)+1>COUNT(W:W),\"\", INDEX(V:V,SMALL(W:W,1+ROW(V2)-ROW(V$1))))","v":"ASTREINTE EP"}]
[{"$f":"'DATA S1'!A3","v":"MAS VQ "},{"$f":"IF(COUNTIF('PLANNING PRINCIPAL'!$I$263:$X$263,A3)>=1,\"\",ROW())","v":3},"MAS VQ ","MAS VQ ",{"$f":"IF(COUNTIF('PLANNING PRINCIPAL'!$I$266:$X$266,D3)>=1,\"\",ROW())","v":3},"MAS VQ ","MAS VQ ",{"$f":"IF(COUNTIF('PLANNING PRINCIPAL'!$I$269:$X$269,G3)>=1,\"\",ROW())","v":3},"MAS VQ ","MAS VQ ",{"$f":"IF(COUNTIF('PLANNING PRINCIPAL'!$I$272:$X$272,J3)>=1,\"\",ROW())","v":3},"MAS VQ ","MAS VQ ",{"$f":"IF(COUNTIF('PLANNING PRINCIPAL'!$I$275:$X$275,M3)>=1,\"\",ROW())","v":3},"MAS VQ ","MAS VQ ",{"$f":"IF(COUNTIF('PLANNING PRINCIPAL'!$I$278:$X$278,P3)>=1,\"\",ROW())","v":3},"MAS VQ ","MAS VQ ",{"$f":"IF(COUNTIF('PLANNING PRINCIPAL'!$I$281:$X$281,S3)>=1,\"\",ROW())","v":3},"MAS VQ ",{"$f":"'DATA S1'!V3","v":"V NOC CHARTRES"},{"$f":"IF(COUNTIF('PLANNING PRINCIPAL'!$I$285:$X$285,V3)>=1,\"\",ROW())","v":3},"V NOC CHARTRES"]
[{"$f":"'DATA S1'!A4","v":"MAS PL "},{"$f":"IF(COUNTIF('PLANNING PRINCIPAL'!$I$263:$X$263,A4)>=1,\"\",ROW())","v":4},"MAS PL ","MAS PL ",{"$f":"IF(COUNTIF('PLANNING PRINCIPAL'!$I$266:$X$266,D4)>=1,\"\",ROW())","v":4},"MAS PL ","MAS PL ",{"$f":"IF(COUNTIF('PLANNING PRINCIPAL'!$I$269:$X$269,G4)>=1,\"\",ROW())","v":4},"MAS PL ","MAS PL ",{"$f":"IF(COUNTIF('PLANNING PRINCIPAL'!$I$272:$X$272,J4)>=1,\"\",ROW())","v":4},"MAS PL ","MAS PL ",{"$f":"IF(COUNTIF('PLANNING PRINCIPAL'!$I$275:$X$275,M4)>=1,\"\",ROW())","v":4},"MAS PL ","MAS PL ",{"$f":"IF(COUNTIF('PLANNING PRINCIPAL'!$I$278:$X$278,P4)>=1,\"\",ROW())","v":4},"MAS PL ","MAS PL ",{"$f":"IF(COUNTIF('PLANNING PRINCIPAL'!$I$281:$X$281,S4)>=1,\"\",ROW())","v":4},"MAS PL ",{"$f":"'DATA S1'!V4","v":"V NOC EPERNON"},{"$f":"IF(COUNTIF('PLANNING PRINCIPAL'!$I$285:$X$285,V4)>=1,\"\",ROW())","v":4},"V NOC EPERNON"]
[{"$f":"'DATA S1'!A5","v":"BEN VL PT "},{"$f":"IF(COUNTIF('PLANNING PRINCIPAL'!$I$263:$X$263,A5)>=1,\"\",ROW())","v":5},"BEN VL PT ","BEN VL PT ",{"$f":"IF(COUNTIF('PLANNING PRINCIPAL'!$I$266:$X$266,D5)>=1,\"\",ROW())","v":5},"BEN VL PT ","BEN VL PT ",{"$f":"IF(COUNTIF('PLANNING PRINCIPAL'!$I$269:$X$269,G5)>=1,\"\",ROW())","v":5},"BEN VL PT ","BEN VL PT ",{"$f":"IF(COUNTIF('PLANNING PRINCIPAL'!$I$272:$X$272,J5)>=1,\"\",ROW())","v":5},"BEN VL PT ","BEN VL PT ",{"$f":"IF(COUNTIF('PLANNING PRINCIPAL'!$I$275:$X$275,M5)>=1,\"\",ROW())","v":5},"BEN VL PT ","BEN VL PT ",{"$f":"IF(COUNTIF('PLANNING PRINCIPAL'!$I$278:$X$278,P5)>=1,\"\",ROW())","v":5},"BEN VL PT ","BEN VL PT ",{"$f":"IF(COUNTIF('PLANNING PRINCIPAL'!$I$281:$X$281,S5)>=1,\"\",ROW())","v":5},"BEN VL PT ",{"$f":"'DATA S1'!V5","v":"V NOC HANCHES"},{"$f":"IF(COUNTIF('PLANNING PRINCIPAL'!$I$285:$X$285,V5)>=1,\"\",ROW())","v":5},"V NOC HANCHES"]
[{"$f":"'DATA S1'!A6","v":"BEN 19T "},{"$f":"IF(COUNTIF('PLANNING PRINCIPAL'!$I$263:$X$263,A6)>=1,\"\",ROW())","v":6},"BEN 19T ","BEN 19T ",{"$f":"IF(COUNTIF('PLANNING PRINCIPAL'!$I$266:$X$266,D6)>=1,\"\",ROW())","v":6},"BEN 19T ","BEN 19T ",{"$f":"IF(COUNTIF('PLANNING PRINCIPAL'!$I$269:$X$269,G6)>=1,\"\",ROW())","v":6},"BEN 19T ","BEN 19T ",{"$f":"IF(COUNTIF('PLANNING PRINCIPAL'!$I$272:$X$272,J6)>=1,\"\",ROW())","v":6},"BEN 19T ","BEN 19T ",{"$f":"IF(COUNTIF('PLANNING PRINCIPAL'!$I$275:$X$275,M6)>=1,\"\",ROW())","v":6},"BEN 19T ","BEN 19T ",{"$f":"IF(COUNTIF('PLANNING PRINCIPAL'!$I$278:$X$278,P6)>=1,\"\",ROW())","v":6},"BEN 19T ","BEN 19T ",{"$f":"IF(COUNTIF('PLANNING PRINCIPAL'!$I$281:$X$281,S6)>=1,\"\",ROW())","v":6},"BEN 19T ",{"$f":"'DATA S1'!V6","v":"V NOC MAINTENON"},{"$f":"IF(COUNTIF('PLANNING PRINCIPAL'!$I$285:$X$285,V6)>=1,\"\",ROW())","v":6},"V NOC MAINTENON"]
[{"$f":"'DATA S1'!A7","v":"BEN 13T "},{"$f":"IF(COUNTIF('PLANNING PRINCIPAL'!$I$263:$X$263,A7)>=1,\"\",ROW())","v":7},"BEN 13T ","BEN 13T ",{"$f":"IF(COUNTIF('PLANNING PRINCIPAL'!$I$266:$X$266,D7)>=1,\"\",ROW())","v":7},"BEN 13T ","BEN 13T ",{"$f":"IF(COUNTIF('PLANNING PRINCIPAL'!$I$269:$X$269,G7)>=1,\"\",ROW())","v":7},"BEN 13T ","BEN 13T ",{"$f":"IF(COUNTIF('PLANNING PRINCIPAL'!$I$272:$X$272,J7)>=1,\"\",ROW())","v":7},"BEN 13T ","BEN 13T ",{"$f":"IF(COUNTIF('PLANNING PRINCIPAL'!$I$275:$X$275,M7)>=1,\"\",ROW())","v":7},"BEN 13T ","BEN 13T ",{"$f":"IF(COUNTIF('PLANNING PRINCIPAL'!$I$278:$X$278,P7)>=1,\"\",ROW())","v":7},"BEN 13T ","BEN 13T ",{"$f":"IF(COUNTIF('PLANNING PRINCIPAL'!$I$281:$X$281,S7)>=1,\"\",ROW())","v":7},"BEN 13T ",null,{"$f":"IF(COUNTIF('PLANNING PRINCIPAL'!$I$285:$X$285,V7)>=1,\"\",ROW())","v":7}]
[{"$f":"'DATA S1'!A8","v":"NAC VL 18M "},{"$f":"IF(COUNTIF('PLANNING PRINCIPAL'!$I$263:$X$263,A8)>=1,\"\",ROW())","v":8},"NAC VL 18M ","NAC VL 18M ",{"$f":"IF(COUNTIF('PLANNING PRINCIPAL'!$I$266:$X$266,D8)>=1,\"\",ROW())","v":8},"NAC VL 18M ","NAC VL 18M ",{"$f":"IF(COUNTIF('PLANNING PRINCIPAL'!$I$269:$X$269,G8)>=1,\"\",ROW())","v":8},"NAC VL 18M ","NAC VL 18M ",{"$f":"IF(COUNTIF('PLANNING PRINCIPAL'!$I$272:$X$272,J8)>=1,\"\",ROW())","v":8},"NAC VL 18M ","NAC VL 18M ",{"$f":"IF(COUNTIF('PLANNING PRINCIPAL'!$I$275:$X$275,M8)>=1,\"\",ROW())","v":8},"NAC VL 18M ","NAC VL 18M ",{"$f":"IF(COUNTIF('PLANNING PRINCIPAL'!$I$278:$X$278,P8)>=1,\"\",ROW())","v":8},"NAC VL 18M ","NAC VL 18M ",{"$f":"IF(COUNTIF('PLANNING PRINCIPAL'!$I$281:$X$281,S8)>=1,\"\",ROW())","v":8},"NAC VL 18M ",null,{"$f":"IF(COUNTIF('PLANNING PRINCIPAL'!$I$285:$X$285,V8)>=1,\"\",ROW())","v":8}]
[{"$f":"'DATA S1'!A9","v":"NAC EGIE"},{"$f":"IF(COUNTIF('PLANNING PRINCIPAL'!$I$263:$X$263,A9)>=1,\"\",ROW())","v":9},"NAC EGIE","NAC EGIE",{"$f":"IF(COUNTIF('PLANNING PRINCIPAL'!$I$266:$X$266,D9)>=1,\"\",ROW())","v":9},"NAC EGIE","NAC EGIE",{"$f":"IF(COUNTIF('PLANNING PRINCIPAL'!$I$269:$X$269,G9)>=1,\"\",ROW())","v":9},"NAC EGIE","NAC EGIE",{"$f":"IF(COUNTIF('PLANNING PRINCIPAL'!$I$272:$X$272,J9)>=1,\"\",ROW())","v":9},"NAC EGIE","NAC EGIE",{"$f":"IF(COUNTIF('PLANNING PRINCIPAL'!$I$275:$X$275,M9)>=1,\"\",ROW())","v":9},"NAC EGIE","NAC EGIE",{"$f":"IF(COUNTIF('PLANNING PRINCIPAL'!$I$278:$X$278,P9)>=1,\"\",ROW())","v":9},"NAC EGIE","NAC EGIE",{"$f":"IF(COUNTIF('PLANNING PRINCIPAL'!$I$281:$X$281,S9)>=1,\"\",ROW())","v":9},"NAC EGIE",null,{"$f":"IF(COUNTIF('PLANNING PRINCIPAL'!$I$285:$X$285,V9)>=1,\"\",ROW())","v":9}]
[{"$f":"'DATA S1'!A10","v":"NAC COMI "},{"$f":"IF(COUNTIF('PLANNING PRINCIPAL'!$I$263:$X$263,A10)>=1,\"\",ROW())","v":10},"NAC COMI ","NAC COMI ",{"$f":"IF(COUNTIF('PLANNING PRINCIPAL'!$I$266:$X$266,D10)>=1,\"\",ROW())","v":10},"NAC COMI ","NAC COMI ",{"$f":"IF(COUNTIF('PLANNING PRINCIPAL'!$I$269:$X$269,G10)>=1,\"\",ROW())","v":10},"NAC COMI ","NAC COMI ",{"$f":"IF(COUNTIF('PLANNING PRINCIPAL'!$I$272:$X$272,J10)>=1,\"\",ROW())","v":10},"NAC COMI ","NAC COMI ",{"$f":"IF(COUNTIF('PLANNING PRINCIPAL'!$I$275:$X$275,M10)>=1,\"\",ROW())","v":10},"NAC COMI ","NAC COMI ",{"$f":"IF(COUNTIF('PLANNING PRINCIPAL'!$I$278:$X$278,P10)>=1,\"\",ROW())","v":10},"NAC COMI ","NAC COMI ",{"$f":"IF(COUNTIF('PLANNING PRINCIPAL'!$I$281:$X$281,S10)>=1,\"\",ROW())","v":10},"NAC COMI ",null,{"$f":"IF(COUNTIF('PLANNING PRINCIPAL'!$I$285:$X$285,V10)>=1,\"\",ROW())","v":10}]
[{"$f":"'DATA S1'!A11","v":"#####LOCATION#####"},{"$f":"IF(COUNTIF('PLANNING PRINCIPAL'!$I$263:$X$263,A11)>=1,\"\",ROW())","v":11},"#####LOCATION#####","#####LOCATION#####",{"$f":"IF(COUNTIF('PLANNING PRINCIPAL'!$I$266:$X$266,D11)>=1,\"\",ROW())","v":11},"#####LOCATION#####","#####LOCATION#####",{"$f":"IF(COUNTIF('PLANNING PRINCIPAL'!$I$269:$X$269,G11)>=1,\"\",ROW())","v":11},"#####LOCATION#####","#####LOCATION#####",{"$f":"IF(COUNTIF('PLANNING PRINCIPAL'!$I$272:$X$272,J11)>=1,\"\",ROW())","v":11},"#####LOCATION#####","#####LOCATION#####",{"$f":"IF(COUNTIF('PLANNING PRINCIPAL'!$I$275:$X$275,M11)>=1,\"\",ROW())","v":11},"#####LOCATION#####","#####LOCATION#####",{"$f":"IF(COUNTIF('PLANNING PRINCIPAL'!$I$278:$X$278,P11)>=1,\"\",ROW())","v":11},"#####LOCATION#####","#####LOCATION#####",{"$f":"IF(COUNTIF('PLANNING PRINCIPAL'!$I$281:$X$281,S11)>=1,\"\",ROW())","v":11},"#####LOCATION#####",null,{"$f":"IF(COUNTIF('PLANNING PRINCIPAL'!$I$285:$X$285,V11)>=1,\"\",ROW())","v":11}]
[{"$f":"'DATA S1'!A12","v":"LOC NAC SOLOMAT"},{"$f":"IF(COUNTIF('PLANNING PRINCIPAL'!$I$263:$X$263,A12)>=1,\"\",ROW())","v":12},"LOC NAC SOLOMAT","LOC NAC SOLOMAT",{"$f":"IF(COUNTIF('PLANNING PRINCIPAL'!$I$266:$X$266,D12)>=1,\"\",ROW())","v":12},"LOC NAC SOLOMAT","LOC NAC SOLOMAT",{"$f":"IF(COUNTIF('PLANNING PRINCIPAL'!$I$269:$X$269,G12)>=1,\"\",ROW())","v":12},"LOC NAC SOLOMAT","LOC NAC SOLOMAT",{"$f":"IF(COUNTIF('PLANNING PRINCIPAL'!$I$272:$X$272,J12)>=1,\"\",ROW())","v":12},"LOC NAC SOLOMAT","LOC NAC SOLOMAT",{"$f":"IF(COUNTIF('PLANNING PRINCIPAL'!$I$275:$X$275,M12)>=1,\"\",ROW())","v":12},"LOC NAC SOLOMAT","LOC NAC SOLOMAT",{"$f":"IF(COUNTIF('PLANNING PRINCIPAL'!$I$278:$X$278,P12)>=1,\"\",ROW())","v":12},"LOC NAC SOLOMAT","LOC NAC SOLOMAT",{"$f":"IF(COUNTIF('PLANNING PRINCIPAL'!$I$281:$X$281,S12)>=1,\"\",ROW())","v":12},"LOC NAC SOLOMAT",null,{"$f":"IF(COUNTIF('PLANNING PRINCIPAL'!$I$285:$X$285,V12)>=1,\"\",ROW())","v":12}]
[{"$f":"'DATA S1'!A13","v":"LOC NAC AEB"},{"$f":"IF(COUNTIF('PLANNING PRINCIPAL'!$I$263:$X$263,A13)>=1,\"\",ROW())","v":13},"LOC NAC AEB","LOC NAC AEB",{"$f":"IF(COUNTIF('PLANNING PRINCIPAL'!$I$266:$X$266,D13)>=1,\"\",ROW())","v":13},"LOC NAC AEB","LOC NAC AEB",{"$f":"IF(COUNTIF('PLANNING PRINCIPAL'!$I$269:$X$269,G13)>=1,\"\",ROW())","v":13},"LOC NAC AEB","LOC NAC AEB",{"$f":"IF(COUNTIF('PLANNING PRINCIPAL'!$I$272:$X$272,J13)>=1,\"\",ROW())","v":13},"LOC NAC AEB","LOC NAC AEB",{"$f":"IF(COUNTIF('PLANNING PRINCIPAL'!$I$275:$X$275,M13)>=1,\"\",ROW())","v":13},"LOC NAC AEB","LOC NAC AEB",{"$f":"IF(COUNTIF('PLANNING PRINCIPAL'!$I$278:$X$278,P13)>=1,\"\",ROW())","v":13},"LOC NAC AEB","LOC NAC AEB",{"$f":"IF(COUNTIF('PLANNING PRINCIPAL'!$I$281:$X$281,S13)>=1,\"\",ROW())","v":13},"LOC NAC AEB",null,{"$f":"IF(COUNTIF('PLANNING PRINCIPAL'!$I$285:$X$285,V13)>=1,\"\",ROW())","v":13}]
[{"$f":"'DATA S1'!A14","v":"LOC NAC INTERLOC"},{"$f":"IF(COUNTIF('PLANNING PRINCIPAL'!$I$263:$X$263,A14)>=1,\"\",ROW())","v":14},"LOC NAC INTERLOC","LOC NAC INTERLOC",{"$f":"IF(COUNTIF('PLANNING PRINCIPAL'!$I$266:$X$266,D14)>=1,\"\",ROW())","v":14},"LOC NAC INTERLOC","LOC NAC INTERLOC",{"$f":"IF(COUNTIF('PLANNING PRINCIPAL'!$I$269:$X$269,G14)>=1,\"\",ROW())","v":14},"LOC NAC INTERLOC","LOC NAC INTERLOC",{"$f":"IF(COUNTIF('PLANNING PRINCIPAL'!$I$272:$X$272,J14)>=1,\"\",ROW())","v":14},"LOC NAC INTERLOC","LOC NAC INTERLOC",{"$f":"IF(COUNTIF('PLANNING PRINCIPAL'!$I$275:$X$275,M14)>=1,\"\",ROW())","v":14},"LOC NAC INTERLOC","LOC NAC INTERLOC",{"$f":"IF(COUNTIF('PLANNING PRINCIPAL'!$I$278:$X$278,P14)>=1,\"\",ROW())","v":14},"LOC NAC INTERLOC","LOC NAC INTERLOC",{"$f":"IF(COUNTIF('PLANNING PRINCIPAL'!$I$281:$X$281,S14)>=1,\"\",ROW())","v":14},"LOC NAC INTERLOC",null,{"$f":"IF(COUNTIF('PLANNING PRINCIPAL'!$I$285:$X$285,V14)>=1,\"\",ROW())","v":14}]
[{"$f":"'DATA S1'!A15","v":"LOC NAC KILOUTOU"},{"$f":"IF(COUNTIF('PLANNING PRINCIPAL'!$I$263:$X$263,A15)>=1,\"\",ROW())","v":15},"LOC NAC KILOUTOU","LOC NAC KILOUTOU",{"$f":"IF(COUNTIF('PLANNING PRINCIPAL'!$I$266:$X$266,D15)>=1,\"\",ROW())","v":15},"LOC NAC KILOUTOU","LOC NAC KILOUTOU",{"$f":"IF(COUNTIF('PLANNING PRINCIPAL'!$I$269:$X$269,G15)>=1,\"\",ROW())","v":15},"LOC NAC KILOUTOU","LOC NAC KILOUTOU",{"$f":"IF(COUNTIF('PLANNING PRINCIPAL'!$I$272:$X$272,J15)>=1,\"\",ROW())","v":15},"LOC NAC KILOUTOU","LOC NAC KILOUTOU",{"$f":"IF(COUNTIF('PLANNING PRINCIPAL'!$I$275:$X$275,M15)>=1,\"\",ROW())","v":15},"LOC NAC KILOUTOU","LOC NAC KILOUTOU",{"$f":"IF(COUNTIF('PLANNING PRINCIPAL'!$I$278:$X$278,P15)>=1,\"\",ROW())","v":15},"LOC NAC KILOUTOU","LOC NAC KILOUTOU",{"$f":"IF(COUNTIF('PLANNING PRINCIPAL'!$I$281:$X$281,S15)>=1,\"\",ROW())","v":15},"LOC NAC KILOUTOU",null,{"$f":"IF(COUNTIF('PLANNING PRINCIPAL'!$I$285:$X$285,V15)>=1,\"\",ROW())","v":15}]
[{"$f":"'DATA S1'!A16","v":"LOC NAC AEB"},{"$f":"IF(COUNTIF('PLANNING PRINCIPAL'!$I$263:$X$263,A16)>=1,\"\",ROW())","v":16},"LOC NAC AEB","LOC NAC AEB",{"$f":"IF(COUNTIF('PLANNING PRINCIPAL'!$I$266:$X$266,D16)>=1,\"\",ROW())","v":16},"LOC NAC AEB","LOC NAC AEB",{"$f":"IF(COUNTIF('PLANNING PRINCIPAL'!$I$269:$X$269,G16)>=1,\"\",ROW())","v":16},"LOC NAC AEB","LOC NAC AEB",{"$f":"IF(COUNTIF('PLANNING PRINCIPAL'!$I$272:$X$272,J16)>=1,\"\",ROW())","v":16},"LOC NAC AEB","LOC NAC AEB",{"$f":"IF(COUNTIF('PLANNING PRINCIPAL'!$I$275:$X$275,M16)>=1,\"\",ROW())","v":16},"LOC NAC AEB","LOC NAC AEB",{"$f":"IF(COUNTIF('PLANNING PRINCIPAL'!$I$278:$X$278,P16)>=1,\"\",ROW())","v":16},"LOC NAC AEB","LOC NAC AEB",{"$f":"IF(COUNTIF('PLANNING PRINCIPAL'!$I$281:$X$281,S16)>=1,\"\",ROW())","v":16},"LOC NAC AEB",null,{"$f":"IF(COUNTIF('PLANNING PRINCIPAL'!$I$285:$X$285,V16)>=1,\"\",ROW())","v":16}]
[{"$f":"'DATA S1'!A17","v":"LOC PELLE SOLOMAT"},{"$f":"IF(COUNTIF('PLANNING PRINCIPAL'!$I$263:$X$263,A17)>=1,\"\",ROW())","v":17},"LOC PELLE SOLOMAT","LOC PELLE SOLOMAT",{"$f":"IF(COUNTIF('PLANNING PRINCIPAL'!$I$266:$X$266,D17)>=1,\"\",ROW())","v":17},"LOC PELLE SOLOMAT","LOC PELLE SOLOMAT",{"$f":"IF(COUNTIF('PLANNING PRINCIPAL'!$I$269:$X$269,G17)>=1,\"\",ROW())","v":17},"LOC PELLE SOLOMAT","LOC PELLE SOLOMAT",{"$f":"IF(COUNTIF('PLANNING PRINCIPAL'!$I$272:$X$272,J17)>=1,\"\",ROW())","v":17},"LOC PELLE SOLOMAT","LOC PELLE SOLOMAT",{"$f":"IF(COUNTIF('PLANNING PRINCIPAL'!$I$275:$X$275,M17)>=1,\"\",ROW())","v":17},"LOC PELLE SOLOMAT","LOC PELLE SOLOMAT",{"$f":"IF(COUNTIF('PLANNING PRINCIPAL'!$I$278:$X$278,P17)>=1,\"\",ROW())","v":17},"LOC PELLE SOLOMAT","LOC PELLE SOLOMAT",{"$f":"IF(COUNTIF('PLANNING PRINCIPAL'!$I$281:$X$281,S17)>=1,\"\",ROW())","v":17},"LOC PELLE SOLOMAT",null,{"$f":"IF(COUNTIF('PLANNING PRINCIPAL'!$I$285:$X$285,V17)>=1,\"\",ROW())","v":17}]
[{"$f":"'DATA S1'!A18","v":"LOC PELLE AEB"},{"$f":"IF(COUNTIF('PLANNING PRINCIPAL'!$I$263:$X$263,A18)>=1,\"\",ROW())","v":18},"LOC PELLE AEB","LOC PELLE AEB",{"$f":"IF(COUNTIF('PLANNING PRINCIPAL'!$I$266:$X$266,D18)>=1,\"\",ROW())","v":18},"LOC PELLE AEB","LOC PELLE AEB",{"$f":"IF(COUNTIF('PLANNING PRINCIPAL'!$I$269:$X$269,G18)>=1,\"\",ROW())","v":18},"LOC PELLE AEB","LOC PELLE AEB",{"$f":"IF(COUNTIF('PLANNING PRINCIPAL'!$I$272:$X$272,J18)>=1,\"\",ROW())","v":18},"LOC PELLE AEB","LOC PELLE AEB",{"$f":"IF(COUNTIF('PLANNING PRINCIPAL'!$I$275:$X$275,M18)>=1,\"\",ROW())","v":18},"LOC PELLE AEB","LOC PELLE AEB",{"$f":"IF(COUNTIF('PLANNING PRINCIPAL'!$I$278:$X$278,P18)>=1,\"\",ROW())","v":18},"LOC PELLE AEB","LOC PELLE AEB",{"$f":"IF(COUNTIF('PLANNING PRINCIPAL'!$I$281:$X$281,S18)>=1,\"\",ROW())","v":18},"LOC PELLE AEB",null,{"$f":"IF(COUNTIF('PLANNING PRINCIPAL'!$I$285:$X$285,V18)>=1,\"\",ROW())","v":18}]
[{"$f":"'DATA S1'!A19","v":"LOC PELLE INTERLOC"},{"$f":"IF(COUNTIF('PLANNING PRINCIPAL'!$I$263:$X$263,A19)>=1,\"\",ROW())","v":19},"LOC PELLE INTERLOC","LOC PELLE INTERLOC",{"$f":"IF(COUNTIF('PLANNING PRINCIPAL'!$I$266:$X$266,D19)>=1,\"\",ROW())","v":19},"LOC PELLE INTERLOC","LOC PELLE INTERLOC",{"$f":"IF(COUNTIF('PLANNING PRINCIPAL'!$I$269:$X$269,G19)>=1,\"\",ROW())","v":19},"LOC PELLE INTERLOC","LOC PELLE INTERLOC",{"$f":"IF(COUNTIF('PLANNING PRINCIPAL'!$I$272:$X$272,J19)>=1,\"\",ROW())","v":19},"LOC PELLE INTERLOC","LOC PELLE INTERLOC",{"$f":"IF(COUNTIF('PLANNING PRINCIPAL'!$I$275:$X$275,M19)>=1,\"\",ROW())","v":19},"LOC PELLE INTERLOC","LOC PELLE INTERLOC",{"$f":"IF(COUNTIF('PLANNING PRINCIPAL'!$I$278:$X$278,P19)>=1,\"\",ROW())","v":19},"LOC PELLE INTERLOC","LOC PELLE INTERLOC",{"$f":"IF(COUNTIF('PLANNING PRINCIPAL'!$I$281:$X$281,S19)>=1,\"\",ROW())","v":19},"LOC PELLE INTERLOC",null,{"$f":"IF(COUNTIF('PLANNING PRINCIPAL'!$I$285:$X$285,V19)>=1,\"\",ROW())","v":19}]
[{"$f":"'DATA S1'!A20","v":"LOC PELLE KILOUTOU"},{"$f":"IF(COUNTIF('PLANNING PRINCIPAL'!$I$263:$X$263,A20)>=1,\"\",ROW())","v":20},"LOC PELLE KILOUTOU","LOC PELLE KILOUTOU",{"$f":"IF(COUNTIF('PLANNING PRINCIPAL'!$I$266:$X$266,D20)>=1,\"\",ROW())","v":20},"LOC PELLE KILOUTOU","LOC PELLE KILOUTOU",{"$f":"IF(COUNTIF('PLANNING PRINCIPAL'!$I$269:$X$269,G20)>=1,\"\",ROW())","v":20},"LOC PELLE KILOUTOU","LOC PELLE KILOUTOU",{"$f":"IF(COUNTIF('PLANNING PRINCIPAL'!$I$272:$X$272,J20)>=1,\"\",ROW())","v":20},"LOC PELLE KILOUTOU","LOC PELLE KILOUTOU",{"$f":"IF(COUNTIF('PLANNING PRINCIPAL'!$I$275:$X$275,M20)>=1,\"\",ROW())","v":20},"LOC PELLE KILOUTOU","LOC PELLE KILOUTOU",{"$f":"IF(COUNTIF('PLANNING PRINCIPAL'!$I$278:$X$278,P20)>=1,\"\",ROW())","v":20},"LOC PELLE KILOUTOU","LOC PELLE KILOUTOU",{"$f":"IF(COUNTIF('PLANNING PRINCIPAL'!$I$281:$X$281,S20)>=1,\"\",ROW())","v":20},"LOC PELLE KILOUTOU",null,{"$f":"IF(COUNTIF('PLANNING PRINCIPAL'!$I$285:$X$285,V20)>=1,\"\",ROW())","v":20}]
[null,{"$f":"IF(COUNTIF('PLANNING PRINCIPAL'!$I$263:$X$263,A21)>=1,\"\",ROW())","v":21},null,null,{"$f":"IF(COUNTIF('PLANNING PRINCIPAL'!$I$266:$X$266,D21)>=1,\"\",ROW())","v":21},null,null,{"$f":"IF(COUNTIF('PLANNING PRINCIPAL'!$I$269:$X$269,G21)>=1,\"\",ROW())","v":21},null,null,{"$f":"IF(COUNTIF('PLANNING PRINCIPAL'!$I$272:$X$272,J21)>=1,\"\",ROW())","v":21},null,null,{"$f":"IF(COUNTIF('PLANNING PRINCIPAL'!$I$275:$X$275,M21)>=1,\"\",ROW())","v":21},null,null,{"$f":"IF(COUNTIF('PLANNING PRINCIPAL'!$I$278:$X$278,P21)>=1,\"\",ROW())","v":21},null,null,{"$f":"IF(COUNTIF('PLANNING PRINCIPAL'!$I$281:$X$281,S21)>=1,\"\",ROW())","v":21},null,null,{"$f":"IF(COUNTIF('PLANNING PRINCIPAL'!$I$285:$X$285,V21)>=1,\"\",ROW())","v":21}]
[null,{"$f":"IF(COUNTIF('PLANNING PRINCIPAL'!$I$263:$X$263,A22)>=1,\"\",ROW())","v":22},null,null,{"$f":"IF(COUNTIF('PLANNING PRINCIPAL'!$I$266:$X$266,D22)>=1,\"\",ROW())","v":22},null,null,{"$f":"IF(COUNTIF('PLANNING PRINCIPAL'!$I$269:$X$269,G22)>=1,\"\",ROW())","v":22},null,null,{"$f":"IF(COUNTIF('PLANNING PRINCIPAL'!$I$272:$X$272,J22)>=1,\"\",ROW())","v":22},null,null,{"$f":"IF(COUNTIF('PLANNING PRINCIPAL'!$I$275:$X$275,M22)>=1,\"\",ROW())","v":22},null,null,{"$f":"IF(COUNTIF('PLANNING PRINCIPAL'!$I$278:$X$278,P22)>=1,\"\",ROW())","v":22},null,null,{"$f":"IF(COUNTIF('PLANNING PRINCIPAL'!$I$281:$X$281,S22)>=1,\"\",ROW())","v":22},null,null,{"$f":"IF(COUNTIF('PLANNING PRINCIPAL'!$I$285:$X$285,V22)>=1,\"\",ROW())","v":22}]
[null,{"$f":"IF(COUNTIF('PLANNING PRINCIPAL'!$I$263:$X$263,A23)>=1,\"\",ROW())","v":23},null,null,{"$f":"IF(COUNTIF('PLANNING PRINCIPAL'!$I$266:$X$266,D23)>=1,\"\",ROW())","v":23},null,null,{"$f":"IF(COUNTIF('PLANNING PRINCIPAL'!$I$269:$X$269,G23)>=1,\"\",ROW())","v":23},null,null,{"$f":"IF(COUNTIF('PLANNING PRINCIPAL'!$I$272:$X$272,J23)>=1,\"\",ROW())","v":23},null,null,{"$f":"IF(COUNTIF('PLANNING PRINCIPAL'!$I$275:$X$275,M23)>=1,\"\",ROW())","v":23},null,null,{"$f":"IF(COUNTIF('PLANNING PRINCIPAL'!$I$278:$X$278,P23)>=1,\"\",ROW())","v":23},null,null,{"$f":"IF(COUNTIF('PLANNING PRINCIPAL'!$I$281:$X$281,S23)>=1,\"\",ROW())","v":23},null,null,{"$f":"IF(COUNTIF('PLANNING PRINCIPAL'!$I$285:$X$285,V23)>=1,\"\",ROW())","v":23}]
[null,{"$f":"IF(COUNTIF('PLANNING PRINCIPAL'!$I$263:$X$263,A24)>=1,\"\",ROW())","v":24},null,null,{"$f":"IF(COUNTIF('PLANNING PRINCIPAL'!$I$266:$X$266,D24)>=1,\"\",ROW())","v":24},null,null,{"$f":"IF(COUNTIF('PLANNING PRINCIPAL'!$I$269:$X$269,G24)>=1,\"\",ROW())","v":24},null,null,{"$f":"IF(COUNTIF('PLANNING PRINCIPAL'!$I$272:$X$272,J24)>=1,\"\",ROW())","v":24},null,null,{"$f":"IF(COUNTIF('PLANNING PRINCIPAL'!$I$275:$X$275,M24)>=1,\"\",ROW())","v":24},null,null,{"$f":"IF(COUNTIF('PLANNING PRINCIPAL'!$I$278:$X$278,P24)>=1,\"\",ROW())","v":24},null,null,{"$f":"IF(COUNTIF('PLANNING PRINCIPAL'!$I$281:$X$281,S24)>=1,\"\",ROW())","v":24},null,null,{"$f":"IF(COUNTIF('PLANNING PRINCIPAL'!$I$285:$X$285,V24)>=1,\"\",ROW())","v":24}]
[null,{"$f":"IF(COUNTIF('PLANNING PRINCIPAL'!$I$263:$X$263,A25)>=1,\"\",ROW())","v":25},null,null,{"$f":"IF(COUNTIF('PLANNING PRINCIPAL'!$I$266:$X$266,D25)>=1,\"\",ROW())","v":25},null,null,{"$f":"IF(COUNTIF('PLANNING PRINCIPAL'!$I$269:$X$269,G25)>=1,\"\",ROW())","v":25},null,null,{"$f":"IF(COUNTIF('PLANNING PRINCIPAL'!$I$272:$X$272,J25)>=1,\"\",ROW())","v":25},null,null,{"$f":"IF(COUNTIF('PLANNING PRINCIPAL'!$I$275:$X$275,M25)>=1,\"\",ROW())","v":25},null,null,{"$f":"IF(COUNTIF('PLANNING PRINCIPAL'!$I$278:$X$278,P25)>=1,\"\",ROW())","v":25},null,null,{"$f":"IF(COUNTIF('PLANNING PRINCIPAL'!$I$281:$X$281,S25)>=1,\"\",ROW())","v":25},null,null,{"$f":"IF(COUNTIF('PLANNING PRINCIPAL'!$I$285:$X$285,V25)>=1,\"\",ROW())","v":25}]
[null,{"$f":"IF(COUNTIF('PLANNING PRINCIPAL'!$I$263:$X$263,A26)>=1,\"\",ROW())","v":26},null,null,{"$f":"IF(COUNTIF('PLANNING PRINCIPAL'!$I$266:$X$266,D26)>=1,\"\",ROW())","v":26},null,null,{"$f":"IF(COUNTIF('PLANNING PRINCIPAL'!$I$269:$X$269,G26)>=1,\"\",ROW())","v":26},null,null,{"$f":"IF(COUNTIF('PLANNING PRINCIPAL'!$I$272:$X$272,J26)>=1,\"\",ROW())","v":26},null,null,{"$f":"IF(COUNTIF('PLANNING PRINCIPAL'!$I$275:$X$275,M26)>=1,\"\",ROW())","v":26},null,null,{"$f":"IF(COUNTIF('PLANNING PRINCIPAL'!$I$278:$X$278,P26)>=1,\"\",ROW())","v":26},null,null,{"$f":"IF(COUNTIF('PLANNING PRINCIPAL'!$I$281:$X$281,S26)>=1,\"\",ROW())","v":26},null,null,{"$f":"IF(COUNTIF('PLANNING PRINCIPAL'!$I$285:$X$285,V26)>=1,\"\",ROW())","v":26}]
[null,{"$f":"IF(COUNTIF('PLANNING PRINCIPAL'!$I$263:$X$263,A27)>=1,\"\",ROW())","v":27},null,null,{"$f":"IF(COUNTIF('PLANNING PRINCIPAL'!$I$266:$X$266,D27)>=1,\"\",ROW())","v":27},null,null,{"$f":"IF(COUNTIF('PLANNING PRINCIPAL'!$I$269:$X$269,G27)>=1,\"\",ROW())","v":27},null,null,{"$f":"IF(COUNTIF('PLANNING PRINCIPAL'!$I$272:$X$272,J27)>=1,\"\",ROW())","v":27},null,null,{"$f":"IF(COUNTIF('PLANNING PRINCIPAL'!$I$275:$X$275,M27)>=1,\"\",ROW())","v":27},null,null,{"$f":"IF(COUNTIF('PLANNING PRINCIPAL'!$I$278:$X$278,P27)>=1,\"\",ROW())","v":27},null,null,{"$f":"IF(COUNTIF('PLANNING PRINCIPAL'!$I$281:$X$281,S27)>=1,\"\",ROW())","v":27},null,null,{"$f":"IF(COUNTIF('PLANNING PRINCIPAL'!$I$285:$X$285,V27)>=1,\"\",ROW())","v":27}]
[null,{"$f":"IF(COUNTIF('PLANNING PRINCIPAL'!$I$263:$X$263,A28)>=1,\"\",ROW())","v":28},null,null,{"$f":"IF(COUNTIF('PLANNING PRINCIPAL'!$I$266:$X$266,D28)>=1,\"\",ROW())","v":28},null,null,{"$f":"IF(COUNTIF('PLANNING PRINCIPAL'!$I$269:$X$269,G28)>=1,\"\",ROW())","v":28},null,null,{"$f":"IF(COUNTIF('PLANNING PRINCIPAL'!$I$272:$X$272,J28)>=1,\"\",ROW())","v":28},null,null,{"$f":"IF(COUNTIF('PLANNING PRINCIPAL'!$I$275:$X$275,M28)>=1,\"\",ROW())","v":28},null,null,{"$f":"IF(COUNTIF('PLANNING PRINCIPAL'!$I$278:$X$278,P28)>=1,\"\",ROW())","v":28},null,null,{"$f":"IF(COUNTIF('PLANNING PRINCIPAL'!$I$281:$X$281,S28)>=1,\"\",ROW())","v":28},null,null,{"$f":"IF(COUNTIF('PLANNING PRINCIPAL'!$I$285:$X$285,V28)>=1,\"\",ROW())","v":28}]
[null,{"$f":"IF(COUNTIF('PLANNING PRINCIPAL'!$I$263:$X$263,A29)>=1,\"\",ROW())","v":29},null,null,{"$f":"IF(COUNTIF('PLANNING PRINCIPAL'!$I$266:$X$266,D29)>=1,\"\",ROW())","v":29},null,null,{"$f":"IF(COUNTIF('PLANNING PRINCIPAL'!$I$269:$X$269,G29)>=1,\"\",ROW())","v":29},null,null,{"$f":"IF(COUNTIF('PLANNING PRINCIPAL'!$I$272:$X$272,J29)>=1,\"\",ROW())","v":29},null,null,{"$f":"IF(COUNTIF('PLANNING PRINCIPAL'!$I$275:$X$275,M29)>=1,\"\",ROW())","v":29},null,null,{"$f":"IF(COUNTIF('PLANNING PRINCIPAL'!$I$278:$X$278,P29)>=1,\"\",ROW())","v":29},null,null,{"$f":"IF(COUNTIF('PLANNING PRINCIPAL'!$I$281:$X$281,S29)>=1,\"\",ROW())","v":29},null,null,{"$f":"IF(COUNTIF('PLANNING PRINCIPAL'!$I$285:$X$285,V29)>=1,\"\",ROW())","v":29}]
[null,{"$f":"IF(COUNTIF('PLANNING PRINCIPAL'!$I$263:$X$263,A30)>=1,\"\",ROW())","v":30},null,null,{"$f":"IF(COUNTIF('PLANNING PRINCIPAL'!$I$266:$X$266,D30)>=1,\"\",ROW())","v":30},null,null,{"$f":"IF(COUNTIF('PLANNING PRINCIPAL'!$I$269:$X$269,G30)>=1,\"\",ROW())","v":30},null,null,{"$f":"IF(COUNTIF('PLANNING PRINCIPAL'!$I$272:$X$272,J30)>=1,\"\",ROW())","v":30},null,null,{"$f":"IF(COUNTIF('PLANNING PRINCIPAL'!$I$275:$X$275,M30)>=1,\"\",ROW())","v":30},null,null,{"$f":"IF(COUNTIF('PLANNING PRINCIPAL'!$I$278:$X$278,P30)>=1,\"\",ROW())","v":30},null,null,{"$f":"IF(COUNTIF('PLANNING PRINCIPAL'!$I$281:$X$281,S30)>=1,\"\",ROW())","v":30},null,null,{"$f":"IF(COUNTIF('PLANNING PRINCIPAL'!$I$285:$X$285,V30)>=1,\"\",ROW())","v":30}]
[null,{"$f":"IF(COUNTIF('PLANNING PRINCIPAL'!$I$263:$X$263,A31)>=1,\"\",ROW())","v":31},null,null,{"$f":"IF(COUNTIF('PLANNING PRINCIPAL'!$I$266:$X$266,D31)>=1,\"\",ROW())","v":31},null,null,{"$f":"IF(COUNTIF('PLANNING PRINCIPAL'!$I$269:$X$269,G31)>=1,\"\",ROW())","v":31},null,null,{"$f":"IF(COUNTIF('PLANNING PRINCIPAL'!$I$272:$X$272,J31)>=1,\"\",ROW())","v":31},null,null,{"$f":"IF(COUNTIF('PLANNING PRINCIPAL'!$I$275:$X$275,M31)>=1,\"\",ROW())","v":31},null,null,{"$f":"IF(COUNTIF('PLANNING PRINCIPAL'!$I$278:$X$278,P31)>=1,\"\",ROW())","v":31},null,null,{"$f":"IF(COUNTIF('PLANNING PRINCIPAL'!$I$281:$X$281,S31)>=1,\"\",ROW())","v":31},null,null,{"$f":"IF(COUNTIF('PLANNING PRINCIPAL'!$I$285:$X$285,V31)>=1,\"\",ROW())","v":31}]
[null,{"$f":"IF(COUNTIF('PLANNING PRINCIPAL'!$I$263:$X$263,A32)>=1,\"\",ROW())","v":32},null,null,{"$f":"IF(COUNTIF('PLANNING PRINCIPAL'!$I$266:$X$266,D32)>=1,\"\",ROW())","v":32},null,null,{"$f":"IF(COUNTIF('PLANNING PRINCIPAL'!$I$269:$X$269,G32)>=1,\"\",ROW())","v":32},null,null,{"$f":"IF(COUNTIF('PLANNING PRINCIPAL'!$I$272:$X$272,J32)>=1,\"\",ROW())","v":32},null,null,{"$f":"IF(COUNTIF('PLANNING PRINCIPAL'!$I$275:$X$275,M32)>=1,\"\",ROW())","v":32},null,null,{"$f":"IF(COUNTIF('PLANNING PRINCIPAL'!$I$278:$X$278,P32)>=1,\"\",ROW())","v":32},null,null,{"$f":"IF(COUNTIF('PLANNING PRINCIPAL'!$I$281:$X$281,S32)>=1,\"\",ROW())","v":32},null,null,{"$f":"IF(COUNTIF('PLANNING PRINCIPAL'!$I$285:$X$285,V32)>=1,\"\",ROW())","v":32}]
[null,{"$f":"IF(COUNTIF('PLANNING PRINCIPAL'!$I$263:$X$263,A33)>=1,\"\",ROW())","v":33},null,null,{"$f":"IF(COUNTIF('PLANNING PRINCIPAL'!$I$266:$X$266,D33)>=1,\"\",ROW())","v":33},null,null,{"$f":"IF(COUNTIF('PLANNING PRINCIPAL'!$I$269:$X$269,G33)>=1,\"\",ROW())","v":33},null,null,{"$f":"IF(COUNTIF('PLANNING PRINCIPAL'!$I$272:$X$272,J33)>=1,\"\",ROW())","v":33},null,null,{"$f":"IF(COUNTIF('PLANNING PRINCIPAL'!$I$275:$X$275,M33)>=1,\"\",ROW())","v":33},null,null,{"$f":"IF(COUNTIF('PLANNING PRINCIPAL'!$I$278:$X$278,P33)>=1,\"\",ROW())","v":33},null,null,{"$f":"IF(COUNTIF('PLANNING PRINCIPAL'!$I$281:$X$281,S33)>=1,\"\",ROW())","v":33},null,null,{"$f":"IF(COUNTIF('PLANNING PRINCIPAL'!$I$285:$X$285,V33)>=1,\"\",ROW())","v":33}]
[null,{"$f":"IF(COUNTIF('PLANNING PRINCIPAL'!$I$263:$X$263,A34)>=1,\"\",ROW())","v":34},null,null,{"$f":"IF(COUNTIF('PLANNING PRINCIPAL'!$I$266:$X$266,D34)>=1,\"\",ROW())","v":34},null,null,{"$f":"IF(COUNTIF('PLANNING PRINCIPAL'!$I$269:$X$269,G34)>=1,\"\",ROW())","v":34},null,null,{"$f":"IF(COUNTIF('PLANNING PRINCIPAL'!$I$272:$X$272,J34)>=1,\"\",ROW())","v":34},null,null,{"$f":"IF(COUNTIF('PLANNING PRINCIPAL'!$I$275:$X$275,M34)>=1,\"\",ROW())","v":34},null,null,{"$f":"IF(COUNTIF('PLANNING PRINCIPAL'!$I$278:$X$278,P34)>=1,\"\",ROW())","v":34},null,null,{"$f":"IF(COUNTIF('PLANNING PRINCIPAL'!$I$281:$X$281,S34)>=1,\"\",ROW())","v":34},null,null,{"$f":"IF(COUNTIF('PLANNING PRINCIPAL'!$I$285:$X$285,V34)>=1,\"\",ROW())","v":34}]
["LUNDI",null,null,"MARDI",null,null,"MERCREDI",null,null,"JEUDI",null,null,"VENDREDI",null,null,"SAMEDI",null,null,"DIMANCHE",null,null,"ASTREINTE"]

{"sheet":"DATA S13","index":14,"n_rows":35,"n_cols":24,"rows_kept":35,"cut":false,"hidden":false,"merged":[[34,18,34,20],[34,21,34,23],[34,0,34,2],[34,3,34,5],[34,6,34,8],[34,9,34,11],[34,12,34,14],[34,15,34,17]]}
[{"$f":"'DATA S1'!A1","v":"MAS XX "},{"$f":"IF(COUNTIF('PLANNING PRINCIPAL'!$I$286:$X$286,A1)>=1,\"\",ROW())","v":1},{"$f":"IF(ROW(A1)-ROW(A$1)+1>COUNT(B:B),\"\", INDEX(A:A,SMALL(B:B,1+ROW(A1)-ROW(A$1))))","v":"MAS XX "},{"$f":"A1","v":"MAS XX "},{"$f":"IF(COUNTIF('PLANNING PRINCIPAL'!$I$289:$X$289,D1)>=1,\"\",ROW())","v":1},{"$f":"IF(ROW(D1)-ROW(D$1)+1>COUNT(E:E),\"\", INDEX(D:D,SMALL(E:E,1+ROW(D1)-ROW(D$1))))","v":"MAS XX "},{"$f":"A1","v":"MAS XX "},{"$f":"IF(COUNTIF('PLANNING PRINCIPAL'!$I$292:$X$292,G1)>=1,\"\",ROW())","v":1},{"$f":"IF(ROW(G1)-ROW(G$1)+1>COUNT(H:H),\"\", INDEX(G:G,SMALL(H:H,1+ROW(G1)-ROW(G$1))))","v":"MAS XX "},{"$f":"A1","v":"MAS XX "},{"$f":"IF(COUNTIF('PLANNING PRINCIPAL'!$I$295:$X$295,J1)>=1,\"\",ROW())","v":1},{"$f":"IF(ROW(J1)-ROW(J$1)+1>COUNT(K:K),\"\", INDEX(J:J,SMALL(K:K,1+ROW(J1)-ROW(J$1))))","v":"MAS XX "},{"$f":"A1","v":"MAS XX "},{"$f":"IF(COUNTIF('PLANNING PRINCIPAL'!$I$298:$X$298,M1)>=1,\"\",ROW())","v":1},{"$f":"IF(ROW(M1)-ROW(M$1)+1>COUNT(N:N),\"\", INDEX(M:M,SMALL(N:N,1+ROW(M1)-ROW(M$1))))","v":"MAS XX "},{"$f":"A1","v":"MAS XX "},{"$f":"IF(COUNTIF('PLANNING PRINCIPAL'!$I$301:$X$301,P1)>=1,\"\",ROW())","v":1},{"$f":"IF(ROW(P1)-ROW(P$1)+1>COUNT(Q:Q),\"\", INDEX(P:P,SMALL(Q:Q,1+ROW(P1)-ROW(P$1))))","v":"MAS XX "},{"$f":"A1","v":"MAS XX "},{"$f":"IF(COUNTIF('PLANNING PRINCIPAL'!$I$304:$X$304,S1)>=1,\"\",ROW())","v":1},{"$f":"IF(ROW(S1)-ROW(S$1)+1>COUNT(T:T),\"\", INDEX(S:S,SMALL(T:T,1+ROW(S1)-ROW(S$1))))","v":"MAS XX "},{"$f":"'DATA S1'!V1","v":"ASTREINTE SLT"},{"$f":"IF(COUNTIF('PLANNING PRINCIPAL'!$I$306:$X$306,V1)>=1,\"\",ROW())","v":1},{"$f":"IF(ROW(V1)-ROW(V$1)+1>COUNT(W:W),\"\", INDEX(V:V,SMALL(W:W,1+ROW(V1)-ROW(V$1))))","v":"ASTREINTE SLT"}]
[{"$f":"'DATA S1'!A2","v":"MAS YY "},{"$f":"IF(COUNTIF('PLANNING PRINCIPAL'!$I$286:$X$286,A2)>=1,\"\",ROW())","v":2},{"$f":"IF(ROW(A2)-ROW(A$1)+1>COUNT(B:B),\"\", INDEX(A:A,SMALL(B:B,1+ROW(A2)-ROW(A$1))))","v":"MAS YY "},"MAS YY ",{"$f":"IF(COUNTIF('PLANNING PRINCIPAL'!$I$289:$X$289,D2)>=1,\"\",ROW())","v":2},{"$f":"IF(ROW(D2)-ROW(D$1)+1>COUNT(E:E),\"\", INDEX(D:D,SMALL(E:E,1+ROW(D2)-ROW(D$1))))","v":"MAS YY "},{"$f":"A2","v":"MAS YY "},{"$f":"IF(COUNTIF('PLANNING PRINCIPAL'!$I$292:$X$292,G2)>=1,\"\",ROW())","v":2},{"$f":"IF(ROW(G2)-ROW(G$1)+1>COUNT(H:H),\"\", INDEX(G:G,SMALL(H:H,1+ROW(G2)-ROW(G$1))))","v":"MAS YY "},{"$f":"A2","v":"MAS YY "},{"$f":"IF(COUNTIF('PLANNING PRINCIPAL'!$I$295:$X$295,J2)>=1,\"\",ROW())","v":2},{"$f":"IF(ROW(J2)-ROW(J$1)+1>COUNT(K:K),\"\", INDEX(J:J,SMALL(K:K,1+ROW(J2)-ROW(J$1))))","v":"MAS YY "},{"$f":"A2","v":"MAS YY "},{"$f":"IF(COUNTIF('PLANNING PRINCIPAL'!$I$298:$X$298,M2)>=1,\"\",ROW())","v":2},{"$f":"IF(ROW(M2)-ROW(M$1)+1>COUNT(N:N),\"\", INDEX(M:M,SMALL(N:N,1+ROW(M2)-ROW(M$1))))","v":"MAS YY "},{"$f":"A2","v":"MAS YY "},{"$f":"IF(COUNTIF('PLANNING PRINCIPAL'!$I$301:$X$301,P2)>=1,\"\",ROW())","v":2},{"$f":"IF(ROW(P2)-ROW(P$1)+1>COUNT(Q:Q),\"\", INDEX(P:P,SMALL(Q:Q,1+ROW(P2)-ROW(P$1))))","v":"MAS YY "},{"$f":"A2","v":"MAS YY "},{"$f":"IF(COUNTIF('PLANNING PRINCIPAL'!$I$304:$X$304,S2)>=1,\"\",ROW())","v":2},{"$f":"IF(ROW(S2)-ROW(S$1)+1>COUNT(T:T),\"\", INDEX(S:S,SMALL(T:T,1+ROW(S2)-ROW(S$1))))","v":"MAS YY "},{"$f":"'DATA S1'!V2","v":"ASTREINTE EP"},{"$f":"IF(COUNTIF('PLANNING PRINCIPAL'!$I$306:$X$306,V2)>=1,\"\",ROW())","v":2},{"$f":"IF(ROW(V2)-ROW(V$1)+1>COUNT(W:W),\"\", INDEX(V:V,SMALL(W:W,1+ROW(V2)-ROW(V$1))))","v":"ASTREINTE EP"}]
[{"$f":"'DATA S1'!A3","v":"MAS VQ "},{"$f":"IF(COUNTIF('PLANNING PRINCIPAL'!$I$286:$X$286,A3)>=1,\"\",ROW())","v":3},"MAS VQ ","MAS VQ ",{"$f":"IF(COUNTIF('PLANNING PRINCIPAL'!$I$289:$X$289,D3)>=1,\"\",ROW())","v":3},"MAS VQ ","MAS VQ ",{"$f":"IF(COUNTIF('PLANNING PRINCIPAL'!$I$292:$X$292,G3)>=1,\"\",ROW())","v":3},"MAS VQ ","MAS VQ ",{"$f":"IF(COUNTIF('PLANNING PRINCIPAL'!$I$295:$X$295,J3)>=1,\"\",ROW())","v":3},"MAS VQ ","MAS VQ ",{"$f":"IF(COUNTIF('PLANNING PRINCIPAL'!$I$298:$X$298,M3)>=1,\"\",ROW())","v":3},"MAS VQ ","MAS VQ ",{"$f":"IF(COUNTIF('PLANNING PRINCIPAL'!$I$301:$X$301,P3)>=1,\"\",ROW())","v":3},"MAS VQ ","MAS VQ ",{"$f":"IF(COUNTIF('PLANNING PRINCIPAL'!$I$304:$X$304,S3)>=1,\"\",ROW())","v":3},"MAS VQ ",{"$f":"'DATA S1'!V3","v":"V NOC CHARTRES"},{"$f":"IF(COUNTIF('PLANNING PRINCIPAL'!$I$306:$X$306,V3)>=1,\"\",ROW())","v":3},"V NOC CHARTRES"]
[{"$f":"'DATA S1'!A4","v":"MAS PL "},{"$f":"IF(COUNTIF('PLANNING PRINCIPAL'!$I$286:$X$286,A4)>=1,\"\",ROW())","v":4},"MAS PL ","MAS PL ",{"$f":"IF(COUNTIF('PLANNING PRINCIPAL'!$I$289:$X$289,D4)>=1,\"\",ROW())","v":4},"MAS PL ","MAS PL ",{"$f":"IF(COUNTIF('PLANNING PRINCIPAL'!$I$292:$X$292,G4)>=1,\"\",ROW())","v":4},"MAS PL ","MAS PL ",{"$f":"IF(COUNTIF('PLANNING PRINCIPAL'!$I$295:$X$295,J4)>=1,\"\",ROW())","v":4},"MAS PL ","MAS PL ",{"$f":"IF(COUNTIF('PLANNING PRINCIPAL'!$I$298:$X$298,M4)>=1,\"\",ROW())","v":4},"MAS PL ","MAS PL ",{"$f":"IF(COUNTIF('PLANNING PRINCIPAL'!$I$301:$X$301,P4)>=1,\"\",ROW())","v":4},"MAS PL ","MAS PL ",{"$f":"IF(COUNTIF('PLANNING PRINCIPAL'!$I$304:$X$304,S4)>=1,\"\",ROW())","v":4},"MAS PL ",{"$f":"'DATA S1'!V4","v":"V NOC EPERNON"},{"$f":"IF(COUNTIF('PLANNING PRINCIPAL'!$I$306:$X$306,V4)>=1,\"\",ROW())","v":4},"V NOC EPERNON"]
[{"$f":"'DATA S1'!A5","v":"BEN VL PT "},{"$f":"IF(COUNTIF('PLANNING PRINCIPAL'!$I$286:$X$286,A5)>=1,\"\",ROW())","v":5},"BEN VL PT ","BEN VL PT ",{"$f":"IF(COUNTIF('PLANNING PRINCIPAL'!$I$289:$X$289,D5)>=1,\"\",ROW())","v":5},"BEN VL PT ","BEN VL PT ",{"$f":"IF(COUNTIF('PLANNING PRINCIPAL'!$I$292:$X$292,G5)>=1,\"\",ROW())","v":5},"BEN VL PT ","BEN VL PT ",{"$f":"IF(COUNTIF('PLANNING PRINCIPAL'!$I$295:$X$295,J5)>=1,\"\",ROW())","v":5},"BEN VL PT ","BEN VL PT ",{"$f":"IF(COUNTIF('PLANNING PRINCIPAL'!$I$298:$X$298,M5)>=1,\"\",ROW())","v":5},"BEN VL PT ","BEN VL PT ",{"$f":"IF(COUNTIF('PLANNING PRINCIPAL'!$I$301:$X$301,P5)>=1,\"\",ROW())","v":5},"BEN VL PT ","BEN VL PT ",{"$f":"IF(COUNTIF('PLANNING PRINCIPAL'!$I$304:$X$304,S5)>=1,\"\",ROW())","v":5},"BEN VL PT ",{"$f":"'DATA S1'!V5","v":"V NOC HANCHES"},{"$f":"IF(COUNTIF('PLANNING PRINCIPAL'!$I$306:$X$306,V5)>=1,\"\",ROW())","v":5},"V NOC HANCHES"]
[{"$f":"'DATA S1'!A6","v":"BEN 19T "},{"$f":"IF(COUNTIF('PLANNING PRINCIPAL'!$I$286:$X$286,A6)>=1,\"\",ROW())","v":6},"BEN 19T ","BEN 19T ",{"$f":"IF(COUNTIF('PLANNING PRINCIPAL'!$I$289:$X$289,D6)>=1,\"\",ROW())","v":6},"BEN 19T ","BEN 19T ",{"$f":"IF(COUNTIF('PLANNING PRINCIPAL'!$I$292:$X$292,G6)>=1,\"\",ROW())","v":6},"BEN 19T ","BEN 19T ",{"$f":"IF(COUNTIF('PLANNING PRINCIPAL'!$I$295:$X$295,J6)>=1,\"\",ROW())","v":6},"BEN 19T ","BEN 19T ",{"$f":"IF(COUNTIF('PLANNING PRINCIPAL'!$I$298:$X$298,M6)>=1,\"\",ROW())","v":6},"BEN 19T ","BEN 19T ",{"$f":"IF(COUNTIF('PLANNING PRINCIPAL'!$I$301:$X$301,P6)>=1,\"\",ROW())","v":6},"BEN 19T ","BEN 19T ",{"$f":"IF(COUNTIF('PLANNING PRINCIPAL'!$I$304:$X$304,S6)>=1,\"\",ROW())","v":6},"BEN 19T ",{"$f":"'DATA S1'!V6","v":"V NOC MAINTENON"},{"$f":"IF(COUNTIF('PLANNING PRINCIPAL'!$I$306:$X$306,V6)>=1,\"\",ROW())","v":6},"V NOC MAINTENON"]
[{"$f":"'DATA S1'!A7","v":"BEN 13T "},{"$f":"IF(COUNTIF('PLANNING PRINCIPAL'!$I$286:$X$286,A7)>=1,\"\",ROW())","v":7},"BEN 13T ","BEN 13T ",{"$f":"IF(COUNTIF('PLANNING PRINCIPAL'!$I$289:$X$289,D7)>=1,\"\",ROW())","v":7},"BEN 13T ","BEN 13T ",{"$f":"IF(COUNTIF('PLANNING PRINCIPAL'!$I$292:$X$292,G7)>=1,\"\",ROW())","v":7},"BEN 13T ","BEN 13T ",{"$f":"IF(COUNTIF('PLANNING PRINCIPAL'!$I$295:$X$295,J7)>=1,\"\",ROW())","v":7},"BEN 13T ","BEN 13T ",{"$f":"IF(COUNTIF('PLANNING PRINCIPAL'!$I$298:$X$298,M7)>=1,\"\",ROW())","v":7},"BEN 13T ","BEN 13T ",{"$f":"IF(COUNTIF('PLANNING PRINCIPAL'!$I$301:$X$301,P7)>=1,\"\",ROW())","v":7},"BEN 13T ","BEN 13T ",{"$f":"IF(COUNTIF('PLANNING PRINCIPAL'!$I$304:$X$304,S7)>=1,\"\",ROW())","v":7},"BEN 13T ",null,{"$f":"IF(COUNTIF('PLANNING PRINCIPAL'!$I$285:$X$285,V7)>=1,\"\",ROW())","v":7}]
[{"$f":"'DATA S1'!A8","v":"NAC VL 18M "},{"$f":"IF(COUNTIF('PLANNING PRINCIPAL'!$I$286:$X$286,A8)>=1,\"\",ROW())","v":8},"NAC VL 18M ","NAC VL 18M ",{"$f":"IF(COUNTIF('PLANNING PRINCIPAL'!$I$289:$X$289,D8)>=1,\"\",ROW())","v":8},"NAC VL 18M ","NAC VL 18M ",{"$f":"IF(COUNTIF('PLANNING PRINCIPAL'!$I$292:$X$292,G8)>=1,\"\",ROW())","v":8},"NAC VL 18M ","NAC VL 18M ",{"$f":"IF(COUNTIF('PLANNING PRINCIPAL'!$I$295:$X$295,J8)>=1,\"\",ROW())","v":8},"NAC VL 18M ","NAC VL 18M ",{"$f":"IF(COUNTIF('PLANNING PRINCIPAL'!$I$298:$X$298,M8)>=1,\"\",ROW())","v":8},"NAC VL 18M ","NAC VL 18M ",{"$f":"IF(COUNTIF('PLANNING PRINCIPAL'!$I$301:$X$301,P8)>=1,\"\",ROW())","v":8},"NAC VL 18M ","NAC VL 18M ",{"$f":"IF(COUNTIF('PLANNING PRINCIPAL'!$I$304:$X$304,S8)>=1,\"\",ROW())","v":8},"NAC VL 18M ",null,{"$f":"IF(COUNTIF('PLANNING PRINCIPAL'!$I$285:$X$285,V8)>=1,\"\",ROW())","v":8}]
[{"$f":"'DATA S1'!A9","v":"NAC EGIE"},{"$f":"IF(COUNTIF('PLANNING PRINCIPAL'!$I$286:$X$286,A9)>=1,\"\",ROW())","v":9},"NAC EGIE","NAC EGIE",{"$f":"IF(COUNTIF('PLANNING PRINCIPAL'!$I$289:$X$289,D9)>=1,\"\",ROW())","v":9},"NAC EGIE","NAC EGIE",{"$f":"IF(COUNTIF('PLANNING PRINCIPAL'!$I$292:$X$292,G9)>=1,\"\",ROW())","v":9},"NAC EGIE","NAC EGIE",{"$f":"IF(COUNTIF('PLANNING PRINCIPAL'!$I$295:$X$295,J9)>=1,\"\",ROW())","v":9},"NAC EGIE","NAC EGIE",{"$f":"IF(COUNTIF('PLANNING PRINCIPAL'!$I$298:$X$298,M9)>=1,\"\",ROW())","v":9},"NAC EGIE","NAC EGIE",{"$f":"IF(COUNTIF('PLANNING PRINCIPAL'!$I$301:$X$301,P9)>=1,\"\",ROW())","v":9},"NAC EGIE","NAC EGIE",{"$f":"IF(COUNTIF('PLANNING PRINCIPAL'!$I$304:$X$304,S9)>=1,\"\",ROW())","v":9},"NAC EGIE",null,{"$f":"IF(COUNTIF('PLANNING PRINCIPAL'!$I$285:$X$285,V9)>=1,\"\",ROW())","v":9}]
[{"$f":"'DATA S1'!A10","v":"NAC COMI "},{"$f":"IF(COUNTIF('PLANNING PRINCIPAL'!$I$286:$X$286,A10)>=1,\"\",ROW())","v":10},"NAC COMI ","NAC COMI ",{"$f":"IF(COUNTIF('PLANNING PRINCIPAL'!$I$289:$X$289,D10)>=1,\"\",ROW())","v":10},"NAC COMI ","NAC COMI ",{"$f":"IF(COUNTIF('PLANNING PRINCIPAL'!$I$292:$X$292,G10)>=1,\"\",ROW())","v":10},"NAC COMI ","NAC COMI ",{"$f":"IF(COUNTIF('PLANNING PRINCIPAL'!$I$295:$X$295,J10)>=1,\"\",ROW())","v":10},"NAC COMI ","NAC COMI ",{"$f":"IF(COUNTIF('PLANNING PRINCIPAL'!$I$298:$X$298,M10)>=1,\"\",ROW())","v":10},"NAC COMI ","NAC COMI ",{"$f":"IF(COUNTIF('PLANNING PRINCIPAL'!$I$301:$X$301,P10)>=1,\"\",ROW())","v":10},"NAC COMI ","NAC COMI ",{"$f":"IF(COUNTIF('PLANNING PRINCIPAL'!$I$304:$X$304,S10)>=1,\"\",ROW())","v":10},"NAC COMI ",null,{"$f":"IF(COUNTIF('PLANNING PRINCIPAL'!$I$285:$X$285,V10)>=1,\"\",ROW())","v":10}]
[{"$f":"'DATA S1'!A11","v":"#####LOCATION#####"},{"$f":"IF(COUNTIF('PLANNING PRINCIPAL'!$I$286:$X$286,A11)>=1,\"\",ROW())","v":11},"#####LOCATION#####","#####LOCATION#####",{"$f":"IF(COUNTIF('PLANNING PRINCIPAL'!$I$289:$X$289,D11)>=1,\"\",ROW())","v":11},"#####LOCATION#####","#####LOCATION#####",{"$f":"IF(COUNTIF('PLANNING PRINCIPAL'!$I$292:$X$292,G11)>=1,\"\",ROW())","v":11},"#####LOCATION#####","#####LOCATION#####",{"$f":"IF(COUNTIF('PLANNING PRINCIPAL'!$I$295:$X$295,J11)>=1,\"\",ROW())","v":11},"#####LOCATION#####","#####LOCATION#####",{"$f":"IF(COUNTIF('PLANNING PRINCIPAL'!$I$298:$X$298,M11)>=1,\"\",ROW())","v":11},"#####LOCATION#####","#####LOCATION#####",{"$f":"IF(COUNTIF('PLANNING PRINCIPAL'!$I$301:$X$301,P11)>=1,\"\",ROW())","v":11},"#####LOCATION#####","#####LOCATION#####",{"$f":"IF(COUNTIF('PLANNING PRINCIPAL'!$I$304:$X$304,S11)>=1,\"\",ROW())","v":11},"#####LOCATION#####",null,{"$f":"IF(COUNTIF('PLANNING PRINCIPAL'!$I$285:$X$285,V11)>=1,\"\",ROW())","v":11}]
[{"$f":"'DATA S1'!A12","v":"LOC NAC SOLOMAT"},{"$f":"IF(COUNTIF('PLANNING PRINCIPAL'!$I$286:$X$286,A12)>=1,\"\",ROW())","v":12},"LOC NAC SOLOMAT","LOC NAC SOLOMAT",{"$f":"IF(COUNTIF('PLANNING PRINCIPAL'!$I$289:$X$289,D12)>=1,\"\",ROW())","v":12},"LOC NAC SOLOMAT","LOC NAC SOLOMAT",{"$f":"IF(COUNTIF('PLANNING PRINCIPAL'!$I$292:$X$292,G12)>=1,\"\",ROW())","v":12},"LOC NAC SOLOMAT","LOC NAC SOLOMAT",{"$f":"IF(COUNTIF('PLANNING PRINCIPAL'!$I$295:$X$295,J12)>=1,\"\",ROW())","v":12},"LOC NAC SOLOMAT","LOC NAC SOLOMAT",{"$f":"IF(COUNTIF('PLANNING PRINCIPAL'!$I$298:$X$298,M12)>=1,\"\",ROW())","v":12},"LOC NAC SOLOMAT","LOC NAC SOLOMAT",{"$f":"IF(COUNTIF('PLANNING PRINCIPAL'!$I$301:$X$301,P12)>=1,\"\",ROW())","v":12},"LOC NAC SOLOMAT","LOC NAC SOLOMAT",{"$f":"IF(COUNTIF('PLANNING PRINCIPAL'!$I$304:$X$304,S12)>=1,\"\",ROW())","v":12},"LOC NAC SOLOMAT",null,{"$f":"IF(COUNTIF('PLANNING PRINCIPAL'!$I$285:$X$285,V12)>=1,\"\",ROW())","v":12}]
[{"$f":"'DATA S1'!A13","v":"LOC NAC AEB"},{"$f":"IF(COUNTIF('PLANNING PRINCIPAL'!$I$286:$X$286,A13)>=1,\"\",ROW())","v":13},"LOC NAC AEB","LOC NAC AEB",{"$f":"IF(COUNTIF('PLANNING PRINCIPAL'!$I$289:$X$289,D13)>=1,\"\",ROW())","v":13},"LOC NAC AEB","LOC NAC AEB",{"$f":"IF(COUNTIF('PLANNING PRINCIPAL'!$I$292:$X$292,G13)>=1,\"\",ROW())","v":13},"LOC NAC AEB","LOC NAC AEB",{"$f":"IF(COUNTIF('PLANNING PRINCIPAL'!$I$295:$X$295,J13)>=1,\"\",ROW())","v":13},"LOC NAC AEB","LOC NAC AEB",{"$f":"IF(COUNTIF('PLANNING PRINCIPAL'!$I$298:$X$298,M13)>=1,\"\",ROW())","v":13},"LOC NAC AEB","LOC NAC AEB",{"$f":"IF(COUNTIF('PLANNING PRINCIPAL'!$I$301:$X$301,P13)>=1,\"\",ROW())","v":13},"LOC NAC AEB","LOC NAC AEB",{"$f":"IF(COUNTIF('PLANNING PRINCIPAL'!$I$304:$X$304,S13)>=1,\"\",ROW())","v":13},"LOC NAC AEB",null,{"$f":"IF(COUNTIF('PLANNING PRINCIPAL'!$I$285:$X$285,V13)>=1,\"\",ROW())","v":13}]
[{"$f":"'DATA S1'!A14","v":"LOC NAC INTERLOC"},{"$f":"IF(COUNTIF('PLANNING PRINCIPAL'!$I$286:$X$286,A14)>=1,\"\",ROW())","v":14},"LOC NAC INTERLOC","LOC NAC INTERLOC",{"$f":"IF(COUNTIF('PLANNING PRINCIPAL'!$I$289:$X$289,D14)>=1,\"\",ROW())","v":14},"LOC NAC INTERLOC","LOC NAC INTERLOC",{"$f":"IF(COUNTIF('PLANNING PRINCIPAL'!$I$292:$X$292,G14)>=1,\"\",ROW())","v":14},"LOC NAC INTERLOC","LOC NAC INTERLOC",{"$f":"IF(COUNTIF('PLANNING PRINCIPAL'!$I$295:$X$295,J14)>=1,\"\",ROW())","v":14},"LOC NAC INTERLOC","LOC NAC INTERLOC",{"$f":"IF(COUNTIF('PLANNING PRINCIPAL'!$I$298:$X$298,M14)>=1,\"\",ROW())","v":14},"LOC NAC INTERLOC","LOC NAC INTERLOC",{"$f":"IF(COUNTIF('PLANNING PRINCIPAL'!$I$301:$X$301,P14)>=1,\"\",ROW())","v":14},"LOC NAC INTERLOC","LOC NAC INTERLOC",{"$f":"IF(COUNTIF('PLANNING PRINCIPAL'!$I$304:$X$304,S14)>=1,\"\",ROW())","v":14},"LOC NAC INTERLOC",null,{"$f":"IF(COUNTIF('PLANNING PRINCIPAL'!$I$285:$X$285,V14)>=1,\"\",ROW())","v":14}]
[{"$f":"'DATA S1'!A15","v":"LOC NAC KILOUTOU"},{"$f":"IF(COUNTIF('PLANNING PRINCIPAL'!$I$286:$X$286,A15)>=1,\"\",ROW())","v":15},"LOC NAC KILOUTOU","LOC NAC KILOUTOU",{"$f":"IF(COUNTIF('PLANNING PRINCIPAL'!$I$289:$X$289,D15)>=1,\"\",ROW())","v":15},"LOC NAC KILOUTOU","LOC NAC KILOUTOU",{"$f":"IF(COUNTIF('PLANNING PRINCIPAL'!$I$292:$X$292,G15)>=1,\"\",ROW())","v":15},"LOC NAC KILOUTOU","LOC NAC KILOUTOU",{"$f":"IF(COUNTIF('PLANNING PRINCIPAL'!$I$295:$X$295,J15)>=1,\"\",ROW())","v":15},"LOC NAC KILOUTOU","LOC NAC KILOUTOU",{"$f":"IF(COUNTIF('PLANNING PRINCIPAL'!$I$298:$X$298,M15)>=1,\"\",ROW())","v":15},"LOC NAC KILOUTOU","LOC NAC KILOUTOU",{"$f":"IF(COUNTIF('PLANNING PRINCIPAL'!$I$301:$X$301,P15)>=1,\"\",ROW())","v":15},"LOC NAC KILOUTOU","LOC NAC KILOUTOU",{"$f":"IF(COUNTIF('PLANNING PRINCIPAL'!$I$304:$X$304,S15)>=1,\"\",ROW())","v":15},"LOC NAC KILOUTOU",null,{"$f":"IF(COUNTIF('PLANNING PRINCIPAL'!$I$285:$X$285,V15)>=1,\"\",ROW())","v":15}]
[{"$f":"'DATA S1'!A16","v":"LOC NAC AEB"},{"$f":"IF(COUNTIF('PLANNING PRINCIPAL'!$I$286:$X$286,A16)>=1,\"\",ROW())","v":16},"LOC NAC AEB","LOC NAC AEB",{"$f":"IF(COUNTIF('PLANNING PRINCIPAL'!$I$289:$X$289,D16)>=1,\"\",ROW())","v":16},"LOC NAC AEB","LOC NAC AEB",{"$f":"IF(COUNTIF('PLANNING PRINCIPAL'!$I$292:$X$292,G16)>=1,\"\",ROW())","v":16},"LOC NAC AEB","LOC NAC AEB",{"$f":"IF(COUNTIF('PLANNING PRINCIPAL'!$I$295:$X$295,J16)>=1,\"\",ROW())","v":16},"LOC NAC AEB","LOC NAC AEB",{"$f":"IF(COUNTIF('PLANNING PRINCIPAL'!$I$298:$X$298,M16)>=1,\"\",ROW())","v":16},"LOC NAC AEB","LOC NAC AEB",{"$f":"IF(COUNTIF('PLANNING PRINCIPAL'!$I$301:$X$301,P16)>=1,\"\",ROW())","v":16},"LOC NAC AEB","LOC NAC AEB",{"$f":"IF(COUNTIF('PLANNING PRINCIPAL'!$I$304:$X$304,S16)>=1,\"\",ROW())","v":16},"LOC NAC AEB",null,{"$f":"IF(COUNTIF('PLANNING PRINCIPAL'!$I$285:$X$285,V16)>=1,\"\",ROW())","v":16}]
[{"$f":"'DATA S1'!A17","v":"LOC PELLE SOLOMAT"},{"$f":"IF(COUNTIF('PLANNING PRINCIPAL'!$I$286:$X$286,A17)>=1,\"\",ROW())","v":17},"LOC PELLE SOLOMAT","LOC PELLE SOLOMAT",{"$f":"IF(COUNTIF('PLANNING PRINCIPAL'!$I$289:$X$289,D17)>=1,\"\",ROW())","v":17},"LOC PELLE SOLOMAT","LOC PELLE SOLOMAT",{"$f":"IF(COUNTIF('PLANNING PRINCIPAL'!$I$292:$X$292,G17)>=1,\"\",ROW())","v":17},"LOC PELLE SOLOMAT","LOC PELLE SOLOMAT",{"$f":"IF(COUNTIF('PLANNING PRINCIPAL'!$I$295:$X$295,J17)>=1,\"\",ROW())","v":17},"LOC PELLE SOLOMAT","LOC PELLE SOLOMAT",{"$f":"IF(COUNTIF('PLANNING PRINCIPAL'!$I$298:$X$298,M17)>=1,\"\",ROW())","v":17},"LOC PELLE SOLOMAT","LOC PELLE SOLOMAT",{"$f":"IF(COUNTIF('PLANNING PRINCIPAL'!$I$301:$X$301,P17)>=1,\"\",ROW())","v":17},"LOC PELLE SOLOMAT","LOC PELLE SOLOMAT",{"$f":"IF(COUNTIF('PLANNING PRINCIPAL'!$I$304:$X$304,S17)>=1,\"\",ROW())","v":17},"LOC PELLE SOLOMAT",null,{"$f":"IF(COUNTIF('PLANNING PRINCIPAL'!$I$285:$X$285,V17)>=1,\"\",ROW())","v":17}]
[{"$f":"'DATA S1'!A18","v":"LOC PELLE AEB"},{"$f":"IF(COUNTIF('PLANNING PRINCIPAL'!$I$286:$X$286,A18)>=1,\"\",ROW())","v":18},"LOC PELLE AEB","LOC PELLE AEB",{"$f":"IF(COUNTIF('PLANNING PRINCIPAL'!$I$289:$X$289,D18)>=1,\"\",ROW())","v":18},"LOC PELLE AEB","LOC PELLE AEB",{"$f":"IF(COUNTIF('PLANNING PRINCIPAL'!$I$292:$X$292,G18)>=1,\"\",ROW())","v":18},"LOC PELLE AEB","LOC PELLE AEB",{"$f":"IF(COUNTIF('PLANNING PRINCIPAL'!$I$295:$X$295,J18)>=1,\"\",ROW())","v":18},"LOC PELLE AEB","LOC PELLE AEB",{"$f":"IF(COUNTIF('PLANNING PRINCIPAL'!$I$298:$X$298,M18)>=1,\"\",ROW())","v":18},"LOC PELLE AEB","LOC PELLE AEB",{"$f":"IF(COUNTIF('PLANNING PRINCIPAL'!$I$301:$X$301,P18)>=1,\"\",ROW())","v":18},"LOC PELLE AEB","LOC PELLE AEB",{"$f":"IF(COUNTIF('PLANNING PRINCIPAL'!$I$304:$X$304,S18)>=1,\"\",ROW())","v":18},"LOC PELLE AEB",null,{"$f":"IF(COUNTIF('PLANNING PRINCIPAL'!$I$285:$X$285,V18)>=1,\"\",ROW())","v":18}]
[{"$f":"'DATA S1'!A19","v":"LOC PELLE INTERLOC"},{"$f":"IF(COUNTIF('PLANNING PRINCIPAL'!$I$286:$X$286,A19)>=1,\"\",ROW())","v":19},"LOC PELLE INTERLOC","LOC PELLE INTERLOC",{"$f":"IF(COUNTIF('PLANNING PRINCIPAL'!$I$289:$X$289,D19)>=1,\"\",ROW())","v":19},"LOC PELLE INTERLOC","LOC PELLE INTERLOC",{"$f":"IF(COUNTIF('PLANNING PRINCIPAL'!$I$292:$X$292,G19)>=1,\"\",ROW())","v":19},"LOC PELLE INTERLOC","LOC PELLE INTERLOC",{"$f":"IF(COUNTIF('PLANNING PRINCIPAL'!$I$295:$X$295,J19)>=1,\"\",ROW())","v":19},"LOC PELLE INTERLOC","LOC PELLE INTERLOC",{"$f":"IF(COUNTIF('PLANNING PRINCIPAL'!$I$298:$X$298,M19)>=1,\"\",ROW())","v":19},"LOC PELLE INTERLOC","LOC PELLE INTERLOC",{"$f":"IF(COUNTIF('PLANNING PRINCIPAL'!$I$301:$X$301,P19)>=1,\"\",ROW())","v":19},"LOC PELLE INTERLOC","LOC PELLE INTERLOC",{"$f":"IF(COUNTIF('PLANNING PRINCIPAL'!$I$304:$X$304,S19)>=1,\"\",ROW())","v":19},"LOC PELLE INTERLOC",null,{"$f":"IF(COUNTIF('PLANNING PRINCIPAL'!$I$285:$X$285,V19)>=1,\"\",ROW())","v":19}]
[{"$f":"'DATA S1'!A20","v":"LOC PELLE KILOUTOU"},{"$f":"IF(COUNTIF('PLANNING PRINCIPAL'!$I$286:$X$286,A20)>=1,\"\",ROW())","v":20},"LOC PELLE KILOUTOU","LOC PELLE KILOUTOU",{"$f":"IF(COUNTIF('PLANNING PRINCIPAL'!$I$289:$X$289,D20)>=1,\"\",ROW())","v":20},"LOC PELLE KILOUTOU","LOC PELLE KILOUTOU",{"$f":"IF(COUNTIF('PLANNING PRINCIPAL'!$I$292:$X$292,G20)>=1,\"\",ROW())","v":20},"LOC PELLE KILOUTOU","LOC PELLE KILOUTOU",{"$f":"IF(COUNTIF('PLANNING PRINCIPAL'!$I$295:$X$295,J20)>=1,\"\",ROW())","v":20},"LOC PELLE KILOUTOU","LOC PELLE KILOUTOU",{"$f":"IF(COUNTIF('PLANNING PRINCIPAL'!$I$298:$X$298,M20)>=1,\"\",ROW())","v":20},"LOC PELLE KILOUTOU","LOC PELLE KILOUTOU",{"$f":"IF(COUNTIF('PLANNING PRINCIPAL'!$I$301:$X$301,P20)>=1,\"\",ROW())","v":20},"LOC PELLE KILOUTOU","LOC PELLE KILOUTOU",{"$f":"IF(COUNTIF('PLANNING PRINCIPAL'!$I$304:$X$304,S20)>=1,\"\",ROW())","v":20},"LOC PELLE KILOUTOU",null,{"$f":"IF(COUNTIF('PLANNING PRINCIPAL'!$I$285:$X$285,V20)>=1,\"\",ROW())","v":20}]
[null,{"$f":"IF(COUNTIF('PLANNING PRINCIPAL'!$I$286:$X$286,A21)>=1,\"\",ROW())","v":21},null,null,{"$f":"IF(COUNTIF('PLANNING PRINCIPAL'!$I$289:$X$289,D21)>=1,\"\",ROW())","v":21},null,null,{"$f":"IF(COUNTIF('PLANNING PRINCIPAL'!$I$292:$X$292,G21)>=1,\"\",ROW())","v":21},null,null,{"$f":"IF(COUNTIF('PLANNING PRINCIPAL'!$I$295:$X$295,J21)>=1,\"\",ROW())","v":21},null,null,{"$f":"IF(COUNTIF('PLANNING PRINCIPAL'!$I$298:$X$298,M21)>=1,\"\",ROW())","v":21},null,null,{"$f":"IF(COUNTIF('PLANNING PRINCIPAL'!$I$301:$X$301,P21)>=1,\"\",ROW())","v":21},null,null,{"$f":"IF(COUNTIF('PLANNING PRINCIPAL'!$I$304:$X$304,S21)>=1,\"\",ROW())","v":21},null,null,{"$f":"IF(COUNTIF('PLANNING PRINCIPAL'!$I$285:$X$285,V21)>=1,\"\",ROW())","v":21}]
[null,{"$f":"IF(COUNTIF('PLANNING PRINCIPAL'!$I$286:$X$286,A22)>=1,\"\",ROW())","v":22},null,null,{"$f":"IF(COUNTIF('PLANNING PRINCIPAL'!$I$289:$X$289,D22)>=1,\"\",ROW())","v":22},null,null,{"$f":"IF(COUNTIF('PLANNING PRINCIPAL'!$I$292:$X$292,G22)>=1,\"\",ROW())","v":22},null,null,{"$f":"IF(COUNTIF('PLANNING PRINCIPAL'!$I$295:$X$295,J22)>=1,\"\",ROW())","v":22},null,null,{"$f":"IF(COUNTIF('PLANNING PRINCIPAL'!$I$298:$X$298,M22)>=1,\"\",ROW())","v":22},null,null,{"$f":"IF(COUNTIF('PLANNING PRINCIPAL'!$I$301:$X$301,P22)>=1,\"\",ROW())","v":22},null,null,{"$f":"IF(COUNTIF('PLANNING PRINCIPAL'!$I$304:$X$304,S22)>=1,\"\",ROW())","v":22},null,null,{"$f":"IF(COUNTIF('PLANNING PRINCIPAL'!$I$285:$X$285,V22)>=1,\"\",ROW())","v":22}]
[null,{"$f":"IF(COUNTIF('PLANNING PRINCIPAL'!$I$286:$X$286,A23)>=1,\"\",ROW())","v":23},null,null,{"$f":"IF(COUNTIF('PLANNING PRINCIPAL'!$I$289:$X$289,D23)>=1,\"\",ROW())","v":23},null,null,{"$f":"IF(COUNTIF('PLANNING PRINCIPAL'!$I$292:$X$292,G23)>=1,\"\",ROW())","v":23},null,null,{"$f":"IF(COUNTIF('PLANNING PRINCIPAL'!$I$295:$X$295,J23)>=1,\"\",ROW())","v":23},null,null,{"$f":"IF(COUNTIF('PLANNING PRINCIPAL'!$I$298:$X$298,M23)>=1,\"\",ROW())","v":23},null,null,{"$f":"IF(COUNTIF('PLANNING PRINCIPAL'!$I$301:$X$301,P23)>=1,\"\",ROW())","v":23},null,null,{"$f":"IF(COUNTIF('PLANNING PRINCIPAL'!$I$304:$X$304,S23)>=1,\"\",ROW())","v":23},null,null,{"$f":"IF(COUNTIF('PLANNING PRINCIPAL'!$I$285:$X$285,V23)>=1,\"\",ROW())","v":23}]
[null,{"$f":"IF(COUNTIF('PLANNING PRINCIPAL'!$I$286:$X$286,A24)>=1,\"\",ROW())","v":24},null,null,{"$f":"IF(COUNTIF('PLANNING PRINCIPAL'!$I$289:$X$289,D24)>=1,\"\",ROW())","v":24},null,null,{"$f":"IF(COUNTIF('PLANNING PRINCIPAL'!$I$292:$X$292,G24)>=1,\"\",ROW())","v":24},null,null,{"$f":"IF(COUNTIF('PLANNING PRINCIPAL'!$I$295:$X$295,J24)>=1,\"\",ROW())","v":24},null,null,{"$f":"IF(COUNTIF('PLANNING PRINCIPAL'!$I$298:$X$298,M24)>=1,\"\",ROW())","v":24},null,null,{"$f":"IF(COUNTIF('PLANNING PRINCIPAL'!$I$301:$X$301,P24)>=1,\"\",ROW())","v":24},null,null,{"$f":"IF(COUNTIF('PLANNING PRINCIPAL'!$I$304:$X$304,S24)>=1,\"\",ROW())","v":24},null,null,{"$f":"IF(COUNTIF('PLANNING PRINCIPAL'!$I$285:$X$285,V24)>=1,\"\",ROW())","v":24}]
[null,{"$f":"IF(COUNTIF('PLANNING PRINCIPAL'!$I$286:$X$286,A25)>=1,\"\",ROW())","v":25},null,null,{"$f":"IF(COUNTIF('PLANNING PRINCIPAL'!$I$289:$X$289,D25)>=1,\"\",ROW())","v":25},null,null,{"$f":"IF(COUNTIF('PLANNING PRINCIPAL'!$I$292:$X$292,G25)>=1,\"\",ROW())","v":25},null,null,{"$f":"IF(COUNTIF('PLANNING PRINCIPAL'!$I$295:$X$295,J25)>=1,\"\",ROW())","v":25},null,null,{"$f":"IF(COUNTIF('PLANNING PRINCIPAL'!$I$298:$X$298,M25)>=1,\"\",ROW())","v":25},null,null,{"$f":"IF(COUNTIF('PLANNING PRINCIPAL'!$I$301:$X$301,P25)>=1,\"\",ROW())","v":25},null,null,{"$f":"IF(COUNTIF('PLANNING PRINCIPAL'!$I$304:$X$304,S25)>=1,\"\",ROW())","v":25},null,null,{"$f":"IF(COUNTIF('PLANNING PRINCIPAL'!$I$285:$X$285,V25)>=1,\"\",ROW())","v":25}]
[null,{"$f":"IF(COUNTIF('PLANNING PRINCIPAL'!$I$286:$X$286,A26)>=1,\"\",ROW())","v":26},null,null,{"$f":"IF(COUNTIF('PLANNING PRINCIPAL'!$I$289:$X$289,D26)>=1,\"\",ROW())","v":26},null,null,{"$f":"IF(COUNTIF('PLANNING PRINCIPAL'!$I$292:$X$292,G26)>=1,\"\",ROW())","v":26},null,null,{"$f":"IF(COUNTIF('PLANNING PRINCIPAL'!$I$295:$X$295,J26)>=1,\"\",ROW())","v":26},null,null,{"$f":"IF(COUNTIF('PLANNING PRINCIPAL'!$I$298:$X$298,M26)>=1,\"\",ROW())","v":26},null,null,{"$f":"IF(COUNTIF('PLANNING PRINCIPAL'!$I$301:$X$301,P26)>=1,\"\",ROW())","v":26},null,null,{"$f":"IF(COUNTIF('PLANNING PRINCIPAL'!$I$304:$X$304,S26)>=1,\"\",ROW())","v":26},null,null,{"$f":"IF(COUNTIF('PLANNING PRINCIPAL'!$I$285:$X$285,V26)>=1,\"\",ROW())","v":26}]
[null,{"$f":"IF(COUNTIF('PLANNING PRINCIPAL'!$I$286:$X$286,A27)>=1,\"\",ROW())","v":27},null,null,{"$f":"IF(COUNTIF('PLANNING PRINCIPAL'!$I$289:$X$289,D27)>=1,\"\",ROW())","v":27},null,null,{"$f":"IF(COUNTIF('PLANNING PRINCIPAL'!$I$292:$X$292,G27)>=1,\"\",ROW())","v":27},null,null,{"$f":"IF(COUNTIF('PLANNING PRINCIPAL'!$I$295:$X$295,J27)>=1,\"\",ROW())","v":27},null,null,{"$f":"IF(COUNTIF('PLANNING PRINCIPAL'!$I$298:$X$298,M27)>=1,\"\",ROW())","v":27},null,null,{"$f":"IF(COUNTIF('PLANNING PRINCIPAL'!$I$301:$X$301,P27)>=1,\"\",ROW())","v":27},null,null,{"$f":"IF(COUNTIF('PLANNING PRINCIPAL'!$I$304:$X$304,S27)>=1,\"\",ROW())","v":27},null,null,{"$f":"IF(COUNTIF('PLANNING PRINCIPAL'!$I$285:$X$285,V27)>=1,\"\",ROW())","v":27}]
[null,{"$f":"IF(COUNTIF('PLANNING PRINCIPAL'!$I$286:$X$286,A28)>=1,\"\",ROW())","v":28},null,null,{"$f":"IF(COUNTIF('PLANNING PRINCIPAL'!$I$289:$X$289,D28)>=1,\"\",ROW())","v":28},null,null,{"$f":"IF(COUNTIF('PLANNING PRINCIPAL'!$I$292:$X$292,G28)>=1,\"\",ROW())","v":28},null,null,{"$f":"IF(COUNTIF('PLANNING PRINCIPAL'!$I$295:$X$295,J28)>=1,\"\",ROW())","v":28},null,null,{"$f":"IF(COUNTIF('PLANNING PRINCIPAL'!$I$298:$X$298,M28)>=1,\"\",ROW())","v":28},null,null,{"$f":"IF(COUNTIF('PLANNING PRINCIPAL'!$I$301:$X$301,P28)>=1,\"\",ROW())","v":28},null,null,{"$f":"IF(COUNTIF('PLANNING PRINCIPAL'!$I$304:$X$304,S28)>=1,\"\",ROW())","v":28},null,null,{"$f":"IF(COUNTIF('PLANNING PRINCIPAL'!$I$285:$X$285,V28)>=1,\"\",ROW())","v":28}]
[null,{"$f":"IF(COUNTIF('PLANNING PRINCIPAL'!$I$286:$X$286,A29)>=1,\"\",ROW())","v":29},null,null,{"$f":"IF(COUNTIF('PLANNING PRINCIPAL'!$I$289:$X$289,D29)>=1,\"\",ROW())","v":29},null,null,{"$f":"IF(COUNTIF('PLANNING PRINCIPAL'!$I$292:$X$292,G29)>=1,\"\",ROW())","v":29},null,null,{"$f":"IF(COUNTIF('PLANNING PRINCIPAL'!$I$295:$X$295,J29)>=1,\"\",ROW())","v":29},null,null,{"$f":"IF(COUNTIF('PLANNING PRINCIPAL'!$I$298:$X$298,M29)>=1,\"\",ROW())","v":29},null,null,{"$f":"IF(COUNTIF('PLANNING PRINCIPAL'!$I$301:$X$301,P29)>=1,\"\",ROW())","v":29},null,null,{"$f":"IF(COUNTIF('PLANNING PRINCIPAL'!$I$304:$X$304,S29)>=1,\"\",ROW())","v":29},null,null,{"$f":"IF(COUNTIF('PLANNING PRINCIPAL'!$I$285:$X$285,V29)>=1,\"\",ROW())","v":29}]
[null,{"$f":"IF(COUNTIF('PLANNING PRINCIPAL'!$I$286:$X$286,A30)>=1,\"\",ROW())","v":30},null,null,{"$f":"IF(COUNTIF('PLANNING PRINCIPAL'!$I$289:$X$289,D30)>=1,\"\",ROW())","v":30},null,null,{"$f":"IF(COUNTIF('PLANNING PRINCIPAL'!$I$292:$X$292,G30)>=1,\"\",ROW())","v":30},null,null,{"$f":"IF(COUNTIF('PLANNING PRINCIPAL'!$I$295:$X$295,J30)>=1,\"\",ROW())","v":30},null,null,{"$f":"IF(COUNTIF('PLANNING PRINCIPAL'!$I$298:$X$298,M30)>=1,\"\",ROW())","v":30},null,null,{"$f":"IF(COUNTIF('PLANNING PRINCIPAL'!$I$301:$X$301,P30)>=1,\"\",ROW())","v":30},null,null,{"$f":"IF(COUNTIF('PLANNING PRINCIPAL'!$I$304:$X$304,S30)>=1,\"\",ROW())","v":30},null,null,{"$f":"IF(COUNTIF('PLANNING PRINCIPAL'!$I$285:$X$285,V30)>=1,\"\",ROW())","v":30}]
[null,{"$f":"IF(COUNTIF('PLANNING PRINCIPAL'!$I$286:$X$286,A31)>=1,\"\",ROW())","v":31},null,null,{"$f":"IF(COUNTIF('PLANNING PRINCIPAL'!$I$289:$X$289,D31)>=1,\"\",ROW())","v":31},null,null,{"$f":"IF(COUNTIF('PLANNING PRINCIPAL'!$I$292:$X$292,G31)>=1,\"\",ROW())","v":31},null,null,{"$f":"IF(COUNTIF('PLANNING PRINCIPAL'!$I$295:$X$295,J31)>=1,\"\",ROW())","v":31},null,null,{"$f":"IF(COUNTIF('PLANNING PRINCIPAL'!$I$298:$X$298,M31)>=1,\"\",ROW())","v":31},null,null,{"$f":"IF(COUNTIF('PLANNING PRINCIPAL'!$I$301:$X$301,P31)>=1,\"\",ROW())","v":31},null,null,{"$f":"IF(COUNTIF('PLANNING PRINCIPAL'!$I$304:$X$304,S31)>=1,\"\",ROW())","v":31},null,null,{"$f":"IF(COUNTIF('PLANNING PRINCIPAL'!$I$285:$X$285,V31)>=1,\"\",ROW())","v":31}]
[null,{"$f":"IF(COUNTIF('PLANNING PRINCIPAL'!$I$286:$X$286,A32)>=1,\"\",ROW())","v":32},null,null,{"$f":"IF(COUNTIF('PLANNING PRINCIPAL'!$I$289:$X$289,D32)>=1,\"\",ROW())","v":32},null,null,{"$f":"IF(COUNTIF('PLANNING PRINCIPAL'!$I$292:$X$292,G32)>=1,\"\",ROW())","v":32},null,null,{"$f":"IF(COUNTIF('PLANNING PRINCIPAL'!$I$295:$X$295,J32)>=1,\"\",ROW())","v":32},null,null,{"$f":"IF(COUNTIF('PLANNING PRINCIPAL'!$I$298:$X$298,M32)>=1,\"\",ROW())","v":32},null,null,{"$f":"IF(COUNTIF('PLANNING PRINCIPAL'!$I$301:$X$301,P32)>=1,\"\",ROW())","v":32},null,null,{"$f":"IF(COUNTIF('PLANNING PRINCIPAL'!$I$304:$X$304,S32)>=1,\"\",ROW())","v":32},null,null,{"$f":"IF(COUNTIF('PLANNING PRINCIPAL'!$I$285:$X$285,V32)>=1,\"\",ROW())","v":32}]
[null,{"$f":"IF(COUNTIF('PLANNING PRINCIPAL'!$I$286:$X$286,A33)>=1,\"\",ROW())","v":33},null,null,{"$f":"IF(COUNTIF('PLANNING PRINCIPAL'!$I$289:$X$289,D33)>=1,\"\",ROW())","v":33},null,null,{"$f":"IF(COUNTIF('PLANNING PRINCIPAL'!$I$292:$X$292,G33)>=1,\"\",ROW())","v":33},null,null,{"$f":"IF(COUNTIF('PLANNING PRINCIPAL'!$I$295:$X$295,J33)>=1,\"\",ROW())","v":33},null,null,{"$f":"IF(COUNTIF('PLANNING PRINCIPAL'!$I$298:$X$298,M33)>=1,\"\",ROW())","v":33},null,null,{"$f":"IF(COUNTIF('PLANNING PRINCIPAL'!$I$301:$X$301,P33)>=1,\"\",ROW())","v":33},null,null,{"$f":"IF(COUNTIF('PLANNING PRINCIPAL'!$I$304:$X$304,S33)>=1,\"\",ROW())","v":33},null,null,{"$f":"IF(COUNTIF('PLANNING PRINCIPAL'!$I$285:$X$285,V33)>=1,\"\",ROW())","v":33}]
[null,{"$f":"IF(COUNTIF('PLANNING PRINCIPAL'!$I$286:$X$286,A34)>=1,\"\",ROW())","v":34},null,null,{"$f":"IF(COUNTIF('PLANNING PRINCIPAL'!$I$289:$X$289,D34)>=1,\"\",ROW())","v":34},null,null,{"$f":"IF(COUNTIF('PLANNING PRINCIPAL'!$I$292:$X$292,G34)>=1,\"\",ROW())","v":34},null,null,{"$f":"IF(COUNTIF('PLANNING PRINCIPAL'!$I$295:$X$295,J34)>=1,\"\",ROW())","v":34},null,null,{"$f":"IF(COUNTIF('PLANNING PRINCIPAL'!$I$298:$X$298,M34)>=1,\"\",ROW())","v":34},null,null,{"$f":"IF(COUNTIF('PLANNING PRINCIPAL'!$I$301:$X$301,P34)>=1,\"\",ROW())","v":34},null,null,{"$f":"IF(COUNTIF('PLANNING PRINCIPAL'!$I$304:$X$304,S34)>=1,\"\",ROW())","v":34},null,null,{"$f":"IF(COUNTIF('PLANNING PRINCIPAL'!$I$285:$X$285,V34)>=1,\"\",ROW())","v":34}]
["LUNDI",null,null,"MARDI",null,null,"MERCREDI",null,null,"JEUDI",null,null,"VENDREDI",null,null,"SAMEDI",null,null,"DIMANCHE",null,null,"ASTREINTE"]

{"sheet":"DATA S14","index":15,"n_rows":35,"n_cols":24,"rows_kept":35,"cut":false,"hidden":false,"merged":[[34,18,34,20],[34,21,34,23],[34,0,34,2],[34,3,34,5],[34,6,34,8],[34,9,34,11],[34,12,34,14],[34,15,34,17]]}
[{"$f":"'DATA S1'!A1","v":"MAS XX "},{"$f":"IF(COUNTIF('PLANNING PRINCIPAL'!$I$309:$X$309,A1)>=1,\"\",ROW())","v":1},{"$f":"IF(ROW(A1)-ROW(A$1)+1>COUNT(B:B),\"\", INDEX(A:A,SMALL(B:B,1+ROW(A1)-ROW(A$1))))","v":"MAS XX "},{"$f":"A1","v":"MAS XX "},{"$f":"IF(COUNTIF('PLANNING PRINCIPAL'!$I$312:$X$312,D1)>=1,\"\",ROW())","v":1},{"$f":"IF(ROW(D1)-ROW(D$1)+1>COUNT(E:E),\"\", INDEX(D:D,SMALL(E:E,1+ROW(D1)-ROW(D$1))))","v":"MAS XX "},{"$f":"A1","v":"MAS XX "},{"$f":"IF(COUNTIF('PLANNING PRINCIPAL'!$I$315:$X$315,G1)>=1,\"\",ROW())","v":1},{"$f":"IF(ROW(G1)-ROW(G$1)+1>COUNT(H:H),\"\", INDEX(G:G,SMALL(H:H,1+ROW(G1)-ROW(G$1))))","v":"MAS XX "},{"$f":"A1","v":"MAS XX "},{"$f":"IF(COUNTIF('PLANNING PRINCIPAL'!$I$318:$X$318,J1)>=1,\"\",ROW())","v":1},{"$f":"IF(ROW(J1)-ROW(J$1)+1>COUNT(K:K),\"\", INDEX(J:J,SMALL(K:K,1+ROW(J1)-ROW(J$1))))","v":"MAS XX "},{"$f":"A1","v":"MAS XX "},{"$f":"IF(COUNTIF('PLANNING PRINCIPAL'!$I$321:$X$321,M1)>=1,\"\",ROW())","v":1},{"$f":"IF(ROW(M1)-ROW(M$1)+1>COUNT(N:N),\"\", INDEX(M:M,SMALL(N:N,1+ROW(M1)-ROW(M$1))))","v":"MAS XX "},{"$f":"A1","v":"MAS XX "},{"$f":"IF(COUNTIF('PLANNING PRINCIPAL'!$I$324:$X$324,P1)>=1,\"\",ROW())","v":1},{"$f":"IF(ROW(P1)-ROW(P$1)+1>COUNT(Q:Q),\"\", INDEX(P:P,SMALL(Q:Q,1+ROW(P1)-ROW(P$1))))","v":"MAS XX "},{"$f":"A1","v":"MAS XX "},{"$f":"IF(COUNTIF('PLANNING PRINCIPAL'!$I$328:$X$328,S1)>=1,\"\",ROW())","v":1},{"$f":"IF(ROW(S1)-ROW(S$1)+1>COUNT(T:T),\"\", INDEX(S:S,SMALL(T:T,1+ROW(S1)-ROW(S$1))))","v":"MAS XX "},{"$f":"'DATA S1'!V1","v":"ASTREINTE SLT"},{"$f":"IF(COUNTIF('PLANNING PRINCIPAL'!$I$330:$X$330,V1)>=1,\"\",ROW())","v":1},{"$f":"IF(ROW(V1)-ROW(V$1)+1>COUNT(W:W),\"\", INDEX(V:V,SMALL(W:W,1+ROW(V1)-ROW(V$1))))","v":"ASTREINTE SLT"}]
[{"$f":"'DATA S1'!A2","v":"MAS YY "},{"$f":"IF(COUNTIF('PLANNING PRINCIPAL'!$I$309:$X$309,A2)>=1,\"\",ROW())","v":2},{"$f":"IF(ROW(A2)-ROW(A$1)+1>COUNT(B:B),\"\", INDEX(A:A,SMALL(B:B,1+ROW(A2)-ROW(A$1))))","v":"MAS YY "},"MAS YY ",{"$f":"IF(COUNTIF('PLANNING PRINCIPAL'!$I$312:$X$312,D2)>=1,\"\",ROW())","v":2},{"$f":"IF(ROW(D2)-ROW(D$1)+1>COUNT(E:E),\"\", INDEX(D:D,SMALL(E:E,1+ROW(D2)-ROW(D$1))))","v":"MAS YY "},{"$f":"A2","v":"MAS YY "},{"$f":"IF(COUNTIF('PLANNING PRINCIPAL'!$I$315:$X$315,G2)>=1,\"\",ROW())","v":2},{"$f":"IF(ROW(G2)-ROW(G$1)+1>COUNT(H:H),\"\", INDEX(G:G,SMALL(H:H,1+ROW(G2)-ROW(G$1))))","v":"MAS YY "},{"$f":"A2","v":"MAS YY "},{"$f":"IF(COUNTIF('PLANNING PRINCIPAL'!$I$318:$X$318,J2)>=1,\"\",ROW())","v":2},{"$f":"IF(ROW(J2)-ROW(J$1)+1>COUNT(K:K),\"\", INDEX(J:J,SMALL(K:K,1+ROW(J2)-ROW(J$1))))","v":"MAS YY "},{"$f":"A2","v":"MAS YY "},{"$f":"IF(COUNTIF('PLANNING PRINCIPAL'!$I$321:$X$321,M2)>=1,\"\",ROW())","v":2},{"$f":"IF(ROW(M2)-ROW(M$1)+1>COUNT(N:N),\"\", INDEX(M:M,SMALL(N:N,1+ROW(M2)-ROW(M$1))))","v":"MAS YY "},{"$f":"A2","v":"MAS YY "},{"$f":"IF(COUNTIF('PLANNING PRINCIPAL'!$I$324:$X$324,P2)>=1,\"\",ROW())","v":2},{"$f":"IF(ROW(P2)-ROW(P$1)+1>COUNT(Q:Q),\"\", INDEX(P:P,SMALL(Q:Q,1+ROW(P2)-ROW(P$1))))","v":"MAS YY "},{"$f":"A2","v":"MAS YY "},{"$f":"IF(COUNTIF('PLANNING PRINCIPAL'!$I$328:$X$328,S2)>=1,\"\",ROW())","v":2},{"$f":"IF(ROW(S2)-ROW(S$1)+1>COUNT(T:T),\"\", INDEX(S:S,SMALL(T:T,1+ROW(S2)-ROW(S$1))))","v":"MAS YY "},{"$f":"'DATA S1'!V2","v":"ASTREINTE EP"},{"$f":"IF(COUNTIF('PLANNING PRINCIPAL'!$I$330:$X$330,V2)>=1,\"\",ROW())","v":2},{"$f":"IF(ROW(V2)-ROW(V$1)+1>COUNT(W:W),\"\", INDEX(V:V,SMALL(W:W,1+ROW(V2)-ROW(V$1))))","v":"ASTREINTE EP"}]
[{"$f":"'DATA S1'!A3","v":"MAS VQ "},{"$f":"IF(COUNTIF('PLANNING PRINCIPAL'!$I$309:$X$309,A3)>=1,\"\",ROW())","v":3},"MAS VQ ","MAS VQ ",{"$f":"IF(COUNTIF('PLANNING PRINCIPAL'!$I$312:$X$312,D3)>=1,\"\",ROW())","v":3},"MAS VQ ","MAS VQ ",{"$f":"IF(COUNTIF('PLANNING PRINCIPAL'!$I$315:$X$315,G3)>=1,\"\",ROW())","v":3},"MAS VQ ","MAS VQ ",{"$f":"IF(COUNTIF('PLANNING PRINCIPAL'!$I$318:$X$318,J3)>=1,\"\",ROW())","v":3},"MAS VQ ","MAS VQ ",{"$f":"IF(COUNTIF('PLANNING PRINCIPAL'!$I$321:$X$321,M3)>=1,\"\",ROW())","v":3},"MAS VQ ","MAS VQ ",{"$f":"IF(COUNTIF('PLANNING PRINCIPAL'!$I$324:$X$324,P3)>=1,\"\",ROW())","v":3},"MAS VQ ","MAS VQ ",{"$f":"IF(COUNTIF('PLANNING PRINCIPAL'!$I$328:$X$328,S3)>=1,\"\",ROW())","v":3},"MAS VQ ",{"$f":"'DATA S1'!V3","v":"V NOC CHARTRES"},{"$f":"IF(COUNTIF('PLANNING PRINCIPAL'!$I$330:$X$330,V3)>=1,\"\",ROW())","v":3},"V NOC CHARTRES"]
[{"$f":"'DATA S1'!A4","v":"MAS PL "},{"$f":"IF(COUNTIF('PLANNING PRINCIPAL'!$I$309:$X$309,A4)>=1,\"\",ROW())","v":4},"MAS PL ","MAS PL ",{"$f":"IF(COUNTIF('PLANNING PRINCIPAL'!$I$312:$X$312,D4)>=1,\"\",ROW())","v":4},"MAS PL ","MAS PL ",{"$f":"IF(COUNTIF('PLANNING PRINCIPAL'!$I$315:$X$315,G4)>=1,\"\",ROW())","v":4},"MAS PL ","MAS PL ",{"$f":"IF(COUNTIF('PLANNING PRINCIPAL'!$I$318:$X$318,J4)>=1,\"\",ROW())","v":4},"MAS PL ","MAS PL ",{"$f":"IF(COUNTIF('PLANNING PRINCIPAL'!$I$321:$X$321,M4)>=1,\"\",ROW())","v":4},"MAS PL ","MAS PL ",{"$f":"IF(COUNTIF('PLANNING PRINCIPAL'!$I$324:$X$324,P4)>=1,\"\",ROW())","v":4},"MAS PL ","MAS PL ",{"$f":"IF(COUNTIF('PLANNING PRINCIPAL'!$I$328:$X$328,S4)>=1,\"\",ROW())","v":4},"MAS PL ",{"$f":"'DATA S1'!V4","v":"V NOC EPERNON"},{"$f":"IF(COUNTIF('PLANNING PRINCIPAL'!$I$330:$X$330,V4)>=1,\"\",ROW())","v":4},"V NOC EPERNON"]
[{"$f":"'DATA S1'!A5","v":"BEN VL PT "},{"$f":"IF(COUNTIF('PLANNING PRINCIPAL'!$I$309:$X$309,A5)>=1,\"\",ROW())","v":5},"BEN VL PT ","BEN VL PT ",{"$f":"IF(COUNTIF('PLANNING PRINCIPAL'!$I$312:$X$312,D5)>=1,\"\",ROW())","v":5},"BEN VL PT ","BEN VL PT ",{"$f":"IF(COUNTIF('PLANNING PRINCIPAL'!$I$315:$X$315,G5)>=1,\"\",ROW())","v":5},"BEN VL PT ","BEN VL PT ",{"$f":"IF(COUNTIF('PLANNING PRINCIPAL'!$I$318:$X$318,J5)>=1,\"\",ROW())","v":5},"BEN VL PT ","BEN VL PT ",{"$f":"IF(COUNTIF('PLANNING PRINCIPAL'!$I$321:$X$321,M5)>=1,\"\",ROW())","v":5},"BEN VL PT ","BEN VL PT ",{"$f":"IF(COUNTIF('PLANNING PRINCIPAL'!$I$324:$X$324,P5)>=1,\"\",ROW())","v":5},"BEN VL PT ","BEN VL PT ",{"$f":"IF(COUNTIF('PLANNING PRINCIPAL'!$I$328:$X$328,S5)>=1,\"\",ROW())","v":5},"BEN VL PT ",{"$f":"'DATA S1'!V5","v":"V NOC HANCHES"},{"$f":"IF(COUNTIF('PLANNING PRINCIPAL'!$I$330:$X$330,V5)>=1,\"\",ROW())","v":5},"V NOC HANCHES"]
[{"$f":"'DATA S1'!A6","v":"BEN 19T "},{"$f":"IF(COUNTIF('PLANNING PRINCIPAL'!$I$309:$X$309,A6)>=1,\"\",ROW())","v":6},"BEN 19T ","BEN 19T ",{"$f":"IF(COUNTIF('PLANNING PRINCIPAL'!$I$312:$X$312,D6)>=1,\"\",ROW())","v":6},"BEN 19T ","BEN 19T ",{"$f":"IF(COUNTIF('PLANNING PRINCIPAL'!$I$315:$X$315,G6)>=1,\"\",ROW())","v":6},"BEN 19T ","BEN 19T ",{"$f":"IF(COUNTIF('PLANNING PRINCIPAL'!$I$318:$X$318,J6)>=1,\"\",ROW())","v":6},"BEN 19T ","BEN 19T ",{"$f":"IF(COUNTIF('PLANNING PRINCIPAL'!$I$321:$X$321,M6)>=1,\"\",ROW())","v":6},"BEN 19T ","BEN 19T ",{"$f":"IF(COUNTIF('PLANNING PRINCIPAL'!$I$324:$X$324,P6)>=1,\"\",ROW())","v":6},"BEN 19T ","BEN 19T ",{"$f":"IF(COUNTIF('PLANNING PRINCIPAL'!$I$328:$X$328,S6)>=1,\"\",ROW())","v":6},"BEN 19T ",{"$f":"'DATA S1'!V6","v":"V NOC MAINTENON"},{"$f":"IF(COUNTIF('PLANNING PRINCIPAL'!$I$330:$X$330,V6)>=1,\"\",ROW())","v":6},"V NOC MAINTENON"]
[{"$f":"'DATA S1'!A7","v":"BEN 13T "},{"$f":"IF(COUNTIF('PLANNING PRINCIPAL'!$I$309:$X$309,A7)>=1,\"\",ROW())","v":7},"BEN 13T ","BEN 13T ",{"$f":"IF(COUNTIF('PLANNING PRINCIPAL'!$I$312:$X$312,D7)>=1,\"\",ROW())","v":7},"BEN 13T ","BEN 13T ",{"$f":"IF(COUNTIF('PLANNING PRINCIPAL'!$I$315:$X$315,G7)>=1,\"\",ROW())","v":7},"BEN 13T ","BEN 13T ",{"$f":"IF(COUNTIF('PLANNING PRINCIPAL'!$I$318:$X$318,J7)>=1,\"\",ROW())","v":7},"BEN 13T ","BEN 13T ",{"$f":"IF(COUNTIF('PLANNING PRINCIPAL'!$I$321:$X$321,M7)>=1,\"\",ROW())","v":7},"BEN 13T ","BEN 13T ",{"$f":"IF(COUNTIF('PLANNING PRINCIPAL'!$I$324:$X$324,P7)>=1,\"\",ROW())","v":7},"BEN 13T ","BEN 13T ",{"$f":"IF(COUNTIF('PLANNING PRINCIPAL'!$I$328:$X$328,S7)>=1,\"\",ROW())","v":7},"BEN 13T ",null,{"$f":"IF(COUNTIF('PLANNING PRINCIPAL'!$I$330:$X$330,V7)>=1,\"\",ROW())","v":7}]
[{"$f":"'DATA S1'!A8","v":"NAC VL 18M "},{"$f":"IF(COUNTIF('PLANNING PRINCIPAL'!$I$309:$X$309,A8)>=1,\"\",ROW())","v":8},"NAC VL 18M ","NAC VL 18M ",{"$f":"IF(COUNTIF('PLANNING PRINCIPAL'!$I$312:$X$312,D8)>=1,\"\",ROW())","v":8},"NAC VL 18M ","NAC VL 18M ",{"$f":"IF(COUNTIF('PLANNING PRINCIPAL'!$I$315:$X$315,G8)>=1,\"\",ROW())","v":8},"NAC VL 18M ","NAC VL 18M ",{"$f":"IF(COUNTIF('PLANNING PRINCIPAL'!$I$318:$X$318,J8)>=1,\"\",ROW())","v":8},"NAC VL 18M ","NAC VL 18M ",{"$f":"IF(COUNTIF('PLANNING PRINCIPAL'!$I$321:$X$321,M8)>=1,\"\",ROW())","v":8},"NAC VL 18M ","NAC VL 18M ",{"$f":"IF(COUNTIF('PLANNING PRINCIPAL'!$I$324:$X$324,P8)>=1,\"\",ROW())","v":8},"NAC VL 18M ","NAC VL 18M ",{"$f":"IF(COUNTIF('PLANNING PRINCIPAL'!$I$328:$X$328,S8)>=1,\"\",ROW())","v":8},"NAC VL 18M ",null,{"$f":"IF(COUNTIF('PLANNING PRINCIPAL'!$I$330:$X$330,V8)>=1,\"\",ROW())","v":8}]
[{"$f":"'DATA S1'!A9","v":"NAC EGIE"},{"$f":"IF(COUNTIF('PLANNING PRINCIPAL'!$I$309:$X$309,A9)>=1,\"\",ROW())","v":9},"NAC EGIE","NAC EGIE",{"$f":"IF(COUNTIF('PLANNING PRINCIPAL'!$I$312:$X$312,D9)>=1,\"\",ROW())","v":9},"NAC EGIE","NAC EGIE",{"$f":"IF(COUNTIF('PLANNING PRINCIPAL'!$I$315:$X$315,G9)>=1,\"\",ROW())","v":9},"NAC EGIE","NAC EGIE",{"$f":"IF(COUNTIF('PLANNING PRINCIPAL'!$I$318:$X$318,J9)>=1,\"\",ROW())","v":9},"NAC EGIE","NAC EGIE",{"$f":"IF(COUNTIF('PLANNING PRINCIPAL'!$I$321:$X$321,M9)>=1,\"\",ROW())","v":9},"NAC EGIE","NAC EGIE",{"$f":"IF(COUNTIF('PLANNING PRINCIPAL'!$I$324:$X$324,P9)>=1,\"\",ROW())","v":9},"NAC EGIE","NAC EGIE",{"$f":"IF(COUNTIF('PLANNING PRINCIPAL'!$I$328:$X$328,S9)>=1,\"\",ROW())","v":9},"NAC EGIE",null,{"$f":"IF(COUNTIF('PLANNING PRINCIPAL'!$I$330:$X$330,V9)>=1,\"\",ROW())","v":9}]
[{"$f":"'DATA S1'!A10","v":"NAC COMI "},{"$f":"IF(COUNTIF('PLANNING PRINCIPAL'!$I$309:$X$309,A10)>=1,\"\",ROW())","v":10},"NAC COMI ","NAC COMI ",{"$f":"IF(COUNTIF('PLANNING PRINCIPAL'!$I$312:$X$312,D10)>=1,\"\",ROW())","v":10},"NAC COMI ","NAC COMI ",{"$f":"IF(COUNTIF('PLANNING PRINCIPAL'!$I$315:$X$315,G10)>=1,\"\",ROW())","v":10},"NAC COMI ","NAC COMI ",{"$f":"IF(COUNTIF('PLANNING PRINCIPAL'!$I$318:$X$318,J10)>=1,\"\",ROW())","v":10},"NAC COMI ","NAC COMI ",{"$f":"IF(COUNTIF('PLANNING PRINCIPAL'!$I$321:$X$321,M10)>=1,\"\",ROW())","v":10},"NAC COMI ","NAC COMI ",{"$f":"IF(COUNTIF('PLANNING PRINCIPAL'!$I$324:$X$324,P10)>=1,\"\",ROW())","v":10},"NAC COMI ","NAC COMI ",{"$f":"IF(COUNTIF('PLANNING PRINCIPAL'!$I$328:$X$328,S10)>=1,\"\",ROW())","v":10},"NAC COMI ",null,{"$f":"IF(COUNTIF('PLANNING PRINCIPAL'!$I$330:$X$330,V10)>=1,\"\",ROW())","v":10}]
[{"$f":"'DATA S1'!A11","v":"#####LOCATION#####"},{"$f":"IF(COUNTIF('PLANNING PRINCIPAL'!$I$309:$X$309,A11)>=1,\"\",ROW())","v":11},"#####LOCATION#####","#####LOCATION#####",{"$f":"IF(COUNTIF('PLANNING PRINCIPAL'!$I$312:$X$312,D11)>=1,\"\",ROW())","v":11},"#####LOCATION#####","#####LOCATION#####",{"$f":"IF(COUNTIF('PLANNING PRINCIPAL'!$I$315:$X$315,G11)>=1,\"\",ROW())","v":11},"#####LOCATION#####","#####LOCATION#####",{"$f":"IF(COUNTIF('PLANNING PRINCIPAL'!$I$318:$X$318,J11)>=1,\"\",ROW())","v":11},"#####LOCATION#####","#####LOCATION#####",{"$f":"IF(COUNTIF('PLANNING PRINCIPAL'!$I$321:$X$321,M11)>=1,\"\",ROW())","v":11},"#####LOCATION#####","#####LOCATION#####",{"$f":"IF(COUNTIF('PLANNING PRINCIPAL'!$I$324:$X$324,P11)>=1,\"\",ROW())","v":11},"#####LOCATION#####","#####LOCATION#####",{"$f":"IF(COUNTIF('PLANNING PRINCIPAL'!$I$328:$X$328,S11)>=1,\"\",ROW())","v":11},"#####LOCATION#####",null,{"$f":"IF(COUNTIF('PLANNING PRINCIPAL'!$I$330:$X$330,V11)>=1,\"\",ROW())","v":11}]
[{"$f":"'DATA S1'!A12","v":"LOC NAC SOLOMAT"},{"$f":"IF(COUNTIF('PLANNING PRINCIPAL'!$I$309:$X$309,A12)>=1,\"\",ROW())","v":12},"LOC NAC SOLOMAT","LOC NAC SOLOMAT",{"$f":"IF(COUNTIF('PLANNING PRINCIPAL'!$I$312:$X$312,D12)>=1,\"\",ROW())","v":12},"LOC NAC SOLOMAT","LOC NAC SOLOMAT",{"$f":"IF(COUNTIF('PLANNING PRINCIPAL'!$I$315:$X$315,G12)>=1,\"\",ROW())","v":12},"LOC NAC SOLOMAT","LOC NAC SOLOMAT",{"$f":"IF(COUNTIF('PLANNING PRINCIPAL'!$I$318:$X$318,J12)>=1,\"\",ROW())","v":12},"LOC NAC SOLOMAT","LOC NAC SOLOMAT",{"$f":"IF(COUNTIF('PLANNING PRINCIPAL'!$I$321:$X$321,M12)>=1,\"\",ROW())","v":12},"LOC NAC SOLOMAT","LOC NAC SOLOMAT",{"$f":"IF(COUNTIF('PLANNING PRINCIPAL'!$I$324:$X$324,P12)>=1,\"\",ROW())","v":12},"LOC NAC SOLOMAT","LOC NAC SOLOMAT",{"$f":"IF(COUNTIF('PLANNING PRINCIPAL'!$I$328:$X$328,S12)>=1,\"\",ROW())","v":12},"LOC NAC SOLOMAT",null,{"$f":"IF(COUNTIF('PLANNING PRINCIPAL'!$I$330:$X$330,V12)>=1,\"\",ROW())","v":12}]
[{"$f":"'DATA S1'!A13","v":"LOC NAC AEB"},{"$f":"IF(COUNTIF('PLANNING PRINCIPAL'!$I$309:$X$309,A13)>=1,\"\",ROW())","v":13},"LOC NAC AEB","LOC NAC AEB",{"$f":"IF(COUNTIF('PLANNING PRINCIPAL'!$I$312:$X$312,D13)>=1,\"\",ROW())","v":13},"LOC NAC AEB","LOC NAC AEB",{"$f":"IF(COUNTIF('PLANNING PRINCIPAL'!$I$315:$X$315,G13)>=1,\"\",ROW())","v":13},"LOC NAC AEB","LOC NAC AEB",{"$f":"IF(COUNTIF('PLANNING PRINCIPAL'!$I$318:$X$318,J13)>=1,\"\",ROW())","v":13},"LOC NAC AEB","LOC NAC AEB",{"$f":"IF(COUNTIF('PLANNING PRINCIPAL'!$I$321:$X$321,M13)>=1,\"\",ROW())","v":13},"LOC NAC AEB","LOC NAC AEB",{"$f":"IF(COUNTIF('PLANNING PRINCIPAL'!$I$324:$X$324,P13)>=1,\"\",ROW())","v":13},"LOC NAC AEB","LOC NAC AEB",{"$f":"IF(COUNTIF('PLANNING PRINCIPAL'!$I$328:$X$328,S13)>=1,\"\",ROW())","v":13},"LOC NAC AEB",null,{"$f":"IF(COUNTIF('PLANNING PRINCIPAL'!$I$330:$X$330,V13)>=1,\"\",ROW())","v":13}]
[{"$f":"'DATA S1'!A14","v":"LOC NAC INTERLOC"},{"$f":"IF(COUNTIF('PLANNING PRINCIPAL'!$I$309:$X$309,A14)>=1,\"\",ROW())","v":14},"LOC NAC INTERLOC","LOC NAC INTERLOC",{"$f":"IF(COUNTIF('PLANNING PRINCIPAL'!$I$312:$X$312,D14)>=1,\"\",ROW())","v":14},"LOC NAC INTERLOC","LOC NAC INTERLOC",{"$f":"IF(COUNTIF('PLANNING PRINCIPAL'!$I$315:$X$315,G14)>=1,\"\",ROW())","v":14},"LOC NAC INTERLOC","LOC NAC INTERLOC",{"$f":"IF(COUNTIF('PLANNING PRINCIPAL'!$I$318:$X$318,J14)>=1,\"\",ROW())","v":14},"LOC NAC INTERLOC","LOC NAC INTERLOC",{"$f":"IF(COUNTIF('PLANNING PRINCIPAL'!$I$321:$X$321,M14)>=1,\"\",ROW())","v":14},"LOC NAC INTERLOC","LOC NAC INTERLOC",{"$f":"IF(COUNTIF('PLANNING PRINCIPAL'!$I$324:$X$324,P14)>=1,\"\",ROW())","v":14},"LOC NAC INTERLOC","LOC NAC INTERLOC",{"$f":"IF(COUNTIF('PLANNING PRINCIPAL'!$I$328:$X$328,S14)>=1,\"\",ROW())","v":14},"LOC NAC INTERLOC",null,{"$f":"IF(COUNTIF('PLANNING PRINCIPAL'!$I$330:$X$330,V14)>=1,\"\",ROW())","v":14}]
[{"$f":"'DATA S1'!A15","v":"LOC NAC KILOUTOU"},{"$f":"IF(COUNTIF('PLANNING PRINCIPAL'!$I$309:$X$309,A15)>=1,\"\",ROW())","v":15},"LOC NAC KILOUTOU","LOC NAC KILOUTOU",{"$f":"IF(COUNTIF('PLANNING PRINCIPAL'!$I$312:$X$312,D15)>=1,\"\",ROW())","v":15},"LOC NAC KILOUTOU","LOC NAC KILOUTOU",{"$f":"IF(COUNTIF('PLANNING PRINCIPAL'!$I$315:$X$315,G15)>=1,\"\",ROW())","v":15},"LOC NAC KILOUTOU","LOC NAC KILOUTOU",{"$f":"IF(COUNTIF('PLANNING PRINCIPAL'!$I$318:$X$318,J15)>=1,\"\",ROW())","v":15},"LOC NAC KILOUTOU","LOC NAC KILOUTOU",{"$f":"IF(COUNTIF('PLANNING PRINCIPAL'!$I$321:$X$321,M15)>=1,\"\",ROW())","v":15},"LOC NAC KILOUTOU","LOC NAC KILOUTOU",{"$f":"IF(COUNTIF('PLANNING PRINCIPAL'!$I$324:$X$324,P15)>=1,\"\",ROW())","v":15},"LOC NAC KILOUTOU","LOC NAC KILOUTOU",{"$f":"IF(COUNTIF('PLANNING PRINCIPAL'!$I$328:$X$328,S15)>=1,\"\",ROW())","v":15},"LOC NAC KILOUTOU",null,{"$f":"IF(COUNTIF('PLANNING PRINCIPAL'!$I$330:$X$330,V15)>=1,\"\",ROW())","v":15}]
[{"$f":"'DATA S1'!A16","v":"LOC NAC AEB"},{"$f":"IF(COUNTIF('PLANNING PRINCIPAL'!$I$309:$X$309,A16)>=1,\"\",ROW())","v":16},"LOC NAC AEB","LOC NAC AEB",{"$f":"IF(COUNTIF('PLANNING PRINCIPAL'!$I$312:$X$312,D16)>=1,\"\",ROW())","v":16},"LOC NAC AEB","LOC NAC AEB",{"$f":"IF(COUNTIF('PLANNING PRINCIPAL'!$I$315:$X$315,G16)>=1,\"\",ROW())","v":16},"LOC NAC AEB","LOC NAC AEB",{"$f":"IF(COUNTIF('PLANNING PRINCIPAL'!$I$318:$X$318,J16)>=1,\"\",ROW())","v":16},"LOC NAC AEB","LOC NAC AEB",{"$f":"IF(COUNTIF('PLANNING PRINCIPAL'!$I$321:$X$321,M16)>=1,\"\",ROW())","v":16},"LOC NAC AEB","LOC NAC AEB",{"$f":"IF(COUNTIF('PLANNING PRINCIPAL'!$I$324:$X$324,P16)>=1,\"\",ROW())","v":16},"LOC NAC AEB","LOC NAC AEB",{"$f":"IF(COUNTIF('PLANNING PRINCIPAL'!$I$328:$X$328,S16)>=1,\"\",ROW())","v":16},"LOC NAC AEB",null,{"$f":"IF(COUNTIF('PLANNING PRINCIPAL'!$I$330:$X$330,V16)>=1,\"\",ROW())","v":16}]
[{"$f":"'DATA S1'!A17","v":"LOC PELLE SOLOMAT"},{"$f":"IF(COUNTIF('PLANNING PRINCIPAL'!$I$309:$X$309,A17)>=1,\"\",ROW())","v":17},"LOC PELLE SOLOMAT","LOC PELLE SOLOMAT",{"$f":"IF(COUNTIF('PLANNING PRINCIPAL'!$I$312:$X$312,D17)>=1,\"\",ROW())","v":17},"LOC PELLE SOLOMAT","LOC PELLE SOLOMAT",{"$f":"IF(COUNTIF('PLANNING PRINCIPAL'!$I$315:$X$315,G17)>=1,\"\",ROW())","v":17},"LOC PELLE SOLOMAT","LOC PELLE SOLOMAT",{"$f":"IF(COUNTIF('PLANNING PRINCIPAL'!$I$318:$X$318,J17)>=1,\"\",ROW())","v":17},"LOC PELLE SOLOMAT","LOC PELLE SOLOMAT",{"$f":"IF(COUNTIF('PLANNING PRINCIPAL'!$I$321:$X$321,M17)>=1,\"\",ROW())","v":17},"LOC PELLE SOLOMAT","LOC PELLE SOLOMAT",{"$f":"IF(COUNTIF('PLANNING PRINCIPAL'!$I$324:$X$324,P17)>=1,\"\",ROW())","v":17},"LOC PELLE SOLOMAT","LOC PELLE SOLOMAT",{"$f":"IF(COUNTIF('PLANNING PRINCIPAL'!$I$328:$X$328,S17)>=1,\"\",ROW())","v":17},"LOC PELLE SOLOMAT",null,{"$f":"IF(COUNTIF('PLANNING PRINCIPAL'!$I$330:$X$330,V17)>=1,\"\",ROW())","v":17}]
[{"$f":"'DATA S1'!A18","v":"LOC PELLE AEB"},{"$f":"IF(COUNTIF('PLANNING PRINCIPAL'!$I$309:$X$309,A18)>=1,\"\",ROW())","v":18},"LOC PELLE AEB","LOC PELLE AEB",{"$f":"IF(COUNTIF('PLANNING PRINCIPAL'!$I$312:$X$312,D18)>=1,\"\",ROW())","v":18},"LOC PELLE AEB","LOC PELLE AEB",{"$f":"IF(COUNTIF('PLANNING PRINCIPAL'!$I$315:$X$315,G18)>=1,\"\",ROW())","v":18},"LOC PELLE AEB","LOC PELLE AEB",{"$f":"IF(COUNTIF('PLANNING PRINCIPAL'!$I$318:$X$318,J18)>=1,\"\",ROW())","v":18},"LOC PELLE AEB","LOC PELLE AEB",{"$f":"IF(COUNTIF('PLANNING PRINCIPAL'!$I$321:$X$321,M18)>=1,\"\",ROW())","v":18},"LOC PELLE AEB","LOC PELLE AEB",{"$f":"IF(COUNTIF('PLANNING PRINCIPAL'!$I$324:$X$324,P18)>=1,\"\",ROW())","v":18},"LOC PELLE AEB","LOC PELLE AEB",{"$f":"IF(COUNTIF('PLANNING PRINCIPAL'!$I$328:$X$328,S18)>=1,\"\",ROW())","v":18},"LOC PELLE AEB",null,{"$f":"IF(COUNTIF('PLANNING PRINCIPAL'!$I$330:$X$330,V18)>=1,\"\",ROW())","v":18}]
[{"$f":"'DATA S1'!A19","v":"LOC PELLE INTERLOC"},{"$f":"IF(COUNTIF('PLANNING PRINCIPAL'!$I$309:$X$309,A19)>=1,\"\",ROW())","v":19},"LOC PELLE INTERLOC","LOC PELLE INTERLOC",{"$f":"IF(COUNTIF('PLANNING PRINCIPAL'!$I$312:$X$312,D19)>=1,\"\",ROW())","v":19},"LOC PELLE INTERLOC","LOC PELLE INTERLOC",{"$f":"IF(COUNTIF('PLANNING PRINCIPAL'!$I$315:$X$315,G19)>=1,\"\",ROW())","v":19},"LOC PELLE INTERLOC","LOC PELLE INTERLOC",{"$f":"IF(COUNTIF('PLANNING PRINCIPAL'!$I$318:$X$318,J19)>=1,\"\",ROW())","v":19},"LOC PELLE INTERLOC","LOC PELLE INTERLOC",{"$f":"IF(COUNTIF('PLANNING PRINCIPAL'!$I$321:$X$321,M19)>=1,\"\",ROW())","v":19},"LOC PELLE INTERLOC","LOC PELLE INTERLOC",{"$f":"IF(COUNTIF('PLANNING PRINCIPAL'!$I$324:$X$324,P19)>=1,\"\",ROW())","v":19},"LOC PELLE INTERLOC","LOC PELLE INTERLOC",{"$f":"IF(COUNTIF('PLANNING PRINCIPAL'!$I$328:$X$328,S19)>=1,\"\",ROW())","v":19},"LOC PELLE INTERLOC",null,{"$f":"IF(COUNTIF('PLANNING PRINCIPAL'!$I$330:$X$330,V19)>=1,\"\",ROW())","v":19}]
[{"$f":"'DATA S1'!A20","v":"LOC PELLE KILOUTOU"},{"$f":"IF(COUNTIF('PLANNING PRINCIPAL'!$I$309:$X$309,A20)>=1,\"\",ROW())","v":20},"LOC PELLE KILOUTOU","LOC PELLE KILOUTOU",{"$f":"IF(COUNTIF('PLANNING PRINCIPAL'!$I$312:$X$312,D20)>=1,\"\",ROW())","v":20},"LOC PELLE KILOUTOU","LOC PELLE KILOUTOU",{"$f":"IF(COUNTIF('PLANNING PRINCIPAL'!$I$315:$X$315,G20)>=1,\"\",ROW())","v":20},"LOC PELLE KILOUTOU","LOC PELLE KILOUTOU",{"$f":"IF(COUNTIF('PLANNING PRINCIPAL'!$I$318:$X$318,J20)>=1,\"\",ROW())","v":20},"LOC PELLE KILOUTOU","LOC PELLE KILOUTOU",{"$f":"IF(COUNTIF('PLANNING PRINCIPAL'!$I$321:$X$321,M20)>=1,\"\",ROW())","v":20},"LOC PELLE KILOUTOU","LOC PELLE KILOUTOU",{"$f":"IF(COUNTIF('PLANNING PRINCIPAL'!$I$324:$X$324,P20)>=1,\"\",ROW())","v":20},"LOC PELLE KILOUTOU","LOC PELLE KILOUTOU",{"$f":"IF(COUNTIF('PLANNING PRINCIPAL'!$I$328:$X$328,S20)>=1,\"\",ROW())","v":20},"LOC PELLE KILOUTOU",null,{"$f":"IF(COUNTIF('PLANNING PRINCIPAL'!$I$330:$X$330,V20)>=1,\"\",ROW())","v":20}]
[null,{"$f":"IF(COUNTIF('PLANNING PRINCIPAL'!$I$309:$X$309,A21)>=1,\"\",ROW())","v":21},null,null,{"$f":"IF(COUNTIF('PLANNING PRINCIPAL'!$I$312:$X$312,D21)>=1,\"\",ROW())","v":21},null,null,{"$f":"IF(COUNTIF('PLANNING PRINCIPAL'!$I$315:$X$315,G21)>=1,\"\",ROW())","v":21},null,null,{"$f":"IF(COUNTIF('PLANNING PRINCIPAL'!$I$318:$X$318,J21)>=1,\"\",ROW())","v":21},null,null,{"$f":"IF(COUNTIF('PLANNING PRINCIPAL'!$I$321:$X$321,M21)>=1,\"\",ROW())","v":21},null,null,{"$f":"IF(COUNTIF('PLANNING PRINCIPAL'!$I$324:$X$324,P21)>=1,\"\",ROW())","v":21},null,null,{"$f":"IF(COUNTIF('PLANNING PRINCIPAL'!$I$328:$X$328,S21)>=1,\"\",ROW())","v":21},null,null,{"$f":"IF(COUNTIF('PLANNING PRINCIPAL'!$I$330:$X$330,V21)>=1,\"\",ROW())","v":21}]
[null,{"$f":"IF(COUNTIF('PLANNING PRINCIPAL'!$I$309:$X$309,A22)>=1,\"\",ROW())","v":22},null,null,{"$f":"IF(COUNTIF('PLANNING PRINCIPAL'!$I$312:$X$312,D22)>=1,\"\",ROW())","v":22},null,null,{"$f":"IF(COUNTIF('PLANNING PRINCIPAL'!$I$315:$X$315,G22)>=1,\"\",ROW())","v":22},null,null,{"$f":"IF(COUNTIF('PLANNING PRINCIPAL'!$I$318:$X$318,J22)>=1,\"\",ROW())","v":22},null,null,{"$f":"IF(COUNTIF('PLANNING PRINCIPAL'!$I$321:$X$321,M22)>=1,\"\",ROW())","v":22},null,null,{"$f":"IF(COUNTIF('PLANNING PRINCIPAL'!$I$324:$X$324,P22)>=1,\"\",ROW())","v":22},null,null,{"$f":"IF(COUNTIF('PLANNING PRINCIPAL'!$I$328:$X$328,S22)>=1,\"\",ROW())","v":22},null,null,{"$f":"IF(COUNTIF('PLANNING PRINCIPAL'!$I$330:$X$330,V22)>=1,\"\",ROW())","v":22}]
[null,{"$f":"IF(COUNTIF('PLANNING PRINCIPAL'!$I$309:$X$309,A23)>=1,\"\",ROW())","v":23},null,null,{"$f":"IF(COUNTIF('PLANNING PRINCIPAL'!$I$312:$X$312,D23)>=1,\"\",ROW())","v":23},null,null,{"$f":"IF(COUNTIF('PLANNING PRINCIPAL'!$I$315:$X$315,G23)>=1,\"\",ROW())","v":23},null,null,{"$f":"IF(COUNTIF('PLANNING PRINCIPAL'!$I$318:$X$318,J23)>=1,\"\",ROW())","v":23},null,null,{"$f":"IF(COUNTIF('PLANNING PRINCIPAL'!$I$321:$X$321,M23)>=1,\"\",ROW())","v":23},null,null,{"$f":"IF(COUNTIF('PLANNING PRINCIPAL'!$I$324:$X$324,P23)>=1,\"\",ROW())","v":23},null,null,{"$f":"IF(COUNTIF('PLANNING PRINCIPAL'!$I$328:$X$328,S23)>=1,\"\",ROW())","v":23},null,null,{"$f":"IF(COUNTIF('PLANNING PRINCIPAL'!$I$330:$X$330,V23)>=1,\"\",ROW())","v":23}]
[null,{"$f":"IF(COUNTIF('PLANNING PRINCIPAL'!$I$309:$X$309,A24)>=1,\"\",ROW())","v":24},null,null,{"$f":"IF(COUNTIF('PLANNING PRINCIPAL'!$I$312:$X$312,D24)>=1,\"\",ROW())","v":24},null,null,{"$f":"IF(COUNTIF('PLANNING PRINCIPAL'!$I$315:$X$315,G24)>=1,\"\",ROW())","v":24},null,null,{"$f":"IF(COUNTIF('PLANNING PRINCIPAL'!$I$318:$X$318,J24)>=1,\"\",ROW())","v":24},null,null,{"$f":"IF(COUNTIF('PLANNING PRINCIPAL'!$I$321:$X$321,M24)>=1,\"\",ROW())","v":24},null,null,{"$f":"IF(COUNTIF('PLANNING PRINCIPAL'!$I$324:$X$324,P24)>=1,\"\",ROW())","v":24},null,null,{"$f":"IF(COUNTIF('PLANNING PRINCIPAL'!$I$328:$X$328,S24)>=1,\"\",ROW())","v":24},null,null,{"$f":"IF(COUNTIF('PLANNING PRINCIPAL'!$I$330:$X$330,V24)>=1,\"\",ROW())","v":24}]
[null,{"$f":"IF(COUNTIF('PLANNING PRINCIPAL'!$I$309:$X$309,A25)>=1,\"\",ROW())","v":25},null,null,{"$f":"IF(COUNTIF('PLANNING PRINCIPAL'!$I$312:$X$312,D25)>=1,\"\",ROW())","v":25},null,null,{"$f":"IF(COUNTIF('PLANNING PRINCIPAL'!$I$315:$X$315,G25)>=1,\"\",ROW())","v":25},null,null,{"$f":"IF(COUNTIF('PLANNING PRINCIPAL'!$I$318:$X$318,J25)>=1,\"\",ROW())","v":25},null,null,{"$f":"IF(COUNTIF('PLANNING PRINCIPAL'!$I$321:$X$321,M25)>=1,\"\",ROW())","v":25},null,null,{"$f":"IF(COUNTIF('PLANNING PRINCIPAL'!$I$324:$X$324,P25)>=1,\"\",ROW())","v":25},null,null,{"$f":"IF(COUNTIF('PLANNING PRINCIPAL'!$I$328:$X$328,S25)>=1,\"\",ROW())","v":25},null,null,{"$f":"IF(COUNTIF('PLANNING PRINCIPAL'!$I$330:$X$330,V25)>=1,\"\",ROW())","v":25}]
[null,{"$f":"IF(COUNTIF('PLANNING PRINCIPAL'!$I$309:$X$309,A26)>=1,\"\",ROW())","v":26},null,null,{"$f":"IF(COUNTIF('PLANNING PRINCIPAL'!$I$312:$X$312,D26)>=1,\"\",ROW())","v":26},null,null,{"$f":"IF(COUNTIF('PLANNING PRINCIPAL'!$I$315:$X$315,G26)>=1,\"\",ROW())","v":26},null,null,{"$f":"IF(COUNTIF('PLANNING PRINCIPAL'!$I$318:$X$318,J26)>=1,\"\",ROW())","v":26},null,null,{"$f":"IF(COUNTIF('PLANNING PRINCIPAL'!$I$321:$X$321,M26)>=1,\"\",ROW())","v":26},null,null,{"$f":"IF(COUNTIF('PLANNING PRINCIPAL'!$I$324:$X$324,P26)>=1,\"\",ROW())","v":26},null,null,{"$f":"IF(COUNTIF('PLANNING PRINCIPAL'!$I$328:$X$328,S26)>=1,\"\",ROW())","v":26},null,null,{"$f":"IF(COUNTIF('PLANNING PRINCIPAL'!$I$330:$X$330,V26)>=1,\"\",ROW())","v":26}]
[null,{"$f":"IF(COUNTIF('PLANNING PRINCIPAL'!$I$309:$X$309,A27)>=1,\"\",ROW())","v":27},null,null,{"$f":"IF(COUNTIF('PLANNING PRINCIPAL'!$I$312:$X$312,D27)>=1,\"\",ROW())","v":27},null,null,{"$f":"IF(COUNTIF('PLANNING PRINCIPAL'!$I$315:$X$315,G27)>=1,\"\",ROW())","v":27},null,null,{"$f":"IF(COUNTIF('PLANNING PRINCIPAL'!$I$318:$X$318,J27)>=1,\"\",ROW())","v":27},null,null,{"$f":"IF(COUNTIF('PLANNING PRINCIPAL'!$I$321:$X$321,M27)>=1,\"\",ROW())","v":27},null,null,{"$f":"IF(COUNTIF('PLANNING PRINCIPAL'!$I$324:$X$324,P27)>=1,\"\",ROW())","v":27},null,null,{"$f":"IF(COUNTIF('PLANNING PRINCIPAL'!$I$328:$X$328,S27)>=1,\"\",ROW())","v":27},null,null,{"$f":"IF(COUNTIF('PLANNING PRINCIPAL'!$I$330:$X$330,V27)>=1,\"\",ROW())","v":27}]
[null,{"$f":"IF(COUNTIF('PLANNING PRINCIPAL'!$I$309:$X$309,A28)>=1,\"\",ROW())","v":28},null,null,{"$f":"IF(COUNTIF('PLANNING PRINCIPAL'!$I$312:$X$312,D28)>=1,\"\",ROW())","v":28},null,null,{"$f":"IF(COUNTIF('PLANNING PRINCIPAL'!$I$315:$X$315,G28)>=1,\"\",ROW())","v":28},null,null,{"$f":"IF(COUNTIF('PLANNING PRINCIPAL'!$I$318:$X$318,J28)>=1,\"\",ROW())","v":28},null,null,{"$f":"IF(COUNTIF('PLANNING PRINCIPAL'!$I$321:$X$321,M28)>=1,\"\",ROW())","v":28},null,null,{"$f":"IF(COUNTIF('PLANNING PRINCIPAL'!$I$324:$X$324,P28)>=1,\"\",ROW())","v":28},null,null,{"$f":"IF(COUNTIF('PLANNING PRINCIPAL'!$I$328:$X$328,S28)>=1,\"\",ROW())","v":28},null,null,{"$f":"IF(COUNTIF('PLANNING PRINCIPAL'!$I$330:$X$330,V28)>=1,\"\",ROW())","v":28}]
[null,{"$f":"IF(COUNTIF('PLANNING PRINCIPAL'!$I$309:$X$309,A29)>=1,\"\",ROW())","v":29},null,null,{"$f":"IF(COUNTIF('PLANNING PRINCIPAL'!$I$312:$X$312,D29)>=1,\"\",ROW())","v":29},null,null,{"$f":"IF(COUNTIF('PLANNING PRINCIPAL'!$I$315:$X$315,G29)>=1,\"\",ROW())","v":29},null,null,{"$f":"IF(COUNTIF('PLANNING PRINCIPAL'!$I$318:$X$318,J29)>=1,\"\",ROW())","v":29},null,null,{"$f":"IF(COUNTIF('PLANNING PRINCIPAL'!$I$321:$X$321,M29)>=1,\"\",ROW())","v":29},null,null,{"$f":"IF(COUNTIF('PLANNING PRINCIPAL'!$I$324:$X$324,P29)>=1,\"\",ROW())","v":29},null,null,{"$f":"IF(COUNTIF('PLANNING PRINCIPAL'!$I$328:$X$328,S29)>=1,\"\",ROW())","v":29},null,null,{"$f":"IF(COUNTIF('PLANNING PRINCIPAL'!$I$330:$X$330,V29)>=1,\"\",ROW())","v":29}]
[null,{"$f":"IF(COUNTIF('PLANNING PRINCIPAL'!$I$309:$X$309,A30)>=1,\"\",ROW())","v":30},null,null,{"$f":"IF(COUNTIF('PLANNING PRINCIPAL'!$I$312:$X$312,D30)>=1,\"\",ROW())","v":30},null,null,{"$f":"IF(COUNTIF('PLANNING PRINCIPAL'!$I$315:$X$315,G30)>=1,\"\",ROW())","v":30},null,null,{"$f":"IF(COUNTIF('PLANNING PRINCIPAL'!$I$318:$X$318,J30)>=1,\"\",ROW())","v":30},null,null,{"$f":"IF(COUNTIF('PLANNING PRINCIPAL'!$I$321:$X$321,M30)>=1,\"\",ROW())","v":30},null,null,{"$f":"IF(COUNTIF('PLANNING PRINCIPAL'!$I$324:$X$324,P30)>=1,\"\",ROW())","v":30},null,null,{"$f":"IF(COUNTIF('PLANNING PRINCIPAL'!$I$328:$X$328,S30)>=1,\"\",ROW())","v":30},null,null,{"$f":"IF(COUNTIF('PLANNING PRINCIPAL'!$I$330:$X$330,V30)>=1,\"\",ROW())","v":30}]
[null,{"$f":"IF(COUNTIF('PLANNING PRINCIPAL'!$I$309:$X$309,A31)>=1,\"\",ROW())","v":31},null,null,{"$f":"IF(COUNTIF('PLANNING PRINCIPAL'!$I$312:$X$312,D31)>=1,\"\",ROW())","v":31},null,null,{"$f":"IF(COUNTIF('PLANNING PRINCIPAL'!$I$315:$X$315,G31)>=1,\"\",ROW())","v":31},null,null,{"$f":"IF(COUNTIF('PLANNING PRINCIPAL'!$I$318:$X$318,J31)>=1,\"\",ROW())","v":31},null,null,{"$f":"IF(COUNTIF('PLANNING PRINCIPAL'!$I$321:$X$321,M31)>=1,\"\",ROW())","v":31},null,null,{"$f":"IF(COUNTIF('PLANNING PRINCIPAL'!$I$324:$X$324,P31)>=1,\"\",ROW())","v":31},null,null,{"$f":"IF(COUNTIF('PLANNING PRINCIPAL'!$I$328:$X$328,S31)>=1,\"\",ROW())","v":31},null,null,{"$f":"IF(COUNTIF('PLANNING PRINCIPAL'!$I$330:$X$330,V31)>=1,\"\",ROW())","v":31}]
[null,{"$f":"IF(COUNTIF('PLANNING PRINCIPAL'!$I$309:$X$309,A32)>=1,\"\",ROW())","v":32},null,null,{"$f":"IF(COUNTIF('PLANNING PRINCIPAL'!$I$312:$X$312,D32)>=1,\"\",ROW())","v":32},null,null,{"$f":"IF(COUNTIF('PLANNING PRINCIPAL'!$I$315:$X$315,G32)>=1,\"\",ROW())","v":32},null,null,{"$f":"IF(COUNTIF('PLANNING PRINCIPAL'!$I$318:$X$318,J32)>=1,\"\",ROW())","v":32},null,null,{"$f":"IF(COUNTIF('PLANNING PRINCIPAL'!$I$321:$X$321,M32)>=1,\"\",ROW())","v":32},null,null,{"$f":"IF(COUNTIF('PLANNING PRINCIPAL'!$I$324:$X$324,P32)>=1,\"\",ROW())","v":32},null,null,{"$f":"IF(COUNTIF('PLANNING PRINCIPAL'!$I$328:$X$328,S32)>=1,\"\",ROW())","v":32},null,null,{"$f":"IF(COUNTIF('PLANNING PRINCIPAL'!$I$330:$X$330,V32)>=1,\"\",ROW())","v":32}]
[null,{"$f":"IF(COUNTIF('PLANNING PRINCIPAL'!$I$309:$X$309,A33)>=1,\"\",ROW())","v":33},null,null,{"$f":"IF(COUNTIF('PLANNING PRINCIPAL'!$I$312:$X$312,D33)>=1,\"\",ROW())","v":33},null,null,{"$f":"IF(COUNTIF('PLANNING PRINCIPAL'!$I$315:$X$315,G33)>=1,\"\",ROW())","v":33},null,null,{"$f":"IF(COUNTIF('PLANNING PRINCIPAL'!$I$318:$X$318,J33)>=1,\"\",ROW())","v":33},null,null,{"$f":"IF(COUNTIF('PLANNING PRINCIPAL'!$I$321:$X$321,M33)>=1,\"\",ROW())","v":33},null,null,{"$f":"IF(COUNTIF('PLANNING PRINCIPAL'!$I$324:$X$324,P33)>=1,\"\",ROW())","v":33},null,null,{"$f":"IF(COUNTIF('PLANNING PRINCIPAL'!$I$328:$X$328,S33)>=1,\"\",ROW())","v":33},null,null,{"$f":"IF(COUNTIF('PLANNING PRINCIPAL'!$I$330:$X$330,V33)>=1,\"\",ROW())","v":33}]
[null,{"$f":"IF(COUNTIF('PLANNING PRINCIPAL'!$I$309:$X$309,A34)>=1,\"\",ROW())","v":34},null,null,{"$f":"IF(COUNTIF('PLANNING PRINCIPAL'!$I$312:$X$312,D34)>=1,\"\",ROW())","v":34},null,null,{"$f":"IF(COUNTIF('PLANNING PRINCIPAL'!$I$315:$X$315,G34)>=1,\"\",ROW())","v":34},null,null,{"$f":"IF(COUNTIF('PLANNING PRINCIPAL'!$I$318:$X$318,J34)>=1,\"\",ROW())","v":34},null,null,{"$f":"IF(COUNTIF('PLANNING PRINCIPAL'!$I$321:$X$321,M34)>=1,\"\",ROW())","v":34},null,null,{"$f":"IF(COUNTIF('PLANNING PRINCIPAL'!$I$324:$X$324,P34)>=1,\"\",ROW())","v":34},null,null,{"$f":"IF(COUNTIF('PLANNING PRINCIPAL'!$I$328:$X$328,S34)>=1,\"\",ROW())","v":34},null,null,{"$f":"IF(COUNTIF('PLANNING PRINCIPAL'!$I$330:$X$330,V34)>=1,\"\",ROW())","v":34}]
["LUNDI",null,null,"MARDI",null,null,"MERCREDI",null,null,"JEUDI",null,null,"VENDREDI",null,null,"SAMEDI",null,null,"DIMANCHE",null,null,"ASTREINTE"]

{"sheet":"DATA S15","index":16,"n_rows":35,"n_cols":24,"rows_kept":35,"cut":false,"hidden":false,"merged":[[34,18,34,20],[34,21,34,23],[34,0,34,2],[34,3,34,5],[34,6,34,8],[34,9,34,11],[34,12,34,14],[34,15,34,17]]}
[{"$f":"'DATA S1'!A1","v":"MAS XX "},{"$f":"IF(COUNTIF('PLANNING PRINCIPAL'!$I$332:$X$332,A1)>=1,\"\",ROW())","v":1},{"$f":"IF(ROW(A1)-ROW(A$1)+1>COUNT(B:B),\"\", INDEX(A:A,SMALL(B:B,1+ROW(A1)-ROW(A$1))))","v":"MAS XX "},{"$f":"A1","v":"MAS XX "},{"$f":"IF(COUNTIF('PLANNING PRINCIPAL'!$I$335:$X$335,D1)>=1,\"\",ROW())","v":1},{"$f":"IF(ROW(D1)-ROW(D$1)+1>COUNT(E:E),\"\", INDEX(D:D,SMALL(E:E,1+ROW(D1)-ROW(D$1))))","v":"MAS XX "},{"$f":"A1","v":"MAS XX "},{"$f":"IF(COUNTIF('PLANNING PRINCIPAL'!$I$338:$X$338,G1)>=1,\"\",ROW())","v":1},{"$f":"IF(ROW(G1)-ROW(G$1)+1>COUNT(H:H),\"\", INDEX(G:G,SMALL(H:H,1+ROW(G1)-ROW(G$1))))","v":"MAS XX "},{"$f":"A1","v":"MAS XX "},{"$f":"IF(COUNTIF('PLANNING PRINCIPAL'!$I$341:$X$341,J1)>=1,\"\",ROW())","v":1},{"$f":"IF(ROW(J1)-ROW(J$1)+1>COUNT(K:K),\"\", INDEX(J:J,SMALL(K:K,1+ROW(J1)-ROW(J$1))))","v":"MAS XX "},{"$f":"A1","v":"MAS XX "},{"$f":"IF(COUNTIF('PLANNING PRINCIPAL'!$I$344:$X$344,M1)>=1,\"\",ROW())","v":1},{"$f":"IF(ROW(M1)-ROW(M$1)+1>COUNT(N:N),\"\", INDEX(M:M,SMALL(N:N,1+ROW(M1)-ROW(M$1))))","v":"MAS XX "},{"$f":"A1","v":"MAS XX "},{"$f":"IF(COUNTIF('PLANNING PRINCIPAL'!$I$347:$X$347,P1)>=1,\"\",ROW())","v":1},{"$f":"IF(ROW(P1)-ROW(P$1)+1>COUNT(Q:Q),\"\", INDEX(P:P,SMALL(Q:Q,1+ROW(P1)-ROW(P$1))))","v":"MAS XX "},{"$f":"A1","v":"MAS XX "},{"$f":"IF(COUNTIF('PLANNING PRINCIPAL'!$I$350:$X$350,S1)>=1,\"\",ROW())","v":1},{"$f":"IF(ROW(S1)-ROW(S$1)+1>COUNT(T:T),\"\", INDEX(S:S,SMALL(T:T,1+ROW(S1)-ROW(S$1))))","v":"MAS XX "},{"$f":"'DATA S1'!V1","v":"ASTREINTE SLT"},{"$f":"IF(COUNTIF('PLANNING PRINCIPAL'!$I$352:$X$352,V1)>=1,\"\",ROW())","v":1},{"$f":"IF(ROW(V1)-ROW(V$1)+1>COUNT(W:W),\"\", INDEX(V:V,SMALL(W:W,1+ROW(V1)-ROW(V$1))))","v":"ASTREINTE SLT"}]
[{"$f":"'DATA S1'!A2","v":"MAS YY "},{"$f":"IF(COUNTIF('PLANNING PRINCIPAL'!$I$332:$X$332,A2)>=1,\"\",ROW())","v":2},{"$f":"IF(ROW(A2)-ROW(A$1)+1>COUNT(B:B),\"\", INDEX(A:A,SMALL(B:B,1+ROW(A2)-ROW(A$1))))","v":"MAS YY "},"MAS YY ",{"$f":"IF(COUNTIF('PLANNING PRINCIPAL'!$I$335:$X$335,D2)>=1,\"\",ROW())","v":2},{"$f":"IF(ROW(D2)-ROW(D$1)+1>COUNT(E:E),\"\", INDEX(D:D,SMALL(E:E,1+ROW(D2)-ROW(D$1))))","v":"MAS YY "},{"$f":"A2","v":"MAS YY "},{"$f":"IF(COUNTIF('PLANNING PRINCIPAL'!$I$338:$X$338,G2)>=1,\"\",ROW())","v":2},{"$f":"IF(ROW(G2)-ROW(G$1)+1>COUNT(H:H),\"\", INDEX(G:G,SMALL(H:H,1+ROW(G2)-ROW(G$1))))","v":"MAS YY "},{"$f":"A2","v":"MAS YY "},{"$f":"IF(COUNTIF('PLANNING PRINCIPAL'!$I$341:$X$341,J2)>=1,\"\",ROW())","v":2},{"$f":"IF(ROW(J2)-ROW(J$1)+1>COUNT(K:K),\"\", INDEX(J:J,SMALL(K:K,1+ROW(J2)-ROW(J$1))))","v":"MAS YY "},{"$f":"A2","v":"MAS YY "},{"$f":"IF(COUNTIF('PLANNING PRINCIPAL'!$I$344:$X$344,M2)>=1,\"\",ROW())","v":2},{"$f":"IF(ROW(M2)-ROW(M$1)+1>COUNT(N:N),\"\", INDEX(M:M,SMALL(N:N,1+ROW(M2)-ROW(M$1))))","v":"MAS YY "},{"$f":"A2","v":"MAS YY "},{"$f":"IF(COUNTIF('PLANNING PRINCIPAL'!$I$347:$X$347,P2)>=1,\"\",ROW())","v":2},{"$f":"IF(ROW(P2)-ROW(P$1)+1>COUNT(Q:Q),\"\", INDEX(P:P,SMALL(Q:Q,1+ROW(P2)-ROW(P$1))))","v":"MAS YY "},{"$f":"A2","v":"MAS YY "},{"$f":"IF(COUNTIF('PLANNING PRINCIPAL'!$I$350:$X$350,S2)>=1,\"\",ROW())","v":2},{"$f":"IF(ROW(S2)-ROW(S$1)+1>COUNT(T:T),\"\", INDEX(S:S,SMALL(T:T,1+ROW(S2)-ROW(S$1))))","v":"MAS YY "},{"$f":"'DATA S1'!V2","v":"ASTREINTE EP"},{"$f":"IF(COUNTIF('PLANNING PRINCIPAL'!$I$352:$X$352,V2)>=1,\"\",ROW())","v":2},{"$f":"IF(ROW(V2)-ROW(V$1)+1>COUNT(W:W),\"\", INDEX(V:V,SMALL(W:W,1+ROW(V2)-ROW(V$1))))","v":"ASTREINTE EP"}]
[{"$f":"'DATA S1'!A3","v":"MAS VQ "},{"$f":"IF(COUNTIF('PLANNING PRINCIPAL'!$I$332:$X$332,A3)>=1,\"\",ROW())","v":3},"MAS VQ ","MAS VQ ",{"$f":"IF(COUNTIF('PLANNING PRINCIPAL'!$I$335:$X$335,D3)>=1,\"\",ROW())","v":3},"MAS VQ ","MAS VQ ",{"$f":"IF(COUNTIF('PLANNING PRINCIPAL'!$I$338:$X$338,G3)>=1,\"\",ROW())","v":3},"MAS VQ ","MAS VQ ",{"$f":"IF(COUNTIF('PLANNING PRINCIPAL'!$I$341:$X$341,J3)>=1,\"\",ROW())","v":3},"MAS VQ ","MAS VQ ",{"$f":"IF(COUNTIF('PLANNING PRINCIPAL'!$I$344:$X$344,M3)>=1,\"\",ROW())","v":3},"MAS VQ ","MAS VQ ",{"$f":"IF(COUNTIF('PLANNING PRINCIPAL'!$I$347:$X$347,P3)>=1,\"\",ROW())","v":3},"MAS VQ ","MAS VQ ",{"$f":"IF(COUNTIF('PLANNING PRINCIPAL'!$I$350:$X$350,S3)>=1,\"\",ROW())","v":3},"MAS VQ ",{"$f":"'DATA S1'!V3","v":"V NOC CHARTRES"},{"$f":"IF(COUNTIF('PLANNING PRINCIPAL'!$I$352:$X$352,V3)>=1,\"\",ROW())","v":3},"V NOC CHARTRES"]
[{"$f":"'DATA S1'!A4","v":"MAS PL "},{"$f":"IF(COUNTIF('PLANNING PRINCIPAL'!$I$332:$X$332,A4)>=1,\"\",ROW())","v":4},"MAS PL ","MAS PL ",{"$f":"IF(COUNTIF('PLANNING PRINCIPAL'!$I$335:$X$335,D4)>=1,\"\",ROW())","v":4},"MAS PL ","MAS PL ",{"$f":"IF(COUNTIF('PLANNING PRINCIPAL'!$I$338:$X$338,G4)>=1,\"\",ROW())","v":4},"MAS PL ","MAS PL ",{"$f":"IF(COUNTIF('PLANNING PRINCIPAL'!$I$341:$X$341,J4)>=1,\"\",ROW())","v":4},"MAS PL ","MAS PL ",{"$f":"IF(COUNTIF('PLANNING PRINCIPAL'!$I$344:$X$344,M4)>=1,\"\",ROW())","v":4},"MAS PL ","MAS PL ",{"$f":"IF(COUNTIF('PLANNING PRINCIPAL'!$I$347:$X$347,P4)>=1,\"\",ROW())","v":4},"MAS PL ","MAS PL ",{"$f":"IF(COUNTIF('PLANNING PRINCIPAL'!$I$350:$X$350,S4)>=1,\"\",ROW())","v":4},"MAS PL ",{"$f":"'DATA S1'!V4","v":"V NOC EPERNON"},{"$f":"IF(COUNTIF('PLANNING PRINCIPAL'!$I$352:$X$352,V4)>=1,\"\",ROW())","v":4},"V NOC EPERNON"]
[{"$f":"'DATA S1'!A5","v":"BEN VL PT "},{"$f":"IF(COUNTIF('PLANNING PRINCIPAL'!$I$332:$X$332,A5)>=1,\"\",ROW())","v":5},"BEN VL PT ","BEN VL PT ",{"$f":"IF(COUNTIF('PLANNING PRINCIPAL'!$I$335:$X$335,D5)>=1,\"\",ROW())","v":5},"BEN VL PT ","BEN VL PT ",{"$f":"IF(COUNTIF('PLANNING PRINCIPAL'!$I$338:$X$338,G5)>=1,\"\",ROW())","v":5},"BEN VL PT ","BEN VL PT ",{"$f":"IF(COUNTIF('PLANNING PRINCIPAL'!$I$341:$X$341,J5)>=1,\"\",ROW())","v":5},"BEN VL PT ","BEN VL PT ",{"$f":"IF(COUNTIF('PLANNING PRINCIPAL'!$I$344:$X$344,M5)>=1,\"\",ROW())","v":5},"BEN VL PT ","BEN VL PT ",{"$f":"IF(COUNTIF('PLANNING PRINCIPAL'!$I$347:$X$347,P5)>=1,\"\",ROW())","v":5},"BEN VL PT ","BEN VL PT ",{"$f":"IF(COUNTIF('PLANNING PRINCIPAL'!$I$350:$X$350,S5)>=1,\"\",ROW())","v":5},"BEN VL PT ",{"$f":"'DATA S1'!V5","v":"V NOC HANCHES"},{"$f":"IF(COUNTIF('PLANNING PRINCIPAL'!$I$352:$X$352,V5)>=1,\"\",ROW())","v":5},"V NOC HANCHES"]
[{"$f":"'DATA S1'!A6","v":"BEN 19T "},{"$f":"IF(COUNTIF('PLANNING PRINCIPAL'!$I$332:$X$332,A6)>=1,\"\",ROW())","v":6},"BEN 19T ","BEN 19T ",{"$f":"IF(COUNTIF('PLANNING PRINCIPAL'!$I$335:$X$335,D6)>=1,\"\",ROW())","v":6},"BEN 19T ","BEN 19T ",{"$f":"IF(COUNTIF('PLANNING PRINCIPAL'!$I$338:$X$338,G6)>=1,\"\",ROW())","v":6},"BEN 19T ","BEN 19T ",{"$f":"IF(COUNTIF('PLANNING PRINCIPAL'!$I$341:$X$341,J6)>=1,\"\",ROW())","v":6},"BEN 19T ","BEN 19T ",{"$f":"IF(COUNTIF('PLANNING PRINCIPAL'!$I$344:$X$344,M6)>=1,\"\",ROW())","v":6},"BEN 19T ","BEN 19T ",{"$f":"IF(COUNTIF('PLANNING PRINCIPAL'!$I$347:$X$347,P6)>=1,\"\",ROW())","v":6},"BEN 19T ","BEN 19T ",{"$f":"IF(COUNTIF('PLANNING PRINCIPAL'!$I$350:$X$350,S6)>=1,\"\",ROW())","v":6},"BEN 19T ",{"$f":"'DATA S1'!V6","v":"V NOC MAINTENON"},{"$f":"IF(COUNTIF('PLANNING PRINCIPAL'!$I$352:$X$352,V6)>=1,\"\",ROW())","v":6},"V NOC MAINTENON"]
[{"$f":"'DATA S1'!A7","v":"BEN 13T "},{"$f":"IF(COUNTIF('PLANNING PRINCIPAL'!$I$332:$X$332,A7)>=1,\"\",ROW())","v":7},"BEN 13T ","BEN 13T ",{"$f":"IF(COUNTIF('PLANNING PRINCIPAL'!$I$335:$X$335,D7)>=1,\"\",ROW())","v":7},"BEN 13T ","BEN 13T ",{"$f":"IF(COUNTIF('PLANNING PRINCIPAL'!$I$338:$X$338,G7)>=1,\"\",ROW())","v":7},"BEN 13T ","BEN 13T ",{"$f":"IF(COUNTIF('PLANNING PRINCIPAL'!$I$341:$X$341,J7)>=1,\"\",ROW())","v":7},"BEN 13T ","BEN 13T ",{"$f":"IF(COUNTIF('PLANNING PRINCIPAL'!$I$344:$X$344,M7)>=1,\"\",ROW())","v":7},"BEN 13T ","BEN 13T ",{"$f":"IF(COUNTIF('PLANNING PRINCIPAL'!$I$347:$X$347,P7)>=1,\"\",ROW())","v":7},"BEN 13T ","BEN 13T ",{"$f":"IF(COUNTIF('PLANNING PRINCIPAL'!$I$350:$X$350,S7)>=1,\"\",ROW())","v":7},"BEN 13T ",null,{"$f":"IF(COUNTIF('PLANNING PRINCIPAL'!$I$330:$X$330,V7)>=1,\"\",ROW())","v":7}]
[{"$f":"'DATA S1'!A8","v":"NAC VL 18M "},{"$f":"IF(COUNTIF('PLANNING PRINCIPAL'!$I$332:$X$332,A8)>=1,\"\",ROW())","v":8},"NAC VL 18M ","NAC VL 18M ",{"$f":"IF(COUNTIF('PLANNING PRINCIPAL'!$I$335:$X$335,D8)>=1,\"\",ROW())","v":8},"NAC VL 18M ","NAC VL 18M ",{"$f":"IF(COUNTIF('PLANNING PRINCIPAL'!$I$338:$X$338,G8)>=1,\"\",ROW())","v":8},"NAC VL 18M ","NAC VL 18M ",{"$f":"IF(COUNTIF('PLANNING PRINCIPAL'!$I$341:$X$341,J8)>=1,\"\",ROW())","v":8},"NAC VL 18M ","NAC VL 18M ",{"$f":"IF(COUNTIF('PLANNING PRINCIPAL'!$I$344:$X$344,M8)>=1,\"\",ROW())","v":8},"NAC VL 18M ","NAC VL 18M ",{"$f":"IF(COUNTIF('PLANNING PRINCIPAL'!$I$347:$X$347,P8)>=1,\"\",ROW())","v":8},"NAC VL 18M ","NAC VL 18M ",{"$f":"IF(COUNTIF('PLANNING PRINCIPAL'!$I$350:$X$350,S8)>=1,\"\",ROW())","v":8},"NAC VL 18M ",null,{"$f":"IF(COUNTIF('PLANNING PRINCIPAL'!$I$330:$X$330,V8)>=1,\"\",ROW())","v":8}]
[{"$f":"'DATA S1'!A9","v":"NAC EGIE"},{"$f":"IF(COUNTIF('PLANNING PRINCIPAL'!$I$332:$X$332,A9)>=1,\"\",ROW())","v":9},"NAC EGIE","NAC EGIE",{"$f":"IF(COUNTIF('PLANNING PRINCIPAL'!$I$335:$X$335,D9)>=1,\"\",ROW())","v":9},"NAC EGIE","NAC EGIE",{"$f":"IF(COUNTIF('PLANNING PRINCIPAL'!$I$338:$X$338,G9)>=1,\"\",ROW())","v":9},"NAC EGIE","NAC EGIE",{"$f":"IF(COUNTIF('PLANNING PRINCIPAL'!$I$341:$X$341,J9)>=1,\"\",ROW())","v":9},"NAC EGIE","NAC EGIE",{"$f":"IF(COUNTIF('PLANNING PRINCIPAL'!$I$344:$X$344,M9)>=1,\"\",ROW())","v":9},"NAC EGIE","NAC EGIE",{"$f":"IF(COUNTIF('PLANNING PRINCIPAL'!$I$347:$X$347,P9)>=1,\"\",ROW())","v":9},"NAC EGIE","NAC EGIE",{"$f":"IF(COUNTIF('PLANNING PRINCIPAL'!$I$350:$X$350,S9)>=1,\"\",ROW())","v":9},"NAC EGIE",null,{"$f":"IF(COUNTIF('PLANNING PRINCIPAL'!$I$330:$X$330,V9)>=1,\"\",ROW())","v":9}]
[{"$f":"'DATA S1'!A10","v":"NAC COMI "},{"$f":"IF(COUNTIF('PLANNING PRINCIPAL'!$I$332:$X$332,A10)>=1,\"\",ROW())","v":10},"NAC COMI ","NAC COMI ",{"$f":"IF(COUNTIF('PLANNING PRINCIPAL'!$I$335:$X$335,D10)>=1,\"\",ROW())","v":10},"NAC COMI ","NAC COMI ",{"$f":"IF(COUNTIF('PLANNING PRINCIPAL'!$I$338:$X$338,G10)>=1,\"\",ROW())","v":10},"NAC COMI ","NAC COMI ",{"$f":"IF(COUNTIF('PLANNING PRINCIPAL'!$I$341:$X$341,J10)>=1,\"\",ROW())","v":10},"NAC COMI ","NAC COMI ",{"$f":"IF(COUNTIF('PLANNING PRINCIPAL'!$I$344:$X$344,M10)>=1,\"\",ROW())","v":10},"NAC COMI ","NAC COMI ",{"$f":"IF(COUNTIF('PLANNING PRINCIPAL'!$I$347:$X$347,P10)>=1,\"\",ROW())","v":10},"NAC COMI ","NAC COMI ",{"$f":"IF(COUNTIF('PLANNING PRINCIPAL'!$I$350:$X$350,S10)>=1,\"\",ROW())","v":10},"NAC COMI ",null,{"$f":"IF(COUNTIF('PLANNING PRINCIPAL'!$I$330:$X$330,V10)>=1,\"\",ROW())","v":10}]
[{"$f":"'DATA S1'!A11","v":"#####LOCATION#####"},{"$f":"IF(COUNTIF('PLANNING PRINCIPAL'!$I$332:$X$332,A11)>=1,\"\",ROW())","v":11},"#####LOCATION#####","#####LOCATION#####",{"$f":"IF(COUNTIF('PLANNING PRINCIPAL'!$I$335:$X$335,D11)>=1,\"\",ROW())","v":11},"#####LOCATION#####","#####LOCATION#####",{"$f":"IF(COUNTIF('PLANNING PRINCIPAL'!$I$338:$X$338,G11)>=1,\"\",ROW())","v":11},"#####LOCATION#####","#####LOCATION#####",{"$f":"IF(COUNTIF('PLANNING PRINCIPAL'!$I$341:$X$341,J11)>=1,\"\",ROW())","v":11},"#####LOCATION#####","#####LOCATION#####",{"$f":"IF(COUNTIF('PLANNING PRINCIPAL'!$I$344:$X$344,M11)>=1,\"\",ROW())","v":11},"#####LOCATION#####","#####LOCATION#####",{"$f":"IF(COUNTIF('PLANNING PRINCIPAL'!$I$347:$X$347,P11)>=1,\"\",ROW())","v":11},"#####LOCATION#####","#####LOCATION#####",{"$f":"IF(COUNTIF('PLANNING PRINCIPAL'!$I$350:$X$350,S11)>=1,\"\",ROW())","v":11},"#####LOCATION#####",null,{"$f":"IF(COUNTIF('PLANNING PRINCIPAL'!$I$330:$X$330,V11)>=1,\"\",ROW())","v":11}]
[{"$f":"'DATA S1'!A12","v":"LOC NAC SOLOMAT"},{"$f":"IF(COUNTIF('PLANNING PRINCIPAL'!$I$332:$X$332,A12)>=1,\"\",ROW())","v":12},"LOC NAC SOLOMAT","LOC NAC SOLOMAT",{"$f":"IF(COUNTIF('PLANNING PRINCIPAL'!$I$335:$X$335,D12)>=1,\"\",ROW())","v":12},"LOC NAC SOLOMAT","LOC NAC SOLOMAT",{"$f":"IF(COUNTIF('PLANNING PRINCIPAL'!$I$338:$X$338,G12)>=1,\"\",ROW())","v":12},"LOC NAC SOLOMAT","LOC NAC SOLOMAT",{"$f":"IF(COUNTIF('PLANNING PRINCIPAL'!$I$341:$X$341,J12)>=1,\"\",ROW())","v":12},"LOC NAC SOLOMAT","LOC NAC SOLOMAT",{"$f":"IF(COUNTIF('PLANNING PRINCIPAL'!$I$344:$X$344,M12)>=1,\"\",ROW())","v":12},"LOC NAC SOLOMAT","LOC NAC SOLOMAT",{"$f":"IF(COUNTIF('PLANNING PRINCIPAL'!$I$347:$X$347,P12)>=1,\"\",ROW())","v":12},"LOC NAC SOLOMAT","LOC NAC SOLOMAT",{"$f":"IF(COUNTIF('PLANNING PRINCIPAL'!$I$350:$X$350,S12)>=1,\"\",ROW())","v":12},"LOC NAC SOLOMAT",null,{"$f":"IF(COUNTIF('PLANNING PRINCIPAL'!$I$330:$X$330,V12)>=1,\"\",ROW())","v":12}]
[{"$f":"'DATA S1'!A13","v":"LOC NAC AEB"},{"$f":"IF(COUNTIF('PLANNING PRINCIPAL'!$I$332:$X$332,A13)>=1,\"\",ROW())","v":13},"LOC NAC AEB","LOC NAC AEB",{"$f":"IF(COUNTIF('PLANNING PRINCIPAL'!$I$335:$X$335,D13)>=1,\"\",ROW())","v":13},"LOC NAC AEB","LOC NAC AEB",{"$f":"IF(COUNTIF('PLANNING PRINCIPAL'!$I$338:$X$338,G13)>=1,\"\",ROW())","v":13},"LOC NAC AEB","LOC NAC AEB",{"$f":"IF(COUNTIF('PLANNING PRINCIPAL'!$I$341:$X$341,J13)>=1,\"\",ROW())","v":13},"LOC NAC AEB","LOC NAC AEB",{"$f":"IF(COUNTIF('PLANNING PRINCIPAL'!$I$344:$X$344,M13)>=1,\"\",ROW())","v":13},"LOC NAC AEB","LOC NAC AEB",{"$f":"IF(COUNTIF('PLANNING PRINCIPAL'!$I$347:$X$347,P13)>=1,\"\",ROW())","v":13},"LOC NAC AEB","LOC NAC AEB",{"$f":"IF(COUNTIF('PLANNING PRINCIPAL'!$I$350:$X$350,S13)>=1,\"\",ROW())","v":13},"LOC NAC AEB",null,{"$f":"IF(COUNTIF('PLANNING PRINCIPAL'!$I$330:$X$330,V13)>=1,\"\",ROW())","v":13}]
[{"$f":"'DATA S1'!A14","v":"LOC NAC INTERLOC"},{"$f":"IF(COUNTIF('PLANNING PRINCIPAL'!$I$332:$X$332,A14)>=1,\"\",ROW())","v":14},"LOC NAC INTERLOC","LOC NAC INTERLOC",{"$f":"IF(COUNTIF('PLANNING PRINCIPAL'!$I$335:$X$335,D14)>=1,\"\",ROW())","v":14},"LOC NAC INTERLOC","LOC NAC INTERLOC",{"$f":"IF(COUNTIF('PLANNING PRINCIPAL'!$I$338:$X$338,G14)>=1,\"\",ROW())","v":14},"LOC NAC INTERLOC","LOC NAC INTERLOC",{"$f":"IF(COUNTIF('PLANNING PRINCIPAL'!$I$341:$X$341,J14)>=1,\"\",ROW())","v":14},"LOC NAC INTERLOC","LOC NAC INTERLOC",{"$f":"IF(COUNTIF('PLANNING PRINCIPAL'!$I$344:$X$344,M14)>=1,\"\",ROW())","v":14},"LOC NAC INTERLOC","LOC NAC INTERLOC",{"$f":"IF(COUNTIF('PLANNING PRINCIPAL'!$I$347:$X$347,P14)>=1,\"\",ROW())","v":14},"LOC NAC INTERLOC","LOC NAC INTERLOC",{"$f":"IF(COUNTIF('PLANNING PRINCIPAL'!$I$350:$X$350,S14)>=1,\"\",ROW())","v":14},"LOC NAC INTERLOC",null,{"$f":"IF(COUNTIF('PLANNING PRINCIPAL'!$I$330:$X$330,V14)>=1,\"\",ROW())","v":14}]
[{"$f":"'DATA S1'!A15","v":"LOC NAC KILOUTOU"},{"$f":"IF(COUNTIF('PLANNING PRINCIPAL'!$I$332:$X$332,A15)>=1,\"\",ROW())","v":15},"LOC NAC KILOUTOU","LOC NAC KILOUTOU",{"$f":"IF(COUNTIF('PLANNING PRINCIPAL'!$I$335:$X$335,D15)>=1,\"\",ROW())","v":15},"LOC NAC KILOUTOU","LOC NAC KILOUTOU",{"$f":"IF(COUNTIF('PLANNING PRINCIPAL'!$I$338:$X$338,G15)>=1,\"\",ROW())","v":15},"LOC NAC KILOUTOU","LOC NAC KILOUTOU",{"$f":"IF(COUNTIF('PLANNING PRINCIPAL'!$I$341:$X$341,J15)>=1,\"\",ROW())","v":15},"LOC NAC KILOUTOU","LOC NAC KILOUTOU",{"$f":"IF(COUNTIF('PLANNING PRINCIPAL'!$I$344:$X$344,M15)>=1,\"\",ROW())","v":15},"LOC NAC KILOUTOU","LOC NAC KILOUTOU",{"$f":"IF(COUNTIF('PLANNING PRINCIPAL'!$I$347:$X$347,P15)>=1,\"\",ROW())","v":15},"LOC NAC KILOUTOU","LOC NAC KILOUTOU",{"$f":"IF(COUNTIF('PLANNING PRINCIPAL'!$I$350:$X$350,S15)>=1,\"\",ROW())","v":15},"LOC NAC KILOUTOU",null,{"$f":"IF(COUNTIF('PLANNING PRINCIPAL'!$I$330:$X$330,V15)>=1,\"\",ROW())","v":15}]
[{"$f":"'DATA S1'!A16","v":"LOC NAC AEB"},{"$f":"IF(COUNTIF('PLANNING PRINCIPAL'!$I$332:$X$332,A16)>=1,\"\",ROW())","v":16},"LOC NAC AEB","LOC NAC AEB",{"$f":"IF(COUNTIF('PLANNING PRINCIPAL'!$I$335:$X$335,D16)>=1,\"\",ROW())","v":16},"LOC NAC AEB","LOC NAC AEB",{"$f":"IF(COUNTIF('PLANNING PRINCIPAL'!$I$338:$X$338,G16)>=1,\"\",ROW())","v":16},"LOC NAC AEB","LOC NAC AEB",{"$f":"IF(COUNTIF('PLANNING PRINCIPAL'!$I$341:$X$341,J16)>=1,\"\",ROW())","v":16},"LOC NAC AEB","LOC NAC AEB",{"$f":"IF(COUNTIF('PLANNING PRINCIPAL'!$I$344:$X$344,M16)>=1,\"\",ROW())","v":16},"LOC NAC AEB","LOC NAC AEB",{"$f":"IF(COUNTIF('PLANNING PRINCIPAL'!$I$347:$X$347,P16)>=1,\"\",ROW())","v":16},"LOC NAC AEB","LOC NAC AEB",{"$f":"IF(COUNTIF('PLANNING PRINCIPAL'!$I$350:$X$350,S16)>=1,\"\",ROW())","v":16},"LOC NAC AEB",null,{"$f":"IF(COUNTIF('PLANNING PRINCIPAL'!$I$330:$X$330,V16)>=1,\"\",ROW())","v":16}]
[{"$f":"'DATA S1'!A17","v":"LOC PELLE SOLOMAT"},{"$f":"IF(COUNTIF('PLANNING PRINCIPAL'!$I$332:$X$332,A17)>=1,\"\",ROW())","v":17},"LOC PELLE SOLOMAT","LOC PELLE SOLOMAT",{"$f":"IF(COUNTIF('PLANNING PRINCIPAL'!$I$335:$X$335,D17)>=1,\"\",ROW())","v":17},"LOC PELLE SOLOMAT","LOC PELLE SOLOMAT",{"$f":"IF(COUNTIF('PLANNING PRINCIPAL'!$I$338:$X$338,G17)>=1,\"\",ROW())","v":17},"LOC PELLE SOLOMAT","LOC PELLE SOLOMAT",{"$f":"IF(COUNTIF('PLANNING PRINCIPAL'!$I$341:$X$341,J17)>=1,\"\",ROW())","v":17},"LOC PELLE SOLOMAT","LOC PELLE SOLOMAT",{"$f":"IF(COUNTIF('PLANNING PRINCIPAL'!$I$344:$X$344,M17)>=1,\"\",ROW())","v":17},"LOC PELLE SOLOMAT","LOC PELLE SOLOMAT",{"$f":"IF(COUNTIF('PLANNING PRINCIPAL'!$I$347:$X$347,P17)>=1,\"\",ROW())","v":17},"LOC PELLE SOLOMAT","LOC PELLE SOLOMAT",{"$f":"IF(COUNTIF('PLANNING PRINCIPAL'!$I$350:$X$350,S17)>=1,\"\",ROW())","v":17},"LOC PELLE SOLOMAT",null,{"$f":"IF(COUNTIF('PLANNING PRINCIPAL'!$I$330:$X$330,V17)>=1,\"\",ROW())","v":17}]
[{"$f":"'DATA S1'!A18","v":"LOC PELLE AEB"},{"$f":"IF(COUNTIF('PLANNING PRINCIPAL'!$I$332:$X$332,A18)>=1,\"\",ROW())","v":18},"LOC PELLE AEB","LOC PELLE AEB",{"$f":"IF(COUNTIF('PLANNING PRINCIPAL'!$I$335:$X$335,D18)>=1,\"\",ROW())","v":18},"LOC PELLE AEB","LOC PELLE AEB",{"$f":"IF(COUNTIF('PLANNING PRINCIPAL'!$I$338:$X$338,G18)>=1,\"\",ROW())","v":18},"LOC PELLE AEB","LOC PELLE AEB",{"$f":"IF(COUNTIF('PLANNING PRINCIPAL'!$I$341:$X$341,J18)>=1,\"\",ROW())","v":18},"LOC PELLE AEB","LOC PELLE AEB",{"$f":"IF(COUNTIF('PLANNING PRINCIPAL'!$I$344:$X$344,M18)>=1,\"\",ROW())","v":18},"LOC PELLE AEB","LOC PELLE AEB",{"$f":"IF(COUNTIF('PLANNING PRINCIPAL'!$I$347:$X$347,P18)>=1,\"\",ROW())","v":18},"LOC PELLE AEB","LOC PELLE AEB",{"$f":"IF(COUNTIF('PLANNING PRINCIPAL'!$I$350:$X$350,S18)>=1,\"\",ROW())","v":18},"LOC PELLE AEB",null,{"$f":"IF(COUNTIF('PLANNING PRINCIPAL'!$I$330:$X$330,V18)>=1,\"\",ROW())","v":18}]
[{"$f":"'DATA S1'!A19","v":"LOC PELLE INTERLOC"},{"$f":"IF(COUNTIF('PLANNING PRINCIPAL'!$I$332:$X$332,A19)>=1,\"\",ROW())","v":19},"LOC PELLE INTERLOC","LOC PELLE INTERLOC",{"$f":"IF(COUNTIF('PLANNING PRINCIPAL'!$I$335:$X$335,D19)>=1,\"\",ROW())","v":19},"LOC PELLE INTERLOC","LOC PELLE INTERLOC",{"$f":"IF(COUNTIF('PLANNING PRINCIPAL'!$I$338:$X$338,G19)>=1,\"\",ROW())","v":19},"LOC PELLE INTERLOC","LOC PELLE INTERLOC",{"$f":"IF(COUNTIF('PLANNING PRINCIPAL'!$I$341:$X$341,J19)>=1,\"\",ROW())","v":19},"LOC PELLE INTERLOC","LOC PELLE INTERLOC",{"$f":"IF(COUNTIF('PLANNING PRINCIPAL'!$I$344:$X$344,M19)>=1,\"\",ROW())","v":19},"LOC PELLE INTERLOC","LOC PELLE INTERLOC",{"$f":"IF(COUNTIF('PLANNING PRINCIPAL'!$I$347:$X$347,P19)>=1,\"\",ROW())","v":19},"LOC PELLE INTERLOC","LOC PELLE INTERLOC",{"$f":"IF(COUNTIF('PLANNING PRINCIPAL'!$I$350:$X$350,S19)>=1,\"\",ROW())","v":19},"LOC PELLE INTERLOC",null,{"$f":"IF(COUNTIF('PLANNING PRINCIPAL'!$I$330:$X$330,V19)>=1,\"\",ROW())","v":19}]
[{"$f":"'DATA S1'!A20","v":"LOC PELLE KILOUTOU"},{"$f":"IF(COUNTIF('PLANNING PRINCIPAL'!$I$332:$X$332,A20)>=1,\"\",ROW())","v":20},"LOC PELLE KILOUTOU","LOC PELLE KILOUTOU",{"$f":"IF(COUNTIF('PLANNING PRINCIPAL'!$I$335:$X$335,D20)>=1,\"\",ROW())","v":20},"LOC PELLE KILOUTOU","LOC PELLE KILOUTOU",{"$f":"IF(COUNTIF('PLANNING PRINCIPAL'!$I$338:$X$338,G20)>=1,\"\",ROW())","v":20},"LOC PELLE KILOUTOU","LOC PELLE KILOUTOU",{"$f":"IF(COUNTIF('PLANNING PRINCIPAL'!$I$341:$X$341,J20)>=1,\"\",ROW())","v":20},"LOC PELLE KILOUTOU","LOC PELLE KILOUTOU",{"$f":"IF(COUNTIF('PLANNING PRINCIPAL'!$I$344:$X$344,M20)>=1,\"\",ROW())","v":20},"LOC PELLE KILOUTOU","LOC PELLE KILOUTOU",{"$f":"IF(COUNTIF('PLANNING PRINCIPAL'!$I$347:$X$347,P20)>=1,\"\",ROW())","v":20},"LOC PELLE KILOUTOU","LOC PELLE KILOUTOU",{"$f":"IF(COUNTIF('PLANNING PRINCIPAL'!$I$350:$X$350,S20)>=1,\"\",ROW())","v":20},"LOC PELLE KILOUTOU",null,{"$f":"IF(COUNTIF('PLANNING PRINCIPAL'!$I$330:$X$330,V20)>=1,\"\",ROW())","v":20}]
[null,{"$f":"IF(COUNTIF('PLANNING PRINCIPAL'!$I$332:$X$332,A21)>=1,\"\",ROW())","v":21},null,null,{"$f":"IF(COUNTIF('PLANNING PRINCIPAL'!$I$335:$X$335,D21)>=1,\"\",ROW())","v":21},null,null,{"$f":"IF(COUNTIF('PLANNING PRINCIPAL'!$I$338:$X$338,G21)>=1,\"\",ROW())","v":21},null,null,{"$f":"IF(COUNTIF('PLANNING PRINCIPAL'!$I$341:$X$341,J21)>=1,\"\",ROW())","v":21},null,null,{"$f":"IF(COUNTIF('PLANNING PRINCIPAL'!$I$344:$X$344,M21)>=1,\"\",ROW())","v":21},null,null,{"$f":"IF(COUNTIF('PLANNING PRINCIPAL'!$I$347:$X$347,P21)>=1,\"\",ROW())","v":21},null,null,{"$f":"IF(COUNTIF('PLANNING PRINCIPAL'!$I$350:$X$350,S21)>=1,\"\",ROW())","v":21},null,null,{"$f":"IF(COUNTIF('PLANNING PRINCIPAL'!$I$330:$X$330,V21)>=1,\"\",ROW())","v":21}]
[null,{"$f":"IF(COUNTIF('PLANNING PRINCIPAL'!$I$332:$X$332,A22)>=1,\"\",ROW())","v":22},null,null,{"$f":"IF(COUNTIF('PLANNING PRINCIPAL'!$I$335:$X$335,D22)>=1,\"\",ROW())","v":22},null,null,{"$f":"IF(COUNTIF('PLANNING PRINCIPAL'!$I$338:$X$338,G22)>=1,\"\",ROW())","v":22},null,null,{"$f":"IF(COUNTIF('PLANNING PRINCIPAL'!$I$341:$X$341,J22)>=1,\"\",ROW())","v":22},null,null,{"$f":"IF(COUNTIF('PLANNING PRINCIPAL'!$I$344:$X$344,M22)>=1,\"\",ROW())","v":22},null,null,{"$f":"IF(COUNTIF('PLANNING PRINCIPAL'!$I$347:$X$347,P22)>=1,\"\",ROW())","v":22},null,null,{"$f":"IF(COUNTIF('PLANNING PRINCIPAL'!$I$350:$X$350,S22)>=1,\"\",ROW())","v":22},null,null,{"$f":"IF(COUNTIF('PLANNING PRINCIPAL'!$I$330:$X$330,V22)>=1,\"\",ROW())","v":22}]
[null,{"$f":"IF(COUNTIF('PLANNING PRINCIPAL'!$I$332:$X$332,A23)>=1,\"\",ROW())","v":23},null,null,{"$f":"IF(COUNTIF('PLANNING PRINCIPAL'!$I$335:$X$335,D23)>=1,\"\",ROW())","v":23},null,null,{"$f":"IF(COUNTIF('PLANNING PRINCIPAL'!$I$338:$X$338,G23)>=1,\"\",ROW())","v":23},null,null,{"$f":"IF(COUNTIF('PLANNING PRINCIPAL'!$I$341:$X$341,J23)>=1,\"\",ROW())","v":23},null,null,{"$f":"IF(COUNTIF('PLANNING PRINCIPAL'!$I$344:$X$344,M23)>=1,\"\",ROW())","v":23},null,null,{"$f":"IF(COUNTIF('PLANNING PRINCIPAL'!$I$347:$X$347,P23)>=1,\"\",ROW())","v":23},null,null,{"$f":"IF(COUNTIF('PLANNING PRINCIPAL'!$I$350:$X$350,S23)>=1,\"\",ROW())","v":23},null,null,{"$f":"IF(COUNTIF('PLANNING PRINCIPAL'!$I$330:$X$330,V23)>=1,\"\",ROW())","v":23}]
[null,{"$f":"IF(COUNTIF('PLANNING PRINCIPAL'!$I$332:$X$332,A24)>=1,\"\",ROW())","v":24},null,null,{"$f":"IF(COUNTIF('PLANNING PRINCIPAL'!$I$335:$X$335,D24)>=1,\"\",ROW())","v":24},null,null,{"$f":"IF(COUNTIF('PLANNING PRINCIPAL'!$I$338:$X$338,G24)>=1,\"\",ROW())","v":24},null,null,{"$f":"IF(COUNTIF('PLANNING PRINCIPAL'!$I$341:$X$341,J24)>=1,\"\",ROW())","v":24},null,null,{"$f":"IF(COUNTIF('PLANNING PRINCIPAL'!$I$344:$X$344,M24)>=1,\"\",ROW())","v":24},null,null,{"$f":"IF(COUNTIF('PLANNING PRINCIPAL'!$I$347:$X$347,P24)>=1,\"\",ROW())","v":24},null,null,{"$f":"IF(COUNTIF('PLANNING PRINCIPAL'!$I$350:$X$350,S24)>=1,\"\",ROW())","v":24},null,null,{"$f":"IF(COUNTIF('PLANNING PRINCIPAL'!$I$330:$X$330,V24)>=1,\"\",ROW())","v":24}]
[null,{"$f":"IF(COUNTIF('PLANNING PRINCIPAL'!$I$332:$X$332,A25)>=1,\"\",ROW())","v":25},null,null,{"$f":"IF(COUNTIF('PLANNING PRINCIPAL'!$I$335:$X$335,D25)>=1,\"\",ROW())","v":25},null,null,{"$f":"IF(COUNTIF('PLANNING PRINCIPAL'!$I$338:$X$338,G25)>=1,\"\",ROW())","v":25},null,null,{"$f":"IF(COUNTIF('PLANNING PRINCIPAL'!$I$341:$X$341,J25)>=1,\"\",ROW())","v":25},null,null,{"$f":"IF(COUNTIF('PLANNING PRINCIPAL'!$I$344:$X$344,M25)>=1,\"\",ROW())","v":25},null,null,{"$f":"IF(COUNTIF('PLANNING PRINCIPAL'!$I$347:$X$347,P25)>=1,\"\",ROW())","v":25},null,null,{"$f":"IF(COUNTIF('PLANNING PRINCIPAL'!$I$350:$X$350,S25)>=1,\"\",ROW())","v":25},null,null,{"$f":"IF(COUNTIF('PLANNING PRINCIPAL'!$I$330:$X$330,V25)>=1,\"\",ROW())","v":25}]
[null,{"$f":"IF(COUNTIF('PLANNING PRINCIPAL'!$I$332:$X$332,A26)>=1,\"\",ROW())","v":26},null,null,{"$f":"IF(COUNTIF('PLANNING PRINCIPAL'!$I$335:$X$335,D26)>=1,\"\",ROW())","v":26},null,null,{"$f":"IF(COUNTIF('PLANNING PRINCIPAL'!$I$338:$X$338,G26)>=1,\"\",ROW())","v":26},null,null,{"$f":"IF(COUNTIF('PLANNING PRINCIPAL'!$I$341:$X$341,J26)>=1,\"\",ROW())","v":26},null,null,{"$f":"IF(COUNTIF('PLANNING PRINCIPAL'!$I$344:$X$344,M26)>=1,\"\",ROW())","v":26},null,null,{"$f":"IF(COUNTIF('PLANNING PRINCIPAL'!$I$347:$X$347,P26)>=1,\"\",ROW())","v":26},null,null,{"$f":"IF(COUNTIF('PLANNING PRINCIPAL'!$I$350:$X$350,S26)>=1,\"\",ROW())","v":26},null,null,{"$f":"IF(COUNTIF('PLANNING PRINCIPAL'!$I$330:$X$330,V26)>=1,\"\",ROW())","v":26}]
[null,{"$f":"IF(COUNTIF('PLANNING PRINCIPAL'!$I$332:$X$332,A27)>=1,\"\",ROW())","v":27},null,null,{"$f":"IF(COUNTIF('PLANNING PRINCIPAL'!$I$335:$X$335,D27)>=1,\"\",ROW())","v":27},null,null,{"$f":"IF(COUNTIF('PLANNING PRINCIPAL'!$I$338:$X$338,G27)>=1,\"\",ROW())","v":27},null,null,{"$f":"IF(COUNTIF('PLANNING PRINCIPAL'!$I$341:$X$341,J27)>=1,\"\",ROW())","v":27},null,null,{"$f":"IF(COUNTIF('PLANNING PRINCIPAL'!$I$344:$X$344,M27)>=1,\"\",ROW())","v":27},null,null,{"$f":"IF(COUNTIF('PLANNING PRINCIPAL'!$I$347:$X$347,P27)>=1,\"\",ROW())","v":27},null,null,{"$f":"IF(COUNTIF('PLANNING PRINCIPAL'!$I$350:$X$350,S27)>=1,\"\",ROW())","v":27},null,null,{"$f":"IF(COUNTIF('PLANNING PRINCIPAL'!$I$330:$X$330,V27)>=1,\"\",ROW())","v":27}]
[null,{"$f":"IF(COUNTIF('PLANNING PRINCIPAL'!$I$332:$X$332,A28)>=1,\"\",ROW())","v":28},null,null,{"$f":"IF(COUNTIF('PLANNING PRINCIPAL'!$I$335:$X$335,D28)>=1,\"\",ROW())","v":28},null,null,{"$f":"IF(COUNTIF('PLANNING PRINCIPAL'!$I$338:$X$338,G28)>=1,\"\",ROW())","v":28},null,null,{"$f":"IF(COUNTIF('PLANNING PRINCIPAL'!$I$341:$X$341,J28)>=1,\"\",ROW())","v":28},null,null,{"$f":"IF(COUNTIF('PLANNING PRINCIPAL'!$I$344:$X$344,M28)>=1,\"\",ROW())","v":28},null,null,{"$f":"IF(COUNTIF('PLANNING PRINCIPAL'!$I$347:$X$347,P28)>=1,\"\",ROW())","v":28},null,null,{"$f":"IF(COUNTIF('PLANNING PRINCIPAL'!$I$350:$X$350,S28)>=1,\"\",ROW())","v":28},null,null,{"$f":"IF(COUNTIF('PLANNING PRINCIPAL'!$I$330:$X$330,V28)>=1,\"\",ROW())","v":28}]
[null,{"$f":"IF(COUNTIF('PLANNING PRINCIPAL'!$I$332:$X$332,A29)>=1,\"\",ROW())","v":29},null,null,{"$f":"IF(COUNTIF('PLANNING PRINCIPAL'!$I$335:$X$335,D29)>=1,\"\",ROW())","v":29},null,null,{"$f":"IF(COUNTIF('PLANNING PRINCIPAL'!$I$338:$X$338,G29)>=1,\"\",ROW())","v":29},null,null,{"$f":"IF(COUNTIF('PLANNING PRINCIPAL'!$I$341:$X$341,J29)>=1,\"\",ROW())","v":29},null,null,{"$f":"IF(COUNTIF('PLANNING PRINCIPAL'!$I$344:$X$344,M29)>=1,\"\",ROW())","v":29},null,null,{"$f":"IF(COUNTIF('PLANNING PRINCIPAL'!$I$347:$X$347,P29)>=1,\"\",ROW())","v":29},null,null,{"$f":"IF(COUNTIF('PLANNING PRINCIPAL'!$I$350:$X$350,S29)>=1,\"\",ROW())","v":29},null,null,{"$f":"IF(COUNTIF('PLANNING PRINCIPAL'!$I$330:$X$330,V29)>=1,\"\",ROW())","v":29}]
[null,{"$f":"IF(COUNTIF('PLANNING PRINCIPAL'!$I$332:$X$332,A30)>=1,\"\",ROW())","v":30},null,null,{"$f":"IF(COUNTIF('PLANNING PRINCIPAL'!$I$335:$X$335,D30)>=1,\"\",ROW())","v":30},null,null,{"$f":"IF(COUNTIF('PLANNING PRINCIPAL'!$I$338:$X$338,G30)>=1,\"\",ROW())","v":30},null,null,{"$f":"IF(COUNTIF('PLANNING PRINCIPAL'!$I$341:$X$341,J30)>=1,\"\",ROW())","v":30},null,null,{"$f":"IF(COUNTIF('PLANNING PRINCIPAL'!$I$344:$X$344,M30)>=1,\"\",ROW())","v":30},null,null,{"$f":"IF(COUNTIF('PLANNING PRINCIPAL'!$I$347:$X$347,P30)>=1,\"\",ROW())","v":30},null,null,{"$f":"IF(COUNTIF('PLANNING PRINCIPAL'!$I$350:$X$350,S30)>=1,\"\",ROW())","v":30},null,null,{"$f":"IF(COUNTIF('PLANNING PRINCIPAL'!$I$330:$X$330,V30)>=1,\"\",ROW())","v":30}]
[null,{"$f":"IF(COUNTIF('PLANNING PRINCIPAL'!$I$332:$X$332,A31)>=1,\"\",ROW())","v":31},null,null,{"$f":"IF(COUNTIF('PLANNING PRINCIPAL'!$I$335:$X$335,D31)>=1,\"\",ROW())","v":31},null,null,{"$f":"IF(COUNTIF('PLANNING PRINCIPAL'!$I$338:$X$338,G31)>=1,\"\",ROW())","v":31},null,null,{"$f":"IF(COUNTIF('PLANNING PRINCIPAL'!$I$341:$X$341,J31)>=1,\"\",ROW())","v":31},null,null,{"$f":"IF(COUNTIF('PLANNING PRINCIPAL'!$I$344:$X$344,M31)>=1,\"\",ROW())","v":31},null,null,{"$f":"IF(COUNTIF('PLANNING PRINCIPAL'!$I$347:$X$347,P31)>=1,\"\",ROW())","v":31},null,null,{"$f":"IF(COUNTIF('PLANNING PRINCIPAL'!$I$350:$X$350,S31)>=1,\"\",ROW())","v":31},null,null,{"$f":"IF(COUNTIF('PLANNING PRINCIPAL'!$I$330:$X$330,V31)>=1,\"\",ROW())","v":31}]
[null,{"$f":"IF(COUNTIF('PLANNING PRINCIPAL'!$I$332:$X$332,A32)>=1,\"\",ROW())","v":32},null,null,{"$f":"IF(COUNTIF('PLANNING PRINCIPAL'!$I$335:$X$335,D32)>=1,\"\",ROW())","v":32},null,null,{"$f":"IF(COUNTIF('PLANNING PRINCIPAL'!$I$338:$X$338,G32)>=1,\"\",ROW())","v":32},null,null,{"$f":"IF(COUNTIF('PLANNING PRINCIPAL'!$I$341:$X$341,J32)>=1,\"\",ROW())","v":32},null,null,{"$f":"IF(COUNTIF('PLANNING PRINCIPAL'!$I$344:$X$344,M32)>=1,\"\",ROW())","v":32},null,null,{"$f":"IF(COUNTIF('PLANNING PRINCIPAL'!$I$347:$X$347,P32)>=1,\"\",ROW())","v":32},null,null,{"$f":"IF(COUNTIF('PLANNING PRINCIPAL'!$I$350:$X$350,S32)>=1,\"\",ROW())","v":32},null,null,{"$f":"IF(COUNTIF('PLANNING PRINCIPAL'!$I$330:$X$330,V32)>=1,\"\",ROW())","v":32}]
[null,{"$f":"IF(COUNTIF('PLANNING PRINCIPAL'!$I$332:$X$332,A33)>=1,\"\",ROW())","v":33},null,null,{"$f":"IF(COUNTIF('PLANNING PRINCIPAL'!$I$335:$X$335,D33)>=1,\"\",ROW())","v":33},null,null,{"$f":"IF(COUNTIF('PLANNING PRINCIPAL'!$I$338:$X$338,G33)>=1,\"\",ROW())","v":33},null,null,{"$f":"IF(COUNTIF('PLANNING PRINCIPAL'!$I$341:$X$341,J33)>=1,\"\",ROW())","v":33},null,null,{"$f":"IF(COUNTIF('PLANNING PRINCIPAL'!$I$344:$X$344,M33)>=1,\"\",ROW())","v":33},null,null,{"$f":"IF(COUNTIF('PLANNING PRINCIPAL'!$I$347:$X$347,P33)>=1,\"\",ROW())","v":33},null,null,{"$f":"IF(COUNTIF('PLANNING PRINCIPAL'!$I$350:$X$350,S33)>=1,\"\",ROW())","v":33},null,null,{"$f":"IF(COUNTIF('PLANNING PRINCIPAL'!$I$330:$X$330,V33)>=1,\"\",ROW())","v":33}]
[null,{"$f":"IF(COUNTIF('PLANNING PRINCIPAL'!$I$332:$X$332,A34)>=1,\"\",ROW())","v":34},null,null,{"$f":"IF(COUNTIF('PLANNING PRINCIPAL'!$I$335:$X$335,D34)>=1,\"\",ROW())","v":34},null,null,{"$f":"IF(COUNTIF('PLANNING PRINCIPAL'!$I$338:$X$338,G34)>=1,\"\",ROW())","v":34},null,null,{"$f":"IF(COUNTIF('PLANNING PRINCIPAL'!$I$341:$X$341,J34)>=1,\"\",ROW())","v":34},null,null,{"$f":"IF(COUNTIF('PLANNING PRINCIPAL'!$I$344:$X$344,M34)>=1,\"\",ROW())","v":34},null,null,{"$f":"IF(COUNTIF('PLANNING PRINCIPAL'!$I$347:$X$347,P34)>=1,\"\",ROW())","v":34},null,null,{"$f":"IF(COUNTIF('PLANNING PRINCIPAL'!$I$350:$X$350,S34)>=1,\"\",ROW())","v":34},null,null,{"$f":"IF(COUNTIF('PLANNING PRINCIPAL'!$I$330:$X$330,V34)>=1,\"\",ROW())","v":34}]
["LUNDI",null,null,"MARDI",null,null,"MERCREDI",null,null,"JEUDI",null,null,"VENDREDI",null,null,"SAMEDI",null,null,"DIMANCHE",null,null,"ASTREINTE"]

{"sheet":"DATA S16","index":17,"n_rows":35,"n_cols":24,"rows_kept":35,"cut":false,"hidden":false,"merged":[[34,18,34,20],[34,21,34,23],[34,0,34,2],[34,3,34,5],[34,6,34,8],[34,9,34,11],[34,12,34,14],[34,15,34,17]]}
[{"$f":"'DATA S1'!A1","v":"MAS XX "},{"$f":"IF(COUNTIF('PLANNING PRINCIPAL'!$I$355:$X$355,A1)>=1,\"\",ROW())","v":1},{"$f":"IF(ROW(A1)-ROW(A$1)+1>COUNT(B:B),\"\", INDEX(A:A,SMALL(B:B,1+ROW(A1)-ROW(A$1))))","v":"MAS XX "},{"$f":"A1","v":"MAS XX "},{"$f":"IF(COUNTIF('PLANNING PRINCIPAL'!$I$358:$X$358,D1)>=1,\"\",ROW())","v":1},{"$f":"IF(ROW(D1)-ROW(D$1)+1>COUNT(E:E),\"\", INDEX(D:D,SMALL(E:E,1+ROW(D1)-ROW(D$1))))","v":"MAS XX "},{"$f":"A1","v":"MAS XX "},{"$f":"IF(COUNTIF('PLANNING PRINCIPAL'!$I$361:$X$361,G1)>=1,\"\",ROW())","v":1},{"$f":"IF(ROW(G1)-ROW(G$1)+1>COUNT(H:H),\"\", INDEX(G:G,SMALL(H:H,1+ROW(G1)-ROW(G$1))))","v":"MAS XX "},{"$f":"A1","v":"MAS XX "},{"$f":"IF(COUNTIF('PLANNING PRINCIPAL'!$I$364:$X$364,J1)>=1,\"\",ROW())","v":1},{"$f":"IF(ROW(J1)-ROW(J$1)+1>COUNT(K:K),\"\", INDEX(J:J,SMALL(K:K,1+ROW(J1)-ROW(J$1))))","v":"MAS XX "},{"$f":"A1","v":"MAS XX "},{"$f":"IF(COUNTIF('PLANNING PRINCIPAL'!$I$367:$X$367,M1)>=1,\"\",ROW())","v":1},{"$f":"IF(ROW(M1)-ROW(M$1)+1>COUNT(N:N),\"\", INDEX(M:M,SMALL(N:N,1+ROW(M1)-ROW(M$1))))","v":"MAS XX "},{"$f":"A1","v":"MAS XX "},{"$f":"IF(COUNTIF('PLANNING PRINCIPAL'!$I$370:$X$370,P1)>=1,\"\",ROW())","v":1},{"$f":"IF(ROW(P1)-ROW(P$1)+1>COUNT(Q:Q),\"\", INDEX(P:P,SMALL(Q:Q,1+ROW(P1)-ROW(P$1))))","v":"MAS XX "},{"$f":"A1","v":"MAS XX "},{"$f":"IF(COUNTIF('PLANNING PRINCIPAL'!$I$373:$X$373,S1)>=1,\"\",ROW())","v":1},{"$f":"IF(ROW(S1)-ROW(S$1)+1>COUNT(T:T),\"\", INDEX(S:S,SMALL(T:T,1+ROW(S1)-ROW(S$1))))","v":"MAS XX "},{"$f":"'DATA S1'!V1","v":"ASTREINTE SLT"},{"$f":"IF(COUNTIF('PLANNING PRINCIPAL'!$I$375:$X$375,V1)>=1,\"\",ROW())","v":1},{"$f":"IF(ROW(V1)-ROW(V$1)+1>COUNT(W:W),\"\", INDEX(V:V,SMALL(W:W,1+ROW(V1)-ROW(V$1))))","v":"ASTREINTE SLT"}]
[{"$f":"'DATA S1'!A2","v":"MAS YY "},{"$f":"IF(COUNTIF('PLANNING PRINCIPAL'!$I$355:$X$355,A2)>=1,\"\",ROW())","v":2},{"$f":"IF(ROW(A2)-ROW(A$1)+1>COUNT(B:B),\"\", INDEX(A:A,SMALL(B:B,1+ROW(A2)-ROW(A$1))))","v":"MAS YY "},"MAS YY ",{"$f":"IF(COUNTIF('PLANNING PRINCIPAL'!$I$358:$X$358,D2)>=1,\"\",ROW())","v":2},{"$f":"IF(ROW(D2)-ROW(D$1)+1>COUNT(E:E),\"\", INDEX(D:D,SMALL(E:E,1+ROW(D2)-ROW(D$1))))","v":"MAS YY "},{"$f":"A2","v":"MAS YY "},{"$f":"IF(COUNTIF('PLANNING PRINCIPAL'!$I$361:$X$361,G2)>=1,\"\",ROW())","v":2},{"$f":"IF(ROW(G2)-ROW(G$1)+1>COUNT(H:H),\"\", INDEX(G:G,SMALL(H:H,1+ROW(G2)-ROW(G$1))))","v":"MAS YY "},{"$f":"A2","v":"MAS YY "},{"$f":"IF(COUNTIF('PLANNING PRINCIPAL'!$I$364:$X$364,J2)>=1,\"\",ROW())","v":2},{"$f":"IF(ROW(J2)-ROW(J$1)+1>COUNT(K:K),\"\", INDEX(J:J,SMALL(K:K,1+ROW(J2)-ROW(J$1))))","v":"MAS YY "},{"$f":"A2","v":"MAS YY "},{"$f":"IF(COUNTIF('PLANNING PRINCIPAL'!$I$367:$X$367,M2)>=1,\"\",ROW())","v":2},{"$f":"IF(ROW(M2)-ROW(M$1)+1>COUNT(N:N),\"\", INDEX(M:M,SMALL(N:N,1+ROW(M2)-ROW(M$1))))","v":"MAS YY "},{"$f":"A2","v":"MAS YY "},{"$f":"IF(COUNTIF('PLANNING PRINCIPAL'!$I$370:$X$370,P2)>=1,\"\",ROW())","v":2},{"$f":"IF(ROW(P2)-ROW(P$1)+1>COUNT(Q:Q),\"\", INDEX(P:P,SMALL(Q:Q,1+ROW(P2)-ROW(P$1))))","v":"MAS YY "},{"$f":"A2","v":"MAS YY "},{"$f":"IF(COUNTIF('PLANNING PRINCIPAL'!$I$373:$X$373,S2)>=1,\"\",ROW())","v":2},{"$f":"IF(ROW(S2)-ROW(S$1)+1>COUNT(T:T),\"\", INDEX(S:S,SMALL(T:T,1+ROW(S2)-ROW(S$1))))","v":"MAS YY "},{"$f":"'DATA S1'!V2","v":"ASTREINTE EP"},{"$f":"IF(COUNTIF('PLANNING PRINCIPAL'!$I$375:$X$375,V2)>=1,\"\",ROW())","v":2},{"$f":"IF(ROW(V2)-ROW(V$1)+1>COUNT(W:W),\"\", INDEX(V:V,SMALL(W:W,1+ROW(V2)-ROW(V$1))))","v":"ASTREINTE EP"}]
[{"$f":"'DATA S1'!A3","v":"MAS VQ "},{"$f":"IF(COUNTIF('PLANNING PRINCIPAL'!$I$355:$X$355,A3)>=1,\"\",ROW())","v":3},"MAS VQ ","MAS VQ ",{"$f":"IF(COUNTIF('PLANNING PRINCIPAL'!$I$358:$X$358,D3)>=1,\"\",ROW())","v":3},"MAS VQ ","MAS VQ ",{"$f":"IF(COUNTIF('PLANNING PRINCIPAL'!$I$361:$X$361,G3)>=1,\"\",ROW())","v":3},"MAS VQ ","MAS VQ ",{"$f":"IF(COUNTIF('PLANNING PRINCIPAL'!$I$364:$X$364,J3)>=1,\"\",ROW())","v":3},"MAS VQ ","MAS VQ ",{"$f":"IF(COUNTIF('PLANNING PRINCIPAL'!$I$367:$X$367,M3)>=1,\"\",ROW())","v":3},"MAS VQ ","MAS VQ ",{"$f":"IF(COUNTIF('PLANNING PRINCIPAL'!$I$370:$X$370,P3)>=1,\"\",ROW())","v":3},"MAS VQ ","MAS VQ ",{"$f":"IF(COUNTIF('PLANNING PRINCIPAL'!$I$373:$X$373,S3)>=1,\"\",ROW())","v":3},"MAS VQ ",{"$f":"'DATA S1'!V3","v":"V NOC CHARTRES"},{"$f":"IF(COUNTIF('PLANNING PRINCIPAL'!$I$375:$X$375,V3)>=1,\"\",ROW())","v":3},"V NOC CHARTRES"]
[{"$f":"'DATA S1'!A4","v":"MAS PL "},{"$f":"IF(COUNTIF('PLANNING PRINCIPAL'!$I$355:$X$355,A4)>=1,\"\",ROW())","v":4},"MAS PL ","MAS PL ",{"$f":"IF(COUNTIF('PLANNING PRINCIPAL'!$I$358:$X$358,D4)>=1,\"\",ROW())","v":4},"MAS PL ","MAS PL ",{"$f":"IF(COUNTIF('PLANNING PRINCIPAL'!$I$361:$X$361,G4)>=1,\"\",ROW())","v":4},"MAS PL ","MAS PL ",{"$f":"IF(COUNTIF('PLANNING PRINCIPAL'!$I$364:$X$364,J4)>=1,\"\",ROW())","v":4},"MAS PL ","MAS PL ",{"$f":"IF(COUNTIF('PLANNING PRINCIPAL'!$I$367:$X$367,M4)>=1,\"\",ROW())","v":4},"MAS PL ","MAS PL ",{"$f":"IF(COUNTIF('PLANNING PRINCIPAL'!$I$370:$X$370,P4)>=1,\"\",ROW())","v":4},"MAS PL ","MAS PL ",{"$f":"IF(COUNTIF('PLANNING PRINCIPAL'!$I$373:$X$373,S4)>=1,\"\",ROW())","v":4},"MAS PL ",{"$f":"'DATA S1'!V4","v":"V NOC EPERNON"},{"$f":"IF(COUNTIF('PLANNING PRINCIPAL'!$I$375:$X$375,V4)>=1,\"\",ROW())","v":4},"V NOC EPERNON"]
[{"$f":"'DATA S1'!A5","v":"BEN VL PT "},{"$f":"IF(COUNTIF('PLANNING PRINCIPAL'!$I$355:$X$355,A5)>=1,\"\",ROW())","v":5},"BEN VL PT ","BEN VL PT ",{"$f":"IF(COUNTIF('PLANNING PRINCIPAL'!$I$358:$X$358,D5)>=1,\"\",ROW())","v":5},"BEN VL PT ","BEN VL PT ",{"$f":"IF(COUNTIF('PLANNING PRINCIPAL'!$I$361:$X$361,G5)>=1,\"\",ROW())","v":5},"BEN VL PT ","BEN VL PT ",{"$f":"IF(COUNTIF('PLANNING PRINCIPAL'!$I$364:$X$364,J5)>=1,\"\",ROW())","v":5},"BEN VL PT ","BEN VL PT ",{"$f":"IF(COUNTIF('PLANNING PRINCIPAL'!$I$367:$X$367,M5)>=1,\"\",ROW())","v":5},"BEN VL PT ","BEN VL PT ",{"$f":"IF(COUNTIF('PLANNING PRINCIPAL'!$I$370:$X$370,P5)>=1,\"\",ROW())","v":5},"BEN VL PT ","BEN VL PT ",{"$f":"IF(COUNTIF('PLANNING PRINCIPAL'!$I$373:$X$373,S5)>=1,\"\",ROW())","v":5},"BEN VL PT ",{"$f":"'DATA S1'!V5","v":"V NOC HANCHES"},{"$f":"IF(COUNTIF('PLANNING PRINCIPAL'!$I$375:$X$375,V5)>=1,\"\",ROW())","v":5},"V NOC HANCHES"]
[{"$f":"'DATA S1'!A6","v":"BEN 19T "},{"$f":"IF(COUNTIF('PLANNING PRINCIPAL'!$I$355:$X$355,A6)>=1,\"\",ROW())","v":6},"BEN 19T ","BEN 19T ",{"$f":"IF(COUNTIF('PLANNING PRINCIPAL'!$I$358:$X$358,D6)>=1,\"\",ROW())","v":6},"BEN 19T ","BEN 19T ",{"$f":"IF(COUNTIF('PLANNING PRINCIPAL'!$I$361:$X$361,G6)>=1,\"\",ROW())","v":6},"BEN 19T ","BEN 19T ",{"$f":"IF(COUNTIF('PLANNING PRINCIPAL'!$I$364:$X$364,J6)>=1,\"\",ROW())","v":6},"BEN 19T ","BEN 19T ",{"$f":"IF(COUNTIF('PLANNING PRINCIPAL'!$I$367:$X$367,M6)>=1,\"\",ROW())","v":6},"BEN 19T ","BEN 19T ",{"$f":"IF(COUNTIF('PLANNING PRINCIPAL'!$I$370:$X$370,P6)>=1,\"\",ROW())","v":6},"BEN 19T ","BEN 19T ",{"$f":"IF(COUNTIF('PLANNING PRINCIPAL'!$I$373:$X$373,S6)>=1,\"\",ROW())","v":6},"BEN 19T ",{"$f":"'DATA S1'!V6","v":"V NOC MAINTENON"},{"$f":"IF(COUNTIF('PLANNING PRINCIPAL'!$I$375:$X$375,V6)>=1,\"\",ROW())","v":6},"V NOC MAINTENON"]
[{"$f":"'DATA S1'!A7","v":"BEN 13T "},{"$f":"IF(COUNTIF('PLANNING PRINCIPAL'!$I$355:$X$355,A7)>=1,\"\",ROW())","v":7},"BEN 13T ","BEN 13T ",{"$f":"IF(COUNTIF('PLANNING PRINCIPAL'!$I$358:$X$358,D7)>=1,\"\",ROW())","v":7},"BEN 13T ","BEN 13T ",{"$f":"IF(COUNTIF('PLANNING PRINCIPAL'!$I$361:$X$361,G7)>=1,\"\",ROW())","v":7},"BEN 13T ","BEN 13T ",{"$f":"IF(COUNTIF('PLANNING PRINCIPAL'!$I$364:$X$364,J7)>=1,\"\",ROW())","v":7},"BEN 13T ","BEN 13T ",{"$f":"IF(COUNTIF('PLANNING PRINCIPAL'!$I$367:$X$367,M7)>=1,\"\",ROW())","v":7},"BEN 13T ","BEN 13T ",{"$f":"IF(COUNTIF('PLANNING PRINCIPAL'!$I$370:$X$370,P7)>=1,\"\",ROW())","v":7},"BEN 13T ","BEN 13T ",{"$f":"IF(COUNTIF('PLANNING PRINCIPAL'!$I$373:$X$373,S7)>=1,\"\",ROW())","v":7},"BEN 13T ",null,{"$f":"IF(COUNTIF('PLANNING PRINCIPAL'!$I$375:$X$375,V7)>=1,\"\",ROW())","v":7}]
[{"$f":"'DATA S1'!A8","v":"NAC VL 18M "},{"$f":"IF(COUNTIF('PLANNING PRINCIPAL'!$I$355:$X$355,A8)>=1,\"\",ROW())","v":8},"NAC VL 18M ","NAC VL 18M ",{"$f":"IF(COUNTIF('PLANNING PRINCIPAL'!$I$358:$X$358,D8)>=1,\"\",ROW())","v":8},"NAC VL 18M ","NAC VL 18M ",{"$f":"IF(COUNTIF('PLANNING PRINCIPAL'!$I$361:$X$361,G8)>=1,\"\",ROW())","v":8},"NAC VL 18M ","NAC VL 18M ",{"$f":"IF(COUNTIF('PLANNING PRINCIPAL'!$I$364:$X$364,J8)>=1,\"\",ROW())","v":8},"NAC VL 18M ","NAC VL 18M ",{"$f":"IF(COUNTIF('PLANNING PRINCIPAL'!$I$367:$X$367,M8)>=1,\"\",ROW())","v":8},"NAC VL 18M ","NAC VL 18M ",{"$f":"IF(COUNTIF('PLANNING PRINCIPAL'!$I$370:$X$370,P8)>=1,\"\",ROW())","v":8},"NAC VL 18M ","NAC VL 18M ",{"$f":"IF(COUNTIF('PLANNING PRINCIPAL'!$I$373:$X$373,S8)>=1,\"\",ROW())","v":8},"NAC VL 18M ",null,{"$f":"IF(COUNTIF('PLANNING PRINCIPAL'!$I$375:$X$375,V8)>=1,\"\",ROW())","v":8}]
[{"$f":"'DATA S1'!A9","v":"NAC EGIE"},{"$f":"IF(COUNTIF('PLANNING PRINCIPAL'!$I$355:$X$355,A9)>=1,\"\",ROW())","v":9},"NAC EGIE","NAC EGIE",{"$f":"IF(COUNTIF('PLANNING PRINCIPAL'!$I$358:$X$358,D9)>=1,\"\",ROW())","v":9},"NAC EGIE","NAC EGIE",{"$f":"IF(COUNTIF('PLANNING PRINCIPAL'!$I$361:$X$361,G9)>=1,\"\",ROW())","v":9},"NAC EGIE","NAC EGIE",{"$f":"IF(COUNTIF('PLANNING PRINCIPAL'!$I$364:$X$364,J9)>=1,\"\",ROW())","v":9},"NAC EGIE","NAC EGIE",{"$f":"IF(COUNTIF('PLANNING PRINCIPAL'!$I$367:$X$367,M9)>=1,\"\",ROW())","v":9},"NAC EGIE","NAC EGIE",{"$f":"IF(COUNTIF('PLANNING PRINCIPAL'!$I$370:$X$370,P9)>=1,\"\",ROW())","v":9},"NAC EGIE","NAC EGIE",{"$f":"IF(COUNTIF('PLANNING PRINCIPAL'!$I$373:$X$373,S9)>=1,\"\",ROW())","v":9},"NAC EGIE",null,{"$f":"IF(COUNTIF('PLANNING PRINCIPAL'!$I$375:$X$375,V9)>=1,\"\",ROW())","v":9}]
[{"$f":"'DATA S1'!A10","v":"NAC COMI "},{"$f":"IF(COUNTIF('PLANNING PRINCIPAL'!$I$355:$X$355,A10)>=1,\"\",ROW())","v":10},"NAC COMI ","NAC COMI ",{"$f":"IF(COUNTIF('PLANNING PRINCIPAL'!$I$358:$X$358,D10)>=1,\"\",ROW())","v":10},"NAC COMI ","NAC COMI ",{"$f":"IF(COUNTIF('PLANNING PRINCIPAL'!$I$361:$X$361,G10)>=1,\"\",ROW())","v":10},"NAC COMI ","NAC COMI ",{"$f":"IF(COUNTIF('PLANNING PRINCIPAL'!$I$364:$X$364,J10)>=1,\"\",ROW())","v":10},"NAC COMI ","NAC COMI ",{"$f":"IF(COUNTIF('PLANNING PRINCIPAL'!$I$367:$X$367,M10)>=1,\"\",ROW())","v":10},"NAC COMI ","NAC COMI ",{"$f":"IF(COUNTIF('PLANNING PRINCIPAL'!$I$370:$X$370,P10)>=1,\"\",ROW())","v":10},"NAC COMI ","NAC COMI ",{"$f":"IF(COUNTIF('PLANNING PRINCIPAL'!$I$373:$X$373,S10)>=1,\"\",ROW())","v":10},"NAC COMI ",null,{"$f":"IF(COUNTIF('PLANNING PRINCIPAL'!$I$375:$X$375,V10)>=1,\"\",ROW())","v":10}]
[{"$f":"'DATA S1'!A11","v":"#####LOCATION#####"},{"$f":"IF(COUNTIF('PLANNING PRINCIPAL'!$I$355:$X$355,A11)>=1,\"\",ROW())","v":11},"#####LOCATION#####","#####LOCATION#####",{"$f":"IF(COUNTIF('PLANNING PRINCIPAL'!$I$358:$X$358,D11)>=1,\"\",ROW())","v":11},"#####LOCATION#####","#####LOCATION#####",{"$f":"IF(COUNTIF('PLANNING PRINCIPAL'!$I$361:$X$361,G11)>=1,\"\",ROW())","v":11},"#####LOCATION#####","#####LOCATION#####",{"$f":"IF(COUNTIF('PLANNING PRINCIPAL'!$I$364:$X$364,J11)>=1,\"\",ROW())","v":11},"#####LOCATION#####","#####LOCATION#####",{"$f":"IF(COUNTIF('PLANNING PRINCIPAL'!$I$367:$X$367,M11)>=1,\"\",ROW())","v":11},"#####LOCATION#####","#####LOCATION#####",{"$f":"IF(COUNTIF('PLANNING PRINCIPAL'!$I$370:$X$370,P11)>=1,\"\",ROW())","v":11},"#####LOCATION#####","#####LOCATION#####",{"$f":"IF(COUNTIF('PLANNING PRINCIPAL'!$I$373:$X$373,S11)>=1,\"\",ROW())","v":11},"#####LOCATION#####",null,{"$f":"IF(COUNTIF('PLANNING PRINCIPAL'!$I$375:$X$375,V11)>=1,\"\",ROW())","v":11}]
[{"$f":"'DATA S1'!A12","v":"LOC NAC SOLOMAT"},{"$f":"IF(COUNTIF('PLANNING PRINCIPAL'!$I$355:$X$355,A12)>=1,\"\",ROW())","v":12},"LOC NAC SOLOMAT","LOC NAC SOLOMAT",{"$f":"IF(COUNTIF('PLANNING PRINCIPAL'!$I$358:$X$358,D12)>=1,\"\",ROW())","v":12},"LOC NAC SOLOMAT","LOC NAC SOLOMAT",{"$f":"IF(COUNTIF('PLANNING PRINCIPAL'!$I$361:$X$361,G12)>=1,\"\",ROW())","v":12},"LOC NAC SOLOMAT","LOC NAC SOLOMAT",{"$f":"IF(COUNTIF('PLANNING PRINCIPAL'!$I$364:$X$364,J12)>=1,\"\",ROW())","v":12},"LOC NAC SOLOMAT","LOC NAC SOLOMAT",{"$f":"IF(COUNTIF('PLANNING PRINCIPAL'!$I$367:$X$367,M12)>=1,\"\",ROW())","v":12},"LOC NAC SOLOMAT","LOC NAC SOLOMAT",{"$f":"IF(COUNTIF('PLANNING PRINCIPAL'!$I$370:$X$370,P12)>=1,\"\",ROW())","v":12},"LOC NAC SOLOMAT","LOC NAC SOLOMAT",{"$f":"IF(COUNTIF('PLANNING PRINCIPAL'!$I$373:$X$373,S12)>=1,\"\",ROW())","v":12},"LOC NAC SOLOMAT",null,{"$f":"IF(COUNTIF('PLANNING PRINCIPAL'!$I$375:$X$375,V12)>=1,\"\",ROW())","v":12}]
[{"$f":"'DATA S1'!A13","v":"LOC NAC AEB"},{"$f":"IF(COUNTIF('PLANNING PRINCIPAL'!$I$355:$X$355,A13)>=1,\"\",ROW())","v":13},"LOC NAC AEB","LOC NAC AEB",{"$f":"IF(COUNTIF('PLANNING PRINCIPAL'!$I$358:$X$358,D13)>=1,\"\",ROW())","v":13},"LOC NAC AEB","LOC NAC AEB",{"$f":"IF(COUNTIF('PLANNING PRINCIPAL'!$I$361:$X$361,G13)>=1,\"\",ROW())","v":13},"LOC NAC AEB","LOC NAC AEB",{"$f":"IF(COUNTIF('PLANNING PRINCIPAL'!$I$364:$X$364,J13)>=1,\"\",ROW())","v":13},"LOC NAC AEB","LOC NAC AEB",{"$f":"IF(COUNTIF('PLANNING PRINCIPAL'!$I$367:$X$367,M13)>=1,\"\",ROW())","v":13},"LOC NAC AEB","LOC NAC AEB",{"$f":"IF(COUNTIF('PLANNING PRINCIPAL'!$I$370:$X$370,P13)>=1,\"\",ROW())","v":13},"LOC NAC AEB","LOC NAC AEB",{"$f":"IF(COUNTIF('PLANNING PRINCIPAL'!$I$373:$X$373,S13)>=1,\"\",ROW())","v":13},"LOC NAC AEB",null,{"$f":"IF(COUNTIF('PLANNING PRINCIPAL'!$I$375:$X$375,V13)>=1,\"\",ROW())","v":13}]
[{"$f":"'DATA S1'!A14","v":"LOC NAC INTERLOC"},{"$f":"IF(COUNTIF('PLANNING PRINCIPAL'!$I$355:$X$355,A14)>=1,\"\",ROW())","v":14},"LOC NAC INTERLOC","LOC NAC INTERLOC",{"$f":"IF(COUNTIF('PLANNING PRINCIPAL'!$I$358:$X$358,D14)>=1,\"\",ROW())","v":14},"LOC NAC INTERLOC","LOC NAC INTERLOC",{"$f":"IF(COUNTIF('PLANNING PRINCIPAL'!$I$361:$X$361,G14)>=1,\"\",ROW())","v":14},"LOC NAC INTERLOC","LOC NAC INTERLOC",{"$f":"IF(COUNTIF('PLANNING PRINCIPAL'!$I$364:$X$364,J14)>=1,\"\",ROW())","v":14},"LOC NAC INTERLOC","LOC NAC INTERLOC",{"$f":"IF(COUNTIF('PLANNING PRINCIPAL'!$I$367:$X$367,M14)>=1,\"\",ROW())","v":14},"LOC NAC INTERLOC","LOC NAC INTERLOC",{"$f":"IF(COUNTIF('PLANNING PRINCIPAL'!$I$370:$X$370,P14)>=1,\"\",ROW())","v":14},"LOC NAC INTERLOC","LOC NAC INTERLOC",{"$f":"IF(COUNTIF('PLANNING PRINCIPAL'!$I$373:$X$373,S14)>=1,\"\",ROW())","v":14},"LOC NAC INTERLOC",null,{"$f":"IF(COUNTIF('PLANNING PRINCIPAL'!$I$375:$X$375,V14)>=1,\"\",ROW())","v":14}]
[{"$f":"'DATA S1'!A15","v":"LOC NAC KILOUTOU"},{"$f":"IF(COUNTIF('PLANNING PRINCIPAL'!$I$355:$X$355,A15)>=1,\"\",ROW())","v":15},"LOC NAC KILOUTOU","LOC NAC KILOUTOU",{"$f":"IF(COUNTIF('PLANNING PRINCIPAL'!$I$358:$X$358,D15)>=1,\"\",ROW())","v":15},"LOC NAC KILOUTOU","LOC NAC KILOUTOU",{"$f":"IF(COUNTIF('PLANNING PRINCIPAL'!$I$361:$X$361,G15)>=1,\"\",ROW())","v":15},"LOC NAC KILOUTOU","LOC NAC KILOUTOU",{"$f":"IF(COUNTIF('PLANNING PRINCIPAL'!$I$364:$X$364,J15)>=1,\"\",ROW())","v":15},"LOC NAC KILOUTOU","LOC NAC KILOUTOU",{"$f":"IF(COUNTIF('PLANNING PRINCIPAL'!$I$367:$X$367,M15)>=1,\"\",ROW())","v":15},"LOC NAC KILOUTOU","LOC NAC KILOUTOU",{"$f":"IF(COUNTIF('PLANNING PRINCIPAL'!$I$370:$X$370,P15)>=1,\"\",ROW())","v":15},"LOC NAC KILOUTOU","LOC NAC KILOUTOU",{"$f":"IF(COUNTIF('PLANNING PRINCIPAL'!$I$373:$X$373,S15)>=1,\"\",ROW())","v":15},"LOC NAC KILOUTOU",null,{"$f":"IF(COUNTIF('PLANNING PRINCIPAL'!$I$375:$X$375,V15)>=1,\"\",ROW())","v":15}]
[{"$f":"'DATA S1'!A16","v":"LOC NAC AEB"},{"$f":"IF(COUNTIF('PLANNING PRINCIPAL'!$I$355:$X$355,A16)>=1,\"\",ROW())","v":16},"LOC NAC AEB","LOC NAC AEB",{"$f":"IF(COUNTIF('PLANNING PRINCIPAL'!$I$358:$X$358,D16)>=1,\"\",ROW())","v":16},"LOC NAC AEB","LOC NAC AEB",{"$f":"IF(COUNTIF('PLANNING PRINCIPAL'!$I$361:$X$361,G16)>=1,\"\",ROW())","v":16},"LOC NAC AEB","LOC NAC AEB",{"$f":"IF(COUNTIF('PLANNING PRINCIPAL'!$I$364:$X$364,J16)>=1,\"\",ROW())","v":16},"LOC NAC AEB","LOC NAC AEB",{"$f":"IF(COUNTIF('PLANNING PRINCIPAL'!$I$367:$X$367,M16)>=1,\"\",ROW())","v":16},"LOC NAC AEB","LOC NAC AEB",{"$f":"IF(COUNTIF('PLANNING PRINCIPAL'!$I$370:$X$370,P16)>=1,\"\",ROW())","v":16},"LOC NAC AEB","LOC NAC AEB",{"$f":"IF(COUNTIF('PLANNING PRINCIPAL'!$I$373:$X$373,S16)>=1,\"\",ROW())","v":16},"LOC NAC AEB",null,{"$f":"IF(COUNTIF('PLANNING PRINCIPAL'!$I$375:$X$375,V16)>=1,\"\",ROW())","v":16}]
[{"$f":"'DATA S1'!A17","v":"LOC PELLE SOLOMAT"},{"$f":"IF(COUNTIF('PLANNING PRINCIPAL'!$I$355:$X$355,A17)>=1,\"\",ROW())","v":17},"LOC PELLE SOLOMAT","LOC PELLE SOLOMAT",{"$f":"IF(COUNTIF('PLANNING PRINCIPAL'!$I$358:$X$358,D17)>=1,\"\",ROW())","v":17},"LOC PELLE SOLOMAT","LOC PELLE SOLOMAT",{"$f":"IF(COUNTIF('PLANNING PRINCIPAL'!$I$361:$X$361,G17)>=1,\"\",ROW())","v":17},"LOC PELLE SOLOMAT","LOC PELLE SOLOMAT",{"$f":"IF(COUNTIF('PLANNING PRINCIPAL'!$I$364:$X$364,J17)>=1,\"\",ROW())","v":17},"LOC PELLE SOLOMAT","LOC PELLE SOLOMAT",{"$f":"IF(COUNTIF('PLANNING PRINCIPAL'!$I$367:$X$367,M17)>=1,\"\",ROW())","v":17},"LOC PELLE SOLOMAT","LOC PELLE SOLOMAT",{"$f":"IF(COUNTIF('PLANNING PRINCIPAL'!$I$370:$X$370,P17)>=1,\"\",ROW())","v":17},"LOC PELLE SOLOMAT","LOC PELLE SOLOMAT",{"$f":"IF(COUNTIF('PLANNING PRINCIPAL'!$I$373:$X$373,S17)>=1,\"\",ROW())","v":17},"LOC PELLE SOLOMAT",null,{"$f":"IF(COUNTIF('PLANNING PRINCIPAL'!$I$375:$X$375,V17)>=1,\"\",ROW())","v":17}]
[{"$f":"'DATA S1'!A18","v":"LOC PELLE AEB"},{"$f":"IF(COUNTIF('PLANNING PRINCIPAL'!$I$355:$X$355,A18)>=1,\"\",ROW())","v":18},"LOC PELLE AEB","LOC PELLE AEB",{"$f":"IF(COUNTIF('PLANNING PRINCIPAL'!$I$358:$X$358,D18)>=1,\"\",ROW())","v":18},"LOC PELLE AEB","LOC PELLE AEB",{"$f":"IF(COUNTIF('PLANNING PRINCIPAL'!$I$361:$X$361,G18)>=1,\"\",ROW())","v":18},"LOC PELLE AEB","LOC PELLE AEB",{"$f":"IF(COUNTIF('PLANNING PRINCIPAL'!$I$364:$X$364,J18)>=1,\"\",ROW())","v":18},"LOC PELLE AEB","LOC PELLE AEB",{"$f":"IF(COUNTIF('PLANNING PRINCIPAL'!$I$367:$X$367,M18)>=1,\"\",ROW())","v":18},"LOC PELLE AEB","LOC PELLE AEB",{"$f":"IF(COUNTIF('PLANNING PRINCIPAL'!$I$370:$X$370,P18)>=1,\"\",ROW())","v":18},"LOC PELLE AEB","LOC PELLE AEB",{"$f":"IF(COUNTIF('PLANNING PRINCIPAL'!$I$373:$X$373,S18)>=1,\"\",ROW())","v":18},"LOC PELLE AEB",null,{"$f":"IF(COUNTIF('PLANNING PRINCIPAL'!$I$375:$X$375,V18)>=1,\"\",ROW())","v":18}]
[{"$f":"'DATA S1'!A19","v":"LOC PELLE INTERLOC"},{"$f":"IF(COUNTIF('PLANNING PRINCIPAL'!$I$355:$X$355,A19)>=1,\"\",ROW())","v":19},"LOC PELLE INTERLOC","LOC PELLE INTERLOC",{"$f":"IF(COUNTIF('PLANNING PRINCIPAL'!$I$358:$X$358,D19)>=1,\"\",ROW())","v":19},"LOC PELLE INTERLOC","LOC PELLE INTERLOC",{"$f":"IF(COUNTIF('PLANNING PRINCIPAL'!$I$361:$X$361,G19)>=1,\"\",ROW())","v":19},"LOC PELLE INTERLOC","LOC PELLE INTERLOC",{"$f":"IF(COUNTIF('PLANNING PRINCIPAL'!$I$364:$X$364,J19)>=1,\"\",ROW())","v":19},"LOC PELLE INTERLOC","LOC PELLE INTERLOC",{"$f":"IF(COUNTIF('PLANNING PRINCIPAL'!$I$367:$X$367,M19)>=1,\"\",ROW())","v":19},"LOC PELLE INTERLOC","LOC PELLE INTERLOC",{"$f":"IF(COUNTIF('PLANNING PRINCIPAL'!$I$370:$X$370,P19)>=1,\"\",ROW())","v":19},"LOC PELLE INTERLOC","LOC PELLE INTERLOC",{"$f":"IF(COUNTIF('PLANNING PRINCIPAL'!$I$373:$X$373,S19)>=1,\"\",ROW())","v":19},"LOC PELLE INTERLOC",null,{"$f":"IF(COUNTIF('PLANNING PRINCIPAL'!$I$375:$X$375,V19)>=1,\"\",ROW())","v":19}]
[{"$f":"'DATA S1'!A20","v":"LOC PELLE KILOUTOU"},{"$f":"IF(COUNTIF('PLANNING PRINCIPAL'!$I$355:$X$355,A20)>=1,\"\",ROW())","v":20},"LOC PELLE KILOUTOU","LOC PELLE KILOUTOU",{"$f":"IF(COUNTIF('PLANNING PRINCIPAL'!$I$358:$X$358,D20)>=1,\"\",ROW())","v":20},"LOC PELLE KILOUTOU","LOC PELLE KILOUTOU",{"$f":"IF(COUNTIF('PLANNING PRINCIPAL'!$I$361:$X$361,G20)>=1,\"\",ROW())","v":20},"LOC PELLE KILOUTOU","LOC PELLE KILOUTOU",{"$f":"IF(COUNTIF('PLANNING PRINCIPAL'!$I$364:$X$364,J20)>=1,\"\",ROW())","v":20},"LOC PELLE KILOUTOU","LOC PELLE KILOUTOU",{"$f":"IF(COUNTIF('PLANNING PRINCIPAL'!$I$367:$X$367,M20)>=1,\"\",ROW())","v":20},"LOC PELLE KILOUTOU","LOC PELLE KILOUTOU",{"$f":"IF(COUNTIF('PLANNING PRINCIPAL'!$I$370:$X$370,P20)>=1,\"\",ROW())","v":20},"LOC PELLE KILOUTOU","LOC PELLE KILOUTOU",{"$f":"IF(COUNTIF('PLANNING PRINCIPAL'!$I$373:$X$373,S20)>=1,\"\",ROW())","v":20},"LOC PELLE KILOUTOU",null,{"$f":"IF(COUNTIF('PLANNING PRINCIPAL'!$I$375:$X$375,V20)>=1,\"\",ROW())","v":20}]
[null,{"$f":"IF(COUNTIF('PLANNING PRINCIPAL'!$I$355:$X$355,A21)>=1,\"\",ROW())","v":21},null,null,{"$f":"IF(COUNTIF('PLANNING PRINCIPAL'!$I$358:$X$358,D21)>=1,\"\",ROW())","v":21},null,null,{"$f":"IF(COUNTIF('PLANNING PRINCIPAL'!$I$361:$X$361,G21)>=1,\"\",ROW())","v":21},null,null,{"$f":"IF(COUNTIF('PLANNING PRINCIPAL'!$I$364:$X$364,J21)>=1,\"\",ROW())","v":21},null,null,{"$f":"IF(COUNTIF('PLANNING PRINCIPAL'!$I$367:$X$367,M21)>=1,\"\",ROW())","v":21},null,null,{"$f":"IF(COUNTIF('PLANNING PRINCIPAL'!$I$370:$X$370,P21)>=1,\"\",ROW())","v":21},null,null,{"$f":"IF(COUNTIF('PLANNING PRINCIPAL'!$I$373:$X$373,S21)>=1,\"\",ROW())","v":21},null,null,{"$f":"IF(COUNTIF('PLANNING PRINCIPAL'!$I$375:$X$375,V21)>=1,\"\",ROW())","v":21}]
[null,{"$f":"IF(COUNTIF('PLANNING PRINCIPAL'!$I$355:$X$355,A22)>=1,\"\",ROW())","v":22},null,null,{"$f":"IF(COUNTIF('PLANNING PRINCIPAL'!$I$358:$X$358,D22)>=1,\"\",ROW())","v":22},null,null,{"$f":"IF(COUNTIF('PLANNING PRINCIPAL'!$I$361:$X$361,G22)>=1,\"\",ROW())","v":22},null,null,{"$f":"IF(COUNTIF('PLANNING PRINCIPAL'!$I$364:$X$364,J22)>=1,\"\",ROW())","v":22},null,null,{"$f":"IF(COUNTIF('PLANNING PRINCIPAL'!$I$367:$X$367,M22)>=1,\"\",ROW())","v":22},null,null,{"$f":"IF(COUNTIF('PLANNING PRINCIPAL'!$I$370:$X$370,P22)>=1,\"\",ROW())","v":22},null,null,{"$f":"IF(COUNTIF('PLANNING PRINCIPAL'!$I$373:$X$373,S22)>=1,\"\",ROW())","v":22},null,null,{"$f":"IF(COUNTIF('PLANNING PRINCIPAL'!$I$375:$X$375,V22)>=1,\"\",ROW())","v":22}]
[null,{"$f":"IF(COUNTIF('PLANNING PRINCIPAL'!$I$355:$X$355,A23)>=1,\"\",ROW())","v":23},null,null,{"$f":"IF(COUNTIF('PLANNING PRINCIPAL'!$I$358:$X$358,D23)>=1,\"\",ROW())","v":23},null,null,{"$f":"IF(COUNTIF('PLANNING PRINCIPAL'!$I$361:$X$361,G23)>=1,\"\",ROW())","v":23},null,null,{"$f":"IF(COUNTIF('PLANNING PRINCIPAL'!$I$364:$X$364,J23)>=1,\"\",ROW())","v":23},null,null,{"$f":"IF(COUNTIF('PLANNING PRINCIPAL'!$I$367:$X$367,M23)>=1,\"\",ROW())","v":23},null,null,{"$f":"IF(COUNTIF('PLANNING PRINCIPAL'!$I$370:$X$370,P23)>=1,\"\",ROW())","v":23},null,null,{"$f":"IF(COUNTIF('PLANNING PRINCIPAL'!$I$373:$X$373,S23)>=1,\"\",ROW())","v":23},null,null,{"$f":"IF(COUNTIF('PLANNING PRINCIPAL'!$I$375:$X$375,V23)>=1,\"\",ROW())","v":23}]
[null,{"$f":"IF(COUNTIF('PLANNING PRINCIPAL'!$I$355:$X$355,A24)>=1,\"\",ROW())","v":24},null,null,{"$f":"IF(COUNTIF('PLANNING PRINCIPAL'!$I$358:$X$358,D24)>=1,\"\",ROW())","v":24},null,null,{"$f":"IF(COUNTIF('PLANNING PRINCIPAL'!$I$361:$X$361,G24)>=1,\"\",ROW())","v":24},null,null,{"$f":"IF(COUNTIF('PLANNING PRINCIPAL'!$I$364:$X$364,J24)>=1,\"\",ROW())","v":24},null,null,{"$f":"IF(COUNTIF('PLANNING PRINCIPAL'!$I$367:$X$367,M24)>=1,\"\",ROW())","v":24},null,null,{"$f":"IF(COUNTIF('PLANNING PRINCIPAL'!$I$370:$X$370,P24)>=1,\"\",ROW())","v":24},null,null,{"$f":"IF(COUNTIF('PLANNING PRINCIPAL'!$I$373:$X$373,S24)>=1,\"\",ROW())","v":24},null,null,{"$f":"IF(COUNTIF('PLANNING PRINCIPAL'!$I$375:$X$375,V24)>=1,\"\",ROW())","v":24}]
[null,{"$f":"IF(COUNTIF('PLANNING PRINCIPAL'!$I$355:$X$355,A25)>=1,\"\",ROW())","v":25},null,null,{"$f":"IF(COUNTIF('PLANNING PRINCIPAL'!$I$358:$X$358,D25)>=1,\"\",ROW())","v":25},null,null,{"$f":"IF(COUNTIF('PLANNING PRINCIPAL'!$I$361:$X$361,G25)>=1,\"\",ROW())","v":25},null,null,{"$f":"IF(COUNTIF('PLANNING PRINCIPAL'!$I$364:$X$364,J25)>=1,\"\",ROW())","v":25},null,null,{"$f":"IF(COUNTIF('PLANNING PRINCIPAL'!$I$367:$X$367,M25)>=1,\"\",ROW())","v":25},null,null,{"$f":"IF(COUNTIF('PLANNING PRINCIPAL'!$I$370:$X$370,P25)>=1,\"\",ROW())","v":25},null,null,{"$f":"IF(COUNTIF('PLANNING PRINCIPAL'!$I$373:$X$373,S25)>=1,\"\",ROW())","v":25},null,null,{"$f":"IF(COUNTIF('PLANNING PRINCIPAL'!$I$375:$X$375,V25)>=1,\"\",ROW())","v":25}]
[null,{"$f":"IF(COUNTIF('PLANNING PRINCIPAL'!$I$355:$X$355,A26)>=1,\"\",ROW())","v":26},null,null,{"$f":"IF(COUNTIF('PLANNING PRINCIPAL'!$I$358:$X$358,D26)>=1,\"\",ROW())","v":26},null,null,{"$f":"IF(COUNTIF('PLANNING PRINCIPAL'!$I$361:$X$361,G26)>=1,\"\",ROW())","v":26},null,null,{"$f":"IF(COUNTIF('PLANNING PRINCIPAL'!$I$364:$X$364,J26)>=1,\"\",ROW())","v":26},null,null,{"$f":"IF(COUNTIF('PLANNING PRINCIPAL'!$I$367:$X$367,M26)>=1,\"\",ROW())","v":26},null,null,{"$f":"IF(COUNTIF('PLANNING PRINCIPAL'!$I$370:$X$370,P26)>=1,\"\",ROW())","v":26},null,null,{"$f":"IF(COUNTIF('PLANNING PRINCIPAL'!$I$373:$X$373,S26)>=1,\"\",ROW())","v":26},null,null,{"$f":"IF(COUNTIF('PLANNING PRINCIPAL'!$I$375:$X$375,V26)>=1,\"\",ROW())","v":26}]
[null,{"$f":"IF(COUNTIF('PLANNING PRINCIPAL'!$I$355:$X$355,A27)>=1,\"\",ROW())","v":27},null,null,{"$f":"IF(COUNTIF('PLANNING PRINCIPAL'!$I$358:$X$358,D27)>=1,\"\",ROW())","v":27},null,null,{"$f":"IF(COUNTIF('PLANNING PRINCIPAL'!$I$361:$X$361,G27)>=1,\"\",ROW())","v":27},null,null,{"$f":"IF(COUNTIF('PLANNING PRINCIPAL'!$I$364:$X$364,J27)>=1,\"\",ROW())","v":27},null,null,{"$f":"IF(COUNTIF('PLANNING PRINCIPAL'!$I$367:$X$367,M27)>=1,\"\",ROW())","v":27},null,null,{"$f":"IF(COUNTIF('PLANNING PRINCIPAL'!$I$370:$X$370,P27)>=1,\"\",ROW())","v":27},null,null,{"$f":"IF(COUNTIF('PLANNING PRINCIPAL'!$I$373:$X$373,S27)>=1,\"\",ROW())","v":27},null,null,{"$f":"IF(COUNTIF('PLANNING PRINCIPAL'!$I$375:$X$375,V27)>=1,\"\",ROW())","v":27}]
[null,{"$f":"IF(COUNTIF('PLANNING PRINCIPAL'!$I$355:$X$355,A28)>=1,\"\",ROW())","v":28},null,null,{"$f":"IF(COUNTIF('PLANNING PRINCIPAL'!$I$358:$X$358,D28)>=1,\"\",ROW())","v":28},null,null,{"$f":"IF(COUNTIF('PLANNING PRINCIPAL'!$I$361:$X$361,G28)>=1,\"\",ROW())","v":28},null,null,{"$f":"IF(COUNTIF('PLANNING PRINCIPAL'!$I$364:$X$364,J28)>=1,\"\",ROW())","v":28},null,null,{"$f":"IF(COUNTIF('PLANNING PRINCIPAL'!$I$367:$X$367,M28)>=1,\"\",ROW())","v":28},null,null,{"$f":"IF(COUNTIF('PLANNING PRINCIPAL'!$I$370:$X$370,P28)>=1,\"\",ROW())","v":28},null,null,{"$f":"IF(COUNTIF('PLANNING PRINCIPAL'!$I$373:$X$373,S28)>=1,\"\",ROW())","v":28},null,null,{"$f":"IF(COUNTIF('PLANNING PRINCIPAL'!$I$375:$X$375,V28)>=1,\"\",ROW())","v":28}]
[null,{"$f":"IF(COUNTIF('PLANNING PRINCIPAL'!$I$355:$X$355,A29)>=1,\"\",ROW())","v":29},null,null,{"$f":"IF(COUNTIF('PLANNING PRINCIPAL'!$I$358:$X$358,D29)>=1,\"\",ROW())","v":29},null,null,{"$f":"IF(COUNTIF('PLANNING PRINCIPAL'!$I$361:$X$361,G29)>=1,\"\",ROW())","v":29},null,null,{"$f":"IF(COUNTIF('PLANNING PRINCIPAL'!$I$364:$X$364,J29)>=1,\"\",ROW())","v":29},null,null,{"$f":"IF(COUNTIF('PLANNING PRINCIPAL'!$I$367:$X$367,M29)>=1,\"\",ROW())","v":29},null,null,{"$f":"IF(COUNTIF('PLANNING PRINCIPAL'!$I$370:$X$370,P29)>=1,\"\",ROW())","v":29},null,null,{"$f":"IF(COUNTIF('PLANNING PRINCIPAL'!$I$373:$X$373,S29)>=1,\"\",ROW())","v":29},null,null,{"$f":"IF(COUNTIF('PLANNING PRINCIPAL'!$I$375:$X$375,V29)>=1,\"\",ROW())","v":29}]
[null,{"$f":"IF(COUNTIF('PLANNING PRINCIPAL'!$I$355:$X$355,A30)>=1,\"\",ROW())","v":30},null,null,{"$f":"IF(COUNTIF('PLANNING PRINCIPAL'!$I$358:$X$358,D30)>=1,\"\",ROW())","v":30},null,null,{"$f":"IF(COUNTIF('PLANNING PRINCIPAL'!$I$361:$X$361,G30)>=1,\"\",ROW())","v":30},null,null,{"$f":"IF(COUNTIF('PLANNING PRINCIPAL'!$I$364:$X$364,J30)>=1,\"\",ROW())","v":30},null,null,{"$f":"IF(COUNTIF('PLANNING PRINCIPAL'!$I$367:$X$367,M30)>=1,\"\",ROW())","v":30},null,null,{"$f":"IF(COUNTIF('PLANNING PRINCIPAL'!$I$370:$X$370,P30)>=1,\"\",ROW())","v":30},null,null,{"$f":"IF(COUNTIF('PLANNING PRINCIPAL'!$I$373:$X$373,S30)>=1,\"\",ROW())","v":30},null,null,{"$f":"IF(COUNTIF('PLANNING PRINCIPAL'!$I$375:$X$375,V30)>=1,\"\",ROW())","v":30}]
[null,{"$f":"IF(COUNTIF('PLANNING PRINCIPAL'!$I$355:$X$355,A31)>=1,\"\",ROW())","v":31},null,null,{"$f":"IF(COUNTIF('PLANNING PRINCIPAL'!$I$358:$X$358,D31)>=1,\"\",ROW())","v":31},null,null,{"$f":"IF(COUNTIF('PLANNING PRINCIPAL'!$I$361:$X$361,G31)>=1,\"\",ROW())","v":31},null,null,{"$f":"IF(COUNTIF('PLANNING PRINCIPAL'!$I$364:$X$364,J31)>=1,\"\",ROW())","v":31},null,null,{"$f":"IF(COUNTIF('PLANNING PRINCIPAL'!$I$367:$X$367,M31)>=1,\"\",ROW())","v":31},null,null,{"$f":"IF(COUNTIF('PLANNING PRINCIPAL'!$I$370:$X$370,P31)>=1,\"\",ROW())","v":31},null,null,{"$f":"IF(COUNTIF('PLANNING PRINCIPAL'!$I$373:$X$373,S31)>=1,\"\",ROW())","v":31},null,null,{"$f":"IF(COUNTIF('PLANNING PRINCIPAL'!$I$375:$X$375,V31)>=1,\"\",ROW())","v":31}]
[null,{"$f":"IF(COUNTIF('PLANNING PRINCIPAL'!$I$355:$X$355,A32)>=1,\"\",ROW())","v":32},null,null,{"$f":"IF(COUNTIF('PLANNING PRINCIPAL'!$I$358:$X$358,D32)>=1,\"\",ROW())","v":32},null,null,{"$f":"IF(COUNTIF('PLANNING PRINCIPAL'!$I$361:$X$361,G32)>=1,\"\",ROW())","v":32},null,null,{"$f":"IF(COUNTIF('PLANNING PRINCIPAL'!$I$364:$X$364,J32)>=1,\"\",ROW())","v":32},null,null,{"$f":"IF(COUNTIF('PLANNING PRINCIPAL'!$I$367:$X$367,M32)>=1,\"\",ROW())","v":32},null,null,{"$f":"IF(COUNTIF('PLANNING PRINCIPAL'!$I$370:$X$370,P32)>=1,\"\",ROW())","v":32},null,null,{"$f":"IF(COUNTIF('PLANNING PRINCIPAL'!$I$373:$X$373,S32)>=1,\"\",ROW())","v":32},null,null,{"$f":"IF(COUNTIF('PLANNING PRINCIPAL'!$I$375:$X$375,V32)>=1,\"\",ROW())","v":32}]
[null,{"$f":"IF(COUNTIF('PLANNING PRINCIPAL'!$I$355:$X$355,A33)>=1,\"\",ROW())","v":33},null,null,{"$f":"IF(COUNTIF('PLANNING PRINCIPAL'!$I$358:$X$358,D33)>=1,\"\",ROW())","v":33},null,null,{"$f":"IF(COUNTIF('PLANNING PRINCIPAL'!$I$361:$X$361,G33)>=1,\"\",ROW())","v":33},null,null,{"$f":"IF(COUNTIF('PLANNING PRINCIPAL'!$I$364:$X$364,J33)>=1,\"\",ROW())","v":33},null,null,{"$f":"IF(COUNTIF('PLANNING PRINCIPAL'!$I$367:$X$367,M33)>=1,\"\",ROW())","v":33},null,null,{"$f":"IF(COUNTIF('PLANNING PRINCIPAL'!$I$370:$X$370,P33)>=1,\"\",ROW())","v":33},null,null,{"$f":"IF(COUNTIF('PLANNING PRINCIPAL'!$I$373:$X$373,S33)>=1,\"\",ROW())","v":33},null,null,{"$f":"IF(COUNTIF('PLANNING PRINCIPAL'!$I$375:$X$375,V33)>=1,\"\",ROW())","v":33}]
[null,{"$f":"IF(COUNTIF('PLANNING PRINCIPAL'!$I$355:$X$355,A34)>=1,\"\",ROW())","v":34},null,null,{"$f":"IF(COUNTIF('PLANNING PRINCIPAL'!$I$358:$X$358,D34)>=1,\"\",ROW())","v":34},null,null,{"$f":"IF(COUNTIF('PLANNING PRINCIPAL'!$I$361:$X$361,G34)>=1,\"\",ROW())","v":34},null,null,{"$f":"IF(COUNTIF('PLANNING PRINCIPAL'!$I$364:$X$364,J34)>=1,\"\",ROW())","v":34},null,null,{"$f":"IF(COUNTIF('PLANNING PRINCIPAL'!$I$367:$X$367,M34)>=1,\"\",ROW())","v":34},null,null,{"$f":"IF(COUNTIF('PLANNING PRINCIPAL'!$I$370:$X$370,P34)>=1,\"\",ROW())","v":34},null,null,{"$f":"IF(COUNTIF('PLANNING PRINCIPAL'!$I$373:$X$373,S34)>=1,\"\",ROW())","v":34},null,null,{"$f":"IF(COUNTIF('PLANNING PRINCIPAL'!$I$375:$X$375,V34)>=1,\"\",ROW())","v":34}]
["LUNDI",null,null,"MARDI",null,null,"MERCREDI",null,null,"JEUDI",null,null,"VENDREDI",null,null,"SAMEDI",null,null,"DIMANCHE",null,null,"ASTREINTE"]

{"sheet":"DATA S17","index":18,"n_rows":35,"n_cols":24,"rows_kept":35,"cut":false,"hidden":false,"merged":[[34,18,34,20],[34,21,34,23],[34,0,34,2],[34,3,34,5],[34,6,34,8],[34,9,34,11],[34,12,34,14],[34,15,34,17]]}
[{"$f":"'DATA S1'!A1","v":"MAS XX "},{"$f":"IF(COUNTIF('PLANNING PRINCIPAL'!$I$378:$X$378,A1)>=1,\"\",ROW())","v":1},{"$f":"IF(ROW(A1)-ROW(A$1)+1>COUNT(B:B),\"\", INDEX(A:A,SMALL(B:B,1+ROW(A1)-ROW(A$1))))","v":"MAS XX "},{"$f":"A1","v":"MAS XX "},{"$f":"IF(COUNTIF('PLANNING PRINCIPAL'!$I$381:$X$381,D1)>=1,\"\",ROW())","v":1},{"$f":"IF(ROW(D1)-ROW(D$1)+1>COUNT(E:E),\"\", INDEX(D:D,SMALL(E:E,1+ROW(D1)-ROW(D$1))))","v":"MAS XX "},{"$f":"A1","v":"MAS XX "},{"$f":"IF(COUNTIF('PLANNING PRINCIPAL'!$I$384:$X$384,G1)>=1,\"\",ROW())","v":1},{"$f":"IF(ROW(G1)-ROW(G$1)+1>COUNT(H:H),\"\", INDEX(G:G,SMALL(H:H,1+ROW(G1)-ROW(G$1))))","v":"MAS XX "},{"$f":"A1","v":"MAS XX "},{"$f":"IF(COUNTIF('PLANNING PRINCIPAL'!$I$387:$X$387,J1)>=1,\"\",ROW())","v":1},{"$f":"IF(ROW(J1)-ROW(J$1)+1>COUNT(K:K),\"\", INDEX(J:J,SMALL(K:K,1+ROW(J1)-ROW(J$1))))","v":"MAS XX "},{"$f":"A1","v":"MAS XX "},{"$f":"IF(COUNTIF('PLANNING PRINCIPAL'!$I$390:$X$390,M1)>=1,\"\",ROW())","v":1},{"$f":"IF(ROW(M1)-ROW(M$1)+1>COUNT(N:N),\"\", INDEX(M:M,SMALL(N:N,1+ROW(M1)-ROW(M$1))))","v":"MAS XX "},{"$f":"A1","v":"MAS XX "},{"$f":"IF(COUNTIF('PLANNING PRINCIPAL'!$I$393:$X$393,P1)>=1,\"\",ROW())","v":1},{"$f":"IF(ROW(P1)-ROW(P$1)+1>COUNT(Q:Q),\"\", INDEX(P:P,SMALL(Q:Q,1+ROW(P1)-ROW(P$1))))","v":"MAS XX "},{"$f":"A1","v":"MAS XX "},{"$f":"IF(COUNTIF('PLANNING PRINCIPAL'!$I$396:$X$396,S1)>=1,\"\",ROW())","v":1},{"$f":"IF(ROW(S1)-ROW(S$1)+1>COUNT(T:T),\"\", INDEX(S:S,SMALL(T:T,1+ROW(S1)-ROW(S$1))))","v":"MAS XX "},{"$f":"'DATA S1'!V1","v":"ASTREINTE SLT"},{"$f":"IF(COUNTIF('PLANNING PRINCIPAL'!$I$398:$X$398,V1)>=1,\"\",ROW())","v":1},{"$f":"IF(ROW(V1)-ROW(V$1)+1>COUNT(W:W),\"\", INDEX(V:V,SMALL(W:W,1+ROW(V1)-ROW(V$1))))","v":"ASTREINTE SLT"}]
[{"$f":"'DATA S1'!A2","v":"MAS YY "},{"$f":"IF(COUNTIF('PLANNING PRINCIPAL'!$I$378:$X$378,A2)>=1,\"\",ROW())","v":2},{"$f":"IF(ROW(A2)-ROW(A$1)+1>COUNT(B:B),\"\", INDEX(A:A,SMALL(B:B,1+ROW(A2)-ROW(A$1))))","v":"MAS YY "},"MAS YY ",{"$f":"IF(COUNTIF('PLANNING PRINCIPAL'!$I$381:$X$381,D2)>=1,\"\",ROW())","v":2},{"$f":"IF(ROW(D2)-ROW(D$1)+1>COUNT(E:E),\"\", INDEX(D:D,SMALL(E:E,1+ROW(D2)-ROW(D$1))))","v":"MAS YY "},{"$f":"A2","v":"MAS YY "},{"$f":"IF(COUNTIF('PLANNING PRINCIPAL'!$I$384:$X$384,G2)>=1,\"\",ROW())","v":2},{"$f":"IF(ROW(G2)-ROW(G$1)+1>COUNT(H:H),\"\", INDEX(G:G,SMALL(H:H,1+ROW(G2)-ROW(G$1))))","v":"MAS YY "},{"$f":"A2","v":"MAS YY "},{"$f":"IF(COUNTIF('PLANNING PRINCIPAL'!$I$387:$X$387,J2)>=1,\"\",ROW())","v":2},{"$f":"IF(ROW(J2)-ROW(J$1)+1>COUNT(K:K),\"\", INDEX(J:J,SMALL(K:K,1+ROW(J2)-ROW(J$1))))","v":"MAS YY "},{"$f":"A2","v":"MAS YY "},{"$f":"IF(COUNTIF('PLANNING PRINCIPAL'!$I$390:$X$390,M2)>=1,\"\",ROW())","v":2},{"$f":"IF(ROW(M2)-ROW(M$1)+1>COUNT(N:N),\"\", INDEX(M:M,SMALL(N:N,1+ROW(M2)-ROW(M$1))))","v":"MAS YY "},{"$f":"A2","v":"MAS YY "},{"$f":"IF(COUNTIF('PLANNING PRINCIPAL'!$I$393:$X$393,P2)>=1,\"\",ROW())","v":2},{"$f":"IF(ROW(P2)-ROW(P$1)+1>COUNT(Q:Q),\"\", INDEX(P:P,SMALL(Q:Q,1+ROW(P2)-ROW(P$1))))","v":"MAS YY "},{"$f":"A2","v":"MAS YY "},{"$f":"IF(COUNTIF('PLANNING PRINCIPAL'!$I$396:$X$396,S2)>=1,\"\",ROW())","v":2},{"$f":"IF(ROW(S2)-ROW(S$1)+1>COUNT(T:T),\"\", INDEX(S:S,SMALL(T:T,1+ROW(S2)-ROW(S$1))))","v":"MAS YY "},{"$f":"'DATA S1'!V2","v":"ASTREINTE EP"},{"$f":"IF(COUNTIF('PLANNING PRINCIPAL'!$I$398:$X$398,V2)>=1,\"\",ROW())","v":2},{"$f":"IF(ROW(V2)-ROW(V$1)+1>COUNT(W:W),\"\", INDEX(V:V,SMALL(W:W,1+ROW(V2)-ROW(V$1))))","v":"ASTREINTE EP"}]
[{"$f":"'DATA S1'!A3","v":"MAS VQ "},{"$f":"IF(COUNTIF('PLANNING PRINCIPAL'!$I$378:$X$378,A3)>=1,\"\",ROW())","v":3},"MAS VQ ","MAS VQ ",{"$f":"IF(COUNTIF('PLANNING PRINCIPAL'!$I$381:$X$381,D3)>=1,\"\",ROW())","v":3},"MAS VQ ","MAS VQ ",{"$f":"IF(COUNTIF('PLANNING PRINCIPAL'!$I$384:$X$384,G3)>=1,\"\",ROW())","v":3},"MAS VQ ","MAS VQ ",{"$f":"IF(COUNTIF('PLANNING PRINCIPAL'!$I$387:$X$387,J3)>=1,\"\",ROW())","v":3},"MAS VQ ","MAS VQ ",{"$f":"IF(COUNTIF('PLANNING PRINCIPAL'!$I$390:$X$390,M3)>=1,\"\",ROW())","v":3},"MAS VQ ","MAS VQ ",{"$f":"IF(COUNTIF('PLANNING PRINCIPAL'!$I$393:$X$393,P3)>=1,\"\",ROW())","v":3},"MAS VQ ","MAS VQ ",{"$f":"IF(COUNTIF('PLANNING PRINCIPAL'!$I$396:$X$396,S3)>=1,\"\",ROW())","v":3},"MAS VQ ",{"$f":"'DATA S1'!V3","v":"V NOC CHARTRES"},{"$f":"IF(COUNTIF('PLANNING PRINCIPAL'!$I$398:$X$398,V3)>=1,\"\",ROW())","v":3},"V NOC CHARTRES"]
[{"$f":"'DATA S1'!A4","v":"MAS PL "},{"$f":"IF(COUNTIF('PLANNING PRINCIPAL'!$I$378:$X$378,A4)>=1,\"\",ROW())","v":4},"MAS PL ","MAS PL ",{"$f":"IF(COUNTIF('PLANNING PRINCIPAL'!$I$381:$X$381,D4)>=1,\"\",ROW())","v":4},"MAS PL ","MAS PL ",{"$f":"IF(COUNTIF('PLANNING PRINCIPAL'!$I$384:$X$384,G4)>=1,\"\",ROW())","v":4},"MAS PL ","MAS PL ",{"$f":"IF(COUNTIF('PLANNING PRINCIPAL'!$I$387:$X$387,J4)>=1,\"\",ROW())","v":4},"MAS PL ","MAS PL ",{"$f":"IF(COUNTIF('PLANNING PRINCIPAL'!$I$390:$X$390,M4)>=1,\"\",ROW())","v":4},"MAS PL ","MAS PL ",{"$f":"IF(COUNTIF('PLANNING PRINCIPAL'!$I$393:$X$393,P4)>=1,\"\",ROW())","v":4},"MAS PL ","MAS PL ",{"$f":"IF(COUNTIF('PLANNING PRINCIPAL'!$I$396:$X$396,S4)>=1,\"\",ROW())","v":4},"MAS PL ",{"$f":"'DATA S1'!V4","v":"V NOC EPERNON"},{"$f":"IF(COUNTIF('PLANNING PRINCIPAL'!$I$398:$X$398,V4)>=1,\"\",ROW())","v":4},"V NOC EPERNON"]
[{"$f":"'DATA S1'!A5","v":"BEN VL PT "},{"$f":"IF(COUNTIF('PLANNING PRINCIPAL'!$I$378:$X$378,A5)>=1,\"\",ROW())","v":5},"BEN VL PT ","BEN VL PT ",{"$f":"IF(COUNTIF('PLANNING PRINCIPAL'!$I$381:$X$381,D5)>=1,\"\",ROW())","v":5},"BEN VL PT ","BEN VL PT ",{"$f":"IF(COUNTIF('PLANNING PRINCIPAL'!$I$384:$X$384,G5)>=1,\"\",ROW())","v":5},"BEN VL PT ","BEN VL PT ",{"$f":"IF(COUNTIF('PLANNING PRINCIPAL'!$I$387:$X$387,J5)>=1,\"\",ROW())","v":5},"BEN VL PT ","BEN VL PT ",{"$f":"IF(COUNTIF('PLANNING PRINCIPAL'!$I$390:$X$390,M5)>=1,\"\",ROW())","v":5},"BEN VL PT ","BEN VL PT ",{"$f":"IF(COUNTIF('PLANNING PRINCIPAL'!$I$393:$X$393,P5)>=1,\"\",ROW())","v":5},"BEN VL PT ","BEN VL PT ",{"$f":"IF(COUNTIF('PLANNING PRINCIPAL'!$I$396:$X$396,S5)>=1,\"\",ROW())","v":5},"BEN VL PT ",{"$f":"'DATA S1'!V5","v":"V NOC HANCHES"},{"$f":"IF(COUNTIF('PLANNING PRINCIPAL'!$I$398:$X$398,V5)>=1,\"\",ROW())","v":5},"V NOC HANCHES"]
[{"$f":"'DATA S1'!A6","v":"BEN 19T "},{"$f":"IF(COUNTIF('PLANNING PRINCIPAL'!$I$378:$X$378,A6)>=1,\"\",ROW())","v":6},"BEN 19T ","BEN 19T ",{"$f":"IF(COUNTIF('PLANNING PRINCIPAL'!$I$381:$X$381,D6)>=1,\"\",ROW())","v":6},"BEN 19T ","BEN 19T ",{"$f":"IF(COUNTIF('PLANNING PRINCIPAL'!$I$384:$X$384,G6)>=1,\"\",ROW())","v":6},"BEN 19T ","BEN 19T ",{"$f":"IF(COUNTIF('PLANNING PRINCIPAL'!$I$387:$X$387,J6)>=1,\"\",ROW())","v":6},"BEN 19T ","BEN 19T ",{"$f":"IF(COUNTIF('PLANNING PRINCIPAL'!$I$390:$X$390,M6)>=1,\"\",ROW())","v":6},"BEN 19T ","BEN 19T ",{"$f":"IF(COUNTIF('PLANNING PRINCIPAL'!$I$393:$X$393,P6)>=1,\"\",ROW())","v":6},"BEN 19T ","BEN 19T ",{"$f":"IF(COUNTIF('PLANNING PRINCIPAL'!$I$396:$X$396,S6)>=1,\"\",ROW())","v":6},"BEN 19T ",{"$f":"'DATA S1'!V6","v":"V NOC MAINTENON"},{"$f":"IF(COUNTIF('PLANNING PRINCIPAL'!$I$398:$X$398,V6)>=1,\"\",ROW())","v":6},"V NOC MAINTENON"]
[{"$f":"'DATA S1'!A7","v":"BEN 13T "},{"$f":"IF(COUNTIF('PLANNING PRINCIPAL'!$I$378:$X$378,A7)>=1,\"\",ROW())","v":7},"BEN 13T ","BEN 13T ",{"$f":"IF(COUNTIF('PLANNING PRINCIPAL'!$I$381:$X$381,D7)>=1,\"\",ROW())","v":7},"BEN 13T ","BEN 13T ",{"$f":"IF(COUNTIF('PLANNING PRINCIPAL'!$I$384:$X$384,G7)>=1,\"\",ROW())","v":7},"BEN 13T ","BEN 13T ",{"$f":"IF(COUNTIF('PLANNING PRINCIPAL'!$I$387:$X$387,J7)>=1,\"\",ROW())","v":7},"BEN 13T ","BEN 13T ",{"$f":"IF(COUNTIF('PLANNING PRINCIPAL'!$I$390:$X$390,M7)>=1,\"\",ROW())","v":7},"BEN 13T ","BEN 13T ",{"$f":"IF(COUNTIF('PLANNING PRINCIPAL'!$I$393:$X$393,P7)>=1,\"\",ROW())","v":7},"BEN 13T ","BEN 13T ",{"$f":"IF(COUNTIF('PLANNING PRINCIPAL'!$I$396:$X$396,S7)>=1,\"\",ROW())","v":7},"BEN 13T ",null,{"$f":"IF(COUNTIF('PLANNING PRINCIPAL'!$I$375:$X$375,V7)>=1,\"\",ROW())","v":7}]
[{"$f":"'DATA S1'!A8","v":"NAC VL 18M "},{"$f":"IF(COUNTIF('PLANNING PRINCIPAL'!$I$378:$X$378,A8)>=1,\"\",ROW())","v":8},"NAC VL 18M ","NAC VL 18M ",{"$f":"IF(COUNTIF('PLANNING PRINCIPAL'!$I$381:$X$381,D8)>=1,\"\",ROW())","v":8},"NAC VL 18M ","NAC VL 18M ",{"$f":"IF(COUNTIF('PLANNING PRINCIPAL'!$I$384:$X$384,G8)>=1,\"\",ROW())","v":8},"NAC VL 18M ","NAC VL 18M ",{"$f":"IF(COUNTIF('PLANNING PRINCIPAL'!$I$387:$X$387,J8)>=1,\"\",ROW())","v":8},"NAC VL 18M ","NAC VL 18M ",{"$f":"IF(COUNTIF('PLANNING PRINCIPAL'!$I$390:$X$390,M8)>=1,\"\",ROW())","v":8},"NAC VL 18M ","NAC VL 18M ",{"$f":"IF(COUNTIF('PLANNING PRINCIPAL'!$I$393:$X$393,P8)>=1,\"\",ROW())","v":8},"NAC VL 18M ","NAC VL 18M ",{"$f":"IF(COUNTIF('PLANNING PRINCIPAL'!$I$396:$X$396,S8)>=1,\"\",ROW())","v":8},"NAC VL 18M ",null,{"$f":"IF(COUNTIF('PLANNING PRINCIPAL'!$I$375:$X$375,V8)>=1,\"\",ROW())","v":8}]
[{"$f":"'DATA S1'!A9","v":"NAC EGIE"},{"$f":"IF(COUNTIF('PLANNING PRINCIPAL'!$I$378:$X$378,A9)>=1,\"\",ROW())","v":9},"NAC EGIE","NAC EGIE",{"$f":"IF(COUNTIF('PLANNING PRINCIPAL'!$I$381:$X$381,D9)>=1,\"\",ROW())","v":9},"NAC EGIE","NAC EGIE",{"$f":"IF(COUNTIF('PLANNING PRINCIPAL'!$I$384:$X$384,G9)>=1,\"\",ROW())","v":9},"NAC EGIE","NAC EGIE",{"$f":"IF(COUNTIF('PLANNING PRINCIPAL'!$I$387:$X$387,J9)>=1,\"\",ROW())","v":9},"NAC EGIE","NAC EGIE",{"$f":"IF(COUNTIF('PLANNING PRINCIPAL'!$I$390:$X$390,M9)>=1,\"\",ROW())","v":9},"NAC EGIE","NAC EGIE",{"$f":"IF(COUNTIF('PLANNING PRINCIPAL'!$I$393:$X$393,P9)>=1,\"\",ROW())","v":9},"NAC EGIE","NAC EGIE",{"$f":"IF(COUNTIF('PLANNING PRINCIPAL'!$I$396:$X$396,S9)>=1,\"\",ROW())","v":9},"NAC EGIE",null,{"$f":"IF(COUNTIF('PLANNING PRINCIPAL'!$I$375:$X$375,V9)>=1,\"\",ROW())","v":9}]
[{"$f":"'DATA S1'!A10","v":"NAC COMI "},{"$f":"IF(COUNTIF('PLANNING PRINCIPAL'!$I$378:$X$378,A10)>=1,\"\",ROW())","v":10},"NAC COMI ","NAC COMI ",{"$f":"IF(COUNTIF('PLANNING PRINCIPAL'!$I$381:$X$381,D10)>=1,\"\",ROW())","v":10},"NAC COMI ","NAC COMI ",{"$f":"IF(COUNTIF('PLANNING PRINCIPAL'!$I$384:$X$384,G10)>=1,\"\",ROW())","v":10},"NAC COMI ","NAC COMI ",{"$f":"IF(COUNTIF('PLANNING PRINCIPAL'!$I$387:$X$387,J10)>=1,\"\",ROW())","v":10},"NAC COMI ","NAC COMI ",{"$f":"IF(COUNTIF('PLANNING PRINCIPAL'!$I$390:$X$390,M10)>=1,\"\",ROW())","v":10},"NAC COMI ","NAC COMI ",{"$f":"IF(COUNTIF('PLANNING PRINCIPAL'!$I$393:$X$393,P10)>=1,\"\",ROW())","v":10},"NAC COMI ","NAC COMI ",{"$f":"IF(COUNTIF('PLANNING PRINCIPAL'!$I$396:$X$396,S10)>=1,\"\",ROW())","v":10},"NAC COMI ",null,{"$f":"IF(COUNTIF('PLANNING PRINCIPAL'!$I$375:$X$375,V10)>=1,\"\",ROW())","v":10}]
[{"$f":"'DATA S1'!A11","v":"#####LOCATION#####"},{"$f":"IF(COUNTIF('PLANNING PRINCIPAL'!$I$378:$X$378,A11)>=1,\"\",ROW())","v":11},"#####LOCATION#####","#####LOCATION#####",{"$f":"IF(COUNTIF('PLANNING PRINCIPAL'!$I$381:$X$381,D11)>=1,\"\",ROW())","v":11},"#####LOCATION#####","#####LOCATION#####",{"$f":"IF(COUNTIF('PLANNING PRINCIPAL'!$I$384:$X$384,G11)>=1,\"\",ROW())","v":11},"#####LOCATION#####","#####LOCATION#####",{"$f":"IF(COUNTIF('PLANNING PRINCIPAL'!$I$387:$X$387,J11)>=1,\"\",ROW())","v":11},"#####LOCATION#####","#####LOCATION#####",{"$f":"IF(COUNTIF('PLANNING PRINCIPAL'!$I$390:$X$390,M11)>=1,\"\",ROW())","v":11},"#####LOCATION#####","#####LOCATION#####",{"$f":"IF(COUNTIF('PLANNING PRINCIPAL'!$I$393:$X$393,P11)>=1,\"\",ROW())","v":11},"#####LOCATION#####","#####LOCATION#####",{"$f":"IF(COUNTIF('PLANNING PRINCIPAL'!$I$396:$X$396,S11)>=1,\"\",ROW())","v":11},"#####LOCATION#####",null,{"$f":"IF(COUNTIF('PLANNING PRINCIPAL'!$I$375:$X$375,V11)>=1,\"\",ROW())","v":11}]
[{"$f":"'DATA S1'!A12","v":"LOC NAC SOLOMAT"},{"$f":"IF(COUNTIF('PLANNING PRINCIPAL'!$I$378:$X$378,A12)>=1,\"\",ROW())","v":12},"LOC NAC SOLOMAT","LOC NAC SOLOMAT",{"$f":"IF(COUNTIF('PLANNING PRINCIPAL'!$I$381:$X$381,D12)>=1,\"\",ROW())","v":12},"LOC NAC SOLOMAT","LOC NAC SOLOMAT",{"$f":"IF(COUNTIF('PLANNING PRINCIPAL'!$I$384:$X$384,G12)>=1,\"\",ROW())","v":12},"LOC NAC SOLOMAT","LOC NAC SOLOMAT",{"$f":"IF(COUNTIF('PLANNING PRINCIPAL'!$I$387:$X$387,J12)>=1,\"\",ROW())","v":12},"LOC NAC SOLOMAT","LOC NAC SOLOMAT",{"$f":"IF(COUNTIF('PLANNING PRINCIPAL'!$I$390:$X$390,M12)>=1,\"\",ROW())","v":12},"LOC NAC SOLOMAT","LOC NAC SOLOMAT",{"$f":"IF(COUNTIF('PLANNING PRINCIPAL'!$I$393:$X$393,P12)>=1,\"\",ROW())","v":12},"LOC NAC SOLOMAT","LOC NAC SOLOMAT",{"$f":"IF(COUNTIF('PLANNING PRINCIPAL'!$I$396:$X$396,S12)>=1,\"\",ROW())","v":12},"LOC NAC SOLOMAT",null,{"$f":"IF(COUNTIF('PLANNING PRINCIPAL'!$I$375:$X$375,V12)>=1,\"\",ROW())","v":12}]
[{"$f":"'DATA S1'!A13","v":"LOC NAC AEB"},{"$f":"IF(COUNTIF('PLANNING PRINCIPAL'!$I$378:$X$378,A13)>=1,\"\",ROW())","v":13},"LOC NAC AEB","LOC NAC AEB",{"$f":"IF(COUNTIF('PLANNING PRINCIPAL'!$I$381:$X$381,D13)>=1,\"\",ROW())","v":13},"LOC NAC AEB","LOC NAC AEB",{"$f":"IF(COUNTIF('PLANNING PRINCIPAL'!$I$384:$X$384,G13)>=1,\"\",ROW())","v":13},"LOC NAC AEB","LOC NAC AEB",{"$f":"IF(COUNTIF('PLANNING PRINCIPAL'!$I$387:$X$387,J13)>=1,\"\",ROW())","v":13},"LOC NAC AEB","LOC NAC AEB",{"$f":"IF(COUNTIF('PLANNING PRINCIPAL'!$I$390:$X$390,M13)>=1,\"\",ROW())","v":13},"LOC NAC AEB","LOC NAC AEB",{"$f":"IF(COUNTIF('PLANNING PRINCIPAL'!$I$393:$X$393,P13)>=1,\"\",ROW())","v":13},"LOC NAC AEB","LOC NAC AEB",{"$f":"IF(COUNTIF('PLANNING PRINCIPAL'!$I$396:$X$396,S13)>=1,\"\",ROW())","v":13},"LOC NAC AEB",null,{"$f":"IF(COUNTIF('PLANNING PRINCIPAL'!$I$375:$X$375,V13)>=1,\"\",ROW())","v":13}]
[{"$f":"'DATA S1'!A14","v":"LOC NAC INTERLOC"},{"$f":"IF(COUNTIF('PLANNING PRINCIPAL'!$I$378:$X$378,A14)>=1,\"\",ROW())","v":14},"LOC NAC INTERLOC","LOC NAC INTERLOC",{"$f":"IF(COUNTIF('PLANNING PRINCIPAL'!$I$381:$X$381,D14)>=1,\"\",ROW())","v":14},"LOC NAC INTERLOC","LOC NAC INTERLOC",{"$f":"IF(COUNTIF('PLANNING PRINCIPAL'!$I$384:$X$384,G14)>=1,\"\",ROW())","v":14},"LOC NAC INTERLOC","LOC NAC INTERLOC",{"$f":"IF(COUNTIF('PLANNING PRINCIPAL'!$I$387:$X$387,J14)>=1,\"\",ROW())","v":14},"LOC NAC INTERLOC","LOC NAC INTERLOC",{"$f":"IF(COUNTIF('PLANNING PRINCIPAL'!$I$390:$X$390,M14)>=1,\"\",ROW())","v":14},"LOC NAC INTERLOC","LOC NAC INTERLOC",{"$f":"IF(COUNTIF('PLANNING PRINCIPAL'!$I$393:$X$393,P14)>=1,\"\",ROW())","v":14},"LOC NAC INTERLOC","LOC NAC INTERLOC",{"$f":"IF(COUNTIF('PLANNING PRINCIPAL'!$I$396:$X$396,S14)>=1,\"\",ROW())","v":14},"LOC NAC INTERLOC",null,{"$f":"IF(COUNTIF('PLANNING PRINCIPAL'!$I$375:$X$375,V14)>=1,\"\",ROW())","v":14}]
[{"$f":"'DATA S1'!A15","v":"LOC NAC KILOUTOU"},{"$f":"IF(COUNTIF('PLANNING PRINCIPAL'!$I$378:$X$378,A15)>=1,\"\",ROW())","v":15},"LOC NAC KILOUTOU","LOC NAC KILOUTOU",{"$f":"IF(COUNTIF('PLANNING PRINCIPAL'!$I$381:$X$381,D15)>=1,\"\",ROW())","v":15},"LOC NAC KILOUTOU","LOC NAC KILOUTOU",{"$f":"IF(COUNTIF('PLANNING PRINCIPAL'!$I$384:$X$384,G15)>=1,\"\",ROW())","v":15},"LOC NAC KILOUTOU","LOC NAC KILOUTOU",{"$f":"IF(COUNTIF('PLANNING PRINCIPAL'!$I$387:$X$387,J15)>=1,\"\",ROW())","v":15},"LOC NAC KILOUTOU","LOC NAC KILOUTOU",{"$f":"IF(COUNTIF('PLANNING PRINCIPAL'!$I$390:$X$390,M15)>=1,\"\",ROW())","v":15},"LOC NAC KILOUTOU","LOC NAC KILOUTOU",{"$f":"IF(COUNTIF('PLANNING PRINCIPAL'!$I$393:$X$393,P15)>=1,\"\",ROW())","v":15},"LOC NAC KILOUTOU","LOC NAC KILOUTOU",{"$f":"IF(COUNTIF('PLANNING PRINCIPAL'!$I$396:$X$396,S15)>=1,\"\",ROW())","v":15},"LOC NAC KILOUTOU",null,{"$f":"IF(COUNTIF('PLANNING PRINCIPAL'!$I$375:$X$375,V15)>=1,\"\",ROW())","v":15}]
[{"$f":"'DATA S1'!A16","v":"LOC NAC AEB"},{"$f":"IF(COUNTIF('PLANNING PRINCIPAL'!$I$378:$X$378,A16)>=1,\"\",ROW())","v":16},"LOC NAC AEB","LOC NAC AEB",{"$f":"IF(COUNTIF('PLANNING PRINCIPAL'!$I$381:$X$381,D16)>=1,\"\",ROW())","v":16},"LOC NAC AEB","LOC NAC AEB",{"$f":"IF(COUNTIF('PLANNING PRINCIPAL'!$I$384:$X$384,G16)>=1,\"\",ROW())","v":16},"LOC NAC AEB","LOC NAC AEB",{"$f":"IF(COUNTIF('PLANNING PRINCIPAL'!$I$387:$X$387,J16)>=1,\"\",ROW())","v":16},"LOC NAC AEB","LOC NAC AEB",{"$f":"IF(COUNTIF('PLANNING PRINCIPAL'!$I$390:$X$390,M16)>=1,\"\",ROW())","v":16},"LOC NAC AEB","LOC NAC AEB",{"$f":"IF(COUNTIF('PLANNING PRINCIPAL'!$I$393:$X$393,P16)>=1,\"\",ROW())","v":16},"LOC NAC AEB","LOC NAC AEB",{"$f":"IF(COUNTIF('PLANNING PRINCIPAL'!$I$396:$X$396,S16)>=1,\"\",ROW())","v":16},"LOC NAC AEB",null,{"$f":"IF(COUNTIF('PLANNING PRINCIPAL'!$I$375:$X$375,V16)>=1,\"\",ROW())","v":16}]
[{"$f":"'DATA S1'!A17","v":"LOC PELLE SOLOMAT"},{"$f":"IF(COUNTIF('PLANNING PRINCIPAL'!$I$378:$X$378,A17)>=1,\"\",ROW())","v":17},"LOC PELLE SOLOMAT","LOC PELLE SOLOMAT",{"$f":"IF(COUNTIF('PLANNING PRINCIPAL'!$I$381:$X$381,D17)>=1,\"\",ROW())","v":17},"LOC PELLE SOLOMAT","LOC PELLE SOLOMAT",{"$f":"IF(COUNTIF('PLANNING PRINCIPAL'!$I$384:$X$384,G17)>=1,\"\",ROW())","v":17},"LOC PELLE SOLOMAT","LOC PELLE SOLOMAT",{"$f":"IF(COUNTIF('PLANNING PRINCIPAL'!$I$387:$X$387,J17)>=1,\"\",ROW())","v":17},"LOC PELLE SOLOMAT","LOC PELLE SOLOMAT",{"$f":"IF(COUNTIF('PLANNING PRINCIPAL'!$I$390:$X$390,M17)>=1,\"\",ROW())","v":17},"LOC PELLE SOLOMAT","LOC PELLE SOLOMAT",{"$f":"IF(COUNTIF('PLANNING PRINCIPAL'!$I$393:$X$393,P17)>=1,\"\",ROW())","v":17},"LOC PELLE SOLOMAT","LOC PELLE SOLOMAT",{"$f":"IF(COUNTIF('PLANNING PRINCIPAL'!$I$396:$X$396,S17)>=1,\"\",ROW())","v":17},"LOC PELLE SOLOMAT",null,{"$f":"IF(COUNTIF('PLANNING PRINCIPAL'!$I$375:$X$375,V17)>=1,\"\",ROW())","v":17}]
[{"$f":"'DATA S1'!A18","v":"LOC PELLE AEB"},{"$f":"IF(COUNTIF('PLANNING PRINCIPAL'!$I$378:$X$378,A18)>=1,\"\",ROW())","v":18},"LOC PELLE AEB","LOC PELLE AEB",{"$f":"IF(COUNTIF('PLANNING PRINCIPAL'!$I$381:$X$381,D18)>=1,\"\",ROW())","v":18},"LOC PELLE AEB","LOC PELLE AEB",{"$f":"IF(COUNTIF('PLANNING PRINCIPAL'!$I$384:$X$384,G18)>=1,\"\",ROW())","v":18},"LOC PELLE AEB","LOC PELLE AEB",{"$f":"IF(COUNTIF('PLANNING PRINCIPAL'!$I$387:$X$387,J18)>=1,\"\",ROW())","v":18},"LOC PELLE AEB","LOC PELLE AEB",{"$f":"IF(COUNTIF('PLANNING PRINCIPAL'!$I$390:$X$390,M18)>=1,\"\",ROW())","v":18},"LOC PELLE AEB","LOC PELLE AEB",{"$f":"IF(COUNTIF('PLANNING PRINCIPAL'!$I$393:$X$393,P18)>=1,\"\",ROW())","v":18},"LOC PELLE AEB","LOC PELLE AEB",{"$f":"IF(COUNTIF('PLANNING PRINCIPAL'!$I$396:$X$396,S18)>=1,\"\",ROW())","v":18},"LOC PELLE AEB",null,{"$f":"IF(COUNTIF('PLANNING PRINCIPAL'!$I$375:$X$375,V18)>=1,\"\",ROW())","v":18}]
[{"$f":"'DATA S1'!A19","v":"LOC PELLE INTERLOC"},{"$f":"IF(COUNTIF('PLANNING PRINCIPAL'!$I$378:$X$378,A19)>=1,\"\",ROW())","v":19},"LOC PELLE INTERLOC","LOC PELLE INTERLOC",{"$f":"IF(COUNTIF('PLANNING PRINCIPAL'!$I$381:$X$381,D19)>=1,\"\",ROW())","v":19},"LOC PELLE INTERLOC","LOC PELLE INTERLOC",{"$f":"IF(COUNTIF('PLANNING PRINCIPAL'!$I$384:$X$384,G19)>=1,\"\",ROW())","v":19},"LOC PELLE INTERLOC","LOC PELLE INTERLOC",{"$f":"IF(COUNTIF('PLANNING PRINCIPAL'!$I$387:$X$387,J19)>=1,\"\",ROW())","v":19},"LOC PELLE INTERLOC","LOC PELLE INTERLOC",{"$f":"IF(COUNTIF('PLANNING PRINCIPAL'!$I$390:$X$390,M19)>=1,\"\",ROW())","v":19},"LOC PELLE INTERLOC","LOC PELLE INTERLOC",{"$f":"IF(COUNTIF('PLANNING PRINCIPAL'!$I$393:$X$393,P19)>=1,\"\",ROW())","v":19},"LOC PELLE INTERLOC","LOC PELLE INTERLOC",{"$f":"IF(COUNTIF('PLANNING PRINCIPAL'!$I$396:$X$396,S19)>=1,\"\",ROW())","v":19},"LOC PELLE INTERLOC",null,{"$f":"IF(COUNTIF('PLANNING PRINCIPAL'!$I$375:$X$375,V19)>=1,\"\",ROW())","v":19}]
[{"$f":"'DATA S1'!A20","v":"LOC PELLE KILOUTOU"},{"$f":"IF(COUNTIF('PLANNING PRINCIPAL'!$I$378:$X$378,A20)>=1,\"\",ROW())","v":20},"LOC PELLE KILOUTOU","LOC PELLE KILOUTOU",{"$f":"IF(COUNTIF('PLANNING PRINCIPAL'!$I$381:$X$381,D20)>=1,\"\",ROW())","v":20},"LOC PELLE KILOUTOU","LOC PELLE KILOUTOU",{"$f":"IF(COUNTIF('PLANNING PRINCIPAL'!$I$384:$X$384,G20)>=1,\"\",ROW())","v":20},"LOC PELLE KILOUTOU","LOC PELLE KILOUTOU",{"$f":"IF(COUNTIF('PLANNING PRINCIPAL'!$I$387:$X$387,J20)>=1,\"\",ROW())","v":20},"LOC PELLE KILOUTOU","LOC PELLE KILOUTOU",{"$f":"IF(COUNTIF('PLANNING PRINCIPAL'!$I$390:$X$390,M20)>=1,\"\",ROW())","v":20},"LOC PELLE KILOUTOU","LOC PELLE KILOUTOU",{"$f":"IF(COUNTIF('PLANNING PRINCIPAL'!$I$393:$X$393,P20)>=1,\"\",ROW())","v":20},"LOC PELLE KILOUTOU","LOC PELLE KILOUTOU",{"$f":"IF(COUNTIF('PLANNING PRINCIPAL'!$I$396:$X$396,S20)>=1,\"\",ROW())","v":20},"LOC PELLE KILOUTOU",null,{"$f":"IF(COUNTIF('PLANNING PRINCIPAL'!$I$375:$X$375,V20)>=1,\"\",ROW())","v":20}]
[null,{"$f":"IF(COUNTIF('PLANNING PRINCIPAL'!$I$378:$X$378,A21)>=1,\"\",ROW())","v":21},null,null,{"$f":"IF(COUNTIF('PLANNING PRINCIPAL'!$I$381:$X$381,D21)>=1,\"\",ROW())","v":21},null,null,{"$f":"IF(COUNTIF('PLANNING PRINCIPAL'!$I$384:$X$384,G21)>=1,\"\",ROW())","v":21},null,null,{"$f":"IF(COUNTIF('PLANNING PRINCIPAL'!$I$387:$X$387,J21)>=1,\"\",ROW())","v":21},null,null,{"$f":"IF(COUNTIF('PLANNING PRINCIPAL'!$I$390:$X$390,M21)>=1,\"\",ROW())","v":21},null,null,{"$f":"IF(COUNTIF('PLANNING PRINCIPAL'!$I$393:$X$393,P21)>=1,\"\",ROW())","v":21},null,null,{"$f":"IF(COUNTIF('PLANNING PRINCIPAL'!$I$396:$X$396,S21)>=1,\"\",ROW())","v":21},null,null,{"$f":"IF(COUNTIF('PLANNING PRINCIPAL'!$I$375:$X$375,V21)>=1,\"\",ROW())","v":21}]
[null,{"$f":"IF(COUNTIF('PLANNING PRINCIPAL'!$I$378:$X$378,A22)>=1,\"\",ROW())","v":22},null,null,{"$f":"IF(COUNTIF('PLANNING PRINCIPAL'!$I$381:$X$381,D22)>=1,\"\",ROW())","v":22},null,null,{"$f":"IF(COUNTIF('PLANNING PRINCIPAL'!$I$384:$X$384,G22)>=1,\"\",ROW())","v":22},null,null,{"$f":"IF(COUNTIF('PLANNING PRINCIPAL'!$I$387:$X$387,J22)>=1,\"\",ROW())","v":22},null,null,{"$f":"IF(COUNTIF('PLANNING PRINCIPAL'!$I$390:$X$390,M22)>=1,\"\",ROW())","v":22},null,null,{"$f":"IF(COUNTIF('PLANNING PRINCIPAL'!$I$393:$X$393,P22)>=1,\"\",ROW())","v":22},null,null,{"$f":"IF(COUNTIF('PLANNING PRINCIPAL'!$I$396:$X$396,S22)>=1,\"\",ROW())","v":22},null,null,{"$f":"IF(COUNTIF('PLANNING PRINCIPAL'!$I$375:$X$375,V22)>=1,\"\",ROW())","v":22}]
[null,{"$f":"IF(COUNTIF('PLANNING PRINCIPAL'!$I$378:$X$378,A23)>=1,\"\",ROW())","v":23},null,null,{"$f":"IF(COUNTIF('PLANNING PRINCIPAL'!$I$381:$X$381,D23)>=1,\"\",ROW())","v":23},null,null,{"$f":"IF(COUNTIF('PLANNING PRINCIPAL'!$I$384:$X$384,G23)>=1,\"\",ROW())","v":23},null,null,{"$f":"IF(COUNTIF('PLANNING PRINCIPAL'!$I$387:$X$387,J23)>=1,\"\",ROW())","v":23},null,null,{"$f":"IF(COUNTIF('PLANNING PRINCIPAL'!$I$390:$X$390,M23)>=1,\"\",ROW())","v":23},null,null,{"$f":"IF(COUNTIF('PLANNING PRINCIPAL'!$I$393:$X$393,P23)>=1,\"\",ROW())","v":23},null,null,{"$f":"IF(COUNTIF('PLANNING PRINCIPAL'!$I$396:$X$396,S23)>=1,\"\",ROW())","v":23},null,null,{"$f":"IF(COUNTIF('PLANNING PRINCIPAL'!$I$375:$X$375,V23)>=1,\"\",ROW())","v":23}]
[null,{"$f":"IF(COUNTIF('PLANNING PRINCIPAL'!$I$378:$X$378,A24)>=1,\"\",ROW())","v":24},null,null,{"$f":"IF(COUNTIF('PLANNING PRINCIPAL'!$I$381:$X$381,D24)>=1,\"\",ROW())","v":24},null,null,{"$f":"IF(COUNTIF('PLANNING PRINCIPAL'!$I$384:$X$384,G24)>=1,\"\",ROW())","v":24},null,null,{"$f":"IF(COUNTIF('PLANNING PRINCIPAL'!$I$387:$X$387,J24)>=1,\"\",ROW())","v":24},null,null,{"$f":"IF(COUNTIF('PLANNING PRINCIPAL'!$I$390:$X$390,M24)>=1,\"\",ROW())","v":24},null,null,{"$f":"IF(COUNTIF('PLANNING PRINCIPAL'!$I$393:$X$393,P24)>=1,\"\",ROW())","v":24},null,null,{"$f":"IF(COUNTIF('PLANNING PRINCIPAL'!$I$396:$X$396,S24)>=1,\"\",ROW())","v":24},null,null,{"$f":"IF(COUNTIF('PLANNING PRINCIPAL'!$I$375:$X$375,V24)>=1,\"\",ROW())","v":24}]
[null,{"$f":"IF(COUNTIF('PLANNING PRINCIPAL'!$I$378:$X$378,A25)>=1,\"\",ROW())","v":25},null,null,{"$f":"IF(COUNTIF('PLANNING PRINCIPAL'!$I$381:$X$381,D25)>=1,\"\",ROW())","v":25},null,null,{"$f":"IF(COUNTIF('PLANNING PRINCIPAL'!$I$384:$X$384,G25)>=1,\"\",ROW())","v":25},null,null,{"$f":"IF(COUNTIF('PLANNING PRINCIPAL'!$I$387:$X$387,J25)>=1,\"\",ROW())","v":25},null,null,{"$f":"IF(COUNTIF('PLANNING PRINCIPAL'!$I$390:$X$390,M25)>=1,\"\",ROW())","v":25},null,null,{"$f":"IF(COUNTIF('PLANNING PRINCIPAL'!$I$393:$X$393,P25)>=1,\"\",ROW())","v":25},null,null,{"$f":"IF(COUNTIF('PLANNING PRINCIPAL'!$I$396:$X$396,S25)>=1,\"\",ROW())","v":25},null,null,{"$f":"IF(COUNTIF('PLANNING PRINCIPAL'!$I$375:$X$375,V25)>=1,\"\",ROW())","v":25}]
[null,{"$f":"IF(COUNTIF('PLANNING PRINCIPAL'!$I$378:$X$378,A26)>=1,\"\",ROW())","v":26},null,null,{"$f":"IF(COUNTIF('PLANNING PRINCIPAL'!$I$381:$X$381,D26)>=1,\"\",ROW())","v":26},null,null,{"$f":"IF(COUNTIF('PLANNING PRINCIPAL'!$I$384:$X$384,G26)>=1,\"\",ROW())","v":26},null,null,{"$f":"IF(COUNTIF('PLANNING PRINCIPAL'!$I$387:$X$387,J26)>=1,\"\",ROW())","v":26},null,null,{"$f":"IF(COUNTIF('PLANNING PRINCIPAL'!$I$390:$X$390,M26)>=1,\"\",ROW())","v":26},null,null,{"$f":"IF(COUNTIF('PLANNING PRINCIPAL'!$I$393:$X$393,P26)>=1,\"\",ROW())","v":26},null,null,{"$f":"IF(COUNTIF('PLANNING PRINCIPAL'!$I$396:$X$396,S26)>=1,\"\",ROW())","v":26},null,null,{"$f":"IF(COUNTIF('PLANNING PRINCIPAL'!$I$375:$X$375,V26)>=1,\"\",ROW())","v":26}]
[null,{"$f":"IF(COUNTIF('PLANNING PRINCIPAL'!$I$378:$X$378,A27)>=1,\"\",ROW())","v":27},null,null,{"$f":"IF(COUNTIF('PLANNING PRINCIPAL'!$I$381:$X$381,D27)>=1,\"\",ROW())","v":27},null,null,{"$f":"IF(COUNTIF('PLANNING PRINCIPAL'!$I$384:$X$384,G27)>=1,\"\",ROW())","v":27},null,null,{"$f":"IF(COUNTIF('PLANNING PRINCIPAL'!$I$387:$X$387,J27)>=1,\"\",ROW())","v":27},null,null,{"$f":"IF(COUNTIF('PLANNING PRINCIPAL'!$I$390:$X$390,M27)>=1,\"\",ROW())","v":27},null,null,{"$f":"IF(COUNTIF('PLANNING PRINCIPAL'!$I$393:$X$393,P27)>=1,\"\",ROW())","v":27},null,null,{"$f":"IF(COUNTIF('PLANNING PRINCIPAL'!$I$396:$X$396,S27)>=1,\"\",ROW())","v":27},null,null,{"$f":"IF(COUNTIF('PLANNING PRINCIPAL'!$I$375:$X$375,V27)>=1,\"\",ROW())","v":27}]
[null,{"$f":"IF(COUNTIF('PLANNING PRINCIPAL'!$I$378:$X$378,A28)>=1,\"\",ROW())","v":28},null,null,{"$f":"IF(COUNTIF('PLANNING PRINCIPAL'!$I$381:$X$381,D28)>=1,\"\",ROW())","v":28},null,null,{"$f":"IF(COUNTIF('PLANNING PRINCIPAL'!$I$384:$X$384,G28)>=1,\"\",ROW())","v":28},null,null,{"$f":"IF(COUNTIF('PLANNING PRINCIPAL'!$I$387:$X$387,J28)>=1,\"\",ROW())","v":28},null,null,{"$f":"IF(COUNTIF('PLANNING PRINCIPAL'!$I$390:$X$390,M28)>=1,\"\",ROW())","v":28},null,null,{"$f":"IF(COUNTIF('PLANNING PRINCIPAL'!$I$393:$X$393,P28)>=1,\"\",ROW())","v":28},null,null,{"$f":"IF(COUNTIF('PLANNING PRINCIPAL'!$I$396:$X$396,S28)>=1,\"\",ROW())","v":28},null,null,{"$f":"IF(COUNTIF('PLANNING PRINCIPAL'!$I$375:$X$375,V28)>=1,\"\",ROW())","v":28}]
[null,{"$f":"IF(COUNTIF('PLANNING PRINCIPAL'!$I$378:$X$378,A29)>=1,\"\",ROW())","v":29},null,null,{"$f":"IF(COUNTIF('PLANNING PRINCIPAL'!$I$381:$X$381,D29)>=1,\"\",ROW())","v":29},null,null,{"$f":"IF(COUNTIF('PLANNING PRINCIPAL'!$I$384:$X$384,G29)>=1,\"\",ROW())","v":29},null,null,{"$f":"IF(COUNTIF('PLANNING PRINCIPAL'!$I$387:$X$387,J29)>=1,\"\",ROW())","v":29},null,null,{"$f":"IF(COUNTIF('PLANNING PRINCIPAL'!$I$390:$X$390,M29)>=1,\"\",ROW())","v":29},null,null,{"$f":"IF(COUNTIF('PLANNING PRINCIPAL'!$I$393:$X$393,P29)>=1,\"\",ROW())","v":29},null,null,{"$f":"IF(COUNTIF('PLANNING PRINCIPAL'!$I$396:$X$396,S29)>=1,\"\",ROW())","v":29},null,null,{"$f":"IF(COUNTIF('PLANNING PRINCIPAL'!$I$375:$X$375,V29)>=1,\"\",ROW())","v":29}]
[null,{"$f":"IF(COUNTIF('PLANNING PRINCIPAL'!$I$378:$X$378,A30)>=1,\"\",ROW())","v":30},null,null,{"$f":"IF(COUNTIF('PLANNING PRINCIPAL'!$I$381:$X$381,D30)>=1,\"\",ROW())","v":30},null,null,{"$f":"IF(COUNTIF('PLANNING PRINCIPAL'!$I$384:$X$384,G30)>=1,\"\",ROW())","v":30},null,null,{"$f":"IF(COUNTIF('PLANNING PRINCIPAL'!$I$387:$X$387,J30)>=1,\"\",ROW())","v":30},null,null,{"$f":"IF(COUNTIF('PLANNING PRINCIPAL'!$I$390:$X$390,M30)>=1,\"\",ROW())","v":30},null,null,{"$f":"IF(COUNTIF('PLANNING PRINCIPAL'!$I$393:$X$393,P30)>=1,\"\",ROW())","v":30},null,null,{"$f":"IF(COUNTIF('PLANNING PRINCIPAL'!$I$396:$X$396,S30)>=1,\"\",ROW())","v":30},null,null,{"$f":"IF(COUNTIF('PLANNING PRINCIPAL'!$I$375:$X$375,V30)>=1,\"\",ROW())","v":30}]
[null,{"$f":"IF(COUNTIF('PLANNING PRINCIPAL'!$I$378:$X$378,A31)>=1,\"\",ROW())","v":31},null,null,{"$f":"IF(COUNTIF('PLANNING PRINCIPAL'!$I$381:$X$381,D31)>=1,\"\",ROW())","v":31},null,null,{"$f":"IF(COUNTIF('PLANNING PRINCIPAL'!$I$384:$X$384,G31)>=1,\"\",ROW())","v":31},null,null,{"$f":"IF(COUNTIF('PLANNING PRINCIPAL'!$I$387:$X$387,J31)>=1,\"\",ROW())","v":31},null,null,{"$f":"IF(COUNTIF('PLANNING PRINCIPAL'!$I$390:$X$390,M31)>=1,\"\",ROW())","v":31},null,null,{"$f":"IF(COUNTIF('PLANNING PRINCIPAL'!$I$393:$X$393,P31)>=1,\"\",ROW())","v":31},null,null,{"$f":"IF(COUNTIF('PLANNING PRINCIPAL'!$I$396:$X$396,S31)>=1,\"\",ROW())","v":31},null,null,{"$f":"IF(COUNTIF('PLANNING PRINCIPAL'!$I$375:$X$375,V31)>=1,\"\",ROW())","v":31}]
[null,{"$f":"IF(COUNTIF('PLANNING PRINCIPAL'!$I$378:$X$378,A32)>=1,\"\",ROW())","v":32},null,null,{"$f":"IF(COUNTIF('PLANNING PRINCIPAL'!$I$381:$X$381,D32)>=1,\"\",ROW())","v":32},null,null,{"$f":"IF(COUNTIF('PLANNING PRINCIPAL'!$I$384:$X$384,G32)>=1,\"\",ROW())","v":32},null,null,{"$f":"IF(COUNTIF('PLANNING PRINCIPAL'!$I$387:$X$387,J32)>=1,\"\",ROW())","v":32},null,null,{"$f":"IF(COUNTIF('PLANNING PRINCIPAL'!$I$390:$X$390,M32)>=1,\"\",ROW())","v":32},null,null,{"$f":"IF(COUNTIF('PLANNING PRINCIPAL'!$I$393:$X$393,P32)>=1,\"\",ROW())","v":32},null,null,{"$f":"IF(COUNTIF('PLANNING PRINCIPAL'!$I$396:$X$396,S32)>=1,\"\",ROW())","v":32},null,null,{"$f":"IF(COUNTIF('PLANNING PRINCIPAL'!$I$375:$X$375,V32)>=1,\"\",ROW())","v":32}]
[null,{"$f":"IF(COUNTIF('PLANNING PRINCIPAL'!$I$378:$X$378,A33)>=1,\"\",ROW())","v":33},null,null,{"$f":"IF(COUNTIF('PLANNING PRINCIPAL'!$I$381:$X$381,D33)>=1,\"\",ROW())","v":33},null,null,{"$f":"IF(COUNTIF('PLANNING PRINCIPAL'!$I$384:$X$384,G33)>=1,\"\",ROW())","v":33},null,null,{"$f":"IF(COUNTIF('PLANNING PRINCIPAL'!$I$387:$X$387,J33)>=1,\"\",ROW())","v":33},null,null,{"$f":"IF(COUNTIF('PLANNING PRINCIPAL'!$I$390:$X$390,M33)>=1,\"\",ROW())","v":33},null,null,{"$f":"IF(COUNTIF('PLANNING PRINCIPAL'!$I$393:$X$393,P33)>=1,\"\",ROW())","v":33},null,null,{"$f":"IF(COUNTIF('PLANNING PRINCIPAL'!$I$396:$X$396,S33)>=1,\"\",ROW())","v":33},null,null,{"$f":"IF(COUNTIF('PLANNING PRINCIPAL'!$I$375:$X$375,V33)>=1,\"\",ROW())","v":33}]
[null,{"$f":"IF(COUNTIF('PLANNING PRINCIPAL'!$I$378:$X$378,A34)>=1,\"\",ROW())","v":34},null,null,{"$f":"IF(COUNTIF('PLANNING PRINCIPAL'!$I$381:$X$381,D34)>=1,\"\",ROW())","v":34},null,null,{"$f":"IF(COUNTIF('PLANNING PRINCIPAL'!$I$384:$X$384,G34)>=1,\"\",ROW())","v":34},null,null,{"$f":"IF(COUNTIF('PLANNING PRINCIPAL'!$I$387:$X$387,J34)>=1,\"\",ROW())","v":34},null,null,{"$f":"IF(COUNTIF('PLANNING PRINCIPAL'!$I$390:$X$390,M34)>=1,\"\",ROW())","v":34},null,null,{"$f":"IF(COUNTIF('PLANNING PRINCIPAL'!$I$393:$X$393,P34)>=1,\"\",ROW())","v":34},null,null,{"$f":"IF(COUNTIF('PLANNING PRINCIPAL'!$I$396:$X$396,S34)>=1,\"\",ROW())","v":34},null,null,{"$f":"IF(COUNTIF('PLANNING PRINCIPAL'!$I$375:$X$375,V34)>=1,\"\",ROW())","v":34}]
["LUNDI",null,null,"MARDI",null,null,"MERCREDI",null,null,"JEUDI",null,null,"VENDREDI",null,null,"SAMEDI",null,null,"DIMANCHE",null,null,"ASTREINTE"]

{"sheet":"DATA S18","index":19,"n_rows":35,"n_cols":24,"rows_kept":35,"cut":false,"hidden":false,"merged":[[34,18,34,20],[34,21,34,23],[34,0,34,2],[34,3,34,5],[34,6,34,8],[34,9,34,11],[34,12,34,14],[34,15,34,17]]}
[{"$f":"'DATA S1'!A1","v":"MAS XX "},{"$f":"IF(COUNTIF('PLANNING PRINCIPAL'!$I$401:$X$401,A1)>=1,\"\",ROW())","v":1},{"$f":"IF(ROW(A1)-ROW(A$1)+1>COUNT(B:B),\"\", INDEX(A:A,SMALL(B:B,1+ROW(A1)-ROW(A$1))))","v":"MAS XX "},{"$f":"A1","v":"MAS XX "},{"$f":"IF(COUNTIF('PLANNING PRINCIPAL'!$I$404:$X$404,D1)>=1,\"\",ROW())","v":1},{"$f":"IF(ROW(D1)-ROW(D$1)+1>COUNT(E:E),\"\", INDEX(D:D,SMALL(E:E,1+ROW(D1)-ROW(D$1))))","v":"MAS XX "},{"$f":"A1","v":"MAS XX "},{"$f":"IF(COUNTIF('PLANNING PRINCIPAL'!$I$407:$X$407,G1)>=1,\"\",ROW())","v":1},{"$f":"IF(ROW(G1)-ROW(G$1)+1>COUNT(H:H),\"\", INDEX(G:G,SMALL(H:H,1+ROW(G1)-ROW(G$1))))","v":"MAS XX "},{"$f":"A1","v":"MAS XX "},{"$f":"IF(COUNTIF('PLANNING PRINCIPAL'!$I$410:$X$410,J1)>=1,\"\",ROW())","v":1},{"$f":"IF(ROW(J1)-ROW(J$1)+1>COUNT(K:K),\"\", INDEX(J:J,SMALL(K:K,1+ROW(J1)-ROW(J$1))))","v":"MAS XX "},{"$f":"A1","v":"MAS XX "},{"$f":"IF(COUNTIF('PLANNING PRINCIPAL'!$I$413:$X$413,M1)>=1,\"\",ROW())","v":1},{"$f":"IF(ROW(M1)-ROW(M$1)+1>COUNT(N:N),\"\", INDEX(M:M,SMALL(N:N,1+ROW(M1)-ROW(M$1))))","v":"MAS XX "},{"$f":"A1","v":"MAS XX "},{"$f":"IF(COUNTIF('PLANNING PRINCIPAL'!$I$416:$X$416,P1)>=1,\"\",ROW())","v":1},{"$f":"IF(ROW(P1)-ROW(P$1)+1>COUNT(Q:Q),\"\", INDEX(P:P,SMALL(Q:Q,1+ROW(P1)-ROW(P$1))))","v":"MAS XX "},{"$f":"A1","v":"MAS XX "},{"$f":"IF(COUNTIF('PLANNING PRINCIPAL'!$I$419:$X$419,S1)>=1,\"\",ROW())","v":1},{"$f":"IF(ROW(S1)-ROW(S$1)+1>COUNT(T:T),\"\", INDEX(S:S,SMALL(T:T,1+ROW(S1)-ROW(S$1))))","v":"MAS XX "},{"$f":"'DATA S1'!V1","v":"ASTREINTE SLT"},{"$f":"IF(COUNTIF('PLANNING PRINCIPAL'!$I$421:$X$421,V1)>=1,\"\",ROW())","v":1},{"$f":"IF(ROW(V1)-ROW(V$1)+1>COUNT(W:W),\"\", INDEX(V:V,SMALL(W:W,1+ROW(V1)-ROW(V$1))))","v":"ASTREINTE SLT"}]
[{"$f":"'DATA S1'!A2","v":"MAS YY "},{"$f":"IF(COUNTIF('PLANNING PRINCIPAL'!$I$401:$X$401,A2)>=1,\"\",ROW())","v":2},{"$f":"IF(ROW(A2)-ROW(A$1)+1>COUNT(B:B),\"\", INDEX(A:A,SMALL(B:B,1+ROW(A2)-ROW(A$1))))","v":"MAS YY "},"MAS YY ",{"$f":"IF(COUNTIF('PLANNING PRINCIPAL'!$I$404:$X$404,D2)>=1,\"\",ROW())","v":2},{"$f":"IF(ROW(D2)-ROW(D$1)+1>COUNT(E:E),\"\", INDEX(D:D,SMALL(E:E,1+ROW(D2)-ROW(D$1))))","v":"MAS YY "},{"$f":"A2","v":"MAS YY "},{"$f":"IF(COUNTIF('PLANNING PRINCIPAL'!$I$407:$X$407,G2)>=1,\"\",ROW())","v":2},{"$f":"IF(ROW(G2)-ROW(G$1)+1>COUNT(H:H),\"\", INDEX(G:G,SMALL(H:H,1+ROW(G2)-ROW(G$1))))","v":"MAS YY "},{"$f":"A2","v":"MAS YY "},{"$f":"IF(COUNTIF('PLANNING PRINCIPAL'!$I$410:$X$410,J2)>=1,\"\",ROW())","v":2},{"$f":"IF(ROW(J2)-ROW(J$1)+1>COUNT(K:K),\"\", INDEX(J:J,SMALL(K:K,1+ROW(J2)-ROW(J$1))))","v":"MAS YY "},{"$f":"A2","v":"MAS YY "},{"$f":"IF(COUNTIF('PLANNING PRINCIPAL'!$I$413:$X$413,M2)>=1,\"\",ROW())","v":2},{"$f":"IF(ROW(M2)-ROW(M$1)+1>COUNT(N:N),\"\", INDEX(M:M,SMALL(N:N,1+ROW(M2)-ROW(M$1))))","v":"MAS YY "},{"$f":"A2","v":"MAS YY "},{"$f":"IF(COUNTIF('PLANNING PRINCIPAL'!$I$416:$X$416,P2)>=1,\"\",ROW())","v":2},{"$f":"IF(ROW(P2)-ROW(P$1)+1>COUNT(Q:Q),\"\", INDEX(P:P,SMALL(Q:Q,1+ROW(P2)-ROW(P$1))))","v":"MAS YY "},{"$f":"A2","v":"MAS YY "},{"$f":"IF(COUNTIF('PLANNING PRINCIPAL'!$I$419:$X$419,S2)>=1,\"\",ROW())","v":2},{"$f":"IF(ROW(S2)-ROW(S$1)+1>COUNT(T:T),\"\", INDEX(S:S,SMALL(T:T,1+ROW(S2)-ROW(S$1))))","v":"MAS YY "},{"$f":"'DATA S1'!V2","v":"ASTREINTE EP"},{"$f":"IF(COUNTIF('PLANNING PRINCIPAL'!$I$421:$X$421,V2)>=1,\"\",ROW())","v":2},{"$f":"IF(ROW(V2)-ROW(V$1)+1>COUNT(W:W),\"\", INDEX(V:V,SMALL(W:W,1+ROW(V2)-ROW(V$1))))","v":"ASTREINTE EP"}]
[{"$f":"'DATA S1'!A3","v":"MAS VQ "},{"$f":"IF(COUNTIF('PLANNING PRINCIPAL'!$I$401:$X$401,A3)>=1,\"\",ROW())","v":3},"MAS VQ ","MAS VQ ",{"$f":"IF(COUNTIF('PLANNING PRINCIPAL'!$I$404:$X$404,D3)>=1,\"\",ROW())","v":3},"MAS VQ ","MAS VQ ",{"$f":"IF(COUNTIF('PLANNING PRINCIPAL'!$I$407:$X$407,G3)>=1,\"\",ROW())","v":3},"MAS VQ ","MAS VQ ",{"$f":"IF(COUNTIF('PLANNING PRINCIPAL'!$I$410:$X$410,J3)>=1,\"\",ROW())","v":3},"MAS VQ ","MAS VQ ",{"$f":"IF(COUNTIF('PLANNING PRINCIPAL'!$I$413:$X$413,M3)>=1,\"\",ROW())","v":3},"MAS VQ ","MAS VQ ",{"$f":"IF(COUNTIF('PLANNING PRINCIPAL'!$I$416:$X$416,P3)>=1,\"\",ROW())","v":3},"MAS VQ ","MAS VQ ",{"$f":"IF(COUNTIF('PLANNING PRINCIPAL'!$I$419:$X$419,S3)>=1,\"\",ROW())","v":3},"MAS VQ ",{"$f":"'DATA S1'!V3","v":"V NOC CHARTRES"},{"$f":"IF(COUNTIF('PLANNING PRINCIPAL'!$I$421:$X$421,V3)>=1,\"\",ROW())","v":3},"V NOC CHARTRES"]
[{"$f":"'DATA S1'!A4","v":"MAS PL "},{"$f":"IF(COUNTIF('PLANNING PRINCIPAL'!$I$401:$X$401,A4)>=1,\"\",ROW())","v":4},"MAS PL ","MAS PL ",{"$f":"IF(COUNTIF('PLANNING PRINCIPAL'!$I$404:$X$404,D4)>=1,\"\",ROW())","v":4},"MAS PL ","MAS PL ",{"$f":"IF(COUNTIF('PLANNING PRINCIPAL'!$I$407:$X$407,G4)>=1,\"\",ROW())","v":4},"MAS PL ","MAS PL ",{"$f":"IF(COUNTIF('PLANNING PRINCIPAL'!$I$410:$X$410,J4)>=1,\"\",ROW())","v":4},"MAS PL ","MAS PL ",{"$f":"IF(COUNTIF('PLANNING PRINCIPAL'!$I$413:$X$413,M4)>=1,\"\",ROW())","v":4},"MAS PL ","MAS PL ",{"$f":"IF(COUNTIF('PLANNING PRINCIPAL'!$I$416:$X$416,P4)>=1,\"\",ROW())","v":4},"MAS PL ","MAS PL ",{"$f":"IF(COUNTIF('PLANNING PRINCIPAL'!$I$419:$X$419,S4)>=1,\"\",ROW())","v":4},"MAS PL ",{"$f":"'DATA S1'!V4","v":"V NOC EPERNON"},{"$f":"IF(COUNTIF('PLANNING PRINCIPAL'!$I$421:$X$421,V4)>=1,\"\",ROW())","v":4},"V NOC EPERNON"]
[{"$f":"'DATA S1'!A5","v":"BEN VL PT "},{"$f":"IF(COUNTIF('PLANNING PRINCIPAL'!$I$401:$X$401,A5)>=1,\"\",ROW())","v":5},"BEN VL PT ","BEN VL PT ",{"$f":"IF(COUNTIF('PLANNING PRINCIPAL'!$I$404:$X$404,D5)>=1,\"\",ROW())","v":5},"BEN VL PT ","BEN VL PT ",{"$f":"IF(COUNTIF('PLANNING PRINCIPAL'!$I$407:$X$407,G5)>=1,\"\",ROW())","v":5},"BEN VL PT ","BEN VL PT ",{"$f":"IF(COUNTIF('PLANNING PRINCIPAL'!$I$410:$X$410,J5)>=1,\"\",ROW())","v":5},"BEN VL PT ","BEN VL PT ",{"$f":"IF(COUNTIF('PLANNING PRINCIPAL'!$I$413:$X$413,M5)>=1,\"\",ROW())","v":5},"BEN VL PT ","BEN VL PT ",{"$f":"IF(COUNTIF('PLANNING PRINCIPAL'!$I$416:$X$416,P5)>=1,\"\",ROW())","v":5},"BEN VL PT ","BEN VL PT ",{"$f":"IF(COUNTIF('PLANNING PRINCIPAL'!$I$419:$X$419,S5)>=1,\"\",ROW())","v":5},"BEN VL PT ",{"$f":"'DATA S1'!V5","v":"V NOC HANCHES"},{"$f":"IF(COUNTIF('PLANNING PRINCIPAL'!$I$421:$X$421,V5)>=1,\"\",ROW())","v":5},"V NOC HANCHES"]
[{"$f":"'DATA S1'!A6","v":"BEN 19T "},{"$f":"IF(COUNTIF('PLANNING PRINCIPAL'!$I$401:$X$401,A6)>=1,\"\",ROW())","v":6},"BEN 19T ","BEN 19T ",{"$f":"IF(COUNTIF('PLANNING PRINCIPAL'!$I$404:$X$404,D6)>=1,\"\",ROW())","v":6},"BEN 19T ","BEN 19T ",{"$f":"IF(COUNTIF('PLANNING PRINCIPAL'!$I$407:$X$407,G6)>=1,\"\",ROW())","v":6},"BEN 19T ","BEN 19T ",{"$f":"IF(COUNTIF('PLANNING PRINCIPAL'!$I$410:$X$410,J6)>=1,\"\",ROW())","v":6},"BEN 19T ","BEN 19T ",{"$f":"IF(COUNTIF('PLANNING PRINCIPAL'!$I$413:$X$413,M6)>=1,\"\",ROW())","v":6},"BEN 19T ","BEN 19T ",{"$f":"IF(COUNTIF('PLANNING PRINCIPAL'!$I$416:$X$416,P6)>=1,\"\",ROW())","v":6},"BEN 19T ","BEN 19T ",{"$f":"IF(COUNTIF('PLANNING PRINCIPAL'!$I$419:$X$419,S6)>=1,\"\",ROW())","v":6},"BEN 19T ",{"$f":"'DATA S1'!V6","v":"V NOC MAINTENON"},{"$f":"IF(COUNTIF('PLANNING PRINCIPAL'!$I$421:$X$421,V6)>=1,\"\",ROW())","v":6},"V NOC MAINTENON"]
[{"$f":"'DATA S1'!A7","v":"BEN 13T "},{"$f":"IF(COUNTIF('PLANNING PRINCIPAL'!$I$401:$X$401,A7)>=1,\"\",ROW())","v":7},"BEN 13T ","BEN 13T ",{"$f":"IF(COUNTIF('PLANNING PRINCIPAL'!$I$404:$X$404,D7)>=1,\"\",ROW())","v":7},"BEN 13T ","BEN 13T ",{"$f":"IF(COUNTIF('PLANNING PRINCIPAL'!$I$407:$X$407,G7)>=1,\"\",ROW())","v":7},"BEN 13T ","BEN 13T ",{"$f":"IF(COUNTIF('PLANNING PRINCIPAL'!$I$410:$X$410,J7)>=1,\"\",ROW())","v":7},"BEN 13T ","BEN 13T ",{"$f":"IF(COUNTIF('PLANNING PRINCIPAL'!$I$413:$X$413,M7)>=1,\"\",ROW())","v":7},"BEN 13T ","BEN 13T ",{"$f":"IF(COUNTIF('PLANNING PRINCIPAL'!$I$416:$X$416,P7)>=1,\"\",ROW())","v":7},"BEN 13T ","BEN 13T ",{"$f":"IF(COUNTIF('PLANNING PRINCIPAL'!$I$419:$X$419,S7)>=1,\"\",ROW())","v":7},"BEN 13T ",null,{"$f":"IF(COUNTIF('PLANNING PRINCIPAL'!$I$375:$X$375,V7)>=1,\"\",ROW())","v":7}]
[{"$f":"'DATA S1'!A8","v":"NAC VL 18M "},{"$f":"IF(COUNTIF('PLANNING PRINCIPAL'!$I$401:$X$401,A8)>=1,\"\",ROW())","v":8},"NAC VL 18M ","NAC VL 18M ",{"$f":"IF(COUNTIF('PLANNING PRINCIPAL'!$I$404:$X$404,D8)>=1,\"\",ROW())","v":8},"NAC VL 18M ","NAC VL 18M ",{"$f":"IF(COUNTIF('PLANNING PRINCIPAL'!$I$407:$X$407,G8)>=1,\"\",ROW())","v":8},"NAC VL 18M ","NAC VL 18M ",{"$f":"IF(COUNTIF('PLANNING PRINCIPAL'!$I$410:$X$410,J8)>=1,\"\",ROW())","v":8},"NAC VL 18M ","NAC VL 18M ",{"$f":"IF(COUNTIF('PLANNING PRINCIPAL'!$I$413:$X$413,M8)>=1,\"\",ROW())","v":8},"NAC VL 18M ","NAC VL 18M ",{"$f":"IF(COUNTIF('PLANNING PRINCIPAL'!$I$416:$X$416,P8)>=1,\"\",ROW())","v":8},"NAC VL 18M ","NAC VL 18M ",{"$f":"IF(COUNTIF('PLANNING PRINCIPAL'!$I$419:$X$419,S8)>=1,\"\",ROW())","v":8},"NAC VL 18M ",null,{"$f":"IF(COUNTIF('PLANNING PRINCIPAL'!$I$375:$X$375,V8)>=1,\"\",ROW())","v":8}]
[{"$f":"'DATA S1'!A9","v":"NAC EGIE"},{"$f":"IF(COUNTIF('PLANNING PRINCIPAL'!$I$401:$X$401,A9)>=1,\"\",ROW())","v":9},"NAC EGIE","NAC EGIE",{"$f":"IF(COUNTIF('PLANNING PRINCIPAL'!$I$404:$X$404,D9)>=1,\"\",ROW())","v":9},"NAC EGIE","NAC EGIE",{"$f":"IF(COUNTIF('PLANNING PRINCIPAL'!$I$407:$X$407,G9)>=1,\"\",ROW())","v":9},"NAC EGIE","NAC EGIE",{"$f":"IF(COUNTIF('PLANNING PRINCIPAL'!$I$410:$X$410,J9)>=1,\"\",ROW())","v":9},"NAC EGIE","NAC EGIE",{"$f":"IF(COUNTIF('PLANNING PRINCIPAL'!$I$413:$X$413,M9)>=1,\"\",ROW())","v":9},"NAC EGIE","NAC EGIE",{"$f":"IF(COUNTIF('PLANNING PRINCIPAL'!$I$416:$X$416,P9)>=1,\"\",ROW())","v":9},"NAC EGIE","NAC EGIE",{"$f":"IF(COUNTIF('PLANNING PRINCIPAL'!$I$419:$X$419,S9)>=1,\"\",ROW())","v":9},"NAC EGIE",null,{"$f":"IF(COUNTIF('PLANNING PRINCIPAL'!$I$375:$X$375,V9)>=1,\"\",ROW())","v":9}]
[{"$f":"'DATA S1'!A10","v":"NAC COMI "},{"$f":"IF(COUNTIF('PLANNING PRINCIPAL'!$I$401:$X$401,A10)>=1,\"\",ROW())","v":10},"NAC COMI ","NAC COMI ",{"$f":"IF(COUNTIF('PLANNING PRINCIPAL'!$I$404:$X$404,D10)>=1,\"\",ROW())","v":10},"NAC COMI ","NAC COMI ",{"$f":"IF(COUNTIF('PLANNING PRINCIPAL'!$I$407:$X$407,G10)>=1,\"\",ROW())","v":10},"NAC COMI ","NAC COMI ",{"$f":"IF(COUNTIF('PLANNING PRINCIPAL'!$I$410:$X$410,J10)>=1,\"\",ROW())","v":10},"NAC COMI ","NAC COMI ",{"$f":"IF(COUNTIF('PLANNING PRINCIPAL'!$I$413:$X$413,M10)>=1,\"\",ROW())","v":10},"NAC COMI ","NAC COMI ",{"$f":"IF(COUNTIF('PLANNING PRINCIPAL'!$I$416:$X$416,P10)>=1,\"\",ROW())","v":10},"NAC COMI ","NAC COMI ",{"$f":"IF(COUNTIF('PLANNING PRINCIPAL'!$I$419:$X$419,S10)>=1,\"\",ROW())","v":10},"NAC COMI ",null,{"$f":"IF(COUNTIF('PLANNING PRINCIPAL'!$I$375:$X$375,V10)>=1,\"\",ROW())","v":10}]
[{"$f":"'DATA S1'!A11","v":"#####LOCATION#####"},{"$f":"IF(COUNTIF('PLANNING PRINCIPAL'!$I$401:$X$401,A11)>=1,\"\",ROW())","v":11},"#####LOCATION#####","#####LOCATION#####",{"$f":"IF(COUNTIF('PLANNING PRINCIPAL'!$I$404:$X$404,D11)>=1,\"\",ROW())","v":11},"#####LOCATION#####","#####LOCATION#####",{"$f":"IF(COUNTIF('PLANNING PRINCIPAL'!$I$407:$X$407,G11)>=1,\"\",ROW())","v":11},"#####LOCATION#####","#####LOCATION#####",{"$f":"IF(COUNTIF('PLANNING PRINCIPAL'!$I$410:$X$410,J11)>=1,\"\",ROW())","v":11},"#####LOCATION#####","#####LOCATION#####",{"$f":"IF(COUNTIF('PLANNING PRINCIPAL'!$I$413:$X$413,M11)>=1,\"\",ROW())","v":11},"#####LOCATION#####","#####LOCATION#####",{"$f":"IF(COUNTIF('PLANNING PRINCIPAL'!$I$416:$X$416,P11)>=1,\"\",ROW())","v":11},"#####LOCATION#####","#####LOCATION#####",{"$f":"IF(COUNTIF('PLANNING PRINCIPAL'!$I$419:$X$419,S11)>=1,\"\",ROW())","v":11},"#####LOCATION#####",null,{"$f":"IF(COUNTIF('PLANNING PRINCIPAL'!$I$375:$X$375,V11)>=1,\"\",ROW())","v":11}]
[{"$f":"'DATA S1'!A12","v":"LOC NAC SOLOMAT"},{"$f":"IF(COUNTIF('PLANNING PRINCIPAL'!$I$401:$X$401,A12)>=1,\"\",ROW())","v":12},"LOC NAC SOLOMAT","LOC NAC SOLOMAT",{"$f":"IF(COUNTIF('PLANNING PRINCIPAL'!$I$404:$X$404,D12)>=1,\"\",ROW())","v":12},"LOC NAC SOLOMAT","LOC NAC SOLOMAT",{"$f":"IF(COUNTIF('PLANNING PRINCIPAL'!$I$407:$X$407,G12)>=1,\"\",ROW())","v":12},"LOC NAC SOLOMAT","LOC NAC SOLOMAT",{"$f":"IF(COUNTIF('PLANNING PRINCIPAL'!$I$410:$X$410,J12)>=1,\"\",ROW())","v":12},"LOC NAC SOLOMAT","LOC NAC SOLOMAT",{"$f":"IF(COUNTIF('PLANNING PRINCIPAL'!$I$413:$X$413,M12)>=1,\"\",ROW())","v":12},"LOC NAC SOLOMAT","LOC NAC SOLOMAT",{"$f":"IF(COUNTIF('PLANNING PRINCIPAL'!$I$416:$X$416,P12)>=1,\"\",ROW())","v":12},"LOC NAC SOLOMAT","LOC NAC SOLOMAT",{"$f":"IF(COUNTIF('PLANNING PRINCIPAL'!$I$419:$X$419,S12)>=1,\"\",ROW())","v":12},"LOC NAC SOLOMAT",null,{"$f":"IF(COUNTIF('PLANNING PRINCIPAL'!$I$375:$X$375,V12)>=1,\"\",ROW())","v":12}]
[{"$f":"'DATA S1'!A13","v":"LOC NAC AEB"},{"$f":"IF(COUNTIF('PLANNING PRINCIPAL'!$I$401:$X$401,A13)>=1,\"\",ROW())","v":13},"LOC NAC AEB","LOC NAC AEB",{"$f":"IF(COUNTIF('PLANNING PRINCIPAL'!$I$404:$X$404,D13)>=1,\"\",ROW())","v":13},"LOC NAC AEB","LOC NAC AEB",{"$f":"IF(COUNTIF('PLANNING PRINCIPAL'!$I$407:$X$407,G13)>=1,\"\",ROW())","v":13},"LOC NAC AEB","LOC NAC AEB",{"$f":"IF(COUNTIF('PLANNING PRINCIPAL'!$I$410:$X$410,J13)>=1,\"\",ROW())","v":13},"LOC NAC AEB","LOC NAC AEB",{"$f":"IF(COUNTIF('PLANNING PRINCIPAL'!$I$413:$X$413,M13)>=1,\"\",ROW())","v":13},"LOC NAC AEB","LOC NAC AEB",{"$f":"IF(COUNTIF('PLANNING PRINCIPAL'!$I$416:$X$416,P13)>=1,\"\",ROW())","v":13},"LOC NAC AEB","LOC NAC AEB",{"$f":"IF(COUNTIF('PLANNING PRINCIPAL'!$I$419:$X$419,S13)>=1,\"\",ROW())","v":13},"LOC NAC AEB",null,{"$f":"IF(COUNTIF('PLANNING PRINCIPAL'!$I$375:$X$375,V13)>=1,\"\",ROW())","v":13}]
[{"$f":"'DATA S1'!A14","v":"LOC NAC INTERLOC"},{"$f":"IF(COUNTIF('PLANNING PRINCIPAL'!$I$401:$X$401,A14)>=1,\"\",ROW())","v":14},"LOC NAC INTERLOC","LOC NAC INTERLOC",{"$f":"IF(COUNTIF('PLANNING PRINCIPAL'!$I$404:$X$404,D14)>=1,\"\",ROW())","v":14},"LOC NAC INTERLOC","LOC NAC INTERLOC",{"$f":"IF(COUNTIF('PLANNING PRINCIPAL'!$I$407:$X$407,G14)>=1,\"\",ROW())","v":14},"LOC NAC INTERLOC","LOC NAC INTERLOC",{"$f":"IF(COUNTIF('PLANNING PRINCIPAL'!$I$410:$X$410,J14)>=1,\"\",ROW())","v":14},"LOC NAC INTERLOC","LOC NAC INTERLOC",{"$f":"IF(COUNTIF('PLANNING PRINCIPAL'!$I$413:$X$413,M14)>=1,\"\",ROW())","v":14},"LOC NAC INTERLOC","LOC NAC INTERLOC",{"$f":"IF(COUNTIF('PLANNING PRINCIPAL'!$I$416:$X$416,P14)>=1,\"\",ROW())","v":14},"LOC NAC INTERLOC","LOC NAC INTERLOC",{"$f":"IF(COUNTIF('PLANNING PRINCIPAL'!$I$419:$X$419,S14)>=1,\"\",ROW())","v":14},"LOC NAC INTERLOC",null,{"$f":"IF(COUNTIF('PLANNING PRINCIPAL'!$I$375:$X$375,V14)>=1,\"\",ROW())","v":14}]
[{"$f":"'DATA S1'!A15","v":"LOC NAC KILOUTOU"},{"$f":"IF(COUNTIF('PLANNING PRINCIPAL'!$I$401:$X$401,A15)>=1,\"\",ROW())","v":15},"LOC NAC KILOUTOU","LOC NAC KILOUTOU",{"$f":"IF(COUNTIF('PLANNING PRINCIPAL'!$I$404:$X$404,D15)>=1,\"\",ROW())","v":15},"LOC NAC KILOUTOU","LOC NAC KILOUTOU",{"$f":"IF(COUNTIF('PLANNING PRINCIPAL'!$I$407:$X$407,G15)>=1,\"\",ROW())","v":15},"LOC NAC KILOUTOU","LOC NAC KILOUTOU",{"$f":"IF(COUNTIF('PLANNING PRINCIPAL'!$I$410:$X$410,J15)>=1,\"\",ROW())","v":15},"LOC NAC KILOUTOU","LOC NAC KILOUTOU",{"$f":"IF(COUNTIF('PLANNING PRINCIPAL'!$I$413:$X$413,M15)>=1,\"\",ROW())","v":15},"LOC NAC KILOUTOU","LOC NAC KILOUTOU",{"$f":"IF(COUNTIF('PLANNING PRINCIPAL'!$I$416:$X$416,P15)>=1,\"\",ROW())","v":15},"LOC NAC KILOUTOU","LOC NAC KILOUTOU",{"$f":"IF(COUNTIF('PLANNING PRINCIPAL'!$I$419:$X$419,S15)>=1,\"\",ROW())","v":15},"LOC NAC KILOUTOU",null,{"$f":"IF(COUNTIF('PLANNING PRINCIPAL'!$I$375:$X$375,V15)>=1,\"\",ROW())","v":15}]
[{"$f":"'DATA S1'!A16","v":"LOC NAC AEB"},{"$f":"IF(COUNTIF('PLANNING PRINCIPAL'!$I$401:$X$401,A16)>=1,\"\",ROW())","v":16},"LOC NAC AEB","LOC NAC AEB",{"$f":"IF(COUNTIF('PLANNING PRINCIPAL'!$I$404:$X$404,D16)>=1,\"\",ROW())","v":16},"LOC NAC AEB","LOC NAC AEB",{"$f":"IF(COUNTIF('PLANNING PRINCIPAL'!$I$407:$X$407,G16)>=1,\"\",ROW())","v":16},"LOC NAC AEB","LOC NAC AEB",{"$f":"IF(COUNTIF('PLANNING PRINCIPAL'!$I$410:$X$410,J16)>=1,\"\",ROW())","v":16},"LOC NAC AEB","LOC NAC AEB",{"$f":"IF(COUNTIF('PLANNING PRINCIPAL'!$I$413:$X$413,M16)>=1,\"\",ROW())","v":16},"LOC NAC AEB","LOC NAC AEB",{"$f":"IF(COUNTIF('PLANNING PRINCIPAL'!$I$416:$X$416,P16)>=1,\"\",ROW())","v":16},"LOC NAC AEB","LOC NAC AEB",{"$f":"IF(COUNTIF('PLANNING PRINCIPAL'!$I$419:$X$419,S16)>=1,\"\",ROW())","v":16},"LOC NAC AEB",null,{"$f":"IF(COUNTIF('PLANNING PRINCIPAL'!$I$375:$X$375,V16)>=1,\"\",ROW())","v":16}]
[{"$f":"'DATA S1'!A17","v":"LOC PELLE SOLOMAT"},{"$f":"IF(COUNTIF('PLANNING PRINCIPAL'!$I$401:$X$401,A17)>=1,\"\",ROW())","v":17},"LOC PELLE SOLOMAT","LOC PELLE SOLOMAT",{"$f":"IF(COUNTIF('PLANNING PRINCIPAL'!$I$404:$X$404,D17)>=1,\"\",ROW())","v":17},"LOC PELLE SOLOMAT","LOC PELLE SOLOMAT",{"$f":"IF(COUNTIF('PLANNING PRINCIPAL'!$I$407:$X$407,G17)>=1,\"\",ROW())","v":17},"LOC PELLE SOLOMAT","LOC PELLE SOLOMAT",{"$f":"IF(COUNTIF('PLANNING PRINCIPAL'!$I$410:$X$410,J17)>=1,\"\",ROW())","v":17},"LOC PELLE SOLOMAT","LOC PELLE SOLOMAT",{"$f":"IF(COUNTIF('PLANNING PRINCIPAL'!$I$413:$X$413,M17)>=1,\"\",ROW())","v":17},"LOC PELLE SOLOMAT","LOC PELLE SOLOMAT",{"$f":"IF(COUNTIF('PLANNING PRINCIPAL'!$I$416:$X$416,P17)>=1,\"\",ROW())","v":17},"LOC PELLE SOLOMAT","LOC PELLE SOLOMAT",{"$f":"IF(COUNTIF('PLANNING PRINCIPAL'!$I$419:$X$419,S17)>=1,\"\",ROW())","v":17},"LOC PELLE SOLOMAT",null,{"$f":"IF(COUNTIF('PLANNING PRINCIPAL'!$I$375:$X$375,V17)>=1,\"\",ROW())","v":17}]
[{"$f":"'DATA S1'!A18","v":"LOC PELLE AEB"},{"$f":"IF(COUNTIF('PLANNING PRINCIPAL'!$I$401:$X$401,A18)>=1,\"\",ROW())","v":18},"LOC PELLE AEB","LOC PELLE AEB",{"$f":"IF(COUNTIF('PLANNING PRINCIPAL'!$I$404:$X$404,D18)>=1,\"\",ROW())","v":18},"LOC PELLE AEB","LOC PELLE AEB",{"$f":"IF(COUNTIF('PLANNING PRINCIPAL'!$I$407:$X$407,G18)>=1,\"\",ROW())","v":18},"LOC PELLE AEB","LOC PELLE AEB",{"$f":"IF(COUNTIF('PLANNING PRINCIPAL'!$I$410:$X$410,J18)>=1,\"\",ROW())","v":18},"LOC PELLE AEB","LOC PELLE AEB",{"$f":"IF(COUNTIF('PLANNING PRINCIPAL'!$I$413:$X$413,M18)>=1,\"\",ROW())","v":18},"LOC PELLE AEB","LOC PELLE AEB",{"$f":"IF(COUNTIF('PLANNING PRINCIPAL'!$I$416:$X$416,P18)>=1,\"\",ROW())","v":18},"LOC PELLE AEB","LOC PELLE AEB",{"$f":"IF(COUNTIF('PLANNING PRINCIPAL'!$I$419:$X$419,S18)>=1,\"\",ROW())","v":18},"LOC PELLE AEB",null,{"$f":"IF(COUNTIF('PLANNING PRINCIPAL'!$I$375:$X$375,V18)>=1,\"\",ROW())","v":18}]
[{"$f":"'DATA S1'!A19","v":"LOC PELLE INTERLOC"},{"$f":"IF(COUNTIF('PLANNING PRINCIPAL'!$I$401:$X$401,A19)>=1,\"\",ROW())","v":19},"LOC PELLE INTERLOC","LOC PELLE INTERLOC",{"$f":"IF(COUNTIF('PLANNING PRINCIPAL'!$I$404:$X$404,D19)>=1,\"\",ROW())","v":19},"LOC PELLE INTERLOC","LOC PELLE INTERLOC",{"$f":"IF(COUNTIF('PLANNING PRINCIPAL'!$I$407:$X$407,G19)>=1,\"\",ROW())","v":19},"LOC PELLE INTERLOC","LOC PELLE INTERLOC",{"$f":"IF(COUNTIF('PLANNING PRINCIPAL'!$I$410:$X$410,J19)>=1,\"\",ROW())","v":19},"LOC PELLE INTERLOC","LOC PELLE INTERLOC",{"$f":"IF(COUNTIF('PLANNING PRINCIPAL'!$I$413:$X$413,M19)>=1,\"\",ROW())","v":19},"LOC PELLE INTERLOC","LOC PELLE INTERLOC",{"$f":"IF(COUNTIF('PLANNING PRINCIPAL'!$I$416:$X$416,P19)>=1,\"\",ROW())","v":19},"LOC PELLE INTERLOC","LOC PELLE INTERLOC",{"$f":"IF(COUNTIF('PLANNING PRINCIPAL'!$I$419:$X$419,S19)>=1,\"\",ROW())","v":19},"LOC PELLE INTERLOC",null,{"$f":"IF(COUNTIF('PLANNING PRINCIPAL'!$I$375:$X$375,V19)>=1,\"\",ROW())","v":19}]
[{"$f":"'DATA S1'!A20","v":"LOC PELLE KILOUTOU"},{"$f":"IF(COUNTIF('PLANNING PRINCIPAL'!$I$401:$X$401,A20)>=1,\"\",ROW())","v":20},"LOC PELLE KILOUTOU","LOC PELLE KILOUTOU",{"$f":"IF(COUNTIF('PLANNING PRINCIPAL'!$I$404:$X$404,D20)>=1,\"\",ROW())","v":20},"LOC PELLE KILOUTOU","LOC PELLE KILOUTOU",{"$f":"IF(COUNTIF('PLANNING PRINCIPAL'!$I$407:$X$407,G20)>=1,\"\",ROW())","v":20},"LOC PELLE KILOUTOU","LOC PELLE KILOUTOU",{"$f":"IF(COUNTIF('PLANNING PRINCIPAL'!$I$410:$X$410,J20)>=1,\"\",ROW())","v":20},"LOC PELLE KILOUTOU","LOC PELLE KILOUTOU",{"$f":"IF(COUNTIF('PLANNING PRINCIPAL'!$I$413:$X$413,M20)>=1,\"\",ROW())","v":20},"LOC PELLE KILOUTOU","LOC PELLE KILOUTOU",{"$f":"IF(COUNTIF('PLANNING PRINCIPAL'!$I$416:$X$416,P20)>=1,\"\",ROW())","v":20},"LOC PELLE KILOUTOU","LOC PELLE KILOUTOU",{"$f":"IF(COUNTIF('PLANNING PRINCIPAL'!$I$419:$X$419,S20)>=1,\"\",ROW())","v":20},"LOC PELLE KILOUTOU",null,{"$f":"IF(COUNTIF('PLANNING PRINCIPAL'!$I$375:$X$375,V20)>=1,\"\",ROW())","v":20}]
[null,{"$f":"IF(COUNTIF('PLANNING PRINCIPAL'!$I$401:$X$401,A21)>=1,\"\",ROW())","v":21},null,null,{"$f":"IF(COUNTIF('PLANNING PRINCIPAL'!$I$404:$X$404,D21)>=1,\"\",ROW())","v":21},null,null,{"$f":"IF(COUNTIF('PLANNING PRINCIPAL'!$I$407:$X$407,G21)>=1,\"\",ROW())","v":21},null,null,{"$f":"IF(COUNTIF('PLANNING PRINCIPAL'!$I$410:$X$410,J21)>=1,\"\",ROW())","v":21},null,null,{"$f":"IF(COUNTIF('PLANNING PRINCIPAL'!$I$413:$X$413,M21)>=1,\"\",ROW())","v":21},null,null,{"$f":"IF(COUNTIF('PLANNING PRINCIPAL'!$I$416:$X$416,P21)>=1,\"\",ROW())","v":21},null,null,{"$f":"IF(COUNTIF('PLANNING PRINCIPAL'!$I$419:$X$419,S21)>=1,\"\",ROW())","v":21},null,null,{"$f":"IF(COUNTIF('PLANNING PRINCIPAL'!$I$375:$X$375,V21)>=1,\"\",ROW())","v":21}]
[null,{"$f":"IF(COUNTIF('PLANNING PRINCIPAL'!$I$401:$X$401,A22)>=1,\"\",ROW())","v":22},null,null,{"$f":"IF(COUNTIF('PLANNING PRINCIPAL'!$I$404:$X$404,D22)>=1,\"\",ROW())","v":22},null,null,{"$f":"IF(COUNTIF('PLANNING PRINCIPAL'!$I$407:$X$407,G22)>=1,\"\",ROW())","v":22},null,null,{"$f":"IF(COUNTIF('PLANNING PRINCIPAL'!$I$410:$X$410,J22)>=1,\"\",ROW())","v":22},null,null,{"$f":"IF(COUNTIF('PLANNING PRINCIPAL'!$I$413:$X$413,M22)>=1,\"\",ROW())","v":22},null,null,{"$f":"IF(COUNTIF('PLANNING PRINCIPAL'!$I$416:$X$416,P22)>=1,\"\",ROW())","v":22},null,null,{"$f":"IF(COUNTIF('PLANNING PRINCIPAL'!$I$419:$X$419,S22)>=1,\"\",ROW())","v":22},null,null,{"$f":"IF(COUNTIF('PLANNING PRINCIPAL'!$I$375:$X$375,V22)>=1,\"\",ROW())","v":22}]
[null,{"$f":"IF(COUNTIF('PLANNING PRINCIPAL'!$I$401:$X$401,A23)>=1,\"\",ROW())","v":23},null,null,{"$f":"IF(COUNTIF('PLANNING PRINCIPAL'!$I$404:$X$404,D23)>=1,\"\",ROW())","v":23},null,null,{"$f":"IF(COUNTIF('PLANNING PRINCIPAL'!$I$407:$X$407,G23)>=1,\"\",ROW())","v":23},null,null,{"$f":"IF(COUNTIF('PLANNING PRINCIPAL'!$I$410:$X$410,J23)>=1,\"\",ROW())","v":23},null,null,{"$f":"IF(COUNTIF('PLANNING PRINCIPAL'!$I$413:$X$413,M23)>=1,\"\",ROW())","v":23},null,null,{"$f":"IF(COUNTIF('PLANNING PRINCIPAL'!$I$416:$X$416,P23)>=1,\"\",ROW())","v":23},null,null,{"$f":"IF(COUNTIF('PLANNING PRINCIPAL'!$I$419:$X$419,S23)>=1,\"\",ROW())","v":23},null,null,{"$f":"IF(COUNTIF('PLANNING PRINCIPAL'!$I$375:$X$375,V23)>=1,\"\",ROW())","v":23}]
[null,{"$f":"IF(COUNTIF('PLANNING PRINCIPAL'!$I$401:$X$401,A24)>=1,\"\",ROW())","v":24},null,null,{"$f":"IF(COUNTIF('PLANNING PRINCIPAL'!$I$404:$X$404,D24)>=1,\"\",ROW())","v":24},null,null,{"$f":"IF(COUNTIF('PLANNING PRINCIPAL'!$I$407:$X$407,G24)>=1,\"\",ROW())","v":24},null,null,{"$f":"IF(COUNTIF('PLANNING PRINCIPAL'!$I$410:$X$410,J24)>=1,\"\",ROW())","v":24},null,null,{"$f":"IF(COUNTIF('PLANNING PRINCIPAL'!$I$413:$X$413,M24)>=1,\"\",ROW())","v":24},null,null,{"$f":"IF(COUNTIF('PLANNING PRINCIPAL'!$I$416:$X$416,P24)>=1,\"\",ROW())","v":24},null,null,{"$f":"IF(COUNTIF('PLANNING PRINCIPAL'!$I$419:$X$419,S24)>=1,\"\",ROW())","v":24},null,null,{"$f":"IF(COUNTIF('PLANNING PRINCIPAL'!$I$375:$X$375,V24)>=1,\"\",ROW())","v":24}]
[null,{"$f":"IF(COUNTIF('PLANNING PRINCIPAL'!$I$401:$X$401,A25)>=1,\"\",ROW())","v":25},null,null,{"$f":"IF(COUNTIF('PLANNING PRINCIPAL'!$I$404:$X$404,D25)>=1,\"\",ROW())","v":25},null,null,{"$f":"IF(COUNTIF('PLANNING PRINCIPAL'!$I$407:$X$407,G25)>=1,\"\",ROW())","v":25},null,null,{"$f":"IF(COUNTIF('PLANNING PRINCIPAL'!$I$410:$X$410,J25)>=1,\"\",ROW())","v":25},null,null,{"$f":"IF(COUNTIF('PLANNING PRINCIPAL'!$I$413:$X$413,M25)>=1,\"\",ROW())","v":25},null,null,{"$f":"IF(COUNTIF('PLANNING PRINCIPAL'!$I$416:$X$416,P25)>=1,\"\",ROW())","v":25},null,null,{"$f":"IF(COUNTIF('PLANNING PRINCIPAL'!$I$419:$X$419,S25)>=1,\"\",ROW())","v":25},null,null,{"$f":"IF(COUNTIF('PLANNING PRINCIPAL'!$I$375:$X$375,V25)>=1,\"\",ROW())","v":25}]
[null,{"$f":"IF(COUNTIF('PLANNING PRINCIPAL'!$I$401:$X$401,A26)>=1,\"\",ROW())","v":26},null,null,{"$f":"IF(COUNTIF('PLANNING PRINCIPAL'!$I$404:$X$404,D26)>=1,\"\",ROW())","v":26},null,null,{"$f":"IF(COUNTIF('PLANNING PRINCIPAL'!$I$407:$X$407,G26)>=1,\"\",ROW())","v":26},null,null,{"$f":"IF(COUNTIF('PLANNING PRINCIPAL'!$I$410:$X$410,J26)>=1,\"\",ROW())","v":26},null,null,{"$f":"IF(COUNTIF('PLANNING PRINCIPAL'!$I$413:$X$413,M26)>=1,\"\",ROW())","v":26},null,null,{"$f":"IF(COUNTIF('PLANNING PRINCIPAL'!$I$416:$X$416,P26)>=1,\"\",ROW())","v":26},null,null,{"$f":"IF(COUNTIF('PLANNING PRINCIPAL'!$I$419:$X$419,S26)>=1,\"\",ROW())","v":26},null,null,{"$f":"IF(COUNTIF('PLANNING PRINCIPAL'!$I$375:$X$375,V26)>=1,\"\",ROW())","v":26}]
[null,{"$f":"IF(COUNTIF('PLANNING PRINCIPAL'!$I$401:$X$401,A27)>=1,\"\",ROW())","v":27},null,null,{"$f":"IF(COUNTIF('PLANNING PRINCIPAL'!$I$404:$X$404,D27)>=1,\"\",ROW())","v":27},null,null,{"$f":"IF(COUNTIF('PLANNING PRINCIPAL'!$I$407:$X$407,G27)>=1,\"\",ROW())","v":27},null,null,{"$f":"IF(COUNTIF('PLANNING PRINCIPAL'!$I$410:$X$410,J27)>=1,\"\",ROW())","v":27},null,null,{"$f":"IF(COUNTIF('PLANNING PRINCIPAL'!$I$413:$X$413,M27)>=1,\"\",ROW())","v":27},null,null,{"$f":"IF(COUNTIF('PLANNING PRINCIPAL'!$I$416:$X$416,P27)>=1,\"\",ROW())","v":27},null,null,{"$f":"IF(COUNTIF('PLANNING PRINCIPAL'!$I$419:$X$419,S27)>=1,\"\",ROW())","v":27},null,null,{"$f":"IF(COUNTIF('PLANNING PRINCIPAL'!$I$375:$X$375,V27)>=1,\"\",ROW())","v":27}]
[null,{"$f":"IF(COUNTIF('PLANNING PRINCIPAL'!$I$401:$X$401,A28)>=1,\"\",ROW())","v":28},null,null,{"$f":"IF(COUNTIF('PLANNING PRINCIPAL'!$I$404:$X$404,D28)>=1,\"\",ROW())","v":28},null,null,{"$f":"IF(COUNTIF('PLANNING PRINCIPAL'!$I$407:$X$407,G28)>=1,\"\",ROW())","v":28},null,null,{"$f":"IF(COUNTIF('PLANNING PRINCIPAL'!$I$410:$X$410,J28)>=1,\"\",ROW())","v":28},null,null,{"$f":"IF(COUNTIF('PLANNING PRINCIPAL'!$I$413:$X$413,M28)>=1,\"\",ROW())","v":28},null,null,{"$f":"IF(COUNTIF('PLANNING PRINCIPAL'!$I$416:$X$416,P28)>=1,\"\",ROW())","v":28},null,null,{"$f":"IF(COUNTIF('PLANNING PRINCIPAL'!$I$419:$X$419,S28)>=1,\"\",ROW())","v":28},null,null,{"$f":"IF(COUNTIF('PLANNING PRINCIPAL'!$I$375:$X$375,V28)>=1,\"\",ROW())","v":28}]
[null,{"$f":"IF(COUNTIF('PLANNING PRINCIPAL'!$I$401:$X$401,A29)>=1,\"\",ROW())","v":29},null,null,{"$f":"IF(COUNTIF('PLANNING PRINCIPAL'!$I$404:$X$404,D29)>=1,\"\",ROW())","v":29},null,null,{"$f":"IF(COUNTIF('PLANNING PRINCIPAL'!$I$407:$X$407,G29)>=1,\"\",ROW())","v":29},null,null,{"$f":"IF(COUNTIF('PLANNING PRINCIPAL'!$I$410:$X$410,J29)>=1,\"\",ROW())","v":29},null,null,{"$f":"IF(COUNTIF('PLANNING PRINCIPAL'!$I$413:$X$413,M29)>=1,\"\",ROW())","v":29},null,null,{"$f":"IF(COUNTIF('PLANNING PRINCIPAL'!$I$416:$X$416,P29)>=1,\"\",ROW())","v":29},null,null,{"$f":"IF(COUNTIF('PLANNING PRINCIPAL'!$I$419:$X$419,S29)>=1,\"\",ROW())","v":29},null,null,{"$f":"IF(COUNTIF('PLANNING PRINCIPAL'!$I$375:$X$375,V29)>=1,\"\",ROW())","v":29}]
[null,{"$f":"IF(COUNTIF('PLANNING PRINCIPAL'!$I$401:$X$401,A30)>=1,\"\",ROW())","v":30},null,null,{"$f":"IF(COUNTIF('PLANNING PRINCIPAL'!$I$404:$X$404,D30)>=1,\"\",ROW())","v":30},null,null,{"$f":"IF(COUNTIF('PLANNING PRINCIPAL'!$I$407:$X$407,G30)>=1,\"\",ROW())","v":30},null,null,{"$f":"IF(COUNTIF('PLANNING PRINCIPAL'!$I$410:$X$410,J30)>=1,\"\",ROW())","v":30},null,null,{"$f":"IF(COUNTIF('PLANNING PRINCIPAL'!$I$413:$X$413,M30)>=1,\"\",ROW())","v":30},null,null,{"$f":"IF(COUNTIF('PLANNING PRINCIPAL'!$I$416:$X$416,P30)>=1,\"\",ROW())","v":30},null,null,{"$f":"IF(COUNTIF('PLANNING PRINCIPAL'!$I$419:$X$419,S30)>=1,\"\",ROW())","v":30},null,null,{"$f":"IF(COUNTIF('PLANNING PRINCIPAL'!$I$375:$X$375,V30)>=1,\"\",ROW())","v":30}]
[null,{"$f":"IF(COUNTIF('PLANNING PRINCIPAL'!$I$401:$X$401,A31)>=1,\"\",ROW())","v":31},null,null,{"$f":"IF(COUNTIF('PLANNING PRINCIPAL'!$I$404:$X$404,D31)>=1,\"\",ROW())","v":31},null,null,{"$f":"IF(COUNTIF('PLANNING PRINCIPAL'!$I$407:$X$407,G31)>=1,\"\",ROW())","v":31},null,null,{"$f":"IF(COUNTIF('PLANNING PRINCIPAL'!$I$410:$X$410,J31)>=1,\"\",ROW())","v":31},null,null,{"$f":"IF(COUNTIF('PLANNING PRINCIPAL'!$I$413:$X$413,M31)>=1,\"\",ROW())","v":31},null,null,{"$f":"IF(COUNTIF('PLANNING PRINCIPAL'!$I$416:$X$416,P31)>=1,\"\",ROW())","v":31},null,null,{"$f":"IF(COUNTIF('PLANNING PRINCIPAL'!$I$419:$X$419,S31)>=1,\"\",ROW())","v":31},null,null,{"$f":"IF(COUNTIF('PLANNING PRINCIPAL'!$I$375:$X$375,V31)>=1,\"\",ROW())","v":31}]
[null,{"$f":"IF(COUNTIF('PLANNING PRINCIPAL'!$I$401:$X$401,A32)>=1,\"\",ROW())","v":32},null,null,{"$f":"IF(COUNTIF('PLANNING PRINCIPAL'!$I$404:$X$404,D32)>=1,\"\",ROW())","v":32},null,null,{"$f":"IF(COUNTIF('PLANNING PRINCIPAL'!$I$407:$X$407,G32)>=1,\"\",ROW())","v":32},null,null,{"$f":"IF(COUNTIF('PLANNING PRINCIPAL'!$I$410:$X$410,J32)>=1,\"\",ROW())","v":32},null,null,{"$f":"IF(COUNTIF('PLANNING PRINCIPAL'!$I$413:$X$413,M32)>=1,\"\",ROW())","v":32},null,null,{"$f":"IF(COUNTIF('PLANNING PRINCIPAL'!$I$416:$X$416,P32)>=1,\"\",ROW())","v":32},null,null,{"$f":"IF(COUNTIF('PLANNING PRINCIPAL'!$I$419:$X$419,S32)>=1,\"\",ROW())","v":32},null,null,{"$f":"IF(COUNTIF('PLANNING PRINCIPAL'!$I$375:$X$375,V32)>=1,\"\",ROW())","v":32}]
[null,{"$f":"IF(COUNTIF('PLANNING PRINCIPAL'!$I$401:$X$401,A33)>=1,\"\",ROW())","v":33},null,null,{"$f":"IF(COUNTIF('PLANNING PRINCIPAL'!$I$404:$X$404,D33)>=1,\"\",ROW())","v":33},null,null,{"$f":"IF(COUNTIF('PLANNING PRINCIPAL'!$I$407:$X$407,G33)>=1,\"\",ROW())","v":33},null,null,{"$f":"IF(COUNTIF('PLANNING PRINCIPAL'!$I$410:$X$410,J33)>=1,\"\",ROW())","v":33},null,null,{"$f":"IF(COUNTIF('PLANNING PRINCIPAL'!$I$413:$X$413,M33)>=1,\"\",ROW())","v":33},null,null,{"$f":"IF(COUNTIF('PLANNING PRINCIPAL'!$I$416:$X$416,P33)>=1,\"\",ROW())","v":33},null,null,{"$f":"IF(COUNTIF('PLANNING PRINCIPAL'!$I$419:$X$419,S33)>=1,\"\",ROW())","v":33},null,null,{"$f":"IF(COUNTIF('PLANNING PRINCIPAL'!$I$375:$X$375,V33)>=1,\"\",ROW())","v":33}]
[null,{"$f":"IF(COUNTIF('PLANNING PRINCIPAL'!$I$401:$X$401,A34)>=1,\"\",ROW())","v":34},null,null,{"$f":"IF(COUNTIF('PLANNING PRINCIPAL'!$I$404:$X$404,D34)>=1,\"\",ROW())","v":34},null,null,{"$f":"IF(COUNTIF('PLANNING PRINCIPAL'!$I$407:$X$407,G34)>=1,\"\",ROW())","v":34},null,null,{"$f":"IF(COUNTIF('PLANNING PRINCIPAL'!$I$410:$X$410,J34)>=1,\"\",ROW())","v":34},null,null,{"$f":"IF(COUNTIF('PLANNING PRINCIPAL'!$I$413:$X$413,M34)>=1,\"\",ROW())","v":34},null,null,{"$f":"IF(COUNTIF('PLANNING PRINCIPAL'!$I$416:$X$416,P34)>=1,\"\",ROW())","v":34},null,null,{"$f":"IF(COUNTIF('PLANNING PRINCIPAL'!$I$419:$X$419,S34)>=1,\"\",ROW())","v":34},null,null,{"$f":"IF(COUNTIF('PLANNING PRINCIPAL'!$I$375:$X$375,V34)>=1,\"\",ROW())","v":34}]
["LUNDI",null,null,"MARDI",null,null,"MERCREDI",null,null,"JEUDI",null,null,"VENDREDI",null,null,"SAMEDI",null,null,"DIMANCHE",null,null,"ASTREINTE"]

{"sheet":"DATA S19","index":20,"n_rows":35,"n_cols":24,"rows_kept":35,"cut":false,"hidden":false,"merged":[[34,18,34,20],[34,21,34,23],[34,0,34,2],[34,3,34,5],[34,6,34,8],[34,9,34,11],[34,12,34,14],[34,15,34,17]]}
[{"$f":"'DATA S1'!A1","v":"MAS XX "},{"$f":"IF(COUNTIF('PLANNING PRINCIPAL'!$I$424:$X$424,A1)>=1,\"\",ROW())","v":1},{"$f":"IF(ROW(A1)-ROW(A$1)+1>COUNT(B:B),\"\", INDEX(A:A,SMALL(B:B,1+ROW(A1)-ROW(A$1))))","v":"MAS XX "},{"$f":"A1","v":"MAS XX "},{"$f":"IF(COUNTIF('PLANNING PRINCIPAL'!$I$428:$X$428,D1)>=1,\"\",ROW())","v":1},{"$f":"IF(ROW(D1)-ROW(D$1)+1>COUNT(E:E),\"\", INDEX(D:D,SMALL(E:E,1+ROW(D1)-ROW(D$1))))","v":"MAS XX "},{"$f":"A1","v":"MAS XX "},{"$f":"IF(COUNTIF('PLANNING PRINCIPAL'!$I$432:$X$432,G1)>=1,\"\",ROW())","v":1},{"$f":"IF(ROW(G1)-ROW(G$1)+1>COUNT(H:H),\"\", INDEX(G:G,SMALL(H:H,1+ROW(G1)-ROW(G$1))))","v":"MAS XX "},{"$f":"A1","v":"MAS XX "},{"$f":"IF(COUNTIF('PLANNING PRINCIPAL'!$I$435:$X$435,J1)>=1,\"\",ROW())","v":1},{"$f":"IF(ROW(J1)-ROW(J$1)+1>COUNT(K:K),\"\", INDEX(J:J,SMALL(K:K,1+ROW(J1)-ROW(J$1))))","v":"MAS XX "},{"$f":"A1","v":"MAS XX "},{"$f":"IF(COUNTIF('PLANNING PRINCIPAL'!$I$438:$X$438,M1)>=1,\"\",ROW())","v":1},{"$f":"IF(ROW(M1)-ROW(M$1)+1>COUNT(N:N),\"\", INDEX(M:M,SMALL(N:N,1+ROW(M1)-ROW(M$1))))","v":"MAS XX "},{"$f":"A1","v":"MAS XX "},{"$f":"IF(COUNTIF('PLANNING PRINCIPAL'!$I$441:$X$441,P1)>=1,\"\",ROW())","v":1},{"$f":"IF(ROW(P1)-ROW(P$1)+1>COUNT(Q:Q),\"\", INDEX(P:P,SMALL(Q:Q,1+ROW(P1)-ROW(P$1))))","v":"MAS XX "},{"$f":"A1","v":"MAS XX "},{"$f":"IF(COUNTIF('PLANNING PRINCIPAL'!$I$444:$X$444,S1)>=1,\"\",ROW())","v":1},{"$f":"IF(ROW(S1)-ROW(S$1)+1>COUNT(T:T),\"\", INDEX(S:S,SMALL(T:T,1+ROW(S1)-ROW(S$1))))","v":"MAS XX "},{"$f":"'DATA S1'!V1","v":"ASTREINTE SLT"},{"$f":"IF(COUNTIF('PLANNING PRINCIPAL'!$I$446:$X$446,V1)>=1,\"\",ROW())","v":1},{"$f":"IF(ROW(V1)-ROW(V$1)+1>COUNT(W:W),\"\", INDEX(V:V,SMALL(W:W,1+ROW(V1)-ROW(V$1))))","v":"ASTREINTE SLT"}]
[{"$f":"'DATA S1'!A2","v":"MAS YY "},{"$f":"IF(COUNTIF('PLANNING PRINCIPAL'!$I$424:$X$424,A2)>=1,\"\",ROW())","v":2},{"$f":"IF(ROW(A2)-ROW(A$1)+1>COUNT(B:B),\"\", INDEX(A:A,SMALL(B:B,1+ROW(A2)-ROW(A$1))))","v":"MAS YY "},"MAS YY ",{"$f":"IF(COUNTIF('PLANNING PRINCIPAL'!$I$428:$X$428,D2)>=1,\"\",ROW())","v":2},{"$f":"IF(ROW(D2)-ROW(D$1)+1>COUNT(E:E),\"\", INDEX(D:D,SMALL(E:E,1+ROW(D2)-ROW(D$1))))","v":"MAS YY "},{"$f":"A2","v":"MAS YY "},{"$f":"IF(COUNTIF('PLANNING PRINCIPAL'!$I$432:$X$432,G2)>=1,\"\",ROW())","v":2},{"$f":"IF(ROW(G2)-ROW(G$1)+1>COUNT(H:H),\"\", INDEX(G:G,SMALL(H:H,1+ROW(G2)-ROW(G$1))))","v":"MAS YY "},{"$f":"A2","v":"MAS YY "},{"$f":"IF(COUNTIF('PLANNING PRINCIPAL'!$I$435:$X$435,J2)>=1,\"\",ROW())","v":2},{"$f":"IF(ROW(J2)-ROW(J$1)+1>COUNT(K:K),\"\", INDEX(J:J,SMALL(K:K,1+ROW(J2)-ROW(J$1))))","v":"MAS YY "},{"$f":"A2","v":"MAS YY "},{"$f":"IF(COUNTIF('PLANNING PRINCIPAL'!$I$438:$X$438,M2)>=1,\"\",ROW())","v":2},{"$f":"IF(ROW(M2)-ROW(M$1)+1>COUNT(N:N),\"\", INDEX(M:M,SMALL(N:N,1+ROW(M2)-ROW(M$1))))","v":"MAS YY "},{"$f":"A2","v":"MAS YY "},{"$f":"IF(COUNTIF('PLANNING PRINCIPAL'!$I$441:$X$441,P2)>=1,\"\",ROW())","v":2},{"$f":"IF(ROW(P2)-ROW(P$1)+1>COUNT(Q:Q),\"\", INDEX(P:P,SMALL(Q:Q,1+ROW(P2)-ROW(P$1))))","v":"MAS YY "},{"$f":"A2","v":"MAS YY "},{"$f":"IF(COUNTIF('PLANNING PRINCIPAL'!$I$444:$X$444,S2)>=1,\"\",ROW())","v":2},{"$f":"IF(ROW(S2)-ROW(S$1)+1>COUNT(T:T),\"\", INDEX(S:S,SMALL(T:T,1+ROW(S2)-ROW(S$1))))","v":"MAS YY "},{"$f":"'DATA S1'!V2","v":"ASTREINTE EP"},{"$f":"IF(COUNTIF('PLANNING PRINCIPAL'!$I$446:$X$446,V2)>=1,\"\",ROW())","v":2},{"$f":"IF(ROW(V2)-ROW(V$1)+1>COUNT(W:W),\"\", INDEX(V:V,SMALL(W:W,1+ROW(V2)-ROW(V$1))))","v":"ASTREINTE EP"}]
[{"$f":"'DATA S1'!A3","v":"MAS VQ "},{"$f":"IF(COUNTIF('PLANNING PRINCIPAL'!$I$424:$X$424,A3)>=1,\"\",ROW())","v":3},"MAS VQ ","MAS VQ ",{"$f":"IF(COUNTIF('PLANNING PRINCIPAL'!$I$428:$X$428,D3)>=1,\"\",ROW())","v":3},"MAS VQ ","MAS VQ ",{"$f":"IF(COUNTIF('PLANNING PRINCIPAL'!$I$432:$X$432,G3)>=1,\"\",ROW())","v":3},"MAS VQ ","MAS VQ ",{"$f":"IF(COUNTIF('PLANNING PRINCIPAL'!$I$435:$X$435,J3)>=1,\"\",ROW())","v":3},"MAS VQ ","MAS VQ ",{"$f":"IF(COUNTIF('PLANNING PRINCIPAL'!$I$438:$X$438,M3)>=1,\"\",ROW())","v":3},"MAS VQ ","MAS VQ ",{"$f":"IF(COUNTIF('PLANNING PRINCIPAL'!$I$441:$X$441,P3)>=1,\"\",ROW())","v":3},"MAS VQ ","MAS VQ ",{"$f":"IF(COUNTIF('PLANNING PRINCIPAL'!$I$444:$X$444,S3)>=1,\"\",ROW())","v":3},"MAS VQ ",{"$f":"'DATA S1'!V3","v":"V NOC CHARTRES"},{"$f":"IF(COUNTIF('PLANNING PRINCIPAL'!$I$446:$X$446,V3)>=1,\"\",ROW())","v":3},"V NOC CHARTRES"]
[{"$f":"'DATA S1'!A4","v":"MAS PL "},{"$f":"IF(COUNTIF('PLANNING PRINCIPAL'!$I$424:$X$424,A4)>=1,\"\",ROW())","v":4},"MAS PL ","MAS PL ",{"$f":"IF(COUNTIF('PLANNING PRINCIPAL'!$I$428:$X$428,D4)>=1,\"\",ROW())","v":4},"MAS PL ","MAS PL ",{"$f":"IF(COUNTIF('PLANNING PRINCIPAL'!$I$432:$X$432,G4)>=1,\"\",ROW())","v":4},"MAS PL ","MAS PL ",{"$f":"IF(COUNTIF('PLANNING PRINCIPAL'!$I$435:$X$435,J4)>=1,\"\",ROW())","v":4},"MAS PL ","MAS PL ",{"$f":"IF(COUNTIF('PLANNING PRINCIPAL'!$I$438:$X$438,M4)>=1,\"\",ROW())","v":4},"MAS PL ","MAS PL ",{"$f":"IF(COUNTIF('PLANNING PRINCIPAL'!$I$441:$X$441,P4)>=1,\"\",ROW())","v":4},"MAS PL ","MAS PL ",{"$f":"IF(COUNTIF('PLANNING PRINCIPAL'!$I$444:$X$444,S4)>=1,\"\",ROW())","v":4},"MAS PL ",{"$f":"'DATA S1'!V4","v":"V NOC EPERNON"},{"$f":"IF(COUNTIF('PLANNING PRINCIPAL'!$I$446:$X$446,V4)>=1,\"\",ROW())","v":4},"V NOC EPERNON"]
[{"$f":"'DATA S1'!A5","v":"BEN VL PT "},{"$f":"IF(COUNTIF('PLANNING PRINCIPAL'!$I$424:$X$424,A5)>=1,\"\",ROW())","v":5},"BEN VL PT ","BEN VL PT ",{"$f":"IF(COUNTIF('PLANNING PRINCIPAL'!$I$428:$X$428,D5)>=1,\"\",ROW())","v":5},"BEN VL PT ","BEN VL PT ",{"$f":"IF(COUNTIF('PLANNING PRINCIPAL'!$I$432:$X$432,G5)>=1,\"\",ROW())","v":5},"BEN VL PT ","BEN VL PT ",{"$f":"IF(COUNTIF('PLANNING PRINCIPAL'!$I$435:$X$435,J5)>=1,\"\",ROW())","v":5},"BEN VL PT ","BEN VL PT ",{"$f":"IF(COUNTIF('PLANNING PRINCIPAL'!$I$438:$X$438,M5)>=1,\"\",ROW())","v":5},"BEN VL PT ","BEN VL PT ",{"$f":"IF(COUNTIF('PLANNING PRINCIPAL'!$I$441:$X$441,P5)>=1,\"\",ROW())","v":5},"BEN VL PT ","BEN VL PT ",{"$f":"IF(COUNTIF('PLANNING PRINCIPAL'!$I$444:$X$444,S5)>=1,\"\",ROW())","v":5},"BEN VL PT ",{"$f":"'DATA S1'!V5","v":"V NOC HANCHES"},{"$f":"IF(COUNTIF('PLANNING PRINCIPAL'!$I$446:$X$446,V5)>=1,\"\",ROW())","v":5},"V NOC HANCHES"]
[{"$f":"'DATA S1'!A6","v":"BEN 19T "},{"$f":"IF(COUNTIF('PLANNING PRINCIPAL'!$I$424:$X$424,A6)>=1,\"\",ROW())","v":6},"BEN 19T ","BEN 19T ",{"$f":"IF(COUNTIF('PLANNING PRINCIPAL'!$I$428:$X$428,D6)>=1,\"\",ROW())","v":6},"BEN 19T ","BEN 19T ",{"$f":"IF(COUNTIF('PLANNING PRINCIPAL'!$I$432:$X$432,G6)>=1,\"\",ROW())","v":6},"BEN 19T ","BEN 19T ",{"$f":"IF(COUNTIF('PLANNING PRINCIPAL'!$I$435:$X$435,J6)>=1,\"\",ROW())","v":6},"BEN 19T ","BEN 19T ",{"$f":"IF(COUNTIF('PLANNING PRINCIPAL'!$I$438:$X$438,M6)>=1,\"\",ROW())","v":6},"BEN 19T ","BEN 19T ",{"$f":"IF(COUNTIF('PLANNING PRINCIPAL'!$I$441:$X$441,P6)>=1,\"\",ROW())","v":6},"BEN 19T ","BEN 19T ",{"$f":"IF(COUNTIF('PLANNING PRINCIPAL'!$I$444:$X$444,S6)>=1,\"\",ROW())","v":6},"BEN 19T ",{"$f":"'DATA S1'!V6","v":"V NOC MAINTENON"},{"$f":"IF(COUNTIF('PLANNING PRINCIPAL'!$I$446:$X$446,V6)>=1,\"\",ROW())","v":6},"V NOC MAINTENON"]
[{"$f":"'DATA S1'!A7","v":"BEN 13T "},{"$f":"IF(COUNTIF('PLANNING PRINCIPAL'!$I$424:$X$424,A7)>=1,\"\",ROW())","v":7},"BEN 13T ","BEN 13T ",{"$f":"IF(COUNTIF('PLANNING PRINCIPAL'!$I$428:$X$428,D7)>=1,\"\",ROW())","v":7},"BEN 13T ","BEN 13T ",{"$f":"IF(COUNTIF('PLANNING PRINCIPAL'!$I$432:$X$432,G7)>=1,\"\",ROW())","v":7},"BEN 13T ","BEN 13T ",{"$f":"IF(COUNTIF('PLANNING PRINCIPAL'!$I$435:$X$435,J7)>=1,\"\",ROW())","v":7},"BEN 13T ","BEN 13T ",{"$f":"IF(COUNTIF('PLANNING PRINCIPAL'!$I$438:$X$438,M7)>=1,\"\",ROW())","v":7},"BEN 13T ","BEN 13T ",{"$f":"IF(COUNTIF('PLANNING PRINCIPAL'!$I$441:$X$441,P7)>=1,\"\",ROW())","v":7},"BEN 13T ","BEN 13T ",{"$f":"IF(COUNTIF('PLANNING PRINCIPAL'!$I$444:$X$444,S7)>=1,\"\",ROW())","v":7},"BEN 13T ",null,{"$f":"IF(COUNTIF('PLANNING PRINCIPAL'!$I$446:$X$446,V7)>=1,\"\",ROW())","v":7}]
[{"$f":"'DATA S1'!A8","v":"NAC VL 18M "},{"$f":"IF(COUNTIF('PLANNING PRINCIPAL'!$I$424:$X$424,A8)>=1,\"\",ROW())","v":8},"NAC VL 18M ","NAC VL 18M ",{"$f":"IF(COUNTIF('PLANNING PRINCIPAL'!$I$428:$X$428,D8)>=1,\"\",ROW())","v":8},"NAC VL 18M ","NAC VL 18M ",{"$f":"IF(COUNTIF('PLANNING PRINCIPAL'!$I$432:$X$432,G8)>=1,\"\",ROW())","v":8},"NAC VL 18M ","NAC VL 18M ",{"$f":"IF(COUNTIF('PLANNING PRINCIPAL'!$I$435:$X$435,J8)>=1,\"\",ROW())","v":8},"NAC VL 18M ","NAC VL 18M ",{"$f":"IF(COUNTIF('PLANNING PRINCIPAL'!$I$438:$X$438,M8)>=1,\"\",ROW())","v":8},"NAC VL 18M ","NAC VL 18M ",{"$f":"IF(COUNTIF('PLANNING PRINCIPAL'!$I$441:$X$441,P8)>=1,\"\",ROW())","v":8},"NAC VL 18M ","NAC VL 18M ",{"$f":"IF(COUNTIF('PLANNING PRINCIPAL'!$I$444:$X$444,S8)>=1,\"\",ROW())","v":8},"NAC VL 18M ",null,{"$f":"IF(COUNTIF('PLANNING PRINCIPAL'!$I$446:$X$446,V8)>=1,\"\",ROW())","v":8}]
[{"$f":"'DATA S1'!A9","v":"NAC EGIE"},{"$f":"IF(COUNTIF('PLANNING PRINCIPAL'!$I$424:$X$424,A9)>=1,\"\",ROW())","v":9},"NAC EGIE","NAC EGIE",{"$f":"IF(COUNTIF('PLANNING PRINCIPAL'!$I$428:$X$428,D9)>=1,\"\",ROW())","v":9},"NAC EGIE","NAC EGIE",{"$f":"IF(COUNTIF('PLANNING PRINCIPAL'!$I$432:$X$432,G9)>=1,\"\",ROW())","v":9},"NAC EGIE","NAC EGIE",{"$f":"IF(COUNTIF('PLANNING PRINCIPAL'!$I$435:$X$435,J9)>=1,\"\",ROW())","v":9},"NAC EGIE","NAC EGIE",{"$f":"IF(COUNTIF('PLANNING PRINCIPAL'!$I$438:$X$438,M9)>=1,\"\",ROW())","v":9},"NAC EGIE","NAC EGIE",{"$f":"IF(COUNTIF('PLANNING PRINCIPAL'!$I$441:$X$441,P9)>=1,\"\",ROW())","v":9},"NAC EGIE","NAC EGIE",{"$f":"IF(COUNTIF('PLANNING PRINCIPAL'!$I$444:$X$444,S9)>=1,\"\",ROW())","v":9},"NAC EGIE",null,{"$f":"IF(COUNTIF('PLANNING PRINCIPAL'!$I$446:$X$446,V9)>=1,\"\",ROW())","v":9}]
[{"$f":"'DATA S1'!A10","v":"NAC COMI "},{"$f":"IF(COUNTIF('PLANNING PRINCIPAL'!$I$424:$X$424,A10)>=1,\"\",ROW())","v":10},"NAC COMI ","NAC COMI ",{"$f":"IF(COUNTIF('PLANNING PRINCIPAL'!$I$428:$X$428,D10)>=1,\"\",ROW())","v":10},"NAC COMI ","NAC COMI ",{"$f":"IF(COUNTIF('PLANNING PRINCIPAL'!$I$432:$X$432,G10)>=1,\"\",ROW())","v":10},"NAC COMI ","NAC COMI ",{"$f":"IF(COUNTIF('PLANNING PRINCIPAL'!$I$435:$X$435,J10)>=1,\"\",ROW())","v":10},"NAC COMI ","NAC COMI ",{"$f":"IF(COUNTIF('PLANNING PRINCIPAL'!$I$438:$X$438,M10)>=1,\"\",ROW())","v":10},"NAC COMI ","NAC COMI ",{"$f":"IF(COUNTIF('PLANNING PRINCIPAL'!$I$441:$X$441,P10)>=1,\"\",ROW())","v":10},"NAC COMI ","NAC COMI ",{"$f":"IF(COUNTIF('PLANNING PRINCIPAL'!$I$444:$X$444,S10)>=1,\"\",ROW())","v":10},"NAC COMI ",null,{"$f":"IF(COUNTIF('PLANNING PRINCIPAL'!$I$446:$X$446,V10)>=1,\"\",ROW())","v":10}]
[{"$f":"'DATA S1'!A11","v":"#####LOCATION#####"},{"$f":"IF(COUNTIF('PLANNING PRINCIPAL'!$I$424:$X$424,A11)>=1,\"\",ROW())","v":11},"#####LOCATION#####","#####LOCATION#####",{"$f":"IF(COUNTIF('PLANNING PRINCIPAL'!$I$428:$X$428,D11)>=1,\"\",ROW())","v":11},"#####LOCATION#####","#####LOCATION#####",{"$f":"IF(COUNTIF('PLANNING PRINCIPAL'!$I$432:$X$432,G11)>=1,\"\",ROW())","v":11},"#####LOCATION#####","#####LOCATION#####",{"$f":"IF(COUNTIF('PLANNING PRINCIPAL'!$I$435:$X$435,J11)>=1,\"\",ROW())","v":11},"#####LOCATION#####","#####LOCATION#####",{"$f":"IF(COUNTIF('PLANNING PRINCIPAL'!$I$438:$X$438,M11)>=1,\"\",ROW())","v":11},"#####LOCATION#####","#####LOCATION#####",{"$f":"IF(COUNTIF('PLANNING PRINCIPAL'!$I$441:$X$441,P11)>=1,\"\",ROW())","v":11},"#####LOCATION#####","#####LOCATION#####",{"$f":"IF(COUNTIF('PLANNING PRINCIPAL'!$I$444:$X$444,S11)>=1,\"\",ROW())","v":11},"#####LOCATION#####",null,{"$f":"IF(COUNTIF('PLANNING PRINCIPAL'!$I$446:$X$446,V11)>=1,\"\",ROW())","v":11}]
[{"$f":"'DATA S1'!A12","v":"LOC NAC SOLOMAT"},{"$f":"IF(COUNTIF('PLANNING PRINCIPAL'!$I$424:$X$424,A12)>=1,\"\",ROW())","v":12},"LOC NAC SOLOMAT","LOC NAC SOLOMAT",{"$f":"IF(COUNTIF('PLANNING PRINCIPAL'!$I$428:$X$428,D12)>=1,\"\",ROW())","v":12},"LOC NAC SOLOMAT","LOC NAC SOLOMAT",{"$f":"IF(COUNTIF('PLANNING PRINCIPAL'!$I$432:$X$432,G12)>=1,\"\",ROW())","v":12},"LOC NAC SOLOMAT","LOC NAC SOLOMAT",{"$f":"IF(COUNTIF('PLANNING PRINCIPAL'!$I$435:$X$435,J12)>=1,\"\",ROW())","v":12},"LOC NAC SOLOMAT","LOC NAC SOLOMAT",{"$f":"IF(COUNTIF('PLANNING PRINCIPAL'!$I$438:$X$438,M12)>=1,\"\",ROW())","v":12},"LOC NAC SOLOMAT","LOC NAC SOLOMAT",{"$f":"IF(COUNTIF('PLANNING PRINCIPAL'!$I$441:$X$441,P12)>=1,\"\",ROW())","v":12},"LOC NAC SOLOMAT","LOC NAC SOLOMAT",{"$f":"IF(COUNTIF('PLANNING PRINCIPAL'!$I$444:$X$444,S12)>=1,\"\",ROW())","v":12},"LOC NAC SOLOMAT",null,{"$f":"IF(COUNTIF('PLANNING PRINCIPAL'!$I$446:$X$446,V12)>=1,\"\",ROW())","v":12}]
[{"$f":"'DATA S1'!A13","v":"LOC NAC AEB"},{"$f":"IF(COUNTIF('PLANNING PRINCIPAL'!$I$424:$X$424,A13)>=1,\"\",ROW())","v":13},"LOC NAC AEB","LOC NAC AEB",{"$f":"IF(COUNTIF('PLANNING PRINCIPAL'!$I$428:$X$428,D13)>=1,\"\",ROW())","v":13},"LOC NAC AEB","LOC NAC AEB",{"$f":"IF(COUNTIF('PLANNING PRINCIPAL'!$I$432:$X$432,G13)>=1,\"\",ROW())","v":13},"LOC NAC AEB","LOC NAC AEB",{"$f":"IF(COUNTIF('PLANNING PRINCIPAL'!$I$435:$X$435,J13)>=1,\"\",ROW())","v":13},"LOC NAC AEB","LOC NAC AEB",{"$f":"IF(COUNTIF('PLANNING PRINCIPAL'!$I$438:$X$438,M13)>=1,\"\",ROW())","v":13},"LOC NAC AEB","LOC NAC AEB",{"$f":"IF(COUNTIF('PLANNING PRINCIPAL'!$I$441:$X$441,P13)>=1,\"\",ROW())","v":13},"LOC NAC AEB","LOC NAC AEB",{"$f":"IF(COUNTIF('PLANNING PRINCIPAL'!$I$444:$X$444,S13)>=1,\"\",ROW())","v":13},"LOC NAC AEB",null,{"$f":"IF(COUNTIF('PLANNING PRINCIPAL'!$I$446:$X$446,V13)>=1,\"\",ROW())","v":13}]
[{"$f":"'DATA S1'!A14","v":"LOC NAC INTERLOC"},{"$f":"IF(COUNTIF('PLANNING PRINCIPAL'!$I$424:$X$424,A14)>=1,\"\",ROW())","v":14},"LOC NAC INTERLOC","LOC NAC INTERLOC",{"$f":"IF(COUNTIF('PLANNING PRINCIPAL'!$I$428:$X$428,D14)>=1,\"\",ROW())","v":14},"LOC NAC INTERLOC","LOC NAC INTERLOC",{"$f":"IF(COUNTIF('PLANNING PRINCIPAL'!$I$432:$X$432,G14)>=1,\"\",ROW())","v":14},"LOC NAC INTERLOC","LOC NAC INTERLOC",{"$f":"IF(COUNTIF('PLANNING PRINCIPAL'!$I$435:$X$435,J14)>=1,\"\",ROW())","v":14},"LOC NAC INTERLOC","LOC NAC INTERLOC",{"$f":"IF(COUNTIF('PLANNING PRINCIPAL'!$I$438:$X$438,M14)>=1,\"\",ROW())","v":14},"LOC NAC INTERLOC","LOC NAC INTERLOC",{"$f":"IF(COUNTIF('PLANNING PRINCIPAL'!$I$441:$X$441,P14)>=1,\"\",ROW())","v":14},"LOC NAC INTERLOC","LOC NAC INTERLOC",{"$f":"IF(COUNTIF('PLANNING PRINCIPAL'!$I$444:$X$444,S14)>=1,\"\",ROW())","v":14},"LOC NAC INTERLOC",null,{"$f":"IF(COUNTIF('PLANNING PRINCIPAL'!$I$446:$X$446,V14)>=1,\"\",ROW())","v":14}]
[{"$f":"'DATA S1'!A15","v":"LOC NAC KILOUTOU"},{"$f":"IF(COUNTIF('PLANNING PRINCIPAL'!$I$424:$X$424,A15)>=1,\"\",ROW())","v":15},"LOC NAC KILOUTOU","LOC NAC KILOUTOU",{"$f":"IF(COUNTIF('PLANNING PRINCIPAL'!$I$428:$X$428,D15)>=1,\"\",ROW())","v":15},"LOC NAC KILOUTOU","LOC NAC KILOUTOU",{"$f":"IF(COUNTIF('PLANNING PRINCIPAL'!$I$432:$X$432,G15)>=1,\"\",ROW())","v":15},"LOC NAC KILOUTOU","LOC NAC KILOUTOU",{"$f":"IF(COUNTIF('PLANNING PRINCIPAL'!$I$435:$X$435,J15)>=1,\"\",ROW())","v":15},"LOC NAC KILOUTOU","LOC NAC KILOUTOU",{"$f":"IF(COUNTIF('PLANNING PRINCIPAL'!$I$438:$X$438,M15)>=1,\"\",ROW())","v":15},"LOC NAC KILOUTOU","LOC NAC KILOUTOU",{"$f":"IF(COUNTIF('PLANNING PRINCIPAL'!$I$441:$X$441,P15)>=1,\"\",ROW())","v":15},"LOC NAC KILOUTOU","LOC NAC KILOUTOU",{"$f":"IF(COUNTIF('PLANNING PRINCIPAL'!$I$444:$X$444,S15)>=1,\"\",ROW())","v":15},"LOC NAC KILOUTOU",null,{"$f":"IF(COUNTIF('PLANNING PRINCIPAL'!$I$446:$X$446,V15)>=1,\"\",ROW())","v":15}]
[{"$f":"'DATA S1'!A16","v":"LOC NAC AEB"},{"$f":"IF(COUNTIF('PLANNING PRINCIPAL'!$I$424:$X$424,A16)>=1,\"\",ROW())","v":16},"LOC NAC AEB","LOC NAC AEB",{"$f":"IF(COUNTIF('PLANNING PRINCIPAL'!$I$428:$X$428,D16)>=1,\"\",ROW())","v":16},"LOC NAC AEB","LOC NAC AEB",{"$f":"IF(COUNTIF('PLANNING PRINCIPAL'!$I$432:$X$432,G16)>=1,\"\",ROW())","v":16},"LOC NAC AEB","LOC NAC AEB",{"$f":"IF(COUNTIF('PLANNING PRINCIPAL'!$I$435:$X$435,J16)>=1,\"\",ROW())","v":16},"LOC NAC AEB","LOC NAC AEB",{"$f":"IF(COUNTIF('PLANNING PRINCIPAL'!$I$438:$X$438,M16)>=1,\"\",ROW())","v":16},"LOC NAC AEB","LOC NAC AEB",{"$f":"IF(COUNTIF('PLANNING PRINCIPAL'!$I$441:$X$441,P16)>=1,\"\",ROW())","v":16},"LOC NAC AEB","LOC NAC AEB",{"$f":"IF(COUNTIF('PLANNING PRINCIPAL'!$I$444:$X$444,S16)>=1,\"\",ROW())","v":16},"LOC NAC AEB",null,{"$f":"IF(COUNTIF('PLANNING PRINCIPAL'!$I$446:$X$446,V16)>=1,\"\",ROW())","v":16}]
[{"$f":"'DATA S1'!A17","v":"LOC PELLE SOLOMAT"},{"$f":"IF(COUNTIF('PLANNING PRINCIPAL'!$I$424:$X$424,A17)>=1,\"\",ROW())","v":17},"LOC PELLE SOLOMAT","LOC PELLE SOLOMAT",{"$f":"IF(COUNTIF('PLANNING PRINCIPAL'!$I$428:$X$428,D17)>=1,\"\",ROW())","v":17},"LOC PELLE SOLOMAT","LOC PELLE SOLOMAT",{"$f":"IF(COUNTIF('PLANNING PRINCIPAL'!$I$432:$X$432,G17)>=1,\"\",ROW())","v":17},"LOC PELLE SOLOMAT","LOC PELLE SOLOMAT",{"$f":"IF(COUNTIF('PLANNING PRINCIPAL'!$I$435:$X$435,J17)>=1,\"\",ROW())","v":17},"LOC PELLE SOLOMAT","LOC PELLE SOLOMAT",{"$f":"IF(COUNTIF('PLANNING PRINCIPAL'!$I$438:$X$438,M17)>=1,\"\",ROW())","v":17},"LOC PELLE SOLOMAT","LOC PELLE SOLOMAT",{"$f":"IF(COUNTIF('PLANNING PRINCIPAL'!$I$441:$X$441,P17)>=1,\"\",ROW())","v":17},"LOC PELLE SOLOMAT","LOC PELLE SOLOMAT",{"$f":"IF(COUNTIF('PLANNING PRINCIPAL'!$I$444:$X$444,S17)>=1,\"\",ROW())","v":17},"LOC PELLE SOLOMAT",null,{"$f":"IF(COUNTIF('PLANNING PRINCIPAL'!$I$446:$X$446,V17)>=1,\"\",ROW())","v":17}]
[{"$f":"'DATA S1'!A18","v":"LOC PELLE AEB"},{"$f":"IF(COUNTIF('PLANNING PRINCIPAL'!$I$424:$X$424,A18)>=1,\"\",ROW())","v":18},"LOC PELLE AEB","LOC PELLE AEB",{"$f":"IF(COUNTIF('PLANNING PRINCIPAL'!$I$428:$X$428,D18)>=1,\"\",ROW())","v":18},"LOC PELLE AEB","LOC PELLE AEB",{"$f":"IF(COUNTIF('PLANNING PRINCIPAL'!$I$432:$X$432,G18)>=1,\"\",ROW())","v":18},"LOC PELLE AEB","LOC PELLE AEB",{"$f":"IF(COUNTIF('PLANNING PRINCIPAL'!$I$435:$X$435,J18)>=1,\"\",ROW())","v":18},"LOC PELLE AEB","LOC PELLE AEB",{"$f":"IF(COUNTIF('PLANNING PRINCIPAL'!$I$438:$X$438,M18)>=1,\"\",ROW())","v":18},"LOC PELLE AEB","LOC PELLE AEB",{"$f":"IF(COUNTIF('PLANNING PRINCIPAL'!$I$441:$X$441,P18)>=1,\"\",ROW())","v":18},"LOC PELLE AEB","LOC PELLE AEB",{"$f":"IF(COUNTIF('PLANNING PRINCIPAL'!$I$444:$X$444,S18)>=1,\"\",ROW())","v":18},"LOC PELLE AEB",null,{"$f":"IF(COUNTIF('PLANNING PRINCIPAL'!$I$446:$X$446,V18)>=1,\"\",ROW())","v":18}]
[{"$f":"'DATA S1'!A19","v":"LOC PELLE INTERLOC"},{"$f":"IF(COUNTIF('PLANNING PRINCIPAL'!$I$424:$X$424,A19)>=1,\"\",ROW())","v":19},"LOC PELLE INTERLOC","LOC PELLE INTERLOC",{"$f":"IF(COUNTIF('PLANNING PRINCIPAL'!$I$428:$X$428,D19)>=1,\"\",ROW())","v":19},"LOC PELLE INTERLOC","LOC PELLE INTERLOC",{"$f":"IF(COUNTIF('PLANNING PRINCIPAL'!$I$432:$X$432,G19)>=1,\"\",ROW())","v":19},"LOC PELLE INTERLOC","LOC PELLE INTERLOC",{"$f":"IF(COUNTIF('PLANNING PRINCIPAL'!$I$435:$X$435,J19)>=1,\"\",ROW())","v":19},"LOC PELLE INTERLOC","LOC PELLE INTERLOC",{"$f":"IF(COUNTIF('PLANNING PRINCIPAL'!$I$438:$X$438,M19)>=1,\"\",ROW())","v":19},"LOC PELLE INTERLOC","LOC PELLE INTERLOC",{"$f":"IF(COUNTIF('PLANNING PRINCIPAL'!$I$441:$X$441,P19)>=1,\"\",ROW())","v":19},"LOC PELLE INTERLOC","LOC PELLE INTERLOC",{"$f":"IF(COUNTIF('PLANNING PRINCIPAL'!$I$444:$X$444,S19)>=1,\"\",ROW())","v":19},"LOC PELLE INTERLOC",null,{"$f":"IF(COUNTIF('PLANNING PRINCIPAL'!$I$446:$X$446,V19)>=1,\"\",ROW())","v":19}]
[{"$f":"'DATA S1'!A20","v":"LOC PELLE KILOUTOU"},{"$f":"IF(COUNTIF('PLANNING PRINCIPAL'!$I$424:$X$424,A20)>=1,\"\",ROW())","v":20},"LOC PELLE KILOUTOU","LOC PELLE KILOUTOU",{"$f":"IF(COUNTIF('PLANNING PRINCIPAL'!$I$428:$X$428,D20)>=1,\"\",ROW())","v":20},"LOC PELLE KILOUTOU","LOC PELLE KILOUTOU",{"$f":"IF(COUNTIF('PLANNING PRINCIPAL'!$I$432:$X$432,G20)>=1,\"\",ROW())","v":20},"LOC PELLE KILOUTOU","LOC PELLE KILOUTOU",{"$f":"IF(COUNTIF('PLANNING PRINCIPAL'!$I$435:$X$435,J20)>=1,\"\",ROW())","v":20},"LOC PELLE KILOUTOU","LOC PELLE KILOUTOU",{"$f":"IF(COUNTIF('PLANNING PRINCIPAL'!$I$438:$X$438,M20)>=1,\"\",ROW())","v":20},"LOC PELLE KILOUTOU","LOC PELLE KILOUTOU",{"$f":"IF(COUNTIF('PLANNING PRINCIPAL'!$I$441:$X$441,P20)>=1,\"\",ROW())","v":20},"LOC PELLE KILOUTOU","LOC PELLE KILOUTOU",{"$f":"IF(COUNTIF('PLANNING PRINCIPAL'!$I$444:$X$444,S20)>=1,\"\",ROW())","v":20},"LOC PELLE KILOUTOU",null,{"$f":"IF(COUNTIF('PLANNING PRINCIPAL'!$I$446:$X$446,V20)>=1,\"\",ROW())","v":20}]
[null,{"$f":"IF(COUNTIF('PLANNING PRINCIPAL'!$I$424:$X$424,A21)>=1,\"\",ROW())","v":21},null,null,{"$f":"IF(COUNTIF('PLANNING PRINCIPAL'!$I$428:$X$428,D21)>=1,\"\",ROW())","v":21},null,null,{"$f":"IF(COUNTIF('PLANNING PRINCIPAL'!$I$432:$X$432,G21)>=1,\"\",ROW())","v":21},null,null,{"$f":"IF(COUNTIF('PLANNING PRINCIPAL'!$I$435:$X$435,J21)>=1,\"\",ROW())","v":21},null,null,{"$f":"IF(COUNTIF('PLANNING PRINCIPAL'!$I$438:$X$438,M21)>=1,\"\",ROW())","v":21},null,null,{"$f":"IF(COUNTIF('PLANNING PRINCIPAL'!$I$441:$X$441,P21)>=1,\"\",ROW())","v":21},null,null,{"$f":"IF(COUNTIF('PLANNING PRINCIPAL'!$I$444:$X$444,S21)>=1,\"\",ROW())","v":21},null,null,{"$f":"IF(COUNTIF('PLANNING PRINCIPAL'!$I$446:$X$446,V21)>=1,\"\",ROW())","v":21}]
[null,{"$f":"IF(COUNTIF('PLANNING PRINCIPAL'!$I$424:$X$424,A22)>=1,\"\",ROW())","v":22},null,null,{"$f":"IF(COUNTIF('PLANNING PRINCIPAL'!$I$428:$X$428,D22)>=1,\"\",ROW())","v":22},null,null,{"$f":"IF(COUNTIF('PLANNING PRINCIPAL'!$I$432:$X$432,G22)>=1,\"\",ROW())","v":22},null,null,{"$f":"IF(COUNTIF('PLANNING PRINCIPAL'!$I$435:$X$435,J22)>=1,\"\",ROW())","v":22},null,null,{"$f":"IF(COUNTIF('PLANNING PRINCIPAL'!$I$438:$X$438,M22)>=1,\"\",ROW())","v":22},null,null,{"$f":"IF(COUNTIF('PLANNING PRINCIPAL'!$I$441:$X$441,P22)>=1,\"\",ROW())","v":22},null,null,{"$f":"IF(COUNTIF('PLANNING PRINCIPAL'!$I$444:$X$444,S22)>=1,\"\",ROW())","v":22},null,null,{"$f":"IF(COUNTIF('PLANNING PRINCIPAL'!$I$446:$X$446,V22)>=1,\"\",ROW())","v":22}]
[null,{"$f":"IF(COUNTIF('PLANNING PRINCIPAL'!$I$424:$X$424,A23)>=1,\"\",ROW())","v":23},null,null,{"$f":"IF(COUNTIF('PLANNING PRINCIPAL'!$I$428:$X$428,D23)>=1,\"\",ROW())","v":23},null,null,{"$f":"IF(COUNTIF('PLANNING PRINCIPAL'!$I$432:$X$432,G23)>=1,\"\",ROW())","v":23},null,null,{"$f":"IF(COUNTIF('PLANNING PRINCIPAL'!$I$435:$X$435,J23)>=1,\"\",ROW())","v":23},null,null,{"$f":"IF(COUNTIF('PLANNING PRINCIPAL'!$I$438:$X$438,M23)>=1,\"\",ROW())","v":23},null,null,{"$f":"IF(COUNTIF('PLANNING PRINCIPAL'!$I$441:$X$441,P23)>=1,\"\",ROW())","v":23},null,null,{"$f":"IF(COUNTIF('PLANNING PRINCIPAL'!$I$444:$X$444,S23)>=1,\"\",ROW())","v":23},null,null,{"$f":"IF(COUNTIF('PLANNING PRINCIPAL'!$I$446:$X$446,V23)>=1,\"\",ROW())","v":23}]
[null,{"$f":"IF(COUNTIF('PLANNING PRINCIPAL'!$I$424:$X$424,A24)>=1,\"\",ROW())","v":24},null,null,{"$f":"IF(COUNTIF('PLANNING PRINCIPAL'!$I$428:$X$428,D24)>=1,\"\",ROW())","v":24},null,null,{"$f":"IF(COUNTIF('PLANNING PRINCIPAL'!$I$432:$X$432,G24)>=1,\"\",ROW())","v":24},null,null,{"$f":"IF(COUNTIF('PLANNING PRINCIPAL'!$I$435:$X$435,J24)>=1,\"\",ROW())","v":24},null,null,{"$f":"IF(COUNTIF('PLANNING PRINCIPAL'!$I$438:$X$438,M24)>=1,\"\",ROW())","v":24},null,null,{"$f":"IF(COUNTIF('PLANNING PRINCIPAL'!$I$441:$X$441,P24)>=1,\"\",ROW())","v":24},null,null,{"$f":"IF(COUNTIF('PLANNING PRINCIPAL'!$I$444:$X$444,S24)>=1,\"\",ROW())","v":24},null,null,{"$f":"IF(COUNTIF('PLANNING PRINCIPAL'!$I$446:$X$446,V24)>=1,\"\",ROW())","v":24}]
[null,{"$f":"IF(COUNTIF('PLANNING PRINCIPAL'!$I$424:$X$424,A25)>=1,\"\",ROW())","v":25},null,null,{"$f":"IF(COUNTIF('PLANNING PRINCIPAL'!$I$428:$X$428,D25)>=1,\"\",ROW())","v":25},null,null,{"$f":"IF(COUNTIF('PLANNING PRINCIPAL'!$I$432:$X$432,G25)>=1,\"\",ROW())","v":25},null,null,{"$f":"IF(COUNTIF('PLANNING PRINCIPAL'!$I$435:$X$435,J25)>=1,\"\",ROW())","v":25},null,null,{"$f":"IF(COUNTIF('PLANNING PRINCIPAL'!$I$438:$X$438,M25)>=1,\"\",ROW())","v":25},null,null,{"$f":"IF(COUNTIF('PLANNING PRINCIPAL'!$I$441:$X$441,P25)>=1,\"\",ROW())","v":25},null,null,{"$f":"IF(COUNTIF('PLANNING PRINCIPAL'!$I$444:$X$444,S25)>=1,\"\",ROW())","v":25},null,null,{"$f":"IF(COUNTIF('PLANNING PRINCIPAL'!$I$446:$X$446,V25)>=1,\"\",ROW())","v":25}]
[null,{"$f":"IF(COUNTIF('PLANNING PRINCIPAL'!$I$424:$X$424,A26)>=1,\"\",ROW())","v":26},null,null,{"$f":"IF(COUNTIF('PLANNING PRINCIPAL'!$I$428:$X$428,D26)>=1,\"\",ROW())","v":26},null,null,{"$f":"IF(COUNTIF('PLANNING PRINCIPAL'!$I$432:$X$432,G26)>=1,\"\",ROW())","v":26},null,null,{"$f":"IF(COUNTIF('PLANNING PRINCIPAL'!$I$435:$X$435,J26)>=1,\"\",ROW())","v":26},null,null,{"$f":"IF(COUNTIF('PLANNING PRINCIPAL'!$I$438:$X$438,M26)>=1,\"\",ROW())","v":26},null,null,{"$f":"IF(COUNTIF('PLANNING PRINCIPAL'!$I$441:$X$441,P26)>=1,\"\",ROW())","v":26},null,null,{"$f":"IF(COUNTIF('PLANNING PRINCIPAL'!$I$444:$X$444,S26)>=1,\"\",ROW())","v":26},null,null,{"$f":"IF(COUNTIF('PLANNING PRINCIPAL'!$I$446:$X$446,V26)>=1,\"\",ROW())","v":26}]
[null,{"$f":"IF(COUNTIF('PLANNING PRINCIPAL'!$I$424:$X$424,A27)>=1,\"\",ROW())","v":27},null,null,{"$f":"IF(COUNTIF('PLANNING PRINCIPAL'!$I$428:$X$428,D27)>=1,\"\",ROW())","v":27},null,null,{"$f":"IF(COUNTIF('PLANNING PRINCIPAL'!$I$432:$X$432,G27)>=1,\"\",ROW())","v":27},null,null,{"$f":"IF(COUNTIF('PLANNING PRINCIPAL'!$I$435:$X$435,J27)>=1,\"\",ROW())","v":27},null,null,{"$f":"IF(COUNTIF('PLANNING PRINCIPAL'!$I$438:$X$438,M27)>=1,\"\",ROW())","v":27},null,null,{"$f":"IF(COUNTIF('PLANNING PRINCIPAL'!$I$441:$X$441,P27)>=1,\"\",ROW())","v":27},null,null,{"$f":"IF(COUNTIF('PLANNING PRINCIPAL'!$I$444:$X$444,S27)>=1,\"\",ROW())","v":27},null,null,{"$f":"IF(COUNTIF('PLANNING PRINCIPAL'!$I$446:$X$446,V27)>=1,\"\",ROW())","v":27}]
[null,{"$f":"IF(COUNTIF('PLANNING PRINCIPAL'!$I$424:$X$424,A28)>=1,\"\",ROW())","v":28},null,null,{"$f":"IF(COUNTIF('PLANNING PRINCIPAL'!$I$428:$X$428,D28)>=1,\"\",ROW())","v":28},null,null,{"$f":"IF(COUNTIF('PLANNING PRINCIPAL'!$I$432:$X$432,G28)>=1,\"\",ROW())","v":28},null,null,{"$f":"IF(COUNTIF('PLANNING PRINCIPAL'!$I$435:$X$435,J28)>=1,\"\",ROW())","v":28},null,null,{"$f":"IF(COUNTIF('PLANNING PRINCIPAL'!$I$438:$X$438,M28)>=1,\"\",ROW())","v":28},null,null,{"$f":"IF(COUNTIF('PLANNING PRINCIPAL'!$I$441:$X$441,P28)>=1,\"\",ROW())","v":28},null,null,{"$f":"IF(COUNTIF('PLANNING PRINCIPAL'!$I$444:$X$444,S28)>=1,\"\",ROW())","v":28},null,null,{"$f":"IF(COUNTIF('PLANNING PRINCIPAL'!$I$446:$X$446,V28)>=1,\"\",ROW())","v":28}]
[null,{"$f":"IF(COUNTIF('PLANNING PRINCIPAL'!$I$424:$X$424,A29)>=1,\"\",ROW())","v":29},null,null,{"$f":"IF(COUNTIF('PLANNING PRINCIPAL'!$I$428:$X$428,D29)>=1,\"\",ROW())","v":29},null,null,{"$f":"IF(COUNTIF('PLANNING PRINCIPAL'!$I$432:$X$432,G29)>=1,\"\",ROW())","v":29},null,null,{"$f":"IF(COUNTIF('PLANNING PRINCIPAL'!$I$435:$X$435,J29)>=1,\"\",ROW())","v":29},null,null,{"$f":"IF(COUNTIF('PLANNING PRINCIPAL'!$I$438:$X$438,M29)>=1,\"\",ROW())","v":29},null,null,{"$f":"IF(COUNTIF('PLANNING PRINCIPAL'!$I$441:$X$441,P29)>=1,\"\",ROW())","v":29},null,null,{"$f":"IF(COUNTIF('PLANNING PRINCIPAL'!$I$444:$X$444,S29)>=1,\"\",ROW())","v":29},null,null,{"$f":"IF(COUNTIF('PLANNING PRINCIPAL'!$I$446:$X$446,V29)>=1,\"\",ROW())","v":29}]
[null,{"$f":"IF(COUNTIF('PLANNING PRINCIPAL'!$I$424:$X$424,A30)>=1,\"\",ROW())","v":30},null,null,{"$f":"IF(COUNTIF('PLANNING PRINCIPAL'!$I$428:$X$428,D30)>=1,\"\",ROW())","v":30},null,null,{"$f":"IF(COUNTIF('PLANNING PRINCIPAL'!$I$432:$X$432,G30)>=1,\"\",ROW())","v":30},null,null,{"$f":"IF(COUNTIF('PLANNING PRINCIPAL'!$I$435:$X$435,J30)>=1,\"\",ROW())","v":30},null,null,{"$f":"IF(COUNTIF('PLANNING PRINCIPAL'!$I$438:$X$438,M30)>=1,\"\",ROW())","v":30},null,null,{"$f":"IF(COUNTIF('PLANNING PRINCIPAL'!$I$441:$X$441,P30)>=1,\"\",ROW())","v":30},null,null,{"$f":"IF(COUNTIF('PLANNING PRINCIPAL'!$I$444:$X$444,S30)>=1,\"\",ROW())","v":30},null,null,{"$f":"IF(COUNTIF('PLANNING PRINCIPAL'!$I$446:$X$446,V30)>=1,\"\",ROW())","v":30}]
[null,{"$f":"IF(COUNTIF('PLANNING PRINCIPAL'!$I$424:$X$424,A31)>=1,\"\",ROW())","v":31},null,null,{"$f":"IF(COUNTIF('PLANNING PRINCIPAL'!$I$428:$X$428,D31)>=1,\"\",ROW())","v":31},null,null,{"$f":"IF(COUNTIF('PLANNING PRINCIPAL'!$I$432:$X$432,G31)>=1,\"\",ROW())","v":31},null,null,{"$f":"IF(COUNTIF('PLANNING PRINCIPAL'!$I$435:$X$435,J31)>=1,\"\",ROW())","v":31},null,null,{"$f":"IF(COUNTIF('PLANNING PRINCIPAL'!$I$438:$X$438,M31)>=1,\"\",ROW())","v":31},null,null,{"$f":"IF(COUNTIF('PLANNING PRINCIPAL'!$I$441:$X$441,P31)>=1,\"\",ROW())","v":31},null,null,{"$f":"IF(COUNTIF('PLANNING PRINCIPAL'!$I$444:$X$444,S31)>=1,\"\",ROW())","v":31},null,null,{"$f":"IF(COUNTIF('PLANNING PRINCIPAL'!$I$446:$X$446,V31)>=1,\"\",ROW())","v":31}]
[null,{"$f":"IF(COUNTIF('PLANNING PRINCIPAL'!$I$424:$X$424,A32)>=1,\"\",ROW())","v":32},null,null,{"$f":"IF(COUNTIF('PLANNING PRINCIPAL'!$I$428:$X$428,D32)>=1,\"\",ROW())","v":32},null,null,{"$f":"IF(COUNTIF('PLANNING PRINCIPAL'!$I$432:$X$432,G32)>=1,\"\",ROW())","v":32},null,null,{"$f":"IF(COUNTIF('PLANNING PRINCIPAL'!$I$435:$X$435,J32)>=1,\"\",ROW())","v":32},null,null,{"$f":"IF(COUNTIF('PLANNING PRINCIPAL'!$I$438:$X$438,M32)>=1,\"\",ROW())","v":32},null,null,{"$f":"IF(COUNTIF('PLANNING PRINCIPAL'!$I$441:$X$441,P32)>=1,\"\",ROW())","v":32},null,null,{"$f":"IF(COUNTIF('PLANNING PRINCIPAL'!$I$444:$X$444,S32)>=1,\"\",ROW())","v":32},null,null,{"$f":"IF(COUNTIF('PLANNING PRINCIPAL'!$I$446:$X$446,V32)>=1,\"\",ROW())","v":32}]
[null,{"$f":"IF(COUNTIF('PLANNING PRINCIPAL'!$I$424:$X$424,A33)>=1,\"\",ROW())","v":33},null,null,{"$f":"IF(COUNTIF('PLANNING PRINCIPAL'!$I$428:$X$428,D33)>=1,\"\",ROW())","v":33},null,null,{"$f":"IF(COUNTIF('PLANNING PRINCIPAL'!$I$432:$X$432,G33)>=1,\"\",ROW())","v":33},null,null,{"$f":"IF(COUNTIF('PLANNING PRINCIPAL'!$I$435:$X$435,J33)>=1,\"\",ROW())","v":33},null,null,{"$f":"IF(COUNTIF('PLANNING PRINCIPAL'!$I$438:$X$438,M33)>=1,\"\",ROW())","v":33},null,null,{"$f":"IF(COUNTIF('PLANNING PRINCIPAL'!$I$441:$X$441,P33)>=1,\"\",ROW())","v":33},null,null,{"$f":"IF(COUNTIF('PLANNING PRINCIPAL'!$I$444:$X$444,S33)>=1,\"\",ROW())","v":33},null,null,{"$f":"IF(COUNTIF('PLANNING PRINCIPAL'!$I$446:$X$446,V33)>=1,\"\",ROW())","v":33}]
[null,{"$f":"IF(COUNTIF('PLANNING PRINCIPAL'!$I$424:$X$424,A34)>=1,\"\",ROW())","v":34},null,null,{"$f":"IF(COUNTIF('PLANNING PRINCIPAL'!$I$428:$X$428,D34)>=1,\"\",ROW())","v":34},null,null,{"$f":"IF(COUNTIF('PLANNING PRINCIPAL'!$I$432:$X$432,G34)>=1,\"\",ROW())","v":34},null,null,{"$f":"IF(COUNTIF('PLANNING PRINCIPAL'!$I$435:$X$435,J34)>=1,\"\",ROW())","v":34},null,null,{"$f":"IF(COUNTIF('PLANNING PRINCIPAL'!$I$438:$X$438,M34)>=1,\"\",ROW())","v":34},null,null,{"$f":"IF(COUNTIF('PLANNING PRINCIPAL'!$I$441:$X$441,P34)>=1,\"\",ROW())","v":34},null,null,{"$f":"IF(COUNTIF('PLANNING PRINCIPAL'!$I$444:$X$444,S34)>=1,\"\",ROW())","v":34},null,null,{"$f":"IF(COUNTIF('PLANNING PRINCIPAL'!$I$446:$X$446,V34)>=1,\"\",ROW())","v":34}]
["LUNDI",null,null,"MARDI",null,null,"MERCREDI",null,null,"JEUDI",null,null,"VENDREDI",null,null,"SAMEDI",null,null,"DIMANCHE",null,null,"ASTREINTE"]

{"sheet":"DATA S20","index":21,"n_rows":35,"n_cols":24,"rows_kept":35,"cut":false,"hidden":false,"merged":[[34,18,34,20],[34,21,34,23],[34,0,34,2],[34,3,34,5],[34,6,34,8],[34,9,34,11],[34,12,34,14],[34,15,34,17]]}
[{"$f":"'DATA S1'!A1","v":"MAS XX "},{"$f":"IF(COUNTIF('PLANNING PRINCIPAL'!$I$447:$X$447,A1)>=1,\"\",ROW())","v":1},{"$f":"IF(ROW(A1)-ROW(A$1)+1>COUNT(B:B),\"\", INDEX(A:A,SMALL(B:B,1+ROW(A1)-ROW(A$1))))","v":"MAS XX "},{"$f":"A1","v":"MAS XX "},{"$f":"IF(COUNTIF('PLANNING PRINCIPAL'!$I$450:$X$450,D1)>=1,\"\",ROW())","v":1},{"$f":"IF(ROW(D1)-ROW(D$1)+1>COUNT(E:E),\"\", INDEX(D:D,SMALL(E:E,1+ROW(D1)-ROW(D$1))))","v":"MAS XX "},{"$f":"A1","v":"MAS XX "},{"$f":"IF(COUNTIF('PLANNING PRINCIPAL'!$I$453:$X$453,G1)>=1,\"\",ROW())","v":1},{"$f":"IF(ROW(G1)-ROW(G$1)+1>COUNT(H:H),\"\", INDEX(G:G,SMALL(H:H,1+ROW(G1)-ROW(G$1))))","v":"MAS XX "},{"$f":"A1","v":"MAS XX "},{"$f":"IF(COUNTIF('PLANNING PRINCIPAL'!$I$456:$X$456,J1)>=1,\"\",ROW())","v":1},{"$f":"IF(ROW(J1)-ROW(J$1)+1>COUNT(K:K),\"\", INDEX(J:J,SMALL(K:K,1+ROW(J1)-ROW(J$1))))","v":"MAS XX "},{"$f":"A1","v":"MAS XX "},{"$f":"IF(COUNTIF('PLANNING PRINCIPAL'!$I$459:$X$459,M1)>=1,\"\",ROW())","v":1},{"$f":"IF(ROW(M1)-ROW(M$1)+1>COUNT(N:N),\"\", INDEX(M:M,SMALL(N:N,1+ROW(M1)-ROW(M$1))))","v":"MAS XX "},{"$f":"A1","v":"MAS XX "},{"$f":"IF(COUNTIF('PLANNING PRINCIPAL'!$I$462:$X$462,P1)>=1,\"\",ROW())","v":1},{"$f":"IF(ROW(P1)-ROW(P$1)+1>COUNT(Q:Q),\"\", INDEX(P:P,SMALL(Q:Q,1+ROW(P1)-ROW(P$1))))","v":"MAS XX "},{"$f":"A1","v":"MAS XX "},{"$f":"IF(COUNTIF('PLANNING PRINCIPAL'!$I$465:$X$465,S1)>=1,\"\",ROW())","v":1},{"$f":"IF(ROW(S1)-ROW(S$1)+1>COUNT(T:T),\"\", INDEX(S:S,SMALL(T:T,1+ROW(S1)-ROW(S$1))))","v":"MAS XX "},{"$f":"'DATA S1'!V1","v":"ASTREINTE SLT"},{"$f":"IF(COUNTIF('PLANNING PRINCIPAL'!$I$467:$X$467,V1)>=1,\"\",ROW())","v":1},{"$f":"IF(ROW(V1)-ROW(V$1)+1>COUNT(W:W),\"\", INDEX(V:V,SMALL(W:W,1+ROW(V1)-ROW(V$1))))","v":"ASTREINTE SLT"}]
[{"$f":"'DATA S1'!A2","v":"MAS YY "},{"$f":"IF(COUNTIF('PLANNING PRINCIPAL'!$I$447:$X$447,A2)>=1,\"\",ROW())","v":2},{"$f":"IF(ROW(A2)-ROW(A$1)+1>COUNT(B:B),\"\", INDEX(A:A,SMALL(B:B,1+ROW(A2)-ROW(A$1))))","v":"MAS YY "},"MAS YY ",{"$f":"IF(COUNTIF('PLANNING PRINCIPAL'!$I$450:$X$450,D2)>=1,\"\",ROW())","v":2},{"$f":"IF(ROW(D2)-ROW(D$1)+1>COUNT(E:E),\"\", INDEX(D:D,SMALL(E:E,1+ROW(D2)-ROW(D$1))))","v":"MAS YY "},{"$f":"A2","v":"MAS YY "},{"$f":"IF(COUNTIF('PLANNING PRINCIPAL'!$I$453:$X$453,G2)>=1,\"\",ROW())","v":2},{"$f":"IF(ROW(G2)-ROW(G$1)+1>COUNT(H:H),\"\", INDEX(G:G,SMALL(H:H,1+ROW(G2)-ROW(G$1))))","v":"MAS YY "},{"$f":"A2","v":"MAS YY "},{"$f":"IF(COUNTIF('PLANNING PRINCIPAL'!$I$456:$X$456,J2)>=1,\"\",ROW())","v":2},{"$f":"IF(ROW(J2)-ROW(J$1)+1>COUNT(K:K),\"\", INDEX(J:J,SMALL(K:K,1+ROW(J2)-ROW(J$1))))","v":"MAS YY "},{"$f":"A2","v":"MAS YY "},{"$f":"IF(COUNTIF('PLANNING PRINCIPAL'!$I$459:$X$459,M2)>=1,\"\",ROW())","v":2},{"$f":"IF(ROW(M2)-ROW(M$1)+1>COUNT(N:N),\"\", INDEX(M:M,SMALL(N:N,1+ROW(M2)-ROW(M$1))))","v":"MAS YY "},{"$f":"A2","v":"MAS YY "},{"$f":"IF(COUNTIF('PLANNING PRINCIPAL'!$I$462:$X$462,P2)>=1,\"\",ROW())","v":2},{"$f":"IF(ROW(P2)-ROW(P$1)+1>COUNT(Q:Q),\"\", INDEX(P:P,SMALL(Q:Q,1+ROW(P2)-ROW(P$1))))","v":"MAS YY "},{"$f":"A2","v":"MAS YY "},{"$f":"IF(COUNTIF('PLANNING PRINCIPAL'!$I$465:$X$465,S2)>=1,\"\",ROW())","v":2},{"$f":"IF(ROW(S2)-ROW(S$1)+1>COUNT(T:T),\"\", INDEX(S:S,SMALL(T:T,1+ROW(S2)-ROW(S$1))))","v":"MAS YY "},{"$f":"'DATA S1'!V2","v":"ASTREINTE EP"},{"$f":"IF(COUNTIF('PLANNING PRINCIPAL'!$I$467:$X$467,V2)>=1,\"\",ROW())","v":2},{"$f":"IF(ROW(V2)-ROW(V$1)+1>COUNT(W:W),\"\", INDEX(V:V,SMALL(W:W,1+ROW(V2)-ROW(V$1))))","v":"ASTREINTE EP"}]
[{"$f":"'DATA S1'!A3","v":"MAS VQ "},{"$f":"IF(COUNTIF('PLANNING PRINCIPAL'!$I$447:$X$447,A3)>=1,\"\",ROW())","v":3},"MAS VQ ","MAS VQ ",{"$f":"IF(COUNTIF('PLANNING PRINCIPAL'!$I$450:$X$450,D3)>=1,\"\",ROW())","v":3},"MAS VQ ","MAS VQ ",{"$f":"IF(COUNTIF('PLANNING PRINCIPAL'!$I$453:$X$453,G3)>=1,\"\",ROW())","v":3},"MAS VQ ","MAS VQ ",{"$f":"IF(COUNTIF('PLANNING PRINCIPAL'!$I$456:$X$456,J3)>=1,\"\",ROW())","v":3},"MAS VQ ","MAS VQ ",{"$f":"IF(COUNTIF('PLANNING PRINCIPAL'!$I$459:$X$459,M3)>=1,\"\",ROW())","v":3},"MAS VQ ","MAS VQ ",{"$f":"IF(COUNTIF('PLANNING PRINCIPAL'!$I$462:$X$462,P3)>=1,\"\",ROW())","v":3},"MAS VQ ","MAS VQ ",{"$f":"IF(COUNTIF('PLANNING PRINCIPAL'!$I$465:$X$465,S3)>=1,\"\",ROW())","v":3},"MAS VQ ",{"$f":"'DATA S1'!V3","v":"V NOC CHARTRES"},{"$f":"IF(COUNTIF('PLANNING PRINCIPAL'!$I$467:$X$467,V3)>=1,\"\",ROW())","v":3},"V NOC CHARTRES"]
[{"$f":"'DATA S1'!A4","v":"MAS PL "},{"$f":"IF(COUNTIF('PLANNING PRINCIPAL'!$I$447:$X$447,A4)>=1,\"\",ROW())","v":4},"MAS PL ","MAS PL ",{"$f":"IF(COUNTIF('PLANNING PRINCIPAL'!$I$450:$X$450,D4)>=1,\"\",ROW())","v":4},"MAS PL ","MAS PL ",{"$f":"IF(COUNTIF('PLANNING PRINCIPAL'!$I$453:$X$453,G4)>=1,\"\",ROW())","v":4},"MAS PL ","MAS PL ",{"$f":"IF(COUNTIF('PLANNING PRINCIPAL'!$I$456:$X$456,J4)>=1,\"\",ROW())","v":4},"MAS PL ","MAS PL ",{"$f":"IF(COUNTIF('PLANNING PRINCIPAL'!$I$459:$X$459,M4)>=1,\"\",ROW())","v":4},"MAS PL ","MAS PL ",{"$f":"IF(COUNTIF('PLANNING PRINCIPAL'!$I$462:$X$462,P4)>=1,\"\",ROW())","v":4},"MAS PL ","MAS PL ",{"$f":"IF(COUNTIF('PLANNING PRINCIPAL'!$I$465:$X$465,S4)>=1,\"\",ROW())","v":4},"MAS PL ",{"$f":"'DATA S1'!V4","v":"V NOC EPERNON"},{"$f":"IF(COUNTIF('PLANNING PRINCIPAL'!$I$467:$X$467,V4)>=1,\"\",ROW())","v":4},"V NOC EPERNON"]
[{"$f":"'DATA S1'!A5","v":"BEN VL PT "},{"$f":"IF(COUNTIF('PLANNING PRINCIPAL'!$I$447:$X$447,A5)>=1,\"\",ROW())","v":5},"BEN VL PT ","BEN VL PT ",{"$f":"IF(COUNTIF('PLANNING PRINCIPAL'!$I$450:$X$450,D5)>=1,\"\",ROW())","v":5},"BEN VL PT ","BEN VL PT ",{"$f":"IF(COUNTIF('PLANNING PRINCIPAL'!$I$453:$X$453,G5)>=1,\"\",ROW())","v":5},"BEN VL PT ","BEN VL PT ",{"$f":"IF(COUNTIF('PLANNING PRINCIPAL'!$I$456:$X$456,J5)>=1,\"\",ROW())","v":5},"BEN VL PT ","BEN VL PT ",{"$f":"IF(COUNTIF('PLANNING PRINCIPAL'!$I$459:$X$459,M5)>=1,\"\",ROW())","v":5},"BEN VL PT ","BEN VL PT ",{"$f":"IF(COUNTIF('PLANNING PRINCIPAL'!$I$462:$X$462,P5)>=1,\"\",ROW())","v":5},"BEN VL PT ","BEN VL PT ",{"$f":"IF(COUNTIF('PLANNING PRINCIPAL'!$I$465:$X$465,S5)>=1,\"\",ROW())","v":5},"BEN VL PT ",{"$f":"'DATA S1'!V5","v":"V NOC HANCHES"},{"$f":"IF(COUNTIF('PLANNING PRINCIPAL'!$I$467:$X$467,V5)>=1,\"\",ROW())","v":5},"V NOC HANCHES"]
[{"$f":"'DATA S1'!A6","v":"BEN 19T "},{"$f":"IF(COUNTIF('PLANNING PRINCIPAL'!$I$447:$X$447,A6)>=1,\"\",ROW())","v":6},"BEN 19T ","BEN 19T ",{"$f":"IF(COUNTIF('PLANNING PRINCIPAL'!$I$450:$X$450,D6)>=1,\"\",ROW())","v":6},"BEN 19T ","BEN 19T ",{"$f":"IF(COUNTIF('PLANNING PRINCIPAL'!$I$453:$X$453,G6)>=1,\"\",ROW())","v":6},"BEN 19T ","BEN 19T ",{"$f":"IF(COUNTIF('PLANNING PRINCIPAL'!$I$456:$X$456,J6)>=1,\"\",ROW())","v":6},"BEN 19T ","BEN 19T ",{"$f":"IF(COUNTIF('PLANNING PRINCIPAL'!$I$459:$X$459,M6)>=1,\"\",ROW())","v":6},"BEN 19T ","BEN 19T ",{"$f":"IF(COUNTIF('PLANNING PRINCIPAL'!$I$462:$X$462,P6)>=1,\"\",ROW())","v":6},"BEN 19T ","BEN 19T ",{"$f":"IF(COUNTIF('PLANNING PRINCIPAL'!$I$465:$X$465,S6)>=1,\"\",ROW())","v":6},"BEN 19T ",{"$f":"'DATA S1'!V6","v":"V NOC MAINTENON"},{"$f":"IF(COUNTIF('PLANNING PRINCIPAL'!$I$467:$X$467,V6)>=1,\"\",ROW())","v":6},"V NOC MAINTENON"]
[{"$f":"'DATA S1'!A7","v":"BEN 13T "},{"$f":"IF(COUNTIF('PLANNING PRINCIPAL'!$I$447:$X$447,A7)>=1,\"\",ROW())","v":7},"BEN 13T ","BEN 13T ",{"$f":"IF(COUNTIF('PLANNING PRINCIPAL'!$I$450:$X$450,D7)>=1,\"\",ROW())","v":7},"BEN 13T ","BEN 13T ",{"$f":"IF(COUNTIF('PLANNING PRINCIPAL'!$I$453:$X$453,G7)>=1,\"\",ROW())","v":7},"BEN 13T ","BEN 13T ",{"$f":"IF(COUNTIF('PLANNING PRINCIPAL'!$I$456:$X$456,J7)>=1,\"\",ROW())","v":7},"BEN 13T ","BEN 13T ",{"$f":"IF(COUNTIF('PLANNING PRINCIPAL'!$I$459:$X$459,M7)>=1,\"\",ROW())","v":7},"BEN 13T ","BEN 13T ",{"$f":"IF(COUNTIF('PLANNING PRINCIPAL'!$I$462:$X$462,P7)>=1,\"\",ROW())","v":7},"BEN 13T ","BEN 13T ",{"$f":"IF(COUNTIF('PLANNING PRINCIPAL'!$I$465:$X$465,S7)>=1,\"\",ROW())","v":7},"BEN 13T ",null,{"$f":"IF(COUNTIF('PLANNING PRINCIPAL'!$I$467:$X$467,V7)>=1,\"\",ROW())","v":7}]
[{"$f":"'DATA S1'!A8","v":"NAC VL 18M "},{"$f":"IF(COUNTIF('PLANNING PRINCIPAL'!$I$447:$X$447,A8)>=1,\"\",ROW())","v":8},"NAC VL 18M ","NAC VL 18M ",{"$f":"IF(COUNTIF('PLANNING PRINCIPAL'!$I$450:$X$450,D8)>=1,\"\",ROW())","v":8},"NAC VL 18M ","NAC VL 18M ",{"$f":"IF(COUNTIF('PLANNING PRINCIPAL'!$I$453:$X$453,G8)>=1,\"\",ROW())","v":8},"NAC VL 18M ","NAC VL 18M ",{"$f":"IF(COUNTIF('PLANNING PRINCIPAL'!$I$456:$X$456,J8)>=1,\"\",ROW())","v":8},"NAC VL 18M ","NAC VL 18M ",{"$f":"IF(COUNTIF('PLANNING PRINCIPAL'!$I$459:$X$459,M8)>=1,\"\",ROW())","v":8},"NAC VL 18M ","NAC VL 18M ",{"$f":"IF(COUNTIF('PLANNING PRINCIPAL'!$I$462:$X$462,P8)>=1,\"\",ROW())","v":8},"NAC VL 18M ","NAC VL 18M ",{"$f":"IF(COUNTIF('PLANNING PRINCIPAL'!$I$465:$X$465,S8)>=1,\"\",ROW())","v":8},"NAC VL 18M ",null,{"$f":"IF(COUNTIF('PLANNING PRINCIPAL'!$I$467:$X$467,V8)>=1,\"\",ROW())","v":8}]
[{"$f":"'DATA S1'!A9","v":"NAC EGIE"},{"$f":"IF(COUNTIF('PLANNING PRINCIPAL'!$I$447:$X$447,A9)>=1,\"\",ROW())","v":9},"NAC EGIE","NAC EGIE",{"$f":"IF(COUNTIF('PLANNING PRINCIPAL'!$I$450:$X$450,D9)>=1,\"\",ROW())","v":9},"NAC EGIE","NAC EGIE",{"$f":"IF(COUNTIF('PLANNING PRINCIPAL'!$I$453:$X$453,G9)>=1,\"\",ROW())","v":9},"NAC EGIE","NAC EGIE",{"$f":"IF(COUNTIF('PLANNING PRINCIPAL'!$I$456:$X$456,J9)>=1,\"\",ROW())","v":9},"NAC EGIE","NAC EGIE",{"$f":"IF(COUNTIF('PLANNING PRINCIPAL'!$I$459:$X$459,M9)>=1,\"\",ROW())","v":9},"NAC EGIE","NAC EGIE",{"$f":"IF(COUNTIF('PLANNING PRINCIPAL'!$I$462:$X$462,P9)>=1,\"\",ROW())","v":9},"NAC EGIE","NAC EGIE",{"$f":"IF(COUNTIF('PLANNING PRINCIPAL'!$I$465:$X$465,S9)>=1,\"\",ROW())","v":9},"NAC EGIE",null,{"$f":"IF(COUNTIF('PLANNING PRINCIPAL'!$I$467:$X$467,V9)>=1,\"\",ROW())","v":9}]
[{"$f":"'DATA S1'!A10","v":"NAC COMI "},{"$f":"IF(COUNTIF('PLANNING PRINCIPAL'!$I$447:$X$447,A10)>=1,\"\",ROW())","v":10},"NAC COMI ","NAC COMI ",{"$f":"IF(COUNTIF('PLANNING PRINCIPAL'!$I$450:$X$450,D10)>=1,\"\",ROW())","v":10},"NAC COMI ","NAC COMI ",{"$f":"IF(COUNTIF('PLANNING PRINCIPAL'!$I$453:$X$453,G10)>=1,\"\",ROW())","v":10},"NAC COMI ","NAC COMI ",{"$f":"IF(COUNTIF('PLANNING PRINCIPAL'!$I$456:$X$456,J10)>=1,\"\",ROW())","v":10},"NAC COMI ","NAC COMI ",{"$f":"IF(COUNTIF('PLANNING PRINCIPAL'!$I$459:$X$459,M10)>=1,\"\",ROW())","v":10},"NAC COMI ","NAC COMI ",{"$f":"IF(COUNTIF('PLANNING PRINCIPAL'!$I$462:$X$462,P10)>=1,\"\",ROW())","v":10},"NAC COMI ","NAC COMI ",{"$f":"IF(COUNTIF('PLANNING PRINCIPAL'!$I$465:$X$465,S10)>=1,\"\",ROW())","v":10},"NAC COMI ",null,{"$f":"IF(COUNTIF('PLANNING PRINCIPAL'!$I$467:$X$467,V10)>=1,\"\",ROW())","v":10}]
[{"$f":"'DATA S1'!A11","v":"#####LOCATION#####"},{"$f":"IF(COUNTIF('PLANNING PRINCIPAL'!$I$447:$X$447,A11)>=1,\"\",ROW())","v":11},"#####LOCATION#####","#####LOCATION#####",{"$f":"IF(COUNTIF('PLANNING PRINCIPAL'!$I$450:$X$450,D11)>=1,\"\",ROW())","v":11},"#####LOCATION#####","#####LOCATION#####",{"$f":"IF(COUNTIF('PLANNING PRINCIPAL'!$I$453:$X$453,G11)>=1,\"\",ROW())","v":11},"#####LOCATION#####","#####LOCATION#####",{"$f":"IF(COUNTIF('PLANNING PRINCIPAL'!$I$456:$X$456,J11)>=1,\"\",ROW())","v":11},"#####LOCATION#####","#####LOCATION#####",{"$f":"IF(COUNTIF('PLANNING PRINCIPAL'!$I$459:$X$459,M11)>=1,\"\",ROW())","v":11},"#####LOCATION#####","#####LOCATION#####",{"$f":"IF(COUNTIF('PLANNING PRINCIPAL'!$I$462:$X$462,P11)>=1,\"\",ROW())","v":11},"#####LOCATION#####","#####LOCATION#####",{"$f":"IF(COUNTIF('PLANNING PRINCIPAL'!$I$465:$X$465,S11)>=1,\"\",ROW())","v":11},"#####LOCATION#####",null,{"$f":"IF(COUNTIF('PLANNING PRINCIPAL'!$I$467:$X$467,V11)>=1,\"\",ROW())","v":11}]
[{"$f":"'DATA S1'!A12","v":"LOC NAC SOLOMAT"},{"$f":"IF(COUNTIF('PLANNING PRINCIPAL'!$I$447:$X$447,A12)>=1,\"\",ROW())","v":12},"LOC NAC SOLOMAT","LOC NAC SOLOMAT",{"$f":"IF(COUNTIF('PLANNING PRINCIPAL'!$I$450:$X$450,D12)>=1,\"\",ROW())","v":12},"LOC NAC SOLOMAT","LOC NAC SOLOMAT",{"$f":"IF(COUNTIF('PLANNING PRINCIPAL'!$I$453:$X$453,G12)>=1,\"\",ROW())","v":12},"LOC NAC SOLOMAT","LOC NAC SOLOMAT",{"$f":"IF(COUNTIF('PLANNING PRINCIPAL'!$I$456:$X$456,J12)>=1,\"\",ROW())","v":12},"LOC NAC SOLOMAT","LOC NAC SOLOMAT",{"$f":"IF(COUNTIF('PLANNING PRINCIPAL'!$I$459:$X$459,M12)>=1,\"\",ROW())","v":12},"LOC NAC SOLOMAT","LOC NAC SOLOMAT",{"$f":"IF(COUNTIF('PLANNING PRINCIPAL'!$I$462:$X$462,P12)>=1,\"\",ROW())","v":12},"LOC NAC SOLOMAT","LOC NAC SOLOMAT",{"$f":"IF(COUNTIF('PLANNING PRINCIPAL'!$I$465:$X$465,S12)>=1,\"\",ROW())","v":12},"LOC NAC SOLOMAT",null,{"$f":"IF(COUNTIF('PLANNING PRINCIPAL'!$I$467:$X$467,V12)>=1,\"\",ROW())","v":12}]
[{"$f":"'DATA S1'!A13","v":"LOC NAC AEB"},{"$f":"IF(COUNTIF('PLANNING PRINCIPAL'!$I$447:$X$447,A13)>=1,\"\",ROW())","v":13},"LOC NAC AEB","LOC NAC AEB",{"$f":"IF(COUNTIF('PLANNING PRINCIPAL'!$I$450:$X$450,D13)>=1,\"\",ROW())","v":13},"LOC NAC AEB","LOC NAC AEB",{"$f":"IF(COUNTIF('PLANNING PRINCIPAL'!$I$453:$X$453,G13)>=1,\"\",ROW())","v":13},"LOC NAC AEB","LOC NAC AEB",{"$f":"IF(COUNTIF('PLANNING PRINCIPAL'!$I$456:$X$456,J13)>=1,\"\",ROW())","v":13},"LOC NAC AEB","LOC NAC AEB",{"$f":"IF(COUNTIF('PLANNING PRINCIPAL'!$I$459:$X$459,M13)>=1,\"\",ROW())","v":13},"LOC NAC AEB","LOC NAC AEB",{"$f":"IF(COUNTIF('PLANNING PRINCIPAL'!$I$462:$X$462,P13)>=1,\"\",ROW())","v":13},"LOC NAC AEB","LOC NAC AEB",{"$f":"IF(COUNTIF('PLANNING PRINCIPAL'!$I$465:$X$465,S13)>=1,\"\",ROW())","v":13},"LOC NAC AEB",null,{"$f":"IF(COUNTIF('PLANNING PRINCIPAL'!$I$467:$X$467,V13)>=1,\"\",ROW())","v":13}]
[{"$f":"'DATA S1'!A14","v":"LOC NAC INTERLOC"},{"$f":"IF(COUNTIF('PLANNING PRINCIPAL'!$I$447:$X$447,A14)>=1,\"\",ROW())","v":14},"LOC NAC INTERLOC","LOC NAC INTERLOC",{"$f":"IF(COUNTIF('PLANNING PRINCIPAL'!$I$450:$X$450,D14)>=1,\"\",ROW())","v":14},"LOC NAC INTERLOC","LOC NAC INTERLOC",{"$f":"IF(COUNTIF('PLANNING PRINCIPAL'!$I$453:$X$453,G14)>=1,\"\",ROW())","v":14},"LOC NAC INTERLOC","LOC NAC INTERLOC",{"$f":"IF(COUNTIF('PLANNING PRINCIPAL'!$I$456:$X$456,J14)>=1,\"\",ROW())","v":14},"LOC NAC INTERLOC","LOC NAC INTERLOC",{"$f":"IF(COUNTIF('PLANNING PRINCIPAL'!$I$459:$X$459,M14)>=1,\"\",ROW())","v":14},"LOC NAC INTERLOC","LOC NAC INTERLOC",{"$f":"IF(COUNTIF('PLANNING PRINCIPAL'!$I$462:$X$462,P14)>=1,\"\",ROW())","v":14},"LOC NAC INTERLOC","LOC NAC INTERLOC",{"$f":"IF(COUNTIF('PLANNING PRINCIPAL'!$I$465:$X$465,S14)>=1,\"\",ROW())","v":14},"LOC NAC INTERLOC",null,{"$f":"IF(COUNTIF('PLANNING PRINCIPAL'!$I$467:$X$467,V14)>=1,\"\",ROW())","v":14}]
[{"$f":"'DATA S1'!A15","v":"LOC NAC KILOUTOU"},{"$f":"IF(COUNTIF('PLANNING PRINCIPAL'!$I$447:$X$447,A15)>=1,\"\",ROW())","v":15},"LOC NAC KILOUTOU","LOC NAC KILOUTOU",{"$f":"IF(COUNTIF('PLANNING PRINCIPAL'!$I$450:$X$450,D15)>=1,\"\",ROW())","v":15},"LOC NAC KILOUTOU","LOC NAC KILOUTOU",{"$f":"IF(COUNTIF('PLANNING PRINCIPAL'!$I$453:$X$453,G15)>=1,\"\",ROW())","v":15},"LOC NAC KILOUTOU","LOC NAC KILOUTOU",{"$f":"IF(COUNTIF('PLANNING PRINCIPAL'!$I$456:$X$456,J15)>=1,\"\",ROW())","v":15},"LOC NAC KILOUTOU","LOC NAC KILOUTOU",{"$f":"IF(COUNTIF('PLANNING PRINCIPAL'!$I$459:$X$459,M15)>=1,\"\",ROW())","v":15},"LOC NAC KILOUTOU","LOC NAC KILOUTOU",{"$f":"IF(COUNTIF('PLANNING PRINCIPAL'!$I$462:$X$462,P15)>=1,\"\",ROW())","v":15},"LOC NAC KILOUTOU","LOC NAC KILOUTOU",{"$f":"IF(COUNTIF('PLANNING PRINCIPAL'!$I$465:$X$465,S15)>=1,\"\",ROW())","v":15},"LOC NAC KILOUTOU",null,{"$f":"IF(COUNTIF('PLANNING PRINCIPAL'!$I$467:$X$467,V15)>=1,\"\",ROW())","v":15}]
[{"$f":"'DATA S1'!A16","v":"LOC NAC AEB"},{"$f":"IF(COUNTIF('PLANNING PRINCIPAL'!$I$447:$X$447,A16)>=1,\"\",ROW())","v":16},"LOC NAC AEB","LOC NAC AEB",{"$f":"IF(COUNTIF('PLANNING PRINCIPAL'!$I$450:$X$450,D16)>=1,\"\",ROW())","v":16},"LOC NAC AEB","LOC NAC AEB",{"$f":"IF(COUNTIF('PLANNING PRINCIPAL'!$I$453:$X$453,G16)>=1,\"\",ROW())","v":16},"LOC NAC AEB","LOC NAC AEB",{"$f":"IF(COUNTIF('PLANNING PRINCIPAL'!$I$456:$X$456,J16)>=1,\"\",ROW())","v":16},"LOC NAC AEB","LOC NAC AEB",{"$f":"IF(COUNTIF('PLANNING PRINCIPAL'!$I$459:$X$459,M16)>=1,\"\",ROW())","v":16},"LOC NAC AEB","LOC NAC AEB",{"$f":"IF(COUNTIF('PLANNING PRINCIPAL'!$I$462:$X$462,P16)>=1,\"\",ROW())","v":16},"LOC NAC AEB","LOC NAC AEB",{"$f":"IF(COUNTIF('PLANNING PRINCIPAL'!$I$465:$X$465,S16)>=1,\"\",ROW())","v":16},"LOC NAC AEB",null,{"$f":"IF(COUNTIF('PLANNING PRINCIPAL'!$I$467:$X$467,V16)>=1,\"\",ROW())","v":16}]
[{"$f":"'DATA S1'!A17","v":"LOC PELLE SOLOMAT"},{"$f":"IF(COUNTIF('PLANNING PRINCIPAL'!$I$447:$X$447,A17)>=1,\"\",ROW())","v":17},"LOC PELLE SOLOMAT","LOC PELLE SOLOMAT",{"$f":"IF(COUNTIF('PLANNING PRINCIPAL'!$I$450:$X$450,D17)>=1,\"\",ROW())","v":17},"LOC PELLE SOLOMAT","LOC PELLE SOLOMAT",{"$f":"IF(COUNTIF('PLANNING PRINCIPAL'!$I$453:$X$453,G17)>=1,\"\",ROW())","v":17},"LOC PELLE SOLOMAT","LOC PELLE SOLOMAT",{"$f":"IF(COUNTIF('PLANNING PRINCIPAL'!$I$456:$X$456,J17)>=1,\"\",ROW())","v":17},"LOC PELLE SOLOMAT","LOC PELLE SOLOMAT",{"$f":"IF(COUNTIF('PLANNING PRINCIPAL'!$I$459:$X$459,M17)>=1,\"\",ROW())","v":17},"LOC PELLE SOLOMAT","LOC PELLE SOLOMAT",{"$f":"IF(COUNTIF('PLANNING PRINCIPAL'!$I$462:$X$462,P17)>=1,\"\",ROW())","v":17},"LOC PELLE SOLOMAT","LOC PELLE SOLOMAT",{"$f":"IF(COUNTIF('PLANNING PRINCIPAL'!$I$465:$X$465,S17)>=1,\"\",ROW())","v":17},"LOC PELLE SOLOMAT",null,{"$f":"IF(COUNTIF('PLANNING PRINCIPAL'!$I$467:$X$467,V17)>=1,\"\",ROW())","v":17}]
[{"$f":"'DATA S1'!A18","v":"LOC PELLE AEB"},{"$f":"IF(COUNTIF('PLANNING PRINCIPAL'!$I$447:$X$447,A18)>=1,\"\",ROW())","v":18},"LOC PELLE AEB","LOC PELLE AEB",{"$f":"IF(COUNTIF('PLANNING PRINCIPAL'!$I$450:$X$450,D18)>=1,\"\",ROW())","v":18},"LOC PELLE AEB","LOC PELLE AEB",{"$f":"IF(COUNTIF('PLANNING PRINCIPAL'!$I$453:$X$453,G18)>=1,\"\",ROW())","v":18},"LOC PELLE AEB","LOC PELLE AEB",{"$f":"IF(COUNTIF('PLANNING PRINCIPAL'!$I$456:$X$456,J18)>=1,\"\",ROW())","v":18},"LOC PELLE AEB","LOC PELLE AEB",{"$f":"IF(COUNTIF('PLANNING PRINCIPAL'!$I$459:$X$459,M18)>=1,\"\",ROW())","v":18},"LOC PELLE AEB","LOC PELLE AEB",{"$f":"IF(COUNTIF('PLANNING PRINCIPAL'!$I$462:$X$462,P18)>=1,\"\",ROW())","v":18},"LOC PELLE AEB","LOC PELLE AEB",{"$f":"IF(COUNTIF('PLANNING PRINCIPAL'!$I$465:$X$465,S18)>=1,\"\",ROW())","v":18},"LOC PELLE AEB",null,{"$f":"IF(COUNTIF('PLANNING PRINCIPAL'!$I$467:$X$467,V18)>=1,\"\",ROW())","v":18}]
[{"$f":"'DATA S1'!A19","v":"LOC PELLE INTERLOC"},{"$f":"IF(COUNTIF('PLANNING PRINCIPAL'!$I$447:$X$447,A19)>=1,\"\",ROW())","v":19},"LOC PELLE INTERLOC","LOC PELLE INTERLOC",{"$f":"IF(COUNTIF('PLANNING PRINCIPAL'!$I$450:$X$450,D19)>=1,\"\",ROW())","v":19},"LOC PELLE INTERLOC","LOC PELLE INTERLOC",{"$f":"IF(COUNTIF('PLANNING PRINCIPAL'!$I$453:$X$453,G19)>=1,\"\",ROW())","v":19},"LOC PELLE INTERLOC","LOC PELLE INTERLOC",{"$f":"IF(COUNTIF('PLANNING PRINCIPAL'!$I$456:$X$456,J19)>=1,\"\",ROW())","v":19},"LOC PELLE INTERLOC","LOC PELLE INTERLOC",{"$f":"IF(COUNTIF('PLANNING PRINCIPAL'!$I$459:$X$459,M19)>=1,\"\",ROW())","v":19},"LOC PELLE INTERLOC","LOC PELLE INTERLOC",{"$f":"IF(COUNTIF('PLANNING PRINCIPAL'!$I$462:$X$462,P19)>=1,\"\",ROW())","v":19},"LOC PELLE INTERLOC","LOC PELLE INTERLOC",{"$f":"IF(COUNTIF('PLANNING PRINCIPAL'!$I$465:$X$465,S19)>=1,\"\",ROW())","v":19},"LOC PELLE INTERLOC",null,{"$f":"IF(COUNTIF('PLANNING PRINCIPAL'!$I$467:$X$467,V19)>=1,\"\",ROW())","v":19}]
[{"$f":"'DATA S1'!A20","v":"LOC PELLE KILOUTOU"},{"$f":"IF(COUNTIF('PLANNING PRINCIPAL'!$I$447:$X$447,A20)>=1,\"\",ROW())","v":20},"LOC PELLE KILOUTOU","LOC PELLE KILOUTOU",{"$f":"IF(COUNTIF('PLANNING PRINCIPAL'!$I$450:$X$450,D20)>=1,\"\",ROW())","v":20},"LOC PELLE KILOUTOU","LOC PELLE KILOUTOU",{"$f":"IF(COUNTIF('PLANNING PRINCIPAL'!$I$453:$X$453,G20)>=1,\"\",ROW())","v":20},"LOC PELLE KILOUTOU","LOC PELLE KILOUTOU",{"$f":"IF(COUNTIF('PLANNING PRINCIPAL'!$I$456:$X$456,J20)>=1,\"\",ROW())","v":20},"LOC PELLE KILOUTOU","LOC PELLE KILOUTOU",{"$f":"IF(COUNTIF('PLANNING PRINCIPAL'!$I$459:$X$459,M20)>=1,\"\",ROW())","v":20},"LOC PELLE KILOUTOU","LOC PELLE KILOUTOU",{"$f":"IF(COUNTIF('PLANNING PRINCIPAL'!$I$462:$X$462,P20)>=1,\"\",ROW())","v":20},"LOC PELLE KILOUTOU","LOC PELLE KILOUTOU",{"$f":"IF(COUNTIF('PLANNING PRINCIPAL'!$I$465:$X$465,S20)>=1,\"\",ROW())","v":20},"LOC PELLE KILOUTOU",null,{"$f":"IF(COUNTIF('PLANNING PRINCIPAL'!$I$467:$X$467,V20)>=1,\"\",ROW())","v":20}]
[null,{"$f":"IF(COUNTIF('PLANNING PRINCIPAL'!$I$447:$X$447,A21)>=1,\"\",ROW())","v":21},null,null,{"$f":"IF(COUNTIF('PLANNING PRINCIPAL'!$I$450:$X$450,D21)>=1,\"\",ROW())","v":21},null,null,{"$f":"IF(COUNTIF('PLANNING PRINCIPAL'!$I$453:$X$453,G21)>=1,\"\",ROW())","v":21},null,null,{"$f":"IF(COUNTIF('PLANNING PRINCIPAL'!$I$456:$X$456,J21)>=1,\"\",ROW())","v":21},null,null,{"$f":"IF(COUNTIF('PLANNING PRINCIPAL'!$I$459:$X$459,M21)>=1,\"\",ROW())","v":21},null,null,{"$f":"IF(COUNTIF('PLANNING PRINCIPAL'!$I$462:$X$462,P21)>=1,\"\",ROW())","v":21},null,null,{"$f":"IF(COUNTIF('PLANNING PRINCIPAL'!$I$465:$X$465,S21)>=1,\"\",ROW())","v":21},null,null,{"$f":"IF(COUNTIF('PLANNING PRINCIPAL'!$I$467:$X$467,V21)>=1,\"\",ROW())","v":21}]
[null,{"$f":"IF(COUNTIF('PLANNING PRINCIPAL'!$I$447:$X$447,A22)>=1,\"\",ROW())","v":22},null,null,{"$f":"IF(COUNTIF('PLANNING PRINCIPAL'!$I$450:$X$450,D22)>=1,\"\",ROW())","v":22},null,null,{"$f":"IF(COUNTIF('PLANNING PRINCIPAL'!$I$453:$X$453,G22)>=1,\"\",ROW())","v":22},null,null,{"$f":"IF(COUNTIF('PLANNING PRINCIPAL'!$I$456:$X$456,J22)>=1,\"\",ROW())","v":22},null,null,{"$f":"IF(COUNTIF('PLANNING PRINCIPAL'!$I$459:$X$459,M22)>=1,\"\",ROW())","v":22},null,null,{"$f":"IF(COUNTIF('PLANNING PRINCIPAL'!$I$462:$X$462,P22)>=1,\"\",ROW())","v":22},null,null,{"$f":"IF(COUNTIF('PLANNING PRINCIPAL'!$I$465:$X$465,S22)>=1,\"\",ROW())","v":22},null,null,{"$f":"IF(COUNTIF('PLANNING PRINCIPAL'!$I$467:$X$467,V22)>=1,\"\",ROW())","v":22}]
[null,{"$f":"IF(COUNTIF('PLANNING PRINCIPAL'!$I$447:$X$447,A23)>=1,\"\",ROW())","v":23},null,null,{"$f":"IF(COUNTIF('PLANNING PRINCIPAL'!$I$450:$X$450,D23)>=1,\"\",ROW())","v":23},null,null,{"$f":"IF(COUNTIF('PLANNING PRINCIPAL'!$I$453:$X$453,G23)>=1,\"\",ROW())","v":23},null,null,{"$f":"IF(COUNTIF('PLANNING PRINCIPAL'!$I$456:$X$456,J23)>=1,\"\",ROW())","v":23},null,null,{"$f":"IF(COUNTIF('PLANNING PRINCIPAL'!$I$459:$X$459,M23)>=1,\"\",ROW())","v":23},null,null,{"$f":"IF(COUNTIF('PLANNING PRINCIPAL'!$I$462:$X$462,P23)>=1,\"\",ROW())","v":23},null,null,{"$f":"IF(COUNTIF('PLANNING PRINCIPAL'!$I$465:$X$465,S23)>=1,\"\",ROW())","v":23},null,null,{"$f":"IF(COUNTIF('PLANNING PRINCIPAL'!$I$467:$X$467,V23)>=1,\"\",ROW())","v":23}]
[null,{"$f":"IF(COUNTIF('PLANNING PRINCIPAL'!$I$447:$X$447,A24)>=1,\"\",ROW())","v":24},null,null,{"$f":"IF(COUNTIF('PLANNING PRINCIPAL'!$I$450:$X$450,D24)>=1,\"\",ROW())","v":24},null,null,{"$f":"IF(COUNTIF('PLANNING PRINCIPAL'!$I$453:$X$453,G24)>=1,\"\",ROW())","v":24},null,null,{"$f":"IF(COUNTIF('PLANNING PRINCIPAL'!$I$456:$X$456,J24)>=1,\"\",ROW())","v":24},null,null,{"$f":"IF(COUNTIF('PLANNING PRINCIPAL'!$I$459:$X$459,M24)>=1,\"\",ROW())","v":24},null,null,{"$f":"IF(COUNTIF('PLANNING PRINCIPAL'!$I$462:$X$462,P24)>=1,\"\",ROW())","v":24},null,null,{"$f":"IF(COUNTIF('PLANNING PRINCIPAL'!$I$465:$X$465,S24)>=1,\"\",ROW())","v":24},null,null,{"$f":"IF(COUNTIF('PLANNING PRINCIPAL'!$I$467:$X$467,V24)>=1,\"\",ROW())","v":24}]
[null,{"$f":"IF(COUNTIF('PLANNING PRINCIPAL'!$I$447:$X$447,A25)>=1,\"\",ROW())","v":25},null,null,{"$f":"IF(COUNTIF('PLANNING PRINCIPAL'!$I$450:$X$450,D25)>=1,\"\",ROW())","v":25},null,null,{"$f":"IF(COUNTIF('PLANNING PRINCIPAL'!$I$453:$X$453,G25)>=1,\"\",ROW())","v":25},null,null,{"$f":"IF(COUNTIF('PLANNING PRINCIPAL'!$I$456:$X$456,J25)>=1,\"\",ROW())","v":25},null,null,{"$f":"IF(COUNTIF('PLANNING PRINCIPAL'!$I$459:$X$459,M25)>=1,\"\",ROW())","v":25},null,null,{"$f":"IF(COUNTIF('PLANNING PRINCIPAL'!$I$462:$X$462,P25)>=1,\"\",ROW())","v":25},null,null,{"$f":"IF(COUNTIF('PLANNING PRINCIPAL'!$I$465:$X$465,S25)>=1,\"\",ROW())","v":25},null,null,{"$f":"IF(COUNTIF('PLANNING PRINCIPAL'!$I$467:$X$467,V25)>=1,\"\",ROW())","v":25}]
[null,{"$f":"IF(COUNTIF('PLANNING PRINCIPAL'!$I$447:$X$447,A26)>=1,\"\",ROW())","v":26},null,null,{"$f":"IF(COUNTIF('PLANNING PRINCIPAL'!$I$450:$X$450,D26)>=1,\"\",ROW())","v":26},null,null,{"$f":"IF(COUNTIF('PLANNING PRINCIPAL'!$I$453:$X$453,G26)>=1,\"\",ROW())","v":26},null,null,{"$f":"IF(COUNTIF('PLANNING PRINCIPAL'!$I$456:$X$456,J26)>=1,\"\",ROW())","v":26},null,null,{"$f":"IF(COUNTIF('PLANNING PRINCIPAL'!$I$459:$X$459,M26)>=1,\"\",ROW())","v":26},null,null,{"$f":"IF(COUNTIF('PLANNING PRINCIPAL'!$I$462:$X$462,P26)>=1,\"\",ROW())","v":26},null,null,{"$f":"IF(COUNTIF('PLANNING PRINCIPAL'!$I$465:$X$465,S26)>=1,\"\",ROW())","v":26},null,null,{"$f":"IF(COUNTIF('PLANNING PRINCIPAL'!$I$467:$X$467,V26)>=1,\"\",ROW())","v":26}]
[null,{"$f":"IF(COUNTIF('PLANNING PRINCIPAL'!$I$447:$X$447,A27)>=1,\"\",ROW())","v":27},null,null,{"$f":"IF(COUNTIF('PLANNING PRINCIPAL'!$I$450:$X$450,D27)>=1,\"\",ROW())","v":27},null,null,{"$f":"IF(COUNTIF('PLANNING PRINCIPAL'!$I$453:$X$453,G27)>=1,\"\",ROW())","v":27},null,null,{"$f":"IF(COUNTIF('PLANNING PRINCIPAL'!$I$456:$X$456,J27)>=1,\"\",ROW())","v":27},null,null,{"$f":"IF(COUNTIF('PLANNING PRINCIPAL'!$I$459:$X$459,M27)>=1,\"\",ROW())","v":27},null,null,{"$f":"IF(COUNTIF('PLANNING PRINCIPAL'!$I$462:$X$462,P27)>=1,\"\",ROW())","v":27},null,null,{"$f":"IF(COUNTIF('PLANNING PRINCIPAL'!$I$465:$X$465,S27)>=1,\"\",ROW())","v":27},null,null,{"$f":"IF(COUNTIF('PLANNING PRINCIPAL'!$I$467:$X$467,V27)>=1,\"\",ROW())","v":27}]
[null,{"$f":"IF(COUNTIF('PLANNING PRINCIPAL'!$I$447:$X$447,A28)>=1,\"\",ROW())","v":28},null,null,{"$f":"IF(COUNTIF('PLANNING PRINCIPAL'!$I$450:$X$450,D28)>=1,\"\",ROW())","v":28},null,null,{"$f":"IF(COUNTIF('PLANNING PRINCIPAL'!$I$453:$X$453,G28)>=1,\"\",ROW())","v":28},null,null,{"$f":"IF(COUNTIF('PLANNING PRINCIPAL'!$I$456:$X$456,J28)>=1,\"\",ROW())","v":28},null,null,{"$f":"IF(COUNTIF('PLANNING PRINCIPAL'!$I$459:$X$459,M28)>=1,\"\",ROW())","v":28},null,null,{"$f":"IF(COUNTIF('PLANNING PRINCIPAL'!$I$462:$X$462,P28)>=1,\"\",ROW())","v":28},null,null,{"$f":"IF(COUNTIF('PLANNING PRINCIPAL'!$I$465:$X$465,S28)>=1,\"\",ROW())","v":28},null,null,{"$f":"IF(COUNTIF('PLANNING PRINCIPAL'!$I$467:$X$467,V28)>=1,\"\",ROW())","v":28}]
[null,{"$f":"IF(COUNTIF('PLANNING PRINCIPAL'!$I$447:$X$447,A29)>=1,\"\",ROW())","v":29},null,null,{"$f":"IF(COUNTIF('PLANNING PRINCIPAL'!$I$450:$X$450,D29)>=1,\"\",ROW())","v":29},null,null,{"$f":"IF(COUNTIF('PLANNING PRINCIPAL'!$I$453:$X$453,G29)>=1,\"\",ROW())","v":29},null,null,{"$f":"IF(COUNTIF('PLANNING PRINCIPAL'!$I$456:$X$456,J29)>=1,\"\",ROW())","v":29},null,null,{"$f":"IF(COUNTIF('PLANNING PRINCIPAL'!$I$459:$X$459,M29)>=1,\"\",ROW())","v":29},null,null,{"$f":"IF(COUNTIF('PLANNING PRINCIPAL'!$I$462:$X$462,P29)>=1,\"\",ROW())","v":29},null,null,{"$f":"IF(COUNTIF('PLANNING PRINCIPAL'!$I$465:$X$465,S29)>=1,\"\",ROW())","v":29},null,null,{"$f":"IF(COUNTIF('PLANNING PRINCIPAL'!$I$467:$X$467,V29)>=1,\"\",ROW())","v":29}]
[null,{"$f":"IF(COUNTIF('PLANNING PRINCIPAL'!$I$447:$X$447,A30)>=1,\"\",ROW())","v":30},null,null,{"$f":"IF(COUNTIF('PLANNING PRINCIPAL'!$I$450:$X$450,D30)>=1,\"\",ROW())","v":30},null,null,{"$f":"IF(COUNTIF('PLANNING PRINCIPAL'!$I$453:$X$453,G30)>=1,\"\",ROW())","v":30},null,null,{"$f":"IF(COUNTIF('PLANNING PRINCIPAL'!$I$456:$X$456,J30)>=1,\"\",ROW())","v":30},null,null,{"$f":"IF(COUNTIF('PLANNING PRINCIPAL'!$I$459:$X$459,M30)>=1,\"\",ROW())","v":30},null,null,{"$f":"IF(COUNTIF('PLANNING PRINCIPAL'!$I$462:$X$462,P30)>=1,\"\",ROW())","v":30},null,null,{"$f":"IF(COUNTIF('PLANNING PRINCIPAL'!$I$465:$X$465,S30)>=1,\"\",ROW())","v":30},null,null,{"$f":"IF(COUNTIF('PLANNING PRINCIPAL'!$I$467:$X$467,V30)>=1,\"\",ROW())","v":30}]
[null,{"$f":"IF(COUNTIF('PLANNING PRINCIPAL'!$I$447:$X$447,A31)>=1,\"\",ROW())","v":31},null,null,{"$f":"IF(COUNTIF('PLANNING PRINCIPAL'!$I$450:$X$450,D31)>=1,\"\",ROW())","v":31},null,null,{"$f":"IF(COUNTIF('PLANNING PRINCIPAL'!$I$453:$X$453,G31)>=1,\"\",ROW())","v":31},null,null,{"$f":"IF(COUNTIF('PLANNING PRINCIPAL'!$I$456:$X$456,J31)>=1,\"\",ROW())","v":31},null,null,{"$f":"IF(COUNTIF('PLANNING PRINCIPAL'!$I$459:$X$459,M31)>=1,\"\",ROW())","v":31},null,null,{"$f":"IF(COUNTIF('PLANNING PRINCIPAL'!$I$462:$X$462,P31)>=1,\"\",ROW())","v":31},null,null,{"$f":"IF(COUNTIF('PLANNING PRINCIPAL'!$I$465:$X$465,S31)>=1,\"\",ROW())","v":31},null,null,{"$f":"IF(COUNTIF('PLANNING PRINCIPAL'!$I$467:$X$467,V31)>=1,\"\",ROW())","v":31}]
[null,{"$f":"IF(COUNTIF('PLANNING PRINCIPAL'!$I$447:$X$447,A32)>=1,\"\",ROW())","v":32},null,null,{"$f":"IF(COUNTIF('PLANNING PRINCIPAL'!$I$450:$X$450,D32)>=1,\"\",ROW())","v":32},null,null,{"$f":"IF(COUNTIF('PLANNING PRINCIPAL'!$I$453:$X$453,G32)>=1,\"\",ROW())","v":32},null,null,{"$f":"IF(COUNTIF('PLANNING PRINCIPAL'!$I$456:$X$456,J32)>=1,\"\",ROW())","v":32},null,null,{"$f":"IF(COUNTIF('PLANNING PRINCIPAL'!$I$459:$X$459,M32)>=1,\"\",ROW())","v":32},null,null,{"$f":"IF(COUNTIF('PLANNING PRINCIPAL'!$I$462:$X$462,P32)>=1,\"\",ROW())","v":32},null,null,{"$f":"IF(COUNTIF('PLANNING PRINCIPAL'!$I$465:$X$465,S32)>=1,\"\",ROW())","v":32},null,null,{"$f":"IF(COUNTIF('PLANNING PRINCIPAL'!$I$467:$X$467,V32)>=1,\"\",ROW())","v":32}]
[null,{"$f":"IF(COUNTIF('PLANNING PRINCIPAL'!$I$447:$X$447,A33)>=1,\"\",ROW())","v":33},null,null,{"$f":"IF(COUNTIF('PLANNING PRINCIPAL'!$I$450:$X$450,D33)>=1,\"\",ROW())","v":33},null,null,{"$f":"IF(COUNTIF('PLANNING PRINCIPAL'!$I$453:$X$453,G33)>=1,\"\",ROW())","v":33},null,null,{"$f":"IF(COUNTIF('PLANNING PRINCIPAL'!$I$456:$X$456,J33)>=1,\"\",ROW())","v":33},null,null,{"$f":"IF(COUNTIF('PLANNING PRINCIPAL'!$I$459:$X$459,M33)>=1,\"\",ROW())","v":33},null,null,{"$f":"IF(COUNTIF('PLANNING PRINCIPAL'!$I$462:$X$462,P33)>=1,\"\",ROW())","v":33},null,null,{"$f":"IF(COUNTIF('PLANNING PRINCIPAL'!$I$465:$X$465,S33)>=1,\"\",ROW())","v":33},null,null,{"$f":"IF(COUNTIF('PLANNING PRINCIPAL'!$I$467:$X$467,V33)>=1,\"\",ROW())","v":33}]
[null,{"$f":"IF(COUNTIF('PLANNING PRINCIPAL'!$I$447:$X$447,A34)>=1,\"\",ROW())","v":34},null,null,{"$f":"IF(COUNTIF('PLANNING PRINCIPAL'!$I$450:$X$450,D34)>=1,\"\",ROW())","v":34},null,null,{"$f":"IF(COUNTIF('PLANNING PRINCIPAL'!$I$453:$X$453,G34)>=1,\"\",ROW())","v":34},null,null,{"$f":"IF(COUNTIF('PLANNING PRINCIPAL'!$I$456:$X$456,J34)>=1,\"\",ROW())","v":34},null,null,{"$f":"IF(COUNTIF('PLANNING PRINCIPAL'!$I$459:$X$459,M34)>=1,\"\",ROW())","v":34},null,null,{"$f":"IF(COUNTIF('PLANNING PRINCIPAL'!$I$462:$X$462,P34)>=1,\"\",ROW())","v":34},null,null,{"$f":"IF(COUNTIF('PLANNING PRINCIPAL'!$I$465:$X$465,S34)>=1,\"\",ROW())","v":34},null,null,{"$f":"IF(COUNTIF('PLANNING PRINCIPAL'!$I$467:$X$467,V34)>=1,\"\",ROW())","v":34}]
["LUNDI",null,null,"MARDI",null,null,"MERCREDI",null,null,"JEUDI",null,null,"VENDREDI",null,null,"SAMEDI",null,null,"DIMANCHE",null,null,"ASTREINTE"]

{"sheet":"DATA S21","index":22,"n_rows":35,"n_cols":24,"rows_kept":35,"cut":false,"hidden":false,"merged":[[34,18,34,20],[34,21,34,23],[34,0,34,2],[34,3,34,5],[34,6,34,8],[34,9,34,11],[34,12,34,14],[34,15,34,17]]}
[{"$f":"'DATA S1'!A1","v":"MAS XX "},{"$f":"IF(COUNTIF('PLANNING PRINCIPAL'!$I$470:$X$470,A1)>=1,\"\",ROW())","v":1},{"$f":"IF(ROW(A1)-ROW(A$1)+1>COUNT(B:B),\"\", INDEX(A:A,SMALL(B:B,1+ROW(A1)-ROW(A$1))))","v":"MAS XX "},{"$f":"A1","v":"MAS XX "},{"$f":"IF(COUNTIF('PLANNING PRINCIPAL'!$I$473:$X$473,D1)>=1,\"\",ROW())","v":1},{"$f":"IF(ROW(D1)-ROW(D$1)+1>COUNT(E:E),\"\", INDEX(D:D,SMALL(E:E,1+ROW(D1)-ROW(D$1))))","v":"MAS XX "},{"$f":"A1","v":"MAS XX "},{"$f":"IF(COUNTIF('PLANNING PRINCIPAL'!$I$476:$X$476,G1)>=1,\"\",ROW())","v":1},{"$f":"IF(ROW(G1)-ROW(G$1)+1>COUNT(H:H),\"\", INDEX(G:G,SMALL(H:H,1+ROW(G1)-ROW(G$1))))","v":"MAS XX "},{"$f":"A1","v":"MAS XX "},{"$f":"IF(COUNTIF('PLANNING PRINCIPAL'!$I$479:$X$479,J1)>=1,\"\",ROW())","v":1},{"$f":"IF(ROW(J1)-ROW(J$1)+1>COUNT(K:K),\"\", INDEX(J:J,SMALL(K:K,1+ROW(J1)-ROW(J$1))))","v":"MAS XX "},{"$f":"A1","v":"MAS XX "},{"$f":"IF(COUNTIF('PLANNING PRINCIPAL'!$I$482:$X$482,M1)>=1,\"\",ROW())","v":1},{"$f":"IF(ROW(M1)-ROW(M$1)+1>COUNT(N:N),\"\", INDEX(M:M,SMALL(N:N,1+ROW(M1)-ROW(M$1))))","v":"MAS XX "},{"$f":"A1","v":"MAS XX "},{"$f":"IF(COUNTIF('PLANNING PRINCIPAL'!$I$485:$X$485,P1)>=1,\"\",ROW())","v":1},{"$f":"IF(ROW(P1)-ROW(P$1)+1>COUNT(Q:Q),\"\", INDEX(P:P,SMALL(Q:Q,1+ROW(P1)-ROW(P$1))))","v":"MAS XX "},{"$f":"A1","v":"MAS XX "},{"$f":"IF(COUNTIF('PLANNING PRINCIPAL'!$I$488:$X$488,S1)>=1,\"\",ROW())","v":1},{"$f":"IF(ROW(S1)-ROW(S$1)+1>COUNT(T:T),\"\", INDEX(S:S,SMALL(T:T,1+ROW(S1)-ROW(S$1))))","v":"MAS XX "},{"$f":"'DATA S1'!V1","v":"ASTREINTE SLT"},{"$f":"IF(COUNTIF('PLANNING PRINCIPAL'!$I$490:$X$490,V1)>=1,\"\",ROW())","v":1},{"$f":"IF(ROW(V1)-ROW(V$1)+1>COUNT(W:W),\"\", INDEX(V:V,SMALL(W:W,1+ROW(V1)-ROW(V$1))))","v":"ASTREINTE SLT"}]
[{"$f":"'DATA S1'!A2","v":"MAS YY "},{"$f":"IF(COUNTIF('PLANNING PRINCIPAL'!$I$470:$X$470,A2)>=1,\"\",ROW())","v":2},{"$f":"IF(ROW(A2)-ROW(A$1)+1>COUNT(B:B),\"\", INDEX(A:A,SMALL(B:B,1+ROW(A2)-ROW(A$1))))","v":"MAS YY "},"MAS YY ",{"$f":"IF(COUNTIF('PLANNING PRINCIPAL'!$I$473:$X$473,D2)>=1,\"\",ROW())","v":2},{"$f":"IF(ROW(D2)-ROW(D$1)+1>COUNT(E:E),\"\", INDEX(D:D,SMALL(E:E,1+ROW(D2)-ROW(D$1))))","v":"MAS YY "},{"$f":"A2","v":"MAS YY "},{"$f":"IF(COUNTIF('PLANNING PRINCIPAL'!$I$476:$X$476,G2)>=1,\"\",ROW())","v":2},{"$f":"IF(ROW(G2)-ROW(G$1)+1>COUNT(H:H),\"\", INDEX(G:G,SMALL(H:H,1+ROW(G2)-ROW(G$1))))","v":"MAS YY "},{"$f":"A2","v":"MAS YY "},{"$f":"IF(COUNTIF('PLANNING PRINCIPAL'!$I$479:$X$479,J2)>=1,\"\",ROW())","v":2},{"$f":"IF(ROW(J2)-ROW(J$1)+1>COUNT(K:K),\"\", INDEX(J:J,SMALL(K:K,1+ROW(J2)-ROW(J$1))))","v":"MAS YY "},{"$f":"A2","v":"MAS YY "},{"$f":"IF(COUNTIF('PLANNING PRINCIPAL'!$I$482:$X$482,M2)>=1,\"\",ROW())","v":2},{"$f":"IF(ROW(M2)-ROW(M$1)+1>COUNT(N:N),\"\", INDEX(M:M,SMALL(N:N,1+ROW(M2)-ROW(M$1))))","v":"MAS YY "},{"$f":"A2","v":"MAS YY "},{"$f":"IF(COUNTIF('PLANNING PRINCIPAL'!$I$485:$X$485,P2)>=1,\"\",ROW())","v":2},{"$f":"IF(ROW(P2)-ROW(P$1)+1>COUNT(Q:Q),\"\", INDEX(P:P,SMALL(Q:Q,1+ROW(P2)-ROW(P$1))))","v":"MAS YY "},{"$f":"A2","v":"MAS YY "},{"$f":"IF(COUNTIF('PLANNING PRINCIPAL'!$I$488:$X$488,S2)>=1,\"\",ROW())","v":2},{"$f":"IF(ROW(S2)-ROW(S$1)+1>COUNT(T:T),\"\", INDEX(S:S,SMALL(T:T,1+ROW(S2)-ROW(S$1))))","v":"MAS YY "},{"$f":"'DATA S1'!V2","v":"ASTREINTE EP"},{"$f":"IF(COUNTIF('PLANNING PRINCIPAL'!$I$490:$X$490,V2)>=1,\"\",ROW())","v":2},{"$f":"IF(ROW(V2)-ROW(V$1)+1>COUNT(W:W),\"\", INDEX(V:V,SMALL(W:W,1+ROW(V2)-ROW(V$1))))","v":"ASTREINTE EP"}]
[{"$f":"'DATA S1'!A3","v":"MAS VQ "},{"$f":"IF(COUNTIF('PLANNING PRINCIPAL'!$I$470:$X$470,A3)>=1,\"\",ROW())","v":3},"MAS VQ ","MAS VQ ",{"$f":"IF(COUNTIF('PLANNING PRINCIPAL'!$I$473:$X$473,D3)>=1,\"\",ROW())","v":3},"MAS VQ ","MAS VQ ",{"$f":"IF(COUNTIF('PLANNING PRINCIPAL'!$I$476:$X$476,G3)>=1,\"\",ROW())","v":3},"MAS VQ ","MAS VQ ",{"$f":"IF(COUNTIF('PLANNING PRINCIPAL'!$I$479:$X$479,J3)>=1,\"\",ROW())","v":3},"MAS VQ ","MAS VQ ",{"$f":"IF(COUNTIF('PLANNING PRINCIPAL'!$I$482:$X$482,M3)>=1,\"\",ROW())","v":3},"MAS VQ ","MAS VQ ",{"$f":"IF(COUNTIF('PLANNING PRINCIPAL'!$I$485:$X$485,P3)>=1,\"\",ROW())","v":3},"MAS VQ ","MAS VQ ",{"$f":"IF(COUNTIF('PLANNING PRINCIPAL'!$I$488:$X$488,S3)>=1,\"\",ROW())","v":3},"MAS VQ ",{"$f":"'DATA S1'!V3","v":"V NOC CHARTRES"},{"$f":"IF(COUNTIF('PLANNING PRINCIPAL'!$I$490:$X$490,V3)>=1,\"\",ROW())","v":3},"V NOC CHARTRES"]
[{"$f":"'DATA S1'!A4","v":"MAS PL "},{"$f":"IF(COUNTIF('PLANNING PRINCIPAL'!$I$470:$X$470,A4)>=1,\"\",ROW())","v":4},"MAS PL ","MAS PL ",{"$f":"IF(COUNTIF('PLANNING PRINCIPAL'!$I$473:$X$473,D4)>=1,\"\",ROW())","v":4},"MAS PL ","MAS PL ",{"$f":"IF(COUNTIF('PLANNING PRINCIPAL'!$I$476:$X$476,G4)>=1,\"\",ROW())","v":4},"MAS PL ","MAS PL ",{"$f":"IF(COUNTIF('PLANNING PRINCIPAL'!$I$479:$X$479,J4)>=1,\"\",ROW())","v":4},"MAS PL ","MAS PL ",{"$f":"IF(COUNTIF('PLANNING PRINCIPAL'!$I$482:$X$482,M4)>=1,\"\",ROW())","v":4},"MAS PL ","MAS PL ",{"$f":"IF(COUNTIF('PLANNING PRINCIPAL'!$I$485:$X$485,P4)>=1,\"\",ROW())","v":4},"MAS PL ","MAS PL ",{"$f":"IF(COUNTIF('PLANNING PRINCIPAL'!$I$488:$X$488,S4)>=1,\"\",ROW())","v":4},"MAS PL ",{"$f":"'DATA S1'!V4","v":"V NOC EPERNON"},{"$f":"IF(COUNTIF('PLANNING PRINCIPAL'!$I$490:$X$490,V4)>=1,\"\",ROW())","v":4},"V NOC EPERNON"]
[{"$f":"'DATA S1'!A5","v":"BEN VL PT "},{"$f":"IF(COUNTIF('PLANNING PRINCIPAL'!$I$470:$X$470,A5)>=1,\"\",ROW())","v":5},"BEN VL PT ","BEN VL PT ",{"$f":"IF(COUNTIF('PLANNING PRINCIPAL'!$I$473:$X$473,D5)>=1,\"\",ROW())","v":5},"BEN VL PT ","BEN VL PT ",{"$f":"IF(COUNTIF('PLANNING PRINCIPAL'!$I$476:$X$476,G5)>=1,\"\",ROW())","v":5},"BEN VL PT ","BEN VL PT ",{"$f":"IF(COUNTIF('PLANNING PRINCIPAL'!$I$479:$X$479,J5)>=1,\"\",ROW())","v":5},"BEN VL PT ","BEN VL PT ",{"$f":"IF(COUNTIF('PLANNING PRINCIPAL'!$I$482:$X$482,M5)>=1,\"\",ROW())","v":5},"BEN VL PT ","BEN VL PT ",{"$f":"IF(COUNTIF('PLANNING PRINCIPAL'!$I$485:$X$485,P5)>=1,\"\",ROW())","v":5},"BEN VL PT ","BEN VL PT ",{"$f":"IF(COUNTIF('PLANNING PRINCIPAL'!$I$488:$X$488,S5)>=1,\"\",ROW())","v":5},"BEN VL PT ",{"$f":"'DATA S1'!V5","v":"V NOC HANCHES"},{"$f":"IF(COUNTIF('PLANNING PRINCIPAL'!$I$490:$X$490,V5)>=1,\"\",ROW())","v":5},"V NOC HANCHES"]
[{"$f":"'DATA S1'!A6","v":"BEN 19T "},{"$f":"IF(COUNTIF('PLANNING PRINCIPAL'!$I$470:$X$470,A6)>=1,\"\",ROW())","v":6},"BEN 19T ","BEN 19T ",{"$f":"IF(COUNTIF('PLANNING PRINCIPAL'!$I$473:$X$473,D6)>=1,\"\",ROW())","v":6},"BEN 19T ","BEN 19T ",{"$f":"IF(COUNTIF('PLANNING PRINCIPAL'!$I$476:$X$476,G6)>=1,\"\",ROW())","v":6},"BEN 19T ","BEN 19T ",{"$f":"IF(COUNTIF('PLANNING PRINCIPAL'!$I$479:$X$479,J6)>=1,\"\",ROW())","v":6},"BEN 19T ","BEN 19T ",{"$f":"IF(COUNTIF('PLANNING PRINCIPAL'!$I$482:$X$482,M6)>=1,\"\",ROW())","v":6},"BEN 19T ","BEN 19T ",{"$f":"IF(COUNTIF('PLANNING PRINCIPAL'!$I$485:$X$485,P6)>=1,\"\",ROW())","v":6},"BEN 19T ","BEN 19T ",{"$f":"IF(COUNTIF('PLANNING PRINCIPAL'!$I$488:$X$488,S6)>=1,\"\",ROW())","v":6},"BEN 19T ",{"$f":"'DATA S1'!V6","v":"V NOC MAINTENON"},{"$f":"IF(COUNTIF('PLANNING PRINCIPAL'!$I$490:$X$490,V6)>=1,\"\",ROW())","v":6},"V NOC MAINTENON"]
[{"$f":"'DATA S1'!A7","v":"BEN 13T "},{"$f":"IF(COUNTIF('PLANNING PRINCIPAL'!$I$470:$X$470,A7)>=1,\"\",ROW())","v":7},"BEN 13T ","BEN 13T ",{"$f":"IF(COUNTIF('PLANNING PRINCIPAL'!$I$473:$X$473,D7)>=1,\"\",ROW())","v":7},"BEN 13T ","BEN 13T ",{"$f":"IF(COUNTIF('PLANNING PRINCIPAL'!$I$476:$X$476,G7)>=1,\"\",ROW())","v":7},"BEN 13T ","BEN 13T ",{"$f":"IF(COUNTIF('PLANNING PRINCIPAL'!$I$479:$X$479,J7)>=1,\"\",ROW())","v":7},"BEN 13T ","BEN 13T ",{"$f":"IF(COUNTIF('PLANNING PRINCIPAL'!$I$482:$X$482,M7)>=1,\"\",ROW())","v":7},"BEN 13T ","BEN 13T ",{"$f":"IF(COUNTIF('PLANNING PRINCIPAL'!$I$485:$X$485,P7)>=1,\"\",ROW())","v":7},"BEN 13T ","BEN 13T ",{"$f":"IF(COUNTIF('PLANNING PRINCIPAL'!$I$488:$X$488,S7)>=1,\"\",ROW())","v":7},"BEN 13T ",null,{"$f":"IF(COUNTIF('PLANNING PRINCIPAL'!$I$467:$X$467,V7)>=1,\"\",ROW())","v":7}]
[{"$f":"'DATA S1'!A8","v":"NAC VL 18M "},{"$f":"IF(COUNTIF('PLANNING PRINCIPAL'!$I$470:$X$470,A8)>=1,\"\",ROW())","v":8},"NAC VL 18M ","NAC VL 18M ",{"$f":"IF(COUNTIF('PLANNING PRINCIPAL'!$I$473:$X$473,D8)>=1,\"\",ROW())","v":8},"NAC VL 18M ","NAC VL 18M ",{"$f":"IF(COUNTIF('PLANNING PRINCIPAL'!$I$476:$X$476,G8)>=1,\"\",ROW())","v":8},"NAC VL 18M ","NAC VL 18M ",{"$f":"IF(COUNTIF('PLANNING PRINCIPAL'!$I$479:$X$479,J8)>=1,\"\",ROW())","v":8},"NAC VL 18M ","NAC VL 18M ",{"$f":"IF(COUNTIF('PLANNING PRINCIPAL'!$I$482:$X$482,M8)>=1,\"\",ROW())","v":8},"NAC VL 18M ","NAC VL 18M ",{"$f":"IF(COUNTIF('PLANNING PRINCIPAL'!$I$485:$X$485,P8)>=1,\"\",ROW())","v":8},"NAC VL 18M ","NAC VL 18M ",{"$f":"IF(COUNTIF('PLANNING PRINCIPAL'!$I$488:$X$488,S8)>=1,\"\",ROW())","v":8},"NAC VL 18M ",null,{"$f":"IF(COUNTIF('PLANNING PRINCIPAL'!$I$467:$X$467,V8)>=1,\"\",ROW())","v":8}]
[{"$f":"'DATA S1'!A9","v":"NAC EGIE"},{"$f":"IF(COUNTIF('PLANNING PRINCIPAL'!$I$470:$X$470,A9)>=1,\"\",ROW())","v":9},"NAC EGIE","NAC EGIE",{"$f":"IF(COUNTIF('PLANNING PRINCIPAL'!$I$473:$X$473,D9)>=1,\"\",ROW())","v":9},"NAC EGIE","NAC EGIE",{"$f":"IF(COUNTIF('PLANNING PRINCIPAL'!$I$476:$X$476,G9)>=1,\"\",ROW())","v":9},"NAC EGIE","NAC EGIE",{"$f":"IF(COUNTIF('PLANNING PRINCIPAL'!$I$479:$X$479,J9)>=1,\"\",ROW())","v":9},"NAC EGIE","NAC EGIE",{"$f":"IF(COUNTIF('PLANNING PRINCIPAL'!$I$482:$X$482,M9)>=1,\"\",ROW())","v":9},"NAC EGIE","NAC EGIE",{"$f":"IF(COUNTIF('PLANNING PRINCIPAL'!$I$485:$X$485,P9)>=1,\"\",ROW())","v":9},"NAC EGIE","NAC EGIE",{"$f":"IF(COUNTIF('PLANNING PRINCIPAL'!$I$488:$X$488,S9)>=1,\"\",ROW())","v":9},"NAC EGIE",null,{"$f":"IF(COUNTIF('PLANNING PRINCIPAL'!$I$467:$X$467,V9)>=1,\"\",ROW())","v":9}]
[{"$f":"'DATA S1'!A10","v":"NAC COMI "},{"$f":"IF(COUNTIF('PLANNING PRINCIPAL'!$I$470:$X$470,A10)>=1,\"\",ROW())","v":10},"NAC COMI ","NAC COMI ",{"$f":"IF(COUNTIF('PLANNING PRINCIPAL'!$I$473:$X$473,D10)>=1,\"\",ROW())","v":10},"NAC COMI ","NAC COMI ",{"$f":"IF(COUNTIF('PLANNING PRINCIPAL'!$I$476:$X$476,G10)>=1,\"\",ROW())","v":10},"NAC COMI ","NAC COMI ",{"$f":"IF(COUNTIF('PLANNING PRINCIPAL'!$I$479:$X$479,J10)>=1,\"\",ROW())","v":10},"NAC COMI ","NAC COMI ",{"$f":"IF(COUNTIF('PLANNING PRINCIPAL'!$I$482:$X$482,M10)>=1,\"\",ROW())","v":10},"NAC COMI ","NAC COMI ",{"$f":"IF(COUNTIF('PLANNING PRINCIPAL'!$I$485:$X$485,P10)>=1,\"\",ROW())","v":10},"NAC COMI ","NAC COMI ",{"$f":"IF(COUNTIF('PLANNING PRINCIPAL'!$I$488:$X$488,S10)>=1,\"\",ROW())","v":10},"NAC COMI ",null,{"$f":"IF(COUNTIF('PLANNING PRINCIPAL'!$I$467:$X$467,V10)>=1,\"\",ROW())","v":10}]
[{"$f":"'DATA S1'!A11","v":"#####LOCATION#####"},{"$f":"IF(COUNTIF('PLANNING PRINCIPAL'!$I$470:$X$470,A11)>=1,\"\",ROW())","v":11},"#####LOCATION#####","#####LOCATION#####",{"$f":"IF(COUNTIF('PLANNING PRINCIPAL'!$I$473:$X$473,D11)>=1,\"\",ROW())","v":11},"#####LOCATION#####","#####LOCATION#####",{"$f":"IF(COUNTIF('PLANNING PRINCIPAL'!$I$476:$X$476,G11)>=1,\"\",ROW())","v":11},"#####LOCATION#####","#####LOCATION#####",{"$f":"IF(COUNTIF('PLANNING PRINCIPAL'!$I$479:$X$479,J11)>=1,\"\",ROW())","v":11},"#####LOCATION#####","#####LOCATION#####",{"$f":"IF(COUNTIF('PLANNING PRINCIPAL'!$I$482:$X$482,M11)>=1,\"\",ROW())","v":11},"#####LOCATION#####","#####LOCATION#####",{"$f":"IF(COUNTIF('PLANNING PRINCIPAL'!$I$485:$X$485,P11)>=1,\"\",ROW())","v":11},"#####LOCATION#####","#####LOCATION#####",{"$f":"IF(COUNTIF('PLANNING PRINCIPAL'!$I$488:$X$488,S11)>=1,\"\",ROW())","v":11},"#####LOCATION#####",null,{"$f":"IF(COUNTIF('PLANNING PRINCIPAL'!$I$467:$X$467,V11)>=1,\"\",ROW())","v":11}]
[{"$f":"'DATA S1'!A12","v":"LOC NAC SOLOMAT"},{"$f":"IF(COUNTIF('PLANNING PRINCIPAL'!$I$470:$X$470,A12)>=1,\"\",ROW())","v":12},"LOC NAC SOLOMAT","LOC NAC SOLOMAT",{"$f":"IF(COUNTIF('PLANNING PRINCIPAL'!$I$473:$X$473,D12)>=1,\"\",ROW())","v":12},"LOC NAC SOLOMAT","LOC NAC SOLOMAT",{"$f":"IF(COUNTIF('PLANNING PRINCIPAL'!$I$476:$X$476,G12)>=1,\"\",ROW())","v":12},"LOC NAC SOLOMAT","LOC NAC SOLOMAT",{"$f":"IF(COUNTIF('PLANNING PRINCIPAL'!$I$479:$X$479,J12)>=1,\"\",ROW())","v":12},"LOC NAC SOLOMAT","LOC NAC SOLOMAT",{"$f":"IF(COUNTIF('PLANNING PRINCIPAL'!$I$482:$X$482,M12)>=1,\"\",ROW())","v":12},"LOC NAC SOLOMAT","LOC NAC SOLOMAT",{"$f":"IF(COUNTIF('PLANNING PRINCIPAL'!$I$485:$X$485,P12)>=1,\"\",ROW())","v":12},"LOC NAC SOLOMAT","LOC NAC SOLOMAT",{"$f":"IF(COUNTIF('PLANNING PRINCIPAL'!$I$488:$X$488,S12)>=1,\"\",ROW())","v":12},"LOC NAC SOLOMAT",null,{"$f":"IF(COUNTIF('PLANNING PRINCIPAL'!$I$467:$X$467,V12)>=1,\"\",ROW())","v":12}]
[{"$f":"'DATA S1'!A13","v":"LOC NAC AEB"},{"$f":"IF(COUNTIF('PLANNING PRINCIPAL'!$I$470:$X$470,A13)>=1,\"\",ROW())","v":13},"LOC NAC AEB","LOC NAC AEB",{"$f":"IF(COUNTIF('PLANNING PRINCIPAL'!$I$473:$X$473,D13)>=1,\"\",ROW())","v":13},"LOC NAC AEB","LOC NAC AEB",{"$f":"IF(COUNTIF('PLANNING PRINCIPAL'!$I$476:$X$476,G13)>=1,\"\",ROW())","v":13},"LOC NAC AEB","LOC NAC AEB",{"$f":"IF(COUNTIF('PLANNING PRINCIPAL'!$I$479:$X$479,J13)>=1,\"\",ROW())","v":13},"LOC NAC AEB","LOC NAC AEB",{"$f":"IF(COUNTIF('PLANNING PRINCIPAL'!$I$482:$X$482,M13)>=1,\"\",ROW())","v":13},"LOC NAC AEB","LOC NAC AEB",{"$f":"IF(COUNTIF('PLANNING PRINCIPAL'!$I$485:$X$485,P13)>=1,\"\",ROW())","v":13},"LOC NAC AEB","LOC NAC AEB",{"$f":"IF(COUNTIF('PLANNING PRINCIPAL'!$I$488:$X$488,S13)>=1,\"\",ROW())","v":13},"LOC NAC AEB",null,{"$f":"IF(COUNTIF('PLANNING PRINCIPAL'!$I$467:$X$467,V13)>=1,\"\",ROW())","v":13}]
[{"$f":"'DATA S1'!A14","v":"LOC NAC INTERLOC"},{"$f":"IF(COUNTIF('PLANNING PRINCIPAL'!$I$470:$X$470,A14)>=1,\"\",ROW())","v":14},"LOC NAC INTERLOC","LOC NAC INTERLOC",{"$f":"IF(COUNTIF('PLANNING PRINCIPAL'!$I$473:$X$473,D14)>=1,\"\",ROW())","v":14},"LOC NAC INTERLOC","LOC NAC INTERLOC",{"$f":"IF(COUNTIF('PLANNING PRINCIPAL'!$I$476:$X$476,G14)>=1,\"\",ROW())","v":14},"LOC NAC INTERLOC","LOC NAC INTERLOC",{"$f":"IF(COUNTIF('PLANNING PRINCIPAL'!$I$479:$X$479,J14)>=1,\"\",ROW())","v":14},"LOC NAC INTERLOC","LOC NAC INTERLOC",{"$f":"IF(COUNTIF('PLANNING PRINCIPAL'!$I$482:$X$482,M14)>=1,\"\",ROW())","v":14},"LOC NAC INTERLOC","LOC NAC INTERLOC",{"$f":"IF(COUNTIF('PLANNING PRINCIPAL'!$I$485:$X$485,P14)>=1,\"\",ROW())","v":14},"LOC NAC INTERLOC","LOC NAC INTERLOC",{"$f":"IF(COUNTIF('PLANNING PRINCIPAL'!$I$488:$X$488,S14)>=1,\"\",ROW())","v":14},"LOC NAC INTERLOC",null,{"$f":"IF(COUNTIF('PLANNING PRINCIPAL'!$I$467:$X$467,V14)>=1,\"\",ROW())","v":14}]
[{"$f":"'DATA S1'!A15","v":"LOC NAC KILOUTOU"},{"$f":"IF(COUNTIF('PLANNING PRINCIPAL'!$I$470:$X$470,A15)>=1,\"\",ROW())","v":15},"LOC NAC KILOUTOU","LOC NAC KILOUTOU",{"$f":"IF(COUNTIF('PLANNING PRINCIPAL'!$I$473:$X$473,D15)>=1,\"\",ROW())","v":15},"LOC NAC KILOUTOU","LOC NAC KILOUTOU",{"$f":"IF(COUNTIF('PLANNING PRINCIPAL'!$I$476:$X$476,G15)>=1,\"\",ROW())","v":15},"LOC NAC KILOUTOU","LOC NAC KILOUTOU",{"$f":"IF(COUNTIF('PLANNING PRINCIPAL'!$I$479:$X$479,J15)>=1,\"\",ROW())","v":15},"LOC NAC KILOUTOU","LOC NAC KILOUTOU",{"$f":"IF(COUNTIF('PLANNING PRINCIPAL'!$I$482:$X$482,M15)>=1,\"\",ROW())","v":15},"LOC NAC KILOUTOU","LOC NAC KILOUTOU",{"$f":"IF(COUNTIF('PLANNING PRINCIPAL'!$I$485:$X$485,P15)>=1,\"\",ROW())","v":15},"LOC NAC KILOUTOU","LOC NAC KILOUTOU",{"$f":"IF(COUNTIF('PLANNING PRINCIPAL'!$I$488:$X$488,S15)>=1,\"\",ROW())","v":15},"LOC NAC KILOUTOU",null,{"$f":"IF(COUNTIF('PLANNING PRINCIPAL'!$I$467:$X$467,V15)>=1,\"\",ROW())","v":15}]
[{"$f":"'DATA S1'!A16","v":"LOC NAC AEB"},{"$f":"IF(COUNTIF('PLANNING PRINCIPAL'!$I$470:$X$470,A16)>=1,\"\",ROW())","v":16},"LOC NAC AEB","LOC NAC AEB",{"$f":"IF(COUNTIF('PLANNING PRINCIPAL'!$I$473:$X$473,D16)>=1,\"\",ROW())","v":16},"LOC NAC AEB","LOC NAC AEB",{"$f":"IF(COUNTIF('PLANNING PRINCIPAL'!$I$476:$X$476,G16)>=1,\"\",ROW())","v":16},"LOC NAC AEB","LOC NAC AEB",{"$f":"IF(COUNTIF('PLANNING PRINCIPAL'!$I$479:$X$479,J16)>=1,\"\",ROW())","v":16},"LOC NAC AEB","LOC NAC AEB",{"$f":"IF(COUNTIF('PLANNING PRINCIPAL'!$I$482:$X$482,M16)>=1,\"\",ROW())","v":16},"LOC NAC AEB","LOC NAC AEB",{"$f":"IF(COUNTIF('PLANNING PRINCIPAL'!$I$485:$X$485,P16)>=1,\"\",ROW())","v":16},"LOC NAC AEB","LOC NAC AEB",{"$f":"IF(COUNTIF('PLANNING PRINCIPAL'!$I$488:$X$488,S16)>=1,\"\",ROW())","v":16},"LOC NAC AEB",null,{"$f":"IF(COUNTIF('PLANNING PRINCIPAL'!$I$467:$X$467,V16)>=1,\"\",ROW())","v":16}]
[{"$f":"'DATA S1'!A17","v":"LOC PELLE SOLOMAT"},{"$f":"IF(COUNTIF('PLANNING PRINCIPAL'!$I$470:$X$470,A17)>=1,\"\",ROW())","v":17},"LOC PELLE SOLOMAT","LOC PELLE SOLOMAT",{"$f":"IF(COUNTIF('PLANNING PRINCIPAL'!$I$473:$X$473,D17)>=1,\"\",ROW())","v":17},"LOC PELLE SOLOMAT","LOC PELLE SOLOMAT",{"$f":"IF(COUNTIF('PLANNING PRINCIPAL'!$I$476:$X$476,G17)>=1,\"\",ROW())","v":17},"LOC PELLE SOLOMAT","LOC PELLE SOLOMAT",{"$f":"IF(COUNTIF('PLANNING PRINCIPAL'!$I$479:$X$479,J17)>=1,\"\",ROW())","v":17},"LOC PELLE SOLOMAT","LOC PELLE SOLOMAT",{"$f":"IF(COUNTIF('PLANNING PRINCIPAL'!$I$482:$X$482,M17)>=1,\"\",ROW())","v":17},"LOC PELLE SOLOMAT","LOC PELLE SOLOMAT",{"$f":"IF(COUNTIF('PLANNING PRINCIPAL'!$I$485:$X$485,P17)>=1,\"\",ROW())","v":17},"LOC PELLE SOLOMAT","LOC PELLE SOLOMAT",{"$f":"IF(COUNTIF('PLANNING PRINCIPAL'!$I$488:$X$488,S17)>=1,\"\",ROW())","v":17},"LOC PELLE SOLOMAT",null,{"$f":"IF(COUNTIF('PLANNING PRINCIPAL'!$I$467:$X$467,V17)>=1,\"\",ROW())","v":17}]
[{"$f":"'DATA S1'!A18","v":"LOC PELLE AEB"},{"$f":"IF(COUNTIF('PLANNING PRINCIPAL'!$I$470:$X$470,A18)>=1,\"\",ROW())","v":18},"LOC PELLE AEB","LOC PELLE AEB",{"$f":"IF(COUNTIF('PLANNING PRINCIPAL'!$I$473:$X$473,D18)>=1,\"\",ROW())","v":18},"LOC PELLE AEB","LOC PELLE AEB",{"$f":"IF(COUNTIF('PLANNING PRINCIPAL'!$I$476:$X$476,G18)>=1,\"\",ROW())","v":18},"LOC PELLE AEB","LOC PELLE AEB",{"$f":"IF(COUNTIF('PLANNING PRINCIPAL'!$I$479:$X$479,J18)>=1,\"\",ROW())","v":18},"LOC PELLE AEB","LOC PELLE AEB",{"$f":"IF(COUNTIF('PLANNING PRINCIPAL'!$I$482:$X$482,M18)>=1,\"\",ROW())","v":18},"LOC PELLE AEB","LOC PELLE AEB",{"$f":"IF(COUNTIF('PLANNING PRINCIPAL'!$I$485:$X$485,P18)>=1,\"\",ROW())","v":18},"LOC PELLE AEB","LOC PELLE AEB",{"$f":"IF(COUNTIF('PLANNING PRINCIPAL'!$I$488:$X$488,S18)>=1,\"\",ROW())","v":18},"LOC PELLE AEB",null,{"$f":"IF(COUNTIF('PLANNING PRINCIPAL'!$I$467:$X$467,V18)>=1,\"\",ROW())","v":18}]
[{"$f":"'DATA S1'!A19","v":"LOC PELLE INTERLOC"},{"$f":"IF(COUNTIF('PLANNING PRINCIPAL'!$I$470:$X$470,A19)>=1,\"\",ROW())","v":19},"LOC PELLE INTERLOC","LOC PELLE INTERLOC",{"$f":"IF(COUNTIF('PLANNING PRINCIPAL'!$I$473:$X$473,D19)>=1,\"\",ROW())","v":19},"LOC PELLE INTERLOC","LOC PELLE INTERLOC",{"$f":"IF(COUNTIF('PLANNING PRINCIPAL'!$I$476:$X$476,G19)>=1,\"\",ROW())","v":19},"LOC PELLE INTERLOC","LOC PELLE INTERLOC",{"$f":"IF(COUNTIF('PLANNING PRINCIPAL'!$I$479:$X$479,J19)>=1,\"\",ROW())","v":19},"LOC PELLE INTERLOC","LOC PELLE INTERLOC",{"$f":"IF(COUNTIF('PLANNING PRINCIPAL'!$I$482:$X$482,M19)>=1,\"\",ROW())","v":19},"LOC PELLE INTERLOC","LOC PELLE INTERLOC",{"$f":"IF(COUNTIF('PLANNING PRINCIPAL'!$I$485:$X$485,P19)>=1,\"\",ROW())","v":19},"LOC PELLE INTERLOC","LOC PELLE INTERLOC",{"$f":"IF(COUNTIF('PLANNING PRINCIPAL'!$I$488:$X$488,S19)>=1,\"\",ROW())","v":19},"LOC PELLE INTERLOC",null,{"$f":"IF(COUNTIF('PLANNING PRINCIPAL'!$I$467:$X$467,V19)>=1,\"\",ROW())","v":19}]
[{"$f":"'DATA S1'!A20","v":"LOC PELLE KILOUTOU"},{"$f":"IF(COUNTIF('PLANNING PRINCIPAL'!$I$470:$X$470,A20)>=1,\"\",ROW())","v":20},"LOC PELLE KILOUTOU","LOC PELLE KILOUTOU",{"$f":"IF(COUNTIF('PLANNING PRINCIPAL'!$I$473:$X$473,D20)>=1,\"\",ROW())","v":20},"LOC PELLE KILOUTOU","LOC PELLE KILOUTOU",{"$f":"IF(COUNTIF('PLANNING PRINCIPAL'!$I$476:$X$476,G20)>=1,\"\",ROW())","v":20},"LOC PELLE KILOUTOU","LOC PELLE KILOUTOU",{"$f":"IF(COUNTIF('PLANNING PRINCIPAL'!$I$479:$X$479,J20)>=1,\"\",ROW())","v":20},"LOC PELLE KILOUTOU","LOC PELLE KILOUTOU",{"$f":"IF(COUNTIF('PLANNING PRINCIPAL'!$I$482:$X$482,M20)>=1,\"\",ROW())","v":20},"LOC PELLE KILOUTOU","LOC PELLE KILOUTOU",{"$f":"IF(COUNTIF('PLANNING PRINCIPAL'!$I$485:$X$485,P20)>=1,\"\",ROW())","v":20},"LOC PELLE KILOUTOU","LOC PELLE KILOUTOU",{"$f":"IF(COUNTIF('PLANNING PRINCIPAL'!$I$488:$X$488,S20)>=1,\"\",ROW())","v":20},"LOC PELLE KILOUTOU",null,{"$f":"IF(COUNTIF('PLANNING PRINCIPAL'!$I$467:$X$467,V20)>=1,\"\",ROW())","v":20}]
[null,{"$f":"IF(COUNTIF('PLANNING PRINCIPAL'!$I$470:$X$470,A21)>=1,\"\",ROW())","v":21},null,null,{"$f":"IF(COUNTIF('PLANNING PRINCIPAL'!$I$473:$X$473,D21)>=1,\"\",ROW())","v":21},null,null,{"$f":"IF(COUNTIF('PLANNING PRINCIPAL'!$I$476:$X$476,G21)>=1,\"\",ROW())","v":21},null,null,{"$f":"IF(COUNTIF('PLANNING PRINCIPAL'!$I$479:$X$479,J21)>=1,\"\",ROW())","v":21},null,null,{"$f":"IF(COUNTIF('PLANNING PRINCIPAL'!$I$482:$X$482,M21)>=1,\"\",ROW())","v":21},null,null,{"$f":"IF(COUNTIF('PLANNING PRINCIPAL'!$I$485:$X$485,P21)>=1,\"\",ROW())","v":21},null,null,{"$f":"IF(COUNTIF('PLANNING PRINCIPAL'!$I$488:$X$488,S21)>=1,\"\",ROW())","v":21},null,null,{"$f":"IF(COUNTIF('PLANNING PRINCIPAL'!$I$467:$X$467,V21)>=1,\"\",ROW())","v":21}]
[null,{"$f":"IF(COUNTIF('PLANNING PRINCIPAL'!$I$470:$X$470,A22)>=1,\"\",ROW())","v":22},null,null,{"$f":"IF(COUNTIF('PLANNING PRINCIPAL'!$I$473:$X$473,D22)>=1,\"\",ROW())","v":22},null,null,{"$f":"IF(COUNTIF('PLANNING PRINCIPAL'!$I$476:$X$476,G22)>=1,\"\",ROW())","v":22},null,null,{"$f":"IF(COUNTIF('PLANNING PRINCIPAL'!$I$479:$X$479,J22)>=1,\"\",ROW())","v":22},null,null,{"$f":"IF(COUNTIF('PLANNING PRINCIPAL'!$I$482:$X$482,M22)>=1,\"\",ROW())","v":22},null,null,{"$f":"IF(COUNTIF('PLANNING PRINCIPAL'!$I$485:$X$485,P22)>=1,\"\",ROW())","v":22},null,null,{"$f":"IF(COUNTIF('PLANNING PRINCIPAL'!$I$488:$X$488,S22)>=1,\"\",ROW())","v":22},null,null,{"$f":"IF(COUNTIF('PLANNING PRINCIPAL'!$I$467:$X$467,V22)>=1,\"\",ROW())","v":22}]
[null,{"$f":"IF(COUNTIF('PLANNING PRINCIPAL'!$I$470:$X$470,A23)>=1,\"\",ROW())","v":23},null,null,{"$f":"IF(COUNTIF('PLANNING PRINCIPAL'!$I$473:$X$473,D23)>=1,\"\",ROW())","v":23},null,null,{"$f":"IF(COUNTIF('PLANNING PRINCIPAL'!$I$476:$X$476,G23)>=1,\"\",ROW())","v":23},null,null,{"$f":"IF(COUNTIF('PLANNING PRINCIPAL'!$I$479:$X$479,J23)>=1,\"\",ROW())","v":23},null,null,{"$f":"IF(COUNTIF('PLANNING PRINCIPAL'!$I$482:$X$482,M23)>=1,\"\",ROW())","v":23},null,null,{"$f":"IF(COUNTIF('PLANNING PRINCIPAL'!$I$485:$X$485,P23)>=1,\"\",ROW())","v":23},null,null,{"$f":"IF(COUNTIF('PLANNING PRINCIPAL'!$I$488:$X$488,S23)>=1,\"\",ROW())","v":23},null,null,{"$f":"IF(COUNTIF('PLANNING PRINCIPAL'!$I$467:$X$467,V23)>=1,\"\",ROW())","v":23}]
[null,{"$f":"IF(COUNTIF('PLANNING PRINCIPAL'!$I$470:$X$470,A24)>=1,\"\",ROW())","v":24},null,null,{"$f":"IF(COUNTIF('PLANNING PRINCIPAL'!$I$473:$X$473,D24)>=1,\"\",ROW())","v":24},null,null,{"$f":"IF(COUNTIF('PLANNING PRINCIPAL'!$I$476:$X$476,G24)>=1,\"\",ROW())","v":24},null,null,{"$f":"IF(COUNTIF('PLANNING PRINCIPAL'!$I$479:$X$479,J24)>=1,\"\",ROW())","v":24},null,null,{"$f":"IF(COUNTIF('PLANNING PRINCIPAL'!$I$482:$X$482,M24)>=1,\"\",ROW())","v":24},null,null,{"$f":"IF(COUNTIF('PLANNING PRINCIPAL'!$I$485:$X$485,P24)>=1,\"\",ROW())","v":24},null,null,{"$f":"IF(COUNTIF('PLANNING PRINCIPAL'!$I$488:$X$488,S24)>=1,\"\",ROW())","v":24},null,null,{"$f":"IF(COUNTIF('PLANNING PRINCIPAL'!$I$467:$X$467,V24)>=1,\"\",ROW())","v":24}]
[null,{"$f":"IF(COUNTIF('PLANNING PRINCIPAL'!$I$470:$X$470,A25)>=1,\"\",ROW())","v":25},null,null,{"$f":"IF(COUNTIF('PLANNING PRINCIPAL'!$I$473:$X$473,D25)>=1,\"\",ROW())","v":25},null,null,{"$f":"IF(COUNTIF('PLANNING PRINCIPAL'!$I$476:$X$476,G25)>=1,\"\",ROW())","v":25},null,null,{"$f":"IF(COUNTIF('PLANNING PRINCIPAL'!$I$479:$X$479,J25)>=1,\"\",ROW())","v":25},null,null,{"$f":"IF(COUNTIF('PLANNING PRINCIPAL'!$I$482:$X$482,M25)>=1,\"\",ROW())","v":25},null,null,{"$f":"IF(COUNTIF('PLANNING PRINCIPAL'!$I$485:$X$485,P25)>=1,\"\",ROW())","v":25},null,null,{"$f":"IF(COUNTIF('PLANNING PRINCIPAL'!$I$488:$X$488,S25)>=1,\"\",ROW())","v":25},null,null,{"$f":"IF(COUNTIF('PLANNING PRINCIPAL'!$I$467:$X$467,V25)>=1,\"\",ROW())","v":25}]
[null,{"$f":"IF(COUNTIF('PLANNING PRINCIPAL'!$I$470:$X$470,A26)>=1,\"\",ROW())","v":26},null,null,{"$f":"IF(COUNTIF('PLANNING PRINCIPAL'!$I$473:$X$473,D26)>=1,\"\",ROW())","v":26},null,null,{"$f":"IF(COUNTIF('PLANNING PRINCIPAL'!$I$476:$X$476,G26)>=1,\"\",ROW())","v":26},null,null,{"$f":"IF(COUNTIF('PLANNING PRINCIPAL'!$I$479:$X$479,J26)>=1,\"\",ROW())","v":26},null,null,{"$f":"IF(COUNTIF('PLANNING PRINCIPAL'!$I$482:$X$482,M26)>=1,\"\",ROW())","v":26},null,null,{"$f":"IF(COUNTIF('PLANNING PRINCIPAL'!$I$485:$X$485,P26)>=1,\"\",ROW())","v":26},null,null,{"$f":"IF(COUNTIF('PLANNING PRINCIPAL'!$I$488:$X$488,S26)>=1,\"\",ROW())","v":26},null,null,{"$f":"IF(COUNTIF('PLANNING PRINCIPAL'!$I$467:$X$467,V26)>=1,\"\",ROW())","v":26}]
[null,{"$f":"IF(COUNTIF('PLANNING PRINCIPAL'!$I$470:$X$470,A27)>=1,\"\",ROW())","v":27},null,null,{"$f":"IF(COUNTIF('PLANNING PRINCIPAL'!$I$473:$X$473,D27)>=1,\"\",ROW())","v":27},null,null,{"$f":"IF(COUNTIF('PLANNING PRINCIPAL'!$I$476:$X$476,G27)>=1,\"\",ROW())","v":27},null,null,{"$f":"IF(COUNTIF('PLANNING PRINCIPAL'!$I$479:$X$479,J27)>=1,\"\",ROW())","v":27},null,null,{"$f":"IF(COUNTIF('PLANNING PRINCIPAL'!$I$482:$X$482,M27)>=1,\"\",ROW())","v":27},null,null,{"$f":"IF(COUNTIF('PLANNING PRINCIPAL'!$I$485:$X$485,P27)>=1,\"\",ROW())","v":27},null,null,{"$f":"IF(COUNTIF('PLANNING PRINCIPAL'!$I$488:$X$488,S27)>=1,\"\",ROW())","v":27},null,null,{"$f":"IF(COUNTIF('PLANNING PRINCIPAL'!$I$467:$X$467,V27)>=1,\"\",ROW())","v":27}]
[null,{"$f":"IF(COUNTIF('PLANNING PRINCIPAL'!$I$470:$X$470,A28)>=1,\"\",ROW())","v":28},null,null,{"$f":"IF(COUNTIF('PLANNING PRINCIPAL'!$I$473:$X$473,D28)>=1,\"\",ROW())","v":28},null,null,{"$f":"IF(COUNTIF('PLANNING PRINCIPAL'!$I$476:$X$476,G28)>=1,\"\",ROW())","v":28},null,null,{"$f":"IF(COUNTIF('PLANNING PRINCIPAL'!$I$479:$X$479,J28)>=1,\"\",ROW())","v":28},null,null,{"$f":"IF(COUNTIF('PLANNING PRINCIPAL'!$I$482:$X$482,M28)>=1,\"\",ROW())","v":28},null,null,{"$f":"IF(COUNTIF('PLANNING PRINCIPAL'!$I$485:$X$485,P28)>=1,\"\",ROW())","v":28},null,null,{"$f":"IF(COUNTIF('PLANNING PRINCIPAL'!$I$488:$X$488,S28)>=1,\"\",ROW())","v":28},null,null,{"$f":"IF(COUNTIF('PLANNING PRINCIPAL'!$I$467:$X$467,V28)>=1,\"\",ROW())","v":28}]
[null,{"$f":"IF(COUNTIF('PLANNING PRINCIPAL'!$I$470:$X$470,A29)>=1,\"\",ROW())","v":29},null,null,{"$f":"IF(COUNTIF('PLANNING PRINCIPAL'!$I$473:$X$473,D29)>=1,\"\",ROW())","v":29},null,null,{"$f":"IF(COUNTIF('PLANNING PRINCIPAL'!$I$476:$X$476,G29)>=1,\"\",ROW())","v":29},null,null,{"$f":"IF(COUNTIF('PLANNING PRINCIPAL'!$I$479:$X$479,J29)>=1,\"\",ROW())","v":29},null,null,{"$f":"IF(COUNTIF('PLANNING PRINCIPAL'!$I$482:$X$482,M29)>=1,\"\",ROW())","v":29},null,null,{"$f":"IF(COUNTIF('PLANNING PRINCIPAL'!$I$485:$X$485,P29)>=1,\"\",ROW())","v":29},null,null,{"$f":"IF(COUNTIF('PLANNING PRINCIPAL'!$I$488:$X$488,S29)>=1,\"\",ROW())","v":29},null,null,{"$f":"IF(COUNTIF('PLANNING PRINCIPAL'!$I$467:$X$467,V29)>=1,\"\",ROW())","v":29}]
[null,{"$f":"IF(COUNTIF('PLANNING PRINCIPAL'!$I$470:$X$470,A30)>=1,\"\",ROW())","v":30},null,null,{"$f":"IF(COUNTIF('PLANNING PRINCIPAL'!$I$473:$X$473,D30)>=1,\"\",ROW())","v":30},null,null,{"$f":"IF(COUNTIF('PLANNING PRINCIPAL'!$I$476:$X$476,G30)>=1,\"\",ROW())","v":30},null,null,{"$f":"IF(COUNTIF('PLANNING PRINCIPAL'!$I$479:$X$479,J30)>=1,\"\",ROW())","v":30},null,null,{"$f":"IF(COUNTIF('PLANNING PRINCIPAL'!$I$482:$X$482,M30)>=1,\"\",ROW())","v":30},null,null,{"$f":"IF(COUNTIF('PLANNING PRINCIPAL'!$I$485:$X$485,P30)>=1,\"\",ROW())","v":30},null,null,{"$f":"IF(COUNTIF('PLANNING PRINCIPAL'!$I$488:$X$488,S30)>=1,\"\",ROW())","v":30},null,null,{"$f":"IF(COUNTIF('PLANNING PRINCIPAL'!$I$467:$X$467,V30)>=1,\"\",ROW())","v":30}]
[null,{"$f":"IF(COUNTIF('PLANNING PRINCIPAL'!$I$470:$X$470,A31)>=1,\"\",ROW())","v":31},null,null,{"$f":"IF(COUNTIF('PLANNING PRINCIPAL'!$I$473:$X$473,D31)>=1,\"\",ROW())","v":31},null,null,{"$f":"IF(COUNTIF('PLANNING PRINCIPAL'!$I$476:$X$476,G31)>=1,\"\",ROW())","v":31},null,null,{"$f":"IF(COUNTIF('PLANNING PRINCIPAL'!$I$479:$X$479,J31)>=1,\"\",ROW())","v":31},null,null,{"$f":"IF(COUNTIF('PLANNING PRINCIPAL'!$I$482:$X$482,M31)>=1,\"\",ROW())","v":31},null,null,{"$f":"IF(COUNTIF('PLANNING PRINCIPAL'!$I$485:$X$485,P31)>=1,\"\",ROW())","v":31},null,null,{"$f":"IF(COUNTIF('PLANNING PRINCIPAL'!$I$488:$X$488,S31)>=1,\"\",ROW())","v":31},null,null,{"$f":"IF(COUNTIF('PLANNING PRINCIPAL'!$I$467:$X$467,V31)>=1,\"\",ROW())","v":31}]
[null,{"$f":"IF(COUNTIF('PLANNING PRINCIPAL'!$I$470:$X$470,A32)>=1,\"\",ROW())","v":32},null,null,{"$f":"IF(COUNTIF('PLANNING PRINCIPAL'!$I$473:$X$473,D32)>=1,\"\",ROW())","v":32},null,null,{"$f":"IF(COUNTIF('PLANNING PRINCIPAL'!$I$476:$X$476,G32)>=1,\"\",ROW())","v":32},null,null,{"$f":"IF(COUNTIF('PLANNING PRINCIPAL'!$I$479:$X$479,J32)>=1,\"\",ROW())","v":32},null,null,{"$f":"IF(COUNTIF('PLANNING PRINCIPAL'!$I$482:$X$482,M32)>=1,\"\",ROW())","v":32},null,null,{"$f":"IF(COUNTIF('PLANNING PRINCIPAL'!$I$485:$X$485,P32)>=1,\"\",ROW())","v":32},null,null,{"$f":"IF(COUNTIF('PLANNING PRINCIPAL'!$I$488:$X$488,S32)>=1,\"\",ROW())","v":32},null,null,{"$f":"IF(COUNTIF('PLANNING PRINCIPAL'!$I$467:$X$467,V32)>=1,\"\",ROW())","v":32}]
[null,{"$f":"IF(COUNTIF('PLANNING PRINCIPAL'!$I$470:$X$470,A33)>=1,\"\",ROW())","v":33},null,null,{"$f":"IF(COUNTIF('PLANNING PRINCIPAL'!$I$473:$X$473,D33)>=1,\"\",ROW())","v":33},null,null,{"$f":"IF(COUNTIF('PLANNING PRINCIPAL'!$I$476:$X$476,G33)>=1,\"\",ROW())","v":33},null,null,{"$f":"IF(COUNTIF('PLANNING PRINCIPAL'!$I$479:$X$479,J33)>=1,\"\",ROW())","v":33},null,null,{"$f":"IF(COUNTIF('PLANNING PRINCIPAL'!$I$482:$X$482,M33)>=1,\"\",ROW())","v":33},null,null,{"$f":"IF(COUNTIF('PLANNING PRINCIPAL'!$I$485:$X$485,P33)>=1,\"\",ROW())","v":33},null,null,{"$f":"IF(COUNTIF('PLANNING PRINCIPAL'!$I$488:$X$488,S33)>=1,\"\",ROW())","v":33},null,null,{"$f":"IF(COUNTIF('PLANNING PRINCIPAL'!$I$467:$X$467,V33)>=1,\"\",ROW())","v":33}]
[null,{"$f":"IF(COUNTIF('PLANNING PRINCIPAL'!$I$470:$X$470,A34)>=1,\"\",ROW())","v":34},null,null,{"$f":"IF(COUNTIF('PLANNING PRINCIPAL'!$I$473:$X$473,D34)>=1,\"\",ROW())","v":34},null,null,{"$f":"IF(COUNTIF('PLANNING PRINCIPAL'!$I$476:$X$476,G34)>=1,\"\",ROW())","v":34},null,null,{"$f":"IF(COUNTIF('PLANNING PRINCIPAL'!$I$479:$X$479,J34)>=1,\"\",ROW())","v":34},null,null,{"$f":"IF(COUNTIF('PLANNING PRINCIPAL'!$I$482:$X$482,M34)>=1,\"\",ROW())","v":34},null,null,{"$f":"IF(COUNTIF('PLANNING PRINCIPAL'!$I$485:$X$485,P34)>=1,\"\",ROW())","v":34},null,null,{"$f":"IF(COUNTIF('PLANNING PRINCIPAL'!$I$488:$X$488,S34)>=1,\"\",ROW())","v":34},null,null,{"$f":"IF(COUNTIF('PLANNING PRINCIPAL'!$I$467:$X$467,V34)>=1,\"\",ROW())","v":34}]
["LUNDI",null,null,"MARDI",null,null,"MERCREDI",null,null,"JEUDI",null,null,"VENDREDI",null,null,"SAMEDI",null,null,"DIMANCHE",null,null,"ASTREINTE"]

{"sheet":"DATA S22","index":23,"n_rows":35,"n_cols":24,"rows_kept":35,"cut":false,"hidden":false,"merged":[[34,18,34,20],[34,21,34,23],[34,0,34,2],[34,3,34,5],[34,6,34,8],[34,9,34,11],[34,12,34,14],[34,15,34,17]]}
[{"$f":"'DATA S1'!A1","v":"MAS XX "},{"$f":"IF(COUNTIF('PLANNING PRINCIPAL'!$I$493:$X$493,A1)>=1,\"\",ROW())","v":1},{"$f":"IF(ROW(A1)-ROW(A$1)+1>COUNT(B:B),\"\", INDEX(A:A,SMALL(B:B,1+ROW(A1)-ROW(A$1))))","v":"MAS XX "},{"$f":"A1","v":"MAS XX "},{"$f":"IF(COUNTIF('PLANNING PRINCIPAL'!$I$496:$X$496,D1)>=1,\"\",ROW())","v":1},{"$f":"IF(ROW(D1)-ROW(D$1)+1>COUNT(E:E),\"\", INDEX(D:D,SMALL(E:E,1+ROW(D1)-ROW(D$1))))","v":"MAS XX "},{"$f":"A1","v":"MAS XX "},{"$f":"IF(COUNTIF('PLANNING PRINCIPAL'!$I$499:$X$499,G1)>=1,\"\",ROW())","v":1},{"$f":"IF(ROW(G1)-ROW(G$1)+1>COUNT(H:H),\"\", INDEX(G:G,SMALL(H:H,1+ROW(G1)-ROW(G$1))))","v":"MAS XX "},{"$f":"A1","v":"MAS XX "},{"$f":"IF(COUNTIF('PLANNING PRINCIPAL'!$I$502:$X$502,J1)>=1,\"\",ROW())","v":1},{"$f":"IF(ROW(J1)-ROW(J$1)+1>COUNT(K:K),\"\", INDEX(J:J,SMALL(K:K,1+ROW(J1)-ROW(J$1))))","v":"MAS XX "},{"$f":"A1","v":"MAS XX "},{"$f":"IF(COUNTIF('PLANNING PRINCIPAL'!$I$505:$X$505,M1)>=1,\"\",ROW())","v":1},{"$f":"IF(ROW(M1)-ROW(M$1)+1>COUNT(N:N),\"\", INDEX(M:M,SMALL(N:N,1+ROW(M1)-ROW(M$1))))","v":"MAS XX "},{"$f":"A1","v":"MAS XX "},{"$f":"IF(COUNTIF('PLANNING PRINCIPAL'!$I$508:$X$508,P1)>=1,\"\",ROW())","v":1},{"$f":"IF(ROW(P1)-ROW(P$1)+1>COUNT(Q:Q),\"\", INDEX(P:P,SMALL(Q:Q,1+ROW(P1)-ROW(P$1))))","v":"MAS XX "},{"$f":"A1","v":"MAS XX "},{"$f":"IF(COUNTIF('PLANNING PRINCIPAL'!$I$511:$X$511,S1)>=1,\"\",ROW())","v":1},{"$f":"IF(ROW(S1)-ROW(S$1)+1>COUNT(T:T),\"\", INDEX(S:S,SMALL(T:T,1+ROW(S1)-ROW(S$1))))","v":"MAS XX "},{"$f":"'DATA S1'!V1","v":"ASTREINTE SLT"},{"$f":"IF(COUNTIF('PLANNING PRINCIPAL'!$I$513:$X$513,V1)>=1,\"\",ROW())","v":1},{"$f":"IF(ROW(V1)-ROW(V$1)+1>COUNT(W:W),\"\", INDEX(V:V,SMALL(W:W,1+ROW(V1)-ROW(V$1))))","v":"ASTREINTE SLT"}]
[{"$f":"'DATA S1'!A2","v":"MAS YY "},{"$f":"IF(COUNTIF('PLANNING PRINCIPAL'!$I$493:$X$493,A2)>=1,\"\",ROW())","v":2},{"$f":"IF(ROW(A2)-ROW(A$1)+1>COUNT(B:B),\"\", INDEX(A:A,SMALL(B:B,1+ROW(A2)-ROW(A$1))))","v":"MAS YY "},"MAS YY ",{"$f":"IF(COUNTIF('PLANNING PRINCIPAL'!$I$496:$X$496,D2)>=1,\"\",ROW())","v":2},{"$f":"IF(ROW(D2)-ROW(D$1)+1>COUNT(E:E),\"\", INDEX(D:D,SMALL(E:E,1+ROW(D2)-ROW(D$1))))","v":"MAS YY "},{"$f":"A2","v":"MAS YY "},{"$f":"IF(COUNTIF('PLANNING PRINCIPAL'!$I$499:$X$499,G2)>=1,\"\",ROW())","v":2},{"$f":"IF(ROW(G2)-ROW(G$1)+1>COUNT(H:H),\"\", INDEX(G:G,SMALL(H:H,1+ROW(G2)-ROW(G$1))))","v":"MAS YY "},{"$f":"A2","v":"MAS YY "},{"$f":"IF(COUNTIF('PLANNING PRINCIPAL'!$I$502:$X$502,J2)>=1,\"\",ROW())","v":2},{"$f":"IF(ROW(J2)-ROW(J$1)+1>COUNT(K:K),\"\", INDEX(J:J,SMALL(K:K,1+ROW(J2)-ROW(J$1))))","v":"MAS YY "},{"$f":"A2","v":"MAS YY "},{"$f":"IF(COUNTIF('PLANNING PRINCIPAL'!$I$505:$X$505,M2)>=1,\"\",ROW())","v":2},{"$f":"IF(ROW(M2)-ROW(M$1)+1>COUNT(N:N),\"\", INDEX(M:M,SMALL(N:N,1+ROW(M2)-ROW(M$1))))","v":"MAS YY "},{"$f":"A2","v":"MAS YY "},{"$f":"IF(COUNTIF('PLANNING PRINCIPAL'!$I$508:$X$508,P2)>=1,\"\",ROW())","v":2},{"$f":"IF(ROW(P2)-ROW(P$1)+1>COUNT(Q:Q),\"\", INDEX(P:P,SMALL(Q:Q,1+ROW(P2)-ROW(P$1))))","v":"MAS YY "},{"$f":"A2","v":"MAS YY "},{"$f":"IF(COUNTIF('PLANNING PRINCIPAL'!$I$511:$X$511,S2)>=1,\"\",ROW())","v":2},{"$f":"IF(ROW(S2)-ROW(S$1)+1>COUNT(T:T),\"\", INDEX(S:S,SMALL(T:T,1+ROW(S2)-ROW(S$1))))","v":"MAS YY "},{"$f":"'DATA S1'!V2","v":"ASTREINTE EP"},{"$f":"IF(COUNTIF('PLANNING PRINCIPAL'!$I$513:$X$513,V2)>=1,\"\",ROW())","v":2},{"$f":"IF(ROW(V2)-ROW(V$1)+1>COUNT(W:W),\"\", INDEX(V:V,SMALL(W:W,1+ROW(V2)-ROW(V$1))))","v":"ASTREINTE EP"}]
[{"$f":"'DATA S1'!A3","v":"MAS VQ "},{"$f":"IF(COUNTIF('PLANNING PRINCIPAL'!$I$493:$X$493,A3)>=1,\"\",ROW())","v":3},"MAS VQ ","MAS VQ ",{"$f":"IF(COUNTIF('PLANNING PRINCIPAL'!$I$496:$X$496,D3)>=1,\"\",ROW())","v":3},"MAS VQ ","MAS VQ ",{"$f":"IF(COUNTIF('PLANNING PRINCIPAL'!$I$499:$X$499,G3)>=1,\"\",ROW())","v":3},"MAS VQ ","MAS VQ ",{"$f":"IF(COUNTIF('PLANNING PRINCIPAL'!$I$502:$X$502,J3)>=1,\"\",ROW())","v":3},"MAS VQ ","MAS VQ ",{"$f":"IF(COUNTIF('PLANNING PRINCIPAL'!$I$505:$X$505,M3)>=1,\"\",ROW())","v":3},"MAS VQ ","MAS VQ ",{"$f":"IF(COUNTIF('PLANNING PRINCIPAL'!$I$508:$X$508,P3)>=1,\"\",ROW())","v":3},"MAS VQ ","MAS VQ ",{"$f":"IF(COUNTIF('PLANNING PRINCIPAL'!$I$511:$X$511,S3)>=1,\"\",ROW())","v":3},"MAS VQ ",{"$f":"'DATA S1'!V3","v":"V NOC CHARTRES"},{"$f":"IF(COUNTIF('PLANNING PRINCIPAL'!$I$513:$X$513,V3)>=1,\"\",ROW())","v":3},"V NOC CHARTRES"]
[{"$f":"'DATA S1'!A4","v":"MAS PL "},{"$f":"IF(COUNTIF('PLANNING PRINCIPAL'!$I$493:$X$493,A4)>=1,\"\",ROW())","v":4},"MAS PL ","MAS PL ",{"$f":"IF(COUNTIF('PLANNING PRINCIPAL'!$I$496:$X$496,D4)>=1,\"\",ROW())","v":4},"MAS PL ","MAS PL ",{"$f":"IF(COUNTIF('PLANNING PRINCIPAL'!$I$499:$X$499,G4)>=1,\"\",ROW())","v":4},"MAS PL ","MAS PL ",{"$f":"IF(COUNTIF('PLANNING PRINCIPAL'!$I$502:$X$502,J4)>=1,\"\",ROW())","v":4},"MAS PL ","MAS PL ",{"$f":"IF(COUNTIF('PLANNING PRINCIPAL'!$I$505:$X$505,M4)>=1,\"\",ROW())","v":4},"MAS PL ","MAS PL ",{"$f":"IF(COUNTIF('PLANNING PRINCIPAL'!$I$508:$X$508,P4)>=1,\"\",ROW())","v":4},"MAS PL ","MAS PL ",{"$f":"IF(COUNTIF('PLANNING PRINCIPAL'!$I$511:$X$511,S4)>=1,\"\",ROW())","v":4},"MAS PL ",{"$f":"'DATA S1'!V4","v":"V NOC EPERNON"},{"$f":"IF(COUNTIF('PLANNING PRINCIPAL'!$I$513:$X$513,V4)>=1,\"\",ROW())","v":4},"V NOC EPERNON"]
[{"$f":"'DATA S1'!A5","v":"BEN VL PT "},{"$f":"IF(COUNTIF('PLANNING PRINCIPAL'!$I$493:$X$493,A5)>=1,\"\",ROW())","v":5},"BEN VL PT ","BEN VL PT ",{"$f":"IF(COUNTIF('PLANNING PRINCIPAL'!$I$496:$X$496,D5)>=1,\"\",ROW())","v":5},"BEN VL PT ","BEN VL PT ",{"$f":"IF(COUNTIF('PLANNING PRINCIPAL'!$I$499:$X$499,G5)>=1,\"\",ROW())","v":5},"BEN VL PT ","BEN VL PT ",{"$f":"IF(COUNTIF('PLANNING PRINCIPAL'!$I$502:$X$502,J5)>=1,\"\",ROW())","v":5},"BEN VL PT ","BEN VL PT ",{"$f":"IF(COUNTIF('PLANNING PRINCIPAL'!$I$505:$X$505,M5)>=1,\"\",ROW())","v":5},"BEN VL PT ","BEN VL PT ",{"$f":"IF(COUNTIF('PLANNING PRINCIPAL'!$I$508:$X$508,P5)>=1,\"\",ROW())","v":5},"BEN VL PT ","BEN VL PT ",{"$f":"IF(COUNTIF('PLANNING PRINCIPAL'!$I$511:$X$511,S5)>=1,\"\",ROW())","v":5},"BEN VL PT ",{"$f":"'DATA S1'!V5","v":"V NOC HANCHES"},{"$f":"IF(COUNTIF('PLANNING PRINCIPAL'!$I$513:$X$513,V5)>=1,\"\",ROW())","v":5},"V NOC HANCHES"]
[{"$f":"'DATA S1'!A6","v":"BEN 19T "},{"$f":"IF(COUNTIF('PLANNING PRINCIPAL'!$I$493:$X$493,A6)>=1,\"\",ROW())","v":6},"BEN 19T ","BEN 19T ",{"$f":"IF(COUNTIF('PLANNING PRINCIPAL'!$I$496:$X$496,D6)>=1,\"\",ROW())","v":6},"BEN 19T ","BEN 19T ",{"$f":"IF(COUNTIF('PLANNING PRINCIPAL'!$I$499:$X$499,G6)>=1,\"\",ROW())","v":6},"BEN 19T ","BEN 19T ",{"$f":"IF(COUNTIF('PLANNING PRINCIPAL'!$I$502:$X$502,J6)>=1,\"\",ROW())","v":6},"BEN 19T ","BEN 19T ",{"$f":"IF(COUNTIF('PLANNING PRINCIPAL'!$I$505:$X$505,M6)>=1,\"\",ROW())","v":6},"BEN 19T ","BEN 19T ",{"$f":"IF(COUNTIF('PLANNING PRINCIPAL'!$I$508:$X$508,P6)>=1,\"\",ROW())","v":6},"BEN 19T ","BEN 19T ",{"$f":"IF(COUNTIF('PLANNING PRINCIPAL'!$I$511:$X$511,S6)>=1,\"\",ROW())","v":6},"BEN 19T ",{"$f":"'DATA S1'!V6","v":"V NOC MAINTENON"},{"$f":"IF(COUNTIF('PLANNING PRINCIPAL'!$I$513:$X$513,V6)>=1,\"\",ROW())","v":6},"V NOC MAINTENON"]
[{"$f":"'DATA S1'!A7","v":"BEN 13T "},{"$f":"IF(COUNTIF('PLANNING PRINCIPAL'!$I$493:$X$493,A7)>=1,\"\",ROW())","v":7},"BEN 13T ","BEN 13T ",{"$f":"IF(COUNTIF('PLANNING PRINCIPAL'!$I$496:$X$496,D7)>=1,\"\",ROW())","v":7},"BEN 13T ","BEN 13T ",{"$f":"IF(COUNTIF('PLANNING PRINCIPAL'!$I$499:$X$499,G7)>=1,\"\",ROW())","v":7},"BEN 13T ","BEN 13T ",{"$f":"IF(COUNTIF('PLANNING PRINCIPAL'!$I$502:$X$502,J7)>=1,\"\",ROW())","v":7},"BEN 13T ","BEN 13T ",{"$f":"IF(COUNTIF('PLANNING PRINCIPAL'!$I$505:$X$505,M7)>=1,\"\",ROW())","v":7},"BEN 13T ","BEN 13T ",{"$f":"IF(COUNTIF('PLANNING PRINCIPAL'!$I$508:$X$508,P7)>=1,\"\",ROW())","v":7},"BEN 13T ","BEN 13T ",{"$f":"IF(COUNTIF('PLANNING PRINCIPAL'!$I$511:$X$511,S7)>=1,\"\",ROW())","v":7},"BEN 13T ",null,{"$f":"IF(COUNTIF('PLANNING PRINCIPAL'!$I$467:$X$467,V7)>=1,\"\",ROW())","v":7}]
[{"$f":"'DATA S1'!A8","v":"NAC VL 18M "},{"$f":"IF(COUNTIF('PLANNING PRINCIPAL'!$I$493:$X$493,A8)>=1,\"\",ROW())","v":8},"NAC VL 18M ","NAC VL 18M ",{"$f":"IF(COUNTIF('PLANNING PRINCIPAL'!$I$496:$X$496,D8)>=1,\"\",ROW())","v":8},"NAC VL 18M ","NAC VL 18M ",{"$f":"IF(COUNTIF('PLANNING PRINCIPAL'!$I$499:$X$499,G8)>=1,\"\",ROW())","v":8},"NAC VL 18M ","NAC VL 18M ",{"$f":"IF(COUNTIF('PLANNING PRINCIPAL'!$I$502:$X$502,J8)>=1,\"\",ROW())","v":8},"NAC VL 18M ","NAC VL 18M ",{"$f":"IF(COUNTIF('PLANNING PRINCIPAL'!$I$505:$X$505,M8)>=1,\"\",ROW())","v":8},"NAC VL 18M ","NAC VL 18M ",{"$f":"IF(COUNTIF('PLANNING PRINCIPAL'!$I$508:$X$508,P8)>=1,\"\",ROW())","v":8},"NAC VL 18M ","NAC VL 18M ",{"$f":"IF(COUNTIF('PLANNING PRINCIPAL'!$I$511:$X$511,S8)>=1,\"\",ROW())","v":8},"NAC VL 18M ",null,{"$f":"IF(COUNTIF('PLANNING PRINCIPAL'!$I$467:$X$467,V8)>=1,\"\",ROW())","v":8}]
[{"$f":"'DATA S1'!A9","v":"NAC EGIE"},{"$f":"IF(COUNTIF('PLANNING PRINCIPAL'!$I$493:$X$493,A9)>=1,\"\",ROW())","v":9},"NAC EGIE","NAC EGIE",{"$f":"IF(COUNTIF('PLANNING PRINCIPAL'!$I$496:$X$496,D9)>=1,\"\",ROW())","v":9},"NAC EGIE","NAC EGIE",{"$f":"IF(COUNTIF('PLANNING PRINCIPAL'!$I$499:$X$499,G9)>=1,\"\",ROW())","v":9},"NAC EGIE","NAC EGIE",{"$f":"IF(COUNTIF('PLANNING PRINCIPAL'!$I$502:$X$502,J9)>=1,\"\",ROW())","v":9},"NAC EGIE","NAC EGIE",{"$f":"IF(COUNTIF('PLANNING PRINCIPAL'!$I$505:$X$505,M9)>=1,\"\",ROW())","v":9},"NAC EGIE","NAC EGIE",{"$f":"IF(COUNTIF('PLANNING PRINCIPAL'!$I$508:$X$508,P9)>=1,\"\",ROW())","v":9},"NAC EGIE","NAC EGIE",{"$f":"IF(COUNTIF('PLANNING PRINCIPAL'!$I$511:$X$511,S9)>=1,\"\",ROW())","v":9},"NAC EGIE",null,{"$f":"IF(COUNTIF('PLANNING PRINCIPAL'!$I$467:$X$467,V9)>=1,\"\",ROW())","v":9}]
[{"$f":"'DATA S1'!A10","v":"NAC COMI "},{"$f":"IF(COUNTIF('PLANNING PRINCIPAL'!$I$493:$X$493,A10)>=1,\"\",ROW())","v":10},"NAC COMI ","NAC COMI ",{"$f":"IF(COUNTIF('PLANNING PRINCIPAL'!$I$496:$X$496,D10)>=1,\"\",ROW())","v":10},"NAC COMI ","NAC COMI ",{"$f":"IF(COUNTIF('PLANNING PRINCIPAL'!$I$499:$X$499,G10)>=1,\"\",ROW())","v":10},"NAC COMI ","NAC COMI ",{"$f":"IF(COUNTIF('PLANNING PRINCIPAL'!$I$502:$X$502,J10)>=1,\"\",ROW())","v":10},"NAC COMI ","NAC COMI ",{"$f":"IF(COUNTIF('PLANNING PRINCIPAL'!$I$505:$X$505,M10)>=1,\"\",ROW())","v":10},"NAC COMI ","NAC COMI ",{"$f":"IF(COUNTIF('PLANNING PRINCIPAL'!$I$508:$X$508,P10)>=1,\"\",ROW())","v":10},"NAC COMI ","NAC COMI ",{"$f":"IF(COUNTIF('PLANNING PRINCIPAL'!$I$511:$X$511,S10)>=1,\"\",ROW())","v":10},"NAC COMI ",null,{"$f":"IF(COUNTIF('PLANNING PRINCIPAL'!$I$467:$X$467,V10)>=1,\"\",ROW())","v":10}]
[{"$f":"'DATA S1'!A11","v":"#####LOCATION#####"},{"$f":"IF(COUNTIF('PLANNING PRINCIPAL'!$I$493:$X$493,A11)>=1,\"\",ROW())","v":11},"#####LOCATION#####","#####LOCATION#####",{"$f":"IF(COUNTIF('PLANNING PRINCIPAL'!$I$496:$X$496,D11)>=1,\"\",ROW())","v":11},"#####LOCATION#####","#####LOCATION#####",{"$f":"IF(COUNTIF('PLANNING PRINCIPAL'!$I$499:$X$499,G11)>=1,\"\",ROW())","v":11},"#####LOCATION#####","#####LOCATION#####",{"$f":"IF(COUNTIF('PLANNING PRINCIPAL'!$I$502:$X$502,J11)>=1,\"\",ROW())","v":11},"#####LOCATION#####","#####LOCATION#####",{"$f":"IF(COUNTIF('PLANNING PRINCIPAL'!$I$505:$X$505,M11)>=1,\"\",ROW())","v":11},"#####LOCATION#####","#####LOCATION#####",{"$f":"IF(COUNTIF('PLANNING PRINCIPAL'!$I$508:$X$508,P11)>=1,\"\",ROW())","v":11},"#####LOCATION#####","#####LOCATION#####",{"$f":"IF(COUNTIF('PLANNING PRINCIPAL'!$I$511:$X$511,S11)>=1,\"\",ROW())","v":11},"#####LOCATION#####",null,{"$f":"IF(COUNTIF('PLANNING PRINCIPAL'!$I$467:$X$467,V11)>=1,\"\",ROW())","v":11}]
[{"$f":"'DATA S1'!A12","v":"LOC NAC SOLOMAT"},{"$f":"IF(COUNTIF('PLANNING PRINCIPAL'!$I$493:$X$493,A12)>=1,\"\",ROW())","v":12},"LOC NAC SOLOMAT","LOC NAC SOLOMAT",{"$f":"IF(COUNTIF('PLANNING PRINCIPAL'!$I$496:$X$496,D12)>=1,\"\",ROW())","v":12},"LOC NAC SOLOMAT","LOC NAC SOLOMAT",{"$f":"IF(COUNTIF('PLANNING PRINCIPAL'!$I$499:$X$499,G12)>=1,\"\",ROW())","v":12},"LOC NAC SOLOMAT","LOC NAC SOLOMAT",{"$f":"IF(COUNTIF('PLANNING PRINCIPAL'!$I$502:$X$502,J12)>=1,\"\",ROW())","v":12},"LOC NAC SOLOMAT","LOC NAC SOLOMAT",{"$f":"IF(COUNTIF('PLANNING PRINCIPAL'!$I$505:$X$505,M12)>=1,\"\",ROW())","v":12},"LOC NAC SOLOMAT","LOC NAC SOLOMAT",{"$f":"IF(COUNTIF('PLANNING PRINCIPAL'!$I$508:$X$508,P12)>=1,\"\",ROW())","v":12},"LOC NAC SOLOMAT","LOC NAC SOLOMAT",{"$f":"IF(COUNTIF('PLANNING PRINCIPAL'!$I$511:$X$511,S12)>=1,\"\",ROW())","v":12},"LOC NAC SOLOMAT",null,{"$f":"IF(COUNTIF('PLANNING PRINCIPAL'!$I$467:$X$467,V12)>=1,\"\",ROW())","v":12}]
[{"$f":"'DATA S1'!A13","v":"LOC NAC AEB"},{"$f":"IF(COUNTIF('PLANNING PRINCIPAL'!$I$493:$X$493,A13)>=1,\"\",ROW())","v":13},"LOC NAC AEB","LOC NAC AEB",{"$f":"IF(COUNTIF('PLANNING PRINCIPAL'!$I$496:$X$496,D13)>=1,\"\",ROW())","v":13},"LOC NAC AEB","LOC NAC AEB",{"$f":"IF(COUNTIF('PLANNING PRINCIPAL'!$I$499:$X$499,G13)>=1,\"\",ROW())","v":13},"LOC NAC AEB","LOC NAC AEB",{"$f":"IF(COUNTIF('PLANNING PRINCIPAL'!$I$502:$X$502,J13)>=1,\"\",ROW())","v":13},"LOC NAC AEB","LOC NAC AEB",{"$f":"IF(COUNTIF('PLANNING PRINCIPAL'!$I$505:$X$505,M13)>=1,\"\",ROW())","v":13},"LOC NAC AEB","LOC NAC AEB",{"$f":"IF(COUNTIF('PLANNING PRINCIPAL'!$I$508:$X$508,P13)>=1,\"\",ROW())","v":13},"LOC NAC AEB","LOC NAC AEB",{"$f":"IF(COUNTIF('PLANNING PRINCIPAL'!$I$511:$X$511,S13)>=1,\"\",ROW())","v":13},"LOC NAC AEB",null,{"$f":"IF(COUNTIF('PLANNING PRINCIPAL'!$I$467:$X$467,V13)>=1,\"\",ROW())","v":13}]
[{"$f":"'DATA S1'!A14","v":"LOC NAC INTERLOC"},{"$f":"IF(COUNTIF('PLANNING PRINCIPAL'!$I$493:$X$493,A14)>=1,\"\",ROW())","v":14},"LOC NAC INTERLOC","LOC NAC INTERLOC",{"$f":"IF(COUNTIF('PLANNING PRINCIPAL'!$I$496:$X$496,D14)>=1,\"\",ROW())","v":14},"LOC NAC INTERLOC","LOC NAC INTERLOC",{"$f":"IF(COUNTIF('PLANNING PRINCIPAL'!$I$499:$X$499,G14)>=1,\"\",ROW())","v":14},"LOC NAC INTERLOC","LOC NAC INTERLOC",{"$f":"IF(COUNTIF('PLANNING PRINCIPAL'!$I$502:$X$502,J14)>=1,\"\",ROW())","v":14},"LOC NAC INTERLOC","LOC NAC INTERLOC",{"$f":"IF(COUNTIF('PLANNING PRINCIPAL'!$I$505:$X$505,M14)>=1,\"\",ROW())","v":14},"LOC NAC INTERLOC","LOC NAC INTERLOC",{"$f":"IF(COUNTIF('PLANNING PRINCIPAL'!$I$508:$X$508,P14)>=1,\"\",ROW())","v":14},"LOC NAC INTERLOC","LOC NAC INTERLOC",{"$f":"IF(COUNTIF('PLANNING PRINCIPAL'!$I$511:$X$511,S14)>=1,\"\",ROW())","v":14},"LOC NAC INTERLOC",null,{"$f":"IF(COUNTIF('PLANNING PRINCIPAL'!$I$467:$X$467,V14)>=1,\"\",ROW())","v":14}]
[{"$f":"'DATA S1'!A15","v":"LOC NAC KILOUTOU"},{"$f":"IF(COUNTIF('PLANNING PRINCIPAL'!$I$493:$X$493,A15)>=1,\"\",ROW())","v":15},"LOC NAC KILOUTOU","LOC NAC KILOUTOU",{"$f":"IF(COUNTIF('PLANNING PRINCIPAL'!$I$496:$X$496,D15)>=1,\"\",ROW())","v":15},"LOC NAC KILOUTOU","LOC NAC KILOUTOU",{"$f":"IF(COUNTIF('PLANNING PRINCIPAL'!$I$499:$X$499,G15)>=1,\"\",ROW())","v":15},"LOC NAC KILOUTOU","LOC NAC KILOUTOU",{"$f":"IF(COUNTIF('PLANNING PRINCIPAL'!$I$502:$X$502,J15)>=1,\"\",ROW())","v":15},"LOC NAC KILOUTOU","LOC NAC KILOUTOU",{"$f":"IF(COUNTIF('PLANNING PRINCIPAL'!$I$505:$X$505,M15)>=1,\"\",ROW())","v":15},"LOC NAC KILOUTOU","LOC NAC KILOUTOU",{"$f":"IF(COUNTIF('PLANNING PRINCIPAL'!$I$508:$X$508,P15)>=1,\"\",ROW())","v":15},"LOC NAC KILOUTOU","LOC NAC KILOUTOU",{"$f":"IF(COUNTIF('PLANNING PRINCIPAL'!$I$511:$X$511,S15)>=1,\"\",ROW())","v":15},"LOC NAC KILOUTOU",null,{"$f":"IF(COUNTIF('PLANNING PRINCIPAL'!$I$467:$X$467,V15)>=1,\"\",ROW())","v":15}]
[{"$f":"'DATA S1'!A16","v":"LOC NAC AEB"},{"$f":"IF(COUNTIF('PLANNING PRINCIPAL'!$I$493:$X$493,A16)>=1,\"\",ROW())","v":16},"LOC NAC AEB","LOC NAC AEB",{"$f":"IF(COUNTIF('PLANNING PRINCIPAL'!$I$496:$X$496,D16)>=1,\"\",ROW())","v":16},"LOC NAC AEB","LOC NAC AEB",{"$f":"IF(COUNTIF('PLANNING PRINCIPAL'!$I$499:$X$499,G16)>=1,\"\",ROW())","v":16},"LOC NAC AEB","LOC NAC AEB",{"$f":"IF(COUNTIF('PLANNING PRINCIPAL'!$I$502:$X$502,J16)>=1,\"\",ROW())","v":16},"LOC NAC AEB","LOC NAC AEB",{"$f":"IF(COUNTIF('PLANNING PRINCIPAL'!$I$505:$X$505,M16)>=1,\"\",ROW())","v":16},"LOC NAC AEB","LOC NAC AEB",{"$f":"IF(COUNTIF('PLANNING PRINCIPAL'!$I$508:$X$508,P16)>=1,\"\",ROW())","v":16},"LOC NAC AEB","LOC NAC AEB",{"$f":"IF(COUNTIF('PLANNING PRINCIPAL'!$I$511:$X$511,S16)>=1,\"\",ROW())","v":16},"LOC NAC AEB",null,{"$f":"IF(COUNTIF('PLANNING PRINCIPAL'!$I$467:$X$467,V16)>=1,\"\",ROW())","v":16}]
[{"$f":"'DATA S1'!A17","v":"LOC PELLE SOLOMAT"},{"$f":"IF(COUNTIF('PLANNING PRINCIPAL'!$I$493:$X$493,A17)>=1,\"\",ROW())","v":17},"LOC PELLE SOLOMAT","LOC PELLE SOLOMAT",{"$f":"IF(COUNTIF('PLANNING PRINCIPAL'!$I$496:$X$496,D17)>=1,\"\",ROW())","v":17},"LOC PELLE SOLOMAT","LOC PELLE SOLOMAT",{"$f":"IF(COUNTIF('PLANNING PRINCIPAL'!$I$499:$X$499,G17)>=1,\"\",ROW())","v":17},"LOC PELLE SOLOMAT","LOC PELLE SOLOMAT",{"$f":"IF(COUNTIF('PLANNING PRINCIPAL'!$I$502:$X$502,J17)>=1,\"\",ROW())","v":17},"LOC PELLE SOLOMAT","LOC PELLE SOLOMAT",{"$f":"IF(COUNTIF('PLANNING PRINCIPAL'!$I$505:$X$505,M17)>=1,\"\",ROW())","v":17},"LOC PELLE SOLOMAT","LOC PELLE SOLOMAT",{"$f":"IF(COUNTIF('PLANNING PRINCIPAL'!$I$508:$X$508,P17)>=1,\"\",ROW())","v":17},"LOC PELLE SOLOMAT","LOC PELLE SOLOMAT",{"$f":"IF(COUNTIF('PLANNING PRINCIPAL'!$I$511:$X$511,S17)>=1,\"\",ROW())","v":17},"LOC PELLE SOLOMAT",null,{"$f":"IF(COUNTIF('PLANNING PRINCIPAL'!$I$467:$X$467,V17)>=1,\"\",ROW())","v":17}]
[{"$f":"'DATA S1'!A18","v":"LOC PELLE AEB"},{"$f":"IF(COUNTIF('PLANNING PRINCIPAL'!$I$493:$X$493,A18)>=1,\"\",ROW())","v":18},"LOC PELLE AEB","LOC PELLE AEB",{"$f":"IF(COUNTIF('PLANNING PRINCIPAL'!$I$496:$X$496,D18)>=1,\"\",ROW())","v":18},"LOC PELLE AEB","LOC PELLE AEB",{"$f":"IF(COUNTIF('PLANNING PRINCIPAL'!$I$499:$X$499,G18)>=1,\"\",ROW())","v":18},"LOC PELLE AEB","LOC PELLE AEB",{"$f":"IF(COUNTIF('PLANNING PRINCIPAL'!$I$502:$X$502,J18)>=1,\"\",ROW())","v":18},"LOC PELLE AEB","LOC PELLE AEB",{"$f":"IF(COUNTIF('PLANNING PRINCIPAL'!$I$505:$X$505,M18)>=1,\"\",ROW())","v":18},"LOC PELLE AEB","LOC PELLE AEB",{"$f":"IF(COUNTIF('PLANNING PRINCIPAL'!$I$508:$X$508,P18)>=1,\"\",ROW())","v":18},"LOC PELLE AEB","LOC PELLE AEB",{"$f":"IF(COUNTIF('PLANNING PRINCIPAL'!$I$511:$X$511,S18)>=1,\"\",ROW())","v":18},"LOC PELLE AEB",null,{"$f":"IF(COUNTIF('PLANNING PRINCIPAL'!$I$467:$X$467,V18)>=1,\"\",ROW())","v":18}]
[{"$f":"'DATA S1'!A19","v":"LOC PELLE INTERLOC"},{"$f":"IF(COUNTIF('PLANNING PRINCIPAL'!$I$493:$X$493,A19)>=1,\"\",ROW())","v":19},"LOC PELLE INTERLOC","LOC PELLE INTERLOC",{"$f":"IF(COUNTIF('PLANNING PRINCIPAL'!$I$496:$X$496,D19)>=1,\"\",ROW())","v":19},"LOC PELLE INTERLOC","LOC PELLE INTERLOC",{"$f":"IF(COUNTIF('PLANNING PRINCIPAL'!$I$499:$X$499,G19)>=1,\"\",ROW())","v":19},"LOC PELLE INTERLOC","LOC PELLE INTERLOC",{"$f":"IF(COUNTIF('PLANNING PRINCIPAL'!$I$502:$X$502,J19)>=1,\"\",ROW())","v":19},"LOC PELLE INTERLOC","LOC PELLE INTERLOC",{"$f":"IF(COUNTIF('PLANNING PRINCIPAL'!$I$505:$X$505,M19)>=1,\"\",ROW())","v":19},"LOC PELLE INTERLOC","LOC PELLE INTERLOC",{"$f":"IF(COUNTIF('PLANNING PRINCIPAL'!$I$508:$X$508,P19)>=1,\"\",ROW())","v":19},"LOC PELLE INTERLOC","LOC PELLE INTERLOC",{"$f":"IF(COUNTIF('PLANNING PRINCIPAL'!$I$511:$X$511,S19)>=1,\"\",ROW())","v":19},"LOC PELLE INTERLOC",null,{"$f":"IF(COUNTIF('PLANNING PRINCIPAL'!$I$467:$X$467,V19)>=1,\"\",ROW())","v":19}]
[{"$f":"'DATA S1'!A20","v":"LOC PELLE KILOUTOU"},{"$f":"IF(COUNTIF('PLANNING PRINCIPAL'!$I$493:$X$493,A20)>=1,\"\",ROW())","v":20},"LOC PELLE KILOUTOU","LOC PELLE KILOUTOU",{"$f":"IF(COUNTIF('PLANNING PRINCIPAL'!$I$496:$X$496,D20)>=1,\"\",ROW())","v":20},"LOC PELLE KILOUTOU","LOC PELLE KILOUTOU",{"$f":"IF(COUNTIF('PLANNING PRINCIPAL'!$I$499:$X$499,G20)>=1,\"\",ROW())","v":20},"LOC PELLE KILOUTOU","LOC PELLE KILOUTOU",{"$f":"IF(COUNTIF('PLANNING PRINCIPAL'!$I$502:$X$502,J20)>=1,\"\",ROW())","v":20},"LOC PELLE KILOUTOU","LOC PELLE KILOUTOU",{"$f":"IF(COUNTIF('PLANNING PRINCIPAL'!$I$505:$X$505,M20)>=1,\"\",ROW())","v":20},"LOC PELLE KILOUTOU","LOC PELLE KILOUTOU",{"$f":"IF(COUNTIF('PLANNING PRINCIPAL'!$I$508:$X$508,P20)>=1,\"\",ROW())","v":20},"LOC PELLE KILOUTOU","LOC PELLE KILOUTOU",{"$f":"IF(COUNTIF('PLANNING PRINCIPAL'!$I$511:$X$511,S20)>=1,\"\",ROW())","v":20},"LOC PELLE KILOUTOU",null,{"$f":"IF(COUNTIF('PLANNING PRINCIPAL'!$I$467:$X$467,V20)>=1,\"\",ROW())","v":20}]
[null,{"$f":"IF(COUNTIF('PLANNING PRINCIPAL'!$I$493:$X$493,A21)>=1,\"\",ROW())","v":21},null,null,{"$f":"IF(COUNTIF('PLANNING PRINCIPAL'!$I$496:$X$496,D21)>=1,\"\",ROW())","v":21},null,null,{"$f":"IF(COUNTIF('PLANNING PRINCIPAL'!$I$499:$X$499,G21)>=1,\"\",ROW())","v":21},null,null,{"$f":"IF(COUNTIF('PLANNING PRINCIPAL'!$I$502:$X$502,J21)>=1,\"\",ROW())","v":21},null,null,{"$f":"IF(COUNTIF('PLANNING PRINCIPAL'!$I$505:$X$505,M21)>=1,\"\",ROW())","v":21},null,null,{"$f":"IF(COUNTIF('PLANNING PRINCIPAL'!$I$508:$X$508,P21)>=1,\"\",ROW())","v":21},null,null,{"$f":"IF(COUNTIF('PLANNING PRINCIPAL'!$I$511:$X$511,S21)>=1,\"\",ROW())","v":21},null,null,{"$f":"IF(COUNTIF('PLANNING PRINCIPAL'!$I$467:$X$467,V21)>=1,\"\",ROW())","v":21}]
[null,{"$f":"IF(COUNTIF('PLANNING PRINCIPAL'!$I$493:$X$493,A22)>=1,\"\",ROW())","v":22},null,null,{"$f":"IF(COUNTIF('PLANNING PRINCIPAL'!$I$496:$X$496,D22)>=1,\"\",ROW())","v":22},null,null,{"$f":"IF(COUNTIF('PLANNING PRINCIPAL'!$I$499:$X$499,G22)>=1,\"\",ROW())","v":22},null,null,{"$f":"IF(COUNTIF('PLANNING PRINCIPAL'!$I$502:$X$502,J22)>=1,\"\",ROW())","v":22},null,null,{"$f":"IF(COUNTIF('PLANNING PRINCIPAL'!$I$505:$X$505,M22)>=1,\"\",ROW())","v":22},null,null,{"$f":"IF(COUNTIF('PLANNING PRINCIPAL'!$I$508:$X$508,P22)>=1,\"\",ROW())","v":22},null,null,{"$f":"IF(COUNTIF('PLANNING PRINCIPAL'!$I$511:$X$511,S22)>=1,\"\",ROW())","v":22},null,null,{"$f":"IF(COUNTIF('PLANNING PRINCIPAL'!$I$467:$X$467,V22)>=1,\"\",ROW())","v":22}]
[null,{"$f":"IF(COUNTIF('PLANNING PRINCIPAL'!$I$493:$X$493,A23)>=1,\"\",ROW())","v":23},null,null,{"$f":"IF(COUNTIF('PLANNING PRINCIPAL'!$I$496:$X$496,D23)>=1,\"\",ROW())","v":23},null,null,{"$f":"IF(COUNTIF('PLANNING PRINCIPAL'!$I$499:$X$499,G23)>=1,\"\",ROW())","v":23},null,null,{"$f":"IF(COUNTIF('PLANNING PRINCIPAL'!$I$502:$X$502,J23)>=1,\"\",ROW())","v":23},null,null,{"$f":"IF(COUNTIF('PLANNING PRINCIPAL'!$I$505:$X$505,M23)>=1,\"\",ROW())","v":23},null,null,{"$f":"IF(COUNTIF('PLANNING PRINCIPAL'!$I$508:$X$508,P23)>=1,\"\",ROW())","v":23},null,null,{"$f":"IF(COUNTIF('PLANNING PRINCIPAL'!$I$511:$X$511,S23)>=1,\"\",ROW())","v":23},null,null,{"$f":"IF(COUNTIF('PLANNING PRINCIPAL'!$I$467:$X$467,V23)>=1,\"\",ROW())","v":23}]
[null,{"$f":"IF(COUNTIF('PLANNING PRINCIPAL'!$I$493:$X$493,A24)>=1,\"\",ROW())","v":24},null,null,{"$f":"IF(COUNTIF('PLANNING PRINCIPAL'!$I$496:$X$496,D24)>=1,\"\",ROW())","v":24},null,null,{"$f":"IF(COUNTIF('PLANNING PRINCIPAL'!$I$499:$X$499,G24)>=1,\"\",ROW())","v":24},null,null,{"$f":"IF(COUNTIF('PLANNING PRINCIPAL'!$I$502:$X$502,J24)>=1,\"\",ROW())","v":24},null,null,{"$f":"IF(COUNTIF('PLANNING PRINCIPAL'!$I$505:$X$505,M24)>=1,\"\",ROW())","v":24},null,null,{"$f":"IF(COUNTIF('PLANNING PRINCIPAL'!$I$508:$X$508,P24)>=1,\"\",ROW())","v":24},null,null,{"$f":"IF(COUNTIF('PLANNING PRINCIPAL'!$I$511:$X$511,S24)>=1,\"\",ROW())","v":24},null,null,{"$f":"IF(COUNTIF('PLANNING PRINCIPAL'!$I$467:$X$467,V24)>=1,\"\",ROW())","v":24}]
[null,{"$f":"IF(COUNTIF('PLANNING PRINCIPAL'!$I$493:$X$493,A25)>=1,\"\",ROW())","v":25},null,null,{"$f":"IF(COUNTIF('PLANNING PRINCIPAL'!$I$496:$X$496,D25)>=1,\"\",ROW())","v":25},null,null,{"$f":"IF(COUNTIF('PLANNING PRINCIPAL'!$I$499:$X$499,G25)>=1,\"\",ROW())","v":25},null,null,{"$f":"IF(COUNTIF('PLANNING PRINCIPAL'!$I$502:$X$502,J25)>=1,\"\",ROW())","v":25},null,null,{"$f":"IF(COUNTIF('PLANNING PRINCIPAL'!$I$505:$X$505,M25)>=1,\"\",ROW())","v":25},null,null,{"$f":"IF(COUNTIF('PLANNING PRINCIPAL'!$I$508:$X$508,P25)>=1,\"\",ROW())","v":25},null,null,{"$f":"IF(COUNTIF('PLANNING PRINCIPAL'!$I$511:$X$511,S25)>=1,\"\",ROW())","v":25},null,null,{"$f":"IF(COUNTIF('PLANNING PRINCIPAL'!$I$467:$X$467,V25)>=1,\"\",ROW())","v":25}]
[null,{"$f":"IF(COUNTIF('PLANNING PRINCIPAL'!$I$493:$X$493,A26)>=1,\"\",ROW())","v":26},null,null,{"$f":"IF(COUNTIF('PLANNING PRINCIPAL'!$I$496:$X$496,D26)>=1,\"\",ROW())","v":26},null,null,{"$f":"IF(COUNTIF('PLANNING PRINCIPAL'!$I$499:$X$499,G26)>=1,\"\",ROW())","v":26},null,null,{"$f":"IF(COUNTIF('PLANNING PRINCIPAL'!$I$502:$X$502,J26)>=1,\"\",ROW())","v":26},null,null,{"$f":"IF(COUNTIF('PLANNING PRINCIPAL'!$I$505:$X$505,M26)>=1,\"\",ROW())","v":26},null,null,{"$f":"IF(COUNTIF('PLANNING PRINCIPAL'!$I$508:$X$508,P26)>=1,\"\",ROW())","v":26},null,null,{"$f":"IF(COUNTIF('PLANNING PRINCIPAL'!$I$511:$X$511,S26)>=1,\"\",ROW())","v":26},null,null,{"$f":"IF(COUNTIF('PLANNING PRINCIPAL'!$I$467:$X$467,V26)>=1,\"\",ROW())","v":26}]
[null,{"$f":"IF(COUNTIF('PLANNING PRINCIPAL'!$I$493:$X$493,A27)>=1,\"\",ROW())","v":27},null,null,{"$f":"IF(COUNTIF('PLANNING PRINCIPAL'!$I$496:$X$496,D27)>=1,\"\",ROW())","v":27},null,null,{"$f":"IF(COUNTIF('PLANNING PRINCIPAL'!$I$499:$X$499,G27)>=1,\"\",ROW())","v":27},null,null,{"$f":"IF(COUNTIF('PLANNING PRINCIPAL'!$I$502:$X$502,J27)>=1,\"\",ROW())","v":27},null,null,{"$f":"IF(COUNTIF('PLANNING PRINCIPAL'!$I$505:$X$505,M27)>=1,\"\",ROW())","v":27},null,null,{"$f":"IF(COUNTIF('PLANNING PRINCIPAL'!$I$508:$X$508,P27)>=1,\"\",ROW())","v":27},null,null,{"$f":"IF(COUNTIF('PLANNING PRINCIPAL'!$I$511:$X$511,S27)>=1,\"\",ROW())","v":27},null,null,{"$f":"IF(COUNTIF('PLANNING PRINCIPAL'!$I$467:$X$467,V27)>=1,\"\",ROW())","v":27}]
[null,{"$f":"IF(COUNTIF('PLANNING PRINCIPAL'!$I$493:$X$493,A28)>=1,\"\",ROW())","v":28},null,null,{"$f":"IF(COUNTIF('PLANNING PRINCIPAL'!$I$496:$X$496,D28)>=1,\"\",ROW())","v":28},null,null,{"$f":"IF(COUNTIF('PLANNING PRINCIPAL'!$I$499:$X$499,G28)>=1,\"\",ROW())","v":28},null,null,{"$f":"IF(COUNTIF('PLANNING PRINCIPAL'!$I$502:$X$502,J28)>=1,\"\",ROW())","v":28},null,null,{"$f":"IF(COUNTIF('PLANNING PRINCIPAL'!$I$505:$X$505,M28)>=1,\"\",ROW())","v":28},null,null,{"$f":"IF(COUNTIF('PLANNING PRINCIPAL'!$I$508:$X$508,P28)>=1,\"\",ROW())","v":28},null,null,{"$f":"IF(COUNTIF('PLANNING PRINCIPAL'!$I$511:$X$511,S28)>=1,\"\",ROW())","v":28},null,null,{"$f":"IF(COUNTIF('PLANNING PRINCIPAL'!$I$467:$X$467,V28)>=1,\"\",ROW())","v":28}]
[null,{"$f":"IF(COUNTIF('PLANNING PRINCIPAL'!$I$493:$X$493,A29)>=1,\"\",ROW())","v":29},null,null,{"$f":"IF(COUNTIF('PLANNING PRINCIPAL'!$I$496:$X$496,D29)>=1,\"\",ROW())","v":29},null,null,{"$f":"IF(COUNTIF('PLANNING PRINCIPAL'!$I$499:$X$499,G29)>=1,\"\",ROW())","v":29},null,null,{"$f":"IF(COUNTIF('PLANNING PRINCIPAL'!$I$502:$X$502,J29)>=1,\"\",ROW())","v":29},null,null,{"$f":"IF(COUNTIF('PLANNING PRINCIPAL'!$I$505:$X$505,M29)>=1,\"\",ROW())","v":29},null,null,{"$f":"IF(COUNTIF('PLANNING PRINCIPAL'!$I$508:$X$508,P29)>=1,\"\",ROW())","v":29},null,null,{"$f":"IF(COUNTIF('PLANNING PRINCIPAL'!$I$511:$X$511,S29)>=1,\"\",ROW())","v":29},null,null,{"$f":"IF(COUNTIF('PLANNING PRINCIPAL'!$I$467:$X$467,V29)>=1,\"\",ROW())","v":29}]
[null,{"$f":"IF(COUNTIF('PLANNING PRINCIPAL'!$I$493:$X$493,A30)>=1,\"\",ROW())","v":30},null,null,{"$f":"IF(COUNTIF('PLANNING PRINCIPAL'!$I$496:$X$496,D30)>=1,\"\",ROW())","v":30},null,null,{"$f":"IF(COUNTIF('PLANNING PRINCIPAL'!$I$499:$X$499,G30)>=1,\"\",ROW())","v":30},null,null,{"$f":"IF(COUNTIF('PLANNING PRINCIPAL'!$I$502:$X$502,J30)>=1,\"\",ROW())","v":30},null,null,{"$f":"IF(COUNTIF('PLANNING PRINCIPAL'!$I$505:$X$505,M30)>=1,\"\",ROW())","v":30},null,null,{"$f":"IF(COUNTIF('PLANNING PRINCIPAL'!$I$508:$X$508,P30)>=1,\"\",ROW())","v":30},null,null,{"$f":"IF(COUNTIF('PLANNING PRINCIPAL'!$I$511:$X$511,S30)>=1,\"\",ROW())","v":30},null,null,{"$f":"IF(COUNTIF('PLANNING PRINCIPAL'!$I$467:$X$467,V30)>=1,\"\",ROW())","v":30}]
[null,{"$f":"IF(COUNTIF('PLANNING PRINCIPAL'!$I$493:$X$493,A31)>=1,\"\",ROW())","v":31},null,null,{"$f":"IF(COUNTIF('PLANNING PRINCIPAL'!$I$496:$X$496,D31)>=1,\"\",ROW())","v":31},null,null,{"$f":"IF(COUNTIF('PLANNING PRINCIPAL'!$I$499:$X$499,G31)>=1,\"\",ROW())","v":31},null,null,{"$f":"IF(COUNTIF('PLANNING PRINCIPAL'!$I$502:$X$502,J31)>=1,\"\",ROW())","v":31},null,null,{"$f":"IF(COUNTIF('PLANNING PRINCIPAL'!$I$505:$X$505,M31)>=1,\"\",ROW())","v":31},null,null,{"$f":"IF(COUNTIF('PLANNING PRINCIPAL'!$I$508:$X$508,P31)>=1,\"\",ROW())","v":31},null,null,{"$f":"IF(COUNTIF('PLANNING PRINCIPAL'!$I$511:$X$511,S31)>=1,\"\",ROW())","v":31},null,null,{"$f":"IF(COUNTIF('PLANNING PRINCIPAL'!$I$467:$X$467,V31)>=1,\"\",ROW())","v":31}]
[null,{"$f":"IF(COUNTIF('PLANNING PRINCIPAL'!$I$493:$X$493,A32)>=1,\"\",ROW())","v":32},null,null,{"$f":"IF(COUNTIF('PLANNING PRINCIPAL'!$I$496:$X$496,D32)>=1,\"\",ROW())","v":32},null,null,{"$f":"IF(COUNTIF('PLANNING PRINCIPAL'!$I$499:$X$499,G32)>=1,\"\",ROW())","v":32},null,null,{"$f":"IF(COUNTIF('PLANNING PRINCIPAL'!$I$502:$X$502,J32)>=1,\"\",ROW())","v":32},null,null,{"$f":"IF(COUNTIF('PLANNING PRINCIPAL'!$I$505:$X$505,M32)>=1,\"\",ROW())","v":32},null,null,{"$f":"IF(COUNTIF('PLANNING PRINCIPAL'!$I$508:$X$508,P32)>=1,\"\",ROW())","v":32},null,null,{"$f":"IF(COUNTIF('PLANNING PRINCIPAL'!$I$511:$X$511,S32)>=1,\"\",ROW())","v":32},null,null,{"$f":"IF(COUNTIF('PLANNING PRINCIPAL'!$I$467:$X$467,V32)>=1,\"\",ROW())","v":32}]
[null,{"$f":"IF(COUNTIF('PLANNING PRINCIPAL'!$I$493:$X$493,A33)>=1,\"\",ROW())","v":33},null,null,{"$f":"IF(COUNTIF('PLANNING PRINCIPAL'!$I$496:$X$496,D33)>=1,\"\",ROW())","v":33},null,null,{"$f":"IF(COUNTIF('PLANNING PRINCIPAL'!$I$499:$X$499,G33)>=1,\"\",ROW())","v":33},null,null,{"$f":"IF(COUNTIF('PLANNING PRINCIPAL'!$I$502:$X$502,J33)>=1,\"\",ROW())","v":33},null,null,{"$f":"IF(COUNTIF('PLANNING PRINCIPAL'!$I$505:$X$505,M33)>=1,\"\",ROW())","v":33},null,null,{"$f":"IF(COUNTIF('PLANNING PRINCIPAL'!$I$508:$X$508,P33)>=1,\"\",ROW())","v":33},null,null,{"$f":"IF(COUNTIF('PLANNING PRINCIPAL'!$I$511:$X$511,S33)>=1,\"\",ROW())","v":33},null,null,{"$f":"IF(COUNTIF('PLANNING PRINCIPAL'!$I$467:$X$467,V33)>=1,\"\",ROW())","v":33}]
[null,{"$f":"IF(COUNTIF('PLANNING PRINCIPAL'!$I$493:$X$493,A34)>=1,\"\",ROW())","v":34},null,null,{"$f":"IF(COUNTIF('PLANNING PRINCIPAL'!$I$496:$X$496,D34)>=1,\"\",ROW())","v":34},null,null,{"$f":"IF(COUNTIF('PLANNING PRINCIPAL'!$I$499:$X$499,G34)>=1,\"\",ROW())","v":34},null,null,{"$f":"IF(COUNTIF('PLANNING PRINCIPAL'!$I$502:$X$502,J34)>=1,\"\",ROW())","v":34},null,null,{"$f":"IF(COUNTIF('PLANNING PRINCIPAL'!$I$482:$X$482,M34)>=1,\"\",ROW())","v":34},null,null,{"$f":"IF(COUNTIF('PLANNING PRINCIPAL'!$I$508:$X$508,P34)>=1,\"\",ROW())","v":34},null,null,{"$f":"IF(COUNTIF('PLANNING PRINCIPAL'!$I$511:$X$511,S34)>=1,\"\",ROW())","v":34},null,null,{"$f":"IF(COUNTIF('PLANNING PRINCIPAL'!$I$467:$X$467,V34)>=1,\"\",ROW())","v":34}]
["LUNDI",null,null,"MARDI",null,null,"MERCREDI",null,null,"JEUDI",null,null,"VENDREDI",null,null,"SAMEDI",null,null,"DIMANCHE",null,null,"ASTREINTE"]

{"sheet":"DATA S23","index":24,"n_rows":35,"n_cols":24,"rows_kept":35,"cut":false,"hidden":false,"merged":[[34,18,34,20],[34,21,34,23],[34,0,34,2],[34,3,34,5],[34,6,34,8],[34,9,34,11],[34,12,34,14],[34,15,34,17]]}
[{"$f":"'DATA S1'!A1","v":"MAS XX "},{"$f":"IF(COUNTIF('PLANNING PRINCIPAL'!$I$516:$X$516,A1)>=1,\"\",ROW())","v":1},{"$f":"IF(ROW(A1)-ROW(A$1)+1>COUNT(B:B),\"\", INDEX(A:A,SMALL(B:B,1+ROW(A1)-ROW(A$1))))","v":"MAS XX "},{"$f":"A1","v":"MAS XX "},{"$f":"IF(COUNTIF('PLANNING PRINCIPAL'!$I$519:$X$519,D1)>=1,\"\",ROW())","v":1},{"$f":"IF(ROW(D1)-ROW(D$1)+1>COUNT(E:E),\"\", INDEX(D:D,SMALL(E:E,1+ROW(D1)-ROW(D$1))))","v":"MAS XX "},{"$f":"A1","v":"MAS XX "},{"$f":"IF(COUNTIF('PLANNING PRINCIPAL'!$I$522:$X$522,G1)>=1,\"\",ROW())","v":1},{"$f":"IF(ROW(G1)-ROW(G$1)+1>COUNT(H:H),\"\", INDEX(G:G,SMALL(H:H,1+ROW(G1)-ROW(G$1))))","v":"MAS XX "},{"$f":"A1","v":"MAS XX "},{"$f":"IF(COUNTIF('PLANNING PRINCIPAL'!$I$525:$X$525,J1)>=1,\"\",ROW())","v":1},{"$f":"IF(ROW(J1)-ROW(J$1)+1>COUNT(K:K),\"\", INDEX(J:J,SMALL(K:K,1+ROW(J1)-ROW(J$1))))","v":"MAS XX "},{"$f":"A1","v":"MAS XX "},{"$f":"IF(COUNTIF('PLANNING PRINCIPAL'!$I$528:$X$528,M1)>=1,\"\",ROW())","v":1},{"$f":"IF(ROW(M1)-ROW(M$1)+1>COUNT(N:N),\"\", INDEX(M:M,SMALL(N:N,1+ROW(M1)-ROW(M$1))))","v":"MAS XX "},{"$f":"A1","v":"MAS XX "},{"$f":"IF(COUNTIF('PLANNING PRINCIPAL'!$I$531:$X$531,P1)>=1,\"\",ROW())","v":1},{"$f":"IF(ROW(P1)-ROW(P$1)+1>COUNT(Q:Q),\"\", INDEX(P:P,SMALL(Q:Q,1+ROW(P1)-ROW(P$1))))","v":"MAS XX "},{"$f":"A1","v":"MAS XX "},{"$f":"IF(COUNTIF('PLANNING PRINCIPAL'!$I$534:$X$534,S1)>=1,\"\",ROW())","v":1},{"$f":"IF(ROW(S1)-ROW(S$1)+1>COUNT(T:T),\"\", INDEX(S:S,SMALL(T:T,1+ROW(S1)-ROW(S$1))))","v":"MAS XX "},{"$f":"'DATA S1'!V1","v":"ASTREINTE SLT"},{"$f":"IF(COUNTIF('PLANNING PRINCIPAL'!$I$536:$X$536,V1)>=1,\"\",ROW())","v":1},{"$f":"IF(ROW(V1)-ROW(V$1)+1>COUNT(W:W),\"\", INDEX(V:V,SMALL(W:W,1+ROW(V1)-ROW(V$1))))","v":"ASTREINTE SLT"}]
[{"$f":"'DATA S1'!A2","v":"MAS YY "},{"$f":"IF(COUNTIF('PLANNING PRINCIPAL'!$I$516:$X$516,A2)>=1,\"\",ROW())","v":2},{"$f":"IF(ROW(A2)-ROW(A$1)+1>COUNT(B:B),\"\", INDEX(A:A,SMALL(B:B,1+ROW(A2)-ROW(A$1))))","v":"MAS YY "},"MAS YY ",{"$f":"IF(COUNTIF('PLANNING PRINCIPAL'!$I$519:$X$519,D2)>=1,\"\",ROW())","v":2},{"$f":"IF(ROW(D2)-ROW(D$1)+1>COUNT(E:E),\"\", INDEX(D:D,SMALL(E:E,1+ROW(D2)-ROW(D$1))))","v":"MAS YY "},{"$f":"A2","v":"MAS YY "},{"$f":"IF(COUNTIF('PLANNING PRINCIPAL'!$I$522:$X$522,G2)>=1,\"\",ROW())","v":2},{"$f":"IF(ROW(G2)-ROW(G$1)+1>COUNT(H:H),\"\", INDEX(G:G,SMALL(H:H,1+ROW(G2)-ROW(G$1))))","v":"MAS YY "},{"$f":"A2","v":"MAS YY "},{"$f":"IF(COUNTIF('PLANNING PRINCIPAL'!$I$525:$X$525,J2)>=1,\"\",ROW())","v":2},{"$f":"IF(ROW(J2)-ROW(J$1)+1>COUNT(K:K),\"\", INDEX(J:J,SMALL(K:K,1+ROW(J2)-ROW(J$1))))","v":"MAS YY "},{"$f":"A2","v":"MAS YY "},{"$f":"IF(COUNTIF('PLANNING PRINCIPAL'!$I$528:$X$528,M2)>=1,\"\",ROW())","v":2},{"$f":"IF(ROW(M2)-ROW(M$1)+1>COUNT(N:N),\"\", INDEX(M:M,SMALL(N:N,1+ROW(M2)-ROW(M$1))))","v":"MAS YY "},{"$f":"A2","v":"MAS YY "},{"$f":"IF(COUNTIF('PLANNING PRINCIPAL'!$I$531:$X$531,P2)>=1,\"\",ROW())","v":2},{"$f":"IF(ROW(P2)-ROW(P$1)+1>COUNT(Q:Q),\"\", INDEX(P:P,SMALL(Q:Q,1+ROW(P2)-ROW(P$1))))","v":"MAS YY "},{"$f":"A2","v":"MAS YY "},{"$f":"IF(COUNTIF('PLANNING PRINCIPAL'!$I$534:$X$534,S2)>=1,\"\",ROW())","v":2},{"$f":"IF(ROW(S2)-ROW(S$1)+1>COUNT(T:T),\"\", INDEX(S:S,SMALL(T:T,1+ROW(S2)-ROW(S$1))))","v":"MAS YY "},{"$f":"'DATA S1'!V2","v":"ASTREINTE EP"},{"$f":"IF(COUNTIF('PLANNING PRINCIPAL'!$I$536:$X$536,V2)>=1,\"\",ROW())","v":2},{"$f":"IF(ROW(V2)-ROW(V$1)+1>COUNT(W:W),\"\", INDEX(V:V,SMALL(W:W,1+ROW(V2)-ROW(V$1))))","v":"ASTREINTE EP"}]
[{"$f":"'DATA S1'!A3","v":"MAS VQ "},{"$f":"IF(COUNTIF('PLANNING PRINCIPAL'!$I$516:$X$516,A3)>=1,\"\",ROW())","v":3},"MAS VQ ","MAS VQ ",{"$f":"IF(COUNTIF('PLANNING PRINCIPAL'!$I$519:$X$519,D3)>=1,\"\",ROW())","v":3},"MAS VQ ","MAS VQ ",{"$f":"IF(COUNTIF('PLANNING PRINCIPAL'!$I$522:$X$522,G3)>=1,\"\",ROW())","v":3},"MAS VQ ","MAS VQ ",{"$f":"IF(COUNTIF('PLANNING PRINCIPAL'!$I$525:$X$525,J3)>=1,\"\",ROW())","v":3},"MAS VQ ","MAS VQ ",{"$f":"IF(COUNTIF('PLANNING PRINCIPAL'!$I$528:$X$528,M3)>=1,\"\",ROW())","v":3},"MAS VQ ","MAS VQ ",{"$f":"IF(COUNTIF('PLANNING PRINCIPAL'!$I$531:$X$531,P3)>=1,\"\",ROW())","v":3},"MAS VQ ","MAS VQ ",{"$f":"IF(COUNTIF('PLANNING PRINCIPAL'!$I$534:$X$534,S3)>=1,\"\",ROW())","v":3},"MAS VQ ",{"$f":"'DATA S1'!V3","v":"V NOC CHARTRES"},{"$f":"IF(COUNTIF('PLANNING PRINCIPAL'!$I$536:$X$536,V3)>=1,\"\",ROW())","v":3},"V NOC CHARTRES"]
[{"$f":"'DATA S1'!A4","v":"MAS PL "},{"$f":"IF(COUNTIF('PLANNING PRINCIPAL'!$I$516:$X$516,A4)>=1,\"\",ROW())","v":4},"MAS PL ","MAS PL ",{"$f":"IF(COUNTIF('PLANNING PRINCIPAL'!$I$519:$X$519,D4)>=1,\"\",ROW())","v":4},"MAS PL ","MAS PL ",{"$f":"IF(COUNTIF('PLANNING PRINCIPAL'!$I$522:$X$522,G4)>=1,\"\",ROW())","v":4},"MAS PL ","MAS PL ",{"$f":"IF(COUNTIF('PLANNING PRINCIPAL'!$I$525:$X$525,J4)>=1,\"\",ROW())","v":4},"MAS PL ","MAS PL ",{"$f":"IF(COUNTIF('PLANNING PRINCIPAL'!$I$528:$X$528,M4)>=1,\"\",ROW())","v":4},"MAS PL ","MAS PL ",{"$f":"IF(COUNTIF('PLANNING PRINCIPAL'!$I$531:$X$531,P4)>=1,\"\",ROW())","v":4},"MAS PL ","MAS PL ",{"$f":"IF(COUNTIF('PLANNING PRINCIPAL'!$I$534:$X$534,S4)>=1,\"\",ROW())","v":4},"MAS PL ",{"$f":"'DATA S1'!V4","v":"V NOC EPERNON"},{"$f":"IF(COUNTIF('PLANNING PRINCIPAL'!$I$536:$X$536,V4)>=1,\"\",ROW())","v":4},"V NOC EPERNON"]
[{"$f":"'DATA S1'!A5","v":"BEN VL PT "},{"$f":"IF(COUNTIF('PLANNING PRINCIPAL'!$I$516:$X$516,A5)>=1,\"\",ROW())","v":5},"BEN VL PT ","BEN VL PT ",{"$f":"IF(COUNTIF('PLANNING PRINCIPAL'!$I$519:$X$519,D5)>=1,\"\",ROW())","v":5},"BEN VL PT ","BEN VL PT ",{"$f":"IF(COUNTIF('PLANNING PRINCIPAL'!$I$522:$X$522,G5)>=1,\"\",ROW())","v":5},"BEN VL PT ","BEN VL PT ",{"$f":"IF(COUNTIF('PLANNING PRINCIPAL'!$I$525:$X$525,J5)>=1,\"\",ROW())","v":5},"BEN VL PT ","BEN VL PT ",{"$f":"IF(COUNTIF('PLANNING PRINCIPAL'!$I$528:$X$528,M5)>=1,\"\",ROW())","v":5},"BEN VL PT ","BEN VL PT ",{"$f":"IF(COUNTIF('PLANNING PRINCIPAL'!$I$531:$X$531,P5)>=1,\"\",ROW())","v":5},"BEN VL PT ","BEN VL PT ",{"$f":"IF(COUNTIF('PLANNING PRINCIPAL'!$I$534:$X$534,S5)>=1,\"\",ROW())","v":5},"BEN VL PT ",{"$f":"'DATA S1'!V5","v":"V NOC HANCHES"},{"$f":"IF(COUNTIF('PLANNING PRINCIPAL'!$I$536:$X$536,V5)>=1,\"\",ROW())","v":5},"V NOC HANCHES"]
[{"$f":"'DATA S1'!A6","v":"BEN 19T "},{"$f":"IF(COUNTIF('PLANNING PRINCIPAL'!$I$516:$X$516,A6)>=1,\"\",ROW())","v":6},"BEN 19T ","BEN 19T ",{"$f":"IF(COUNTIF('PLANNING PRINCIPAL'!$I$519:$X$519,D6)>=1,\"\",ROW())","v":6},"BEN 19T ","BEN 19T ",{"$f":"IF(COUNTIF('PLANNING PRINCIPAL'!$I$522:$X$522,G6)>=1,\"\",ROW())","v":6},"BEN 19T ","BEN 19T ",{"$f":"IF(COUNTIF('PLANNING PRINCIPAL'!$I$525:$X$525,J6)>=1,\"\",ROW())","v":6},"BEN 19T ","BEN 19T ",{"$f":"IF(COUNTIF('PLANNING PRINCIPAL'!$I$528:$X$528,M6)>=1,\"\",ROW())","v":6},"BEN 19T ","BEN 19T ",{"$f":"IF(COUNTIF('PLANNING PRINCIPAL'!$I$531:$X$531,P6)>=1,\"\",ROW())","v":6},"BEN 19T ","BEN 19T ",{"$f":"IF(COUNTIF('PLANNING PRINCIPAL'!$I$534:$X$534,S6)>=1,\"\",ROW())","v":6},"BEN 19T ",{"$f":"'DATA S1'!V6","v":"V NOC MAINTENON"},{"$f":"IF(COUNTIF('PLANNING PRINCIPAL'!$I$536:$X$536,V6)>=1,\"\",ROW())","v":6},"V NOC MAINTENON"]
[{"$f":"'DATA S1'!A7","v":"BEN 13T "},{"$f":"IF(COUNTIF('PLANNING PRINCIPAL'!$I$516:$X$516,A7)>=1,\"\",ROW())","v":7},"BEN 13T ","BEN 13T ",{"$f":"IF(COUNTIF('PLANNING PRINCIPAL'!$I$519:$X$519,D7)>=1,\"\",ROW())","v":7},"BEN 13T ","BEN 13T ",{"$f":"IF(COUNTIF('PLANNING PRINCIPAL'!$I$522:$X$522,G7)>=1,\"\",ROW())","v":7},"BEN 13T ","BEN 13T ",{"$f":"IF(COUNTIF('PLANNING PRINCIPAL'!$I$525:$X$525,J7)>=1,\"\",ROW())","v":7},"BEN 13T ","BEN 13T ",{"$f":"IF(COUNTIF('PLANNING PRINCIPAL'!$I$528:$X$528,M7)>=1,\"\",ROW())","v":7},"BEN 13T ","BEN 13T ",{"$f":"IF(COUNTIF('PLANNING PRINCIPAL'!$I$531:$X$531,P7)>=1,\"\",ROW())","v":7},"BEN 13T ","BEN 13T ",{"$f":"IF(COUNTIF('PLANNING PRINCIPAL'!$I$534:$X$534,S7)>=1,\"\",ROW())","v":7},"BEN 13T ",null,{"$f":"IF(COUNTIF('PLANNING PRINCIPAL'!$I$467:$X$467,V7)>=1,\"\",ROW())","v":7}]
[{"$f":"'DATA S1'!A8","v":"NAC VL 18M "},{"$f":"IF(COUNTIF('PLANNING PRINCIPAL'!$I$516:$X$516,A8)>=1,\"\",ROW())","v":8},"NAC VL 18M ","NAC VL 18M ",{"$f":"IF(COUNTIF('PLANNING PRINCIPAL'!$I$519:$X$519,D8)>=1,\"\",ROW())","v":8},"NAC VL 18M ","NAC VL 18M ",{"$f":"IF(COUNTIF('PLANNING PRINCIPAL'!$I$522:$X$522,G8)>=1,\"\",ROW())","v":8},"NAC VL 18M ","NAC VL 18M ",{"$f":"IF(COUNTIF('PLANNING PRINCIPAL'!$I$525:$X$525,J8)>=1,\"\",ROW())","v":8},"NAC VL 18M ","NAC VL 18M ",{"$f":"IF(COUNTIF('PLANNING PRINCIPAL'!$I$528:$X$528,M8)>=1,\"\",ROW())","v":8},"NAC VL 18M ","NAC VL 18M ",{"$f":"IF(COUNTIF('PLANNING PRINCIPAL'!$I$531:$X$531,P8)>=1,\"\",ROW())","v":8},"NAC VL 18M ","NAC VL 18M ",{"$f":"IF(COUNTIF('PLANNING PRINCIPAL'!$I$534:$X$534,S8)>=1,\"\",ROW())","v":8},"NAC VL 18M ",null,{"$f":"IF(COUNTIF('PLANNING PRINCIPAL'!$I$467:$X$467,V8)>=1,\"\",ROW())","v":8}]
[{"$f":"'DATA S1'!A9","v":"NAC EGIE"},{"$f":"IF(COUNTIF('PLANNING PRINCIPAL'!$I$516:$X$516,A9)>=1,\"\",ROW())","v":9},"NAC EGIE","NAC EGIE",{"$f":"IF(COUNTIF('PLANNING PRINCIPAL'!$I$519:$X$519,D9)>=1,\"\",ROW())","v":9},"NAC EGIE","NAC EGIE",{"$f":"IF(COUNTIF('PLANNING PRINCIPAL'!$I$522:$X$522,G9)>=1,\"\",ROW())","v":9},"NAC EGIE","NAC EGIE",{"$f":"IF(COUNTIF('PLANNING PRINCIPAL'!$I$525:$X$525,J9)>=1,\"\",ROW())","v":9},"NAC EGIE","NAC EGIE",{"$f":"IF(COUNTIF('PLANNING PRINCIPAL'!$I$528:$X$528,M9)>=1,\"\",ROW())","v":9},"NAC EGIE","NAC EGIE",{"$f":"IF(COUNTIF('PLANNING PRINCIPAL'!$I$531:$X$531,P9)>=1,\"\",ROW())","v":9},"NAC EGIE","NAC EGIE",{"$f":"IF(COUNTIF('PLANNING PRINCIPAL'!$I$534:$X$534,S9)>=1,\"\",ROW())","v":9},"NAC EGIE",null,{"$f":"IF(COUNTIF('PLANNING PRINCIPAL'!$I$467:$X$467,V9)>=1,\"\",ROW())","v":9}]
[{"$f":"'DATA S1'!A10","v":"NAC COMI "},{"$f":"IF(COUNTIF('PLANNING PRINCIPAL'!$I$516:$X$516,A10)>=1,\"\",ROW())","v":10},"NAC COMI ","NAC COMI ",{"$f":"IF(COUNTIF('PLANNING PRINCIPAL'!$I$519:$X$519,D10)>=1,\"\",ROW())","v":10},"NAC COMI ","NAC COMI ",{"$f":"IF(COUNTIF('PLANNING PRINCIPAL'!$I$522:$X$522,G10)>=1,\"\",ROW())","v":10},"NAC COMI ","NAC COMI ",{"$f":"IF(COUNTIF('PLANNING PRINCIPAL'!$I$525:$X$525,J10)>=1,\"\",ROW())","v":10},"NAC COMI ","NAC COMI ",{"$f":"IF(COUNTIF('PLANNING PRINCIPAL'!$I$528:$X$528,M10)>=1,\"\",ROW())","v":10},"NAC COMI ","NAC COMI ",{"$f":"IF(COUNTIF('PLANNING PRINCIPAL'!$I$531:$X$531,P10)>=1,\"\",ROW())","v":10},"NAC COMI ","NAC COMI ",{"$f":"IF(COUNTIF('PLANNING PRINCIPAL'!$I$534:$X$534,S10)>=1,\"\",ROW())","v":10},"NAC COMI ",null,{"$f":"IF(COUNTIF('PLANNING PRINCIPAL'!$I$467:$X$467,V10)>=1,\"\",ROW())","v":10}]
[{"$f":"'DATA S1'!A11","v":"#####LOCATION#####"},{"$f":"IF(COUNTIF('PLANNING PRINCIPAL'!$I$516:$X$516,A11)>=1,\"\",ROW())","v":11},"#####LOCATION#####","#####LOCATION#####",{"$f":"IF(COUNTIF('PLANNING PRINCIPAL'!$I$519:$X$519,D11)>=1,\"\",ROW())","v":11},"#####LOCATION#####","#####LOCATION#####",{"$f":"IF(COUNTIF('PLANNING PRINCIPAL'!$I$522:$X$522,G11)>=1,\"\",ROW())","v":11},"#####LOCATION#####","#####LOCATION#####",{"$f":"IF(COUNTIF('PLANNING PRINCIPAL'!$I$525:$X$525,J11)>=1,\"\",ROW())","v":11},"#####LOCATION#####","#####LOCATION#####",{"$f":"IF(COUNTIF('PLANNING PRINCIPAL'!$I$528:$X$528,M11)>=1,\"\",ROW())","v":11},"#####LOCATION#####","#####LOCATION#####",{"$f":"IF(COUNTIF('PLANNING PRINCIPAL'!$I$531:$X$531,P11)>=1,\"\",ROW())","v":11},"#####LOCATION#####","#####LOCATION#####",{"$f":"IF(COUNTIF('PLANNING PRINCIPAL'!$I$534:$X$534,S11)>=1,\"\",ROW())","v":11},"#####LOCATION#####",null,{"$f":"IF(COUNTIF('PLANNING PRINCIPAL'!$I$467:$X$467,V11)>=1,\"\",ROW())","v":11}]
[{"$f":"'DATA S1'!A12","v":"LOC NAC SOLOMAT"},{"$f":"IF(COUNTIF('PLANNING PRINCIPAL'!$I$516:$X$516,A12)>=1,\"\",ROW())","v":12},"LOC NAC SOLOMAT","LOC NAC SOLOMAT",{"$f":"IF(COUNTIF('PLANNING PRINCIPAL'!$I$519:$X$519,D12)>=1,\"\",ROW())","v":12},"LOC NAC SOLOMAT","LOC NAC SOLOMAT",{"$f":"IF(COUNTIF('PLANNING PRINCIPAL'!$I$522:$X$522,G12)>=1,\"\",ROW())","v":12},"LOC NAC SOLOMAT","LOC NAC SOLOMAT",{"$f":"IF(COUNTIF('PLANNING PRINCIPAL'!$I$525:$X$525,J12)>=1,\"\",ROW())","v":12},"LOC NAC SOLOMAT","LOC NAC SOLOMAT",{"$f":"IF(COUNTIF('PLANNING PRINCIPAL'!$I$528:$X$528,M12)>=1,\"\",ROW())","v":12},"LOC NAC SOLOMAT","LOC NAC SOLOMAT",{"$f":"IF(COUNTIF('PLANNING PRINCIPAL'!$I$531:$X$531,P12)>=1,\"\",ROW())","v":12},"LOC NAC SOLOMAT","LOC NAC SOLOMAT",{"$f":"IF(COUNTIF('PLANNING PRINCIPAL'!$I$534:$X$534,S12)>=1,\"\",ROW())","v":12},"LOC NAC SOLOMAT",null,{"$f":"IF(COUNTIF('PLANNING PRINCIPAL'!$I$467:$X$467,V12)>=1,\"\",ROW())","v":12}]
[{"$f":"'DATA S1'!A13","v":"LOC NAC AEB"},{"$f":"IF(COUNTIF('PLANNING PRINCIPAL'!$I$516:$X$516,A13)>=1,\"\",ROW())","v":13},"LOC NAC AEB","LOC NAC AEB",{"$f":"IF(COUNTIF('PLANNING PRINCIPAL'!$I$519:$X$519,D13)>=1,\"\",ROW())","v":13},"LOC NAC AEB","LOC NAC AEB",{"$f":"IF(COUNTIF('PLANNING PRINCIPAL'!$I$522:$X$522,G13)>=1,\"\",ROW())","v":13},"LOC NAC AEB","LOC NAC AEB",{"$f":"IF(COUNTIF('PLANNING PRINCIPAL'!$I$525:$X$525,J13)>=1,\"\",ROW())","v":13},"LOC NAC AEB","LOC NAC AEB",{"$f":"IF(COUNTIF('PLANNING PRINCIPAL'!$I$528:$X$528,M13)>=1,\"\",ROW())","v":13},"LOC NAC AEB","LOC NAC AEB",{"$f":"IF(COUNTIF('PLANNING PRINCIPAL'!$I$531:$X$531,P13)>=1,\"\",ROW())","v":13},"LOC NAC AEB","LOC NAC AEB",{"$f":"IF(COUNTIF('PLANNING PRINCIPAL'!$I$534:$X$534,S13)>=1,\"\",ROW())","v":13},"LOC NAC AEB",null,{"$f":"IF(COUNTIF('PLANNING PRINCIPAL'!$I$467:$X$467,V13)>=1,\"\",ROW())","v":13}]
[{"$f":"'DATA S1'!A14","v":"LOC NAC INTERLOC"},{"$f":"IF(COUNTIF('PLANNING PRINCIPAL'!$I$516:$X$516,A14)>=1,\"\",ROW())","v":14},"LOC NAC INTERLOC","LOC NAC INTERLOC",{"$f":"IF(COUNTIF('PLANNING PRINCIPAL'!$I$519:$X$519,D14)>=1,\"\",ROW())","v":14},"LOC NAC INTERLOC","LOC NAC INTERLOC",{"$f":"IF(COUNTIF('PLANNING PRINCIPAL'!$I$522:$X$522,G14)>=1,\"\",ROW())","v":14},"LOC NAC INTERLOC","LOC NAC INTERLOC",{"$f":"IF(COUNTIF('PLANNING PRINCIPAL'!$I$525:$X$525,J14)>=1,\"\",ROW())","v":14},"LOC NAC INTERLOC","LOC NAC INTERLOC",{"$f":"IF(COUNTIF('PLANNING PRINCIPAL'!$I$528:$X$528,M14)>=1,\"\",ROW())","v":14},"LOC NAC INTERLOC","LOC NAC INTERLOC",{"$f":"IF(COUNTIF('PLANNING PRINCIPAL'!$I$531:$X$531,P14)>=1,\"\",ROW())","v":14},"LOC NAC INTERLOC","LOC NAC INTERLOC",{"$f":"IF(COUNTIF('PLANNING PRINCIPAL'!$I$534:$X$534,S14)>=1,\"\",ROW())","v":14},"LOC NAC INTERLOC",null,{"$f":"IF(COUNTIF('PLANNING PRINCIPAL'!$I$467:$X$467,V14)>=1,\"\",ROW())","v":14}]
[{"$f":"'DATA S1'!A15","v":"LOC NAC KILOUTOU"},{"$f":"IF(COUNTIF('PLANNING PRINCIPAL'!$I$516:$X$516,A15)>=1,\"\",ROW())","v":15},"LOC NAC KILOUTOU","LOC NAC KILOUTOU",{"$f":"IF(COUNTIF('PLANNING PRINCIPAL'!$I$519:$X$519,D15)>=1,\"\",ROW())","v":15},"LOC NAC KILOUTOU","LOC NAC KILOUTOU",{"$f":"IF(COUNTIF('PLANNING PRINCIPAL'!$I$522:$X$522,G15)>=1,\"\",ROW())","v":15},"LOC NAC KILOUTOU","LOC NAC KILOUTOU",{"$f":"IF(COUNTIF('PLANNING PRINCIPAL'!$I$525:$X$525,J15)>=1,\"\",ROW())","v":15},"LOC NAC KILOUTOU","LOC NAC KILOUTOU",{"$f":"IF(COUNTIF('PLANNING PRINCIPAL'!$I$528:$X$528,M15)>=1,\"\",ROW())","v":15},"LOC NAC KILOUTOU","LOC NAC KILOUTOU",{"$f":"IF(COUNTIF('PLANNING PRINCIPAL'!$I$531:$X$531,P15)>=1,\"\",ROW())","v":15},"LOC NAC KILOUTOU","LOC NAC KILOUTOU",{"$f":"IF(COUNTIF('PLANNING PRINCIPAL'!$I$534:$X$534,S15)>=1,\"\",ROW())","v":15},"LOC NAC KILOUTOU",null,{"$f":"IF(COUNTIF('PLANNING PRINCIPAL'!$I$467:$X$467,V15)>=1,\"\",ROW())","v":15}]
[{"$f":"'DATA S1'!A16","v":"LOC NAC AEB"},{"$f":"IF(COUNTIF('PLANNING PRINCIPAL'!$I$516:$X$516,A16)>=1,\"\",ROW())","v":16},"LOC NAC AEB","LOC NAC AEB",{"$f":"IF(COUNTIF('PLANNING PRINCIPAL'!$I$519:$X$519,D16)>=1,\"\",ROW())","v":16},"LOC NAC AEB","LOC NAC AEB",{"$f":"IF(COUNTIF('PLANNING PRINCIPAL'!$I$522:$X$522,G16)>=1,\"\",ROW())","v":16},"LOC NAC AEB","LOC NAC AEB",{"$f":"IF(COUNTIF('PLANNING PRINCIPAL'!$I$525:$X$525,J16)>=1,\"\",ROW())","v":16},"LOC NAC AEB","LOC NAC AEB",{"$f":"IF(COUNTIF('PLANNING PRINCIPAL'!$I$528:$X$528,M16)>=1,\"\",ROW())","v":16},"LOC NAC AEB","LOC NAC AEB",{"$f":"IF(COUNTIF('PLANNING PRINCIPAL'!$I$531:$X$531,P16)>=1,\"\",ROW())","v":16},"LOC NAC AEB","LOC NAC AEB",{"$f":"IF(COUNTIF('PLANNING PRINCIPAL'!$I$534:$X$534,S16)>=1,\"\",ROW())","v":16},"LOC NAC AEB",null,{"$f":"IF(COUNTIF('PLANNING PRINCIPAL'!$I$467:$X$467,V16)>=1,\"\",ROW())","v":16}]
[{"$f":"'DATA S1'!A17","v":"LOC PELLE SOLOMAT"},{"$f":"IF(COUNTIF('PLANNING PRINCIPAL'!$I$516:$X$516,A17)>=1,\"\",ROW())","v":17},"LOC PELLE SOLOMAT","LOC PELLE SOLOMAT",{"$f":"IF(COUNTIF('PLANNING PRINCIPAL'!$I$519:$X$519,D17)>=1,\"\",ROW())","v":17},"LOC PELLE SOLOMAT","LOC PELLE SOLOMAT",{"$f":"IF(COUNTIF('PLANNING PRINCIPAL'!$I$522:$X$522,G17)>=1,\"\",ROW())","v":17},"LOC PELLE SOLOMAT","LOC PELLE SOLOMAT",{"$f":"IF(COUNTIF('PLANNING PRINCIPAL'!$I$525:$X$525,J17)>=1,\"\",ROW())","v":17},"LOC PELLE SOLOMAT","LOC PELLE SOLOMAT",{"$f":"IF(COUNTIF('PLANNING PRINCIPAL'!$I$528:$X$528,M17)>=1,\"\",ROW())","v":17},"LOC PELLE SOLOMAT","LOC PELLE SOLOMAT",{"$f":"IF(COUNTIF('PLANNING PRINCIPAL'!$I$531:$X$531,P17)>=1,\"\",ROW())","v":17},"LOC PELLE SOLOMAT","LOC PELLE SOLOMAT",{"$f":"IF(COUNTIF('PLANNING PRINCIPAL'!$I$534:$X$534,S17)>=1,\"\",ROW())","v":17},"LOC PELLE SOLOMAT",null,{"$f":"IF(COUNTIF('PLANNING PRINCIPAL'!$I$467:$X$467,V17)>=1,\"\",ROW())","v":17}]
[{"$f":"'DATA S1'!A18","v":"LOC PELLE AEB"},{"$f":"IF(COUNTIF('PLANNING PRINCIPAL'!$I$516:$X$516,A18)>=1,\"\",ROW())","v":18},"LOC PELLE AEB","LOC PELLE AEB",{"$f":"IF(COUNTIF('PLANNING PRINCIPAL'!$I$519:$X$519,D18)>=1,\"\",ROW())","v":18},"LOC PELLE AEB","LOC PELLE AEB",{"$f":"IF(COUNTIF('PLANNING PRINCIPAL'!$I$522:$X$522,G18)>=1,\"\",ROW())","v":18},"LOC PELLE AEB","LOC PELLE AEB",{"$f":"IF(COUNTIF('PLANNING PRINCIPAL'!$I$525:$X$525,J18)>=1,\"\",ROW())","v":18},"LOC PELLE AEB","LOC PELLE AEB",{"$f":"IF(COUNTIF('PLANNING PRINCIPAL'!$I$528:$X$528,M18)>=1,\"\",ROW())","v":18},"LOC PELLE AEB","LOC PELLE AEB",{"$f":"IF(COUNTIF('PLANNING PRINCIPAL'!$I$531:$X$531,P18)>=1,\"\",ROW())","v":18},"LOC PELLE AEB","LOC PELLE AEB",{"$f":"IF(COUNTIF('PLANNING PRINCIPAL'!$I$534:$X$534,S18)>=1,\"\",ROW())","v":18},"LOC PELLE AEB",null,{"$f":"IF(COUNTIF('PLANNING PRINCIPAL'!$I$467:$X$467,V18)>=1,\"\",ROW())","v":18}]
[{"$f":"'DATA S1'!A19","v":"LOC PELLE INTERLOC"},{"$f":"IF(COUNTIF('PLANNING PRINCIPAL'!$I$516:$X$516,A19)>=1,\"\",ROW())","v":19},"LOC PELLE INTERLOC","LOC PELLE INTERLOC",{"$f":"IF(COUNTIF('PLANNING PRINCIPAL'!$I$519:$X$519,D19)>=1,\"\",ROW())","v":19},"LOC PELLE INTERLOC","LOC PELLE INTERLOC",{"$f":"IF(COUNTIF('PLANNING PRINCIPAL'!$I$522:$X$522,G19)>=1,\"\",ROW())","v":19},"LOC PELLE INTERLOC","LOC PELLE INTERLOC",{"$f":"IF(COUNTIF('PLANNING PRINCIPAL'!$I$525:$X$525,J19)>=1,\"\",ROW())","v":19},"LOC PELLE INTERLOC","LOC PELLE INTERLOC",{"$f":"IF(COUNTIF('PLANNING PRINCIPAL'!$I$528:$X$528,M19)>=1,\"\",ROW())","v":19},"LOC PELLE INTERLOC","LOC PELLE INTERLOC",{"$f":"IF(COUNTIF('PLANNING PRINCIPAL'!$I$531:$X$531,P19)>=1,\"\",ROW())","v":19},"LOC PELLE INTERLOC","LOC PELLE INTERLOC",{"$f":"IF(COUNTIF('PLANNING PRINCIPAL'!$I$534:$X$534,S19)>=1,\"\",ROW())","v":19},"LOC PELLE INTERLOC",null,{"$f":"IF(COUNTIF('PLANNING PRINCIPAL'!$I$467:$X$467,V19)>=1,\"\",ROW())","v":19}]
[{"$f":"'DATA S1'!A20","v":"LOC PELLE KILOUTOU"},{"$f":"IF(COUNTIF('PLANNING PRINCIPAL'!$I$516:$X$516,A20)>=1,\"\",ROW())","v":20},"LOC PELLE KILOUTOU","LOC PELLE KILOUTOU",{"$f":"IF(COUNTIF('PLANNING PRINCIPAL'!$I$519:$X$519,D20)>=1,\"\",ROW())","v":20},"LOC PELLE KILOUTOU","LOC PELLE KILOUTOU",{"$f":"IF(COUNTIF('PLANNING PRINCIPAL'!$I$522:$X$522,G20)>=1,\"\",ROW())","v":20},"LOC PELLE KILOUTOU","LOC PELLE KILOUTOU",{"$f":"IF(COUNTIF('PLANNING PRINCIPAL'!$I$525:$X$525,J20)>=1,\"\",ROW())","v":20},"LOC PELLE KILOUTOU","LOC PELLE KILOUTOU",{"$f":"IF(COUNTIF('PLANNING PRINCIPAL'!$I$528:$X$528,M20)>=1,\"\",ROW())","v":20},"LOC PELLE KILOUTOU","LOC PELLE KILOUTOU",{"$f":"IF(COUNTIF('PLANNING PRINCIPAL'!$I$531:$X$531,P20)>=1,\"\",ROW())","v":20},"LOC PELLE KILOUTOU","LOC PELLE KILOUTOU",{"$f":"IF(COUNTIF('PLANNING PRINCIPAL'!$I$534:$X$534,S20)>=1,\"\",ROW())","v":20},"LOC PELLE KILOUTOU",null,{"$f":"IF(COUNTIF('PLANNING PRINCIPAL'!$I$467:$X$467,V20)>=1,\"\",ROW())","v":20}]
[null,{"$f":"IF(COUNTIF('PLANNING PRINCIPAL'!$I$516:$X$516,A21)>=1,\"\",ROW())","v":21},null,null,{"$f":"IF(COUNTIF('PLANNING PRINCIPAL'!$I$519:$X$519,D21)>=1,\"\",ROW())","v":21},null,null,{"$f":"IF(COUNTIF('PLANNING PRINCIPAL'!$I$522:$X$522,G21)>=1,\"\",ROW())","v":21},null,null,{"$f":"IF(COUNTIF('PLANNING PRINCIPAL'!$I$525:$X$525,J21)>=1,\"\",ROW())","v":21},null,null,{"$f":"IF(COUNTIF('PLANNING PRINCIPAL'!$I$528:$X$528,M21)>=1,\"\",ROW())","v":21},null,null,{"$f":"IF(COUNTIF('PLANNING PRINCIPAL'!$I$531:$X$531,P21)>=1,\"\",ROW())","v":21},null,null,{"$f":"IF(COUNTIF('PLANNING PRINCIPAL'!$I$534:$X$534,S21)>=1,\"\",ROW())","v":21},null,null,{"$f":"IF(COUNTIF('PLANNING PRINCIPAL'!$I$467:$X$467,V21)>=1,\"\",ROW())","v":21}]
[null,{"$f":"IF(COUNTIF('PLANNING PRINCIPAL'!$I$516:$X$516,A22)>=1,\"\",ROW())","v":22},null,null,{"$f":"IF(COUNTIF('PLANNING PRINCIPAL'!$I$519:$X$519,D22)>=1,\"\",ROW())","v":22},null,null,{"$f":"IF(COUNTIF('PLANNING PRINCIPAL'!$I$522:$X$522,G22)>=1,\"\",ROW())","v":22},null,null,{"$f":"IF(COUNTIF('PLANNING PRINCIPAL'!$I$525:$X$525,J22)>=1,\"\",ROW())","v":22},null,null,{"$f":"IF(COUNTIF('PLANNING PRINCIPAL'!$I$528:$X$528,M22)>=1,\"\",ROW())","v":22},null,null,{"$f":"IF(COUNTIF('PLANNING PRINCIPAL'!$I$531:$X$531,P22)>=1,\"\",ROW())","v":22},null,null,{"$f":"IF(COUNTIF('PLANNING PRINCIPAL'!$I$534:$X$534,S22)>=1,\"\",ROW())","v":22},null,null,{"$f":"IF(COUNTIF('PLANNING PRINCIPAL'!$I$467:$X$467,V22)>=1,\"\",ROW())","v":22}]
[null,{"$f":"IF(COUNTIF('PLANNING PRINCIPAL'!$I$516:$X$516,A23)>=1,\"\",ROW())","v":23},null,null,{"$f":"IF(COUNTIF('PLANNING PRINCIPAL'!$I$519:$X$519,D23)>=1,\"\",ROW())","v":23},null,null,{"$f":"IF(COUNTIF('PLANNING PRINCIPAL'!$I$522:$X$522,G23)>=1,\"\",ROW())","v":23},null,null,{"$f":"IF(COUNTIF('PLANNING PRINCIPAL'!$I$525:$X$525,J23)>=1,\"\",ROW())","v":23},null,null,{"$f":"IF(COUNTIF('PLANNING PRINCIPAL'!$I$528:$X$528,M23)>=1,\"\",ROW())","v":23},null,null,{"$f":"IF(COUNTIF('PLANNING PRINCIPAL'!$I$531:$X$531,P23)>=1,\"\",ROW())","v":23},null,null,{"$f":"IF(COUNTIF('PLANNING PRINCIPAL'!$I$534:$X$534,S23)>=1,\"\",ROW())","v":23},null,null,{"$f":"IF(COUNTIF('PLANNING PRINCIPAL'!$I$467:$X$467,V23)>=1,\"\",ROW())","v":23}]
[null,{"$f":"IF(COUNTIF('PLANNING PRINCIPAL'!$I$516:$X$516,A24)>=1,\"\",ROW())","v":24},null,null,{"$f":"IF(COUNTIF('PLANNING PRINCIPAL'!$I$519:$X$519,D24)>=1,\"\",ROW())","v":24},null,null,{"$f":"IF(COUNTIF('PLANNING PRINCIPAL'!$I$522:$X$522,G24)>=1,\"\",ROW())","v":24},null,null,{"$f":"IF(COUNTIF('PLANNING PRINCIPAL'!$I$525:$X$525,J24)>=1,\"\",ROW())","v":24},null,null,{"$f":"IF(COUNTIF('PLANNING PRINCIPAL'!$I$528:$X$528,M24)>=1,\"\",ROW())","v":24},null,null,{"$f":"IF(COUNTIF('PLANNING PRINCIPAL'!$I$531:$X$531,P24)>=1,\"\",ROW())","v":24},null,null,{"$f":"IF(COUNTIF('PLANNING PRINCIPAL'!$I$534:$X$534,S24)>=1,\"\",ROW())","v":24},null,null,{"$f":"IF(COUNTIF('PLANNING PRINCIPAL'!$I$467:$X$467,V24)>=1,\"\",ROW())","v":24}]
[null,{"$f":"IF(COUNTIF('PLANNING PRINCIPAL'!$I$516:$X$516,A25)>=1,\"\",ROW())","v":25},null,null,{"$f":"IF(COUNTIF('PLANNING PRINCIPAL'!$I$519:$X$519,D25)>=1,\"\",ROW())","v":25},null,null,{"$f":"IF(COUNTIF('PLANNING PRINCIPAL'!$I$522:$X$522,G25)>=1,\"\",ROW())","v":25},null,null,{"$f":"IF(COUNTIF('PLANNING PRINCIPAL'!$I$525:$X$525,J25)>=1,\"\",ROW())","v":25},null,null,{"$f":"IF(COUNTIF('PLANNING PRINCIPAL'!$I$528:$X$528,M25)>=1,\"\",ROW())","v":25},null,null,{"$f":"IF(COUNTIF('PLANNING PRINCIPAL'!$I$531:$X$531,P25)>=1,\"\",ROW())","v":25},null,null,{"$f":"IF(COUNTIF('PLANNING PRINCIPAL'!$I$534:$X$534,S25)>=1,\"\",ROW())","v":25},null,null,{"$f":"IF(COUNTIF('PLANNING PRINCIPAL'!$I$467:$X$467,V25)>=1,\"\",ROW())","v":25}]
[null,{"$f":"IF(COUNTIF('PLANNING PRINCIPAL'!$I$516:$X$516,A26)>=1,\"\",ROW())","v":26},null,null,{"$f":"IF(COUNTIF('PLANNING PRINCIPAL'!$I$519:$X$519,D26)>=1,\"\",ROW())","v":26},null,null,{"$f":"IF(COUNTIF('PLANNING PRINCIPAL'!$I$522:$X$522,G26)>=1,\"\",ROW())","v":26},null,null,{"$f":"IF(COUNTIF('PLANNING PRINCIPAL'!$I$525:$X$525,J26)>=1,\"\",ROW())","v":26},null,null,{"$f":"IF(COUNTIF('PLANNING PRINCIPAL'!$I$528:$X$528,M26)>=1,\"\",ROW())","v":26},null,null,{"$f":"IF(COUNTIF('PLANNING PRINCIPAL'!$I$531:$X$531,P26)>=1,\"\",ROW())","v":26},null,null,{"$f":"IF(COUNTIF('PLANNING PRINCIPAL'!$I$534:$X$534,S26)>=1,\"\",ROW())","v":26},null,null,{"$f":"IF(COUNTIF('PLANNING PRINCIPAL'!$I$467:$X$467,V26)>=1,\"\",ROW())","v":26}]
[null,{"$f":"IF(COUNTIF('PLANNING PRINCIPAL'!$I$516:$X$516,A27)>=1,\"\",ROW())","v":27},null,null,{"$f":"IF(COUNTIF('PLANNING PRINCIPAL'!$I$519:$X$519,D27)>=1,\"\",ROW())","v":27},null,null,{"$f":"IF(COUNTIF('PLANNING PRINCIPAL'!$I$522:$X$522,G27)>=1,\"\",ROW())","v":27},null,null,{"$f":"IF(COUNTIF('PLANNING PRINCIPAL'!$I$525:$X$525,J27)>=1,\"\",ROW())","v":27},null,null,{"$f":"IF(COUNTIF('PLANNING PRINCIPAL'!$I$528:$X$528,M27)>=1,\"\",ROW())","v":27},null,null,{"$f":"IF(COUNTIF('PLANNING PRINCIPAL'!$I$531:$X$531,P27)>=1,\"\",ROW())","v":27},null,null,{"$f":"IF(COUNTIF('PLANNING PRINCIPAL'!$I$534:$X$534,S27)>=1,\"\",ROW())","v":27},null,null,{"$f":"IF(COUNTIF('PLANNING PRINCIPAL'!$I$467:$X$467,V27)>=1,\"\",ROW())","v":27}]
[null,{"$f":"IF(COUNTIF('PLANNING PRINCIPAL'!$I$516:$X$516,A28)>=1,\"\",ROW())","v":28},null,null,{"$f":"IF(COUNTIF('PLANNING PRINCIPAL'!$I$519:$X$519,D28)>=1,\"\",ROW())","v":28},null,null,{"$f":"IF(COUNTIF('PLANNING PRINCIPAL'!$I$522:$X$522,G28)>=1,\"\",ROW())","v":28},null,null,{"$f":"IF(COUNTIF('PLANNING PRINCIPAL'!$I$525:$X$525,J28)>=1,\"\",ROW())","v":28},null,null,{"$f":"IF(COUNTIF('PLANNING PRINCIPAL'!$I$528:$X$528,M28)>=1,\"\",ROW())","v":28},null,null,{"$f":"IF(COUNTIF('PLANNING PRINCIPAL'!$I$531:$X$531,P28)>=1,\"\",ROW())","v":28},null,null,{"$f":"IF(COUNTIF('PLANNING PRINCIPAL'!$I$534:$X$534,S28)>=1,\"\",ROW())","v":28},null,null,{"$f":"IF(COUNTIF('PLANNING PRINCIPAL'!$I$467:$X$467,V28)>=1,\"\",ROW())","v":28}]
[null,{"$f":"IF(COUNTIF('PLANNING PRINCIPAL'!$I$516:$X$516,A29)>=1,\"\",ROW())","v":29},null,null,{"$f":"IF(COUNTIF('PLANNING PRINCIPAL'!$I$519:$X$519,D29)>=1,\"\",ROW())","v":29},null,null,{"$f":"IF(COUNTIF('PLANNING PRINCIPAL'!$I$522:$X$522,G29)>=1,\"\",ROW())","v":29},null,null,{"$f":"IF(COUNTIF('PLANNING PRINCIPAL'!$I$525:$X$525,J29)>=1,\"\",ROW())","v":29},null,null,{"$f":"IF(COUNTIF('PLANNING PRINCIPAL'!$I$528:$X$528,M29)>=1,\"\",ROW())","v":29},null,null,{"$f":"IF(COUNTIF('PLANNING PRINCIPAL'!$I$531:$X$531,P29)>=1,\"\",ROW())","v":29},null,null,{"$f":"IF(COUNTIF('PLANNING PRINCIPAL'!$I$534:$X$534,S29)>=1,\"\",ROW())","v":29},null,null,{"$f":"IF(COUNTIF('PLANNING PRINCIPAL'!$I$467:$X$467,V29)>=1,\"\",ROW())","v":29}]
[null,{"$f":"IF(COUNTIF('PLANNING PRINCIPAL'!$I$516:$X$516,A30)>=1,\"\",ROW())","v":30},null,null,{"$f":"IF(COUNTIF('PLANNING PRINCIPAL'!$I$519:$X$519,D30)>=1,\"\",ROW())","v":30},null,null,{"$f":"IF(COUNTIF('PLANNING PRINCIPAL'!$I$522:$X$522,G30)>=1,\"\",ROW())","v":30},null,null,{"$f":"IF(COUNTIF('PLANNING PRINCIPAL'!$I$525:$X$525,J30)>=1,\"\",ROW())","v":30},null,null,{"$f":"IF(COUNTIF('PLANNING PRINCIPAL'!$I$528:$X$528,M30)>=1,\"\",ROW())","v":30},null,null,{"$f":"IF(COUNTIF('PLANNING PRINCIPAL'!$I$531:$X$531,P30)>=1,\"\",ROW())","v":30},null,null,{"$f":"IF(COUNTIF('PLANNING PRINCIPAL'!$I$534:$X$534,S30)>=1,\"\",ROW())","v":30},null,null,{"$f":"IF(COUNTIF('PLANNING PRINCIPAL'!$I$467:$X$467,V30)>=1,\"\",ROW())","v":30}]
[null,{"$f":"IF(COUNTIF('PLANNING PRINCIPAL'!$I$516:$X$516,A31)>=1,\"\",ROW())","v":31},null,null,{"$f":"IF(COUNTIF('PLANNING PRINCIPAL'!$I$519:$X$519,D31)>=1,\"\",ROW())","v":31},null,null,{"$f":"IF(COUNTIF('PLANNING PRINCIPAL'!$I$522:$X$522,G31)>=1,\"\",ROW())","v":31},null,null,{"$f":"IF(COUNTIF('PLANNING PRINCIPAL'!$I$525:$X$525,J31)>=1,\"\",ROW())","v":31},null,null,{"$f":"IF(COUNTIF('PLANNING PRINCIPAL'!$I$528:$X$528,M31)>=1,\"\",ROW())","v":31},null,null,{"$f":"IF(COUNTIF('PLANNING PRINCIPAL'!$I$531:$X$531,P31)>=1,\"\",ROW())","v":31},null,null,{"$f":"IF(COUNTIF('PLANNING PRINCIPAL'!$I$534:$X$534,S31)>=1,\"\",ROW())","v":31},null,null,{"$f":"IF(COUNTIF('PLANNING PRINCIPAL'!$I$467:$X$467,V31)>=1,\"\",ROW())","v":31}]
[null,{"$f":"IF(COUNTIF('PLANNING PRINCIPAL'!$I$516:$X$516,A32)>=1,\"\",ROW())","v":32},null,null,{"$f":"IF(COUNTIF('PLANNING PRINCIPAL'!$I$519:$X$519,D32)>=1,\"\",ROW())","v":32},null,null,{"$f":"IF(COUNTIF('PLANNING PRINCIPAL'!$I$522:$X$522,G32)>=1,\"\",ROW())","v":32},null,null,{"$f":"IF(COUNTIF('PLANNING PRINCIPAL'!$I$525:$X$525,J32)>=1,\"\",ROW())","v":32},null,null,{"$f":"IF(COUNTIF('PLANNING PRINCIPAL'!$I$528:$X$528,M32)>=1,\"\",ROW())","v":32},null,null,{"$f":"IF(COUNTIF('PLANNING PRINCIPAL'!$I$531:$X$531,P32)>=1,\"\",ROW())","v":32},null,null,{"$f":"IF(COUNTIF('PLANNING PRINCIPAL'!$I$534:$X$534,S32)>=1,\"\",ROW())","v":32},null,null,{"$f":"IF(COUNTIF('PLANNING PRINCIPAL'!$I$467:$X$467,V32)>=1,\"\",ROW())","v":32}]
[null,{"$f":"IF(COUNTIF('PLANNING PRINCIPAL'!$I$516:$X$516,A33)>=1,\"\",ROW())","v":33},null,null,{"$f":"IF(COUNTIF('PLANNING PRINCIPAL'!$I$519:$X$519,D33)>=1,\"\",ROW())","v":33},null,null,{"$f":"IF(COUNTIF('PLANNING PRINCIPAL'!$I$522:$X$522,G33)>=1,\"\",ROW())","v":33},null,null,{"$f":"IF(COUNTIF('PLANNING PRINCIPAL'!$I$525:$X$525,J33)>=1,\"\",ROW())","v":33},null,null,{"$f":"IF(COUNTIF('PLANNING PRINCIPAL'!$I$528:$X$528,M33)>=1,\"\",ROW())","v":33},null,null,{"$f":"IF(COUNTIF('PLANNING PRINCIPAL'!$I$531:$X$531,P33)>=1,\"\",ROW())","v":33},null,null,{"$f":"IF(COUNTIF('PLANNING PRINCIPAL'!$I$534:$X$534,S33)>=1,\"\",ROW())","v":33},null,null,{"$f":"IF(COUNTIF('PLANNING PRINCIPAL'!$I$467:$X$467,V33)>=1,\"\",ROW())","v":33}]
[null,{"$f":"IF(COUNTIF('PLANNING PRINCIPAL'!$I$516:$X$516,A34)>=1,\"\",ROW())","v":34},null,null,{"$f":"IF(COUNTIF('PLANNING PRINCIPAL'!$I$519:$X$519,D34)>=1,\"\",ROW())","v":34},null,null,{"$f":"IF(COUNTIF('PLANNING PRINCIPAL'!$I$522:$X$522,G34)>=1,\"\",ROW())","v":34},null,null,{"$f":"IF(COUNTIF('PLANNING PRINCIPAL'!$I$525:$X$525,J34)>=1,\"\",ROW())","v":34},null,null,{"$f":"IF(COUNTIF('PLANNING PRINCIPAL'!$I$528:$X$528,M34)>=1,\"\",ROW())","v":34},null,null,{"$f":"IF(COUNTIF('PLANNING PRINCIPAL'!$I$531:$X$531,P34)>=1,\"\",ROW())","v":34},null,null,{"$f":"IF(COUNTIF('PLANNING PRINCIPAL'!$I$534:$X$534,S34)>=1,\"\",ROW())","v":34},null,null,{"$f":"IF(COUNTIF('PLANNING PRINCIPAL'!$I$467:$X$467,V34)>=1,\"\",ROW())","v":34}]
["LUNDI",null,null,"MARDI",null,null,"MERCREDI",null,null,"JEUDI",null,null,"VENDREDI",null,null,"SAMEDI",null,null,"DIMANCHE",null,null,"ASTREINTE"]

{"sheet":"DATA S24","index":25,"n_rows":35,"n_cols":24,"rows_kept":35,"cut":false,"hidden":false,"merged":[[34,18,34,20],[34,21,34,23],[34,0,34,2],[34,3,34,5],[34,6,34,8],[34,9,34,11],[34,12,34,14],[34,15,34,17]]}
[{"$f":"'DATA S1'!A1","v":"MAS XX "},{"$f":"IF(COUNTIF('PLANNING PRINCIPAL'!$I$539:$X$539,A1)>=1,\"\",ROW())","v":1},{"$f":"IF(ROW(A1)-ROW(A$1)+1>COUNT(B:B),\"\", INDEX(A:A,SMALL(B:B,1+ROW(A1)-ROW(A$1))))","v":"MAS XX "},{"$f":"A1","v":"MAS XX "},{"$f":"IF(COUNTIF('PLANNING PRINCIPAL'!$I$542:$X$542,D1)>=1,\"\",ROW())","v":1},{"$f":"IF(ROW(D1)-ROW(D$1)+1>COUNT(E:E),\"\", INDEX(D:D,SMALL(E:E,1+ROW(D1)-ROW(D$1))))","v":"MAS XX "},{"$f":"A1","v":"MAS XX "},{"$f":"IF(COUNTIF('PLANNING PRINCIPAL'!$I$545:$X$545,G1)>=1,\"\",ROW())","v":1},{"$f":"IF(ROW(G1)-ROW(G$1)+1>COUNT(H:H),\"\", INDEX(G:G,SMALL(H:H,1+ROW(G1)-ROW(G$1))))","v":"MAS XX "},{"$f":"A1","v":"MAS XX "},{"$f":"IF(COUNTIF('PLANNING PRINCIPAL'!$I$548:$X$548,J1)>=1,\"\",ROW())","v":1},{"$f":"IF(ROW(J1)-ROW(J$1)+1>COUNT(K:K),\"\", INDEX(J:J,SMALL(K:K,1+ROW(J1)-ROW(J$1))))","v":"MAS XX "},{"$f":"A1","v":"MAS XX "},{"$f":"IF(COUNTIF('PLANNING PRINCIPAL'!$I$561:$X$561,M1)>=1,\"\",ROW())","v":1},{"$f":"IF(ROW(M1)-ROW(M$1)+1>COUNT(N:N),\"\", INDEX(M:M,SMALL(N:N,1+ROW(M1)-ROW(M$1))))","v":"MAS XX "},{"$f":"A1","v":"MAS XX "},{"$f":"IF(COUNTIF('PLANNING PRINCIPAL'!$I$564:$X$564,P1)>=1,\"\",ROW())","v":1},{"$f":"IF(ROW(P1)-ROW(P$1)+1>COUNT(Q:Q),\"\", INDEX(P:P,SMALL(Q:Q,1+ROW(P1)-ROW(P$1))))","v":"MAS XX "},{"$f":"A1","v":"MAS XX "},{"$f":"IF(COUNTIF('PLANNING PRINCIPAL'!$I$567:$X$567,S1)>=1,\"\",ROW())","v":1},{"$f":"IF(ROW(S1)-ROW(S$1)+1>COUNT(T:T),\"\", INDEX(S:S,SMALL(T:T,1+ROW(S1)-ROW(S$1))))","v":"MAS XX "},{"$f":"'DATA S1'!V1","v":"ASTREINTE SLT"},{"$f":"IF(COUNTIF('PLANNING PRINCIPAL'!$I$569:$X$569,V1)>=1,\"\",ROW())","v":1},{"$f":"IF(ROW(V1)-ROW(V$1)+1>COUNT(W:W),\"\", INDEX(V:V,SMALL(W:W,1+ROW(V1)-ROW(V$1))))","v":"ASTREINTE SLT"}]
[{"$f":"'DATA S1'!A2","v":"MAS YY "},{"$f":"IF(COUNTIF('PLANNING PRINCIPAL'!$I$539:$X$539,A2)>=1,\"\",ROW())","v":2},{"$f":"IF(ROW(A2)-ROW(A$1)+1>COUNT(B:B),\"\", INDEX(A:A,SMALL(B:B,1+ROW(A2)-ROW(A$1))))","v":"MAS YY "},"MAS YY ",{"$f":"IF(COUNTIF('PLANNING PRINCIPAL'!$I$542:$X$542,D2)>=1,\"\",ROW())","v":2},{"$f":"IF(ROW(D2)-ROW(D$1)+1>COUNT(E:E),\"\", INDEX(D:D,SMALL(E:E,1+ROW(D2)-ROW(D$1))))","v":"MAS YY "},{"$f":"A2","v":"MAS YY "},{"$f":"IF(COUNTIF('PLANNING PRINCIPAL'!$I$545:$X$545,G2)>=1,\"\",ROW())","v":2},{"$f":"IF(ROW(G2)-ROW(G$1)+1>COUNT(H:H),\"\", INDEX(G:G,SMALL(H:H,1+ROW(G2)-ROW(G$1))))","v":"MAS YY "},{"$f":"A2","v":"MAS YY "},{"$f":"IF(COUNTIF('PLANNING PRINCIPAL'!$I$548:$X$548,J2)>=1,\"\",ROW())","v":2},{"$f":"IF(ROW(J2)-ROW(J$1)+1>COUNT(K:K),\"\", INDEX(J:J,SMALL(K:K,1+ROW(J2)-ROW(J$1))))","v":"MAS YY "},{"$f":"A2","v":"MAS YY "},{"$f":"IF(COUNTIF('PLANNING PRINCIPAL'!$I$561:$X$561,M2)>=1,\"\",ROW())","v":2},{"$f":"IF(ROW(M2)-ROW(M$1)+1>COUNT(N:N),\"\", INDEX(M:M,SMALL(N:N,1+ROW(M2)-ROW(M$1))))","v":"MAS YY "},{"$f":"A2","v":"MAS YY "},{"$f":"IF(COUNTIF('PLANNING PRINCIPAL'!$I$564:$X$564,P2)>=1,\"\",ROW())","v":2},{"$f":"IF(ROW(P2)-ROW(P$1)+1>COUNT(Q:Q),\"\", INDEX(P:P,SMALL(Q:Q,1+ROW(P2)-ROW(P$1))))","v":"MAS YY "},{"$f":"A2","v":"MAS YY "},{"$f":"IF(COUNTIF('PLANNING PRINCIPAL'!$I$567:$X$567,S2)>=1,\"\",ROW())","v":2},{"$f":"IF(ROW(S2)-ROW(S$1)+1>COUNT(T:T),\"\", INDEX(S:S,SMALL(T:T,1+ROW(S2)-ROW(S$1))))","v":"MAS YY "},{"$f":"'DATA S1'!V2","v":"ASTREINTE EP"},{"$f":"IF(COUNTIF('PLANNING PRINCIPAL'!$I$569:$X$569,V2)>=1,\"\",ROW())","v":2},{"$f":"IF(ROW(V2)-ROW(V$1)+1>COUNT(W:W),\"\", INDEX(V:V,SMALL(W:W,1+ROW(V2)-ROW(V$1))))","v":"ASTREINTE EP"}]
[{"$f":"'DATA S1'!A3","v":"MAS VQ "},{"$f":"IF(COUNTIF('PLANNING PRINCIPAL'!$I$539:$X$539,A3)>=1,\"\",ROW())","v":3},"MAS VQ ","MAS VQ ",{"$f":"IF(COUNTIF('PLANNING PRINCIPAL'!$I$542:$X$542,D3)>=1,\"\",ROW())","v":3},"MAS VQ ","MAS VQ ",{"$f":"IF(COUNTIF('PLANNING PRINCIPAL'!$I$545:$X$545,G3)>=1,\"\",ROW())","v":3},"MAS VQ ","MAS VQ ",{"$f":"IF(COUNTIF('PLANNING PRINCIPAL'!$I$548:$X$548,J3)>=1,\"\",ROW())","v":3},"MAS VQ ","MAS VQ ",{"$f":"IF(COUNTIF('PLANNING PRINCIPAL'!$I$561:$X$561,M3)>=1,\"\",ROW())","v":3},"MAS VQ ","MAS VQ ",{"$f":"IF(COUNTIF('PLANNING PRINCIPAL'!$I$564:$X$564,P3)>=1,\"\",ROW())","v":3},"MAS VQ ","MAS VQ ",{"$f":"IF(COUNTIF('PLANNING PRINCIPAL'!$I$567:$X$567,S3)>=1,\"\",ROW())","v":3},"MAS VQ ",{"$f":"'DATA S1'!V3","v":"V NOC CHARTRES"},{"$f":"IF(COUNTIF('PLANNING PRINCIPAL'!$I$569:$X$569,V3)>=1,\"\",ROW())","v":3},"V NOC CHARTRES"]
[{"$f":"'DATA S1'!A4","v":"MAS PL "},{"$f":"IF(COUNTIF('PLANNING PRINCIPAL'!$I$539:$X$539,A4)>=1,\"\",ROW())","v":4},"MAS PL ","MAS PL ",{"$f":"IF(COUNTIF('PLANNING PRINCIPAL'!$I$542:$X$542,D4)>=1,\"\",ROW())","v":4},"MAS PL ","MAS PL ",{"$f":"IF(COUNTIF('PLANNING PRINCIPAL'!$I$545:$X$545,G4)>=1,\"\",ROW())","v":4},"MAS PL ","MAS PL ",{"$f":"IF(COUNTIF('PLANNING PRINCIPAL'!$I$548:$X$548,J4)>=1,\"\",ROW())","v":4},"MAS PL ","MAS PL ",{"$f":"IF(COUNTIF('PLANNING PRINCIPAL'!$I$561:$X$561,M4)>=1,\"\",ROW())","v":4},"MAS PL ","MAS PL ",{"$f":"IF(COUNTIF('PLANNING PRINCIPAL'!$I$564:$X$564,P4)>=1,\"\",ROW())","v":4},"MAS PL ","MAS PL ",{"$f":"IF(COUNTIF('PLANNING PRINCIPAL'!$I$567:$X$567,S4)>=1,\"\",ROW())","v":4},"MAS PL ",{"$f":"'DATA S1'!V4","v":"V NOC EPERNON"},{"$f":"IF(COUNTIF('PLANNING PRINCIPAL'!$I$569:$X$569,V4)>=1,\"\",ROW())","v":4},"V NOC EPERNON"]
[{"$f":"'DATA S1'!A5","v":"BEN VL PT "},{"$f":"IF(COUNTIF('PLANNING PRINCIPAL'!$I$539:$X$539,A5)>=1,\"\",ROW())","v":5},"BEN VL PT ","BEN VL PT ",{"$f":"IF(COUNTIF('PLANNING PRINCIPAL'!$I$542:$X$542,D5)>=1,\"\",ROW())","v":5},"BEN VL PT ","BEN VL PT ",{"$f":"IF(COUNTIF('PLANNING PRINCIPAL'!$I$545:$X$545,G5)>=1,\"\",ROW())","v":5},"BEN VL PT ","BEN VL PT ",{"$f":"IF(COUNTIF('PLANNING PRINCIPAL'!$I$548:$X$548,J5)>=1,\"\",ROW())","v":5},"BEN VL PT ","BEN VL PT ",{"$f":"IF(COUNTIF('PLANNING PRINCIPAL'!$I$561:$X$561,M5)>=1,\"\",ROW())","v":5},"BEN VL PT ","BEN VL PT ",{"$f":"IF(COUNTIF('PLANNING PRINCIPAL'!$I$564:$X$564,P5)>=1,\"\",ROW())","v":5},"BEN VL PT ","BEN VL PT ",{"$f":"IF(COUNTIF('PLANNING PRINCIPAL'!$I$567:$X$567,S5)>=1,\"\",ROW())","v":5},"BEN VL PT ",{"$f":"'DATA S1'!V5","v":"V NOC HANCHES"},{"$f":"IF(COUNTIF('PLANNING PRINCIPAL'!$I$569:$X$569,V5)>=1,\"\",ROW())","v":5},"V NOC HANCHES"]
[{"$f":"'DATA S1'!A6","v":"BEN 19T "},{"$f":"IF(COUNTIF('PLANNING PRINCIPAL'!$I$539:$X$539,A6)>=1,\"\",ROW())","v":6},"BEN 19T ","BEN 19T ",{"$f":"IF(COUNTIF('PLANNING PRINCIPAL'!$I$542:$X$542,D6)>=1,\"\",ROW())","v":6},"BEN 19T ","BEN 19T ",{"$f":"IF(COUNTIF('PLANNING PRINCIPAL'!$I$545:$X$545,G6)>=1,\"\",ROW())","v":6},"BEN 19T ","BEN 19T ",{"$f":"IF(COUNTIF('PLANNING PRINCIPAL'!$I$548:$X$548,J6)>=1,\"\",ROW())","v":6},"BEN 19T ","BEN 19T ",{"$f":"IF(COUNTIF('PLANNING PRINCIPAL'!$I$561:$X$561,M6)>=1,\"\",ROW())","v":6},"BEN 19T ","BEN 19T ",{"$f":"IF(COUNTIF('PLANNING PRINCIPAL'!$I$564:$X$564,P6)>=1,\"\",ROW())","v":6},"BEN 19T ","BEN 19T ",{"$f":"IF(COUNTIF('PLANNING PRINCIPAL'!$I$567:$X$567,S6)>=1,\"\",ROW())","v":6},"BEN 19T ",{"$f":"'DATA S1'!V6","v":"V NOC MAINTENON"},{"$f":"IF(COUNTIF('PLANNING PRINCIPAL'!$I$569:$X$569,V6)>=1,\"\",ROW())","v":6},"V NOC MAINTENON"]
[{"$f":"'DATA S1'!A7","v":"BEN 13T "},{"$f":"IF(COUNTIF('PLANNING PRINCIPAL'!$I$539:$X$539,A7)>=1,\"\",ROW())","v":7},"BEN 13T ","BEN 13T ",{"$f":"IF(COUNTIF('PLANNING PRINCIPAL'!$I$542:$X$542,D7)>=1,\"\",ROW())","v":7},"BEN 13T ","BEN 13T ",{"$f":"IF(COUNTIF('PLANNING PRINCIPAL'!$I$545:$X$545,G7)>=1,\"\",ROW())","v":7},"BEN 13T ","BEN 13T ",{"$f":"IF(COUNTIF('PLANNING PRINCIPAL'!$I$548:$X$548,J7)>=1,\"\",ROW())","v":7},"BEN 13T ","BEN 13T ",{"$f":"IF(COUNTIF('PLANNING PRINCIPAL'!$I$561:$X$561,M7)>=1,\"\",ROW())","v":7},"BEN 13T ","BEN 13T ",{"$f":"IF(COUNTIF('PLANNING PRINCIPAL'!$I$564:$X$564,P7)>=1,\"\",ROW())","v":7},"BEN 13T ","BEN 13T ",{"$f":"IF(COUNTIF('PLANNING PRINCIPAL'!$I$567:$X$567,S7)>=1,\"\",ROW())","v":7},"BEN 13T ",null,{"$f":"IF(COUNTIF('PLANNING PRINCIPAL'!$I$467:$X$467,V7)>=1,\"\",ROW())","v":7}]
[{"$f":"'DATA S1'!A8","v":"NAC VL 18M "},{"$f":"IF(COUNTIF('PLANNING PRINCIPAL'!$I$539:$X$539,A8)>=1,\"\",ROW())","v":8},"NAC VL 18M ","NAC VL 18M ",{"$f":"IF(COUNTIF('PLANNING PRINCIPAL'!$I$542:$X$542,D8)>=1,\"\",ROW())","v":8},"NAC VL 18M ","NAC VL 18M ",{"$f":"IF(COUNTIF('PLANNING PRINCIPAL'!$I$545:$X$545,G8)>=1,\"\",ROW())","v":8},"NAC VL 18M ","NAC VL 18M ",{"$f":"IF(COUNTIF('PLANNING PRINCIPAL'!$I$548:$X$548,J8)>=1,\"\",ROW())","v":8},"NAC VL 18M ","NAC VL 18M ",{"$f":"IF(COUNTIF('PLANNING PRINCIPAL'!$I$561:$X$561,M8)>=1,\"\",ROW())","v":8},"NAC VL 18M ","NAC VL 18M ",{"$f":"IF(COUNTIF('PLANNING PRINCIPAL'!$I$564:$X$564,P8)>=1,\"\",ROW())","v":8},"NAC VL 18M ","NAC VL 18M ",{"$f":"IF(COUNTIF('PLANNING PRINCIPAL'!$I$567:$X$567,S8)>=1,\"\",ROW())","v":8},"NAC VL 18M ",null,{"$f":"IF(COUNTIF('PLANNING PRINCIPAL'!$I$467:$X$467,V8)>=1,\"\",ROW())","v":8}]
[{"$f":"'DATA S1'!A9","v":"NAC EGIE"},{"$f":"IF(COUNTIF('PLANNING PRINCIPAL'!$I$539:$X$539,A9)>=1,\"\",ROW())","v":9},"NAC EGIE","NAC EGIE",{"$f":"IF(COUNTIF('PLANNING PRINCIPAL'!$I$542:$X$542,D9)>=1,\"\",ROW())","v":9},"NAC EGIE","NAC EGIE",{"$f":"IF(COUNTIF('PLANNING PRINCIPAL'!$I$545:$X$545,G9)>=1,\"\",ROW())","v":9},"NAC EGIE","NAC EGIE",{"$f":"IF(COUNTIF('PLANNING PRINCIPAL'!$I$548:$X$548,J9)>=1,\"\",ROW())","v":9},"NAC EGIE","NAC EGIE",{"$f":"IF(COUNTIF('PLANNING PRINCIPAL'!$I$561:$X$561,M9)>=1,\"\",ROW())","v":9},"NAC EGIE","NAC EGIE",{"$f":"IF(COUNTIF('PLANNING PRINCIPAL'!$I$564:$X$564,P9)>=1,\"\",ROW())","v":9},"NAC EGIE","NAC EGIE",{"$f":"IF(COUNTIF('PLANNING PRINCIPAL'!$I$567:$X$567,S9)>=1,\"\",ROW())","v":9},"NAC EGIE",null,{"$f":"IF(COUNTIF('PLANNING PRINCIPAL'!$I$467:$X$467,V9)>=1,\"\",ROW())","v":9}]
[{"$f":"'DATA S1'!A10","v":"NAC COMI "},{"$f":"IF(COUNTIF('PLANNING PRINCIPAL'!$I$539:$X$539,A10)>=1,\"\",ROW())","v":10},"NAC COMI ","NAC COMI ",{"$f":"IF(COUNTIF('PLANNING PRINCIPAL'!$I$542:$X$542,D10)>=1,\"\",ROW())","v":10},"NAC COMI ","NAC COMI ",{"$f":"IF(COUNTIF('PLANNING PRINCIPAL'!$I$545:$X$545,G10)>=1,\"\",ROW())","v":10},"NAC COMI ","NAC COMI ",{"$f":"IF(COUNTIF('PLANNING PRINCIPAL'!$I$548:$X$548,J10)>=1,\"\",ROW())","v":10},"NAC COMI ","NAC COMI ",{"$f":"IF(COUNTIF('PLANNING PRINCIPAL'!$I$561:$X$561,M10)>=1,\"\",ROW())","v":10},"NAC COMI ","NAC COMI ",{"$f":"IF(COUNTIF('PLANNING PRINCIPAL'!$I$564:$X$564,P10)>=1,\"\",ROW())","v":10},"NAC COMI ","NAC COMI ",{"$f":"IF(COUNTIF('PLANNING PRINCIPAL'!$I$567:$X$567,S10)>=1,\"\",ROW())","v":10},"NAC COMI ",null,{"$f":"IF(COUNTIF('PLANNING PRINCIPAL'!$I$467:$X$467,V10)>=1,\"\",ROW())","v":10}]
[{"$f":"'DATA S1'!A11","v":"#####LOCATION#####"},{"$f":"IF(COUNTIF('PLANNING PRINCIPAL'!$I$539:$X$539,A11)>=1,\"\",ROW())","v":11},"#####LOCATION#####","#####LOCATION#####",{"$f":"IF(COUNTIF('PLANNING PRINCIPAL'!$I$542:$X$542,D11)>=1,\"\",ROW())","v":11},"#####LOCATION#####","#####LOCATION#####",{"$f":"IF(COUNTIF('PLANNING PRINCIPAL'!$I$545:$X$545,G11)>=1,\"\",ROW())","v":11},"#####LOCATION#####","#####LOCATION#####",{"$f":"IF(COUNTIF('PLANNING PRINCIPAL'!$I$548:$X$548,J11)>=1,\"\",ROW())","v":11},"#####LOCATION#####","#####LOCATION#####",{"$f":"IF(COUNTIF('PLANNING PRINCIPAL'!$I$561:$X$561,M11)>=1,\"\",ROW())","v":11},"#####LOCATION#####","#####LOCATION#####",{"$f":"IF(COUNTIF('PLANNING PRINCIPAL'!$I$564:$X$564,P11)>=1,\"\",ROW())","v":11},"#####LOCATION#####","#####LOCATION#####",{"$f":"IF(COUNTIF('PLANNING PRINCIPAL'!$I$567:$X$567,S11)>=1,\"\",ROW())","v":11},"#####LOCATION#####",null,{"$f":"IF(COUNTIF('PLANNING PRINCIPAL'!$I$467:$X$467,V11)>=1,\"\",ROW())","v":11}]
[{"$f":"'DATA S1'!A12","v":"LOC NAC SOLOMAT"},{"$f":"IF(COUNTIF('PLANNING PRINCIPAL'!$I$539:$X$539,A12)>=1,\"\",ROW())","v":12},"LOC NAC SOLOMAT","LOC NAC SOLOMAT",{"$f":"IF(COUNTIF('PLANNING PRINCIPAL'!$I$542:$X$542,D12)>=1,\"\",ROW())","v":12},"LOC NAC SOLOMAT","LOC NAC SOLOMAT",{"$f":"IF(COUNTIF('PLANNING PRINCIPAL'!$I$545:$X$545,G12)>=1,\"\",ROW())","v":12},"LOC NAC SOLOMAT","LOC NAC SOLOMAT",{"$f":"IF(COUNTIF('PLANNING PRINCIPAL'!$I$548:$X$548,J12)>=1,\"\",ROW())","v":12},"LOC NAC SOLOMAT","LOC NAC SOLOMAT",{"$f":"IF(COUNTIF('PLANNING PRINCIPAL'!$I$561:$X$561,M12)>=1,\"\",ROW())","v":12},"LOC NAC SOLOMAT","LOC NAC SOLOMAT",{"$f":"IF(COUNTIF('PLANNING PRINCIPAL'!$I$564:$X$564,P12)>=1,\"\",ROW())","v":12},"LOC NAC SOLOMAT","LOC NAC SOLOMAT",{"$f":"IF(COUNTIF('PLANNING PRINCIPAL'!$I$567:$X$567,S12)>=1,\"\",ROW())","v":12},"LOC NAC SOLOMAT",null,{"$f":"IF(COUNTIF('PLANNING PRINCIPAL'!$I$467:$X$467,V12)>=1,\"\",ROW())","v":12}]
[{"$f":"'DATA S1'!A13","v":"LOC NAC AEB"},{"$f":"IF(COUNTIF('PLANNING PRINCIPAL'!$I$539:$X$539,A13)>=1,\"\",ROW())","v":13},"LOC NAC AEB","LOC NAC AEB",{"$f":"IF(COUNTIF('PLANNING PRINCIPAL'!$I$542:$X$542,D13)>=1,\"\",ROW())","v":13},"LOC NAC AEB","LOC NAC AEB",{"$f":"IF(COUNTIF('PLANNING PRINCIPAL'!$I$545:$X$545,G13)>=1,\"\",ROW())","v":13},"LOC NAC AEB","LOC NAC AEB",{"$f":"IF(COUNTIF('PLANNING PRINCIPAL'!$I$548:$X$548,J13)>=1,\"\",ROW())","v":13},"LOC NAC AEB","LOC NAC AEB",{"$f":"IF(COUNTIF('PLANNING PRINCIPAL'!$I$561:$X$561,M13)>=1,\"\",ROW())","v":13},"LOC NAC AEB","LOC NAC AEB",{"$f":"IF(COUNTIF('PLANNING PRINCIPAL'!$I$564:$X$564,P13)>=1,\"\",ROW())","v":13},"LOC NAC AEB","LOC NAC AEB",{"$f":"IF(COUNTIF('PLANNING PRINCIPAL'!$I$567:$X$567,S13)>=1,\"\",ROW())","v":13},"LOC NAC AEB",null,{"$f":"IF(COUNTIF('PLANNING PRINCIPAL'!$I$467:$X$467,V13)>=1,\"\",ROW())","v":13}]
[{"$f":"'DATA S1'!A14","v":"LOC NAC INTERLOC"},{"$f":"IF(COUNTIF('PLANNING PRINCIPAL'!$I$539:$X$539,A14)>=1,\"\",ROW())","v":14},"LOC NAC INTERLOC","LOC NAC INTERLOC",{"$f":"IF(COUNTIF('PLANNING PRINCIPAL'!$I$542:$X$542,D14)>=1,\"\",ROW())","v":14},"LOC NAC INTERLOC","LOC NAC INTERLOC",{"$f":"IF(COUNTIF('PLANNING PRINCIPAL'!$I$545:$X$545,G14)>=1,\"\",ROW())","v":14},"LOC NAC INTERLOC","LOC NAC INTERLOC",{"$f":"IF(COUNTIF('PLANNING PRINCIPAL'!$I$548:$X$548,J14)>=1,\"\",ROW())","v":14},"LOC NAC INTERLOC","LOC NAC INTERLOC",{"$f":"IF(COUNTIF('PLANNING PRINCIPAL'!$I$561:$X$561,M14)>=1,\"\",ROW())","v":14},"LOC NAC INTERLOC","LOC NAC INTERLOC",{"$f":"IF(COUNTIF('PLANNING PRINCIPAL'!$I$564:$X$564,P14)>=1,\"\",ROW())","v":14},"LOC NAC INTERLOC","LOC NAC INTERLOC",{"$f":"IF(COUNTIF('PLANNING PRINCIPAL'!$I$567:$X$567,S14)>=1,\"\",ROW())","v":14},"LOC NAC INTERLOC",null,{"$f":"IF(COUNTIF('PLANNING PRINCIPAL'!$I$467:$X$467,V14)>=1,\"\",ROW())","v":14}]
[{"$f":"'DATA S1'!A15","v":"LOC NAC KILOUTOU"},{"$f":"IF(COUNTIF('PLANNING PRINCIPAL'!$I$539:$X$539,A15)>=1,\"\",ROW())","v":15},"LOC NAC KILOUTOU","LOC NAC KILOUTOU",{"$f":"IF(COUNTIF('PLANNING PRINCIPAL'!$I$542:$X$542,D15)>=1,\"\",ROW())","v":15},"LOC NAC KILOUTOU","LOC NAC KILOUTOU",{"$f":"IF(COUNTIF('PLANNING PRINCIPAL'!$I$545:$X$545,G15)>=1,\"\",ROW())","v":15},"LOC NAC KILOUTOU","LOC NAC KILOUTOU",{"$f":"IF(COUNTIF('PLANNING PRINCIPAL'!$I$548:$X$548,J15)>=1,\"\",ROW())","v":15},"LOC NAC KILOUTOU","LOC NAC KILOUTOU",{"$f":"IF(COUNTIF('PLANNING PRINCIPAL'!$I$561:$X$561,M15)>=1,\"\",ROW())","v":15},"LOC NAC KILOUTOU","LOC NAC KILOUTOU",{"$f":"IF(COUNTIF('PLANNING PRINCIPAL'!$I$564:$X$564,P15)>=1,\"\",ROW())","v":15},"LOC NAC KILOUTOU","LOC NAC KILOUTOU",{"$f":"IF(COUNTIF('PLANNING PRINCIPAL'!$I$567:$X$567,S15)>=1,\"\",ROW())","v":15},"LOC NAC KILOUTOU",null,{"$f":"IF(COUNTIF('PLANNING PRINCIPAL'!$I$467:$X$467,V15)>=1,\"\",ROW())","v":15}]
[{"$f":"'DATA S1'!A16","v":"LOC NAC AEB"},{"$f":"IF(COUNTIF('PLANNING PRINCIPAL'!$I$539:$X$539,A16)>=1,\"\",ROW())","v":16},"LOC NAC AEB","LOC NAC AEB",{"$f":"IF(COUNTIF('PLANNING PRINCIPAL'!$I$542:$X$542,D16)>=1,\"\",ROW())","v":16},"LOC NAC AEB","LOC NAC AEB",{"$f":"IF(COUNTIF('PLANNING PRINCIPAL'!$I$545:$X$545,G16)>=1,\"\",ROW())","v":16},"LOC NAC AEB","LOC NAC AEB",{"$f":"IF(COUNTIF('PLANNING PRINCIPAL'!$I$548:$X$548,J16)>=1,\"\",ROW())","v":16},"LOC NAC AEB","LOC NAC AEB",{"$f":"IF(COUNTIF('PLANNING PRINCIPAL'!$I$561:$X$561,M16)>=1,\"\",ROW())","v":16},"LOC NAC AEB","LOC NAC AEB",{"$f":"IF(COUNTIF('PLANNING PRINCIPAL'!$I$564:$X$564,P16)>=1,\"\",ROW())","v":16},"LOC NAC AEB","LOC NAC AEB",{"$f":"IF(COUNTIF('PLANNING PRINCIPAL'!$I$567:$X$567,S16)>=1,\"\",ROW())","v":16},"LOC NAC AEB",null,{"$f":"IF(COUNTIF('PLANNING PRINCIPAL'!$I$467:$X$467,V16)>=1,\"\",ROW())","v":16}]
[{"$f":"'DATA S1'!A17","v":"LOC PELLE SOLOMAT"},{"$f":"IF(COUNTIF('PLANNING PRINCIPAL'!$I$539:$X$539,A17)>=1,\"\",ROW())","v":17},"LOC PELLE SOLOMAT","LOC PELLE SOLOMAT",{"$f":"IF(COUNTIF('PLANNING PRINCIPAL'!$I$542:$X$542,D17)>=1,\"\",ROW())","v":17},"LOC PELLE SOLOMAT","LOC PELLE SOLOMAT",{"$f":"IF(COUNTIF('PLANNING PRINCIPAL'!$I$545:$X$545,G17)>=1,\"\",ROW())","v":17},"LOC PELLE SOLOMAT","LOC PELLE SOLOMAT",{"$f":"IF(COUNTIF('PLANNING PRINCIPAL'!$I$548:$X$548,J17)>=1,\"\",ROW())","v":17},"LOC PELLE SOLOMAT","LOC PELLE SOLOMAT",{"$f":"IF(COUNTIF('PLANNING PRINCIPAL'!$I$561:$X$561,M17)>=1,\"\",ROW())","v":17},"LOC PELLE SOLOMAT","LOC PELLE SOLOMAT",{"$f":"IF(COUNTIF('PLANNING PRINCIPAL'!$I$564:$X$564,P17)>=1,\"\",ROW())","v":17},"LOC PELLE SOLOMAT","LOC PELLE SOLOMAT",{"$f":"IF(COUNTIF('PLANNING PRINCIPAL'!$I$567:$X$567,S17)>=1,\"\",ROW())","v":17},"LOC PELLE SOLOMAT",null,{"$f":"IF(COUNTIF('PLANNING PRINCIPAL'!$I$467:$X$467,V17)>=1,\"\",ROW())","v":17}]
[{"$f":"'DATA S1'!A18","v":"LOC PELLE AEB"},{"$f":"IF(COUNTIF('PLANNING PRINCIPAL'!$I$539:$X$539,A18)>=1,\"\",ROW())","v":18},"LOC PELLE AEB","LOC PELLE AEB",{"$f":"IF(COUNTIF('PLANNING PRINCIPAL'!$I$542:$X$542,D18)>=1,\"\",ROW())","v":18},"LOC PELLE AEB","LOC PELLE AEB",{"$f":"IF(COUNTIF('PLANNING PRINCIPAL'!$I$545:$X$545,G18)>=1,\"\",ROW())","v":18},"LOC PELLE AEB","LOC PELLE AEB",{"$f":"IF(COUNTIF('PLANNING PRINCIPAL'!$I$548:$X$548,J18)>=1,\"\",ROW())","v":18},"LOC PELLE AEB","LOC PELLE AEB",{"$f":"IF(COUNTIF('PLANNING PRINCIPAL'!$I$561:$X$561,M18)>=1,\"\",ROW())","v":18},"LOC PELLE AEB","LOC PELLE AEB",{"$f":"IF(COUNTIF('PLANNING PRINCIPAL'!$I$564:$X$564,P18)>=1,\"\",ROW())","v":18},"LOC PELLE AEB","LOC PELLE AEB",{"$f":"IF(COUNTIF('PLANNING PRINCIPAL'!$I$567:$X$567,S18)>=1,\"\",ROW())","v":18},"LOC PELLE AEB",null,{"$f":"IF(COUNTIF('PLANNING PRINCIPAL'!$I$467:$X$467,V18)>=1,\"\",ROW())","v":18}]
[{"$f":"'DATA S1'!A19","v":"LOC PELLE INTERLOC"},{"$f":"IF(COUNTIF('PLANNING PRINCIPAL'!$I$539:$X$539,A19)>=1,\"\",ROW())","v":19},"LOC PELLE INTERLOC","LOC PELLE INTERLOC",{"$f":"IF(COUNTIF('PLANNING PRINCIPAL'!$I$542:$X$542,D19)>=1,\"\",ROW())","v":19},"LOC PELLE INTERLOC","LOC PELLE INTERLOC",{"$f":"IF(COUNTIF('PLANNING PRINCIPAL'!$I$545:$X$545,G19)>=1,\"\",ROW())","v":19},"LOC PELLE INTERLOC","LOC PELLE INTERLOC",{"$f":"IF(COUNTIF('PLANNING PRINCIPAL'!$I$548:$X$548,J19)>=1,\"\",ROW())","v":19},"LOC PELLE INTERLOC","LOC PELLE INTERLOC",{"$f":"IF(COUNTIF('PLANNING PRINCIPAL'!$I$561:$X$561,M19)>=1,\"\",ROW())","v":19},"LOC PELLE INTERLOC","LOC PELLE INTERLOC",{"$f":"IF(COUNTIF('PLANNING PRINCIPAL'!$I$564:$X$564,P19)>=1,\"\",ROW())","v":19},"LOC PELLE INTERLOC","LOC PELLE INTERLOC",{"$f":"IF(COUNTIF('PLANNING PRINCIPAL'!$I$567:$X$567,S19)>=1,\"\",ROW())","v":19},"LOC PELLE INTERLOC",null,{"$f":"IF(COUNTIF('PLANNING PRINCIPAL'!$I$467:$X$467,V19)>=1,\"\",ROW())","v":19}]
[{"$f":"'DATA S1'!A20","v":"LOC PELLE KILOUTOU"},{"$f":"IF(COUNTIF('PLANNING PRINCIPAL'!$I$539:$X$539,A20)>=1,\"\",ROW())","v":20},"LOC PELLE KILOUTOU","LOC PELLE KILOUTOU",{"$f":"IF(COUNTIF('PLANNING PRINCIPAL'!$I$542:$X$542,D20)>=1,\"\",ROW())","v":20},"LOC PELLE KILOUTOU","LOC PELLE KILOUTOU",{"$f":"IF(COUNTIF('PLANNING PRINCIPAL'!$I$545:$X$545,G20)>=1,\"\",ROW())","v":20},"LOC PELLE KILOUTOU","LOC PELLE KILOUTOU",{"$f":"IF(COUNTIF('PLANNING PRINCIPAL'!$I$548:$X$548,J20)>=1,\"\",ROW())","v":20},"LOC PELLE KILOUTOU","LOC PELLE KILOUTOU",{"$f":"IF(COUNTIF('PLANNING PRINCIPAL'!$I$561:$X$561,M20)>=1,\"\",ROW())","v":20},"LOC PELLE KILOUTOU","LOC PELLE KILOUTOU",{"$f":"IF(COUNTIF('PLANNING PRINCIPAL'!$I$564:$X$564,P20)>=1,\"\",ROW())","v":20},"LOC PELLE KILOUTOU","LOC PELLE KILOUTOU",{"$f":"IF(COUNTIF('PLANNING PRINCIPAL'!$I$567:$X$567,S20)>=1,\"\",ROW())","v":20},"LOC PELLE KILOUTOU",null,{"$f":"IF(COUNTIF('PLANNING PRINCIPAL'!$I$467:$X$467,V20)>=1,\"\",ROW())","v":20}]
[null,{"$f":"IF(COUNTIF('PLANNING PRINCIPAL'!$I$539:$X$539,A21)>=1,\"\",ROW())","v":21},null,null,{"$f":"IF(COUNTIF('PLANNING PRINCIPAL'!$I$542:$X$542,D21)>=1,\"\",ROW())","v":21},null,null,{"$f":"IF(COUNTIF('PLANNING PRINCIPAL'!$I$545:$X$545,G21)>=1,\"\",ROW())","v":21},null,null,{"$f":"IF(COUNTIF('PLANNING PRINCIPAL'!$I$548:$X$548,J21)>=1,\"\",ROW())","v":21},null,null,{"$f":"IF(COUNTIF('PLANNING PRINCIPAL'!$I$561:$X$561,M21)>=1,\"\",ROW())","v":21},null,null,{"$f":"IF(COUNTIF('PLANNING PRINCIPAL'!$I$564:$X$564,P21)>=1,\"\",ROW())","v":21},null,null,{"$f":"IF(COUNTIF('PLANNING PRINCIPAL'!$I$567:$X$567,S21)>=1,\"\",ROW())","v":21},null,null,{"$f":"IF(COUNTIF('PLANNING PRINCIPAL'!$I$467:$X$467,V21)>=1,\"\",ROW())","v":21}]
[null,{"$f":"IF(COUNTIF('PLANNING PRINCIPAL'!$I$539:$X$539,A22)>=1,\"\",ROW())","v":22},null,null,{"$f":"IF(COUNTIF('PLANNING PRINCIPAL'!$I$542:$X$542,D22)>=1,\"\",ROW())","v":22},null,null,{"$f":"IF(COUNTIF('PLANNING PRINCIPAL'!$I$545:$X$545,G22)>=1,\"\",ROW())","v":22},null,null,{"$f":"IF(COUNTIF('PLANNING PRINCIPAL'!$I$548:$X$548,J22)>=1,\"\",ROW())","v":22},null,null,{"$f":"IF(COUNTIF('PLANNING PRINCIPAL'!$I$561:$X$561,M22)>=1,\"\",ROW())","v":22},null,null,{"$f":"IF(COUNTIF('PLANNING PRINCIPAL'!$I$564:$X$564,P22)>=1,\"\",ROW())","v":22},null,null,{"$f":"IF(COUNTIF('PLANNING PRINCIPAL'!$I$567:$X$567,S22)>=1,\"\",ROW())","v":22},null,null,{"$f":"IF(COUNTIF('PLANNING PRINCIPAL'!$I$467:$X$467,V22)>=1,\"\",ROW())","v":22}]
[null,{"$f":"IF(COUNTIF('PLANNING PRINCIPAL'!$I$539:$X$539,A23)>=1,\"\",ROW())","v":23},null,null,{"$f":"IF(COUNTIF('PLANNING PRINCIPAL'!$I$542:$X$542,D23)>=1,\"\",ROW())","v":23},null,null,{"$f":"IF(COUNTIF('PLANNING PRINCIPAL'!$I$545:$X$545,G23)>=1,\"\",ROW())","v":23},null,null,{"$f":"IF(COUNTIF('PLANNING PRINCIPAL'!$I$548:$X$548,J23)>=1,\"\",ROW())","v":23},null,null,{"$f":"IF(COUNTIF('PLANNING PRINCIPAL'!$I$561:$X$561,M23)>=1,\"\",ROW())","v":23},null,null,{"$f":"IF(COUNTIF('PLANNING PRINCIPAL'!$I$564:$X$564,P23)>=1,\"\",ROW())","v":23},null,null,{"$f":"IF(COUNTIF('PLANNING PRINCIPAL'!$I$567:$X$567,S23)>=1,\"\",ROW())","v":23},null,null,{"$f":"IF(COUNTIF('PLANNING PRINCIPAL'!$I$467:$X$467,V23)>=1,\"\",ROW())","v":23}]
[null,{"$f":"IF(COUNTIF('PLANNING PRINCIPAL'!$I$539:$X$539,A24)>=1,\"\",ROW())","v":24},null,null,{"$f":"IF(COUNTIF('PLANNING PRINCIPAL'!$I$542:$X$542,D24)>=1,\"\",ROW())","v":24},null,null,{"$f":"IF(COUNTIF('PLANNING PRINCIPAL'!$I$545:$X$545,G24)>=1,\"\",ROW())","v":24},null,null,{"$f":"IF(COUNTIF('PLANNING PRINCIPAL'!$I$548:$X$548,J24)>=1,\"\",ROW())","v":24},null,null,{"$f":"IF(COUNTIF('PLANNING PRINCIPAL'!$I$561:$X$561,M24)>=1,\"\",ROW())","v":24},null,null,{"$f":"IF(COUNTIF('PLANNING PRINCIPAL'!$I$564:$X$564,P24)>=1,\"\",ROW())","v":24},null,null,{"$f":"IF(COUNTIF('PLANNING PRINCIPAL'!$I$567:$X$567,S24)>=1,\"\",ROW())","v":24},null,null,{"$f":"IF(COUNTIF('PLANNING PRINCIPAL'!$I$467:$X$467,V24)>=1,\"\",ROW())","v":24}]
[null,{"$f":"IF(COUNTIF('PLANNING PRINCIPAL'!$I$539:$X$539,A25)>=1,\"\",ROW())","v":25},null,null,{"$f":"IF(COUNTIF('PLANNING PRINCIPAL'!$I$542:$X$542,D25)>=1,\"\",ROW())","v":25},null,null,{"$f":"IF(COUNTIF('PLANNING PRINCIPAL'!$I$545:$X$545,G25)>=1,\"\",ROW())","v":25},null,null,{"$f":"IF(COUNTIF('PLANNING PRINCIPAL'!$I$548:$X$548,J25)>=1,\"\",ROW())","v":25},null,null,{"$f":"IF(COUNTIF('PLANNING PRINCIPAL'!$I$561:$X$561,M25)>=1,\"\",ROW())","v":25},null,null,{"$f":"IF(COUNTIF('PLANNING PRINCIPAL'!$I$564:$X$564,P25)>=1,\"\",ROW())","v":25},null,null,{"$f":"IF(COUNTIF('PLANNING PRINCIPAL'!$I$567:$X$567,S25)>=1,\"\",ROW())","v":25},null,null,{"$f":"IF(COUNTIF('PLANNING PRINCIPAL'!$I$467:$X$467,V25)>=1,\"\",ROW())","v":25}]
[null,{"$f":"IF(COUNTIF('PLANNING PRINCIPAL'!$I$539:$X$539,A26)>=1,\"\",ROW())","v":26},null,null,{"$f":"IF(COUNTIF('PLANNING PRINCIPAL'!$I$542:$X$542,D26)>=1,\"\",ROW())","v":26},null,null,{"$f":"IF(COUNTIF('PLANNING PRINCIPAL'!$I$545:$X$545,G26)>=1,\"\",ROW())","v":26},null,null,{"$f":"IF(COUNTIF('PLANNING PRINCIPAL'!$I$548:$X$548,J26)>=1,\"\",ROW())","v":26},null,null,{"$f":"IF(COUNTIF('PLANNING PRINCIPAL'!$I$561:$X$561,M26)>=1,\"\",ROW())","v":26},null,null,{"$f":"IF(COUNTIF('PLANNING PRINCIPAL'!$I$564:$X$564,P26)>=1,\"\",ROW())","v":26},null,null,{"$f":"IF(COUNTIF('PLANNING PRINCIPAL'!$I$567:$X$567,S26)>=1,\"\",ROW())","v":26},null,null,{"$f":"IF(COUNTIF('PLANNING PRINCIPAL'!$I$467:$X$467,V26)>=1,\"\",ROW())","v":26}]
[null,{"$f":"IF(COUNTIF('PLANNING PRINCIPAL'!$I$539:$X$539,A27)>=1,\"\",ROW())","v":27},null,null,{"$f":"IF(COUNTIF('PLANNING PRINCIPAL'!$I$542:$X$542,D27)>=1,\"\",ROW())","v":27},null,null,{"$f":"IF(COUNTIF('PLANNING PRINCIPAL'!$I$545:$X$545,G27)>=1,\"\",ROW())","v":27},null,null,{"$f":"IF(COUNTIF('PLANNING PRINCIPAL'!$I$548:$X$548,J27)>=1,\"\",ROW())","v":27},null,null,{"$f":"IF(COUNTIF('PLANNING PRINCIPAL'!$I$561:$X$561,M27)>=1,\"\",ROW())","v":27},null,null,{"$f":"IF(COUNTIF('PLANNING PRINCIPAL'!$I$564:$X$564,P27)>=1,\"\",ROW())","v":27},null,null,{"$f":"IF(COUNTIF('PLANNING PRINCIPAL'!$I$567:$X$567,S27)>=1,\"\",ROW())","v":27},null,null,{"$f":"IF(COUNTIF('PLANNING PRINCIPAL'!$I$467:$X$467,V27)>=1,\"\",ROW())","v":27}]
[null,{"$f":"IF(COUNTIF('PLANNING PRINCIPAL'!$I$539:$X$539,A28)>=1,\"\",ROW())","v":28},null,null,{"$f":"IF(COUNTIF('PLANNING PRINCIPAL'!$I$542:$X$542,D28)>=1,\"\",ROW())","v":28},null,null,{"$f":"IF(COUNTIF('PLANNING PRINCIPAL'!$I$545:$X$545,G28)>=1,\"\",ROW())","v":28},null,null,{"$f":"IF(COUNTIF('PLANNING PRINCIPAL'!$I$548:$X$548,J28)>=1,\"\",ROW())","v":28},null,null,{"$f":"IF(COUNTIF('PLANNING PRINCIPAL'!$I$561:$X$561,M28)>=1,\"\",ROW())","v":28},null,null,{"$f":"IF(COUNTIF('PLANNING PRINCIPAL'!$I$564:$X$564,P28)>=1,\"\",ROW())","v":28},null,null,{"$f":"IF(COUNTIF('PLANNING PRINCIPAL'!$I$567:$X$567,S28)>=1,\"\",ROW())","v":28},null,null,{"$f":"IF(COUNTIF('PLANNING PRINCIPAL'!$I$467:$X$467,V28)>=1,\"\",ROW())","v":28}]
[null,{"$f":"IF(COUNTIF('PLANNING PRINCIPAL'!$I$539:$X$539,A29)>=1,\"\",ROW())","v":29},null,null,{"$f":"IF(COUNTIF('PLANNING PRINCIPAL'!$I$542:$X$542,D29)>=1,\"\",ROW())","v":29},null,null,{"$f":"IF(COUNTIF('PLANNING PRINCIPAL'!$I$545:$X$545,G29)>=1,\"\",ROW())","v":29},null,null,{"$f":"IF(COUNTIF('PLANNING PRINCIPAL'!$I$548:$X$548,J29)>=1,\"\",ROW())","v":29},null,null,{"$f":"IF(COUNTIF('PLANNING PRINCIPAL'!$I$561:$X$561,M29)>=1,\"\",ROW())","v":29},null,null,{"$f":"IF(COUNTIF('PLANNING PRINCIPAL'!$I$564:$X$564,P29)>=1,\"\",ROW())","v":29},null,null,{"$f":"IF(COUNTIF('PLANNING PRINCIPAL'!$I$567:$X$567,S29)>=1,\"\",ROW())","v":29},null,null,{"$f":"IF(COUNTIF('PLANNING PRINCIPAL'!$I$467:$X$467,V29)>=1,\"\",ROW())","v":29}]
[null,{"$f":"IF(COUNTIF('PLANNING PRINCIPAL'!$I$539:$X$539,A30)>=1,\"\",ROW())","v":30},null,null,{"$f":"IF(COUNTIF('PLANNING PRINCIPAL'!$I$542:$X$542,D30)>=1,\"\",ROW())","v":30},null,null,{"$f":"IF(COUNTIF('PLANNING PRINCIPAL'!$I$545:$X$545,G30)>=1,\"\",ROW())","v":30},null,null,{"$f":"IF(COUNTIF('PLANNING PRINCIPAL'!$I$548:$X$548,J30)>=1,\"\",ROW())","v":30},null,null,{"$f":"IF(COUNTIF('PLANNING PRINCIPAL'!$I$561:$X$561,M30)>=1,\"\",ROW())","v":30},null,null,{"$f":"IF(COUNTIF('PLANNING PRINCIPAL'!$I$564:$X$564,P30)>=1,\"\",ROW())","v":30},null,null,{"$f":"IF(COUNTIF('PLANNING PRINCIPAL'!$I$567:$X$567,S30)>=1,\"\",ROW())","v":30},null,null,{"$f":"IF(COUNTIF('PLANNING PRINCIPAL'!$I$467:$X$467,V30)>=1,\"\",ROW())","v":30}]
[null,{"$f":"IF(COUNTIF('PLANNING PRINCIPAL'!$I$539:$X$539,A31)>=1,\"\",ROW())","v":31},null,null,{"$f":"IF(COUNTIF('PLANNING PRINCIPAL'!$I$542:$X$542,D31)>=1,\"\",ROW())","v":31},null,null,{"$f":"IF(COUNTIF('PLANNING PRINCIPAL'!$I$545:$X$545,G31)>=1,\"\",ROW())","v":31},null,null,{"$f":"IF(COUNTIF('PLANNING PRINCIPAL'!$I$548:$X$548,J31)>=1,\"\",ROW())","v":31},null,null,{"$f":"IF(COUNTIF('PLANNING PRINCIPAL'!$I$561:$X$561,M31)>=1,\"\",ROW())","v":31},null,null,{"$f":"IF(COUNTIF('PLANNING PRINCIPAL'!$I$564:$X$564,P31)>=1,\"\",ROW())","v":31},null,null,{"$f":"IF(COUNTIF('PLANNING PRINCIPAL'!$I$567:$X$567,S31)>=1,\"\",ROW())","v":31},null,null,{"$f":"IF(COUNTIF('PLANNING PRINCIPAL'!$I$467:$X$467,V31)>=1,\"\",ROW())","v":31}]
[null,{"$f":"IF(COUNTIF('PLANNING PRINCIPAL'!$I$539:$X$539,A32)>=1,\"\",ROW())","v":32},null,null,{"$f":"IF(COUNTIF('PLANNING PRINCIPAL'!$I$542:$X$542,D32)>=1,\"\",ROW())","v":32},null,null,{"$f":"IF(COUNTIF('PLANNING PRINCIPAL'!$I$545:$X$545,G32)>=1,\"\",ROW())","v":32},null,null,{"$f":"IF(COUNTIF('PLANNING PRINCIPAL'!$I$548:$X$548,J32)>=1,\"\",ROW())","v":32},null,null,{"$f":"IF(COUNTIF('PLANNING PRINCIPAL'!$I$561:$X$561,M32)>=1,\"\",ROW())","v":32},null,null,{"$f":"IF(COUNTIF('PLANNING PRINCIPAL'!$I$564:$X$564,P32)>=1,\"\",ROW())","v":32},null,null,{"$f":"IF(COUNTIF('PLANNING PRINCIPAL'!$I$567:$X$567,S32)>=1,\"\",ROW())","v":32},null,null,{"$f":"IF(COUNTIF('PLANNING PRINCIPAL'!$I$467:$X$467,V32)>=1,\"\",ROW())","v":32}]
[null,{"$f":"IF(COUNTIF('PLANNING PRINCIPAL'!$I$539:$X$539,A33)>=1,\"\",ROW())","v":33},null,null,{"$f":"IF(COUNTIF('PLANNING PRINCIPAL'!$I$542:$X$542,D33)>=1,\"\",ROW())","v":33},null,null,{"$f":"IF(COUNTIF('PLANNING PRINCIPAL'!$I$545:$X$545,G33)>=1,\"\",ROW())","v":33},null,null,{"$f":"IF(COUNTIF('PLANNING PRINCIPAL'!$I$548:$X$548,J33)>=1,\"\",ROW())","v":33},null,null,{"$f":"IF(COUNTIF('PLANNING PRINCIPAL'!$I$561:$X$561,M33)>=1,\"\",ROW())","v":33},null,null,{"$f":"IF(COUNTIF('PLANNING PRINCIPAL'!$I$564:$X$564,P33)>=1,\"\",ROW())","v":33},null,null,{"$f":"IF(COUNTIF('PLANNING PRINCIPAL'!$I$567:$X$567,S33)>=1,\"\",ROW())","v":33},null,null,{"$f":"IF(COUNTIF('PLANNING PRINCIPAL'!$I$467:$X$467,V33)>=1,\"\",ROW())","v":33}]
[null,{"$f":"IF(COUNTIF('PLANNING PRINCIPAL'!$I$539:$X$539,A34)>=1,\"\",ROW())","v":34},null,null,{"$f":"IF(COUNTIF('PLANNING PRINCIPAL'!$I$542:$X$542,D34)>=1,\"\",ROW())","v":34},null,null,{"$f":"IF(COUNTIF('PLANNING PRINCIPAL'!$I$545:$X$545,G34)>=1,\"\",ROW())","v":34},null,null,{"$f":"IF(COUNTIF('PLANNING PRINCIPAL'!$I$548:$X$548,J34)>=1,\"\",ROW())","v":34},null,null,{"$f":"IF(COUNTIF('PLANNING PRINCIPAL'!$I$561:$X$561,M34)>=1,\"\",ROW())","v":34},null,null,{"$f":"IF(COUNTIF('PLANNING PRINCIPAL'!$I$564:$X$564,P34)>=1,\"\",ROW())","v":34},null,null,{"$f":"IF(COUNTIF('PLANNING PRINCIPAL'!$I$567:$X$567,S34)>=1,\"\",ROW())","v":34},null,null,{"$f":"IF(COUNTIF('PLANNING PRINCIPAL'!$I$467:$X$467,V34)>=1,\"\",ROW())","v":34}]
["LUNDI",null,null,"MARDI",null,null,"MERCREDI",null,null,"JEUDI",null,null,"VENDREDI",null,null,"SAMEDI",null,null,"DIMANCHE",null,null,"ASTREINTE"]

{"sheet":"DATA S25","index":26,"n_rows":35,"n_cols":24,"rows_kept":35,"cut":false,"hidden":false,"merged":[[34,18,34,20],[34,21,34,23],[34,0,34,2],[34,3,34,5],[34,6,34,8],[34,9,34,11],[34,12,34,14],[34,15,34,17]]}
[{"$f":"'DATA S1'!A1","v":"MAS XX "},{"$f":"IF(COUNTIF('PLANNING PRINCIPAL'!$I$562:$X$562,A1)>=1,\"\",ROW())","v":1},{"$f":"IF(ROW(A1)-ROW(A$1)+1>COUNT(B:B),\"\", INDEX(A:A,SMALL(B:B,1+ROW(A1)-ROW(A$1))))","v":"MAS XX "},{"$f":"A1","v":"MAS XX "},{"$f":"IF(COUNTIF('PLANNING PRINCIPAL'!$I$565:$X$565,D1)>=1,\"\",ROW())","v":1},{"$f":"IF(ROW(D1)-ROW(D$1)+1>COUNT(E:E),\"\", INDEX(D:D,SMALL(E:E,1+ROW(D1)-ROW(D$1))))","v":"MAS XX "},{"$f":"A1","v":"MAS XX "},{"$f":"IF(COUNTIF('PLANNING PRINCIPAL'!$I$568:$X$568,G1)>=1,\"\",ROW())","v":1},{"$f":"IF(ROW(G1)-ROW(G$1)+1>COUNT(H:H),\"\", INDEX(G:G,SMALL(H:H,1+ROW(G1)-ROW(G$1))))","v":"MAS XX "},{"$f":"A1","v":"MAS XX "},{"$f":"IF(COUNTIF('PLANNING PRINCIPAL'!$I$571:$X$571,J1)>=1,\"\",ROW())","v":1},{"$f":"IF(ROW(J1)-ROW(J$1)+1>COUNT(K:K),\"\", INDEX(J:J,SMALL(K:K,1+ROW(J1)-ROW(J$1))))","v":"MAS XX "},{"$f":"A1","v":"MAS XX "},{"$f":"IF(COUNTIF('PLANNING PRINCIPAL'!$I$574:$X$574,M1)>=1,\"\",ROW())","v":1},{"$f":"IF(ROW(M1)-ROW(M$1)+1>COUNT(N:N),\"\", INDEX(M:M,SMALL(N:N,1+ROW(M1)-ROW(M$1))))","v":"MAS XX "},{"$f":"A1","v":"MAS XX "},{"$f":"IF(COUNTIF('PLANNING PRINCIPAL'!$I$577:$X$577,P1)>=1,\"\",ROW())","v":1},{"$f":"IF(ROW(P1)-ROW(P$1)+1>COUNT(Q:Q),\"\", INDEX(P:P,SMALL(Q:Q,1+ROW(P1)-ROW(P$1))))","v":"MAS XX "},{"$f":"A1","v":"MAS XX "},{"$f":"IF(COUNTIF('PLANNING PRINCIPAL'!$I$580:$X$580,S1)>=1,\"\",ROW())","v":1},{"$f":"IF(ROW(S1)-ROW(S$1)+1>COUNT(T:T),\"\", INDEX(S:S,SMALL(T:T,1+ROW(S1)-ROW(S$1))))","v":"MAS XX "},{"$f":"'DATA S1'!V1","v":"ASTREINTE SLT"},{"$f":"IF(COUNTIF('PLANNING PRINCIPAL'!$I$582:$X$582,V1)>=1,\"\",ROW())","v":1},{"$f":"IF(ROW(V1)-ROW(V$1)+1>COUNT(W:W),\"\", INDEX(V:V,SMALL(W:W,1+ROW(V1)-ROW(V$1))))","v":"ASTREINTE SLT"}]
[{"$f":"'DATA S1'!A2","v":"MAS YY "},{"$f":"IF(COUNTIF('PLANNING PRINCIPAL'!$I$562:$X$562,A2)>=1,\"\",ROW())","v":2},{"$f":"IF(ROW(A2)-ROW(A$1)+1>COUNT(B:B),\"\", INDEX(A:A,SMALL(B:B,1+ROW(A2)-ROW(A$1))))","v":"MAS YY "},"MAS YY ",{"$f":"IF(COUNTIF('PLANNING PRINCIPAL'!$I$565:$X$565,D2)>=1,\"\",ROW())","v":2},{"$f":"IF(ROW(D2)-ROW(D$1)+1>COUNT(E:E),\"\", INDEX(D:D,SMALL(E:E,1+ROW(D2)-ROW(D$1))))","v":"MAS YY "},{"$f":"A2","v":"MAS YY "},{"$f":"IF(COUNTIF('PLANNING PRINCIPAL'!$I$568:$X$568,G2)>=1,\"\",ROW())","v":2},{"$f":"IF(ROW(G2)-ROW(G$1)+1>COUNT(H:H),\"\", INDEX(G:G,SMALL(H:H,1+ROW(G2)-ROW(G$1))))","v":"MAS YY "},{"$f":"A2","v":"MAS YY "},{"$f":"IF(COUNTIF('PLANNING PRINCIPAL'!$I$571:$X$571,J2)>=1,\"\",ROW())","v":2},{"$f":"IF(ROW(J2)-ROW(J$1)+1>COUNT(K:K),\"\", INDEX(J:J,SMALL(K:K,1+ROW(J2)-ROW(J$1))))","v":"MAS YY "},{"$f":"A2","v":"MAS YY "},{"$f":"IF(COUNTIF('PLANNING PRINCIPAL'!$I$574:$X$574,M2)>=1,\"\",ROW())","v":2},{"$f":"IF(ROW(M2)-ROW(M$1)+1>COUNT(N:N),\"\", INDEX(M:M,SMALL(N:N,1+ROW(M2)-ROW(M$1))))","v":"MAS YY "},{"$f":"A2","v":"MAS YY "},{"$f":"IF(COUNTIF('PLANNING PRINCIPAL'!$I$577:$X$577,P2)>=1,\"\",ROW())","v":2},{"$f":"IF(ROW(P2)-ROW(P$1)+1>COUNT(Q:Q),\"\", INDEX(P:P,SMALL(Q:Q,1+ROW(P2)-ROW(P$1))))","v":"MAS YY "},{"$f":"A2","v":"MAS YY "},{"$f":"IF(COUNTIF('PLANNING PRINCIPAL'!$I$580:$X$580,S2)>=1,\"\",ROW())","v":2},{"$f":"IF(ROW(S2)-ROW(S$1)+1>COUNT(T:T),\"\", INDEX(S:S,SMALL(T:T,1+ROW(S2)-ROW(S$1))))","v":"MAS YY "},{"$f":"'DATA S1'!V2","v":"ASTREINTE EP"},{"$f":"IF(COUNTIF('PLANNING PRINCIPAL'!$I$582:$X$582,V2)>=1,\"\",ROW())","v":2},{"$f":"IF(ROW(V2)-ROW(V$1)+1>COUNT(W:W),\"\", INDEX(V:V,SMALL(W:W,1+ROW(V2)-ROW(V$1))))","v":"ASTREINTE EP"}]
[{"$f":"'DATA S1'!A3","v":"MAS VQ "},{"$f":"IF(COUNTIF('PLANNING PRINCIPAL'!$I$562:$X$562,A3)>=1,\"\",ROW())","v":3},"MAS VQ ","MAS VQ ",{"$f":"IF(COUNTIF('PLANNING PRINCIPAL'!$I$565:$X$565,D3)>=1,\"\",ROW())","v":3},"MAS VQ ","MAS VQ ",{"$f":"IF(COUNTIF('PLANNING PRINCIPAL'!$I$568:$X$568,G3)>=1,\"\",ROW())","v":3},"MAS VQ ","MAS VQ ",{"$f":"IF(COUNTIF('PLANNING PRINCIPAL'!$I$571:$X$571,J3)>=1,\"\",ROW())","v":3},"MAS VQ ","MAS VQ ",{"$f":"IF(COUNTIF('PLANNING PRINCIPAL'!$I$574:$X$574,M3)>=1,\"\",ROW())","v":3},"MAS VQ ","MAS VQ ",{"$f":"IF(COUNTIF('PLANNING PRINCIPAL'!$I$577:$X$577,P3)>=1,\"\",ROW())","v":3},"MAS VQ ","MAS VQ ",{"$f":"IF(COUNTIF('PLANNING PRINCIPAL'!$I$580:$X$580,S3)>=1,\"\",ROW())","v":3},"MAS VQ ",{"$f":"'DATA S1'!V3","v":"V NOC CHARTRES"},{"$f":"IF(COUNTIF('PLANNING PRINCIPAL'!$I$582:$X$582,V3)>=1,\"\",ROW())","v":3},"V NOC CHARTRES"]
[{"$f":"'DATA S1'!A4","v":"MAS PL "},{"$f":"IF(COUNTIF('PLANNING PRINCIPAL'!$I$562:$X$562,A4)>=1,\"\",ROW())","v":4},"MAS PL ","MAS PL ",{"$f":"IF(COUNTIF('PLANNING PRINCIPAL'!$I$565:$X$565,D4)>=1,\"\",ROW())","v":4},"MAS PL ","MAS PL ",{"$f":"IF(COUNTIF('PLANNING PRINCIPAL'!$I$568:$X$568,G4)>=1,\"\",ROW())","v":4},"MAS PL ","MAS PL ",{"$f":"IF(COUNTIF('PLANNING PRINCIPAL'!$I$571:$X$571,J4)>=1,\"\",ROW())","v":4},"MAS PL ","MAS PL ",{"$f":"IF(COUNTIF('PLANNING PRINCIPAL'!$I$574:$X$574,M4)>=1,\"\",ROW())","v":4},"MAS PL ","MAS PL ",{"$f":"IF(COUNTIF('PLANNING PRINCIPAL'!$I$577:$X$577,P4)>=1,\"\",ROW())","v":4},"MAS PL ","MAS PL ",{"$f":"IF(COUNTIF('PLANNING PRINCIPAL'!$I$580:$X$580,S4)>=1,\"\",ROW())","v":4},"MAS PL ",{"$f":"'DATA S1'!V4","v":"V NOC EPERNON"},{"$f":"IF(COUNTIF('PLANNING PRINCIPAL'!$I$582:$X$582,V4)>=1,\"\",ROW())","v":4},"V NOC EPERNON"]
[{"$f":"'DATA S1'!A5","v":"BEN VL PT "},{"$f":"IF(COUNTIF('PLANNING PRINCIPAL'!$I$562:$X$562,A5)>=1,\"\",ROW())","v":5},"BEN VL PT ","BEN VL PT ",{"$f":"IF(COUNTIF('PLANNING PRINCIPAL'!$I$565:$X$565,D5)>=1,\"\",ROW())","v":5},"BEN VL PT ","BEN VL PT ",{"$f":"IF(COUNTIF('PLANNING PRINCIPAL'!$I$568:$X$568,G5)>=1,\"\",ROW())","v":5},"BEN VL PT ","BEN VL PT ",{"$f":"IF(COUNTIF('PLANNING PRINCIPAL'!$I$571:$X$571,J5)>=1,\"\",ROW())","v":5},"BEN VL PT ","BEN VL PT ",{"$f":"IF(COUNTIF('PLANNING PRINCIPAL'!$I$574:$X$574,M5)>=1,\"\",ROW())","v":5},"BEN VL PT ","BEN VL PT ",{"$f":"IF(COUNTIF('PLANNING PRINCIPAL'!$I$577:$X$577,P5)>=1,\"\",ROW())","v":5},"BEN VL PT ","BEN VL PT ",{"$f":"IF(COUNTIF('PLANNING PRINCIPAL'!$I$580:$X$580,S5)>=1,\"\",ROW())","v":5},"BEN VL PT ",{"$f":"'DATA S1'!V5","v":"V NOC HANCHES"},{"$f":"IF(COUNTIF('PLANNING PRINCIPAL'!$I$582:$X$582,V5)>=1,\"\",ROW())","v":5},"V NOC HANCHES"]
[{"$f":"'DATA S1'!A6","v":"BEN 19T "},{"$f":"IF(COUNTIF('PLANNING PRINCIPAL'!$I$562:$X$562,A6)>=1,\"\",ROW())","v":6},"BEN 19T ","BEN 19T ",{"$f":"IF(COUNTIF('PLANNING PRINCIPAL'!$I$565:$X$565,D6)>=1,\"\",ROW())","v":6},"BEN 19T ","BEN 19T ",{"$f":"IF(COUNTIF('PLANNING PRINCIPAL'!$I$568:$X$568,G6)>=1,\"\",ROW())","v":6},"BEN 19T ","BEN 19T ",{"$f":"IF(COUNTIF('PLANNING PRINCIPAL'!$I$571:$X$571,J6)>=1,\"\",ROW())","v":6},"BEN 19T ","BEN 19T ",{"$f":"IF(COUNTIF('PLANNING PRINCIPAL'!$I$574:$X$574,M6)>=1,\"\",ROW())","v":6},"BEN 19T ","BEN 19T ",{"$f":"IF(COUNTIF('PLANNING PRINCIPAL'!$I$577:$X$577,P6)>=1,\"\",ROW())","v":6},"BEN 19T ","BEN 19T ",{"$f":"IF(COUNTIF('PLANNING PRINCIPAL'!$I$580:$X$580,S6)>=1,\"\",ROW())","v":6},"BEN 19T ",{"$f":"'DATA S1'!V6","v":"V NOC MAINTENON"},{"$f":"IF(COUNTIF('PLANNING PRINCIPAL'!$I$582:$X$582,V6)>=1,\"\",ROW())","v":6},"V NOC MAINTENON"]
[{"$f":"'DATA S1'!A7","v":"BEN 13T "},{"$f":"IF(COUNTIF('PLANNING PRINCIPAL'!$I$562:$X$562,A7)>=1,\"\",ROW())","v":7},"BEN 13T ","BEN 13T ",{"$f":"IF(COUNTIF('PLANNING PRINCIPAL'!$I$565:$X$565,D7)>=1,\"\",ROW())","v":7},"BEN 13T ","BEN 13T ",{"$f":"IF(COUNTIF('PLANNING PRINCIPAL'!$I$568:$X$568,G7)>=1,\"\",ROW())","v":7},"BEN 13T ","BEN 13T ",{"$f":"IF(COUNTIF('PLANNING PRINCIPAL'!$I$571:$X$571,J7)>=1,\"\",ROW())","v":7},"BEN 13T ","BEN 13T ",{"$f":"IF(COUNTIF('PLANNING PRINCIPAL'!$I$574:$X$574,M7)>=1,\"\",ROW())","v":7},"BEN 13T ","BEN 13T ",{"$f":"IF(COUNTIF('PLANNING PRINCIPAL'!$I$577:$X$577,P7)>=1,\"\",ROW())","v":7},"BEN 13T ","BEN 13T ",{"$f":"IF(COUNTIF('PLANNING PRINCIPAL'!$I$580:$X$580,S7)>=1,\"\",ROW())","v":7},"BEN 13T ",null,{"$f":"IF(COUNTIF('PLANNING PRINCIPAL'!$I$467:$X$467,V7)>=1,\"\",ROW())","v":7}]
[{"$f":"'DATA S1'!A8","v":"NAC VL 18M "},{"$f":"IF(COUNTIF('PLANNING PRINCIPAL'!$I$562:$X$562,A8)>=1,\"\",ROW())","v":8},"NAC VL 18M ","NAC VL 18M ",{"$f":"IF(COUNTIF('PLANNING PRINCIPAL'!$I$565:$X$565,D8)>=1,\"\",ROW())","v":8},"NAC VL 18M ","NAC VL 18M ",{"$f":"IF(COUNTIF('PLANNING PRINCIPAL'!$I$568:$X$568,G8)>=1,\"\",ROW())","v":8},"NAC VL 18M ","NAC VL 18M ",{"$f":"IF(COUNTIF('PLANNING PRINCIPAL'!$I$571:$X$571,J8)>=1,\"\",ROW())","v":8},"NAC VL 18M ","NAC VL 18M ",{"$f":"IF(COUNTIF('PLANNING PRINCIPAL'!$I$574:$X$574,M8)>=1,\"\",ROW())","v":8},"NAC VL 18M ","NAC VL 18M ",{"$f":"IF(COUNTIF('PLANNING PRINCIPAL'!$I$577:$X$577,P8)>=1,\"\",ROW())","v":8},"NAC VL 18M ","NAC VL 18M ",{"$f":"IF(COUNTIF('PLANNING PRINCIPAL'!$I$580:$X$580,S8)>=1,\"\",ROW())","v":8},"NAC VL 18M ",null,{"$f":"IF(COUNTIF('PLANNING PRINCIPAL'!$I$467:$X$467,V8)>=1,\"\",ROW())","v":8}]
[{"$f":"'DATA S1'!A9","v":"NAC EGIE"},{"$f":"IF(COUNTIF('PLANNING PRINCIPAL'!$I$562:$X$562,A9)>=1,\"\",ROW())","v":9},"NAC EGIE","NAC EGIE",{"$f":"IF(COUNTIF('PLANNING PRINCIPAL'!$I$565:$X$565,D9)>=1,\"\",ROW())","v":9},"NAC EGIE","NAC EGIE",{"$f":"IF(COUNTIF('PLANNING PRINCIPAL'!$I$568:$X$568,G9)>=1,\"\",ROW())","v":9},"NAC EGIE","NAC EGIE",{"$f":"IF(COUNTIF('PLANNING PRINCIPAL'!$I$571:$X$571,J9)>=1,\"\",ROW())","v":9},"NAC EGIE","NAC EGIE",{"$f":"IF(COUNTIF('PLANNING PRINCIPAL'!$I$574:$X$574,M9)>=1,\"\",ROW())","v":9},"NAC EGIE","NAC EGIE",{"$f":"IF(COUNTIF('PLANNING PRINCIPAL'!$I$577:$X$577,P9)>=1,\"\",ROW())","v":9},"NAC EGIE","NAC EGIE",{"$f":"IF(COUNTIF('PLANNING PRINCIPAL'!$I$580:$X$580,S9)>=1,\"\",ROW())","v":9},"NAC EGIE",null,{"$f":"IF(COUNTIF('PLANNING PRINCIPAL'!$I$467:$X$467,V9)>=1,\"\",ROW())","v":9}]
[{"$f":"'DATA S1'!A10","v":"NAC COMI "},{"$f":"IF(COUNTIF('PLANNING PRINCIPAL'!$I$562:$X$562,A10)>=1,\"\",ROW())","v":10},"NAC COMI ","NAC COMI ",{"$f":"IF(COUNTIF('PLANNING PRINCIPAL'!$I$565:$X$565,D10)>=1,\"\",ROW())","v":10},"NAC COMI ","NAC COMI ",{"$f":"IF(COUNTIF('PLANNING PRINCIPAL'!$I$568:$X$568,G10)>=1,\"\",ROW())","v":10},"NAC COMI ","NAC COMI ",{"$f":"IF(COUNTIF('PLANNING PRINCIPAL'!$I$571:$X$571,J10)>=1,\"\",ROW())","v":10},"NAC COMI ","NAC COMI ",{"$f":"IF(COUNTIF('PLANNING PRINCIPAL'!$I$574:$X$574,M10)>=1,\"\",ROW())","v":10},"NAC COMI ","NAC COMI ",{"$f":"IF(COUNTIF('PLANNING PRINCIPAL'!$I$577:$X$577,P10)>=1,\"\",ROW())","v":10},"NAC COMI ","NAC COMI ",{"$f":"IF(COUNTIF('PLANNING PRINCIPAL'!$I$580:$X$580,S10)>=1,\"\",ROW())","v":10},"NAC COMI ",null,{"$f":"IF(COUNTIF('PLANNING PRINCIPAL'!$I$467:$X$467,V10)>=1,\"\",ROW())","v":10}]
[{"$f":"'DATA S1'!A11","v":"#####LOCATION#####"},{"$f":"IF(COUNTIF('PLANNING PRINCIPAL'!$I$562:$X$562,A11)>=1,\"\",ROW())","v":11},"#####LOCATION#####","#####LOCATION#####",{"$f":"IF(COUNTIF('PLANNING PRINCIPAL'!$I$565:$X$565,D11)>=1,\"\",ROW())","v":11},"#####LOCATION#####","#####LOCATION#####",{"$f":"IF(COUNTIF('PLANNING PRINCIPAL'!$I$568:$X$568,G11)>=1,\"\",ROW())","v":11},"#####LOCATION#####","#####LOCATION#####",{"$f":"IF(COUNTIF('PLANNING PRINCIPAL'!$I$571:$X$571,J11)>=1,\"\",ROW())","v":11},"#####LOCATION#####","#####LOCATION#####",{"$f":"IF(COUNTIF('PLANNING PRINCIPAL'!$I$574:$X$574,M11)>=1,\"\",ROW())","v":11},"#####LOCATION#####","#####LOCATION#####",{"$f":"IF(COUNTIF('PLANNING PRINCIPAL'!$I$577:$X$577,P11)>=1,\"\",ROW())","v":11},"#####LOCATION#####","#####LOCATION#####",{"$f":"IF(COUNTIF('PLANNING PRINCIPAL'!$I$580:$X$580,S11)>=1,\"\",ROW())","v":11},"#####LOCATION#####",null,{"$f":"IF(COUNTIF('PLANNING PRINCIPAL'!$I$467:$X$467,V11)>=1,\"\",ROW())","v":11}]
[{"$f":"'DATA S1'!A12","v":"LOC NAC SOLOMAT"},{"$f":"IF(COUNTIF('PLANNING PRINCIPAL'!$I$562:$X$562,A12)>=1,\"\",ROW())","v":12},"LOC NAC SOLOMAT","LOC NAC SOLOMAT",{"$f":"IF(COUNTIF('PLANNING PRINCIPAL'!$I$565:$X$565,D12)>=1,\"\",ROW())","v":12},"LOC NAC SOLOMAT","LOC NAC SOLOMAT",{"$f":"IF(COUNTIF('PLANNING PRINCIPAL'!$I$568:$X$568,G12)>=1,\"\",ROW())","v":12},"LOC NAC SOLOMAT","LOC NAC SOLOMAT",{"$f":"IF(COUNTIF('PLANNING PRINCIPAL'!$I$571:$X$571,J12)>=1,\"\",ROW())","v":12},"LOC NAC SOLOMAT","LOC NAC SOLOMAT",{"$f":"IF(COUNTIF('PLANNING PRINCIPAL'!$I$574:$X$574,M12)>=1,\"\",ROW())","v":12},"LOC NAC SOLOMAT","LOC NAC SOLOMAT",{"$f":"IF(COUNTIF('PLANNING PRINCIPAL'!$I$577:$X$577,P12)>=1,\"\",ROW())","v":12},"LOC NAC SOLOMAT","LOC NAC SOLOMAT",{"$f":"IF(COUNTIF('PLANNING PRINCIPAL'!$I$580:$X$580,S12)>=1,\"\",ROW())","v":12},"LOC NAC SOLOMAT",null,{"$f":"IF(COUNTIF('PLANNING PRINCIPAL'!$I$467:$X$467,V12)>=1,\"\",ROW())","v":12}]
[{"$f":"'DATA S1'!A13","v":"LOC NAC AEB"},{"$f":"IF(COUNTIF('PLANNING PRINCIPAL'!$I$562:$X$562,A13)>=1,\"\",ROW())","v":13},"LOC NAC AEB","LOC NAC AEB",{"$f":"IF(COUNTIF('PLANNING PRINCIPAL'!$I$565:$X$565,D13)>=1,\"\",ROW())","v":13},"LOC NAC AEB","LOC NAC AEB",{"$f":"IF(COUNTIF('PLANNING PRINCIPAL'!$I$568:$X$568,G13)>=1,\"\",ROW())","v":13},"LOC NAC AEB","LOC NAC AEB",{"$f":"IF(COUNTIF('PLANNING PRINCIPAL'!$I$571:$X$571,J13)>=1,\"\",ROW())","v":13},"LOC NAC AEB","LOC NAC AEB",{"$f":"IF(COUNTIF('PLANNING PRINCIPAL'!$I$574:$X$574,M13)>=1,\"\",ROW())","v":13},"LOC NAC AEB","LOC NAC AEB",{"$f":"IF(COUNTIF('PLANNING PRINCIPAL'!$I$577:$X$577,P13)>=1,\"\",ROW())","v":13},"LOC NAC AEB","LOC NAC AEB",{"$f":"IF(COUNTIF('PLANNING PRINCIPAL'!$I$580:$X$580,S13)>=1,\"\",ROW())","v":13},"LOC NAC AEB",null,{"$f":"IF(COUNTIF('PLANNING PRINCIPAL'!$I$467:$X$467,V13)>=1,\"\",ROW())","v":13}]
[{"$f":"'DATA S1'!A14","v":"LOC NAC INTERLOC"},{"$f":"IF(COUNTIF('PLANNING PRINCIPAL'!$I$562:$X$562,A14)>=1,\"\",ROW())","v":14},"LOC NAC INTERLOC","LOC NAC INTERLOC",{"$f":"IF(COUNTIF('PLANNING PRINCIPAL'!$I$565:$X$565,D14)>=1,\"\",ROW())","v":14},"LOC NAC INTERLOC","LOC NAC INTERLOC",{"$f":"IF(COUNTIF('PLANNING PRINCIPAL'!$I$568:$X$568,G14)>=1,\"\",ROW())","v":14},"LOC NAC INTERLOC","LOC NAC INTERLOC",{"$f":"IF(COUNTIF('PLANNING PRINCIPAL'!$I$571:$X$571,J14)>=1,\"\",ROW())","v":14},"LOC NAC INTERLOC","LOC NAC INTERLOC",{"$f":"IF(COUNTIF('PLANNING PRINCIPAL'!$I$574:$X$574,M14)>=1,\"\",ROW())","v":14},"LOC NAC INTERLOC","LOC NAC INTERLOC",{"$f":"IF(COUNTIF('PLANNING PRINCIPAL'!$I$577:$X$577,P14)>=1,\"\",ROW())","v":14},"LOC NAC INTERLOC","LOC NAC INTERLOC",{"$f":"IF(COUNTIF('PLANNING PRINCIPAL'!$I$580:$X$580,S14)>=1,\"\",ROW())","v":14},"LOC NAC INTERLOC",null,{"$f":"IF(COUNTIF('PLANNING PRINCIPAL'!$I$467:$X$467,V14)>=1,\"\",ROW())","v":14}]
[{"$f":"'DATA S1'!A15","v":"LOC NAC KILOUTOU"},{"$f":"IF(COUNTIF('PLANNING PRINCIPAL'!$I$562:$X$562,A15)>=1,\"\",ROW())","v":15},"LOC NAC KILOUTOU","LOC NAC KILOUTOU",{"$f":"IF(COUNTIF('PLANNING PRINCIPAL'!$I$565:$X$565,D15)>=1,\"\",ROW())","v":15},"LOC NAC KILOUTOU","LOC NAC KILOUTOU",{"$f":"IF(COUNTIF('PLANNING PRINCIPAL'!$I$568:$X$568,G15)>=1,\"\",ROW())","v":15},"LOC NAC KILOUTOU","LOC NAC KILOUTOU",{"$f":"IF(COUNTIF('PLANNING PRINCIPAL'!$I$571:$X$571,J15)>=1,\"\",ROW())","v":15},"LOC NAC KILOUTOU","LOC NAC KILOUTOU",{"$f":"IF(COUNTIF('PLANNING PRINCIPAL'!$I$574:$X$574,M15)>=1,\"\",ROW())","v":15},"LOC NAC KILOUTOU","LOC NAC KILOUTOU",{"$f":"IF(COUNTIF('PLANNING PRINCIPAL'!$I$577:$X$577,P15)>=1,\"\",ROW())","v":15},"LOC NAC KILOUTOU","LOC NAC KILOUTOU",{"$f":"IF(COUNTIF('PLANNING PRINCIPAL'!$I$580:$X$580,S15)>=1,\"\",ROW())","v":15},"LOC NAC KILOUTOU",null,{"$f":"IF(COUNTIF('PLANNING PRINCIPAL'!$I$467:$X$467,V15)>=1,\"\",ROW())","v":15}]
[{"$f":"'DATA S1'!A16","v":"LOC NAC AEB"},{"$f":"IF(COUNTIF('PLANNING PRINCIPAL'!$I$562:$X$562,A16)>=1,\"\",ROW())","v":16},"LOC NAC AEB","LOC NAC AEB",{"$f":"IF(COUNTIF('PLANNING PRINCIPAL'!$I$565:$X$565,D16)>=1,\"\",ROW())","v":16},"LOC NAC AEB","LOC NAC AEB",{"$f":"IF(COUNTIF('PLANNING PRINCIPAL'!$I$568:$X$568,G16)>=1,\"\",ROW())","v":16},"LOC NAC AEB","LOC NAC AEB",{"$f":"IF(COUNTIF('PLANNING PRINCIPAL'!$I$571:$X$571,J16)>=1,\"\",ROW())","v":16},"LOC NAC AEB","LOC NAC AEB",{"$f":"IF(COUNTIF('PLANNING PRINCIPAL'!$I$574:$X$574,M16)>=1,\"\",ROW())","v":16},"LOC NAC AEB","LOC NAC AEB",{"$f":"IF(COUNTIF('PLANNING PRINCIPAL'!$I$577:$X$577,P16)>=1,\"\",ROW())","v":16},"LOC NAC AEB","LOC NAC AEB",{"$f":"IF(COUNTIF('PLANNING PRINCIPAL'!$I$580:$X$580,S16)>=1,\"\",ROW())","v":16},"LOC NAC AEB",null,{"$f":"IF(COUNTIF('PLANNING PRINCIPAL'!$I$467:$X$467,V16)>=1,\"\",ROW())","v":16}]
[{"$f":"'DATA S1'!A17","v":"LOC PELLE SOLOMAT"},{"$f":"IF(COUNTIF('PLANNING PRINCIPAL'!$I$562:$X$562,A17)>=1,\"\",ROW())","v":17},"LOC PELLE SOLOMAT","LOC PELLE SOLOMAT",{"$f":"IF(COUNTIF('PLANNING PRINCIPAL'!$I$565:$X$565,D17)>=1,\"\",ROW())","v":17},"LOC PELLE SOLOMAT","LOC PELLE SOLOMAT",{"$f":"IF(COUNTIF('PLANNING PRINCIPAL'!$I$568:$X$568,G17)>=1,\"\",ROW())","v":17},"LOC PELLE SOLOMAT","LOC PELLE SOLOMAT",{"$f":"IF(COUNTIF('PLANNING PRINCIPAL'!$I$571:$X$571,J17)>=1,\"\",ROW())","v":17},"LOC PELLE SOLOMAT","LOC PELLE SOLOMAT",{"$f":"IF(COUNTIF('PLANNING PRINCIPAL'!$I$574:$X$574,M17)>=1,\"\",ROW())","v":17},"LOC PELLE SOLOMAT","LOC PELLE SOLOMAT",{"$f":"IF(COUNTIF('PLANNING PRINCIPAL'!$I$577:$X$577,P17)>=1,\"\",ROW())","v":17},"LOC PELLE SOLOMAT","LOC PELLE SOLOMAT",{"$f":"IF(COUNTIF('PLANNING PRINCIPAL'!$I$580:$X$580,S17)>=1,\"\",ROW())","v":17},"LOC PELLE SOLOMAT",null,{"$f":"IF(COUNTIF('PLANNING PRINCIPAL'!$I$467:$X$467,V17)>=1,\"\",ROW())","v":17}]
[{"$f":"'DATA S1'!A18","v":"LOC PELLE AEB"},{"$f":"IF(COUNTIF('PLANNING PRINCIPAL'!$I$562:$X$562,A18)>=1,\"\",ROW())","v":18},"LOC PELLE AEB","LOC PELLE AEB",{"$f":"IF(COUNTIF('PLANNING PRINCIPAL'!$I$565:$X$565,D18)>=1,\"\",ROW())","v":18},"LOC PELLE AEB","LOC PELLE AEB",{"$f":"IF(COUNTIF('PLANNING PRINCIPAL'!$I$568:$X$568,G18)>=1,\"\",ROW())","v":18},"LOC PELLE AEB","LOC PELLE AEB",{"$f":"IF(COUNTIF('PLANNING PRINCIPAL'!$I$571:$X$571,J18)>=1,\"\",ROW())","v":18},"LOC PELLE AEB","LOC PELLE AEB",{"$f":"IF(COUNTIF('PLANNING PRINCIPAL'!$I$574:$X$574,M18)>=1,\"\",ROW())","v":18},"LOC PELLE AEB","LOC PELLE AEB",{"$f":"IF(COUNTIF('PLANNING PRINCIPAL'!$I$577:$X$577,P18)>=1,\"\",ROW())","v":18},"LOC PELLE AEB","LOC PELLE AEB",{"$f":"IF(COUNTIF('PLANNING PRINCIPAL'!$I$580:$X$580,S18)>=1,\"\",ROW())","v":18},"LOC PELLE AEB",null,{"$f":"IF(COUNTIF('PLANNING PRINCIPAL'!$I$467:$X$467,V18)>=1,\"\",ROW())","v":18}]
[{"$f":"'DATA S1'!A19","v":"LOC PELLE INTERLOC"},{"$f":"IF(COUNTIF('PLANNING PRINCIPAL'!$I$562:$X$562,A19)>=1,\"\",ROW())","v":19},"LOC PELLE INTERLOC","LOC PELLE INTERLOC",{"$f":"IF(COUNTIF('PLANNING PRINCIPAL'!$I$565:$X$565,D19)>=1,\"\",ROW())","v":19},"LOC PELLE INTERLOC","LOC PELLE INTERLOC",{"$f":"IF(COUNTIF('PLANNING PRINCIPAL'!$I$568:$X$568,G19)>=1,\"\",ROW())","v":19},"LOC PELLE INTERLOC","LOC PELLE INTERLOC",{"$f":"IF(COUNTIF('PLANNING PRINCIPAL'!$I$571:$X$571,J19)>=1,\"\",ROW())","v":19},"LOC PELLE INTERLOC","LOC PELLE INTERLOC",{"$f":"IF(COUNTIF('PLANNING PRINCIPAL'!$I$574:$X$574,M19)>=1,\"\",ROW())","v":19},"LOC PELLE INTERLOC","LOC PELLE INTERLOC",{"$f":"IF(COUNTIF('PLANNING PRINCIPAL'!$I$577:$X$577,P19)>=1,\"\",ROW())","v":19},"LOC PELLE INTERLOC","LOC PELLE INTERLOC",{"$f":"IF(COUNTIF('PLANNING PRINCIPAL'!$I$580:$X$580,S19)>=1,\"\",ROW())","v":19},"LOC PELLE INTERLOC",null,{"$f":"IF(COUNTIF('PLANNING PRINCIPAL'!$I$467:$X$467,V19)>=1,\"\",ROW())","v":19}]
[{"$f":"'DATA S1'!A20","v":"LOC PELLE KILOUTOU"},{"$f":"IF(COUNTIF('PLANNING PRINCIPAL'!$I$562:$X$562,A20)>=1,\"\",ROW())","v":20},"LOC PELLE KILOUTOU","LOC PELLE KILOUTOU",{"$f":"IF(COUNTIF('PLANNING PRINCIPAL'!$I$565:$X$565,D20)>=1,\"\",ROW())","v":20},"LOC PELLE KILOUTOU","LOC PELLE KILOUTOU",{"$f":"IF(COUNTIF('PLANNING PRINCIPAL'!$I$568:$X$568,G20)>=1,\"\",ROW())","v":20},"LOC PELLE KILOUTOU","LOC PELLE KILOUTOU",{"$f":"IF(COUNTIF('PLANNING PRINCIPAL'!$I$571:$X$571,J20)>=1,\"\",ROW())","v":20},"LOC PELLE KILOUTOU","LOC PELLE KILOUTOU",{"$f":"IF(COUNTIF('PLANNING PRINCIPAL'!$I$574:$X$574,M20)>=1,\"\",ROW())","v":20},"LOC PELLE KILOUTOU","LOC PELLE KILOUTOU",{"$f":"IF(COUNTIF('PLANNING PRINCIPAL'!$I$577:$X$577,P20)>=1,\"\",ROW())","v":20},"LOC PELLE KILOUTOU","LOC PELLE KILOUTOU",{"$f":"IF(COUNTIF('PLANNING PRINCIPAL'!$I$580:$X$580,S20)>=1,\"\",ROW())","v":20},"LOC PELLE KILOUTOU",null,{"$f":"IF(COUNTIF('PLANNING PRINCIPAL'!$I$467:$X$467,V20)>=1,\"\",ROW())","v":20}]
[null,{"$f":"IF(COUNTIF('PLANNING PRINCIPAL'!$I$562:$X$562,A21)>=1,\"\",ROW())","v":21},null,null,{"$f":"IF(COUNTIF('PLANNING PRINCIPAL'!$I$565:$X$565,D21)>=1,\"\",ROW())","v":21},null,null,{"$f":"IF(COUNTIF('PLANNING PRINCIPAL'!$I$568:$X$568,G21)>=1,\"\",ROW())","v":21},null,null,{"$f":"IF(COUNTIF('PLANNING PRINCIPAL'!$I$571:$X$571,J21)>=1,\"\",ROW())","v":21},null,null,{"$f":"IF(COUNTIF('PLANNING PRINCIPAL'!$I$574:$X$574,M21)>=1,\"\",ROW())","v":21},null,null,{"$f":"IF(COUNTIF('PLANNING PRINCIPAL'!$I$577:$X$577,P21)>=1,\"\",ROW())","v":21},null,null,{"$f":"IF(COUNTIF('PLANNING PRINCIPAL'!$I$580:$X$580,S21)>=1,\"\",ROW())","v":21},null,null,{"$f":"IF(COUNTIF('PLANNING PRINCIPAL'!$I$467:$X$467,V21)>=1,\"\",ROW())","v":21}]
[null,{"$f":"IF(COUNTIF('PLANNING PRINCIPAL'!$I$562:$X$562,A22)>=1,\"\",ROW())","v":22},null,null,{"$f":"IF(COUNTIF('PLANNING PRINCIPAL'!$I$565:$X$565,D22)>=1,\"\",ROW())","v":22},null,null,{"$f":"IF(COUNTIF('PLANNING PRINCIPAL'!$I$568:$X$568,G22)>=1,\"\",ROW())","v":22},null,null,{"$f":"IF(COUNTIF('PLANNING PRINCIPAL'!$I$571:$X$571,J22)>=1,\"\",ROW())","v":22},null,null,{"$f":"IF(COUNTIF('PLANNING PRINCIPAL'!$I$574:$X$574,M22)>=1,\"\",ROW())","v":22},null,null,{"$f":"IF(COUNTIF('PLANNING PRINCIPAL'!$I$577:$X$577,P22)>=1,\"\",ROW())","v":22},null,null,{"$f":"IF(COUNTIF('PLANNING PRINCIPAL'!$I$580:$X$580,S22)>=1,\"\",ROW())","v":22},null,null,{"$f":"IF(COUNTIF('PLANNING PRINCIPAL'!$I$467:$X$467,V22)>=1,\"\",ROW())","v":22}]
[null,{"$f":"IF(COUNTIF('PLANNING PRINCIPAL'!$I$562:$X$562,A23)>=1,\"\",ROW())","v":23},null,null,{"$f":"IF(COUNTIF('PLANNING PRINCIPAL'!$I$565:$X$565,D23)>=1,\"\",ROW())","v":23},null,null,{"$f":"IF(COUNTIF('PLANNING PRINCIPAL'!$I$568:$X$568,G23)>=1,\"\",ROW())","v":23},null,null,{"$f":"IF(COUNTIF('PLANNING PRINCIPAL'!$I$571:$X$571,J23)>=1,\"\",ROW())","v":23},null,null,{"$f":"IF(COUNTIF('PLANNING PRINCIPAL'!$I$574:$X$574,M23)>=1,\"\",ROW())","v":23},null,null,{"$f":"IF(COUNTIF('PLANNING PRINCIPAL'!$I$577:$X$577,P23)>=1,\"\",ROW())","v":23},null,null,{"$f":"IF(COUNTIF('PLANNING PRINCIPAL'!$I$580:$X$580,S23)>=1,\"\",ROW())","v":23},null,null,{"$f":"IF(COUNTIF('PLANNING PRINCIPAL'!$I$467:$X$467,V23)>=1,\"\",ROW())","v":23}]
[null,{"$f":"IF(COUNTIF('PLANNING PRINCIPAL'!$I$562:$X$562,A24)>=1,\"\",ROW())","v":24},null,null,{"$f":"IF(COUNTIF('PLANNING PRINCIPAL'!$I$565:$X$565,D24)>=1,\"\",ROW())","v":24},null,null,{"$f":"IF(COUNTIF('PLANNING PRINCIPAL'!$I$568:$X$568,G24)>=1,\"\",ROW())","v":24},null,null,{"$f":"IF(COUNTIF('PLANNING PRINCIPAL'!$I$571:$X$571,J24)>=1,\"\",ROW())","v":24},null,null,{"$f":"IF(COUNTIF('PLANNING PRINCIPAL'!$I$574:$X$574,M24)>=1,\"\",ROW())","v":24},null,null,{"$f":"IF(COUNTIF('PLANNING PRINCIPAL'!$I$577:$X$577,P24)>=1,\"\",ROW())","v":24},null,null,{"$f":"IF(COUNTIF('PLANNING PRINCIPAL'!$I$580:$X$580,S24)>=1,\"\",ROW())","v":24},null,null,{"$f":"IF(COUNTIF('PLANNING PRINCIPAL'!$I$467:$X$467,V24)>=1,\"\",ROW())","v":24}]
[null,{"$f":"IF(COUNTIF('PLANNING PRINCIPAL'!$I$562:$X$562,A25)>=1,\"\",ROW())","v":25},null,null,{"$f":"IF(COUNTIF('PLANNING PRINCIPAL'!$I$565:$X$565,D25)>=1,\"\",ROW())","v":25},null,null,{"$f":"IF(COUNTIF('PLANNING PRINCIPAL'!$I$568:$X$568,G25)>=1,\"\",ROW())","v":25},null,null,{"$f":"IF(COUNTIF('PLANNING PRINCIPAL'!$I$571:$X$571,J25)>=1,\"\",ROW())","v":25},null,null,{"$f":"IF(COUNTIF('PLANNING PRINCIPAL'!$I$574:$X$574,M25)>=1,\"\",ROW())","v":25},null,null,{"$f":"IF(COUNTIF('PLANNING PRINCIPAL'!$I$577:$X$577,P25)>=1,\"\",ROW())","v":25},null,null,{"$f":"IF(COUNTIF('PLANNING PRINCIPAL'!$I$580:$X$580,S25)>=1,\"\",ROW())","v":25},null,null,{"$f":"IF(COUNTIF('PLANNING PRINCIPAL'!$I$467:$X$467,V25)>=1,\"\",ROW())","v":25}]
[null,{"$f":"IF(COUNTIF('PLANNING PRINCIPAL'!$I$562:$X$562,A26)>=1,\"\",ROW())","v":26},null,null,{"$f":"IF(COUNTIF('PLANNING PRINCIPAL'!$I$565:$X$565,D26)>=1,\"\",ROW())","v":26},null,null,{"$f":"IF(COUNTIF('PLANNING PRINCIPAL'!$I$568:$X$568,G26)>=1,\"\",ROW())","v":26},null,null,{"$f":"IF(COUNTIF('PLANNING PRINCIPAL'!$I$571:$X$571,J26)>=1,\"\",ROW())","v":26},null,null,{"$f":"IF(COUNTIF('PLANNING PRINCIPAL'!$I$574:$X$574,M26)>=1,\"\",ROW())","v":26},null,null,{"$f":"IF(COUNTIF('PLANNING PRINCIPAL'!$I$577:$X$577,P26)>=1,\"\",ROW())","v":26},null,null,{"$f":"IF(COUNTIF('PLANNING PRINCIPAL'!$I$580:$X$580,S26)>=1,\"\",ROW())","v":26},null,null,{"$f":"IF(COUNTIF('PLANNING PRINCIPAL'!$I$467:$X$467,V26)>=1,\"\",ROW())","v":26}]
[null,{"$f":"IF(COUNTIF('PLANNING PRINCIPAL'!$I$562:$X$562,A27)>=1,\"\",ROW())","v":27},null,null,{"$f":"IF(COUNTIF('PLANNING PRINCIPAL'!$I$565:$X$565,D27)>=1,\"\",ROW())","v":27},null,null,{"$f":"IF(COUNTIF('PLANNING PRINCIPAL'!$I$568:$X$568,G27)>=1,\"\",ROW())","v":27},null,null,{"$f":"IF(COUNTIF('PLANNING PRINCIPAL'!$I$571:$X$571,J27)>=1,\"\",ROW())","v":27},null,null,{"$f":"IF(COUNTIF('PLANNING PRINCIPAL'!$I$574:$X$574,M27)>=1,\"\",ROW())","v":27},null,null,{"$f":"IF(COUNTIF('PLANNING PRINCIPAL'!$I$577:$X$577,P27)>=1,\"\",ROW())","v":27},null,null,{"$f":"IF(COUNTIF('PLANNING PRINCIPAL'!$I$580:$X$580,S27)>=1,\"\",ROW())","v":27},null,null,{"$f":"IF(COUNTIF('PLANNING PRINCIPAL'!$I$467:$X$467,V27)>=1,\"\",ROW())","v":27}]
[null,{"$f":"IF(COUNTIF('PLANNING PRINCIPAL'!$I$562:$X$562,A28)>=1,\"\",ROW())","v":28},null,null,{"$f":"IF(COUNTIF('PLANNING PRINCIPAL'!$I$565:$X$565,D28)>=1,\"\",ROW())","v":28},null,null,{"$f":"IF(COUNTIF('PLANNING PRINCIPAL'!$I$568:$X$568,G28)>=1,\"\",ROW())","v":28},null,null,{"$f":"IF(COUNTIF('PLANNING PRINCIPAL'!$I$571:$X$571,J28)>=1,\"\",ROW())","v":28},null,null,{"$f":"IF(COUNTIF('PLANNING PRINCIPAL'!$I$574:$X$574,M28)>=1,\"\",ROW())","v":28},null,null,{"$f":"IF(COUNTIF('PLANNING PRINCIPAL'!$I$577:$X$577,P28)>=1,\"\",ROW())","v":28},null,null,{"$f":"IF(COUNTIF('PLANNING PRINCIPAL'!$I$580:$X$580,S28)>=1,\"\",ROW())","v":28},null,null,{"$f":"IF(COUNTIF('PLANNING PRINCIPAL'!$I$467:$X$467,V28)>=1,\"\",ROW())","v":28}]
[null,{"$f":"IF(COUNTIF('PLANNING PRINCIPAL'!$I$562:$X$562,A29)>=1,\"\",ROW())","v":29},null,null,{"$f":"IF(COUNTIF('PLANNING PRINCIPAL'!$I$565:$X$565,D29)>=1,\"\",ROW())","v":29},null,null,{"$f":"IF(COUNTIF('PLANNING PRINCIPAL'!$I$568:$X$568,G29)>=1,\"\",ROW())","v":29},null,null,{"$f":"IF(COUNTIF('PLANNING PRINCIPAL'!$I$571:$X$571,J29)>=1,\"\",ROW())","v":29},null,null,{"$f":"IF(COUNTIF('PLANNING PRINCIPAL'!$I$574:$X$574,M29)>=1,\"\",ROW())","v":29},null,null,{"$f":"IF(COUNTIF('PLANNING PRINCIPAL'!$I$577:$X$577,P29)>=1,\"\",ROW())","v":29},null,null,{"$f":"IF(COUNTIF('PLANNING PRINCIPAL'!$I$580:$X$580,S29)>=1,\"\",ROW())","v":29},null,null,{"$f":"IF(COUNTIF('PLANNING PRINCIPAL'!$I$467:$X$467,V29)>=1,\"\",ROW())","v":29}]
[null,{"$f":"IF(COUNTIF('PLANNING PRINCIPAL'!$I$562:$X$562,A30)>=1,\"\",ROW())","v":30},null,null,{"$f":"IF(COUNTIF('PLANNING PRINCIPAL'!$I$565:$X$565,D30)>=1,\"\",ROW())","v":30},null,null,{"$f":"IF(COUNTIF('PLANNING PRINCIPAL'!$I$568:$X$568,G30)>=1,\"\",ROW())","v":30},null,null,{"$f":"IF(COUNTIF('PLANNING PRINCIPAL'!$I$571:$X$571,J30)>=1,\"\",ROW())","v":30},null,null,{"$f":"IF(COUNTIF('PLANNING PRINCIPAL'!$I$574:$X$574,M30)>=1,\"\",ROW())","v":30},null,null,{"$f":"IF(COUNTIF('PLANNING PRINCIPAL'!$I$577:$X$577,P30)>=1,\"\",ROW())","v":30},null,null,{"$f":"IF(COUNTIF('PLANNING PRINCIPAL'!$I$580:$X$580,S30)>=1,\"\",ROW())","v":30},null,null,{"$f":"IF(COUNTIF('PLANNING PRINCIPAL'!$I$467:$X$467,V30)>=1,\"\",ROW())","v":30}]
[null,{"$f":"IF(COUNTIF('PLANNING PRINCIPAL'!$I$562:$X$562,A31)>=1,\"\",ROW())","v":31},null,null,{"$f":"IF(COUNTIF('PLANNING PRINCIPAL'!$I$565:$X$565,D31)>=1,\"\",ROW())","v":31},null,null,{"$f":"IF(COUNTIF('PLANNING PRINCIPAL'!$I$568:$X$568,G31)>=1,\"\",ROW())","v":31},null,null,{"$f":"IF(COUNTIF('PLANNING PRINCIPAL'!$I$571:$X$571,J31)>=1,\"\",ROW())","v":31},null,null,{"$f":"IF(COUNTIF('PLANNING PRINCIPAL'!$I$574:$X$574,M31)>=1,\"\",ROW())","v":31},null,null,{"$f":"IF(COUNTIF('PLANNING PRINCIPAL'!$I$577:$X$577,P31)>=1,\"\",ROW())","v":31},null,null,{"$f":"IF(COUNTIF('PLANNING PRINCIPAL'!$I$580:$X$580,S31)>=1,\"\",ROW())","v":31},null,null,{"$f":"IF(COUNTIF('PLANNING PRINCIPAL'!$I$467:$X$467,V31)>=1,\"\",ROW())","v":31}]
[null,{"$f":"IF(COUNTIF('PLANNING PRINCIPAL'!$I$562:$X$562,A32)>=1,\"\",ROW())","v":32},null,null,{"$f":"IF(COUNTIF('PLANNING PRINCIPAL'!$I$565:$X$565,D32)>=1,\"\",ROW())","v":32},null,null,{"$f":"IF(COUNTIF('PLANNING PRINCIPAL'!$I$568:$X$568,G32)>=1,\"\",ROW())","v":32},null,null,{"$f":"IF(COUNTIF('PLANNING PRINCIPAL'!$I$571:$X$571,J32)>=1,\"\",ROW())","v":32},null,null,{"$f":"IF(COUNTIF('PLANNING PRINCIPAL'!$I$574:$X$574,M32)>=1,\"\",ROW())","v":32},null,null,{"$f":"IF(COUNTIF('PLANNING PRINCIPAL'!$I$577:$X$577,P32)>=1,\"\",ROW())","v":32},null,null,{"$f":"IF(COUNTIF('PLANNING PRINCIPAL'!$I$580:$X$580,S32)>=1,\"\",ROW())","v":32},null,null,{"$f":"IF(COUNTIF('PLANNING PRINCIPAL'!$I$467:$X$467,V32)>=1,\"\",ROW())","v":32}]
[null,{"$f":"IF(COUNTIF('PLANNING PRINCIPAL'!$I$562:$X$562,A33)>=1,\"\",ROW())","v":33},null,null,{"$f":"IF(COUNTIF('PLANNING PRINCIPAL'!$I$565:$X$565,D33)>=1,\"\",ROW())","v":33},null,null,{"$f":"IF(COUNTIF('PLANNING PRINCIPAL'!$I$568:$X$568,G33)>=1,\"\",ROW())","v":33},null,null,{"$f":"IF(COUNTIF('PLANNING PRINCIPAL'!$I$571:$X$571,J33)>=1,\"\",ROW())","v":33},null,null,{"$f":"IF(COUNTIF('PLANNING PRINCIPAL'!$I$574:$X$574,M33)>=1,\"\",ROW())","v":33},null,null,{"$f":"IF(COUNTIF('PLANNING PRINCIPAL'!$I$577:$X$577,P33)>=1,\"\",ROW())","v":33},null,null,{"$f":"IF(COUNTIF('PLANNING PRINCIPAL'!$I$580:$X$580,S33)>=1,\"\",ROW())","v":33},null,null,{"$f":"IF(COUNTIF('PLANNING PRINCIPAL'!$I$467:$X$467,V33)>=1,\"\",ROW())","v":33}]
[null,{"$f":"IF(COUNTIF('PLANNING PRINCIPAL'!$I$562:$X$562,A34)>=1,\"\",ROW())","v":34},null,null,{"$f":"IF(COUNTIF('PLANNING PRINCIPAL'!$I$565:$X$565,D34)>=1,\"\",ROW())","v":34},null,null,{"$f":"IF(COUNTIF('PLANNING PRINCIPAL'!$I$568:$X$568,G34)>=1,\"\",ROW())","v":34},null,null,{"$f":"IF(COUNTIF('PLANNING PRINCIPAL'!$I$548:$X$548,J34)>=1,\"\",ROW())","v":34},null,null,{"$f":"IF(COUNTIF('PLANNING PRINCIPAL'!$I$574:$X$574,M34)>=1,\"\",ROW())","v":34},null,null,{"$f":"IF(COUNTIF('PLANNING PRINCIPAL'!$I$577:$X$577,P34)>=1,\"\",ROW())","v":34},null,null,{"$f":"IF(COUNTIF('PLANNING PRINCIPAL'!$I$580:$X$580,S34)>=1,\"\",ROW())","v":34},null,null,{"$f":"IF(COUNTIF('PLANNING PRINCIPAL'!$I$467:$X$467,V34)>=1,\"\",ROW())","v":34}]
["LUNDI",null,null,"MARDI",null,null,"MERCREDI",null,null,"JEUDI",null,null,"VENDREDI",null,null,"SAMEDI",null,null,"DIMANCHE",null,null,"ASTREINTE"]

{"sheet":"DATA S26","index":27,"n_rows":35,"n_cols":24,"rows_kept":35,"cut":false,"hidden":false,"merged":[[34,18,34,20],[34,21,34,23],[34,0,34,2],[34,3,34,5],[34,6,34,8],[34,9,34,11],[34,12,34,14],[34,15,34,17]]}
[{"$f":"'DATA S1'!A1","v":"MAS XX "},{"$f":"IF(COUNTIF('PLANNING PRINCIPAL'!$I$585:$X$585,A1)>=1,\"\",ROW())","v":1},{"$f":"IF(ROW(A1)-ROW(A$1)+1>COUNT(B:B),\"\", INDEX(A:A,SMALL(B:B,1+ROW(A1)-ROW(A$1))))","v":"MAS XX "},{"$f":"A1","v":"MAS XX "},{"$f":"IF(COUNTIF('PLANNING PRINCIPAL'!$I$588:$X$588,D1)>=1,\"\",ROW())","v":1},{"$f":"IF(ROW(D1)-ROW(D$1)+1>COUNT(E:E),\"\", INDEX(D:D,SMALL(E:E,1+ROW(D1)-ROW(D$1))))","v":"MAS XX "},{"$f":"A1","v":"MAS XX "},{"$f":"IF(COUNTIF('PLANNING PRINCIPAL'!$I$591:$X$591,G1)>=1,\"\",ROW())","v":1},{"$f":"IF(ROW(G1)-ROW(G$1)+1>COUNT(H:H),\"\", INDEX(G:G,SMALL(H:H,1+ROW(G1)-ROW(G$1))))","v":"MAS XX "},{"$f":"A1","v":"MAS XX "},{"$f":"IF(COUNTIF('PLANNING PRINCIPAL'!$I$594:$X$594,J1)>=1,\"\",ROW())","v":1},{"$f":"IF(ROW(J1)-ROW(J$1)+1>COUNT(K:K),\"\", INDEX(J:J,SMALL(K:K,1+ROW(J1)-ROW(J$1))))","v":"MAS XX "},{"$f":"A1","v":"MAS XX "},{"$f":"IF(COUNTIF('PLANNING PRINCIPAL'!$I$597:$X$597,M1)>=1,\"\",ROW())","v":1},{"$f":"IF(ROW(M1)-ROW(M$1)+1>COUNT(N:N),\"\", INDEX(M:M,SMALL(N:N,1+ROW(M1)-ROW(M$1))))","v":"MAS XX "},{"$f":"A1","v":"MAS XX "},{"$f":"IF(COUNTIF('PLANNING PRINCIPAL'!$I$600:$X$600,P1)>=1,\"\",ROW())","v":1},{"$f":"IF(ROW(P1)-ROW(P$1)+1>COUNT(Q:Q),\"\", INDEX(P:P,SMALL(Q:Q,1+ROW(P1)-ROW(P$1))))","v":"MAS XX "},{"$f":"A1","v":"MAS XX "},{"$f":"IF(COUNTIF('PLANNING PRINCIPAL'!$I$603:$X$603,S1)>=1,\"\",ROW())","v":1},{"$f":"IF(ROW(S1)-ROW(S$1)+1>COUNT(T:T),\"\", INDEX(S:S,SMALL(T:T,1+ROW(S1)-ROW(S$1))))","v":"MAS XX "},{"$f":"'DATA S1'!V1","v":"ASTREINTE SLT"},{"$f":"IF(COUNTIF('PLANNING PRINCIPAL'!$I$605:$X$605,V1)>=1,\"\",ROW())","v":1},{"$f":"IF(ROW(V1)-ROW(V$1)+1>COUNT(W:W),\"\", INDEX(V:V,SMALL(W:W,1+ROW(V1)-ROW(V$1))))","v":"ASTREINTE SLT"}]
[{"$f":"'DATA S1'!A2","v":"MAS YY "},{"$f":"IF(COUNTIF('PLANNING PRINCIPAL'!$I$585:$X$585,A2)>=1,\"\",ROW())","v":2},{"$f":"IF(ROW(A2)-ROW(A$1)+1>COUNT(B:B),\"\", INDEX(A:A,SMALL(B:B,1+ROW(A2)-ROW(A$1))))","v":"MAS YY "},"MAS YY ",{"$f":"IF(COUNTIF('PLANNING PRINCIPAL'!$I$588:$X$588,D2)>=1,\"\",ROW())","v":2},{"$f":"IF(ROW(D2)-ROW(D$1)+1>COUNT(E:E),\"\", INDEX(D:D,SMALL(E:E,1+ROW(D2)-ROW(D$1))))","v":"MAS YY "},{"$f":"A2","v":"MAS YY "},{"$f":"IF(COUNTIF('PLANNING PRINCIPAL'!$I$591:$X$591,G2)>=1,\"\",ROW())","v":2},{"$f":"IF(ROW(G2)-ROW(G$1)+1>COUNT(H:H),\"\", INDEX(G:G,SMALL(H:H,1+ROW(G2)-ROW(G$1))))","v":"MAS YY "},{"$f":"A2","v":"MAS YY "},{"$f":"IF(COUNTIF('PLANNING PRINCIPAL'!$I$594:$X$594,J2)>=1,\"\",ROW())","v":2},{"$f":"IF(ROW(J2)-ROW(J$1)+1>COUNT(K:K),\"\", INDEX(J:J,SMALL(K:K,1+ROW(J2)-ROW(J$1))))","v":"MAS YY "},{"$f":"A2","v":"MAS YY "},{"$f":"IF(COUNTIF('PLANNING PRINCIPAL'!$I$597:$X$597,M2)>=1,\"\",ROW())","v":2},{"$f":"IF(ROW(M2)-ROW(M$1)+1>COUNT(N:N),\"\", INDEX(M:M,SMALL(N:N,1+ROW(M2)-ROW(M$1))))","v":"MAS YY "},{"$f":"A2","v":"MAS YY "},{"$f":"IF(COUNTIF('PLANNING PRINCIPAL'!$I$577:$X$577,P2)>=1,\"\",ROW())","v":2},{"$f":"IF(ROW(P2)-ROW(P$1)+1>COUNT(Q:Q),\"\", INDEX(P:P,SMALL(Q:Q,1+ROW(P2)-ROW(P$1))))","v":"MAS YY "},{"$f":"A2","v":"MAS YY "},{"$f":"IF(COUNTIF('PLANNING PRINCIPAL'!$I$603:$X$603,S2)>=1,\"\",ROW())","v":2},{"$f":"IF(ROW(S2)-ROW(S$1)+1>COUNT(T:T),\"\", INDEX(S:S,SMALL(T:T,1+ROW(S2)-ROW(S$1))))","v":"MAS YY "},{"$f":"'DATA S1'!V2","v":"ASTREINTE EP"},{"$f":"IF(COUNTIF('PLANNING PRINCIPAL'!$I$605:$X$605,V2)>=1,\"\",ROW())","v":2},{"$f":"IF(ROW(V2)-ROW(V$1)+1>COUNT(W:W),\"\", INDEX(V:V,SMALL(W:W,1+ROW(V2)-ROW(V$1))))","v":"ASTREINTE EP"}]
[{"$f":"'DATA S1'!A3","v":"MAS VQ "},{"$f":"IF(COUNTIF('PLANNING PRINCIPAL'!$I$585:$X$585,A3)>=1,\"\",ROW())","v":3},"MAS VQ ","MAS VQ ",{"$f":"IF(COUNTIF('PLANNING PRINCIPAL'!$I$588:$X$588,D3)>=1,\"\",ROW())","v":3},"MAS VQ ","MAS VQ ",{"$f":"IF(COUNTIF('PLANNING PRINCIPAL'!$I$591:$X$591,G3)>=1,\"\",ROW())","v":3},"MAS VQ ","MAS VQ ",{"$f":"IF(COUNTIF('PLANNING PRINCIPAL'!$I$594:$X$594,J3)>=1,\"\",ROW())","v":3},"MAS VQ ","MAS VQ ",{"$f":"IF(COUNTIF('PLANNING PRINCIPAL'!$I$597:$X$597,M3)>=1,\"\",ROW())","v":3},"MAS VQ ","MAS VQ ",{"$f":"IF(COUNTIF('PLANNING PRINCIPAL'!$I$577:$X$577,P3)>=1,\"\",ROW())","v":3},"MAS VQ ","MAS VQ ",{"$f":"IF(COUNTIF('PLANNING PRINCIPAL'!$I$603:$X$603,S3)>=1,\"\",ROW())","v":3},"MAS VQ ",{"$f":"'DATA S1'!V3","v":"V NOC CHARTRES"},{"$f":"IF(COUNTIF('PLANNING PRINCIPAL'!$I$605:$X$605,V3)>=1,\"\",ROW())","v":3},"V NOC CHARTRES"]
[{"$f":"'DATA S1'!A4","v":"MAS PL "},{"$f":"IF(COUNTIF('PLANNING PRINCIPAL'!$I$585:$X$585,A4)>=1,\"\",ROW())","v":4},"MAS PL ","MAS PL ",{"$f":"IF(COUNTIF('PLANNING PRINCIPAL'!$I$588:$X$588,D4)>=1,\"\",ROW())","v":4},"MAS PL ","MAS PL ",{"$f":"IF(COUNTIF('PLANNING PRINCIPAL'!$I$591:$X$591,G4)>=1,\"\",ROW())","v":4},"MAS PL ","MAS PL ",{"$f":"IF(COUNTIF('PLANNING PRINCIPAL'!$I$594:$X$594,J4)>=1,\"\",ROW())","v":4},"MAS PL ","MAS PL ",{"$f":"IF(COUNTIF('PLANNING PRINCIPAL'!$I$597:$X$597,M4)>=1,\"\",ROW())","v":4},"MAS PL ","MAS PL ",{"$f":"IF(COUNTIF('PLANNING PRINCIPAL'!$I$577:$X$577,P4)>=1,\"\",ROW())","v":4},"MAS PL ","MAS PL ",{"$f":"IF(COUNTIF('PLANNING PRINCIPAL'!$I$603:$X$603,S4)>=1,\"\",ROW())","v":4},"MAS PL ",{"$f":"'DATA S1'!V4","v":"V NOC EPERNON"},{"$f":"IF(COUNTIF('PLANNING PRINCIPAL'!$I$605:$X$605,V4)>=1,\"\",ROW())","v":4},"V NOC EPERNON"]
[{"$f":"'DATA S1'!A5","v":"BEN VL PT "},{"$f":"IF(COUNTIF('PLANNING PRINCIPAL'!$I$585:$X$585,A5)>=1,\"\",ROW())","v":5},"BEN VL PT ","BEN VL PT ",{"$f":"IF(COUNTIF('PLANNING PRINCIPAL'!$I$588:$X$588,D5)>=1,\"\",ROW())","v":5},"BEN VL PT ","BEN VL PT ",{"$f":"IF(COUNTIF('PLANNING PRINCIPAL'!$I$591:$X$591,G5)>=1,\"\",ROW())","v":5},"BEN VL PT ","BEN VL PT ",{"$f":"IF(COUNTIF('PLANNING PRINCIPAL'!$I$594:$X$594,J5)>=1,\"\",ROW())","v":5},"BEN VL PT ","BEN VL PT ",{"$f":"IF(COUNTIF('PLANNING PRINCIPAL'!$I$597:$X$597,M5)>=1,\"\",ROW())","v":5},"BEN VL PT ","BEN VL PT ",{"$f":"IF(COUNTIF('PLANNING PRINCIPAL'!$I$577:$X$577,P5)>=1,\"\",ROW())","v":5},"BEN VL PT ","BEN VL PT ",{"$f":"IF(COUNTIF('PLANNING PRINCIPAL'!$I$603:$X$603,S5)>=1,\"\",ROW())","v":5},"BEN VL PT ",{"$f":"'DATA S1'!V5","v":"V NOC HANCHES"},{"$f":"IF(COUNTIF('PLANNING PRINCIPAL'!$I$605:$X$605,V5)>=1,\"\",ROW())","v":5},"V NOC HANCHES"]
[{"$f":"'DATA S1'!A6","v":"BEN 19T "},{"$f":"IF(COUNTIF('PLANNING PRINCIPAL'!$I$585:$X$585,A6)>=1,\"\",ROW())","v":6},"BEN 19T ","BEN 19T ",{"$f":"IF(COUNTIF('PLANNING PRINCIPAL'!$I$588:$X$588,D6)>=1,\"\",ROW())","v":6},"BEN 19T ","BEN 19T ",{"$f":"IF(COUNTIF('PLANNING PRINCIPAL'!$I$591:$X$591,G6)>=1,\"\",ROW())","v":6},"BEN 19T ","BEN 19T ",{"$f":"IF(COUNTIF('PLANNING PRINCIPAL'!$I$594:$X$594,J6)>=1,\"\",ROW())","v":6},"BEN 19T ","BEN 19T ",{"$f":"IF(COUNTIF('PLANNING PRINCIPAL'!$I$597:$X$597,M6)>=1,\"\",ROW())","v":6},"BEN 19T ","BEN 19T ",{"$f":"IF(COUNTIF('PLANNING PRINCIPAL'!$I$577:$X$577,P6)>=1,\"\",ROW())","v":6},"BEN 19T ","BEN 19T ",{"$f":"IF(COUNTIF('PLANNING PRINCIPAL'!$I$603:$X$603,S6)>=1,\"\",ROW())","v":6},"BEN 19T ",{"$f":"'DATA S1'!V6","v":"V NOC MAINTENON"},{"$f":"IF(COUNTIF('PLANNING PRINCIPAL'!$I$605:$X$605,V6)>=1,\"\",ROW())","v":6},"V NOC MAINTENON"]
[{"$f":"'DATA S1'!A7","v":"BEN 13T "},{"$f":"IF(COUNTIF('PLANNING PRINCIPAL'!$I$585:$X$585,A7)>=1,\"\",ROW())","v":7},"BEN 13T ","BEN 13T ",{"$f":"IF(COUNTIF('PLANNING PRINCIPAL'!$I$588:$X$588,D7)>=1,\"\",ROW())","v":7},"BEN 13T ","BEN 13T ",{"$f":"IF(COUNTIF('PLANNING PRINCIPAL'!$I$591:$X$591,G7)>=1,\"\",ROW())","v":7},"BEN 13T ","BEN 13T ",{"$f":"IF(COUNTIF('PLANNING PRINCIPAL'!$I$594:$X$594,J7)>=1,\"\",ROW())","v":7},"BEN 13T ","BEN 13T ",{"$f":"IF(COUNTIF('PLANNING PRINCIPAL'!$I$597:$X$597,M7)>=1,\"\",ROW())","v":7},"BEN 13T ","BEN 13T ",{"$f":"IF(COUNTIF('PLANNING PRINCIPAL'!$I$577:$X$577,P7)>=1,\"\",ROW())","v":7},"BEN 13T ","BEN 13T ",{"$f":"IF(COUNTIF('PLANNING PRINCIPAL'!$I$603:$X$603,S7)>=1,\"\",ROW())","v":7},"BEN 13T ",null,{"$f":"IF(COUNTIF('PLANNING PRINCIPAL'!$I$467:$X$467,V7)>=1,\"\",ROW())","v":7}]
[{"$f":"'DATA S1'!A8","v":"NAC VL 18M "},{"$f":"IF(COUNTIF('PLANNING PRINCIPAL'!$I$585:$X$585,A8)>=1,\"\",ROW())","v":8},"NAC VL 18M ","NAC VL 18M ",{"$f":"IF(COUNTIF('PLANNING PRINCIPAL'!$I$588:$X$588,D8)>=1,\"\",ROW())","v":8},"NAC VL 18M ","NAC VL 18M ",{"$f":"IF(COUNTIF('PLANNING PRINCIPAL'!$I$591:$X$591,G8)>=1,\"\",ROW())","v":8},"NAC VL 18M ","NAC VL 18M ",{"$f":"IF(COUNTIF('PLANNING PRINCIPAL'!$I$594:$X$594,J8)>=1,\"\",ROW())","v":8},"NAC VL 18M ","NAC VL 18M ",{"$f":"IF(COUNTIF('PLANNING PRINCIPAL'!$I$597:$X$597,M8)>=1,\"\",ROW())","v":8},"NAC VL 18M ","NAC VL 18M ",{"$f":"IF(COUNTIF('PLANNING PRINCIPAL'!$I$577:$X$577,P8)>=1,\"\",ROW())","v":8},"NAC VL 18M ","NAC VL 18M ",{"$f":"IF(COUNTIF('PLANNING PRINCIPAL'!$I$603:$X$603,S8)>=1,\"\",ROW())","v":8},"NAC VL 18M ",null,{"$f":"IF(COUNTIF('PLANNING PRINCIPAL'!$I$467:$X$467,V8)>=1,\"\",ROW())","v":8}]
[{"$f":"'DATA S1'!A9","v":"NAC EGIE"},{"$f":"IF(COUNTIF('PLANNING PRINCIPAL'!$I$585:$X$585,A9)>=1,\"\",ROW())","v":9},"NAC EGIE","NAC EGIE",{"$f":"IF(COUNTIF('PLANNING PRINCIPAL'!$I$588:$X$588,D9)>=1,\"\",ROW())","v":9},"NAC EGIE","NAC EGIE",{"$f":"IF(COUNTIF('PLANNING PRINCIPAL'!$I$591:$X$591,G9)>=1,\"\",ROW())","v":9},"NAC EGIE","NAC EGIE",{"$f":"IF(COUNTIF('PLANNING PRINCIPAL'!$I$594:$X$594,J9)>=1,\"\",ROW())","v":9},"NAC EGIE","NAC EGIE",{"$f":"IF(COUNTIF('PLANNING PRINCIPAL'!$I$597:$X$597,M9)>=1,\"\",ROW())","v":9},"NAC EGIE","NAC EGIE",{"$f":"IF(COUNTIF('PLANNING PRINCIPAL'!$I$577:$X$577,P9)>=1,\"\",ROW())","v":9},"NAC EGIE","NAC EGIE",{"$f":"IF(COUNTIF('PLANNING PRINCIPAL'!$I$603:$X$603,S9)>=1,\"\",ROW())","v":9},"NAC EGIE",null,{"$f":"IF(COUNTIF('PLANNING PRINCIPAL'!$I$467:$X$467,V9)>=1,\"\",ROW())","v":9}]
[{"$f":"'DATA S1'!A10","v":"NAC COMI "},{"$f":"IF(COUNTIF('PLANNING PRINCIPAL'!$I$585:$X$585,A10)>=1,\"\",ROW())","v":10},"NAC COMI ","NAC COMI ",{"$f":"IF(COUNTIF('PLANNING PRINCIPAL'!$I$588:$X$588,D10)>=1,\"\",ROW())","v":10},"NAC COMI ","NAC COMI ",{"$f":"IF(COUNTIF('PLANNING PRINCIPAL'!$I$591:$X$591,G10)>=1,\"\",ROW())","v":10},"NAC COMI ","NAC COMI ",{"$f":"IF(COUNTIF('PLANNING PRINCIPAL'!$I$594:$X$594,J10)>=1,\"\",ROW())","v":10},"NAC COMI ","NAC COMI ",{"$f":"IF(COUNTIF('PLANNING PRINCIPAL'!$I$597:$X$597,M10)>=1,\"\",ROW())","v":10},"NAC COMI ","NAC COMI ",{"$f":"IF(COUNTIF('PLANNING PRINCIPAL'!$I$577:$X$577,P10)>=1,\"\",ROW())","v":10},"NAC COMI ","NAC COMI ",{"$f":"IF(COUNTIF('PLANNING PRINCIPAL'!$I$603:$X$603,S10)>=1,\"\",ROW())","v":10},"NAC COMI ",null,{"$f":"IF(COUNTIF('PLANNING PRINCIPAL'!$I$467:$X$467,V10)>=1,\"\",ROW())","v":10}]
[{"$f":"'DATA S1'!A11","v":"#####LOCATION#####"},{"$f":"IF(COUNTIF('PLANNING PRINCIPAL'!$I$585:$X$585,A11)>=1,\"\",ROW())","v":11},"#####LOCATION#####","#####LOCATION#####",{"$f":"IF(COUNTIF('PLANNING PRINCIPAL'!$I$588:$X$588,D11)>=1,\"\",ROW())","v":11},"#####LOCATION#####","#####LOCATION#####",{"$f":"IF(COUNTIF('PLANNING PRINCIPAL'!$I$591:$X$591,G11)>=1,\"\",ROW())","v":11},"#####LOCATION#####","#####LOCATION#####",{"$f":"IF(COUNTIF('PLANNING PRINCIPAL'!$I$594:$X$594,J11)>=1,\"\",ROW())","v":11},"#####LOCATION#####","#####LOCATION#####",{"$f":"IF(COUNTIF('PLANNING PRINCIPAL'!$I$597:$X$597,M11)>=1,\"\",ROW())","v":11},"#####LOCATION#####","#####LOCATION#####",{"$f":"IF(COUNTIF('PLANNING PRINCIPAL'!$I$577:$X$577,P11)>=1,\"\",ROW())","v":11},"#####LOCATION#####","#####LOCATION#####",{"$f":"IF(COUNTIF('PLANNING PRINCIPAL'!$I$603:$X$603,S11)>=1,\"\",ROW())","v":11},"#####LOCATION#####",null,{"$f":"IF(COUNTIF('PLANNING PRINCIPAL'!$I$467:$X$467,V11)>=1,\"\",ROW())","v":11}]
[{"$f":"'DATA S1'!A12","v":"LOC NAC SOLOMAT"},{"$f":"IF(COUNTIF('PLANNING PRINCIPAL'!$I$585:$X$585,A12)>=1,\"\",ROW())","v":12},"LOC NAC SOLOMAT","LOC NAC SOLOMAT",{"$f":"IF(COUNTIF('PLANNING PRINCIPAL'!$I$588:$X$588,D12)>=1,\"\",ROW())","v":12},"LOC NAC SOLOMAT","LOC NAC SOLOMAT",{"$f":"IF(COUNTIF('PLANNING PRINCIPAL'!$I$591:$X$591,G12)>=1,\"\",ROW())","v":12},"LOC NAC SOLOMAT","LOC NAC SOLOMAT",{"$f":"IF(COUNTIF('PLANNING PRINCIPAL'!$I$594:$X$594,J12)>=1,\"\",ROW())","v":12},"LOC NAC SOLOMAT","LOC NAC SOLOMAT",{"$f":"IF(COUNTIF('PLANNING PRINCIPAL'!$I$597:$X$597,M12)>=1,\"\",ROW())","v":12},"LOC NAC SOLOMAT","LOC NAC SOLOMAT",{"$f":"IF(COUNTIF('PLANNING PRINCIPAL'!$I$577:$X$577,P12)>=1,\"\",ROW())","v":12},"LOC NAC SOLOMAT","LOC NAC SOLOMAT",{"$f":"IF(COUNTIF('PLANNING PRINCIPAL'!$I$603:$X$603,S12)>=1,\"\",ROW())","v":12},"LOC NAC SOLOMAT",null,{"$f":"IF(COUNTIF('PLANNING PRINCIPAL'!$I$467:$X$467,V12)>=1,\"\",ROW())","v":12}]
[{"$f":"'DATA S1'!A13","v":"LOC NAC AEB"},{"$f":"IF(COUNTIF('PLANNING PRINCIPAL'!$I$585:$X$585,A13)>=1,\"\",ROW())","v":13},"LOC NAC AEB","LOC NAC AEB",{"$f":"IF(COUNTIF('PLANNING PRINCIPAL'!$I$588:$X$588,D13)>=1,\"\",ROW())","v":13},"LOC NAC AEB","LOC NAC AEB",{"$f":"IF(COUNTIF('PLANNING PRINCIPAL'!$I$591:$X$591,G13)>=1,\"\",ROW())","v":13},"LOC NAC AEB","LOC NAC AEB",{"$f":"IF(COUNTIF('PLANNING PRINCIPAL'!$I$594:$X$594,J13)>=1,\"\",ROW())","v":13},"LOC NAC AEB","LOC NAC AEB",{"$f":"IF(COUNTIF('PLANNING PRINCIPAL'!$I$597:$X$597,M13)>=1,\"\",ROW())","v":13},"LOC NAC AEB","LOC NAC AEB",{"$f":"IF(COUNTIF('PLANNING PRINCIPAL'!$I$577:$X$577,P13)>=1,\"\",ROW())","v":13},"LOC NAC AEB","LOC NAC AEB",{"$f":"IF(COUNTIF('PLANNING PRINCIPAL'!$I$603:$X$603,S13)>=1,\"\",ROW())","v":13},"LOC NAC AEB",null,{"$f":"IF(COUNTIF('PLANNING PRINCIPAL'!$I$467:$X$467,V13)>=1,\"\",ROW())","v":13}]
[{"$f":"'DATA S1'!A14","v":"LOC NAC INTERLOC"},{"$f":"IF(COUNTIF('PLANNING PRINCIPAL'!$I$585:$X$585,A14)>=1,\"\",ROW())","v":14},"LOC NAC INTERLOC","LOC NAC INTERLOC",{"$f":"IF(COUNTIF('PLANNING PRINCIPAL'!$I$588:$X$588,D14)>=1,\"\",ROW())","v":14},"LOC NAC INTERLOC","LOC NAC INTERLOC",{"$f":"IF(COUNTIF('PLANNING PRINCIPAL'!$I$591:$X$591,G14)>=1,\"\",ROW())","v":14},"LOC NAC INTERLOC","LOC NAC INTERLOC",{"$f":"IF(COUNTIF('PLANNING PRINCIPAL'!$I$594:$X$594,J14)>=1,\"\",ROW())","v":14},"LOC NAC INTERLOC","LOC NAC INTERLOC",{"$f":"IF(COUNTIF('PLANNING PRINCIPAL'!$I$597:$X$597,M14)>=1,\"\",ROW())","v":14},"LOC NAC INTERLOC","LOC NAC INTERLOC",{"$f":"IF(COUNTIF('PLANNING PRINCIPAL'!$I$577:$X$577,P14)>=1,\"\",ROW())","v":14},"LOC NAC INTERLOC","LOC NAC INTERLOC",{"$f":"IF(COUNTIF('PLANNING PRINCIPAL'!$I$603:$X$603,S14)>=1,\"\",ROW())","v":14},"LOC NAC INTERLOC",null,{"$f":"IF(COUNTIF('PLANNING PRINCIPAL'!$I$467:$X$467,V14)>=1,\"\",ROW())","v":14}]
[{"$f":"'DATA S1'!A15","v":"LOC NAC KILOUTOU"},{"$f":"IF(COUNTIF('PLANNING PRINCIPAL'!$I$585:$X$585,A15)>=1,\"\",ROW())","v":15},"LOC NAC KILOUTOU","LOC NAC KILOUTOU",{"$f":"IF(COUNTIF('PLANNING PRINCIPAL'!$I$588:$X$588,D15)>=1,\"\",ROW())","v":15},"LOC NAC KILOUTOU","LOC NAC KILOUTOU",{"$f":"IF(COUNTIF('PLANNING PRINCIPAL'!$I$591:$X$591,G15)>=1,\"\",ROW())","v":15},"LOC NAC KILOUTOU","LOC NAC KILOUTOU",{"$f":"IF(COUNTIF('PLANNING PRINCIPAL'!$I$594:$X$594,J15)>=1,\"\",ROW())","v":15},"LOC NAC KILOUTOU","LOC NAC KILOUTOU",{"$f":"IF(COUNTIF('PLANNING PRINCIPAL'!$I$597:$X$597,M15)>=1,\"\",ROW())","v":15},"LOC NAC KILOUTOU","LOC NAC KILOUTOU",{"$f":"IF(COUNTIF('PLANNING PRINCIPAL'!$I$577:$X$577,P15)>=1,\"\",ROW())","v":15},"LOC NAC KILOUTOU","LOC NAC KILOUTOU",{"$f":"IF(COUNTIF('PLANNING PRINCIPAL'!$I$603:$X$603,S15)>=1,\"\",ROW())","v":15},"LOC NAC KILOUTOU",null,{"$f":"IF(COUNTIF('PLANNING PRINCIPAL'!$I$467:$X$467,V15)>=1,\"\",ROW())","v":15}]
[{"$f":"'DATA S1'!A16","v":"LOC NAC AEB"},{"$f":"IF(COUNTIF('PLANNING PRINCIPAL'!$I$585:$X$585,A16)>=1,\"\",ROW())","v":16},"LOC NAC AEB","LOC NAC AEB",{"$f":"IF(COUNTIF('PLANNING PRINCIPAL'!$I$588:$X$588,D16)>=1,\"\",ROW())","v":16},"LOC NAC AEB","LOC NAC AEB",{"$f":"IF(COUNTIF('PLANNING PRINCIPAL'!$I$591:$X$591,G16)>=1,\"\",ROW())","v":16},"LOC NAC AEB","LOC NAC AEB",{"$f":"IF(COUNTIF('PLANNING PRINCIPAL'!$I$594:$X$594,J16)>=1,\"\",ROW())","v":16},"LOC NAC AEB","LOC NAC AEB",{"$f":"IF(COUNTIF('PLANNING PRINCIPAL'!$I$597:$X$597,M16)>=1,\"\",ROW())","v":16},"LOC NAC AEB","LOC NAC AEB",{"$f":"IF(COUNTIF('PLANNING PRINCIPAL'!$I$577:$X$577,P16)>=1,\"\",ROW())","v":16},"LOC NAC AEB","LOC NAC AEB",{"$f":"IF(COUNTIF('PLANNING PRINCIPAL'!$I$603:$X$603,S16)>=1,\"\",ROW())","v":16},"LOC NAC AEB",null,{"$f":"IF(COUNTIF('PLANNING PRINCIPAL'!$I$467:$X$467,V16)>=1,\"\",ROW())","v":16}]
[{"$f":"'DATA S1'!A17","v":"LOC PELLE SOLOMAT"},{"$f":"IF(COUNTIF('PLANNING PRINCIPAL'!$I$585:$X$585,A17)>=1,\"\",ROW())","v":17},"LOC PELLE SOLOMAT","LOC PELLE SOLOMAT",{"$f":"IF(COUNTIF('PLANNING PRINCIPAL'!$I$588:$X$588,D17)>=1,\"\",ROW())","v":17},"LOC PELLE SOLOMAT","LOC PELLE SOLOMAT",{"$f":"IF(COUNTIF('PLANNING PRINCIPAL'!$I$591:$X$591,G17)>=1,\"\",ROW())","v":17},"LOC PELLE SOLOMAT","LOC PELLE SOLOMAT",{"$f":"IF(COUNTIF('PLANNING PRINCIPAL'!$I$594:$X$594,J17)>=1,\"\",ROW())","v":17},"LOC PELLE SOLOMAT","LOC PELLE SOLOMAT",{"$f":"IF(COUNTIF('PLANNING PRINCIPAL'!$I$597:$X$597,M17)>=1,\"\",ROW())","v":17},"LOC PELLE SOLOMAT","LOC PELLE SOLOMAT",{"$f":"IF(COUNTIF('PLANNING PRINCIPAL'!$I$577:$X$577,P17)>=1,\"\",ROW())","v":17},"LOC PELLE SOLOMAT","LOC PELLE SOLOMAT",{"$f":"IF(COUNTIF('PLANNING PRINCIPAL'!$I$603:$X$603,S17)>=1,\"\",ROW())","v":17},"LOC PELLE SOLOMAT",null,{"$f":"IF(COUNTIF('PLANNING PRINCIPAL'!$I$467:$X$467,V17)>=1,\"\",ROW())","v":17}]
[{"$f":"'DATA S1'!A18","v":"LOC PELLE AEB"},{"$f":"IF(COUNTIF('PLANNING PRINCIPAL'!$I$585:$X$585,A18)>=1,\"\",ROW())","v":18},"LOC PELLE AEB","LOC PELLE AEB",{"$f":"IF(COUNTIF('PLANNING PRINCIPAL'!$I$588:$X$588,D18)>=1,\"\",ROW())","v":18},"LOC PELLE AEB","LOC PELLE AEB",{"$f":"IF(COUNTIF('PLANNING PRINCIPAL'!$I$591:$X$591,G18)>=1,\"\",ROW())","v":18},"LOC PELLE AEB","LOC PELLE AEB",{"$f":"IF(COUNTIF('PLANNING PRINCIPAL'!$I$594:$X$594,J18)>=1,\"\",ROW())","v":18},"LOC PELLE AEB","LOC PELLE AEB",{"$f":"IF(COUNTIF('PLANNING PRINCIPAL'!$I$597:$X$597,M18)>=1,\"\",ROW())","v":18},"LOC PELLE AEB","LOC PELLE AEB",{"$f":"IF(COUNTIF('PLANNING PRINCIPAL'!$I$577:$X$577,P18)>=1,\"\",ROW())","v":18},"LOC PELLE AEB","LOC PELLE AEB",{"$f":"IF(COUNTIF('PLANNING PRINCIPAL'!$I$603:$X$603,S18)>=1,\"\",ROW())","v":18},"LOC PELLE AEB",null,{"$f":"IF(COUNTIF('PLANNING PRINCIPAL'!$I$467:$X$467,V18)>=1,\"\",ROW())","v":18}]
[{"$f":"'DATA S1'!A19","v":"LOC PELLE INTERLOC"},{"$f":"IF(COUNTIF('PLANNING PRINCIPAL'!$I$585:$X$585,A19)>=1,\"\",ROW())","v":19},"LOC PELLE INTERLOC","LOC PELLE INTERLOC",{"$f":"IF(COUNTIF('PLANNING PRINCIPAL'!$I$588:$X$588,D19)>=1,\"\",ROW())","v":19},"LOC PELLE INTERLOC","LOC PELLE INTERLOC",{"$f":"IF(COUNTIF('PLANNING PRINCIPAL'!$I$591:$X$591,G19)>=1,\"\",ROW())","v":19},"LOC PELLE INTERLOC","LOC PELLE INTERLOC",{"$f":"IF(COUNTIF('PLANNING PRINCIPAL'!$I$594:$X$594,J19)>=1,\"\",ROW())","v":19},"LOC PELLE INTERLOC","LOC PELLE INTERLOC",{"$f":"IF(COUNTIF('PLANNING PRINCIPAL'!$I$597:$X$597,M19)>=1,\"\",ROW())","v":19},"LOC PELLE INTERLOC","LOC PELLE INTERLOC",{"$f":"IF(COUNTIF('PLANNING PRINCIPAL'!$I$577:$X$577,P19)>=1,\"\",ROW())","v":19},"LOC PELLE INTERLOC","LOC PELLE INTERLOC",{"$f":"IF(COUNTIF('PLANNING PRINCIPAL'!$I$603:$X$603,S19)>=1,\"\",ROW())","v":19},"LOC PELLE INTERLOC",null,{"$f":"IF(COUNTIF('PLANNING PRINCIPAL'!$I$467:$X$467,V19)>=1,\"\",ROW())","v":19}]
[{"$f":"'DATA S1'!A20","v":"LOC PELLE KILOUTOU"},{"$f":"IF(COUNTIF('PLANNING PRINCIPAL'!$I$585:$X$585,A20)>=1,\"\",ROW())","v":20},"LOC PELLE KILOUTOU","LOC PELLE KILOUTOU",{"$f":"IF(COUNTIF('PLANNING PRINCIPAL'!$I$588:$X$588,D20)>=1,\"\",ROW())","v":20},"LOC PELLE KILOUTOU","LOC PELLE KILOUTOU",{"$f":"IF(COUNTIF('PLANNING PRINCIPAL'!$I$591:$X$591,G20)>=1,\"\",ROW())","v":20},"LOC PELLE KILOUTOU","LOC PELLE KILOUTOU",{"$f":"IF(COUNTIF('PLANNING PRINCIPAL'!$I$594:$X$594,J20)>=1,\"\",ROW())","v":20},"LOC PELLE KILOUTOU","LOC PELLE KILOUTOU",{"$f":"IF(COUNTIF('PLANNING PRINCIPAL'!$I$597:$X$597,M20)>=1,\"\",ROW())","v":20},"LOC PELLE KILOUTOU","LOC PELLE KILOUTOU",{"$f":"IF(COUNTIF('PLANNING PRINCIPAL'!$I$577:$X$577,P20)>=1,\"\",ROW())","v":20},"LOC PELLE KILOUTOU","LOC PELLE KILOUTOU",{"$f":"IF(COUNTIF('PLANNING PRINCIPAL'!$I$603:$X$603,S20)>=1,\"\",ROW())","v":20},"LOC PELLE KILOUTOU",null,{"$f":"IF(COUNTIF('PLANNING PRINCIPAL'!$I$467:$X$467,V20)>=1,\"\",ROW())","v":20}]
[null,{"$f":"IF(COUNTIF('PLANNING PRINCIPAL'!$I$585:$X$585,A21)>=1,\"\",ROW())","v":21},null,null,{"$f":"IF(COUNTIF('PLANNING PRINCIPAL'!$I$588:$X$588,D21)>=1,\"\",ROW())","v":21},null,null,{"$f":"IF(COUNTIF('PLANNING PRINCIPAL'!$I$591:$X$591,G21)>=1,\"\",ROW())","v":21},null,null,{"$f":"IF(COUNTIF('PLANNING PRINCIPAL'!$I$594:$X$594,J21)>=1,\"\",ROW())","v":21},null,null,{"$f":"IF(COUNTIF('PLANNING PRINCIPAL'!$I$597:$X$597,M21)>=1,\"\",ROW())","v":21},null,null,{"$f":"IF(COUNTIF('PLANNING PRINCIPAL'!$I$577:$X$577,P21)>=1,\"\",ROW())","v":21},null,null,{"$f":"IF(COUNTIF('PLANNING PRINCIPAL'!$I$603:$X$603,S21)>=1,\"\",ROW())","v":21},null,null,{"$f":"IF(COUNTIF('PLANNING PRINCIPAL'!$I$467:$X$467,V21)>=1,\"\",ROW())","v":21}]
[null,{"$f":"IF(COUNTIF('PLANNING PRINCIPAL'!$I$585:$X$585,A22)>=1,\"\",ROW())","v":22},null,null,{"$f":"IF(COUNTIF('PLANNING PRINCIPAL'!$I$588:$X$588,D22)>=1,\"\",ROW())","v":22},null,null,{"$f":"IF(COUNTIF('PLANNING PRINCIPAL'!$I$591:$X$591,G22)>=1,\"\",ROW())","v":22},null,null,{"$f":"IF(COUNTIF('PLANNING PRINCIPAL'!$I$594:$X$594,J22)>=1,\"\",ROW())","v":22},null,null,{"$f":"IF(COUNTIF('PLANNING PRINCIPAL'!$I$597:$X$597,M22)>=1,\"\",ROW())","v":22},null,null,{"$f":"IF(COUNTIF('PLANNING PRINCIPAL'!$I$577:$X$577,P22)>=1,\"\",ROW())","v":22},null,null,{"$f":"IF(COUNTIF('PLANNING PRINCIPAL'!$I$603:$X$603,S22)>=1,\"\",ROW())","v":22},null,null,{"$f":"IF(COUNTIF('PLANNING PRINCIPAL'!$I$467:$X$467,V22)>=1,\"\",ROW())","v":22}]
[null,{"$f":"IF(COUNTIF('PLANNING PRINCIPAL'!$I$585:$X$585,A23)>=1,\"\",ROW())","v":23},null,null,{"$f":"IF(COUNTIF('PLANNING PRINCIPAL'!$I$588:$X$588,D23)>=1,\"\",ROW())","v":23},null,null,{"$f":"IF(COUNTIF('PLANNING PRINCIPAL'!$I$591:$X$591,G23)>=1,\"\",ROW())","v":23},null,null,{"$f":"IF(COUNTIF('PLANNING PRINCIPAL'!$I$594:$X$594,J23)>=1,\"\",ROW())","v":23},null,null,{"$f":"IF(COUNTIF('PLANNING PRINCIPAL'!$I$597:$X$597,M23)>=1,\"\",ROW())","v":23},null,null,{"$f":"IF(COUNTIF('PLANNING PRINCIPAL'!$I$577:$X$577,P23)>=1,\"\",ROW())","v":23},null,null,{"$f":"IF(COUNTIF('PLANNING PRINCIPAL'!$I$603:$X$603,S23)>=1,\"\",ROW())","v":23},null,null,{"$f":"IF(COUNTIF('PLANNING PRINCIPAL'!$I$467:$X$467,V23)>=1,\"\",ROW())","v":23}]
[null,{"$f":"IF(COUNTIF('PLANNING PRINCIPAL'!$I$585:$X$585,A24)>=1,\"\",ROW())","v":24},null,null,{"$f":"IF(COUNTIF('PLANNING PRINCIPAL'!$I$588:$X$588,D24)>=1,\"\",ROW())","v":24},null,null,{"$f":"IF(COUNTIF('PLANNING PRINCIPAL'!$I$591:$X$591,G24)>=1,\"\",ROW())","v":24},null,null,{"$f":"IF(COUNTIF('PLANNING PRINCIPAL'!$I$594:$X$594,J24)>=1,\"\",ROW())","v":24},null,null,{"$f":"IF(COUNTIF('PLANNING PRINCIPAL'!$I$597:$X$597,M24)>=1,\"\",ROW())","v":24},null,null,{"$f":"IF(COUNTIF('PLANNING PRINCIPAL'!$I$577:$X$577,P24)>=1,\"\",ROW())","v":24},null,null,{"$f":"IF(COUNTIF('PLANNING PRINCIPAL'!$I$603:$X$603,S24)>=1,\"\",ROW())","v":24},null,null,{"$f":"IF(COUNTIF('PLANNING PRINCIPAL'!$I$467:$X$467,V24)>=1,\"\",ROW())","v":24}]
[null,{"$f":"IF(COUNTIF('PLANNING PRINCIPAL'!$I$585:$X$585,A25)>=1,\"\",ROW())","v":25},null,null,{"$f":"IF(COUNTIF('PLANNING PRINCIPAL'!$I$588:$X$588,D25)>=1,\"\",ROW())","v":25},null,null,{"$f":"IF(COUNTIF('PLANNING PRINCIPAL'!$I$591:$X$591,G25)>=1,\"\",ROW())","v":25},null,null,{"$f":"IF(COUNTIF('PLANNING PRINCIPAL'!$I$594:$X$594,J25)>=1,\"\",ROW())","v":25},null,null,{"$f":"IF(COUNTIF('PLANNING PRINCIPAL'!$I$597:$X$597,M25)>=1,\"\",ROW())","v":25},null,null,{"$f":"IF(COUNTIF('PLANNING PRINCIPAL'!$I$577:$X$577,P25)>=1,\"\",ROW())","v":25},null,null,{"$f":"IF(COUNTIF('PLANNING PRINCIPAL'!$I$603:$X$603,S25)>=1,\"\",ROW())","v":25},null,null,{"$f":"IF(COUNTIF('PLANNING PRINCIPAL'!$I$467:$X$467,V25)>=1,\"\",ROW())","v":25}]
[null,{"$f":"IF(COUNTIF('PLANNING PRINCIPAL'!$I$585:$X$585,A26)>=1,\"\",ROW())","v":26},null,null,{"$f":"IF(COUNTIF('PLANNING PRINCIPAL'!$I$588:$X$588,D26)>=1,\"\",ROW())","v":26},null,null,{"$f":"IF(COUNTIF('PLANNING PRINCIPAL'!$I$591:$X$591,G26)>=1,\"\",ROW())","v":26},null,null,{"$f":"IF(COUNTIF('PLANNING PRINCIPAL'!$I$594:$X$594,J26)>=1,\"\",ROW())","v":26},null,null,{"$f":"IF(COUNTIF('PLANNING PRINCIPAL'!$I$597:$X$597,M26)>=1,\"\",ROW())","v":26},null,null,{"$f":"IF(COUNTIF('PLANNING PRINCIPAL'!$I$577:$X$577,P26)>=1,\"\",ROW())","v":26},null,null,{"$f":"IF(COUNTIF('PLANNING PRINCIPAL'!$I$603:$X$603,S26)>=1,\"\",ROW())","v":26},null,null,{"$f":"IF(COUNTIF('PLANNING PRINCIPAL'!$I$467:$X$467,V26)>=1,\"\",ROW())","v":26}]
[null,{"$f":"IF(COUNTIF('PLANNING PRINCIPAL'!$I$585:$X$585,A27)>=1,\"\",ROW())","v":27},null,null,{"$f":"IF(COUNTIF('PLANNING PRINCIPAL'!$I$588:$X$588,D27)>=1,\"\",ROW())","v":27},null,null,{"$f":"IF(COUNTIF('PLANNING PRINCIPAL'!$I$591:$X$591,G27)>=1,\"\",ROW())","v":27},null,null,{"$f":"IF(COUNTIF('PLANNING PRINCIPAL'!$I$594:$X$594,J27)>=1,\"\",ROW())","v":27},null,null,{"$f":"IF(COUNTIF('PLANNING PRINCIPAL'!$I$597:$X$597,M27)>=1,\"\",ROW())","v":27},null,null,{"$f":"IF(COUNTIF('PLANNING PRINCIPAL'!$I$577:$X$577,P27)>=1,\"\",ROW())","v":27},null,null,{"$f":"IF(COUNTIF('PLANNING PRINCIPAL'!$I$603:$X$603,S27)>=1,\"\",ROW())","v":27},null,null,{"$f":"IF(COUNTIF('PLANNING PRINCIPAL'!$I$467:$X$467,V27)>=1,\"\",ROW())","v":27}]
[null,{"$f":"IF(COUNTIF('PLANNING PRINCIPAL'!$I$585:$X$585,A28)>=1,\"\",ROW())","v":28},null,null,{"$f":"IF(COUNTIF('PLANNING PRINCIPAL'!$I$588:$X$588,D28)>=1,\"\",ROW())","v":28},null,null,{"$f":"IF(COUNTIF('PLANNING PRINCIPAL'!$I$591:$X$591,G28)>=1,\"\",ROW())","v":28},null,null,{"$f":"IF(COUNTIF('PLANNING PRINCIPAL'!$I$594:$X$594,J28)>=1,\"\",ROW())","v":28},null,null,{"$f":"IF(COUNTIF('PLANNING PRINCIPAL'!$I$597:$X$597,M28)>=1,\"\",ROW())","v":28},null,null,{"$f":"IF(COUNTIF('PLANNING PRINCIPAL'!$I$577:$X$577,P28)>=1,\"\",ROW())","v":28},null,null,{"$f":"IF(COUNTIF('PLANNING PRINCIPAL'!$I$603:$X$603,S28)>=1,\"\",ROW())","v":28},null,null,{"$f":"IF(COUNTIF('PLANNING PRINCIPAL'!$I$467:$X$467,V28)>=1,\"\",ROW())","v":28}]
[null,{"$f":"IF(COUNTIF('PLANNING PRINCIPAL'!$I$585:$X$585,A29)>=1,\"\",ROW())","v":29},null,null,{"$f":"IF(COUNTIF('PLANNING PRINCIPAL'!$I$588:$X$588,D29)>=1,\"\",ROW())","v":29},null,null,{"$f":"IF(COUNTIF('PLANNING PRINCIPAL'!$I$591:$X$591,G29)>=1,\"\",ROW())","v":29},null,null,{"$f":"IF(COUNTIF('PLANNING PRINCIPAL'!$I$594:$X$594,J29)>=1,\"\",ROW())","v":29},null,null,{"$f":"IF(COUNTIF('PLANNING PRINCIPAL'!$I$597:$X$597,M29)>=1,\"\",ROW())","v":29},null,null,{"$f":"IF(COUNTIF('PLANNING PRINCIPAL'!$I$577:$X$577,P29)>=1,\"\",ROW())","v":29},null,null,{"$f":"IF(COUNTIF('PLANNING PRINCIPAL'!$I$603:$X$603,S29)>=1,\"\",ROW())","v":29},null,null,{"$f":"IF(COUNTIF('PLANNING PRINCIPAL'!$I$467:$X$467,V29)>=1,\"\",ROW())","v":29}]
[null,{"$f":"IF(COUNTIF('PLANNING PRINCIPAL'!$I$585:$X$585,A30)>=1,\"\",ROW())","v":30},null,null,{"$f":"IF(COUNTIF('PLANNING PRINCIPAL'!$I$588:$X$588,D30)>=1,\"\",ROW())","v":30},null,null,{"$f":"IF(COUNTIF('PLANNING PRINCIPAL'!$I$591:$X$591,G30)>=1,\"\",ROW())","v":30},null,null,{"$f":"IF(COUNTIF('PLANNING PRINCIPAL'!$I$594:$X$594,J30)>=1,\"\",ROW())","v":30},null,null,{"$f":"IF(COUNTIF('PLANNING PRINCIPAL'!$I$597:$X$597,M30)>=1,\"\",ROW())","v":30},null,null,{"$f":"IF(COUNTIF('PLANNING PRINCIPAL'!$I$577:$X$577,P30)>=1,\"\",ROW())","v":30},null,null,{"$f":"IF(COUNTIF('PLANNING PRINCIPAL'!$I$603:$X$603,S30)>=1,\"\",ROW())","v":30},null,null,{"$f":"IF(COUNTIF('PLANNING PRINCIPAL'!$I$467:$X$467,V30)>=1,\"\",ROW())","v":30}]
[null,{"$f":"IF(COUNTIF('PLANNING PRINCIPAL'!$I$585:$X$585,A31)>=1,\"\",ROW())","v":31},null,null,{"$f":"IF(COUNTIF('PLANNING PRINCIPAL'!$I$588:$X$588,D31)>=1,\"\",ROW())","v":31},null,null,{"$f":"IF(COUNTIF('PLANNING PRINCIPAL'!$I$591:$X$591,G31)>=1,\"\",ROW())","v":31},null,null,{"$f":"IF(COUNTIF('PLANNING PRINCIPAL'!$I$594:$X$594,J31)>=1,\"\",ROW())","v":31},null,null,{"$f":"IF(COUNTIF('PLANNING PRINCIPAL'!$I$597:$X$597,M31)>=1,\"\",ROW())","v":31},null,null,{"$f":"IF(COUNTIF('PLANNING PRINCIPAL'!$I$577:$X$577,P31)>=1,\"\",ROW())","v":31},null,null,{"$f":"IF(COUNTIF('PLANNING PRINCIPAL'!$I$603:$X$603,S31)>=1,\"\",ROW())","v":31},null,null,{"$f":"IF(COUNTIF('PLANNING PRINCIPAL'!$I$467:$X$467,V31)>=1,\"\",ROW())","v":31}]
[null,{"$f":"IF(COUNTIF('PLANNING PRINCIPAL'!$I$585:$X$585,A32)>=1,\"\",ROW())","v":32},null,null,{"$f":"IF(COUNTIF('PLANNING PRINCIPAL'!$I$588:$X$588,D32)>=1,\"\",ROW())","v":32},null,null,{"$f":"IF(COUNTIF('PLANNING PRINCIPAL'!$I$591:$X$591,G32)>=1,\"\",ROW())","v":32},null,null,{"$f":"IF(COUNTIF('PLANNING PRINCIPAL'!$I$594:$X$594,J32)>=1,\"\",ROW())","v":32},null,null,{"$f":"IF(COUNTIF('PLANNING PRINCIPAL'!$I$597:$X$597,M32)>=1,\"\",ROW())","v":32},null,null,{"$f":"IF(COUNTIF('PLANNING PRINCIPAL'!$I$577:$X$577,P32)>=1,\"\",ROW())","v":32},null,null,{"$f":"IF(COUNTIF('PLANNING PRINCIPAL'!$I$603:$X$603,S32)>=1,\"\",ROW())","v":32},null,null,{"$f":"IF(COUNTIF('PLANNING PRINCIPAL'!$I$467:$X$467,V32)>=1,\"\",ROW())","v":32}]
[null,{"$f":"IF(COUNTIF('PLANNING PRINCIPAL'!$I$585:$X$585,A33)>=1,\"\",ROW())","v":33},null,null,{"$f":"IF(COUNTIF('PLANNING PRINCIPAL'!$I$588:$X$588,D33)>=1,\"\",ROW())","v":33},null,null,{"$f":"IF(COUNTIF('PLANNING PRINCIPAL'!$I$591:$X$591,G33)>=1,\"\",ROW())","v":33},null,null,{"$f":"IF(COUNTIF('PLANNING PRINCIPAL'!$I$594:$X$594,J33)>=1,\"\",ROW())","v":33},null,null,{"$f":"IF(COUNTIF('PLANNING PRINCIPAL'!$I$597:$X$597,M33)>=1,\"\",ROW())","v":33},null,null,{"$f":"IF(COUNTIF('PLANNING PRINCIPAL'!$I$577:$X$577,P33)>=1,\"\",ROW())","v":33},null,null,{"$f":"IF(COUNTIF('PLANNING PRINCIPAL'!$I$603:$X$603,S33)>=1,\"\",ROW())","v":33},null,null,{"$f":"IF(COUNTIF('PLANNING PRINCIPAL'!$I$467:$X$467,V33)>=1,\"\",ROW())","v":33}]
[null,{"$f":"IF(COUNTIF('PLANNING PRINCIPAL'!$I$585:$X$585,A34)>=1,\"\",ROW())","v":34},null,null,{"$f":"IF(COUNTIF('PLANNING PRINCIPAL'!$I$588:$X$588,D34)>=1,\"\",ROW())","v":34},null,null,{"$f":"IF(COUNTIF('PLANNING PRINCIPAL'!$I$591:$X$591,G34)>=1,\"\",ROW())","v":34},null,null,{"$f":"IF(COUNTIF('PLANNING PRINCIPAL'!$I$594:$X$594,J34)>=1,\"\",ROW())","v":34},null,null,{"$f":"IF(COUNTIF('PLANNING PRINCIPAL'!$I$597:$X$597,M34)>=1,\"\",ROW())","v":34},null,null,{"$f":"IF(COUNTIF('PLANNING PRINCIPAL'!$I$577:$X$577,P34)>=1,\"\",ROW())","v":34},null,null,{"$f":"IF(COUNTIF('PLANNING PRINCIPAL'!$I$603:$X$603,S34)>=1,\"\",ROW())","v":34},null,null,{"$f":"IF(COUNTIF('PLANNING PRINCIPAL'!$I$467:$X$467,V34)>=1,\"\",ROW())","v":34}]
["LUNDI",null,null,"MARDI",null,null,"MERCREDI",null,null,"JEUDI",null,null,"VENDREDI",null,null,"SAMEDI",null,null,"DIMANCHE",null,null,"ASTREINTE"]

{"sheet":"DATA S27","index":28,"n_rows":35,"n_cols":24,"rows_kept":35,"cut":false,"hidden":false,"merged":[[34,18,34,20],[34,21,34,23],[34,0,34,2],[34,3,34,5],[34,6,34,8],[34,9,34,11],[34,12,34,14],[34,15,34,17]]}
[{"$f":"'DATA S1'!A1","v":"MAS XX "},{"$f":"IF(COUNTIF('PLANNING PRINCIPAL'!$I$608:$X$608,A1)>=1,\"\",ROW())","v":1},{"$f":"IF(ROW(A1)-ROW(A$1)+1>COUNT(B:B),\"\", INDEX(A:A,SMALL(B:B,1+ROW(A1)-ROW(A$1))))","v":"MAS XX "},{"$f":"A1","v":"MAS XX "},{"$f":"IF(COUNTIF('PLANNING PRINCIPAL'!$I$611:$X$611,D1)>=1,\"\",ROW())","v":1},{"$f":"IF(ROW(D1)-ROW(D$1)+1>COUNT(E:E),\"\", INDEX(D:D,SMALL(E:E,1+ROW(D1)-ROW(D$1))))","v":"MAS XX "},{"$f":"A1","v":"MAS XX "},{"$f":"IF(COUNTIF('PLANNING PRINCIPAL'!$I$614:$X$614,G1)>=1,\"\",ROW())","v":1},{"$f":"IF(ROW(G1)-ROW(G$1)+1>COUNT(H:H),\"\", INDEX(G:G,SMALL(H:H,1+ROW(G1)-ROW(G$1))))","v":"MAS XX "},{"$f":"A1","v":"MAS XX "},{"$f":"IF(COUNTIF('PLANNING PRINCIPAL'!$I$617:$X$617,J1)>=1,\"\",ROW())","v":1},{"$f":"IF(ROW(J1)-ROW(J$1)+1>COUNT(K:K),\"\", INDEX(J:J,SMALL(K:K,1+ROW(J1)-ROW(J$1))))","v":"MAS XX "},{"$f":"A1","v":"MAS XX "},{"$f":"IF(COUNTIF('PLANNING PRINCIPAL'!$I$620:$X$620,M1)>=1,\"\",ROW())","v":1},{"$f":"IF(ROW(M1)-ROW(M$1)+1>COUNT(N:N),\"\", INDEX(M:M,SMALL(N:N,1+ROW(M1)-ROW(M$1))))","v":"MAS XX "},{"$f":"A1","v":"MAS XX "},{"$f":"IF(COUNTIF('PLANNING PRINCIPAL'!$I$623:$X$623,P1)>=1,\"\",ROW())","v":1},{"$f":"IF(ROW(P1)-ROW(P$1)+1>COUNT(Q:Q),\"\", INDEX(P:P,SMALL(Q:Q,1+ROW(P1)-ROW(P$1))))","v":"MAS XX "},{"$f":"A1","v":"MAS XX "},{"$f":"IF(COUNTIF('PLANNING PRINCIPAL'!$I$626:$X$626,S1)>=1,\"\",ROW())","v":1},{"$f":"IF(ROW(S1)-ROW(S$1)+1>COUNT(T:T),\"\", INDEX(S:S,SMALL(T:T,1+ROW(S1)-ROW(S$1))))","v":"MAS XX "},{"$f":"'DATA S1'!V1","v":"ASTREINTE SLT"},{"$f":"IF(COUNTIF('PLANNING PRINCIPAL'!$I$607:$X$607,V1)>=1,\"\",ROW())","v":1},{"$f":"IF(ROW(V1)-ROW(V$1)+1>COUNT(W:W),\"\", INDEX(V:V,SMALL(W:W,1+ROW(V1)-ROW(V$1))))","v":"ASTREINTE SLT"}]
[{"$f":"'DATA S1'!A2","v":"MAS YY "},{"$f":"IF(COUNTIF('PLANNING PRINCIPAL'!$I$608:$X$608,A2)>=1,\"\",ROW())","v":2},{"$f":"IF(ROW(A2)-ROW(A$1)+1>COUNT(B:B),\"\", INDEX(A:A,SMALL(B:B,1+ROW(A2)-ROW(A$1))))","v":"MAS YY "},"MAS YY ",{"$f":"IF(COUNTIF('PLANNING PRINCIPAL'!$I$611:$X$611,D2)>=1,\"\",ROW())","v":2},{"$f":"IF(ROW(D2)-ROW(D$1)+1>COUNT(E:E),\"\", INDEX(D:D,SMALL(E:E,1+ROW(D2)-ROW(D$1))))","v":"MAS YY "},{"$f":"A2","v":"MAS YY "},{"$f":"IF(COUNTIF('PLANNING PRINCIPAL'!$I$614:$X$614,G2)>=1,\"\",ROW())","v":2},{"$f":"IF(ROW(G2)-ROW(G$1)+1>COUNT(H:H),\"\", INDEX(G:G,SMALL(H:H,1+ROW(G2)-ROW(G$1))))","v":"MAS YY "},{"$f":"A2","v":"MAS YY "},{"$f":"IF(COUNTIF('PLANNING PRINCIPAL'!$I$617:$X$617,J2)>=1,\"\",ROW())","v":2},{"$f":"IF(ROW(J2)-ROW(J$1)+1>COUNT(K:K),\"\", INDEX(J:J,SMALL(K:K,1+ROW(J2)-ROW(J$1))))","v":"MAS YY "},{"$f":"A2","v":"MAS YY "},{"$f":"IF(COUNTIF('PLANNING PRINCIPAL'!$I$620:$X$620,M2)>=1,\"\",ROW())","v":2},{"$f":"IF(ROW(M2)-ROW(M$1)+1>COUNT(N:N),\"\", INDEX(M:M,SMALL(N:N,1+ROW(M2)-ROW(M$1))))","v":"MAS YY "},{"$f":"A2","v":"MAS YY "},{"$f":"IF(COUNTIF('PLANNING PRINCIPAL'!$I$623:$X$623,P2)>=1,\"\",ROW())","v":2},{"$f":"IF(ROW(P2)-ROW(P$1)+1>COUNT(Q:Q),\"\", INDEX(P:P,SMALL(Q:Q,1+ROW(P2)-ROW(P$1))))","v":"MAS YY "},{"$f":"A2","v":"MAS YY "},{"$f":"IF(COUNTIF('PLANNING PRINCIPAL'!$I$626:$X$626,S2)>=1,\"\",ROW())","v":2},{"$f":"IF(ROW(S2)-ROW(S$1)+1>COUNT(T:T),\"\", INDEX(S:S,SMALL(T:T,1+ROW(S2)-ROW(S$1))))","v":"MAS YY "},{"$f":"'DATA S1'!V2","v":"ASTREINTE EP"},{"$f":"IF(COUNTIF('PLANNING PRINCIPAL'!$I$607:$X$607,V2)>=1,\"\",ROW())","v":2},{"$f":"IF(ROW(V2)-ROW(V$1)+1>COUNT(W:W),\"\", INDEX(V:V,SMALL(W:W,1+ROW(V2)-ROW(V$1))))","v":"ASTREINTE EP"}]
[{"$f":"'DATA S1'!A3","v":"MAS VQ "},{"$f":"IF(COUNTIF('PLANNING PRINCIPAL'!$I$608:$X$608,A3)>=1,\"\",ROW())","v":3},"MAS VQ ","MAS VQ ",{"$f":"IF(COUNTIF('PLANNING PRINCIPAL'!$I$611:$X$611,D3)>=1,\"\",ROW())","v":3},"MAS VQ ","MAS VQ ",{"$f":"IF(COUNTIF('PLANNING PRINCIPAL'!$I$614:$X$614,G3)>=1,\"\",ROW())","v":3},"MAS VQ ","MAS VQ ",{"$f":"IF(COUNTIF('PLANNING PRINCIPAL'!$I$617:$X$617,J3)>=1,\"\",ROW())","v":3},"MAS VQ ","MAS VQ ",{"$f":"IF(COUNTIF('PLANNING PRINCIPAL'!$I$620:$X$620,M3)>=1,\"\",ROW())","v":3},"MAS VQ ","MAS VQ ",{"$f":"IF(COUNTIF('PLANNING PRINCIPAL'!$I$623:$X$623,P3)>=1,\"\",ROW())","v":3},"MAS VQ ","MAS VQ ",{"$f":"IF(COUNTIF('PLANNING PRINCIPAL'!$I$626:$X$626,S3)>=1,\"\",ROW())","v":3},"MAS VQ ",{"$f":"'DATA S1'!V3","v":"V NOC CHARTRES"},{"$f":"IF(COUNTIF('PLANNING PRINCIPAL'!$I$607:$X$607,V3)>=1,\"\",ROW())","v":3},"V NOC CHARTRES"]
[{"$f":"'DATA S1'!A4","v":"MAS PL "},{"$f":"IF(COUNTIF('PLANNING PRINCIPAL'!$I$608:$X$608,A4)>=1,\"\",ROW())","v":4},"MAS PL ","MAS PL ",{"$f":"IF(COUNTIF('PLANNING PRINCIPAL'!$I$611:$X$611,D4)>=1,\"\",ROW())","v":4},"MAS PL ","MAS PL ",{"$f":"IF(COUNTIF('PLANNING PRINCIPAL'!$I$614:$X$614,G4)>=1,\"\",ROW())","v":4},"MAS PL ","MAS PL ",{"$f":"IF(COUNTIF('PLANNING PRINCIPAL'!$I$617:$X$617,J4)>=1,\"\",ROW())","v":4},"MAS PL ","MAS PL ",{"$f":"IF(COUNTIF('PLANNING PRINCIPAL'!$I$620:$X$620,M4)>=1,\"\",ROW())","v":4},"MAS PL ","MAS PL ",{"$f":"IF(COUNTIF('PLANNING PRINCIPAL'!$I$623:$X$623,P4)>=1,\"\",ROW())","v":4},"MAS PL ","MAS PL ",{"$f":"IF(COUNTIF('PLANNING PRINCIPAL'!$I$626:$X$626,S4)>=1,\"\",ROW())","v":4},"MAS PL ",{"$f":"'DATA S1'!V4","v":"V NOC EPERNON"},{"$f":"IF(COUNTIF('PLANNING PRINCIPAL'!$I$607:$X$607,V4)>=1,\"\",ROW())","v":4},"V NOC EPERNON"]
[{"$f":"'DATA S1'!A5","v":"BEN VL PT "},{"$f":"IF(COUNTIF('PLANNING PRINCIPAL'!$I$608:$X$608,A5)>=1,\"\",ROW())","v":5},"BEN VL PT ","BEN VL PT ",{"$f":"IF(COUNTIF('PLANNING PRINCIPAL'!$I$611:$X$611,D5)>=1,\"\",ROW())","v":5},"BEN VL PT ","BEN VL PT ",{"$f":"IF(COUNTIF('PLANNING PRINCIPAL'!$I$614:$X$614,G5)>=1,\"\",ROW())","v":5},"BEN VL PT ","BEN VL PT ",{"$f":"IF(COUNTIF('PLANNING PRINCIPAL'!$I$617:$X$617,J5)>=1,\"\",ROW())","v":5},"BEN VL PT ","BEN VL PT ",{"$f":"IF(COUNTIF('PLANNING PRINCIPAL'!$I$620:$X$620,M5)>=1,\"\",ROW())","v":5},"BEN VL PT ","BEN VL PT ",{"$f":"IF(COUNTIF('PLANNING PRINCIPAL'!$I$623:$X$623,P5)>=1,\"\",ROW())","v":5},"BEN VL PT ","BEN VL PT ",{"$f":"IF(COUNTIF('PLANNING PRINCIPAL'!$I$626:$X$626,S5)>=1,\"\",ROW())","v":5},"BEN VL PT ",{"$f":"'DATA S1'!V5","v":"V NOC HANCHES"},{"$f":"IF(COUNTIF('PLANNING PRINCIPAL'!$I$607:$X$607,V5)>=1,\"\",ROW())","v":5},"V NOC HANCHES"]
[{"$f":"'DATA S1'!A6","v":"BEN 19T "},{"$f":"IF(COUNTIF('PLANNING PRINCIPAL'!$I$608:$X$608,A6)>=1,\"\",ROW())","v":6},"BEN 19T ","BEN 19T ",{"$f":"IF(COUNTIF('PLANNING PRINCIPAL'!$I$611:$X$611,D6)>=1,\"\",ROW())","v":6},"BEN 19T ","BEN 19T ",{"$f":"IF(COUNTIF('PLANNING PRINCIPAL'!$I$614:$X$614,G6)>=1,\"\",ROW())","v":6},"BEN 19T ","BEN 19T ",{"$f":"IF(COUNTIF('PLANNING PRINCIPAL'!$I$617:$X$617,J6)>=1,\"\",ROW())","v":6},"BEN 19T ","BEN 19T ",{"$f":"IF(COUNTIF('PLANNING PRINCIPAL'!$I$620:$X$620,M6)>=1,\"\",ROW())","v":6},"BEN 19T ","BEN 19T ",{"$f":"IF(COUNTIF('PLANNING PRINCIPAL'!$I$623:$X$623,P6)>=1,\"\",ROW())","v":6},"BEN 19T ","BEN 19T ",{"$f":"IF(COUNTIF('PLANNING PRINCIPAL'!$I$626:$X$626,S6)>=1,\"\",ROW())","v":6},"BEN 19T ",{"$f":"'DATA S1'!V6","v":"V NOC MAINTENON"},{"$f":"IF(COUNTIF('PLANNING PRINCIPAL'!$I$607:$X$607,V6)>=1,\"\",ROW())","v":6},"V NOC MAINTENON"]
[{"$f":"'DATA S1'!A7","v":"BEN 13T "},{"$f":"IF(COUNTIF('PLANNING PRINCIPAL'!$I$608:$X$608,A7)>=1,\"\",ROW())","v":7},"BEN 13T ","BEN 13T ",{"$f":"IF(COUNTIF('PLANNING PRINCIPAL'!$I$611:$X$611,D7)>=1,\"\",ROW())","v":7},"BEN 13T ","BEN 13T ",{"$f":"IF(COUNTIF('PLANNING PRINCIPAL'!$I$614:$X$614,G7)>=1,\"\",ROW())","v":7},"BEN 13T ","BEN 13T ",{"$f":"IF(COUNTIF('PLANNING PRINCIPAL'!$I$617:$X$617,J7)>=1,\"\",ROW())","v":7},"BEN 13T ","BEN 13T ",{"$f":"IF(COUNTIF('PLANNING PRINCIPAL'!$I$620:$X$620,M7)>=1,\"\",ROW())","v":7},"BEN 13T ","BEN 13T ",{"$f":"IF(COUNTIF('PLANNING PRINCIPAL'!$I$623:$X$623,P7)>=1,\"\",ROW())","v":7},"BEN 13T ","BEN 13T ",{"$f":"IF(COUNTIF('PLANNING PRINCIPAL'!$I$626:$X$626,S7)>=1,\"\",ROW())","v":7},"BEN 13T ",null,{"$f":"IF(COUNTIF('PLANNING PRINCIPAL'!$I$467:$X$467,V7)>=1,\"\",ROW())","v":7}]
[{"$f":"'DATA S1'!A8","v":"NAC VL 18M "},{"$f":"IF(COUNTIF('PLANNING PRINCIPAL'!$I$608:$X$608,A8)>=1,\"\",ROW())","v":8},"NAC VL 18M ","NAC VL 18M ",{"$f":"IF(COUNTIF('PLANNING PRINCIPAL'!$I$611:$X$611,D8)>=1,\"\",ROW())","v":8},"NAC VL 18M ","NAC VL 18M ",{"$f":"IF(COUNTIF('PLANNING PRINCIPAL'!$I$614:$X$614,G8)>=1,\"\",ROW())","v":8},"NAC VL 18M ","NAC VL 18M ",{"$f":"IF(COUNTIF('PLANNING PRINCIPAL'!$I$617:$X$617,J8)>=1,\"\",ROW())","v":8},"NAC VL 18M ","NAC VL 18M ",{"$f":"IF(COUNTIF('PLANNING PRINCIPAL'!$I$620:$X$620,M8)>=1,\"\",ROW())","v":8},"NAC VL 18M ","NAC VL 18M ",{"$f":"IF(COUNTIF('PLANNING PRINCIPAL'!$I$623:$X$623,P8)>=1,\"\",ROW())","v":8},"NAC VL 18M ","NAC VL 18M ",{"$f":"IF(COUNTIF('PLANNING PRINCIPAL'!$I$626:$X$626,S8)>=1,\"\",ROW())","v":8},"NAC VL 18M ",null,{"$f":"IF(COUNTIF('PLANNING PRINCIPAL'!$I$467:$X$467,V8)>=1,\"\",ROW())","v":8}]
[{"$f":"'DATA S1'!A9","v":"NAC EGIE"},{"$f":"IF(COUNTIF('PLANNING PRINCIPAL'!$I$608:$X$608,A9)>=1,\"\",ROW())","v":9},"NAC EGIE","NAC EGIE",{"$f":"IF(COUNTIF('PLANNING PRINCIPAL'!$I$611:$X$611,D9)>=1,\"\",ROW())","v":9},"NAC EGIE","NAC EGIE",{"$f":"IF(COUNTIF('PLANNING PRINCIPAL'!$I$614:$X$614,G9)>=1,\"\",ROW())","v":9},"NAC EGIE","NAC EGIE",{"$f":"IF(COUNTIF('PLANNING PRINCIPAL'!$I$617:$X$617,J9)>=1,\"\",ROW())","v":9},"NAC EGIE","NAC EGIE",{"$f":"IF(COUNTIF('PLANNING PRINCIPAL'!$I$620:$X$620,M9)>=1,\"\",ROW())","v":9},"NAC EGIE","NAC EGIE",{"$f":"IF(COUNTIF('PLANNING PRINCIPAL'!$I$623:$X$623,P9)>=1,\"\",ROW())","v":9},"NAC EGIE","NAC EGIE",{"$f":"IF(COUNTIF('PLANNING PRINCIPAL'!$I$626:$X$626,S9)>=1,\"\",ROW())","v":9},"NAC EGIE",null,{"$f":"IF(COUNTIF('PLANNING PRINCIPAL'!$I$467:$X$467,V9)>=1,\"\",ROW())","v":9}]
[{"$f":"'DATA S1'!A10","v":"NAC COMI "},{"$f":"IF(COUNTIF('PLANNING PRINCIPAL'!$I$608:$X$608,A10)>=1,\"\",ROW())","v":10},"NAC COMI ","NAC COMI ",{"$f":"IF(COUNTIF('PLANNING PRINCIPAL'!$I$611:$X$611,D10)>=1,\"\",ROW())","v":10},"NAC COMI ","NAC COMI ",{"$f":"IF(COUNTIF('PLANNING PRINCIPAL'!$I$614:$X$614,G10)>=1,\"\",ROW())","v":10},"NAC COMI ","NAC COMI ",{"$f":"IF(COUNTIF('PLANNING PRINCIPAL'!$I$617:$X$617,J10)>=1,\"\",ROW())","v":10},"NAC COMI ","NAC COMI ",{"$f":"IF(COUNTIF('PLANNING PRINCIPAL'!$I$620:$X$620,M10)>=1,\"\",ROW())","v":10},"NAC COMI ","NAC COMI ",{"$f":"IF(COUNTIF('PLANNING PRINCIPAL'!$I$623:$X$623,P10)>=1,\"\",ROW())","v":10},"NAC COMI ","NAC COMI ",{"$f":"IF(COUNTIF('PLANNING PRINCIPAL'!$I$626:$X$626,S10)>=1,\"\",ROW())","v":10},"NAC COMI ",null,{"$f":"IF(COUNTIF('PLANNING PRINCIPAL'!$I$467:$X$467,V10)>=1,\"\",ROW())","v":10}]
[{"$f":"'DATA S1'!A11","v":"#####LOCATION#####"},{"$f":"IF(COUNTIF('PLANNING PRINCIPAL'!$I$608:$X$608,A11)>=1,\"\",ROW())","v":11},"#####LOCATION#####","#####LOCATION#####",{"$f":"IF(COUNTIF('PLANNING PRINCIPAL'!$I$611:$X$611,D11)>=1,\"\",ROW())","v":11},"#####LOCATION#####","#####LOCATION#####",{"$f":"IF(COUNTIF('PLANNING PRINCIPAL'!$I$614:$X$614,G11)>=1,\"\",ROW())","v":11},"#####LOCATION#####","#####LOCATION#####",{"$f":"IF(COUNTIF('PLANNING PRINCIPAL'!$I$617:$X$617,J11)>=1,\"\",ROW())","v":11},"#####LOCATION#####","#####LOCATION#####",{"$f":"IF(COUNTIF('PLANNING PRINCIPAL'!$I$620:$X$620,M11)>=1,\"\",ROW())","v":11},"#####LOCATION#####","#####LOCATION#####",{"$f":"IF(COUNTIF('PLANNING PRINCIPAL'!$I$623:$X$623,P11)>=1,\"\",ROW())","v":11},"#####LOCATION#####","#####LOCATION#####",{"$f":"IF(COUNTIF('PLANNING PRINCIPAL'!$I$626:$X$626,S11)>=1,\"\",ROW())","v":11},"#####LOCATION#####",null,{"$f":"IF(COUNTIF('PLANNING PRINCIPAL'!$I$467:$X$467,V11)>=1,\"\",ROW())","v":11}]
[{"$f":"'DATA S1'!A12","v":"LOC NAC SOLOMAT"},{"$f":"IF(COUNTIF('PLANNING PRINCIPAL'!$I$608:$X$608,A12)>=1,\"\",ROW())","v":12},"LOC NAC SOLOMAT","LOC NAC SOLOMAT",{"$f":"IF(COUNTIF('PLANNING PRINCIPAL'!$I$611:$X$611,D12)>=1,\"\",ROW())","v":12},"LOC NAC SOLOMAT","LOC NAC SOLOMAT",{"$f":"IF(COUNTIF('PLANNING PRINCIPAL'!$I$614:$X$614,G12)>=1,\"\",ROW())","v":12},"LOC NAC SOLOMAT","LOC NAC SOLOMAT",{"$f":"IF(COUNTIF('PLANNING PRINCIPAL'!$I$617:$X$617,J12)>=1,\"\",ROW())","v":12},"LOC NAC SOLOMAT","LOC NAC SOLOMAT",{"$f":"IF(COUNTIF('PLANNING PRINCIPAL'!$I$620:$X$620,M12)>=1,\"\",ROW())","v":12},"LOC NAC SOLOMAT","LOC NAC SOLOMAT",{"$f":"IF(COUNTIF('PLANNING PRINCIPAL'!$I$623:$X$623,P12)>=1,\"\",ROW())","v":12},"LOC NAC SOLOMAT","LOC NAC SOLOMAT",{"$f":"IF(COUNTIF('PLANNING PRINCIPAL'!$I$626:$X$626,S12)>=1,\"\",ROW())","v":12},"LOC NAC SOLOMAT",null,{"$f":"IF(COUNTIF('PLANNING PRINCIPAL'!$I$467:$X$467,V12)>=1,\"\",ROW())","v":12}]
[{"$f":"'DATA S1'!A13","v":"LOC NAC AEB"},{"$f":"IF(COUNTIF('PLANNING PRINCIPAL'!$I$608:$X$608,A13)>=1,\"\",ROW())","v":13},"LOC NAC AEB","LOC NAC AEB",{"$f":"IF(COUNTIF('PLANNING PRINCIPAL'!$I$611:$X$611,D13)>=1,\"\",ROW())","v":13},"LOC NAC AEB","LOC NAC AEB",{"$f":"IF(COUNTIF('PLANNING PRINCIPAL'!$I$614:$X$614,G13)>=1,\"\",ROW())","v":13},"LOC NAC AEB","LOC NAC AEB",{"$f":"IF(COUNTIF('PLANNING PRINCIPAL'!$I$617:$X$617,J13)>=1,\"\",ROW())","v":13},"LOC NAC AEB","LOC NAC AEB",{"$f":"IF(COUNTIF('PLANNING PRINCIPAL'!$I$620:$X$620,M13)>=1,\"\",ROW())","v":13},"LOC NAC AEB","LOC NAC AEB",{"$f":"IF(COUNTIF('PLANNING PRINCIPAL'!$I$623:$X$623,P13)>=1,\"\",ROW())","v":13},"LOC NAC AEB","LOC NAC AEB",{"$f":"IF(COUNTIF('PLANNING PRINCIPAL'!$I$626:$X$626,S13)>=1,\"\",ROW())","v":13},"LOC NAC AEB",null,{"$f":"IF(COUNTIF('PLANNING PRINCIPAL'!$I$467:$X$467,V13)>=1,\"\",ROW())","v":13}]
[{"$f":"'DATA S1'!A14","v":"LOC NAC INTERLOC"},{"$f":"IF(COUNTIF('PLANNING PRINCIPAL'!$I$608:$X$608,A14)>=1,\"\",ROW())","v":14},"LOC NAC INTERLOC","LOC NAC INTERLOC",{"$f":"IF(COUNTIF('PLANNING PRINCIPAL'!$I$611:$X$611,D14)>=1,\"\",ROW())","v":14},"LOC NAC INTERLOC","LOC NAC INTERLOC",{"$f":"IF(COUNTIF('PLANNING PRINCIPAL'!$I$614:$X$614,G14)>=1,\"\",ROW())","v":14},"LOC NAC INTERLOC","LOC NAC INTERLOC",{"$f":"IF(COUNTIF('PLANNING PRINCIPAL'!$I$617:$X$617,J14)>=1,\"\",ROW())","v":14},"LOC NAC INTERLOC","LOC NAC INTERLOC",{"$f":"IF(COUNTIF('PLANNING PRINCIPAL'!$I$620:$X$620,M14)>=1,\"\",ROW())","v":14},"LOC NAC INTERLOC","LOC NAC INTERLOC",{"$f":"IF(COUNTIF('PLANNING PRINCIPAL'!$I$623:$X$623,P14)>=1,\"\",ROW())","v":14},"LOC NAC INTERLOC","LOC NAC INTERLOC",{"$f":"IF(COUNTIF('PLANNING PRINCIPAL'!$I$626:$X$626,S14)>=1,\"\",ROW())","v":14},"LOC NAC INTERLOC",null,{"$f":"IF(COUNTIF('PLANNING PRINCIPAL'!$I$467:$X$467,V14)>=1,\"\",ROW())","v":14}]
[{"$f":"'DATA S1'!A15","v":"LOC NAC KILOUTOU"},{"$f":"IF(COUNTIF('PLANNING PRINCIPAL'!$I$608:$X$608,A15)>=1,\"\",ROW())","v":15},"LOC NAC KILOUTOU","LOC NAC KILOUTOU",{"$f":"IF(COUNTIF('PLANNING PRINCIPAL'!$I$611:$X$611,D15)>=1,\"\",ROW())","v":15},"LOC NAC KILOUTOU","LOC NAC KILOUTOU",{"$f":"IF(COUNTIF('PLANNING PRINCIPAL'!$I$614:$X$614,G15)>=1,\"\",ROW())","v":15},"LOC NAC KILOUTOU","LOC NAC KILOUTOU",{"$f":"IF(COUNTIF('PLANNING PRINCIPAL'!$I$617:$X$617,J15)>=1,\"\",ROW())","v":15},"LOC NAC KILOUTOU","LOC NAC KILOUTOU",{"$f":"IF(COUNTIF('PLANNING PRINCIPAL'!$I$620:$X$620,M15)>=1,\"\",ROW())","v":15},"LOC NAC KILOUTOU","LOC NAC KILOUTOU",{"$f":"IF(COUNTIF('PLANNING PRINCIPAL'!$I$623:$X$623,P15)>=1,\"\",ROW())","v":15},"LOC NAC KILOUTOU","LOC NAC KILOUTOU",{"$f":"IF(COUNTIF('PLANNING PRINCIPAL'!$I$626:$X$626,S15)>=1,\"\",ROW())","v":15},"LOC NAC KILOUTOU",null,{"$f":"IF(COUNTIF('PLANNING PRINCIPAL'!$I$467:$X$467,V15)>=1,\"\",ROW())","v":15}]
[{"$f":"'DATA S1'!A16","v":"LOC NAC AEB"},{"$f":"IF(COUNTIF('PLANNING PRINCIPAL'!$I$608:$X$608,A16)>=1,\"\",ROW())","v":16},"LOC NAC AEB","LOC NAC AEB",{"$f":"IF(COUNTIF('PLANNING PRINCIPAL'!$I$611:$X$611,D16)>=1,\"\",ROW())","v":16},"LOC NAC AEB","LOC NAC AEB",{"$f":"IF(COUNTIF('PLANNING PRINCIPAL'!$I$614:$X$614,G16)>=1,\"\",ROW())","v":16},"LOC NAC AEB","LOC NAC AEB",{"$f":"IF(COUNTIF('PLANNING PRINCIPAL'!$I$617:$X$617,J16)>=1,\"\",ROW())","v":16},"LOC NAC AEB","LOC NAC AEB",{"$f":"IF(COUNTIF('PLANNING PRINCIPAL'!$I$620:$X$620,M16)>=1,\"\",ROW())","v":16},"LOC NAC AEB","LOC NAC AEB",{"$f":"IF(COUNTIF('PLANNING PRINCIPAL'!$I$623:$X$623,P16)>=1,\"\",ROW())","v":16},"LOC NAC AEB","LOC NAC AEB",{"$f":"IF(COUNTIF('PLANNING PRINCIPAL'!$I$626:$X$626,S16)>=1,\"\",ROW())","v":16},"LOC NAC AEB",null,{"$f":"IF(COUNTIF('PLANNING PRINCIPAL'!$I$467:$X$467,V16)>=1,\"\",ROW())","v":16}]
[{"$f":"'DATA S1'!A17","v":"LOC PELLE SOLOMAT"},{"$f":"IF(COUNTIF('PLANNING PRINCIPAL'!$I$608:$X$608,A17)>=1,\"\",ROW())","v":17},"LOC PELLE SOLOMAT","LOC PELLE SOLOMAT",{"$f":"IF(COUNTIF('PLANNING PRINCIPAL'!$I$611:$X$611,D17)>=1,\"\",ROW())","v":17},"LOC PELLE SOLOMAT","LOC PELLE SOLOMAT",{"$f":"IF(COUNTIF('PLANNING PRINCIPAL'!$I$614:$X$614,G17)>=1,\"\",ROW())","v":17},"LOC PELLE SOLOMAT","LOC PELLE SOLOMAT",{"$f":"IF(COUNTIF('PLANNING PRINCIPAL'!$I$617:$X$617,J17)>=1,\"\",ROW())","v":17},"LOC PELLE SOLOMAT","LOC PELLE SOLOMAT",{"$f":"IF(COUNTIF('PLANNING PRINCIPAL'!$I$620:$X$620,M17)>=1,\"\",ROW())","v":17},"LOC PELLE SOLOMAT","LOC PELLE SOLOMAT",{"$f":"IF(COUNTIF('PLANNING PRINCIPAL'!$I$623:$X$623,P17)>=1,\"\",ROW())","v":17},"LOC PELLE SOLOMAT","LOC PELLE SOLOMAT",{"$f":"IF(COUNTIF('PLANNING PRINCIPAL'!$I$626:$X$626,S17)>=1,\"\",ROW())","v":17},"LOC PELLE SOLOMAT",null,{"$f":"IF(COUNTIF('PLANNING PRINCIPAL'!$I$467:$X$467,V17)>=1,\"\",ROW())","v":17}]
[{"$f":"'DATA S1'!A18","v":"LOC PELLE AEB"},{"$f":"IF(COUNTIF('PLANNING PRINCIPAL'!$I$608:$X$608,A18)>=1,\"\",ROW())","v":18},"LOC PELLE AEB","LOC PELLE AEB",{"$f":"IF(COUNTIF('PLANNING PRINCIPAL'!$I$611:$X$611,D18)>=1,\"\",ROW())","v":18},"LOC PELLE AEB","LOC PELLE AEB",{"$f":"IF(COUNTIF('PLANNING PRINCIPAL'!$I$614:$X$614,G18)>=1,\"\",ROW())","v":18},"LOC PELLE AEB","LOC PELLE AEB",{"$f":"IF(COUNTIF('PLANNING PRINCIPAL'!$I$617:$X$617,J18)>=1,\"\",ROW())","v":18},"LOC PELLE AEB","LOC PELLE AEB",{"$f":"IF(COUNTIF('PLANNING PRINCIPAL'!$I$620:$X$620,M18)>=1,\"\",ROW())","v":18},"LOC PELLE AEB","LOC PELLE AEB",{"$f":"IF(COUNTIF('PLANNING PRINCIPAL'!$I$623:$X$623,P18)>=1,\"\",ROW())","v":18},"LOC PELLE AEB","LOC PELLE AEB",{"$f":"IF(COUNTIF('PLANNING PRINCIPAL'!$I$626:$X$626,S18)>=1,\"\",ROW())","v":18},"LOC PELLE AEB",null,{"$f":"IF(COUNTIF('PLANNING PRINCIPAL'!$I$467:$X$467,V18)>=1,\"\",ROW())","v":18}]
[{"$f":"'DATA S1'!A19","v":"LOC PELLE INTERLOC"},{"$f":"IF(COUNTIF('PLANNING PRINCIPAL'!$I$608:$X$608,A19)>=1,\"\",ROW())","v":19},"LOC PELLE INTERLOC","LOC PELLE INTERLOC",{"$f":"IF(COUNTIF('PLANNING PRINCIPAL'!$I$611:$X$611,D19)>=1,\"\",ROW())","v":19},"LOC PELLE INTERLOC","LOC PELLE INTERLOC",{"$f":"IF(COUNTIF('PLANNING PRINCIPAL'!$I$614:$X$614,G19)>=1,\"\",ROW())","v":19},"LOC PELLE INTERLOC","LOC PELLE INTERLOC",{"$f":"IF(COUNTIF('PLANNING PRINCIPAL'!$I$617:$X$617,J19)>=1,\"\",ROW())","v":19},"LOC PELLE INTERLOC","LOC PELLE INTERLOC",{"$f":"IF(COUNTIF('PLANNING PRINCIPAL'!$I$620:$X$620,M19)>=1,\"\",ROW())","v":19},"LOC PELLE INTERLOC","LOC PELLE INTERLOC",{"$f":"IF(COUNTIF('PLANNING PRINCIPAL'!$I$623:$X$623,P19)>=1,\"\",ROW())","v":19},"LOC PELLE INTERLOC","LOC PELLE INTERLOC",{"$f":"IF(COUNTIF('PLANNING PRINCIPAL'!$I$626:$X$626,S19)>=1,\"\",ROW())","v":19},"LOC PELLE INTERLOC",null,{"$f":"IF(COUNTIF('PLANNING PRINCIPAL'!$I$467:$X$467,V19)>=1,\"\",ROW())","v":19}]
[{"$f":"'DATA S1'!A20","v":"LOC PELLE KILOUTOU"},{"$f":"IF(COUNTIF('PLANNING PRINCIPAL'!$I$608:$X$608,A20)>=1,\"\",ROW())","v":20},"LOC PELLE KILOUTOU","LOC PELLE KILOUTOU",{"$f":"IF(COUNTIF('PLANNING PRINCIPAL'!$I$611:$X$611,D20)>=1,\"\",ROW())","v":20},"LOC PELLE KILOUTOU","LOC PELLE KILOUTOU",{"$f":"IF(COUNTIF('PLANNING PRINCIPAL'!$I$614:$X$614,G20)>=1,\"\",ROW())","v":20},"LOC PELLE KILOUTOU","LOC PELLE KILOUTOU",{"$f":"IF(COUNTIF('PLANNING PRINCIPAL'!$I$617:$X$617,J20)>=1,\"\",ROW())","v":20},"LOC PELLE KILOUTOU","LOC PELLE KILOUTOU",{"$f":"IF(COUNTIF('PLANNING PRINCIPAL'!$I$620:$X$620,M20)>=1,\"\",ROW())","v":20},"LOC PELLE KILOUTOU","LOC PELLE KILOUTOU",{"$f":"IF(COUNTIF('PLANNING PRINCIPAL'!$I$623:$X$623,P20)>=1,\"\",ROW())","v":20},"LOC PELLE KILOUTOU","LOC PELLE KILOUTOU",{"$f":"IF(COUNTIF('PLANNING PRINCIPAL'!$I$626:$X$626,S20)>=1,\"\",ROW())","v":20},"LOC PELLE KILOUTOU",null,{"$f":"IF(COUNTIF('PLANNING PRINCIPAL'!$I$467:$X$467,V20)>=1,\"\",ROW())","v":20}]
[null,{"$f":"IF(COUNTIF('PLANNING PRINCIPAL'!$I$608:$X$608,A21)>=1,\"\",ROW())","v":21},null,null,{"$f":"IF(COUNTIF('PLANNING PRINCIPAL'!$I$611:$X$611,D21)>=1,\"\",ROW())","v":21},null,null,{"$f":"IF(COUNTIF('PLANNING PRINCIPAL'!$I$614:$X$614,G21)>=1,\"\",ROW())","v":21},null,null,{"$f":"IF(COUNTIF('PLANNING PRINCIPAL'!$I$617:$X$617,J21)>=1,\"\",ROW())","v":21},null,null,{"$f":"IF(COUNTIF('PLANNING PRINCIPAL'!$I$620:$X$620,M21)>=1,\"\",ROW())","v":21},null,null,{"$f":"IF(COUNTIF('PLANNING PRINCIPAL'!$I$623:$X$623,P21)>=1,\"\",ROW())","v":21},null,null,{"$f":"IF(COUNTIF('PLANNING PRINCIPAL'!$I$626:$X$626,S21)>=1,\"\",ROW())","v":21},null,null,{"$f":"IF(COUNTIF('PLANNING PRINCIPAL'!$I$467:$X$467,V21)>=1,\"\",ROW())","v":21}]
[null,{"$f":"IF(COUNTIF('PLANNING PRINCIPAL'!$I$608:$X$608,A22)>=1,\"\",ROW())","v":22},null,null,{"$f":"IF(COUNTIF('PLANNING PRINCIPAL'!$I$611:$X$611,D22)>=1,\"\",ROW())","v":22},null,null,{"$f":"IF(COUNTIF('PLANNING PRINCIPAL'!$I$614:$X$614,G22)>=1,\"\",ROW())","v":22},null,null,{"$f":"IF(COUNTIF('PLANNING PRINCIPAL'!$I$617:$X$617,J22)>=1,\"\",ROW())","v":22},null,null,{"$f":"IF(COUNTIF('PLANNING PRINCIPAL'!$I$620:$X$620,M22)>=1,\"\",ROW())","v":22},null,null,{"$f":"IF(COUNTIF('PLANNING PRINCIPAL'!$I$623:$X$623,P22)>=1,\"\",ROW())","v":22},null,null,{"$f":"IF(COUNTIF('PLANNING PRINCIPAL'!$I$626:$X$626,S22)>=1,\"\",ROW())","v":22},null,null,{"$f":"IF(COUNTIF('PLANNING PRINCIPAL'!$I$467:$X$467,V22)>=1,\"\",ROW())","v":22}]
[null,{"$f":"IF(COUNTIF('PLANNING PRINCIPAL'!$I$608:$X$608,A23)>=1,\"\",ROW())","v":23},null,null,{"$f":"IF(COUNTIF('PLANNING PRINCIPAL'!$I$611:$X$611,D23)>=1,\"\",ROW())","v":23},null,null,{"$f":"IF(COUNTIF('PLANNING PRINCIPAL'!$I$614:$X$614,G23)>=1,\"\",ROW())","v":23},null,null,{"$f":"IF(COUNTIF('PLANNING PRINCIPAL'!$I$617:$X$617,J23)>=1,\"\",ROW())","v":23},null,null,{"$f":"IF(COUNTIF('PLANNING PRINCIPAL'!$I$620:$X$620,M23)>=1,\"\",ROW())","v":23},null,null,{"$f":"IF(COUNTIF('PLANNING PRINCIPAL'!$I$623:$X$623,P23)>=1,\"\",ROW())","v":23},null,null,{"$f":"IF(COUNTIF('PLANNING PRINCIPAL'!$I$626:$X$626,S23)>=1,\"\",ROW())","v":23},null,null,{"$f":"IF(COUNTIF('PLANNING PRINCIPAL'!$I$467:$X$467,V23)>=1,\"\",ROW())","v":23}]
[null,{"$f":"IF(COUNTIF('PLANNING PRINCIPAL'!$I$608:$X$608,A24)>=1,\"\",ROW())","v":24},null,null,{"$f":"IF(COUNTIF('PLANNING PRINCIPAL'!$I$611:$X$611,D24)>=1,\"\",ROW())","v":24},null,null,{"$f":"IF(COUNTIF('PLANNING PRINCIPAL'!$I$614:$X$614,G24)>=1,\"\",ROW())","v":24},null,null,{"$f":"IF(COUNTIF('PLANNING PRINCIPAL'!$I$617:$X$617,J24)>=1,\"\",ROW())","v":24},null,null,{"$f":"IF(COUNTIF('PLANNING PRINCIPAL'!$I$620:$X$620,M24)>=1,\"\",ROW())","v":24},null,null,{"$f":"IF(COUNTIF('PLANNING PRINCIPAL'!$I$623:$X$623,P24)>=1,\"\",ROW())","v":24},null,null,{"$f":"IF(COUNTIF('PLANNING PRINCIPAL'!$I$626:$X$626,S24)>=1,\"\",ROW())","v":24},null,null,{"$f":"IF(COUNTIF('PLANNING PRINCIPAL'!$I$467:$X$467,V24)>=1,\"\",ROW())","v":24}]
[null,{"$f":"IF(COUNTIF('PLANNING PRINCIPAL'!$I$608:$X$608,A25)>=1,\"\",ROW())","v":25},null,null,{"$f":"IF(COUNTIF('PLANNING PRINCIPAL'!$I$611:$X$611,D25)>=1,\"\",ROW())","v":25},null,null,{"$f":"IF(COUNTIF('PLANNING PRINCIPAL'!$I$614:$X$614,G25)>=1,\"\",ROW())","v":25},null,null,{"$f":"IF(COUNTIF('PLANNING PRINCIPAL'!$I$617:$X$617,J25)>=1,\"\",ROW())","v":25},null,null,{"$f":"IF(COUNTIF('PLANNING PRINCIPAL'!$I$620:$X$620,M25)>=1,\"\",ROW())","v":25},null,null,{"$f":"IF(COUNTIF('PLANNING PRINCIPAL'!$I$623:$X$623,P25)>=1,\"\",ROW())","v":25},null,null,{"$f":"IF(COUNTIF('PLANNING PRINCIPAL'!$I$626:$X$626,S25)>=1,\"\",ROW())","v":25},null,null,{"$f":"IF(COUNTIF('PLANNING PRINCIPAL'!$I$467:$X$467,V25)>=1,\"\",ROW())","v":25}]
[null,{"$f":"IF(COUNTIF('PLANNING PRINCIPAL'!$I$608:$X$608,A26)>=1,\"\",ROW())","v":26},null,null,{"$f":"IF(COUNTIF('PLANNING PRINCIPAL'!$I$611:$X$611,D26)>=1,\"\",ROW())","v":26},null,null,{"$f":"IF(COUNTIF('PLANNING PRINCIPAL'!$I$614:$X$614,G26)>=1,\"\",ROW())","v":26},null,null,{"$f":"IF(COUNTIF('PLANNING PRINCIPAL'!$I$617:$X$617,J26)>=1,\"\",ROW())","v":26},null,null,{"$f":"IF(COUNTIF('PLANNING PRINCIPAL'!$I$620:$X$620,M26)>=1,\"\",ROW())","v":26},null,null,{"$f":"IF(COUNTIF('PLANNING PRINCIPAL'!$I$623:$X$623,P26)>=1,\"\",ROW())","v":26},null,null,{"$f":"IF(COUNTIF('PLANNING PRINCIPAL'!$I$626:$X$626,S26)>=1,\"\",ROW())","v":26},null,null,{"$f":"IF(COUNTIF('PLANNING PRINCIPAL'!$I$467:$X$467,V26)>=1,\"\",ROW())","v":26}]
[null,{"$f":"IF(COUNTIF('PLANNING PRINCIPAL'!$I$608:$X$608,A27)>=1,\"\",ROW())","v":27},null,null,{"$f":"IF(COUNTIF('PLANNING PRINCIPAL'!$I$611:$X$611,D27)>=1,\"\",ROW())","v":27},null,null,{"$f":"IF(COUNTIF('PLANNING PRINCIPAL'!$I$614:$X$614,G27)>=1,\"\",ROW())","v":27},null,null,{"$f":"IF(COUNTIF('PLANNING PRINCIPAL'!$I$617:$X$617,J27)>=1,\"\",ROW())","v":27},null,null,{"$f":"IF(COUNTIF('PLANNING PRINCIPAL'!$I$620:$X$620,M27)>=1,\"\",ROW())","v":27},null,null,{"$f":"IF(COUNTIF('PLANNING PRINCIPAL'!$I$623:$X$623,P27)>=1,\"\",ROW())","v":27},null,null,{"$f":"IF(COUNTIF('PLANNING PRINCIPAL'!$I$626:$X$626,S27)>=1,\"\",ROW())","v":27},null,null,{"$f":"IF(COUNTIF('PLANNING PRINCIPAL'!$I$467:$X$467,V27)>=1,\"\",ROW())","v":27}]
[null,{"$f":"IF(COUNTIF('PLANNING PRINCIPAL'!$I$608:$X$608,A28)>=1,\"\",ROW())","v":28},null,null,{"$f":"IF(COUNTIF('PLANNING PRINCIPAL'!$I$611:$X$611,D28)>=1,\"\",ROW())","v":28},null,null,{"$f":"IF(COUNTIF('PLANNING PRINCIPAL'!$I$614:$X$614,G28)>=1,\"\",ROW())","v":28},null,null,{"$f":"IF(COUNTIF('PLANNING PRINCIPAL'!$I$617:$X$617,J28)>=1,\"\",ROW())","v":28},null,null,{"$f":"IF(COUNTIF('PLANNING PRINCIPAL'!$I$620:$X$620,M28)>=1,\"\",ROW())","v":28},null,null,{"$f":"IF(COUNTIF('PLANNING PRINCIPAL'!$I$623:$X$623,P28)>=1,\"\",ROW())","v":28},null,null,{"$f":"IF(COUNTIF('PLANNING PRINCIPAL'!$I$626:$X$626,S28)>=1,\"\",ROW())","v":28},null,null,{"$f":"IF(COUNTIF('PLANNING PRINCIPAL'!$I$467:$X$467,V28)>=1,\"\",ROW())","v":28}]
[null,{"$f":"IF(COUNTIF('PLANNING PRINCIPAL'!$I$608:$X$608,A29)>=1,\"\",ROW())","v":29},null,null,{"$f":"IF(COUNTIF('PLANNING PRINCIPAL'!$I$611:$X$611,D29)>=1,\"\",ROW())","v":29},null,null,{"$f":"IF(COUNTIF('PLANNING PRINCIPAL'!$I$614:$X$614,G29)>=1,\"\",ROW())","v":29},null,null,{"$f":"IF(COUNTIF('PLANNING PRINCIPAL'!$I$617:$X$617,J29)>=1,\"\",ROW())","v":29},null,null,{"$f":"IF(COUNTIF('PLANNING PRINCIPAL'!$I$620:$X$620,M29)>=1,\"\",ROW())","v":29},null,null,{"$f":"IF(COUNTIF('PLANNING PRINCIPAL'!$I$623:$X$623,P29)>=1,\"\",ROW())","v":29},null,null,{"$f":"IF(COUNTIF('PLANNING PRINCIPAL'!$I$626:$X$626,S29)>=1,\"\",ROW())","v":29},null,null,{"$f":"IF(COUNTIF('PLANNING PRINCIPAL'!$I$467:$X$467,V29)>=1,\"\",ROW())","v":29}]
[null,{"$f":"IF(COUNTIF('PLANNING PRINCIPAL'!$I$608:$X$608,A30)>=1,\"\",ROW())","v":30},null,null,{"$f":"IF(COUNTIF('PLANNING PRINCIPAL'!$I$611:$X$611,D30)>=1,\"\",ROW())","v":30},null,null,{"$f":"IF(COUNTIF('PLANNING PRINCIPAL'!$I$614:$X$614,G30)>=1,\"\",ROW())","v":30},null,null,{"$f":"IF(COUNTIF('PLANNING PRINCIPAL'!$I$617:$X$617,J30)>=1,\"\",ROW())","v":30},null,null,{"$f":"IF(COUNTIF('PLANNING PRINCIPAL'!$I$620:$X$620,M30)>=1,\"\",ROW())","v":30},null,null,{"$f":"IF(COUNTIF('PLANNING PRINCIPAL'!$I$623:$X$623,P30)>=1,\"\",ROW())","v":30},null,null,{"$f":"IF(COUNTIF('PLANNING PRINCIPAL'!$I$626:$X$626,S30)>=1,\"\",ROW())","v":30},null,null,{"$f":"IF(COUNTIF('PLANNING PRINCIPAL'!$I$467:$X$467,V30)>=1,\"\",ROW())","v":30}]
[null,{"$f":"IF(COUNTIF('PLANNING PRINCIPAL'!$I$608:$X$608,A31)>=1,\"\",ROW())","v":31},null,null,{"$f":"IF(COUNTIF('PLANNING PRINCIPAL'!$I$611:$X$611,D31)>=1,\"\",ROW())","v":31},null,null,{"$f":"IF(COUNTIF('PLANNING PRINCIPAL'!$I$614:$X$614,G31)>=1,\"\",ROW())","v":31},null,null,{"$f":"IF(COUNTIF('PLANNING PRINCIPAL'!$I$617:$X$617,J31)>=1,\"\",ROW())","v":31},null,null,{"$f":"IF(COUNTIF('PLANNING PRINCIPAL'!$I$620:$X$620,M31)>=1,\"\",ROW())","v":31},null,null,{"$f":"IF(COUNTIF('PLANNING PRINCIPAL'!$I$623:$X$623,P31)>=1,\"\",ROW())","v":31},null,null,{"$f":"IF(COUNTIF('PLANNING PRINCIPAL'!$I$626:$X$626,S31)>=1,\"\",ROW())","v":31},null,null,{"$f":"IF(COUNTIF('PLANNING PRINCIPAL'!$I$467:$X$467,V31)>=1,\"\",ROW())","v":31}]
[null,{"$f":"IF(COUNTIF('PLANNING PRINCIPAL'!$I$608:$X$608,A32)>=1,\"\",ROW())","v":32},null,null,{"$f":"IF(COUNTIF('PLANNING PRINCIPAL'!$I$611:$X$611,D32)>=1,\"\",ROW())","v":32},null,null,{"$f":"IF(COUNTIF('PLANNING PRINCIPAL'!$I$614:$X$614,G32)>=1,\"\",ROW())","v":32},null,null,{"$f":"IF(COUNTIF('PLANNING PRINCIPAL'!$I$617:$X$617,J32)>=1,\"\",ROW())","v":32},null,null,{"$f":"IF(COUNTIF('PLANNING PRINCIPAL'!$I$620:$X$620,M32)>=1,\"\",ROW())","v":32},null,null,{"$f":"IF(COUNTIF('PLANNING PRINCIPAL'!$I$623:$X$623,P32)>=1,\"\",ROW())","v":32},null,null,{"$f":"IF(COUNTIF('PLANNING PRINCIPAL'!$I$626:$X$626,S32)>=1,\"\",ROW())","v":32},null,null,{"$f":"IF(COUNTIF('PLANNING PRINCIPAL'!$I$467:$X$467,V32)>=1,\"\",ROW())","v":32}]
[null,{"$f":"IF(COUNTIF('PLANNING PRINCIPAL'!$I$608:$X$608,A33)>=1,\"\",ROW())","v":33},null,null,{"$f":"IF(COUNTIF('PLANNING PRINCIPAL'!$I$611:$X$611,D33)>=1,\"\",ROW())","v":33},null,null,{"$f":"IF(COUNTIF('PLANNING PRINCIPAL'!$I$614:$X$614,G33)>=1,\"\",ROW())","v":33},null,null,{"$f":"IF(COUNTIF('PLANNING PRINCIPAL'!$I$617:$X$617,J33)>=1,\"\",ROW())","v":33},null,null,{"$f":"IF(COUNTIF('PLANNING PRINCIPAL'!$I$620:$X$620,M33)>=1,\"\",ROW())","v":33},null,null,{"$f":"IF(COUNTIF('PLANNING PRINCIPAL'!$I$623:$X$623,P33)>=1,\"\",ROW())","v":33},null,null,{"$f":"IF(COUNTIF('PLANNING PRINCIPAL'!$I$626:$X$626,S33)>=1,\"\",ROW())","v":33},null,null,{"$f":"IF(COUNTIF('PLANNING PRINCIPAL'!$I$467:$X$467,V33)>=1,\"\",ROW())","v":33}]
[null,{"$f":"IF(COUNTIF('PLANNING PRINCIPAL'!$I$608:$X$608,A34)>=1,\"\",ROW())","v":34},null,null,{"$f":"IF(COUNTIF('PLANNING PRINCIPAL'!$I$611:$X$611,D34)>=1,\"\",ROW())","v":34},null,null,{"$f":"IF(COUNTIF('PLANNING PRINCIPAL'!$I$614:$X$614,G34)>=1,\"\",ROW())","v":34},null,null,{"$f":"IF(COUNTIF('PLANNING PRINCIPAL'!$I$594:$X$594,J34)>=1,\"\",ROW())","v":34},null,null,{"$f":"IF(COUNTIF('PLANNING PRINCIPAL'!$I$620:$X$620,M34)>=1,\"\",ROW())","v":34},null,null,{"$f":"IF(COUNTIF('PLANNING PRINCIPAL'!$I$623:$X$623,P34)>=1,\"\",ROW())","v":34},null,null,{"$f":"IF(COUNTIF('PLANNING PRINCIPAL'!$I$626:$X$626,S34)>=1,\"\",ROW())","v":34},null,null,{"$f":"IF(COUNTIF('PLANNING PRINCIPAL'!$I$467:$X$467,V34)>=1,\"\",ROW())","v":34}]
["LUNDI",null,null,"MARDI",null,null,"MERCREDI",null,null,"JEUDI",null,null,"VENDREDI",null,null,"SAMEDI",null,null,"DIMANCHE",null,null,"ASTREINTE"]

{"sheet":"DATA S28","index":29,"n_rows":35,"n_cols":24,"rows_kept":35,"cut":false,"hidden":false,"merged":[[34,18,34,20],[34,21,34,23],[34,0,34,2],[34,3,34,5],[34,6,34,8],[34,9,34,11],[34,12,34,14],[34,15,34,17]]}
[{"$f":"'DATA S1'!A1","v":"MAS XX "},{"$f":"IF(COUNTIF('PLANNING PRINCIPAL'!$I$631:$X$631,A1)>=1,\"\",ROW())","v":1},{"$f":"IF(ROW(A1)-ROW(A$1)+1>COUNT(B:B),\"\", INDEX(A:A,SMALL(B:B,1+ROW(A1)-ROW(A$1))))","v":"MAS XX "},{"$f":"A1","v":"MAS XX "},{"$f":"IF(COUNTIF('PLANNING PRINCIPAL'!$I$634:$X$634,D1)>=1,\"\",ROW())","v":1},{"$f":"IF(ROW(D1)-ROW(D$1)+1>COUNT(E:E),\"\", INDEX(D:D,SMALL(E:E,1+ROW(D1)-ROW(D$1))))","v":"MAS XX "},{"$f":"A1","v":"MAS XX "},{"$f":"IF(COUNTIF('PLANNING PRINCIPAL'!$I$637:$X$637,G1)>=1,\"\",ROW())","v":1},{"$f":"IF(ROW(G1)-ROW(G$1)+1>COUNT(H:H),\"\", INDEX(G:G,SMALL(H:H,1+ROW(G1)-ROW(G$1))))","v":"MAS XX "},{"$f":"A1","v":"MAS XX "},{"$f":"IF(COUNTIF('PLANNING PRINCIPAL'!$I$640:$X$640,J1)>=1,\"\",ROW())","v":1},{"$f":"IF(ROW(J1)-ROW(J$1)+1>COUNT(K:K),\"\", INDEX(J:J,SMALL(K:K,1+ROW(J1)-ROW(J$1))))","v":"MAS XX "},{"$f":"A1","v":"MAS XX "},{"$f":"IF(COUNTIF('PLANNING PRINCIPAL'!$I$643:$X$643,M1)>=1,\"\",ROW())","v":1},{"$f":"IF(ROW(M1)-ROW(M$1)+1>COUNT(N:N),\"\", INDEX(M:M,SMALL(N:N,1+ROW(M1)-ROW(M$1))))","v":"MAS XX "},{"$f":"A1","v":"MAS XX "},{"$f":"IF(COUNTIF('PLANNING PRINCIPAL'!$I$646:$X$646,P1)>=1,\"\",ROW())","v":1},{"$f":"IF(ROW(P1)-ROW(P$1)+1>COUNT(Q:Q),\"\", INDEX(P:P,SMALL(Q:Q,1+ROW(P1)-ROW(P$1))))","v":"MAS XX "},{"$f":"A1","v":"MAS XX "},{"$f":"IF(COUNTIF('PLANNING PRINCIPAL'!$I$649:$X$649,S1)>=1,\"\",ROW())","v":1},{"$f":"IF(ROW(S1)-ROW(S$1)+1>COUNT(T:T),\"\", INDEX(S:S,SMALL(T:T,1+ROW(S1)-ROW(S$1))))","v":"MAS XX "},{"$f":"'DATA S1'!V1","v":"ASTREINTE SLT"},{"$f":"IF(COUNTIF('PLANNING PRINCIPAL'!$I$651:$X$651,V1)>=1,\"\",ROW())","v":1},{"$f":"IF(ROW(V1)-ROW(V$1)+1>COUNT(W:W),\"\", INDEX(V:V,SMALL(W:W,1+ROW(V1)-ROW(V$1))))","v":"ASTREINTE SLT"}]
[{"$f":"'DATA S1'!A2","v":"MAS YY "},{"$f":"IF(COUNTIF('PLANNING PRINCIPAL'!$I$631:$X$631,A2)>=1,\"\",ROW())","v":2},{"$f":"IF(ROW(A2)-ROW(A$1)+1>COUNT(B:B),\"\", INDEX(A:A,SMALL(B:B,1+ROW(A2)-ROW(A$1))))","v":"MAS YY "},"MAS YY ",{"$f":"IF(COUNTIF('PLANNING PRINCIPAL'!$I$634:$X$634,D2)>=1,\"\",ROW())","v":2},{"$f":"IF(ROW(D2)-ROW(D$1)+1>COUNT(E:E),\"\", INDEX(D:D,SMALL(E:E,1+ROW(D2)-ROW(D$1))))","v":"MAS YY "},{"$f":"A2","v":"MAS YY "},{"$f":"IF(COUNTIF('PLANNING PRINCIPAL'!$I$637:$X$637,G2)>=1,\"\",ROW())","v":2},{"$f":"IF(ROW(G2)-ROW(G$1)+1>COUNT(H:H),\"\", INDEX(G:G,SMALL(H:H,1+ROW(G2)-ROW(G$1))))","v":"MAS YY "},{"$f":"A2","v":"MAS YY "},{"$f":"IF(COUNTIF('PLANNING PRINCIPAL'!$I$640:$X$640,J2)>=1,\"\",ROW())","v":2},{"$f":"IF(ROW(J2)-ROW(J$1)+1>COUNT(K:K),\"\", INDEX(J:J,SMALL(K:K,1+ROW(J2)-ROW(J$1))))","v":"MAS YY "},{"$f":"A2","v":"MAS YY "},{"$f":"IF(COUNTIF('PLANNING PRINCIPAL'!$I$643:$X$643,M2)>=1,\"\",ROW())","v":2},{"$f":"IF(ROW(M2)-ROW(M$1)+1>COUNT(N:N),\"\", INDEX(M:M,SMALL(N:N,1+ROW(M2)-ROW(M$1))))","v":"MAS YY "},{"$f":"A2","v":"MAS YY "},{"$f":"IF(COUNTIF('PLANNING PRINCIPAL'!$I$646:$X$646,P2)>=1,\"\",ROW())","v":2},{"$f":"IF(ROW(P2)-ROW(P$1)+1>COUNT(Q:Q),\"\", INDEX(P:P,SMALL(Q:Q,1+ROW(P2)-ROW(P$1))))","v":"MAS YY "},{"$f":"A2","v":"MAS YY "},{"$f":"IF(COUNTIF('PLANNING PRINCIPAL'!$I$649:$X$649,S2)>=1,\"\",ROW())","v":2},{"$f":"IF(ROW(S2)-ROW(S$1)+1>COUNT(T:T),\"\", INDEX(S:S,SMALL(T:T,1+ROW(S2)-ROW(S$1))))","v":"MAS YY "},{"$f":"'DATA S1'!V2","v":"ASTREINTE EP"},{"$f":"IF(COUNTIF('PLANNING PRINCIPAL'!$I$651:$X$651,V2)>=1,\"\",ROW())","v":2},{"$f":"IF(ROW(V2)-ROW(V$1)+1>COUNT(W:W),\"\", INDEX(V:V,SMALL(W:W,1+ROW(V2)-ROW(V$1))))","v":"ASTREINTE EP"}]
[{"$f":"'DATA S1'!A3","v":"MAS VQ "},{"$f":"IF(COUNTIF('PLANNING PRINCIPAL'!$I$631:$X$631,A3)>=1,\"\",ROW())","v":3},"MAS VQ ","MAS VQ ",{"$f":"IF(COUNTIF('PLANNING PRINCIPAL'!$I$634:$X$634,D3)>=1,\"\",ROW())","v":3},"MAS VQ ","MAS VQ ",{"$f":"IF(COUNTIF('PLANNING PRINCIPAL'!$I$637:$X$637,G3)>=1,\"\",ROW())","v":3},"MAS VQ ","MAS VQ ",{"$f":"IF(COUNTIF('PLANNING PRINCIPAL'!$I$640:$X$640,J3)>=1,\"\",ROW())","v":3},"MAS VQ ","MAS VQ ",{"$f":"IF(COUNTIF('PLANNING PRINCIPAL'!$I$643:$X$643,M3)>=1,\"\",ROW())","v":3},"MAS VQ ","MAS VQ ",{"$f":"IF(COUNTIF('PLANNING PRINCIPAL'!$I$646:$X$646,P3)>=1,\"\",ROW())","v":3},"MAS VQ ","MAS VQ ",{"$f":"IF(COUNTIF('PLANNING PRINCIPAL'!$I$649:$X$649,S3)>=1,\"\",ROW())","v":3},"MAS VQ ",{"$f":"'DATA S1'!V3","v":"V NOC CHARTRES"},{"$f":"IF(COUNTIF('PLANNING PRINCIPAL'!$I$651:$X$651,V3)>=1,\"\",ROW())","v":3},"V NOC CHARTRES"]
[{"$f":"'DATA S1'!A4","v":"MAS PL "},{"$f":"IF(COUNTIF('PLANNING PRINCIPAL'!$I$631:$X$631,A4)>=1,\"\",ROW())","v":4},"MAS PL ","MAS PL ",{"$f":"IF(COUNTIF('PLANNING PRINCIPAL'!$I$634:$X$634,D4)>=1,\"\",ROW())","v":4},"MAS PL ","MAS PL ",{"$f":"IF(COUNTIF('PLANNING PRINCIPAL'!$I$637:$X$637,G4)>=1,\"\",ROW())","v":4},"MAS PL ","MAS PL ",{"$f":"IF(COUNTIF('PLANNING PRINCIPAL'!$I$640:$X$640,J4)>=1,\"\",ROW())","v":4},"MAS PL ","MAS PL ",{"$f":"IF(COUNTIF('PLANNING PRINCIPAL'!$I$643:$X$643,M4)>=1,\"\",ROW())","v":4},"MAS PL ","MAS PL ",{"$f":"IF(COUNTIF('PLANNING PRINCIPAL'!$I$646:$X$646,P4)>=1,\"\",ROW())","v":4},"MAS PL ","MAS PL ",{"$f":"IF(COUNTIF('PLANNING PRINCIPAL'!$I$649:$X$649,S4)>=1,\"\",ROW())","v":4},"MAS PL ",{"$f":"'DATA S1'!V4","v":"V NOC EPERNON"},{"$f":"IF(COUNTIF('PLANNING PRINCIPAL'!$I$651:$X$651,V4)>=1,\"\",ROW())","v":4},"V NOC EPERNON"]
[{"$f":"'DATA S1'!A5","v":"BEN VL PT "},{"$f":"IF(COUNTIF('PLANNING PRINCIPAL'!$I$631:$X$631,A5)>=1,\"\",ROW())","v":5},"BEN VL PT ","BEN VL PT ",{"$f":"IF(COUNTIF('PLANNING PRINCIPAL'!$I$634:$X$634,D5)>=1,\"\",ROW())","v":5},"BEN VL PT ","BEN VL PT ",{"$f":"IF(COUNTIF('PLANNING PRINCIPAL'!$I$637:$X$637,G5)>=1,\"\",ROW())","v":5},"BEN VL PT ","BEN VL PT ",{"$f":"IF(COUNTIF('PLANNING PRINCIPAL'!$I$640:$X$640,J5)>=1,\"\",ROW())","v":5},"BEN VL PT ","BEN VL PT ",{"$f":"IF(COUNTIF('PLANNING PRINCIPAL'!$I$643:$X$643,M5)>=1,\"\",ROW())","v":5},"BEN VL PT ","BEN VL PT ",{"$f":"IF(COUNTIF('PLANNING PRINCIPAL'!$I$646:$X$646,P5)>=1,\"\",ROW())","v":5},"BEN VL PT ","BEN VL PT ",{"$f":"IF(COUNTIF('PLANNING PRINCIPAL'!$I$649:$X$649,S5)>=1,\"\",ROW())","v":5},"BEN VL PT ",{"$f":"'DATA S1'!V5","v":"V NOC HANCHES"},{"$f":"IF(COUNTIF('PLANNING PRINCIPAL'!$I$651:$X$651,V5)>=1,\"\",ROW())","v":5},"V NOC HANCHES"]
[{"$f":"'DATA S1'!A6","v":"BEN 19T "},{"$f":"IF(COUNTIF('PLANNING PRINCIPAL'!$I$631:$X$631,A6)>=1,\"\",ROW())","v":6},"BEN 19T ","BEN 19T ",{"$f":"IF(COUNTIF('PLANNING PRINCIPAL'!$I$634:$X$634,D6)>=1,\"\",ROW())","v":6},"BEN 19T ","BEN 19T ",{"$f":"IF(COUNTIF('PLANNING PRINCIPAL'!$I$637:$X$637,G6)>=1,\"\",ROW())","v":6},"BEN 19T ","BEN 19T ",{"$f":"IF(COUNTIF('PLANNING PRINCIPAL'!$I$640:$X$640,J6)>=1,\"\",ROW())","v":6},"BEN 19T ","BEN 19T ",{"$f":"IF(COUNTIF('PLANNING PRINCIPAL'!$I$643:$X$643,M6)>=1,\"\",ROW())","v":6},"BEN 19T ","BEN 19T ",{"$f":"IF(COUNTIF('PLANNING PRINCIPAL'!$I$646:$X$646,P6)>=1,\"\",ROW())","v":6},"BEN 19T ","BEN 19T ",{"$f":"IF(COUNTIF('PLANNING PRINCIPAL'!$I$649:$X$649,S6)>=1,\"\",ROW())","v":6},"BEN 19T ",{"$f":"'DATA S1'!V6","v":"V NOC MAINTENON"},{"$f":"IF(COUNTIF('PLANNING PRINCIPAL'!$I$651:$X$651,V6)>=1,\"\",ROW())","v":6},"V NOC MAINTENON"]
[{"$f":"'DATA S1'!A7","v":"BEN 13T "},{"$f":"IF(COUNTIF('PLANNING PRINCIPAL'!$I$631:$X$631,A7)>=1,\"\",ROW())","v":7},"BEN 13T ","BEN 13T ",{"$f":"IF(COUNTIF('PLANNING PRINCIPAL'!$I$634:$X$634,D7)>=1,\"\",ROW())","v":7},"BEN 13T ","BEN 13T ",{"$f":"IF(COUNTIF('PLANNING PRINCIPAL'!$I$637:$X$637,G7)>=1,\"\",ROW())","v":7},"BEN 13T ","BEN 13T ",{"$f":"IF(COUNTIF('PLANNING PRINCIPAL'!$I$640:$X$640,J7)>=1,\"\",ROW())","v":7},"BEN 13T ","BEN 13T ",{"$f":"IF(COUNTIF('PLANNING PRINCIPAL'!$I$643:$X$643,M7)>=1,\"\",ROW())","v":7},"BEN 13T ","BEN 13T ",{"$f":"IF(COUNTIF('PLANNING PRINCIPAL'!$I$646:$X$646,P7)>=1,\"\",ROW())","v":7},"BEN 13T ","BEN 13T ",{"$f":"IF(COUNTIF('PLANNING PRINCIPAL'!$I$649:$X$649,S7)>=1,\"\",ROW())","v":7},"BEN 13T ",null,{"$f":"IF(COUNTIF('PLANNING PRINCIPAL'!$I$651:$X$651,V7)>=1,\"\",ROW())","v":7}]
[{"$f":"'DATA S1'!A8","v":"NAC VL 18M "},{"$f":"IF(COUNTIF('PLANNING PRINCIPAL'!$I$631:$X$631,A8)>=1,\"\",ROW())","v":8},"NAC VL 18M ","NAC VL 18M ",{"$f":"IF(COUNTIF('PLANNING PRINCIPAL'!$I$634:$X$634,D8)>=1,\"\",ROW())","v":8},"NAC VL 18M ","NAC VL 18M ",{"$f":"IF(COUNTIF('PLANNING PRINCIPAL'!$I$637:$X$637,G8)>=1,\"\",ROW())","v":8},"NAC VL 18M ","NAC VL 18M ",{"$f":"IF(COUNTIF('PLANNING PRINCIPAL'!$I$640:$X$640,J8)>=1,\"\",ROW())","v":8},"NAC VL 18M ","NAC VL 18M ",{"$f":"IF(COUNTIF('PLANNING PRINCIPAL'!$I$643:$X$643,M8)>=1,\"\",ROW())","v":8},"NAC VL 18M ","NAC VL 18M ",{"$f":"IF(COUNTIF('PLANNING PRINCIPAL'!$I$646:$X$646,P8)>=1,\"\",ROW())","v":8},"NAC VL 18M ","NAC VL 18M ",{"$f":"IF(COUNTIF('PLANNING PRINCIPAL'!$I$649:$X$649,S8)>=1,\"\",ROW())","v":8},"NAC VL 18M ",null,{"$f":"IF(COUNTIF('PLANNING PRINCIPAL'!$I$651:$X$651,V8)>=1,\"\",ROW())","v":8}]
[{"$f":"'DATA S1'!A9","v":"NAC EGIE"},{"$f":"IF(COUNTIF('PLANNING PRINCIPAL'!$I$631:$X$631,A9)>=1,\"\",ROW())","v":9},"NAC EGIE","NAC EGIE",{"$f":"IF(COUNTIF('PLANNING PRINCIPAL'!$I$634:$X$634,D9)>=1,\"\",ROW())","v":9},"NAC EGIE","NAC EGIE",{"$f":"IF(COUNTIF('PLANNING PRINCIPAL'!$I$637:$X$637,G9)>=1,\"\",ROW())","v":9},"NAC EGIE","NAC EGIE",{"$f":"IF(COUNTIF('PLANNING PRINCIPAL'!$I$640:$X$640,J9)>=1,\"\",ROW())","v":9},"NAC EGIE","NAC EGIE",{"$f":"IF(COUNTIF('PLANNING PRINCIPAL'!$I$643:$X$643,M9)>=1,\"\",ROW())","v":9},"NAC EGIE","NAC EGIE",{"$f":"IF(COUNTIF('PLANNING PRINCIPAL'!$I$646:$X$646,P9)>=1,\"\",ROW())","v":9},"NAC EGIE","NAC EGIE",{"$f":"IF(COUNTIF('PLANNING PRINCIPAL'!$I$649:$X$649,S9)>=1,\"\",ROW())","v":9},"NAC EGIE",null,{"$f":"IF(COUNTIF('PLANNING PRINCIPAL'!$I$651:$X$651,V9)>=1,\"\",ROW())","v":9}]
[{"$f":"'DATA S1'!A10","v":"NAC COMI "},{"$f":"IF(COUNTIF('PLANNING PRINCIPAL'!$I$631:$X$631,A10)>=1,\"\",ROW())","v":10},"NAC COMI ","NAC COMI ",{"$f":"IF(COUNTIF('PLANNING PRINCIPAL'!$I$634:$X$634,D10)>=1,\"\",ROW())","v":10},"NAC COMI ","NAC COMI ",{"$f":"IF(COUNTIF('PLANNING PRINCIPAL'!$I$637:$X$637,G10)>=1,\"\",ROW())","v":10},"NAC COMI ","NAC COMI ",{"$f":"IF(COUNTIF('PLANNING PRINCIPAL'!$I$640:$X$640,J10)>=1,\"\",ROW())","v":10},"NAC COMI ","NAC COMI ",{"$f":"IF(COUNTIF('PLANNING PRINCIPAL'!$I$643:$X$643,M10)>=1,\"\",ROW())","v":10},"NAC COMI ","NAC COMI ",{"$f":"IF(COUNTIF('PLANNING PRINCIPAL'!$I$646:$X$646,P10)>=1,\"\",ROW())","v":10},"NAC COMI ","NAC COMI ",{"$f":"IF(COUNTIF('PLANNING PRINCIPAL'!$I$649:$X$649,S10)>=1,\"\",ROW())","v":10},"NAC COMI ",null,{"$f":"IF(COUNTIF('PLANNING PRINCIPAL'!$I$651:$X$651,V10)>=1,\"\",ROW())","v":10}]
[{"$f":"'DATA S1'!A11","v":"#####LOCATION#####"},{"$f":"IF(COUNTIF('PLANNING PRINCIPAL'!$I$631:$X$631,A11)>=1,\"\",ROW())","v":11},"#####LOCATION#####","#####LOCATION#####",{"$f":"IF(COUNTIF('PLANNING PRINCIPAL'!$I$634:$X$634,D11)>=1,\"\",ROW())","v":11},"#####LOCATION#####","#####LOCATION#####",{"$f":"IF(COUNTIF('PLANNING PRINCIPAL'!$I$637:$X$637,G11)>=1,\"\",ROW())","v":11},"#####LOCATION#####","#####LOCATION#####",{"$f":"IF(COUNTIF('PLANNING PRINCIPAL'!$I$640:$X$640,J11)>=1,\"\",ROW())","v":11},"#####LOCATION#####","#####LOCATION#####",{"$f":"IF(COUNTIF('PLANNING PRINCIPAL'!$I$643:$X$643,M11)>=1,\"\",ROW())","v":11},"#####LOCATION#####","#####LOCATION#####",{"$f":"IF(COUNTIF('PLANNING PRINCIPAL'!$I$646:$X$646,P11)>=1,\"\",ROW())","v":11},"#####LOCATION#####","#####LOCATION#####",{"$f":"IF(COUNTIF('PLANNING PRINCIPAL'!$I$649:$X$649,S11)>=1,\"\",ROW())","v":11},"#####LOCATION#####",null,{"$f":"IF(COUNTIF('PLANNING PRINCIPAL'!$I$651:$X$651,V11)>=1,\"\",ROW())","v":11}]
[{"$f":"'DATA S1'!A12","v":"LOC NAC SOLOMAT"},{"$f":"IF(COUNTIF('PLANNING PRINCIPAL'!$I$631:$X$631,A12)>=1,\"\",ROW())","v":12},"LOC NAC SOLOMAT","LOC NAC SOLOMAT",{"$f":"IF(COUNTIF('PLANNING PRINCIPAL'!$I$634:$X$634,D12)>=1,\"\",ROW())","v":12},"LOC NAC SOLOMAT","LOC NAC SOLOMAT",{"$f":"IF(COUNTIF('PLANNING PRINCIPAL'!$I$637:$X$637,G12)>=1,\"\",ROW())","v":12},"LOC NAC SOLOMAT","LOC NAC SOLOMAT",{"$f":"IF(COUNTIF('PLANNING PRINCIPAL'!$I$640:$X$640,J12)>=1,\"\",ROW())","v":12},"LOC NAC SOLOMAT","LOC NAC SOLOMAT",{"$f":"IF(COUNTIF('PLANNING PRINCIPAL'!$I$643:$X$643,M12)>=1,\"\",ROW())","v":12},"LOC NAC SOLOMAT","LOC NAC SOLOMAT",{"$f":"IF(COUNTIF('PLANNING PRINCIPAL'!$I$646:$X$646,P12)>=1,\"\",ROW())","v":12},"LOC NAC SOLOMAT","LOC NAC SOLOMAT",{"$f":"IF(COUNTIF('PLANNING PRINCIPAL'!$I$649:$X$649,S12)>=1,\"\",ROW())","v":12},"LOC NAC SOLOMAT",null,{"$f":"IF(COUNTIF('PLANNING PRINCIPAL'!$I$651:$X$651,V12)>=1,\"\",ROW())","v":12}]
[{"$f":"'DATA S1'!A13","v":"LOC NAC AEB"},{"$f":"IF(COUNTIF('PLANNING PRINCIPAL'!$I$631:$X$631,A13)>=1,\"\",ROW())","v":13},"LOC NAC AEB","LOC NAC AEB",{"$f":"IF(COUNTIF('PLANNING PRINCIPAL'!$I$634:$X$634,D13)>=1,\"\",ROW())","v":13},"LOC NAC AEB","LOC NAC AEB",{"$f":"IF(COUNTIF('PLANNING PRINCIPAL'!$I$637:$X$637,G13)>=1,\"\",ROW())","v":13},"LOC NAC AEB","LOC NAC AEB",{"$f":"IF(COUNTIF('PLANNING PRINCIPAL'!$I$640:$X$640,J13)>=1,\"\",ROW())","v":13},"LOC NAC AEB","LOC NAC AEB",{"$f":"IF(COUNTIF('PLANNING PRINCIPAL'!$I$643:$X$643,M13)>=1,\"\",ROW())","v":13},"LOC NAC AEB","LOC NAC AEB",{"$f":"IF(COUNTIF('PLANNING PRINCIPAL'!$I$646:$X$646,P13)>=1,\"\",ROW())","v":13},"LOC NAC AEB","LOC NAC AEB",{"$f":"IF(COUNTIF('PLANNING PRINCIPAL'!$I$649:$X$649,S13)>=1,\"\",ROW())","v":13},"LOC NAC AEB",null,{"$f":"IF(COUNTIF('PLANNING PRINCIPAL'!$I$651:$X$651,V13)>=1,\"\",ROW())","v":13}]
[{"$f":"'DATA S1'!A14","v":"LOC NAC INTERLOC"},{"$f":"IF(COUNTIF('PLANNING PRINCIPAL'!$I$631:$X$631,A14)>=1,\"\",ROW())","v":14},"LOC NAC INTERLOC","LOC NAC INTERLOC",{"$f":"IF(COUNTIF('PLANNING PRINCIPAL'!$I$634:$X$634,D14)>=1,\"\",ROW())","v":14},"LOC NAC INTERLOC","LOC NAC INTERLOC",{"$f":"IF(COUNTIF('PLANNING PRINCIPAL'!$I$637:$X$637,G14)>=1,\"\",ROW())","v":14},"LOC NAC INTERLOC","LOC NAC INTERLOC",{"$f":"IF(COUNTIF('PLANNING PRINCIPAL'!$I$640:$X$640,J14)>=1,\"\",ROW())","v":14},"LOC NAC INTERLOC","LOC NAC INTERLOC",{"$f":"IF(COUNTIF('PLANNING PRINCIPAL'!$I$643:$X$643,M14)>=1,\"\",ROW())","v":14},"LOC NAC INTERLOC","LOC NAC INTERLOC",{"$f":"IF(COUNTIF('PLANNING PRINCIPAL'!$I$646:$X$646,P14)>=1,\"\",ROW())","v":14},"LOC NAC INTERLOC","LOC NAC INTERLOC",{"$f":"IF(COUNTIF('PLANNING PRINCIPAL'!$I$649:$X$649,S14)>=1,\"\",ROW())","v":14},"LOC NAC INTERLOC",null,{"$f":"IF(COUNTIF('PLANNING PRINCIPAL'!$I$651:$X$651,V14)>=1,\"\",ROW())","v":14}]
[{"$f":"'DATA S1'!A15","v":"LOC NAC KILOUTOU"},{"$f":"IF(COUNTIF('PLANNING PRINCIPAL'!$I$631:$X$631,A15)>=1,\"\",ROW())","v":15},"LOC NAC KILOUTOU","LOC NAC KILOUTOU",{"$f":"IF(COUNTIF('PLANNING PRINCIPAL'!$I$634:$X$634,D15)>=1,\"\",ROW())","v":15},"LOC NAC KILOUTOU","LOC NAC KILOUTOU",{"$f":"IF(COUNTIF('PLANNING PRINCIPAL'!$I$637:$X$637,G15)>=1,\"\",ROW())","v":15},"LOC NAC KILOUTOU","LOC NAC KILOUTOU",{"$f":"IF(COUNTIF('PLANNING PRINCIPAL'!$I$640:$X$640,J15)>=1,\"\",ROW())","v":15},"LOC NAC KILOUTOU","LOC NAC KILOUTOU",{"$f":"IF(COUNTIF('PLANNING PRINCIPAL'!$I$643:$X$643,M15)>=1,\"\",ROW())","v":15},"LOC NAC KILOUTOU","LOC NAC KILOUTOU",{"$f":"IF(COUNTIF('PLANNING PRINCIPAL'!$I$646:$X$646,P15)>=1,\"\",ROW())","v":15},"LOC NAC KILOUTOU","LOC NAC KILOUTOU",{"$f":"IF(COUNTIF('PLANNING PRINCIPAL'!$I$649:$X$649,S15)>=1,\"\",ROW())","v":15},"LOC NAC KILOUTOU",null,{"$f":"IF(COUNTIF('PLANNING PRINCIPAL'!$I$651:$X$651,V15)>=1,\"\",ROW())","v":15}]
[{"$f":"'DATA S1'!A16","v":"LOC NAC AEB"},{"$f":"IF(COUNTIF('PLANNING PRINCIPAL'!$I$631:$X$631,A16)>=1,\"\",ROW())","v":16},"LOC NAC AEB","LOC NAC AEB",{"$f":"IF(COUNTIF('PLANNING PRINCIPAL'!$I$634:$X$634,D16)>=1,\"\",ROW())","v":16},"LOC NAC AEB","LOC NAC AEB",{"$f":"IF(COUNTIF('PLANNING PRINCIPAL'!$I$637:$X$637,G16)>=1,\"\",ROW())","v":16},"LOC NAC AEB","LOC NAC AEB",{"$f":"IF(COUNTIF('PLANNING PRINCIPAL'!$I$640:$X$640,J16)>=1,\"\",ROW())","v":16},"LOC NAC AEB","LOC NAC AEB",{"$f":"IF(COUNTIF('PLANNING PRINCIPAL'!$I$643:$X$643,M16)>=1,\"\",ROW())","v":16},"LOC NAC AEB","LOC NAC AEB",{"$f":"IF(COUNTIF('PLANNING PRINCIPAL'!$I$646:$X$646,P16)>=1,\"\",ROW())","v":16},"LOC NAC AEB","LOC NAC AEB",{"$f":"IF(COUNTIF('PLANNING PRINCIPAL'!$I$649:$X$649,S16)>=1,\"\",ROW())","v":16},"LOC NAC AEB",null,{"$f":"IF(COUNTIF('PLANNING PRINCIPAL'!$I$651:$X$651,V16)>=1,\"\",ROW())","v":16}]
[{"$f":"'DATA S1'!A17","v":"LOC PELLE SOLOMAT"},{"$f":"IF(COUNTIF('PLANNING PRINCIPAL'!$I$631:$X$631,A17)>=1,\"\",ROW())","v":17},"LOC PELLE SOLOMAT","LOC PELLE SOLOMAT",{"$f":"IF(COUNTIF('PLANNING PRINCIPAL'!$I$634:$X$634,D17)>=1,\"\",ROW())","v":17},"LOC PELLE SOLOMAT","LOC PELLE SOLOMAT",{"$f":"IF(COUNTIF('PLANNING PRINCIPAL'!$I$637:$X$637,G17)>=1,\"\",ROW())","v":17},"LOC PELLE SOLOMAT","LOC PELLE SOLOMAT",{"$f":"IF(COUNTIF('PLANNING PRINCIPAL'!$I$640:$X$640,J17)>=1,\"\",ROW())","v":17},"LOC PELLE SOLOMAT","LOC PELLE SOLOMAT",{"$f":"IF(COUNTIF('PLANNING PRINCIPAL'!$I$643:$X$643,M17)>=1,\"\",ROW())","v":17},"LOC PELLE SOLOMAT","LOC PELLE SOLOMAT",{"$f":"IF(COUNTIF('PLANNING PRINCIPAL'!$I$646:$X$646,P17)>=1,\"\",ROW())","v":17},"LOC PELLE SOLOMAT","LOC PELLE SOLOMAT",{"$f":"IF(COUNTIF('PLANNING PRINCIPAL'!$I$649:$X$649,S17)>=1,\"\",ROW())","v":17},"LOC PELLE SOLOMAT",null,{"$f":"IF(COUNTIF('PLANNING PRINCIPAL'!$I$651:$X$651,V17)>=1,\"\",ROW())","v":17}]
[{"$f":"'DATA S1'!A18","v":"LOC PELLE AEB"},{"$f":"IF(COUNTIF('PLANNING PRINCIPAL'!$I$631:$X$631,A18)>=1,\"\",ROW())","v":18},"LOC PELLE AEB","LOC PELLE AEB",{"$f":"IF(COUNTIF('PLANNING PRINCIPAL'!$I$634:$X$634,D18)>=1,\"\",ROW())","v":18},"LOC PELLE AEB","LOC PELLE AEB",{"$f":"IF(COUNTIF('PLANNING PRINCIPAL'!$I$637:$X$637,G18)>=1,\"\",ROW())","v":18},"LOC PELLE AEB","LOC PELLE AEB",{"$f":"IF(COUNTIF('PLANNING PRINCIPAL'!$I$640:$X$640,J18)>=1,\"\",ROW())","v":18},"LOC PELLE AEB","LOC PELLE AEB",{"$f":"IF(COUNTIF('PLANNING PRINCIPAL'!$I$643:$X$643,M18)>=1,\"\",ROW())","v":18},"LOC PELLE AEB","LOC PELLE AEB",{"$f":"IF(COUNTIF('PLANNING PRINCIPAL'!$I$646:$X$646,P18)>=1,\"\",ROW())","v":18},"LOC PELLE AEB","LOC PELLE AEB",{"$f":"IF(COUNTIF('PLANNING PRINCIPAL'!$I$649:$X$649,S18)>=1,\"\",ROW())","v":18},"LOC PELLE AEB",null,{"$f":"IF(COUNTIF('PLANNING PRINCIPAL'!$I$651:$X$651,V18)>=1,\"\",ROW())","v":18}]
[{"$f":"'DATA S1'!A19","v":"LOC PELLE INTERLOC"},{"$f":"IF(COUNTIF('PLANNING PRINCIPAL'!$I$631:$X$631,A19)>=1,\"\",ROW())","v":19},"LOC PELLE INTERLOC","LOC PELLE INTERLOC",{"$f":"IF(COUNTIF('PLANNING PRINCIPAL'!$I$634:$X$634,D19)>=1,\"\",ROW())","v":19},"LOC PELLE INTERLOC","LOC PELLE INTERLOC",{"$f":"IF(COUNTIF('PLANNING PRINCIPAL'!$I$637:$X$637,G19)>=1,\"\",ROW())","v":19},"LOC PELLE INTERLOC","LOC PELLE INTERLOC",{"$f":"IF(COUNTIF('PLANNING PRINCIPAL'!$I$640:$X$640,J19)>=1,\"\",ROW())","v":19},"LOC PELLE INTERLOC","LOC PELLE INTERLOC",{"$f":"IF(COUNTIF('PLANNING PRINCIPAL'!$I$643:$X$643,M19)>=1,\"\",ROW())","v":19},"LOC PELLE INTERLOC","LOC PELLE INTERLOC",{"$f":"IF(COUNTIF('PLANNING PRINCIPAL'!$I$646:$X$646,P19)>=1,\"\",ROW())","v":19},"LOC PELLE INTERLOC","LOC PELLE INTERLOC",{"$f":"IF(COUNTIF('PLANNING PRINCIPAL'!$I$649:$X$649,S19)>=1,\"\",ROW())","v":19},"LOC PELLE INTERLOC",null,{"$f":"IF(COUNTIF('PLANNING PRINCIPAL'!$I$651:$X$651,V19)>=1,\"\",ROW())","v":19}]
[{"$f":"'DATA S1'!A20","v":"LOC PELLE KILOUTOU"},{"$f":"IF(COUNTIF('PLANNING PRINCIPAL'!$I$631:$X$631,A20)>=1,\"\",ROW())","v":20},"LOC PELLE KILOUTOU","LOC PELLE KILOUTOU",{"$f":"IF(COUNTIF('PLANNING PRINCIPAL'!$I$634:$X$634,D20)>=1,\"\",ROW())","v":20},"LOC PELLE KILOUTOU","LOC PELLE KILOUTOU",{"$f":"IF(COUNTIF('PLANNING PRINCIPAL'!$I$637:$X$637,G20)>=1,\"\",ROW())","v":20},"LOC PELLE KILOUTOU","LOC PELLE KILOUTOU",{"$f":"IF(COUNTIF('PLANNING PRINCIPAL'!$I$640:$X$640,J20)>=1,\"\",ROW())","v":20},"LOC PELLE KILOUTOU","LOC PELLE KILOUTOU",{"$f":"IF(COUNTIF('PLANNING PRINCIPAL'!$I$643:$X$643,M20)>=1,\"\",ROW())","v":20},"LOC PELLE KILOUTOU","LOC PELLE KILOUTOU",{"$f":"IF(COUNTIF('PLANNING PRINCIPAL'!$I$646:$X$646,P20)>=1,\"\",ROW())","v":20},"LOC PELLE KILOUTOU","LOC PELLE KILOUTOU",{"$f":"IF(COUNTIF('PLANNING PRINCIPAL'!$I$649:$X$649,S20)>=1,\"\",ROW())","v":20},"LOC PELLE KILOUTOU",null,{"$f":"IF(COUNTIF('PLANNING PRINCIPAL'!$I$651:$X$651,V20)>=1,\"\",ROW())","v":20}]
[null,{"$f":"IF(COUNTIF('PLANNING PRINCIPAL'!$I$631:$X$631,A21)>=1,\"\",ROW())","v":21},null,null,{"$f":"IF(COUNTIF('PLANNING PRINCIPAL'!$I$634:$X$634,D21)>=1,\"\",ROW())","v":21},null,null,{"$f":"IF(COUNTIF('PLANNING PRINCIPAL'!$I$637:$X$637,G21)>=1,\"\",ROW())","v":21},null,null,{"$f":"IF(COUNTIF('PLANNING PRINCIPAL'!$I$640:$X$640,J21)>=1,\"\",ROW())","v":21},null,null,{"$f":"IF(COUNTIF('PLANNING PRINCIPAL'!$I$643:$X$643,M21)>=1,\"\",ROW())","v":21},null,null,{"$f":"IF(COUNTIF('PLANNING PRINCIPAL'!$I$646:$X$646,P21)>=1,\"\",ROW())","v":21},null,null,{"$f":"IF(COUNTIF('PLANNING PRINCIPAL'!$I$649:$X$649,S21)>=1,\"\",ROW())","v":21},null,null,{"$f":"IF(COUNTIF('PLANNING PRINCIPAL'!$I$651:$X$651,V21)>=1,\"\",ROW())","v":21}]
[null,{"$f":"IF(COUNTIF('PLANNING PRINCIPAL'!$I$631:$X$631,A22)>=1,\"\",ROW())","v":22},null,null,{"$f":"IF(COUNTIF('PLANNING PRINCIPAL'!$I$634:$X$634,D22)>=1,\"\",ROW())","v":22},null,null,{"$f":"IF(COUNTIF('PLANNING PRINCIPAL'!$I$637:$X$637,G22)>=1,\"\",ROW())","v":22},null,null,{"$f":"IF(COUNTIF('PLANNING PRINCIPAL'!$I$640:$X$640,J22)>=1,\"\",ROW())","v":22},null,null,{"$f":"IF(COUNTIF('PLANNING PRINCIPAL'!$I$643:$X$643,M22)>=1,\"\",ROW())","v":22},null,null,{"$f":"IF(COUNTIF('PLANNING PRINCIPAL'!$I$646:$X$646,P22)>=1,\"\",ROW())","v":22},null,null,{"$f":"IF(COUNTIF('PLANNING PRINCIPAL'!$I$649:$X$649,S22)>=1,\"\",ROW())","v":22},null,null,{"$f":"IF(COUNTIF('PLANNING PRINCIPAL'!$I$651:$X$651,V22)>=1,\"\",ROW())","v":22}]
[null,{"$f":"IF(COUNTIF('PLANNING PRINCIPAL'!$I$631:$X$631,A23)>=1,\"\",ROW())","v":23},null,null,{"$f":"IF(COUNTIF('PLANNING PRINCIPAL'!$I$634:$X$634,D23)>=1,\"\",ROW())","v":23},null,null,{"$f":"IF(COUNTIF('PLANNING PRINCIPAL'!$I$637:$X$637,G23)>=1,\"\",ROW())","v":23},null,null,{"$f":"IF(COUNTIF('PLANNING PRINCIPAL'!$I$640:$X$640,J23)>=1,\"\",ROW())","v":23},null,null,{"$f":"IF(COUNTIF('PLANNING PRINCIPAL'!$I$643:$X$643,M23)>=1,\"\",ROW())","v":23},null,null,{"$f":"IF(COUNTIF('PLANNING PRINCIPAL'!$I$646:$X$646,P23)>=1,\"\",ROW())","v":23},null,null,{"$f":"IF(COUNTIF('PLANNING PRINCIPAL'!$I$649:$X$649,S23)>=1,\"\",ROW())","v":23},null,null,{"$f":"IF(COUNTIF('PLANNING PRINCIPAL'!$I$651:$X$651,V23)>=1,\"\",ROW())","v":23}]
[null,{"$f":"IF(COUNTIF('PLANNING PRINCIPAL'!$I$631:$X$631,A24)>=1,\"\",ROW())","v":24},null,null,{"$f":"IF(COUNTIF('PLANNING PRINCIPAL'!$I$634:$X$634,D24)>=1,\"\",ROW())","v":24},null,null,{"$f":"IF(COUNTIF('PLANNING PRINCIPAL'!$I$637:$X$637,G24)>=1,\"\",ROW())","v":24},null,null,{"$f":"IF(COUNTIF('PLANNING PRINCIPAL'!$I$640:$X$640,J24)>=1,\"\",ROW())","v":24},null,null,{"$f":"IF(COUNTIF('PLANNING PRINCIPAL'!$I$643:$X$643,M24)>=1,\"\",ROW())","v":24},null,null,{"$f":"IF(COUNTIF('PLANNING PRINCIPAL'!$I$646:$X$646,P24)>=1,\"\",ROW())","v":24},null,null,{"$f":"IF(COUNTIF('PLANNING PRINCIPAL'!$I$649:$X$649,S24)>=1,\"\",ROW())","v":24},null,null,{"$f":"IF(COUNTIF('PLANNING PRINCIPAL'!$I$651:$X$651,V24)>=1,\"\",ROW())","v":24}]
[null,{"$f":"IF(COUNTIF('PLANNING PRINCIPAL'!$I$631:$X$631,A25)>=1,\"\",ROW())","v":25},null,null,{"$f":"IF(COUNTIF('PLANNING PRINCIPAL'!$I$634:$X$634,D25)>=1,\"\",ROW())","v":25},null,null,{"$f":"IF(COUNTIF('PLANNING PRINCIPAL'!$I$637:$X$637,G25)>=1,\"\",ROW())","v":25},null,null,{"$f":"IF(COUNTIF('PLANNING PRINCIPAL'!$I$640:$X$640,J25)>=1,\"\",ROW())","v":25},null,null,{"$f":"IF(COUNTIF('PLANNING PRINCIPAL'!$I$643:$X$643,M25)>=1,\"\",ROW())","v":25},null,null,{"$f":"IF(COUNTIF('PLANNING PRINCIPAL'!$I$646:$X$646,P25)>=1,\"\",ROW())","v":25},null,null,{"$f":"IF(COUNTIF('PLANNING PRINCIPAL'!$I$649:$X$649,S25)>=1,\"\",ROW())","v":25},null,null,{"$f":"IF(COUNTIF('PLANNING PRINCIPAL'!$I$651:$X$651,V25)>=1,\"\",ROW())","v":25}]
[null,{"$f":"IF(COUNTIF('PLANNING PRINCIPAL'!$I$631:$X$631,A26)>=1,\"\",ROW())","v":26},null,null,{"$f":"IF(COUNTIF('PLANNING PRINCIPAL'!$I$634:$X$634,D26)>=1,\"\",ROW())","v":26},null,null,{"$f":"IF(COUNTIF('PLANNING PRINCIPAL'!$I$637:$X$637,G26)>=1,\"\",ROW())","v":26},null,null,{"$f":"IF(COUNTIF('PLANNING PRINCIPAL'!$I$640:$X$640,J26)>=1,\"\",ROW())","v":26},null,null,{"$f":"IF(COUNTIF('PLANNING PRINCIPAL'!$I$643:$X$643,M26)>=1,\"\",ROW())","v":26},null,null,{"$f":"IF(COUNTIF('PLANNING PRINCIPAL'!$I$646:$X$646,P26)>=1,\"\",ROW())","v":26},null,null,{"$f":"IF(COUNTIF('PLANNING PRINCIPAL'!$I$649:$X$649,S26)>=1,\"\",ROW())","v":26},null,null,{"$f":"IF(COUNTIF('PLANNING PRINCIPAL'!$I$651:$X$651,V26)>=1,\"\",ROW())","v":26}]
[null,{"$f":"IF(COUNTIF('PLANNING PRINCIPAL'!$I$631:$X$631,A27)>=1,\"\",ROW())","v":27},null,null,{"$f":"IF(COUNTIF('PLANNING PRINCIPAL'!$I$634:$X$634,D27)>=1,\"\",ROW())","v":27},null,null,{"$f":"IF(COUNTIF('PLANNING PRINCIPAL'!$I$637:$X$637,G27)>=1,\"\",ROW())","v":27},null,null,{"$f":"IF(COUNTIF('PLANNING PRINCIPAL'!$I$640:$X$640,J27)>=1,\"\",ROW())","v":27},null,null,{"$f":"IF(COUNTIF('PLANNING PRINCIPAL'!$I$643:$X$643,M27)>=1,\"\",ROW())","v":27},null,null,{"$f":"IF(COUNTIF('PLANNING PRINCIPAL'!$I$646:$X$646,P27)>=1,\"\",ROW())","v":27},null,null,{"$f":"IF(COUNTIF('PLANNING PRINCIPAL'!$I$649:$X$649,S27)>=1,\"\",ROW())","v":27},null,null,{"$f":"IF(COUNTIF('PLANNING PRINCIPAL'!$I$651:$X$651,V27)>=1,\"\",ROW())","v":27}]
[null,{"$f":"IF(COUNTIF('PLANNING PRINCIPAL'!$I$631:$X$631,A28)>=1,\"\",ROW())","v":28},null,null,{"$f":"IF(COUNTIF('PLANNING PRINCIPAL'!$I$634:$X$634,D28)>=1,\"\",ROW())","v":28},null,null,{"$f":"IF(COUNTIF('PLANNING PRINCIPAL'!$I$637:$X$637,G28)>=1,\"\",ROW())","v":28},null,null,{"$f":"IF(COUNTIF('PLANNING PRINCIPAL'!$I$640:$X$640,J28)>=1,\"\",ROW())","v":28},null,null,{"$f":"IF(COUNTIF('PLANNING PRINCIPAL'!$I$643:$X$643,M28)>=1,\"\",ROW())","v":28},null,null,{"$f":"IF(COUNTIF('PLANNING PRINCIPAL'!$I$646:$X$646,P28)>=1,\"\",ROW())","v":28},null,null,{"$f":"IF(COUNTIF('PLANNING PRINCIPAL'!$I$649:$X$649,S28)>=1,\"\",ROW())","v":28},null,null,{"$f":"IF(COUNTIF('PLANNING PRINCIPAL'!$I$651:$X$651,V28)>=1,\"\",ROW())","v":28}]
[null,{"$f":"IF(COUNTIF('PLANNING PRINCIPAL'!$I$631:$X$631,A29)>=1,\"\",ROW())","v":29},null,null,{"$f":"IF(COUNTIF('PLANNING PRINCIPAL'!$I$634:$X$634,D29)>=1,\"\",ROW())","v":29},null,null,{"$f":"IF(COUNTIF('PLANNING PRINCIPAL'!$I$637:$X$637,G29)>=1,\"\",ROW())","v":29},null,null,{"$f":"IF(COUNTIF('PLANNING PRINCIPAL'!$I$640:$X$640,J29)>=1,\"\",ROW())","v":29},null,null,{"$f":"IF(COUNTIF('PLANNING PRINCIPAL'!$I$643:$X$643,M29)>=1,\"\",ROW())","v":29},null,null,{"$f":"IF(COUNTIF('PLANNING PRINCIPAL'!$I$646:$X$646,P29)>=1,\"\",ROW())","v":29},null,null,{"$f":"IF(COUNTIF('PLANNING PRINCIPAL'!$I$649:$X$649,S29)>=1,\"\",ROW())","v":29},null,null,{"$f":"IF(COUNTIF('PLANNING PRINCIPAL'!$I$651:$X$651,V29)>=1,\"\",ROW())","v":29}]
[null,{"$f":"IF(COUNTIF('PLANNING PRINCIPAL'!$I$631:$X$631,A30)>=1,\"\",ROW())","v":30},null,null,{"$f":"IF(COUNTIF('PLANNING PRINCIPAL'!$I$634:$X$634,D30)>=1,\"\",ROW())","v":30},null,null,{"$f":"IF(COUNTIF('PLANNING PRINCIPAL'!$I$637:$X$637,G30)>=1,\"\",ROW())","v":30},null,null,{"$f":"IF(COUNTIF('PLANNING PRINCIPAL'!$I$640:$X$640,J30)>=1,\"\",ROW())","v":30},null,null,{"$f":"IF(COUNTIF('PLANNING PRINCIPAL'!$I$643:$X$643,M30)>=1,\"\",ROW())","v":30},null,null,{"$f":"IF(COUNTIF('PLANNING PRINCIPAL'!$I$646:$X$646,P30)>=1,\"\",ROW())","v":30},null,null,{"$f":"IF(COUNTIF('PLANNING PRINCIPAL'!$I$649:$X$649,S30)>=1,\"\",ROW())","v":30},null,null,{"$f":"IF(COUNTIF('PLANNING PRINCIPAL'!$I$651:$X$651,V30)>=1,\"\",ROW())","v":30}]
[null,{"$f":"IF(COUNTIF('PLANNING PRINCIPAL'!$I$631:$X$631,A31)>=1,\"\",ROW())","v":31},null,null,{"$f":"IF(COUNTIF('PLANNING PRINCIPAL'!$I$634:$X$634,D31)>=1,\"\",ROW())","v":31},null,null,{"$f":"IF(COUNTIF('PLANNING PRINCIPAL'!$I$637:$X$637,G31)>=1,\"\",ROW())","v":31},null,null,{"$f":"IF(COUNTIF('PLANNING PRINCIPAL'!$I$640:$X$640,J31)>=1,\"\",ROW())","v":31},null,null,{"$f":"IF(COUNTIF('PLANNING PRINCIPAL'!$I$643:$X$643,M31)>=1,\"\",ROW())","v":31},null,null,{"$f":"IF(COUNTIF('PLANNING PRINCIPAL'!$I$646:$X$646,P31)>=1,\"\",ROW())","v":31},null,null,{"$f":"IF(COUNTIF('PLANNING PRINCIPAL'!$I$649:$X$649,S31)>=1,\"\",ROW())","v":31},null,null,{"$f":"IF(COUNTIF('PLANNING PRINCIPAL'!$I$651:$X$651,V31)>=1,\"\",ROW())","v":31}]
[null,{"$f":"IF(COUNTIF('PLANNING PRINCIPAL'!$I$631:$X$631,A32)>=1,\"\",ROW())","v":32},null,null,{"$f":"IF(COUNTIF('PLANNING PRINCIPAL'!$I$634:$X$634,D32)>=1,\"\",ROW())","v":32},null,null,{"$f":"IF(COUNTIF('PLANNING PRINCIPAL'!$I$637:$X$637,G32)>=1,\"\",ROW())","v":32},null,null,{"$f":"IF(COUNTIF('PLANNING PRINCIPAL'!$I$640:$X$640,J32)>=1,\"\",ROW())","v":32},null,null,{"$f":"IF(COUNTIF('PLANNING PRINCIPAL'!$I$643:$X$643,M32)>=1,\"\",ROW())","v":32},null,null,{"$f":"IF(COUNTIF('PLANNING PRINCIPAL'!$I$646:$X$646,P32)>=1,\"\",ROW())","v":32},null,null,{"$f":"IF(COUNTIF('PLANNING PRINCIPAL'!$I$649:$X$649,S32)>=1,\"\",ROW())","v":32},null,null,{"$f":"IF(COUNTIF('PLANNING PRINCIPAL'!$I$651:$X$651,V32)>=1,\"\",ROW())","v":32}]
[null,{"$f":"IF(COUNTIF('PLANNING PRINCIPAL'!$I$631:$X$631,A33)>=1,\"\",ROW())","v":33},null,null,{"$f":"IF(COUNTIF('PLANNING PRINCIPAL'!$I$634:$X$634,D33)>=1,\"\",ROW())","v":33},null,null,{"$f":"IF(COUNTIF('PLANNING PRINCIPAL'!$I$637:$X$637,G33)>=1,\"\",ROW())","v":33},null,null,{"$f":"IF(COUNTIF('PLANNING PRINCIPAL'!$I$640:$X$640,J33)>=1,\"\",ROW())","v":33},null,null,{"$f":"IF(COUNTIF('PLANNING PRINCIPAL'!$I$643:$X$643,M33)>=1,\"\",ROW())","v":33},null,null,{"$f":"IF(COUNTIF('PLANNING PRINCIPAL'!$I$646:$X$646,P33)>=1,\"\",ROW())","v":33},null,null,{"$f":"IF(COUNTIF('PLANNING PRINCIPAL'!$I$649:$X$649,S33)>=1,\"\",ROW())","v":33},null,null,{"$f":"IF(COUNTIF('PLANNING PRINCIPAL'!$I$651:$X$651,V33)>=1,\"\",ROW())","v":33}]
[null,{"$f":"IF(COUNTIF('PLANNING PRINCIPAL'!$I$631:$X$631,A34)>=1,\"\",ROW())","v":34},null,null,{"$f":"IF(COUNTIF('PLANNING PRINCIPAL'!$I$634:$X$634,D34)>=1,\"\",ROW())","v":34},null,null,{"$f":"IF(COUNTIF('PLANNING PRINCIPAL'!$I$637:$X$637,G34)>=1,\"\",ROW())","v":34},null,null,{"$f":"IF(COUNTIF('PLANNING PRINCIPAL'!$I$640:$X$640,J34)>=1,\"\",ROW())","v":34},null,null,{"$f":"IF(COUNTIF('PLANNING PRINCIPAL'!$I$643:$X$643,M34)>=1,\"\",ROW())","v":34},null,null,{"$f":"IF(COUNTIF('PLANNING PRINCIPAL'!$I$646:$X$646,P34)>=1,\"\",ROW())","v":34},null,null,{"$f":"IF(COUNTIF('PLANNING PRINCIPAL'!$I$649:$X$649,S34)>=1,\"\",ROW())","v":34},null,null,{"$f":"IF(COUNTIF('PLANNING PRINCIPAL'!$I$651:$X$651,V34)>=1,\"\",ROW())","v":34}]
["LUNDI",null,null,"MARDI",null,null,"MERCREDI",null,null,"JEUDI",null,null,"VENDREDI",null,null,"SAMEDI",null,null,"DIMANCHE",null,null,"ASTREINTE"]

{"sheet":"DATA S29","index":30,"n_rows":35,"n_cols":24,"rows_kept":35,"cut":false,"hidden":false,"merged":[[34,18,34,20],[34,21,34,23],[34,0,34,2],[34,3,34,5],[34,6,34,8],[34,9,34,11],[34,12,34,14],[34,15,34,17]]}
[{"$f":"'DATA S1'!A1","v":"MAS XX "},{"$f":"IF(COUNTIF('PLANNING PRINCIPAL'!$I$654:$X$654,A1)>=1,\"\",ROW())","v":1},{"$f":"IF(ROW(A1)-ROW(A$1)+1>COUNT(B:B),\"\", INDEX(A:A,SMALL(B:B,1+ROW(A1)-ROW(A$1))))","v":"MAS XX "},{"$f":"A1","v":"MAS XX "},{"$f":"IF(COUNTIF('PLANNING PRINCIPAL'!$I$657:$X$657,D1)>=1,\"\",ROW())","v":1},{"$f":"IF(ROW(D1)-ROW(D$1)+1>COUNT(E:E),\"\", INDEX(D:D,SMALL(E:E,1+ROW(D1)-ROW(D$1))))","v":"MAS XX "},{"$f":"A1","v":"MAS XX "},{"$f":"IF(COUNTIF('PLANNING PRINCIPAL'!$I$660:$X$660,G1)>=1,\"\",ROW())","v":1},{"$f":"IF(ROW(G1)-ROW(G$1)+1>COUNT(H:H),\"\", INDEX(G:G,SMALL(H:H,1+ROW(G1)-ROW(G$1))))","v":"MAS XX "},{"$f":"A1","v":"MAS XX "},{"$f":"IF(COUNTIF('PLANNING PRINCIPAL'!$I$663:$X$663,J1)>=1,\"\",ROW())","v":1},{"$f":"IF(ROW(J1)-ROW(J$1)+1>COUNT(K:K),\"\", INDEX(J:J,SMALL(K:K,1+ROW(J1)-ROW(J$1))))","v":"MAS XX "},{"$f":"A1","v":"MAS XX "},{"$f":"IF(COUNTIF('PLANNING PRINCIPAL'!$I$666:$X$666,M1)>=1,\"\",ROW())","v":1},{"$f":"IF(ROW(M1)-ROW(M$1)+1>COUNT(N:N),\"\", INDEX(M:M,SMALL(N:N,1+ROW(M1)-ROW(M$1))))","v":"MAS XX "},{"$f":"A1","v":"MAS XX "},{"$f":"IF(COUNTIF('PLANNING PRINCIPAL'!$I$669:$X$669,P1)>=1,\"\",ROW())","v":1},{"$f":"IF(ROW(P1)-ROW(P$1)+1>COUNT(Q:Q),\"\", INDEX(P:P,SMALL(Q:Q,1+ROW(P1)-ROW(P$1))))","v":"MAS XX "},{"$f":"A1","v":"MAS XX "},{"$f":"IF(COUNTIF('PLANNING PRINCIPAL'!$I$672:$X$672,S1)>=1,\"\",ROW())","v":1},{"$f":"IF(ROW(S1)-ROW(S$1)+1>COUNT(T:T),\"\", INDEX(S:S,SMALL(T:T,1+ROW(S1)-ROW(S$1))))","v":"MAS XX "},{"$f":"'DATA S1'!V1","v":"ASTREINTE SLT"},{"$f":"IF(COUNTIF('PLANNING PRINCIPAL'!$I$674:$X$674,V1)>=1,\"\",ROW())","v":1},{"$f":"IF(ROW(V1)-ROW(V$1)+1>COUNT(W:W),\"\", INDEX(V:V,SMALL(W:W,1+ROW(V1)-ROW(V$1))))","v":"ASTREINTE SLT"}]
[{"$f":"'DATA S1'!A2","v":"MAS YY "},{"$f":"IF(COUNTIF('PLANNING PRINCIPAL'!$I$654:$X$654,A2)>=1,\"\",ROW())","v":2},{"$f":"IF(ROW(A2)-ROW(A$1)+1>COUNT(B:B),\"\", INDEX(A:A,SMALL(B:B,1+ROW(A2)-ROW(A$1))))","v":"MAS YY "},"MAS YY ",{"$f":"IF(COUNTIF('PLANNING PRINCIPAL'!$I$657:$X$657,D2)>=1,\"\",ROW())","v":2},{"$f":"IF(ROW(D2)-ROW(D$1)+1>COUNT(E:E),\"\", INDEX(D:D,SMALL(E:E,1+ROW(D2)-ROW(D$1))))","v":"MAS YY "},{"$f":"A2","v":"MAS YY "},{"$f":"IF(COUNTIF('PLANNING PRINCIPAL'!$I$660:$X$660,G2)>=1,\"\",ROW())","v":2},{"$f":"IF(ROW(G2)-ROW(G$1)+1>COUNT(H:H),\"\", INDEX(G:G,SMALL(H:H,1+ROW(G2)-ROW(G$1))))","v":"MAS YY "},{"$f":"A2","v":"MAS YY "},{"$f":"IF(COUNTIF('PLANNING PRINCIPAL'!$I$663:$X$663,J2)>=1,\"\",ROW())","v":2},{"$f":"IF(ROW(J2)-ROW(J$1)+1>COUNT(K:K),\"\", INDEX(J:J,SMALL(K:K,1+ROW(J2)-ROW(J$1))))","v":"MAS YY "},{"$f":"A2","v":"MAS YY "},{"$f":"IF(COUNTIF('PLANNING PRINCIPAL'!$I$666:$X$666,M2)>=1,\"\",ROW())","v":2},{"$f":"IF(ROW(M2)-ROW(M$1)+1>COUNT(N:N),\"\", INDEX(M:M,SMALL(N:N,1+ROW(M2)-ROW(M$1))))","v":"MAS YY "},{"$f":"A2","v":"MAS YY "},{"$f":"IF(COUNTIF('PLANNING PRINCIPAL'!$I$669:$X$669,P2)>=1,\"\",ROW())","v":2},{"$f":"IF(ROW(P2)-ROW(P$1)+1>COUNT(Q:Q),\"\", INDEX(P:P,SMALL(Q:Q,1+ROW(P2)-ROW(P$1))))","v":"MAS YY "},{"$f":"A2","v":"MAS YY "},{"$f":"IF(COUNTIF('PLANNING PRINCIPAL'!$I$672:$X$672,S2)>=1,\"\",ROW())","v":2},{"$f":"IF(ROW(S2)-ROW(S$1)+1>COUNT(T:T),\"\", INDEX(S:S,SMALL(T:T,1+ROW(S2)-ROW(S$1))))","v":"MAS YY "},{"$f":"'DATA S1'!V2","v":"ASTREINTE EP"},{"$f":"IF(COUNTIF('PLANNING PRINCIPAL'!$I$674:$X$674,V2)>=1,\"\",ROW())","v":2},{"$f":"IF(ROW(V2)-ROW(V$1)+1>COUNT(W:W),\"\", INDEX(V:V,SMALL(W:W,1+ROW(V2)-ROW(V$1))))","v":"ASTREINTE EP"}]
[{"$f":"'DATA S1'!A3","v":"MAS VQ "},{"$f":"IF(COUNTIF('PLANNING PRINCIPAL'!$I$654:$X$654,A3)>=1,\"\",ROW())","v":3},"MAS VQ ","MAS VQ ",{"$f":"IF(COUNTIF('PLANNING PRINCIPAL'!$I$657:$X$657,D3)>=1,\"\",ROW())","v":3},"MAS VQ ","MAS VQ ",{"$f":"IF(COUNTIF('PLANNING PRINCIPAL'!$I$660:$X$660,G3)>=1,\"\",ROW())","v":3},"MAS VQ ","MAS VQ ",{"$f":"IF(COUNTIF('PLANNING PRINCIPAL'!$I$663:$X$663,J3)>=1,\"\",ROW())","v":3},"MAS VQ ","MAS VQ ",{"$f":"IF(COUNTIF('PLANNING PRINCIPAL'!$I$666:$X$666,M3)>=1,\"\",ROW())","v":3},"MAS VQ ","MAS VQ ",{"$f":"IF(COUNTIF('PLANNING PRINCIPAL'!$I$669:$X$669,P3)>=1,\"\",ROW())","v":3},"MAS VQ ","MAS VQ ",{"$f":"IF(COUNTIF('PLANNING PRINCIPAL'!$I$672:$X$672,S3)>=1,\"\",ROW())","v":3},"MAS VQ ",{"$f":"'DATA S1'!V3","v":"V NOC CHARTRES"},{"$f":"IF(COUNTIF('PLANNING PRINCIPAL'!$I$674:$X$674,V3)>=1,\"\",ROW())","v":3},"V NOC CHARTRES"]
[{"$f":"'DATA S1'!A4","v":"MAS PL "},{"$f":"IF(COUNTIF('PLANNING PRINCIPAL'!$I$654:$X$654,A4)>=1,\"\",ROW())","v":4},"MAS PL ","MAS PL ",{"$f":"IF(COUNTIF('PLANNING PRINCIPAL'!$I$657:$X$657,D4)>=1,\"\",ROW())","v":4},"MAS PL ","MAS PL ",{"$f":"IF(COUNTIF('PLANNING PRINCIPAL'!$I$660:$X$660,G4)>=1,\"\",ROW())","v":4},"MAS PL ","MAS PL ",{"$f":"IF(COUNTIF('PLANNING PRINCIPAL'!$I$663:$X$663,J4)>=1,\"\",ROW())","v":4},"MAS PL ","MAS PL ",{"$f":"IF(COUNTIF('PLANNING PRINCIPAL'!$I$666:$X$666,M4)>=1,\"\",ROW())","v":4},"MAS PL ","MAS PL ",{"$f":"IF(COUNTIF('PLANNING PRINCIPAL'!$I$669:$X$669,P4)>=1,\"\",ROW())","v":4},"MAS PL ","MAS PL ",{"$f":"IF(COUNTIF('PLANNING PRINCIPAL'!$I$672:$X$672,S4)>=1,\"\",ROW())","v":4},"MAS PL ",{"$f":"'DATA S1'!V4","v":"V NOC EPERNON"},{"$f":"IF(COUNTIF('PLANNING PRINCIPAL'!$I$674:$X$674,V4)>=1,\"\",ROW())","v":4},"V NOC EPERNON"]
[{"$f":"'DATA S1'!A5","v":"BEN VL PT "},{"$f":"IF(COUNTIF('PLANNING PRINCIPAL'!$I$654:$X$654,A5)>=1,\"\",ROW())","v":5},"BEN VL PT ","BEN VL PT ",{"$f":"IF(COUNTIF('PLANNING PRINCIPAL'!$I$657:$X$657,D5)>=1,\"\",ROW())","v":5},"BEN VL PT ","BEN VL PT ",{"$f":"IF(COUNTIF('PLANNING PRINCIPAL'!$I$660:$X$660,G5)>=1,\"\",ROW())","v":5},"BEN VL PT ","BEN VL PT ",{"$f":"IF(COUNTIF('PLANNING PRINCIPAL'!$I$663:$X$663,J5)>=1,\"\",ROW())","v":5},"BEN VL PT ","BEN VL PT ",{"$f":"IF(COUNTIF('PLANNING PRINCIPAL'!$I$666:$X$666,M5)>=1,\"\",ROW())","v":5},"BEN VL PT ","BEN VL PT ",{"$f":"IF(COUNTIF('PLANNING PRINCIPAL'!$I$669:$X$669,P5)>=1,\"\",ROW())","v":5},"BEN VL PT ","BEN VL PT ",{"$f":"IF(COUNTIF('PLANNING PRINCIPAL'!$I$672:$X$672,S5)>=1,\"\",ROW())","v":5},"BEN VL PT ",{"$f":"'DATA S1'!V5","v":"V NOC HANCHES"},{"$f":"IF(COUNTIF('PLANNING PRINCIPAL'!$I$674:$X$674,V5)>=1,\"\",ROW())","v":5},"V NOC HANCHES"]
[{"$f":"'DATA S1'!A6","v":"BEN 19T "},{"$f":"IF(COUNTIF('PLANNING PRINCIPAL'!$I$654:$X$654,A6)>=1,\"\",ROW())","v":6},"BEN 19T ","BEN 19T ",{"$f":"IF(COUNTIF('PLANNING PRINCIPAL'!$I$657:$X$657,D6)>=1,\"\",ROW())","v":6},"BEN 19T ","BEN 19T ",{"$f":"IF(COUNTIF('PLANNING PRINCIPAL'!$I$660:$X$660,G6)>=1,\"\",ROW())","v":6},"BEN 19T ","BEN 19T ",{"$f":"IF(COUNTIF('PLANNING PRINCIPAL'!$I$663:$X$663,J6)>=1,\"\",ROW())","v":6},"BEN 19T ","BEN 19T ",{"$f":"IF(COUNTIF('PLANNING PRINCIPAL'!$I$666:$X$666,M6)>=1,\"\",ROW())","v":6},"BEN 19T ","BEN 19T ",{"$f":"IF(COUNTIF('PLANNING PRINCIPAL'!$I$669:$X$669,P6)>=1,\"\",ROW())","v":6},"BEN 19T ","BEN 19T ",{"$f":"IF(COUNTIF('PLANNING PRINCIPAL'!$I$672:$X$672,S6)>=1,\"\",ROW())","v":6},"BEN 19T ",{"$f":"'DATA S1'!V6","v":"V NOC MAINTENON"},{"$f":"IF(COUNTIF('PLANNING PRINCIPAL'!$I$674:$X$674,V6)>=1,\"\",ROW())","v":6},"V NOC MAINTENON"]
[{"$f":"'DATA S1'!A7","v":"BEN 13T "},{"$f":"IF(COUNTIF('PLANNING PRINCIPAL'!$I$654:$X$654,A7)>=1,\"\",ROW())","v":7},"BEN 13T ","BEN 13T ",{"$f":"IF(COUNTIF('PLANNING PRINCIPAL'!$I$657:$X$657,D7)>=1,\"\",ROW())","v":7},"BEN 13T ","BEN 13T ",{"$f":"IF(COUNTIF('PLANNING PRINCIPAL'!$I$660:$X$660,G7)>=1,\"\",ROW())","v":7},"BEN 13T ","BEN 13T ",{"$f":"IF(COUNTIF('PLANNING PRINCIPAL'!$I$663:$X$663,J7)>=1,\"\",ROW())","v":7},"BEN 13T ","BEN 13T ",{"$f":"IF(COUNTIF('PLANNING PRINCIPAL'!$I$666:$X$666,M7)>=1,\"\",ROW())","v":7},"BEN 13T ","BEN 13T ",{"$f":"IF(COUNTIF('PLANNING PRINCIPAL'!$I$669:$X$669,P7)>=1,\"\",ROW())","v":7},"BEN 13T ","BEN 13T ",{"$f":"IF(COUNTIF('PLANNING PRINCIPAL'!$I$672:$X$672,S7)>=1,\"\",ROW())","v":7},"BEN 13T ",null,{"$f":"IF(COUNTIF('PLANNING PRINCIPAL'!$I$651:$X$651,V7)>=1,\"\",ROW())","v":7}]
[{"$f":"'DATA S1'!A8","v":"NAC VL 18M "},{"$f":"IF(COUNTIF('PLANNING PRINCIPAL'!$I$654:$X$654,A8)>=1,\"\",ROW())","v":8},"NAC VL 18M ","NAC VL 18M ",{"$f":"IF(COUNTIF('PLANNING PRINCIPAL'!$I$657:$X$657,D8)>=1,\"\",ROW())","v":8},"NAC VL 18M ","NAC VL 18M ",{"$f":"IF(COUNTIF('PLANNING PRINCIPAL'!$I$660:$X$660,G8)>=1,\"\",ROW())","v":8},"NAC VL 18M ","NAC VL 18M ",{"$f":"IF(COUNTIF('PLANNING PRINCIPAL'!$I$663:$X$663,J8)>=1,\"\",ROW())","v":8},"NAC VL 18M ","NAC VL 18M ",{"$f":"IF(COUNTIF('PLANNING PRINCIPAL'!$I$666:$X$666,M8)>=1,\"\",ROW())","v":8},"NAC VL 18M ","NAC VL 18M ",{"$f":"IF(COUNTIF('PLANNING PRINCIPAL'!$I$669:$X$669,P8)>=1,\"\",ROW())","v":8},"NAC VL 18M ","NAC VL 18M ",{"$f":"IF(COUNTIF('PLANNING PRINCIPAL'!$I$672:$X$672,S8)>=1,\"\",ROW())","v":8},"NAC VL 18M ",null,{"$f":"IF(COUNTIF('PLANNING PRINCIPAL'!$I$651:$X$651,V8)>=1,\"\",ROW())","v":8}]
[{"$f":"'DATA S1'!A9","v":"NAC EGIE"},{"$f":"IF(COUNTIF('PLANNING PRINCIPAL'!$I$654:$X$654,A9)>=1,\"\",ROW())","v":9},"NAC EGIE","NAC EGIE",{"$f":"IF(COUNTIF('PLANNING PRINCIPAL'!$I$657:$X$657,D9)>=1,\"\",ROW())","v":9},"NAC EGIE","NAC EGIE",{"$f":"IF(COUNTIF('PLANNING PRINCIPAL'!$I$660:$X$660,G9)>=1,\"\",ROW())","v":9},"NAC EGIE","NAC EGIE",{"$f":"IF(COUNTIF('PLANNING PRINCIPAL'!$I$663:$X$663,J9)>=1,\"\",ROW())","v":9},"NAC EGIE","NAC EGIE",{"$f":"IF(COUNTIF('PLANNING PRINCIPAL'!$I$666:$X$666,M9)>=1,\"\",ROW())","v":9},"NAC EGIE","NAC EGIE",{"$f":"IF(COUNTIF('PLANNING PRINCIPAL'!$I$669:$X$669,P9)>=1,\"\",ROW())","v":9},"NAC EGIE","NAC EGIE",{"$f":"IF(COUNTIF('PLANNING PRINCIPAL'!$I$672:$X$672,S9)>=1,\"\",ROW())","v":9},"NAC EGIE",null,{"$f":"IF(COUNTIF('PLANNING PRINCIPAL'!$I$651:$X$651,V9)>=1,\"\",ROW())","v":9}]
[{"$f":"'DATA S1'!A10","v":"NAC COMI "},{"$f":"IF(COUNTIF('PLANNING PRINCIPAL'!$I$654:$X$654,A10)>=1,\"\",ROW())","v":10},"NAC COMI ","NAC COMI ",{"$f":"IF(COUNTIF('PLANNING PRINCIPAL'!$I$657:$X$657,D10)>=1,\"\",ROW())","v":10},"NAC COMI ","NAC COMI ",{"$f":"IF(COUNTIF('PLANNING PRINCIPAL'!$I$660:$X$660,G10)>=1,\"\",ROW())","v":10},"NAC COMI ","NAC COMI ",{"$f":"IF(COUNTIF('PLANNING PRINCIPAL'!$I$663:$X$663,J10)>=1,\"\",ROW())","v":10},"NAC COMI ","NAC COMI ",{"$f":"IF(COUNTIF('PLANNING PRINCIPAL'!$I$666:$X$666,M10)>=1,\"\",ROW())","v":10},"NAC COMI ","NAC COMI ",{"$f":"IF(COUNTIF('PLANNING PRINCIPAL'!$I$669:$X$669,P10)>=1,\"\",ROW())","v":10},"NAC COMI ","NAC COMI ",{"$f":"IF(COUNTIF('PLANNING PRINCIPAL'!$I$672:$X$672,S10)>=1,\"\",ROW())","v":10},"NAC COMI ",null,{"$f":"IF(COUNTIF('PLANNING PRINCIPAL'!$I$651:$X$651,V10)>=1,\"\",ROW())","v":10}]
[{"$f":"'DATA S1'!A11","v":"#####LOCATION#####"},{"$f":"IF(COUNTIF('PLANNING PRINCIPAL'!$I$654:$X$654,A11)>=1,\"\",ROW())","v":11},"#####LOCATION#####","#####LOCATION#####",{"$f":"IF(COUNTIF('PLANNING PRINCIPAL'!$I$657:$X$657,D11)>=1,\"\",ROW())","v":11},"#####LOCATION#####","#####LOCATION#####",{"$f":"IF(COUNTIF('PLANNING PRINCIPAL'!$I$660:$X$660,G11)>=1,\"\",ROW())","v":11},"#####LOCATION#####","#####LOCATION#####",{"$f":"IF(COUNTIF('PLANNING PRINCIPAL'!$I$663:$X$663,J11)>=1,\"\",ROW())","v":11},"#####LOCATION#####","#####LOCATION#####",{"$f":"IF(COUNTIF('PLANNING PRINCIPAL'!$I$666:$X$666,M11)>=1,\"\",ROW())","v":11},"#####LOCATION#####","#####LOCATION#####",{"$f":"IF(COUNTIF('PLANNING PRINCIPAL'!$I$669:$X$669,P11)>=1,\"\",ROW())","v":11},"#####LOCATION#####","#####LOCATION#####",{"$f":"IF(COUNTIF('PLANNING PRINCIPAL'!$I$672:$X$672,S11)>=1,\"\",ROW())","v":11},"#####LOCATION#####",null,{"$f":"IF(COUNTIF('PLANNING PRINCIPAL'!$I$651:$X$651,V11)>=1,\"\",ROW())","v":11}]
[{"$f":"'DATA S1'!A12","v":"LOC NAC SOLOMAT"},{"$f":"IF(COUNTIF('PLANNING PRINCIPAL'!$I$654:$X$654,A12)>=1,\"\",ROW())","v":12},"LOC NAC SOLOMAT","LOC NAC SOLOMAT",{"$f":"IF(COUNTIF('PLANNING PRINCIPAL'!$I$657:$X$657,D12)>=1,\"\",ROW())","v":12},"LOC NAC SOLOMAT","LOC NAC SOLOMAT",{"$f":"IF(COUNTIF('PLANNING PRINCIPAL'!$I$660:$X$660,G12)>=1,\"\",ROW())","v":12},"LOC NAC SOLOMAT","LOC NAC SOLOMAT",{"$f":"IF(COUNTIF('PLANNING PRINCIPAL'!$I$663:$X$663,J12)>=1,\"\",ROW())","v":12},"LOC NAC SOLOMAT","LOC NAC SOLOMAT",{"$f":"IF(COUNTIF('PLANNING PRINCIPAL'!$I$666:$X$666,M12)>=1,\"\",ROW())","v":12},"LOC NAC SOLOMAT","LOC NAC SOLOMAT",{"$f":"IF(COUNTIF('PLANNING PRINCIPAL'!$I$669:$X$669,P12)>=1,\"\",ROW())","v":12},"LOC NAC SOLOMAT","LOC NAC SOLOMAT",{"$f":"IF(COUNTIF('PLANNING PRINCIPAL'!$I$672:$X$672,S12)>=1,\"\",ROW())","v":12},"LOC NAC SOLOMAT",null,{"$f":"IF(COUNTIF('PLANNING PRINCIPAL'!$I$651:$X$651,V12)>=1,\"\",ROW())","v":12}]
[{"$f":"'DATA S1'!A13","v":"LOC NAC AEB"},{"$f":"IF(COUNTIF('PLANNING PRINCIPAL'!$I$654:$X$654,A13)>=1,\"\",ROW())","v":13},"LOC NAC AEB","LOC NAC AEB",{"$f":"IF(COUNTIF('PLANNING PRINCIPAL'!$I$657:$X$657,D13)>=1,\"\",ROW())","v":13},"LOC NAC AEB","LOC NAC AEB",{"$f":"IF(COUNTIF('PLANNING PRINCIPAL'!$I$660:$X$660,G13)>=1,\"\",ROW())","v":13},"LOC NAC AEB","LOC NAC AEB",{"$f":"IF(COUNTIF('PLANNING PRINCIPAL'!$I$663:$X$663,J13)>=1,\"\",ROW())","v":13},"LOC NAC AEB","LOC NAC AEB",{"$f":"IF(COUNTIF('PLANNING PRINCIPAL'!$I$666:$X$666,M13)>=1,\"\",ROW())","v":13},"LOC NAC AEB","LOC NAC AEB",{"$f":"IF(COUNTIF('PLANNING PRINCIPAL'!$I$669:$X$669,P13)>=1,\"\",ROW())","v":13},"LOC NAC AEB","LOC NAC AEB",{"$f":"IF(COUNTIF('PLANNING PRINCIPAL'!$I$672:$X$672,S13)>=1,\"\",ROW())","v":13},"LOC NAC AEB",null,{"$f":"IF(COUNTIF('PLANNING PRINCIPAL'!$I$651:$X$651,V13)>=1,\"\",ROW())","v":13}]
[{"$f":"'DATA S1'!A14","v":"LOC NAC INTERLOC"},{"$f":"IF(COUNTIF('PLANNING PRINCIPAL'!$I$654:$X$654,A14)>=1,\"\",ROW())","v":14},"LOC NAC INTERLOC","LOC NAC INTERLOC",{"$f":"IF(COUNTIF('PLANNING PRINCIPAL'!$I$657:$X$657,D14)>=1,\"\",ROW())","v":14},"LOC NAC INTERLOC","LOC NAC INTERLOC",{"$f":"IF(COUNTIF('PLANNING PRINCIPAL'!$I$660:$X$660,G14)>=1,\"\",ROW())","v":14},"LOC NAC INTERLOC","LOC NAC INTERLOC",{"$f":"IF(COUNTIF('PLANNING PRINCIPAL'!$I$663:$X$663,J14)>=1,\"\",ROW())","v":14},"LOC NAC INTERLOC","LOC NAC INTERLOC",{"$f":"IF(COUNTIF('PLANNING PRINCIPAL'!$I$666:$X$666,M14)>=1,\"\",ROW())","v":14},"LOC NAC INTERLOC","LOC NAC INTERLOC",{"$f":"IF(COUNTIF('PLANNING PRINCIPAL'!$I$669:$X$669,P14)>=1,\"\",ROW())","v":14},"LOC NAC INTERLOC","LOC NAC INTERLOC",{"$f":"IF(COUNTIF('PLANNING PRINCIPAL'!$I$672:$X$672,S14)>=1,\"\",ROW())","v":14},"LOC NAC INTERLOC",null,{"$f":"IF(COUNTIF('PLANNING PRINCIPAL'!$I$651:$X$651,V14)>=1,\"\",ROW())","v":14}]
[{"$f":"'DATA S1'!A15","v":"LOC NAC KILOUTOU"},{"$f":"IF(COUNTIF('PLANNING PRINCIPAL'!$I$654:$X$654,A15)>=1,\"\",ROW())","v":15},"LOC NAC KILOUTOU","LOC NAC KILOUTOU",{"$f":"IF(COUNTIF('PLANNING PRINCIPAL'!$I$657:$X$657,D15)>=1,\"\",ROW())","v":15},"LOC NAC KILOUTOU","LOC NAC KILOUTOU",{"$f":"IF(COUNTIF('PLANNING PRINCIPAL'!$I$660:$X$660,G15)>=1,\"\",ROW())","v":15},"LOC NAC KILOUTOU","LOC NAC KILOUTOU",{"$f":"IF(COUNTIF('PLANNING PRINCIPAL'!$I$663:$X$663,J15)>=1,\"\",ROW())","v":15},"LOC NAC KILOUTOU","LOC NAC KILOUTOU",{"$f":"IF(COUNTIF('PLANNING PRINCIPAL'!$I$666:$X$666,M15)>=1,\"\",ROW())","v":15},"LOC NAC KILOUTOU","LOC NAC KILOUTOU",{"$f":"IF(COUNTIF('PLANNING PRINCIPAL'!$I$669:$X$669,P15)>=1,\"\",ROW())","v":15},"LOC NAC KILOUTOU","LOC NAC KILOUTOU",{"$f":"IF(COUNTIF('PLANNING PRINCIPAL'!$I$672:$X$672,S15)>=1,\"\",ROW())","v":15},"LOC NAC KILOUTOU",null,{"$f":"IF(COUNTIF('PLANNING PRINCIPAL'!$I$651:$X$651,V15)>=1,\"\",ROW())","v":15}]
[{"$f":"'DATA S1'!A16","v":"LOC NAC AEB"},{"$f":"IF(COUNTIF('PLANNING PRINCIPAL'!$I$654:$X$654,A16)>=1,\"\",ROW())","v":16},"LOC NAC AEB","LOC NAC AEB",{"$f":"IF(COUNTIF('PLANNING PRINCIPAL'!$I$657:$X$657,D16)>=1,\"\",ROW())","v":16},"LOC NAC AEB","LOC NAC AEB",{"$f":"IF(COUNTIF('PLANNING PRINCIPAL'!$I$660:$X$660,G16)>=1,\"\",ROW())","v":16},"LOC NAC AEB","LOC NAC AEB",{"$f":"IF(COUNTIF('PLANNING PRINCIPAL'!$I$663:$X$663,J16)>=1,\"\",ROW())","v":16},"LOC NAC AEB","LOC NAC AEB",{"$f":"IF(COUNTIF('PLANNING PRINCIPAL'!$I$666:$X$666,M16)>=1,\"\",ROW())","v":16},"LOC NAC AEB","LOC NAC AEB",{"$f":"IF(COUNTIF('PLANNING PRINCIPAL'!$I$669:$X$669,P16)>=1,\"\",ROW())","v":16},"LOC NAC AEB","LOC NAC AEB",{"$f":"IF(COUNTIF('PLANNING PRINCIPAL'!$I$672:$X$672,S16)>=1,\"\",ROW())","v":16},"LOC NAC AEB",null,{"$f":"IF(COUNTIF('PLANNING PRINCIPAL'!$I$651:$X$651,V16)>=1,\"\",ROW())","v":16}]
[{"$f":"'DATA S1'!A17","v":"LOC PELLE SOLOMAT"},{"$f":"IF(COUNTIF('PLANNING PRINCIPAL'!$I$654:$X$654,A17)>=1,\"\",ROW())","v":17},"LOC PELLE SOLOMAT","LOC PELLE SOLOMAT",{"$f":"IF(COUNTIF('PLANNING PRINCIPAL'!$I$657:$X$657,D17)>=1,\"\",ROW())","v":17},"LOC PELLE SOLOMAT","LOC PELLE SOLOMAT",{"$f":"IF(COUNTIF('PLANNING PRINCIPAL'!$I$660:$X$660,G17)>=1,\"\",ROW())","v":17},"LOC PELLE SOLOMAT","LOC PELLE SOLOMAT",{"$f":"IF(COUNTIF('PLANNING PRINCIPAL'!$I$663:$X$663,J17)>=1,\"\",ROW())","v":17},"LOC PELLE SOLOMAT","LOC PELLE SOLOMAT",{"$f":"IF(COUNTIF('PLANNING PRINCIPAL'!$I$666:$X$666,M17)>=1,\"\",ROW())","v":17},"LOC PELLE SOLOMAT","LOC PELLE SOLOMAT",{"$f":"IF(COUNTIF('PLANNING PRINCIPAL'!$I$669:$X$669,P17)>=1,\"\",ROW())","v":17},"LOC PELLE SOLOMAT","LOC PELLE SOLOMAT",{"$f":"IF(COUNTIF('PLANNING PRINCIPAL'!$I$672:$X$672,S17)>=1,\"\",ROW())","v":17},"LOC PELLE SOLOMAT",null,{"$f":"IF(COUNTIF('PLANNING PRINCIPAL'!$I$651:$X$651,V17)>=1,\"\",ROW())","v":17}]
[{"$f":"'DATA S1'!A18","v":"LOC PELLE AEB"},{"$f":"IF(COUNTIF('PLANNING PRINCIPAL'!$I$654:$X$654,A18)>=1,\"\",ROW())","v":18},"LOC PELLE AEB","LOC PELLE AEB",{"$f":"IF(COUNTIF('PLANNING PRINCIPAL'!$I$657:$X$657,D18)>=1,\"\",ROW())","v":18},"LOC PELLE AEB","LOC PELLE AEB",{"$f":"IF(COUNTIF('PLANNING PRINCIPAL'!$I$660:$X$660,G18)>=1,\"\",ROW())","v":18},"LOC PELLE AEB","LOC PELLE AEB",{"$f":"IF(COUNTIF('PLANNING PRINCIPAL'!$I$663:$X$663,J18)>=1,\"\",ROW())","v":18},"LOC PELLE AEB","LOC PELLE AEB",{"$f":"IF(COUNTIF('PLANNING PRINCIPAL'!$I$666:$X$666,M18)>=1,\"\",ROW())","v":18},"LOC PELLE AEB","LOC PELLE AEB",{"$f":"IF(COUNTIF('PLANNING PRINCIPAL'!$I$669:$X$669,P18)>=1,\"\",ROW())","v":18},"LOC PELLE AEB","LOC PELLE AEB",{"$f":"IF(COUNTIF('PLANNING PRINCIPAL'!$I$672:$X$672,S18)>=1,\"\",ROW())","v":18},"LOC PELLE AEB",null,{"$f":"IF(COUNTIF('PLANNING PRINCIPAL'!$I$651:$X$651,V18)>=1,\"\",ROW())","v":18}]
[{"$f":"'DATA S1'!A19","v":"LOC PELLE INTERLOC"},{"$f":"IF(COUNTIF('PLANNING PRINCIPAL'!$I$654:$X$654,A19)>=1,\"\",ROW())","v":19},"LOC PELLE INTERLOC","LOC PELLE INTERLOC",{"$f":"IF(COUNTIF('PLANNING PRINCIPAL'!$I$657:$X$657,D19)>=1,\"\",ROW())","v":19},"LOC PELLE INTERLOC","LOC PELLE INTERLOC",{"$f":"IF(COUNTIF('PLANNING PRINCIPAL'!$I$660:$X$660,G19)>=1,\"\",ROW())","v":19},"LOC PELLE INTERLOC","LOC PELLE INTERLOC",{"$f":"IF(COUNTIF('PLANNING PRINCIPAL'!$I$663:$X$663,J19)>=1,\"\",ROW())","v":19},"LOC PELLE INTERLOC","LOC PELLE INTERLOC",{"$f":"IF(COUNTIF('PLANNING PRINCIPAL'!$I$666:$X$666,M19)>=1,\"\",ROW())","v":19},"LOC PELLE INTERLOC","LOC PELLE INTERLOC",{"$f":"IF(COUNTIF('PLANNING PRINCIPAL'!$I$669:$X$669,P19)>=1,\"\",ROW())","v":19},"LOC PELLE INTERLOC","LOC PELLE INTERLOC",{"$f":"IF(COUNTIF('PLANNING PRINCIPAL'!$I$672:$X$672,S19)>=1,\"\",ROW())","v":19},"LOC PELLE INTERLOC",null,{"$f":"IF(COUNTIF('PLANNING PRINCIPAL'!$I$651:$X$651,V19)>=1,\"\",ROW())","v":19}]
[{"$f":"'DATA S1'!A20","v":"LOC PELLE KILOUTOU"},{"$f":"IF(COUNTIF('PLANNING PRINCIPAL'!$I$654:$X$654,A20)>=1,\"\",ROW())","v":20},"LOC PELLE KILOUTOU","LOC PELLE KILOUTOU",{"$f":"IF(COUNTIF('PLANNING PRINCIPAL'!$I$657:$X$657,D20)>=1,\"\",ROW())","v":20},"LOC PELLE KILOUTOU","LOC PELLE KILOUTOU",{"$f":"IF(COUNTIF('PLANNING PRINCIPAL'!$I$660:$X$660,G20)>=1,\"\",ROW())","v":20},"LOC PELLE KILOUTOU","LOC PELLE KILOUTOU",{"$f":"IF(COUNTIF('PLANNING PRINCIPAL'!$I$663:$X$663,J20)>=1,\"\",ROW())","v":20},"LOC PELLE KILOUTOU","LOC PELLE KILOUTOU",{"$f":"IF(COUNTIF('PLANNING PRINCIPAL'!$I$666:$X$666,M20)>=1,\"\",ROW())","v":20},"LOC PELLE KILOUTOU","LOC PELLE KILOUTOU",{"$f":"IF(COUNTIF('PLANNING PRINCIPAL'!$I$669:$X$669,P20)>=1,\"\",ROW())","v":20},"LOC PELLE KILOUTOU","LOC PELLE KILOUTOU",{"$f":"IF(COUNTIF('PLANNING PRINCIPAL'!$I$672:$X$672,S20)>=1,\"\",ROW())","v":20},"LOC PELLE KILOUTOU",null,{"$f":"IF(COUNTIF('PLANNING PRINCIPAL'!$I$651:$X$651,V20)>=1,\"\",ROW())","v":20}]
[null,{"$f":"IF(COUNTIF('PLANNING PRINCIPAL'!$I$654:$X$654,A21)>=1,\"\",ROW())","v":21},null,null,{"$f":"IF(COUNTIF('PLANNING PRINCIPAL'!$I$657:$X$657,D21)>=1,\"\",ROW())","v":21},null,null,{"$f":"IF(COUNTIF('PLANNING PRINCIPAL'!$I$660:$X$660,G21)>=1,\"\",ROW())","v":21},null,null,{"$f":"IF(COUNTIF('PLANNING PRINCIPAL'!$I$663:$X$663,J21)>=1,\"\",ROW())","v":21},null,null,{"$f":"IF(COUNTIF('PLANNING PRINCIPAL'!$I$666:$X$666,M21)>=1,\"\",ROW())","v":21},null,null,{"$f":"IF(COUNTIF('PLANNING PRINCIPAL'!$I$669:$X$669,P21)>=1,\"\",ROW())","v":21},null,null,{"$f":"IF(COUNTIF('PLANNING PRINCIPAL'!$I$672:$X$672,S21)>=1,\"\",ROW())","v":21},null,null,{"$f":"IF(COUNTIF('PLANNING PRINCIPAL'!$I$651:$X$651,V21)>=1,\"\",ROW())","v":21}]
[null,{"$f":"IF(COUNTIF('PLANNING PRINCIPAL'!$I$654:$X$654,A22)>=1,\"\",ROW())","v":22},null,null,{"$f":"IF(COUNTIF('PLANNING PRINCIPAL'!$I$657:$X$657,D22)>=1,\"\",ROW())","v":22},null,null,{"$f":"IF(COUNTIF('PLANNING PRINCIPAL'!$I$660:$X$660,G22)>=1,\"\",ROW())","v":22},null,null,{"$f":"IF(COUNTIF('PLANNING PRINCIPAL'!$I$663:$X$663,J22)>=1,\"\",ROW())","v":22},null,null,{"$f":"IF(COUNTIF('PLANNING PRINCIPAL'!$I$666:$X$666,M22)>=1,\"\",ROW())","v":22},null,null,{"$f":"IF(COUNTIF('PLANNING PRINCIPAL'!$I$669:$X$669,P22)>=1,\"\",ROW())","v":22},null,null,{"$f":"IF(COUNTIF('PLANNING PRINCIPAL'!$I$672:$X$672,S22)>=1,\"\",ROW())","v":22},null,null,{"$f":"IF(COUNTIF('PLANNING PRINCIPAL'!$I$651:$X$651,V22)>=1,\"\",ROW())","v":22}]
[null,{"$f":"IF(COUNTIF('PLANNING PRINCIPAL'!$I$654:$X$654,A23)>=1,\"\",ROW())","v":23},null,null,{"$f":"IF(COUNTIF('PLANNING PRINCIPAL'!$I$657:$X$657,D23)>=1,\"\",ROW())","v":23},null,null,{"$f":"IF(COUNTIF('PLANNING PRINCIPAL'!$I$660:$X$660,G23)>=1,\"\",ROW())","v":23},null,null,{"$f":"IF(COUNTIF('PLANNING PRINCIPAL'!$I$663:$X$663,J23)>=1,\"\",ROW())","v":23},null,null,{"$f":"IF(COUNTIF('PLANNING PRINCIPAL'!$I$666:$X$666,M23)>=1,\"\",ROW())","v":23},null,null,{"$f":"IF(COUNTIF('PLANNING PRINCIPAL'!$I$669:$X$669,P23)>=1,\"\",ROW())","v":23},null,null,{"$f":"IF(COUNTIF('PLANNING PRINCIPAL'!$I$672:$X$672,S23)>=1,\"\",ROW())","v":23},null,null,{"$f":"IF(COUNTIF('PLANNING PRINCIPAL'!$I$651:$X$651,V23)>=1,\"\",ROW())","v":23}]
[null,{"$f":"IF(COUNTIF('PLANNING PRINCIPAL'!$I$654:$X$654,A24)>=1,\"\",ROW())","v":24},null,null,{"$f":"IF(COUNTIF('PLANNING PRINCIPAL'!$I$657:$X$657,D24)>=1,\"\",ROW())","v":24},null,null,{"$f":"IF(COUNTIF('PLANNING PRINCIPAL'!$I$660:$X$660,G24)>=1,\"\",ROW())","v":24},null,null,{"$f":"IF(COUNTIF('PLANNING PRINCIPAL'!$I$663:$X$663,J24)>=1,\"\",ROW())","v":24},null,null,{"$f":"IF(COUNTIF('PLANNING PRINCIPAL'!$I$666:$X$666,M24)>=1,\"\",ROW())","v":24},null,null,{"$f":"IF(COUNTIF('PLANNING PRINCIPAL'!$I$669:$X$669,P24)>=1,\"\",ROW())","v":24},null,null,{"$f":"IF(COUNTIF('PLANNING PRINCIPAL'!$I$672:$X$672,S24)>=1,\"\",ROW())","v":24},null,null,{"$f":"IF(COUNTIF('PLANNING PRINCIPAL'!$I$651:$X$651,V24)>=1,\"\",ROW())","v":24}]
[null,{"$f":"IF(COUNTIF('PLANNING PRINCIPAL'!$I$654:$X$654,A25)>=1,\"\",ROW())","v":25},null,null,{"$f":"IF(COUNTIF('PLANNING PRINCIPAL'!$I$657:$X$657,D25)>=1,\"\",ROW())","v":25},null,null,{"$f":"IF(COUNTIF('PLANNING PRINCIPAL'!$I$660:$X$660,G25)>=1,\"\",ROW())","v":25},null,null,{"$f":"IF(COUNTIF('PLANNING PRINCIPAL'!$I$663:$X$663,J25)>=1,\"\",ROW())","v":25},null,null,{"$f":"IF(COUNTIF('PLANNING PRINCIPAL'!$I$666:$X$666,M25)>=1,\"\",ROW())","v":25},null,null,{"$f":"IF(COUNTIF('PLANNING PRINCIPAL'!$I$669:$X$669,P25)>=1,\"\",ROW())","v":25},null,null,{"$f":"IF(COUNTIF('PLANNING PRINCIPAL'!$I$672:$X$672,S25)>=1,\"\",ROW())","v":25},null,null,{"$f":"IF(COUNTIF('PLANNING PRINCIPAL'!$I$651:$X$651,V25)>=1,\"\",ROW())","v":25}]
[null,{"$f":"IF(COUNTIF('PLANNING PRINCIPAL'!$I$654:$X$654,A26)>=1,\"\",ROW())","v":26},null,null,{"$f":"IF(COUNTIF('PLANNING PRINCIPAL'!$I$657:$X$657,D26)>=1,\"\",ROW())","v":26},null,null,{"$f":"IF(COUNTIF('PLANNING PRINCIPAL'!$I$660:$X$660,G26)>=1,\"\",ROW())","v":26},null,null,{"$f":"IF(COUNTIF('PLANNING PRINCIPAL'!$I$663:$X$663,J26)>=1,\"\",ROW())","v":26},null,null,{"$f":"IF(COUNTIF('PLANNING PRINCIPAL'!$I$666:$X$666,M26)>=1,\"\",ROW())","v":26},null,null,{"$f":"IF(COUNTIF('PLANNING PRINCIPAL'!$I$669:$X$669,P26)>=1,\"\",ROW())","v":26},null,null,{"$f":"IF(COUNTIF('PLANNING PRINCIPAL'!$I$672:$X$672,S26)>=1,\"\",ROW())","v":26},null,null,{"$f":"IF(COUNTIF('PLANNING PRINCIPAL'!$I$651:$X$651,V26)>=1,\"\",ROW())","v":26}]
[null,{"$f":"IF(COUNTIF('PLANNING PRINCIPAL'!$I$654:$X$654,A27)>=1,\"\",ROW())","v":27},null,null,{"$f":"IF(COUNTIF('PLANNING PRINCIPAL'!$I$657:$X$657,D27)>=1,\"\",ROW())","v":27},null,null,{"$f":"IF(COUNTIF('PLANNING PRINCIPAL'!$I$660:$X$660,G27)>=1,\"\",ROW())","v":27},null,null,{"$f":"IF(COUNTIF('PLANNING PRINCIPAL'!$I$663:$X$663,J27)>=1,\"\",ROW())","v":27},null,null,{"$f":"IF(COUNTIF('PLANNING PRINCIPAL'!$I$666:$X$666,M27)>=1,\"\",ROW())","v":27},null,null,{"$f":"IF(COUNTIF('PLANNING PRINCIPAL'!$I$669:$X$669,P27)>=1,\"\",ROW())","v":27},null,null,{"$f":"IF(COUNTIF('PLANNING PRINCIPAL'!$I$672:$X$672,S27)>=1,\"\",ROW())","v":27},null,null,{"$f":"IF(COUNTIF('PLANNING PRINCIPAL'!$I$651:$X$651,V27)>=1,\"\",ROW())","v":27}]
[null,{"$f":"IF(COUNTIF('PLANNING PRINCIPAL'!$I$654:$X$654,A28)>=1,\"\",ROW())","v":28},null,null,{"$f":"IF(COUNTIF('PLANNING PRINCIPAL'!$I$657:$X$657,D28)>=1,\"\",ROW())","v":28},null,null,{"$f":"IF(COUNTIF('PLANNING PRINCIPAL'!$I$660:$X$660,G28)>=1,\"\",ROW())","v":28},null,null,{"$f":"IF(COUNTIF('PLANNING PRINCIPAL'!$I$663:$X$663,J28)>=1,\"\",ROW())","v":28},null,null,{"$f":"IF(COUNTIF('PLANNING PRINCIPAL'!$I$666:$X$666,M28)>=1,\"\",ROW())","v":28},null,null,{"$f":"IF(COUNTIF('PLANNING PRINCIPAL'!$I$669:$X$669,P28)>=1,\"\",ROW())","v":28},null,null,{"$f":"IF(COUNTIF('PLANNING PRINCIPAL'!$I$672:$X$672,S28)>=1,\"\",ROW())","v":28},null,null,{"$f":"IF(COUNTIF('PLANNING PRINCIPAL'!$I$651:$X$651,V28)>=1,\"\",ROW())","v":28}]
[null,{"$f":"IF(COUNTIF('PLANNING PRINCIPAL'!$I$654:$X$654,A29)>=1,\"\",ROW())","v":29},null,null,{"$f":"IF(COUNTIF('PLANNING PRINCIPAL'!$I$657:$X$657,D29)>=1,\"\",ROW())","v":29},null,null,{"$f":"IF(COUNTIF('PLANNING PRINCIPAL'!$I$660:$X$660,G29)>=1,\"\",ROW())","v":29},null,null,{"$f":"IF(COUNTIF('PLANNING PRINCIPAL'!$I$663:$X$663,J29)>=1,\"\",ROW())","v":29},null,null,{"$f":"IF(COUNTIF('PLANNING PRINCIPAL'!$I$666:$X$666,M29)>=1,\"\",ROW())","v":29},null,null,{"$f":"IF(COUNTIF('PLANNING PRINCIPAL'!$I$669:$X$669,P29)>=1,\"\",ROW())","v":29},null,null,{"$f":"IF(COUNTIF('PLANNING PRINCIPAL'!$I$672:$X$672,S29)>=1,\"\",ROW())","v":29},null,null,{"$f":"IF(COUNTIF('PLANNING PRINCIPAL'!$I$651:$X$651,V29)>=1,\"\",ROW())","v":29}]
[null,{"$f":"IF(COUNTIF('PLANNING PRINCIPAL'!$I$654:$X$654,A30)>=1,\"\",ROW())","v":30},null,null,{"$f":"IF(COUNTIF('PLANNING PRINCIPAL'!$I$657:$X$657,D30)>=1,\"\",ROW())","v":30},null,null,{"$f":"IF(COUNTIF('PLANNING PRINCIPAL'!$I$660:$X$660,G30)>=1,\"\",ROW())","v":30},null,null,{"$f":"IF(COUNTIF('PLANNING PRINCIPAL'!$I$663:$X$663,J30)>=1,\"\",ROW())","v":30},null,null,{"$f":"IF(COUNTIF('PLANNING PRINCIPAL'!$I$666:$X$666,M30)>=1,\"\",ROW())","v":30},null,null,{"$f":"IF(COUNTIF('PLANNING PRINCIPAL'!$I$669:$X$669,P30)>=1,\"\",ROW())","v":30},null,null,{"$f":"IF(COUNTIF('PLANNING PRINCIPAL'!$I$672:$X$672,S30)>=1,\"\",ROW())","v":30},null,null,{"$f":"IF(COUNTIF('PLANNING PRINCIPAL'!$I$651:$X$651,V30)>=1,\"\",ROW())","v":30}]
[null,{"$f":"IF(COUNTIF('PLANNING PRINCIPAL'!$I$654:$X$654,A31)>=1,\"\",ROW())","v":31},null,null,{"$f":"IF(COUNTIF('PLANNING PRINCIPAL'!$I$657:$X$657,D31)>=1,\"\",ROW())","v":31},null,null,{"$f":"IF(COUNTIF('PLANNING PRINCIPAL'!$I$660:$X$660,G31)>=1,\"\",ROW())","v":31},null,null,{"$f":"IF(COUNTIF('PLANNING PRINCIPAL'!$I$663:$X$663,J31)>=1,\"\",ROW())","v":31},null,null,{"$f":"IF(COUNTIF('PLANNING PRINCIPAL'!$I$666:$X$666,M31)>=1,\"\",ROW())","v":31},null,null,{"$f":"IF(COUNTIF('PLANNING PRINCIPAL'!$I$669:$X$669,P31)>=1,\"\",ROW())","v":31},null,null,{"$f":"IF(COUNTIF('PLANNING PRINCIPAL'!$I$672:$X$672,S31)>=1,\"\",ROW())","v":31},null,null,{"$f":"IF(COUNTIF('PLANNING PRINCIPAL'!$I$651:$X$651,V31)>=1,\"\",ROW())","v":31}]
[null,{"$f":"IF(COUNTIF('PLANNING PRINCIPAL'!$I$654:$X$654,A32)>=1,\"\",ROW())","v":32},null,null,{"$f":"IF(COUNTIF('PLANNING PRINCIPAL'!$I$657:$X$657,D32)>=1,\"\",ROW())","v":32},null,null,{"$f":"IF(COUNTIF('PLANNING PRINCIPAL'!$I$660:$X$660,G32)>=1,\"\",ROW())","v":32},null,null,{"$f":"IF(COUNTIF('PLANNING PRINCIPAL'!$I$663:$X$663,J32)>=1,\"\",ROW())","v":32},null,null,{"$f":"IF(COUNTIF('PLANNING PRINCIPAL'!$I$666:$X$666,M32)>=1,\"\",ROW())","v":32},null,null,{"$f":"IF(COUNTIF('PLANNING PRINCIPAL'!$I$669:$X$669,P32)>=1,\"\",ROW())","v":32},null,null,{"$f":"IF(COUNTIF('PLANNING PRINCIPAL'!$I$672:$X$672,S32)>=1,\"\",ROW())","v":32},null,null,{"$f":"IF(COUNTIF('PLANNING PRINCIPAL'!$I$651:$X$651,V32)>=1,\"\",ROW())","v":32}]
[null,{"$f":"IF(COUNTIF('PLANNING PRINCIPAL'!$I$654:$X$654,A33)>=1,\"\",ROW())","v":33},null,null,{"$f":"IF(COUNTIF('PLANNING PRINCIPAL'!$I$657:$X$657,D33)>=1,\"\",ROW())","v":33},null,null,{"$f":"IF(COUNTIF('PLANNING PRINCIPAL'!$I$660:$X$660,G33)>=1,\"\",ROW())","v":33},null,null,{"$f":"IF(COUNTIF('PLANNING PRINCIPAL'!$I$663:$X$663,J33)>=1,\"\",ROW())","v":33},null,null,{"$f":"IF(COUNTIF('PLANNING PRINCIPAL'!$I$666:$X$666,M33)>=1,\"\",ROW())","v":33},null,null,{"$f":"IF(COUNTIF('PLANNING PRINCIPAL'!$I$669:$X$669,P33)>=1,\"\",ROW())","v":33},null,null,{"$f":"IF(COUNTIF('PLANNING PRINCIPAL'!$I$672:$X$672,S33)>=1,\"\",ROW())","v":33},null,null,{"$f":"IF(COUNTIF('PLANNING PRINCIPAL'!$I$651:$X$651,V33)>=1,\"\",ROW())","v":33}]
[null,{"$f":"IF(COUNTIF('PLANNING PRINCIPAL'!$I$654:$X$654,A34)>=1,\"\",ROW())","v":34},null,null,{"$f":"IF(COUNTIF('PLANNING PRINCIPAL'!$I$657:$X$657,D34)>=1,\"\",ROW())","v":34},null,null,{"$f":"IF(COUNTIF('PLANNING PRINCIPAL'!$I$660:$X$660,G34)>=1,\"\",ROW())","v":34},null,null,{"$f":"IF(COUNTIF('PLANNING PRINCIPAL'!$I$663:$X$663,J34)>=1,\"\",ROW())","v":34},null,null,{"$f":"IF(COUNTIF('PLANNING PRINCIPAL'!$I$666:$X$666,M34)>=1,\"\",ROW())","v":34},null,null,{"$f":"IF(COUNTIF('PLANNING PRINCIPAL'!$I$669:$X$669,P34)>=1,\"\",ROW())","v":34},null,null,{"$f":"IF(COUNTIF('PLANNING PRINCIPAL'!$I$672:$X$672,S34)>=1,\"\",ROW())","v":34},null,null,{"$f":"IF(COUNTIF('PLANNING PRINCIPAL'!$I$651:$X$651,V34)>=1,\"\",ROW())","v":34}]
["LUNDI",null,null,"MARDI",null,null,"MERCREDI",null,null,"JEUDI",null,null,"VENDREDI",null,null,"SAMEDI",null,null,"DIMANCHE",null,null,"ASTREINTE"]

{"sheet":"DATA S30","index":31,"n_rows":35,"n_cols":24,"rows_kept":35,"cut":false,"hidden":false,"merged":[[34,18,34,20],[34,21,34,23],[34,0,34,2],[34,3,34,5],[34,6,34,8],[34,9,34,11],[34,12,34,14],[34,15,34,17]]}
[{"$f":"'DATA S1'!A1","v":"MAS XX "},{"$f":"IF(COUNTIF('PLANNING PRINCIPAL'!$I$677:$X$677,A1)>=1,\"\",ROW())","v":1},{"$f":"IF(ROW(A1)-ROW(A$1)+1>COUNT(B:B),\"\", INDEX(A:A,SMALL(B:B,1+ROW(A1)-ROW(A$1))))","v":"MAS XX "},{"$f":"A1","v":"MAS XX "},{"$f":"IF(COUNTIF('PLANNING PRINCIPAL'!$I$680:$X$680,D1)>=1,\"\",ROW())","v":1},{"$f":"IF(ROW(D1)-ROW(D$1)+1>COUNT(E:E),\"\", INDEX(D:D,SMALL(E:E,1+ROW(D1)-ROW(D$1))))","v":"MAS XX "},{"$f":"A1","v":"MAS XX "},{"$f":"IF(COUNTIF('PLANNING PRINCIPAL'!$I$683:$X$683,G1)>=1,\"\",ROW())","v":1},{"$f":"IF(ROW(G1)-ROW(G$1)+1>COUNT(H:H),\"\", INDEX(G:G,SMALL(H:H,1+ROW(G1)-ROW(G$1))))","v":"MAS XX "},{"$f":"A1","v":"MAS XX "},{"$f":"IF(COUNTIF('PLANNING PRINCIPAL'!$I$686:$X$686,J1)>=1,\"\",ROW())","v":1},{"$f":"IF(ROW(J1)-ROW(J$1)+1>COUNT(K:K),\"\", INDEX(J:J,SMALL(K:K,1+ROW(J1)-ROW(J$1))))","v":"MAS XX "},{"$f":"A1","v":"MAS XX "},{"$f":"IF(COUNTIF('PLANNING PRINCIPAL'!$I$689:$X$689,M1)>=1,\"\",ROW())","v":1},{"$f":"IF(ROW(M1)-ROW(M$1)+1>COUNT(N:N),\"\", INDEX(M:M,SMALL(N:N,1+ROW(M1)-ROW(M$1))))","v":"MAS XX "},{"$f":"A1","v":"MAS XX "},{"$f":"IF(COUNTIF('PLANNING PRINCIPAL'!$I$692:$X$692,P1)>=1,\"\",ROW())","v":1},{"$f":"IF(ROW(P1)-ROW(P$1)+1>COUNT(Q:Q),\"\", INDEX(P:P,SMALL(Q:Q,1+ROW(P1)-ROW(P$1))))","v":"MAS XX "},{"$f":"A1","v":"MAS XX "},{"$f":"IF(COUNTIF('PLANNING PRINCIPAL'!$I$695:$X$695,S1)>=1,\"\",ROW())","v":1},{"$f":"IF(ROW(S1)-ROW(S$1)+1>COUNT(T:T),\"\", INDEX(S:S,SMALL(T:T,1+ROW(S1)-ROW(S$1))))","v":"MAS XX "},{"$f":"'DATA S1'!V1","v":"ASTREINTE SLT"},{"$f":"IF(COUNTIF('PLANNING PRINCIPAL'!$I$697:$X$697,V1)>=1,\"\",ROW())","v":1},{"$f":"IF(ROW(V1)-ROW(V$1)+1>COUNT(W:W),\"\", INDEX(V:V,SMALL(W:W,1+ROW(V1)-ROW(V$1))))","v":"ASTREINTE SLT"}]
[{"$f":"'DATA S1'!A2","v":"MAS YY "},{"$f":"IF(COUNTIF('PLANNING PRINCIPAL'!$I$677:$X$677,A2)>=1,\"\",ROW())","v":2},{"$f":"IF(ROW(A2)-ROW(A$1)+1>COUNT(B:B),\"\", INDEX(A:A,SMALL(B:B,1+ROW(A2)-ROW(A$1))))","v":"MAS YY "},"MAS YY ",{"$f":"IF(COUNTIF('PLANNING PRINCIPAL'!$I$680:$X$680,D2)>=1,\"\",ROW())","v":2},{"$f":"IF(ROW(D2)-ROW(D$1)+1>COUNT(E:E),\"\", INDEX(D:D,SMALL(E:E,1+ROW(D2)-ROW(D$1))))","v":"MAS YY "},{"$f":"A2","v":"MAS YY "},{"$f":"IF(COUNTIF('PLANNING PRINCIPAL'!$I$683:$X$683,G2)>=1,\"\",ROW())","v":2},{"$f":"IF(ROW(G2)-ROW(G$1)+1>COUNT(H:H),\"\", INDEX(G:G,SMALL(H:H,1+ROW(G2)-ROW(G$1))))","v":"MAS YY "},{"$f":"A2","v":"MAS YY "},{"$f":"IF(COUNTIF('PLANNING PRINCIPAL'!$I$686:$X$686,J2)>=1,\"\",ROW())","v":2},{"$f":"IF(ROW(J2)-ROW(J$1)+1>COUNT(K:K),\"\", INDEX(J:J,SMALL(K:K,1+ROW(J2)-ROW(J$1))))","v":"MAS YY "},{"$f":"A2","v":"MAS YY "},{"$f":"IF(COUNTIF('PLANNING PRINCIPAL'!$I$689:$X$689,M2)>=1,\"\",ROW())","v":2},{"$f":"IF(ROW(M2)-ROW(M$1)+1>COUNT(N:N),\"\", INDEX(M:M,SMALL(N:N,1+ROW(M2)-ROW(M$1))))","v":"MAS YY "},{"$f":"A2","v":"MAS YY "},{"$f":"IF(COUNTIF('PLANNING PRINCIPAL'!$I$692:$X$692,P2)>=1,\"\",ROW())","v":2},{"$f":"IF(ROW(P2)-ROW(P$1)+1>COUNT(Q:Q),\"\", INDEX(P:P,SMALL(Q:Q,1+ROW(P2)-ROW(P$1))))","v":"MAS YY "},{"$f":"A2","v":"MAS YY "},{"$f":"IF(COUNTIF('PLANNING PRINCIPAL'!$I$695:$X$695,S2)>=1,\"\",ROW())","v":2},{"$f":"IF(ROW(S2)-ROW(S$1)+1>COUNT(T:T),\"\", INDEX(S:S,SMALL(T:T,1+ROW(S2)-ROW(S$1))))","v":"MAS YY "},{"$f":"'DATA S1'!V2","v":"ASTREINTE EP"},{"$f":"IF(COUNTIF('PLANNING PRINCIPAL'!$I$697:$X$697,V2)>=1,\"\",ROW())","v":2},{"$f":"IF(ROW(V2)-ROW(V$1)+1>COUNT(W:W),\"\", INDEX(V:V,SMALL(W:W,1+ROW(V2)-ROW(V$1))))","v":"ASTREINTE EP"}]
[{"$f":"'DATA S1'!A3","v":"MAS VQ "},{"$f":"IF(COUNTIF('PLANNING PRINCIPAL'!$I$677:$X$677,A3)>=1,\"\",ROW())","v":3},"MAS VQ ","MAS VQ ",{"$f":"IF(COUNTIF('PLANNING PRINCIPAL'!$I$680:$X$680,D3)>=1,\"\",ROW())","v":3},"MAS VQ ","MAS VQ ",{"$f":"IF(COUNTIF('PLANNING PRINCIPAL'!$I$683:$X$683,G3)>=1,\"\",ROW())","v":3},"MAS VQ ","MAS VQ ",{"$f":"IF(COUNTIF('PLANNING PRINCIPAL'!$I$686:$X$686,J3)>=1,\"\",ROW())","v":3},"MAS VQ ","MAS VQ ",{"$f":"IF(COUNTIF('PLANNING PRINCIPAL'!$I$689:$X$689,M3)>=1,\"\",ROW())","v":3},"MAS VQ ","MAS VQ ",{"$f":"IF(COUNTIF('PLANNING PRINCIPAL'!$I$692:$X$692,P3)>=1,\"\",ROW())","v":3},"MAS VQ ","MAS VQ ",{"$f":"IF(COUNTIF('PLANNING PRINCIPAL'!$I$695:$X$695,S3)>=1,\"\",ROW())","v":3},"MAS VQ ",{"$f":"'DATA S1'!V3","v":"V NOC CHARTRES"},{"$f":"IF(COUNTIF('PLANNING PRINCIPAL'!$I$697:$X$697,V3)>=1,\"\",ROW())","v":3},"V NOC CHARTRES"]
[{"$f":"'DATA S1'!A4","v":"MAS PL "},{"$f":"IF(COUNTIF('PLANNING PRINCIPAL'!$I$677:$X$677,A4)>=1,\"\",ROW())","v":4},"MAS PL ","MAS PL ",{"$f":"IF(COUNTIF('PLANNING PRINCIPAL'!$I$680:$X$680,D4)>=1,\"\",ROW())","v":4},"MAS PL ","MAS PL ",{"$f":"IF(COUNTIF('PLANNING PRINCIPAL'!$I$683:$X$683,G4)>=1,\"\",ROW())","v":4},"MAS PL ","MAS PL ",{"$f":"IF(COUNTIF('PLANNING PRINCIPAL'!$I$686:$X$686,J4)>=1,\"\",ROW())","v":4},"MAS PL ","MAS PL ",{"$f":"IF(COUNTIF('PLANNING PRINCIPAL'!$I$689:$X$689,M4)>=1,\"\",ROW())","v":4},"MAS PL ","MAS PL ",{"$f":"IF(COUNTIF('PLANNING PRINCIPAL'!$I$692:$X$692,P4)>=1,\"\",ROW())","v":4},"MAS PL ","MAS PL ",{"$f":"IF(COUNTIF('PLANNING PRINCIPAL'!$I$695:$X$695,S4)>=1,\"\",ROW())","v":4},"MAS PL ",{"$f":"'DATA S1'!V4","v":"V NOC EPERNON"},{"$f":"IF(COUNTIF('PLANNING PRINCIPAL'!$I$697:$X$697,V4)>=1,\"\",ROW())","v":4},"V NOC EPERNON"]
[{"$f":"'DATA S1'!A5","v":"BEN VL PT "},{"$f":"IF(COUNTIF('PLANNING PRINCIPAL'!$I$677:$X$677,A5)>=1,\"\",ROW())","v":5},"BEN VL PT ","BEN VL PT ",{"$f":"IF(COUNTIF('PLANNING PRINCIPAL'!$I$680:$X$680,D5)>=1,\"\",ROW())","v":5},"BEN VL PT ","BEN VL PT ",{"$f":"IF(COUNTIF('PLANNING PRINCIPAL'!$I$683:$X$683,G5)>=1,\"\",ROW())","v":5},"BEN VL PT ","BEN VL PT ",{"$f":"IF(COUNTIF('PLANNING PRINCIPAL'!$I$686:$X$686,J5)>=1,\"\",ROW())","v":5},"BEN VL PT ","BEN VL PT ",{"$f":"IF(COUNTIF('PLANNING PRINCIPAL'!$I$689:$X$689,M5)>=1,\"\",ROW())","v":5},"BEN VL PT ","BEN VL PT ",{"$f":"IF(COUNTIF('PLANNING PRINCIPAL'!$I$692:$X$692,P5)>=1,\"\",ROW())","v":5},"BEN VL PT ","BEN VL PT ",{"$f":"IF(COUNTIF('PLANNING PRINCIPAL'!$I$695:$X$695,S5)>=1,\"\",ROW())","v":5},"BEN VL PT ",{"$f":"'DATA S1'!V5","v":"V NOC HANCHES"},{"$f":"IF(COUNTIF('PLANNING PRINCIPAL'!$I$697:$X$697,V5)>=1,\"\",ROW())","v":5},"V NOC HANCHES"]
[{"$f":"'DATA S1'!A6","v":"BEN 19T "},{"$f":"IF(COUNTIF('PLANNING PRINCIPAL'!$I$677:$X$677,A6)>=1,\"\",ROW())","v":6},"BEN 19T ","BEN 19T ",{"$f":"IF(COUNTIF('PLANNING PRINCIPAL'!$I$680:$X$680,D6)>=1,\"\",ROW())","v":6},"BEN 19T ","BEN 19T ",{"$f":"IF(COUNTIF('PLANNING PRINCIPAL'!$I$683:$X$683,G6)>=1,\"\",ROW())","v":6},"BEN 19T ","BEN 19T ",{"$f":"IF(COUNTIF('PLANNING PRINCIPAL'!$I$686:$X$686,J6)>=1,\"\",ROW())","v":6},"BEN 19T ","BEN 19T ",{"$f":"IF(COUNTIF('PLANNING PRINCIPAL'!$I$689:$X$689,M6)>=1,\"\",ROW())","v":6},"BEN 19T ","BEN 19T ",{"$f":"IF(COUNTIF('PLANNING PRINCIPAL'!$I$692:$X$692,P6)>=1,\"\",ROW())","v":6},"BEN 19T ","BEN 19T ",{"$f":"IF(COUNTIF('PLANNING PRINCIPAL'!$I$695:$X$695,S6)>=1,\"\",ROW())","v":6},"BEN 19T ",{"$f":"'DATA S1'!V6","v":"V NOC MAINTENON"},{"$f":"IF(COUNTIF('PLANNING PRINCIPAL'!$I$697:$X$697,V6)>=1,\"\",ROW())","v":6},"V NOC MAINTENON"]
[{"$f":"'DATA S1'!A7","v":"BEN 13T "},{"$f":"IF(COUNTIF('PLANNING PRINCIPAL'!$I$677:$X$677,A7)>=1,\"\",ROW())","v":7},"BEN 13T ","BEN 13T ",{"$f":"IF(COUNTIF('PLANNING PRINCIPAL'!$I$680:$X$680,D7)>=1,\"\",ROW())","v":7},"BEN 13T ","BEN 13T ",{"$f":"IF(COUNTIF('PLANNING PRINCIPAL'!$I$683:$X$683,G7)>=1,\"\",ROW())","v":7},"BEN 13T ","BEN 13T ",{"$f":"IF(COUNTIF('PLANNING PRINCIPAL'!$I$686:$X$686,J7)>=1,\"\",ROW())","v":7},"BEN 13T ","BEN 13T ",{"$f":"IF(COUNTIF('PLANNING PRINCIPAL'!$I$689:$X$689,M7)>=1,\"\",ROW())","v":7},"BEN 13T ","BEN 13T ",{"$f":"IF(COUNTIF('PLANNING PRINCIPAL'!$I$692:$X$692,P7)>=1,\"\",ROW())","v":7},"BEN 13T ","BEN 13T ",{"$f":"IF(COUNTIF('PLANNING PRINCIPAL'!$I$695:$X$695,S7)>=1,\"\",ROW())","v":7},"BEN 13T ",null,{"$f":"IF(COUNTIF('PLANNING PRINCIPAL'!$I$651:$X$651,V7)>=1,\"\",ROW())","v":7}]
[{"$f":"'DATA S1'!A8","v":"NAC VL 18M "},{"$f":"IF(COUNTIF('PLANNING PRINCIPAL'!$I$677:$X$677,A8)>=1,\"\",ROW())","v":8},"NAC VL 18M ","NAC VL 18M ",{"$f":"IF(COUNTIF('PLANNING PRINCIPAL'!$I$680:$X$680,D8)>=1,\"\",ROW())","v":8},"NAC VL 18M ","NAC VL 18M ",{"$f":"IF(COUNTIF('PLANNING PRINCIPAL'!$I$683:$X$683,G8)>=1,\"\",ROW())","v":8},"NAC VL 18M ","NAC VL 18M ",{"$f":"IF(COUNTIF('PLANNING PRINCIPAL'!$I$686:$X$686,J8)>=1,\"\",ROW())","v":8},"NAC VL 18M ","NAC VL 18M ",{"$f":"IF(COUNTIF('PLANNING PRINCIPAL'!$I$689:$X$689,M8)>=1,\"\",ROW())","v":8},"NAC VL 18M ","NAC VL 18M ",{"$f":"IF(COUNTIF('PLANNING PRINCIPAL'!$I$692:$X$692,P8)>=1,\"\",ROW())","v":8},"NAC VL 18M ","NAC VL 18M ",{"$f":"IF(COUNTIF('PLANNING PRINCIPAL'!$I$695:$X$695,S8)>=1,\"\",ROW())","v":8},"NAC VL 18M ",null,{"$f":"IF(COUNTIF('PLANNING PRINCIPAL'!$I$651:$X$651,V8)>=1,\"\",ROW())","v":8}]
[{"$f":"'DATA S1'!A9","v":"NAC EGIE"},{"$f":"IF(COUNTIF('PLANNING PRINCIPAL'!$I$677:$X$677,A9)>=1,\"\",ROW())","v":9},"NAC EGIE","NAC EGIE",{"$f":"IF(COUNTIF('PLANNING PRINCIPAL'!$I$680:$X$680,D9)>=1,\"\",ROW())","v":9},"NAC EGIE","NAC EGIE",{"$f":"IF(COUNTIF('PLANNING PRINCIPAL'!$I$683:$X$683,G9)>=1,\"\",ROW())","v":9},"NAC EGIE","NAC EGIE",{"$f":"IF(COUNTIF('PLANNING PRINCIPAL'!$I$686:$X$686,J9)>=1,\"\",ROW())","v":9},"NAC EGIE","NAC EGIE",{"$f":"IF(COUNTIF('PLANNING PRINCIPAL'!$I$689:$X$689,M9)>=1,\"\",ROW())","v":9},"NAC EGIE","NAC EGIE",{"$f":"IF(COUNTIF('PLANNING PRINCIPAL'!$I$692:$X$692,P9)>=1,\"\",ROW())","v":9},"NAC EGIE","NAC EGIE",{"$f":"IF(COUNTIF('PLANNING PRINCIPAL'!$I$695:$X$695,S9)>=1,\"\",ROW())","v":9},"NAC EGIE",null,{"$f":"IF(COUNTIF('PLANNING PRINCIPAL'!$I$651:$X$651,V9)>=1,\"\",ROW())","v":9}]
[{"$f":"'DATA S1'!A10","v":"NAC COMI "},{"$f":"IF(COUNTIF('PLANNING PRINCIPAL'!$I$677:$X$677,A10)>=1,\"\",ROW())","v":10},"NAC COMI ","NAC COMI ",{"$f":"IF(COUNTIF('PLANNING PRINCIPAL'!$I$680:$X$680,D10)>=1,\"\",ROW())","v":10},"NAC COMI ","NAC COMI ",{"$f":"IF(COUNTIF('PLANNING PRINCIPAL'!$I$683:$X$683,G10)>=1,\"\",ROW())","v":10},"NAC COMI ","NAC COMI ",{"$f":"IF(COUNTIF('PLANNING PRINCIPAL'!$I$686:$X$686,J10)>=1,\"\",ROW())","v":10},"NAC COMI ","NAC COMI ",{"$f":"IF(COUNTIF('PLANNING PRINCIPAL'!$I$689:$X$689,M10)>=1,\"\",ROW())","v":10},"NAC COMI ","NAC COMI ",{"$f":"IF(COUNTIF('PLANNING PRINCIPAL'!$I$692:$X$692,P10)>=1,\"\",ROW())","v":10},"NAC COMI ","NAC COMI ",{"$f":"IF(COUNTIF('PLANNING PRINCIPAL'!$I$695:$X$695,S10)>=1,\"\",ROW())","v":10},"NAC COMI ",null,{"$f":"IF(COUNTIF('PLANNING PRINCIPAL'!$I$651:$X$651,V10)>=1,\"\",ROW())","v":10}]
[{"$f":"'DATA S1'!A11","v":"#####LOCATION#####"},{"$f":"IF(COUNTIF('PLANNING PRINCIPAL'!$I$677:$X$677,A11)>=1,\"\",ROW())","v":11},"#####LOCATION#####","#####LOCATION#####",{"$f":"IF(COUNTIF('PLANNING PRINCIPAL'!$I$680:$X$680,D11)>=1,\"\",ROW())","v":11},"#####LOCATION#####","#####LOCATION#####",{"$f":"IF(COUNTIF('PLANNING PRINCIPAL'!$I$683:$X$683,G11)>=1,\"\",ROW())","v":11},"#####LOCATION#####","#####LOCATION#####",{"$f":"IF(COUNTIF('PLANNING PRINCIPAL'!$I$686:$X$686,J11)>=1,\"\",ROW())","v":11},"#####LOCATION#####","#####LOCATION#####",{"$f":"IF(COUNTIF('PLANNING PRINCIPAL'!$I$689:$X$689,M11)>=1,\"\",ROW())","v":11},"#####LOCATION#####","#####LOCATION#####",{"$f":"IF(COUNTIF('PLANNING PRINCIPAL'!$I$692:$X$692,P11)>=1,\"\",ROW())","v":11},"#####LOCATION#####","#####LOCATION#####",{"$f":"IF(COUNTIF('PLANNING PRINCIPAL'!$I$695:$X$695,S11)>=1,\"\",ROW())","v":11},"#####LOCATION#####",null,{"$f":"IF(COUNTIF('PLANNING PRINCIPAL'!$I$651:$X$651,V11)>=1,\"\",ROW())","v":11}]
[{"$f":"'DATA S1'!A12","v":"LOC NAC SOLOMAT"},{"$f":"IF(COUNTIF('PLANNING PRINCIPAL'!$I$677:$X$677,A12)>=1,\"\",ROW())","v":12},"LOC NAC SOLOMAT","LOC NAC SOLOMAT",{"$f":"IF(COUNTIF('PLANNING PRINCIPAL'!$I$680:$X$680,D12)>=1,\"\",ROW())","v":12},"LOC NAC SOLOMAT","LOC NAC SOLOMAT",{"$f":"IF(COUNTIF('PLANNING PRINCIPAL'!$I$683:$X$683,G12)>=1,\"\",ROW())","v":12},"LOC NAC SOLOMAT","LOC NAC SOLOMAT",{"$f":"IF(COUNTIF('PLANNING PRINCIPAL'!$I$686:$X$686,J12)>=1,\"\",ROW())","v":12},"LOC NAC SOLOMAT","LOC NAC SOLOMAT",{"$f":"IF(COUNTIF('PLANNING PRINCIPAL'!$I$689:$X$689,M12)>=1,\"\",ROW())","v":12},"LOC NAC SOLOMAT","LOC NAC SOLOMAT",{"$f":"IF(COUNTIF('PLANNING PRINCIPAL'!$I$692:$X$692,P12)>=1,\"\",ROW())","v":12},"LOC NAC SOLOMAT","LOC NAC SOLOMAT",{"$f":"IF(COUNTIF('PLANNING PRINCIPAL'!$I$695:$X$695,S12)>=1,\"\",ROW())","v":12},"LOC NAC SOLOMAT",null,{"$f":"IF(COUNTIF('PLANNING PRINCIPAL'!$I$651:$X$651,V12)>=1,\"\",ROW())","v":12}]
[{"$f":"'DATA S1'!A13","v":"LOC NAC AEB"},{"$f":"IF(COUNTIF('PLANNING PRINCIPAL'!$I$677:$X$677,A13)>=1,\"\",ROW())","v":13},"LOC NAC AEB","LOC NAC AEB",{"$f":"IF(COUNTIF('PLANNING PRINCIPAL'!$I$680:$X$680,D13)>=1,\"\",ROW())","v":13},"LOC NAC AEB","LOC NAC AEB",{"$f":"IF(COUNTIF('PLANNING PRINCIPAL'!$I$683:$X$683,G13)>=1,\"\",ROW())","v":13},"LOC NAC AEB","LOC NAC AEB",{"$f":"IF(COUNTIF('PLANNING PRINCIPAL'!$I$686:$X$686,J13)>=1,\"\",ROW())","v":13},"LOC NAC AEB","LOC NAC AEB",{"$f":"IF(COUNTIF('PLANNING PRINCIPAL'!$I$689:$X$689,M13)>=1,\"\",ROW())","v":13},"LOC NAC AEB","LOC NAC AEB",{"$f":"IF(COUNTIF('PLANNING PRINCIPAL'!$I$692:$X$692,P13)>=1,\"\",ROW())","v":13},"LOC NAC AEB","LOC NAC AEB",{"$f":"IF(COUNTIF('PLANNING PRINCIPAL'!$I$695:$X$695,S13)>=1,\"\",ROW())","v":13},"LOC NAC AEB",null,{"$f":"IF(COUNTIF('PLANNING PRINCIPAL'!$I$651:$X$651,V13)>=1,\"\",ROW())","v":13}]
[{"$f":"'DATA S1'!A14","v":"LOC NAC INTERLOC"},{"$f":"IF(COUNTIF('PLANNING PRINCIPAL'!$I$677:$X$677,A14)>=1,\"\",ROW())","v":14},"LOC NAC INTERLOC","LOC NAC INTERLOC",{"$f":"IF(COUNTIF('PLANNING PRINCIPAL'!$I$680:$X$680,D14)>=1,\"\",ROW())","v":14},"LOC NAC INTERLOC","LOC NAC INTERLOC",{"$f":"IF(COUNTIF('PLANNING PRINCIPAL'!$I$683:$X$683,G14)>=1,\"\",ROW())","v":14},"LOC NAC INTERLOC","LOC NAC INTERLOC",{"$f":"IF(COUNTIF('PLANNING PRINCIPAL'!$I$686:$X$686,J14)>=1,\"\",ROW())","v":14},"LOC NAC INTERLOC","LOC NAC INTERLOC",{"$f":"IF(COUNTIF('PLANNING PRINCIPAL'!$I$689:$X$689,M14)>=1,\"\",ROW())","v":14},"LOC NAC INTERLOC","LOC NAC INTERLOC",{"$f":"IF(COUNTIF('PLANNING PRINCIPAL'!$I$692:$X$692,P14)>=1,\"\",ROW())","v":14},"LOC NAC INTERLOC","LOC NAC INTERLOC",{"$f":"IF(COUNTIF('PLANNING PRINCIPAL'!$I$695:$X$695,S14)>=1,\"\",ROW())","v":14},"LOC NAC INTERLOC",null,{"$f":"IF(COUNTIF('PLANNING PRINCIPAL'!$I$651:$X$651,V14)>=1,\"\",ROW())","v":14}]
[{"$f":"'DATA S1'!A15","v":"LOC NAC KILOUTOU"},{"$f":"IF(COUNTIF('PLANNING PRINCIPAL'!$I$677:$X$677,A15)>=1,\"\",ROW())","v":15},"LOC NAC KILOUTOU","LOC NAC KILOUTOU",{"$f":"IF(COUNTIF('PLANNING PRINCIPAL'!$I$680:$X$680,D15)>=1,\"\",ROW())","v":15},"LOC NAC KILOUTOU","LOC NAC KILOUTOU",{"$f":"IF(COUNTIF('PLANNING PRINCIPAL'!$I$683:$X$683,G15)>=1,\"\",ROW())","v":15},"LOC NAC KILOUTOU","LOC NAC KILOUTOU",{"$f":"IF(COUNTIF('PLANNING PRINCIPAL'!$I$686:$X$686,J15)>=1,\"\",ROW())","v":15},"LOC NAC KILOUTOU","LOC NAC KILOUTOU",{"$f":"IF(COUNTIF('PLANNING PRINCIPAL'!$I$689:$X$689,M15)>=1,\"\",ROW())","v":15},"LOC NAC KILOUTOU","LOC NAC KILOUTOU",{"$f":"IF(COUNTIF('PLANNING PRINCIPAL'!$I$692:$X$692,P15)>=1,\"\",ROW())","v":15},"LOC NAC KILOUTOU","LOC NAC KILOUTOU",{"$f":"IF(COUNTIF('PLANNING PRINCIPAL'!$I$695:$X$695,S15)>=1,\"\",ROW())","v":15},"LOC NAC KILOUTOU",null,{"$f":"IF(COUNTIF('PLANNING PRINCIPAL'!$I$651:$X$651,V15)>=1,\"\",ROW())","v":15}]
[{"$f":"'DATA S1'!A16","v":"LOC NAC AEB"},{"$f":"IF(COUNTIF('PLANNING PRINCIPAL'!$I$677:$X$677,A16)>=1,\"\",ROW())","v":16},"LOC NAC AEB","LOC NAC AEB",{"$f":"IF(COUNTIF('PLANNING PRINCIPAL'!$I$680:$X$680,D16)>=1,\"\",ROW())","v":16},"LOC NAC AEB","LOC NAC AEB",{"$f":"IF(COUNTIF('PLANNING PRINCIPAL'!$I$683:$X$683,G16)>=1,\"\",ROW())","v":16},"LOC NAC AEB","LOC NAC AEB",{"$f":"IF(COUNTIF('PLANNING PRINCIPAL'!$I$686:$X$686,J16)>=1,\"\",ROW())","v":16},"LOC NAC AEB","LOC NAC AEB",{"$f":"IF(COUNTIF('PLANNING PRINCIPAL'!$I$689:$X$689,M16)>=1,\"\",ROW())","v":16},"LOC NAC AEB","LOC NAC AEB",{"$f":"IF(COUNTIF('PLANNING PRINCIPAL'!$I$692:$X$692,P16)>=1,\"\",ROW())","v":16},"LOC NAC AEB","LOC NAC AEB",{"$f":"IF(COUNTIF('PLANNING PRINCIPAL'!$I$695:$X$695,S16)>=1,\"\",ROW())","v":16},"LOC NAC AEB",null,{"$f":"IF(COUNTIF('PLANNING PRINCIPAL'!$I$651:$X$651,V16)>=1,\"\",ROW())","v":16}]
[{"$f":"'DATA S1'!A17","v":"LOC PELLE SOLOMAT"},{"$f":"IF(COUNTIF('PLANNING PRINCIPAL'!$I$677:$X$677,A17)>=1,\"\",ROW())","v":17},"LOC PELLE SOLOMAT","LOC PELLE SOLOMAT",{"$f":"IF(COUNTIF('PLANNING PRINCIPAL'!$I$680:$X$680,D17)>=1,\"\",ROW())","v":17},"LOC PELLE SOLOMAT","LOC PELLE SOLOMAT",{"$f":"IF(COUNTIF('PLANNING PRINCIPAL'!$I$683:$X$683,G17)>=1,\"\",ROW())","v":17},"LOC PELLE SOLOMAT","LOC PELLE SOLOMAT",{"$f":"IF(COUNTIF('PLANNING PRINCIPAL'!$I$686:$X$686,J17)>=1,\"\",ROW())","v":17},"LOC PELLE SOLOMAT","LOC PELLE SOLOMAT",{"$f":"IF(COUNTIF('PLANNING PRINCIPAL'!$I$689:$X$689,M17)>=1,\"\",ROW())","v":17},"LOC PELLE SOLOMAT","LOC PELLE SOLOMAT",{"$f":"IF(COUNTIF('PLANNING PRINCIPAL'!$I$692:$X$692,P17)>=1,\"\",ROW())","v":17},"LOC PELLE SOLOMAT","LOC PELLE SOLOMAT",{"$f":"IF(COUNTIF('PLANNING PRINCIPAL'!$I$695:$X$695,S17)>=1,\"\",ROW())","v":17},"LOC PELLE SOLOMAT",null,{"$f":"IF(COUNTIF('PLANNING PRINCIPAL'!$I$651:$X$651,V17)>=1,\"\",ROW())","v":17}]
[{"$f":"'DATA S1'!A18","v":"LOC PELLE AEB"},{"$f":"IF(COUNTIF('PLANNING PRINCIPAL'!$I$677:$X$677,A18)>=1,\"\",ROW())","v":18},"LOC PELLE AEB","LOC PELLE AEB",{"$f":"IF(COUNTIF('PLANNING PRINCIPAL'!$I$680:$X$680,D18)>=1,\"\",ROW())","v":18},"LOC PELLE AEB","LOC PELLE AEB",{"$f":"IF(COUNTIF('PLANNING PRINCIPAL'!$I$683:$X$683,G18)>=1,\"\",ROW())","v":18},"LOC PELLE AEB","LOC PELLE AEB",{"$f":"IF(COUNTIF('PLANNING PRINCIPAL'!$I$686:$X$686,J18)>=1,\"\",ROW())","v":18},"LOC PELLE AEB","LOC PELLE AEB",{"$f":"IF(COUNTIF('PLANNING PRINCIPAL'!$I$689:$X$689,M18)>=1,\"\",ROW())","v":18},"LOC PELLE AEB","LOC PELLE AEB",{"$f":"IF(COUNTIF('PLANNING PRINCIPAL'!$I$692:$X$692,P18)>=1,\"\",ROW())","v":18},"LOC PELLE AEB","LOC PELLE AEB",{"$f":"IF(COUNTIF('PLANNING PRINCIPAL'!$I$695:$X$695,S18)>=1,\"\",ROW())","v":18},"LOC PELLE AEB",null,{"$f":"IF(COUNTIF('PLANNING PRINCIPAL'!$I$651:$X$651,V18)>=1,\"\",ROW())","v":18}]
[{"$f":"'DATA S1'!A19","v":"LOC PELLE INTERLOC"},{"$f":"IF(COUNTIF('PLANNING PRINCIPAL'!$I$677:$X$677,A19)>=1,\"\",ROW())","v":19},"LOC PELLE INTERLOC","LOC PELLE INTERLOC",{"$f":"IF(COUNTIF('PLANNING PRINCIPAL'!$I$680:$X$680,D19)>=1,\"\",ROW())","v":19},"LOC PELLE INTERLOC","LOC PELLE INTERLOC",{"$f":"IF(COUNTIF('PLANNING PRINCIPAL'!$I$683:$X$683,G19)>=1,\"\",ROW())","v":19},"LOC PELLE INTERLOC","LOC PELLE INTERLOC",{"$f":"IF(COUNTIF('PLANNING PRINCIPAL'!$I$686:$X$686,J19)>=1,\"\",ROW())","v":19},"LOC PELLE INTERLOC","LOC PELLE INTERLOC",{"$f":"IF(COUNTIF('PLANNING PRINCIPAL'!$I$689:$X$689,M19)>=1,\"\",ROW())","v":19},"LOC PELLE INTERLOC","LOC PELLE INTERLOC",{"$f":"IF(COUNTIF('PLANNING PRINCIPAL'!$I$692:$X$692,P19)>=1,\"\",ROW())","v":19},"LOC PELLE INTERLOC","LOC PELLE INTERLOC",{"$f":"IF(COUNTIF('PLANNING PRINCIPAL'!$I$695:$X$695,S19)>=1,\"\",ROW())","v":19},"LOC PELLE INTERLOC",null,{"$f":"IF(COUNTIF('PLANNING PRINCIPAL'!$I$651:$X$651,V19)>=1,\"\",ROW())","v":19}]
[{"$f":"'DATA S1'!A20","v":"LOC PELLE KILOUTOU"},{"$f":"IF(COUNTIF('PLANNING PRINCIPAL'!$I$677:$X$677,A20)>=1,\"\",ROW())","v":20},"LOC PELLE KILOUTOU","LOC PELLE KILOUTOU",{"$f":"IF(COUNTIF('PLANNING PRINCIPAL'!$I$680:$X$680,D20)>=1,\"\",ROW())","v":20},"LOC PELLE KILOUTOU","LOC PELLE KILOUTOU",{"$f":"IF(COUNTIF('PLANNING PRINCIPAL'!$I$683:$X$683,G20)>=1,\"\",ROW())","v":20},"LOC PELLE KILOUTOU","LOC PELLE KILOUTOU",{"$f":"IF(COUNTIF('PLANNING PRINCIPAL'!$I$686:$X$686,J20)>=1,\"\",ROW())","v":20},"LOC PELLE KILOUTOU","LOC PELLE KILOUTOU",{"$f":"IF(COUNTIF('PLANNING PRINCIPAL'!$I$689:$X$689,M20)>=1,\"\",ROW())","v":20},"LOC PELLE KILOUTOU","LOC PELLE KILOUTOU",{"$f":"IF(COUNTIF('PLANNING PRINCIPAL'!$I$692:$X$692,P20)>=1,\"\",ROW())","v":20},"LOC PELLE KILOUTOU","LOC PELLE KILOUTOU",{"$f":"IF(COUNTIF('PLANNING PRINCIPAL'!$I$695:$X$695,S20)>=1,\"\",ROW())","v":20},"LOC PELLE KILOUTOU",null,{"$f":"IF(COUNTIF('PLANNING PRINCIPAL'!$I$651:$X$651,V20)>=1,\"\",ROW())","v":20}]
[null,{"$f":"IF(COUNTIF('PLANNING PRINCIPAL'!$I$677:$X$677,A21)>=1,\"\",ROW())","v":21},null,null,{"$f":"IF(COUNTIF('PLANNING PRINCIPAL'!$I$680:$X$680,D21)>=1,\"\",ROW())","v":21},null,null,{"$f":"IF(COUNTIF('PLANNING PRINCIPAL'!$I$683:$X$683,G21)>=1,\"\",ROW())","v":21},null,null,{"$f":"IF(COUNTIF('PLANNING PRINCIPAL'!$I$686:$X$686,J21)>=1,\"\",ROW())","v":21},null,null,{"$f":"IF(COUNTIF('PLANNING PRINCIPAL'!$I$689:$X$689,M21)>=1,\"\",ROW())","v":21},null,null,{"$f":"IF(COUNTIF('PLANNING PRINCIPAL'!$I$692:$X$692,P21)>=1,\"\",ROW())","v":21},null,null,{"$f":"IF(COUNTIF('PLANNING PRINCIPAL'!$I$695:$X$695,S21)>=1,\"\",ROW())","v":21},null,null,{"$f":"IF(COUNTIF('PLANNING PRINCIPAL'!$I$651:$X$651,V21)>=1,\"\",ROW())","v":21}]
[null,{"$f":"IF(COUNTIF('PLANNING PRINCIPAL'!$I$677:$X$677,A22)>=1,\"\",ROW())","v":22},null,null,{"$f":"IF(COUNTIF('PLANNING PRINCIPAL'!$I$680:$X$680,D22)>=1,\"\",ROW())","v":22},null,null,{"$f":"IF(COUNTIF('PLANNING PRINCIPAL'!$I$683:$X$683,G22)>=1,\"\",ROW())","v":22},null,null,{"$f":"IF(COUNTIF('PLANNING PRINCIPAL'!$I$686:$X$686,J22)>=1,\"\",ROW())","v":22},null,null,{"$f":"IF(COUNTIF('PLANNING PRINCIPAL'!$I$689:$X$689,M22)>=1,\"\",ROW())","v":22},null,null,{"$f":"IF(COUNTIF('PLANNING PRINCIPAL'!$I$692:$X$692,P22)>=1,\"\",ROW())","v":22},null,null,{"$f":"IF(COUNTIF('PLANNING PRINCIPAL'!$I$695:$X$695,S22)>=1,\"\",ROW())","v":22},null,null,{"$f":"IF(COUNTIF('PLANNING PRINCIPAL'!$I$651:$X$651,V22)>=1,\"\",ROW())","v":22}]
[null,{"$f":"IF(COUNTIF('PLANNING PRINCIPAL'!$I$677:$X$677,A23)>=1,\"\",ROW())","v":23},null,null,{"$f":"IF(COUNTIF('PLANNING PRINCIPAL'!$I$680:$X$680,D23)>=1,\"\",ROW())","v":23},null,null,{"$f":"IF(COUNTIF('PLANNING PRINCIPAL'!$I$683:$X$683,G23)>=1,\"\",ROW())","v":23},null,null,{"$f":"IF(COUNTIF('PLANNING PRINCIPAL'!$I$686:$X$686,J23)>=1,\"\",ROW())","v":23},null,null,{"$f":"IF(COUNTIF('PLANNING PRINCIPAL'!$I$689:$X$689,M23)>=1,\"\",ROW())","v":23},null,null,{"$f":"IF(COUNTIF('PLANNING PRINCIPAL'!$I$692:$X$692,P23)>=1,\"\",ROW())","v":23},null,null,{"$f":"IF(COUNTIF('PLANNING PRINCIPAL'!$I$695:$X$695,S23)>=1,\"\",ROW())","v":23},null,null,{"$f":"IF(COUNTIF('PLANNING PRINCIPAL'!$I$651:$X$651,V23)>=1,\"\",ROW())","v":23}]
[null,{"$f":"IF(COUNTIF('PLANNING PRINCIPAL'!$I$677:$X$677,A24)>=1,\"\",ROW())","v":24},null,null,{"$f":"IF(COUNTIF('PLANNING PRINCIPAL'!$I$680:$X$680,D24)>=1,\"\",ROW())","v":24},null,null,{"$f":"IF(COUNTIF('PLANNING PRINCIPAL'!$I$683:$X$683,G24)>=1,\"\",ROW())","v":24},null,null,{"$f":"IF(COUNTIF('PLANNING PRINCIPAL'!$I$686:$X$686,J24)>=1,\"\",ROW())","v":24},null,null,{"$f":"IF(COUNTIF('PLANNING PRINCIPAL'!$I$689:$X$689,M24)>=1,\"\",ROW())","v":24},null,null,{"$f":"IF(COUNTIF('PLANNING PRINCIPAL'!$I$692:$X$692,P24)>=1,\"\",ROW())","v":24},null,null,{"$f":"IF(COUNTIF('PLANNING PRINCIPAL'!$I$695:$X$695,S24)>=1,\"\",ROW())","v":24},null,null,{"$f":"IF(COUNTIF('PLANNING PRINCIPAL'!$I$651:$X$651,V24)>=1,\"\",ROW())","v":24}]
[null,{"$f":"IF(COUNTIF('PLANNING PRINCIPAL'!$I$677:$X$677,A25)>=1,\"\",ROW())","v":25},null,null,{"$f":"IF(COUNTIF('PLANNING PRINCIPAL'!$I$680:$X$680,D25)>=1,\"\",ROW())","v":25},null,null,{"$f":"IF(COUNTIF('PLANNING PRINCIPAL'!$I$683:$X$683,G25)>=1,\"\",ROW())","v":25},null,null,{"$f":"IF(COUNTIF('PLANNING PRINCIPAL'!$I$686:$X$686,J25)>=1,\"\",ROW())","v":25},null,null,{"$f":"IF(COUNTIF('PLANNING PRINCIPAL'!$I$689:$X$689,M25)>=1,\"\",ROW())","v":25},null,null,{"$f":"IF(COUNTIF('PLANNING PRINCIPAL'!$I$692:$X$692,P25)>=1,\"\",ROW())","v":25},null,null,{"$f":"IF(COUNTIF('PLANNING PRINCIPAL'!$I$695:$X$695,S25)>=1,\"\",ROW())","v":25},null,null,{"$f":"IF(COUNTIF('PLANNING PRINCIPAL'!$I$651:$X$651,V25)>=1,\"\",ROW())","v":25}]
[null,{"$f":"IF(COUNTIF('PLANNING PRINCIPAL'!$I$677:$X$677,A26)>=1,\"\",ROW())","v":26},null,null,{"$f":"IF(COUNTIF('PLANNING PRINCIPAL'!$I$680:$X$680,D26)>=1,\"\",ROW())","v":26},null,null,{"$f":"IF(COUNTIF('PLANNING PRINCIPAL'!$I$683:$X$683,G26)>=1,\"\",ROW())","v":26},null,null,{"$f":"IF(COUNTIF('PLANNING PRINCIPAL'!$I$686:$X$686,J26)>=1,\"\",ROW())","v":26},null,null,{"$f":"IF(COUNTIF('PLANNING PRINCIPAL'!$I$689:$X$689,M26)>=1,\"\",ROW())","v":26},null,null,{"$f":"IF(COUNTIF('PLANNING PRINCIPAL'!$I$692:$X$692,P26)>=1,\"\",ROW())","v":26},null,null,{"$f":"IF(COUNTIF('PLANNING PRINCIPAL'!$I$695:$X$695,S26)>=1,\"\",ROW())","v":26},null,null,{"$f":"IF(COUNTIF('PLANNING PRINCIPAL'!$I$651:$X$651,V26)>=1,\"\",ROW())","v":26}]
[null,{"$f":"IF(COUNTIF('PLANNING PRINCIPAL'!$I$677:$X$677,A27)>=1,\"\",ROW())","v":27},null,null,{"$f":"IF(COUNTIF('PLANNING PRINCIPAL'!$I$680:$X$680,D27)>=1,\"\",ROW())","v":27},null,null,{"$f":"IF(COUNTIF('PLANNING PRINCIPAL'!$I$683:$X$683,G27)>=1,\"\",ROW())","v":27},null,null,{"$f":"IF(COUNTIF('PLANNING PRINCIPAL'!$I$686:$X$686,J27)>=1,\"\",ROW())","v":27},null,null,{"$f":"IF(COUNTIF('PLANNING PRINCIPAL'!$I$689:$X$689,M27)>=1,\"\",ROW())","v":27},null,null,{"$f":"IF(COUNTIF('PLANNING PRINCIPAL'!$I$692:$X$692,P27)>=1,\"\",ROW())","v":27},null,null,{"$f":"IF(COUNTIF('PLANNING PRINCIPAL'!$I$695:$X$695,S27)>=1,\"\",ROW())","v":27},null,null,{"$f":"IF(COUNTIF('PLANNING PRINCIPAL'!$I$651:$X$651,V27)>=1,\"\",ROW())","v":27}]
[null,{"$f":"IF(COUNTIF('PLANNING PRINCIPAL'!$I$677:$X$677,A28)>=1,\"\",ROW())","v":28},null,null,{"$f":"IF(COUNTIF('PLANNING PRINCIPAL'!$I$680:$X$680,D28)>=1,\"\",ROW())","v":28},null,null,{"$f":"IF(COUNTIF('PLANNING PRINCIPAL'!$I$683:$X$683,G28)>=1,\"\",ROW())","v":28},null,null,{"$f":"IF(COUNTIF('PLANNING PRINCIPAL'!$I$686:$X$686,J28)>=1,\"\",ROW())","v":28},null,null,{"$f":"IF(COUNTIF('PLANNING PRINCIPAL'!$I$689:$X$689,M28)>=1,\"\",ROW())","v":28},null,null,{"$f":"IF(COUNTIF('PLANNING PRINCIPAL'!$I$692:$X$692,P28)>=1,\"\",ROW())","v":28},null,null,{"$f":"IF(COUNTIF('PLANNING PRINCIPAL'!$I$695:$X$695,S28)>=1,\"\",ROW())","v":28},null,null,{"$f":"IF(COUNTIF('PLANNING PRINCIPAL'!$I$651:$X$651,V28)>=1,\"\",ROW())","v":28}]
[null,{"$f":"IF(COUNTIF('PLANNING PRINCIPAL'!$I$677:$X$677,A29)>=1,\"\",ROW())","v":29},null,null,{"$f":"IF(COUNTIF('PLANNING PRINCIPAL'!$I$680:$X$680,D29)>=1,\"\",ROW())","v":29},null,null,{"$f":"IF(COUNTIF('PLANNING PRINCIPAL'!$I$683:$X$683,G29)>=1,\"\",ROW())","v":29},null,null,{"$f":"IF(COUNTIF('PLANNING PRINCIPAL'!$I$686:$X$686,J29)>=1,\"\",ROW())","v":29},null,null,{"$f":"IF(COUNTIF('PLANNING PRINCIPAL'!$I$689:$X$689,M29)>=1,\"\",ROW())","v":29},null,null,{"$f":"IF(COUNTIF('PLANNING PRINCIPAL'!$I$692:$X$692,P29)>=1,\"\",ROW())","v":29},null,null,{"$f":"IF(COUNTIF('PLANNING PRINCIPAL'!$I$695:$X$695,S29)>=1,\"\",ROW())","v":29},null,null,{"$f":"IF(COUNTIF('PLANNING PRINCIPAL'!$I$651:$X$651,V29)>=1,\"\",ROW())","v":29}]
[null,{"$f":"IF(COUNTIF('PLANNING PRINCIPAL'!$I$677:$X$677,A30)>=1,\"\",ROW())","v":30},null,null,{"$f":"IF(COUNTIF('PLANNING PRINCIPAL'!$I$680:$X$680,D30)>=1,\"\",ROW())","v":30},null,null,{"$f":"IF(COUNTIF('PLANNING PRINCIPAL'!$I$683:$X$683,G30)>=1,\"\",ROW())","v":30},null,null,{"$f":"IF(COUNTIF('PLANNING PRINCIPAL'!$I$686:$X$686,J30)>=1,\"\",ROW())","v":30},null,null,{"$f":"IF(COUNTIF('PLANNING PRINCIPAL'!$I$689:$X$689,M30)>=1,\"\",ROW())","v":30},null,null,{"$f":"IF(COUNTIF('PLANNING PRINCIPAL'!$I$692:$X$692,P30)>=1,\"\",ROW())","v":30},null,null,{"$f":"IF(COUNTIF('PLANNING PRINCIPAL'!$I$695:$X$695,S30)>=1,\"\",ROW())","v":30},null,null,{"$f":"IF(COUNTIF('PLANNING PRINCIPAL'!$I$651:$X$651,V30)>=1,\"\",ROW())","v":30}]
[null,{"$f":"IF(COUNTIF('PLANNING PRINCIPAL'!$I$677:$X$677,A31)>=1,\"\",ROW())","v":31},null,null,{"$f":"IF(COUNTIF('PLANNING PRINCIPAL'!$I$680:$X$680,D31)>=1,\"\",ROW())","v":31},null,null,{"$f":"IF(COUNTIF('PLANNING PRINCIPAL'!$I$683:$X$683,G31)>=1,\"\",ROW())","v":31},null,null,{"$f":"IF(COUNTIF('PLANNING PRINCIPAL'!$I$686:$X$686,J31)>=1,\"\",ROW())","v":31},null,null,{"$f":"IF(COUNTIF('PLANNING PRINCIPAL'!$I$689:$X$689,M31)>=1,\"\",ROW())","v":31},null,null,{"$f":"IF(COUNTIF('PLANNING PRINCIPAL'!$I$692:$X$692,P31)>=1,\"\",ROW())","v":31},null,null,{"$f":"IF(COUNTIF('PLANNING PRINCIPAL'!$I$695:$X$695,S31)>=1,\"\",ROW())","v":31},null,null,{"$f":"IF(COUNTIF('PLANNING PRINCIPAL'!$I$651:$X$651,V31)>=1,\"\",ROW())","v":31}]
[null,{"$f":"IF(COUNTIF('PLANNING PRINCIPAL'!$I$677:$X$677,A32)>=1,\"\",ROW())","v":32},null,null,{"$f":"IF(COUNTIF('PLANNING PRINCIPAL'!$I$680:$X$680,D32)>=1,\"\",ROW())","v":32},null,null,{"$f":"IF(COUNTIF('PLANNING PRINCIPAL'!$I$683:$X$683,G32)>=1,\"\",ROW())","v":32},null,null,{"$f":"IF(COUNTIF('PLANNING PRINCIPAL'!$I$686:$X$686,J32)>=1,\"\",ROW())","v":32},null,null,{"$f":"IF(COUNTIF('PLANNING PRINCIPAL'!$I$689:$X$689,M32)>=1,\"\",ROW())","v":32},null,null,{"$f":"IF(COUNTIF('PLANNING PRINCIPAL'!$I$692:$X$692,P32)>=1,\"\",ROW())","v":32},null,null,{"$f":"IF(COUNTIF('PLANNING PRINCIPAL'!$I$695:$X$695,S32)>=1,\"\",ROW())","v":32},null,null,{"$f":"IF(COUNTIF('PLANNING PRINCIPAL'!$I$651:$X$651,V32)>=1,\"\",ROW())","v":32}]
[null,{"$f":"IF(COUNTIF('PLANNING PRINCIPAL'!$I$677:$X$677,A33)>=1,\"\",ROW())","v":33},null,null,{"$f":"IF(COUNTIF('PLANNING PRINCIPAL'!$I$680:$X$680,D33)>=1,\"\",ROW())","v":33},null,null,{"$f":"IF(COUNTIF('PLANNING PRINCIPAL'!$I$683:$X$683,G33)>=1,\"\",ROW())","v":33},null,null,{"$f":"IF(COUNTIF('PLANNING PRINCIPAL'!$I$686:$X$686,J33)>=1,\"\",ROW())","v":33},null,null,{"$f":"IF(COUNTIF('PLANNING PRINCIPAL'!$I$689:$X$689,M33)>=1,\"\",ROW())","v":33},null,null,{"$f":"IF(COUNTIF('PLANNING PRINCIPAL'!$I$692:$X$692,P33)>=1,\"\",ROW())","v":33},null,null,{"$f":"IF(COUNTIF('PLANNING PRINCIPAL'!$I$695:$X$695,S33)>=1,\"\",ROW())","v":33},null,null,{"$f":"IF(COUNTIF('PLANNING PRINCIPAL'!$I$651:$X$651,V33)>=1,\"\",ROW())","v":33}]
[null,{"$f":"IF(COUNTIF('PLANNING PRINCIPAL'!$I$677:$X$677,A34)>=1,\"\",ROW())","v":34},null,null,{"$f":"IF(COUNTIF('PLANNING PRINCIPAL'!$I$680:$X$680,D34)>=1,\"\",ROW())","v":34},null,null,{"$f":"IF(COUNTIF('PLANNING PRINCIPAL'!$I$683:$X$683,G34)>=1,\"\",ROW())","v":34},null,null,{"$f":"IF(COUNTIF('PLANNING PRINCIPAL'!$I$686:$X$686,J34)>=1,\"\",ROW())","v":34},null,null,{"$f":"IF(COUNTIF('PLANNING PRINCIPAL'!$I$689:$X$689,M34)>=1,\"\",ROW())","v":34},null,null,{"$f":"IF(COUNTIF('PLANNING PRINCIPAL'!$I$692:$X$692,P34)>=1,\"\",ROW())","v":34},null,null,{"$f":"IF(COUNTIF('PLANNING PRINCIPAL'!$I$695:$X$695,S34)>=1,\"\",ROW())","v":34},null,null,{"$f":"IF(COUNTIF('PLANNING PRINCIPAL'!$I$651:$X$651,V34)>=1,\"\",ROW())","v":34}]
["LUNDI",null,null,"MARDI",null,null,"MERCREDI",null,null,"JEUDI",null,null,"VENDREDI",null,null,"SAMEDI",null,null,"DIMANCHE",null,null,"ASTREINTE"]

{"sheet":"DATA S31","index":32,"n_rows":35,"n_cols":24,"rows_kept":35,"cut":false,"hidden":false,"merged":[[34,18,34,20],[34,21,34,23],[34,0,34,2],[34,3,34,5],[34,6,34,8],[34,9,34,11],[34,12,34,14],[34,15,34,17]]}
[{"$f":"'DATA S1'!A1","v":"MAS XX "},{"$f":"IF(COUNTIF('PLANNING PRINCIPAL'!$I$700:$X$700,A1)>=1,\"\",ROW())","v":1},{"$f":"IF(ROW(A1)-ROW(A$1)+1>COUNT(B:B),\"\", INDEX(A:A,SMALL(B:B,1+ROW(A1)-ROW(A$1))))","v":"MAS XX "},{"$f":"A1","v":"MAS XX "},{"$f":"IF(COUNTIF('PLANNING PRINCIPAL'!$I$703:$X$703,D1)>=1,\"\",ROW())","v":1},{"$f":"IF(ROW(D1)-ROW(D$1)+1>COUNT(E:E),\"\", INDEX(D:D,SMALL(E:E,1+ROW(D1)-ROW(D$1))))","v":"MAS XX "},{"$f":"A1","v":"MAS XX "},{"$f":"IF(COUNTIF('PLANNING PRINCIPAL'!$I$706:$X$706,G1)>=1,\"\",ROW())","v":1},{"$f":"IF(ROW(G1)-ROW(G$1)+1>COUNT(H:H),\"\", INDEX(G:G,SMALL(H:H,1+ROW(G1)-ROW(G$1))))","v":"MAS XX "},{"$f":"A1","v":"MAS XX "},{"$f":"IF(COUNTIF('PLANNING PRINCIPAL'!$I$709:$X$709,J1)>=1,\"\",ROW())","v":1},{"$f":"IF(ROW(J1)-ROW(J$1)+1>COUNT(K:K),\"\", INDEX(J:J,SMALL(K:K,1+ROW(J1)-ROW(J$1))))","v":"MAS XX "},{"$f":"A1","v":"MAS XX "},{"$f":"IF(COUNTIF('PLANNING PRINCIPAL'!$I$712:$X$712,M1)>=1,\"\",ROW())","v":1},{"$f":"IF(ROW(M1)-ROW(M$1)+1>COUNT(N:N),\"\", INDEX(M:M,SMALL(N:N,1+ROW(M1)-ROW(M$1))))","v":"MAS XX "},{"$f":"A1","v":"MAS XX "},{"$f":"IF(COUNTIF('PLANNING PRINCIPAL'!$I$715:$X$715,P1)>=1,\"\",ROW())","v":1},{"$f":"IF(ROW(P1)-ROW(P$1)+1>COUNT(Q:Q),\"\", INDEX(P:P,SMALL(Q:Q,1+ROW(P1)-ROW(P$1))))","v":"MAS XX "},{"$f":"A1","v":"MAS XX "},{"$f":"IF(COUNTIF('PLANNING PRINCIPAL'!$I$718:$X$718,S1)>=1,\"\",ROW())","v":1},{"$f":"IF(ROW(S1)-ROW(S$1)+1>COUNT(T:T),\"\", INDEX(S:S,SMALL(T:T,1+ROW(S1)-ROW(S$1))))","v":"MAS XX "},{"$f":"'DATA S1'!V1","v":"ASTREINTE SLT"},{"$f":"IF(COUNTIF('PLANNING PRINCIPAL'!$I$720:$X$720,V1)>=1,\"\",ROW())","v":1},{"$f":"IF(ROW(V1)-ROW(V$1)+1>COUNT(W:W),\"\", INDEX(V:V,SMALL(W:W,1+ROW(V1)-ROW(V$1))))","v":"ASTREINTE SLT"}]
[{"$f":"'DATA S1'!A2","v":"MAS YY "},{"$f":"IF(COUNTIF('PLANNING PRINCIPAL'!$I$700:$X$700,A2)>=1,\"\",ROW())","v":2},{"$f":"IF(ROW(A2)-ROW(A$1)+1>COUNT(B:B),\"\", INDEX(A:A,SMALL(B:B,1+ROW(A2)-ROW(A$1))))","v":"MAS YY "},"MAS YY ",{"$f":"IF(COUNTIF('PLANNING PRINCIPAL'!$I$703:$X$703,D2)>=1,\"\",ROW())","v":2},{"$f":"IF(ROW(D2)-ROW(D$1)+1>COUNT(E:E),\"\", INDEX(D:D,SMALL(E:E,1+ROW(D2)-ROW(D$1))))","v":"MAS YY "},{"$f":"A2","v":"MAS YY "},{"$f":"IF(COUNTIF('PLANNING PRINCIPAL'!$I$706:$X$706,G2)>=1,\"\",ROW())","v":2},{"$f":"IF(ROW(G2)-ROW(G$1)+1>COUNT(H:H),\"\", INDEX(G:G,SMALL(H:H,1+ROW(G2)-ROW(G$1))))","v":"MAS YY "},{"$f":"A2","v":"MAS YY "},{"$f":"IF(COUNTIF('PLANNING PRINCIPAL'!$I$709:$X$709,J2)>=1,\"\",ROW())","v":2},{"$f":"IF(ROW(J2)-ROW(J$1)+1>COUNT(K:K),\"\", INDEX(J:J,SMALL(K:K,1+ROW(J2)-ROW(J$1))))","v":"MAS YY "},{"$f":"A2","v":"MAS YY "},{"$f":"IF(COUNTIF('PLANNING PRINCIPAL'!$I$712:$X$712,M2)>=1,\"\",ROW())","v":2},{"$f":"IF(ROW(M2)-ROW(M$1)+1>COUNT(N:N),\"\", INDEX(M:M,SMALL(N:N,1+ROW(M2)-ROW(M$1))))","v":"MAS YY "},{"$f":"A2","v":"MAS YY "},{"$f":"IF(COUNTIF('PLANNING PRINCIPAL'!$I$715:$X$715,P2)>=1,\"\",ROW())","v":2},{"$f":"IF(ROW(P2)-ROW(P$1)+1>COUNT(Q:Q),\"\", INDEX(P:P,SMALL(Q:Q,1+ROW(P2)-ROW(P$1))))","v":"MAS YY "},{"$f":"A2","v":"MAS YY "},{"$f":"IF(COUNTIF('PLANNING PRINCIPAL'!$I$718:$X$718,S2)>=1,\"\",ROW())","v":2},{"$f":"IF(ROW(S2)-ROW(S$1)+1>COUNT(T:T),\"\", INDEX(S:S,SMALL(T:T,1+ROW(S2)-ROW(S$1))))","v":"MAS YY "},{"$f":"'DATA S1'!V2","v":"ASTREINTE EP"},{"$f":"IF(COUNTIF('PLANNING PRINCIPAL'!$I$720:$X$720,V2)>=1,\"\",ROW())","v":2},{"$f":"IF(ROW(V2)-ROW(V$1)+1>COUNT(W:W),\"\", INDEX(V:V,SMALL(W:W,1+ROW(V2)-ROW(V$1))))","v":"ASTREINTE EP"}]
[{"$f":"'DATA S1'!A3","v":"MAS VQ "},{"$f":"IF(COUNTIF('PLANNING PRINCIPAL'!$I$700:$X$700,A3)>=1,\"\",ROW())","v":3},"MAS VQ ","MAS VQ ",{"$f":"IF(COUNTIF('PLANNING PRINCIPAL'!$I$703:$X$703,D3)>=1,\"\",ROW())","v":3},"MAS VQ ","MAS VQ ",{"$f":"IF(COUNTIF('PLANNING PRINCIPAL'!$I$706:$X$706,G3)>=1,\"\",ROW())","v":3},"MAS VQ ","MAS VQ ",{"$f":"IF(COUNTIF('PLANNING PRINCIPAL'!$I$709:$X$709,J3)>=1,\"\",ROW())","v":3},"MAS VQ ","MAS VQ ",{"$f":"IF(COUNTIF('PLANNING PRINCIPAL'!$I$712:$X$712,M3)>=1,\"\",ROW())","v":3},"MAS VQ ","MAS VQ ",{"$f":"IF(COUNTIF('PLANNING PRINCIPAL'!$I$715:$X$715,P3)>=1,\"\",ROW())","v":3},"MAS VQ ","MAS VQ ",{"$f":"IF(COUNTIF('PLANNING PRINCIPAL'!$I$718:$X$718,S3)>=1,\"\",ROW())","v":3},"MAS VQ ",{"$f":"'DATA S1'!V3","v":"V NOC CHARTRES"},{"$f":"IF(COUNTIF('PLANNING PRINCIPAL'!$I$720:$X$720,V3)>=1,\"\",ROW())","v":3},"V NOC CHARTRES"]
[{"$f":"'DATA S1'!A4","v":"MAS PL "},{"$f":"IF(COUNTIF('PLANNING PRINCIPAL'!$I$700:$X$700,A4)>=1,\"\",ROW())","v":4},"MAS PL ","MAS PL ",{"$f":"IF(COUNTIF('PLANNING PRINCIPAL'!$I$703:$X$703,D4)>=1,\"\",ROW())","v":4},"MAS PL ","MAS PL ",{"$f":"IF(COUNTIF('PLANNING PRINCIPAL'!$I$706:$X$706,G4)>=1,\"\",ROW())","v":4},"MAS PL ","MAS PL ",{"$f":"IF(COUNTIF('PLANNING PRINCIPAL'!$I$709:$X$709,J4)>=1,\"\",ROW())","v":4},"MAS PL ","MAS PL ",{"$f":"IF(COUNTIF('PLANNING PRINCIPAL'!$I$712:$X$712,M4)>=1,\"\",ROW())","v":4},"MAS PL ","MAS PL ",{"$f":"IF(COUNTIF('PLANNING PRINCIPAL'!$I$715:$X$715,P4)>=1,\"\",ROW())","v":4},"MAS PL ","MAS PL ",{"$f":"IF(COUNTIF('PLANNING PRINCIPAL'!$I$718:$X$718,S4)>=1,\"\",ROW())","v":4},"MAS PL ",{"$f":"'DATA S1'!V4","v":"V NOC EPERNON"},{"$f":"IF(COUNTIF('PLANNING PRINCIPAL'!$I$720:$X$720,V4)>=1,\"\",ROW())","v":4},"V NOC EPERNON"]
[{"$f":"'DATA S1'!A5","v":"BEN VL PT "},{"$f":"IF(COUNTIF('PLANNING PRINCIPAL'!$I$700:$X$700,A5)>=1,\"\",ROW())","v":5},"BEN VL PT ","BEN VL PT ",{"$f":"IF(COUNTIF('PLANNING PRINCIPAL'!$I$703:$X$703,D5)>=1,\"\",ROW())","v":5},"BEN VL PT ","BEN VL PT ",{"$f":"IF(COUNTIF('PLANNING PRINCIPAL'!$I$706:$X$706,G5)>=1,\"\",ROW())","v":5},"BEN VL PT ","BEN VL PT ",{"$f":"IF(COUNTIF('PLANNING PRINCIPAL'!$I$709:$X$709,J5)>=1,\"\",ROW())","v":5},"BEN VL PT ","BEN VL PT ",{"$f":"IF(COUNTIF('PLANNING PRINCIPAL'!$I$712:$X$712,M5)>=1,\"\",ROW())","v":5},"BEN VL PT ","BEN VL PT ",{"$f":"IF(COUNTIF('PLANNING PRINCIPAL'!$I$715:$X$715,P5)>=1,\"\",ROW())","v":5},"BEN VL PT ","BEN VL PT ",{"$f":"IF(COUNTIF('PLANNING PRINCIPAL'!$I$718:$X$718,S5)>=1,\"\",ROW())","v":5},"BEN VL PT ",{"$f":"'DATA S1'!V5","v":"V NOC HANCHES"},{"$f":"IF(COUNTIF('PLANNING PRINCIPAL'!$I$720:$X$720,V5)>=1,\"\",ROW())","v":5},"V NOC HANCHES"]
[{"$f":"'DATA S1'!A6","v":"BEN 19T "},{"$f":"IF(COUNTIF('PLANNING PRINCIPAL'!$I$700:$X$700,A6)>=1,\"\",ROW())","v":6},"BEN 19T ","BEN 19T ",{"$f":"IF(COUNTIF('PLANNING PRINCIPAL'!$I$703:$X$703,D6)>=1,\"\",ROW())","v":6},"BEN 19T ","BEN 19T ",{"$f":"IF(COUNTIF('PLANNING PRINCIPAL'!$I$706:$X$706,G6)>=1,\"\",ROW())","v":6},"BEN 19T ","BEN 19T ",{"$f":"IF(COUNTIF('PLANNING PRINCIPAL'!$I$709:$X$709,J6)>=1,\"\",ROW())","v":6},"BEN 19T ","BEN 19T ",{"$f":"IF(COUNTIF('PLANNING PRINCIPAL'!$I$712:$X$712,M6)>=1,\"\",ROW())","v":6},"BEN 19T ","BEN 19T ",{"$f":"IF(COUNTIF('PLANNING PRINCIPAL'!$I$715:$X$715,P6)>=1,\"\",ROW())","v":6},"BEN 19T ","BEN 19T ",{"$f":"IF(COUNTIF('PLANNING PRINCIPAL'!$I$718:$X$718,S6)>=1,\"\",ROW())","v":6},"BEN 19T ",{"$f":"'DATA S1'!V6","v":"V NOC MAINTENON"},{"$f":"IF(COUNTIF('PLANNING PRINCIPAL'!$I$720:$X$720,V6)>=1,\"\",ROW())","v":6},"V NOC MAINTENON"]
[{"$f":"'DATA S1'!A7","v":"BEN 13T "},{"$f":"IF(COUNTIF('PLANNING PRINCIPAL'!$I$700:$X$700,A7)>=1,\"\",ROW())","v":7},"BEN 13T ","BEN 13T ",{"$f":"IF(COUNTIF('PLANNING PRINCIPAL'!$I$703:$X$703,D7)>=1,\"\",ROW())","v":7},"BEN 13T ","BEN 13T ",{"$f":"IF(COUNTIF('PLANNING PRINCIPAL'!$I$706:$X$706,G7)>=1,\"\",ROW())","v":7},"BEN 13T ","BEN 13T ",{"$f":"IF(COUNTIF('PLANNING PRINCIPAL'!$I$709:$X$709,J7)>=1,\"\",ROW())","v":7},"BEN 13T ","BEN 13T ",{"$f":"IF(COUNTIF('PLANNING PRINCIPAL'!$I$712:$X$712,M7)>=1,\"\",ROW())","v":7},"BEN 13T ","BEN 13T ",{"$f":"IF(COUNTIF('PLANNING PRINCIPAL'!$I$715:$X$715,P7)>=1,\"\",ROW())","v":7},"BEN 13T ","BEN 13T ",{"$f":"IF(COUNTIF('PLANNING PRINCIPAL'!$I$718:$X$718,S7)>=1,\"\",ROW())","v":7},"BEN 13T ",null,{"$f":"IF(COUNTIF('PLANNING PRINCIPAL'!$I$720:$X$720,V7)>=1,\"\",ROW())","v":7}]
[{"$f":"'DATA S1'!A8","v":"NAC VL 18M "},{"$f":"IF(COUNTIF('PLANNING PRINCIPAL'!$I$700:$X$700,A8)>=1,\"\",ROW())","v":8},"NAC VL 18M ","NAC VL 18M ",{"$f":"IF(COUNTIF('PLANNING PRINCIPAL'!$I$703:$X$703,D8)>=1,\"\",ROW())","v":8},"NAC VL 18M ","NAC VL 18M ",{"$f":"IF(COUNTIF('PLANNING PRINCIPAL'!$I$706:$X$706,G8)>=1,\"\",ROW())","v":8},"NAC VL 18M ","NAC VL 18M ",{"$f":"IF(COUNTIF('PLANNING PRINCIPAL'!$I$709:$X$709,J8)>=1,\"\",ROW())","v":8},"NAC VL 18M ","NAC VL 18M ",{"$f":"IF(COUNTIF('PLANNING PRINCIPAL'!$I$712:$X$712,M8)>=1,\"\",ROW())","v":8},"NAC VL 18M ","NAC VL 18M ",{"$f":"IF(COUNTIF('PLANNING PRINCIPAL'!$I$715:$X$715,P8)>=1,\"\",ROW())","v":8},"NAC VL 18M ","NAC VL 18M ",{"$f":"IF(COUNTIF('PLANNING PRINCIPAL'!$I$718:$X$718,S8)>=1,\"\",ROW())","v":8},"NAC VL 18M ",null,{"$f":"IF(COUNTIF('PLANNING PRINCIPAL'!$I$720:$X$720,V8)>=1,\"\",ROW())","v":8}]
[{"$f":"'DATA S1'!A9","v":"NAC EGIE"},{"$f":"IF(COUNTIF('PLANNING PRINCIPAL'!$I$700:$X$700,A9)>=1,\"\",ROW())","v":9},"NAC EGIE","NAC EGIE",{"$f":"IF(COUNTIF('PLANNING PRINCIPAL'!$I$703:$X$703,D9)>=1,\"\",ROW())","v":9},"NAC EGIE","NAC EGIE",{"$f":"IF(COUNTIF('PLANNING PRINCIPAL'!$I$706:$X$706,G9)>=1,\"\",ROW())","v":9},"NAC EGIE","NAC EGIE",{"$f":"IF(COUNTIF('PLANNING PRINCIPAL'!$I$709:$X$709,J9)>=1,\"\",ROW())","v":9},"NAC EGIE","NAC EGIE",{"$f":"IF(COUNTIF('PLANNING PRINCIPAL'!$I$712:$X$712,M9)>=1,\"\",ROW())","v":9},"NAC EGIE","NAC EGIE",{"$f":"IF(COUNTIF('PLANNING PRINCIPAL'!$I$715:$X$715,P9)>=1,\"\",ROW())","v":9},"NAC EGIE","NAC EGIE",{"$f":"IF(COUNTIF('PLANNING PRINCIPAL'!$I$718:$X$718,S9)>=1,\"\",ROW())","v":9},"NAC EGIE",null,{"$f":"IF(COUNTIF('PLANNING PRINCIPAL'!$I$720:$X$720,V9)>=1,\"\",ROW())","v":9}]
[{"$f":"'DATA S1'!A10","v":"NAC COMI "},{"$f":"IF(COUNTIF('PLANNING PRINCIPAL'!$I$700:$X$700,A10)>=1,\"\",ROW())","v":10},"NAC COMI ","NAC COMI ",{"$f":"IF(COUNTIF('PLANNING PRINCIPAL'!$I$703:$X$703,D10)>=1,\"\",ROW())","v":10},"NAC COMI ","NAC COMI ",{"$f":"IF(COUNTIF('PLANNING PRINCIPAL'!$I$706:$X$706,G10)>=1,\"\",ROW())","v":10},"NAC COMI ","NAC COMI ",{"$f":"IF(COUNTIF('PLANNING PRINCIPAL'!$I$709:$X$709,J10)>=1,\"\",ROW())","v":10},"NAC COMI ","NAC COMI ",{"$f":"IF(COUNTIF('PLANNING PRINCIPAL'!$I$712:$X$712,M10)>=1,\"\",ROW())","v":10},"NAC COMI ","NAC COMI ",{"$f":"IF(COUNTIF('PLANNING PRINCIPAL'!$I$715:$X$715,P10)>=1,\"\",ROW())","v":10},"NAC COMI ","NAC COMI ",{"$f":"IF(COUNTIF('PLANNING PRINCIPAL'!$I$718:$X$718,S10)>=1,\"\",ROW())","v":10},"NAC COMI ",null,{"$f":"IF(COUNTIF('PLANNING PRINCIPAL'!$I$720:$X$720,V10)>=1,\"\",ROW())","v":10}]
[{"$f":"'DATA S1'!A11","v":"#####LOCATION#####"},{"$f":"IF(COUNTIF('PLANNING PRINCIPAL'!$I$700:$X$700,A11)>=1,\"\",ROW())","v":11},"#####LOCATION#####","#####LOCATION#####",{"$f":"IF(COUNTIF('PLANNING PRINCIPAL'!$I$703:$X$703,D11)>=1,\"\",ROW())","v":11},"#####LOCATION#####","#####LOCATION#####",{"$f":"IF(COUNTIF('PLANNING PRINCIPAL'!$I$706:$X$706,G11)>=1,\"\",ROW())","v":11},"#####LOCATION#####","#####LOCATION#####",{"$f":"IF(COUNTIF('PLANNING PRINCIPAL'!$I$709:$X$709,J11)>=1,\"\",ROW())","v":11},"#####LOCATION#####","#####LOCATION#####",{"$f":"IF(COUNTIF('PLANNING PRINCIPAL'!$I$712:$X$712,M11)>=1,\"\",ROW())","v":11},"#####LOCATION#####","#####LOCATION#####",{"$f":"IF(COUNTIF('PLANNING PRINCIPAL'!$I$715:$X$715,P11)>=1,\"\",ROW())","v":11},"#####LOCATION#####","#####LOCATION#####",{"$f":"IF(COUNTIF('PLANNING PRINCIPAL'!$I$718:$X$718,S11)>=1,\"\",ROW())","v":11},"#####LOCATION#####",null,{"$f":"IF(COUNTIF('PLANNING PRINCIPAL'!$I$720:$X$720,V11)>=1,\"\",ROW())","v":11}]
[{"$f":"'DATA S1'!A12","v":"LOC NAC SOLOMAT"},{"$f":"IF(COUNTIF('PLANNING PRINCIPAL'!$I$700:$X$700,A12)>=1,\"\",ROW())","v":12},"LOC NAC SOLOMAT","LOC NAC SOLOMAT",{"$f":"IF(COUNTIF('PLANNING PRINCIPAL'!$I$703:$X$703,D12)>=1,\"\",ROW())","v":12},"LOC NAC SOLOMAT","LOC NAC SOLOMAT",{"$f":"IF(COUNTIF('PLANNING PRINCIPAL'!$I$706:$X$706,G12)>=1,\"\",ROW())","v":12},"LOC NAC SOLOMAT","LOC NAC SOLOMAT",{"$f":"IF(COUNTIF('PLANNING PRINCIPAL'!$I$709:$X$709,J12)>=1,\"\",ROW())","v":12},"LOC NAC SOLOMAT","LOC NAC SOLOMAT",{"$f":"IF(COUNTIF('PLANNING PRINCIPAL'!$I$712:$X$712,M12)>=1,\"\",ROW())","v":12},"LOC NAC SOLOMAT","LOC NAC SOLOMAT",{"$f":"IF(COUNTIF('PLANNING PRINCIPAL'!$I$715:$X$715,P12)>=1,\"\",ROW())","v":12},"LOC NAC SOLOMAT","LOC NAC SOLOMAT",{"$f":"IF(COUNTIF('PLANNING PRINCIPAL'!$I$718:$X$718,S12)>=1,\"\",ROW())","v":12},"LOC NAC SOLOMAT",null,{"$f":"IF(COUNTIF('PLANNING PRINCIPAL'!$I$720:$X$720,V12)>=1,\"\",ROW())","v":12}]
[{"$f":"'DATA S1'!A13","v":"LOC NAC AEB"},{"$f":"IF(COUNTIF('PLANNING PRINCIPAL'!$I$700:$X$700,A13)>=1,\"\",ROW())","v":13},"LOC NAC AEB","LOC NAC AEB",{"$f":"IF(COUNTIF('PLANNING PRINCIPAL'!$I$703:$X$703,D13)>=1,\"\",ROW())","v":13},"LOC NAC AEB","LOC NAC AEB",{"$f":"IF(COUNTIF('PLANNING PRINCIPAL'!$I$706:$X$706,G13)>=1,\"\",ROW())","v":13},"LOC NAC AEB","LOC NAC AEB",{"$f":"IF(COUNTIF('PLANNING PRINCIPAL'!$I$709:$X$709,J13)>=1,\"\",ROW())","v":13},"LOC NAC AEB","LOC NAC AEB",{"$f":"IF(COUNTIF('PLANNING PRINCIPAL'!$I$712:$X$712,M13)>=1,\"\",ROW())","v":13},"LOC NAC AEB","LOC NAC AEB",{"$f":"IF(COUNTIF('PLANNING PRINCIPAL'!$I$715:$X$715,P13)>=1,\"\",ROW())","v":13},"LOC NAC AEB","LOC NAC AEB",{"$f":"IF(COUNTIF('PLANNING PRINCIPAL'!$I$718:$X$718,S13)>=1,\"\",ROW())","v":13},"LOC NAC AEB",null,{"$f":"IF(COUNTIF('PLANNING PRINCIPAL'!$I$720:$X$720,V13)>=1,\"\",ROW())","v":13}]
[{"$f":"'DATA S1'!A14","v":"LOC NAC INTERLOC"},{"$f":"IF(COUNTIF('PLANNING PRINCIPAL'!$I$700:$X$700,A14)>=1,\"\",ROW())","v":14},"LOC NAC INTERLOC","LOC NAC INTERLOC",{"$f":"IF(COUNTIF('PLANNING PRINCIPAL'!$I$703:$X$703,D14)>=1,\"\",ROW())","v":14},"LOC NAC INTERLOC","LOC NAC INTERLOC",{"$f":"IF(COUNTIF('PLANNING PRINCIPAL'!$I$706:$X$706,G14)>=1,\"\",ROW())","v":14},"LOC NAC INTERLOC","LOC NAC INTERLOC",{"$f":"IF(COUNTIF('PLANNING PRINCIPAL'!$I$709:$X$709,J14)>=1,\"\",ROW())","v":14},"LOC NAC INTERLOC","LOC NAC INTERLOC",{"$f":"IF(COUNTIF('PLANNING PRINCIPAL'!$I$712:$X$712,M14)>=1,\"\",ROW())","v":14},"LOC NAC INTERLOC","LOC NAC INTERLOC",{"$f":"IF(COUNTIF('PLANNING PRINCIPAL'!$I$715:$X$715,P14)>=1,\"\",ROW())","v":14},"LOC NAC INTERLOC","LOC NAC INTERLOC",{"$f":"IF(COUNTIF('PLANNING PRINCIPAL'!$I$718:$X$718,S14)>=1,\"\",ROW())","v":14},"LOC NAC INTERLOC",null,{"$f":"IF(COUNTIF('PLANNING PRINCIPAL'!$I$720:$X$720,V14)>=1,\"\",ROW())","v":14}]
[{"$f":"'DATA S1'!A15","v":"LOC NAC KILOUTOU"},{"$f":"IF(COUNTIF('PLANNING PRINCIPAL'!$I$700:$X$700,A15)>=1,\"\",ROW())","v":15},"LOC NAC KILOUTOU","LOC NAC KILOUTOU",{"$f":"IF(COUNTIF('PLANNING PRINCIPAL'!$I$703:$X$703,D15)>=1,\"\",ROW())","v":15},"LOC NAC KILOUTOU","LOC NAC KILOUTOU",{"$f":"IF(COUNTIF('PLANNING PRINCIPAL'!$I$706:$X$706,G15)>=1,\"\",ROW())","v":15},"LOC NAC KILOUTOU","LOC NAC KILOUTOU",{"$f":"IF(COUNTIF('PLANNING PRINCIPAL'!$I$709:$X$709,J15)>=1,\"\",ROW())","v":15},"LOC NAC KILOUTOU","LOC NAC KILOUTOU",{"$f":"IF(COUNTIF('PLANNING PRINCIPAL'!$I$712:$X$712,M15)>=1,\"\",ROW())","v":15},"LOC NAC KILOUTOU","LOC NAC KILOUTOU",{"$f":"IF(COUNTIF('PLANNING PRINCIPAL'!$I$715:$X$715,P15)>=1,\"\",ROW())","v":15},"LOC NAC KILOUTOU","LOC NAC KILOUTOU",{"$f":"IF(COUNTIF('PLANNING PRINCIPAL'!$I$718:$X$718,S15)>=1,\"\",ROW())","v":15},"LOC NAC KILOUTOU",null,{"$f":"IF(COUNTIF('PLANNING PRINCIPAL'!$I$720:$X$720,V15)>=1,\"\",ROW())","v":15}]
[{"$f":"'DATA S1'!A16","v":"LOC NAC AEB"},{"$f":"IF(COUNTIF('PLANNING PRINCIPAL'!$I$700:$X$700,A16)>=1,\"\",ROW())","v":16},"LOC NAC AEB","LOC NAC AEB",{"$f":"IF(COUNTIF('PLANNING PRINCIPAL'!$I$703:$X$703,D16)>=1,\"\",ROW())","v":16},"LOC NAC AEB","LOC NAC AEB",{"$f":"IF(COUNTIF('PLANNING PRINCIPAL'!$I$706:$X$706,G16)>=1,\"\",ROW())","v":16},"LOC NAC AEB","LOC NAC AEB",{"$f":"IF(COUNTIF('PLANNING PRINCIPAL'!$I$709:$X$709,J16)>=1,\"\",ROW())","v":16},"LOC NAC AEB","LOC NAC AEB",{"$f":"IF(COUNTIF('PLANNING PRINCIPAL'!$I$712:$X$712,M16)>=1,\"\",ROW())","v":16},"LOC NAC AEB","LOC NAC AEB",{"$f":"IF(COUNTIF('PLANNING PRINCIPAL'!$I$715:$X$715,P16)>=1,\"\",ROW())","v":16},"LOC NAC AEB","LOC NAC AEB",{"$f":"IF(COUNTIF('PLANNING PRINCIPAL'!$I$718:$X$718,S16)>=1,\"\",ROW())","v":16},"LOC NAC AEB",null,{"$f":"IF(COUNTIF('PLANNING PRINCIPAL'!$I$720:$X$720,V16)>=1,\"\",ROW())","v":16}]
[{"$f":"'DATA S1'!A17","v":"LOC PELLE SOLOMAT"},{"$f":"IF(COUNTIF('PLANNING PRINCIPAL'!$I$700:$X$700,A17)>=1,\"\",ROW())","v":17},"LOC PELLE SOLOMAT","LOC PELLE SOLOMAT",{"$f":"IF(COUNTIF('PLANNING PRINCIPAL'!$I$703:$X$703,D17)>=1,\"\",ROW())","v":17},"LOC PELLE SOLOMAT","LOC PELLE SOLOMAT",{"$f":"IF(COUNTIF('PLANNING PRINCIPAL'!$I$706:$X$706,G17)>=1,\"\",ROW())","v":17},"LOC PELLE SOLOMAT","LOC PELLE SOLOMAT",{"$f":"IF(COUNTIF('PLANNING PRINCIPAL'!$I$709:$X$709,J17)>=1,\"\",ROW())","v":17},"LOC PELLE SOLOMAT","LOC PELLE SOLOMAT",{"$f":"IF(COUNTIF('PLANNING PRINCIPAL'!$I$712:$X$712,M17)>=1,\"\",ROW())","v":17},"LOC PELLE SOLOMAT","LOC PELLE SOLOMAT",{"$f":"IF(COUNTIF('PLANNING PRINCIPAL'!$I$715:$X$715,P17)>=1,\"\",ROW())","v":17},"LOC PELLE SOLOMAT","LOC PELLE SOLOMAT",{"$f":"IF(COUNTIF('PLANNING PRINCIPAL'!$I$718:$X$718,S17)>=1,\"\",ROW())","v":17},"LOC PELLE SOLOMAT",null,{"$f":"IF(COUNTIF('PLANNING PRINCIPAL'!$I$720:$X$720,V17)>=1,\"\",ROW())","v":17}]
[{"$f":"'DATA S1'!A18","v":"LOC PELLE AEB"},{"$f":"IF(COUNTIF('PLANNING PRINCIPAL'!$I$700:$X$700,A18)>=1,\"\",ROW())","v":18},"LOC PELLE AEB","LOC PELLE AEB",{"$f":"IF(COUNTIF('PLANNING PRINCIPAL'!$I$703:$X$703,D18)>=1,\"\",ROW())","v":18},"LOC PELLE AEB","LOC PELLE AEB",{"$f":"IF(COUNTIF('PLANNING PRINCIPAL'!$I$706:$X$706,G18)>=1,\"\",ROW())","v":18},"LOC PELLE AEB","LOC PELLE AEB",{"$f":"IF(COUNTIF('PLANNING PRINCIPAL'!$I$709:$X$709,J18)>=1,\"\",ROW())","v":18},"LOC PELLE AEB","LOC PELLE AEB",{"$f":"IF(COUNTIF('PLANNING PRINCIPAL'!$I$712:$X$712,M18)>=1,\"\",ROW())","v":18},"LOC PELLE AEB","LOC PELLE AEB",{"$f":"IF(COUNTIF('PLANNING PRINCIPAL'!$I$715:$X$715,P18)>=1,\"\",ROW())","v":18},"LOC PELLE AEB","LOC PELLE AEB",{"$f":"IF(COUNTIF('PLANNING PRINCIPAL'!$I$718:$X$718,S18)>=1,\"\",ROW())","v":18},"LOC PELLE AEB",null,{"$f":"IF(COUNTIF('PLANNING PRINCIPAL'!$I$720:$X$720,V18)>=1,\"\",ROW())","v":18}]
[{"$f":"'DATA S1'!A19","v":"LOC PELLE INTERLOC"},{"$f":"IF(COUNTIF('PLANNING PRINCIPAL'!$I$700:$X$700,A19)>=1,\"\",ROW())","v":19},"LOC PELLE INTERLOC","LOC PELLE INTERLOC",{"$f":"IF(COUNTIF('PLANNING PRINCIPAL'!$I$703:$X$703,D19)>=1,\"\",ROW())","v":19},"LOC PELLE INTERLOC","LOC PELLE INTERLOC",{"$f":"IF(COUNTIF('PLANNING PRINCIPAL'!$I$706:$X$706,G19)>=1,\"\",ROW())","v":19},"LOC PELLE INTERLOC","LOC PELLE INTERLOC",{"$f":"IF(COUNTIF('PLANNING PRINCIPAL'!$I$709:$X$709,J19)>=1,\"\",ROW())","v":19},"LOC PELLE INTERLOC","LOC PELLE INTERLOC",{"$f":"IF(COUNTIF('PLANNING PRINCIPAL'!$I$712:$X$712,M19)>=1,\"\",ROW())","v":19},"LOC PELLE INTERLOC","LOC PELLE INTERLOC",{"$f":"IF(COUNTIF('PLANNING PRINCIPAL'!$I$715:$X$715,P19)>=1,\"\",ROW())","v":19},"LOC PELLE INTERLOC","LOC PELLE INTERLOC",{"$f":"IF(COUNTIF('PLANNING PRINCIPAL'!$I$718:$X$718,S19)>=1,\"\",ROW())","v":19},"LOC PELLE INTERLOC",null,{"$f":"IF(COUNTIF('PLANNING PRINCIPAL'!$I$720:$X$720,V19)>=1,\"\",ROW())","v":19}]
[{"$f":"'DATA S1'!A20","v":"LOC PELLE KILOUTOU"},{"$f":"IF(COUNTIF('PLANNING PRINCIPAL'!$I$700:$X$700,A20)>=1,\"\",ROW())","v":20},"LOC PELLE KILOUTOU","LOC PELLE KILOUTOU",{"$f":"IF(COUNTIF('PLANNING PRINCIPAL'!$I$703:$X$703,D20)>=1,\"\",ROW())","v":20},"LOC PELLE KILOUTOU","LOC PELLE KILOUTOU",{"$f":"IF(COUNTIF('PLANNING PRINCIPAL'!$I$706:$X$706,G20)>=1,\"\",ROW())","v":20},"LOC PELLE KILOUTOU","LOC PELLE KILOUTOU",{"$f":"IF(COUNTIF('PLANNING PRINCIPAL'!$I$709:$X$709,J20)>=1,\"\",ROW())","v":20},"LOC PELLE KILOUTOU","LOC PELLE KILOUTOU",{"$f":"IF(COUNTIF('PLANNING PRINCIPAL'!$I$712:$X$712,M20)>=1,\"\",ROW())","v":20},"LOC PELLE KILOUTOU","LOC PELLE KILOUTOU",{"$f":"IF(COUNTIF('PLANNING PRINCIPAL'!$I$715:$X$715,P20)>=1,\"\",ROW())","v":20},"LOC PELLE KILOUTOU","LOC PELLE KILOUTOU",{"$f":"IF(COUNTIF('PLANNING PRINCIPAL'!$I$718:$X$718,S20)>=1,\"\",ROW())","v":20},"LOC PELLE KILOUTOU",null,{"$f":"IF(COUNTIF('PLANNING PRINCIPAL'!$I$720:$X$720,V20)>=1,\"\",ROW())","v":20}]
[null,{"$f":"IF(COUNTIF('PLANNING PRINCIPAL'!$I$700:$X$700,A21)>=1,\"\",ROW())","v":21},null,null,{"$f":"IF(COUNTIF('PLANNING PRINCIPAL'!$I$703:$X$703,D21)>=1,\"\",ROW())","v":21},null,null,{"$f":"IF(COUNTIF('PLANNING PRINCIPAL'!$I$706:$X$706,G21)>=1,\"\",ROW())","v":21},null,null,{"$f":"IF(COUNTIF('PLANNING PRINCIPAL'!$I$709:$X$709,J21)>=1,\"\",ROW())","v":21},null,null,{"$f":"IF(COUNTIF('PLANNING PRINCIPAL'!$I$712:$X$712,M21)>=1,\"\",ROW())","v":21},null,null,{"$f":"IF(COUNTIF('PLANNING PRINCIPAL'!$I$715:$X$715,P21)>=1,\"\",ROW())","v":21},null,null,{"$f":"IF(COUNTIF('PLANNING PRINCIPAL'!$I$718:$X$718,S21)>=1,\"\",ROW())","v":21},null,null,{"$f":"IF(COUNTIF('PLANNING PRINCIPAL'!$I$720:$X$720,V21)>=1,\"\",ROW())","v":21}]
[null,{"$f":"IF(COUNTIF('PLANNING PRINCIPAL'!$I$700:$X$700,A22)>=1,\"\",ROW())","v":22},null,null,{"$f":"IF(COUNTIF('PLANNING PRINCIPAL'!$I$703:$X$703,D22)>=1,\"\",ROW())","v":22},null,null,{"$f":"IF(COUNTIF('PLANNING PRINCIPAL'!$I$706:$X$706,G22)>=1,\"\",ROW())","v":22},null,null,{"$f":"IF(COUNTIF('PLANNING PRINCIPAL'!$I$709:$X$709,J22)>=1,\"\",ROW())","v":22},null,null,{"$f":"IF(COUNTIF('PLANNING PRINCIPAL'!$I$712:$X$712,M22)>=1,\"\",ROW())","v":22},null,null,{"$f":"IF(COUNTIF('PLANNING PRINCIPAL'!$I$715:$X$715,P22)>=1,\"\",ROW())","v":22},null,null,{"$f":"IF(COUNTIF('PLANNING PRINCIPAL'!$I$718:$X$718,S22)>=1,\"\",ROW())","v":22},null,null,{"$f":"IF(COUNTIF('PLANNING PRINCIPAL'!$I$720:$X$720,V22)>=1,\"\",ROW())","v":22}]
[null,{"$f":"IF(COUNTIF('PLANNING PRINCIPAL'!$I$700:$X$700,A23)>=1,\"\",ROW())","v":23},null,null,{"$f":"IF(COUNTIF('PLANNING PRINCIPAL'!$I$703:$X$703,D23)>=1,\"\",ROW())","v":23},null,null,{"$f":"IF(COUNTIF('PLANNING PRINCIPAL'!$I$706:$X$706,G23)>=1,\"\",ROW())","v":23},null,null,{"$f":"IF(COUNTIF('PLANNING PRINCIPAL'!$I$709:$X$709,J23)>=1,\"\",ROW())","v":23},null,null,{"$f":"IF(COUNTIF('PLANNING PRINCIPAL'!$I$712:$X$712,M23)>=1,\"\",ROW())","v":23},null,null,{"$f":"IF(COUNTIF('PLANNING PRINCIPAL'!$I$715:$X$715,P23)>=1,\"\",ROW())","v":23},null,null,{"$f":"IF(COUNTIF('PLANNING PRINCIPAL'!$I$718:$X$718,S23)>=1,\"\",ROW())","v":23},null,null,{"$f":"IF(COUNTIF('PLANNING PRINCIPAL'!$I$720:$X$720,V23)>=1,\"\",ROW())","v":23}]
[null,{"$f":"IF(COUNTIF('PLANNING PRINCIPAL'!$I$700:$X$700,A24)>=1,\"\",ROW())","v":24},null,null,{"$f":"IF(COUNTIF('PLANNING PRINCIPAL'!$I$703:$X$703,D24)>=1,\"\",ROW())","v":24},null,null,{"$f":"IF(COUNTIF('PLANNING PRINCIPAL'!$I$706:$X$706,G24)>=1,\"\",ROW())","v":24},null,null,{"$f":"IF(COUNTIF('PLANNING PRINCIPAL'!$I$709:$X$709,J24)>=1,\"\",ROW())","v":24},null,null,{"$f":"IF(COUNTIF('PLANNING PRINCIPAL'!$I$712:$X$712,M24)>=1,\"\",ROW())","v":24},null,null,{"$f":"IF(COUNTIF('PLANNING PRINCIPAL'!$I$715:$X$715,P24)>=1,\"\",ROW())","v":24},null,null,{"$f":"IF(COUNTIF('PLANNING PRINCIPAL'!$I$718:$X$718,S24)>=1,\"\",ROW())","v":24},null,null,{"$f":"IF(COUNTIF('PLANNING PRINCIPAL'!$I$720:$X$720,V24)>=1,\"\",ROW())","v":24}]
[null,{"$f":"IF(COUNTIF('PLANNING PRINCIPAL'!$I$700:$X$700,A25)>=1,\"\",ROW())","v":25},null,null,{"$f":"IF(COUNTIF('PLANNING PRINCIPAL'!$I$703:$X$703,D25)>=1,\"\",ROW())","v":25},null,null,{"$f":"IF(COUNTIF('PLANNING PRINCIPAL'!$I$706:$X$706,G25)>=1,\"\",ROW())","v":25},null,null,{"$f":"IF(COUNTIF('PLANNING PRINCIPAL'!$I$709:$X$709,J25)>=1,\"\",ROW())","v":25},null,null,{"$f":"IF(COUNTIF('PLANNING PRINCIPAL'!$I$712:$X$712,M25)>=1,\"\",ROW())","v":25},null,null,{"$f":"IF(COUNTIF('PLANNING PRINCIPAL'!$I$715:$X$715,P25)>=1,\"\",ROW())","v":25},null,null,{"$f":"IF(COUNTIF('PLANNING PRINCIPAL'!$I$718:$X$718,S25)>=1,\"\",ROW())","v":25},null,null,{"$f":"IF(COUNTIF('PLANNING PRINCIPAL'!$I$720:$X$720,V25)>=1,\"\",ROW())","v":25}]
[null,{"$f":"IF(COUNTIF('PLANNING PRINCIPAL'!$I$700:$X$700,A26)>=1,\"\",ROW())","v":26},null,null,{"$f":"IF(COUNTIF('PLANNING PRINCIPAL'!$I$703:$X$703,D26)>=1,\"\",ROW())","v":26},null,null,{"$f":"IF(COUNTIF('PLANNING PRINCIPAL'!$I$706:$X$706,G26)>=1,\"\",ROW())","v":26},null,null,{"$f":"IF(COUNTIF('PLANNING PRINCIPAL'!$I$709:$X$709,J26)>=1,\"\",ROW())","v":26},null,null,{"$f":"IF(COUNTIF('PLANNING PRINCIPAL'!$I$712:$X$712,M26)>=1,\"\",ROW())","v":26},null,null,{"$f":"IF(COUNTIF('PLANNING PRINCIPAL'!$I$715:$X$715,P26)>=1,\"\",ROW())","v":26},null,null,{"$f":"IF(COUNTIF('PLANNING PRINCIPAL'!$I$718:$X$718,S26)>=1,\"\",ROW())","v":26},null,null,{"$f":"IF(COUNTIF('PLANNING PRINCIPAL'!$I$720:$X$720,V26)>=1,\"\",ROW())","v":26}]
[null,{"$f":"IF(COUNTIF('PLANNING PRINCIPAL'!$I$700:$X$700,A27)>=1,\"\",ROW())","v":27},null,null,{"$f":"IF(COUNTIF('PLANNING PRINCIPAL'!$I$703:$X$703,D27)>=1,\"\",ROW())","v":27},null,null,{"$f":"IF(COUNTIF('PLANNING PRINCIPAL'!$I$706:$X$706,G27)>=1,\"\",ROW())","v":27},null,null,{"$f":"IF(COUNTIF('PLANNING PRINCIPAL'!$I$709:$X$709,J27)>=1,\"\",ROW())","v":27},null,null,{"$f":"IF(COUNTIF('PLANNING PRINCIPAL'!$I$712:$X$712,M27)>=1,\"\",ROW())","v":27},null,null,{"$f":"IF(COUNTIF('PLANNING PRINCIPAL'!$I$715:$X$715,P27)>=1,\"\",ROW())","v":27},null,null,{"$f":"IF(COUNTIF('PLANNING PRINCIPAL'!$I$718:$X$718,S27)>=1,\"\",ROW())","v":27},null,null,{"$f":"IF(COUNTIF('PLANNING PRINCIPAL'!$I$720:$X$720,V27)>=1,\"\",ROW())","v":27}]
[null,{"$f":"IF(COUNTIF('PLANNING PRINCIPAL'!$I$700:$X$700,A28)>=1,\"\",ROW())","v":28},null,null,{"$f":"IF(COUNTIF('PLANNING PRINCIPAL'!$I$703:$X$703,D28)>=1,\"\",ROW())","v":28},null,null,{"$f":"IF(COUNTIF('PLANNING PRINCIPAL'!$I$706:$X$706,G28)>=1,\"\",ROW())","v":28},null,null,{"$f":"IF(COUNTIF('PLANNING PRINCIPAL'!$I$709:$X$709,J28)>=1,\"\",ROW())","v":28},null,null,{"$f":"IF(COUNTIF('PLANNING PRINCIPAL'!$I$712:$X$712,M28)>=1,\"\",ROW())","v":28},null,null,{"$f":"IF(COUNTIF('PLANNING PRINCIPAL'!$I$715:$X$715,P28)>=1,\"\",ROW())","v":28},null,null,{"$f":"IF(COUNTIF('PLANNING PRINCIPAL'!$I$718:$X$718,S28)>=1,\"\",ROW())","v":28},null,null,{"$f":"IF(COUNTIF('PLANNING PRINCIPAL'!$I$720:$X$720,V28)>=1,\"\",ROW())","v":28}]
[null,{"$f":"IF(COUNTIF('PLANNING PRINCIPAL'!$I$700:$X$700,A29)>=1,\"\",ROW())","v":29},null,null,{"$f":"IF(COUNTIF('PLANNING PRINCIPAL'!$I$703:$X$703,D29)>=1,\"\",ROW())","v":29},null,null,{"$f":"IF(COUNTIF('PLANNING PRINCIPAL'!$I$706:$X$706,G29)>=1,\"\",ROW())","v":29},null,null,{"$f":"IF(COUNTIF('PLANNING PRINCIPAL'!$I$709:$X$709,J29)>=1,\"\",ROW())","v":29},null,null,{"$f":"IF(COUNTIF('PLANNING PRINCIPAL'!$I$712:$X$712,M29)>=1,\"\",ROW())","v":29},null,null,{"$f":"IF(COUNTIF('PLANNING PRINCIPAL'!$I$715:$X$715,P29)>=1,\"\",ROW())","v":29},null,null,{"$f":"IF(COUNTIF('PLANNING PRINCIPAL'!$I$718:$X$718,S29)>=1,\"\",ROW())","v":29},null,null,{"$f":"IF(COUNTIF('PLANNING PRINCIPAL'!$I$720:$X$720,V29)>=1,\"\",ROW())","v":29}]
[null,{"$f":"IF(COUNTIF('PLANNING PRINCIPAL'!$I$700:$X$700,A30)>=1,\"\",ROW())","v":30},null,null,{"$f":"IF(COUNTIF('PLANNING PRINCIPAL'!$I$703:$X$703,D30)>=1,\"\",ROW())","v":30},null,null,{"$f":"IF(COUNTIF('PLANNING PRINCIPAL'!$I$706:$X$706,G30)>=1,\"\",ROW())","v":30},null,null,{"$f":"IF(COUNTIF('PLANNING PRINCIPAL'!$I$709:$X$709,J30)>=1,\"\",ROW())","v":30},null,null,{"$f":"IF(COUNTIF('PLANNING PRINCIPAL'!$I$712:$X$712,M30)>=1,\"\",ROW())","v":30},null,null,{"$f":"IF(COUNTIF('PLANNING PRINCIPAL'!$I$715:$X$715,P30)>=1,\"\",ROW())","v":30},null,null,{"$f":"IF(COUNTIF('PLANNING PRINCIPAL'!$I$718:$X$718,S30)>=1,\"\",ROW())","v":30},null,null,{"$f":"IF(COUNTIF('PLANNING PRINCIPAL'!$I$720:$X$720,V30)>=1,\"\",ROW())","v":30}]
[null,{"$f":"IF(COUNTIF('PLANNING PRINCIPAL'!$I$700:$X$700,A31)>=1,\"\",ROW())","v":31},null,null,{"$f":"IF(COUNTIF('PLANNING PRINCIPAL'!$I$703:$X$703,D31)>=1,\"\",ROW())","v":31},null,null,{"$f":"IF(COUNTIF('PLANNING PRINCIPAL'!$I$706:$X$706,G31)>=1,\"\",ROW())","v":31},null,null,{"$f":"IF(COUNTIF('PLANNING PRINCIPAL'!$I$709:$X$709,J31)>=1,\"\",ROW())","v":31},null,null,{"$f":"IF(COUNTIF('PLANNING PRINCIPAL'!$I$712:$X$712,M31)>=1,\"\",ROW())","v":31},null,null,{"$f":"IF(COUNTIF('PLANNING PRINCIPAL'!$I$715:$X$715,P31)>=1,\"\",ROW())","v":31},null,null,{"$f":"IF(COUNTIF('PLANNING PRINCIPAL'!$I$718:$X$718,S31)>=1,\"\",ROW())","v":31},null,null,{"$f":"IF(COUNTIF('PLANNING PRINCIPAL'!$I$720:$X$720,V31)>=1,\"\",ROW())","v":31}]
[null,{"$f":"IF(COUNTIF('PLANNING PRINCIPAL'!$I$700:$X$700,A32)>=1,\"\",ROW())","v":32},null,null,{"$f":"IF(COUNTIF('PLANNING PRINCIPAL'!$I$703:$X$703,D32)>=1,\"\",ROW())","v":32},null,null,{"$f":"IF(COUNTIF('PLANNING PRINCIPAL'!$I$706:$X$706,G32)>=1,\"\",ROW())","v":32},null,null,{"$f":"IF(COUNTIF('PLANNING PRINCIPAL'!$I$709:$X$709,J32)>=1,\"\",ROW())","v":32},null,null,{"$f":"IF(COUNTIF('PLANNING PRINCIPAL'!$I$712:$X$712,M32)>=1,\"\",ROW())","v":32},null,null,{"$f":"IF(COUNTIF('PLANNING PRINCIPAL'!$I$715:$X$715,P32)>=1,\"\",ROW())","v":32},null,null,{"$f":"IF(COUNTIF('PLANNING PRINCIPAL'!$I$718:$X$718,S32)>=1,\"\",ROW())","v":32},null,null,{"$f":"IF(COUNTIF('PLANNING PRINCIPAL'!$I$720:$X$720,V32)>=1,\"\",ROW())","v":32}]
[null,{"$f":"IF(COUNTIF('PLANNING PRINCIPAL'!$I$700:$X$700,A33)>=1,\"\",ROW())","v":33},null,null,{"$f":"IF(COUNTIF('PLANNING PRINCIPAL'!$I$703:$X$703,D33)>=1,\"\",ROW())","v":33},null,null,{"$f":"IF(COUNTIF('PLANNING PRINCIPAL'!$I$706:$X$706,G33)>=1,\"\",ROW())","v":33},null,null,{"$f":"IF(COUNTIF('PLANNING PRINCIPAL'!$I$709:$X$709,J33)>=1,\"\",ROW())","v":33},null,null,{"$f":"IF(COUNTIF('PLANNING PRINCIPAL'!$I$712:$X$712,M33)>=1,\"\",ROW())","v":33},null,null,{"$f":"IF(COUNTIF('PLANNING PRINCIPAL'!$I$715:$X$715,P33)>=1,\"\",ROW())","v":33},null,null,{"$f":"IF(COUNTIF('PLANNING PRINCIPAL'!$I$718:$X$718,S33)>=1,\"\",ROW())","v":33},null,null,{"$f":"IF(COUNTIF('PLANNING PRINCIPAL'!$I$720:$X$720,V33)>=1,\"\",ROW())","v":33}]
[null,{"$f":"IF(COUNTIF('PLANNING PRINCIPAL'!$I$700:$X$700,A34)>=1,\"\",ROW())","v":34},null,null,{"$f":"IF(COUNTIF('PLANNING PRINCIPAL'!$I$703:$X$703,D34)>=1,\"\",ROW())","v":34},null,null,{"$f":"IF(COUNTIF('PLANNING PRINCIPAL'!$I$706:$X$706,G34)>=1,\"\",ROW())","v":34},null,null,{"$f":"IF(COUNTIF('PLANNING PRINCIPAL'!$I$709:$X$709,J34)>=1,\"\",ROW())","v":34},null,null,{"$f":"IF(COUNTIF('PLANNING PRINCIPAL'!$I$712:$X$712,M34)>=1,\"\",ROW())","v":34},null,null,{"$f":"IF(COUNTIF('PLANNING PRINCIPAL'!$I$715:$X$715,P34)>=1,\"\",ROW())","v":34},null,null,{"$f":"IF(COUNTIF('PLANNING PRINCIPAL'!$I$718:$X$718,S34)>=1,\"\",ROW())","v":34},null,null,{"$f":"IF(COUNTIF('PLANNING PRINCIPAL'!$I$720:$X$720,V34)>=1,\"\",ROW())","v":34}]
["LUNDI",null,null,"MARDI",null,null,"MERCREDI",null,null,"JEUDI",null,null,"VENDREDI",null,null,"SAMEDI",null,null,"DIMANCHE",null,null,"ASTREINTE"]

{"sheet":"DATA S32","index":33,"n_rows":35,"n_cols":24,"rows_kept":35,"cut":false,"hidden":false,"merged":[[34,18,34,20],[34,21,34,23],[34,0,34,2],[34,3,34,5],[34,6,34,8],[34,9,34,11],[34,12,34,14],[34,15,34,17]]}
[{"$f":"'DATA S1'!A1","v":"MAS XX "},{"$f":"IF(COUNTIF('PLANNING PRINCIPAL'!$I$723:$X$723,A1)>=1,\"\",ROW())","v":1},{"$f":"IF(ROW(A1)-ROW(A$1)+1>COUNT(B:B),\"\", INDEX(A:A,SMALL(B:B,1+ROW(A1)-ROW(A$1))))","v":"MAS XX "},{"$f":"A1","v":"MAS XX "},{"$f":"IF(COUNTIF('PLANNING PRINCIPAL'!$I$726:$X$726,D1)>=1,\"\",ROW())","v":1},{"$f":"IF(ROW(D1)-ROW(D$1)+1>COUNT(E:E),\"\", INDEX(D:D,SMALL(E:E,1+ROW(D1)-ROW(D$1))))","v":"MAS XX "},{"$f":"A1","v":"MAS XX "},{"$f":"IF(COUNTIF('PLANNING PRINCIPAL'!$I$729:$X$729,G1)>=1,\"\",ROW())","v":1},{"$f":"IF(ROW(G1)-ROW(G$1)+1>COUNT(H:H),\"\", INDEX(G:G,SMALL(H:H,1+ROW(G1)-ROW(G$1))))","v":"MAS XX "},{"$f":"A1","v":"MAS XX "},{"$f":"IF(COUNTIF('PLANNING PRINCIPAL'!$I$732:$X$732,J1)>=1,\"\",ROW())","v":1},{"$f":"IF(ROW(J1)-ROW(J$1)+1>COUNT(K:K),\"\", INDEX(J:J,SMALL(K:K,1+ROW(J1)-ROW(J$1))))","v":"MAS XX "},{"$f":"A1","v":"MAS XX "},{"$f":"IF(COUNTIF('PLANNING PRINCIPAL'!$I$735:$X$735,M1)>=1,\"\",ROW())","v":1},{"$f":"IF(ROW(M1)-ROW(M$1)+1>COUNT(N:N),\"\", INDEX(M:M,SMALL(N:N,1+ROW(M1)-ROW(M$1))))","v":"MAS XX "},{"$f":"A1","v":"MAS XX "},{"$f":"IF(COUNTIF('PLANNING PRINCIPAL'!$I$738:$X$738,P1)>=1,\"\",ROW())","v":1},{"$f":"IF(ROW(P1)-ROW(P$1)+1>COUNT(Q:Q),\"\", INDEX(P:P,SMALL(Q:Q,1+ROW(P1)-ROW(P$1))))","v":"MAS XX "},{"$f":"A1","v":"MAS XX "},{"$f":"IF(COUNTIF('PLANNING PRINCIPAL'!$I$741:$X$741,S1)>=1,\"\",ROW())","v":1},{"$f":"IF(ROW(S1)-ROW(S$1)+1>COUNT(T:T),\"\", INDEX(S:S,SMALL(T:T,1+ROW(S1)-ROW(S$1))))","v":"MAS XX "},{"$f":"'DATA S1'!V1","v":"ASTREINTE SLT"},{"$f":"IF(COUNTIF('PLANNING PRINCIPAL'!$I$743:$X$743,V1)>=1,\"\",ROW())","v":1},{"$f":"IF(ROW(V1)-ROW(V$1)+1>COUNT(W:W),\"\", INDEX(V:V,SMALL(W:W,1+ROW(V1)-ROW(V$1))))","v":"ASTREINTE SLT"}]
[{"$f":"'DATA S1'!A2","v":"MAS YY "},{"$f":"IF(COUNTIF('PLANNING PRINCIPAL'!$I$723:$X$723,A2)>=1,\"\",ROW())","v":2},{"$f":"IF(ROW(A2)-ROW(A$1)+1>COUNT(B:B),\"\", INDEX(A:A,SMALL(B:B,1+ROW(A2)-ROW(A$1))))","v":"MAS YY "},"MAS YY ",{"$f":"IF(COUNTIF('PLANNING PRINCIPAL'!$I$726:$X$726,D2)>=1,\"\",ROW())","v":2},{"$f":"IF(ROW(D2)-ROW(D$1)+1>COUNT(E:E),\"\", INDEX(D:D,SMALL(E:E,1+ROW(D2)-ROW(D$1))))","v":"MAS YY "},{"$f":"A2","v":"MAS YY "},{"$f":"IF(COUNTIF('PLANNING PRINCIPAL'!$I$729:$X$729,G2)>=1,\"\",ROW())","v":2},{"$f":"IF(ROW(G2)-ROW(G$1)+1>COUNT(H:H),\"\", INDEX(G:G,SMALL(H:H,1+ROW(G2)-ROW(G$1))))","v":"MAS YY "},{"$f":"A2","v":"MAS YY "},{"$f":"IF(COUNTIF('PLANNING PRINCIPAL'!$I$732:$X$732,J2)>=1,\"\",ROW())","v":2},{"$f":"IF(ROW(J2)-ROW(J$1)+1>COUNT(K:K),\"\", INDEX(J:J,SMALL(K:K,1+ROW(J2)-ROW(J$1))))","v":"MAS YY "},{"$f":"A2","v":"MAS YY "},{"$f":"IF(COUNTIF('PLANNING PRINCIPAL'!$I$735:$X$735,M2)>=1,\"\",ROW())","v":2},{"$f":"IF(ROW(M2)-ROW(M$1)+1>COUNT(N:N),\"\", INDEX(M:M,SMALL(N:N,1+ROW(M2)-ROW(M$1))))","v":"MAS YY "},{"$f":"A2","v":"MAS YY "},{"$f":"IF(COUNTIF('PLANNING PRINCIPAL'!$I$738:$X$738,P2)>=1,\"\",ROW())","v":2},{"$f":"IF(ROW(P2)-ROW(P$1)+1>COUNT(Q:Q),\"\", INDEX(P:P,SMALL(Q:Q,1+ROW(P2)-ROW(P$1))))","v":"MAS YY "},{"$f":"A2","v":"MAS YY "},{"$f":"IF(COUNTIF('PLANNING PRINCIPAL'!$I$741:$X$741,S2)>=1,\"\",ROW())","v":2},{"$f":"IF(ROW(S2)-ROW(S$1)+1>COUNT(T:T),\"\", INDEX(S:S,SMALL(T:T,1+ROW(S2)-ROW(S$1))))","v":"MAS YY "},{"$f":"'DATA S1'!V2","v":"ASTREINTE EP"},{"$f":"IF(COUNTIF('PLANNING PRINCIPAL'!$I$743:$X$743,V2)>=1,\"\",ROW())","v":2},{"$f":"IF(ROW(V2)-ROW(V$1)+1>COUNT(W:W),\"\", INDEX(V:V,SMALL(W:W,1+ROW(V2)-ROW(V$1))))","v":"ASTREINTE EP"}]
[{"$f":"'DATA S1'!A3","v":"MAS VQ "},{"$f":"IF(COUNTIF('PLANNING PRINCIPAL'!$I$723:$X$723,A3)>=1,\"\",ROW())","v":3},"MAS VQ ","MAS VQ ",{"$f":"IF(COUNTIF('PLANNING PRINCIPAL'!$I$726:$X$726,D3)>=1,\"\",ROW())","v":3},"MAS VQ ","MAS VQ ",{"$f":"IF(COUNTIF('PLANNING PRINCIPAL'!$I$729:$X$729,G3)>=1,\"\",ROW())","v":3},"MAS VQ ","MAS VQ ",{"$f":"IF(COUNTIF('PLANNING PRINCIPAL'!$I$732:$X$732,J3)>=1,\"\",ROW())","v":3},"MAS VQ ","MAS VQ ",{"$f":"IF(COUNTIF('PLANNING PRINCIPAL'!$I$735:$X$735,M3)>=1,\"\",ROW())","v":3},"MAS VQ ","MAS VQ ",{"$f":"IF(COUNTIF('PLANNING PRINCIPAL'!$I$738:$X$738,P3)>=1,\"\",ROW())","v":3},"MAS VQ ","MAS VQ ",{"$f":"IF(COUNTIF('PLANNING PRINCIPAL'!$I$741:$X$741,S3)>=1,\"\",ROW())","v":3},"MAS VQ ",{"$f":"'DATA S1'!V3","v":"V NOC CHARTRES"},{"$f":"IF(COUNTIF('PLANNING PRINCIPAL'!$I$743:$X$743,V3)>=1,\"\",ROW())","v":3},"V NOC CHARTRES"]
[{"$f":"'DATA S1'!A4","v":"MAS PL "},{"$f":"IF(COUNTIF('PLANNING PRINCIPAL'!$I$723:$X$723,A4)>=1,\"\",ROW())","v":4},"MAS PL ","MAS PL ",{"$f":"IF(COUNTIF('PLANNING PRINCIPAL'!$I$726:$X$726,D4)>=1,\"\",ROW())","v":4},"MAS PL ","MAS PL ",{"$f":"IF(COUNTIF('PLANNING PRINCIPAL'!$I$729:$X$729,G4)>=1,\"\",ROW())","v":4},"MAS PL ","MAS PL ",{"$f":"IF(COUNTIF('PLANNING PRINCIPAL'!$I$732:$X$732,J4)>=1,\"\",ROW())","v":4},"MAS PL ","MAS PL ",{"$f":"IF(COUNTIF('PLANNING PRINCIPAL'!$I$735:$X$735,M4)>=1,\"\",ROW())","v":4},"MAS PL ","MAS PL ",{"$f":"IF(COUNTIF('PLANNING PRINCIPAL'!$I$738:$X$738,P4)>=1,\"\",ROW())","v":4},"MAS PL ","MAS PL ",{"$f":"IF(COUNTIF('PLANNING PRINCIPAL'!$I$741:$X$741,S4)>=1,\"\",ROW())","v":4},"MAS PL ",{"$f":"'DATA S1'!V4","v":"V NOC EPERNON"},{"$f":"IF(COUNTIF('PLANNING PRINCIPAL'!$I$743:$X$743,V4)>=1,\"\",ROW())","v":4},"V NOC EPERNON"]
[{"$f":"'DATA S1'!A5","v":"BEN VL PT "},{"$f":"IF(COUNTIF('PLANNING PRINCIPAL'!$I$723:$X$723,A5)>=1,\"\",ROW())","v":5},"BEN VL PT ","BEN VL PT ",{"$f":"IF(COUNTIF('PLANNING PRINCIPAL'!$I$726:$X$726,D5)>=1,\"\",ROW())","v":5},"BEN VL PT ","BEN VL PT ",{"$f":"IF(COUNTIF('PLANNING PRINCIPAL'!$I$729:$X$729,G5)>=1,\"\",ROW())","v":5},"BEN VL PT ","BEN VL PT ",{"$f":"IF(COUNTIF('PLANNING PRINCIPAL'!$I$732:$X$732,J5)>=1,\"\",ROW())","v":5},"BEN VL PT ","BEN VL PT ",{"$f":"IF(COUNTIF('PLANNING PRINCIPAL'!$I$735:$X$735,M5)>=1,\"\",ROW())","v":5},"BEN VL PT ","BEN VL PT ",{"$f":"IF(COUNTIF('PLANNING PRINCIPAL'!$I$738:$X$738,P5)>=1,\"\",ROW())","v":5},"BEN VL PT ","BEN VL PT ",{"$f":"IF(COUNTIF('PLANNING PRINCIPAL'!$I$741:$X$741,S5)>=1,\"\",ROW())","v":5},"BEN VL PT ",{"$f":"'DATA S1'!V5","v":"V NOC HANCHES"},{"$f":"IF(COUNTIF('PLANNING PRINCIPAL'!$I$743:$X$743,V5)>=1,\"\",ROW())","v":5},"V NOC HANCHES"]
[{"$f":"'DATA S1'!A6","v":"BEN 19T "},{"$f":"IF(COUNTIF('PLANNING PRINCIPAL'!$I$723:$X$723,A6)>=1,\"\",ROW())","v":6},"BEN 19T ","BEN 19T ",{"$f":"IF(COUNTIF('PLANNING PRINCIPAL'!$I$726:$X$726,D6)>=1,\"\",ROW())","v":6},"BEN 19T ","BEN 19T ",{"$f":"IF(COUNTIF('PLANNING PRINCIPAL'!$I$729:$X$729,G6)>=1,\"\",ROW())","v":6},"BEN 19T ","BEN 19T ",{"$f":"IF(COUNTIF('PLANNING PRINCIPAL'!$I$732:$X$732,J6)>=1,\"\",ROW())","v":6},"BEN 19T ","BEN 19T ",{"$f":"IF(COUNTIF('PLANNING PRINCIPAL'!$I$735:$X$735,M6)>=1,\"\",ROW())","v":6},"BEN 19T ","BEN 19T ",{"$f":"IF(COUNTIF('PLANNING PRINCIPAL'!$I$738:$X$738,P6)>=1,\"\",ROW())","v":6},"BEN 19T ","BEN 19T ",{"$f":"IF(COUNTIF('PLANNING PRINCIPAL'!$I$741:$X$741,S6)>=1,\"\",ROW())","v":6},"BEN 19T ",{"$f":"'DATA S1'!V6","v":"V NOC MAINTENON"},{"$f":"IF(COUNTIF('PLANNING PRINCIPAL'!$I$743:$X$743,V6)>=1,\"\",ROW())","v":6},"V NOC MAINTENON"]
[{"$f":"'DATA S1'!A7","v":"BEN 13T "},{"$f":"IF(COUNTIF('PLANNING PRINCIPAL'!$I$723:$X$723,A7)>=1,\"\",ROW())","v":7},"BEN 13T ","BEN 13T ",{"$f":"IF(COUNTIF('PLANNING PRINCIPAL'!$I$726:$X$726,D7)>=1,\"\",ROW())","v":7},"BEN 13T ","BEN 13T ",{"$f":"IF(COUNTIF('PLANNING PRINCIPAL'!$I$729:$X$729,G7)>=1,\"\",ROW())","v":7},"BEN 13T ","BEN 13T ",{"$f":"IF(COUNTIF('PLANNING PRINCIPAL'!$I$732:$X$732,J7)>=1,\"\",ROW())","v":7},"BEN 13T ","BEN 13T ",{"$f":"IF(COUNTIF('PLANNING PRINCIPAL'!$I$735:$X$735,M7)>=1,\"\",ROW())","v":7},"BEN 13T ","BEN 13T ",{"$f":"IF(COUNTIF('PLANNING PRINCIPAL'!$I$738:$X$738,P7)>=1,\"\",ROW())","v":7},"BEN 13T ","BEN 13T ",{"$f":"IF(COUNTIF('PLANNING PRINCIPAL'!$I$741:$X$741,S7)>=1,\"\",ROW())","v":7},"BEN 13T ",null,{"$f":"IF(COUNTIF('PLANNING PRINCIPAL'!$I$743:$X$743,V7)>=1,\"\",ROW())","v":7}]
[{"$f":"'DATA S1'!A8","v":"NAC VL 18M "},{"$f":"IF(COUNTIF('PLANNING PRINCIPAL'!$I$723:$X$723,A8)>=1,\"\",ROW())","v":8},"NAC VL 18M ","NAC VL 18M ",{"$f":"IF(COUNTIF('PLANNING PRINCIPAL'!$I$726:$X$726,D8)>=1,\"\",ROW())","v":8},"NAC VL 18M ","NAC VL 18M ",{"$f":"IF(COUNTIF('PLANNING PRINCIPAL'!$I$729:$X$729,G8)>=1,\"\",ROW())","v":8},"NAC VL 18M ","NAC VL 18M ",{"$f":"IF(COUNTIF('PLANNING PRINCIPAL'!$I$732:$X$732,J8)>=1,\"\",ROW())","v":8},"NAC VL 18M ","NAC VL 18M ",{"$f":"IF(COUNTIF('PLANNING PRINCIPAL'!$I$735:$X$735,M8)>=1,\"\",ROW())","v":8},"NAC VL 18M ","NAC VL 18M ",{"$f":"IF(COUNTIF('PLANNING PRINCIPAL'!$I$738:$X$738,P8)>=1,\"\",ROW())","v":8},"NAC VL 18M ","NAC VL 18M ",{"$f":"IF(COUNTIF('PLANNING PRINCIPAL'!$I$741:$X$741,S8)>=1,\"\",ROW())","v":8},"NAC VL 18M ",null,{"$f":"IF(COUNTIF('PLANNING PRINCIPAL'!$I$743:$X$743,V8)>=1,\"\",ROW())","v":8}]
[{"$f":"'DATA S1'!A9","v":"NAC EGIE"},{"$f":"IF(COUNTIF('PLANNING PRINCIPAL'!$I$723:$X$723,A9)>=1,\"\",ROW())","v":9},"NAC EGIE","NAC EGIE",{"$f":"IF(COUNTIF('PLANNING PRINCIPAL'!$I$726:$X$726,D9)>=1,\"\",ROW())","v":9},"NAC EGIE","NAC EGIE",{"$f":"IF(COUNTIF('PLANNING PRINCIPAL'!$I$729:$X$729,G9)>=1,\"\",ROW())","v":9},"NAC EGIE","NAC EGIE",{"$f":"IF(COUNTIF('PLANNING PRINCIPAL'!$I$732:$X$732,J9)>=1,\"\",ROW())","v":9},"NAC EGIE","NAC EGIE",{"$f":"IF(COUNTIF('PLANNING PRINCIPAL'!$I$735:$X$735,M9)>=1,\"\",ROW())","v":9},"NAC EGIE","NAC EGIE",{"$f":"IF(COUNTIF('PLANNING PRINCIPAL'!$I$738:$X$738,P9)>=1,\"\",ROW())","v":9},"NAC EGIE","NAC EGIE",{"$f":"IF(COUNTIF('PLANNING PRINCIPAL'!$I$741:$X$741,S9)>=1,\"\",ROW())","v":9},"NAC EGIE",null,{"$f":"IF(COUNTIF('PLANNING PRINCIPAL'!$I$743:$X$743,V9)>=1,\"\",ROW())","v":9}]
[{"$f":"'DATA S1'!A10","v":"NAC COMI "},{"$f":"IF(COUNTIF('PLANNING PRINCIPAL'!$I$723:$X$723,A10)>=1,\"\",ROW())","v":10},"NAC COMI ","NAC COMI ",{"$f":"IF(COUNTIF('PLANNING PRINCIPAL'!$I$726:$X$726,D10)>=1,\"\",ROW())","v":10},"NAC COMI ","NAC COMI ",{"$f":"IF(COUNTIF('PLANNING PRINCIPAL'!$I$729:$X$729,G10)>=1,\"\",ROW())","v":10},"NAC COMI ","NAC COMI ",{"$f":"IF(COUNTIF('PLANNING PRINCIPAL'!$I$732:$X$732,J10)>=1,\"\",ROW())","v":10},"NAC COMI ","NAC COMI ",{"$f":"IF(COUNTIF('PLANNING PRINCIPAL'!$I$735:$X$735,M10)>=1,\"\",ROW())","v":10},"NAC COMI ","NAC COMI ",{"$f":"IF(COUNTIF('PLANNING PRINCIPAL'!$I$738:$X$738,P10)>=1,\"\",ROW())","v":10},"NAC COMI ","NAC COMI ",{"$f":"IF(COUNTIF('PLANNING PRINCIPAL'!$I$741:$X$741,S10)>=1,\"\",ROW())","v":10},"NAC COMI ",null,{"$f":"IF(COUNTIF('PLANNING PRINCIPAL'!$I$743:$X$743,V10)>=1,\"\",ROW())","v":10}]
[{"$f":"'DATA S1'!A11","v":"#####LOCATION#####"},{"$f":"IF(COUNTIF('PLANNING PRINCIPAL'!$I$723:$X$723,A11)>=1,\"\",ROW())","v":11},"#####LOCATION#####","#####LOCATION#####",{"$f":"IF(COUNTIF('PLANNING PRINCIPAL'!$I$726:$X$726,D11)>=1,\"\",ROW())","v":11},"#####LOCATION#####","#####LOCATION#####",{"$f":"IF(COUNTIF('PLANNING PRINCIPAL'!$I$729:$X$729,G11)>=1,\"\",ROW())","v":11},"#####LOCATION#####","#####LOCATION#####",{"$f":"IF(COUNTIF('PLANNING PRINCIPAL'!$I$732:$X$732,J11)>=1,\"\",ROW())","v":11},"#####LOCATION#####","#####LOCATION#####",{"$f":"IF(COUNTIF('PLANNING PRINCIPAL'!$I$735:$X$735,M11)>=1,\"\",ROW())","v":11},"#####LOCATION#####","#####LOCATION#####",{"$f":"IF(COUNTIF('PLANNING PRINCIPAL'!$I$738:$X$738,P11)>=1,\"\",ROW())","v":11},"#####LOCATION#####","#####LOCATION#####",{"$f":"IF(COUNTIF('PLANNING PRINCIPAL'!$I$741:$X$741,S11)>=1,\"\",ROW())","v":11},"#####LOCATION#####",null,{"$f":"IF(COUNTIF('PLANNING PRINCIPAL'!$I$743:$X$743,V11)>=1,\"\",ROW())","v":11}]
[{"$f":"'DATA S1'!A12","v":"LOC NAC SOLOMAT"},{"$f":"IF(COUNTIF('PLANNING PRINCIPAL'!$I$723:$X$723,A12)>=1,\"\",ROW())","v":12},"LOC NAC SOLOMAT","LOC NAC SOLOMAT",{"$f":"IF(COUNTIF('PLANNING PRINCIPAL'!$I$726:$X$726,D12)>=1,\"\",ROW())","v":12},"LOC NAC SOLOMAT","LOC NAC SOLOMAT",{"$f":"IF(COUNTIF('PLANNING PRINCIPAL'!$I$729:$X$729,G12)>=1,\"\",ROW())","v":12},"LOC NAC SOLOMAT","LOC NAC SOLOMAT",{"$f":"IF(COUNTIF('PLANNING PRINCIPAL'!$I$732:$X$732,J12)>=1,\"\",ROW())","v":12},"LOC NAC SOLOMAT","LOC NAC SOLOMAT",{"$f":"IF(COUNTIF('PLANNING PRINCIPAL'!$I$735:$X$735,M12)>=1,\"\",ROW())","v":12},"LOC NAC SOLOMAT","LOC NAC SOLOMAT",{"$f":"IF(COUNTIF('PLANNING PRINCIPAL'!$I$738:$X$738,P12)>=1,\"\",ROW())","v":12},"LOC NAC SOLOMAT","LOC NAC SOLOMAT",{"$f":"IF(COUNTIF('PLANNING PRINCIPAL'!$I$741:$X$741,S12)>=1,\"\",ROW())","v":12},"LOC NAC SOLOMAT",null,{"$f":"IF(COUNTIF('PLANNING PRINCIPAL'!$I$743:$X$743,V12)>=1,\"\",ROW())","v":12}]
[{"$f":"'DATA S1'!A13","v":"LOC NAC AEB"},{"$f":"IF(COUNTIF('PLANNING PRINCIPAL'!$I$723:$X$723,A13)>=1,\"\",ROW())","v":13},"LOC NAC AEB","LOC NAC AEB",{"$f":"IF(COUNTIF('PLANNING PRINCIPAL'!$I$726:$X$726,D13)>=1,\"\",ROW())","v":13},"LOC NAC AEB","LOC NAC AEB",{"$f":"IF(COUNTIF('PLANNING PRINCIPAL'!$I$729:$X$729,G13)>=1,\"\",ROW())","v":13},"LOC NAC AEB","LOC NAC AEB",{"$f":"IF(COUNTIF('PLANNING PRINCIPAL'!$I$732:$X$732,J13)>=1,\"\",ROW())","v":13},"LOC NAC AEB","LOC NAC AEB",{"$f":"IF(COUNTIF('PLANNING PRINCIPAL'!$I$735:$X$735,M13)>=1,\"\",ROW())","v":13},"LOC NAC AEB","LOC NAC AEB",{"$f":"IF(COUNTIF('PLANNING PRINCIPAL'!$I$738:$X$738,P13)>=1,\"\",ROW())","v":13},"LOC NAC AEB","LOC NAC AEB",{"$f":"IF(COUNTIF('PLANNING PRINCIPAL'!$I$741:$X$741,S13)>=1,\"\",ROW())","v":13},"LOC NAC AEB",null,{"$f":"IF(COUNTIF('PLANNING PRINCIPAL'!$I$743:$X$743,V13)>=1,\"\",ROW())","v":13}]
[{"$f":"'DATA S1'!A14","v":"LOC NAC INTERLOC"},{"$f":"IF(COUNTIF('PLANNING PRINCIPAL'!$I$723:$X$723,A14)>=1,\"\",ROW())","v":14},"LOC NAC INTERLOC","LOC NAC INTERLOC",{"$f":"IF(COUNTIF('PLANNING PRINCIPAL'!$I$726:$X$726,D14)>=1,\"\",ROW())","v":14},"LOC NAC INTERLOC","LOC NAC INTERLOC",{"$f":"IF(COUNTIF('PLANNING PRINCIPAL'!$I$729:$X$729,G14)>=1,\"\",ROW())","v":14},"LOC NAC INTERLOC","LOC NAC INTERLOC",{"$f":"IF(COUNTIF('PLANNING PRINCIPAL'!$I$732:$X$732,J14)>=1,\"\",ROW())","v":14},"LOC NAC INTERLOC","LOC NAC INTERLOC",{"$f":"IF(COUNTIF('PLANNING PRINCIPAL'!$I$735:$X$735,M14)>=1,\"\",ROW())","v":14},"LOC NAC INTERLOC","LOC NAC INTERLOC",{"$f":"IF(COUNTIF('PLANNING PRINCIPAL'!$I$738:$X$738,P14)>=1,\"\",ROW())","v":14},"LOC NAC INTERLOC","LOC NAC INTERLOC",{"$f":"IF(COUNTIF('PLANNING PRINCIPAL'!$I$741:$X$741,S14)>=1,\"\",ROW())","v":14},"LOC NAC INTERLOC",null,{"$f":"IF(COUNTIF('PLANNING PRINCIPAL'!$I$743:$X$743,V14)>=1,\"\",ROW())","v":14}]
[{"$f":"'DATA S1'!A15","v":"LOC NAC KILOUTOU"},{"$f":"IF(COUNTIF('PLANNING PRINCIPAL'!$I$723:$X$723,A15)>=1,\"\",ROW())","v":15},"LOC NAC KILOUTOU","LOC NAC KILOUTOU",{"$f":"IF(COUNTIF('PLANNING PRINCIPAL'!$I$726:$X$726,D15)>=1,\"\",ROW())","v":15},"LOC NAC KILOUTOU","LOC NAC KILOUTOU",{"$f":"IF(COUNTIF('PLANNING PRINCIPAL'!$I$729:$X$729,G15)>=1,\"\",ROW())","v":15},"LOC NAC KILOUTOU","LOC NAC KILOUTOU",{"$f":"IF(COUNTIF('PLANNING PRINCIPAL'!$I$732:$X$732,J15)>=1,\"\",ROW())","v":15},"LOC NAC KILOUTOU","LOC NAC KILOUTOU",{"$f":"IF(COUNTIF('PLANNING PRINCIPAL'!$I$735:$X$735,M15)>=1,\"\",ROW())","v":15},"LOC NAC KILOUTOU","LOC NAC KILOUTOU",{"$f":"IF(COUNTIF('PLANNING PRINCIPAL'!$I$738:$X$738,P15)>=1,\"\",ROW())","v":15},"LOC NAC KILOUTOU","LOC NAC KILOUTOU",{"$f":"IF(COUNTIF('PLANNING PRINCIPAL'!$I$741:$X$741,S15)>=1,\"\",ROW())","v":15},"LOC NAC KILOUTOU",null,{"$f":"IF(COUNTIF('PLANNING PRINCIPAL'!$I$743:$X$743,V15)>=1,\"\",ROW())","v":15}]
[{"$f":"'DATA S1'!A16","v":"LOC NAC AEB"},{"$f":"IF(COUNTIF('PLANNING PRINCIPAL'!$I$723:$X$723,A16)>=1,\"\",ROW())","v":16},"LOC NAC AEB","LOC NAC AEB",{"$f":"IF(COUNTIF('PLANNING PRINCIPAL'!$I$726:$X$726,D16)>=1,\"\",ROW())","v":16},"LOC NAC AEB","LOC NAC AEB",{"$f":"IF(COUNTIF('PLANNING PRINCIPAL'!$I$729:$X$729,G16)>=1,\"\",ROW())","v":16},"LOC NAC AEB","LOC NAC AEB",{"$f":"IF(COUNTIF('PLANNING PRINCIPAL'!$I$732:$X$732,J16)>=1,\"\",ROW())","v":16},"LOC NAC AEB","LOC NAC AEB",{"$f":"IF(COUNTIF('PLANNING PRINCIPAL'!$I$735:$X$735,M16)>=1,\"\",ROW())","v":16},"LOC NAC AEB","LOC NAC AEB",{"$f":"IF(COUNTIF('PLANNING PRINCIPAL'!$I$738:$X$738,P16)>=1,\"\",ROW())","v":16},"LOC NAC AEB","LOC NAC AEB",{"$f":"IF(COUNTIF('PLANNING PRINCIPAL'!$I$741:$X$741,S16)>=1,\"\",ROW())","v":16},"LOC NAC AEB",null,{"$f":"IF(COUNTIF('PLANNING PRINCIPAL'!$I$743:$X$743,V16)>=1,\"\",ROW())","v":16}]
[{"$f":"'DATA S1'!A17","v":"LOC PELLE SOLOMAT"},{"$f":"IF(COUNTIF('PLANNING PRINCIPAL'!$I$723:$X$723,A17)>=1,\"\",ROW())","v":17},"LOC PELLE SOLOMAT","LOC PELLE SOLOMAT",{"$f":"IF(COUNTIF('PLANNING PRINCIPAL'!$I$726:$X$726,D17)>=1,\"\",ROW())","v":17},"LOC PELLE SOLOMAT","LOC PELLE SOLOMAT",{"$f":"IF(COUNTIF('PLANNING PRINCIPAL'!$I$729:$X$729,G17)>=1,\"\",ROW())","v":17},"LOC PELLE SOLOMAT","LOC PELLE SOLOMAT",{"$f":"IF(COUNTIF('PLANNING PRINCIPAL'!$I$732:$X$732,J17)>=1,\"\",ROW())","v":17},"LOC PELLE SOLOMAT","LOC PELLE SOLOMAT",{"$f":"IF(COUNTIF('PLANNING PRINCIPAL'!$I$735:$X$735,M17)>=1,\"\",ROW())","v":17},"LOC PELLE SOLOMAT","LOC PELLE SOLOMAT",{"$f":"IF(COUNTIF('PLANNING PRINCIPAL'!$I$738:$X$738,P17)>=1,\"\",ROW())","v":17},"LOC PELLE SOLOMAT","LOC PELLE SOLOMAT",{"$f":"IF(COUNTIF('PLANNING PRINCIPAL'!$I$741:$X$741,S17)>=1,\"\",ROW())","v":17},"LOC PELLE SOLOMAT",null,{"$f":"IF(COUNTIF('PLANNING PRINCIPAL'!$I$743:$X$743,V17)>=1,\"\",ROW())","v":17}]
[{"$f":"'DATA S1'!A18","v":"LOC PELLE AEB"},{"$f":"IF(COUNTIF('PLANNING PRINCIPAL'!$I$723:$X$723,A18)>=1,\"\",ROW())","v":18},"LOC PELLE AEB","LOC PELLE AEB",{"$f":"IF(COUNTIF('PLANNING PRINCIPAL'!$I$726:$X$726,D18)>=1,\"\",ROW())","v":18},"LOC PELLE AEB","LOC PELLE AEB",{"$f":"IF(COUNTIF('PLANNING PRINCIPAL'!$I$729:$X$729,G18)>=1,\"\",ROW())","v":18},"LOC PELLE AEB","LOC PELLE AEB",{"$f":"IF(COUNTIF('PLANNING PRINCIPAL'!$I$732:$X$732,J18)>=1,\"\",ROW())","v":18},"LOC PELLE AEB","LOC PELLE AEB",{"$f":"IF(COUNTIF('PLANNING PRINCIPAL'!$I$735:$X$735,M18)>=1,\"\",ROW())","v":18},"LOC PELLE AEB","LOC PELLE AEB",{"$f":"IF(COUNTIF('PLANNING PRINCIPAL'!$I$738:$X$738,P18)>=1,\"\",ROW())","v":18},"LOC PELLE AEB","LOC PELLE AEB",{"$f":"IF(COUNTIF('PLANNING PRINCIPAL'!$I$741:$X$741,S18)>=1,\"\",ROW())","v":18},"LOC PELLE AEB",null,{"$f":"IF(COUNTIF('PLANNING PRINCIPAL'!$I$743:$X$743,V18)>=1,\"\",ROW())","v":18}]
[{"$f":"'DATA S1'!A19","v":"LOC PELLE INTERLOC"},{"$f":"IF(COUNTIF('PLANNING PRINCIPAL'!$I$723:$X$723,A19)>=1,\"\",ROW())","v":19},"LOC PELLE INTERLOC","LOC PELLE INTERLOC",{"$f":"IF(COUNTIF('PLANNING PRINCIPAL'!$I$726:$X$726,D19)>=1,\"\",ROW())","v":19},"LOC PELLE INTERLOC","LOC PELLE INTERLOC",{"$f":"IF(COUNTIF('PLANNING PRINCIPAL'!$I$729:$X$729,G19)>=1,\"\",ROW())","v":19},"LOC PELLE INTERLOC","LOC PELLE INTERLOC",{"$f":"IF(COUNTIF('PLANNING PRINCIPAL'!$I$732:$X$732,J19)>=1,\"\",ROW())","v":19},"LOC PELLE INTERLOC","LOC PELLE INTERLOC",{"$f":"IF(COUNTIF('PLANNING PRINCIPAL'!$I$735:$X$735,M19)>=1,\"\",ROW())","v":19},"LOC PELLE INTERLOC","LOC PELLE INTERLOC",{"$f":"IF(COUNTIF('PLANNING PRINCIPAL'!$I$738:$X$738,P19)>=1,\"\",ROW())","v":19},"LOC PELLE INTERLOC","LOC PELLE INTERLOC",{"$f":"IF(COUNTIF('PLANNING PRINCIPAL'!$I$741:$X$741,S19)>=1,\"\",ROW())","v":19},"LOC PELLE INTERLOC",null,{"$f":"IF(COUNTIF('PLANNING PRINCIPAL'!$I$743:$X$743,V19)>=1,\"\",ROW())","v":19}]
[{"$f":"'DATA S1'!A20","v":"LOC PELLE KILOUTOU"},{"$f":"IF(COUNTIF('PLANNING PRINCIPAL'!$I$723:$X$723,A20)>=1,\"\",ROW())","v":20},"LOC PELLE KILOUTOU","LOC PELLE KILOUTOU",{"$f":"IF(COUNTIF('PLANNING PRINCIPAL'!$I$726:$X$726,D20)>=1,\"\",ROW())","v":20},"LOC PELLE KILOUTOU","LOC PELLE KILOUTOU",{"$f":"IF(COUNTIF('PLANNING PRINCIPAL'!$I$729:$X$729,G20)>=1,\"\",ROW())","v":20},"LOC PELLE KILOUTOU","LOC PELLE KILOUTOU",{"$f":"IF(COUNTIF('PLANNING PRINCIPAL'!$I$732:$X$732,J20)>=1,\"\",ROW())","v":20},"LOC PELLE KILOUTOU","LOC PELLE KILOUTOU",{"$f":"IF(COUNTIF('PLANNING PRINCIPAL'!$I$735:$X$735,M20)>=1,\"\",ROW())","v":20},"LOC PELLE KILOUTOU","LOC PELLE KILOUTOU",{"$f":"IF(COUNTIF('PLANNING PRINCIPAL'!$I$738:$X$738,P20)>=1,\"\",ROW())","v":20},"LOC PELLE KILOUTOU","LOC PELLE KILOUTOU",{"$f":"IF(COUNTIF('PLANNING PRINCIPAL'!$I$741:$X$741,S20)>=1,\"\",ROW())","v":20},"LOC PELLE KILOUTOU",null,{"$f":"IF(COUNTIF('PLANNING PRINCIPAL'!$I$743:$X$743,V20)>=1,\"\",ROW())","v":20}]
[null,{"$f":"IF(COUNTIF('PLANNING PRINCIPAL'!$I$723:$X$723,A21)>=1,\"\",ROW())","v":21},null,null,{"$f":"IF(COUNTIF('PLANNING PRINCIPAL'!$I$726:$X$726,D21)>=1,\"\",ROW())","v":21},null,null,{"$f":"IF(COUNTIF('PLANNING PRINCIPAL'!$I$729:$X$729,G21)>=1,\"\",ROW())","v":21},null,null,{"$f":"IF(COUNTIF('PLANNING PRINCIPAL'!$I$732:$X$732,J21)>=1,\"\",ROW())","v":21},null,null,{"$f":"IF(COUNTIF('PLANNING PRINCIPAL'!$I$735:$X$735,M21)>=1,\"\",ROW())","v":21},null,null,{"$f":"IF(COUNTIF('PLANNING PRINCIPAL'!$I$738:$X$738,P21)>=1,\"\",ROW())","v":21},null,null,{"$f":"IF(COUNTIF('PLANNING PRINCIPAL'!$I$741:$X$741,S21)>=1,\"\",ROW())","v":21},null,null,{"$f":"IF(COUNTIF('PLANNING PRINCIPAL'!$I$743:$X$743,V21)>=1,\"\",ROW())","v":21}]
[null,{"$f":"IF(COUNTIF('PLANNING PRINCIPAL'!$I$723:$X$723,A22)>=1,\"\",ROW())","v":22},null,null,{"$f":"IF(COUNTIF('PLANNING PRINCIPAL'!$I$726:$X$726,D22)>=1,\"\",ROW())","v":22},null,null,{"$f":"IF(COUNTIF('PLANNING PRINCIPAL'!$I$729:$X$729,G22)>=1,\"\",ROW())","v":22},null,null,{"$f":"IF(COUNTIF('PLANNING PRINCIPAL'!$I$732:$X$732,J22)>=1,\"\",ROW())","v":22},null,null,{"$f":"IF(COUNTIF('PLANNING PRINCIPAL'!$I$735:$X$735,M22)>=1,\"\",ROW())","v":22},null,null,{"$f":"IF(COUNTIF('PLANNING PRINCIPAL'!$I$738:$X$738,P22)>=1,\"\",ROW())","v":22},null,null,{"$f":"IF(COUNTIF('PLANNING PRINCIPAL'!$I$741:$X$741,S22)>=1,\"\",ROW())","v":22},null,null,{"$f":"IF(COUNTIF('PLANNING PRINCIPAL'!$I$743:$X$743,V22)>=1,\"\",ROW())","v":22}]
[null,{"$f":"IF(COUNTIF('PLANNING PRINCIPAL'!$I$723:$X$723,A23)>=1,\"\",ROW())","v":23},null,null,{"$f":"IF(COUNTIF('PLANNING PRINCIPAL'!$I$726:$X$726,D23)>=1,\"\",ROW())","v":23},null,null,{"$f":"IF(COUNTIF('PLANNING PRINCIPAL'!$I$729:$X$729,G23)>=1,\"\",ROW())","v":23},null,null,{"$f":"IF(COUNTIF('PLANNING PRINCIPAL'!$I$732:$X$732,J23)>=1,\"\",ROW())","v":23},null,null,{"$f":"IF(COUNTIF('PLANNING PRINCIPAL'!$I$735:$X$735,M23)>=1,\"\",ROW())","v":23},null,null,{"$f":"IF(COUNTIF('PLANNING PRINCIPAL'!$I$738:$X$738,P23)>=1,\"\",ROW())","v":23},null,null,{"$f":"IF(COUNTIF('PLANNING PRINCIPAL'!$I$741:$X$741,S23)>=1,\"\",ROW())","v":23},null,null,{"$f":"IF(COUNTIF('PLANNING PRINCIPAL'!$I$743:$X$743,V23)>=1,\"\",ROW())","v":23}]
[null,{"$f":"IF(COUNTIF('PLANNING PRINCIPAL'!$I$723:$X$723,A24)>=1,\"\",ROW())","v":24},null,null,{"$f":"IF(COUNTIF('PLANNING PRINCIPAL'!$I$726:$X$726,D24)>=1,\"\",ROW())","v":24},null,null,{"$f":"IF(COUNTIF('PLANNING PRINCIPAL'!$I$729:$X$729,G24)>=1,\"\",ROW())","v":24},null,null,{"$f":"IF(COUNTIF('PLANNING PRINCIPAL'!$I$732:$X$732,J24)>=1,\"\",ROW())","v":24},null,null,{"$f":"IF(COUNTIF('PLANNING PRINCIPAL'!$I$735:$X$735,M24)>=1,\"\",ROW())","v":24},null,null,{"$f":"IF(COUNTIF('PLANNING PRINCIPAL'!$I$738:$X$738,P24)>=1,\"\",ROW())","v":24},null,null,{"$f":"IF(COUNTIF('PLANNING PRINCIPAL'!$I$741:$X$741,S24)>=1,\"\",ROW())","v":24},null,null,{"$f":"IF(COUNTIF('PLANNING PRINCIPAL'!$I$743:$X$743,V24)>=1,\"\",ROW())","v":24}]
[null,{"$f":"IF(COUNTIF('PLANNING PRINCIPAL'!$I$723:$X$723,A25)>=1,\"\",ROW())","v":25},null,null,{"$f":"IF(COUNTIF('PLANNING PRINCIPAL'!$I$726:$X$726,D25)>=1,\"\",ROW())","v":25},null,null,{"$f":"IF(COUNTIF('PLANNING PRINCIPAL'!$I$729:$X$729,G25)>=1,\"\",ROW())","v":25},null,null,{"$f":"IF(COUNTIF('PLANNING PRINCIPAL'!$I$732:$X$732,J25)>=1,\"\",ROW())","v":25},null,null,{"$f":"IF(COUNTIF('PLANNING PRINCIPAL'!$I$735:$X$735,M25)>=1,\"\",ROW())","v":25},null,null,{"$f":"IF(COUNTIF('PLANNING PRINCIPAL'!$I$738:$X$738,P25)>=1,\"\",ROW())","v":25},null,null,{"$f":"IF(COUNTIF('PLANNING PRINCIPAL'!$I$741:$X$741,S25)>=1,\"\",ROW())","v":25},null,null,{"$f":"IF(COUNTIF('PLANNING PRINCIPAL'!$I$743:$X$743,V25)>=1,\"\",ROW())","v":25}]
[null,{"$f":"IF(COUNTIF('PLANNING PRINCIPAL'!$I$723:$X$723,A26)>=1,\"\",ROW())","v":26},null,null,{"$f":"IF(COUNTIF('PLANNING PRINCIPAL'!$I$726:$X$726,D26)>=1,\"\",ROW())","v":26},null,null,{"$f":"IF(COUNTIF('PLANNING PRINCIPAL'!$I$729:$X$729,G26)>=1,\"\",ROW())","v":26},null,null,{"$f":"IF(COUNTIF('PLANNING PRINCIPAL'!$I$732:$X$732,J26)>=1,\"\",ROW())","v":26},null,null,{"$f":"IF(COUNTIF('PLANNING PRINCIPAL'!$I$735:$X$735,M26)>=1,\"\",ROW())","v":26},null,null,{"$f":"IF(COUNTIF('PLANNING PRINCIPAL'!$I$738:$X$738,P26)>=1,\"\",ROW())","v":26},null,null,{"$f":"IF(COUNTIF('PLANNING PRINCIPAL'!$I$741:$X$741,S26)>=1,\"\",ROW())","v":26},null,null,{"$f":"IF(COUNTIF('PLANNING PRINCIPAL'!$I$743:$X$743,V26)>=1,\"\",ROW())","v":26}]
[null,{"$f":"IF(COUNTIF('PLANNING PRINCIPAL'!$I$723:$X$723,A27)>=1,\"\",ROW())","v":27},null,null,{"$f":"IF(COUNTIF('PLANNING PRINCIPAL'!$I$726:$X$726,D27)>=1,\"\",ROW())","v":27},null,null,{"$f":"IF(COUNTIF('PLANNING PRINCIPAL'!$I$729:$X$729,G27)>=1,\"\",ROW())","v":27},null,null,{"$f":"IF(COUNTIF('PLANNING PRINCIPAL'!$I$732:$X$732,J27)>=1,\"\",ROW())","v":27},null,null,{"$f":"IF(COUNTIF('PLANNING PRINCIPAL'!$I$735:$X$735,M27)>=1,\"\",ROW())","v":27},null,null,{"$f":"IF(COUNTIF('PLANNING PRINCIPAL'!$I$738:$X$738,P27)>=1,\"\",ROW())","v":27},null,null,{"$f":"IF(COUNTIF('PLANNING PRINCIPAL'!$I$741:$X$741,S27)>=1,\"\",ROW())","v":27},null,null,{"$f":"IF(COUNTIF('PLANNING PRINCIPAL'!$I$743:$X$743,V27)>=1,\"\",ROW())","v":27}]
[null,{"$f":"IF(COUNTIF('PLANNING PRINCIPAL'!$I$723:$X$723,A28)>=1,\"\",ROW())","v":28},null,null,{"$f":"IF(COUNTIF('PLANNING PRINCIPAL'!$I$726:$X$726,D28)>=1,\"\",ROW())","v":28},null,null,{"$f":"IF(COUNTIF('PLANNING PRINCIPAL'!$I$729:$X$729,G28)>=1,\"\",ROW())","v":28},null,null,{"$f":"IF(COUNTIF('PLANNING PRINCIPAL'!$I$732:$X$732,J28)>=1,\"\",ROW())","v":28},null,null,{"$f":"IF(COUNTIF('PLANNING PRINCIPAL'!$I$735:$X$735,M28)>=1,\"\",ROW())","v":28},null,null,{"$f":"IF(COUNTIF('PLANNING PRINCIPAL'!$I$738:$X$738,P28)>=1,\"\",ROW())","v":28},null,null,{"$f":"IF(COUNTIF('PLANNING PRINCIPAL'!$I$741:$X$741,S28)>=1,\"\",ROW())","v":28},null,null,{"$f":"IF(COUNTIF('PLANNING PRINCIPAL'!$I$743:$X$743,V28)>=1,\"\",ROW())","v":28}]
[null,{"$f":"IF(COUNTIF('PLANNING PRINCIPAL'!$I$723:$X$723,A29)>=1,\"\",ROW())","v":29},null,null,{"$f":"IF(COUNTIF('PLANNING PRINCIPAL'!$I$726:$X$726,D29)>=1,\"\",ROW())","v":29},null,null,{"$f":"IF(COUNTIF('PLANNING PRINCIPAL'!$I$729:$X$729,G29)>=1,\"\",ROW())","v":29},null,null,{"$f":"IF(COUNTIF('PLANNING PRINCIPAL'!$I$732:$X$732,J29)>=1,\"\",ROW())","v":29},null,null,{"$f":"IF(COUNTIF('PLANNING PRINCIPAL'!$I$735:$X$735,M29)>=1,\"\",ROW())","v":29},null,null,{"$f":"IF(COUNTIF('PLANNING PRINCIPAL'!$I$738:$X$738,P29)>=1,\"\",ROW())","v":29},null,null,{"$f":"IF(COUNTIF('PLANNING PRINCIPAL'!$I$741:$X$741,S29)>=1,\"\",ROW())","v":29},null,null,{"$f":"IF(COUNTIF('PLANNING PRINCIPAL'!$I$743:$X$743,V29)>=1,\"\",ROW())","v":29}]
[null,{"$f":"IF(COUNTIF('PLANNING PRINCIPAL'!$I$723:$X$723,A30)>=1,\"\",ROW())","v":30},null,null,{"$f":"IF(COUNTIF('PLANNING PRINCIPAL'!$I$726:$X$726,D30)>=1,\"\",ROW())","v":30},null,null,{"$f":"IF(COUNTIF('PLANNING PRINCIPAL'!$I$729:$X$729,G30)>=1,\"\",ROW())","v":30},null,null,{"$f":"IF(COUNTIF('PLANNING PRINCIPAL'!$I$732:$X$732,J30)>=1,\"\",ROW())","v":30},null,null,{"$f":"IF(COUNTIF('PLANNING PRINCIPAL'!$I$735:$X$735,M30)>=1,\"\",ROW())","v":30},null,null,{"$f":"IF(COUNTIF('PLANNING PRINCIPAL'!$I$738:$X$738,P30)>=1,\"\",ROW())","v":30},null,null,{"$f":"IF(COUNTIF('PLANNING PRINCIPAL'!$I$741:$X$741,S30)>=1,\"\",ROW())","v":30},null,null,{"$f":"IF(COUNTIF('PLANNING PRINCIPAL'!$I$743:$X$743,V30)>=1,\"\",ROW())","v":30}]
[null,{"$f":"IF(COUNTIF('PLANNING PRINCIPAL'!$I$723:$X$723,A31)>=1,\"\",ROW())","v":31},null,null,{"$f":"IF(COUNTIF('PLANNING PRINCIPAL'!$I$726:$X$726,D31)>=1,\"\",ROW())","v":31},null,null,{"$f":"IF(COUNTIF('PLANNING PRINCIPAL'!$I$729:$X$729,G31)>=1,\"\",ROW())","v":31},null,null,{"$f":"IF(COUNTIF('PLANNING PRINCIPAL'!$I$732:$X$732,J31)>=1,\"\",ROW())","v":31},null,null,{"$f":"IF(COUNTIF('PLANNING PRINCIPAL'!$I$735:$X$735,M31)>=1,\"\",ROW())","v":31},null,null,{"$f":"IF(COUNTIF('PLANNING PRINCIPAL'!$I$738:$X$738,P31)>=1,\"\",ROW())","v":31},null,null,{"$f":"IF(COUNTIF('PLANNING PRINCIPAL'!$I$741:$X$741,S31)>=1,\"\",ROW())","v":31},null,null,{"$f":"IF(COUNTIF('PLANNING PRINCIPAL'!$I$743:$X$743,V31)>=1,\"\",ROW())","v":31}]
[null,{"$f":"IF(COUNTIF('PLANNING PRINCIPAL'!$I$723:$X$723,A32)>=1,\"\",ROW())","v":32},null,null,{"$f":"IF(COUNTIF('PLANNING PRINCIPAL'!$I$726:$X$726,D32)>=1,\"\",ROW())","v":32},null,null,{"$f":"IF(COUNTIF('PLANNING PRINCIPAL'!$I$729:$X$729,G32)>=1,\"\",ROW())","v":32},null,null,{"$f":"IF(COUNTIF('PLANNING PRINCIPAL'!$I$732:$X$732,J32)>=1,\"\",ROW())","v":32},null,null,{"$f":"IF(COUNTIF('PLANNING PRINCIPAL'!$I$735:$X$735,M32)>=1,\"\",ROW())","v":32},null,null,{"$f":"IF(COUNTIF('PLANNING PRINCIPAL'!$I$738:$X$738,P32)>=1,\"\",ROW())","v":32},null,null,{"$f":"IF(COUNTIF('PLANNING PRINCIPAL'!$I$741:$X$741,S32)>=1,\"\",ROW())","v":32},null,null,{"$f":"IF(COUNTIF('PLANNING PRINCIPAL'!$I$743:$X$743,V32)>=1,\"\",ROW())","v":32}]
[null,{"$f":"IF(COUNTIF('PLANNING PRINCIPAL'!$I$723:$X$723,A33)>=1,\"\",ROW())","v":33},null,null,{"$f":"IF(COUNTIF('PLANNING PRINCIPAL'!$I$726:$X$726,D33)>=1,\"\",ROW())","v":33},null,null,{"$f":"IF(COUNTIF('PLANNING PRINCIPAL'!$I$729:$X$729,G33)>=1,\"\",ROW())","v":33},null,null,{"$f":"IF(COUNTIF('PLANNING PRINCIPAL'!$I$732:$X$732,J33)>=1,\"\",ROW())","v":33},null,null,{"$f":"IF(COUNTIF('PLANNING PRINCIPAL'!$I$735:$X$735,M33)>=1,\"\",ROW())","v":33},null,null,{"$f":"IF(COUNTIF('PLANNING PRINCIPAL'!$I$738:$X$738,P33)>=1,\"\",ROW())","v":33},null,null,{"$f":"IF(COUNTIF('PLANNING PRINCIPAL'!$I$741:$X$741,S33)>=1,\"\",ROW())","v":33},null,null,{"$f":"IF(COUNTIF('PLANNING PRINCIPAL'!$I$743:$X$743,V33)>=1,\"\",ROW())","v":33}]
[null,{"$f":"IF(COUNTIF('PLANNING PRINCIPAL'!$I$723:$X$723,A34)>=1,\"\",ROW())","v":34},null,null,{"$f":"IF(COUNTIF('PLANNING PRINCIPAL'!$I$703:$X$703,D34)>=1,\"\",ROW())","v":34},null,null,{"$f":"IF(COUNTIF('PLANNING PRINCIPAL'!$I$729:$X$729,G34)>=1,\"\",ROW())","v":34},null,null,{"$f":"IF(COUNTIF('PLANNING PRINCIPAL'!$I$732:$X$732,J34)>=1,\"\",ROW())","v":34},null,null,{"$f":"IF(COUNTIF('PLANNING PRINCIPAL'!$I$735:$X$735,M34)>=1,\"\",ROW())","v":34},null,null,{"$f":"IF(COUNTIF('PLANNING PRINCIPAL'!$I$738:$X$738,P34)>=1,\"\",ROW())","v":34},null,null,{"$f":"IF(COUNTIF('PLANNING PRINCIPAL'!$I$741:$X$741,S34)>=1,\"\",ROW())","v":34},null,null,{"$f":"IF(COUNTIF('PLANNING PRINCIPAL'!$I$743:$X$743,V34)>=1,\"\",ROW())","v":34}]
["LUNDI",null,null,"MARDI",null,null,"MERCREDI",null,null,"JEUDI",null,null,"VENDREDI",null,null,"SAMEDI",null,null,"DIMANCHE",null,null,"ASTREINTE"]

{"sheet":"DATA S33","index":34,"n_rows":35,"n_cols":24,"rows_kept":35,"cut":false,"hidden":false,"merged":[[34,18,34,20],[34,21,34,23],[34,0,34,2],[34,3,34,5],[34,6,34,8],[34,9,34,11],[34,12,34,14],[34,15,34,17]]}
[{"$f":"'DATA S1'!A1","v":"MAS XX "},{"$f":"IF(COUNTIF('PLANNING PRINCIPAL'!$I$746:$X$746,A1)>=1,\"\",ROW())","v":1},{"$f":"IF(ROW(A1)-ROW(A$1)+1>COUNT(B:B),\"\", INDEX(A:A,SMALL(B:B,1+ROW(A1)-ROW(A$1))))","v":"MAS XX "},{"$f":"A1","v":"MAS XX "},{"$f":"IF(COUNTIF('PLANNING PRINCIPAL'!$I$749:$X$749,D1)>=1,\"\",ROW())","v":1},{"$f":"IF(ROW(D1)-ROW(D$1)+1>COUNT(E:E),\"\", INDEX(D:D,SMALL(E:E,1+ROW(D1)-ROW(D$1))))","v":"MAS XX "},{"$f":"A1","v":"MAS XX "},{"$f":"IF(COUNTIF('PLANNING PRINCIPAL'!$I$752:$X$752,G1)>=1,\"\",ROW())","v":1},{"$f":"IF(ROW(G1)-ROW(G$1)+1>COUNT(H:H),\"\", INDEX(G:G,SMALL(H:H,1+ROW(G1)-ROW(G$1))))","v":"MAS XX "},{"$f":"A1","v":"MAS XX "},{"$f":"IF(COUNTIF('PLANNING PRINCIPAL'!$I$755:$X$755,J1)>=1,\"\",ROW())","v":1},{"$f":"IF(ROW(J1)-ROW(J$1)+1>COUNT(K:K),\"\", INDEX(J:J,SMALL(K:K,1+ROW(J1)-ROW(J$1))))","v":"MAS XX "},{"$f":"A1","v":"MAS XX "},{"$f":"IF(COUNTIF('PLANNING PRINCIPAL'!$I$758:$X$758,M1)>=1,\"\",ROW())","v":1},{"$f":"IF(ROW(M1)-ROW(M$1)+1>COUNT(N:N),\"\", INDEX(M:M,SMALL(N:N,1+ROW(M1)-ROW(M$1))))","v":"MAS XX "},{"$f":"A1","v":"MAS XX "},{"$f":"IF(COUNTIF('PLANNING PRINCIPAL'!$I$761:$X$761,P1)>=1,\"\",ROW())","v":1},{"$f":"IF(ROW(P1)-ROW(P$1)+1>COUNT(Q:Q),\"\", INDEX(P:P,SMALL(Q:Q,1+ROW(P1)-ROW(P$1))))","v":"MAS XX "},{"$f":"A1","v":"MAS XX "},{"$f":"IF(COUNTIF('PLANNING PRINCIPAL'!$I$764:$X$764,S1)>=1,\"\",ROW())","v":1},{"$f":"IF(ROW(S1)-ROW(S$1)+1>COUNT(T:T),\"\", INDEX(S:S,SMALL(T:T,1+ROW(S1)-ROW(S$1))))","v":"MAS XX "},{"$f":"'DATA S1'!V1","v":"ASTREINTE SLT"},{"$f":"IF(COUNTIF('PLANNING PRINCIPAL'!$I$766:$X$766,V1)>=1,\"\",ROW())","v":1},{"$f":"IF(ROW(V1)-ROW(V$1)+1>COUNT(W:W),\"\", INDEX(V:V,SMALL(W:W,1+ROW(V1)-ROW(V$1))))","v":"ASTREINTE SLT"}]
[{"$f":"'DATA S1'!A2","v":"MAS YY "},{"$f":"IF(COUNTIF('PLANNING PRINCIPAL'!$I$746:$X$746,A2)>=1,\"\",ROW())","v":2},{"$f":"IF(ROW(A2)-ROW(A$1)+1>COUNT(B:B),\"\", INDEX(A:A,SMALL(B:B,1+ROW(A2)-ROW(A$1))))","v":"MAS YY "},"MAS YY ",{"$f":"IF(COUNTIF('PLANNING PRINCIPAL'!$I$749:$X$749,D2)>=1,\"\",ROW())","v":2},{"$f":"IF(ROW(D2)-ROW(D$1)+1>COUNT(E:E),\"\", INDEX(D:D,SMALL(E:E,1+ROW(D2)-ROW(D$1))))","v":"MAS YY "},{"$f":"A2","v":"MAS YY "},{"$f":"IF(COUNTIF('PLANNING PRINCIPAL'!$I$752:$X$752,G2)>=1,\"\",ROW())","v":2},{"$f":"IF(ROW(G2)-ROW(G$1)+1>COUNT(H:H),\"\", INDEX(G:G,SMALL(H:H,1+ROW(G2)-ROW(G$1))))","v":"MAS YY "},{"$f":"A2","v":"MAS YY "},{"$f":"IF(COUNTIF('PLANNING PRINCIPAL'!$I$755:$X$755,J2)>=1,\"\",ROW())","v":2},{"$f":"IF(ROW(J2)-ROW(J$1)+1>COUNT(K:K),\"\", INDEX(J:J,SMALL(K:K,1+ROW(J2)-ROW(J$1))))","v":"MAS YY "},{"$f":"A2","v":"MAS YY "},{"$f":"IF(COUNTIF('PLANNING PRINCIPAL'!$I$758:$X$758,M2)>=1,\"\",ROW())","v":2},{"$f":"IF(ROW(M2)-ROW(M$1)+1>COUNT(N:N),\"\", INDEX(M:M,SMALL(N:N,1+ROW(M2)-ROW(M$1))))","v":"MAS YY "},{"$f":"A2","v":"MAS YY "},{"$f":"IF(COUNTIF('PLANNING PRINCIPAL'!$I$761:$X$761,P2)>=1,\"\",ROW())","v":2},{"$f":"IF(ROW(P2)-ROW(P$1)+1>COUNT(Q:Q),\"\", INDEX(P:P,SMALL(Q:Q,1+ROW(P2)-ROW(P$1))))","v":"MAS YY "},{"$f":"A2","v":"MAS YY "},{"$f":"IF(COUNTIF('PLANNING PRINCIPAL'!$I$764:$X$764,S2)>=1,\"\",ROW())","v":2},{"$f":"IF(ROW(S2)-ROW(S$1)+1>COUNT(T:T),\"\", INDEX(S:S,SMALL(T:T,1+ROW(S2)-ROW(S$1))))","v":"MAS YY "},{"$f":"'DATA S1'!V2","v":"ASTREINTE EP"},{"$f":"IF(COUNTIF('PLANNING PRINCIPAL'!$I$766:$X$766,V2)>=1,\"\",ROW())","v":2},{"$f":"IF(ROW(V2)-ROW(V$1)+1>COUNT(W:W),\"\", INDEX(V:V,SMALL(W:W,1+ROW(V2)-ROW(V$1))))","v":"ASTREINTE EP"}]
[{"$f":"'DATA S1'!A3","v":"MAS VQ "},{"$f":"IF(COUNTIF('PLANNING PRINCIPAL'!$I$746:$X$746,A3)>=1,\"\",ROW())","v":3},"MAS VQ ","MAS VQ ",{"$f":"IF(COUNTIF('PLANNING PRINCIPAL'!$I$749:$X$749,D3)>=1,\"\",ROW())","v":3},"MAS VQ ","MAS VQ ",{"$f":"IF(COUNTIF('PLANNING PRINCIPAL'!$I$752:$X$752,G3)>=1,\"\",ROW())","v":3},"MAS VQ ","MAS VQ ",{"$f":"IF(COUNTIF('PLANNING PRINCIPAL'!$I$755:$X$755,J3)>=1,\"\",ROW())","v":3},"MAS VQ ","MAS VQ ",{"$f":"IF(COUNTIF('PLANNING PRINCIPAL'!$I$758:$X$758,M3)>=1,\"\",ROW())","v":3},"MAS VQ ","MAS VQ ",{"$f":"IF(COUNTIF('PLANNING PRINCIPAL'!$I$761:$X$761,P3)>=1,\"\",ROW())","v":3},"MAS VQ ","MAS VQ ",{"$f":"IF(COUNTIF('PLANNING PRINCIPAL'!$I$764:$X$764,S3)>=1,\"\",ROW())","v":3},"MAS VQ ",{"$f":"'DATA S1'!V3","v":"V NOC CHARTRES"},{"$f":"IF(COUNTIF('PLANNING PRINCIPAL'!$I$766:$X$766,V3)>=1,\"\",ROW())","v":3},"V NOC CHARTRES"]
[{"$f":"'DATA S1'!A4","v":"MAS PL "},{"$f":"IF(COUNTIF('PLANNING PRINCIPAL'!$I$746:$X$746,A4)>=1,\"\",ROW())","v":4},"MAS PL ","MAS PL ",{"$f":"IF(COUNTIF('PLANNING PRINCIPAL'!$I$749:$X$749,D4)>=1,\"\",ROW())","v":4},"MAS PL ","MAS PL ",{"$f":"IF(COUNTIF('PLANNING PRINCIPAL'!$I$752:$X$752,G4)>=1,\"\",ROW())","v":4},"MAS PL ","MAS PL ",{"$f":"IF(COUNTIF('PLANNING PRINCIPAL'!$I$755:$X$755,J4)>=1,\"\",ROW())","v":4},"MAS PL ","MAS PL ",{"$f":"IF(COUNTIF('PLANNING PRINCIPAL'!$I$758:$X$758,M4)>=1,\"\",ROW())","v":4},"MAS PL ","MAS PL ",{"$f":"IF(COUNTIF('PLANNING PRINCIPAL'!$I$761:$X$761,P4)>=1,\"\",ROW())","v":4},"MAS PL ","MAS PL ",{"$f":"IF(COUNTIF('PLANNING PRINCIPAL'!$I$764:$X$764,S4)>=1,\"\",ROW())","v":4},"MAS PL ",{"$f":"'DATA S1'!V4","v":"V NOC EPERNON"},{"$f":"IF(COUNTIF('PLANNING PRINCIPAL'!$I$766:$X$766,V4)>=1,\"\",ROW())","v":4},"V NOC EPERNON"]
[{"$f":"'DATA S1'!A5","v":"BEN VL PT "},{"$f":"IF(COUNTIF('PLANNING PRINCIPAL'!$I$746:$X$746,A5)>=1,\"\",ROW())","v":5},"BEN VL PT ","BEN VL PT ",{"$f":"IF(COUNTIF('PLANNING PRINCIPAL'!$I$749:$X$749,D5)>=1,\"\",ROW())","v":5},"BEN VL PT ","BEN VL PT ",{"$f":"IF(COUNTIF('PLANNING PRINCIPAL'!$I$752:$X$752,G5)>=1,\"\",ROW())","v":5},"BEN VL PT ","BEN VL PT ",{"$f":"IF(COUNTIF('PLANNING PRINCIPAL'!$I$755:$X$755,J5)>=1,\"\",ROW())","v":5},"BEN VL PT ","BEN VL PT ",{"$f":"IF(COUNTIF('PLANNING PRINCIPAL'!$I$758:$X$758,M5)>=1,\"\",ROW())","v":5},"BEN VL PT ","BEN VL PT ",{"$f":"IF(COUNTIF('PLANNING PRINCIPAL'!$I$761:$X$761,P5)>=1,\"\",ROW())","v":5},"BEN VL PT ","BEN VL PT ",{"$f":"IF(COUNTIF('PLANNING PRINCIPAL'!$I$764:$X$764,S5)>=1,\"\",ROW())","v":5},"BEN VL PT ",{"$f":"'DATA S1'!V5","v":"V NOC HANCHES"},{"$f":"IF(COUNTIF('PLANNING PRINCIPAL'!$I$766:$X$766,V5)>=1,\"\",ROW())","v":5},"V NOC HANCHES"]
[{"$f":"'DATA S1'!A6","v":"BEN 19T "},{"$f":"IF(COUNTIF('PLANNING PRINCIPAL'!$I$746:$X$746,A6)>=1,\"\",ROW())","v":6},"BEN 19T ","BEN 19T ",{"$f":"IF(COUNTIF('PLANNING PRINCIPAL'!$I$749:$X$749,D6)>=1,\"\",ROW())","v":6},"BEN 19T ","BEN 19T ",{"$f":"IF(COUNTIF('PLANNING PRINCIPAL'!$I$752:$X$752,G6)>=1,\"\",ROW())","v":6},"BEN 19T ","BEN 19T ",{"$f":"IF(COUNTIF('PLANNING PRINCIPAL'!$I$755:$X$755,J6)>=1,\"\",ROW())","v":6},"BEN 19T ","BEN 19T ",{"$f":"IF(COUNTIF('PLANNING PRINCIPAL'!$I$758:$X$758,M6)>=1,\"\",ROW())","v":6},"BEN 19T ","BEN 19T ",{"$f":"IF(COUNTIF('PLANNING PRINCIPAL'!$I$761:$X$761,P6)>=1,\"\",ROW())","v":6},"BEN 19T ","BEN 19T ",{"$f":"IF(COUNTIF('PLANNING PRINCIPAL'!$I$764:$X$764,S6)>=1,\"\",ROW())","v":6},"BEN 19T ",{"$f":"'DATA S1'!V6","v":"V NOC MAINTENON"},{"$f":"IF(COUNTIF('PLANNING PRINCIPAL'!$I$766:$X$766,V6)>=1,\"\",ROW())","v":6},"V NOC MAINTENON"]
[{"$f":"'DATA S1'!A7","v":"BEN 13T "},{"$f":"IF(COUNTIF('PLANNING PRINCIPAL'!$I$746:$X$746,A7)>=1,\"\",ROW())","v":7},"BEN 13T ","BEN 13T ",{"$f":"IF(COUNTIF('PLANNING PRINCIPAL'!$I$749:$X$749,D7)>=1,\"\",ROW())","v":7},"BEN 13T ","BEN 13T ",{"$f":"IF(COUNTIF('PLANNING PRINCIPAL'!$I$752:$X$752,G7)>=1,\"\",ROW())","v":7},"BEN 13T ","BEN 13T ",{"$f":"IF(COUNTIF('PLANNING PRINCIPAL'!$I$755:$X$755,J7)>=1,\"\",ROW())","v":7},"BEN 13T ","BEN 13T ",{"$f":"IF(COUNTIF('PLANNING PRINCIPAL'!$I$758:$X$758,M7)>=1,\"\",ROW())","v":7},"BEN 13T ","BEN 13T ",{"$f":"IF(COUNTIF('PLANNING PRINCIPAL'!$I$761:$X$761,P7)>=1,\"\",ROW())","v":7},"BEN 13T ","BEN 13T ",{"$f":"IF(COUNTIF('PLANNING PRINCIPAL'!$I$764:$X$764,S7)>=1,\"\",ROW())","v":7},"BEN 13T ",null,{"$f":"IF(COUNTIF('PLANNING PRINCIPAL'!$I$743:$X$743,V7)>=1,\"\",ROW())","v":7}]
[{"$f":"'DATA S1'!A8","v":"NAC VL 18M "},{"$f":"IF(COUNTIF('PLANNING PRINCIPAL'!$I$746:$X$746,A8)>=1,\"\",ROW())","v":8},"NAC VL 18M ","NAC VL 18M ",{"$f":"IF(COUNTIF('PLANNING PRINCIPAL'!$I$749:$X$749,D8)>=1,\"\",ROW())","v":8},"NAC VL 18M ","NAC VL 18M ",{"$f":"IF(COUNTIF('PLANNING PRINCIPAL'!$I$752:$X$752,G8)>=1,\"\",ROW())","v":8},"NAC VL 18M ","NAC VL 18M ",{"$f":"IF(COUNTIF('PLANNING PRINCIPAL'!$I$755:$X$755,J8)>=1,\"\",ROW())","v":8},"NAC VL 18M ","NAC VL 18M ",{"$f":"IF(COUNTIF('PLANNING PRINCIPAL'!$I$758:$X$758,M8)>=1,\"\",ROW())","v":8},"NAC VL 18M ","NAC VL 18M ",{"$f":"IF(COUNTIF('PLANNING PRINCIPAL'!$I$761:$X$761,P8)>=1,\"\",ROW())","v":8},"NAC VL 18M ","NAC VL 18M ",{"$f":"IF(COUNTIF('PLANNING PRINCIPAL'!$I$764:$X$764,S8)>=1,\"\",ROW())","v":8},"NAC VL 18M ",null,{"$f":"IF(COUNTIF('PLANNING PRINCIPAL'!$I$743:$X$743,V8)>=1,\"\",ROW())","v":8}]
[{"$f":"'DATA S1'!A9","v":"NAC EGIE"},{"$f":"IF(COUNTIF('PLANNING PRINCIPAL'!$I$746:$X$746,A9)>=1,\"\",ROW())","v":9},"NAC EGIE","NAC EGIE",{"$f":"IF(COUNTIF('PLANNING PRINCIPAL'!$I$749:$X$749,D9)>=1,\"\",ROW())","v":9},"NAC EGIE","NAC EGIE",{"$f":"IF(COUNTIF('PLANNING PRINCIPAL'!$I$752:$X$752,G9)>=1,\"\",ROW())","v":9},"NAC EGIE","NAC EGIE",{"$f":"IF(COUNTIF('PLANNING PRINCIPAL'!$I$755:$X$755,J9)>=1,\"\",ROW())","v":9},"NAC EGIE","NAC EGIE",{"$f":"IF(COUNTIF('PLANNING PRINCIPAL'!$I$758:$X$758,M9)>=1,\"\",ROW())","v":9},"NAC EGIE","NAC EGIE",{"$f":"IF(COUNTIF('PLANNING PRINCIPAL'!$I$761:$X$761,P9)>=1,\"\",ROW())","v":9},"NAC EGIE","NAC EGIE",{"$f":"IF(COUNTIF('PLANNING PRINCIPAL'!$I$764:$X$764,S9)>=1,\"\",ROW())","v":9},"NAC EGIE",null,{"$f":"IF(COUNTIF('PLANNING PRINCIPAL'!$I$743:$X$743,V9)>=1,\"\",ROW())","v":9}]
[{"$f":"'DATA S1'!A10","v":"NAC COMI "},{"$f":"IF(COUNTIF('PLANNING PRINCIPAL'!$I$746:$X$746,A10)>=1,\"\",ROW())","v":10},"NAC COMI ","NAC COMI ",{"$f":"IF(COUNTIF('PLANNING PRINCIPAL'!$I$749:$X$749,D10)>=1,\"\",ROW())","v":10},"NAC COMI ","NAC COMI ",{"$f":"IF(COUNTIF('PLANNING PRINCIPAL'!$I$752:$X$752,G10)>=1,\"\",ROW())","v":10},"NAC COMI ","NAC COMI ",{"$f":"IF(COUNTIF('PLANNING PRINCIPAL'!$I$755:$X$755,J10)>=1,\"\",ROW())","v":10},"NAC COMI ","NAC COMI ",{"$f":"IF(COUNTIF('PLANNING PRINCIPAL'!$I$758:$X$758,M10)>=1,\"\",ROW())","v":10},"NAC COMI ","NAC COMI ",{"$f":"IF(COUNTIF('PLANNING PRINCIPAL'!$I$761:$X$761,P10)>=1,\"\",ROW())","v":10},"NAC COMI ","NAC COMI ",{"$f":"IF(COUNTIF('PLANNING PRINCIPAL'!$I$764:$X$764,S10)>=1,\"\",ROW())","v":10},"NAC COMI ",null,{"$f":"IF(COUNTIF('PLANNING PRINCIPAL'!$I$743:$X$743,V10)>=1,\"\",ROW())","v":10}]
[{"$f":"'DATA S1'!A11","v":"#####LOCATION#####"},{"$f":"IF(COUNTIF('PLANNING PRINCIPAL'!$I$746:$X$746,A11)>=1,\"\",ROW())","v":11},"#####LOCATION#####","#####LOCATION#####",{"$f":"IF(COUNTIF('PLANNING PRINCIPAL'!$I$749:$X$749,D11)>=1,\"\",ROW())","v":11},"#####LOCATION#####","#####LOCATION#####",{"$f":"IF(COUNTIF('PLANNING PRINCIPAL'!$I$752:$X$752,G11)>=1,\"\",ROW())","v":11},"#####LOCATION#####","#####LOCATION#####",{"$f":"IF(COUNTIF('PLANNING PRINCIPAL'!$I$755:$X$755,J11)>=1,\"\",ROW())","v":11},"#####LOCATION#####","#####LOCATION#####",{"$f":"IF(COUNTIF('PLANNING PRINCIPAL'!$I$758:$X$758,M11)>=1,\"\",ROW())","v":11},"#####LOCATION#####","#####LOCATION#####",{"$f":"IF(COUNTIF('PLANNING PRINCIPAL'!$I$761:$X$761,P11)>=1,\"\",ROW())","v":11},"#####LOCATION#####","#####LOCATION#####",{"$f":"IF(COUNTIF('PLANNING PRINCIPAL'!$I$764:$X$764,S11)>=1,\"\",ROW())","v":11},"#####LOCATION#####",null,{"$f":"IF(COUNTIF('PLANNING PRINCIPAL'!$I$743:$X$743,V11)>=1,\"\",ROW())","v":11}]
[{"$f":"'DATA S1'!A12","v":"LOC NAC SOLOMAT"},{"$f":"IF(COUNTIF('PLANNING PRINCIPAL'!$I$746:$X$746,A12)>=1,\"\",ROW())","v":12},"LOC NAC SOLOMAT","LOC NAC SOLOMAT",{"$f":"IF(COUNTIF('PLANNING PRINCIPAL'!$I$749:$X$749,D12)>=1,\"\",ROW())","v":12},"LOC NAC SOLOMAT","LOC NAC SOLOMAT",{"$f":"IF(COUNTIF('PLANNING PRINCIPAL'!$I$752:$X$752,G12)>=1,\"\",ROW())","v":12},"LOC NAC SOLOMAT","LOC NAC SOLOMAT",{"$f":"IF(COUNTIF('PLANNING PRINCIPAL'!$I$755:$X$755,J12)>=1,\"\",ROW())","v":12},"LOC NAC SOLOMAT","LOC NAC SOLOMAT",{"$f":"IF(COUNTIF('PLANNING PRINCIPAL'!$I$758:$X$758,M12)>=1,\"\",ROW())","v":12},"LOC NAC SOLOMAT","LOC NAC SOLOMAT",{"$f":"IF(COUNTIF('PLANNING PRINCIPAL'!$I$761:$X$761,P12)>=1,\"\",ROW())","v":12},"LOC NAC SOLOMAT","LOC NAC SOLOMAT",{"$f":"IF(COUNTIF('PLANNING PRINCIPAL'!$I$764:$X$764,S12)>=1,\"\",ROW())","v":12},"LOC NAC SOLOMAT",null,{"$f":"IF(COUNTIF('PLANNING PRINCIPAL'!$I$743:$X$743,V12)>=1,\"\",ROW())","v":12}]
[{"$f":"'DATA S1'!A13","v":"LOC NAC AEB"},{"$f":"IF(COUNTIF('PLANNING PRINCIPAL'!$I$746:$X$746,A13)>=1,\"\",ROW())","v":13},"LOC NAC AEB","LOC NAC AEB",{"$f":"IF(COUNTIF('PLANNING PRINCIPAL'!$I$749:$X$749,D13)>=1,\"\",ROW())","v":13},"LOC NAC AEB","LOC NAC AEB",{"$f":"IF(COUNTIF('PLANNING PRINCIPAL'!$I$752:$X$752,G13)>=1,\"\",ROW())","v":13},"LOC NAC AEB","LOC NAC AEB",{"$f":"IF(COUNTIF('PLANNING PRINCIPAL'!$I$755:$X$755,J13)>=1,\"\",ROW())","v":13},"LOC NAC AEB","LOC NAC AEB",{"$f":"IF(COUNTIF('PLANNING PRINCIPAL'!$I$758:$X$758,M13)>=1,\"\",ROW())","v":13},"LOC NAC AEB","LOC NAC AEB",{"$f":"IF(COUNTIF('PLANNING PRINCIPAL'!$I$761:$X$761,P13)>=1,\"\",ROW())","v":13},"LOC NAC AEB","LOC NAC AEB",{"$f":"IF(COUNTIF('PLANNING PRINCIPAL'!$I$764:$X$764,S13)>=1,\"\",ROW())","v":13},"LOC NAC AEB",null,{"$f":"IF(COUNTIF('PLANNING PRINCIPAL'!$I$743:$X$743,V13)>=1,\"\",ROW())","v":13}]
[{"$f":"'DATA S1'!A14","v":"LOC NAC INTERLOC"},{"$f":"IF(COUNTIF('PLANNING PRINCIPAL'!$I$746:$X$746,A14)>=1,\"\",ROW())","v":14},"LOC NAC INTERLOC","LOC NAC INTERLOC",{"$f":"IF(COUNTIF('PLANNING PRINCIPAL'!$I$749:$X$749,D14)>=1,\"\",ROW())","v":14},"LOC NAC INTERLOC","LOC NAC INTERLOC",{"$f":"IF(COUNTIF('PLANNING PRINCIPAL'!$I$752:$X$752,G14)>=1,\"\",ROW())","v":14},"LOC NAC INTERLOC","LOC NAC INTERLOC",{"$f":"IF(COUNTIF('PLANNING PRINCIPAL'!$I$755:$X$755,J14)>=1,\"\",ROW())","v":14},"LOC NAC INTERLOC","LOC NAC INTERLOC",{"$f":"IF(COUNTIF('PLANNING PRINCIPAL'!$I$758:$X$758,M14)>=1,\"\",ROW())","v":14},"LOC NAC INTERLOC","LOC NAC INTERLOC",{"$f":"IF(COUNTIF('PLANNING PRINCIPAL'!$I$761:$X$761,P14)>=1,\"\",ROW())","v":14},"LOC NAC INTERLOC","LOC NAC INTERLOC",{"$f":"IF(COUNTIF('PLANNING PRINCIPAL'!$I$764:$X$764,S14)>=1,\"\",ROW())","v":14},"LOC NAC INTERLOC",null,{"$f":"IF(COUNTIF('PLANNING PRINCIPAL'!$I$743:$X$743,V14)>=1,\"\",ROW())","v":14}]
[{"$f":"'DATA S1'!A15","v":"LOC NAC KILOUTOU"},{"$f":"IF(COUNTIF('PLANNING PRINCIPAL'!$I$746:$X$746,A15)>=1,\"\",ROW())","v":15},"LOC NAC KILOUTOU","LOC NAC KILOUTOU",{"$f":"IF(COUNTIF('PLANNING PRINCIPAL'!$I$749:$X$749,D15)>=1,\"\",ROW())","v":15},"LOC NAC KILOUTOU","LOC NAC KILOUTOU",{"$f":"IF(COUNTIF('PLANNING PRINCIPAL'!$I$752:$X$752,G15)>=1,\"\",ROW())","v":15},"LOC NAC KILOUTOU","LOC NAC KILOUTOU",{"$f":"IF(COUNTIF('PLANNING PRINCIPAL'!$I$755:$X$755,J15)>=1,\"\",ROW())","v":15},"LOC NAC KILOUTOU","LOC NAC KILOUTOU",{"$f":"IF(COUNTIF('PLANNING PRINCIPAL'!$I$758:$X$758,M15)>=1,\"\",ROW())","v":15},"LOC NAC KILOUTOU","LOC NAC KILOUTOU",{"$f":"IF(COUNTIF('PLANNING PRINCIPAL'!$I$761:$X$761,P15)>=1,\"\",ROW())","v":15},"LOC NAC KILOUTOU","LOC NAC KILOUTOU",{"$f":"IF(COUNTIF('PLANNING PRINCIPAL'!$I$764:$X$764,S15)>=1,\"\",ROW())","v":15},"LOC NAC KILOUTOU",null,{"$f":"IF(COUNTIF('PLANNING PRINCIPAL'!$I$743:$X$743,V15)>=1,\"\",ROW())","v":15}]
[{"$f":"'DATA S1'!A16","v":"LOC NAC AEB"},{"$f":"IF(COUNTIF('PLANNING PRINCIPAL'!$I$746:$X$746,A16)>=1,\"\",ROW())","v":16},"LOC NAC AEB","LOC NAC AEB",{"$f":"IF(COUNTIF('PLANNING PRINCIPAL'!$I$749:$X$749,D16)>=1,\"\",ROW())","v":16},"LOC NAC AEB","LOC NAC AEB",{"$f":"IF(COUNTIF('PLANNING PRINCIPAL'!$I$752:$X$752,G16)>=1,\"\",ROW())","v":16},"LOC NAC AEB","LOC NAC AEB",{"$f":"IF(COUNTIF('PLANNING PRINCIPAL'!$I$755:$X$755,J16)>=1,\"\",ROW())","v":16},"LOC NAC AEB","LOC NAC AEB",{"$f":"IF(COUNTIF('PLANNING PRINCIPAL'!$I$758:$X$758,M16)>=1,\"\",ROW())","v":16},"LOC NAC AEB","LOC NAC AEB",{"$f":"IF(COUNTIF('PLANNING PRINCIPAL'!$I$761:$X$761,P16)>=1,\"\",ROW())","v":16},"LOC NAC AEB","LOC NAC AEB",{"$f":"IF(COUNTIF('PLANNING PRINCIPAL'!$I$764:$X$764,S16)>=1,\"\",ROW())","v":16},"LOC NAC AEB",null,{"$f":"IF(COUNTIF('PLANNING PRINCIPAL'!$I$743:$X$743,V16)>=1,\"\",ROW())","v":16}]
[{"$f":"'DATA S1'!A17","v":"LOC PELLE SOLOMAT"},{"$f":"IF(COUNTIF('PLANNING PRINCIPAL'!$I$746:$X$746,A17)>=1,\"\",ROW())","v":17},"LOC PELLE SOLOMAT","LOC PELLE SOLOMAT",{"$f":"IF(COUNTIF('PLANNING PRINCIPAL'!$I$749:$X$749,D17)>=1,\"\",ROW())","v":17},"LOC PELLE SOLOMAT","LOC PELLE SOLOMAT",{"$f":"IF(COUNTIF('PLANNING PRINCIPAL'!$I$752:$X$752,G17)>=1,\"\",ROW())","v":17},"LOC PELLE SOLOMAT","LOC PELLE SOLOMAT",{"$f":"IF(COUNTIF('PLANNING PRINCIPAL'!$I$755:$X$755,J17)>=1,\"\",ROW())","v":17},"LOC PELLE SOLOMAT","LOC PELLE SOLOMAT",{"$f":"IF(COUNTIF('PLANNING PRINCIPAL'!$I$758:$X$758,M17)>=1,\"\",ROW())","v":17},"LOC PELLE SOLOMAT","LOC PELLE SOLOMAT",{"$f":"IF(COUNTIF('PLANNING PRINCIPAL'!$I$761:$X$761,P17)>=1,\"\",ROW())","v":17},"LOC PELLE SOLOMAT","LOC PELLE SOLOMAT",{"$f":"IF(COUNTIF('PLANNING PRINCIPAL'!$I$764:$X$764,S17)>=1,\"\",ROW())","v":17},"LOC PELLE SOLOMAT",null,{"$f":"IF(COUNTIF('PLANNING PRINCIPAL'!$I$743:$X$743,V17)>=1,\"\",ROW())","v":17}]
[{"$f":"'DATA S1'!A18","v":"LOC PELLE AEB"},{"$f":"IF(COUNTIF('PLANNING PRINCIPAL'!$I$746:$X$746,A18)>=1,\"\",ROW())","v":18},"LOC PELLE AEB","LOC PELLE AEB",{"$f":"IF(COUNTIF('PLANNING PRINCIPAL'!$I$749:$X$749,D18)>=1,\"\",ROW())","v":18},"LOC PELLE AEB","LOC PELLE AEB",{"$f":"IF(COUNTIF('PLANNING PRINCIPAL'!$I$752:$X$752,G18)>=1,\"\",ROW())","v":18},"LOC PELLE AEB","LOC PELLE AEB",{"$f":"IF(COUNTIF('PLANNING PRINCIPAL'!$I$755:$X$755,J18)>=1,\"\",ROW())","v":18},"LOC PELLE AEB","LOC PELLE AEB",{"$f":"IF(COUNTIF('PLANNING PRINCIPAL'!$I$758:$X$758,M18)>=1,\"\",ROW())","v":18},"LOC PELLE AEB","LOC PELLE AEB",{"$f":"IF(COUNTIF('PLANNING PRINCIPAL'!$I$761:$X$761,P18)>=1,\"\",ROW())","v":18},"LOC PELLE AEB","LOC PELLE AEB",{"$f":"IF(COUNTIF('PLANNING PRINCIPAL'!$I$764:$X$764,S18)>=1,\"\",ROW())","v":18},"LOC PELLE AEB",null,{"$f":"IF(COUNTIF('PLANNING PRINCIPAL'!$I$743:$X$743,V18)>=1,\"\",ROW())","v":18}]
[{"$f":"'DATA S1'!A19","v":"LOC PELLE INTERLOC"},{"$f":"IF(COUNTIF('PLANNING PRINCIPAL'!$I$746:$X$746,A19)>=1,\"\",ROW())","v":19},"LOC PELLE INTERLOC","LOC PELLE INTERLOC",{"$f":"IF(COUNTIF('PLANNING PRINCIPAL'!$I$749:$X$749,D19)>=1,\"\",ROW())","v":19},"LOC PELLE INTERLOC","LOC PELLE INTERLOC",{"$f":"IF(COUNTIF('PLANNING PRINCIPAL'!$I$752:$X$752,G19)>=1,\"\",ROW())","v":19},"LOC PELLE INTERLOC","LOC PELLE INTERLOC",{"$f":"IF(COUNTIF('PLANNING PRINCIPAL'!$I$755:$X$755,J19)>=1,\"\",ROW())","v":19},"LOC PELLE INTERLOC","LOC PELLE INTERLOC",{"$f":"IF(COUNTIF('PLANNING PRINCIPAL'!$I$758:$X$758,M19)>=1,\"\",ROW())","v":19},"LOC PELLE INTERLOC","LOC PELLE INTERLOC",{"$f":"IF(COUNTIF('PLANNING PRINCIPAL'!$I$761:$X$761,P19)>=1,\"\",ROW())","v":19},"LOC PELLE INTERLOC","LOC PELLE INTERLOC",{"$f":"IF(COUNTIF('PLANNING PRINCIPAL'!$I$764:$X$764,S19)>=1,\"\",ROW())","v":19},"LOC PELLE INTERLOC",null,{"$f":"IF(COUNTIF('PLANNING PRINCIPAL'!$I$743:$X$743,V19)>=1,\"\",ROW())","v":19}]
[{"$f":"'DATA S1'!A20","v":"LOC PELLE KILOUTOU"},{"$f":"IF(COUNTIF('PLANNING PRINCIPAL'!$I$746:$X$746,A20)>=1,\"\",ROW())","v":20},"LOC PELLE KILOUTOU","LOC PELLE KILOUTOU",{"$f":"IF(COUNTIF('PLANNING PRINCIPAL'!$I$749:$X$749,D20)>=1,\"\",ROW())","v":20},"LOC PELLE KILOUTOU","LOC PELLE KILOUTOU",{"$f":"IF(COUNTIF('PLANNING PRINCIPAL'!$I$752:$X$752,G20)>=1,\"\",ROW())","v":20},"LOC PELLE KILOUTOU","LOC PELLE KILOUTOU",{"$f":"IF(COUNTIF('PLANNING PRINCIPAL'!$I$755:$X$755,J20)>=1,\"\",ROW())","v":20},"LOC PELLE KILOUTOU","LOC PELLE KILOUTOU",{"$f":"IF(COUNTIF('PLANNING PRINCIPAL'!$I$758:$X$758,M20)>=1,\"\",ROW())","v":20},"LOC PELLE KILOUTOU","LOC PELLE KILOUTOU",{"$f":"IF(COUNTIF('PLANNING PRINCIPAL'!$I$761:$X$761,P20)>=1,\"\",ROW())","v":20},"LOC PELLE KILOUTOU","LOC PELLE KILOUTOU",{"$f":"IF(COUNTIF('PLANNING PRINCIPAL'!$I$764:$X$764,S20)>=1,\"\",ROW())","v":20},"LOC PELLE KILOUTOU",null,{"$f":"IF(COUNTIF('PLANNING PRINCIPAL'!$I$743:$X$743,V20)>=1,\"\",ROW())","v":20}]
[null,{"$f":"IF(COUNTIF('PLANNING PRINCIPAL'!$I$746:$X$746,A21)>=1,\"\",ROW())","v":21},null,null,{"$f":"IF(COUNTIF('PLANNING PRINCIPAL'!$I$749:$X$749,D21)>=1,\"\",ROW())","v":21},null,null,{"$f":"IF(COUNTIF('PLANNING PRINCIPAL'!$I$752:$X$752,G21)>=1,\"\",ROW())","v":21},null,null,{"$f":"IF(COUNTIF('PLANNING PRINCIPAL'!$I$755:$X$755,J21)>=1,\"\",ROW())","v":21},null,null,{"$f":"IF(COUNTIF('PLANNING PRINCIPAL'!$I$758:$X$758,M21)>=1,\"\",ROW())","v":21},null,null,{"$f":"IF(COUNTIF('PLANNING PRINCIPAL'!$I$761:$X$761,P21)>=1,\"\",ROW())","v":21},null,null,{"$f":"IF(COUNTIF('PLANNING PRINCIPAL'!$I$764:$X$764,S21)>=1,\"\",ROW())","v":21},null,null,{"$f":"IF(COUNTIF('PLANNING PRINCIPAL'!$I$743:$X$743,V21)>=1,\"\",ROW())","v":21}]
[null,{"$f":"IF(COUNTIF('PLANNING PRINCIPAL'!$I$746:$X$746,A22)>=1,\"\",ROW())","v":22},null,null,{"$f":"IF(COUNTIF('PLANNING PRINCIPAL'!$I$749:$X$749,D22)>=1,\"\",ROW())","v":22},null,null,{"$f":"IF(COUNTIF('PLANNING PRINCIPAL'!$I$752:$X$752,G22)>=1,\"\",ROW())","v":22},null,null,{"$f":"IF(COUNTIF('PLANNING PRINCIPAL'!$I$755:$X$755,J22)>=1,\"\",ROW())","v":22},null,null,{"$f":"IF(COUNTIF('PLANNING PRINCIPAL'!$I$758:$X$758,M22)>=1,\"\",ROW())","v":22},null,null,{"$f":"IF(COUNTIF('PLANNING PRINCIPAL'!$I$761:$X$761,P22)>=1,\"\",ROW())","v":22},null,null,{"$f":"IF(COUNTIF('PLANNING PRINCIPAL'!$I$764:$X$764,S22)>=1,\"\",ROW())","v":22},null,null,{"$f":"IF(COUNTIF('PLANNING PRINCIPAL'!$I$743:$X$743,V22)>=1,\"\",ROW())","v":22}]
[null,{"$f":"IF(COUNTIF('PLANNING PRINCIPAL'!$I$746:$X$746,A23)>=1,\"\",ROW())","v":23},null,null,{"$f":"IF(COUNTIF('PLANNING PRINCIPAL'!$I$749:$X$749,D23)>=1,\"\",ROW())","v":23},null,null,{"$f":"IF(COUNTIF('PLANNING PRINCIPAL'!$I$752:$X$752,G23)>=1,\"\",ROW())","v":23},null,null,{"$f":"IF(COUNTIF('PLANNING PRINCIPAL'!$I$755:$X$755,J23)>=1,\"\",ROW())","v":23},null,null,{"$f":"IF(COUNTIF('PLANNING PRINCIPAL'!$I$758:$X$758,M23)>=1,\"\",ROW())","v":23},null,null,{"$f":"IF(COUNTIF('PLANNING PRINCIPAL'!$I$761:$X$761,P23)>=1,\"\",ROW())","v":23},null,null,{"$f":"IF(COUNTIF('PLANNING PRINCIPAL'!$I$764:$X$764,S23)>=1,\"\",ROW())","v":23},null,null,{"$f":"IF(COUNTIF('PLANNING PRINCIPAL'!$I$743:$X$743,V23)>=1,\"\",ROW())","v":23}]
[null,{"$f":"IF(COUNTIF('PLANNING PRINCIPAL'!$I$746:$X$746,A24)>=1,\"\",ROW())","v":24},null,null,{"$f":"IF(COUNTIF('PLANNING PRINCIPAL'!$I$749:$X$749,D24)>=1,\"\",ROW())","v":24},null,null,{"$f":"IF(COUNTIF('PLANNING PRINCIPAL'!$I$752:$X$752,G24)>=1,\"\",ROW())","v":24},null,null,{"$f":"IF(COUNTIF('PLANNING PRINCIPAL'!$I$755:$X$755,J24)>=1,\"\",ROW())","v":24},null,null,{"$f":"IF(COUNTIF('PLANNING PRINCIPAL'!$I$758:$X$758,M24)>=1,\"\",ROW())","v":24},null,null,{"$f":"IF(COUNTIF('PLANNING PRINCIPAL'!$I$761:$X$761,P24)>=1,\"\",ROW())","v":24},null,null,{"$f":"IF(COUNTIF('PLANNING PRINCIPAL'!$I$764:$X$764,S24)>=1,\"\",ROW())","v":24},null,null,{"$f":"IF(COUNTIF('PLANNING PRINCIPAL'!$I$743:$X$743,V24)>=1,\"\",ROW())","v":24}]
[null,{"$f":"IF(COUNTIF('PLANNING PRINCIPAL'!$I$746:$X$746,A25)>=1,\"\",ROW())","v":25},null,null,{"$f":"IF(COUNTIF('PLANNING PRINCIPAL'!$I$749:$X$749,D25)>=1,\"\",ROW())","v":25},null,null,{"$f":"IF(COUNTIF('PLANNING PRINCIPAL'!$I$752:$X$752,G25)>=1,\"\",ROW())","v":25},null,null,{"$f":"IF(COUNTIF('PLANNING PRINCIPAL'!$I$755:$X$755,J25)>=1,\"\",ROW())","v":25},null,null,{"$f":"IF(COUNTIF('PLANNING PRINCIPAL'!$I$758:$X$758,M25)>=1,\"\",ROW())","v":25},null,null,{"$f":"IF(COUNTIF('PLANNING PRINCIPAL'!$I$761:$X$761,P25)>=1,\"\",ROW())","v":25},null,null,{"$f":"IF(COUNTIF('PLANNING PRINCIPAL'!$I$764:$X$764,S25)>=1,\"\",ROW())","v":25},null,null,{"$f":"IF(COUNTIF('PLANNING PRINCIPAL'!$I$743:$X$743,V25)>=1,\"\",ROW())","v":25}]
[null,{"$f":"IF(COUNTIF('PLANNING PRINCIPAL'!$I$746:$X$746,A26)>=1,\"\",ROW())","v":26},null,null,{"$f":"IF(COUNTIF('PLANNING PRINCIPAL'!$I$749:$X$749,D26)>=1,\"\",ROW())","v":26},null,null,{"$f":"IF(COUNTIF('PLANNING PRINCIPAL'!$I$752:$X$752,G26)>=1,\"\",ROW())","v":26},null,null,{"$f":"IF(COUNTIF('PLANNING PRINCIPAL'!$I$755:$X$755,J26)>=1,\"\",ROW())","v":26},null,null,{"$f":"IF(COUNTIF('PLANNING PRINCIPAL'!$I$758:$X$758,M26)>=1,\"\",ROW())","v":26},null,null,{"$f":"IF(COUNTIF('PLANNING PRINCIPAL'!$I$761:$X$761,P26)>=1,\"\",ROW())","v":26},null,null,{"$f":"IF(COUNTIF('PLANNING PRINCIPAL'!$I$764:$X$764,S26)>=1,\"\",ROW())","v":26},null,null,{"$f":"IF(COUNTIF('PLANNING PRINCIPAL'!$I$743:$X$743,V26)>=1,\"\",ROW())","v":26}]
[null,{"$f":"IF(COUNTIF('PLANNING PRINCIPAL'!$I$746:$X$746,A27)>=1,\"\",ROW())","v":27},null,null,{"$f":"IF(COUNTIF('PLANNING PRINCIPAL'!$I$749:$X$749,D27)>=1,\"\",ROW())","v":27},null,null,{"$f":"IF(COUNTIF('PLANNING PRINCIPAL'!$I$752:$X$752,G27)>=1,\"\",ROW())","v":27},null,null,{"$f":"IF(COUNTIF('PLANNING PRINCIPAL'!$I$755:$X$755,J27)>=1,\"\",ROW())","v":27},null,null,{"$f":"IF(COUNTIF('PLANNING PRINCIPAL'!$I$758:$X$758,M27)>=1,\"\",ROW())","v":27},null,null,{"$f":"IF(COUNTIF('PLANNING PRINCIPAL'!$I$761:$X$761,P27)>=1,\"\",ROW())","v":27},null,null,{"$f":"IF(COUNTIF('PLANNING PRINCIPAL'!$I$764:$X$764,S27)>=1,\"\",ROW())","v":27},null,null,{"$f":"IF(COUNTIF('PLANNING PRINCIPAL'!$I$743:$X$743,V27)>=1,\"\",ROW())","v":27}]
[null,{"$f":"IF(COUNTIF('PLANNING PRINCIPAL'!$I$746:$X$746,A28)>=1,\"\",ROW())","v":28},null,null,{"$f":"IF(COUNTIF('PLANNING PRINCIPAL'!$I$749:$X$749,D28)>=1,\"\",ROW())","v":28},null,null,{"$f":"IF(COUNTIF('PLANNING PRINCIPAL'!$I$752:$X$752,G28)>=1,\"\",ROW())","v":28},null,null,{"$f":"IF(COUNTIF('PLANNING PRINCIPAL'!$I$755:$X$755,J28)>=1,\"\",ROW())","v":28},null,null,{"$f":"IF(COUNTIF('PLANNING PRINCIPAL'!$I$758:$X$758,M28)>=1,\"\",ROW())","v":28},null,null,{"$f":"IF(COUNTIF('PLANNING PRINCIPAL'!$I$761:$X$761,P28)>=1,\"\",ROW())","v":28},null,null,{"$f":"IF(COUNTIF('PLANNING PRINCIPAL'!$I$764:$X$764,S28)>=1,\"\",ROW())","v":28},null,null,{"$f":"IF(COUNTIF('PLANNING PRINCIPAL'!$I$743:$X$743,V28)>=1,\"\",ROW())","v":28}]
[null,{"$f":"IF(COUNTIF('PLANNING PRINCIPAL'!$I$746:$X$746,A29)>=1,\"\",ROW())","v":29},null,null,{"$f":"IF(COUNTIF('PLANNING PRINCIPAL'!$I$749:$X$749,D29)>=1,\"\",ROW())","v":29},null,null,{"$f":"IF(COUNTIF('PLANNING PRINCIPAL'!$I$752:$X$752,G29)>=1,\"\",ROW())","v":29},null,null,{"$f":"IF(COUNTIF('PLANNING PRINCIPAL'!$I$755:$X$755,J29)>=1,\"\",ROW())","v":29},null,null,{"$f":"IF(COUNTIF('PLANNING PRINCIPAL'!$I$758:$X$758,M29)>=1,\"\",ROW())","v":29},null,null,{"$f":"IF(COUNTIF('PLANNING PRINCIPAL'!$I$761:$X$761,P29)>=1,\"\",ROW())","v":29},null,null,{"$f":"IF(COUNTIF('PLANNING PRINCIPAL'!$I$764:$X$764,S29)>=1,\"\",ROW())","v":29},null,null,{"$f":"IF(COUNTIF('PLANNING PRINCIPAL'!$I$743:$X$743,V29)>=1,\"\",ROW())","v":29}]
[null,{"$f":"IF(COUNTIF('PLANNING PRINCIPAL'!$I$746:$X$746,A30)>=1,\"\",ROW())","v":30},null,null,{"$f":"IF(COUNTIF('PLANNING PRINCIPAL'!$I$749:$X$749,D30)>=1,\"\",ROW())","v":30},null,null,{"$f":"IF(COUNTIF('PLANNING PRINCIPAL'!$I$752:$X$752,G30)>=1,\"\",ROW())","v":30},null,null,{"$f":"IF(COUNTIF('PLANNING PRINCIPAL'!$I$755:$X$755,J30)>=1,\"\",ROW())","v":30},null,null,{"$f":"IF(COUNTIF('PLANNING PRINCIPAL'!$I$758:$X$758,M30)>=1,\"\",ROW())","v":30},null,null,{"$f":"IF(COUNTIF('PLANNING PRINCIPAL'!$I$761:$X$761,P30)>=1,\"\",ROW())","v":30},null,null,{"$f":"IF(COUNTIF('PLANNING PRINCIPAL'!$I$764:$X$764,S30)>=1,\"\",ROW())","v":30},null,null,{"$f":"IF(COUNTIF('PLANNING PRINCIPAL'!$I$743:$X$743,V30)>=1,\"\",ROW())","v":30}]
[null,{"$f":"IF(COUNTIF('PLANNING PRINCIPAL'!$I$746:$X$746,A31)>=1,\"\",ROW())","v":31},null,null,{"$f":"IF(COUNTIF('PLANNING PRINCIPAL'!$I$749:$X$749,D31)>=1,\"\",ROW())","v":31},null,null,{"$f":"IF(COUNTIF('PLANNING PRINCIPAL'!$I$752:$X$752,G31)>=1,\"\",ROW())","v":31},null,null,{"$f":"IF(COUNTIF('PLANNING PRINCIPAL'!$I$755:$X$755,J31)>=1,\"\",ROW())","v":31},null,null,{"$f":"IF(COUNTIF('PLANNING PRINCIPAL'!$I$758:$X$758,M31)>=1,\"\",ROW())","v":31},null,null,{"$f":"IF(COUNTIF('PLANNING PRINCIPAL'!$I$761:$X$761,P31)>=1,\"\",ROW())","v":31},null,null,{"$f":"IF(COUNTIF('PLANNING PRINCIPAL'!$I$764:$X$764,S31)>=1,\"\",ROW())","v":31},null,null,{"$f":"IF(COUNTIF('PLANNING PRINCIPAL'!$I$743:$X$743,V31)>=1,\"\",ROW())","v":31}]
[null,{"$f":"IF(COUNTIF('PLANNING PRINCIPAL'!$I$746:$X$746,A32)>=1,\"\",ROW())","v":32},null,null,{"$f":"IF(COUNTIF('PLANNING PRINCIPAL'!$I$749:$X$749,D32)>=1,\"\",ROW())","v":32},null,null,{"$f":"IF(COUNTIF('PLANNING PRINCIPAL'!$I$752:$X$752,G32)>=1,\"\",ROW())","v":32},null,null,{"$f":"IF(COUNTIF('PLANNING PRINCIPAL'!$I$755:$X$755,J32)>=1,\"\",ROW())","v":32},null,null,{"$f":"IF(COUNTIF('PLANNING PRINCIPAL'!$I$758:$X$758,M32)>=1,\"\",ROW())","v":32},null,null,{"$f":"IF(COUNTIF('PLANNING PRINCIPAL'!$I$761:$X$761,P32)>=1,\"\",ROW())","v":32},null,null,{"$f":"IF(COUNTIF('PLANNING PRINCIPAL'!$I$764:$X$764,S32)>=1,\"\",ROW())","v":32},null,null,{"$f":"IF(COUNTIF('PLANNING PRINCIPAL'!$I$743:$X$743,V32)>=1,\"\",ROW())","v":32}]
[null,{"$f":"IF(COUNTIF('PLANNING PRINCIPAL'!$I$746:$X$746,A33)>=1,\"\",ROW())","v":33},null,null,{"$f":"IF(COUNTIF('PLANNING PRINCIPAL'!$I$749:$X$749,D33)>=1,\"\",ROW())","v":33},null,null,{"$f":"IF(COUNTIF('PLANNING PRINCIPAL'!$I$752:$X$752,G33)>=1,\"\",ROW())","v":33},null,null,{"$f":"IF(COUNTIF('PLANNING PRINCIPAL'!$I$755:$X$755,J33)>=1,\"\",ROW())","v":33},null,null,{"$f":"IF(COUNTIF('PLANNING PRINCIPAL'!$I$758:$X$758,M33)>=1,\"\",ROW())","v":33},null,null,{"$f":"IF(COUNTIF('PLANNING PRINCIPAL'!$I$761:$X$761,P33)>=1,\"\",ROW())","v":33},null,null,{"$f":"IF(COUNTIF('PLANNING PRINCIPAL'!$I$764:$X$764,S33)>=1,\"\",ROW())","v":33},null,null,{"$f":"IF(COUNTIF('PLANNING PRINCIPAL'!$I$743:$X$743,V33)>=1,\"\",ROW())","v":33}]
[null,{"$f":"IF(COUNTIF('PLANNING PRINCIPAL'!$I$746:$X$746,A34)>=1,\"\",ROW())","v":34},null,null,{"$f":"IF(COUNTIF('PLANNING PRINCIPAL'!$I$749:$X$749,D34)>=1,\"\",ROW())","v":34},null,null,{"$f":"IF(COUNTIF('PLANNING PRINCIPAL'!$I$752:$X$752,G34)>=1,\"\",ROW())","v":34},null,null,{"$f":"IF(COUNTIF('PLANNING PRINCIPAL'!$I$755:$X$755,J34)>=1,\"\",ROW())","v":34},null,null,{"$f":"IF(COUNTIF('PLANNING PRINCIPAL'!$I$758:$X$758,M34)>=1,\"\",ROW())","v":34},null,null,{"$f":"IF(COUNTIF('PLANNING PRINCIPAL'!$I$761:$X$761,P34)>=1,\"\",ROW())","v":34},null,null,{"$f":"IF(COUNTIF('PLANNING PRINCIPAL'!$I$764:$X$764,S34)>=1,\"\",ROW())","v":34},null,null,{"$f":"IF(COUNTIF('PLANNING PRINCIPAL'!$I$743:$X$743,V34)>=1,\"\",ROW())","v":34}]
["LUNDI",null,null,"MARDI",null,null,"MERCREDI",null,null,"JEUDI",null,null,"VENDREDI",null,null,"SAMEDI",null,null,"DIMANCHE",null,null,"ASTREINTE"]