{"text_format":"1","workbook":"xlsx","n_sheets":2,"sheets":["2015","Mensuel"],"not_rendered":{"charts":0,"images":2,"macros":1,"external_links":0,"defined_names":0,"comments":1,"pivot_tables":0},"unopened":[],"bounds":{"document_bytes":16777216,"sheet_cells":100000,"rows_first":2000,"rows_last":500,"rows_between":2000,"halvings":0,"cell_chars":16384,"cell_head_chars":4096},"cells_cut":0,"cells_raw":0,"read":"whole","date_system":"1900"}

{"sheet":"2015","index":0,"n_rows":350,"n_cols":12,"rows_kept":350,"cut":false,"hidden":false,"merged":[[0,5,0,7],[1,5,1,6],[2,5,2,6],[3,5,3,6],[4,5,4,6],[5,5,5,6],[6,5,6,6],[0,8,1,8],[4,8,5,8]]}
[null,null,null,null,null,"Données totales cumulées",null,null,"V C A"]
[null,null,null,null,null,"Nombre de sorties :",null,{"$f":"COUNT(E10:E300)","v":6}]
[null,null,null,null,null,"Sorties club :",null,{"$f":"COUNTA(C10:C300)","v":0}]
[null,null,null,null,null,"Sorties extérieures :",null,{"$f":"COUNTA(D10:D350)","v":0}]
[null,null,null,null,null,"km :",null,{"$f":"SUM(F10:F350)","v":470},"Météociel"]
[null,null,null,null,null,"Temps :",null,{"$f":"IF(COUNT(G10:G350),SUM(G10:G350),\"\")","v":0.69387731481481474}]
[null,null,null,null,null,"Dénivelé :",null,{"$f":"SUM(I10:I350)","v":2700}]
[]
[null,null,"Club","Ext","Date sortie","Km","Temps","Moyenne","Dénivelé","A n n o t a t i o n s",null,"codage"]
[null,null,null,null,"2015-03-03",85,9.3333333333333338E-2,{"$f":"IF(G10<>0,F10/G10/24,\"\")","v":37.946428571428569},500,"Ptite baisse de régime vers le 66ème. 3ème derrière Bernard et Alain - Un peu de vent latéral sur le plateau des roches.",null,{"$f":"IF(E10=\"\",\"\",MONTH(E10)&\"_\"&SUMPRODUCT((MONTH($E$10:E10)=MONTH(E10))*1))","v":"3_1"}]
[null,null,null,null,"2015-03-04",40,6.25E-2,26.666666666666668,null,"Sortie tranquille le long de la Meuse - Beau temps",null,{"$f":"IF(E11=\"\",\"\",MONTH(E11)&\"_\"&SUMPRODUCT((MONTH($E$10:E11)=MONTH(E11))*1))","v":"3_2"}]
[null,null,null,null,"2015-03-07",50,5.9027777777777783E-2,35.294117647058819,null,"Grisou et frais",null,{"$f":"IF(E12=\"\",\"\",MONTH(E12)&\"_\"&SUMPRODUCT((MONTH($E$10:E12)=MONTH(E12))*1))","v":"3_3"}]
[null,null,null,null,"2015-04-20",60,6.9444444444444434E-2,36.000000000000007,null,"La ronde du muguet",null,{"$f":"IF(E13=\"\",\"\",MONTH(E13)&\"_\"&SUMPRODUCT((MONTH($E$10:E13)=MONTH(E13))*1))","v":"4_1"}]
[null,null,null,null,"2015-04-28",120,0.20989583333333331,23.821339950372209,1550,null,null,{"$f":"IF(E14=\"\",\"\",MONTH(E14)&\"_\"&SUMPRODUCT((MONTH($E$10:E14)=MONTH(E14))*1))","v":"4_2"}]
[null,null,null,null,"2015-05-05",115,0.1996759259259259,23.997217713888247,650,null,null,{"$f":"IF(E15=\"\",\"\",MONTH(E15)&\"_\"&SUMPRODUCT((MONTH($E$10:E15)=MONTH(E15))*1))","v":"5_1"}]
[null,null,null,null,null,null,null,"",null,null,null,{"$f":"IF(E16=\"\",\"\",MONTH(E16)&\"_\"&SUMPRODUCT((MONTH($E$10:E16)=MONTH(E16))*1))","v":""}]
[null,null,null,null,null,null,null,"",null,null,null,{"$f":"IF(E17=\"\",\"\",MONTH(E17)&\"_\"&SUMPRODUCT((MONTH($E$10:E17)=MONTH(E17))*1))","v":""}]
[null,null,null,null,null,null,null,"",null,null,null,{"$f":"IF(E18=\"\",\"\",MONTH(E18)&\"_\"&SUMPRODUCT((MONTH($E$10:E18)=MONTH(E18))*1))","v":""}]
[null,null,null,null,null,null,null,"",null,null,null,{"$f":"IF(E19=\"\",\"\",MONTH(E19)&\"_\"&SUMPRODUCT((MONTH($E$10:E19)=MONTH(E19))*1))","v":""}]
[null,null,null,null,null,null,null,"",null,null,null,{"$f":"IF(E20=\"\",\"\",MONTH(E20)&\"_\"&SUMPRODUCT((MONTH($E$10:E20)=MONTH(E20))*1))","v":""}]
[null,null,null,null,null,null,null,"",null,null,null,{"$f":"IF(E21=\"\",\"\",MONTH(E21)&\"_\"&SUMPRODUCT((MONTH($E$10:E21)=MONTH(E21))*1))","v":""}]
[null,null,null,null,null,null,null,"",null,null,null,{"$f":"IF(E22=\"\",\"\",MONTH(E22)&\"_\"&SUMPRODUCT((MONTH($E$10:E22)=MONTH(E22))*1))","v":""}]
[null,null,null,null,null,null,null,"",null,null,null,{"$f":"IF(E23=\"\",\"\",MONTH(E23)&\"_\"&SUMPRODUCT((MONTH($E$10:E23)=MONTH(E23))*1))","v":""}]
[null,null,null,null,null,null,null,"",null,null,null,{"$f":"IF(E24=\"\",\"\",MONTH(E24)&\"_\"&SUMPRODUCT((MONTH($E$10:E24)=MONTH(E24))*1))","v":""}]
[null,null,null,null,null,null,null,"",null,null,null,{"$f":"IF(E25=\"\",\"\",MONTH(E25)&\"_\"&SUMPRODUCT((MONTH($E$10:E25)=MONTH(E25))*1))","v":""}]
[null,null,null,null,null,null,null,"",null,null,null,{"$f":"IF(E26=\"\",\"\",MONTH(E26)&\"_\"&SUMPRODUCT((MONTH($E$10:E26)=MONTH(E26))*1))","v":""}]
[null,null,null,null,null,null,null,"",null,null,null,{"$f":"IF(E27=\"\",\"\",MONTH(E27)&\"_\"&SUMPRODUCT((MONTH($E$10:E27)=MONTH(E27))*1))","v":""}]
[null,null,null,null,null,null,null,"",null,null,null,{"$f":"IF(E28=\"\",\"\",MONTH(E28)&\"_\"&SUMPRODUCT((MONTH($E$10:E28)=MONTH(E28))*1))","v":""}]
[null,null,null,null,null,null,null,"",null,null,null,{"$f":"IF(E29=\"\",\"\",MONTH(E29)&\"_\"&SUMPRODUCT((MONTH($E$10:E29)=MONTH(E29))*1))","v":""}]
[null,null,null,null,null,null,null,"",null,null,null,{"$f":"IF(E30=\"\",\"\",MONTH(E30)&\"_\"&SUMPRODUCT((MONTH($E$10:E30)=MONTH(E30))*1))","v":""}]
[null,null,null,null,null,null,null,"",null,null,null,{"$f":"IF(E31=\"\",\"\",MONTH(E31)&\"_\"&SUMPRODUCT((MONTH($E$10:E31)=MONTH(E31))*1))","v":""}]
[null,null,null,null,null,null,null,"",null,null,null,{"$f":"IF(E32=\"\",\"\",MONTH(E32)&\"_\"&SUMPRODUCT((MONTH($E$10:E32)=MONTH(E32))*1))","v":""}]
[null,null,null,null,null,null,null,"",null,null,null,{"$f":"IF(E33=\"\",\"\",MONTH(E33)&\"_\"&SUMPRODUCT((MONTH($E$10:E33)=MONTH(E33))*1))","v":""}]
[null,null,null,null,null,null,null,"",null,null,null,{"$f":"IF(E34=\"\",\"\",MONTH(E34)&\"_\"&SUMPRODUCT((MONTH($E$10:E34)=MONTH(E34))*1))","v":""}]
[null,null,null,null,null,null,null,"",null,null,null,{"$f":"IF(E35=\"\",\"\",MONTH(E35)&\"_\"&SUMPRODUCT((MONTH($E$10:E35)=MONTH(E35))*1))","v":""}]
[null,null,null,null,null,null,null,"",null,null,null,{"$f":"IF(E36=\"\",\"\",MONTH(E36)&\"_\"&SUMPRODUCT((MONTH($E$10:E36)=MONTH(E36))*1))","v":""}]
[null,null,null,null,null,null,null,"",null,null,null,{"$f":"IF(E37=\"\",\"\",MONTH(E37)&\"_\"&SUMPRODUCT((MONTH($E$10:E37)=MONTH(E37))*1))","v":""}]
[null,null,null,null,null,null,null,"",null,null,null,{"$f":"IF(E38=\"\",\"\",MONTH(E38)&\"_\"&SUMPRODUCT((MONTH($E$10:E38)=MONTH(E38))*1))","v":""}]
[null,null,null,null,null,null,null,"",null,null,null,{"$f":"IF(E39=\"\",\"\",MONTH(E39)&\"_\"&SUMPRODUCT((MONTH($E$10:E39)=MONTH(E39))*1))","v":""}]
[null,null,null,null,null,null,null,"",null,null,null,{"$f":"IF(E40=\"\",\"\",MONTH(E40)&\"_\"&SUMPRODUCT((MONTH($E$10:E40)=MONTH(E40))*1))","v":""}]
[null,null,null,null,null,null,null,"",null,null,null,{"$f":"IF(E41=\"\",\"\",MONTH(E41)&\"_\"&SUMPRODUCT((MONTH($E$10:E41)=MONTH(E41))*1))","v":""}]
[null,null,null,null,null,null,null,"",null,null,null,{"$f":"IF(E42=\"\",\"\",MONTH(E42)&\"_\"&SUMPRODUCT((MONTH($E$10:E42)=MONTH(E42))*1))","v":""}]
[null,null,null,null,null,null,null,"",null,null,null,{"$f":"IF(E43=\"\",\"\",MONTH(E43)&\"_\"&SUMPRODUCT((MONTH($E$10:E43)=MONTH(E43))*1))","v":""}]
[null,null,null,null,null,null,null,"",null,null,null,{"$f":"IF(E44=\"\",\"\",MONTH(E44)&\"_\"&SUMPRODUCT((MONTH($E$10:E44)=MONTH(E44))*1))","v":""}]
[null,null,null,null,null,null,null,"",null,null,null,{"$f":"IF(E45=\"\",\"\",MONTH(E45)&\"_\"&SUMPRODUCT((MONTH($E$10:E45)=MONTH(E45))*1))","v":""}]
[null,null,null,null,null,null,null,"",null,null,null,{"$f":"IF(E46=\"\",\"\",MONTH(E46)&\"_\"&SUMPRODUCT((MONTH($E$10:E46)=MONTH(E46))*1))","v":""}]
[null,null,null,null,null,null,null,"",null,null,null,{"$f":"IF(E47=\"\",\"\",MONTH(E47)&\"_\"&SUMPRODUCT((MONTH($E$10:E47)=MONTH(E47))*1))","v":""}]
[null,null,null,null,null,null,null,"",null,null,null,{"$f":"IF(E48=\"\",\"\",MONTH(E48)&\"_\"&SUMPRODUCT((MONTH($E$10:E48)=MONTH(E48))*1))","v":""}]
[null,null,null,null,null,null,null,"",null,null,null,{"$f":"IF(E49=\"\",\"\",MONTH(E49)&\"_\"&SUMPRODUCT((MONTH($E$10:E49)=MONTH(E49))*1))","v":""}]
[null,null,null,null,null,null,null,"",null,null,null,{"$f":"IF(E50=\"\",\"\",MONTH(E50)&\"_\"&SUMPRODUCT((MONTH($E$10:E50)=MONTH(E50))*1))","v":""}]
[null,null,null,null,null,null,null,"",null,null,null,{"$f":"IF(E51=\"\",\"\",MONTH(E51)&\"_\"&SUMPRODUCT((MONTH($E$10:E51)=MONTH(E51))*1))","v":""}]
[null,null,null,null,null,null,null,"",null,null,null,{"$f":"IF(E52=\"\",\"\",MONTH(E52)&\"_\"&SUMPRODUCT((MONTH($E$10:E52)=MONTH(E52))*1))","v":""}]
[null,null,null,null,null,null,null,"",null,null,null,{"$f":"IF(E53=\"\",\"\",MONTH(E53)&\"_\"&SUMPRODUCT((MONTH($E$10:E53)=MONTH(E53))*1))","v":""}]
[null,null,null,null,null,null,null,"",null,null,null,{"$f":"IF(E54=\"\",\"\",MONTH(E54)&\"_\"&SUMPRODUCT((MONTH($E$10:E54)=MONTH(E54))*1))","v":""}]
[null,null,null,null,null,null,null,"",null,null,null,{"$f":"IF(E55=\"\",\"\",MONTH(E55)&\"_\"&SUMPRODUCT((MONTH($E$10:E55)=MONTH(E55))*1))","v":""}]
[null,null,null,null,null,null,null,"",null,null,null,{"$f":"IF(E56=\"\",\"\",MONTH(E56)&\"_\"&SUMPRODUCT((MONTH($E$10:E56)=MONTH(E56))*1))","v":""}]
[null,null,null,null,null,null,null,"",null,null,null,{"$f":"IF(E57=\"\",\"\",MONTH(E57)&\"_\"&SUMPRODUCT((MONTH($E$10:E57)=MONTH(E57))*1))","v":""}]
[null,null,null,null,null,null,null,"",null,null,null,{"$f":"IF(E58=\"\",\"\",MONTH(E58)&\"_\"&SUMPRODUCT((MONTH($E$10:E58)=MONTH(E58))*1))","v":""}]
[null,null,null,null,null,null,null,"",null,null,null,{"$f":"IF(E59=\"\",\"\",MONTH(E59)&\"_\"&SUMPRODUCT((MONTH($E$10:E59)=MONTH(E59))*1))","v":""}]
[null,null,null,null,null,null,null,"",null,null,null,{"$f":"IF(E60=\"\",\"\",MONTH(E60)&\"_\"&SUMPRODUCT((MONTH($E$10:E60)=MONTH(E60))*1))","v":""}]
[null,null,null,null,null,null,null,"",null,null,null,{"$f":"IF(E61=\"\",\"\",MONTH(E61)&\"_\"&SUMPRODUCT((MONTH($E$10:E61)=MONTH(E61))*1))","v":""}]
[null,null,null,null,null,null,null,"",null,null,null,{"$f":"IF(E62=\"\",\"\",MONTH(E62)&\"_\"&SUMPRODUCT((MONTH($E$10:E62)=MONTH(E62))*1))","v":""}]
[null,null,null,null,null,null,null,"",null,null,null,{"$f":"IF(E63=\"\",\"\",MONTH(E63)&\"_\"&SUMPRODUCT((MONTH($E$10:E63)=MONTH(E63))*1))","v":""}]
[null,null,null,null,null,null,null,"",null,null,null,{"$f":"IF(E64=\"\",\"\",MONTH(E64)&\"_\"&SUMPRODUCT((MONTH($E$10:E64)=MONTH(E64))*1))","v":""}]
[null,null,null,null,null,null,null,"",null,null,null,{"$f":"IF(E65=\"\",\"\",MONTH(E65)&\"_\"&SUMPRODUCT((MONTH($E$10:E65)=MONTH(E65))*1))","v":""}]
[null,null,null,null,null,null,null,"",null,null,null,{"$f":"IF(E66=\"\",\"\",MONTH(E66)&\"_\"&SUMPRODUCT((MONTH($E$10:E66)=MONTH(E66))*1))","v":""}]
[null,null,null,null,null,null,null,"",null,null,null,{"$f":"IF(E67=\"\",\"\",MONTH(E67)&\"_\"&SUMPRODUCT((MONTH($E$10:E67)=MONTH(E67))*1))","v":""}]
[null,null,null,null,null,null,null,"",null,null,null,{"$f":"IF(E68=\"\",\"\",MONTH(E68)&\"_\"&SUMPRODUCT((MONTH($E$10:E68)=MONTH(E68))*1))","v":""}]
[null,null,null,null,null,null,null,"",null,null,null,{"$f":"IF(E69=\"\",\"\",MONTH(E69)&\"_\"&SUMPRODUCT((MONTH($E$10:E69)=MONTH(E69))*1))","v":""}]
[null,null,null,null,null,null,null,"",null,null,null,{"$f":"IF(E70=\"\",\"\",MONTH(E70)&\"_\"&SUMPRODUCT((MONTH($E$10:E70)=MONTH(E70))*1))","v":""}]
[null,null,null,null,null,null,null,"",null,null,null,{"$f":"IF(E71=\"\",\"\",MONTH(E71)&\"_\"&SUMPRODUCT((MONTH($E$10:E71)=MONTH(E71))*1))","v":""}]
[null,null,null,null,null,null,null,"",null,null,null,{"$f":"IF(E72=\"\",\"\",MONTH(E72)&\"_\"&SUMPRODUCT((MONTH($E$10:E72)=MONTH(E72))*1))","v":""}]
[null,null,null,null,null,null,null,"",null,null,null,{"$f":"IF(E73=\"\",\"\",MONTH(E73)&\"_\"&SUMPRODUCT((MONTH($E$10:E73)=MONTH(E73))*1))","v":""}]
[null,null,null,null,null,null,null,{"$f":"IF(G74<>0,F74/G74/24,\"\")","v":""},null,null,null,{"$f":"IF(E74=\"\",\"\",MONTH(E74)&\"_\"&SUMPRODUCT((MONTH($E$10:E74)=MONTH(E74))*1))","v":""}]
[null,null,null,null,null,null,null,"",null,null,null,{"$f":"IF(E75=\"\",\"\",MONTH(E75)&\"_\"&SUMPRODUCT((MONTH($E$10:E75)=MONTH(E75))*1))","v":""}]
[null,null,null,null,null,null,null,"",null,null,null,{"$f":"IF(E76=\"\",\"\",MONTH(E76)&\"_\"&SUMPRODUCT((MONTH($E$10:E76)=MONTH(E76))*1))","v":""}]
[null,null,null,null,null,null,null,"",null,null,null,{"$f":"IF(E77=\"\",\"\",MONTH(E77)&\"_\"&SUMPRODUCT((MONTH($E$10:E77)=MONTH(E77))*1))","v":""}]
[null,null,null,null,null,null,null,"",null,null,null,{"$f":"IF(E78=\"\",\"\",MONTH(E78)&\"_\"&SUMPRODUCT((MONTH($E$10:E78)=MONTH(E78))*1))","v":""}]
[null,null,null,null,null,null,null,"",null,null,null,{"$f":"IF(E79=\"\",\"\",MONTH(E79)&\"_\"&SUMPRODUCT((MONTH($E$10:E79)=MONTH(E79))*1))","v":""}]
[null,null,null,null,null,null,null,"",null,null,null,{"$f":"IF(E80=\"\",\"\",MONTH(E80)&\"_\"&SUMPRODUCT((MONTH($E$10:E80)=MONTH(E80))*1))","v":""}]
[null,null,null,null,null,null,null,"",null,null,null,{"$f":"IF(E81=\"\",\"\",MONTH(E81)&\"_\"&SUMPRODUCT((MONTH($E$10:E81)=MONTH(E81))*1))","v":""}]
[null,null,null,null,null,null,null,"",null,null,null,{"$f":"IF(E82=\"\",\"\",MONTH(E82)&\"_\"&SUMPRODUCT((MONTH($E$10:E82)=MONTH(E82))*1))","v":""}]
[null,null,null,null,null,null,null,"",null,null,null,{"$f":"IF(E83=\"\",\"\",MONTH(E83)&\"_\"&SUMPRODUCT((MONTH($E$10:E83)=MONTH(E83))*1))","v":""}]
[null,null,null,null,null,null,null,"",null,null,null,{"$f":"IF(E84=\"\",\"\",MONTH(E84)&\"_\"&SUMPRODUCT((MONTH($E$10:E84)=MONTH(E84))*1))","v":""}]
[null,null,null,null,null,null,null,"",null,null,null,{"$f":"IF(E85=\"\",\"\",MONTH(E85)&\"_\"&SUMPRODUCT((MONTH($E$10:E85)=MONTH(E85))*1))","v":""}]
[null,null,null,null,null,null,null,"",null,null,null,{"$f":"IF(E86=\"\",\"\",MONTH(E86)&\"_\"&SUMPRODUCT((MONTH($E$10:E86)=MONTH(E86))*1))","v":""}]
[null,null,null,null,null,null,null,"",null,null,null,{"$f":"IF(E87=\"\",\"\",MONTH(E87)&\"_\"&SUMPRODUCT((MONTH($E$10:E87)=MONTH(E87))*1))","v":""}]
[null,null,null,null,null,null,null,"",null,null,null,{"$f":"IF(E88=\"\",\"\",MONTH(E88)&\"_\"&SUMPRODUCT((MONTH($E$10:E88)=MONTH(E88))*1))","v":""}]
[null,null,null,null,null,null,null,"",null,null,null,{"$f":"IF(E89=\"\",\"\",MONTH(E89)&\"_\"&SUMPRODUCT((MONTH($E$10:E89)=MONTH(E89))*1))","v":""}]
[null,null,null,null,null,null,null,"",null,null,null,{"$f":"IF(E90=\"\",\"\",MONTH(E90)&\"_\"&SUMPRODUCT((MONTH($E$10:E90)=MONTH(E90))*1))","v":""}]
[null,null,null,null,null,null,null,"",null,null,null,{"$f":"IF(E91=\"\",\"\",MONTH(E91)&\"_\"&SUMPRODUCT((MONTH($E$10:E91)=MONTH(E91))*1))","v":""}]
[null,null,null,null,null,null,null,"",null,null,null,{"$f":"IF(E92=\"\",\"\",MONTH(E92)&\"_\"&SUMPRODUCT((MONTH($E$10:E92)=MONTH(E92))*1))","v":""}]
[null,null,null,null,null,null,null,"",null,null,null,{"$f":"IF(E93=\"\",\"\",MONTH(E93)&\"_\"&SUMPRODUCT((MONTH($E$10:E93)=MONTH(E93))*1))","v":""}]
[null,null,null,null,null,null,null,"",null,null,null,{"$f":"IF(E94=\"\",\"\",MONTH(E94)&\"_\"&SUMPRODUCT((MONTH($E$10:E94)=MONTH(E94))*1))","v":""}]
[null,null,null,null,null,null,null,"",null,null,null,{"$f":"IF(E95=\"\",\"\",MONTH(E95)&\"_\"&SUMPRODUCT((MONTH($E$10:E95)=MONTH(E95))*1))","v":""}]
[null,null,null,null,null,null,null,"",null,null,null,{"$f":"IF(E96=\"\",\"\",MONTH(E96)&\"_\"&SUMPRODUCT((MONTH($E$10:E96)=MONTH(E96))*1))","v":""}]
[null,null,null,null,null,null,null,"",null,null,null,{"$f":"IF(E97=\"\",\"\",MONTH(E97)&\"_\"&SUMPRODUCT((MONTH($E$10:E97)=MONTH(E97))*1))","v":""}]
[null,null,null,null,null,null,null,"",null,null,null,{"$f":"IF(E98=\"\",\"\",MONTH(E98)&\"_\"&SUMPRODUCT((MONTH($E$10:E98)=MONTH(E98))*1))","v":""}]
[null,null,null,null,null,null,null,"",null,null,null,{"$f":"IF(E99=\"\",\"\",MONTH(E99)&\"_\"&SUMPRODUCT((MONTH($E$10:E99)=MONTH(E99))*1))","v":""}]
[null,null,null,null,null,null,null,"",null,null,null,{"$f":"IF(E100=\"\",\"\",MONTH(E100)&\"_\"&SUMPRODUCT((MONTH($E$10:E100)=MONTH(E100))*1))","v":""}]
[null,null,null,null,null,null,null,"",null,null,null,{"$f":"IF(E101=\"\",\"\",MONTH(E101)&\"_\"&SUMPRODUCT((MONTH($E$10:E101)=MONTH(E101))*1))","v":""}]
[null,null,null,null,null,null,null,"",null,null,null,{"$f":"IF(E102=\"\",\"\",MONTH(E102)&\"_\"&SUMPRODUCT((MONTH($E$10:E102)=MONTH(E102))*1))","v":""}]
[null,null,null,null,null,null,null,"",null,null,null,{"$f":"IF(E103=\"\",\"\",MONTH(E103)&\"_\"&SUMPRODUCT((MONTH($E$10:E103)=MONTH(E103))*1))","v":""}]
[null,null,null,null,null,null,null,"",null,null,null,{"$f":"IF(E104=\"\",\"\",MONTH(E104)&\"_\"&SUMPRODUCT((MONTH($E$10:E104)=MONTH(E104))*1))","v":""}]
[null,null,null,null,null,null,null,"",null,null,null,{"$f":"IF(E105=\"\",\"\",MONTH(E105)&\"_\"&SUMPRODUCT((MONTH($E$10:E105)=MONTH(E105))*1))","v":""}]
[null,null,null,null,null,null,null,"",null,null,null,{"$f":"IF(E106=\"\",\"\",MONTH(E106)&\"_\"&SUMPRODUCT((MONTH($E$10:E106)=MONTH(E106))*1))","v":""}]
[null,null,null,null,null,null,null,"",null,null,null,{"$f":"IF(E107=\"\",\"\",MONTH(E107)&\"_\"&SUMPRODUCT((MONTH($E$10:E107)=MONTH(E107))*1))","v":""}]
[null,null,null,null,null,null,null,"",null,null,null,{"$f":"IF(E108=\"\",\"\",MONTH(E108)&\"_\"&SUMPRODUCT((MONTH($E$10:E108)=MONTH(E108))*1))","v":""}]
[null,null,null,null,null,null,null,"",null,null,null,{"$f":"IF(E109=\"\",\"\",MONTH(E109)&\"_\"&SUMPRODUCT((MONTH($E$10:E109)=MONTH(E109))*1))","v":""}]
[null,null,null,null,null,null,null,"",null,null,null,{"$f":"IF(E110=\"\",\"\",MONTH(E110)&\"_\"&SUMPRODUCT((MONTH($E$10:E110)=MONTH(E110))*1))","v":""}]
[null,null,null,null,null,null,null,"",null,null,null,{"$f":"IF(E111=\"\",\"\",MONTH(E111)&\"_\"&SUMPRODUCT((MONTH($E$10:E111)=MONTH(E111))*1))","v":""}]
[null,null,null,null,null,null,null,"",null,null,null,{"$f":"IF(E112=\"\",\"\",MONTH(E112)&\"_\"&SUMPRODUCT((MONTH($E$10:E112)=MONTH(E112))*1))","v":""}]
[null,null,null,null,null,null,null,"",null,null,null,{"$f":"IF(E113=\"\",\"\",MONTH(E113)&\"_\"&SUMPRODUCT((MONTH($E$10:E113)=MONTH(E113))*1))","v":""}]
[null,null,null,null,null,null,null,"",null,null,null,{"$f":"IF(E114=\"\",\"\",MONTH(E114)&\"_\"&SUMPRODUCT((MONTH($E$10:E114)=MONTH(E114))*1))","v":""}]
[null,null,null,null,null,null,null,"",null,null,null,{"$f":"IF(E115=\"\",\"\",MONTH(E115)&\"_\"&SUMPRODUCT((MONTH($E$10:E115)=MONTH(E115))*1))","v":""}]
[null,null,null,null,null,null,null,"",null,null,null,{"$f":"IF(E116=\"\",\"\",MONTH(E116)&\"_\"&SUMPRODUCT((MONTH($E$10:E116)=MONTH(E116))*1))","v":""}]
[null,null,null,null,null,null,null,"",null,null,null,{"$f":"IF(E117=\"\",\"\",MONTH(E117)&\"_\"&SUMPRODUCT((MONTH($E$10:E117)=MONTH(E117))*1))","v":""}]
[null,null,null,null,null,null,null,"",null,null,null,{"$f":"IF(E118=\"\",\"\",MONTH(E118)&\"_\"&SUMPRODUCT((MONTH($E$10:E118)=MONTH(E118))*1))","v":""}]
[null,null,null,null,null,null,null,"",null,null,null,{"$f":"IF(E119=\"\",\"\",MONTH(E119)&\"_\"&SUMPRODUCT((MONTH($E$10:E119)=MONTH(E119))*1))","v":""}]
[null,null,null,null,null,null,null,"",null,null,null,{"$f":"IF(E120=\"\",\"\",MONTH(E120)&\"_\"&SUMPRODUCT((MONTH($E$10:E120)=MONTH(E120))*1))","v":""}]
[null,null,null,null,null,null,null,"",null,null,null,{"$f":"IF(E121=\"\",\"\",MONTH(E121)&\"_\"&SUMPRODUCT((MONTH($E$10:E121)=MONTH(E121))*1))","v":""}]
[null,null,null,null,null,null,null,"",null,null,null,{"$f":"IF(E122=\"\",\"\",MONTH(E122)&\"_\"&SUMPRODUCT((MONTH($E$10:E122)=MONTH(E122))*1))","v":""}]
[null,null,null,null,null,null,null,"",null,null,null,{"$f":"IF(E123=\"\",\"\",MONTH(E123)&\"_\"&SUMPRODUCT((MONTH($E$10:E123)=MONTH(E123))*1))","v":""}]
[null,null,null,null,null,null,null,"",null,null,null,{"$f":"IF(E124=\"\",\"\",MONTH(E124)&\"_\"&SUMPRODUCT((MONTH($E$10:E124)=MONTH(E124))*1))","v":""}]
[null,null,null,null,null,null,null,"",null,null,null,{"$f":"IF(E125=\"\",\"\",MONTH(E125)&\"_\"&SUMPRODUCT((MONTH($E$10:E125)=MONTH(E125))*1))","v":""}]
[null,null,null,null,null,null,null,"",null,null,null,{"$f":"IF(E126=\"\",\"\",MONTH(E126)&\"_\"&SUMPRODUCT((MONTH($E$10:E126)=MONTH(E126))*1))","v":""}]
[null,null,null,null,null,null,null,"",null,null,null,{"$f":"IF(E127=\"\",\"\",MONTH(E127)&\"_\"&SUMPRODUCT((MONTH($E$10:E127)=MONTH(E127))*1))","v":""}]
[null,null,null,null,null,null,null,"",null,null,null,{"$f":"IF(E128=\"\",\"\",MONTH(E128)&\"_\"&SUMPRODUCT((MONTH($E$10:E128)=MONTH(E128))*1))","v":""}]
[null,null,null,null,null,null,null,"",null,null,null,{"$f":"IF(E129=\"\",\"\",MONTH(E129)&\"_\"&SUMPRODUCT((MONTH($E$10:E129)=MONTH(E129))*1))","v":""}]
[null,null,null,null,null,null,null,"",null,null,null,{"$f":"IF(E130=\"\",\"\",MONTH(E130)&\"_\"&SUMPRODUCT((MONTH($E$10:E130)=MONTH(E130))*1))","v":""}]
[null,null,null,null,null,null,null,"",null,null,null,{"$f":"IF(E131=\"\",\"\",MONTH(E131)&\"_\"&SUMPRODUCT((MONTH($E$10:E131)=MONTH(E131))*1))","v":""}]
[null,null,null,null,null,null,null,"",null,null,null,{"$f":"IF(E132=\"\",\"\",MONTH(E132)&\"_\"&SUMPRODUCT((MONTH($E$10:E132)=MONTH(E132))*1))","v":""}]
[null,null,null,null,null,null,null,"",null,null,null,{"$f":"IF(E133=\"\",\"\",MONTH(E133)&\"_\"&SUMPRODUCT((MONTH($E$10:E133)=MONTH(E133))*1))","v":""}]
[null,null,null,null,null,null,null,"",null,null,null,{"$f":"IF(E134=\"\",\"\",MONTH(E134)&\"_\"&SUMPRODUCT((MONTH($E$10:E134)=MONTH(E134))*1))","v":""}]
[null,null,null,null,null,null,null,"",null,null,null,{"$f":"IF(E135=\"\",\"\",MONTH(E135)&\"_\"&SUMPRODUCT((MONTH($E$10:E135)=MONTH(E135))*1))","v":""}]
[null,null,null,null,null,null,null,"",null,null,null,{"$f":"IF(E136=\"\",\"\",MONTH(E136)&\"_\"&SUMPRODUCT((MONTH($E$10:E136)=MONTH(E136))*1))","v":""}]
[null,null,null,null,null,null,null,"",null,null,null,{"$f":"IF(E137=\"\",\"\",MONTH(E137)&\"_\"&SUMPRODUCT((MONTH($E$10:E137)=MONTH(E137))*1))","v":""}]
[null,null,null,null,null,null,null,{"$f":"IF(G138<>0,F138/G138/24,\"\")","v":""},null,null,null,{"$f":"IF(E138=\"\",\"\",MONTH(E138)&\"_\"&SUMPRODUCT((MONTH($E$10:E138)=MONTH(E138))*1))","v":""}]
[null,null,null,null,null,null,null,"",null,null,null,{"$f":"IF(E139=\"\",\"\",MONTH(E139)&\"_\"&SUMPRODUCT((MONTH($E$10:E139)=MONTH(E139))*1))","v":""}]
[null,null,null,null,null,null,null,"",null,null,null,{"$f":"IF(E140=\"\",\"\",MONTH(E140)&\"_\"&SUMPRODUCT((MONTH($E$10:E140)=MONTH(E140))*1))","v":""}]
[null,null,null,null,null,null,null,"",null,null,null,{"$f":"IF(E141=\"\",\"\",MONTH(E141)&\"_\"&SUMPRODUCT((MONTH($E$10:E141)=MONTH(E141))*1))","v":""}]
[null,null,null,null,null,null,null,"",null,null,null,{"$f":"IF(E142=\"\",\"\",MONTH(E142)&\"_\"&SUMPRODUCT((MONTH($E$10:E142)=MONTH(E142))*1))","v":""}]
[null,null,null,null,null,null,null,"",null,null,null,{"$f":"IF(E143=\"\",\"\",MONTH(E143)&\"_\"&SUMPRODUCT((MONTH($E$10:E143)=MONTH(E143))*1))","v":""}]
[null,null,null,null,null,null,null,"",null,null,null,{"$f":"IF(E144=\"\",\"\",MONTH(E144)&\"_\"&SUMPRODUCT((MONTH($E$10:E144)=MONTH(E144))*1))","v":""}]
[null,null,null,null,null,null,null,"",null,null,null,{"$f":"IF(E145=\"\",\"\",MONTH(E145)&\"_\"&SUMPRODUCT((MONTH($E$10:E145)=MONTH(E145))*1))","v":""}]
[null,null,null,null,null,null,null,"",null,null,null,{"$f":"IF(E146=\"\",\"\",MONTH(E146)&\"_\"&SUMPRODUCT((MONTH($E$10:E146)=MONTH(E146))*1))","v":""}]
[null,null,null,null,null,null,null,"",null,null,null,{"$f":"IF(E147=\"\",\"\",MONTH(E147)&\"_\"&SUMPRODUCT((MONTH($E$10:E147)=MONTH(E147))*1))","v":""}]
[null,null,null,null,null,null,null,"",null,null,null,{"$f":"IF(E148=\"\",\"\",MONTH(E148)&\"_\"&SUMPRODUCT((MONTH($E$10:E148)=MONTH(E148))*1))","v":""}]
[null,null,null,null,null,null,null,"",null,null,null,{"$f":"IF(E149=\"\",\"\",MONTH(E149)&\"_\"&SUMPRODUCT((MONTH($E$10:E149)=MONTH(E149))*1))","v":""}]
[null,null,null,null,null,null,null,"",null,null,null,{"$f":"IF(E150=\"\",\"\",MONTH(E150)&\"_\"&SUMPRODUCT((MONTH($E$10:E150)=MONTH(E150))*1))","v":""}]
[null,null,null,null,null,null,null,"",null,null,null,{"$f":"IF(E151=\"\",\"\",MONTH(E151)&\"_\"&SUMPRODUCT((MONTH($E$10:E151)=MONTH(E151))*1))","v":""}]
[null,null,null,null,null,null,null,"",null,null,null,{"$f":"IF(E152=\"\",\"\",MONTH(E152)&\"_\"&SUMPRODUCT((MONTH($E$10:E152)=MONTH(E152))*1))","v":""}]
[null,null,null,null,null,null,null,"",null,null,null,{"$f":"IF(E153=\"\",\"\",MONTH(E153)&\"_\"&SUMPRODUCT((MONTH($E$10:E153)=MONTH(E153))*1))","v":""}]
[null,null,null,null,null,null,null,"",null,null,null,{"$f":"IF(E154=\"\",\"\",MONTH(E154)&\"_\"&SUMPRODUCT((MONTH($E$10:E154)=MONTH(E154))*1))","v":""}]
[null,null,null,null,null,null,null,"",null,null,null,{"$f":"IF(E155=\"\",\"\",MONTH(E155)&\"_\"&SUMPRODUCT((MONTH($E$10:E155)=MONTH(E155))*1))","v":""}]
[null,null,null,null,null,null,null,"",null,null,null,{"$f":"IF(E156=\"\",\"\",MONTH(E156)&\"_\"&SUMPRODUCT((MONTH($E$10:E156)=MONTH(E156))*1))","v":""}]
[null,null,null,null,null,null,null,"",null,null,null,{"$f":"IF(E157=\"\",\"\",MONTH(E157)&\"_\"&SUMPRODUCT((MONTH($E$10:E157)=MONTH(E157))*1))","v":""}]
[null,null,null,null,null,null,null,"",null,null,null,{"$f":"IF(E158=\"\",\"\",MONTH(E158)&\"_\"&SUMPRODUCT((MONTH($E$10:E158)=MONTH(E158))*1))","v":""}]
[null,null,null,null,null,null,null,"",null,null,null,{"$f":"IF(E159=\"\",\"\",MONTH(E159)&\"_\"&SUMPRODUCT((MONTH($E$10:E159)=MONTH(E159))*1))","v":""}]
[null,null,null,null,null,null,null,"",null,null,null,{"$f":"IF(E160=\"\",\"\",MONTH(E160)&\"_\"&SUMPRODUCT((MONTH($E$10:E160)=MONTH(E160))*1))","v":""}]
[null,null,null,null,null,null,null,"",null,null,null,{"$f":"IF(E161=\"\",\"\",MONTH(E161)&\"_\"&SUMPRODUCT((MONTH($E$10:E161)=MONTH(E161))*1))","v":""}]
[null,null,null,null,null,null,null,"",null,null,null,{"$f":"IF(E162=\"\",\"\",MONTH(E162)&\"_\"&SUMPRODUCT((MONTH($E$10:E162)=MONTH(E162))*1))","v":""}]
[null,null,null,null,null,null,null,"",null,null,null,{"$f":"IF(E163=\"\",\"\",MONTH(E163)&\"_\"&SUMPRODUCT((MONTH($E$10:E163)=MONTH(E163))*1))","v":""}]
[null,null,null,null,null,null,null,"",null,null,null,{"$f":"IF(E164=\"\",\"\",MONTH(E164)&\"_\"&SUMPRODUCT((MONTH($E$10:E164)=MONTH(E164))*1))","v":""}]
[null,null,null,null,null,null,null,"",null,null,null,{"$f":"IF(E165=\"\",\"\",MONTH(E165)&\"_\"&SUMPRODUCT((MONTH($E$10:E165)=MONTH(E165))*1))","v":""}]
[null,null,null,null,null,null,null,"",null,null,null,{"$f":"IF(E166=\"\",\"\",MONTH(E166)&\"_\"&SUMPRODUCT((MONTH($E$10:E166)=MONTH(E166))*1))","v":""}]
[null,null,null,null,null,null,null,"",null,null,null,{"$f":"IF(E167=\"\",\"\",MONTH(E167)&\"_\"&SUMPRODUCT((MONTH($E$10:E167)=MONTH(E167))*1))","v":""}]
[null,null,null,null,null,null,null,"",null,null,null,{"$f":"IF(E168=\"\",\"\",MONTH(E168)&\"_\"&SUMPRODUCT((MONTH($E$10:E168)=MONTH(E168))*1))","v":""}]
[null,null,null,null,null,null,null,"",null,null,null,{"$f":"IF(E169=\"\",\"\",MONTH(E169)&\"_\"&SUMPRODUCT((MONTH($E$10:E169)=MONTH(E169))*1))","v":""}]
[null,null,null,null,null,null,null,"",null,null,null,{"$f":"IF(E170=\"\",\"\",MONTH(E170)&\"_\"&SUMPRODUCT((MONTH($E$10:E170)=MONTH(E170))*1))","v":""}]
[null,null,null,null,null,null,null,"",null,null,null,{"$f":"IF(E171=\"\",\"\",MONTH(E171)&\"_\"&SUMPRODUCT((MONTH($E$10:E171)=MONTH(E171))*1))","v":""}]
[null,null,null,null,null,null,null,"",null,null,null,{"$f":"IF(E172=\"\",\"\",MONTH(E172)&\"_\"&SUMPRODUCT((MONTH($E$10:E172)=MONTH(E172))*1))","v":""}]
[null,null,null,null,null,null,null,"",null,null,null,{"$f":"IF(E173=\"\",\"\",MONTH(E173)&\"_\"&SUMPRODUCT((MONTH($E$10:E173)=MONTH(E173))*1))","v":""}]
[null,null,null,null,null,null,null,"",null,null,null,{"$f":"IF(E174=\"\",\"\",MONTH(E174)&\"_\"&SUMPRODUCT((MONTH($E$10:E174)=MONTH(E174))*1))","v":""}]
[null,null,null,null,null,null,null,"",null,null,null,{"$f":"IF(E175=\"\",\"\",MONTH(E175)&\"_\"&SUMPRODUCT((MONTH($E$10:E175)=MONTH(E175))*1))","v":""}]
[null,null,null,null,null,null,null,"",null,null,null,{"$f":"IF(E176=\"\",\"\",MONTH(E176)&\"_\"&SUMPRODUCT((MONTH($E$10:E176)=MONTH(E176))*1))","v":""}]
[null,null,null,null,null,null,null,"",null,null,null,{"$f":"IF(E177=\"\",\"\",MONTH(E177)&\"_\"&SUMPRODUCT((MONTH($E$10:E177)=MONTH(E177))*1))","v":""}]
[null,null,null,null,null,null,null,"",null,null,null,{"$f":"IF(E178=\"\",\"\",MONTH(E178)&\"_\"&SUMPRODUCT((MONTH($E$10:E178)=MONTH(E178))*1))","v":""}]
[null,null,null,null,null,null,null,"",null,null,null,{"$f":"IF(E179=\"\",\"\",MONTH(E179)&\"_\"&SUMPRODUCT((MONTH($E$10:E179)=MONTH(E179))*1))","v":""}]
[null,null,null,null,null,null,null,"",null,null,null,{"$f":"IF(E180=\"\",\"\",MONTH(E180)&\"_\"&SUMPRODUCT((MONTH($E$10:E180)=MONTH(E180))*1))","v":""}]
[null,null,null,null,null,null,null,"",null,null,null,{"$f":"IF(E181=\"\",\"\",MONTH(E181)&\"_\"&SUMPRODUCT((MONTH($E$10:E181)=MONTH(E181))*1))","v":""}]
[null,null,null,null,null,null,null,"",null,null,null,{"$f":"IF(E182=\"\",\"\",MONTH(E182)&\"_\"&SUMPRODUCT((MONTH($E$10:E182)=MONTH(E182))*1))","v":""}]
[null,null,null,null,null,null,null,"",null,null,null,{"$f":"IF(E183=\"\",\"\",MONTH(E183)&\"_\"&SUMPRODUCT((MONTH($E$10:E183)=MONTH(E183))*1))","v":""}]
[null,null,null,null,null,null,null,"",null,null,null,{"$f":"IF(E184=\"\",\"\",MONTH(E184)&\"_\"&SUMPRODUCT((MONTH($E$10:E184)=MONTH(E184))*1))","v":""}]
[null,null,null,null,null,null,null,"",null,null,null,{"$f":"IF(E185=\"\",\"\",MONTH(E185)&\"_\"&SUMPRODUCT((MONTH($E$10:E185)=MONTH(E185))*1))","v":""}]
[null,null,null,null,null,null,null,"",null,null,null,{"$f":"IF(E186=\"\",\"\",MONTH(E186)&\"_\"&SUMPRODUCT((MONTH($E$10:E186)=MONTH(E186))*1))","v":""}]
[null,null,null,null,null,null,null,"",null,null,null,{"$f":"IF(E187=\"\",\"\",MONTH(E187)&\"_\"&SUMPRODUCT((MONTH($E$10:E187)=MONTH(E187))*1))","v":""}]
[null,null,null,null,null,null,null,"",null,null,null,{"$f":"IF(E188=\"\",\"\",MONTH(E188)&\"_\"&SUMPRODUCT((MONTH($E$10:E188)=MONTH(E188))*1))","v":""}]
[null,null,null,null,null,null,null,"",null,null,null,{"$f":"IF(E189=\"\",\"\",MONTH(E189)&\"_\"&SUMPRODUCT((MONTH($E$10:E189)=MONTH(E189))*1))","v":""}]
[null,null,null,null,null,null,null,"",null,null,null,{"$f":"IF(E190=\"\",\"\",MONTH(E190)&\"_\"&SUMPRODUCT((MONTH($E$10:E190)=MONTH(E190))*1))","v":""}]
[null,null,null,null,null,null,null,"",null,null,null,{"$f":"IF(E191=\"\",\"\",MONTH(E191)&\"_\"&SUMPRODUCT((MONTH($E$10:E191)=MONTH(E191))*1))","v":""}]
[null,null,null,null,null,null,null,"",null,null,null,{"$f":"IF(E192=\"\",\"\",MONTH(E192)&\"_\"&SUMPRODUCT((MONTH($E$10:E192)=MONTH(E192))*1))","v":""}]
[null,null,null,null,null,null,null,"",null,null,null,{"$f":"IF(E193=\"\",\"\",MONTH(E193)&\"_\"&SUMPRODUCT((MONTH($E$10:E193)=MONTH(E193))*1))","v":""}]
[null,null,null,null,null,null,null,"",null,null,null,{"$f":"IF(E194=\"\",\"\",MONTH(E194)&\"_\"&SUMPRODUCT((MONTH($E$10:E194)=MONTH(E194))*1))","v":""}]
[null,null,null,null,null,null,null,"",null,null,null,{"$f":"IF(E195=\"\",\"\",MONTH(E195)&\"_\"&SUMPRODUCT((MONTH($E$10:E195)=MONTH(E195))*1))","v":""}]
[null,null,null,null,null,null,null,"",null,null,null,{"$f":"IF(E196=\"\",\"\",MONTH(E196)&\"_\"&SUMPRODUCT((MONTH($E$10:E196)=MONTH(E196))*1))","v":""}]
[null,null,null,null,null,null,null,"",null,null,null,{"$f":"IF(E197=\"\",\"\",MONTH(E197)&\"_\"&SUMPRODUCT((MONTH($E$10:E197)=MONTH(E197))*1))","v":""}]
[null,null,null,null,null,null,null,"",null,null,null,{"$f":"IF(E198=\"\",\"\",MONTH(E198)&\"_\"&SUMPRODUCT((MONTH($E$10:E198)=MONTH(E198))*1))","v":""}]
[null,null,null,null,null,null,null,"",null,null,null,{"$f":"IF(E199=\"\",\"\",MONTH(E199)&\"_\"&SUMPRODUCT((MONTH($E$10:E199)=MONTH(E199))*1))","v":""}]
[null,null,null,null,null,null,null,"",null,null,null,{"$f":"IF(E200=\"\",\"\",MONTH(E200)&\"_\"&SUMPRODUCT((MONTH($E$10:E200)=MONTH(E200))*1))","v":""}]
[null,null,null,null,null,null,null,"",null,null,null,{"$f":"IF(E201=\"\",\"\",MONTH(E201)&\"_\"&SUMPRODUCT((MONTH($E$10:E201)=MONTH(E201))*1))","v":""}]
[null,null,null,null,null,null,null,{"$f":"IF(G202<>0,F202/G202/24,\"\")","v":""},null,null,null,{"$f":"IF(E202=\"\",\"\",MONTH(E202)&\"_\"&SUMPRODUCT((MONTH($E$10:E202)=MONTH(E202))*1))","v":""}]
[null,null,null,null,null,null,null,"",null,null,null,{"$f":"IF(E203=\"\",\"\",MONTH(E203)&\"_\"&SUMPRODUCT((MONTH($E$10:E203)=MONTH(E203))*1))","v":""}]
[null,null,null,null,null,null,null,"",null,null,null,{"$f":"IF(E204=\"\",\"\",MONTH(E204)&\"_\"&SUMPRODUCT((MONTH($E$10:E204)=MONTH(E204))*1))","v":""}]
[null,null,null,null,null,null,null,"",null,null,null,{"$f":"IF(E205=\"\",\"\",MONTH(E205)&\"_\"&SUMPRODUCT((MONTH($E$10:E205)=MONTH(E205))*1))","v":""}]
[null,null,null,null,null,null,null,"",null,null,null,{"$f":"IF(E206=\"\",\"\",MONTH(E206)&\"_\"&SUMPRODUCT((MONTH($E$10:E206)=MONTH(E206))*1))","v":""}]
[null,null,null,null,null,null,null,"",null,null,null,{"$f":"IF(E207=\"\",\"\",MONTH(E207)&\"_\"&SUMPRODUCT((MONTH($E$10:E207)=MONTH(E207))*1))","v":""}]
[null,null,null,null,null,null,null,"",null,null,null,{"$f":"IF(E208=\"\",\"\",MONTH(E208)&\"_\"&SUMPRODUCT((MONTH($E$10:E208)=MONTH(E208))*1))","v":""}]
[null,null,null,null,null,null,null,"",null,null,null,{"$f":"IF(E209=\"\",\"\",MONTH(E209)&\"_\"&SUMPRODUCT((MONTH($E$10:E209)=MONTH(E209))*1))","v":""}]
[null,null,null,null,null,null,null,"",null,null,null,{"$f":"IF(E210=\"\",\"\",MONTH(E210)&\"_\"&SUMPRODUCT((MONTH($E$10:E210)=MONTH(E210))*1))","v":""}]
[null,null,null,null,null,null,null,"",null,null,null,{"$f":"IF(E211=\"\",\"\",MONTH(E211)&\"_\"&SUMPRODUCT((MONTH($E$10:E211)=MONTH(E211))*1))","v":""}]
[null,null,null,null,null,null,null,"",null,null,null,{"$f":"IF(E212=\"\",\"\",MONTH(E212)&\"_\"&SUMPRODUCT((MONTH($E$10:E212)=MONTH(E212))*1))","v":""}]
[null,null,null,null,null,null,null,"",null,null,null,{"$f":"IF(E213=\"\",\"\",MONTH(E213)&\"_\"&SUMPRODUCT((MONTH($E$10:E213)=MONTH(E213))*1))","v":""}]
[null,null,null,null,null,null,null,"",null,null,null,{"$f":"IF(E214=\"\",\"\",MONTH(E214)&\"_\"&SUMPRODUCT((MONTH($E$10:E214)=MONTH(E214))*1))","v":""}]
[null,null,null,null,null,null,null,"",null,null,null,{"$f":"IF(E215=\"\",\"\",MONTH(E215)&\"_\"&SUMPRODUCT((MONTH($E$10:E215)=MONTH(E215))*1))","v":""}]
[null,null,null,null,null,null,null,"",null,null,null,{"$f":"IF(E216=\"\",\"\",MONTH(E216)&\"_\"&SUMPRODUCT((MONTH($E$10:E216)=MONTH(E216))*1))","v":""}]
[null,null,null,null,null,null,null,"",null,null,null,{"$f":"IF(E217=\"\",\"\",MONTH(E217)&\"_\"&SUMPRODUCT((MONTH($E$10:E217)=MONTH(E217))*1))","v":""}]
[null,null,null,null,null,null,null,"",null,null,null,{"$f":"IF(E218=\"\",\"\",MONTH(E218)&\"_\"&SUMPRODUCT((MONTH($E$10:E218)=MONTH(E218))*1))","v":""}]
[null,null,null,null,null,null,null,"",null,null,null,{"$f":"IF(E219=\"\",\"\",MONTH(E219)&\"_\"&SUMPRODUCT((MONTH($E$10:E219)=MONTH(E219))*1))","v":""}]
[null,null,null,null,null,null,null,"",null,null,null,{"$f":"IF(E220=\"\",\"\",MONTH(E220)&\"_\"&SUMPRODUCT((MONTH($E$10:E220)=MONTH(E220))*1))","v":""}]
[null,null,null,null,null,null,null,"",null,null,null,{"$f":"IF(E221=\"\",\"\",MONTH(E221)&\"_\"&SUMPRODUCT((MONTH($E$10:E221)=MONTH(E221))*1))","v":""}]
[null,null,null,null,null,null,null,"",null,null,null,{"$f":"IF(E222=\"\",\"\",MONTH(E222)&\"_\"&SUMPRODUCT((MONTH($E$10:E222)=MONTH(E222))*1))","v":""}]
[null,null,null,null,null,null,null,"",null,null,null,{"$f":"IF(E223=\"\",\"\",MONTH(E223)&\"_\"&SUMPRODUCT((MONTH($E$10:E223)=MONTH(E223))*1))","v":""}]
[null,null,null,null,null,null,null,"",null,null,null,{"$f":"IF(E224=\"\",\"\",MONTH(E224)&\"_\"&SUMPRODUCT((MONTH($E$10:E224)=MONTH(E224))*1))","v":""}]
[null,null,null,null,null,null,null,"",null,null,null,{"$f":"IF(E225=\"\",\"\",MONTH(E225)&\"_\"&SUMPRODUCT((MONTH($E$10:E225)=MONTH(E225))*1))","v":""}]
[null,null,null,null,null,null,null,"",null,null,null,{"$f":"IF(E226=\"\",\"\",MONTH(E226)&\"_\"&SUMPRODUCT((MONTH($E$10:E226)=MONTH(E226))*1))","v":""}]
[null,null,null,null,null,null,null,"",null,null,null,{"$f":"IF(E227=\"\",\"\",MONTH(E227)&\"_\"&SUMPRODUCT((MONTH($E$10:E227)=MONTH(E227))*1))","v":""}]
[null,null,null,null,null,null,null,"",null,null,null,{"$f":"IF(E228=\"\",\"\",MONTH(E228)&\"_\"&SUMPRODUCT((MONTH($E$10:E228)=MONTH(E228))*1))","v":""}]
[null,null,null,null,null,null,null,"",null,null,null,{"$f":"IF(E229=\"\",\"\",MONTH(E229)&\"_\"&SUMPRODUCT((MONTH($E$10:E229)=MONTH(E229))*1))","v":""}]
[null,null,null,null,null,null,null,"",null,null,null,{"$f":"IF(E230=\"\",\"\",MONTH(E230)&\"_\"&SUMPRODUCT((MONTH($E$10:E230)=MONTH(E230))*1))","v":""}]
[null,null,null,null,null,null,null,"",null,null,null,{"$f":"IF(E231=\"\",\"\",MONTH(E231)&\"_\"&SUMPRODUCT((MONTH($E$10:E231)=MONTH(E231))*1))","v":""}]
[null,null,null,null,null,null,null,"",null,null,null,{"$f":"IF(E232=\"\",\"\",MONTH(E232)&\"_\"&SUMPRODUCT((MONTH($E$10:E232)=MONTH(E232))*1))","v":""}]
[null,null,null,null,null,null,null,"",null,null,null,{"$f":"IF(E233=\"\",\"\",MONTH(E233)&\"_\"&SUMPRODUCT((MONTH($E$10:E233)=MONTH(E233))*1))","v":""}]
[null,null,null,null,null,null,null,"",null,null,null,{"$f":"IF(E234=\"\",\"\",MONTH(E234)&\"_\"&SUMPRODUCT((MONTH($E$10:E234)=MONTH(E234))*1))","v":""}]
[null,null,null,null,null,null,null,"",null,null,null,{"$f":"IF(E235=\"\",\"\",MONTH(E235)&\"_\"&SUMPRODUCT((MONTH($E$10:E235)=MONTH(E235))*1))","v":""}]
[null,null,null,null,null,null,null,"",null,null,null,{"$f":"IF(E236=\"\",\"\",MONTH(E236)&\"_\"&SUMPRODUCT((MONTH($E$10:E236)=MONTH(E236))*1))","v":""}]
[null,null,null,null,null,null,null,"",null,null,null,{"$f":"IF(E237=\"\",\"\",MONTH(E237)&\"_\"&SUMPRODUCT((MONTH($E$10:E237)=MONTH(E237))*1))","v":""}]
[null,null,null,null,null,null,null,"",null,null,null,{"$f":"IF(E238=\"\",\"\",MONTH(E238)&\"_\"&SUMPRODUCT((MONTH($E$10:E238)=MONTH(E238))*1))","v":""}]
[null,null,null,null,null,null,null,"",null,null,null,{"$f":"IF(E239=\"\",\"\",MONTH(E239)&\"_\"&SUMPRODUCT((MONTH($E$10:E239)=MONTH(E239))*1))","v":""}]
[null,null,null,null,null,null,null,"",null,null,null,{"$f":"IF(E240=\"\",\"\",MONTH(E240)&\"_\"&SUMPRODUCT((MONTH($E$10:E240)=MONTH(E240))*1))","v":""}]
[null,null,null,null,null,null,null,"",null,null,null,{"$f":"IF(E241=\"\",\"\",MONTH(E241)&\"_\"&SUMPRODUCT((MONTH($E$10:E241)=MONTH(E241))*1))","v":""}]
[null,null,null,null,null,null,null,"",null,null,null,{"$f":"IF(E242=\"\",\"\",MONTH(E242)&\"_\"&SUMPRODUCT((MONTH($E$10:E242)=MONTH(E242))*1))","v":""}]
[null,null,null,null,null,null,null,"",null,null,null,{"$f":"IF(E243=\"\",\"\",MONTH(E243)&\"_\"&SUMPRODUCT((MONTH($E$10:E243)=MONTH(E243))*1))","v":""}]
[null,null,null,null,null,null,null,"",null,null,null,{"$f":"IF(E244=\"\",\"\",MONTH(E244)&\"_\"&SUMPRODUCT((MONTH($E$10:E244)=MONTH(E244))*1))","v":""}]
[null,null,null,null,null,null,null,"",null,null,null,{"$f":"IF(E245=\"\",\"\",MONTH(E245)&\"_\"&SUMPRODUCT((MONTH($E$10:E245)=MONTH(E245))*1))","v":""}]
[null,null,null,null,null,null,null,"",null,null,null,{"$f":"IF(E246=\"\",\"\",MONTH(E246)&\"_\"&SUMPRODUCT((MONTH($E$10:E246)=MONTH(E246))*1))","v":""}]
[null,null,null,null,null,null,null,"",null,null,null,{"$f":"IF(E247=\"\",\"\",MONTH(E247)&\"_\"&SUMPRODUCT((MONTH($E$10:E247)=MONTH(E247))*1))","v":""}]
[null,null,null,null,null,null,null,"",null,null,null,{"$f":"IF(E248=\"\",\"\",MONTH(E248)&\"_\"&SUMPRODUCT((MONTH($E$10:E248)=MONTH(E248))*1))","v":""}]
[null,null,null,null,null,null,null,"",null,null,null,{"$f":"IF(E249=\"\",\"\",MONTH(E249)&\"_\"&SUMPRODUCT((MONTH($E$10:E249)=MONTH(E249))*1))","v":""}]
[null,null,null,null,null,null,null,"",null,null,null,{"$f":"IF(E250=\"\",\"\",MONTH(E250)&\"_\"&SUMPRODUCT((MONTH($E$10:E250)=MONTH(E250))*1))","v":""}]
[null,null,null,null,null,null,null,"",null,null,null,{"$f":"IF(E251=\"\",\"\",MONTH(E251)&\"_\"&SUMPRODUCT((MONTH($E$10:E251)=MONTH(E251))*1))","v":""}]
[null,null,null,null,null,null,null,"",null,null,null,{"$f":"IF(E252=\"\",\"\",MONTH(E252)&\"_\"&SUMPRODUCT((MONTH($E$10:E252)=MONTH(E252))*1))","v":""}]
[null,null,null,null,null,null,null,"",null,null,null,{"$f":"IF(E253=\"\",\"\",MONTH(E253)&\"_\"&SUMPRODUCT((MONTH($E$10:E253)=MONTH(E253))*1))","v":""}]
[null,null,null,null,null,null,null,"",null,null,null,{"$f":"IF(E254=\"\",\"\",MONTH(E254)&\"_\"&SUMPRODUCT((MONTH($E$10:E254)=MONTH(E254))*1))","v":""}]
[null,null,null,null,null,null,null,"",null,null,null,{"$f":"IF(E255=\"\",\"\",MONTH(E255)&\"_\"&SUMPRODUCT((MONTH($E$10:E255)=MONTH(E255))*1))","v":""}]
[null,null,null,null,null,null,null,"",null,null,null,{"$f":"IF(E256=\"\",\"\",MONTH(E256)&\"_\"&SUMPRODUCT((MONTH($E$10:E256)=MONTH(E256))*1))","v":""}]
[null,null,null,null,null,null,null,"",null,null,null,{"$f":"IF(E257=\"\",\"\",MONTH(E257)&\"_\"&SUMPRODUCT((MONTH($E$10:E257)=MONTH(E257))*1))","v":""}]
[null,null,null,null,null,null,null,"",null,null,null,{"$f":"IF(E258=\"\",\"\",MONTH(E258)&\"_\"&SUMPRODUCT((MONTH($E$10:E258)=MONTH(E258))*1))","v":""}]
[null,null,null,null,null,null,null,"",null,null,null,{"$f":"IF(E259=\"\",\"\",MONTH(E259)&\"_\"&SUMPRODUCT((MONTH($E$10:E259)=MONTH(E259))*1))","v":""}]
[null,null,null,null,null,null,null,"",null,null,null,{"$f":"IF(E260=\"\",\"\",MONTH(E260)&\"_\"&SUMPRODUCT((MONTH($E$10:E260)=MONTH(E260))*1))","v":""}]
[null,null,null,null,null,null,null,"",null,null,null,{"$f":"IF(E261=\"\",\"\",MONTH(E261)&\"_\"&SUMPRODUCT((MONTH($E$10:E261)=MONTH(E261))*1))","v":""}]
[null,null,null,null,null,null,null,"",null,null,null,{"$f":"IF(E262=\"\",\"\",MONTH(E262)&\"_\"&SUMPRODUCT((MONTH($E$10:E262)=MONTH(E262))*1))","v":""}]
[null,null,null,null,null,null,null,"",null,null,null,{"$f":"IF(E263=\"\",\"\",MONTH(E263)&\"_\"&SUMPRODUCT((MONTH($E$10:E263)=MONTH(E263))*1))","v":""}]
[null,null,null,null,null,null,null,"",null,null,null,{"$f":"IF(E264=\"\",\"\",MONTH(E264)&\"_\"&SUMPRODUCT((MONTH($E$10:E264)=MONTH(E264))*1))","v":""}]
[null,null,null,null,null,null,null,"",null,null,null,{"$f":"IF(E265=\"\",\"\",MONTH(E265)&\"_\"&SUMPRODUCT((MONTH($E$10:E265)=MONTH(E265))*1))","v":""}]
[null,null,null,null,null,null,null,{"$f":"IF(G266<>0,F266/G266/24,\"\")","v":""},null,null,null,{"$f":"IF(E266=\"\",\"\",MONTH(E266)&\"_\"&SUMPRODUCT((MONTH($E$10:E266)=MONTH(E266))*1))","v":""}]
[null,null,null,null,null,null,null,"",null,null,null,{"$f":"IF(E267=\"\",\"\",MONTH(E267)&\"_\"&SUMPRODUCT((MONTH($E$10:E267)=MONTH(E267))*1))","v":""}]
[null,null,null,null,null,null,null,"",null,null,null,{"$f":"IF(E268=\"\",\"\",MONTH(E268)&\"_\"&SUMPRODUCT((MONTH($E$10:E268)=MONTH(E268))*1))","v":""}]
[null,null,null,null,null,null,null,"",null,null,null,{"$f":"IF(E269=\"\",\"\",MONTH(E269)&\"_\"&SUMPRODUCT((MONTH($E$10:E269)=MONTH(E269))*1))","v":""}]
[null,null,null,null,null,null,null,"",null,null,null,{"$f":"IF(E270=\"\",\"\",MONTH(E270)&\"_\"&SUMPRODUCT((MONTH($E$10:E270)=MONTH(E270))*1))","v":""}]
[null,null,null,null,null,null,null,"",null,null,null,{"$f":"IF(E271=\"\",\"\",MONTH(E271)&\"_\"&SUMPRODUCT((MONTH($E$10:E271)=MONTH(E271))*1))","v":""}]
[null,null,null,null,null,null,null,"",null,null,null,{"$f":"IF(E272=\"\",\"\",MONTH(E272)&\"_\"&SUMPRODUCT((MONTH($E$10:E272)=MONTH(E272))*1))","v":""}]
[null,null,null,null,null,null,null,"",null,null,null,{"$f":"IF(E273=\"\",\"\",MONTH(E273)&\"_\"&SUMPRODUCT((MONTH($E$10:E273)=MONTH(E273))*1))","v":""}]
[null,null,null,null,null,null,null,"",null,null,null,{"$f":"IF(E274=\"\",\"\",MONTH(E274)&\"_\"&SUMPRODUCT((MONTH($E$10:E274)=MONTH(E274))*1))","v":""}]
[null,null,null,null,null,null,null,"",null,null,null,{"$f":"IF(E275=\"\",\"\",MONTH(E275)&\"_\"&SUMPRODUCT((MONTH($E$10:E275)=MONTH(E275))*1))","v":""}]
[null,null,null,null,null,null,null,"",null,null,null,{"$f":"IF(E276=\"\",\"\",MONTH(E276)&\"_\"&SUMPRODUCT((MONTH($E$10:E276)=MONTH(E276))*1))","v":""}]
[null,null,null,null,null,null,null,"",null,null,null,{"$f":"IF(E277=\"\",\"\",MONTH(E277)&\"_\"&SUMPRODUCT((MONTH($E$10:E277)=MONTH(E277))*1))","v":""}]
[null,null,null,null,null,null,null,"",null,null,null,{"$f":"IF(E278=\"\",\"\",MONTH(E278)&\"_\"&SUMPRODUCT((MONTH($E$10:E278)=MONTH(E278))*1))","v":""}]
[null,null,null,null,null,null,null,"",null,null,null,{"$f":"IF(E279=\"\",\"\",MONTH(E279)&\"_\"&SUMPRODUCT((MONTH($E$10:E279)=MONTH(E279))*1))","v":""}]
[null,null,null,null,null,null,null,"",null,null,null,{"$f":"IF(E280=\"\",\"\",MONTH(E280)&\"_\"&SUMPRODUCT((MONTH($E$10:E280)=MONTH(E280))*1))","v":""}]
[null,null,null,null,null,null,null,"",null,null,null,{"$f":"IF(E281=\"\",\"\",MONTH(E281)&\"_\"&SUMPRODUCT((MONTH($E$10:E281)=MONTH(E281))*1))","v":""}]
[null,null,null,null,null,null,null,"",null,null,null,{"$f":"IF(E282=\"\",\"\",MONTH(E282)&\"_\"&SUMPRODUCT((MONTH($E$10:E282)=MONTH(E282))*1))","v":""}]
[null,null,null,null,null,null,null,"",null,null,null,{"$f":"IF(E283=\"\",\"\",MONTH(E283)&\"_\"&SUMPRODUCT((MONTH($E$10:E283)=MONTH(E283))*1))","v":""}]
[null,null,null,null,null,null,null,"",null,null,null,{"$f":"IF(E284=\"\",\"\",MONTH(E284)&\"_\"&SUMPRODUCT((MONTH($E$10:E284)=MONTH(E284))*1))","v":""}]
[null,null,null,null,null,null,null,"",null,null,null,{"$f":"IF(E285=\"\",\"\",MONTH(E285)&\"_\"&SUMPRODUCT((MONTH($E$10:E285)=MONTH(E285))*1))","v":""}]
[null,null,null,null,null,null,null,"",null,null,null,{"$f":"IF(E286=\"\",\"\",MONTH(E286)&\"_\"&SUMPRODUCT((MONTH($E$10:E286)=MONTH(E286))*1))","v":""}]
[null,null,null,null,null,null,null,"",null,null,null,{"$f":"IF(E287=\"\",\"\",MONTH(E287)&\"_\"&SUMPRODUCT((MONTH($E$10:E287)=MONTH(E287))*1))","v":""}]
[null,null,null,null,null,null,null,"",null,null,null,{"$f":"IF(E288=\"\",\"\",MONTH(E288)&\"_\"&SUMPRODUCT((MONTH($E$10:E288)=MONTH(E288))*1))","v":""}]
[null,null,null,null,null,null,null,"",null,null,null,{"$f":"IF(E289=\"\",\"\",MONTH(E289)&\"_\"&SUMPRODUCT((MONTH($E$10:E289)=MONTH(E289))*1))","v":""}]
[null,null,null,null,null,null,null,"",null,null,null,{"$f":"IF(E290=\"\",\"\",MONTH(E290)&\"_\"&SUMPRODUCT((MONTH($E$10:E290)=MONTH(E290))*1))","v":""}]
[null,null,null,null,null,null,null,"",null,null,null,{"$f":"IF(E291=\"\",\"\",MONTH(E291)&\"_\"&SUMPRODUCT((MONTH($E$10:E291)=MONTH(E291))*1))","v":""}]
[null,null,null,null,null,null,null,"",null,null,null,{"$f":"IF(E292=\"\",\"\",MONTH(E292)&\"_\"&SUMPRODUCT((MONTH($E$10:E292)=MONTH(E292))*1))","v":""}]
[null,null,null,null,null,null,null,"",null,null,null,{"$f":"IF(E293=\"\",\"\",MONTH(E293)&\"_\"&SUMPRODUCT((MONTH($E$10:E293)=MONTH(E293))*1))","v":""}]
[null,null,null,null,null,null,null,"",null,null,null,{"$f":"IF(E294=\"\",\"\",MONTH(E294)&\"_\"&SUMPRODUCT((MONTH($E$10:E294)=MONTH(E294))*1))","v":""}]
[null,null,null,null,null,null,null,"",null,null,null,{"$f":"IF(E295=\"\",\"\",MONTH(E295)&\"_\"&SUMPRODUCT((MONTH($E$10:E295)=MONTH(E295))*1))","v":""}]
[null,null,null,null,null,null,null,"",null,null,null,{"$f":"IF(E296=\"\",\"\",MONTH(E296)&\"_\"&SUMPRODUCT((MONTH($E$10:E296)=MONTH(E296))*1))","v":""}]
[null,null,null,null,null,null,null,"",null,null,null,{"$f":"IF(E297=\"\",\"\",MONTH(E297)&\"_\"&SUMPRODUCT((MONTH($E$10:E297)=MONTH(E297))*1))","v":""}]
[null,null,null,null,null,null,null,"",null,null,null,{"$f":"IF(E298=\"\",\"\",MONTH(E298)&\"_\"&SUMPRODUCT((MONTH($E$10:E298)=MONTH(E298))*1))","v":""}]
[null,null,null,null,null,null,null,"",null,null,null,{"$f":"IF(E299=\"\",\"\",MONTH(E299)&\"_\"&SUMPRODUCT((MONTH($E$10:E299)=MONTH(E299))*1))","v":""}]
[null,null,null,null,null,null,null,"",null,null,null,{"$f":"IF(E300=\"\",\"\",MONTH(E300)&\"_\"&SUMPRODUCT((MONTH($E$10:E300)=MONTH(E300))*1))","v":""}]
[null,null,null,null,null,null,null,{"$f":"IF(G301<>0,F301/G301/24,\"\")","v":""},null,null,null,{"$f":"IF(E301=\"\",\"\",MONTH(E301)&\"_\"&SUMPRODUCT((MONTH($E$10:E301)=MONTH(E301))*1))","v":""}]
[null,null,null,null,null,null,null,"",null,null,null,{"$f":"IF(E302=\"\",\"\",MONTH(E302)&\"_\"&SUMPRODUCT((MONTH($E$10:E302)=MONTH(E302))*1))","v":""}]
[null,null,null,null,null,null,null,"",null,null,null,{"$f":"IF(E303=\"\",\"\",MONTH(E303)&\"_\"&SUMPRODUCT((MONTH($E$10:E303)=MONTH(E303))*1))","v":""}]
[null,null,null,null,null,null,null,"",null,null,null,{"$f":"IF(E304=\"\",\"\",MONTH(E304)&\"_\"&SUMPRODUCT((MONTH($E$10:E304)=MONTH(E304))*1))","v":""}]
[null,null,null,null,null,null,null,"",null,null,null,{"$f":"IF(E305=\"\",\"\",MONTH(E305)&\"_\"&SUMPRODUCT((MONTH($E$10:E305)=MONTH(E305))*1))","v":""}]
[null,null,null,null,null,null,null,"",null,null,null,{"$f":"IF(E306=\"\",\"\",MONTH(E306)&\"_\"&SUMPRODUCT((MONTH($E$10:E306)=MONTH(E306))*1))","v":""}]
[null,null,null,null,null,null,null,"",null,null,null,{"$f":"IF(E307=\"\",\"\",MONTH(E307)&\"_\"&SUMPRODUCT((MONTH($E$10:E307)=MONTH(E307))*1))","v":""}]
[null,null,null,null,null,null,null,"",null,null,null,{"$f":"IF(E308=\"\",\"\",MONTH(E308)&\"_\"&SUMPRODUCT((MONTH($E$10:E308)=MONTH(E308))*1))","v":""}]
[null,null,null,null,null,null,null,"",null,null,null,{"$f":"IF(E309=\"\",\"\",MONTH(E309)&\"_\"&SUMPRODUCT((MONTH($E$10:E309)=MONTH(E309))*1))","v":""}]
[null,null,null,null,null,null,null,"",null,null,null,{"$f":"IF(E310=\"\",\"\",MONTH(E310)&\"_\"&SUMPRODUCT((MONTH($E$10:E310)=MONTH(E310))*1))","v":""}]
[null,null,null,null,null,null,null,"",null,null,null,{"$f":"IF(E311=\"\",\"\",MONTH(E311)&\"_\"&SUMPRODUCT((MONTH($E$10:E311)=MONTH(E311))*1))","v":""}]
[null,null,null,null,null,null,null,"",null,null,null,{"$f":"IF(E312=\"\",\"\",MONTH(E312)&\"_\"&SUMPRODUCT((MONTH($E$10:E312)=MONTH(E312))*1))","v":""}]
[null,null,null,null,null,null,null,"",null,null,null,{"$f":"IF(E313=\"\",\"\",MONTH(E313)&\"_\"&SUMPRODUCT((MONTH($E$10:E313)=MONTH(E313))*1))","v":""}]
[null,null,null,null,null,null,null,"",null,null,null,{"$f":"IF(E314=\"\",\"\",MONTH(E314)&\"_\"&SUMPRODUCT((MONTH($E$10:E314)=MONTH(E314))*1))","v":""}]
[null,null,null,null,null,null,null,"",null,null,null,{"$f":"IF(E315=\"\",\"\",MONTH(E315)&\"_\"&SUMPRODUCT((MONTH($E$10:E315)=MONTH(E315))*1))","v":""}]
[null,null,null,null,null,null,null,"",null,null,null,{"$f":"IF(E316=\"\",\"\",MONTH(E316)&\"_\"&SUMPRODUCT((MONTH($E$10:E316)=MONTH(E316))*1))","v":""}]
[null,null,null,null,null,null,null,"",null,null,null,{"$f":"IF(E317=\"\",\"\",MONTH(E317)&\"_\"&SUMPRODUCT((MONTH($E$10:E317)=MONTH(E317))*1))","v":""}]
[null,null,null,null,null,null,null,"",null,null,null,{"$f":"IF(E318=\"\",\"\",MONTH(E318)&\"_\"&SUMPRODUCT((MONTH($E$10:E318)=MONTH(E318))*1))","v":""}]
[null,null,null,null,null,null,null,"",null,null,null,{"$f":"IF(E319=\"\",\"\",MONTH(E319)&\"_\"&SUMPRODUCT((MONTH($E$10:E319)=MONTH(E319))*1))","v":""}]
[null,null,null,null,null,null,null,"",null,null,null,{"$f":"IF(E320=\"\",\"\",MONTH(E320)&\"_\"&SUMPRODUCT((MONTH($E$10:E320)=MONTH(E320))*1))","v":""}]
[null,null,null,null,null,null,null,"",null,null,null,{"$f":"IF(E321=\"\",\"\",MONTH(E321)&\"_\"&SUMPRODUCT((MONTH($E$10:E321)=MONTH(E321))*1))","v":""}]
[null,null,null,null,null,null,null,"",null,null,null,{"$f":"IF(E322=\"\",\"\",MONTH(E322)&\"_\"&SUMPRODUCT((MONTH($E$10:E322)=MONTH(E322))*1))","v":""}]
[null,null,null,null,null,null,null,"",null,null,null,{"$f":"IF(E323=\"\",\"\",MONTH(E323)&\"_\"&SUMPRODUCT((MONTH($E$10:E323)=MONTH(E323))*1))","v":""}]
[null,null,null,null,null,null,null,"",null,null,null,{"$f":"IF(E324=\"\",\"\",MONTH(E324)&\"_\"&SUMPRODUCT((MONTH($E$10:E324)=MONTH(E324))*1))","v":""}]
[null,null,null,null,null,null,null,"",null,null,null,{"$f":"IF(E325=\"\",\"\",MONTH(E325)&\"_\"&SUMPRODUCT((MONTH($E$10:E325)=MONTH(E325))*1))","v":""}]
[null,null,null,null,null,null,null,"",null,null,null,{"$f":"IF(E326=\"\",\"\",MONTH(E326)&\"_\"&SUMPRODUCT((MONTH($E$10:E326)=MONTH(E326))*1))","v":""}]
[null,null,null,null,null,null,null,"",null,null,null,{"$f":"IF(E327=\"\",\"\",MONTH(E327)&\"_\"&SUMPRODUCT((MONTH($E$10:E327)=MONTH(E327))*1))","v":""}]
[null,null,null,null,null,null,null,"",null,null,null,{"$f":"IF(E328=\"\",\"\",MONTH(E328)&\"_\"&SUMPRODUCT((MONTH($E$10:E328)=MONTH(E328))*1))","v":""}]
[null,null,null,null,null,null,null,"",null,null,null,{"$f":"IF(E329=\"\",\"\",MONTH(E329)&\"_\"&SUMPRODUCT((MONTH($E$10:E329)=MONTH(E329))*1))","v":""}]
[null,null,null,null,null,null,null,"",null,null,null,{"$f":"IF(E330=\"\",\"\",MONTH(E330)&\"_\"&SUMPRODUCT((MONTH($E$10:E330)=MONTH(E330))*1))","v":""}]
[null,null,null,null,null,null,null,"",null,null,null,{"$f":"IF(E331=\"\",\"\",MONTH(E331)&\"_\"&SUMPRODUCT((MONTH($E$10:E331)=MONTH(E331))*1))","v":""}]
[null,null,null,null,null,null,null,"",null,null,null,{"$f":"IF(E332=\"\",\"\",MONTH(E332)&\"_\"&SUMPRODUCT((MONTH($E$10:E332)=MONTH(E332))*1))","v":""}]
[null,null,null,null,null,null,null,"",null,null,null,{"$f":"IF(E333=\"\",\"\",MONTH(E333)&\"_\"&SUMPRODUCT((MONTH($E$10:E333)=MONTH(E333))*1))","v":""}]
[null,null,null,null,null,null,null,"",null,null,null,{"$f":"IF(E334=\"\",\"\",MONTH(E334)&\"_\"&SUMPRODUCT((MONTH($E$10:E334)=MONTH(E334))*1))","v":""}]
[null,null,null,null,null,null,null,"",null,null,null,{"$f":"IF(E335=\"\",\"\",MONTH(E335)&\"_\"&SUMPRODUCT((MONTH($E$10:E335)=MONTH(E335))*1))","v":""}]
[null,null,null,null,null,null,null,"",null,null,null,{"$f":"IF(E336=\"\",\"\",MONTH(E336)&\"_\"&SUMPRODUCT((MONTH($E$10:E336)=MONTH(E336))*1))","v":""}]
[null,null,null,null,null,null,null,null,null,null,null,{"$f":"IF(E337=\"\",\"\",MONTH(E337)&\"_\"&SUMPRODUCT((MONTH($E$10:E337)=MONTH(E337))*1))","v":""}]
[null,null,null,null,null,null,null,null,null,null,null,{"$f":"IF(E338=\"\",\"\",MONTH(E338)&\"_\"&SUMPRODUCT((MONTH($E$10:E338)=MONTH(E338))*1))","v":""}]
[null,null,null,null,null,null,null,null,null,null,null,{"$f":"IF(E339=\"\",\"\",MONTH(E339)&\"_\"&SUMPRODUCT((MONTH($E$10:E339)=MONTH(E339))*1))","v":""}]
[null,null,null,null,null,null,null,null,null,null,null,{"$f":"IF(E340=\"\",\"\",MONTH(E340)&\"_\"&SUMPRODUCT((MONTH($E$10:E340)=MONTH(E340))*1))","v":""}]
[null,null,null,null,null,null,null,null,null,null,null,{"$f":"IF(E341=\"\",\"\",MONTH(E341)&\"_\"&SUMPRODUCT((MONTH($E$10:E341)=MONTH(E341))*1))","v":""}]
[null,null,null,null,null,null,null,null,null,null,null,{"$f":"IF(E342=\"\",\"\",MONTH(E342)&\"_\"&SUMPRODUCT((MONTH($E$10:E342)=MONTH(E342))*1))","v":""}]
[null,null,null,null,null,null,null,null,null,null,null,{"$f":"IF(E343=\"\",\"\",MONTH(E343)&\"_\"&SUMPRODUCT((MONTH($E$10:E343)=MONTH(E343))*1))","v":""}]
[null,null,null,null,null,null,null,null,null,null,null,{"$f":"IF(E344=\"\",\"\",MONTH(E344)&\"_\"&SUMPRODUCT((MONTH($E$10:E344)=MONTH(E344))*1))","v":""}]
[null,null,null,null,null,null,null,null,null,null,null,{"$f":"IF(E345=\"\",\"\",MONTH(E345)&\"_\"&SUMPRODUCT((MONTH($E$10:E345)=MONTH(E345))*1))","v":""}]
[null,null,null,null,null,null,null,null,null,null,null,{"$f":"IF(E346=\"\",\"\",MONTH(E346)&\"_\"&SUMPRODUCT((MONTH($E$10:E346)=MONTH(E346))*1))","v":""}]
[null,null,null,null,null,null,null,null,null,null,null,{"$f":"IF(E347=\"\",\"\",MONTH(E347)&\"_\"&SUMPRODUCT((MONTH($E$10:E347)=MONTH(E347))*1))","v":""}]
[null,null,null,null,null,null,null,null,null,null,null,{"$f":"IF(E348=\"\",\"\",MONTH(E348)&\"_\"&SUMPRODUCT((MONTH($E$10:E348)=MONTH(E348))*1))","v":""}]
[null,null,null,null,null,null,null,null,null,null,null,{"$f":"IF(E349=\"\",\"\",MONTH(E349)&\"_\"&SUMPRODUCT((MONTH($E$10:E349)=MONTH(E349))*1))","v":""}]
[null,null,null,null,null,null,null,null,null,null,null,{"$f":"IF(E350=\"\",\"\",MONTH(E350)&\"_\"&SUMPRODUCT((MONTH($E$10:E350)=MONTH(E350))*1))","v":""}]

{"sheet":"Mensuel","index":1,"n_rows":150,"n_cols":8,"rows_kept":150,"cut":false,"hidden":false,"merged":[]}
[{"$f":"CHOOSE(B1,\"Janvier\",\"Février\",\"Mars\",\"Avril\",\"Mai\",\"Juin\",\"Juillet\",\"Aout\",\"Septembre\",\"Octobre\",\"Novembre\",\"Décembre\")","v":"Mars"},3,"entrer en B1 le numéro du mois cherché"]
[]
["Les cellules fusionnées de la feuille 2015 à partir de la colonne H ont été remplacées par une seulle colonne élargie (éviter les erreurs Excel)"]
["le système se sert du codage en colonne L de la feuille 2015 pour détecter le mois"]
["Pouer changer de :ois, entrer en B1 le N° du mois choisi"]
["il est aussi possible de créer 12 geuilles,en copiant celle-ci et en plaçant en b1 chaque numéro de mois"]
[]
[]
["Club","Ext","Date sortie","Km","Temps","Moyenne","Dénivelé","A n n o t a t i o n s"]
[{"$f":"IFERROR(INDEX('2015'!$C$10:$J$1000,MATCH($B$1&\"_\"&ROW()-9,'2015'!$L$10:$L$1000,0),1),\"\")","v":0},{"$f":"IFERROR(INDEX('2015'!$C$10:$J$1000,MATCH($B$1&\"_\"&ROW()-9,'2015'!$L$10:$L$1000,0),2),\"\")","v":0},{"$f":"IFERROR(INDEX('2015'!$C$10:$J$1000,MATCH($B$1&\"_\"&ROW()-9,'2015'!$L$10:$L$1000,0),3),\"\")","v":"2015-03-03"},{"$f":"IFERROR(INDEX('2015'!$C$10:$J$1000,MATCH($B$1&\"_\"&ROW()-9,'2015'!$L$10:$L$1000,0),4),\"\")","v":85},{"$f":"IFERROR(INDEX('2015'!$C$10:$J$1000,MATCH($B$1&\"_\"&ROW()-9,'2015'!$L$10:$L$1000,0),5),\"\")","v":9.3333333333333338E-2},{"$f":"IFERROR(ROUND(INDEX('2015'!$C$10:$J$1000,MATCH($B$1&\"_\"&ROW()-9,'2015'!$L$10:$L$1000,0),6),2),\"\")","v":37.950000000000003},{"$f":"IFERROR(INDEX('2015'!$C$10:$J$1000,MATCH($B$1&\"_\"&ROW()-9,'2015'!$L$10:$L$1000,0),7),\"\")","v":500},{"$f":"IFERROR(INDEX('2015'!$C$10:$J$1000,MATCH($B$1&\"_\"&ROW()-9,'2015'!$L$10:$L$1000,0),8),\"\")","v":"Ptite baisse de régime vers le 66ème. 3ème derrière Bernard et Alain - Un peu de vent latéral sur le plateau des roches."}]
[{"$f":"IFERROR(INDEX('2015'!$C$10:$J$1000,MATCH($B$1&\"_\"&ROW()-9,'2015'!$L$10:$L$1000,0),1),\"\")","v":0},{"$f":"IFERROR(INDEX('2015'!$C$10:$J$1000,MATCH($B$1&\"_\"&ROW()-9,'2015'!$L$10:$L$1000,0),2),\"\")","v":0},{"$f":"IFERROR(INDEX('2015'!$C$10:$J$1000,MATCH($B$1&\"_\"&ROW()-9,'2015'!$L$10:$L$1000,0),3),\"\")","v":"2015-03-04"},{"$f":"IFERROR(INDEX('2015'!$C$10:$J$1000,MATCH($B$1&\"_\"&ROW()-9,'2015'!$L$10:$L$1000,0),4),\"\")","v":40},{"$f":"IFERROR(INDEX('2015'!$C$10:$J$1000,MATCH($B$1&\"_\"&ROW()-9,'2015'!$L$10:$L$1000,0),5),\"\")","v":6.25E-2},{"$f":"IFERROR(ROUND(INDEX('2015'!$C$10:$J$1000,MATCH($B$1&\"_\"&ROW()-9,'2015'!$L$10:$L$1000,0),6),2),\"\")","v":26.67},{"$f":"IFERROR(INDEX('2015'!$C$10:$J$1000,MATCH($B$1&\"_\"&ROW()-9,'2015'!$L$10:$L$1000,0),7),\"\")","v":0},{"$f":"IFERROR(INDEX('2015'!$C$10:$J$1000,MATCH($B$1&\"_\"&ROW()-9,'2015'!$L$10:$L$1000,0),8),\"\")","v":"Sortie tranquille le long de la Meuse - Beau temps"}]
[{"$f":"IFERROR(INDEX('2015'!$C$10:$J$1000,MATCH($B$1&\"_\"&ROW()-9,'2015'!$L$10:$L$1000,0),1),\"\")","v":0},{"$f":"IFERROR(INDEX('2015'!$C$10:$J$1000,MATCH($B$1&\"_\"&ROW()-9,'2015'!$L$10:$L$1000,0),2),\"\")","v":0},{"$f":"IFERROR(INDEX('2015'!$C$10:$J$1000,MATCH($B$1&\"_\"&ROW()-9,'2015'!$L$10:$L$1000,0),3),\"\")","v":"2015-03-07"},{"$f":"IFERROR(INDEX('2015'!$C$10:$J$1000,MATCH($B$1&\"_\"&ROW()-9,'2015'!$L$10:$L$1000,0),4),\"\")","v":50},{"$f":"IFERROR(INDEX('2015'!$C$10:$J$1000,MATCH($B$1&\"_\"&ROW()-9,'2015'!$L$10:$L$1000,0),5),\"\")","v":5.9027777777777783E-2},{"$f":"IFERROR(ROUND(INDEX('2015'!$C$10:$J$1000,MATCH($B$1&\"_\"&ROW()-9,'2015'!$L$10:$L$1000,0),6),2),\"\")","v":35.29},{"$f":"IFERROR(INDEX('2015'!$C$10:$J$1000,MATCH($B$1&\"_\"&ROW()-9,'2015'!$L$10:$L$1000,0),7),\"\")","v":0},{"$f":"IFERROR(INDEX('2015'!$C$10:$J$1000,MATCH($B$1&\"_\"&ROW()-9,'2015'!$L$10:$L$1000,0),8),\"\")","v":"Grisou et frais"}]
[{"$f":"IFERROR(INDEX('2015'!$C$10:$J$1000,MATCH($B$1&\"_\"&ROW()-9,'2015'!$L$10:$L$1000,0),1),\"\")","v":""},{"$f":"IFERROR(INDEX('2015'!$C$10:$J$1000,MATCH($B$1&\"_\"&ROW()-9,'2015'!$L$10:$L$1000,0),2),\"\")","v":""},{"$f":"IFERROR(INDEX('2015'!$C$10:$J$1000,MATCH($B$1&\"_\"&ROW()-9,'2015'!$L$10:$L$1000,0),3),\"\")","v":""},{"$f":"IFERROR(INDEX('2015'!$C$10:$J$1000,MATCH($B$1&\"_\"&ROW()-9,'2015'!$L$10:$L$1000,0),4),\"\")","v":""},{"$f":"IFERROR(INDEX('2015'!$C$10:$J$1000,MATCH($B$1&\"_\"&ROW()-9,'2015'!$L$10:$L$1000,0),5),\"\")","v":""},{"$f":"IFERROR(ROUND(INDEX('2015'!$C$10:$J$1000,MATCH($B$1&\"_\"&ROW()-9,'2015'!$L$10:$L$1000,0),6),2),\"\")","v":""},{"$f":"IFERROR(INDEX('2015'!$C$10:$J$1000,MATCH($B$1&\"_\"&ROW()-9,'2015'!$L$10:$L$1000,0),7),\"\")","v":""},{"$f":"IFERROR(INDEX('2015'!$C$10:$J$1000,MATCH($B$1&\"_\"&ROW()-9,'2015'!$L$10:$L$1000,0),8),\"\")","v":""}]
[{"$f":"IFERROR(INDEX('2015'!$C$10:$J$1000,MATCH($B$1&\"_\"&ROW()-9,'2015'!$L$10:$L$1000,0),1),\"\")","v":""},{"$f":"IFERROR(INDEX('2015'!$C$10:$J$1000,MATCH($B$1&\"_\"&ROW()-9,'2015'!$L$10:$L$1000,0),2),\"\")","v":""},{"$f":"IFERROR(INDEX('2015'!$C$10:$J$1000,MATCH($B$1&\"_\"&ROW()-9,'2015'!$L$10:$L$1000,0),3),\"\")","v":""},{"$f":"IFERROR(INDEX('2015'!$C$10:$J$1000,MATCH($B$1&\"_\"&ROW()-9,'2015'!$L$10:$L$1000,0),4),\"\")","v":""},{"$f":"IFERROR(INDEX('2015'!$C$10:$J$1000,MATCH($B$1&\"_\"&ROW()-9,'2015'!$L$10:$L$1000,0),5),\"\")","v":""},{"$f":"IFERROR(ROUND(INDEX('2015'!$C$10:$J$1000,MATCH($B$1&\"_\"&ROW()-9,'2015'!$L$10:$L$1000,0),6),2),\"\")","v":""},{"$f":"IFERROR(INDEX('2015'!$C$10:$J$1000,MATCH($B$1&\"_\"&ROW()-9,'2015'!$L$10:$L$1000,0),7),\"\")","v":""},{"$f":"IFERROR(INDEX('2015'!$C$10:$J$1000,MATCH($B$1&\"_\"&ROW()-9,'2015'!$L$10:$L$1000,0),8),\"\")","v":""}]
[{"$f":"IFERROR(INDEX('2015'!$C$10:$J$1000,MATCH($B$1&\"_\"&ROW()-9,'2015'!$L$10:$L$1000,0),1),\"\")","v":""},{"$f":"IFERROR(INDEX('2015'!$C$10:$J$1000,MATCH($B$1&\"_\"&ROW()-9,'2015'!$L$10:$L$1000,0),2),\"\")","v":""},{"$f":"IFERROR(INDEX('2015'!$C$10:$J$1000,MATCH($B$1&\"_\"&ROW()-9,'2015'!$L$10:$L$1000,0),3),\"\")","v":""},{"$f":"IFERROR(INDEX('2015'!$C$10:$J$1000,MATCH($B$1&\"_\"&ROW()-9,'2015'!$L$10:$L$1000,0),4),\"\")","v":""},{"$f":"IFERROR(INDEX('2015'!$C$10:$J$1000,MATCH($B$1&\"_\"&ROW()-9,'2015'!$L$10:$L$1000,0),5),\"\")","v":""},{"$f":"IFERROR(ROUND(INDEX('2015'!$C$10:$J$1000,MATCH($B$1&\"_\"&ROW()-9,'2015'!$L$10:$L$1000,0),6),2),\"\")","v":""},{"$f":"IFERROR(INDEX('2015'!$C$10:$J$1000,MATCH($B$1&\"_\"&ROW()-9,'2015'!$L$10:$L$1000,0),7),\"\")","v":""},{"$f":"IFERROR(INDEX('2015'!$C$10:$J$1000,MATCH($B$1&\"_\"&ROW()-9,'2015'!$L$10:$L$1000,0),8),\"\")","v":""}]
[{"$f":"IFERROR(INDEX('2015'!$C$10:$J$1000,MATCH($B$1&\"_\"&ROW()-9,'2015'!$L$10:$L$1000,0),1),\"\")","v":""},{"$f":"IFERROR(INDEX('2015'!$C$10:$J$1000,MATCH($B$1&\"_\"&ROW()-9,'2015'!$L$10:$L$1000,0),2),\"\")","v":""},{"$f":"IFERROR(INDEX('2015'!$C$10:$J$1000,MATCH($B$1&\"_\"&ROW()-9,'2015'!$L$10:$L$1000,0),3),\"\")","v":""},{"$f":"IFERROR(INDEX('2015'!$C$10:$J$1000,MATCH($B$1&\"_\"&ROW()-9,'2015'!$L$10:$L$1000,0),4),\"\")","v":""},{"$f":"IFERROR(INDEX('2015'!$C$10:$J$1000,MATCH($B$1&\"_\"&ROW()-9,'2015'!$L$10:$L$1000,0),5),\"\")","v":""},{"$f":"IFERROR(ROUND(INDEX('2015'!$C$10:$J$1000,MATCH($B$1&\"_\"&ROW()-9,'2015'!$L$10:$L$1000,0),6),2),\"\")","v":""},{"$f":"IFERROR(INDEX('2015'!$C$10:$J$1000,MATCH($B$1&\"_\"&ROW()-9,'2015'!$L$10:$L$1000,0),7),\"\")","v":""},{"$f":"IFERROR(INDEX('2015'!$C$10:$J$1000,MATCH($B$1&\"_\"&ROW()-9,'2015'!$L$10:$L$1000,0),8),\"\")","v":""}]
[{"$f":"IFERROR(INDEX('2015'!$C$10:$J$1000,MATCH($B$1&\"_\"&ROW()-9,'2015'!$L$10:$L$1000,0),1),\"\")","v":""},{"$f":"IFERROR(INDEX('2015'!$C$10:$J$1000,MATCH($B$1&\"_\"&ROW()-9,'2015'!$L$10:$L$1000,0),2),\"\")","v":""},{"$f":"IFERROR(INDEX('2015'!$C$10:$J$1000,MATCH($B$1&\"_\"&ROW()-9,'2015'!$L$10:$L$1000,0),3),\"\")","v":""},{"$f":"IFERROR(INDEX('2015'!$C$10:$J$1000,MATCH($B$1&\"_\"&ROW()-9,'2015'!$L$10:$L$1000,0),4),\"\")","v":""},{"$f":"IFERROR(INDEX('2015'!$C$10:$J$1000,MATCH($B$1&\"_\"&ROW()-9,'2015'!$L$10:$L$1000,0),5),\"\")","v":""},{"$f":"IFERROR(ROUND(INDEX('2015'!$C$10:$J$1000,MATCH($B$1&\"_\"&ROW()-9,'2015'!$L$10:$L$1000,0),6),2),\"\")","v":""},{"$f":"IFERROR(INDEX('2015'!$C$10:$J$1000,MATCH($B$1&\"_\"&ROW()-9,'2015'!$L$10:$L$1000,0),7),\"\")","v":""},{"$f":"IFERROR(INDEX('2015'!$C$10:$J$1000,MATCH($B$1&\"_\"&ROW()-9,'2015'!$L$10:$L$1000,0),8),\"\")","v":""}]
[{"$f":"IFERROR(INDEX('2015'!$C$10:$J$1000,MATCH($B$1&\"_\"&ROW()-9,'2015'!$L$10:$L$1000,0),1),\"\")","v":""},{"$f":"IFERROR(INDEX('2015'!$C$10:$J$1000,MATCH($B$1&\"_\"&ROW()-9,'2015'!$L$10:$L$1000,0),2),\"\")","v":""},{"$f":"IFERROR(INDEX('2015'!$C$10:$J$1000,MATCH($B$1&\"_\"&ROW()-9,'2015'!$L$10:$L$1000,0),3),\"\")","v":""},{"$f":"IFERROR(INDEX('2015'!$C$10:$J$1000,MATCH($B$1&\"_\"&ROW()-9,'2015'!$L$10:$L$1000,0),4),\"\")","v":""},{"$f":"IFERROR(INDEX('2015'!$C$10:$J$1000,MATCH($B$1&\"_\"&ROW()-9,'2015'!$L$10:$L$1000,0),5),\"\")","v":""},{"$f":"IFERROR(ROUND(INDEX('2015'!$C$10:$J$1000,MATCH($B$1&\"_\"&ROW()-9,'2015'!$L$10:$L$1000,0),6),2),\"\")","v":""},{"$f":"IFERROR(INDEX('2015'!$C$10:$J$1000,MATCH($B$1&\"_\"&ROW()-9,'2015'!$L$10:$L$1000,0),7),\"\")","v":""},{"$f":"IFERROR(INDEX('2015'!$C$10:$J$1000,MATCH($B$1&\"_\"&ROW()-9,'2015'!$L$10:$L$1000,0),8),\"\")","v":""}]
[{"$f":"IFERROR(INDEX('2015'!$C$10:$J$1000,MATCH($B$1&\"_\"&ROW()-9,'2015'!$L$10:$L$1000,0),1),\"\")","v":""},{"$f":"IFERROR(INDEX('2015'!$C$10:$J$1000,MATCH($B$1&\"_\"&ROW()-9,'2015'!$L$10:$L$1000,0),2),\"\")","v":""},{"$f":"IFERROR(INDEX('2015'!$C$10:$J$1000,MATCH($B$1&\"_\"&ROW()-9,'2015'!$L$10:$L$1000,0),3),\"\")","v":""},{"$f":"IFERROR(INDEX('2015'!$C$10:$J$1000,MATCH($B$1&\"_\"&ROW()-9,'2015'!$L$10:$L$1000,0),4),\"\")","v":""},{"$f":"IFERROR(INDEX('2015'!$C$10:$J$1000,MATCH($B$1&\"_\"&ROW()-9,'2015'!$L$10:$L$1000,0),5),\"\")","v":""},{"$f":"IFERROR(ROUND(INDEX('2015'!$C$10:$J$1000,MATCH($B$1&\"_\"&ROW()-9,'2015'!$L$10:$L$1000,0),6),2),\"\")","v":""},{"$f":"IFERROR(INDEX('2015'!$C$10:$J$1000,MATCH($B$1&\"_\"&ROW()-9,'2015'!$L$10:$L$1000,0),7),\"\")","v":""},{"$f":"IFERROR(INDEX('2015'!$C$10:$J$1000,MATCH($B$1&\"_\"&ROW()-9,'2015'!$L$10:$L$1000,0),8),\"\")","v":""}]
[{"$f":"IFERROR(INDEX('2015'!$C$10:$J$1000,MATCH($B$1&\"_\"&ROW()-9,'2015'!$L$10:$L$1000,0),1),\"\")","v":""},{"$f":"IFERROR(INDEX('2015'!$C$10:$J$1000,MATCH($B$1&\"_\"&ROW()-9,'2015'!$L$10:$L$1000,0),2),\"\")","v":""},{"$f":"IFERROR(INDEX('2015'!$C$10:$J$1000,MATCH($B$1&\"_\"&ROW()-9,'2015'!$L$10:$L$1000,0),3),\"\")","v":""},{"$f":"IFERROR(INDEX('2015'!$C$10:$J$1000,MATCH($B$1&\"_\"&ROW()-9,'2015'!$L$10:$L$1000,0),4),\"\")","v":""},{"$f":"IFERROR(INDEX('2015'!$C$10:$J$1000,MATCH($B$1&\"_\"&ROW()-9,'2015'!$L$10:$L$1000,0),5),\"\")","v":""},{"$f":"IFERROR(ROUND(INDEX('2015'!$C$10:$J$1000,MATCH($B$1&\"_\"&ROW()-9,'2015'!$L$10:$L$1000,0),6),2),\"\")","v":""},{"$f":"IFERROR(INDEX('2015'!$C$10:$J$1000,MATCH($B$1&\"_\"&ROW()-9,'2015'!$L$10:$L$1000,0),7),\"\")","v":""},{"$f":"IFERROR(INDEX('2015'!$C$10:$J$1000,MATCH($B$1&\"_\"&ROW()-9,'2015'!$L$10:$L$1000,0),8),\"\")","v":""}]
[{"$f":"IFERROR(INDEX('2015'!$C$10:$J$1000,MATCH($B$1&\"_\"&ROW()-9,'2015'!$L$10:$L$1000,0),1),\"\")","v":""},{"$f":"IFERROR(INDEX('2015'!$C$10:$J$1000,MATCH($B$1&\"_\"&ROW()-9,'2015'!$L$10:$L$1000,0),2),\"\")","v":""},{"$f":"IFERROR(INDEX('2015'!$C$10:$J$1000,MATCH($B$1&\"_\"&ROW()-9,'2015'!$L$10:$L$1000,0),3),\"\")","v":""},{"$f":"IFERROR(INDEX('2015'!$C$10:$J$1000,MATCH($B$1&\"_\"&ROW()-9,'2015'!$L$10:$L$1000,0),4),\"\")","v":""},{"$f":"IFERROR(INDEX('2015'!$C$10:$J$1000,MATCH($B$1&\"_\"&ROW()-9,'2015'!$L$10:$L$1000,0),5),\"\")","v":""},{"$f":"IFERROR(ROUND(INDEX('2015'!$C$10:$J$1000,MATCH($B$1&\"_\"&ROW()-9,'2015'!$L$10:$L$1000,0),6),2),\"\")","v":""},{"$f":"IFERROR(INDEX('2015'!$C$10:$J$1000,MATCH($B$1&\"_\"&ROW()-9,'2015'!$L$10:$L$1000,0),7),\"\")","v":""},{"$f":"IFERROR(INDEX('2015'!$C$10:$J$1000,MATCH($B$1&\"_\"&ROW()-9,'2015'!$L$10:$L$1000,0),8),\"\")","v":""}]
[{"$f":"IFERROR(INDEX('2015'!$C$10:$J$1000,MATCH($B$1&\"_\"&ROW()-9,'2015'!$L$10:$L$1000,0),1),\"\")","v":""},{"$f":"IFERROR(INDEX('2015'!$C$10:$J$1000,MATCH($B$1&\"_\"&ROW()-9,'2015'!$L$10:$L$1000,0),2),\"\")","v":""},{"$f":"IFERROR(INDEX('2015'!$C$10:$J$1000,MATCH($B$1&\"_\"&ROW()-9,'2015'!$L$10:$L$1000,0),3),\"\")","v":""},{"$f":"IFERROR(INDEX('2015'!$C$10:$J$1000,MATCH($B$1&\"_\"&ROW()-9,'2015'!$L$10:$L$1000,0),4),\"\")","v":""},{"$f":"IFERROR(INDEX('2015'!$C$10:$J$1000,MATCH($B$1&\"_\"&ROW()-9,'2015'!$L$10:$L$1000,0),5),\"\")","v":""},{"$f":"IFERROR(ROUND(INDEX('2015'!$C$10:$J$1000,MATCH($B$1&\"_\"&ROW()-9,'2015'!$L$10:$L$1000,0),6),2),\"\")","v":""},{"$f":"IFERROR(INDEX('2015'!$C$10:$J$1000,MATCH($B$1&\"_\"&ROW()-9,'2015'!$L$10:$L$1000,0),7),\"\")","v":""},{"$f":"IFERROR(INDEX('2015'!$C$10:$J$1000,MATCH($B$1&\"_\"&ROW()-9,'2015'!$L$10:$L$1000,0),8),\"\")","v":""}]
[{"$f":"IFERROR(INDEX('2015'!$C$10:$J$1000,MATCH($B$1&\"_\"&ROW()-9,'2015'!$L$10:$L$1000,0),1),\"\")","v":""},{"$f":"IFERROR(INDEX('2015'!$C$10:$J$1000,MATCH($B$1&\"_\"&ROW()-9,'2015'!$L$10:$L$1000,0),2),\"\")","v":""},{"$f":"IFERROR(INDEX('2015'!$C$10:$J$1000,MATCH($B$1&\"_\"&ROW()-9,'2015'!$L$10:$L$1000,0),3),\"\")","v":""},{"$f":"IFERROR(INDEX('2015'!$C$10:$J$1000,MATCH($B$1&\"_\"&ROW()-9,'2015'!$L$10:$L$1000,0),4),\"\")","v":""},{"$f":"IFERROR(INDEX('2015'!$C$10:$J$1000,MATCH($B$1&\"_\"&ROW()-9,'2015'!$L$10:$L$1000,0),5),\"\")","v":""},{"$f":"IFERROR(ROUND(INDEX('2015'!$C$10:$J$1000,MATCH($B$1&\"_\"&ROW()-9,'2015'!$L$10:$L$1000,0),6),2),\"\")","v":""},{"$f":"IFERROR(INDEX('2015'!$C$10:$J$1000,MATCH($B$1&\"_\"&ROW()-9,'2015'!$L$10:$L$1000,0),7),\"\")","v":""},{"$f":"IFERROR(INDEX('2015'!$C$10:$J$1000,MATCH($B$1&\"_\"&ROW()-9,'2015'!$L$10:$L$1000,0),8),\"\")","v":""}]
[{"$f":"IFERROR(INDEX('2015'!$C$10:$J$1000,MATCH($B$1&\"_\"&ROW()-9,'2015'!$L$10:$L$1000,0),1),\"\")","v":""},{"$f":"IFERROR(INDEX('2015'!$C$10:$J$1000,MATCH($B$1&\"_\"&ROW()-9,'2015'!$L$10:$L$1000,0),2),\"\")","v":""},{"$f":"IFERROR(INDEX('2015'!$C$10:$J$1000,MATCH($B$1&\"_\"&ROW()-9,'2015'!$L$10:$L$1000,0),3),\"\")","v":""},{"$f":"IFERROR(INDEX('2015'!$C$10:$J$1000,MATCH($B$1&\"_\"&ROW()-9,'2015'!$L$10:$L$1000,0),4),\"\")","v":""},{"$f":"IFERROR(INDEX('2015'!$C$10:$J$1000,MATCH($B$1&\"_\"&ROW()-9,'2015'!$L$10:$L$1000,0),5),\"\")","v":""},{"$f":"IFERROR(ROUND(INDEX('2015'!$C$10:$J$1000,MATCH($B$1&\"_\"&ROW()-9,'2015'!$L$10:$L$1000,0),6),2),\"\")","v":""},{"$f":"IFERROR(INDEX('2015'!$C$10:$J$1000,MATCH($B$1&\"_\"&ROW()-9,'2015'!$L$10:$L$1000,0),7),\"\")","v":""},{"$f":"IFERROR(INDEX('2015'!$C$10:$J$1000,MATCH($B$1&\"_\"&ROW()-9,'2015'!$L$10:$L$1000,0),8),\"\")","v":""}]
[{"$f":"IFERROR(INDEX('2015'!$C$10:$J$1000,MATCH($B$1&\"_\"&ROW()-9,'2015'!$L$10:$L$1000,0),1),\"\")","v":""},{"$f":"IFERROR(INDEX('2015'!$C$10:$J$1000,MATCH($B$1&\"_\"&ROW()-9,'2015'!$L$10:$L$1000,0),2),\"\")","v":""},{"$f":"IFERROR(INDEX('2015'!$C$10:$J$1000,MATCH($B$1&\"_\"&ROW()-9,'2015'!$L$10:$L$1000,0),3),\"\")","v":""},{"$f":"IFERROR(INDEX('2015'!$C$10:$J$1000,MATCH($B$1&\"_\"&ROW()-9,'2015'!$L$10:$L$1000,0),4),\"\")","v":""},{"$f":"IFERROR(INDEX('2015'!$C$10:$J$1000,MATCH($B$1&\"_\"&ROW()-9,'2015'!$L$10:$L$1000,0),5),\"\")","v":""},{"$f":"IFERROR(ROUND(INDEX('2015'!$C$10:$J$1000,MATCH($B$1&\"_\"&ROW()-9,'2015'!$L$10:$L$1000,0),6),2),\"\")","v":""},{"$f":"IFERROR(INDEX('2015'!$C$10:$J$1000,MATCH($B$1&\"_\"&ROW()-9,'2015'!$L$10:$L$1000,0),7),\"\")","v":""},{"$f":"IFERROR(INDEX('2015'!$C$10:$J$1000,MATCH($B$1&\"_\"&ROW()-9,'2015'!$L$10:$L$1000,0),8),\"\")","v":""}]
[{"$f":"IFERROR(INDEX('2015'!$C$10:$J$1000,MATCH($B$1&\"_\"&ROW()-9,'2015'!$L$10:$L$1000,0),1),\"\")","v":""},{"$f":"IFERROR(INDEX('2015'!$C$10:$J$1000,MATCH($B$1&\"_\"&ROW()-9,'2015'!$L$10:$L$1000,0),2),\"\")","v":""},{"$f":"IFERROR(INDEX('2015'!$C$10:$J$1000,MATCH($B$1&\"_\"&ROW()-9,'2015'!$L$10:$L$1000,0),3),\"\")","v":""},{"$f":"IFERROR(INDEX('2015'!$C$10:$J$1000,MATCH($B$1&\"_\"&ROW()-9,'2015'!$L$10:$L$1000,0),4),\"\")","v":""},{"$f":"IFERROR(INDEX('2015'!$C$10:$J$1000,MATCH($B$1&\"_\"&ROW()-9,'2015'!$L$10:$L$1000,0),5),\"\")","v":""},{"$f":"IFERROR(ROUND(INDEX('2015'!$C$10:$J$1000,MATCH($B$1&\"_\"&ROW()-9,'2015'!$L$10:$L$1000,0),6),2),\"\")","v":""},{"$f":"IFERROR(INDEX('2015'!$C$10:$J$1000,MATCH($B$1&\"_\"&ROW()-9,'2015'!$L$10:$L$1000,0),7),\"\")","v":""},{"$f":"IFERROR(INDEX('2015'!$C$10:$J$1000,MATCH($B$1&\"_\"&ROW()-9,'2015'!$L$10:$L$1000,0),8),\"\")","v":""}]
[{"$f":"IFERROR(INDEX('2015'!$C$10:$J$1000,MATCH($B$1&\"_\"&ROW()-9,'2015'!$L$10:$L$1000,0),1),\"\")","v":""},{"$f":"IFERROR(INDEX('2015'!$C$10:$J$1000,MATCH($B$1&\"_\"&ROW()-9,'2015'!$L$10:$L$1000,0),2),\"\")","v":""},{"$f":"IFERROR(INDEX('2015'!$C$10:$J$1000,MATCH($B$1&\"_\"&ROW()-9,'2015'!$L$10:$L$1000,0),3),\"\")","v":""},{"$f":"IFERROR(INDEX('2015'!$C$10:$J$1000,MATCH($B$1&\"_\"&ROW()-9,'2015'!$L$10:$L$1000,0),4),\"\")","v":""},{"$f":"IFERROR(INDEX('2015'!$C$10:$J$1000,MATCH($B$1&\"_\"&ROW()-9,'2015'!$L$10:$L$1000,0),5),\"\")","v":""},{"$f":"IFERROR(ROUND(INDEX('2015'!$C$10:$J$1000,MATCH($B$1&\"_\"&ROW()-9,'2015'!$L$10:$L$1000,0),6),2),\"\")","v":""},{"$f":"IFERROR(INDEX('2015'!$C$10:$J$1000,MATCH($B$1&\"_\"&ROW()-9,'2015'!$L$10:$L$1000,0),7),\"\")","v":""},{"$f":"IFERROR(INDEX('2015'!$C$10:$J$1000,MATCH($B$1&\"_\"&ROW()-9,'2015'!$L$10:$L$1000,0),8),\"\")","v":""}]
[{"$f":"IFERROR(INDEX('2015'!$C$10:$J$1000,MATCH($B$1&\"_\"&ROW()-9,'2015'!$L$10:$L$1000,0),1),\"\")","v":""},{"$f":"IFERROR(INDEX('2015'!$C$10:$J$1000,MATCH($B$1&\"_\"&ROW()-9,'2015'!$L$10:$L$1000,0),2),\"\")","v":""},{"$f":"IFERROR(INDEX('2015'!$C$10:$J$1000,MATCH($B$1&\"_\"&ROW()-9,'2015'!$L$10:$L$1000,0),3),\"\")","v":""},{"$f":"IFERROR(INDEX('2015'!$C$10:$J$1000,MATCH($B$1&\"_\"&ROW()-9,'2015'!$L$10:$L$1000,0),4),\"\")","v":""},{"$f":"IFERROR(INDEX('2015'!$C$10:$J$1000,MATCH($B$1&\"_\"&ROW()-9,'2015'!$L$10:$L$1000,0),5),\"\")","v":""},{"$f":"IFERROR(ROUND(INDEX('2015'!$C$10:$J$1000,MATCH($B$1&\"_\"&ROW()-9,'2015'!$L$10:$L$1000,0),6),2),\"\")","v":""},{"$f":"IFERROR(INDEX('2015'!$C$10:$J$1000,MATCH($B$1&\"_\"&ROW()-9,'2015'!$L$10:$L$1000,0),7),\"\")","v":""},{"$f":"IFERROR(INDEX('2015'!$C$10:$J$1000,MATCH($B$1&\"_\"&ROW()-9,'2015'!$L$10:$L$1000,0),8),\"\")","v":""}]
[{"$f":"IFERROR(INDEX('2015'!$C$10:$J$1000,MATCH($B$1&\"_\"&ROW()-9,'2015'!$L$10:$L$1000,0),1),\"\")","v":""},{"$f":"IFERROR(INDEX('2015'!$C$10:$J$1000,MATCH($B$1&\"_\"&ROW()-9,'2015'!$L$10:$L$1000,0),2),\"\")","v":""},{"$f":"IFERROR(INDEX('2015'!$C$10:$J$1000,MATCH($B$1&\"_\"&ROW()-9,'2015'!$L$10:$L$1000,0),3),\"\")","v":""},{"$f":"IFERROR(INDEX('2015'!$C$10:$J$1000,MATCH($B$1&\"_\"&ROW()-9,'2015'!$L$10:$L$1000,0),4),\"\")","v":""},{"$f":"IFERROR(INDEX('2015'!$C$10:$J$1000,MATCH($B$1&\"_\"&ROW()-9,'2015'!$L$10:$L$1000,0),5),\"\")","v":""},{"$f":"IFERROR(ROUND(INDEX('2015'!$C$10:$J$1000,MATCH($B$1&\"_\"&ROW()-9,'2015'!$L$10:$L$1000,0),6),2),\"\")","v":""},{"$f":"IFERROR(INDEX('2015'!$C$10:$J$1000,MATCH($B$1&\"_\"&ROW()-9,'2015'!$L$10:$L$1000,0),7),\"\")","v":""},{"$f":"IFERROR(INDEX('2015'!$C$10:$J$1000,MATCH($B$1&\"_\"&ROW()-9,'2015'!$L$10:$L$1000,0),8),\"\")","v":""}]
[{"$f":"IFERROR(INDEX('2015'!$C$10:$J$1000,MATCH($B$1&\"_\"&ROW()-9,'2015'!$L$10:$L$1000,0),1),\"\")","v":""},{"$f":"IFERROR(INDEX('2015'!$C$10:$J$1000,MATCH($B$1&\"_\"&ROW()-9,'2015'!$L$10:$L$1000,0),2),\"\")","v":""},{"$f":"IFERROR(INDEX('2015'!$C$10:$J$1000,MATCH($B$1&\"_\"&ROW()-9,'2015'!$L$10:$L$1000,0),3),\"\")","v":""},{"$f":"IFERROR(INDEX('2015'!$C$10:$J$1000,MATCH($B$1&\"_\"&ROW()-9,'2015'!$L$10:$L$1000,0),4),\"\")","v":""},{"$f":"IFERROR(INDEX('2015'!$C$10:$J$1000,MATCH($B$1&\"_\"&ROW()-9,'2015'!$L$10:$L$1000,0),5),\"\")","v":""},{"$f":"IFERROR(ROUND(INDEX('2015'!$C$10:$J$1000,MATCH($B$1&\"_\"&ROW()-9,'2015'!$L$10:$L$1000,0),6),2),\"\")","v":""},{"$f":"IFERROR(INDEX('2015'!$C$10:$J$1000,MATCH($B$1&\"_\"&ROW()-9,'2015'!$L$10:$L$1000,0),7),\"\")","v":""},{"$f":"IFERROR(INDEX('2015'!$C$10:$J$1000,MATCH($B$1&\"_\"&ROW()-9,'2015'!$L$10:$L$1000,0),8),\"\")","v":""}]
[{"$f":"IFERROR(INDEX('2015'!$C$10:$J$1000,MATCH($B$1&\"_\"&ROW()-9,'2015'!$L$10:$L$1000,0),1),\"\")","v":""},{"$f":"IFERROR(INDEX('2015'!$C$10:$J$1000,MATCH($B$1&\"_\"&ROW()-9,'2015'!$L$10:$L$1000,0),2),\"\")","v":""},{"$f":"IFERROR(INDEX('2015'!$C$10:$J$1000,MATCH($B$1&\"_\"&ROW()-9,'2015'!$L$10:$L$1000,0),3),\"\")","v":""},{"$f":"IFERROR(INDEX('2015'!$C$10:$J$1000,MATCH($B$1&\"_\"&ROW()-9,'2015'!$L$10:$L$1000,0),4),\"\")","v":""},{"$f":"IFERROR(INDEX('2015'!$C$10:$J$1000,MATCH($B$1&\"_\"&ROW()-9,'2015'!$L$10:$L$1000,0),5),\"\")","v":""},{"$f":"IFERROR(ROUND(INDEX('2015'!$C$10:$J$1000,MATCH($B$1&\"_\"&ROW()-9,'2015'!$L$10:$L$1000,0),6),2),\"\")","v":""},{"$f":"IFERROR(INDEX('2015'!$C$10:$J$1000,MATCH($B$1&\"_\"&ROW()-9,'2015'!$L$10:$L$1000,0),7),\"\")","v":""},{"$f":"IFERROR(INDEX('2015'!$C$10:$J$1000,MATCH($B$1&\"_\"&ROW()-9,'2015'!$L$10:$L$1000,0),8),\"\")","v":""}]
[{"$f":"IFERROR(INDEX('2015'!$C$10:$J$1000,MATCH($B$1&\"_\"&ROW()-9,'2015'!$L$10:$L$1000,0),1),\"\")","v":""},{"$f":"IFERROR(INDEX('2015'!$C$10:$J$1000,MATCH($B$1&\"_\"&ROW()-9,'2015'!$L$10:$L$1000,0),2),\"\")","v":""},{"$f":"IFERROR(INDEX('2015'!$C$10:$J$1000,MATCH($B$1&\"_\"&ROW()-9,'2015'!$L$10:$L$1000,0),3),\"\")","v":""},{"$f":"IFERROR(INDEX('2015'!$C$10:$J$1000,MATCH($B$1&\"_\"&ROW()-9,'2015'!$L$10:$L$1000,0),4),\"\")","v":""},{"$f":"IFERROR(INDEX('2015'!$C$10:$J$1000,MATCH($B$1&\"_\"&ROW()-9,'2015'!$L$10:$L$1000,0),5),\"\")","v":""},{"$f":"IFERROR(ROUND(INDEX('2015'!$C$10:$J$1000,MATCH($B$1&\"_\"&ROW()-9,'2015'!$L$10:$L$1000,0),6),2),\"\")","v":""},{"$f":"IFERROR(INDEX('2015'!$C$10:$J$1000,MATCH($B$1&\"_\"&ROW()-9,'2015'!$L$10:$L$1000,0),7),\"\")","v":""},{"$f":"IFERROR(INDEX('2015'!$C$10:$J$1000,MATCH($B$1&\"_\"&ROW()-9,'2015'!$L$10:$L$1000,0),8),\"\")","v":""}]
[{"$f":"IFERROR(INDEX('2015'!$C$10:$J$1000,MATCH($B$1&\"_\"&ROW()-9,'2015'!$L$10:$L$1000,0),1),\"\")","v":""},{"$f":"IFERROR(INDEX('2015'!$C$10:$J$1000,MATCH($B$1&\"_\"&ROW()-9,'2015'!$L$10:$L$1000,0),2),\"\")","v":""},{"$f":"IFERROR(INDEX('2015'!$C$10:$J$1000,MATCH($B$1&\"_\"&ROW()-9,'2015'!$L$10:$L$1000,0),3),\"\")","v":""},{"$f":"IFERROR(INDEX('2015'!$C$10:$J$1000,MATCH($B$1&\"_\"&ROW()-9,'2015'!$L$10:$L$1000,0),4),\"\")","v":""},{"$f":"IFERROR(INDEX('2015'!$C$10:$J$1000,MATCH($B$1&\"_\"&ROW()-9,'2015'!$L$10:$L$1000,0),5),\"\")","v":""},{"$f":"IFERROR(ROUND(INDEX('2015'!$C$10:$J$1000,MATCH($B$1&\"_\"&ROW()-9,'2015'!$L$10:$L$1000,0),6),2),\"\")","v":""},{"$f":"IFERROR(INDEX('2015'!$C$10:$J$1000,MATCH($B$1&\"_\"&ROW()-9,'2015'!$L$10:$L$1000,0),7),\"\")","v":""},{"$f":"IFERROR(INDEX('2015'!$C$10:$J$1000,MATCH($B$1&\"_\"&ROW()-9,'2015'!$L$10:$L$1000,0),8),\"\")","v":""}]
[{"$f":"IFERROR(INDEX('2015'!$C$10:$J$1000,MATCH($B$1&\"_\"&ROW()-9,'2015'!$L$10:$L$1000,0),1),\"\")","v":""},{"$f":"IFERROR(INDEX('2015'!$C$10:$J$1000,MATCH($B$1&\"_\"&ROW()-9,'2015'!$L$10:$L$1000,0),2),\"\")","v":""},{"$f":"IFERROR(INDEX('2015'!$C$10:$J$1000,MATCH($B$1&\"_\"&ROW()-9,'2015'!$L$10:$L$1000,0),3),\"\")","v":""},{"$f":"IFERROR(INDEX('2015'!$C$10:$J$1000,MATCH($B$1&\"_\"&ROW()-9,'2015'!$L$10:$L$1000,0),4),\"\")","v":""},{"$f":"IFERROR(INDEX('2015'!$C$10:$J$1000,MATCH($B$1&\"_\"&ROW()-9,'2015'!$L$10:$L$1000,0),5),\"\")","v":""},{"$f":"IFERROR(ROUND(INDEX('2015'!$C$10:$J$1000,MATCH($B$1&\"_\"&ROW()-9,'2015'!$L$10:$L$1000,0),6),2),\"\")","v":""},{"$f":"IFERROR(INDEX('2015'!$C$10:$J$1000,MATCH($B$1&\"_\"&ROW()-9,'2015'!$L$10:$L$1000,0),7),\"\")","v":""},{"$f":"IFERROR(INDEX('2015'!$C$10:$J$1000,MATCH($B$1&\"_\"&ROW()-9,'2015'!$L$10:$L$1000,0),8),\"\")","v":""}]
[{"$f":"IFERROR(INDEX('2015'!$C$10:$J$1000,MATCH($B$1&\"_\"&ROW()-9,'2015'!$L$10:$L$1000,0),1),\"\")","v":""},{"$f":"IFERROR(INDEX('2015'!$C$10:$J$1000,MATCH($B$1&\"_\"&ROW()-9,'2015'!$L$10:$L$1000,0),2),\"\")","v":""},{"$f":"IFERROR(INDEX('2015'!$C$10:$J$1000,MATCH($B$1&\"_\"&ROW()-9,'2015'!$L$10:$L$1000,0),3),\"\")","v":""},{"$f":"IFERROR(INDEX('2015'!$C$10:$J$1000,MATCH($B$1&\"_\"&ROW()-9,'2015'!$L$10:$L$1000,0),4),\"\")","v":""},{"$f":"IFERROR(INDEX('2015'!$C$10:$J$1000,MATCH($B$1&\"_\"&ROW()-9,'2015'!$L$10:$L$1000,0),5),\"\")","v":""},{"$f":"IFERROR(ROUND(INDEX('2015'!$C$10:$J$1000,MATCH($B$1&\"_\"&ROW()-9,'2015'!$L$10:$L$1000,0),6),2),\"\")","v":""},{"$f":"IFERROR(INDEX('2015'!$C$10:$J$1000,MATCH($B$1&\"_\"&ROW()-9,'2015'!$L$10:$L$1000,0),7),\"\")","v":""},{"$f":"IFERROR(INDEX('2015'!$C$10:$J$1000,MATCH($B$1&\"_\"&ROW()-9,'2015'!$L$10:$L$1000,0),8),\"\")","v":""}]
[{"$f":"IFERROR(INDEX('2015'!$C$10:$J$1000,MATCH($B$1&\"_\"&ROW()-9,'2015'!$L$10:$L$1000,0),1),\"\")","v":""},{"$f":"IFERROR(INDEX('2015'!$C$10:$J$1000,MATCH($B$1&\"_\"&ROW()-9,'2015'!$L$10:$L$1000,0),2),\"\")","v":""},{"$f":"IFERROR(INDEX('2015'!$C$10:$J$1000,MATCH($B$1&\"_\"&ROW()-9,'2015'!$L$10:$L$1000,0),3),\"\")","v":""},{"$f":"IFERROR(INDEX('2015'!$C$10:$J$1000,MATCH($B$1&\"_\"&ROW()-9,'2015'!$L$10:$L$1000,0),4),\"\")","v":""},{"$f":"IFERROR(INDEX('2015'!$C$10:$J$1000,MATCH($B$1&\"_\"&ROW()-9,'2015'!$L$10:$L$1000,0),5),\"\")","v":""},{"$f":"IFERROR(ROUND(INDEX('2015'!$C$10:$J$1000,MATCH($B$1&\"_\"&ROW()-9,'2015'!$L$10:$L$1000,0),6),2),\"\")","v":""},{"$f":"IFERROR(INDEX('2015'!$C$10:$J$1000,MATCH($B$1&\"_\"&ROW()-9,'2015'!$L$10:$L$1000,0),7),\"\")","v":""},{"$f":"IFERROR(INDEX('2015'!$C$10:$J$1000,MATCH($B$1&\"_\"&ROW()-9,'2015'!$L$10:$L$1000,0),8),\"\")","v":""}]
[{"$f":"IFERROR(INDEX('2015'!$C$10:$J$1000,MATCH($B$1&\"_\"&ROW()-9,'2015'!$L$10:$L$1000,0),1),\"\")","v":""},{"$f":"IFERROR(INDEX('2015'!$C$10:$J$1000,MATCH($B$1&\"_\"&ROW()-9,'2015'!$L$10:$L$1000,0),2),\"\")","v":""},{"$f":"IFERROR(INDEX('2015'!$C$10:$J$1000,MATCH($B$1&\"_\"&ROW()-9,'2015'!$L$10:$L$1000,0),3),\"\")","v":""},{"$f":"IFERROR(INDEX('2015'!$C$10:$J$1000,MATCH($B$1&\"_\"&ROW()-9,'2015'!$L$10:$L$1000,0),4),\"\")","v":""},{"$f":"IFERROR(INDEX('2015'!$C$10:$J$1000,MATCH($B$1&\"_\"&ROW()-9,'2015'!$L$10:$L$1000,0),5),\"\")","v":""},{"$f":"IFERROR(ROUND(INDEX('2015'!$C$10:$J$1000,MATCH($B$1&\"_\"&ROW()-9,'2015'!$L$10:$L$1000,0),6),2),\"\")","v":""},{"$f":"IFERROR(INDEX('2015'!$C$10:$J$1000,MATCH($B$1&\"_\"&ROW()-9,'2015'!$L$10:$L$1000,0),7),\"\")","v":""},{"$f":"IFERROR(INDEX('2015'!$C$10:$J$1000,MATCH($B$1&\"_\"&ROW()-9,'2015'!$L$10:$L$1000,0),8),\"\")","v":""}]
[{"$f":"IFERROR(INDEX('2015'!$C$10:$J$1000,MATCH($B$1&\"_\"&ROW()-9,'2015'!$L$10:$L$1000,0),1),\"\")","v":""},{"$f":"IFERROR(INDEX('2015'!$C$10:$J$1000,MATCH($B$1&\"_\"&ROW()-9,'2015'!$L$10:$L$1000,0),2),\"\")","v":""},{"$f":"IFERROR(INDEX('2015'!$C$10:$J$1000,MATCH($B$1&\"_\"&ROW()-9,'2015'!$L$10:$L$1000,0),3),\"\")","v":""},{"$f":"IFERROR(INDEX('2015'!$C$10:$J$1000,MATCH($B$1&\"_\"&ROW()-9,'2015'!$L$10:$L$1000,0),4),\"\")","v":""},{"$f":"IFERROR(INDEX('2015'!$C$10:$J$1000,MATCH($B$1&\"_\"&ROW()-9,'2015'!$L$10:$L$1000,0),5),\"\")","v":""},{"$f":"IFERROR(ROUND(INDEX('2015'!$C$10:$J$1000,MATCH($B$1&\"_\"&ROW()-9,'2015'!$L$10:$L$1000,0),6),2),\"\")","v":""},{"$f":"IFERROR(INDEX('2015'!$C$10:$J$1000,MATCH($B$1&\"_\"&ROW()-9,'2015'!$L$10:$L$1000,0),7),\"\")","v":""},{"$f":"IFERROR(INDEX('2015'!$C$10:$J$1000,MATCH($B$1&\"_\"&ROW()-9,'2015'!$L$10:$L$1000,0),8),\"\")","v":""}]
[{"$f":"IFERROR(INDEX('2015'!$C$10:$J$1000,MATCH($B$1&\"_\"&ROW()-9,'2015'!$L$10:$L$1000,0),1),\"\")","v":""},{"$f":"IFERROR(INDEX('2015'!$C$10:$J$1000,MATCH($B$1&\"_\"&ROW()-9,'2015'!$L$10:$L$1000,0),2),\"\")","v":""},{"$f":"IFERROR(INDEX('2015'!$C$10:$J$1000,MATCH($B$1&\"_\"&ROW()-9,'2015'!$L$10:$L$1000,0),3),\"\")","v":""},{"$f":"IFERROR(INDEX('2015'!$C$10:$J$1000,MATCH($B$1&\"_\"&ROW()-9,'2015'!$L$10:$L$1000,0),4),\"\")","v":""},{"$f":"IFERROR(INDEX('2015'!$C$10:$J$1000,MATCH($B$1&\"_\"&ROW()-9,'2015'!$L$10:$L$1000,0),5),\"\")","v":""},{"$f":"IFERROR(ROUND(INDEX('2015'!$C$10:$J$1000,MATCH($B$1&\"_\"&ROW()-9,'2015'!$L$10:$L$1000,0),6),2),\"\")","v":""},{"$f":"IFERROR(INDEX('2015'!$C$10:$J$1000,MATCH($B$1&\"_\"&ROW()-9,'2015'!$L$10:$L$1000,0),7),\"\")","v":""},{"$f":"IFERROR(INDEX('2015'!$C$10:$J$1000,MATCH($B$1&\"_\"&ROW()-9,'2015'!$L$10:$L$1000,0),8),\"\")","v":""}]
[{"$f":"IFERROR(INDEX('2015'!$C$10:$J$1000,MATCH($B$1&\"_\"&ROW()-9,'2015'!$L$10:$L$1000,0),1),\"\")","v":""},{"$f":"IFERROR(INDEX('2015'!$C$10:$J$1000,MATCH($B$1&\"_\"&ROW()-9,'2015'!$L$10:$L$1000,0),2),\"\")","v":""},{"$f":"IFERROR(INDEX('2015'!$C$10:$J$1000,MATCH($B$1&\"_\"&ROW()-9,'2015'!$L$10:$L$1000,0),3),\"\")","v":""},{"$f":"IFERROR(INDEX('2015'!$C$10:$J$1000,MATCH($B$1&\"_\"&ROW()-9,'2015'!$L$10:$L$1000,0),4),\"\")","v":""},{"$f":"IFERROR(INDEX('2015'!$C$10:$J$1000,MATCH($B$1&\"_\"&ROW()-9,'2015'!$L$10:$L$1000,0),5),\"\")","v":""},{"$f":"IFERROR(ROUND(INDEX('2015'!$C$10:$J$1000,MATCH($B$1&\"_\"&ROW()-9,'2015'!$L$10:$L$1000,0),6),2),\"\")","v":""},{"$f":"IFERROR(INDEX('2015'!$C$10:$J$1000,MATCH($B$1&\"_\"&ROW()-9,'2015'!$L$10:$L$1000,0),7),\"\")","v":""},{"$f":"IFERROR(INDEX('2015'!$C$10:$J$1000,MATCH($B$1&\"_\"&ROW()-9,'2015'!$L$10:$L$1000,0),8),\"\")","v":""}]
[{"$f":"IFERROR(INDEX('2015'!$C$10:$J$1000,MATCH($B$1&\"_\"&ROW()-9,'2015'!$L$10:$L$1000,0),1),\"\")","v":""},{"$f":"IFERROR(INDEX('2015'!$C$10:$J$1000,MATCH($B$1&\"_\"&ROW()-9,'2015'!$L$10:$L$1000,0),2),\"\")","v":""},{"$f":"IFERROR(INDEX('2015'!$C$10:$J$1000,MATCH($B$1&\"_\"&ROW()-9,'2015'!$L$10:$L$1000,0),3),\"\")","v":""},{"$f":"IFERROR(INDEX('2015'!$C$10:$J$1000,MATCH($B$1&\"_\"&ROW()-9,'2015'!$L$10:$L$1000,0),4),\"\")","v":""},{"$f":"IFERROR(INDEX('2015'!$C$10:$J$1000,MATCH($B$1&\"_\"&ROW()-9,'2015'!$L$10:$L$1000,0),5),\"\")","v":""},{"$f":"IFERROR(ROUND(INDEX('2015'!$C$10:$J$1000,MATCH($B$1&\"_\"&ROW()-9,'2015'!$L$10:$L$1000,0),6),2),\"\")","v":""},{"$f":"IFERROR(INDEX('2015'!$C$10:$J$1000,MATCH($B$1&\"_\"&ROW()-9,'2015'!$L$10:$L$1000,0),7),\"\")","v":""},{"$f":"IFERROR(INDEX('2015'!$C$10:$J$1000,MATCH($B$1&\"_\"&ROW()-9,'2015'!$L$10:$L$1000,0),8),\"\")","v":""}]
[{"$f":"IFERROR(INDEX('2015'!$C$10:$J$1000,MATCH($B$1&\"_\"&ROW()-9,'2015'!$L$10:$L$1000,0),1),\"\")","v":""},{"$f":"IFERROR(INDEX('2015'!$C$10:$J$1000,MATCH($B$1&\"_\"&ROW()-9,'2015'!$L$10:$L$1000,0),2),\"\")","v":""},{"$f":"IFERROR(INDEX('2015'!$C$10:$J$1000,MATCH($B$1&\"_\"&ROW()-9,'2015'!$L$10:$L$1000,0),3),\"\")","v":""},{"$f":"IFERROR(INDEX('2015'!$C$10:$J$1000,MATCH($B$1&\"_\"&ROW()-9,'2015'!$L$10:$L$1000,0),4),\"\")","v":""},{"$f":"IFERROR(INDEX('2015'!$C$10:$J$1000,MATCH($B$1&\"_\"&ROW()-9,'2015'!$L$10:$L$1000,0),5),\"\")","v":""},{"$f":"IFERROR(ROUND(INDEX('2015'!$C$10:$J$1000,MATCH($B$1&\"_\"&ROW()-9,'2015'!$L$10:$L$1000,0),6),2),\"\")","v":""},{"$f":"IFERROR(INDEX('2015'!$C$10:$J$1000,MATCH($B$1&\"_\"&ROW()-9,'2015'!$L$10:$L$1000,0),7),\"\")","v":""},{"$f":"IFERROR(INDEX('2015'!$C$10:$J$1000,MATCH($B$1&\"_\"&ROW()-9,'2015'!$L$10:$L$1000,0),8),\"\")","v":""}]
[{"$f":"IFERROR(INDEX('2015'!$C$10:$J$1000,MATCH($B$1&\"_\"&ROW()-9,'2015'!$L$10:$L$1000,0),1),\"\")","v":""},{"$f":"IFERROR(INDEX('2015'!$C$10:$J$1000,MATCH($B$1&\"_\"&ROW()-9,'2015'!$L$10:$L$1000,0),2),\"\")","v":""},{"$f":"IFERROR(INDEX('2015'!$C$10:$J$1000,MATCH($B$1&\"_\"&ROW()-9,'2015'!$L$10:$L$1000,0),3),\"\")","v":""},{"$f":"IFERROR(INDEX('2015'!$C$10:$J$1000,MATCH($B$1&\"_\"&ROW()-9,'2015'!$L$10:$L$1000,0),4),\"\")","v":""},{"$f":"IFERROR(INDEX('2015'!$C$10:$J$1000,MATCH($B$1&\"_\"&ROW()-9,'2015'!$L$10:$L$1000,0),5),\"\")","v":""},{"$f":"IFERROR(ROUND(INDEX('2015'!$C$10:$J$1000,MATCH($B$1&\"_\"&ROW()-9,'2015'!$L$10:$L$1000,0),6),2),\"\")","v":""},{"$f":"IFERROR(INDEX('2015'!$C$10:$J$1000,MATCH($B$1&\"_\"&ROW()-9,'2015'!$L$10:$L$1000,0),7),\"\")","v":""},{"$f":"IFERROR(INDEX('2015'!$C$10:$J$1000,MATCH($B$1&\"_\"&ROW()-9,'2015'!$L$10:$L$1000,0),8),\"\")","v":""}]
[{"$f":"IFERROR(INDEX('2015'!$C$10:$J$1000,MATCH($B$1&\"_\"&ROW()-9,'2015'!$L$10:$L$1000,0),1),\"\")","v":""},{"$f":"IFERROR(INDEX('2015'!$C$10:$J$1000,MATCH($B$1&\"_\"&ROW()-9,'2015'!$L$10:$L$1000,0),2),\"\")","v":""},{"$f":"IFERROR(INDEX('2015'!$C$10:$J$1000,MATCH($B$1&\"_\"&ROW()-9,'2015'!$L$10:$L$1000,0),3),\"\")","v":""},{"$f":"IFERROR(INDEX('2015'!$C$10:$J$1000,MATCH($B$1&\"_\"&ROW()-9,'2015'!$L$10:$L$1000,0),4),\"\")","v":""},{"$f":"IFERROR(INDEX('2015'!$C$10:$J$1000,MATCH($B$1&\"_\"&ROW()-9,'2015'!$L$10:$L$1000,0),5),\"\")","v":""},{"$f":"IFERROR(ROUND(INDEX('2015'!$C$10:$J$1000,MATCH($B$1&\"_\"&ROW()-9,'2015'!$L$10:$L$1000,0),6),2),\"\")","v":""},{"$f":"IFERROR(INDEX('2015'!$C$10:$J$1000,MATCH($B$1&\"_\"&ROW()-9,'2015'!$L$10:$L$1000,0),7),\"\")","v":""},{"$f":"IFERROR(INDEX('2015'!$C$10:$J$1000,MATCH($B$1&\"_\"&ROW()-9,'2015'!$L$10:$L$1000,0),8),\"\")","v":""}]
[{"$f":"IFERROR(INDEX('2015'!$C$10:$J$1000,MATCH($B$1&\"_\"&ROW()-9,'2015'!$L$10:$L$1000,0),1),\"\")","v":""},{"$f":"IFERROR(INDEX('2015'!$C$10:$J$1000,MATCH($B$1&\"_\"&ROW()-9,'2015'!$L$10:$L$1000,0),2),\"\")","v":""},{"$f":"IFERROR(INDEX('2015'!$C$10:$J$1000,MATCH($B$1&\"_\"&ROW()-9,'2015'!$L$10:$L$1000,0),3),\"\")","v":""},{"$f":"IFERROR(INDEX('2015'!$C$10:$J$1000,MATCH($B$1&\"_\"&ROW()-9,'2015'!$L$10:$L$1000,0),4),\"\")","v":""},{"$f":"IFERROR(INDEX('2015'!$C$10:$J$1000,MATCH($B$1&\"_\"&ROW()-9,'2015'!$L$10:$L$1000,0),5),\"\")","v":""},{"$f":"IFERROR(ROUND(INDEX('2015'!$C$10:$J$1000,MATCH($B$1&\"_\"&ROW()-9,'2015'!$L$10:$L$1000,0),6),2),\"\")","v":""},{"$f":"IFERROR(INDEX('2015'!$C$10:$J$1000,MATCH($B$1&\"_\"&ROW()-9,'2015'!$L$10:$L$1000,0),7),\"\")","v":""},{"$f":"IFERROR(INDEX('2015'!$C$10:$J$1000,MATCH($B$1&\"_\"&ROW()-9,'2015'!$L$10:$L$1000,0),8),\"\")","v":""}]
[{"$f":"IFERROR(INDEX('2015'!$C$10:$J$1000,MATCH($B$1&\"_\"&ROW()-9,'2015'!$L$10:$L$1000,0),1),\"\")","v":""},{"$f":"IFERROR(INDEX('2015'!$C$10:$J$1000,MATCH($B$1&\"_\"&ROW()-9,'2015'!$L$10:$L$1000,0),2),\"\")","v":""},{"$f":"IFERROR(INDEX('2015'!$C$10:$J$1000,MATCH($B$1&\"_\"&ROW()-9,'2015'!$L$10:$L$1000,0),3),\"\")","v":""},{"$f":"IFERROR(INDEX('2015'!$C$10:$J$1000,MATCH($B$1&\"_\"&ROW()-9,'2015'!$L$10:$L$1000,0),4),\"\")","v":""},{"$f":"IFERROR(INDEX('2015'!$C$10:$J$1000,MATCH($B$1&\"_\"&ROW()-9,'2015'!$L$10:$L$1000,0),5),\"\")","v":""},{"$f":"IFERROR(ROUND(INDEX('2015'!$C$10:$J$1000,MATCH($B$1&\"_\"&ROW()-9,'2015'!$L$10:$L$1000,0),6),2),\"\")","v":""},{"$f":"IFERROR(INDEX('2015'!$C$10:$J$1000,MATCH($B$1&\"_\"&ROW()-9,'2015'!$L$10:$L$1000,0),7),\"\")","v":""},{"$f":"IFERROR(INDEX('2015'!$C$10:$J$1000,MATCH($B$1&\"_\"&ROW()-9,'2015'!$L$10:$L$1000,0),8),\"\")","v":""}]
[{"$f":"IFERROR(INDEX('2015'!$C$10:$J$1000,MATCH($B$1&\"_\"&ROW()-9,'2015'!$L$10:$L$1000,0),1),\"\")","v":""},{"$f":"IFERROR(INDEX('2015'!$C$10:$J$1000,MATCH($B$1&\"_\"&ROW()-9,'2015'!$L$10:$L$1000,0),2),\"\")","v":""},{"$f":"IFERROR(INDEX('2015'!$C$10:$J$1000,MATCH($B$1&\"_\"&ROW()-9,'2015'!$L$10:$L$1000,0),3),\"\")","v":""},{"$f":"IFERROR(INDEX('2015'!$C$10:$J$1000,MATCH($B$1&\"_\"&ROW()-9,'2015'!$L$10:$L$1000,0),4),\"\")","v":""},{"$f":"IFERROR(INDEX('2015'!$C$10:$J$1000,MATCH($B$1&\"_\"&ROW()-9,'2015'!$L$10:$L$1000,0),5),\"\")","v":""},{"$f":"IFERROR(ROUND(INDEX('2015'!$C$10:$J$1000,MATCH($B$1&\"_\"&ROW()-9,'2015'!$L$10:$L$1000,0),6),2),\"\")","v":""},{"$f":"IFERROR(INDEX('2015'!$C$10:$J$1000,MATCH($B$1&\"_\"&ROW()-9,'2015'!$L$10:$L$1000,0),7),\"\")","v":""},{"$f":"IFERROR(INDEX('2015'!$C$10:$J$1000,MATCH($B$1&\"_\"&ROW()-9,'2015'!$L$10:$L$1000,0),8),\"\")","v":""}]
[{"$f":"IFERROR(INDEX('2015'!$C$10:$J$1000,MATCH($B$1&\"_\"&ROW()-9,'2015'!$L$10:$L$1000,0),1),\"\")","v":""},{"$f":"IFERROR(INDEX('2015'!$C$10:$J$1000,MATCH($B$1&\"_\"&ROW()-9,'2015'!$L$10:$L$1000,0),2),\"\")","v":""},{"$f":"IFERROR(INDEX('2015'!$C$10:$J$1000,MATCH($B$1&\"_\"&ROW()-9,'2015'!$L$10:$L$1000,0),3),\"\")","v":""},{"$f":"IFERROR(INDEX('2015'!$C$10:$J$1000,MATCH($B$1&\"_\"&ROW()-9,'2015'!$L$10:$L$1000,0),4),\"\")","v":""},{"$f":"IFERROR(INDEX('2015'!$C$10:$J$1000,MATCH($B$1&\"_\"&ROW()-9,'2015'!$L$10:$L$1000,0),5),\"\")","v":""},{"$f":"IFERROR(ROUND(INDEX('2015'!$C$10:$J$1000,MATCH($B$1&\"_\"&ROW()-9,'2015'!$L$10:$L$1000,0),6),2),\"\")","v":""},{"$f":"IFERROR(INDEX('2015'!$C$10:$J$1000,MATCH($B$1&\"_\"&ROW()-9,'2015'!$L$10:$L$1000,0),7),\"\")","v":""},{"$f":"IFERROR(INDEX('2015'!$C$10:$J$1000,MATCH($B$1&\"_\"&ROW()-9,'2015'!$L$10:$L$1000,0),8),\"\")","v":""}]
[{"$f":"IFERROR(INDEX('2015'!$C$10:$J$1000,MATCH($B$1&\"_\"&ROW()-9,'2015'!$L$10:$L$1000,0),1),\"\")","v":""},{"$f":"IFERROR(INDEX('2015'!$C$10:$J$1000,MATCH($B$1&\"_\"&ROW()-9,'2015'!$L$10:$L$1000,0),2),\"\")","v":""},{"$f":"IFERROR(INDEX('2015'!$C$10:$J$1000,MATCH($B$1&\"_\"&ROW()-9,'2015'!$L$10:$L$1000,0),3),\"\")","v":""},{"$f":"IFERROR(INDEX('2015'!$C$10:$J$1000,MATCH($B$1&\"_\"&ROW()-9,'2015'!$L$10:$L$1000,0),4),\"\")","v":""},{"$f":"IFERROR(INDEX('2015'!$C$10:$J$1000,MATCH($B$1&\"_\"&ROW()-9,'2015'!$L$10:$L$1000,0),5),\"\")","v":""},{"$f":"IFERROR(ROUND(INDEX('2015'!$C$10:$J$1000,MATCH($B$1&\"_\"&ROW()-9,'2015'!$L$10:$L$1000,0),6),2),\"\")","v":""},{"$f":"IFERROR(INDEX('2015'!$C$10:$J$1000,MATCH($B$1&\"_\"&ROW()-9,'2015'!$L$10:$L$1000,0),7),\"\")","v":""},{"$f":"IFERROR(INDEX('2015'!$C$10:$J$1000,MATCH($B$1&\"_\"&ROW()-9,'2015'!$L$10:$L$1000,0),8),\"\")","v":""}]
[{"$f":"IFERROR(INDEX('2015'!$C$10:$J$1000,MATCH($B$1&\"_\"&ROW()-9,'2015'!$L$10:$L$1000,0),1),\"\")","v":""},{"$f":"IFERROR(INDEX('2015'!$C$10:$J$1000,MATCH($B$1&\"_\"&ROW()-9,'2015'!$L$10:$L$1000,0),2),\"\")","v":""},{"$f":"IFERROR(INDEX('2015'!$C$10:$J$1000,MATCH($B$1&\"_\"&ROW()-9,'2015'!$L$10:$L$1000,0),3),\"\")","v":""},{"$f":"IFERROR(INDEX('2015'!$C$10:$J$1000,MATCH($B$1&\"_\"&ROW()-9,'2015'!$L$10:$L$1000,0),4),\"\")","v":""},{"$f":"IFERROR(INDEX('2015'!$C$10:$J$1000,MATCH($B$1&\"_\"&ROW()-9,'2015'!$L$10:$L$1000,0),5),\"\")","v":""},{"$f":"IFERROR(ROUND(INDEX('2015'!$C$10:$J$1000,MATCH($B$1&\"_\"&ROW()-9,'2015'!$L$10:$L$1000,0),6),2),\"\")","v":""},{"$f":"IFERROR(INDEX('2015'!$C$10:$J$1000,MATCH($B$1&\"_\"&ROW()-9,'2015'!$L$10:$L$1000,0),7),\"\")","v":""},{"$f":"IFERROR(INDEX('2015'!$C$10:$J$1000,MATCH($B$1&\"_\"&ROW()-9,'2015'!$L$10:$L$1000,0),8),\"\")","v":""}]
[{"$f":"IFERROR(INDEX('2015'!$C$10:$J$1000,MATCH($B$1&\"_\"&ROW()-9,'2015'!$L$10:$L$1000,0),1),\"\")","v":""},{"$f":"IFERROR(INDEX('2015'!$C$10:$J$1000,MATCH($B$1&\"_\"&ROW()-9,'2015'!$L$10:$L$1000,0),2),\"\")","v":""},{"$f":"IFERROR(INDEX('2015'!$C$10:$J$1000,MATCH($B$1&\"_\"&ROW()-9,'2015'!$L$10:$L$1000,0),3),\"\")","v":""},{"$f":"IFERROR(INDEX('2015'!$C$10:$J$1000,MATCH($B$1&\"_\"&ROW()-9,'2015'!$L$10:$L$1000,0),4),\"\")","v":""},{"$f":"IFERROR(INDEX('2015'!$C$10:$J$1000,MATCH($B$1&\"_\"&ROW()-9,'2015'!$L$10:$L$1000,0),5),\"\")","v":""},{"$f":"IFERROR(ROUND(INDEX('2015'!$C$10:$J$1000,MATCH($B$1&\"_\"&ROW()-9,'2015'!$L$10:$L$1000,0),6),2),\"\")","v":""},{"$f":"IFERROR(INDEX('2015'!$C$10:$J$1000,MATCH($B$1&\"_\"&ROW()-9,'2015'!$L$10:$L$1000,0),7),\"\")","v":""},{"$f":"IFERROR(INDEX('2015'!$C$10:$J$1000,MATCH($B$1&\"_\"&ROW()-9,'2015'!$L$10:$L$1000,0),8),\"\")","v":""}]
[{"$f":"IFERROR(INDEX('2015'!$C$10:$J$1000,MATCH($B$1&\"_\"&ROW()-9,'2015'!$L$10:$L$1000,0),1),\"\")","v":""},{"$f":"IFERROR(INDEX('2015'!$C$10:$J$1000,MATCH($B$1&\"_\"&ROW()-9,'2015'!$L$10:$L$1000,0),2),\"\")","v":""},{"$f":"IFERROR(INDEX('2015'!$C$10:$J$1000,MATCH($B$1&\"_\"&ROW()-9,'2015'!$L$10:$L$1000,0),3),\"\")","v":""},{"$f":"IFERROR(INDEX('2015'!$C$10:$J$1000,MATCH($B$1&\"_\"&ROW()-9,'2015'!$L$10:$L$1000,0),4),\"\")","v":""},{"$f":"IFERROR(INDEX('2015'!$C$10:$J$1000,MATCH($B$1&\"_\"&ROW()-9,'2015'!$L$10:$L$1000,0),5),\"\")","v":""},{"$f":"IFERROR(ROUND(INDEX('2015'!$C$10:$J$1000,MATCH($B$1&\"_\"&ROW()-9,'2015'!$L$10:$L$1000,0),6),2),\"\")","v":""},{"$f":"IFERROR(INDEX('2015'!$C$10:$J$1000,MATCH($B$1&\"_\"&ROW()-9,'2015'!$L$10:$L$1000,0),7),\"\")","v":""},{"$f":"IFERROR(INDEX('2015'!$C$10:$J$1000,MATCH($B$1&\"_\"&ROW()-9,'2015'!$L$10:$L$1000,0),8),\"\")","v":""}]
[{"$f":"IFERROR(INDEX('2015'!$C$10:$J$1000,MATCH($B$1&\"_\"&ROW()-9,'2015'!$L$10:$L$1000,0),1),\"\")","v":""},{"$f":"IFERROR(INDEX('2015'!$C$10:$J$1000,MATCH($B$1&\"_\"&ROW()-9,'2015'!$L$10:$L$1000,0),2),\"\")","v":""},{"$f":"IFERROR(INDEX('2015'!$C$10:$J$1000,MATCH($B$1&\"_\"&ROW()-9,'2015'!$L$10:$L$1000,0),3),\"\")","v":""},{"$f":"IFERROR(INDEX('2015'!$C$10:$J$1000,MATCH($B$1&\"_\"&ROW()-9,'2015'!$L$10:$L$1000,0),4),\"\")","v":""},{"$f":"IFERROR(INDEX('2015'!$C$10:$J$1000,MATCH($B$1&\"_\"&ROW()-9,'2015'!$L$10:$L$1000,0),5),\"\")","v":""},{"$f":"IFERROR(ROUND(INDEX('2015'!$C$10:$J$1000,MATCH($B$1&\"_\"&ROW()-9,'2015'!$L$10:$L$1000,0),6),2),\"\")","v":""},{"$f":"IFERROR(INDEX('2015'!$C$10:$J$1000,MATCH($B$1&\"_\"&ROW()-9,'2015'!$L$10:$L$1000,0),7),\"\")","v":""},{"$f":"IFERROR(INDEX('2015'!$C$10:$J$1000,MATCH($B$1&\"_\"&ROW()-9,'2015'!$L$10:$L$1000,0),8),\"\")","v":""}]
[{"$f":"IFERROR(INDEX('2015'!$C$10:$J$1000,MATCH($B$1&\"_\"&ROW()-9,'2015'!$L$10:$L$1000,0),1),\"\")","v":""},{"$f":"IFERROR(INDEX('2015'!$C$10:$J$1000,MATCH($B$1&\"_\"&ROW()-9,'2015'!$L$10:$L$1000,0),2),\"\")","v":""},{"$f":"IFERROR(INDEX('2015'!$C$10:$J$1000,MATCH($B$1&\"_\"&ROW()-9,'2015'!$L$10:$L$1000,0),3),\"\")","v":""},{"$f":"IFERROR(INDEX('2015'!$C$10:$J$1000,MATCH($B$1&\"_\"&ROW()-9,'2015'!$L$10:$L$1000,0),4),\"\")","v":""},{"$f":"IFERROR(INDEX('2015'!$C$10:$J$1000,MATCH($B$1&\"_\"&ROW()-9,'2015'!$L$10:$L$1000,0),5),\"\")","v":""},{"$f":"IFERROR(ROUND(INDEX('2015'!$C$10:$J$1000,MATCH($B$1&\"_\"&ROW()-9,'2015'!$L$10:$L$1000,0),6),2),\"\")","v":""},{"$f":"IFERROR(INDEX('2015'!$C$10:$J$1000,MATCH($B$1&\"_\"&ROW()-9,'2015'!$L$10:$L$1000,0),7),\"\")","v":""},{"$f":"IFERROR(INDEX('2015'!$C$10:$J$1000,MATCH($B$1&\"_\"&ROW()-9,'2015'!$L$10:$L$1000,0),8),\"\")","v":""}]
[{"$f":"IFERROR(INDEX('2015'!$C$10:$J$1000,MATCH($B$1&\"_\"&ROW()-9,'2015'!$L$10:$L$1000,0),1),\"\")","v":""},{"$f":"IFERROR(INDEX('2015'!$C$10:$J$1000,MATCH($B$1&\"_\"&ROW()-9,'2015'!$L$10:$L$1000,0),2),\"\")","v":""},{"$f":"IFERROR(INDEX('2015'!$C$10:$J$1000,MATCH($B$1&\"_\"&ROW()-9,'2015'!$L$10:$L$1000,0),3),\"\")","v":""},{"$f":"IFERROR(INDEX('2015'!$C$10:$J$1000,MATCH($B$1&\"_\"&ROW()-9,'2015'!$L$10:$L$1000,0),4),\"\")","v":""},{"$f":"IFERROR(INDEX('2015'!$C$10:$J$1000,MATCH($B$1&\"_\"&ROW()-9,'2015'!$L$10:$L$1000,0),5),\"\")","v":""},{"$f":"IFERROR(ROUND(INDEX('2015'!$C$10:$J$1000,MATCH($B$1&\"_\"&ROW()-9,'2015'!$L$10:$L$1000,0),6),2),\"\")","v":""},{"$f":"IFERROR(INDEX('2015'!$C$10:$J$1000,MATCH($B$1&\"_\"&ROW()-9,'2015'!$L$10:$L$1000,0),7),\"\")","v":""},{"$f":"IFERROR(INDEX('2015'!$C$10:$J$1000,MATCH($B$1&\"_\"&ROW()-9,'2015'!$L$10:$L$1000,0),8),\"\")","v":""}]
[{"$f":"IFERROR(INDEX('2015'!$C$10:$J$1000,MATCH($B$1&\"_\"&ROW()-9,'2015'!$L$10:$L$1000,0),1),\"\")","v":""},{"$f":"IFERROR(INDEX('2015'!$C$10:$J$1000,MATCH($B$1&\"_\"&ROW()-9,'2015'!$L$10:$L$1000,0),2),\"\")","v":""},{"$f":"IFERROR(INDEX('2015'!$C$10:$J$1000,MATCH($B$1&\"_\"&ROW()-9,'2015'!$L$10:$L$1000,0),3),\"\")","v":""},{"$f":"IFERROR(INDEX('2015'!$C$10:$J$1000,MATCH($B$1&\"_\"&ROW()-9,'2015'!$L$10:$L$1000,0),4),\"\")","v":""},{"$f":"IFERROR(INDEX('2015'!$C$10:$J$1000,MATCH($B$1&\"_\"&ROW()-9,'2015'!$L$10:$L$1000,0),5),\"\")","v":""},{"$f":"IFERROR(ROUND(INDEX('2015'!$C$10:$J$1000,MATCH($B$1&\"_\"&ROW()-9,'2015'!$L$10:$L$1000,0),6),2),\"\")","v":""},{"$f":"IFERROR(INDEX('2015'!$C$10:$J$1000,MATCH($B$1&\"_\"&ROW()-9,'2015'!$L$10:$L$1000,0),7),\"\")","v":""},{"$f":"IFERROR(INDEX('2015'!$C$10:$J$1000,MATCH($B$1&\"_\"&ROW()-9,'2015'!$L$10:$L$1000,0),8),\"\")","v":""}]
[{"$f":"IFERROR(INDEX('2015'!$C$10:$J$1000,MATCH($B$1&\"_\"&ROW()-9,'2015'!$L$10:$L$1000,0),1),\"\")","v":""},{"$f":"IFERROR(INDEX('2015'!$C$10:$J$1000,MATCH($B$1&\"_\"&ROW()-9,'2015'!$L$10:$L$1000,0),2),\"\")","v":""},{"$f":"IFERROR(INDEX('2015'!$C$10:$J$1000,MATCH($B$1&\"_\"&ROW()-9,'2015'!$L$10:$L$1000,0),3),\"\")","v":""},{"$f":"IFERROR(INDEX('2015'!$C$10:$J$1000,MATCH($B$1&\"_\"&ROW()-9,'2015'!$L$10:$L$1000,0),4),\"\")","v":""},{"$f":"IFERROR(INDEX('2015'!$C$10:$J$1000,MATCH($B$1&\"_\"&ROW()-9,'2015'!$L$10:$L$1000,0),5),\"\")","v":""},{"$f":"IFERROR(ROUND(INDEX('2015'!$C$10:$J$1000,MATCH($B$1&\"_\"&ROW()-9,'2015'!$L$10:$L$1000,0),6),2),\"\")","v":""},{"$f":"IFERROR(INDEX('2015'!$C$10:$J$1000,MATCH($B$1&\"_\"&ROW()-9,'2015'!$L$10:$L$1000,0),7),\"\")","v":""},{"$f":"IFERROR(INDEX('2015'!$C$10:$J$1000,MATCH($B$1&\"_\"&ROW()-9,'2015'!$L$10:$L$1000,0),8),\"\")","v":""}]
[{"$f":"IFERROR(INDEX('2015'!$C$10:$J$1000,MATCH($B$1&\"_\"&ROW()-9,'2015'!$L$10:$L$1000,0),1),\"\")","v":""},{"$f":"IFERROR(INDEX('2015'!$C$10:$J$1000,MATCH($B$1&\"_\"&ROW()-9,'2015'!$L$10:$L$1000,0),2),\"\")","v":""},{"$f":"IFERROR(INDEX('2015'!$C$10:$J$1000,MATCH($B$1&\"_\"&ROW()-9,'2015'!$L$10:$L$1000,0),3),\"\")","v":""},{"$f":"IFERROR(INDEX('2015'!$C$10:$J$1000,MATCH($B$1&\"_\"&ROW()-9,'2015'!$L$10:$L$1000,0),4),\"\")","v":""},{"$f":"IFERROR(INDEX('2015'!$C$10:$J$1000,MATCH($B$1&\"_\"&ROW()-9,'2015'!$L$10:$L$1000,0),5),\"\")","v":""},{"$f":"IFERROR(ROUND(INDEX('2015'!$C$10:$J$1000,MATCH($B$1&\"_\"&ROW()-9,'2015'!$L$10:$L$1000,0),6),2),\"\")","v":""},{"$f":"IFERROR(INDEX('2015'!$C$10:$J$1000,MATCH($B$1&\"_\"&ROW()-9,'2015'!$L$10:$L$1000,0),7),\"\")","v":""},{"$f":"IFERROR(INDEX('2015'!$C$10:$J$1000,MATCH($B$1&\"_\"&ROW()-9,'2015'!$L$10:$L$1000,0),8),\"\")","v":""}]
[{"$f":"IFERROR(INDEX('2015'!$C$10:$J$1000,MATCH($B$1&\"_\"&ROW()-9,'2015'!$L$10:$L$1000,0),1),\"\")","v":""},{"$f":"IFERROR(INDEX('2015'!$C$10:$J$1000,MATCH($B$1&\"_\"&ROW()-9,'2015'!$L$10:$L$1000,0),2),\"\")","v":""},{"$f":"IFERROR(INDEX('2015'!$C$10:$J$1000,MATCH($B$1&\"_\"&ROW()-9,'2015'!$L$10:$L$1000,0),3),\"\")","v":""},{"$f":"IFERROR(INDEX('2015'!$C$10:$J$1000,MATCH($B$1&\"_\"&ROW()-9,'2015'!$L$10:$L$1000,0),4),\"\")","v":""},{"$f":"IFERROR(INDEX('2015'!$C$10:$J$1000,MATCH($B$1&\"_\"&ROW()-9,'2015'!$L$10:$L$1000,0),5),\"\")","v":""},{"$f":"IFERROR(ROUND(INDEX('2015'!$C$10:$J$1000,MATCH($B$1&\"_\"&ROW()-9,'2015'!$L$10:$L$1000,0),6),2),\"\")","v":""},{"$f":"IFERROR(INDEX('2015'!$C$10:$J$1000,MATCH($B$1&\"_\"&ROW()-9,'2015'!$L$10:$L$1000,0),7),\"\")","v":""},{"$f":"IFERROR(INDEX('2015'!$C$10:$J$1000,MATCH($B$1&\"_\"&ROW()-9,'2015'!$L$10:$L$1000,0),8),\"\")","v":""}]
[{"$f":"IFERROR(INDEX('2015'!$C$10:$J$1000,MATCH($B$1&\"_\"&ROW()-9,'2015'!$L$10:$L$1000,0),1),\"\")","v":""},{"$f":"IFERROR(INDEX('2015'!$C$10:$J$1000,MATCH($B$1&\"_\"&ROW()-9,'2015'!$L$10:$L$1000,0),2),\"\")","v":""},{"$f":"IFERROR(INDEX('2015'!$C$10:$J$1000,MATCH($B$1&\"_\"&ROW()-9,'2015'!$L$10:$L$1000,0),3),\"\")","v":""},{"$f":"IFERROR(INDEX('2015'!$C$10:$J$1000,MATCH($B$1&\"_\"&ROW()-9,'2015'!$L$10:$L$1000,0),4),\"\")","v":""},{"$f":"IFERROR(INDEX('2015'!$C$10:$J$1000,MATCH($B$1&\"_\"&ROW()-9,'2015'!$L$10:$L$1000,0),5),\"\")","v":""},{"$f":"IFERROR(ROUND(INDEX('2015'!$C$10:$J$1000,MATCH($B$1&\"_\"&ROW()-9,'2015'!$L$10:$L$1000,0),6),2),\"\")","v":""},{"$f":"IFERROR(INDEX('2015'!$C$10:$J$1000,MATCH($B$1&\"_\"&ROW()-9,'2015'!$L$10:$L$1000,0),7),\"\")","v":""},{"$f":"IFERROR(INDEX('2015'!$C$10:$J$1000,MATCH($B$1&\"_\"&ROW()-9,'2015'!$L$10:$L$1000,0),8),\"\")","v":""}]
[{"$f":"IFERROR(INDEX('2015'!$C$10:$J$1000,MATCH($B$1&\"_\"&ROW()-9,'2015'!$L$10:$L$1000,0),1),\"\")","v":""},{"$f":"IFERROR(INDEX('2015'!$C$10:$J$1000,MATCH($B$1&\"_\"&ROW()-9,'2015'!$L$10:$L$1000,0),2),\"\")","v":""},{"$f":"IFERROR(INDEX('2015'!$C$10:$J$1000,MATCH($B$1&\"_\"&ROW()-9,'2015'!$L$10:$L$1000,0),3),\"\")","v":""},{"$f":"IFERROR(INDEX('2015'!$C$10:$J$1000,MATCH($B$1&\"_\"&ROW()-9,'2015'!$L$10:$L$1000,0),4),\"\")","v":""},{"$f":"IFERROR(INDEX('2015'!$C$10:$J$1000,MATCH($B$1&\"_\"&ROW()-9,'2015'!$L$10:$L$1000,0),5),\"\")","v":""},{"$f":"IFERROR(ROUND(INDEX('2015'!$C$10:$J$1000,MATCH($B$1&\"_\"&ROW()-9,'2015'!$L$10:$L$1000,0),6),2),\"\")","v":""},{"$f":"IFERROR(INDEX('2015'!$C$10:$J$1000,MATCH($B$1&\"_\"&ROW()-9,'2015'!$L$10:$L$1000,0),7),\"\")","v":""},{"$f":"IFERROR(INDEX('2015'!$C$10:$J$1000,MATCH($B$1&\"_\"&ROW()-9,'2015'!$L$10:$L$1000,0),8),\"\")","v":""}]
[{"$f":"IFERROR(INDEX('2015'!$C$10:$J$1000,MATCH($B$1&\"_\"&ROW()-9,'2015'!$L$10:$L$1000,0),1),\"\")","v":""},{"$f":"IFERROR(INDEX('2015'!$C$10:$J$1000,MATCH($B$1&\"_\"&ROW()-9,'2015'!$L$10:$L$1000,0),2),\"\")","v":""},{"$f":"IFERROR(INDEX('2015'!$C$10:$J$1000,MATCH($B$1&\"_\"&ROW()-9,'2015'!$L$10:$L$1000,0),3),\"\")","v":""},{"$f":"IFERROR(INDEX('2015'!$C$10:$J$1000,MATCH($B$1&\"_\"&ROW()-9,'2015'!$L$10:$L$1000,0),4),\"\")","v":""},{"$f":"IFERROR(INDEX('2015'!$C$10:$J$1000,MATCH($B$1&\"_\"&ROW()-9,'2015'!$L$10:$L$1000,0),5),\"\")","v":""},{"$f":"IFERROR(ROUND(INDEX('2015'!$C$10:$J$1000,MATCH($B$1&\"_\"&ROW()-9,'2015'!$L$10:$L$1000,0),6),2),\"\")","v":""},{"$f":"IFERROR(INDEX('2015'!$C$10:$J$1000,MATCH($B$1&\"_\"&ROW()-9,'2015'!$L$10:$L$1000,0),7),\"\")","v":""},{"$f":"IFERROR(INDEX('2015'!$C$10:$J$1000,MATCH($B$1&\"_\"&ROW()-9,'2015'!$L$10:$L$1000,0),8),\"\")","v":""}]
[{"$f":"IFERROR(INDEX('2015'!$C$10:$J$1000,MATCH($B$1&\"_\"&ROW()-9,'2015'!$L$10:$L$1000,0),1),\"\")","v":""},{"$f":"IFERROR(INDEX('2015'!$C$10:$J$1000,MATCH($B$1&\"_\"&ROW()-9,'2015'!$L$10:$L$1000,0),2),\"\")","v":""},{"$f":"IFERROR(INDEX('2015'!$C$10:$J$1000,MATCH($B$1&\"_\"&ROW()-9,'2015'!$L$10:$L$1000,0),3),\"\")","v":""},{"$f":"IFERROR(INDEX('2015'!$C$10:$J$1000,MATCH($B$1&\"_\"&ROW()-9,'2015'!$L$10:$L$1000,0),4),\"\")","v":""},{"$f":"IFERROR(INDEX('2015'!$C$10:$J$1000,MATCH($B$1&\"_\"&ROW()-9,'2015'!$L$10:$L$1000,0),5),\"\")","v":""},{"$f":"IFERROR(ROUND(INDEX('2015'!$C$10:$J$1000,MATCH($B$1&\"_\"&ROW()-9,'2015'!$L$10:$L$1000,0),6),2),\"\")","v":""},{"$f":"IFERROR(INDEX('2015'!$C$10:$J$1000,MATCH($B$1&\"_\"&ROW()-9,'2015'!$L$10:$L$1000,0),7),\"\")","v":""},{"$f":"IFERROR(INDEX('2015'!$C$10:$J$1000,MATCH($B$1&\"_\"&ROW()-9,'2015'!$L$10:$L$1000,0),8),\"\")","v":""}]
[{"$f":"IFERROR(INDEX('2015'!$C$10:$J$1000,MATCH($B$1&\"_\"&ROW()-9,'2015'!$L$10:$L$1000,0),1),\"\")","v":""},{"$f":"IFERROR(INDEX('2015'!$C$10:$J$1000,MATCH($B$1&\"_\"&ROW()-9,'2015'!$L$10:$L$1000,0),2),\"\")","v":""},{"$f":"IFERROR(INDEX('2015'!$C$10:$J$1000,MATCH($B$1&\"_\"&ROW()-9,'2015'!$L$10:$L$1000,0),3),\"\")","v":""},{"$f":"IFERROR(INDEX('2015'!$C$10:$J$1000,MATCH($B$1&\"_\"&ROW()-9,'2015'!$L$10:$L$1000,0),4),\"\")","v":""},{"$f":"IFERROR(INDEX('2015'!$C$10:$J$1000,MATCH($B$1&\"_\"&ROW()-9,'2015'!$L$10:$L$1000,0),5),\"\")","v":""},{"$f":"IFERROR(ROUND(INDEX('2015'!$C$10:$J$1000,MATCH($B$1&\"_\"&ROW()-9,'2015'!$L$10:$L$1000,0),6),2),\"\")","v":""},{"$f":"IFERROR(INDEX('2015'!$C$10:$J$1000,MATCH($B$1&\"_\"&ROW()-9,'2015'!$L$10:$L$1000,0),7),\"\")","v":""},{"$f":"IFERROR(INDEX('2015'!$C$10:$J$1000,MATCH($B$1&\"_\"&ROW()-9,'2015'!$L$10:$L$1000,0),8),\"\")","v":""}]
[{"$f":"IFERROR(INDEX('2015'!$C$10:$J$1000,MATCH($B$1&\"_\"&ROW()-9,'2015'!$L$10:$L$1000,0),1),\"\")","v":""},{"$f":"IFERROR(INDEX('2015'!$C$10:$J$1000,MATCH($B$1&\"_\"&ROW()-9,'2015'!$L$10:$L$1000,0),2),\"\")","v":""},{"$f":"IFERROR(INDEX('2015'!$C$10:$J$1000,MATCH($B$1&\"_\"&ROW()-9,'2015'!$L$10:$L$1000,0),3),\"\")","v":""},{"$f":"IFERROR(INDEX('2015'!$C$10:$J$1000,MATCH($B$1&\"_\"&ROW()-9,'2015'!$L$10:$L$1000,0),4),\"\")","v":""},{"$f":"IFERROR(INDEX('2015'!$C$10:$J$1000,MATCH($B$1&\"_\"&ROW()-9,'2015'!$L$10:$L$1000,0),5),\"\")","v":""},{"$f":"IFERROR(ROUND(INDEX('2015'!$C$10:$J$1000,MATCH($B$1&\"_\"&ROW()-9,'2015'!$L$10:$L$1000,0),6),2),\"\")","v":""},{"$f":"IFERROR(INDEX('2015'!$C$10:$J$1000,MATCH($B$1&\"_\"&ROW()-9,'2015'!$L$10:$L$1000,0),7),\"\")","v":""},{"$f":"IFERROR(INDEX('2015'!$C$10:$J$1000,MATCH($B$1&\"_\"&ROW()-9,'2015'!$L$10:$L$1000,0),8),\"\")","v":""}]
[{"$f":"IFERROR(INDEX('2015'!$C$10:$J$1000,MATCH($B$1&\"_\"&ROW()-9,'2015'!$L$10:$L$1000,0),1),\"\")","v":""},{"$f":"IFERROR(INDEX('2015'!$C$10:$J$1000,MATCH($B$1&\"_\"&ROW()-9,'2015'!$L$10:$L$1000,0),2),\"\")","v":""},{"$f":"IFERROR(INDEX('2015'!$C$10:$J$1000,MATCH($B$1&\"_\"&ROW()-9,'2015'!$L$10:$L$1000,0),3),\"\")","v":""},{"$f":"IFERROR(INDEX('2015'!$C$10:$J$1000,MATCH($B$1&\"_\"&ROW()-9,'2015'!$L$10:$L$1000,0),4),\"\")","v":""},{"$f":"IFERROR(INDEX('2015'!$C$10:$J$1000,MATCH($B$1&\"_\"&ROW()-9,'2015'!$L$10:$L$1000,0),5),\"\")","v":""},{"$f":"IFERROR(ROUND(INDEX('2015'!$C$10:$J$1000,MATCH($B$1&\"_\"&ROW()-9,'2015'!$L$10:$L$1000,0),6),2),\"\")","v":""},{"$f":"IFERROR(INDEX('2015'!$C$10:$J$1000,MATCH($B$1&\"_\"&ROW()-9,'2015'!$L$10:$L$1000,0),7),\"\")","v":""},{"$f":"IFERROR(INDEX('2015'!$C$10:$J$1000,MATCH($B$1&\"_\"&ROW()-9,'2015'!$L$10:$L$1000,0),8),\"\")","v":""}]
[{"$f":"IFERROR(INDEX('2015'!$C$10:$J$1000,MATCH($B$1&\"_\"&ROW()-9,'2015'!$L$10:$L$1000,0),1),\"\")","v":""},{"$f":"IFERROR(INDEX('2015'!$C$10:$J$1000,MATCH($B$1&\"_\"&ROW()-9,'2015'!$L$10:$L$1000,0),2),\"\")","v":""},{"$f":"IFERROR(INDEX('2015'!$C$10:$J$1000,MATCH($B$1&\"_\"&ROW()-9,'2015'!$L$10:$L$1000,0),3),\"\")","v":""},{"$f":"IFERROR(INDEX('2015'!$C$10:$J$1000,MATCH($B$1&\"_\"&ROW()-9,'2015'!$L$10:$L$1000,0),4),\"\")","v":""},{"$f":"IFERROR(INDEX('2015'!$C$10:$J$1000,MATCH($B$1&\"_\"&ROW()-9,'2015'!$L$10:$L$1000,0),5),\"\")","v":""},{"$f":"IFERROR(ROUND(INDEX('2015'!$C$10:$J$1000,MATCH($B$1&\"_\"&ROW()-9,'2015'!$L$10:$L$1000,0),6),2),\"\")","v":""},{"$f":"IFERROR(INDEX('2015'!$C$10:$J$1000,MATCH($B$1&\"_\"&ROW()-9,'2015'!$L$10:$L$1000,0),7),\"\")","v":""},{"$f":"IFERROR(INDEX('2015'!$C$10:$J$1000,MATCH($B$1&\"_\"&ROW()-9,'2015'!$L$10:$L$1000,0),8),\"\")","v":""}]
[{"$f":"IFERROR(INDEX('2015'!$C$10:$J$1000,MATCH($B$1&\"_\"&ROW()-9,'2015'!$L$10:$L$1000,0),1),\"\")","v":""},{"$f":"IFERROR(INDEX('2015'!$C$10:$J$1000,MATCH($B$1&\"_\"&ROW()-9,'2015'!$L$10:$L$1000,0),2),\"\")","v":""},{"$f":"IFERROR(INDEX('2015'!$C$10:$J$1000,MATCH($B$1&\"_\"&ROW()-9,'2015'!$L$10:$L$1000,0),3),\"\")","v":""},{"$f":"IFERROR(INDEX('2015'!$C$10:$J$1000,MATCH($B$1&\"_\"&ROW()-9,'2015'!$L$10:$L$1000,0),4),\"\")","v":""},{"$f":"IFERROR(INDEX('2015'!$C$10:$J$1000,MATCH($B$1&\"_\"&ROW()-9,'2015'!$L$10:$L$1000,0),5),\"\")","v":""},{"$f":"IFERROR(ROUND(INDEX('2015'!$C$10:$J$1000,MATCH($B$1&\"_\"&ROW()-9,'2015'!$L$10:$L$1000,0),6),2),\"\")","v":""},{"$f":"IFERROR(INDEX('2015'!$C$10:$J$1000,MATCH($B$1&\"_\"&ROW()-9,'2015'!$L$10:$L$1000,0),7),\"\")","v":""},{"$f":"IFERROR(INDEX('2015'!$C$10:$J$1000,MATCH($B$1&\"_\"&ROW()-9,'2015'!$L$10:$L$1000,0),8),\"\")","v":""}]
[{"$f":"IFERROR(INDEX('2015'!$C$10:$J$1000,MATCH($B$1&\"_\"&ROW()-9,'2015'!$L$10:$L$1000,0),1),\"\")","v":""},{"$f":"IFERROR(INDEX('2015'!$C$10:$J$1000,MATCH($B$1&\"_\"&ROW()-9,'2015'!$L$10:$L$1000,0),2),\"\")","v":""},{"$f":"IFERROR(INDEX('2015'!$C$10:$J$1000,MATCH($B$1&\"_\"&ROW()-9,'2015'!$L$10:$L$1000,0),3),\"\")","v":""},{"$f":"IFERROR(INDEX('2015'!$C$10:$J$1000,MATCH($B$1&\"_\"&ROW()-9,'2015'!$L$10:$L$1000,0),4),\"\")","v":""},{"$f":"IFERROR(INDEX('2015'!$C$10:$J$1000,MATCH($B$1&\"_\"&ROW()-9,'2015'!$L$10:$L$1000,0),5),\"\")","v":""},{"$f":"IFERROR(ROUND(INDEX('2015'!$C$10:$J$1000,MATCH($B$1&\"_\"&ROW()-9,'2015'!$L$10:$L$1000,0),6),2),\"\")","v":""},{"$f":"IFERROR(INDEX('2015'!$C$10:$J$1000,MATCH($B$1&\"_\"&ROW()-9,'2015'!$L$10:$L$1000,0),7),\"\")","v":""},{"$f":"IFERROR(INDEX('2015'!$C$10:$J$1000,MATCH($B$1&\"_\"&ROW()-9,'2015'!$L$10:$L$1000,0),8),\"\")","v":""}]
[{"$f":"IFERROR(INDEX('2015'!$C$10:$J$1000,MATCH($B$1&\"_\"&ROW()-9,'2015'!$L$10:$L$1000,0),1),\"\")","v":""},{"$f":"IFERROR(INDEX('2015'!$C$10:$J$1000,MATCH($B$1&\"_\"&ROW()-9,'2015'!$L$10:$L$1000,0),2),\"\")","v":""},{"$f":"IFERROR(INDEX('2015'!$C$10:$J$1000,MATCH($B$1&\"_\"&ROW()-9,'2015'!$L$10:$L$1000,0),3),\"\")","v":""},{"$f":"IFERROR(INDEX('2015'!$C$10:$J$1000,MATCH($B$1&\"_\"&ROW()-9,'2015'!$L$10:$L$1000,0),4),\"\")","v":""},{"$f":"IFERROR(INDEX('2015'!$C$10:$J$1000,MATCH($B$1&\"_\"&ROW()-9,'2015'!$L$10:$L$1000,0),5),\"\")","v":""},{"$f":"IFERROR(ROUND(INDEX('2015'!$C$10:$J$1000,MATCH($B$1&\"_\"&ROW()-9,'2015'!$L$10:$L$1000,0),6),2),\"\")","v":""},{"$f":"IFERROR(INDEX('2015'!$C$10:$J$1000,MATCH($B$1&\"_\"&ROW()-9,'2015'!$L$10:$L$1000,0),7),\"\")","v":""},{"$f":"IFERROR(INDEX('2015'!$C$10:$J$1000,MATCH($B$1&\"_\"&ROW()-9,'2015'!$L$10:$L$1000,0),8),\"\")","v":""}]
[{"$f":"IFERROR(INDEX('2015'!$C$10:$J$1000,MATCH($B$1&\"_\"&ROW()-9,'2015'!$L$10:$L$1000,0),1),\"\")","v":""},{"$f":"IFERROR(INDEX('2015'!$C$10:$J$1000,MATCH($B$1&\"_\"&ROW()-9,'2015'!$L$10:$L$1000,0),2),\"\")","v":""},{"$f":"IFERROR(INDEX('2015'!$C$10:$J$1000,MATCH($B$1&\"_\"&ROW()-9,'2015'!$L$10:$L$1000,0),3),\"\")","v":""},{"$f":"IFERROR(INDEX('2015'!$C$10:$J$1000,MATCH($B$1&\"_\"&ROW()-9,'2015'!$L$10:$L$1000,0),4),\"\")","v":""},{"$f":"IFERROR(INDEX('2015'!$C$10:$J$1000,MATCH($B$1&\"_\"&ROW()-9,'2015'!$L$10:$L$1000,0),5),\"\")","v":""},{"$f":"IFERROR(ROUND(INDEX('2015'!$C$10:$J$1000,MATCH($B$1&\"_\"&ROW()-9,'2015'!$L$10:$L$1000,0),6),2),\"\")","v":""},{"$f":"IFERROR(INDEX('2015'!$C$10:$J$1000,MATCH($B$1&\"_\"&ROW()-9,'2015'!$L$10:$L$1000,0),7),\"\")","v":""},{"$f":"IFERROR(INDEX('2015'!$C$10:$J$1000,MATCH($B$1&\"_\"&ROW()-9,'2015'!$L$10:$L$1000,0),8),\"\")","v":""}]
[{"$f":"IFERROR(INDEX('2015'!$C$10:$J$1000,MATCH($B$1&\"_\"&ROW()-9,'2015'!$L$10:$L$1000,0),1),\"\")","v":""},{"$f":"IFERROR(INDEX('2015'!$C$10:$J$1000,MATCH($B$1&\"_\"&ROW()-9,'2015'!$L$10:$L$1000,0),2),\"\")","v":""},{"$f":"IFERROR(INDEX('2015'!$C$10:$J$1000,MATCH($B$1&\"_\"&ROW()-9,'2015'!$L$10:$L$1000,0),3),\"\")","v":""},{"$f":"IFERROR(INDEX('2015'!$C$10:$J$1000,MATCH($B$1&\"_\"&ROW()-9,'2015'!$L$10:$L$1000,0),4),\"\")","v":""},{"$f":"IFERROR(INDEX('2015'!$C$10:$J$1000,MATCH($B$1&\"_\"&ROW()-9,'2015'!$L$10:$L$1000,0),5),\"\")","v":""},{"$f":"IFERROR(ROUND(INDEX('2015'!$C$10:$J$1000,MATCH($B$1&\"_\"&ROW()-9,'2015'!$L$10:$L$1000,0),6),2),\"\")","v":""},{"$f":"IFERROR(INDEX('2015'!$C$10:$J$1000,MATCH($B$1&\"_\"&ROW()-9,'2015'!$L$10:$L$1000,0),7),\"\")","v":""},{"$f":"IFERROR(INDEX('2015'!$C$10:$J$1000,MATCH($B$1&\"_\"&ROW()-9,'2015'!$L$10:$L$1000,0),8),\"\")","v":""}]
[{"$f":"IFERROR(INDEX('2015'!$C$10:$J$1000,MATCH($B$1&\"_\"&ROW()-9,'2015'!$L$10:$L$1000,0),1),\"\")","v":""},{"$f":"IFERROR(INDEX('2015'!$C$10:$J$1000,MATCH($B$1&\"_\"&ROW()-9,'2015'!$L$10:$L$1000,0),2),\"\")","v":""},{"$f":"IFERROR(INDEX('2015'!$C$10:$J$1000,MATCH($B$1&\"_\"&ROW()-9,'2015'!$L$10:$L$1000,0),3),\"\")","v":""},{"$f":"IFERROR(INDEX('2015'!$C$10:$J$1000,MATCH($B$1&\"_\"&ROW()-9,'2015'!$L$10:$L$1000,0),4),\"\")","v":""},{"$f":"IFERROR(INDEX('2015'!$C$10:$J$1000,MATCH($B$1&\"_\"&ROW()-9,'2015'!$L$10:$L$1000,0),5),\"\")","v":""},{"$f":"IFERROR(ROUND(INDEX('2015'!$C$10:$J$1000,MATCH($B$1&\"_\"&ROW()-9,'2015'!$L$10:$L$1000,0),6),2),\"\")","v":""},{"$f":"IFERROR(INDEX('2015'!$C$10:$J$1000,MATCH($B$1&\"_\"&ROW()-9,'2015'!$L$10:$L$1000,0),7),\"\")","v":""},{"$f":"IFERROR(INDEX('2015'!$C$10:$J$1000,MATCH($B$1&\"_\"&ROW()-9,'2015'!$L$10:$L$1000,0),8),\"\")","v":""}]
[{"$f":"IFERROR(INDEX('2015'!$C$10:$J$1000,MATCH($B$1&\"_\"&ROW()-9,'2015'!$L$10:$L$1000,0),1),\"\")","v":""},{"$f":"IFERROR(INDEX('2015'!$C$10:$J$1000,MATCH($B$1&\"_\"&ROW()-9,'2015'!$L$10:$L$1000,0),2),\"\")","v":""},{"$f":"IFERROR(INDEX('2015'!$C$10:$J$1000,MATCH($B$1&\"_\"&ROW()-9,'2015'!$L$10:$L$1000,0),3),\"\")","v":""},{"$f":"IFERROR(INDEX('2015'!$C$10:$J$1000,MATCH($B$1&\"_\"&ROW()-9,'2015'!$L$10:$L$1000,0),4),\"\")","v":""},{"$f":"IFERROR(INDEX('2015'!$C$10:$J$1000,MATCH($B$1&\"_\"&ROW()-9,'2015'!$L$10:$L$1000,0),5),\"\")","v":""},{"$f":"IFERROR(ROUND(INDEX('2015'!$C$10:$J$1000,MATCH($B$1&\"_\"&ROW()-9,'2015'!$L$10:$L$1000,0),6),2),\"\")","v":""},{"$f":"IFERROR(INDEX('2015'!$C$10:$J$1000,MATCH($B$1&\"_\"&ROW()-9,'2015'!$L$10:$L$1000,0),7),\"\")","v":""},{"$f":"IFERROR(INDEX('2015'!$C$10:$J$1000,MATCH($B$1&\"_\"&ROW()-9,'2015'!$L$10:$L$1000,0),8),\"\")","v":""}]
[{"$f":"IFERROR(INDEX('2015'!$C$10:$J$1000,MATCH($B$1&\"_\"&ROW()-9,'2015'!$L$10:$L$1000,0),1),\"\")","v":""},{"$f":"IFERROR(INDEX('2015'!$C$10:$J$1000,MATCH($B$1&\"_\"&ROW()-9,'2015'!$L$10:$L$1000,0),2),\"\")","v":""},{"$f":"IFERROR(INDEX('2015'!$C$10:$J$1000,MATCH($B$1&\"_\"&ROW()-9,'2015'!$L$10:$L$1000,0),3),\"\")","v":""},{"$f":"IFERROR(INDEX('2015'!$C$10:$J$1000,MATCH($B$1&\"_\"&ROW()-9,'2015'!$L$10:$L$1000,0),4),\"\")","v":""},{"$f":"IFERROR(INDEX('2015'!$C$10:$J$1000,MATCH($B$1&\"_\"&ROW()-9,'2015'!$L$10:$L$1000,0),5),\"\")","v":""},{"$f":"IFERROR(ROUND(INDEX('2015'!$C$10:$J$1000,MATCH($B$1&\"_\"&ROW()-9,'2015'!$L$10:$L$1000,0),6),2),\"\")","v":""},{"$f":"IFERROR(INDEX('2015'!$C$10:$J$1000,MATCH($B$1&\"_\"&ROW()-9,'2015'!$L$10:$L$1000,0),7),\"\")","v":""},{"$f":"IFERROR(INDEX('2015'!$C$10:$J$1000,MATCH($B$1&\"_\"&ROW()-9,'2015'!$L$10:$L$1000,0),8),\"\")","v":""}]
[{"$f":"IFERROR(INDEX('2015'!$C$10:$J$1000,MATCH($B$1&\"_\"&ROW()-9,'2015'!$L$10:$L$1000,0),1),\"\")","v":""},{"$f":"IFERROR(INDEX('2015'!$C$10:$J$1000,MATCH($B$1&\"_\"&ROW()-9,'2015'!$L$10:$L$1000,0),2),\"\")","v":""},{"$f":"IFERROR(INDEX('2015'!$C$10:$J$1000,MATCH($B$1&\"_\"&ROW()-9,'2015'!$L$10:$L$1000,0),3),\"\")","v":""},{"$f":"IFERROR(INDEX('2015'!$C$10:$J$1000,MATCH($B$1&\"_\"&ROW()-9,'2015'!$L$10:$L$1000,0),4),\"\")","v":""},{"$f":"IFERROR(INDEX('2015'!$C$10:$J$1000,MATCH($B$1&\"_\"&ROW()-9,'2015'!$L$10:$L$1000,0),5),\"\")","v":""},{"$f":"IFERROR(ROUND(INDEX('2015'!$C$10:$J$1000,MATCH($B$1&\"_\"&ROW()-9,'2015'!$L$10:$L$1000,0),6),2),\"\")","v":""},{"$f":"IFERROR(INDEX('2015'!$C$10:$J$1000,MATCH($B$1&\"_\"&ROW()-9,'2015'!$L$10:$L$1000,0),7),\"\")","v":""},{"$f":"IFERROR(INDEX('2015'!$C$10:$J$1000,MATCH($B$1&\"_\"&ROW()-9,'2015'!$L$10:$L$1000,0),8),\"\")","v":""}]
[{"$f":"IFERROR(INDEX('2015'!$C$10:$J$1000,MATCH($B$1&\"_\"&ROW()-9,'2015'!$L$10:$L$1000,0),1),\"\")","v":""},{"$f":"IFERROR(INDEX('2015'!$C$10:$J$1000,MATCH($B$1&\"_\"&ROW()-9,'2015'!$L$10:$L$1000,0),2),\"\")","v":""},{"$f":"IFERROR(INDEX('2015'!$C$10:$J$1000,MATCH($B$1&\"_\"&ROW()-9,'2015'!$L$10:$L$1000,0),3),\"\")","v":""},{"$f":"IFERROR(INDEX('2015'!$C$10:$J$1000,MATCH($B$1&\"_\"&ROW()-9,'2015'!$L$10:$L$1000,0),4),\"\")","v":""},{"$f":"IFERROR(INDEX('2015'!$C$10:$J$1000,MATCH($B$1&\"_\"&ROW()-9,'2015'!$L$10:$L$1000,0),5),\"\")","v":""},{"$f":"IFERROR(ROUND(INDEX('2015'!$C$10:$J$1000,MATCH($B$1&\"_\"&ROW()-9,'2015'!$L$10:$L$1000,0),6),2),\"\")","v":""},{"$f":"IFERROR(INDEX('2015'!$C$10:$J$1000,MATCH($B$1&\"_\"&ROW()-9,'2015'!$L$10:$L$1000,0),7),\"\")","v":""},{"$f":"IFERROR(INDEX('2015'!$C$10:$J$1000,MATCH($B$1&\"_\"&ROW()-9,'2015'!$L$10:$L$1000,0),8),\"\")","v":""}]
[{"$f":"IFERROR(INDEX('2015'!$C$10:$J$1000,MATCH($B$1&\"_\"&ROW()-9,'2015'!$L$10:$L$1000,0),1),\"\")","v":""},{"$f":"IFERROR(INDEX('2015'!$C$10:$J$1000,MATCH($B$1&\"_\"&ROW()-9,'2015'!$L$10:$L$1000,0),2),\"\")","v":""},{"$f":"IFERROR(INDEX('2015'!$C$10:$J$1000,MATCH($B$1&\"_\"&ROW()-9,'2015'!$L$10:$L$1000,0),3),\"\")","v":""},{"$f":"IFERROR(INDEX('2015'!$C$10:$J$1000,MATCH($B$1&\"_\"&ROW()-9,'2015'!$L$10:$L$1000,0),4),\"\")","v":""},{"$f":"IFERROR(INDEX('2015'!$C$10:$J$1000,MATCH($B$1&\"_\"&ROW()-9,'2015'!$L$10:$L$1000,0),5),\"\")","v":""},{"$f":"IFERROR(ROUND(INDEX('2015'!$C$10:$J$1000,MATCH($B$1&\"_\"&ROW()-9,'2015'!$L$10:$L$1000,0),6),2),\"\")","v":""},{"$f":"IFERROR(INDEX('2015'!$C$10:$J$1000,MATCH($B$1&\"_\"&ROW()-9,'2015'!$L$10:$L$1000,0),7),\"\")","v":""},{"$f":"IFERROR(INDEX('2015'!$C$10:$J$1000,MATCH($B$1&\"_\"&ROW()-9,'2015'!$L$10:$L$1000,0),8),\"\")","v":""}]
[{"$f":"IFERROR(INDEX('2015'!$C$10:$J$1000,MATCH($B$1&\"_\"&ROW()-9,'2015'!$L$10:$L$1000,0),1),\"\")","v":""},{"$f":"IFERROR(INDEX('2015'!$C$10:$J$1000,MATCH($B$1&\"_\"&ROW()-9,'2015'!$L$10:$L$1000,0),2),\"\")","v":""},{"$f":"IFERROR(INDEX('2015'!$C$10:$J$1000,MATCH($B$1&\"_\"&ROW()-9,'2015'!$L$10:$L$1000,0),3),\"\")","v":""},{"$f":"IFERROR(INDEX('2015'!$C$10:$J$1000,MATCH($B$1&\"_\"&ROW()-9,'2015'!$L$10:$L$1000,0),4),\"\")","v":""},{"$f":"IFERROR(INDEX('2015'!$C$10:$J$1000,MATCH($B$1&\"_\"&ROW()-9,'2015'!$L$10:$L$1000,0),5),\"\")","v":""},{"$f":"IFERROR(ROUND(INDEX('2015'!$C$10:$J$1000,MATCH($B$1&\"_\"&ROW()-9,'2015'!$L$10:$L$1000,0),6),2),\"\")","v":""},{"$f":"IFERROR(INDEX('2015'!$C$10:$J$1000,MATCH($B$1&\"_\"&ROW()-9,'2015'!$L$10:$L$1000,0),7),\"\")","v":""},{"$f":"IFERROR(INDEX('2015'!$C$10:$J$1000,MATCH($B$1&\"_\"&ROW()-9,'2015'!$L$10:$L$1000,0),8),\"\")","v":""}]
[{"$f":"IFERROR(INDEX('2015'!$C$10:$J$1000,MATCH($B$1&\"_\"&ROW()-9,'2015'!$L$10:$L$1000,0),1),\"\")","v":""},{"$f":"IFERROR(INDEX('2015'!$C$10:$J$1000,MATCH($B$1&\"_\"&ROW()-9,'2015'!$L$10:$L$1000,0),2),\"\")","v":""},{"$f":"IFERROR(INDEX('2015'!$C$10:$J$1000,MATCH($B$1&\"_\"&ROW()-9,'2015'!$L$10:$L$1000,0),3),\"\")","v":""},{"$f":"IFERROR(INDEX('2015'!$C$10:$J$1000,MATCH($B$1&\"_\"&ROW()-9,'2015'!$L$10:$L$1000,0),4),\"\")","v":""},{"$f":"IFERROR(INDEX('2015'!$C$10:$J$1000,MATCH($B$1&\"_\"&ROW()-9,'2015'!$L$10:$L$1000,0),5),\"\")","v":""},{"$f":"IFERROR(ROUND(INDEX('2015'!$C$10:$J$1000,MATCH($B$1&\"_\"&ROW()-9,'2015'!$L$10:$L$1000,0),6),2),\"\")","v":""},{"$f":"IFERROR(INDEX('2015'!$C$10:$J$1000,MATCH($B$1&\"_\"&ROW()-9,'2015'!$L$10:$L$1000,0),7),\"\")","v":""},{"$f":"IFERROR(INDEX('2015'!$C$10:$J$1000,MATCH($B$1&\"_\"&ROW()-9,'2015'!$L$10:$L$1000,0),8),\"\")","v":""}]
[{"$f":"IFERROR(INDEX('2015'!$C$10:$J$1000,MATCH($B$1&\"_\"&ROW()-9,'2015'!$L$10:$L$1000,0),1),\"\")","v":""},{"$f":"IFERROR(INDEX('2015'!$C$10:$J$1000,MATCH($B$1&\"_\"&ROW()-9,'2015'!$L$10:$L$1000,0),2),\"\")","v":""},{"$f":"IFERROR(INDEX('2015'!$C$10:$J$1000,MATCH($B$1&\"_\"&ROW()-9,'2015'!$L$10:$L$1000,0),3),\"\")","v":""},{"$f":"IFERROR(INDEX('2015'!$C$10:$J$1000,MATCH($B$1&\"_\"&ROW()-9,'2015'!$L$10:$L$1000,0),4),\"\")","v":""},{"$f":"IFERROR(INDEX('2015'!$C$10:$J$1000,MATCH($B$1&\"_\"&ROW()-9,'2015'!$L$10:$L$1000,0),5),\"\")","v":""},{"$f":"IFERROR(ROUND(INDEX('2015'!$C$10:$J$1000,MATCH($B$1&\"_\"&ROW()-9,'2015'!$L$10:$L$1000,0),6),2),\"\")","v":""},{"$f":"IFERROR(INDEX('2015'!$C$10:$J$1000,MATCH($B$1&\"_\"&ROW()-9,'2015'!$L$10:$L$1000,0),7),\"\")","v":""},{"$f":"IFERROR(INDEX('2015'!$C$10:$J$1000,MATCH($B$1&\"_\"&ROW()-9,'2015'!$L$10:$L$1000,0),8),\"\")","v":""}]
[{"$f":"IFERROR(INDEX('2015'!$C$10:$J$1000,MATCH($B$1&\"_\"&ROW()-9,'2015'!$L$10:$L$1000,0),1),\"\")","v":""},{"$f":"IFERROR(INDEX('2015'!$C$10:$J$1000,MATCH($B$1&\"_\"&ROW()-9,'2015'!$L$10:$L$1000,0),2),\"\")","v":""},{"$f":"IFERROR(INDEX('2015'!$C$10:$J$1000,MATCH($B$1&\"_\"&ROW()-9,'2015'!$L$10:$L$1000,0),3),\"\")","v":""},{"$f":"IFERROR(INDEX('2015'!$C$10:$J$1000,MATCH($B$1&\"_\"&ROW()-9,'2015'!$L$10:$L$1000,0),4),\"\")","v":""},{"$f":"IFERROR(INDEX('2015'!$C$10:$J$1000,MATCH($B$1&\"_\"&ROW()-9,'2015'!$L$10:$L$1000,0),5),\"\")","v":""},{"$f":"IFERROR(ROUND(INDEX('2015'!$C$10:$J$1000,MATCH($B$1&\"_\"&ROW()-9,'2015'!$L$10:$L$1000,0),6),2),\"\")","v":""},{"$f":"IFERROR(INDEX('2015'!$C$10:$J$1000,MATCH($B$1&\"_\"&ROW()-9,'2015'!$L$10:$L$1000,0),7),\"\")","v":""},{"$f":"IFERROR(INDEX('2015'!$C$10:$J$1000,MATCH($B$1&\"_\"&ROW()-9,'2015'!$L$10:$L$1000,0),8),\"\")","v":""}]
[{"$f":"IFERROR(INDEX('2015'!$C$10:$J$1000,MATCH($B$1&\"_\"&ROW()-9,'2015'!$L$10:$L$1000,0),1),\"\")","v":""},{"$f":"IFERROR(INDEX('2015'!$C$10:$J$1000,MATCH($B$1&\"_\"&ROW()-9,'2015'!$L$10:$L$1000,0),2),\"\")","v":""},{"$f":"IFERROR(INDEX('2015'!$C$10:$J$1000,MATCH($B$1&\"_\"&ROW()-9,'2015'!$L$10:$L$1000,0),3),\"\")","v":""},{"$f":"IFERROR(INDEX('2015'!$C$10:$J$1000,MATCH($B$1&\"_\"&ROW()-9,'2015'!$L$10:$L$1000,0),4),\"\")","v":""},{"$f":"IFERROR(INDEX('2015'!$C$10:$J$1000,MATCH($B$1&\"_\"&ROW()-9,'2015'!$L$10:$L$1000,0),5),\"\")","v":""},{"$f":"IFERROR(ROUND(INDEX('2015'!$C$10:$J$1000,MATCH($B$1&\"_\"&ROW()-9,'2015'!$L$10:$L$1000,0),6),2),\"\")","v":""},{"$f":"IFERROR(INDEX('2015'!$C$10:$J$1000,MATCH($B$1&\"_\"&ROW()-9,'2015'!$L$10:$L$1000,0),7),\"\")","v":""},{"$f":"IFERROR(INDEX('2015'!$C$10:$J$1000,MATCH($B$1&\"_\"&ROW()-9,'2015'!$L$10:$L$1000,0),8),\"\")","v":""}]
[{"$f":"IFERROR(INDEX('2015'!$C$10:$J$1000,MATCH($B$1&\"_\"&ROW()-9,'2015'!$L$10:$L$1000,0),1),\"\")","v":""},{"$f":"IFERROR(INDEX('2015'!$C$10:$J$1000,MATCH($B$1&\"_\"&ROW()-9,'2015'!$L$10:$L$1000,0),2),\"\")","v":""},{"$f":"IFERROR(INDEX('2015'!$C$10:$J$1000,MATCH($B$1&\"_\"&ROW()-9,'2015'!$L$10:$L$1000,0),3),\"\")","v":""},{"$f":"IFERROR(INDEX('2015'!$C$10:$J$1000,MATCH($B$1&\"_\"&ROW()-9,'2015'!$L$10:$L$1000,0),4),\"\")","v":""},{"$f":"IFERROR(INDEX('2015'!$C$10:$J$1000,MATCH($B$1&\"_\"&ROW()-9,'2015'!$L$10:$L$1000,0),5),\"\")","v":""},{"$f":"IFERROR(ROUND(INDEX('2015'!$C$10:$J$1000,MATCH($B$1&\"_\"&ROW()-9,'2015'!$L$10:$L$1000,0),6),2),\"\")","v":""},{"$f":"IFERROR(INDEX('2015'!$C$10:$J$1000,MATCH($B$1&\"_\"&ROW()-9,'2015'!$L$10:$L$1000,0),7),\"\")","v":""},{"$f":"IFERROR(INDEX('2015'!$C$10:$J$1000,MATCH($B$1&\"_\"&ROW()-9,'2015'!$L$10:$L$1000,0),8),\"\")","v":""}]
[{"$f":"IFERROR(INDEX('2015'!$C$10:$J$1000,MATCH($B$1&\"_\"&ROW()-9,'2015'!$L$10:$L$1000,0),1),\"\")","v":""},{"$f":"IFERROR(INDEX('2015'!$C$10:$J$1000,MATCH($B$1&\"_\"&ROW()-9,'2015'!$L$10:$L$1000,0),2),\"\")","v":""},{"$f":"IFERROR(INDEX('2015'!$C$10:$J$1000,MATCH($B$1&\"_\"&ROW()-9,'2015'!$L$10:$L$1000,0),3),\"\")","v":""},{"$f":"IFERROR(INDEX('2015'!$C$10:$J$1000,MATCH($B$1&\"_\"&ROW()-9,'2015'!$L$10:$L$1000,0),4),\"\")","v":""},{"$f":"IFERROR(INDEX('2015'!$C$10:$J$1000,MATCH($B$1&\"_\"&ROW()-9,'2015'!$L$10:$L$1000,0),5),\"\")","v":""},{"$f":"IFERROR(ROUND(INDEX('2015'!$C$10:$J$1000,MATCH($B$1&\"_\"&ROW()-9,'2015'!$L$10:$L$1000,0),6),2),\"\")","v":""},{"$f":"IFERROR(INDEX('2015'!$C$10:$J$1000,MATCH($B$1&\"_\"&ROW()-9,'2015'!$L$10:$L$1000,0),7),\"\")","v":""},{"$f":"IFERROR(INDEX('2015'!$C$10:$J$1000,MATCH($B$1&\"_\"&ROW()-9,'2015'!$L$10:$L$1000,0),8),\"\")","v":""}]
[{"$f":"IFERROR(INDEX('2015'!$C$10:$J$1000,MATCH($B$1&\"_\"&ROW()-9,'2015'!$L$10:$L$1000,0),1),\"\")","v":""},{"$f":"IFERROR(INDEX('2015'!$C$10:$J$1000,MATCH($B$1&\"_\"&ROW()-9,'2015'!$L$10:$L$1000,0),2),\"\")","v":""},{"$f":"IFERROR(INDEX('2015'!$C$10:$J$1000,MATCH($B$1&\"_\"&ROW()-9,'2015'!$L$10:$L$1000,0),3),\"\")","v":""},{"$f":"IFERROR(INDEX('2015'!$C$10:$J$1000,MATCH($B$1&\"_\"&ROW()-9,'2015'!$L$10:$L$1000,0),4),\"\")","v":""},{"$f":"IFERROR(INDEX('2015'!$C$10:$J$1000,MATCH($B$1&\"_\"&ROW()-9,'2015'!$L$10:$L$1000,0),5),\"\")","v":""},{"$f":"IFERROR(ROUND(INDEX('2015'!$C$10:$J$1000,MATCH($B$1&\"_\"&ROW()-9,'2015'!$L$10:$L$1000,0),6),2),\"\")","v":""},{"$f":"IFERROR(INDEX('2015'!$C$10:$J$1000,MATCH($B$1&\"_\"&ROW()-9,'2015'!$L$10:$L$1000,0),7),\"\")","v":""},{"$f":"IFERROR(INDEX('2015'!$C$10:$J$1000,MATCH($B$1&\"_\"&ROW()-9,'2015'!$L$10:$L$1000,0),8),\"\")","v":""}]
[{"$f":"IFERROR(INDEX('2015'!$C$10:$J$1000,MATCH($B$1&\"_\"&ROW()-9,'2015'!$L$10:$L$1000,0),1),\"\")","v":""},{"$f":"IFERROR(INDEX('2015'!$C$10:$J$1000,MATCH($B$1&\"_\"&ROW()-9,'2015'!$L$10:$L$1000,0),2),\"\")","v":""},{"$f":"IFERROR(INDEX('2015'!$C$10:$J$1000,MATCH($B$1&\"_\"&ROW()-9,'2015'!$L$10:$L$1000,0),3),\"\")","v":""},{"$f":"IFERROR(INDEX('2015'!$C$10:$J$1000,MATCH($B$1&\"_\"&ROW()-9,'2015'!$L$10:$L$1000,0),4),\"\")","v":""},{"$f":"IFERROR(INDEX('2015'!$C$10:$J$1000,MATCH($B$1&\"_\"&ROW()-9,'2015'!$L$10:$L$1000,0),5),\"\")","v":""},{"$f":"IFERROR(ROUND(INDEX('2015'!$C$10:$J$1000,MATCH($B$1&\"_\"&ROW()-9,'2015'!$L$10:$L$1000,0),6),2),\"\")","v":""},{"$f":"IFERROR(INDEX('2015'!$C$10:$J$1000,MATCH($B$1&\"_\"&ROW()-9,'2015'!$L$10:$L$1000,0),7),\"\")","v":""},{"$f":"IFERROR(INDEX('2015'!$C$10:$J$1000,MATCH($B$1&\"_\"&ROW()-9,'2015'!$L$10:$L$1000,0),8),\"\")","v":""}]
[{"$f":"IFERROR(INDEX('2015'!$C$10:$J$1000,MATCH($B$1&\"_\"&ROW()-9,'2015'!$L$10:$L$1000,0),1),\"\")","v":""},{"$f":"IFERROR(INDEX('2015'!$C$10:$J$1000,MATCH($B$1&\"_\"&ROW()-9,'2015'!$L$10:$L$1000,0),2),\"\")","v":""},{"$f":"IFERROR(INDEX('2015'!$C$10:$J$1000,MATCH($B$1&\"_\"&ROW()-9,'2015'!$L$10:$L$1000,0),3),\"\")","v":""},{"$f":"IFERROR(INDEX('2015'!$C$10:$J$1000,MATCH($B$1&\"_\"&ROW()-9,'2015'!$L$10:$L$1000,0),4),\"\")","v":""},{"$f":"IFERROR(INDEX('2015'!$C$10:$J$1000,MATCH($B$1&\"_\"&ROW()-9,'2015'!$L$10:$L$1000,0),5),\"\")","v":""},{"$f":"IFERROR(ROUND(INDEX('2015'!$C$10:$J$1000,MATCH($B$1&\"_\"&ROW()-9,'2015'!$L$10:$L$1000,0),6),2),\"\")","v":""},{"$f":"IFERROR(INDEX('2015'!$C$10:$J$1000,MATCH($B$1&\"_\"&ROW()-9,'2015'!$L$10:$L$1000,0),7),\"\")","v":""},{"$f":"IFERROR(INDEX('2015'!$C$10:$J$1000,MATCH($B$1&\"_\"&ROW()-9,'2015'!$L$10:$L$1000,0),8),\"\")","v":""}]
[{"$f":"IFERROR(INDEX('2015'!$C$10:$J$1000,MATCH($B$1&\"_\"&ROW()-9,'2015'!$L$10:$L$1000,0),1),\"\")","v":""},{"$f":"IFERROR(INDEX('2015'!$C$10:$J$1000,MATCH($B$1&\"_\"&ROW()-9,'2015'!$L$10:$L$1000,0),2),\"\")","v":""},{"$f":"IFERROR(INDEX('2015'!$C$10:$J$1000,MATCH($B$1&\"_\"&ROW()-9,'2015'!$L$10:$L$1000,0),3),\"\")","v":""},{"$f":"IFERROR(INDEX('2015'!$C$10:$J$1000,MATCH($B$1&\"_\"&ROW()-9,'2015'!$L$10:$L$1000,0),4),\"\")","v":""},{"$f":"IFERROR(INDEX('2015'!$C$10:$J$1000,MATCH($B$1&\"_\"&ROW()-9,'2015'!$L$10:$L$1000,0),5),\"\")","v":""},{"$f":"IFERROR(ROUND(INDEX('2015'!$C$10:$J$1000,MATCH($B$1&\"_\"&ROW()-9,'2015'!$L$10:$L$1000,0),6),2),\"\")","v":""},{"$f":"IFERROR(INDEX('2015'!$C$10:$J$1000,MATCH($B$1&\"_\"&ROW()-9,'2015'!$L$10:$L$1000,0),7),\"\")","v":""},{"$f":"IFERROR(INDEX('2015'!$C$10:$J$1000,MATCH($B$1&\"_\"&ROW()-9,'2015'!$L$10:$L$1000,0),8),\"\")","v":""}]
[{"$f":"IFERROR(INDEX('2015'!$C$10:$J$1000,MATCH($B$1&\"_\"&ROW()-9,'2015'!$L$10:$L$1000,0),1),\"\")","v":""},{"$f":"IFERROR(INDEX('2015'!$C$10:$J$1000,MATCH($B$1&\"_\"&ROW()-9,'2015'!$L$10:$L$1000,0),2),\"\")","v":""},{"$f":"IFERROR(INDEX('2015'!$C$10:$J$1000,MATCH($B$1&\"_\"&ROW()-9,'2015'!$L$10:$L$1000,0),3),\"\")","v":""},{"$f":"IFERROR(INDEX('2015'!$C$10:$J$1000,MATCH($B$1&\"_\"&ROW()-9,'2015'!$L$10:$L$1000,0),4),\"\")","v":""},{"$f":"IFERROR(INDEX('2015'!$C$10:$J$1000,MATCH($B$1&\"_\"&ROW()-9,'2015'!$L$10:$L$1000,0),5),\"\")","v":""},{"$f":"IFERROR(ROUND(INDEX('2015'!$C$10:$J$1000,MATCH($B$1&\"_\"&ROW()-9,'2015'!$L$10:$L$1000,0),6),2),\"\")","v":""},{"$f":"IFERROR(INDEX('2015'!$C$10:$J$1000,MATCH($B$1&\"_\"&ROW()-9,'2015'!$L$10:$L$1000,0),7),\"\")","v":""},{"$f":"IFERROR(INDEX('2015'!$C$10:$J$1000,MATCH($B$1&\"_\"&ROW()-9,'2015'!$L$10:$L$1000,0),8),\"\")","v":""}]
[{"$f":"IFERROR(INDEX('2015'!$C$10:$J$1000,MATCH($B$1&\"_\"&ROW()-9,'2015'!$L$10:$L$1000,0),1),\"\")","v":""},{"$f":"IFERROR(INDEX('2015'!$C$10:$J$1000,MATCH($B$1&\"_\"&ROW()-9,'2015'!$L$10:$L$1000,0),2),\"\")","v":""},{"$f":"IFERROR(INDEX('2015'!$C$10:$J$1000,MATCH($B$1&\"_\"&ROW()-9,'2015'!$L$10:$L$1000,0),3),\"\")","v":""},{"$f":"IFERROR(INDEX('2015'!$C$10:$J$1000,MATCH($B$1&\"_\"&ROW()-9,'2015'!$L$10:$L$1000,0),4),\"\")","v":""},{"$f":"IFERROR(INDEX('2015'!$C$10:$J$1000,MATCH($B$1&\"_\"&ROW()-9,'2015'!$L$10:$L$1000,0),5),\"\")","v":""},{"$f":"IFERROR(ROUND(INDEX('2015'!$C$10:$J$1000,MATCH($B$1&\"_\"&ROW()-9,'2015'!$L$10:$L$1000,0),6),2),\"\")","v":""},{"$f":"IFERROR(INDEX('2015'!$C$10:$J$1000,MATCH($B$1&\"_\"&ROW()-9,'2015'!$L$10:$L$1000,0),7),\"\")","v":""},{"$f":"IFERROR(INDEX('2015'!$C$10:$J$1000,MATCH($B$1&\"_\"&ROW()-9,'2015'!$L$10:$L$1000,0),8),\"\")","v":""}]
[{"$f":"IFERROR(INDEX('2015'!$C$10:$J$1000,MATCH($B$1&\"_\"&ROW()-9,'2015'!$L$10:$L$1000,0),1),\"\")","v":""},{"$f":"IFERROR(INDEX('2015'!$C$10:$J$1000,MATCH($B$1&\"_\"&ROW()-9,'2015'!$L$10:$L$1000,0),2),\"\")","v":""},{"$f":"IFERROR(INDEX('2015'!$C$10:$J$1000,MATCH($B$1&\"_\"&ROW()-9,'2015'!$L$10:$L$1000,0),3),\"\")","v":""},{"$f":"IFERROR(INDEX('2015'!$C$10:$J$1000,MATCH($B$1&\"_\"&ROW()-9,'2015'!$L$10:$L$1000,0),4),\"\")","v":""},{"$f":"IFERROR(INDEX('2015'!$C$10:$J$1000,MATCH($B$1&\"_\"&ROW()-9,'2015'!$L$10:$L$1000,0),5),\"\")","v":""},{"$f":"IFERROR(ROUND(INDEX('2015'!$C$10:$J$1000,MATCH($B$1&\"_\"&ROW()-9,'2015'!$L$10:$L$1000,0),6),2),\"\")","v":""},{"$f":"IFERROR(INDEX('2015'!$C$10:$J$1000,MATCH($B$1&\"_\"&ROW()-9,'2015'!$L$10:$L$1000,0),7),\"\")","v":""},{"$f":"IFERROR(INDEX('2015'!$C$10:$J$1000,MATCH($B$1&\"_\"&ROW()-9,'2015'!$L$10:$L$1000,0),8),\"\")","v":""}]
[{"$f":"IFERROR(INDEX('2015'!$C$10:$J$1000,MATCH($B$1&\"_\"&ROW()-9,'2015'!$L$10:$L$1000,0),1),\"\")","v":""},{"$f":"IFERROR(INDEX('2015'!$C$10:$J$1000,MATCH($B$1&\"_\"&ROW()-9,'2015'!$L$10:$L$1000,0),2),\"\")","v":""},{"$f":"IFERROR(INDEX('2015'!$C$10:$J$1000,MATCH($B$1&\"_\"&ROW()-9,'2015'!$L$10:$L$1000,0),3),\"\")","v":""},{"$f":"IFERROR(INDEX('2015'!$C$10:$J$1000,MATCH($B$1&\"_\"&ROW()-9,'2015'!$L$10:$L$1000,0),4),\"\")","v":""},{"$f":"IFERROR(INDEX('2015'!$C$10:$J$1000,MATCH($B$1&\"_\"&ROW()-9,'2015'!$L$10:$L$1000,0),5),\"\")","v":""},{"$f":"IFERROR(ROUND(INDEX('2015'!$C$10:$J$1000,MATCH($B$1&\"_\"&ROW()-9,'2015'!$L$10:$L$1000,0),6),2),\"\")","v":""},{"$f":"IFERROR(INDEX('2015'!$C$10:$J$1000,MATCH($B$1&\"_\"&ROW()-9,'2015'!$L$10:$L$1000,0),7),\"\")","v":""},{"$f":"IFERROR(INDEX('2015'!$C$10:$J$1000,MATCH($B$1&\"_\"&ROW()-9,'2015'!$L$10:$L$1000,0),8),\"\")","v":""}]
[{"$f":"IFERROR(INDEX('2015'!$C$10:$J$1000,MATCH($B$1&\"_\"&ROW()-9,'2015'!$L$10:$L$1000,0),1),\"\")","v":""},{"$f":"IFERROR(INDEX('2015'!$C$10:$J$1000,MATCH($B$1&\"_\"&ROW()-9,'2015'!$L$10:$L$1000,0),2),\"\")","v":""},{"$f":"IFERROR(INDEX('2015'!$C$10:$J$1000,MATCH($B$1&\"_\"&ROW()-9,'2015'!$L$10:$L$1000,0),3),\"\")","v":""},{"$f":"IFERROR(INDEX('2015'!$C$10:$J$1000,MATCH($B$1&\"_\"&ROW()-9,'2015'!$L$10:$L$1000,0),4),\"\")","v":""},{"$f":"IFERROR(INDEX('2015'!$C$10:$J$1000,MATCH($B$1&\"_\"&ROW()-9,'2015'!$L$10:$L$1000,0),5),\"\")","v":""},{"$f":"IFERROR(ROUND(INDEX('2015'!$C$10:$J$1000,MATCH($B$1&\"_\"&ROW()-9,'2015'!$L$10:$L$1000,0),6),2),\"\")","v":""},{"$f":"IFERROR(INDEX('2015'!$C$10:$J$1000,MATCH($B$1&\"_\"&ROW()-9,'2015'!$L$10:$L$1000,0),7),\"\")","v":""},{"$f":"IFERROR(INDEX('2015'!$C$10:$J$1000,MATCH($B$1&\"_\"&ROW()-9,'2015'!$L$10:$L$1000,0),8),\"\")","v":""}]
[{"$f":"IFERROR(INDEX('2015'!$C$10:$J$1000,MATCH($B$1&\"_\"&ROW()-9,'2015'!$L$10:$L$1000,0),1),\"\")","v":""},{"$f":"IFERROR(INDEX('2015'!$C$10:$J$1000,MATCH($B$1&\"_\"&ROW()-9,'2015'!$L$10:$L$1000,0),2),\"\")","v":""},{"$f":"IFERROR(INDEX('2015'!$C$10:$J$1000,MATCH($B$1&\"_\"&ROW()-9,'2015'!$L$10:$L$1000,0),3),\"\")","v":""},{"$f":"IFERROR(INDEX('2015'!$C$10:$J$1000,MATCH($B$1&\"_\"&ROW()-9,'2015'!$L$10:$L$1000,0),4),\"\")","v":""},{"$f":"IFERROR(INDEX('2015'!$C$10:$J$1000,MATCH($B$1&\"_\"&ROW()-9,'2015'!$L$10:$L$1000,0),5),\"\")","v":""},{"$f":"IFERROR(ROUND(INDEX('2015'!$C$10:$J$1000,MATCH($B$1&\"_\"&ROW()-9,'2015'!$L$10:$L$1000,0),6),2),\"\")","v":""},{"$f":"IFERROR(INDEX('2015'!$C$10:$J$1000,MATCH($B$1&\"_\"&ROW()-9,'2015'!$L$10:$L$1000,0),7),\"\")","v":""},{"$f":"IFERROR(INDEX('2015'!$C$10:$J$1000,MATCH($B$1&\"_\"&ROW()-9,'2015'!$L$10:$L$1000,0),8),\"\")","v":""}]
[{"$f":"IFERROR(INDEX('2015'!$C$10:$J$1000,MATCH($B$1&\"_\"&ROW()-9,'2015'!$L$10:$L$1000,0),1),\"\")","v":""},{"$f":"IFERROR(INDEX('2015'!$C$10:$J$1000,MATCH($B$1&\"_\"&ROW()-9,'2015'!$L$10:$L$1000,0),2),\"\")","v":""},{"$f":"IFERROR(INDEX('2015'!$C$10:$J$1000,MATCH($B$1&\"_\"&ROW()-9,'2015'!$L$10:$L$1000,0),3),\"\")","v":""},{"$f":"IFERROR(INDEX('2015'!$C$10:$J$1000,MATCH($B$1&\"_\"&ROW()-9,'2015'!$L$10:$L$1000,0),4),\"\")","v":""},{"$f":"IFERROR(INDEX('2015'!$C$10:$J$1000,MATCH($B$1&\"_\"&ROW()-9,'2015'!$L$10:$L$1000,0),5),\"\")","v":""},{"$f":"IFERROR(ROUND(INDEX('2015'!$C$10:$J$1000,MATCH($B$1&\"_\"&ROW()-9,'2015'!$L$10:$L$1000,0),6),2),\"\")","v":""},{"$f":"IFERROR(INDEX('2015'!$C$10:$J$1000,MATCH($B$1&\"_\"&ROW()-9,'2015'!$L$10:$L$1000,0),7),\"\")","v":""},{"$f":"IFERROR(INDEX('2015'!$C$10:$J$1000,MATCH($B$1&\"_\"&ROW()-9,'2015'!$L$10:$L$1000,0),8),\"\")","v":""}]
[{"$f":"IFERROR(INDEX('2015'!$C$10:$J$1000,MATCH($B$1&\"_\"&ROW()-9,'2015'!$L$10:$L$1000,0),1),\"\")","v":""},{"$f":"IFERROR(INDEX('2015'!$C$10:$J$1000,MATCH($B$1&\"_\"&ROW()-9,'2015'!$L$10:$L$1000,0),2),\"\")","v":""},{"$f":"IFERROR(INDEX('2015'!$C$10:$J$1000,MATCH($B$1&\"_\"&ROW()-9,'2015'!$L$10:$L$1000,0),3),\"\")","v":""},{"$f":"IFERROR(INDEX('2015'!$C$10:$J$1000,MATCH($B$1&\"_\"&ROW()-9,'2015'!$L$10:$L$1000,0),4),\"\")","v":""},{"$f":"IFERROR(INDEX('2015'!$C$10:$J$1000,MATCH($B$1&\"_\"&ROW()-9,'2015'!$L$10:$L$1000,0),5),\"\")","v":""},{"$f":"IFERROR(ROUND(INDEX('2015'!$C$10:$J$1000,MATCH($B$1&\"_\"&ROW()-9,'2015'!$L$10:$L$1000,0),6),2),\"\")","v":""},{"$f":"IFERROR(INDEX('2015'!$C$10:$J$1000,MATCH($B$1&\"_\"&ROW()-9,'2015'!$L$10:$L$1000,0),7),\"\")","v":""},{"$f":"IFERROR(INDEX('2015'!$C$10:$J$1000,MATCH($B$1&\"_\"&ROW()-9,'2015'!$L$10:$L$1000,0),8),\"\")","v":""}]
[{"$f":"IFERROR(INDEX('2015'!$C$10:$J$1000,MATCH($B$1&\"_\"&ROW()-9,'2015'!$L$10:$L$1000,0),1),\"\")","v":""},{"$f":"IFERROR(INDEX('2015'!$C$10:$J$1000,MATCH($B$1&\"_\"&ROW()-9,'2015'!$L$10:$L$1000,0),2),\"\")","v":""},{"$f":"IFERROR(INDEX('2015'!$C$10:$J$1000,MATCH($B$1&\"_\"&ROW()-9,'2015'!$L$10:$L$1000,0),3),\"\")","v":""},{"$f":"IFERROR(INDEX('2015'!$C$10:$J$1000,MATCH($B$1&\"_\"&ROW()-9,'2015'!$L$10:$L$1000,0),4),\"\")","v":""},{"$f":"IFERROR(INDEX('2015'!$C$10:$J$1000,MATCH($B$1&\"_\"&ROW()-9,'2015'!$L$10:$L$1000,0),5),\"\")","v":""},{"$f":"IFERROR(ROUND(INDEX('2015'!$C$10:$J$1000,MATCH($B$1&\"_\"&ROW()-9,'2015'!$L$10:$L$1000,0),6),2),\"\")","v":""},{"$f":"IFERROR(INDEX('2015'!$C$10:$J$1000,MATCH($B$1&\"_\"&ROW()-9,'2015'!$L$10:$L$1000,0),7),\"\")","v":""},{"$f":"IFERROR(INDEX('2015'!$C$10:$J$1000,MATCH($B$1&\"_\"&ROW()-9,'2015'!$L$10:$L$1000,0),8),\"\")","v":""}]
[{"$f":"IFERROR(INDEX('2015'!$C$10:$J$1000,MATCH($B$1&\"_\"&ROW()-9,'2015'!$L$10:$L$1000,0),1),\"\")","v":""},{"$f":"IFERROR(INDEX('2015'!$C$10:$J$1000,MATCH($B$1&\"_\"&ROW()-9,'2015'!$L$10:$L$1000,0),2),\"\")","v":""},{"$f":"IFERROR(INDEX('2015'!$C$10:$J$1000,MATCH($B$1&\"_\"&ROW()-9,'2015'!$L$10:$L$1000,0),3),\"\")","v":""},{"$f":"IFERROR(INDEX('2015'!$C$10:$J$1000,MATCH($B$1&\"_\"&ROW()-9,'2015'!$L$10:$L$1000,0),4),\"\")","v":""},{"$f":"IFERROR(INDEX('2015'!$C$10:$J$1000,MATCH($B$1&\"_\"&ROW()-9,'2015'!$L$10:$L$1000,0),5),\"\")","v":""},{"$f":"IFERROR(ROUND(INDEX('2015'!$C$10:$J$1000,MATCH($B$1&\"_\"&ROW()-9,'2015'!$L$10:$L$1000,0),6),2),\"\")","v":""},{"$f":"IFERROR(INDEX('2015'!$C$10:$J$1000,MATCH($B$1&\"_\"&ROW()-9,'2015'!$L$10:$L$1000,0),7),\"\")","v":""},{"$f":"IFERROR(INDEX('2015'!$C$10:$J$1000,MATCH($B$1&\"_\"&ROW()-9,'2015'!$L$10:$L$1000,0),8),\"\")","v":""}]
[{"$f":"IFERROR(INDEX('2015'!$C$10:$J$1000,MATCH($B$1&\"_\"&ROW()-9,'2015'!$L$10:$L$1000,0),1),\"\")","v":""},{"$f":"IFERROR(INDEX('2015'!$C$10:$J$1000,MATCH($B$1&\"_\"&ROW()-9,'2015'!$L$10:$L$1000,0),2),\"\")","v":""},{"$f":"IFERROR(INDEX('2015'!$C$10:$J$1000,MATCH($B$1&\"_\"&ROW()-9,'2015'!$L$10:$L$1000,0),3),\"\")","v":""},{"$f":"IFERROR(INDEX('2015'!$C$10:$J$1000,MATCH($B$1&\"_\"&ROW()-9,'2015'!$L$10:$L$1000,0),4),\"\")","v":""},{"$f":"IFERROR(INDEX('2015'!$C$10:$J$1000,MATCH($B$1&\"_\"&ROW()-9,'2015'!$L$10:$L$1000,0),5),\"\")","v":""},{"$f":"IFERROR(ROUND(INDEX('2015'!$C$10:$J$1000,MATCH($B$1&\"_\"&ROW()-9,'2015'!$L$10:$L$1000,0),6),2),\"\")","v":""},{"$f":"IFERROR(INDEX('2015'!$C$10:$J$1000,MATCH($B$1&\"_\"&ROW()-9,'2015'!$L$10:$L$1000,0),7),\"\")","v":""},{"$f":"IFERROR(INDEX('2015'!$C$10:$J$1000,MATCH($B$1&\"_\"&ROW()-9,'2015'!$L$10:$L$1000,0),8),\"\")","v":""}]
[{"$f":"IFERROR(INDEX('2015'!$C$10:$J$1000,MATCH($B$1&\"_\"&ROW()-9,'2015'!$L$10:$L$1000,0),1),\"\")","v":""},{"$f":"IFERROR(INDEX('2015'!$C$10:$J$1000,MATCH($B$1&\"_\"&ROW()-9,'2015'!$L$10:$L$1000,0),2),\"\")","v":""},{"$f":"IFERROR(INDEX('2015'!$C$10:$J$1000,MATCH($B$1&\"_\"&ROW()-9,'2015'!$L$10:$L$1000,0),3),\"\")","v":""},{"$f":"IFERROR(INDEX('2015'!$C$10:$J$1000,MATCH($B$1&\"_\"&ROW()-9,'2015'!$L$10:$L$1000,0),4),\"\")","v":""},{"$f":"IFERROR(INDEX('2015'!$C$10:$J$1000,MATCH($B$1&\"_\"&ROW()-9,'2015'!$L$10:$L$1000,0),5),\"\")","v":""},{"$f":"IFERROR(ROUND(INDEX('2015'!$C$10:$J$1000,MATCH($B$1&\"_\"&ROW()-9,'2015'!$L$10:$L$1000,0),6),2),\"\")","v":""},{"$f":"IFERROR(INDEX('2015'!$C$10:$J$1000,MATCH($B$1&\"_\"&ROW()-9,'2015'!$L$10:$L$1000,0),7),\"\")","v":""},{"$f":"IFERROR(INDEX('2015'!$C$10:$J$1000,MATCH($B$1&\"_\"&ROW()-9,'2015'!$L$10:$L$1000,0),8),\"\")","v":""}]
[{"$f":"IFERROR(INDEX('2015'!$C$10:$J$1000,MATCH($B$1&\"_\"&ROW()-9,'2015'!$L$10:$L$1000,0),1),\"\")","v":""},{"$f":"IFERROR(INDEX('2015'!$C$10:$J$1000,MATCH($B$1&\"_\"&ROW()-9,'2015'!$L$10:$L$1000,0),2),\"\")","v":""},{"$f":"IFERROR(INDEX('2015'!$C$10:$J$1000,MATCH($B$1&\"_\"&ROW()-9,'2015'!$L$10:$L$1000,0),3),\"\")","v":""},{"$f":"IFERROR(INDEX('2015'!$C$10:$J$1000,MATCH($B$1&\"_\"&ROW()-9,'2015'!$L$10:$L$1000,0),4),\"\")","v":""},{"$f":"IFERROR(INDEX('2015'!$C$10:$J$1000,MATCH($B$1&\"_\"&ROW()-9,'2015'!$L$10:$L$1000,0),5),\"\")","v":""},{"$f":"IFERROR(ROUND(INDEX('2015'!$C$10:$J$1000,MATCH($B$1&\"_\"&ROW()-9,'2015'!$L$10:$L$1000,0),6),2),\"\")","v":""},{"$f":"IFERROR(INDEX('2015'!$C$10:$J$1000,MATCH($B$1&\"_\"&ROW()-9,'2015'!$L$10:$L$1000,0),7),\"\")","v":""},{"$f":"IFERROR(INDEX('2015'!$C$10:$J$1000,MATCH($B$1&\"_\"&ROW()-9,'2015'!$L$10:$L$1000,0),8),\"\")","v":""}]
[{"$f":"IFERROR(INDEX('2015'!$C$10:$J$1000,MATCH($B$1&\"_\"&ROW()-9,'2015'!$L$10:$L$1000,0),1),\"\")","v":""},{"$f":"IFERROR(INDEX('2015'!$C$10:$J$1000,MATCH($B$1&\"_\"&ROW()-9,'2015'!$L$10:$L$1000,0),2),\"\")","v":""},{"$f":"IFERROR(INDEX('2015'!$C$10:$J$1000,MATCH($B$1&\"_\"&ROW()-9,'2015'!$L$10:$L$1000,0),3),\"\")","v":""},{"$f":"IFERROR(INDEX('2015'!$C$10:$J$1000,MATCH($B$1&\"_\"&ROW()-9,'2015'!$L$10:$L$1000,0),4),\"\")","v":""},{"$f":"IFERROR(INDEX('2015'!$C$10:$J$1000,MATCH($B$1&\"_\"&ROW()-9,'2015'!$L$10:$L$1000,0),5),\"\")","v":""},{"$f":"IFERROR(ROUND(INDEX('2015'!$C$10:$J$1000,MATCH($B$1&\"_\"&ROW()-9,'2015'!$L$10:$L$1000,0),6),2),\"\")","v":""},{"$f":"IFERROR(INDEX('2015'!$C$10:$J$1000,MATCH($B$1&\"_\"&ROW()-9,'2015'!$L$10:$L$1000,0),7),\"\")","v":""},{"$f":"IFERROR(INDEX('2015'!$C$10:$J$1000,MATCH($B$1&\"_\"&ROW()-9,'2015'!$L$10:$L$1000,0),8),\"\")","v":""}]
[{"$f":"IFERROR(INDEX('2015'!$C$10:$J$1000,MATCH($B$1&\"_\"&ROW()-9,'2015'!$L$10:$L$1000,0),1),\"\")","v":""},{"$f":"IFERROR(INDEX('2015'!$C$10:$J$1000,MATCH($B$1&\"_\"&ROW()-9,'2015'!$L$10:$L$1000,0),2),\"\")","v":""},{"$f":"IFERROR(INDEX('2015'!$C$10:$J$1000,MATCH($B$1&\"_\"&ROW()-9,'2015'!$L$10:$L$1000,0),3),\"\")","v":""},{"$f":"IFERROR(INDEX('2015'!$C$10:$J$1000,MATCH($B$1&\"_\"&ROW()-9,'2015'!$L$10:$L$1000,0),4),\"\")","v":""},{"$f":"IFERROR(INDEX('2015'!$C$10:$J$1000,MATCH($B$1&\"_\"&ROW()-9,'2015'!$L$10:$L$1000,0),5),\"\")","v":""},{"$f":"IFERROR(ROUND(INDEX('2015'!$C$10:$J$1000,MATCH($B$1&\"_\"&ROW()-9,'2015'!$L$10:$L$1000,0),6),2),\"\")","v":""},{"$f":"IFERROR(INDEX('2015'!$C$10:$J$1000,MATCH($B$1&\"_\"&ROW()-9,'2015'!$L$10:$L$1000,0),7),\"\")","v":""},{"$f":"IFERROR(INDEX('2015'!$C$10:$J$1000,MATCH($B$1&\"_\"&ROW()-9,'2015'!$L$10:$L$1000,0),8),\"\")","v":""}]
[{"$f":"IFERROR(INDEX('2015'!$C$10:$J$1000,MATCH($B$1&\"_\"&ROW()-9,'2015'!$L$10:$L$1000,0),1),\"\")","v":""},{"$f":"IFERROR(INDEX('2015'!$C$10:$J$1000,MATCH($B$1&\"_\"&ROW()-9,'2015'!$L$10:$L$1000,0),2),\"\")","v":""},{"$f":"IFERROR(INDEX('2015'!$C$10:$J$1000,MATCH($B$1&\"_\"&ROW()-9,'2015'!$L$10:$L$1000,0),3),\"\")","v":""},{"$f":"IFERROR(INDEX('2015'!$C$10:$J$1000,MATCH($B$1&\"_\"&ROW()-9,'2015'!$L$10:$L$1000,0),4),\"\")","v":""},{"$f":"IFERROR(INDEX('2015'!$C$10:$J$1000,MATCH($B$1&\"_\"&ROW()-9,'2015'!$L$10:$L$1000,0),5),\"\")","v":""},{"$f":"IFERROR(ROUND(INDEX('2015'!$C$10:$J$1000,MATCH($B$1&\"_\"&ROW()-9,'2015'!$L$10:$L$1000,0),6),2),\"\")","v":""},{"$f":"IFERROR(INDEX('2015'!$C$10:$J$1000,MATCH($B$1&\"_\"&ROW()-9,'2015'!$L$10:$L$1000,0),7),\"\")","v":""},{"$f":"IFERROR(INDEX('2015'!$C$10:$J$1000,MATCH($B$1&\"_\"&ROW()-9,'2015'!$L$10:$L$1000,0),8),\"\")","v":""}]
[{"$f":"IFERROR(INDEX('2015'!$C$10:$J$1000,MATCH($B$1&\"_\"&ROW()-9,'2015'!$L$10:$L$1000,0),1),\"\")","v":""},{"$f":"IFERROR(INDEX('2015'!$C$10:$J$1000,MATCH($B$1&\"_\"&ROW()-9,'2015'!$L$10:$L$1000,0),2),\"\")","v":""},{"$f":"IFERROR(INDEX('2015'!$C$10:$J$1000,MATCH($B$1&\"_\"&ROW()-9,'2015'!$L$10:$L$1000,0),3),\"\")","v":""},{"$f":"IFERROR(INDEX('2015'!$C$10:$J$1000,MATCH($B$1&\"_\"&ROW()-9,'2015'!$L$10:$L$1000,0),4),\"\")","v":""},{"$f":"IFERROR(INDEX('2015'!$C$10:$J$1000,MATCH($B$1&\"_\"&ROW()-9,'2015'!$L$10:$L$1000,0),5),\"\")","v":""},{"$f":"IFERROR(ROUND(INDEX('2015'!$C$10:$J$1000,MATCH($B$1&\"_\"&ROW()-9,'2015'!$L$10:$L$1000,0),6),2),\"\")","v":""},{"$f":"IFERROR(INDEX('2015'!$C$10:$J$1000,MATCH($B$1&\"_\"&ROW()-9,'2015'!$L$10:$L$1000,0),7),\"\")","v":""},{"$f":"IFERROR(INDEX('2015'!$C$10:$J$1000,MATCH($B$1&\"_\"&ROW()-9,'2015'!$L$10:$L$1000,0),8),\"\")","v":""}]
[{"$f":"IFERROR(INDEX('2015'!$C$10:$J$1000,MATCH($B$1&\"_\"&ROW()-9,'2015'!$L$10:$L$1000,0),1),\"\")","v":""},{"$f":"IFERROR(INDEX('2015'!$C$10:$J$1000,MATCH($B$1&\"_\"&ROW()-9,'2015'!$L$10:$L$1000,0),2),\"\")","v":""},{"$f":"IFERROR(INDEX('2015'!$C$10:$J$1000,MATCH($B$1&\"_\"&ROW()-9,'2015'!$L$10:$L$1000,0),3),\"\")","v":""},{"$f":"IFERROR(INDEX('2015'!$C$10:$J$1000,MATCH($B$1&\"_\"&ROW()-9,'2015'!$L$10:$L$1000,0),4),\"\")","v":""},{"$f":"IFERROR(INDEX('2015'!$C$10:$J$1000,MATCH($B$1&\"_\"&ROW()-9,'2015'!$L$10:$L$1000,0),5),\"\")","v":""},{"$f":"IFERROR(ROUND(INDEX('2015'!$C$10:$J$1000,MATCH($B$1&\"_\"&ROW()-9,'2015'!$L$10:$L$1000,0),6),2),\"\")","v":""},{"$f":"IFERROR(INDEX('2015'!$C$10:$J$1000,MATCH($B$1&\"_\"&ROW()-9,'2015'!$L$10:$L$1000,0),7),\"\")","v":""},{"$f":"IFERROR(INDEX('2015'!$C$10:$J$1000,MATCH($B$1&\"_\"&ROW()-9,'2015'!$L$10:$L$1000,0),8),\"\")","v":""}]
[{"$f":"IFERROR(INDEX('2015'!$C$10:$J$1000,MATCH($B$1&\"_\"&ROW()-9,'2015'!$L$10:$L$1000,0),1),\"\")","v":""},{"$f":"IFERROR(INDEX('2015'!$C$10:$J$1000,MATCH($B$1&\"_\"&ROW()-9,'2015'!$L$10:$L$1000,0),2),\"\")","v":""},{"$f":"IFERROR(INDEX('2015'!$C$10:$J$1000,MATCH($B$1&\"_\"&ROW()-9,'2015'!$L$10:$L$1000,0),3),\"\")","v":""},{"$f":"IFERROR(INDEX('2015'!$C$10:$J$1000,MATCH($B$1&\"_\"&ROW()-9,'2015'!$L$10:$L$1000,0),4),\"\")","v":""},{"$f":"IFERROR(INDEX('2015'!$C$10:$J$1000,MATCH($B$1&\"_\"&ROW()-9,'2015'!$L$10:$L$1000,0),5),\"\")","v":""},{"$f":"IFERROR(ROUND(INDEX('2015'!$C$10:$J$1000,MATCH($B$1&\"_\"&ROW()-9,'2015'!$L$10:$L$1000,0),6),2),\"\")","v":""},{"$f":"IFERROR(INDEX('2015'!$C$10:$J$1000,MATCH($B$1&\"_\"&ROW()-9,'2015'!$L$10:$L$1000,0),7),\"\")","v":""},{"$f":"IFERROR(INDEX('2015'!$C$10:$J$1000,MATCH($B$1&\"_\"&ROW()-9,'2015'!$L$10:$L$1000,0),8),\"\")","v":""}]
[{"$f":"IFERROR(INDEX('2015'!$C$10:$J$1000,MATCH($B$1&\"_\"&ROW()-9,'2015'!$L$10:$L$1000,0),1),\"\")","v":""},{"$f":"IFERROR(INDEX('2015'!$C$10:$J$1000,MATCH($B$1&\"_\"&ROW()-9,'2015'!$L$10:$L$1000,0),2),\"\")","v":""},{"$f":"IFERROR(INDEX('2015'!$C$10:$J$1000,MATCH($B$1&\"_\"&ROW()-9,'2015'!$L$10:$L$1000,0),3),\"\")","v":""},{"$f":"IFERROR(INDEX('2015'!$C$10:$J$1000,MATCH($B$1&\"_\"&ROW()-9,'2015'!$L$10:$L$1000,0),4),\"\")","v":""},{"$f":"IFERROR(INDEX('2015'!$C$10:$J$1000,MATCH($B$1&\"_\"&ROW()-9,'2015'!$L$10:$L$1000,0),5),\"\")","v":""},{"$f":"IFERROR(ROUND(INDEX('2015'!$C$10:$J$1000,MATCH($B$1&\"_\"&ROW()-9,'2015'!$L$10:$L$1000,0),6),2),\"\")","v":""},{"$f":"IFERROR(INDEX('2015'!$C$10:$J$1000,MATCH($B$1&\"_\"&ROW()-9,'2015'!$L$10:$L$1000,0),7),\"\")","v":""},{"$f":"IFERROR(INDEX('2015'!$C$10:$J$1000,MATCH($B$1&\"_\"&ROW()-9,'2015'!$L$10:$L$1000,0),8),\"\")","v":""}]
[{"$f":"IFERROR(INDEX('2015'!$C$10:$J$1000,MATCH($B$1&\"_\"&ROW()-9,'2015'!$L$10:$L$1000,0),1),\"\")","v":""},{"$f":"IFERROR(INDEX('2015'!$C$10:$J$1000,MATCH($B$1&\"_\"&ROW()-9,'2015'!$L$10:$L$1000,0),2),\"\")","v":""},{"$f":"IFERROR(INDEX('2015'!$C$10:$J$1000,MATCH($B$1&\"_\"&ROW()-9,'2015'!$L$10:$L$1000,0),3),\"\")","v":""},{"$f":"IFERROR(INDEX('2015'!$C$10:$J$1000,MATCH($B$1&\"_\"&ROW()-9,'2015'!$L$10:$L$1000,0),4),\"\")","v":""},{"$f":"IFERROR(INDEX('2015'!$C$10:$J$1000,MATCH($B$1&\"_\"&ROW()-9,'2015'!$L$10:$L$1000,0),5),\"\")","v":""},{"$f":"IFERROR(ROUND(INDEX('2015'!$C$10:$J$1000,MATCH($B$1&\"_\"&ROW()-9,'2015'!$L$10:$L$1000,0),6),2),\"\")","v":""},{"$f":"IFERROR(INDEX('2015'!$C$10:$J$1000,MATCH($B$1&\"_\"&ROW()-9,'2015'!$L$10:$L$1000,0),7),\"\")","v":""},{"$f":"IFERROR(INDEX('2015'!$C$10:$J$1000,MATCH($B$1&\"_\"&ROW()-9,'2015'!$L$10:$L$1000,0),8),\"\")","v":""}]
[{"$f":"IFERROR(INDEX('2015'!$C$10:$J$1000,MATCH($B$1&\"_\"&ROW()-9,'2015'!$L$10:$L$1000,0),1),\"\")","v":""},{"$f":"IFERROR(INDEX('2015'!$C$10:$J$1000,MATCH($B$1&\"_\"&ROW()-9,'2015'!$L$10:$L$1000,0),2),\"\")","v":""},{"$f":"IFERROR(INDEX('2015'!$C$10:$J$1000,MATCH($B$1&\"_\"&ROW()-9,'2015'!$L$10:$L$1000,0),3),\"\")","v":""},{"$f":"IFERROR(INDEX('2015'!$C$10:$J$1000,MATCH($B$1&\"_\"&ROW()-9,'2015'!$L$10:$L$1000,0),4),\"\")","v":""},{"$f":"IFERROR(INDEX('2015'!$C$10:$J$1000,MATCH($B$1&\"_\"&ROW()-9,'2015'!$L$10:$L$1000,0),5),\"\")","v":""},{"$f":"IFERROR(ROUND(INDEX('2015'!$C$10:$J$1000,MATCH($B$1&\"_\"&ROW()-9,'2015'!$L$10:$L$1000,0),6),2),\"\")","v":""},{"$f":"IFERROR(INDEX('2015'!$C$10:$J$1000,MATCH($B$1&\"_\"&ROW()-9,'2015'!$L$10:$L$1000,0),7),\"\")","v":""},{"$f":"IFERROR(INDEX('2015'!$C$10:$J$1000,MATCH($B$1&\"_\"&ROW()-9,'2015'!$L$10:$L$1000,0),8),\"\")","v":""}]
[{"$f":"IFERROR(INDEX('2015'!$C$10:$J$1000,MATCH($B$1&\"_\"&ROW()-9,'2015'!$L$10:$L$1000,0),1),\"\")","v":""},{"$f":"IFERROR(INDEX('2015'!$C$10:$J$1000,MATCH($B$1&\"_\"&ROW()-9,'2015'!$L$10:$L$1000,0),2),\"\")","v":""},{"$f":"IFERROR(INDEX('2015'!$C$10:$J$1000,MATCH($B$1&\"_\"&ROW()-9,'2015'!$L$10:$L$1000,0),3),\"\")","v":""},{"$f":"IFERROR(INDEX('2015'!$C$10:$J$1000,MATCH($B$1&\"_\"&ROW()-9,'2015'!$L$10:$L$1000,0),4),\"\")","v":""},{"$f":"IFERROR(INDEX('2015'!$C$10:$J$1000,MATCH($B$1&\"_\"&ROW()-9,'2015'!$L$10:$L$1000,0),5),\"\")","v":""},{"$f":"IFERROR(ROUND(INDEX('2015'!$C$10:$J$1000,MATCH($B$1&\"_\"&ROW()-9,'2015'!$L$10:$L$1000,0),6),2),\"\")","v":""},{"$f":"IFERROR(INDEX('2015'!$C$10:$J$1000,MATCH($B$1&\"_\"&ROW()-9,'2015'!$L$10:$L$1000,0),7),\"\")","v":""},{"$f":"IFERROR(INDEX('2015'!$C$10:$J$1000,MATCH($B$1&\"_\"&ROW()-9,'2015'!$L$10:$L$1000,0),8),\"\")","v":""}]
[{"$f":"IFERROR(INDEX('2015'!$C$10:$J$1000,MATCH($B$1&\"_\"&ROW()-9,'2015'!$L$10:$L$1000,0),1),\"\")","v":""},{"$f":"IFERROR(INDEX('2015'!$C$10:$J$1000,MATCH($B$1&\"_\"&ROW()-9,'2015'!$L$10:$L$1000,0),2),\"\")","v":""},{"$f":"IFERROR(INDEX('2015'!$C$10:$J$1000,MATCH($B$1&\"_\"&ROW()-9,'2015'!$L$10:$L$1000,0),3),\"\")","v":""},{"$f":"IFERROR(INDEX('2015'!$C$10:$J$1000,MATCH($B$1&\"_\"&ROW()-9,'2015'!$L$10:$L$1000,0),4),\"\")","v":""},{"$f":"IFERROR(INDEX('2015'!$C$10:$J$1000,MATCH($B$1&\"_\"&ROW()-9,'2015'!$L$10:$L$1000,0),5),\"\")","v":""},{"$f":"IFERROR(ROUND(INDEX('2015'!$C$10:$J$1000,MATCH($B$1&\"_\"&ROW()-9,'2015'!$L$10:$L$1000,0),6),2),\"\")","v":""},{"$f":"IFERROR(INDEX('2015'!$C$10:$J$1000,MATCH($B$1&\"_\"&ROW()-9,'2015'!$L$10:$L$1000,0),7),\"\")","v":""},{"$f":"IFERROR(INDEX('2015'!$C$10:$J$1000,MATCH($B$1&\"_\"&ROW()-9,'2015'!$L$10:$L$1000,0),8),\"\")","v":""}]
[{"$f":"IFERROR(INDEX('2015'!$C$10:$J$1000,MATCH($B$1&\"_\"&ROW()-9,'2015'!$L$10:$L$1000,0),1),\"\")","v":""},{"$f":"IFERROR(INDEX('2015'!$C$10:$J$1000,MATCH($B$1&\"_\"&ROW()-9,'2015'!$L$10:$L$1000,0),2),\"\")","v":""},{"$f":"IFERROR(INDEX('2015'!$C$10:$J$1000,MATCH($B$1&\"_\"&ROW()-9,'2015'!$L$10:$L$1000,0),3),\"\")","v":""},{"$f":"IFERROR(INDEX('2015'!$C$10:$J$1000,MATCH($B$1&\"_\"&ROW()-9,'2015'!$L$10:$L$1000,0),4),\"\")","v":""},{"$f":"IFERROR(INDEX('2015'!$C$10:$J$1000,MATCH($B$1&\"_\"&ROW()-9,'2015'!$L$10:$L$1000,0),5),\"\")","v":""},{"$f":"IFERROR(ROUND(INDEX('2015'!$C$10:$J$1000,MATCH($B$1&\"_\"&ROW()-9,'2015'!$L$10:$L$1000,0),6),2),\"\")","v":""},{"$f":"IFERROR(INDEX('2015'!$C$10:$J$1000,MATCH($B$1&\"_\"&ROW()-9,'2015'!$L$10:$L$1000,0),7),\"\")","v":""},{"$f":"IFERROR(INDEX('2015'!$C$10:$J$1000,MATCH($B$1&\"_\"&ROW()-9,'2015'!$L$10:$L$1000,0),8),\"\")","v":""}]
[{"$f":"IFERROR(INDEX('2015'!$C$10:$J$1000,MATCH($B$1&\"_\"&ROW()-9,'2015'!$L$10:$L$1000,0),1),\"\")","v":""},{"$f":"IFERROR(INDEX('2015'!$C$10:$J$1000,MATCH($B$1&\"_\"&ROW()-9,'2015'!$L$10:$L$1000,0),2),\"\")","v":""},{"$f":"IFERROR(INDEX('2015'!$C$10:$J$1000,MATCH($B$1&\"_\"&ROW()-9,'2015'!$L$10:$L$1000,0),3),\"\")","v":""},{"$f":"IFERROR(INDEX('2015'!$C$10:$J$1000,MATCH($B$1&\"_\"&ROW()-9,'2015'!$L$10:$L$1000,0),4),\"\")","v":""},{"$f":"IFERROR(INDEX('2015'!$C$10:$J$1000,MATCH($B$1&\"_\"&ROW()-9,'2015'!$L$10:$L$1000,0),5),\"\")","v":""},{"$f":"IFERROR(ROUND(INDEX('2015'!$C$10:$J$1000,MATCH($B$1&\"_\"&ROW()-9,'2015'!$L$10:$L$1000,0),6),2),\"\")","v":""},{"$f":"IFERROR(INDEX('2015'!$C$10:$J$1000,MATCH($B$1&\"_\"&ROW()-9,'2015'!$L$10:$L$1000,0),7),\"\")","v":""},{"$f":"IFERROR(INDEX('2015'!$C$10:$J$1000,MATCH($B$1&\"_\"&ROW()-9,'2015'!$L$10:$L$1000,0),8),\"\")","v":""}]
[{"$f":"IFERROR(INDEX('2015'!$C$10:$J$1000,MATCH($B$1&\"_\"&ROW()-9,'2015'!$L$10:$L$1000,0),1),\"\")","v":""},{"$f":"IFERROR(INDEX('2015'!$C$10:$J$1000,MATCH($B$1&\"_\"&ROW()-9,'2015'!$L$10:$L$1000,0),2),\"\")","v":""},{"$f":"IFERROR(INDEX('2015'!$C$10:$J$1000,MATCH($B$1&\"_\"&ROW()-9,'2015'!$L$10:$L$1000,0),3),\"\")","v":""},{"$f":"IFERROR(INDEX('2015'!$C$10:$J$1000,MATCH($B$1&\"_\"&ROW()-9,'2015'!$L$10:$L$1000,0),4),\"\")","v":""},{"$f":"IFERROR(INDEX('2015'!$C$10:$J$1000,MATCH($B$1&\"_\"&ROW()-9,'2015'!$L$10:$L$1000,0),5),\"\")","v":""},{"$f":"IFERROR(ROUND(INDEX('2015'!$C$10:$J$1000,MATCH($B$1&\"_\"&ROW()-9,'2015'!$L$10:$L$1000,0),6),2),\"\")","v":""},{"$f":"IFERROR(INDEX('2015'!$C$10:$J$1000,MATCH($B$1&\"_\"&ROW()-9,'2015'!$L$10:$L$1000,0),7),\"\")","v":""},{"$f":"IFERROR(INDEX('2015'!$C$10:$J$1000,MATCH($B$1&\"_\"&ROW()-9,'2015'!$L$10:$L$1000,0),8),\"\")","v":""}]
[{"$f":"IFERROR(INDEX('2015'!$C$10:$J$1000,MATCH($B$1&\"_\"&ROW()-9,'2015'!$L$10:$L$1000,0),1),\"\")","v":""},{"$f":"IFERROR(INDEX('2015'!$C$10:$J$1000,MATCH($B$1&\"_\"&ROW()-9,'2015'!$L$10:$L$1000,0),2),\"\")","v":""},{"$f":"IFERROR(INDEX('2015'!$C$10:$J$1000,MATCH($B$1&\"_\"&ROW()-9,'2015'!$L$10:$L$1000,0),3),\"\")","v":""},{"$f":"IFERROR(INDEX('2015'!$C$10:$J$1000,MATCH($B$1&\"_\"&ROW()-9,'2015'!$L$10:$L$1000,0),4),\"\")","v":""},{"$f":"IFERROR(INDEX('2015'!$C$10:$J$1000,MATCH($B$1&\"_\"&ROW()-9,'2015'!$L$10:$L$1000,0),5),\"\")","v":""},{"$f":"IFERROR(ROUND(INDEX('2015'!$C$10:$J$1000,MATCH($B$1&\"_\"&ROW()-9,'2015'!$L$10:$L$1000,0),6),2),\"\")","v":""},{"$f":"IFERROR(INDEX('2015'!$C$10:$J$1000,MATCH($B$1&\"_\"&ROW()-9,'2015'!$L$10:$L$1000,0),7),\"\")","v":""},{"$f":"IFERROR(INDEX('2015'!$C$10:$J$1000,MATCH($B$1&\"_\"&ROW()-9,'2015'!$L$10:$L$1000,0),8),\"\")","v":""}]
[{"$f":"IFERROR(INDEX('2015'!$C$10:$J$1000,MATCH($B$1&\"_\"&ROW()-9,'2015'!$L$10:$L$1000,0),1),\"\")","v":""},{"$f":"IFERROR(INDEX('2015'!$C$10:$J$1000,MATCH($B$1&\"_\"&ROW()-9,'2015'!$L$10:$L$1000,0),2),\"\")","v":""},{"$f":"IFERROR(INDEX('2015'!$C$10:$J$1000,MATCH($B$1&\"_\"&ROW()-9,'2015'!$L$10:$L$1000,0),3),\"\")","v":""},{"$f":"IFERROR(INDEX('2015'!$C$10:$J$1000,MATCH($B$1&\"_\"&ROW()-9,'2015'!$L$10:$L$1000,0),4),\"\")","v":""},{"$f":"IFERROR(INDEX('2015'!$C$10:$J$1000,MATCH($B$1&\"_\"&ROW()-9,'2015'!$L$10:$L$1000,0),5),\"\")","v":""},{"$f":"IFERROR(ROUND(INDEX('2015'!$C$10:$J$1000,MATCH($B$1&\"_\"&ROW()-9,'2015'!$L$10:$L$1000,0),6),2),\"\")","v":""},{"$f":"IFERROR(INDEX('2015'!$C$10:$J$1000,MATCH($B$1&\"_\"&ROW()-9,'2015'!$L$10:$L$1000,0),7),\"\")","v":""},{"$f":"IFERROR(INDEX('2015'!$C$10:$J$1000,MATCH($B$1&\"_\"&ROW()-9,'2015'!$L$10:$L$1000,0),8),\"\")","v":""}]
[{"$f":"IFERROR(INDEX('2015'!$C$10:$J$1000,MATCH($B$1&\"_\"&ROW()-9,'2015'!$L$10:$L$1000,0),1),\"\")","v":""},{"$f":"IFERROR(INDEX('2015'!$C$10:$J$1000,MATCH($B$1&\"_\"&ROW()-9,'2015'!$L$10:$L$1000,0),2),\"\")","v":""},{"$f":"IFERROR(INDEX('2015'!$C$10:$J$1000,MATCH($B$1&\"_\"&ROW()-9,'2015'!$L$10:$L$1000,0),3),\"\")","v":""},{"$f":"IFERROR(INDEX('2015'!$C$10:$J$1000,MATCH($B$1&\"_\"&ROW()-9,'2015'!$L$10:$L$1000,0),4),\"\")","v":""},{"$f":"IFERROR(INDEX('2015'!$C$10:$J$1000,MATCH($B$1&\"_\"&ROW()-9,'2015'!$L$10:$L$1000,0),5),\"\")","v":""},{"$f":"IFERROR(ROUND(INDEX('2015'!$C$10:$J$1000,MATCH($B$1&\"_\"&ROW()-9,'2015'!$L$10:$L$1000,0),6),2),\"\")","v":""},{"$f":"IFERROR(INDEX('2015'!$C$10:$J$1000,MATCH($B$1&\"_\"&ROW()-9,'2015'!$L$10:$L$1000,0),7),\"\")","v":""},{"$f":"IFERROR(INDEX('2015'!$C$10:$J$1000,MATCH($B$1&\"_\"&ROW()-9,'2015'!$L$10:$L$1000,0),8),\"\")","v":""}]
[{"$f":"IFERROR(INDEX('2015'!$C$10:$J$1000,MATCH($B$1&\"_\"&ROW()-9,'2015'!$L$10:$L$1000,0),1),\"\")","v":""},{"$f":"IFERROR(INDEX('2015'!$C$10:$J$1000,MATCH($B$1&\"_\"&ROW()-9,'2015'!$L$10:$L$1000,0),2),\"\")","v":""},{"$f":"IFERROR(INDEX('2015'!$C$10:$J$1000,MATCH($B$1&\"_\"&ROW()-9,'2015'!$L$10:$L$1000,0),3),\"\")","v":""},{"$f":"IFERROR(INDEX('2015'!$C$10:$J$1000,MATCH($B$1&\"_\"&ROW()-9,'2015'!$L$10:$L$1000,0),4),\"\")","v":""},{"$f":"IFERROR(INDEX('2015'!$C$10:$J$1000,MATCH($B$1&\"_\"&ROW()-9,'2015'!$L$10:$L$1000,0),5),\"\")","v":""},{"$f":"IFERROR(ROUND(INDEX('2015'!$C$10:$J$1000,MATCH($B$1&\"_\"&ROW()-9,'2015'!$L$10:$L$1000,0),6),2),\"\")","v":""},{"$f":"IFERROR(INDEX('2015'!$C$10:$J$1000,MATCH($B$1&\"_\"&ROW()-9,'2015'!$L$10:$L$1000,0),7),\"\")","v":""},{"$f":"IFERROR(INDEX('2015'!$C$10:$J$1000,MATCH($B$1&\"_\"&ROW()-9,'2015'!$L$10:$L$1000,0),8),\"\")","v":""}]
[{"$f":"IFERROR(INDEX('2015'!$C$10:$J$1000,MATCH($B$1&\"_\"&ROW()-9,'2015'!$L$10:$L$1000,0),1),\"\")","v":""},{"$f":"IFERROR(INDEX('2015'!$C$10:$J$1000,MATCH($B$1&\"_\"&ROW()-9,'2015'!$L$10:$L$1000,0),2),\"\")","v":""},{"$f":"IFERROR(INDEX('2015'!$C$10:$J$1000,MATCH($B$1&\"_\"&ROW()-9,'2015'!$L$10:$L$1000,0),3),\"\")","v":""},{"$f":"IFERROR(INDEX('2015'!$C$10:$J$1000,MATCH($B$1&\"_\"&ROW()-9,'2015'!$L$10:$L$1000,0),4),\"\")","v":""},{"$f":"IFERROR(INDEX('2015'!$C$10:$J$1000,MATCH($B$1&\"_\"&ROW()-9,'2015'!$L$10:$L$1000,0),5),\"\")","v":""},{"$f":"IFERROR(ROUND(INDEX('2015'!$C$10:$J$1000,MATCH($B$1&\"_\"&ROW()-9,'2015'!$L$10:$L$1000,0),6),2),\"\")","v":""},{"$f":"IFERROR(INDEX('2015'!$C$10:$J$1000,MATCH($B$1&\"_\"&ROW()-9,'2015'!$L$10:$L$1000,0),7),\"\")","v":""},{"$f":"IFERROR(INDEX('2015'!$C$10:$J$1000,MATCH($B$1&\"_\"&ROW()-9,'2015'!$L$10:$L$1000,0),8),\"\")","v":""}]
[{"$f":"IFERROR(INDEX('2015'!$C$10:$J$1000,MATCH($B$1&\"_\"&ROW()-9,'2015'!$L$10:$L$1000,0),1),\"\")","v":""},{"$f":"IFERROR(INDEX('2015'!$C$10:$J$1000,MATCH($B$1&\"_\"&ROW()-9,'2015'!$L$10:$L$1000,0),2),\"\")","v":""},{"$f":"IFERROR(INDEX('2015'!$C$10:$J$1000,MATCH($B$1&\"_\"&ROW()-9,'2015'!$L$10:$L$1000,0),3),\"\")","v":""},{"$f":"IFERROR(INDEX('2015'!$C$10:$J$1000,MATCH($B$1&\"_\"&ROW()-9,'2015'!$L$10:$L$1000,0),4),\"\")","v":""},{"$f":"IFERROR(INDEX('2015'!$C$10:$J$1000,MATCH($B$1&\"_\"&ROW()-9,'2015'!$L$10:$L$1000,0),5),\"\")","v":""},{"$f":"IFERROR(ROUND(INDEX('2015'!$C$10:$J$1000,MATCH($B$1&\"_\"&ROW()-9,'2015'!$L$10:$L$1000,0),6),2),\"\")","v":""},{"$f":"IFERROR(INDEX('2015'!$C$10:$J$1000,MATCH($B$1&\"_\"&ROW()-9,'2015'!$L$10:$L$1000,0),7),\"\")","v":""},{"$f":"IFERROR(INDEX('2015'!$C$10:$J$1000,MATCH($B$1&\"_\"&ROW()-9,'2015'!$L$10:$L$1000,0),8),\"\")","v":""}]
[{"$f":"IFERROR(INDEX('2015'!$C$10:$J$1000,MATCH($B$1&\"_\"&ROW()-9,'2015'!$L$10:$L$1000,0),1),\"\")","v":""},{"$f":"IFERROR(INDEX('2015'!$C$10:$J$1000,MATCH($B$1&\"_\"&ROW()-9,'2015'!$L$10:$L$1000,0),2),\"\")","v":""},{"$f":"IFERROR(INDEX('2015'!$C$10:$J$1000,MATCH($B$1&\"_\"&ROW()-9,'2015'!$L$10:$L$1000,0),3),\"\")","v":""},{"$f":"IFERROR(INDEX('2015'!$C$10:$J$1000,MATCH($B$1&\"_\"&ROW()-9,'2015'!$L$10:$L$1000,0),4),\"\")","v":""},{"$f":"IFERROR(INDEX('2015'!$C$10:$J$1000,MATCH($B$1&\"_\"&ROW()-9,'2015'!$L$10:$L$1000,0),5),\"\")","v":""},{"$f":"IFERROR(ROUND(INDEX('2015'!$C$10:$J$1000,MATCH($B$1&\"_\"&ROW()-9,'2015'!$L$10:$L$1000,0),6),2),\"\")","v":""},{"$f":"IFERROR(INDEX('2015'!$C$10:$J$1000,MATCH($B$1&\"_\"&ROW()-9,'2015'!$L$10:$L$1000,0),7),\"\")","v":""},{"$f":"IFERROR(INDEX('2015'!$C$10:$J$1000,MATCH($B$1&\"_\"&ROW()-9,'2015'!$L$10:$L$1000,0),8),\"\")","v":""}]
[{"$f":"IFERROR(INDEX('2015'!$C$10:$J$1000,MATCH($B$1&\"_\"&ROW()-9,'2015'!$L$10:$L$1000,0),1),\"\")","v":""},{"$f":"IFERROR(INDEX('2015'!$C$10:$J$1000,MATCH($B$1&\"_\"&ROW()-9,'2015'!$L$10:$L$1000,0),2),\"\")","v":""},{"$f":"IFERROR(INDEX('2015'!$C$10:$J$1000,MATCH($B$1&\"_\"&ROW()-9,'2015'!$L$10:$L$1000,0),3),\"\")","v":""},{"$f":"IFERROR(INDEX('2015'!$C$10:$J$1000,MATCH($B$1&\"_\"&ROW()-9,'2015'!$L$10:$L$1000,0),4),\"\")","v":""},{"$f":"IFERROR(INDEX('2015'!$C$10:$J$1000,MATCH($B$1&\"_\"&ROW()-9,'2015'!$L$10:$L$1000,0),5),\"\")","v":""},{"$f":"IFERROR(ROUND(INDEX('2015'!$C$10:$J$1000,MATCH($B$1&\"_\"&ROW()-9,'2015'!$L$10:$L$1000,0),6),2),\"\")","v":""},{"$f":"IFERROR(INDEX('2015'!$C$10:$J$1000,MATCH($B$1&\"_\"&ROW()-9,'2015'!$L$10:$L$1000,0),7),\"\")","v":""},{"$f":"IFERROR(INDEX('2015'!$C$10:$J$1000,MATCH($B$1&\"_\"&ROW()-9,'2015'!$L$10:$L$1000,0),8),\"\")","v":""}]
[{"$f":"IFERROR(INDEX('2015'!$C$10:$J$1000,MATCH($B$1&\"_\"&ROW()-9,'2015'!$L$10:$L$1000,0),1),\"\")","v":""},{"$f":"IFERROR(INDEX('2015'!$C$10:$J$1000,MATCH($B$1&\"_\"&ROW()-9,'2015'!$L$10:$L$1000,0),2),\"\")","v":""},{"$f":"IFERROR(INDEX('2015'!$C$10:$J$1000,MATCH($B$1&\"_\"&ROW()-9,'2015'!$L$10:$L$1000,0),3),\"\")","v":""},{"$f":"IFERROR(INDEX('2015'!$C$10:$J$1000,MATCH($B$1&\"_\"&ROW()-9,'2015'!$L$10:$L$1000,0),4),\"\")","v":""},{"$f":"IFERROR(INDEX('2015'!$C$10:$J$1000,MATCH($B$1&\"_\"&ROW()-9,'2015'!$L$10:$L$1000,0),5),\"\")","v":""},{"$f":"IFERROR(ROUND(INDEX('2015'!$C$10:$J$1000,MATCH($B$1&\"_\"&ROW()-9,'2015'!$L$10:$L$1000,0),6),2),\"\")","v":""},{"$f":"IFERROR(INDEX('2015'!$C$10:$J$1000,MATCH($B$1&\"_\"&ROW()-9,'2015'!$L$10:$L$1000,0),7),\"\")","v":""},{"$f":"IFERROR(INDEX('2015'!$C$10:$J$1000,MATCH($B$1&\"_\"&ROW()-9,'2015'!$L$10:$L$1000,0),8),\"\")","v":""}]
[{"$f":"IFERROR(INDEX('2015'!$C$10:$J$1000,MATCH($B$1&\"_\"&ROW()-9,'2015'!$L$10:$L$1000,0),1),\"\")","v":""},{"$f":"IFERROR(INDEX('2015'!$C$10:$J$1000,MATCH($B$1&\"_\"&ROW()-9,'2015'!$L$10:$L$1000,0),2),\"\")","v":""},{"$f":"IFERROR(INDEX('2015'!$C$10:$J$1000,MATCH($B$1&\"_\"&ROW()-9,'2015'!$L$10:$L$1000,0),3),\"\")","v":""},{"$f":"IFERROR(INDEX('2015'!$C$10:$J$1000,MATCH($B$1&\"_\"&ROW()-9,'2015'!$L$10:$L$1000,0),4),\"\")","v":""},{"$f":"IFERROR(INDEX('2015'!$C$10:$J$1000,MATCH($B$1&\"_\"&ROW()-9,'2015'!$L$10:$L$1000,0),5),\"\")","v":""},{"$f":"IFERROR(ROUND(INDEX('2015'!$C$10:$J$1000,MATCH($B$1&\"_\"&ROW()-9,'2015'!$L$10:$L$1000,0),6),2),\"\")","v":""},{"$f":"IFERROR(INDEX('2015'!$C$10:$J$1000,MATCH($B$1&\"_\"&ROW()-9,'2015'!$L$10:$L$1000,0),7),\"\")","v":""},{"$f":"IFERROR(INDEX('2015'!$C$10:$J$1000,MATCH($B$1&\"_\"&ROW()-9,'2015'!$L$10:$L$1000,0),8),\"\")","v":""}]
[{"$f":"IFERROR(INDEX('2015'!$C$10:$J$1000,MATCH($B$1&\"_\"&ROW()-9,'2015'!$L$10:$L$1000,0),1),\"\")","v":""},{"$f":"IFERROR(INDEX('2015'!$C$10:$J$1000,MATCH($B$1&\"_\"&ROW()-9,'2015'!$L$10:$L$1000,0),2),\"\")","v":""},{"$f":"IFERROR(INDEX('2015'!$C$10:$J$1000,MATCH($B$1&\"_\"&ROW()-9,'2015'!$L$10:$L$1000,0),3),\"\")","v":""},{"$f":"IFERROR(INDEX('2015'!$C$10:$J$1000,MATCH($B$1&\"_\"&ROW()-9,'2015'!$L$10:$L$1000,0),4),\"\")","v":""},{"$f":"IFERROR(INDEX('2015'!$C$10:$J$1000,MATCH($B$1&\"_\"&ROW()-9,'2015'!$L$10:$L$1000,0),5),\"\")","v":""},{"$f":"IFERROR(ROUND(INDEX('2015'!$C$10:$J$1000,MATCH($B$1&\"_\"&ROW()-9,'2015'!$L$10:$L$1000,0),6),2),\"\")","v":""},{"$f":"IFERROR(INDEX('2015'!$C$10:$J$1000,MATCH($B$1&\"_\"&ROW()-9,'2015'!$L$10:$L$1000,0),7),\"\")","v":""},{"$f":"IFERROR(INDEX('2015'!$C$10:$J$1000,MATCH($B$1&\"_\"&ROW()-9,'2015'!$L$10:$L$1000,0),8),\"\")","v":""}]
[{"$f":"IFERROR(INDEX('2015'!$C$10:$J$1000,MATCH($B$1&\"_\"&ROW()-9,'2015'!$L$10:$L$1000,0),1),\"\")","v":""},{"$f":"IFERROR(INDEX('2015'!$C$10:$J$1000,MATCH($B$1&\"_\"&ROW()-9,'2015'!$L$10:$L$1000,0),2),\"\")","v":""},{"$f":"IFERROR(INDEX('2015'!$C$10:$J$1000,MATCH($B$1&\"_\"&ROW()-9,'2015'!$L$10:$L$1000,0),3),\"\")","v":""},{"$f":"IFERROR(INDEX('2015'!$C$10:$J$1000,MATCH($B$1&\"_\"&ROW()-9,'2015'!$L$10:$L$1000,0),4),\"\")","v":""},{"$f":"IFERROR(INDEX('2015'!$C$10:$J$1000,MATCH($B$1&\"_\"&ROW()-9,'2015'!$L$10:$L$1000,0),5),\"\")","v":""},{"$f":"IFERROR(ROUND(INDEX('2015'!$C$10:$J$1000,MATCH($B$1&\"_\"&ROW()-9,'2015'!$L$10:$L$1000,0),6),2),\"\")","v":""},{"$f":"IFERROR(INDEX('2015'!$C$10:$J$1000,MATCH($B$1&\"_\"&ROW()-9,'2015'!$L$10:$L$1000,0),7),\"\")","v":""},{"$f":"IFERROR(INDEX('2015'!$C$10:$J$1000,MATCH($B$1&\"_\"&ROW()-9,'2015'!$L$10:$L$1000,0),8),\"\")","v":""}]
[{"$f":"IFERROR(INDEX('2015'!$C$10:$J$1000,MATCH($B$1&\"_\"&ROW()-9,'2015'!$L$10:$L$1000,0),1),\"\")","v":""},{"$f":"IFERROR(INDEX('2015'!$C$10:$J$1000,MATCH($B$1&\"_\"&ROW()-9,'2015'!$L$10:$L$1000,0),2),\"\")","v":""},{"$f":"IFERROR(INDEX('2015'!$C$10:$J$1000,MATCH($B$1&\"_\"&ROW()-9,'2015'!$L$10:$L$1000,0),3),\"\")","v":""},{"$f":"IFERROR(INDEX('2015'!$C$10:$J$1000,MATCH($B$1&\"_\"&ROW()-9,'2015'!$L$10:$L$1000,0),4),\"\")","v":""},{"$f":"IFERROR(INDEX('2015'!$C$10:$J$1000,MATCH($B$1&\"_\"&ROW()-9,'2015'!$L$10:$L$1000,0),5),\"\")","v":""},{"$f":"IFERROR(ROUND(INDEX('2015'!$C$10:$J$1000,MATCH($B$1&\"_\"&ROW()-9,'2015'!$L$10:$L$1000,0),6),2),\"\")","v":""},{"$f":"IFERROR(INDEX('2015'!$C$10:$J$1000,MATCH($B$1&\"_\"&ROW()-9,'2015'!$L$10:$L$1000,0),7),\"\")","v":""},{"$f":"IFERROR(INDEX('2015'!$C$10:$J$1000,MATCH($B$1&\"_\"&ROW()-9,'2015'!$L$10:$L$1000,0),8),\"\")","v":""}]
[{"$f":"IFERROR(INDEX('2015'!$C$10:$J$1000,MATCH($B$1&\"_\"&ROW()-9,'2015'!$L$10:$L$1000,0),1),\"\")","v":""},{"$f":"IFERROR(INDEX('2015'!$C$10:$J$1000,MATCH($B$1&\"_\"&ROW()-9,'2015'!$L$10:$L$1000,0),2),\"\")","v":""},{"$f":"IFERROR(INDEX('2015'!$C$10:$J$1000,MATCH($B$1&\"_\"&ROW()-9,'2015'!$L$10:$L$1000,0),3),\"\")","v":""},{"$f":"IFERROR(INDEX('2015'!$C$10:$J$1000,MATCH($B$1&\"_\"&ROW()-9,'2015'!$L$10:$L$1000,0),4),\"\")","v":""},{"$f":"IFERROR(INDEX('2015'!$C$10:$J$1000,MATCH($B$1&\"_\"&ROW()-9,'2015'!$L$10:$L$1000,0),5),\"\")","v":""},{"$f":"IFERROR(ROUND(INDEX('2015'!$C$10:$J$1000,MATCH($B$1&\"_\"&ROW()-9,'2015'!$L$10:$L$1000,0),6),2),\"\")","v":""},{"$f":"IFERROR(INDEX('2015'!$C$10:$J$1000,MATCH($B$1&\"_\"&ROW()-9,'2015'!$L$10:$L$1000,0),7),\"\")","v":""},{"$f":"IFERROR(INDEX('2015'!$C$10:$J$1000,MATCH($B$1&\"_\"&ROW()-9,'2015'!$L$10:$L$1000,0),8),\"\")","v":""}]
[{"$f":"IFERROR(INDEX('2015'!$C$10:$J$1000,MATCH($B$1&\"_\"&ROW()-9,'2015'!$L$10:$L$1000,0),1),\"\")","v":""},{"$f":"IFERROR(INDEX('2015'!$C$10:$J$1000,MATCH($B$1&\"_\"&ROW()-9,'2015'!$L$10:$L$1000,0),2),\"\")","v":""},{"$f":"IFERROR(INDEX('2015'!$C$10:$J$1000,MATCH($B$1&\"_\"&ROW()-9,'2015'!$L$10:$L$1000,0),3),\"\")","v":""},{"$f":"IFERROR(INDEX('2015'!$C$10:$J$1000,MATCH($B$1&\"_\"&ROW()-9,'2015'!$L$10:$L$1000,0),4),\"\")","v":""},{"$f":"IFERROR(INDEX('2015'!$C$10:$J$1000,MATCH($B$1&\"_\"&ROW()-9,'2015'!$L$10:$L$1000,0),5),\"\")","v":""},{"$f":"IFERROR(ROUND(INDEX('2015'!$C$10:$J$1000,MATCH($B$1&\"_\"&ROW()-9,'2015'!$L$10:$L$1000,0),6),2),\"\")","v":""},{"$f":"IFERROR(INDEX('2015'!$C$10:$J$1000,MATCH($B$1&\"_\"&ROW()-9,'2015'!$L$10:$L$1000,0),7),\"\")","v":""},{"$f":"IFERROR(INDEX('2015'!$C$10:$J$1000,MATCH($B$1&\"_\"&ROW()-9,'2015'!$L$10:$L$1000,0),8),\"\")","v":""}]
[{"$f":"IFERROR(INDEX('2015'!$C$10:$J$1000,MATCH($B$1&\"_\"&ROW()-9,'2015'!$L$10:$L$1000,0),1),\"\")","v":""},{"$f":"IFERROR(INDEX('2015'!$C$10:$J$1000,MATCH($B$1&\"_\"&ROW()-9,'2015'!$L$10:$L$1000,0),2),\"\")","v":""},{"$f":"IFERROR(INDEX('2015'!$C$10:$J$1000,MATCH($B$1&\"_\"&ROW()-9,'2015'!$L$10:$L$1000,0),3),\"\")","v":""},{"$f":"IFERROR(INDEX('2015'!$C$10:$J$1000,MATCH($B$1&\"_\"&ROW()-9,'2015'!$L$10:$L$1000,0),4),\"\")","v":""},{"$f":"IFERROR(INDEX('2015'!$C$10:$J$1000,MATCH($B$1&\"_\"&ROW()-9,'2015'!$L$10:$L$1000,0),5),\"\")","v":""},{"$f":"IFERROR(ROUND(INDEX('2015'!$C$10:$J$1000,MATCH($B$1&\"_\"&ROW()-9,'2015'!$L$10:$L$1000,0),6),2),\"\")","v":""},{"$f":"IFERROR(INDEX('2015'!$C$10:$J$1000,MATCH($B$1&\"_\"&ROW()-9,'2015'!$L$10:$L$1000,0),7),\"\")","v":""},{"$f":"IFERROR(INDEX('2015'!$C$10:$J$1000,MATCH($B$1&\"_\"&ROW()-9,'2015'!$L$10:$L$1000,0),8),\"\")","v":""}]
[{"$f":"IFERROR(INDEX('2015'!$C$10:$J$1000,MATCH($B$1&\"_\"&ROW()-9,'2015'!$L$10:$L$1000,0),1),\"\")","v":""},{"$f":"IFERROR(INDEX('2015'!$C$10:$J$1000,MATCH($B$1&\"_\"&ROW()-9,'2015'!$L$10:$L$1000,0),2),\"\")","v":""},{"$f":"IFERROR(INDEX('2015'!$C$10:$J$1000,MATCH($B$1&\"_\"&ROW()-9,'2015'!$L$10:$L$1000,0),3),\"\")","v":""},{"$f":"IFERROR(INDEX('2015'!$C$10:$J$1000,MATCH($B$1&\"_\"&ROW()-9,'2015'!$L$10:$L$1000,0),4),\"\")","v":""},{"$f":"IFERROR(INDEX('2015'!$C$10:$J$1000,MATCH($B$1&\"_\"&ROW()-9,'2015'!$L$10:$L$1000,0),5),\"\")","v":""},{"$f":"IFERROR(ROUND(INDEX('2015'!$C$10:$J$1000,MATCH($B$1&\"_\"&ROW()-9,'2015'!$L$10:$L$1000,0),6),2),\"\")","v":""},{"$f":"IFERROR(INDEX('2015'!$C$10:$J$1000,MATCH($B$1&\"_\"&ROW()-9,'2015'!$L$10:$L$1000,0),7),\"\")","v":""},{"$f":"IFERROR(INDEX('2015'!$C$10:$J$1000,MATCH($B$1&\"_\"&ROW()-9,'2015'!$L$10:$L$1000,0),8),\"\")","v":""}]
[{"$f":"IFERROR(INDEX('2015'!$C$10:$J$1000,MATCH($B$1&\"_\"&ROW()-9,'2015'!$L$10:$L$1000,0),1),\"\")","v":""},{"$f":"IFERROR(INDEX('2015'!$C$10:$J$1000,MATCH($B$1&\"_\"&ROW()-9,'2015'!$L$10:$L$1000,0),2),\"\")","v":""},{"$f":"IFERROR(INDEX('2015'!$C$10:$J$1000,MATCH($B$1&\"_\"&ROW()-9,'2015'!$L$10:$L$1000,0),3),\"\")","v":""},{"$f":"IFERROR(INDEX('2015'!$C$10:$J$1000,MATCH($B$1&\"_\"&ROW()-9,'2015'!$L$10:$L$1000,0),4),\"\")","v":""},{"$f":"IFERROR(INDEX('2015'!$C$10:$J$1000,MATCH($B$1&\"_\"&ROW()-9,'2015'!$L$10:$L$1000,0),5),\"\")","v":""},{"$f":"IFERROR(ROUND(INDEX('2015'!$C$10:$J$1000,MATCH($B$1&\"_\"&ROW()-9,'2015'!$L$10:$L$1000,0),6),2),\"\")","v":""},{"$f":"IFERROR(INDEX('2015'!$C$10:$J$1000,MATCH($B$1&\"_\"&ROW()-9,'2015'!$L$10:$L$1000,0),7),\"\")","v":""},{"$f":"IFERROR(INDEX('2015'!$C$10:$J$1000,MATCH($B$1&\"_\"&ROW()-9,'2015'!$L$10:$L$1000,0),8),\"\")","v":""}]
[{"$f":"IFERROR(INDEX('2015'!$C$10:$J$1000,MATCH($B$1&\"_\"&ROW()-9,'2015'!$L$10:$L$1000,0),1),\"\")","v":""},{"$f":"IFERROR(INDEX('2015'!$C$10:$J$1000,MATCH($B$1&\"_\"&ROW()-9,'2015'!$L$10:$L$1000,0),2),\"\")","v":""},{"$f":"IFERROR(INDEX('2015'!$C$10:$J$1000,MATCH($B$1&\"_\"&ROW()-9,'2015'!$L$10:$L$1000,0),3),\"\")","v":""},{"$f":"IFERROR(INDEX('2015'!$C$10:$J$1000,MATCH($B$1&\"_\"&ROW()-9,'2015'!$L$10:$L$1000,0),4),\"\")","v":""},{"$f":"IFERROR(INDEX('2015'!$C$10:$J$1000,MATCH($B$1&\"_\"&ROW()-9,'2015'!$L$10:$L$1000,0),5),\"\")","v":""},{"$f":"IFERROR(ROUND(INDEX('2015'!$C$10:$J$1000,MATCH($B$1&\"_\"&ROW()-9,'2015'!$L$10:$L$1000,0),6),2),\"\")","v":""},{"$f":"IFERROR(INDEX('2015'!$C$10:$J$1000,MATCH($B$1&\"_\"&ROW()-9,'2015'!$L$10:$L$1000,0),7),\"\")","v":""},{"$f":"IFERROR(INDEX('2015'!$C$10:$J$1000,MATCH($B$1&\"_\"&ROW()-9,'2015'!$L$10:$L$1000,0),8),\"\")","v":""}]
[{"$f":"IFERROR(INDEX('2015'!$C$10:$J$1000,MATCH($B$1&\"_\"&ROW()-9,'2015'!$L$10:$L$1000,0),1),\"\")","v":""},{"$f":"IFERROR(INDEX('2015'!$C$10:$J$1000,MATCH($B$1&\"_\"&ROW()-9,'2015'!$L$10:$L$1000,0),2),\"\")","v":""},{"$f":"IFERROR(INDEX('2015'!$C$10:$J$1000,MATCH($B$1&\"_\"&ROW()-9,'2015'!$L$10:$L$1000,0),3),\"\")","v":""},{"$f":"IFERROR(INDEX('2015'!$C$10:$J$1000,MATCH($B$1&\"_\"&ROW()-9,'2015'!$L$10:$L$1000,0),4),\"\")","v":""},{"$f":"IFERROR(INDEX('2015'!$C$10:$J$1000,MATCH($B$1&\"_\"&ROW()-9,'2015'!$L$10:$L$1000,0),5),\"\")","v":""},{"$f":"IFERROR(ROUND(INDEX('2015'!$C$10:$J$1000,MATCH($B$1&\"_\"&ROW()-9,'2015'!$L$10:$L$1000,0),6),2),\"\")","v":""},{"$f":"IFERROR(INDEX('2015'!$C$10:$J$1000,MATCH($B$1&\"_\"&ROW()-9,'2015'!$L$10:$L$1000,0),7),\"\")","v":""},{"$f":"IFERROR(INDEX('2015'!$C$10:$J$1000,MATCH($B$1&\"_\"&ROW()-9,'2015'!$L$10:$L$1000,0),8),\"\")","v":""}]
[{"$f":"IFERROR(INDEX('2015'!$C$10:$J$1000,MATCH($B$1&\"_\"&ROW()-9,'2015'!$L$10:$L$1000,0),1),\"\")","v":""},{"$f":"IFERROR(INDEX('2015'!$C$10:$J$1000,MATCH($B$1&\"_\"&ROW()-9,'2015'!$L$10:$L$1000,0),2),\"\")","v":""},{"$f":"IFERROR(INDEX('2015'!$C$10:$J$1000,MATCH($B$1&\"_\"&ROW()-9,'2015'!$L$10:$L$1000,0),3),\"\")","v":""},{"$f":"IFERROR(INDEX('2015'!$C$10:$J$1000,MATCH($B$1&\"_\"&ROW()-9,'2015'!$L$10:$L$1000,0),4),\"\")","v":""},{"$f":"IFERROR(INDEX('2015'!$C$10:$J$1000,MATCH($B$1&\"_\"&ROW()-9,'2015'!$L$10:$L$1000,0),5),\"\")","v":""},{"$f":"IFERROR(ROUND(INDEX('2015'!$C$10:$J$1000,MATCH($B$1&\"_\"&ROW()-9,'2015'!$L$10:$L$1000,0),6),2),\"\")","v":""},{"$f":"IFERROR(INDEX('2015'!$C$10:$J$1000,MATCH($B$1&\"_\"&ROW()-9,'2015'!$L$10:$L$1000,0),7),\"\")","v":""},{"$f":"IFERROR(INDEX('2015'!$C$10:$J$1000,MATCH($B$1&\"_\"&ROW()-9,'2015'!$L$10:$L$1000,0),8),\"\")","v":""}]
[{"$f":"IFERROR(INDEX('2015'!$C$10:$J$1000,MATCH($B$1&\"_\"&ROW()-9,'2015'!$L$10:$L$1000,0),1),\"\")","v":""},{"$f":"IFERROR(INDEX('2015'!$C$10:$J$1000,MATCH($B$1&\"_\"&ROW()-9,'2015'!$L$10:$L$1000,0),2),\"\")","v":""},{"$f":"IFERROR(INDEX('2015'!$C$10:$J$1000,MATCH($B$1&\"_\"&ROW()-9,'2015'!$L$10:$L$1000,0),3),\"\")","v":""},{"$f":"IFERROR(INDEX('2015'!$C$10:$J$1000,MATCH($B$1&\"_\"&ROW()-9,'2015'!$L$10:$L$1000,0),4),\"\")","v":""},{"$f":"IFERROR(INDEX('2015'!$C$10:$J$1000,MATCH($B$1&\"_\"&ROW()-9,'2015'!$L$10:$L$1000,0),5),\"\")","v":""},{"$f":"IFERROR(ROUND(INDEX('2015'!$C$10:$J$1000,MATCH($B$1&\"_\"&ROW()-9,'2015'!$L$10:$L$1000,0),6),2),\"\")","v":""},{"$f":"IFERROR(INDEX('2015'!$C$10:$J$1000,MATCH($B$1&\"_\"&ROW()-9,'2015'!$L$10:$L$1000,0),7),\"\")","v":""},{"$f":"IFERROR(INDEX('2015'!$C$10:$J$1000,MATCH($B$1&\"_\"&ROW()-9,'2015'!$L$10:$L$1000,0),8),\"\")","v":""}]
[{"$f":"IFERROR(INDEX('2015'!$C$10:$J$1000,MATCH($B$1&\"_\"&ROW()-9,'2015'!$L$10:$L$1000,0),1),\"\")","v":""},{"$f":"IFERROR(INDEX('2015'!$C$10:$J$1000,MATCH($B$1&\"_\"&ROW()-9,'2015'!$L$10:$L$1000,0),2),\"\")","v":""},{"$f":"IFERROR(INDEX('2015'!$C$10:$J$1000,MATCH($B$1&\"_\"&ROW()-9,'2015'!$L$10:$L$1000,0),3),\"\")","v":""},{"$f":"IFERROR(INDEX('2015'!$C$10:$J$1000,MATCH($B$1&\"_\"&ROW()-9,'2015'!$L$10:$L$1000,0),4),\"\")","v":""},{"$f":"IFERROR(INDEX('2015'!$C$10:$J$1000,MATCH($B$1&\"_\"&ROW()-9,'2015'!$L$10:$L$1000,0),5),\"\")","v":""},{"$f":"IFERROR(ROUND(INDEX('2015'!$C$10:$J$1000,MATCH($B$1&\"_\"&ROW()-9,'2015'!$L$10:$L$1000,0),6),2),\"\")","v":""},{"$f":"IFERROR(INDEX('2015'!$C$10:$J$1000,MATCH($B$1&\"_\"&ROW()-9,'2015'!$L$10:$L$1000,0),7),\"\")","v":""},{"$f":"IFERROR(INDEX('2015'!$C$10:$J$1000,MATCH($B$1&\"_\"&ROW()-9,'2015'!$L$10:$L$1000,0),8),\"\")","v":""}]
[{"$f":"IFERROR(INDEX('2015'!$C$10:$J$1000,MATCH($B$1&\"_\"&ROW()-9,'2015'!$L$10:$L$1000,0),1),\"\")","v":""},{"$f":"IFERROR(INDEX('2015'!$C$10:$J$1000,MATCH($B$1&\"_\"&ROW()-9,'2015'!$L$10:$L$1000,0),2),\"\")","v":""},{"$f":"IFERROR(INDEX('2015'!$C$10:$J$1000,MATCH($B$1&\"_\"&ROW()-9,'2015'!$L$10:$L$1000,0),3),\"\")","v":""},{"$f":"IFERROR(INDEX('2015'!$C$10:$J$1000,MATCH($B$1&\"_\"&ROW()-9,'2015'!$L$10:$L$1000,0),4),\"\")","v":""},{"$f":"IFERROR(INDEX('2015'!$C$10:$J$1000,MATCH($B$1&\"_\"&ROW()-9,'2015'!$L$10:$L$1000,0),5),\"\")","v":""},{"$f":"IFERROR(ROUND(INDEX('2015'!$C$10:$J$1000,MATCH($B$1&\"_\"&ROW()-9,'2015'!$L$10:$L$1000,0),6),2),\"\")","v":""},{"$f":"IFERROR(INDEX('2015'!$C$10:$J$1000,MATCH($B$1&\"_\"&ROW()-9,'2015'!$L$10:$L$1000,0),7),\"\")","v":""},{"$f":"IFERROR(INDEX('2015'!$C$10:$J$1000,MATCH($B$1&\"_\"&ROW()-9,'2015'!$L$10:$L$1000,0),8),\"\")","v":""}]
[{"$f":"IFERROR(INDEX('2015'!$C$10:$J$1000,MATCH($B$1&\"_\"&ROW()-9,'2015'!$L$10:$L$1000,0),1),\"\")","v":""},{"$f":"IFERROR(INDEX('2015'!$C$10:$J$1000,MATCH($B$1&\"_\"&ROW()-9,'2015'!$L$10:$L$1000,0),2),\"\")","v":""},{"$f":"IFERROR(INDEX('2015'!$C$10:$J$1000,MATCH($B$1&\"_\"&ROW()-9,'2015'!$L$10:$L$1000,0),3),\"\")","v":""},{"$f":"IFERROR(INDEX('2015'!$C$10:$J$1000,MATCH($B$1&\"_\"&ROW()-9,'2015'!$L$10:$L$1000,0),4),\"\")","v":""},{"$f":"IFERROR(INDEX('2015'!$C$10:$J$1000,MATCH($B$1&\"_\"&ROW()-9,'2015'!$L$10:$L$1000,0),5),\"\")","v":""},{"$f":"IFERROR(ROUND(INDEX('2015'!$C$10:$J$1000,MATCH($B$1&\"_\"&ROW()-9,'2015'!$L$10:$L$1000,0),6),2),\"\")","v":""},{"$f":"IFERROR(INDEX('2015'!$C$10:$J$1000,MATCH($B$1&\"_\"&ROW()-9,'2015'!$L$10:$L$1000,0),7),\"\")","v":""},{"$f":"IFERROR(INDEX('2015'!$C$10:$J$1000,MATCH($B$1&\"_\"&ROW()-9,'2015'!$L$10:$L$1000,0),8),\"\")","v":""}]
[{"$f":"IFERROR(INDEX('2015'!$C$10:$J$1000,MATCH($B$1&\"_\"&ROW()-9,'2015'!$L$10:$L$1000,0),1),\"\")","v":""},{"$f":"IFERROR(INDEX('2015'!$C$10:$J$1000,MATCH($B$1&\"_\"&ROW()-9,'2015'!$L$10:$L$1000,0),2),\"\")","v":""},{"$f":"IFERROR(INDEX('2015'!$C$10:$J$1000,MATCH($B$1&\"_\"&ROW()-9,'2015'!$L$10:$L$1000,0),3),\"\")","v":""},{"$f":"IFERROR(INDEX('2015'!$C$10:$J$1000,MATCH($B$1&\"_\"&ROW()-9,'2015'!$L$10:$L$1000,0),4),\"\")","v":""},{"$f":"IFERROR(INDEX('2015'!$C$10:$J$1000,MATCH($B$1&\"_\"&ROW()-9,'2015'!$L$10:$L$1000,0),5),\"\")","v":""},{"$f":"IFERROR(ROUND(INDEX('2015'!$C$10:$J$1000,MATCH($B$1&\"_\"&ROW()-9,'2015'!$L$10:$L$1000,0),6),2),\"\")","v":""},{"$f":"IFERROR(INDEX('2015'!$C$10:$J$1000,MATCH($B$1&\"_\"&ROW()-9,'2015'!$L$10:$L$1000,0),7),\"\")","v":""},{"$f":"IFERROR(INDEX('2015'!$C$10:$J$1000,MATCH($B$1&\"_\"&ROW()-9,'2015'!$L$10:$L$1000,0),8),\"\")","v":""}]
[{"$f":"IFERROR(INDEX('2015'!$C$10:$J$1000,MATCH($B$1&\"_\"&ROW()-9,'2015'!$L$10:$L$1000,0),1),\"\")","v":""},{"$f":"IFERROR(INDEX('2015'!$C$10:$J$1000,MATCH($B$1&\"_\"&ROW()-9,'2015'!$L$10:$L$1000,0),2),\"\")","v":""},{"$f":"IFERROR(INDEX('2015'!$C$10:$J$1000,MATCH($B$1&\"_\"&ROW()-9,'2015'!$L$10:$L$1000,0),3),\"\")","v":""},{"$f":"IFERROR(INDEX('2015'!$C$10:$J$1000,MATCH($B$1&\"_\"&ROW()-9,'2015'!$L$10:$L$1000,0),4),\"\")","v":""},{"$f":"IFERROR(INDEX('2015'!$C$10:$J$1000,MATCH($B$1&\"_\"&ROW()-9,'2015'!$L$10:$L$1000,0),5),\"\")","v":""},{"$f":"IFERROR(ROUND(INDEX('2015'!$C$10:$J$1000,MATCH($B$1&\"_\"&ROW()-9,'2015'!$L$10:$L$1000,0),6),2),\"\")","v":""},{"$f":"IFERROR(INDEX('2015'!$C$10:$J$1000,MATCH($B$1&\"_\"&ROW()-9,'2015'!$L$10:$L$1000,0),7),\"\")","v":""},{"$f":"IFERROR(INDEX('2015'!$C$10:$J$1000,MATCH($B$1&\"_\"&ROW()-9,'2015'!$L$10:$L$1000,0),8),\"\")","v":""}]
[{"$f":"IFERROR(INDEX('2015'!$C$10:$J$1000,MATCH($B$1&\"_\"&ROW()-9,'2015'!$L$10:$L$1000,0),1),\"\")","v":""},{"$f":"IFERROR(INDEX('2015'!$C$10:$J$1000,MATCH($B$1&\"_\"&ROW()-9,'2015'!$L$10:$L$1000,0),2),\"\")","v":""},{"$f":"IFERROR(INDEX('2015'!$C$10:$J$1000,MATCH($B$1&\"_\"&ROW()-9,'2015'!$L$10:$L$1000,0),3),\"\")","v":""},{"$f":"IFERROR(INDEX('2015'!$C$10:$J$1000,MATCH($B$1&\"_\"&ROW()-9,'2015'!$L$10:$L$1000,0),4),\"\")","v":""},{"$f":"IFERROR(INDEX('2015'!$C$10:$J$1000,MATCH($B$1&\"_\"&ROW()-9,'2015'!$L$10:$L$1000,0),5),\"\")","v":""},{"$f":"IFERROR(ROUND(INDEX('2015'!$C$10:$J$1000,MATCH($B$1&\"_\"&ROW()-9,'2015'!$L$10:$L$1000,0),6),2),\"\")","v":""},{"$f":"IFERROR(INDEX('2015'!$C$10:$J$1000,MATCH($B$1&\"_\"&ROW()-9,'2015'!$L$10:$L$1000,0),7),\"\")","v":""},{"$f":"IFERROR(INDEX('2015'!$C$10:$J$1000,MATCH($B$1&\"_\"&ROW()-9,'2015'!$L$10:$L$1000,0),8),\"\")","v":""}]
[{"$f":"IFERROR(INDEX('2015'!$C$10:$J$1000,MATCH($B$1&\"_\"&ROW()-9,'2015'!$L$10:$L$1000,0),1),\"\")","v":""},{"$f":"IFERROR(INDEX('2015'!$C$10:$J$1000,MATCH($B$1&\"_\"&ROW()-9,'2015'!$L$10:$L$1000,0),2),\"\")","v":""},{"$f":"IFERROR(INDEX('2015'!$C$10:$J$1000,MATCH($B$1&\"_\"&ROW()-9,'2015'!$L$10:$L$1000,0),3),\"\")","v":""},{"$f":"IFERROR(INDEX('2015'!$C$10:$J$1000,MATCH($B$1&\"_\"&ROW()-9,'2015'!$L$10:$L$1000,0),4),\"\")","v":""},{"$f":"IFERROR(INDEX('2015'!$C$10:$J$1000,MATCH($B$1&\"_\"&ROW()-9,'2015'!$L$10:$L$1000,0),5),\"\")","v":""},{"$f":"IFERROR(ROUND(INDEX('2015'!$C$10:$J$1000,MATCH($B$1&\"_\"&ROW()-9,'2015'!$L$10:$L$1000,0),6),2),\"\")","v":""},{"$f":"IFERROR(INDEX('2015'!$C$10:$J$1000,MATCH($B$1&\"_\"&ROW()-9,'2015'!$L$10:$L$1000,0),7),\"\")","v":""},{"$f":"IFERROR(INDEX('2015'!$C$10:$J$1000,MATCH($B$1&\"_\"&ROW()-9,'2015'!$L$10:$L$1000,0),8),\"\")","v":""}]
[{"$f":"IFERROR(INDEX('2015'!$C$10:$J$1000,MATCH($B$1&\"_\"&ROW()-9,'2015'!$L$10:$L$1000,0),1),\"\")","v":""},{"$f":"IFERROR(INDEX('2015'!$C$10:$J$1000,MATCH($B$1&\"_\"&ROW()-9,'2015'!$L$10:$L$1000,0),2),\"\")","v":""},{"$f":"IFERROR(INDEX('2015'!$C$10:$J$1000,MATCH($B$1&\"_\"&ROW()-9,'2015'!$L$10:$L$1000,0),3),\"\")","v":""},{"$f":"IFERROR(INDEX('2015'!$C$10:$J$1000,MATCH($B$1&\"_\"&ROW()-9,'2015'!$L$10:$L$1000,0),4),\"\")","v":""},{"$f":"IFERROR(INDEX('2015'!$C$10:$J$1000,MATCH($B$1&\"_\"&ROW()-9,'2015'!$L$10:$L$1000,0),5),\"\")","v":""},{"$f":"IFERROR(ROUND(INDEX('2015'!$C$10:$J$1000,MATCH($B$1&\"_\"&ROW()-9,'2015'!$L$10:$L$1000,0),6),2),\"\")","v":""},{"$f":"IFERROR(INDEX('2015'!$C$10:$J$1000,MATCH($B$1&\"_\"&ROW()-9,'2015'!$L$10:$L$1000,0),7),\"\")","v":""},{"$f":"IFERROR(INDEX('2015'!$C$10:$J$1000,MATCH($B$1&\"_\"&ROW()-9,'2015'!$L$10:$L$1000,0),8),\"\")","v":""}]
[{"$f":"IFERROR(INDEX('2015'!$C$10:$J$1000,MATCH($B$1&\"_\"&ROW()-9,'2015'!$L$10:$L$1000,0),1),\"\")","v":""},{"$f":"IFERROR(INDEX('2015'!$C$10:$J$1000,MATCH($B$1&\"_\"&ROW()-9,'2015'!$L$10:$L$1000,0),2),\"\")","v":""},{"$f":"IFERROR(INDEX('2015'!$C$10:$J$1000,MATCH($B$1&\"_\"&ROW()-9,'2015'!$L$10:$L$1000,0),3),\"\")","v":""},{"$f":"IFERROR(INDEX('2015'!$C$10:$J$1000,MATCH($B$1&\"_\"&ROW()-9,'2015'!$L$10:$L$1000,0),4),\"\")","v":""},{"$f":"IFERROR(INDEX('2015'!$C$10:$J$1000,MATCH($B$1&\"_\"&ROW()-9,'2015'!$L$10:$L$1000,0),5),\"\")","v":""},{"$f":"IFERROR(ROUND(INDEX('2015'!$C$10:$J$1000,MATCH($B$1&\"_\"&ROW()-9,'2015'!$L$10:$L$1000,0),6),2),\"\")","v":""},{"$f":"IFERROR(INDEX('2015'!$C$10:$J$1000,MATCH($B$1&\"_\"&ROW()-9,'2015'!$L$10:$L$1000,0),7),\"\")","v":""},{"$f":"IFERROR(INDEX('2015'!$C$10:$J$1000,MATCH($B$1&\"_\"&ROW()-9,'2015'!$L$10:$L$1000,0),8),\"\")","v":""}]
[{"$f":"IFERROR(INDEX('2015'!$C$10:$J$1000,MATCH($B$1&\"_\"&ROW()-9,'2015'!$L$10:$L$1000,0),1),\"\")","v":""},{"$f":"IFERROR(INDEX('2015'!$C$10:$J$1000,MATCH($B$1&\"_\"&ROW()-9,'2015'!$L$10:$L$1000,0),2),\"\")","v":""},{"$f":"IFERROR(INDEX('2015'!$C$10:$J$1000,MATCH($B$1&\"_\"&ROW()-9,'2015'!$L$10:$L$1000,0),3),\"\")","v":""},{"$f":"IFERROR(INDEX('2015'!$C$10:$J$1000,MATCH($B$1&\"_\"&ROW()-9,'2015'!$L$10:$L$1000,0),4),\"\")","v":""},{"$f":"IFERROR(INDEX('2015'!$C$10:$J$1000,MATCH($B$1&\"_\"&ROW()-9,'2015'!$L$10:$L$1000,0),5),\"\")","v":""},{"$f":"IFERROR(ROUND(INDEX('2015'!$C$10:$J$1000,MATCH($B$1&\"_\"&ROW()-9,'2015'!$L$10:$L$1000,0),6),2),\"\")","v":""},{"$f":"IFERROR(INDEX('2015'!$C$10:$J$1000,MATCH($B$1&\"_\"&ROW()-9,'2015'!$L$10:$L$1000,0),7),\"\")","v":""},{"$f":"IFERROR(INDEX('2015'!$C$10:$J$1000,MATCH($B$1&\"_\"&ROW()-9,'2015'!$L$10:$L$1000,0),8),\"\")","v":""}]
[{"$f":"IFERROR(INDEX('2015'!$C$10:$J$1000,MATCH($B$1&\"_\"&ROW()-9,'2015'!$L$10:$L$1000,0),1),\"\")","v":""},{"$f":"IFERROR(INDEX('2015'!$C$10:$J$1000,MATCH($B$1&\"_\"&ROW()-9,'2015'!$L$10:$L$1000,0),2),\"\")","v":""},{"$f":"IFERROR(INDEX('2015'!$C$10:$J$1000,MATCH($B$1&\"_\"&ROW()-9,'2015'!$L$10:$L$1000,0),3),\"\")","v":""},{"$f":"IFERROR(INDEX('2015'!$C$10:$J$1000,MATCH($B$1&\"_\"&ROW()-9,'2015'!$L$10:$L$1000,0),4),\"\")","v":""},{"$f":"IFERROR(INDEX('2015'!$C$10:$J$1000,MATCH($B$1&\"_\"&ROW()-9,'2015'!$L$10:$L$1000,0),5),\"\")","v":""},{"$f":"IFERROR(ROUND(INDEX('2015'!$C$10:$J$1000,MATCH($B$1&\"_\"&ROW()-9,'2015'!$L$10:$L$1000,0),6),2),\"\")","v":""},{"$f":"IFERROR(INDEX('2015'!$C$10:$J$1000,MATCH($B$1&\"_\"&ROW()-9,'2015'!$L$10:$L$1000,0),7),\"\")","v":""},{"$f":"IFERROR(INDEX('2015'!$C$10:$J$1000,MATCH($B$1&\"_\"&ROW()-9,'2015'!$L$10:$L$1000,0),8),\"\")","v":""}]
[{"$f":"IFERROR(INDEX('2015'!$C$10:$J$1000,MATCH($B$1&\"_\"&ROW()-9,'2015'!$L$10:$L$1000,0),1),\"\")","v":""},{"$f":"IFERROR(INDEX('2015'!$C$10:$J$1000,MATCH($B$1&\"_\"&ROW()-9,'2015'!$L$10:$L$1000,0),2),\"\")","v":""},{"$f":"IFERROR(INDEX('2015'!$C$10:$J$1000,MATCH($B$1&\"_\"&ROW()-9,'2015'!$L$10:$L$1000,0),3),\"\")","v":""},{"$f":"IFERROR(INDEX('2015'!$C$10:$J$1000,MATCH($B$1&\"_\"&ROW()-9,'2015'!$L$10:$L$1000,0),4),\"\")","v":""},{"$f":"IFERROR(INDEX('2015'!$C$10:$J$1000,MATCH($B$1&\"_\"&ROW()-9,'2015'!$L$10:$L$1000,0),5),\"\")","v":""},{"$f":"IFERROR(ROUND(INDEX('2015'!$C$10:$J$1000,MATCH($B$1&\"_\"&ROW()-9,'2015'!$L$10:$L$1000,0),6),2),\"\")","v":""},{"$f":"IFERROR(INDEX('2015'!$C$10:$J$1000,MATCH($B$1&\"_\"&ROW()-9,'2015'!$L$10:$L$1000,0),7),\"\")","v":""},{"$f":"IFERROR(INDEX('2015'!$C$10:$J$1000,MATCH($B$1&\"_\"&ROW()-9,'2015'!$L$10:$L$1000,0),8),\"\")","v":""}]