{"text_format":"1","workbook":"xlsx","n_sheets":2,"sheets":["BdD","EDIT"],"not_rendered":{"charts":0,"images":0,"macros":0,"external_links":0,"defined_names":1,"comments":0,"pivot_tables":0},"unopened":[],"bounds":{"document_bytes":16777216,"sheet_cells":100000,"rows_first":2000,"rows_last":500,"rows_between":2000,"halvings":0,"cell_chars":16384,"cell_head_chars":4096},"cells_cut":0,"cells_raw":0,"read":"whole","date_system":"1900"}

{"sheet":"BdD","index":0,"n_rows":65,"n_cols":12,"rows_kept":65,"cut":false,"hidden":false,"merged":[]}
["Nom","Info_1","Info_2","Info_3","Info_4","Info_5","Info_6","Info_7","Info_8",null,"Codage","Liste ref"]
["Marcel","Limoges","Blanc","Charente","Juillet","Q","Séquoïa","AA_43",43,null,{"$f":"IF(EDIT!$A$1=\"\",\"\",IF(EDIT!$A$1=A2,MAX($K$1:K1)+1,\"\"))","v":""},"Roger"]
["Paul","Montpellier","Marron","Calvados","Mai","O","Tremble","AA_47",63,null,{"$f":"IF(EDIT!$A$1=\"\",\"\",IF(EDIT!$A$1=A3,MAX($K$1:K2)+1,\"\"))","v":""},"Paul"]
["Paul","Marseille","Azur","Aube","Août","l","Peuplier","AA_34",1,null,{"$f":"IF(EDIT!$A$1=\"\",\"\",IF(EDIT!$A$1=A4,MAX($K$1:K3)+1,\"\"))","v":""},"Marcel"]
["Gilles","Bézier","Indigo","Aube","Mai","G","Pin","AA_64",42,null,{"$f":"IF(EDIT!$A$1=\"\",\"\",IF(EDIT!$A$1=A5,MAX($K$1:K4)+1,\"\"))","v":""},"André"]
["Lucas","Nice","Chrome","Ain","Décembre","W","If","AA_06",4,null,{"$f":"IF(EDIT!$A$1=\"\",\"\",IF(EDIT!$A$1=A6,MAX($K$1:K5)+1,\"\"))","v":""},"Kevin"]
["Roger","Paris","Beige","Alpes De Haute Provence","Avril","D","Frêne","AA_10",56,null,{"$f":"IF(EDIT!$A$1=\"\",\"\",IF(EDIT!$A$1=A7,MAX($K$1:K6)+1,\"\"))","v":1},"Simone"]
["Marcel","Perpignan","Noir","Cantal","Février","X","Sycomore","AA_56",62,null,{"$f":"IF(EDIT!$A$1=\"\",\"\",IF(EDIT!$A$1=A8,MAX($K$1:K7)+1,\"\"))","v":""},"Léa"]
["André","Rennes","Bleu Ciel","Dordogne","Février","A","Chêne","AA_54",47,null,{"$f":"IF(EDIT!$A$1=\"\",\"\",IF(EDIT!$A$1=A9,MAX($K$1:K8)+1,\"\"))","v":""},"Lucas"]
["Paul","Angoulème","Brun","Ain","Mars","Y","Tuyas","AA_45",12,null,{"$f":"IF(EDIT!$A$1=\"\",\"\",IF(EDIT!$A$1=A10,MAX($K$1:K9)+1,\"\"))","v":""},"Eric"]
["Simone","Narbonne","Jaune","Charente Maritime","Août","P","Baobab","AA_39",52,null,{"$f":"IF(EDIT!$A$1=\"\",\"\",IF(EDIT!$A$1=A11,MAX($K$1:K10)+1,\"\"))","v":""},"Gilles"]
["Eric","Pau","Beige","Ardennes","Juillet","M","Erable","AA_53",36,null,{"$f":"IF(EDIT!$A$1=\"\",\"\",IF(EDIT!$A$1=A12,MAX($K$1:K11)+1,\"\"))","v":""}]
["Lucas","Soisson","Bleu Roi","Ariege","Janvier","H","Mélèze","AA_55",9,null,{"$f":"IF(EDIT!$A$1=\"\",\"\",IF(EDIT!$A$1=A13,MAX($K$1:K12)+1,\"\"))","v":""}]
["Eric","Paris","Indigo","Corse","Octobre","F","Sorbier","AA_48",30,null,{"$f":"IF(EDIT!$A$1=\"\",\"\",IF(EDIT!$A$1=A14,MAX($K$1:K13)+1,\"\"))","v":""}]
["Simone","Bézier","Cyan","Charente Maritime","Janvier","S","Palmier","AA_36",50,null,{"$f":"IF(EDIT!$A$1=\"\",\"\",IF(EDIT!$A$1=A15,MAX($K$1:K14)+1,\"\"))","v":""}]
["Kevin","Marseille","Noir","Aisne","Octobre","K","Olivier","AA_35",26,null,{"$f":"IF(EDIT!$A$1=\"\",\"\",IF(EDIT!$A$1=A16,MAX($K$1:K15)+1,\"\"))","v":""}]
["André","Lyon","Bleu Roi","Aude","Janvier","l","Peuplier","AA_11",34,null,{"$f":"IF(EDIT!$A$1=\"\",\"\",IF(EDIT!$A$1=A17,MAX($K$1:K16)+1,\"\"))","v":""}]
["Lucas","Chaumont","Bleu Ciel","Cher","Novembre","H","Mélèze","AA_07",54,null,{"$f":"IF(EDIT!$A$1=\"\",\"\",IF(EDIT!$A$1=A18,MAX($K$1:K17)+1,\"\"))","v":""}]
["Eric","Toulouse","Turquoise","Alpes Maritimes","Septembre","Y","Tuyas","AA_31",57,null,{"$f":"IF(EDIT!$A$1=\"\",\"\",IF(EDIT!$A$1=A19,MAX($K$1:K18)+1,\"\"))","v":""}]
["Lucas","Biarritz","Isabelle","Cantal","Octobre","O","Tremble","AA_27",23,null,{"$f":"IF(EDIT!$A$1=\"\",\"\",IF(EDIT!$A$1=A20,MAX($K$1:K19)+1,\"\"))","v":""}]
["André","Angoulème","Beige","Ardeche","Juin","R","Saule","AA_52",14,null,{"$f":"IF(EDIT!$A$1=\"\",\"\",IF(EDIT!$A$1=A21,MAX($K$1:K20)+1,\"\"))","v":""}]
["Kevin","Grasse","Vert","Cote D'Or","Octobre","I","Epicéa","AA_14",6,null,{"$f":"IF(EDIT!$A$1=\"\",\"\",IF(EDIT!$A$1=A22,MAX($K$1:K21)+1,\"\"))","v":""}]
["Paul","Briançon","Magenta","Ain","Septembre","T","Cornouiller","AA_33",17,null,{"$f":"IF(EDIT!$A$1=\"\",\"\",IF(EDIT!$A$1=A23,MAX($K$1:K22)+1,\"\"))","v":""}]
["Simone","Paris","Gris","Bas Rhin","Août","Q","Séquoïa","AA_49",44,null,{"$f":"IF(EDIT!$A$1=\"\",\"\",IF(EDIT!$A$1=A24,MAX($K$1:K23)+1,\"\"))","v":""}]
["Léa","Bordeaux","Rouge","Creuse","Juin","Z","Noyer","AA_15",7,null,{"$f":"IF(EDIT!$A$1=\"\",\"\",IF(EDIT!$A$1=A25,MAX($K$1:K24)+1,\"\"))","v":""}]
["Marcel","Lyon","Chrome","Dordogne","Novembre","M","Erable","AA_03",46,null,{"$f":"IF(EDIT!$A$1=\"\",\"\",IF(EDIT!$A$1=A26,MAX($K$1:K25)+1,\"\"))","v":""}]
["Eric","Calais","Vert","Cotes D'Armor","Août","T","Cornouiller","AA_12",22,null,{"$f":"IF(EDIT!$A$1=\"\",\"\",IF(EDIT!$A$1=A27,MAX($K$1:K26)+1,\"\"))","v":""}]
["Léa","Compiègne","Violet","Ariege","Avril","l","Peuplier","AA_40",11,null,{"$f":"IF(EDIT!$A$1=\"\",\"\",IF(EDIT!$A$1=A28,MAX($K$1:K27)+1,\"\"))","v":""}]
["Léa","Vannes","Vermillon","Correze","Mars","S","Palmier","AA_63",29,null,{"$f":"IF(EDIT!$A$1=\"\",\"\",IF(EDIT!$A$1=A29,MAX($K$1:K28)+1,\"\"))","v":""}]
["Paul","Chaumont","Rouge","Alpes Maritimes","Mai","C","Bouleau","AA_21",41,null,{"$f":"IF(EDIT!$A$1=\"\",\"\",IF(EDIT!$A$1=A30,MAX($K$1:K29)+1,\"\"))","v":""}]
["Lucas","Calais","Bistre","Aube","Janvier","X","Sycomore","AA_44",2,null,{"$f":"IF(EDIT!$A$1=\"\",\"\",IF(EDIT!$A$1=A31,MAX($K$1:K30)+1,\"\"))","v":""}]
["Gilles","Caen","Carmin","Alpes Maritimes","Mars","J","Murier","AA_61",20,null,{"$f":"IF(EDIT!$A$1=\"\",\"\",IF(EDIT!$A$1=A32,MAX($K$1:K31)+1,\"\"))","v":""}]
["Léa","Limoges","Turquoise","Cotes D'Armor","Juillet","A","Chêne","AA_20",25,null,{"$f":"IF(EDIT!$A$1=\"\",\"\",IF(EDIT!$A$1=A33,MAX($K$1:K32)+1,\"\"))","v":""}]
["Paul","Montpellier","Cyan","Aisne","Juillet","W","If","AA_60",61,null,{"$f":"IF(EDIT!$A$1=\"\",\"\",IF(EDIT!$A$1=A34,MAX($K$1:K33)+1,\"\"))","v":""}]
["Marcel","Vannes","Bleu Roi","Drome","Avril","K","Olivier","AA_23",38,null,{"$f":"IF(EDIT!$A$1=\"\",\"\",IF(EDIT!$A$1=A35,MAX($K$1:K34)+1,\"\"))","v":""}]
["Marcel","Clermont-Ferrand","Bleu","Aude","Janvier","B","Orme","AA_19",45,null,{"$f":"IF(EDIT!$A$1=\"\",\"\",IF(EDIT!$A$1=A36,MAX($K$1:K35)+1,\"\"))","v":""}]
["André","Rennes","Marine","Cote D'Or","Septembre","E","Platane","AA_09",58,null,{"$f":"IF(EDIT!$A$1=\"\",\"\",IF(EDIT!$A$1=A37,MAX($K$1:K36)+1,\"\"))","v":""}]
["Kevin","Biarritz","Saumon","Charente","Juin","V","Cyprés","AA_24",48,null,{"$f":"IF(EDIT!$A$1=\"\",\"\",IF(EDIT!$A$1=A38,MAX($K$1:K37)+1,\"\"))","v":""}]
["Roger","Pau","Jaune","Bouches Du Rhone","Février","C","Bouleau","AA_58",24,null,{"$f":"IF(EDIT!$A$1=\"\",\"\",IF(EDIT!$A$1=A39,MAX($K$1:K38)+1,\"\"))","v":2}]
["Roger","Nantes","Argent","Corse","Décembre","I","Epicéa","AA_62",39,null,{"$f":"IF(EDIT!$A$1=\"\",\"\",IF(EDIT!$A$1=A40,MAX($K$1:K39)+1,\"\"))","v":3}]
["Eric","Biarritz","Bistre","Bas Rhin","Décembre","V","Cyprés","AA_28",32,null,{"$f":"IF(EDIT!$A$1=\"\",\"\",IF(EDIT!$A$1=A41,MAX($K$1:K40)+1,\"\"))","v":""}]
["Simone","Clermont-Ferrand","Gris","Bouches Du Rhone","Mars","Z","Noyer","AA_42",28,null,{"$f":"IF(EDIT!$A$1=\"\",\"\",IF(EDIT!$A$1=A42,MAX($K$1:K41)+1,\"\"))","v":""}]
["Marcel","Narbonne","Brun","Correze","Décembre","U","Charme","AA_18",64,null,{"$f":"IF(EDIT!$A$1=\"\",\"\",IF(EDIT!$A$1=A43,MAX($K$1:K42)+1,\"\"))","v":""}]
["Gilles","Marseille","Bleu","Allier","Juin","D","Frêne","AA_37",40,null,{"$f":"IF(EDIT!$A$1=\"\",\"\",IF(EDIT!$A$1=A44,MAX($K$1:K43)+1,\"\"))","v":""}]
["Gilles","Briançon","Gris","Deux Sevres","Novembre","B","Orme","AA_22",27,null,{"$f":"IF(EDIT!$A$1=\"\",\"\",IF(EDIT!$A$1=A45,MAX($K$1:K44)+1,\"\"))","v":""}]
["Léa","Bordeaux","Magenta","Aveyron","Novembre","N","Hêtre","AA_13",60,null,{"$f":"IF(EDIT!$A$1=\"\",\"\",IF(EDIT!$A$1=A46,MAX($K$1:K45)+1,\"\"))","v":""}]
["Léa","Nice","Vermillon","Doubs","Décembre","G","Pin","AA_29",49,null,{"$f":"IF(EDIT!$A$1=\"\",\"\",IF(EDIT!$A$1=A47,MAX($K$1:K46)+1,\"\"))","v":""}]
["Eric","Soisson","Carmin","Ardeche","Février","P","Baobab","AA_38",51,null,{"$f":"IF(EDIT!$A$1=\"\",\"\",IF(EDIT!$A$1=A48,MAX($K$1:K47)+1,\"\"))","v":""}]
["Simone","Perpignan","Marron","Ardennes","Novembre","E","Platane","AA_41",19,null,{"$f":"IF(EDIT!$A$1=\"\",\"\",IF(EDIT!$A$1=A49,MAX($K$1:K48)+1,\"\"))","v":""}]
["Roger","Toulouse","Saumon","Ardeche","Mars","A","Chêne","AA_51",21,null,{"$f":"IF(EDIT!$A$1=\"\",\"\",IF(EDIT!$A$1=A50,MAX($K$1:K49)+1,\"\"))","v":4}]
["André","Compiègne","Bleu Ciel","Ariege","Janvier","J","Murier","AA_08",35,null,{"$f":"IF(EDIT!$A$1=\"\",\"\",IF(EDIT!$A$1=A51,MAX($K$1:K50)+1,\"\"))","v":""}]
["André","Caen","Argent","Allier","Septembre","H","Mélèze","AA_50",5,null,{"$f":"IF(EDIT!$A$1=\"\",\"\",IF(EDIT!$A$1=A52,MAX($K$1:K51)+1,\"\"))","v":""}]
["Marcel","Nantes","Bleu","Doubs","Juin","F","Sorbier","AA_17",59,null,{"$f":"IF(EDIT!$A$1=\"\",\"\",IF(EDIT!$A$1=A53,MAX($K$1:K52)+1,\"\"))","v":""}]
["Roger","Nantes","Magenta","Aisne","Avril","I","Epicéa","AA_26",33,null,{"$f":"IF(EDIT!$A$1=\"\",\"\",IF(EDIT!$A$1=A54,MAX($K$1:K53)+1,\"\"))","v":5}]
["Kevin","Bordeaux","Carmin","Aude","Mars","D","Frêne","AA_05",55,null,{"$f":"IF(EDIT!$A$1=\"\",\"\",IF(EDIT!$A$1=A55,MAX($K$1:K54)+1,\"\"))","v":""}]
["Paul","Rennes","Blanc","Alpes De Haute Provence","Octobre","N","Hêtre","AA_02",53,null,{"$f":"IF(EDIT!$A$1=\"\",\"\",IF(EDIT!$A$1=A56,MAX($K$1:K55)+1,\"\"))","v":""}]
["Roger","Grasse","Noir","Cher","Avril","C","Bouleau","AA_16",8,null,{"$f":"IF(EDIT!$A$1=\"\",\"\",IF(EDIT!$A$1=A57,MAX($K$1:K56)+1,\"\"))","v":6}]
["Gilles","Briançon","Azur","Creuse","Juillet","J","Murier","AA_46",37,null,{"$f":"IF(EDIT!$A$1=\"\",\"\",IF(EDIT!$A$1=A58,MAX($K$1:K57)+1,\"\"))","v":""}]
["Kevin","Poitier","Vert","Drome","Février","G","Pin","AA_30",15,null,{"$f":"IF(EDIT!$A$1=\"\",\"\",IF(EDIT!$A$1=A59,MAX($K$1:K58)+1,\"\"))","v":""}]
["Simone","Vannes","Marron","Calvados","Avril","B","Orme","AA_01",10,null,{"$f":"IF(EDIT!$A$1=\"\",\"\",IF(EDIT!$A$1=A60,MAX($K$1:K59)+1,\"\"))","v":""}]
["Lucas","Lyon","Violet","Deux Sevres","Mai","U","Charme","AA_25",3,null,{"$f":"IF(EDIT!$A$1=\"\",\"\",IF(EDIT!$A$1=A61,MAX($K$1:K60)+1,\"\"))","v":""}]
["Kevin","Calais","Jaune","Ardennes","Février","R","Saule","AA_32",31,null,{"$f":"IF(EDIT!$A$1=\"\",\"\",IF(EDIT!$A$1=A62,MAX($K$1:K61)+1,\"\"))","v":""}]
["Gilles","Nice","Marine","Aveyron","Mai","K","Olivier","AA_04",16,null,{"$f":"IF(EDIT!$A$1=\"\",\"\",IF(EDIT!$A$1=A63,MAX($K$1:K62)+1,\"\"))","v":""}]
["Roger","Toulouse","Isabelle","Alpes De Haute Provence","Août","F","Sorbier","AA_59",13,null,{"$f":"IF(EDIT!$A$1=\"\",\"\",IF(EDIT!$A$1=A64,MAX($K$1:K63)+1,\"\"))","v":7}]
["André","Poitier","Vermillon","Allier","Septembre","E","Platane","AA_57",18,null,{"$f":"IF(EDIT!$A$1=\"\",\"\",IF(EDIT!$A$1=A65,MAX($K$1:K64)+1,\"\"))","v":""}]

{"sheet":"EDIT","index":1,"n_rows":50,"n_cols":9,"rows_kept":50,"cut":false,"hidden":false,"merged":[]}
["Roger","<<< Sélectionner le nom"]
["INFO_1","INFO_2","INFO_3","INFO_4","INFO_5","INFO_6","INFO_7","INFO_8"]
[{"$f":"IF(ROW()-2<=MAX(BdD!$K:$K),INDEX(BdD!B:B,MATCH(ROW()-2,BdD!$K:$K,0)),\"\")","v":"Paris"},{"$f":"IF(ROW()-2<=MAX(BdD!$K:$K),INDEX(BdD!C:C,MATCH(ROW()-2,BdD!$K:$K,0)),\"\")","v":"Beige"},{"$f":"IF(ROW()-2<=MAX(BdD!$K:$K),INDEX(BdD!D:D,MATCH(ROW()-2,BdD!$K:$K,0)),\"\")","v":"Alpes De Haute Provence"},{"$f":"IF(ROW()-2<=MAX(BdD!$K:$K),INDEX(BdD!E:E,MATCH(ROW()-2,BdD!$K:$K,0)),\"\")","v":"Avril"},{"$f":"IF(ROW()-2<=MAX(BdD!$K:$K),INDEX(BdD!F:F,MATCH(ROW()-2,BdD!$K:$K,0)),\"\")","v":"D"},{"$f":"IF(ROW()-2<=MAX(BdD!$K:$K),INDEX(BdD!G:G,MATCH(ROW()-2,BdD!$K:$K,0)),\"\")","v":"Frêne"},{"$f":"IF(ROW()-2<=MAX(BdD!$K:$K),INDEX(BdD!H:H,MATCH(ROW()-2,BdD!$K:$K,0)),\"\")","v":"AA_10"},{"$f":"IF(ROW()-2<=MAX(BdD!$K:$K),INDEX(BdD!I:I,MATCH(ROW()-2,BdD!$K:$K,0)),\"\")","v":56}]
[{"$f":"IF(ROW()-2<=MAX(BdD!$K:$K),INDEX(BdD!B:B,MATCH(ROW()-2,BdD!$K:$K,0)),\"\")","v":"Pau"},{"$f":"IF(ROW()-2<=MAX(BdD!$K:$K),INDEX(BdD!C:C,MATCH(ROW()-2,BdD!$K:$K,0)),\"\")","v":"Jaune"},{"$f":"IF(ROW()-2<=MAX(BdD!$K:$K),INDEX(BdD!D:D,MATCH(ROW()-2,BdD!$K:$K,0)),\"\")","v":"Bouches Du Rhone"},{"$f":"IF(ROW()-2<=MAX(BdD!$K:$K),INDEX(BdD!E:E,MATCH(ROW()-2,BdD!$K:$K,0)),\"\")","v":"Février"},{"$f":"IF(ROW()-2<=MAX(BdD!$K:$K),INDEX(BdD!F:F,MATCH(ROW()-2,BdD!$K:$K,0)),\"\")","v":"C"},{"$f":"IF(ROW()-2<=MAX(BdD!$K:$K),INDEX(BdD!G:G,MATCH(ROW()-2,BdD!$K:$K,0)),\"\")","v":"Bouleau"},{"$f":"IF(ROW()-2<=MAX(BdD!$K:$K),INDEX(BdD!H:H,MATCH(ROW()-2,BdD!$K:$K,0)),\"\")","v":"AA_58"},{"$f":"IF(ROW()-2<=MAX(BdD!$K:$K),INDEX(BdD!I:I,MATCH(ROW()-2,BdD!$K:$K,0)),\"\")","v":24}]
[{"$f":"IF(ROW()-2<=MAX(BdD!$K:$K),INDEX(BdD!B:B,MATCH(ROW()-2,BdD!$K:$K,0)),\"\")","v":"Nantes"},{"$f":"IF(ROW()-2<=MAX(BdD!$K:$K),INDEX(BdD!C:C,MATCH(ROW()-2,BdD!$K:$K,0)),\"\")","v":"Argent"},{"$f":"IF(ROW()-2<=MAX(BdD!$K:$K),INDEX(BdD!D:D,MATCH(ROW()-2,BdD!$K:$K,0)),\"\")","v":"Corse"},{"$f":"IF(ROW()-2<=MAX(BdD!$K:$K),INDEX(BdD!E:E,MATCH(ROW()-2,BdD!$K:$K,0)),\"\")","v":"Décembre"},{"$f":"IF(ROW()-2<=MAX(BdD!$K:$K),INDEX(BdD!F:F,MATCH(ROW()-2,BdD!$K:$K,0)),\"\")","v":"I"},{"$f":"IF(ROW()-2<=MAX(BdD!$K:$K),INDEX(BdD!G:G,MATCH(ROW()-2,BdD!$K:$K,0)),\"\")","v":"Epicéa"},{"$f":"IF(ROW()-2<=MAX(BdD!$K:$K),INDEX(BdD!H:H,MATCH(ROW()-2,BdD!$K:$K,0)),\"\")","v":"AA_62"},{"$f":"IF(ROW()-2<=MAX(BdD!$K:$K),INDEX(BdD!I:I,MATCH(ROW()-2,BdD!$K:$K,0)),\"\")","v":39}]
[{"$f":"IF(ROW()-2<=MAX(BdD!$K:$K),INDEX(BdD!B:B,MATCH(ROW()-2,BdD!$K:$K,0)),\"\")","v":"Toulouse"},{"$f":"IF(ROW()-2<=MAX(BdD!$K:$K),INDEX(BdD!C:C,MATCH(ROW()-2,BdD!$K:$K,0)),\"\")","v":"Saumon"},{"$f":"IF(ROW()-2<=MAX(BdD!$K:$K),INDEX(BdD!D:D,MATCH(ROW()-2,BdD!$K:$K,0)),\"\")","v":"Ardeche"},{"$f":"IF(ROW()-2<=MAX(BdD!$K:$K),INDEX(BdD!E:E,MATCH(ROW()-2,BdD!$K:$K,0)),\"\")","v":"Mars"},{"$f":"IF(ROW()-2<=MAX(BdD!$K:$K),INDEX(BdD!F:F,MATCH(ROW()-2,BdD!$K:$K,0)),\"\")","v":"A"},{"$f":"IF(ROW()-2<=MAX(BdD!$K:$K),INDEX(BdD!G:G,MATCH(ROW()-2,BdD!$K:$K,0)),\"\")","v":"Chêne"},{"$f":"IF(ROW()-2<=MAX(BdD!$K:$K),INDEX(BdD!H:H,MATCH(ROW()-2,BdD!$K:$K,0)),\"\")","v":"AA_51"},{"$f":"IF(ROW()-2<=MAX(BdD!$K:$K),INDEX(BdD!I:I,MATCH(ROW()-2,BdD!$K:$K,0)),\"\")","v":21},"Voir le codage en colonne K de BdD"]
[{"$f":"IF(ROW()-2<=MAX(BdD!$K:$K),INDEX(BdD!B:B,MATCH(ROW()-2,BdD!$K:$K,0)),\"\")","v":"Nantes"},{"$f":"IF(ROW()-2<=MAX(BdD!$K:$K),INDEX(BdD!C:C,MATCH(ROW()-2,BdD!$K:$K,0)),\"\")","v":"Magenta"},{"$f":"IF(ROW()-2<=MAX(BdD!$K:$K),INDEX(BdD!D:D,MATCH(ROW()-2,BdD!$K:$K,0)),\"\")","v":"Aisne"},{"$f":"IF(ROW()-2<=MAX(BdD!$K:$K),INDEX(BdD!E:E,MATCH(ROW()-2,BdD!$K:$K,0)),\"\")","v":"Avril"},{"$f":"IF(ROW()-2<=MAX(BdD!$K:$K),INDEX(BdD!F:F,MATCH(ROW()-2,BdD!$K:$K,0)),\"\")","v":"I"},{"$f":"IF(ROW()-2<=MAX(BdD!$K:$K),INDEX(BdD!G:G,MATCH(ROW()-2,BdD!$K:$K,0)),\"\")","v":"Epicéa"},{"$f":"IF(ROW()-2<=MAX(BdD!$K:$K),INDEX(BdD!H:H,MATCH(ROW()-2,BdD!$K:$K,0)),\"\")","v":"AA_26"},{"$f":"IF(ROW()-2<=MAX(BdD!$K:$K),INDEX(BdD!I:I,MATCH(ROW()-2,BdD!$K:$K,0)),\"\")","v":33},"La liste de ref est nommée Ref pour validation en A1"]
[{"$f":"IF(ROW()-2<=MAX(BdD!$K:$K),INDEX(BdD!B:B,MATCH(ROW()-2,BdD!$K:$K,0)),\"\")","v":"Grasse"},{"$f":"IF(ROW()-2<=MAX(BdD!$K:$K),INDEX(BdD!C:C,MATCH(ROW()-2,BdD!$K:$K,0)),\"\")","v":"Noir"},{"$f":"IF(ROW()-2<=MAX(BdD!$K:$K),INDEX(BdD!D:D,MATCH(ROW()-2,BdD!$K:$K,0)),\"\")","v":"Cher"},{"$f":"IF(ROW()-2<=MAX(BdD!$K:$K),INDEX(BdD!E:E,MATCH(ROW()-2,BdD!$K:$K,0)),\"\")","v":"Avril"},{"$f":"IF(ROW()-2<=MAX(BdD!$K:$K),INDEX(BdD!F:F,MATCH(ROW()-2,BdD!$K:$K,0)),\"\")","v":"C"},{"$f":"IF(ROW()-2<=MAX(BdD!$K:$K),INDEX(BdD!G:G,MATCH(ROW()-2,BdD!$K:$K,0)),\"\")","v":"Bouleau"},{"$f":"IF(ROW()-2<=MAX(BdD!$K:$K),INDEX(BdD!H:H,MATCH(ROW()-2,BdD!$K:$K,0)),\"\")","v":"AA_16"},{"$f":"IF(ROW()-2<=MAX(BdD!$K:$K),INDEX(BdD!I:I,MATCH(ROW()-2,BdD!$K:$K,0)),\"\")","v":8}]
[{"$f":"IF(ROW()-2<=MAX(BdD!$K:$K),INDEX(BdD!B:B,MATCH(ROW()-2,BdD!$K:$K,0)),\"\")","v":"Toulouse"},{"$f":"IF(ROW()-2<=MAX(BdD!$K:$K),INDEX(BdD!C:C,MATCH(ROW()-2,BdD!$K:$K,0)),\"\")","v":"Isabelle"},{"$f":"IF(ROW()-2<=MAX(BdD!$K:$K),INDEX(BdD!D:D,MATCH(ROW()-2,BdD!$K:$K,0)),\"\")","v":"Alpes De Haute Provence"},{"$f":"IF(ROW()-2<=MAX(BdD!$K:$K),INDEX(BdD!E:E,MATCH(ROW()-2,BdD!$K:$K,0)),\"\")","v":"Août"},{"$f":"IF(ROW()-2<=MAX(BdD!$K:$K),INDEX(BdD!F:F,MATCH(ROW()-2,BdD!$K:$K,0)),\"\")","v":"F"},{"$f":"IF(ROW()-2<=MAX(BdD!$K:$K),INDEX(BdD!G:G,MATCH(ROW()-2,BdD!$K:$K,0)),\"\")","v":"Sorbier"},{"$f":"IF(ROW()-2<=MAX(BdD!$K:$K),INDEX(BdD!H:H,MATCH(ROW()-2,BdD!$K:$K,0)),\"\")","v":"AA_59"},{"$f":"IF(ROW()-2<=MAX(BdD!$K:$K),INDEX(BdD!I:I,MATCH(ROW()-2,BdD!$K:$K,0)),\"\")","v":13}]
[{"$f":"IF(ROW()-2<=MAX(BdD!$K:$K),INDEX(BdD!B:B,MATCH(ROW()-2,BdD!$K:$K,0)),\"\")","v":""},{"$f":"IF(ROW()-2<=MAX(BdD!$K:$K),INDEX(BdD!C:C,MATCH(ROW()-2,BdD!$K:$K,0)),\"\")","v":""},{"$f":"IF(ROW()-2<=MAX(BdD!$K:$K),INDEX(BdD!D:D,MATCH(ROW()-2,BdD!$K:$K,0)),\"\")","v":""},{"$f":"IF(ROW()-2<=MAX(BdD!$K:$K),INDEX(BdD!E:E,MATCH(ROW()-2,BdD!$K:$K,0)),\"\")","v":""},{"$f":"IF(ROW()-2<=MAX(BdD!$K:$K),INDEX(BdD!F:F,MATCH(ROW()-2,BdD!$K:$K,0)),\"\")","v":""},{"$f":"IF(ROW()-2<=MAX(BdD!$K:$K),INDEX(BdD!G:G,MATCH(ROW()-2,BdD!$K:$K,0)),\"\")","v":""},{"$f":"IF(ROW()-2<=MAX(BdD!$K:$K),INDEX(BdD!H:H,MATCH(ROW()-2,BdD!$K:$K,0)),\"\")","v":""},{"$f":"IF(ROW()-2<=MAX(BdD!$K:$K),INDEX(BdD!I:I,MATCH(ROW()-2,BdD!$K:$K,0)),\"\")","v":""}]
[{"$f":"IF(ROW()-2<=MAX(BdD!$K:$K),INDEX(BdD!B:B,MATCH(ROW()-2,BdD!$K:$K,0)),\"\")","v":""},{"$f":"IF(ROW()-2<=MAX(BdD!$K:$K),INDEX(BdD!C:C,MATCH(ROW()-2,BdD!$K:$K,0)),\"\")","v":""},{"$f":"IF(ROW()-2<=MAX(BdD!$K:$K),INDEX(BdD!D:D,MATCH(ROW()-2,BdD!$K:$K,0)),\"\")","v":""},{"$f":"IF(ROW()-2<=MAX(BdD!$K:$K),INDEX(BdD!E:E,MATCH(ROW()-2,BdD!$K:$K,0)),\"\")","v":""},{"$f":"IF(ROW()-2<=MAX(BdD!$K:$K),INDEX(BdD!F:F,MATCH(ROW()-2,BdD!$K:$K,0)),\"\")","v":""},{"$f":"IF(ROW()-2<=MAX(BdD!$K:$K),INDEX(BdD!G:G,MATCH(ROW()-2,BdD!$K:$K,0)),\"\")","v":""},{"$f":"IF(ROW()-2<=MAX(BdD!$K:$K),INDEX(BdD!H:H,MATCH(ROW()-2,BdD!$K:$K,0)),\"\")","v":""},{"$f":"IF(ROW()-2<=MAX(BdD!$K:$K),INDEX(BdD!I:I,MATCH(ROW()-2,BdD!$K:$K,0)),\"\")","v":""}]
[{"$f":"IF(ROW()-2<=MAX(BdD!$K:$K),INDEX(BdD!B:B,MATCH(ROW()-2,BdD!$K:$K,0)),\"\")","v":""},{"$f":"IF(ROW()-2<=MAX(BdD!$K:$K),INDEX(BdD!C:C,MATCH(ROW()-2,BdD!$K:$K,0)),\"\")","v":""},{"$f":"IF(ROW()-2<=MAX(BdD!$K:$K),INDEX(BdD!D:D,MATCH(ROW()-2,BdD!$K:$K,0)),\"\")","v":""},{"$f":"IF(ROW()-2<=MAX(BdD!$K:$K),INDEX(BdD!E:E,MATCH(ROW()-2,BdD!$K:$K,0)),\"\")","v":""},{"$f":"IF(ROW()-2<=MAX(BdD!$K:$K),INDEX(BdD!F:F,MATCH(ROW()-2,BdD!$K:$K,0)),\"\")","v":""},{"$f":"IF(ROW()-2<=MAX(BdD!$K:$K),INDEX(BdD!G:G,MATCH(ROW()-2,BdD!$K:$K,0)),\"\")","v":""},{"$f":"IF(ROW()-2<=MAX(BdD!$K:$K),INDEX(BdD!H:H,MATCH(ROW()-2,BdD!$K:$K,0)),\"\")","v":""},{"$f":"IF(ROW()-2<=MAX(BdD!$K:$K),INDEX(BdD!I:I,MATCH(ROW()-2,BdD!$K:$K,0)),\"\")","v":""}]
[{"$f":"IF(ROW()-2<=MAX(BdD!$K:$K),INDEX(BdD!B:B,MATCH(ROW()-2,BdD!$K:$K,0)),\"\")","v":""},{"$f":"IF(ROW()-2<=MAX(BdD!$K:$K),INDEX(BdD!C:C,MATCH(ROW()-2,BdD!$K:$K,0)),\"\")","v":""},{"$f":"IF(ROW()-2<=MAX(BdD!$K:$K),INDEX(BdD!D:D,MATCH(ROW()-2,BdD!$K:$K,0)),\"\")","v":""},{"$f":"IF(ROW()-2<=MAX(BdD!$K:$K),INDEX(BdD!E:E,MATCH(ROW()-2,BdD!$K:$K,0)),\"\")","v":""},{"$f":"IF(ROW()-2<=MAX(BdD!$K:$K),INDEX(BdD!F:F,MATCH(ROW()-2,BdD!$K:$K,0)),\"\")","v":""},{"$f":"IF(ROW()-2<=MAX(BdD!$K:$K),INDEX(BdD!G:G,MATCH(ROW()-2,BdD!$K:$K,0)),\"\")","v":""},{"$f":"IF(ROW()-2<=MAX(BdD!$K:$K),INDEX(BdD!H:H,MATCH(ROW()-2,BdD!$K:$K,0)),\"\")","v":""},{"$f":"IF(ROW()-2<=MAX(BdD!$K:$K),INDEX(BdD!I:I,MATCH(ROW()-2,BdD!$K:$K,0)),\"\")","v":""}]
[{"$f":"IF(ROW()-2<=MAX(BdD!$K:$K),INDEX(BdD!B:B,MATCH(ROW()-2,BdD!$K:$K,0)),\"\")","v":""},{"$f":"IF(ROW()-2<=MAX(BdD!$K:$K),INDEX(BdD!C:C,MATCH(ROW()-2,BdD!$K:$K,0)),\"\")","v":""},{"$f":"IF(ROW()-2<=MAX(BdD!$K:$K),INDEX(BdD!D:D,MATCH(ROW()-2,BdD!$K:$K,0)),\"\")","v":""},{"$f":"IF(ROW()-2<=MAX(BdD!$K:$K),INDEX(BdD!E:E,MATCH(ROW()-2,BdD!$K:$K,0)),\"\")","v":""},{"$f":"IF(ROW()-2<=MAX(BdD!$K:$K),INDEX(BdD!F:F,MATCH(ROW()-2,BdD!$K:$K,0)),\"\")","v":""},{"$f":"IF(ROW()-2<=MAX(BdD!$K:$K),INDEX(BdD!G:G,MATCH(ROW()-2,BdD!$K:$K,0)),\"\")","v":""},{"$f":"IF(ROW()-2<=MAX(BdD!$K:$K),INDEX(BdD!H:H,MATCH(ROW()-2,BdD!$K:$K,0)),\"\")","v":""},{"$f":"IF(ROW()-2<=MAX(BdD!$K:$K),INDEX(BdD!I:I,MATCH(ROW()-2,BdD!$K:$K,0)),\"\")","v":""}]
[{"$f":"IF(ROW()-2<=MAX(BdD!$K:$K),INDEX(BdD!B:B,MATCH(ROW()-2,BdD!$K:$K,0)),\"\")","v":""},{"$f":"IF(ROW()-2<=MAX(BdD!$K:$K),INDEX(BdD!C:C,MATCH(ROW()-2,BdD!$K:$K,0)),\"\")","v":""},{"$f":"IF(ROW()-2<=MAX(BdD!$K:$K),INDEX(BdD!D:D,MATCH(ROW()-2,BdD!$K:$K,0)),\"\")","v":""},{"$f":"IF(ROW()-2<=MAX(BdD!$K:$K),INDEX(BdD!E:E,MATCH(ROW()-2,BdD!$K:$K,0)),\"\")","v":""},{"$f":"IF(ROW()-2<=MAX(BdD!$K:$K),INDEX(BdD!F:F,MATCH(ROW()-2,BdD!$K:$K,0)),\"\")","v":""},{"$f":"IF(ROW()-2<=MAX(BdD!$K:$K),INDEX(BdD!G:G,MATCH(ROW()-2,BdD!$K:$K,0)),\"\")","v":""},{"$f":"IF(ROW()-2<=MAX(BdD!$K:$K),INDEX(BdD!H:H,MATCH(ROW()-2,BdD!$K:$K,0)),\"\")","v":""},{"$f":"IF(ROW()-2<=MAX(BdD!$K:$K),INDEX(BdD!I:I,MATCH(ROW()-2,BdD!$K:$K,0)),\"\")","v":""}]
[{"$f":"IF(ROW()-2<=MAX(BdD!$K:$K),INDEX(BdD!B:B,MATCH(ROW()-2,BdD!$K:$K,0)),\"\")","v":""},{"$f":"IF(ROW()-2<=MAX(BdD!$K:$K),INDEX(BdD!C:C,MATCH(ROW()-2,BdD!$K:$K,0)),\"\")","v":""},{"$f":"IF(ROW()-2<=MAX(BdD!$K:$K),INDEX(BdD!D:D,MATCH(ROW()-2,BdD!$K:$K,0)),\"\")","v":""},{"$f":"IF(ROW()-2<=MAX(BdD!$K:$K),INDEX(BdD!E:E,MATCH(ROW()-2,BdD!$K:$K,0)),\"\")","v":""},{"$f":"IF(ROW()-2<=MAX(BdD!$K:$K),INDEX(BdD!F:F,MATCH(ROW()-2,BdD!$K:$K,0)),\"\")","v":""},{"$f":"IF(ROW()-2<=MAX(BdD!$K:$K),INDEX(BdD!G:G,MATCH(ROW()-2,BdD!$K:$K,0)),\"\")","v":""},{"$f":"IF(ROW()-2<=MAX(BdD!$K:$K),INDEX(BdD!H:H,MATCH(ROW()-2,BdD!$K:$K,0)),\"\")","v":""},{"$f":"IF(ROW()-2<=MAX(BdD!$K:$K),INDEX(BdD!I:I,MATCH(ROW()-2,BdD!$K:$K,0)),\"\")","v":""}]
[{"$f":"IF(ROW()-2<=MAX(BdD!$K:$K),INDEX(BdD!B:B,MATCH(ROW()-2,BdD!$K:$K,0)),\"\")","v":""},{"$f":"IF(ROW()-2<=MAX(BdD!$K:$K),INDEX(BdD!C:C,MATCH(ROW()-2,BdD!$K:$K,0)),\"\")","v":""},{"$f":"IF(ROW()-2<=MAX(BdD!$K:$K),INDEX(BdD!D:D,MATCH(ROW()-2,BdD!$K:$K,0)),\"\")","v":""},{"$f":"IF(ROW()-2<=MAX(BdD!$K:$K),INDEX(BdD!E:E,MATCH(ROW()-2,BdD!$K:$K,0)),\"\")","v":""},{"$f":"IF(ROW()-2<=MAX(BdD!$K:$K),INDEX(BdD!F:F,MATCH(ROW()-2,BdD!$K:$K,0)),\"\")","v":""},{"$f":"IF(ROW()-2<=MAX(BdD!$K:$K),INDEX(BdD!G:G,MATCH(ROW()-2,BdD!$K:$K,0)),\"\")","v":""},{"$f":"IF(ROW()-2<=MAX(BdD!$K:$K),INDEX(BdD!H:H,MATCH(ROW()-2,BdD!$K:$K,0)),\"\")","v":""},{"$f":"IF(ROW()-2<=MAX(BdD!$K:$K),INDEX(BdD!I:I,MATCH(ROW()-2,BdD!$K:$K,0)),\"\")","v":""}]
[{"$f":"IF(ROW()-2<=MAX(BdD!$K:$K),INDEX(BdD!B:B,MATCH(ROW()-2,BdD!$K:$K,0)),\"\")","v":""},{"$f":"IF(ROW()-2<=MAX(BdD!$K:$K),INDEX(BdD!C:C,MATCH(ROW()-2,BdD!$K:$K,0)),\"\")","v":""},{"$f":"IF(ROW()-2<=MAX(BdD!$K:$K),INDEX(BdD!D:D,MATCH(ROW()-2,BdD!$K:$K,0)),\"\")","v":""},{"$f":"IF(ROW()-2<=MAX(BdD!$K:$K),INDEX(BdD!E:E,MATCH(ROW()-2,BdD!$K:$K,0)),\"\")","v":""},{"$f":"IF(ROW()-2<=MAX(BdD!$K:$K),INDEX(BdD!F:F,MATCH(ROW()-2,BdD!$K:$K,0)),\"\")","v":""},{"$f":"IF(ROW()-2<=MAX(BdD!$K:$K),INDEX(BdD!G:G,MATCH(ROW()-2,BdD!$K:$K,0)),\"\")","v":""},{"$f":"IF(ROW()-2<=MAX(BdD!$K:$K),INDEX(BdD!H:H,MATCH(ROW()-2,BdD!$K:$K,0)),\"\")","v":""},{"$f":"IF(ROW()-2<=MAX(BdD!$K:$K),INDEX(BdD!I:I,MATCH(ROW()-2,BdD!$K:$K,0)),\"\")","v":""}]
[{"$f":"IF(ROW()-2<=MAX(BdD!$K:$K),INDEX(BdD!B:B,MATCH(ROW()-2,BdD!$K:$K,0)),\"\")","v":""},{"$f":"IF(ROW()-2<=MAX(BdD!$K:$K),INDEX(BdD!C:C,MATCH(ROW()-2,BdD!$K:$K,0)),\"\")","v":""},{"$f":"IF(ROW()-2<=MAX(BdD!$K:$K),INDEX(BdD!D:D,MATCH(ROW()-2,BdD!$K:$K,0)),\"\")","v":""},{"$f":"IF(ROW()-2<=MAX(BdD!$K:$K),INDEX(BdD!E:E,MATCH(ROW()-2,BdD!$K:$K,0)),\"\")","v":""},{"$f":"IF(ROW()-2<=MAX(BdD!$K:$K),INDEX(BdD!F:F,MATCH(ROW()-2,BdD!$K:$K,0)),\"\")","v":""},{"$f":"IF(ROW()-2<=MAX(BdD!$K:$K),INDEX(BdD!G:G,MATCH(ROW()-2,BdD!$K:$K,0)),\"\")","v":""},{"$f":"IF(ROW()-2<=MAX(BdD!$K:$K),INDEX(BdD!H:H,MATCH(ROW()-2,BdD!$K:$K,0)),\"\")","v":""},{"$f":"IF(ROW()-2<=MAX(BdD!$K:$K),INDEX(BdD!I:I,MATCH(ROW()-2,BdD!$K:$K,0)),\"\")","v":""}]
[{"$f":"IF(ROW()-2<=MAX(BdD!$K:$K),INDEX(BdD!B:B,MATCH(ROW()-2,BdD!$K:$K,0)),\"\")","v":""},{"$f":"IF(ROW()-2<=MAX(BdD!$K:$K),INDEX(BdD!C:C,MATCH(ROW()-2,BdD!$K:$K,0)),\"\")","v":""},{"$f":"IF(ROW()-2<=MAX(BdD!$K:$K),INDEX(BdD!D:D,MATCH(ROW()-2,BdD!$K:$K,0)),\"\")","v":""},{"$f":"IF(ROW()-2<=MAX(BdD!$K:$K),INDEX(BdD!E:E,MATCH(ROW()-2,BdD!$K:$K,0)),\"\")","v":""},{"$f":"IF(ROW()-2<=MAX(BdD!$K:$K),INDEX(BdD!F:F,MATCH(ROW()-2,BdD!$K:$K,0)),\"\")","v":""},{"$f":"IF(ROW()-2<=MAX(BdD!$K:$K),INDEX(BdD!G:G,MATCH(ROW()-2,BdD!$K:$K,0)),\"\")","v":""},{"$f":"IF(ROW()-2<=MAX(BdD!$K:$K),INDEX(BdD!H:H,MATCH(ROW()-2,BdD!$K:$K,0)),\"\")","v":""},{"$f":"IF(ROW()-2<=MAX(BdD!$K:$K),INDEX(BdD!I:I,MATCH(ROW()-2,BdD!$K:$K,0)),\"\")","v":""}]
[{"$f":"IF(ROW()-2<=MAX(BdD!$K:$K),INDEX(BdD!B:B,MATCH(ROW()-2,BdD!$K:$K,0)),\"\")","v":""},{"$f":"IF(ROW()-2<=MAX(BdD!$K:$K),INDEX(BdD!C:C,MATCH(ROW()-2,BdD!$K:$K,0)),\"\")","v":""},{"$f":"IF(ROW()-2<=MAX(BdD!$K:$K),INDEX(BdD!D:D,MATCH(ROW()-2,BdD!$K:$K,0)),\"\")","v":""},{"$f":"IF(ROW()-2<=MAX(BdD!$K:$K),INDEX(BdD!E:E,MATCH(ROW()-2,BdD!$K:$K,0)),\"\")","v":""},{"$f":"IF(ROW()-2<=MAX(BdD!$K:$K),INDEX(BdD!F:F,MATCH(ROW()-2,BdD!$K:$K,0)),\"\")","v":""},{"$f":"IF(ROW()-2<=MAX(BdD!$K:$K),INDEX(BdD!G:G,MATCH(ROW()-2,BdD!$K:$K,0)),\"\")","v":""},{"$f":"IF(ROW()-2<=MAX(BdD!$K:$K),INDEX(BdD!H:H,MATCH(ROW()-2,BdD!$K:$K,0)),\"\")","v":""},{"$f":"IF(ROW()-2<=MAX(BdD!$K:$K),INDEX(BdD!I:I,MATCH(ROW()-2,BdD!$K:$K,0)),\"\")","v":""}]
[{"$f":"IF(ROW()-2<=MAX(BdD!$K:$K),INDEX(BdD!B:B,MATCH(ROW()-2,BdD!$K:$K,0)),\"\")","v":""},{"$f":"IF(ROW()-2<=MAX(BdD!$K:$K),INDEX(BdD!C:C,MATCH(ROW()-2,BdD!$K:$K,0)),\"\")","v":""},{"$f":"IF(ROW()-2<=MAX(BdD!$K:$K),INDEX(BdD!D:D,MATCH(ROW()-2,BdD!$K:$K,0)),\"\")","v":""},{"$f":"IF(ROW()-2<=MAX(BdD!$K:$K),INDEX(BdD!E:E,MATCH(ROW()-2,BdD!$K:$K,0)),\"\")","v":""},{"$f":"IF(ROW()-2<=MAX(BdD!$K:$K),INDEX(BdD!F:F,MATCH(ROW()-2,BdD!$K:$K,0)),\"\")","v":""},{"$f":"IF(ROW()-2<=MAX(BdD!$K:$K),INDEX(BdD!G:G,MATCH(ROW()-2,BdD!$K:$K,0)),\"\")","v":""},{"$f":"IF(ROW()-2<=MAX(BdD!$K:$K),INDEX(BdD!H:H,MATCH(ROW()-2,BdD!$K:$K,0)),\"\")","v":""},{"$f":"IF(ROW()-2<=MAX(BdD!$K:$K),INDEX(BdD!I:I,MATCH(ROW()-2,BdD!$K:$K,0)),\"\")","v":""}]
[{"$f":"IF(ROW()-2<=MAX(BdD!$K:$K),INDEX(BdD!B:B,MATCH(ROW()-2,BdD!$K:$K,0)),\"\")","v":""},{"$f":"IF(ROW()-2<=MAX(BdD!$K:$K),INDEX(BdD!C:C,MATCH(ROW()-2,BdD!$K:$K,0)),\"\")","v":""},{"$f":"IF(ROW()-2<=MAX(BdD!$K:$K),INDEX(BdD!D:D,MATCH(ROW()-2,BdD!$K:$K,0)),\"\")","v":""},{"$f":"IF(ROW()-2<=MAX(BdD!$K:$K),INDEX(BdD!E:E,MATCH(ROW()-2,BdD!$K:$K,0)),\"\")","v":""},{"$f":"IF(ROW()-2<=MAX(BdD!$K:$K),INDEX(BdD!F:F,MATCH(ROW()-2,BdD!$K:$K,0)),\"\")","v":""},{"$f":"IF(ROW()-2<=MAX(BdD!$K:$K),INDEX(BdD!G:G,MATCH(ROW()-2,BdD!$K:$K,0)),\"\")","v":""},{"$f":"IF(ROW()-2<=MAX(BdD!$K:$K),INDEX(BdD!H:H,MATCH(ROW()-2,BdD!$K:$K,0)),\"\")","v":""},{"$f":"IF(ROW()-2<=MAX(BdD!$K:$K),INDEX(BdD!I:I,MATCH(ROW()-2,BdD!$K:$K,0)),\"\")","v":""}]
[{"$f":"IF(ROW()-2<=MAX(BdD!$K:$K),INDEX(BdD!B:B,MATCH(ROW()-2,BdD!$K:$K,0)),\"\")","v":""},{"$f":"IF(ROW()-2<=MAX(BdD!$K:$K),INDEX(BdD!C:C,MATCH(ROW()-2,BdD!$K:$K,0)),\"\")","v":""},{"$f":"IF(ROW()-2<=MAX(BdD!$K:$K),INDEX(BdD!D:D,MATCH(ROW()-2,BdD!$K:$K,0)),\"\")","v":""},{"$f":"IF(ROW()-2<=MAX(BdD!$K:$K),INDEX(BdD!E:E,MATCH(ROW()-2,BdD!$K:$K,0)),\"\")","v":""},{"$f":"IF(ROW()-2<=MAX(BdD!$K:$K),INDEX(BdD!F:F,MATCH(ROW()-2,BdD!$K:$K,0)),\"\")","v":""},{"$f":"IF(ROW()-2<=MAX(BdD!$K:$K),INDEX(BdD!G:G,MATCH(ROW()-2,BdD!$K:$K,0)),\"\")","v":""},{"$f":"IF(ROW()-2<=MAX(BdD!$K:$K),INDEX(BdD!H:H,MATCH(ROW()-2,BdD!$K:$K,0)),\"\")","v":""},{"$f":"IF(ROW()-2<=MAX(BdD!$K:$K),INDEX(BdD!I:I,MATCH(ROW()-2,BdD!$K:$K,0)),\"\")","v":""}]
[{"$f":"IF(ROW()-2<=MAX(BdD!$K:$K),INDEX(BdD!B:B,MATCH(ROW()-2,BdD!$K:$K,0)),\"\")","v":""},{"$f":"IF(ROW()-2<=MAX(BdD!$K:$K),INDEX(BdD!C:C,MATCH(ROW()-2,BdD!$K:$K,0)),\"\")","v":""},{"$f":"IF(ROW()-2<=MAX(BdD!$K:$K),INDEX(BdD!D:D,MATCH(ROW()-2,BdD!$K:$K,0)),\"\")","v":""},{"$f":"IF(ROW()-2<=MAX(BdD!$K:$K),INDEX(BdD!E:E,MATCH(ROW()-2,BdD!$K:$K,0)),\"\")","v":""},{"$f":"IF(ROW()-2<=MAX(BdD!$K:$K),INDEX(BdD!F:F,MATCH(ROW()-2,BdD!$K:$K,0)),\"\")","v":""},{"$f":"IF(ROW()-2<=MAX(BdD!$K:$K),INDEX(BdD!G:G,MATCH(ROW()-2,BdD!$K:$K,0)),\"\")","v":""},{"$f":"IF(ROW()-2<=MAX(BdD!$K:$K),INDEX(BdD!H:H,MATCH(ROW()-2,BdD!$K:$K,0)),\"\")","v":""},{"$f":"IF(ROW()-2<=MAX(BdD!$K:$K),INDEX(BdD!I:I,MATCH(ROW()-2,BdD!$K:$K,0)),\"\")","v":""}]
[{"$f":"IF(ROW()-2<=MAX(BdD!$K:$K),INDEX(BdD!B:B,MATCH(ROW()-2,BdD!$K:$K,0)),\"\")","v":""},{"$f":"IF(ROW()-2<=MAX(BdD!$K:$K),INDEX(BdD!C:C,MATCH(ROW()-2,BdD!$K:$K,0)),\"\")","v":""},{"$f":"IF(ROW()-2<=MAX(BdD!$K:$K),INDEX(BdD!D:D,MATCH(ROW()-2,BdD!$K:$K,0)),\"\")","v":""},{"$f":"IF(ROW()-2<=MAX(BdD!$K:$K),INDEX(BdD!E:E,MATCH(ROW()-2,BdD!$K:$K,0)),\"\")","v":""},{"$f":"IF(ROW()-2<=MAX(BdD!$K:$K),INDEX(BdD!F:F,MATCH(ROW()-2,BdD!$K:$K,0)),\"\")","v":""},{"$f":"IF(ROW()-2<=MAX(BdD!$K:$K),INDEX(BdD!G:G,MATCH(ROW()-2,BdD!$K:$K,0)),\"\")","v":""},{"$f":"IF(ROW()-2<=MAX(BdD!$K:$K),INDEX(BdD!H:H,MATCH(ROW()-2,BdD!$K:$K,0)),\"\")","v":""},{"$f":"IF(ROW()-2<=MAX(BdD!$K:$K),INDEX(BdD!I:I,MATCH(ROW()-2,BdD!$K:$K,0)),\"\")","v":""}]
[{"$f":"IF(ROW()-2<=MAX(BdD!$K:$K),INDEX(BdD!B:B,MATCH(ROW()-2,BdD!$K:$K,0)),\"\")","v":""},{"$f":"IF(ROW()-2<=MAX(BdD!$K:$K),INDEX(BdD!C:C,MATCH(ROW()-2,BdD!$K:$K,0)),\"\")","v":""},{"$f":"IF(ROW()-2<=MAX(BdD!$K:$K),INDEX(BdD!D:D,MATCH(ROW()-2,BdD!$K:$K,0)),\"\")","v":""},{"$f":"IF(ROW()-2<=MAX(BdD!$K:$K),INDEX(BdD!E:E,MATCH(ROW()-2,BdD!$K:$K,0)),\"\")","v":""},{"$f":"IF(ROW()-2<=MAX(BdD!$K:$K),INDEX(BdD!F:F,MATCH(ROW()-2,BdD!$K:$K,0)),\"\")","v":""},{"$f":"IF(ROW()-2<=MAX(BdD!$K:$K),INDEX(BdD!G:G,MATCH(ROW()-2,BdD!$K:$K,0)),\"\")","v":""},{"$f":"IF(ROW()-2<=MAX(BdD!$K:$K),INDEX(BdD!H:H,MATCH(ROW()-2,BdD!$K:$K,0)),\"\")","v":""},{"$f":"IF(ROW()-2<=MAX(BdD!$K:$K),INDEX(BdD!I:I,MATCH(ROW()-2,BdD!$K:$K,0)),\"\")","v":""}]
[{"$f":"IF(ROW()-2<=MAX(BdD!$K:$K),INDEX(BdD!B:B,MATCH(ROW()-2,BdD!$K:$K,0)),\"\")","v":""},{"$f":"IF(ROW()-2<=MAX(BdD!$K:$K),INDEX(BdD!C:C,MATCH(ROW()-2,BdD!$K:$K,0)),\"\")","v":""},{"$f":"IF(ROW()-2<=MAX(BdD!$K:$K),INDEX(BdD!D:D,MATCH(ROW()-2,BdD!$K:$K,0)),\"\")","v":""},{"$f":"IF(ROW()-2<=MAX(BdD!$K:$K),INDEX(BdD!E:E,MATCH(ROW()-2,BdD!$K:$K,0)),\"\")","v":""},{"$f":"IF(ROW()-2<=MAX(BdD!$K:$K),INDEX(BdD!F:F,MATCH(ROW()-2,BdD!$K:$K,0)),\"\")","v":""},{"$f":"IF(ROW()-2<=MAX(BdD!$K:$K),INDEX(BdD!G:G,MATCH(ROW()-2,BdD!$K:$K,0)),\"\")","v":""},{"$f":"IF(ROW()-2<=MAX(BdD!$K:$K),INDEX(BdD!H:H,MATCH(ROW()-2,BdD!$K:$K,0)),\"\")","v":""},{"$f":"IF(ROW()-2<=MAX(BdD!$K:$K),INDEX(BdD!I:I,MATCH(ROW()-2,BdD!$K:$K,0)),\"\")","v":""}]
[{"$f":"IF(ROW()-2<=MAX(BdD!$K:$K),INDEX(BdD!B:B,MATCH(ROW()-2,BdD!$K:$K,0)),\"\")","v":""},{"$f":"IF(ROW()-2<=MAX(BdD!$K:$K),INDEX(BdD!C:C,MATCH(ROW()-2,BdD!$K:$K,0)),\"\")","v":""},{"$f":"IF(ROW()-2<=MAX(BdD!$K:$K),INDEX(BdD!D:D,MATCH(ROW()-2,BdD!$K:$K,0)),\"\")","v":""},{"$f":"IF(ROW()-2<=MAX(BdD!$K:$K),INDEX(BdD!E:E,MATCH(ROW()-2,BdD!$K:$K,0)),\"\")","v":""},{"$f":"IF(ROW()-2<=MAX(BdD!$K:$K),INDEX(BdD!F:F,MATCH(ROW()-2,BdD!$K:$K,0)),\"\")","v":""},{"$f":"IF(ROW()-2<=MAX(BdD!$K:$K),INDEX(BdD!G:G,MATCH(ROW()-2,BdD!$K:$K,0)),\"\")","v":""},{"$f":"IF(ROW()-2<=MAX(BdD!$K:$K),INDEX(BdD!H:H,MATCH(ROW()-2,BdD!$K:$K,0)),\"\")","v":""},{"$f":"IF(ROW()-2<=MAX(BdD!$K:$K),INDEX(BdD!I:I,MATCH(ROW()-2,BdD!$K:$K,0)),\"\")","v":""}]
[{"$f":"IF(ROW()-2<=MAX(BdD!$K:$K),INDEX(BdD!B:B,MATCH(ROW()-2,BdD!$K:$K,0)),\"\")","v":""},{"$f":"IF(ROW()-2<=MAX(BdD!$K:$K),INDEX(BdD!C:C,MATCH(ROW()-2,BdD!$K:$K,0)),\"\")","v":""},{"$f":"IF(ROW()-2<=MAX(BdD!$K:$K),INDEX(BdD!D:D,MATCH(ROW()-2,BdD!$K:$K,0)),\"\")","v":""},{"$f":"IF(ROW()-2<=MAX(BdD!$K:$K),INDEX(BdD!E:E,MATCH(ROW()-2,BdD!$K:$K,0)),\"\")","v":""},{"$f":"IF(ROW()-2<=MAX(BdD!$K:$K),INDEX(BdD!F:F,MATCH(ROW()-2,BdD!$K:$K,0)),\"\")","v":""},{"$f":"IF(ROW()-2<=MAX(BdD!$K:$K),INDEX(BdD!G:G,MATCH(ROW()-2,BdD!$K:$K,0)),\"\")","v":""},{"$f":"IF(ROW()-2<=MAX(BdD!$K:$K),INDEX(BdD!H:H,MATCH(ROW()-2,BdD!$K:$K,0)),\"\")","v":""},{"$f":"IF(ROW()-2<=MAX(BdD!$K:$K),INDEX(BdD!I:I,MATCH(ROW()-2,BdD!$K:$K,0)),\"\")","v":""}]
[{"$f":"IF(ROW()-2<=MAX(BdD!$K:$K),INDEX(BdD!B:B,MATCH(ROW()-2,BdD!$K:$K,0)),\"\")","v":""},{"$f":"IF(ROW()-2<=MAX(BdD!$K:$K),INDEX(BdD!C:C,MATCH(ROW()-2,BdD!$K:$K,0)),\"\")","v":""},{"$f":"IF(ROW()-2<=MAX(BdD!$K:$K),INDEX(BdD!D:D,MATCH(ROW()-2,BdD!$K:$K,0)),\"\")","v":""},{"$f":"IF(ROW()-2<=MAX(BdD!$K:$K),INDEX(BdD!E:E,MATCH(ROW()-2,BdD!$K:$K,0)),\"\")","v":""},{"$f":"IF(ROW()-2<=MAX(BdD!$K:$K),INDEX(BdD!F:F,MATCH(ROW()-2,BdD!$K:$K,0)),\"\")","v":""},{"$f":"IF(ROW()-2<=MAX(BdD!$K:$K),INDEX(BdD!G:G,MATCH(ROW()-2,BdD!$K:$K,0)),\"\")","v":""},{"$f":"IF(ROW()-2<=MAX(BdD!$K:$K),INDEX(BdD!H:H,MATCH(ROW()-2,BdD!$K:$K,0)),\"\")","v":""},{"$f":"IF(ROW()-2<=MAX(BdD!$K:$K),INDEX(BdD!I:I,MATCH(ROW()-2,BdD!$K:$K,0)),\"\")","v":""}]
[{"$f":"IF(ROW()-2<=MAX(BdD!$K:$K),INDEX(BdD!B:B,MATCH(ROW()-2,BdD!$K:$K,0)),\"\")","v":""},{"$f":"IF(ROW()-2<=MAX(BdD!$K:$K),INDEX(BdD!C:C,MATCH(ROW()-2,BdD!$K:$K,0)),\"\")","v":""},{"$f":"IF(ROW()-2<=MAX(BdD!$K:$K),INDEX(BdD!D:D,MATCH(ROW()-2,BdD!$K:$K,0)),\"\")","v":""},{"$f":"IF(ROW()-2<=MAX(BdD!$K:$K),INDEX(BdD!E:E,MATCH(ROW()-2,BdD!$K:$K,0)),\"\")","v":""},{"$f":"IF(ROW()-2<=MAX(BdD!$K:$K),INDEX(BdD!F:F,MATCH(ROW()-2,BdD!$K:$K,0)),\"\")","v":""},{"$f":"IF(ROW()-2<=MAX(BdD!$K:$K),INDEX(BdD!G:G,MATCH(ROW()-2,BdD!$K:$K,0)),\"\")","v":""},{"$f":"IF(ROW()-2<=MAX(BdD!$K:$K),INDEX(BdD!H:H,MATCH(ROW()-2,BdD!$K:$K,0)),\"\")","v":""},{"$f":"IF(ROW()-2<=MAX(BdD!$K:$K),INDEX(BdD!I:I,MATCH(ROW()-2,BdD!$K:$K,0)),\"\")","v":""}]
[{"$f":"IF(ROW()-2<=MAX(BdD!$K:$K),INDEX(BdD!B:B,MATCH(ROW()-2,BdD!$K:$K,0)),\"\")","v":""},{"$f":"IF(ROW()-2<=MAX(BdD!$K:$K),INDEX(BdD!C:C,MATCH(ROW()-2,BdD!$K:$K,0)),\"\")","v":""},{"$f":"IF(ROW()-2<=MAX(BdD!$K:$K),INDEX(BdD!D:D,MATCH(ROW()-2,BdD!$K:$K,0)),\"\")","v":""},{"$f":"IF(ROW()-2<=MAX(BdD!$K:$K),INDEX(BdD!E:E,MATCH(ROW()-2,BdD!$K:$K,0)),\"\")","v":""},{"$f":"IF(ROW()-2<=MAX(BdD!$K:$K),INDEX(BdD!F:F,MATCH(ROW()-2,BdD!$K:$K,0)),\"\")","v":""},{"$f":"IF(ROW()-2<=MAX(BdD!$K:$K),INDEX(BdD!G:G,MATCH(ROW()-2,BdD!$K:$K,0)),\"\")","v":""},{"$f":"IF(ROW()-2<=MAX(BdD!$K:$K),INDEX(BdD!H:H,MATCH(ROW()-2,BdD!$K:$K,0)),\"\")","v":""},{"$f":"IF(ROW()-2<=MAX(BdD!$K:$K),INDEX(BdD!I:I,MATCH(ROW()-2,BdD!$K:$K,0)),\"\")","v":""}]
[{"$f":"IF(ROW()-2<=MAX(BdD!$K:$K),INDEX(BdD!B:B,MATCH(ROW()-2,BdD!$K:$K,0)),\"\")","v":""},{"$f":"IF(ROW()-2<=MAX(BdD!$K:$K),INDEX(BdD!C:C,MATCH(ROW()-2,BdD!$K:$K,0)),\"\")","v":""},{"$f":"IF(ROW()-2<=MAX(BdD!$K:$K),INDEX(BdD!D:D,MATCH(ROW()-2,BdD!$K:$K,0)),\"\")","v":""},{"$f":"IF(ROW()-2<=MAX(BdD!$K:$K),INDEX(BdD!E:E,MATCH(ROW()-2,BdD!$K:$K,0)),\"\")","v":""},{"$f":"IF(ROW()-2<=MAX(BdD!$K:$K),INDEX(BdD!F:F,MATCH(ROW()-2,BdD!$K:$K,0)),\"\")","v":""},{"$f":"IF(ROW()-2<=MAX(BdD!$K:$K),INDEX(BdD!G:G,MATCH(ROW()-2,BdD!$K:$K,0)),\"\")","v":""},{"$f":"IF(ROW()-2<=MAX(BdD!$K:$K),INDEX(BdD!H:H,MATCH(ROW()-2,BdD!$K:$K,0)),\"\")","v":""},{"$f":"IF(ROW()-2<=MAX(BdD!$K:$K),INDEX(BdD!I:I,MATCH(ROW()-2,BdD!$K:$K,0)),\"\")","v":""}]
[{"$f":"IF(ROW()-2<=MAX(BdD!$K:$K),INDEX(BdD!B:B,MATCH(ROW()-2,BdD!$K:$K,0)),\"\")","v":""},{"$f":"IF(ROW()-2<=MAX(BdD!$K:$K),INDEX(BdD!C:C,MATCH(ROW()-2,BdD!$K:$K,0)),\"\")","v":""},{"$f":"IF(ROW()-2<=MAX(BdD!$K:$K),INDEX(BdD!D:D,MATCH(ROW()-2,BdD!$K:$K,0)),\"\")","v":""},{"$f":"IF(ROW()-2<=MAX(BdD!$K:$K),INDEX(BdD!E:E,MATCH(ROW()-2,BdD!$K:$K,0)),\"\")","v":""},{"$f":"IF(ROW()-2<=MAX(BdD!$K:$K),INDEX(BdD!F:F,MATCH(ROW()-2,BdD!$K:$K,0)),\"\")","v":""},{"$f":"IF(ROW()-2<=MAX(BdD!$K:$K),INDEX(BdD!G:G,MATCH(ROW()-2,BdD!$K:$K,0)),\"\")","v":""},{"$f":"IF(ROW()-2<=MAX(BdD!$K:$K),INDEX(BdD!H:H,MATCH(ROW()-2,BdD!$K:$K,0)),\"\")","v":""},{"$f":"IF(ROW()-2<=MAX(BdD!$K:$K),INDEX(BdD!I:I,MATCH(ROW()-2,BdD!$K:$K,0)),\"\")","v":""}]
[{"$f":"IF(ROW()-2<=MAX(BdD!$K:$K),INDEX(BdD!B:B,MATCH(ROW()-2,BdD!$K:$K,0)),\"\")","v":""},{"$f":"IF(ROW()-2<=MAX(BdD!$K:$K),INDEX(BdD!C:C,MATCH(ROW()-2,BdD!$K:$K,0)),\"\")","v":""},{"$f":"IF(ROW()-2<=MAX(BdD!$K:$K),INDEX(BdD!D:D,MATCH(ROW()-2,BdD!$K:$K,0)),\"\")","v":""},{"$f":"IF(ROW()-2<=MAX(BdD!$K:$K),INDEX(BdD!E:E,MATCH(ROW()-2,BdD!$K:$K,0)),\"\")","v":""},{"$f":"IF(ROW()-2<=MAX(BdD!$K:$K),INDEX(BdD!F:F,MATCH(ROW()-2,BdD!$K:$K,0)),\"\")","v":""},{"$f":"IF(ROW()-2<=MAX(BdD!$K:$K),INDEX(BdD!G:G,MATCH(ROW()-2,BdD!$K:$K,0)),\"\")","v":""},{"$f":"IF(ROW()-2<=MAX(BdD!$K:$K),INDEX(BdD!H:H,MATCH(ROW()-2,BdD!$K:$K,0)),\"\")","v":""},{"$f":"IF(ROW()-2<=MAX(BdD!$K:$K),INDEX(BdD!I:I,MATCH(ROW()-2,BdD!$K:$K,0)),\"\")","v":""}]
[{"$f":"IF(ROW()-2<=MAX(BdD!$K:$K),INDEX(BdD!B:B,MATCH(ROW()-2,BdD!$K:$K,0)),\"\")","v":""},{"$f":"IF(ROW()-2<=MAX(BdD!$K:$K),INDEX(BdD!C:C,MATCH(ROW()-2,BdD!$K:$K,0)),\"\")","v":""},{"$f":"IF(ROW()-2<=MAX(BdD!$K:$K),INDEX(BdD!D:D,MATCH(ROW()-2,BdD!$K:$K,0)),\"\")","v":""},{"$f":"IF(ROW()-2<=MAX(BdD!$K:$K),INDEX(BdD!E:E,MATCH(ROW()-2,BdD!$K:$K,0)),\"\")","v":""},{"$f":"IF(ROW()-2<=MAX(BdD!$K:$K),INDEX(BdD!F:F,MATCH(ROW()-2,BdD!$K:$K,0)),\"\")","v":""},{"$f":"IF(ROW()-2<=MAX(BdD!$K:$K),INDEX(BdD!G:G,MATCH(ROW()-2,BdD!$K:$K,0)),\"\")","v":""},{"$f":"IF(ROW()-2<=MAX(BdD!$K:$K),INDEX(BdD!H:H,MATCH(ROW()-2,BdD!$K:$K,0)),\"\")","v":""},{"$f":"IF(ROW()-2<=MAX(BdD!$K:$K),INDEX(BdD!I:I,MATCH(ROW()-2,BdD!$K:$K,0)),\"\")","v":""}]
[{"$f":"IF(ROW()-2<=MAX(BdD!$K:$K),INDEX(BdD!B:B,MATCH(ROW()-2,BdD!$K:$K,0)),\"\")","v":""},{"$f":"IF(ROW()-2<=MAX(BdD!$K:$K),INDEX(BdD!C:C,MATCH(ROW()-2,BdD!$K:$K,0)),\"\")","v":""},{"$f":"IF(ROW()-2<=MAX(BdD!$K:$K),INDEX(BdD!D:D,MATCH(ROW()-2,BdD!$K:$K,0)),\"\")","v":""},{"$f":"IF(ROW()-2<=MAX(BdD!$K:$K),INDEX(BdD!E:E,MATCH(ROW()-2,BdD!$K:$K,0)),\"\")","v":""},{"$f":"IF(ROW()-2<=MAX(BdD!$K:$K),INDEX(BdD!F:F,MATCH(ROW()-2,BdD!$K:$K,0)),\"\")","v":""},{"$f":"IF(ROW()-2<=MAX(BdD!$K:$K),INDEX(BdD!G:G,MATCH(ROW()-2,BdD!$K:$K,0)),\"\")","v":""},{"$f":"IF(ROW()-2<=MAX(BdD!$K:$K),INDEX(BdD!H:H,MATCH(ROW()-2,BdD!$K:$K,0)),\"\")","v":""},{"$f":"IF(ROW()-2<=MAX(BdD!$K:$K),INDEX(BdD!I:I,MATCH(ROW()-2,BdD!$K:$K,0)),\"\")","v":""}]
[{"$f":"IF(ROW()-2<=MAX(BdD!$K:$K),INDEX(BdD!B:B,MATCH(ROW()-2,BdD!$K:$K,0)),\"\")","v":""},{"$f":"IF(ROW()-2<=MAX(BdD!$K:$K),INDEX(BdD!C:C,MATCH(ROW()-2,BdD!$K:$K,0)),\"\")","v":""},{"$f":"IF(ROW()-2<=MAX(BdD!$K:$K),INDEX(BdD!D:D,MATCH(ROW()-2,BdD!$K:$K,0)),\"\")","v":""},{"$f":"IF(ROW()-2<=MAX(BdD!$K:$K),INDEX(BdD!E:E,MATCH(ROW()-2,BdD!$K:$K,0)),\"\")","v":""},{"$f":"IF(ROW()-2<=MAX(BdD!$K:$K),INDEX(BdD!F:F,MATCH(ROW()-2,BdD!$K:$K,0)),\"\")","v":""},{"$f":"IF(ROW()-2<=MAX(BdD!$K:$K),INDEX(BdD!G:G,MATCH(ROW()-2,BdD!$K:$K,0)),\"\")","v":""},{"$f":"IF(ROW()-2<=MAX(BdD!$K:$K),INDEX(BdD!H:H,MATCH(ROW()-2,BdD!$K:$K,0)),\"\")","v":""},{"$f":"IF(ROW()-2<=MAX(BdD!$K:$K),INDEX(BdD!I:I,MATCH(ROW()-2,BdD!$K:$K,0)),\"\")","v":""}]
[{"$f":"IF(ROW()-2<=MAX(BdD!$K:$K),INDEX(BdD!B:B,MATCH(ROW()-2,BdD!$K:$K,0)),\"\")","v":""},{"$f":"IF(ROW()-2<=MAX(BdD!$K:$K),INDEX(BdD!C:C,MATCH(ROW()-2,BdD!$K:$K,0)),\"\")","v":""},{"$f":"IF(ROW()-2<=MAX(BdD!$K:$K),INDEX(BdD!D:D,MATCH(ROW()-2,BdD!$K:$K,0)),\"\")","v":""},{"$f":"IF(ROW()-2<=MAX(BdD!$K:$K),INDEX(BdD!E:E,MATCH(ROW()-2,BdD!$K:$K,0)),\"\")","v":""},{"$f":"IF(ROW()-2<=MAX(BdD!$K:$K),INDEX(BdD!F:F,MATCH(ROW()-2,BdD!$K:$K,0)),\"\")","v":""},{"$f":"IF(ROW()-2<=MAX(BdD!$K:$K),INDEX(BdD!G:G,MATCH(ROW()-2,BdD!$K:$K,0)),\"\")","v":""},{"$f":"IF(ROW()-2<=MAX(BdD!$K:$K),INDEX(BdD!H:H,MATCH(ROW()-2,BdD!$K:$K,0)),\"\")","v":""},{"$f":"IF(ROW()-2<=MAX(BdD!$K:$K),INDEX(BdD!I:I,MATCH(ROW()-2,BdD!$K:$K,0)),\"\")","v":""}]
[{"$f":"IF(ROW()-2<=MAX(BdD!$K:$K),INDEX(BdD!B:B,MATCH(ROW()-2,BdD!$K:$K,0)),\"\")","v":""},{"$f":"IF(ROW()-2<=MAX(BdD!$K:$K),INDEX(BdD!C:C,MATCH(ROW()-2,BdD!$K:$K,0)),\"\")","v":""},{"$f":"IF(ROW()-2<=MAX(BdD!$K:$K),INDEX(BdD!D:D,MATCH(ROW()-2,BdD!$K:$K,0)),\"\")","v":""},{"$f":"IF(ROW()-2<=MAX(BdD!$K:$K),INDEX(BdD!E:E,MATCH(ROW()-2,BdD!$K:$K,0)),\"\")","v":""},{"$f":"IF(ROW()-2<=MAX(BdD!$K:$K),INDEX(BdD!F:F,MATCH(ROW()-2,BdD!$K:$K,0)),\"\")","v":""},{"$f":"IF(ROW()-2<=MAX(BdD!$K:$K),INDEX(BdD!G:G,MATCH(ROW()-2,BdD!$K:$K,0)),\"\")","v":""},{"$f":"IF(ROW()-2<=MAX(BdD!$K:$K),INDEX(BdD!H:H,MATCH(ROW()-2,BdD!$K:$K,0)),\"\")","v":""},{"$f":"IF(ROW()-2<=MAX(BdD!$K:$K),INDEX(BdD!I:I,MATCH(ROW()-2,BdD!$K:$K,0)),\"\")","v":""}]
[{"$f":"IF(ROW()-2<=MAX(BdD!$K:$K),INDEX(BdD!B:B,MATCH(ROW()-2,BdD!$K:$K,0)),\"\")","v":""},{"$f":"IF(ROW()-2<=MAX(BdD!$K:$K),INDEX(BdD!C:C,MATCH(ROW()-2,BdD!$K:$K,0)),\"\")","v":""},{"$f":"IF(ROW()-2<=MAX(BdD!$K:$K),INDEX(BdD!D:D,MATCH(ROW()-2,BdD!$K:$K,0)),\"\")","v":""},{"$f":"IF(ROW()-2<=MAX(BdD!$K:$K),INDEX(BdD!E:E,MATCH(ROW()-2,BdD!$K:$K,0)),\"\")","v":""},{"$f":"IF(ROW()-2<=MAX(BdD!$K:$K),INDEX(BdD!F:F,MATCH(ROW()-2,BdD!$K:$K,0)),\"\")","v":""},{"$f":"IF(ROW()-2<=MAX(BdD!$K:$K),INDEX(BdD!G:G,MATCH(ROW()-2,BdD!$K:$K,0)),\"\")","v":""},{"$f":"IF(ROW()-2<=MAX(BdD!$K:$K),INDEX(BdD!H:H,MATCH(ROW()-2,BdD!$K:$K,0)),\"\")","v":""},{"$f":"IF(ROW()-2<=MAX(BdD!$K:$K),INDEX(BdD!I:I,MATCH(ROW()-2,BdD!$K:$K,0)),\"\")","v":""}]
[{"$f":"IF(ROW()-2<=MAX(BdD!$K:$K),INDEX(BdD!B:B,MATCH(ROW()-2,BdD!$K:$K,0)),\"\")","v":""},{"$f":"IF(ROW()-2<=MAX(BdD!$K:$K),INDEX(BdD!C:C,MATCH(ROW()-2,BdD!$K:$K,0)),\"\")","v":""},{"$f":"IF(ROW()-2<=MAX(BdD!$K:$K),INDEX(BdD!D:D,MATCH(ROW()-2,BdD!$K:$K,0)),\"\")","v":""},{"$f":"IF(ROW()-2<=MAX(BdD!$K:$K),INDEX(BdD!E:E,MATCH(ROW()-2,BdD!$K:$K,0)),\"\")","v":""},{"$f":"IF(ROW()-2<=MAX(BdD!$K:$K),INDEX(BdD!F:F,MATCH(ROW()-2,BdD!$K:$K,0)),\"\")","v":""},{"$f":"IF(ROW()-2<=MAX(BdD!$K:$K),INDEX(BdD!G:G,MATCH(ROW()-2,BdD!$K:$K,0)),\"\")","v":""},{"$f":"IF(ROW()-2<=MAX(BdD!$K:$K),INDEX(BdD!H:H,MATCH(ROW()-2,BdD!$K:$K,0)),\"\")","v":""},{"$f":"IF(ROW()-2<=MAX(BdD!$K:$K),INDEX(BdD!I:I,MATCH(ROW()-2,BdD!$K:$K,0)),\"\")","v":""}]
[{"$f":"IF(ROW()-2<=MAX(BdD!$K:$K),INDEX(BdD!B:B,MATCH(ROW()-2,BdD!$K:$K,0)),\"\")","v":""},{"$f":"IF(ROW()-2<=MAX(BdD!$K:$K),INDEX(BdD!C:C,MATCH(ROW()-2,BdD!$K:$K,0)),\"\")","v":""},{"$f":"IF(ROW()-2<=MAX(BdD!$K:$K),INDEX(BdD!D:D,MATCH(ROW()-2,BdD!$K:$K,0)),\"\")","v":""},{"$f":"IF(ROW()-2<=MAX(BdD!$K:$K),INDEX(BdD!E:E,MATCH(ROW()-2,BdD!$K:$K,0)),\"\")","v":""},{"$f":"IF(ROW()-2<=MAX(BdD!$K:$K),INDEX(BdD!F:F,MATCH(ROW()-2,BdD!$K:$K,0)),\"\")","v":""},{"$f":"IF(ROW()-2<=MAX(BdD!$K:$K),INDEX(BdD!G:G,MATCH(ROW()-2,BdD!$K:$K,0)),\"\")","v":""},{"$f":"IF(ROW()-2<=MAX(BdD!$K:$K),INDEX(BdD!H:H,MATCH(ROW()-2,BdD!$K:$K,0)),\"\")","v":""},{"$f":"IF(ROW()-2<=MAX(BdD!$K:$K),INDEX(BdD!I:I,MATCH(ROW()-2,BdD!$K:$K,0)),\"\")","v":""}]
[{"$f":"IF(ROW()-2<=MAX(BdD!$K:$K),INDEX(BdD!B:B,MATCH(ROW()-2,BdD!$K:$K,0)),\"\")","v":""},{"$f":"IF(ROW()-2<=MAX(BdD!$K:$K),INDEX(BdD!C:C,MATCH(ROW()-2,BdD!$K:$K,0)),\"\")","v":""},{"$f":"IF(ROW()-2<=MAX(BdD!$K:$K),INDEX(BdD!D:D,MATCH(ROW()-2,BdD!$K:$K,0)),\"\")","v":""},{"$f":"IF(ROW()-2<=MAX(BdD!$K:$K),INDEX(BdD!E:E,MATCH(ROW()-2,BdD!$K:$K,0)),\"\")","v":""},{"$f":"IF(ROW()-2<=MAX(BdD!$K:$K),INDEX(BdD!F:F,MATCH(ROW()-2,BdD!$K:$K,0)),\"\")","v":""},{"$f":"IF(ROW()-2<=MAX(BdD!$K:$K),INDEX(BdD!G:G,MATCH(ROW()-2,BdD!$K:$K,0)),\"\")","v":""},{"$f":"IF(ROW()-2<=MAX(BdD!$K:$K),INDEX(BdD!H:H,MATCH(ROW()-2,BdD!$K:$K,0)),\"\")","v":""},{"$f":"IF(ROW()-2<=MAX(BdD!$K:$K),INDEX(BdD!I:I,MATCH(ROW()-2,BdD!$K:$K,0)),\"\")","v":""}]
[{"$f":"IF(ROW()-2<=MAX(BdD!$K:$K),INDEX(BdD!B:B,MATCH(ROW()-2,BdD!$K:$K,0)),\"\")","v":""},{"$f":"IF(ROW()-2<=MAX(BdD!$K:$K),INDEX(BdD!C:C,MATCH(ROW()-2,BdD!$K:$K,0)),\"\")","v":""},{"$f":"IF(ROW()-2<=MAX(BdD!$K:$K),INDEX(BdD!D:D,MATCH(ROW()-2,BdD!$K:$K,0)),\"\")","v":""},{"$f":"IF(ROW()-2<=MAX(BdD!$K:$K),INDEX(BdD!E:E,MATCH(ROW()-2,BdD!$K:$K,0)),\"\")","v":""},{"$f":"IF(ROW()-2<=MAX(BdD!$K:$K),INDEX(BdD!F:F,MATCH(ROW()-2,BdD!$K:$K,0)),\"\")","v":""},{"$f":"IF(ROW()-2<=MAX(BdD!$K:$K),INDEX(BdD!G:G,MATCH(ROW()-2,BdD!$K:$K,0)),\"\")","v":""},{"$f":"IF(ROW()-2<=MAX(BdD!$K:$K),INDEX(BdD!H:H,MATCH(ROW()-2,BdD!$K:$K,0)),\"\")","v":""},{"$f":"IF(ROW()-2<=MAX(BdD!$K:$K),INDEX(BdD!I:I,MATCH(ROW()-2,BdD!$K:$K,0)),\"\")","v":""}]
[{"$f":"IF(ROW()-2<=MAX(BdD!$K:$K),INDEX(BdD!B:B,MATCH(ROW()-2,BdD!$K:$K,0)),\"\")","v":""},{"$f":"IF(ROW()-2<=MAX(BdD!$K:$K),INDEX(BdD!C:C,MATCH(ROW()-2,BdD!$K:$K,0)),\"\")","v":""},{"$f":"IF(ROW()-2<=MAX(BdD!$K:$K),INDEX(BdD!D:D,MATCH(ROW()-2,BdD!$K:$K,0)),\"\")","v":""},{"$f":"IF(ROW()-2<=MAX(BdD!$K:$K),INDEX(BdD!E:E,MATCH(ROW()-2,BdD!$K:$K,0)),\"\")","v":""},{"$f":"IF(ROW()-2<=MAX(BdD!$K:$K),INDEX(BdD!F:F,MATCH(ROW()-2,BdD!$K:$K,0)),\"\")","v":""},{"$f":"IF(ROW()-2<=MAX(BdD!$K:$K),INDEX(BdD!G:G,MATCH(ROW()-2,BdD!$K:$K,0)),\"\")","v":""},{"$f":"IF(ROW()-2<=MAX(BdD!$K:$K),INDEX(BdD!H:H,MATCH(ROW()-2,BdD!$K:$K,0)),\"\")","v":""},{"$f":"IF(ROW()-2<=MAX(BdD!$K:$K),INDEX(BdD!I:I,MATCH(ROW()-2,BdD!$K:$K,0)),\"\")","v":""}]
[{"$f":"IF(ROW()-2<=MAX(BdD!$K:$K),INDEX(BdD!B:B,MATCH(ROW()-2,BdD!$K:$K,0)),\"\")","v":""},{"$f":"IF(ROW()-2<=MAX(BdD!$K:$K),INDEX(BdD!C:C,MATCH(ROW()-2,BdD!$K:$K,0)),\"\")","v":""},{"$f":"IF(ROW()-2<=MAX(BdD!$K:$K),INDEX(BdD!D:D,MATCH(ROW()-2,BdD!$K:$K,0)),\"\")","v":""},{"$f":"IF(ROW()-2<=MAX(BdD!$K:$K),INDEX(BdD!E:E,MATCH(ROW()-2,BdD!$K:$K,0)),\"\")","v":""},{"$f":"IF(ROW()-2<=MAX(BdD!$K:$K),INDEX(BdD!F:F,MATCH(ROW()-2,BdD!$K:$K,0)),\"\")","v":""},{"$f":"IF(ROW()-2<=MAX(BdD!$K:$K),INDEX(BdD!G:G,MATCH(ROW()-2,BdD!$K:$K,0)),\"\")","v":""},{"$f":"IF(ROW()-2<=MAX(BdD!$K:$K),INDEX(BdD!H:H,MATCH(ROW()-2,BdD!$K:$K,0)),\"\")","v":""},{"$f":"IF(ROW()-2<=MAX(BdD!$K:$K),INDEX(BdD!I:I,MATCH(ROW()-2,BdD!$K:$K,0)),\"\")","v":""}]
[{"$f":"IF(ROW()-2<=MAX(BdD!$K:$K),INDEX(BdD!B:B,MATCH(ROW()-2,BdD!$K:$K,0)),\"\")","v":""},{"$f":"IF(ROW()-2<=MAX(BdD!$K:$K),INDEX(BdD!C:C,MATCH(ROW()-2,BdD!$K:$K,0)),\"\")","v":""},{"$f":"IF(ROW()-2<=MAX(BdD!$K:$K),INDEX(BdD!D:D,MATCH(ROW()-2,BdD!$K:$K,0)),\"\")","v":""},{"$f":"IF(ROW()-2<=MAX(BdD!$K:$K),INDEX(BdD!E:E,MATCH(ROW()-2,BdD!$K:$K,0)),\"\")","v":""},{"$f":"IF(ROW()-2<=MAX(BdD!$K:$K),INDEX(BdD!F:F,MATCH(ROW()-2,BdD!$K:$K,0)),\"\")","v":""},{"$f":"IF(ROW()-2<=MAX(BdD!$K:$K),INDEX(BdD!G:G,MATCH(ROW()-2,BdD!$K:$K,0)),\"\")","v":""},{"$f":"IF(ROW()-2<=MAX(BdD!$K:$K),INDEX(BdD!H:H,MATCH(ROW()-2,BdD!$K:$K,0)),\"\")","v":""},{"$f":"IF(ROW()-2<=MAX(BdD!$K:$K),INDEX(BdD!I:I,MATCH(ROW()-2,BdD!$K:$K,0)),\"\")","v":""}]
[{"$f":"IF(ROW()-2<=MAX(BdD!$K:$K),INDEX(BdD!B:B,MATCH(ROW()-2,BdD!$K:$K,0)),\"\")","v":""},{"$f":"IF(ROW()-2<=MAX(BdD!$K:$K),INDEX(BdD!C:C,MATCH(ROW()-2,BdD!$K:$K,0)),\"\")","v":""},{"$f":"IF(ROW()-2<=MAX(BdD!$K:$K),INDEX(BdD!D:D,MATCH(ROW()-2,BdD!$K:$K,0)),\"\")","v":""},{"$f":"IF(ROW()-2<=MAX(BdD!$K:$K),INDEX(BdD!E:E,MATCH(ROW()-2,BdD!$K:$K,0)),\"\")","v":""},{"$f":"IF(ROW()-2<=MAX(BdD!$K:$K),INDEX(BdD!F:F,MATCH(ROW()-2,BdD!$K:$K,0)),\"\")","v":""},{"$f":"IF(ROW()-2<=MAX(BdD!$K:$K),INDEX(BdD!G:G,MATCH(ROW()-2,BdD!$K:$K,0)),\"\")","v":""},{"$f":"IF(ROW()-2<=MAX(BdD!$K:$K),INDEX(BdD!H:H,MATCH(ROW()-2,BdD!$K:$K,0)),\"\")","v":""},{"$f":"IF(ROW()-2<=MAX(BdD!$K:$K),INDEX(BdD!I:I,MATCH(ROW()-2,BdD!$K:$K,0)),\"\")","v":""}]