{"text_format":"1","workbook":"xlsx","n_sheets":4,"sheets":["LUTIN","Synthèse","Param","Impression"],"not_rendered":{"charts":0,"images":1,"macros":1,"external_links":0,"defined_names":7,"comments":0,"pivot_tables":0},"unopened":[],"bounds":{"document_bytes":16777216,"sheet_cells":100000,"rows_first":2000,"rows_last":500,"rows_between":2000,"halvings":0,"cell_chars":16384,"cell_head_chars":4096},"cells_cut":0,"cells_raw":0,"read":"whole","date_system":"1900"}

{"sheet":"LUTIN","index":0,"n_rows":143,"n_cols":27,"rows_kept":143,"cut":false,"hidden":false,"merged":[[9,10,9,23],[0,0,1,26],[2,0,3,26],[9,4,9,9],[9,3,10,3],[9,2,10,2],[9,1,10,1],[9,0,10,0]]}
["SDIS 57"]
[]
["SUIVI DU CENTRE DE SECOURS DE HAGONDANGE"]
[]
[]
[]
[]
[]
[]
["NOM - PRENOM","NOM","PRENOM","MATRICULE","PERMIS",null,null,null,null,null,"FORMATIONS"]
[null,null,null,null,"PERM +3 ANS","PL","COD 2","CACES","PERIV","PRV","4ème","3ème SANS SR ","3ème < 18 ANS","CE","CA 1 EQ","CATE","GOC 3","FDF 2","RECYCLAGE DECONTA","SDE 1","SDE 2","SDE 3","RCH 1","RCH 2","RCH 3","RAD 1","RAD 2"]
[{"$f":"CONCATENATE(B12,\"   \",C12)","v":"X1   Y1"},"X1","Y1","0013041","ü",null,null,null,null,null,null,null,null,null,null,null,null,null,"ü"]
[{"$f":"CONCATENATE(B13,\"   \",C13)","v":"X2   Y2"},"X2","Y2","0013556",null,null,null,null,null,null,null,null,null,null,null,null,null,null,"ü"]
[{"$f":"CONCATENATE(B14,\"   \",C14)","v":"X3   Y3"},"X3","Y3","0000070","ü","ü","ü","ü",null,null,null,null,null,null,null,"ü","ü","ü",null,"ü","ü","ü","ü"]
[{"$f":"CONCATENATE(B15,\"   \",C15)","v":"X4   Y4"},"X4","Y4","0014855",null,null,null,null,null,null,null,null,null,null,null,null,null,null,"ü"]
[{"$f":"CONCATENATE(B16,\"   \",C16)","v":"X5   Y5"},"X5","Y5","0004879","ü","ü",null,null,"ü",null,null,null,null,"ü",null,null,null,null,"ü"]
[{"$f":"CONCATENATE(B17,\"   \",C17)","v":"X6   Y6"},"X6","Y6","0011575","ü","ü",null,null,null,null,null,null,null,"ü"]
[{"$f":"CONCATENATE(B18,\"   \",C18)","v":"X7   Y7"},"X7","Y7","0001258","ü","ü",null,"ü",null,null,null,null,null,null,null,null,null,null,"ü"]
[{"$f":"CONCATENATE(B19,\"   \",C19)","v":"X8   Y8"},"X8","Y8","0004884","ü","ü","ü","ü",null,null,null,null,null,null,null,"ü",null,null,"ü"]
[{"$f":"CONCATENATE(B20,\"   \",C20)","v":"X9   Y9"},"X9","Y9","0008077","ü","ü",null,null,null,null,null,null,null,null,null,"ü",null,null,"ü"]
[{"$f":"CONCATENATE(B21,\"   \",C21)","v":"X10   Y10"},"X10","Y10","0004949","ü","ü","ü","ü",null,null,null,null,null,null,null,"ü",null,null,"ü"]
[{"$f":"CONCATENATE(B22,\"   \",C22)","v":"X11   Y11"},"X11","Y11","0014707",null,null,null,null,null,null,"ü",null,null,null,null,null,null,null,"ü"]
[{"$f":"CONCATENATE(B23,\"   \",C23)","v":"X12   Y12"},"X12","Y12","0004796","ü","ü",null,null,null,null,"ü",null,null,"ü"]
[{"$f":"CONCATENATE(B24,\"   \",C24)","v":"X13   Y13"},"X13","Y13","0011105",null,null,null,null,null,null,"ü",null,null,null,null,null,null,null,"ü"]
[{"$f":"CONCATENATE(B25,\"   \",C25)","v":"X14   Y14"},"X14","Y14","0012601",null,null,null,null,null,null,null,null,null,null,null,null,null,null,"ü"]
[{"$f":"CONCATENATE(B26,\"   \",C26)","v":"X15   Y15"},"X15","Y15","0014518","ü",null,null,null,null,null,null,null,null,null,null,null,null,null,"ü"]
[{"$f":"CONCATENATE(B27,\"   \",C27)","v":"X16   Y16"},"X16","Y16","0000038","ü","ü","ü","ü",null,null,null,null,null,null,null,"ü",null,"ü",null,"ü","ü"]
[{"$f":"CONCATENATE(B28,\"   \",C28)","v":"X17   Y17"},"X17","Y17","","ü","ü",null,null,null,null,null,null,null,"ü"]
[{"$f":"CONCATENATE(B29,\"   \",C29)","v":"X18   Y18"},"X18","Y18","0008074","ü",null,null,null,null,null,null,null,null,null,null,"ü"]
[{"$f":"CONCATENATE(B30,\"   \",C30)","v":"X19   Y19"},"X19","Y19","0000606","ü","ü","ü","ü",null,null,null,null,null,null,null,"ü",null,null,"ü",null,null,null,"ü","ü"]
[{"$f":"CONCATENATE(B31,\"   \",C31)","v":"X20   Y20"},"X20","Y20","0016109",null,null,null,null,null,null,"ü"]
[{"$f":"CONCATENATE(B32,\"   \",C32)","v":"X21   Y21"},"X21","Y21","0000614","ü","ü","ü","ü","ü",null,null,null,null,null,null,"ü",null,"ü","ü",null,null,null,"ü","ü"]
[{"$f":"CONCATENATE(B33,\"   \",C33)","v":"X22   Y22"},"X22","Y22","0001089","ü","ü",null,"ü",null,null,null,null,null,"ü"]
[{"$f":"CONCATENATE(B34,\"   \",C34)","v":"X23   Y23"},"X23","Y23","0012666","ü",null,null,null,null,null,null,null,null,"ü",null,null,null,null,"ü"]
[{"$f":"CONCATENATE(B35,\"   \",C35)","v":"X24   Y24"},"X24","Y24","0004976","ü","ü",null,null,"ü",null,null,null,null,null,"ü","ü"]
[{"$f":"CONCATENATE(B36,\"   \",C36)","v":"X25   Y25"},"X25","Y25","0013001","ü",null,null,null,null,null,null,null,null,null,null,null,null,null,"ü"]
[{"$f":"CONCATENATE(B37,\"   \",C37)","v":"X26   Y26"},"X26","Y26","0014372",null,null,null,null,null,null,null,null,null,null,null,null,null,null,"ü"]
[{"$f":"CONCATENATE(B38,\"   \",C38)","v":"X27   Y27"},"X27","Y27","0011908","ü",null,null,null,null,null,null,null,null,null,null,null,null,null,"ü"]
[{"$f":"CONCATENATE(B39,\"   \",C39)","v":"X28   Y28"},"X28","Y28","0000722","ü","ü",null,"ü"]
[{"$f":"CONCATENATE(B40,\"   \",C40)","v":"X29   Y29"},"X29","Y29","0014130","ü","ü","ü","ü","ü",null,null,null,null,null,"ü",null,null,null,"ü"]
[{"$f":"CONCATENATE(B41,\"   \",C41)","v":"X30   Y30"},"X30","Y30","0004807",null,null,null,null,null,null,null,null,null,null,null,"ü",null,null,"ü"]
[{"$f":"CONCATENATE(B42,\"   \",C42)","v":"X31   Y31"},"X31","Y31","0011270","ü",null,null,null,null,null,"ü"]
[{"$f":"CONCATENATE(B43,\"   \",C43)","v":"X32   Y32"},"X32","Y32","0016352",null,null,null,null,null,null,"ü"]
[{"$f":"CONCATENATE(B44,\"   \",C44)","v":"X33   Y33"},"X33","Y33","0011906","ü",null,null,null,null,null,null,null,null,"ü",null,null,null,null,"ü"]
[{"$f":"CONCATENATE(B45,\"   \",C45)","v":"X34   Y34"},"X34","Y34","0014857"]
[{"$f":"CONCATENATE(B46,\"   \",C46)","v":"X35   Y35"},"X35","Y35","0011905","ü",null,null,null,null,null,null,null,null,null,"ü",null,null,null,"ü"]
[{"$f":"CONCATENATE(B47,\"   \",C47)","v":"X36   Y36"},"X36","Y36","0000507","ü","ü","ü","ü","ü",null,null,null,null,null,null,"ü",null,null,null,null,null,null,null,null,null,"ü","ü"]
[{"$f":"CONCATENATE(B48,\"   \",C48)","v":"X37   Y37"},"X37","Y37","0014854",null,null,null,null,null,null,"ü",null,null,null,null,null,null,null,"ü"]
[{"$f":"CONCATENATE(B49,\"   \",C49)","v":"X38   Y38"},"X38","Y38","0001003","ü","ü",null,"ü",null,null,null,null,null,null,null,null,"ü",null,"ü",null,null,null,"ü","ü","ü"]
[{"$f":"CONCATENATE(B50,\"   \",C50)","v":"X39   Y39"},"X39","Y39","0014541","ü"]
[{"$f":"CONCATENATE(B51,\"   \",C51)","v":"X40   Y40"},"X40","Y40","0000635","ü","ü","ü","ü","ü",null,null,null,null,null,null,"ü",null,null,"ü","ü",null,null,"ü"]
[{"$f":"CONCATENATE(B52,\"   \",C52)","v":"X41   Y41"},"X41","Y41","0011705","ü","ü",null,null,null,null,null,null,null,"ü",null,null,null,null,"ü"]
[{"$f":"CONCATENATE(B53,\"   \",C53)","v":"X42   Y42"},"X42","Y42","0000327","ü","ü","ü","ü","ü",null,null,null,null,null,null,"ü","ü","ü","ü",null,null,null,"ü","ü",null,"ü","ü"]
[{"$f":"CONCATENATE(B54,\"   \",C54)","v":"X43   Y43"},"X43","Y43","0011208","ü",null,null,null,null,null,null,null,null,"ü"]
[{"$f":"CONCATENATE(B55,\"   \",C55)","v":"X44   Y44"},"X44","Y44","0000537","ü","ü",null,null,null,null,null,null,null,null,null,null,"ü","ü",null,null,null,null,null,null,null,"ü","ü"]
[{"$f":"CONCATENATE(B56,\"   \",C56)","v":"X45   Y45"},"X45","Y45","0014952",null,null,null,null,null,null,null,null,null,null,null,null,null,null,"ü"]
[{"$f":"CONCATENATE(B57,\"   \",C57)","v":"X46   Y46"},"X46","Y46","0012816","ü",null,null,null,null,null,null,null,null,"ü",null,null,null,null,"ü"]
[{"$f":"CONCATENATE(B58,\"   \",C58)","v":"X47   Y47"},"X47","Y47","0000795","ü","ü",null,"ü",null,null,null,null,null,null,null,"ü",null,null,"ü",null,null,null,"ü"]
[{"$f":"CONCATENATE(B59,\"   \",C59)","v":"X48   Y48"},"X48","Y48","0000466","ü","ü",null,"ü","ü",null,null,null,null,null,null,"ü",null,null,"ü",null,null,null,"ü","ü",null,"ü"]
[{"$f":"CONCATENATE(B60,\"   \",C60)","v":"X49   Y49"},"X49","Y49","0014390",null,null,null,null,null,null,"ü"]
[{"$f":"CONCATENATE(B61,\"   \",C61)","v":"X50   Y50"},"X50","Y50","0011106","ü",null,null,null,null,null,null,null,null,"ü",null,null,null,null,"ü",null,null,null,null,null,null,"ü"]
[{"$f":"CONCATENATE(B62,\"   \",C62)","v":"X51   Y51"},"X51","Y51","",null,"ü",null,null,null,null,null,null,null,null,null,null,"ü"]
[{"$f":"CONCATENATE(B63,\"   \",C63)","v":"X52   Y52"},"X52","Y52","0011571","ü","ü",null,"ü","ü",null,null,null,null,null,"ü",null,null,null,"ü"]
[{"$f":"CONCATENATE(B64,\"   \",C64)","v":"X53   Y53"},"X53","Y53","0015023","ü","ü","ü","ü",null,null,null,null,null,null,null,"ü",null,null,"ü",null,null,null,"ü","ü"]
[{"$f":"CONCATENATE(B65,\"   \",C65)","v":"X54   Y54"},"X54","Y54","0015026","ü","ü","ü","ü",null,null,null,null,null,null,"ü",null,null,"ü","ü","ü"]
[{"$f":"CONCATENATE(B66,\"   \",C66)","v":"X55   Y55"},"X55","Y55","0010882","ü",null,null,null,null,null,null,null,null,"ü",null,null,null,null,"ü"]
[{"$f":"CONCATENATE(B67,\"   \",C67)","v":"X56   Y56"},"X56","Y56","0011559","ü","ü",null,null,null,null,null,null,null,"ü",null,null,null,null,"ü"]
[{"$f":"CONCATENATE(B68,\"   \",C68)","v":"X57   Y57"},"X57","Y57","0000237","ü","ü",null,null,null,null,null,null,null,null,null,"ü","ü",null,"ü","ü","ü"]
[{"$f":"CONCATENATE(B69,\"   \",C69)","v":"X58   Y58"},"X58","Y58","0000238","ü","ü","ü","ü","ü",null,null,null,null,null,null,"ü",null,"ü",null,"ü","ü",null,null,null,null,"ü","ü"]
[{"$f":"CONCATENATE(B70,\"   \",C70)","v":"X59   Y59"},"X59","Y59","0011720","ü","ü",null,null,null,null,null,null,null,"ü"]
[{"$f":"CONCATENATE(B71,\"   \",C71)","v":"X60   Y60"},"X60","Y60","0009978","ü",null,null,null,null,null,null,null,null,"ü"]
[{"$f":"CONCATENATE(B72,\"   \",C72)","v":"X61   Y61"},"X61","Y61","0000328","ü","ü","ü","ü","ü",null,null,null,null,null,null,"ü",null,"ü","ü","ü","ü",null,"ü",null,null,"ü"]
[{"$f":"CONCATENATE(B73,\"   \",C73)","v":"X62   Y62"},"X62","Y62","0009808","ü",null,null,null,null,null,null,null,null,"ü"]
[{"$f":"CONCATENATE(B74,\"   \",C74)","v":"X63   Y63"},"X63","Y63","0000798","ü","ü",null,"ü","ü",null,null,null,null,null,null,"ü"]
[{"$f":"CONCATENATE(B75,\"   \",C75)","v":"X64   Y64"},"X64","Y64","0000329","ü","ü",null,"ü","ü",null,null,null,null,null,null,"ü","ü",null,"ü",null,null,null,"ü",null,null,"ü","ü"]
[{"$f":"CONCATENATE(B76,\"   \",C76)","v":"X65   Y65"},"X65","Y65","0016166",null,null,null,null,null,null,"ü"]
[{"$f":"CONCATENATE(B77,\"   \",C77)","v":"X66   Y66"},"X66","Y66","0000698","ü","ü",null,"ü",null,null,null,null,null,null,null,"ü",null,null,null,"ü","ü",null,"ü"]
[{"$f":"CONCATENATE(B78,\"   \",C78)","v":"X67   Y67"},"X67","Y67","0016329","ü","ü",null,null,null,null,"ü"]
[{"$f":"CONCATENATE(B79,\"   \",C79)","v":"X68   Y68"},"X68","Y68","0000650","ü","ü","ü","ü","ü",null,null,null,null,null,null,"ü",null,null,"ü","ü"]
[{"$f":"CONCATENATE(B80,\"   \",C80)","v":"X69   Y69"},"X69","Y69","0000518","ü","ü","ü","ü","ü",null,null,null,null,null,null,"ü",null,null,"ü","ü",null,null,"ü","ü"]
[{"$f":"CONCATENATE(B81,\"   \",C81)","v":"X70   Y70"},"X70","Y70","0011907","ü","ü",null,null,null,null,null,null,null,null,null,null,null,null,"ü"]
[{"$f":"CONCATENATE(B82,\"   \",C82)","v":"X71   Y71"},"X71","Y71","0010677","ü",null,null,null,null,null,null,null,null,null,null,null,null,null,"ü"]
[{"$f":"CONCATENATE(B83,\"   \",C83)","v":"X72   Y72"},"X72","Y72","0016231",null,null,null,null,null,null,"ü"]
[{"$f":"CONCATENATE(B84,\"   \",C84)","v":"X73   Y73"},"X73","Y73","0010207","ü","ü",null,"ü",null,null,null,null,null,null,null,null,null,null,"ü"]
[{"$f":"CONCATENATE(B85,\"   \",C85)","v":"X74   Y74"},"X74","Y74","0012437","ü","ü",null,null,null,null,null,null,null,"ü"]
[{"$f":"CONCATENATE(B86,\"   \",C86)","v":"X75   Y75"},"X75","Y75","0000734","ü","ü","ü","ü","ü",null,null,null,null,null,null,"ü",null,"ü","ü"]
[{"$f":"CONCATENATE(B87,\"   \",C87)","v":"X76   Y76"},"X76","Y76","0014858",null,null,null,null,null,null,null,null,"ü"]
[{"$f":"CONCATENATE(B88,\"   \",C88)","v":"X77   Y77"},"X77","Y77","0016325",null,null,null,null,null,null,"ü",null,null,"ü"]
[{"$f":"CONCATENATE(B89,\"   \",C89)","v":"X78   Y78"},"X78","Y78","0014425",null,null,null,null,null,null,null,null,null,null,null,null,null,null,"ü"]
[{"$f":"CONCATENATE(B90,\"   \",C90)","v":"X79   Y79"},"X79","Y79","0000506",null,null,null,null,null,null,null,null,null,null,null,"ü",null,null,null,"ü","ü"]
[{"$f":"CONCATENATE(B91,\"   \",C91)","v":"X80   Y80"},"X80","Y80","0010382","ü",null,null,null,null,null,null,null,null,"ü"]
[{"$f":"CONCATENATE(B92,\"   \",C92)","v":"X81   Y81"},"X81","Y81","0000454","ü","ü","ü","ü",null,null,null,null,null,null,null,"ü",null,null,null,null,null,null,null,null,null,"ü","ü"]
[{"$f":"CONCATENATE(B93,\"   \",C93)","v":"X82   Y82"},"X82","Y82","0014794",null,null,null,null,null,null,null,null,null,null,null,null,null,null,null,null,null,null,"ü","ü","ü"]
[{"$f":"CONCATENATE(B94,\"   \",C94)","v":"X83   Y83"},"X83","Y83","0014794",null,null,null,null,null,null,"ü"]
[{"$f":"CONCATENATE(B95,\"   \",C95)","v":"X84   Y84"},"X84","Y84","0014703",null,null,null,null,null,null,null,null,null,null,null,null,null,null,"ü"]
[{"$f":"CONCATENATE(B96,\"   \",C96)","v":"X85   Y85"},"X85","Y85","0014835",null,null,null,null,null,null,null,null,"ü"]
[{"$f":"CONCATENATE(B97,\"   \",C97)","v":"X86   Y86"},"X86","Y86","0002573","ü","ü","ü",null,null,null,null,null,null,null,null,"ü"]
[{"$f":"CONCATENATE(B98,\"   \",C98)","v":"X87   Y87"},"X87","Y87","",null,null,null,null,null,null,null,null,null,null,null,null,"ü"]
[{"$f":"CONCATENATE(B99,\"   \",C99)","v":"X88   Y88"},"X88","Y88","0012527"]
[{"$f":"CONCATENATE(B100,\"   \",C100)","v":"X89   Y89"},"X89","Y89","0012136","ü",null,null,null,null,null,null,null,null,"ü"]
[{"$f":"CONCATENATE(B101,\"   \",C101)","v":"X90   Y90"},"X90","Y90","0014453"]
[{"$f":"CONCATENATE(B102,\"   \",C102)","v":"X91   Y91"},"X91","Y91","0011252","ü",null,null,null,null,null,null,null,null,"ü",null,null,null,null,"ü"]
[{"$f":"CONCATENATE(B103,\"   \",C103)","v":"X92   Y92"},"X92","Y92","0009459","ü","ü"]
[{"$f":"CONCATENATE(B104,\"   \",C104)","v":"X93   Y93"},"X93","Y93","0000504","ü","ü","ü","ü",null,null,null,null,null,null,null,"ü",null,null,"ü",null,null,null,"ü","ü",null,"ü","ü"]
[{"$f":"CONCATENATE(B105,\"   \",C105)","v":"X94   Y94"},"X94","Y94","0014810",null,null,null,null,null,null,null,null,"ü"]
[{"$f":"CONCATENATE(B106,\"   \",C106)","v":"X95   Y95"},"X95","Y95","0000000",null,null,null,null,null,null,null,null,null,null,null,null,null,null,"ü"]
[{"$f":"CONCATENATE(B107,\"   \",C107)","v":"X96   Y96"},"X96","Y96","0011904","ü","ü",null,null,null,null,null,null,null,null,null,null,null,null,"ü"]
[{"$f":"CONCATENATE(B108,\"   \",C108)","v":"   "}]
[]
[]
[]
[]
[]
[]
[{"$f":"CONCATENATE(B115,\"   \",C115)","v":"   "},null,null,""]
[{"$f":"CONCATENATE(B116,\"   \",C116)","v":"   "}]
[{"$f":"CONCATENATE(B117,\"   \",C117)","v":"   "}]
[{"$f":"CONCATENATE(B118,\"   \",C118)","v":"   "}]
[{"$f":"CONCATENATE(B119,\"   \",C119)","v":"   "}]
[{"$f":"CONCATENATE(B120,\"   \",C120)","v":"   "}]
[{"$f":"CONCATENATE(B121,\"   \",C121)","v":"   "}]
[{"$f":"CONCATENATE(B122,\"   \",C122)","v":"   "}]
[{"$f":"CONCATENATE(B123,\"   \",C123)","v":"   "}]
[""]
["CAp"]
["CAPE"]
["CAPEK"]
["CAPEC"]
["CAPECK"]
["CAPECK "]
["CAPECK J"]
["CAPECK Je"]
["CAPECK Jea"]
["CAPECK Jean"]
["CAPECK Jean-"]
["CAPECK Jean-C"]
["CAPECK Jean-Cl"]
["CAPECK Jean-Cla"]
["CAPECK Jean-Clau"]
["CAPECK Jean-Claud"]
["CAPECK Jean-Claude",null,null,"0004796","ü","ü",null,null,null,null,"ü",null,null,"ü"]
["SPc"]
["SPca"]

{"sheet":"Synthèse","index":1,"n_rows":1163,"n_cols":15,"rows_kept":1163,"cut":false,"hidden":true,"merged":[[373,12,374,12],[373,13,374,13],[373,14,374,14],[373,6,374,6],[373,7,374,7],[370,8,372,14],[326,5,327,5],[326,6,327,6],[326,7,327,7],[326,8,327,8],[326,9,327,9],[326,10,327,10],[364,0,365,14],[326,4,327,4],[326,3,327,3],[373,8,374,8],[373,9,374,9],[373,10,374,10],[373,11,374,11],[370,0,372,5],[373,1,374,1],[373,2,374,2],[373,3,374,3],[373,4,374,4],[373,5,374,5],[326,11,327,11],[279,6,280,6],[279,7,280,7],[279,8,280,8],[317,0,318,14],[279,5,280,5],[373,0,374,0],[279,12,280,12],[279,13,280,13],[279,14,280,14],[323,0,325,5],[319,0,320,14],[326,14,327,14],[279,9,280,9],[279,10,280,10],[279,11,280,11],[279,0,280,0],[279,1,280,1],[279,2,280,2],[279,3,280,3],[279,4,280,4],[323,8,325,14],[326,0,327,0],[326,1,327,1],[326,2,327,2],[276,0,278,5],[276,8,278,14],[232,5,233,5],[232,6,233,6],[232,7,233,7],[232,8,233,8],[232,9,233,9],[232,10,233,10],[326,12,327,12],[326,13,327,13],[272,0,275,14],[229,0,231,5],[229,8,231,14],[232,0,233,0],[232,1,233,1],[232,2,233,2],[232,3,233,3],[185,8,186,8],[185,9,186,9],[185,10,186,10],[185,11,186,11],[185,0,186,0],[185,1,186,1],[185,3,186,3],[185,4,186,4],[185,5,186,5],[232,4,233,4],[185,6,186,6],[185,7,186,7],[232,11,233,11],[232,12,233,12],[232,13,233,13],[232,14,233,14],[223,0,224,14],[225,0,228,14],[138,0,139,0],[138,1,139,1],[138,2,139,2],[138,3,139,3],[138,13,139,13],[138,14,139,14],[185,12,186,12],[185,13,186,13],[185,14,186,14],[138,11,139,11],[138,12,139,12],[176,0,177,14],[185,2,186,2],[182,0,184,5],[182,8,184,14],[138,5,139,5],[138,6,139,6],[138,7,139,7],[138,8,139,8],[138,9,139,9],[138,10,139,10],[178,0,181,14],[91,2,92,2],[91,3,92,3],[91,4,92,4],[91,9,92,9],[91,10,92,10],[91,11,92,11],[131,0,134,14],[135,0,137,5],[135,8,137,14],[420,3,421,3],[467,5,468,5],[467,6,468,6],[0,0,1,14],[2,0,3,14],[411,0,412,14],[417,0,419,5],[417,8,419,14],[270,0,271,14],[82,0,83,14],[84,0,85,14],[88,0,90,5],[88,8,90,14],[91,0,92,0],[129,0,130,14],[91,5,92,5],[91,12,92,12],[91,13,92,13],[91,14,92,14],[138,4,139,4],[91,6,92,6],[91,7,92,7],[91,8,92,8],[91,1,92,1],[420,12,421,12],[420,13,421,13],[420,14,421,14],[458,0,459,14],[420,8,421,8],[420,9,421,9],[420,10,421,10],[420,11,421,11],[467,9,468,9],[467,10,468,10],[464,0,466,5],[464,8,466,14],[467,0,468,0],[467,1,468,1],[467,2,468,2],[467,3,468,3],[467,4,468,4],[420,4,421,4],[420,5,421,5],[420,6,421,6],[420,7,421,7],[420,0,421,0],[420,1,421,1],[420,2,421,2],[514,12,515,12],[514,13,515,13],[514,14,515,14],[552,0,553,14],[514,8,515,8],[514,9,515,9],[514,10,515,10],[514,11,515,11],[561,9,562,9],[561,10,562,10],[514,4,515,4],[514,5,515,5],[514,6,515,6],[514,7,515,7],[514,0,515,0],[514,1,515,1],[514,2,515,2],[514,3,515,3],[561,5,562,5],[561,6,562,6],[558,0,560,5],[558,8,560,14],[505,0,506,14],[511,0,513,5],[511,8,513,14],[467,11,468,11],[467,12,468,12],[467,13,468,13],[467,14,468,14],[467,7,468,7],[467,8,468,8],[605,0,607,5],[605,8,607,14],[561,11,562,11],[561,12,562,12],[561,13,562,13],[561,14,562,14],[561,7,562,7],[561,8,562,8],[561,0,562,0],[561,1,562,1],[561,2,562,2],[561,3,562,3],[561,4,562,4],[599,0,600,14],[608,12,609,12],[608,13,609,13],[608,14,609,14],[646,0,647,14],[608,8,609,8],[608,9,609,9],[608,10,609,10],[608,11,609,11],[655,9,656,9],[655,10,656,10],[652,0,654,5],[608,4,609,4],[608,5,609,5],[608,6,609,6],[608,7,609,7],[608,0,609,0],[608,1,609,1],[608,2,609,2],[608,3,609,3],[655,5,656,5],[648,0,651,14],[652,8,654,14],[655,0,656,0],[655,1,656,1],[655,2,656,2],[655,3,656,3],[655,4,656,4],[746,0,748,5],[746,8,748,14],[695,0,698,14],[742,0,745,14],[655,6,656,6],[702,12,703,12],[702,13,703,13],[702,14,703,14],[740,0,741,14],[702,8,703,8],[702,9,703,9],[702,10,703,10],[702,11,703,11],[749,9,750,9],[749,10,750,10],[702,4,703,4],[702,5,703,5],[702,6,703,6],[702,7,703,7],[702,0,703,0],[702,1,703,1],[702,2,703,2],[702,3,703,3],[749,5,750,5],[749,6,750,6],[749,7,750,7],[749,8,750,8],[749,0,750,0],[749,1,750,1],[749,11,750,11],[749,12,750,12],[749,13,750,13],[749,14,750,14],[981,8,983,14],[749,2,750,2],[749,3,750,3],[749,4,750,4],[796,12,797,12],[796,13,797,13],[796,14,797,14],[834,0,835,14],[796,8,797,8],[796,9,797,9],[796,10,797,10],[796,11,797,11],[793,0,795,5],[793,8,795,14],[796,4,797,4],[796,5,797,5],[796,6,797,6],[796,7,797,7],[796,0,797,0],[796,1,797,1],[796,2,797,2],[796,3,797,3],[787,0,788,14],[789,0,792,14],[937,14,938,14],[843,5,844,5],[843,6,844,6],[890,11,891,11],[984,9,985,9],[984,10,985,10],[840,8,842,14],[843,0,844,0],[843,1,844,1],[843,2,844,2],[843,3,844,3],[843,4,844,4],[881,0,882,14],[887,0,889,5],[887,8,889,14],[843,11,844,11],[843,12,844,12],[843,13,844,13],[843,14,844,14],[843,7,844,7],[843,8,844,8],[843,9,844,9],[843,10,844,10],[981,0,983,5],[937,5,938,5],[937,6,938,6],[937,7,938,7],[937,8,938,8],[937,9,938,9],[937,10,938,10],[928,0,929,14],[930,0,933,14],[934,0,936,5],[934,8,936,14],[937,0,938,0],[937,1,938,1],[937,2,938,2],[937,3,938,3],[937,4,938,4],[1116,0,1117,14],[937,11,938,11],[937,12,938,12],[937,13,938,13],[1118,0,1121,14],[1078,7,1079,7],[1078,8,1079,8],[1078,9,1079,9],[984,13,985,13],[984,14,985,14],[984,7,985,7],[984,8,985,8],[984,0,985,0],[984,1,985,1],[984,2,985,2],[984,3,985,3],[984,4,985,4],[984,11,985,11],[984,5,985,5],[984,6,985,6],[1022,0,1023,14],[1028,0,1030,5],[1078,3,1079,3],[1078,4,1079,4],[1122,0,1124,5],[1122,8,1124,14],[1125,0,1126,0],[1125,1,1126,1],[1125,2,1126,2],[1125,3,1126,3],[1125,4,1126,4],[1125,5,1126,5],[1125,6,1126,6],[1125,7,1126,7],[1125,8,1126,8],[1125,9,1126,9],[1125,10,1126,10],[1125,11,1126,11],[1125,12,1126,12],[1125,13,1126,13],[1125,14,1126,14],[1069,0,1070,14],[1075,0,1077,5],[1075,8,1077,14],[1078,0,1079,0],[1078,1,1079,1],[1078,2,1079,2],[1031,0,1032,0],[1031,1,1032,1],[1031,2,1032,2],[1031,3,1032,3],[1031,12,1032,12],[1078,10,1079,10],[1078,11,1079,11],[1078,6,1079,6],[1078,12,1079,12],[1078,13,1079,13],[1078,14,1079,14],[1078,5,1079,5],[366,0,369,14],[413,0,416,14],[460,0,463,14],[507,0,510,14],[554,0,557,14],[601,0,604,14],[890,4,891,4],[890,5,891,5],[890,6,891,6],[890,7,891,7],[890,0,891,0],[890,1,891,1],[890,2,891,2],[890,3,891,3],[840,0,842,5],[693,0,694,14],[699,0,701,5],[699,8,701,14],[655,11,656,11],[655,12,656,12],[655,13,656,13],[655,14,656,14],[655,7,656,7],[655,8,656,8],[836,0,839,14],[883,0,886,14],[977,0,980,14],[1024,0,1027,14],[1071,0,1074,14],[1028,8,1030,14],[1031,13,1032,13],[1031,14,1032,14],[1031,8,1032,8],[1031,9,1032,9],[1031,10,1032,10],[1031,11,1032,11],[1031,4,1032,4],[1031,5,1032,5],[1031,6,1032,6],[1031,7,1032,7],[890,12,891,12],[890,13,891,13],[890,14,891,14],[975,0,976,14],[890,8,891,8],[890,9,891,9],[890,10,891,10],[984,12,985,12]]}
["SDIS 57"]
[]
["SUIVI  DU CENTRE DE SECOURS DE HAGONDANGE"]
[]
[]
[]
[]
[]
[]
[]
[]
[]
[]
[]
[]
[]
[]
[]
[]
[]
[]
[]
[]
[]
[]
[]
[]
[]
[]
[]
[]
[]
[]
[]
[]
[]
[]
[]
[]
[]
[]
[]
[]
[]
[]
[]
[]
[]
[]
[]
[]
[]
[]
[]
[]
[]
[]
[]
[]
[]
[]
[]
[]
[]
[]
[]
[]
[]
[]
[]
[]
[]
[]
[]
[]
[]
[]
[]
[]
[]
[]
[]
["SDIS 57"]
[]
["SUIVI DU CENTRE DE SECOURS DE HAGONDANGE"]
[]
[]
[]
["PERMIS",null,null,null,null,null,null,null,{"$f":"E92","v":"PERM +3 ANS"}]
[]
[]
["NOM - PRENOM","NOM","PRENOM","MATRICULE",{"$f":"LUTIN!E11","v":"PERM +3 ANS"},"NOM - PRENOM","NOM","PRENOM","MATRICULE",{"$f":"E92","v":"PERM +3 ANS"},"NOM - PRENOM","NOM","PRENOM","MATRICULE",{"$f":"E92","v":"PERM +3 ANS"}]
[]
[{"$f":"LUTIN!A12","v":"X1   Y1"},{"$f":"LUTIN!B12","v":"X1"},{"$f":"LUTIN!C12","v":"Y1"},{"$f":"LUTIN!D12","v":"0013041"},{"$f":"LUTIN!E12","v":"ü"},{"$f":"LUTIN!A57","v":"X46   Y46"},{"$f":"LUTIN!B56","v":"X45"},{"$f":"LUTIN!C56","v":"Y45"},{"$f":"LUTIN!D57","v":"0012816"},{"$f":"LUTIN!E57","v":"ü"},{"$f":"LUTIN!A93","v":"X82   Y82"},{"$f":"LUTIN!B92","v":"X81"},{"$f":"LUTIN!C92","v":"Y81"},{"$f":"LUTIN!D93","v":"0014794"},{"$f":"LUTIN!E93","v":0}]
[{"$f":"LUTIN!A22","v":"X11   Y11"},{"$f":"LUTIN!B22","v":"X11"},{"$f":"LUTIN!C22","v":"Y11"},{"$f":"LUTIN!D22","v":"0014707"},{"$f":"LUTIN!E22","v":0},{"$f":"LUTIN!A58","v":"X47   Y47"},{"$f":"LUTIN!B57","v":"X46"},{"$f":"LUTIN!C57","v":"Y46"},{"$f":"LUTIN!D58","v":"0000795"},{"$f":"LUTIN!E58","v":"ü"},{"$f":"LUTIN!A94","v":"X83   Y83"},{"$f":"LUTIN!B93","v":"X82"},{"$f":"LUTIN!C93","v":"Y82"},{"$f":"LUTIN!D94","v":"0014794"},{"$f":"LUTIN!E94","v":0}]
[{"$f":"LUTIN!A23","v":"X12   Y12"},{"$f":"LUTIN!B23","v":"X12"},{"$f":"LUTIN!C23","v":"Y12"},{"$f":"LUTIN!D23","v":"0004796"},{"$f":"LUTIN!E23","v":"ü"},{"$f":"LUTIN!A59","v":"X48   Y48"},{"$f":"LUTIN!B58","v":"X47"},{"$f":"LUTIN!C58","v":"Y47"},{"$f":"LUTIN!D59","v":"0000466"},{"$f":"LUTIN!E59","v":"ü"},{"$f":"LUTIN!A95","v":"X84   Y84"},{"$f":"LUTIN!B94","v":"X83"},{"$f":"LUTIN!C94","v":"Y83"},{"$f":"LUTIN!D95","v":"0014703"},{"$f":"LUTIN!E95","v":0}]
[{"$f":"LUTIN!A24","v":"X13   Y13"},{"$f":"LUTIN!B24","v":"X13"},{"$f":"LUTIN!C24","v":"Y13"},{"$f":"LUTIN!D24","v":"0011105"},{"$f":"LUTIN!E24","v":0},{"$f":"LUTIN!A60","v":"X49   Y49"},{"$f":"LUTIN!B59","v":"X48"},{"$f":"LUTIN!C59","v":"Y48"},{"$f":"LUTIN!D60","v":"0014390"},{"$f":"LUTIN!E60","v":0},{"$f":"LUTIN!A96","v":"X85   Y85"},{"$f":"LUTIN!B95","v":"X84"},{"$f":"LUTIN!C95","v":"Y84"},{"$f":"LUTIN!D96","v":"0014835"},{"$f":"LUTIN!E96","v":0}]
[{"$f":"LUTIN!A25","v":"X14   Y14"},{"$f":"LUTIN!B25","v":"X14"},{"$f":"LUTIN!C25","v":"Y14"},{"$f":"LUTIN!D25","v":"0012601"},{"$f":"LUTIN!E25","v":0},{"$f":"LUTIN!A61","v":"X50   Y50"},{"$f":"LUTIN!B60","v":"X49"},{"$f":"LUTIN!C60","v":"Y49"},{"$f":"LUTIN!D61","v":"0011106"},{"$f":"LUTIN!E61","v":"ü"},{"$f":"LUTIN!A97","v":"X86   Y86"},{"$f":"LUTIN!B96","v":"X85"},{"$f":"LUTIN!C96","v":"Y85"},{"$f":"LUTIN!D97","v":"0002573"},{"$f":"LUTIN!E97","v":"ü"}]
[{"$f":"LUTIN!A26","v":"X15   Y15"},{"$f":"LUTIN!B26","v":"X15"},{"$f":"LUTIN!C26","v":"Y15"},{"$f":"LUTIN!D26","v":"0014518"},{"$f":"LUTIN!E26","v":"ü"},{"$f":"LUTIN!A62","v":"X51   Y51"},{"$f":"LUTIN!B61","v":"X50"},{"$f":"LUTIN!C61","v":"Y50"},{"$f":"LUTIN!D62","v":""},{"$f":"LUTIN!E62","v":0},{"$f":"LUTIN!A98","v":"X87   Y87"},{"$f":"LUTIN!B97","v":"X86"},{"$f":"LUTIN!C97","v":"Y86"},{"$f":"LUTIN!D98","v":""},{"$f":"LUTIN!E98","v":0}]
[{"$f":"LUTIN!A27","v":"X16   Y16"},{"$f":"LUTIN!B27","v":"X16"},{"$f":"LUTIN!C27","v":"Y16"},{"$f":"LUTIN!D27","v":"0000038"},{"$f":"LUTIN!E27","v":"ü"},{"$f":"LUTIN!A63","v":"X52   Y52"},{"$f":"LUTIN!B62","v":"X51"},{"$f":"LUTIN!C62","v":"Y51"},{"$f":"LUTIN!D63","v":"0011571"},{"$f":"LUTIN!E63","v":"ü"},{"$f":"LUTIN!A99","v":"X88   Y88"},{"$f":"LUTIN!B98","v":"X87"},{"$f":"LUTIN!C98","v":"Y87"},{"$f":"LUTIN!D99","v":"0012527"},{"$f":"LUTIN!E99","v":0}]
[{"$f":"LUTIN!A28","v":"X17   Y17"},{"$f":"LUTIN!B28","v":"X17"},{"$f":"LUTIN!C28","v":"Y17"},{"$f":"LUTIN!D28","v":""},{"$f":"LUTIN!E28","v":"ü"},{"$f":"LUTIN!A64","v":"X53   Y53"},{"$f":"LUTIN!B63","v":"X52"},{"$f":"LUTIN!C63","v":"Y52"},{"$f":"LUTIN!D64","v":"0015023"},{"$f":"LUTIN!E64","v":"ü"},{"$f":"LUTIN!A100","v":"X89   Y89"},{"$f":"LUTIN!B99","v":"X88"},{"$f":"LUTIN!C99","v":"Y88"},{"$f":"LUTIN!D100","v":"0012136"},{"$f":"LUTIN!E100","v":"ü"}]
[{"$f":"LUTIN!A29","v":"X18   Y18"},{"$f":"LUTIN!B29","v":"X18"},{"$f":"LUTIN!C29","v":"Y18"},{"$f":"LUTIN!D29","v":"0008074"},{"$f":"LUTIN!E29","v":"ü"},{"$f":"LUTIN!A65","v":"X54   Y54"},{"$f":"LUTIN!B64","v":"X53"},{"$f":"LUTIN!C64","v":"Y53"},{"$f":"LUTIN!D65","v":"0015026"},{"$f":"LUTIN!E65","v":"ü"},{"$f":"LUTIN!A101","v":"X90   Y90"},{"$f":"LUTIN!B100","v":"X89"},{"$f":"LUTIN!C100","v":"Y89"},{"$f":"LUTIN!D101","v":"0014453"},{"$f":"LUTIN!E101","v":0}]
[{"$f":"LUTIN!A30","v":"X19   Y19"},{"$f":"LUTIN!B30","v":"X19"},{"$f":"LUTIN!C30","v":"Y19"},{"$f":"LUTIN!D30","v":"0000606"},{"$f":"LUTIN!E30","v":"ü"},{"$f":"LUTIN!A66","v":"X55   Y55"},{"$f":"LUTIN!B65","v":"X54"},{"$f":"LUTIN!C65","v":"Y54"},{"$f":"LUTIN!D66","v":"0010882"},{"$f":"LUTIN!E66","v":"ü"},{"$f":"LUTIN!A102","v":"X91   Y91"},{"$f":"LUTIN!B101","v":"X90"},{"$f":"LUTIN!C101","v":"Y90"},{"$f":"LUTIN!D102","v":"0011252"},{"$f":"LUTIN!E102","v":"ü"}]
[{"$f":"LUTIN!A31","v":"X20   Y20"},{"$f":"LUTIN!B31","v":"X20"},{"$f":"LUTIN!C31","v":"Y20"},{"$f":"LUTIN!D31","v":"0016109"},{"$f":"LUTIN!E31","v":0},{"$f":"LUTIN!A67","v":"X56   Y56"},{"$f":"LUTIN!B66","v":"X55"},{"$f":"LUTIN!C66","v":"Y55"},{"$f":"LUTIN!D67","v":"0011559"},{"$f":"LUTIN!E67","v":"ü"},{"$f":"LUTIN!A103","v":"X92   Y92"},{"$f":"LUTIN!B102","v":"X91"},{"$f":"LUTIN!C102","v":"Y91"},{"$f":"LUTIN!D103","v":"0009459"},{"$f":"LUTIN!E103","v":"ü"}]
[{"$f":"LUTIN!A32","v":"X21   Y21"},{"$f":"LUTIN!B32","v":"X21"},{"$f":"LUTIN!C32","v":"Y21"},{"$f":"LUTIN!D32","v":"0000614"},{"$f":"LUTIN!E32","v":"ü"},{"$f":"LUTIN!A68","v":"X57   Y57"},{"$f":"LUTIN!B67","v":"X56"},{"$f":"LUTIN!C67","v":"Y56"},{"$f":"LUTIN!D68","v":"0000237"},{"$f":"LUTIN!E68","v":"ü"},{"$f":"LUTIN!A104","v":"X93   Y93"},{"$f":"LUTIN!B103","v":"X92"},{"$f":"LUTIN!C103","v":"Y92"},{"$f":"LUTIN!D104","v":"0000504"},{"$f":"LUTIN!E104","v":"ü"}]
[{"$f":"LUTIN!A33","v":"X22   Y22"},{"$f":"LUTIN!B33","v":"X22"},{"$f":"LUTIN!C33","v":"Y22"},{"$f":"LUTIN!D33","v":"0001089"},{"$f":"LUTIN!E33","v":"ü"},{"$f":"LUTIN!A69","v":"X58   Y58"},{"$f":"LUTIN!B68","v":"X57"},{"$f":"LUTIN!C68","v":"Y57"},{"$f":"LUTIN!D69","v":"0000238"},{"$f":"LUTIN!E69","v":"ü"},{"$f":"LUTIN!A105","v":"X94   Y94"},{"$f":"LUTIN!B104","v":"X93"},{"$f":"LUTIN!C104","v":"Y93"},{"$f":"LUTIN!D105","v":"0014810"},{"$f":"LUTIN!E105","v":0}]
[{"$f":"LUTIN!A34","v":"X23   Y23"},{"$f":"LUTIN!B34","v":"X23"},{"$f":"LUTIN!C34","v":"Y23"},{"$f":"LUTIN!D34","v":"0012666"},{"$f":"LUTIN!E34","v":"ü"},{"$f":"LUTIN!A70","v":"X59   Y59"},{"$f":"LUTIN!B69","v":"X58"},{"$f":"LUTIN!C69","v":"Y58"},{"$f":"LUTIN!D70","v":"0011720"},{"$f":"LUTIN!E70","v":"ü"},{"$f":"LUTIN!A106","v":"X95   Y95"},{"$f":"LUTIN!B105","v":"X94"},{"$f":"LUTIN!C105","v":"Y94"},{"$f":"LUTIN!D106","v":"0000000"},{"$f":"LUTIN!E106","v":0}]
[{"$f":"LUTIN!A35","v":"X24   Y24"},{"$f":"LUTIN!B35","v":"X24"},{"$f":"LUTIN!C35","v":"Y24"},{"$f":"LUTIN!D35","v":"0004976"},{"$f":"LUTIN!E35","v":"ü"},{"$f":"LUTIN!A71","v":"X60   Y60"},{"$f":"LUTIN!B70","v":"X59"},{"$f":"LUTIN!C70","v":"Y59"},{"$f":"LUTIN!D71","v":"0009978"},{"$f":"LUTIN!E71","v":"ü"},{"$f":"LUTIN!A107","v":"X96   Y96"},{"$f":"LUTIN!B106","v":"X95"},{"$f":"LUTIN!C106","v":"Y95"},{"$f":"LUTIN!D107","v":"0011904"},{"$f":"LUTIN!E107","v":"ü"}]
[{"$f":"LUTIN!A36","v":"X25   Y25"},{"$f":"LUTIN!B36","v":"X25"},{"$f":"LUTIN!C36","v":"Y25"},{"$f":"LUTIN!D36","v":"0013001"},{"$f":"LUTIN!E36","v":"ü"},{"$f":"LUTIN!A72","v":"X61   Y61"},{"$f":"LUTIN!B71","v":"X60"},{"$f":"LUTIN!C71","v":"Y60"},{"$f":"LUTIN!D72","v":"0000328"},{"$f":"LUTIN!E72","v":"ü"},{"$f":"LUTIN!A108","v":"   "},{"$f":"LUTIN!B107","v":"X96"},{"$f":"LUTIN!C107","v":"Y96"},{"$f":"LUTIN!D108","v":0},{"$f":"LUTIN!E108","v":0}]
[{"$f":"LUTIN!A37","v":"X26   Y26"},{"$f":"LUTIN!B37","v":"X26"},{"$f":"LUTIN!C37","v":"Y26"},{"$f":"LUTIN!D37","v":"0014372"},{"$f":"LUTIN!E37","v":0},{"$f":"LUTIN!A73","v":"X62   Y62"},{"$f":"LUTIN!B72","v":"X61"},{"$f":"LUTIN!C72","v":"Y61"},{"$f":"LUTIN!D73","v":"0009808"},{"$f":"LUTIN!E73","v":"ü"},{"$f":"LUTIN!A109","v":0},{"$f":"LUTIN!B108","v":0},{"$f":"LUTIN!C108","v":0},{"$f":"LUTIN!D109","v":0},{"$f":"LUTIN!E109","v":0}]
[{"$f":"LUTIN!A38","v":"X27   Y27"},{"$f":"LUTIN!B38","v":"X27"},{"$f":"LUTIN!C38","v":"Y27"},{"$f":"LUTIN!D38","v":"0011908"},{"$f":"LUTIN!E38","v":"ü"},{"$f":"LUTIN!A74","v":"X63   Y63"},{"$f":"LUTIN!B73","v":"X62"},{"$f":"LUTIN!C73","v":"Y62"},{"$f":"LUTIN!D74","v":"0000798"},{"$f":"LUTIN!E74","v":"ü"},{"$f":"LUTIN!A110","v":0},{"$f":"LUTIN!B109","v":0},{"$f":"LUTIN!C109","v":0},{"$f":"LUTIN!D110","v":0},{"$f":"LUTIN!E110","v":0}]
[{"$f":"LUTIN!A39","v":"X28   Y28"},{"$f":"LUTIN!B39","v":"X28"},{"$f":"LUTIN!C39","v":"Y28"},{"$f":"LUTIN!D39","v":"0000722"},{"$f":"LUTIN!E39","v":"ü"},{"$f":"LUTIN!A75","v":"X64   Y64"},{"$f":"LUTIN!B74","v":"X63"},{"$f":"LUTIN!C74","v":"Y63"},{"$f":"LUTIN!D75","v":"0000329"},{"$f":"LUTIN!E75","v":"ü"},{"$f":"LUTIN!A111","v":0},{"$f":"LUTIN!B110","v":0},{"$f":"LUTIN!C110","v":0},{"$f":"LUTIN!D111","v":0},{"$f":"LUTIN!E111","v":0}]
[{"$f":"LUTIN!A40","v":"X29   Y29"},{"$f":"LUTIN!B40","v":"X29"},{"$f":"LUTIN!C40","v":"Y29"},{"$f":"LUTIN!D40","v":"0014130"},{"$f":"LUTIN!E40","v":"ü"},{"$f":"LUTIN!A76","v":"X65   Y65"},{"$f":"LUTIN!B75","v":"X64"},{"$f":"LUTIN!C75","v":"Y64"},{"$f":"LUTIN!D76","v":"0016166"},{"$f":"LUTIN!E76","v":0},{"$f":"LUTIN!A112","v":0},{"$f":"LUTIN!B111","v":0},{"$f":"LUTIN!C111","v":0},{"$f":"LUTIN!D112","v":0},{"$f":"LUTIN!E112","v":0}]
[{"$f":"LUTIN!A41","v":"X30   Y30"},{"$f":"LUTIN!B41","v":"X30"},{"$f":"LUTIN!C41","v":"Y30"},{"$f":"LUTIN!D41","v":"0004807"},{"$f":"LUTIN!E41","v":0},{"$f":"LUTIN!A77","v":"X66   Y66"},{"$f":"LUTIN!B76","v":"X65"},{"$f":"LUTIN!C76","v":"Y65"},{"$f":"LUTIN!D77","v":"0000698"},{"$f":"LUTIN!E77","v":"ü"},{"$f":"LUTIN!A113","v":0},{"$f":"LUTIN!B112","v":0},{"$f":"LUTIN!C112","v":0},{"$f":"LUTIN!D113","v":0},{"$f":"LUTIN!E113","v":0}]
[{"$f":"LUTIN!A42","v":"X31   Y31"},{"$f":"LUTIN!B42","v":"X31"},{"$f":"LUTIN!C42","v":"Y31"},{"$f":"LUTIN!D42","v":"0011270"},{"$f":"LUTIN!E42","v":"ü"},{"$f":"LUTIN!A78","v":"X67   Y67"},{"$f":"LUTIN!B77","v":"X66"},{"$f":"LUTIN!C77","v":"Y66"},{"$f":"LUTIN!D78","v":"0016329"},{"$f":"LUTIN!E78","v":"ü"},{"$f":"LUTIN!A114","v":0},{"$f":"LUTIN!B113","v":0},{"$f":"LUTIN!C113","v":0},{"$f":"LUTIN!D114","v":0},{"$f":"LUTIN!E114","v":0}]
[{"$f":"LUTIN!A43","v":"X32   Y32"},{"$f":"LUTIN!B43","v":"X32"},{"$f":"LUTIN!C43","v":"Y32"},{"$f":"LUTIN!D43","v":"0016352"},{"$f":"LUTIN!E43","v":0},{"$f":"LUTIN!A79","v":"X68   Y68"},{"$f":"LUTIN!B78","v":"X67"},{"$f":"LUTIN!C78","v":"Y67"},{"$f":"LUTIN!D79","v":"0000650"},{"$f":"LUTIN!E79","v":"ü"},{"$f":"LUTIN!A115","v":"   "},{"$f":"LUTIN!B114","v":0},{"$f":"LUTIN!C114","v":0},{"$f":"LUTIN!D115","v":""},{"$f":"LUTIN!E115","v":0}]
[{"$f":"LUTIN!A44","v":"X33   Y33"},{"$f":"LUTIN!B44","v":"X33"},{"$f":"LUTIN!C44","v":"Y33"},{"$f":"LUTIN!D44","v":"0011906"},{"$f":"LUTIN!E44","v":"ü"},{"$f":"LUTIN!A80","v":"X69   Y69"},{"$f":"LUTIN!B79","v":"X68"},{"$f":"LUTIN!C79","v":"Y68"},{"$f":"LUTIN!D80","v":"0000518"},{"$f":"LUTIN!E80","v":"ü"},{"$f":"LUTIN!A116","v":"   "},{"$f":"LUTIN!B115","v":0},{"$f":"LUTIN!C115","v":0},{"$f":"LUTIN!D116","v":0},{"$f":"LUTIN!E116","v":0}]
[{"$f":"LUTIN!A45","v":"X34   Y34"},{"$f":"LUTIN!B45","v":"X34"},{"$f":"LUTIN!C45","v":"Y34"},{"$f":"LUTIN!D45","v":"0014857"},{"$f":"LUTIN!E45","v":0},{"$f":"LUTIN!A81","v":"X70   Y70"},{"$f":"LUTIN!B80","v":"X69"},{"$f":"LUTIN!C80","v":"Y69"},{"$f":"LUTIN!D81","v":"0011907"},{"$f":"LUTIN!E81","v":"ü"},{"$f":"LUTIN!A117","v":"   "},{"$f":"LUTIN!B116","v":0},{"$f":"LUTIN!C116","v":0},{"$f":"LUTIN!D117","v":0},{"$f":"LUTIN!E117","v":0}]
[{"$f":"LUTIN!A46","v":"X35   Y35"},{"$f":"LUTIN!B46","v":"X35"},{"$f":"LUTIN!C46","v":"Y35"},{"$f":"LUTIN!D46","v":"0011905"},{"$f":"LUTIN!E46","v":"ü"},{"$f":"LUTIN!A82","v":"X71   Y71"},{"$f":"LUTIN!B81","v":"X70"},{"$f":"LUTIN!C81","v":"Y70"},{"$f":"LUTIN!D82","v":"0010677"},{"$f":"LUTIN!E82","v":"ü"},{"$f":"LUTIN!A118","v":"   "},{"$f":"LUTIN!B117","v":0},{"$f":"LUTIN!C117","v":0},{"$f":"LUTIN!D118","v":0},{"$f":"LUTIN!E118","v":0}]
[{"$f":"LUTIN!A47","v":"X36   Y36"},{"$f":"LUTIN!B47","v":"X36"},{"$f":"LUTIN!C47","v":"Y36"},{"$f":"LUTIN!D47","v":"0000507"},{"$f":"LUTIN!E47","v":"ü"},{"$f":"LUTIN!A83","v":"X72   Y72"},{"$f":"LUTIN!B82","v":"X71"},{"$f":"LUTIN!C82","v":"Y71"},{"$f":"LUTIN!D83","v":"0016231"},{"$f":"LUTIN!E83","v":0},{"$f":"LUTIN!A119","v":"   "},{"$f":"LUTIN!B118","v":0},{"$f":"LUTIN!C118","v":0},{"$f":"LUTIN!D119","v":0},{"$f":"LUTIN!E119","v":0}]
[{"$f":"LUTIN!A48","v":"X37   Y37"},{"$f":"LUTIN!B48","v":"X37"},{"$f":"LUTIN!C48","v":"Y37"},{"$f":"LUTIN!D48","v":"0014854"},{"$f":"LUTIN!E48","v":0},{"$f":"LUTIN!A84","v":"X73   Y73"},{"$f":"LUTIN!B83","v":"X72"},{"$f":"LUTIN!C83","v":"Y72"},{"$f":"LUTIN!D84","v":"0010207"},{"$f":"LUTIN!E84","v":"ü"},{"$f":"LUTIN!A120","v":"   "},{"$f":"LUTIN!B119","v":0},{"$f":"LUTIN!C119","v":0},{"$f":"LUTIN!D120","v":0},{"$f":"LUTIN!E120","v":0}]
[{"$f":"LUTIN!A49","v":"X38   Y38"},{"$f":"LUTIN!B49","v":"X38"},{"$f":"LUTIN!C49","v":"Y38"},{"$f":"LUTIN!D49","v":"0001003"},{"$f":"LUTIN!E49","v":"ü"},{"$f":"LUTIN!A85","v":"X74   Y74"},{"$f":"LUTIN!B84","v":"X73"},{"$f":"LUTIN!C84","v":"Y73"},{"$f":"LUTIN!D85","v":"0012437"},{"$f":"LUTIN!E85","v":"ü"},{"$f":"LUTIN!A121","v":"   "},{"$f":"LUTIN!B120","v":0},{"$f":"LUTIN!C120","v":0},{"$f":"LUTIN!D121","v":0},{"$f":"LUTIN!E121","v":0}]
[{"$f":"LUTIN!A50","v":"X39   Y39"},{"$f":"LUTIN!B50","v":"X39"},{"$f":"LUTIN!C50","v":"Y39"},{"$f":"LUTIN!D50","v":"0014541"},{"$f":"LUTIN!E50","v":"ü"},{"$f":"LUTIN!A86","v":"X75   Y75"},{"$f":"LUTIN!B85","v":"X74"},{"$f":"LUTIN!C85","v":"Y74"},{"$f":"LUTIN!D86","v":"0000734"},{"$f":"LUTIN!E86","v":"ü"},{"$f":"LUTIN!A122","v":"   "},{"$f":"LUTIN!B121","v":0},{"$f":"LUTIN!C121","v":0},{"$f":"LUTIN!D122","v":0},{"$f":"LUTIN!E122","v":0}]
[{"$f":"LUTIN!A51","v":"X40   Y40"},{"$f":"LUTIN!B51","v":"X40"},{"$f":"LUTIN!C51","v":"Y40"},{"$f":"LUTIN!D51","v":"0000635"},{"$f":"LUTIN!E51","v":"ü"},{"$f":"LUTIN!A87","v":"X76   Y76"},{"$f":"LUTIN!B86","v":"X75"},{"$f":"LUTIN!C86","v":"Y75"},{"$f":"LUTIN!D87","v":"0014858"},{"$f":"LUTIN!E87","v":0},{"$f":"LUTIN!A123","v":"   "},{"$f":"LUTIN!B122","v":0},{"$f":"LUTIN!C122","v":0},{"$f":"LUTIN!D123","v":0},{"$f":"LUTIN!E123","v":0}]
[{"$f":"LUTIN!A52","v":"X41   Y41"},{"$f":"LUTIN!B52","v":"X41"},{"$f":"LUTIN!C52","v":"Y41"},{"$f":"LUTIN!D52","v":"0011705"},{"$f":"LUTIN!E52","v":"ü"},{"$f":"LUTIN!A88","v":"X77   Y77"},{"$f":"LUTIN!B87","v":"X76"},{"$f":"LUTIN!C87","v":"Y76"},{"$f":"LUTIN!D88","v":"0016325"},{"$f":"LUTIN!E88","v":0},{"$f":"LUTIN!A124","v":""},{"$f":"LUTIN!B123","v":0},{"$f":"LUTIN!C123","v":0},{"$f":"LUTIN!D124","v":0},{"$f":"LUTIN!E124","v":0}]
[{"$f":"LUTIN!A53","v":"X42   Y42"},{"$f":"LUTIN!B53","v":"X42"},{"$f":"LUTIN!C53","v":"Y42"},{"$f":"LUTIN!D53","v":"0000327"},{"$f":"LUTIN!E53","v":"ü"},{"$f":"LUTIN!A89","v":"X78   Y78"},{"$f":"LUTIN!B88","v":"X77"},{"$f":"LUTIN!C88","v":"Y77"},{"$f":"LUTIN!D89","v":"0014425"},{"$f":"LUTIN!E89","v":0},{"$f":"LUTIN!A125","v":"CAp"},{"$f":"LUTIN!B124","v":0},{"$f":"LUTIN!C124","v":0},{"$f":"LUTIN!D125","v":0},{"$f":"LUTIN!E125","v":0}]
[{"$f":"LUTIN!A54","v":"X43   Y43"},{"$f":"LUTIN!B54","v":"X43"},{"$f":"LUTIN!C54","v":"Y43"},{"$f":"LUTIN!D54","v":"0011208"},{"$f":"LUTIN!E54","v":"ü"},{"$f":"LUTIN!A90","v":"X79   Y79"},{"$f":"LUTIN!B89","v":"X78"},{"$f":"LUTIN!C89","v":"Y78"},{"$f":"LUTIN!D90","v":"0000506"},{"$f":"LUTIN!E90","v":0},{"$f":"LUTIN!A126","v":"CAPE"},{"$f":"LUTIN!B125","v":0},{"$f":"LUTIN!C125","v":0},{"$f":"LUTIN!D126","v":0},{"$f":"LUTIN!E126","v":0}]
[{"$f":"LUTIN!A55","v":"X44   Y44"},{"$f":"LUTIN!B55","v":"X44"},{"$f":"LUTIN!C55","v":"Y44"},{"$f":"LUTIN!D55","v":"0000537"},{"$f":"LUTIN!E55","v":"ü"},{"$f":"LUTIN!A91","v":"X80   Y80"},{"$f":"LUTIN!B90","v":"X79"},{"$f":"LUTIN!C90","v":"Y79"},{"$f":"LUTIN!D91","v":"0010382"},{"$f":"LUTIN!E91","v":"ü"},{"$f":"LUTIN!#REF!","v":{"$error":"#REF!"}},{"$f":"LUTIN!B126","v":0},{"$f":"LUTIN!C126","v":0},{"$f":"LUTIN!#REF!","v":{"$error":"#REF!"}},{"$f":"LUTIN!#REF!","v":{"$error":"#REF!"}}]
[{"$f":"LUTIN!A56","v":"X45   Y45"},{"$f":"LUTIN!B56","v":"X45"},{"$f":"LUTIN!C56","v":"Y45"},{"$f":"LUTIN!D56","v":"0014952"},{"$f":"LUTIN!E56","v":0},{"$f":"LUTIN!A92","v":"X81   Y81"},{"$f":"LUTIN!B91","v":"X80"},{"$f":"LUTIN!C91","v":"Y80"},{"$f":"LUTIN!D92","v":"0000454"},{"$f":"LUTIN!E92","v":"ü"},{"$f":"LUTIN!#REF!","v":{"$error":"#REF!"}},{"$f":"LUTIN!#REF!","v":{"$error":"#REF!"}},{"$f":"LUTIN!#REF!","v":{"$error":"#REF!"}},{"$f":"LUTIN!#REF!","v":{"$error":"#REF!"}},{"$f":"LUTIN!#REF!","v":{"$error":"#REF!"}}]
["SDIS 57"]
[]
["SUIVI DU CENTRE DE SECOURS DE HAGONDANGE"]
[]
[]
[]
["PERMIS ",null,null,null,null,null,null,null,{"$f":"O139","v":"PL"}]
[]
[]
["NOM - PRENOM","NOM","PRENOM","MATRICULE",{"$f":"LUTIN!F11","v":"PL"},"NOM - PRENOM","NOM","PRENOM","MATRICULE",{"$f":"E139","v":"PL"},"NOM - PRENOM","NOM","PRENOM","MATRICULE",{"$f":"J139","v":"PL"}]
[]
[{"$f":"+LUTIN!A12","v":"X1   Y1"},{"$f":"+LUTIN!B12","v":"X1"},{"$f":"+LUTIN!C12","v":"Y1"},{"$f":"+LUTIN!D12","v":"0013041"},{"$f":"LUTIN!F12","v":0},{"$f":"LUTIN!A57","v":"X46   Y46"},{"$f":"LUTIN!B56","v":"X45"},{"$f":"LUTIN!C56","v":"Y45"},{"$f":"LUTIN!D57","v":"0012816"},{"$f":"LUTIN!F57","v":0},{"$f":"LUTIN!A93","v":"X82   Y82"},{"$f":"LUTIN!B92","v":"X81"},{"$f":"LUTIN!C92","v":"Y81"},{"$f":"LUTIN!D93","v":"0014794"},{"$f":"LUTIN!F93","v":0}]
[{"$f":"+LUTIN!A22","v":"X11   Y11"},{"$f":"+LUTIN!B22","v":"X11"},{"$f":"+LUTIN!C22","v":"Y11"},{"$f":"+LUTIN!D22","v":"0014707"},{"$f":"LUTIN!F22","v":0},{"$f":"LUTIN!A58","v":"X47   Y47"},{"$f":"LUTIN!B57","v":"X46"},{"$f":"LUTIN!C57","v":"Y46"},{"$f":"LUTIN!D58","v":"0000795"},{"$f":"LUTIN!F58","v":"ü"},{"$f":"LUTIN!A94","v":"X83   Y83"},{"$f":"LUTIN!B93","v":"X82"},{"$f":"LUTIN!C93","v":"Y82"},{"$f":"LUTIN!D94","v":"0014794"},{"$f":"LUTIN!F94","v":0}]
[{"$f":"+LUTIN!A23","v":"X12   Y12"},{"$f":"+LUTIN!B23","v":"X12"},{"$f":"+LUTIN!C23","v":"Y12"},{"$f":"+LUTIN!D23","v":"0004796"},{"$f":"LUTIN!F23","v":"ü"},{"$f":"LUTIN!A59","v":"X48   Y48"},{"$f":"LUTIN!B58","v":"X47"},{"$f":"LUTIN!C58","v":"Y47"},{"$f":"LUTIN!D59","v":"0000466"},{"$f":"LUTIN!F59","v":"ü"},{"$f":"LUTIN!A95","v":"X84   Y84"},{"$f":"LUTIN!B94","v":"X83"},{"$f":"LUTIN!C94","v":"Y83"},{"$f":"LUTIN!D95","v":"0014703"},{"$f":"LUTIN!F95","v":0}]
[{"$f":"+LUTIN!A24","v":"X13   Y13"},{"$f":"+LUTIN!B24","v":"X13"},{"$f":"+LUTIN!C24","v":"Y13"},{"$f":"+LUTIN!D24","v":"0011105"},{"$f":"LUTIN!F24","v":0},{"$f":"LUTIN!A60","v":"X49   Y49"},{"$f":"LUTIN!B59","v":"X48"},{"$f":"LUTIN!C59","v":"Y48"},{"$f":"LUTIN!D60","v":"0014390"},{"$f":"LUTIN!F60","v":0},{"$f":"LUTIN!A96","v":"X85   Y85"},{"$f":"LUTIN!B95","v":"X84"},{"$f":"LUTIN!C95","v":"Y84"},{"$f":"LUTIN!D96","v":"0014835"},{"$f":"LUTIN!F96","v":0}]
[{"$f":"+LUTIN!A25","v":"X14   Y14"},{"$f":"+LUTIN!B25","v":"X14"},{"$f":"+LUTIN!C25","v":"Y14"},{"$f":"+LUTIN!D25","v":"0012601"},{"$f":"LUTIN!F25","v":0},{"$f":"LUTIN!A61","v":"X50   Y50"},{"$f":"LUTIN!B60","v":"X49"},{"$f":"LUTIN!C60","v":"Y49"},{"$f":"LUTIN!D61","v":"0011106"},{"$f":"LUTIN!F61","v":0},{"$f":"LUTIN!A97","v":"X86   Y86"},{"$f":"LUTIN!B96","v":"X85"},{"$f":"LUTIN!C96","v":"Y85"},{"$f":"LUTIN!D97","v":"0002573"},{"$f":"LUTIN!F97","v":"ü"}]
[{"$f":"+LUTIN!A26","v":"X15   Y15"},{"$f":"+LUTIN!B26","v":"X15"},{"$f":"+LUTIN!C26","v":"Y15"},{"$f":"+LUTIN!D26","v":"0014518"},{"$f":"LUTIN!F26","v":0},{"$f":"LUTIN!A62","v":"X51   Y51"},{"$f":"LUTIN!B61","v":"X50"},{"$f":"LUTIN!C61","v":"Y50"},{"$f":"LUTIN!D62","v":""},{"$f":"LUTIN!F62","v":"ü"},{"$f":"LUTIN!A98","v":"X87   Y87"},{"$f":"LUTIN!B97","v":"X86"},{"$f":"LUTIN!C97","v":"Y86"},{"$f":"LUTIN!D98","v":""},{"$f":"LUTIN!F98","v":0}]
[{"$f":"+LUTIN!A27","v":"X16   Y16"},{"$f":"+LUTIN!B27","v":"X16"},{"$f":"+LUTIN!C27","v":"Y16"},{"$f":"+LUTIN!D27","v":"0000038"},{"$f":"LUTIN!F27","v":"ü"},{"$f":"LUTIN!A63","v":"X52   Y52"},{"$f":"LUTIN!B62","v":"X51"},{"$f":"LUTIN!C62","v":"Y51"},{"$f":"LUTIN!D63","v":"0011571"},{"$f":"LUTIN!F63","v":"ü"},{"$f":"LUTIN!A99","v":"X88   Y88"},{"$f":"LUTIN!B98","v":"X87"},{"$f":"LUTIN!C98","v":"Y87"},{"$f":"LUTIN!D99","v":"0012527"},{"$f":"LUTIN!F99","v":0}]
[{"$f":"+LUTIN!A28","v":"X17   Y17"},{"$f":"+LUTIN!B28","v":"X17"},{"$f":"+LUTIN!C28","v":"Y17"},{"$f":"+LUTIN!D28","v":""},{"$f":"LUTIN!F28","v":"ü"},{"$f":"LUTIN!A64","v":"X53   Y53"},{"$f":"LUTIN!B63","v":"X52"},{"$f":"LUTIN!C63","v":"Y52"},{"$f":"LUTIN!D64","v":"0015023"},{"$f":"LUTIN!F64","v":"ü"},{"$f":"LUTIN!A100","v":"X89   Y89"},{"$f":"LUTIN!B99","v":"X88"},{"$f":"LUTIN!C99","v":"Y88"},{"$f":"LUTIN!D100","v":"0012136"},{"$f":"LUTIN!F100","v":0}]
[{"$f":"+LUTIN!A29","v":"X18   Y18"},{"$f":"+LUTIN!B29","v":"X18"},{"$f":"+LUTIN!C29","v":"Y18"},{"$f":"+LUTIN!D29","v":"0008074"},{"$f":"LUTIN!F29","v":0},{"$f":"LUTIN!A65","v":"X54   Y54"},{"$f":"LUTIN!B64","v":"X53"},{"$f":"LUTIN!C64","v":"Y53"},{"$f":"LUTIN!D65","v":"0015026"},{"$f":"LUTIN!F65","v":"ü"},{"$f":"LUTIN!A101","v":"X90   Y90"},{"$f":"LUTIN!B100","v":"X89"},{"$f":"LUTIN!C100","v":"Y89"},{"$f":"LUTIN!D101","v":"0014453"},{"$f":"LUTIN!F101","v":0}]
[{"$f":"+LUTIN!A30","v":"X19   Y19"},{"$f":"+LUTIN!B30","v":"X19"},{"$f":"+LUTIN!C30","v":"Y19"},{"$f":"+LUTIN!D30","v":"0000606"},{"$f":"LUTIN!F30","v":"ü"},{"$f":"LUTIN!A66","v":"X55   Y55"},{"$f":"LUTIN!B65","v":"X54"},{"$f":"LUTIN!C65","v":"Y54"},{"$f":"LUTIN!D66","v":"0010882"},{"$f":"LUTIN!F66","v":0},{"$f":"LUTIN!A102","v":"X91   Y91"},{"$f":"LUTIN!B101","v":"X90"},{"$f":"LUTIN!C101","v":"Y90"},{"$f":"LUTIN!D102","v":"0011252"},{"$f":"LUTIN!F102","v":0}]
[{"$f":"+LUTIN!A31","v":"X20   Y20"},{"$f":"+LUTIN!B31","v":"X20"},{"$f":"+LUTIN!C31","v":"Y20"},{"$f":"+LUTIN!D31","v":"0016109"},{"$f":"LUTIN!F31","v":0},{"$f":"LUTIN!A67","v":"X56   Y56"},{"$f":"LUTIN!B66","v":"X55"},{"$f":"LUTIN!C66","v":"Y55"},{"$f":"LUTIN!D67","v":"0011559"},{"$f":"LUTIN!F67","v":"ü"},{"$f":"LUTIN!A103","v":"X92   Y92"},{"$f":"LUTIN!B102","v":"X91"},{"$f":"LUTIN!C102","v":"Y91"},{"$f":"LUTIN!D103","v":"0009459"},{"$f":"LUTIN!F103","v":"ü"}]
[{"$f":"+LUTIN!A32","v":"X21   Y21"},{"$f":"+LUTIN!B32","v":"X21"},{"$f":"+LUTIN!C32","v":"Y21"},{"$f":"+LUTIN!D32","v":"0000614"},{"$f":"LUTIN!F32","v":"ü"},{"$f":"LUTIN!A68","v":"X57   Y57"},{"$f":"LUTIN!B67","v":"X56"},{"$f":"LUTIN!C67","v":"Y56"},{"$f":"LUTIN!D68","v":"0000237"},{"$f":"LUTIN!F68","v":"ü"},{"$f":"LUTIN!A104","v":"X93   Y93"},{"$f":"LUTIN!B103","v":"X92"},{"$f":"LUTIN!C103","v":"Y92"},{"$f":"LUTIN!D104","v":"0000504"},{"$f":"LUTIN!F104","v":"ü"}]
[{"$f":"+LUTIN!A33","v":"X22   Y22"},{"$f":"+LUTIN!B33","v":"X22"},{"$f":"+LUTIN!C33","v":"Y22"},{"$f":"+LUTIN!D33","v":"0001089"},{"$f":"LUTIN!F33","v":"ü"},{"$f":"LUTIN!A69","v":"X58   Y58"},{"$f":"LUTIN!B68","v":"X57"},{"$f":"LUTIN!C68","v":"Y57"},{"$f":"LUTIN!D69","v":"0000238"},{"$f":"LUTIN!F69","v":"ü"},{"$f":"LUTIN!A105","v":"X94   Y94"},{"$f":"LUTIN!B104","v":"X93"},{"$f":"LUTIN!C104","v":"Y93"},{"$f":"LUTIN!D105","v":"0014810"},{"$f":"LUTIN!F105","v":0}]
[{"$f":"+LUTIN!A34","v":"X23   Y23"},{"$f":"+LUTIN!B34","v":"X23"},{"$f":"+LUTIN!C34","v":"Y23"},{"$f":"+LUTIN!D34","v":"0012666"},{"$f":"LUTIN!F34","v":0},{"$f":"LUTIN!A70","v":"X59   Y59"},{"$f":"LUTIN!B69","v":"X58"},{"$f":"LUTIN!C69","v":"Y58"},{"$f":"LUTIN!D70","v":"0011720"},{"$f":"LUTIN!F70","v":"ü"},{"$f":"LUTIN!A106","v":"X95   Y95"},{"$f":"LUTIN!B105","v":"X94"},{"$f":"LUTIN!C105","v":"Y94"},{"$f":"LUTIN!D106","v":"0000000"},{"$f":"LUTIN!F106","v":0}]
[{"$f":"+LUTIN!A35","v":"X24   Y24"},{"$f":"+LUTIN!B35","v":"X24"},{"$f":"+LUTIN!C35","v":"Y24"},{"$f":"+LUTIN!D35","v":"0004976"},{"$f":"LUTIN!F35","v":"ü"},{"$f":"LUTIN!A71","v":"X60   Y60"},{"$f":"LUTIN!B70","v":"X59"},{"$f":"LUTIN!C70","v":"Y59"},{"$f":"LUTIN!D71","v":"0009978"},{"$f":"LUTIN!F71","v":0},{"$f":"LUTIN!A107","v":"X96   Y96"},{"$f":"LUTIN!B106","v":"X95"},{"$f":"LUTIN!C106","v":"Y95"},{"$f":"LUTIN!D107","v":"0011904"},{"$f":"LUTIN!F107","v":"ü"}]
[{"$f":"+LUTIN!A36","v":"X25   Y25"},{"$f":"+LUTIN!B36","v":"X25"},{"$f":"+LUTIN!C36","v":"Y25"},{"$f":"+LUTIN!D36","v":"0013001"},{"$f":"LUTIN!F36","v":0},{"$f":"LUTIN!A72","v":"X61   Y61"},{"$f":"LUTIN!B71","v":"X60"},{"$f":"LUTIN!C71","v":"Y60"},{"$f":"LUTIN!D72","v":"0000328"},{"$f":"LUTIN!F72","v":"ü"},{"$f":"LUTIN!A108","v":"   "},{"$f":"LUTIN!B107","v":"X96"},{"$f":"LUTIN!C107","v":"Y96"},{"$f":"LUTIN!D108","v":0},{"$f":"LUTIN!F108","v":0}]
[{"$f":"+LUTIN!A37","v":"X26   Y26"},{"$f":"+LUTIN!B37","v":"X26"},{"$f":"+LUTIN!C37","v":"Y26"},{"$f":"+LUTIN!D37","v":"0014372"},{"$f":"LUTIN!F37","v":0},{"$f":"LUTIN!A73","v":"X62   Y62"},{"$f":"LUTIN!B72","v":"X61"},{"$f":"LUTIN!C72","v":"Y61"},{"$f":"LUTIN!D73","v":"0009808"},{"$f":"LUTIN!F73","v":0},{"$f":"LUTIN!A109","v":0},{"$f":"LUTIN!B108","v":0},{"$f":"LUTIN!C108","v":0},{"$f":"LUTIN!D109","v":0},{"$f":"LUTIN!F109","v":0}]
[{"$f":"+LUTIN!A38","v":"X27   Y27"},{"$f":"+LUTIN!B38","v":"X27"},{"$f":"+LUTIN!C38","v":"Y27"},{"$f":"+LUTIN!D38","v":"0011908"},{"$f":"LUTIN!F38","v":0},{"$f":"LUTIN!A74","v":"X63   Y63"},{"$f":"LUTIN!B73","v":"X62"},{"$f":"LUTIN!C73","v":"Y62"},{"$f":"LUTIN!D74","v":"0000798"},{"$f":"LUTIN!F74","v":"ü"},{"$f":"LUTIN!A110","v":0},{"$f":"LUTIN!B109","v":0},{"$f":"LUTIN!C109","v":0},{"$f":"LUTIN!D110","v":0},{"$f":"LUTIN!F110","v":0}]
[{"$f":"+LUTIN!A39","v":"X28   Y28"},{"$f":"+LUTIN!B39","v":"X28"},{"$f":"+LUTIN!C39","v":"Y28"},{"$f":"+LUTIN!D39","v":"0000722"},{"$f":"LUTIN!F39","v":"ü"},{"$f":"LUTIN!A75","v":"X64   Y64"},{"$f":"LUTIN!B74","v":"X63"},{"$f":"LUTIN!C74","v":"Y63"},{"$f":"LUTIN!D75","v":"0000329"},{"$f":"LUTIN!F75","v":"ü"},{"$f":"LUTIN!A111","v":0},{"$f":"LUTIN!B110","v":0},{"$f":"LUTIN!C110","v":0},{"$f":"LUTIN!D111","v":0},{"$f":"LUTIN!F111","v":0}]
[{"$f":"+LUTIN!A40","v":"X29   Y29"},{"$f":"+LUTIN!B40","v":"X29"},{"$f":"+LUTIN!C40","v":"Y29"},{"$f":"+LUTIN!D40","v":"0014130"},{"$f":"LUTIN!F40","v":"ü"},{"$f":"LUTIN!A76","v":"X65   Y65"},{"$f":"LUTIN!B75","v":"X64"},{"$f":"LUTIN!C75","v":"Y64"},{"$f":"LUTIN!D76","v":"0016166"},{"$f":"LUTIN!F76","v":0},{"$f":"LUTIN!A112","v":0},{"$f":"LUTIN!B111","v":0},{"$f":"LUTIN!C111","v":0},{"$f":"LUTIN!D112","v":0},{"$f":"LUTIN!F112","v":0}]
[{"$f":"+LUTIN!A41","v":"X30   Y30"},{"$f":"+LUTIN!B41","v":"X30"},{"$f":"+LUTIN!C41","v":"Y30"},{"$f":"+LUTIN!D41","v":"0004807"},{"$f":"LUTIN!F41","v":0},{"$f":"LUTIN!A77","v":"X66   Y66"},{"$f":"LUTIN!B76","v":"X65"},{"$f":"LUTIN!C76","v":"Y65"},{"$f":"LUTIN!D77","v":"0000698"},{"$f":"LUTIN!F77","v":"ü"},{"$f":"LUTIN!A113","v":0},{"$f":"LUTIN!B112","v":0},{"$f":"LUTIN!C112","v":0},{"$f":"LUTIN!D113","v":0},{"$f":"LUTIN!F113","v":0}]
[{"$f":"+LUTIN!A42","v":"X31   Y31"},{"$f":"+LUTIN!B42","v":"X31"},{"$f":"+LUTIN!C42","v":"Y31"},{"$f":"+LUTIN!D42","v":"0011270"},{"$f":"LUTIN!F42","v":0},{"$f":"LUTIN!A78","v":"X67   Y67"},{"$f":"LUTIN!B77","v":"X66"},{"$f":"LUTIN!C77","v":"Y66"},{"$f":"LUTIN!D78","v":"0016329"},{"$f":"LUTIN!F78","v":"ü"},{"$f":"LUTIN!A114","v":0},{"$f":"LUTIN!B113","v":0},{"$f":"LUTIN!C113","v":0},{"$f":"LUTIN!D114","v":0},{"$f":"LUTIN!F114","v":0}]
[{"$f":"+LUTIN!A43","v":"X32   Y32"},{"$f":"+LUTIN!B43","v":"X32"},{"$f":"+LUTIN!C43","v":"Y32"},{"$f":"+LUTIN!D43","v":"0016352"},{"$f":"LUTIN!F43","v":0},{"$f":"LUTIN!A79","v":"X68   Y68"},{"$f":"LUTIN!B78","v":"X67"},{"$f":"LUTIN!C78","v":"Y67"},{"$f":"LUTIN!D79","v":"0000650"},{"$f":"LUTIN!F79","v":"ü"},{"$f":"LUTIN!A115","v":"   "},{"$f":"LUTIN!B114","v":0},{"$f":"LUTIN!C114","v":0},{"$f":"LUTIN!D115","v":""},{"$f":"LUTIN!F115","v":0}]
[{"$f":"+LUTIN!A44","v":"X33   Y33"},{"$f":"+LUTIN!B44","v":"X33"},{"$f":"+LUTIN!C44","v":"Y33"},{"$f":"+LUTIN!D44","v":"0011906"},{"$f":"LUTIN!F44","v":0},{"$f":"LUTIN!A80","v":"X69   Y69"},{"$f":"LUTIN!B79","v":"X68"},{"$f":"LUTIN!C79","v":"Y68"},{"$f":"LUTIN!D80","v":"0000518"},{"$f":"LUTIN!F80","v":"ü"},{"$f":"LUTIN!A116","v":"   "},{"$f":"LUTIN!B115","v":0},{"$f":"LUTIN!C115","v":0},{"$f":"LUTIN!D116","v":0},{"$f":"LUTIN!F116","v":0}]
[{"$f":"+LUTIN!A45","v":"X34   Y34"},{"$f":"+LUTIN!B45","v":"X34"},{"$f":"+LUTIN!C45","v":"Y34"},{"$f":"+LUTIN!D45","v":"0014857"},{"$f":"LUTIN!F45","v":0},{"$f":"LUTIN!A81","v":"X70   Y70"},{"$f":"LUTIN!B80","v":"X69"},{"$f":"LUTIN!C80","v":"Y69"},{"$f":"LUTIN!D81","v":"0011907"},{"$f":"LUTIN!F81","v":"ü"},{"$f":"LUTIN!A117","v":"   "},{"$f":"LUTIN!B116","v":0},{"$f":"LUTIN!C116","v":0},{"$f":"LUTIN!D117","v":0},{"$f":"LUTIN!F117","v":0}]
[{"$f":"+LUTIN!A46","v":"X35   Y35"},{"$f":"+LUTIN!B46","v":"X35"},{"$f":"+LUTIN!C46","v":"Y35"},{"$f":"+LUTIN!D46","v":"0011905"},{"$f":"LUTIN!F46","v":0},{"$f":"LUTIN!A82","v":"X71   Y71"},{"$f":"LUTIN!B81","v":"X70"},{"$f":"LUTIN!C81","v":"Y70"},{"$f":"LUTIN!D82","v":"0010677"},{"$f":"LUTIN!F82","v":0},{"$f":"LUTIN!A118","v":"   "},{"$f":"LUTIN!B117","v":0},{"$f":"LUTIN!C117","v":0},{"$f":"LUTIN!D118","v":0},{"$f":"LUTIN!F118","v":0}]
[{"$f":"+LUTIN!A47","v":"X36   Y36"},{"$f":"+LUTIN!B47","v":"X36"},{"$f":"+LUTIN!C47","v":"Y36"},{"$f":"+LUTIN!D47","v":"0000507"},{"$f":"LUTIN!F47","v":"ü"},{"$f":"LUTIN!A83","v":"X72   Y72"},{"$f":"LUTIN!B82","v":"X71"},{"$f":"LUTIN!C82","v":"Y71"},{"$f":"LUTIN!D83","v":"0016231"},{"$f":"LUTIN!F83","v":0},{"$f":"LUTIN!A119","v":"   "},{"$f":"LUTIN!B118","v":0},{"$f":"LUTIN!C118","v":0},{"$f":"LUTIN!D119","v":0},{"$f":"LUTIN!F119","v":0}]
[{"$f":"+LUTIN!A48","v":"X37   Y37"},{"$f":"+LUTIN!B48","v":"X37"},{"$f":"+LUTIN!C48","v":"Y37"},{"$f":"+LUTIN!D48","v":"0014854"},{"$f":"LUTIN!F48","v":0},{"$f":"LUTIN!A84","v":"X73   Y73"},{"$f":"LUTIN!B83","v":"X72"},{"$f":"LUTIN!C83","v":"Y72"},{"$f":"LUTIN!D84","v":"0010207"},{"$f":"LUTIN!F84","v":"ü"},{"$f":"LUTIN!A120","v":"   "},{"$f":"LUTIN!B119","v":0},{"$f":"LUTIN!C119","v":0},{"$f":"LUTIN!D120","v":0},{"$f":"LUTIN!F120","v":0}]
[{"$f":"+LUTIN!A49","v":"X38   Y38"},{"$f":"+LUTIN!B49","v":"X38"},{"$f":"+LUTIN!C49","v":"Y38"},{"$f":"+LUTIN!D49","v":"0001003"},{"$f":"LUTIN!F49","v":"ü"},{"$f":"LUTIN!A85","v":"X74   Y74"},{"$f":"LUTIN!B84","v":"X73"},{"$f":"LUTIN!C84","v":"Y73"},{"$f":"LUTIN!D85","v":"0012437"},{"$f":"LUTIN!F85","v":"ü"},{"$f":"LUTIN!A121","v":"   "},{"$f":"LUTIN!B120","v":0},{"$f":"LUTIN!C120","v":0},{"$f":"LUTIN!D121","v":0},{"$f":"LUTIN!F121","v":0}]
[{"$f":"+LUTIN!A50","v":"X39   Y39"},{"$f":"+LUTIN!B50","v":"X39"},{"$f":"+LUTIN!C50","v":"Y39"},{"$f":"+LUTIN!D50","v":"0014541"},{"$f":"LUTIN!F50","v":0},{"$f":"LUTIN!A86","v":"X75   Y75"},{"$f":"LUTIN!B85","v":"X74"},{"$f":"LUTIN!C85","v":"Y74"},{"$f":"LUTIN!D86","v":"0000734"},{"$f":"LUTIN!F86","v":"ü"},{"$f":"LUTIN!A122","v":"   "},{"$f":"LUTIN!B121","v":0},{"$f":"LUTIN!C121","v":0},{"$f":"LUTIN!D122","v":0},{"$f":"LUTIN!F122","v":0}]
[{"$f":"+LUTIN!A51","v":"X40   Y40"},{"$f":"+LUTIN!B51","v":"X40"},{"$f":"+LUTIN!C51","v":"Y40"},{"$f":"+LUTIN!D51","v":"0000635"},{"$f":"LUTIN!F51","v":"ü"},{"$f":"LUTIN!A87","v":"X76   Y76"},{"$f":"LUTIN!B86","v":"X75"},{"$f":"LUTIN!C86","v":"Y75"},{"$f":"LUTIN!D87","v":"0014858"},{"$f":"LUTIN!F87","v":0},{"$f":"LUTIN!A123","v":"   "},{"$f":"LUTIN!B122","v":0},{"$f":"LUTIN!C122","v":0},{"$f":"LUTIN!D123","v":0},{"$f":"LUTIN!F123","v":0}]
[{"$f":"+LUTIN!A52","v":"X41   Y41"},{"$f":"+LUTIN!B52","v":"X41"},{"$f":"+LUTIN!C52","v":"Y41"},{"$f":"+LUTIN!D52","v":"0011705"},{"$f":"LUTIN!F52","v":"ü"},{"$f":"LUTIN!A88","v":"X77   Y77"},{"$f":"LUTIN!B87","v":"X76"},{"$f":"LUTIN!C87","v":"Y76"},{"$f":"LUTIN!D88","v":"0016325"},{"$f":"LUTIN!F88","v":0},{"$f":"LUTIN!A124","v":""},{"$f":"LUTIN!B123","v":0},{"$f":"LUTIN!C123","v":0},{"$f":"LUTIN!D124","v":0},{"$f":"LUTIN!F124","v":0}]
[{"$f":"+LUTIN!A53","v":"X42   Y42"},{"$f":"+LUTIN!B53","v":"X42"},{"$f":"+LUTIN!C53","v":"Y42"},{"$f":"+LUTIN!D53","v":"0000327"},{"$f":"LUTIN!F53","v":"ü"},{"$f":"LUTIN!A89","v":"X78   Y78"},{"$f":"LUTIN!B88","v":"X77"},{"$f":"LUTIN!C88","v":"Y77"},{"$f":"LUTIN!D89","v":"0014425"},{"$f":"LUTIN!F89","v":0},{"$f":"LUTIN!A125","v":"CAp"},{"$f":"LUTIN!B124","v":0},{"$f":"LUTIN!C124","v":0},{"$f":"LUTIN!D125","v":0},{"$f":"LUTIN!F125","v":0}]
[{"$f":"+LUTIN!A54","v":"X43   Y43"},{"$f":"+LUTIN!B54","v":"X43"},{"$f":"+LUTIN!C54","v":"Y43"},{"$f":"+LUTIN!D54","v":"0011208"},{"$f":"LUTIN!F54","v":0},{"$f":"LUTIN!A90","v":"X79   Y79"},{"$f":"LUTIN!B89","v":"X78"},{"$f":"LUTIN!C89","v":"Y78"},{"$f":"LUTIN!D90","v":"0000506"},{"$f":"LUTIN!F90","v":0},{"$f":"LUTIN!A126","v":"CAPE"},{"$f":"LUTIN!B125","v":0},{"$f":"LUTIN!C125","v":0},{"$f":"LUTIN!D126","v":0},{"$f":"LUTIN!F126","v":0}]
[{"$f":"+LUTIN!A55","v":"X44   Y44"},{"$f":"+LUTIN!B55","v":"X44"},{"$f":"+LUTIN!C55","v":"Y44"},{"$f":"+LUTIN!D55","v":"0000537"},{"$f":"LUTIN!F55","v":"ü"},{"$f":"LUTIN!A91","v":"X80   Y80"},{"$f":"LUTIN!B90","v":"X79"},{"$f":"LUTIN!C90","v":"Y79"},{"$f":"LUTIN!D91","v":"0010382"},{"$f":"LUTIN!F91","v":0},{"$f":"LUTIN!#REF!","v":{"$error":"#REF!"}},{"$f":"LUTIN!B126","v":0},{"$f":"LUTIN!C126","v":0},{"$f":"LUTIN!#REF!","v":{"$error":"#REF!"}},{"$f":"LUTIN!#REF!","v":{"$error":"#REF!"}}]
[{"$f":"+LUTIN!A56","v":"X45   Y45"},{"$f":"+LUTIN!B56","v":"X45"},{"$f":"+LUTIN!C56","v":"Y45"},{"$f":"+LUTIN!D56","v":"0014952"},{"$f":"LUTIN!F56","v":0},{"$f":"LUTIN!A92","v":"X81   Y81"},{"$f":"LUTIN!B91","v":"X80"},{"$f":"LUTIN!C91","v":"Y80"},{"$f":"LUTIN!D92","v":"0000454"},{"$f":"LUTIN!F92","v":"ü"},{"$f":"LUTIN!#REF!","v":{"$error":"#REF!"}},{"$f":"LUTIN!#REF!","v":{"$error":"#REF!"}},{"$f":"LUTIN!#REF!","v":{"$error":"#REF!"}},{"$f":"LUTIN!#REF!","v":{"$error":"#REF!"}},{"$f":"LUTIN!#REF!","v":{"$error":"#REF!"}}]
["SDIS 57"]
[]
["SUIVI DU CENTRE DE SECOURS DE HAGONDANGE"]
[]
[]
[]
["PERMIS ",null,null,null,null,null,null,null,{"$f":"O186","v":"COD 2"}]
[]
[]
["NOM - PRENOM","NOM","PRENOM","MATRICULE",{"$f":"LUTIN!G11","v":"COD 2"},"NOM - PRENOM","NOM","PRENOM","MATRICULE",{"$f":"E186","v":"COD 2"},"NOM - PRENOM","NOM","PRENOM","MATRICULE",{"$f":"J186","v":"COD 2"}]
[]
[{"$f":"LUTIN!A12","v":"X1   Y1"},{"$f":"LUTIN!B12","v":"X1"},{"$f":"LUTIN!C12","v":"Y1"},{"$f":"LUTIN!D12","v":"0013041"},{"$f":"LUTIN!G12","v":0},{"$f":"LUTIN!A57","v":"X46   Y46"},{"$f":"LUTIN!B56","v":"X45"},{"$f":"LUTIN!C56","v":"Y45"},{"$f":"LUTIN!D57","v":"0012816"},{"$f":"LUTIN!G57","v":0},{"$f":"LUTIN!A93","v":"X82   Y82"},{"$f":"LUTIN!B92","v":"X81"},{"$f":"LUTIN!C92","v":"Y81"},{"$f":"LUTIN!D93","v":"0014794"},{"$f":"LUTIN!G93","v":0}]
[{"$f":"LUTIN!A22","v":"X11   Y11"},{"$f":"LUTIN!B22","v":"X11"},{"$f":"LUTIN!C22","v":"Y11"},{"$f":"LUTIN!D22","v":"0014707"},{"$f":"LUTIN!G22","v":0},{"$f":"LUTIN!A58","v":"X47   Y47"},{"$f":"LUTIN!B57","v":"X46"},{"$f":"LUTIN!C57","v":"Y46"},{"$f":"LUTIN!D58","v":"0000795"},{"$f":"LUTIN!G58","v":0},{"$f":"LUTIN!A94","v":"X83   Y83"},{"$f":"LUTIN!B93","v":"X82"},{"$f":"LUTIN!C93","v":"Y82"},{"$f":"LUTIN!D94","v":"0014794"},{"$f":"LUTIN!G94","v":0}]
[{"$f":"LUTIN!A23","v":"X12   Y12"},{"$f":"LUTIN!B23","v":"X12"},{"$f":"LUTIN!C23","v":"Y12"},{"$f":"LUTIN!D23","v":"0004796"},{"$f":"LUTIN!G23","v":0},{"$f":"LUTIN!A59","v":"X48   Y48"},{"$f":"LUTIN!B58","v":"X47"},{"$f":"LUTIN!C58","v":"Y47"},{"$f":"LUTIN!D59","v":"0000466"},{"$f":"LUTIN!G59","v":0},{"$f":"LUTIN!A95","v":"X84   Y84"},{"$f":"LUTIN!B94","v":"X83"},{"$f":"LUTIN!C94","v":"Y83"},{"$f":"LUTIN!D95","v":"0014703"},{"$f":"LUTIN!G95","v":0}]
[{"$f":"LUTIN!A24","v":"X13   Y13"},{"$f":"LUTIN!B24","v":"X13"},{"$f":"LUTIN!C24","v":"Y13"},{"$f":"LUTIN!D24","v":"0011105"},{"$f":"LUTIN!G24","v":0},{"$f":"LUTIN!A60","v":"X49   Y49"},{"$f":"LUTIN!B59","v":"X48"},{"$f":"LUTIN!C59","v":"Y48"},{"$f":"LUTIN!D60","v":"0014390"},{"$f":"LUTIN!G60","v":0},{"$f":"LUTIN!A96","v":"X85   Y85"},{"$f":"LUTIN!B95","v":"X84"},{"$f":"LUTIN!C95","v":"Y84"},{"$f":"LUTIN!D96","v":"0014835"},{"$f":"LUTIN!G96","v":0}]
[{"$f":"LUTIN!A25","v":"X14   Y14"},{"$f":"LUTIN!B25","v":"X14"},{"$f":"LUTIN!C25","v":"Y14"},{"$f":"LUTIN!D25","v":"0012601"},{"$f":"LUTIN!G25","v":0},{"$f":"LUTIN!A61","v":"X50   Y50"},{"$f":"LUTIN!B60","v":"X49"},{"$f":"LUTIN!C60","v":"Y49"},{"$f":"LUTIN!D61","v":"0011106"},{"$f":"LUTIN!G61","v":0},{"$f":"LUTIN!A97","v":"X86   Y86"},{"$f":"LUTIN!B96","v":"X85"},{"$f":"LUTIN!C96","v":"Y85"},{"$f":"LUTIN!D97","v":"0002573"},{"$f":"LUTIN!G97","v":"ü"}]
[{"$f":"LUTIN!A26","v":"X15   Y15"},{"$f":"LUTIN!B26","v":"X15"},{"$f":"LUTIN!C26","v":"Y15"},{"$f":"LUTIN!D26","v":"0014518"},{"$f":"LUTIN!G26","v":0},{"$f":"LUTIN!A62","v":"X51   Y51"},{"$f":"LUTIN!B61","v":"X50"},{"$f":"LUTIN!C61","v":"Y50"},{"$f":"LUTIN!D62","v":""},{"$f":"LUTIN!G62","v":0},{"$f":"LUTIN!A98","v":"X87   Y87"},{"$f":"LUTIN!B97","v":"X86"},{"$f":"LUTIN!C97","v":"Y86"},{"$f":"LUTIN!D98","v":""},{"$f":"LUTIN!G98","v":0}]
[{"$f":"LUTIN!A27","v":"X16   Y16"},{"$f":"LUTIN!B27","v":"X16"},{"$f":"LUTIN!C27","v":"Y16"},{"$f":"LUTIN!D27","v":"0000038"},{"$f":"LUTIN!G27","v":"ü"},{"$f":"LUTIN!A63","v":"X52   Y52"},{"$f":"LUTIN!B62","v":"X51"},{"$f":"LUTIN!C62","v":"Y51"},{"$f":"LUTIN!D63","v":"0011571"},{"$f":"LUTIN!G63","v":0},{"$f":"LUTIN!A99","v":"X88   Y88"},{"$f":"LUTIN!B98","v":"X87"},{"$f":"LUTIN!C98","v":"Y87"},{"$f":"LUTIN!D99","v":"0012527"},{"$f":"LUTIN!G99","v":0}]
[{"$f":"LUTIN!A28","v":"X17   Y17"},{"$f":"LUTIN!B28","v":"X17"},{"$f":"LUTIN!C28","v":"Y17"},{"$f":"LUTIN!D28","v":""},{"$f":"LUTIN!G28","v":0},{"$f":"LUTIN!A64","v":"X53   Y53"},{"$f":"LUTIN!B63","v":"X52"},{"$f":"LUTIN!C63","v":"Y52"},{"$f":"LUTIN!D64","v":"0015023"},{"$f":"LUTIN!G64","v":"ü"},{"$f":"LUTIN!A100","v":"X89   Y89"},{"$f":"LUTIN!B99","v":"X88"},{"$f":"LUTIN!C99","v":"Y88"},{"$f":"LUTIN!D100","v":"0012136"},{"$f":"LUTIN!G100","v":0}]
[{"$f":"LUTIN!A29","v":"X18   Y18"},{"$f":"LUTIN!B29","v":"X18"},{"$f":"LUTIN!C29","v":"Y18"},{"$f":"LUTIN!D29","v":"0008074"},{"$f":"LUTIN!G29","v":0},{"$f":"LUTIN!A65","v":"X54   Y54"},{"$f":"LUTIN!B64","v":"X53"},{"$f":"LUTIN!C64","v":"Y53"},{"$f":"LUTIN!D65","v":"0015026"},{"$f":"LUTIN!G65","v":"ü"},{"$f":"LUTIN!A101","v":"X90   Y90"},{"$f":"LUTIN!B100","v":"X89"},{"$f":"LUTIN!C100","v":"Y89"},{"$f":"LUTIN!D101","v":"0014453"},{"$f":"LUTIN!G101","v":0}]
[{"$f":"LUTIN!A30","v":"X19   Y19"},{"$f":"LUTIN!B30","v":"X19"},{"$f":"LUTIN!C30","v":"Y19"},{"$f":"LUTIN!D30","v":"0000606"},{"$f":"LUTIN!G30","v":"ü"},{"$f":"LUTIN!A66","v":"X55   Y55"},{"$f":"LUTIN!B65","v":"X54"},{"$f":"LUTIN!C65","v":"Y54"},{"$f":"LUTIN!D66","v":"0010882"},{"$f":"LUTIN!G66","v":0},{"$f":"LUTIN!A102","v":"X91   Y91"},{"$f":"LUTIN!B101","v":"X90"},{"$f":"LUTIN!C101","v":"Y90"},{"$f":"LUTIN!D102","v":"0011252"},{"$f":"LUTIN!G102","v":0}]
[{"$f":"LUTIN!A31","v":"X20   Y20"},{"$f":"LUTIN!B31","v":"X20"},{"$f":"LUTIN!C31","v":"Y20"},{"$f":"LUTIN!D31","v":"0016109"},{"$f":"LUTIN!G31","v":0},{"$f":"LUTIN!A67","v":"X56   Y56"},{"$f":"LUTIN!B66","v":"X55"},{"$f":"LUTIN!C66","v":"Y55"},{"$f":"LUTIN!D67","v":"0011559"},{"$f":"LUTIN!G67","v":0},{"$f":"LUTIN!A103","v":"X92   Y92"},{"$f":"LUTIN!B102","v":"X91"},{"$f":"LUTIN!C102","v":"Y91"},{"$f":"LUTIN!D103","v":"0009459"},{"$f":"LUTIN!G103","v":0}]
[{"$f":"LUTIN!A32","v":"X21   Y21"},{"$f":"LUTIN!B32","v":"X21"},{"$f":"LUTIN!C32","v":"Y21"},{"$f":"LUTIN!D32","v":"0000614"},{"$f":"LUTIN!G32","v":"ü"},{"$f":"LUTIN!A68","v":"X57   Y57"},{"$f":"LUTIN!B67","v":"X56"},{"$f":"LUTIN!C67","v":"Y56"},{"$f":"LUTIN!D68","v":"0000237"},{"$f":"LUTIN!G68","v":0},{"$f":"LUTIN!A104","v":"X93   Y93"},{"$f":"LUTIN!B103","v":"X92"},{"$f":"LUTIN!C103","v":"Y92"},{"$f":"LUTIN!D104","v":"0000504"},{"$f":"LUTIN!G104","v":"ü"}]
[{"$f":"LUTIN!A33","v":"X22   Y22"},{"$f":"LUTIN!B33","v":"X22"},{"$f":"LUTIN!C33","v":"Y22"},{"$f":"LUTIN!D33","v":"0001089"},{"$f":"LUTIN!G33","v":0},{"$f":"LUTIN!A69","v":"X58   Y58"},{"$f":"LUTIN!B68","v":"X57"},{"$f":"LUTIN!C68","v":"Y57"},{"$f":"LUTIN!D69","v":"0000238"},{"$f":"LUTIN!G69","v":"ü"},{"$f":"LUTIN!A105","v":"X94   Y94"},{"$f":"LUTIN!B104","v":"X93"},{"$f":"LUTIN!C104","v":"Y93"},{"$f":"LUTIN!D105","v":"0014810"},{"$f":"LUTIN!G105","v":0}]
[{"$f":"LUTIN!A34","v":"X23   Y23"},{"$f":"LUTIN!B34","v":"X23"},{"$f":"LUTIN!C34","v":"Y23"},{"$f":"LUTIN!D34","v":"0012666"},{"$f":"LUTIN!G34","v":0},{"$f":"LUTIN!A70","v":"X59   Y59"},{"$f":"LUTIN!B69","v":"X58"},{"$f":"LUTIN!C69","v":"Y58"},{"$f":"LUTIN!D70","v":"0011720"},{"$f":"LUTIN!G70","v":0},{"$f":"LUTIN!A106","v":"X95   Y95"},{"$f":"LUTIN!B105","v":"X94"},{"$f":"LUTIN!C105","v":"Y94"},{"$f":"LUTIN!D106","v":"0000000"},{"$f":"LUTIN!G106","v":0}]
[{"$f":"LUTIN!A35","v":"X24   Y24"},{"$f":"LUTIN!B35","v":"X24"},{"$f":"LUTIN!C35","v":"Y24"},{"$f":"LUTIN!D35","v":"0004976"},{"$f":"LUTIN!G35","v":0},{"$f":"LUTIN!A71","v":"X60   Y60"},{"$f":"LUTIN!B70","v":"X59"},{"$f":"LUTIN!C70","v":"Y59"},{"$f":"LUTIN!D71","v":"0009978"},{"$f":"LUTIN!G71","v":0},{"$f":"LUTIN!A107","v":"X96   Y96"},{"$f":"LUTIN!B106","v":"X95"},{"$f":"LUTIN!C106","v":"Y95"},{"$f":"LUTIN!D107","v":"0011904"},{"$f":"LUTIN!G107","v":0}]
[{"$f":"LUTIN!A36","v":"X25   Y25"},{"$f":"LUTIN!B36","v":"X25"},{"$f":"LUTIN!C36","v":"Y25"},{"$f":"LUTIN!D36","v":"0013001"},{"$f":"LUTIN!G36","v":0},{"$f":"LUTIN!A72","v":"X61   Y61"},{"$f":"LUTIN!B71","v":"X60"},{"$f":"LUTIN!C71","v":"Y60"},{"$f":"LUTIN!D72","v":"0000328"},{"$f":"LUTIN!G72","v":"ü"},{"$f":"LUTIN!A108","v":"   "},{"$f":"LUTIN!B107","v":"X96"},{"$f":"LUTIN!C107","v":"Y96"},{"$f":"LUTIN!D108","v":0},{"$f":"LUTIN!G108","v":0}]
[{"$f":"LUTIN!A37","v":"X26   Y26"},{"$f":"LUTIN!B37","v":"X26"},{"$f":"LUTIN!C37","v":"Y26"},{"$f":"LUTIN!D37","v":"0014372"},{"$f":"LUTIN!G37","v":0},{"$f":"LUTIN!A73","v":"X62   Y62"},{"$f":"LUTIN!B72","v":"X61"},{"$f":"LUTIN!C72","v":"Y61"},{"$f":"LUTIN!D73","v":"0009808"},{"$f":"LUTIN!G73","v":0},{"$f":"LUTIN!A109","v":0},{"$f":"LUTIN!B108","v":0},{"$f":"LUTIN!C108","v":0},{"$f":"LUTIN!D109","v":0},{"$f":"LUTIN!G109","v":0}]
[{"$f":"LUTIN!A38","v":"X27   Y27"},{"$f":"LUTIN!B38","v":"X27"},{"$f":"LUTIN!C38","v":"Y27"},{"$f":"LUTIN!D38","v":"0011908"},{"$f":"LUTIN!G38","v":0},{"$f":"LUTIN!A74","v":"X63   Y63"},{"$f":"LUTIN!B73","v":"X62"},{"$f":"LUTIN!C73","v":"Y62"},{"$f":"LUTIN!D74","v":"0000798"},{"$f":"LUTIN!G74","v":0},{"$f":"LUTIN!A110","v":0},{"$f":"LUTIN!B109","v":0},{"$f":"LUTIN!C109","v":0},{"$f":"LUTIN!D110","v":0},{"$f":"LUTIN!G110","v":0}]
[{"$f":"LUTIN!A39","v":"X28   Y28"},{"$f":"LUTIN!B39","v":"X28"},{"$f":"LUTIN!C39","v":"Y28"},{"$f":"LUTIN!D39","v":"0000722"},{"$f":"LUTIN!G39","v":0},{"$f":"LUTIN!A75","v":"X64   Y64"},{"$f":"LUTIN!B74","v":"X63"},{"$f":"LUTIN!C74","v":"Y63"},{"$f":"LUTIN!D75","v":"0000329"},{"$f":"LUTIN!G75","v":0},{"$f":"LUTIN!A111","v":0},{"$f":"LUTIN!B110","v":0},{"$f":"LUTIN!C110","v":0},{"$f":"LUTIN!D111","v":0},{"$f":"LUTIN!G111","v":0}]
[{"$f":"LUTIN!A40","v":"X29   Y29"},{"$f":"LUTIN!B40","v":"X29"},{"$f":"LUTIN!C40","v":"Y29"},{"$f":"LUTIN!D40","v":"0014130"},{"$f":"LUTIN!G40","v":"ü"},{"$f":"LUTIN!A76","v":"X65   Y65"},{"$f":"LUTIN!B75","v":"X64"},{"$f":"LUTIN!C75","v":"Y64"},{"$f":"LUTIN!D76","v":"0016166"},{"$f":"LUTIN!G76","v":0},{"$f":"LUTIN!A112","v":0},{"$f":"LUTIN!B111","v":0},{"$f":"LUTIN!C111","v":0},{"$f":"LUTIN!D112","v":0},{"$f":"LUTIN!G112","v":0}]
[{"$f":"LUTIN!A41","v":"X30   Y30"},{"$f":"LUTIN!B41","v":"X30"},{"$f":"LUTIN!C41","v":"Y30"},{"$f":"LUTIN!D41","v":"0004807"},{"$f":"LUTIN!G41","v":0},{"$f":"LUTIN!A77","v":"X66   Y66"},{"$f":"LUTIN!B76","v":"X65"},{"$f":"LUTIN!C76","v":"Y65"},{"$f":"LUTIN!D77","v":"0000698"},{"$f":"LUTIN!G77","v":0},{"$f":"LUTIN!A113","v":0},{"$f":"LUTIN!B112","v":0},{"$f":"LUTIN!C112","v":0},{"$f":"LUTIN!D113","v":0},{"$f":"LUTIN!G113","v":0}]
[{"$f":"LUTIN!A42","v":"X31   Y31"},{"$f":"LUTIN!B42","v":"X31"},{"$f":"LUTIN!C42","v":"Y31"},{"$f":"LUTIN!D42","v":"0011270"},{"$f":"LUTIN!G42","v":0},{"$f":"LUTIN!A78","v":"X67   Y67"},{"$f":"LUTIN!B77","v":"X66"},{"$f":"LUTIN!C77","v":"Y66"},{"$f":"LUTIN!D78","v":"0016329"},{"$f":"LUTIN!G78","v":0},{"$f":"LUTIN!A114","v":0},{"$f":"LUTIN!B113","v":0},{"$f":"LUTIN!C113","v":0},{"$f":"LUTIN!D114","v":0},{"$f":"LUTIN!G114","v":0}]
[{"$f":"LUTIN!A43","v":"X32   Y32"},{"$f":"LUTIN!B43","v":"X32"},{"$f":"LUTIN!C43","v":"Y32"},{"$f":"LUTIN!D43","v":"0016352"},{"$f":"LUTIN!G43","v":0},{"$f":"LUTIN!A79","v":"X68   Y68"},{"$f":"LUTIN!B78","v":"X67"},{"$f":"LUTIN!C78","v":"Y67"},{"$f":"LUTIN!D79","v":"0000650"},{"$f":"LUTIN!G79","v":"ü"},{"$f":"LUTIN!A115","v":"   "},{"$f":"LUTIN!B114","v":0},{"$f":"LUTIN!C114","v":0},{"$f":"LUTIN!D115","v":""},{"$f":"LUTIN!G115","v":0}]
[{"$f":"LUTIN!A44","v":"X33   Y33"},{"$f":"LUTIN!B44","v":"X33"},{"$f":"LUTIN!C44","v":"Y33"},{"$f":"LUTIN!D44","v":"0011906"},{"$f":"LUTIN!G44","v":0},{"$f":"LUTIN!A80","v":"X69   Y69"},{"$f":"LUTIN!B79","v":"X68"},{"$f":"LUTIN!C79","v":"Y68"},{"$f":"LUTIN!D80","v":"0000518"},{"$f":"LUTIN!G80","v":"ü"},{"$f":"LUTIN!A116","v":"   "},{"$f":"LUTIN!B115","v":0},{"$f":"LUTIN!C115","v":0},{"$f":"LUTIN!D116","v":0},{"$f":"LUTIN!G116","v":0}]
[{"$f":"LUTIN!A45","v":"X34   Y34"},{"$f":"LUTIN!B45","v":"X34"},{"$f":"LUTIN!C45","v":"Y34"},{"$f":"LUTIN!D45","v":"0014857"},{"$f":"LUTIN!G45","v":0},{"$f":"LUTIN!A81","v":"X70   Y70"},{"$f":"LUTIN!B80","v":"X69"},{"$f":"LUTIN!C80","v":"Y69"},{"$f":"LUTIN!D81","v":"0011907"},{"$f":"LUTIN!G81","v":0},{"$f":"LUTIN!A117","v":"   "},{"$f":"LUTIN!B116","v":0},{"$f":"LUTIN!C116","v":0},{"$f":"LUTIN!D117","v":0},{"$f":"LUTIN!G117","v":0}]
[{"$f":"LUTIN!A46","v":"X35   Y35"},{"$f":"LUTIN!B46","v":"X35"},{"$f":"LUTIN!C46","v":"Y35"},{"$f":"LUTIN!D46","v":"0011905"},{"$f":"LUTIN!G46","v":0},{"$f":"LUTIN!A82","v":"X71   Y71"},{"$f":"LUTIN!B81","v":"X70"},{"$f":"LUTIN!C81","v":"Y70"},{"$f":"LUTIN!D82","v":"0010677"},{"$f":"LUTIN!G82","v":0},{"$f":"LUTIN!A118","v":"   "},{"$f":"LUTIN!B117","v":0},{"$f":"LUTIN!C117","v":0},{"$f":"LUTIN!D118","v":0},{"$f":"LUTIN!G118","v":0}]
[{"$f":"LUTIN!A47","v":"X36   Y36"},{"$f":"LUTIN!B47","v":"X36"},{"$f":"LUTIN!C47","v":"Y36"},{"$f":"LUTIN!D47","v":"0000507"},{"$f":"LUTIN!G47","v":"ü"},{"$f":"LUTIN!A83","v":"X72   Y72"},{"$f":"LUTIN!B82","v":"X71"},{"$f":"LUTIN!C82","v":"Y71"},{"$f":"LUTIN!D83","v":"0016231"},{"$f":"LUTIN!G83","v":0},{"$f":"LUTIN!A119","v":"   "},{"$f":"LUTIN!B118","v":0},{"$f":"LUTIN!C118","v":0},{"$f":"LUTIN!D119","v":0},{"$f":"LUTIN!G119","v":0}]
[{"$f":"LUTIN!A48","v":"X37   Y37"},{"$f":"LUTIN!B48","v":"X37"},{"$f":"LUTIN!C48","v":"Y37"},{"$f":"LUTIN!D48","v":"0014854"},{"$f":"LUTIN!G48","v":0},{"$f":"LUTIN!A84","v":"X73   Y73"},{"$f":"LUTIN!B83","v":"X72"},{"$f":"LUTIN!C83","v":"Y72"},{"$f":"LUTIN!D84","v":"0010207"},{"$f":"LUTIN!G84","v":0},{"$f":"LUTIN!A120","v":"   "},{"$f":"LUTIN!B119","v":0},{"$f":"LUTIN!C119","v":0},{"$f":"LUTIN!D120","v":0},{"$f":"LUTIN!G120","v":0}]
[{"$f":"LUTIN!A49","v":"X38   Y38"},{"$f":"LUTIN!B49","v":"X38"},{"$f":"LUTIN!C49","v":"Y38"},{"$f":"LUTIN!D49","v":"0001003"},{"$f":"LUTIN!G49","v":0},{"$f":"LUTIN!A85","v":"X74   Y74"},{"$f":"LUTIN!B84","v":"X73"},{"$f":"LUTIN!C84","v":"Y73"},{"$f":"LUTIN!D85","v":"0012437"},{"$f":"LUTIN!G85","v":0},{"$f":"LUTIN!A121","v":"   "},{"$f":"LUTIN!B120","v":0},{"$f":"LUTIN!C120","v":0},{"$f":"LUTIN!D121","v":0},{"$f":"LUTIN!G121","v":0}]
[{"$f":"LUTIN!A50","v":"X39   Y39"},{"$f":"LUTIN!B50","v":"X39"},{"$f":"LUTIN!C50","v":"Y39"},{"$f":"LUTIN!D50","v":"0014541"},{"$f":"LUTIN!G50","v":0},{"$f":"LUTIN!A86","v":"X75   Y75"},{"$f":"LUTIN!B85","v":"X74"},{"$f":"LUTIN!C85","v":"Y74"},{"$f":"LUTIN!D86","v":"0000734"},{"$f":"LUTIN!G86","v":"ü"},{"$f":"LUTIN!A122","v":"   "},{"$f":"LUTIN!B121","v":0},{"$f":"LUTIN!C121","v":0},{"$f":"LUTIN!D122","v":0},{"$f":"LUTIN!G122","v":0}]
[{"$f":"LUTIN!A51","v":"X40   Y40"},{"$f":"LUTIN!B51","v":"X40"},{"$f":"LUTIN!C51","v":"Y40"},{"$f":"LUTIN!D51","v":"0000635"},{"$f":"LUTIN!G51","v":"ü"},{"$f":"LUTIN!A87","v":"X76   Y76"},{"$f":"LUTIN!B86","v":"X75"},{"$f":"LUTIN!C86","v":"Y75"},{"$f":"LUTIN!D87","v":"0014858"},{"$f":"LUTIN!G87","v":0},{"$f":"LUTIN!A123","v":"   "},{"$f":"LUTIN!B122","v":0},{"$f":"LUTIN!C122","v":0},{"$f":"LUTIN!D123","v":0},{"$f":"LUTIN!G123","v":0}]
[{"$f":"LUTIN!A52","v":"X41   Y41"},{"$f":"LUTIN!B52","v":"X41"},{"$f":"LUTIN!C52","v":"Y41"},{"$f":"LUTIN!D52","v":"0011705"},{"$f":"LUTIN!G52","v":0},{"$f":"LUTIN!A88","v":"X77   Y77"},{"$f":"LUTIN!B87","v":"X76"},{"$f":"LUTIN!C87","v":"Y76"},{"$f":"LUTIN!D88","v":"0016325"},{"$f":"LUTIN!G88","v":0},{"$f":"LUTIN!A124","v":""},{"$f":"LUTIN!B123","v":0},{"$f":"LUTIN!C123","v":0},{"$f":"LUTIN!D124","v":0},{"$f":"LUTIN!G124","v":0}]
[{"$f":"LUTIN!A53","v":"X42   Y42"},{"$f":"LUTIN!B53","v":"X42"},{"$f":"LUTIN!C53","v":"Y42"},{"$f":"LUTIN!D53","v":"0000327"},{"$f":"LUTIN!G53","v":"ü"},{"$f":"LUTIN!A89","v":"X78   Y78"},{"$f":"LUTIN!B88","v":"X77"},{"$f":"LUTIN!C88","v":"Y77"},{"$f":"LUTIN!D89","v":"0014425"},{"$f":"LUTIN!G89","v":0},{"$f":"LUTIN!A125","v":"CAp"},{"$f":"LUTIN!B124","v":0},{"$f":"LUTIN!C124","v":0},{"$f":"LUTIN!D125","v":0},{"$f":"LUTIN!G125","v":0}]
[{"$f":"LUTIN!A54","v":"X43   Y43"},{"$f":"LUTIN!B54","v":"X43"},{"$f":"LUTIN!C54","v":"Y43"},{"$f":"LUTIN!D54","v":"0011208"},{"$f":"LUTIN!G54","v":0},{"$f":"LUTIN!A90","v":"X79   Y79"},{"$f":"LUTIN!B89","v":"X78"},{"$f":"LUTIN!C89","v":"Y78"},{"$f":"LUTIN!D90","v":"0000506"},{"$f":"LUTIN!G90","v":0},{"$f":"LUTIN!A126","v":"CAPE"},{"$f":"LUTIN!B125","v":0},{"$f":"LUTIN!C125","v":0},{"$f":"LUTIN!D126","v":0},{"$f":"LUTIN!G126","v":0}]
[{"$f":"LUTIN!A55","v":"X44   Y44"},{"$f":"LUTIN!B55","v":"X44"},{"$f":"LUTIN!C55","v":"Y44"},{"$f":"LUTIN!D55","v":"0000537"},{"$f":"LUTIN!G55","v":0},{"$f":"LUTIN!A91","v":"X80   Y80"},{"$f":"LUTIN!B90","v":"X79"},{"$f":"LUTIN!C90","v":"Y79"},{"$f":"LUTIN!D91","v":"0010382"},{"$f":"LUTIN!G91","v":0},{"$f":"LUTIN!#REF!","v":{"$error":"#REF!"}},{"$f":"LUTIN!B126","v":0},{"$f":"LUTIN!C126","v":0},{"$f":"LUTIN!#REF!","v":{"$error":"#REF!"}},{"$f":"LUTIN!#REF!","v":{"$error":"#REF!"}}]
[{"$f":"LUTIN!A56","v":"X45   Y45"},{"$f":"LUTIN!B56","v":"X45"},{"$f":"LUTIN!C56","v":"Y45"},{"$f":"LUTIN!D56","v":"0014952"},{"$f":"LUTIN!G56","v":0},{"$f":"LUTIN!A92","v":"X81   Y81"},{"$f":"LUTIN!B91","v":"X80"},{"$f":"LUTIN!C91","v":"Y80"},{"$f":"LUTIN!D92","v":"0000454"},{"$f":"LUTIN!G92","v":"ü"},{"$f":"LUTIN!#REF!","v":{"$error":"#REF!"}},{"$f":"LUTIN!#REF!","v":{"$error":"#REF!"}},{"$f":"LUTIN!#REF!","v":{"$error":"#REF!"}},{"$f":"LUTIN!#REF!","v":{"$error":"#REF!"}},{"$f":"LUTIN!#REF!","v":{"$error":"#REF!"}}]
["SDIS 57"]
[]
["SUIVI DU CENTRE DE SECOURS DE HAGONDANGE"]
[]
[]
[]
["PERMIS",null,null,null,null,null,null,null,{"$f":"O233","v":"CACES"}]
[]
[]
["NOM - PRENOM","NOM","PRENOM","MATRICULE",{"$f":"LUTIN!H11","v":"CACES"},"NOM - PRENOM","NOM","PRENOM","MATRICULE",{"$f":"E233","v":"CACES"},"NOM - PRENOM","NOM","PRENOM","MATRICULE",{"$f":"J233","v":"CACES"}]
[]
[{"$f":"LUTIN!A12","v":"X1   Y1"},{"$f":"LUTIN!B12","v":"X1"},{"$f":"LUTIN!C12","v":"Y1"},{"$f":"LUTIN!D12","v":"0013041"},{"$f":"LUTIN!H12","v":0},{"$f":"LUTIN!A57","v":"X46   Y46"},{"$f":"LUTIN!B56","v":"X45"},{"$f":"LUTIN!C56","v":"Y45"},{"$f":"LUTIN!D57","v":"0012816"},{"$f":"LUTIN!H57","v":0},{"$f":"LUTIN!A93","v":"X82   Y82"},{"$f":"LUTIN!B92","v":"X81"},{"$f":"LUTIN!C92","v":"Y81"},{"$f":"LUTIN!D93","v":"0014794"},{"$f":"LUTIN!H93","v":0}]
[{"$f":"LUTIN!A22","v":"X11   Y11"},{"$f":"LUTIN!B22","v":"X11"},{"$f":"LUTIN!C22","v":"Y11"},{"$f":"LUTIN!D22","v":"0014707"},{"$f":"LUTIN!H22","v":0},{"$f":"LUTIN!A58","v":"X47   Y47"},{"$f":"LUTIN!B57","v":"X46"},{"$f":"LUTIN!C57","v":"Y46"},{"$f":"LUTIN!D58","v":"0000795"},{"$f":"LUTIN!H58","v":"ü"},{"$f":"LUTIN!A94","v":"X83   Y83"},{"$f":"LUTIN!B93","v":"X82"},{"$f":"LUTIN!C93","v":"Y82"},{"$f":"LUTIN!D94","v":"0014794"},{"$f":"LUTIN!H94","v":0}]
[{"$f":"LUTIN!A23","v":"X12   Y12"},{"$f":"LUTIN!B23","v":"X12"},{"$f":"LUTIN!C23","v":"Y12"},{"$f":"LUTIN!D23","v":"0004796"},{"$f":"LUTIN!H23","v":0},{"$f":"LUTIN!A59","v":"X48   Y48"},{"$f":"LUTIN!B58","v":"X47"},{"$f":"LUTIN!C58","v":"Y47"},{"$f":"LUTIN!D59","v":"0000466"},{"$f":"LUTIN!H59","v":"ü"},{"$f":"LUTIN!A95","v":"X84   Y84"},{"$f":"LUTIN!B94","v":"X83"},{"$f":"LUTIN!C94","v":"Y83"},{"$f":"LUTIN!D95","v":"0014703"},{"$f":"LUTIN!H95","v":0}]
[{"$f":"LUTIN!A24","v":"X13   Y13"},{"$f":"LUTIN!B24","v":"X13"},{"$f":"LUTIN!C24","v":"Y13"},{"$f":"LUTIN!D24","v":"0011105"},{"$f":"LUTIN!H24","v":0},{"$f":"LUTIN!A60","v":"X49   Y49"},{"$f":"LUTIN!B59","v":"X48"},{"$f":"LUTIN!C59","v":"Y48"},{"$f":"LUTIN!D60","v":"0014390"},{"$f":"LUTIN!H60","v":0},{"$f":"LUTIN!A96","v":"X85   Y85"},{"$f":"LUTIN!B95","v":"X84"},{"$f":"LUTIN!C95","v":"Y84"},{"$f":"LUTIN!D96","v":"0014835"},{"$f":"LUTIN!H96","v":0}]
[{"$f":"LUTIN!A25","v":"X14   Y14"},{"$f":"LUTIN!B25","v":"X14"},{"$f":"LUTIN!C25","v":"Y14"},{"$f":"LUTIN!D25","v":"0012601"},{"$f":"LUTIN!H25","v":0},{"$f":"LUTIN!A61","v":"X50   Y50"},{"$f":"LUTIN!B60","v":"X49"},{"$f":"LUTIN!C60","v":"Y49"},{"$f":"LUTIN!D61","v":"0011106"},{"$f":"LUTIN!H61","v":0},{"$f":"LUTIN!A97","v":"X86   Y86"},{"$f":"LUTIN!B96","v":"X85"},{"$f":"LUTIN!C96","v":"Y85"},{"$f":"LUTIN!D97","v":"0002573"},{"$f":"LUTIN!H97","v":0}]
[{"$f":"LUTIN!A26","v":"X15   Y15"},{"$f":"LUTIN!B26","v":"X15"},{"$f":"LUTIN!C26","v":"Y15"},{"$f":"LUTIN!D26","v":"0014518"},{"$f":"LUTIN!H26","v":0},{"$f":"LUTIN!A62","v":"X51   Y51"},{"$f":"LUTIN!B61","v":"X50"},{"$f":"LUTIN!C61","v":"Y50"},{"$f":"LUTIN!D62","v":""},{"$f":"LUTIN!H62","v":0},{"$f":"LUTIN!A98","v":"X87   Y87"},{"$f":"LUTIN!B97","v":"X86"},{"$f":"LUTIN!C97","v":"Y86"},{"$f":"LUTIN!D98","v":""},{"$f":"LUTIN!H98","v":0}]
[{"$f":"LUTIN!A27","v":"X16   Y16"},{"$f":"LUTIN!B27","v":"X16"},{"$f":"LUTIN!C27","v":"Y16"},{"$f":"LUTIN!D27","v":"0000038"},{"$f":"LUTIN!H27","v":"ü"},{"$f":"LUTIN!A63","v":"X52   Y52"},{"$f":"LUTIN!B62","v":"X51"},{"$f":"LUTIN!C62","v":"Y51"},{"$f":"LUTIN!D63","v":"0011571"},{"$f":"LUTIN!H63","v":"ü"},{"$f":"LUTIN!A99","v":"X88   Y88"},{"$f":"LUTIN!B98","v":"X87"},{"$f":"LUTIN!C98","v":"Y87"},{"$f":"LUTIN!D99","v":"0012527"},{"$f":"LUTIN!H99","v":0}]
[{"$f":"LUTIN!A28","v":"X17   Y17"},{"$f":"LUTIN!B28","v":"X17"},{"$f":"LUTIN!C28","v":"Y17"},{"$f":"LUTIN!D28","v":""},{"$f":"LUTIN!H28","v":0},{"$f":"LUTIN!A64","v":"X53   Y53"},{"$f":"LUTIN!B63","v":"X52"},{"$f":"LUTIN!C63","v":"Y52"},{"$f":"LUTIN!D64","v":"0015023"},{"$f":"LUTIN!H64","v":"ü"},{"$f":"LUTIN!A100","v":"X89   Y89"},{"$f":"LUTIN!B99","v":"X88"},{"$f":"LUTIN!C99","v":"Y88"},{"$f":"LUTIN!D100","v":"0012136"},{"$f":"LUTIN!H100","v":0}]
[{"$f":"LUTIN!A29","v":"X18   Y18"},{"$f":"LUTIN!B29","v":"X18"},{"$f":"LUTIN!C29","v":"Y18"},{"$f":"LUTIN!D29","v":"0008074"},{"$f":"LUTIN!H29","v":0},{"$f":"LUTIN!A65","v":"X54   Y54"},{"$f":"LUTIN!B64","v":"X53"},{"$f":"LUTIN!C64","v":"Y53"},{"$f":"LUTIN!D65","v":"0015026"},{"$f":"LUTIN!H65","v":"ü"},{"$f":"LUTIN!A101","v":"X90   Y90"},{"$f":"LUTIN!B100","v":"X89"},{"$f":"LUTIN!C100","v":"Y89"},{"$f":"LUTIN!D101","v":"0014453"},{"$f":"LUTIN!H101","v":0}]
[{"$f":"LUTIN!A30","v":"X19   Y19"},{"$f":"LUTIN!B30","v":"X19"},{"$f":"LUTIN!C30","v":"Y19"},{"$f":"LUTIN!D30","v":"0000606"},{"$f":"LUTIN!H30","v":"ü"},{"$f":"LUTIN!A66","v":"X55   Y55"},{"$f":"LUTIN!B65","v":"X54"},{"$f":"LUTIN!C65","v":"Y54"},{"$f":"LUTIN!D66","v":"0010882"},{"$f":"LUTIN!H66","v":0},{"$f":"LUTIN!A102","v":"X91   Y91"},{"$f":"LUTIN!B101","v":"X90"},{"$f":"LUTIN!C101","v":"Y90"},{"$f":"LUTIN!D102","v":"0011252"},{"$f":"LUTIN!H102","v":0}]
[{"$f":"LUTIN!A31","v":"X20   Y20"},{"$f":"LUTIN!B31","v":"X20"},{"$f":"LUTIN!C31","v":"Y20"},{"$f":"LUTIN!D31","v":"0016109"},{"$f":"LUTIN!H31","v":0},{"$f":"LUTIN!A67","v":"X56   Y56"},{"$f":"LUTIN!B66","v":"X55"},{"$f":"LUTIN!C66","v":"Y55"},{"$f":"LUTIN!D67","v":"0011559"},{"$f":"LUTIN!H67","v":0},{"$f":"LUTIN!A103","v":"X92   Y92"},{"$f":"LUTIN!B102","v":"X91"},{"$f":"LUTIN!C102","v":"Y91"},{"$f":"LUTIN!D103","v":"0009459"},{"$f":"LUTIN!H103","v":0}]
[{"$f":"LUTIN!A32","v":"X21   Y21"},{"$f":"LUTIN!B32","v":"X21"},{"$f":"LUTIN!C32","v":"Y21"},{"$f":"LUTIN!D32","v":"0000614"},{"$f":"LUTIN!H32","v":"ü"},{"$f":"LUTIN!A68","v":"X57   Y57"},{"$f":"LUTIN!B67","v":"X56"},{"$f":"LUTIN!C67","v":"Y56"},{"$f":"LUTIN!D68","v":"0000237"},{"$f":"LUTIN!H68","v":0},{"$f":"LUTIN!A104","v":"X93   Y93"},{"$f":"LUTIN!B103","v":"X92"},{"$f":"LUTIN!C103","v":"Y92"},{"$f":"LUTIN!D104","v":"0000504"},{"$f":"LUTIN!H104","v":"ü"}]
[{"$f":"LUTIN!A33","v":"X22   Y22"},{"$f":"LUTIN!B33","v":"X22"},{"$f":"LUTIN!C33","v":"Y22"},{"$f":"LUTIN!D33","v":"0001089"},{"$f":"LUTIN!H33","v":"ü"},{"$f":"LUTIN!A69","v":"X58   Y58"},{"$f":"LUTIN!B68","v":"X57"},{"$f":"LUTIN!C68","v":"Y57"},{"$f":"LUTIN!D69","v":"0000238"},{"$f":"LUTIN!H69","v":"ü"},{"$f":"LUTIN!A105","v":"X94   Y94"},{"$f":"LUTIN!B104","v":"X93"},{"$f":"LUTIN!C104","v":"Y93"},{"$f":"LUTIN!D105","v":"0014810"},{"$f":"LUTIN!H105","v":0}]
[{"$f":"LUTIN!A34","v":"X23   Y23"},{"$f":"LUTIN!B34","v":"X23"},{"$f":"LUTIN!C34","v":"Y23"},{"$f":"LUTIN!D34","v":"0012666"},{"$f":"LUTIN!H34","v":0},{"$f":"LUTIN!A70","v":"X59   Y59"},{"$f":"LUTIN!B69","v":"X58"},{"$f":"LUTIN!C69","v":"Y58"},{"$f":"LUTIN!D70","v":"0011720"},{"$f":"LUTIN!H70","v":0},{"$f":"LUTIN!A106","v":"X95   Y95"},{"$f":"LUTIN!B105","v":"X94"},{"$f":"LUTIN!C105","v":"Y94"},{"$f":"LUTIN!D106","v":"0000000"},{"$f":"LUTIN!H106","v":0}]
[{"$f":"LUTIN!A35","v":"X24   Y24"},{"$f":"LUTIN!B35","v":"X24"},{"$f":"LUTIN!C35","v":"Y24"},{"$f":"LUTIN!D35","v":"0004976"},{"$f":"LUTIN!H35","v":0},{"$f":"LUTIN!A71","v":"X60   Y60"},{"$f":"LUTIN!B70","v":"X59"},{"$f":"LUTIN!C70","v":"Y59"},{"$f":"LUTIN!D71","v":"0009978"},{"$f":"LUTIN!H71","v":0},{"$f":"LUTIN!A107","v":"X96   Y96"},{"$f":"LUTIN!B106","v":"X95"},{"$f":"LUTIN!C106","v":"Y95"},{"$f":"LUTIN!D107","v":"0011904"},{"$f":"LUTIN!H107","v":0}]
[{"$f":"LUTIN!A36","v":"X25   Y25"},{"$f":"LUTIN!B36","v":"X25"},{"$f":"LUTIN!C36","v":"Y25"},{"$f":"LUTIN!D36","v":"0013001"},{"$f":"LUTIN!H36","v":0},{"$f":"LUTIN!A72","v":"X61   Y61"},{"$f":"LUTIN!B71","v":"X60"},{"$f":"LUTIN!C71","v":"Y60"},{"$f":"LUTIN!D72","v":"0000328"},{"$f":"LUTIN!H72","v":"ü"},{"$f":"LUTIN!A108","v":"   "},{"$f":"LUTIN!B107","v":"X96"},{"$f":"LUTIN!C107","v":"Y96"},{"$f":"LUTIN!D108","v":0},{"$f":"LUTIN!H108","v":0}]
[{"$f":"LUTIN!A37","v":"X26   Y26"},{"$f":"LUTIN!B37","v":"X26"},{"$f":"LUTIN!C37","v":"Y26"},{"$f":"LUTIN!D37","v":"0014372"},{"$f":"LUTIN!H37","v":0},{"$f":"LUTIN!A73","v":"X62   Y62"},{"$f":"LUTIN!B72","v":"X61"},{"$f":"LUTIN!C72","v":"Y61"},{"$f":"LUTIN!D73","v":"0009808"},{"$f":"LUTIN!H73","v":0},{"$f":"LUTIN!A109","v":0},{"$f":"LUTIN!B108","v":0},{"$f":"LUTIN!C108","v":0},{"$f":"LUTIN!D109","v":0},{"$f":"LUTIN!H109","v":0}]
[{"$f":"LUTIN!A38","v":"X27   Y27"},{"$f":"LUTIN!B38","v":"X27"},{"$f":"LUTIN!C38","v":"Y27"},{"$f":"LUTIN!D38","v":"0011908"},{"$f":"LUTIN!H38","v":0},{"$f":"LUTIN!A74","v":"X63   Y63"},{"$f":"LUTIN!B73","v":"X62"},{"$f":"LUTIN!C73","v":"Y62"},{"$f":"LUTIN!D74","v":"0000798"},{"$f":"LUTIN!H74","v":"ü"},{"$f":"LUTIN!A110","v":0},{"$f":"LUTIN!B109","v":0},{"$f":"LUTIN!C109","v":0},{"$f":"LUTIN!D110","v":0},{"$f":"LUTIN!H110","v":0}]
[{"$f":"LUTIN!A39","v":"X28   Y28"},{"$f":"LUTIN!B39","v":"X28"},{"$f":"LUTIN!C39","v":"Y28"},{"$f":"LUTIN!D39","v":"0000722"},{"$f":"LUTIN!H39","v":"ü"},{"$f":"LUTIN!A75","v":"X64   Y64"},{"$f":"LUTIN!B74","v":"X63"},{"$f":"LUTIN!C74","v":"Y63"},{"$f":"LUTIN!D75","v":"0000329"},{"$f":"LUTIN!H75","v":"ü"},{"$f":"LUTIN!A111","v":0},{"$f":"LUTIN!B110","v":0},{"$f":"LUTIN!C110","v":0},{"$f":"LUTIN!D111","v":0},{"$f":"LUTIN!H111","v":0}]
[{"$f":"LUTIN!A40","v":"X29   Y29"},{"$f":"LUTIN!B40","v":"X29"},{"$f":"LUTIN!C40","v":"Y29"},{"$f":"LUTIN!D40","v":"0014130"},{"$f":"LUTIN!H40","v":"ü"},{"$f":"LUTIN!A76","v":"X65   Y65"},{"$f":"LUTIN!B75","v":"X64"},{"$f":"LUTIN!C75","v":"Y64"},{"$f":"LUTIN!D76","v":"0016166"},{"$f":"LUTIN!H76","v":0},{"$f":"LUTIN!A112","v":0},{"$f":"LUTIN!B111","v":0},{"$f":"LUTIN!C111","v":0},{"$f":"LUTIN!D112","v":0},{"$f":"LUTIN!H112","v":0}]
[{"$f":"LUTIN!A41","v":"X30   Y30"},{"$f":"LUTIN!B41","v":"X30"},{"$f":"LUTIN!C41","v":"Y30"},{"$f":"LUTIN!D41","v":"0004807"},{"$f":"LUTIN!H41","v":0},{"$f":"LUTIN!A77","v":"X66   Y66"},{"$f":"LUTIN!B76","v":"X65"},{"$f":"LUTIN!C76","v":"Y65"},{"$f":"LUTIN!D77","v":"0000698"},{"$f":"LUTIN!H77","v":"ü"},{"$f":"LUTIN!A113","v":0},{"$f":"LUTIN!B112","v":0},{"$f":"LUTIN!C112","v":0},{"$f":"LUTIN!D113","v":0},{"$f":"LUTIN!H113","v":0}]
[{"$f":"LUTIN!A42","v":"X31   Y31"},{"$f":"LUTIN!B42","v":"X31"},{"$f":"LUTIN!C42","v":"Y31"},{"$f":"LUTIN!D42","v":"0011270"},{"$f":"LUTIN!H42","v":0},{"$f":"LUTIN!A78","v":"X67   Y67"},{"$f":"LUTIN!B77","v":"X66"},{"$f":"LUTIN!C77","v":"Y66"},{"$f":"LUTIN!D78","v":"0016329"},{"$f":"LUTIN!H78","v":0},{"$f":"LUTIN!A114","v":0},{"$f":"LUTIN!B113","v":0},{"$f":"LUTIN!C113","v":0},{"$f":"LUTIN!D114","v":0},{"$f":"LUTIN!H114","v":0}]
[{"$f":"LUTIN!A43","v":"X32   Y32"},{"$f":"LUTIN!B43","v":"X32"},{"$f":"LUTIN!C43","v":"Y32"},{"$f":"LUTIN!D43","v":"0016352"},{"$f":"LUTIN!H43","v":0},{"$f":"LUTIN!A79","v":"X68   Y68"},{"$f":"LUTIN!B78","v":"X67"},{"$f":"LUTIN!C78","v":"Y67"},{"$f":"LUTIN!D79","v":"0000650"},{"$f":"LUTIN!H79","v":"ü"},{"$f":"LUTIN!A115","v":"   "},{"$f":"LUTIN!B114","v":0},{"$f":"LUTIN!C114","v":0},{"$f":"LUTIN!D115","v":""},{"$f":"LUTIN!H115","v":0}]
[{"$f":"LUTIN!A44","v":"X33   Y33"},{"$f":"LUTIN!B44","v":"X33"},{"$f":"LUTIN!C44","v":"Y33"},{"$f":"LUTIN!D44","v":"0011906"},{"$f":"LUTIN!H44","v":0},{"$f":"LUTIN!A80","v":"X69   Y69"},{"$f":"LUTIN!B79","v":"X68"},{"$f":"LUTIN!C79","v":"Y68"},{"$f":"LUTIN!D80","v":"0000518"},{"$f":"LUTIN!H80","v":"ü"},{"$f":"LUTIN!A116","v":"   "},{"$f":"LUTIN!B115","v":0},{"$f":"LUTIN!C115","v":0},{"$f":"LUTIN!D116","v":0},{"$f":"LUTIN!H116","v":0}]
[{"$f":"LUTIN!A45","v":"X34   Y34"},{"$f":"LUTIN!B45","v":"X34"},{"$f":"LUTIN!C45","v":"Y34"},{"$f":"LUTIN!D45","v":"0014857"},{"$f":"LUTIN!H45","v":0},{"$f":"LUTIN!A81","v":"X70   Y70"},{"$f":"LUTIN!B80","v":"X69"},{"$f":"LUTIN!C80","v":"Y69"},{"$f":"LUTIN!D81","v":"0011907"},{"$f":"LUTIN!H81","v":0},{"$f":"LUTIN!A117","v":"   "},{"$f":"LUTIN!B116","v":0},{"$f":"LUTIN!C116","v":0},{"$f":"LUTIN!D117","v":0},{"$f":"LUTIN!H117","v":0}]
[{"$f":"LUTIN!A46","v":"X35   Y35"},{"$f":"LUTIN!B46","v":"X35"},{"$f":"LUTIN!C46","v":"Y35"},{"$f":"LUTIN!D46","v":"0011905"},{"$f":"LUTIN!H46","v":0},{"$f":"LUTIN!A82","v":"X71   Y71"},{"$f":"LUTIN!B81","v":"X70"},{"$f":"LUTIN!C81","v":"Y70"},{"$f":"LUTIN!D82","v":"0010677"},{"$f":"LUTIN!H82","v":0},{"$f":"LUTIN!A118","v":"   "},{"$f":"LUTIN!B117","v":0},{"$f":"LUTIN!C117","v":0},{"$f":"LUTIN!D118","v":0},{"$f":"LUTIN!H118","v":0}]
[{"$f":"LUTIN!A47","v":"X36   Y36"},{"$f":"LUTIN!B47","v":"X36"},{"$f":"LUTIN!C47","v":"Y36"},{"$f":"LUTIN!D47","v":"0000507"},{"$f":"LUTIN!H47","v":"ü"},{"$f":"LUTIN!A83","v":"X72   Y72"},{"$f":"LUTIN!B82","v":"X71"},{"$f":"LUTIN!C82","v":"Y71"},{"$f":"LUTIN!D83","v":"0016231"},{"$f":"LUTIN!H83","v":0},{"$f":"LUTIN!A119","v":"   "},{"$f":"LUTIN!B118","v":0},{"$f":"LUTIN!C118","v":0},{"$f":"LUTIN!D119","v":0},{"$f":"LUTIN!H119","v":0}]
[{"$f":"LUTIN!A48","v":"X37   Y37"},{"$f":"LUTIN!B48","v":"X37"},{"$f":"LUTIN!C48","v":"Y37"},{"$f":"LUTIN!D48","v":"0014854"},{"$f":"LUTIN!H48","v":0},{"$f":"LUTIN!A84","v":"X73   Y73"},{"$f":"LUTIN!B83","v":"X72"},{"$f":"LUTIN!C83","v":"Y72"},{"$f":"LUTIN!D84","v":"0010207"},{"$f":"LUTIN!H84","v":"ü"},{"$f":"LUTIN!A120","v":"   "},{"$f":"LUTIN!B119","v":0},{"$f":"LUTIN!C119","v":0},{"$f":"LUTIN!D120","v":0},{"$f":"LUTIN!H120","v":0}]
[{"$f":"LUTIN!A49","v":"X38   Y38"},{"$f":"LUTIN!B49","v":"X38"},{"$f":"LUTIN!C49","v":"Y38"},{"$f":"LUTIN!D49","v":"0001003"},{"$f":"LUTIN!H49","v":"ü"},{"$f":"LUTIN!A85","v":"X74   Y74"},{"$f":"LUTIN!B84","v":"X73"},{"$f":"LUTIN!C84","v":"Y73"},{"$f":"LUTIN!D85","v":"0012437"},{"$f":"LUTIN!H85","v":0},{"$f":"LUTIN!A121","v":"   "},{"$f":"LUTIN!B120","v":0},{"$f":"LUTIN!C120","v":0},{"$f":"LUTIN!D121","v":0},{"$f":"LUTIN!H121","v":0}]
[{"$f":"LUTIN!A50","v":"X39   Y39"},{"$f":"LUTIN!B50","v":"X39"},{"$f":"LUTIN!C50","v":"Y39"},{"$f":"LUTIN!D50","v":"0014541"},{"$f":"LUTIN!H50","v":0},{"$f":"LUTIN!A86","v":"X75   Y75"},{"$f":"LUTIN!B85","v":"X74"},{"$f":"LUTIN!C85","v":"Y74"},{"$f":"LUTIN!D86","v":"0000734"},{"$f":"LUTIN!H86","v":"ü"},{"$f":"LUTIN!A122","v":"   "},{"$f":"LUTIN!B121","v":0},{"$f":"LUTIN!C121","v":0},{"$f":"LUTIN!D122","v":0},{"$f":"LUTIN!H122","v":0}]
[{"$f":"LUTIN!A51","v":"X40   Y40"},{"$f":"LUTIN!B51","v":"X40"},{"$f":"LUTIN!C51","v":"Y40"},{"$f":"LUTIN!D51","v":"0000635"},{"$f":"LUTIN!H51","v":"ü"},{"$f":"LUTIN!A87","v":"X76   Y76"},{"$f":"LUTIN!B86","v":"X75"},{"$f":"LUTIN!C86","v":"Y75"},{"$f":"LUTIN!D87","v":"0014858"},{"$f":"LUTIN!H87","v":0},{"$f":"LUTIN!A123","v":"   "},{"$f":"LUTIN!B122","v":0},{"$f":"LUTIN!C122","v":0},{"$f":"LUTIN!D123","v":0},{"$f":"LUTIN!H123","v":0}]
[{"$f":"LUTIN!A52","v":"X41   Y41"},{"$f":"LUTIN!B52","v":"X41"},{"$f":"LUTIN!C52","v":"Y41"},{"$f":"LUTIN!D52","v":"0011705"},{"$f":"LUTIN!H52","v":0},{"$f":"LUTIN!A88","v":"X77   Y77"},{"$f":"LUTIN!B87","v":"X76"},{"$f":"LUTIN!C87","v":"Y76"},{"$f":"LUTIN!D88","v":"0016325"},{"$f":"LUTIN!H88","v":0},{"$f":"LUTIN!A124","v":""},{"$f":"LUTIN!B123","v":0},{"$f":"LUTIN!C123","v":0},{"$f":"LUTIN!D124","v":0},{"$f":"LUTIN!H124","v":0}]
[{"$f":"LUTIN!A53","v":"X42   Y42"},{"$f":"LUTIN!B53","v":"X42"},{"$f":"LUTIN!C53","v":"Y42"},{"$f":"LUTIN!D53","v":"0000327"},{"$f":"LUTIN!H53","v":"ü"},{"$f":"LUTIN!A89","v":"X78   Y78"},{"$f":"LUTIN!B88","v":"X77"},{"$f":"LUTIN!C88","v":"Y77"},{"$f":"LUTIN!D89","v":"0014425"},{"$f":"LUTIN!H89","v":0},{"$f":"LUTIN!A125","v":"CAp"},{"$f":"LUTIN!B124","v":0},{"$f":"LUTIN!C124","v":0},{"$f":"LUTIN!D125","v":0},{"$f":"LUTIN!H125","v":0}]
[{"$f":"LUTIN!A54","v":"X43   Y43"},{"$f":"LUTIN!B54","v":"X43"},{"$f":"LUTIN!C54","v":"Y43"},{"$f":"LUTIN!D54","v":"0011208"},{"$f":"LUTIN!H54","v":0},{"$f":"LUTIN!A90","v":"X79   Y79"},{"$f":"LUTIN!B89","v":"X78"},{"$f":"LUTIN!C89","v":"Y78"},{"$f":"LUTIN!D90","v":"0000506"},{"$f":"LUTIN!H90","v":0},{"$f":"LUTIN!A126","v":"CAPE"},{"$f":"LUTIN!B125","v":0},{"$f":"LUTIN!C125","v":0},{"$f":"LUTIN!D126","v":0},{"$f":"LUTIN!H126","v":0}]
[{"$f":"LUTIN!A55","v":"X44   Y44"},{"$f":"LUTIN!B55","v":"X44"},{"$f":"LUTIN!C55","v":"Y44"},{"$f":"LUTIN!D55","v":"0000537"},{"$f":"LUTIN!H55","v":0},{"$f":"LUTIN!A91","v":"X80   Y80"},{"$f":"LUTIN!B90","v":"X79"},{"$f":"LUTIN!C90","v":"Y79"},{"$f":"LUTIN!D91","v":"0010382"},{"$f":"LUTIN!H91","v":0},{"$f":"LUTIN!#REF!","v":{"$error":"#REF!"}},{"$f":"LUTIN!B126","v":0},{"$f":"LUTIN!C126","v":0},{"$f":"LUTIN!#REF!","v":{"$error":"#REF!"}},{"$f":"LUTIN!#REF!","v":{"$error":"#REF!"}}]
[{"$f":"LUTIN!A56","v":"X45   Y45"},{"$f":"LUTIN!B56","v":"X45"},{"$f":"LUTIN!C56","v":"Y45"},{"$f":"LUTIN!D56","v":"0014952"},{"$f":"LUTIN!H56","v":0},{"$f":"LUTIN!A92","v":"X81   Y81"},{"$f":"LUTIN!B91","v":"X80"},{"$f":"LUTIN!C91","v":"Y80"},{"$f":"LUTIN!D92","v":"0000454"},{"$f":"LUTIN!H92","v":"ü"},{"$f":"LUTIN!#REF!","v":{"$error":"#REF!"}},{"$f":"LUTIN!#REF!","v":{"$error":"#REF!"}},{"$f":"LUTIN!#REF!","v":{"$error":"#REF!"}},{"$f":"LUTIN!#REF!","v":{"$error":"#REF!"}},{"$f":"LUTIN!#REF!","v":{"$error":"#REF!"}}]
["SDIS 57"]
[]
["SUIVI DU CENTRE DE SECOURS DE HAGONDANGE"]
[]
[]
[]
["PERMIS",null,null,null,null,null,null,null,{"$f":"O280","v":"PERIV"}]
[]
[]
["NOM - PRENOM","NOM","PRENOM","MATRICULE",{"$f":"LUTIN!I11","v":"PERIV"},"NOM - PRENOM","NOM","PRENOM","MATRICULE",{"$f":"E280","v":"PERIV"},"NOM - PRENOM","NOM","PRENOM","MATRICULE",{"$f":"J280","v":"PERIV"}]
[]
[{"$f":"LUTIN!A12","v":"X1   Y1"},{"$f":"LUTIN!B12","v":"X1"},{"$f":"LUTIN!C12","v":"Y1"},{"$f":"LUTIN!D12","v":"0013041"},{"$f":"LUTIN!I12","v":0},{"$f":"LUTIN!A57","v":"X46   Y46"},{"$f":"LUTIN!B56","v":"X45"},{"$f":"LUTIN!C56","v":"Y45"},{"$f":"LUTIN!D57","v":"0012816"},{"$f":"LUTIN!I57","v":0},{"$f":"LUTIN!A93","v":"X82   Y82"},{"$f":"LUTIN!B92","v":"X81"},{"$f":"LUTIN!C92","v":"Y81"},{"$f":"LUTIN!D93","v":"0014794"},{"$f":"LUTIN!I93","v":0}]
[{"$f":"LUTIN!A22","v":"X11   Y11"},{"$f":"LUTIN!B22","v":"X11"},{"$f":"LUTIN!C22","v":"Y11"},{"$f":"LUTIN!D22","v":"0014707"},{"$f":"LUTIN!I22","v":0},{"$f":"LUTIN!A58","v":"X47   Y47"},{"$f":"LUTIN!B57","v":"X46"},{"$f":"LUTIN!C57","v":"Y46"},{"$f":"LUTIN!D58","v":"0000795"},{"$f":"LUTIN!I58","v":0},{"$f":"LUTIN!A94","v":"X83   Y83"},{"$f":"LUTIN!B93","v":"X82"},{"$f":"LUTIN!C93","v":"Y82"},{"$f":"LUTIN!D94","v":"0014794"},{"$f":"LUTIN!I94","v":0}]
[{"$f":"LUTIN!A23","v":"X12   Y12"},{"$f":"LUTIN!B23","v":"X12"},{"$f":"LUTIN!C23","v":"Y12"},{"$f":"LUTIN!D23","v":"0004796"},{"$f":"LUTIN!I23","v":0},{"$f":"LUTIN!A59","v":"X48   Y48"},{"$f":"LUTIN!B58","v":"X47"},{"$f":"LUTIN!C58","v":"Y47"},{"$f":"LUTIN!D59","v":"0000466"},{"$f":"LUTIN!I59","v":"ü"},{"$f":"LUTIN!A95","v":"X84   Y84"},{"$f":"LUTIN!B94","v":"X83"},{"$f":"LUTIN!C94","v":"Y83"},{"$f":"LUTIN!D95","v":"0014703"},{"$f":"LUTIN!I95","v":0}]
[{"$f":"LUTIN!A24","v":"X13   Y13"},{"$f":"LUTIN!B24","v":"X13"},{"$f":"LUTIN!C24","v":"Y13"},{"$f":"LUTIN!D24","v":"0011105"},{"$f":"LUTIN!I24","v":0},{"$f":"LUTIN!A60","v":"X49   Y49"},{"$f":"LUTIN!B59","v":"X48"},{"$f":"LUTIN!C59","v":"Y48"},{"$f":"LUTIN!D60","v":"0014390"},{"$f":"LUTIN!I60","v":0},{"$f":"LUTIN!A96","v":"X85   Y85"},{"$f":"LUTIN!B95","v":"X84"},{"$f":"LUTIN!C95","v":"Y84"},{"$f":"LUTIN!D96","v":"0014835"},{"$f":"LUTIN!I96","v":0}]
[{"$f":"LUTIN!A25","v":"X14   Y14"},{"$f":"LUTIN!B25","v":"X14"},{"$f":"LUTIN!C25","v":"Y14"},{"$f":"LUTIN!D25","v":"0012601"},{"$f":"LUTIN!I25","v":0},{"$f":"LUTIN!A61","v":"X50   Y50"},{"$f":"LUTIN!B60","v":"X49"},{"$f":"LUTIN!C60","v":"Y49"},{"$f":"LUTIN!D61","v":"0011106"},{"$f":"LUTIN!I61","v":0},{"$f":"LUTIN!A97","v":"X86   Y86"},{"$f":"LUTIN!B96","v":"X85"},{"$f":"LUTIN!C96","v":"Y85"},{"$f":"LUTIN!D97","v":"0002573"},{"$f":"LUTIN!I97","v":0}]
[{"$f":"LUTIN!A26","v":"X15   Y15"},{"$f":"LUTIN!B26","v":"X15"},{"$f":"LUTIN!C26","v":"Y15"},{"$f":"LUTIN!D26","v":"0014518"},{"$f":"LUTIN!I26","v":0},{"$f":"LUTIN!A62","v":"X51   Y51"},{"$f":"LUTIN!B61","v":"X50"},{"$f":"LUTIN!C61","v":"Y50"},{"$f":"LUTIN!D62","v":""},{"$f":"LUTIN!I62","v":0},{"$f":"LUTIN!A98","v":"X87   Y87"},{"$f":"LUTIN!B97","v":"X86"},{"$f":"LUTIN!C97","v":"Y86"},{"$f":"LUTIN!D98","v":""},{"$f":"LUTIN!I98","v":0}]
[{"$f":"LUTIN!A27","v":"X16   Y16"},{"$f":"LUTIN!B27","v":"X16"},{"$f":"LUTIN!C27","v":"Y16"},{"$f":"LUTIN!D27","v":"0000038"},{"$f":"LUTIN!I27","v":0},{"$f":"LUTIN!A63","v":"X52   Y52"},{"$f":"LUTIN!B62","v":"X51"},{"$f":"LUTIN!C62","v":"Y51"},{"$f":"LUTIN!D63","v":"0011571"},{"$f":"LUTIN!I63","v":"ü"},{"$f":"LUTIN!A99","v":"X88   Y88"},{"$f":"LUTIN!B98","v":"X87"},{"$f":"LUTIN!C98","v":"Y87"},{"$f":"LUTIN!D99","v":"0012527"},{"$f":"LUTIN!I99","v":0}]
[{"$f":"LUTIN!A28","v":"X17   Y17"},{"$f":"LUTIN!B28","v":"X17"},{"$f":"LUTIN!C28","v":"Y17"},{"$f":"LUTIN!D28","v":""},{"$f":"LUTIN!I28","v":0},{"$f":"LUTIN!A64","v":"X53   Y53"},{"$f":"LUTIN!B63","v":"X52"},{"$f":"LUTIN!C63","v":"Y52"},{"$f":"LUTIN!D64","v":"0015023"},{"$f":"LUTIN!I64","v":0},{"$f":"LUTIN!A100","v":"X89   Y89"},{"$f":"LUTIN!B99","v":"X88"},{"$f":"LUTIN!C99","v":"Y88"},{"$f":"LUTIN!D100","v":"0012136"},{"$f":"LUTIN!I100","v":0}]
[{"$f":"LUTIN!A29","v":"X18   Y18"},{"$f":"LUTIN!B29","v":"X18"},{"$f":"LUTIN!C29","v":"Y18"},{"$f":"LUTIN!D29","v":"0008074"},{"$f":"LUTIN!I29","v":0},{"$f":"LUTIN!A65","v":"X54   Y54"},{"$f":"LUTIN!B64","v":"X53"},{"$f":"LUTIN!C64","v":"Y53"},{"$f":"LUTIN!D65","v":"0015026"},{"$f":"LUTIN!I65","v":0},{"$f":"LUTIN!A101","v":"X90   Y90"},{"$f":"LUTIN!B100","v":"X89"},{"$f":"LUTIN!C100","v":"Y89"},{"$f":"LUTIN!D101","v":"0014453"},{"$f":"LUTIN!I101","v":0}]
[{"$f":"LUTIN!A30","v":"X19   Y19"},{"$f":"LUTIN!B30","v":"X19"},{"$f":"LUTIN!C30","v":"Y19"},{"$f":"LUTIN!D30","v":"0000606"},{"$f":"LUTIN!I30","v":0},{"$f":"LUTIN!A66","v":"X55   Y55"},{"$f":"LUTIN!B65","v":"X54"},{"$f":"LUTIN!C65","v":"Y54"},{"$f":"LUTIN!D66","v":"0010882"},{"$f":"LUTIN!I66","v":0},{"$f":"LUTIN!A102","v":"X91   Y91"},{"$f":"LUTIN!B101","v":"X90"},{"$f":"LUTIN!C101","v":"Y90"},{"$f":"LUTIN!D102","v":"0011252"},{"$f":"LUTIN!I102","v":0}]
[{"$f":"LUTIN!A31","v":"X20   Y20"},{"$f":"LUTIN!B31","v":"X20"},{"$f":"LUTIN!C31","v":"Y20"},{"$f":"LUTIN!D31","v":"0016109"},{"$f":"LUTIN!I31","v":0},{"$f":"LUTIN!A67","v":"X56   Y56"},{"$f":"LUTIN!B66","v":"X55"},{"$f":"LUTIN!C66","v":"Y55"},{"$f":"LUTIN!D67","v":"0011559"},{"$f":"LUTIN!I67","v":0},{"$f":"LUTIN!A103","v":"X92   Y92"},{"$f":"LUTIN!B102","v":"X91"},{"$f":"LUTIN!C102","v":"Y91"},{"$f":"LUTIN!D103","v":"0009459"},{"$f":"LUTIN!I103","v":0}]
[{"$f":"LUTIN!A32","v":"X21   Y21"},{"$f":"LUTIN!B32","v":"X21"},{"$f":"LUTIN!C32","v":"Y21"},{"$f":"LUTIN!D32","v":"0000614"},{"$f":"LUTIN!I32","v":"ü"},{"$f":"LUTIN!A68","v":"X57   Y57"},{"$f":"LUTIN!B67","v":"X56"},{"$f":"LUTIN!C67","v":"Y56"},{"$f":"LUTIN!D68","v":"0000237"},{"$f":"LUTIN!I68","v":0},{"$f":"LUTIN!A104","v":"X93   Y93"},{"$f":"LUTIN!B103","v":"X92"},{"$f":"LUTIN!C103","v":"Y92"},{"$f":"LUTIN!D104","v":"0000504"},{"$f":"LUTIN!I104","v":0}]
[{"$f":"LUTIN!A33","v":"X22   Y22"},{"$f":"LUTIN!B33","v":"X22"},{"$f":"LUTIN!C33","v":"Y22"},{"$f":"LUTIN!D33","v":"0001089"},{"$f":"LUTIN!I33","v":0},{"$f":"LUTIN!A69","v":"X58   Y58"},{"$f":"LUTIN!B68","v":"X57"},{"$f":"LUTIN!C68","v":"Y57"},{"$f":"LUTIN!D69","v":"0000238"},{"$f":"LUTIN!I69","v":"ü"},{"$f":"LUTIN!A105","v":"X94   Y94"},{"$f":"LUTIN!B104","v":"X93"},{"$f":"LUTIN!C104","v":"Y93"},{"$f":"LUTIN!D105","v":"0014810"},{"$f":"LUTIN!I105","v":0}]
[{"$f":"LUTIN!A34","v":"X23   Y23"},{"$f":"LUTIN!B34","v":"X23"},{"$f":"LUTIN!C34","v":"Y23"},{"$f":"LUTIN!D34","v":"0012666"},{"$f":"LUTIN!I34","v":0},{"$f":"LUTIN!A70","v":"X59   Y59"},{"$f":"LUTIN!B69","v":"X58"},{"$f":"LUTIN!C69","v":"Y58"},{"$f":"LUTIN!D70","v":"0011720"},{"$f":"LUTIN!I70","v":0},{"$f":"LUTIN!A106","v":"X95   Y95"},{"$f":"LUTIN!B105","v":"X94"},{"$f":"LUTIN!C105","v":"Y94"},{"$f":"LUTIN!D106","v":"0000000"},{"$f":"LUTIN!I106","v":0}]
[{"$f":"LUTIN!A35","v":"X24   Y24"},{"$f":"LUTIN!B35","v":"X24"},{"$f":"LUTIN!C35","v":"Y24"},{"$f":"LUTIN!D35","v":"0004976"},{"$f":"LUTIN!I35","v":"ü"},{"$f":"LUTIN!A71","v":"X60   Y60"},{"$f":"LUTIN!B70","v":"X59"},{"$f":"LUTIN!C70","v":"Y59"},{"$f":"LUTIN!D71","v":"0009978"},{"$f":"LUTIN!I71","v":0},{"$f":"LUTIN!A107","v":"X96   Y96"},{"$f":"LUTIN!B106","v":"X95"},{"$f":"LUTIN!C106","v":"Y95"},{"$f":"LUTIN!D107","v":"0011904"},{"$f":"LUTIN!I107","v":0}]
[{"$f":"LUTIN!A36","v":"X25   Y25"},{"$f":"LUTIN!B36","v":"X25"},{"$f":"LUTIN!C36","v":"Y25"},{"$f":"LUTIN!D36","v":"0013001"},{"$f":"LUTIN!I36","v":0},{"$f":"LUTIN!A72","v":"X61   Y61"},{"$f":"LUTIN!B71","v":"X60"},{"$f":"LUTIN!C71","v":"Y60"},{"$f":"LUTIN!D72","v":"0000328"},{"$f":"LUTIN!I72","v":"ü"},{"$f":"LUTIN!A108","v":"   "},{"$f":"LUTIN!B107","v":"X96"},{"$f":"LUTIN!C107","v":"Y96"},{"$f":"LUTIN!D108","v":0},{"$f":"LUTIN!I108","v":0}]
[{"$f":"LUTIN!A37","v":"X26   Y26"},{"$f":"LUTIN!B37","v":"X26"},{"$f":"LUTIN!C37","v":"Y26"},{"$f":"LUTIN!D37","v":"0014372"},{"$f":"LUTIN!I37","v":0},{"$f":"LUTIN!A73","v":"X62   Y62"},{"$f":"LUTIN!B72","v":"X61"},{"$f":"LUTIN!C72","v":"Y61"},{"$f":"LUTIN!D73","v":"0009808"},{"$f":"LUTIN!I73","v":0},{"$f":"LUTIN!A109","v":0},{"$f":"LUTIN!B108","v":0},{"$f":"LUTIN!C108","v":0},{"$f":"LUTIN!D109","v":0},{"$f":"LUTIN!I109","v":0}]
[{"$f":"LUTIN!A38","v":"X27   Y27"},{"$f":"LUTIN!B38","v":"X27"},{"$f":"LUTIN!C38","v":"Y27"},{"$f":"LUTIN!D38","v":"0011908"},{"$f":"LUTIN!I38","v":0},{"$f":"LUTIN!A74","v":"X63   Y63"},{"$f":"LUTIN!B73","v":"X62"},{"$f":"LUTIN!C73","v":"Y62"},{"$f":"LUTIN!D74","v":"0000798"},{"$f":"LUTIN!I74","v":"ü"},{"$f":"LUTIN!A110","v":0},{"$f":"LUTIN!B109","v":0},{"$f":"LUTIN!C109","v":0},{"$f":"LUTIN!D110","v":0},{"$f":"LUTIN!I110","v":0}]
[{"$f":"LUTIN!A39","v":"X28   Y28"},{"$f":"LUTIN!B39","v":"X28"},{"$f":"LUTIN!C39","v":"Y28"},{"$f":"LUTIN!D39","v":"0000722"},{"$f":"LUTIN!I39","v":0},{"$f":"LUTIN!A75","v":"X64   Y64"},{"$f":"LUTIN!B74","v":"X63"},{"$f":"LUTIN!C74","v":"Y63"},{"$f":"LUTIN!D75","v":"0000329"},{"$f":"LUTIN!I75","v":"ü"},{"$f":"LUTIN!A111","v":0},{"$f":"LUTIN!B110","v":0},{"$f":"LUTIN!C110","v":0},{"$f":"LUTIN!D111","v":0},{"$f":"LUTIN!I111","v":0}]
[{"$f":"LUTIN!A40","v":"X29   Y29"},{"$f":"LUTIN!B40","v":"X29"},{"$f":"LUTIN!C40","v":"Y29"},{"$f":"LUTIN!D40","v":"0014130"},{"$f":"LUTIN!I40","v":"ü"},{"$f":"LUTIN!A76","v":"X65   Y65"},{"$f":"LUTIN!B75","v":"X64"},{"$f":"LUTIN!C75","v":"Y64"},{"$f":"LUTIN!D76","v":"0016166"},{"$f":"LUTIN!I76","v":0},{"$f":"LUTIN!A112","v":0},{"$f":"LUTIN!B111","v":0},{"$f":"LUTIN!C111","v":0},{"$f":"LUTIN!D112","v":0},{"$f":"LUTIN!I112","v":0}]
[{"$f":"LUTIN!A41","v":"X30   Y30"},{"$f":"LUTIN!B41","v":"X30"},{"$f":"LUTIN!C41","v":"Y30"},{"$f":"LUTIN!D41","v":"0004807"},{"$f":"LUTIN!I41","v":0},{"$f":"LUTIN!A77","v":"X66   Y66"},{"$f":"LUTIN!B76","v":"X65"},{"$f":"LUTIN!C76","v":"Y65"},{"$f":"LUTIN!D77","v":"0000698"},{"$f":"LUTIN!I77","v":0},{"$f":"LUTIN!A113","v":0},{"$f":"LUTIN!B112","v":0},{"$f":"LUTIN!C112","v":0},{"$f":"LUTIN!D113","v":0},{"$f":"LUTIN!I113","v":0}]
[{"$f":"LUTIN!A42","v":"X31   Y31"},{"$f":"LUTIN!B42","v":"X31"},{"$f":"LUTIN!C42","v":"Y31"},{"$f":"LUTIN!D42","v":"0011270"},{"$f":"LUTIN!I42","v":0},{"$f":"LUTIN!A78","v":"X67   Y67"},{"$f":"LUTIN!B77","v":"X66"},{"$f":"LUTIN!C77","v":"Y66"},{"$f":"LUTIN!D78","v":"0016329"},{"$f":"LUTIN!I78","v":0},{"$f":"LUTIN!A114","v":0},{"$f":"LUTIN!B113","v":0},{"$f":"LUTIN!C113","v":0},{"$f":"LUTIN!D114","v":0},{"$f":"LUTIN!I114","v":0}]
[{"$f":"LUTIN!A43","v":"X32   Y32"},{"$f":"LUTIN!B43","v":"X32"},{"$f":"LUTIN!C43","v":"Y32"},{"$f":"LUTIN!D43","v":"0016352"},{"$f":"LUTIN!I43","v":0},{"$f":"LUTIN!A79","v":"X68   Y68"},{"$f":"LUTIN!B78","v":"X67"},{"$f":"LUTIN!C78","v":"Y67"},{"$f":"LUTIN!D79","v":"0000650"},{"$f":"LUTIN!I79","v":"ü"},{"$f":"LUTIN!A115","v":"   "},{"$f":"LUTIN!B114","v":0},{"$f":"LUTIN!C114","v":0},{"$f":"LUTIN!D115","v":""},{"$f":"LUTIN!I115","v":0}]
[{"$f":"LUTIN!A44","v":"X33   Y33"},{"$f":"LUTIN!B44","v":"X33"},{"$f":"LUTIN!C44","v":"Y33"},{"$f":"LUTIN!D44","v":"0011906"},{"$f":"LUTIN!I44","v":0},{"$f":"LUTIN!A80","v":"X69   Y69"},{"$f":"LUTIN!B79","v":"X68"},{"$f":"LUTIN!C79","v":"Y68"},{"$f":"LUTIN!D80","v":"0000518"},{"$f":"LUTIN!I80","v":"ü"},{"$f":"LUTIN!A116","v":"   "},{"$f":"LUTIN!B115","v":0},{"$f":"LUTIN!C115","v":0},{"$f":"LUTIN!D116","v":0},{"$f":"LUTIN!I116","v":0}]
[{"$f":"LUTIN!A45","v":"X34   Y34"},{"$f":"LUTIN!B45","v":"X34"},{"$f":"LUTIN!C45","v":"Y34"},{"$f":"LUTIN!D45","v":"0014857"},{"$f":"LUTIN!I45","v":0},{"$f":"LUTIN!A81","v":"X70   Y70"},{"$f":"LUTIN!B80","v":"X69"},{"$f":"LUTIN!C80","v":"Y69"},{"$f":"LUTIN!D81","v":"0011907"},{"$f":"LUTIN!I81","v":0},{"$f":"LUTIN!A117","v":"   "},{"$f":"LUTIN!B116","v":0},{"$f":"LUTIN!C116","v":0},{"$f":"LUTIN!D117","v":0},{"$f":"LUTIN!I117","v":0}]
[{"$f":"LUTIN!A46","v":"X35   Y35"},{"$f":"LUTIN!B46","v":"X35"},{"$f":"LUTIN!C46","v":"Y35"},{"$f":"LUTIN!D46","v":"0011905"},{"$f":"LUTIN!I46","v":0},{"$f":"LUTIN!A82","v":"X71   Y71"},{"$f":"LUTIN!B81","v":"X70"},{"$f":"LUTIN!C81","v":"Y70"},{"$f":"LUTIN!D82","v":"0010677"},{"$f":"LUTIN!I82","v":0},{"$f":"LUTIN!A118","v":"   "},{"$f":"LUTIN!B117","v":0},{"$f":"LUTIN!C117","v":0},{"$f":"LUTIN!D118","v":0},{"$f":"LUTIN!I118","v":0}]
[{"$f":"LUTIN!A47","v":"X36   Y36"},{"$f":"LUTIN!B47","v":"X36"},{"$f":"LUTIN!C47","v":"Y36"},{"$f":"LUTIN!D47","v":"0000507"},{"$f":"LUTIN!I47","v":"ü"},{"$f":"LUTIN!A83","v":"X72   Y72"},{"$f":"LUTIN!B82","v":"X71"},{"$f":"LUTIN!C82","v":"Y71"},{"$f":"LUTIN!D83","v":"0016231"},{"$f":"LUTIN!I83","v":0},{"$f":"LUTIN!A119","v":"   "},{"$f":"LUTIN!B118","v":0},{"$f":"LUTIN!C118","v":0},{"$f":"LUTIN!D119","v":0},{"$f":"LUTIN!I119","v":0}]
[{"$f":"LUTIN!A48","v":"X37   Y37"},{"$f":"LUTIN!B48","v":"X37"},{"$f":"LUTIN!C48","v":"Y37"},{"$f":"LUTIN!D48","v":"0014854"},{"$f":"LUTIN!I48","v":0},{"$f":"LUTIN!A84","v":"X73   Y73"},{"$f":"LUTIN!B83","v":"X72"},{"$f":"LUTIN!C83","v":"Y72"},{"$f":"LUTIN!D84","v":"0010207"},{"$f":"LUTIN!I84","v":0},{"$f":"LUTIN!A120","v":"   "},{"$f":"LUTIN!B119","v":0},{"$f":"LUTIN!C119","v":0},{"$f":"LUTIN!D120","v":0},{"$f":"LUTIN!I120","v":0}]
[{"$f":"LUTIN!A49","v":"X38   Y38"},{"$f":"LUTIN!B49","v":"X38"},{"$f":"LUTIN!C49","v":"Y38"},{"$f":"LUTIN!D49","v":"0001003"},{"$f":"LUTIN!I49","v":0},{"$f":"LUTIN!A85","v":"X74   Y74"},{"$f":"LUTIN!B84","v":"X73"},{"$f":"LUTIN!C84","v":"Y73"},{"$f":"LUTIN!D85","v":"0012437"},{"$f":"LUTIN!I85","v":0},{"$f":"LUTIN!A121","v":"   "},{"$f":"LUTIN!B120","v":0},{"$f":"LUTIN!C120","v":0},{"$f":"LUTIN!D121","v":0},{"$f":"LUTIN!I121","v":0}]
[{"$f":"LUTIN!A50","v":"X39   Y39"},{"$f":"LUTIN!B50","v":"X39"},{"$f":"LUTIN!C50","v":"Y39"},{"$f":"LUTIN!D50","v":"0014541"},{"$f":"LUTIN!I50","v":0},{"$f":"LUTIN!A86","v":"X75   Y75"},{"$f":"LUTIN!B85","v":"X74"},{"$f":"LUTIN!C85","v":"Y74"},{"$f":"LUTIN!D86","v":"0000734"},{"$f":"LUTIN!I86","v":"ü"},{"$f":"LUTIN!A122","v":"   "},{"$f":"LUTIN!B121","v":0},{"$f":"LUTIN!C121","v":0},{"$f":"LUTIN!D122","v":0},{"$f":"LUTIN!I122","v":0}]
[{"$f":"LUTIN!A51","v":"X40   Y40"},{"$f":"LUTIN!B51","v":"X40"},{"$f":"LUTIN!C51","v":"Y40"},{"$f":"LUTIN!D51","v":"0000635"},{"$f":"LUTIN!I51","v":"ü"},{"$f":"LUTIN!A87","v":"X76   Y76"},{"$f":"LUTIN!B86","v":"X75"},{"$f":"LUTIN!C86","v":"Y75"},{"$f":"LUTIN!D87","v":"0014858"},{"$f":"LUTIN!I87","v":0},{"$f":"LUTIN!A123","v":"   "},{"$f":"LUTIN!B122","v":0},{"$f":"LUTIN!C122","v":0},{"$f":"LUTIN!D123","v":0},{"$f":"LUTIN!I123","v":0}]
[{"$f":"LUTIN!A52","v":"X41   Y41"},{"$f":"LUTIN!B52","v":"X41"},{"$f":"LUTIN!C52","v":"Y41"},{"$f":"LUTIN!D52","v":"0011705"},{"$f":"LUTIN!I52","v":0},{"$f":"LUTIN!A88","v":"X77   Y77"},{"$f":"LUTIN!B87","v":"X76"},{"$f":"LUTIN!C87","v":"Y76"},{"$f":"LUTIN!D88","v":"0016325"},{"$f":"LUTIN!I88","v":0},{"$f":"LUTIN!A124","v":""},{"$f":"LUTIN!B123","v":0},{"$f":"LUTIN!C123","v":0},{"$f":"LUTIN!D124","v":0},{"$f":"LUTIN!I124","v":0}]
[{"$f":"LUTIN!A53","v":"X42   Y42"},{"$f":"LUTIN!B53","v":"X42"},{"$f":"LUTIN!C53","v":"Y42"},{"$f":"LUTIN!D53","v":"0000327"},{"$f":"LUTIN!I53","v":"ü"},{"$f":"LUTIN!A89","v":"X78   Y78"},{"$f":"LUTIN!B88","v":"X77"},{"$f":"LUTIN!C88","v":"Y77"},{"$f":"LUTIN!D89","v":"0014425"},{"$f":"LUTIN!I89","v":0},{"$f":"LUTIN!A125","v":"CAp"},{"$f":"LUTIN!B124","v":0},{"$f":"LUTIN!C124","v":0},{"$f":"LUTIN!D125","v":0},{"$f":"LUTIN!I125","v":0}]
[{"$f":"LUTIN!A54","v":"X43   Y43"},{"$f":"LUTIN!B54","v":"X43"},{"$f":"LUTIN!C54","v":"Y43"},{"$f":"LUTIN!D54","v":"0011208"},{"$f":"LUTIN!I54","v":0},{"$f":"LUTIN!A90","v":"X79   Y79"},{"$f":"LUTIN!B89","v":"X78"},{"$f":"LUTIN!C89","v":"Y78"},{"$f":"LUTIN!D90","v":"0000506"},{"$f":"LUTIN!I90","v":0},{"$f":"LUTIN!A126","v":"CAPE"},{"$f":"LUTIN!B125","v":0},{"$f":"LUTIN!C125","v":0},{"$f":"LUTIN!D126","v":0},{"$f":"LUTIN!I126","v":0}]
[{"$f":"LUTIN!A55","v":"X44   Y44"},{"$f":"LUTIN!B55","v":"X44"},{"$f":"LUTIN!C55","v":"Y44"},{"$f":"LUTIN!D55","v":"0000537"},{"$f":"LUTIN!I55","v":0},{"$f":"LUTIN!A91","v":"X80   Y80"},{"$f":"LUTIN!B90","v":"X79"},{"$f":"LUTIN!C90","v":"Y79"},{"$f":"LUTIN!D91","v":"0010382"},{"$f":"LUTIN!I91","v":0},{"$f":"LUTIN!#REF!","v":{"$error":"#REF!"}},{"$f":"LUTIN!B126","v":0},{"$f":"LUTIN!C126","v":0},{"$f":"LUTIN!#REF!","v":{"$error":"#REF!"}},{"$f":"LUTIN!#REF!","v":{"$error":"#REF!"}}]
[{"$f":"LUTIN!A56","v":"X45   Y45"},{"$f":"LUTIN!B56","v":"X45"},{"$f":"LUTIN!C56","v":"Y45"},{"$f":"LUTIN!D56","v":"0014952"},{"$f":"LUTIN!I56","v":0},{"$f":"LUTIN!A92","v":"X81   Y81"},{"$f":"LUTIN!B91","v":"X80"},{"$f":"LUTIN!C91","v":"Y80"},{"$f":"LUTIN!D92","v":"0000454"},{"$f":"LUTIN!I92","v":0},{"$f":"LUTIN!#REF!","v":{"$error":"#REF!"}},{"$f":"LUTIN!#REF!","v":{"$error":"#REF!"}},{"$f":"LUTIN!#REF!","v":{"$error":"#REF!"}},{"$f":"LUTIN!#REF!","v":{"$error":"#REF!"}},{"$f":"LUTIN!#REF!","v":{"$error":"#REF!"}}]
["SDIS 57"]
[]
["SUIVI LUTIN DU CENTRE DE SECOURS DE HAGONDANGE"]
[]
[]
[]
["PERMIS",null,null,null,null,null,null,null,{"$f":"LUTIN!J11","v":"PRV"}]
[]
[]
["NOM - PRENOM","NOM","PRENOM","MATRICULE",{"$f":"I324","v":"PRV"},"NOM - PRENOM","NOM","PRENOM","MATRICULE",{"$f":"E327","v":"PRV"},"NOM - PRENOM","NOM","PRENOM","MATRICULE",{"$f":"J327","v":"PRV"}]
[]
[{"$f":"LUTIN!A12","v":"X1   Y1"},{"$f":"LUTIN!B12","v":"X1"},{"$f":"LUTIN!C12","v":"Y1"},{"$f":"LUTIN!D12","v":"0013041"},{"$f":"LUTIN!J12","v":0},{"$f":"LUTIN!A56","v":"X45   Y45"},{"$f":"LUTIN!B56","v":"X45"},{"$f":"LUTIN!C56","v":"Y45"},{"$f":"LUTIN!D56","v":"0014952"},{"$f":"LUTIN!J56","v":0},{"$f":"LUTIN!A92","v":"X81   Y81"},{"$f":"LUTIN!B92","v":"X81"},{"$f":"LUTIN!C92","v":"Y81"},{"$f":"LUTIN!D92","v":"0000454"},{"$f":"LUTIN!J92","v":0}]
[{"$f":"LUTIN!A22","v":"X11   Y11"},{"$f":"LUTIN!B22","v":"X11"},{"$f":"LUTIN!C22","v":"Y11"},{"$f":"LUTIN!D22","v":"0014707"},{"$f":"LUTIN!J22","v":0},{"$f":"LUTIN!A57","v":"X46   Y46"},{"$f":"LUTIN!B57","v":"X46"},{"$f":"LUTIN!C57","v":"Y46"},{"$f":"LUTIN!D57","v":"0012816"},{"$f":"LUTIN!J57","v":0},{"$f":"LUTIN!A93","v":"X82   Y82"},{"$f":"LUTIN!B93","v":"X82"},{"$f":"LUTIN!C93","v":"Y82"},{"$f":"LUTIN!D93","v":"0014794"},{"$f":"LUTIN!J93","v":0}]
[{"$f":"LUTIN!A23","v":"X12   Y12"},{"$f":"LUTIN!B23","v":"X12"},{"$f":"LUTIN!C23","v":"Y12"},{"$f":"LUTIN!D23","v":"0004796"},{"$f":"LUTIN!J23","v":0},{"$f":"LUTIN!A58","v":"X47   Y47"},{"$f":"LUTIN!B58","v":"X47"},{"$f":"LUTIN!C58","v":"Y47"},{"$f":"LUTIN!D58","v":"0000795"},{"$f":"LUTIN!J58","v":0},{"$f":"LUTIN!A94","v":"X83   Y83"},{"$f":"LUTIN!B94","v":"X83"},{"$f":"LUTIN!C94","v":"Y83"},{"$f":"LUTIN!D94","v":"0014794"},{"$f":"LUTIN!J94","v":0}]
[{"$f":"LUTIN!A24","v":"X13   Y13"},{"$f":"LUTIN!B24","v":"X13"},{"$f":"LUTIN!C24","v":"Y13"},{"$f":"LUTIN!D24","v":"0011105"},{"$f":"LUTIN!J24","v":0},{"$f":"LUTIN!A59","v":"X48   Y48"},{"$f":"LUTIN!B59","v":"X48"},{"$f":"LUTIN!C59","v":"Y48"},{"$f":"LUTIN!D59","v":"0000466"},{"$f":"LUTIN!J59","v":0},{"$f":"LUTIN!A95","v":"X84   Y84"},{"$f":"LUTIN!B95","v":"X84"},{"$f":"LUTIN!C95","v":"Y84"},{"$f":"LUTIN!D95","v":"0014703"},{"$f":"LUTIN!J95","v":0}]
[{"$f":"LUTIN!#REF!","v":{"$error":"#REF!"}},{"$f":"LUTIN!#REF!","v":{"$error":"#REF!"}},{"$f":"LUTIN!#REF!","v":{"$error":"#REF!"}},{"$f":"LUTIN!#REF!","v":{"$error":"#REF!"}},{"$f":"LUTIN!#REF!","v":{"$error":"#REF!"}},{"$f":"LUTIN!A60","v":"X49   Y49"},{"$f":"LUTIN!B60","v":"X49"},{"$f":"LUTIN!C60","v":"Y49"},{"$f":"LUTIN!D60","v":"0014390"},{"$f":"LUTIN!J60","v":0},{"$f":"LUTIN!A96","v":"X85   Y85"},{"$f":"LUTIN!B96","v":"X85"},{"$f":"LUTIN!C96","v":"Y85"},{"$f":"LUTIN!D96","v":"0014835"},{"$f":"LUTIN!J96","v":0}]
[{"$f":"LUTIN!A25","v":"X14   Y14"},{"$f":"LUTIN!B25","v":"X14"},{"$f":"LUTIN!C25","v":"Y14"},{"$f":"LUTIN!D25","v":"0012601"},{"$f":"LUTIN!J25","v":0},{"$f":"LUTIN!A61","v":"X50   Y50"},{"$f":"LUTIN!B61","v":"X50"},{"$f":"LUTIN!C61","v":"Y50"},{"$f":"LUTIN!D61","v":"0011106"},{"$f":"LUTIN!J61","v":0},{"$f":"LUTIN!A97","v":"X86   Y86"},{"$f":"LUTIN!B97","v":"X86"},{"$f":"LUTIN!C97","v":"Y86"},{"$f":"LUTIN!D97","v":"0002573"},{"$f":"LUTIN!J97","v":0}]
[{"$f":"LUTIN!A26","v":"X15   Y15"},{"$f":"LUTIN!B26","v":"X15"},{"$f":"LUTIN!C26","v":"Y15"},{"$f":"LUTIN!D26","v":"0014518"},{"$f":"LUTIN!J26","v":0},{"$f":"LUTIN!A62","v":"X51   Y51"},{"$f":"LUTIN!B62","v":"X51"},{"$f":"LUTIN!C62","v":"Y51"},{"$f":"LUTIN!D62","v":""},{"$f":"LUTIN!J62","v":0},{"$f":"LUTIN!A98","v":"X87   Y87"},{"$f":"LUTIN!B98","v":"X87"},{"$f":"LUTIN!C98","v":"Y87"},{"$f":"LUTIN!D98","v":""},{"$f":"LUTIN!J98","v":0}]
[{"$f":"LUTIN!A27","v":"X16   Y16"},{"$f":"LUTIN!B27","v":"X16"},{"$f":"LUTIN!C27","v":"Y16"},{"$f":"LUTIN!D27","v":"0000038"},{"$f":"LUTIN!J27","v":0},{"$f":"LUTIN!A63","v":"X52   Y52"},{"$f":"LUTIN!B63","v":"X52"},{"$f":"LUTIN!C63","v":"Y52"},{"$f":"LUTIN!D63","v":"0011571"},{"$f":"LUTIN!J63","v":0},{"$f":"LUTIN!A99","v":"X88   Y88"},{"$f":"LUTIN!B99","v":"X88"},{"$f":"LUTIN!C99","v":"Y88"},{"$f":"LUTIN!D99","v":"0012527"},{"$f":"LUTIN!J99","v":0}]
[{"$f":"LUTIN!A28","v":"X17   Y17"},{"$f":"LUTIN!B28","v":"X17"},{"$f":"LUTIN!C28","v":"Y17"},{"$f":"LUTIN!D28","v":""},{"$f":"LUTIN!J28","v":0},{"$f":"LUTIN!A64","v":"X53   Y53"},{"$f":"LUTIN!B64","v":"X53"},{"$f":"LUTIN!C64","v":"Y53"},{"$f":"LUTIN!D64","v":"0015023"},{"$f":"LUTIN!J64","v":0},{"$f":"LUTIN!A100","v":"X89   Y89"},{"$f":"LUTIN!B100","v":"X89"},{"$f":"LUTIN!C100","v":"Y89"},{"$f":"LUTIN!D100","v":"0012136"},{"$f":"LUTIN!J100","v":0}]
[{"$f":"LUTIN!A29","v":"X18   Y18"},{"$f":"LUTIN!B29","v":"X18"},{"$f":"LUTIN!C29","v":"Y18"},{"$f":"LUTIN!D29","v":"0008074"},{"$f":"LUTIN!J29","v":0},{"$f":"LUTIN!A65","v":"X54   Y54"},{"$f":"LUTIN!B65","v":"X54"},{"$f":"LUTIN!C65","v":"Y54"},{"$f":"LUTIN!D65","v":"0015026"},{"$f":"LUTIN!J65","v":0},{"$f":"LUTIN!A101","v":"X90   Y90"},{"$f":"LUTIN!B101","v":"X90"},{"$f":"LUTIN!C101","v":"Y90"},{"$f":"LUTIN!D101","v":"0014453"},{"$f":"LUTIN!J101","v":0}]
[{"$f":"LUTIN!A30","v":"X19   Y19"},{"$f":"LUTIN!B30","v":"X19"},{"$f":"LUTIN!C30","v":"Y19"},{"$f":"LUTIN!D30","v":"0000606"},{"$f":"LUTIN!J30","v":0},{"$f":"LUTIN!A66","v":"X55   Y55"},{"$f":"LUTIN!B66","v":"X55"},{"$f":"LUTIN!C66","v":"Y55"},{"$f":"LUTIN!D66","v":"0010882"},{"$f":"LUTIN!J66","v":0},{"$f":"LUTIN!A102","v":"X91   Y91"},{"$f":"LUTIN!B102","v":"X91"},{"$f":"LUTIN!C102","v":"Y91"},{"$f":"LUTIN!D102","v":"0011252"},{"$f":"LUTIN!J102","v":0}]
[{"$f":"LUTIN!A31","v":"X20   Y20"},{"$f":"LUTIN!B31","v":"X20"},{"$f":"LUTIN!C31","v":"Y20"},{"$f":"LUTIN!D31","v":"0016109"},{"$f":"LUTIN!J31","v":0},{"$f":"LUTIN!A67","v":"X56   Y56"},{"$f":"LUTIN!B67","v":"X56"},{"$f":"LUTIN!C67","v":"Y56"},{"$f":"LUTIN!D67","v":"0011559"},{"$f":"LUTIN!J67","v":0},{"$f":"LUTIN!A103","v":"X92   Y92"},{"$f":"LUTIN!B103","v":"X92"},{"$f":"LUTIN!C103","v":"Y92"},{"$f":"LUTIN!D103","v":"0009459"},{"$f":"LUTIN!J103","v":0}]
[{"$f":"LUTIN!A32","v":"X21   Y21"},{"$f":"LUTIN!B32","v":"X21"},{"$f":"LUTIN!C32","v":"Y21"},{"$f":"LUTIN!D32","v":"0000614"},{"$f":"LUTIN!J32","v":0},{"$f":"LUTIN!A68","v":"X57   Y57"},{"$f":"LUTIN!B68","v":"X57"},{"$f":"LUTIN!C68","v":"Y57"},{"$f":"LUTIN!D68","v":"0000237"},{"$f":"LUTIN!J68","v":0},{"$f":"LUTIN!A104","v":"X93   Y93"},{"$f":"LUTIN!B104","v":"X93"},{"$f":"LUTIN!C104","v":"Y93"},{"$f":"LUTIN!D104","v":"0000504"},{"$f":"LUTIN!J104","v":0}]
[{"$f":"LUTIN!A33","v":"X22   Y22"},{"$f":"LUTIN!B33","v":"X22"},{"$f":"LUTIN!C33","v":"Y22"},{"$f":"LUTIN!D33","v":"0001089"},{"$f":"LUTIN!J33","v":0},{"$f":"LUTIN!A69","v":"X58   Y58"},{"$f":"LUTIN!B69","v":"X58"},{"$f":"LUTIN!C69","v":"Y58"},{"$f":"LUTIN!D69","v":"0000238"},{"$f":"LUTIN!J69","v":0},{"$f":"LUTIN!A105","v":"X94   Y94"},{"$f":"LUTIN!B105","v":"X94"},{"$f":"LUTIN!C105","v":"Y94"},{"$f":"LUTIN!D105","v":"0014810"},{"$f":"LUTIN!J105","v":0}]
[{"$f":"LUTIN!A34","v":"X23   Y23"},{"$f":"LUTIN!B34","v":"X23"},{"$f":"LUTIN!C34","v":"Y23"},{"$f":"LUTIN!D34","v":"0012666"},{"$f":"LUTIN!J34","v":0},{"$f":"LUTIN!A70","v":"X59   Y59"},{"$f":"LUTIN!B70","v":"X59"},{"$f":"LUTIN!C70","v":"Y59"},{"$f":"LUTIN!D70","v":"0011720"},{"$f":"LUTIN!J70","v":0},{"$f":"LUTIN!A106","v":"X95   Y95"},{"$f":"LUTIN!B106","v":"X95"},{"$f":"LUTIN!C106","v":"Y95"},{"$f":"LUTIN!D106","v":"0000000"},{"$f":"LUTIN!J106","v":0}]
[{"$f":"LUTIN!A35","v":"X24   Y24"},{"$f":"LUTIN!B35","v":"X24"},{"$f":"LUTIN!C35","v":"Y24"},{"$f":"LUTIN!D35","v":"0004976"},{"$f":"LUTIN!J35","v":0},{"$f":"LUTIN!A71","v":"X60   Y60"},{"$f":"LUTIN!B71","v":"X60"},{"$f":"LUTIN!C71","v":"Y60"},{"$f":"LUTIN!D71","v":"0009978"},{"$f":"LUTIN!J71","v":0},{"$f":"LUTIN!A107","v":"X96   Y96"},{"$f":"LUTIN!B107","v":"X96"},{"$f":"LUTIN!C107","v":"Y96"},{"$f":"LUTIN!D107","v":"0011904"},{"$f":"LUTIN!J107","v":0}]
[{"$f":"LUTIN!A36","v":"X25   Y25"},{"$f":"LUTIN!B36","v":"X25"},{"$f":"LUTIN!C36","v":"Y25"},{"$f":"LUTIN!D36","v":"0013001"},{"$f":"LUTIN!J36","v":0},{"$f":"LUTIN!A72","v":"X61   Y61"},{"$f":"LUTIN!B72","v":"X61"},{"$f":"LUTIN!C72","v":"Y61"},{"$f":"LUTIN!D72","v":"0000328"},{"$f":"LUTIN!J72","v":0},{"$f":"LUTIN!A108","v":"   "},{"$f":"LUTIN!B108","v":0},{"$f":"LUTIN!C108","v":0},{"$f":"LUTIN!D108","v":0},{"$f":"LUTIN!J108","v":0}]
[{"$f":"LUTIN!A37","v":"X26   Y26"},{"$f":"LUTIN!B37","v":"X26"},{"$f":"LUTIN!C37","v":"Y26"},{"$f":"LUTIN!D37","v":"0014372"},{"$f":"LUTIN!J37","v":0},{"$f":"LUTIN!A73","v":"X62   Y62"},{"$f":"LUTIN!B73","v":"X62"},{"$f":"LUTIN!C73","v":"Y62"},{"$f":"LUTIN!D73","v":"0009808"},{"$f":"LUTIN!J73","v":0},{"$f":"LUTIN!A109","v":0},{"$f":"LUTIN!B109","v":0},{"$f":"LUTIN!C109","v":0},{"$f":"LUTIN!D109","v":0},{"$f":"LUTIN!J109","v":0}]
[{"$f":"LUTIN!A38","v":"X27   Y27"},{"$f":"LUTIN!B38","v":"X27"},{"$f":"LUTIN!C38","v":"Y27"},{"$f":"LUTIN!D38","v":"0011908"},{"$f":"LUTIN!J38","v":0},{"$f":"LUTIN!A74","v":"X63   Y63"},{"$f":"LUTIN!B74","v":"X63"},{"$f":"LUTIN!C74","v":"Y63"},{"$f":"LUTIN!D74","v":"0000798"},{"$f":"LUTIN!J74","v":0},{"$f":"LUTIN!A110","v":0},{"$f":"LUTIN!B110","v":0},{"$f":"LUTIN!C110","v":0},{"$f":"LUTIN!D110","v":0},{"$f":"LUTIN!J110","v":0}]
[{"$f":"LUTIN!A39","v":"X28   Y28"},{"$f":"LUTIN!B39","v":"X28"},{"$f":"LUTIN!C39","v":"Y28"},{"$f":"LUTIN!D39","v":"0000722"},{"$f":"LUTIN!J39","v":0},{"$f":"LUTIN!A75","v":"X64   Y64"},{"$f":"LUTIN!B75","v":"X64"},{"$f":"LUTIN!C75","v":"Y64"},{"$f":"LUTIN!D75","v":"0000329"},{"$f":"LUTIN!J75","v":0},{"$f":"LUTIN!A111","v":0},{"$f":"LUTIN!B111","v":0},{"$f":"LUTIN!C111","v":0},{"$f":"LUTIN!D111","v":0},{"$f":"LUTIN!J111","v":0}]
[{"$f":"LUTIN!A40","v":"X29   Y29"},{"$f":"LUTIN!B40","v":"X29"},{"$f":"LUTIN!C40","v":"Y29"},{"$f":"LUTIN!D40","v":"0014130"},{"$f":"LUTIN!J40","v":0},{"$f":"LUTIN!A76","v":"X65   Y65"},{"$f":"LUTIN!B76","v":"X65"},{"$f":"LUTIN!C76","v":"Y65"},{"$f":"LUTIN!D76","v":"0016166"},{"$f":"LUTIN!J76","v":0},{"$f":"LUTIN!A112","v":0},{"$f":"LUTIN!B112","v":0},{"$f":"LUTIN!C112","v":0},{"$f":"LUTIN!D112","v":0},{"$f":"LUTIN!J112","v":0}]
[{"$f":"LUTIN!A41","v":"X30   Y30"},{"$f":"LUTIN!B41","v":"X30"},{"$f":"LUTIN!C41","v":"Y30"},{"$f":"LUTIN!D41","v":"0004807"},{"$f":"LUTIN!J41","v":0},{"$f":"LUTIN!A77","v":"X66   Y66"},{"$f":"LUTIN!B77","v":"X66"},{"$f":"LUTIN!C77","v":"Y66"},{"$f":"LUTIN!D77","v":"0000698"},{"$f":"LUTIN!J77","v":0},{"$f":"LUTIN!A113","v":0},{"$f":"LUTIN!B113","v":0},{"$f":"LUTIN!C113","v":0},{"$f":"LUTIN!D113","v":0},{"$f":"LUTIN!J113","v":0}]
[{"$f":"LUTIN!A42","v":"X31   Y31"},{"$f":"LUTIN!B42","v":"X31"},{"$f":"LUTIN!C42","v":"Y31"},{"$f":"LUTIN!D42","v":"0011270"},{"$f":"LUTIN!J42","v":0},{"$f":"LUTIN!A78","v":"X67   Y67"},{"$f":"LUTIN!B78","v":"X67"},{"$f":"LUTIN!C78","v":"Y67"},{"$f":"LUTIN!D78","v":"0016329"},{"$f":"LUTIN!J78","v":0},{"$f":"LUTIN!A114","v":0},{"$f":"LUTIN!B114","v":0},{"$f":"LUTIN!C114","v":0},{"$f":"LUTIN!D114","v":0},{"$f":"LUTIN!J114","v":0}]
[{"$f":"LUTIN!A43","v":"X32   Y32"},{"$f":"LUTIN!B43","v":"X32"},{"$f":"LUTIN!C43","v":"Y32"},{"$f":"LUTIN!D43","v":"0016352"},{"$f":"LUTIN!J43","v":0},{"$f":"LUTIN!A79","v":"X68   Y68"},{"$f":"LUTIN!B79","v":"X68"},{"$f":"LUTIN!C79","v":"Y68"},{"$f":"LUTIN!D79","v":"0000650"},{"$f":"LUTIN!J79","v":0},{"$f":"LUTIN!A115","v":"   "},{"$f":"LUTIN!B115","v":0},{"$f":"LUTIN!C115","v":0},{"$f":"LUTIN!D115","v":""},{"$f":"LUTIN!J115","v":0}]
[{"$f":"LUTIN!A44","v":"X33   Y33"},{"$f":"LUTIN!B44","v":"X33"},{"$f":"LUTIN!C44","v":"Y33"},{"$f":"LUTIN!D44","v":"0011906"},{"$f":"LUTIN!J44","v":0},{"$f":"LUTIN!A80","v":"X69   Y69"},{"$f":"LUTIN!B80","v":"X69"},{"$f":"LUTIN!C80","v":"Y69"},{"$f":"LUTIN!D80","v":"0000518"},{"$f":"LUTIN!J80","v":0},{"$f":"LUTIN!A116","v":"   "},{"$f":"LUTIN!B116","v":0},{"$f":"LUTIN!C116","v":0},{"$f":"LUTIN!D116","v":0},{"$f":"LUTIN!J116","v":0}]
[{"$f":"LUTIN!A45","v":"X34   Y34"},{"$f":"LUTIN!B45","v":"X34"},{"$f":"LUTIN!C45","v":"Y34"},{"$f":"LUTIN!D45","v":"0014857"},{"$f":"LUTIN!J45","v":0},{"$f":"LUTIN!A81","v":"X70   Y70"},{"$f":"LUTIN!B81","v":"X70"},{"$f":"LUTIN!C81","v":"Y70"},{"$f":"LUTIN!D81","v":"0011907"},{"$f":"LUTIN!J81","v":0},{"$f":"LUTIN!A117","v":"   "},{"$f":"LUTIN!B117","v":0},{"$f":"LUTIN!C117","v":0},{"$f":"LUTIN!D117","v":0},{"$f":"LUTIN!J117","v":0}]
[{"$f":"LUTIN!A46","v":"X35   Y35"},{"$f":"LUTIN!B46","v":"X35"},{"$f":"LUTIN!C46","v":"Y35"},{"$f":"LUTIN!D46","v":"0011905"},{"$f":"LUTIN!J46","v":0},{"$f":"LUTIN!A82","v":"X71   Y71"},{"$f":"LUTIN!B82","v":"X71"},{"$f":"LUTIN!C82","v":"Y71"},{"$f":"LUTIN!D82","v":"0010677"},{"$f":"LUTIN!J82","v":0},{"$f":"LUTIN!A118","v":"   "},{"$f":"LUTIN!B118","v":0},{"$f":"LUTIN!C118","v":0},{"$f":"LUTIN!D118","v":0},{"$f":"LUTIN!J118","v":0}]
[{"$f":"LUTIN!A47","v":"X36   Y36"},{"$f":"LUTIN!B47","v":"X36"},{"$f":"LUTIN!C47","v":"Y36"},{"$f":"LUTIN!D47","v":"0000507"},{"$f":"LUTIN!J47","v":0},{"$f":"LUTIN!A83","v":"X72   Y72"},{"$f":"LUTIN!B83","v":"X72"},{"$f":"LUTIN!C83","v":"Y72"},{"$f":"LUTIN!D83","v":"0016231"},{"$f":"LUTIN!J83","v":0},{"$f":"LUTIN!A119","v":"   "},{"$f":"LUTIN!B119","v":0},{"$f":"LUTIN!C119","v":0},{"$f":"LUTIN!D119","v":0},{"$f":"LUTIN!J119","v":0}]
[{"$f":"LUTIN!A48","v":"X37   Y37"},{"$f":"LUTIN!B48","v":"X37"},{"$f":"LUTIN!C48","v":"Y37"},{"$f":"LUTIN!D48","v":"0014854"},{"$f":"LUTIN!J48","v":0},{"$f":"LUTIN!A84","v":"X73   Y73"},{"$f":"LUTIN!B84","v":"X73"},{"$f":"LUTIN!C84","v":"Y73"},{"$f":"LUTIN!D84","v":"0010207"},{"$f":"LUTIN!J84","v":0},{"$f":"LUTIN!A120","v":"   "},{"$f":"LUTIN!B120","v":0},{"$f":"LUTIN!C120","v":0},{"$f":"LUTIN!D120","v":0},{"$f":"LUTIN!J120","v":0}]
[{"$f":"LUTIN!A49","v":"X38   Y38"},{"$f":"LUTIN!B49","v":"X38"},{"$f":"LUTIN!C49","v":"Y38"},{"$f":"LUTIN!D49","v":"0001003"},{"$f":"LUTIN!J49","v":0},{"$f":"LUTIN!A85","v":"X74   Y74"},{"$f":"LUTIN!B85","v":"X74"},{"$f":"LUTIN!C85","v":"Y74"},{"$f":"LUTIN!D85","v":"0012437"},{"$f":"LUTIN!J85","v":0},{"$f":"LUTIN!A121","v":"   "},{"$f":"LUTIN!B121","v":0},{"$f":"LUTIN!C121","v":0},{"$f":"LUTIN!D121","v":0},{"$f":"LUTIN!J121","v":0}]
[{"$f":"LUTIN!A50","v":"X39   Y39"},{"$f":"LUTIN!B50","v":"X39"},{"$f":"LUTIN!C50","v":"Y39"},{"$f":"LUTIN!D50","v":"0014541"},{"$f":"LUTIN!J50","v":0},{"$f":"LUTIN!A86","v":"X75   Y75"},{"$f":"LUTIN!B86","v":"X75"},{"$f":"LUTIN!C86","v":"Y75"},{"$f":"LUTIN!D86","v":"0000734"},{"$f":"LUTIN!J86","v":0},{"$f":"LUTIN!A122","v":"   "},{"$f":"LUTIN!B122","v":0},{"$f":"LUTIN!C122","v":0},{"$f":"LUTIN!D122","v":0},{"$f":"LUTIN!J122","v":0}]
[{"$f":"LUTIN!A51","v":"X40   Y40"},{"$f":"LUTIN!B51","v":"X40"},{"$f":"LUTIN!C51","v":"Y40"},{"$f":"LUTIN!D51","v":"0000635"},{"$f":"LUTIN!J51","v":0},{"$f":"LUTIN!A87","v":"X76   Y76"},{"$f":"LUTIN!B87","v":"X76"},{"$f":"LUTIN!C87","v":"Y76"},{"$f":"LUTIN!D87","v":"0014858"},{"$f":"LUTIN!J87","v":0},{"$f":"LUTIN!A123","v":"   "},{"$f":"LUTIN!B123","v":0},{"$f":"LUTIN!C123","v":0},{"$f":"LUTIN!D123","v":0},{"$f":"LUTIN!J123","v":0}]
[{"$f":"LUTIN!A52","v":"X41   Y41"},{"$f":"LUTIN!B52","v":"X41"},{"$f":"LUTIN!C52","v":"Y41"},{"$f":"LUTIN!D52","v":"0011705"},{"$f":"LUTIN!J52","v":0},{"$f":"LUTIN!A88","v":"X77   Y77"},{"$f":"LUTIN!B88","v":"X77"},{"$f":"LUTIN!C88","v":"Y77"},{"$f":"LUTIN!D88","v":"0016325"},{"$f":"LUTIN!J88","v":0},{"$f":"LUTIN!A124","v":""},{"$f":"LUTIN!B124","v":0},{"$f":"LUTIN!C124","v":0},{"$f":"LUTIN!D124","v":0},{"$f":"LUTIN!J124","v":0}]
[{"$f":"LUTIN!A53","v":"X42   Y42"},{"$f":"LUTIN!B53","v":"X42"},{"$f":"LUTIN!C53","v":"Y42"},{"$f":"LUTIN!D53","v":"0000327"},{"$f":"LUTIN!J53","v":0},{"$f":"LUTIN!A89","v":"X78   Y78"},{"$f":"LUTIN!B89","v":"X78"},{"$f":"LUTIN!C89","v":"Y78"},{"$f":"LUTIN!D89","v":"0014425"},{"$f":"LUTIN!J89","v":0},{"$f":"LUTIN!A125","v":"CAp"},{"$f":"LUTIN!B125","v":0},{"$f":"LUTIN!C125","v":0},{"$f":"LUTIN!D125","v":0},{"$f":"LUTIN!J125","v":0}]
[{"$f":"LUTIN!A54","v":"X43   Y43"},{"$f":"LUTIN!B54","v":"X43"},{"$f":"LUTIN!C54","v":"Y43"},{"$f":"LUTIN!D54","v":"0011208"},{"$f":"LUTIN!J54","v":0},{"$f":"LUTIN!A90","v":"X79   Y79"},{"$f":"LUTIN!B90","v":"X79"},{"$f":"LUTIN!C90","v":"Y79"},{"$f":"LUTIN!D90","v":"0000506"},{"$f":"LUTIN!J90","v":0},{"$f":"LUTIN!A126","v":"CAPE"},{"$f":"LUTIN!B126","v":0},{"$f":"LUTIN!C126","v":0},{"$f":"LUTIN!D126","v":0},{"$f":"LUTIN!J126","v":0}]
[{"$f":"LUTIN!A55","v":"X44   Y44"},{"$f":"LUTIN!B55","v":"X44"},{"$f":"LUTIN!C55","v":"Y44"},{"$f":"LUTIN!D55","v":"0000537"},{"$f":"LUTIN!J55","v":0},{"$f":"LUTIN!A91","v":"X80   Y80"},{"$f":"LUTIN!B91","v":"X80"},{"$f":"LUTIN!C91","v":"Y80"},{"$f":"LUTIN!D91","v":"0010382"},{"$f":"LUTIN!J91","v":0},{"$f":"LUTIN!#REF!","v":{"$error":"#REF!"}},{"$f":"LUTIN!#REF!","v":{"$error":"#REF!"}},{"$f":"LUTIN!#REF!","v":{"$error":"#REF!"}},{"$f":"LUTIN!#REF!","v":{"$error":"#REF!"}},{"$f":"LUTIN!#REF!","v":{"$error":"#REF!"}}]
["SDIS 57"]
[]
["SUIVI DU CENTRE DE SECOURS DE HAGONDANGE"]
[]
[]
[]
["FORMATIONS",null,null,null,null,null,null,null,{"$f":"LUTIN!K11","v":"4ème"}]
[]
[]
["NOM - PRENOM","NOM","PRENOM","MATRICULE",{"$f":"LUTIN!K11","v":"4ème"},"NOM - PRENOM","NOM","PRENOM","MATRICULE",{"$f":"E374","v":"4ème"},"NOM - PRENOM","NOM","PRENOM","MATRICULE",{"$f":"J374","v":"4ème"}]
[]
[{"$f":"LUTIN!A12","v":"X1   Y1"},{"$f":"LUTIN!#REF!","v":{"$error":"#REF!"}},{"$f":"LUTIN!#REF!","v":{"$error":"#REF!"}},{"$f":"LUTIN!D12","v":"0013041"},{"$f":"LUTIN!K12","v":0},{"$f":"LUTIN!A57","v":"X46   Y46"},null,null,{"$f":"LUTIN!D57","v":"0012816"},{"$f":"LUTIN!K57","v":0},{"$f":"LUTIN!A93","v":"X82   Y82"},null,null,{"$f":"LUTIN!D93","v":"0014794"},{"$f":"LUTIN!K93","v":0}]
[{"$f":"LUTIN!A22","v":"X11   Y11"},{"$f":"LUTIN!#REF!","v":{"$error":"#REF!"}},{"$f":"LUTIN!#REF!","v":{"$error":"#REF!"}},{"$f":"LUTIN!D22","v":"0014707"},{"$f":"LUTIN!K22","v":"ü"},{"$f":"LUTIN!A58","v":"X47   Y47"},null,null,{"$f":"LUTIN!D58","v":"0000795"},{"$f":"LUTIN!K58","v":0},{"$f":"LUTIN!A94","v":"X83   Y83"},null,null,{"$f":"LUTIN!D94","v":"0014794"},{"$f":"LUTIN!K94","v":"ü"}]
[{"$f":"LUTIN!A23","v":"X12   Y12"},{"$f":"LUTIN!#REF!","v":{"$error":"#REF!"}},{"$f":"LUTIN!#REF!","v":{"$error":"#REF!"}},{"$f":"LUTIN!D23","v":"0004796"},{"$f":"LUTIN!K23","v":"ü"},{"$f":"LUTIN!A59","v":"X48   Y48"},null,null,{"$f":"LUTIN!D59","v":"0000466"},{"$f":"LUTIN!K59","v":0},{"$f":"LUTIN!A95","v":"X84   Y84"},null,null,{"$f":"LUTIN!D95","v":"0014703"},{"$f":"LUTIN!K95","v":0}]
[{"$f":"LUTIN!A24","v":"X13   Y13"},{"$f":"LUTIN!#REF!","v":{"$error":"#REF!"}},{"$f":"LUTIN!#REF!","v":{"$error":"#REF!"}},{"$f":"LUTIN!D24","v":"0011105"},{"$f":"LUTIN!K24","v":"ü"},{"$f":"LUTIN!A60","v":"X49   Y49"},null,null,{"$f":"LUTIN!D60","v":"0014390"},{"$f":"LUTIN!K60","v":"ü"},{"$f":"LUTIN!A96","v":"X85   Y85"},null,null,{"$f":"LUTIN!D96","v":"0014835"},{"$f":"LUTIN!K96","v":0}]
[{"$f":"LUTIN!A25","v":"X14   Y14"},{"$f":"LUTIN!#REF!","v":{"$error":"#REF!"}},{"$f":"LUTIN!#REF!","v":{"$error":"#REF!"}},{"$f":"LUTIN!D25","v":"0012601"},{"$f":"LUTIN!K25","v":0},{"$f":"LUTIN!A61","v":"X50   Y50"},null,null,{"$f":"LUTIN!D61","v":"0011106"},{"$f":"LUTIN!K61","v":0},{"$f":"LUTIN!A97","v":"X86   Y86"},null,null,{"$f":"LUTIN!D97","v":"0002573"},{"$f":"LUTIN!K97","v":0}]
[{"$f":"LUTIN!A26","v":"X15   Y15"},{"$f":"LUTIN!#REF!","v":{"$error":"#REF!"}},{"$f":"LUTIN!#REF!","v":{"$error":"#REF!"}},{"$f":"LUTIN!D26","v":"0014518"},{"$f":"LUTIN!K26","v":0},{"$f":"LUTIN!A62","v":"X51   Y51"},null,null,{"$f":"LUTIN!D62","v":""},{"$f":"LUTIN!K62","v":0},{"$f":"LUTIN!A98","v":"X87   Y87"},null,null,{"$f":"LUTIN!D98","v":""},{"$f":"LUTIN!K98","v":0}]
[{"$f":"LUTIN!A27","v":"X16   Y16"},{"$f":"LUTIN!#REF!","v":{"$error":"#REF!"}},{"$f":"LUTIN!#REF!","v":{"$error":"#REF!"}},{"$f":"LUTIN!D27","v":"0000038"},{"$f":"LUTIN!K27","v":0},{"$f":"LUTIN!A63","v":"X52   Y52"},null,null,{"$f":"LUTIN!D63","v":"0011571"},{"$f":"LUTIN!K63","v":0},{"$f":"LUTIN!A99","v":"X88   Y88"},null,null,{"$f":"LUTIN!D99","v":"0012527"},{"$f":"LUTIN!K99","v":0}]
[{"$f":"LUTIN!A28","v":"X17   Y17"},{"$f":"LUTIN!#REF!","v":{"$error":"#REF!"}},{"$f":"LUTIN!#REF!","v":{"$error":"#REF!"}},{"$f":"LUTIN!D28","v":""},{"$f":"LUTIN!K28","v":0},{"$f":"LUTIN!A64","v":"X53   Y53"},null,null,{"$f":"LUTIN!D64","v":"0015023"},{"$f":"LUTIN!K64","v":0},{"$f":"LUTIN!A100","v":"X89   Y89"},null,null,{"$f":"LUTIN!D100","v":"0012136"},{"$f":"LUTIN!K100","v":0}]
[{"$f":"LUTIN!A29","v":"X18   Y18"},{"$f":"LUTIN!#REF!","v":{"$error":"#REF!"}},{"$f":"LUTIN!#REF!","v":{"$error":"#REF!"}},{"$f":"LUTIN!D29","v":"0008074"},{"$f":"LUTIN!K29","v":0},{"$f":"LUTIN!A65","v":"X54   Y54"},null,null,{"$f":"LUTIN!D65","v":"0015026"},{"$f":"LUTIN!K65","v":0},{"$f":"LUTIN!A101","v":"X90   Y90"},null,null,{"$f":"LUTIN!D101","v":"0014453"},{"$f":"LUTIN!K101","v":0}]
[{"$f":"LUTIN!A30","v":"X19   Y19"},{"$f":"LUTIN!#REF!","v":{"$error":"#REF!"}},{"$f":"LUTIN!#REF!","v":{"$error":"#REF!"}},{"$f":"LUTIN!D30","v":"0000606"},{"$f":"LUTIN!K30","v":0},{"$f":"LUTIN!A66","v":"X55   Y55"},null,null,{"$f":"LUTIN!D66","v":"0010882"},{"$f":"LUTIN!K66","v":0},{"$f":"LUTIN!A102","v":"X91   Y91"},null,null,{"$f":"LUTIN!D102","v":"0011252"},{"$f":"LUTIN!K102","v":0}]
[{"$f":"LUTIN!A31","v":"X20   Y20"},{"$f":"LUTIN!#REF!","v":{"$error":"#REF!"}},{"$f":"LUTIN!#REF!","v":{"$error":"#REF!"}},{"$f":"LUTIN!D31","v":"0016109"},{"$f":"LUTIN!K31","v":"ü"},{"$f":"LUTIN!A67","v":"X56   Y56"},null,null,{"$f":"LUTIN!D67","v":"0011559"},{"$f":"LUTIN!K67","v":0},{"$f":"LUTIN!A103","v":"X92   Y92"},null,null,{"$f":"LUTIN!D103","v":"0009459"},{"$f":"LUTIN!K103","v":0}]
[{"$f":"LUTIN!A32","v":"X21   Y21"},{"$f":"LUTIN!#REF!","v":{"$error":"#REF!"}},{"$f":"LUTIN!#REF!","v":{"$error":"#REF!"}},{"$f":"LUTIN!D32","v":"0000614"},{"$f":"LUTIN!K32","v":0},{"$f":"LUTIN!A68","v":"X57   Y57"},null,null,{"$f":"LUTIN!D68","v":"0000237"},{"$f":"LUTIN!K68","v":0},{"$f":"LUTIN!A104","v":"X93   Y93"},null,null,{"$f":"LUTIN!D104","v":"0000504"},{"$f":"LUTIN!K104","v":0}]
[{"$f":"LUTIN!A33","v":"X22   Y22"},{"$f":"LUTIN!#REF!","v":{"$error":"#REF!"}},{"$f":"LUTIN!#REF!","v":{"$error":"#REF!"}},{"$f":"LUTIN!D33","v":"0001089"},{"$f":"LUTIN!K33","v":0},{"$f":"LUTIN!A69","v":"X58   Y58"},null,null,{"$f":"LUTIN!D69","v":"0000238"},{"$f":"LUTIN!K69","v":0},{"$f":"LUTIN!A105","v":"X94   Y94"},null,null,{"$f":"LUTIN!D105","v":"0014810"},{"$f":"LUTIN!K105","v":0}]
[{"$f":"LUTIN!A34","v":"X23   Y23"},{"$f":"LUTIN!#REF!","v":{"$error":"#REF!"}},{"$f":"LUTIN!#REF!","v":{"$error":"#REF!"}},{"$f":"LUTIN!D34","v":"0012666"},{"$f":"LUTIN!K34","v":0},{"$f":"LUTIN!A70","v":"X59   Y59"},null,null,{"$f":"LUTIN!D70","v":"0011720"},{"$f":"LUTIN!K70","v":0},{"$f":"LUTIN!A106","v":"X95   Y95"},null,null,{"$f":"LUTIN!D106","v":"0000000"},{"$f":"LUTIN!K106","v":0}]
[{"$f":"LUTIN!A35","v":"X24   Y24"},{"$f":"LUTIN!#REF!","v":{"$error":"#REF!"}},{"$f":"LUTIN!#REF!","v":{"$error":"#REF!"}},{"$f":"LUTIN!D35","v":"0004976"},{"$f":"LUTIN!K35","v":0},{"$f":"LUTIN!A71","v":"X60   Y60"},null,null,{"$f":"LUTIN!D71","v":"0009978"},{"$f":"LUTIN!K71","v":0},{"$f":"LUTIN!A107","v":"X96   Y96"},null,null,{"$f":"LUTIN!D107","v":"0011904"},{"$f":"LUTIN!K107","v":0}]
[{"$f":"LUTIN!A36","v":"X25   Y25"},{"$f":"LUTIN!#REF!","v":{"$error":"#REF!"}},{"$f":"LUTIN!#REF!","v":{"$error":"#REF!"}},{"$f":"LUTIN!D36","v":"0013001"},{"$f":"LUTIN!K36","v":0},{"$f":"LUTIN!A72","v":"X61   Y61"},null,null,{"$f":"LUTIN!D72","v":"0000328"},{"$f":"LUTIN!K72","v":0},{"$f":"LUTIN!A108","v":"   "},null,null,{"$f":"LUTIN!D108","v":0},{"$f":"LUTIN!K108","v":0}]
[{"$f":"LUTIN!A37","v":"X26   Y26"},{"$f":"LUTIN!#REF!","v":{"$error":"#REF!"}},{"$f":"LUTIN!#REF!","v":{"$error":"#REF!"}},{"$f":"LUTIN!D37","v":"0014372"},{"$f":"LUTIN!K37","v":0},{"$f":"LUTIN!A73","v":"X62   Y62"},null,null,{"$f":"LUTIN!D73","v":"0009808"},{"$f":"LUTIN!K73","v":0},{"$f":"LUTIN!A109","v":0},null,null,{"$f":"LUTIN!D109","v":0},{"$f":"LUTIN!K109","v":0}]
[{"$f":"LUTIN!A38","v":"X27   Y27"},{"$f":"LUTIN!#REF!","v":{"$error":"#REF!"}},{"$f":"LUTIN!#REF!","v":{"$error":"#REF!"}},{"$f":"LUTIN!D38","v":"0011908"},{"$f":"LUTIN!K38","v":0},{"$f":"LUTIN!A74","v":"X63   Y63"},null,null,{"$f":"LUTIN!D74","v":"0000798"},{"$f":"LUTIN!K74","v":0},{"$f":"LUTIN!A110","v":0},null,null,{"$f":"LUTIN!D110","v":0},{"$f":"LUTIN!K110","v":0}]
[{"$f":"LUTIN!A39","v":"X28   Y28"},{"$f":"LUTIN!#REF!","v":{"$error":"#REF!"}},{"$f":"LUTIN!#REF!","v":{"$error":"#REF!"}},{"$f":"LUTIN!D39","v":"0000722"},{"$f":"LUTIN!K39","v":0},{"$f":"LUTIN!A75","v":"X64   Y64"},null,null,{"$f":"LUTIN!D75","v":"0000329"},{"$f":"LUTIN!K75","v":0},{"$f":"LUTIN!A111","v":0},null,null,{"$f":"LUTIN!D111","v":0},{"$f":"LUTIN!K111","v":0}]
[{"$f":"LUTIN!A40","v":"X29   Y29"},{"$f":"LUTIN!#REF!","v":{"$error":"#REF!"}},{"$f":"LUTIN!#REF!","v":{"$error":"#REF!"}},{"$f":"LUTIN!D40","v":"0014130"},{"$f":"LUTIN!K40","v":0},{"$f":"LUTIN!A76","v":"X65   Y65"},null,null,{"$f":"LUTIN!D76","v":"0016166"},{"$f":"LUTIN!K76","v":"ü"},{"$f":"LUTIN!A112","v":0},null,null,{"$f":"LUTIN!D112","v":0},{"$f":"LUTIN!K112","v":0}]
[{"$f":"LUTIN!A41","v":"X30   Y30"},{"$f":"LUTIN!#REF!","v":{"$error":"#REF!"}},{"$f":"LUTIN!#REF!","v":{"$error":"#REF!"}},{"$f":"LUTIN!D41","v":"0004807"},{"$f":"LUTIN!K41","v":0},{"$f":"LUTIN!A77","v":"X66   Y66"},null,null,{"$f":"LUTIN!D77","v":"0000698"},{"$f":"LUTIN!K77","v":0},{"$f":"LUTIN!A113","v":0},null,null,{"$f":"LUTIN!D113","v":0},{"$f":"LUTIN!K113","v":0}]
[{"$f":"LUTIN!A42","v":"X31   Y31"},{"$f":"LUTIN!#REF!","v":{"$error":"#REF!"}},{"$f":"LUTIN!#REF!","v":{"$error":"#REF!"}},{"$f":"LUTIN!D42","v":"0011270"},{"$f":"LUTIN!K42","v":"ü"},{"$f":"LUTIN!A78","v":"X67   Y67"},null,null,{"$f":"LUTIN!D78","v":"0016329"},{"$f":"LUTIN!K78","v":"ü"},{"$f":"LUTIN!A114","v":0},null,null,{"$f":"LUTIN!D114","v":0},{"$f":"LUTIN!K114","v":0}]
[{"$f":"LUTIN!A43","v":"X32   Y32"},{"$f":"LUTIN!#REF!","v":{"$error":"#REF!"}},{"$f":"LUTIN!#REF!","v":{"$error":"#REF!"}},{"$f":"LUTIN!D43","v":"0016352"},{"$f":"LUTIN!K43","v":"ü"},{"$f":"LUTIN!A79","v":"X68   Y68"},null,null,{"$f":"LUTIN!D79","v":"0000650"},{"$f":"LUTIN!K79","v":0},{"$f":"LUTIN!A115","v":"   "},null,null,{"$f":"LUTIN!D115","v":""},{"$f":"LUTIN!K115","v":0}]
[{"$f":"LUTIN!A44","v":"X33   Y33"},{"$f":"LUTIN!#REF!","v":{"$error":"#REF!"}},{"$f":"LUTIN!#REF!","v":{"$error":"#REF!"}},{"$f":"LUTIN!D44","v":"0011906"},{"$f":"LUTIN!K44","v":0},{"$f":"LUTIN!A80","v":"X69   Y69"},null,null,{"$f":"LUTIN!D80","v":"0000518"},{"$f":"LUTIN!K80","v":0},{"$f":"LUTIN!A116","v":"   "},null,null,{"$f":"LUTIN!D116","v":0},{"$f":"LUTIN!K116","v":0}]
[{"$f":"LUTIN!A45","v":"X34   Y34"},{"$f":"LUTIN!#REF!","v":{"$error":"#REF!"}},{"$f":"LUTIN!#REF!","v":{"$error":"#REF!"}},{"$f":"LUTIN!D45","v":"0014857"},{"$f":"LUTIN!K45","v":0},{"$f":"LUTIN!A81","v":"X70   Y70"},null,null,{"$f":"LUTIN!D81","v":"0011907"},{"$f":"LUTIN!K81","v":0},{"$f":"LUTIN!A117","v":"   "},null,null,{"$f":"LUTIN!D117","v":0},{"$f":"LUTIN!K117","v":0}]
[{"$f":"LUTIN!A46","v":"X35   Y35"},{"$f":"LUTIN!#REF!","v":{"$error":"#REF!"}},{"$f":"LUTIN!#REF!","v":{"$error":"#REF!"}},{"$f":"LUTIN!D46","v":"0011905"},{"$f":"LUTIN!K46","v":0},{"$f":"LUTIN!A82","v":"X71   Y71"},null,null,{"$f":"LUTIN!D82","v":"0010677"},{"$f":"LUTIN!K82","v":0},{"$f":"LUTIN!A118","v":"   "},null,null,{"$f":"LUTIN!D118","v":0},{"$f":"LUTIN!K118","v":0}]
[{"$f":"LUTIN!A47","v":"X36   Y36"},{"$f":"LUTIN!#REF!","v":{"$error":"#REF!"}},{"$f":"LUTIN!#REF!","v":{"$error":"#REF!"}},{"$f":"LUTIN!D47","v":"0000507"},{"$f":"LUTIN!K47","v":0},{"$f":"LUTIN!A83","v":"X72   Y72"},null,null,{"$f":"LUTIN!D83","v":"0016231"},{"$f":"LUTIN!K83","v":"ü"},{"$f":"LUTIN!A119","v":"   "},null,null,{"$f":"LUTIN!D119","v":0},{"$f":"LUTIN!K119","v":0}]
[{"$f":"LUTIN!A48","v":"X37   Y37"},{"$f":"LUTIN!#REF!","v":{"$error":"#REF!"}},{"$f":"LUTIN!#REF!","v":{"$error":"#REF!"}},{"$f":"LUTIN!D48","v":"0014854"},{"$f":"LUTIN!K48","v":"ü"},{"$f":"LUTIN!A84","v":"X73   Y73"},null,null,{"$f":"LUTIN!D84","v":"0010207"},{"$f":"LUTIN!K84","v":0},{"$f":"LUTIN!A120","v":"   "},null,null,{"$f":"LUTIN!D120","v":0},{"$f":"LUTIN!K120","v":0}]
[{"$f":"LUTIN!A49","v":"X38   Y38"},{"$f":"LUTIN!#REF!","v":{"$error":"#REF!"}},{"$f":"LUTIN!#REF!","v":{"$error":"#REF!"}},{"$f":"LUTIN!D49","v":"0001003"},{"$f":"LUTIN!K49","v":0},{"$f":"LUTIN!A85","v":"X74   Y74"},null,null,{"$f":"LUTIN!D85","v":"0012437"},{"$f":"LUTIN!K85","v":0},{"$f":"LUTIN!A121","v":"   "},null,null,{"$f":"LUTIN!D121","v":0},{"$f":"LUTIN!K121","v":0}]
[{"$f":"LUTIN!A50","v":"X39   Y39"},{"$f":"LUTIN!#REF!","v":{"$error":"#REF!"}},{"$f":"LUTIN!#REF!","v":{"$error":"#REF!"}},{"$f":"LUTIN!D50","v":"0014541"},{"$f":"LUTIN!K50","v":0},{"$f":"LUTIN!A86","v":"X75   Y75"},null,null,{"$f":"LUTIN!D86","v":"0000734"},{"$f":"LUTIN!K86","v":0},{"$f":"LUTIN!A122","v":"   "},null,null,{"$f":"LUTIN!D122","v":0},{"$f":"LUTIN!K122","v":0}]
[{"$f":"LUTIN!A51","v":"X40   Y40"},{"$f":"LUTIN!#REF!","v":{"$error":"#REF!"}},{"$f":"LUTIN!#REF!","v":{"$error":"#REF!"}},{"$f":"LUTIN!D51","v":"0000635"},{"$f":"LUTIN!K51","v":0},{"$f":"LUTIN!A87","v":"X76   Y76"},null,null,{"$f":"LUTIN!D87","v":"0014858"},{"$f":"LUTIN!K87","v":0},{"$f":"LUTIN!A123","v":"   "},null,null,{"$f":"LUTIN!D123","v":0},{"$f":"LUTIN!K123","v":0}]
[{"$f":"LUTIN!A52","v":"X41   Y41"},{"$f":"LUTIN!#REF!","v":{"$error":"#REF!"}},{"$f":"LUTIN!#REF!","v":{"$error":"#REF!"}},{"$f":"LUTIN!D52","v":"0011705"},{"$f":"LUTIN!K52","v":0},{"$f":"LUTIN!A88","v":"X77   Y77"},null,null,{"$f":"LUTIN!D88","v":"0016325"},{"$f":"LUTIN!K88","v":"ü"},{"$f":"LUTIN!A124","v":""},null,null,{"$f":"LUTIN!D124","v":0},{"$f":"LUTIN!K124","v":0}]
[{"$f":"LUTIN!A53","v":"X42   Y42"},{"$f":"LUTIN!#REF!","v":{"$error":"#REF!"}},{"$f":"LUTIN!#REF!","v":{"$error":"#REF!"}},{"$f":"LUTIN!D53","v":"0000327"},{"$f":"LUTIN!K53","v":0},{"$f":"LUTIN!A89","v":"X78   Y78"},null,null,{"$f":"LUTIN!D89","v":"0014425"},{"$f":"LUTIN!K89","v":0},{"$f":"LUTIN!A125","v":"CAp"},null,null,{"$f":"LUTIN!D125","v":0},{"$f":"LUTIN!K125","v":0}]
[{"$f":"LUTIN!A54","v":"X43   Y43"},{"$f":"LUTIN!#REF!","v":{"$error":"#REF!"}},{"$f":"LUTIN!#REF!","v":{"$error":"#REF!"}},{"$f":"LUTIN!D54","v":"0011208"},{"$f":"LUTIN!K54","v":0},{"$f":"LUTIN!A90","v":"X79   Y79"},null,null,{"$f":"LUTIN!D90","v":"0000506"},{"$f":"LUTIN!K90","v":0},{"$f":"LUTIN!A126","v":"CAPE"},null,null,{"$f":"LUTIN!D126","v":0},{"$f":"LUTIN!K126","v":0}]
[{"$f":"LUTIN!A55","v":"X44   Y44"},{"$f":"LUTIN!#REF!","v":{"$error":"#REF!"}},{"$f":"LUTIN!#REF!","v":{"$error":"#REF!"}},{"$f":"LUTIN!D55","v":"0000537"},{"$f":"LUTIN!K55","v":0},{"$f":"LUTIN!A91","v":"X80   Y80"},null,null,{"$f":"LUTIN!D91","v":"0010382"},{"$f":"LUTIN!K91","v":0},{"$f":"LUTIN!#REF!","v":{"$error":"#REF!"}},null,null,{"$f":"LUTIN!#REF!","v":{"$error":"#REF!"}},{"$f":"LUTIN!#REF!","v":{"$error":"#REF!"}}]
[{"$f":"LUTIN!A56","v":"X45   Y45"},{"$f":"LUTIN!#REF!","v":{"$error":"#REF!"}},{"$f":"LUTIN!#REF!","v":{"$error":"#REF!"}},{"$f":"LUTIN!D56","v":"0014952"},{"$f":"LUTIN!K56","v":0},{"$f":"LUTIN!A92","v":"X81   Y81"},null,null,{"$f":"LUTIN!D92","v":"0000454"},{"$f":"LUTIN!K92","v":0},{"$f":"LUTIN!#REF!","v":{"$error":"#REF!"}},null,null,{"$f":"LUTIN!#REF!","v":{"$error":"#REF!"}},{"$f":"LUTIN!#REF!","v":{"$error":"#REF!"}}]
["SDIS 57"]
[]
["SUIVI DU CENTRE DE SECOURS DE HAGONDANGE"]
[]
[]
[]
["FORMATIONS",null,null,null,null,null,null,null,{"$f":"LUTIN!L11","v":"3ème SANS SR "}]
[]
[]
["NOM - PRENOM","NOM","PRENOM","MATRICULE",{"$f":"I418","v":"3ème SANS SR "},"NOM - PRENOM","NOM","PRENOM","MATRICULE",{"$f":"E421","v":"3ème SANS SR "},"NOM - PRENOM","NOM","PRENOM","MATRICULE",{"$f":"J421","v":"3ème SANS SR "}]
[]
[{"$f":"LUTIN!A12","v":"X1   Y1"},{"$f":"LUTIN!#REF!","v":{"$error":"#REF!"}},{"$f":"LUTIN!#REF!","v":{"$error":"#REF!"}},{"$f":"LUTIN!D12","v":"0013041"},{"$f":"LUTIN!L12","v":0},{"$f":"LUTIN!A57","v":"X46   Y46"},null,null,{"$f":"LUTIN!D57","v":"0012816"},{"$f":"LUTIN!L57","v":0},{"$f":"LUTIN!A93","v":"X82   Y82"},null,null,{"$f":"LUTIN!D93","v":"0014794"},{"$f":"LUTIN!L93","v":0}]
[{"$f":"LUTIN!A22","v":"X11   Y11"},{"$f":"LUTIN!#REF!","v":{"$error":"#REF!"}},{"$f":"LUTIN!#REF!","v":{"$error":"#REF!"}},{"$f":"LUTIN!D22","v":"0014707"},{"$f":"LUTIN!L22","v":0},{"$f":"LUTIN!A58","v":"X47   Y47"},null,null,{"$f":"LUTIN!D58","v":"0000795"},{"$f":"LUTIN!L58","v":0},{"$f":"LUTIN!A94","v":"X83   Y83"},null,null,{"$f":"LUTIN!D94","v":"0014794"},{"$f":"LUTIN!L94","v":0}]
[{"$f":"LUTIN!A23","v":"X12   Y12"},{"$f":"LUTIN!#REF!","v":{"$error":"#REF!"}},{"$f":"LUTIN!#REF!","v":{"$error":"#REF!"}},{"$f":"LUTIN!D23","v":"0004796"},{"$f":"LUTIN!L23","v":0},{"$f":"LUTIN!A59","v":"X48   Y48"},null,null,{"$f":"LUTIN!D59","v":"0000466"},{"$f":"LUTIN!L59","v":0},{"$f":"LUTIN!A95","v":"X84   Y84"},null,null,{"$f":"LUTIN!D95","v":"0014703"},{"$f":"LUTIN!L95","v":0}]
[{"$f":"LUTIN!A24","v":"X13   Y13"},{"$f":"LUTIN!#REF!","v":{"$error":"#REF!"}},{"$f":"LUTIN!#REF!","v":{"$error":"#REF!"}},{"$f":"LUTIN!D24","v":"0011105"},{"$f":"LUTIN!L24","v":0},{"$f":"LUTIN!A60","v":"X49   Y49"},null,null,{"$f":"LUTIN!D60","v":"0014390"},{"$f":"LUTIN!L60","v":0},{"$f":"LUTIN!A96","v":"X85   Y85"},null,null,{"$f":"LUTIN!D96","v":"0014835"},{"$f":"LUTIN!L96","v":0}]
[{"$f":"LUTIN!A25","v":"X14   Y14"},{"$f":"LUTIN!#REF!","v":{"$error":"#REF!"}},{"$f":"LUTIN!#REF!","v":{"$error":"#REF!"}},{"$f":"LUTIN!D25","v":"0012601"},{"$f":"LUTIN!L25","v":0},{"$f":"LUTIN!A61","v":"X50   Y50"},null,null,{"$f":"LUTIN!D61","v":"0011106"},{"$f":"LUTIN!L61","v":0},{"$f":"LUTIN!A97","v":"X86   Y86"},null,null,{"$f":"LUTIN!D97","v":"0002573"},{"$f":"LUTIN!L97","v":0}]
[{"$f":"LUTIN!A26","v":"X15   Y15"},{"$f":"LUTIN!#REF!","v":{"$error":"#REF!"}},{"$f":"LUTIN!#REF!","v":{"$error":"#REF!"}},{"$f":"LUTIN!D26","v":"0014518"},{"$f":"LUTIN!L26","v":0},{"$f":"LUTIN!A62","v":"X51   Y51"},null,null,{"$f":"LUTIN!D62","v":""},{"$f":"LUTIN!L62","v":0},{"$f":"LUTIN!A98","v":"X87   Y87"},null,null,{"$f":"LUTIN!D98","v":""},{"$f":"LUTIN!L98","v":0}]
[{"$f":"LUTIN!A27","v":"X16   Y16"},{"$f":"LUTIN!#REF!","v":{"$error":"#REF!"}},{"$f":"LUTIN!#REF!","v":{"$error":"#REF!"}},{"$f":"LUTIN!D27","v":"0000038"},{"$f":"LUTIN!L27","v":0},{"$f":"LUTIN!A63","v":"X52   Y52"},null,null,{"$f":"LUTIN!D63","v":"0011571"},{"$f":"LUTIN!L63","v":0},{"$f":"LUTIN!A99","v":"X88   Y88"},null,null,{"$f":"LUTIN!D99","v":"0012527"},{"$f":"LUTIN!L99","v":0}]
[{"$f":"LUTIN!A28","v":"X17   Y17"},{"$f":"LUTIN!#REF!","v":{"$error":"#REF!"}},{"$f":"LUTIN!#REF!","v":{"$error":"#REF!"}},{"$f":"LUTIN!D28","v":""},{"$f":"LUTIN!L28","v":0},{"$f":"LUTIN!A64","v":"X53   Y53"},null,null,{"$f":"LUTIN!D64","v":"0015023"},{"$f":"LUTIN!L64","v":0},{"$f":"LUTIN!A100","v":"X89   Y89"},null,null,{"$f":"LUTIN!D100","v":"0012136"},{"$f":"LUTIN!L100","v":0}]
[{"$f":"LUTIN!A29","v":"X18   Y18"},{"$f":"LUTIN!#REF!","v":{"$error":"#REF!"}},{"$f":"LUTIN!#REF!","v":{"$error":"#REF!"}},{"$f":"LUTIN!D29","v":"0008074"},{"$f":"LUTIN!L29","v":0},{"$f":"LUTIN!A65","v":"X54   Y54"},null,null,{"$f":"LUTIN!D65","v":"0015026"},{"$f":"LUTIN!L65","v":0},{"$f":"LUTIN!A101","v":"X90   Y90"},null,null,{"$f":"LUTIN!D101","v":"0014453"},{"$f":"LUTIN!L101","v":0}]
[{"$f":"LUTIN!A30","v":"X19   Y19"},{"$f":"LUTIN!#REF!","v":{"$error":"#REF!"}},{"$f":"LUTIN!#REF!","v":{"$error":"#REF!"}},{"$f":"LUTIN!D30","v":"0000606"},{"$f":"LUTIN!L30","v":0},{"$f":"LUTIN!A66","v":"X55   Y55"},null,null,{"$f":"LUTIN!D66","v":"0010882"},{"$f":"LUTIN!L66","v":0},{"$f":"LUTIN!A102","v":"X91   Y91"},null,null,{"$f":"LUTIN!D102","v":"0011252"},{"$f":"LUTIN!L102","v":0}]
[{"$f":"LUTIN!A31","v":"X20   Y20"},{"$f":"LUTIN!#REF!","v":{"$error":"#REF!"}},{"$f":"LUTIN!#REF!","v":{"$error":"#REF!"}},{"$f":"LUTIN!D31","v":"0016109"},{"$f":"LUTIN!L31","v":0},{"$f":"LUTIN!A67","v":"X56   Y56"},null,null,{"$f":"LUTIN!D67","v":"0011559"},{"$f":"LUTIN!L67","v":0},{"$f":"LUTIN!A103","v":"X92   Y92"},null,null,{"$f":"LUTIN!D103","v":"0009459"},{"$f":"LUTIN!L103","v":0}]
[{"$f":"LUTIN!A32","v":"X21   Y21"},{"$f":"LUTIN!#REF!","v":{"$error":"#REF!"}},{"$f":"LUTIN!#REF!","v":{"$error":"#REF!"}},{"$f":"LUTIN!D32","v":"0000614"},{"$f":"LUTIN!L32","v":0},{"$f":"LUTIN!A68","v":"X57   Y57"},null,null,{"$f":"LUTIN!D68","v":"0000237"},{"$f":"LUTIN!L68","v":0},{"$f":"LUTIN!A104","v":"X93   Y93"},null,null,{"$f":"LUTIN!D104","v":"0000504"},{"$f":"LUTIN!L104","v":0}]
[{"$f":"LUTIN!A33","v":"X22   Y22"},{"$f":"LUTIN!#REF!","v":{"$error":"#REF!"}},{"$f":"LUTIN!#REF!","v":{"$error":"#REF!"}},{"$f":"LUTIN!D33","v":"0001089"},{"$f":"LUTIN!L33","v":0},{"$f":"LUTIN!A69","v":"X58   Y58"},null,null,{"$f":"LUTIN!D69","v":"0000238"},{"$f":"LUTIN!L69","v":0},{"$f":"LUTIN!A105","v":"X94   Y94"},null,null,{"$f":"LUTIN!D105","v":"0014810"},{"$f":"LUTIN!L105","v":0}]
[{"$f":"LUTIN!A34","v":"X23   Y23"},{"$f":"LUTIN!#REF!","v":{"$error":"#REF!"}},{"$f":"LUTIN!#REF!","v":{"$error":"#REF!"}},{"$f":"LUTIN!D34","v":"0012666"},{"$f":"LUTIN!L34","v":0},{"$f":"LUTIN!A70","v":"X59   Y59"},null,null,{"$f":"LUTIN!D70","v":"0011720"},{"$f":"LUTIN!L70","v":0},{"$f":"LUTIN!A106","v":"X95   Y95"},null,null,{"$f":"LUTIN!D106","v":"0000000"},{"$f":"LUTIN!L106","v":0}]
[{"$f":"LUTIN!A35","v":"X24   Y24"},{"$f":"LUTIN!#REF!","v":{"$error":"#REF!"}},{"$f":"LUTIN!#REF!","v":{"$error":"#REF!"}},{"$f":"LUTIN!D35","v":"0004976"},{"$f":"LUTIN!L35","v":0},{"$f":"LUTIN!A71","v":"X60   Y60"},null,null,{"$f":"LUTIN!D71","v":"0009978"},{"$f":"LUTIN!L71","v":0},{"$f":"LUTIN!A107","v":"X96   Y96"},null,null,{"$f":"LUTIN!D107","v":"0011904"},{"$f":"LUTIN!L107","v":0}]
[{"$f":"LUTIN!A36","v":"X25   Y25"},{"$f":"LUTIN!#REF!","v":{"$error":"#REF!"}},{"$f":"LUTIN!#REF!","v":{"$error":"#REF!"}},{"$f":"LUTIN!D36","v":"0013001"},{"$f":"LUTIN!L36","v":0},{"$f":"LUTIN!A72","v":"X61   Y61"},null,null,{"$f":"LUTIN!D72","v":"0000328"},{"$f":"LUTIN!L72","v":0},{"$f":"LUTIN!A108","v":"   "},null,null,{"$f":"LUTIN!D108","v":0},{"$f":"LUTIN!L108","v":0}]
[{"$f":"LUTIN!A37","v":"X26   Y26"},{"$f":"LUTIN!#REF!","v":{"$error":"#REF!"}},{"$f":"LUTIN!#REF!","v":{"$error":"#REF!"}},{"$f":"LUTIN!D37","v":"0014372"},{"$f":"LUTIN!L37","v":0},{"$f":"LUTIN!A73","v":"X62   Y62"},null,null,{"$f":"LUTIN!D73","v":"0009808"},{"$f":"LUTIN!L73","v":0},{"$f":"LUTIN!A109","v":0},null,null,{"$f":"LUTIN!D109","v":0},{"$f":"LUTIN!L109","v":0}]
[{"$f":"LUTIN!A38","v":"X27   Y27"},{"$f":"LUTIN!#REF!","v":{"$error":"#REF!"}},{"$f":"LUTIN!#REF!","v":{"$error":"#REF!"}},{"$f":"LUTIN!D38","v":"0011908"},{"$f":"LUTIN!L38","v":0},{"$f":"LUTIN!A74","v":"X63   Y63"},null,null,{"$f":"LUTIN!D74","v":"0000798"},{"$f":"LUTIN!L74","v":0},{"$f":"LUTIN!A110","v":0},null,null,{"$f":"LUTIN!D110","v":0},{"$f":"LUTIN!L110","v":0}]
[{"$f":"LUTIN!A39","v":"X28   Y28"},{"$f":"LUTIN!#REF!","v":{"$error":"#REF!"}},{"$f":"LUTIN!#REF!","v":{"$error":"#REF!"}},{"$f":"LUTIN!D39","v":"0000722"},{"$f":"LUTIN!L39","v":0},{"$f":"LUTIN!A75","v":"X64   Y64"},null,null,{"$f":"LUTIN!D75","v":"0000329"},{"$f":"LUTIN!L75","v":0},{"$f":"LUTIN!A111","v":0},null,null,{"$f":"LUTIN!D111","v":0},{"$f":"LUTIN!L111","v":0}]
[{"$f":"LUTIN!A40","v":"X29   Y29"},{"$f":"LUTIN!#REF!","v":{"$error":"#REF!"}},{"$f":"LUTIN!#REF!","v":{"$error":"#REF!"}},{"$f":"LUTIN!D40","v":"0014130"},{"$f":"LUTIN!L40","v":0},{"$f":"LUTIN!A76","v":"X65   Y65"},null,null,{"$f":"LUTIN!D76","v":"0016166"},{"$f":"LUTIN!L76","v":0},{"$f":"LUTIN!A112","v":0},null,null,{"$f":"LUTIN!D112","v":0},{"$f":"LUTIN!L112","v":0}]
[{"$f":"LUTIN!A41","v":"X30   Y30"},{"$f":"LUTIN!#REF!","v":{"$error":"#REF!"}},{"$f":"LUTIN!#REF!","v":{"$error":"#REF!"}},{"$f":"LUTIN!D41","v":"0004807"},{"$f":"LUTIN!L41","v":0},{"$f":"LUTIN!A77","v":"X66   Y66"},null,null,{"$f":"LUTIN!D77","v":"0000698"},{"$f":"LUTIN!L77","v":0},{"$f":"LUTIN!A113","v":0},null,null,{"$f":"LUTIN!D113","v":0},{"$f":"LUTIN!L113","v":0}]
[{"$f":"LUTIN!A42","v":"X31   Y31"},{"$f":"LUTIN!#REF!","v":{"$error":"#REF!"}},{"$f":"LUTIN!#REF!","v":{"$error":"#REF!"}},{"$f":"LUTIN!D42","v":"0011270"},{"$f":"LUTIN!L42","v":0},{"$f":"LUTIN!A78","v":"X67   Y67"},null,null,{"$f":"LUTIN!D78","v":"0016329"},{"$f":"LUTIN!L78","v":0},{"$f":"LUTIN!A114","v":0},null,null,{"$f":"LUTIN!D114","v":0},{"$f":"LUTIN!L114","v":0}]
[{"$f":"LUTIN!A43","v":"X32   Y32"},{"$f":"LUTIN!#REF!","v":{"$error":"#REF!"}},{"$f":"LUTIN!#REF!","v":{"$error":"#REF!"}},{"$f":"LUTIN!D43","v":"0016352"},{"$f":"LUTIN!L43","v":0},{"$f":"LUTIN!A79","v":"X68   Y68"},null,null,{"$f":"LUTIN!D79","v":"0000650"},{"$f":"LUTIN!L79","v":0},{"$f":"LUTIN!A115","v":"   "},null,null,{"$f":"LUTIN!D115","v":""},{"$f":"LUTIN!L115","v":0}]
[{"$f":"LUTIN!A44","v":"X33   Y33"},{"$f":"LUTIN!#REF!","v":{"$error":"#REF!"}},{"$f":"LUTIN!#REF!","v":{"$error":"#REF!"}},{"$f":"LUTIN!D44","v":"0011906"},{"$f":"LUTIN!L44","v":0},{"$f":"LUTIN!A80","v":"X69   Y69"},null,null,{"$f":"LUTIN!D80","v":"0000518"},{"$f":"LUTIN!L80","v":0},{"$f":"LUTIN!A116","v":"   "},null,null,{"$f":"LUTIN!D116","v":0},{"$f":"LUTIN!L116","v":0}]
[{"$f":"LUTIN!A45","v":"X34   Y34"},{"$f":"LUTIN!#REF!","v":{"$error":"#REF!"}},{"$f":"LUTIN!#REF!","v":{"$error":"#REF!"}},{"$f":"LUTIN!D45","v":"0014857"},{"$f":"LUTIN!L45","v":0},{"$f":"LUTIN!A81","v":"X70   Y70"},null,null,{"$f":"LUTIN!D81","v":"0011907"},{"$f":"LUTIN!L81","v":0},{"$f":"LUTIN!A117","v":"   "},null,null,{"$f":"LUTIN!D117","v":0},{"$f":"LUTIN!L117","v":0}]
[{"$f":"LUTIN!A46","v":"X35   Y35"},{"$f":"LUTIN!#REF!","v":{"$error":"#REF!"}},{"$f":"LUTIN!#REF!","v":{"$error":"#REF!"}},{"$f":"LUTIN!D46","v":"0011905"},{"$f":"LUTIN!L46","v":0},{"$f":"LUTIN!A82","v":"X71   Y71"},null,null,{"$f":"LUTIN!D82","v":"0010677"},{"$f":"LUTIN!L82","v":0},{"$f":"LUTIN!A118","v":"   "},null,null,{"$f":"LUTIN!D118","v":0},{"$f":"LUTIN!L118","v":0}]
[{"$f":"LUTIN!A47","v":"X36   Y36"},{"$f":"LUTIN!#REF!","v":{"$error":"#REF!"}},{"$f":"LUTIN!#REF!","v":{"$error":"#REF!"}},{"$f":"LUTIN!D47","v":"0000507"},{"$f":"LUTIN!L47","v":0},{"$f":"LUTIN!A83","v":"X72   Y72"},null,null,{"$f":"LUTIN!D83","v":"0016231"},{"$f":"LUTIN!L83","v":0},{"$f":"LUTIN!A119","v":"   "},null,null,{"$f":"LUTIN!D119","v":0},{"$f":"LUTIN!L119","v":0}]
[{"$f":"LUTIN!A48","v":"X37   Y37"},{"$f":"LUTIN!#REF!","v":{"$error":"#REF!"}},{"$f":"LUTIN!#REF!","v":{"$error":"#REF!"}},{"$f":"LUTIN!D48","v":"0014854"},{"$f":"LUTIN!L48","v":0},{"$f":"LUTIN!A84","v":"X73   Y73"},null,null,{"$f":"LUTIN!D84","v":"0010207"},{"$f":"LUTIN!L84","v":0},{"$f":"LUTIN!A120","v":"   "},null,null,{"$f":"LUTIN!D120","v":0},{"$f":"LUTIN!L120","v":0}]
[{"$f":"LUTIN!A49","v":"X38   Y38"},{"$f":"LUTIN!#REF!","v":{"$error":"#REF!"}},{"$f":"LUTIN!#REF!","v":{"$error":"#REF!"}},{"$f":"LUTIN!D49","v":"0001003"},{"$f":"LUTIN!L49","v":0},{"$f":"LUTIN!A85","v":"X74   Y74"},null,null,{"$f":"LUTIN!D85","v":"0012437"},{"$f":"LUTIN!L85","v":0},{"$f":"LUTIN!A121","v":"   "},null,null,{"$f":"LUTIN!D121","v":0},{"$f":"LUTIN!L121","v":0}]
[{"$f":"LUTIN!A50","v":"X39   Y39"},{"$f":"LUTIN!#REF!","v":{"$error":"#REF!"}},{"$f":"LUTIN!#REF!","v":{"$error":"#REF!"}},{"$f":"LUTIN!D50","v":"0014541"},{"$f":"LUTIN!L50","v":0},{"$f":"LUTIN!A86","v":"X75   Y75"},null,null,{"$f":"LUTIN!D86","v":"0000734"},{"$f":"LUTIN!L86","v":0},{"$f":"LUTIN!A122","v":"   "},null,null,{"$f":"LUTIN!D122","v":0},{"$f":"LUTIN!L122","v":0}]
[{"$f":"LUTIN!A51","v":"X40   Y40"},{"$f":"LUTIN!#REF!","v":{"$error":"#REF!"}},{"$f":"LUTIN!#REF!","v":{"$error":"#REF!"}},{"$f":"LUTIN!D51","v":"0000635"},{"$f":"LUTIN!L51","v":0},{"$f":"LUTIN!A87","v":"X76   Y76"},null,null,{"$f":"LUTIN!D87","v":"0014858"},{"$f":"LUTIN!L87","v":0},{"$f":"LUTIN!A123","v":"   "},null,null,{"$f":"LUTIN!D123","v":0},{"$f":"LUTIN!L123","v":0}]
[{"$f":"LUTIN!A52","v":"X41   Y41"},{"$f":"LUTIN!#REF!","v":{"$error":"#REF!"}},{"$f":"LUTIN!#REF!","v":{"$error":"#REF!"}},{"$f":"LUTIN!D52","v":"0011705"},{"$f":"LUTIN!L52","v":0},{"$f":"LUTIN!A88","v":"X77   Y77"},null,null,{"$f":"LUTIN!D88","v":"0016325"},{"$f":"LUTIN!L88","v":0},{"$f":"LUTIN!A124","v":""},null,null,{"$f":"LUTIN!D124","v":0},{"$f":"LUTIN!L124","v":0}]
[{"$f":"LUTIN!A53","v":"X42   Y42"},{"$f":"LUTIN!#REF!","v":{"$error":"#REF!"}},{"$f":"LUTIN!#REF!","v":{"$error":"#REF!"}},{"$f":"LUTIN!D53","v":"0000327"},{"$f":"LUTIN!L53","v":0},{"$f":"LUTIN!A89","v":"X78   Y78"},null,null,{"$f":"LUTIN!D89","v":"0014425"},{"$f":"LUTIN!L89","v":0},{"$f":"LUTIN!A125","v":"CAp"},null,null,{"$f":"LUTIN!D125","v":0},{"$f":"LUTIN!L125","v":0}]
[{"$f":"LUTIN!A54","v":"X43   Y43"},{"$f":"LUTIN!#REF!","v":{"$error":"#REF!"}},{"$f":"LUTIN!#REF!","v":{"$error":"#REF!"}},{"$f":"LUTIN!D54","v":"0011208"},{"$f":"LUTIN!L54","v":0},{"$f":"LUTIN!A90","v":"X79   Y79"},null,null,{"$f":"LUTIN!D90","v":"0000506"},{"$f":"LUTIN!L90","v":0},{"$f":"LUTIN!A126","v":"CAPE"},null,null,{"$f":"LUTIN!D126","v":0},{"$f":"LUTIN!L126","v":0}]
[{"$f":"LUTIN!A55","v":"X44   Y44"},{"$f":"LUTIN!#REF!","v":{"$error":"#REF!"}},{"$f":"LUTIN!#REF!","v":{"$error":"#REF!"}},{"$f":"LUTIN!D55","v":"0000537"},{"$f":"LUTIN!L55","v":0},{"$f":"LUTIN!A91","v":"X80   Y80"},null,null,{"$f":"LUTIN!D91","v":"0010382"},{"$f":"LUTIN!L91","v":0},{"$f":"LUTIN!#REF!","v":{"$error":"#REF!"}},null,null,{"$f":"LUTIN!#REF!","v":{"$error":"#REF!"}},{"$f":"LUTIN!#REF!","v":{"$error":"#REF!"}}]
[{"$f":"LUTIN!A56","v":"X45   Y45"},{"$f":"LUTIN!#REF!","v":{"$error":"#REF!"}},{"$f":"LUTIN!#REF!","v":{"$error":"#REF!"}},{"$f":"LUTIN!D56","v":"0014952"},{"$f":"LUTIN!L56","v":0},{"$f":"LUTIN!A92","v":"X81   Y81"},null,null,{"$f":"LUTIN!D92","v":"0000454"},{"$f":"LUTIN!L92","v":0},{"$f":"LUTIN!#REF!","v":{"$error":"#REF!"}},null,null,{"$f":"LUTIN!#REF!","v":{"$error":"#REF!"}},{"$f":"LUTIN!#REF!","v":{"$error":"#REF!"}}]
["SDIS 57"]
[]
["SUIVI DU CENTRE DE SECOURS DE HAGONDANGE"]
[]
[]
[]
["FORMATIONS",null,null,null,null,null,null,null,{"$f":"LUTIN!M11","v":"3ème < 18 ANS"}]
[]
[]
["NOM - PRENOM","NOM","PRENOM","MATRICULE",{"$f":"I465","v":"3ème < 18 ANS"},"NOM - PRENOM","NOM","PRENOM","MATRICULE",{"$f":"E468","v":"3ème < 18 ANS"},"NOM - PRENOM","NOM","PRENOM","MATRICULE",{"$f":"J468","v":"3ème < 18 ANS"}]
[]
[{"$f":"LUTIN!A12","v":"X1   Y1"},{"$f":"LUTIN!#REF!","v":{"$error":"#REF!"}},{"$f":"LUTIN!#REF!","v":{"$error":"#REF!"}},{"$f":"LUTIN!D12","v":"0013041"},{"$f":"LUTIN!M12","v":0},{"$f":"LUTIN!A57","v":"X46   Y46"},null,null,{"$f":"LUTIN!D57","v":"0012816"},{"$f":"LUTIN!M57","v":0},{"$f":"LUTIN!A93","v":"X82   Y82"},null,null,{"$f":"LUTIN!D93","v":"0014794"},{"$f":"LUTIN!M93","v":0}]
[{"$f":"LUTIN!A22","v":"X11   Y11"},{"$f":"LUTIN!#REF!","v":{"$error":"#REF!"}},{"$f":"LUTIN!#REF!","v":{"$error":"#REF!"}},{"$f":"LUTIN!D22","v":"0014707"},{"$f":"LUTIN!M22","v":0},{"$f":"LUTIN!A58","v":"X47   Y47"},null,null,{"$f":"LUTIN!D58","v":"0000795"},{"$f":"LUTIN!M58","v":0},{"$f":"LUTIN!A94","v":"X83   Y83"},null,null,{"$f":"LUTIN!D94","v":"0014794"},{"$f":"LUTIN!M94","v":0}]
[{"$f":"LUTIN!A23","v":"X12   Y12"},{"$f":"LUTIN!#REF!","v":{"$error":"#REF!"}},{"$f":"LUTIN!#REF!","v":{"$error":"#REF!"}},{"$f":"LUTIN!D23","v":"0004796"},{"$f":"LUTIN!M23","v":0},{"$f":"LUTIN!A59","v":"X48   Y48"},null,null,{"$f":"LUTIN!D59","v":"0000466"},{"$f":"LUTIN!M59","v":0},{"$f":"LUTIN!A95","v":"X84   Y84"},null,null,{"$f":"LUTIN!D95","v":"0014703"},{"$f":"LUTIN!M95","v":0}]
[{"$f":"LUTIN!A24","v":"X13   Y13"},{"$f":"LUTIN!#REF!","v":{"$error":"#REF!"}},{"$f":"LUTIN!#REF!","v":{"$error":"#REF!"}},{"$f":"LUTIN!D24","v":"0011105"},{"$f":"LUTIN!M24","v":0},{"$f":"LUTIN!A60","v":"X49   Y49"},null,null,{"$f":"LUTIN!D60","v":"0014390"},{"$f":"LUTIN!M60","v":0},{"$f":"LUTIN!A96","v":"X85   Y85"},null,null,{"$f":"LUTIN!D96","v":"0014835"},{"$f":"LUTIN!M96","v":"ü"}]
[{"$f":"LUTIN!A25","v":"X14   Y14"},{"$f":"LUTIN!#REF!","v":{"$error":"#REF!"}},{"$f":"LUTIN!#REF!","v":{"$error":"#REF!"}},{"$f":"LUTIN!D25","v":"0012601"},{"$f":"LUTIN!M25","v":0},{"$f":"LUTIN!A61","v":"X50   Y50"},null,null,{"$f":"LUTIN!D61","v":"0011106"},{"$f":"LUTIN!M61","v":0},{"$f":"LUTIN!A97","v":"X86   Y86"},null,null,{"$f":"LUTIN!D97","v":"0002573"},{"$f":"LUTIN!M97","v":0}]
[{"$f":"LUTIN!A26","v":"X15   Y15"},{"$f":"LUTIN!#REF!","v":{"$error":"#REF!"}},{"$f":"LUTIN!#REF!","v":{"$error":"#REF!"}},{"$f":"LUTIN!D26","v":"0014518"},{"$f":"LUTIN!M26","v":0},{"$f":"LUTIN!A62","v":"X51   Y51"},null,null,{"$f":"LUTIN!D62","v":""},{"$f":"LUTIN!M62","v":0},{"$f":"LUTIN!A98","v":"X87   Y87"},null,null,{"$f":"LUTIN!D98","v":""},{"$f":"LUTIN!M98","v":0}]
[{"$f":"LUTIN!A27","v":"X16   Y16"},{"$f":"LUTIN!#REF!","v":{"$error":"#REF!"}},{"$f":"LUTIN!#REF!","v":{"$error":"#REF!"}},{"$f":"LUTIN!D27","v":"0000038"},{"$f":"LUTIN!M27","v":0},{"$f":"LUTIN!A63","v":"X52   Y52"},null,null,{"$f":"LUTIN!D63","v":"0011571"},{"$f":"LUTIN!M63","v":0},{"$f":"LUTIN!A99","v":"X88   Y88"},null,null,{"$f":"LUTIN!D99","v":"0012527"},{"$f":"LUTIN!M99","v":0}]
[{"$f":"LUTIN!A28","v":"X17   Y17"},{"$f":"LUTIN!#REF!","v":{"$error":"#REF!"}},{"$f":"LUTIN!#REF!","v":{"$error":"#REF!"}},{"$f":"LUTIN!D28","v":""},{"$f":"LUTIN!M28","v":0},{"$f":"LUTIN!A64","v":"X53   Y53"},null,null,{"$f":"LUTIN!D64","v":"0015023"},{"$f":"LUTIN!M64","v":0},{"$f":"LUTIN!A100","v":"X89   Y89"},null,null,{"$f":"LUTIN!D100","v":"0012136"},{"$f":"LUTIN!M100","v":0}]
[{"$f":"LUTIN!A29","v":"X18   Y18"},{"$f":"LUTIN!#REF!","v":{"$error":"#REF!"}},{"$f":"LUTIN!#REF!","v":{"$error":"#REF!"}},{"$f":"LUTIN!D29","v":"0008074"},{"$f":"LUTIN!M29","v":0},{"$f":"LUTIN!A65","v":"X54   Y54"},null,null,{"$f":"LUTIN!D65","v":"0015026"},{"$f":"LUTIN!M65","v":0},{"$f":"LUTIN!A101","v":"X90   Y90"},null,null,{"$f":"LUTIN!D101","v":"0014453"},{"$f":"LUTIN!M101","v":0}]
[{"$f":"LUTIN!A30","v":"X19   Y19"},{"$f":"LUTIN!#REF!","v":{"$error":"#REF!"}},{"$f":"LUTIN!#REF!","v":{"$error":"#REF!"}},{"$f":"LUTIN!D30","v":"0000606"},{"$f":"LUTIN!M30","v":0},{"$f":"LUTIN!A66","v":"X55   Y55"},null,null,{"$f":"LUTIN!D66","v":"0010882"},{"$f":"LUTIN!M66","v":0},{"$f":"LUTIN!A102","v":"X91   Y91"},null,null,{"$f":"LUTIN!D102","v":"0011252"},{"$f":"LUTIN!M102","v":0}]
[{"$f":"LUTIN!A31","v":"X20   Y20"},{"$f":"LUTIN!#REF!","v":{"$error":"#REF!"}},{"$f":"LUTIN!#REF!","v":{"$error":"#REF!"}},{"$f":"LUTIN!D31","v":"0016109"},{"$f":"LUTIN!M31","v":0},{"$f":"LUTIN!A67","v":"X56   Y56"},null,null,{"$f":"LUTIN!D67","v":"0011559"},{"$f":"LUTIN!M67","v":0},{"$f":"LUTIN!A103","v":"X92   Y92"},null,null,{"$f":"LUTIN!D103","v":"0009459"},{"$f":"LUTIN!M103","v":0}]
[{"$f":"LUTIN!A32","v":"X21   Y21"},{"$f":"LUTIN!#REF!","v":{"$error":"#REF!"}},{"$f":"LUTIN!#REF!","v":{"$error":"#REF!"}},{"$f":"LUTIN!D32","v":"0000614"},{"$f":"LUTIN!M32","v":0},{"$f":"LUTIN!A68","v":"X57   Y57"},null,null,{"$f":"LUTIN!D68","v":"0000237"},{"$f":"LUTIN!M68","v":0},{"$f":"LUTIN!A104","v":"X93   Y93"},null,null,{"$f":"LUTIN!D104","v":"0000504"},{"$f":"LUTIN!M104","v":0}]
[{"$f":"LUTIN!A33","v":"X22   Y22"},{"$f":"LUTIN!#REF!","v":{"$error":"#REF!"}},{"$f":"LUTIN!#REF!","v":{"$error":"#REF!"}},{"$f":"LUTIN!D33","v":"0001089"},{"$f":"LUTIN!M33","v":0},{"$f":"LUTIN!A69","v":"X58   Y58"},null,null,{"$f":"LUTIN!D69","v":"0000238"},{"$f":"LUTIN!M69","v":0},{"$f":"LUTIN!A105","v":"X94   Y94"},null,null,{"$f":"LUTIN!D105","v":"0014810"},{"$f":"LUTIN!M105","v":"ü"}]
[{"$f":"LUTIN!A34","v":"X23   Y23"},{"$f":"LUTIN!#REF!","v":{"$error":"#REF!"}},{"$f":"LUTIN!#REF!","v":{"$error":"#REF!"}},{"$f":"LUTIN!D34","v":"0012666"},{"$f":"LUTIN!M34","v":0},{"$f":"LUTIN!A70","v":"X59   Y59"},null,null,{"$f":"LUTIN!D70","v":"0011720"},{"$f":"LUTIN!M70","v":0},{"$f":"LUTIN!A106","v":"X95   Y95"},null,null,{"$f":"LUTIN!D106","v":"0000000"},{"$f":"LUTIN!M106","v":0}]
[{"$f":"LUTIN!A35","v":"X24   Y24"},{"$f":"LUTIN!#REF!","v":{"$error":"#REF!"}},{"$f":"LUTIN!#REF!","v":{"$error":"#REF!"}},{"$f":"LUTIN!D35","v":"0004976"},{"$f":"LUTIN!M35","v":0},{"$f":"LUTIN!A71","v":"X60   Y60"},null,null,{"$f":"LUTIN!D71","v":"0009978"},{"$f":"LUTIN!M71","v":0},{"$f":"LUTIN!A107","v":"X96   Y96"},null,null,{"$f":"LUTIN!D107","v":"0011904"},{"$f":"LUTIN!M107","v":0}]
[{"$f":"LUTIN!A36","v":"X25   Y25"},{"$f":"LUTIN!#REF!","v":{"$error":"#REF!"}},{"$f":"LUTIN!#REF!","v":{"$error":"#REF!"}},{"$f":"LUTIN!D36","v":"0013001"},{"$f":"LUTIN!M36","v":0},{"$f":"LUTIN!A72","v":"X61   Y61"},null,null,{"$f":"LUTIN!D72","v":"0000328"},{"$f":"LUTIN!M72","v":0},{"$f":"LUTIN!A108","v":"   "},null,null,{"$f":"LUTIN!D108","v":0},{"$f":"LUTIN!M108","v":0}]
[{"$f":"LUTIN!A37","v":"X26   Y26"},{"$f":"LUTIN!#REF!","v":{"$error":"#REF!"}},{"$f":"LUTIN!#REF!","v":{"$error":"#REF!"}},{"$f":"LUTIN!D37","v":"0014372"},{"$f":"LUTIN!M37","v":0},{"$f":"LUTIN!A73","v":"X62   Y62"},null,null,{"$f":"LUTIN!D73","v":"0009808"},{"$f":"LUTIN!M73","v":0},{"$f":"LUTIN!A109","v":0},null,null,{"$f":"LUTIN!D109","v":0},{"$f":"LUTIN!M109","v":0}]
[{"$f":"LUTIN!A38","v":"X27   Y27"},{"$f":"LUTIN!#REF!","v":{"$error":"#REF!"}},{"$f":"LUTIN!#REF!","v":{"$error":"#REF!"}},{"$f":"LUTIN!D38","v":"0011908"},{"$f":"LUTIN!M38","v":0},{"$f":"LUTIN!A74","v":"X63   Y63"},null,null,{"$f":"LUTIN!D74","v":"0000798"},{"$f":"LUTIN!M74","v":0},{"$f":"LUTIN!A110","v":0},null,null,{"$f":"LUTIN!D110","v":0},{"$f":"LUTIN!M110","v":0}]
[{"$f":"LUTIN!A39","v":"X28   Y28"},{"$f":"LUTIN!#REF!","v":{"$error":"#REF!"}},{"$f":"LUTIN!#REF!","v":{"$error":"#REF!"}},{"$f":"LUTIN!D39","v":"0000722"},{"$f":"LUTIN!M39","v":0},{"$f":"LUTIN!A75","v":"X64   Y64"},null,null,{"$f":"LUTIN!D75","v":"0000329"},{"$f":"LUTIN!M75","v":0},{"$f":"LUTIN!A111","v":0},null,null,{"$f":"LUTIN!D111","v":0},{"$f":"LUTIN!M111","v":0}]
[{"$f":"LUTIN!A40","v":"X29   Y29"},{"$f":"LUTIN!#REF!","v":{"$error":"#REF!"}},{"$f":"LUTIN!#REF!","v":{"$error":"#REF!"}},{"$f":"LUTIN!D40","v":"0014130"},{"$f":"LUTIN!M40","v":0},{"$f":"LUTIN!A76","v":"X65   Y65"},null,null,{"$f":"LUTIN!D76","v":"0016166"},{"$f":"LUTIN!M76","v":0},{"$f":"LUTIN!A112","v":0},null,null,{"$f":"LUTIN!D112","v":0},{"$f":"LUTIN!M112","v":0}]
[{"$f":"LUTIN!A41","v":"X30   Y30"},{"$f":"LUTIN!#REF!","v":{"$error":"#REF!"}},{"$f":"LUTIN!#REF!","v":{"$error":"#REF!"}},{"$f":"LUTIN!D41","v":"0004807"},{"$f":"LUTIN!M41","v":0},{"$f":"LUTIN!A77","v":"X66   Y66"},null,null,{"$f":"LUTIN!D77","v":"0000698"},{"$f":"LUTIN!M77","v":0},{"$f":"LUTIN!A113","v":0},null,null,{"$f":"LUTIN!D113","v":0},{"$f":"LUTIN!M113","v":0}]
[{"$f":"LUTIN!A42","v":"X31   Y31"},{"$f":"LUTIN!#REF!","v":{"$error":"#REF!"}},{"$f":"LUTIN!#REF!","v":{"$error":"#REF!"}},{"$f":"LUTIN!D42","v":"0011270"},{"$f":"LUTIN!M42","v":0},{"$f":"LUTIN!A78","v":"X67   Y67"},null,null,{"$f":"LUTIN!D78","v":"0016329"},{"$f":"LUTIN!M78","v":0},{"$f":"LUTIN!A114","v":0},null,null,{"$f":"LUTIN!D114","v":0},{"$f":"LUTIN!M114","v":0}]
[{"$f":"LUTIN!A43","v":"X32   Y32"},{"$f":"LUTIN!#REF!","v":{"$error":"#REF!"}},{"$f":"LUTIN!#REF!","v":{"$error":"#REF!"}},{"$f":"LUTIN!D43","v":"0016352"},{"$f":"LUTIN!M43","v":0},{"$f":"LUTIN!A79","v":"X68   Y68"},null,null,{"$f":"LUTIN!D79","v":"0000650"},{"$f":"LUTIN!M79","v":0},{"$f":"LUTIN!A115","v":"   "},null,null,{"$f":"LUTIN!D115","v":""},{"$f":"LUTIN!M115","v":0}]
[{"$f":"LUTIN!A44","v":"X33   Y33"},{"$f":"LUTIN!#REF!","v":{"$error":"#REF!"}},{"$f":"LUTIN!#REF!","v":{"$error":"#REF!"}},{"$f":"LUTIN!D44","v":"0011906"},{"$f":"LUTIN!M44","v":0},{"$f":"LUTIN!A80","v":"X69   Y69"},null,null,{"$f":"LUTIN!D80","v":"0000518"},{"$f":"LUTIN!M80","v":0},{"$f":"LUTIN!A116","v":"   "},null,null,{"$f":"LUTIN!D116","v":0},{"$f":"LUTIN!M116","v":0}]
[{"$f":"LUTIN!A45","v":"X34   Y34"},{"$f":"LUTIN!#REF!","v":{"$error":"#REF!"}},{"$f":"LUTIN!#REF!","v":{"$error":"#REF!"}},{"$f":"LUTIN!D45","v":"0014857"},{"$f":"LUTIN!M45","v":0},{"$f":"LUTIN!A81","v":"X70   Y70"},null,null,{"$f":"LUTIN!D81","v":"0011907"},{"$f":"LUTIN!M81","v":0},{"$f":"LUTIN!A117","v":"   "},null,null,{"$f":"LUTIN!D117","v":0},{"$f":"LUTIN!M117","v":0}]
[{"$f":"LUTIN!A46","v":"X35   Y35"},{"$f":"LUTIN!#REF!","v":{"$error":"#REF!"}},{"$f":"LUTIN!#REF!","v":{"$error":"#REF!"}},{"$f":"LUTIN!D46","v":"0011905"},{"$f":"LUTIN!M46","v":0},{"$f":"LUTIN!A82","v":"X71   Y71"},null,null,{"$f":"LUTIN!D82","v":"0010677"},{"$f":"LUTIN!M82","v":0},{"$f":"LUTIN!A118","v":"   "},null,null,{"$f":"LUTIN!D118","v":0},{"$f":"LUTIN!M118","v":0}]
[{"$f":"LUTIN!A47","v":"X36   Y36"},{"$f":"LUTIN!#REF!","v":{"$error":"#REF!"}},{"$f":"LUTIN!#REF!","v":{"$error":"#REF!"}},{"$f":"LUTIN!D47","v":"0000507"},{"$f":"LUTIN!M47","v":0},{"$f":"LUTIN!A83","v":"X72   Y72"},null,null,{"$f":"LUTIN!D83","v":"0016231"},{"$f":"LUTIN!M83","v":0},{"$f":"LUTIN!A119","v":"   "},null,null,{"$f":"LUTIN!D119","v":0},{"$f":"LUTIN!M119","v":0}]
[{"$f":"LUTIN!A48","v":"X37   Y37"},{"$f":"LUTIN!#REF!","v":{"$error":"#REF!"}},{"$f":"LUTIN!#REF!","v":{"$error":"#REF!"}},{"$f":"LUTIN!D48","v":"0014854"},{"$f":"LUTIN!M48","v":0},{"$f":"LUTIN!A84","v":"X73   Y73"},null,null,{"$f":"LUTIN!D84","v":"0010207"},{"$f":"LUTIN!M84","v":0},{"$f":"LUTIN!A120","v":"   "},null,null,{"$f":"LUTIN!D120","v":0},{"$f":"LUTIN!M120","v":0}]
[{"$f":"LUTIN!A49","v":"X38   Y38"},{"$f":"LUTIN!#REF!","v":{"$error":"#REF!"}},{"$f":"LUTIN!#REF!","v":{"$error":"#REF!"}},{"$f":"LUTIN!D49","v":"0001003"},{"$f":"LUTIN!M49","v":0},{"$f":"LUTIN!A85","v":"X74   Y74"},null,null,{"$f":"LUTIN!D85","v":"0012437"},{"$f":"LUTIN!M85","v":0},{"$f":"LUTIN!A121","v":"   "},null,null,{"$f":"LUTIN!D121","v":0},{"$f":"LUTIN!M121","v":0}]
[{"$f":"LUTIN!A50","v":"X39   Y39"},{"$f":"LUTIN!#REF!","v":{"$error":"#REF!"}},{"$f":"LUTIN!#REF!","v":{"$error":"#REF!"}},{"$f":"LUTIN!D50","v":"0014541"},{"$f":"LUTIN!M50","v":0},{"$f":"LUTIN!A86","v":"X75   Y75"},null,null,{"$f":"LUTIN!D86","v":"0000734"},{"$f":"LUTIN!M86","v":0},{"$f":"LUTIN!A122","v":"   "},null,null,{"$f":"LUTIN!D122","v":0},{"$f":"LUTIN!M122","v":0}]
[{"$f":"LUTIN!A51","v":"X40   Y40"},{"$f":"LUTIN!#REF!","v":{"$error":"#REF!"}},{"$f":"LUTIN!#REF!","v":{"$error":"#REF!"}},{"$f":"LUTIN!D51","v":"0000635"},{"$f":"LUTIN!M51","v":0},{"$f":"LUTIN!A87","v":"X76   Y76"},null,null,{"$f":"LUTIN!D87","v":"0014858"},{"$f":"LUTIN!M87","v":"ü"},{"$f":"LUTIN!A123","v":"   "},null,null,{"$f":"LUTIN!D123","v":0},{"$f":"LUTIN!M123","v":0}]
[{"$f":"LUTIN!A52","v":"X41   Y41"},{"$f":"LUTIN!#REF!","v":{"$error":"#REF!"}},{"$f":"LUTIN!#REF!","v":{"$error":"#REF!"}},{"$f":"LUTIN!D52","v":"0011705"},{"$f":"LUTIN!M52","v":0},{"$f":"LUTIN!A88","v":"X77   Y77"},null,null,{"$f":"LUTIN!D88","v":"0016325"},{"$f":"LUTIN!M88","v":0},{"$f":"LUTIN!A124","v":""},null,null,{"$f":"LUTIN!D124","v":0},{"$f":"LUTIN!M124","v":0}]
[{"$f":"LUTIN!A53","v":"X42   Y42"},{"$f":"LUTIN!#REF!","v":{"$error":"#REF!"}},{"$f":"LUTIN!#REF!","v":{"$error":"#REF!"}},{"$f":"LUTIN!D53","v":"0000327"},{"$f":"LUTIN!M53","v":0},{"$f":"LUTIN!A89","v":"X78   Y78"},null,null,{"$f":"LUTIN!D89","v":"0014425"},{"$f":"LUTIN!M89","v":0},{"$f":"LUTIN!A125","v":"CAp"},null,null,{"$f":"LUTIN!D125","v":0},{"$f":"LUTIN!M125","v":0}]
[{"$f":"LUTIN!A54","v":"X43   Y43"},{"$f":"LUTIN!#REF!","v":{"$error":"#REF!"}},{"$f":"LUTIN!#REF!","v":{"$error":"#REF!"}},{"$f":"LUTIN!D54","v":"0011208"},{"$f":"LUTIN!M54","v":0},{"$f":"LUTIN!A90","v":"X79   Y79"},null,null,{"$f":"LUTIN!D90","v":"0000506"},{"$f":"LUTIN!M90","v":0},{"$f":"LUTIN!A126","v":"CAPE"},null,null,{"$f":"LUTIN!D126","v":0},{"$f":"LUTIN!M126","v":0}]
[{"$f":"LUTIN!A55","v":"X44   Y44"},{"$f":"LUTIN!#REF!","v":{"$error":"#REF!"}},{"$f":"LUTIN!#REF!","v":{"$error":"#REF!"}},{"$f":"LUTIN!D55","v":"0000537"},{"$f":"LUTIN!M55","v":0},{"$f":"LUTIN!A91","v":"X80   Y80"},null,null,{"$f":"LUTIN!D91","v":"0010382"},{"$f":"LUTIN!M91","v":0},{"$f":"LUTIN!#REF!","v":{"$error":"#REF!"}},null,null,{"$f":"LUTIN!#REF!","v":{"$error":"#REF!"}},{"$f":"LUTIN!#REF!","v":{"$error":"#REF!"}}]
[{"$f":"LUTIN!A56","v":"X45   Y45"},{"$f":"LUTIN!#REF!","v":{"$error":"#REF!"}},{"$f":"LUTIN!#REF!","v":{"$error":"#REF!"}},{"$f":"LUTIN!D56","v":"0014952"},{"$f":"LUTIN!M56","v":0},{"$f":"LUTIN!A92","v":"X81   Y81"},null,null,{"$f":"LUTIN!D92","v":"0000454"},{"$f":"LUTIN!M92","v":0},{"$f":"LUTIN!#REF!","v":{"$error":"#REF!"}},null,null,{"$f":"LUTIN!#REF!","v":{"$error":"#REF!"}},{"$f":"LUTIN!#REF!","v":{"$error":"#REF!"}}]
["SDIS 57"]
[]
["SUIVI DU CENTRE DE SECOURS DE HAGONDANGE"]
[]
[]
[]
["FORMATIONS",null,null,null,null,null,null,null,{"$f":"LUTIN!N11","v":"CE"}]
[]
[]
["NOM - PRENOM","NOM","PRENOM","MATRICULE",{"$f":"I512","v":"CE"},"NOM - PRENOM","NOM","PRENOM","MATRICULE",{"$f":"E515","v":"CE"},"NOM - PRENOM","NOM","PRENOM","MATRICULE",{"$f":"J515","v":"CE"}]
[]
[{"$f":"LUTIN!A12","v":"X1   Y1"},null,null,{"$f":"LUTIN!D12","v":"0013041"},{"$f":"LUTIN!N12","v":0},{"$f":"LUTIN!A57","v":"X46   Y46"},null,null,{"$f":"LUTIN!D57","v":"0012816"},{"$f":"LUTIN!N57","v":"ü"},{"$f":"LUTIN!A93","v":"X82   Y82"},null,null,{"$f":"LUTIN!D93","v":"0014794"},{"$f":"LUTIN!N93","v":0}]
[{"$f":"LUTIN!A22","v":"X11   Y11"},null,null,{"$f":"LUTIN!D22","v":"0014707"},{"$f":"LUTIN!N22","v":0},{"$f":"LUTIN!A58","v":"X47   Y47"},null,null,{"$f":"LUTIN!D58","v":"0000795"},{"$f":"LUTIN!N58","v":0},{"$f":"LUTIN!A94","v":"X83   Y83"},null,null,{"$f":"LUTIN!D94","v":"0014794"},{"$f":"LUTIN!N94","v":0}]
[{"$f":"LUTIN!A23","v":"X12   Y12"},null,null,{"$f":"LUTIN!D23","v":"0004796"},{"$f":"LUTIN!N23","v":"ü"},{"$f":"LUTIN!A59","v":"X48   Y48"},null,null,{"$f":"LUTIN!D59","v":"0000466"},{"$f":"LUTIN!N59","v":0},{"$f":"LUTIN!A95","v":"X84   Y84"},null,null,{"$f":"LUTIN!D95","v":"0014703"},{"$f":"LUTIN!N95","v":0}]
[{"$f":"LUTIN!A24","v":"X13   Y13"},null,null,{"$f":"LUTIN!D24","v":"0011105"},{"$f":"LUTIN!N24","v":0},{"$f":"LUTIN!A60","v":"X49   Y49"},null,null,{"$f":"LUTIN!D60","v":"0014390"},{"$f":"LUTIN!N60","v":0},{"$f":"LUTIN!A96","v":"X85   Y85"},null,null,{"$f":"LUTIN!D96","v":"0014835"},{"$f":"LUTIN!N96","v":0}]
[{"$f":"LUTIN!A25","v":"X14   Y14"},null,null,{"$f":"LUTIN!D25","v":"0012601"},{"$f":"LUTIN!N25","v":0},{"$f":"LUTIN!A61","v":"X50   Y50"},null,null,{"$f":"LUTIN!D61","v":"0011106"},{"$f":"LUTIN!N61","v":"ü"},{"$f":"LUTIN!A97","v":"X86   Y86"},null,null,{"$f":"LUTIN!D97","v":"0002573"},{"$f":"LUTIN!N97","v":0}]
[{"$f":"LUTIN!A26","v":"X15   Y15"},null,null,{"$f":"LUTIN!D26","v":"0014518"},{"$f":"LUTIN!N26","v":0},{"$f":"LUTIN!A62","v":"X51   Y51"},null,null,{"$f":"LUTIN!D62","v":""},{"$f":"LUTIN!N62","v":0},{"$f":"LUTIN!A98","v":"X87   Y87"},null,null,{"$f":"LUTIN!D98","v":""},{"$f":"LUTIN!N98","v":0}]
[{"$f":"LUTIN!A27","v":"X16   Y16"},null,null,{"$f":"LUTIN!D27","v":"0000038"},{"$f":"LUTIN!N27","v":0},{"$f":"LUTIN!A63","v":"X52   Y52"},null,null,{"$f":"LUTIN!D63","v":"0011571"},{"$f":"LUTIN!N63","v":0},{"$f":"LUTIN!A99","v":"X88   Y88"},null,null,{"$f":"LUTIN!D99","v":"0012527"},{"$f":"LUTIN!N99","v":0}]
[{"$f":"LUTIN!A28","v":"X17   Y17"},null,null,{"$f":"LUTIN!D28","v":""},{"$f":"LUTIN!N28","v":"ü"},{"$f":"LUTIN!A64","v":"X53   Y53"},null,null,{"$f":"LUTIN!D64","v":"0015023"},{"$f":"LUTIN!N64","v":0},{"$f":"LUTIN!A100","v":"X89   Y89"},null,null,{"$f":"LUTIN!D100","v":"0012136"},{"$f":"LUTIN!N100","v":"ü"}]
[{"$f":"LUTIN!A29","v":"X18   Y18"},null,null,{"$f":"LUTIN!D29","v":"0008074"},{"$f":"LUTIN!N29","v":0},{"$f":"LUTIN!A65","v":"X54   Y54"},null,null,{"$f":"LUTIN!D65","v":"0015026"},{"$f":"LUTIN!N65","v":0},{"$f":"LUTIN!A101","v":"X90   Y90"},null,null,{"$f":"LUTIN!D101","v":"0014453"},{"$f":"LUTIN!N101","v":0}]
[{"$f":"LUTIN!A30","v":"X19   Y19"},null,null,{"$f":"LUTIN!D30","v":"0000606"},{"$f":"LUTIN!N30","v":0},{"$f":"LUTIN!A66","v":"X55   Y55"},null,null,{"$f":"LUTIN!D66","v":"0010882"},{"$f":"LUTIN!N66","v":"ü"},{"$f":"LUTIN!A102","v":"X91   Y91"},null,null,{"$f":"LUTIN!D102","v":"0011252"},{"$f":"LUTIN!N102","v":"ü"}]
[{"$f":"LUTIN!A31","v":"X20   Y20"},null,null,{"$f":"LUTIN!D31","v":"0016109"},{"$f":"LUTIN!N31","v":0},{"$f":"LUTIN!A67","v":"X56   Y56"},null,null,{"$f":"LUTIN!D67","v":"0011559"},{"$f":"LUTIN!N67","v":"ü"},{"$f":"LUTIN!A103","v":"X92   Y92"},null,null,{"$f":"LUTIN!D103","v":"0009459"},{"$f":"LUTIN!N103","v":0}]
[{"$f":"LUTIN!A32","v":"X21   Y21"},null,null,{"$f":"LUTIN!D32","v":"0000614"},{"$f":"LUTIN!N32","v":0},{"$f":"LUTIN!A68","v":"X57   Y57"},null,null,{"$f":"LUTIN!D68","v":"0000237"},{"$f":"LUTIN!N68","v":0},{"$f":"LUTIN!A104","v":"X93   Y93"},null,null,{"$f":"LUTIN!D104","v":"0000504"},{"$f":"LUTIN!N104","v":0}]
[{"$f":"LUTIN!A33","v":"X22   Y22"},null,null,{"$f":"LUTIN!D33","v":"0001089"},{"$f":"LUTIN!N33","v":"ü"},{"$f":"LUTIN!A69","v":"X58   Y58"},null,null,{"$f":"LUTIN!D69","v":"0000238"},{"$f":"LUTIN!N69","v":0},{"$f":"LUTIN!A105","v":"X94   Y94"},null,null,{"$f":"LUTIN!D105","v":"0014810"},{"$f":"LUTIN!N105","v":0}]
[{"$f":"LUTIN!A34","v":"X23   Y23"},null,null,{"$f":"LUTIN!D34","v":"0012666"},{"$f":"LUTIN!N34","v":"ü"},{"$f":"LUTIN!A70","v":"X59   Y59"},null,null,{"$f":"LUTIN!D70","v":"0011720"},{"$f":"LUTIN!N70","v":"ü"},{"$f":"LUTIN!A106","v":"X95   Y95"},null,null,{"$f":"LUTIN!D106","v":"0000000"},{"$f":"LUTIN!N106","v":0}]
[{"$f":"LUTIN!A35","v":"X24   Y24"},null,null,{"$f":"LUTIN!D35","v":"0004976"},{"$f":"LUTIN!N35","v":0},{"$f":"LUTIN!A71","v":"X60   Y60"},null,null,{"$f":"LUTIN!D71","v":"0009978"},{"$f":"LUTIN!N71","v":"ü"},{"$f":"LUTIN!A107","v":"X96   Y96"},null,null,{"$f":"LUTIN!D107","v":"0011904"},{"$f":"LUTIN!N107","v":0}]
[{"$f":"LUTIN!A36","v":"X25   Y25"},null,null,{"$f":"LUTIN!D36","v":"0013001"},{"$f":"LUTIN!N36","v":0},{"$f":"LUTIN!A72","v":"X61   Y61"},null,null,{"$f":"LUTIN!D72","v":"0000328"},{"$f":"LUTIN!N72","v":0},{"$f":"LUTIN!A108","v":"   "},null,null,{"$f":"LUTIN!D108","v":0},{"$f":"LUTIN!N108","v":0}]
[{"$f":"LUTIN!A37","v":"X26   Y26"},null,null,{"$f":"LUTIN!D37","v":"0014372"},{"$f":"LUTIN!N37","v":0},{"$f":"LUTIN!A73","v":"X62   Y62"},null,null,{"$f":"LUTIN!D73","v":"0009808"},{"$f":"LUTIN!N73","v":"ü"},{"$f":"LUTIN!A109","v":0},null,null,{"$f":"LUTIN!D109","v":0},{"$f":"LUTIN!N109","v":0}]
[{"$f":"LUTIN!A38","v":"X27   Y27"},null,null,{"$f":"LUTIN!D38","v":"0011908"},{"$f":"LUTIN!N38","v":0},{"$f":"LUTIN!A74","v":"X63   Y63"},null,null,{"$f":"LUTIN!D74","v":"0000798"},{"$f":"LUTIN!N74","v":0},{"$f":"LUTIN!A110","v":0},null,null,{"$f":"LUTIN!D110","v":0},{"$f":"LUTIN!N110","v":0}]
[{"$f":"LUTIN!A39","v":"X28   Y28"},null,null,{"$f":"LUTIN!D39","v":"0000722"},{"$f":"LUTIN!N39","v":0},{"$f":"LUTIN!A75","v":"X64   Y64"},null,null,{"$f":"LUTIN!D75","v":"0000329"},{"$f":"LUTIN!N75","v":0},{"$f":"LUTIN!A111","v":0},null,null,{"$f":"LUTIN!D111","v":0},{"$f":"LUTIN!N111","v":0}]
[{"$f":"LUTIN!A40","v":"X29   Y29"},null,null,{"$f":"LUTIN!D40","v":"0014130"},{"$f":"LUTIN!N40","v":0},{"$f":"LUTIN!A76","v":"X65   Y65"},null,null,{"$f":"LUTIN!D76","v":"0016166"},{"$f":"LUTIN!N76","v":0},{"$f":"LUTIN!A112","v":0},null,null,{"$f":"LUTIN!D112","v":0},{"$f":"LUTIN!N112","v":0}]
[{"$f":"LUTIN!A41","v":"X30   Y30"},null,null,{"$f":"LUTIN!D41","v":"0004807"},{"$f":"LUTIN!N41","v":0},{"$f":"LUTIN!A77","v":"X66   Y66"},null,null,{"$f":"LUTIN!D77","v":"0000698"},{"$f":"LUTIN!N77","v":0},{"$f":"LUTIN!A113","v":0},null,null,{"$f":"LUTIN!D113","v":0},{"$f":"LUTIN!N113","v":0}]
[{"$f":"LUTIN!A42","v":"X31   Y31"},null,null,{"$f":"LUTIN!D42","v":"0011270"},{"$f":"LUTIN!N42","v":0},{"$f":"LUTIN!A78","v":"X67   Y67"},null,null,{"$f":"LUTIN!D78","v":"0016329"},{"$f":"LUTIN!N78","v":0},{"$f":"LUTIN!A114","v":0},null,null,{"$f":"LUTIN!D114","v":0},{"$f":"LUTIN!N114","v":0}]
[{"$f":"LUTIN!A43","v":"X32   Y32"},null,null,{"$f":"LUTIN!D43","v":"0016352"},{"$f":"LUTIN!N43","v":0},{"$f":"LUTIN!A79","v":"X68   Y68"},null,null,{"$f":"LUTIN!D79","v":"0000650"},{"$f":"LUTIN!N79","v":0},{"$f":"LUTIN!A115","v":"   "},null,null,{"$f":"LUTIN!D115","v":""},{"$f":"LUTIN!N115","v":0}]
[{"$f":"LUTIN!A44","v":"X33   Y33"},null,null,{"$f":"LUTIN!D44","v":"0011906"},{"$f":"LUTIN!N44","v":"ü"},{"$f":"LUTIN!A80","v":"X69   Y69"},null,null,{"$f":"LUTIN!D80","v":"0000518"},{"$f":"LUTIN!N80","v":0},{"$f":"LUTIN!A116","v":"   "},null,null,{"$f":"LUTIN!D116","v":0},{"$f":"LUTIN!N116","v":0}]
[{"$f":"LUTIN!A45","v":"X34   Y34"},null,null,{"$f":"LUTIN!D45","v":"0014857"},{"$f":"LUTIN!N45","v":0},{"$f":"LUTIN!A81","v":"X70   Y70"},null,null,{"$f":"LUTIN!D81","v":"0011907"},{"$f":"LUTIN!N81","v":0},{"$f":"LUTIN!A117","v":"   "},null,null,{"$f":"LUTIN!D117","v":0},{"$f":"LUTIN!N117","v":0}]
[{"$f":"LUTIN!A46","v":"X35   Y35"},null,null,{"$f":"LUTIN!D46","v":"0011905"},{"$f":"LUTIN!N46","v":0},{"$f":"LUTIN!A82","v":"X71   Y71"},null,null,{"$f":"LUTIN!D82","v":"0010677"},{"$f":"LUTIN!N82","v":0},{"$f":"LUTIN!A118","v":"   "},null,null,{"$f":"LUTIN!D118","v":0},{"$f":"LUTIN!N118","v":0}]
[{"$f":"LUTIN!A47","v":"X36   Y36"},null,null,{"$f":"LUTIN!D47","v":"0000507"},{"$f":"LUTIN!N47","v":0},{"$f":"LUTIN!A83","v":"X72   Y72"},null,null,{"$f":"LUTIN!D83","v":"0016231"},{"$f":"LUTIN!N83","v":0},{"$f":"LUTIN!A119","v":"   "},null,null,{"$f":"LUTIN!D119","v":0},{"$f":"LUTIN!N119","v":0}]
[{"$f":"LUTIN!A48","v":"X37   Y37"},null,null,{"$f":"LUTIN!D48","v":"0014854"},{"$f":"LUTIN!N48","v":0},{"$f":"LUTIN!A84","v":"X73   Y73"},null,null,{"$f":"LUTIN!D84","v":"0010207"},{"$f":"LUTIN!N84","v":0},{"$f":"LUTIN!A120","v":"   "},null,null,{"$f":"LUTIN!D120","v":0},{"$f":"LUTIN!N120","v":0}]
[{"$f":"LUTIN!A49","v":"X38   Y38"},null,null,{"$f":"LUTIN!D49","v":"0001003"},{"$f":"LUTIN!N49","v":0},{"$f":"LUTIN!A85","v":"X74   Y74"},null,null,{"$f":"LUTIN!D85","v":"0012437"},{"$f":"LUTIN!N85","v":"ü"},{"$f":"LUTIN!A121","v":"   "},null,null,{"$f":"LUTIN!D121","v":0},{"$f":"LUTIN!N121","v":0}]
[{"$f":"LUTIN!A50","v":"X39   Y39"},null,null,{"$f":"LUTIN!D50","v":"0014541"},{"$f":"LUTIN!N50","v":0},{"$f":"LUTIN!A86","v":"X75   Y75"},null,null,{"$f":"LUTIN!D86","v":"0000734"},{"$f":"LUTIN!N86","v":0},{"$f":"LUTIN!A122","v":"   "},null,null,{"$f":"LUTIN!D122","v":0},{"$f":"LUTIN!N122","v":0}]
[{"$f":"LUTIN!A51","v":"X40   Y40"},null,null,{"$f":"LUTIN!D51","v":"0000635"},{"$f":"LUTIN!N51","v":0},{"$f":"LUTIN!A87","v":"X76   Y76"},null,null,{"$f":"LUTIN!D87","v":"0014858"},{"$f":"LUTIN!N87","v":0},{"$f":"LUTIN!A123","v":"   "},null,null,{"$f":"LUTIN!D123","v":0},{"$f":"LUTIN!N123","v":0}]
[{"$f":"LUTIN!A52","v":"X41   Y41"},null,null,{"$f":"LUTIN!D52","v":"0011705"},{"$f":"LUTIN!N52","v":"ü"},{"$f":"LUTIN!A88","v":"X77   Y77"},null,null,{"$f":"LUTIN!D88","v":"0016325"},{"$f":"LUTIN!N88","v":"ü"},{"$f":"LUTIN!A124","v":""},null,null,{"$f":"LUTIN!D124","v":0},{"$f":"LUTIN!N124","v":0}]
[{"$f":"LUTIN!A53","v":"X42   Y42"},null,null,{"$f":"LUTIN!D53","v":"0000327"},{"$f":"LUTIN!N53","v":0},{"$f":"LUTIN!A89","v":"X78   Y78"},null,null,{"$f":"LUTIN!D89","v":"0014425"},{"$f":"LUTIN!N89","v":0},{"$f":"LUTIN!A125","v":"CAp"},null,null,{"$f":"LUTIN!D125","v":0},{"$f":"LUTIN!N125","v":0}]
[{"$f":"LUTIN!A54","v":"X43   Y43"},null,null,{"$f":"LUTIN!D54","v":"0011208"},{"$f":"LUTIN!N54","v":"ü"},{"$f":"LUTIN!A90","v":"X79   Y79"},null,null,{"$f":"LUTIN!D90","v":"0000506"},{"$f":"LUTIN!N90","v":0},{"$f":"LUTIN!A126","v":"CAPE"},null,null,{"$f":"LUTIN!D126","v":0},{"$f":"LUTIN!N126","v":0}]
[{"$f":"LUTIN!A55","v":"X44   Y44"},null,null,{"$f":"LUTIN!D55","v":"0000537"},{"$f":"LUTIN!N55","v":0},{"$f":"LUTIN!A91","v":"X80   Y80"},null,null,{"$f":"LUTIN!D91","v":"0010382"},{"$f":"LUTIN!N91","v":"ü"},{"$f":"LUTIN!#REF!","v":{"$error":"#REF!"}},null,null,{"$f":"LUTIN!#REF!","v":{"$error":"#REF!"}},{"$f":"LUTIN!#REF!","v":{"$error":"#REF!"}}]
[{"$f":"LUTIN!A56","v":"X45   Y45"},null,null,{"$f":"LUTIN!D56","v":"0014952"},{"$f":"LUTIN!N56","v":0},{"$f":"LUTIN!A92","v":"X81   Y81"},null,null,{"$f":"LUTIN!D92","v":"0000454"},{"$f":"LUTIN!N92","v":0},{"$f":"LUTIN!#REF!","v":{"$error":"#REF!"}},null,null,{"$f":"LUTIN!#REF!","v":{"$error":"#REF!"}},{"$f":"LUTIN!#REF!","v":{"$error":"#REF!"}}]
["SDIS 57"]
[]
["SUIVI DU CENTRE DE SECOURS DE HAGONDANGE"]
[]
[]
[]
["FORMATIONS",null,null,null,null,null,null,null,{"$f":"LUTIN!O11","v":"CA 1 EQ"}]
[]
[]
["NOM - PRENOM","NOM","PRENOM","MATRICULE",{"$f":"I559","v":"CA 1 EQ"},"NOM - PRENOM","NOM","PRENOM","MATRICULE",{"$f":"E562","v":"CA 1 EQ"},"NOM - PRENOM","NOM","PRENOM","MATRICULE",{"$f":"J562","v":"CA 1 EQ"}]
[]
[{"$f":"LUTIN!A12","v":"X1   Y1"},null,null,{"$f":"LUTIN!D12","v":"0013041"},{"$f":"LUTIN!O12","v":0},{"$f":"LUTIN!A57","v":"X46   Y46"},null,null,{"$f":"LUTIN!D57","v":"0012816"},{"$f":"LUTIN!O57","v":0},{"$f":"LUTIN!A93","v":"X82   Y82"},null,null,{"$f":"LUTIN!D93","v":"0014794"},{"$f":"LUTIN!O93","v":0}]
[{"$f":"LUTIN!A22","v":"X11   Y11"},null,null,{"$f":"LUTIN!D22","v":"0014707"},{"$f":"LUTIN!O22","v":0},{"$f":"LUTIN!A58","v":"X47   Y47"},null,null,{"$f":"LUTIN!D58","v":"0000795"},{"$f":"LUTIN!O58","v":0},{"$f":"LUTIN!A94","v":"X83   Y83"},null,null,{"$f":"LUTIN!D94","v":"0014794"},{"$f":"LUTIN!O94","v":0}]
[{"$f":"LUTIN!A23","v":"X12   Y12"},null,null,{"$f":"LUTIN!D23","v":"0004796"},{"$f":"LUTIN!O23","v":0},{"$f":"LUTIN!A59","v":"X48   Y48"},null,null,{"$f":"LUTIN!D59","v":"0000466"},{"$f":"LUTIN!O59","v":0},{"$f":"LUTIN!A95","v":"X84   Y84"},null,null,{"$f":"LUTIN!D95","v":"0014703"},{"$f":"LUTIN!O95","v":0}]
[{"$f":"LUTIN!A24","v":"X13   Y13"},null,null,{"$f":"LUTIN!D24","v":"0011105"},{"$f":"LUTIN!O24","v":0},{"$f":"LUTIN!A60","v":"X49   Y49"},null,null,{"$f":"LUTIN!D60","v":"0014390"},{"$f":"LUTIN!O60","v":0},{"$f":"LUTIN!A96","v":"X85   Y85"},null,null,{"$f":"LUTIN!D96","v":"0014835"},{"$f":"LUTIN!O96","v":0}]
[{"$f":"LUTIN!A25","v":"X14   Y14"},null,null,{"$f":"LUTIN!D25","v":"0012601"},{"$f":"LUTIN!O25","v":0},{"$f":"LUTIN!A61","v":"X50   Y50"},null,null,{"$f":"LUTIN!D61","v":"0011106"},{"$f":"LUTIN!O61","v":0},{"$f":"LUTIN!A97","v":"X86   Y86"},null,null,{"$f":"LUTIN!D97","v":"0002573"},{"$f":"LUTIN!O97","v":0}]
[{"$f":"LUTIN!A26","v":"X15   Y15"},null,null,{"$f":"LUTIN!D26","v":"0014518"},{"$f":"LUTIN!O26","v":0},{"$f":"LUTIN!A62","v":"X51   Y51"},null,null,{"$f":"LUTIN!D62","v":""},{"$f":"LUTIN!O62","v":0},{"$f":"LUTIN!A98","v":"X87   Y87"},null,null,{"$f":"LUTIN!D98","v":""},{"$f":"LUTIN!O98","v":0}]
[{"$f":"LUTIN!A27","v":"X16   Y16"},null,null,{"$f":"LUTIN!D27","v":"0000038"},{"$f":"LUTIN!O27","v":0},{"$f":"LUTIN!A63","v":"X52   Y52"},null,null,{"$f":"LUTIN!D63","v":"0011571"},{"$f":"LUTIN!O63","v":"ü"},{"$f":"LUTIN!A99","v":"X88   Y88"},null,null,{"$f":"LUTIN!D99","v":"0012527"},{"$f":"LUTIN!O99","v":0}]
[{"$f":"LUTIN!A28","v":"X17   Y17"},null,null,{"$f":"LUTIN!D28","v":""},{"$f":"LUTIN!O28","v":0},{"$f":"LUTIN!A64","v":"X53   Y53"},null,null,{"$f":"LUTIN!D64","v":"0015023"},{"$f":"LUTIN!O64","v":0},{"$f":"LUTIN!A100","v":"X89   Y89"},null,null,{"$f":"LUTIN!D100","v":"0012136"},{"$f":"LUTIN!O100","v":0}]
[{"$f":"LUTIN!A29","v":"X18   Y18"},null,null,{"$f":"LUTIN!D29","v":"0008074"},{"$f":"LUTIN!O29","v":0},{"$f":"LUTIN!A65","v":"X54   Y54"},null,null,{"$f":"LUTIN!D65","v":"0015026"},{"$f":"LUTIN!O65","v":"ü"},{"$f":"LUTIN!A101","v":"X90   Y90"},null,null,{"$f":"LUTIN!D101","v":"0014453"},{"$f":"LUTIN!O101","v":0}]
[{"$f":"LUTIN!A30","v":"X19   Y19"},null,null,{"$f":"LUTIN!D30","v":"0000606"},{"$f":"LUTIN!O30","v":0},{"$f":"LUTIN!A66","v":"X55   Y55"},null,null,{"$f":"LUTIN!D66","v":"0010882"},{"$f":"LUTIN!O66","v":0},{"$f":"LUTIN!A102","v":"X91   Y91"},null,null,{"$f":"LUTIN!D102","v":"0011252"},{"$f":"LUTIN!O102","v":0}]
[{"$f":"LUTIN!A31","v":"X20   Y20"},null,null,{"$f":"LUTIN!D31","v":"0016109"},{"$f":"LUTIN!O31","v":0},{"$f":"LUTIN!A67","v":"X56   Y56"},null,null,{"$f":"LUTIN!D67","v":"0011559"},{"$f":"LUTIN!O67","v":0},{"$f":"LUTIN!A103","v":"X92   Y92"},null,null,{"$f":"LUTIN!D103","v":"0009459"},{"$f":"LUTIN!O103","v":0}]
[{"$f":"LUTIN!A32","v":"X21   Y21"},null,null,{"$f":"LUTIN!D32","v":"0000614"},{"$f":"LUTIN!O32","v":0},{"$f":"LUTIN!A68","v":"X57   Y57"},null,null,{"$f":"LUTIN!D68","v":"0000237"},{"$f":"LUTIN!O68","v":0},{"$f":"LUTIN!A104","v":"X93   Y93"},null,null,{"$f":"LUTIN!D104","v":"0000504"},{"$f":"LUTIN!O104","v":0}]
[{"$f":"LUTIN!A33","v":"X22   Y22"},null,null,{"$f":"LUTIN!D33","v":"0001089"},{"$f":"LUTIN!O33","v":0},{"$f":"LUTIN!A69","v":"X58   Y58"},null,null,{"$f":"LUTIN!D69","v":"0000238"},{"$f":"LUTIN!O69","v":0},{"$f":"LUTIN!A105","v":"X94   Y94"},null,null,{"$f":"LUTIN!D105","v":"0014810"},{"$f":"LUTIN!O105","v":0}]
[{"$f":"LUTIN!A34","v":"X23   Y23"},null,null,{"$f":"LUTIN!D34","v":"0012666"},{"$f":"LUTIN!O34","v":0},{"$f":"LUTIN!A70","v":"X59   Y59"},null,null,{"$f":"LUTIN!D70","v":"0011720"},{"$f":"LUTIN!O70","v":0},{"$f":"LUTIN!A106","v":"X95   Y95"},null,null,{"$f":"LUTIN!D106","v":"0000000"},{"$f":"LUTIN!O106","v":0}]
[{"$f":"LUTIN!A35","v":"X24   Y24"},null,null,{"$f":"LUTIN!D35","v":"0004976"},{"$f":"LUTIN!O35","v":"ü"},{"$f":"LUTIN!A71","v":"X60   Y60"},null,null,{"$f":"LUTIN!D71","v":"0009978"},{"$f":"LUTIN!O71","v":0},{"$f":"LUTIN!A107","v":"X96   Y96"},null,null,{"$f":"LUTIN!D107","v":"0011904"},{"$f":"LUTIN!O107","v":0}]
[{"$f":"LUTIN!A36","v":"X25   Y25"},null,null,{"$f":"LUTIN!D36","v":"0013001"},{"$f":"LUTIN!O36","v":0},{"$f":"LUTIN!A72","v":"X61   Y61"},null,null,{"$f":"LUTIN!D72","v":"0000328"},{"$f":"LUTIN!O72","v":0},{"$f":"LUTIN!A108","v":"   "},null,null,{"$f":"LUTIN!D108","v":0},{"$f":"LUTIN!O108","v":0}]
[{"$f":"LUTIN!A37","v":"X26   Y26"},null,null,{"$f":"LUTIN!D37","v":"0014372"},{"$f":"LUTIN!O37","v":0},{"$f":"LUTIN!A73","v":"X62   Y62"},null,null,{"$f":"LUTIN!D73","v":"0009808"},{"$f":"LUTIN!O73","v":0},{"$f":"LUTIN!A109","v":0},null,null,{"$f":"LUTIN!D109","v":0},{"$f":"LUTIN!O109","v":0}]
[{"$f":"LUTIN!A38","v":"X27   Y27"},null,null,{"$f":"LUTIN!D38","v":"0011908"},{"$f":"LUTIN!O38","v":0},{"$f":"LUTIN!A74","v":"X63   Y63"},null,null,{"$f":"LUTIN!D74","v":"0000798"},{"$f":"LUTIN!O74","v":0},{"$f":"LUTIN!A110","v":0},null,null,{"$f":"LUTIN!D110","v":0},{"$f":"LUTIN!O110","v":0}]
[{"$f":"LUTIN!A39","v":"X28   Y28"},null,null,{"$f":"LUTIN!D39","v":"0000722"},{"$f":"LUTIN!O39","v":0},{"$f":"LUTIN!A75","v":"X64   Y64"},null,null,{"$f":"LUTIN!D75","v":"0000329"},{"$f":"LUTIN!O75","v":0},{"$f":"LUTIN!A111","v":0},null,null,{"$f":"LUTIN!D111","v":0},{"$f":"LUTIN!O111","v":0}]
[{"$f":"LUTIN!A40","v":"X29   Y29"},null,null,{"$f":"LUTIN!D40","v":"0014130"},{"$f":"LUTIN!O40","v":"ü"},{"$f":"LUTIN!A76","v":"X65   Y65"},null,null,{"$f":"LUTIN!D76","v":"0016166"},{"$f":"LUTIN!O76","v":0},{"$f":"LUTIN!A112","v":0},null,null,{"$f":"LUTIN!D112","v":0},{"$f":"LUTIN!O112","v":0}]
[{"$f":"LUTIN!A41","v":"X30   Y30"},null,null,{"$f":"LUTIN!D41","v":"0004807"},{"$f":"LUTIN!O41","v":0},{"$f":"LUTIN!A77","v":"X66   Y66"},null,null,{"$f":"LUTIN!D77","v":"0000698"},{"$f":"LUTIN!O77","v":0},{"$f":"LUTIN!A113","v":0},null,null,{"$f":"LUTIN!D113","v":0},{"$f":"LUTIN!O113","v":0}]
[{"$f":"LUTIN!A42","v":"X31   Y31"},null,null,{"$f":"LUTIN!D42","v":"0011270"},{"$f":"LUTIN!O42","v":0},{"$f":"LUTIN!A78","v":"X67   Y67"},null,null,{"$f":"LUTIN!D78","v":"0016329"},{"$f":"LUTIN!O78","v":0},{"$f":"LUTIN!A114","v":0},null,null,{"$f":"LUTIN!D114","v":0},{"$f":"LUTIN!O114","v":0}]
[{"$f":"LUTIN!A43","v":"X32   Y32"},null,null,{"$f":"LUTIN!D43","v":"0016352"},{"$f":"LUTIN!O43","v":0},{"$f":"LUTIN!A79","v":"X68   Y68"},null,null,{"$f":"LUTIN!D79","v":"0000650"},{"$f":"LUTIN!O79","v":0},{"$f":"LUTIN!A115","v":"   "},null,null,{"$f":"LUTIN!D115","v":""},{"$f":"LUTIN!O115","v":0}]
[{"$f":"LUTIN!A44","v":"X33   Y33"},null,null,{"$f":"LUTIN!D44","v":"0011906"},{"$f":"LUTIN!O44","v":0},{"$f":"LUTIN!A80","v":"X69   Y69"},null,null,{"$f":"LUTIN!D80","v":"0000518"},{"$f":"LUTIN!O80","v":0},{"$f":"LUTIN!A116","v":"   "},null,null,{"$f":"LUTIN!D116","v":0},{"$f":"LUTIN!O116","v":0}]
[{"$f":"LUTIN!A45","v":"X34   Y34"},null,null,{"$f":"LUTIN!D45","v":"0014857"},{"$f":"LUTIN!O45","v":0},{"$f":"LUTIN!A81","v":"X70   Y70"},null,null,{"$f":"LUTIN!D81","v":"0011907"},{"$f":"LUTIN!O81","v":0},{"$f":"LUTIN!A117","v":"   "},null,null,{"$f":"LUTIN!D117","v":0},{"$f":"LUTIN!O117","v":0}]
[{"$f":"LUTIN!A46","v":"X35   Y35"},null,null,{"$f":"LUTIN!D46","v":"0011905"},{"$f":"LUTIN!O46","v":"ü"},{"$f":"LUTIN!A82","v":"X71   Y71"},null,null,{"$f":"LUTIN!D82","v":"0010677"},{"$f":"LUTIN!O82","v":0},{"$f":"LUTIN!A118","v":"   "},null,null,{"$f":"LUTIN!D118","v":0},{"$f":"LUTIN!O118","v":0}]
[{"$f":"LUTIN!A47","v":"X36   Y36"},null,null,{"$f":"LUTIN!D47","v":"0000507"},{"$f":"LUTIN!O47","v":0},{"$f":"LUTIN!A83","v":"X72   Y72"},null,null,{"$f":"LUTIN!D83","v":"0016231"},{"$f":"LUTIN!O83","v":0},{"$f":"LUTIN!A119","v":"   "},null,null,{"$f":"LUTIN!D119","v":0},{"$f":"LUTIN!O119","v":0}]
[{"$f":"LUTIN!A48","v":"X37   Y37"},null,null,{"$f":"LUTIN!D48","v":"0014854"},{"$f":"LUTIN!O48","v":0},{"$f":"LUTIN!A84","v":"X73   Y73"},null,null,{"$f":"LUTIN!D84","v":"0010207"},{"$f":"LUTIN!O84","v":0},{"$f":"LUTIN!A120","v":"   "},null,null,{"$f":"LUTIN!D120","v":0},{"$f":"LUTIN!O120","v":0}]
[{"$f":"LUTIN!A49","v":"X38   Y38"},null,null,{"$f":"LUTIN!D49","v":"0001003"},{"$f":"LUTIN!O49","v":0},{"$f":"LUTIN!A85","v":"X74   Y74"},null,null,{"$f":"LUTIN!D85","v":"0012437"},{"$f":"LUTIN!O85","v":0},{"$f":"LUTIN!A121","v":"   "},null,null,{"$f":"LUTIN!D121","v":0},{"$f":"LUTIN!O121","v":0}]
[{"$f":"LUTIN!A50","v":"X39   Y39"},null,null,{"$f":"LUTIN!D50","v":"0014541"},{"$f":"LUTIN!O50","v":0},{"$f":"LUTIN!A86","v":"X75   Y75"},null,null,{"$f":"LUTIN!D86","v":"0000734"},{"$f":"LUTIN!O86","v":0},{"$f":"LUTIN!A122","v":"   "},null,null,{"$f":"LUTIN!D122","v":0},{"$f":"LUTIN!O122","v":0}]
[{"$f":"LUTIN!A51","v":"X40   Y40"},null,null,{"$f":"LUTIN!D51","v":"0000635"},{"$f":"LUTIN!O51","v":0},{"$f":"LUTIN!A87","v":"X76   Y76"},null,null,{"$f":"LUTIN!D87","v":"0014858"},{"$f":"LUTIN!O87","v":0},{"$f":"LUTIN!A123","v":"   "},null,null,{"$f":"LUTIN!D123","v":0},{"$f":"LUTIN!O123","v":0}]
[{"$f":"LUTIN!A52","v":"X41   Y41"},null,null,{"$f":"LUTIN!D52","v":"0011705"},{"$f":"LUTIN!O52","v":0},{"$f":"LUTIN!A88","v":"X77   Y77"},null,null,{"$f":"LUTIN!D88","v":"0016325"},{"$f":"LUTIN!O88","v":0},{"$f":"LUTIN!A124","v":""},null,null,{"$f":"LUTIN!D124","v":0},{"$f":"LUTIN!O124","v":0}]
[{"$f":"LUTIN!A53","v":"X42   Y42"},null,null,{"$f":"LUTIN!D53","v":"0000327"},{"$f":"LUTIN!O53","v":0},{"$f":"LUTIN!A89","v":"X78   Y78"},null,null,{"$f":"LUTIN!D89","v":"0014425"},{"$f":"LUTIN!O89","v":0},{"$f":"LUTIN!A125","v":"CAp"},null,null,{"$f":"LUTIN!D125","v":0},{"$f":"LUTIN!O125","v":0}]
[{"$f":"LUTIN!A54","v":"X43   Y43"},null,null,{"$f":"LUTIN!D54","v":"0011208"},{"$f":"LUTIN!O54","v":0},{"$f":"LUTIN!A90","v":"X79   Y79"},null,null,{"$f":"LUTIN!D90","v":"0000506"},{"$f":"LUTIN!O90","v":0},{"$f":"LUTIN!A126","v":"CAPE"},null,null,{"$f":"LUTIN!D126","v":0},{"$f":"LUTIN!O126","v":0}]
[{"$f":"LUTIN!A55","v":"X44   Y44"},null,null,{"$f":"LUTIN!D55","v":"0000537"},{"$f":"LUTIN!O55","v":0},{"$f":"LUTIN!A91","v":"X80   Y80"},null,null,{"$f":"LUTIN!D91","v":"0010382"},{"$f":"LUTIN!O91","v":0},{"$f":"LUTIN!#REF!","v":{"$error":"#REF!"}},null,null,{"$f":"LUTIN!#REF!","v":{"$error":"#REF!"}},{"$f":"LUTIN!#REF!","v":{"$error":"#REF!"}}]
[{"$f":"LUTIN!A56","v":"X45   Y45"},null,null,{"$f":"LUTIN!D56","v":"0014952"},{"$f":"LUTIN!O56","v":0},{"$f":"LUTIN!A92","v":"X81   Y81"},null,null,{"$f":"LUTIN!D92","v":"0000454"},{"$f":"LUTIN!O92","v":0},{"$f":"LUTIN!#REF!","v":{"$error":"#REF!"}},null,null,{"$f":"LUTIN!#REF!","v":{"$error":"#REF!"}},{"$f":"LUTIN!#REF!","v":{"$error":"#REF!"}}]
["SDIS 57"]
[]
["SUIVI DU CENTRE DE SECOURS DE HAGONDANGE"]
[]
[]
[]
["FORMATIONS",null,null,null,null,null,null,null,{"$f":"LUTIN!P11","v":"CATE"}]
[]
[]
["NOM - PRENOM","NOM","PRENOM","MATRICULE",{"$f":"I606","v":"CATE"},"NOM - PRENOM","NOM","PRENOM","MATRICULE",{"$f":"E609","v":"CATE"},"NOM - PRENOM","NOM","PRENOM","MATRICULE",{"$f":"J609","v":"CATE"}]
[]
[{"$f":"LUTIN!A12","v":"X1   Y1"},null,null,{"$f":"LUTIN!D12","v":"0013041"},{"$f":"LUTIN!P12","v":0},{"$f":"LUTIN!A57","v":"X46   Y46"},null,null,{"$f":"LUTIN!D57","v":"0012816"},{"$f":"LUTIN!P57","v":0},{"$f":"LUTIN!A93","v":"X82   Y82"},null,null,{"$f":"LUTIN!D93","v":"0014794"},{"$f":"LUTIN!P93","v":0}]
[{"$f":"LUTIN!A22","v":"X11   Y11"},null,null,{"$f":"LUTIN!D22","v":"0014707"},{"$f":"LUTIN!P22","v":0},{"$f":"LUTIN!A58","v":"X47   Y47"},null,null,{"$f":"LUTIN!D58","v":"0000795"},{"$f":"LUTIN!P58","v":"ü"},{"$f":"LUTIN!A94","v":"X83   Y83"},null,null,{"$f":"LUTIN!D94","v":"0014794"},{"$f":"LUTIN!P94","v":0}]
[{"$f":"LUTIN!A23","v":"X12   Y12"},null,null,{"$f":"LUTIN!D23","v":"0004796"},{"$f":"LUTIN!P23","v":0},{"$f":"LUTIN!A59","v":"X48   Y48"},null,null,{"$f":"LUTIN!D59","v":"0000466"},{"$f":"LUTIN!P59","v":"ü"},{"$f":"LUTIN!A95","v":"X84   Y84"},null,null,{"$f":"LUTIN!D95","v":"0014703"},{"$f":"LUTIN!P95","v":0}]
[{"$f":"LUTIN!A24","v":"X13   Y13"},null,null,{"$f":"LUTIN!D24","v":"0011105"},{"$f":"LUTIN!P24","v":0},{"$f":"LUTIN!A60","v":"X49   Y49"},null,null,{"$f":"LUTIN!D60","v":"0014390"},{"$f":"LUTIN!P60","v":0},{"$f":"LUTIN!A96","v":"X85   Y85"},null,null,{"$f":"LUTIN!D96","v":"0014835"},{"$f":"LUTIN!P96","v":0}]
[{"$f":"LUTIN!A25","v":"X14   Y14"},null,null,{"$f":"LUTIN!D25","v":"0012601"},{"$f":"LUTIN!P25","v":0},{"$f":"LUTIN!A61","v":"X50   Y50"},null,null,{"$f":"LUTIN!D61","v":"0011106"},{"$f":"LUTIN!P61","v":0},{"$f":"LUTIN!A97","v":"X86   Y86"},null,null,{"$f":"LUTIN!D97","v":"0002573"},{"$f":"LUTIN!P97","v":"ü"}]
[{"$f":"LUTIN!A26","v":"X15   Y15"},null,null,{"$f":"LUTIN!D26","v":"0014518"},{"$f":"LUTIN!P26","v":0},{"$f":"LUTIN!A62","v":"X51   Y51"},null,null,{"$f":"LUTIN!D62","v":""},{"$f":"LUTIN!P62","v":0},{"$f":"LUTIN!A98","v":"X87   Y87"},null,null,{"$f":"LUTIN!D98","v":""},{"$f":"LUTIN!P98","v":0}]
[{"$f":"LUTIN!A27","v":"X16   Y16"},null,null,{"$f":"LUTIN!D27","v":"0000038"},{"$f":"LUTIN!P27","v":"ü"},{"$f":"LUTIN!A63","v":"X52   Y52"},null,null,{"$f":"LUTIN!D63","v":"0011571"},{"$f":"LUTIN!P63","v":0},{"$f":"LUTIN!A99","v":"X88   Y88"},null,null,{"$f":"LUTIN!D99","v":"0012527"},{"$f":"LUTIN!P99","v":0}]
[{"$f":"LUTIN!A28","v":"X17   Y17"},null,null,{"$f":"LUTIN!D28","v":""},{"$f":"LUTIN!P28","v":0},{"$f":"LUTIN!A64","v":"X53   Y53"},null,null,{"$f":"LUTIN!D64","v":"0015023"},{"$f":"LUTIN!P64","v":"ü"},{"$f":"LUTIN!A100","v":"X89   Y89"},null,null,{"$f":"LUTIN!D100","v":"0012136"},{"$f":"LUTIN!P100","v":0}]
[{"$f":"LUTIN!A29","v":"X18   Y18"},null,null,{"$f":"LUTIN!D29","v":"0008074"},{"$f":"LUTIN!P29","v":"ü"},{"$f":"LUTIN!A65","v":"X54   Y54"},null,null,{"$f":"LUTIN!D65","v":"0015026"},{"$f":"LUTIN!P65","v":0},{"$f":"LUTIN!A101","v":"X90   Y90"},null,null,{"$f":"LUTIN!D101","v":"0014453"},{"$f":"LUTIN!P101","v":0}]
[{"$f":"LUTIN!A30","v":"X19   Y19"},null,null,{"$f":"LUTIN!D30","v":"0000606"},{"$f":"LUTIN!P30","v":"ü"},{"$f":"LUTIN!A66","v":"X55   Y55"},null,null,{"$f":"LUTIN!D66","v":"0010882"},{"$f":"LUTIN!P66","v":0},{"$f":"LUTIN!A102","v":"X91   Y91"},null,null,{"$f":"LUTIN!D102","v":"0011252"},{"$f":"LUTIN!P102","v":0}]
[{"$f":"LUTIN!A31","v":"X20   Y20"},null,null,{"$f":"LUTIN!D31","v":"0016109"},{"$f":"LUTIN!P31","v":0},{"$f":"LUTIN!A67","v":"X56   Y56"},null,null,{"$f":"LUTIN!D67","v":"0011559"},{"$f":"LUTIN!P67","v":0},{"$f":"LUTIN!A103","v":"X92   Y92"},null,null,{"$f":"LUTIN!D103","v":"0009459"},{"$f":"LUTIN!P103","v":0}]
[{"$f":"LUTIN!A32","v":"X21   Y21"},null,null,{"$f":"LUTIN!D32","v":"0000614"},{"$f":"LUTIN!P32","v":"ü"},{"$f":"LUTIN!A68","v":"X57   Y57"},null,null,{"$f":"LUTIN!D68","v":"0000237"},{"$f":"LUTIN!P68","v":"ü"},{"$f":"LUTIN!A104","v":"X93   Y93"},null,null,{"$f":"LUTIN!D104","v":"0000504"},{"$f":"LUTIN!P104","v":"ü"}]
[{"$f":"LUTIN!A33","v":"X22   Y22"},null,null,{"$f":"LUTIN!D33","v":"0001089"},{"$f":"LUTIN!P33","v":0},{"$f":"LUTIN!A69","v":"X58   Y58"},null,null,{"$f":"LUTIN!D69","v":"0000238"},{"$f":"LUTIN!P69","v":"ü"},{"$f":"LUTIN!A105","v":"X94   Y94"},null,null,{"$f":"LUTIN!D105","v":"0014810"},{"$f":"LUTIN!P105","v":0}]
[{"$f":"LUTIN!A34","v":"X23   Y23"},null,null,{"$f":"LUTIN!D34","v":"0012666"},{"$f":"LUTIN!P34","v":0},{"$f":"LUTIN!A70","v":"X59   Y59"},null,null,{"$f":"LUTIN!D70","v":"0011720"},{"$f":"LUTIN!P70","v":0},{"$f":"LUTIN!A106","v":"X95   Y95"},null,null,{"$f":"LUTIN!D106","v":"0000000"},{"$f":"LUTIN!P106","v":0}]
[{"$f":"LUTIN!A35","v":"X24   Y24"},null,null,{"$f":"LUTIN!D35","v":"0004976"},{"$f":"LUTIN!P35","v":"ü"},{"$f":"LUTIN!A71","v":"X60   Y60"},null,null,{"$f":"LUTIN!D71","v":"0009978"},{"$f":"LUTIN!P71","v":0},{"$f":"LUTIN!A107","v":"X96   Y96"},null,null,{"$f":"LUTIN!D107","v":"0011904"},{"$f":"LUTIN!P107","v":0}]
[{"$f":"LUTIN!A36","v":"X25   Y25"},null,null,{"$f":"LUTIN!D36","v":"0013001"},{"$f":"LUTIN!P36","v":0},{"$f":"LUTIN!A72","v":"X61   Y61"},null,null,{"$f":"LUTIN!D72","v":"0000328"},{"$f":"LUTIN!P72","v":"ü"},{"$f":"LUTIN!A108","v":"   "},null,null,{"$f":"LUTIN!D108","v":0},{"$f":"LUTIN!P108","v":0}]
[{"$f":"LUTIN!A37","v":"X26   Y26"},null,null,{"$f":"LUTIN!D37","v":"0014372"},{"$f":"LUTIN!P37","v":0},{"$f":"LUTIN!A73","v":"X62   Y62"},null,null,{"$f":"LUTIN!D73","v":"0009808"},{"$f":"LUTIN!P73","v":0},{"$f":"LUTIN!A109","v":0},null,null,{"$f":"LUTIN!D109","v":0},{"$f":"LUTIN!P109","v":0}]
[{"$f":"LUTIN!A38","v":"X27   Y27"},null,null,{"$f":"LUTIN!D38","v":"0011908"},{"$f":"LUTIN!P38","v":0},{"$f":"LUTIN!A74","v":"X63   Y63"},null,null,{"$f":"LUTIN!D74","v":"0000798"},{"$f":"LUTIN!P74","v":"ü"},{"$f":"LUTIN!A110","v":0},null,null,{"$f":"LUTIN!D110","v":0},{"$f":"LUTIN!P110","v":0}]
[{"$f":"LUTIN!A39","v":"X28   Y28"},null,null,{"$f":"LUTIN!D39","v":"0000722"},{"$f":"LUTIN!P39","v":0},{"$f":"LUTIN!A75","v":"X64   Y64"},null,null,{"$f":"LUTIN!D75","v":"0000329"},{"$f":"LUTIN!P75","v":"ü"},{"$f":"LUTIN!A111","v":0},null,null,{"$f":"LUTIN!D111","v":0},{"$f":"LUTIN!P111","v":0}]
[{"$f":"LUTIN!A40","v":"X29   Y29"},null,null,{"$f":"LUTIN!D40","v":"0014130"},{"$f":"LUTIN!P40","v":0},{"$f":"LUTIN!A76","v":"X65   Y65"},null,null,{"$f":"LUTIN!D76","v":"0016166"},{"$f":"LUTIN!P76","v":0},{"$f":"LUTIN!A112","v":0},null,null,{"$f":"LUTIN!D112","v":0},{"$f":"LUTIN!P112","v":0}]
[{"$f":"LUTIN!A41","v":"X30   Y30"},null,null,{"$f":"LUTIN!D41","v":"0004807"},{"$f":"LUTIN!P41","v":"ü"},{"$f":"LUTIN!A77","v":"X66   Y66"},null,null,{"$f":"LUTIN!D77","v":"0000698"},{"$f":"LUTIN!P77","v":"ü"},{"$f":"LUTIN!A113","v":0},null,null,{"$f":"LUTIN!D113","v":0},{"$f":"LUTIN!P113","v":0}]
[{"$f":"LUTIN!A42","v":"X31   Y31"},null,null,{"$f":"LUTIN!D42","v":"0011270"},{"$f":"LUTIN!P42","v":0},{"$f":"LUTIN!A78","v":"X67   Y67"},null,null,{"$f":"LUTIN!D78","v":"0016329"},{"$f":"LUTIN!P78","v":0},{"$f":"LUTIN!A114","v":0},null,null,{"$f":"LUTIN!D114","v":0},{"$f":"LUTIN!P114","v":0}]
[{"$f":"LUTIN!A43","v":"X32   Y32"},null,null,{"$f":"LUTIN!D43","v":"0016352"},{"$f":"LUTIN!P43","v":0},{"$f":"LUTIN!A79","v":"X68   Y68"},null,null,{"$f":"LUTIN!D79","v":"0000650"},{"$f":"LUTIN!P79","v":"ü"},{"$f":"LUTIN!A115","v":"   "},null,null,{"$f":"LUTIN!D115","v":""},{"$f":"LUTIN!P115","v":0}]
[{"$f":"LUTIN!A44","v":"X33   Y33"},null,null,{"$f":"LUTIN!D44","v":"0011906"},{"$f":"LUTIN!P44","v":0},{"$f":"LUTIN!A80","v":"X69   Y69"},null,null,{"$f":"LUTIN!D80","v":"0000518"},{"$f":"LUTIN!P80","v":"ü"},{"$f":"LUTIN!A116","v":"   "},null,null,{"$f":"LUTIN!D116","v":0},{"$f":"LUTIN!P116","v":0}]
[{"$f":"LUTIN!A45","v":"X34   Y34"},null,null,{"$f":"LUTIN!D45","v":"0014857"},{"$f":"LUTIN!P45","v":0},{"$f":"LUTIN!A81","v":"X70   Y70"},null,null,{"$f":"LUTIN!D81","v":"0011907"},{"$f":"LUTIN!P81","v":0},{"$f":"LUTIN!A117","v":"   "},null,null,{"$f":"LUTIN!D117","v":0},{"$f":"LUTIN!P117","v":0}]
[{"$f":"LUTIN!A46","v":"X35   Y35"},null,null,{"$f":"LUTIN!D46","v":"0011905"},{"$f":"LUTIN!P46","v":0},{"$f":"LUTIN!A82","v":"X71   Y71"},null,null,{"$f":"LUTIN!D82","v":"0010677"},{"$f":"LUTIN!P82","v":0},{"$f":"LUTIN!A118","v":"   "},null,null,{"$f":"LUTIN!D118","v":0},{"$f":"LUTIN!P118","v":0}]
[{"$f":"LUTIN!A47","v":"X36   Y36"},null,null,{"$f":"LUTIN!D47","v":"0000507"},{"$f":"LUTIN!P47","v":"ü"},{"$f":"LUTIN!A83","v":"X72   Y72"},null,null,{"$f":"LUTIN!D83","v":"0016231"},{"$f":"LUTIN!P83","v":0},{"$f":"LUTIN!A119","v":"   "},null,null,{"$f":"LUTIN!D119","v":0},{"$f":"LUTIN!P119","v":0}]
[{"$f":"LUTIN!A48","v":"X37   Y37"},null,null,{"$f":"LUTIN!D48","v":"0014854"},{"$f":"LUTIN!P48","v":0},{"$f":"LUTIN!A84","v":"X73   Y73"},null,null,{"$f":"LUTIN!D84","v":"0010207"},{"$f":"LUTIN!P84","v":0},{"$f":"LUTIN!A120","v":"   "},null,null,{"$f":"LUTIN!D120","v":0},{"$f":"LUTIN!P120","v":0}]
[{"$f":"LUTIN!A49","v":"X38   Y38"},null,null,{"$f":"LUTIN!D49","v":"0001003"},{"$f":"LUTIN!P49","v":0},{"$f":"LUTIN!A85","v":"X74   Y74"},null,null,{"$f":"LUTIN!D85","v":"0012437"},{"$f":"LUTIN!P85","v":0},{"$f":"LUTIN!A121","v":"   "},null,null,{"$f":"LUTIN!D121","v":0},{"$f":"LUTIN!P121","v":0}]
[{"$f":"LUTIN!A50","v":"X39   Y39"},null,null,{"$f":"LUTIN!D50","v":"0014541"},{"$f":"LUTIN!P50","v":0},{"$f":"LUTIN!A86","v":"X75   Y75"},null,null,{"$f":"LUTIN!D86","v":"0000734"},{"$f":"LUTIN!P86","v":"ü"},{"$f":"LUTIN!A122","v":"   "},null,null,{"$f":"LUTIN!D122","v":0},{"$f":"LUTIN!P122","v":0}]
[{"$f":"LUTIN!A51","v":"X40   Y40"},null,null,{"$f":"LUTIN!D51","v":"0000635"},{"$f":"LUTIN!P51","v":"ü"},{"$f":"LUTIN!A87","v":"X76   Y76"},null,null,{"$f":"LUTIN!D87","v":"0014858"},{"$f":"LUTIN!P87","v":0},{"$f":"LUTIN!A123","v":"   "},null,null,{"$f":"LUTIN!D123","v":0},{"$f":"LUTIN!P123","v":0}]
[{"$f":"LUTIN!A52","v":"X41   Y41"},null,null,{"$f":"LUTIN!D52","v":"0011705"},{"$f":"LUTIN!P52","v":0},{"$f":"LUTIN!A88","v":"X77   Y77"},null,null,{"$f":"LUTIN!D88","v":"0016325"},{"$f":"LUTIN!P88","v":0},{"$f":"LUTIN!A124","v":""},null,null,{"$f":"LUTIN!D124","v":0},{"$f":"LUTIN!P124","v":0}]
[{"$f":"LUTIN!A53","v":"X42   Y42"},null,null,{"$f":"LUTIN!D53","v":"0000327"},{"$f":"LUTIN!P53","v":"ü"},{"$f":"LUTIN!A89","v":"X78   Y78"},null,null,{"$f":"LUTIN!D89","v":"0014425"},{"$f":"LUTIN!P89","v":0},{"$f":"LUTIN!A125","v":"CAp"},null,null,{"$f":"LUTIN!D125","v":0},{"$f":"LUTIN!P125","v":0}]
[{"$f":"LUTIN!A54","v":"X43   Y43"},null,null,{"$f":"LUTIN!D54","v":"0011208"},{"$f":"LUTIN!P54","v":0},{"$f":"LUTIN!A90","v":"X79   Y79"},null,null,{"$f":"LUTIN!D90","v":"0000506"},{"$f":"LUTIN!P90","v":"ü"},{"$f":"LUTIN!A126","v":"CAPE"},null,null,{"$f":"LUTIN!D126","v":0},{"$f":"LUTIN!P126","v":0}]
[{"$f":"LUTIN!A55","v":"X44   Y44"},null,null,{"$f":"LUTIN!D55","v":"0000537"},{"$f":"LUTIN!P55","v":0},{"$f":"LUTIN!A91","v":"X80   Y80"},null,null,{"$f":"LUTIN!D91","v":"0010382"},{"$f":"LUTIN!P91","v":0},{"$f":"LUTIN!#REF!","v":{"$error":"#REF!"}},null,null,{"$f":"LUTIN!#REF!","v":{"$error":"#REF!"}},{"$f":"LUTIN!#REF!","v":{"$error":"#REF!"}}]
[{"$f":"LUTIN!A56","v":"X45   Y45"},null,null,{"$f":"LUTIN!D56","v":"0014952"},{"$f":"LUTIN!P56","v":0},{"$f":"LUTIN!A92","v":"X81   Y81"},null,null,{"$f":"LUTIN!D92","v":"0000454"},{"$f":"LUTIN!P92","v":"ü"},{"$f":"LUTIN!#REF!","v":{"$error":"#REF!"}},null,null,{"$f":"LUTIN!#REF!","v":{"$error":"#REF!"}},{"$f":"LUTIN!#REF!","v":{"$error":"#REF!"}}]
["SDIS 57"]
[]
["SUIVI DU CENTRE DE SECOURS DE HAGONDANGE"]
[]
[]
[]
["FORMATIONS",null,null,null,null,null,null,null,{"$f":"LUTIN!Q11","v":"GOC 3"}]
[]
[]
["NOM - PRENOM","NOM","PRENOM","MATRICULE",{"$f":"I653","v":"GOC 3"},"NOM - PRENOM","NOM","PRENOM","MATRICULE",{"$f":"E656","v":"GOC 3"},"NOM - PRENOM","NOM","PRENOM","MATRICULE",{"$f":"J656","v":"GOC 3"}]
[]
[{"$f":"LUTIN!A12","v":"X1   Y1"},null,null,{"$f":"LUTIN!D12","v":"0013041"},{"$f":"LUTIN!Q12","v":0},{"$f":"LUTIN!A57","v":"X46   Y46"},null,null,{"$f":"LUTIN!D57","v":"0012816"},{"$f":"LUTIN!Q57","v":0},{"$f":"LUTIN!A93","v":"X82   Y82"},null,null,{"$f":"LUTIN!D93","v":"0014794"},{"$f":"LUTIN!Q93","v":0}]
[{"$f":"LUTIN!A22","v":"X11   Y11"},null,null,{"$f":"LUTIN!D22","v":"0014707"},{"$f":"LUTIN!Q22","v":0},{"$f":"LUTIN!A58","v":"X47   Y47"},null,null,{"$f":"LUTIN!D58","v":"0000795"},{"$f":"LUTIN!Q58","v":0},{"$f":"LUTIN!A94","v":"X83   Y83"},null,null,{"$f":"LUTIN!D94","v":"0014794"},{"$f":"LUTIN!Q94","v":0}]
[{"$f":"LUTIN!A23","v":"X12   Y12"},null,null,{"$f":"LUTIN!D23","v":"0004796"},{"$f":"LUTIN!Q23","v":0},{"$f":"LUTIN!A59","v":"X48   Y48"},null,null,{"$f":"LUTIN!D59","v":"0000466"},{"$f":"LUTIN!Q59","v":0},{"$f":"LUTIN!A95","v":"X84   Y84"},null,null,{"$f":"LUTIN!D95","v":"0014703"},{"$f":"LUTIN!Q95","v":0}]
[{"$f":"LUTIN!A24","v":"X13   Y13"},null,null,{"$f":"LUTIN!D24","v":"0011105"},{"$f":"LUTIN!Q24","v":0},{"$f":"LUTIN!A60","v":"X49   Y49"},null,null,{"$f":"LUTIN!D60","v":"0014390"},{"$f":"LUTIN!Q60","v":0},{"$f":"LUTIN!A96","v":"X85   Y85"},null,null,{"$f":"LUTIN!D96","v":"0014835"},{"$f":"LUTIN!Q96","v":0}]
[{"$f":"LUTIN!A25","v":"X14   Y14"},null,null,{"$f":"LUTIN!D25","v":"0012601"},{"$f":"LUTIN!Q25","v":0},{"$f":"LUTIN!A61","v":"X50   Y50"},null,null,{"$f":"LUTIN!D61","v":"0011106"},{"$f":"LUTIN!Q61","v":0},{"$f":"LUTIN!A97","v":"X86   Y86"},null,null,{"$f":"LUTIN!D97","v":"0002573"},{"$f":"LUTIN!Q97","v":0}]
[{"$f":"LUTIN!A26","v":"X15   Y15"},null,null,{"$f":"LUTIN!D26","v":"0014518"},{"$f":"LUTIN!Q26","v":0},{"$f":"LUTIN!A62","v":"X51   Y51"},null,null,{"$f":"LUTIN!D62","v":""},{"$f":"LUTIN!Q62","v":"ü"},{"$f":"LUTIN!A98","v":"X87   Y87"},null,null,{"$f":"LUTIN!D98","v":""},{"$f":"LUTIN!Q98","v":"ü"}]
[{"$f":"LUTIN!A27","v":"X16   Y16"},null,null,{"$f":"LUTIN!D27","v":"0000038"},{"$f":"LUTIN!Q27","v":0},{"$f":"LUTIN!A63","v":"X52   Y52"},null,null,{"$f":"LUTIN!D63","v":"0011571"},{"$f":"LUTIN!Q63","v":0},{"$f":"LUTIN!A99","v":"X88   Y88"},null,null,{"$f":"LUTIN!D99","v":"0012527"},{"$f":"LUTIN!Q99","v":0}]
[{"$f":"LUTIN!A28","v":"X17   Y17"},null,null,{"$f":"LUTIN!D28","v":""},{"$f":"LUTIN!Q28","v":0},{"$f":"LUTIN!A64","v":"X53   Y53"},null,null,{"$f":"LUTIN!D64","v":"0015023"},{"$f":"LUTIN!Q64","v":0},{"$f":"LUTIN!A100","v":"X89   Y89"},null,null,{"$f":"LUTIN!D100","v":"0012136"},{"$f":"LUTIN!Q100","v":0}]
[{"$f":"LUTIN!A29","v":"X18   Y18"},null,null,{"$f":"LUTIN!D29","v":"0008074"},{"$f":"LUTIN!Q29","v":0},{"$f":"LUTIN!A65","v":"X54   Y54"},null,null,{"$f":"LUTIN!D65","v":"0015026"},{"$f":"LUTIN!Q65","v":0},{"$f":"LUTIN!A101","v":"X90   Y90"},null,null,{"$f":"LUTIN!D101","v":"0014453"},{"$f":"LUTIN!Q101","v":0}]
[{"$f":"LUTIN!A30","v":"X19   Y19"},null,null,{"$f":"LUTIN!D30","v":"0000606"},{"$f":"LUTIN!Q30","v":0},{"$f":"LUTIN!A66","v":"X55   Y55"},null,null,{"$f":"LUTIN!D66","v":"0010882"},{"$f":"LUTIN!Q66","v":0},{"$f":"LUTIN!A102","v":"X91   Y91"},null,null,{"$f":"LUTIN!D102","v":"0011252"},{"$f":"LUTIN!Q102","v":0}]
[{"$f":"LUTIN!A31","v":"X20   Y20"},null,null,{"$f":"LUTIN!D31","v":"0016109"},{"$f":"LUTIN!Q31","v":0},{"$f":"LUTIN!A67","v":"X56   Y56"},null,null,{"$f":"LUTIN!D67","v":"0011559"},{"$f":"LUTIN!Q67","v":0},{"$f":"LUTIN!A103","v":"X92   Y92"},null,null,{"$f":"LUTIN!D103","v":"0009459"},{"$f":"LUTIN!Q103","v":0}]
[{"$f":"LUTIN!A32","v":"X21   Y21"},null,null,{"$f":"LUTIN!D32","v":"0000614"},{"$f":"LUTIN!Q32","v":0},{"$f":"LUTIN!A68","v":"X57   Y57"},null,null,{"$f":"LUTIN!D68","v":"0000237"},{"$f":"LUTIN!Q68","v":"ü"},{"$f":"LUTIN!A104","v":"X93   Y93"},null,null,{"$f":"LUTIN!D104","v":"0000504"},{"$f":"LUTIN!Q104","v":0}]
[{"$f":"LUTIN!A33","v":"X22   Y22"},null,null,{"$f":"LUTIN!D33","v":"0001089"},{"$f":"LUTIN!Q33","v":0},{"$f":"LUTIN!A69","v":"X58   Y58"},null,null,{"$f":"LUTIN!D69","v":"0000238"},{"$f":"LUTIN!Q69","v":0},{"$f":"LUTIN!A105","v":"X94   Y94"},null,null,{"$f":"LUTIN!D105","v":"0014810"},{"$f":"LUTIN!Q105","v":0}]
[{"$f":"LUTIN!A34","v":"X23   Y23"},null,null,{"$f":"LUTIN!D34","v":"0012666"},{"$f":"LUTIN!Q34","v":0},{"$f":"LUTIN!A70","v":"X59   Y59"},null,null,{"$f":"LUTIN!D70","v":"0011720"},{"$f":"LUTIN!Q70","v":0},{"$f":"LUTIN!A106","v":"X95   Y95"},null,null,{"$f":"LUTIN!D106","v":"0000000"},{"$f":"LUTIN!Q106","v":0}]
[{"$f":"LUTIN!A35","v":"X24   Y24"},null,null,{"$f":"LUTIN!D35","v":"0004976"},{"$f":"LUTIN!Q35","v":0},{"$f":"LUTIN!A71","v":"X60   Y60"},null,null,{"$f":"LUTIN!D71","v":"0009978"},{"$f":"LUTIN!Q71","v":0},{"$f":"LUTIN!A107","v":"X96   Y96"},null,null,{"$f":"LUTIN!D107","v":"0011904"},{"$f":"LUTIN!Q107","v":0}]
[{"$f":"LUTIN!A36","v":"X25   Y25"},null,null,{"$f":"LUTIN!D36","v":"0013001"},{"$f":"LUTIN!Q36","v":0},{"$f":"LUTIN!A72","v":"X61   Y61"},null,null,{"$f":"LUTIN!D72","v":"0000328"},{"$f":"LUTIN!Q72","v":0},{"$f":"LUTIN!A108","v":"   "},null,null,{"$f":"LUTIN!D108","v":0},{"$f":"LUTIN!Q108","v":0}]
[{"$f":"LUTIN!A37","v":"X26   Y26"},null,null,{"$f":"LUTIN!D37","v":"0014372"},{"$f":"LUTIN!Q37","v":0},{"$f":"LUTIN!A73","v":"X62   Y62"},null,null,{"$f":"LUTIN!D73","v":"0009808"},{"$f":"LUTIN!Q73","v":0},{"$f":"LUTIN!A109","v":0},null,null,{"$f":"LUTIN!D109","v":0},{"$f":"LUTIN!Q109","v":0}]
[{"$f":"LUTIN!A38","v":"X27   Y27"},null,null,{"$f":"LUTIN!D38","v":"0011908"},{"$f":"LUTIN!Q38","v":0},{"$f":"LUTIN!A74","v":"X63   Y63"},null,null,{"$f":"LUTIN!D74","v":"0000798"},{"$f":"LUTIN!Q74","v":0},{"$f":"LUTIN!A110","v":0},null,null,{"$f":"LUTIN!D110","v":0},{"$f":"LUTIN!Q110","v":0}]
[{"$f":"LUTIN!A39","v":"X28   Y28"},null,null,{"$f":"LUTIN!D39","v":"0000722"},{"$f":"LUTIN!Q39","v":0},{"$f":"LUTIN!A75","v":"X64   Y64"},null,null,{"$f":"LUTIN!D75","v":"0000329"},{"$f":"LUTIN!Q75","v":"ü"},{"$f":"LUTIN!A111","v":0},null,null,{"$f":"LUTIN!D111","v":0},{"$f":"LUTIN!Q111","v":0}]
[{"$f":"LUTIN!A40","v":"X29   Y29"},null,null,{"$f":"LUTIN!D40","v":"0014130"},{"$f":"LUTIN!Q40","v":0},{"$f":"LUTIN!A76","v":"X65   Y65"},null,null,{"$f":"LUTIN!D76","v":"0016166"},{"$f":"LUTIN!Q76","v":0},{"$f":"LUTIN!A112","v":0},null,null,{"$f":"LUTIN!D112","v":0},{"$f":"LUTIN!Q112","v":0}]
[{"$f":"LUTIN!A41","v":"X30   Y30"},null,null,{"$f":"LUTIN!D41","v":"0004807"},{"$f":"LUTIN!Q41","v":0},{"$f":"LUTIN!A77","v":"X66   Y66"},null,null,{"$f":"LUTIN!D77","v":"0000698"},{"$f":"LUTIN!Q77","v":0},{"$f":"LUTIN!A113","v":0},null,null,{"$f":"LUTIN!D113","v":0},{"$f":"LUTIN!Q113","v":0}]
[{"$f":"LUTIN!A42","v":"X31   Y31"},null,null,{"$f":"LUTIN!D42","v":"0011270"},{"$f":"LUTIN!Q42","v":0},{"$f":"LUTIN!A78","v":"X67   Y67"},null,null,{"$f":"LUTIN!D78","v":"0016329"},{"$f":"LUTIN!Q78","v":0},{"$f":"LUTIN!A114","v":0},null,null,{"$f":"LUTIN!D114","v":0},{"$f":"LUTIN!Q114","v":0}]
[{"$f":"LUTIN!A43","v":"X32   Y32"},null,null,{"$f":"LUTIN!D43","v":"0016352"},{"$f":"LUTIN!Q43","v":0},{"$f":"LUTIN!A79","v":"X68   Y68"},null,null,{"$f":"LUTIN!D79","v":"0000650"},{"$f":"LUTIN!Q79","v":0},{"$f":"LUTIN!A115","v":"   "},null,null,{"$f":"LUTIN!D115","v":""},{"$f":"LUTIN!Q115","v":0}]
[{"$f":"LUTIN!A44","v":"X33   Y33"},null,null,{"$f":"LUTIN!D44","v":"0011906"},{"$f":"LUTIN!Q44","v":0},{"$f":"LUTIN!A80","v":"X69   Y69"},null,null,{"$f":"LUTIN!D80","v":"0000518"},{"$f":"LUTIN!Q80","v":0},{"$f":"LUTIN!A116","v":"   "},null,null,{"$f":"LUTIN!D116","v":0},{"$f":"LUTIN!Q116","v":0}]
[{"$f":"LUTIN!A45","v":"X34   Y34"},null,null,{"$f":"LUTIN!D45","v":"0014857"},{"$f":"LUTIN!Q45","v":0},{"$f":"LUTIN!A81","v":"X70   Y70"},null,null,{"$f":"LUTIN!D81","v":"0011907"},{"$f":"LUTIN!Q81","v":0},{"$f":"LUTIN!A117","v":"   "},null,null,{"$f":"LUTIN!D117","v":0},{"$f":"LUTIN!Q117","v":0}]
[{"$f":"LUTIN!A46","v":"X35   Y35"},null,null,{"$f":"LUTIN!D46","v":"0011905"},{"$f":"LUTIN!Q46","v":0},{"$f":"LUTIN!A82","v":"X71   Y71"},null,null,{"$f":"LUTIN!D82","v":"0010677"},{"$f":"LUTIN!Q82","v":0},{"$f":"LUTIN!A118","v":"   "},null,null,{"$f":"LUTIN!D118","v":0},{"$f":"LUTIN!Q118","v":0}]
[{"$f":"LUTIN!A47","v":"X36   Y36"},null,null,{"$f":"LUTIN!D47","v":"0000507"},{"$f":"LUTIN!Q47","v":0},{"$f":"LUTIN!A83","v":"X72   Y72"},null,null,{"$f":"LUTIN!D83","v":"0016231"},{"$f":"LUTIN!Q83","v":0},{"$f":"LUTIN!A119","v":"   "},null,null,{"$f":"LUTIN!D119","v":0},{"$f":"LUTIN!Q119","v":0}]
[{"$f":"LUTIN!A48","v":"X37   Y37"},null,null,{"$f":"LUTIN!D48","v":"0014854"},{"$f":"LUTIN!Q48","v":0},{"$f":"LUTIN!A84","v":"X73   Y73"},null,null,{"$f":"LUTIN!D84","v":"0010207"},{"$f":"LUTIN!Q84","v":0},{"$f":"LUTIN!A120","v":"   "},null,null,{"$f":"LUTIN!D120","v":0},{"$f":"LUTIN!Q120","v":0}]
[{"$f":"LUTIN!A49","v":"X38   Y38"},null,null,{"$f":"LUTIN!D49","v":"0001003"},{"$f":"LUTIN!Q49","v":"ü"},{"$f":"LUTIN!A85","v":"X74   Y74"},null,null,{"$f":"LUTIN!D85","v":"0012437"},{"$f":"LUTIN!Q85","v":0},{"$f":"LUTIN!A121","v":"   "},null,null,{"$f":"LUTIN!D121","v":0},{"$f":"LUTIN!Q121","v":0}]
[{"$f":"LUTIN!A50","v":"X39   Y39"},null,null,{"$f":"LUTIN!D50","v":"0014541"},{"$f":"LUTIN!Q50","v":0},{"$f":"LUTIN!A86","v":"X75   Y75"},null,null,{"$f":"LUTIN!D86","v":"0000734"},{"$f":"LUTIN!Q86","v":0},{"$f":"LUTIN!A122","v":"   "},null,null,{"$f":"LUTIN!D122","v":0},{"$f":"LUTIN!Q122","v":0}]
[{"$f":"LUTIN!A51","v":"X40   Y40"},null,null,{"$f":"LUTIN!D51","v":"0000635"},{"$f":"LUTIN!Q51","v":0},{"$f":"LUTIN!A87","v":"X76   Y76"},null,null,{"$f":"LUTIN!D87","v":"0014858"},{"$f":"LUTIN!Q87","v":0},{"$f":"LUTIN!A123","v":"   "},null,null,{"$f":"LUTIN!D123","v":0},{"$f":"LUTIN!Q123","v":0}]
[{"$f":"LUTIN!A52","v":"X41   Y41"},null,null,{"$f":"LUTIN!D52","v":"0011705"},{"$f":"LUTIN!Q52","v":0},{"$f":"LUTIN!A88","v":"X77   Y77"},null,null,{"$f":"LUTIN!D88","v":"0016325"},{"$f":"LUTIN!Q88","v":0},{"$f":"LUTIN!A124","v":""},null,null,{"$f":"LUTIN!D124","v":0},{"$f":"LUTIN!Q124","v":0}]
[{"$f":"LUTIN!A53","v":"X42   Y42"},null,null,{"$f":"LUTIN!D53","v":"0000327"},{"$f":"LUTIN!Q53","v":"ü"},{"$f":"LUTIN!A89","v":"X78   Y78"},null,null,{"$f":"LUTIN!D89","v":"0014425"},{"$f":"LUTIN!Q89","v":0},{"$f":"LUTIN!A125","v":"CAp"},null,null,{"$f":"LUTIN!D125","v":0},{"$f":"LUTIN!Q125","v":0}]
[{"$f":"LUTIN!A54","v":"X43   Y43"},null,null,{"$f":"LUTIN!D54","v":"0011208"},{"$f":"LUTIN!Q54","v":0},{"$f":"LUTIN!A90","v":"X79   Y79"},null,null,{"$f":"LUTIN!D90","v":"0000506"},{"$f":"LUTIN!Q90","v":0},{"$f":"LUTIN!A126","v":"CAPE"},null,null,{"$f":"LUTIN!D126","v":0},{"$f":"LUTIN!Q126","v":0}]
[{"$f":"LUTIN!A55","v":"X44   Y44"},null,null,{"$f":"LUTIN!D55","v":"0000537"},{"$f":"LUTIN!Q55","v":"ü"},{"$f":"LUTIN!A91","v":"X80   Y80"},null,null,{"$f":"LUTIN!D91","v":"0010382"},{"$f":"LUTIN!Q91","v":0},{"$f":"LUTIN!#REF!","v":{"$error":"#REF!"}},null,null,{"$f":"LUTIN!#REF!","v":{"$error":"#REF!"}},{"$f":"LUTIN!#REF!","v":{"$error":"#REF!"}}]
[{"$f":"LUTIN!A56","v":"X45   Y45"},null,null,{"$f":"LUTIN!D56","v":"0014952"},{"$f":"LUTIN!Q56","v":0},{"$f":"LUTIN!A92","v":"X81   Y81"},null,null,{"$f":"LUTIN!D92","v":"0000454"},{"$f":"LUTIN!Q92","v":0},{"$f":"LUTIN!#REF!","v":{"$error":"#REF!"}},null,null,{"$f":"LUTIN!#REF!","v":{"$error":"#REF!"}},{"$f":"LUTIN!#REF!","v":{"$error":"#REF!"}}]
["SDIS 57"]
[]
["SUIVI DU CENTRE DE SECOURS DE HAGONDANGE"]
[]
[]
[]
["FORMATIONS",null,null,null,null,null,null,null,{"$f":"LUTIN!R11","v":"FDF 2"}]
[]
[]
["NOM - PRENOM","NOM","PRENOM","MATRICULE",{"$f":"I700","v":"FDF 2"},"NOM - PRENOM","NOM","PRENOM","MATRICULE",{"$f":"E703","v":"FDF 2"},"NOM - PRENOM","NOM","PRENOM","MATRICULE",{"$f":"J703","v":"FDF 2"}]
[]
[{"$f":"LUTIN!A12","v":"X1   Y1"},null,null,{"$f":"LUTIN!D12","v":"0013041"},{"$f":"LUTIN!R12","v":0},{"$f":"LUTIN!A57","v":"X46   Y46"},null,null,{"$f":"LUTIN!D57","v":"0012816"},{"$f":"LUTIN!R57","v":0},{"$f":"LUTIN!A93","v":"X82   Y82"},null,null,{"$f":"LUTIN!D93","v":"0014794"},{"$f":"LUTIN!R93","v":0}]
[{"$f":"LUTIN!A22","v":"X11   Y11"},null,null,{"$f":"LUTIN!D22","v":"0014707"},{"$f":"LUTIN!R22","v":0},{"$f":"LUTIN!A58","v":"X47   Y47"},null,null,{"$f":"LUTIN!D58","v":"0000795"},{"$f":"LUTIN!R58","v":0},{"$f":"LUTIN!A94","v":"X83   Y83"},null,null,{"$f":"LUTIN!D94","v":"0014794"},{"$f":"LUTIN!R94","v":0}]
[{"$f":"LUTIN!A23","v":"X12   Y12"},null,null,{"$f":"LUTIN!D23","v":"0004796"},{"$f":"LUTIN!R23","v":0},{"$f":"LUTIN!A59","v":"X48   Y48"},null,null,{"$f":"LUTIN!D59","v":"0000466"},{"$f":"LUTIN!R59","v":0},{"$f":"LUTIN!A95","v":"X84   Y84"},null,null,{"$f":"LUTIN!D95","v":"0014703"},{"$f":"LUTIN!R95","v":0}]
[{"$f":"LUTIN!A24","v":"X13   Y13"},null,null,{"$f":"LUTIN!D24","v":"0011105"},{"$f":"LUTIN!R24","v":0},{"$f":"LUTIN!A60","v":"X49   Y49"},null,null,{"$f":"LUTIN!D60","v":"0014390"},{"$f":"LUTIN!R60","v":0},{"$f":"LUTIN!A96","v":"X85   Y85"},null,null,{"$f":"LUTIN!D96","v":"0014835"},{"$f":"LUTIN!R96","v":0}]
[{"$f":"LUTIN!A25","v":"X14   Y14"},null,null,{"$f":"LUTIN!D25","v":"0012601"},{"$f":"LUTIN!R25","v":0},{"$f":"LUTIN!A61","v":"X50   Y50"},null,null,{"$f":"LUTIN!D61","v":"0011106"},{"$f":"LUTIN!R61","v":0},{"$f":"LUTIN!A97","v":"X86   Y86"},null,null,{"$f":"LUTIN!D97","v":"0002573"},{"$f":"LUTIN!R97","v":0}]
[{"$f":"LUTIN!A26","v":"X15   Y15"},null,null,{"$f":"LUTIN!D26","v":"0014518"},{"$f":"LUTIN!R26","v":0},{"$f":"LUTIN!A62","v":"X51   Y51"},null,null,{"$f":"LUTIN!D62","v":""},{"$f":"LUTIN!R62","v":0},{"$f":"LUTIN!A98","v":"X87   Y87"},null,null,{"$f":"LUTIN!D98","v":""},{"$f":"LUTIN!R98","v":0}]
[{"$f":"LUTIN!A27","v":"X16   Y16"},null,null,{"$f":"LUTIN!D27","v":"0000038"},{"$f":"LUTIN!R27","v":"ü"},{"$f":"LUTIN!A63","v":"X52   Y52"},null,null,{"$f":"LUTIN!D63","v":"0011571"},{"$f":"LUTIN!R63","v":0},{"$f":"LUTIN!A99","v":"X88   Y88"},null,null,{"$f":"LUTIN!D99","v":"0012527"},{"$f":"LUTIN!R99","v":0}]
[{"$f":"LUTIN!A28","v":"X17   Y17"},null,null,{"$f":"LUTIN!D28","v":""},{"$f":"LUTIN!R28","v":0},{"$f":"LUTIN!A64","v":"X53   Y53"},null,null,{"$f":"LUTIN!D64","v":"0015023"},{"$f":"LUTIN!R64","v":0},{"$f":"LUTIN!A100","v":"X89   Y89"},null,null,{"$f":"LUTIN!D100","v":"0012136"},{"$f":"LUTIN!R100","v":0}]
[{"$f":"LUTIN!A29","v":"X18   Y18"},null,null,{"$f":"LUTIN!D29","v":"0008074"},{"$f":"LUTIN!R29","v":0},{"$f":"LUTIN!A65","v":"X54   Y54"},null,null,{"$f":"LUTIN!D65","v":"0015026"},{"$f":"LUTIN!R65","v":"ü"},{"$f":"LUTIN!A101","v":"X90   Y90"},null,null,{"$f":"LUTIN!D101","v":"0014453"},{"$f":"LUTIN!R101","v":0}]
[{"$f":"LUTIN!A30","v":"X19   Y19"},null,null,{"$f":"LUTIN!D30","v":"0000606"},{"$f":"LUTIN!R30","v":0},{"$f":"LUTIN!A66","v":"X55   Y55"},null,null,{"$f":"LUTIN!D66","v":"0010882"},{"$f":"LUTIN!R66","v":0},{"$f":"LUTIN!A102","v":"X91   Y91"},null,null,{"$f":"LUTIN!D102","v":"0011252"},{"$f":"LUTIN!R102","v":0}]
[{"$f":"LUTIN!A31","v":"X20   Y20"},null,null,{"$f":"LUTIN!D31","v":"0016109"},{"$f":"LUTIN!R31","v":0},{"$f":"LUTIN!A67","v":"X56   Y56"},null,null,{"$f":"LUTIN!D67","v":"0011559"},{"$f":"LUTIN!R67","v":0},{"$f":"LUTIN!A103","v":"X92   Y92"},null,null,{"$f":"LUTIN!D103","v":"0009459"},{"$f":"LUTIN!R103","v":0}]
[{"$f":"LUTIN!A32","v":"X21   Y21"},null,null,{"$f":"LUTIN!D32","v":"0000614"},{"$f":"LUTIN!R32","v":"ü"},{"$f":"LUTIN!A68","v":"X57   Y57"},null,null,{"$f":"LUTIN!D68","v":"0000237"},{"$f":"LUTIN!R68","v":0},{"$f":"LUTIN!A104","v":"X93   Y93"},null,null,{"$f":"LUTIN!D104","v":"0000504"},{"$f":"LUTIN!R104","v":0}]
[{"$f":"LUTIN!A33","v":"X22   Y22"},null,null,{"$f":"LUTIN!D33","v":"0001089"},{"$f":"LUTIN!R33","v":0},{"$f":"LUTIN!A69","v":"X58   Y58"},null,null,{"$f":"LUTIN!D69","v":"0000238"},{"$f":"LUTIN!R69","v":"ü"},{"$f":"LUTIN!A105","v":"X94   Y94"},null,null,{"$f":"LUTIN!D105","v":"0014810"},{"$f":"LUTIN!R105","v":0}]
[{"$f":"LUTIN!A34","v":"X23   Y23"},null,null,{"$f":"LUTIN!D34","v":"0012666"},{"$f":"LUTIN!R34","v":0},{"$f":"LUTIN!A70","v":"X59   Y59"},null,null,{"$f":"LUTIN!D70","v":"0011720"},{"$f":"LUTIN!R70","v":0},{"$f":"LUTIN!A106","v":"X95   Y95"},null,null,{"$f":"LUTIN!D106","v":"0000000"},{"$f":"LUTIN!R106","v":0}]
[{"$f":"LUTIN!A35","v":"X24   Y24"},null,null,{"$f":"LUTIN!D35","v":"0004976"},{"$f":"LUTIN!R35","v":0},{"$f":"LUTIN!A71","v":"X60   Y60"},null,null,{"$f":"LUTIN!D71","v":"0009978"},{"$f":"LUTIN!R71","v":0},{"$f":"LUTIN!A107","v":"X96   Y96"},null,null,{"$f":"LUTIN!D107","v":"0011904"},{"$f":"LUTIN!R107","v":0}]
[{"$f":"LUTIN!A36","v":"X25   Y25"},null,null,{"$f":"LUTIN!D36","v":"0013001"},{"$f":"LUTIN!R36","v":0},{"$f":"LUTIN!A72","v":"X61   Y61"},null,null,{"$f":"LUTIN!D72","v":"0000328"},{"$f":"LUTIN!R72","v":"ü"},{"$f":"LUTIN!A108","v":"   "},null,null,{"$f":"LUTIN!D108","v":0},{"$f":"LUTIN!R108","v":0}]
[{"$f":"LUTIN!A37","v":"X26   Y26"},null,null,{"$f":"LUTIN!D37","v":"0014372"},{"$f":"LUTIN!R37","v":0},{"$f":"LUTIN!A73","v":"X62   Y62"},null,null,{"$f":"LUTIN!D73","v":"0009808"},{"$f":"LUTIN!R73","v":0},{"$f":"LUTIN!A109","v":0},null,null,{"$f":"LUTIN!D109","v":0},{"$f":"LUTIN!R109","v":0}]
[{"$f":"LUTIN!A38","v":"X27   Y27"},null,null,{"$f":"LUTIN!D38","v":"0011908"},{"$f":"LUTIN!R38","v":0},{"$f":"LUTIN!A74","v":"X63   Y63"},null,null,{"$f":"LUTIN!D74","v":"0000798"},{"$f":"LUTIN!R74","v":0},{"$f":"LUTIN!A110","v":0},null,null,{"$f":"LUTIN!D110","v":0},{"$f":"LUTIN!R110","v":0}]
[{"$f":"LUTIN!A39","v":"X28   Y28"},null,null,{"$f":"LUTIN!D39","v":"0000722"},{"$f":"LUTIN!R39","v":0},{"$f":"LUTIN!A75","v":"X64   Y64"},null,null,{"$f":"LUTIN!D75","v":"0000329"},{"$f":"LUTIN!R75","v":0},{"$f":"LUTIN!A111","v":0},null,null,{"$f":"LUTIN!D111","v":0},{"$f":"LUTIN!R111","v":0}]
[{"$f":"LUTIN!A40","v":"X29   Y29"},null,null,{"$f":"LUTIN!D40","v":"0014130"},{"$f":"LUTIN!R40","v":0},{"$f":"LUTIN!A76","v":"X65   Y65"},null,null,{"$f":"LUTIN!D76","v":"0016166"},{"$f":"LUTIN!R76","v":0},{"$f":"LUTIN!A112","v":0},null,null,{"$f":"LUTIN!D112","v":0},{"$f":"LUTIN!R112","v":0}]
[{"$f":"LUTIN!A41","v":"X30   Y30"},null,null,{"$f":"LUTIN!D41","v":"0004807"},{"$f":"LUTIN!R41","v":0},{"$f":"LUTIN!A77","v":"X66   Y66"},null,null,{"$f":"LUTIN!D77","v":"0000698"},{"$f":"LUTIN!R77","v":0},{"$f":"LUTIN!A113","v":0},null,null,{"$f":"LUTIN!D113","v":0},{"$f":"LUTIN!R113","v":0}]
[{"$f":"LUTIN!A42","v":"X31   Y31"},null,null,{"$f":"LUTIN!D42","v":"0011270"},{"$f":"LUTIN!R42","v":0},{"$f":"LUTIN!A78","v":"X67   Y67"},null,null,{"$f":"LUTIN!D78","v":"0016329"},{"$f":"LUTIN!R78","v":0},{"$f":"LUTIN!A114","v":0},null,null,{"$f":"LUTIN!D114","v":0},{"$f":"LUTIN!R114","v":0}]
[{"$f":"LUTIN!A43","v":"X32   Y32"},null,null,{"$f":"LUTIN!D43","v":"0016352"},{"$f":"LUTIN!R43","v":0},{"$f":"LUTIN!A79","v":"X68   Y68"},null,null,{"$f":"LUTIN!D79","v":"0000650"},{"$f":"LUTIN!R79","v":0},{"$f":"LUTIN!A115","v":"   "},null,null,{"$f":"LUTIN!D115","v":""},{"$f":"LUTIN!R115","v":0}]
[{"$f":"LUTIN!A44","v":"X33   Y33"},null,null,{"$f":"LUTIN!D44","v":"0011906"},{"$f":"LUTIN!R44","v":0},{"$f":"LUTIN!A80","v":"X69   Y69"},null,null,{"$f":"LUTIN!D80","v":"0000518"},{"$f":"LUTIN!R80","v":0},{"$f":"LUTIN!A116","v":"   "},null,null,{"$f":"LUTIN!D116","v":0},{"$f":"LUTIN!R116","v":0}]
[{"$f":"LUTIN!A45","v":"X34   Y34"},null,null,{"$f":"LUTIN!D45","v":"0014857"},{"$f":"LUTIN!R45","v":0},{"$f":"LUTIN!A81","v":"X70   Y70"},null,null,{"$f":"LUTIN!D81","v":"0011907"},{"$f":"LUTIN!R81","v":0},{"$f":"LUTIN!A117","v":"   "},null,null,{"$f":"LUTIN!D117","v":0},{"$f":"LUTIN!R117","v":0}]
[{"$f":"LUTIN!A46","v":"X35   Y35"},null,null,{"$f":"LUTIN!D46","v":"0011905"},{"$f":"LUTIN!R46","v":0},{"$f":"LUTIN!A82","v":"X71   Y71"},null,null,{"$f":"LUTIN!D82","v":"0010677"},{"$f":"LUTIN!R82","v":0},{"$f":"LUTIN!A118","v":"   "},null,null,{"$f":"LUTIN!D118","v":0},{"$f":"LUTIN!R118","v":0}]
[{"$f":"LUTIN!A47","v":"X36   Y36"},null,null,{"$f":"LUTIN!D47","v":"0000507"},{"$f":"LUTIN!R47","v":0},{"$f":"LUTIN!A83","v":"X72   Y72"},null,null,{"$f":"LUTIN!D83","v":"0016231"},{"$f":"LUTIN!R83","v":0},{"$f":"LUTIN!A119","v":"   "},null,null,{"$f":"LUTIN!D119","v":0},{"$f":"LUTIN!R119","v":0}]
[{"$f":"LUTIN!A48","v":"X37   Y37"},null,null,{"$f":"LUTIN!D48","v":"0014854"},{"$f":"LUTIN!R48","v":0},{"$f":"LUTIN!A84","v":"X73   Y73"},null,null,{"$f":"LUTIN!D84","v":"0010207"},{"$f":"LUTIN!R84","v":0},{"$f":"LUTIN!A120","v":"   "},null,null,{"$f":"LUTIN!D120","v":0},{"$f":"LUTIN!R120","v":0}]
[{"$f":"LUTIN!A49","v":"X38   Y38"},null,null,{"$f":"LUTIN!D49","v":"0001003"},{"$f":"LUTIN!R49","v":0},{"$f":"LUTIN!A85","v":"X74   Y74"},null,null,{"$f":"LUTIN!D85","v":"0012437"},{"$f":"LUTIN!R85","v":0},{"$f":"LUTIN!A121","v":"   "},null,null,{"$f":"LUTIN!D121","v":0},{"$f":"LUTIN!R121","v":0}]
[{"$f":"LUTIN!A50","v":"X39   Y39"},null,null,{"$f":"LUTIN!D50","v":"0014541"},{"$f":"LUTIN!R50","v":0},{"$f":"LUTIN!A86","v":"X75   Y75"},null,null,{"$f":"LUTIN!D86","v":"0000734"},{"$f":"LUTIN!R86","v":"ü"},{"$f":"LUTIN!A122","v":"   "},null,null,{"$f":"LUTIN!D122","v":0},{"$f":"LUTIN!R122","v":0}]
[{"$f":"LUTIN!A51","v":"X40   Y40"},null,null,{"$f":"LUTIN!D51","v":"0000635"},{"$f":"LUTIN!R51","v":0},{"$f":"LUTIN!A87","v":"X76   Y76"},null,null,{"$f":"LUTIN!D87","v":"0014858"},{"$f":"LUTIN!R87","v":0},{"$f":"LUTIN!A123","v":"   "},null,null,{"$f":"LUTIN!D123","v":0},{"$f":"LUTIN!R123","v":0}]
[{"$f":"LUTIN!A52","v":"X41   Y41"},null,null,{"$f":"LUTIN!D52","v":"0011705"},{"$f":"LUTIN!R52","v":0},{"$f":"LUTIN!A88","v":"X77   Y77"},null,null,{"$f":"LUTIN!D88","v":"0016325"},{"$f":"LUTIN!R88","v":0},{"$f":"LUTIN!A124","v":""},null,null,{"$f":"LUTIN!D124","v":0},{"$f":"LUTIN!R124","v":0}]
[{"$f":"LUTIN!A53","v":"X42   Y42"},null,null,{"$f":"LUTIN!D53","v":"0000327"},{"$f":"LUTIN!R53","v":"ü"},{"$f":"LUTIN!A89","v":"X78   Y78"},null,null,{"$f":"LUTIN!D89","v":"0014425"},{"$f":"LUTIN!R89","v":0},{"$f":"LUTIN!A125","v":"CAp"},null,null,{"$f":"LUTIN!D125","v":0},{"$f":"LUTIN!R125","v":0}]
[{"$f":"LUTIN!A54","v":"X43   Y43"},null,null,{"$f":"LUTIN!D54","v":"0011208"},{"$f":"LUTIN!R54","v":0},{"$f":"LUTIN!A90","v":"X79   Y79"},null,null,{"$f":"LUTIN!D90","v":"0000506"},{"$f":"LUTIN!R90","v":0},{"$f":"LUTIN!A126","v":"CAPE"},null,null,{"$f":"LUTIN!D126","v":0},{"$f":"LUTIN!R126","v":0}]
[{"$f":"LUTIN!A55","v":"X44   Y44"},null,null,{"$f":"LUTIN!D55","v":"0000537"},{"$f":"LUTIN!R55","v":"ü"},{"$f":"LUTIN!A91","v":"X80   Y80"},null,null,{"$f":"LUTIN!D91","v":"0010382"},{"$f":"LUTIN!R91","v":0},{"$f":"LUTIN!#REF!","v":{"$error":"#REF!"}},null,null,{"$f":"LUTIN!#REF!","v":{"$error":"#REF!"}},{"$f":"LUTIN!#REF!","v":{"$error":"#REF!"}}]
[{"$f":"LUTIN!A56","v":"X45   Y45"},null,null,{"$f":"LUTIN!D56","v":"0014952"},{"$f":"LUTIN!R56","v":0},{"$f":"LUTIN!A92","v":"X81   Y81"},null,null,{"$f":"LUTIN!D92","v":"0000454"},{"$f":"LUTIN!R92","v":0},{"$f":"LUTIN!#REF!","v":{"$error":"#REF!"}},null,null,{"$f":"LUTIN!#REF!","v":{"$error":"#REF!"}},{"$f":"LUTIN!#REF!","v":{"$error":"#REF!"}}]
["SDIS 57"]
[]
["SUIVI DU CENTRE DE SECOURS DE HAGONDANGE"]
[]
[]
[]
["FORMATIONS",null,null,null,null,null,null,null,{"$f":"LUTIN!S11","v":"RECYCLAGE DECONTA"}]
[]
[]
["NOM - PRENOM","NOM","PRENOM","MATRICULE",{"$f":"I747","v":"RECYCLAGE DECONTA"},"NOM - PRENOM","NOM","PRENOM","MATRICULE",{"$f":"E750","v":"RECYCLAGE DECONTA"},"NOM - PRENOM","NOM","PRENOM","MATRICULE",{"$f":"J750","v":"RECYCLAGE DECONTA"}]
[]
[{"$f":"LUTIN!A12","v":"X1   Y1"},null,null,{"$f":"LUTIN!D12","v":"0013041"},{"$f":"LUTIN!S12","v":"ü"},{"$f":"LUTIN!A57","v":"X46   Y46"},null,null,{"$f":"LUTIN!D57","v":"0012816"},{"$f":"LUTIN!S57","v":"ü"},{"$f":"LUTIN!A93","v":"X82   Y82"},null,null,{"$f":"LUTIN!D93","v":"0014794"},{"$f":"LUTIN!S93","v":0}]
[{"$f":"LUTIN!A22","v":"X11   Y11"},null,null,{"$f":"LUTIN!D22","v":"0014707"},{"$f":"LUTIN!S22","v":"ü"},{"$f":"LUTIN!A58","v":"X47   Y47"},null,null,{"$f":"LUTIN!D58","v":"0000795"},{"$f":"LUTIN!S58","v":"ü"},{"$f":"LUTIN!A94","v":"X83   Y83"},null,null,{"$f":"LUTIN!D94","v":"0014794"},{"$f":"LUTIN!S94","v":0}]
[{"$f":"LUTIN!A23","v":"X12   Y12"},null,null,{"$f":"LUTIN!D23","v":"0004796"},{"$f":"LUTIN!S23","v":0},{"$f":"LUTIN!A59","v":"X48   Y48"},null,null,{"$f":"LUTIN!D59","v":"0000466"},{"$f":"LUTIN!S59","v":"ü"},{"$f":"LUTIN!A95","v":"X84   Y84"},null,null,{"$f":"LUTIN!D95","v":"0014703"},{"$f":"LUTIN!S95","v":"ü"}]
[{"$f":"LUTIN!A24","v":"X13   Y13"},null,null,{"$f":"LUTIN!D24","v":"0011105"},{"$f":"LUTIN!S24","v":"ü"},{"$f":"LUTIN!A60","v":"X49   Y49"},null,null,{"$f":"LUTIN!D60","v":"0014390"},{"$f":"LUTIN!S60","v":0},{"$f":"LUTIN!A96","v":"X85   Y85"},null,null,{"$f":"LUTIN!D96","v":"0014835"},{"$f":"LUTIN!S96","v":0}]
[{"$f":"LUTIN!A25","v":"X14   Y14"},null,null,{"$f":"LUTIN!D25","v":"0012601"},{"$f":"LUTIN!S25","v":"ü"},{"$f":"LUTIN!A61","v":"X50   Y50"},null,null,{"$f":"LUTIN!D61","v":"0011106"},{"$f":"LUTIN!S61","v":"ü"},{"$f":"LUTIN!A97","v":"X86   Y86"},null,null,{"$f":"LUTIN!D97","v":"0002573"},{"$f":"LUTIN!S97","v":0}]
[{"$f":"LUTIN!A26","v":"X15   Y15"},null,null,{"$f":"LUTIN!D26","v":"0014518"},{"$f":"LUTIN!S26","v":"ü"},{"$f":"LUTIN!A62","v":"X51   Y51"},null,null,{"$f":"LUTIN!D62","v":""},{"$f":"LUTIN!S62","v":0},{"$f":"LUTIN!A98","v":"X87   Y87"},null,null,{"$f":"LUTIN!D98","v":""},{"$f":"LUTIN!S98","v":0}]
[{"$f":"LUTIN!A27","v":"X16   Y16"},null,null,{"$f":"LUTIN!D27","v":"0000038"},{"$f":"LUTIN!S27","v":0},{"$f":"LUTIN!A63","v":"X52   Y52"},null,null,{"$f":"LUTIN!D63","v":"0011571"},{"$f":"LUTIN!S63","v":"ü"},{"$f":"LUTIN!A99","v":"X88   Y88"},null,null,{"$f":"LUTIN!D99","v":"0012527"},{"$f":"LUTIN!S99","v":0}]
[{"$f":"LUTIN!A28","v":"X17   Y17"},null,null,{"$f":"LUTIN!D28","v":""},{"$f":"LUTIN!S28","v":0},{"$f":"LUTIN!A64","v":"X53   Y53"},null,null,{"$f":"LUTIN!D64","v":"0015023"},{"$f":"LUTIN!S64","v":"ü"},{"$f":"LUTIN!A100","v":"X89   Y89"},null,null,{"$f":"LUTIN!D100","v":"0012136"},{"$f":"LUTIN!S100","v":0}]
[{"$f":"LUTIN!A29","v":"X18   Y18"},null,null,{"$f":"LUTIN!D29","v":"0008074"},{"$f":"LUTIN!S29","v":0},{"$f":"LUTIN!A65","v":"X54   Y54"},null,null,{"$f":"LUTIN!D65","v":"0015026"},{"$f":"LUTIN!S65","v":"ü"},{"$f":"LUTIN!A101","v":"X90   Y90"},null,null,{"$f":"LUTIN!D101","v":"0014453"},{"$f":"LUTIN!S101","v":0}]
[{"$f":"LUTIN!A30","v":"X19   Y19"},null,null,{"$f":"LUTIN!D30","v":"0000606"},{"$f":"LUTIN!S30","v":"ü"},{"$f":"LUTIN!A66","v":"X55   Y55"},null,null,{"$f":"LUTIN!D66","v":"0010882"},{"$f":"LUTIN!S66","v":"ü"},{"$f":"LUTIN!A102","v":"X91   Y91"},null,null,{"$f":"LUTIN!D102","v":"0011252"},{"$f":"LUTIN!S102","v":"ü"}]
[{"$f":"LUTIN!A31","v":"X20   Y20"},null,null,{"$f":"LUTIN!D31","v":"0016109"},{"$f":"LUTIN!S31","v":0},{"$f":"LUTIN!A67","v":"X56   Y56"},null,null,{"$f":"LUTIN!D67","v":"0011559"},{"$f":"LUTIN!S67","v":"ü"},{"$f":"LUTIN!A103","v":"X92   Y92"},null,null,{"$f":"LUTIN!D103","v":"0009459"},{"$f":"LUTIN!S103","v":0}]
[{"$f":"LUTIN!A32","v":"X21   Y21"},null,null,{"$f":"LUTIN!D32","v":"0000614"},{"$f":"LUTIN!S32","v":"ü"},{"$f":"LUTIN!A68","v":"X57   Y57"},null,null,{"$f":"LUTIN!D68","v":"0000237"},{"$f":"LUTIN!S68","v":"ü"},{"$f":"LUTIN!A104","v":"X93   Y93"},null,null,{"$f":"LUTIN!D104","v":"0000504"},{"$f":"LUTIN!S104","v":"ü"}]
[{"$f":"LUTIN!A33","v":"X22   Y22"},null,null,{"$f":"LUTIN!D33","v":"0001089"},{"$f":"LUTIN!S33","v":0},{"$f":"LUTIN!A69","v":"X58   Y58"},null,null,{"$f":"LUTIN!D69","v":"0000238"},{"$f":"LUTIN!S69","v":0},{"$f":"LUTIN!A105","v":"X94   Y94"},null,null,{"$f":"LUTIN!D105","v":"0014810"},{"$f":"LUTIN!S105","v":0}]
[{"$f":"LUTIN!A34","v":"X23   Y23"},null,null,{"$f":"LUTIN!D34","v":"0012666"},{"$f":"LUTIN!S34","v":"ü"},{"$f":"LUTIN!A70","v":"X59   Y59"},null,null,{"$f":"LUTIN!D70","v":"0011720"},{"$f":"LUTIN!S70","v":0},{"$f":"LUTIN!A106","v":"X95   Y95"},null,null,{"$f":"LUTIN!D106","v":"0000000"},{"$f":"LUTIN!S106","v":"ü"}]
[{"$f":"LUTIN!A35","v":"X24   Y24"},null,null,{"$f":"LUTIN!D35","v":"0004976"},{"$f":"LUTIN!S35","v":0},{"$f":"LUTIN!A71","v":"X60   Y60"},null,null,{"$f":"LUTIN!D71","v":"0009978"},{"$f":"LUTIN!S71","v":0},{"$f":"LUTIN!A107","v":"X96   Y96"},null,null,{"$f":"LUTIN!D107","v":"0011904"},{"$f":"LUTIN!S107","v":"ü"}]
[{"$f":"LUTIN!A36","v":"X25   Y25"},null,null,{"$f":"LUTIN!D36","v":"0013001"},{"$f":"LUTIN!S36","v":"ü"},{"$f":"LUTIN!A72","v":"X61   Y61"},null,null,{"$f":"LUTIN!D72","v":"0000328"},{"$f":"LUTIN!S72","v":"ü"},{"$f":"LUTIN!A108","v":"   "},null,null,{"$f":"LUTIN!D108","v":0},{"$f":"LUTIN!S108","v":0}]
[{"$f":"LUTIN!A37","v":"X26   Y26"},null,null,{"$f":"LUTIN!D37","v":"0014372"},{"$f":"LUTIN!S37","v":"ü"},{"$f":"LUTIN!A73","v":"X62   Y62"},null,null,{"$f":"LUTIN!D73","v":"0009808"},{"$f":"LUTIN!S73","v":0},{"$f":"LUTIN!A109","v":0},null,null,{"$f":"LUTIN!D109","v":0},{"$f":"LUTIN!S109","v":0}]
[{"$f":"LUTIN!A38","v":"X27   Y27"},null,null,{"$f":"LUTIN!D38","v":"0011908"},{"$f":"LUTIN!S38","v":"ü"},{"$f":"LUTIN!A74","v":"X63   Y63"},null,null,{"$f":"LUTIN!D74","v":"0000798"},{"$f":"LUTIN!S74","v":0},{"$f":"LUTIN!A110","v":0},null,null,{"$f":"LUTIN!D110","v":0},{"$f":"LUTIN!S110","v":0}]
[{"$f":"LUTIN!A39","v":"X28   Y28"},null,null,{"$f":"LUTIN!D39","v":"0000722"},{"$f":"LUTIN!S39","v":0},{"$f":"LUTIN!A75","v":"X64   Y64"},null,null,{"$f":"LUTIN!D75","v":"0000329"},{"$f":"LUTIN!S75","v":"ü"},{"$f":"LUTIN!A111","v":0},null,null,{"$f":"LUTIN!D111","v":0},{"$f":"LUTIN!S111","v":0}]
[{"$f":"LUTIN!A40","v":"X29   Y29"},null,null,{"$f":"LUTIN!D40","v":"0014130"},{"$f":"LUTIN!S40","v":"ü"},{"$f":"LUTIN!A76","v":"X65   Y65"},null,null,{"$f":"LUTIN!D76","v":"0016166"},{"$f":"LUTIN!S76","v":0},{"$f":"LUTIN!A112","v":0},null,null,{"$f":"LUTIN!D112","v":0},{"$f":"LUTIN!S112","v":0}]
[{"$f":"LUTIN!A41","v":"X30   Y30"},null,null,{"$f":"LUTIN!D41","v":"0004807"},{"$f":"LUTIN!S41","v":"ü"},{"$f":"LUTIN!A77","v":"X66   Y66"},null,null,{"$f":"LUTIN!D77","v":"0000698"},{"$f":"LUTIN!S77","v":0},{"$f":"LUTIN!A113","v":0},null,null,{"$f":"LUTIN!D113","v":0},{"$f":"LUTIN!S113","v":0}]
[{"$f":"LUTIN!A42","v":"X31   Y31"},null,null,{"$f":"LUTIN!D42","v":"0011270"},{"$f":"LUTIN!S42","v":0},{"$f":"LUTIN!A78","v":"X67   Y67"},null,null,{"$f":"LUTIN!D78","v":"0016329"},{"$f":"LUTIN!S78","v":0},{"$f":"LUTIN!A114","v":0},null,null,{"$f":"LUTIN!D114","v":0},{"$f":"LUTIN!S114","v":0}]
[{"$f":"LUTIN!A43","v":"X32   Y32"},null,null,{"$f":"LUTIN!D43","v":"0016352"},{"$f":"LUTIN!S43","v":0},{"$f":"LUTIN!A79","v":"X68   Y68"},null,null,{"$f":"LUTIN!D79","v":"0000650"},{"$f":"LUTIN!S79","v":"ü"},{"$f":"LUTIN!A115","v":"   "},null,null,{"$f":"LUTIN!D115","v":""},{"$f":"LUTIN!S115","v":0}]
[{"$f":"LUTIN!A44","v":"X33   Y33"},null,null,{"$f":"LUTIN!D44","v":"0011906"},{"$f":"LUTIN!S44","v":"ü"},{"$f":"LUTIN!A80","v":"X69   Y69"},null,null,{"$f":"LUTIN!D80","v":"0000518"},{"$f":"LUTIN!S80","v":"ü"},{"$f":"LUTIN!A116","v":"   "},null,null,{"$f":"LUTIN!D116","v":0},{"$f":"LUTIN!S116","v":0}]
[{"$f":"LUTIN!A45","v":"X34   Y34"},null,null,{"$f":"LUTIN!D45","v":"0014857"},{"$f":"LUTIN!S45","v":0},{"$f":"LUTIN!A81","v":"X70   Y70"},null,null,{"$f":"LUTIN!D81","v":"0011907"},{"$f":"LUTIN!S81","v":"ü"},{"$f":"LUTIN!A117","v":"   "},null,null,{"$f":"LUTIN!D117","v":0},{"$f":"LUTIN!S117","v":0}]
[{"$f":"LUTIN!A46","v":"X35   Y35"},null,null,{"$f":"LUTIN!D46","v":"0011905"},{"$f":"LUTIN!S46","v":"ü"},{"$f":"LUTIN!A82","v":"X71   Y71"},null,null,{"$f":"LUTIN!D82","v":"0010677"},{"$f":"LUTIN!S82","v":"ü"},{"$f":"LUTIN!A118","v":"   "},null,null,{"$f":"LUTIN!D118","v":0},{"$f":"LUTIN!S118","v":0}]
[{"$f":"LUTIN!A47","v":"X36   Y36"},null,null,{"$f":"LUTIN!D47","v":"0000507"},{"$f":"LUTIN!S47","v":0},{"$f":"LUTIN!A83","v":"X72   Y72"},null,null,{"$f":"LUTIN!D83","v":"0016231"},{"$f":"LUTIN!S83","v":0},{"$f":"LUTIN!A119","v":"   "},null,null,{"$f":"LUTIN!D119","v":0},{"$f":"LUTIN!S119","v":0}]
[{"$f":"LUTIN!A48","v":"X37   Y37"},null,null,{"$f":"LUTIN!D48","v":"0014854"},{"$f":"LUTIN!S48","v":"ü"},{"$f":"LUTIN!A84","v":"X73   Y73"},null,null,{"$f":"LUTIN!D84","v":"0010207"},{"$f":"LUTIN!S84","v":"ü"},{"$f":"LUTIN!A120","v":"   "},null,null,{"$f":"LUTIN!D120","v":0},{"$f":"LUTIN!S120","v":0}]
[{"$f":"LUTIN!A49","v":"X38   Y38"},null,null,{"$f":"LUTIN!D49","v":"0001003"},{"$f":"LUTIN!S49","v":"ü"},{"$f":"LUTIN!A85","v":"X74   Y74"},null,null,{"$f":"LUTIN!D85","v":"0012437"},{"$f":"LUTIN!S85","v":0},{"$f":"LUTIN!A121","v":"   "},null,null,{"$f":"LUTIN!D121","v":0},{"$f":"LUTIN!S121","v":0}]
[{"$f":"LUTIN!A50","v":"X39   Y39"},null,null,{"$f":"LUTIN!D50","v":"0014541"},{"$f":"LUTIN!S50","v":0},{"$f":"LUTIN!A86","v":"X75   Y75"},null,null,{"$f":"LUTIN!D86","v":"0000734"},{"$f":"LUTIN!S86","v":"ü"},{"$f":"LUTIN!A122","v":"   "},null,null,{"$f":"LUTIN!D122","v":0},{"$f":"LUTIN!S122","v":0}]
[{"$f":"LUTIN!A51","v":"X40   Y40"},null,null,{"$f":"LUTIN!D51","v":"0000635"},{"$f":"LUTIN!S51","v":"ü"},{"$f":"LUTIN!A87","v":"X76   Y76"},null,null,{"$f":"LUTIN!D87","v":"0014858"},{"$f":"LUTIN!S87","v":0},{"$f":"LUTIN!A123","v":"   "},null,null,{"$f":"LUTIN!D123","v":0},{"$f":"LUTIN!S123","v":0}]
[{"$f":"LUTIN!A52","v":"X41   Y41"},null,null,{"$f":"LUTIN!D52","v":"0011705"},{"$f":"LUTIN!S52","v":"ü"},{"$f":"LUTIN!A88","v":"X77   Y77"},null,null,{"$f":"LUTIN!D88","v":"0016325"},{"$f":"LUTIN!S88","v":0},{"$f":"LUTIN!A124","v":""},null,null,{"$f":"LUTIN!D124","v":0},{"$f":"LUTIN!S124","v":0}]
[{"$f":"LUTIN!A53","v":"X42   Y42"},null,null,{"$f":"LUTIN!D53","v":"0000327"},{"$f":"LUTIN!S53","v":"ü"},{"$f":"LUTIN!A89","v":"X78   Y78"},null,null,{"$f":"LUTIN!D89","v":"0014425"},{"$f":"LUTIN!S89","v":"ü"},{"$f":"LUTIN!A125","v":"CAp"},null,null,{"$f":"LUTIN!D125","v":0},{"$f":"LUTIN!S125","v":0}]
[{"$f":"LUTIN!A54","v":"X43   Y43"},null,null,{"$f":"LUTIN!D54","v":"0011208"},{"$f":"LUTIN!S54","v":0},{"$f":"LUTIN!A90","v":"X79   Y79"},null,null,{"$f":"LUTIN!D90","v":"0000506"},{"$f":"LUTIN!S90","v":0},{"$f":"LUTIN!A126","v":"CAPE"},null,null,{"$f":"LUTIN!D126","v":0},{"$f":"LUTIN!S126","v":0}]
[{"$f":"LUTIN!A55","v":"X44   Y44"},null,null,{"$f":"LUTIN!D55","v":"0000537"},{"$f":"LUTIN!S55","v":0},{"$f":"LUTIN!A91","v":"X80   Y80"},null,null,{"$f":"LUTIN!D91","v":"0010382"},{"$f":"LUTIN!S91","v":0},{"$f":"LUTIN!#REF!","v":{"$error":"#REF!"}},null,null,{"$f":"LUTIN!#REF!","v":{"$error":"#REF!"}},{"$f":"LUTIN!#REF!","v":{"$error":"#REF!"}}]
[{"$f":"LUTIN!A56","v":"X45   Y45"},null,null,{"$f":"LUTIN!D56","v":"0014952"},{"$f":"LUTIN!S56","v":"ü"},{"$f":"LUTIN!A92","v":"X81   Y81"},null,null,{"$f":"LUTIN!D92","v":"0000454"},{"$f":"LUTIN!S92","v":0},{"$f":"LUTIN!#REF!","v":{"$error":"#REF!"}},null,null,{"$f":"LUTIN!#REF!","v":{"$error":"#REF!"}},{"$f":"LUTIN!#REF!","v":{"$error":"#REF!"}}]
["SDIS 57"]
[]
["SUIVI DU CENTRE DE SECOURS DE HAGONDANGE"]
[]
[]
[]
["FORMATIONS",null,null,null,null,null,null,null,{"$f":"LUTIN!T11","v":"SDE 1"}]
[]
[]
["NOM - PRENOM","NOM","PRENOM","MATRICULE",{"$f":"I794","v":"SDE 1"},"NOM - PRENOM","NOM","PRENOM","MATRICULE",{"$f":"E797","v":"SDE 1"},"NOM - PRENOM","NOM","PRENOM","MATRICULE",{"$f":"J797","v":"SDE 1"}]
[]
[{"$f":"LUTIN!A12","v":"X1   Y1"},null,null,{"$f":"LUTIN!D12","v":"0013041"},{"$f":"LUTIN!T12","v":0},{"$f":"LUTIN!A57","v":"X46   Y46"},null,null,{"$f":"LUTIN!D57","v":"0012816"},{"$f":"LUTIN!T57","v":0},{"$f":"LUTIN!A93","v":"X82   Y82"},null,null,{"$f":"LUTIN!D93","v":"0014794"},{"$f":"LUTIN!T93","v":0}]
[{"$f":"LUTIN!A22","v":"X11   Y11"},null,null,{"$f":"LUTIN!D22","v":"0014707"},{"$f":"LUTIN!T22","v":0},{"$f":"LUTIN!A58","v":"X47   Y47"},null,null,{"$f":"LUTIN!D58","v":"0000795"},{"$f":"LUTIN!T58","v":0},{"$f":"LUTIN!A94","v":"X83   Y83"},null,null,{"$f":"LUTIN!D94","v":"0014794"},{"$f":"LUTIN!T94","v":0}]
[{"$f":"LUTIN!A23","v":"X12   Y12"},null,null,{"$f":"LUTIN!D23","v":"0004796"},{"$f":"LUTIN!T23","v":0},{"$f":"LUTIN!A59","v":"X48   Y48"},null,null,{"$f":"LUTIN!D59","v":"0000466"},{"$f":"LUTIN!T59","v":0},{"$f":"LUTIN!A95","v":"X84   Y84"},null,null,{"$f":"LUTIN!D95","v":"0014703"},{"$f":"LUTIN!T95","v":0}]
[{"$f":"LUTIN!A24","v":"X13   Y13"},null,null,{"$f":"LUTIN!D24","v":"0011105"},{"$f":"LUTIN!T24","v":0},{"$f":"LUTIN!A60","v":"X49   Y49"},null,null,{"$f":"LUTIN!D60","v":"0014390"},{"$f":"LUTIN!T60","v":0},{"$f":"LUTIN!A96","v":"X85   Y85"},null,null,{"$f":"LUTIN!D96","v":"0014835"},{"$f":"LUTIN!T96","v":0}]
[{"$f":"LUTIN!A25","v":"X14   Y14"},null,null,{"$f":"LUTIN!D25","v":"0012601"},{"$f":"LUTIN!T25","v":0},{"$f":"LUTIN!A61","v":"X50   Y50"},null,null,{"$f":"LUTIN!D61","v":"0011106"},{"$f":"LUTIN!T61","v":0},{"$f":"LUTIN!A97","v":"X86   Y86"},null,null,{"$f":"LUTIN!D97","v":"0002573"},{"$f":"LUTIN!T97","v":0}]
[{"$f":"LUTIN!A26","v":"X15   Y15"},null,null,{"$f":"LUTIN!D26","v":"0014518"},{"$f":"LUTIN!T26","v":0},{"$f":"LUTIN!A62","v":"X51   Y51"},null,null,{"$f":"LUTIN!D62","v":""},{"$f":"LUTIN!T62","v":0},{"$f":"LUTIN!A98","v":"X87   Y87"},null,null,{"$f":"LUTIN!D98","v":""},{"$f":"LUTIN!T98","v":0}]
[{"$f":"LUTIN!A27","v":"X16   Y16"},null,null,{"$f":"LUTIN!D27","v":"0000038"},{"$f":"LUTIN!T27","v":"ü"},{"$f":"LUTIN!A63","v":"X52   Y52"},null,null,{"$f":"LUTIN!D63","v":"0011571"},{"$f":"LUTIN!T63","v":0},{"$f":"LUTIN!A99","v":"X88   Y88"},null,null,{"$f":"LUTIN!D99","v":"0012527"},{"$f":"LUTIN!T99","v":0}]
[{"$f":"LUTIN!A28","v":"X17   Y17"},null,null,{"$f":"LUTIN!D28","v":""},{"$f":"LUTIN!T28","v":0},{"$f":"LUTIN!A64","v":"X53   Y53"},null,null,{"$f":"LUTIN!D64","v":"0015023"},{"$f":"LUTIN!T64","v":0},{"$f":"LUTIN!A100","v":"X89   Y89"},null,null,{"$f":"LUTIN!D100","v":"0012136"},{"$f":"LUTIN!T100","v":0}]
[{"$f":"LUTIN!A29","v":"X18   Y18"},null,null,{"$f":"LUTIN!D29","v":"0008074"},{"$f":"LUTIN!T29","v":0},{"$f":"LUTIN!A65","v":"X54   Y54"},null,null,{"$f":"LUTIN!D65","v":"0015026"},{"$f":"LUTIN!T65","v":"ü"},{"$f":"LUTIN!A101","v":"X90   Y90"},null,null,{"$f":"LUTIN!D101","v":"0014453"},{"$f":"LUTIN!T101","v":0}]
[{"$f":"LUTIN!A30","v":"X19   Y19"},null,null,{"$f":"LUTIN!D30","v":"0000606"},{"$f":"LUTIN!T30","v":0},{"$f":"LUTIN!A66","v":"X55   Y55"},null,null,{"$f":"LUTIN!D66","v":"0010882"},{"$f":"LUTIN!T66","v":0},{"$f":"LUTIN!A102","v":"X91   Y91"},null,null,{"$f":"LUTIN!D102","v":"0011252"},{"$f":"LUTIN!T102","v":0}]
[{"$f":"LUTIN!A31","v":"X20   Y20"},null,null,{"$f":"LUTIN!D31","v":"0016109"},{"$f":"LUTIN!T31","v":0},{"$f":"LUTIN!A67","v":"X56   Y56"},null,null,{"$f":"LUTIN!D67","v":"0011559"},{"$f":"LUTIN!T67","v":0},{"$f":"LUTIN!A103","v":"X92   Y92"},null,null,{"$f":"LUTIN!D103","v":"0009459"},{"$f":"LUTIN!T103","v":0}]
[{"$f":"LUTIN!A32","v":"X21   Y21"},null,null,{"$f":"LUTIN!D32","v":"0000614"},{"$f":"LUTIN!T32","v":0},{"$f":"LUTIN!A68","v":"X57   Y57"},null,null,{"$f":"LUTIN!D68","v":"0000237"},{"$f":"LUTIN!T68","v":"ü"},{"$f":"LUTIN!A104","v":"X93   Y93"},null,null,{"$f":"LUTIN!D104","v":"0000504"},{"$f":"LUTIN!T104","v":0}]
[{"$f":"LUTIN!A33","v":"X22   Y22"},null,null,{"$f":"LUTIN!D33","v":"0001089"},{"$f":"LUTIN!T33","v":0},{"$f":"LUTIN!A69","v":"X58   Y58"},null,null,{"$f":"LUTIN!D69","v":"0000238"},{"$f":"LUTIN!T69","v":"ü"},{"$f":"LUTIN!A105","v":"X94   Y94"},null,null,{"$f":"LUTIN!D105","v":"0014810"},{"$f":"LUTIN!T105","v":0}]
[{"$f":"LUTIN!A34","v":"X23   Y23"},null,null,{"$f":"LUTIN!D34","v":"0012666"},{"$f":"LUTIN!T34","v":0},{"$f":"LUTIN!A70","v":"X59   Y59"},null,null,{"$f":"LUTIN!D70","v":"0011720"},{"$f":"LUTIN!T70","v":0},{"$f":"LUTIN!A106","v":"X95   Y95"},null,null,{"$f":"LUTIN!D106","v":"0000000"},{"$f":"LUTIN!T106","v":0}]
[{"$f":"LUTIN!A35","v":"X24   Y24"},null,null,{"$f":"LUTIN!D35","v":"0004976"},{"$f":"LUTIN!T35","v":0},{"$f":"LUTIN!A71","v":"X60   Y60"},null,null,{"$f":"LUTIN!D71","v":"0009978"},{"$f":"LUTIN!T71","v":0},{"$f":"LUTIN!A107","v":"X96   Y96"},null,null,{"$f":"LUTIN!D107","v":"0011904"},{"$f":"LUTIN!T107","v":0}]
[{"$f":"LUTIN!A36","v":"X25   Y25"},null,null,{"$f":"LUTIN!D36","v":"0013001"},{"$f":"LUTIN!T36","v":0},{"$f":"LUTIN!A72","v":"X61   Y61"},null,null,{"$f":"LUTIN!D72","v":"0000328"},{"$f":"LUTIN!T72","v":"ü"},{"$f":"LUTIN!A108","v":"   "},null,null,{"$f":"LUTIN!D108","v":0},{"$f":"LUTIN!T108","v":0}]
[{"$f":"LUTIN!A37","v":"X26   Y26"},null,null,{"$f":"LUTIN!D37","v":"0014372"},{"$f":"LUTIN!T37","v":0},{"$f":"LUTIN!A73","v":"X62   Y62"},null,null,{"$f":"LUTIN!D73","v":"0009808"},{"$f":"LUTIN!T73","v":0},{"$f":"LUTIN!A109","v":0},null,null,{"$f":"LUTIN!D109","v":0},{"$f":"LUTIN!T109","v":0}]
[{"$f":"LUTIN!A38","v":"X27   Y27"},null,null,{"$f":"LUTIN!D38","v":"0011908"},{"$f":"LUTIN!T38","v":0},{"$f":"LUTIN!A74","v":"X63   Y63"},null,null,{"$f":"LUTIN!D74","v":"0000798"},{"$f":"LUTIN!T74","v":0},{"$f":"LUTIN!A110","v":0},null,null,{"$f":"LUTIN!D110","v":0},{"$f":"LUTIN!T110","v":0}]
[{"$f":"LUTIN!A39","v":"X28   Y28"},null,null,{"$f":"LUTIN!D39","v":"0000722"},{"$f":"LUTIN!T39","v":0},{"$f":"LUTIN!A75","v":"X64   Y64"},null,null,{"$f":"LUTIN!D75","v":"0000329"},{"$f":"LUTIN!T75","v":0},{"$f":"LUTIN!A111","v":0},null,null,{"$f":"LUTIN!D111","v":0},{"$f":"LUTIN!T111","v":0}]
[{"$f":"LUTIN!A40","v":"X29   Y29"},null,null,{"$f":"LUTIN!D40","v":"0014130"},{"$f":"LUTIN!T40","v":0},{"$f":"LUTIN!A76","v":"X65   Y65"},null,null,{"$f":"LUTIN!D76","v":"0016166"},{"$f":"LUTIN!T76","v":0},{"$f":"LUTIN!A112","v":0},null,null,{"$f":"LUTIN!D112","v":0},{"$f":"LUTIN!T112","v":0}]
[{"$f":"LUTIN!A41","v":"X30   Y30"},null,null,{"$f":"LUTIN!D41","v":"0004807"},{"$f":"LUTIN!T41","v":0},{"$f":"LUTIN!A77","v":"X66   Y66"},null,null,{"$f":"LUTIN!D77","v":"0000698"},{"$f":"LUTIN!T77","v":"ü"},{"$f":"LUTIN!A113","v":0},null,null,{"$f":"LUTIN!D113","v":0},{"$f":"LUTIN!T113","v":0}]
[{"$f":"LUTIN!A42","v":"X31   Y31"},null,null,{"$f":"LUTIN!D42","v":"0011270"},{"$f":"LUTIN!T42","v":0},{"$f":"LUTIN!A78","v":"X67   Y67"},null,null,{"$f":"LUTIN!D78","v":"0016329"},{"$f":"LUTIN!T78","v":0},{"$f":"LUTIN!A114","v":0},null,null,{"$f":"LUTIN!D114","v":0},{"$f":"LUTIN!T114","v":0}]
[{"$f":"LUTIN!A43","v":"X32   Y32"},null,null,{"$f":"LUTIN!D43","v":"0016352"},{"$f":"LUTIN!T43","v":0},{"$f":"LUTIN!A79","v":"X68   Y68"},null,null,{"$f":"LUTIN!D79","v":"0000650"},{"$f":"LUTIN!T79","v":"ü"},{"$f":"LUTIN!A115","v":"   "},null,null,{"$f":"LUTIN!D115","v":""},{"$f":"LUTIN!T115","v":0}]
[{"$f":"LUTIN!A44","v":"X33   Y33"},null,null,{"$f":"LUTIN!D44","v":"0011906"},{"$f":"LUTIN!T44","v":0},{"$f":"LUTIN!A80","v":"X69   Y69"},null,null,{"$f":"LUTIN!D80","v":"0000518"},{"$f":"LUTIN!T80","v":"ü"},{"$f":"LUTIN!A116","v":"   "},null,null,{"$f":"LUTIN!D116","v":0},{"$f":"LUTIN!T116","v":0}]
[{"$f":"LUTIN!A45","v":"X34   Y34"},null,null,{"$f":"LUTIN!D45","v":"0014857"},{"$f":"LUTIN!T45","v":0},{"$f":"LUTIN!A81","v":"X70   Y70"},null,null,{"$f":"LUTIN!D81","v":"0011907"},{"$f":"LUTIN!T81","v":0},{"$f":"LUTIN!A117","v":"   "},null,null,{"$f":"LUTIN!D117","v":0},{"$f":"LUTIN!T117","v":0}]
[{"$f":"LUTIN!A46","v":"X35   Y35"},null,null,{"$f":"LUTIN!D46","v":"0011905"},{"$f":"LUTIN!T46","v":0},{"$f":"LUTIN!A82","v":"X71   Y71"},null,null,{"$f":"LUTIN!D82","v":"0010677"},{"$f":"LUTIN!T82","v":0},{"$f":"LUTIN!A118","v":"   "},null,null,{"$f":"LUTIN!D118","v":0},{"$f":"LUTIN!T118","v":0}]
[{"$f":"LUTIN!A47","v":"X36   Y36"},null,null,{"$f":"LUTIN!D47","v":"0000507"},{"$f":"LUTIN!T47","v":0},{"$f":"LUTIN!A83","v":"X72   Y72"},null,null,{"$f":"LUTIN!D83","v":"0016231"},{"$f":"LUTIN!T83","v":0},{"$f":"LUTIN!A119","v":"   "},null,null,{"$f":"LUTIN!D119","v":0},{"$f":"LUTIN!T119","v":0}]
[{"$f":"LUTIN!A48","v":"X37   Y37"},null,null,{"$f":"LUTIN!D48","v":"0014854"},{"$f":"LUTIN!T48","v":0},{"$f":"LUTIN!A84","v":"X73   Y73"},null,null,{"$f":"LUTIN!D84","v":"0010207"},{"$f":"LUTIN!T84","v":0},{"$f":"LUTIN!A120","v":"   "},null,null,{"$f":"LUTIN!D120","v":0},{"$f":"LUTIN!T120","v":0}]
[{"$f":"LUTIN!A49","v":"X38   Y38"},null,null,{"$f":"LUTIN!D49","v":"0001003"},{"$f":"LUTIN!T49","v":0},{"$f":"LUTIN!A85","v":"X74   Y74"},null,null,{"$f":"LUTIN!D85","v":"0012437"},{"$f":"LUTIN!T85","v":0},{"$f":"LUTIN!A121","v":"   "},null,null,{"$f":"LUTIN!D121","v":0},{"$f":"LUTIN!T121","v":0}]
[{"$f":"LUTIN!A50","v":"X39   Y39"},null,null,{"$f":"LUTIN!D50","v":"0014541"},{"$f":"LUTIN!T50","v":0},{"$f":"LUTIN!A86","v":"X75   Y75"},null,null,{"$f":"LUTIN!D86","v":"0000734"},{"$f":"LUTIN!T86","v":0},{"$f":"LUTIN!A122","v":"   "},null,null,{"$f":"LUTIN!D122","v":0},{"$f":"LUTIN!T122","v":0}]
[{"$f":"LUTIN!A51","v":"X40   Y40"},null,null,{"$f":"LUTIN!D51","v":"0000635"},{"$f":"LUTIN!T51","v":"ü"},{"$f":"LUTIN!A87","v":"X76   Y76"},null,null,{"$f":"LUTIN!D87","v":"0014858"},{"$f":"LUTIN!T87","v":0},{"$f":"LUTIN!A123","v":"   "},null,null,{"$f":"LUTIN!D123","v":0},{"$f":"LUTIN!T123","v":0}]
[{"$f":"LUTIN!A52","v":"X41   Y41"},null,null,{"$f":"LUTIN!D52","v":"0011705"},{"$f":"LUTIN!T52","v":0},{"$f":"LUTIN!A88","v":"X77   Y77"},null,null,{"$f":"LUTIN!D88","v":"0016325"},{"$f":"LUTIN!T88","v":0},{"$f":"LUTIN!A124","v":""},null,null,{"$f":"LUTIN!D124","v":0},{"$f":"LUTIN!T124","v":0}]
[{"$f":"LUTIN!A53","v":"X42   Y42"},null,null,{"$f":"LUTIN!D53","v":"0000327"},{"$f":"LUTIN!T53","v":0},{"$f":"LUTIN!A89","v":"X78   Y78"},null,null,{"$f":"LUTIN!D89","v":"0014425"},{"$f":"LUTIN!T89","v":0},{"$f":"LUTIN!A125","v":"CAp"},null,null,{"$f":"LUTIN!D125","v":0},{"$f":"LUTIN!T125","v":0}]
[{"$f":"LUTIN!A54","v":"X43   Y43"},null,null,{"$f":"LUTIN!D54","v":"0011208"},{"$f":"LUTIN!T54","v":0},{"$f":"LUTIN!A90","v":"X79   Y79"},null,null,{"$f":"LUTIN!D90","v":"0000506"},{"$f":"LUTIN!T90","v":"ü"},{"$f":"LUTIN!A126","v":"CAPE"},null,null,{"$f":"LUTIN!D126","v":0},{"$f":"LUTIN!T126","v":0}]
[{"$f":"LUTIN!A55","v":"X44   Y44"},null,null,{"$f":"LUTIN!D55","v":"0000537"},{"$f":"LUTIN!T55","v":0},{"$f":"LUTIN!A91","v":"X80   Y80"},null,null,{"$f":"LUTIN!D91","v":"0010382"},{"$f":"LUTIN!T91","v":0},{"$f":"LUTIN!#REF!","v":{"$error":"#REF!"}},null,null,{"$f":"LUTIN!#REF!","v":{"$error":"#REF!"}},{"$f":"LUTIN!#REF!","v":{"$error":"#REF!"}}]
[{"$f":"LUTIN!A56","v":"X45   Y45"},null,null,{"$f":"LUTIN!D56","v":"0014952"},{"$f":"LUTIN!T56","v":0},{"$f":"LUTIN!A92","v":"X81   Y81"},null,null,{"$f":"LUTIN!D92","v":"0000454"},{"$f":"LUTIN!T92","v":0},{"$f":"LUTIN!#REF!","v":{"$error":"#REF!"}},null,null,{"$f":"LUTIN!#REF!","v":{"$error":"#REF!"}},{"$f":"LUTIN!#REF!","v":{"$error":"#REF!"}}]
["SDIS 57"]
[]
["SUIVI DU CENTRE DE SECOURS DE HAGONDANGE"]
[]
[]
[]
["FORMATIONS",null,null,null,null,null,null,null,{"$f":"LUTIN!U11","v":"SDE 2"}]
[]
[]
["NOM - PRENOM","NOM","PRENOM","MATRICULE",{"$f":"I841","v":"SDE 2"},"NOM - PRENOM","NOM","PRENOM","MATRICULE",{"$f":"E844","v":"SDE 2"},"NOM - PRENOM","NOM","PRENOM","MATRICULE",{"$f":"J844","v":"SDE 2"}]
[]
[{"$f":"LUTIN!A12","v":"X1   Y1"},null,null,{"$f":"LUTIN!D12","v":"0013041"},{"$f":"LUTIN!U12","v":0},{"$f":"LUTIN!A57","v":"X46   Y46"},null,null,{"$f":"LUTIN!D57","v":"0012816"},{"$f":"LUTIN!U57","v":0},{"$f":"LUTIN!A93","v":"X82   Y82"},null,null,{"$f":"LUTIN!D93","v":"0014794"},{"$f":"LUTIN!T93","v":0}]
[{"$f":"LUTIN!A22","v":"X11   Y11"},null,null,{"$f":"LUTIN!D22","v":"0014707"},{"$f":"LUTIN!U22","v":0},{"$f":"LUTIN!A58","v":"X47   Y47"},null,null,{"$f":"LUTIN!D58","v":"0000795"},{"$f":"LUTIN!U58","v":0},{"$f":"LUTIN!A94","v":"X83   Y83"},null,null,{"$f":"LUTIN!D94","v":"0014794"},{"$f":"LUTIN!T94","v":0}]
[{"$f":"LUTIN!A23","v":"X12   Y12"},null,null,{"$f":"LUTIN!D23","v":"0004796"},{"$f":"LUTIN!U23","v":0},{"$f":"LUTIN!A59","v":"X48   Y48"},null,null,{"$f":"LUTIN!D59","v":"0000466"},{"$f":"LUTIN!U59","v":0},{"$f":"LUTIN!A95","v":"X84   Y84"},null,null,{"$f":"LUTIN!D95","v":"0014703"},{"$f":"LUTIN!T95","v":0}]
[{"$f":"LUTIN!A24","v":"X13   Y13"},null,null,{"$f":"LUTIN!D24","v":"0011105"},{"$f":"LUTIN!U24","v":0},{"$f":"LUTIN!A60","v":"X49   Y49"},null,null,{"$f":"LUTIN!D60","v":"0014390"},{"$f":"LUTIN!U60","v":0},{"$f":"LUTIN!A96","v":"X85   Y85"},null,null,{"$f":"LUTIN!D96","v":"0014835"},{"$f":"LUTIN!T96","v":0}]
[{"$f":"LUTIN!A25","v":"X14   Y14"},null,null,{"$f":"LUTIN!D25","v":"0012601"},{"$f":"LUTIN!U25","v":0},{"$f":"LUTIN!A61","v":"X50   Y50"},null,null,{"$f":"LUTIN!D61","v":"0011106"},{"$f":"LUTIN!U61","v":0},{"$f":"LUTIN!A97","v":"X86   Y86"},null,null,{"$f":"LUTIN!D97","v":"0002573"},{"$f":"LUTIN!T97","v":0}]
[{"$f":"LUTIN!A26","v":"X15   Y15"},null,null,{"$f":"LUTIN!D26","v":"0014518"},{"$f":"LUTIN!U26","v":0},{"$f":"LUTIN!A62","v":"X51   Y51"},null,null,{"$f":"LUTIN!D62","v":""},{"$f":"LUTIN!U62","v":0},{"$f":"LUTIN!A98","v":"X87   Y87"},null,null,{"$f":"LUTIN!D98","v":""},{"$f":"LUTIN!T98","v":0}]
[{"$f":"LUTIN!A27","v":"X16   Y16"},null,null,{"$f":"LUTIN!D27","v":"0000038"},{"$f":"LUTIN!U27","v":"ü"},{"$f":"LUTIN!A63","v":"X52   Y52"},null,null,{"$f":"LUTIN!D63","v":"0011571"},{"$f":"LUTIN!U63","v":0},{"$f":"LUTIN!A99","v":"X88   Y88"},null,null,{"$f":"LUTIN!D99","v":"0012527"},{"$f":"LUTIN!T99","v":0}]
[{"$f":"LUTIN!A28","v":"X17   Y17"},null,null,{"$f":"LUTIN!D28","v":""},{"$f":"LUTIN!U28","v":0},{"$f":"LUTIN!A64","v":"X53   Y53"},null,null,{"$f":"LUTIN!D64","v":"0015023"},{"$f":"LUTIN!U64","v":0},{"$f":"LUTIN!A100","v":"X89   Y89"},null,null,{"$f":"LUTIN!D100","v":"0012136"},{"$f":"LUTIN!T100","v":0}]
[{"$f":"LUTIN!A29","v":"X18   Y18"},null,null,{"$f":"LUTIN!D29","v":"0008074"},{"$f":"LUTIN!U29","v":0},{"$f":"LUTIN!A65","v":"X54   Y54"},null,null,{"$f":"LUTIN!D65","v":"0015026"},{"$f":"LUTIN!U65","v":0},{"$f":"LUTIN!A101","v":"X90   Y90"},null,null,{"$f":"LUTIN!D101","v":"0014453"},{"$f":"LUTIN!T101","v":0}]
[{"$f":"LUTIN!A30","v":"X19   Y19"},null,null,{"$f":"LUTIN!D30","v":"0000606"},{"$f":"LUTIN!U30","v":0},{"$f":"LUTIN!A66","v":"X55   Y55"},null,null,{"$f":"LUTIN!D66","v":"0010882"},{"$f":"LUTIN!U66","v":0},{"$f":"LUTIN!A102","v":"X91   Y91"},null,null,{"$f":"LUTIN!D102","v":"0011252"},{"$f":"LUTIN!T102","v":0}]
[{"$f":"LUTIN!A31","v":"X20   Y20"},null,null,{"$f":"LUTIN!D31","v":"0016109"},{"$f":"LUTIN!U31","v":0},{"$f":"LUTIN!A67","v":"X56   Y56"},null,null,{"$f":"LUTIN!D67","v":"0011559"},{"$f":"LUTIN!U67","v":0},{"$f":"LUTIN!A103","v":"X92   Y92"},null,null,{"$f":"LUTIN!D103","v":"0009459"},{"$f":"LUTIN!T103","v":0}]
[{"$f":"LUTIN!A32","v":"X21   Y21"},null,null,{"$f":"LUTIN!D32","v":"0000614"},{"$f":"LUTIN!U32","v":0},{"$f":"LUTIN!A68","v":"X57   Y57"},null,null,{"$f":"LUTIN!D68","v":"0000237"},{"$f":"LUTIN!U68","v":"ü"},{"$f":"LUTIN!A104","v":"X93   Y93"},null,null,{"$f":"LUTIN!D104","v":"0000504"},{"$f":"LUTIN!T104","v":0}]
[{"$f":"LUTIN!A33","v":"X22   Y22"},null,null,{"$f":"LUTIN!D33","v":"0001089"},{"$f":"LUTIN!U33","v":0},{"$f":"LUTIN!A69","v":"X58   Y58"},null,null,{"$f":"LUTIN!D69","v":"0000238"},{"$f":"LUTIN!U69","v":"ü"},{"$f":"LUTIN!A105","v":"X94   Y94"},null,null,{"$f":"LUTIN!D105","v":"0014810"},{"$f":"LUTIN!T105","v":0}]
[{"$f":"LUTIN!A34","v":"X23   Y23"},null,null,{"$f":"LUTIN!D34","v":"0012666"},{"$f":"LUTIN!U34","v":0},{"$f":"LUTIN!A70","v":"X59   Y59"},null,null,{"$f":"LUTIN!D70","v":"0011720"},{"$f":"LUTIN!U70","v":0},{"$f":"LUTIN!A106","v":"X95   Y95"},null,null,{"$f":"LUTIN!D106","v":"0000000"},{"$f":"LUTIN!T106","v":0}]
[{"$f":"LUTIN!A35","v":"X24   Y24"},null,null,{"$f":"LUTIN!D35","v":"0004976"},{"$f":"LUTIN!U35","v":0},{"$f":"LUTIN!A71","v":"X60   Y60"},null,null,{"$f":"LUTIN!D71","v":"0009978"},{"$f":"LUTIN!U71","v":0},{"$f":"LUTIN!A107","v":"X96   Y96"},null,null,{"$f":"LUTIN!D107","v":"0011904"},{"$f":"LUTIN!T107","v":0}]
[{"$f":"LUTIN!A36","v":"X25   Y25"},null,null,{"$f":"LUTIN!D36","v":"0013001"},{"$f":"LUTIN!U36","v":0},{"$f":"LUTIN!A72","v":"X61   Y61"},null,null,{"$f":"LUTIN!D72","v":"0000328"},{"$f":"LUTIN!U72","v":"ü"},{"$f":"LUTIN!A108","v":"   "},null,null,{"$f":"LUTIN!D108","v":0},{"$f":"LUTIN!T108","v":0}]
[{"$f":"LUTIN!A37","v":"X26   Y26"},null,null,{"$f":"LUTIN!D37","v":"0014372"},{"$f":"LUTIN!U37","v":0},{"$f":"LUTIN!A73","v":"X62   Y62"},null,null,{"$f":"LUTIN!D73","v":"0009808"},{"$f":"LUTIN!U73","v":0},{"$f":"LUTIN!A109","v":0},null,null,{"$f":"LUTIN!D109","v":0},{"$f":"LUTIN!T109","v":0}]
[{"$f":"LUTIN!A38","v":"X27   Y27"},null,null,{"$f":"LUTIN!D38","v":"0011908"},{"$f":"LUTIN!U38","v":0},{"$f":"LUTIN!A74","v":"X63   Y63"},null,null,{"$f":"LUTIN!D74","v":"0000798"},{"$f":"LUTIN!U74","v":0},{"$f":"LUTIN!A110","v":0},null,null,{"$f":"LUTIN!D110","v":0},{"$f":"LUTIN!T110","v":0}]
[{"$f":"LUTIN!A39","v":"X28   Y28"},null,null,{"$f":"LUTIN!D39","v":"0000722"},{"$f":"LUTIN!U39","v":0},{"$f":"LUTIN!A75","v":"X64   Y64"},null,null,{"$f":"LUTIN!D75","v":"0000329"},{"$f":"LUTIN!U75","v":0},{"$f":"LUTIN!A111","v":0},null,null,{"$f":"LUTIN!D111","v":0},{"$f":"LUTIN!T111","v":0}]
[{"$f":"LUTIN!A40","v":"X29   Y29"},null,null,{"$f":"LUTIN!D40","v":"0014130"},{"$f":"LUTIN!U40","v":0},{"$f":"LUTIN!A76","v":"X65   Y65"},null,null,{"$f":"LUTIN!D76","v":"0016166"},{"$f":"LUTIN!U76","v":0},{"$f":"LUTIN!A112","v":0},null,null,{"$f":"LUTIN!D112","v":0},{"$f":"LUTIN!T112","v":0}]
[{"$f":"LUTIN!A41","v":"X30   Y30"},null,null,{"$f":"LUTIN!D41","v":"0004807"},{"$f":"LUTIN!U41","v":0},{"$f":"LUTIN!A77","v":"X66   Y66"},null,null,{"$f":"LUTIN!D77","v":"0000698"},{"$f":"LUTIN!U77","v":"ü"},{"$f":"LUTIN!A113","v":0},null,null,{"$f":"LUTIN!D113","v":0},{"$f":"LUTIN!T113","v":0}]
[{"$f":"LUTIN!A42","v":"X31   Y31"},null,null,{"$f":"LUTIN!D42","v":"0011270"},{"$f":"LUTIN!U42","v":0},{"$f":"LUTIN!A78","v":"X67   Y67"},null,null,{"$f":"LUTIN!D78","v":"0016329"},{"$f":"LUTIN!U78","v":0},{"$f":"LUTIN!A114","v":0},null,null,{"$f":"LUTIN!D114","v":0},{"$f":"LUTIN!T114","v":0}]
[{"$f":"LUTIN!A43","v":"X32   Y32"},null,null,{"$f":"LUTIN!D43","v":"0016352"},{"$f":"LUTIN!U43","v":0},{"$f":"LUTIN!A79","v":"X68   Y68"},null,null,{"$f":"LUTIN!D79","v":"0000650"},{"$f":"LUTIN!U79","v":0},{"$f":"LUTIN!A115","v":"   "},null,null,{"$f":"LUTIN!D115","v":""},{"$f":"LUTIN!T115","v":0}]
[{"$f":"LUTIN!A44","v":"X33   Y33"},null,null,{"$f":"LUTIN!D44","v":"0011906"},{"$f":"LUTIN!U44","v":0},{"$f":"LUTIN!A80","v":"X69   Y69"},null,null,{"$f":"LUTIN!D80","v":"0000518"},{"$f":"LUTIN!U80","v":0},{"$f":"LUTIN!A116","v":"   "},null,null,{"$f":"LUTIN!D116","v":0},{"$f":"LUTIN!T116","v":0}]
[{"$f":"LUTIN!A45","v":"X34   Y34"},null,null,{"$f":"LUTIN!D45","v":"0014857"},{"$f":"LUTIN!U45","v":0},{"$f":"LUTIN!A81","v":"X70   Y70"},null,null,{"$f":"LUTIN!D81","v":"0011907"},{"$f":"LUTIN!U81","v":0},{"$f":"LUTIN!A117","v":"   "},null,null,{"$f":"LUTIN!D117","v":0},{"$f":"LUTIN!T117","v":0}]
[{"$f":"LUTIN!A46","v":"X35   Y35"},null,null,{"$f":"LUTIN!D46","v":"0011905"},{"$f":"LUTIN!U46","v":0},{"$f":"LUTIN!A82","v":"X71   Y71"},null,null,{"$f":"LUTIN!D82","v":"0010677"},{"$f":"LUTIN!U82","v":0},{"$f":"LUTIN!A118","v":"   "},null,null,{"$f":"LUTIN!D118","v":0},{"$f":"LUTIN!T118","v":0}]
[{"$f":"LUTIN!A47","v":"X36   Y36"},null,null,{"$f":"LUTIN!D47","v":"0000507"},{"$f":"LUTIN!U47","v":0},{"$f":"LUTIN!A83","v":"X72   Y72"},null,null,{"$f":"LUTIN!D83","v":"0016231"},{"$f":"LUTIN!U83","v":0},{"$f":"LUTIN!A119","v":"   "},null,null,{"$f":"LUTIN!D119","v":0},{"$f":"LUTIN!T119","v":0}]
[{"$f":"LUTIN!A48","v":"X37   Y37"},null,null,{"$f":"LUTIN!D48","v":"0014854"},{"$f":"LUTIN!U48","v":0},{"$f":"LUTIN!A84","v":"X73   Y73"},null,null,{"$f":"LUTIN!D84","v":"0010207"},{"$f":"LUTIN!U84","v":0},{"$f":"LUTIN!A120","v":"   "},null,null,{"$f":"LUTIN!D120","v":0},{"$f":"LUTIN!T120","v":0}]
[{"$f":"LUTIN!A49","v":"X38   Y38"},null,null,{"$f":"LUTIN!D49","v":"0001003"},{"$f":"LUTIN!U49","v":0},{"$f":"LUTIN!A85","v":"X74   Y74"},null,null,{"$f":"LUTIN!D85","v":"0012437"},{"$f":"LUTIN!U85","v":0},{"$f":"LUTIN!A121","v":"   "},null,null,{"$f":"LUTIN!D121","v":0},{"$f":"LUTIN!T121","v":0}]
[{"$f":"LUTIN!A50","v":"X39   Y39"},null,null,{"$f":"LUTIN!D50","v":"0014541"},{"$f":"LUTIN!U50","v":0},{"$f":"LUTIN!A86","v":"X75   Y75"},null,null,{"$f":"LUTIN!D86","v":"0000734"},{"$f":"LUTIN!U86","v":0},{"$f":"LUTIN!A122","v":"   "},null,null,{"$f":"LUTIN!D122","v":0},{"$f":"LUTIN!T122","v":0}]
[{"$f":"LUTIN!A51","v":"X40   Y40"},null,null,{"$f":"LUTIN!D51","v":"0000635"},{"$f":"LUTIN!U51","v":0},{"$f":"LUTIN!A87","v":"X76   Y76"},null,null,{"$f":"LUTIN!D87","v":"0014858"},{"$f":"LUTIN!U87","v":0},{"$f":"LUTIN!A123","v":"   "},null,null,{"$f":"LUTIN!D123","v":0},{"$f":"LUTIN!T123","v":0}]
[{"$f":"LUTIN!A52","v":"X41   Y41"},null,null,{"$f":"LUTIN!D52","v":"0011705"},{"$f":"LUTIN!U52","v":0},{"$f":"LUTIN!A88","v":"X77   Y77"},null,null,{"$f":"LUTIN!D88","v":"0016325"},{"$f":"LUTIN!U88","v":0},{"$f":"LUTIN!A124","v":""},null,null,{"$f":"LUTIN!D124","v":0},{"$f":"LUTIN!T124","v":0}]
[{"$f":"LUTIN!A53","v":"X42   Y42"},null,null,{"$f":"LUTIN!D53","v":"0000327"},{"$f":"LUTIN!U53","v":0},{"$f":"LUTIN!A89","v":"X78   Y78"},null,null,{"$f":"LUTIN!D89","v":"0014425"},{"$f":"LUTIN!U89","v":0},{"$f":"LUTIN!A125","v":"CAp"},null,null,{"$f":"LUTIN!D125","v":0},{"$f":"LUTIN!T125","v":0}]
[{"$f":"LUTIN!A54","v":"X43   Y43"},null,null,{"$f":"LUTIN!D54","v":"0011208"},{"$f":"LUTIN!U54","v":0},{"$f":"LUTIN!A90","v":"X79   Y79"},null,null,{"$f":"LUTIN!D90","v":"0000506"},{"$f":"LUTIN!U90","v":"ü"},{"$f":"LUTIN!A126","v":"CAPE"},null,null,{"$f":"LUTIN!D126","v":0},{"$f":"LUTIN!T126","v":0}]
[{"$f":"LUTIN!A55","v":"X44   Y44"},null,null,{"$f":"LUTIN!D55","v":"0000537"},{"$f":"LUTIN!U55","v":0},{"$f":"LUTIN!A91","v":"X80   Y80"},null,null,{"$f":"LUTIN!D91","v":"0010382"},{"$f":"LUTIN!U91","v":0},{"$f":"LUTIN!#REF!","v":{"$error":"#REF!"}},null,null,{"$f":"LUTIN!#REF!","v":{"$error":"#REF!"}},{"$f":"LUTIN!#REF!","v":{"$error":"#REF!"}}]
[{"$f":"LUTIN!A56","v":"X45   Y45"},null,null,{"$f":"LUTIN!D56","v":"0014952"},{"$f":"LUTIN!U56","v":0},{"$f":"LUTIN!A92","v":"X81   Y81"},null,null,{"$f":"LUTIN!D92","v":"0000454"},{"$f":"LUTIN!U92","v":0},{"$f":"LUTIN!#REF!","v":{"$error":"#REF!"}},null,null,{"$f":"LUTIN!#REF!","v":{"$error":"#REF!"}},{"$f":"LUTIN!#REF!","v":{"$error":"#REF!"}}]
["SDIS 57"]
[]
["SUIVI DU CENTRE DE SECOURS DE HAGONDANGE"]
[]
[]
[]
["FORMATIONS",null,null,null,null,null,null,null,{"$f":"LUTIN!V11","v":"SDE 3"}]
[]
[]
["NOM - PRENOM","NOM","PRENOM","MATRICULE",{"$f":"I888","v":"SDE 3"},"NOM - PRENOM","NOM","PRENOM","MATRICULE",{"$f":"E891","v":"SDE 3"},"NOM - PRENOM","NOM","PRENOM","MATRICULE",{"$f":"J891","v":"SDE 3"}]
[]
[{"$f":"LUTIN!A12","v":"X1   Y1"},null,null,{"$f":"LUTIN!D12","v":"0013041"},{"$f":"LUTIN!V12","v":0},{"$f":"LUTIN!A57","v":"X46   Y46"},null,null,{"$f":"LUTIN!D57","v":"0012816"},{"$f":"LUTIN!V57","v":0},{"$f":"LUTIN!A93","v":"X82   Y82"},null,null,{"$f":"LUTIN!D93","v":"0014794"},{"$f":"LUTIN!V93","v":0}]
[{"$f":"LUTIN!A22","v":"X11   Y11"},null,null,{"$f":"LUTIN!D22","v":"0014707"},{"$f":"LUTIN!V22","v":0},{"$f":"LUTIN!A58","v":"X47   Y47"},null,null,{"$f":"LUTIN!D58","v":"0000795"},{"$f":"LUTIN!V58","v":0},{"$f":"LUTIN!A94","v":"X83   Y83"},null,null,{"$f":"LUTIN!D94","v":"0014794"},{"$f":"LUTIN!V94","v":0}]
[{"$f":"LUTIN!A23","v":"X12   Y12"},null,null,{"$f":"LUTIN!D23","v":"0004796"},{"$f":"LUTIN!V23","v":0},{"$f":"LUTIN!A59","v":"X48   Y48"},null,null,{"$f":"LUTIN!D59","v":"0000466"},{"$f":"LUTIN!V59","v":0},{"$f":"LUTIN!A95","v":"X84   Y84"},null,null,{"$f":"LUTIN!D95","v":"0014703"},{"$f":"LUTIN!V95","v":0}]
[{"$f":"LUTIN!A24","v":"X13   Y13"},null,null,{"$f":"LUTIN!D24","v":"0011105"},{"$f":"LUTIN!V24","v":0},{"$f":"LUTIN!A60","v":"X49   Y49"},null,null,{"$f":"LUTIN!D60","v":"0014390"},{"$f":"LUTIN!V60","v":0},{"$f":"LUTIN!A96","v":"X85   Y85"},null,null,{"$f":"LUTIN!D96","v":"0014835"},{"$f":"LUTIN!V96","v":0}]
[{"$f":"LUTIN!A25","v":"X14   Y14"},null,null,{"$f":"LUTIN!D25","v":"0012601"},{"$f":"LUTIN!V25","v":0},{"$f":"LUTIN!A61","v":"X50   Y50"},null,null,{"$f":"LUTIN!D61","v":"0011106"},{"$f":"LUTIN!V61","v":0},{"$f":"LUTIN!A97","v":"X86   Y86"},null,null,{"$f":"LUTIN!D97","v":"0002573"},{"$f":"LUTIN!V97","v":0}]
[{"$f":"LUTIN!A26","v":"X15   Y15"},null,null,{"$f":"LUTIN!D26","v":"0014518"},{"$f":"LUTIN!V26","v":0},{"$f":"LUTIN!A62","v":"X51   Y51"},null,null,{"$f":"LUTIN!D62","v":""},{"$f":"LUTIN!V62","v":0},{"$f":"LUTIN!A98","v":"X87   Y87"},null,null,{"$f":"LUTIN!D98","v":""},{"$f":"LUTIN!V98","v":0}]
[{"$f":"LUTIN!A27","v":"X16   Y16"},null,null,{"$f":"LUTIN!D27","v":"0000038"},{"$f":"LUTIN!V27","v":0},{"$f":"LUTIN!A63","v":"X52   Y52"},null,null,{"$f":"LUTIN!D63","v":"0011571"},{"$f":"LUTIN!V63","v":0},{"$f":"LUTIN!A99","v":"X88   Y88"},null,null,{"$f":"LUTIN!D99","v":"0012527"},{"$f":"LUTIN!V99","v":0}]
[{"$f":"LUTIN!A28","v":"X17   Y17"},null,null,{"$f":"LUTIN!D28","v":""},{"$f":"LUTIN!V28","v":0},{"$f":"LUTIN!A64","v":"X53   Y53"},null,null,{"$f":"LUTIN!D64","v":"0015023"},{"$f":"LUTIN!V64","v":0},{"$f":"LUTIN!A100","v":"X89   Y89"},null,null,{"$f":"LUTIN!D100","v":"0012136"},{"$f":"LUTIN!V100","v":0}]
[{"$f":"LUTIN!A29","v":"X18   Y18"},null,null,{"$f":"LUTIN!D29","v":"0008074"},{"$f":"LUTIN!V29","v":0},{"$f":"LUTIN!A65","v":"X54   Y54"},null,null,{"$f":"LUTIN!D65","v":"0015026"},{"$f":"LUTIN!V65","v":0},{"$f":"LUTIN!A101","v":"X90   Y90"},null,null,{"$f":"LUTIN!D101","v":"0014453"},{"$f":"LUTIN!V101","v":0}]
[{"$f":"LUTIN!A30","v":"X19   Y19"},null,null,{"$f":"LUTIN!D30","v":"0000606"},{"$f":"LUTIN!V30","v":0},{"$f":"LUTIN!A66","v":"X55   Y55"},null,null,{"$f":"LUTIN!D66","v":"0010882"},{"$f":"LUTIN!V66","v":0},{"$f":"LUTIN!A102","v":"X91   Y91"},null,null,{"$f":"LUTIN!D102","v":"0011252"},{"$f":"LUTIN!V102","v":0}]
[{"$f":"LUTIN!A31","v":"X20   Y20"},null,null,{"$f":"LUTIN!D31","v":"0016109"},{"$f":"LUTIN!V31","v":0},{"$f":"LUTIN!A67","v":"X56   Y56"},null,null,{"$f":"LUTIN!D67","v":"0011559"},{"$f":"LUTIN!V67","v":0},{"$f":"LUTIN!A103","v":"X92   Y92"},null,null,{"$f":"LUTIN!D103","v":"0009459"},{"$f":"LUTIN!V103","v":0}]
[{"$f":"LUTIN!A32","v":"X21   Y21"},null,null,{"$f":"LUTIN!D32","v":"0000614"},{"$f":"LUTIN!V32","v":0},{"$f":"LUTIN!A68","v":"X57   Y57"},null,null,{"$f":"LUTIN!D68","v":"0000237"},{"$f":"LUTIN!V68","v":0},{"$f":"LUTIN!A104","v":"X93   Y93"},null,null,{"$f":"LUTIN!D104","v":"0000504"},{"$f":"LUTIN!V104","v":0}]
[{"$f":"LUTIN!A33","v":"X22   Y22"},null,null,{"$f":"LUTIN!D33","v":"0001089"},{"$f":"LUTIN!V33","v":0},{"$f":"LUTIN!A69","v":"X58   Y58"},null,null,{"$f":"LUTIN!D69","v":"0000238"},{"$f":"LUTIN!V69","v":0},{"$f":"LUTIN!A105","v":"X94   Y94"},null,null,{"$f":"LUTIN!D105","v":"0014810"},{"$f":"LUTIN!V105","v":0}]
[{"$f":"LUTIN!A34","v":"X23   Y23"},null,null,{"$f":"LUTIN!D34","v":"0012666"},{"$f":"LUTIN!V34","v":0},{"$f":"LUTIN!A70","v":"X59   Y59"},null,null,{"$f":"LUTIN!D70","v":"0011720"},{"$f":"LUTIN!V70","v":0},{"$f":"LUTIN!A106","v":"X95   Y95"},null,null,{"$f":"LUTIN!D106","v":"0000000"},{"$f":"LUTIN!V106","v":0}]
[{"$f":"LUTIN!A35","v":"X24   Y24"},null,null,{"$f":"LUTIN!D35","v":"0004976"},{"$f":"LUTIN!V35","v":0},{"$f":"LUTIN!A71","v":"X60   Y60"},null,null,{"$f":"LUTIN!D71","v":"0009978"},{"$f":"LUTIN!V71","v":0},{"$f":"LUTIN!A107","v":"X96   Y96"},null,null,{"$f":"LUTIN!D107","v":"0011904"},{"$f":"LUTIN!V107","v":0}]
[{"$f":"LUTIN!A36","v":"X25   Y25"},null,null,{"$f":"LUTIN!D36","v":"0013001"},{"$f":"LUTIN!V36","v":0},{"$f":"LUTIN!A72","v":"X61   Y61"},null,null,{"$f":"LUTIN!D72","v":"0000328"},{"$f":"LUTIN!V72","v":0},{"$f":"LUTIN!A108","v":"   "},null,null,{"$f":"LUTIN!D108","v":0},{"$f":"LUTIN!V108","v":0}]
[{"$f":"LUTIN!A37","v":"X26   Y26"},null,null,{"$f":"LUTIN!D37","v":"0014372"},{"$f":"LUTIN!V37","v":0},{"$f":"LUTIN!A73","v":"X62   Y62"},null,null,{"$f":"LUTIN!D73","v":"0009808"},{"$f":"LUTIN!V73","v":0},{"$f":"LUTIN!A109","v":0},null,null,{"$f":"LUTIN!D109","v":0},{"$f":"LUTIN!V109","v":0}]
[{"$f":"LUTIN!A38","v":"X27   Y27"},null,null,{"$f":"LUTIN!D38","v":"0011908"},{"$f":"LUTIN!V38","v":0},{"$f":"LUTIN!A74","v":"X63   Y63"},null,null,{"$f":"LUTIN!D74","v":"0000798"},{"$f":"LUTIN!V74","v":0},{"$f":"LUTIN!A110","v":0},null,null,{"$f":"LUTIN!D110","v":0},{"$f":"LUTIN!V110","v":0}]
[{"$f":"LUTIN!A39","v":"X28   Y28"},null,null,{"$f":"LUTIN!D39","v":"0000722"},{"$f":"LUTIN!V39","v":0},{"$f":"LUTIN!A75","v":"X64   Y64"},null,null,{"$f":"LUTIN!D75","v":"0000329"},{"$f":"LUTIN!V75","v":0},{"$f":"LUTIN!A111","v":0},null,null,{"$f":"LUTIN!D111","v":0},{"$f":"LUTIN!V111","v":0}]
[{"$f":"LUTIN!A40","v":"X29   Y29"},null,null,{"$f":"LUTIN!D40","v":"0014130"},{"$f":"LUTIN!V40","v":0},{"$f":"LUTIN!A76","v":"X65   Y65"},null,null,{"$f":"LUTIN!D76","v":"0016166"},{"$f":"LUTIN!V76","v":0},{"$f":"LUTIN!A112","v":0},null,null,{"$f":"LUTIN!D112","v":0},{"$f":"LUTIN!V112","v":0}]
[{"$f":"LUTIN!A41","v":"X30   Y30"},null,null,{"$f":"LUTIN!D41","v":"0004807"},{"$f":"LUTIN!V41","v":0},{"$f":"LUTIN!A77","v":"X66   Y66"},null,null,{"$f":"LUTIN!D77","v":"0000698"},{"$f":"LUTIN!V77","v":0},{"$f":"LUTIN!A113","v":0},null,null,{"$f":"LUTIN!D113","v":0},{"$f":"LUTIN!V113","v":0}]
[{"$f":"LUTIN!A42","v":"X31   Y31"},null,null,{"$f":"LUTIN!D42","v":"0011270"},{"$f":"LUTIN!V42","v":0},{"$f":"LUTIN!A78","v":"X67   Y67"},null,null,{"$f":"LUTIN!D78","v":"0016329"},{"$f":"LUTIN!V78","v":0},{"$f":"LUTIN!A114","v":0},null,null,{"$f":"LUTIN!D114","v":0},{"$f":"LUTIN!V114","v":0}]
[{"$f":"LUTIN!A43","v":"X32   Y32"},null,null,{"$f":"LUTIN!D43","v":"0016352"},{"$f":"LUTIN!V43","v":0},{"$f":"LUTIN!A79","v":"X68   Y68"},null,null,{"$f":"LUTIN!D79","v":"0000650"},{"$f":"LUTIN!V79","v":0},{"$f":"LUTIN!A115","v":"   "},null,null,{"$f":"LUTIN!D115","v":""},{"$f":"LUTIN!V115","v":0}]
[{"$f":"LUTIN!A44","v":"X33   Y33"},null,null,{"$f":"LUTIN!D44","v":"0011906"},{"$f":"LUTIN!V44","v":0},{"$f":"LUTIN!A80","v":"X69   Y69"},null,null,{"$f":"LUTIN!D80","v":"0000518"},{"$f":"LUTIN!V80","v":0},{"$f":"LUTIN!A116","v":"   "},null,null,{"$f":"LUTIN!D116","v":0},{"$f":"LUTIN!V116","v":0}]
[{"$f":"LUTIN!A45","v":"X34   Y34"},null,null,{"$f":"LUTIN!D45","v":"0014857"},{"$f":"LUTIN!V45","v":0},{"$f":"LUTIN!A81","v":"X70   Y70"},null,null,{"$f":"LUTIN!D81","v":"0011907"},{"$f":"LUTIN!V81","v":0},{"$f":"LUTIN!A117","v":"   "},null,null,{"$f":"LUTIN!D117","v":0},{"$f":"LUTIN!V117","v":0}]
[{"$f":"LUTIN!A46","v":"X35   Y35"},null,null,{"$f":"LUTIN!D46","v":"0011905"},{"$f":"LUTIN!V46","v":0},{"$f":"LUTIN!A82","v":"X71   Y71"},null,null,{"$f":"LUTIN!D82","v":"0010677"},{"$f":"LUTIN!V82","v":0},{"$f":"LUTIN!A118","v":"   "},null,null,{"$f":"LUTIN!D118","v":0},{"$f":"LUTIN!V118","v":0}]
[{"$f":"LUTIN!A47","v":"X36   Y36"},null,null,{"$f":"LUTIN!D47","v":"0000507"},{"$f":"LUTIN!V47","v":0},{"$f":"LUTIN!A83","v":"X72   Y72"},null,null,{"$f":"LUTIN!D83","v":"0016231"},{"$f":"LUTIN!V83","v":0},{"$f":"LUTIN!A119","v":"   "},null,null,{"$f":"LUTIN!D119","v":0},{"$f":"LUTIN!V119","v":0}]
[{"$f":"LUTIN!A48","v":"X37   Y37"},null,null,{"$f":"LUTIN!D48","v":"0014854"},{"$f":"LUTIN!V48","v":0},{"$f":"LUTIN!A84","v":"X73   Y73"},null,null,{"$f":"LUTIN!D84","v":"0010207"},{"$f":"LUTIN!V84","v":0},{"$f":"LUTIN!A120","v":"   "},null,null,{"$f":"LUTIN!D120","v":0},{"$f":"LUTIN!V120","v":0}]
[{"$f":"LUTIN!A49","v":"X38   Y38"},null,null,{"$f":"LUTIN!D49","v":"0001003"},{"$f":"LUTIN!V49","v":0},{"$f":"LUTIN!A85","v":"X74   Y74"},null,null,{"$f":"LUTIN!D85","v":"0012437"},{"$f":"LUTIN!V85","v":0},{"$f":"LUTIN!A121","v":"   "},null,null,{"$f":"LUTIN!D121","v":0},{"$f":"LUTIN!V121","v":0}]
[{"$f":"LUTIN!A50","v":"X39   Y39"},null,null,{"$f":"LUTIN!D50","v":"0014541"},{"$f":"LUTIN!V50","v":0},{"$f":"LUTIN!A86","v":"X75   Y75"},null,null,{"$f":"LUTIN!D86","v":"0000734"},{"$f":"LUTIN!V86","v":0},{"$f":"LUTIN!A122","v":"   "},null,null,{"$f":"LUTIN!D122","v":0},{"$f":"LUTIN!V122","v":0}]
[{"$f":"LUTIN!A51","v":"X40   Y40"},null,null,{"$f":"LUTIN!D51","v":"0000635"},{"$f":"LUTIN!V51","v":0},{"$f":"LUTIN!A87","v":"X76   Y76"},null,null,{"$f":"LUTIN!D87","v":"0014858"},{"$f":"LUTIN!V87","v":0},{"$f":"LUTIN!A123","v":"   "},null,null,{"$f":"LUTIN!D123","v":0},{"$f":"LUTIN!V123","v":0}]
[{"$f":"LUTIN!A52","v":"X41   Y41"},null,null,{"$f":"LUTIN!D52","v":"0011705"},{"$f":"LUTIN!V52","v":0},{"$f":"LUTIN!A88","v":"X77   Y77"},null,null,{"$f":"LUTIN!D88","v":"0016325"},{"$f":"LUTIN!V88","v":0},{"$f":"LUTIN!A124","v":""},null,null,{"$f":"LUTIN!D124","v":0},{"$f":"LUTIN!V124","v":0}]
[{"$f":"LUTIN!A53","v":"X42   Y42"},null,null,{"$f":"LUTIN!D53","v":"0000327"},{"$f":"LUTIN!V53","v":0},{"$f":"LUTIN!A89","v":"X78   Y78"},null,null,{"$f":"LUTIN!D89","v":"0014425"},{"$f":"LUTIN!V89","v":0},{"$f":"LUTIN!A125","v":"CAp"},null,null,{"$f":"LUTIN!D125","v":0},{"$f":"LUTIN!V125","v":0}]
[{"$f":"LUTIN!A54","v":"X43   Y43"},null,null,{"$f":"LUTIN!D54","v":"0011208"},{"$f":"LUTIN!V54","v":0},{"$f":"LUTIN!A90","v":"X79   Y79"},null,null,{"$f":"LUTIN!D90","v":"0000506"},{"$f":"LUTIN!V90","v":0},{"$f":"LUTIN!A126","v":"CAPE"},null,null,{"$f":"LUTIN!D126","v":0},{"$f":"LUTIN!V126","v":0}]
[{"$f":"LUTIN!A55","v":"X44   Y44"},null,null,{"$f":"LUTIN!D55","v":"0000537"},{"$f":"LUTIN!V55","v":0},{"$f":"LUTIN!A91","v":"X80   Y80"},null,null,{"$f":"LUTIN!D91","v":"0010382"},{"$f":"LUTIN!V91","v":0},{"$f":"LUTIN!#REF!","v":{"$error":"#REF!"}},null,null,{"$f":"LUTIN!#REF!","v":{"$error":"#REF!"}},{"$f":"LUTIN!#REF!","v":{"$error":"#REF!"}}]
[{"$f":"LUTIN!A56","v":"X45   Y45"},null,null,{"$f":"LUTIN!D56","v":"0014952"},{"$f":"LUTIN!V56","v":0},{"$f":"LUTIN!A92","v":"X81   Y81"},null,null,{"$f":"LUTIN!D92","v":"0000454"},{"$f":"LUTIN!V92","v":0},{"$f":"LUTIN!#REF!","v":{"$error":"#REF!"}},null,null,{"$f":"LUTIN!#REF!","v":{"$error":"#REF!"}},{"$f":"LUTIN!#REF!","v":{"$error":"#REF!"}}]
["SDIS 57"]
[]
["SUIVI DU CENTRE DE SECOURS DE HAGONDANGE"]
[]
[]
[]
["FORMATIONS",null,null,null,null,null,null,null,{"$f":"LUTIN!W11","v":"RCH 1"}]
[]
[]
["NOM - PRENOM","NOM","PRENOM","MATRICULE",{"$f":"I935","v":"RCH 1"},"NOM - PRENOM","NOM","PRENOM","MATRICULE",{"$f":"E938","v":"RCH 1"},"NOM - PRENOM","NOM","PRENOM","MATRICULE",{"$f":"J938","v":"RCH 1"}]
[]
[{"$f":"LUTIN!A12","v":"X1   Y1"},null,null,{"$f":"LUTIN!D12","v":"0013041"},{"$f":"LUTIN!W12","v":0},{"$f":"LUTIN!A57","v":"X46   Y46"},null,null,{"$f":"LUTIN!D57","v":"0012816"},{"$f":"LUTIN!W57","v":0},{"$f":"LUTIN!A93","v":"X82   Y82"},null,null,{"$f":"LUTIN!D93","v":"0014794"},{"$f":"LUTIN!W93","v":"ü"}]
[{"$f":"LUTIN!A22","v":"X11   Y11"},null,null,{"$f":"LUTIN!D22","v":"0014707"},{"$f":"LUTIN!W22","v":0},{"$f":"LUTIN!A58","v":"X47   Y47"},null,null,{"$f":"LUTIN!D58","v":"0000795"},{"$f":"LUTIN!W58","v":"ü"},{"$f":"LUTIN!A94","v":"X83   Y83"},null,null,{"$f":"LUTIN!D94","v":"0014794"},{"$f":"LUTIN!W94","v":0}]
[{"$f":"LUTIN!A23","v":"X12   Y12"},null,null,{"$f":"LUTIN!D23","v":"0004796"},{"$f":"LUTIN!W23","v":0},{"$f":"LUTIN!A59","v":"X48   Y48"},null,null,{"$f":"LUTIN!D59","v":"0000466"},{"$f":"LUTIN!W59","v":"ü"},{"$f":"LUTIN!A95","v":"X84   Y84"},null,null,{"$f":"LUTIN!D95","v":"0014703"},{"$f":"LUTIN!W95","v":0}]
[{"$f":"LUTIN!A24","v":"X13   Y13"},null,null,{"$f":"LUTIN!D24","v":"0011105"},{"$f":"LUTIN!W24","v":0},{"$f":"LUTIN!A60","v":"X49   Y49"},null,null,{"$f":"LUTIN!D60","v":"0014390"},{"$f":"LUTIN!W60","v":0},{"$f":"LUTIN!A96","v":"X85   Y85"},null,null,{"$f":"LUTIN!D96","v":"0014835"},{"$f":"LUTIN!W96","v":0}]
[{"$f":"LUTIN!A25","v":"X14   Y14"},null,null,{"$f":"LUTIN!D25","v":"0012601"},{"$f":"LUTIN!W25","v":0},{"$f":"LUTIN!A61","v":"X50   Y50"},null,null,{"$f":"LUTIN!D61","v":"0011106"},{"$f":"LUTIN!W61","v":0},{"$f":"LUTIN!A97","v":"X86   Y86"},null,null,{"$f":"LUTIN!D97","v":"0002573"},{"$f":"LUTIN!W97","v":0}]
[{"$f":"LUTIN!A26","v":"X15   Y15"},null,null,{"$f":"LUTIN!D26","v":"0014518"},{"$f":"LUTIN!W26","v":0},{"$f":"LUTIN!A62","v":"X51   Y51"},null,null,{"$f":"LUTIN!D62","v":""},{"$f":"LUTIN!W62","v":0},{"$f":"LUTIN!A98","v":"X87   Y87"},null,null,{"$f":"LUTIN!D98","v":""},{"$f":"LUTIN!W98","v":0}]
[{"$f":"LUTIN!A27","v":"X16   Y16"},null,null,{"$f":"LUTIN!D27","v":"0000038"},{"$f":"LUTIN!W27","v":0},{"$f":"LUTIN!A63","v":"X52   Y52"},null,null,{"$f":"LUTIN!D63","v":"0011571"},{"$f":"LUTIN!W63","v":0},{"$f":"LUTIN!A99","v":"X88   Y88"},null,null,{"$f":"LUTIN!D99","v":"0012527"},{"$f":"LUTIN!W99","v":0}]
[{"$f":"LUTIN!A28","v":"X17   Y17"},null,null,{"$f":"LUTIN!D28","v":""},{"$f":"LUTIN!W28","v":0},{"$f":"LUTIN!A64","v":"X53   Y53"},null,null,{"$f":"LUTIN!D64","v":"0015023"},{"$f":"LUTIN!W64","v":"ü"},{"$f":"LUTIN!A100","v":"X89   Y89"},null,null,{"$f":"LUTIN!D100","v":"0012136"},{"$f":"LUTIN!W100","v":0}]
[{"$f":"LUTIN!A29","v":"X18   Y18"},null,null,{"$f":"LUTIN!D29","v":"0008074"},{"$f":"LUTIN!W29","v":0},{"$f":"LUTIN!A65","v":"X54   Y54"},null,null,{"$f":"LUTIN!D65","v":"0015026"},{"$f":"LUTIN!W65","v":0},{"$f":"LUTIN!A101","v":"X90   Y90"},null,null,{"$f":"LUTIN!D101","v":"0014453"},{"$f":"LUTIN!W101","v":0}]
[{"$f":"LUTIN!A30","v":"X19   Y19"},null,null,{"$f":"LUTIN!D30","v":"0000606"},{"$f":"LUTIN!W30","v":"ü"},{"$f":"LUTIN!A66","v":"X55   Y55"},null,null,{"$f":"LUTIN!D66","v":"0010882"},{"$f":"LUTIN!W66","v":0},{"$f":"LUTIN!A102","v":"X91   Y91"},null,null,{"$f":"LUTIN!D102","v":"0011252"},{"$f":"LUTIN!W102","v":0}]
[{"$f":"LUTIN!A31","v":"X20   Y20"},null,null,{"$f":"LUTIN!D31","v":"0016109"},{"$f":"LUTIN!W31","v":0},{"$f":"LUTIN!A67","v":"X56   Y56"},null,null,{"$f":"LUTIN!D67","v":"0011559"},{"$f":"LUTIN!W67","v":0},{"$f":"LUTIN!A103","v":"X92   Y92"},null,null,{"$f":"LUTIN!D103","v":"0009459"},{"$f":"LUTIN!W103","v":0}]
[{"$f":"LUTIN!A32","v":"X21   Y21"},null,null,{"$f":"LUTIN!D32","v":"0000614"},{"$f":"LUTIN!W32","v":"ü"},{"$f":"LUTIN!A68","v":"X57   Y57"},null,null,{"$f":"LUTIN!D68","v":"0000237"},{"$f":"LUTIN!W68","v":0},{"$f":"LUTIN!A104","v":"X93   Y93"},null,null,{"$f":"LUTIN!D104","v":"0000504"},{"$f":"LUTIN!W104","v":"ü"}]
[{"$f":"LUTIN!A33","v":"X22   Y22"},null,null,{"$f":"LUTIN!D33","v":"0001089"},{"$f":"LUTIN!W33","v":0},{"$f":"LUTIN!A69","v":"X58   Y58"},null,null,{"$f":"LUTIN!D69","v":"0000238"},{"$f":"LUTIN!W69","v":0},{"$f":"LUTIN!A105","v":"X94   Y94"},null,null,{"$f":"LUTIN!D105","v":"0014810"},{"$f":"LUTIN!W105","v":0}]
[{"$f":"LUTIN!A34","v":"X23   Y23"},null,null,{"$f":"LUTIN!D34","v":"0012666"},{"$f":"LUTIN!W34","v":0},{"$f":"LUTIN!A70","v":"X59   Y59"},null,null,{"$f":"LUTIN!D70","v":"0011720"},{"$f":"LUTIN!W70","v":0},{"$f":"LUTIN!A106","v":"X95   Y95"},null,null,{"$f":"LUTIN!D106","v":"0000000"},{"$f":"LUTIN!W106","v":0}]
[{"$f":"LUTIN!A35","v":"X24   Y24"},null,null,{"$f":"LUTIN!D35","v":"0004976"},{"$f":"LUTIN!W35","v":0},{"$f":"LUTIN!A71","v":"X60   Y60"},null,null,{"$f":"LUTIN!D71","v":"0009978"},{"$f":"LUTIN!W71","v":0},{"$f":"LUTIN!A107","v":"X96   Y96"},null,null,{"$f":"LUTIN!D107","v":"0011904"},{"$f":"LUTIN!W107","v":0}]
[{"$f":"LUTIN!A36","v":"X25   Y25"},null,null,{"$f":"LUTIN!D36","v":"0013001"},{"$f":"LUTIN!W36","v":0},{"$f":"LUTIN!A72","v":"X61   Y61"},null,null,{"$f":"LUTIN!D72","v":"0000328"},{"$f":"LUTIN!W72","v":"ü"},{"$f":"LUTIN!A108","v":"   "},null,null,{"$f":"LUTIN!D108","v":0},{"$f":"LUTIN!W108","v":0}]
[{"$f":"LUTIN!A37","v":"X26   Y26"},null,null,{"$f":"LUTIN!D37","v":"0014372"},{"$f":"LUTIN!W37","v":0},{"$f":"LUTIN!A73","v":"X62   Y62"},null,null,{"$f":"LUTIN!D73","v":"0009808"},{"$f":"LUTIN!W73","v":0},{"$f":"LUTIN!A109","v":0},null,null,{"$f":"LUTIN!D109","v":0},{"$f":"LUTIN!W109","v":0}]
[{"$f":"LUTIN!A38","v":"X27   Y27"},null,null,{"$f":"LUTIN!D38","v":"0011908"},{"$f":"LUTIN!W38","v":0},{"$f":"LUTIN!A74","v":"X63   Y63"},null,null,{"$f":"LUTIN!D74","v":"0000798"},{"$f":"LUTIN!W74","v":0},{"$f":"LUTIN!A110","v":0},null,null,{"$f":"LUTIN!D110","v":0},{"$f":"LUTIN!W110","v":0}]
[{"$f":"LUTIN!A39","v":"X28   Y28"},null,null,{"$f":"LUTIN!D39","v":"0000722"},{"$f":"LUTIN!W39","v":0},{"$f":"LUTIN!A75","v":"X64   Y64"},null,null,{"$f":"LUTIN!D75","v":"0000329"},{"$f":"LUTIN!W75","v":"ü"},{"$f":"LUTIN!A111","v":0},null,null,{"$f":"LUTIN!D111","v":0},{"$f":"LUTIN!W111","v":0}]
[{"$f":"LUTIN!A40","v":"X29   Y29"},null,null,{"$f":"LUTIN!D40","v":"0014130"},{"$f":"LUTIN!W40","v":0},{"$f":"LUTIN!A76","v":"X65   Y65"},null,null,{"$f":"LUTIN!D76","v":"0016166"},{"$f":"LUTIN!W76","v":0},{"$f":"LUTIN!A112","v":0},null,null,{"$f":"LUTIN!D112","v":0},{"$f":"LUTIN!W112","v":0}]
[{"$f":"LUTIN!A41","v":"X30   Y30"},null,null,{"$f":"LUTIN!D41","v":"0004807"},{"$f":"LUTIN!W41","v":0},{"$f":"LUTIN!A77","v":"X66   Y66"},null,null,{"$f":"LUTIN!D77","v":"0000698"},{"$f":"LUTIN!W77","v":"ü"},{"$f":"LUTIN!A113","v":0},null,null,{"$f":"LUTIN!D113","v":0},{"$f":"LUTIN!W113","v":0}]
[{"$f":"LUTIN!A42","v":"X31   Y31"},null,null,{"$f":"LUTIN!D42","v":"0011270"},{"$f":"LUTIN!W42","v":0},{"$f":"LUTIN!A78","v":"X67   Y67"},null,null,{"$f":"LUTIN!D78","v":"0016329"},{"$f":"LUTIN!W78","v":0},{"$f":"LUTIN!A114","v":0},null,null,{"$f":"LUTIN!D114","v":0},{"$f":"LUTIN!W114","v":0}]
[{"$f":"LUTIN!A43","v":"X32   Y32"},null,null,{"$f":"LUTIN!D43","v":"0016352"},{"$f":"LUTIN!W43","v":0},{"$f":"LUTIN!A79","v":"X68   Y68"},null,null,{"$f":"LUTIN!D79","v":"0000650"},{"$f":"LUTIN!W79","v":0},{"$f":"LUTIN!A115","v":"   "},null,null,{"$f":"LUTIN!D115","v":""},{"$f":"LUTIN!W115","v":0}]
[{"$f":"LUTIN!A44","v":"X33   Y33"},null,null,{"$f":"LUTIN!D44","v":"0011906"},{"$f":"LUTIN!W44","v":0},{"$f":"LUTIN!A80","v":"X69   Y69"},null,null,{"$f":"LUTIN!D80","v":"0000518"},{"$f":"LUTIN!W80","v":"ü"},{"$f":"LUTIN!A116","v":"   "},null,null,{"$f":"LUTIN!D116","v":0},{"$f":"LUTIN!W116","v":0}]
[{"$f":"LUTIN!A45","v":"X34   Y34"},null,null,{"$f":"LUTIN!D45","v":"0014857"},{"$f":"LUTIN!W45","v":0},{"$f":"LUTIN!A81","v":"X70   Y70"},null,null,{"$f":"LUTIN!D81","v":"0011907"},{"$f":"LUTIN!W81","v":0},{"$f":"LUTIN!A117","v":"   "},null,null,{"$f":"LUTIN!D117","v":0},{"$f":"LUTIN!W117","v":0}]
[{"$f":"LUTIN!A46","v":"X35   Y35"},null,null,{"$f":"LUTIN!D46","v":"0011905"},{"$f":"LUTIN!W46","v":0},{"$f":"LUTIN!A82","v":"X71   Y71"},null,null,{"$f":"LUTIN!D82","v":"0010677"},{"$f":"LUTIN!W82","v":0},{"$f":"LUTIN!A118","v":"   "},null,null,{"$f":"LUTIN!D118","v":0},{"$f":"LUTIN!W118","v":0}]
[{"$f":"LUTIN!A47","v":"X36   Y36"},null,null,{"$f":"LUTIN!D47","v":"0000507"},{"$f":"LUTIN!W47","v":0},{"$f":"LUTIN!A83","v":"X72   Y72"},null,null,{"$f":"LUTIN!D83","v":"0016231"},{"$f":"LUTIN!W83","v":0},{"$f":"LUTIN!A119","v":"   "},null,null,{"$f":"LUTIN!D119","v":0},{"$f":"LUTIN!W119","v":0}]
[{"$f":"LUTIN!A48","v":"X37   Y37"},null,null,{"$f":"LUTIN!D48","v":"0014854"},{"$f":"LUTIN!W48","v":0},{"$f":"LUTIN!A84","v":"X73   Y73"},null,null,{"$f":"LUTIN!D84","v":"0010207"},{"$f":"LUTIN!W84","v":0},{"$f":"LUTIN!A120","v":"   "},null,null,{"$f":"LUTIN!D120","v":0},{"$f":"LUTIN!W120","v":0}]
[{"$f":"LUTIN!A49","v":"X38   Y38"},null,null,{"$f":"LUTIN!D49","v":"0001003"},{"$f":"LUTIN!W49","v":"ü"},{"$f":"LUTIN!A85","v":"X74   Y74"},null,null,{"$f":"LUTIN!D85","v":"0012437"},{"$f":"LUTIN!W85","v":0},{"$f":"LUTIN!A121","v":"   "},null,null,{"$f":"LUTIN!D121","v":0},{"$f":"LUTIN!W121","v":0}]
[{"$f":"LUTIN!A50","v":"X39   Y39"},null,null,{"$f":"LUTIN!D50","v":"0014541"},{"$f":"LUTIN!W50","v":0},{"$f":"LUTIN!A86","v":"X75   Y75"},null,null,{"$f":"LUTIN!D86","v":"0000734"},{"$f":"LUTIN!W86","v":0},{"$f":"LUTIN!A122","v":"   "},null,null,{"$f":"LUTIN!D122","v":0},{"$f":"LUTIN!W122","v":0}]
[{"$f":"LUTIN!A51","v":"X40   Y40"},null,null,{"$f":"LUTIN!D51","v":"0000635"},{"$f":"LUTIN!W51","v":"ü"},{"$f":"LUTIN!A87","v":"X76   Y76"},null,null,{"$f":"LUTIN!D87","v":"0014858"},{"$f":"LUTIN!W87","v":0},{"$f":"LUTIN!A123","v":"   "},null,null,{"$f":"LUTIN!D123","v":0},{"$f":"LUTIN!W123","v":0}]
[{"$f":"LUTIN!A52","v":"X41   Y41"},null,null,{"$f":"LUTIN!D52","v":"0011705"},{"$f":"LUTIN!W52","v":0},{"$f":"LUTIN!A88","v":"X77   Y77"},null,null,{"$f":"LUTIN!D88","v":"0016325"},{"$f":"LUTIN!W88","v":0},{"$f":"LUTIN!A124","v":""},null,null,{"$f":"LUTIN!D124","v":0},{"$f":"LUTIN!W124","v":0}]
[{"$f":"LUTIN!A53","v":"X42   Y42"},null,null,{"$f":"LUTIN!D53","v":"0000327"},{"$f":"LUTIN!W53","v":"ü"},{"$f":"LUTIN!A89","v":"X78   Y78"},null,null,{"$f":"LUTIN!D89","v":"0014425"},{"$f":"LUTIN!W89","v":0},{"$f":"LUTIN!A125","v":"CAp"},null,null,{"$f":"LUTIN!D125","v":0},{"$f":"LUTIN!W125","v":0}]
[{"$f":"LUTIN!A54","v":"X43   Y43"},null,null,{"$f":"LUTIN!D54","v":"0011208"},{"$f":"LUTIN!W54","v":0},{"$f":"LUTIN!A90","v":"X79   Y79"},null,null,{"$f":"LUTIN!D90","v":"0000506"},{"$f":"LUTIN!W90","v":0},{"$f":"LUTIN!A126","v":"CAPE"},null,null,{"$f":"LUTIN!D126","v":0},{"$f":"LUTIN!W126","v":0}]
[{"$f":"LUTIN!A55","v":"X44   Y44"},null,null,{"$f":"LUTIN!D55","v":"0000537"},{"$f":"LUTIN!W55","v":0},{"$f":"LUTIN!A91","v":"X80   Y80"},null,null,{"$f":"LUTIN!D91","v":"0010382"},{"$f":"LUTIN!W91","v":0},{"$f":"LUTIN!#REF!","v":{"$error":"#REF!"}},null,null,{"$f":"LUTIN!#REF!","v":{"$error":"#REF!"}},{"$f":"LUTIN!#REF!","v":{"$error":"#REF!"}}]
[{"$f":"LUTIN!A56","v":"X45   Y45"},null,null,{"$f":"LUTIN!D56","v":"0014952"},{"$f":"LUTIN!W56","v":0},{"$f":"LUTIN!A92","v":"X81   Y81"},null,null,{"$f":"LUTIN!D92","v":"0000454"},{"$f":"LUTIN!W92","v":0},{"$f":"LUTIN!#REF!","v":{"$error":"#REF!"}},null,null,{"$f":"LUTIN!#REF!","v":{"$error":"#REF!"}},{"$f":"LUTIN!#REF!","v":{"$error":"#REF!"}}]
["SDIS 57"]
[]
["SUIVI DU CENTRE DE SECOURS DE HAGONDANGE"]
[]
[]
[]
["FORMATIONS",null,null,null,null,null,null,null,{"$f":"LUTIN!X11","v":"RCH 2"}]
[]
[]
["NOM - PRENOM","NOM","PRENOM","MATRICULE",{"$f":"I982","v":"RCH 2"},"NOM - PRENOM","NOM","PRENOM","MATRICULE",{"$f":"E985","v":"RCH 2"},"NOM - PRENOM","NOM","PRENOM","MATRICULE",{"$f":"J985","v":"RCH 2"}]
[]
[{"$f":"LUTIN!A12","v":"X1   Y1"},null,null,{"$f":"LUTIN!D12","v":"0013041"},{"$f":"LUTIN!X12","v":0},{"$f":"LUTIN!A57","v":"X46   Y46"},null,null,{"$f":"LUTIN!D57","v":"0012816"},{"$f":"LUTIN!X57","v":0},{"$f":"LUTIN!A93","v":"X82   Y82"},null,null,{"$f":"LUTIN!D93","v":"0014794"},{"$f":"LUTIN!X93","v":"ü"}]
[{"$f":"LUTIN!A22","v":"X11   Y11"},null,null,{"$f":"LUTIN!D22","v":"0014707"},{"$f":"LUTIN!X22","v":0},{"$f":"LUTIN!A58","v":"X47   Y47"},null,null,{"$f":"LUTIN!D58","v":"0000795"},{"$f":"LUTIN!X58","v":0},{"$f":"LUTIN!A94","v":"X83   Y83"},null,null,{"$f":"LUTIN!D94","v":"0014794"},{"$f":"LUTIN!X94","v":0}]
[{"$f":"LUTIN!A23","v":"X12   Y12"},null,null,{"$f":"LUTIN!D23","v":"0004796"},{"$f":"LUTIN!X23","v":0},{"$f":"LUTIN!A59","v":"X48   Y48"},null,null,{"$f":"LUTIN!D59","v":"0000466"},{"$f":"LUTIN!X59","v":"ü"},{"$f":"LUTIN!A95","v":"X84   Y84"},null,null,{"$f":"LUTIN!D95","v":"0014703"},{"$f":"LUTIN!X95","v":0}]
[{"$f":"LUTIN!A24","v":"X13   Y13"},null,null,{"$f":"LUTIN!D24","v":"0011105"},{"$f":"LUTIN!X24","v":0},{"$f":"LUTIN!A60","v":"X49   Y49"},null,null,{"$f":"LUTIN!D60","v":"0014390"},{"$f":"LUTIN!X60","v":0},{"$f":"LUTIN!A96","v":"X85   Y85"},null,null,{"$f":"LUTIN!D96","v":"0014835"},{"$f":"LUTIN!X96","v":0}]
[{"$f":"LUTIN!A25","v":"X14   Y14"},null,null,{"$f":"LUTIN!D25","v":"0012601"},{"$f":"LUTIN!X25","v":0},{"$f":"LUTIN!A61","v":"X50   Y50"},null,null,{"$f":"LUTIN!D61","v":"0011106"},{"$f":"LUTIN!X61","v":0},{"$f":"LUTIN!A97","v":"X86   Y86"},null,null,{"$f":"LUTIN!D97","v":"0002573"},{"$f":"LUTIN!X97","v":0}]
[{"$f":"LUTIN!A26","v":"X15   Y15"},null,null,{"$f":"LUTIN!D26","v":"0014518"},{"$f":"LUTIN!X26","v":0},{"$f":"LUTIN!A62","v":"X51   Y51"},null,null,{"$f":"LUTIN!D62","v":""},{"$f":"LUTIN!X62","v":0},{"$f":"LUTIN!A98","v":"X87   Y87"},null,null,{"$f":"LUTIN!D98","v":""},{"$f":"LUTIN!X98","v":0}]
[{"$f":"LUTIN!A27","v":"X16   Y16"},null,null,{"$f":"LUTIN!D27","v":"0000038"},{"$f":"LUTIN!X27","v":0},{"$f":"LUTIN!A63","v":"X52   Y52"},null,null,{"$f":"LUTIN!D63","v":"0011571"},{"$f":"LUTIN!X63","v":0},{"$f":"LUTIN!A99","v":"X88   Y88"},null,null,{"$f":"LUTIN!D99","v":"0012527"},{"$f":"LUTIN!X99","v":0}]
[{"$f":"LUTIN!A28","v":"X17   Y17"},null,null,{"$f":"LUTIN!D28","v":""},{"$f":"LUTIN!X28","v":0},{"$f":"LUTIN!A64","v":"X53   Y53"},null,null,{"$f":"LUTIN!D64","v":"0015023"},{"$f":"LUTIN!X64","v":"ü"},{"$f":"LUTIN!A100","v":"X89   Y89"},null,null,{"$f":"LUTIN!D100","v":"0012136"},{"$f":"LUTIN!X100","v":0}]
[{"$f":"LUTIN!A29","v":"X18   Y18"},null,null,{"$f":"LUTIN!D29","v":"0008074"},{"$f":"LUTIN!X29","v":0},{"$f":"LUTIN!A65","v":"X54   Y54"},null,null,{"$f":"LUTIN!D65","v":"0015026"},{"$f":"LUTIN!X65","v":0},{"$f":"LUTIN!A101","v":"X90   Y90"},null,null,{"$f":"LUTIN!D101","v":"0014453"},{"$f":"LUTIN!X101","v":0}]
[{"$f":"LUTIN!A30","v":"X19   Y19"},null,null,{"$f":"LUTIN!D30","v":"0000606"},{"$f":"LUTIN!X30","v":"ü"},{"$f":"LUTIN!A66","v":"X55   Y55"},null,null,{"$f":"LUTIN!D66","v":"0010882"},{"$f":"LUTIN!X66","v":0},{"$f":"LUTIN!A102","v":"X91   Y91"},null,null,{"$f":"LUTIN!D102","v":"0011252"},{"$f":"LUTIN!X102","v":0}]
[{"$f":"LUTIN!A31","v":"X20   Y20"},null,null,{"$f":"LUTIN!D31","v":"0016109"},{"$f":"LUTIN!X31","v":0},{"$f":"LUTIN!A67","v":"X56   Y56"},null,null,{"$f":"LUTIN!D67","v":"0011559"},{"$f":"LUTIN!X67","v":0},{"$f":"LUTIN!A103","v":"X92   Y92"},null,null,{"$f":"LUTIN!D103","v":"0009459"},{"$f":"LUTIN!X103","v":0}]
[{"$f":"LUTIN!A32","v":"X21   Y21"},null,null,{"$f":"LUTIN!D32","v":"0000614"},{"$f":"LUTIN!X32","v":"ü"},{"$f":"LUTIN!A68","v":"X57   Y57"},null,null,{"$f":"LUTIN!D68","v":"0000237"},{"$f":"LUTIN!X68","v":0},{"$f":"LUTIN!A104","v":"X93   Y93"},null,null,{"$f":"LUTIN!D104","v":"0000504"},{"$f":"LUTIN!X104","v":"ü"}]
[{"$f":"LUTIN!A33","v":"X22   Y22"},null,null,{"$f":"LUTIN!D33","v":"0001089"},{"$f":"LUTIN!X33","v":0},{"$f":"LUTIN!A69","v":"X58   Y58"},null,null,{"$f":"LUTIN!D69","v":"0000238"},{"$f":"LUTIN!X69","v":0},{"$f":"LUTIN!A105","v":"X94   Y94"},null,null,{"$f":"LUTIN!D105","v":"0014810"},{"$f":"LUTIN!X105","v":0}]
[{"$f":"LUTIN!A34","v":"X23   Y23"},null,null,{"$f":"LUTIN!D34","v":"0012666"},{"$f":"LUTIN!X34","v":0},{"$f":"LUTIN!A70","v":"X59   Y59"},null,null,{"$f":"LUTIN!D70","v":"0011720"},{"$f":"LUTIN!X70","v":0},{"$f":"LUTIN!A106","v":"X95   Y95"},null,null,{"$f":"LUTIN!D106","v":"0000000"},{"$f":"LUTIN!X106","v":0}]
[{"$f":"LUTIN!A35","v":"X24   Y24"},null,null,{"$f":"LUTIN!D35","v":"0004976"},{"$f":"LUTIN!X35","v":0},{"$f":"LUTIN!A71","v":"X60   Y60"},null,null,{"$f":"LUTIN!D71","v":"0009978"},{"$f":"LUTIN!X71","v":0},{"$f":"LUTIN!A107","v":"X96   Y96"},null,null,{"$f":"LUTIN!D107","v":"0011904"},{"$f":"LUTIN!X107","v":0}]
[{"$f":"LUTIN!A36","v":"X25   Y25"},null,null,{"$f":"LUTIN!D36","v":"0013001"},{"$f":"LUTIN!X36","v":0},{"$f":"LUTIN!A72","v":"X61   Y61"},null,null,{"$f":"LUTIN!D72","v":"0000328"},{"$f":"LUTIN!X72","v":0},{"$f":"LUTIN!A108","v":"   "},null,null,{"$f":"LUTIN!D108","v":0},{"$f":"LUTIN!X108","v":0}]
[{"$f":"LUTIN!A37","v":"X26   Y26"},null,null,{"$f":"LUTIN!D37","v":"0014372"},{"$f":"LUTIN!X37","v":0},{"$f":"LUTIN!A73","v":"X62   Y62"},null,null,{"$f":"LUTIN!D73","v":"0009808"},{"$f":"LUTIN!X73","v":0},{"$f":"LUTIN!A109","v":0},null,null,{"$f":"LUTIN!D109","v":0},{"$f":"LUTIN!X109","v":0}]
[{"$f":"LUTIN!A38","v":"X27   Y27"},null,null,{"$f":"LUTIN!D38","v":"0011908"},{"$f":"LUTIN!X38","v":0},{"$f":"LUTIN!A74","v":"X63   Y63"},null,null,{"$f":"LUTIN!D74","v":"0000798"},{"$f":"LUTIN!X74","v":0},{"$f":"LUTIN!A110","v":0},null,null,{"$f":"LUTIN!D110","v":0},{"$f":"LUTIN!X110","v":0}]
[{"$f":"LUTIN!A39","v":"X28   Y28"},null,null,{"$f":"LUTIN!D39","v":"0000722"},{"$f":"LUTIN!X39","v":0},{"$f":"LUTIN!A75","v":"X64   Y64"},null,null,{"$f":"LUTIN!D75","v":"0000329"},{"$f":"LUTIN!X75","v":0},{"$f":"LUTIN!A111","v":0},null,null,{"$f":"LUTIN!D111","v":0},{"$f":"LUTIN!X111","v":0}]
[{"$f":"LUTIN!A40","v":"X29   Y29"},null,null,{"$f":"LUTIN!D40","v":"0014130"},{"$f":"LUTIN!X40","v":0},{"$f":"LUTIN!A76","v":"X65   Y65"},null,null,{"$f":"LUTIN!D76","v":"0016166"},{"$f":"LUTIN!X76","v":0},{"$f":"LUTIN!A112","v":0},null,null,{"$f":"LUTIN!D112","v":0},{"$f":"LUTIN!X112","v":0}]
[{"$f":"LUTIN!A41","v":"X30   Y30"},null,null,{"$f":"LUTIN!D41","v":"0004807"},{"$f":"LUTIN!X41","v":0},{"$f":"LUTIN!A77","v":"X66   Y66"},null,null,{"$f":"LUTIN!D77","v":"0000698"},{"$f":"LUTIN!X77","v":0},{"$f":"LUTIN!A113","v":0},null,null,{"$f":"LUTIN!D113","v":0},{"$f":"LUTIN!X113","v":0}]
[{"$f":"LUTIN!A42","v":"X31   Y31"},null,null,{"$f":"LUTIN!D42","v":"0011270"},{"$f":"LUTIN!X42","v":0},{"$f":"LUTIN!A78","v":"X67   Y67"},null,null,{"$f":"LUTIN!D78","v":"0016329"},{"$f":"LUTIN!X78","v":0},{"$f":"LUTIN!A114","v":0},null,null,{"$f":"LUTIN!D114","v":0},{"$f":"LUTIN!X114","v":0}]
[{"$f":"LUTIN!A43","v":"X32   Y32"},null,null,{"$f":"LUTIN!D43","v":"0016352"},{"$f":"LUTIN!X43","v":0},{"$f":"LUTIN!A79","v":"X68   Y68"},null,null,{"$f":"LUTIN!D79","v":"0000650"},{"$f":"LUTIN!X79","v":0},{"$f":"LUTIN!A115","v":"   "},null,null,{"$f":"LUTIN!D115","v":""},{"$f":"LUTIN!X115","v":0}]
[{"$f":"LUTIN!A44","v":"X33   Y33"},null,null,{"$f":"LUTIN!D44","v":"0011906"},{"$f":"LUTIN!X44","v":0},{"$f":"LUTIN!A80","v":"X69   Y69"},null,null,{"$f":"LUTIN!D80","v":"0000518"},{"$f":"LUTIN!X80","v":"ü"},{"$f":"LUTIN!A116","v":"   "},null,null,{"$f":"LUTIN!D116","v":0},{"$f":"LUTIN!X116","v":0}]
[{"$f":"LUTIN!A45","v":"X34   Y34"},null,null,{"$f":"LUTIN!D45","v":"0014857"},{"$f":"LUTIN!X45","v":0},{"$f":"LUTIN!A81","v":"X70   Y70"},null,null,{"$f":"LUTIN!D81","v":"0011907"},{"$f":"LUTIN!X81","v":0},{"$f":"LUTIN!A117","v":"   "},null,null,{"$f":"LUTIN!D117","v":0},{"$f":"LUTIN!X117","v":0}]
[{"$f":"LUTIN!A46","v":"X35   Y35"},null,null,{"$f":"LUTIN!D46","v":"0011905"},{"$f":"LUTIN!X46","v":0},{"$f":"LUTIN!A82","v":"X71   Y71"},null,null,{"$f":"LUTIN!D82","v":"0010677"},{"$f":"LUTIN!X82","v":0},{"$f":"LUTIN!A118","v":"   "},null,null,{"$f":"LUTIN!D118","v":0},{"$f":"LUTIN!X118","v":0}]
[{"$f":"LUTIN!A47","v":"X36   Y36"},null,null,{"$f":"LUTIN!D47","v":"0000507"},{"$f":"LUTIN!X47","v":0},{"$f":"LUTIN!A83","v":"X72   Y72"},null,null,{"$f":"LUTIN!D83","v":"0016231"},{"$f":"LUTIN!X83","v":0},{"$f":"LUTIN!A119","v":"   "},null,null,{"$f":"LUTIN!D119","v":0},{"$f":"LUTIN!X119","v":0}]
[{"$f":"LUTIN!A48","v":"X37   Y37"},null,null,{"$f":"LUTIN!D48","v":"0014854"},{"$f":"LUTIN!X48","v":0},{"$f":"LUTIN!A84","v":"X73   Y73"},null,null,{"$f":"LUTIN!D84","v":"0010207"},{"$f":"LUTIN!X84","v":0},{"$f":"LUTIN!A120","v":"   "},null,null,{"$f":"LUTIN!D120","v":0},{"$f":"LUTIN!X120","v":0}]
[{"$f":"LUTIN!A49","v":"X38   Y38"},null,null,{"$f":"LUTIN!D49","v":"0001003"},{"$f":"LUTIN!X49","v":"ü"},{"$f":"LUTIN!A85","v":"X74   Y74"},null,null,{"$f":"LUTIN!D85","v":"0012437"},{"$f":"LUTIN!X85","v":0},{"$f":"LUTIN!A121","v":"   "},null,null,{"$f":"LUTIN!D121","v":0},{"$f":"LUTIN!X121","v":0}]
[{"$f":"LUTIN!A50","v":"X39   Y39"},null,null,{"$f":"LUTIN!D50","v":"0014541"},{"$f":"LUTIN!X50","v":0},{"$f":"LUTIN!A86","v":"X75   Y75"},null,null,{"$f":"LUTIN!D86","v":"0000734"},{"$f":"LUTIN!X86","v":0},{"$f":"LUTIN!A122","v":"   "},null,null,{"$f":"LUTIN!D122","v":0},{"$f":"LUTIN!X122","v":0}]
[{"$f":"LUTIN!A51","v":"X40   Y40"},null,null,{"$f":"LUTIN!D51","v":"0000635"},{"$f":"LUTIN!X51","v":0},{"$f":"LUTIN!A87","v":"X76   Y76"},null,null,{"$f":"LUTIN!D87","v":"0014858"},{"$f":"LUTIN!X87","v":0},{"$f":"LUTIN!A123","v":"   "},null,null,{"$f":"LUTIN!D123","v":0},{"$f":"LUTIN!X123","v":0}]
[{"$f":"LUTIN!A52","v":"X41   Y41"},null,null,{"$f":"LUTIN!D52","v":"0011705"},{"$f":"LUTIN!X52","v":0},{"$f":"LUTIN!A88","v":"X77   Y77"},null,null,{"$f":"LUTIN!D88","v":"0016325"},{"$f":"LUTIN!X88","v":0},{"$f":"LUTIN!A124","v":""},null,null,{"$f":"LUTIN!D124","v":0},{"$f":"LUTIN!X124","v":0}]
[{"$f":"LUTIN!A53","v":"X42   Y42"},null,null,{"$f":"LUTIN!D53","v":"0000327"},{"$f":"LUTIN!X53","v":"ü"},{"$f":"LUTIN!A89","v":"X78   Y78"},null,null,{"$f":"LUTIN!D89","v":"0014425"},{"$f":"LUTIN!X89","v":0},{"$f":"LUTIN!A125","v":"CAp"},null,null,{"$f":"LUTIN!D125","v":0},{"$f":"LUTIN!X125","v":0}]
[{"$f":"LUTIN!A54","v":"X43   Y43"},null,null,{"$f":"LUTIN!D54","v":"0011208"},{"$f":"LUTIN!X54","v":0},{"$f":"LUTIN!A90","v":"X79   Y79"},null,null,{"$f":"LUTIN!D90","v":"0000506"},{"$f":"LUTIN!X90","v":0},{"$f":"LUTIN!A126","v":"CAPE"},null,null,{"$f":"LUTIN!D126","v":0},{"$f":"LUTIN!X126","v":0}]
[{"$f":"LUTIN!A55","v":"X44   Y44"},null,null,{"$f":"LUTIN!D55","v":"0000537"},{"$f":"LUTIN!X55","v":0},{"$f":"LUTIN!A91","v":"X80   Y80"},null,null,{"$f":"LUTIN!D91","v":"0010382"},{"$f":"LUTIN!X91","v":0},{"$f":"LUTIN!#REF!","v":{"$error":"#REF!"}},null,null,{"$f":"LUTIN!#REF!","v":{"$error":"#REF!"}},{"$f":"LUTIN!#REF!","v":{"$error":"#REF!"}}]
[{"$f":"LUTIN!A56","v":"X45   Y45"},null,null,{"$f":"LUTIN!D56","v":"0014952"},{"$f":"LUTIN!X56","v":0},{"$f":"LUTIN!A92","v":"X81   Y81"},null,null,{"$f":"LUTIN!D92","v":"0000454"},{"$f":"LUTIN!X92","v":0},{"$f":"LUTIN!#REF!","v":{"$error":"#REF!"}},null,null,{"$f":"LUTIN!#REF!","v":{"$error":"#REF!"}},{"$f":"LUTIN!#REF!","v":{"$error":"#REF!"}}]
["SDIS 57"]
[]
["SUIVI DU CENTRE DE SECOURS DE HAGONDANGE"]
[]
[]
[]
["FORMATIONS",null,null,null,null,null,null,null,{"$f":"LUTIN!Y11","v":"RCH 3"}]
[]
[]
["NOM - PRENOM","NOM","PRENOM","MATRICULE",{"$f":"I1029","v":"RCH 3"},"NOM - PRENOM","NOM","PRENOM","MATRICULE",{"$f":"E1032","v":"RCH 3"},"NOM - PRENOM","NOM","PRENOM","MATRICULE",{"$f":"J1032","v":"RCH 3"}]
[]
[{"$f":"LUTIN!A12","v":"X1   Y1"},null,null,{"$f":"LUTIN!D12","v":"0013041"},{"$f":"LUTIN!Y12","v":0},{"$f":"LUTIN!A57","v":"X46   Y46"},null,null,{"$f":"LUTIN!D57","v":"0012816"},{"$f":"LUTIN!Y57","v":0},{"$f":"LUTIN!A93","v":"X82   Y82"},null,null,{"$f":"LUTIN!D93","v":"0014794"},{"$f":"LUTIN!Y93","v":"ü"}]
[{"$f":"LUTIN!A22","v":"X11   Y11"},null,null,{"$f":"LUTIN!D22","v":"0014707"},{"$f":"LUTIN!Y22","v":0},{"$f":"LUTIN!A58","v":"X47   Y47"},null,null,{"$f":"LUTIN!D58","v":"0000795"},{"$f":"LUTIN!Y58","v":0},{"$f":"LUTIN!A94","v":"X83   Y83"},null,null,{"$f":"LUTIN!D94","v":"0014794"},{"$f":"LUTIN!Y94","v":0}]
[{"$f":"LUTIN!A23","v":"X12   Y12"},null,null,{"$f":"LUTIN!D23","v":"0004796"},{"$f":"LUTIN!Y23","v":0},{"$f":"LUTIN!A59","v":"X48   Y48"},null,null,{"$f":"LUTIN!D59","v":"0000466"},{"$f":"LUTIN!Y59","v":0},{"$f":"LUTIN!A95","v":"X84   Y84"},null,null,{"$f":"LUTIN!D95","v":"0014703"},{"$f":"LUTIN!Y95","v":0}]
[{"$f":"LUTIN!A24","v":"X13   Y13"},null,null,{"$f":"LUTIN!D24","v":"0011105"},{"$f":"LUTIN!Y24","v":0},{"$f":"LUTIN!A60","v":"X49   Y49"},null,null,{"$f":"LUTIN!D60","v":"0014390"},{"$f":"LUTIN!Y60","v":0},{"$f":"LUTIN!A96","v":"X85   Y85"},null,null,{"$f":"LUTIN!D96","v":"0014835"},{"$f":"LUTIN!Y96","v":0}]
[{"$f":"LUTIN!A25","v":"X14   Y14"},null,null,{"$f":"LUTIN!D25","v":"0012601"},{"$f":"LUTIN!Y25","v":0},{"$f":"LUTIN!A61","v":"X50   Y50"},null,null,{"$f":"LUTIN!D61","v":"0011106"},{"$f":"LUTIN!Y61","v":0},{"$f":"LUTIN!A97","v":"X86   Y86"},null,null,{"$f":"LUTIN!D97","v":"0002573"},{"$f":"LUTIN!Y97","v":0}]
[{"$f":"LUTIN!A26","v":"X15   Y15"},null,null,{"$f":"LUTIN!D26","v":"0014518"},{"$f":"LUTIN!Y26","v":0},{"$f":"LUTIN!A62","v":"X51   Y51"},null,null,{"$f":"LUTIN!D62","v":""},{"$f":"LUTIN!Y62","v":0},{"$f":"LUTIN!A98","v":"X87   Y87"},null,null,{"$f":"LUTIN!D98","v":""},{"$f":"LUTIN!Y98","v":0}]
[{"$f":"LUTIN!A27","v":"X16   Y16"},null,null,{"$f":"LUTIN!D27","v":"0000038"},{"$f":"LUTIN!Y27","v":0},{"$f":"LUTIN!A63","v":"X52   Y52"},null,null,{"$f":"LUTIN!D63","v":"0011571"},{"$f":"LUTIN!Y63","v":0},{"$f":"LUTIN!A99","v":"X88   Y88"},null,null,{"$f":"LUTIN!D99","v":"0012527"},{"$f":"LUTIN!Y99","v":0}]
[{"$f":"LUTIN!A28","v":"X17   Y17"},null,null,{"$f":"LUTIN!D28","v":""},{"$f":"LUTIN!Y28","v":0},{"$f":"LUTIN!A64","v":"X53   Y53"},null,null,{"$f":"LUTIN!D64","v":"0015023"},{"$f":"LUTIN!Y64","v":0},{"$f":"LUTIN!A100","v":"X89   Y89"},null,null,{"$f":"LUTIN!D100","v":"0012136"},{"$f":"LUTIN!Y100","v":0}]
[{"$f":"LUTIN!A29","v":"X18   Y18"},null,null,{"$f":"LUTIN!D29","v":"0008074"},{"$f":"LUTIN!Y29","v":0},{"$f":"LUTIN!A65","v":"X54   Y54"},null,null,{"$f":"LUTIN!D65","v":"0015026"},{"$f":"LUTIN!Y65","v":0},{"$f":"LUTIN!A101","v":"X90   Y90"},null,null,{"$f":"LUTIN!D101","v":"0014453"},{"$f":"LUTIN!Y101","v":0}]
[{"$f":"LUTIN!A30","v":"X19   Y19"},null,null,{"$f":"LUTIN!D30","v":"0000606"},{"$f":"LUTIN!Y30","v":0},{"$f":"LUTIN!A66","v":"X55   Y55"},null,null,{"$f":"LUTIN!D66","v":"0010882"},{"$f":"LUTIN!Y66","v":0},{"$f":"LUTIN!A102","v":"X91   Y91"},null,null,{"$f":"LUTIN!D102","v":"0011252"},{"$f":"LUTIN!Y102","v":0}]
[{"$f":"LUTIN!A31","v":"X20   Y20"},null,null,{"$f":"LUTIN!D31","v":"0016109"},{"$f":"LUTIN!Y31","v":0},{"$f":"LUTIN!A67","v":"X56   Y56"},null,null,{"$f":"LUTIN!D67","v":"0011559"},{"$f":"LUTIN!Y67","v":0},{"$f":"LUTIN!A103","v":"X92   Y92"},null,null,{"$f":"LUTIN!D103","v":"0009459"},{"$f":"LUTIN!Y103","v":0}]
[{"$f":"LUTIN!A32","v":"X21   Y21"},null,null,{"$f":"LUTIN!D32","v":"0000614"},{"$f":"LUTIN!Y32","v":0},{"$f":"LUTIN!A68","v":"X57   Y57"},null,null,{"$f":"LUTIN!D68","v":"0000237"},{"$f":"LUTIN!Y68","v":0},{"$f":"LUTIN!A104","v":"X93   Y93"},null,null,{"$f":"LUTIN!D104","v":"0000504"},{"$f":"LUTIN!Y104","v":0}]
[{"$f":"LUTIN!A33","v":"X22   Y22"},null,null,{"$f":"LUTIN!D33","v":"0001089"},{"$f":"LUTIN!Y33","v":0},{"$f":"LUTIN!A69","v":"X58   Y58"},null,null,{"$f":"LUTIN!D69","v":"0000238"},{"$f":"LUTIN!Y69","v":0},{"$f":"LUTIN!A105","v":"X94   Y94"},null,null,{"$f":"LUTIN!D105","v":"0014810"},{"$f":"LUTIN!Y105","v":0}]
[{"$f":"LUTIN!A34","v":"X23   Y23"},null,null,{"$f":"LUTIN!D34","v":"0012666"},{"$f":"LUTIN!Y34","v":0},{"$f":"LUTIN!A70","v":"X59   Y59"},null,null,{"$f":"LUTIN!D70","v":"0011720"},{"$f":"LUTIN!Y70","v":0},{"$f":"LUTIN!A106","v":"X95   Y95"},null,null,{"$f":"LUTIN!D106","v":"0000000"},{"$f":"LUTIN!Y106","v":0}]
[{"$f":"LUTIN!A35","v":"X24   Y24"},null,null,{"$f":"LUTIN!D35","v":"0004976"},{"$f":"LUTIN!Y35","v":0},{"$f":"LUTIN!A71","v":"X60   Y60"},null,null,{"$f":"LUTIN!D71","v":"0009978"},{"$f":"LUTIN!Y71","v":0},{"$f":"LUTIN!A107","v":"X96   Y96"},null,null,{"$f":"LUTIN!D107","v":"0011904"},{"$f":"LUTIN!Y107","v":0}]
[{"$f":"LUTIN!A36","v":"X25   Y25"},null,null,{"$f":"LUTIN!D36","v":"0013001"},{"$f":"LUTIN!Y36","v":0},{"$f":"LUTIN!A72","v":"X61   Y61"},null,null,{"$f":"LUTIN!D72","v":"0000328"},{"$f":"LUTIN!Y72","v":0},{"$f":"LUTIN!A108","v":"   "},null,null,{"$f":"LUTIN!D108","v":0},{"$f":"LUTIN!Y108","v":0}]
[{"$f":"LUTIN!A37","v":"X26   Y26"},null,null,{"$f":"LUTIN!D37","v":"0014372"},{"$f":"LUTIN!Y37","v":0},{"$f":"LUTIN!A73","v":"X62   Y62"},null,null,{"$f":"LUTIN!D73","v":"0009808"},{"$f":"LUTIN!Y73","v":0},{"$f":"LUTIN!A109","v":0},null,null,{"$f":"LUTIN!D109","v":0},{"$f":"LUTIN!Y109","v":0}]
[{"$f":"LUTIN!A38","v":"X27   Y27"},null,null,{"$f":"LUTIN!D38","v":"0011908"},{"$f":"LUTIN!Y38","v":0},{"$f":"LUTIN!A74","v":"X63   Y63"},null,null,{"$f":"LUTIN!D74","v":"0000798"},{"$f":"LUTIN!Y74","v":0},{"$f":"LUTIN!A110","v":0},null,null,{"$f":"LUTIN!D110","v":0},{"$f":"LUTIN!Y110","v":0}]
[{"$f":"LUTIN!A39","v":"X28   Y28"},null,null,{"$f":"LUTIN!D39","v":"0000722"},{"$f":"LUTIN!Y39","v":0},{"$f":"LUTIN!A75","v":"X64   Y64"},null,null,{"$f":"LUTIN!D75","v":"0000329"},{"$f":"LUTIN!Y75","v":0},{"$f":"LUTIN!A111","v":0},null,null,{"$f":"LUTIN!D111","v":0},{"$f":"LUTIN!Y111","v":0}]
[{"$f":"LUTIN!A40","v":"X29   Y29"},null,null,{"$f":"LUTIN!D40","v":"0014130"},{"$f":"LUTIN!Y40","v":0},{"$f":"LUTIN!A76","v":"X65   Y65"},null,null,{"$f":"LUTIN!D76","v":"0016166"},{"$f":"LUTIN!Y76","v":0},{"$f":"LUTIN!A112","v":0},null,null,{"$f":"LUTIN!D112","v":0},{"$f":"LUTIN!Y112","v":0}]
[{"$f":"LUTIN!A41","v":"X30   Y30"},null,null,{"$f":"LUTIN!D41","v":"0004807"},{"$f":"LUTIN!Y41","v":0},{"$f":"LUTIN!A77","v":"X66   Y66"},null,null,{"$f":"LUTIN!D77","v":"0000698"},{"$f":"LUTIN!Y77","v":0},{"$f":"LUTIN!A113","v":0},null,null,{"$f":"LUTIN!D113","v":0},{"$f":"LUTIN!Y113","v":0}]
[{"$f":"LUTIN!A42","v":"X31   Y31"},null,null,{"$f":"LUTIN!D42","v":"0011270"},{"$f":"LUTIN!Y42","v":0},{"$f":"LUTIN!A78","v":"X67   Y67"},null,null,{"$f":"LUTIN!D78","v":"0016329"},{"$f":"LUTIN!Y78","v":0},{"$f":"LUTIN!A114","v":0},null,null,{"$f":"LUTIN!D114","v":0},{"$f":"LUTIN!Y114","v":0}]
[{"$f":"LUTIN!A43","v":"X32   Y32"},null,null,{"$f":"LUTIN!D43","v":"0016352"},{"$f":"LUTIN!Y43","v":0},{"$f":"LUTIN!A79","v":"X68   Y68"},null,null,{"$f":"LUTIN!D79","v":"0000650"},{"$f":"LUTIN!Y79","v":0},{"$f":"LUTIN!A115","v":"   "},null,null,{"$f":"LUTIN!D115","v":""},{"$f":"LUTIN!Y115","v":0}]
[{"$f":"LUTIN!A44","v":"X33   Y33"},null,null,{"$f":"LUTIN!D44","v":"0011906"},{"$f":"LUTIN!Y44","v":0},{"$f":"LUTIN!A80","v":"X69   Y69"},null,null,{"$f":"LUTIN!D80","v":"0000518"},{"$f":"LUTIN!Y80","v":0},{"$f":"LUTIN!A116","v":"   "},null,null,{"$f":"LUTIN!D116","v":0},{"$f":"LUTIN!Y116","v":0}]
[{"$f":"LUTIN!A45","v":"X34   Y34"},null,null,{"$f":"LUTIN!D45","v":"0014857"},{"$f":"LUTIN!Y45","v":0},{"$f":"LUTIN!A81","v":"X70   Y70"},null,null,{"$f":"LUTIN!D81","v":"0011907"},{"$f":"LUTIN!Y81","v":0},{"$f":"LUTIN!A117","v":"   "},null,null,{"$f":"LUTIN!D117","v":0},{"$f":"LUTIN!Y117","v":0}]
[{"$f":"LUTIN!A46","v":"X35   Y35"},null,null,{"$f":"LUTIN!D46","v":"0011905"},{"$f":"LUTIN!Y46","v":0},{"$f":"LUTIN!A82","v":"X71   Y71"},null,null,{"$f":"LUTIN!D82","v":"0010677"},{"$f":"LUTIN!Y82","v":0},{"$f":"LUTIN!A118","v":"   "},null,null,{"$f":"LUTIN!D118","v":0},{"$f":"LUTIN!Y118","v":0}]
[{"$f":"LUTIN!A47","v":"X36   Y36"},null,null,{"$f":"LUTIN!D47","v":"0000507"},{"$f":"LUTIN!Y47","v":0},{"$f":"LUTIN!A83","v":"X72   Y72"},null,null,{"$f":"LUTIN!D83","v":"0016231"},{"$f":"LUTIN!Y83","v":0},{"$f":"LUTIN!A119","v":"   "},null,null,{"$f":"LUTIN!D119","v":0},{"$f":"LUTIN!Y119","v":0}]
[{"$f":"LUTIN!A48","v":"X37   Y37"},null,null,{"$f":"LUTIN!D48","v":"0014854"},{"$f":"LUTIN!Y48","v":0},{"$f":"LUTIN!A84","v":"X73   Y73"},null,null,{"$f":"LUTIN!D84","v":"0010207"},{"$f":"LUTIN!Y84","v":0},{"$f":"LUTIN!A120","v":"   "},null,null,{"$f":"LUTIN!D120","v":0},{"$f":"LUTIN!Y120","v":0}]
[{"$f":"LUTIN!A49","v":"X38   Y38"},null,null,{"$f":"LUTIN!D49","v":"0001003"},{"$f":"LUTIN!Y49","v":"ü"},{"$f":"LUTIN!A85","v":"X74   Y74"},null,null,{"$f":"LUTIN!D85","v":"0012437"},{"$f":"LUTIN!Y85","v":0},{"$f":"LUTIN!A121","v":"   "},null,null,{"$f":"LUTIN!D121","v":0},{"$f":"LUTIN!Y121","v":0}]
[{"$f":"LUTIN!A50","v":"X39   Y39"},null,null,{"$f":"LUTIN!D50","v":"0014541"},{"$f":"LUTIN!Y50","v":0},{"$f":"LUTIN!A86","v":"X75   Y75"},null,null,{"$f":"LUTIN!D86","v":"0000734"},{"$f":"LUTIN!Y86","v":0},{"$f":"LUTIN!A122","v":"   "},null,null,{"$f":"LUTIN!D122","v":0},{"$f":"LUTIN!Y122","v":0}]
[{"$f":"LUTIN!A51","v":"X40   Y40"},null,null,{"$f":"LUTIN!D51","v":"0000635"},{"$f":"LUTIN!Y51","v":0},{"$f":"LUTIN!A87","v":"X76   Y76"},null,null,{"$f":"LUTIN!D87","v":"0014858"},{"$f":"LUTIN!Y87","v":0},{"$f":"LUTIN!A123","v":"   "},null,null,{"$f":"LUTIN!D123","v":0},{"$f":"LUTIN!Y123","v":0}]
[{"$f":"LUTIN!A52","v":"X41   Y41"},null,null,{"$f":"LUTIN!D52","v":"0011705"},{"$f":"LUTIN!Y52","v":0},{"$f":"LUTIN!A88","v":"X77   Y77"},null,null,{"$f":"LUTIN!D88","v":"0016325"},{"$f":"LUTIN!Y88","v":0},{"$f":"LUTIN!A124","v":""},null,null,{"$f":"LUTIN!D124","v":0},{"$f":"LUTIN!Y124","v":0}]
[{"$f":"LUTIN!A53","v":"X42   Y42"},null,null,{"$f":"LUTIN!D53","v":"0000327"},{"$f":"LUTIN!Y53","v":0},{"$f":"LUTIN!A89","v":"X78   Y78"},null,null,{"$f":"LUTIN!D89","v":"0014425"},{"$f":"LUTIN!Y89","v":0},{"$f":"LUTIN!A125","v":"CAp"},null,null,{"$f":"LUTIN!D125","v":0},{"$f":"LUTIN!Y125","v":0}]
[{"$f":"LUTIN!A54","v":"X43   Y43"},null,null,{"$f":"LUTIN!D54","v":"0011208"},{"$f":"LUTIN!Y54","v":0},{"$f":"LUTIN!A90","v":"X79   Y79"},null,null,{"$f":"LUTIN!D90","v":"0000506"},{"$f":"LUTIN!Y90","v":0},{"$f":"LUTIN!A126","v":"CAPE"},null,null,{"$f":"LUTIN!D126","v":0},{"$f":"LUTIN!Y126","v":0}]
[{"$f":"LUTIN!A55","v":"X44   Y44"},null,null,{"$f":"LUTIN!D55","v":"0000537"},{"$f":"LUTIN!Y55","v":0},{"$f":"LUTIN!A91","v":"X80   Y80"},null,null,{"$f":"LUTIN!D91","v":"0010382"},{"$f":"LUTIN!Y91","v":0},{"$f":"LUTIN!#REF!","v":{"$error":"#REF!"}},null,null,{"$f":"LUTIN!#REF!","v":{"$error":"#REF!"}},{"$f":"LUTIN!#REF!","v":{"$error":"#REF!"}}]
[{"$f":"LUTIN!A56","v":"X45   Y45"},null,null,{"$f":"LUTIN!D56","v":"0014952"},{"$f":"LUTIN!Y56","v":0},{"$f":"LUTIN!A92","v":"X81   Y81"},null,null,{"$f":"LUTIN!D92","v":"0000454"},{"$f":"LUTIN!Y92","v":0},{"$f":"LUTIN!#REF!","v":{"$error":"#REF!"}},null,null,{"$f":"LUTIN!#REF!","v":{"$error":"#REF!"}},{"$f":"LUTIN!#REF!","v":{"$error":"#REF!"}}]
["SDIS 57"]
[]
["SUIVI DU CENTRE DE SECOURS DE HAGONDANGE"]
[]
[]
[]
["FORMATIONS",null,null,null,null,null,null,null,{"$f":"LUTIN!Z11","v":"RAD 1"}]
[]
[]
["NOM - PRENOM","NOM","PRENOM","MATRICULE",{"$f":"I1076","v":"RAD 1"},"NOM - PRENOM","NOM","PRENOM","MATRICULE",{"$f":"E1079","v":"RAD 1"},"NOM - PRENOM","NOM","PRENOM","MATRICULE",{"$f":"J1079","v":"RAD 1"}]
[]
[{"$f":"LUTIN!A12","v":"X1   Y1"},null,null,{"$f":"LUTIN!D12","v":"0013041"},{"$f":"LUTIN!Z12","v":0},{"$f":"LUTIN!A57","v":"X46   Y46"},null,null,{"$f":"LUTIN!D57","v":"0012816"},{"$f":"LUTIN!Z57","v":0},{"$f":"LUTIN!A93","v":"X82   Y82"},null,null,{"$f":"LUTIN!D93","v":"0014794"},{"$f":"LUTIN!Z93","v":0}]
[{"$f":"LUTIN!A22","v":"X11   Y11"},null,null,{"$f":"LUTIN!D22","v":"0014707"},{"$f":"LUTIN!Z22","v":0},{"$f":"LUTIN!A58","v":"X47   Y47"},null,null,{"$f":"LUTIN!D58","v":"0000795"},{"$f":"LUTIN!Z58","v":0},{"$f":"LUTIN!A94","v":"X83   Y83"},null,null,{"$f":"LUTIN!D94","v":"0014794"},{"$f":"LUTIN!Z94","v":0}]
[{"$f":"LUTIN!A23","v":"X12   Y12"},null,null,{"$f":"LUTIN!D23","v":"0004796"},{"$f":"LUTIN!Z23","v":0},{"$f":"LUTIN!A59","v":"X48   Y48"},null,null,{"$f":"LUTIN!D59","v":"0000466"},{"$f":"LUTIN!Z59","v":"ü"},{"$f":"LUTIN!A95","v":"X84   Y84"},null,null,{"$f":"LUTIN!D95","v":"0014703"},{"$f":"LUTIN!Z95","v":0}]
[{"$f":"LUTIN!A24","v":"X13   Y13"},null,null,{"$f":"LUTIN!D24","v":"0011105"},{"$f":"LUTIN!Z24","v":0},{"$f":"LUTIN!A60","v":"X49   Y49"},null,null,{"$f":"LUTIN!D60","v":"0014390"},{"$f":"LUTIN!Z60","v":0},{"$f":"LUTIN!A96","v":"X85   Y85"},null,null,{"$f":"LUTIN!D96","v":"0014835"},{"$f":"LUTIN!Z96","v":0}]
[{"$f":"LUTIN!A25","v":"X14   Y14"},null,null,{"$f":"LUTIN!D25","v":"0012601"},{"$f":"LUTIN!Z25","v":0},{"$f":"LUTIN!A61","v":"X50   Y50"},null,null,{"$f":"LUTIN!D61","v":"0011106"},{"$f":"LUTIN!Z61","v":"ü"},{"$f":"LUTIN!A97","v":"X86   Y86"},null,null,{"$f":"LUTIN!D97","v":"0002573"},{"$f":"LUTIN!Z97","v":0}]
[{"$f":"LUTIN!A26","v":"X15   Y15"},null,null,{"$f":"LUTIN!D26","v":"0014518"},{"$f":"LUTIN!Z26","v":0},{"$f":"LUTIN!A62","v":"X51   Y51"},null,null,{"$f":"LUTIN!D62","v":""},{"$f":"LUTIN!Z62","v":0},{"$f":"LUTIN!A98","v":"X87   Y87"},null,null,{"$f":"LUTIN!D98","v":""},{"$f":"LUTIN!Z98","v":0}]
[{"$f":"LUTIN!A27","v":"X16   Y16"},null,null,{"$f":"LUTIN!D27","v":"0000038"},{"$f":"LUTIN!Z27","v":0},{"$f":"LUTIN!A63","v":"X52   Y52"},null,null,{"$f":"LUTIN!D63","v":"0011571"},{"$f":"LUTIN!Z63","v":0},{"$f":"LUTIN!A99","v":"X88   Y88"},null,null,{"$f":"LUTIN!D99","v":"0012527"},{"$f":"LUTIN!Z99","v":0}]
[{"$f":"LUTIN!A28","v":"X17   Y17"},null,null,{"$f":"LUTIN!D28","v":""},{"$f":"LUTIN!Z28","v":0},{"$f":"LUTIN!A64","v":"X53   Y53"},null,null,{"$f":"LUTIN!D64","v":"0015023"},{"$f":"LUTIN!Z64","v":0},{"$f":"LUTIN!A100","v":"X89   Y89"},null,null,{"$f":"LUTIN!D100","v":"0012136"},{"$f":"LUTIN!Z100","v":0}]
[{"$f":"LUTIN!A29","v":"X18   Y18"},null,null,{"$f":"LUTIN!D29","v":"0008074"},{"$f":"LUTIN!Z29","v":0},{"$f":"LUTIN!A65","v":"X54   Y54"},null,null,{"$f":"LUTIN!D65","v":"0015026"},{"$f":"LUTIN!Z65","v":0},{"$f":"LUTIN!A101","v":"X90   Y90"},null,null,{"$f":"LUTIN!D101","v":"0014453"},{"$f":"LUTIN!Z101","v":0}]
[{"$f":"LUTIN!A30","v":"X19   Y19"},null,null,{"$f":"LUTIN!D30","v":"0000606"},{"$f":"LUTIN!Z30","v":0},{"$f":"LUTIN!A66","v":"X55   Y55"},null,null,{"$f":"LUTIN!D66","v":"0010882"},{"$f":"LUTIN!Z66","v":0},{"$f":"LUTIN!A102","v":"X91   Y91"},null,null,{"$f":"LUTIN!D102","v":"0011252"},{"$f":"LUTIN!Z102","v":0}]
[{"$f":"LUTIN!A31","v":"X20   Y20"},null,null,{"$f":"LUTIN!D31","v":"0016109"},{"$f":"LUTIN!Z31","v":0},{"$f":"LUTIN!A67","v":"X56   Y56"},null,null,{"$f":"LUTIN!D67","v":"0011559"},{"$f":"LUTIN!Z67","v":0},{"$f":"LUTIN!A103","v":"X92   Y92"},null,null,{"$f":"LUTIN!D103","v":"0009459"},{"$f":"LUTIN!Z103","v":0}]
[{"$f":"LUTIN!A32","v":"X21   Y21"},null,null,{"$f":"LUTIN!D32","v":"0000614"},{"$f":"LUTIN!Z32","v":0},{"$f":"LUTIN!A68","v":"X57   Y57"},null,null,{"$f":"LUTIN!D68","v":"0000237"},{"$f":"LUTIN!Z68","v":0},{"$f":"LUTIN!A104","v":"X93   Y93"},null,null,{"$f":"LUTIN!D104","v":"0000504"},{"$f":"LUTIN!Z104","v":"ü"}]
[{"$f":"LUTIN!A33","v":"X22   Y22"},null,null,{"$f":"LUTIN!D33","v":"0001089"},{"$f":"LUTIN!Z33","v":0},{"$f":"LUTIN!A69","v":"X58   Y58"},null,null,{"$f":"LUTIN!D69","v":"0000238"},{"$f":"LUTIN!Z69","v":"ü"},{"$f":"LUTIN!A105","v":"X94   Y94"},null,null,{"$f":"LUTIN!D105","v":"0014810"},{"$f":"LUTIN!Z105","v":0}]
[{"$f":"LUTIN!A34","v":"X23   Y23"},null,null,{"$f":"LUTIN!D34","v":"0012666"},{"$f":"LUTIN!Z34","v":0},{"$f":"LUTIN!A70","v":"X59   Y59"},null,null,{"$f":"LUTIN!D70","v":"0011720"},{"$f":"LUTIN!Z70","v":0},{"$f":"LUTIN!A106","v":"X95   Y95"},null,null,{"$f":"LUTIN!D106","v":"0000000"},{"$f":"LUTIN!Z106","v":0}]
[{"$f":"LUTIN!A35","v":"X24   Y24"},null,null,{"$f":"LUTIN!D35","v":"0004976"},{"$f":"LUTIN!Z35","v":0},{"$f":"LUTIN!A71","v":"X60   Y60"},null,null,{"$f":"LUTIN!D71","v":"0009978"},{"$f":"LUTIN!Z71","v":0},{"$f":"LUTIN!A107","v":"X96   Y96"},null,null,{"$f":"LUTIN!D107","v":"0011904"},{"$f":"LUTIN!Z107","v":0}]
[{"$f":"LUTIN!A36","v":"X25   Y25"},null,null,{"$f":"LUTIN!D36","v":"0013001"},{"$f":"LUTIN!Z36","v":0},{"$f":"LUTIN!A72","v":"X61   Y61"},null,null,{"$f":"LUTIN!D72","v":"0000328"},{"$f":"LUTIN!Z72","v":"ü"},{"$f":"LUTIN!A108","v":"   "},null,null,{"$f":"LUTIN!D108","v":0},{"$f":"LUTIN!Z108","v":0}]
[{"$f":"LUTIN!A37","v":"X26   Y26"},null,null,{"$f":"LUTIN!D37","v":"0014372"},{"$f":"LUTIN!Z37","v":0},{"$f":"LUTIN!A73","v":"X62   Y62"},null,null,{"$f":"LUTIN!D73","v":"0009808"},{"$f":"LUTIN!Z73","v":0},{"$f":"LUTIN!A109","v":0},null,null,{"$f":"LUTIN!D109","v":0},{"$f":"LUTIN!Z109","v":0}]
[{"$f":"LUTIN!A38","v":"X27   Y27"},null,null,{"$f":"LUTIN!D38","v":"0011908"},{"$f":"LUTIN!Z38","v":0},{"$f":"LUTIN!A74","v":"X63   Y63"},null,null,{"$f":"LUTIN!D74","v":"0000798"},{"$f":"LUTIN!Z74","v":0},{"$f":"LUTIN!A110","v":0},null,null,{"$f":"LUTIN!D110","v":0},{"$f":"LUTIN!Z110","v":0}]
[{"$f":"LUTIN!A39","v":"X28   Y28"},null,null,{"$f":"LUTIN!D39","v":"0000722"},{"$f":"LUTIN!Z39","v":0},{"$f":"LUTIN!A75","v":"X64   Y64"},null,null,{"$f":"LUTIN!D75","v":"0000329"},{"$f":"LUTIN!Z75","v":"ü"},{"$f":"LUTIN!A111","v":0},null,null,{"$f":"LUTIN!D111","v":0},{"$f":"LUTIN!Z111","v":0}]
[{"$f":"LUTIN!A40","v":"X29   Y29"},null,null,{"$f":"LUTIN!D40","v":"0014130"},{"$f":"LUTIN!Z40","v":0},{"$f":"LUTIN!A76","v":"X65   Y65"},null,null,{"$f":"LUTIN!D76","v":"0016166"},{"$f":"LUTIN!Z76","v":0},{"$f":"LUTIN!A112","v":0},null,null,{"$f":"LUTIN!D112","v":0},{"$f":"LUTIN!Z112","v":0}]
[{"$f":"LUTIN!A41","v":"X30   Y30"},null,null,{"$f":"LUTIN!D41","v":"0004807"},{"$f":"LUTIN!Z41","v":0},{"$f":"LUTIN!A77","v":"X66   Y66"},null,null,{"$f":"LUTIN!D77","v":"0000698"},{"$f":"LUTIN!Z77","v":0},{"$f":"LUTIN!A113","v":0},null,null,{"$f":"LUTIN!D113","v":0},{"$f":"LUTIN!Z113","v":0}]
[{"$f":"LUTIN!A42","v":"X31   Y31"},null,null,{"$f":"LUTIN!D42","v":"0011270"},{"$f":"LUTIN!Z42","v":0},{"$f":"LUTIN!A78","v":"X67   Y67"},null,null,{"$f":"LUTIN!D78","v":"0016329"},{"$f":"LUTIN!Z78","v":0},{"$f":"LUTIN!A114","v":0},null,null,{"$f":"LUTIN!D114","v":0},{"$f":"LUTIN!Z114","v":0}]
[{"$f":"LUTIN!A43","v":"X32   Y32"},null,null,{"$f":"LUTIN!D43","v":"0016352"},{"$f":"LUTIN!Z43","v":0},{"$f":"LUTIN!A79","v":"X68   Y68"},null,null,{"$f":"LUTIN!D79","v":"0000650"},{"$f":"LUTIN!Z79","v":0},{"$f":"LUTIN!A115","v":"   "},null,null,{"$f":"LUTIN!D115","v":""},{"$f":"LUTIN!Z115","v":0}]
[{"$f":"LUTIN!A44","v":"X33   Y33"},null,null,{"$f":"LUTIN!D44","v":"0011906"},{"$f":"LUTIN!Z44","v":0},{"$f":"LUTIN!A80","v":"X69   Y69"},null,null,{"$f":"LUTIN!D80","v":"0000518"},{"$f":"LUTIN!Z80","v":0},{"$f":"LUTIN!A116","v":"   "},null,null,{"$f":"LUTIN!D116","v":0},{"$f":"LUTIN!Z116","v":0}]
[{"$f":"LUTIN!A45","v":"X34   Y34"},null,null,{"$f":"LUTIN!D45","v":"0014857"},{"$f":"LUTIN!Z45","v":0},{"$f":"LUTIN!A81","v":"X70   Y70"},null,null,{"$f":"LUTIN!D81","v":"0011907"},{"$f":"LUTIN!Z81","v":0},{"$f":"LUTIN!A117","v":"   "},null,null,{"$f":"LUTIN!D117","v":0},{"$f":"LUTIN!Z117","v":0}]
[{"$f":"LUTIN!A46","v":"X35   Y35"},null,null,{"$f":"LUTIN!D46","v":"0011905"},{"$f":"LUTIN!Z46","v":0},{"$f":"LUTIN!A82","v":"X71   Y71"},null,null,{"$f":"LUTIN!D82","v":"0010677"},{"$f":"LUTIN!Z82","v":0},{"$f":"LUTIN!A118","v":"   "},null,null,{"$f":"LUTIN!D118","v":0},{"$f":"LUTIN!Z118","v":0}]
[{"$f":"LUTIN!A47","v":"X36   Y36"},null,null,{"$f":"LUTIN!D47","v":"0000507"},{"$f":"LUTIN!Z47","v":"ü"},{"$f":"LUTIN!A83","v":"X72   Y72"},null,null,{"$f":"LUTIN!D83","v":"0016231"},{"$f":"LUTIN!Z83","v":0},{"$f":"LUTIN!A119","v":"   "},null,null,{"$f":"LUTIN!D119","v":0},{"$f":"LUTIN!Z119","v":0}]
[{"$f":"LUTIN!A48","v":"X37   Y37"},null,null,{"$f":"LUTIN!D48","v":"0014854"},{"$f":"LUTIN!Z48","v":0},{"$f":"LUTIN!A84","v":"X73   Y73"},null,null,{"$f":"LUTIN!D84","v":"0010207"},{"$f":"LUTIN!Z84","v":0},{"$f":"LUTIN!A120","v":"   "},null,null,{"$f":"LUTIN!D120","v":0},{"$f":"LUTIN!Z120","v":0}]
[{"$f":"LUTIN!A49","v":"X38   Y38"},null,null,{"$f":"LUTIN!D49","v":"0001003"},{"$f":"LUTIN!Z49","v":0},{"$f":"LUTIN!A85","v":"X74   Y74"},null,null,{"$f":"LUTIN!D85","v":"0012437"},{"$f":"LUTIN!Z85","v":0},{"$f":"LUTIN!A121","v":"   "},null,null,{"$f":"LUTIN!D121","v":0},{"$f":"LUTIN!Z121","v":0}]
[{"$f":"LUTIN!A50","v":"X39   Y39"},null,null,{"$f":"LUTIN!D50","v":"0014541"},{"$f":"LUTIN!Z50","v":0},{"$f":"LUTIN!A86","v":"X75   Y75"},null,null,{"$f":"LUTIN!D86","v":"0000734"},{"$f":"LUTIN!Z86","v":0},{"$f":"LUTIN!A122","v":"   "},null,null,{"$f":"LUTIN!D122","v":0},{"$f":"LUTIN!Z122","v":0}]
[{"$f":"LUTIN!A51","v":"X40   Y40"},null,null,{"$f":"LUTIN!D51","v":"0000635"},{"$f":"LUTIN!Z51","v":0},{"$f":"LUTIN!A87","v":"X76   Y76"},null,null,{"$f":"LUTIN!D87","v":"0014858"},{"$f":"LUTIN!Z87","v":0},{"$f":"LUTIN!A123","v":"   "},null,null,{"$f":"LUTIN!D123","v":0},{"$f":"LUTIN!Z123","v":0}]
[{"$f":"LUTIN!A52","v":"X41   Y41"},null,null,{"$f":"LUTIN!D52","v":"0011705"},{"$f":"LUTIN!Z52","v":0},{"$f":"LUTIN!A88","v":"X77   Y77"},null,null,{"$f":"LUTIN!D88","v":"0016325"},{"$f":"LUTIN!Z88","v":0},{"$f":"LUTIN!A124","v":""},null,null,{"$f":"LUTIN!D124","v":0},{"$f":"LUTIN!Z124","v":0}]
[{"$f":"LUTIN!A53","v":"X42   Y42"},null,null,{"$f":"LUTIN!D53","v":"0000327"},{"$f":"LUTIN!Z53","v":"ü"},{"$f":"LUTIN!A89","v":"X78   Y78"},null,null,{"$f":"LUTIN!D89","v":"0014425"},{"$f":"LUTIN!Z89","v":0},{"$f":"LUTIN!A125","v":"CAp"},null,null,{"$f":"LUTIN!D125","v":0},{"$f":"LUTIN!Z125","v":0}]
[{"$f":"LUTIN!A54","v":"X43   Y43"},null,null,{"$f":"LUTIN!D54","v":"0011208"},{"$f":"LUTIN!Z54","v":0},{"$f":"LUTIN!A90","v":"X79   Y79"},null,null,{"$f":"LUTIN!D90","v":"0000506"},{"$f":"LUTIN!Z90","v":0},{"$f":"LUTIN!A126","v":"CAPE"},null,null,{"$f":"LUTIN!D126","v":0},{"$f":"LUTIN!Z126","v":0}]
[{"$f":"LUTIN!A55","v":"X44   Y44"},null,null,{"$f":"LUTIN!D55","v":"0000537"},{"$f":"LUTIN!Z55","v":"ü"},{"$f":"LUTIN!A91","v":"X80   Y80"},null,null,{"$f":"LUTIN!D91","v":"0010382"},{"$f":"LUTIN!Z91","v":0},{"$f":"LUTIN!#REF!","v":{"$error":"#REF!"}},null,null,{"$f":"LUTIN!#REF!","v":{"$error":"#REF!"}},{"$f":"LUTIN!#REF!","v":{"$error":"#REF!"}}]
[{"$f":"LUTIN!A56","v":"X45   Y45"},null,null,{"$f":"LUTIN!D56","v":"0014952"},{"$f":"LUTIN!Z56","v":0},{"$f":"LUTIN!A92","v":"X81   Y81"},null,null,{"$f":"LUTIN!D92","v":"0000454"},{"$f":"LUTIN!Z92","v":"ü"},{"$f":"LUTIN!#REF!","v":{"$error":"#REF!"}},null,null,{"$f":"LUTIN!#REF!","v":{"$error":"#REF!"}},{"$f":"LUTIN!#REF!","v":{"$error":"#REF!"}}]
["SDIS 57"]
[]
["SUIVI DU CENTRE DE SECOURS DE HAGONDANGE"]
[]
[]
[]
["FORMATIONS",null,null,null,null,null,null,null,{"$f":"LUTIN!AA11","v":"RAD 2"}]
[]
[]
["NOM - PRENOM","NOM","PRENOM","MATRICULE",{"$f":"I1123","v":"RAD 2"},"NOM - PRENOM","NOM","PRENOM","MATRICULE",{"$f":"E1126","v":"RAD 2"},"NOM - PRENOM","NOM","PRENOM","MATRICULE",{"$f":"J1126","v":"RAD 2"}]
[]
[{"$f":"LUTIN!A12","v":"X1   Y1"},null,null,{"$f":"LUTIN!D12","v":"0013041"},{"$f":"LUTIN!AA12","v":0},{"$f":"LUTIN!A57","v":"X46   Y46"},null,null,{"$f":"LUTIN!D57","v":"0012816"},{"$f":"LUTIN!AA57","v":0},{"$f":"LUTIN!A93","v":"X82   Y82"},null,null,{"$f":"LUTIN!D93","v":"0014794"},{"$f":"LUTIN!AA93","v":0}]
[{"$f":"LUTIN!A22","v":"X11   Y11"},null,null,{"$f":"LUTIN!D22","v":"0014707"},{"$f":"LUTIN!AA22","v":0},{"$f":"LUTIN!A58","v":"X47   Y47"},null,null,{"$f":"LUTIN!D58","v":"0000795"},{"$f":"LUTIN!AA58","v":0},{"$f":"LUTIN!A94","v":"X83   Y83"},null,null,{"$f":"LUTIN!D94","v":"0014794"},{"$f":"LUTIN!AA94","v":0}]
[{"$f":"LUTIN!A23","v":"X12   Y12"},null,null,{"$f":"LUTIN!D23","v":"0004796"},{"$f":"LUTIN!AA23","v":0},{"$f":"LUTIN!A59","v":"X48   Y48"},null,null,{"$f":"LUTIN!D59","v":"0000466"},{"$f":"LUTIN!AA59","v":0},{"$f":"LUTIN!A95","v":"X84   Y84"},null,null,{"$f":"LUTIN!D95","v":"0014703"},{"$f":"LUTIN!AA95","v":0}]
[{"$f":"LUTIN!A24","v":"X13   Y13"},null,null,{"$f":"LUTIN!D24","v":"0011105"},{"$f":"LUTIN!AA24","v":0},{"$f":"LUTIN!A60","v":"X49   Y49"},null,null,{"$f":"LUTIN!D60","v":"0014390"},{"$f":"LUTIN!AA60","v":0},{"$f":"LUTIN!A96","v":"X85   Y85"},null,null,{"$f":"LUTIN!D96","v":"0014835"},{"$f":"LUTIN!AA96","v":0}]
[{"$f":"LUTIN!A25","v":"X14   Y14"},null,null,{"$f":"LUTIN!D25","v":"0012601"},{"$f":"LUTIN!AA25","v":0},{"$f":"LUTIN!A61","v":"X50   Y50"},null,null,{"$f":"LUTIN!D61","v":"0011106"},{"$f":"LUTIN!AA61","v":0},{"$f":"LUTIN!A97","v":"X86   Y86"},null,null,{"$f":"LUTIN!D97","v":"0002573"},{"$f":"LUTIN!AA97","v":0}]
[{"$f":"LUTIN!A26","v":"X15   Y15"},null,null,{"$f":"LUTIN!D26","v":"0014518"},{"$f":"LUTIN!AA26","v":0},{"$f":"LUTIN!A62","v":"X51   Y51"},null,null,{"$f":"LUTIN!D62","v":""},{"$f":"LUTIN!AA62","v":0},{"$f":"LUTIN!A98","v":"X87   Y87"},null,null,{"$f":"LUTIN!D98","v":""},{"$f":"LUTIN!AA98","v":0}]
[{"$f":"LUTIN!A27","v":"X16   Y16"},null,null,{"$f":"LUTIN!D27","v":"0000038"},{"$f":"LUTIN!AA27","v":0},{"$f":"LUTIN!A63","v":"X52   Y52"},null,null,{"$f":"LUTIN!D63","v":"0011571"},{"$f":"LUTIN!AA63","v":0},{"$f":"LUTIN!A99","v":"X88   Y88"},null,null,{"$f":"LUTIN!D99","v":"0012527"},{"$f":"LUTIN!AA99","v":0}]
[{"$f":"LUTIN!A28","v":"X17   Y17"},null,null,{"$f":"LUTIN!D28","v":""},{"$f":"LUTIN!AA28","v":0},{"$f":"LUTIN!A64","v":"X53   Y53"},null,null,{"$f":"LUTIN!D64","v":"0015023"},{"$f":"LUTIN!AA64","v":0},{"$f":"LUTIN!A100","v":"X89   Y89"},null,null,{"$f":"LUTIN!D100","v":"0012136"},{"$f":"LUTIN!AA100","v":0}]
[{"$f":"LUTIN!A29","v":"X18   Y18"},null,null,{"$f":"LUTIN!D29","v":"0008074"},{"$f":"LUTIN!AA29","v":0},{"$f":"LUTIN!A65","v":"X54   Y54"},null,null,{"$f":"LUTIN!D65","v":"0015026"},{"$f":"LUTIN!AA65","v":0},{"$f":"LUTIN!A101","v":"X90   Y90"},null,null,{"$f":"LUTIN!D101","v":"0014453"},{"$f":"LUTIN!AA101","v":0}]
[{"$f":"LUTIN!A30","v":"X19   Y19"},null,null,{"$f":"LUTIN!D30","v":"0000606"},{"$f":"LUTIN!AA30","v":0},{"$f":"LUTIN!A66","v":"X55   Y55"},null,null,{"$f":"LUTIN!D66","v":"0010882"},{"$f":"LUTIN!AA66","v":0},{"$f":"LUTIN!A102","v":"X91   Y91"},null,null,{"$f":"LUTIN!D102","v":"0011252"},{"$f":"LUTIN!AA102","v":0}]
[{"$f":"LUTIN!A31","v":"X20   Y20"},null,null,{"$f":"LUTIN!D31","v":"0016109"},{"$f":"LUTIN!AA31","v":0},{"$f":"LUTIN!A67","v":"X56   Y56"},null,null,{"$f":"LUTIN!D67","v":"0011559"},{"$f":"LUTIN!AA67","v":0},{"$f":"LUTIN!A103","v":"X92   Y92"},null,null,{"$f":"LUTIN!D103","v":"0009459"},{"$f":"LUTIN!AA103","v":0}]
[{"$f":"LUTIN!A32","v":"X21   Y21"},null,null,{"$f":"LUTIN!D32","v":"0000614"},{"$f":"LUTIN!AA32","v":0},{"$f":"LUTIN!A68","v":"X57   Y57"},null,null,{"$f":"LUTIN!D68","v":"0000237"},{"$f":"LUTIN!AA68","v":0},{"$f":"LUTIN!A104","v":"X93   Y93"},null,null,{"$f":"LUTIN!D104","v":"0000504"},{"$f":"LUTIN!AA104","v":"ü"}]
[{"$f":"LUTIN!A33","v":"X22   Y22"},null,null,{"$f":"LUTIN!D33","v":"0001089"},{"$f":"LUTIN!AA33","v":0},{"$f":"LUTIN!A69","v":"X58   Y58"},null,null,{"$f":"LUTIN!D69","v":"0000238"},{"$f":"LUTIN!AA69","v":"ü"},{"$f":"LUTIN!A105","v":"X94   Y94"},null,null,{"$f":"LUTIN!D105","v":"0014810"},{"$f":"LUTIN!AA105","v":0}]
[{"$f":"LUTIN!A34","v":"X23   Y23"},null,null,{"$f":"LUTIN!D34","v":"0012666"},{"$f":"LUTIN!AA34","v":0},{"$f":"LUTIN!A70","v":"X59   Y59"},null,null,{"$f":"LUTIN!D70","v":"0011720"},{"$f":"LUTIN!AA70","v":0},{"$f":"LUTIN!A106","v":"X95   Y95"},null,null,{"$f":"LUTIN!D106","v":"0000000"},{"$f":"LUTIN!AA106","v":0}]
[{"$f":"LUTIN!A35","v":"X24   Y24"},null,null,{"$f":"LUTIN!D35","v":"0004976"},{"$f":"LUTIN!AA35","v":0},{"$f":"LUTIN!A71","v":"X60   Y60"},null,null,{"$f":"LUTIN!D71","v":"0009978"},{"$f":"LUTIN!AA71","v":0},{"$f":"LUTIN!A107","v":"X96   Y96"},null,null,{"$f":"LUTIN!D107","v":"0011904"},{"$f":"LUTIN!AA107","v":0}]
[{"$f":"LUTIN!A36","v":"X25   Y25"},null,null,{"$f":"LUTIN!D36","v":"0013001"},{"$f":"LUTIN!AA36","v":0},{"$f":"LUTIN!A72","v":"X61   Y61"},null,null,{"$f":"LUTIN!D72","v":"0000328"},{"$f":"LUTIN!AA72","v":0},{"$f":"LUTIN!A108","v":"   "},null,null,{"$f":"LUTIN!D108","v":0},{"$f":"LUTIN!AA108","v":0}]
[{"$f":"LUTIN!A37","v":"X26   Y26"},null,null,{"$f":"LUTIN!D37","v":"0014372"},{"$f":"LUTIN!AA37","v":0},{"$f":"LUTIN!A73","v":"X62   Y62"},null,null,{"$f":"LUTIN!D73","v":"0009808"},{"$f":"LUTIN!AA73","v":0},{"$f":"LUTIN!A109","v":0},null,null,{"$f":"LUTIN!D109","v":0},{"$f":"LUTIN!AA109","v":0}]
[{"$f":"LUTIN!A38","v":"X27   Y27"},null,null,{"$f":"LUTIN!D38","v":"0011908"},{"$f":"LUTIN!AA38","v":0},{"$f":"LUTIN!A74","v":"X63   Y63"},null,null,{"$f":"LUTIN!D74","v":"0000798"},{"$f":"LUTIN!AA74","v":0},{"$f":"LUTIN!A110","v":0},null,null,{"$f":"LUTIN!D110","v":0},{"$f":"LUTIN!AA110","v":0}]
[{"$f":"LUTIN!A39","v":"X28   Y28"},null,null,{"$f":"LUTIN!D39","v":"0000722"},{"$f":"LUTIN!AA39","v":0},{"$f":"LUTIN!A75","v":"X64   Y64"},null,null,{"$f":"LUTIN!D75","v":"0000329"},{"$f":"LUTIN!AA75","v":"ü"},{"$f":"LUTIN!A111","v":0},null,null,{"$f":"LUTIN!D111","v":0},{"$f":"LUTIN!AA111","v":0}]
[{"$f":"LUTIN!A40","v":"X29   Y29"},null,null,{"$f":"LUTIN!D40","v":"0014130"},{"$f":"LUTIN!AA40","v":0},{"$f":"LUTIN!A76","v":"X65   Y65"},null,null,{"$f":"LUTIN!D76","v":"0016166"},{"$f":"LUTIN!AA76","v":0},{"$f":"LUTIN!A112","v":0},null,null,{"$f":"LUTIN!D112","v":0},{"$f":"LUTIN!AA112","v":0}]
[{"$f":"LUTIN!A41","v":"X30   Y30"},null,null,{"$f":"LUTIN!D41","v":"0004807"},{"$f":"LUTIN!AA41","v":0},{"$f":"LUTIN!A77","v":"X66   Y66"},null,null,{"$f":"LUTIN!D77","v":"0000698"},{"$f":"LUTIN!AA77","v":0},{"$f":"LUTIN!A113","v":0},null,null,{"$f":"LUTIN!D113","v":0},{"$f":"LUTIN!AA113","v":0}]
[{"$f":"LUTIN!A42","v":"X31   Y31"},null,null,{"$f":"LUTIN!D42","v":"0011270"},{"$f":"LUTIN!AA42","v":0},{"$f":"LUTIN!A78","v":"X67   Y67"},null,null,{"$f":"LUTIN!D78","v":"0016329"},{"$f":"LUTIN!AA78","v":0},{"$f":"LUTIN!A114","v":0},null,null,{"$f":"LUTIN!D114","v":0},{"$f":"LUTIN!AA114","v":0}]
[{"$f":"LUTIN!A43","v":"X32   Y32"},null,null,{"$f":"LUTIN!D43","v":"0016352"},{"$f":"LUTIN!AA43","v":0},{"$f":"LUTIN!A79","v":"X68   Y68"},null,null,{"$f":"LUTIN!D79","v":"0000650"},{"$f":"LUTIN!AA79","v":0},{"$f":"LUTIN!A115","v":"   "},null,null,{"$f":"LUTIN!D115","v":""},{"$f":"LUTIN!AA115","v":0}]
[{"$f":"LUTIN!A44","v":"X33   Y33"},null,null,{"$f":"LUTIN!D44","v":"0011906"},{"$f":"LUTIN!AA44","v":0},{"$f":"LUTIN!A80","v":"X69   Y69"},null,null,{"$f":"LUTIN!D80","v":"0000518"},{"$f":"LUTIN!AA80","v":0},{"$f":"LUTIN!A116","v":"   "},null,null,{"$f":"LUTIN!D116","v":0},{"$f":"LUTIN!AA116","v":0}]
[{"$f":"LUTIN!A45","v":"X34   Y34"},null,null,{"$f":"LUTIN!D45","v":"0014857"},{"$f":"LUTIN!AA45","v":0},{"$f":"LUTIN!A81","v":"X70   Y70"},null,null,{"$f":"LUTIN!D81","v":"0011907"},{"$f":"LUTIN!AA81","v":0},{"$f":"LUTIN!A117","v":"   "},null,null,{"$f":"LUTIN!D117","v":0},{"$f":"LUTIN!AA117","v":0}]
[{"$f":"LUTIN!A46","v":"X35   Y35"},null,null,{"$f":"LUTIN!D46","v":"0011905"},{"$f":"LUTIN!AA46","v":0},{"$f":"LUTIN!A82","v":"X71   Y71"},null,null,{"$f":"LUTIN!D82","v":"0010677"},{"$f":"LUTIN!AA82","v":0},{"$f":"LUTIN!A118","v":"   "},null,null,{"$f":"LUTIN!D118","v":0},{"$f":"LUTIN!AA118","v":0}]
[{"$f":"LUTIN!A47","v":"X36   Y36"},null,null,{"$f":"LUTIN!D47","v":"0000507"},{"$f":"LUTIN!AA47","v":"ü"},{"$f":"LUTIN!A83","v":"X72   Y72"},null,null,{"$f":"LUTIN!D83","v":"0016231"},{"$f":"LUTIN!AA83","v":0},{"$f":"LUTIN!A119","v":"   "},null,null,{"$f":"LUTIN!D119","v":0},{"$f":"LUTIN!AA119","v":0}]
[{"$f":"LUTIN!A48","v":"X37   Y37"},null,null,{"$f":"LUTIN!D48","v":"0014854"},{"$f":"LUTIN!AA48","v":0},{"$f":"LUTIN!A84","v":"X73   Y73"},null,null,{"$f":"LUTIN!D84","v":"0010207"},{"$f":"LUTIN!AA84","v":0},{"$f":"LUTIN!A120","v":"   "},null,null,{"$f":"LUTIN!D120","v":0},{"$f":"LUTIN!AA120","v":0}]
[{"$f":"LUTIN!A49","v":"X38   Y38"},null,null,{"$f":"LUTIN!D49","v":"0001003"},{"$f":"LUTIN!AA49","v":0},{"$f":"LUTIN!A85","v":"X74   Y74"},null,null,{"$f":"LUTIN!D85","v":"0012437"},{"$f":"LUTIN!AA85","v":0},{"$f":"LUTIN!A121","v":"   "},null,null,{"$f":"LUTIN!D121","v":0},{"$f":"LUTIN!AA121","v":0}]
[{"$f":"LUTIN!A50","v":"X39   Y39"},null,null,{"$f":"LUTIN!D50","v":"0014541"},{"$f":"LUTIN!AA50","v":0},{"$f":"LUTIN!A86","v":"X75   Y75"},null,null,{"$f":"LUTIN!D86","v":"0000734"},{"$f":"LUTIN!AA86","v":0},{"$f":"LUTIN!A122","v":"   "},null,null,{"$f":"LUTIN!D122","v":0},{"$f":"LUTIN!AA122","v":0}]
[{"$f":"LUTIN!A51","v":"X40   Y40"},null,null,{"$f":"LUTIN!D51","v":"0000635"},{"$f":"LUTIN!AA51","v":0},{"$f":"LUTIN!A87","v":"X76   Y76"},null,null,{"$f":"LUTIN!D87","v":"0014858"},{"$f":"LUTIN!AA87","v":0},{"$f":"LUTIN!A123","v":"   "},null,null,{"$f":"LUTIN!D123","v":0},{"$f":"LUTIN!AA123","v":0}]
[{"$f":"LUTIN!A52","v":"X41   Y41"},null,null,{"$f":"LUTIN!D52","v":"0011705"},{"$f":"LUTIN!AA52","v":0},{"$f":"LUTIN!A88","v":"X77   Y77"},null,null,{"$f":"LUTIN!D88","v":"0016325"},{"$f":"LUTIN!AA88","v":0},{"$f":"LUTIN!A124","v":""},null,null,{"$f":"LUTIN!D124","v":0},{"$f":"LUTIN!AA124","v":0}]
[{"$f":"LUTIN!A53","v":"X42   Y42"},null,null,{"$f":"LUTIN!D53","v":"0000327"},{"$f":"LUTIN!AA53","v":"ü"},{"$f":"LUTIN!A89","v":"X78   Y78"},null,null,{"$f":"LUTIN!D89","v":"0014425"},{"$f":"LUTIN!AA89","v":0},{"$f":"LUTIN!A125","v":"CAp"},null,null,{"$f":"LUTIN!D125","v":0},{"$f":"LUTIN!AA125","v":0}]
[{"$f":"LUTIN!A54","v":"X43   Y43"},null,null,{"$f":"LUTIN!D54","v":"0011208"},{"$f":"LUTIN!AA54","v":0},{"$f":"LUTIN!A90","v":"X79   Y79"},null,null,{"$f":"LUTIN!D90","v":"0000506"},{"$f":"LUTIN!AA90","v":0},{"$f":"LUTIN!A126","v":"CAPE"},null,null,{"$f":"LUTIN!D126","v":0},{"$f":"LUTIN!AA126","v":0}]
[{"$f":"LUTIN!A55","v":"X44   Y44"},null,null,{"$f":"LUTIN!D55","v":"0000537"},{"$f":"LUTIN!AA55","v":"ü"},{"$f":"LUTIN!A91","v":"X80   Y80"},null,null,{"$f":"LUTIN!D91","v":"0010382"},{"$f":"LUTIN!AA91","v":0},{"$f":"LUTIN!#REF!","v":{"$error":"#REF!"}},null,null,{"$f":"LUTIN!#REF!","v":{"$error":"#REF!"}},{"$f":"LUTIN!#REF!","v":{"$error":"#REF!"}}]
[{"$f":"LUTIN!A56","v":"X45   Y45"},null,null,{"$f":"LUTIN!D56","v":"0014952"},{"$f":"LUTIN!AA56","v":0},{"$f":"LUTIN!A92","v":"X81   Y81"},null,null,{"$f":"LUTIN!D92","v":"0000454"},{"$f":"LUTIN!AA92","v":"ü"},{"$f":"LUTIN!#REF!","v":{"$error":"#REF!"}},null,null,{"$f":"LUTIN!#REF!","v":{"$error":"#REF!"}},{"$f":"LUTIN!#REF!","v":{"$error":"#REF!"}}]

{"sheet":"Param","index":2,"n_rows":2,"n_cols":3,"rows_kept":2,"cut":false,"hidden":true,"merged":[]}
["Utilisateur","Mot de passe","Niveau"]
["Administrateur","M11241904","Administrateur"]

{"sheet":"Impression","index":3,"n_rows":1163,"n_cols":15,"rows_kept":1163,"cut":false,"hidden":false,"merged":[[1116,0,1117,14],[1118,0,1121,14],[1122,0,1124,5],[1122,8,1124,14],[1125,0,1126,0],[1125,1,1126,1],[1125,2,1126,2],[1125,3,1126,3],[1125,4,1126,4],[1125,5,1126,5],[1125,6,1126,6],[1125,7,1126,7],[1125,8,1126,8],[1125,9,1126,9],[1125,10,1126,10],[1125,11,1126,11],[1125,12,1126,12],[1125,13,1126,13],[1125,14,1126,14],[1069,0,1070,14],[1071,0,1074,14],[1075,0,1077,5],[1075,8,1077,14],[1078,0,1079,0],[1078,1,1079,1],[1078,2,1079,2],[1078,3,1079,3],[1078,4,1079,4],[1078,5,1079,5],[1078,6,1079,6],[1078,7,1079,7],[1078,8,1079,8],[1078,9,1079,9],[1078,10,1079,10],[1078,11,1079,11],[1078,12,1079,12],[1078,13,1079,13],[1078,14,1079,14],[1022,0,1023,14],[1024,0,1027,14],[1028,0,1030,5],[1028,8,1030,14],[1031,0,1032,0],[1031,1,1032,1],[1031,2,1032,2],[1031,3,1032,3],[1031,4,1032,4],[1031,5,1032,5],[1031,6,1032,6],[1031,7,1032,7],[1031,8,1032,8],[1031,9,1032,9],[1031,10,1032,10],[1031,11,1032,11],[1031,12,1032,12],[1031,13,1032,13],[1031,14,1032,14],[975,0,976,14],[977,0,980,14],[981,0,983,5],[981,8,983,14],[984,0,985,0],[984,1,985,1],[984,2,985,2],[984,3,985,3],[984,4,985,4],[984,5,985,5],[984,6,985,6],[984,7,985,7],[984,8,985,8],[984,9,985,9],[984,10,985,10],[984,11,985,11],[984,12,985,12],[984,13,985,13],[984,14,985,14],[928,0,929,14],[930,0,933,14],[934,0,936,5],[934,8,936,14],[937,0,938,0],[937,1,938,1],[937,2,938,2],[937,3,938,3],[937,4,938,4],[937,5,938,5],[937,6,938,6],[937,7,938,7],[937,8,938,8],[937,9,938,9],[937,10,938,10],[937,11,938,11],[937,12,938,12],[937,13,938,13],[937,14,938,14],[881,0,882,14],[883,0,886,14],[887,0,889,5],[887,8,889,14],[890,0,891,0],[890,1,891,1],[890,2,891,2],[890,3,891,3],[890,4,891,4],[890,5,891,5],[890,6,891,6],[890,7,891,7],[890,8,891,8],[890,9,891,9],[890,10,891,10],[890,11,891,11],[890,12,891,12],[890,13,891,13],[890,14,891,14],[834,0,835,14],[836,0,839,14],[840,0,842,5],[840,8,842,14],[843,0,844,0],[843,1,844,1],[843,2,844,2],[843,3,844,3],[843,4,844,4],[843,5,844,5],[843,6,844,6],[843,7,844,7],[843,8,844,8],[843,9,844,9],[843,10,844,10],[843,11,844,11],[843,12,844,12],[843,13,844,13],[843,14,844,14],[787,0,788,14],[789,0,792,14],[793,0,795,5],[793,8,795,14],[796,0,797,0],[796,1,797,1],[796,2,797,2],[796,3,797,3],[796,4,797,4],[796,5,797,5],[796,6,797,6],[796,7,797,7],[796,8,797,8],[796,9,797,9],[796,10,797,10],[796,11,797,11],[796,12,797,12],[796,13,797,13],[796,14,797,14],[740,0,741,14],[742,0,745,14],[746,0,748,5],[746,8,748,14],[749,0,750,0],[749,1,750,1],[749,2,750,2],[749,3,750,3],[749,4,750,4],[749,5,750,5],[749,6,750,6],[749,7,750,7],[749,8,750,8],[749,9,750,9],[749,10,750,10],[749,11,750,11],[749,12,750,12],[749,13,750,13],[749,14,750,14],[693,0,694,14],[695,0,698,14],[699,0,701,5],[699,8,701,14],[702,0,703,0],[702,1,703,1],[702,2,703,2],[702,3,703,3],[702,4,703,4],[702,5,703,5],[702,6,703,6],[702,7,703,7],[702,8,703,8],[702,9,703,9],[702,10,703,10],[702,11,703,11],[702,12,703,12],[702,13,703,13],[702,14,703,14],[646,0,647,14],[648,0,651,14],[652,0,654,5],[652,8,654,14],[655,0,656,0],[655,1,656,1],[655,2,656,2],[655,3,656,3],[655,4,656,4],[655,5,656,5],[655,6,656,6],[655,7,656,7],[655,8,656,8],[655,9,656,9],[655,10,656,10],[655,11,656,11],[655,12,656,12],[655,13,656,13],[655,14,656,14],[599,0,600,14],[601,0,604,14],[605,0,607,5],[605,8,607,14],[608,0,609,0],[608,1,609,1],[608,2,609,2],[608,3,609,3],[608,4,609,4],[608,5,609,5],[608,6,609,6],[608,7,609,7],[608,8,609,8],[608,9,609,9],[608,10,609,10],[608,11,609,11],[608,12,609,12],[608,13,609,13],[608,14,609,14],[552,0,553,14],[554,0,557,14],[558,0,560,5],[558,8,560,14],[561,0,562,0],[561,1,562,1],[561,2,562,2],[561,3,562,3],[561,4,562,4],[561,5,562,5],[561,6,562,6],[561,7,562,7],[561,8,562,8],[561,9,562,9],[561,10,562,10],[561,11,562,11],[561,12,562,12],[561,13,562,13],[561,14,562,14],[505,0,506,14],[507,0,510,14],[511,0,513,5],[511,8,513,14],[514,0,515,0],[514,1,515,1],[514,2,515,2],[514,3,515,3],[514,4,515,4],[514,5,515,5],[514,6,515,6],[514,7,515,7],[514,8,515,8],[514,9,515,9],[514,10,515,10],[514,11,515,11],[514,12,515,12],[514,13,515,13],[514,14,515,14],[373,14,374,14],[411,0,412,14],[413,0,416,14],[417,0,419,5],[417,8,419,14],[420,0,421,0],[420,1,421,1],[420,2,421,2],[420,3,421,3],[420,4,421,4],[420,5,421,5],[420,6,421,6],[420,7,421,7],[420,8,421,8],[420,9,421,9],[420,10,421,10],[420,11,421,11],[420,12,421,12],[420,13,421,13],[420,14,421,14],[373,5,374,5],[373,6,374,6],[373,7,374,7],[373,8,374,8],[373,9,374,9],[373,10,374,10],[373,11,374,11],[373,12,374,12],[373,13,374,13],[279,14,280,14],[317,0,318,14],[319,0,320,14],[323,0,325,5],[323,8,325,14],[326,0,327,0],[326,1,327,1],[326,2,327,2],[326,3,327,3],[326,4,327,4],[326,5,327,5],[326,6,327,6],[326,7,327,7],[326,8,327,8],[326,9,327,9],[326,10,327,10],[326,11,327,11],[326,12,327,12],[326,13,327,13],[326,14,327,14],[279,5,280,5],[279,6,280,6],[279,7,280,7],[279,8,280,8],[279,9,280,9],[279,10,280,10],[279,11,280,11],[279,12,280,12],[279,13,280,13],[232,9,233,9],[232,10,233,10],[232,11,233,11],[232,12,233,12],[232,13,233,13],[232,14,233,14],[270,0,271,14],[272,0,275,14],[276,0,278,5],[276,8,278,14],[232,0,233,0],[232,1,233,1],[232,2,233,2],[232,3,233,3],[232,4,233,4],[232,5,233,5],[232,6,233,6],[232,7,233,7],[232,8,233,8],[185,10,186,10],[185,11,186,11],[185,12,186,12],[185,13,186,13],[185,14,186,14],[223,0,224,14],[225,0,228,14],[229,0,231,5],[229,8,231,14],[138,10,139,10],[138,11,139,11],[138,12,139,12],[138,13,139,13],[138,14,139,14],[176,0,177,14],[178,0,181,14],[182,0,184,5],[182,8,184,14],[91,0,92,0],[91,1,92,1],[91,2,92,2],[91,3,92,3],[91,4,92,4],[91,5,92,5],[0,0,1,14],[2,0,3,14],[82,0,83,14],[84,0,85,14],[88,0,90,5],[88,8,90,14],[129,0,130,14],[131,0,134,14],[135,0,137,5],[135,8,137,14],[138,0,139,0],[138,1,139,1],[138,2,139,2],[138,3,139,3],[138,4,139,4],[138,5,139,5],[138,6,139,6],[138,7,139,7],[138,8,139,8],[138,9,139,9],[91,12,92,12],[91,13,92,13],[91,14,92,14],[91,6,92,6],[91,7,92,7],[91,8,92,8],[91,9,92,9],[91,10,92,10],[91,11,92,11],[185,0,186,0],[185,1,186,1],[185,2,186,2],[185,3,186,3],[185,4,186,4],[185,5,186,5],[185,6,186,6],[185,7,186,7],[185,8,186,8],[185,9,186,9],[279,0,280,0],[279,1,280,1],[279,2,280,2],[279,3,280,3],[279,4,280,4],[364,0,365,14],[366,0,369,14],[370,0,372,5],[370,8,372,14],[373,0,374,0],[373,1,374,1],[373,2,374,2],[373,3,374,3],[373,4,374,4],[467,0,468,0],[467,1,468,1],[467,2,468,2],[467,3,468,3],[467,4,468,4],[467,5,468,5],[458,0,459,14],[460,0,463,14],[464,0,466,5],[464,8,466,14],[467,12,468,12],[467,13,468,13],[467,14,468,14],[467,6,468,6],[467,7,468,7],[467,8,468,8],[467,9,468,9],[467,10,468,10],[467,11,468,11]]}
["SDIS 57"]
[]
["SUIVI  DU CENTRE DE SECOURS DE HAGONDANGE"]
[]
[]
[]
[]
[]
[]
[]
[]
[]
[]
[]
[]
[]
[]
[]
[]
[]
[]
[]
[]
[]
[]
[]
[]
[]
[]
[]
[]
[]
[]
[]
[]
[]
[]
[]
[]
[]
[]
[]
[]
[]
[]
[]
[]
[]
[]
[]
[]
[]
[]
[]
[]
[]
[]
[]
[]
[]
[]
[]
[]
[]
[]
[]
[]
[]
[]
[]
[]
[]
[]
[]
[]
[]
[]
[]
[]
[]
[]
[]
["SDIS 57"]
[]
["SUIVI DU CENTRE DE SECOURS DE HAGONDANGE"]
[]
[]
[]
["PERMIS",null,null,null,null,null,null,null,"PERM +3 ANS"]
[]
[]
["NOM - PRENOM","NOM","PRENOM","MATRICULE","PERM +3 ANS","NOM - PRENOM","NOM","PRENOM","MATRICULE","PERM +3 ANS","NOM - PRENOM","NOM","PRENOM","MATRICULE","PERM +3 ANS"]
[]
["AL NAKIB ARIZZI   Louis","AL NAKIB ARIZZI","Louis","0013041","ü","LESECHE   Christophe","LEMOINE","Nathan","0012816","ü","SCHMITT   Michael","SCHLITTER","Julien","0014794",0]
["BOUDJELAL   Alexandre","BOUDJELAL","Alexandre","0014707",0,"LOMBARD   Maud","LESECHE","Christophe","0000795","ü","SCHNETTLER   Louise","SCHMITT","Michael","0014794",0]
["CAPEK   Jean-Claude","CAPEK","Jean-Claude","0004796","ü","LOSSON   Patrick","LOMBARD","Maud","0000466","ü","SORIANO   Alexia","SCHNETTLER","Louise","0014703",0]
["CARLISI   Jonathan","CARLISI","Jonathan","0011105",0,"LOUIS-FERDINAND   David","LOSSON","Patrick","0014390",0,"SPERANDIO   Lucas","SORIANO","Alexia","0014835",0]
["CEZARD   Céline","CEZARD","Céline","0012601",0,"LUX   Thomas","LOUIS-FERDINAND","David","0011106","ü","SURREL   Léonie","SPERANDIO","Lucas","0002573","ü"]
["CLAUSSE   Julien","CLAUSSE","Julien","0014518","ü","MAIDA    Patrick","LUX","Thomas","",0,"TAITE   Pierre","SURREL","Léonie","",0]
["DARTHOIS   Stéphane","DARTHOIS","Stéphane","0000038","ü","MANG   Michaël","MAIDA ","Patrick","0011571","ü","THOUVENIN   Ludovic","TAITE","Pierre","0012527",0]
["DELMONTE   Maxime","DELMONTE","Maxime","","ü","MARCHAL   Julien","MANG","Michaël","0015023","ü","VAROQUIER   Nicolas","THOUVENIN","Ludovic","0012136","ü"]
["DJEMLI   Nora","DJEMLI","Nora","0008074","ü","MARCHAL   Patrick","MARCHAL","Julien","0015026","ü","VENTURINI   Lucas","VAROQUIER","Nicolas","0014453",0]
["DOUZANT   Damien","DOUZANT","Damien","0000606","ü","MARQUIS   Christophe","MARCHAL","Patrick","0010882","ü","VERCELLINO   Marjorie","VENTURINI","Lucas","0011252","ü"]
["DROITCOURT   Victorien","DROITCOURT","Victorien","0016109",0,"MAY   Romain","MARQUIS","Christophe","0011559","ü","WANDROL   Geoffrey","VERCELLINO","Marjorie","0009459","ü"]
["ESCUDIER   Adrien","ESCUDIER","Adrien","0000614","ü","MENDICINO   François","MAY","Romain","0000237","ü","WEBER   Fabrice","WANDROL","Geoffrey","0000504","ü"]
["FEISTHAUER   Stéphane","FEISTHAUER","Stéphane","0001089","ü","MEYER   Thierry","MENDICINO","François","0000238","ü","WELKER   Tanguy","WEBER","Fabrice","0014810",0]
["FUCHS   Mickael","FUCHS","Mickael","0012666","ü","MIRBACH   David","MEYER","Thierry","0011720","ü","WIZENTY   Sébastien","WELKER","Tanguy","0000000",0]
["GAUGIN   Yves","GAUGIN","Yves","0004976","ü","MOUTON   Lucie","MIRBACH","David","0009978","ü","WOJCIK   Jonathan","WIZENTY","Sébastien","0011904","ü"]
["HAUPTMANN   Julien","HAUPTMANN","Julien","0013001","ü","MULLER   Denis","MOUTON","Lucie","0000328","ü",0,"WOJCIK","Jonathan",0,0]
["HILLARD   Xavier","HILLARD","Xavier","0014372",0,"MULLER   Jeremy","MULLER","Denis","0009808","ü",0,0,0,0,0]
["HOCQUARD   Pierre","HOCQUARD","Pierre","0011908","ü","NAVARETTE   Kevin","MULLER","Jeremy","0000798","ü",0,0,0,0,0]
["HUEBER   Mickael","HUEBER","Mickael","0000722","ü","NOBILE   Alain","NAVARETTE","Kevin","0000329","ü",0,0,0,0,0]
["HUSSON   Yves","HUSSON","Yves","0014130","ü","OSTER   Axelle","NOBILE","Alain","0016166",0,0,0,0,0,0]
["JARDEL   Michael","JARDEL","Michael","0004807",0,"PARISOT   Christophe","OSTER","Axelle","0000698","ü",0,0,0,0,0]
["JOANNE   Stéphane","JOANNE","Stéphane","0011270","ü","PELE   Yannick","PARISOT","Christophe","0016329","ü",0,0,0,0,0]
["KASTENDEUCH   Fréderic","KASTENDEUCH","Fréderic","0016352",0,"PEREIRA   Sébastien","PELE","Yannick","0000650","ü","   ",0,0,"",0]
["KASTNER   Sébastien","KASTNER","Sébastien","0011906","ü","PEVILLER   Gerald","PEREIRA","Sébastien","0000518","ü","   ",0,0,0,0]
["KEHRER   Thomas","KEHRER","Thomas","0014857",0,"PIERRE   Jeffrey","PEVILLER","Gerald","0011907","ü","   ",0,0,0,0]
["KLEIN   Sophie","KLEIN","Sophie","0011905","ü","PIGEOT   Jeremy","PIERRE","Jeffrey","0010677","ü","   ",0,0,0,0]
["KOCH   Jean-François","KOCH","Jean-François","0000507","ü","PITRUZZELLA   Guillaume","PIGEOT","Jeremy","0016231",0,"   ",0,0,0,0]
["KRENC   Boris","KRENC","Boris","0014854",0,"PITTET   Jordane","PITRUZZELLA","Guillaume","0010207","ü","   ",0,0,0,0]
["LABETOWIEZ   Jean-François","LABETOWIEZ","Jean-François","0001003","ü","POIROT   Christophe","PITTET","Jordane","0012437","ü","   ",0,0,0,0]
["LAPORTE   Guillaume","LAPORTE","Guillaume","0014541","ü","POIROT   Rémi","POIROT","Christophe","0000734","ü","   ",0,0,0,0]
["LE ROUX   Yannick","LE ROUX","Yannick","0000635","ü","RIBEIRO   David","POIROT","Rémi","0014858",0,"   ",0,0,0,0]
["LEBLANC   Daniel","LEBLANC","Daniel","0011705","ü","RICHARD   Gabriel","RIBEIRO","David","0016325",0,"",0,0,0,0]
["LEDIG   Martial","LEDIG","Martial","0000327","ü","ROUSSEL   Benoît","RICHARD","Gabriel","0014425",0,"CAp",0,0,0,0]
["LEGER   Thomas","LEGER","Thomas","0011208","ü","RYCKELYNCK   Vincent","ROUSSEL","Benoît","0000506",0,"CAPE",0,0,0,0]
["LEGRIS   Fréderic","LEGRIS","Fréderic","0000537","ü","SANSO   Florian","RYCKELYNCK","Vincent","0010382","ü",{"$error":"#REF!"},0,0,{"$error":"#REF!"},{"$error":"#REF!"}]
["LEMOINE   Nathan","LEMOINE","Nathan","0014952",0,"SCHLITTER   Julien","SANSO","Florian","0000454","ü",{"$error":"#REF!"},{"$error":"#REF!"},{"$error":"#REF!"},{"$error":"#REF!"},{"$error":"#REF!"}]
["SDIS 57"]
[]
["SUIVI DU CENTRE DE SECOURS DE HAGONDANGE"]
[]
[]
[]
["PERMIS ",null,null,null,null,null,null,null,"PL"]
[]
[]
["NOM - PRENOM","NOM","PRENOM","MATRICULE","PL","NOM - PRENOM","NOM","PRENOM","MATRICULE","PL","NOM - PRENOM","NOM","PRENOM","MATRICULE","PL"]
[]
["AL NAKIB ARIZZI   Louis","AL NAKIB ARIZZI","Louis","0013041",0,"LESECHE   Christophe","LEMOINE","Nathan","0012816",0,"SCHMITT   Michael","SCHLITTER","Julien","0014794",0]
["BOUDJELAL   Alexandre","BOUDJELAL","Alexandre","0014707",0,"LOMBARD   Maud","LESECHE","Christophe","0000795","ü","SCHNETTLER   Louise","SCHMITT","Michael","0014794",0]
["CAPEK   Jean-Claude","CAPEK","Jean-Claude","0004796","ü","LOSSON   Patrick","LOMBARD","Maud","0000466","ü","SORIANO   Alexia","SCHNETTLER","Louise","0014703",0]
["CARLISI   Jonathan","CARLISI","Jonathan","0011105",0,"LOUIS-FERDINAND   David","LOSSON","Patrick","0014390",0,"SPERANDIO   Lucas","SORIANO","Alexia","0014835",0]
["CEZARD   Céline","CEZARD","Céline","0012601",0,"LUX   Thomas","LOUIS-FERDINAND","David","0011106",0,"SURREL   Léonie","SPERANDIO","Lucas","0002573","ü"]
["CLAUSSE   Julien","CLAUSSE","Julien","0014518",0,"MAIDA    Patrick","LUX","Thomas","","ü","TAITE   Pierre","SURREL","Léonie","",0]
["DARTHOIS   Stéphane","DARTHOIS","Stéphane","0000038","ü","MANG   Michaël","MAIDA ","Patrick","0011571","ü","THOUVENIN   Ludovic","TAITE","Pierre","0012527",0]
["DELMONTE   Maxime","DELMONTE","Maxime","","ü","MARCHAL   Julien","MANG","Michaël","0015023","ü","VAROQUIER   Nicolas","THOUVENIN","Ludovic","0012136",0]
["DJEMLI   Nora","DJEMLI","Nora","0008074",0,"MARCHAL   Patrick","MARCHAL","Julien","0015026","ü","VENTURINI   Lucas","VAROQUIER","Nicolas","0014453",0]
["DOUZANT   Damien","DOUZANT","Damien","0000606","ü","MARQUIS   Christophe","MARCHAL","Patrick","0010882",0,"VERCELLINO   Marjorie","VENTURINI","Lucas","0011252",0]
["DROITCOURT   Victorien","DROITCOURT","Victorien","0016109",0,"MAY   Romain","MARQUIS","Christophe","0011559","ü","WANDROL   Geoffrey","VERCELLINO","Marjorie","0009459","ü"]
["ESCUDIER   Adrien","ESCUDIER","Adrien","0000614","ü","MENDICINO   François","MAY","Romain","0000237","ü","WEBER   Fabrice","WANDROL","Geoffrey","0000504","ü"]
["FEISTHAUER   Stéphane","FEISTHAUER","Stéphane","0001089","ü","MEYER   Thierry","MENDICINO","François","0000238","ü","WELKER   Tanguy","WEBER","Fabrice","0014810",0]
["FUCHS   Mickael","FUCHS","Mickael","0012666",0,"MIRBACH   David","MEYER","Thierry","0011720","ü","WIZENTY   Sébastien","WELKER","Tanguy","0000000",0]
["GAUGIN   Yves","GAUGIN","Yves","0004976","ü","MOUTON   Lucie","MIRBACH","David","0009978",0,"WOJCIK   Jonathan","WIZENTY","Sébastien","0011904","ü"]
["HAUPTMANN   Julien","HAUPTMANN","Julien","0013001",0,"MULLER   Denis","MOUTON","Lucie","0000328","ü",0,"WOJCIK","Jonathan",0,0]
["HILLARD   Xavier","HILLARD","Xavier","0014372",0,"MULLER   Jeremy","MULLER","Denis","0009808",0,0,0,0,0,0]
["HOCQUARD   Pierre","HOCQUARD","Pierre","0011908",0,"NAVARETTE   Kevin","MULLER","Jeremy","0000798","ü",0,0,0,0,0]
["HUEBER   Mickael","HUEBER","Mickael","0000722","ü","NOBILE   Alain","NAVARETTE","Kevin","0000329","ü",0,0,0,0,0]
["HUSSON   Yves","HUSSON","Yves","0014130","ü","OSTER   Axelle","NOBILE","Alain","0016166",0,0,0,0,0,0]
["JARDEL   Michael","JARDEL","Michael","0004807",0,"PARISOT   Christophe","OSTER","Axelle","0000698","ü",0,0,0,0,0]
["JOANNE   Stéphane","JOANNE","Stéphane","0011270",0,"PELE   Yannick","PARISOT","Christophe","0016329","ü",0,0,0,0,0]
["KASTENDEUCH   Fréderic","KASTENDEUCH","Fréderic","0016352",0,"PEREIRA   Sébastien","PELE","Yannick","0000650","ü","   ",0,0,"",0]
["KASTNER   Sébastien","KASTNER","Sébastien","0011906",0,"PEVILLER   Gerald","PEREIRA","Sébastien","0000518","ü","   ",0,0,0,0]
["KEHRER   Thomas","KEHRER","Thomas","0014857",0,"PIERRE   Jeffrey","PEVILLER","Gerald","0011907","ü","   ",0,0,0,0]
["KLEIN   Sophie","KLEIN","Sophie","0011905",0,"PIGEOT   Jeremy","PIERRE","Jeffrey","0010677",0,"   ",0,0,0,0]
["KOCH   Jean-François","KOCH","Jean-François","0000507","ü","PITRUZZELLA   Guillaume","PIGEOT","Jeremy","0016231",0,"   ",0,0,0,0]
["KRENC   Boris","KRENC","Boris","0014854",0,"PITTET   Jordane","PITRUZZELLA","Guillaume","0010207","ü","   ",0,0,0,0]
["LABETOWIEZ   Jean-François","LABETOWIEZ","Jean-François","0001003","ü","POIROT   Christophe","PITTET","Jordane","0012437","ü","   ",0,0,0,0]
["LAPORTE   Guillaume","LAPORTE","Guillaume","0014541",0,"POIROT   Rémi","POIROT","Christophe","0000734","ü","   ",0,0,0,0]
["LE ROUX   Yannick","LE ROUX","Yannick","0000635","ü","RIBEIRO   David","POIROT","Rémi","0014858",0,"   ",0,0,0,0]
["LEBLANC   Daniel","LEBLANC","Daniel","0011705","ü","RICHARD   Gabriel","RIBEIRO","David","0016325",0,"",0,0,0,0]
["LEDIG   Martial","LEDIG","Martial","0000327","ü","ROUSSEL   Benoît","RICHARD","Gabriel","0014425",0,"CAp",0,0,0,0]
["LEGER   Thomas","LEGER","Thomas","0011208",0,"RYCKELYNCK   Vincent","ROUSSEL","Benoît","0000506",0,"CAPE",0,0,0,0]
["LEGRIS   Fréderic","LEGRIS","Fréderic","0000537","ü","SANSO   Florian","RYCKELYNCK","Vincent","0010382",0,{"$error":"#REF!"},0,0,{"$error":"#REF!"},{"$error":"#REF!"}]
["LEMOINE   Nathan","LEMOINE","Nathan","0014952",0,"SCHLITTER   Julien","SANSO","Florian","0000454","ü",{"$error":"#REF!"},{"$error":"#REF!"},{"$error":"#REF!"},{"$error":"#REF!"},{"$error":"#REF!"}]
["SDIS 57"]
[]
["SUIVI DU CENTRE DE SECOURS DE HAGONDANGE"]
[]
[]
[]
["PERMIS ",null,null,null,null,null,null,null,"COD 2"]
[]
[]
["NOM - PRENOM","NOM","PRENOM","MATRICULE","COD 2","NOM - PRENOM","NOM","PRENOM","MATRICULE","COD 2","NOM - PRENOM","NOM","PRENOM","MATRICULE","COD 2"]
[]
["AL NAKIB ARIZZI   Louis","AL NAKIB ARIZZI","Louis","0013041",0,"LESECHE   Christophe","LEMOINE","Nathan","0012816",0,"SCHMITT   Michael","SCHLITTER","Julien","0014794",0]
["BOUDJELAL   Alexandre","BOUDJELAL","Alexandre","0014707",0,"LOMBARD   Maud","LESECHE","Christophe","0000795",0,"SCHNETTLER   Louise","SCHMITT","Michael","0014794",0]
["CAPEK   Jean-Claude","CAPEK","Jean-Claude","0004796",0,"LOSSON   Patrick","LOMBARD","Maud","0000466",0,"SORIANO   Alexia","SCHNETTLER","Louise","0014703",0]
["CARLISI   Jonathan","CARLISI","Jonathan","0011105",0,"LOUIS-FERDINAND   David","LOSSON","Patrick","0014390",0,"SPERANDIO   Lucas","SORIANO","Alexia","0014835",0]
["CEZARD   Céline","CEZARD","Céline","0012601",0,"LUX   Thomas","LOUIS-FERDINAND","David","0011106",0,"SURREL   Léonie","SPERANDIO","Lucas","0002573","ü"]
["CLAUSSE   Julien","CLAUSSE","Julien","0014518",0,"MAIDA    Patrick","LUX","Thomas","",0,"TAITE   Pierre","SURREL","Léonie","",0]
["DARTHOIS   Stéphane","DARTHOIS","Stéphane","0000038","ü","MANG   Michaël","MAIDA ","Patrick","0011571",0,"THOUVENIN   Ludovic","TAITE","Pierre","0012527",0]
["DELMONTE   Maxime","DELMONTE","Maxime","",0,"MARCHAL   Julien","MANG","Michaël","0015023","ü","VAROQUIER   Nicolas","THOUVENIN","Ludovic","0012136",0]
["DJEMLI   Nora","DJEMLI","Nora","0008074",0,"MARCHAL   Patrick","MARCHAL","Julien","0015026","ü","VENTURINI   Lucas","VAROQUIER","Nicolas","0014453",0]
["DOUZANT   Damien","DOUZANT","Damien","0000606","ü","MARQUIS   Christophe","MARCHAL","Patrick","0010882",0,"VERCELLINO   Marjorie","VENTURINI","Lucas","0011252",0]
["DROITCOURT   Victorien","DROITCOURT","Victorien","0016109",0,"MAY   Romain","MARQUIS","Christophe","0011559",0,"WANDROL   Geoffrey","VERCELLINO","Marjorie","0009459",0]
["ESCUDIER   Adrien","ESCUDIER","Adrien","0000614","ü","MENDICINO   François","MAY","Romain","0000237",0,"WEBER   Fabrice","WANDROL","Geoffrey","0000504","ü"]
["FEISTHAUER   Stéphane","FEISTHAUER","Stéphane","0001089",0,"MEYER   Thierry","MENDICINO","François","0000238","ü","WELKER   Tanguy","WEBER","Fabrice","0014810",0]
["FUCHS   Mickael","FUCHS","Mickael","0012666",0,"MIRBACH   David","MEYER","Thierry","0011720",0,"WIZENTY   Sébastien","WELKER","Tanguy","0000000",0]
["GAUGIN   Yves","GAUGIN","Yves","0004976",0,"MOUTON   Lucie","MIRBACH","David","0009978",0,"WOJCIK   Jonathan","WIZENTY","Sébastien","0011904",0]
["HAUPTMANN   Julien","HAUPTMANN","Julien","0013001",0,"MULLER   Denis","MOUTON","Lucie","0000328","ü",0,"WOJCIK","Jonathan",0,0]
["HILLARD   Xavier","HILLARD","Xavier","0014372",0,"MULLER   Jeremy","MULLER","Denis","0009808",0,0,0,0,0,0]
["HOCQUARD   Pierre","HOCQUARD","Pierre","0011908",0,"NAVARETTE   Kevin","MULLER","Jeremy","0000798",0,0,0,0,0,0]
["HUEBER   Mickael","HUEBER","Mickael","0000722",0,"NOBILE   Alain","NAVARETTE","Kevin","0000329",0,0,0,0,0,0]
["HUSSON   Yves","HUSSON","Yves","0014130","ü","OSTER   Axelle","NOBILE","Alain","0016166",0,0,0,0,0,0]
["JARDEL   Michael","JARDEL","Michael","0004807",0,"PARISOT   Christophe","OSTER","Axelle","0000698",0,0,0,0,0,0]
["JOANNE   Stéphane","JOANNE","Stéphane","0011270",0,"PELE   Yannick","PARISOT","Christophe","0016329",0,0,0,0,0,0]
["KASTENDEUCH   Fréderic","KASTENDEUCH","Fréderic","0016352",0,"PEREIRA   Sébastien","PELE","Yannick","0000650","ü","   ",0,0,"",0]
["KASTNER   Sébastien","KASTNER","Sébastien","0011906",0,"PEVILLER   Gerald","PEREIRA","Sébastien","0000518","ü","   ",0,0,0,0]
["KEHRER   Thomas","KEHRER","Thomas","0014857",0,"PIERRE   Jeffrey","PEVILLER","Gerald","0011907",0,"   ",0,0,0,0]
["KLEIN   Sophie","KLEIN","Sophie","0011905",0,"PIGEOT   Jeremy","PIERRE","Jeffrey","0010677",0,"   ",0,0,0,0]
["KOCH   Jean-François","KOCH","Jean-François","0000507","ü","PITRUZZELLA   Guillaume","PIGEOT","Jeremy","0016231",0,"   ",0,0,0,0]
["KRENC   Boris","KRENC","Boris","0014854",0,"PITTET   Jordane","PITRUZZELLA","Guillaume","0010207",0,"   ",0,0,0,0]
["LABETOWIEZ   Jean-François","LABETOWIEZ","Jean-François","0001003",0,"POIROT   Christophe","PITTET","Jordane","0012437",0,"   ",0,0,0,0]
["LAPORTE   Guillaume","LAPORTE","Guillaume","0014541",0,"POIROT   Rémi","POIROT","Christophe","0000734","ü","   ",0,0,0,0]
["LE ROUX   Yannick","LE ROUX","Yannick","0000635","ü","RIBEIRO   David","POIROT","Rémi","0014858",0,"   ",0,0,0,0]
["LEBLANC   Daniel","LEBLANC","Daniel","0011705",0,"RICHARD   Gabriel","RIBEIRO","David","0016325",0,"",0,0,0,0]
["LEDIG   Martial","LEDIG","Martial","0000327","ü","ROUSSEL   Benoît","RICHARD","Gabriel","0014425",0,"CAp",0,0,0,0]
["LEGER   Thomas","LEGER","Thomas","0011208",0,"RYCKELYNCK   Vincent","ROUSSEL","Benoît","0000506",0,"CAPE",0,0,0,0]
["LEGRIS   Fréderic","LEGRIS","Fréderic","0000537",0,"SANSO   Florian","RYCKELYNCK","Vincent","0010382",0,{"$error":"#REF!"},0,0,{"$error":"#REF!"},{"$error":"#REF!"}]
["LEMOINE   Nathan","LEMOINE","Nathan","0014952",0,"SCHLITTER   Julien","SANSO","Florian","0000454","ü",{"$error":"#REF!"},{"$error":"#REF!"},{"$error":"#REF!"},{"$error":"#REF!"},{"$error":"#REF!"}]
["SDIS 57"]
[]
["SUIVI DU CENTRE DE SECOURS DE HAGONDANGE"]
[]
[]
[]
["PERMIS",null,null,null,null,null,null,null,"CACES"]
[]
[]
["NOM - PRENOM","NOM","PRENOM","MATRICULE","CACES","NOM - PRENOM","NOM","PRENOM","MATRICULE","CACES","NOM - PRENOM","NOM","PRENOM","MATRICULE","CACES"]
[]
["AL NAKIB ARIZZI   Louis","AL NAKIB ARIZZI","Louis","0013041",0,"LESECHE   Christophe","LEMOINE","Nathan","0012816",0,"SCHMITT   Michael","SCHLITTER","Julien","0014794",0]
["BOUDJELAL   Alexandre","BOUDJELAL","Alexandre","0014707",0,"LOMBARD   Maud","LESECHE","Christophe","0000795","ü","SCHNETTLER   Louise","SCHMITT","Michael","0014794",0]
["CAPEK   Jean-Claude","CAPEK","Jean-Claude","0004796",0,"LOSSON   Patrick","LOMBARD","Maud","0000466","ü","SORIANO   Alexia","SCHNETTLER","Louise","0014703",0]
["CARLISI   Jonathan","CARLISI","Jonathan","0011105",0,"LOUIS-FERDINAND   David","LOSSON","Patrick","0014390",0,"SPERANDIO   Lucas","SORIANO","Alexia","0014835",0]
["CEZARD   Céline","CEZARD","Céline","0012601",0,"LUX   Thomas","LOUIS-FERDINAND","David","0011106",0,"SURREL   Léonie","SPERANDIO","Lucas","0002573",0]
["CLAUSSE   Julien","CLAUSSE","Julien","0014518",0,"MAIDA    Patrick","LUX","Thomas","",0,"TAITE   Pierre","SURREL","Léonie","",0]
["DARTHOIS   Stéphane","DARTHOIS","Stéphane","0000038","ü","MANG   Michaël","MAIDA ","Patrick","0011571","ü","THOUVENIN   Ludovic","TAITE","Pierre","0012527",0]
["DELMONTE   Maxime","DELMONTE","Maxime","",0,"MARCHAL   Julien","MANG","Michaël","0015023","ü","VAROQUIER   Nicolas","THOUVENIN","Ludovic","0012136",0]
["DJEMLI   Nora","DJEMLI","Nora","0008074",0,"MARCHAL   Patrick","MARCHAL","Julien","0015026","ü","VENTURINI   Lucas","VAROQUIER","Nicolas","0014453",0]
["DOUZANT   Damien","DOUZANT","Damien","0000606","ü","MARQUIS   Christophe","MARCHAL","Patrick","0010882",0,"VERCELLINO   Marjorie","VENTURINI","Lucas","0011252",0]
["DROITCOURT   Victorien","DROITCOURT","Victorien","0016109",0,"MAY   Romain","MARQUIS","Christophe","0011559",0,"WANDROL   Geoffrey","VERCELLINO","Marjorie","0009459",0]
["ESCUDIER   Adrien","ESCUDIER","Adrien","0000614","ü","MENDICINO   François","MAY","Romain","0000237",0,"WEBER   Fabrice","WANDROL","Geoffrey","0000504","ü"]
["FEISTHAUER   Stéphane","FEISTHAUER","Stéphane","0001089","ü","MEYER   Thierry","MENDICINO","François","0000238","ü","WELKER   Tanguy","WEBER","Fabrice","0014810",0]
["FUCHS   Mickael","FUCHS","Mickael","0012666",0,"MIRBACH   David","MEYER","Thierry","0011720",0,"WIZENTY   Sébastien","WELKER","Tanguy","0000000",0]
["GAUGIN   Yves","GAUGIN","Yves","0004976",0,"MOUTON   Lucie","MIRBACH","David","0009978",0,"WOJCIK   Jonathan","WIZENTY","Sébastien","0011904",0]
["HAUPTMANN   Julien","HAUPTMANN","Julien","0013001",0,"MULLER   Denis","MOUTON","Lucie","0000328","ü",0,"WOJCIK","Jonathan",0,0]
["HILLARD   Xavier","HILLARD","Xavier","0014372",0,"MULLER   Jeremy","MULLER","Denis","0009808",0,0,0,0,0,0]
["HOCQUARD   Pierre","HOCQUARD","Pierre","0011908",0,"NAVARETTE   Kevin","MULLER","Jeremy","0000798","ü",0,0,0,0,0]
["HUEBER   Mickael","HUEBER","Mickael","0000722","ü","NOBILE   Alain","NAVARETTE","Kevin","0000329","ü",0,0,0,0,0]
["HUSSON   Yves","HUSSON","Yves","0014130","ü","OSTER   Axelle","NOBILE","Alain","0016166",0,0,0,0,0,0]
["JARDEL   Michael","JARDEL","Michael","0004807",0,"PARISOT   Christophe","OSTER","Axelle","0000698","ü",0,0,0,0,0]
["JOANNE   Stéphane","JOANNE","Stéphane","0011270",0,"PELE   Yannick","PARISOT","Christophe","0016329",0,0,0,0,0,0]
["KASTENDEUCH   Fréderic","KASTENDEUCH","Fréderic","0016352",0,"PEREIRA   Sébastien","PELE","Yannick","0000650","ü","   ",0,0,"",0]
["KASTNER   Sébastien","KASTNER","Sébastien","0011906",0,"PEVILLER   Gerald","PEREIRA","Sébastien","0000518","ü","   ",0,0,0,0]
["KEHRER   Thomas","KEHRER","Thomas","0014857",0,"PIERRE   Jeffrey","PEVILLER","Gerald","0011907",0,"   ",0,0,0,0]
["KLEIN   Sophie","KLEIN","Sophie","0011905",0,"PIGEOT   Jeremy","PIERRE","Jeffrey","0010677",0,"   ",0,0,0,0]
["KOCH   Jean-François","KOCH","Jean-François","0000507","ü","PITRUZZELLA   Guillaume","PIGEOT","Jeremy","0016231",0,"   ",0,0,0,0]
["KRENC   Boris","KRENC","Boris","0014854",0,"PITTET   Jordane","PITRUZZELLA","Guillaume","0010207","ü","   ",0,0,0,0]
["LABETOWIEZ   Jean-François","LABETOWIEZ","Jean-François","0001003","ü","POIROT   Christophe","PITTET","Jordane","0012437",0,"   ",0,0,0,0]
["LAPORTE   Guillaume","LAPORTE","Guillaume","0014541",0,"POIROT   Rémi","POIROT","Christophe","0000734","ü","   ",0,0,0,0]
["LE ROUX   Yannick","LE ROUX","Yannick","0000635","ü","RIBEIRO   David","POIROT","Rémi","0014858",0,"   ",0,0,0,0]
["LEBLANC   Daniel","LEBLANC","Daniel","0011705",0,"RICHARD   Gabriel","RIBEIRO","David","0016325",0,"",0,0,0,0]
["LEDIG   Martial","LEDIG","Martial","0000327","ü","ROUSSEL   Benoît","RICHARD","Gabriel","0014425",0,"CAp",0,0,0,0]
["LEGER   Thomas","LEGER","Thomas","0011208",0,"RYCKELYNCK   Vincent","ROUSSEL","Benoît","0000506",0,"CAPE",0,0,0,0]
["LEGRIS   Fréderic","LEGRIS","Fréderic","0000537",0,"SANSO   Florian","RYCKELYNCK","Vincent","0010382",0,{"$error":"#REF!"},0,0,{"$error":"#REF!"},{"$error":"#REF!"}]
["LEMOINE   Nathan","LEMOINE","Nathan","0014952",0,"SCHLITTER   Julien","SANSO","Florian","0000454","ü",{"$error":"#REF!"},{"$error":"#REF!"},{"$error":"#REF!"},{"$error":"#REF!"},{"$error":"#REF!"}]
["SDIS 57"]
[]
["SUIVI DU CENTRE DE SECOURS DE HAGONDANGE"]
[]
[]
[]
["PERMIS",null,null,null,null,null,null,null,"PERIV"]
[]
[]
["NOM - PRENOM","NOM","PRENOM","MATRICULE","PERIV","NOM - PRENOM","NOM","PRENOM","MATRICULE","PERIV","NOM - PRENOM","NOM","PRENOM","MATRICULE","PERIV"]
[]
["AL NAKIB ARIZZI   Louis","AL NAKIB ARIZZI","Louis","0013041",0,"LESECHE   Christophe","LEMOINE","Nathan","0012816",0,"SCHMITT   Michael","SCHLITTER","Julien","0014794",0]
["BOUDJELAL   Alexandre","BOUDJELAL","Alexandre","0014707",0,"LOMBARD   Maud","LESECHE","Christophe","0000795",0,"SCHNETTLER   Louise","SCHMITT","Michael","0014794",0]
["CAPEK   Jean-Claude","CAPEK","Jean-Claude","0004796",0,"LOSSON   Patrick","LOMBARD","Maud","0000466","ü","SORIANO   Alexia","SCHNETTLER","Louise","0014703",0]
["CARLISI   Jonathan","CARLISI","Jonathan","0011105",0,"LOUIS-FERDINAND   David","LOSSON","Patrick","0014390",0,"SPERANDIO   Lucas","SORIANO","Alexia","0014835",0]
["CEZARD   Céline","CEZARD","Céline","0012601",0,"LUX   Thomas","LOUIS-FERDINAND","David","0011106",0,"SURREL   Léonie","SPERANDIO","Lucas","0002573",0]
["CLAUSSE   Julien","CLAUSSE","Julien","0014518",0,"MAIDA    Patrick","LUX","Thomas","",0,"TAITE   Pierre","SURREL","Léonie","",0]
["DARTHOIS   Stéphane","DARTHOIS","Stéphane","0000038",0,"MANG   Michaël","MAIDA ","Patrick","0011571","ü","THOUVENIN   Ludovic","TAITE","Pierre","0012527",0]
["DELMONTE   Maxime","DELMONTE","Maxime","",0,"MARCHAL   Julien","MANG","Michaël","0015023",0,"VAROQUIER   Nicolas","THOUVENIN","Ludovic","0012136",0]
["DJEMLI   Nora","DJEMLI","Nora","0008074",0,"MARCHAL   Patrick","MARCHAL","Julien","0015026",0,"VENTURINI   Lucas","VAROQUIER","Nicolas","0014453",0]
["DOUZANT   Damien","DOUZANT","Damien","0000606",0,"MARQUIS   Christophe","MARCHAL","Patrick","0010882",0,"VERCELLINO   Marjorie","VENTURINI","Lucas","0011252",0]
["DROITCOURT   Victorien","DROITCOURT","Victorien","0016109",0,"MAY   Romain","MARQUIS","Christophe","0011559",0,"WANDROL   Geoffrey","VERCELLINO","Marjorie","0009459",0]
["ESCUDIER   Adrien","ESCUDIER","Adrien","0000614","ü","MENDICINO   François","MAY","Romain","0000237",0,"WEBER   Fabrice","WANDROL","Geoffrey","0000504",0]
["FEISTHAUER   Stéphane","FEISTHAUER","Stéphane","0001089",0,"MEYER   Thierry","MENDICINO","François","0000238","ü","WELKER   Tanguy","WEBER","Fabrice","0014810",0]
["FUCHS   Mickael","FUCHS","Mickael","0012666",0,"MIRBACH   David","MEYER","Thierry","0011720",0,"WIZENTY   Sébastien","WELKER","Tanguy","0000000",0]
["GAUGIN   Yves","GAUGIN","Yves","0004976","ü","MOUTON   Lucie","MIRBACH","David","0009978",0,"WOJCIK   Jonathan","WIZENTY","Sébastien","0011904",0]
["HAUPTMANN   Julien","HAUPTMANN","Julien","0013001",0,"MULLER   Denis","MOUTON","Lucie","0000328","ü",0,"WOJCIK","Jonathan",0,0]
["HILLARD   Xavier","HILLARD","Xavier","0014372",0,"MULLER   Jeremy","MULLER","Denis","0009808",0,0,0,0,0,0]
["HOCQUARD   Pierre","HOCQUARD","Pierre","0011908",0,"NAVARETTE   Kevin","MULLER","Jeremy","0000798","ü",0,0,0,0,0]
["HUEBER   Mickael","HUEBER","Mickael","0000722",0,"NOBILE   Alain","NAVARETTE","Kevin","0000329","ü",0,0,0,0,0]
["HUSSON   Yves","HUSSON","Yves","0014130","ü","OSTER   Axelle","NOBILE","Alain","0016166",0,0,0,0,0,0]
["JARDEL   Michael","JARDEL","Michael","0004807",0,"PARISOT   Christophe","OSTER","Axelle","0000698",0,0,0,0,0,0]
["JOANNE   Stéphane","JOANNE","Stéphane","0011270",0,"PELE   Yannick","PARISOT","Christophe","0016329",0,0,0,0,0,0]
["KASTENDEUCH   Fréderic","KASTENDEUCH","Fréderic","0016352",0,"PEREIRA   Sébastien","PELE","Yannick","0000650","ü","   ",0,0,"",0]
["KASTNER   Sébastien","KASTNER","Sébastien","0011906",0,"PEVILLER   Gerald","PEREIRA","Sébastien","0000518","ü","   ",0,0,0,0]
["KEHRER   Thomas","KEHRER","Thomas","0014857",0,"PIERRE   Jeffrey","PEVILLER","Gerald","0011907",0,"   ",0,0,0,0]
["KLEIN   Sophie","KLEIN","Sophie","0011905",0,"PIGEOT   Jeremy","PIERRE","Jeffrey","0010677",0,"   ",0,0,0,0]
["KOCH   Jean-François","KOCH","Jean-François","0000507","ü","PITRUZZELLA   Guillaume","PIGEOT","Jeremy","0016231",0,"   ",0,0,0,0]
["KRENC   Boris","KRENC","Boris","0014854",0,"PITTET   Jordane","PITRUZZELLA","Guillaume","0010207",0,"   ",0,0,0,0]
["LABETOWIEZ   Jean-François","LABETOWIEZ","Jean-François","0001003",0,"POIROT   Christophe","PITTET","Jordane","0012437",0,"   ",0,0,0,0]
["LAPORTE   Guillaume","LAPORTE","Guillaume","0014541",0,"POIROT   Rémi","POIROT","Christophe","0000734","ü","   ",0,0,0,0]
["LE ROUX   Yannick","LE ROUX","Yannick","0000635","ü","RIBEIRO   David","POIROT","Rémi","0014858",0,"   ",0,0,0,0]
["LEBLANC   Daniel","LEBLANC","Daniel","0011705",0,"RICHARD   Gabriel","RIBEIRO","David","0016325",0,"",0,0,0,0]
["LEDIG   Martial","LEDIG","Martial","0000327","ü","ROUSSEL   Benoît","RICHARD","Gabriel","0014425",0,"CAp",0,0,0,0]
["LEGER   Thomas","LEGER","Thomas","0011208",0,"RYCKELYNCK   Vincent","ROUSSEL","Benoît","0000506",0,"CAPE",0,0,0,0]
["LEGRIS   Fréderic","LEGRIS","Fréderic","0000537",0,"SANSO   Florian","RYCKELYNCK","Vincent","0010382",0,{"$error":"#REF!"},0,0,{"$error":"#REF!"},{"$error":"#REF!"}]
["LEMOINE   Nathan","LEMOINE","Nathan","0014952",0,"SCHLITTER   Julien","SANSO","Florian","0000454",0,{"$error":"#REF!"},{"$error":"#REF!"},{"$error":"#REF!"},{"$error":"#REF!"},{"$error":"#REF!"}]
["SDIS 57"]
[]
["SUIVI LUTIN DU CENTRE DE SECOURS DE HAGONDANGE"]
[]
[]
[]
["PERMIS",null,null,null,null,null,null,null,"PRV"]
[]
[]
["NOM - PRENOM","NOM","PRENOM","MATRICULE","PRV","NOM - PRENOM","NOM","PRENOM","MATRICULE","PRV","NOM - PRENOM","NOM","PRENOM","MATRICULE","PRV"]
[]
["AL NAKIB ARIZZI   Louis","AL NAKIB ARIZZI","Louis","0013041",0,"LEMOINE   Nathan","LEMOINE","Nathan","0014952",0,"SCHLITTER   Julien","SCHLITTER","Julien","0000454",0]
["BOUDJELAL   Alexandre","BOUDJELAL","Alexandre","0014707",0,"LESECHE   Christophe","LESECHE","Christophe","0012816",0,"SCHMITT   Michael","SCHMITT","Michael","0014794",0]
["CAPEK   Jean-Claude","CAPEK","Jean-Claude","0004796",0,"LOMBARD   Maud","LOMBARD","Maud","0000795",0,"SCHNETTLER   Louise","SCHNETTLER","Louise","0014794",0]
["CARLISI   Jonathan","CARLISI","Jonathan","0011105",0,"LOSSON   Patrick","LOSSON","Patrick","0000466",0,"SORIANO   Alexia","SORIANO","Alexia","0014703",0]
[{"$error":"#REF!"},{"$error":"#REF!"},{"$error":"#REF!"},{"$error":"#REF!"},{"$error":"#REF!"},"LOUIS-FERDINAND   David","LOUIS-FERDINAND","David","0014390",0,"SPERANDIO   Lucas","SPERANDIO","Lucas","0014835",0]
["CEZARD   Céline","CEZARD","Céline","0012601",0,"LUX   Thomas","LUX","Thomas","0011106",0,"SURREL   Léonie","SURREL","Léonie","0002573",0]
["CLAUSSE   Julien","CLAUSSE","Julien","0014518",0,"MAIDA    Patrick","MAIDA ","Patrick","",0,"TAITE   Pierre","TAITE","Pierre","",0]
["DARTHOIS   Stéphane","DARTHOIS","Stéphane","0000038",0,"MANG   Michaël","MANG","Michaël","0011571",0,"THOUVENIN   Ludovic","THOUVENIN","Ludovic","0012527",0]
["DELMONTE   Maxime","DELMONTE","Maxime","",0,"MARCHAL   Julien","MARCHAL","Julien","0015023",0,"VAROQUIER   Nicolas","VAROQUIER","Nicolas","0012136",0]
["DJEMLI   Nora","DJEMLI","Nora","0008074",0,"MARCHAL   Patrick","MARCHAL","Patrick","0015026",0,"VENTURINI   Lucas","VENTURINI","Lucas","0014453",0]
["DOUZANT   Damien","DOUZANT","Damien","0000606",0,"MARQUIS   Christophe","MARQUIS","Christophe","0010882",0,"VERCELLINO   Marjorie","VERCELLINO","Marjorie","0011252",0]
["DROITCOURT   Victorien","DROITCOURT","Victorien","0016109",0,"MAY   Romain","MAY","Romain","0011559",0,"WANDROL   Geoffrey","WANDROL","Geoffrey","0009459",0]
["ESCUDIER   Adrien","ESCUDIER","Adrien","0000614",0,"MENDICINO   François","MENDICINO","François","0000237",0,"WEBER   Fabrice","WEBER","Fabrice","0000504",0]
["FEISTHAUER   Stéphane","FEISTHAUER","Stéphane","0001089",0,"MEYER   Thierry","MEYER","Thierry","0000238",0,"WELKER   Tanguy","WELKER","Tanguy","0014810",0]
["FUCHS   Mickael","FUCHS","Mickael","0012666",0,"MIRBACH   David","MIRBACH","David","0011720",0,"WIZENTY   Sébastien","WIZENTY","Sébastien","0000000",0]
["GAUGIN   Yves","GAUGIN","Yves","0004976",0,"MOUTON   Lucie","MOUTON","Lucie","0009978",0,"WOJCIK   Jonathan","WOJCIK","Jonathan","0011904",0]
["HAUPTMANN   Julien","HAUPTMANN","Julien","0013001",0,"MULLER   Denis","MULLER","Denis","0000328",0,0,0,0,0,0]
["HILLARD   Xavier","HILLARD","Xavier","0014372",0,"MULLER   Jeremy","MULLER","Jeremy","0009808",0,0,0,0,0,0]
["HOCQUARD   Pierre","HOCQUARD","Pierre","0011908",0,"NAVARETTE   Kevin","NAVARETTE","Kevin","0000798",0,0,0,0,0,0]
["HUEBER   Mickael","HUEBER","Mickael","0000722",0,"NOBILE   Alain","NOBILE","Alain","0000329",0,0,0,0,0,0]
["HUSSON   Yves","HUSSON","Yves","0014130",0,"OSTER   Axelle","OSTER","Axelle","0016166",0,0,0,0,0,0]
["JARDEL   Michael","JARDEL","Michael","0004807",0,"PARISOT   Christophe","PARISOT","Christophe","0000698",0,0,0,0,0,0]
["JOANNE   Stéphane","JOANNE","Stéphane","0011270",0,"PELE   Yannick","PELE","Yannick","0016329",0,0,0,0,0,0]
["KASTENDEUCH   Fréderic","KASTENDEUCH","Fréderic","0016352",0,"PEREIRA   Sébastien","PEREIRA","Sébastien","0000650",0,"   ",0,0,"",0]
["KASTNER   Sébastien","KASTNER","Sébastien","0011906",0,"PEVILLER   Gerald","PEVILLER","Gerald","0000518",0,"   ",0,0,0,0]
["KEHRER   Thomas","KEHRER","Thomas","0014857",0,"PIERRE   Jeffrey","PIERRE","Jeffrey","0011907",0,"   ",0,0,0,0]
["KLEIN   Sophie","KLEIN","Sophie","0011905",0,"PIGEOT   Jeremy","PIGEOT","Jeremy","0010677",0,"   ",0,0,0,0]
["KOCH   Jean-François","KOCH","Jean-François","0000507",0,"PITRUZZELLA   Guillaume","PITRUZZELLA","Guillaume","0016231",0,"   ",0,0,0,0]
["KRENC   Boris","KRENC","Boris","0014854",0,"PITTET   Jordane","PITTET","Jordane","0010207",0,"   ",0,0,0,0]
["LABETOWIEZ   Jean-François","LABETOWIEZ","Jean-François","0001003",0,"POIROT   Christophe","POIROT","Christophe","0012437",0,"   ",0,0,0,0]
["LAPORTE   Guillaume","LAPORTE","Guillaume","0014541",0,"POIROT   Rémi","POIROT","Rémi","0000734",0,"   ",0,0,0,0]
["LE ROUX   Yannick","LE ROUX","Yannick","0000635",0,"RIBEIRO   David","RIBEIRO","David","0014858",0,"   ",0,0,0,0]
["LEBLANC   Daniel","LEBLANC","Daniel","0011705",0,"RICHARD   Gabriel","RICHARD","Gabriel","0016325",0,"",0,0,0,0]
["LEDIG   Martial","LEDIG","Martial","0000327",0,"ROUSSEL   Benoît","ROUSSEL","Benoît","0014425",0,"CAp",0,0,0,0]
["LEGER   Thomas","LEGER","Thomas","0011208",0,"RYCKELYNCK   Vincent","RYCKELYNCK","Vincent","0000506",0,"CAPE",0,0,0,0]
["LEGRIS   Fréderic","LEGRIS","Fréderic","0000537",0,"SANSO   Florian","SANSO","Florian","0010382",0,{"$error":"#REF!"},{"$error":"#REF!"},{"$error":"#REF!"},{"$error":"#REF!"},{"$error":"#REF!"}]
["SDIS 57"]
[]
["SUIVI DU CENTRE DE SECOURS DE HAGONDANGE"]
[]
[]
[]
["FORMATIONS",null,null,null,null,null,null,null,"4ème"]
[]
[]
["NOM - PRENOM","NOM","PRENOM","MATRICULE","4ème","NOM - PRENOM","NOM","PRENOM","MATRICULE","4ème","NOM - PRENOM","NOM","PRENOM","MATRICULE","4ème"]
[]
["AL NAKIB ARIZZI   Louis",{"$error":"#REF!"},{"$error":"#REF!"},"0013041",0,"LESECHE   Christophe",null,null,"0012816",0,"SCHMITT   Michael",null,null,"0014794",0]
["BOUDJELAL   Alexandre",{"$error":"#REF!"},{"$error":"#REF!"},"0014707","ü","LOMBARD   Maud",null,null,"0000795",0,"SCHNETTLER   Louise",null,null,"0014794","ü"]
["CAPEK   Jean-Claude",{"$error":"#REF!"},{"$error":"#REF!"},"0004796","ü","LOSSON   Patrick",null,null,"0000466",0,"SORIANO   Alexia",null,null,"0014703",0]
["CARLISI   Jonathan",{"$error":"#REF!"},{"$error":"#REF!"},"0011105","ü","LOUIS-FERDINAND   David",null,null,"0014390","ü","SPERANDIO   Lucas",null,null,"0014835",0]
["CEZARD   Céline",{"$error":"#REF!"},{"$error":"#REF!"},"0012601",0,"LUX   Thomas",null,null,"0011106",0,"SURREL   Léonie",null,null,"0002573",0]
["CLAUSSE   Julien",{"$error":"#REF!"},{"$error":"#REF!"},"0014518",0,"MAIDA    Patrick",null,null,"",0,"TAITE   Pierre",null,null,"",0]
["DARTHOIS   Stéphane",{"$error":"#REF!"},{"$error":"#REF!"},"0000038",0,"MANG   Michaël",null,null,"0011571",0,"THOUVENIN   Ludovic",null,null,"0012527",0]
["DELMONTE   Maxime",{"$error":"#REF!"},{"$error":"#REF!"},"",0,"MARCHAL   Julien",null,null,"0015023",0,"VAROQUIER   Nicolas",null,null,"0012136",0]
["DJEMLI   Nora",{"$error":"#REF!"},{"$error":"#REF!"},"0008074",0,"MARCHAL   Patrick",null,null,"0015026",0,"VENTURINI   Lucas",null,null,"0014453",0]
["DOUZANT   Damien",{"$error":"#REF!"},{"$error":"#REF!"},"0000606",0,"MARQUIS   Christophe",null,null,"0010882",0,"VERCELLINO   Marjorie",null,null,"0011252",0]
["DROITCOURT   Victorien",{"$error":"#REF!"},{"$error":"#REF!"},"0016109","ü","MAY   Romain",null,null,"0011559",0,"WANDROL   Geoffrey",null,null,"0009459",0]
["ESCUDIER   Adrien",{"$error":"#REF!"},{"$error":"#REF!"},"0000614",0,"MENDICINO   François",null,null,"0000237",0,"WEBER   Fabrice",null,null,"0000504",0]
["FEISTHAUER   Stéphane",{"$error":"#REF!"},{"$error":"#REF!"},"0001089",0,"MEYER   Thierry",null,null,"0000238",0,"WELKER   Tanguy",null,null,"0014810",0]
["FUCHS   Mickael",{"$error":"#REF!"},{"$error":"#REF!"},"0012666",0,"MIRBACH   David",null,null,"0011720",0,"WIZENTY   Sébastien",null,null,"0000000",0]
["GAUGIN   Yves",{"$error":"#REF!"},{"$error":"#REF!"},"0004976",0,"MOUTON   Lucie",null,null,"0009978",0,"WOJCIK   Jonathan",null,null,"0011904",0]
["HAUPTMANN   Julien",{"$error":"#REF!"},{"$error":"#REF!"},"0013001",0,"MULLER   Denis",null,null,"0000328",0,0,null,null,0,0]
["HILLARD   Xavier",{"$error":"#REF!"},{"$error":"#REF!"},"0014372",0,"MULLER   Jeremy",null,null,"0009808",0,0,null,null,0,0]
["HOCQUARD   Pierre",{"$error":"#REF!"},{"$error":"#REF!"},"0011908",0,"NAVARETTE   Kevin",null,null,"0000798",0,0,null,null,0,0]
["HUEBER   Mickael",{"$error":"#REF!"},{"$error":"#REF!"},"0000722",0,"NOBILE   Alain",null,null,"0000329",0,0,null,null,0,0]
["HUSSON   Yves",{"$error":"#REF!"},{"$error":"#REF!"},"0014130",0,"OSTER   Axelle",null,null,"0016166","ü",0,null,null,0,0]
["JARDEL   Michael",{"$error":"#REF!"},{"$error":"#REF!"},"0004807",0,"PARISOT   Christophe",null,null,"0000698",0,0,null,null,0,0]
["JOANNE   Stéphane",{"$error":"#REF!"},{"$error":"#REF!"},"0011270","ü","PELE   Yannick",null,null,"0016329","ü",0,null,null,0,0]
["KASTENDEUCH   Fréderic",{"$error":"#REF!"},{"$error":"#REF!"},"0016352","ü","PEREIRA   Sébastien",null,null,"0000650",0,"   ",null,null,"",0]
["KASTNER   Sébastien",{"$error":"#REF!"},{"$error":"#REF!"},"0011906",0,"PEVILLER   Gerald",null,null,"0000518",0,"   ",null,null,0,0]
["KEHRER   Thomas",{"$error":"#REF!"},{"$error":"#REF!"},"0014857",0,"PIERRE   Jeffrey",null,null,"0011907",0,"   ",null,null,0,0]
["KLEIN   Sophie",{"$error":"#REF!"},{"$error":"#REF!"},"0011905",0,"PIGEOT   Jeremy",null,null,"0010677",0,"   ",null,null,0,0]
["KOCH   Jean-François",{"$error":"#REF!"},{"$error":"#REF!"},"0000507",0,"PITRUZZELLA   Guillaume",null,null,"0016231","ü","   ",null,null,0,0]
["KRENC   Boris",{"$error":"#REF!"},{"$error":"#REF!"},"0014854","ü","PITTET   Jordane",null,null,"0010207",0,"   ",null,null,0,0]
["LABETOWIEZ   Jean-François",{"$error":"#REF!"},{"$error":"#REF!"},"0001003",0,"POIROT   Christophe",null,null,"0012437",0,"   ",null,null,0,0]
["LAPORTE   Guillaume",{"$error":"#REF!"},{"$error":"#REF!"},"0014541",0,"POIROT   Rémi",null,null,"0000734",0,"   ",null,null,0,0]
["LE ROUX   Yannick",{"$error":"#REF!"},{"$error":"#REF!"},"0000635",0,"RIBEIRO   David",null,null,"0014858",0,"   ",null,null,0,0]
["LEBLANC   Daniel",{"$error":"#REF!"},{"$error":"#REF!"},"0011705",0,"RICHARD   Gabriel",null,null,"0016325","ü","",null,null,0,0]
["LEDIG   Martial",{"$error":"#REF!"},{"$error":"#REF!"},"0000327",0,"ROUSSEL   Benoît",null,null,"0014425",0,"CAp",null,null,0,0]
["LEGER   Thomas",{"$error":"#REF!"},{"$error":"#REF!"},"0011208",0,"RYCKELYNCK   Vincent",null,null,"0000506",0,"CAPE",null,null,0,0]
["LEGRIS   Fréderic",{"$error":"#REF!"},{"$error":"#REF!"},"0000537",0,"SANSO   Florian",null,null,"0010382",0,{"$error":"#REF!"},null,null,{"$error":"#REF!"},{"$error":"#REF!"}]
["LEMOINE   Nathan",{"$error":"#REF!"},{"$error":"#REF!"},"0014952",0,"SCHLITTER   Julien",null,null,"0000454",0,{"$error":"#REF!"},null,null,{"$error":"#REF!"},{"$error":"#REF!"}]
["SDIS 57"]
[]
["SUIVI DU CENTRE DE SECOURS DE HAGONDANGE"]
[]
[]
[]
["FORMATIONS",null,null,null,null,null,null,null,"3ème SANS SR "]
[]
[]
["NOM - PRENOM","NOM","PRENOM","MATRICULE","3ème SANS SR ","NOM - PRENOM","NOM","PRENOM","MATRICULE","3ème SANS SR ","NOM - PRENOM","NOM","PRENOM","MATRICULE","3ème SANS SR "]
[]
["AL NAKIB ARIZZI   Louis",{"$error":"#REF!"},{"$error":"#REF!"},"0013041",0,"LESECHE   Christophe",null,null,"0012816",0,"SCHMITT   Michael",null,null,"0014794",0]
["BOUDJELAL   Alexandre",{"$error":"#REF!"},{"$error":"#REF!"},"0014707",0,"LOMBARD   Maud",null,null,"0000795",0,"SCHNETTLER   Louise",null,null,"0014794",0]
["CAPEK   Jean-Claude",{"$error":"#REF!"},{"$error":"#REF!"},"0004796",0,"LOSSON   Patrick",null,null,"0000466",0,"SORIANO   Alexia",null,null,"0014703",0]
["CARLISI   Jonathan",{"$error":"#REF!"},{"$error":"#REF!"},"0011105",0,"LOUIS-FERDINAND   David",null,null,"0014390",0,"SPERANDIO   Lucas",null,null,"0014835",0]
["CEZARD   Céline",{"$error":"#REF!"},{"$error":"#REF!"},"0012601",0,"LUX   Thomas",null,null,"0011106",0,"SURREL   Léonie",null,null,"0002573",0]
["CLAUSSE   Julien",{"$error":"#REF!"},{"$error":"#REF!"},"0014518",0,"MAIDA    Patrick",null,null,"",0,"TAITE   Pierre",null,null,"",0]
["DARTHOIS   Stéphane",{"$error":"#REF!"},{"$error":"#REF!"},"0000038",0,"MANG   Michaël",null,null,"0011571",0,"THOUVENIN   Ludovic",null,null,"0012527",0]
["DELMONTE   Maxime",{"$error":"#REF!"},{"$error":"#REF!"},"",0,"MARCHAL   Julien",null,null,"0015023",0,"VAROQUIER   Nicolas",null,null,"0012136",0]
["DJEMLI   Nora",{"$error":"#REF!"},{"$error":"#REF!"},"0008074",0,"MARCHAL   Patrick",null,null,"0015026",0,"VENTURINI   Lucas",null,null,"0014453",0]
["DOUZANT   Damien",{"$error":"#REF!"},{"$error":"#REF!"},"0000606",0,"MARQUIS   Christophe",null,null,"0010882",0,"VERCELLINO   Marjorie",null,null,"0011252",0]
["DROITCOURT   Victorien",{"$error":"#REF!"},{"$error":"#REF!"},"0016109",0,"MAY   Romain",null,null,"0011559",0,"WANDROL   Geoffrey",null,null,"0009459",0]
["ESCUDIER   Adrien",{"$error":"#REF!"},{"$error":"#REF!"},"0000614",0,"MENDICINO   François",null,null,"0000237",0,"WEBER   Fabrice",null,null,"0000504",0]
["FEISTHAUER   Stéphane",{"$error":"#REF!"},{"$error":"#REF!"},"0001089",0,"MEYER   Thierry",null,null,"0000238",0,"WELKER   Tanguy",null,null,"0014810",0]
["FUCHS   Mickael",{"$error":"#REF!"},{"$error":"#REF!"},"0012666",0,"MIRBACH   David",null,null,"0011720",0,"WIZENTY   Sébastien",null,null,"0000000",0]
["GAUGIN   Yves",{"$error":"#REF!"},{"$error":"#REF!"},"0004976",0,"MOUTON   Lucie",null,null,"0009978",0,"WOJCIK   Jonathan",null,null,"0011904",0]
["HAUPTMANN   Julien",{"$error":"#REF!"},{"$error":"#REF!"},"0013001",0,"MULLER   Denis",null,null,"0000328",0,0,null,null,0,0]
["HILLARD   Xavier",{"$error":"#REF!"},{"$error":"#REF!"},"0014372",0,"MULLER   Jeremy",null,null,"0009808",0,0,null,null,0,0]
["HOCQUARD   Pierre",{"$error":"#REF!"},{"$error":"#REF!"},"0011908",0,"NAVARETTE   Kevin",null,null,"0000798",0,0,null,null,0,0]
["HUEBER   Mickael",{"$error":"#REF!"},{"$error":"#REF!"},"0000722",0,"NOBILE   Alain",null,null,"0000329",0,0,null,null,0,0]
["HUSSON   Yves",{"$error":"#REF!"},{"$error":"#REF!"},"0014130",0,"OSTER   Axelle",null,null,"0016166",0,0,null,null,0,0]
["JARDEL   Michael",{"$error":"#REF!"},{"$error":"#REF!"},"0004807",0,"PARISOT   Christophe",null,null,"0000698",0,0,null,null,0,0]
["JOANNE   Stéphane",{"$error":"#REF!"},{"$error":"#REF!"},"0011270",0,"PELE   Yannick",null,null,"0016329",0,0,null,null,0,0]
["KASTENDEUCH   Fréderic",{"$error":"#REF!"},{"$error":"#REF!"},"0016352",0,"PEREIRA   Sébastien",null,null,"0000650",0,"   ",null,null,"",0]
["KASTNER   Sébastien",{"$error":"#REF!"},{"$error":"#REF!"},"0011906",0,"PEVILLER   Gerald",null,null,"0000518",0,"   ",null,null,0,0]
["KEHRER   Thomas",{"$error":"#REF!"},{"$error":"#REF!"},"0014857",0,"PIERRE   Jeffrey",null,null,"0011907",0,"   ",null,null,0,0]
["KLEIN   Sophie",{"$error":"#REF!"},{"$error":"#REF!"},"0011905",0,"PIGEOT   Jeremy",null,null,"0010677",0,"   ",null,null,0,0]
["KOCH   Jean-François",{"$error":"#REF!"},{"$error":"#REF!"},"0000507",0,"PITRUZZELLA   Guillaume",null,null,"0016231",0,"   ",null,null,0,0]
["KRENC   Boris",{"$error":"#REF!"},{"$error":"#REF!"},"0014854",0,"PITTET   Jordane",null,null,"0010207",0,"   ",null,null,0,0]
["LABETOWIEZ   Jean-François",{"$error":"#REF!"},{"$error":"#REF!"},"0001003",0,"POIROT   Christophe",null,null,"0012437",0,"   ",null,null,0,0]
["LAPORTE   Guillaume",{"$error":"#REF!"},{"$error":"#REF!"},"0014541",0,"POIROT   Rémi",null,null,"0000734",0,"   ",null,null,0,0]
["LE ROUX   Yannick",{"$error":"#REF!"},{"$error":"#REF!"},"0000635",0,"RIBEIRO   David",null,null,"0014858",0,"   ",null,null,0,0]
["LEBLANC   Daniel",{"$error":"#REF!"},{"$error":"#REF!"},"0011705",0,"RICHARD   Gabriel",null,null,"0016325",0,"",null,null,0,0]
["LEDIG   Martial",{"$error":"#REF!"},{"$error":"#REF!"},"0000327",0,"ROUSSEL   Benoît",null,null,"0014425",0,"CAp",null,null,0,0]
["LEGER   Thomas",{"$error":"#REF!"},{"$error":"#REF!"},"0011208",0,"RYCKELYNCK   Vincent",null,null,"0000506",0,"CAPE",null,null,0,0]
["LEGRIS   Fréderic",{"$error":"#REF!"},{"$error":"#REF!"},"0000537",0,"SANSO   Florian",null,null,"0010382",0,{"$error":"#REF!"},null,null,{"$error":"#REF!"},{"$error":"#REF!"}]
["LEMOINE   Nathan",{"$error":"#REF!"},{"$error":"#REF!"},"0014952",0,"SCHLITTER   Julien",null,null,"0000454",0,{"$error":"#REF!"},null,null,{"$error":"#REF!"},{"$error":"#REF!"}]
["SDIS 57"]
[]
["SUIVI DU CENTRE DE SECOURS DE HAGONDANGE"]
[]
[]
[]
["FORMATIONS",null,null,null,null,null,null,null,"3ème < 18 ANS"]
[]
[]
["NOM - PRENOM","NOM","PRENOM","MATRICULE","3ème < 18 ANS","NOM - PRENOM","NOM","PRENOM","MATRICULE","3ème < 18 ANS","NOM - PRENOM","NOM","PRENOM","MATRICULE","3ème < 18 ANS"]
[]
["AL NAKIB ARIZZI   Louis",{"$error":"#REF!"},{"$error":"#REF!"},"0013041",0,"LESECHE   Christophe",null,null,"0012816",0,"SCHMITT   Michael",null,null,"0014794",0]
["BOUDJELAL   Alexandre",{"$error":"#REF!"},{"$error":"#REF!"},"0014707",0,"LOMBARD   Maud",null,null,"0000795",0,"SCHNETTLER   Louise",null,null,"0014794",0]
["CAPEK   Jean-Claude",{"$error":"#REF!"},{"$error":"#REF!"},"0004796",0,"LOSSON   Patrick",null,null,"0000466",0,"SORIANO   Alexia",null,null,"0014703",0]
["CARLISI   Jonathan",{"$error":"#REF!"},{"$error":"#REF!"},"0011105",0,"LOUIS-FERDINAND   David",null,null,"0014390",0,"SPERANDIO   Lucas",null,null,"0014835","ü"]
["CEZARD   Céline",{"$error":"#REF!"},{"$error":"#REF!"},"0012601",0,"LUX   Thomas",null,null,"0011106",0,"SURREL   Léonie",null,null,"0002573",0]
["CLAUSSE   Julien",{"$error":"#REF!"},{"$error":"#REF!"},"0014518",0,"MAIDA    Patrick",null,null,"",0,"TAITE   Pierre",null,null,"",0]
["DARTHOIS   Stéphane",{"$error":"#REF!"},{"$error":"#REF!"},"0000038",0,"MANG   Michaël",null,null,"0011571",0,"THOUVENIN   Ludovic",null,null,"0012527",0]
["DELMONTE   Maxime",{"$error":"#REF!"},{"$error":"#REF!"},"",0,"MARCHAL   Julien",null,null,"0015023",0,"VAROQUIER   Nicolas",null,null,"0012136",0]
["DJEMLI   Nora",{"$error":"#REF!"},{"$error":"#REF!"},"0008074",0,"MARCHAL   Patrick",null,null,"0015026",0,"VENTURINI   Lucas",null,null,"0014453",0]
["DOUZANT   Damien",{"$error":"#REF!"},{"$error":"#REF!"},"0000606",0,"MARQUIS   Christophe",null,null,"0010882",0,"VERCELLINO   Marjorie",null,null,"0011252",0]
["DROITCOURT   Victorien",{"$error":"#REF!"},{"$error":"#REF!"},"0016109",0,"MAY   Romain",null,null,"0011559",0,"WANDROL   Geoffrey",null,null,"0009459",0]
["ESCUDIER   Adrien",{"$error":"#REF!"},{"$error":"#REF!"},"0000614",0,"MENDICINO   François",null,null,"0000237",0,"WEBER   Fabrice",null,null,"0000504",0]
["FEISTHAUER   Stéphane",{"$error":"#REF!"},{"$error":"#REF!"},"0001089",0,"MEYER   Thierry",null,null,"0000238",0,"WELKER   Tanguy",null,null,"0014810","ü"]
["FUCHS   Mickael",{"$error":"#REF!"},{"$error":"#REF!"},"0012666",0,"MIRBACH   David",null,null,"0011720",0,"WIZENTY   Sébastien",null,null,"0000000",0]
["GAUGIN   Yves",{"$error":"#REF!"},{"$error":"#REF!"},"0004976",0,"MOUTON   Lucie",null,null,"0009978",0,"WOJCIK   Jonathan",null,null,"0011904",0]
["HAUPTMANN   Julien",{"$error":"#REF!"},{"$error":"#REF!"},"0013001",0,"MULLER   Denis",null,null,"0000328",0,0,null,null,0,0]
["HILLARD   Xavier",{"$error":"#REF!"},{"$error":"#REF!"},"0014372",0,"MULLER   Jeremy",null,null,"0009808",0,0,null,null,0,0]
["HOCQUARD   Pierre",{"$error":"#REF!"},{"$error":"#REF!"},"0011908",0,"NAVARETTE   Kevin",null,null,"0000798",0,0,null,null,0,0]
["HUEBER   Mickael",{"$error":"#REF!"},{"$error":"#REF!"},"0000722",0,"NOBILE   Alain",null,null,"0000329",0,0,null,null,0,0]
["HUSSON   Yves",{"$error":"#REF!"},{"$error":"#REF!"},"0014130",0,"OSTER   Axelle",null,null,"0016166",0,0,null,null,0,0]
["JARDEL   Michael",{"$error":"#REF!"},{"$error":"#REF!"},"0004807",0,"PARISOT   Christophe",null,null,"0000698",0,0,null,null,0,0]
["JOANNE   Stéphane",{"$error":"#REF!"},{"$error":"#REF!"},"0011270",0,"PELE   Yannick",null,null,"0016329",0,0,null,null,0,0]
["KASTENDEUCH   Fréderic",{"$error":"#REF!"},{"$error":"#REF!"},"0016352",0,"PEREIRA   Sébastien",null,null,"0000650",0,"   ",null,null,"",0]
["KASTNER   Sébastien",{"$error":"#REF!"},{"$error":"#REF!"},"0011906",0,"PEVILLER   Gerald",null,null,"0000518",0,"   ",null,null,0,0]
["KEHRER   Thomas",{"$error":"#REF!"},{"$error":"#REF!"},"0014857",0,"PIERRE   Jeffrey",null,null,"0011907",0,"   ",null,null,0,0]
["KLEIN   Sophie",{"$error":"#REF!"},{"$error":"#REF!"},"0011905",0,"PIGEOT   Jeremy",null,null,"0010677",0,"   ",null,null,0,0]
["KOCH   Jean-François",{"$error":"#REF!"},{"$error":"#REF!"},"0000507",0,"PITRUZZELLA   Guillaume",null,null,"0016231",0,"   ",null,null,0,0]
["KRENC   Boris",{"$error":"#REF!"},{"$error":"#REF!"},"0014854",0,"PITTET   Jordane",null,null,"0010207",0,"   ",null,null,0,0]
["LABETOWIEZ   Jean-François",{"$error":"#REF!"},{"$error":"#REF!"},"0001003",0,"POIROT   Christophe",null,null,"0012437",0,"   ",null,null,0,0]
["LAPORTE   Guillaume",{"$error":"#REF!"},{"$error":"#REF!"},"0014541",0,"POIROT   Rémi",null,null,"0000734",0,"   ",null,null,0,0]
["LE ROUX   Yannick",{"$error":"#REF!"},{"$error":"#REF!"},"0000635",0,"RIBEIRO   David",null,null,"0014858","ü","   ",null,null,0,0]
["LEBLANC   Daniel",{"$error":"#REF!"},{"$error":"#REF!"},"0011705",0,"RICHARD   Gabriel",null,null,"0016325",0,"",null,null,0,0]
["LEDIG   Martial",{"$error":"#REF!"},{"$error":"#REF!"},"0000327",0,"ROUSSEL   Benoît",null,null,"0014425",0,"CAp",null,null,0,0]
["LEGER   Thomas",{"$error":"#REF!"},{"$error":"#REF!"},"0011208",0,"RYCKELYNCK   Vincent",null,null,"0000506",0,"CAPE",null,null,0,0]
["LEGRIS   Fréderic",{"$error":"#REF!"},{"$error":"#REF!"},"0000537",0,"SANSO   Florian",null,null,"0010382",0,{"$error":"#REF!"},null,null,{"$error":"#REF!"},{"$error":"#REF!"}]
["LEMOINE   Nathan",{"$error":"#REF!"},{"$error":"#REF!"},"0014952",0,"SCHLITTER   Julien",null,null,"0000454",0,{"$error":"#REF!"},null,null,{"$error":"#REF!"},{"$error":"#REF!"}]
["SDIS 57"]
[]
["SUIVI DU CENTRE DE SECOURS DE HAGONDANGE"]
[]
[]
[]
["FORMATIONS",null,null,null,null,null,null,null,"CE"]
[]
[]
["NOM - PRENOM","NOM","PRENOM","MATRICULE","CE","NOM - PRENOM","NOM","PRENOM","MATRICULE","CE","NOM - PRENOM","NOM","PRENOM","MATRICULE","CE"]
[]
["AL NAKIB ARIZZI   Louis",null,null,"0013041",0,"LESECHE   Christophe",null,null,"0012816","ü","SCHMITT   Michael",null,null,"0014794",0]
["BOUDJELAL   Alexandre",null,null,"0014707",0,"LOMBARD   Maud",null,null,"0000795",0,"SCHNETTLER   Louise",null,null,"0014794",0]
["CAPEK   Jean-Claude",null,null,"0004796","ü","LOSSON   Patrick",null,null,"0000466",0,"SORIANO   Alexia",null,null,"0014703",0]
["CARLISI   Jonathan",null,null,"0011105",0,"LOUIS-FERDINAND   David",null,null,"0014390",0,"SPERANDIO   Lucas",null,null,"0014835",0]
["CEZARD   Céline",null,null,"0012601",0,"LUX   Thomas",null,null,"0011106","ü","SURREL   Léonie",null,null,"0002573",0]
["CLAUSSE   Julien",null,null,"0014518",0,"MAIDA    Patrick",null,null,"",0,"TAITE   Pierre",null,null,"",0]
["DARTHOIS   Stéphane",null,null,"0000038",0,"MANG   Michaël",null,null,"0011571",0,"THOUVENIN   Ludovic",null,null,"0012527",0]
["DELMONTE   Maxime",null,null,"","ü","MARCHAL   Julien",null,null,"0015023",0,"VAROQUIER   Nicolas",null,null,"0012136","ü"]
["DJEMLI   Nora",null,null,"0008074",0,"MARCHAL   Patrick",null,null,"0015026",0,"VENTURINI   Lucas",null,null,"0014453",0]
["DOUZANT   Damien",null,null,"0000606",0,"MARQUIS   Christophe",null,null,"0010882","ü","VERCELLINO   Marjorie",null,null,"0011252","ü"]
["DROITCOURT   Victorien",null,null,"0016109",0,"MAY   Romain",null,null,"0011559","ü","WANDROL   Geoffrey",null,null,"0009459",0]
["ESCUDIER   Adrien",null,null,"0000614",0,"MENDICINO   François",null,null,"0000237",0,"WEBER   Fabrice",null,null,"0000504",0]
["FEISTHAUER   Stéphane",null,null,"0001089","ü","MEYER   Thierry",null,null,"0000238",0,"WELKER   Tanguy",null,null,"0014810",0]
["FUCHS   Mickael",null,null,"0012666","ü","MIRBACH   David",null,null,"0011720","ü","WIZENTY   Sébastien",null,null,"0000000",0]
["GAUGIN   Yves",null,null,"0004976",0,"MOUTON   Lucie",null,null,"0009978","ü","WOJCIK   Jonathan",null,null,"0011904",0]
["HAUPTMANN   Julien",null,null,"0013001",0,"MULLER   Denis",null,null,"0000328",0,0,null,null,0,0]
["HILLARD   Xavier",null,null,"0014372",0,"MULLER   Jeremy",null,null,"0009808","ü",0,null,null,0,0]
["HOCQUARD   Pierre",null,null,"0011908",0,"NAVARETTE   Kevin",null,null,"0000798",0,0,null,null,0,0]
["HUEBER   Mickael",null,null,"0000722",0,"NOBILE   Alain",null,null,"0000329",0,0,null,null,0,0]
["HUSSON   Yves",null,null,"0014130",0,"OSTER   Axelle",null,null,"0016166",0,0,null,null,0,0]
["JARDEL   Michael",null,null,"0004807",0,"PARISOT   Christophe",null,null,"0000698",0,0,null,null,0,0]
["JOANNE   Stéphane",null,null,"0011270",0,"PELE   Yannick",null,null,"0016329",0,0,null,null,0,0]
["KASTENDEUCH   Fréderic",null,null,"0016352",0,"PEREIRA   Sébastien",null,null,"0000650",0,"   ",null,null,"",0]
["KASTNER   Sébastien",null,null,"0011906","ü","PEVILLER   Gerald",null,null,"0000518",0,"   ",null,null,0,0]
["KEHRER   Thomas",null,null,"0014857",0,"PIERRE   Jeffrey",null,null,"0011907",0,"   ",null,null,0,0]
["KLEIN   Sophie",null,null,"0011905",0,"PIGEOT   Jeremy",null,null,"0010677",0,"   ",null,null,0,0]
["KOCH   Jean-François",null,null,"0000507",0,"PITRUZZELLA   Guillaume",null,null,"0016231",0,"   ",null,null,0,0]
["KRENC   Boris",null,null,"0014854",0,"PITTET   Jordane",null,null,"0010207",0,"   ",null,null,0,0]
["LABETOWIEZ   Jean-François",null,null,"0001003",0,"POIROT   Christophe",null,null,"0012437","ü","   ",null,null,0,0]
["LAPORTE   Guillaume",null,null,"0014541",0,"POIROT   Rémi",null,null,"0000734",0,"   ",null,null,0,0]
["LE ROUX   Yannick",null,null,"0000635",0,"RIBEIRO   David",null,null,"0014858",0,"   ",null,null,0,0]
["LEBLANC   Daniel",null,null,"0011705","ü","RICHARD   Gabriel",null,null,"0016325","ü","",null,null,0,0]
["LEDIG   Martial",null,null,"0000327",0,"ROUSSEL   Benoît",null,null,"0014425",0,"CAp",null,null,0,0]
["LEGER   Thomas",null,null,"0011208","ü","RYCKELYNCK   Vincent",null,null,"0000506",0,"CAPE",null,null,0,0]
["LEGRIS   Fréderic",null,null,"0000537",0,"SANSO   Florian",null,null,"0010382","ü",{"$error":"#REF!"},null,null,{"$error":"#REF!"},{"$error":"#REF!"}]
["LEMOINE   Nathan",null,null,"0014952",0,"SCHLITTER   Julien",null,null,"0000454",0,{"$error":"#REF!"},null,null,{"$error":"#REF!"},{"$error":"#REF!"}]
["SDIS 57"]
[]
["SUIVI DU CENTRE DE SECOURS DE HAGONDANGE"]
[]
[]
[]
["FORMATIONS",null,null,null,null,null,null,null,"CA 1 EQ"]
[]
[]
["NOM - PRENOM","NOM","PRENOM","MATRICULE","CA 1 EQ","NOM - PRENOM","NOM","PRENOM","MATRICULE","CA 1 EQ","NOM - PRENOM","NOM","PRENOM","MATRICULE","CA 1 EQ"]
[]
["AL NAKIB ARIZZI   Louis",null,null,"0013041",0,"LESECHE   Christophe",null,null,"0012816",0,"SCHMITT   Michael",null,null,"0014794",0]
["BOUDJELAL   Alexandre",null,null,"0014707",0,"LOMBARD   Maud",null,null,"0000795",0,"SCHNETTLER   Louise",null,null,"0014794",0]
["CAPEK   Jean-Claude",null,null,"0004796",0,"LOSSON   Patrick",null,null,"0000466",0,"SORIANO   Alexia",null,null,"0014703",0]
["CARLISI   Jonathan",null,null,"0011105",0,"LOUIS-FERDINAND   David",null,null,"0014390",0,"SPERANDIO   Lucas",null,null,"0014835",0]
["CEZARD   Céline",null,null,"0012601",0,"LUX   Thomas",null,null,"0011106",0,"SURREL   Léonie",null,null,"0002573",0]
["CLAUSSE   Julien",null,null,"0014518",0,"MAIDA    Patrick",null,null,"",0,"TAITE   Pierre",null,null,"",0]
["DARTHOIS   Stéphane",null,null,"0000038",0,"MANG   Michaël",null,null,"0011571","ü","THOUVENIN   Ludovic",null,null,"0012527",0]
["DELMONTE   Maxime",null,null,"",0,"MARCHAL   Julien",null,null,"0015023",0,"VAROQUIER   Nicolas",null,null,"0012136",0]
["DJEMLI   Nora",null,null,"0008074",0,"MARCHAL   Patrick",null,null,"0015026","ü","VENTURINI   Lucas",null,null,"0014453",0]
["DOUZANT   Damien",null,null,"0000606",0,"MARQUIS   Christophe",null,null,"0010882",0,"VERCELLINO   Marjorie",null,null,"0011252",0]
["DROITCOURT   Victorien",null,null,"0016109",0,"MAY   Romain",null,null,"0011559",0,"WANDROL   Geoffrey",null,null,"0009459",0]
["ESCUDIER   Adrien",null,null,"0000614",0,"MENDICINO   François",null,null,"0000237",0,"WEBER   Fabrice",null,null,"0000504",0]
["FEISTHAUER   Stéphane",null,null,"0001089",0,"MEYER   Thierry",null,null,"0000238",0,"WELKER   Tanguy",null,null,"0014810",0]
["FUCHS   Mickael",null,null,"0012666",0,"MIRBACH   David",null,null,"0011720",0,"WIZENTY   Sébastien",null,null,"0000000",0]
["GAUGIN   Yves",null,null,"0004976","ü","MOUTON   Lucie",null,null,"0009978",0,"WOJCIK   Jonathan",null,null,"0011904",0]
["HAUPTMANN   Julien",null,null,"0013001",0,"MULLER   Denis",null,null,"0000328",0,0,null,null,0,0]
["HILLARD   Xavier",null,null,"0014372",0,"MULLER   Jeremy",null,null,"0009808",0,0,null,null,0,0]
["HOCQUARD   Pierre",null,null,"0011908",0,"NAVARETTE   Kevin",null,null,"0000798",0,0,null,null,0,0]
["HUEBER   Mickael",null,null,"0000722",0,"NOBILE   Alain",null,null,"0000329",0,0,null,null,0,0]
["HUSSON   Yves",null,null,"0014130","ü","OSTER   Axelle",null,null,"0016166",0,0,null,null,0,0]
["JARDEL   Michael",null,null,"0004807",0,"PARISOT   Christophe",null,null,"0000698",0,0,null,null,0,0]
["JOANNE   Stéphane",null,null,"0011270",0,"PELE   Yannick",null,null,"0016329",0,0,null,null,0,0]
["KASTENDEUCH   Fréderic",null,null,"0016352",0,"PEREIRA   Sébastien",null,null,"0000650",0,"   ",null,null,"",0]
["KASTNER   Sébastien",null,null,"0011906",0,"PEVILLER   Gerald",null,null,"0000518",0,"   ",null,null,0,0]
["KEHRER   Thomas",null,null,"0014857",0,"PIERRE   Jeffrey",null,null,"0011907",0,"   ",null,null,0,0]
["KLEIN   Sophie",null,null,"0011905","ü","PIGEOT   Jeremy",null,null,"0010677",0,"   ",null,null,0,0]
["KOCH   Jean-François",null,null,"0000507",0,"PITRUZZELLA   Guillaume",null,null,"0016231",0,"   ",null,null,0,0]
["KRENC   Boris",null,null,"0014854",0,"PITTET   Jordane",null,null,"0010207",0,"   ",null,null,0,0]
["LABETOWIEZ   Jean-François",null,null,"0001003",0,"POIROT   Christophe",null,null,"0012437",0,"   ",null,null,0,0]
["LAPORTE   Guillaume",null,null,"0014541",0,"POIROT   Rémi",null,null,"0000734",0,"   ",null,null,0,0]
["LE ROUX   Yannick",null,null,"0000635",0,"RIBEIRO   David",null,null,"0014858",0,"   ",null,null,0,0]
["LEBLANC   Daniel",null,null,"0011705",0,"RICHARD   Gabriel",null,null,"0016325",0,"",null,null,0,0]
["LEDIG   Martial",null,null,"0000327",0,"ROUSSEL   Benoît",null,null,"0014425",0,"CAp",null,null,0,0]
["LEGER   Thomas",null,null,"0011208",0,"RYCKELYNCK   Vincent",null,null,"0000506",0,"CAPE",null,null,0,0]
["LEGRIS   Fréderic",null,null,"0000537",0,"SANSO   Florian",null,null,"0010382",0,{"$error":"#REF!"},null,null,{"$error":"#REF!"},{"$error":"#REF!"}]
["LEMOINE   Nathan",null,null,"0014952",0,"SCHLITTER   Julien",null,null,"0000454",0,{"$error":"#REF!"},null,null,{"$error":"#REF!"},{"$error":"#REF!"}]
["SDIS 57"]
[]
["SUIVI DU CENTRE DE SECOURS DE HAGONDANGE"]
[]
[]
[]
["FORMATIONS",null,null,null,null,null,null,null,"CATE"]
[]
[]
["NOM - PRENOM","NOM","PRENOM","MATRICULE","CATE","NOM - PRENOM","NOM","PRENOM","MATRICULE","CATE","NOM - PRENOM","NOM","PRENOM","MATRICULE","CATE"]
[]
["AL NAKIB ARIZZI   Louis",null,null,"0013041",0,"LESECHE   Christophe",null,null,"0012816",0,"SCHMITT   Michael",null,null,"0014794",0]
["BOUDJELAL   Alexandre",null,null,"0014707",0,"LOMBARD   Maud",null,null,"0000795","ü","SCHNETTLER   Louise",null,null,"0014794",0]
["CAPEK   Jean-Claude",null,null,"0004796",0,"LOSSON   Patrick",null,null,"0000466","ü","SORIANO   Alexia",null,null,"0014703",0]
["CARLISI   Jonathan",null,null,"0011105",0,"LOUIS-FERDINAND   David",null,null,"0014390",0,"SPERANDIO   Lucas",null,null,"0014835",0]
["CEZARD   Céline",null,null,"0012601",0,"LUX   Thomas",null,null,"0011106",0,"SURREL   Léonie",null,null,"0002573","ü"]
["CLAUSSE   Julien",null,null,"0014518",0,"MAIDA    Patrick",null,null,"",0,"TAITE   Pierre",null,null,"",0]
["DARTHOIS   Stéphane",null,null,"0000038","ü","MANG   Michaël",null,null,"0011571",0,"THOUVENIN   Ludovic",null,null,"0012527",0]
["DELMONTE   Maxime",null,null,"",0,"MARCHAL   Julien",null,null,"0015023","ü","VAROQUIER   Nicolas",null,null,"0012136",0]
["DJEMLI   Nora",null,null,"0008074","ü","MARCHAL   Patrick",null,null,"0015026",0,"VENTURINI   Lucas",null,null,"0014453",0]
["DOUZANT   Damien",null,null,"0000606","ü","MARQUIS   Christophe",null,null,"0010882",0,"VERCELLINO   Marjorie",null,null,"0011252",0]
["DROITCOURT   Victorien",null,null,"0016109",0,"MAY   Romain",null,null,"0011559",0,"WANDROL   Geoffrey",null,null,"0009459",0]
["ESCUDIER   Adrien",null,null,"0000614","ü","MENDICINO   François",null,null,"0000237","ü","WEBER   Fabrice",null,null,"0000504","ü"]
["FEISTHAUER   Stéphane",null,null,"0001089",0,"MEYER   Thierry",null,null,"0000238","ü","WELKER   Tanguy",null,null,"0014810",0]
["FUCHS   Mickael",null,null,"0012666",0,"MIRBACH   David",null,null,"0011720",0,"WIZENTY   Sébastien",null,null,"0000000",0]
["GAUGIN   Yves",null,null,"0004976","ü","MOUTON   Lucie",null,null,"0009978",0,"WOJCIK   Jonathan",null,null,"0011904",0]
["HAUPTMANN   Julien",null,null,"0013001",0,"MULLER   Denis",null,null,"0000328","ü",0,null,null,0,0]
["HILLARD   Xavier",null,null,"0014372",0,"MULLER   Jeremy",null,null,"0009808",0,0,null,null,0,0]
["HOCQUARD   Pierre",null,null,"0011908",0,"NAVARETTE   Kevin",null,null,"0000798","ü",0,null,null,0,0]
["HUEBER   Mickael",null,null,"0000722",0,"NOBILE   Alain",null,null,"0000329","ü",0,null,null,0,0]
["HUSSON   Yves",null,null,"0014130",0,"OSTER   Axelle",null,null,"0016166",0,0,null,null,0,0]
["JARDEL   Michael",null,null,"0004807","ü","PARISOT   Christophe",null,null,"0000698","ü",0,null,null,0,0]
["JOANNE   Stéphane",null,null,"0011270",0,"PELE   Yannick",null,null,"0016329",0,0,null,null,0,0]
["KASTENDEUCH   Fréderic",null,null,"0016352",0,"PEREIRA   Sébastien",null,null,"0000650","ü","   ",null,null,"",0]
["KASTNER   Sébastien",null,null,"0011906",0,"PEVILLER   Gerald",null,null,"0000518","ü","   ",null,null,0,0]
["KEHRER   Thomas",null,null,"0014857",0,"PIERRE   Jeffrey",null,null,"0011907",0,"   ",null,null,0,0]
["KLEIN   Sophie",null,null,"0011905",0,"PIGEOT   Jeremy",null,null,"0010677",0,"   ",null,null,0,0]
["KOCH   Jean-François",null,null,"0000507","ü","PITRUZZELLA   Guillaume",null,null,"0016231",0,"   ",null,null,0,0]
["KRENC   Boris",null,null,"0014854",0,"PITTET   Jordane",null,null,"0010207",0,"   ",null,null,0,0]
["LABETOWIEZ   Jean-François",null,null,"0001003",0,"POIROT   Christophe",null,null,"0012437",0,"   ",null,null,0,0]
["LAPORTE   Guillaume",null,null,"0014541",0,"POIROT   Rémi",null,null,"0000734","ü","   ",null,null,0,0]
["LE ROUX   Yannick",null,null,"0000635","ü","RIBEIRO   David",null,null,"0014858",0,"   ",null,null,0,0]
["LEBLANC   Daniel",null,null,"0011705",0,"RICHARD   Gabriel",null,null,"0016325",0,"",null,null,0,0]
["LEDIG   Martial",null,null,"0000327","ü","ROUSSEL   Benoît",null,null,"0014425",0,"CAp",null,null,0,0]
["LEGER   Thomas",null,null,"0011208",0,"RYCKELYNCK   Vincent",null,null,"0000506","ü","CAPE",null,null,0,0]
["LEGRIS   Fréderic",null,null,"0000537",0,"SANSO   Florian",null,null,"0010382",0,{"$error":"#REF!"},null,null,{"$error":"#REF!"},{"$error":"#REF!"}]
["LEMOINE   Nathan",null,null,"0014952",0,"SCHLITTER   Julien",null,null,"0000454","ü",{"$error":"#REF!"},null,null,{"$error":"#REF!"},{"$error":"#REF!"}]
["SDIS 57"]
[]
["SUIVI DU CENTRE DE SECOURS DE HAGONDANGE"]
[]
[]
[]
["FORMATIONS",null,null,null,null,null,null,null,"GOC 3"]
[]
[]
["NOM - PRENOM","NOM","PRENOM","MATRICULE","GOC 3","NOM - PRENOM","NOM","PRENOM","MATRICULE","GOC 3","NOM - PRENOM","NOM","PRENOM","MATRICULE","GOC 3"]
[]
["AL NAKIB ARIZZI   Louis",null,null,"0013041",0,"LESECHE   Christophe",null,null,"0012816",0,"SCHMITT   Michael",null,null,"0014794",0]
["BOUDJELAL   Alexandre",null,null,"0014707",0,"LOMBARD   Maud",null,null,"0000795",0,"SCHNETTLER   Louise",null,null,"0014794",0]
["CAPEK   Jean-Claude",null,null,"0004796",0,"LOSSON   Patrick",null,null,"0000466",0,"SORIANO   Alexia",null,null,"0014703",0]
["CARLISI   Jonathan",null,null,"0011105",0,"LOUIS-FERDINAND   David",null,null,"0014390",0,"SPERANDIO   Lucas",null,null,"0014835",0]
["CEZARD   Céline",null,null,"0012601",0,"LUX   Thomas",null,null,"0011106",0,"SURREL   Léonie",null,null,"0002573",0]
["CLAUSSE   Julien",null,null,"0014518",0,"MAIDA    Patrick",null,null,"","ü","TAITE   Pierre",null,null,"","ü"]
["DARTHOIS   Stéphane",null,null,"0000038",0,"MANG   Michaël",null,null,"0011571",0,"THOUVENIN   Ludovic",null,null,"0012527",0]
["DELMONTE   Maxime",null,null,"",0,"MARCHAL   Julien",null,null,"0015023",0,"VAROQUIER   Nicolas",null,null,"0012136",0]
["DJEMLI   Nora",null,null,"0008074",0,"MARCHAL   Patrick",null,null,"0015026",0,"VENTURINI   Lucas",null,null,"0014453",0]
["DOUZANT   Damien",null,null,"0000606",0,"MARQUIS   Christophe",null,null,"0010882",0,"VERCELLINO   Marjorie",null,null,"0011252",0]
["DROITCOURT   Victorien",null,null,"0016109",0,"MAY   Romain",null,null,"0011559",0,"WANDROL   Geoffrey",null,null,"0009459",0]
["ESCUDIER   Adrien",null,null,"0000614",0,"MENDICINO   François",null,null,"0000237","ü","WEBER   Fabrice",null,null,"0000504",0]
["FEISTHAUER   Stéphane",null,null,"0001089",0,"MEYER   Thierry",null,null,"0000238",0,"WELKER   Tanguy",null,null,"0014810",0]
["FUCHS   Mickael",null,null,"0012666",0,"MIRBACH   David",null,null,"0011720",0,"WIZENTY   Sébastien",null,null,"0000000",0]
["GAUGIN   Yves",null,null,"0004976",0,"MOUTON   Lucie",null,null,"0009978",0,"WOJCIK   Jonathan",null,null,"0011904",0]
["HAUPTMANN   Julien",null,null,"0013001",0,"MULLER   Denis",null,null,"0000328",0,0,null,null,0,0]
["HILLARD   Xavier",null,null,"0014372",0,"MULLER   Jeremy",null,null,"0009808",0,0,null,null,0,0]
["HOCQUARD   Pierre",null,null,"0011908",0,"NAVARETTE   Kevin",null,null,"0000798",0,0,null,null,0,0]
["HUEBER   Mickael",null,null,"0000722",0,"NOBILE   Alain",null,null,"0000329","ü",0,null,null,0,0]
["HUSSON   Yves",null,null,"0014130",0,"OSTER   Axelle",null,null,"0016166",0,0,null,null,0,0]
["JARDEL   Michael",null,null,"0004807",0,"PARISOT   Christophe",null,null,"0000698",0,0,null,null,0,0]
["JOANNE   Stéphane",null,null,"0011270",0,"PELE   Yannick",null,null,"0016329",0,0,null,null,0,0]
["KASTENDEUCH   Fréderic",null,null,"0016352",0,"PEREIRA   Sébastien",null,null,"0000650",0,"   ",null,null,"",0]
["KASTNER   Sébastien",null,null,"0011906",0,"PEVILLER   Gerald",null,null,"0000518",0,"   ",null,null,0,0]
["KEHRER   Thomas",null,null,"0014857",0,"PIERRE   Jeffrey",null,null,"0011907",0,"   ",null,null,0,0]
["KLEIN   Sophie",null,null,"0011905",0,"PIGEOT   Jeremy",null,null,"0010677",0,"   ",null,null,0,0]
["KOCH   Jean-François",null,null,"0000507",0,"PITRUZZELLA   Guillaume",null,null,"0016231",0,"   ",null,null,0,0]
["KRENC   Boris",null,null,"0014854",0,"PITTET   Jordane",null,null,"0010207",0,"   ",null,null,0,0]
["LABETOWIEZ   Jean-François",null,null,"0001003","ü","POIROT   Christophe",null,null,"0012437",0,"   ",null,null,0,0]
["LAPORTE   Guillaume",null,null,"0014541",0,"POIROT   Rémi",null,null,"0000734",0,"   ",null,null,0,0]
["LE ROUX   Yannick",null,null,"0000635",0,"RIBEIRO   David",null,null,"0014858",0,"   ",null,null,0,0]
["LEBLANC   Daniel",null,null,"0011705",0,"RICHARD   Gabriel",null,null,"0016325",0,"",null,null,0,0]
["LEDIG   Martial",null,null,"0000327","ü","ROUSSEL   Benoît",null,null,"0014425",0,"CAp",null,null,0,0]
["LEGER   Thomas",null,null,"0011208",0,"RYCKELYNCK   Vincent",null,null,"0000506",0,"CAPE",null,null,0,0]
["LEGRIS   Fréderic",null,null,"0000537","ü","SANSO   Florian",null,null,"0010382",0,{"$error":"#REF!"},null,null,{"$error":"#REF!"},{"$error":"#REF!"}]
["LEMOINE   Nathan",null,null,"0014952",0,"SCHLITTER   Julien",null,null,"0000454",0,{"$error":"#REF!"},null,null,{"$error":"#REF!"},{"$error":"#REF!"}]
["SDIS 57"]
[]
["SUIVI DU CENTRE DE SECOURS DE HAGONDANGE"]
[]
[]
[]
["FORMATIONS",null,null,null,null,null,null,null,"FDF 2"]
[]
[]
["NOM - PRENOM","NOM","PRENOM","MATRICULE","FDF 2","NOM - PRENOM","NOM","PRENOM","MATRICULE","FDF 2","NOM - PRENOM","NOM","PRENOM","MATRICULE","FDF 2"]
[]
["AL NAKIB ARIZZI   Louis",null,null,"0013041",0,"LESECHE   Christophe",null,null,"0012816",0,"SCHMITT   Michael",null,null,"0014794",0]
["BOUDJELAL   Alexandre",null,null,"0014707",0,"LOMBARD   Maud",null,null,"0000795",0,"SCHNETTLER   Louise",null,null,"0014794",0]
["CAPEK   Jean-Claude",null,null,"0004796",0,"LOSSON   Patrick",null,null,"0000466",0,"SORIANO   Alexia",null,null,"0014703",0]
["CARLISI   Jonathan",null,null,"0011105",0,"LOUIS-FERDINAND   David",null,null,"0014390",0,"SPERANDIO   Lucas",null,null,"0014835",0]
["CEZARD   Céline",null,null,"0012601",0,"LUX   Thomas",null,null,"0011106",0,"SURREL   Léonie",null,null,"0002573",0]
["CLAUSSE   Julien",null,null,"0014518",0,"MAIDA    Patrick",null,null,"",0,"TAITE   Pierre",null,null,"",0]
["DARTHOIS   Stéphane",null,null,"0000038","ü","MANG   Michaël",null,null,"0011571",0,"THOUVENIN   Ludovic",null,null,"0012527",0]
["DELMONTE   Maxime",null,null,"",0,"MARCHAL   Julien",null,null,"0015023",0,"VAROQUIER   Nicolas",null,null,"0012136",0]
["DJEMLI   Nora",null,null,"0008074",0,"MARCHAL   Patrick",null,null,"0015026","ü","VENTURINI   Lucas",null,null,"0014453",0]
["DOUZANT   Damien",null,null,"0000606",0,"MARQUIS   Christophe",null,null,"0010882",0,"VERCELLINO   Marjorie",null,null,"0011252",0]
["DROITCOURT   Victorien",null,null,"0016109",0,"MAY   Romain",null,null,"0011559",0,"WANDROL   Geoffrey",null,null,"0009459",0]
["ESCUDIER   Adrien",null,null,"0000614","ü","MENDICINO   François",null,null,"0000237",0,"WEBER   Fabrice",null,null,"0000504",0]
["FEISTHAUER   Stéphane",null,null,"0001089",0,"MEYER   Thierry",null,null,"0000238","ü","WELKER   Tanguy",null,null,"0014810",0]
["FUCHS   Mickael",null,null,"0012666",0,"MIRBACH   David",null,null,"0011720",0,"WIZENTY   Sébastien",null,null,"0000000",0]
["GAUGIN   Yves",null,null,"0004976",0,"MOUTON   Lucie",null,null,"0009978",0,"WOJCIK   Jonathan",null,null,"0011904",0]
["HAUPTMANN   Julien",null,null,"0013001",0,"MULLER   Denis",null,null,"0000328","ü",0,null,null,0,0]
["HILLARD   Xavier",null,null,"0014372",0,"MULLER   Jeremy",null,null,"0009808",0,0,null,null,0,0]
["HOCQUARD   Pierre",null,null,"0011908",0,"NAVARETTE   Kevin",null,null,"0000798",0,0,null,null,0,0]
["HUEBER   Mickael",null,null,"0000722",0,"NOBILE   Alain",null,null,"0000329",0,0,null,null,0,0]
["HUSSON   Yves",null,null,"0014130",0,"OSTER   Axelle",null,null,"0016166",0,0,null,null,0,0]
["JARDEL   Michael",null,null,"0004807",0,"PARISOT   Christophe",null,null,"0000698",0,0,null,null,0,0]
["JOANNE   Stéphane",null,null,"0011270",0,"PELE   Yannick",null,null,"0016329",0,0,null,null,0,0]
["KASTENDEUCH   Fréderic",null,null,"0016352",0,"PEREIRA   Sébastien",null,null,"0000650",0,"   ",null,null,"",0]
["KASTNER   Sébastien",null,null,"0011906",0,"PEVILLER   Gerald",null,null,"0000518",0,"   ",null,null,0,0]
["KEHRER   Thomas",null,null,"0014857",0,"PIERRE   Jeffrey",null,null,"0011907",0,"   ",null,null,0,0]
["KLEIN   Sophie",null,null,"0011905",0,"PIGEOT   Jeremy",null,null,"0010677",0,"   ",null,null,0,0]
["KOCH   Jean-François",null,null,"0000507",0,"PITRUZZELLA   Guillaume",null,null,"0016231",0,"   ",null,null,0,0]
["KRENC   Boris",null,null,"0014854",0,"PITTET   Jordane",null,null,"0010207",0,"   ",null,null,0,0]
["LABETOWIEZ   Jean-François",null,null,"0001003",0,"POIROT   Christophe",null,null,"0012437",0,"   ",null,null,0,0]
["LAPORTE   Guillaume",null,null,"0014541",0,"POIROT   Rémi",null,null,"0000734","ü","   ",null,null,0,0]
["LE ROUX   Yannick",null,null,"0000635",0,"RIBEIRO   David",null,null,"0014858",0,"   ",null,null,0,0]
["LEBLANC   Daniel",null,null,"0011705",0,"RICHARD   Gabriel",null,null,"0016325",0,"",null,null,0,0]
["LEDIG   Martial",null,null,"0000327","ü","ROUSSEL   Benoît",null,null,"0014425",0,"CAp",null,null,0,0]
["LEGER   Thomas",null,null,"0011208",0,"RYCKELYNCK   Vincent",null,null,"0000506",0,"CAPE",null,null,0,0]
["LEGRIS   Fréderic",null,null,"0000537","ü","SANSO   Florian",null,null,"0010382",0,{"$error":"#REF!"},null,null,{"$error":"#REF!"},{"$error":"#REF!"}]
["LEMOINE   Nathan",null,null,"0014952",0,"SCHLITTER   Julien",null,null,"0000454",0,{"$error":"#REF!"},null,null,{"$error":"#REF!"},{"$error":"#REF!"}]
["SDIS 57"]
[]
["SUIVI DU CENTRE DE SECOURS DE HAGONDANGE"]
[]
[]
[]
["FORMATIONS",null,null,null,null,null,null,null,"RECYCLAGE DECONTA"]
[]
[]
["NOM - PRENOM","NOM","PRENOM","MATRICULE","RECYCLAGE DECONTA","NOM - PRENOM","NOM","PRENOM","MATRICULE","RECYCLAGE DECONTA","NOM - PRENOM","NOM","PRENOM","MATRICULE","RECYCLAGE DECONTA"]
[]
["AL NAKIB ARIZZI   Louis",null,null,"0013041","ü","LESECHE   Christophe",null,null,"0012816","ü","SCHMITT   Michael",null,null,"0014794",0]
["BOUDJELAL   Alexandre",null,null,"0014707","ü","LOMBARD   Maud",null,null,"0000795","ü","SCHNETTLER   Louise",null,null,"0014794",0]
["CAPEK   Jean-Claude",null,null,"0004796",0,"LOSSON   Patrick",null,null,"0000466","ü","SORIANO   Alexia",null,null,"0014703","ü"]
["CARLISI   Jonathan",null,null,"0011105","ü","LOUIS-FERDINAND   David",null,null,"0014390",0,"SPERANDIO   Lucas",null,null,"0014835",0]
["CEZARD   Céline",null,null,"0012601","ü","LUX   Thomas",null,null,"0011106","ü","SURREL   Léonie",null,null,"0002573",0]
["CLAUSSE   Julien",null,null,"0014518","ü","MAIDA    Patrick",null,null,"",0,"TAITE   Pierre",null,null,"",0]
["DARTHOIS   Stéphane",null,null,"0000038",0,"MANG   Michaël",null,null,"0011571","ü","THOUVENIN   Ludovic",null,null,"0012527",0]
["DELMONTE   Maxime",null,null,"",0,"MARCHAL   Julien",null,null,"0015023","ü","VAROQUIER   Nicolas",null,null,"0012136",0]
["DJEMLI   Nora",null,null,"0008074",0,"MARCHAL   Patrick",null,null,"0015026","ü","VENTURINI   Lucas",null,null,"0014453",0]
["DOUZANT   Damien",null,null,"0000606","ü","MARQUIS   Christophe",null,null,"0010882","ü","VERCELLINO   Marjorie",null,null,"0011252","ü"]
["DROITCOURT   Victorien",null,null,"0016109",0,"MAY   Romain",null,null,"0011559","ü","WANDROL   Geoffrey",null,null,"0009459",0]
["ESCUDIER   Adrien",null,null,"0000614","ü","MENDICINO   François",null,null,"0000237","ü","WEBER   Fabrice",null,null,"0000504","ü"]
["FEISTHAUER   Stéphane",null,null,"0001089",0,"MEYER   Thierry",null,null,"0000238",0,"WELKER   Tanguy",null,null,"0014810",0]
["FUCHS   Mickael",null,null,"0012666","ü","MIRBACH   David",null,null,"0011720",0,"WIZENTY   Sébastien",null,null,"0000000","ü"]
["GAUGIN   Yves",null,null,"0004976",0,"MOUTON   Lucie",null,null,"0009978",0,"WOJCIK   Jonathan",null,null,"0011904","ü"]
["HAUPTMANN   Julien",null,null,"0013001","ü","MULLER   Denis",null,null,"0000328","ü",0,null,null,0,0]
["HILLARD   Xavier",null,null,"0014372","ü","MULLER   Jeremy",null,null,"0009808",0,0,null,null,0,0]
["HOCQUARD   Pierre",null,null,"0011908","ü","NAVARETTE   Kevin",null,null,"0000798",0,0,null,null,0,0]
["HUEBER   Mickael",null,null,"0000722",0,"NOBILE   Alain",null,null,"0000329","ü",0,null,null,0,0]
["HUSSON   Yves",null,null,"0014130","ü","OSTER   Axelle",null,null,"0016166",0,0,null,null,0,0]
["JARDEL   Michael",null,null,"0004807","ü","PARISOT   Christophe",null,null,"0000698",0,0,null,null,0,0]
["JOANNE   Stéphane",null,null,"0011270",0,"PELE   Yannick",null,null,"0016329",0,0,null,null,0,0]
["KASTENDEUCH   Fréderic",null,null,"0016352",0,"PEREIRA   Sébastien",null,null,"0000650","ü","   ",null,null,"",0]
["KASTNER   Sébastien",null,null,"0011906","ü","PEVILLER   Gerald",null,null,"0000518","ü","   ",null,null,0,0]
["KEHRER   Thomas",null,null,"0014857",0,"PIERRE   Jeffrey",null,null,"0011907","ü","   ",null,null,0,0]
["KLEIN   Sophie",null,null,"0011905","ü","PIGEOT   Jeremy",null,null,"0010677","ü","   ",null,null,0,0]
["KOCH   Jean-François",null,null,"0000507",0,"PITRUZZELLA   Guillaume",null,null,"0016231",0,"   ",null,null,0,0]
["KRENC   Boris",null,null,"0014854","ü","PITTET   Jordane",null,null,"0010207","ü","   ",null,null,0,0]
["LABETOWIEZ   Jean-François",null,null,"0001003","ü","POIROT   Christophe",null,null,"0012437",0,"   ",null,null,0,0]
["LAPORTE   Guillaume",null,null,"0014541",0,"POIROT   Rémi",null,null,"0000734","ü","   ",null,null,0,0]
["LE ROUX   Yannick",null,null,"0000635","ü","RIBEIRO   David",null,null,"0014858",0,"   ",null,null,0,0]
["LEBLANC   Daniel",null,null,"0011705","ü","RICHARD   Gabriel",null,null,"0016325",0,"",null,null,0,0]
["LEDIG   Martial",null,null,"0000327","ü","ROUSSEL   Benoît",null,null,"0014425","ü","CAp",null,null,0,0]
["LEGER   Thomas",null,null,"0011208",0,"RYCKELYNCK   Vincent",null,null,"0000506",0,"CAPE",null,null,0,0]
["LEGRIS   Fréderic",null,null,"0000537",0,"SANSO   Florian",null,null,"0010382",0,{"$error":"#REF!"},null,null,{"$error":"#REF!"},{"$error":"#REF!"}]
["LEMOINE   Nathan",null,null,"0014952","ü","SCHLITTER   Julien",null,null,"0000454",0,{"$error":"#REF!"},null,null,{"$error":"#REF!"},{"$error":"#REF!"}]
["SDIS 57"]
[]
["SUIVI DU CENTRE DE SECOURS DE HAGONDANGE"]
[]
[]
[]
["FORMATIONS",null,null,null,null,null,null,null,"SDE 1"]
[]
[]
["NOM - PRENOM","NOM","PRENOM","MATRICULE","SDE 1","NOM - PRENOM","NOM","PRENOM","MATRICULE","SDE 1","NOM - PRENOM","NOM","PRENOM","MATRICULE","SDE 1"]
[]
["AL NAKIB ARIZZI   Louis",null,null,"0013041",0,"LESECHE   Christophe",null,null,"0012816",0,"SCHMITT   Michael",null,null,"0014794",0]
["BOUDJELAL   Alexandre",null,null,"0014707",0,"LOMBARD   Maud",null,null,"0000795",0,"SCHNETTLER   Louise",null,null,"0014794",0]
["CAPEK   Jean-Claude",null,null,"0004796",0,"LOSSON   Patrick",null,null,"0000466",0,"SORIANO   Alexia",null,null,"0014703",0]
["CARLISI   Jonathan",null,null,"0011105",0,"LOUIS-FERDINAND   David",null,null,"0014390",0,"SPERANDIO   Lucas",null,null,"0014835",0]
["CEZARD   Céline",null,null,"0012601",0,"LUX   Thomas",null,null,"0011106",0,"SURREL   Léonie",null,null,"0002573",0]
["CLAUSSE   Julien",null,null,"0014518",0,"MAIDA    Patrick",null,null,"",0,"TAITE   Pierre",null,null,"",0]
["DARTHOIS   Stéphane",null,null,"0000038","ü","MANG   Michaël",null,null,"0011571",0,"THOUVENIN   Ludovic",null,null,"0012527",0]
["DELMONTE   Maxime",null,null,"",0,"MARCHAL   Julien",null,null,"0015023",0,"VAROQUIER   Nicolas",null,null,"0012136",0]
["DJEMLI   Nora",null,null,"0008074",0,"MARCHAL   Patrick",null,null,"0015026","ü","VENTURINI   Lucas",null,null,"0014453",0]
["DOUZANT   Damien",null,null,"0000606",0,"MARQUIS   Christophe",null,null,"0010882",0,"VERCELLINO   Marjorie",null,null,"0011252",0]
["DROITCOURT   Victorien",null,null,"0016109",0,"MAY   Romain",null,null,"0011559",0,"WANDROL   Geoffrey",null,null,"0009459",0]
["ESCUDIER   Adrien",null,null,"0000614",0,"MENDICINO   François",null,null,"0000237","ü","WEBER   Fabrice",null,null,"0000504",0]
["FEISTHAUER   Stéphane",null,null,"0001089",0,"MEYER   Thierry",null,null,"0000238","ü","WELKER   Tanguy",null,null,"0014810",0]
["FUCHS   Mickael",null,null,"0012666",0,"MIRBACH   David",null,null,"0011720",0,"WIZENTY   Sébastien",null,null,"0000000",0]
["GAUGIN   Yves",null,null,"0004976",0,"MOUTON   Lucie",null,null,"0009978",0,"WOJCIK   Jonathan",null,null,"0011904",0]
["HAUPTMANN   Julien",null,null,"0013001",0,"MULLER   Denis",null,null,"0000328","ü",0,null,null,0,0]
["HILLARD   Xavier",null,null,"0014372",0,"MULLER   Jeremy",null,null,"0009808",0,0,null,null,0,0]
["HOCQUARD   Pierre",null,null,"0011908",0,"NAVARETTE   Kevin",null,null,"0000798",0,0,null,null,0,0]
["HUEBER   Mickael",null,null,"0000722",0,"NOBILE   Alain",null,null,"0000329",0,0,null,null,0,0]
["HUSSON   Yves",null,null,"0014130",0,"OSTER   Axelle",null,null,"0016166",0,0,null,null,0,0]
["JARDEL   Michael",null,null,"0004807",0,"PARISOT   Christophe",null,null,"0000698","ü",0,null,null,0,0]
["JOANNE   Stéphane",null,null,"0011270",0,"PELE   Yannick",null,null,"0016329",0,0,null,null,0,0]
["KASTENDEUCH   Fréderic",null,null,"0016352",0,"PEREIRA   Sébastien",null,null,"0000650","ü","   ",null,null,"",0]
["KASTNER   Sébastien",null,null,"0011906",0,"PEVILLER   Gerald",null,null,"0000518","ü","   ",null,null,0,0]
["KEHRER   Thomas",null,null,"0014857",0,"PIERRE   Jeffrey",null,null,"0011907",0,"   ",null,null,0,0]
["KLEIN   Sophie",null,null,"0011905",0,"PIGEOT   Jeremy",null,null,"0010677",0,"   ",null,null,0,0]
["KOCH   Jean-François",null,null,"0000507",0,"PITRUZZELLA   Guillaume",null,null,"0016231",0,"   ",null,null,0,0]
["KRENC   Boris",null,null,"0014854",0,"PITTET   Jordane",null,null,"0010207",0,"   ",null,null,0,0]
["LABETOWIEZ   Jean-François",null,null,"0001003",0,"POIROT   Christophe",null,null,"0012437",0,"   ",null,null,0,0]
["LAPORTE   Guillaume",null,null,"0014541",0,"POIROT   Rémi",null,null,"0000734",0,"   ",null,null,0,0]
["LE ROUX   Yannick",null,null,"0000635","ü","RIBEIRO   David",null,null,"0014858",0,"   ",null,null,0,0]
["LEBLANC   Daniel",null,null,"0011705",0,"RICHARD   Gabriel",null,null,"0016325",0,"",null,null,0,0]
["LEDIG   Martial",null,null,"0000327",0,"ROUSSEL   Benoît",null,null,"0014425",0,"CAp",null,null,0,0]
["LEGER   Thomas",null,null,"0011208",0,"RYCKELYNCK   Vincent",null,null,"0000506","ü","CAPE",null,null,0,0]
["LEGRIS   Fréderic",null,null,"0000537",0,"SANSO   Florian",null,null,"0010382",0,{"$error":"#REF!"},null,null,{"$error":"#REF!"},{"$error":"#REF!"}]
["LEMOINE   Nathan",null,null,"0014952",0,"SCHLITTER   Julien",null,null,"0000454",0,{"$error":"#REF!"},null,null,{"$error":"#REF!"},{"$error":"#REF!"}]
["SDIS 57"]
[]
["SUIVI DU CENTRE DE SECOURS DE HAGONDANGE"]
[]
[]
[]
["FORMATIONS",null,null,null,null,null,null,null,"SDE 2"]
[]
[]
["NOM - PRENOM","NOM","PRENOM","MATRICULE","SDE 2","NOM - PRENOM","NOM","PRENOM","MATRICULE","SDE 2","NOM - PRENOM","NOM","PRENOM","MATRICULE","SDE 2"]
[]
["AL NAKIB ARIZZI   Louis",null,null,"0013041",0,"LESECHE   Christophe",null,null,"0012816",0,"SCHMITT   Michael",null,null,"0014794",0]
["BOUDJELAL   Alexandre",null,null,"0014707",0,"LOMBARD   Maud",null,null,"0000795",0,"SCHNETTLER   Louise",null,null,"0014794",0]
["CAPEK   Jean-Claude",null,null,"0004796",0,"LOSSON   Patrick",null,null,"0000466",0,"SORIANO   Alexia",null,null,"0014703",0]
["CARLISI   Jonathan",null,null,"0011105",0,"LOUIS-FERDINAND   David",null,null,"0014390",0,"SPERANDIO   Lucas",null,null,"0014835",0]
["CEZARD   Céline",null,null,"0012601",0,"LUX   Thomas",null,null,"0011106",0,"SURREL   Léonie",null,null,"0002573",0]
["CLAUSSE   Julien",null,null,"0014518",0,"MAIDA    Patrick",null,null,"",0,"TAITE   Pierre",null,null,"",0]
["DARTHOIS   Stéphane",null,null,"0000038","ü","MANG   Michaël",null,null,"0011571",0,"THOUVENIN   Ludovic",null,null,"0012527",0]
["DELMONTE   Maxime",null,null,"",0,"MARCHAL   Julien",null,null,"0015023",0,"VAROQUIER   Nicolas",null,null,"0012136",0]
["DJEMLI   Nora",null,null,"0008074",0,"MARCHAL   Patrick",null,null,"0015026",0,"VENTURINI   Lucas",null,null,"0014453",0]
["DOUZANT   Damien",null,null,"0000606",0,"MARQUIS   Christophe",null,null,"0010882",0,"VERCELLINO   Marjorie",null,null,"0011252",0]
["DROITCOURT   Victorien",null,null,"0016109",0,"MAY   Romain",null,null,"0011559",0,"WANDROL   Geoffrey",null,null,"0009459",0]
["ESCUDIER   Adrien",null,null,"0000614",0,"MENDICINO   François",null,null,"0000237","ü","WEBER   Fabrice",null,null,"0000504",0]
["FEISTHAUER   Stéphane",null,null,"0001089",0,"MEYER   Thierry",null,null,"0000238","ü","WELKER   Tanguy",null,null,"0014810",0]
["FUCHS   Mickael",null,null,"0012666",0,"MIRBACH   David",null,null,"0011720",0,"WIZENTY   Sébastien",null,null,"0000000",0]
["GAUGIN   Yves",null,null,"0004976",0,"MOUTON   Lucie",null,null,"0009978",0,"WOJCIK   Jonathan",null,null,"0011904",0]
["HAUPTMANN   Julien",null,null,"0013001",0,"MULLER   Denis",null,null,"0000328","ü",0,null,null,0,0]
["HILLARD   Xavier",null,null,"0014372",0,"MULLER   Jeremy",null,null,"0009808",0,0,null,null,0,0]
["HOCQUARD   Pierre",null,null,"0011908",0,"NAVARETTE   Kevin",null,null,"0000798",0,0,null,null,0,0]
["HUEBER   Mickael",null,null,"0000722",0,"NOBILE   Alain",null,null,"0000329",0,0,null,null,0,0]
["HUSSON   Yves",null,null,"0014130",0,"OSTER   Axelle",null,null,"0016166",0,0,null,null,0,0]
["JARDEL   Michael",null,null,"0004807",0,"PARISOT   Christophe",null,null,"0000698","ü",0,null,null,0,0]
["JOANNE   Stéphane",null,null,"0011270",0,"PELE   Yannick",null,null,"0016329",0,0,null,null,0,0]
["KASTENDEUCH   Fréderic",null,null,"0016352",0,"PEREIRA   Sébastien",null,null,"0000650",0,"   ",null,null,"",0]
["KASTNER   Sébastien",null,null,"0011906",0,"PEVILLER   Gerald",null,null,"0000518",0,"   ",null,null,0,0]
["KEHRER   Thomas",null,null,"0014857",0,"PIERRE   Jeffrey",null,null,"0011907",0,"   ",null,null,0,0]
["KLEIN   Sophie",null,null,"0011905",0,"PIGEOT   Jeremy",null,null,"0010677",0,"   ",null,null,0,0]
["KOCH   Jean-François",null,null,"0000507",0,"PITRUZZELLA   Guillaume",null,null,"0016231",0,"   ",null,null,0,0]
["KRENC   Boris",null,null,"0014854",0,"PITTET   Jordane",null,null,"0010207",0,"   ",null,null,0,0]
["LABETOWIEZ   Jean-François",null,null,"0001003",0,"POIROT   Christophe",null,null,"0012437",0,"   ",null,null,0,0]
["LAPORTE   Guillaume",null,null,"0014541",0,"POIROT   Rémi",null,null,"0000734",0,"   ",null,null,0,0]
["LE ROUX   Yannick",null,null,"0000635",0,"RIBEIRO   David",null,null,"0014858",0,"   ",null,null,0,0]
["LEBLANC   Daniel",null,null,"0011705",0,"RICHARD   Gabriel",null,null,"0016325",0,"",null,null,0,0]
["LEDIG   Martial",null,null,"0000327",0,"ROUSSEL   Benoît",null,null,"0014425",0,"CAp",null,null,0,0]
["LEGER   Thomas",null,null,"0011208",0,"RYCKELYNCK   Vincent",null,null,"0000506","ü","CAPE",null,null,0,0]
["LEGRIS   Fréderic",null,null,"0000537",0,"SANSO   Florian",null,null,"0010382",0,{"$error":"#REF!"},null,null,{"$error":"#REF!"},{"$error":"#REF!"}]
["LEMOINE   Nathan",null,null,"0014952",0,"SCHLITTER   Julien",null,null,"0000454",0,{"$error":"#REF!"},null,null,{"$error":"#REF!"},{"$error":"#REF!"}]
["SDIS 57"]
[]
["SUIVI DU CENTRE DE SECOURS DE HAGONDANGE"]
[]
[]
[]
["FORMATIONS",null,null,null,null,null,null,null,"SDE 3"]
[]
[]
["NOM - PRENOM","NOM","PRENOM","MATRICULE","SDE 3","NOM - PRENOM","NOM","PRENOM","MATRICULE","SDE 3","NOM - PRENOM","NOM","PRENOM","MATRICULE","SDE 3"]
[]
["AL NAKIB ARIZZI   Louis",null,null,"0013041",0,"LESECHE   Christophe",null,null,"0012816",0,"SCHMITT   Michael",null,null,"0014794",0]
["BOUDJELAL   Alexandre",null,null,"0014707",0,"LOMBARD   Maud",null,null,"0000795",0,"SCHNETTLER   Louise",null,null,"0014794",0]
["CAPEK   Jean-Claude",null,null,"0004796",0,"LOSSON   Patrick",null,null,"0000466",0,"SORIANO   Alexia",null,null,"0014703",0]
["CARLISI   Jonathan",null,null,"0011105",0,"LOUIS-FERDINAND   David",null,null,"0014390",0,"SPERANDIO   Lucas",null,null,"0014835",0]
["CEZARD   Céline",null,null,"0012601",0,"LUX   Thomas",null,null,"0011106",0,"SURREL   Léonie",null,null,"0002573",0]
["CLAUSSE   Julien",null,null,"0014518",0,"MAIDA    Patrick",null,null,"",0,"TAITE   Pierre",null,null,"",0]
["DARTHOIS   Stéphane",null,null,"0000038",0,"MANG   Michaël",null,null,"0011571",0,"THOUVENIN   Ludovic",null,null,"0012527",0]
["DELMONTE   Maxime",null,null,"",0,"MARCHAL   Julien",null,null,"0015023",0,"VAROQUIER   Nicolas",null,null,"0012136",0]
["DJEMLI   Nora",null,null,"0008074",0,"MARCHAL   Patrick",null,null,"0015026",0,"VENTURINI   Lucas",null,null,"0014453",0]
["DOUZANT   Damien",null,null,"0000606",0,"MARQUIS   Christophe",null,null,"0010882",0,"VERCELLINO   Marjorie",null,null,"0011252",0]
["DROITCOURT   Victorien",null,null,"0016109",0,"MAY   Romain",null,null,"0011559",0,"WANDROL   Geoffrey",null,null,"0009459",0]
["ESCUDIER   Adrien",null,null,"0000614",0,"MENDICINO   François",null,null,"0000237",0,"WEBER   Fabrice",null,null,"0000504",0]
["FEISTHAUER   Stéphane",null,null,"0001089",0,"MEYER   Thierry",null,null,"0000238",0,"WELKER   Tanguy",null,null,"0014810",0]
["FUCHS   Mickael",null,null,"0012666",0,"MIRBACH   David",null,null,"0011720",0,"WIZENTY   Sébastien",null,null,"0000000",0]
["GAUGIN   Yves",null,null,"0004976",0,"MOUTON   Lucie",null,null,"0009978",0,"WOJCIK   Jonathan",null,null,"0011904",0]
["HAUPTMANN   Julien",null,null,"0013001",0,"MULLER   Denis",null,null,"0000328",0,0,null,null,0,0]
["HILLARD   Xavier",null,null,"0014372",0,"MULLER   Jeremy",null,null,"0009808",0,0,null,null,0,0]
["HOCQUARD   Pierre",null,null,"0011908",0,"NAVARETTE   Kevin",null,null,"0000798",0,0,null,null,0,0]
["HUEBER   Mickael",null,null,"0000722",0,"NOBILE   Alain",null,null,"0000329",0,0,null,null,0,0]
["HUSSON   Yves",null,null,"0014130",0,"OSTER   Axelle",null,null,"0016166",0,0,null,null,0,0]
["JARDEL   Michael",null,null,"0004807",0,"PARISOT   Christophe",null,null,"0000698",0,0,null,null,0,0]
["JOANNE   Stéphane",null,null,"0011270",0,"PELE   Yannick",null,null,"0016329",0,0,null,null,0,0]
["KASTENDEUCH   Fréderic",null,null,"0016352",0,"PEREIRA   Sébastien",null,null,"0000650",0,"   ",null,null,"",0]
["KASTNER   Sébastien",null,null,"0011906",0,"PEVILLER   Gerald",null,null,"0000518",0,"   ",null,null,0,0]
["KEHRER   Thomas",null,null,"0014857",0,"PIERRE   Jeffrey",null,null,"0011907",0,"   ",null,null,0,0]
["KLEIN   Sophie",null,null,"0011905",0,"PIGEOT   Jeremy",null,null,"0010677",0,"   ",null,null,0,0]
["KOCH   Jean-François",null,null,"0000507",0,"PITRUZZELLA   Guillaume",null,null,"0016231",0,"   ",null,null,0,0]
["KRENC   Boris",null,null,"0014854",0,"PITTET   Jordane",null,null,"0010207",0,"   ",null,null,0,0]
["LABETOWIEZ   Jean-François",null,null,"0001003",0,"POIROT   Christophe",null,null,"0012437",0,"   ",null,null,0,0]
["LAPORTE   Guillaume",null,null,"0014541",0,"POIROT   Rémi",null,null,"0000734",0,"   ",null,null,0,0]
["LE ROUX   Yannick",null,null,"0000635",0,"RIBEIRO   David",null,null,"0014858",0,"   ",null,null,0,0]
["LEBLANC   Daniel",null,null,"0011705",0,"RICHARD   Gabriel",null,null,"0016325",0,"",null,null,0,0]
["LEDIG   Martial",null,null,"0000327",0,"ROUSSEL   Benoît",null,null,"0014425",0,"CAp",null,null,0,0]
["LEGER   Thomas",null,null,"0011208",0,"RYCKELYNCK   Vincent",null,null,"0000506",0,"CAPE",null,null,0,0]
["LEGRIS   Fréderic",null,null,"0000537",0,"SANSO   Florian",null,null,"0010382",0,{"$error":"#REF!"},null,null,{"$error":"#REF!"},{"$error":"#REF!"}]
["LEMOINE   Nathan",null,null,"0014952",0,"SCHLITTER   Julien",null,null,"0000454",0,{"$error":"#REF!"},null,null,{"$error":"#REF!"},{"$error":"#REF!"}]
["SDIS 57"]
[]
["SUIVI DU CENTRE DE SECOURS DE HAGONDANGE"]
[]
[]
[]
["FORMATIONS",null,null,null,null,null,null,null,"RCH 1"]
[]
[]
["NOM - PRENOM","NOM","PRENOM","MATRICULE","RCH 1","NOM - PRENOM","NOM","PRENOM","MATRICULE","RCH 1","NOM - PRENOM","NOM","PRENOM","MATRICULE","RCH 1"]
[]
["AL NAKIB ARIZZI   Louis",null,null,"0013041",0,"LESECHE   Christophe",null,null,"0012816",0,"SCHMITT   Michael",null,null,"0014794","ü"]
["BOUDJELAL   Alexandre",null,null,"0014707",0,"LOMBARD   Maud",null,null,"0000795","ü","SCHNETTLER   Louise",null,null,"0014794",0]
["CAPEK   Jean-Claude",null,null,"0004796",0,"LOSSON   Patrick",null,null,"0000466","ü","SORIANO   Alexia",null,null,"0014703",0]
["CARLISI   Jonathan",null,null,"0011105",0,"LOUIS-FERDINAND   David",null,null,"0014390",0,"SPERANDIO   Lucas",null,null,"0014835",0]
["CEZARD   Céline",null,null,"0012601",0,"LUX   Thomas",null,null,"0011106",0,"SURREL   Léonie",null,null,"0002573",0]
["CLAUSSE   Julien",null,null,"0014518",0,"MAIDA    Patrick",null,null,"",0,"TAITE   Pierre",null,null,"",0]
["DARTHOIS   Stéphane",null,null,"0000038",0,"MANG   Michaël",null,null,"0011571",0,"THOUVENIN   Ludovic",null,null,"0012527",0]
["DELMONTE   Maxime",null,null,"",0,"MARCHAL   Julien",null,null,"0015023","ü","VAROQUIER   Nicolas",null,null,"0012136",0]
["DJEMLI   Nora",null,null,"0008074",0,"MARCHAL   Patrick",null,null,"0015026",0,"VENTURINI   Lucas",null,null,"0014453",0]
["DOUZANT   Damien",null,null,"0000606","ü","MARQUIS   Christophe",null,null,"0010882",0,"VERCELLINO   Marjorie",null,null,"0011252",0]
["DROITCOURT   Victorien",null,null,"0016109",0,"MAY   Romain",null,null,"0011559",0,"WANDROL   Geoffrey",null,null,"0009459",0]
["ESCUDIER   Adrien",null,null,"0000614","ü","MENDICINO   François",null,null,"0000237",0,"WEBER   Fabrice",null,null,"0000504","ü"]
["FEISTHAUER   Stéphane",null,null,"0001089",0,"MEYER   Thierry",null,null,"0000238",0,"WELKER   Tanguy",null,null,"0014810",0]
["FUCHS   Mickael",null,null,"0012666",0,"MIRBACH   David",null,null,"0011720",0,"WIZENTY   Sébastien",null,null,"0000000",0]
["GAUGIN   Yves",null,null,"0004976",0,"MOUTON   Lucie",null,null,"0009978",0,"WOJCIK   Jonathan",null,null,"0011904",0]
["HAUPTMANN   Julien",null,null,"0013001",0,"MULLER   Denis",null,null,"0000328","ü",0,null,null,0,0]
["HILLARD   Xavier",null,null,"0014372",0,"MULLER   Jeremy",null,null,"0009808",0,0,null,null,0,0]
["HOCQUARD   Pierre",null,null,"0011908",0,"NAVARETTE   Kevin",null,null,"0000798",0,0,null,null,0,0]
["HUEBER   Mickael",null,null,"0000722",0,"NOBILE   Alain",null,null,"0000329","ü",0,null,null,0,0]
["HUSSON   Yves",null,null,"0014130",0,"OSTER   Axelle",null,null,"0016166",0,0,null,null,0,0]
["JARDEL   Michael",null,null,"0004807",0,"PARISOT   Christophe",null,null,"0000698","ü",0,null,null,0,0]
["JOANNE   Stéphane",null,null,"0011270",0,"PELE   Yannick",null,null,"0016329",0,0,null,null,0,0]
["KASTENDEUCH   Fréderic",null,null,"0016352",0,"PEREIRA   Sébastien",null,null,"0000650",0,"   ",null,null,"",0]
["KASTNER   Sébastien",null,null,"0011906",0,"PEVILLER   Gerald",null,null,"0000518","ü","   ",null,null,0,0]
["KEHRER   Thomas",null,null,"0014857",0,"PIERRE   Jeffrey",null,null,"0011907",0,"   ",null,null,0,0]
["KLEIN   Sophie",null,null,"0011905",0,"PIGEOT   Jeremy",null,null,"0010677",0,"   ",null,null,0,0]
["KOCH   Jean-François",null,null,"0000507",0,"PITRUZZELLA   Guillaume",null,null,"0016231",0,"   ",null,null,0,0]
["KRENC   Boris",null,null,"0014854",0,"PITTET   Jordane",null,null,"0010207",0,"   ",null,null,0,0]
["LABETOWIEZ   Jean-François",null,null,"0001003","ü","POIROT   Christophe",null,null,"0012437",0,"   ",null,null,0,0]
["LAPORTE   Guillaume",null,null,"0014541",0,"POIROT   Rémi",null,null,"0000734",0,"   ",null,null,0,0]
["LE ROUX   Yannick",null,null,"0000635","ü","RIBEIRO   David",null,null,"0014858",0,"   ",null,null,0,0]
["LEBLANC   Daniel",null,null,"0011705",0,"RICHARD   Gabriel",null,null,"0016325",0,"",null,null,0,0]
["LEDIG   Martial",null,null,"0000327","ü","ROUSSEL   Benoît",null,null,"0014425",0,"CAp",null,null,0,0]
["LEGER   Thomas",null,null,"0011208",0,"RYCKELYNCK   Vincent",null,null,"0000506",0,"CAPE",null,null,0,0]
["LEGRIS   Fréderic",null,null,"0000537",0,"SANSO   Florian",null,null,"0010382",0,{"$error":"#REF!"},null,null,{"$error":"#REF!"},{"$error":"#REF!"}]
["LEMOINE   Nathan",null,null,"0014952",0,"SCHLITTER   Julien",null,null,"0000454",0,{"$error":"#REF!"},null,null,{"$error":"#REF!"},{"$error":"#REF!"}]
["SDIS 57"]
[]
["SUIVI DU CENTRE DE SECOURS DE HAGONDANGE"]
[]
[]
[]
["FORMATIONS",null,null,null,null,null,null,null,"RCH 2"]
[]
[]
["NOM - PRENOM","NOM","PRENOM","MATRICULE","RCH 2","NOM - PRENOM","NOM","PRENOM","MATRICULE","RCH 2","NOM - PRENOM","NOM","PRENOM","MATRICULE","RCH 2"]
[]
["AL NAKIB ARIZZI   Louis",null,null,"0013041",0,"LESECHE   Christophe",null,null,"0012816",0,"SCHMITT   Michael",null,null,"0014794","ü"]
["BOUDJELAL   Alexandre",null,null,"0014707",0,"LOMBARD   Maud",null,null,"0000795",0,"SCHNETTLER   Louise",null,null,"0014794",0]
["CAPEK   Jean-Claude",null,null,"0004796",0,"LOSSON   Patrick",null,null,"0000466","ü","SORIANO   Alexia",null,null,"0014703",0]
["CARLISI   Jonathan",null,null,"0011105",0,"LOUIS-FERDINAND   David",null,null,"0014390",0,"SPERANDIO   Lucas",null,null,"0014835",0]
["CEZARD   Céline",null,null,"0012601",0,"LUX   Thomas",null,null,"0011106",0,"SURREL   Léonie",null,null,"0002573",0]
["CLAUSSE   Julien",null,null,"0014518",0,"MAIDA    Patrick",null,null,"",0,"TAITE   Pierre",null,null,"",0]
["DARTHOIS   Stéphane",null,null,"0000038",0,"MANG   Michaël",null,null,"0011571",0,"THOUVENIN   Ludovic",null,null,"0012527",0]
["DELMONTE   Maxime",null,null,"",0,"MARCHAL   Julien",null,null,"0015023","ü","VAROQUIER   Nicolas",null,null,"0012136",0]
["DJEMLI   Nora",null,null,"0008074",0,"MARCHAL   Patrick",null,null,"0015026",0,"VENTURINI   Lucas",null,null,"0014453",0]
["DOUZANT   Damien",null,null,"0000606","ü","MARQUIS   Christophe",null,null,"0010882",0,"VERCELLINO   Marjorie",null,null,"0011252",0]
["DROITCOURT   Victorien",null,null,"0016109",0,"MAY   Romain",null,null,"0011559",0,"WANDROL   Geoffrey",null,null,"0009459",0]
["ESCUDIER   Adrien",null,null,"0000614","ü","MENDICINO   François",null,null,"0000237",0,"WEBER   Fabrice",null,null,"0000504","ü"]
["FEISTHAUER   Stéphane",null,null,"0001089",0,"MEYER   Thierry",null,null,"0000238",0,"WELKER   Tanguy",null,null,"0014810",0]
["FUCHS   Mickael",null,null,"0012666",0,"MIRBACH   David",null,null,"0011720",0,"WIZENTY   Sébastien",null,null,"0000000",0]
["GAUGIN   Yves",null,null,"0004976",0,"MOUTON   Lucie",null,null,"0009978",0,"WOJCIK   Jonathan",null,null,"0011904",0]
["HAUPTMANN   Julien",null,null,"0013001",0,"MULLER   Denis",null,null,"0000328",0,0,null,null,0,0]
["HILLARD   Xavier",null,null,"0014372",0,"MULLER   Jeremy",null,null,"0009808",0,0,null,null,0,0]
["HOCQUARD   Pierre",null,null,"0011908",0,"NAVARETTE   Kevin",null,null,"0000798",0,0,null,null,0,0]
["HUEBER   Mickael",null,null,"0000722",0,"NOBILE   Alain",null,null,"0000329",0,0,null,null,0,0]
["HUSSON   Yves",null,null,"0014130",0,"OSTER   Axelle",null,null,"0016166",0,0,null,null,0,0]
["JARDEL   Michael",null,null,"0004807",0,"PARISOT   Christophe",null,null,"0000698",0,0,null,null,0,0]
["JOANNE   Stéphane",null,null,"0011270",0,"PELE   Yannick",null,null,"0016329",0,0,null,null,0,0]
["KASTENDEUCH   Fréderic",null,null,"0016352",0,"PEREIRA   Sébastien",null,null,"0000650",0,"   ",null,null,"",0]
["KASTNER   Sébastien",null,null,"0011906",0,"PEVILLER   Gerald",null,null,"0000518","ü","   ",null,null,0,0]
["KEHRER   Thomas",null,null,"0014857",0,"PIERRE   Jeffrey",null,null,"0011907",0,"   ",null,null,0,0]
["KLEIN   Sophie",null,null,"0011905",0,"PIGEOT   Jeremy",null,null,"0010677",0,"   ",null,null,0,0]
["KOCH   Jean-François",null,null,"0000507",0,"PITRUZZELLA   Guillaume",null,null,"0016231",0,"   ",null,null,0,0]
["KRENC   Boris",null,null,"0014854",0,"PITTET   Jordane",null,null,"0010207",0,"   ",null,null,0,0]
["LABETOWIEZ   Jean-François",null,null,"0001003","ü","POIROT   Christophe",null,null,"0012437",0,"   ",null,null,0,0]
["LAPORTE   Guillaume",null,null,"0014541",0,"POIROT   Rémi",null,null,"0000734",0,"   ",null,null,0,0]
["LE ROUX   Yannick",null,null,"0000635",0,"RIBEIRO   David",null,null,"0014858",0,"   ",null,null,0,0]
["LEBLANC   Daniel",null,null,"0011705",0,"RICHARD   Gabriel",null,null,"0016325",0,"",null,null,0,0]
["LEDIG   Martial",null,null,"0000327","ü","ROUSSEL   Benoît",null,null,"0014425",0,"CAp",null,null,0,0]
["LEGER   Thomas",null,null,"0011208",0,"RYCKELYNCK   Vincent",null,null,"0000506",0,"CAPE",null,null,0,0]
["LEGRIS   Fréderic",null,null,"0000537",0,"SANSO   Florian",null,null,"0010382",0,{"$error":"#REF!"},null,null,{"$error":"#REF!"},{"$error":"#REF!"}]
["LEMOINE   Nathan",null,null,"0014952",0,"SCHLITTER   Julien",null,null,"0000454",0,{"$error":"#REF!"},null,null,{"$error":"#REF!"},{"$error":"#REF!"}]
["SDIS 57"]
[]
["SUIVI DU CENTRE DE SECOURS DE HAGONDANGE"]
[]
[]
[]
["FORMATIONS",null,null,null,null,null,null,null,"RCH 3"]
[]
[]
["NOM - PRENOM","NOM","PRENOM","MATRICULE","RCH 3","NOM - PRENOM","NOM","PRENOM","MATRICULE","RCH 3","NOM - PRENOM","NOM","PRENOM","MATRICULE","RCH 3"]
[]
["AL NAKIB ARIZZI   Louis",null,null,"0013041",0,"LESECHE   Christophe",null,null,"0012816",0,"SCHMITT   Michael",null,null,"0014794","ü"]
["BOUDJELAL   Alexandre",null,null,"0014707",0,"LOMBARD   Maud",null,null,"0000795",0,"SCHNETTLER   Louise",null,null,"0014794",0]
["CAPEK   Jean-Claude",null,null,"0004796",0,"LOSSON   Patrick",null,null,"0000466",0,"SORIANO   Alexia",null,null,"0014703",0]
["CARLISI   Jonathan",null,null,"0011105",0,"LOUIS-FERDINAND   David",null,null,"0014390",0,"SPERANDIO   Lucas",null,null,"0014835",0]
["CEZARD   Céline",null,null,"0012601",0,"LUX   Thomas",null,null,"0011106",0,"SURREL   Léonie",null,null,"0002573",0]
["CLAUSSE   Julien",null,null,"0014518",0,"MAIDA    Patrick",null,null,"",0,"TAITE   Pierre",null,null,"",0]
["DARTHOIS   Stéphane",null,null,"0000038",0,"MANG   Michaël",null,null,"0011571",0,"THOUVENIN   Ludovic",null,null,"0012527",0]
["DELMONTE   Maxime",null,null,"",0,"MARCHAL   Julien",null,null,"0015023",0,"VAROQUIER   Nicolas",null,null,"0012136",0]
["DJEMLI   Nora",null,null,"0008074",0,"MARCHAL   Patrick",null,null,"0015026",0,"VENTURINI   Lucas",null,null,"0014453",0]
["DOUZANT   Damien",null,null,"0000606",0,"MARQUIS   Christophe",null,null,"0010882",0,"VERCELLINO   Marjorie",null,null,"0011252",0]
["DROITCOURT   Victorien",null,null,"0016109",0,"MAY   Romain",null,null,"0011559",0,"WANDROL   Geoffrey",null,null,"0009459",0]
["ESCUDIER   Adrien",null,null,"0000614",0,"MENDICINO   François",null,null,"0000237",0,"WEBER   Fabrice",null,null,"0000504",0]
["FEISTHAUER   Stéphane",null,null,"0001089",0,"MEYER   Thierry",null,null,"0000238",0,"WELKER   Tanguy",null,null,"0014810",0]
["FUCHS   Mickael",null,null,"0012666",0,"MIRBACH   David",null,null,"0011720",0,"WIZENTY   Sébastien",null,null,"0000000",0]
["GAUGIN   Yves",null,null,"0004976",0,"MOUTON   Lucie",null,null,"0009978",0,"WOJCIK   Jonathan",null,null,"0011904",0]
["HAUPTMANN   Julien",null,null,"0013001",0,"MULLER   Denis",null,null,"0000328",0,0,null,null,0,0]
["HILLARD   Xavier",null,null,"0014372",0,"MULLER   Jeremy",null,null,"0009808",0,0,null,null,0,0]
["HOCQUARD   Pierre",null,null,"0011908",0,"NAVARETTE   Kevin",null,null,"0000798",0,0,null,null,0,0]
["HUEBER   Mickael",null,null,"0000722",0,"NOBILE   Alain",null,null,"0000329",0,0,null,null,0,0]
["HUSSON   Yves",null,null,"0014130",0,"OSTER   Axelle",null,null,"0016166",0,0,null,null,0,0]
["JARDEL   Michael",null,null,"0004807",0,"PARISOT   Christophe",null,null,"0000698",0,0,null,null,0,0]
["JOANNE   Stéphane",null,null,"0011270",0,"PELE   Yannick",null,null,"0016329",0,0,null,null,0,0]
["KASTENDEUCH   Fréderic",null,null,"0016352",0,"PEREIRA   Sébastien",null,null,"0000650",0,"   ",null,null,"",0]
["KASTNER   Sébastien",null,null,"0011906",0,"PEVILLER   Gerald",null,null,"0000518",0,"   ",null,null,0,0]
["KEHRER   Thomas",null,null,"0014857",0,"PIERRE   Jeffrey",null,null,"0011907",0,"   ",null,null,0,0]
["KLEIN   Sophie",null,null,"0011905",0,"PIGEOT   Jeremy",null,null,"0010677",0,"   ",null,null,0,0]
["KOCH   Jean-François",null,null,"0000507",0,"PITRUZZELLA   Guillaume",null,null,"0016231",0,"   ",null,null,0,0]
["KRENC   Boris",null,null,"0014854",0,"PITTET   Jordane",null,null,"0010207",0,"   ",null,null,0,0]
["LABETOWIEZ   Jean-François",null,null,"0001003","ü","POIROT   Christophe",null,null,"0012437",0,"   ",null,null,0,0]
["LAPORTE   Guillaume",null,null,"0014541",0,"POIROT   Rémi",null,null,"0000734",0,"   ",null,null,0,0]
["LE ROUX   Yannick",null,null,"0000635",0,"RIBEIRO   David",null,null,"0014858",0,"   ",null,null,0,0]
["LEBLANC   Daniel",null,null,"0011705",0,"RICHARD   Gabriel",null,null,"0016325",0,"",null,null,0,0]
["LEDIG   Martial",null,null,"0000327",0,"ROUSSEL   Benoît",null,null,"0014425",0,"CAp",null,null,0,0]
["LEGER   Thomas",null,null,"0011208",0,"RYCKELYNCK   Vincent",null,null,"0000506",0,"CAPE",null,null,0,0]
["LEGRIS   Fréderic",null,null,"0000537",0,"SANSO   Florian",null,null,"0010382",0,{"$error":"#REF!"},null,null,{"$error":"#REF!"},{"$error":"#REF!"}]
["LEMOINE   Nathan",null,null,"0014952",0,"SCHLITTER   Julien",null,null,"0000454",0,{"$error":"#REF!"},null,null,{"$error":"#REF!"},{"$error":"#REF!"}]
["SDIS 57"]
[]
["SUIVI DU CENTRE DE SECOURS DE HAGONDANGE"]
[]
[]
[]
["FORMATIONS",null,null,null,null,null,null,null,"RAD 1"]
[]
[]
["NOM - PRENOM","NOM","PRENOM","MATRICULE","RAD 1","NOM - PRENOM","NOM","PRENOM","MATRICULE","RAD 1","NOM - PRENOM","NOM","PRENOM","MATRICULE","RAD 1"]
[]
["AL NAKIB ARIZZI   Louis",null,null,"0013041",0,"LESECHE   Christophe",null,null,"0012816",0,"SCHMITT   Michael",null,null,"0014794",0]
["BOUDJELAL   Alexandre",null,null,"0014707",0,"LOMBARD   Maud",null,null,"0000795",0,"SCHNETTLER   Louise",null,null,"0014794",0]
["CAPEK   Jean-Claude",null,null,"0004796",0,"LOSSON   Patrick",null,null,"0000466","ü","SORIANO   Alexia",null,null,"0014703",0]
["CARLISI   Jonathan",null,null,"0011105",0,"LOUIS-FERDINAND   David",null,null,"0014390",0,"SPERANDIO   Lucas",null,null,"0014835",0]
["CEZARD   Céline",null,null,"0012601",0,"LUX   Thomas",null,null,"0011106","ü","SURREL   Léonie",null,null,"0002573",0]
["CLAUSSE   Julien",null,null,"0014518",0,"MAIDA    Patrick",null,null,"",0,"TAITE   Pierre",null,null,"",0]
["DARTHOIS   Stéphane",null,null,"0000038",0,"MANG   Michaël",null,null,"0011571",0,"THOUVENIN   Ludovic",null,null,"0012527",0]
["DELMONTE   Maxime",null,null,"",0,"MARCHAL   Julien",null,null,"0015023",0,"VAROQUIER   Nicolas",null,null,"0012136",0]
["DJEMLI   Nora",null,null,"0008074",0,"MARCHAL   Patrick",null,null,"0015026",0,"VENTURINI   Lucas",null,null,"0014453",0]
["DOUZANT   Damien",null,null,"0000606",0,"MARQUIS   Christophe",null,null,"0010882",0,"VERCELLINO   Marjorie",null,null,"0011252",0]
["DROITCOURT   Victorien",null,null,"0016109",0,"MAY   Romain",null,null,"0011559",0,"WANDROL   Geoffrey",null,null,"0009459",0]
["ESCUDIER   Adrien",null,null,"0000614",0,"MENDICINO   François",null,null,"0000237",0,"WEBER   Fabrice",null,null,"0000504","ü"]
["FEISTHAUER   Stéphane",null,null,"0001089",0,"MEYER   Thierry",null,null,"0000238","ü","WELKER   Tanguy",null,null,"0014810",0]
["FUCHS   Mickael",null,null,"0012666",0,"MIRBACH   David",null,null,"0011720",0,"WIZENTY   Sébastien",null,null,"0000000",0]
["GAUGIN   Yves",null,null,"0004976",0,"MOUTON   Lucie",null,null,"0009978",0,"WOJCIK   Jonathan",null,null,"0011904",0]
["HAUPTMANN   Julien",null,null,"0013001",0,"MULLER   Denis",null,null,"0000328","ü",0,null,null,0,0]
["HILLARD   Xavier",null,null,"0014372",0,"MULLER   Jeremy",null,null,"0009808",0,0,null,null,0,0]
["HOCQUARD   Pierre",null,null,"0011908",0,"NAVARETTE   Kevin",null,null,"0000798",0,0,null,null,0,0]
["HUEBER   Mickael",null,null,"0000722",0,"NOBILE   Alain",null,null,"0000329","ü",0,null,null,0,0]
["HUSSON   Yves",null,null,"0014130",0,"OSTER   Axelle",null,null,"0016166",0,0,null,null,0,0]
["JARDEL   Michael",null,null,"0004807",0,"PARISOT   Christophe",null,null,"0000698",0,0,null,null,0,0]
["JOANNE   Stéphane",null,null,"0011270",0,"PELE   Yannick",null,null,"0016329",0,0,null,null,0,0]
["KASTENDEUCH   Fréderic",null,null,"0016352",0,"PEREIRA   Sébastien",null,null,"0000650",0,"   ",null,null,"",0]
["KASTNER   Sébastien",null,null,"0011906",0,"PEVILLER   Gerald",null,null,"0000518",0,"   ",null,null,0,0]
["KEHRER   Thomas",null,null,"0014857",0,"PIERRE   Jeffrey",null,null,"0011907",0,"   ",null,null,0,0]
["KLEIN   Sophie",null,null,"0011905",0,"PIGEOT   Jeremy",null,null,"0010677",0,"   ",null,null,0,0]
["KOCH   Jean-François",null,null,"0000507","ü","PITRUZZELLA   Guillaume",null,null,"0016231",0,"   ",null,null,0,0]
["KRENC   Boris",null,null,"0014854",0,"PITTET   Jordane",null,null,"0010207",0,"   ",null,null,0,0]
["LABETOWIEZ   Jean-François",null,null,"0001003",0,"POIROT   Christophe",null,null,"0012437",0,"   ",null,null,0,0]
["LAPORTE   Guillaume",null,null,"0014541",0,"POIROT   Rémi",null,null,"0000734",0,"   ",null,null,0,0]
["LE ROUX   Yannick",null,null,"0000635",0,"RIBEIRO   David",null,null,"0014858",0,"   ",null,null,0,0]
["LEBLANC   Daniel",null,null,"0011705",0,"RICHARD   Gabriel",null,null,"0016325",0,"",null,null,0,0]
["LEDIG   Martial",null,null,"0000327","ü","ROUSSEL   Benoît",null,null,"0014425",0,"CAp",null,null,0,0]
["LEGER   Thomas",null,null,"0011208",0,"RYCKELYNCK   Vincent",null,null,"0000506",0,"CAPE",null,null,0,0]
["LEGRIS   Fréderic",null,null,"0000537","ü","SANSO   Florian",null,null,"0010382",0,{"$error":"#REF!"},null,null,{"$error":"#REF!"},{"$error":"#REF!"}]
["LEMOINE   Nathan",null,null,"0014952",0,"SCHLITTER   Julien",null,null,"0000454","ü",{"$error":"#REF!"},null,null,{"$error":"#REF!"},{"$error":"#REF!"}]
["SDIS 57"]
[]
["SUIVI DU CENTRE DE SECOURS DE HAGONDANGE"]
[]
[]
[]
["FORMATIONS",null,null,null,null,null,null,null,"RAD 2"]
[]
[]
["NOM - PRENOM","NOM","PRENOM","MATRICULE","RAD 2","NOM - PRENOM","NOM","PRENOM","MATRICULE","RAD 2","NOM - PRENOM","NOM","PRENOM","MATRICULE","RAD 2"]
[]
["AL NAKIB ARIZZI   Louis",null,null,"0013041",0,"LESECHE   Christophe",null,null,"0012816",0,"SCHMITT   Michael",null,null,"0014794",0]
["BOUDJELAL   Alexandre",null,null,"0014707",0,"LOMBARD   Maud",null,null,"0000795",0,"SCHNETTLER   Louise",null,null,"0014794",0]
["CAPEK   Jean-Claude",null,null,"0004796",0,"LOSSON   Patrick",null,null,"0000466",0,"SORIANO   Alexia",null,null,"0014703",0]
["CARLISI   Jonathan",null,null,"0011105",0,"LOUIS-FERDINAND   David",null,null,"0014390",0,"SPERANDIO   Lucas",null,null,"0014835",0]
["CEZARD   Céline",null,null,"0012601",0,"LUX   Thomas",null,null,"0011106",0,"SURREL   Léonie",null,null,"0002573",0]
["CLAUSSE   Julien",null,null,"0014518",0,"MAIDA    Patrick",null,null,"",0,"TAITE   Pierre",null,null,"",0]
["DARTHOIS   Stéphane",null,null,"0000038",0,"MANG   Michaël",null,null,"0011571",0,"THOUVENIN   Ludovic",null,null,"0012527",0]
["DELMONTE   Maxime",null,null,"",0,"MARCHAL   Julien",null,null,"0015023",0,"VAROQUIER   Nicolas",null,null,"0012136",0]
["DJEMLI   Nora",null,null,"0008074",0,"MARCHAL   Patrick",null,null,"0015026",0,"VENTURINI   Lucas",null,null,"0014453",0]
["DOUZANT   Damien",null,null,"0000606",0,"MARQUIS   Christophe",null,null,"0010882",0,"VERCELLINO   Marjorie",null,null,"0011252",0]
["DROITCOURT   Victorien",null,null,"0016109",0,"MAY   Romain",null,null,"0011559",0,"WANDROL   Geoffrey",null,null,"0009459",0]
["ESCUDIER   Adrien",null,null,"0000614",0,"MENDICINO   François",null,null,"0000237",0,"WEBER   Fabrice",null,null,"0000504","ü"]
["FEISTHAUER   Stéphane",null,null,"0001089",0,"MEYER   Thierry",null,null,"0000238","ü","WELKER   Tanguy",null,null,"0014810",0]
["FUCHS   Mickael",null,null,"0012666",0,"MIRBACH   David",null,null,"0011720",0,"WIZENTY   Sébastien",null,null,"0000000",0]
["GAUGIN   Yves",null,null,"0004976",0,"MOUTON   Lucie",null,null,"0009978",0,"WOJCIK   Jonathan",null,null,"0011904",0]
["HAUPTMANN   Julien",null,null,"0013001",0,"MULLER   Denis",null,null,"0000328",0,0,null,null,0,0]
["HILLARD   Xavier",null,null,"0014372",0,"MULLER   Jeremy",null,null,"0009808",0,0,null,null,0,0]
["HOCQUARD   Pierre",null,null,"0011908",0,"NAVARETTE   Kevin",null,null,"0000798",0,0,null,null,0,0]
["HUEBER   Mickael",null,null,"0000722",0,"NOBILE   Alain",null,null,"0000329","ü",0,null,null,0,0]
["HUSSON   Yves",null,null,"0014130",0,"OSTER   Axelle",null,null,"0016166",0,0,null,null,0,0]
["JARDEL   Michael",null,null,"0004807",0,"PARISOT   Christophe",null,null,"0000698",0,0,null,null,0,0]
["JOANNE   Stéphane",null,null,"0011270",0,"PELE   Yannick",null,null,"0016329",0,0,null,null,0,0]
["KASTENDEUCH   Fréderic",null,null,"0016352",0,"PEREIRA   Sébastien",null,null,"0000650",0,"   ",null,null,"",0]
["KASTNER   Sébastien",null,null,"0011906",0,"PEVILLER   Gerald",null,null,"0000518",0,"   ",null,null,0,0]
["KEHRER   Thomas",null,null,"0014857",0,"PIERRE   Jeffrey",null,null,"0011907",0,"   ",null,null,0,0]
["KLEIN   Sophie",null,null,"0011905",0,"PIGEOT   Jeremy",null,null,"0010677",0,"   ",null,null,0,0]
["KOCH   Jean-François",null,null,"0000507","ü","PITRUZZELLA   Guillaume",null,null,"0016231",0,"   ",null,null,0,0]
["KRENC   Boris",null,null,"0014854",0,"PITTET   Jordane",null,null,"0010207",0,"   ",null,null,0,0]
["LABETOWIEZ   Jean-François",null,null,"0001003",0,"POIROT   Christophe",null,null,"0012437",0,"   ",null,null,0,0]
["LAPORTE   Guillaume",null,null,"0014541",0,"POIROT   Rémi",null,null,"0000734",0,"   ",null,null,0,0]
["LE ROUX   Yannick",null,null,"0000635",0,"RIBEIRO   David",null,null,"0014858",0,"   ",null,null,0,0]
["LEBLANC   Daniel",null,null,"0011705",0,"RICHARD   Gabriel",null,null,"0016325",0,"",null,null,0,0]
["LEDIG   Martial",null,null,"0000327","ü","ROUSSEL   Benoît",null,null,"0014425",0,"CAp",null,null,0,0]
["LEGER   Thomas",null,null,"0011208",0,"RYCKELYNCK   Vincent",null,null,"0000506",0,"CAPE",null,null,0,0]
["LEGRIS   Fréderic",null,null,"0000537","ü","SANSO   Florian",null,null,"0010382",0,{"$error":"#REF!"},null,null,{"$error":"#REF!"},{"$error":"#REF!"}]
["LEMOINE   Nathan",null,null,"0014952",0,"SCHLITTER   Julien",null,null,"0000454","ü",{"$error":"#REF!"},null,null,{"$error":"#REF!"},{"$error":"#REF!"}]