{"text_format":"1","workbook":"xlsx","n_sheets":41,"sheets":["Accueil","Jeux","Papier","Cartons","Mouchoirs","Lego","Canard","Anglais","Bijoux","Météorite","Poissons","Dauphin","Excel","Ordinateur","Piège","Dionée","1","2","3","4","5","6","7","8","9","10","11","12","13","14","15","CP Mme VIALE","CP-CE1 Mme JEANNET","CE1 Mme GUILLOUX","CE1-CE2 Mme PINOT","CE2 Mme QUERAUD","CM1 M. MILLON","CM1-CM2 M. BECHADE","CM2 M. SOURY","CLIS Mme SANCHEZ","Statistiques"],"not_rendered":{"charts":0,"images":0,"macros":1,"external_links":0,"defined_names":0,"comments":0,"pivot_tables":0},"unopened":[],"bounds":{"document_bytes":16777216,"sheet_cells":100000,"rows_first":2000,"rows_last":500,"rows_between":2000,"halvings":0,"cell_chars":16384,"cell_head_chars":4096},"cells_cut":0,"cells_raw":0,"read":"whole","date_system":"1900"}

{"sheet":"Accueil","index":0,"n_rows":45,"n_cols":5,"rows_kept":45,"cut":false,"hidden":false,"merged":[[4,0,4,2],[0,0,2,5],[5,2,5,3],[21,2,21,3],[22,2,22,3],[6,2,6,3],[7,2,7,3],[8,2,8,3],[9,2,9,3],[10,2,10,3],[11,2,11,3],[12,2,12,3],[13,2,13,3],[14,2,14,3],[15,2,15,3],[16,2,16,3],[28,2,28,3],[29,2,29,3],[30,2,30,3],[37,0,37,1],[39,0,39,1],[31,2,31,3],[32,2,32,3],[33,2,33,3],[34,2,34,3],[35,2,35,3],[21,0,35,0],[23,2,23,3],[24,2,24,3],[25,2,25,3],[26,2,26,3],[27,2,27,3],[17,2,17,3],[18,2,18,3],[19,2,19,3],[20,2,20,3],[6,0,20,0]]}
["Atelier Périscolaires\n2014-2015"]
[]
[]
[]
["Renseignements ateliers :"]
[null,"Nom de l'atelier","Nom des intervenants"]
["Atelier du lundi","Jeux"]
[null,"Papier"]
[null,"Cartons"]
[null,"Mouchoirs"]
[null,"Lego"]
[null,"Canard"]
[null,"Anglais"]
[null,"Bijoux"]
[null,"Météorite"]
[null,"Poissons"]
[null,"Dauphin"]
[null,"Excel"]
[null,"Ordinateur"]
[null,"Piège"]
[null,"Dionée"]
["Atelier du jeudi",1]
[null,2]
[null,3]
[null,4]
[null,5]
[null,6]
[null,7]
[null,8]
[null,9]
[null,10]
[null,11]
[null,12]
[null,13]
[null,14]
[null,15]
[]
["Nombre total d'élèves :",null,{"$f":"SUM('CP Mme VIALE'!B6:C6,'CP-CE1 Mme JEANNET'!A6:C6,'CE1 Mme GUILLOUX'!A6:C6,'CE1-CE2 Mme PINOT'!A6:C6,'CE2 Mme QUERAUD'!A6:C6,'CM1 M. MILLON'!A6:C6,'CM1-CM2 M. BECHADE'!A6:C6,'CLIS Mme SANCHEZ'!A6:C6,'CM2 M. SOURY'!A6:C6)","v":194}]
[]
["Dates des périodes :"]
["P1","du","2014-09-02","au","2014-10-18"]
["P2","du","2014-11-02","au","2014-12-18"]
["P3","du","2015-01-04","au","2015-02-20"]
["P4","du","2015-03-08","au","2015-04-15"]
["P5","du","2015-05-02","au","2015-07-03"]

{"sheet":"Jeux","index":1,"n_rows":333,"n_cols":11,"rows_kept":333,"cut":false,"hidden":false,"merged":[[8,1,15,9],[33,0,34,10],[37,0,37,3],[89,0,89,1],[90,0,90,1],[90,2,90,9],[37,4,37,5],[91,0,92,10],[95,0,95,3],[95,4,95,5],[147,0,147,1],[148,0,148,1],[148,2,148,9],[149,0,150,10],[153,0,153,3],[153,4,153,5],[205,0,205,1],[206,0,206,1],[206,2,206,9],[207,0,208,10],[211,0,211,3],[211,4,211,5],[263,0,263,1],[264,0,264,1],[264,2,264,9],[265,0,266,10],[269,0,269,3],[269,4,269,5],[321,0,321,1],[322,0,322,1],[322,2,322,9],[331,2,331,6],[332,2,332,6],[323,0,324,10],[327,2,327,6],[328,2,328,6],[329,2,329,6],[330,2,330,6]]}
[]
[]
[]
[]
[]
[]
[]
[]
[null,{"$f":"Accueil!B7","v":"Jeux"}]
[]
[]
[]
[]
[]
[]
[]
[]
[]
[]
[]
[]
[]
[]
[]
[]
[]
[]
[]
[]
[]
[]
[]
[]
[{"$f":"Accueil!$B$7","v":"Jeux"}]
[]
[]
["Période :",{"$f":"Accueil!$A$41","v":"P1"},{"$f":"Accueil!$B$41","v":"du"},{"$f":"Accueil!$C$41","v":"2014-09-02"},{"$f":"Accueil!$D$41","v":"au"},{"$f":"Accueil!$E$41","v":"2014-10-18"}]
["Selectionnez la classe participant à l'atelier :"]
["NOM","Prénom","2014-09-02","2014-05-26","2014-05-27","2014-05-28","2014-05-29","2014-05-30","2014-05-31","2014-06-01","TOT"]
[null,null,null,null,null,null,null,null,null,null,{"$f":"SUM(C40:J40)","v":0}]
[null,null,null,null,null,null,null,null,null,null,{"$f":"SUM(C41:J41)","v":0}]
[null,null,null,null,null,null,null,null,null,null,0]
[null,null,null,null,null,null,null,null,null,null,0]
[null,null,null,null,null,null,null,null,null,null,0]
[null,null,null,null,null,null,null,null,null,null,0]
[null,null,null,null,null,null,null,null,null,null,0]
[null,null,null,null,null,null,null,null,null,null,0]
[null,null,null,null,null,null,null,null,null,null,0]
[null,null,null,null,null,null,null,null,null,null,0]
[null,null,null,null,null,null,null,null,null,null,0]
[null,null,null,null,null,null,null,null,null,null,0]
[null,null,null,null,null,null,null,null,null,null,0]
[null,null,null,null,null,null,null,null,null,null,0]
[null,null,null,null,null,null,null,null,null,null,0]
[null,null,null,null,null,null,null,null,null,null,0]
[null,null,null,null,null,null,null,null,null,null,0]
[null,null,null,null,null,null,null,null,null,null,0]
[null,null,null,null,null,null,null,null,null,null,0]
[null,null,null,null,null,null,null,null,null,null,0]
[null,null,null,null,null,null,null,null,null,null,0]
[null,null,null,null,null,null,null,null,null,null,0]
[null,null,null,null,null,null,null,null,null,null,0]
[null,null,null,null,null,null,null,null,null,null,0]
[null,null,null,null,null,null,null,null,null,null,0]
[null,null,null,null,null,null,null,null,null,null,{"$f":"SUM(C65:J65)","v":0}]
[null,null,null,null,null,null,null,null,null,null,{"$f":"SUM(C66:J66)","v":0}]
[null,null,null,null,null,null,null,null,null,null,0]
[null,null,null,null,null,null,null,null,null,null,0]
[null,null,null,null,null,null,null,null,null,null,0]
[null,null,null,null,null,null,null,null,null,null,0]
[null,null,null,null,null,null,null,null,null,null,0]
[null,null,null,null,null,null,null,null,null,null,0]
[null,null,null,null,null,null,null,null,null,null,0]
[null,null,null,null,null,null,null,null,null,null,0]
[null,null,null,null,null,null,null,null,null,null,0]
[null,null,null,null,null,null,null,null,null,null,0]
[null,null,null,null,null,null,null,null,null,null,0]
[null,null,null,null,null,null,null,null,null,null,0]
[null,null,null,null,null,null,null,null,null,null,0]
[null,null,null,null,null,null,null,null,null,null,0]
[null,null,null,null,null,null,null,null,null,null,0]
[null,null,null,null,null,null,null,null,null,null,0]
[null,null,null,null,null,null,null,null,null,null,{"$f":"SUM(C83:J83)","v":0}]
[null,null,null,null,null,null,null,null,null,null,0]
[null,null,null,null,null,null,null,null,null,null,0]
[null,null,null,null,null,null,null,null,null,null,0]
[null,null,null,null,null,null,null,null,null,null,0]
[null,null,null,null,null,null,null,null,null,null,0]
[null,null,null,null,null,null,null,null,null,null,0]
["TOT Jour",null,{"$f":"SUM(C40:C89)","v":0},{"$f":"SUM(D40:D89)","v":0},0,0,0,0,0,0]
["TOT Période",null,{"$f":"SUM(C90:J90)","v":0}]
[{"$f":"Accueil!$B$7","v":"Jeux"}]
[]
[]
["Période :",{"$f":"Accueil!$A42","v":"P2"},{"$f":"Accueil!$B42","v":"du"},{"$f":"Accueil!$C42","v":"2014-11-02"},{"$f":"Accueil!$D42","v":"au"},{"$f":"Accueil!$E42","v":"2014-12-18"}]
["Selectionnez la classe participant à l'atelier :"]
["NOM","Prénom","2014-05-25","2014-05-26","2014-05-27","2014-05-28","2014-05-29","2014-05-30","2014-05-31","2014-06-01","TOT"]
["MARTIN","Alban",null,null,null,null,null,null,null,null,{"$f":"SUM(C98:J98)","v":0}]
[null,null,null,null,null,null,null,null,null,null,{"$f":"SUM(C99:J99)","v":0}]
[null,null,null,null,null,null,null,null,null,null,0]
[null,null,null,null,null,null,null,null,null,null,0]
[null,null,null,null,null,null,null,null,null,null,0]
[null,null,null,null,null,null,null,null,null,null,0]
[null,null,null,null,null,null,null,null,null,null,0]
[null,null,null,null,null,null,null,null,null,null,0]
[null,null,null,null,null,null,null,null,null,null,0]
[null,null,null,null,null,null,null,null,null,null,0]
[null,null,null,null,null,null,null,null,null,null,0]
[null,null,null,null,null,null,null,null,null,null,0]
[null,null,null,null,null,null,null,null,null,null,0]
[null,null,null,null,null,null,null,null,null,null,0]
[null,null,null,null,null,null,null,null,null,null,0]
[null,null,null,null,null,null,null,null,null,null,0]
[null,null,null,null,null,null,null,null,null,null,0]
[null,null,null,null,null,null,null,null,null,null,0]
[null,null,null,null,null,null,null,null,null,null,0]
[null,null,null,null,null,null,null,null,null,null,0]
[null,null,null,null,null,null,null,null,null,null,0]
[null,null,null,null,null,null,null,null,null,null,0]
[null,null,null,null,null,null,null,null,null,null,0]
[null,null,null,null,null,null,null,null,null,null,0]
[null,null,null,null,null,null,null,null,null,null,0]
[null,null,null,null,null,null,null,null,null,null,{"$f":"SUM(C123:J123)","v":0}]
[null,null,null,null,null,null,null,null,null,null,{"$f":"SUM(C124:J124)","v":0}]
[null,null,null,null,null,null,null,null,null,null,0]
[null,null,null,null,null,null,null,null,null,null,0]
[null,null,null,null,null,null,null,null,null,null,0]
[null,null,null,null,null,null,null,null,null,null,0]
[null,null,null,null,null,null,null,null,null,null,0]
[null,null,null,null,null,null,null,null,null,null,0]
[null,null,null,null,null,null,null,null,null,null,0]
[null,null,null,null,null,null,null,null,null,null,0]
[null,null,null,null,null,null,null,null,null,null,0]
[null,null,null,null,null,null,null,null,null,null,0]
[null,null,null,null,null,null,null,null,null,null,0]
[null,null,null,null,null,null,null,null,null,null,0]
[null,null,null,null,null,null,null,null,null,null,0]
[null,null,null,null,null,null,null,null,null,null,0]
[null,null,null,null,null,null,null,null,null,null,0]
[null,null,null,null,null,null,null,null,null,null,0]
[null,null,null,null,null,null,null,null,null,null,0]
[null,null,null,null,null,null,null,null,null,null,0]
[null,null,null,null,null,null,null,null,null,null,0]
[null,null,null,null,null,null,null,null,null,null,0]
[null,null,null,null,null,null,null,null,null,null,0]
[null,null,null,null,null,null,null,null,null,null,0]
[null,null,null,null,null,null,null,null,null,null,0]
["TOT Jour",null,{"$f":"SUM(C98:C147)","v":0},{"$f":"SUM(D98:D147)","v":0},0,0,0,0,0,0]
["TOT Période",null,{"$f":"SUM(C148:J148)","v":0}]
[{"$f":"Accueil!$B$7","v":"Jeux"}]
[]
[]
["Période :",{"$f":"Accueil!A43","v":"P3"},{"$f":"Accueil!$B43","v":"du"},{"$f":"Accueil!$C43","v":"2015-01-04"},{"$f":"Accueil!$D43","v":"au"},{"$f":"Accueil!$E43","v":"2015-02-20"}]
["Selectionnez la classe participant à l'atelier :"]
["NOM","Prénom","2014-05-25","2014-05-26","2014-05-27","2014-05-28","2014-05-29","2014-05-30","2014-05-31","2014-06-01","TOT"]
["MARTIN","Alban",null,null,null,null,null,null,null,null,{"$f":"SUM(C156:J156)","v":0}]
[null,null,null,null,null,null,null,null,null,null,{"$f":"SUM(C157:J157)","v":0}]
[null,null,null,null,null,null,null,null,null,null,0]
[null,null,null,null,null,null,null,null,null,null,0]
[null,null,null,null,null,null,null,null,null,null,0]
[null,null,null,null,null,null,null,null,null,null,0]
[null,null,null,null,null,null,null,null,null,null,0]
[null,null,null,null,null,null,null,null,null,null,0]
[null,null,null,null,null,null,null,null,null,null,0]
[null,null,null,null,null,null,null,null,null,null,0]
[null,null,null,null,null,null,null,null,null,null,0]
[null,null,null,null,null,null,null,null,null,null,0]
[null,null,null,null,null,null,null,null,null,null,0]
[null,null,null,null,null,null,null,null,null,null,0]
[null,null,null,null,null,null,null,null,null,null,0]
[null,null,null,null,null,null,null,null,null,null,0]
[null,null,null,null,null,null,null,null,null,null,0]
[null,null,null,null,null,null,null,null,null,null,0]
[null,null,null,null,null,null,null,null,null,null,0]
[null,null,null,null,null,null,null,null,null,null,0]
[null,null,null,null,null,null,null,null,null,null,0]
[null,null,null,null,null,null,null,null,null,null,0]
[null,null,null,null,null,null,null,null,null,null,0]
[null,null,null,null,null,null,null,null,null,null,0]
[null,null,null,null,null,null,null,null,null,null,0]
[null,null,null,null,null,null,null,null,null,null,{"$f":"SUM(C181:J181)","v":0}]
[null,null,null,null,null,null,null,null,null,null,{"$f":"SUM(C182:J182)","v":0}]
[null,null,null,null,null,null,null,null,null,null,0]
[null,null,null,null,null,null,null,null,null,null,0]
[null,null,null,null,null,null,null,null,null,null,0]
[null,null,null,null,null,null,null,null,null,null,0]
[null,null,null,null,null,null,null,null,null,null,0]
[null,null,null,null,null,null,null,null,null,null,0]
[null,null,null,null,null,null,null,null,null,null,0]
[null,null,null,null,null,null,null,null,null,null,0]
[null,null,null,null,null,null,null,null,null,null,0]
[null,null,null,null,null,null,null,null,null,null,0]
[null,null,null,null,null,null,null,null,null,null,0]
[null,null,null,null,null,null,null,null,null,null,0]
[null,null,null,null,null,null,null,null,null,null,0]
[null,null,null,null,null,null,null,null,null,null,0]
[null,null,null,null,null,null,null,null,null,null,0]
[null,null,null,null,null,null,null,null,null,null,0]
[null,null,null,null,null,null,null,null,null,null,0]
[null,null,null,null,null,null,null,null,null,null,0]
[null,null,null,null,null,null,null,null,null,null,0]
[null,null,null,null,null,null,null,null,null,null,0]
[null,null,null,null,null,null,null,null,null,null,0]
[null,null,null,null,null,null,null,null,null,null,0]
[null,null,null,null,null,null,null,null,null,null,0]
["TOT Jour",null,{"$f":"SUM(C156:C205)","v":0},{"$f":"SUM(D156:D205)","v":0},0,0,0,0,0,0]
["TOT Période",null,{"$f":"SUM(C206:J206)","v":0}]
[{"$f":"Accueil!$B$7","v":"Jeux"}]
[]
[]
["Période :",{"$f":"Accueil!A44","v":"P4"},{"$f":"Accueil!$B44","v":"du"},{"$f":"Accueil!$C44","v":"2015-03-08"},{"$f":"Accueil!$D44","v":"au"},{"$f":"Accueil!$E44","v":"2015-04-15"}]
["Selectionnez la classe participant à l'atelier :"]
["NOM","Prénom","2014-05-25","2014-05-26","2014-05-27","2014-05-28","2014-05-29","2014-05-30","2014-05-31","2014-06-01","TOT"]
["MARTIN","Alban",null,null,null,null,null,null,null,null,{"$f":"SUM(C214:J214)","v":0}]
[null,null,null,null,null,null,null,null,null,null,{"$f":"SUM(C215:J215)","v":0}]
[null,null,null,null,null,null,null,null,null,null,0]
[null,null,null,null,null,null,null,null,null,null,0]
[null,null,null,null,null,null,null,null,null,null,0]
[null,null,null,null,null,null,null,null,null,null,0]
[null,null,null,null,null,null,null,null,null,null,0]
[null,null,null,null,null,null,null,null,null,null,0]
[null,null,null,null,null,null,null,null,null,null,0]
[null,null,null,null,null,null,null,null,null,null,0]
[null,null,null,null,null,null,null,null,null,null,0]
[null,null,null,null,null,null,null,null,null,null,0]
[null,null,null,null,null,null,null,null,null,null,0]
[null,null,null,null,null,null,null,null,null,null,0]
[null,null,null,null,null,null,null,null,null,null,0]
[null,null,null,null,null,null,null,null,null,null,0]
[null,null,null,null,null,null,null,null,null,null,0]
[null,null,null,null,null,null,null,null,null,null,0]
[null,null,null,null,null,null,null,null,null,null,0]
[null,null,null,null,null,null,null,null,null,null,0]
[null,null,null,null,null,null,null,null,null,null,0]
[null,null,null,null,null,null,null,null,null,null,0]
[null,null,null,null,null,null,null,null,null,null,0]
[null,null,null,null,null,null,null,null,null,null,0]
[null,null,null,null,null,null,null,null,null,null,0]
[null,null,null,null,null,null,null,null,null,null,{"$f":"SUM(C239:J239)","v":0}]
[null,null,null,null,null,null,null,null,null,null,{"$f":"SUM(C240:J240)","v":0}]
[null,null,null,null,null,null,null,null,null,null,0]
[null,null,null,null,null,null,null,null,null,null,0]
[null,null,null,null,null,null,null,null,null,null,0]
[null,null,null,null,null,null,null,null,null,null,0]
[null,null,null,null,null,null,null,null,null,null,0]
[null,null,null,null,null,null,null,null,null,null,0]
[null,null,null,null,null,null,null,null,null,null,0]
[null,null,null,null,null,null,null,null,null,null,0]
[null,null,null,null,null,null,null,null,null,null,0]
[null,null,null,null,null,null,null,null,null,null,0]
[null,null,null,null,null,null,null,null,null,null,0]
[null,null,null,null,null,null,null,null,null,null,0]
[null,null,null,null,null,null,null,null,null,null,0]
[null,null,null,null,null,null,null,null,null,null,0]
[null,null,null,null,null,null,null,null,null,null,0]
[null,null,null,null,null,null,null,null,null,null,0]
[null,null,null,null,null,null,null,null,null,null,0]
[null,null,null,null,null,null,null,null,null,null,0]
[null,null,null,null,null,null,null,null,null,null,0]
[null,null,null,null,null,null,null,null,null,null,0]
[null,null,null,null,null,null,null,null,null,null,0]
[null,null,null,null,null,null,null,null,null,null,0]
[null,null,null,null,null,null,null,null,null,null,0]
["TOT Jour",null,{"$f":"SUM(C214:C263)","v":0},{"$f":"SUM(D214:D263)","v":0},0,0,0,0,0,0]
["TOT Période",null,{"$f":"SUM(C264:J264)","v":0}]
[{"$f":"Accueil!$B$7","v":"Jeux"}]
[]
[]
["Période :",{"$f":"Accueil!A45","v":"P5"},{"$f":"Accueil!$B45","v":"du"},{"$f":"Accueil!$C45","v":"2015-05-02"},{"$f":"Accueil!$D45","v":"au"},{"$f":"Accueil!$E45","v":"2015-07-03"}]
["Selectionnez la classe participant à l'atelier :"]
["NOM","Prénom","2014-05-25","2014-05-26","2014-05-27","2014-05-28","2014-05-29","2014-05-30","2014-05-31","2014-06-01","TOT"]
["MARTIN","Alban",null,null,null,null,null,null,null,null,{"$f":"SUM(C272:J272)","v":0}]
[null,null,null,null,null,null,null,null,null,null,{"$f":"SUM(C273:J273)","v":0}]
[null,null,null,null,null,null,null,null,null,null,0]
[null,null,null,null,null,null,null,null,null,null,0]
[null,null,null,null,null,null,null,null,null,null,0]
[null,null,null,null,null,null,null,null,null,null,0]
[null,null,null,null,null,null,null,null,null,null,0]
[null,null,null,null,null,null,null,null,null,null,0]
[null,null,null,null,null,null,null,null,null,null,0]
[null,null,null,null,null,null,null,null,null,null,0]
[null,null,null,null,null,null,null,null,null,null,0]
[null,null,null,null,null,null,null,null,null,null,0]
[null,null,null,null,null,null,null,null,null,null,0]
[null,null,null,null,null,null,null,null,null,null,0]
[null,null,null,null,null,null,null,null,null,null,0]
[null,null,null,null,null,null,null,null,null,null,0]
[null,null,null,null,null,null,null,null,null,null,0]
[null,null,null,null,null,null,null,null,null,null,0]
[null,null,null,null,null,null,null,null,null,null,0]
[null,null,null,null,null,null,null,null,null,null,0]
[null,null,null,null,null,null,null,null,null,null,0]
[null,null,null,null,null,null,null,null,null,null,0]
[null,null,null,null,null,null,null,null,null,null,0]
[null,null,null,null,null,null,null,null,null,null,0]
[null,null,null,null,null,null,null,null,null,null,0]
[null,null,null,null,null,null,null,null,null,null,{"$f":"SUM(C297:J297)","v":0}]
[null,null,null,null,null,null,null,null,null,null,{"$f":"SUM(C298:J298)","v":0}]
[null,null,null,null,null,null,null,null,null,null,0]
[null,null,null,null,null,null,null,null,null,null,0]
[null,null,null,null,null,null,null,null,null,null,0]
[null,null,null,null,null,null,null,null,null,null,0]
[null,null,null,null,null,null,null,null,null,null,0]
[null,null,null,null,null,null,null,null,null,null,0]
[null,null,null,null,null,null,null,null,null,null,0]
[null,null,null,null,null,null,null,null,null,null,0]
[null,null,null,null,null,null,null,null,null,null,0]
[null,null,null,null,null,null,null,null,null,null,0]
[null,null,null,null,null,null,null,null,null,null,0]
[null,null,null,null,null,null,null,null,null,null,0]
[null,null,null,null,null,null,null,null,null,null,0]
[null,null,null,null,null,null,null,null,null,null,0]
[null,null,null,null,null,null,null,null,null,null,0]
[null,null,null,null,null,null,null,null,null,null,0]
[null,null,null,null,null,null,null,null,null,null,0]
[null,null,null,null,null,null,null,null,null,null,0]
[null,null,null,null,null,null,null,null,null,null,0]
[null,null,null,null,null,null,null,null,null,null,0]
[null,null,null,null,null,null,null,null,null,null,0]
[null,null,null,null,null,null,null,null,null,null,0]
[null,null,null,null,null,null,null,null,null,null,0]
["TOT Jour",null,{"$f":"SUM(C272:C321)","v":0},{"$f":"SUM(D272:D321)","v":0},0,0,0,0,0,0]
["TOT Période",null,{"$f":"SUM(C322:J322)","v":0}]
["Statistiques"]
[]
[]
["Nombre d'heure de fréquentation :"]
[{"$f":"Accueil!$A41","v":"P1"},{"$f":"$C$91*1.5","v":0},"heures de présence pour cet atelier et pour cette période"]
[{"$f":"Accueil!$A42","v":"P2"},{"$f":"$C$149*1.5","v":0},"heures de présence pour cet atelier et pour cette période"]
[{"$f":"Accueil!$A43","v":"P3"},{"$f":"$C$207*1.5","v":0},"heures de présence pour cet atelier et pour cette période"]
[{"$f":"Accueil!$A44","v":"P4"},{"$f":"$C$265*1.5","v":0},"heures de présence pour cet atelier et pour cette période"]
[{"$f":"Accueil!$A45","v":"P5"},{"$f":"$C$323*1.5","v":0},"heures de présence pour cet atelier et pour cette période"]
["TOT",{"$f":"SUM($B$328:$B$332)","v":0},"heures de présence pour cet atelier et pour l'année"]

{"sheet":"Papier","index":2,"n_rows":333,"n_cols":11,"rows_kept":333,"cut":false,"hidden":false,"merged":[[331,2,331,6],[332,2,332,6],[8,1,15,9],[323,0,324,10],[327,2,327,6],[328,2,328,6],[329,2,329,6],[330,2,330,6],[265,0,266,10],[269,0,269,3],[269,4,269,5],[321,0,321,1],[322,0,322,1],[322,2,322,9],[207,0,208,10],[211,0,211,3],[211,4,211,5],[263,0,263,1],[264,0,264,1],[264,2,264,9],[149,0,150,10],[153,0,153,3],[153,4,153,5],[205,0,205,1],[206,0,206,1],[206,2,206,9],[91,0,92,10],[95,0,95,3],[95,4,95,5],[147,0,147,1],[148,0,148,1],[148,2,148,9],[33,0,34,10],[37,0,37,3],[37,4,37,5],[89,0,89,1],[90,0,90,1],[90,2,90,9]]}
[]
[]
[]
[]
[]
[]
[]
[]
[null,{"$f":"Accueil!B8","v":"Papier"}]
[]
[]
[]
[]
[]
[]
[]
[]
[]
[]
[]
[]
[]
[]
[]
[]
[]
[]
[]
[]
[]
[]
[]
[]
[{"$f":"Accueil!$B8","v":"Papier"}]
[]
[]
["Période :",{"$f":"Accueil!$A$41","v":"P1"},{"$f":"Accueil!$B$41","v":"du"},{"$f":"Accueil!$C$41","v":"2014-09-02"},{"$f":"Accueil!$D$41","v":"au"},{"$f":"Accueil!$E$41","v":"2014-10-18"}]
["Selectionnez la classe participant à l'atelier :"]
["NOM","Prénom","2014-09-02","2014-05-26","2014-05-27","2014-05-28","2014-05-29","2014-05-30","2014-05-31","2014-06-01","TOT"]
[null,null,null,null,null,null,null,null,null,null,{"$f":"SUM(C40:J40)","v":0}]
[null,null,null,null,null,null,null,null,null,null,{"$f":"SUM(C41:J41)","v":0}]
[null,null,null,null,null,null,null,null,null,null,0]
[null,null,null,null,null,null,null,null,null,null,0]
[null,null,null,null,null,null,null,null,null,null,0]
[null,null,null,null,null,null,null,null,null,null,0]
[null,null,null,null,null,null,null,null,null,null,0]
[null,null,null,null,null,null,null,null,null,null,0]
[null,null,null,null,null,null,null,null,null,null,0]
[null,null,null,null,null,null,null,null,null,null,0]
[null,null,null,null,null,null,null,null,null,null,0]
[null,null,null,null,null,null,null,null,null,null,0]
[null,null,null,null,null,null,null,null,null,null,0]
[null,null,null,null,null,null,null,null,null,null,0]
[null,null,null,null,null,null,null,null,null,null,0]
[null,null,null,null,null,null,null,null,null,null,0]
[null,null,null,null,null,null,null,null,null,null,0]
[null,null,null,null,null,null,null,null,null,null,0]
[null,null,null,null,null,null,null,null,null,null,0]
[null,null,null,null,null,null,null,null,null,null,0]
[null,null,null,null,null,null,null,null,null,null,0]
[null,null,null,null,null,null,null,null,null,null,0]
[null,null,null,null,null,null,null,null,null,null,0]
[null,null,null,null,null,null,null,null,null,null,0]
[null,null,null,null,null,null,null,null,null,null,0]
[null,null,null,null,null,null,null,null,null,null,{"$f":"SUM(C65:J65)","v":0}]
[null,null,null,null,null,null,null,null,null,null,{"$f":"SUM(C66:J66)","v":0}]
[null,null,null,null,null,null,null,null,null,null,0]
[null,null,null,null,null,null,null,null,null,null,0]
[null,null,null,null,null,null,null,null,null,null,0]
[null,null,null,null,null,null,null,null,null,null,0]
[null,null,null,null,null,null,null,null,null,null,0]
[null,null,null,null,null,null,null,null,null,null,0]
[null,null,null,null,null,null,null,null,null,null,0]
[null,null,null,null,null,null,null,null,null,null,0]
[null,null,null,null,null,null,null,null,null,null,0]
[null,null,null,null,null,null,null,null,null,null,0]
[null,null,null,null,null,null,null,null,null,null,0]
[null,null,null,null,null,null,null,null,null,null,0]
[null,null,null,null,null,null,null,null,null,null,0]
[null,null,null,null,null,null,null,null,null,null,0]
[null,null,null,null,null,null,null,null,null,null,0]
[null,null,null,null,null,null,null,null,null,null,0]
[null,null,null,null,null,null,null,null,null,null,0]
[null,null,null,null,null,null,null,null,null,null,0]
[null,null,null,null,null,null,null,null,null,null,0]
[null,null,null,null,null,null,null,null,null,null,0]
[null,null,null,null,null,null,null,null,null,null,0]
[null,null,null,null,null,null,null,null,null,null,0]
[null,null,null,null,null,null,null,null,null,null,0]
["TOT Jour",null,{"$f":"SUM(C40:C89)","v":0},{"$f":"SUM(D40:D89)","v":0},0,0,0,0,0,0]
["TOT Période",null,{"$f":"SUM(C90:J90)","v":0}]
[{"$f":"Accueil!$B8","v":"Papier"}]
[]
[]
["Période :",{"$f":"Accueil!$A42","v":"P2"},{"$f":"Accueil!$B42","v":"du"},{"$f":"Accueil!$C42","v":"2014-11-02"},{"$f":"Accueil!$D42","v":"au"},{"$f":"Accueil!$E42","v":"2014-12-18"}]
["Selectionnez la classe participant à l'atelier :"]
["NOM","Prénom","2014-05-25","2014-05-26","2014-05-27","2014-05-28","2014-05-29","2014-05-30","2014-05-31","2014-06-01","TOT"]
[null,null,null,null,null,null,null,null,null,null,{"$f":"SUM(C98:J98)","v":0}]
[null,null,null,null,null,null,null,null,null,null,{"$f":"SUM(C99:J99)","v":0}]
[null,null,null,null,null,null,null,null,null,null,0]
[null,null,null,null,null,null,null,null,null,null,0]
[null,null,null,null,null,null,null,null,null,null,0]
[null,null,null,null,null,null,null,null,null,null,0]
[null,null,null,null,null,null,null,null,null,null,0]
[null,null,null,null,null,null,null,null,null,null,0]
[null,null,null,null,null,null,null,null,null,null,0]
[null,null,null,null,null,null,null,null,null,null,0]
[null,null,null,null,null,null,null,null,null,null,0]
[null,null,null,null,null,null,null,null,null,null,0]
[null,null,null,null,null,null,null,null,null,null,0]
[null,null,null,null,null,null,null,null,null,null,0]
[null,null,null,null,null,null,null,null,null,null,0]
[null,null,null,null,null,null,null,null,null,null,0]
[null,null,null,null,null,null,null,null,null,null,0]
[null,null,null,null,null,null,null,null,null,null,0]
[null,null,null,null,null,null,null,null,null,null,0]
[null,null,null,null,null,null,null,null,null,null,0]
[null,null,null,null,null,null,null,null,null,null,0]
[null,null,null,null,null,null,null,null,null,null,0]
[null,null,null,null,null,null,null,null,null,null,0]
[null,null,null,null,null,null,null,null,null,null,0]
[null,null,null,null,null,null,null,null,null,null,0]
[null,null,null,null,null,null,null,null,null,null,{"$f":"SUM(C123:J123)","v":0}]
[null,null,null,null,null,null,null,null,null,null,{"$f":"SUM(C124:J124)","v":0}]
[null,null,null,null,null,null,null,null,null,null,0]
[null,null,null,null,null,null,null,null,null,null,0]
[null,null,null,null,null,null,null,null,null,null,0]
[null,null,null,null,null,null,null,null,null,null,0]
[null,null,null,null,null,null,null,null,null,null,0]
[null,null,null,null,null,null,null,null,null,null,0]
[null,null,null,null,null,null,null,null,null,null,0]
[null,null,null,null,null,null,null,null,null,null,0]
[null,null,null,null,null,null,null,null,null,null,0]
[null,null,null,null,null,null,null,null,null,null,0]
[null,null,null,null,null,null,null,null,null,null,0]
[null,null,null,null,null,null,null,null,null,null,0]
[null,null,null,null,null,null,null,null,null,null,0]
[null,null,null,null,null,null,null,null,null,null,0]
[null,null,null,null,null,null,null,null,null,null,0]
[null,null,null,null,null,null,null,null,null,null,0]
[null,null,null,null,null,null,null,null,null,null,0]
[null,null,null,null,null,null,null,null,null,null,0]
[null,null,null,null,null,null,null,null,null,null,0]
[null,null,null,null,null,null,null,null,null,null,0]
[null,null,null,null,null,null,null,null,null,null,0]
[null,null,null,null,null,null,null,null,null,null,0]
[null,null,null,null,null,null,null,null,null,null,0]
["TOT Jour",null,{"$f":"SUM(C98:C147)","v":0},{"$f":"SUM(D98:D147)","v":0},0,0,0,0,0,0]
["TOT Période",null,{"$f":"SUM(C148:J148)","v":0}]
[{"$f":"Accueil!$B8","v":"Papier"}]
[]
[]
["Période :",{"$f":"Accueil!A43","v":"P3"},{"$f":"Accueil!$B43","v":"du"},{"$f":"Accueil!$C43","v":"2015-01-04"},{"$f":"Accueil!$D43","v":"au"},{"$f":"Accueil!$E43","v":"2015-02-20"}]
["Selectionnez la classe participant à l'atelier :"]
["NOM","Prénom","2014-05-25","2014-05-26","2014-05-27","2014-05-28","2014-05-29","2014-05-30","2014-05-31","2014-06-01","TOT"]
[null,null,null,null,null,null,null,null,null,null,{"$f":"SUM(C156:J156)","v":0}]
[null,null,null,null,null,null,null,null,null,null,{"$f":"SUM(C157:J157)","v":0}]
[null,null,null,null,null,null,null,null,null,null,0]
[null,null,null,null,null,null,null,null,null,null,0]
[null,null,null,null,null,null,null,null,null,null,0]
[null,null,null,null,null,null,null,null,null,null,0]
[null,null,null,null,null,null,null,null,null,null,0]
[null,null,null,null,null,null,null,null,null,null,0]
[null,null,null,null,null,null,null,null,null,null,0]
[null,null,null,null,null,null,null,null,null,null,0]
[null,null,null,null,null,null,null,null,null,null,0]
[null,null,null,null,null,null,null,null,null,null,0]
[null,null,null,null,null,null,null,null,null,null,0]
[null,null,null,null,null,null,null,null,null,null,0]
[null,null,null,null,null,null,null,null,null,null,0]
[null,null,null,null,null,null,null,null,null,null,0]
[null,null,null,null,null,null,null,null,null,null,0]
[null,null,null,null,null,null,null,null,null,null,0]
[null,null,null,null,null,null,null,null,null,null,0]
[null,null,null,null,null,null,null,null,null,null,0]
[null,null,null,null,null,null,null,null,null,null,0]
[null,null,null,null,null,null,null,null,null,null,0]
[null,null,null,null,null,null,null,null,null,null,0]
[null,null,null,null,null,null,null,null,null,null,0]
[null,null,null,null,null,null,null,null,null,null,0]
[null,null,null,null,null,null,null,null,null,null,{"$f":"SUM(C181:J181)","v":0}]
[null,null,null,null,null,null,null,null,null,null,{"$f":"SUM(C182:J182)","v":0}]
[null,null,null,null,null,null,null,null,null,null,0]
[null,null,null,null,null,null,null,null,null,null,0]
[null,null,null,null,null,null,null,null,null,null,0]
[null,null,null,null,null,null,null,null,null,null,0]
[null,null,null,null,null,null,null,null,null,null,0]
[null,null,null,null,null,null,null,null,null,null,0]
[null,null,null,null,null,null,null,null,null,null,0]
[null,null,null,null,null,null,null,null,null,null,0]
[null,null,null,null,null,null,null,null,null,null,0]
[null,null,null,null,null,null,null,null,null,null,0]
[null,null,null,null,null,null,null,null,null,null,0]
[null,null,null,null,null,null,null,null,null,null,0]
[null,null,null,null,null,null,null,null,null,null,0]
[null,null,null,null,null,null,null,null,null,null,0]
[null,null,null,null,null,null,null,null,null,null,0]
[null,null,null,null,null,null,null,null,null,null,0]
[null,null,null,null,null,null,null,null,null,null,0]
[null,null,null,null,null,null,null,null,null,null,0]
[null,null,null,null,null,null,null,null,null,null,0]
[null,null,null,null,null,null,null,null,null,null,0]
[null,null,null,null,null,null,null,null,null,null,0]
[null,null,null,null,null,null,null,null,null,null,0]
[null,null,null,null,null,null,null,null,null,null,0]
["TOT Jour",null,{"$f":"SUM(C156:C205)","v":0},{"$f":"SUM(D156:D205)","v":0},0,0,0,0,0,0]
["TOT Période",null,{"$f":"SUM(C206:J206)","v":0}]
[{"$f":"Accueil!$B8","v":"Papier"}]
[]
[]
["Période :",{"$f":"Accueil!A44","v":"P4"},{"$f":"Accueil!$B44","v":"du"},{"$f":"Accueil!$C44","v":"2015-03-08"},{"$f":"Accueil!$D44","v":"au"},{"$f":"Accueil!$E44","v":"2015-04-15"}]
["Selectionnez la classe participant à l'atelier :"]
["NOM","Prénom","2014-05-25","2014-05-26","2014-05-27","2014-05-28","2014-05-29","2014-05-30","2014-05-31","2014-06-01","TOT"]
[null,null,null,null,null,null,null,null,null,null,{"$f":"SUM(C214:J214)","v":0}]
[null,null,null,null,null,null,null,null,null,null,{"$f":"SUM(C215:J215)","v":0}]
[null,null,null,null,null,null,null,null,null,null,0]
[null,null,null,null,null,null,null,null,null,null,0]
[null,null,null,null,null,null,null,null,null,null,0]
[null,null,null,null,null,null,null,null,null,null,0]
[null,null,null,null,null,null,null,null,null,null,0]
[null,null,null,null,null,null,null,null,null,null,0]
[null,null,null,null,null,null,null,null,null,null,0]
[null,null,null,null,null,null,null,null,null,null,0]
[null,null,null,null,null,null,null,null,null,null,0]
[null,null,null,null,null,null,null,null,null,null,0]
[null,null,null,null,null,null,null,null,null,null,0]
[null,null,null,null,null,null,null,null,null,null,0]
[null,null,null,null,null,null,null,null,null,null,0]
[null,null,null,null,null,null,null,null,null,null,0]
[null,null,null,null,null,null,null,null,null,null,0]
[null,null,null,null,null,null,null,null,null,null,0]
[null,null,null,null,null,null,null,null,null,null,0]
[null,null,null,null,null,null,null,null,null,null,0]
[null,null,null,null,null,null,null,null,null,null,0]
[null,null,null,null,null,null,null,null,null,null,0]
[null,null,null,null,null,null,null,null,null,null,0]
[null,null,null,null,null,null,null,null,null,null,0]
[null,null,null,null,null,null,null,null,null,null,0]
[null,null,null,null,null,null,null,null,null,null,{"$f":"SUM(C239:J239)","v":0}]
[null,null,null,null,null,null,null,null,null,null,{"$f":"SUM(C240:J240)","v":0}]
[null,null,null,null,null,null,null,null,null,null,0]
[null,null,null,null,null,null,null,null,null,null,0]
[null,null,null,null,null,null,null,null,null,null,0]
[null,null,null,null,null,null,null,null,null,null,0]
[null,null,null,null,null,null,null,null,null,null,0]
[null,null,null,null,null,null,null,null,null,null,0]
[null,null,null,null,null,null,null,null,null,null,0]
[null,null,null,null,null,null,null,null,null,null,0]
[null,null,null,null,null,null,null,null,null,null,0]
[null,null,null,null,null,null,null,null,null,null,0]
[null,null,null,null,null,null,null,null,null,null,0]
[null,null,null,null,null,null,null,null,null,null,0]
[null,null,null,null,null,null,null,null,null,null,0]
[null,null,null,null,null,null,null,null,null,null,0]
[null,null,null,null,null,null,null,null,null,null,0]
[null,null,null,null,null,null,null,null,null,null,0]
[null,null,null,null,null,null,null,null,null,null,0]
[null,null,null,null,null,null,null,null,null,null,0]
[null,null,null,null,null,null,null,null,null,null,0]
[null,null,null,null,null,null,null,null,null,null,0]
[null,null,null,null,null,null,null,null,null,null,0]
[null,null,null,null,null,null,null,null,null,null,0]
[null,null,null,null,null,null,null,null,null,null,0]
["TOT Jour",null,{"$f":"SUM(C214:C263)","v":0},{"$f":"SUM(D214:D263)","v":0},0,0,0,0,0,0]
["TOT Période",null,{"$f":"SUM(C264:J264)","v":0}]
[{"$f":"Accueil!$B8","v":"Papier"}]
[]
[]
["Période :",{"$f":"Accueil!A45","v":"P5"},{"$f":"Accueil!$B45","v":"du"},{"$f":"Accueil!$C45","v":"2015-05-02"},{"$f":"Accueil!$D45","v":"au"},{"$f":"Accueil!$E45","v":"2015-07-03"}]
["Selectionnez la classe participant à l'atelier :"]
["NOM","Prénom","2014-05-25","2014-05-26","2014-05-27","2014-05-28","2014-05-29","2014-05-30","2014-05-31","2014-06-01","TOT"]
[null,null,null,null,null,null,null,null,null,null,{"$f":"SUM(C272:J272)","v":0}]
[null,null,null,null,null,null,null,null,null,null,{"$f":"SUM(C273:J273)","v":0}]
[null,null,null,null,null,null,null,null,null,null,0]
[null,null,null,null,null,null,null,null,null,null,0]
[null,null,null,null,null,null,null,null,null,null,0]
[null,null,null,null,null,null,null,null,null,null,0]
[null,null,null,null,null,null,null,null,null,null,0]
[null,null,null,null,null,null,null,null,null,null,0]
[null,null,null,null,null,null,null,null,null,null,0]
[null,null,null,null,null,null,null,null,null,null,0]
[null,null,null,null,null,null,null,null,null,null,0]
[null,null,null,null,null,null,null,null,null,null,0]
[null,null,null,null,null,null,null,null,null,null,0]
[null,null,null,null,null,null,null,null,null,null,0]
[null,null,null,null,null,null,null,null,null,null,0]
[null,null,null,null,null,null,null,null,null,null,0]
[null,null,null,null,null,null,null,null,null,null,0]
[null,null,null,null,null,null,null,null,null,null,0]
[null,null,null,null,null,null,null,null,null,null,0]
[null,null,null,null,null,null,null,null,null,null,0]
[null,null,null,null,null,null,null,null,null,null,0]
[null,null,null,null,null,null,null,null,null,null,0]
[null,null,null,null,null,null,null,null,null,null,0]
[null,null,null,null,null,null,null,null,null,null,0]
[null,null,null,null,null,null,null,null,null,null,0]
[null,null,null,null,null,null,null,null,null,null,{"$f":"SUM(C297:J297)","v":0}]
[null,null,null,null,null,null,null,null,null,null,{"$f":"SUM(C298:J298)","v":0}]
[null,null,null,null,null,null,null,null,null,null,0]
[null,null,null,null,null,null,null,null,null,null,0]
[null,null,null,null,null,null,null,null,null,null,0]
[null,null,null,null,null,null,null,null,null,null,0]
[null,null,null,null,null,null,null,null,null,null,0]
[null,null,null,null,null,null,null,null,null,null,0]
[null,null,null,null,null,null,null,null,null,null,0]
[null,null,null,null,null,null,null,null,null,null,0]
[null,null,null,null,null,null,null,null,null,null,0]
[null,null,null,null,null,null,null,null,null,null,0]
[null,null,null,null,null,null,null,null,null,null,0]
[null,null,null,null,null,null,null,null,null,null,0]
[null,null,null,null,null,null,null,null,null,null,0]
[null,null,null,null,null,null,null,null,null,null,0]
[null,null,null,null,null,null,null,null,null,null,0]
[null,null,null,null,null,null,null,null,null,null,0]
[null,null,null,null,null,null,null,null,null,null,0]
[null,null,null,null,null,null,null,null,null,null,0]
[null,null,null,null,null,null,null,null,null,null,0]
[null,null,null,null,null,null,null,null,null,null,0]
[null,null,null,null,null,null,null,null,null,null,0]
[null,null,null,null,null,null,null,null,null,null,0]
[null,null,null,null,null,null,null,null,null,null,0]
["TOT Jour",null,{"$f":"SUM(C272:C321)","v":0},{"$f":"SUM(D272:D321)","v":0},0,0,0,0,0,0]
["TOT Période",null,{"$f":"SUM(C322:J322)","v":0}]
["Statistiques"]
[]
[]
["Nombre d'heure de fréquentation :"]
[{"$f":"Accueil!$A41","v":"P1"},{"$f":"$C$91*1.5","v":0},"heures de présence pour cet atelier et pour cette période"]
[{"$f":"Accueil!$A42","v":"P2"},{"$f":"$C$149*1.5","v":0},"heures de présence pour cet atelier et pour cette période"]
[{"$f":"Accueil!$A43","v":"P3"},{"$f":"$C$207*1.5","v":0},"heures de présence pour cet atelier et pour cette période"]
[{"$f":"Accueil!$A44","v":"P4"},{"$f":"$C$265*1.5","v":0},"heures de présence pour cet atelier et pour cette période"]
[{"$f":"Accueil!$A45","v":"P5"},{"$f":"$C$323*1.5","v":0},"heures de présence pour cet atelier et pour cette période"]
["TOT",{"$f":"SUM($B$328:$B$332)","v":0},"heures de présence pour cet atelier et pour l'année"]

{"sheet":"Cartons","index":3,"n_rows":333,"n_cols":11,"rows_kept":333,"cut":false,"hidden":false,"merged":[[8,1,15,9],[332,2,332,6],[323,0,324,10],[327,2,327,6],[328,2,328,6],[329,2,329,6],[330,2,330,6],[331,2,331,6],[265,0,266,10],[269,0,269,3],[269,4,269,5],[321,0,321,1],[322,0,322,1],[322,2,322,9],[207,0,208,10],[211,0,211,3],[211,4,211,5],[263,0,263,1],[264,0,264,1],[264,2,264,9],[149,0,150,10],[153,0,153,3],[153,4,153,5],[205,0,205,1],[206,0,206,1],[206,2,206,9],[91,0,92,10],[95,0,95,3],[95,4,95,5],[147,0,147,1],[148,0,148,1],[148,2,148,9],[33,0,34,10],[37,0,37,3],[37,4,37,5],[89,0,89,1],[90,0,90,1],[90,2,90,9]]}
[]
[]
[]
[]
[]
[]
[]
[]
[null,{"$f":"Accueil!B9","v":"Cartons"}]
[]
[]
[]
[]
[]
[]
[]
[]
[]
[]
[]
[]
[]
[]
[]
[]
[]
[]
[]
[]
[]
[]
[]
[]
[{"$f":"Accueil!$B9","v":"Cartons"}]
[]
[]
["Période :",{"$f":"Accueil!$A$41","v":"P1"},{"$f":"Accueil!$B$41","v":"du"},{"$f":"Accueil!$C$41","v":"2014-09-02"},{"$f":"Accueil!$D$41","v":"au"},{"$f":"Accueil!$E$41","v":"2014-10-18"}]
["Selectionnez la classe participant à l'atelier :"]
["NOM","Prénom","2014-09-02","2014-05-26","2014-05-27","2014-05-28","2014-05-29","2014-05-30","2014-05-31","2014-06-01","TOT"]
[null,null,null,null,null,null,null,null,null,null,{"$f":"SUM(C40:J40)","v":0}]
[null,null,null,null,null,null,null,null,null,null,{"$f":"SUM(C41:J41)","v":0}]
[null,null,null,null,null,null,null,null,null,null,0]
[null,null,null,null,null,null,null,null,null,null,0]
[null,null,null,null,null,null,null,null,null,null,0]
[null,null,null,null,null,null,null,null,null,null,0]
[null,null,null,null,null,null,null,null,null,null,0]
[null,null,null,null,null,null,null,null,null,null,0]
[null,null,null,null,null,null,null,null,null,null,0]
[null,null,null,null,null,null,null,null,null,null,0]
[null,null,null,null,null,null,null,null,null,null,0]
[null,null,null,null,null,null,null,null,null,null,0]
[null,null,null,null,null,null,null,null,null,null,0]
[null,null,null,null,null,null,null,null,null,null,0]
[null,null,null,null,null,null,null,null,null,null,0]
[null,null,null,null,null,null,null,null,null,null,0]
[null,null,null,null,null,null,null,null,null,null,0]
[null,null,null,null,null,null,null,null,null,null,0]
[null,null,null,null,null,null,null,null,null,null,0]
[null,null,null,null,null,null,null,null,null,null,0]
[null,null,null,null,null,null,null,null,null,null,0]
[null,null,null,null,null,null,null,null,null,null,0]
[null,null,null,null,null,null,null,null,null,null,0]
[null,null,null,null,null,null,null,null,null,null,0]
[null,null,null,null,null,null,null,null,null,null,0]
[null,null,null,null,null,null,null,null,null,null,{"$f":"SUM(C65:J65)","v":0}]
[null,null,null,null,null,null,null,null,null,null,{"$f":"SUM(C66:J66)","v":0}]
[null,null,null,null,null,null,null,null,null,null,0]
[null,null,null,null,null,null,null,null,null,null,0]
[null,null,null,null,null,null,null,null,null,null,0]
[null,null,null,null,null,null,null,null,null,null,0]
[null,null,null,null,null,null,null,null,null,null,0]
[null,null,null,null,null,null,null,null,null,null,0]
[null,null,null,null,null,null,null,null,null,null,0]
[null,null,null,null,null,null,null,null,null,null,0]
[null,null,null,null,null,null,null,null,null,null,0]
[null,null,null,null,null,null,null,null,null,null,0]
[null,null,null,null,null,null,null,null,null,null,0]
[null,null,null,null,null,null,null,null,null,null,0]
[null,null,null,null,null,null,null,null,null,null,0]
[null,null,null,null,null,null,null,null,null,null,0]
[null,null,null,null,null,null,null,null,null,null,0]
[null,null,null,null,null,null,null,null,null,null,0]
[null,null,null,null,null,null,null,null,null,null,0]
[null,null,null,null,null,null,null,null,null,null,0]
[null,null,null,null,null,null,null,null,null,null,0]
[null,null,null,null,null,null,null,null,null,null,0]
[null,null,null,null,null,null,null,null,null,null,0]
[null,null,null,null,null,null,null,null,null,null,0]
[null,null,null,null,null,null,null,null,null,null,0]
["TOT Jour",null,{"$f":"SUM(C40:C89)","v":0},{"$f":"SUM(D40:D89)","v":0},0,0,0,0,0,0]
["TOT Période",null,{"$f":"SUM(C90:J90)","v":0}]
[{"$f":"Accueil!$B9","v":"Cartons"}]
[]
[]
["Période :",{"$f":"Accueil!$A42","v":"P2"},{"$f":"Accueil!$B42","v":"du"},{"$f":"Accueil!$C42","v":"2014-11-02"},{"$f":"Accueil!$D42","v":"au"},{"$f":"Accueil!$E42","v":"2014-12-18"}]
["Selectionnez la classe participant à l'atelier :"]
["NOM","Prénom","2014-05-25","2014-05-26","2014-05-27","2014-05-28","2014-05-29","2014-05-30","2014-05-31","2014-06-01","TOT"]
[null,null,null,null,null,null,null,null,null,null,{"$f":"SUM(C98:J98)","v":0}]
[null,null,null,null,null,null,null,null,null,null,{"$f":"SUM(C99:J99)","v":0}]
[null,null,null,null,null,null,null,null,null,null,0]
[null,null,null,null,null,null,null,null,null,null,0]
[null,null,null,null,null,null,null,null,null,null,0]
[null,null,null,null,null,null,null,null,null,null,0]
[null,null,null,null,null,null,null,null,null,null,0]
[null,null,null,null,null,null,null,null,null,null,0]
[null,null,null,null,null,null,null,null,null,null,0]
[null,null,null,null,null,null,null,null,null,null,0]
[null,null,null,null,null,null,null,null,null,null,0]
[null,null,null,null,null,null,null,null,null,null,0]
[null,null,null,null,null,null,null,null,null,null,0]
[null,null,null,null,null,null,null,null,null,null,0]
[null,null,null,null,null,null,null,null,null,null,0]
[null,null,null,null,null,null,null,null,null,null,0]
[null,null,null,null,null,null,null,null,null,null,0]
[null,null,null,null,null,null,null,null,null,null,0]
[null,null,null,null,null,null,null,null,null,null,0]
[null,null,null,null,null,null,null,null,null,null,0]
[null,null,null,null,null,null,null,null,null,null,0]
[null,null,null,null,null,null,null,null,null,null,0]
[null,null,null,null,null,null,null,null,null,null,0]
[null,null,null,null,null,null,null,null,null,null,0]
[null,null,null,null,null,null,null,null,null,null,0]
[null,null,null,null,null,null,null,null,null,null,{"$f":"SUM(C123:J123)","v":0}]
[null,null,null,null,null,null,null,null,null,null,{"$f":"SUM(C124:J124)","v":0}]
[null,null,null,null,null,null,null,null,null,null,0]
[null,null,null,null,null,null,null,null,null,null,0]
[null,null,null,null,null,null,null,null,null,null,0]
[null,null,null,null,null,null,null,null,null,null,0]
[null,null,null,null,null,null,null,null,null,null,0]
[null,null,null,null,null,null,null,null,null,null,0]
[null,null,null,null,null,null,null,null,null,null,0]
[null,null,null,null,null,null,null,null,null,null,0]
[null,null,null,null,null,null,null,null,null,null,0]
[null,null,null,null,null,null,null,null,null,null,0]
[null,null,null,null,null,null,null,null,null,null,0]
[null,null,null,null,null,null,null,null,null,null,0]
[null,null,null,null,null,null,null,null,null,null,0]
[null,null,null,null,null,null,null,null,null,null,0]
[null,null,null,null,null,null,null,null,null,null,0]
[null,null,null,null,null,null,null,null,null,null,0]
[null,null,null,null,null,null,null,null,null,null,0]
[null,null,null,null,null,null,null,null,null,null,0]
[null,null,null,null,null,null,null,null,null,null,0]
[null,null,null,null,null,null,null,null,null,null,0]
[null,null,null,null,null,null,null,null,null,null,0]
[null,null,null,null,null,null,null,null,null,null,0]
[null,null,null,null,null,null,null,null,null,null,0]
["TOT Jour",null,{"$f":"SUM(C98:C147)","v":0},{"$f":"SUM(D98:D147)","v":0},0,0,0,0,0,0]
["TOT Période",null,{"$f":"SUM(C148:J148)","v":0}]
[{"$f":"Accueil!$B9","v":"Cartons"}]
[]
[]
["Période :",{"$f":"Accueil!A43","v":"P3"},{"$f":"Accueil!$B43","v":"du"},{"$f":"Accueil!$C43","v":"2015-01-04"},{"$f":"Accueil!$D43","v":"au"},{"$f":"Accueil!$E43","v":"2015-02-20"}]
["Selectionnez la classe participant à l'atelier :"]
["NOM","Prénom","2014-05-25","2014-05-26","2014-05-27","2014-05-28","2014-05-29","2014-05-30","2014-05-31","2014-06-01","TOT"]
[null,null,null,null,null,null,null,null,null,null,{"$f":"SUM(C156:J156)","v":0}]
[null,null,null,null,null,null,null,null,null,null,{"$f":"SUM(C157:J157)","v":0}]
[null,null,null,null,null,null,null,null,null,null,0]
[null,null,null,null,null,null,null,null,null,null,0]
[null,null,null,null,null,null,null,null,null,null,0]
[null,null,null,null,null,null,null,null,null,null,0]
[null,null,null,null,null,null,null,null,null,null,0]
[null,null,null,null,null,null,null,null,null,null,0]
[null,null,null,null,null,null,null,null,null,null,0]
[null,null,null,null,null,null,null,null,null,null,0]
[null,null,null,null,null,null,null,null,null,null,0]
[null,null,null,null,null,null,null,null,null,null,0]
[null,null,null,null,null,null,null,null,null,null,0]
[null,null,null,null,null,null,null,null,null,null,0]
[null,null,null,null,null,null,null,null,null,null,0]
[null,null,null,null,null,null,null,null,null,null,0]
[null,null,null,null,null,null,null,null,null,null,0]
[null,null,null,null,null,null,null,null,null,null,0]
[null,null,null,null,null,null,null,null,null,null,0]
[null,null,null,null,null,null,null,null,null,null,0]
[null,null,null,null,null,null,null,null,null,null,0]
[null,null,null,null,null,null,null,null,null,null,0]
[null,null,null,null,null,null,null,null,null,null,0]
[null,null,null,null,null,null,null,null,null,null,0]
[null,null,null,null,null,null,null,null,null,null,0]
[null,null,null,null,null,null,null,null,null,null,{"$f":"SUM(C181:J181)","v":0}]
[null,null,null,null,null,null,null,null,null,null,{"$f":"SUM(C182:J182)","v":0}]
[null,null,null,null,null,null,null,null,null,null,0]
[null,null,null,null,null,null,null,null,null,null,0]
[null,null,null,null,null,null,null,null,null,null,0]
[null,null,null,null,null,null,null,null,null,null,0]
[null,null,null,null,null,null,null,null,null,null,0]
[null,null,null,null,null,null,null,null,null,null,0]
[null,null,null,null,null,null,null,null,null,null,0]
[null,null,null,null,null,null,null,null,null,null,0]
[null,null,null,null,null,null,null,null,null,null,0]
[null,null,null,null,null,null,null,null,null,null,0]
[null,null,null,null,null,null,null,null,null,null,0]
[null,null,null,null,null,null,null,null,null,null,0]
[null,null,null,null,null,null,null,null,null,null,0]
[null,null,null,null,null,null,null,null,null,null,0]
[null,null,null,null,null,null,null,null,null,null,0]
[null,null,null,null,null,null,null,null,null,null,0]
[null,null,null,null,null,null,null,null,null,null,0]
[null,null,null,null,null,null,null,null,null,null,0]
[null,null,null,null,null,null,null,null,null,null,0]
[null,null,null,null,null,null,null,null,null,null,0]
[null,null,null,null,null,null,null,null,null,null,0]
[null,null,null,null,null,null,null,null,null,null,0]
[null,null,null,null,null,null,null,null,null,null,0]
["TOT Jour",null,{"$f":"SUM(C156:C205)","v":0},{"$f":"SUM(D156:D205)","v":0},0,0,0,0,0,0]
["TOT Période",null,{"$f":"SUM(C206:J206)","v":0}]
[{"$f":"Accueil!$B9","v":"Cartons"}]
[]
[]
["Période :",{"$f":"Accueil!A44","v":"P4"},{"$f":"Accueil!$B44","v":"du"},{"$f":"Accueil!$C44","v":"2015-03-08"},{"$f":"Accueil!$D44","v":"au"},{"$f":"Accueil!$E44","v":"2015-04-15"}]
["Selectionnez la classe participant à l'atelier :"]
["NOM","Prénom","2014-05-25","2014-05-26","2014-05-27","2014-05-28","2014-05-29","2014-05-30","2014-05-31","2014-06-01","TOT"]
[null,null,null,null,null,null,null,null,null,null,{"$f":"SUM(C214:J214)","v":0}]
[null,null,null,null,null,null,null,null,null,null,{"$f":"SUM(C215:J215)","v":0}]
[null,null,null,null,null,null,null,null,null,null,0]
[null,null,null,null,null,null,null,null,null,null,0]
[null,null,null,null,null,null,null,null,null,null,0]
[null,null,null,null,null,null,null,null,null,null,0]
[null,null,null,null,null,null,null,null,null,null,0]
[null,null,null,null,null,null,null,null,null,null,0]
[null,null,null,null,null,null,null,null,null,null,0]
[null,null,null,null,null,null,null,null,null,null,0]
[null,null,null,null,null,null,null,null,null,null,0]
[null,null,null,null,null,null,null,null,null,null,0]
[null,null,null,null,null,null,null,null,null,null,0]
[null,null,null,null,null,null,null,null,null,null,0]
[null,null,null,null,null,null,null,null,null,null,0]
[null,null,null,null,null,null,null,null,null,null,0]
[null,null,null,null,null,null,null,null,null,null,0]
[null,null,null,null,null,null,null,null,null,null,0]
[null,null,null,null,null,null,null,null,null,null,0]
[null,null,null,null,null,null,null,null,null,null,0]
[null,null,null,null,null,null,null,null,null,null,0]
[null,null,null,null,null,null,null,null,null,null,0]
[null,null,null,null,null,null,null,null,null,null,0]
[null,null,null,null,null,null,null,null,null,null,0]
[null,null,null,null,null,null,null,null,null,null,0]
[null,null,null,null,null,null,null,null,null,null,{"$f":"SUM(C239:J239)","v":0}]
[null,null,null,null,null,null,null,null,null,null,{"$f":"SUM(C240:J240)","v":0}]
[null,null,null,null,null,null,null,null,null,null,0]
[null,null,null,null,null,null,null,null,null,null,0]
[null,null,null,null,null,null,null,null,null,null,0]
[null,null,null,null,null,null,null,null,null,null,0]
[null,null,null,null,null,null,null,null,null,null,0]
[null,null,null,null,null,null,null,null,null,null,0]
[null,null,null,null,null,null,null,null,null,null,0]
[null,null,null,null,null,null,null,null,null,null,0]
[null,null,null,null,null,null,null,null,null,null,0]
[null,null,null,null,null,null,null,null,null,null,0]
[null,null,null,null,null,null,null,null,null,null,0]
[null,null,null,null,null,null,null,null,null,null,0]
[null,null,null,null,null,null,null,null,null,null,0]
[null,null,null,null,null,null,null,null,null,null,0]
[null,null,null,null,null,null,null,null,null,null,0]
[null,null,null,null,null,null,null,null,null,null,0]
[null,null,null,null,null,null,null,null,null,null,0]
[null,null,null,null,null,null,null,null,null,null,0]
[null,null,null,null,null,null,null,null,null,null,0]
[null,null,null,null,null,null,null,null,null,null,0]
[null,null,null,null,null,null,null,null,null,null,0]
[null,null,null,null,null,null,null,null,null,null,0]
[null,null,null,null,null,null,null,null,null,null,0]
["TOT Jour",null,{"$f":"SUM(C214:C263)","v":0},{"$f":"SUM(D214:D263)","v":0},0,0,0,0,0,0]
["TOT Période",null,{"$f":"SUM(C264:J264)","v":0}]
[{"$f":"Accueil!$B9","v":"Cartons"}]
[]
[]
["Période :",{"$f":"Accueil!A45","v":"P5"},{"$f":"Accueil!$B45","v":"du"},{"$f":"Accueil!$C45","v":"2015-05-02"},{"$f":"Accueil!$D45","v":"au"},{"$f":"Accueil!$E45","v":"2015-07-03"}]
["Selectionnez la classe participant à l'atelier :"]
["NOM","Prénom","2014-05-25","2014-05-26","2014-05-27","2014-05-28","2014-05-29","2014-05-30","2014-05-31","2014-06-01","TOT"]
[null,null,null,null,null,null,null,null,null,null,{"$f":"SUM(C272:J272)","v":0}]
[null,null,null,null,null,null,null,null,null,null,{"$f":"SUM(C273:J273)","v":0}]
[null,null,null,null,null,null,null,null,null,null,0]
[null,null,null,null,null,null,null,null,null,null,0]
[null,null,null,null,null,null,null,null,null,null,0]
[null,null,null,null,null,null,null,null,null,null,0]
[null,null,null,null,null,null,null,null,null,null,0]
[null,null,null,null,null,null,null,null,null,null,0]
[null,null,null,null,null,null,null,null,null,null,0]
[null,null,null,null,null,null,null,null,null,null,0]
[null,null,null,null,null,null,null,null,null,null,0]
[null,null,null,null,null,null,null,null,null,null,0]
[null,null,null,null,null,null,null,null,null,null,0]
[null,null,null,null,null,null,null,null,null,null,0]
[null,null,null,null,null,null,null,null,null,null,0]
[null,null,null,null,null,null,null,null,null,null,0]
[null,null,null,null,null,null,null,null,null,null,0]
[null,null,null,null,null,null,null,null,null,null,0]
[null,null,null,null,null,null,null,null,null,null,0]
[null,null,null,null,null,null,null,null,null,null,0]
[null,null,null,null,null,null,null,null,null,null,0]
[null,null,null,null,null,null,null,null,null,null,0]
[null,null,null,null,null,null,null,null,null,null,0]
[null,null,null,null,null,null,null,null,null,null,0]
[null,null,null,null,null,null,null,null,null,null,0]
[null,null,null,null,null,null,null,null,null,null,{"$f":"SUM(C297:J297)","v":0}]
[null,null,null,null,null,null,null,null,null,null,{"$f":"SUM(C298:J298)","v":0}]
[null,null,null,null,null,null,null,null,null,null,0]
[null,null,null,null,null,null,null,null,null,null,0]
[null,null,null,null,null,null,null,null,null,null,0]
[null,null,null,null,null,null,null,null,null,null,0]
[null,null,null,null,null,null,null,null,null,null,0]
[null,null,null,null,null,null,null,null,null,null,0]
[null,null,null,null,null,null,null,null,null,null,0]
[null,null,null,null,null,null,null,null,null,null,0]
[null,null,null,null,null,null,null,null,null,null,0]
[null,null,null,null,null,null,null,null,null,null,0]
[null,null,null,null,null,null,null,null,null,null,0]
[null,null,null,null,null,null,null,null,null,null,0]
[null,null,null,null,null,null,null,null,null,null,0]
[null,null,null,null,null,null,null,null,null,null,0]
[null,null,null,null,null,null,null,null,null,null,0]
[null,null,null,null,null,null,null,null,null,null,0]
[null,null,null,null,null,null,null,null,null,null,0]
[null,null,null,null,null,null,null,null,null,null,0]
[null,null,null,null,null,null,null,null,null,null,0]
[null,null,null,null,null,null,null,null,null,null,0]
[null,null,null,null,null,null,null,null,null,null,0]
[null,null,null,null,null,null,null,null,null,null,0]
[null,null,null,null,null,null,null,null,null,null,0]
["TOT Jour",null,{"$f":"SUM(C272:C321)","v":0},{"$f":"SUM(D272:D321)","v":0},0,0,0,0,0,0]
["TOT Période",null,{"$f":"SUM(C322:J322)","v":0}]
["Statistiques"]
[]
[]
["Nombre d'heure de fréquentation :"]
[{"$f":"Accueil!$A41","v":"P1"},{"$f":"$C$91*1.5","v":0},"heures de présence pour cet atelier et pour cette période"]
[{"$f":"Accueil!$A42","v":"P2"},{"$f":"$C$149*1.5","v":0},"heures de présence pour cet atelier et pour cette période"]
[{"$f":"Accueil!$A43","v":"P3"},{"$f":"$C$207*1.5","v":0},"heures de présence pour cet atelier et pour cette période"]
[{"$f":"Accueil!$A44","v":"P4"},{"$f":"$C$265*1.5","v":0},"heures de présence pour cet atelier et pour cette période"]
[{"$f":"Accueil!$A45","v":"P5"},{"$f":"$C$323*1.5","v":0},"heures de présence pour cet atelier et pour cette période"]
["TOT",{"$f":"SUM($B$328:$B$332)","v":0},"heures de présence pour cet atelier et pour l'année"]

{"sheet":"Mouchoirs","index":4,"n_rows":333,"n_cols":11,"rows_kept":333,"cut":false,"hidden":false,"merged":[[331,2,331,6],[332,2,332,6],[8,1,15,9],[323,0,324,10],[327,2,327,6],[328,2,328,6],[329,2,329,6],[330,2,330,6],[265,0,266,10],[269,0,269,3],[269,4,269,5],[321,0,321,1],[322,0,322,1],[322,2,322,9],[211,0,211,3],[211,4,211,5],[149,0,150,10],[153,0,153,3],[153,4,153,5],[263,0,263,1],[264,0,264,1],[264,2,264,9],[205,0,205,1],[206,0,206,1],[206,2,206,9],[207,0,208,10],[91,0,92,10],[95,0,95,3],[95,4,95,5],[147,0,147,1],[148,0,148,1],[148,2,148,9],[33,0,34,10],[37,0,37,3],[37,4,37,5],[89,0,89,1],[90,0,90,1],[90,2,90,9]]}
[]
[]
[]
[]
[]
[]
[]
[]
[null,{"$f":"Accueil!B10","v":"Mouchoirs"}]
[]
[]
[]
[]
[]
[]
[]
[]
[]
[]
[]
[]
[]
[]
[]
[]
[]
[]
[]
[]
[]
[]
[]
[]
[{"$f":"Accueil!$B10","v":"Mouchoirs"}]
[]
[]
["Période :",{"$f":"Accueil!$A$41","v":"P1"},{"$f":"Accueil!$B$41","v":"du"},{"$f":"Accueil!$C$41","v":"2014-09-02"},{"$f":"Accueil!$D$41","v":"au"},{"$f":"Accueil!$E$41","v":"2014-10-18"}]
["Selectionnez la classe participant à l'atelier :"]
["NOM","Prénom","2014-09-02","2014-05-26","2014-05-27","2014-05-28","2014-05-29","2014-05-30","2014-05-31","2014-06-01","TOT"]
["MARTIN","Alban",null,null,null,null,null,null,null,null,{"$f":"SUM(C40:J40)","v":0}]
["MARTIN","Nathan",null,null,null,null,null,null,null,null,{"$f":"SUM(C41:J41)","v":0}]
["MARTIN","Yoan",null,null,null,null,null,null,null,null,0]
["MARTIN","Chloé",null,null,null,null,null,null,null,null,0]
["MARTIN","Amélie",null,null,null,null,null,null,null,null,0]
["MARTIN","Johan",null,null,null,null,null,null,null,null,0]
["MARTIN","Luke",null,null,null,null,null,null,null,null,0]
["MARTIN","Lucie",null,null,null,null,null,null,null,null,0]
["MARTIN","Noémie",null,null,null,null,null,null,null,null,0]
["MARTIN","Yanis",null,null,null,null,null,null,null,null,0]
["MARTIN","Thalia",null,null,null,null,null,null,null,null,0]
["MARTIN","Arthur",null,null,null,null,null,null,null,null,0]
["MARTIN","Woody",null,null,null,null,null,null,null,null,0]
["MARTIN","Alyssa",null,null,null,null,null,null,null,null,0]
["MARTIN","Antonin",null,null,null,null,null,null,null,null,0]
["MARTIN","Louanne",null,null,null,null,null,null,null,null,0]
["MARTIN","Samia",null,null,null,null,null,null,null,null,0]
["MARTIN","Clarence",null,null,null,null,null,null,null,null,0]
["MARTIN","Gabriel",null,null,null,null,null,null,null,null,0]
["MARTIN","Jade",null,null,null,null,null,null,null,null,0]
["MARTIN","Mathéo",null,null,null,null,null,null,null,null,0]
[null,null,null,null,null,null,null,null,null,null,0]
[null,null,null,null,null,null,null,null,null,null,0]
[null,null,null,null,null,null,null,null,null,null,0]
[null,null,null,null,null,null,null,null,null,null,0]
[null,null,null,null,null,null,null,null,null,null,{"$f":"SUM(C65:J65)","v":0}]
[null,null,null,null,null,null,null,null,null,null,{"$f":"SUM(C66:J66)","v":0}]
[null,null,null,null,null,null,null,null,null,null,0]
[null,null,null,null,null,null,null,null,null,null,0]
[null,null,null,null,null,null,null,null,null,null,0]
[null,null,null,null,null,null,null,null,null,null,0]
[null,null,null,null,null,null,null,null,null,null,0]
[null,null,null,null,null,null,null,null,null,null,0]
[null,null,null,null,null,null,null,null,null,null,0]
[null,null,null,null,null,null,null,null,null,null,0]
[null,null,null,null,null,null,null,null,null,null,0]
[null,null,null,null,null,null,null,null,null,null,0]
[null,null,null,null,null,null,null,null,null,null,0]
[null,null,null,null,null,null,null,null,null,null,0]
[null,null,null,null,null,null,null,null,null,null,0]
[null,null,null,null,null,null,null,null,null,null,0]
[null,null,null,null,null,null,null,null,null,null,0]
[null,null,null,null,null,null,null,null,null,null,0]
[null,null,null,null,null,null,null,null,null,null,0]
[null,null,null,null,null,null,null,null,null,null,0]
[null,null,null,null,null,null,null,null,null,null,0]
[null,null,null,null,null,null,null,null,null,null,0]
[null,null,null,null,null,null,null,null,null,null,0]
[null,null,null,null,null,null,null,null,null,null,0]
[null,null,null,null,null,null,null,null,null,null,0]
["TOT Jour",null,{"$f":"SUM(C40:C89)","v":0},{"$f":"SUM(D40:D89)","v":0},0,0,0,0,0,0]
["TOT Période",null,{"$f":"SUM(C90:J90)","v":0}]
[{"$f":"Accueil!$B10","v":"Mouchoirs"}]
[]
[]
["Période :",{"$f":"Accueil!$A42","v":"P2"},{"$f":"Accueil!$B42","v":"du"},{"$f":"Accueil!$C42","v":"2014-11-02"},{"$f":"Accueil!$D42","v":"au"},{"$f":"Accueil!$E42","v":"2014-12-18"}]
["Selectionnez la classe participant à l'atelier :"]
["NOM","Prénom","2014-05-25","2014-05-26","2014-05-27","2014-05-28","2014-05-29","2014-05-30","2014-05-31","2014-06-01","TOT"]
[null,null,null,null,null,null,null,null,null,null,{"$f":"SUM(C98:J98)","v":0}]
[null,null,null,null,null,null,null,null,null,null,{"$f":"SUM(C99:J99)","v":0}]
[null,null,null,null,null,null,null,null,null,null,0]
[null,null,null,null,null,null,null,null,null,null,0]
[null,null,null,null,null,null,null,null,null,null,0]
[null,null,null,null,null,null,null,null,null,null,0]
[null,null,null,null,null,null,null,null,null,null,0]
[null,null,null,null,null,null,null,null,null,null,0]
[null,null,null,null,null,null,null,null,null,null,0]
[null,null,null,null,null,null,null,null,null,null,0]
[null,null,null,null,null,null,null,null,null,null,0]
[null,null,null,null,null,null,null,null,null,null,0]
[null,null,null,null,null,null,null,null,null,null,0]
[null,null,null,null,null,null,null,null,null,null,0]
[null,null,null,null,null,null,null,null,null,null,0]
[null,null,null,null,null,null,null,null,null,null,0]
[null,null,null,null,null,null,null,null,null,null,0]
[null,null,null,null,null,null,null,null,null,null,0]
[null,null,null,null,null,null,null,null,null,null,0]
[null,null,null,null,null,null,null,null,null,null,0]
[null,null,null,null,null,null,null,null,null,null,0]
[null,null,null,null,null,null,null,null,null,null,0]
[null,null,null,null,null,null,null,null,null,null,0]
[null,null,null,null,null,null,null,null,null,null,0]
[null,null,null,null,null,null,null,null,null,null,0]
[null,null,null,null,null,null,null,null,null,null,{"$f":"SUM(C123:J123)","v":0}]
[null,null,null,null,null,null,null,null,null,null,{"$f":"SUM(C124:J124)","v":0}]
[null,null,null,null,null,null,null,null,null,null,0]
[null,null,null,null,null,null,null,null,null,null,0]
[null,null,null,null,null,null,null,null,null,null,0]
[null,null,null,null,null,null,null,null,null,null,0]
[null,null,null,null,null,null,null,null,null,null,0]
[null,null,null,null,null,null,null,null,null,null,0]
[null,null,null,null,null,null,null,null,null,null,0]
[null,null,null,null,null,null,null,null,null,null,0]
[null,null,null,null,null,null,null,null,null,null,0]
[null,null,null,null,null,null,null,null,null,null,0]
[null,null,null,null,null,null,null,null,null,null,0]
[null,null,null,null,null,null,null,null,null,null,0]
[null,null,null,null,null,null,null,null,null,null,0]
[null,null,null,null,null,null,null,null,null,null,0]
[null,null,null,null,null,null,null,null,null,null,0]
[null,null,null,null,null,null,null,null,null,null,0]
[null,null,null,null,null,null,null,null,null,null,0]
[null,null,null,null,null,null,null,null,null,null,0]
[null,null,null,null,null,null,null,null,null,null,0]
[null,null,null,null,null,null,null,null,null,null,0]
[null,null,null,null,null,null,null,null,null,null,0]
[null,null,null,null,null,null,null,null,null,null,0]
[null,null,null,null,null,null,null,null,null,null,0]
["TOT Jour",null,{"$f":"SUM(C98:C147)","v":0},{"$f":"SUM(D98:D147)","v":0},0,0,0,0,0,0]
["TOT Période",null,{"$f":"SUM(C148:J148)","v":0}]
[{"$f":"Accueil!$B10","v":"Mouchoirs"}]
[]
[]
["Période :",{"$f":"Accueil!A43","v":"P3"},{"$f":"Accueil!$B43","v":"du"},{"$f":"Accueil!$C43","v":"2015-01-04"},{"$f":"Accueil!$D43","v":"au"},{"$f":"Accueil!$E43","v":"2015-02-20"}]
["Selectionnez la classe participant à l'atelier :"]
["NOM","Prénom","2014-05-25","2014-05-26","2014-05-27","2014-05-28","2014-05-29","2014-05-30","2014-05-31","2014-06-01","TOT"]
[null,null,null,null,null,null,null,null,null,null,{"$f":"SUM(C156:J156)","v":0}]
[null,null,null,null,null,null,null,null,null,null,{"$f":"SUM(C157:J157)","v":0}]
[null,null,null,null,null,null,null,null,null,null,0]
[null,null,null,null,null,null,null,null,null,null,0]
[null,null,null,null,null,null,null,null,null,null,0]
[null,null,null,null,null,null,null,null,null,null,0]
[null,null,null,null,null,null,null,null,null,null,0]
[null,null,null,null,null,null,null,null,null,null,0]
[null,null,null,null,null,null,null,null,null,null,0]
[null,null,null,null,null,null,null,null,null,null,0]
[null,null,null,null,null,null,null,null,null,null,0]
[null,null,null,null,null,null,null,null,null,null,0]
[null,null,null,null,null,null,null,null,null,null,0]
[null,null,null,null,null,null,null,null,null,null,0]
[null,null,null,null,null,null,null,null,null,null,0]
[null,null,null,null,null,null,null,null,null,null,0]
[null,null,null,null,null,null,null,null,null,null,0]
[null,null,null,null,null,null,null,null,null,null,0]
[null,null,null,null,null,null,null,null,null,null,0]
[null,null,null,null,null,null,null,null,null,null,0]
[null,null,null,null,null,null,null,null,null,null,0]
[null,null,null,null,null,null,null,null,null,null,0]
[null,null,null,null,null,null,null,null,null,null,0]
[null,null,null,null,null,null,null,null,null,null,0]
[null,null,null,null,null,null,null,null,null,null,0]
[null,null,null,null,null,null,null,null,null,null,{"$f":"SUM(C181:J181)","v":0}]
[null,null,null,null,null,null,null,null,null,null,{"$f":"SUM(C182:J182)","v":0}]
[null,null,null,null,null,null,null,null,null,null,0]
[null,null,null,null,null,null,null,null,null,null,0]
[null,null,null,null,null,null,null,null,null,null,0]
[null,null,null,null,null,null,null,null,null,null,0]
[null,null,null,null,null,null,null,null,null,null,0]
[null,null,null,null,null,null,null,null,null,null,0]
[null,null,null,null,null,null,null,null,null,null,0]
[null,null,null,null,null,null,null,null,null,null,0]
[null,null,null,null,null,null,null,null,null,null,0]
[null,null,null,null,null,null,null,null,null,null,0]
[null,null,null,null,null,null,null,null,null,null,0]
[null,null,null,null,null,null,null,null,null,null,0]
[null,null,null,null,null,null,null,null,null,null,0]
[null,null,null,null,null,null,null,null,null,null,0]
[null,null,null,null,null,null,null,null,null,null,0]
[null,null,null,null,null,null,null,null,null,null,0]
[null,null,null,null,null,null,null,null,null,null,0]
[null,null,null,null,null,null,null,null,null,null,0]
[null,null,null,null,null,null,null,null,null,null,0]
[null,null,null,null,null,null,null,null,null,null,0]
[null,null,null,null,null,null,null,null,null,null,0]
[null,null,null,null,null,null,null,null,null,null,0]
[null,null,null,null,null,null,null,null,null,null,0]
["TOT Jour",null,{"$f":"SUM(C156:C205)","v":0},{"$f":"SUM(D156:D205)","v":0},0,0,0,0,0,0]
["TOT Période",null,{"$f":"SUM(C206:J206)","v":0}]
[{"$f":"Accueil!$B10","v":"Mouchoirs"}]
[]
[]
["Période :",{"$f":"Accueil!A44","v":"P4"},{"$f":"Accueil!$B44","v":"du"},{"$f":"Accueil!$C44","v":"2015-03-08"},{"$f":"Accueil!$D44","v":"au"},{"$f":"Accueil!$E44","v":"2015-04-15"}]
["Selectionnez la classe participant à l'atelier :"]
["NOM","Prénom","2014-05-25","2014-05-26","2014-05-27","2014-05-28","2014-05-29","2014-05-30","2014-05-31","2014-06-01","TOT"]
[null,null,null,null,null,null,null,null,null,null,{"$f":"SUM(C214:J214)","v":0}]
[null,null,null,null,null,null,null,null,null,null,{"$f":"SUM(C215:J215)","v":0}]
[null,null,null,null,null,null,null,null,null,null,0]
[null,null,null,null,null,null,null,null,null,null,0]
[null,null,null,null,null,null,null,null,null,null,0]
[null,null,null,null,null,null,null,null,null,null,0]
[null,null,null,null,null,null,null,null,null,null,0]
[null,null,null,null,null,null,null,null,null,null,0]
[null,null,null,null,null,null,null,null,null,null,0]
[null,null,null,null,null,null,null,null,null,null,0]
[null,null,null,null,null,null,null,null,null,null,0]
[null,null,null,null,null,null,null,null,null,null,0]
[null,null,null,null,null,null,null,null,null,null,0]
[null,null,null,null,null,null,null,null,null,null,0]
[null,null,null,null,null,null,null,null,null,null,0]
[null,null,null,null,null,null,null,null,null,null,0]
[null,null,null,null,null,null,null,null,null,null,0]
[null,null,null,null,null,null,null,null,null,null,0]
[null,null,null,null,null,null,null,null,null,null,0]
[null,null,null,null,null,null,null,null,null,null,0]
[null,null,null,null,null,null,null,null,null,null,0]
[null,null,null,null,null,null,null,null,null,null,0]
[null,null,null,null,null,null,null,null,null,null,0]
[null,null,null,null,null,null,null,null,null,null,0]
[null,null,null,null,null,null,null,null,null,null,0]
[null,null,null,null,null,null,null,null,null,null,{"$f":"SUM(C239:J239)","v":0}]
[null,null,null,null,null,null,null,null,null,null,{"$f":"SUM(C240:J240)","v":0}]
[null,null,null,null,null,null,null,null,null,null,0]
[null,null,null,null,null,null,null,null,null,null,0]
[null,null,null,null,null,null,null,null,null,null,0]
[null,null,null,null,null,null,null,null,null,null,0]
[null,null,null,null,null,null,null,null,null,null,0]
[null,null,null,null,null,null,null,null,null,null,0]
[null,null,null,null,null,null,null,null,null,null,0]
[null,null,null,null,null,null,null,null,null,null,0]
[null,null,null,null,null,null,null,null,null,null,0]
[null,null,null,null,null,null,null,null,null,null,0]
[null,null,null,null,null,null,null,null,null,null,0]
[null,null,null,null,null,null,null,null,null,null,0]
[null,null,null,null,null,null,null,null,null,null,0]
[null,null,null,null,null,null,null,null,null,null,0]
[null,null,null,null,null,null,null,null,null,null,0]
[null,null,null,null,null,null,null,null,null,null,0]
[null,null,null,null,null,null,null,null,null,null,0]
[null,null,null,null,null,null,null,null,null,null,0]
[null,null,null,null,null,null,null,null,null,null,0]
[null,null,null,null,null,null,null,null,null,null,0]
[null,null,null,null,null,null,null,null,null,null,0]
[null,null,null,null,null,null,null,null,null,null,0]
[null,null,null,null,null,null,null,null,null,null,0]
["TOT Jour",null,{"$f":"SUM(C214:C263)","v":0},{"$f":"SUM(D214:D263)","v":0},0,0,0,0,0,0]
["TOT Période",null,{"$f":"SUM(C264:J264)","v":0}]
[{"$f":"Accueil!$B10","v":"Mouchoirs"}]
[]
[]
["Période :",{"$f":"Accueil!A45","v":"P5"},{"$f":"Accueil!$B45","v":"du"},{"$f":"Accueil!$C45","v":"2015-05-02"},{"$f":"Accueil!$D45","v":"au"},{"$f":"Accueil!$E45","v":"2015-07-03"}]
["Selectionnez la classe participant à l'atelier :"]
["NOM","Prénom","2014-05-25","2014-05-26","2014-05-27","2014-05-28","2014-05-29","2014-05-30","2014-05-31","2014-06-01","TOT"]
[null,null,null,null,null,null,null,null,null,null,{"$f":"SUM(C272:J272)","v":0}]
[null,null,null,null,null,null,null,null,null,null,{"$f":"SUM(C273:J273)","v":0}]
[null,null,null,null,null,null,null,null,null,null,0]
[null,null,null,null,null,null,null,null,null,null,0]
[null,null,null,null,null,null,null,null,null,null,0]
[null,null,null,null,null,null,null,null,null,null,0]
[null,null,null,null,null,null,null,null,null,null,0]
[null,null,null,null,null,null,null,null,null,null,0]
[null,null,null,null,null,null,null,null,null,null,0]
[null,null,null,null,null,null,null,null,null,null,0]
[null,null,null,null,null,null,null,null,null,null,0]
[null,null,null,null,null,null,null,null,null,null,0]
[null,null,null,null,null,null,null,null,null,null,0]
[null,null,null,null,null,null,null,null,null,null,0]
[null,null,null,null,null,null,null,null,null,null,0]
[null,null,null,null,null,null,null,null,null,null,0]
[null,null,null,null,null,null,null,null,null,null,0]
[null,null,null,null,null,null,null,null,null,null,0]
[null,null,null,null,null,null,null,null,null,null,0]
[null,null,null,null,null,null,null,null,null,null,0]
[null,null,null,null,null,null,null,null,null,null,0]
[null,null,null,null,null,null,null,null,null,null,0]
[null,null,null,null,null,null,null,null,null,null,0]
[null,null,null,null,null,null,null,null,null,null,0]
[null,null,null,null,null,null,null,null,null,null,0]
[null,null,null,null,null,null,null,null,null,null,{"$f":"SUM(C297:J297)","v":0}]
[null,null,null,null,null,null,null,null,null,null,{"$f":"SUM(C298:J298)","v":0}]
[null,null,null,null,null,null,null,null,null,null,0]
[null,null,null,null,null,null,null,null,null,null,0]
[null,null,null,null,null,null,null,null,null,null,0]
[null,null,null,null,null,null,null,null,null,null,0]
[null,null,null,null,null,null,null,null,null,null,0]
[null,null,null,null,null,null,null,null,null,null,0]
[null,null,null,null,null,null,null,null,null,null,0]
[null,null,null,null,null,null,null,null,null,null,0]
[null,null,null,null,null,null,null,null,null,null,0]
[null,null,null,null,null,null,null,null,null,null,0]
[null,null,null,null,null,null,null,null,null,null,0]
[null,null,null,null,null,null,null,null,null,null,0]
[null,null,null,null,null,null,null,null,null,null,0]
[null,null,null,null,null,null,null,null,null,null,0]
[null,null,null,null,null,null,null,null,null,null,0]
[null,null,null,null,null,null,null,null,null,null,0]
[null,null,null,null,null,null,null,null,null,null,0]
[null,null,null,null,null,null,null,null,null,null,0]
[null,null,null,null,null,null,null,null,null,null,0]
[null,null,null,null,null,null,null,null,null,null,0]
[null,null,null,null,null,null,null,null,null,null,0]
[null,null,null,null,null,null,null,null,null,null,0]
[null,null,null,null,null,null,null,null,null,null,0]
["TOT Jour",null,{"$f":"SUM(C272:C321)","v":0},{"$f":"SUM(D272:D321)","v":0},0,0,0,0,0,0]
["TOT Période",null,{"$f":"SUM(C322:J322)","v":0}]
["Statistiques"]
[]
[]
["Nombre d'heure de fréquentation :"]
[{"$f":"Accueil!$A41","v":"P1"},{"$f":"$C$91*1.5","v":0},"heures de présence pour cet atelier et pour cette période"]
[{"$f":"Accueil!$A42","v":"P2"},{"$f":"$C$149*1.5","v":0},"heures de présence pour cet atelier et pour cette période"]
[{"$f":"Accueil!$A43","v":"P3"},{"$f":"$C$207*1.5","v":0},"heures de présence pour cet atelier et pour cette période"]
[{"$f":"Accueil!$A44","v":"P4"},{"$f":"$C$265*1.5","v":0},"heures de présence pour cet atelier et pour cette période"]
[{"$f":"Accueil!$A45","v":"P5"},{"$f":"$C$323*1.5","v":0},"heures de présence pour cet atelier et pour cette période"]
["TOT",{"$f":"SUM($B$328:$B$332)","v":0},"heures de présence pour cet atelier et pour l'année"]

{"sheet":"Lego","index":5,"n_rows":333,"n_cols":11,"rows_kept":333,"cut":false,"hidden":false,"merged":[[331,2,331,6],[332,2,332,6],[8,1,15,9],[323,0,324,10],[327,2,327,6],[328,2,328,6],[329,2,329,6],[330,2,330,6],[265,0,266,10],[269,0,269,3],[269,4,269,5],[321,0,321,1],[322,0,322,1],[322,2,322,9],[211,0,211,3],[211,4,211,5],[149,0,150,10],[153,0,153,3],[153,4,153,5],[263,0,263,1],[264,0,264,1],[264,2,264,9],[205,0,205,1],[206,0,206,1],[206,2,206,9],[207,0,208,10],[91,0,92,10],[95,0,95,3],[95,4,95,5],[147,0,147,1],[148,0,148,1],[148,2,148,9],[33,0,34,10],[37,0,37,3],[37,4,37,5],[89,0,89,1],[90,0,90,1],[90,2,90,9]]}
[]
[]
[]
[]
[]
[]
[]
[]
[null,{"$f":"Accueil!B11","v":"Lego"}]
[]
[]
[]
[]
[]
[]
[]
[]
[]
[]
[]
[]
[]
[]
[]
[]
[]
[]
[]
[]
[]
[]
[]
[]
[{"$f":"Accueil!$B11","v":"Lego"}]
[]
[]
["Période :",{"$f":"Accueil!$A$41","v":"P1"},{"$f":"Accueil!$B$41","v":"du"},{"$f":"Accueil!$C$41","v":"2014-09-02"},{"$f":"Accueil!$D$41","v":"au"},{"$f":"Accueil!$E$41","v":"2014-10-18"}]
["Selectionnez la classe participant à l'atelier :"]
["NOM","Prénom","2014-09-02","2014-05-26","2014-05-27","2014-05-28","2014-05-29","2014-05-30","2014-05-31","2014-06-01","TOT"]
[null,null,null,null,null,null,null,null,null,null,{"$f":"SUM(C40:J40)","v":0}]
[null,null,null,null,null,null,null,null,null,null,{"$f":"SUM(C41:J41)","v":0}]
[null,null,null,null,null,null,null,null,null,null,0]
[null,null,null,null,null,null,null,null,null,null,0]
[null,null,null,null,null,null,null,null,null,null,0]
[null,null,null,null,null,null,null,null,null,null,0]
[null,null,null,null,null,null,null,null,null,null,0]
[null,null,null,null,null,null,null,null,null,null,0]
[null,null,null,null,null,null,null,null,null,null,0]
[null,null,null,null,null,null,null,null,null,null,0]
[null,null,null,null,null,null,null,null,null,null,0]
[null,null,null,null,null,null,null,null,null,null,0]
[null,null,null,null,null,null,null,null,null,null,0]
[null,null,null,null,null,null,null,null,null,null,0]
[null,null,null,null,null,null,null,null,null,null,0]
[null,null,null,null,null,null,null,null,null,null,0]
[null,null,null,null,null,null,null,null,null,null,0]
[null,null,null,null,null,null,null,null,null,null,0]
[null,null,null,null,null,null,null,null,null,null,0]
[null,null,null,null,null,null,null,null,null,null,0]
[null,null,null,null,null,null,null,null,null,null,0]
[null,null,null,null,null,null,null,null,null,null,0]
[null,null,null,null,null,null,null,null,null,null,0]
[null,null,null,null,null,null,null,null,null,null,0]
[null,null,null,null,null,null,null,null,null,null,0]
[null,null,null,null,null,null,null,null,null,null,{"$f":"SUM(C65:J65)","v":0}]
[null,null,null,null,null,null,null,null,null,null,{"$f":"SUM(C66:J66)","v":0}]
[null,null,null,null,null,null,null,null,null,null,0]
[null,null,null,null,null,null,null,null,null,null,0]
[null,null,null,null,null,null,null,null,null,null,0]
[null,null,null,null,null,null,null,null,null,null,0]
[null,null,null,null,null,null,null,null,null,null,0]
[null,null,null,null,null,null,null,null,null,null,0]
[null,null,null,null,null,null,null,null,null,null,0]
[null,null,null,null,null,null,null,null,null,null,0]
[null,null,null,null,null,null,null,null,null,null,0]
[null,null,null,null,null,null,null,null,null,null,0]
[null,null,null,null,null,null,null,null,null,null,0]
[null,null,null,null,null,null,null,null,null,null,0]
[null,null,null,null,null,null,null,null,null,null,0]
[null,null,null,null,null,null,null,null,null,null,0]
[null,null,null,null,null,null,null,null,null,null,0]
[null,null,null,null,null,null,null,null,null,null,0]
[null,null,null,null,null,null,null,null,null,null,0]
[null,null,null,null,null,null,null,null,null,null,0]
[null,null,null,null,null,null,null,null,null,null,0]
[null,null,null,null,null,null,null,null,null,null,0]
[null,null,null,null,null,null,null,null,null,null,0]
[null,null,null,null,null,null,null,null,null,null,0]
[null,null,null,null,null,null,null,null,null,null,0]
["TOT Jour",null,{"$f":"SUM(C40:C89)","v":0},{"$f":"SUM(D40:D89)","v":0},0,0,0,0,0,0]
["TOT Période",null,{"$f":"SUM(C90:J90)","v":0}]
[{"$f":"Accueil!$B11","v":"Lego"}]
[]
[]
["Période :",{"$f":"Accueil!$A42","v":"P2"},{"$f":"Accueil!$B42","v":"du"},{"$f":"Accueil!$C42","v":"2014-11-02"},{"$f":"Accueil!$D42","v":"au"},{"$f":"Accueil!$E42","v":"2014-12-18"}]
["Selectionnez la classe participant à l'atelier :"]
["NOM","Prénom","2014-05-25","2014-05-26","2014-05-27","2014-05-28","2014-05-29","2014-05-30","2014-05-31","2014-06-01","TOT"]
[null,null,null,null,null,null,null,null,null,null,{"$f":"SUM(C98:J98)","v":0}]
[null,null,null,null,null,null,null,null,null,null,{"$f":"SUM(C99:J99)","v":0}]
[null,null,null,null,null,null,null,null,null,null,0]
[null,null,null,null,null,null,null,null,null,null,0]
[null,null,null,null,null,null,null,null,null,null,0]
[null,null,null,null,null,null,null,null,null,null,0]
[null,null,null,null,null,null,null,null,null,null,0]
[null,null,null,null,null,null,null,null,null,null,0]
[null,null,null,null,null,null,null,null,null,null,0]
[null,null,null,null,null,null,null,null,null,null,0]
[null,null,null,null,null,null,null,null,null,null,0]
[null,null,null,null,null,null,null,null,null,null,0]
[null,null,null,null,null,null,null,null,null,null,0]
[null,null,null,null,null,null,null,null,null,null,0]
[null,null,null,null,null,null,null,null,null,null,0]
[null,null,null,null,null,null,null,null,null,null,0]
[null,null,null,null,null,null,null,null,null,null,0]
[null,null,null,null,null,null,null,null,null,null,0]
[null,null,null,null,null,null,null,null,null,null,0]
[null,null,null,null,null,null,null,null,null,null,0]
[null,null,null,null,null,null,null,null,null,null,0]
[null,null,null,null,null,null,null,null,null,null,0]
[null,null,null,null,null,null,null,null,null,null,0]
[null,null,null,null,null,null,null,null,null,null,0]
[null,null,null,null,null,null,null,null,null,null,0]
[null,null,null,null,null,null,null,null,null,null,{"$f":"SUM(C123:J123)","v":0}]
[null,null,null,null,null,null,null,null,null,null,{"$f":"SUM(C124:J124)","v":0}]
[null,null,null,null,null,null,null,null,null,null,0]
[null,null,null,null,null,null,null,null,null,null,0]
[null,null,null,null,null,null,null,null,null,null,0]
[null,null,null,null,null,null,null,null,null,null,0]
[null,null,null,null,null,null,null,null,null,null,0]
[null,null,null,null,null,null,null,null,null,null,0]
[null,null,null,null,null,null,null,null,null,null,0]
[null,null,null,null,null,null,null,null,null,null,0]
[null,null,null,null,null,null,null,null,null,null,0]
[null,null,null,null,null,null,null,null,null,null,0]
[null,null,null,null,null,null,null,null,null,null,0]
[null,null,null,null,null,null,null,null,null,null,0]
[null,null,null,null,null,null,null,null,null,null,0]
[null,null,null,null,null,null,null,null,null,null,0]
[null,null,null,null,null,null,null,null,null,null,0]
[null,null,null,null,null,null,null,null,null,null,0]
[null,null,null,null,null,null,null,null,null,null,0]
[null,null,null,null,null,null,null,null,null,null,0]
[null,null,null,null,null,null,null,null,null,null,0]
[null,null,null,null,null,null,null,null,null,null,0]
[null,null,null,null,null,null,null,null,null,null,0]
[null,null,null,null,null,null,null,null,null,null,0]
[null,null,null,null,null,null,null,null,null,null,0]
["TOT Jour",null,{"$f":"SUM(C98:C147)","v":0},{"$f":"SUM(D98:D147)","v":0},0,0,0,0,0,0]
["TOT Période",null,{"$f":"SUM(C148:J148)","v":0}]
[{"$f":"Accueil!$B11","v":"Lego"}]
[]
[]
["Période :",{"$f":"Accueil!A43","v":"P3"},{"$f":"Accueil!$B43","v":"du"},{"$f":"Accueil!$C43","v":"2015-01-04"},{"$f":"Accueil!$D43","v":"au"},{"$f":"Accueil!$E43","v":"2015-02-20"}]
["Selectionnez la classe participant à l'atelier :"]
["NOM","Prénom","2014-05-25","2014-05-26","2014-05-27","2014-05-28","2014-05-29","2014-05-30","2014-05-31","2014-06-01","TOT"]
[null,null,null,null,null,null,null,null,null,null,{"$f":"SUM(C156:J156)","v":0}]
[null,null,null,null,null,null,null,null,null,null,{"$f":"SUM(C157:J157)","v":0}]
[null,null,null,null,null,null,null,null,null,null,0]
[null,null,null,null,null,null,null,null,null,null,0]
[null,null,null,null,null,null,null,null,null,null,0]
[null,null,null,null,null,null,null,null,null,null,0]
[null,null,null,null,null,null,null,null,null,null,0]
[null,null,null,null,null,null,null,null,null,null,0]
[null,null,null,null,null,null,null,null,null,null,0]
[null,null,null,null,null,null,null,null,null,null,0]
[null,null,null,null,null,null,null,null,null,null,0]
[null,null,null,null,null,null,null,null,null,null,0]
[null,null,null,null,null,null,null,null,null,null,0]
[null,null,null,null,null,null,null,null,null,null,0]
[null,null,null,null,null,null,null,null,null,null,0]
[null,null,null,null,null,null,null,null,null,null,0]
[null,null,null,null,null,null,null,null,null,null,0]
[null,null,null,null,null,null,null,null,null,null,0]
[null,null,null,null,null,null,null,null,null,null,0]
[null,null,null,null,null,null,null,null,null,null,0]
[null,null,null,null,null,null,null,null,null,null,0]
[null,null,null,null,null,null,null,null,null,null,0]
[null,null,null,null,null,null,null,null,null,null,0]
[null,null,null,null,null,null,null,null,null,null,0]
[null,null,null,null,null,null,null,null,null,null,0]
[null,null,null,null,null,null,null,null,null,null,{"$f":"SUM(C181:J181)","v":0}]
[null,null,null,null,null,null,null,null,null,null,{"$f":"SUM(C182:J182)","v":0}]
[null,null,null,null,null,null,null,null,null,null,0]
[null,null,null,null,null,null,null,null,null,null,0]
[null,null,null,null,null,null,null,null,null,null,0]
[null,null,null,null,null,null,null,null,null,null,0]
[null,null,null,null,null,null,null,null,null,null,0]
[null,null,null,null,null,null,null,null,null,null,0]
[null,null,null,null,null,null,null,null,null,null,0]
[null,null,null,null,null,null,null,null,null,null,0]
[null,null,null,null,null,null,null,null,null,null,0]
[null,null,null,null,null,null,null,null,null,null,0]
[null,null,null,null,null,null,null,null,null,null,0]
[null,null,null,null,null,null,null,null,null,null,0]
[null,null,null,null,null,null,null,null,null,null,0]
[null,null,null,null,null,null,null,null,null,null,0]
[null,null,null,null,null,null,null,null,null,null,0]
[null,null,null,null,null,null,null,null,null,null,0]
[null,null,null,null,null,null,null,null,null,null,0]
[null,null,null,null,null,null,null,null,null,null,0]
[null,null,null,null,null,null,null,null,null,null,0]
[null,null,null,null,null,null,null,null,null,null,0]
[null,null,null,null,null,null,null,null,null,null,0]
[null,null,null,null,null,null,null,null,null,null,0]
[null,null,null,null,null,null,null,null,null,null,0]
["TOT Jour",null,{"$f":"SUM(C156:C205)","v":0},{"$f":"SUM(D156:D205)","v":0},0,0,0,0,0,0]
["TOT Période",null,{"$f":"SUM(C206:J206)","v":0}]
[{"$f":"Accueil!$B11","v":"Lego"}]
[]
[]
["Période :",{"$f":"Accueil!A44","v":"P4"},{"$f":"Accueil!$B44","v":"du"},{"$f":"Accueil!$C44","v":"2015-03-08"},{"$f":"Accueil!$D44","v":"au"},{"$f":"Accueil!$E44","v":"2015-04-15"}]
["Selectionnez la classe participant à l'atelier :"]
["NOM","Prénom","2014-05-25","2014-05-26","2014-05-27","2014-05-28","2014-05-29","2014-05-30","2014-05-31","2014-06-01","TOT"]
[null,null,null,null,null,null,null,null,null,null,{"$f":"SUM(C214:J214)","v":0}]
[null,null,null,null,null,null,null,null,null,null,{"$f":"SUM(C215:J215)","v":0}]
[null,null,null,null,null,null,null,null,null,null,0]
[null,null,null,null,null,null,null,null,null,null,0]
[null,null,null,null,null,null,null,null,null,null,0]
[null,null,null,null,null,null,null,null,null,null,0]
[null,null,null,null,null,null,null,null,null,null,0]
[null,null,null,null,null,null,null,null,null,null,0]
[null,null,null,null,null,null,null,null,null,null,0]
[null,null,null,null,null,null,null,null,null,null,0]
[null,null,null,null,null,null,null,null,null,null,0]
[null,null,null,null,null,null,null,null,null,null,0]
[null,null,null,null,null,null,null,null,null,null,0]
[null,null,null,null,null,null,null,null,null,null,0]
[null,null,null,null,null,null,null,null,null,null,0]
[null,null,null,null,null,null,null,null,null,null,0]
[null,null,null,null,null,null,null,null,null,null,0]
[null,null,null,null,null,null,null,null,null,null,0]
[null,null,null,null,null,null,null,null,null,null,0]
[null,null,null,null,null,null,null,null,null,null,0]
[null,null,null,null,null,null,null,null,null,null,0]
[null,null,null,null,null,null,null,null,null,null,0]
[null,null,null,null,null,null,null,null,null,null,0]
[null,null,null,null,null,null,null,null,null,null,0]
[null,null,null,null,null,null,null,null,null,null,0]
[null,null,null,null,null,null,null,null,null,null,{"$f":"SUM(C239:J239)","v":0}]
[null,null,null,null,null,null,null,null,null,null,{"$f":"SUM(C240:J240)","v":0}]
[null,null,null,null,null,null,null,null,null,null,0]
[null,null,null,null,null,null,null,null,null,null,0]
[null,null,null,null,null,null,null,null,null,null,0]
[null,null,null,null,null,null,null,null,null,null,0]
[null,null,null,null,null,null,null,null,null,null,0]
[null,null,null,null,null,null,null,null,null,null,0]
[null,null,null,null,null,null,null,null,null,null,0]
[null,null,null,null,null,null,null,null,null,null,0]
[null,null,null,null,null,null,null,null,null,null,0]
[null,null,null,null,null,null,null,null,null,null,0]
[null,null,null,null,null,null,null,null,null,null,0]
[null,null,null,null,null,null,null,null,null,null,0]
[null,null,null,null,null,null,null,null,null,null,0]
[null,null,null,null,null,null,null,null,null,null,0]
[null,null,null,null,null,null,null,null,null,null,0]
[null,null,null,null,null,null,null,null,null,null,0]
[null,null,null,null,null,null,null,null,null,null,0]
[null,null,null,null,null,null,null,null,null,null,0]
[null,null,null,null,null,null,null,null,null,null,0]
[null,null,null,null,null,null,null,null,null,null,0]
[null,null,null,null,null,null,null,null,null,null,0]
[null,null,null,null,null,null,null,null,null,null,0]
[null,null,null,null,null,null,null,null,null,null,0]
["TOT Jour",null,{"$f":"SUM(C214:C263)","v":0},{"$f":"SUM(D214:D263)","v":0},0,0,0,0,0,0]
["TOT Période",null,{"$f":"SUM(C264:J264)","v":0}]
[{"$f":"Accueil!$B11","v":"Lego"}]
[]
[]
["Période :",{"$f":"Accueil!A45","v":"P5"},{"$f":"Accueil!$B45","v":"du"},{"$f":"Accueil!$C45","v":"2015-05-02"},{"$f":"Accueil!$D45","v":"au"},{"$f":"Accueil!$E45","v":"2015-07-03"}]
["Selectionnez la classe participant à l'atelier :"]
["NOM","Prénom","2014-05-25","2014-05-26","2014-05-27","2014-05-28","2014-05-29","2014-05-30","2014-05-31","2014-06-01","TOT"]
[null,null,null,null,null,null,null,null,null,null,{"$f":"SUM(C272:J272)","v":0}]
[null,null,null,null,null,null,null,null,null,null,{"$f":"SUM(C273:J273)","v":0}]
[null,null,null,null,null,null,null,null,null,null,0]
[null,null,null,null,null,null,null,null,null,null,0]
[null,null,null,null,null,null,null,null,null,null,0]
[null,null,null,null,null,null,null,null,null,null,0]
[null,null,null,null,null,null,null,null,null,null,0]
[null,null,null,null,null,null,null,null,null,null,0]
[null,null,null,null,null,null,null,null,null,null,0]
[null,null,null,null,null,null,null,null,null,null,0]
[null,null,null,null,null,null,null,null,null,null,0]
[null,null,null,null,null,null,null,null,null,null,0]
[null,null,null,null,null,null,null,null,null,null,0]
[null,null,null,null,null,null,null,null,null,null,0]
[null,null,null,null,null,null,null,null,null,null,0]
[null,null,null,null,null,null,null,null,null,null,0]
[null,null,null,null,null,null,null,null,null,null,0]
[null,null,null,null,null,null,null,null,null,null,0]
[null,null,null,null,null,null,null,null,null,null,0]
[null,null,null,null,null,null,null,null,null,null,0]
[null,null,null,null,null,null,null,null,null,null,0]
[null,null,null,null,null,null,null,null,null,null,0]
[null,null,null,null,null,null,null,null,null,null,0]
[null,null,null,null,null,null,null,null,null,null,0]
[null,null,null,null,null,null,null,null,null,null,0]
[null,null,null,null,null,null,null,null,null,null,{"$f":"SUM(C297:J297)","v":0}]
[null,null,null,null,null,null,null,null,null,null,{"$f":"SUM(C298:J298)","v":0}]
[null,null,null,null,null,null,null,null,null,null,0]
[null,null,null,null,null,null,null,null,null,null,0]
[null,null,null,null,null,null,null,null,null,null,0]
[null,null,null,null,null,null,null,null,null,null,0]
[null,null,null,null,null,null,null,null,null,null,0]
[null,null,null,null,null,null,null,null,null,null,0]
[null,null,null,null,null,null,null,null,null,null,0]
[null,null,null,null,null,null,null,null,null,null,0]
[null,null,null,null,null,null,null,null,null,null,0]
[null,null,null,null,null,null,null,null,null,null,0]
[null,null,null,null,null,null,null,null,null,null,0]
[null,null,null,null,null,null,null,null,null,null,0]
[null,null,null,null,null,null,null,null,null,null,0]
[null,null,null,null,null,null,null,null,null,null,0]
[null,null,null,null,null,null,null,null,null,null,0]
[null,null,null,null,null,null,null,null,null,null,0]
[null,null,null,null,null,null,null,null,null,null,0]
[null,null,null,null,null,null,null,null,null,null,0]
[null,null,null,null,null,null,null,null,null,null,0]
[null,null,null,null,null,null,null,null,null,null,0]
[null,null,null,null,null,null,null,null,null,null,0]
[null,null,null,null,null,null,null,null,null,null,0]
[null,null,null,null,null,null,null,null,null,null,0]
["TOT Jour",null,{"$f":"SUM(C272:C321)","v":0},{"$f":"SUM(D272:D321)","v":0},0,0,0,0,0,0]
["TOT Période",null,{"$f":"SUM(C322:J322)","v":0}]
["Statistiques"]
[]
[]
["Nombre d'heure de fréquentation :"]
[{"$f":"Accueil!$A41","v":"P1"},{"$f":"$C$91*1.5","v":0},"heures de présence pour cet atelier et pour cette période"]
[{"$f":"Accueil!$A42","v":"P2"},{"$f":"$C$149*1.5","v":0},"heures de présence pour cet atelier et pour cette période"]
[{"$f":"Accueil!$A43","v":"P3"},{"$f":"$C$207*1.5","v":0},"heures de présence pour cet atelier et pour cette période"]
[{"$f":"Accueil!$A44","v":"P4"},{"$f":"$C$265*1.5","v":0},"heures de présence pour cet atelier et pour cette période"]
[{"$f":"Accueil!$A45","v":"P5"},{"$f":"$C$323*1.5","v":0},"heures de présence pour cet atelier et pour cette période"]
["TOT",{"$f":"SUM($B$328:$B$332)","v":0},"heures de présence pour cet atelier et pour l'année"]

{"sheet":"Canard","index":6,"n_rows":333,"n_cols":11,"rows_kept":333,"cut":false,"hidden":false,"merged":[[331,2,331,6],[332,2,332,6],[8,1,15,9],[323,0,324,10],[327,2,327,6],[328,2,328,6],[329,2,329,6],[330,2,330,6],[265,0,266,10],[269,0,269,3],[269,4,269,5],[321,0,321,1],[322,0,322,1],[322,2,322,9],[211,0,211,3],[211,4,211,5],[149,0,150,10],[153,0,153,3],[153,4,153,5],[263,0,263,1],[264,0,264,1],[264,2,264,9],[205,0,205,1],[206,0,206,1],[206,2,206,9],[207,0,208,10],[91,0,92,10],[95,0,95,3],[95,4,95,5],[147,0,147,1],[148,0,148,1],[148,2,148,9],[33,0,34,10],[37,0,37,3],[37,4,37,5],[89,0,89,1],[90,0,90,1],[90,2,90,9]]}
[]
[]
[]
[]
[]
[]
[]
[]
[null,{"$f":"Accueil!B12","v":"Canard"}]
[]
[]
[]
[]
[]
[]
[]
[]
[]
[]
[]
[]
[]
[]
[]
[]
[]
[]
[]
[]
[]
[]
[]
[]
[{"$f":"Accueil!$B12","v":"Canard"}]
[]
[]
["Période :",{"$f":"Accueil!$A$41","v":"P1"},{"$f":"Accueil!$B$41","v":"du"},{"$f":"Accueil!$C$41","v":"2014-09-02"},{"$f":"Accueil!$D$41","v":"au"},{"$f":"Accueil!$E$41","v":"2014-10-18"}]
["Selectionnez la classe participant à l'atelier :"]
["NOM","Prénom","2014-09-02","2014-05-26","2014-05-27","2014-05-28","2014-05-29","2014-05-30","2014-05-31","2014-06-01","TOT"]
[null,null,null,null,null,null,null,null,null,null,{"$f":"SUM(C40:J40)","v":0}]
[null,null,null,null,null,null,null,null,null,null,{"$f":"SUM(C41:J41)","v":0}]
[null,null,null,null,null,null,null,null,null,null,0]
[null,null,null,null,null,null,null,null,null,null,0]
[null,null,null,null,null,null,null,null,null,null,0]
[null,null,null,null,null,null,null,null,null,null,0]
[null,null,null,null,null,null,null,null,null,null,0]
[null,null,null,null,null,null,null,null,null,null,0]
[null,null,null,null,null,null,null,null,null,null,0]
[null,null,null,null,null,null,null,null,null,null,0]
[null,null,null,null,null,null,null,null,null,null,0]
[null,null,null,null,null,null,null,null,null,null,0]
[null,null,null,null,null,null,null,null,null,null,0]
[null,null,null,null,null,null,null,null,null,null,0]
[null,null,null,null,null,null,null,null,null,null,0]
[null,null,null,null,null,null,null,null,null,null,0]
[null,null,null,null,null,null,null,null,null,null,0]
[null,null,null,null,null,null,null,null,null,null,0]
[null,null,null,null,null,null,null,null,null,null,0]
[null,null,null,null,null,null,null,null,null,null,0]
[null,null,null,null,null,null,null,null,null,null,0]
[null,null,null,null,null,null,null,null,null,null,0]
[null,null,null,null,null,null,null,null,null,null,0]
[null,null,null,null,null,null,null,null,null,null,0]
[null,null,null,null,null,null,null,null,null,null,0]
[null,null,null,null,null,null,null,null,null,null,{"$f":"SUM(C65:J65)","v":0}]
[null,null,null,null,null,null,null,null,null,null,{"$f":"SUM(C66:J66)","v":0}]
[null,null,null,null,null,null,null,null,null,null,0]
[null,null,null,null,null,null,null,null,null,null,0]
[null,null,null,null,null,null,null,null,null,null,0]
[null,null,null,null,null,null,null,null,null,null,0]
[null,null,null,null,null,null,null,null,null,null,0]
[null,null,null,null,null,null,null,null,null,null,0]
[null,null,null,null,null,null,null,null,null,null,0]
[null,null,null,null,null,null,null,null,null,null,0]
[null,null,null,null,null,null,null,null,null,null,0]
[null,null,null,null,null,null,null,null,null,null,0]
[null,null,null,null,null,null,null,null,null,null,0]
[null,null,null,null,null,null,null,null,null,null,0]
[null,null,null,null,null,null,null,null,null,null,0]
[null,null,null,null,null,null,null,null,null,null,0]
[null,null,null,null,null,null,null,null,null,null,0]
[null,null,null,null,null,null,null,null,null,null,0]
[null,null,null,null,null,null,null,null,null,null,0]
[null,null,null,null,null,null,null,null,null,null,0]
[null,null,null,null,null,null,null,null,null,null,0]
[null,null,null,null,null,null,null,null,null,null,0]
[null,null,null,null,null,null,null,null,null,null,0]
[null,null,null,null,null,null,null,null,null,null,0]
[null,null,null,null,null,null,null,null,null,null,0]
["TOT Jour",null,{"$f":"SUM(C40:C89)","v":0},{"$f":"SUM(D40:D89)","v":0},0,0,0,0,0,0]
["TOT Période",null,{"$f":"SUM(C90:J90)","v":0}]
[{"$f":"Accueil!$B12","v":"Canard"}]
[]
[]
["Période :",{"$f":"Accueil!$A42","v":"P2"},{"$f":"Accueil!$B42","v":"du"},{"$f":"Accueil!$C42","v":"2014-11-02"},{"$f":"Accueil!$D42","v":"au"},{"$f":"Accueil!$E42","v":"2014-12-18"}]
["Selectionnez la classe participant à l'atelier :"]
["NOM","Prénom","2014-05-25","2014-05-26","2014-05-27","2014-05-28","2014-05-29","2014-05-30","2014-05-31","2014-06-01","TOT"]
[null,null,null,null,null,null,null,null,null,null,{"$f":"SUM(C98:J98)","v":0}]
[null,null,null,null,null,null,null,null,null,null,{"$f":"SUM(C99:J99)","v":0}]
[null,null,null,null,null,null,null,null,null,null,0]
[null,null,null,null,null,null,null,null,null,null,0]
[null,null,null,null,null,null,null,null,null,null,0]
[null,null,null,null,null,null,null,null,null,null,0]
[null,null,null,null,null,null,null,null,null,null,0]
[null,null,null,null,null,null,null,null,null,null,0]
[null,null,null,null,null,null,null,null,null,null,0]
[null,null,null,null,null,null,null,null,null,null,0]
[null,null,null,null,null,null,null,null,null,null,0]
[null,null,null,null,null,null,null,null,null,null,0]
[null,null,null,null,null,null,null,null,null,null,0]
[null,null,null,null,null,null,null,null,null,null,0]
[null,null,null,null,null,null,null,null,null,null,0]
[null,null,null,null,null,null,null,null,null,null,0]
[null,null,null,null,null,null,null,null,null,null,0]
[null,null,null,null,null,null,null,null,null,null,0]
[null,null,null,null,null,null,null,null,null,null,0]
[null,null,null,null,null,null,null,null,null,null,0]
[null,null,null,null,null,null,null,null,null,null,0]
[null,null,null,null,null,null,null,null,null,null,0]
[null,null,null,null,null,null,null,null,null,null,0]
[null,null,null,null,null,null,null,null,null,null,0]
[null,null,null,null,null,null,null,null,null,null,0]
[null,null,null,null,null,null,null,null,null,null,{"$f":"SUM(C123:J123)","v":0}]
[null,null,null,null,null,null,null,null,null,null,{"$f":"SUM(C124:J124)","v":0}]
[null,null,null,null,null,null,null,null,null,null,0]
[null,null,null,null,null,null,null,null,null,null,0]
[null,null,null,null,null,null,null,null,null,null,0]
[null,null,null,null,null,null,null,null,null,null,0]
[null,null,null,null,null,null,null,null,null,null,0]
[null,null,null,null,null,null,null,null,null,null,0]
[null,null,null,null,null,null,null,null,null,null,0]
[null,null,null,null,null,null,null,null,null,null,0]
[null,null,null,null,null,null,null,null,null,null,0]
[null,null,null,null,null,null,null,null,null,null,0]
[null,null,null,null,null,null,null,null,null,null,0]
[null,null,null,null,null,null,null,null,null,null,0]
[null,null,null,null,null,null,null,null,null,null,0]
[null,null,null,null,null,null,null,null,null,null,0]
[null,null,null,null,null,null,null,null,null,null,0]
[null,null,null,null,null,null,null,null,null,null,0]
[null,null,null,null,null,null,null,null,null,null,0]
[null,null,null,null,null,null,null,null,null,null,0]
[null,null,null,null,null,null,null,null,null,null,0]
[null,null,null,null,null,null,null,null,null,null,0]
[null,null,null,null,null,null,null,null,null,null,0]
[null,null,null,null,null,null,null,null,null,null,0]
[null,null,null,null,null,null,null,null,null,null,0]
["TOT Jour",null,{"$f":"SUM(C98:C147)","v":0},{"$f":"SUM(D98:D147)","v":0},0,0,0,0,0,0]
["TOT Période",null,{"$f":"SUM(C148:J148)","v":0}]
[{"$f":"Accueil!$B12","v":"Canard"}]
[]
[]
["Période :",{"$f":"Accueil!A43","v":"P3"},{"$f":"Accueil!$B43","v":"du"},{"$f":"Accueil!$C43","v":"2015-01-04"},{"$f":"Accueil!$D43","v":"au"},{"$f":"Accueil!$E43","v":"2015-02-20"}]
["Selectionnez la classe participant à l'atelier :"]
["NOM","Prénom","2014-05-25","2014-05-26","2014-05-27","2014-05-28","2014-05-29","2014-05-30","2014-05-31","2014-06-01","TOT"]
[null,null,null,null,null,null,null,null,null,null,{"$f":"SUM(C156:J156)","v":0}]
[null,null,null,null,null,null,null,null,null,null,{"$f":"SUM(C157:J157)","v":0}]
[null,null,null,null,null,null,null,null,null,null,0]
[null,null,null,null,null,null,null,null,null,null,0]
[null,null,null,null,null,null,null,null,null,null,0]
[null,null,null,null,null,null,null,null,null,null,0]
[null,null,null,null,null,null,null,null,null,null,0]
[null,null,null,null,null,null,null,null,null,null,0]
[null,null,null,null,null,null,null,null,null,null,0]
[null,null,null,null,null,null,null,null,null,null,0]
[null,null,null,null,null,null,null,null,null,null,0]
[null,null,null,null,null,null,null,null,null,null,0]
[null,null,null,null,null,null,null,null,null,null,0]
[null,null,null,null,null,null,null,null,null,null,0]
[null,null,null,null,null,null,null,null,null,null,0]
[null,null,null,null,null,null,null,null,null,null,0]
[null,null,null,null,null,null,null,null,null,null,0]
[null,null,null,null,null,null,null,null,null,null,0]
[null,null,null,null,null,null,null,null,null,null,0]
[null,null,null,null,null,null,null,null,null,null,0]
[null,null,null,null,null,null,null,null,null,null,0]
[null,null,null,null,null,null,null,null,null,null,0]
[null,null,null,null,null,null,null,null,null,null,0]
[null,null,null,null,null,null,null,null,null,null,0]
[null,null,null,null,null,null,null,null,null,null,0]
[null,null,null,null,null,null,null,null,null,null,{"$f":"SUM(C181:J181)","v":0}]
[null,null,null,null,null,null,null,null,null,null,{"$f":"SUM(C182:J182)","v":0}]
[null,null,null,null,null,null,null,null,null,null,0]
[null,null,null,null,null,null,null,null,null,null,0]
[null,null,null,null,null,null,null,null,null,null,0]
[null,null,null,null,null,null,null,null,null,null,0]
[null,null,null,null,null,null,null,null,null,null,0]
[null,null,null,null,null,null,null,null,null,null,0]
[null,null,null,null,null,null,null,null,null,null,0]
[null,null,null,null,null,null,null,null,null,null,0]
[null,null,null,null,null,null,null,null,null,null,0]
[null,null,null,null,null,null,null,null,null,null,0]
[null,null,null,null,null,null,null,null,null,null,0]
[null,null,null,null,null,null,null,null,null,null,0]
[null,null,null,null,null,null,null,null,null,null,0]
[null,null,null,null,null,null,null,null,null,null,0]
[null,null,null,null,null,null,null,null,null,null,0]
[null,null,null,null,null,null,null,null,null,null,0]
[null,null,null,null,null,null,null,null,null,null,0]
[null,null,null,null,null,null,null,null,null,null,0]
[null,null,null,null,null,null,null,null,null,null,0]
[null,null,null,null,null,null,null,null,null,null,0]
[null,null,null,null,null,null,null,null,null,null,0]
[null,null,null,null,null,null,null,null,null,null,0]
[null,null,null,null,null,null,null,null,null,null,0]
["TOT Jour",null,{"$f":"SUM(C156:C205)","v":0},{"$f":"SUM(D156:D205)","v":0},0,0,0,0,0,0]
["TOT Période",null,{"$f":"SUM(C206:J206)","v":0}]
[{"$f":"Accueil!$B12","v":"Canard"}]
[]
[]
["Période :",{"$f":"Accueil!A44","v":"P4"},{"$f":"Accueil!$B44","v":"du"},{"$f":"Accueil!$C44","v":"2015-03-08"},{"$f":"Accueil!$D44","v":"au"},{"$f":"Accueil!$E44","v":"2015-04-15"}]
["Selectionnez la classe participant à l'atelier :"]
["NOM","Prénom","2014-05-25","2014-05-26","2014-05-27","2014-05-28","2014-05-29","2014-05-30","2014-05-31","2014-06-01","TOT"]
[null,null,null,null,null,null,null,null,null,null,{"$f":"SUM(C214:J214)","v":0}]
[null,null,null,null,null,null,null,null,null,null,{"$f":"SUM(C215:J215)","v":0}]
[null,null,null,null,null,null,null,null,null,null,0]
[null,null,null,null,null,null,null,null,null,null,0]
[null,null,null,null,null,null,null,null,null,null,0]
[null,null,null,null,null,null,null,null,null,null,0]
[null,null,null,null,null,null,null,null,null,null,0]
[null,null,null,null,null,null,null,null,null,null,0]
[null,null,null,null,null,null,null,null,null,null,0]
[null,null,null,null,null,null,null,null,null,null,0]
[null,null,null,null,null,null,null,null,null,null,0]
[null,null,null,null,null,null,null,null,null,null,0]
[null,null,null,null,null,null,null,null,null,null,0]
[null,null,null,null,null,null,null,null,null,null,0]
[null,null,null,null,null,null,null,null,null,null,0]
[null,null,null,null,null,null,null,null,null,null,0]
[null,null,null,null,null,null,null,null,null,null,0]
[null,null,null,null,null,null,null,null,null,null,0]
[null,null,null,null,null,null,null,null,null,null,0]
[null,null,null,null,null,null,null,null,null,null,0]
[null,null,null,null,null,null,null,null,null,null,0]
[null,null,null,null,null,null,null,null,null,null,0]
[null,null,null,null,null,null,null,null,null,null,0]
[null,null,null,null,null,null,null,null,null,null,0]
[null,null,null,null,null,null,null,null,null,null,0]
[null,null,null,null,null,null,null,null,null,null,{"$f":"SUM(C239:J239)","v":0}]
[null,null,null,null,null,null,null,null,null,null,{"$f":"SUM(C240:J240)","v":0}]
[null,null,null,null,null,null,null,null,null,null,0]
[null,null,null,null,null,null,null,null,null,null,0]
[null,null,null,null,null,null,null,null,null,null,0]
[null,null,null,null,null,null,null,null,null,null,0]
[null,null,null,null,null,null,null,null,null,null,0]
[null,null,null,null,null,null,null,null,null,null,0]
[null,null,null,null,null,null,null,null,null,null,0]
[null,null,null,null,null,null,null,null,null,null,0]
[null,null,null,null,null,null,null,null,null,null,0]
[null,null,null,null,null,null,null,null,null,null,0]
[null,null,null,null,null,null,null,null,null,null,0]
[null,null,null,null,null,null,null,null,null,null,0]
[null,null,null,null,null,null,null,null,null,null,0]
[null,null,null,null,null,null,null,null,null,null,0]
[null,null,null,null,null,null,null,null,null,null,0]
[null,null,null,null,null,null,null,null,null,null,0]
[null,null,null,null,null,null,null,null,null,null,0]
[null,null,null,null,null,null,null,null,null,null,0]
[null,null,null,null,null,null,null,null,null,null,0]
[null,null,null,null,null,null,null,null,null,null,0]
[null,null,null,null,null,null,null,null,null,null,0]
[null,null,null,null,null,null,null,null,null,null,0]
[null,null,null,null,null,null,null,null,null,null,0]
["TOT Jour",null,{"$f":"SUM(C214:C263)","v":0},{"$f":"SUM(D214:D263)","v":0},0,0,0,0,0,0]
["TOT Période",null,{"$f":"SUM(C264:J264)","v":0}]
[{"$f":"Accueil!$B12","v":"Canard"}]
[]
[]
["Période :",{"$f":"Accueil!A45","v":"P5"},{"$f":"Accueil!$B45","v":"du"},{"$f":"Accueil!$C45","v":"2015-05-02"},{"$f":"Accueil!$D45","v":"au"},{"$f":"Accueil!$E45","v":"2015-07-03"}]
["Selectionnez la classe participant à l'atelier :"]
["NOM","Prénom","2014-05-25","2014-05-26","2014-05-27","2014-05-28","2014-05-29","2014-05-30","2014-05-31","2014-06-01","TOT"]
[null,null,null,null,null,null,null,null,null,null,{"$f":"SUM(C272:J272)","v":0}]
[null,null,null,null,null,null,null,null,null,null,{"$f":"SUM(C273:J273)","v":0}]
[null,null,null,null,null,null,null,null,null,null,0]
[null,null,null,null,null,null,null,null,null,null,0]
[null,null,null,null,null,null,null,null,null,null,0]
[null,null,null,null,null,null,null,null,null,null,0]
[null,null,null,null,null,null,null,null,null,null,0]
[null,null,null,null,null,null,null,null,null,null,0]
[null,null,null,null,null,null,null,null,null,null,0]
[null,null,null,null,null,null,null,null,null,null,0]
[null,null,null,null,null,null,null,null,null,null,0]
[null,null,null,null,null,null,null,null,null,null,0]
[null,null,null,null,null,null,null,null,null,null,0]
[null,null,null,null,null,null,null,null,null,null,0]
[null,null,null,null,null,null,null,null,null,null,0]
[null,null,null,null,null,null,null,null,null,null,0]
[null,null,null,null,null,null,null,null,null,null,0]
[null,null,null,null,null,null,null,null,null,null,0]
[null,null,null,null,null,null,null,null,null,null,0]
[null,null,null,null,null,null,null,null,null,null,0]
[null,null,null,null,null,null,null,null,null,null,0]
[null,null,null,null,null,null,null,null,null,null,0]
[null,null,null,null,null,null,null,null,null,null,0]
[null,null,null,null,null,null,null,null,null,null,0]
[null,null,null,null,null,null,null,null,null,null,0]
[null,null,null,null,null,null,null,null,null,null,{"$f":"SUM(C297:J297)","v":0}]
[null,null,null,null,null,null,null,null,null,null,{"$f":"SUM(C298:J298)","v":0}]
[null,null,null,null,null,null,null,null,null,null,0]
[null,null,null,null,null,null,null,null,null,null,0]
[null,null,null,null,null,null,null,null,null,null,0]
[null,null,null,null,null,null,null,null,null,null,0]
[null,null,null,null,null,null,null,null,null,null,0]
[null,null,null,null,null,null,null,null,null,null,0]
[null,null,null,null,null,null,null,null,null,null,0]
[null,null,null,null,null,null,null,null,null,null,0]
[null,null,null,null,null,null,null,null,null,null,0]
[null,null,null,null,null,null,null,null,null,null,0]
[null,null,null,null,null,null,null,null,null,null,0]
[null,null,null,null,null,null,null,null,null,null,0]
[null,null,null,null,null,null,null,null,null,null,0]
[null,null,null,null,null,null,null,null,null,null,0]
[null,null,null,null,null,null,null,null,null,null,0]
[null,null,null,null,null,null,null,null,null,null,0]
[null,null,null,null,null,null,null,null,null,null,0]
[null,null,null,null,null,null,null,null,null,null,0]
[null,null,null,null,null,null,null,null,null,null,0]
[null,null,null,null,null,null,null,null,null,null,0]
[null,null,null,null,null,null,null,null,null,null,0]
[null,null,null,null,null,null,null,null,null,null,0]
[null,null,null,null,null,null,null,null,null,null,0]
["TOT Jour",null,{"$f":"SUM(C272:C321)","v":0},{"$f":"SUM(D272:D321)","v":0},0,0,0,0,0,0]
["TOT Période",null,{"$f":"SUM(C322:J322)","v":0}]
["Statistiques"]
[]
[]
["Nombre d'heure de fréquentation :"]
[{"$f":"Accueil!$A41","v":"P1"},{"$f":"$C$91*1.5","v":0},"heures de présence pour cet atelier et pour cette période"]
[{"$f":"Accueil!$A42","v":"P2"},{"$f":"$C$149*1.5","v":0},"heures de présence pour cet atelier et pour cette période"]
[{"$f":"Accueil!$A43","v":"P3"},{"$f":"$C$207*1.5","v":0},"heures de présence pour cet atelier et pour cette période"]
[{"$f":"Accueil!$A44","v":"P4"},{"$f":"$C$265*1.5","v":0},"heures de présence pour cet atelier et pour cette période"]
[{"$f":"Accueil!$A45","v":"P5"},{"$f":"$C$323*1.5","v":0},"heures de présence pour cet atelier et pour cette période"]
["TOT",{"$f":"SUM($B$328:$B$332)","v":0},"heures de présence pour cet atelier et pour l'année"]

{"sheet":"Anglais","index":7,"n_rows":333,"n_cols":11,"rows_kept":333,"cut":false,"hidden":false,"merged":[[331,2,331,6],[332,2,332,6],[8,1,15,9],[323,0,324,10],[327,2,327,6],[328,2,328,6],[329,2,329,6],[330,2,330,6],[265,0,266,10],[269,0,269,3],[269,4,269,5],[321,0,321,1],[322,0,322,1],[322,2,322,9],[211,0,211,3],[211,4,211,5],[149,0,150,10],[153,0,153,3],[153,4,153,5],[263,0,263,1],[264,0,264,1],[264,2,264,9],[205,0,205,1],[206,0,206,1],[206,2,206,9],[207,0,208,10],[91,0,92,10],[95,0,95,3],[95,4,95,5],[147,0,147,1],[148,0,148,1],[148,2,148,9],[33,0,34,10],[37,0,37,3],[37,4,37,5],[89,0,89,1],[90,0,90,1],[90,2,90,9]]}
[]
[]
[]
[]
[]
[]
[]
[]
[null,{"$f":"Accueil!B13","v":"Anglais"}]
[]
[]
[]
[]
[]
[]
[]
[]
[]
[]
[]
[]
[]
[]
[]
[]
[]
[]
[]
[]
[]
[]
[]
[]
[{"$f":"Accueil!$B13","v":"Anglais"}]
[]
[]
["Période :",{"$f":"Accueil!$A$41","v":"P1"},{"$f":"Accueil!$B$41","v":"du"},{"$f":"Accueil!$C$41","v":"2014-09-02"},{"$f":"Accueil!$D$41","v":"au"},{"$f":"Accueil!$E$41","v":"2014-10-18"}]
["Selectionnez la classe participant à l'atelier :"]
["NOM","Prénom","2014-09-02","2014-05-26","2014-05-27","2014-05-28","2014-05-29","2014-05-30","2014-05-31","2014-06-01","TOT"]
[null,null,null,null,null,null,null,null,null,null,{"$f":"SUM(C40:J40)","v":0}]
[null,null,null,null,null,null,null,null,null,null,{"$f":"SUM(C41:J41)","v":0}]
[null,null,null,null,null,null,null,null,null,null,0]
[null,null,null,null,null,null,null,null,null,null,0]
[null,null,null,null,null,null,null,null,null,null,0]
[null,null,null,null,null,null,null,null,null,null,0]
[null,null,null,null,null,null,null,null,null,null,0]
[null,null,null,null,null,null,null,null,null,null,0]
[null,null,null,null,null,null,null,null,null,null,0]
[null,null,null,null,null,null,null,null,null,null,0]
[null,null,null,null,null,null,null,null,null,null,0]
[null,null,null,null,null,null,null,null,null,null,0]
[null,null,null,null,null,null,null,null,null,null,0]
[null,null,null,null,null,null,null,null,null,null,0]
[null,null,null,null,null,null,null,null,null,null,0]
[null,null,null,null,null,null,null,null,null,null,0]
[null,null,null,null,null,null,null,null,null,null,0]
[null,null,null,null,null,null,null,null,null,null,0]
[null,null,null,null,null,null,null,null,null,null,0]
[null,null,null,null,null,null,null,null,null,null,0]
[null,null,null,null,null,null,null,null,null,null,0]
[null,null,null,null,null,null,null,null,null,null,0]
[null,null,null,null,null,null,null,null,null,null,0]
[null,null,null,null,null,null,null,null,null,null,0]
[null,null,null,null,null,null,null,null,null,null,0]
[null,null,null,null,null,null,null,null,null,null,{"$f":"SUM(C65:J65)","v":0}]
[null,null,null,null,null,null,null,null,null,null,{"$f":"SUM(C66:J66)","v":0}]
[null,null,null,null,null,null,null,null,null,null,0]
[null,null,null,null,null,null,null,null,null,null,0]
[null,null,null,null,null,null,null,null,null,null,0]
[null,null,null,null,null,null,null,null,null,null,0]
[null,null,null,null,null,null,null,null,null,null,0]
[null,null,null,null,null,null,null,null,null,null,0]
[null,null,null,null,null,null,null,null,null,null,0]
[null,null,null,null,null,null,null,null,null,null,0]
[null,null,null,null,null,null,null,null,null,null,0]
[null,null,null,null,null,null,null,null,null,null,0]
[null,null,null,null,null,null,null,null,null,null,0]
[null,null,null,null,null,null,null,null,null,null,0]
[null,null,null,null,null,null,null,null,null,null,0]
[null,null,null,null,null,null,null,null,null,null,0]
[null,null,null,null,null,null,null,null,null,null,0]
[null,null,null,null,null,null,null,null,null,null,0]
[null,null,null,null,null,null,null,null,null,null,0]
[null,null,null,null,null,null,null,null,null,null,0]
[null,null,null,null,null,null,null,null,null,null,0]
[null,null,null,null,null,null,null,null,null,null,0]
[null,null,null,null,null,null,null,null,null,null,0]
[null,null,null,null,null,null,null,null,null,null,0]
[null,null,null,null,null,null,null,null,null,null,0]
["TOT Jour",null,{"$f":"SUM(C40:C89)","v":0},{"$f":"SUM(D40:D89)","v":0},0,0,0,0,0,0]
["TOT Période",null,{"$f":"SUM(C90:J90)","v":0}]
[{"$f":"Accueil!$B13","v":"Anglais"}]
[]
[]
["Période :",{"$f":"Accueil!$A42","v":"P2"},{"$f":"Accueil!$B42","v":"du"},{"$f":"Accueil!$C42","v":"2014-11-02"},{"$f":"Accueil!$D42","v":"au"},{"$f":"Accueil!$E42","v":"2014-12-18"}]
["Selectionnez la classe participant à l'atelier :"]
["NOM","Prénom","2014-05-25","2014-05-26","2014-05-27","2014-05-28","2014-05-29","2014-05-30","2014-05-31","2014-06-01","TOT"]
[null,null,null,null,null,null,null,null,null,null,{"$f":"SUM(C98:J98)","v":0}]
[null,null,null,null,null,null,null,null,null,null,{"$f":"SUM(C99:J99)","v":0}]
[null,null,null,null,null,null,null,null,null,null,0]
[null,null,null,null,null,null,null,null,null,null,0]
[null,null,null,null,null,null,null,null,null,null,0]
[null,null,null,null,null,null,null,null,null,null,0]
[null,null,null,null,null,null,null,null,null,null,0]
[null,null,null,null,null,null,null,null,null,null,0]
[null,null,null,null,null,null,null,null,null,null,0]
[null,null,null,null,null,null,null,null,null,null,0]
[null,null,null,null,null,null,null,null,null,null,0]
[null,null,null,null,null,null,null,null,null,null,0]
[null,null,null,null,null,null,null,null,null,null,0]
[null,null,null,null,null,null,null,null,null,null,0]
[null,null,null,null,null,null,null,null,null,null,0]
[null,null,null,null,null,null,null,null,null,null,0]
[null,null,null,null,null,null,null,null,null,null,0]
[null,null,null,null,null,null,null,null,null,null,0]
[null,null,null,null,null,null,null,null,null,null,0]
[null,null,null,null,null,null,null,null,null,null,0]
[null,null,null,null,null,null,null,null,null,null,0]
[null,null,null,null,null,null,null,null,null,null,0]
[null,null,null,null,null,null,null,null,null,null,0]
[null,null,null,null,null,null,null,null,null,null,0]
[null,null,null,null,null,null,null,null,null,null,0]
[null,null,null,null,null,null,null,null,null,null,{"$f":"SUM(C123:J123)","v":0}]
[null,null,null,null,null,null,null,null,null,null,{"$f":"SUM(C124:J124)","v":0}]
[null,null,null,null,null,null,null,null,null,null,0]
[null,null,null,null,null,null,null,null,null,null,0]
[null,null,null,null,null,null,null,null,null,null,0]
[null,null,null,null,null,null,null,null,null,null,0]
[null,null,null,null,null,null,null,null,null,null,0]
[null,null,null,null,null,null,null,null,null,null,0]
[null,null,null,null,null,null,null,null,null,null,0]
[null,null,null,null,null,null,null,null,null,null,0]
[null,null,null,null,null,null,null,null,null,null,0]
[null,null,null,null,null,null,null,null,null,null,0]
[null,null,null,null,null,null,null,null,null,null,0]
[null,null,null,null,null,null,null,null,null,null,0]
[null,null,null,null,null,null,null,null,null,null,0]
[null,null,null,null,null,null,null,null,null,null,0]
[null,null,null,null,null,null,null,null,null,null,0]
[null,null,null,null,null,null,null,null,null,null,0]
[null,null,null,null,null,null,null,null,null,null,0]
[null,null,null,null,null,null,null,null,null,null,0]
[null,null,null,null,null,null,null,null,null,null,0]
[null,null,null,null,null,null,null,null,null,null,0]
[null,null,null,null,null,null,null,null,null,null,0]
[null,null,null,null,null,null,null,null,null,null,0]
[null,null,null,null,null,null,null,null,null,null,0]
["TOT Jour",null,{"$f":"SUM(C98:C147)","v":0},{"$f":"SUM(D98:D147)","v":0},0,0,0,0,0,0]
["TOT Période",null,{"$f":"SUM(C148:J148)","v":0}]
[{"$f":"Accueil!$B13","v":"Anglais"}]
[]
[]
["Période :",{"$f":"Accueil!A43","v":"P3"},{"$f":"Accueil!$B43","v":"du"},{"$f":"Accueil!$C43","v":"2015-01-04"},{"$f":"Accueil!$D43","v":"au"},{"$f":"Accueil!$E43","v":"2015-02-20"}]
["Selectionnez la classe participant à l'atelier :"]
["NOM","Prénom","2014-05-25","2014-05-26","2014-05-27","2014-05-28","2014-05-29","2014-05-30","2014-05-31","2014-06-01","TOT"]
[null,null,null,null,null,null,null,null,null,null,{"$f":"SUM(C156:J156)","v":0}]
[null,null,null,null,null,null,null,null,null,null,{"$f":"SUM(C157:J157)","v":0}]
[null,null,null,null,null,null,null,null,null,null,0]
[null,null,null,null,null,null,null,null,null,null,0]
[null,null,null,null,null,null,null,null,null,null,0]
[null,null,null,null,null,null,null,null,null,null,0]
[null,null,null,null,null,null,null,null,null,null,0]
[null,null,null,null,null,null,null,null,null,null,0]
[null,null,null,null,null,null,null,null,null,null,0]
[null,null,null,null,null,null,null,null,null,null,0]
[null,null,null,null,null,null,null,null,null,null,0]
[null,null,null,null,null,null,null,null,null,null,0]
[null,null,null,null,null,null,null,null,null,null,0]
[null,null,null,null,null,null,null,null,null,null,0]
[null,null,null,null,null,null,null,null,null,null,0]
[null,null,null,null,null,null,null,null,null,null,0]
[null,null,null,null,null,null,null,null,null,null,0]
[null,null,null,null,null,null,null,null,null,null,0]
[null,null,null,null,null,null,null,null,null,null,0]
[null,null,null,null,null,null,null,null,null,null,0]
[null,null,null,null,null,null,null,null,null,null,0]
[null,null,null,null,null,null,null,null,null,null,0]
[null,null,null,null,null,null,null,null,null,null,0]
[null,null,null,null,null,null,null,null,null,null,0]
[null,null,null,null,null,null,null,null,null,null,0]
[null,null,null,null,null,null,null,null,null,null,{"$f":"SUM(C181:J181)","v":0}]
[null,null,null,null,null,null,null,null,null,null,{"$f":"SUM(C182:J182)","v":0}]
[null,null,null,null,null,null,null,null,null,null,0]
[null,null,null,null,null,null,null,null,null,null,0]
[null,null,null,null,null,null,null,null,null,null,0]
[null,null,null,null,null,null,null,null,null,null,0]
[null,null,null,null,null,null,null,null,null,null,0]
[null,null,null,null,null,null,null,null,null,null,0]
[null,null,null,null,null,null,null,null,null,null,0]
[null,null,null,null,null,null,null,null,null,null,0]
[null,null,null,null,null,null,null,null,null,null,0]
[null,null,null,null,null,null,null,null,null,null,0]
[null,null,null,null,null,null,null,null,null,null,0]
[null,null,null,null,null,null,null,null,null,null,0]
[null,null,null,null,null,null,null,null,null,null,0]
[null,null,null,null,null,null,null,null,null,null,0]
[null,null,null,null,null,null,null,null,null,null,0]
[null,null,null,null,null,null,null,null,null,null,0]
[null,null,null,null,null,null,null,null,null,null,0]
[null,null,null,null,null,null,null,null,null,null,0]
[null,null,null,null,null,null,null,null,null,null,0]
[null,null,null,null,null,null,null,null,null,null,0]
[null,null,null,null,null,null,null,null,null,null,0]
[null,null,null,null,null,null,null,null,null,null,0]
[null,null,null,null,null,null,null,null,null,null,0]
["TOT Jour",null,{"$f":"SUM(C156:C205)","v":0},{"$f":"SUM(D156:D205)","v":0},0,0,0,0,0,0]
["TOT Période",null,{"$f":"SUM(C206:J206)","v":0}]
[{"$f":"Accueil!$B13","v":"Anglais"}]
[]
[]
["Période :",{"$f":"Accueil!A44","v":"P4"},{"$f":"Accueil!$B44","v":"du"},{"$f":"Accueil!$C44","v":"2015-03-08"},{"$f":"Accueil!$D44","v":"au"},{"$f":"Accueil!$E44","v":"2015-04-15"}]
["Selectionnez la classe participant à l'atelier :"]
["NOM","Prénom","2014-05-25","2014-05-26","2014-05-27","2014-05-28","2014-05-29","2014-05-30","2014-05-31","2014-06-01","TOT"]
[null,null,null,null,null,null,null,null,null,null,{"$f":"SUM(C214:J214)","v":0}]
[null,null,null,null,null,null,null,null,null,null,{"$f":"SUM(C215:J215)","v":0}]
[null,null,null,null,null,null,null,null,null,null,0]
[null,null,null,null,null,null,null,null,null,null,0]
[null,null,null,null,null,null,null,null,null,null,0]
[null,null,null,null,null,null,null,null,null,null,0]
[null,null,null,null,null,null,null,null,null,null,0]
[null,null,null,null,null,null,null,null,null,null,0]
[null,null,null,null,null,null,null,null,null,null,0]
[null,null,null,null,null,null,null,null,null,null,0]
[null,null,null,null,null,null,null,null,null,null,0]
[null,null,null,null,null,null,null,null,null,null,0]
[null,null,null,null,null,null,null,null,null,null,0]
[null,null,null,null,null,null,null,null,null,null,0]
[null,null,null,null,null,null,null,null,null,null,0]
[null,null,null,null,null,null,null,null,null,null,0]
[null,null,null,null,null,null,null,null,null,null,0]
[null,null,null,null,null,null,null,null,null,null,0]
[null,null,null,null,null,null,null,null,null,null,0]
[null,null,null,null,null,null,null,null,null,null,0]
[null,null,null,null,null,null,null,null,null,null,0]
[null,null,null,null,null,null,null,null,null,null,0]
[null,null,null,null,null,null,null,null,null,null,0]
[null,null,null,null,null,null,null,null,null,null,0]
[null,null,null,null,null,null,null,null,null,null,0]
[null,null,null,null,null,null,null,null,null,null,{"$f":"SUM(C239:J239)","v":0}]
[null,null,null,null,null,null,null,null,null,null,{"$f":"SUM(C240:J240)","v":0}]
[null,null,null,null,null,null,null,null,null,null,0]
[null,null,null,null,null,null,null,null,null,null,0]
[null,null,null,null,null,null,null,null,null,null,0]
[null,null,null,null,null,null,null,null,null,null,0]
[null,null,null,null,null,null,null,null,null,null,0]
[null,null,null,null,null,null,null,null,null,null,0]
[null,null,null,null,null,null,null,null,null,null,0]
[null,null,null,null,null,null,null,null,null,null,0]
[null,null,null,null,null,null,null,null,null,null,0]
[null,null,null,null,null,null,null,null,null,null,0]
[null,null,null,null,null,null,null,null,null,null,0]
[null,null,null,null,null,null,null,null,null,null,0]
[null,null,null,null,null,null,null,null,null,null,0]
[null,null,null,null,null,null,null,null,null,null,0]
[null,null,null,null,null,null,null,null,null,null,0]
[null,null,null,null,null,null,null,null,null,null,0]
[null,null,null,null,null,null,null,null,null,null,0]
[null,null,null,null,null,null,null,null,null,null,0]
[null,null,null,null,null,null,null,null,null,null,0]
[null,null,null,null,null,null,null,null,null,null,0]
[null,null,null,null,null,null,null,null,null,null,0]
[null,null,null,null,null,null,null,null,null,null,0]
[null,null,null,null,null,null,null,null,null,null,0]
["TOT Jour",null,{"$f":"SUM(C214:C263)","v":0},{"$f":"SUM(D214:D263)","v":0},0,0,0,0,0,0]
["TOT Période",null,{"$f":"SUM(C264:J264)","v":0}]
[{"$f":"Accueil!$B13","v":"Anglais"}]
[]
[]
["Période :",{"$f":"Accueil!A45","v":"P5"},{"$f":"Accueil!$B45","v":"du"},{"$f":"Accueil!$C45","v":"2015-05-02"},{"$f":"Accueil!$D45","v":"au"},{"$f":"Accueil!$E45","v":"2015-07-03"}]
["Selectionnez la classe participant à l'atelier :"]
["NOM","Prénom","2014-05-25","2014-05-26","2014-05-27","2014-05-28","2014-05-29","2014-05-30","2014-05-31","2014-06-01","TOT"]
[null,null,null,null,null,null,null,null,null,null,{"$f":"SUM(C272:J272)","v":0}]
[null,null,null,null,null,null,null,null,null,null,{"$f":"SUM(C273:J273)","v":0}]
[null,null,null,null,null,null,null,null,null,null,0]
[null,null,null,null,null,null,null,null,null,null,0]
[null,null,null,null,null,null,null,null,null,null,0]
[null,null,null,null,null,null,null,null,null,null,0]
[null,null,null,null,null,null,null,null,null,null,0]
[null,null,null,null,null,null,null,null,null,null,0]
[null,null,null,null,null,null,null,null,null,null,0]
[null,null,null,null,null,null,null,null,null,null,0]
[null,null,null,null,null,null,null,null,null,null,0]
[null,null,null,null,null,null,null,null,null,null,0]
[null,null,null,null,null,null,null,null,null,null,0]
[null,null,null,null,null,null,null,null,null,null,0]
[null,null,null,null,null,null,null,null,null,null,0]
[null,null,null,null,null,null,null,null,null,null,0]
[null,null,null,null,null,null,null,null,null,null,0]
[null,null,null,null,null,null,null,null,null,null,0]
[null,null,null,null,null,null,null,null,null,null,0]
[null,null,null,null,null,null,null,null,null,null,0]
[null,null,null,null,null,null,null,null,null,null,0]
[null,null,null,null,null,null,null,null,null,null,0]
[null,null,null,null,null,null,null,null,null,null,0]
[null,null,null,null,null,null,null,null,null,null,0]
[null,null,null,null,null,null,null,null,null,null,0]
[null,null,null,null,null,null,null,null,null,null,{"$f":"SUM(C297:J297)","v":0}]
[null,null,null,null,null,null,null,null,null,null,{"$f":"SUM(C298:J298)","v":0}]
[null,null,null,null,null,null,null,null,null,null,0]
[null,null,null,null,null,null,null,null,null,null,0]
[null,null,null,null,null,null,null,null,null,null,0]
[null,null,null,null,null,null,null,null,null,null,0]
[null,null,null,null,null,null,null,null,null,null,0]
[null,null,null,null,null,null,null,null,null,null,0]
[null,null,null,null,null,null,null,null,null,null,0]
[null,null,null,null,null,null,null,null,null,null,0]
[null,null,null,null,null,null,null,null,null,null,0]
[null,null,null,null,null,null,null,null,null,null,0]
[null,null,null,null,null,null,null,null,null,null,0]
[null,null,null,null,null,null,null,null,null,null,0]
[null,null,null,null,null,null,null,null,null,null,0]
[null,null,null,null,null,null,null,null,null,null,0]
[null,null,null,null,null,null,null,null,null,null,0]
[null,null,null,null,null,null,null,null,null,null,0]
[null,null,null,null,null,null,null,null,null,null,0]
[null,null,null,null,null,null,null,null,null,null,0]
[null,null,null,null,null,null,null,null,null,null,0]
[null,null,null,null,null,null,null,null,null,null,0]
[null,null,null,null,null,null,null,null,null,null,0]
[null,null,null,null,null,null,null,null,null,null,0]
[null,null,null,null,null,null,null,null,null,null,0]
["TOT Jour",null,{"$f":"SUM(C272:C321)","v":0},{"$f":"SUM(D272:D321)","v":0},0,0,0,0,0,0]
["TOT Période",null,{"$f":"SUM(C322:J322)","v":0}]
["Statistiques"]
[]
[]
["Nombre d'heure de fréquentation :"]
[{"$f":"Accueil!$A41","v":"P1"},{"$f":"$C$91*1.5","v":0},"heures de présence pour cet atelier et pour cette période"]
[{"$f":"Accueil!$A42","v":"P2"},{"$f":"$C$149*1.5","v":0},"heures de présence pour cet atelier et pour cette période"]
[{"$f":"Accueil!$A43","v":"P3"},{"$f":"$C$207*1.5","v":0},"heures de présence pour cet atelier et pour cette période"]
[{"$f":"Accueil!$A44","v":"P4"},{"$f":"$C$265*1.5","v":0},"heures de présence pour cet atelier et pour cette période"]
[{"$f":"Accueil!$A45","v":"P5"},{"$f":"$C$323*1.5","v":0},"heures de présence pour cet atelier et pour cette période"]
["TOT",{"$f":"SUM($B$328:$B$332)","v":0},"heures de présence pour cet atelier et pour l'année"]

{"sheet":"Bijoux","index":8,"n_rows":333,"n_cols":11,"rows_kept":333,"cut":false,"hidden":false,"merged":[[331,2,331,6],[332,2,332,6],[8,1,15,9],[323,0,324,10],[327,2,327,6],[328,2,328,6],[329,2,329,6],[330,2,330,6],[265,0,266,10],[269,0,269,3],[269,4,269,5],[321,0,321,1],[322,0,322,1],[322,2,322,9],[211,0,211,3],[211,4,211,5],[149,0,150,10],[153,0,153,3],[153,4,153,5],[263,0,263,1],[264,0,264,1],[264,2,264,9],[205,0,205,1],[206,0,206,1],[206,2,206,9],[207,0,208,10],[91,0,92,10],[95,0,95,3],[95,4,95,5],[147,0,147,1],[148,0,148,1],[148,2,148,9],[33,0,34,10],[37,0,37,3],[37,4,37,5],[89,0,89,1],[90,0,90,1],[90,2,90,9]]}
[]
[]
[]
[]
[]
[]
[]
[]
[null,{"$f":"Accueil!B14","v":"Bijoux"}]
[]
[]
[]
[]
[]
[]
[]
[]
[]
[]
[]
[]
[]
[]
[]
[]
[]
[]
[]
[]
[]
[]
[]
[]
[{"$f":"Accueil!$B14","v":"Bijoux"}]
[]
[]
["Période :",{"$f":"Accueil!$A$41","v":"P1"},{"$f":"Accueil!$B$41","v":"du"},{"$f":"Accueil!$C$41","v":"2014-09-02"},{"$f":"Accueil!$D$41","v":"au"},{"$f":"Accueil!$E$41","v":"2014-10-18"}]
["Selectionnez la classe participant à l'atelier :"]
["NOM","Prénom","2014-09-02","2014-05-26","2014-05-27","2014-05-28","2014-05-29","2014-05-30","2014-05-31","2014-06-01","TOT"]
[null,null,null,null,null,null,null,null,null,null,{"$f":"SUM(C40:J40)","v":0}]
[null,null,null,null,null,null,null,null,null,null,{"$f":"SUM(C41:J41)","v":0}]
[null,null,null,null,null,null,null,null,null,null,0]
[null,null,null,null,null,null,null,null,null,null,0]
[null,null,null,null,null,null,null,null,null,null,0]
[null,null,null,null,null,null,null,null,null,null,0]
[null,null,null,null,null,null,null,null,null,null,0]
[null,null,null,null,null,null,null,null,null,null,0]
[null,null,null,null,null,null,null,null,null,null,0]
[null,null,null,null,null,null,null,null,null,null,0]
[null,null,null,null,null,null,null,null,null,null,0]
[null,null,null,null,null,null,null,null,null,null,0]
[null,null,null,null,null,null,null,null,null,null,0]
[null,null,null,null,null,null,null,null,null,null,0]
[null,null,null,null,null,null,null,null,null,null,0]
[null,null,null,null,null,null,null,null,null,null,0]
[null,null,null,null,null,null,null,null,null,null,0]
[null,null,null,null,null,null,null,null,null,null,0]
[null,null,null,null,null,null,null,null,null,null,0]
[null,null,null,null,null,null,null,null,null,null,0]
[null,null,null,null,null,null,null,null,null,null,0]
[null,null,null,null,null,null,null,null,null,null,0]
[null,null,null,null,null,null,null,null,null,null,0]
[null,null,null,null,null,null,null,null,null,null,0]
[null,null,null,null,null,null,null,null,null,null,0]
[null,null,null,null,null,null,null,null,null,null,{"$f":"SUM(C65:J65)","v":0}]
[null,null,null,null,null,null,null,null,null,null,{"$f":"SUM(C66:J66)","v":0}]
[null,null,null,null,null,null,null,null,null,null,0]
[null,null,null,null,null,null,null,null,null,null,0]
[null,null,null,null,null,null,null,null,null,null,0]
[null,null,null,null,null,null,null,null,null,null,0]
[null,null,null,null,null,null,null,null,null,null,0]
[null,null,null,null,null,null,null,null,null,null,0]
[null,null,null,null,null,null,null,null,null,null,0]
[null,null,null,null,null,null,null,null,null,null,0]
[null,null,null,null,null,null,null,null,null,null,0]
[null,null,null,null,null,null,null,null,null,null,0]
[null,null,null,null,null,null,null,null,null,null,0]
[null,null,null,null,null,null,null,null,null,null,0]
[null,null,null,null,null,null,null,null,null,null,0]
[null,null,null,null,null,null,null,null,null,null,0]
[null,null,null,null,null,null,null,null,null,null,0]
[null,null,null,null,null,null,null,null,null,null,0]
[null,null,null,null,null,null,null,null,null,null,0]
[null,null,null,null,null,null,null,null,null,null,0]
[null,null,null,null,null,null,null,null,null,null,0]
[null,null,null,null,null,null,null,null,null,null,0]
[null,null,null,null,null,null,null,null,null,null,0]
[null,null,null,null,null,null,null,null,null,null,0]
[null,null,null,null,null,null,null,null,null,null,0]
["TOT Jour",null,{"$f":"SUM(C40:C89)","v":0},{"$f":"SUM(D40:D89)","v":0},0,0,0,0,0,0]
["TOT Période",null,{"$f":"SUM(C90:J90)","v":0}]
[{"$f":"Accueil!$B14","v":"Bijoux"}]
[]
[]
["Période :",{"$f":"Accueil!$A42","v":"P2"},{"$f":"Accueil!$B42","v":"du"},{"$f":"Accueil!$C42","v":"2014-11-02"},{"$f":"Accueil!$D42","v":"au"},{"$f":"Accueil!$E42","v":"2014-12-18"}]
["Selectionnez la classe participant à l'atelier :"]
["NOM","Prénom","2014-05-25","2014-05-26","2014-05-27","2014-05-28","2014-05-29","2014-05-30","2014-05-31","2014-06-01","TOT"]
[null,null,null,null,null,null,null,null,null,null,{"$f":"SUM(C98:J98)","v":0}]
[null,null,null,null,null,null,null,null,null,null,{"$f":"SUM(C99:J99)","v":0}]
[null,null,null,null,null,null,null,null,null,null,0]
[null,null,null,null,null,null,null,null,null,null,0]
[null,null,null,null,null,null,null,null,null,null,0]
[null,null,null,null,null,null,null,null,null,null,0]
[null,null,null,null,null,null,null,null,null,null,0]
[null,null,null,null,null,null,null,null,null,null,0]
[null,null,null,null,null,null,null,null,null,null,0]
[null,null,null,null,null,null,null,null,null,null,0]
[null,null,null,null,null,null,null,null,null,null,0]
[null,null,null,null,null,null,null,null,null,null,0]
[null,null,null,null,null,null,null,null,null,null,0]
[null,null,null,null,null,null,null,null,null,null,0]
[null,null,null,null,null,null,null,null,null,null,0]
[null,null,null,null,null,null,null,null,null,null,0]
[null,null,null,null,null,null,null,null,null,null,0]
[null,null,null,null,null,null,null,null,null,null,0]
[null,null,null,null,null,null,null,null,null,null,0]
[null,null,null,null,null,null,null,null,null,null,0]
[null,null,null,null,null,null,null,null,null,null,0]
[null,null,null,null,null,null,null,null,null,null,0]
[null,null,null,null,null,null,null,null,null,null,0]
[null,null,null,null,null,null,null,null,null,null,0]
[null,null,null,null,null,null,null,null,null,null,0]
[null,null,null,null,null,null,null,null,null,null,{"$f":"SUM(C123:J123)","v":0}]
[null,null,null,null,null,null,null,null,null,null,{"$f":"SUM(C124:J124)","v":0}]
[null,null,null,null,null,null,null,null,null,null,0]
[null,null,null,null,null,null,null,null,null,null,0]
[null,null,null,null,null,null,null,null,null,null,0]
[null,null,null,null,null,null,null,null,null,null,0]
[null,null,null,null,null,null,null,null,null,null,0]
[null,null,null,null,null,null,null,null,null,null,0]
[null,null,null,null,null,null,null,null,null,null,0]
[null,null,null,null,null,null,null,null,null,null,0]
[null,null,null,null,null,null,null,null,null,null,0]
[null,null,null,null,null,null,null,null,null,null,0]
[null,null,null,null,null,null,null,null,null,null,0]
[null,null,null,null,null,null,null,null,null,null,0]
[null,null,null,null,null,null,null,null,null,null,0]
[null,null,null,null,null,null,null,null,null,null,0]
[null,null,null,null,null,null,null,null,null,null,0]
[null,null,null,null,null,null,null,null,null,null,0]
[null,null,null,null,null,null,null,null,null,null,0]
[null,null,null,null,null,null,null,null,null,null,0]
[null,null,null,null,null,null,null,null,null,null,0]
[null,null,null,null,null,null,null,null,null,null,0]
[null,null,null,null,null,null,null,null,null,null,0]
[null,null,null,null,null,null,null,null,null,null,0]
[null,null,null,null,null,null,null,null,null,null,0]
["TOT Jour",null,{"$f":"SUM(C98:C147)","v":0},{"$f":"SUM(D98:D147)","v":0},0,0,0,0,0,0]
["TOT Période",null,{"$f":"SUM(C148:J148)","v":0}]
[{"$f":"Accueil!$B14","v":"Bijoux"}]
[]
[]
["Période :",{"$f":"Accueil!A43","v":"P3"},{"$f":"Accueil!$B43","v":"du"},{"$f":"Accueil!$C43","v":"2015-01-04"},{"$f":"Accueil!$D43","v":"au"},{"$f":"Accueil!$E43","v":"2015-02-20"}]
["Selectionnez la classe participant à l'atelier :"]
["NOM","Prénom","2014-05-25","2014-05-26","2014-05-27","2014-05-28","2014-05-29","2014-05-30","2014-05-31","2014-06-01","TOT"]
[null,null,null,null,null,null,null,null,null,null,{"$f":"SUM(C156:J156)","v":0}]
[null,null,null,null,null,null,null,null,null,null,{"$f":"SUM(C157:J157)","v":0}]
[null,null,null,null,null,null,null,null,null,null,0]
[null,null,null,null,null,null,null,null,null,null,0]
[null,null,null,null,null,null,null,null,null,null,0]
[null,null,null,null,null,null,null,null,null,null,0]
[null,null,null,null,null,null,null,null,null,null,0]
[null,null,null,null,null,null,null,null,null,null,0]
[null,null,null,null,null,null,null,null,null,null,0]
[null,null,null,null,null,null,null,null,null,null,0]
[null,null,null,null,null,null,null,null,null,null,0]
[null,null,null,null,null,null,null,null,null,null,0]
[null,null,null,null,null,null,null,null,null,null,0]
[null,null,null,null,null,null,null,null,null,null,0]
[null,null,null,null,null,null,null,null,null,null,0]
[null,null,null,null,null,null,null,null,null,null,0]
[null,null,null,null,null,null,null,null,null,null,0]
[null,null,null,null,null,null,null,null,null,null,0]
[null,null,null,null,null,null,null,null,null,null,0]
[null,null,null,null,null,null,null,null,null,null,0]
[null,null,null,null,null,null,null,null,null,null,0]
[null,null,null,null,null,null,null,null,null,null,0]
[null,null,null,null,null,null,null,null,null,null,0]
[null,null,null,null,null,null,null,null,null,null,0]
[null,null,null,null,null,null,null,null,null,null,0]
[null,null,null,null,null,null,null,null,null,null,{"$f":"SUM(C181:J181)","v":0}]
[null,null,null,null,null,null,null,null,null,null,{"$f":"SUM(C182:J182)","v":0}]
[null,null,null,null,null,null,null,null,null,null,0]
[null,null,null,null,null,null,null,null,null,null,0]
[null,null,null,null,null,null,null,null,null,null,0]
[null,null,null,null,null,null,null,null,null,null,0]
[null,null,null,null,null,null,null,null,null,null,0]
[null,null,null,null,null,null,null,null,null,null,0]
[null,null,null,null,null,null,null,null,null,null,0]
[null,null,null,null,null,null,null,null,null,null,0]
[null,null,null,null,null,null,null,null,null,null,0]
[null,null,null,null,null,null,null,null,null,null,0]
[null,null,null,null,null,null,null,null,null,null,0]
[null,null,null,null,null,null,null,null,null,null,0]
[null,null,null,null,null,null,null,null,null,null,0]
[null,null,null,null,null,null,null,null,null,null,0]
[null,null,null,null,null,null,null,null,null,null,0]
[null,null,null,null,null,null,null,null,null,null,0]
[null,null,null,null,null,null,null,null,null,null,0]
[null,null,null,null,null,null,null,null,null,null,0]
[null,null,null,null,null,null,null,null,null,null,0]
[null,null,null,null,null,null,null,null,null,null,0]
[null,null,null,null,null,null,null,null,null,null,0]
[null,null,null,null,null,null,null,null,null,null,0]
[null,null,null,null,null,null,null,null,null,null,0]
["TOT Jour",null,{"$f":"SUM(C156:C205)","v":0},{"$f":"SUM(D156:D205)","v":0},0,0,0,0,0,0]
["TOT Période",null,{"$f":"SUM(C206:J206)","v":0}]
[{"$f":"Accueil!$B14","v":"Bijoux"}]
[]
[]
["Période :",{"$f":"Accueil!A44","v":"P4"},{"$f":"Accueil!$B44","v":"du"},{"$f":"Accueil!$C44","v":"2015-03-08"},{"$f":"Accueil!$D44","v":"au"},{"$f":"Accueil!$E44","v":"2015-04-15"}]
["Selectionnez la classe participant à l'atelier :"]
["NOM","Prénom","2014-05-25","2014-05-26","2014-05-27","2014-05-28","2014-05-29","2014-05-30","2014-05-31","2014-06-01","TOT"]
[null,null,null,null,null,null,null,null,null,null,{"$f":"SUM(C214:J214)","v":0}]
[null,null,null,null,null,null,null,null,null,null,{"$f":"SUM(C215:J215)","v":0}]
[null,null,null,null,null,null,null,null,null,null,0]
[null,null,null,null,null,null,null,null,null,null,0]
[null,null,null,null,null,null,null,null,null,null,0]
[null,null,null,null,null,null,null,null,null,null,0]
[null,null,null,null,null,null,null,null,null,null,0]
[null,null,null,null,null,null,null,null,null,null,0]
[null,null,null,null,null,null,null,null,null,null,0]
[null,null,null,null,null,null,null,null,null,null,0]
[null,null,null,null,null,null,null,null,null,null,0]
[null,null,null,null,null,null,null,null,null,null,0]
[null,null,null,null,null,null,null,null,null,null,0]
[null,null,null,null,null,null,null,null,null,null,0]
[null,null,null,null,null,null,null,null,null,null,0]
[null,null,null,null,null,null,null,null,null,null,0]
[null,null,null,null,null,null,null,null,null,null,0]
[null,null,null,null,null,null,null,null,null,null,0]
[null,null,null,null,null,null,null,null,null,null,0]
[null,null,null,null,null,null,null,null,null,null,0]
[null,null,null,null,null,null,null,null,null,null,0]
[null,null,null,null,null,null,null,null,null,null,0]
[null,null,null,null,null,null,null,null,null,null,0]
[null,null,null,null,null,null,null,null,null,null,0]
[null,null,null,null,null,null,null,null,null,null,0]
[null,null,null,null,null,null,null,null,null,null,{"$f":"SUM(C239:J239)","v":0}]
[null,null,null,null,null,null,null,null,null,null,{"$f":"SUM(C240:J240)","v":0}]
[null,null,null,null,null,null,null,null,null,null,0]
[null,null,null,null,null,null,null,null,null,null,0]
[null,null,null,null,null,null,null,null,null,null,0]
[null,null,null,null,null,null,null,null,null,null,0]
[null,null,null,null,null,null,null,null,null,null,0]
[null,null,null,null,null,null,null,null,null,null,0]
[null,null,null,null,null,null,null,null,null,null,0]
[null,null,null,null,null,null,null,null,null,null,0]
[null,null,null,null,null,null,null,null,null,null,0]
[null,null,null,null,null,null,null,null,null,null,0]
[null,null,null,null,null,null,null,null,null,null,0]
[null,null,null,null,null,null,null,null,null,null,0]
[null,null,null,null,null,null,null,null,null,null,0]
[null,null,null,null,null,null,null,null,null,null,0]
[null,null,null,null,null,null,null,null,null,null,0]
[null,null,null,null,null,null,null,null,null,null,0]
[null,null,null,null,null,null,null,null,null,null,0]
[null,null,null,null,null,null,null,null,null,null,0]
[null,null,null,null,null,null,null,null,null,null,0]
[null,null,null,null,null,null,null,null,null,null,0]
[null,null,null,null,null,null,null,null,null,null,0]
[null,null,null,null,null,null,null,null,null,null,0]
[null,null,null,null,null,null,null,null,null,null,0]
["TOT Jour",null,{"$f":"SUM(C214:C263)","v":0},{"$f":"SUM(D214:D263)","v":0},0,0,0,0,0,0]
["TOT Période",null,{"$f":"SUM(C264:J264)","v":0}]
[{"$f":"Accueil!$B14","v":"Bijoux"}]
[]
[]
["Période :",{"$f":"Accueil!A45","v":"P5"},{"$f":"Accueil!$B45","v":"du"},{"$f":"Accueil!$C45","v":"2015-05-02"},{"$f":"Accueil!$D45","v":"au"},{"$f":"Accueil!$E45","v":"2015-07-03"}]
["Selectionnez la classe participant à l'atelier :"]
["NOM","Prénom","2014-05-25","2014-05-26","2014-05-27","2014-05-28","2014-05-29","2014-05-30","2014-05-31","2014-06-01","TOT"]
[null,null,null,null,null,null,null,null,null,null,{"$f":"SUM(C272:J272)","v":0}]
[null,null,null,null,null,null,null,null,null,null,{"$f":"SUM(C273:J273)","v":0}]
[null,null,null,null,null,null,null,null,null,null,0]
[null,null,null,null,null,null,null,null,null,null,0]
[null,null,null,null,null,null,null,null,null,null,0]
[null,null,null,null,null,null,null,null,null,null,0]
[null,null,null,null,null,null,null,null,null,null,0]
[null,null,null,null,null,null,null,null,null,null,0]
[null,null,null,null,null,null,null,null,null,null,0]
[null,null,null,null,null,null,null,null,null,null,0]
[null,null,null,null,null,null,null,null,null,null,0]
[null,null,null,null,null,null,null,null,null,null,0]
[null,null,null,null,null,null,null,null,null,null,0]
[null,null,null,null,null,null,null,null,null,null,0]
[null,null,null,null,null,null,null,null,null,null,0]
[null,null,null,null,null,null,null,null,null,null,0]
[null,null,null,null,null,null,null,null,null,null,0]
[null,null,null,null,null,null,null,null,null,null,0]
[null,null,null,null,null,null,null,null,null,null,0]
[null,null,null,null,null,null,null,null,null,null,0]
[null,null,null,null,null,null,null,null,null,null,0]
[null,null,null,null,null,null,null,null,null,null,0]
[null,null,null,null,null,null,null,null,null,null,0]
[null,null,null,null,null,null,null,null,null,null,0]
[null,null,null,null,null,null,null,null,null,null,0]
[null,null,null,null,null,null,null,null,null,null,{"$f":"SUM(C297:J297)","v":0}]
[null,null,null,null,null,null,null,null,null,null,{"$f":"SUM(C298:J298)","v":0}]
[null,null,null,null,null,null,null,null,null,null,0]
[null,null,null,null,null,null,null,null,null,null,0]
[null,null,null,null,null,null,null,null,null,null,0]
[null,null,null,null,null,null,null,null,null,null,0]
[null,null,null,null,null,null,null,null,null,null,0]
[null,null,null,null,null,null,null,null,null,null,0]
[null,null,null,null,null,null,null,null,null,null,0]
[null,null,null,null,null,null,null,null,null,null,0]
[null,null,null,null,null,null,null,null,null,null,0]
[null,null,null,null,null,null,null,null,null,null,0]
[null,null,null,null,null,null,null,null,null,null,0]
[null,null,null,null,null,null,null,null,null,null,0]
[null,null,null,null,null,null,null,null,null,null,0]
[null,null,null,null,null,null,null,null,null,null,0]
[null,null,null,null,null,null,null,null,null,null,0]
[null,null,null,null,null,null,null,null,null,null,0]
[null,null,null,null,null,null,null,null,null,null,0]
[null,null,null,null,null,null,null,null,null,null,0]
[null,null,null,null,null,null,null,null,null,null,0]
[null,null,null,null,null,null,null,null,null,null,0]
[null,null,null,null,null,null,null,null,null,null,0]
[null,null,null,null,null,null,null,null,null,null,0]
[null,null,null,null,null,null,null,null,null,null,0]
["TOT Jour",null,{"$f":"SUM(C272:C321)","v":0},{"$f":"SUM(D272:D321)","v":0},0,0,0,0,0,0]
["TOT Période",null,{"$f":"SUM(C322:J322)","v":0}]
["Statistiques"]
[]
[]
["Nombre d'heure de fréquentation :"]
[{"$f":"Accueil!$A41","v":"P1"},{"$f":"$C$91*1.5","v":0},"heures de présence pour cet atelier et pour cette période"]
[{"$f":"Accueil!$A42","v":"P2"},{"$f":"$C$149*1.5","v":0},"heures de présence pour cet atelier et pour cette période"]
[{"$f":"Accueil!$A43","v":"P3"},{"$f":"$C$207*1.5","v":0},"heures de présence pour cet atelier et pour cette période"]
[{"$f":"Accueil!$A44","v":"P4"},{"$f":"$C$265*1.5","v":0},"heures de présence pour cet atelier et pour cette période"]
[{"$f":"Accueil!$A45","v":"P5"},{"$f":"$C$323*1.5","v":0},"heures de présence pour cet atelier et pour cette période"]
["TOT",{"$f":"SUM($B$328:$B$332)","v":0},"heures de présence pour cet atelier et pour l'année"]

{"sheet":"Météorite","index":9,"n_rows":333,"n_cols":11,"rows_kept":333,"cut":false,"hidden":false,"merged":[[331,2,331,6],[332,2,332,6],[8,1,15,9],[323,0,324,10],[327,2,327,6],[328,2,328,6],[329,2,329,6],[330,2,330,6],[265,0,266,10],[269,0,269,3],[269,4,269,5],[321,0,321,1],[322,0,322,1],[322,2,322,9],[211,0,211,3],[211,4,211,5],[149,0,150,10],[153,0,153,3],[153,4,153,5],[263,0,263,1],[264,0,264,1],[264,2,264,9],[205,0,205,1],[206,0,206,1],[206,2,206,9],[207,0,208,10],[91,0,92,10],[95,0,95,3],[95,4,95,5],[147,0,147,1],[148,0,148,1],[148,2,148,9],[33,0,34,10],[37,0,37,3],[37,4,37,5],[89,0,89,1],[90,0,90,1],[90,2,90,9]]}
[]
[]
[]
[]
[]
[]
[]
[]
[null,{"$f":"Accueil!B15","v":"Météorite"}]
[]
[]
[]
[]
[]
[]
[]
[]
[]
[]
[]
[]
[]
[]
[]
[]
[]
[]
[]
[]
[]
[]
[]
[]
[{"$f":"Accueil!$B15","v":"Météorite"}]
[]
[]
["Période :",{"$f":"Accueil!$A$41","v":"P1"},{"$f":"Accueil!$B$41","v":"du"},{"$f":"Accueil!$C$41","v":"2014-09-02"},{"$f":"Accueil!$D$41","v":"au"},{"$f":"Accueil!$E$41","v":"2014-10-18"}]
["Selectionnez la classe participant à l'atelier :"]
["NOM","Prénom","2014-09-02","2014-05-26","2014-05-27","2014-05-28","2014-05-29","2014-05-30","2014-05-31","2014-06-01","TOT"]
[null,null,null,null,null,null,null,null,null,null,{"$f":"SUM(C40:J40)","v":0}]
[null,null,null,null,null,null,null,null,null,null,{"$f":"SUM(C41:J41)","v":0}]
[null,null,null,null,null,null,null,null,null,null,0]
[null,null,null,null,null,null,null,null,null,null,0]
[null,null,null,null,null,null,null,null,null,null,0]
[null,null,null,null,null,null,null,null,null,null,0]
[null,null,null,null,null,null,null,null,null,null,0]
[null,null,null,null,null,null,null,null,null,null,0]
[null,null,null,null,null,null,null,null,null,null,0]
[null,null,null,null,null,null,null,null,null,null,0]
[null,null,null,null,null,null,null,null,null,null,0]
[null,null,null,null,null,null,null,null,null,null,0]
[null,null,null,null,null,null,null,null,null,null,0]
[null,null,null,null,null,null,null,null,null,null,0]
[null,null,null,null,null,null,null,null,null,null,0]
[null,null,null,null,null,null,null,null,null,null,0]
[null,null,null,null,null,null,null,null,null,null,0]
[null,null,null,null,null,null,null,null,null,null,0]
[null,null,null,null,null,null,null,null,null,null,0]
[null,null,null,null,null,null,null,null,null,null,0]
[null,null,null,null,null,null,null,null,null,null,0]
[null,null,null,null,null,null,null,null,null,null,0]
[null,null,null,null,null,null,null,null,null,null,0]
[null,null,null,null,null,null,null,null,null,null,0]
[null,null,null,null,null,null,null,null,null,null,0]
[null,null,null,null,null,null,null,null,null,null,{"$f":"SUM(C65:J65)","v":0}]
[null,null,null,null,null,null,null,null,null,null,{"$f":"SUM(C66:J66)","v":0}]
[null,null,null,null,null,null,null,null,null,null,0]
[null,null,null,null,null,null,null,null,null,null,0]
[null,null,null,null,null,null,null,null,null,null,0]
[null,null,null,null,null,null,null,null,null,null,0]
[null,null,null,null,null,null,null,null,null,null,0]
[null,null,null,null,null,null,null,null,null,null,0]
[null,null,null,null,null,null,null,null,null,null,0]
[null,null,null,null,null,null,null,null,null,null,0]
[null,null,null,null,null,null,null,null,null,null,0]
[null,null,null,null,null,null,null,null,null,null,0]
[null,null,null,null,null,null,null,null,null,null,0]
[null,null,null,null,null,null,null,null,null,null,0]
[null,null,null,null,null,null,null,null,null,null,0]
[null,null,null,null,null,null,null,null,null,null,0]
[null,null,null,null,null,null,null,null,null,null,0]
[null,null,null,null,null,null,null,null,null,null,0]
[null,null,null,null,null,null,null,null,null,null,0]
[null,null,null,null,null,null,null,null,null,null,0]
[null,null,null,null,null,null,null,null,null,null,0]
[null,null,null,null,null,null,null,null,null,null,0]
[null,null,null,null,null,null,null,null,null,null,0]
[null,null,null,null,null,null,null,null,null,null,0]
[null,null,null,null,null,null,null,null,null,null,0]
["TOT Jour",null,{"$f":"SUM(C40:C89)","v":0},{"$f":"SUM(D40:D89)","v":0},0,0,0,0,0,0]
["TOT Période",null,{"$f":"SUM(C90:J90)","v":0}]
[{"$f":"Accueil!$B15","v":"Météorite"}]
[]
[]
["Période :",{"$f":"Accueil!$A42","v":"P2"},{"$f":"Accueil!$B42","v":"du"},{"$f":"Accueil!$C42","v":"2014-11-02"},{"$f":"Accueil!$D42","v":"au"},{"$f":"Accueil!$E42","v":"2014-12-18"}]
["Selectionnez la classe participant à l'atelier :"]
["NOM","Prénom","2014-05-25","2014-05-26","2014-05-27","2014-05-28","2014-05-29","2014-05-30","2014-05-31","2014-06-01","TOT"]
[null,null,null,null,null,null,null,null,null,null,{"$f":"SUM(C98:J98)","v":0}]
[null,null,null,null,null,null,null,null,null,null,{"$f":"SUM(C99:J99)","v":0}]
[null,null,null,null,null,null,null,null,null,null,0]
[null,null,null,null,null,null,null,null,null,null,0]
[null,null,null,null,null,null,null,null,null,null,0]
[null,null,null,null,null,null,null,null,null,null,0]
[null,null,null,null,null,null,null,null,null,null,0]
[null,null,null,null,null,null,null,null,null,null,0]
[null,null,null,null,null,null,null,null,null,null,0]
[null,null,null,null,null,null,null,null,null,null,0]
[null,null,null,null,null,null,null,null,null,null,0]
[null,null,null,null,null,null,null,null,null,null,0]
[null,null,null,null,null,null,null,null,null,null,0]
[null,null,null,null,null,null,null,null,null,null,0]
[null,null,null,null,null,null,null,null,null,null,0]
[null,null,null,null,null,null,null,null,null,null,0]
[null,null,null,null,null,null,null,null,null,null,0]
[null,null,null,null,null,null,null,null,null,null,0]
[null,null,null,null,null,null,null,null,null,null,0]
[null,null,null,null,null,null,null,null,null,null,0]
[null,null,null,null,null,null,null,null,null,null,0]
[null,null,null,null,null,null,null,null,null,null,0]
[null,null,null,null,null,null,null,null,null,null,0]
[null,null,null,null,null,null,null,null,null,null,0]
[null,null,null,null,null,null,null,null,null,null,0]
[null,null,null,null,null,null,null,null,null,null,{"$f":"SUM(C123:J123)","v":0}]
[null,null,null,null,null,null,null,null,null,null,{"$f":"SUM(C124:J124)","v":0}]
[null,null,null,null,null,null,null,null,null,null,0]
[null,null,null,null,null,null,null,null,null,null,0]
[null,null,null,null,null,null,null,null,null,null,0]
[null,null,null,null,null,null,null,null,null,null,0]
[null,null,null,null,null,null,null,null,null,null,0]
[null,null,null,null,null,null,null,null,null,null,0]
[null,null,null,null,null,null,null,null,null,null,0]
[null,null,null,null,null,null,null,null,null,null,0]
[null,null,null,null,null,null,null,null,null,null,0]
[null,null,null,null,null,null,null,null,null,null,0]
[null,null,null,null,null,null,null,null,null,null,0]
[null,null,null,null,null,null,null,null,null,null,0]
[null,null,null,null,null,null,null,null,null,null,0]
[null,null,null,null,null,null,null,null,null,null,0]
[null,null,null,null,null,null,null,null,null,null,0]
[null,null,null,null,null,null,null,null,null,null,0]
[null,null,null,null,null,null,null,null,null,null,0]
[null,null,null,null,null,null,null,null,null,null,0]
[null,null,null,null,null,null,null,null,null,null,0]
[null,null,null,null,null,null,null,null,null,null,0]
[null,null,null,null,null,null,null,null,null,null,0]
[null,null,null,null,null,null,null,null,null,null,0]
[null,null,null,null,null,null,null,null,null,null,0]
["TOT Jour",null,{"$f":"SUM(C98:C147)","v":0},{"$f":"SUM(D98:D147)","v":0},0,0,0,0,0,0]
["TOT Période",null,{"$f":"SUM(C148:J148)","v":0}]
[{"$f":"Accueil!$B15","v":"Météorite"}]
[]
[]
["Période :",{"$f":"Accueil!A43","v":"P3"},{"$f":"Accueil!$B43","v":"du"},{"$f":"Accueil!$C43","v":"2015-01-04"},{"$f":"Accueil!$D43","v":"au"},{"$f":"Accueil!$E43","v":"2015-02-20"}]
["Selectionnez la classe participant à l'atelier :"]
["NOM","Prénom","2014-05-25","2014-05-26","2014-05-27","2014-05-28","2014-05-29","2014-05-30","2014-05-31","2014-06-01","TOT"]
[null,null,null,null,null,null,null,null,null,null,{"$f":"SUM(C156:J156)","v":0}]
[null,null,null,null,null,null,null,null,null,null,{"$f":"SUM(C157:J157)","v":0}]
[null,null,null,null,null,null,null,null,null,null,0]
[null,null,null,null,null,null,null,null,null,null,0]
[null,null,null,null,null,null,null,null,null,null,0]
[null,null,null,null,null,null,null,null,null,null,0]
[null,null,null,null,null,null,null,null,null,null,0]
[null,null,null,null,null,null,null,null,null,null,0]
[null,null,null,null,null,null,null,null,null,null,0]
[null,null,null,null,null,null,null,null,null,null,0]
[null,null,null,null,null,null,null,null,null,null,0]
[null,null,null,null,null,null,null,null,null,null,0]
[null,null,null,null,null,null,null,null,null,null,0]
[null,null,null,null,null,null,null,null,null,null,0]
[null,null,null,null,null,null,null,null,null,null,0]
[null,null,null,null,null,null,null,null,null,null,0]
[null,null,null,null,null,null,null,null,null,null,0]
[null,null,null,null,null,null,null,null,null,null,0]
[null,null,null,null,null,null,null,null,null,null,0]
[null,null,null,null,null,null,null,null,null,null,0]
[null,null,null,null,null,null,null,null,null,null,0]
[null,null,null,null,null,null,null,null,null,null,0]
[null,null,null,null,null,null,null,null,null,null,0]
[null,null,null,null,null,null,null,null,null,null,0]
[null,null,null,null,null,null,null,null,null,null,0]
[null,null,null,null,null,null,null,null,null,null,{"$f":"SUM(C181:J181)","v":0}]
[null,null,null,null,null,null,null,null,null,null,{"$f":"SUM(C182:J182)","v":0}]
[null,null,null,null,null,null,null,null,null,null,0]
[null,null,null,null,null,null,null,null,null,null,0]
[null,null,null,null,null,null,null,null,null,null,0]
[null,null,null,null,null,null,null,null,null,null,0]
[null,null,null,null,null,null,null,null,null,null,0]
[null,null,null,null,null,null,null,null,null,null,0]
[null,null,null,null,null,null,null,null,null,null,0]
[null,null,null,null,null,null,null,null,null,null,0]
[null,null,null,null,null,null,null,null,null,null,0]
[null,null,null,null,null,null,null,null,null,null,0]
[null,null,null,null,null,null,null,null,null,null,0]
[null,null,null,null,null,null,null,null,null,null,0]
[null,null,null,null,null,null,null,null,null,null,0]
[null,null,null,null,null,null,null,null,null,null,0]
[null,null,null,null,null,null,null,null,null,null,0]
[null,null,null,null,null,null,null,null,null,null,0]
[null,null,null,null,null,null,null,null,null,null,0]
[null,null,null,null,null,null,null,null,null,null,0]
[null,null,null,null,null,null,null,null,null,null,0]
[null,null,null,null,null,null,null,null,null,null,0]
[null,null,null,null,null,null,null,null,null,null,0]
[null,null,null,null,null,null,null,null,null,null,0]
[null,null,null,null,null,null,null,null,null,null,0]
["TOT Jour",null,{"$f":"SUM(C156:C205)","v":0},{"$f":"SUM(D156:D205)","v":0},0,0,0,0,0,0]
["TOT Période",null,{"$f":"SUM(C206:J206)","v":0}]
[{"$f":"Accueil!$B15","v":"Météorite"}]
[]
[]
["Période :",{"$f":"Accueil!A44","v":"P4"},{"$f":"Accueil!$B44","v":"du"},{"$f":"Accueil!$C44","v":"2015-03-08"},{"$f":"Accueil!$D44","v":"au"},{"$f":"Accueil!$E44","v":"2015-04-15"}]
["Selectionnez la classe participant à l'atelier :"]
["NOM","Prénom","2014-05-25","2014-05-26","2014-05-27","2014-05-28","2014-05-29","2014-05-30","2014-05-31","2014-06-01","TOT"]
[null,null,null,null,null,null,null,null,null,null,{"$f":"SUM(C214:J214)","v":0}]
[null,null,null,null,null,null,null,null,null,null,{"$f":"SUM(C215:J215)","v":0}]
[null,null,null,null,null,null,null,null,null,null,0]
[null,null,null,null,null,null,null,null,null,null,0]
[null,null,null,null,null,null,null,null,null,null,0]
[null,null,null,null,null,null,null,null,null,null,0]
[null,null,null,null,null,null,null,null,null,null,0]
[null,null,null,null,null,null,null,null,null,null,0]
[null,null,null,null,null,null,null,null,null,null,0]
[null,null,null,null,null,null,null,null,null,null,0]
[null,null,null,null,null,null,null,null,null,null,0]
[null,null,null,null,null,null,null,null,null,null,0]
[null,null,null,null,null,null,null,null,null,null,0]
[null,null,null,null,null,null,null,null,null,null,0]
[null,null,null,null,null,null,null,null,null,null,0]
[null,null,null,null,null,null,null,null,null,null,0]
[null,null,null,null,null,null,null,null,null,null,0]
[null,null,null,null,null,null,null,null,null,null,0]
[null,null,null,null,null,null,null,null,null,null,0]
[null,null,null,null,null,null,null,null,null,null,0]
[null,null,null,null,null,null,null,null,null,null,0]
[null,null,null,null,null,null,null,null,null,null,0]
[null,null,null,null,null,null,null,null,null,null,0]
[null,null,null,null,null,null,null,null,null,null,0]
[null,null,null,null,null,null,null,null,null,null,0]
[null,null,null,null,null,null,null,null,null,null,{"$f":"SUM(C239:J239)","v":0}]
[null,null,null,null,null,null,null,null,null,null,{"$f":"SUM(C240:J240)","v":0}]
[null,null,null,null,null,null,null,null,null,null,0]
[null,null,null,null,null,null,null,null,null,null,0]
[null,null,null,null,null,null,null,null,null,null,0]
[null,null,null,null,null,null,null,null,null,null,0]
[null,null,null,null,null,null,null,null,null,null,0]
[null,null,null,null,null,null,null,null,null,null,0]
[null,null,null,null,null,null,null,null,null,null,0]
[null,null,null,null,null,null,null,null,null,null,0]
[null,null,null,null,null,null,null,null,null,null,0]
[null,null,null,null,null,null,null,null,null,null,0]
[null,null,null,null,null,null,null,null,null,null,0]
[null,null,null,null,null,null,null,null,null,null,0]
[null,null,null,null,null,null,null,null,null,null,0]
[null,null,null,null,null,null,null,null,null,null,0]
[null,null,null,null,null,null,null,null,null,null,0]
[null,null,null,null,null,null,null,null,null,null,0]
[null,null,null,null,null,null,null,null,null,null,0]
[null,null,null,null,null,null,null,null,null,null,0]
[null,null,null,null,null,null,null,null,null,null,0]
[null,null,null,null,null,null,null,null,null,null,0]
[null,null,null,null,null,null,null,null,null,null,0]
[null,null,null,null,null,null,null,null,null,null,0]
[null,null,null,null,null,null,null,null,null,null,0]
["TOT Jour",null,{"$f":"SUM(C214:C263)","v":0},{"$f":"SUM(D214:D263)","v":0},0,0,0,0,0,0]
["TOT Période",null,{"$f":"SUM(C264:J264)","v":0}]
[{"$f":"Accueil!$B15","v":"Météorite"}]
[]
[]
["Période :",{"$f":"Accueil!A45","v":"P5"},{"$f":"Accueil!$B45","v":"du"},{"$f":"Accueil!$C45","v":"2015-05-02"},{"$f":"Accueil!$D45","v":"au"},{"$f":"Accueil!$E45","v":"2015-07-03"}]
["Selectionnez la classe participant à l'atelier :"]
["NOM","Prénom","2014-05-25","2014-05-26","2014-05-27","2014-05-28","2014-05-29","2014-05-30","2014-05-31","2014-06-01","TOT"]
[null,null,null,null,null,null,null,null,null,null,{"$f":"SUM(C272:J272)","v":0}]
[null,null,null,null,null,null,null,null,null,null,{"$f":"SUM(C273:J273)","v":0}]
[null,null,null,null,null,null,null,null,null,null,0]
[null,null,null,null,null,null,null,null,null,null,0]
[null,null,null,null,null,null,null,null,null,null,0]
[null,null,null,null,null,null,null,null,null,null,0]
[null,null,null,null,null,null,null,null,null,null,0]
[null,null,null,null,null,null,null,null,null,null,0]
[null,null,null,null,null,null,null,null,null,null,0]
[null,null,null,null,null,null,null,null,null,null,0]
[null,null,null,null,null,null,null,null,null,null,0]
[null,null,null,null,null,null,null,null,null,null,0]
[null,null,null,null,null,null,null,null,null,null,0]
[null,null,null,null,null,null,null,null,null,null,0]
[null,null,null,null,null,null,null,null,null,null,0]
[null,null,null,null,null,null,null,null,null,null,0]
[null,null,null,null,null,null,null,null,null,null,0]
[null,null,null,null,null,null,null,null,null,null,0]
[null,null,null,null,null,null,null,null,null,null,0]
[null,null,null,null,null,null,null,null,null,null,0]
[null,null,null,null,null,null,null,null,null,null,0]
[null,null,null,null,null,null,null,null,null,null,0]
[null,null,null,null,null,null,null,null,null,null,0]
[null,null,null,null,null,null,null,null,null,null,0]
[null,null,null,null,null,null,null,null,null,null,0]
[null,null,null,null,null,null,null,null,null,null,{"$f":"SUM(C297:J297)","v":0}]
[null,null,null,null,null,null,null,null,null,null,{"$f":"SUM(C298:J298)","v":0}]
[null,null,null,null,null,null,null,null,null,null,0]
[null,null,null,null,null,null,null,null,null,null,0]
[null,null,null,null,null,null,null,null,null,null,0]
[null,null,null,null,null,null,null,null,null,null,0]
[null,null,null,null,null,null,null,null,null,null,0]
[null,null,null,null,null,null,null,null,null,null,0]
[null,null,null,null,null,null,null,null,null,null,0]
[null,null,null,null,null,null,null,null,null,null,0]
[null,null,null,null,null,null,null,null,null,null,0]
[null,null,null,null,null,null,null,null,null,null,0]
[null,null,null,null,null,null,null,null,null,null,0]
[null,null,null,null,null,null,null,null,null,null,0]
[null,null,null,null,null,null,null,null,null,null,0]
[null,null,null,null,null,null,null,null,null,null,0]
[null,null,null,null,null,null,null,null,null,null,0]
[null,null,null,null,null,null,null,null,null,null,0]
[null,null,null,null,null,null,null,null,null,null,0]
[null,null,null,null,null,null,null,null,null,null,0]
[null,null,null,null,null,null,null,null,null,null,0]
[null,null,null,null,null,null,null,null,null,null,0]
[null,null,null,null,null,null,null,null,null,null,0]
[null,null,null,null,null,null,null,null,null,null,0]
[null,null,null,null,null,null,null,null,null,null,0]
["TOT Jour",null,{"$f":"SUM(C272:C321)","v":0},{"$f":"SUM(D272:D321)","v":0},0,0,0,0,0,0]
["TOT Période",null,{"$f":"SUM(C322:J322)","v":0}]
["Statistiques"]
[]
[]
["Nombre d'heure de fréquentation :"]
[{"$f":"Accueil!$A41","v":"P1"},{"$f":"$C$91*1.5","v":0},"heures de présence pour cet atelier et pour cette période"]
[{"$f":"Accueil!$A42","v":"P2"},{"$f":"$C$149*1.5","v":0},"heures de présence pour cet atelier et pour cette période"]
[{"$f":"Accueil!$A43","v":"P3"},{"$f":"$C$207*1.5","v":0},"heures de présence pour cet atelier et pour cette période"]
[{"$f":"Accueil!$A44","v":"P4"},{"$f":"$C$265*1.5","v":0},"heures de présence pour cet atelier et pour cette période"]
[{"$f":"Accueil!$A45","v":"P5"},{"$f":"$C$323*1.5","v":0},"heures de présence pour cet atelier et pour cette période"]
["TOT",{"$f":"SUM($B$328:$B$332)","v":0},"heures de présence pour cet atelier et pour l'année"]

{"sheet":"Poissons","index":10,"n_rows":333,"n_cols":11,"rows_kept":333,"cut":false,"hidden":false,"merged":[[331,2,331,6],[332,2,332,6],[8,1,15,9],[323,0,324,10],[327,2,327,6],[328,2,328,6],[329,2,329,6],[330,2,330,6],[265,0,266,10],[269,0,269,3],[269,4,269,5],[321,0,321,1],[322,0,322,1],[322,2,322,9],[211,0,211,3],[211,4,211,5],[149,0,150,10],[153,0,153,3],[153,4,153,5],[263,0,263,1],[264,0,264,1],[264,2,264,9],[205,0,205,1],[206,0,206,1],[206,2,206,9],[207,0,208,10],[91,0,92,10],[95,0,95,3],[95,4,95,5],[147,0,147,1],[148,0,148,1],[148,2,148,9],[33,0,34,10],[37,0,37,3],[37,4,37,5],[89,0,89,1],[90,0,90,1],[90,2,90,9]]}
[]
[]
[]
[]
[]
[]
[]
[]
[null,{"$f":"Accueil!B16","v":"Poissons"}]
[]
[]
[]
[]
[]
[]
[]
[]
[]
[]
[]
[]
[]
[]
[]
[]
[]
[]
[]
[]
[]
[]
[]
[]
[{"$f":"Accueil!$B16","v":"Poissons"}]
[]
[]
["Période :",{"$f":"Accueil!$A$41","v":"P1"},{"$f":"Accueil!$B$41","v":"du"},{"$f":"Accueil!$C$41","v":"2014-09-02"},{"$f":"Accueil!$D$41","v":"au"},{"$f":"Accueil!$E$41","v":"2014-10-18"}]
["Selectionnez la classe participant à l'atelier :"]
["NOM","Prénom","2014-09-02","2014-05-26","2014-05-27","2014-05-28","2014-05-29","2014-05-30","2014-05-31","2014-06-01","TOT"]
[null,null,null,null,null,null,null,null,null,null,{"$f":"SUM(C40:J40)","v":0}]
[null,null,null,null,null,null,null,null,null,null,{"$f":"SUM(C41:J41)","v":0}]
[null,null,null,null,null,null,null,null,null,null,0]
[null,null,null,null,null,null,null,null,null,null,0]
[null,null,null,null,null,null,null,null,null,null,0]
[null,null,null,null,null,null,null,null,null,null,0]
[null,null,null,null,null,null,null,null,null,null,0]
[null,null,null,null,null,null,null,null,null,null,0]
[null,null,null,null,null,null,null,null,null,null,0]
[null,null,null,null,null,null,null,null,null,null,0]
[null,null,null,null,null,null,null,null,null,null,0]
[null,null,null,null,null,null,null,null,null,null,0]
[null,null,null,null,null,null,null,null,null,null,0]
[null,null,null,null,null,null,null,null,null,null,0]
[null,null,null,null,null,null,null,null,null,null,0]
[null,null,null,null,null,null,null,null,null,null,0]
[null,null,null,null,null,null,null,null,null,null,0]
[null,null,null,null,null,null,null,null,null,null,0]
[null,null,null,null,null,null,null,null,null,null,0]
[null,null,null,null,null,null,null,null,null,null,0]
[null,null,null,null,null,null,null,null,null,null,0]
[null,null,null,null,null,null,null,null,null,null,0]
[null,null,null,null,null,null,null,null,null,null,0]
[null,null,null,null,null,null,null,null,null,null,0]
[null,null,null,null,null,null,null,null,null,null,0]
[null,null,null,null,null,null,null,null,null,null,{"$f":"SUM(C65:J65)","v":0}]
[null,null,null,null,null,null,null,null,null,null,{"$f":"SUM(C66:J66)","v":0}]
[null,null,null,null,null,null,null,null,null,null,0]
[null,null,null,null,null,null,null,null,null,null,0]
[null,null,null,null,null,null,null,null,null,null,0]
[null,null,null,null,null,null,null,null,null,null,0]
[null,null,null,null,null,null,null,null,null,null,0]
[null,null,null,null,null,null,null,null,null,null,0]
[null,null,null,null,null,null,null,null,null,null,0]
[null,null,null,null,null,null,null,null,null,null,0]
[null,null,null,null,null,null,null,null,null,null,0]
[null,null,null,null,null,null,null,null,null,null,0]
[null,null,null,null,null,null,null,null,null,null,0]
[null,null,null,null,null,null,null,null,null,null,0]
[null,null,null,null,null,null,null,null,null,null,0]
[null,null,null,null,null,null,null,null,null,null,0]
[null,null,null,null,null,null,null,null,null,null,0]
[null,null,null,null,null,null,null,null,null,null,0]
[null,null,null,null,null,null,null,null,null,null,0]
[null,null,null,null,null,null,null,null,null,null,0]
[null,null,null,null,null,null,null,null,null,null,0]
[null,null,null,null,null,null,null,null,null,null,0]
[null,null,null,null,null,null,null,null,null,null,0]
[null,null,null,null,null,null,null,null,null,null,0]
[null,null,null,null,null,null,null,null,null,null,0]
["TOT Jour",null,{"$f":"SUM(C40:C89)","v":0},{"$f":"SUM(D40:D89)","v":0},0,0,0,0,0,0]
["TOT Période",null,{"$f":"SUM(C90:J90)","v":0}]
[{"$f":"Accueil!$B16","v":"Poissons"}]
[]
[]
["Période :",{"$f":"Accueil!$A42","v":"P2"},{"$f":"Accueil!$B42","v":"du"},{"$f":"Accueil!$C42","v":"2014-11-02"},{"$f":"Accueil!$D42","v":"au"},{"$f":"Accueil!$E42","v":"2014-12-18"}]
["Selectionnez la classe participant à l'atelier :"]
["NOM","Prénom","2014-05-25","2014-05-26","2014-05-27","2014-05-28","2014-05-29","2014-05-30","2014-05-31","2014-06-01","TOT"]
[null,null,null,null,null,null,null,null,null,null,{"$f":"SUM(C98:J98)","v":0}]
[null,null,null,null,null,null,null,null,null,null,{"$f":"SUM(C99:J99)","v":0}]
[null,null,null,null,null,null,null,null,null,null,0]
[null,null,null,null,null,null,null,null,null,null,0]
[null,null,null,null,null,null,null,null,null,null,0]
[null,null,null,null,null,null,null,null,null,null,0]
[null,null,null,null,null,null,null,null,null,null,0]
[null,null,null,null,null,null,null,null,null,null,0]
[null,null,null,null,null,null,null,null,null,null,0]
[null,null,null,null,null,null,null,null,null,null,0]
[null,null,null,null,null,null,null,null,null,null,0]
[null,null,null,null,null,null,null,null,null,null,0]
[null,null,null,null,null,null,null,null,null,null,0]
[null,null,null,null,null,null,null,null,null,null,0]
[null,null,null,null,null,null,null,null,null,null,0]
[null,null,null,null,null,null,null,null,null,null,0]
[null,null,null,null,null,null,null,null,null,null,0]
[null,null,null,null,null,null,null,null,null,null,0]
[null,null,null,null,null,null,null,null,null,null,0]
[null,null,null,null,null,null,null,null,null,null,0]
[null,null,null,null,null,null,null,null,null,null,0]
[null,null,null,null,null,null,null,null,null,null,0]
[null,null,null,null,null,null,null,null,null,null,0]
[null,null,null,null,null,null,null,null,null,null,0]
[null,null,null,null,null,null,null,null,null,null,0]
[null,null,null,null,null,null,null,null,null,null,{"$f":"SUM(C123:J123)","v":0}]
[null,null,null,null,null,null,null,null,null,null,{"$f":"SUM(C124:J124)","v":0}]
[null,null,null,null,null,null,null,null,null,null,0]
[null,null,null,null,null,null,null,null,null,null,0]
[null,null,null,null,null,null,null,null,null,null,0]
[null,null,null,null,null,null,null,null,null,null,0]
[null,null,null,null,null,null,null,null,null,null,0]
[null,null,null,null,null,null,null,null,null,null,0]
[null,null,null,null,null,null,null,null,null,null,0]
[null,null,null,null,null,null,null,null,null,null,0]
[null,null,null,null,null,null,null,null,null,null,0]
[null,null,null,null,null,null,null,null,null,null,0]
[null,null,null,null,null,null,null,null,null,null,0]
[null,null,null,null,null,null,null,null,null,null,0]
[null,null,null,null,null,null,null,null,null,null,0]
[null,null,null,null,null,null,null,null,null,null,0]
[null,null,null,null,null,null,null,null,null,null,0]
[null,null,null,null,null,null,null,null,null,null,0]
[null,null,null,null,null,null,null,null,null,null,0]
[null,null,null,null,null,null,null,null,null,null,0]
[null,null,null,null,null,null,null,null,null,null,0]
[null,null,null,null,null,null,null,null,null,null,0]
[null,null,null,null,null,null,null,null,null,null,0]
[null,null,null,null,null,null,null,null,null,null,0]
[null,null,null,null,null,null,null,null,null,null,0]
["TOT Jour",null,{"$f":"SUM(C98:C147)","v":0},{"$f":"SUM(D98:D147)","v":0},0,0,0,0,0,0]
["TOT Période",null,{"$f":"SUM(C148:J148)","v":0}]
[{"$f":"Accueil!$B16","v":"Poissons"}]
[]
[]
["Période :",{"$f":"Accueil!A43","v":"P3"},{"$f":"Accueil!$B43","v":"du"},{"$f":"Accueil!$C43","v":"2015-01-04"},{"$f":"Accueil!$D43","v":"au"},{"$f":"Accueil!$E43","v":"2015-02-20"}]
["Selectionnez la classe participant à l'atelier :"]
["NOM","Prénom","2014-05-25","2014-05-26","2014-05-27","2014-05-28","2014-05-29","2014-05-30","2014-05-31","2014-06-01","TOT"]
[null,null,null,null,null,null,null,null,null,null,{"$f":"SUM(C156:J156)","v":0}]
[null,null,null,null,null,null,null,null,null,null,{"$f":"SUM(C157:J157)","v":0}]
[null,null,null,null,null,null,null,null,null,null,0]
[null,null,null,null,null,null,null,null,null,null,0]
[null,null,null,null,null,null,null,null,null,null,0]
[null,null,null,null,null,null,null,null,null,null,0]
[null,null,null,null,null,null,null,null,null,null,0]
[null,null,null,null,null,null,null,null,null,null,0]
[null,null,null,null,null,null,null,null,null,null,0]
[null,null,null,null,null,null,null,null,null,null,0]
[null,null,null,null,null,null,null,null,null,null,0]
[null,null,null,null,null,null,null,null,null,null,0]
[null,null,null,null,null,null,null,null,null,null,0]
[null,null,null,null,null,null,null,null,null,null,0]
[null,null,null,null,null,null,null,null,null,null,0]
[null,null,null,null,null,null,null,null,null,null,0]
[null,null,null,null,null,null,null,null,null,null,0]
[null,null,null,null,null,null,null,null,null,null,0]
[null,null,null,null,null,null,null,null,null,null,0]
[null,null,null,null,null,null,null,null,null,null,0]
[null,null,null,null,null,null,null,null,null,null,0]
[null,null,null,null,null,null,null,null,null,null,0]
[null,null,null,null,null,null,null,null,null,null,0]
[null,null,null,null,null,null,null,null,null,null,0]
[null,null,null,null,null,null,null,null,null,null,0]
[null,null,null,null,null,null,null,null,null,null,{"$f":"SUM(C181:J181)","v":0}]
[null,null,null,null,null,null,null,null,null,null,{"$f":"SUM(C182:J182)","v":0}]
[null,null,null,null,null,null,null,null,null,null,0]
[null,null,null,null,null,null,null,null,null,null,0]
[null,null,null,null,null,null,null,null,null,null,0]
[null,null,null,null,null,null,null,null,null,null,0]
[null,null,null,null,null,null,null,null,null,null,0]
[null,null,null,null,null,null,null,null,null,null,0]
[null,null,null,null,null,null,null,null,null,null,0]
[null,null,null,null,null,null,null,null,null,null,0]
[null,null,null,null,null,null,null,null,null,null,0]
[null,null,null,null,null,null,null,null,null,null,0]
[null,null,null,null,null,null,null,null,null,null,0]
[null,null,null,null,null,null,null,null,null,null,0]
[null,null,null,null,null,null,null,null,null,null,0]
[null,null,null,null,null,null,null,null,null,null,0]
[null,null,null,null,null,null,null,null,null,null,0]
[null,null,null,null,null,null,null,null,null,null,0]
[null,null,null,null,null,null,null,null,null,null,0]
[null,null,null,null,null,null,null,null,null,null,0]
[null,null,null,null,null,null,null,null,null,null,0]
[null,null,null,null,null,null,null,null,null,null,0]
[null,null,null,null,null,null,null,null,null,null,0]
[null,null,null,null,null,null,null,null,null,null,0]
[null,null,null,null,null,null,null,null,null,null,0]
["TOT Jour",null,{"$f":"SUM(C156:C205)","v":0},{"$f":"SUM(D156:D205)","v":0},0,0,0,0,0,0]
["TOT Période",null,{"$f":"SUM(C206:J206)","v":0}]
[{"$f":"Accueil!$B16","v":"Poissons"}]
[]
[]
["Période :",{"$f":"Accueil!A44","v":"P4"},{"$f":"Accueil!$B44","v":"du"},{"$f":"Accueil!$C44","v":"2015-03-08"},{"$f":"Accueil!$D44","v":"au"},{"$f":"Accueil!$E44","v":"2015-04-15"}]
["Selectionnez la classe participant à l'atelier :"]
["NOM","Prénom","2014-05-25","2014-05-26","2014-05-27","2014-05-28","2014-05-29","2014-05-30","2014-05-31","2014-06-01","TOT"]
[null,null,null,null,null,null,null,null,null,null,{"$f":"SUM(C214:J214)","v":0}]
[null,null,null,null,null,null,null,null,null,null,{"$f":"SUM(C215:J215)","v":0}]
[null,null,null,null,null,null,null,null,null,null,0]
[null,null,null,null,null,null,null,null,null,null,0]
[null,null,null,null,null,null,null,null,null,null,0]
[null,null,null,null,null,null,null,null,null,null,0]
[null,null,null,null,null,null,null,null,null,null,0]
[null,null,null,null,null,null,null,null,null,null,0]
[null,null,null,null,null,null,null,null,null,null,0]
[null,null,null,null,null,null,null,null,null,null,0]
[null,null,null,null,null,null,null,null,null,null,0]
[null,null,null,null,null,null,null,null,null,null,0]
[null,null,null,null,null,null,null,null,null,null,0]
[null,null,null,null,null,null,null,null,null,null,0]
[null,null,null,null,null,null,null,null,null,null,0]
[null,null,null,null,null,null,null,null,null,null,0]
[null,null,null,null,null,null,null,null,null,null,0]
[null,null,null,null,null,null,null,null,null,null,0]
[null,null,null,null,null,null,null,null,null,null,0]
[null,null,null,null,null,null,null,null,null,null,0]
[null,null,null,null,null,null,null,null,null,null,0]
[null,null,null,null,null,null,null,null,null,null,0]
[null,null,null,null,null,null,null,null,null,null,0]
[null,null,null,null,null,null,null,null,null,null,0]
[null,null,null,null,null,null,null,null,null,null,0]
[null,null,null,null,null,null,null,null,null,null,{"$f":"SUM(C239:J239)","v":0}]
[null,null,null,null,null,null,null,null,null,null,{"$f":"SUM(C240:J240)","v":0}]
[null,null,null,null,null,null,null,null,null,null,0]
[null,null,null,null,null,null,null,null,null,null,0]
[null,null,null,null,null,null,null,null,null,null,0]
[null,null,null,null,null,null,null,null,null,null,0]
[null,null,null,null,null,null,null,null,null,null,0]
[null,null,null,null,null,null,null,null,null,null,0]
[null,null,null,null,null,null,null,null,null,null,0]
[null,null,null,null,null,null,null,null,null,null,0]
[null,null,null,null,null,null,null,null,null,null,0]
[null,null,null,null,null,null,null,null,null,null,0]
[null,null,null,null,null,null,null,null,null,null,0]
[null,null,null,null,null,null,null,null,null,null,0]
[null,null,null,null,null,null,null,null,null,null,0]
[null,null,null,null,null,null,null,null,null,null,0]
[null,null,null,null,null,null,null,null,null,null,0]
[null,null,null,null,null,null,null,null,null,null,0]
[null,null,null,null,null,null,null,null,null,null,0]
[null,null,null,null,null,null,null,null,null,null,0]
[null,null,null,null,null,null,null,null,null,null,0]
[null,null,null,null,null,null,null,null,null,null,0]
[null,null,null,null,null,null,null,null,null,null,0]
[null,null,null,null,null,null,null,null,null,null,0]
[null,null,null,null,null,null,null,null,null,null,0]
["TOT Jour",null,{"$f":"SUM(C214:C263)","v":0},{"$f":"SUM(D214:D263)","v":0},0,0,0,0,0,0]
["TOT Période",null,{"$f":"SUM(C264:J264)","v":0}]
[{"$f":"Accueil!$B16","v":"Poissons"}]
[]
[]
["Période :",{"$f":"Accueil!A45","v":"P5"},{"$f":"Accueil!$B45","v":"du"},{"$f":"Accueil!$C45","v":"2015-05-02"},{"$f":"Accueil!$D45","v":"au"},{"$f":"Accueil!$E45","v":"2015-07-03"}]
["Selectionnez la classe participant à l'atelier :"]
["NOM","Prénom","2014-05-25","2014-05-26","2014-05-27","2014-05-28","2014-05-29","2014-05-30","2014-05-31","2014-06-01","TOT"]
[null,null,null,null,null,null,null,null,null,null,{"$f":"SUM(C272:J272)","v":0}]
[null,null,null,null,null,null,null,null,null,null,{"$f":"SUM(C273:J273)","v":0}]
[null,null,null,null,null,null,null,null,null,null,0]
[null,null,null,null,null,null,null,null,null,null,0]
[null,null,null,null,null,null,null,null,null,null,0]
[null,null,null,null,null,null,null,null,null,null,0]
[null,null,null,null,null,null,null,null,null,null,0]
[null,null,null,null,null,null,null,null,null,null,0]
[null,null,null,null,null,null,null,null,null,null,0]
[null,null,null,null,null,null,null,null,null,null,0]
[null,null,null,null,null,null,null,null,null,null,0]
[null,null,null,null,null,null,null,null,null,null,0]
[null,null,null,null,null,null,null,null,null,null,0]
[null,null,null,null,null,null,null,null,null,null,0]
[null,null,null,null,null,null,null,null,null,null,0]
[null,null,null,null,null,null,null,null,null,null,0]
[null,null,null,null,null,null,null,null,null,null,0]
[null,null,null,null,null,null,null,null,null,null,0]
[null,null,null,null,null,null,null,null,null,null,0]
[null,null,null,null,null,null,null,null,null,null,0]
[null,null,null,null,null,null,null,null,null,null,0]
[null,null,null,null,null,null,null,null,null,null,0]
[null,null,null,null,null,null,null,null,null,null,0]
[null,null,null,null,null,null,null,null,null,null,0]
[null,null,null,null,null,null,null,null,null,null,0]
[null,null,null,null,null,null,null,null,null,null,{"$f":"SUM(C297:J297)","v":0}]
[null,null,null,null,null,null,null,null,null,null,{"$f":"SUM(C298:J298)","v":0}]
[null,null,null,null,null,null,null,null,null,null,0]
[null,null,null,null,null,null,null,null,null,null,0]
[null,null,null,null,null,null,null,null,null,null,0]
[null,null,null,null,null,null,null,null,null,null,0]
[null,null,null,null,null,null,null,null,null,null,0]
[null,null,null,null,null,null,null,null,null,null,0]
[null,null,null,null,null,null,null,null,null,null,0]
[null,null,null,null,null,null,null,null,null,null,0]
[null,null,null,null,null,null,null,null,null,null,0]
[null,null,null,null,null,null,null,null,null,null,0]
[null,null,null,null,null,null,null,null,null,null,0]
[null,null,null,null,null,null,null,null,null,null,0]
[null,null,null,null,null,null,null,null,null,null,0]
[null,null,null,null,null,null,null,null,null,null,0]
[null,null,null,null,null,null,null,null,null,null,0]
[null,null,null,null,null,null,null,null,null,null,0]
[null,null,null,null,null,null,null,null,null,null,0]
[null,null,null,null,null,null,null,null,null,null,0]
[null,null,null,null,null,null,null,null,null,null,0]
[null,null,null,null,null,null,null,null,null,null,0]
[null,null,null,null,null,null,null,null,null,null,0]
[null,null,null,null,null,null,null,null,null,null,0]
[null,null,null,null,null,null,null,null,null,null,0]
["TOT Jour",null,{"$f":"SUM(C272:C321)","v":0},{"$f":"SUM(D272:D321)","v":0},0,0,0,0,0,0]
["TOT Période",null,{"$f":"SUM(C322:J322)","v":0}]
["Statistiques"]
[]
[]
["Nombre d'heure de fréquentation :"]
[{"$f":"Accueil!$A41","v":"P1"},{"$f":"$C$91*1.5","v":0},"heures de présence pour cet atelier et pour cette période"]
[{"$f":"Accueil!$A42","v":"P2"},{"$f":"$C$149*1.5","v":0},"heures de présence pour cet atelier et pour cette période"]
[{"$f":"Accueil!$A43","v":"P3"},{"$f":"$C$207*1.5","v":0},"heures de présence pour cet atelier et pour cette période"]
[{"$f":"Accueil!$A44","v":"P4"},{"$f":"$C$265*1.5","v":0},"heures de présence pour cet atelier et pour cette période"]
[{"$f":"Accueil!$A45","v":"P5"},{"$f":"$C$323*1.5","v":0},"heures de présence pour cet atelier et pour cette période"]
["TOT",{"$f":"SUM($B$328:$B$332)","v":0},"heures de présence pour cet atelier et pour l'année"]

{"sheet":"Dauphin","index":11,"n_rows":333,"n_cols":11,"rows_kept":333,"cut":false,"hidden":false,"merged":[[331,2,331,6],[332,2,332,6],[8,1,15,9],[323,0,324,10],[327,2,327,6],[328,2,328,6],[329,2,329,6],[330,2,330,6],[265,0,266,10],[269,0,269,3],[269,4,269,5],[321,0,321,1],[322,0,322,1],[322,2,322,9],[211,0,211,3],[211,4,211,5],[149,0,150,10],[153,0,153,3],[153,4,153,5],[263,0,263,1],[264,0,264,1],[264,2,264,9],[205,0,205,1],[206,0,206,1],[206,2,206,9],[207,0,208,10],[91,0,92,10],[95,0,95,3],[95,4,95,5],[147,0,147,1],[148,0,148,1],[148,2,148,9],[33,0,34,10],[37,0,37,3],[37,4,37,5],[89,0,89,1],[90,0,90,1],[90,2,90,9]]}
[]
[]
[]
[]
[]
[]
[]
[]
[null,{"$f":"Accueil!B17","v":"Dauphin"}]
[]
[]
[]
[]
[]
[]
[]
[]
[]
[]
[]
[]
[]
[]
[]
[]
[]
[]
[]
[]
[]
[]
[]
[]
[{"$f":"Accueil!$B17","v":"Dauphin"}]
[]
[]
["Période :",{"$f":"Accueil!$A$41","v":"P1"},{"$f":"Accueil!$B$41","v":"du"},{"$f":"Accueil!$C$41","v":"2014-09-02"},{"$f":"Accueil!$D$41","v":"au"},{"$f":"Accueil!$E$41","v":"2014-10-18"}]
["Selectionnez la classe participant à l'atelier :"]
["NOM","Prénom","2014-09-02","2014-05-26","2014-05-27","2014-05-28","2014-05-29","2014-05-30","2014-05-31","2014-06-01","TOT"]
[null,null,null,null,null,null,null,null,null,null,{"$f":"SUM(C40:J40)","v":0}]
[null,null,null,null,null,null,null,null,null,null,{"$f":"SUM(C41:J41)","v":0}]
[null,null,null,null,null,null,null,null,null,null,0]
[null,null,null,null,null,null,null,null,null,null,0]
[null,null,null,null,null,null,null,null,null,null,0]
[null,null,null,null,null,null,null,null,null,null,0]
[null,null,null,null,null,null,null,null,null,null,0]
[null,null,null,null,null,null,null,null,null,null,0]
[null,null,null,null,null,null,null,null,null,null,0]
[null,null,null,null,null,null,null,null,null,null,0]
[null,null,null,null,null,null,null,null,null,null,0]
[null,null,null,null,null,null,null,null,null,null,0]
[null,null,null,null,null,null,null,null,null,null,0]
[null,null,null,null,null,null,null,null,null,null,0]
[null,null,null,null,null,null,null,null,null,null,0]
[null,null,null,null,null,null,null,null,null,null,0]
[null,null,null,null,null,null,null,null,null,null,0]
[null,null,null,null,null,null,null,null,null,null,0]
[null,null,null,null,null,null,null,null,null,null,0]
[null,null,null,null,null,null,null,null,null,null,0]
[null,null,null,null,null,null,null,null,null,null,0]
[null,null,null,null,null,null,null,null,null,null,0]
[null,null,null,null,null,null,null,null,null,null,0]
[null,null,null,null,null,null,null,null,null,null,0]
[null,null,null,null,null,null,null,null,null,null,0]
[null,null,null,null,null,null,null,null,null,null,{"$f":"SUM(C65:J65)","v":0}]
[null,null,null,null,null,null,null,null,null,null,{"$f":"SUM(C66:J66)","v":0}]
[null,null,null,null,null,null,null,null,null,null,0]
[null,null,null,null,null,null,null,null,null,null,0]
[null,null,null,null,null,null,null,null,null,null,0]
[null,null,null,null,null,null,null,null,null,null,0]
[null,null,null,null,null,null,null,null,null,null,0]
[null,null,null,null,null,null,null,null,null,null,0]
[null,null,null,null,null,null,null,null,null,null,0]
[null,null,null,null,null,null,null,null,null,null,0]
[null,null,null,null,null,null,null,null,null,null,0]
[null,null,null,null,null,null,null,null,null,null,0]
[null,null,null,null,null,null,null,null,null,null,0]
[null,null,null,null,null,null,null,null,null,null,0]
[null,null,null,null,null,null,null,null,null,null,0]
[null,null,null,null,null,null,null,null,null,null,0]
[null,null,null,null,null,null,null,null,null,null,0]
[null,null,null,null,null,null,null,null,null,null,0]
[null,null,null,null,null,null,null,null,null,null,0]
[null,null,null,null,null,null,null,null,null,null,0]
[null,null,null,null,null,null,null,null,null,null,0]
[null,null,null,null,null,null,null,null,null,null,0]
[null,null,null,null,null,null,null,null,null,null,0]
[null,null,null,null,null,null,null,null,null,null,0]
[null,null,null,null,null,null,null,null,null,null,0]
["TOT Jour",null,{"$f":"SUM(C40:C89)","v":0},{"$f":"SUM(D40:D89)","v":0},0,0,0,0,0,0]
["TOT Période",null,{"$f":"SUM(C90:J90)","v":0}]
[{"$f":"Accueil!$B17","v":"Dauphin"}]
[]
[]
["Période :",{"$f":"Accueil!$A42","v":"P2"},{"$f":"Accueil!$B42","v":"du"},{"$f":"Accueil!$C42","v":"2014-11-02"},{"$f":"Accueil!$D42","v":"au"},{"$f":"Accueil!$E42","v":"2014-12-18"}]
["Selectionnez la classe participant à l'atelier :"]
["NOM","Prénom","2014-05-25","2014-05-26","2014-05-27","2014-05-28","2014-05-29","2014-05-30","2014-05-31","2014-06-01","TOT"]
[null,null,null,null,null,null,null,null,null,null,{"$f":"SUM(C98:J98)","v":0}]
[null,null,null,null,null,null,null,null,null,null,{"$f":"SUM(C99:J99)","v":0}]
[null,null,null,null,null,null,null,null,null,null,0]
[null,null,null,null,null,null,null,null,null,null,0]
[null,null,null,null,null,null,null,null,null,null,0]
[null,null,null,null,null,null,null,null,null,null,0]
[null,null,null,null,null,null,null,null,null,null,0]
[null,null,null,null,null,null,null,null,null,null,0]
[null,null,null,null,null,null,null,null,null,null,0]
[null,null,null,null,null,null,null,null,null,null,0]
[null,null,null,null,null,null,null,null,null,null,0]
[null,null,null,null,null,null,null,null,null,null,0]
[null,null,null,null,null,null,null,null,null,null,0]
[null,null,null,null,null,null,null,null,null,null,0]
[null,null,null,null,null,null,null,null,null,null,0]
[null,null,null,null,null,null,null,null,null,null,0]
[null,null,null,null,null,null,null,null,null,null,0]
[null,null,null,null,null,null,null,null,null,null,0]
[null,null,null,null,null,null,null,null,null,null,0]
[null,null,null,null,null,null,null,null,null,null,0]
[null,null,null,null,null,null,null,null,null,null,0]
[null,null,null,null,null,null,null,null,null,null,0]
[null,null,null,null,null,null,null,null,null,null,0]
[null,null,null,null,null,null,null,null,null,null,0]
[null,null,null,null,null,null,null,null,null,null,0]
[null,null,null,null,null,null,null,null,null,null,{"$f":"SUM(C123:J123)","v":0}]
[null,null,null,null,null,null,null,null,null,null,{"$f":"SUM(C124:J124)","v":0}]
[null,null,null,null,null,null,null,null,null,null,0]
[null,null,null,null,null,null,null,null,null,null,0]
[null,null,null,null,null,null,null,null,null,null,0]
[null,null,null,null,null,null,null,null,null,null,0]
[null,null,null,null,null,null,null,null,null,null,0]
[null,null,null,null,null,null,null,null,null,null,0]
[null,null,null,null,null,null,null,null,null,null,0]
[null,null,null,null,null,null,null,null,null,null,0]
[null,null,null,null,null,null,null,null,null,null,0]
[null,null,null,null,null,null,null,null,null,null,0]
[null,null,null,null,null,null,null,null,null,null,0]
[null,null,null,null,null,null,null,null,null,null,0]
[null,null,null,null,null,null,null,null,null,null,0]
[null,null,null,null,null,null,null,null,null,null,0]
[null,null,null,null,null,null,null,null,null,null,0]
[null,null,null,null,null,null,null,null,null,null,0]
[null,null,null,null,null,null,null,null,null,null,0]
[null,null,null,null,null,null,null,null,null,null,0]
[null,null,null,null,null,null,null,null,null,null,0]
[null,null,null,null,null,null,null,null,null,null,0]
[null,null,null,null,null,null,null,null,null,null,0]
[null,null,null,null,null,null,null,null,null,null,0]
[null,null,null,null,null,null,null,null,null,null,0]
["TOT Jour",null,{"$f":"SUM(C98:C147)","v":0},{"$f":"SUM(D98:D147)","v":0},0,0,0,0,0,0]
["TOT Période",null,{"$f":"SUM(C148:J148)","v":0}]
[{"$f":"Accueil!$B17","v":"Dauphin"}]
[]
[]
["Période :",{"$f":"Accueil!A43","v":"P3"},{"$f":"Accueil!$B43","v":"du"},{"$f":"Accueil!$C43","v":"2015-01-04"},{"$f":"Accueil!$D43","v":"au"},{"$f":"Accueil!$E43","v":"2015-02-20"}]
["Selectionnez la classe participant à l'atelier :"]
["NOM","Prénom","2014-05-25","2014-05-26","2014-05-27","2014-05-28","2014-05-29","2014-05-30","2014-05-31","2014-06-01","TOT"]
[null,null,null,null,null,null,null,null,null,null,{"$f":"SUM(C156:J156)","v":0}]
[null,null,null,null,null,null,null,null,null,null,{"$f":"SUM(C157:J157)","v":0}]
[null,null,null,null,null,null,null,null,null,null,0]
[null,null,null,null,null,null,null,null,null,null,0]
[null,null,null,null,null,null,null,null,null,null,0]
[null,null,null,null,null,null,null,null,null,null,0]
[null,null,null,null,null,null,null,null,null,null,0]
[null,null,null,null,null,null,null,null,null,null,0]
[null,null,null,null,null,null,null,null,null,null,0]
[null,null,null,null,null,null,null,null,null,null,0]
[null,null,null,null,null,null,null,null,null,null,0]
[null,null,null,null,null,null,null,null,null,null,0]
[null,null,null,null,null,null,null,null,null,null,0]
[null,null,null,null,null,null,null,null,null,null,0]
[null,null,null,null,null,null,null,null,null,null,0]
[null,null,null,null,null,null,null,null,null,null,0]
[null,null,null,null,null,null,null,null,null,null,0]
[null,null,null,null,null,null,null,null,null,null,0]
[null,null,null,null,null,null,null,null,null,null,0]
[null,null,null,null,null,null,null,null,null,null,0]
[null,null,null,null,null,null,null,null,null,null,0]
[null,null,null,null,null,null,null,null,null,null,0]
[null,null,null,null,null,null,null,null,null,null,0]
[null,null,null,null,null,null,null,null,null,null,0]
[null,null,null,null,null,null,null,null,null,null,0]
[null,null,null,null,null,null,null,null,null,null,{"$f":"SUM(C181:J181)","v":0}]
[null,null,null,null,null,null,null,null,null,null,{"$f":"SUM(C182:J182)","v":0}]
[null,null,null,null,null,null,null,null,null,null,0]
[null,null,null,null,null,null,null,null,null,null,0]
[null,null,null,null,null,null,null,null,null,null,0]
[null,null,null,null,null,null,null,null,null,null,0]
[null,null,null,null,null,null,null,null,null,null,0]
[null,null,null,null,null,null,null,null,null,null,0]
[null,null,null,null,null,null,null,null,null,null,0]
[null,null,null,null,null,null,null,null,null,null,0]
[null,null,null,null,null,null,null,null,null,null,0]
[null,null,null,null,null,null,null,null,null,null,0]
[null,null,null,null,null,null,null,null,null,null,0]
[null,null,null,null,null,null,null,null,null,null,0]
[null,null,null,null,null,null,null,null,null,null,0]
[null,null,null,null,null,null,null,null,null,null,0]
[null,null,null,null,null,null,null,null,null,null,0]
[null,null,null,null,null,null,null,null,null,null,0]
[null,null,null,null,null,null,null,null,null,null,0]
[null,null,null,null,null,null,null,null,null,null,0]
[null,null,null,null,null,null,null,null,null,null,0]
[null,null,null,null,null,null,null,null,null,null,0]
[null,null,null,null,null,null,null,null,null,null,0]
[null,null,null,null,null,null,null,null,null,null,0]
[null,null,null,null,null,null,null,null,null,null,0]
["TOT Jour",null,{"$f":"SUM(C156:C205)","v":0},{"$f":"SUM(D156:D205)","v":0},0,0,0,0,0,0]
["TOT Période",null,{"$f":"SUM(C206:J206)","v":0}]
[{"$f":"Accueil!$B17","v":"Dauphin"}]
[]
[]
["Période :",{"$f":"Accueil!A44","v":"P4"},{"$f":"Accueil!$B44","v":"du"},{"$f":"Accueil!$C44","v":"2015-03-08"},{"$f":"Accueil!$D44","v":"au"},{"$f":"Accueil!$E44","v":"2015-04-15"}]
["Selectionnez la classe participant à l'atelier :"]
["NOM","Prénom","2014-05-25","2014-05-26","2014-05-27","2014-05-28","2014-05-29","2014-05-30","2014-05-31","2014-06-01","TOT"]
[null,null,null,null,null,null,null,null,null,null,{"$f":"SUM(C214:J214)","v":0}]
[null,null,null,null,null,null,null,null,null,null,{"$f":"SUM(C215:J215)","v":0}]
[null,null,null,null,null,null,null,null,null,null,0]
[null,null,null,null,null,null,null,null,null,null,0]
[null,null,null,null,null,null,null,null,null,null,0]
[null,null,null,null,null,null,null,null,null,null,0]
[null,null,null,null,null,null,null,null,null,null,0]
[null,null,null,null,null,null,null,null,null,null,0]
[null,null,null,null,null,null,null,null,null,null,0]
[null,null,null,null,null,null,null,null,null,null,0]
[null,null,null,null,null,null,null,null,null,null,0]
[null,null,null,null,null,null,null,null,null,null,0]
[null,null,null,null,null,null,null,null,null,null,0]
[null,null,null,null,null,null,null,null,null,null,0]
[null,null,null,null,null,null,null,null,null,null,0]
[null,null,null,null,null,null,null,null,null,null,0]
[null,null,null,null,null,null,null,null,null,null,0]
[null,null,null,null,null,null,null,null,null,null,0]
[null,null,null,null,null,null,null,null,null,null,0]
[null,null,null,null,null,null,null,null,null,null,0]
[null,null,null,null,null,null,null,null,null,null,0]
[null,null,null,null,null,null,null,null,null,null,0]
[null,null,null,null,null,null,null,null,null,null,0]
[null,null,null,null,null,null,null,null,null,null,0]
[null,null,null,null,null,null,null,null,null,null,0]
[null,null,null,null,null,null,null,null,null,null,{"$f":"SUM(C239:J239)","v":0}]
[null,null,null,null,null,null,null,null,null,null,{"$f":"SUM(C240:J240)","v":0}]
[null,null,null,null,null,null,null,null,null,null,0]
[null,null,null,null,null,null,null,null,null,null,0]
[null,null,null,null,null,null,null,null,null,null,0]
[null,null,null,null,null,null,null,null,null,null,0]
[null,null,null,null,null,null,null,null,null,null,0]
[null,null,null,null,null,null,null,null,null,null,0]
[null,null,null,null,null,null,null,null,null,null,0]
[null,null,null,null,null,null,null,null,null,null,0]
[null,null,null,null,null,null,null,null,null,null,0]
[null,null,null,null,null,null,null,null,null,null,0]
[null,null,null,null,null,null,null,null,null,null,0]
[null,null,null,null,null,null,null,null,null,null,0]
[null,null,null,null,null,null,null,null,null,null,0]
[null,null,null,null,null,null,null,null,null,null,0]
[null,null,null,null,null,null,null,null,null,null,0]
[null,null,null,null,null,null,null,null,null,null,0]
[null,null,null,null,null,null,null,null,null,null,0]
[null,null,null,null,null,null,null,null,null,null,0]
[null,null,null,null,null,null,null,null,null,null,0]
[null,null,null,null,null,null,null,null,null,null,0]
[null,null,null,null,null,null,null,null,null,null,0]
[null,null,null,null,null,null,null,null,null,null,0]
[null,null,null,null,null,null,null,null,null,null,0]
["TOT Jour",null,{"$f":"SUM(C214:C263)","v":0},{"$f":"SUM(D214:D263)","v":0},0,0,0,0,0,0]
["TOT Période",null,{"$f":"SUM(C264:J264)","v":0}]
[{"$f":"Accueil!$B17","v":"Dauphin"}]
[]
[]
["Période :",{"$f":"Accueil!A45","v":"P5"},{"$f":"Accueil!$B45","v":"du"},{"$f":"Accueil!$C45","v":"2015-05-02"},{"$f":"Accueil!$D45","v":"au"},{"$f":"Accueil!$E45","v":"2015-07-03"}]
["Selectionnez la classe participant à l'atelier :"]
["NOM","Prénom","2014-05-25","2014-05-26","2014-05-27","2014-05-28","2014-05-29","2014-05-30","2014-05-31","2014-06-01","TOT"]
[null,null,null,null,null,null,null,null,null,null,{"$f":"SUM(C272:J272)","v":0}]
[null,null,null,null,null,null,null,null,null,null,{"$f":"SUM(C273:J273)","v":0}]
[null,null,null,null,null,null,null,null,null,null,0]
[null,null,null,null,null,null,null,null,null,null,0]
[null,null,null,null,null,null,null,null,null,null,0]
[null,null,null,null,null,null,null,null,null,null,0]
[null,null,null,null,null,null,null,null,null,null,0]
[null,null,null,null,null,null,null,null,null,null,0]
[null,null,null,null,null,null,null,null,null,null,0]
[null,null,null,null,null,null,null,null,null,null,0]
[null,null,null,null,null,null,null,null,null,null,0]
[null,null,null,null,null,null,null,null,null,null,0]
[null,null,null,null,null,null,null,null,null,null,0]
[null,null,null,null,null,null,null,null,null,null,0]
[null,null,null,null,null,null,null,null,null,null,0]
[null,null,null,null,null,null,null,null,null,null,0]
[null,null,null,null,null,null,null,null,null,null,0]
[null,null,null,null,null,null,null,null,null,null,0]
[null,null,null,null,null,null,null,null,null,null,0]
[null,null,null,null,null,null,null,null,null,null,0]
[null,null,null,null,null,null,null,null,null,null,0]
[null,null,null,null,null,null,null,null,null,null,0]
[null,null,null,null,null,null,null,null,null,null,0]
[null,null,null,null,null,null,null,null,null,null,0]
[null,null,null,null,null,null,null,null,null,null,0]
[null,null,null,null,null,null,null,null,null,null,{"$f":"SUM(C297:J297)","v":0}]
[null,null,null,null,null,null,null,null,null,null,{"$f":"SUM(C298:J298)","v":0}]
[null,null,null,null,null,null,null,null,null,null,0]
[null,null,null,null,null,null,null,null,null,null,0]
[null,null,null,null,null,null,null,null,null,null,0]
[null,null,null,null,null,null,null,null,null,null,0]
[null,null,null,null,null,null,null,null,null,null,0]
[null,null,null,null,null,null,null,null,null,null,0]
[null,null,null,null,null,null,null,null,null,null,0]
[null,null,null,null,null,null,null,null,null,null,0]
[null,null,null,null,null,null,null,null,null,null,0]
[null,null,null,null,null,null,null,null,null,null,0]
[null,null,null,null,null,null,null,null,null,null,0]
[null,null,null,null,null,null,null,null,null,null,0]
[null,null,null,null,null,null,null,null,null,null,0]
[null,null,null,null,null,null,null,null,null,null,0]
[null,null,null,null,null,null,null,null,null,null,0]
[null,null,null,null,null,null,null,null,null,null,0]
[null,null,null,null,null,null,null,null,null,null,0]
[null,null,null,null,null,null,null,null,null,null,0]
[null,null,null,null,null,null,null,null,null,null,0]
[null,null,null,null,null,null,null,null,null,null,0]
[null,null,null,null,null,null,null,null,null,null,0]
[null,null,null,null,null,null,null,null,null,null,0]
[null,null,null,null,null,null,null,null,null,null,0]
["TOT Jour",null,{"$f":"SUM(C272:C321)","v":0},{"$f":"SUM(D272:D321)","v":0},0,0,0,0,0,0]
["TOT Période",null,{"$f":"SUM(C322:J322)","v":0}]
["Statistiques"]
[]
[]
["Nombre d'heure de fréquentation :"]
[{"$f":"Accueil!$A41","v":"P1"},{"$f":"$C$91*1.5","v":0},"heures de présence pour cet atelier et pour cette période"]
[{"$f":"Accueil!$A42","v":"P2"},{"$f":"$C$149*1.5","v":0},"heures de présence pour cet atelier et pour cette période"]
[{"$f":"Accueil!$A43","v":"P3"},{"$f":"$C$207*1.5","v":0},"heures de présence pour cet atelier et pour cette période"]
[{"$f":"Accueil!$A44","v":"P4"},{"$f":"$C$265*1.5","v":0},"heures de présence pour cet atelier et pour cette période"]
[{"$f":"Accueil!$A45","v":"P5"},{"$f":"$C$323*1.5","v":0},"heures de présence pour cet atelier et pour cette période"]
["TOT",{"$f":"SUM($B$328:$B$332)","v":0},"heures de présence pour cet atelier et pour l'année"]

{"sheet":"Excel","index":12,"n_rows":333,"n_cols":11,"rows_kept":333,"cut":false,"hidden":false,"merged":[[331,2,331,6],[332,2,332,6],[8,1,15,9],[323,0,324,10],[327,2,327,6],[328,2,328,6],[329,2,329,6],[330,2,330,6],[265,0,266,10],[269,0,269,3],[269,4,269,5],[321,0,321,1],[322,0,322,1],[322,2,322,9],[211,0,211,3],[211,4,211,5],[149,0,150,10],[153,0,153,3],[153,4,153,5],[263,0,263,1],[264,0,264,1],[264,2,264,9],[205,0,205,1],[206,0,206,1],[206,2,206,9],[207,0,208,10],[91,0,92,10],[95,0,95,3],[95,4,95,5],[147,0,147,1],[148,0,148,1],[148,2,148,9],[33,0,34,10],[37,0,37,3],[37,4,37,5],[89,0,89,1],[90,0,90,1],[90,2,90,9]]}
[]
[]
[]
[]
[]
[]
[]
[]
[null,{"$f":"Accueil!B18","v":"Excel"}]
[]
[]
[]
[]
[]
[]
[]
[]
[]
[]
[]
[]
[]
[]
[]
[]
[]
[]
[]
[]
[]
[]
[]
[]
[{"$f":"Accueil!B18","v":"Excel"}]
[]
[]
["Période :",{"$f":"Accueil!$A$41","v":"P1"},{"$f":"Accueil!$B$41","v":"du"},{"$f":"Accueil!$C$41","v":"2014-09-02"},{"$f":"Accueil!$D$41","v":"au"},{"$f":"Accueil!$E$41","v":"2014-10-18"}]
["Selectionnez la classe participant à l'atelier :"]
["NOM","Prénom","2014-09-02","2014-05-26","2014-05-27","2014-05-28","2014-05-29","2014-05-30","2014-05-31","2014-06-01","TOT"]
[null,null,null,null,null,null,null,null,null,null,{"$f":"SUM(C40:J40)","v":0}]
[null,null,null,null,null,null,null,null,null,null,{"$f":"SUM(C41:J41)","v":0}]
[null,null,null,null,null,null,null,null,null,null,0]
[null,null,null,null,null,null,null,null,null,null,0]
[null,null,null,null,null,null,null,null,null,null,0]
[null,null,null,null,null,null,null,null,null,null,0]
[null,null,null,null,null,null,null,null,null,null,0]
[null,null,null,null,null,null,null,null,null,null,0]
[null,null,null,null,null,null,null,null,null,null,0]
[null,null,null,null,null,null,null,null,null,null,0]
[null,null,null,null,null,null,null,null,null,null,0]
[null,null,null,null,null,null,null,null,null,null,0]
[null,null,null,null,null,null,null,null,null,null,0]
[null,null,null,null,null,null,null,null,null,null,0]
[null,null,null,null,null,null,null,null,null,null,0]
[null,null,null,null,null,null,null,null,null,null,0]
[null,null,null,null,null,null,null,null,null,null,0]
[null,null,null,null,null,null,null,null,null,null,0]
[null,null,null,null,null,null,null,null,null,null,0]
[null,null,null,null,null,null,null,null,null,null,0]
[null,null,null,null,null,null,null,null,null,null,0]
[null,null,null,null,null,null,null,null,null,null,0]
[null,null,null,null,null,null,null,null,null,null,0]
[null,null,null,null,null,null,null,null,null,null,0]
[null,null,null,null,null,null,null,null,null,null,0]
[null,null,null,null,null,null,null,null,null,null,{"$f":"SUM(C65:J65)","v":0}]
[null,null,null,null,null,null,null,null,null,null,{"$f":"SUM(C66:J66)","v":0}]
[null,null,null,null,null,null,null,null,null,null,0]
[null,null,null,null,null,null,null,null,null,null,0]
[null,null,null,null,null,null,null,null,null,null,0]
[null,null,null,null,null,null,null,null,null,null,0]
[null,null,null,null,null,null,null,null,null,null,0]
[null,null,null,null,null,null,null,null,null,null,0]
[null,null,null,null,null,null,null,null,null,null,0]
[null,null,null,null,null,null,null,null,null,null,0]
[null,null,null,null,null,null,null,null,null,null,0]
[null,null,null,null,null,null,null,null,null,null,0]
[null,null,null,null,null,null,null,null,null,null,0]
[null,null,null,null,null,null,null,null,null,null,0]
[null,null,null,null,null,null,null,null,null,null,0]
[null,null,null,null,null,null,null,null,null,null,0]
[null,null,null,null,null,null,null,null,null,null,0]
[null,null,null,null,null,null,null,null,null,null,0]
[null,null,null,null,null,null,null,null,null,null,0]
[null,null,null,null,null,null,null,null,null,null,0]
[null,null,null,null,null,null,null,null,null,null,0]
[null,null,null,null,null,null,null,null,null,null,0]
[null,null,null,null,null,null,null,null,null,null,0]
[null,null,null,null,null,null,null,null,null,null,0]
[null,null,null,null,null,null,null,null,null,null,0]
["TOT Jour",null,{"$f":"SUM(C40:C89)","v":0},{"$f":"SUM(D40:D89)","v":0},0,0,0,0,0,0]
["TOT Période",null,{"$f":"SUM(C90:J90)","v":0}]
[{"$f":"Accueil!B18","v":"Excel"}]
[]
[]
["Période :",{"$f":"Accueil!$A42","v":"P2"},{"$f":"Accueil!$B42","v":"du"},{"$f":"Accueil!$C42","v":"2014-11-02"},{"$f":"Accueil!$D42","v":"au"},{"$f":"Accueil!$E42","v":"2014-12-18"}]
["Selectionnez la classe participant à l'atelier :"]
["NOM","Prénom","2014-05-25","2014-05-26","2014-05-27","2014-05-28","2014-05-29","2014-05-30","2014-05-31","2014-06-01","TOT"]
[null,null,null,null,null,null,null,null,null,null,{"$f":"SUM(C98:J98)","v":0}]
[null,null,null,null,null,null,null,null,null,null,{"$f":"SUM(C99:J99)","v":0}]
[null,null,null,null,null,null,null,null,null,null,0]
[null,null,null,null,null,null,null,null,null,null,0]
[null,null,null,null,null,null,null,null,null,null,0]
[null,null,null,null,null,null,null,null,null,null,0]
[null,null,null,null,null,null,null,null,null,null,0]
[null,null,null,null,null,null,null,null,null,null,0]
[null,null,null,null,null,null,null,null,null,null,0]
[null,null,null,null,null,null,null,null,null,null,0]
[null,null,null,null,null,null,null,null,null,null,0]
[null,null,null,null,null,null,null,null,null,null,0]
[null,null,null,null,null,null,null,null,null,null,0]
[null,null,null,null,null,null,null,null,null,null,0]
[null,null,null,null,null,null,null,null,null,null,0]
[null,null,null,null,null,null,null,null,null,null,0]
[null,null,null,null,null,null,null,null,null,null,0]
[null,null,null,null,null,null,null,null,null,null,0]
[null,null,null,null,null,null,null,null,null,null,0]
[null,null,null,null,null,null,null,null,null,null,0]
[null,null,null,null,null,null,null,null,null,null,0]
[null,null,null,null,null,null,null,null,null,null,0]
[null,null,null,null,null,null,null,null,null,null,0]
[null,null,null,null,null,null,null,null,null,null,0]
[null,null,null,null,null,null,null,null,null,null,0]
[null,null,null,null,null,null,null,null,null,null,{"$f":"SUM(C123:J123)","v":0}]
[null,null,null,null,null,null,null,null,null,null,{"$f":"SUM(C124:J124)","v":0}]
[null,null,null,null,null,null,null,null,null,null,0]
[null,null,null,null,null,null,null,null,null,null,0]
[null,null,null,null,null,null,null,null,null,null,0]
[null,null,null,null,null,null,null,null,null,null,0]
[null,null,null,null,null,null,null,null,null,null,0]
[null,null,null,null,null,null,null,null,null,null,0]
[null,null,null,null,null,null,null,null,null,null,0]
[null,null,null,null,null,null,null,null,null,null,0]
[null,null,null,null,null,null,null,null,null,null,0]
[null,null,null,null,null,null,null,null,null,null,0]
[null,null,null,null,null,null,null,null,null,null,0]
[null,null,null,null,null,null,null,null,null,null,0]
[null,null,null,null,null,null,null,null,null,null,0]
[null,null,null,null,null,null,null,null,null,null,0]
[null,null,null,null,null,null,null,null,null,null,0]
[null,null,null,null,null,null,null,null,null,null,0]
[null,null,null,null,null,null,null,null,null,null,0]
[null,null,null,null,null,null,null,null,null,null,0]
[null,null,null,null,null,null,null,null,null,null,0]
[null,null,null,null,null,null,null,null,null,null,0]
[null,null,null,null,null,null,null,null,null,null,0]
[null,null,null,null,null,null,null,null,null,null,0]
[null,null,null,null,null,null,null,null,null,null,0]
["TOT Jour",null,{"$f":"SUM(C98:C147)","v":0},{"$f":"SUM(D98:D147)","v":0},0,0,0,0,0,0]
["TOT Période",null,{"$f":"SUM(C148:J148)","v":0}]
[{"$f":"Accueil!B18","v":"Excel"}]
[]
[]
["Période :",{"$f":"Accueil!A43","v":"P3"},{"$f":"Accueil!$B43","v":"du"},{"$f":"Accueil!$C43","v":"2015-01-04"},{"$f":"Accueil!$D43","v":"au"},{"$f":"Accueil!$E43","v":"2015-02-20"}]
["Selectionnez la classe participant à l'atelier :"]
["NOM","Prénom","2014-05-25","2014-05-26","2014-05-27","2014-05-28","2014-05-29","2014-05-30","2014-05-31","2014-06-01","TOT"]
[null,null,null,null,null,null,null,null,null,null,{"$f":"SUM(C156:J156)","v":0}]
[null,null,null,null,null,null,null,null,null,null,{"$f":"SUM(C157:J157)","v":0}]
[null,null,null,null,null,null,null,null,null,null,0]
[null,null,null,null,null,null,null,null,null,null,0]
[null,null,null,null,null,null,null,null,null,null,0]
[null,null,null,null,null,null,null,null,null,null,0]
[null,null,null,null,null,null,null,null,null,null,0]
[null,null,null,null,null,null,null,null,null,null,0]
[null,null,null,null,null,null,null,null,null,null,0]
[null,null,null,null,null,null,null,null,null,null,0]
[null,null,null,null,null,null,null,null,null,null,0]
[null,null,null,null,null,null,null,null,null,null,0]
[null,null,null,null,null,null,null,null,null,null,0]
[null,null,null,null,null,null,null,null,null,null,0]
[null,null,null,null,null,null,null,null,null,null,0]
[null,null,null,null,null,null,null,null,null,null,0]
[null,null,null,null,null,null,null,null,null,null,0]
[null,null,null,null,null,null,null,null,null,null,0]
[null,null,null,null,null,null,null,null,null,null,0]
[null,null,null,null,null,null,null,null,null,null,0]
[null,null,null,null,null,null,null,null,null,null,0]
[null,null,null,null,null,null,null,null,null,null,0]
[null,null,null,null,null,null,null,null,null,null,0]
[null,null,null,null,null,null,null,null,null,null,0]
[null,null,null,null,null,null,null,null,null,null,0]
[null,null,null,null,null,null,null,null,null,null,{"$f":"SUM(C181:J181)","v":0}]
[null,null,null,null,null,null,null,null,null,null,{"$f":"SUM(C182:J182)","v":0}]
[null,null,null,null,null,null,null,null,null,null,0]
[null,null,null,null,null,null,null,null,null,null,0]
[null,null,null,null,null,null,null,null,null,null,0]
[null,null,null,null,null,null,null,null,null,null,0]
[null,null,null,null,null,null,null,null,null,null,0]
[null,null,null,null,null,null,null,null,null,null,0]
[null,null,null,null,null,null,null,null,null,null,0]
[null,null,null,null,null,null,null,null,null,null,0]
[null,null,null,null,null,null,null,null,null,null,0]
[null,null,null,null,null,null,null,null,null,null,0]
[null,null,null,null,null,null,null,null,null,null,0]
[null,null,null,null,null,null,null,null,null,null,0]
[null,null,null,null,null,null,null,null,null,null,0]
[null,null,null,null,null,null,null,null,null,null,0]
[null,null,null,null,null,null,null,null,null,null,0]
[null,null,null,null,null,null,null,null,null,null,0]
[null,null,null,null,null,null,null,null,null,null,0]
[null,null,null,null,null,null,null,null,null,null,0]
[null,null,null,null,null,null,null,null,null,null,0]
[null,null,null,null,null,null,null,null,null,null,0]
[null,null,null,null,null,null,null,null,null,null,0]
[null,null,null,null,null,null,null,null,null,null,0]
[null,null,null,null,null,null,null,null,null,null,0]
["TOT Jour",null,{"$f":"SUM(C156:C205)","v":0},{"$f":"SUM(D156:D205)","v":0},0,0,0,0,0,0]
["TOT Période",null,{"$f":"SUM(C206:J206)","v":0}]
[{"$f":"Accueil!B18","v":"Excel"}]
[]
[]
["Période :",{"$f":"Accueil!A44","v":"P4"},{"$f":"Accueil!$B44","v":"du"},{"$f":"Accueil!$C44","v":"2015-03-08"},{"$f":"Accueil!$D44","v":"au"},{"$f":"Accueil!$E44","v":"2015-04-15"}]
["Selectionnez la classe participant à l'atelier :"]
["NOM","Prénom","2014-05-25","2014-05-26","2014-05-27","2014-05-28","2014-05-29","2014-05-30","2014-05-31","2014-06-01","TOT"]
[null,null,null,null,null,null,null,null,null,null,{"$f":"SUM(C214:J214)","v":0}]
[null,null,null,null,null,null,null,null,null,null,{"$f":"SUM(C215:J215)","v":0}]
[null,null,null,null,null,null,null,null,null,null,0]
[null,null,null,null,null,null,null,null,null,null,0]
[null,null,null,null,null,null,null,null,null,null,0]
[null,null,null,null,null,null,null,null,null,null,0]
[null,null,null,null,null,null,null,null,null,null,0]
[null,null,null,null,null,null,null,null,null,null,0]
[null,null,null,null,null,null,null,null,null,null,0]
[null,null,null,null,null,null,null,null,null,null,0]
[null,null,null,null,null,null,null,null,null,null,0]
[null,null,null,null,null,null,null,null,null,null,0]
[null,null,null,null,null,null,null,null,null,null,0]
[null,null,null,null,null,null,null,null,null,null,0]
[null,null,null,null,null,null,null,null,null,null,0]
[null,null,null,null,null,null,null,null,null,null,0]
[null,null,null,null,null,null,null,null,null,null,0]
[null,null,null,null,null,null,null,null,null,null,0]
[null,null,null,null,null,null,null,null,null,null,0]
[null,null,null,null,null,null,null,null,null,null,0]
[null,null,null,null,null,null,null,null,null,null,0]
[null,null,null,null,null,null,null,null,null,null,0]
[null,null,null,null,null,null,null,null,null,null,0]
[null,null,null,null,null,null,null,null,null,null,0]
[null,null,null,null,null,null,null,null,null,null,0]
[null,null,null,null,null,null,null,null,null,null,{"$f":"SUM(C239:J239)","v":0}]
[null,null,null,null,null,null,null,null,null,null,{"$f":"SUM(C240:J240)","v":0}]
[null,null,null,null,null,null,null,null,null,null,0]
[null,null,null,null,null,null,null,null,null,null,0]
[null,null,null,null,null,null,null,null,null,null,0]
[null,null,null,null,null,null,null,null,null,null,0]
[null,null,null,null,null,null,null,null,null,null,0]
[null,null,null,null,null,null,null,null,null,null,0]
[null,null,null,null,null,null,null,null,null,null,0]
[null,null,null,null,null,null,null,null,null,null,0]
[null,null,null,null,null,null,null,null,null,null,0]
[null,null,null,null,null,null,null,null,null,null,0]
[null,null,null,null,null,null,null,null,null,null,0]
[null,null,null,null,null,null,null,null,null,null,0]
[null,null,null,null,null,null,null,null,null,null,0]
[null,null,null,null,null,null,null,null,null,null,0]
[null,null,null,null,null,null,null,null,null,null,0]
[null,null,null,null,null,null,null,null,null,null,0]
[null,null,null,null,null,null,null,null,null,null,0]
[null,null,null,null,null,null,null,null,null,null,0]
[null,null,null,null,null,null,null,null,null,null,0]
[null,null,null,null,null,null,null,null,null,null,0]
[null,null,null,null,null,null,null,null,null,null,0]
[null,null,null,null,null,null,null,null,null,null,0]
[null,null,null,null,null,null,null,null,null,null,0]
["TOT Jour",null,{"$f":"SUM(C214:C263)","v":0},{"$f":"SUM(D214:D263)","v":0},0,0,0,0,0,0]
["TOT Période",null,{"$f":"SUM(C264:J264)","v":0}]
[{"$f":"Accueil!B18","v":"Excel"}]
[]
[]
["Période :",{"$f":"Accueil!A45","v":"P5"},{"$f":"Accueil!$B45","v":"du"},{"$f":"Accueil!$C45","v":"2015-05-02"},{"$f":"Accueil!$D45","v":"au"},{"$f":"Accueil!$E45","v":"2015-07-03"}]
["Selectionnez la classe participant à l'atelier :"]
["NOM","Prénom","2014-05-25","2014-05-26","2014-05-27","2014-05-28","2014-05-29","2014-05-30","2014-05-31","2014-06-01","TOT"]
[null,null,null,null,null,null,null,null,null,null,{"$f":"SUM(C272:J272)","v":0}]
[null,null,null,null,null,null,null,null,null,null,{"$f":"SUM(C273:J273)","v":0}]
[null,null,null,null,null,null,null,null,null,null,0]
[null,null,null,null,null,null,null,null,null,null,0]
[null,null,null,null,null,null,null,null,null,null,0]
[null,null,null,null,null,null,null,null,null,null,0]
[null,null,null,null,null,null,null,null,null,null,0]
[null,null,null,null,null,null,null,null,null,null,0]
[null,null,null,null,null,null,null,null,null,null,0]
[null,null,null,null,null,null,null,null,null,null,0]
[null,null,null,null,null,null,null,null,null,null,0]
[null,null,null,null,null,null,null,null,null,null,0]
[null,null,null,null,null,null,null,null,null,null,0]
[null,null,null,null,null,null,null,null,null,null,0]
[null,null,null,null,null,null,null,null,null,null,0]
[null,null,null,null,null,null,null,null,null,null,0]
[null,null,null,null,null,null,null,null,null,null,0]
[null,null,null,null,null,null,null,null,null,null,0]
[null,null,null,null,null,null,null,null,null,null,0]
[null,null,null,null,null,null,null,null,null,null,0]
[null,null,null,null,null,null,null,null,null,null,0]
[null,null,null,null,null,null,null,null,null,null,0]
[null,null,null,null,null,null,null,null,null,null,0]
[null,null,null,null,null,null,null,null,null,null,0]
[null,null,null,null,null,null,null,null,null,null,0]
[null,null,null,null,null,null,null,null,null,null,{"$f":"SUM(C297:J297)","v":0}]
[null,null,null,null,null,null,null,null,null,null,{"$f":"SUM(C298:J298)","v":0}]
[null,null,null,null,null,null,null,null,null,null,0]
[null,null,null,null,null,null,null,null,null,null,0]
[null,null,null,null,null,null,null,null,null,null,0]
[null,null,null,null,null,null,null,null,null,null,0]
[null,null,null,null,null,null,null,null,null,null,0]
[null,null,null,null,null,null,null,null,null,null,0]
[null,null,null,null,null,null,null,null,null,null,0]
[null,null,null,null,null,null,null,null,null,null,0]
[null,null,null,null,null,null,null,null,null,null,0]
[null,null,null,null,null,null,null,null,null,null,0]
[null,null,null,null,null,null,null,null,null,null,0]
[null,null,null,null,null,null,null,null,null,null,0]
[null,null,null,null,null,null,null,null,null,null,0]
[null,null,null,null,null,null,null,null,null,null,0]
[null,null,null,null,null,null,null,null,null,null,0]
[null,null,null,null,null,null,null,null,null,null,0]
[null,null,null,null,null,null,null,null,null,null,0]
[null,null,null,null,null,null,null,null,null,null,0]
[null,null,null,null,null,null,null,null,null,null,0]
[null,null,null,null,null,null,null,null,null,null,0]
[null,null,null,null,null,null,null,null,null,null,0]
[null,null,null,null,null,null,null,null,null,null,0]
[null,null,null,null,null,null,null,null,null,null,0]
["TOT Jour",null,{"$f":"SUM(C272:C321)","v":0},{"$f":"SUM(D272:D321)","v":0},0,0,0,0,0,0]
["TOT Période",null,{"$f":"SUM(C322:J322)","v":0}]
["Statistiques"]
[]
[]
["Nombre d'heure de fréquentation :"]
[{"$f":"Accueil!$A41","v":"P1"},{"$f":"$C$91*1.5","v":0},"heures de présence pour cet atelier et pour cette période"]
[{"$f":"Accueil!$A42","v":"P2"},{"$f":"$C$149*1.5","v":0},"heures de présence pour cet atelier et pour cette période"]
[{"$f":"Accueil!$A43","v":"P3"},{"$f":"$C$207*1.5","v":0},"heures de présence pour cet atelier et pour cette période"]
[{"$f":"Accueil!$A44","v":"P4"},{"$f":"$C$265*1.5","v":0},"heures de présence pour cet atelier et pour cette période"]
[{"$f":"Accueil!$A45","v":"P5"},{"$f":"$C$323*1.5","v":0},"heures de présence pour cet atelier et pour cette période"]
["TOT",{"$f":"SUM($B$328:$B$332)","v":0},"heures de présence pour cet atelier et pour l'année"]

{"sheet":"Ordinateur","index":13,"n_rows":333,"n_cols":11,"rows_kept":333,"cut":false,"hidden":false,"merged":[[331,2,331,6],[332,2,332,6],[8,1,15,9],[323,0,324,10],[327,2,327,6],[328,2,328,6],[329,2,329,6],[330,2,330,6],[265,0,266,10],[269,0,269,3],[269,4,269,5],[321,0,321,1],[322,0,322,1],[322,2,322,9],[211,0,211,3],[211,4,211,5],[149,0,150,10],[153,0,153,3],[153,4,153,5],[263,0,263,1],[264,0,264,1],[264,2,264,9],[205,0,205,1],[206,0,206,1],[206,2,206,9],[207,0,208,10],[91,0,92,10],[95,0,95,3],[95,4,95,5],[147,0,147,1],[148,0,148,1],[148,2,148,9],[33,0,34,10],[37,0,37,3],[37,4,37,5],[89,0,89,1],[90,0,90,1],[90,2,90,9]]}
[]
[]
[]
[]
[]
[]
[]
[]
[null,{"$f":"Accueil!B19","v":"Ordinateur"}]
[]
[]
[]
[]
[]
[]
[]
[]
[]
[]
[]
[]
[]
[]
[]
[]
[]
[]
[]
[]
[]
[]
[]
[]
[{"$f":"Accueil!B19","v":"Ordinateur"}]
[]
[]
["Période :",{"$f":"Accueil!$A$41","v":"P1"},{"$f":"Accueil!$B$41","v":"du"},{"$f":"Accueil!$C$41","v":"2014-09-02"},{"$f":"Accueil!$D$41","v":"au"},{"$f":"Accueil!$E$41","v":"2014-10-18"}]
["Selectionnez la classe participant à l'atelier :"]
["NOM","Prénom","2014-09-02","2014-05-26","2014-05-27","2014-05-28","2014-05-29","2014-05-30","2014-05-31","2014-06-01","TOT"]
[null,null,null,null,null,null,null,null,null,null,{"$f":"SUM(C40:J40)","v":0}]
[null,null,null,null,null,null,null,null,null,null,{"$f":"SUM(C41:J41)","v":0}]
[null,null,null,null,null,null,null,null,null,null,0]
[null,null,null,null,null,null,null,null,null,null,0]
[null,null,null,null,null,null,null,null,null,null,0]
[null,null,null,null,null,null,null,null,null,null,0]
[null,null,null,null,null,null,null,null,null,null,0]
[null,null,null,null,null,null,null,null,null,null,0]
[null,null,null,null,null,null,null,null,null,null,0]
[null,null,null,null,null,null,null,null,null,null,0]
[null,null,null,null,null,null,null,null,null,null,0]
[null,null,null,null,null,null,null,null,null,null,0]
[null,null,null,null,null,null,null,null,null,null,0]
[null,null,null,null,null,null,null,null,null,null,0]
[null,null,null,null,null,null,null,null,null,null,0]
[null,null,null,null,null,null,null,null,null,null,0]
[null,null,null,null,null,null,null,null,null,null,0]
[null,null,null,null,null,null,null,null,null,null,0]
[null,null,null,null,null,null,null,null,null,null,0]
[null,null,null,null,null,null,null,null,null,null,0]
[null,null,null,null,null,null,null,null,null,null,0]
[null,null,null,null,null,null,null,null,null,null,0]
[null,null,null,null,null,null,null,null,null,null,0]
[null,null,null,null,null,null,null,null,null,null,0]
[null,null,null,null,null,null,null,null,null,null,0]
[null,null,null,null,null,null,null,null,null,null,{"$f":"SUM(C65:J65)","v":0}]
[null,null,null,null,null,null,null,null,null,null,{"$f":"SUM(C66:J66)","v":0}]
[null,null,null,null,null,null,null,null,null,null,0]
[null,null,null,null,null,null,null,null,null,null,0]
[null,null,null,null,null,null,null,null,null,null,0]
[null,null,null,null,null,null,null,null,null,null,0]
[null,null,null,null,null,null,null,null,null,null,0]
[null,null,null,null,null,null,null,null,null,null,0]
[null,null,null,null,null,null,null,null,null,null,0]
[null,null,null,null,null,null,null,null,null,null,0]
[null,null,null,null,null,null,null,null,null,null,0]
[null,null,null,null,null,null,null,null,null,null,0]
[null,null,null,null,null,null,null,null,null,null,0]
[null,null,null,null,null,null,null,null,null,null,0]
[null,null,null,null,null,null,null,null,null,null,0]
[null,null,null,null,null,null,null,null,null,null,0]
[null,null,null,null,null,null,null,null,null,null,0]
[null,null,null,null,null,null,null,null,null,null,0]
[null,null,null,null,null,null,null,null,null,null,0]
[null,null,null,null,null,null,null,null,null,null,0]
[null,null,null,null,null,null,null,null,null,null,0]
[null,null,null,null,null,null,null,null,null,null,0]
[null,null,null,null,null,null,null,null,null,null,0]
[null,null,null,null,null,null,null,null,null,null,0]
[null,null,null,null,null,null,null,null,null,null,0]
["TOT Jour",null,{"$f":"SUM(C40:C89)","v":0},{"$f":"SUM(D40:D89)","v":0},0,0,0,0,0,0]
["TOT Période",null,{"$f":"SUM(C90:J90)","v":0}]
[{"$f":"Accueil!B19","v":"Ordinateur"}]
[]
[]
["Période :",{"$f":"Accueil!$A42","v":"P2"},{"$f":"Accueil!$B42","v":"du"},{"$f":"Accueil!$C42","v":"2014-11-02"},{"$f":"Accueil!$D42","v":"au"},{"$f":"Accueil!$E42","v":"2014-12-18"}]
["Selectionnez la classe participant à l'atelier :"]
["NOM","Prénom","2014-05-25","2014-05-26","2014-05-27","2014-05-28","2014-05-29","2014-05-30","2014-05-31","2014-06-01","TOT"]
[null,null,null,null,null,null,null,null,null,null,{"$f":"SUM(C98:J98)","v":0}]
[null,null,null,null,null,null,null,null,null,null,{"$f":"SUM(C99:J99)","v":0}]
[null,null,null,null,null,null,null,null,null,null,0]
[null,null,null,null,null,null,null,null,null,null,0]
[null,null,null,null,null,null,null,null,null,null,0]
[null,null,null,null,null,null,null,null,null,null,0]
[null,null,null,null,null,null,null,null,null,null,0]
[null,null,null,null,null,null,null,null,null,null,0]
[null,null,null,null,null,null,null,null,null,null,0]
[null,null,null,null,null,null,null,null,null,null,0]
[null,null,null,null,null,null,null,null,null,null,0]
[null,null,null,null,null,null,null,null,null,null,0]
[null,null,null,null,null,null,null,null,null,null,0]
[null,null,null,null,null,null,null,null,null,null,0]
[null,null,null,null,null,null,null,null,null,null,0]
[null,null,null,null,null,null,null,null,null,null,0]
[null,null,null,null,null,null,null,null,null,null,0]
[null,null,null,null,null,null,null,null,null,null,0]
[null,null,null,null,null,null,null,null,null,null,0]
[null,null,null,null,null,null,null,null,null,null,0]
[null,null,null,null,null,null,null,null,null,null,0]
[null,null,null,null,null,null,null,null,null,null,0]
[null,null,null,null,null,null,null,null,null,null,0]
[null,null,null,null,null,null,null,null,null,null,0]
[null,null,null,null,null,null,null,null,null,null,0]
[null,null,null,null,null,null,null,null,null,null,{"$f":"SUM(C123:J123)","v":0}]
[null,null,null,null,null,null,null,null,null,null,{"$f":"SUM(C124:J124)","v":0}]
[null,null,null,null,null,null,null,null,null,null,0]
[null,null,null,null,null,null,null,null,null,null,0]
[null,null,null,null,null,null,null,null,null,null,0]
[null,null,null,null,null,null,null,null,null,null,0]
[null,null,null,null,null,null,null,null,null,null,0]
[null,null,null,null,null,null,null,null,null,null,0]
[null,null,null,null,null,null,null,null,null,null,0]
[null,null,null,null,null,null,null,null,null,null,0]
[null,null,null,null,null,null,null,null,null,null,0]
[null,null,null,null,null,null,null,null,null,null,0]
[null,null,null,null,null,null,null,null,null,null,0]
[null,null,null,null,null,null,null,null,null,null,0]
[null,null,null,null,null,null,null,null,null,null,0]
[null,null,null,null,null,null,null,null,null,null,0]
[null,null,null,null,null,null,null,null,null,null,0]
[null,null,null,null,null,null,null,null,null,null,0]
[null,null,null,null,null,null,null,null,null,null,0]
[null,null,null,null,null,null,null,null,null,null,0]
[null,null,null,null,null,null,null,null,null,null,0]
[null,null,null,null,null,null,null,null,null,null,0]
[null,null,null,null,null,null,null,null,null,null,0]
[null,null,null,null,null,null,null,null,null,null,0]
[null,null,null,null,null,null,null,null,null,null,0]
["TOT Jour",null,{"$f":"SUM(C98:C147)","v":0},{"$f":"SUM(D98:D147)","v":0},0,0,0,0,0,0]
["TOT Période",null,{"$f":"SUM(C148:J148)","v":0}]
[{"$f":"Accueil!B19","v":"Ordinateur"}]
[]
[]
["Période :",{"$f":"Accueil!A43","v":"P3"},{"$f":"Accueil!$B43","v":"du"},{"$f":"Accueil!$C43","v":"2015-01-04"},{"$f":"Accueil!$D43","v":"au"},{"$f":"Accueil!$E43","v":"2015-02-20"}]
["Selectionnez la classe participant à l'atelier :"]
["NOM","Prénom","2014-05-25","2014-05-26","2014-05-27","2014-05-28","2014-05-29","2014-05-30","2014-05-31","2014-06-01","TOT"]
[null,null,null,null,null,null,null,null,null,null,{"$f":"SUM(C156:J156)","v":0}]
[null,null,null,null,null,null,null,null,null,null,{"$f":"SUM(C157:J157)","v":0}]
[null,null,null,null,null,null,null,null,null,null,0]
[null,null,null,null,null,null,null,null,null,null,0]
[null,null,null,null,null,null,null,null,null,null,0]
[null,null,null,null,null,null,null,null,null,null,0]
[null,null,null,null,null,null,null,null,null,null,0]
[null,null,null,null,null,null,null,null,null,null,0]
[null,null,null,null,null,null,null,null,null,null,0]
[null,null,null,null,null,null,null,null,null,null,0]
[null,null,null,null,null,null,null,null,null,null,0]
[null,null,null,null,null,null,null,null,null,null,0]
[null,null,null,null,null,null,null,null,null,null,0]
[null,null,null,null,null,null,null,null,null,null,0]
[null,null,null,null,null,null,null,null,null,null,0]
[null,null,null,null,null,null,null,null,null,null,0]
[null,null,null,null,null,null,null,null,null,null,0]
[null,null,null,null,null,null,null,null,null,null,0]
[null,null,null,null,null,null,null,null,null,null,0]
[null,null,null,null,null,null,null,null,null,null,0]
[null,null,null,null,null,null,null,null,null,null,0]
[null,null,null,null,null,null,null,null,null,null,0]
[null,null,null,null,null,null,null,null,null,null,0]
[null,null,null,null,null,null,null,null,null,null,0]
[null,null,null,null,null,null,null,null,null,null,0]
[null,null,null,null,null,null,null,null,null,null,{"$f":"SUM(C181:J181)","v":0}]
[null,null,null,null,null,null,null,null,null,null,{"$f":"SUM(C182:J182)","v":0}]
[null,null,null,null,null,null,null,null,null,null,0]
[null,null,null,null,null,null,null,null,null,null,0]
[null,null,null,null,null,null,null,null,null,null,0]
[null,null,null,null,null,null,null,null,null,null,0]
[null,null,null,null,null,null,null,null,null,null,0]
[null,null,null,null,null,null,null,null,null,null,0]
[null,null,null,null,null,null,null,null,null,null,0]
[null,null,null,null,null,null,null,null,null,null,0]
[null,null,null,null,null,null,null,null,null,null,0]
[null,null,null,null,null,null,null,null,null,null,0]
[null,null,null,null,null,null,null,null,null,null,0]
[null,null,null,null,null,null,null,null,null,null,0]
[null,null,null,null,null,null,null,null,null,null,0]
[null,null,null,null,null,null,null,null,null,null,0]
[null,null,null,null,null,null,null,null,null,null,0]
[null,null,null,null,null,null,null,null,null,null,0]
[null,null,null,null,null,null,null,null,null,null,0]
[null,null,null,null,null,null,null,null,null,null,0]
[null,null,null,null,null,null,null,null,null,null,0]
[null,null,null,null,null,null,null,null,null,null,0]
[null,null,null,null,null,null,null,null,null,null,0]
[null,null,null,null,null,null,null,null,null,null,0]
[null,null,null,null,null,null,null,null,null,null,0]
["TOT Jour",null,{"$f":"SUM(C156:C205)","v":0},{"$f":"SUM(D156:D205)","v":0},0,0,0,0,0,0]
["TOT Période",null,{"$f":"SUM(C206:J206)","v":0}]
[{"$f":"Accueil!B19","v":"Ordinateur"}]
[]
[]
["Période :",{"$f":"Accueil!A44","v":"P4"},{"$f":"Accueil!$B44","v":"du"},{"$f":"Accueil!$C44","v":"2015-03-08"},{"$f":"Accueil!$D44","v":"au"},{"$f":"Accueil!$E44","v":"2015-04-15"}]
["Selectionnez la classe participant à l'atelier :"]
["NOM","Prénom","2014-05-25","2014-05-26","2014-05-27","2014-05-28","2014-05-29","2014-05-30","2014-05-31","2014-06-01","TOT"]
[null,null,null,null,null,null,null,null,null,null,{"$f":"SUM(C214:J214)","v":0}]
[null,null,null,null,null,null,null,null,null,null,{"$f":"SUM(C215:J215)","v":0}]
[null,null,null,null,null,null,null,null,null,null,0]
[null,null,null,null,null,null,null,null,null,null,0]
[null,null,null,null,null,null,null,null,null,null,0]
[null,null,null,null,null,null,null,null,null,null,0]
[null,null,null,null,null,null,null,null,null,null,0]
[null,null,null,null,null,null,null,null,null,null,0]
[null,null,null,null,null,null,null,null,null,null,0]
[null,null,null,null,null,null,null,null,null,null,0]
[null,null,null,null,null,null,null,null,null,null,0]
[null,null,null,null,null,null,null,null,null,null,0]
[null,null,null,null,null,null,null,null,null,null,0]
[null,null,null,null,null,null,null,null,null,null,0]
[null,null,null,null,null,null,null,null,null,null,0]
[null,null,null,null,null,null,null,null,null,null,0]
[null,null,null,null,null,null,null,null,null,null,0]
[null,null,null,null,null,null,null,null,null,null,0]
[null,null,null,null,null,null,null,null,null,null,0]
[null,null,null,null,null,null,null,null,null,null,0]
[null,null,null,null,null,null,null,null,null,null,0]
[null,null,null,null,null,null,null,null,null,null,0]
[null,null,null,null,null,null,null,null,null,null,0]
[null,null,null,null,null,null,null,null,null,null,0]
[null,null,null,null,null,null,null,null,null,null,0]
[null,null,null,null,null,null,null,null,null,null,{"$f":"SUM(C239:J239)","v":0}]
[null,null,null,null,null,null,null,null,null,null,{"$f":"SUM(C240:J240)","v":0}]
[null,null,null,null,null,null,null,null,null,null,0]
[null,null,null,null,null,null,null,null,null,null,0]
[null,null,null,null,null,null,null,null,null,null,0]
[null,null,null,null,null,null,null,null,null,null,0]
[null,null,null,null,null,null,null,null,null,null,0]
[null,null,null,null,null,null,null,null,null,null,0]
[null,null,null,null,null,null,null,null,null,null,0]
[null,null,null,null,null,null,null,null,null,null,0]
[null,null,null,null,null,null,null,null,null,null,0]
[null,null,null,null,null,null,null,null,null,null,0]
[null,null,null,null,null,null,null,null,null,null,0]
[null,null,null,null,null,null,null,null,null,null,0]
[null,null,null,null,null,null,null,null,null,null,0]
[null,null,null,null,null,null,null,null,null,null,0]
[null,null,null,null,null,null,null,null,null,null,0]
[null,null,null,null,null,null,null,null,null,null,0]
[null,null,null,null,null,null,null,null,null,null,0]
[null,null,null,null,null,null,null,null,null,null,0]
[null,null,null,null,null,null,null,null,null,null,0]
[null,null,null,null,null,null,null,null,null,null,0]
[null,null,null,null,null,null,null,null,null,null,0]
[null,null,null,null,null,null,null,null,null,null,0]
[null,null,null,null,null,null,null,null,null,null,0]
["TOT Jour",null,{"$f":"SUM(C214:C263)","v":0},{"$f":"SUM(D214:D263)","v":0},0,0,0,0,0,0]
["TOT Période",null,{"$f":"SUM(C264:J264)","v":0}]
[{"$f":"Accueil!B19","v":"Ordinateur"}]
[]
[]
["Période :",{"$f":"Accueil!A45","v":"P5"},{"$f":"Accueil!$B45","v":"du"},{"$f":"Accueil!$C45","v":"2015-05-02"},{"$f":"Accueil!$D45","v":"au"},{"$f":"Accueil!$E45","v":"2015-07-03"}]
["Selectionnez la classe participant à l'atelier :"]
["NOM","Prénom","2014-05-25","2014-05-26","2014-05-27","2014-05-28","2014-05-29","2014-05-30","2014-05-31","2014-06-01","TOT"]
[null,null,null,null,null,null,null,null,null,null,{"$f":"SUM(C272:J272)","v":0}]
[null,null,null,null,null,null,null,null,null,null,{"$f":"SUM(C273:J273)","v":0}]
[null,null,null,null,null,null,null,null,null,null,0]
[null,null,null,null,null,null,null,null,null,null,0]
[null,null,null,null,null,null,null,null,null,null,0]
[null,null,null,null,null,null,null,null,null,null,0]
[null,null,null,null,null,null,null,null,null,null,0]
[null,null,null,null,null,null,null,null,null,null,0]
[null,null,null,null,null,null,null,null,null,null,0]
[null,null,null,null,null,null,null,null,null,null,0]
[null,null,null,null,null,null,null,null,null,null,0]
[null,null,null,null,null,null,null,null,null,null,0]
[null,null,null,null,null,null,null,null,null,null,0]
[null,null,null,null,null,null,null,null,null,null,0]
[null,null,null,null,null,null,null,null,null,null,0]
[null,null,null,null,null,null,null,null,null,null,0]
[null,null,null,null,null,null,null,null,null,null,0]
[null,null,null,null,null,null,null,null,null,null,0]
[null,null,null,null,null,null,null,null,null,null,0]
[null,null,null,null,null,null,null,null,null,null,0]
[null,null,null,null,null,null,null,null,null,null,0]
[null,null,null,null,null,null,null,null,null,null,0]
[null,null,null,null,null,null,null,null,null,null,0]
[null,null,null,null,null,null,null,null,null,null,0]
[null,null,null,null,null,null,null,null,null,null,0]
[null,null,null,null,null,null,null,null,null,null,{"$f":"SUM(C297:J297)","v":0}]
[null,null,null,null,null,null,null,null,null,null,{"$f":"SUM(C298:J298)","v":0}]
[null,null,null,null,null,null,null,null,null,null,0]
[null,null,null,null,null,null,null,null,null,null,0]
[null,null,null,null,null,null,null,null,null,null,0]
[null,null,null,null,null,null,null,null,null,null,0]
[null,null,null,null,null,null,null,null,null,null,0]
[null,null,null,null,null,null,null,null,null,null,0]
[null,null,null,null,null,null,null,null,null,null,0]
[null,null,null,null,null,null,null,null,null,null,0]
[null,null,null,null,null,null,null,null,null,null,0]
[null,null,null,null,null,null,null,null,null,null,0]
[null,null,null,null,null,null,null,null,null,null,0]
[null,null,null,null,null,null,null,null,null,null,0]
[null,null,null,null,null,null,null,null,null,null,0]
[null,null,null,null,null,null,null,null,null,null,0]
[null,null,null,null,null,null,null,null,null,null,0]
[null,null,null,null,null,null,null,null,null,null,0]
[null,null,null,null,null,null,null,null,null,null,0]
[null,null,null,null,null,null,null,null,null,null,0]
[null,null,null,null,null,null,null,null,null,null,0]
[null,null,null,null,null,null,null,null,null,null,0]
[null,null,null,null,null,null,null,null,null,null,0]
[null,null,null,null,null,null,null,null,null,null,0]
[null,null,null,null,null,null,null,null,null,null,0]
["TOT Jour",null,{"$f":"SUM(C272:C321)","v":0},{"$f":"SUM(D272:D321)","v":0},0,0,0,0,0,0]
["TOT Période",null,{"$f":"SUM(C322:J322)","v":0}]
["Statistiques"]
[]
[]
["Nombre d'heure de fréquentation :"]
[{"$f":"Accueil!$A41","v":"P1"},{"$f":"$C$91*1.5","v":0},"heures de présence pour cet atelier et pour cette période"]
[{"$f":"Accueil!$A42","v":"P2"},{"$f":"$C$149*1.5","v":0},"heures de présence pour cet atelier et pour cette période"]
[{"$f":"Accueil!$A43","v":"P3"},{"$f":"$C$207*1.5","v":0},"heures de présence pour cet atelier et pour cette période"]
[{"$f":"Accueil!$A44","v":"P4"},{"$f":"$C$265*1.5","v":0},"heures de présence pour cet atelier et pour cette période"]
[{"$f":"Accueil!$A45","v":"P5"},{"$f":"$C$323*1.5","v":0},"heures de présence pour cet atelier et pour cette période"]
["TOT",{"$f":"SUM($B$328:$B$332)","v":0},"heures de présence pour cet atelier et pour l'année"]

{"sheet":"Piège","index":14,"n_rows":333,"n_cols":11,"rows_kept":333,"cut":false,"hidden":false,"merged":[[331,2,331,6],[332,2,332,6],[8,1,15,9],[323,0,324,10],[327,2,327,6],[328,2,328,6],[329,2,329,6],[330,2,330,6],[265,0,266,10],[269,0,269,3],[269,4,269,5],[321,0,321,1],[322,0,322,1],[322,2,322,9],[211,0,211,3],[211,4,211,5],[149,0,150,10],[153,0,153,3],[153,4,153,5],[263,0,263,1],[264,0,264,1],[264,2,264,9],[205,0,205,1],[206,0,206,1],[206,2,206,9],[207,0,208,10],[91,0,92,10],[95,0,95,3],[95,4,95,5],[147,0,147,1],[148,0,148,1],[148,2,148,9],[33,0,34,10],[37,0,37,3],[37,4,37,5],[89,0,89,1],[90,0,90,1],[90,2,90,9]]}
[]
[]
[]
[]
[]
[]
[]
[]
[null,{"$f":"Accueil!B20","v":"Piège"}]
[]
[]
[]
[]
[]
[]
[]
[]
[]
[]
[]
[]
[]
[]
[]
[]
[]
[]
[]
[]
[]
[]
[]
[]
[{"$f":"Accueil!B20","v":"Piège"}]
[]
[]
["Période :",{"$f":"Accueil!$A$41","v":"P1"},{"$f":"Accueil!$B$41","v":"du"},{"$f":"Accueil!$C$41","v":"2014-09-02"},{"$f":"Accueil!$D$41","v":"au"},{"$f":"Accueil!$E$41","v":"2014-10-18"}]
["Selectionnez la classe participant à l'atelier :"]
["NOM","Prénom","2014-09-02","2014-05-26","2014-05-27","2014-05-28","2014-05-29","2014-05-30","2014-05-31","2014-06-01","TOT"]
[null,null,null,null,null,null,null,null,null,null,{"$f":"SUM(C40:J40)","v":0}]
[null,null,null,null,null,null,null,null,null,null,{"$f":"SUM(C41:J41)","v":0}]
[null,null,null,null,null,null,null,null,null,null,0]
[null,null,null,null,null,null,null,null,null,null,0]
[null,null,null,null,null,null,null,null,null,null,0]
[null,null,null,null,null,null,null,null,null,null,0]
[null,null,null,null,null,null,null,null,null,null,0]
[null,null,null,null,null,null,null,null,null,null,0]
[null,null,null,null,null,null,null,null,null,null,0]
[null,null,null,null,null,null,null,null,null,null,0]
[null,null,null,null,null,null,null,null,null,null,0]
[null,null,null,null,null,null,null,null,null,null,0]
[null,null,null,null,null,null,null,null,null,null,0]
[null,null,null,null,null,null,null,null,null,null,0]
[null,null,null,null,null,null,null,null,null,null,0]
[null,null,null,null,null,null,null,null,null,null,0]
[null,null,null,null,null,null,null,null,null,null,0]
[null,null,null,null,null,null,null,null,null,null,0]
[null,null,null,null,null,null,null,null,null,null,0]
[null,null,null,null,null,null,null,null,null,null,0]
[null,null,null,null,null,null,null,null,null,null,0]
[null,null,null,null,null,null,null,null,null,null,0]
[null,null,null,null,null,null,null,null,null,null,0]
[null,null,null,null,null,null,null,null,null,null,0]
[null,null,null,null,null,null,null,null,null,null,0]
[null,null,null,null,null,null,null,null,null,null,{"$f":"SUM(C65:J65)","v":0}]
[null,null,null,null,null,null,null,null,null,null,{"$f":"SUM(C66:J66)","v":0}]
[null,null,null,null,null,null,null,null,null,null,0]
[null,null,null,null,null,null,null,null,null,null,0]
[null,null,null,null,null,null,null,null,null,null,0]
[null,null,null,null,null,null,null,null,null,null,0]
[null,null,null,null,null,null,null,null,null,null,0]
[null,null,null,null,null,null,null,null,null,null,0]
[null,null,null,null,null,null,null,null,null,null,0]
[null,null,null,null,null,null,null,null,null,null,0]
[null,null,null,null,null,null,null,null,null,null,0]
[null,null,null,null,null,null,null,null,null,null,0]
[null,null,null,null,null,null,null,null,null,null,0]
[null,null,null,null,null,null,null,null,null,null,0]
[null,null,null,null,null,null,null,null,null,null,0]
[null,null,null,null,null,null,null,null,null,null,0]
[null,null,null,null,null,null,null,null,null,null,0]
[null,null,null,null,null,null,null,null,null,null,0]
[null,null,null,null,null,null,null,null,null,null,0]
[null,null,null,null,null,null,null,null,null,null,0]
[null,null,null,null,null,null,null,null,null,null,0]
[null,null,null,null,null,null,null,null,null,null,0]
[null,null,null,null,null,null,null,null,null,null,0]
[null,null,null,null,null,null,null,null,null,null,0]
[null,null,null,null,null,null,null,null,null,null,0]
["TOT Jour",null,{"$f":"SUM(C40:C89)","v":0},{"$f":"SUM(D40:D89)","v":0},0,0,0,0,0,0]
["TOT Période",null,{"$f":"SUM(C90:J90)","v":0}]
[{"$f":"Accueil!B20","v":"Piège"}]
[]
[]
["Période :",{"$f":"Accueil!$A42","v":"P2"},{"$f":"Accueil!$B42","v":"du"},{"$f":"Accueil!$C42","v":"2014-11-02"},{"$f":"Accueil!$D42","v":"au"},{"$f":"Accueil!$E42","v":"2014-12-18"}]
["Selectionnez la classe participant à l'atelier :"]
["NOM","Prénom","2014-05-25","2014-05-26","2014-05-27","2014-05-28","2014-05-29","2014-05-30","2014-05-31","2014-06-01","TOT"]
[null,null,null,null,null,null,null,null,null,null,{"$f":"SUM(C98:J98)","v":0}]
[null,null,null,null,null,null,null,null,null,null,{"$f":"SUM(C99:J99)","v":0}]
[null,null,null,null,null,null,null,null,null,null,0]
[null,null,null,null,null,null,null,null,null,null,0]
[null,null,null,null,null,null,null,null,null,null,0]
[null,null,null,null,null,null,null,null,null,null,0]
[null,null,null,null,null,null,null,null,null,null,0]
[null,null,null,null,null,null,null,null,null,null,0]
[null,null,null,null,null,null,null,null,null,null,0]
[null,null,null,null,null,null,null,null,null,null,0]
[null,null,null,null,null,null,null,null,null,null,0]
[null,null,null,null,null,null,null,null,null,null,0]
[null,null,null,null,null,null,null,null,null,null,0]
[null,null,null,null,null,null,null,null,null,null,0]
[null,null,null,null,null,null,null,null,null,null,0]
[null,null,null,null,null,null,null,null,null,null,0]
[null,null,null,null,null,null,null,null,null,null,0]
[null,null,null,null,null,null,null,null,null,null,0]
[null,null,null,null,null,null,null,null,null,null,0]
[null,null,null,null,null,null,null,null,null,null,0]
[null,null,null,null,null,null,null,null,null,null,0]
[null,null,null,null,null,null,null,null,null,null,0]
[null,null,null,null,null,null,null,null,null,null,0]
[null,null,null,null,null,null,null,null,null,null,0]
[null,null,null,null,null,null,null,null,null,null,0]
[null,null,null,null,null,null,null,null,null,null,{"$f":"SUM(C123:J123)","v":0}]
[null,null,null,null,null,null,null,null,null,null,{"$f":"SUM(C124:J124)","v":0}]
[null,null,null,null,null,null,null,null,null,null,0]
[null,null,null,null,null,null,null,null,null,null,0]
[null,null,null,null,null,null,null,null,null,null,0]
[null,null,null,null,null,null,null,null,null,null,0]
[null,null,null,null,null,null,null,null,null,null,0]
[null,null,null,null,null,null,null,null,null,null,0]
[null,null,null,null,null,null,null,null,null,null,0]
[null,null,null,null,null,null,null,null,null,null,0]
[null,null,null,null,null,null,null,null,null,null,0]
[null,null,null,null,null,null,null,null,null,null,0]
[null,null,null,null,null,null,null,null,null,null,0]
[null,null,null,null,null,null,null,null,null,null,0]
[null,null,null,null,null,null,null,null,null,null,0]
[null,null,null,null,null,null,null,null,null,null,0]
[null,null,null,null,null,null,null,null,null,null,0]
[null,null,null,null,null,null,null,null,null,null,0]
[null,null,null,null,null,null,null,null,null,null,0]
[null,null,null,null,null,null,null,null,null,null,0]
[null,null,null,null,null,null,null,null,null,null,0]
[null,null,null,null,null,null,null,null,null,null,0]
[null,null,null,null,null,null,null,null,null,null,0]
[null,null,null,null,null,null,null,null,null,null,0]
[null,null,null,null,null,null,null,null,null,null,0]
["TOT Jour",null,{"$f":"SUM(C98:C147)","v":0},{"$f":"SUM(D98:D147)","v":0},0,0,0,0,0,0]
["TOT Période",null,{"$f":"SUM(C148:J148)","v":0}]
[{"$f":"Accueil!B20","v":"Piège"}]
[]
[]
["Période :",{"$f":"Accueil!A43","v":"P3"},{"$f":"Accueil!$B43","v":"du"},{"$f":"Accueil!$C43","v":"2015-01-04"},{"$f":"Accueil!$D43","v":"au"},{"$f":"Accueil!$E43","v":"2015-02-20"}]
["Selectionnez la classe participant à l'atelier :"]
["NOM","Prénom","2014-05-25","2014-05-26","2014-05-27","2014-05-28","2014-05-29","2014-05-30","2014-05-31","2014-06-01","TOT"]
[null,null,null,null,null,null,null,null,null,null,{"$f":"SUM(C156:J156)","v":0}]
[null,null,null,null,null,null,null,null,null,null,{"$f":"SUM(C157:J157)","v":0}]
[null,null,null,null,null,null,null,null,null,null,0]
[null,null,null,null,null,null,null,null,null,null,0]
[null,null,null,null,null,null,null,null,null,null,0]
[null,null,null,null,null,null,null,null,null,null,0]
[null,null,null,null,null,null,null,null,null,null,0]
[null,null,null,null,null,null,null,null,null,null,0]
[null,null,null,null,null,null,null,null,null,null,0]
[null,null,null,null,null,null,null,null,null,null,0]
[null,null,null,null,null,null,null,null,null,null,0]
[null,null,null,null,null,null,null,null,null,null,0]
[null,null,null,null,null,null,null,null,null,null,0]
[null,null,null,null,null,null,null,null,null,null,0]
[null,null,null,null,null,null,null,null,null,null,0]
[null,null,null,null,null,null,null,null,null,null,0]
[null,null,null,null,null,null,null,null,null,null,0]
[null,null,null,null,null,null,null,null,null,null,0]
[null,null,null,null,null,null,null,null,null,null,0]
[null,null,null,null,null,null,null,null,null,null,0]
[null,null,null,null,null,null,null,null,null,null,0]
[null,null,null,null,null,null,null,null,null,null,0]
[null,null,null,null,null,null,null,null,null,null,0]
[null,null,null,null,null,null,null,null,null,null,0]
[null,null,null,null,null,null,null,null,null,null,0]
[null,null,null,null,null,null,null,null,null,null,{"$f":"SUM(C181:J181)","v":0}]
[null,null,null,null,null,null,null,null,null,null,{"$f":"SUM(C182:J182)","v":0}]
[null,null,null,null,null,null,null,null,null,null,0]
[null,null,null,null,null,null,null,null,null,null,0]
[null,null,null,null,null,null,null,null,null,null,0]
[null,null,null,null,null,null,null,null,null,null,0]
[null,null,null,null,null,null,null,null,null,null,0]
[null,null,null,null,null,null,null,null,null,null,0]
[null,null,null,null,null,null,null,null,null,null,0]
[null,null,null,null,null,null,null,null,null,null,0]
[null,null,null,null,null,null,null,null,null,null,0]
[null,null,null,null,null,null,null,null,null,null,0]
[null,null,null,null,null,null,null,null,null,null,0]
[null,null,null,null,null,null,null,null,null,null,0]
[null,null,null,null,null,null,null,null,null,null,0]
[null,null,null,null,null,null,null,null,null,null,0]
[null,null,null,null,null,null,null,null,null,null,0]
[null,null,null,null,null,null,null,null,null,null,0]
[null,null,null,null,null,null,null,null,null,null,0]
[null,null,null,null,null,null,null,null,null,null,0]
[null,null,null,null,null,null,null,null,null,null,0]
[null,null,null,null,null,null,null,null,null,null,0]
[null,null,null,null,null,null,null,null,null,null,0]
[null,null,null,null,null,null,null,null,null,null,0]
[null,null,null,null,null,null,null,null,null,null,0]
["TOT Jour",null,{"$f":"SUM(C156:C205)","v":0},{"$f":"SUM(D156:D205)","v":0},0,0,0,0,0,0]
["TOT Période",null,{"$f":"SUM(C206:J206)","v":0}]
[{"$f":"Accueil!B20","v":"Piège"}]
[]
[]
["Période :",{"$f":"Accueil!A44","v":"P4"},{"$f":"Accueil!$B44","v":"du"},{"$f":"Accueil!$C44","v":"2015-03-08"},{"$f":"Accueil!$D44","v":"au"},{"$f":"Accueil!$E44","v":"2015-04-15"}]
["Selectionnez la classe participant à l'atelier :"]
["NOM","Prénom","2014-05-25","2014-05-26","2014-05-27","2014-05-28","2014-05-29","2014-05-30","2014-05-31","2014-06-01","TOT"]
[null,null,null,null,null,null,null,null,null,null,{"$f":"SUM(C214:J214)","v":0}]
[null,null,null,null,null,null,null,null,null,null,{"$f":"SUM(C215:J215)","v":0}]
[null,null,null,null,null,null,null,null,null,null,0]
[null,null,null,null,null,null,null,null,null,null,0]
[null,null,null,null,null,null,null,null,null,null,0]
[null,null,null,null,null,null,null,null,null,null,0]
[null,null,null,null,null,null,null,null,null,null,0]
[null,null,null,null,null,null,null,null,null,null,0]
[null,null,null,null,null,null,null,null,null,null,0]
[null,null,null,null,null,null,null,null,null,null,0]
[null,null,null,null,null,null,null,null,null,null,0]
[null,null,null,null,null,null,null,null,null,null,0]
[null,null,null,null,null,null,null,null,null,null,0]
[null,null,null,null,null,null,null,null,null,null,0]
[null,null,null,null,null,null,null,null,null,null,0]
[null,null,null,null,null,null,null,null,null,null,0]
[null,null,null,null,null,null,null,null,null,null,0]
[null,null,null,null,null,null,null,null,null,null,0]
[null,null,null,null,null,null,null,null,null,null,0]
[null,null,null,null,null,null,null,null,null,null,0]
[null,null,null,null,null,null,null,null,null,null,0]
[null,null,null,null,null,null,null,null,null,null,0]
[null,null,null,null,null,null,null,null,null,null,0]
[null,null,null,null,null,null,null,null,null,null,0]
[null,null,null,null,null,null,null,null,null,null,0]
[null,null,null,null,null,null,null,null,null,null,{"$f":"SUM(C239:J239)","v":0}]
[null,null,null,null,null,null,null,null,null,null,{"$f":"SUM(C240:J240)","v":0}]
[null,null,null,null,null,null,null,null,null,null,0]
[null,null,null,null,null,null,null,null,null,null,0]
[null,null,null,null,null,null,null,null,null,null,0]
[null,null,null,null,null,null,null,null,null,null,0]
[null,null,null,null,null,null,null,null,null,null,0]
[null,null,null,null,null,null,null,null,null,null,0]
[null,null,null,null,null,null,null,null,null,null,0]
[null,null,null,null,null,null,null,null,null,null,0]
[null,null,null,null,null,null,null,null,null,null,0]
[null,null,null,null,null,null,null,null,null,null,0]
[null,null,null,null,null,null,null,null,null,null,0]
[null,null,null,null,null,null,null,null,null,null,0]
[null,null,null,null,null,null,null,null,null,null,0]
[null,null,null,null,null,null,null,null,null,null,0]
[null,null,null,null,null,null,null,null,null,null,0]
[null,null,null,null,null,null,null,null,null,null,0]
[null,null,null,null,null,null,null,null,null,null,0]
[null,null,null,null,null,null,null,null,null,null,0]
[null,null,null,null,null,null,null,null,null,null,0]
[null,null,null,null,null,null,null,null,null,null,0]
[null,null,null,null,null,null,null,null,null,null,0]
[null,null,null,null,null,null,null,null,null,null,0]
[null,null,null,null,null,null,null,null,null,null,0]
["TOT Jour",null,{"$f":"SUM(C214:C263)","v":0},{"$f":"SUM(D214:D263)","v":0},0,0,0,0,0,0]
["TOT Période",null,{"$f":"SUM(C264:J264)","v":0}]
[{"$f":"Accueil!B20","v":"Piège"}]
[]
[]
["Période :",{"$f":"Accueil!A45","v":"P5"},{"$f":"Accueil!$B45","v":"du"},{"$f":"Accueil!$C45","v":"2015-05-02"},{"$f":"Accueil!$D45","v":"au"},{"$f":"Accueil!$E45","v":"2015-07-03"}]
["Selectionnez la classe participant à l'atelier :"]
["NOM","Prénom","2014-05-25","2014-05-26","2014-05-27","2014-05-28","2014-05-29","2014-05-30","2014-05-31","2014-06-01","TOT"]
[null,null,null,null,null,null,null,null,null,null,{"$f":"SUM(C272:J272)","v":0}]
[null,null,null,null,null,null,null,null,null,null,{"$f":"SUM(C273:J273)","v":0}]
[null,null,null,null,null,null,null,null,null,null,0]
[null,null,null,null,null,null,null,null,null,null,0]
[null,null,null,null,null,null,null,null,null,null,0]
[null,null,null,null,null,null,null,null,null,null,0]
[null,null,null,null,null,null,null,null,null,null,0]
[null,null,null,null,null,null,null,null,null,null,0]
[null,null,null,null,null,null,null,null,null,null,0]
[null,null,null,null,null,null,null,null,null,null,0]
[null,null,null,null,null,null,null,null,null,null,0]
[null,null,null,null,null,null,null,null,null,null,0]
[null,null,null,null,null,null,null,null,null,null,0]
[null,null,null,null,null,null,null,null,null,null,0]
[null,null,null,null,null,null,null,null,null,null,0]
[null,null,null,null,null,null,null,null,null,null,0]
[null,null,null,null,null,null,null,null,null,null,0]
[null,null,null,null,null,null,null,null,null,null,0]
[null,null,null,null,null,null,null,null,null,null,0]
[null,null,null,null,null,null,null,null,null,null,0]
[null,null,null,null,null,null,null,null,null,null,0]
[null,null,null,null,null,null,null,null,null,null,0]
[null,null,null,null,null,null,null,null,null,null,0]
[null,null,null,null,null,null,null,null,null,null,0]
[null,null,null,null,null,null,null,null,null,null,0]
[null,null,null,null,null,null,null,null,null,null,{"$f":"SUM(C297:J297)","v":0}]
[null,null,null,null,null,null,null,null,null,null,{"$f":"SUM(C298:J298)","v":0}]
[null,null,null,null,null,null,null,null,null,null,0]
[null,null,null,null,null,null,null,null,null,null,0]
[null,null,null,null,null,null,null,null,null,null,0]
[null,null,null,null,null,null,null,null,null,null,0]
[null,null,null,null,null,null,null,null,null,null,0]
[null,null,null,null,null,null,null,null,null,null,0]
[null,null,null,null,null,null,null,null,null,null,0]
[null,null,null,null,null,null,null,null,null,null,0]
[null,null,null,null,null,null,null,null,null,null,0]
[null,null,null,null,null,null,null,null,null,null,0]
[null,null,null,null,null,null,null,null,null,null,0]
[null,null,null,null,null,null,null,null,null,null,0]
[null,null,null,null,null,null,null,null,null,null,0]
[null,null,null,null,null,null,null,null,null,null,0]
[null,null,null,null,null,null,null,null,null,null,0]
[null,null,null,null,null,null,null,null,null,null,0]
[null,null,null,null,null,null,null,null,null,null,0]
[null,null,null,null,null,null,null,null,null,null,0]
[null,null,null,null,null,null,null,null,null,null,0]
[null,null,null,null,null,null,null,null,null,null,0]
[null,null,null,null,null,null,null,null,null,null,0]
[null,null,null,null,null,null,null,null,null,null,0]
[null,null,null,null,null,null,null,null,null,null,0]
["TOT Jour",null,{"$f":"SUM(C272:C321)","v":0},{"$f":"SUM(D272:D321)","v":0},0,0,0,0,0,0]
["TOT Période",null,{"$f":"SUM(C322:J322)","v":0}]
["Statistiques"]
[]
[]
["Nombre d'heure de fréquentation :"]
[{"$f":"Accueil!$A41","v":"P1"},{"$f":"$C$91*1.5","v":0},"heures de présence pour cet atelier et pour cette période"]
[{"$f":"Accueil!$A42","v":"P2"},{"$f":"$C$149*1.5","v":0},"heures de présence pour cet atelier et pour cette période"]
[{"$f":"Accueil!$A43","v":"P3"},{"$f":"$C$207*1.5","v":0},"heures de présence pour cet atelier et pour cette période"]
[{"$f":"Accueil!$A44","v":"P4"},{"$f":"$C$265*1.5","v":0},"heures de présence pour cet atelier et pour cette période"]
[{"$f":"Accueil!$A45","v":"P5"},{"$f":"$C$323*1.5","v":0},"heures de présence pour cet atelier et pour cette période"]
["TOT",{"$f":"SUM($B$328:$B$332)","v":0},"heures de présence pour cet atelier et pour l'année"]

{"sheet":"Dionée","index":15,"n_rows":333,"n_cols":11,"rows_kept":333,"cut":false,"hidden":false,"merged":[[331,2,331,6],[332,2,332,6],[8,1,15,9],[323,0,324,10],[327,2,327,6],[328,2,328,6],[329,2,329,6],[330,2,330,6],[265,0,266,10],[269,0,269,3],[269,4,269,5],[321,0,321,1],[322,0,322,1],[322,2,322,9],[211,0,211,3],[211,4,211,5],[149,0,150,10],[153,0,153,3],[153,4,153,5],[263,0,263,1],[264,0,264,1],[264,2,264,9],[205,0,205,1],[206,0,206,1],[206,2,206,9],[207,0,208,10],[91,0,92,10],[95,0,95,3],[95,4,95,5],[147,0,147,1],[148,0,148,1],[148,2,148,9],[33,0,34,10],[37,0,37,3],[37,4,37,5],[89,0,89,1],[90,0,90,1],[90,2,90,9]]}
[]
[]
[]
[]
[]
[]
[]
[]
[null,{"$f":"Accueil!B21","v":"Dionée"}]
[]
[]
[]
[]
[]
[]
[]
[]
[]
[]
[]
[]
[]
[]
[]
[]
[]
[]
[]
[]
[]
[]
[]
[]
[{"$f":"Accueil!B21","v":"Dionée"}]
[]
[]
["Période :",{"$f":"Accueil!$A$41","v":"P1"},{"$f":"Accueil!$B$41","v":"du"},{"$f":"Accueil!$C$41","v":"2014-09-02"},{"$f":"Accueil!$D$41","v":"au"},{"$f":"Accueil!$E$41","v":"2014-10-18"}]
["Selectionnez la classe participant à l'atelier :"]
["NOM","Prénom","2014-09-02","2014-05-26","2014-05-27","2014-05-28","2014-05-29","2014-05-30","2014-05-31","2014-06-01","TOT"]
[null,null,null,null,null,null,null,null,null,null,{"$f":"SUM(C40:J40)","v":0}]
[null,null,null,null,null,null,null,null,null,null,{"$f":"SUM(C41:J41)","v":0}]
[null,null,null,null,null,null,null,null,null,null,0]
[null,null,null,null,null,null,null,null,null,null,0]
[null,null,null,null,null,null,null,null,null,null,0]
[null,null,null,null,null,null,null,null,null,null,0]
[null,null,null,null,null,null,null,null,null,null,0]
[null,null,null,null,null,null,null,null,null,null,0]
[null,null,null,null,null,null,null,null,null,null,0]
[null,null,null,null,null,null,null,null,null,null,0]
[null,null,null,null,null,null,null,null,null,null,0]
[null,null,null,null,null,null,null,null,null,null,0]
[null,null,null,null,null,null,null,null,null,null,0]
[null,null,null,null,null,null,null,null,null,null,0]
[null,null,null,null,null,null,null,null,null,null,0]
[null,null,null,null,null,null,null,null,null,null,0]
[null,null,null,null,null,null,null,null,null,null,0]
[null,null,null,null,null,null,null,null,null,null,0]
[null,null,null,null,null,null,null,null,null,null,0]
[null,null,null,null,null,null,null,null,null,null,0]
[null,null,null,null,null,null,null,null,null,null,0]
[null,null,null,null,null,null,null,null,null,null,0]
[null,null,null,null,null,null,null,null,null,null,0]
[null,null,null,null,null,null,null,null,null,null,0]
[null,null,null,null,null,null,null,null,null,null,0]
[null,null,null,null,null,null,null,null,null,null,{"$f":"SUM(C65:J65)","v":0}]
[null,null,null,null,null,null,null,null,null,null,{"$f":"SUM(C66:J66)","v":0}]
[null,null,null,null,null,null,null,null,null,null,0]
[null,null,null,null,null,null,null,null,null,null,0]
[null,null,null,null,null,null,null,null,null,null,0]
[null,null,null,null,null,null,null,null,null,null,0]
[null,null,null,null,null,null,null,null,null,null,0]
[null,null,null,null,null,null,null,null,null,null,0]
[null,null,null,null,null,null,null,null,null,null,0]
[null,null,null,null,null,null,null,null,null,null,0]
[null,null,null,null,null,null,null,null,null,null,0]
[null,null,null,null,null,null,null,null,null,null,0]
[null,null,null,null,null,null,null,null,null,null,0]
[null,null,null,null,null,null,null,null,null,null,0]
[null,null,null,null,null,null,null,null,null,null,0]
[null,null,null,null,null,null,null,null,null,null,0]
[null,null,null,null,null,null,null,null,null,null,0]
[null,null,null,null,null,null,null,null,null,null,0]
[null,null,null,null,null,null,null,null,null,null,0]
[null,null,null,null,null,null,null,null,null,null,0]
[null,null,null,null,null,null,null,null,null,null,0]
[null,null,null,null,null,null,null,null,null,null,0]
[null,null,null,null,null,null,null,null,null,null,0]
[null,null,null,null,null,null,null,null,null,null,0]
[null,null,null,null,null,null,null,null,null,null,0]
["TOT Jour",null,{"$f":"SUM(C40:C89)","v":0},{"$f":"SUM(D40:D89)","v":0},0,0,0,0,0,0]
["TOT Période",null,{"$f":"SUM(C90:J90)","v":0}]
[{"$f":"Accueil!B21","v":"Dionée"}]
[]
[]
["Période :",{"$f":"Accueil!$A42","v":"P2"},{"$f":"Accueil!$B42","v":"du"},{"$f":"Accueil!$C42","v":"2014-11-02"},{"$f":"Accueil!$D42","v":"au"},{"$f":"Accueil!$E42","v":"2014-12-18"}]
["Selectionnez la classe participant à l'atelier :"]
["NOM","Prénom","2014-05-25","2014-05-26","2014-05-27","2014-05-28","2014-05-29","2014-05-30","2014-05-31","2014-06-01","TOT"]
[null,null,null,null,null,null,null,null,null,null,{"$f":"SUM(C98:J98)","v":0}]
[null,null,null,null,null,null,null,null,null,null,{"$f":"SUM(C99:J99)","v":0}]
[null,null,null,null,null,null,null,null,null,null,0]
[null,null,null,null,null,null,null,null,null,null,0]
[null,null,null,null,null,null,null,null,null,null,0]
[null,null,null,null,null,null,null,null,null,null,0]
[null,null,null,null,null,null,null,null,null,null,0]
[null,null,null,null,null,null,null,null,null,null,0]
[null,null,null,null,null,null,null,null,null,null,0]
[null,null,null,null,null,null,null,null,null,null,0]
[null,null,null,null,null,null,null,null,null,null,0]
[null,null,null,null,null,null,null,null,null,null,0]
[null,null,null,null,null,null,null,null,null,null,0]
[null,null,null,null,null,null,null,null,null,null,0]
[null,null,null,null,null,null,null,null,null,null,0]
[null,null,null,null,null,null,null,null,null,null,0]
[null,null,null,null,null,null,null,null,null,null,0]
[null,null,null,null,null,null,null,null,null,null,0]
[null,null,null,null,null,null,null,null,null,null,0]
[null,null,null,null,null,null,null,null,null,null,0]
[null,null,null,null,null,null,null,null,null,null,0]
[null,null,null,null,null,null,null,null,null,null,0]
[null,null,null,null,null,null,null,null,null,null,0]
[null,null,null,null,null,null,null,null,null,null,0]
[null,null,null,null,null,null,null,null,null,null,0]
[null,null,null,null,null,null,null,null,null,null,{"$f":"SUM(C123:J123)","v":0}]
[null,null,null,null,null,null,null,null,null,null,{"$f":"SUM(C124:J124)","v":0}]
[null,null,null,null,null,null,null,null,null,null,0]
[null,null,null,null,null,null,null,null,null,null,0]
[null,null,null,null,null,null,null,null,null,null,0]
[null,null,null,null,null,null,null,null,null,null,0]
[null,null,null,null,null,null,null,null,null,null,0]
[null,null,null,null,null,null,null,null,null,null,0]
[null,null,null,null,null,null,null,null,null,null,0]
[null,null,null,null,null,null,null,null,null,null,0]
[null,null,null,null,null,null,null,null,null,null,0]
[null,null,null,null,null,null,null,null,null,null,0]
[null,null,null,null,null,null,null,null,null,null,0]
[null,null,null,null,null,null,null,null,null,null,0]
[null,null,null,null,null,null,null,null,null,null,0]
[null,null,null,null,null,null,null,null,null,null,0]
[null,null,null,null,null,null,null,null,null,null,0]
[null,null,null,null,null,null,null,null,null,null,0]
[null,null,null,null,null,null,null,null,null,null,0]
[null,null,null,null,null,null,null,null,null,null,0]
[null,null,null,null,null,null,null,null,null,null,0]
[null,null,null,null,null,null,null,null,null,null,0]
[null,null,null,null,null,null,null,null,null,null,0]
[null,null,null,null,null,null,null,null,null,null,0]
[null,null,null,null,null,null,null,null,null,null,0]
["TOT Jour",null,{"$f":"SUM(C98:C147)","v":0},{"$f":"SUM(D98:D147)","v":0},0,0,0,0,0,0]
["TOT Période",null,{"$f":"SUM(C148:J148)","v":0}]
[{"$f":"Accueil!B21","v":"Dionée"}]
[]
[]
["Période :",{"$f":"Accueil!A43","v":"P3"},{"$f":"Accueil!$B43","v":"du"},{"$f":"Accueil!$C43","v":"2015-01-04"},{"$f":"Accueil!$D43","v":"au"},{"$f":"Accueil!$E43","v":"2015-02-20"}]
["Selectionnez la classe participant à l'atelier :"]
["NOM","Prénom","2014-05-25","2014-05-26","2014-05-27","2014-05-28","2014-05-29","2014-05-30","2014-05-31","2014-06-01","TOT"]
[null,null,null,null,null,null,null,null,null,null,{"$f":"SUM(C156:J156)","v":0}]
[null,null,null,null,null,null,null,null,null,null,{"$f":"SUM(C157:J157)","v":0}]
[null,null,null,null,null,null,null,null,null,null,0]
[null,null,null,null,null,null,null,null,null,null,0]
[null,null,null,null,null,null,null,null,null,null,0]
[null,null,null,null,null,null,null,null,null,null,0]
[null,null,null,null,null,null,null,null,null,null,0]
[null,null,null,null,null,null,null,null,null,null,0]
[null,null,null,null,null,null,null,null,null,null,0]
[null,null,null,null,null,null,null,null,null,null,0]
[null,null,null,null,null,null,null,null,null,null,0]
[null,null,null,null,null,null,null,null,null,null,0]
[null,null,null,null,null,null,null,null,null,null,0]
[null,null,null,null,null,null,null,null,null,null,0]
[null,null,null,null,null,null,null,null,null,null,0]
[null,null,null,null,null,null,null,null,null,null,0]
[null,null,null,null,null,null,null,null,null,null,0]
[null,null,null,null,null,null,null,null,null,null,0]
[null,null,null,null,null,null,null,null,null,null,0]
[null,null,null,null,null,null,null,null,null,null,0]
[null,null,null,null,null,null,null,null,null,null,0]
[null,null,null,null,null,null,null,null,null,null,0]
[null,null,null,null,null,null,null,null,null,null,0]
[null,null,null,null,null,null,null,null,null,null,0]
[null,null,null,null,null,null,null,null,null,null,0]
[null,null,null,null,null,null,null,null,null,null,{"$f":"SUM(C181:J181)","v":0}]
[null,null,null,null,null,null,null,null,null,null,{"$f":"SUM(C182:J182)","v":0}]
[null,null,null,null,null,null,null,null,null,null,0]
[null,null,null,null,null,null,null,null,null,null,0]
[null,null,null,null,null,null,null,null,null,null,0]
[null,null,null,null,null,null,null,null,null,null,0]
[null,null,null,null,null,null,null,null,null,null,0]
[null,null,null,null,null,null,null,null,null,null,0]
[null,null,null,null,null,null,null,null,null,null,0]
[null,null,null,null,null,null,null,null,null,null,0]
[null,null,null,null,null,null,null,null,null,null,0]
[null,null,null,null,null,null,null,null,null,null,0]
[null,null,null,null,null,null,null,null,null,null,0]
[null,null,null,null,null,null,null,null,null,null,0]
[null,null,null,null,null,null,null,null,null,null,0]
[null,null,null,null,null,null,null,null,null,null,0]
[null,null,null,null,null,null,null,null,null,null,0]
[null,null,null,null,null,null,null,null,null,null,0]
[null,null,null,null,null,null,null,null,null,null,0]
[null,null,null,null,null,null,null,null,null,null,0]
[null,null,null,null,null,null,null,null,null,null,0]
[null,null,null,null,null,null,null,null,null,null,0]
[null,null,null,null,null,null,null,null,null,null,0]
[null,null,null,null,null,null,null,null,null,null,0]
[null,null,null,null,null,null,null,null,null,null,0]
["TOT Jour",null,{"$f":"SUM(C156:C205)","v":0},{"$f":"SUM(D156:D205)","v":0},0,0,0,0,0,0]
["TOT Période",null,{"$f":"SUM(C206:J206)","v":0}]
[{"$f":"Accueil!B21","v":"Dionée"}]
[]
[]
["Période :",{"$f":"Accueil!A44","v":"P4"},{"$f":"Accueil!$B44","v":"du"},{"$f":"Accueil!$C44","v":"2015-03-08"},{"$f":"Accueil!$D44","v":"au"},{"$f":"Accueil!$E44","v":"2015-04-15"}]
["Selectionnez la classe participant à l'atelier :"]
["NOM","Prénom","2014-05-25","2014-05-26","2014-05-27","2014-05-28","2014-05-29","2014-05-30","2014-05-31","2014-06-01","TOT"]
[null,null,null,null,null,null,null,null,null,null,{"$f":"SUM(C214:J214)","v":0}]
[null,null,null,null,null,null,null,null,null,null,{"$f":"SUM(C215:J215)","v":0}]
[null,null,null,null,null,null,null,null,null,null,0]
[null,null,null,null,null,null,null,null,null,null,0]
[null,null,null,null,null,null,null,null,null,null,0]
[null,null,null,null,null,null,null,null,null,null,0]
[null,null,null,null,null,null,null,null,null,null,0]
[null,null,null,null,null,null,null,null,null,null,0]
[null,null,null,null,null,null,null,null,null,null,0]
[null,null,null,null,null,null,null,null,null,null,0]
[null,null,null,null,null,null,null,null,null,null,0]
[null,null,null,null,null,null,null,null,null,null,0]
[null,null,null,null,null,null,null,null,null,null,0]
[null,null,null,null,null,null,null,null,null,null,0]
[null,null,null,null,null,null,null,null,null,null,0]
[null,null,null,null,null,null,null,null,null,null,0]
[null,null,null,null,null,null,null,null,null,null,0]
[null,null,null,null,null,null,null,null,null,null,0]
[null,null,null,null,null,null,null,null,null,null,0]
[null,null,null,null,null,null,null,null,null,null,0]
[null,null,null,null,null,null,null,null,null,null,0]
[null,null,null,null,null,null,null,null,null,null,0]
[null,null,null,null,null,null,null,null,null,null,0]
[null,null,null,null,null,null,null,null,null,null,0]
[null,null,null,null,null,null,null,null,null,null,0]
[null,null,null,null,null,null,null,null,null,null,{"$f":"SUM(C239:J239)","v":0}]
[null,null,null,null,null,null,null,null,null,null,{"$f":"SUM(C240:J240)","v":0}]
[null,null,null,null,null,null,null,null,null,null,0]
[null,null,null,null,null,null,null,null,null,null,0]
[null,null,null,null,null,null,null,null,null,null,0]
[null,null,null,null,null,null,null,null,null,null,0]
[null,null,null,null,null,null,null,null,null,null,0]
[null,null,null,null,null,null,null,null,null,null,0]
[null,null,null,null,null,null,null,null,null,null,0]
[null,null,null,null,null,null,null,null,null,null,0]
[null,null,null,null,null,null,null,null,null,null,0]
[null,null,null,null,null,null,null,null,null,null,0]
[null,null,null,null,null,null,null,null,null,null,0]
[null,null,null,null,null,null,null,null,null,null,0]
[null,null,null,null,null,null,null,null,null,null,0]
[null,null,null,null,null,null,null,null,null,null,0]
[null,null,null,null,null,null,null,null,null,null,0]
[null,null,null,null,null,null,null,null,null,null,0]
[null,null,null,null,null,null,null,null,null,null,0]
[null,null,null,null,null,null,null,null,null,null,0]
[null,null,null,null,null,null,null,null,null,null,0]
[null,null,null,null,null,null,null,null,null,null,0]
[null,null,null,null,null,null,null,null,null,null,0]
[null,null,null,null,null,null,null,null,null,null,0]
[null,null,null,null,null,null,null,null,null,null,0]
["TOT Jour",null,{"$f":"SUM(C214:C263)","v":0},{"$f":"SUM(D214:D263)","v":0},0,0,0,0,0,0]
["TOT Période",null,{"$f":"SUM(C264:J264)","v":0}]
[{"$f":"Accueil!B21","v":"Dionée"}]
[]
[]
["Période :",{"$f":"Accueil!A45","v":"P5"},{"$f":"Accueil!$B45","v":"du"},{"$f":"Accueil!$C45","v":"2015-05-02"},{"$f":"Accueil!$D45","v":"au"},{"$f":"Accueil!$E45","v":"2015-07-03"}]
["Selectionnez la classe participant à l'atelier :"]
["NOM","Prénom","2014-05-25","2014-05-26","2014-05-27","2014-05-28","2014-05-29","2014-05-30","2014-05-31","2014-06-01","TOT"]
[null,null,null,null,null,null,null,null,null,null,{"$f":"SUM(C272:J272)","v":0}]
[null,null,null,null,null,null,null,null,null,null,{"$f":"SUM(C273:J273)","v":0}]
[null,null,null,null,null,null,null,null,null,null,0]
[null,null,null,null,null,null,null,null,null,null,0]
[null,null,null,null,null,null,null,null,null,null,0]
[null,null,null,null,null,null,null,null,null,null,0]
[null,null,null,null,null,null,null,null,null,null,0]
[null,null,null,null,null,null,null,null,null,null,0]
[null,null,null,null,null,null,null,null,null,null,0]
[null,null,null,null,null,null,null,null,null,null,0]
[null,null,null,null,null,null,null,null,null,null,0]
[null,null,null,null,null,null,null,null,null,null,0]
[null,null,null,null,null,null,null,null,null,null,0]
[null,null,null,null,null,null,null,null,null,null,0]
[null,null,null,null,null,null,null,null,null,null,0]
[null,null,null,null,null,null,null,null,null,null,0]
[null,null,null,null,null,null,null,null,null,null,0]
[null,null,null,null,null,null,null,null,null,null,0]
[null,null,null,null,null,null,null,null,null,null,0]
[null,null,null,null,null,null,null,null,null,null,0]
[null,null,null,null,null,null,null,null,null,null,0]
[null,null,null,null,null,null,null,null,null,null,0]
[null,null,null,null,null,null,null,null,null,null,0]
[null,null,null,null,null,null,null,null,null,null,0]
[null,null,null,null,null,null,null,null,null,null,0]
[null,null,null,null,null,null,null,null,null,null,{"$f":"SUM(C297:J297)","v":0}]
[null,null,null,null,null,null,null,null,null,null,{"$f":"SUM(C298:J298)","v":0}]
[null,null,null,null,null,null,null,null,null,null,0]
[null,null,null,null,null,null,null,null,null,null,0]
[null,null,null,null,null,null,null,null,null,null,0]
[null,null,null,null,null,null,null,null,null,null,0]
[null,null,null,null,null,null,null,null,null,null,0]
[null,null,null,null,null,null,null,null,null,null,0]
[null,null,null,null,null,null,null,null,null,null,0]
[null,null,null,null,null,null,null,null,null,null,0]
[null,null,null,null,null,null,null,null,null,null,0]
[null,null,null,null,null,null,null,null,null,null,0]
[null,null,null,null,null,null,null,null,null,null,0]
[null,null,null,null,null,null,null,null,null,null,0]
[null,null,null,null,null,null,null,null,null,null,0]
[null,null,null,null,null,null,null,null,null,null,0]
[null,null,null,null,null,null,null,null,null,null,0]
[null,null,null,null,null,null,null,null,null,null,0]
[null,null,null,null,null,null,null,null,null,null,0]
[null,null,null,null,null,null,null,null,null,null,0]
[null,null,null,null,null,null,null,null,null,null,0]
[null,null,null,null,null,null,null,null,null,null,0]
[null,null,null,null,null,null,null,null,null,null,0]
[null,null,null,null,null,null,null,null,null,null,0]
[null,null,null,null,null,null,null,null,null,null,0]
["TOT Jour",null,{"$f":"SUM(C272:C321)","v":0},{"$f":"SUM(D272:D321)","v":0},0,0,0,0,0,0]
["TOT Période",null,{"$f":"SUM(C322:J322)","v":0}]
["Statistiques"]
[]
[]
["Nombre d'heure de fréquentation :"]
[{"$f":"Accueil!$A41","v":"P1"},{"$f":"$C$91*1.5","v":0},"heures de présence pour cet atelier et pour cette période"]
[{"$f":"Accueil!$A42","v":"P2"},{"$f":"$C$149*1.5","v":0},"heures de présence pour cet atelier et pour cette période"]
[{"$f":"Accueil!$A43","v":"P3"},{"$f":"$C$207*1.5","v":0},"heures de présence pour cet atelier et pour cette période"]
[{"$f":"Accueil!$A44","v":"P4"},{"$f":"$C$265*1.5","v":0},"heures de présence pour cet atelier et pour cette période"]
[{"$f":"Accueil!$A45","v":"P5"},{"$f":"$C$323*1.5","v":0},"heures de présence pour cet atelier et pour cette période"]
["TOT",{"$f":"SUM($B$328:$B$332)","v":0},"heures de présence pour cet atelier et pour l'année"]

{"sheet":"1","index":16,"n_rows":333,"n_cols":11,"rows_kept":333,"cut":false,"hidden":true,"merged":[[90,0,90,1],[90,2,90,9],[8,1,15,9],[33,0,34,10],[37,0,37,3],[37,4,37,5],[89,0,89,1],[91,0,92,10],[95,0,95,3],[95,4,95,5],[147,0,147,1],[148,0,148,1],[148,2,148,9],[149,0,150,10],[153,0,153,3],[153,4,153,5],[205,0,205,1],[206,0,206,1],[206,2,206,9],[207,0,208,10],[211,0,211,3],[211,4,211,5],[263,0,263,1],[264,0,264,1],[264,2,264,9],[265,0,266,10],[269,0,269,3],[269,4,269,5],[321,0,321,1],[322,0,322,1],[322,2,322,9],[332,2,332,6],[323,0,324,10],[327,2,327,6],[328,2,328,6],[329,2,329,6],[330,2,330,6],[331,2,331,6]]}
[]
[]
[]
[]
[]
[]
[]
[]
[null,{"$f":"Accueil!B22","v":1}]
[]
[]
[]
[]
[]
[]
[]
[]
[]
[]
[]
[]
[]
[]
[]
[]
[]
[]
[]
[]
[]
[]
[]
[]
[{"$f":"Accueil!B22","v":1}]
[]
[]
["Période :",{"$f":"Accueil!$A$41","v":"P1"},{"$f":"Accueil!$B$41","v":"du"},{"$f":"Accueil!$C$41","v":"2014-09-02"},{"$f":"Accueil!$D$41","v":"au"},{"$f":"Accueil!$E$41","v":"2014-10-18"}]
["Selectionnez la classe participant à l'atelier :"]
["NOM","Prénom","2014-09-02","2014-05-26","2014-05-27","2014-05-28","2014-05-29","2014-05-30","2014-05-31","2014-06-01","TOT"]
[null,null,null,null,null,null,null,null,null,null,{"$f":"SUM(C40:J40)","v":0}]
[null,null,null,null,null,null,null,null,null,null,{"$f":"SUM(C41:J41)","v":0}]
[null,null,null,null,null,null,null,null,null,null,0]
[null,null,null,null,null,null,null,null,null,null,0]
[null,null,null,null,null,null,null,null,null,null,0]
[null,null,null,null,null,null,null,null,null,null,0]
[null,null,null,null,null,null,null,null,null,null,0]
[null,null,null,null,null,null,null,null,null,null,0]
[null,null,null,null,null,null,null,null,null,null,0]
[null,null,null,null,null,null,null,null,null,null,0]
[null,null,null,null,null,null,null,null,null,null,0]
[null,null,null,null,null,null,null,null,null,null,0]
[null,null,null,null,null,null,null,null,null,null,0]
[null,null,null,null,null,null,null,null,null,null,0]
[null,null,null,null,null,null,null,null,null,null,0]
[null,null,null,null,null,null,null,null,null,null,0]
[null,null,null,null,null,null,null,null,null,null,0]
[null,null,null,null,null,null,null,null,null,null,0]
[null,null,null,null,null,null,null,null,null,null,0]
[null,null,null,null,null,null,null,null,null,null,0]
[null,null,null,null,null,null,null,null,null,null,0]
[null,null,null,null,null,null,null,null,null,null,0]
[null,null,null,null,null,null,null,null,null,null,0]
[null,null,null,null,null,null,null,null,null,null,0]
[null,null,null,null,null,null,null,null,null,null,0]
[null,null,null,null,null,null,null,null,null,null,{"$f":"SUM(C65:J65)","v":0}]
[null,null,null,null,null,null,null,null,null,null,{"$f":"SUM(C66:J66)","v":0}]
[null,null,null,null,null,null,null,null,null,null,0]
[null,null,null,null,null,null,null,null,null,null,0]
[null,null,null,null,null,null,null,null,null,null,0]
[null,null,null,null,null,null,null,null,null,null,0]
[null,null,null,null,null,null,null,null,null,null,0]
[null,null,null,null,null,null,null,null,null,null,0]
[null,null,null,null,null,null,null,null,null,null,0]
[null,null,null,null,null,null,null,null,null,null,0]
[null,null,null,null,null,null,null,null,null,null,0]
[null,null,null,null,null,null,null,null,null,null,0]
[null,null,null,null,null,null,null,null,null,null,0]
[null,null,null,null,null,null,null,null,null,null,0]
[null,null,null,null,null,null,null,null,null,null,0]
[null,null,null,null,null,null,null,null,null,null,0]
[null,null,null,null,null,null,null,null,null,null,0]
[null,null,null,null,null,null,null,null,null,null,0]
[null,null,null,null,null,null,null,null,null,null,0]
[null,null,null,null,null,null,null,null,null,null,0]
[null,null,null,null,null,null,null,null,null,null,0]
[null,null,null,null,null,null,null,null,null,null,0]
[null,null,null,null,null,null,null,null,null,null,0]
[null,null,null,null,null,null,null,null,null,null,0]
[null,null,null,null,null,null,null,null,null,null,0]
["TOT Jour",null,{"$f":"SUM(C40:C89)","v":0},{"$f":"SUM(D40:D89)","v":0},0,0,0,0,0,0]
["TOT Période",null,{"$f":"SUM(C90:J90)","v":0}]
[{"$f":"Accueil!B22","v":1}]
[]
[]
["Période :",{"$f":"Accueil!$A42","v":"P2"},{"$f":"Accueil!$B42","v":"du"},{"$f":"Accueil!$C42","v":"2014-11-02"},{"$f":"Accueil!$D42","v":"au"},{"$f":"Accueil!$E42","v":"2014-12-18"}]
["Selectionnez la classe participant à l'atelier :"]
["NOM","Prénom","2014-05-25","2014-05-26","2014-05-27","2014-05-28","2014-05-29","2014-05-30","2014-05-31","2014-06-01","TOT"]
[null,null,null,null,null,null,null,null,null,null,{"$f":"SUM(C98:J98)","v":0}]
[null,null,null,null,null,null,null,null,null,null,{"$f":"SUM(C99:J99)","v":0}]
[null,null,null,null,null,null,null,null,null,null,0]
[null,null,null,null,null,null,null,null,null,null,0]
[null,null,null,null,null,null,null,null,null,null,0]
[null,null,null,null,null,null,null,null,null,null,0]
[null,null,null,null,null,null,null,null,null,null,0]
[null,null,null,null,null,null,null,null,null,null,0]
[null,null,null,null,null,null,null,null,null,null,0]
[null,null,null,null,null,null,null,null,null,null,0]
[null,null,null,null,null,null,null,null,null,null,0]
[null,null,null,null,null,null,null,null,null,null,0]
[null,null,null,null,null,null,null,null,null,null,0]
[null,null,null,null,null,null,null,null,null,null,0]
[null,null,null,null,null,null,null,null,null,null,0]
[null,null,null,null,null,null,null,null,null,null,0]
[null,null,null,null,null,null,null,null,null,null,0]
[null,null,null,null,null,null,null,null,null,null,0]
[null,null,null,null,null,null,null,null,null,null,0]
[null,null,null,null,null,null,null,null,null,null,0]
[null,null,null,null,null,null,null,null,null,null,0]
[null,null,null,null,null,null,null,null,null,null,0]
[null,null,null,null,null,null,null,null,null,null,0]
[null,null,null,null,null,null,null,null,null,null,0]
[null,null,null,null,null,null,null,null,null,null,0]
[null,null,null,null,null,null,null,null,null,null,{"$f":"SUM(C123:J123)","v":0}]
[null,null,null,null,null,null,null,null,null,null,{"$f":"SUM(C124:J124)","v":0}]
[null,null,null,null,null,null,null,null,null,null,0]
[null,null,null,null,null,null,null,null,null,null,0]
[null,null,null,null,null,null,null,null,null,null,0]
[null,null,null,null,null,null,null,null,null,null,0]
[null,null,null,null,null,null,null,null,null,null,0]
[null,null,null,null,null,null,null,null,null,null,0]
[null,null,null,null,null,null,null,null,null,null,0]
[null,null,null,null,null,null,null,null,null,null,0]
[null,null,null,null,null,null,null,null,null,null,0]
[null,null,null,null,null,null,null,null,null,null,0]
[null,null,null,null,null,null,null,null,null,null,0]
[null,null,null,null,null,null,null,null,null,null,0]
[null,null,null,null,null,null,null,null,null,null,0]
[null,null,null,null,null,null,null,null,null,null,0]
[null,null,null,null,null,null,null,null,null,null,0]
[null,null,null,null,null,null,null,null,null,null,0]
[null,null,null,null,null,null,null,null,null,null,0]
[null,null,null,null,null,null,null,null,null,null,0]
[null,null,null,null,null,null,null,null,null,null,0]
[null,null,null,null,null,null,null,null,null,null,0]
[null,null,null,null,null,null,null,null,null,null,0]
[null,null,null,null,null,null,null,null,null,null,0]
[null,null,null,null,null,null,null,null,null,null,0]
["TOT Jour",null,{"$f":"SUM(C98:C147)","v":0},{"$f":"SUM(D98:D147)","v":0},0,0,0,0,0,0]
["TOT Période",null,{"$f":"SUM(C148:J148)","v":0}]
[{"$f":"Accueil!B22","v":1}]
[]
[]
["Période :",{"$f":"Accueil!A43","v":"P3"},{"$f":"Accueil!$B43","v":"du"},{"$f":"Accueil!$C43","v":"2015-01-04"},{"$f":"Accueil!$D43","v":"au"},{"$f":"Accueil!$E43","v":"2015-02-20"}]
["Selectionnez la classe participant à l'atelier :"]
["NOM","Prénom","2014-05-25","2014-05-26","2014-05-27","2014-05-28","2014-05-29","2014-05-30","2014-05-31","2014-06-01","TOT"]
[null,null,null,null,null,null,null,null,null,null,{"$f":"SUM(C156:J156)","v":0}]
[null,null,null,null,null,null,null,null,null,null,{"$f":"SUM(C157:J157)","v":0}]
[null,null,null,null,null,null,null,null,null,null,0]
[null,null,null,null,null,null,null,null,null,null,0]
[null,null,null,null,null,null,null,null,null,null,0]
[null,null,null,null,null,null,null,null,null,null,0]
[null,null,null,null,null,null,null,null,null,null,0]
[null,null,null,null,null,null,null,null,null,null,0]
[null,null,null,null,null,null,null,null,null,null,0]
[null,null,null,null,null,null,null,null,null,null,0]
[null,null,null,null,null,null,null,null,null,null,0]
[null,null,null,null,null,null,null,null,null,null,0]
[null,null,null,null,null,null,null,null,null,null,0]
[null,null,null,null,null,null,null,null,null,null,0]
[null,null,null,null,null,null,null,null,null,null,0]
[null,null,null,null,null,null,null,null,null,null,0]
[null,null,null,null,null,null,null,null,null,null,0]
[null,null,null,null,null,null,null,null,null,null,0]
[null,null,null,null,null,null,null,null,null,null,0]
[null,null,null,null,null,null,null,null,null,null,0]
[null,null,null,null,null,null,null,null,null,null,0]
[null,null,null,null,null,null,null,null,null,null,0]
[null,null,null,null,null,null,null,null,null,null,0]
[null,null,null,null,null,null,null,null,null,null,0]
[null,null,null,null,null,null,null,null,null,null,0]
[null,null,null,null,null,null,null,null,null,null,{"$f":"SUM(C181:J181)","v":0}]
[null,null,null,null,null,null,null,null,null,null,{"$f":"SUM(C182:J182)","v":0}]
[null,null,null,null,null,null,null,null,null,null,0]
[null,null,null,null,null,null,null,null,null,null,0]
[null,null,null,null,null,null,null,null,null,null,0]
[null,null,null,null,null,null,null,null,null,null,0]
[null,null,null,null,null,null,null,null,null,null,0]
[null,null,null,null,null,null,null,null,null,null,0]
[null,null,null,null,null,null,null,null,null,null,0]
[null,null,null,null,null,null,null,null,null,null,0]
[null,null,null,null,null,null,null,null,null,null,0]
[null,null,null,null,null,null,null,null,null,null,0]
[null,null,null,null,null,null,null,null,null,null,0]
[null,null,null,null,null,null,null,null,null,null,0]
[null,null,null,null,null,null,null,null,null,null,0]
[null,null,null,null,null,null,null,null,null,null,0]
[null,null,null,null,null,null,null,null,null,null,0]
[null,null,null,null,null,null,null,null,null,null,0]
[null,null,null,null,null,null,null,null,null,null,0]
[null,null,null,null,null,null,null,null,null,null,0]
[null,null,null,null,null,null,null,null,null,null,0]
[null,null,null,null,null,null,null,null,null,null,0]
[null,null,null,null,null,null,null,null,null,null,0]
[null,null,null,null,null,null,null,null,null,null,0]
[null,null,null,null,null,null,null,null,null,null,0]
["TOT Jour",null,{"$f":"SUM(C156:C205)","v":0},{"$f":"SUM(D156:D205)","v":0},0,0,0,0,0,0]
["TOT Période",null,{"$f":"SUM(C206:J206)","v":0}]
[{"$f":"Accueil!B22","v":1}]
[]
[]
["Période :",{"$f":"Accueil!A44","v":"P4"},{"$f":"Accueil!$B44","v":"du"},{"$f":"Accueil!$C44","v":"2015-03-08"},{"$f":"Accueil!$D44","v":"au"},{"$f":"Accueil!$E44","v":"2015-04-15"}]
["Selectionnez la classe participant à l'atelier :"]
["NOM","Prénom","2014-05-25","2014-05-26","2014-05-27","2014-05-28","2014-05-29","2014-05-30","2014-05-31","2014-06-01","TOT"]
[null,null,null,null,null,null,null,null,null,null,{"$f":"SUM(C214:J214)","v":0}]
[null,null,null,null,null,null,null,null,null,null,{"$f":"SUM(C215:J215)","v":0}]
[null,null,null,null,null,null,null,null,null,null,0]
[null,null,null,null,null,null,null,null,null,null,0]
[null,null,null,null,null,null,null,null,null,null,0]
[null,null,null,null,null,null,null,null,null,null,0]
[null,null,null,null,null,null,null,null,null,null,0]
[null,null,null,null,null,null,null,null,null,null,0]
[null,null,null,null,null,null,null,null,null,null,0]
[null,null,null,null,null,null,null,null,null,null,0]
[null,null,null,null,null,null,null,null,null,null,0]
[null,null,null,null,null,null,null,null,null,null,0]
[null,null,null,null,null,null,null,null,null,null,0]
[null,null,null,null,null,null,null,null,null,null,0]
[null,null,null,null,null,null,null,null,null,null,0]
[null,null,null,null,null,null,null,null,null,null,0]
[null,null,null,null,null,null,null,null,null,null,0]
[null,null,null,null,null,null,null,null,null,null,0]
[null,null,null,null,null,null,null,null,null,null,0]
[null,null,null,null,null,null,null,null,null,null,0]
[null,null,null,null,null,null,null,null,null,null,0]
[null,null,null,null,null,null,null,null,null,null,0]
[null,null,null,null,null,null,null,null,null,null,0]
[null,null,null,null,null,null,null,null,null,null,0]
[null,null,null,null,null,null,null,null,null,null,0]
[null,null,null,null,null,null,null,null,null,null,{"$f":"SUM(C239:J239)","v":0}]
[null,null,null,null,null,null,null,null,null,null,{"$f":"SUM(C240:J240)","v":0}]
[null,null,null,null,null,null,null,null,null,null,0]
[null,null,null,null,null,null,null,null,null,null,0]
[null,null,null,null,null,null,null,null,null,null,0]
[null,null,null,null,null,null,null,null,null,null,0]
[null,null,null,null,null,null,null,null,null,null,0]
[null,null,null,null,null,null,null,null,null,null,0]
[null,null,null,null,null,null,null,null,null,null,0]
[null,null,null,null,null,null,null,null,null,null,0]
[null,null,null,null,null,null,null,null,null,null,0]
[null,null,null,null,null,null,null,null,null,null,0]
[null,null,null,null,null,null,null,null,null,null,0]
[null,null,null,null,null,null,null,null,null,null,0]
[null,null,null,null,null,null,null,null,null,null,0]
[null,null,null,null,null,null,null,null,null,null,0]
[null,null,null,null,null,null,null,null,null,null,0]
[null,null,null,null,null,null,null,null,null,null,0]
[null,null,null,null,null,null,null,null,null,null,0]
[null,null,null,null,null,null,null,null,null,null,0]
[null,null,null,null,null,null,null,null,null,null,0]
[null,null,null,null,null,null,null,null,null,null,0]
[null,null,null,null,null,null,null,null,null,null,0]
[null,null,null,null,null,null,null,null,null,null,0]
[null,null,null,null,null,null,null,null,null,null,0]
["TOT Jour",null,{"$f":"SUM(C214:C263)","v":0},{"$f":"SUM(D214:D263)","v":0},0,0,0,0,0,0]
["TOT Période",null,{"$f":"SUM(C264:J264)","v":0}]
[{"$f":"Accueil!B22","v":1}]
[]
[]
["Période :",{"$f":"Accueil!A45","v":"P5"},{"$f":"Accueil!$B45","v":"du"},{"$f":"Accueil!$C45","v":"2015-05-02"},{"$f":"Accueil!$D45","v":"au"},{"$f":"Accueil!$E45","v":"2015-07-03"}]
["Selectionnez la classe participant à l'atelier :"]
["NOM","Prénom","2014-05-25","2014-05-26","2014-05-27","2014-05-28","2014-05-29","2014-05-30","2014-05-31","2014-06-01","TOT"]
[null,null,null,null,null,null,null,null,null,null,{"$f":"SUM(C272:J272)","v":0}]
[null,null,null,null,null,null,null,null,null,null,{"$f":"SUM(C273:J273)","v":0}]
[null,null,null,null,null,null,null,null,null,null,0]
[null,null,null,null,null,null,null,null,null,null,0]
[null,null,null,null,null,null,null,null,null,null,0]
[null,null,null,null,null,null,null,null,null,null,0]
[null,null,null,null,null,null,null,null,null,null,0]
[null,null,null,null,null,null,null,null,null,null,0]
[null,null,null,null,null,null,null,null,null,null,0]
[null,null,null,null,null,null,null,null,null,null,0]
[null,null,null,null,null,null,null,null,null,null,0]
[null,null,null,null,null,null,null,null,null,null,0]
[null,null,null,null,null,null,null,null,null,null,0]
[null,null,null,null,null,null,null,null,null,null,0]
[null,null,null,null,null,null,null,null,null,null,0]
[null,null,null,null,null,null,null,null,null,null,0]
[null,null,null,null,null,null,null,null,null,null,0]
[null,null,null,null,null,null,null,null,null,null,0]
[null,null,null,null,null,null,null,null,null,null,0]
[null,null,null,null,null,null,null,null,null,null,0]
[null,null,null,null,null,null,null,null,null,null,0]
[null,null,null,null,null,null,null,null,null,null,0]
[null,null,null,null,null,null,null,null,null,null,0]
[null,null,null,null,null,null,null,null,null,null,0]
[null,null,null,null,null,null,null,null,null,null,0]
[null,null,null,null,null,null,null,null,null,null,{"$f":"SUM(C297:J297)","v":0}]
[null,null,null,null,null,null,null,null,null,null,{"$f":"SUM(C298:J298)","v":0}]
[null,null,null,null,null,null,null,null,null,null,0]
[null,null,null,null,null,null,null,null,null,null,0]
[null,null,null,null,null,null,null,null,null,null,0]
[null,null,null,null,null,null,null,null,null,null,0]
[null,null,null,null,null,null,null,null,null,null,0]
[null,null,null,null,null,null,null,null,null,null,0]
[null,null,null,null,null,null,null,null,null,null,0]
[null,null,null,null,null,null,null,null,null,null,0]
[null,null,null,null,null,null,null,null,null,null,0]
[null,null,null,null,null,null,null,null,null,null,0]
[null,null,null,null,null,null,null,null,null,null,0]
[null,null,null,null,null,null,null,null,null,null,0]
[null,null,null,null,null,null,null,null,null,null,0]
[null,null,null,null,null,null,null,null,null,null,0]
[null,null,null,null,null,null,null,null,null,null,0]
[null,null,null,null,null,null,null,null,null,null,0]
[null,null,null,null,null,null,null,null,null,null,0]
[null,null,null,null,null,null,null,null,null,null,0]
[null,null,null,null,null,null,null,null,null,null,0]
[null,null,null,null,null,null,null,null,null,null,0]
[null,null,null,null,null,null,null,null,null,null,0]
[null,null,null,null,null,null,null,null,null,null,0]
[null,null,null,null,null,null,null,null,null,null,0]
["TOT Jour",null,{"$f":"SUM(C272:C321)","v":0},{"$f":"SUM(D272:D321)","v":0},0,0,0,0,0,0]
["TOT Période",null,{"$f":"SUM(C322:J322)","v":0}]
["Statistiques"]
[]
[]
["Nombre d'heure de fréquentation :"]
[{"$f":"Accueil!$A41","v":"P1"},{"$f":"$C$91*1.5","v":0},"heures de présence pour cet atelier et pour cette période"]
[{"$f":"Accueil!$A42","v":"P2"},{"$f":"$C$149*1.5","v":0},"heures de présence pour cet atelier et pour cette période"]
[{"$f":"Accueil!$A43","v":"P3"},{"$f":"$C$207*1.5","v":0},"heures de présence pour cet atelier et pour cette période"]
[{"$f":"Accueil!$A44","v":"P4"},{"$f":"$C$265*1.5","v":0},"heures de présence pour cet atelier et pour cette période"]
[{"$f":"Accueil!$A45","v":"P5"},{"$f":"$C$323*1.5","v":0},"heures de présence pour cet atelier et pour cette période"]
["TOT",{"$f":"SUM($B$328:$B$332)","v":0},"heures de présence pour cet atelier et pour l'année"]

{"sheet":"2","index":17,"n_rows":333,"n_cols":11,"rows_kept":333,"cut":false,"hidden":true,"merged":[[90,0,90,1],[90,2,90,9],[8,1,15,9],[33,0,34,10],[37,0,37,3],[37,4,37,5],[89,0,89,1],[91,0,92,10],[95,0,95,3],[95,4,95,5],[147,0,147,1],[148,0,148,1],[148,2,148,9],[149,0,150,10],[153,0,153,3],[153,4,153,5],[205,0,205,1],[206,0,206,1],[206,2,206,9],[207,0,208,10],[211,0,211,3],[211,4,211,5],[263,0,263,1],[264,0,264,1],[264,2,264,9],[265,0,266,10],[269,0,269,3],[269,4,269,5],[321,0,321,1],[322,0,322,1],[322,2,322,9],[332,2,332,6],[323,0,324,10],[327,2,327,6],[328,2,328,6],[329,2,329,6],[330,2,330,6],[331,2,331,6]]}
[]
[]
[]
[]
[]
[]
[]
[]
[null,{"$f":"Accueil!B23","v":2}]
[]
[]
[]
[]
[]
[]
[]
[]
[]
[]
[]
[]
[]
[]
[]
[]
[]
[]
[]
[]
[]
[]
[]
[]
[{"$f":"B9","v":2}]
[]
[]
["Période :",{"$f":"Accueil!$A$41","v":"P1"},{"$f":"Accueil!$B$41","v":"du"},{"$f":"Accueil!$C$41","v":"2014-09-02"},{"$f":"Accueil!$D$41","v":"au"},{"$f":"Accueil!$E$41","v":"2014-10-18"}]
["Selectionnez la classe participant à l'atelier :"]
["NOM","Prénom","2014-09-02","2014-05-26","2014-05-27","2014-05-28","2014-05-29","2014-05-30","2014-05-31","2014-06-01","TOT"]
[null,null,null,null,null,null,null,null,null,null,{"$f":"SUM(C40:J40)","v":0}]
[null,null,null,null,null,null,null,null,null,null,{"$f":"SUM(C41:J41)","v":0}]
[null,null,null,null,null,null,null,null,null,null,0]
[null,null,null,null,null,null,null,null,null,null,0]
[null,null,null,null,null,null,null,null,null,null,0]
[null,null,null,null,null,null,null,null,null,null,0]
[null,null,null,null,null,null,null,null,null,null,0]
[null,null,null,null,null,null,null,null,null,null,0]
[null,null,null,null,null,null,null,null,null,null,0]
[null,null,null,null,null,null,null,null,null,null,0]
[null,null,null,null,null,null,null,null,null,null,0]
[null,null,null,null,null,null,null,null,null,null,0]
[null,null,null,null,null,null,null,null,null,null,0]
[null,null,null,null,null,null,null,null,null,null,0]
[null,null,null,null,null,null,null,null,null,null,0]
[null,null,null,null,null,null,null,null,null,null,0]
[null,null,null,null,null,null,null,null,null,null,0]
[null,null,null,null,null,null,null,null,null,null,0]
[null,null,null,null,null,null,null,null,null,null,0]
[null,null,null,null,null,null,null,null,null,null,0]
[null,null,null,null,null,null,null,null,null,null,0]
[null,null,null,null,null,null,null,null,null,null,0]
[null,null,null,null,null,null,null,null,null,null,0]
[null,null,null,null,null,null,null,null,null,null,0]
[null,null,null,null,null,null,null,null,null,null,0]
[null,null,null,null,null,null,null,null,null,null,{"$f":"SUM(C65:J65)","v":0}]
[null,null,null,null,null,null,null,null,null,null,{"$f":"SUM(C66:J66)","v":0}]
[null,null,null,null,null,null,null,null,null,null,0]
[null,null,null,null,null,null,null,null,null,null,0]
[null,null,null,null,null,null,null,null,null,null,0]
[null,null,null,null,null,null,null,null,null,null,0]
[null,null,null,null,null,null,null,null,null,null,0]
[null,null,null,null,null,null,null,null,null,null,0]
[null,null,null,null,null,null,null,null,null,null,0]
[null,null,null,null,null,null,null,null,null,null,0]
[null,null,null,null,null,null,null,null,null,null,0]
[null,null,null,null,null,null,null,null,null,null,0]
[null,null,null,null,null,null,null,null,null,null,0]
[null,null,null,null,null,null,null,null,null,null,0]
[null,null,null,null,null,null,null,null,null,null,0]
[null,null,null,null,null,null,null,null,null,null,0]
[null,null,null,null,null,null,null,null,null,null,0]
[null,null,null,null,null,null,null,null,null,null,0]
[null,null,null,null,null,null,null,null,null,null,0]
[null,null,null,null,null,null,null,null,null,null,0]
[null,null,null,null,null,null,null,null,null,null,0]
[null,null,null,null,null,null,null,null,null,null,0]
[null,null,null,null,null,null,null,null,null,null,0]
[null,null,null,null,null,null,null,null,null,null,0]
[null,null,null,null,null,null,null,null,null,null,0]
["TOT Jour",null,{"$f":"SUM(C40:C89)","v":0},{"$f":"SUM(D40:D89)","v":0},0,0,0,0,0,0]
["TOT Période",null,{"$f":"SUM(C90:J90)","v":0}]
[{"$f":"B9","v":2}]
[]
[]
["Période :",{"$f":"Accueil!$A42","v":"P2"},{"$f":"Accueil!$B42","v":"du"},{"$f":"Accueil!$C42","v":"2014-11-02"},{"$f":"Accueil!$D42","v":"au"},{"$f":"Accueil!$E42","v":"2014-12-18"}]
["Selectionnez la classe participant à l'atelier :"]
["NOM","Prénom","2014-05-25","2014-05-26","2014-05-27","2014-05-28","2014-05-29","2014-05-30","2014-05-31","2014-06-01","TOT"]
[null,null,null,null,null,null,null,null,null,null,{"$f":"SUM(C98:J98)","v":0}]
[null,null,null,null,null,null,null,null,null,null,{"$f":"SUM(C99:J99)","v":0}]
[null,null,null,null,null,null,null,null,null,null,0]
[null,null,null,null,null,null,null,null,null,null,0]
[null,null,null,null,null,null,null,null,null,null,0]
[null,null,null,null,null,null,null,null,null,null,0]
[null,null,null,null,null,null,null,null,null,null,0]
[null,null,null,null,null,null,null,null,null,null,0]
[null,null,null,null,null,null,null,null,null,null,0]
[null,null,null,null,null,null,null,null,null,null,0]
[null,null,null,null,null,null,null,null,null,null,0]
[null,null,null,null,null,null,null,null,null,null,0]
[null,null,null,null,null,null,null,null,null,null,0]
[null,null,null,null,null,null,null,null,null,null,0]
[null,null,null,null,null,null,null,null,null,null,0]
[null,null,null,null,null,null,null,null,null,null,0]
[null,null,null,null,null,null,null,null,null,null,0]
[null,null,null,null,null,null,null,null,null,null,0]
[null,null,null,null,null,null,null,null,null,null,0]
[null,null,null,null,null,null,null,null,null,null,0]
[null,null,null,null,null,null,null,null,null,null,0]
[null,null,null,null,null,null,null,null,null,null,0]
[null,null,null,null,null,null,null,null,null,null,0]
[null,null,null,null,null,null,null,null,null,null,0]
[null,null,null,null,null,null,null,null,null,null,0]
[null,null,null,null,null,null,null,null,null,null,{"$f":"SUM(C123:J123)","v":0}]
[null,null,null,null,null,null,null,null,null,null,{"$f":"SUM(C124:J124)","v":0}]
[null,null,null,null,null,null,null,null,null,null,0]
[null,null,null,null,null,null,null,null,null,null,0]
[null,null,null,null,null,null,null,null,null,null,0]
[null,null,null,null,null,null,null,null,null,null,0]
[null,null,null,null,null,null,null,null,null,null,0]
[null,null,null,null,null,null,null,null,null,null,0]
[null,null,null,null,null,null,null,null,null,null,0]
[null,null,null,null,null,null,null,null,null,null,0]
[null,null,null,null,null,null,null,null,null,null,0]
[null,null,null,null,null,null,null,null,null,null,0]
[null,null,null,null,null,null,null,null,null,null,0]
[null,null,null,null,null,null,null,null,null,null,0]
[null,null,null,null,null,null,null,null,null,null,0]
[null,null,null,null,null,null,null,null,null,null,0]
[null,null,null,null,null,null,null,null,null,null,0]
[null,null,null,null,null,null,null,null,null,null,0]
[null,null,null,null,null,null,null,null,null,null,0]
[null,null,null,null,null,null,null,null,null,null,0]
[null,null,null,null,null,null,null,null,null,null,0]
[null,null,null,null,null,null,null,null,null,null,0]
[null,null,null,null,null,null,null,null,null,null,0]
[null,null,null,null,null,null,null,null,null,null,0]
[null,null,null,null,null,null,null,null,null,null,0]
["TOT Jour",null,{"$f":"SUM(C98:C147)","v":0},{"$f":"SUM(D98:D147)","v":0},0,0,0,0,0,0]
["TOT Période",null,{"$f":"SUM(C148:J148)","v":0}]
[{"$f":"B9","v":2}]
[]
[]
["Période :",{"$f":"Accueil!A43","v":"P3"},{"$f":"Accueil!$B43","v":"du"},{"$f":"Accueil!$C43","v":"2015-01-04"},{"$f":"Accueil!$D43","v":"au"},{"$f":"Accueil!$E43","v":"2015-02-20"}]
["Selectionnez la classe participant à l'atelier :"]
["NOM","Prénom","2014-05-25","2014-05-26","2014-05-27","2014-05-28","2014-05-29","2014-05-30","2014-05-31","2014-06-01","TOT"]
[null,null,null,null,null,null,null,null,null,null,{"$f":"SUM(C156:J156)","v":0}]
[null,null,null,null,null,null,null,null,null,null,{"$f":"SUM(C157:J157)","v":0}]
[null,null,null,null,null,null,null,null,null,null,0]
[null,null,null,null,null,null,null,null,null,null,0]
[null,null,null,null,null,null,null,null,null,null,0]
[null,null,null,null,null,null,null,null,null,null,0]
[null,null,null,null,null,null,null,null,null,null,0]
[null,null,null,null,null,null,null,null,null,null,0]
[null,null,null,null,null,null,null,null,null,null,0]
[null,null,null,null,null,null,null,null,null,null,0]
[null,null,null,null,null,null,null,null,null,null,0]
[null,null,null,null,null,null,null,null,null,null,0]
[null,null,null,null,null,null,null,null,null,null,0]
[null,null,null,null,null,null,null,null,null,null,0]
[null,null,null,null,null,null,null,null,null,null,0]
[null,null,null,null,null,null,null,null,null,null,0]
[null,null,null,null,null,null,null,null,null,null,0]
[null,null,null,null,null,null,null,null,null,null,0]
[null,null,null,null,null,null,null,null,null,null,0]
[null,null,null,null,null,null,null,null,null,null,0]
[null,null,null,null,null,null,null,null,null,null,0]
[null,null,null,null,null,null,null,null,null,null,0]
[null,null,null,null,null,null,null,null,null,null,0]
[null,null,null,null,null,null,null,null,null,null,0]
[null,null,null,null,null,null,null,null,null,null,0]
[null,null,null,null,null,null,null,null,null,null,{"$f":"SUM(C181:J181)","v":0}]
[null,null,null,null,null,null,null,null,null,null,{"$f":"SUM(C182:J182)","v":0}]
[null,null,null,null,null,null,null,null,null,null,0]
[null,null,null,null,null,null,null,null,null,null,0]
[null,null,null,null,null,null,null,null,null,null,0]
[null,null,null,null,null,null,null,null,null,null,0]
[null,null,null,null,null,null,null,null,null,null,0]
[null,null,null,null,null,null,null,null,null,null,0]
[null,null,null,null,null,null,null,null,null,null,0]
[null,null,null,null,null,null,null,null,null,null,0]
[null,null,null,null,null,null,null,null,null,null,0]
[null,null,null,null,null,null,null,null,null,null,0]
[null,null,null,null,null,null,null,null,null,null,0]
[null,null,null,null,null,null,null,null,null,null,0]
[null,null,null,null,null,null,null,null,null,null,0]
[null,null,null,null,null,null,null,null,null,null,0]
[null,null,null,null,null,null,null,null,null,null,0]
[null,null,null,null,null,null,null,null,null,null,0]
[null,null,null,null,null,null,null,null,null,null,0]
[null,null,null,null,null,null,null,null,null,null,0]
[null,null,null,null,null,null,null,null,null,null,0]
[null,null,null,null,null,null,null,null,null,null,0]
[null,null,null,null,null,null,null,null,null,null,0]
[null,null,null,null,null,null,null,null,null,null,0]
[null,null,null,null,null,null,null,null,null,null,0]
["TOT Jour",null,{"$f":"SUM(C156:C205)","v":0},{"$f":"SUM(D156:D205)","v":0},0,0,0,0,0,0]
["TOT Période",null,{"$f":"SUM(C206:J206)","v":0}]
[{"$f":"B9","v":2}]
[]
[]
["Période :",{"$f":"Accueil!A44","v":"P4"},{"$f":"Accueil!$B44","v":"du"},{"$f":"Accueil!$C44","v":"2015-03-08"},{"$f":"Accueil!$D44","v":"au"},{"$f":"Accueil!$E44","v":"2015-04-15"}]
["Selectionnez la classe participant à l'atelier :"]
["NOM","Prénom","2014-05-25","2014-05-26","2014-05-27","2014-05-28","2014-05-29","2014-05-30","2014-05-31","2014-06-01","TOT"]
[null,null,null,null,null,null,null,null,null,null,{"$f":"SUM(C214:J214)","v":0}]
[null,null,null,null,null,null,null,null,null,null,{"$f":"SUM(C215:J215)","v":0}]
[null,null,null,null,null,null,null,null,null,null,0]
[null,null,null,null,null,null,null,null,null,null,0]
[null,null,null,null,null,null,null,null,null,null,0]
[null,null,null,null,null,null,null,null,null,null,0]
[null,null,null,null,null,null,null,null,null,null,0]
[null,null,null,null,null,null,null,null,null,null,0]
[null,null,null,null,null,null,null,null,null,null,0]
[null,null,null,null,null,null,null,null,null,null,0]
[null,null,null,null,null,null,null,null,null,null,0]
[null,null,null,null,null,null,null,null,null,null,0]
[null,null,null,null,null,null,null,null,null,null,0]
[null,null,null,null,null,null,null,null,null,null,0]
[null,null,null,null,null,null,null,null,null,null,0]
[null,null,null,null,null,null,null,null,null,null,0]
[null,null,null,null,null,null,null,null,null,null,0]
[null,null,null,null,null,null,null,null,null,null,0]
[null,null,null,null,null,null,null,null,null,null,0]
[null,null,null,null,null,null,null,null,null,null,0]
[null,null,null,null,null,null,null,null,null,null,0]
[null,null,null,null,null,null,null,null,null,null,0]
[null,null,null,null,null,null,null,null,null,null,0]
[null,null,null,null,null,null,null,null,null,null,0]
[null,null,null,null,null,null,null,null,null,null,0]
[null,null,null,null,null,null,null,null,null,null,{"$f":"SUM(C239:J239)","v":0}]
[null,null,null,null,null,null,null,null,null,null,{"$f":"SUM(C240:J240)","v":0}]
[null,null,null,null,null,null,null,null,null,null,0]
[null,null,null,null,null,null,null,null,null,null,0]
[null,null,null,null,null,null,null,null,null,null,0]
[null,null,null,null,null,null,null,null,null,null,0]
[null,null,null,null,null,null,null,null,null,null,0]
[null,null,null,null,null,null,null,null,null,null,0]
[null,null,null,null,null,null,null,null,null,null,0]
[null,null,null,null,null,null,null,null,null,null,0]
[null,null,null,null,null,null,null,null,null,null,0]
[null,null,null,null,null,null,null,null,null,null,0]
[null,null,null,null,null,null,null,null,null,null,0]
[null,null,null,null,null,null,null,null,null,null,0]
[null,null,null,null,null,null,null,null,null,null,0]
[null,null,null,null,null,null,null,null,null,null,0]
[null,null,null,null,null,null,null,null,null,null,0]
[null,null,null,null,null,null,null,null,null,null,0]
[null,null,null,null,null,null,null,null,null,null,0]
[null,null,null,null,null,null,null,null,null,null,0]
[null,null,null,null,null,null,null,null,null,null,0]
[null,null,null,null,null,null,null,null,null,null,0]
[null,null,null,null,null,null,null,null,null,null,0]
[null,null,null,null,null,null,null,null,null,null,0]
[null,null,null,null,null,null,null,null,null,null,0]
["TOT Jour",null,{"$f":"SUM(C214:C263)","v":0},{"$f":"SUM(D214:D263)","v":0},0,0,0,0,0,0]
["TOT Période",null,{"$f":"SUM(C264:J264)","v":0}]
[{"$f":"B9","v":2}]
[]
[]
["Période :",{"$f":"Accueil!A45","v":"P5"},{"$f":"Accueil!$B45","v":"du"},{"$f":"Accueil!$C45","v":"2015-05-02"},{"$f":"Accueil!$D45","v":"au"},{"$f":"Accueil!$E45","v":"2015-07-03"}]
["Selectionnez la classe participant à l'atelier :"]
["NOM","Prénom","2014-05-25","2014-05-26","2014-05-27","2014-05-28","2014-05-29","2014-05-30","2014-05-31","2014-06-01","TOT"]
[null,null,null,null,null,null,null,null,null,null,{"$f":"SUM(C272:J272)","v":0}]
[null,null,null,null,null,null,null,null,null,null,{"$f":"SUM(C273:J273)","v":0}]
[null,null,null,null,null,null,null,null,null,null,0]
[null,null,null,null,null,null,null,null,null,null,0]
[null,null,null,null,null,null,null,null,null,null,0]
[null,null,null,null,null,null,null,null,null,null,0]
[null,null,null,null,null,null,null,null,null,null,0]
[null,null,null,null,null,null,null,null,null,null,0]
[null,null,null,null,null,null,null,null,null,null,0]
[null,null,null,null,null,null,null,null,null,null,0]
[null,null,null,null,null,null,null,null,null,null,0]
[null,null,null,null,null,null,null,null,null,null,0]
[null,null,null,null,null,null,null,null,null,null,0]
[null,null,null,null,null,null,null,null,null,null,0]
[null,null,null,null,null,null,null,null,null,null,0]
[null,null,null,null,null,null,null,null,null,null,0]
[null,null,null,null,null,null,null,null,null,null,0]
[null,null,null,null,null,null,null,null,null,null,0]
[null,null,null,null,null,null,null,null,null,null,0]
[null,null,null,null,null,null,null,null,null,null,0]
[null,null,null,null,null,null,null,null,null,null,0]
[null,null,null,null,null,null,null,null,null,null,0]
[null,null,null,null,null,null,null,null,null,null,0]
[null,null,null,null,null,null,null,null,null,null,0]
[null,null,null,null,null,null,null,null,null,null,0]
[null,null,null,null,null,null,null,null,null,null,{"$f":"SUM(C297:J297)","v":0}]
[null,null,null,null,null,null,null,null,null,null,{"$f":"SUM(C298:J298)","v":0}]
[null,null,null,null,null,null,null,null,null,null,0]
[null,null,null,null,null,null,null,null,null,null,0]
[null,null,null,null,null,null,null,null,null,null,0]
[null,null,null,null,null,null,null,null,null,null,0]
[null,null,null,null,null,null,null,null,null,null,0]
[null,null,null,null,null,null,null,null,null,null,0]
[null,null,null,null,null,null,null,null,null,null,0]
[null,null,null,null,null,null,null,null,null,null,0]
[null,null,null,null,null,null,null,null,null,null,0]
[null,null,null,null,null,null,null,null,null,null,0]
[null,null,null,null,null,null,null,null,null,null,0]
[null,null,null,null,null,null,null,null,null,null,0]
[null,null,null,null,null,null,null,null,null,null,0]
[null,null,null,null,null,null,null,null,null,null,0]
[null,null,null,null,null,null,null,null,null,null,0]
[null,null,null,null,null,null,null,null,null,null,0]
[null,null,null,null,null,null,null,null,null,null,0]
[null,null,null,null,null,null,null,null,null,null,0]
[null,null,null,null,null,null,null,null,null,null,0]
[null,null,null,null,null,null,null,null,null,null,0]
[null,null,null,null,null,null,null,null,null,null,0]
[null,null,null,null,null,null,null,null,null,null,0]
[null,null,null,null,null,null,null,null,null,null,0]
["TOT Jour",null,{"$f":"SUM(C272:C321)","v":0},{"$f":"SUM(D272:D321)","v":0},0,0,0,0,0,0]
["TOT Période",null,{"$f":"SUM(C322:J322)","v":0}]
["Statistiques"]
[]
[]
["Nombre d'heure de fréquentation :"]
[{"$f":"Accueil!$A41","v":"P1"},{"$f":"$C$91*1.5","v":0},"heures de présence pour cet atelier et pour cette période"]
[{"$f":"Accueil!$A42","v":"P2"},{"$f":"$C$149*1.5","v":0},"heures de présence pour cet atelier et pour cette période"]
[{"$f":"Accueil!$A43","v":"P3"},{"$f":"$C$207*1.5","v":0},"heures de présence pour cet atelier et pour cette période"]
[{"$f":"Accueil!$A44","v":"P4"},{"$f":"$C$265*1.5","v":0},"heures de présence pour cet atelier et pour cette période"]
[{"$f":"Accueil!$A45","v":"P5"},{"$f":"$C$323*1.5","v":0},"heures de présence pour cet atelier et pour cette période"]
["TOT",{"$f":"SUM($B$328:$B$332)","v":0},"heures de présence pour cet atelier et pour l'année"]

{"sheet":"3","index":18,"n_rows":333,"n_cols":11,"rows_kept":333,"cut":false,"hidden":true,"merged":[[90,0,90,1],[90,2,90,9],[8,1,15,9],[33,0,34,10],[37,0,37,3],[37,4,37,5],[89,0,89,1],[91,0,92,10],[95,0,95,3],[95,4,95,5],[147,0,147,1],[148,0,148,1],[148,2,148,9],[149,0,150,10],[153,0,153,3],[153,4,153,5],[205,0,205,1],[206,0,206,1],[206,2,206,9],[207,0,208,10],[211,0,211,3],[211,4,211,5],[263,0,263,1],[264,0,264,1],[264,2,264,9],[265,0,266,10],[269,0,269,3],[269,4,269,5],[321,0,321,1],[322,0,322,1],[322,2,322,9],[332,2,332,6],[323,0,324,10],[327,2,327,6],[328,2,328,6],[329,2,329,6],[330,2,330,6],[331,2,331,6]]}
[]
[]
[]
[]
[]
[]
[]
[]
[null,{"$f":"Accueil!B24","v":3}]
[]
[]
[]
[]
[]
[]
[]
[]
[]
[]
[]
[]
[]
[]
[]
[]
[]
[]
[]
[]
[]
[]
[]
[]
[{"$f":"B9","v":3}]
[]
[]
["Période :",{"$f":"Accueil!$A$41","v":"P1"},{"$f":"Accueil!$B$41","v":"du"},{"$f":"Accueil!$C$41","v":"2014-09-02"},{"$f":"Accueil!$D$41","v":"au"},{"$f":"Accueil!$E$41","v":"2014-10-18"}]
["Selectionnez la classe participant à l'atelier :"]
["NOM","Prénom","2014-09-02","2014-05-26","2014-05-27","2014-05-28","2014-05-29","2014-05-30","2014-05-31","2014-06-01","TOT"]
[null,null,null,null,null,null,null,null,null,null,{"$f":"SUM(C40:J40)","v":0}]
[null,null,null,null,null,null,null,null,null,null,{"$f":"SUM(C41:J41)","v":0}]
[null,null,null,null,null,null,null,null,null,null,0]
[null,null,null,null,null,null,null,null,null,null,0]
[null,null,null,null,null,null,null,null,null,null,0]
[null,null,null,null,null,null,null,null,null,null,0]
[null,null,null,null,null,null,null,null,null,null,0]
[null,null,null,null,null,null,null,null,null,null,0]
[null,null,null,null,null,null,null,null,null,null,0]
[null,null,null,null,null,null,null,null,null,null,0]
[null,null,null,null,null,null,null,null,null,null,0]
[null,null,null,null,null,null,null,null,null,null,0]
[null,null,null,null,null,null,null,null,null,null,0]
[null,null,null,null,null,null,null,null,null,null,0]
[null,null,null,null,null,null,null,null,null,null,0]
[null,null,null,null,null,null,null,null,null,null,0]
[null,null,null,null,null,null,null,null,null,null,0]
[null,null,null,null,null,null,null,null,null,null,0]
[null,null,null,null,null,null,null,null,null,null,0]
[null,null,null,null,null,null,null,null,null,null,0]
[null,null,null,null,null,null,null,null,null,null,0]
[null,null,null,null,null,null,null,null,null,null,0]
[null,null,null,null,null,null,null,null,null,null,0]
[null,null,null,null,null,null,null,null,null,null,0]
[null,null,null,null,null,null,null,null,null,null,0]
[null,null,null,null,null,null,null,null,null,null,{"$f":"SUM(C65:J65)","v":0}]
[null,null,null,null,null,null,null,null,null,null,{"$f":"SUM(C66:J66)","v":0}]
[null,null,null,null,null,null,null,null,null,null,0]
[null,null,null,null,null,null,null,null,null,null,0]
[null,null,null,null,null,null,null,null,null,null,0]
[null,null,null,null,null,null,null,null,null,null,0]
[null,null,null,null,null,null,null,null,null,null,0]
[null,null,null,null,null,null,null,null,null,null,0]
[null,null,null,null,null,null,null,null,null,null,0]
[null,null,null,null,null,null,null,null,null,null,0]
[null,null,null,null,null,null,null,null,null,null,0]
[null,null,null,null,null,null,null,null,null,null,0]
[null,null,null,null,null,null,null,null,null,null,0]
[null,null,null,null,null,null,null,null,null,null,0]
[null,null,null,null,null,null,null,null,null,null,0]
[null,null,null,null,null,null,null,null,null,null,0]
[null,null,null,null,null,null,null,null,null,null,0]
[null,null,null,null,null,null,null,null,null,null,0]
[null,null,null,null,null,null,null,null,null,null,0]
[null,null,null,null,null,null,null,null,null,null,0]
[null,null,null,null,null,null,null,null,null,null,0]
[null,null,null,null,null,null,null,null,null,null,0]
[null,null,null,null,null,null,null,null,null,null,0]
[null,null,null,null,null,null,null,null,null,null,0]
[null,null,null,null,null,null,null,null,null,null,0]
["TOT Jour",null,{"$f":"SUM(C40:C89)","v":0},{"$f":"SUM(D40:D89)","v":0},0,0,0,0,0,0]
["TOT Période",null,{"$f":"SUM(C90:J90)","v":0}]
[{"$f":"B9","v":3}]
[]
[]
["Période :",{"$f":"Accueil!$A42","v":"P2"},{"$f":"Accueil!$B42","v":"du"},{"$f":"Accueil!$C42","v":"2014-11-02"},{"$f":"Accueil!$D42","v":"au"},{"$f":"Accueil!$E42","v":"2014-12-18"}]
["Selectionnez la classe participant à l'atelier :"]
["NOM","Prénom","2014-05-25","2014-05-26","2014-05-27","2014-05-28","2014-05-29","2014-05-30","2014-05-31","2014-06-01","TOT"]
[null,null,null,null,null,null,null,null,null,null,{"$f":"SUM(C98:J98)","v":0}]
[null,null,null,null,null,null,null,null,null,null,{"$f":"SUM(C99:J99)","v":0}]
[null,null,null,null,null,null,null,null,null,null,0]
[null,null,null,null,null,null,null,null,null,null,0]
[null,null,null,null,null,null,null,null,null,null,0]
[null,null,null,null,null,null,null,null,null,null,0]
[null,null,null,null,null,null,null,null,null,null,0]
[null,null,null,null,null,null,null,null,null,null,0]
[null,null,null,null,null,null,null,null,null,null,0]
[null,null,null,null,null,null,null,null,null,null,0]
[null,null,null,null,null,null,null,null,null,null,0]
[null,null,null,null,null,null,null,null,null,null,0]
[null,null,null,null,null,null,null,null,null,null,0]
[null,null,null,null,null,null,null,null,null,null,0]
[null,null,null,null,null,null,null,null,null,null,0]
[null,null,null,null,null,null,null,null,null,null,0]
[null,null,null,null,null,null,null,null,null,null,0]
[null,null,null,null,null,null,null,null,null,null,0]
[null,null,null,null,null,null,null,null,null,null,0]
[null,null,null,null,null,null,null,null,null,null,0]
[null,null,null,null,null,null,null,null,null,null,0]
[null,null,null,null,null,null,null,null,null,null,0]
[null,null,null,null,null,null,null,null,null,null,0]
[null,null,null,null,null,null,null,null,null,null,0]
[null,null,null,null,null,null,null,null,null,null,0]
[null,null,null,null,null,null,null,null,null,null,{"$f":"SUM(C123:J123)","v":0}]
[null,null,null,null,null,null,null,null,null,null,{"$f":"SUM(C124:J124)","v":0}]
[null,null,null,null,null,null,null,null,null,null,0]
[null,null,null,null,null,null,null,null,null,null,0]
[null,null,null,null,null,null,null,null,null,null,0]
[null,null,null,null,null,null,null,null,null,null,0]
[null,null,null,null,null,null,null,null,null,null,0]
[null,null,null,null,null,null,null,null,null,null,0]
[null,null,null,null,null,null,null,null,null,null,0]
[null,null,null,null,null,null,null,null,null,null,0]
[null,null,null,null,null,null,null,null,null,null,0]
[null,null,null,null,null,null,null,null,null,null,0]
[null,null,null,null,null,null,null,null,null,null,0]
[null,null,null,null,null,null,null,null,null,null,0]
[null,null,null,null,null,null,null,null,null,null,0]
[null,null,null,null,null,null,null,null,null,null,0]
[null,null,null,null,null,null,null,null,null,null,0]
[null,null,null,null,null,null,null,null,null,null,0]
[null,null,null,null,null,null,null,null,null,null,0]
[null,null,null,null,null,null,null,null,null,null,0]
[null,null,null,null,null,null,null,null,null,null,0]
[null,null,null,null,null,null,null,null,null,null,0]
[null,null,null,null,null,null,null,null,null,null,0]
[null,null,null,null,null,null,null,null,null,null,0]
[null,null,null,null,null,null,null,null,null,null,0]
["TOT Jour",null,{"$f":"SUM(C98:C147)","v":0},{"$f":"SUM(D98:D147)","v":0},0,0,0,0,0,0]
["TOT Période",null,{"$f":"SUM(C148:J148)","v":0}]
[{"$f":"B9","v":3}]
[]
[]
["Période :",{"$f":"Accueil!A43","v":"P3"},{"$f":"Accueil!$B43","v":"du"},{"$f":"Accueil!$C43","v":"2015-01-04"},{"$f":"Accueil!$D43","v":"au"},{"$f":"Accueil!$E43","v":"2015-02-20"}]
["Selectionnez la classe participant à l'atelier :"]
["NOM","Prénom","2014-05-25","2014-05-26","2014-05-27","2014-05-28","2014-05-29","2014-05-30","2014-05-31","2014-06-01","TOT"]
[null,null,null,null,null,null,null,null,null,null,{"$f":"SUM(C156:J156)","v":0}]
[null,null,null,null,null,null,null,null,null,null,{"$f":"SUM(C157:J157)","v":0}]
[null,null,null,null,null,null,null,null,null,null,0]
[null,null,null,null,null,null,null,null,null,null,0]
[null,null,null,null,null,null,null,null,null,null,0]
[null,null,null,null,null,null,null,null,null,null,0]
[null,null,null,null,null,null,null,null,null,null,0]
[null,null,null,null,null,null,null,null,null,null,0]
[null,null,null,null,null,null,null,null,null,null,0]
[null,null,null,null,null,null,null,null,null,null,0]
[null,null,null,null,null,null,null,null,null,null,0]
[null,null,null,null,null,null,null,null,null,null,0]
[null,null,null,null,null,null,null,null,null,null,0]
[null,null,null,null,null,null,null,null,null,null,0]
[null,null,null,null,null,null,null,null,null,null,0]
[null,null,null,null,null,null,null,null,null,null,0]
[null,null,null,null,null,null,null,null,null,null,0]
[null,null,null,null,null,null,null,null,null,null,0]
[null,null,null,null,null,null,null,null,null,null,0]
[null,null,null,null,null,null,null,null,null,null,0]
[null,null,null,null,null,null,null,null,null,null,0]
[null,null,null,null,null,null,null,null,null,null,0]
[null,null,null,null,null,null,null,null,null,null,0]
[null,null,null,null,null,null,null,null,null,null,0]
[null,null,null,null,null,null,null,null,null,null,0]
[null,null,null,null,null,null,null,null,null,null,{"$f":"SUM(C181:J181)","v":0}]
[null,null,null,null,null,null,null,null,null,null,{"$f":"SUM(C182:J182)","v":0}]
[null,null,null,null,null,null,null,null,null,null,0]
[null,null,null,null,null,null,null,null,null,null,0]
[null,null,null,null,null,null,null,null,null,null,0]
[null,null,null,null,null,null,null,null,null,null,0]
[null,null,null,null,null,null,null,null,null,null,0]
[null,null,null,null,null,null,null,null,null,null,0]
[null,null,null,null,null,null,null,null,null,null,0]
[null,null,null,null,null,null,null,null,null,null,0]
[null,null,null,null,null,null,null,null,null,null,0]
[null,null,null,null,null,null,null,null,null,null,0]
[null,null,null,null,null,null,null,null,null,null,0]
[null,null,null,null,null,null,null,null,null,null,0]
[null,null,null,null,null,null,null,null,null,null,0]
[null,null,null,null,null,null,null,null,null,null,0]
[null,null,null,null,null,null,null,null,null,null,0]
[null,null,null,null,null,null,null,null,null,null,0]
[null,null,null,null,null,null,null,null,null,null,0]
[null,null,null,null,null,null,null,null,null,null,0]
[null,null,null,null,null,null,null,null,null,null,0]
[null,null,null,null,null,null,null,null,null,null,0]
[null,null,null,null,null,null,null,null,null,null,0]
[null,null,null,null,null,null,null,null,null,null,0]
[null,null,null,null,null,null,null,null,null,null,0]
["TOT Jour",null,{"$f":"SUM(C156:C205)","v":0},{"$f":"SUM(D156:D205)","v":0},0,0,0,0,0,0]
["TOT Période",null,{"$f":"SUM(C206:J206)","v":0}]
[{"$f":"B9","v":3}]
[]
[]
["Période :",{"$f":"Accueil!A44","v":"P4"},{"$f":"Accueil!$B44","v":"du"},{"$f":"Accueil!$C44","v":"2015-03-08"},{"$f":"Accueil!$D44","v":"au"},{"$f":"Accueil!$E44","v":"2015-04-15"}]
["Selectionnez la classe participant à l'atelier :"]
["NOM","Prénom","2014-05-25","2014-05-26","2014-05-27","2014-05-28","2014-05-29","2014-05-30","2014-05-31","2014-06-01","TOT"]
[null,null,null,null,null,null,null,null,null,null,{"$f":"SUM(C214:J214)","v":0}]
[null,null,null,null,null,null,null,null,null,null,{"$f":"SUM(C215:J215)","v":0}]
[null,null,null,null,null,null,null,null,null,null,0]
[null,null,null,null,null,null,null,null,null,null,0]
[null,null,null,null,null,null,null,null,null,null,0]
[null,null,null,null,null,null,null,null,null,null,0]
[null,null,null,null,null,null,null,null,null,null,0]
[null,null,null,null,null,null,null,null,null,null,0]
[null,null,null,null,null,null,null,null,null,null,0]
[null,null,null,null,null,null,null,null,null,null,0]
[null,null,null,null,null,null,null,null,null,null,0]
[null,null,null,null,null,null,null,null,null,null,0]
[null,null,null,null,null,null,null,null,null,null,0]
[null,null,null,null,null,null,null,null,null,null,0]
[null,null,null,null,null,null,null,null,null,null,0]
[null,null,null,null,null,null,null,null,null,null,0]
[null,null,null,null,null,null,null,null,null,null,0]
[null,null,null,null,null,null,null,null,null,null,0]
[null,null,null,null,null,null,null,null,null,null,0]
[null,null,null,null,null,null,null,null,null,null,0]
[null,null,null,null,null,null,null,null,null,null,0]
[null,null,null,null,null,null,null,null,null,null,0]
[null,null,null,null,null,null,null,null,null,null,0]
[null,null,null,null,null,null,null,null,null,null,0]
[null,null,null,null,null,null,null,null,null,null,0]
[null,null,null,null,null,null,null,null,null,null,{"$f":"SUM(C239:J239)","v":0}]
[null,null,null,null,null,null,null,null,null,null,{"$f":"SUM(C240:J240)","v":0}]
[null,null,null,null,null,null,null,null,null,null,0]
[null,null,null,null,null,null,null,null,null,null,0]
[null,null,null,null,null,null,null,null,null,null,0]
[null,null,null,null,null,null,null,null,null,null,0]
[null,null,null,null,null,null,null,null,null,null,0]
[null,null,null,null,null,null,null,null,null,null,0]
[null,null,null,null,null,null,null,null,null,null,0]
[null,null,null,null,null,null,null,null,null,null,0]
[null,null,null,null,null,null,null,null,null,null,0]
[null,null,null,null,null,null,null,null,null,null,0]
[null,null,null,null,null,null,null,null,null,null,0]
[null,null,null,null,null,null,null,null,null,null,0]
[null,null,null,null,null,null,null,null,null,null,0]
[null,null,null,null,null,null,null,null,null,null,0]
[null,null,null,null,null,null,null,null,null,null,0]
[null,null,null,null,null,null,null,null,null,null,0]
[null,null,null,null,null,null,null,null,null,null,0]
[null,null,null,null,null,null,null,null,null,null,0]
[null,null,null,null,null,null,null,null,null,null,0]
[null,null,null,null,null,null,null,null,null,null,0]
[null,null,null,null,null,null,null,null,null,null,0]
[null,null,null,null,null,null,null,null,null,null,0]
[null,null,null,null,null,null,null,null,null,null,0]
["TOT Jour",null,{"$f":"SUM(C214:C263)","v":0},{"$f":"SUM(D214:D263)","v":0},0,0,0,0,0,0]
["TOT Période",null,{"$f":"SUM(C264:J264)","v":0}]
[{"$f":"B9","v":3}]
[]
[]
["Période :",{"$f":"Accueil!A45","v":"P5"},{"$f":"Accueil!$B45","v":"du"},{"$f":"Accueil!$C45","v":"2015-05-02"},{"$f":"Accueil!$D45","v":"au"},{"$f":"Accueil!$E45","v":"2015-07-03"}]
["Selectionnez la classe participant à l'atelier :"]
["NOM","Prénom","2014-05-25","2014-05-26","2014-05-27","2014-05-28","2014-05-29","2014-05-30","2014-05-31","2014-06-01","TOT"]
[null,null,null,null,null,null,null,null,null,null,{"$f":"SUM(C272:J272)","v":0}]
[null,null,null,null,null,null,null,null,null,null,{"$f":"SUM(C273:J273)","v":0}]
[null,null,null,null,null,null,null,null,null,null,0]
[null,null,null,null,null,null,null,null,null,null,0]
[null,null,null,null,null,null,null,null,null,null,0]
[null,null,null,null,null,null,null,null,null,null,0]
[null,null,null,null,null,null,null,null,null,null,0]
[null,null,null,null,null,null,null,null,null,null,0]
[null,null,null,null,null,null,null,null,null,null,0]
[null,null,null,null,null,null,null,null,null,null,0]
[null,null,null,null,null,null,null,null,null,null,0]
[null,null,null,null,null,null,null,null,null,null,0]
[null,null,null,null,null,null,null,null,null,null,0]
[null,null,null,null,null,null,null,null,null,null,0]
[null,null,null,null,null,null,null,null,null,null,0]
[null,null,null,null,null,null,null,null,null,null,0]
[null,null,null,null,null,null,null,null,null,null,0]
[null,null,null,null,null,null,null,null,null,null,0]
[null,null,null,null,null,null,null,null,null,null,0]
[null,null,null,null,null,null,null,null,null,null,0]
[null,null,null,null,null,null,null,null,null,null,0]
[null,null,null,null,null,null,null,null,null,null,0]
[null,null,null,null,null,null,null,null,null,null,0]
[null,null,null,null,null,null,null,null,null,null,0]
[null,null,null,null,null,null,null,null,null,null,0]
[null,null,null,null,null,null,null,null,null,null,{"$f":"SUM(C297:J297)","v":0}]
[null,null,null,null,null,null,null,null,null,null,{"$f":"SUM(C298:J298)","v":0}]
[null,null,null,null,null,null,null,null,null,null,0]
[null,null,null,null,null,null,null,null,null,null,0]
[null,null,null,null,null,null,null,null,null,null,0]
[null,null,null,null,null,null,null,null,null,null,0]
[null,null,null,null,null,null,null,null,null,null,0]
[null,null,null,null,null,null,null,null,null,null,0]
[null,null,null,null,null,null,null,null,null,null,0]
[null,null,null,null,null,null,null,null,null,null,0]
[null,null,null,null,null,null,null,null,null,null,0]
[null,null,null,null,null,null,null,null,null,null,0]
[null,null,null,null,null,null,null,null,null,null,0]
[null,null,null,null,null,null,null,null,null,null,0]
[null,null,null,null,null,null,null,null,null,null,0]
[null,null,null,null,null,null,null,null,null,null,0]
[null,null,null,null,null,null,null,null,null,null,0]
[null,null,null,null,null,null,null,null,null,null,0]
[null,null,null,null,null,null,null,null,null,null,0]
[null,null,null,null,null,null,null,null,null,null,0]
[null,null,null,null,null,null,null,null,null,null,0]
[null,null,null,null,null,null,null,null,null,null,0]
[null,null,null,null,null,null,null,null,null,null,0]
[null,null,null,null,null,null,null,null,null,null,0]
[null,null,null,null,null,null,null,null,null,null,0]
["TOT Jour",null,{"$f":"SUM(C272:C321)","v":0},{"$f":"SUM(D272:D321)","v":0},0,0,0,0,0,0]
["TOT Période",null,{"$f":"SUM(C322:J322)","v":0}]
["Statistiques"]
[]
[]
["Nombre d'heure de fréquentation :"]
[{"$f":"Accueil!$A41","v":"P1"},{"$f":"$C$91*1.5","v":0},"heures de présence pour cet atelier et pour cette période"]
[{"$f":"Accueil!$A42","v":"P2"},{"$f":"$C$149*1.5","v":0},"heures de présence pour cet atelier et pour cette période"]
[{"$f":"Accueil!$A43","v":"P3"},{"$f":"$C$207*1.5","v":0},"heures de présence pour cet atelier et pour cette période"]
[{"$f":"Accueil!$A44","v":"P4"},{"$f":"$C$265*1.5","v":0},"heures de présence pour cet atelier et pour cette période"]
[{"$f":"Accueil!$A45","v":"P5"},{"$f":"$C$323*1.5","v":0},"heures de présence pour cet atelier et pour cette période"]
["TOT",{"$f":"SUM($B$328:$B$332)","v":0},"heures de présence pour cet atelier et pour l'année"]

{"sheet":"4","index":19,"n_rows":333,"n_cols":11,"rows_kept":333,"cut":false,"hidden":true,"merged":[[90,0,90,1],[90,2,90,9],[8,1,15,9],[33,0,34,10],[37,0,37,3],[37,4,37,5],[89,0,89,1],[91,0,92,10],[95,0,95,3],[95,4,95,5],[147,0,147,1],[148,0,148,1],[148,2,148,9],[149,0,150,10],[153,0,153,3],[153,4,153,5],[205,0,205,1],[206,0,206,1],[206,2,206,9],[207,0,208,10],[211,0,211,3],[211,4,211,5],[263,0,263,1],[264,0,264,1],[264,2,264,9],[265,0,266,10],[269,0,269,3],[269,4,269,5],[321,0,321,1],[322,0,322,1],[322,2,322,9],[332,2,332,6],[323,0,324,10],[327,2,327,6],[328,2,328,6],[329,2,329,6],[330,2,330,6],[331,2,331,6]]}
[]
[]
[]
[]
[]
[]
[]
[]
[null,{"$f":"Accueil!B25","v":4}]
[]
[]
[]
[]
[]
[]
[]
[]
[]
[]
[]
[]
[]
[]
[]
[]
[]
[]
[]
[]
[]
[]
[]
[]
[{"$f":"B9","v":4}]
[]
[]
["Période :",{"$f":"Accueil!$A$41","v":"P1"},{"$f":"Accueil!$B$41","v":"du"},{"$f":"Accueil!$C$41","v":"2014-09-02"},{"$f":"Accueil!$D$41","v":"au"},{"$f":"Accueil!$E$41","v":"2014-10-18"}]
["Selectionnez la classe participant à l'atelier :"]
["NOM","Prénom","2014-09-02","2014-05-26","2014-05-27","2014-05-28","2014-05-29","2014-05-30","2014-05-31","2014-06-01","TOT"]
[null,null,null,null,null,null,null,null,null,null,{"$f":"SUM(C40:J40)","v":0}]
[null,null,null,null,null,null,null,null,null,null,{"$f":"SUM(C41:J41)","v":0}]
[null,null,null,null,null,null,null,null,null,null,0]
[null,null,null,null,null,null,null,null,null,null,0]
[null,null,null,null,null,null,null,null,null,null,0]
[null,null,null,null,null,null,null,null,null,null,0]
[null,null,null,null,null,null,null,null,null,null,0]
[null,null,null,null,null,null,null,null,null,null,0]
[null,null,null,null,null,null,null,null,null,null,0]
[null,null,null,null,null,null,null,null,null,null,0]
[null,null,null,null,null,null,null,null,null,null,0]
[null,null,null,null,null,null,null,null,null,null,0]
[null,null,null,null,null,null,null,null,null,null,0]
[null,null,null,null,null,null,null,null,null,null,0]
[null,null,null,null,null,null,null,null,null,null,0]
[null,null,null,null,null,null,null,null,null,null,0]
[null,null,null,null,null,null,null,null,null,null,0]
[null,null,null,null,null,null,null,null,null,null,0]
[null,null,null,null,null,null,null,null,null,null,0]
[null,null,null,null,null,null,null,null,null,null,0]
[null,null,null,null,null,null,null,null,null,null,0]
[null,null,null,null,null,null,null,null,null,null,0]
[null,null,null,null,null,null,null,null,null,null,0]
[null,null,null,null,null,null,null,null,null,null,0]
[null,null,null,null,null,null,null,null,null,null,0]
[null,null,null,null,null,null,null,null,null,null,{"$f":"SUM(C65:J65)","v":0}]
[null,null,null,null,null,null,null,null,null,null,{"$f":"SUM(C66:J66)","v":0}]
[null,null,null,null,null,null,null,null,null,null,0]
[null,null,null,null,null,null,null,null,null,null,0]
[null,null,null,null,null,null,null,null,null,null,0]
[null,null,null,null,null,null,null,null,null,null,0]
[null,null,null,null,null,null,null,null,null,null,0]
[null,null,null,null,null,null,null,null,null,null,0]
[null,null,null,null,null,null,null,null,null,null,0]
[null,null,null,null,null,null,null,null,null,null,0]
[null,null,null,null,null,null,null,null,null,null,0]
[null,null,null,null,null,null,null,null,null,null,0]
[null,null,null,null,null,null,null,null,null,null,0]
[null,null,null,null,null,null,null,null,null,null,0]
[null,null,null,null,null,null,null,null,null,null,0]
[null,null,null,null,null,null,null,null,null,null,0]
[null,null,null,null,null,null,null,null,null,null,0]
[null,null,null,null,null,null,null,null,null,null,0]
[null,null,null,null,null,null,null,null,null,null,0]
[null,null,null,null,null,null,null,null,null,null,0]
[null,null,null,null,null,null,null,null,null,null,0]
[null,null,null,null,null,null,null,null,null,null,0]
[null,null,null,null,null,null,null,null,null,null,0]
[null,null,null,null,null,null,null,null,null,null,0]
[null,null,null,null,null,null,null,null,null,null,0]
["TOT Jour",null,{"$f":"SUM(C40:C89)","v":0},{"$f":"SUM(D40:D89)","v":0},0,0,0,0,0,0]
["TOT Période",null,{"$f":"SUM(C90:J90)","v":0}]
[{"$f":"B9","v":4}]
[]
[]
["Période :",{"$f":"Accueil!$A42","v":"P2"},{"$f":"Accueil!$B42","v":"du"},{"$f":"Accueil!$C42","v":"2014-11-02"},{"$f":"Accueil!$D42","v":"au"},{"$f":"Accueil!$E42","v":"2014-12-18"}]
["Selectionnez la classe participant à l'atelier :"]
["NOM","Prénom","2014-05-25","2014-05-26","2014-05-27","2014-05-28","2014-05-29","2014-05-30","2014-05-31","2014-06-01","TOT"]
[null,null,null,null,null,null,null,null,null,null,{"$f":"SUM(C98:J98)","v":0}]
[null,null,null,null,null,null,null,null,null,null,{"$f":"SUM(C99:J99)","v":0}]
[null,null,null,null,null,null,null,null,null,null,0]
[null,null,null,null,null,null,null,null,null,null,0]
[null,null,null,null,null,null,null,null,null,null,0]
[null,null,null,null,null,null,null,null,null,null,0]
[null,null,null,null,null,null,null,null,null,null,0]
[null,null,null,null,null,null,null,null,null,null,0]
[null,null,null,null,null,null,null,null,null,null,0]
[null,null,null,null,null,null,null,null,null,null,0]
[null,null,null,null,null,null,null,null,null,null,0]
[null,null,null,null,null,null,null,null,null,null,0]
[null,null,null,null,null,null,null,null,null,null,0]
[null,null,null,null,null,null,null,null,null,null,0]
[null,null,null,null,null,null,null,null,null,null,0]
[null,null,null,null,null,null,null,null,null,null,0]
[null,null,null,null,null,null,null,null,null,null,0]
[null,null,null,null,null,null,null,null,null,null,0]
[null,null,null,null,null,null,null,null,null,null,0]
[null,null,null,null,null,null,null,null,null,null,0]
[null,null,null,null,null,null,null,null,null,null,0]
[null,null,null,null,null,null,null,null,null,null,0]
[null,null,null,null,null,null,null,null,null,null,0]
[null,null,null,null,null,null,null,null,null,null,0]
[null,null,null,null,null,null,null,null,null,null,0]
[null,null,null,null,null,null,null,null,null,null,{"$f":"SUM(C123:J123)","v":0}]
[null,null,null,null,null,null,null,null,null,null,{"$f":"SUM(C124:J124)","v":0}]
[null,null,null,null,null,null,null,null,null,null,0]
[null,null,null,null,null,null,null,null,null,null,0]
[null,null,null,null,null,null,null,null,null,null,0]
[null,null,null,null,null,null,null,null,null,null,0]
[null,null,null,null,null,null,null,null,null,null,0]
[null,null,null,null,null,null,null,null,null,null,0]
[null,null,null,null,null,null,null,null,null,null,0]
[null,null,null,null,null,null,null,null,null,null,0]
[null,null,null,null,null,null,null,null,null,null,0]
[null,null,null,null,null,null,null,null,null,null,0]
[null,null,null,null,null,null,null,null,null,null,0]
[null,null,null,null,null,null,null,null,null,null,0]
[null,null,null,null,null,null,null,null,null,null,0]
[null,null,null,null,null,null,null,null,null,null,0]
[null,null,null,null,null,null,null,null,null,null,0]
[null,null,null,null,null,null,null,null,null,null,0]
[null,null,null,null,null,null,null,null,null,null,0]
[null,null,null,null,null,null,null,null,null,null,0]
[null,null,null,null,null,null,null,null,null,null,0]
[null,null,null,null,null,null,null,null,null,null,0]
[null,null,null,null,null,null,null,null,null,null,0]
[null,null,null,null,null,null,null,null,null,null,0]
[null,null,null,null,null,null,null,null,null,null,0]
["TOT Jour",null,{"$f":"SUM(C98:C147)","v":0},{"$f":"SUM(D98:D147)","v":0},0,0,0,0,0,0]
["TOT Période",null,{"$f":"SUM(C148:J148)","v":0}]
[{"$f":"B9","v":4}]
[]
[]
["Période :",{"$f":"Accueil!A43","v":"P3"},{"$f":"Accueil!$B43","v":"du"},{"$f":"Accueil!$C43","v":"2015-01-04"},{"$f":"Accueil!$D43","v":"au"},{"$f":"Accueil!$E43","v":"2015-02-20"}]
["Selectionnez la classe participant à l'atelier :"]
["NOM","Prénom","2014-05-25","2014-05-26","2014-05-27","2014-05-28","2014-05-29","2014-05-30","2014-05-31","2014-06-01","TOT"]
[null,null,null,null,null,null,null,null,null,null,{"$f":"SUM(C156:J156)","v":0}]
[null,null,null,null,null,null,null,null,null,null,{"$f":"SUM(C157:J157)","v":0}]
[null,null,null,null,null,null,null,null,null,null,0]
[null,null,null,null,null,null,null,null,null,null,0]
[null,null,null,null,null,null,null,null,null,null,0]
[null,null,null,null,null,null,null,null,null,null,0]
[null,null,null,null,null,null,null,null,null,null,0]
[null,null,null,null,null,null,null,null,null,null,0]
[null,null,null,null,null,null,null,null,null,null,0]
[null,null,null,null,null,null,null,null,null,null,0]
[null,null,null,null,null,null,null,null,null,null,0]
[null,null,null,null,null,null,null,null,null,null,0]
[null,null,null,null,null,null,null,null,null,null,0]
[null,null,null,null,null,null,null,null,null,null,0]
[null,null,null,null,null,null,null,null,null,null,0]
[null,null,null,null,null,null,null,null,null,null,0]
[null,null,null,null,null,null,null,null,null,null,0]
[null,null,null,null,null,null,null,null,null,null,0]
[null,null,null,null,null,null,null,null,null,null,0]
[null,null,null,null,null,null,null,null,null,null,0]
[null,null,null,null,null,null,null,null,null,null,0]
[null,null,null,null,null,null,null,null,null,null,0]
[null,null,null,null,null,null,null,null,null,null,0]
[null,null,null,null,null,null,null,null,null,null,0]
[null,null,null,null,null,null,null,null,null,null,0]
[null,null,null,null,null,null,null,null,null,null,{"$f":"SUM(C181:J181)","v":0}]
[null,null,null,null,null,null,null,null,null,null,{"$f":"SUM(C182:J182)","v":0}]
[null,null,null,null,null,null,null,null,null,null,0]
[null,null,null,null,null,null,null,null,null,null,0]
[null,null,null,null,null,null,null,null,null,null,0]
[null,null,null,null,null,null,null,null,null,null,0]
[null,null,null,null,null,null,null,null,null,null,0]
[null,null,null,null,null,null,null,null,null,null,0]
[null,null,null,null,null,null,null,null,null,null,0]
[null,null,null,null,null,null,null,null,null,null,0]
[null,null,null,null,null,null,null,null,null,null,0]
[null,null,null,null,null,null,null,null,null,null,0]
[null,null,null,null,null,null,null,null,null,null,0]
[null,null,null,null,null,null,null,null,null,null,0]
[null,null,null,null,null,null,null,null,null,null,0]
[null,null,null,null,null,null,null,null,null,null,0]
[null,null,null,null,null,null,null,null,null,null,0]
[null,null,null,null,null,null,null,null,null,null,0]
[null,null,null,null,null,null,null,null,null,null,0]
[null,null,null,null,null,null,null,null,null,null,0]
[null,null,null,null,null,null,null,null,null,null,0]
[null,null,null,null,null,null,null,null,null,null,0]
[null,null,null,null,null,null,null,null,null,null,0]
[null,null,null,null,null,null,null,null,null,null,0]
[null,null,null,null,null,null,null,null,null,null,0]
["TOT Jour",null,{"$f":"SUM(C156:C205)","v":0},{"$f":"SUM(D156:D205)","v":0},0,0,0,0,0,0]
["TOT Période",null,{"$f":"SUM(C206:J206)","v":0}]
[{"$f":"B9","v":4}]
[]
[]
["Période :",{"$f":"Accueil!A44","v":"P4"},{"$f":"Accueil!$B44","v":"du"},{"$f":"Accueil!$C44","v":"2015-03-08"},{"$f":"Accueil!$D44","v":"au"},{"$f":"Accueil!$E44","v":"2015-04-15"}]
["Selectionnez la classe participant à l'atelier :"]
["NOM","Prénom","2014-05-25","2014-05-26","2014-05-27","2014-05-28","2014-05-29","2014-05-30","2014-05-31","2014-06-01","TOT"]
[null,null,null,null,null,null,null,null,null,null,{"$f":"SUM(C214:J214)","v":0}]
[null,null,null,null,null,null,null,null,null,null,{"$f":"SUM(C215:J215)","v":0}]
[null,null,null,null,null,null,null,null,null,null,0]
[null,null,null,null,null,null,null,null,null,null,0]
[null,null,null,null,null,null,null,null,null,null,0]
[null,null,null,null,null,null,null,null,null,null,0]
[null,null,null,null,null,null,null,null,null,null,0]
[null,null,null,null,null,null,null,null,null,null,0]
[null,null,null,null,null,null,null,null,null,null,0]
[null,null,null,null,null,null,null,null,null,null,0]
[null,null,null,null,null,null,null,null,null,null,0]
[null,null,null,null,null,null,null,null,null,null,0]
[null,null,null,null,null,null,null,null,null,null,0]
[null,null,null,null,null,null,null,null,null,null,0]
[null,null,null,null,null,null,null,null,null,null,0]
[null,null,null,null,null,null,null,null,null,null,0]
[null,null,null,null,null,null,null,null,null,null,0]
[null,null,null,null,null,null,null,null,null,null,0]
[null,null,null,null,null,null,null,null,null,null,0]
[null,null,null,null,null,null,null,null,null,null,0]
[null,null,null,null,null,null,null,null,null,null,0]
[null,null,null,null,null,null,null,null,null,null,0]
[null,null,null,null,null,null,null,null,null,null,0]
[null,null,null,null,null,null,null,null,null,null,0]
[null,null,null,null,null,null,null,null,null,null,0]
[null,null,null,null,null,null,null,null,null,null,{"$f":"SUM(C239:J239)","v":0}]
[null,null,null,null,null,null,null,null,null,null,{"$f":"SUM(C240:J240)","v":0}]
[null,null,null,null,null,null,null,null,null,null,0]
[null,null,null,null,null,null,null,null,null,null,0]
[null,null,null,null,null,null,null,null,null,null,0]
[null,null,null,null,null,null,null,null,null,null,0]
[null,null,null,null,null,null,null,null,null,null,0]
[null,null,null,null,null,null,null,null,null,null,0]
[null,null,null,null,null,null,null,null,null,null,0]
[null,null,null,null,null,null,null,null,null,null,0]
[null,null,null,null,null,null,null,null,null,null,0]
[null,null,null,null,null,null,null,null,null,null,0]
[null,null,null,null,null,null,null,null,null,null,0]
[null,null,null,null,null,null,null,null,null,null,0]
[null,null,null,null,null,null,null,null,null,null,0]
[null,null,null,null,null,null,null,null,null,null,0]
[null,null,null,null,null,null,null,null,null,null,0]
[null,null,null,null,null,null,null,null,null,null,0]
[null,null,null,null,null,null,null,null,null,null,0]
[null,null,null,null,null,null,null,null,null,null,0]
[null,null,null,null,null,null,null,null,null,null,0]
[null,null,null,null,null,null,null,null,null,null,0]
[null,null,null,null,null,null,null,null,null,null,0]
[null,null,null,null,null,null,null,null,null,null,0]
[null,null,null,null,null,null,null,null,null,null,0]
["TOT Jour",null,{"$f":"SUM(C214:C263)","v":0},{"$f":"SUM(D214:D263)","v":0},0,0,0,0,0,0]
["TOT Période",null,{"$f":"SUM(C264:J264)","v":0}]
[{"$f":"B9","v":4}]
[]
[]
["Période :",{"$f":"Accueil!A45","v":"P5"},{"$f":"Accueil!$B45","v":"du"},{"$f":"Accueil!$C45","v":"2015-05-02"},{"$f":"Accueil!$D45","v":"au"},{"$f":"Accueil!$E45","v":"2015-07-03"}]
["Selectionnez la classe participant à l'atelier :"]
["NOM","Prénom","2014-05-25","2014-05-26","2014-05-27","2014-05-28","2014-05-29","2014-05-30","2014-05-31","2014-06-01","TOT"]
[null,null,null,null,null,null,null,null,null,null,{"$f":"SUM(C272:J272)","v":0}]
[null,null,null,null,null,null,null,null,null,null,{"$f":"SUM(C273:J273)","v":0}]
[null,null,null,null,null,null,null,null,null,null,0]
[null,null,null,null,null,null,null,null,null,null,0]
[null,null,null,null,null,null,null,null,null,null,0]
[null,null,null,null,null,null,null,null,null,null,0]
[null,null,null,null,null,null,null,null,null,null,0]
[null,null,null,null,null,null,null,null,null,null,0]
[null,null,null,null,null,null,null,null,null,null,0]
[null,null,null,null,null,null,null,null,null,null,0]
[null,null,null,null,null,null,null,null,null,null,0]
[null,null,null,null,null,null,null,null,null,null,0]
[null,null,null,null,null,null,null,null,null,null,0]
[null,null,null,null,null,null,null,null,null,null,0]
[null,null,null,null,null,null,null,null,null,null,0]
[null,null,null,null,null,null,null,null,null,null,0]
[null,null,null,null,null,null,null,null,null,null,0]
[null,null,null,null,null,null,null,null,null,null,0]
[null,null,null,null,null,null,null,null,null,null,0]
[null,null,null,null,null,null,null,null,null,null,0]
[null,null,null,null,null,null,null,null,null,null,0]
[null,null,null,null,null,null,null,null,null,null,0]
[null,null,null,null,null,null,null,null,null,null,0]
[null,null,null,null,null,null,null,null,null,null,0]
[null,null,null,null,null,null,null,null,null,null,0]
[null,null,null,null,null,null,null,null,null,null,{"$f":"SUM(C297:J297)","v":0}]
[null,null,null,null,null,null,null,null,null,null,{"$f":"SUM(C298:J298)","v":0}]
[null,null,null,null,null,null,null,null,null,null,0]
[null,null,null,null,null,null,null,null,null,null,0]
[null,null,null,null,null,null,null,null,null,null,0]
[null,null,null,null,null,null,null,null,null,null,0]
[null,null,null,null,null,null,null,null,null,null,0]
[null,null,null,null,null,null,null,null,null,null,0]
[null,null,null,null,null,null,null,null,null,null,0]
[null,null,null,null,null,null,null,null,null,null,0]
[null,null,null,null,null,null,null,null,null,null,0]
[null,null,null,null,null,null,null,null,null,null,0]
[null,null,null,null,null,null,null,null,null,null,0]
[null,null,null,null,null,null,null,null,null,null,0]
[null,null,null,null,null,null,null,null,null,null,0]
[null,null,null,null,null,null,null,null,null,null,0]
[null,null,null,null,null,null,null,null,null,null,0]
[null,null,null,null,null,null,null,null,null,null,0]
[null,null,null,null,null,null,null,null,null,null,0]
[null,null,null,null,null,null,null,null,null,null,0]
[null,null,null,null,null,null,null,null,null,null,0]
[null,null,null,null,null,null,null,null,null,null,0]
[null,null,null,null,null,null,null,null,null,null,0]
[null,null,null,null,null,null,null,null,null,null,0]
[null,null,null,null,null,null,null,null,null,null,0]
["TOT Jour",null,{"$f":"SUM(C272:C321)","v":0},{"$f":"SUM(D272:D321)","v":0},0,0,0,0,0,0]
["TOT Période",null,{"$f":"SUM(C322:J322)","v":0}]
["Statistiques"]
[]
[]
["Nombre d'heure de fréquentation :"]
[{"$f":"Accueil!$A41","v":"P1"},{"$f":"$C$91*1.5","v":0},"heures de présence pour cet atelier et pour cette période"]
[{"$f":"Accueil!$A42","v":"P2"},{"$f":"$C$149*1.5","v":0},"heures de présence pour cet atelier et pour cette période"]
[{"$f":"Accueil!$A43","v":"P3"},{"$f":"$C$207*1.5","v":0},"heures de présence pour cet atelier et pour cette période"]
[{"$f":"Accueil!$A44","v":"P4"},{"$f":"$C$265*1.5","v":0},"heures de présence pour cet atelier et pour cette période"]
[{"$f":"Accueil!$A45","v":"P5"},{"$f":"$C$323*1.5","v":0},"heures de présence pour cet atelier et pour cette période"]
["TOT",{"$f":"SUM($B$328:$B$332)","v":0},"heures de présence pour cet atelier et pour l'année"]

{"sheet":"5","index":20,"n_rows":333,"n_cols":11,"rows_kept":333,"cut":false,"hidden":true,"merged":[[90,0,90,1],[90,2,90,9],[8,1,15,9],[33,0,34,10],[37,0,37,3],[37,4,37,5],[89,0,89,1],[91,0,92,10],[95,0,95,3],[95,4,95,5],[147,0,147,1],[148,0,148,1],[148,2,148,9],[149,0,150,10],[153,0,153,3],[153,4,153,5],[205,0,205,1],[206,0,206,1],[206,2,206,9],[207,0,208,10],[211,0,211,3],[211,4,211,5],[263,0,263,1],[264,0,264,1],[264,2,264,9],[265,0,266,10],[269,0,269,3],[269,4,269,5],[321,0,321,1],[322,0,322,1],[322,2,322,9],[332,2,332,6],[323,0,324,10],[327,2,327,6],[328,2,328,6],[329,2,329,6],[330,2,330,6],[331,2,331,6]]}
[]
[]
[]
[]
[]
[]
[]
[]
[null,{"$f":"Accueil!B26","v":5}]
[]
[]
[]
[]
[]
[]
[]
[]
[]
[]
[]
[]
[]
[]
[]
[]
[]
[]
[]
[]
[]
[]
[]
[]
[{"$f":"B9","v":5}]
[]
[]
["Période :",{"$f":"Accueil!$A$41","v":"P1"},{"$f":"Accueil!$B$41","v":"du"},{"$f":"Accueil!$C$41","v":"2014-09-02"},{"$f":"Accueil!$D$41","v":"au"},{"$f":"Accueil!$E$41","v":"2014-10-18"}]
["Selectionnez la classe participant à l'atelier :"]
["NOM","Prénom","2014-09-02","2014-05-26","2014-05-27","2014-05-28","2014-05-29","2014-05-30","2014-05-31","2014-06-01","TOT"]
["MARTIN","Alban",null,null,null,null,null,null,null,null,{"$f":"SUM(C40:J40)","v":0}]
["MARTIN","Nathan",null,null,null,null,null,null,null,null,{"$f":"SUM(C41:J41)","v":0}]
["MARTIN","Yoan",null,null,null,null,null,null,null,null,0]
["MARTIN","Chloé",null,null,null,null,null,null,null,null,0]
["MARTIN","Amélie",null,null,null,null,null,null,null,null,0]
["MARTIN","Johan",null,null,null,null,null,null,null,null,0]
["MARTIN","Luke",null,null,null,null,null,null,null,null,0]
["MARTIN","Lucie",null,null,null,null,null,null,null,null,0]
["MARTIN","Noémie",null,null,null,null,null,null,null,null,0]
["MARTIN","Yanis",null,null,null,null,null,null,null,null,0]
["MARTIN","Thalia",null,null,null,null,null,null,null,null,0]
["MARTIN","Arthur",null,null,null,null,null,null,null,null,0]
["MARTIN","Woody",null,null,null,null,null,null,null,null,0]
["MARTIN","Alyssa",null,null,null,null,null,null,null,null,0]
["MARTIN","Antonin",null,null,null,null,null,null,null,null,0]
["MARTIN","Louanne",null,null,null,null,null,null,null,null,0]
["MARTIN","Samia",null,null,null,null,null,null,null,null,0]
["MARTIN","Clarence",null,null,null,null,null,null,null,null,0]
["MARTIN","Gabriel",null,null,null,null,null,null,null,null,0]
["MARTIN","Jade",null,null,null,null,null,null,null,null,0]
["MARTIN","Mathéo",null,null,null,null,null,null,null,null,0]
[null,null,null,null,null,null,null,null,null,null,0]
[null,null,null,null,null,null,null,null,null,null,0]
[null,null,null,null,null,null,null,null,null,null,0]
[null,null,null,null,null,null,null,null,null,null,0]
[null,null,null,null,null,null,null,null,null,null,{"$f":"SUM(C65:J65)","v":0}]
[null,null,null,null,null,null,null,null,null,null,{"$f":"SUM(C66:J66)","v":0}]
[null,null,null,null,null,null,null,null,null,null,0]
[null,null,null,null,null,null,null,null,null,null,0]
[null,null,null,null,null,null,null,null,null,null,0]
[null,null,null,null,null,null,null,null,null,null,0]
[null,null,null,null,null,null,null,null,null,null,0]
[null,null,null,null,null,null,null,null,null,null,0]
[null,null,null,null,null,null,null,null,null,null,0]
[null,null,null,null,null,null,null,null,null,null,0]
[null,null,null,null,null,null,null,null,null,null,0]
[null,null,null,null,null,null,null,null,null,null,0]
[null,null,null,null,null,null,null,null,null,null,0]
[null,null,null,null,null,null,null,null,null,null,0]
[null,null,null,null,null,null,null,null,null,null,0]
[null,null,null,null,null,null,null,null,null,null,0]
[null,null,null,null,null,null,null,null,null,null,0]
[null,null,null,null,null,null,null,null,null,null,0]
[null,null,null,null,null,null,null,null,null,null,0]
[null,null,null,null,null,null,null,null,null,null,0]
[null,null,null,null,null,null,null,null,null,null,0]
[null,null,null,null,null,null,null,null,null,null,0]
[null,null,null,null,null,null,null,null,null,null,0]
[null,null,null,null,null,null,null,null,null,null,0]
[null,null,null,null,null,null,null,null,null,null,0]
["TOT Jour",null,{"$f":"SUM(C40:C89)","v":0},{"$f":"SUM(D40:D89)","v":0},0,0,0,0,0,0]
["TOT Période",null,{"$f":"SUM(C90:J90)","v":0}]
[{"$f":"B9","v":5}]
[]
[]
["Période :",{"$f":"Accueil!$A42","v":"P2"},{"$f":"Accueil!$B42","v":"du"},{"$f":"Accueil!$C42","v":"2014-11-02"},{"$f":"Accueil!$D42","v":"au"},{"$f":"Accueil!$E42","v":"2014-12-18"}]
["Selectionnez la classe participant à l'atelier :"]
["NOM","Prénom","2014-05-25","2014-05-26","2014-05-27","2014-05-28","2014-05-29","2014-05-30","2014-05-31","2014-06-01","TOT"]
[null,null,null,null,null,null,null,null,null,null,{"$f":"SUM(C98:J98)","v":0}]
[null,null,null,null,null,null,null,null,null,null,{"$f":"SUM(C99:J99)","v":0}]
[null,null,null,null,null,null,null,null,null,null,0]
[null,null,null,null,null,null,null,null,null,null,0]
[null,null,null,null,null,null,null,null,null,null,0]
[null,null,null,null,null,null,null,null,null,null,0]
[null,null,null,null,null,null,null,null,null,null,0]
[null,null,null,null,null,null,null,null,null,null,0]
[null,null,null,null,null,null,null,null,null,null,0]
[null,null,null,null,null,null,null,null,null,null,0]
[null,null,null,null,null,null,null,null,null,null,0]
[null,null,null,null,null,null,null,null,null,null,0]
[null,null,null,null,null,null,null,null,null,null,0]
[null,null,null,null,null,null,null,null,null,null,0]
[null,null,null,null,null,null,null,null,null,null,0]
[null,null,null,null,null,null,null,null,null,null,0]
[null,null,null,null,null,null,null,null,null,null,0]
[null,null,null,null,null,null,null,null,null,null,0]
[null,null,null,null,null,null,null,null,null,null,0]
[null,null,null,null,null,null,null,null,null,null,0]
[null,null,null,null,null,null,null,null,null,null,0]
[null,null,null,null,null,null,null,null,null,null,0]
[null,null,null,null,null,null,null,null,null,null,0]
[null,null,null,null,null,null,null,null,null,null,0]
[null,null,null,null,null,null,null,null,null,null,0]
[null,null,null,null,null,null,null,null,null,null,{"$f":"SUM(C123:J123)","v":0}]
[null,null,null,null,null,null,null,null,null,null,{"$f":"SUM(C124:J124)","v":0}]
[null,null,null,null,null,null,null,null,null,null,0]
[null,null,null,null,null,null,null,null,null,null,0]
[null,null,null,null,null,null,null,null,null,null,0]
[null,null,null,null,null,null,null,null,null,null,0]
[null,null,null,null,null,null,null,null,null,null,0]
[null,null,null,null,null,null,null,null,null,null,0]
[null,null,null,null,null,null,null,null,null,null,0]
[null,null,null,null,null,null,null,null,null,null,0]
[null,null,null,null,null,null,null,null,null,null,0]
[null,null,null,null,null,null,null,null,null,null,0]
[null,null,null,null,null,null,null,null,null,null,0]
[null,null,null,null,null,null,null,null,null,null,0]
[null,null,null,null,null,null,null,null,null,null,0]
[null,null,null,null,null,null,null,null,null,null,0]
[null,null,null,null,null,null,null,null,null,null,0]
[null,null,null,null,null,null,null,null,null,null,0]
[null,null,null,null,null,null,null,null,null,null,0]
[null,null,null,null,null,null,null,null,null,null,0]
[null,null,null,null,null,null,null,null,null,null,0]
[null,null,null,null,null,null,null,null,null,null,0]
[null,null,null,null,null,null,null,null,null,null,0]
[null,null,null,null,null,null,null,null,null,null,0]
[null,null,null,null,null,null,null,null,null,null,0]
["TOT Jour",null,{"$f":"SUM(C98:C147)","v":0},{"$f":"SUM(D98:D147)","v":0},0,0,0,0,0,0]
["TOT Période",null,{"$f":"SUM(C148:J148)","v":0}]
[{"$f":"B9","v":5}]
[]
[]
["Période :",{"$f":"Accueil!A43","v":"P3"},{"$f":"Accueil!$B43","v":"du"},{"$f":"Accueil!$C43","v":"2015-01-04"},{"$f":"Accueil!$D43","v":"au"},{"$f":"Accueil!$E43","v":"2015-02-20"}]
["Selectionnez la classe participant à l'atelier :"]
["NOM","Prénom","2014-05-25","2014-05-26","2014-05-27","2014-05-28","2014-05-29","2014-05-30","2014-05-31","2014-06-01","TOT"]
[null,null,null,null,null,null,null,null,null,null,{"$f":"SUM(C156:J156)","v":0}]
[null,null,null,null,null,null,null,null,null,null,{"$f":"SUM(C157:J157)","v":0}]
[null,null,null,null,null,null,null,null,null,null,0]
[null,null,null,null,null,null,null,null,null,null,0]
[null,null,null,null,null,null,null,null,null,null,0]
[null,null,null,null,null,null,null,null,null,null,0]
[null,null,null,null,null,null,null,null,null,null,0]
[null,null,null,null,null,null,null,null,null,null,0]
[null,null,null,null,null,null,null,null,null,null,0]
[null,null,null,null,null,null,null,null,null,null,0]
[null,null,null,null,null,null,null,null,null,null,0]
[null,null,null,null,null,null,null,null,null,null,0]
[null,null,null,null,null,null,null,null,null,null,0]
[null,null,null,null,null,null,null,null,null,null,0]
[null,null,null,null,null,null,null,null,null,null,0]
[null,null,null,null,null,null,null,null,null,null,0]
[null,null,null,null,null,null,null,null,null,null,0]
[null,null,null,null,null,null,null,null,null,null,0]
[null,null,null,null,null,null,null,null,null,null,0]
[null,null,null,null,null,null,null,null,null,null,0]
[null,null,null,null,null,null,null,null,null,null,0]
[null,null,null,null,null,null,null,null,null,null,0]
[null,null,null,null,null,null,null,null,null,null,0]
[null,null,null,null,null,null,null,null,null,null,0]
[null,null,null,null,null,null,null,null,null,null,0]
[null,null,null,null,null,null,null,null,null,null,{"$f":"SUM(C181:J181)","v":0}]
[null,null,null,null,null,null,null,null,null,null,{"$f":"SUM(C182:J182)","v":0}]
[null,null,null,null,null,null,null,null,null,null,0]
[null,null,null,null,null,null,null,null,null,null,0]
[null,null,null,null,null,null,null,null,null,null,0]
[null,null,null,null,null,null,null,null,null,null,0]
[null,null,null,null,null,null,null,null,null,null,0]
[null,null,null,null,null,null,null,null,null,null,0]
[null,null,null,null,null,null,null,null,null,null,0]
[null,null,null,null,null,null,null,null,null,null,0]
[null,null,null,null,null,null,null,null,null,null,0]
[null,null,null,null,null,null,null,null,null,null,0]
[null,null,null,null,null,null,null,null,null,null,0]
[null,null,null,null,null,null,null,null,null,null,0]
[null,null,null,null,null,null,null,null,null,null,0]
[null,null,null,null,null,null,null,null,null,null,0]
[null,null,null,null,null,null,null,null,null,null,0]
[null,null,null,null,null,null,null,null,null,null,0]
[null,null,null,null,null,null,null,null,null,null,0]
[null,null,null,null,null,null,null,null,null,null,0]
[null,null,null,null,null,null,null,null,null,null,0]
[null,null,null,null,null,null,null,null,null,null,0]
[null,null,null,null,null,null,null,null,null,null,0]
[null,null,null,null,null,null,null,null,null,null,0]
[null,null,null,null,null,null,null,null,null,null,0]
["TOT Jour",null,{"$f":"SUM(C156:C205)","v":0},{"$f":"SUM(D156:D205)","v":0},0,0,0,0,0,0]
["TOT Période",null,{"$f":"SUM(C206:J206)","v":0}]
[{"$f":"B9","v":5}]
[]
[]
["Période :",{"$f":"Accueil!A44","v":"P4"},{"$f":"Accueil!$B44","v":"du"},{"$f":"Accueil!$C44","v":"2015-03-08"},{"$f":"Accueil!$D44","v":"au"},{"$f":"Accueil!$E44","v":"2015-04-15"}]
["Selectionnez la classe participant à l'atelier :"]
["NOM","Prénom","2014-05-25","2014-05-26","2014-05-27","2014-05-28","2014-05-29","2014-05-30","2014-05-31","2014-06-01","TOT"]
[null,null,null,null,null,null,null,null,null,null,{"$f":"SUM(C214:J214)","v":0}]
[null,null,null,null,null,null,null,null,null,null,{"$f":"SUM(C215:J215)","v":0}]
[null,null,null,null,null,null,null,null,null,null,0]
[null,null,null,null,null,null,null,null,null,null,0]
[null,null,null,null,null,null,null,null,null,null,0]
[null,null,null,null,null,null,null,null,null,null,0]
[null,null,null,null,null,null,null,null,null,null,0]
[null,null,null,null,null,null,null,null,null,null,0]
[null,null,null,null,null,null,null,null,null,null,0]
[null,null,null,null,null,null,null,null,null,null,0]
[null,null,null,null,null,null,null,null,null,null,0]
[null,null,null,null,null,null,null,null,null,null,0]
[null,null,null,null,null,null,null,null,null,null,0]
[null,null,null,null,null,null,null,null,null,null,0]
[null,null,null,null,null,null,null,null,null,null,0]
[null,null,null,null,null,null,null,null,null,null,0]
[null,null,null,null,null,null,null,null,null,null,0]
[null,null,null,null,null,null,null,null,null,null,0]
[null,null,null,null,null,null,null,null,null,null,0]
[null,null,null,null,null,null,null,null,null,null,0]
[null,null,null,null,null,null,null,null,null,null,0]
[null,null,null,null,null,null,null,null,null,null,0]
[null,null,null,null,null,null,null,null,null,null,0]
[null,null,null,null,null,null,null,null,null,null,0]
[null,null,null,null,null,null,null,null,null,null,0]
[null,null,null,null,null,null,null,null,null,null,{"$f":"SUM(C239:J239)","v":0}]
[null,null,null,null,null,null,null,null,null,null,{"$f":"SUM(C240:J240)","v":0}]
[null,null,null,null,null,null,null,null,null,null,0]
[null,null,null,null,null,null,null,null,null,null,0]
[null,null,null,null,null,null,null,null,null,null,0]
[null,null,null,null,null,null,null,null,null,null,0]
[null,null,null,null,null,null,null,null,null,null,0]
[null,null,null,null,null,null,null,null,null,null,0]
[null,null,null,null,null,null,null,null,null,null,0]
[null,null,null,null,null,null,null,null,null,null,0]
[null,null,null,null,null,null,null,null,null,null,0]
[null,null,null,null,null,null,null,null,null,null,0]
[null,null,null,null,null,null,null,null,null,null,0]
[null,null,null,null,null,null,null,null,null,null,0]
[null,null,null,null,null,null,null,null,null,null,0]
[null,null,null,null,null,null,null,null,null,null,0]
[null,null,null,null,null,null,null,null,null,null,0]
[null,null,null,null,null,null,null,null,null,null,0]
[null,null,null,null,null,null,null,null,null,null,0]
[null,null,null,null,null,null,null,null,null,null,0]
[null,null,null,null,null,null,null,null,null,null,0]
[null,null,null,null,null,null,null,null,null,null,0]
[null,null,null,null,null,null,null,null,null,null,0]
[null,null,null,null,null,null,null,null,null,null,0]
[null,null,null,null,null,null,null,null,null,null,0]
["TOT Jour",null,{"$f":"SUM(C214:C263)","v":0},{"$f":"SUM(D214:D263)","v":0},0,0,0,0,0,0]
["TOT Période",null,{"$f":"SUM(C264:J264)","v":0}]
[{"$f":"B9","v":5}]
[]
[]
["Période :",{"$f":"Accueil!A45","v":"P5"},{"$f":"Accueil!$B45","v":"du"},{"$f":"Accueil!$C45","v":"2015-05-02"},{"$f":"Accueil!$D45","v":"au"},{"$f":"Accueil!$E45","v":"2015-07-03"}]
["Selectionnez la classe participant à l'atelier :"]
["NOM","Prénom","2014-05-25","2014-05-26","2014-05-27","2014-05-28","2014-05-29","2014-05-30","2014-05-31","2014-06-01","TOT"]
[null,null,null,null,null,null,null,null,null,null,{"$f":"SUM(C272:J272)","v":0}]
[null,null,null,null,null,null,null,null,null,null,{"$f":"SUM(C273:J273)","v":0}]
[null,null,null,null,null,null,null,null,null,null,0]
[null,null,null,null,null,null,null,null,null,null,0]
[null,null,null,null,null,null,null,null,null,null,0]
[null,null,null,null,null,null,null,null,null,null,0]
[null,null,null,null,null,null,null,null,null,null,0]
[null,null,null,null,null,null,null,null,null,null,0]
[null,null,null,null,null,null,null,null,null,null,0]
[null,null,null,null,null,null,null,null,null,null,0]
[null,null,null,null,null,null,null,null,null,null,0]
[null,null,null,null,null,null,null,null,null,null,0]
[null,null,null,null,null,null,null,null,null,null,0]
[null,null,null,null,null,null,null,null,null,null,0]
[null,null,null,null,null,null,null,null,null,null,0]
[null,null,null,null,null,null,null,null,null,null,0]
[null,null,null,null,null,null,null,null,null,null,0]
[null,null,null,null,null,null,null,null,null,null,0]
[null,null,null,null,null,null,null,null,null,null,0]
[null,null,null,null,null,null,null,null,null,null,0]
[null,null,null,null,null,null,null,null,null,null,0]
[null,null,null,null,null,null,null,null,null,null,0]
[null,null,null,null,null,null,null,null,null,null,0]
[null,null,null,null,null,null,null,null,null,null,0]
[null,null,null,null,null,null,null,null,null,null,0]
[null,null,null,null,null,null,null,null,null,null,{"$f":"SUM(C297:J297)","v":0}]
[null,null,null,null,null,null,null,null,null,null,{"$f":"SUM(C298:J298)","v":0}]
[null,null,null,null,null,null,null,null,null,null,0]
[null,null,null,null,null,null,null,null,null,null,0]
[null,null,null,null,null,null,null,null,null,null,0]
[null,null,null,null,null,null,null,null,null,null,0]
[null,null,null,null,null,null,null,null,null,null,0]
[null,null,null,null,null,null,null,null,null,null,0]
[null,null,null,null,null,null,null,null,null,null,0]
[null,null,null,null,null,null,null,null,null,null,0]
[null,null,null,null,null,null,null,null,null,null,0]
[null,null,null,null,null,null,null,null,null,null,0]
[null,null,null,null,null,null,null,null,null,null,0]
[null,null,null,null,null,null,null,null,null,null,0]
[null,null,null,null,null,null,null,null,null,null,0]
[null,null,null,null,null,null,null,null,null,null,0]
[null,null,null,null,null,null,null,null,null,null,0]
[null,null,null,null,null,null,null,null,null,null,0]
[null,null,null,null,null,null,null,null,null,null,0]
[null,null,null,null,null,null,null,null,null,null,0]
[null,null,null,null,null,null,null,null,null,null,0]
[null,null,null,null,null,null,null,null,null,null,0]
[null,null,null,null,null,null,null,null,null,null,0]
[null,null,null,null,null,null,null,null,null,null,0]
[null,null,null,null,null,null,null,null,null,null,0]
["TOT Jour",null,{"$f":"SUM(C272:C321)","v":0},{"$f":"SUM(D272:D321)","v":0},0,0,0,0,0,0]
["TOT Période",null,{"$f":"SUM(C322:J322)","v":0}]
["Statistiques"]
[]
[]
["Nombre d'heure de fréquentation :"]
[{"$f":"Accueil!$A41","v":"P1"},{"$f":"$C$91*1.5","v":0},"heures de présence pour cet atelier et pour cette période"]
[{"$f":"Accueil!$A42","v":"P2"},{"$f":"$C$149*1.5","v":0},"heures de présence pour cet atelier et pour cette période"]
[{"$f":"Accueil!$A43","v":"P3"},{"$f":"$C$207*1.5","v":0},"heures de présence pour cet atelier et pour cette période"]
[{"$f":"Accueil!$A44","v":"P4"},{"$f":"$C$265*1.5","v":0},"heures de présence pour cet atelier et pour cette période"]
[{"$f":"Accueil!$A45","v":"P5"},{"$f":"$C$323*1.5","v":0},"heures de présence pour cet atelier et pour cette période"]
["TOT",{"$f":"SUM($B$328:$B$332)","v":0},"heures de présence pour cet atelier et pour l'année"]

{"sheet":"6","index":21,"n_rows":333,"n_cols":11,"rows_kept":333,"cut":false,"hidden":true,"merged":[[90,0,90,1],[90,2,90,9],[8,1,15,9],[33,0,34,10],[37,0,37,3],[37,4,37,5],[89,0,89,1],[91,0,92,10],[95,0,95,3],[95,4,95,5],[147,0,147,1],[148,0,148,1],[148,2,148,9],[149,0,150,10],[153,0,153,3],[153,4,153,5],[205,0,205,1],[206,0,206,1],[206,2,206,9],[207,0,208,10],[211,0,211,3],[211,4,211,5],[263,0,263,1],[264,0,264,1],[264,2,264,9],[265,0,266,10],[269,0,269,3],[269,4,269,5],[321,0,321,1],[322,0,322,1],[322,2,322,9],[332,2,332,6],[323,0,324,10],[327,2,327,6],[328,2,328,6],[329,2,329,6],[330,2,330,6],[331,2,331,6]]}
[]
[]
[]
[]
[]
[]
[]
[]
[null,{"$f":"Accueil!B27","v":6}]
[]
[]
[]
[]
[]
[]
[]
[]
[]
[]
[]
[]
[]
[]
[]
[]
[]
[]
[]
[]
[]
[]
[]
[]
[{"$f":"B9","v":6}]
[]
[]
["Période :",{"$f":"Accueil!$A$41","v":"P1"},{"$f":"Accueil!$B$41","v":"du"},{"$f":"Accueil!$C$41","v":"2014-09-02"},{"$f":"Accueil!$D$41","v":"au"},{"$f":"Accueil!$E$41","v":"2014-10-18"}]
["Selectionnez la classe participant à l'atelier :"]
["NOM","Prénom","2014-09-02","2014-05-26","2014-05-27","2014-05-28","2014-05-29","2014-05-30","2014-05-31","2014-06-01","TOT"]
[null,null,null,null,null,null,null,null,null,null,{"$f":"SUM(C40:J40)","v":0}]
[null,null,null,null,null,null,null,null,null,null,{"$f":"SUM(C41:J41)","v":0}]
[null,null,null,null,null,null,null,null,null,null,0]
[null,null,null,null,null,null,null,null,null,null,0]
[null,null,null,null,null,null,null,null,null,null,0]
[null,null,null,null,null,null,null,null,null,null,0]
[null,null,null,null,null,null,null,null,null,null,0]
[null,null,null,null,null,null,null,null,null,null,0]
[null,null,null,null,null,null,null,null,null,null,0]
[null,null,null,null,null,null,null,null,null,null,0]
[null,null,null,null,null,null,null,null,null,null,0]
[null,null,null,null,null,null,null,null,null,null,0]
[null,null,null,null,null,null,null,null,null,null,0]
[null,null,null,null,null,null,null,null,null,null,0]
[null,null,null,null,null,null,null,null,null,null,0]
[null,null,null,null,null,null,null,null,null,null,0]
[null,null,null,null,null,null,null,null,null,null,0]
[null,null,null,null,null,null,null,null,null,null,0]
[null,null,null,null,null,null,null,null,null,null,0]
[null,null,null,null,null,null,null,null,null,null,0]
[null,null,null,null,null,null,null,null,null,null,0]
[null,null,null,null,null,null,null,null,null,null,0]
[null,null,null,null,null,null,null,null,null,null,0]
[null,null,null,null,null,null,null,null,null,null,0]
[null,null,null,null,null,null,null,null,null,null,0]
[null,null,null,null,null,null,null,null,null,null,{"$f":"SUM(C65:J65)","v":0}]
[null,null,null,null,null,null,null,null,null,null,{"$f":"SUM(C66:J66)","v":0}]
[null,null,null,null,null,null,null,null,null,null,0]
[null,null,null,null,null,null,null,null,null,null,0]
[null,null,null,null,null,null,null,null,null,null,0]
[null,null,null,null,null,null,null,null,null,null,0]
[null,null,null,null,null,null,null,null,null,null,0]
[null,null,null,null,null,null,null,null,null,null,0]
[null,null,null,null,null,null,null,null,null,null,0]
[null,null,null,null,null,null,null,null,null,null,0]
[null,null,null,null,null,null,null,null,null,null,0]
[null,null,null,null,null,null,null,null,null,null,0]
[null,null,null,null,null,null,null,null,null,null,0]
[null,null,null,null,null,null,null,null,null,null,0]
[null,null,null,null,null,null,null,null,null,null,0]
[null,null,null,null,null,null,null,null,null,null,0]
[null,null,null,null,null,null,null,null,null,null,0]
[null,null,null,null,null,null,null,null,null,null,0]
[null,null,null,null,null,null,null,null,null,null,0]
[null,null,null,null,null,null,null,null,null,null,0]
[null,null,null,null,null,null,null,null,null,null,0]
[null,null,null,null,null,null,null,null,null,null,0]
[null,null,null,null,null,null,null,null,null,null,0]
[null,null,null,null,null,null,null,null,null,null,0]
[null,null,null,null,null,null,null,null,null,null,0]
["TOT Jour",null,{"$f":"SUM(C40:C89)","v":0},{"$f":"SUM(D40:D89)","v":0},0,0,0,0,0,0]
["TOT Période",null,{"$f":"SUM(C90:J90)","v":0}]
[{"$f":"B9","v":6}]
[]
[]
["Période :",{"$f":"Accueil!$A42","v":"P2"},{"$f":"Accueil!$B42","v":"du"},{"$f":"Accueil!$C42","v":"2014-11-02"},{"$f":"Accueil!$D42","v":"au"},{"$f":"Accueil!$E42","v":"2014-12-18"}]
["Selectionnez la classe participant à l'atelier :"]
["NOM","Prénom","2014-05-25","2014-05-26","2014-05-27","2014-05-28","2014-05-29","2014-05-30","2014-05-31","2014-06-01","TOT"]
[null,null,null,null,null,null,null,null,null,null,{"$f":"SUM(C98:J98)","v":0}]
[null,null,null,null,null,null,null,null,null,null,{"$f":"SUM(C99:J99)","v":0}]
[null,null,null,null,null,null,null,null,null,null,0]
[null,null,null,null,null,null,null,null,null,null,0]
[null,null,null,null,null,null,null,null,null,null,0]
[null,null,null,null,null,null,null,null,null,null,0]
[null,null,null,null,null,null,null,null,null,null,0]
[null,null,null,null,null,null,null,null,null,null,0]
[null,null,null,null,null,null,null,null,null,null,0]
[null,null,null,null,null,null,null,null,null,null,0]
[null,null,null,null,null,null,null,null,null,null,0]
[null,null,null,null,null,null,null,null,null,null,0]
[null,null,null,null,null,null,null,null,null,null,0]
[null,null,null,null,null,null,null,null,null,null,0]
[null,null,null,null,null,null,null,null,null,null,0]
[null,null,null,null,null,null,null,null,null,null,0]
[null,null,null,null,null,null,null,null,null,null,0]
[null,null,null,null,null,null,null,null,null,null,0]
[null,null,null,null,null,null,null,null,null,null,0]
[null,null,null,null,null,null,null,null,null,null,0]
[null,null,null,null,null,null,null,null,null,null,0]
[null,null,null,null,null,null,null,null,null,null,0]
[null,null,null,null,null,null,null,null,null,null,0]
[null,null,null,null,null,null,null,null,null,null,0]
[null,null,null,null,null,null,null,null,null,null,0]
[null,null,null,null,null,null,null,null,null,null,{"$f":"SUM(C123:J123)","v":0}]
[null,null,null,null,null,null,null,null,null,null,{"$f":"SUM(C124:J124)","v":0}]
[null,null,null,null,null,null,null,null,null,null,0]
[null,null,null,null,null,null,null,null,null,null,0]
[null,null,null,null,null,null,null,null,null,null,0]
[null,null,null,null,null,null,null,null,null,null,0]
[null,null,null,null,null,null,null,null,null,null,0]
[null,null,null,null,null,null,null,null,null,null,0]
[null,null,null,null,null,null,null,null,null,null,0]
[null,null,null,null,null,null,null,null,null,null,0]
[null,null,null,null,null,null,null,null,null,null,0]
[null,null,null,null,null,null,null,null,null,null,0]
[null,null,null,null,null,null,null,null,null,null,0]
[null,null,null,null,null,null,null,null,null,null,0]
[null,null,null,null,null,null,null,null,null,null,0]
[null,null,null,null,null,null,null,null,null,null,0]
[null,null,null,null,null,null,null,null,null,null,0]
[null,null,null,null,null,null,null,null,null,null,0]
[null,null,null,null,null,null,null,null,null,null,0]
[null,null,null,null,null,null,null,null,null,null,0]
[null,null,null,null,null,null,null,null,null,null,0]
[null,null,null,null,null,null,null,null,null,null,0]
[null,null,null,null,null,null,null,null,null,null,0]
[null,null,null,null,null,null,null,null,null,null,0]
[null,null,null,null,null,null,null,null,null,null,0]
["TOT Jour",null,{"$f":"SUM(C98:C147)","v":0},{"$f":"SUM(D98:D147)","v":0},0,0,0,0,0,0]
["TOT Période",null,{"$f":"SUM(C148:J148)","v":0}]
[{"$f":"B9","v":6}]
[]
[]
["Période :",{"$f":"Accueil!A43","v":"P3"},{"$f":"Accueil!$B43","v":"du"},{"$f":"Accueil!$C43","v":"2015-01-04"},{"$f":"Accueil!$D43","v":"au"},{"$f":"Accueil!$E43","v":"2015-02-20"}]
["Selectionnez la classe participant à l'atelier :"]
["NOM","Prénom","2014-05-25","2014-05-26","2014-05-27","2014-05-28","2014-05-29","2014-05-30","2014-05-31","2014-06-01","TOT"]
[null,null,null,null,null,null,null,null,null,null,{"$f":"SUM(C156:J156)","v":0}]
[null,null,null,null,null,null,null,null,null,null,{"$f":"SUM(C157:J157)","v":0}]
[null,null,null,null,null,null,null,null,null,null,0]
[null,null,null,null,null,null,null,null,null,null,0]
[null,null,null,null,null,null,null,null,null,null,0]
[null,null,null,null,null,null,null,null,null,null,0]
[null,null,null,null,null,null,null,null,null,null,0]
[null,null,null,null,null,null,null,null,null,null,0]
[null,null,null,null,null,null,null,null,null,null,0]
[null,null,null,null,null,null,null,null,null,null,0]
[null,null,null,null,null,null,null,null,null,null,0]
[null,null,null,null,null,null,null,null,null,null,0]
[null,null,null,null,null,null,null,null,null,null,0]
[null,null,null,null,null,null,null,null,null,null,0]
[null,null,null,null,null,null,null,null,null,null,0]
[null,null,null,null,null,null,null,null,null,null,0]
[null,null,null,null,null,null,null,null,null,null,0]
[null,null,null,null,null,null,null,null,null,null,0]
[null,null,null,null,null,null,null,null,null,null,0]
[null,null,null,null,null,null,null,null,null,null,0]
[null,null,null,null,null,null,null,null,null,null,0]
[null,null,null,null,null,null,null,null,null,null,0]
[null,null,null,null,null,null,null,null,null,null,0]
[null,null,null,null,null,null,null,null,null,null,0]
[null,null,null,null,null,null,null,null,null,null,0]
[null,null,null,null,null,null,null,null,null,null,{"$f":"SUM(C181:J181)","v":0}]
[null,null,null,null,null,null,null,null,null,null,{"$f":"SUM(C182:J182)","v":0}]
[null,null,null,null,null,null,null,null,null,null,0]
[null,null,null,null,null,null,null,null,null,null,0]
[null,null,null,null,null,null,null,null,null,null,0]
[null,null,null,null,null,null,null,null,null,null,0]
[null,null,null,null,null,null,null,null,null,null,0]
[null,null,null,null,null,null,null,null,null,null,0]
[null,null,null,null,null,null,null,null,null,null,0]
[null,null,null,null,null,null,null,null,null,null,0]
[null,null,null,null,null,null,null,null,null,null,0]
[null,null,null,null,null,null,null,null,null,null,0]
[null,null,null,null,null,null,null,null,null,null,0]
[null,null,null,null,null,null,null,null,null,null,0]
[null,null,null,null,null,null,null,null,null,null,0]
[null,null,null,null,null,null,null,null,null,null,0]
[null,null,null,null,null,null,null,null,null,null,0]
[null,null,null,null,null,null,null,null,null,null,0]
[null,null,null,null,null,null,null,null,null,null,0]
[null,null,null,null,null,null,null,null,null,null,0]
[null,null,null,null,null,null,null,null,null,null,0]
[null,null,null,null,null,null,null,null,null,null,0]
[null,null,null,null,null,null,null,null,null,null,0]
[null,null,null,null,null,null,null,null,null,null,0]
[null,null,null,null,null,null,null,null,null,null,0]
["TOT Jour",null,{"$f":"SUM(C156:C205)","v":0},{"$f":"SUM(D156:D205)","v":0},0,0,0,0,0,0]
["TOT Période",null,{"$f":"SUM(C206:J206)","v":0}]
[{"$f":"B9","v":6}]
[]
[]
["Période :",{"$f":"Accueil!A44","v":"P4"},{"$f":"Accueil!$B44","v":"du"},{"$f":"Accueil!$C44","v":"2015-03-08"},{"$f":"Accueil!$D44","v":"au"},{"$f":"Accueil!$E44","v":"2015-04-15"}]
["Selectionnez la classe participant à l'atelier :"]
["NOM","Prénom","2014-05-25","2014-05-26","2014-05-27","2014-05-28","2014-05-29","2014-05-30","2014-05-31","2014-06-01","TOT"]
[null,null,null,null,null,null,null,null,null,null,{"$f":"SUM(C214:J214)","v":0}]
[null,null,null,null,null,null,null,null,null,null,{"$f":"SUM(C215:J215)","v":0}]
[null,null,null,null,null,null,null,null,null,null,0]
[null,null,null,null,null,null,null,null,null,null,0]
[null,null,null,null,null,null,null,null,null,null,0]
[null,null,null,null,null,null,null,null,null,null,0]
[null,null,null,null,null,null,null,null,null,null,0]
[null,null,null,null,null,null,null,null,null,null,0]
[null,null,null,null,null,null,null,null,null,null,0]
[null,null,null,null,null,null,null,null,null,null,0]
[null,null,null,null,null,null,null,null,null,null,0]
[null,null,null,null,null,null,null,null,null,null,0]
[null,null,null,null,null,null,null,null,null,null,0]
[null,null,null,null,null,null,null,null,null,null,0]
[null,null,null,null,null,null,null,null,null,null,0]
[null,null,null,null,null,null,null,null,null,null,0]
[null,null,null,null,null,null,null,null,null,null,0]
[null,null,null,null,null,null,null,null,null,null,0]
[null,null,null,null,null,null,null,null,null,null,0]
[null,null,null,null,null,null,null,null,null,null,0]
[null,null,null,null,null,null,null,null,null,null,0]
[null,null,null,null,null,null,null,null,null,null,0]
[null,null,null,null,null,null,null,null,null,null,0]
[null,null,null,null,null,null,null,null,null,null,0]
[null,null,null,null,null,null,null,null,null,null,0]
[null,null,null,null,null,null,null,null,null,null,{"$f":"SUM(C239:J239)","v":0}]
[null,null,null,null,null,null,null,null,null,null,{"$f":"SUM(C240:J240)","v":0}]
[null,null,null,null,null,null,null,null,null,null,0]
[null,null,null,null,null,null,null,null,null,null,0]
[null,null,null,null,null,null,null,null,null,null,0]
[null,null,null,null,null,null,null,null,null,null,0]
[null,null,null,null,null,null,null,null,null,null,0]
[null,null,null,null,null,null,null,null,null,null,0]
[null,null,null,null,null,null,null,null,null,null,0]
[null,null,null,null,null,null,null,null,null,null,0]
[null,null,null,null,null,null,null,null,null,null,0]
[null,null,null,null,null,null,null,null,null,null,0]
[null,null,null,null,null,null,null,null,null,null,0]
[null,null,null,null,null,null,null,null,null,null,0]
[null,null,null,null,null,null,null,null,null,null,0]
[null,null,null,null,null,null,null,null,null,null,0]
[null,null,null,null,null,null,null,null,null,null,0]
[null,null,null,null,null,null,null,null,null,null,0]
[null,null,null,null,null,null,null,null,null,null,0]
[null,null,null,null,null,null,null,null,null,null,0]
[null,null,null,null,null,null,null,null,null,null,0]
[null,null,null,null,null,null,null,null,null,null,0]
[null,null,null,null,null,null,null,null,null,null,0]
[null,null,null,null,null,null,null,null,null,null,0]
[null,null,null,null,null,null,null,null,null,null,0]
["TOT Jour",null,{"$f":"SUM(C214:C263)","v":0},{"$f":"SUM(D214:D263)","v":0},0,0,0,0,0,0]
["TOT Période",null,{"$f":"SUM(C264:J264)","v":0}]
[{"$f":"B9","v":6}]
[]
[]
["Période :",{"$f":"Accueil!A45","v":"P5"},{"$f":"Accueil!$B45","v":"du"},{"$f":"Accueil!$C45","v":"2015-05-02"},{"$f":"Accueil!$D45","v":"au"},{"$f":"Accueil!$E45","v":"2015-07-03"}]
["Selectionnez la classe participant à l'atelier :"]
["NOM","Prénom","2014-05-25","2014-05-26","2014-05-27","2014-05-28","2014-05-29","2014-05-30","2014-05-31","2014-06-01","TOT"]
[null,null,null,null,null,null,null,null,null,null,{"$f":"SUM(C272:J272)","v":0}]
[null,null,null,null,null,null,null,null,null,null,{"$f":"SUM(C273:J273)","v":0}]
[null,null,null,null,null,null,null,null,null,null,0]
[null,null,null,null,null,null,null,null,null,null,0]
[null,null,null,null,null,null,null,null,null,null,0]
[null,null,null,null,null,null,null,null,null,null,0]
[null,null,null,null,null,null,null,null,null,null,0]
[null,null,null,null,null,null,null,null,null,null,0]
[null,null,null,null,null,null,null,null,null,null,0]
[null,null,null,null,null,null,null,null,null,null,0]
[null,null,null,null,null,null,null,null,null,null,0]
[null,null,null,null,null,null,null,null,null,null,0]
[null,null,null,null,null,null,null,null,null,null,0]
[null,null,null,null,null,null,null,null,null,null,0]
[null,null,null,null,null,null,null,null,null,null,0]
[null,null,null,null,null,null,null,null,null,null,0]
[null,null,null,null,null,null,null,null,null,null,0]
[null,null,null,null,null,null,null,null,null,null,0]
[null,null,null,null,null,null,null,null,null,null,0]
[null,null,null,null,null,null,null,null,null,null,0]
[null,null,null,null,null,null,null,null,null,null,0]
[null,null,null,null,null,null,null,null,null,null,0]
[null,null,null,null,null,null,null,null,null,null,0]
[null,null,null,null,null,null,null,null,null,null,0]
[null,null,null,null,null,null,null,null,null,null,0]
[null,null,null,null,null,null,null,null,null,null,{"$f":"SUM(C297:J297)","v":0}]
[null,null,null,null,null,null,null,null,null,null,{"$f":"SUM(C298:J298)","v":0}]
[null,null,null,null,null,null,null,null,null,null,0]
[null,null,null,null,null,null,null,null,null,null,0]
[null,null,null,null,null,null,null,null,null,null,0]
[null,null,null,null,null,null,null,null,null,null,0]
[null,null,null,null,null,null,null,null,null,null,0]
[null,null,null,null,null,null,null,null,null,null,0]
[null,null,null,null,null,null,null,null,null,null,0]
[null,null,null,null,null,null,null,null,null,null,0]
[null,null,null,null,null,null,null,null,null,null,0]
[null,null,null,null,null,null,null,null,null,null,0]
[null,null,null,null,null,null,null,null,null,null,0]
[null,null,null,null,null,null,null,null,null,null,0]
[null,null,null,null,null,null,null,null,null,null,0]
[null,null,null,null,null,null,null,null,null,null,0]
[null,null,null,null,null,null,null,null,null,null,0]
[null,null,null,null,null,null,null,null,null,null,0]
[null,null,null,null,null,null,null,null,null,null,0]
[null,null,null,null,null,null,null,null,null,null,0]
[null,null,null,null,null,null,null,null,null,null,0]
[null,null,null,null,null,null,null,null,null,null,0]
[null,null,null,null,null,null,null,null,null,null,0]
[null,null,null,null,null,null,null,null,null,null,0]
[null,null,null,null,null,null,null,null,null,null,0]
["TOT Jour",null,{"$f":"SUM(C272:C321)","v":0},{"$f":"SUM(D272:D321)","v":0},0,0,0,0,0,0]
["TOT Période",null,{"$f":"SUM(C322:J322)","v":0}]
["Statistiques"]
[]
[]
["Nombre d'heure de fréquentation :"]
[{"$f":"Accueil!$A41","v":"P1"},{"$f":"$C$91*1.5","v":0},"heures de présence pour cet atelier et pour cette période"]
[{"$f":"Accueil!$A42","v":"P2"},{"$f":"$C$149*1.5","v":0},"heures de présence pour cet atelier et pour cette période"]
[{"$f":"Accueil!$A43","v":"P3"},{"$f":"$C$207*1.5","v":0},"heures de présence pour cet atelier et pour cette période"]
[{"$f":"Accueil!$A44","v":"P4"},{"$f":"$C$265*1.5","v":0},"heures de présence pour cet atelier et pour cette période"]
[{"$f":"Accueil!$A45","v":"P5"},{"$f":"$C$323*1.5","v":0},"heures de présence pour cet atelier et pour cette période"]
["TOT",{"$f":"SUM($B$328:$B$332)","v":0},"heures de présence pour cet atelier et pour l'année"]

{"sheet":"7","index":22,"n_rows":333,"n_cols":11,"rows_kept":333,"cut":false,"hidden":true,"merged":[[90,0,90,1],[90,2,90,9],[8,1,15,9],[33,0,34,10],[37,0,37,3],[37,4,37,5],[89,0,89,1],[91,0,92,10],[95,0,95,3],[95,4,95,5],[147,0,147,1],[148,0,148,1],[148,2,148,9],[149,0,150,10],[153,0,153,3],[153,4,153,5],[205,0,205,1],[206,0,206,1],[206,2,206,9],[207,0,208,10],[211,0,211,3],[211,4,211,5],[263,0,263,1],[264,0,264,1],[264,2,264,9],[265,0,266,10],[269,0,269,3],[269,4,269,5],[321,0,321,1],[322,0,322,1],[322,2,322,9],[332,2,332,6],[323,0,324,10],[327,2,327,6],[328,2,328,6],[329,2,329,6],[330,2,330,6],[331,2,331,6]]}
[]
[]
[]
[]
[]
[]
[]
[]
[null,{"$f":"Accueil!B28","v":7}]
[]
[]
[]
[]
[]
[]
[]
[]
[]
[]
[]
[]
[]
[]
[]
[]
[]
[]
[]
[]
[]
[]
[]
[]
[{"$f":"B9","v":7}]
[]
[]
["Période :",{"$f":"Accueil!$A$41","v":"P1"},{"$f":"Accueil!$B$41","v":"du"},{"$f":"Accueil!$C$41","v":"2014-09-02"},{"$f":"Accueil!$D$41","v":"au"},{"$f":"Accueil!$E$41","v":"2014-10-18"}]
["Selectionnez la classe participant à l'atelier :"]
["NOM","Prénom","2014-09-02","2014-05-26","2014-05-27","2014-05-28","2014-05-29","2014-05-30","2014-05-31","2014-06-01","TOT"]
[null,null,null,null,null,null,null,null,null,null,{"$f":"SUM(C40:J40)","v":0}]
[null,null,null,null,null,null,null,null,null,null,{"$f":"SUM(C41:J41)","v":0}]
[null,null,null,null,null,null,null,null,null,null,0]
[null,null,null,null,null,null,null,null,null,null,0]
[null,null,null,null,null,null,null,null,null,null,0]
[null,null,null,null,null,null,null,null,null,null,0]
[null,null,null,null,null,null,null,null,null,null,0]
[null,null,null,null,null,null,null,null,null,null,0]
[null,null,null,null,null,null,null,null,null,null,0]
[null,null,null,null,null,null,null,null,null,null,0]
[null,null,null,null,null,null,null,null,null,null,0]
[null,null,null,null,null,null,null,null,null,null,0]
[null,null,null,null,null,null,null,null,null,null,0]
[null,null,null,null,null,null,null,null,null,null,0]
[null,null,null,null,null,null,null,null,null,null,0]
[null,null,null,null,null,null,null,null,null,null,0]
[null,null,null,null,null,null,null,null,null,null,0]
[null,null,null,null,null,null,null,null,null,null,0]
[null,null,null,null,null,null,null,null,null,null,0]
[null,null,null,null,null,null,null,null,null,null,0]
[null,null,null,null,null,null,null,null,null,null,0]
[null,null,null,null,null,null,null,null,null,null,0]
[null,null,null,null,null,null,null,null,null,null,0]
[null,null,null,null,null,null,null,null,null,null,0]
[null,null,null,null,null,null,null,null,null,null,0]
[null,null,null,null,null,null,null,null,null,null,{"$f":"SUM(C65:J65)","v":0}]
[null,null,null,null,null,null,null,null,null,null,{"$f":"SUM(C66:J66)","v":0}]
[null,null,null,null,null,null,null,null,null,null,0]
[null,null,null,null,null,null,null,null,null,null,0]
[null,null,null,null,null,null,null,null,null,null,0]
[null,null,null,null,null,null,null,null,null,null,0]
[null,null,null,null,null,null,null,null,null,null,0]
[null,null,null,null,null,null,null,null,null,null,0]
[null,null,null,null,null,null,null,null,null,null,0]
[null,null,null,null,null,null,null,null,null,null,0]
[null,null,null,null,null,null,null,null,null,null,0]
[null,null,null,null,null,null,null,null,null,null,0]
[null,null,null,null,null,null,null,null,null,null,0]
[null,null,null,null,null,null,null,null,null,null,0]
[null,null,null,null,null,null,null,null,null,null,0]
[null,null,null,null,null,null,null,null,null,null,0]
[null,null,null,null,null,null,null,null,null,null,0]
[null,null,null,null,null,null,null,null,null,null,0]
[null,null,null,null,null,null,null,null,null,null,0]
[null,null,null,null,null,null,null,null,null,null,0]
[null,null,null,null,null,null,null,null,null,null,0]
[null,null,null,null,null,null,null,null,null,null,0]
[null,null,null,null,null,null,null,null,null,null,0]
[null,null,null,null,null,null,null,null,null,null,0]
[null,null,null,null,null,null,null,null,null,null,0]
["TOT Jour",null,{"$f":"SUM(C40:C89)","v":0},{"$f":"SUM(D40:D89)","v":0},0,0,0,0,0,0]
["TOT Période",null,{"$f":"SUM(C90:J90)","v":0}]
[{"$f":"B9","v":7}]
[]
[]
["Période :",{"$f":"Accueil!$A42","v":"P2"},{"$f":"Accueil!$B42","v":"du"},{"$f":"Accueil!$C42","v":"2014-11-02"},{"$f":"Accueil!$D42","v":"au"},{"$f":"Accueil!$E42","v":"2014-12-18"}]
["Selectionnez la classe participant à l'atelier :"]
["NOM","Prénom","2014-05-25","2014-05-26","2014-05-27","2014-05-28","2014-05-29","2014-05-30","2014-05-31","2014-06-01","TOT"]
[null,null,null,null,null,null,null,null,null,null,{"$f":"SUM(C98:J98)","v":0}]
[null,null,null,null,null,null,null,null,null,null,{"$f":"SUM(C99:J99)","v":0}]
[null,null,null,null,null,null,null,null,null,null,0]
[null,null,null,null,null,null,null,null,null,null,0]
[null,null,null,null,null,null,null,null,null,null,0]
[null,null,null,null,null,null,null,null,null,null,0]
[null,null,null,null,null,null,null,null,null,null,0]
[null,null,null,null,null,null,null,null,null,null,0]
[null,null,null,null,null,null,null,null,null,null,0]
[null,null,null,null,null,null,null,null,null,null,0]
[null,null,null,null,null,null,null,null,null,null,0]
[null,null,null,null,null,null,null,null,null,null,0]
[null,null,null,null,null,null,null,null,null,null,0]
[null,null,null,null,null,null,null,null,null,null,0]
[null,null,null,null,null,null,null,null,null,null,0]
[null,null,null,null,null,null,null,null,null,null,0]
[null,null,null,null,null,null,null,null,null,null,0]
[null,null,null,null,null,null,null,null,null,null,0]
[null,null,null,null,null,null,null,null,null,null,0]
[null,null,null,null,null,null,null,null,null,null,0]
[null,null,null,null,null,null,null,null,null,null,0]
[null,null,null,null,null,null,null,null,null,null,0]
[null,null,null,null,null,null,null,null,null,null,0]
[null,null,null,null,null,null,null,null,null,null,0]
[null,null,null,null,null,null,null,null,null,null,0]
[null,null,null,null,null,null,null,null,null,null,{"$f":"SUM(C123:J123)","v":0}]
[null,null,null,null,null,null,null,null,null,null,{"$f":"SUM(C124:J124)","v":0}]
[null,null,null,null,null,null,null,null,null,null,0]
[null,null,null,null,null,null,null,null,null,null,0]
[null,null,null,null,null,null,null,null,null,null,0]
[null,null,null,null,null,null,null,null,null,null,0]
[null,null,null,null,null,null,null,null,null,null,0]
[null,null,null,null,null,null,null,null,null,null,0]
[null,null,null,null,null,null,null,null,null,null,0]
[null,null,null,null,null,null,null,null,null,null,0]
[null,null,null,null,null,null,null,null,null,null,0]
[null,null,null,null,null,null,null,null,null,null,0]
[null,null,null,null,null,null,null,null,null,null,0]
[null,null,null,null,null,null,null,null,null,null,0]
[null,null,null,null,null,null,null,null,null,null,0]
[null,null,null,null,null,null,null,null,null,null,0]
[null,null,null,null,null,null,null,null,null,null,0]
[null,null,null,null,null,null,null,null,null,null,0]
[null,null,null,null,null,null,null,null,null,null,0]
[null,null,null,null,null,null,null,null,null,null,0]
[null,null,null,null,null,null,null,null,null,null,0]
[null,null,null,null,null,null,null,null,null,null,0]
[null,null,null,null,null,null,null,null,null,null,0]
[null,null,null,null,null,null,null,null,null,null,0]
[null,null,null,null,null,null,null,null,null,null,0]
["TOT Jour",null,{"$f":"SUM(C98:C147)","v":0},{"$f":"SUM(D98:D147)","v":0},0,0,0,0,0,0]
["TOT Période",null,{"$f":"SUM(C148:J148)","v":0}]
[{"$f":"B9","v":7}]
[]
[]
["Période :",{"$f":"Accueil!A43","v":"P3"},{"$f":"Accueil!$B43","v":"du"},{"$f":"Accueil!$C43","v":"2015-01-04"},{"$f":"Accueil!$D43","v":"au"},{"$f":"Accueil!$E43","v":"2015-02-20"}]
["Selectionnez la classe participant à l'atelier :"]
["NOM","Prénom","2014-05-25","2014-05-26","2014-05-27","2014-05-28","2014-05-29","2014-05-30","2014-05-31","2014-06-01","TOT"]
[null,null,null,null,null,null,null,null,null,null,{"$f":"SUM(C156:J156)","v":0}]
[null,null,null,null,null,null,null,null,null,null,{"$f":"SUM(C157:J157)","v":0}]
[null,null,null,null,null,null,null,null,null,null,0]
[null,null,null,null,null,null,null,null,null,null,0]
[null,null,null,null,null,null,null,null,null,null,0]
[null,null,null,null,null,null,null,null,null,null,0]
[null,null,null,null,null,null,null,null,null,null,0]
[null,null,null,null,null,null,null,null,null,null,0]
[null,null,null,null,null,null,null,null,null,null,0]
[null,null,null,null,null,null,null,null,null,null,0]
[null,null,null,null,null,null,null,null,null,null,0]
[null,null,null,null,null,null,null,null,null,null,0]
[null,null,null,null,null,null,null,null,null,null,0]
[null,null,null,null,null,null,null,null,null,null,0]
[null,null,null,null,null,null,null,null,null,null,0]
[null,null,null,null,null,null,null,null,null,null,0]
[null,null,null,null,null,null,null,null,null,null,0]
[null,null,null,null,null,null,null,null,null,null,0]
[null,null,null,null,null,null,null,null,null,null,0]
[null,null,null,null,null,null,null,null,null,null,0]
[null,null,null,null,null,null,null,null,null,null,0]
[null,null,null,null,null,null,null,null,null,null,0]
[null,null,null,null,null,null,null,null,null,null,0]
[null,null,null,null,null,null,null,null,null,null,0]
[null,null,null,null,null,null,null,null,null,null,0]
[null,null,null,null,null,null,null,null,null,null,{"$f":"SUM(C181:J181)","v":0}]
[null,null,null,null,null,null,null,null,null,null,{"$f":"SUM(C182:J182)","v":0}]
[null,null,null,null,null,null,null,null,null,null,0]
[null,null,null,null,null,null,null,null,null,null,0]
[null,null,null,null,null,null,null,null,null,null,0]
[null,null,null,null,null,null,null,null,null,null,0]
[null,null,null,null,null,null,null,null,null,null,0]
[null,null,null,null,null,null,null,null,null,null,0]
[null,null,null,null,null,null,null,null,null,null,0]
[null,null,null,null,null,null,null,null,null,null,0]
[null,null,null,null,null,null,null,null,null,null,0]
[null,null,null,null,null,null,null,null,null,null,0]
[null,null,null,null,null,null,null,null,null,null,0]
[null,null,null,null,null,null,null,null,null,null,0]
[null,null,null,null,null,null,null,null,null,null,0]
[null,null,null,null,null,null,null,null,null,null,0]
[null,null,null,null,null,null,null,null,null,null,0]
[null,null,null,null,null,null,null,null,null,null,0]
[null,null,null,null,null,null,null,null,null,null,0]
[null,null,null,null,null,null,null,null,null,null,0]
[null,null,null,null,null,null,null,null,null,null,0]
[null,null,null,null,null,null,null,null,null,null,0]
[null,null,null,null,null,null,null,null,null,null,0]
[null,null,null,null,null,null,null,null,null,null,0]
[null,null,null,null,null,null,null,null,null,null,0]
["TOT Jour",null,{"$f":"SUM(C156:C205)","v":0},{"$f":"SUM(D156:D205)","v":0},0,0,0,0,0,0]
["TOT Période",null,{"$f":"SUM(C206:J206)","v":0}]
[{"$f":"B9","v":7}]
[]
[]
["Période :",{"$f":"Accueil!A44","v":"P4"},{"$f":"Accueil!$B44","v":"du"},{"$f":"Accueil!$C44","v":"2015-03-08"},{"$f":"Accueil!$D44","v":"au"},{"$f":"Accueil!$E44","v":"2015-04-15"}]
["Selectionnez la classe participant à l'atelier :"]
["NOM","Prénom","2014-05-25","2014-05-26","2014-05-27","2014-05-28","2014-05-29","2014-05-30","2014-05-31","2014-06-01","TOT"]
[null,null,null,null,null,null,null,null,null,null,{"$f":"SUM(C214:J214)","v":0}]
[null,null,null,null,null,null,null,null,null,null,{"$f":"SUM(C215:J215)","v":0}]
[null,null,null,null,null,null,null,null,null,null,0]
[null,null,null,null,null,null,null,null,null,null,0]
[null,null,null,null,null,null,null,null,null,null,0]
[null,null,null,null,null,null,null,null,null,null,0]
[null,null,null,null,null,null,null,null,null,null,0]
[null,null,null,null,null,null,null,null,null,null,0]
[null,null,null,null,null,null,null,null,null,null,0]
[null,null,null,null,null,null,null,null,null,null,0]
[null,null,null,null,null,null,null,null,null,null,0]
[null,null,null,null,null,null,null,null,null,null,0]
[null,null,null,null,null,null,null,null,null,null,0]
[null,null,null,null,null,null,null,null,null,null,0]
[null,null,null,null,null,null,null,null,null,null,0]
[null,null,null,null,null,null,null,null,null,null,0]
[null,null,null,null,null,null,null,null,null,null,0]
[null,null,null,null,null,null,null,null,null,null,0]
[null,null,null,null,null,null,null,null,null,null,0]
[null,null,null,null,null,null,null,null,null,null,0]
[null,null,null,null,null,null,null,null,null,null,0]
[null,null,null,null,null,null,null,null,null,null,0]
[null,null,null,null,null,null,null,null,null,null,0]
[null,null,null,null,null,null,null,null,null,null,0]
[null,null,null,null,null,null,null,null,null,null,0]
[null,null,null,null,null,null,null,null,null,null,{"$f":"SUM(C239:J239)","v":0}]
[null,null,null,null,null,null,null,null,null,null,{"$f":"SUM(C240:J240)","v":0}]
[null,null,null,null,null,null,null,null,null,null,0]
[null,null,null,null,null,null,null,null,null,null,0]
[null,null,null,null,null,null,null,null,null,null,0]
[null,null,null,null,null,null,null,null,null,null,0]
[null,null,null,null,null,null,null,null,null,null,0]
[null,null,null,null,null,null,null,null,null,null,0]
[null,null,null,null,null,null,null,null,null,null,0]
[null,null,null,null,null,null,null,null,null,null,0]
[null,null,null,null,null,null,null,null,null,null,0]
[null,null,null,null,null,null,null,null,null,null,0]
[null,null,null,null,null,null,null,null,null,null,0]
[null,null,null,null,null,null,null,null,null,null,0]
[null,null,null,null,null,null,null,null,null,null,0]
[null,null,null,null,null,null,null,null,null,null,0]
[null,null,null,null,null,null,null,null,null,null,0]
[null,null,null,null,null,null,null,null,null,null,0]
[null,null,null,null,null,null,null,null,null,null,0]
[null,null,null,null,null,null,null,null,null,null,0]
[null,null,null,null,null,null,null,null,null,null,0]
[null,null,null,null,null,null,null,null,null,null,0]
[null,null,null,null,null,null,null,null,null,null,0]
[null,null,null,null,null,null,null,null,null,null,0]
[null,null,null,null,null,null,null,null,null,null,0]
["TOT Jour",null,{"$f":"SUM(C214:C263)","v":0},{"$f":"SUM(D214:D263)","v":0},0,0,0,0,0,0]
["TOT Période",null,{"$f":"SUM(C264:J264)","v":0}]
[{"$f":"B9","v":7}]
[]
[]
["Période :",{"$f":"Accueil!A45","v":"P5"},{"$f":"Accueil!$B45","v":"du"},{"$f":"Accueil!$C45","v":"2015-05-02"},{"$f":"Accueil!$D45","v":"au"},{"$f":"Accueil!$E45","v":"2015-07-03"}]
["Selectionnez la classe participant à l'atelier :"]
["NOM","Prénom","2014-05-25","2014-05-26","2014-05-27","2014-05-28","2014-05-29","2014-05-30","2014-05-31","2014-06-01","TOT"]
[null,null,null,null,null,null,null,null,null,null,{"$f":"SUM(C272:J272)","v":0}]
[null,null,null,null,null,null,null,null,null,null,{"$f":"SUM(C273:J273)","v":0}]
[null,null,null,null,null,null,null,null,null,null,0]
[null,null,null,null,null,null,null,null,null,null,0]
[null,null,null,null,null,null,null,null,null,null,0]
[null,null,null,null,null,null,null,null,null,null,0]
[null,null,null,null,null,null,null,null,null,null,0]
[null,null,null,null,null,null,null,null,null,null,0]
[null,null,null,null,null,null,null,null,null,null,0]
[null,null,null,null,null,null,null,null,null,null,0]
[null,null,null,null,null,null,null,null,null,null,0]
[null,null,null,null,null,null,null,null,null,null,0]
[null,null,null,null,null,null,null,null,null,null,0]
[null,null,null,null,null,null,null,null,null,null,0]
[null,null,null,null,null,null,null,null,null,null,0]
[null,null,null,null,null,null,null,null,null,null,0]
[null,null,null,null,null,null,null,null,null,null,0]
[null,null,null,null,null,null,null,null,null,null,0]
[null,null,null,null,null,null,null,null,null,null,0]
[null,null,null,null,null,null,null,null,null,null,0]
[null,null,null,null,null,null,null,null,null,null,0]
[null,null,null,null,null,null,null,null,null,null,0]
[null,null,null,null,null,null,null,null,null,null,0]
[null,null,null,null,null,null,null,null,null,null,0]
[null,null,null,null,null,null,null,null,null,null,0]
[null,null,null,null,null,null,null,null,null,null,{"$f":"SUM(C297:J297)","v":0}]
[null,null,null,null,null,null,null,null,null,null,{"$f":"SUM(C298:J298)","v":0}]
[null,null,null,null,null,null,null,null,null,null,0]
[null,null,null,null,null,null,null,null,null,null,0]
[null,null,null,null,null,null,null,null,null,null,0]
[null,null,null,null,null,null,null,null,null,null,0]
[null,null,null,null,null,null,null,null,null,null,0]
[null,null,null,null,null,null,null,null,null,null,0]
[null,null,null,null,null,null,null,null,null,null,0]
[null,null,null,null,null,null,null,null,null,null,0]
[null,null,null,null,null,null,null,null,null,null,0]
[null,null,null,null,null,null,null,null,null,null,0]
[null,null,null,null,null,null,null,null,null,null,0]
[null,null,null,null,null,null,null,null,null,null,0]
[null,null,null,null,null,null,null,null,null,null,0]
[null,null,null,null,null,null,null,null,null,null,0]
[null,null,null,null,null,null,null,null,null,null,0]
[null,null,null,null,null,null,null,null,null,null,0]
[null,null,null,null,null,null,null,null,null,null,0]
[null,null,null,null,null,null,null,null,null,null,0]
[null,null,null,null,null,null,null,null,null,null,0]
[null,null,null,null,null,null,null,null,null,null,0]
[null,null,null,null,null,null,null,null,null,null,0]
[null,null,null,null,null,null,null,null,null,null,0]
[null,null,null,null,null,null,null,null,null,null,0]
["TOT Jour",null,{"$f":"SUM(C272:C321)","v":0},{"$f":"SUM(D272:D321)","v":0},0,0,0,0,0,0]
["TOT Période",null,{"$f":"SUM(C322:J322)","v":0}]
["Statistiques"]
[]
[]
["Nombre d'heure de fréquentation :"]
[{"$f":"Accueil!$A41","v":"P1"},{"$f":"$C$91*1.5","v":0},"heures de présence pour cet atelier et pour cette période"]
[{"$f":"Accueil!$A42","v":"P2"},{"$f":"$C$149*1.5","v":0},"heures de présence pour cet atelier et pour cette période"]
[{"$f":"Accueil!$A43","v":"P3"},{"$f":"$C$207*1.5","v":0},"heures de présence pour cet atelier et pour cette période"]
[{"$f":"Accueil!$A44","v":"P4"},{"$f":"$C$265*1.5","v":0},"heures de présence pour cet atelier et pour cette période"]
[{"$f":"Accueil!$A45","v":"P5"},{"$f":"$C$323*1.5","v":0},"heures de présence pour cet atelier et pour cette période"]
["TOT",{"$f":"SUM($B$328:$B$332)","v":0},"heures de présence pour cet atelier et pour l'année"]

{"sheet":"8","index":23,"n_rows":333,"n_cols":11,"rows_kept":333,"cut":false,"hidden":true,"merged":[[90,0,90,1],[90,2,90,9],[8,1,15,9],[33,0,34,10],[37,0,37,3],[37,4,37,5],[89,0,89,1],[91,0,92,10],[95,0,95,3],[95,4,95,5],[147,0,147,1],[148,0,148,1],[148,2,148,9],[149,0,150,10],[153,0,153,3],[153,4,153,5],[205,0,205,1],[206,0,206,1],[206,2,206,9],[207,0,208,10],[211,0,211,3],[211,4,211,5],[263,0,263,1],[264,0,264,1],[264,2,264,9],[265,0,266,10],[269,0,269,3],[269,4,269,5],[321,0,321,1],[322,0,322,1],[322,2,322,9],[332,2,332,6],[323,0,324,10],[327,2,327,6],[328,2,328,6],[329,2,329,6],[330,2,330,6],[331,2,331,6]]}
[]
[]
[]
[]
[]
[]
[]
[]
[null,{"$f":"Accueil!B29","v":8}]
[]
[]
[]
[]
[]
[]
[]
[]
[]
[]
[]
[]
[]
[]
[]
[]
[]
[]
[]
[]
[]
[]
[]
[]
[{"$f":"B9","v":8}]
[]
[]
["Période :",{"$f":"Accueil!$A$41","v":"P1"},{"$f":"Accueil!$B$41","v":"du"},{"$f":"Accueil!$C$41","v":"2014-09-02"},{"$f":"Accueil!$D$41","v":"au"},{"$f":"Accueil!$E$41","v":"2014-10-18"}]
["Selectionnez la classe participant à l'atelier :"]
["NOM","Prénom","2014-09-02","2014-05-26","2014-05-27","2014-05-28","2014-05-29","2014-05-30","2014-05-31","2014-06-01","TOT"]
[null,null,null,null,null,null,null,null,null,null,{"$f":"SUM(C40:J40)","v":0}]
[null,null,null,null,null,null,null,null,null,null,{"$f":"SUM(C41:J41)","v":0}]
[null,null,null,null,null,null,null,null,null,null,0]
[null,null,null,null,null,null,null,null,null,null,0]
[null,null,null,null,null,null,null,null,null,null,0]
[null,null,null,null,null,null,null,null,null,null,0]
[null,null,null,null,null,null,null,null,null,null,0]
[null,null,null,null,null,null,null,null,null,null,0]
[null,null,null,null,null,null,null,null,null,null,0]
[null,null,null,null,null,null,null,null,null,null,0]
[null,null,null,null,null,null,null,null,null,null,0]
[null,null,null,null,null,null,null,null,null,null,0]
[null,null,null,null,null,null,null,null,null,null,0]
[null,null,null,null,null,null,null,null,null,null,0]
[null,null,null,null,null,null,null,null,null,null,0]
[null,null,null,null,null,null,null,null,null,null,0]
[null,null,null,null,null,null,null,null,null,null,0]
[null,null,null,null,null,null,null,null,null,null,0]
[null,null,null,null,null,null,null,null,null,null,0]
[null,null,null,null,null,null,null,null,null,null,0]
[null,null,null,null,null,null,null,null,null,null,0]
[null,null,null,null,null,null,null,null,null,null,0]
[null,null,null,null,null,null,null,null,null,null,0]
[null,null,null,null,null,null,null,null,null,null,0]
[null,null,null,null,null,null,null,null,null,null,0]
[null,null,null,null,null,null,null,null,null,null,{"$f":"SUM(C65:J65)","v":0}]
[null,null,null,null,null,null,null,null,null,null,{"$f":"SUM(C66:J66)","v":0}]
[null,null,null,null,null,null,null,null,null,null,0]
[null,null,null,null,null,null,null,null,null,null,0]
[null,null,null,null,null,null,null,null,null,null,0]
[null,null,null,null,null,null,null,null,null,null,0]
[null,null,null,null,null,null,null,null,null,null,0]
[null,null,null,null,null,null,null,null,null,null,0]
[null,null,null,null,null,null,null,null,null,null,0]
[null,null,null,null,null,null,null,null,null,null,0]
[null,null,null,null,null,null,null,null,null,null,0]
[null,null,null,null,null,null,null,null,null,null,0]
[null,null,null,null,null,null,null,null,null,null,0]
[null,null,null,null,null,null,null,null,null,null,0]
[null,null,null,null,null,null,null,null,null,null,0]
[null,null,null,null,null,null,null,null,null,null,0]
[null,null,null,null,null,null,null,null,null,null,0]
[null,null,null,null,null,null,null,null,null,null,0]
[null,null,null,null,null,null,null,null,null,null,0]
[null,null,null,null,null,null,null,null,null,null,0]
[null,null,null,null,null,null,null,null,null,null,0]
[null,null,null,null,null,null,null,null,null,null,0]
[null,null,null,null,null,null,null,null,null,null,0]
[null,null,null,null,null,null,null,null,null,null,0]
[null,null,null,null,null,null,null,null,null,null,0]
["TOT Jour",null,{"$f":"SUM(C40:C89)","v":0},{"$f":"SUM(D40:D89)","v":0},0,0,0,0,0,0]
["TOT Période",null,{"$f":"SUM(C90:J90)","v":0}]
[{"$f":"B9","v":8}]
[]
[]
["Période :",{"$f":"Accueil!$A42","v":"P2"},{"$f":"Accueil!$B42","v":"du"},{"$f":"Accueil!$C42","v":"2014-11-02"},{"$f":"Accueil!$D42","v":"au"},{"$f":"Accueil!$E42","v":"2014-12-18"}]
["Selectionnez la classe participant à l'atelier :"]
["NOM","Prénom","2014-05-25","2014-05-26","2014-05-27","2014-05-28","2014-05-29","2014-05-30","2014-05-31","2014-06-01","TOT"]
[null,null,null,null,null,null,null,null,null,null,{"$f":"SUM(C98:J98)","v":0}]
[null,null,null,null,null,null,null,null,null,null,{"$f":"SUM(C99:J99)","v":0}]
[null,null,null,null,null,null,null,null,null,null,0]
[null,null,null,null,null,null,null,null,null,null,0]
[null,null,null,null,null,null,null,null,null,null,0]
[null,null,null,null,null,null,null,null,null,null,0]
[null,null,null,null,null,null,null,null,null,null,0]
[null,null,null,null,null,null,null,null,null,null,0]
[null,null,null,null,null,null,null,null,null,null,0]
[null,null,null,null,null,null,null,null,null,null,0]
[null,null,null,null,null,null,null,null,null,null,0]
[null,null,null,null,null,null,null,null,null,null,0]
[null,null,null,null,null,null,null,null,null,null,0]
[null,null,null,null,null,null,null,null,null,null,0]
[null,null,null,null,null,null,null,null,null,null,0]
[null,null,null,null,null,null,null,null,null,null,0]
[null,null,null,null,null,null,null,null,null,null,0]
[null,null,null,null,null,null,null,null,null,null,0]
[null,null,null,null,null,null,null,null,null,null,0]
[null,null,null,null,null,null,null,null,null,null,0]
[null,null,null,null,null,null,null,null,null,null,0]
[null,null,null,null,null,null,null,null,null,null,0]
[null,null,null,null,null,null,null,null,null,null,0]
[null,null,null,null,null,null,null,null,null,null,0]
[null,null,null,null,null,null,null,null,null,null,0]
[null,null,null,null,null,null,null,null,null,null,{"$f":"SUM(C123:J123)","v":0}]
[null,null,null,null,null,null,null,null,null,null,{"$f":"SUM(C124:J124)","v":0}]
[null,null,null,null,null,null,null,null,null,null,0]
[null,null,null,null,null,null,null,null,null,null,0]
[null,null,null,null,null,null,null,null,null,null,0]
[null,null,null,null,null,null,null,null,null,null,0]
[null,null,null,null,null,null,null,null,null,null,0]
[null,null,null,null,null,null,null,null,null,null,0]
[null,null,null,null,null,null,null,null,null,null,0]
[null,null,null,null,null,null,null,null,null,null,0]
[null,null,null,null,null,null,null,null,null,null,0]
[null,null,null,null,null,null,null,null,null,null,0]
[null,null,null,null,null,null,null,null,null,null,0]
[null,null,null,null,null,null,null,null,null,null,0]
[null,null,null,null,null,null,null,null,null,null,0]
[null,null,null,null,null,null,null,null,null,null,0]
[null,null,null,null,null,null,null,null,null,null,0]
[null,null,null,null,null,null,null,null,null,null,0]
[null,null,null,null,null,null,null,null,null,null,0]
[null,null,null,null,null,null,null,null,null,null,0]
[null,null,null,null,null,null,null,null,null,null,0]
[null,null,null,null,null,null,null,null,null,null,0]
[null,null,null,null,null,null,null,null,null,null,0]
[null,null,null,null,null,null,null,null,null,null,0]
[null,null,null,null,null,null,null,null,null,null,0]
["TOT Jour",null,{"$f":"SUM(C98:C147)","v":0},{"$f":"SUM(D98:D147)","v":0},0,0,0,0,0,0]
["TOT Période",null,{"$f":"SUM(C148:J148)","v":0}]
[{"$f":"B9","v":8}]
[]
[]
["Période :",{"$f":"Accueil!A43","v":"P3"},{"$f":"Accueil!$B43","v":"du"},{"$f":"Accueil!$C43","v":"2015-01-04"},{"$f":"Accueil!$D43","v":"au"},{"$f":"Accueil!$E43","v":"2015-02-20"}]
["Selectionnez la classe participant à l'atelier :"]
["NOM","Prénom","2014-05-25","2014-05-26","2014-05-27","2014-05-28","2014-05-29","2014-05-30","2014-05-31","2014-06-01","TOT"]
[null,null,null,null,null,null,null,null,null,null,{"$f":"SUM(C156:J156)","v":0}]
[null,null,null,null,null,null,null,null,null,null,{"$f":"SUM(C157:J157)","v":0}]
[null,null,null,null,null,null,null,null,null,null,0]
[null,null,null,null,null,null,null,null,null,null,0]
[null,null,null,null,null,null,null,null,null,null,0]
[null,null,null,null,null,null,null,null,null,null,0]
[null,null,null,null,null,null,null,null,null,null,0]
[null,null,null,null,null,null,null,null,null,null,0]
[null,null,null,null,null,null,null,null,null,null,0]
[null,null,null,null,null,null,null,null,null,null,0]
[null,null,null,null,null,null,null,null,null,null,0]
[null,null,null,null,null,null,null,null,null,null,0]
[null,null,null,null,null,null,null,null,null,null,0]
[null,null,null,null,null,null,null,null,null,null,0]
[null,null,null,null,null,null,null,null,null,null,0]
[null,null,null,null,null,null,null,null,null,null,0]
[null,null,null,null,null,null,null,null,null,null,0]
[null,null,null,null,null,null,null,null,null,null,0]
[null,null,null,null,null,null,null,null,null,null,0]
[null,null,null,null,null,null,null,null,null,null,0]
[null,null,null,null,null,null,null,null,null,null,0]
[null,null,null,null,null,null,null,null,null,null,0]
[null,null,null,null,null,null,null,null,null,null,0]
[null,null,null,null,null,null,null,null,null,null,0]
[null,null,null,null,null,null,null,null,null,null,0]
[null,null,null,null,null,null,null,null,null,null,{"$f":"SUM(C181:J181)","v":0}]
[null,null,null,null,null,null,null,null,null,null,{"$f":"SUM(C182:J182)","v":0}]
[null,null,null,null,null,null,null,null,null,null,0]
[null,null,null,null,null,null,null,null,null,null,0]
[null,null,null,null,null,null,null,null,null,null,0]
[null,null,null,null,null,null,null,null,null,null,0]
[null,null,null,null,null,null,null,null,null,null,0]
[null,null,null,null,null,null,null,null,null,null,0]
[null,null,null,null,null,null,null,null,null,null,0]
[null,null,null,null,null,null,null,null,null,null,0]
[null,null,null,null,null,null,null,null,null,null,0]
[null,null,null,null,null,null,null,null,null,null,0]
[null,null,null,null,null,null,null,null,null,null,0]
[null,null,null,null,null,null,null,null,null,null,0]
[null,null,null,null,null,null,null,null,null,null,0]
[null,null,null,null,null,null,null,null,null,null,0]
[null,null,null,null,null,null,null,null,null,null,0]
[null,null,null,null,null,null,null,null,null,null,0]
[null,null,null,null,null,null,null,null,null,null,0]
[null,null,null,null,null,null,null,null,null,null,0]
[null,null,null,null,null,null,null,null,null,null,0]
[null,null,null,null,null,null,null,null,null,null,0]
[null,null,null,null,null,null,null,null,null,null,0]
[null,null,null,null,null,null,null,null,null,null,0]
[null,null,null,null,null,null,null,null,null,null,0]
["TOT Jour",null,{"$f":"SUM(C156:C205)","v":0},{"$f":"SUM(D156:D205)","v":0},0,0,0,0,0,0]
["TOT Période",null,{"$f":"SUM(C206:J206)","v":0}]
[{"$f":"B9","v":8}]
[]
[]
["Période :",{"$f":"Accueil!A44","v":"P4"},{"$f":"Accueil!$B44","v":"du"},{"$f":"Accueil!$C44","v":"2015-03-08"},{"$f":"Accueil!$D44","v":"au"},{"$f":"Accueil!$E44","v":"2015-04-15"}]
["Selectionnez la classe participant à l'atelier :"]
["NOM","Prénom","2014-05-25","2014-05-26","2014-05-27","2014-05-28","2014-05-29","2014-05-30","2014-05-31","2014-06-01","TOT"]
[null,null,null,null,null,null,null,null,null,null,{"$f":"SUM(C214:J214)","v":0}]
[null,null,null,null,null,null,null,null,null,null,{"$f":"SUM(C215:J215)","v":0}]
[null,null,null,null,null,null,null,null,null,null,0]
[null,null,null,null,null,null,null,null,null,null,0]
[null,null,null,null,null,null,null,null,null,null,0]
[null,null,null,null,null,null,null,null,null,null,0]
[null,null,null,null,null,null,null,null,null,null,0]
[null,null,null,null,null,null,null,null,null,null,0]
[null,null,null,null,null,null,null,null,null,null,0]
[null,null,null,null,null,null,null,null,null,null,0]
[null,null,null,null,null,null,null,null,null,null,0]
[null,null,null,null,null,null,null,null,null,null,0]
[null,null,null,null,null,null,null,null,null,null,0]
[null,null,null,null,null,null,null,null,null,null,0]
[null,null,null,null,null,null,null,null,null,null,0]
[null,null,null,null,null,null,null,null,null,null,0]
[null,null,null,null,null,null,null,null,null,null,0]
[null,null,null,null,null,null,null,null,null,null,0]
[null,null,null,null,null,null,null,null,null,null,0]
[null,null,null,null,null,null,null,null,null,null,0]
[null,null,null,null,null,null,null,null,null,null,0]
[null,null,null,null,null,null,null,null,null,null,0]
[null,null,null,null,null,null,null,null,null,null,0]
[null,null,null,null,null,null,null,null,null,null,0]
[null,null,null,null,null,null,null,null,null,null,0]
[null,null,null,null,null,null,null,null,null,null,{"$f":"SUM(C239:J239)","v":0}]
[null,null,null,null,null,null,null,null,null,null,{"$f":"SUM(C240:J240)","v":0}]
[null,null,null,null,null,null,null,null,null,null,0]
[null,null,null,null,null,null,null,null,null,null,0]
[null,null,null,null,null,null,null,null,null,null,0]
[null,null,null,null,null,null,null,null,null,null,0]
[null,null,null,null,null,null,null,null,null,null,0]
[null,null,null,null,null,null,null,null,null,null,0]
[null,null,null,null,null,null,null,null,null,null,0]
[null,null,null,null,null,null,null,null,null,null,0]
[null,null,null,null,null,null,null,null,null,null,0]
[null,null,null,null,null,null,null,null,null,null,0]
[null,null,null,null,null,null,null,null,null,null,0]
[null,null,null,null,null,null,null,null,null,null,0]
[null,null,null,null,null,null,null,null,null,null,0]
[null,null,null,null,null,null,null,null,null,null,0]
[null,null,null,null,null,null,null,null,null,null,0]
[null,null,null,null,null,null,null,null,null,null,0]
[null,null,null,null,null,null,null,null,null,null,0]
[null,null,null,null,null,null,null,null,null,null,0]
[null,null,null,null,null,null,null,null,null,null,0]
[null,null,null,null,null,null,null,null,null,null,0]
[null,null,null,null,null,null,null,null,null,null,0]
[null,null,null,null,null,null,null,null,null,null,0]
[null,null,null,null,null,null,null,null,null,null,0]
["TOT Jour",null,{"$f":"SUM(C214:C263)","v":0},{"$f":"SUM(D214:D263)","v":0},0,0,0,0,0,0]
["TOT Période",null,{"$f":"SUM(C264:J264)","v":0}]
[{"$f":"B9","v":8}]
[]
[]
["Période :",{"$f":"Accueil!A45","v":"P5"},{"$f":"Accueil!$B45","v":"du"},{"$f":"Accueil!$C45","v":"2015-05-02"},{"$f":"Accueil!$D45","v":"au"},{"$f":"Accueil!$E45","v":"2015-07-03"}]
["Selectionnez la classe participant à l'atelier :"]
["NOM","Prénom","2014-05-25","2014-05-26","2014-05-27","2014-05-28","2014-05-29","2014-05-30","2014-05-31","2014-06-01","TOT"]
[null,null,null,null,null,null,null,null,null,null,{"$f":"SUM(C272:J272)","v":0}]
[null,null,null,null,null,null,null,null,null,null,{"$f":"SUM(C273:J273)","v":0}]
[null,null,null,null,null,null,null,null,null,null,0]
[null,null,null,null,null,null,null,null,null,null,0]
[null,null,null,null,null,null,null,null,null,null,0]
[null,null,null,null,null,null,null,null,null,null,0]
[null,null,null,null,null,null,null,null,null,null,0]
[null,null,null,null,null,null,null,null,null,null,0]
[null,null,null,null,null,null,null,null,null,null,0]
[null,null,null,null,null,null,null,null,null,null,0]
[null,null,null,null,null,null,null,null,null,null,0]
[null,null,null,null,null,null,null,null,null,null,0]
[null,null,null,null,null,null,null,null,null,null,0]
[null,null,null,null,null,null,null,null,null,null,0]
[null,null,null,null,null,null,null,null,null,null,0]
[null,null,null,null,null,null,null,null,null,null,0]
[null,null,null,null,null,null,null,null,null,null,0]
[null,null,null,null,null,null,null,null,null,null,0]
[null,null,null,null,null,null,null,null,null,null,0]
[null,null,null,null,null,null,null,null,null,null,0]
[null,null,null,null,null,null,null,null,null,null,0]
[null,null,null,null,null,null,null,null,null,null,0]
[null,null,null,null,null,null,null,null,null,null,0]
[null,null,null,null,null,null,null,null,null,null,0]
[null,null,null,null,null,null,null,null,null,null,0]
[null,null,null,null,null,null,null,null,null,null,{"$f":"SUM(C297:J297)","v":0}]
[null,null,null,null,null,null,null,null,null,null,{"$f":"SUM(C298:J298)","v":0}]
[null,null,null,null,null,null,null,null,null,null,0]
[null,null,null,null,null,null,null,null,null,null,0]
[null,null,null,null,null,null,null,null,null,null,0]
[null,null,null,null,null,null,null,null,null,null,0]
[null,null,null,null,null,null,null,null,null,null,0]
[null,null,null,null,null,null,null,null,null,null,0]
[null,null,null,null,null,null,null,null,null,null,0]
[null,null,null,null,null,null,null,null,null,null,0]
[null,null,null,null,null,null,null,null,null,null,0]
[null,null,null,null,null,null,null,null,null,null,0]
[null,null,null,null,null,null,null,null,null,null,0]
[null,null,null,null,null,null,null,null,null,null,0]
[null,null,null,null,null,null,null,null,null,null,0]
[null,null,null,null,null,null,null,null,null,null,0]
[null,null,null,null,null,null,null,null,null,null,0]
[null,null,null,null,null,null,null,null,null,null,0]
[null,null,null,null,null,null,null,null,null,null,0]
[null,null,null,null,null,null,null,null,null,null,0]
[null,null,null,null,null,null,null,null,null,null,0]
[null,null,null,null,null,null,null,null,null,null,0]
[null,null,null,null,null,null,null,null,null,null,0]
[null,null,null,null,null,null,null,null,null,null,0]
[null,null,null,null,null,null,null,null,null,null,0]
["TOT Jour",null,{"$f":"SUM(C272:C321)","v":0},{"$f":"SUM(D272:D321)","v":0},0,0,0,0,0,0]
["TOT Période",null,{"$f":"SUM(C322:J322)","v":0}]
["Statistiques"]
[]
[]
["Nombre d'heure de fréquentation :"]
[{"$f":"Accueil!$A41","v":"P1"},{"$f":"$C$91*1.5","v":0},"heures de présence pour cet atelier et pour cette période"]
[{"$f":"Accueil!$A42","v":"P2"},{"$f":"$C$149*1.5","v":0},"heures de présence pour cet atelier et pour cette période"]
[{"$f":"Accueil!$A43","v":"P3"},{"$f":"$C$207*1.5","v":0},"heures de présence pour cet atelier et pour cette période"]
[{"$f":"Accueil!$A44","v":"P4"},{"$f":"$C$265*1.5","v":0},"heures de présence pour cet atelier et pour cette période"]
[{"$f":"Accueil!$A45","v":"P5"},{"$f":"$C$323*1.5","v":0},"heures de présence pour cet atelier et pour cette période"]
["TOT",{"$f":"SUM($B$328:$B$332)","v":0},"heures de présence pour cet atelier et pour l'année"]

{"sheet":"9","index":24,"n_rows":333,"n_cols":11,"rows_kept":333,"cut":false,"hidden":true,"merged":[[90,0,90,1],[90,2,90,9],[8,1,15,9],[33,0,34,10],[37,0,37,3],[37,4,37,5],[89,0,89,1],[91,0,92,10],[95,0,95,3],[95,4,95,5],[147,0,147,1],[148,0,148,1],[148,2,148,9],[149,0,150,10],[153,0,153,3],[153,4,153,5],[205,0,205,1],[206,0,206,1],[206,2,206,9],[207,0,208,10],[211,0,211,3],[211,4,211,5],[263,0,263,1],[264,0,264,1],[264,2,264,9],[265,0,266,10],[269,0,269,3],[269,4,269,5],[321,0,321,1],[322,0,322,1],[322,2,322,9],[332,2,332,6],[323,0,324,10],[327,2,327,6],[328,2,328,6],[329,2,329,6],[330,2,330,6],[331,2,331,6]]}
[]
[]
[]
[]
[]
[]
[]
[]
[null,{"$f":"Accueil!B30","v":9}]
[]
[]
[]
[]
[]
[]
[]
[]
[]
[]
[]
[]
[]
[]
[]
[]
[]
[]
[]
[]
[]
[]
[]
[]
[{"$f":"B9","v":9}]
[]
[]
["Période :",{"$f":"Accueil!$A$41","v":"P1"},{"$f":"Accueil!$B$41","v":"du"},{"$f":"Accueil!$C$41","v":"2014-09-02"},{"$f":"Accueil!$D$41","v":"au"},{"$f":"Accueil!$E$41","v":"2014-10-18"}]
["Selectionnez la classe participant à l'atelier :"]
["NOM","Prénom","2014-09-02","2014-05-26","2014-05-27","2014-05-28","2014-05-29","2014-05-30","2014-05-31","2014-06-01","TOT"]
[null,null,null,null,null,null,null,null,null,null,{"$f":"SUM(C40:J40)","v":0}]
[null,null,null,null,null,null,null,null,null,null,{"$f":"SUM(C41:J41)","v":0}]
[null,null,null,null,null,null,null,null,null,null,0]
[null,null,null,null,null,null,null,null,null,null,0]
[null,null,null,null,null,null,null,null,null,null,0]
[null,null,null,null,null,null,null,null,null,null,0]
[null,null,null,null,null,null,null,null,null,null,0]
[null,null,null,null,null,null,null,null,null,null,0]
[null,null,null,null,null,null,null,null,null,null,0]
[null,null,null,null,null,null,null,null,null,null,0]
[null,null,null,null,null,null,null,null,null,null,0]
[null,null,null,null,null,null,null,null,null,null,0]
[null,null,null,null,null,null,null,null,null,null,0]
[null,null,null,null,null,null,null,null,null,null,0]
[null,null,null,null,null,null,null,null,null,null,0]
[null,null,null,null,null,null,null,null,null,null,0]
[null,null,null,null,null,null,null,null,null,null,0]
[null,null,null,null,null,null,null,null,null,null,0]
[null,null,null,null,null,null,null,null,null,null,0]
[null,null,null,null,null,null,null,null,null,null,0]
[null,null,null,null,null,null,null,null,null,null,0]
[null,null,null,null,null,null,null,null,null,null,0]
[null,null,null,null,null,null,null,null,null,null,0]
[null,null,null,null,null,null,null,null,null,null,0]
[null,null,null,null,null,null,null,null,null,null,0]
[null,null,null,null,null,null,null,null,null,null,{"$f":"SUM(C65:J65)","v":0}]
[null,null,null,null,null,null,null,null,null,null,{"$f":"SUM(C66:J66)","v":0}]
[null,null,null,null,null,null,null,null,null,null,0]
[null,null,null,null,null,null,null,null,null,null,0]
[null,null,null,null,null,null,null,null,null,null,0]
[null,null,null,null,null,null,null,null,null,null,0]
[null,null,null,null,null,null,null,null,null,null,0]
[null,null,null,null,null,null,null,null,null,null,0]
[null,null,null,null,null,null,null,null,null,null,0]
[null,null,null,null,null,null,null,null,null,null,0]
[null,null,null,null,null,null,null,null,null,null,0]
[null,null,null,null,null,null,null,null,null,null,0]
[null,null,null,null,null,null,null,null,null,null,0]
[null,null,null,null,null,null,null,null,null,null,0]
[null,null,null,null,null,null,null,null,null,null,0]
[null,null,null,null,null,null,null,null,null,null,0]
[null,null,null,null,null,null,null,null,null,null,0]
[null,null,null,null,null,null,null,null,null,null,0]
[null,null,null,null,null,null,null,null,null,null,0]
[null,null,null,null,null,null,null,null,null,null,0]
[null,null,null,null,null,null,null,null,null,null,0]
[null,null,null,null,null,null,null,null,null,null,0]
[null,null,null,null,null,null,null,null,null,null,0]
[null,null,null,null,null,null,null,null,null,null,0]
[null,null,null,null,null,null,null,null,null,null,0]
["TOT Jour",null,{"$f":"SUM(C40:C89)","v":0},{"$f":"SUM(D40:D89)","v":0},0,0,0,0,0,0]
["TOT Période",null,{"$f":"SUM(C90:J90)","v":0}]
[{"$f":"B9","v":9}]
[]
[]
["Période :",{"$f":"Accueil!$A42","v":"P2"},{"$f":"Accueil!$B42","v":"du"},{"$f":"Accueil!$C42","v":"2014-11-02"},{"$f":"Accueil!$D42","v":"au"},{"$f":"Accueil!$E42","v":"2014-12-18"}]
["Selectionnez la classe participant à l'atelier :"]
["NOM","Prénom","2014-05-25","2014-05-26","2014-05-27","2014-05-28","2014-05-29","2014-05-30","2014-05-31","2014-06-01","TOT"]
[null,null,null,null,null,null,null,null,null,null,{"$f":"SUM(C98:J98)","v":0}]
[null,null,null,null,null,null,null,null,null,null,{"$f":"SUM(C99:J99)","v":0}]
[null,null,null,null,null,null,null,null,null,null,0]
[null,null,null,null,null,null,null,null,null,null,0]
[null,null,null,null,null,null,null,null,null,null,0]
[null,null,null,null,null,null,null,null,null,null,0]
[null,null,null,null,null,null,null,null,null,null,0]
[null,null,null,null,null,null,null,null,null,null,0]
[null,null,null,null,null,null,null,null,null,null,0]
[null,null,null,null,null,null,null,null,null,null,0]
[null,null,null,null,null,null,null,null,null,null,0]
[null,null,null,null,null,null,null,null,null,null,0]
[null,null,null,null,null,null,null,null,null,null,0]
[null,null,null,null,null,null,null,null,null,null,0]
[null,null,null,null,null,null,null,null,null,null,0]
[null,null,null,null,null,null,null,null,null,null,0]
[null,null,null,null,null,null,null,null,null,null,0]
[null,null,null,null,null,null,null,null,null,null,0]
[null,null,null,null,null,null,null,null,null,null,0]
[null,null,null,null,null,null,null,null,null,null,0]
[null,null,null,null,null,null,null,null,null,null,0]
[null,null,null,null,null,null,null,null,null,null,0]
[null,null,null,null,null,null,null,null,null,null,0]
[null,null,null,null,null,null,null,null,null,null,0]
[null,null,null,null,null,null,null,null,null,null,0]
[null,null,null,null,null,null,null,null,null,null,{"$f":"SUM(C123:J123)","v":0}]
[null,null,null,null,null,null,null,null,null,null,{"$f":"SUM(C124:J124)","v":0}]
[null,null,null,null,null,null,null,null,null,null,0]
[null,null,null,null,null,null,null,null,null,null,0]
[null,null,null,null,null,null,null,null,null,null,0]
[null,null,null,null,null,null,null,null,null,null,0]
[null,null,null,null,null,null,null,null,null,null,0]
[null,null,null,null,null,null,null,null,null,null,0]
[null,null,null,null,null,null,null,null,null,null,0]
[null,null,null,null,null,null,null,null,null,null,0]
[null,null,null,null,null,null,null,null,null,null,0]
[null,null,null,null,null,null,null,null,null,null,0]
[null,null,null,null,null,null,null,null,null,null,0]
[null,null,null,null,null,null,null,null,null,null,0]
[null,null,null,null,null,null,null,null,null,null,0]
[null,null,null,null,null,null,null,null,null,null,0]
[null,null,null,null,null,null,null,null,null,null,0]
[null,null,null,null,null,null,null,null,null,null,0]
[null,null,null,null,null,null,null,null,null,null,0]
[null,null,null,null,null,null,null,null,null,null,0]
[null,null,null,null,null,null,null,null,null,null,0]
[null,null,null,null,null,null,null,null,null,null,0]
[null,null,null,null,null,null,null,null,null,null,0]
[null,null,null,null,null,null,null,null,null,null,0]
[null,null,null,null,null,null,null,null,null,null,0]
["TOT Jour",null,{"$f":"SUM(C98:C147)","v":0},{"$f":"SUM(D98:D147)","v":0},0,0,0,0,0,0]
["TOT Période",null,{"$f":"SUM(C148:J148)","v":0}]
[{"$f":"B9","v":9}]
[]
[]
["Période :",{"$f":"Accueil!A43","v":"P3"},{"$f":"Accueil!$B43","v":"du"},{"$f":"Accueil!$C43","v":"2015-01-04"},{"$f":"Accueil!$D43","v":"au"},{"$f":"Accueil!$E43","v":"2015-02-20"}]
["Selectionnez la classe participant à l'atelier :"]
["NOM","Prénom","2014-05-25","2014-05-26","2014-05-27","2014-05-28","2014-05-29","2014-05-30","2014-05-31","2014-06-01","TOT"]
[null,null,null,null,null,null,null,null,null,null,{"$f":"SUM(C156:J156)","v":0}]
[null,null,null,null,null,null,null,null,null,null,{"$f":"SUM(C157:J157)","v":0}]
[null,null,null,null,null,null,null,null,null,null,0]
[null,null,null,null,null,null,null,null,null,null,0]
[null,null,null,null,null,null,null,null,null,null,0]
[null,null,null,null,null,null,null,null,null,null,0]
[null,null,null,null,null,null,null,null,null,null,0]
[null,null,null,null,null,null,null,null,null,null,0]
[null,null,null,null,null,null,null,null,null,null,0]
[null,null,null,null,null,null,null,null,null,null,0]
[null,null,null,null,null,null,null,null,null,null,0]
[null,null,null,null,null,null,null,null,null,null,0]
[null,null,null,null,null,null,null,null,null,null,0]
[null,null,null,null,null,null,null,null,null,null,0]
[null,null,null,null,null,null,null,null,null,null,0]
[null,null,null,null,null,null,null,null,null,null,0]
[null,null,null,null,null,null,null,null,null,null,0]
[null,null,null,null,null,null,null,null,null,null,0]
[null,null,null,null,null,null,null,null,null,null,0]
[null,null,null,null,null,null,null,null,null,null,0]
[null,null,null,null,null,null,null,null,null,null,0]
[null,null,null,null,null,null,null,null,null,null,0]
[null,null,null,null,null,null,null,null,null,null,0]
[null,null,null,null,null,null,null,null,null,null,0]
[null,null,null,null,null,null,null,null,null,null,0]
[null,null,null,null,null,null,null,null,null,null,{"$f":"SUM(C181:J181)","v":0}]
[null,null,null,null,null,null,null,null,null,null,{"$f":"SUM(C182:J182)","v":0}]
[null,null,null,null,null,null,null,null,null,null,0]
[null,null,null,null,null,null,null,null,null,null,0]
[null,null,null,null,null,null,null,null,null,null,0]
[null,null,null,null,null,null,null,null,null,null,0]
[null,null,null,null,null,null,null,null,null,null,0]
[null,null,null,null,null,null,null,null,null,null,0]
[null,null,null,null,null,null,null,null,null,null,0]
[null,null,null,null,null,null,null,null,null,null,0]
[null,null,null,null,null,null,null,null,null,null,0]
[null,null,null,null,null,null,null,null,null,null,0]
[null,null,null,null,null,null,null,null,null,null,0]
[null,null,null,null,null,null,null,null,null,null,0]
[null,null,null,null,null,null,null,null,null,null,0]
[null,null,null,null,null,null,null,null,null,null,0]
[null,null,null,null,null,null,null,null,null,null,0]
[null,null,null,null,null,null,null,null,null,null,0]
[null,null,null,null,null,null,null,null,null,null,0]
[null,null,null,null,null,null,null,null,null,null,0]
[null,null,null,null,null,null,null,null,null,null,0]
[null,null,null,null,null,null,null,null,null,null,0]
[null,null,null,null,null,null,null,null,null,null,0]
[null,null,null,null,null,null,null,null,null,null,0]
[null,null,null,null,null,null,null,null,null,null,0]
["TOT Jour",null,{"$f":"SUM(C156:C205)","v":0},{"$f":"SUM(D156:D205)","v":0},0,0,0,0,0,0]
["TOT Période",null,{"$f":"SUM(C206:J206)","v":0}]
[{"$f":"B9","v":9}]
[]
[]
["Période :",{"$f":"Accueil!A44","v":"P4"},{"$f":"Accueil!$B44","v":"du"},{"$f":"Accueil!$C44","v":"2015-03-08"},{"$f":"Accueil!$D44","v":"au"},{"$f":"Accueil!$E44","v":"2015-04-15"}]
["Selectionnez la classe participant à l'atelier :"]
["NOM","Prénom","2014-05-25","2014-05-26","2014-05-27","2014-05-28","2014-05-29","2014-05-30","2014-05-31","2014-06-01","TOT"]
[null,null,null,null,null,null,null,null,null,null,{"$f":"SUM(C214:J214)","v":0}]
[null,null,null,null,null,null,null,null,null,null,{"$f":"SUM(C215:J215)","v":0}]
[null,null,null,null,null,null,null,null,null,null,0]
[null,null,null,null,null,null,null,null,null,null,0]
[null,null,null,null,null,null,null,null,null,null,0]
[null,null,null,null,null,null,null,null,null,null,0]
[null,null,null,null,null,null,null,null,null,null,0]
[null,null,null,null,null,null,null,null,null,null,0]
[null,null,null,null,null,null,null,null,null,null,0]
[null,null,null,null,null,null,null,null,null,null,0]
[null,null,null,null,null,null,null,null,null,null,0]
[null,null,null,null,null,null,null,null,null,null,0]
[null,null,null,null,null,null,null,null,null,null,0]
[null,null,null,null,null,null,null,null,null,null,0]
[null,null,null,null,null,null,null,null,null,null,0]
[null,null,null,null,null,null,null,null,null,null,0]
[null,null,null,null,null,null,null,null,null,null,0]
[null,null,null,null,null,null,null,null,null,null,0]
[null,null,null,null,null,null,null,null,null,null,0]
[null,null,null,null,null,null,null,null,null,null,0]
[null,null,null,null,null,null,null,null,null,null,0]
[null,null,null,null,null,null,null,null,null,null,0]
[null,null,null,null,null,null,null,null,null,null,0]
[null,null,null,null,null,null,null,null,null,null,0]
[null,null,null,null,null,null,null,null,null,null,0]
[null,null,null,null,null,null,null,null,null,null,{"$f":"SUM(C239:J239)","v":0}]
[null,null,null,null,null,null,null,null,null,null,{"$f":"SUM(C240:J240)","v":0}]
[null,null,null,null,null,null,null,null,null,null,0]
[null,null,null,null,null,null,null,null,null,null,0]
[null,null,null,null,null,null,null,null,null,null,0]
[null,null,null,null,null,null,null,null,null,null,0]
[null,null,null,null,null,null,null,null,null,null,0]
[null,null,null,null,null,null,null,null,null,null,0]
[null,null,null,null,null,null,null,null,null,null,0]
[null,null,null,null,null,null,null,null,null,null,0]
[null,null,null,null,null,null,null,null,null,null,0]
[null,null,null,null,null,null,null,null,null,null,0]
[null,null,null,null,null,null,null,null,null,null,0]
[null,null,null,null,null,null,null,null,null,null,0]
[null,null,null,null,null,null,null,null,null,null,0]
[null,null,null,null,null,null,null,null,null,null,0]
[null,null,null,null,null,null,null,null,null,null,0]
[null,null,null,null,null,null,null,null,null,null,0]
[null,null,null,null,null,null,null,null,null,null,0]
[null,null,null,null,null,null,null,null,null,null,0]
[null,null,null,null,null,null,null,null,null,null,0]
[null,null,null,null,null,null,null,null,null,null,0]
[null,null,null,null,null,null,null,null,null,null,0]
[null,null,null,null,null,null,null,null,null,null,0]
[null,null,null,null,null,null,null,null,null,null,0]
["TOT Jour",null,{"$f":"SUM(C214:C263)","v":0},{"$f":"SUM(D214:D263)","v":0},0,0,0,0,0,0]
["TOT Période",null,{"$f":"SUM(C264:J264)","v":0}]
[{"$f":"B9","v":9}]
[]
[]
["Période :",{"$f":"Accueil!A45","v":"P5"},{"$f":"Accueil!$B45","v":"du"},{"$f":"Accueil!$C45","v":"2015-05-02"},{"$f":"Accueil!$D45","v":"au"},{"$f":"Accueil!$E45","v":"2015-07-03"}]
["Selectionnez la classe participant à l'atelier :"]
["NOM","Prénom","2014-05-25","2014-05-26","2014-05-27","2014-05-28","2014-05-29","2014-05-30","2014-05-31","2014-06-01","TOT"]
[null,null,null,null,null,null,null,null,null,null,{"$f":"SUM(C272:J272)","v":0}]
[null,null,null,null,null,null,null,null,null,null,{"$f":"SUM(C273:J273)","v":0}]
[null,null,null,null,null,null,null,null,null,null,0]
[null,null,null,null,null,null,null,null,null,null,0]
[null,null,null,null,null,null,null,null,null,null,0]
[null,null,null,null,null,null,null,null,null,null,0]
[null,null,null,null,null,null,null,null,null,null,0]
[null,null,null,null,null,null,null,null,null,null,0]
[null,null,null,null,null,null,null,null,null,null,0]
[null,null,null,null,null,null,null,null,null,null,0]
[null,null,null,null,null,null,null,null,null,null,0]
[null,null,null,null,null,null,null,null,null,null,0]
[null,null,null,null,null,null,null,null,null,null,0]
[null,null,null,null,null,null,null,null,null,null,0]
[null,null,null,null,null,null,null,null,null,null,0]
[null,null,null,null,null,null,null,null,null,null,0]
[null,null,null,null,null,null,null,null,null,null,0]
[null,null,null,null,null,null,null,null,null,null,0]
[null,null,null,null,null,null,null,null,null,null,0]
[null,null,null,null,null,null,null,null,null,null,0]
[null,null,null,null,null,null,null,null,null,null,0]
[null,null,null,null,null,null,null,null,null,null,0]
[null,null,null,null,null,null,null,null,null,null,0]
[null,null,null,null,null,null,null,null,null,null,0]
[null,null,null,null,null,null,null,null,null,null,0]
[null,null,null,null,null,null,null,null,null,null,{"$f":"SUM(C297:J297)","v":0}]
[null,null,null,null,null,null,null,null,null,null,{"$f":"SUM(C298:J298)","v":0}]
[null,null,null,null,null,null,null,null,null,null,0]
[null,null,null,null,null,null,null,null,null,null,0]
[null,null,null,null,null,null,null,null,null,null,0]
[null,null,null,null,null,null,null,null,null,null,0]
[null,null,null,null,null,null,null,null,null,null,0]
[null,null,null,null,null,null,null,null,null,null,0]
[null,null,null,null,null,null,null,null,null,null,0]
[null,null,null,null,null,null,null,null,null,null,0]
[null,null,null,null,null,null,null,null,null,null,0]
[null,null,null,null,null,null,null,null,null,null,0]
[null,null,null,null,null,null,null,null,null,null,0]
[null,null,null,null,null,null,null,null,null,null,0]
[null,null,null,null,null,null,null,null,null,null,0]
[null,null,null,null,null,null,null,null,null,null,0]
[null,null,null,null,null,null,null,null,null,null,0]
[null,null,null,null,null,null,null,null,null,null,0]
[null,null,null,null,null,null,null,null,null,null,0]
[null,null,null,null,null,null,null,null,null,null,0]
[null,null,null,null,null,null,null,null,null,null,0]
[null,null,null,null,null,null,null,null,null,null,0]
[null,null,null,null,null,null,null,null,null,null,0]
[null,null,null,null,null,null,null,null,null,null,0]
[null,null,null,null,null,null,null,null,null,null,0]
["TOT Jour",null,{"$f":"SUM(C272:C321)","v":0},{"$f":"SUM(D272:D321)","v":0},0,0,0,0,0,0]
["TOT Période",null,{"$f":"SUM(C322:J322)","v":0}]
["Statistiques"]
[]
[]
["Nombre d'heure de fréquentation :"]
[{"$f":"Accueil!$A41","v":"P1"},{"$f":"$C$91*1.5","v":0},"heures de présence pour cet atelier et pour cette période"]
[{"$f":"Accueil!$A42","v":"P2"},{"$f":"$C$149*1.5","v":0},"heures de présence pour cet atelier et pour cette période"]
[{"$f":"Accueil!$A43","v":"P3"},{"$f":"$C$207*1.5","v":0},"heures de présence pour cet atelier et pour cette période"]
[{"$f":"Accueil!$A44","v":"P4"},{"$f":"$C$265*1.5","v":0},"heures de présence pour cet atelier et pour cette période"]
[{"$f":"Accueil!$A45","v":"P5"},{"$f":"$C$323*1.5","v":0},"heures de présence pour cet atelier et pour cette période"]
["TOT",{"$f":"SUM($B$328:$B$332)","v":0},"heures de présence pour cet atelier et pour l'année"]

{"sheet":"10","index":25,"n_rows":333,"n_cols":11,"rows_kept":333,"cut":false,"hidden":true,"merged":[[90,0,90,1],[90,2,90,9],[8,1,15,9],[33,0,34,10],[37,0,37,3],[37,4,37,5],[89,0,89,1],[91,0,92,10],[95,0,95,3],[95,4,95,5],[147,0,147,1],[148,0,148,1],[148,2,148,9],[149,0,150,10],[153,0,153,3],[153,4,153,5],[205,0,205,1],[206,0,206,1],[206,2,206,9],[207,0,208,10],[211,0,211,3],[211,4,211,5],[263,0,263,1],[264,0,264,1],[264,2,264,9],[265,0,266,10],[269,0,269,3],[269,4,269,5],[321,0,321,1],[322,0,322,1],[322,2,322,9],[332,2,332,6],[323,0,324,10],[327,2,327,6],[328,2,328,6],[329,2,329,6],[330,2,330,6],[331,2,331,6]]}
[]
[]
[]
[]
[]
[]
[]
[]
[null,{"$f":"Accueil!B31","v":10}]
[]
[]
[]
[]
[]
[]
[]
[]
[]
[]
[]
[]
[]
[]
[]
[]
[]
[]
[]
[]
[]
[]
[]
[]
[{"$f":"B9","v":10}]
[]
[]
["Période :",{"$f":"Accueil!$A$41","v":"P1"},{"$f":"Accueil!$B$41","v":"du"},{"$f":"Accueil!$C$41","v":"2014-09-02"},{"$f":"Accueil!$D$41","v":"au"},{"$f":"Accueil!$E$41","v":"2014-10-18"}]
["Selectionnez la classe participant à l'atelier :"]
["NOM","Prénom","2014-09-02","2014-05-26","2014-05-27","2014-05-28","2014-05-29","2014-05-30","2014-05-31","2014-06-01","TOT"]
[null,null,null,null,null,null,null,null,null,null,{"$f":"SUM(C40:J40)","v":0}]
[null,null,null,null,null,null,null,null,null,null,{"$f":"SUM(C41:J41)","v":0}]
[null,null,null,null,null,null,null,null,null,null,0]
[null,null,null,null,null,null,null,null,null,null,0]
[null,null,null,null,null,null,null,null,null,null,0]
[null,null,null,null,null,null,null,null,null,null,0]
[null,null,null,null,null,null,null,null,null,null,0]
[null,null,null,null,null,null,null,null,null,null,0]
[null,null,null,null,null,null,null,null,null,null,0]
[null,null,null,null,null,null,null,null,null,null,0]
[null,null,null,null,null,null,null,null,null,null,0]
[null,null,null,null,null,null,null,null,null,null,0]
[null,null,null,null,null,null,null,null,null,null,0]
[null,null,null,null,null,null,null,null,null,null,0]
[null,null,null,null,null,null,null,null,null,null,0]
[null,null,null,null,null,null,null,null,null,null,0]
[null,null,null,null,null,null,null,null,null,null,0]
[null,null,null,null,null,null,null,null,null,null,0]
[null,null,null,null,null,null,null,null,null,null,0]
[null,null,null,null,null,null,null,null,null,null,0]
[null,null,null,null,null,null,null,null,null,null,0]
[null,null,null,null,null,null,null,null,null,null,0]
[null,null,null,null,null,null,null,null,null,null,0]
[null,null,null,null,null,null,null,null,null,null,0]
[null,null,null,null,null,null,null,null,null,null,0]
[null,null,null,null,null,null,null,null,null,null,{"$f":"SUM(C65:J65)","v":0}]
[null,null,null,null,null,null,null,null,null,null,{"$f":"SUM(C66:J66)","v":0}]
[null,null,null,null,null,null,null,null,null,null,0]
[null,null,null,null,null,null,null,null,null,null,0]
[null,null,null,null,null,null,null,null,null,null,0]
[null,null,null,null,null,null,null,null,null,null,0]
[null,null,null,null,null,null,null,null,null,null,0]
[null,null,null,null,null,null,null,null,null,null,0]
[null,null,null,null,null,null,null,null,null,null,0]
[null,null,null,null,null,null,null,null,null,null,0]
[null,null,null,null,null,null,null,null,null,null,0]
[null,null,null,null,null,null,null,null,null,null,0]
[null,null,null,null,null,null,null,null,null,null,0]
[null,null,null,null,null,null,null,null,null,null,0]
[null,null,null,null,null,null,null,null,null,null,0]
[null,null,null,null,null,null,null,null,null,null,0]
[null,null,null,null,null,null,null,null,null,null,0]
[null,null,null,null,null,null,null,null,null,null,0]
[null,null,null,null,null,null,null,null,null,null,0]
[null,null,null,null,null,null,null,null,null,null,0]
[null,null,null,null,null,null,null,null,null,null,0]
[null,null,null,null,null,null,null,null,null,null,0]
[null,null,null,null,null,null,null,null,null,null,0]
[null,null,null,null,null,null,null,null,null,null,0]
[null,null,null,null,null,null,null,null,null,null,0]
["TOT Jour",null,{"$f":"SUM(C40:C89)","v":0},{"$f":"SUM(D40:D89)","v":0},0,0,0,0,0,0]
["TOT Période",null,{"$f":"SUM(C90:J90)","v":0}]
[{"$f":"B9","v":10}]
[]
[]
["Période :",{"$f":"Accueil!$A42","v":"P2"},{"$f":"Accueil!$B42","v":"du"},{"$f":"Accueil!$C42","v":"2014-11-02"},{"$f":"Accueil!$D42","v":"au"},{"$f":"Accueil!$E42","v":"2014-12-18"}]
["Selectionnez la classe participant à l'atelier :"]
["NOM","Prénom","2014-05-25","2014-05-26","2014-05-27","2014-05-28","2014-05-29","2014-05-30","2014-05-31","2014-06-01","TOT"]
[null,null,null,null,null,null,null,null,null,null,{"$f":"SUM(C98:J98)","v":0}]
[null,null,null,null,null,null,null,null,null,null,{"$f":"SUM(C99:J99)","v":0}]
[null,null,null,null,null,null,null,null,null,null,0]
[null,null,null,null,null,null,null,null,null,null,0]
[null,null,null,null,null,null,null,null,null,null,0]
[null,null,null,null,null,null,null,null,null,null,0]
[null,null,null,null,null,null,null,null,null,null,0]
[null,null,null,null,null,null,null,null,null,null,0]
[null,null,null,null,null,null,null,null,null,null,0]
[null,null,null,null,null,null,null,null,null,null,0]
[null,null,null,null,null,null,null,null,null,null,0]
[null,null,null,null,null,null,null,null,null,null,0]
[null,null,null,null,null,null,null,null,null,null,0]
[null,null,null,null,null,null,null,null,null,null,0]
[null,null,null,null,null,null,null,null,null,null,0]
[null,null,null,null,null,null,null,null,null,null,0]
[null,null,null,null,null,null,null,null,null,null,0]
[null,null,null,null,null,null,null,null,null,null,0]
[null,null,null,null,null,null,null,null,null,null,0]
[null,null,null,null,null,null,null,null,null,null,0]
[null,null,null,null,null,null,null,null,null,null,0]
[null,null,null,null,null,null,null,null,null,null,0]
[null,null,null,null,null,null,null,null,null,null,0]
[null,null,null,null,null,null,null,null,null,null,0]
[null,null,null,null,null,null,null,null,null,null,0]
[null,null,null,null,null,null,null,null,null,null,{"$f":"SUM(C123:J123)","v":0}]
[null,null,null,null,null,null,null,null,null,null,{"$f":"SUM(C124:J124)","v":0}]
[null,null,null,null,null,null,null,null,null,null,0]
[null,null,null,null,null,null,null,null,null,null,0]
[null,null,null,null,null,null,null,null,null,null,0]
[null,null,null,null,null,null,null,null,null,null,0]
[null,null,null,null,null,null,null,null,null,null,0]
[null,null,null,null,null,null,null,null,null,null,0]
[null,null,null,null,null,null,null,null,null,null,0]
[null,null,null,null,null,null,null,null,null,null,0]
[null,null,null,null,null,null,null,null,null,null,0]
[null,null,null,null,null,null,null,null,null,null,0]
[null,null,null,null,null,null,null,null,null,null,0]
[null,null,null,null,null,null,null,null,null,null,0]
[null,null,null,null,null,null,null,null,null,null,0]
[null,null,null,null,null,null,null,null,null,null,0]
[null,null,null,null,null,null,null,null,null,null,0]
[null,null,null,null,null,null,null,null,null,null,0]
[null,null,null,null,null,null,null,null,null,null,0]
[null,null,null,null,null,null,null,null,null,null,0]
[null,null,null,null,null,null,null,null,null,null,0]
[null,null,null,null,null,null,null,null,null,null,0]
[null,null,null,null,null,null,null,null,null,null,0]
[null,null,null,null,null,null,null,null,null,null,0]
[null,null,null,null,null,null,null,null,null,null,0]
["TOT Jour",null,{"$f":"SUM(C98:C147)","v":0},{"$f":"SUM(D98:D147)","v":0},0,0,0,0,0,0]
["TOT Période",null,{"$f":"SUM(C148:J148)","v":0}]
[{"$f":"B9","v":10}]
[]
[]
["Période :",{"$f":"Accueil!A43","v":"P3"},{"$f":"Accueil!$B43","v":"du"},{"$f":"Accueil!$C43","v":"2015-01-04"},{"$f":"Accueil!$D43","v":"au"},{"$f":"Accueil!$E43","v":"2015-02-20"}]
["Selectionnez la classe participant à l'atelier :"]
["NOM","Prénom","2014-05-25","2014-05-26","2014-05-27","2014-05-28","2014-05-29","2014-05-30","2014-05-31","2014-06-01","TOT"]
[null,null,null,null,null,null,null,null,null,null,{"$f":"SUM(C156:J156)","v":0}]
[null,null,null,null,null,null,null,null,null,null,{"$f":"SUM(C157:J157)","v":0}]
[null,null,null,null,null,null,null,null,null,null,0]
[null,null,null,null,null,null,null,null,null,null,0]
[null,null,null,null,null,null,null,null,null,null,0]
[null,null,null,null,null,null,null,null,null,null,0]
[null,null,null,null,null,null,null,null,null,null,0]
[null,null,null,null,null,null,null,null,null,null,0]
[null,null,null,null,null,null,null,null,null,null,0]
[null,null,null,null,null,null,null,null,null,null,0]
[null,null,null,null,null,null,null,null,null,null,0]
[null,null,null,null,null,null,null,null,null,null,0]
[null,null,null,null,null,null,null,null,null,null,0]
[null,null,null,null,null,null,null,null,null,null,0]
[null,null,null,null,null,null,null,null,null,null,0]
[null,null,null,null,null,null,null,null,null,null,0]
[null,null,null,null,null,null,null,null,null,null,0]
[null,null,null,null,null,null,null,null,null,null,0]
[null,null,null,null,null,null,null,null,null,null,0]
[null,null,null,null,null,null,null,null,null,null,0]
[null,null,null,null,null,null,null,null,null,null,0]
[null,null,null,null,null,null,null,null,null,null,0]
[null,null,null,null,null,null,null,null,null,null,0]
[null,null,null,null,null,null,null,null,null,null,0]
[null,null,null,null,null,null,null,null,null,null,0]
[null,null,null,null,null,null,null,null,null,null,{"$f":"SUM(C181:J181)","v":0}]
[null,null,null,null,null,null,null,null,null,null,{"$f":"SUM(C182:J182)","v":0}]
[null,null,null,null,null,null,null,null,null,null,0]
[null,null,null,null,null,null,null,null,null,null,0]
[null,null,null,null,null,null,null,null,null,null,0]
[null,null,null,null,null,null,null,null,null,null,0]
[null,null,null,null,null,null,null,null,null,null,0]
[null,null,null,null,null,null,null,null,null,null,0]
[null,null,null,null,null,null,null,null,null,null,0]
[null,null,null,null,null,null,null,null,null,null,0]
[null,null,null,null,null,null,null,null,null,null,0]
[null,null,null,null,null,null,null,null,null,null,0]
[null,null,null,null,null,null,null,null,null,null,0]
[null,null,null,null,null,null,null,null,null,null,0]
[null,null,null,null,null,null,null,null,null,null,0]
[null,null,null,null,null,null,null,null,null,null,0]
[null,null,null,null,null,null,null,null,null,null,0]
[null,null,null,null,null,null,null,null,null,null,0]
[null,null,null,null,null,null,null,null,null,null,0]
[null,null,null,null,null,null,null,null,null,null,0]
[null,null,null,null,null,null,null,null,null,null,0]
[null,null,null,null,null,null,null,null,null,null,0]
[null,null,null,null,null,null,null,null,null,null,0]
[null,null,null,null,null,null,null,null,null,null,0]
[null,null,null,null,null,null,null,null,null,null,0]
["TOT Jour",null,{"$f":"SUM(C156:C205)","v":0},{"$f":"SUM(D156:D205)","v":0},0,0,0,0,0,0]
["TOT Période",null,{"$f":"SUM(C206:J206)","v":0}]
[{"$f":"B9","v":10}]
[]
[]
["Période :",{"$f":"Accueil!A44","v":"P4"},{"$f":"Accueil!$B44","v":"du"},{"$f":"Accueil!$C44","v":"2015-03-08"},{"$f":"Accueil!$D44","v":"au"},{"$f":"Accueil!$E44","v":"2015-04-15"}]
["Selectionnez la classe participant à l'atelier :"]
["NOM","Prénom","2014-05-25","2014-05-26","2014-05-27","2014-05-28","2014-05-29","2014-05-30","2014-05-31","2014-06-01","TOT"]
[null,null,null,null,null,null,null,null,null,null,{"$f":"SUM(C214:J214)","v":0}]
[null,null,null,null,null,null,null,null,null,null,{"$f":"SUM(C215:J215)","v":0}]
[null,null,null,null,null,null,null,null,null,null,0]
[null,null,null,null,null,null,null,null,null,null,0]
[null,null,null,null,null,null,null,null,null,null,0]
[null,null,null,null,null,null,null,null,null,null,0]
[null,null,null,null,null,null,null,null,null,null,0]
[null,null,null,null,null,null,null,null,null,null,0]
[null,null,null,null,null,null,null,null,null,null,0]
[null,null,null,null,null,null,null,null,null,null,0]
[null,null,null,null,null,null,null,null,null,null,0]
[null,null,null,null,null,null,null,null,null,null,0]
[null,null,null,null,null,null,null,null,null,null,0]
[null,null,null,null,null,null,null,null,null,null,0]
[null,null,null,null,null,null,null,null,null,null,0]
[null,null,null,null,null,null,null,null,null,null,0]
[null,null,null,null,null,null,null,null,null,null,0]
[null,null,null,null,null,null,null,null,null,null,0]
[null,null,null,null,null,null,null,null,null,null,0]
[null,null,null,null,null,null,null,null,null,null,0]
[null,null,null,null,null,null,null,null,null,null,0]
[null,null,null,null,null,null,null,null,null,null,0]
[null,null,null,null,null,null,null,null,null,null,0]
[null,null,null,null,null,null,null,null,null,null,0]
[null,null,null,null,null,null,null,null,null,null,0]
[null,null,null,null,null,null,null,null,null,null,{"$f":"SUM(C239:J239)","v":0}]
[null,null,null,null,null,null,null,null,null,null,{"$f":"SUM(C240:J240)","v":0}]
[null,null,null,null,null,null,null,null,null,null,0]
[null,null,null,null,null,null,null,null,null,null,0]
[null,null,null,null,null,null,null,null,null,null,0]
[null,null,null,null,null,null,null,null,null,null,0]
[null,null,null,null,null,null,null,null,null,null,0]
[null,null,null,null,null,null,null,null,null,null,0]
[null,null,null,null,null,null,null,null,null,null,0]
[null,null,null,null,null,null,null,null,null,null,0]
[null,null,null,null,null,null,null,null,null,null,0]
[null,null,null,null,null,null,null,null,null,null,0]
[null,null,null,null,null,null,null,null,null,null,0]
[null,null,null,null,null,null,null,null,null,null,0]
[null,null,null,null,null,null,null,null,null,null,0]
[null,null,null,null,null,null,null,null,null,null,0]
[null,null,null,null,null,null,null,null,null,null,0]
[null,null,null,null,null,null,null,null,null,null,0]
[null,null,null,null,null,null,null,null,null,null,0]
[null,null,null,null,null,null,null,null,null,null,0]
[null,null,null,null,null,null,null,null,null,null,0]
[null,null,null,null,null,null,null,null,null,null,0]
[null,null,null,null,null,null,null,null,null,null,0]
[null,null,null,null,null,null,null,null,null,null,0]
[null,null,null,null,null,null,null,null,null,null,0]
["TOT Jour",null,{"$f":"SUM(C214:C263)","v":0},{"$f":"SUM(D214:D263)","v":0},0,0,0,0,0,0]
["TOT Période",null,{"$f":"SUM(C264:J264)","v":0}]
[{"$f":"B9","v":10}]
[]
[]
["Période :",{"$f":"Accueil!A45","v":"P5"},{"$f":"Accueil!$B45","v":"du"},{"$f":"Accueil!$C45","v":"2015-05-02"},{"$f":"Accueil!$D45","v":"au"},{"$f":"Accueil!$E45","v":"2015-07-03"}]
["Selectionnez la classe participant à l'atelier :"]
["NOM","Prénom","2014-05-25","2014-05-26","2014-05-27","2014-05-28","2014-05-29","2014-05-30","2014-05-31","2014-06-01","TOT"]
[null,null,null,null,null,null,null,null,null,null,{"$f":"SUM(C272:J272)","v":0}]
[null,null,null,null,null,null,null,null,null,null,{"$f":"SUM(C273:J273)","v":0}]
[null,null,null,null,null,null,null,null,null,null,0]
[null,null,null,null,null,null,null,null,null,null,0]
[null,null,null,null,null,null,null,null,null,null,0]
[null,null,null,null,null,null,null,null,null,null,0]
[null,null,null,null,null,null,null,null,null,null,0]
[null,null,null,null,null,null,null,null,null,null,0]
[null,null,null,null,null,null,null,null,null,null,0]
[null,null,null,null,null,null,null,null,null,null,0]
[null,null,null,null,null,null,null,null,null,null,0]
[null,null,null,null,null,null,null,null,null,null,0]
[null,null,null,null,null,null,null,null,null,null,0]
[null,null,null,null,null,null,null,null,null,null,0]
[null,null,null,null,null,null,null,null,null,null,0]
[null,null,null,null,null,null,null,null,null,null,0]
[null,null,null,null,null,null,null,null,null,null,0]
[null,null,null,null,null,null,null,null,null,null,0]
[null,null,null,null,null,null,null,null,null,null,0]
[null,null,null,null,null,null,null,null,null,null,0]
[null,null,null,null,null,null,null,null,null,null,0]
[null,null,null,null,null,null,null,null,null,null,0]
[null,null,null,null,null,null,null,null,null,null,0]
[null,null,null,null,null,null,null,null,null,null,0]
[null,null,null,null,null,null,null,null,null,null,0]
[null,null,null,null,null,null,null,null,null,null,{"$f":"SUM(C297:J297)","v":0}]
[null,null,null,null,null,null,null,null,null,null,{"$f":"SUM(C298:J298)","v":0}]
[null,null,null,null,null,null,null,null,null,null,0]
[null,null,null,null,null,null,null,null,null,null,0]
[null,null,null,null,null,null,null,null,null,null,0]
[null,null,null,null,null,null,null,null,null,null,0]
[null,null,null,null,null,null,null,null,null,null,0]
[null,null,null,null,null,null,null,null,null,null,0]
[null,null,null,null,null,null,null,null,null,null,0]
[null,null,null,null,null,null,null,null,null,null,0]
[null,null,null,null,null,null,null,null,null,null,0]
[null,null,null,null,null,null,null,null,null,null,0]
[null,null,null,null,null,null,null,null,null,null,0]
[null,null,null,null,null,null,null,null,null,null,0]
[null,null,null,null,null,null,null,null,null,null,0]
[null,null,null,null,null,null,null,null,null,null,0]
[null,null,null,null,null,null,null,null,null,null,0]
[null,null,null,null,null,null,null,null,null,null,0]
[null,null,null,null,null,null,null,null,null,null,0]
[null,null,null,null,null,null,null,null,null,null,0]
[null,null,null,null,null,null,null,null,null,null,0]
[null,null,null,null,null,null,null,null,null,null,0]
[null,null,null,null,null,null,null,null,null,null,0]
[null,null,null,null,null,null,null,null,null,null,0]
[null,null,null,null,null,null,null,null,null,null,0]
["TOT Jour",null,{"$f":"SUM(C272:C321)","v":0},{"$f":"SUM(D272:D321)","v":0},0,0,0,0,0,0]
["TOT Période",null,{"$f":"SUM(C322:J322)","v":0}]
["Statistiques"]
[]
[]
["Nombre d'heure de fréquentation :"]
[{"$f":"Accueil!$A41","v":"P1"},{"$f":"$C$91*1.5","v":0},"heures de présence pour cet atelier et pour cette période"]
[{"$f":"Accueil!$A42","v":"P2"},{"$f":"$C$149*1.5","v":0},"heures de présence pour cet atelier et pour cette période"]
[{"$f":"Accueil!$A43","v":"P3"},{"$f":"$C$207*1.5","v":0},"heures de présence pour cet atelier et pour cette période"]
[{"$f":"Accueil!$A44","v":"P4"},{"$f":"$C$265*1.5","v":0},"heures de présence pour cet atelier et pour cette période"]
[{"$f":"Accueil!$A45","v":"P5"},{"$f":"$C$323*1.5","v":0},"heures de présence pour cet atelier et pour cette période"]
["TOT",{"$f":"SUM($B$328:$B$332)","v":0},"heures de présence pour cet atelier et pour l'année"]

{"sheet":"11","index":26,"n_rows":333,"n_cols":11,"rows_kept":333,"cut":false,"hidden":true,"merged":[[90,0,90,1],[90,2,90,9],[8,1,15,9],[33,0,34,10],[37,0,37,3],[37,4,37,5],[89,0,89,1],[91,0,92,10],[95,0,95,3],[95,4,95,5],[147,0,147,1],[148,0,148,1],[148,2,148,9],[149,0,150,10],[153,0,153,3],[153,4,153,5],[205,0,205,1],[206,0,206,1],[206,2,206,9],[207,0,208,10],[211,0,211,3],[211,4,211,5],[263,0,263,1],[264,0,264,1],[264,2,264,9],[265,0,266,10],[269,0,269,3],[269,4,269,5],[321,0,321,1],[322,0,322,1],[322,2,322,9],[332,2,332,6],[323,0,324,10],[327,2,327,6],[328,2,328,6],[329,2,329,6],[330,2,330,6],[331,2,331,6]]}
[]
[]
[]
[]
[]
[]
[]
[]
[null,{"$f":"Accueil!B32","v":11}]
[]
[]
[]
[]
[]
[]
[]
[]
[]
[]
[]
[]
[]
[]
[]
[]
[]
[]
[]
[]
[]
[]
[]
[]
[{"$f":"B9","v":11}]
[]
[]
["Période :",{"$f":"Accueil!$A$41","v":"P1"},{"$f":"Accueil!$B$41","v":"du"},{"$f":"Accueil!$C$41","v":"2014-09-02"},{"$f":"Accueil!$D$41","v":"au"},{"$f":"Accueil!$E$41","v":"2014-10-18"}]
["Selectionnez la classe participant à l'atelier :"]
["NOM","Prénom","2014-09-02","2014-05-26","2014-05-27","2014-05-28","2014-05-29","2014-05-30","2014-05-31","2014-06-01","TOT"]
[null,null,null,null,null,null,null,null,null,null,{"$f":"SUM(C40:J40)","v":0}]
[null,null,null,null,null,null,null,null,null,null,{"$f":"SUM(C41:J41)","v":0}]
[null,null,null,null,null,null,null,null,null,null,0]
[null,null,null,null,null,null,null,null,null,null,0]
[null,null,null,null,null,null,null,null,null,null,0]
[null,null,null,null,null,null,null,null,null,null,0]
[null,null,null,null,null,null,null,null,null,null,0]
[null,null,null,null,null,null,null,null,null,null,0]
[null,null,null,null,null,null,null,null,null,null,0]
[null,null,null,null,null,null,null,null,null,null,0]
[null,null,null,null,null,null,null,null,null,null,0]
[null,null,null,null,null,null,null,null,null,null,0]
[null,null,null,null,null,null,null,null,null,null,0]
[null,null,null,null,null,null,null,null,null,null,0]
[null,null,null,null,null,null,null,null,null,null,0]
[null,null,null,null,null,null,null,null,null,null,0]
[null,null,null,null,null,null,null,null,null,null,0]
[null,null,null,null,null,null,null,null,null,null,0]
[null,null,null,null,null,null,null,null,null,null,0]
[null,null,null,null,null,null,null,null,null,null,0]
[null,null,null,null,null,null,null,null,null,null,0]
[null,null,null,null,null,null,null,null,null,null,0]
[null,null,null,null,null,null,null,null,null,null,0]
[null,null,null,null,null,null,null,null,null,null,0]
[null,null,null,null,null,null,null,null,null,null,0]
[null,null,null,null,null,null,null,null,null,null,{"$f":"SUM(C65:J65)","v":0}]
[null,null,null,null,null,null,null,null,null,null,{"$f":"SUM(C66:J66)","v":0}]
[null,null,null,null,null,null,null,null,null,null,0]
[null,null,null,null,null,null,null,null,null,null,0]
[null,null,null,null,null,null,null,null,null,null,0]
[null,null,null,null,null,null,null,null,null,null,0]
[null,null,null,null,null,null,null,null,null,null,0]
[null,null,null,null,null,null,null,null,null,null,0]
[null,null,null,null,null,null,null,null,null,null,0]
[null,null,null,null,null,null,null,null,null,null,0]
[null,null,null,null,null,null,null,null,null,null,0]
[null,null,null,null,null,null,null,null,null,null,0]
[null,null,null,null,null,null,null,null,null,null,0]
[null,null,null,null,null,null,null,null,null,null,0]
[null,null,null,null,null,null,null,null,null,null,0]
[null,null,null,null,null,null,null,null,null,null,0]
[null,null,null,null,null,null,null,null,null,null,0]
[null,null,null,null,null,null,null,null,null,null,0]
[null,null,null,null,null,null,null,null,null,null,0]
[null,null,null,null,null,null,null,null,null,null,0]
[null,null,null,null,null,null,null,null,null,null,0]
[null,null,null,null,null,null,null,null,null,null,0]
[null,null,null,null,null,null,null,null,null,null,0]
[null,null,null,null,null,null,null,null,null,null,0]
[null,null,null,null,null,null,null,null,null,null,0]
["TOT Jour",null,{"$f":"SUM(C40:C89)","v":0},{"$f":"SUM(D40:D89)","v":0},0,0,0,0,0,0]
["TOT Période",null,{"$f":"SUM(C90:J90)","v":0}]
[{"$f":"B9","v":11}]
[]
[]
["Période :",{"$f":"Accueil!$A42","v":"P2"},{"$f":"Accueil!$B42","v":"du"},{"$f":"Accueil!$C42","v":"2014-11-02"},{"$f":"Accueil!$D42","v":"au"},{"$f":"Accueil!$E42","v":"2014-12-18"}]
["Selectionnez la classe participant à l'atelier :"]
["NOM","Prénom","2014-05-25","2014-05-26","2014-05-27","2014-05-28","2014-05-29","2014-05-30","2014-05-31","2014-06-01","TOT"]
[null,null,null,null,null,null,null,null,null,null,{"$f":"SUM(C98:J98)","v":0}]
[null,null,null,null,null,null,null,null,null,null,{"$f":"SUM(C99:J99)","v":0}]
[null,null,null,null,null,null,null,null,null,null,0]
[null,null,null,null,null,null,null,null,null,null,0]
[null,null,null,null,null,null,null,null,null,null,0]
[null,null,null,null,null,null,null,null,null,null,0]
[null,null,null,null,null,null,null,null,null,null,0]
[null,null,null,null,null,null,null,null,null,null,0]
[null,null,null,null,null,null,null,null,null,null,0]
[null,null,null,null,null,null,null,null,null,null,0]
[null,null,null,null,null,null,null,null,null,null,0]
[null,null,null,null,null,null,null,null,null,null,0]
[null,null,null,null,null,null,null,null,null,null,0]
[null,null,null,null,null,null,null,null,null,null,0]
[null,null,null,null,null,null,null,null,null,null,0]
[null,null,null,null,null,null,null,null,null,null,0]
[null,null,null,null,null,null,null,null,null,null,0]
[null,null,null,null,null,null,null,null,null,null,0]
[null,null,null,null,null,null,null,null,null,null,0]
[null,null,null,null,null,null,null,null,null,null,0]
[null,null,null,null,null,null,null,null,null,null,0]
[null,null,null,null,null,null,null,null,null,null,0]
[null,null,null,null,null,null,null,null,null,null,0]
[null,null,null,null,null,null,null,null,null,null,0]
[null,null,null,null,null,null,null,null,null,null,0]
[null,null,null,null,null,null,null,null,null,null,{"$f":"SUM(C123:J123)","v":0}]
[null,null,null,null,null,null,null,null,null,null,{"$f":"SUM(C124:J124)","v":0}]
[null,null,null,null,null,null,null,null,null,null,0]
[null,null,null,null,null,null,null,null,null,null,0]
[null,null,null,null,null,null,null,null,null,null,0]
[null,null,null,null,null,null,null,null,null,null,0]
[null,null,null,null,null,null,null,null,null,null,0]
[null,null,null,null,null,null,null,null,null,null,0]
[null,null,null,null,null,null,null,null,null,null,0]
[null,null,null,null,null,null,null,null,null,null,0]
[null,null,null,null,null,null,null,null,null,null,0]
[null,null,null,null,null,null,null,null,null,null,0]
[null,null,null,null,null,null,null,null,null,null,0]
[null,null,null,null,null,null,null,null,null,null,0]
[null,null,null,null,null,null,null,null,null,null,0]
[null,null,null,null,null,null,null,null,null,null,0]
[null,null,null,null,null,null,null,null,null,null,0]
[null,null,null,null,null,null,null,null,null,null,0]
[null,null,null,null,null,null,null,null,null,null,0]
[null,null,null,null,null,null,null,null,null,null,0]
[null,null,null,null,null,null,null,null,null,null,0]
[null,null,null,null,null,null,null,null,null,null,0]
[null,null,null,null,null,null,null,null,null,null,0]
[null,null,null,null,null,null,null,null,null,null,0]
[null,null,null,null,null,null,null,null,null,null,0]
["TOT Jour",null,{"$f":"SUM(C98:C147)","v":0},{"$f":"SUM(D98:D147)","v":0},0,0,0,0,0,0]
["TOT Période",null,{"$f":"SUM(C148:J148)","v":0}]
[{"$f":"B9","v":11}]
[]
[]
["Période :",{"$f":"Accueil!A43","v":"P3"},{"$f":"Accueil!$B43","v":"du"},{"$f":"Accueil!$C43","v":"2015-01-04"},{"$f":"Accueil!$D43","v":"au"},{"$f":"Accueil!$E43","v":"2015-02-20"}]
["Selectionnez la classe participant à l'atelier :"]
["NOM","Prénom","2014-05-25","2014-05-26","2014-05-27","2014-05-28","2014-05-29","2014-05-30","2014-05-31","2014-06-01","TOT"]
[null,null,null,null,null,null,null,null,null,null,{"$f":"SUM(C156:J156)","v":0}]
[null,null,null,null,null,null,null,null,null,null,{"$f":"SUM(C157:J157)","v":0}]
[null,null,null,null,null,null,null,null,null,null,0]
[null,null,null,null,null,null,null,null,null,null,0]
[null,null,null,null,null,null,null,null,null,null,0]
[null,null,null,null,null,null,null,null,null,null,0]
[null,null,null,null,null,null,null,null,null,null,0]
[null,null,null,null,null,null,null,null,null,null,0]
[null,null,null,null,null,null,null,null,null,null,0]
[null,null,null,null,null,null,null,null,null,null,0]
[null,null,null,null,null,null,null,null,null,null,0]
[null,null,null,null,null,null,null,null,null,null,0]
[null,null,null,null,null,null,null,null,null,null,0]
[null,null,null,null,null,null,null,null,null,null,0]
[null,null,null,null,null,null,null,null,null,null,0]
[null,null,null,null,null,null,null,null,null,null,0]
[null,null,null,null,null,null,null,null,null,null,0]
[null,null,null,null,null,null,null,null,null,null,0]
[null,null,null,null,null,null,null,null,null,null,0]
[null,null,null,null,null,null,null,null,null,null,0]
[null,null,null,null,null,null,null,null,null,null,0]
[null,null,null,null,null,null,null,null,null,null,0]
[null,null,null,null,null,null,null,null,null,null,0]
[null,null,null,null,null,null,null,null,null,null,0]
[null,null,null,null,null,null,null,null,null,null,0]
[null,null,null,null,null,null,null,null,null,null,{"$f":"SUM(C181:J181)","v":0}]
[null,null,null,null,null,null,null,null,null,null,{"$f":"SUM(C182:J182)","v":0}]
[null,null,null,null,null,null,null,null,null,null,0]
[null,null,null,null,null,null,null,null,null,null,0]
[null,null,null,null,null,null,null,null,null,null,0]
[null,null,null,null,null,null,null,null,null,null,0]
[null,null,null,null,null,null,null,null,null,null,0]
[null,null,null,null,null,null,null,null,null,null,0]
[null,null,null,null,null,null,null,null,null,null,0]
[null,null,null,null,null,null,null,null,null,null,0]
[null,null,null,null,null,null,null,null,null,null,0]
[null,null,null,null,null,null,null,null,null,null,0]
[null,null,null,null,null,null,null,null,null,null,0]
[null,null,null,null,null,null,null,null,null,null,0]
[null,null,null,null,null,null,null,null,null,null,0]
[null,null,null,null,null,null,null,null,null,null,0]
[null,null,null,null,null,null,null,null,null,null,0]
[null,null,null,null,null,null,null,null,null,null,0]
[null,null,null,null,null,null,null,null,null,null,0]
[null,null,null,null,null,null,null,null,null,null,0]
[null,null,null,null,null,null,null,null,null,null,0]
[null,null,null,null,null,null,null,null,null,null,0]
[null,null,null,null,null,null,null,null,null,null,0]
[null,null,null,null,null,null,null,null,null,null,0]
[null,null,null,null,null,null,null,null,null,null,0]
["TOT Jour",null,{"$f":"SUM(C156:C205)","v":0},{"$f":"SUM(D156:D205)","v":0},0,0,0,0,0,0]
["TOT Période",null,{"$f":"SUM(C206:J206)","v":0}]
[{"$f":"B9","v":11}]
[]
[]
["Période :",{"$f":"Accueil!A44","v":"P4"},{"$f":"Accueil!$B44","v":"du"},{"$f":"Accueil!$C44","v":"2015-03-08"},{"$f":"Accueil!$D44","v":"au"},{"$f":"Accueil!$E44","v":"2015-04-15"}]
["Selectionnez la classe participant à l'atelier :"]
["NOM","Prénom","2014-05-25","2014-05-26","2014-05-27","2014-05-28","2014-05-29","2014-05-30","2014-05-31","2014-06-01","TOT"]
[null,null,null,null,null,null,null,null,null,null,{"$f":"SUM(C214:J214)","v":0}]
[null,null,null,null,null,null,null,null,null,null,{"$f":"SUM(C215:J215)","v":0}]
[null,null,null,null,null,null,null,null,null,null,0]
[null,null,null,null,null,null,null,null,null,null,0]
[null,null,null,null,null,null,null,null,null,null,0]
[null,null,null,null,null,null,null,null,null,null,0]
[null,null,null,null,null,null,null,null,null,null,0]
[null,null,null,null,null,null,null,null,null,null,0]
[null,null,null,null,null,null,null,null,null,null,0]
[null,null,null,null,null,null,null,null,null,null,0]
[null,null,null,null,null,null,null,null,null,null,0]
[null,null,null,null,null,null,null,null,null,null,0]
[null,null,null,null,null,null,null,null,null,null,0]
[null,null,null,null,null,null,null,null,null,null,0]
[null,null,null,null,null,null,null,null,null,null,0]
[null,null,null,null,null,null,null,null,null,null,0]
[null,null,null,null,null,null,null,null,null,null,0]
[null,null,null,null,null,null,null,null,null,null,0]
[null,null,null,null,null,null,null,null,null,null,0]
[null,null,null,null,null,null,null,null,null,null,0]
[null,null,null,null,null,null,null,null,null,null,0]
[null,null,null,null,null,null,null,null,null,null,0]
[null,null,null,null,null,null,null,null,null,null,0]
[null,null,null,null,null,null,null,null,null,null,0]
[null,null,null,null,null,null,null,null,null,null,0]
[null,null,null,null,null,null,null,null,null,null,{"$f":"SUM(C239:J239)","v":0}]
[null,null,null,null,null,null,null,null,null,null,{"$f":"SUM(C240:J240)","v":0}]
[null,null,null,null,null,null,null,null,null,null,0]
[null,null,null,null,null,null,null,null,null,null,0]
[null,null,null,null,null,null,null,null,null,null,0]
[null,null,null,null,null,null,null,null,null,null,0]
[null,null,null,null,null,null,null,null,null,null,0]
[null,null,null,null,null,null,null,null,null,null,0]
[null,null,null,null,null,null,null,null,null,null,0]
[null,null,null,null,null,null,null,null,null,null,0]
[null,null,null,null,null,null,null,null,null,null,0]
[null,null,null,null,null,null,null,null,null,null,0]
[null,null,null,null,null,null,null,null,null,null,0]
[null,null,null,null,null,null,null,null,null,null,0]
[null,null,null,null,null,null,null,null,null,null,0]
[null,null,null,null,null,null,null,null,null,null,0]
[null,null,null,null,null,null,null,null,null,null,0]
[null,null,null,null,null,null,null,null,null,null,0]
[null,null,null,null,null,null,null,null,null,null,0]
[null,null,null,null,null,null,null,null,null,null,0]
[null,null,null,null,null,null,null,null,null,null,0]
[null,null,null,null,null,null,null,null,null,null,0]
[null,null,null,null,null,null,null,null,null,null,0]
[null,null,null,null,null,null,null,null,null,null,0]
[null,null,null,null,null,null,null,null,null,null,0]
["TOT Jour",null,{"$f":"SUM(C214:C263)","v":0},{"$f":"SUM(D214:D263)","v":0},0,0,0,0,0,0]
["TOT Période",null,{"$f":"SUM(C264:J264)","v":0}]
[{"$f":"B9","v":11}]
[]
[]
["Période :",{"$f":"Accueil!A45","v":"P5"},{"$f":"Accueil!$B45","v":"du"},{"$f":"Accueil!$C45","v":"2015-05-02"},{"$f":"Accueil!$D45","v":"au"},{"$f":"Accueil!$E45","v":"2015-07-03"}]
["Selectionnez la classe participant à l'atelier :"]
["NOM","Prénom","2014-05-25","2014-05-26","2014-05-27","2014-05-28","2014-05-29","2014-05-30","2014-05-31","2014-06-01","TOT"]
[null,null,null,null,null,null,null,null,null,null,{"$f":"SUM(C272:J272)","v":0}]
[null,null,null,null,null,null,null,null,null,null,{"$f":"SUM(C273:J273)","v":0}]
[null,null,null,null,null,null,null,null,null,null,0]
[null,null,null,null,null,null,null,null,null,null,0]
[null,null,null,null,null,null,null,null,null,null,0]
[null,null,null,null,null,null,null,null,null,null,0]
[null,null,null,null,null,null,null,null,null,null,0]
[null,null,null,null,null,null,null,null,null,null,0]
[null,null,null,null,null,null,null,null,null,null,0]
[null,null,null,null,null,null,null,null,null,null,0]
[null,null,null,null,null,null,null,null,null,null,0]
[null,null,null,null,null,null,null,null,null,null,0]
[null,null,null,null,null,null,null,null,null,null,0]
[null,null,null,null,null,null,null,null,null,null,0]
[null,null,null,null,null,null,null,null,null,null,0]
[null,null,null,null,null,null,null,null,null,null,0]
[null,null,null,null,null,null,null,null,null,null,0]
[null,null,null,null,null,null,null,null,null,null,0]
[null,null,null,null,null,null,null,null,null,null,0]
[null,null,null,null,null,null,null,null,null,null,0]
[null,null,null,null,null,null,null,null,null,null,0]
[null,null,null,null,null,null,null,null,null,null,0]
[null,null,null,null,null,null,null,null,null,null,0]
[null,null,null,null,null,null,null,null,null,null,0]
[null,null,null,null,null,null,null,null,null,null,0]
[null,null,null,null,null,null,null,null,null,null,{"$f":"SUM(C297:J297)","v":0}]
[null,null,null,null,null,null,null,null,null,null,{"$f":"SUM(C298:J298)","v":0}]
[null,null,null,null,null,null,null,null,null,null,0]
[null,null,null,null,null,null,null,null,null,null,0]
[null,null,null,null,null,null,null,null,null,null,0]
[null,null,null,null,null,null,null,null,null,null,0]
[null,null,null,null,null,null,null,null,null,null,0]
[null,null,null,null,null,null,null,null,null,null,0]
[null,null,null,null,null,null,null,null,null,null,0]
[null,null,null,null,null,null,null,null,null,null,0]
[null,null,null,null,null,null,null,null,null,null,0]
[null,null,null,null,null,null,null,null,null,null,0]
[null,null,null,null,null,null,null,null,null,null,0]
[null,null,null,null,null,null,null,null,null,null,0]
[null,null,null,null,null,null,null,null,null,null,0]
[null,null,null,null,null,null,null,null,null,null,0]
[null,null,null,null,null,null,null,null,null,null,0]
[null,null,null,null,null,null,null,null,null,null,0]
[null,null,null,null,null,null,null,null,null,null,0]
[null,null,null,null,null,null,null,null,null,null,0]
[null,null,null,null,null,null,null,null,null,null,0]
[null,null,null,null,null,null,null,null,null,null,0]
[null,null,null,null,null,null,null,null,null,null,0]
[null,null,null,null,null,null,null,null,null,null,0]
[null,null,null,null,null,null,null,null,null,null,0]
["TOT Jour",null,{"$f":"SUM(C272:C321)","v":0},{"$f":"SUM(D272:D321)","v":0},0,0,0,0,0,0]
["TOT Période",null,{"$f":"SUM(C322:J322)","v":0}]
["Statistiques"]
[]
[]
["Nombre d'heure de fréquentation :"]
[{"$f":"Accueil!$A41","v":"P1"},{"$f":"$C$91*1.5","v":0},"heures de présence pour cet atelier et pour cette période"]
[{"$f":"Accueil!$A42","v":"P2"},{"$f":"$C$149*1.5","v":0},"heures de présence pour cet atelier et pour cette période"]
[{"$f":"Accueil!$A43","v":"P3"},{"$f":"$C$207*1.5","v":0},"heures de présence pour cet atelier et pour cette période"]
[{"$f":"Accueil!$A44","v":"P4"},{"$f":"$C$265*1.5","v":0},"heures de présence pour cet atelier et pour cette période"]
[{"$f":"Accueil!$A45","v":"P5"},{"$f":"$C$323*1.5","v":0},"heures de présence pour cet atelier et pour cette période"]
["TOT",{"$f":"SUM($B$328:$B$332)","v":0},"heures de présence pour cet atelier et pour l'année"]

{"sheet":"12","index":27,"n_rows":333,"n_cols":11,"rows_kept":333,"cut":false,"hidden":true,"merged":[[90,0,90,1],[90,2,90,9],[8,1,15,9],[33,0,34,10],[37,0,37,3],[37,4,37,5],[89,0,89,1],[91,0,92,10],[95,0,95,3],[95,4,95,5],[147,0,147,1],[148,0,148,1],[148,2,148,9],[149,0,150,10],[153,0,153,3],[153,4,153,5],[205,0,205,1],[206,0,206,1],[206,2,206,9],[207,0,208,10],[211,0,211,3],[211,4,211,5],[263,0,263,1],[264,0,264,1],[264,2,264,9],[265,0,266,10],[269,0,269,3],[269,4,269,5],[321,0,321,1],[322,0,322,1],[322,2,322,9],[332,2,332,6],[323,0,324,10],[327,2,327,6],[328,2,328,6],[329,2,329,6],[330,2,330,6],[331,2,331,6]]}
[]
[]
[]
[]
[]
[]
[]
[]
[null,{"$f":"Accueil!B33","v":12}]
[]
[]
[]
[]
[]
[]
[]
[]
[]
[]
[]
[]
[]
[]
[]
[]
[]
[]
[]
[]
[]
[]
[]
[]
[{"$f":"B9","v":12}]
[]
[]
["Période :",{"$f":"Accueil!$A$41","v":"P1"},{"$f":"Accueil!$B$41","v":"du"},{"$f":"Accueil!$C$41","v":"2014-09-02"},{"$f":"Accueil!$D$41","v":"au"},{"$f":"Accueil!$E$41","v":"2014-10-18"}]
["Selectionnez la classe participant à l'atelier :"]
["NOM","Prénom","2014-09-02","2014-05-26","2014-05-27","2014-05-28","2014-05-29","2014-05-30","2014-05-31","2014-06-01","TOT"]
[null,null,null,null,null,null,null,null,null,null,{"$f":"SUM(C40:J40)","v":0}]
[null,null,null,null,null,null,null,null,null,null,{"$f":"SUM(C41:J41)","v":0}]
[null,null,null,null,null,null,null,null,null,null,0]
[null,null,null,null,null,null,null,null,null,null,0]
[null,null,null,null,null,null,null,null,null,null,0]
[null,null,null,null,null,null,null,null,null,null,0]
[null,null,null,null,null,null,null,null,null,null,0]
[null,null,null,null,null,null,null,null,null,null,0]
[null,null,null,null,null,null,null,null,null,null,0]
[null,null,null,null,null,null,null,null,null,null,0]
[null,null,null,null,null,null,null,null,null,null,0]
[null,null,null,null,null,null,null,null,null,null,0]
[null,null,null,null,null,null,null,null,null,null,0]
[null,null,null,null,null,null,null,null,null,null,0]
[null,null,null,null,null,null,null,null,null,null,0]
[null,null,null,null,null,null,null,null,null,null,0]
[null,null,null,null,null,null,null,null,null,null,0]
[null,null,null,null,null,null,null,null,null,null,0]
[null,null,null,null,null,null,null,null,null,null,0]
[null,null,null,null,null,null,null,null,null,null,0]
[null,null,null,null,null,null,null,null,null,null,0]
[null,null,null,null,null,null,null,null,null,null,0]
[null,null,null,null,null,null,null,null,null,null,0]
[null,null,null,null,null,null,null,null,null,null,0]
[null,null,null,null,null,null,null,null,null,null,0]
[null,null,null,null,null,null,null,null,null,null,{"$f":"SUM(C65:J65)","v":0}]
[null,null,null,null,null,null,null,null,null,null,{"$f":"SUM(C66:J66)","v":0}]
[null,null,null,null,null,null,null,null,null,null,0]
[null,null,null,null,null,null,null,null,null,null,0]
[null,null,null,null,null,null,null,null,null,null,0]
[null,null,null,null,null,null,null,null,null,null,0]
[null,null,null,null,null,null,null,null,null,null,0]
[null,null,null,null,null,null,null,null,null,null,0]
[null,null,null,null,null,null,null,null,null,null,0]
[null,null,null,null,null,null,null,null,null,null,0]
[null,null,null,null,null,null,null,null,null,null,0]
[null,null,null,null,null,null,null,null,null,null,0]
[null,null,null,null,null,null,null,null,null,null,0]
[null,null,null,null,null,null,null,null,null,null,0]
[null,null,null,null,null,null,null,null,null,null,0]
[null,null,null,null,null,null,null,null,null,null,0]
[null,null,null,null,null,null,null,null,null,null,0]
[null,null,null,null,null,null,null,null,null,null,0]
[null,null,null,null,null,null,null,null,null,null,0]
[null,null,null,null,null,null,null,null,null,null,0]
[null,null,null,null,null,null,null,null,null,null,0]
[null,null,null,null,null,null,null,null,null,null,0]
[null,null,null,null,null,null,null,null,null,null,0]
[null,null,null,null,null,null,null,null,null,null,0]
[null,null,null,null,null,null,null,null,null,null,0]
["TOT Jour",null,{"$f":"SUM(C40:C89)","v":0},{"$f":"SUM(D40:D89)","v":0},0,0,0,0,0,0]
["TOT Période",null,{"$f":"SUM(C90:J90)","v":0}]
[{"$f":"B9","v":12}]
[]
[]
["Période :",{"$f":"Accueil!$A42","v":"P2"},{"$f":"Accueil!$B42","v":"du"},{"$f":"Accueil!$C42","v":"2014-11-02"},{"$f":"Accueil!$D42","v":"au"},{"$f":"Accueil!$E42","v":"2014-12-18"}]
["Selectionnez la classe participant à l'atelier :"]
["NOM","Prénom","2014-05-25","2014-05-26","2014-05-27","2014-05-28","2014-05-29","2014-05-30","2014-05-31","2014-06-01","TOT"]
[null,null,null,null,null,null,null,null,null,null,{"$f":"SUM(C98:J98)","v":0}]
[null,null,null,null,null,null,null,null,null,null,{"$f":"SUM(C99:J99)","v":0}]
[null,null,null,null,null,null,null,null,null,null,0]
[null,null,null,null,null,null,null,null,null,null,0]
[null,null,null,null,null,null,null,null,null,null,0]
[null,null,null,null,null,null,null,null,null,null,0]
[null,null,null,null,null,null,null,null,null,null,0]
[null,null,null,null,null,null,null,null,null,null,0]
[null,null,null,null,null,null,null,null,null,null,0]
[null,null,null,null,null,null,null,null,null,null,0]
[null,null,null,null,null,null,null,null,null,null,0]
[null,null,null,null,null,null,null,null,null,null,0]
[null,null,null,null,null,null,null,null,null,null,0]
[null,null,null,null,null,null,null,null,null,null,0]
[null,null,null,null,null,null,null,null,null,null,0]
[null,null,null,null,null,null,null,null,null,null,0]
[null,null,null,null,null,null,null,null,null,null,0]
[null,null,null,null,null,null,null,null,null,null,0]
[null,null,null,null,null,null,null,null,null,null,0]
[null,null,null,null,null,null,null,null,null,null,0]
[null,null,null,null,null,null,null,null,null,null,0]
[null,null,null,null,null,null,null,null,null,null,0]
[null,null,null,null,null,null,null,null,null,null,0]
[null,null,null,null,null,null,null,null,null,null,0]
[null,null,null,null,null,null,null,null,null,null,0]
[null,null,null,null,null,null,null,null,null,null,{"$f":"SUM(C123:J123)","v":0}]
[null,null,null,null,null,null,null,null,null,null,{"$f":"SUM(C124:J124)","v":0}]
[null,null,null,null,null,null,null,null,null,null,0]
[null,null,null,null,null,null,null,null,null,null,0]
[null,null,null,null,null,null,null,null,null,null,0]
[null,null,null,null,null,null,null,null,null,null,0]
[null,null,null,null,null,null,null,null,null,null,0]
[null,null,null,null,null,null,null,null,null,null,0]
[null,null,null,null,null,null,null,null,null,null,0]
[null,null,null,null,null,null,null,null,null,null,0]
[null,null,null,null,null,null,null,null,null,null,0]
[null,null,null,null,null,null,null,null,null,null,0]
[null,null,null,null,null,null,null,null,null,null,0]
[null,null,null,null,null,null,null,null,null,null,0]
[null,null,null,null,null,null,null,null,null,null,0]
[null,null,null,null,null,null,null,null,null,null,0]
[null,null,null,null,null,null,null,null,null,null,0]
[null,null,null,null,null,null,null,null,null,null,0]
[null,null,null,null,null,null,null,null,null,null,0]
[null,null,null,null,null,null,null,null,null,null,0]
[null,null,null,null,null,null,null,null,null,null,0]
[null,null,null,null,null,null,null,null,null,null,0]
[null,null,null,null,null,null,null,null,null,null,0]
[null,null,null,null,null,null,null,null,null,null,0]
[null,null,null,null,null,null,null,null,null,null,0]
["TOT Jour",null,{"$f":"SUM(C98:C147)","v":0},{"$f":"SUM(D98:D147)","v":0},0,0,0,0,0,0]
["TOT Période",null,{"$f":"SUM(C148:J148)","v":0}]
[{"$f":"B9","v":12}]
[]
[]
["Période :",{"$f":"Accueil!A43","v":"P3"},{"$f":"Accueil!$B43","v":"du"},{"$f":"Accueil!$C43","v":"2015-01-04"},{"$f":"Accueil!$D43","v":"au"},{"$f":"Accueil!$E43","v":"2015-02-20"}]
["Selectionnez la classe participant à l'atelier :"]
["NOM","Prénom","2014-05-25","2014-05-26","2014-05-27","2014-05-28","2014-05-29","2014-05-30","2014-05-31","2014-06-01","TOT"]
[null,null,null,null,null,null,null,null,null,null,{"$f":"SUM(C156:J156)","v":0}]
[null,null,null,null,null,null,null,null,null,null,{"$f":"SUM(C157:J157)","v":0}]
[null,null,null,null,null,null,null,null,null,null,0]
[null,null,null,null,null,null,null,null,null,null,0]
[null,null,null,null,null,null,null,null,null,null,0]
[null,null,null,null,null,null,null,null,null,null,0]
[null,null,null,null,null,null,null,null,null,null,0]
[null,null,null,null,null,null,null,null,null,null,0]
[null,null,null,null,null,null,null,null,null,null,0]
[null,null,null,null,null,null,null,null,null,null,0]
[null,null,null,null,null,null,null,null,null,null,0]
[null,null,null,null,null,null,null,null,null,null,0]
[null,null,null,null,null,null,null,null,null,null,0]
[null,null,null,null,null,null,null,null,null,null,0]
[null,null,null,null,null,null,null,null,null,null,0]
[null,null,null,null,null,null,null,null,null,null,0]
[null,null,null,null,null,null,null,null,null,null,0]
[null,null,null,null,null,null,null,null,null,null,0]
[null,null,null,null,null,null,null,null,null,null,0]
[null,null,null,null,null,null,null,null,null,null,0]
[null,null,null,null,null,null,null,null,null,null,0]
[null,null,null,null,null,null,null,null,null,null,0]
[null,null,null,null,null,null,null,null,null,null,0]
[null,null,null,null,null,null,null,null,null,null,0]
[null,null,null,null,null,null,null,null,null,null,0]
[null,null,null,null,null,null,null,null,null,null,{"$f":"SUM(C181:J181)","v":0}]
[null,null,null,null,null,null,null,null,null,null,{"$f":"SUM(C182:J182)","v":0}]
[null,null,null,null,null,null,null,null,null,null,0]
[null,null,null,null,null,null,null,null,null,null,0]
[null,null,null,null,null,null,null,null,null,null,0]
[null,null,null,null,null,null,null,null,null,null,0]
[null,null,null,null,null,null,null,null,null,null,0]
[null,null,null,null,null,null,null,null,null,null,0]
[null,null,null,null,null,null,null,null,null,null,0]
[null,null,null,null,null,null,null,null,null,null,0]
[null,null,null,null,null,null,null,null,null,null,0]
[null,null,null,null,null,null,null,null,null,null,0]
[null,null,null,null,null,null,null,null,null,null,0]
[null,null,null,null,null,null,null,null,null,null,0]
[null,null,null,null,null,null,null,null,null,null,0]
[null,null,null,null,null,null,null,null,null,null,0]
[null,null,null,null,null,null,null,null,null,null,0]
[null,null,null,null,null,null,null,null,null,null,0]
[null,null,null,null,null,null,null,null,null,null,0]
[null,null,null,null,null,null,null,null,null,null,0]
[null,null,null,null,null,null,null,null,null,null,0]
[null,null,null,null,null,null,null,null,null,null,0]
[null,null,null,null,null,null,null,null,null,null,0]
[null,null,null,null,null,null,null,null,null,null,0]
[null,null,null,null,null,null,null,null,null,null,0]
["TOT Jour",null,{"$f":"SUM(C156:C205)","v":0},{"$f":"SUM(D156:D205)","v":0},0,0,0,0,0,0]
["TOT Période",null,{"$f":"SUM(C206:J206)","v":0}]
[{"$f":"B9","v":12}]
[]
[]
["Période :",{"$f":"Accueil!A44","v":"P4"},{"$f":"Accueil!$B44","v":"du"},{"$f":"Accueil!$C44","v":"2015-03-08"},{"$f":"Accueil!$D44","v":"au"},{"$f":"Accueil!$E44","v":"2015-04-15"}]
["Selectionnez la classe participant à l'atelier :"]
["NOM","Prénom","2014-05-25","2014-05-26","2014-05-27","2014-05-28","2014-05-29","2014-05-30","2014-05-31","2014-06-01","TOT"]
[null,null,null,null,null,null,null,null,null,null,{"$f":"SUM(C214:J214)","v":0}]
[null,null,null,null,null,null,null,null,null,null,{"$f":"SUM(C215:J215)","v":0}]
[null,null,null,null,null,null,null,null,null,null,0]
[null,null,null,null,null,null,null,null,null,null,0]
[null,null,null,null,null,null,null,null,null,null,0]
[null,null,null,null,null,null,null,null,null,null,0]
[null,null,null,null,null,null,null,null,null,null,0]
[null,null,null,null,null,null,null,null,null,null,0]
[null,null,null,null,null,null,null,null,null,null,0]
[null,null,null,null,null,null,null,null,null,null,0]
[null,null,null,null,null,null,null,null,null,null,0]
[null,null,null,null,null,null,null,null,null,null,0]
[null,null,null,null,null,null,null,null,null,null,0]
[null,null,null,null,null,null,null,null,null,null,0]
[null,null,null,null,null,null,null,null,null,null,0]
[null,null,null,null,null,null,null,null,null,null,0]
[null,null,null,null,null,null,null,null,null,null,0]
[null,null,null,null,null,null,null,null,null,null,0]
[null,null,null,null,null,null,null,null,null,null,0]
[null,null,null,null,null,null,null,null,null,null,0]
[null,null,null,null,null,null,null,null,null,null,0]
[null,null,null,null,null,null,null,null,null,null,0]
[null,null,null,null,null,null,null,null,null,null,0]
[null,null,null,null,null,null,null,null,null,null,0]
[null,null,null,null,null,null,null,null,null,null,0]
[null,null,null,null,null,null,null,null,null,null,{"$f":"SUM(C239:J239)","v":0}]
[null,null,null,null,null,null,null,null,null,null,{"$f":"SUM(C240:J240)","v":0}]
[null,null,null,null,null,null,null,null,null,null,0]
[null,null,null,null,null,null,null,null,null,null,0]
[null,null,null,null,null,null,null,null,null,null,0]
[null,null,null,null,null,null,null,null,null,null,0]
[null,null,null,null,null,null,null,null,null,null,0]
[null,null,null,null,null,null,null,null,null,null,0]
[null,null,null,null,null,null,null,null,null,null,0]
[null,null,null,null,null,null,null,null,null,null,0]
[null,null,null,null,null,null,null,null,null,null,0]
[null,null,null,null,null,null,null,null,null,null,0]
[null,null,null,null,null,null,null,null,null,null,0]
[null,null,null,null,null,null,null,null,null,null,0]
[null,null,null,null,null,null,null,null,null,null,0]
[null,null,null,null,null,null,null,null,null,null,0]
[null,null,null,null,null,null,null,null,null,null,0]
[null,null,null,null,null,null,null,null,null,null,0]
[null,null,null,null,null,null,null,null,null,null,0]
[null,null,null,null,null,null,null,null,null,null,0]
[null,null,null,null,null,null,null,null,null,null,0]
[null,null,null,null,null,null,null,null,null,null,0]
[null,null,null,null,null,null,null,null,null,null,0]
[null,null,null,null,null,null,null,null,null,null,0]
[null,null,null,null,null,null,null,null,null,null,0]
["TOT Jour",null,{"$f":"SUM(C214:C263)","v":0},{"$f":"SUM(D214:D263)","v":0},0,0,0,0,0,0]
["TOT Période",null,{"$f":"SUM(C264:J264)","v":0}]
[{"$f":"B9","v":12}]
[]
[]
["Période :",{"$f":"Accueil!A45","v":"P5"},{"$f":"Accueil!$B45","v":"du"},{"$f":"Accueil!$C45","v":"2015-05-02"},{"$f":"Accueil!$D45","v":"au"},{"$f":"Accueil!$E45","v":"2015-07-03"}]
["Selectionnez la classe participant à l'atelier :"]
["NOM","Prénom","2014-05-25","2014-05-26","2014-05-27","2014-05-28","2014-05-29","2014-05-30","2014-05-31","2014-06-01","TOT"]
[null,null,null,null,null,null,null,null,null,null,{"$f":"SUM(C272:J272)","v":0}]
[null,null,null,null,null,null,null,null,null,null,{"$f":"SUM(C273:J273)","v":0}]
[null,null,null,null,null,null,null,null,null,null,0]
[null,null,null,null,null,null,null,null,null,null,0]
[null,null,null,null,null,null,null,null,null,null,0]
[null,null,null,null,null,null,null,null,null,null,0]
[null,null,null,null,null,null,null,null,null,null,0]
[null,null,null,null,null,null,null,null,null,null,0]
[null,null,null,null,null,null,null,null,null,null,0]
[null,null,null,null,null,null,null,null,null,null,0]
[null,null,null,null,null,null,null,null,null,null,0]
[null,null,null,null,null,null,null,null,null,null,0]
[null,null,null,null,null,null,null,null,null,null,0]
[null,null,null,null,null,null,null,null,null,null,0]
[null,null,null,null,null,null,null,null,null,null,0]
[null,null,null,null,null,null,null,null,null,null,0]
[null,null,null,null,null,null,null,null,null,null,0]
[null,null,null,null,null,null,null,null,null,null,0]
[null,null,null,null,null,null,null,null,null,null,0]
[null,null,null,null,null,null,null,null,null,null,0]
[null,null,null,null,null,null,null,null,null,null,0]
[null,null,null,null,null,null,null,null,null,null,0]
[null,null,null,null,null,null,null,null,null,null,0]
[null,null,null,null,null,null,null,null,null,null,0]
[null,null,null,null,null,null,null,null,null,null,0]
[null,null,null,null,null,null,null,null,null,null,{"$f":"SUM(C297:J297)","v":0}]
[null,null,null,null,null,null,null,null,null,null,{"$f":"SUM(C298:J298)","v":0}]
[null,null,null,null,null,null,null,null,null,null,0]
[null,null,null,null,null,null,null,null,null,null,0]
[null,null,null,null,null,null,null,null,null,null,0]
[null,null,null,null,null,null,null,null,null,null,0]
[null,null,null,null,null,null,null,null,null,null,0]
[null,null,null,null,null,null,null,null,null,null,0]
[null,null,null,null,null,null,null,null,null,null,0]
[null,null,null,null,null,null,null,null,null,null,0]
[null,null,null,null,null,null,null,null,null,null,0]
[null,null,null,null,null,null,null,null,null,null,0]
[null,null,null,null,null,null,null,null,null,null,0]
[null,null,null,null,null,null,null,null,null,null,0]
[null,null,null,null,null,null,null,null,null,null,0]
[null,null,null,null,null,null,null,null,null,null,0]
[null,null,null,null,null,null,null,null,null,null,0]
[null,null,null,null,null,null,null,null,null,null,0]
[null,null,null,null,null,null,null,null,null,null,0]
[null,null,null,null,null,null,null,null,null,null,0]
[null,null,null,null,null,null,null,null,null,null,0]
[null,null,null,null,null,null,null,null,null,null,0]
[null,null,null,null,null,null,null,null,null,null,0]
[null,null,null,null,null,null,null,null,null,null,0]
[null,null,null,null,null,null,null,null,null,null,0]
["TOT Jour",null,{"$f":"SUM(C272:C321)","v":0},{"$f":"SUM(D272:D321)","v":0},0,0,0,0,0,0]
["TOT Période",null,{"$f":"SUM(C322:J322)","v":0}]
["Statistiques"]
[]
[]
["Nombre d'heure de fréquentation :"]
[{"$f":"Accueil!$A41","v":"P1"},{"$f":"$C$91*1.5","v":0},"heures de présence pour cet atelier et pour cette période"]
[{"$f":"Accueil!$A42","v":"P2"},{"$f":"$C$149*1.5","v":0},"heures de présence pour cet atelier et pour cette période"]
[{"$f":"Accueil!$A43","v":"P3"},{"$f":"$C$207*1.5","v":0},"heures de présence pour cet atelier et pour cette période"]
[{"$f":"Accueil!$A44","v":"P4"},{"$f":"$C$265*1.5","v":0},"heures de présence pour cet atelier et pour cette période"]
[{"$f":"Accueil!$A45","v":"P5"},{"$f":"$C$323*1.5","v":0},"heures de présence pour cet atelier et pour cette période"]
["TOT",{"$f":"SUM($B$328:$B$332)","v":0},"heures de présence pour cet atelier et pour l'année"]

{"sheet":"13","index":28,"n_rows":333,"n_cols":11,"rows_kept":333,"cut":false,"hidden":true,"merged":[[90,0,90,1],[90,2,90,9],[8,1,15,9],[33,0,34,10],[37,0,37,3],[37,4,37,5],[89,0,89,1],[91,0,92,10],[95,0,95,3],[95,4,95,5],[147,0,147,1],[148,0,148,1],[148,2,148,9],[149,0,150,10],[153,0,153,3],[153,4,153,5],[205,0,205,1],[206,0,206,1],[206,2,206,9],[207,0,208,10],[211,0,211,3],[211,4,211,5],[263,0,263,1],[264,0,264,1],[264,2,264,9],[265,0,266,10],[269,0,269,3],[269,4,269,5],[321,0,321,1],[322,0,322,1],[322,2,322,9],[332,2,332,6],[323,0,324,10],[327,2,327,6],[328,2,328,6],[329,2,329,6],[330,2,330,6],[331,2,331,6]]}
[]
[]
[]
[]
[]
[]
[]
[]
[null,{"$f":"Accueil!B34","v":13}]
[]
[]
[]
[]
[]
[]
[]
[]
[]
[]
[]
[]
[]
[]
[]
[]
[]
[]
[]
[]
[]
[]
[]
[]
[{"$f":"B9","v":13}]
[]
[]
["Période :",{"$f":"Accueil!$A$41","v":"P1"},{"$f":"Accueil!$B$41","v":"du"},{"$f":"Accueil!$C$41","v":"2014-09-02"},{"$f":"Accueil!$D$41","v":"au"},{"$f":"Accueil!$E$41","v":"2014-10-18"}]
["Selectionnez la classe participant à l'atelier :"]
["NOM","Prénom","2014-09-02","2014-05-26","2014-05-27","2014-05-28","2014-05-29","2014-05-30","2014-05-31","2014-06-01","TOT"]
[null,null,null,null,null,null,null,null,null,null,{"$f":"SUM(C40:J40)","v":0}]
[null,null,null,null,null,null,null,null,null,null,{"$f":"SUM(C41:J41)","v":0}]
[null,null,null,null,null,null,null,null,null,null,0]
[null,null,null,null,null,null,null,null,null,null,0]
[null,null,null,null,null,null,null,null,null,null,0]
[null,null,null,null,null,null,null,null,null,null,0]
[null,null,null,null,null,null,null,null,null,null,0]
[null,null,null,null,null,null,null,null,null,null,0]
[null,null,null,null,null,null,null,null,null,null,0]
[null,null,null,null,null,null,null,null,null,null,0]
[null,null,null,null,null,null,null,null,null,null,0]
[null,null,null,null,null,null,null,null,null,null,0]
[null,null,null,null,null,null,null,null,null,null,0]
[null,null,null,null,null,null,null,null,null,null,0]
[null,null,null,null,null,null,null,null,null,null,0]
[null,null,null,null,null,null,null,null,null,null,0]
[null,null,null,null,null,null,null,null,null,null,0]
[null,null,null,null,null,null,null,null,null,null,0]
[null,null,null,null,null,null,null,null,null,null,0]
[null,null,null,null,null,null,null,null,null,null,0]
[null,null,null,null,null,null,null,null,null,null,0]
[null,null,null,null,null,null,null,null,null,null,0]
[null,null,null,null,null,null,null,null,null,null,0]
[null,null,null,null,null,null,null,null,null,null,0]
[null,null,null,null,null,null,null,null,null,null,0]
[null,null,null,null,null,null,null,null,null,null,{"$f":"SUM(C65:J65)","v":0}]
[null,null,null,null,null,null,null,null,null,null,{"$f":"SUM(C66:J66)","v":0}]
[null,null,null,null,null,null,null,null,null,null,0]
[null,null,null,null,null,null,null,null,null,null,0]
[null,null,null,null,null,null,null,null,null,null,0]
[null,null,null,null,null,null,null,null,null,null,0]
[null,null,null,null,null,null,null,null,null,null,0]
[null,null,null,null,null,null,null,null,null,null,0]
[null,null,null,null,null,null,null,null,null,null,0]
[null,null,null,null,null,null,null,null,null,null,0]
[null,null,null,null,null,null,null,null,null,null,0]
[null,null,null,null,null,null,null,null,null,null,0]
[null,null,null,null,null,null,null,null,null,null,0]
[null,null,null,null,null,null,null,null,null,null,0]
[null,null,null,null,null,null,null,null,null,null,0]
[null,null,null,null,null,null,null,null,null,null,0]
[null,null,null,null,null,null,null,null,null,null,0]
[null,null,null,null,null,null,null,null,null,null,0]
[null,null,null,null,null,null,null,null,null,null,0]
[null,null,null,null,null,null,null,null,null,null,0]
[null,null,null,null,null,null,null,null,null,null,0]
[null,null,null,null,null,null,null,null,null,null,0]
[null,null,null,null,null,null,null,null,null,null,0]
[null,null,null,null,null,null,null,null,null,null,0]
[null,null,null,null,null,null,null,null,null,null,0]
["TOT Jour",null,{"$f":"SUM(C40:C89)","v":0},{"$f":"SUM(D40:D89)","v":0},0,0,0,0,0,0]
["TOT Période",null,{"$f":"SUM(C90:J90)","v":0}]
[{"$f":"B9","v":13}]
[]
[]
["Période :",{"$f":"Accueil!$A42","v":"P2"},{"$f":"Accueil!$B42","v":"du"},{"$f":"Accueil!$C42","v":"2014-11-02"},{"$f":"Accueil!$D42","v":"au"},{"$f":"Accueil!$E42","v":"2014-12-18"}]
["Selectionnez la classe participant à l'atelier :"]
["NOM","Prénom","2014-05-25","2014-05-26","2014-05-27","2014-05-28","2014-05-29","2014-05-30","2014-05-31","2014-06-01","TOT"]
[null,null,null,null,null,null,null,null,null,null,{"$f":"SUM(C98:J98)","v":0}]
[null,null,null,null,null,null,null,null,null,null,{"$f":"SUM(C99:J99)","v":0}]
[null,null,null,null,null,null,null,null,null,null,0]
[null,null,null,null,null,null,null,null,null,null,0]
[null,null,null,null,null,null,null,null,null,null,0]
[null,null,null,null,null,null,null,null,null,null,0]
[null,null,null,null,null,null,null,null,null,null,0]
[null,null,null,null,null,null,null,null,null,null,0]
[null,null,null,null,null,null,null,null,null,null,0]
[null,null,null,null,null,null,null,null,null,null,0]
[null,null,null,null,null,null,null,null,null,null,0]
[null,null,null,null,null,null,null,null,null,null,0]
[null,null,null,null,null,null,null,null,null,null,0]
[null,null,null,null,null,null,null,null,null,null,0]
[null,null,null,null,null,null,null,null,null,null,0]
[null,null,null,null,null,null,null,null,null,null,0]
[null,null,null,null,null,null,null,null,null,null,0]
[null,null,null,null,null,null,null,null,null,null,0]
[null,null,null,null,null,null,null,null,null,null,0]
[null,null,null,null,null,null,null,null,null,null,0]
[null,null,null,null,null,null,null,null,null,null,0]
[null,null,null,null,null,null,null,null,null,null,0]
[null,null,null,null,null,null,null,null,null,null,0]
[null,null,null,null,null,null,null,null,null,null,0]
[null,null,null,null,null,null,null,null,null,null,0]
[null,null,null,null,null,null,null,null,null,null,{"$f":"SUM(C123:J123)","v":0}]
[null,null,null,null,null,null,null,null,null,null,{"$f":"SUM(C124:J124)","v":0}]
[null,null,null,null,null,null,null,null,null,null,0]
[null,null,null,null,null,null,null,null,null,null,0]
[null,null,null,null,null,null,null,null,null,null,0]
[null,null,null,null,null,null,null,null,null,null,0]
[null,null,null,null,null,null,null,null,null,null,0]
[null,null,null,null,null,null,null,null,null,null,0]
[null,null,null,null,null,null,null,null,null,null,0]
[null,null,null,null,null,null,null,null,null,null,0]
[null,null,null,null,null,null,null,null,null,null,0]
[null,null,null,null,null,null,null,null,null,null,0]
[null,null,null,null,null,null,null,null,null,null,0]
[null,null,null,null,null,null,null,null,null,null,0]
[null,null,null,null,null,null,null,null,null,null,0]
[null,null,null,null,null,null,null,null,null,null,0]
[null,null,null,null,null,null,null,null,null,null,0]
[null,null,null,null,null,null,null,null,null,null,0]
[null,null,null,null,null,null,null,null,null,null,0]
[null,null,null,null,null,null,null,null,null,null,0]
[null,null,null,null,null,null,null,null,null,null,0]
[null,null,null,null,null,null,null,null,null,null,0]
[null,null,null,null,null,null,null,null,null,null,0]
[null,null,null,null,null,null,null,null,null,null,0]
[null,null,null,null,null,null,null,null,null,null,0]
["TOT Jour",null,{"$f":"SUM(C98:C147)","v":0},{"$f":"SUM(D98:D147)","v":0},0,0,0,0,0,0]
["TOT Période",null,{"$f":"SUM(C148:J148)","v":0}]
[{"$f":"B9","v":13}]
[]
[]
["Période :",{"$f":"Accueil!A43","v":"P3"},{"$f":"Accueil!$B43","v":"du"},{"$f":"Accueil!$C43","v":"2015-01-04"},{"$f":"Accueil!$D43","v":"au"},{"$f":"Accueil!$E43","v":"2015-02-20"}]
["Selectionnez la classe participant à l'atelier :"]
["NOM","Prénom","2014-05-25","2014-05-26","2014-05-27","2014-05-28","2014-05-29","2014-05-30","2014-05-31","2014-06-01","TOT"]
[null,null,null,null,null,null,null,null,null,null,{"$f":"SUM(C156:J156)","v":0}]
[null,null,null,null,null,null,null,null,null,null,{"$f":"SUM(C157:J157)","v":0}]
[null,null,null,null,null,null,null,null,null,null,0]
[null,null,null,null,null,null,null,null,null,null,0]
[null,null,null,null,null,null,null,null,null,null,0]
[null,null,null,null,null,null,null,null,null,null,0]
[null,null,null,null,null,null,null,null,null,null,0]
[null,null,null,null,null,null,null,null,null,null,0]
[null,null,null,null,null,null,null,null,null,null,0]
[null,null,null,null,null,null,null,null,null,null,0]
[null,null,null,null,null,null,null,null,null,null,0]
[null,null,null,null,null,null,null,null,null,null,0]
[null,null,null,null,null,null,null,null,null,null,0]
[null,null,null,null,null,null,null,null,null,null,0]
[null,null,null,null,null,null,null,null,null,null,0]
[null,null,null,null,null,null,null,null,null,null,0]
[null,null,null,null,null,null,null,null,null,null,0]
[null,null,null,null,null,null,null,null,null,null,0]
[null,null,null,null,null,null,null,null,null,null,0]
[null,null,null,null,null,null,null,null,null,null,0]
[null,null,null,null,null,null,null,null,null,null,0]
[null,null,null,null,null,null,null,null,null,null,0]
[null,null,null,null,null,null,null,null,null,null,0]
[null,null,null,null,null,null,null,null,null,null,0]
[null,null,null,null,null,null,null,null,null,null,0]
[null,null,null,null,null,null,null,null,null,null,{"$f":"SUM(C181:J181)","v":0}]
[null,null,null,null,null,null,null,null,null,null,{"$f":"SUM(C182:J182)","v":0}]
[null,null,null,null,null,null,null,null,null,null,0]
[null,null,null,null,null,null,null,null,null,null,0]
[null,null,null,null,null,null,null,null,null,null,0]
[null,null,null,null,null,null,null,null,null,null,0]
[null,null,null,null,null,null,null,null,null,null,0]
[null,null,null,null,null,null,null,null,null,null,0]
[null,null,null,null,null,null,null,null,null,null,0]
[null,null,null,null,null,null,null,null,null,null,0]
[null,null,null,null,null,null,null,null,null,null,0]
[null,null,null,null,null,null,null,null,null,null,0]
[null,null,null,null,null,null,null,null,null,null,0]
[null,null,null,null,null,null,null,null,null,null,0]
[null,null,null,null,null,null,null,null,null,null,0]
[null,null,null,null,null,null,null,null,null,null,0]
[null,null,null,null,null,null,null,null,null,null,0]
[null,null,null,null,null,null,null,null,null,null,0]
[null,null,null,null,null,null,null,null,null,null,0]
[null,null,null,null,null,null,null,null,null,null,0]
[null,null,null,null,null,null,null,null,null,null,0]
[null,null,null,null,null,null,null,null,null,null,0]
[null,null,null,null,null,null,null,null,null,null,0]
[null,null,null,null,null,null,null,null,null,null,0]
[null,null,null,null,null,null,null,null,null,null,0]
["TOT Jour",null,{"$f":"SUM(C156:C205)","v":0},{"$f":"SUM(D156:D205)","v":0},0,0,0,0,0,0]
["TOT Période",null,{"$f":"SUM(C206:J206)","v":0}]
[{"$f":"B9","v":13}]
[]
[]
["Période :",{"$f":"Accueil!A44","v":"P4"},{"$f":"Accueil!$B44","v":"du"},{"$f":"Accueil!$C44","v":"2015-03-08"},{"$f":"Accueil!$D44","v":"au"},{"$f":"Accueil!$E44","v":"2015-04-15"}]
["Selectionnez la classe participant à l'atelier :"]
["NOM","Prénom","2014-05-25","2014-05-26","2014-05-27","2014-05-28","2014-05-29","2014-05-30","2014-05-31","2014-06-01","TOT"]
[null,null,null,null,null,null,null,null,null,null,{"$f":"SUM(C214:J214)","v":0}]
[null,null,null,null,null,null,null,null,null,null,{"$f":"SUM(C215:J215)","v":0}]
[null,null,null,null,null,null,null,null,null,null,0]
[null,null,null,null,null,null,null,null,null,null,0]
[null,null,null,null,null,null,null,null,null,null,0]
[null,null,null,null,null,null,null,null,null,null,0]
[null,null,null,null,null,null,null,null,null,null,0]
[null,null,null,null,null,null,null,null,null,null,0]
[null,null,null,null,null,null,null,null,null,null,0]
[null,null,null,null,null,null,null,null,null,null,0]
[null,null,null,null,null,null,null,null,null,null,0]
[null,null,null,null,null,null,null,null,null,null,0]
[null,null,null,null,null,null,null,null,null,null,0]
[null,null,null,null,null,null,null,null,null,null,0]
[null,null,null,null,null,null,null,null,null,null,0]
[null,null,null,null,null,null,null,null,null,null,0]
[null,null,null,null,null,null,null,null,null,null,0]
[null,null,null,null,null,null,null,null,null,null,0]
[null,null,null,null,null,null,null,null,null,null,0]
[null,null,null,null,null,null,null,null,null,null,0]
[null,null,null,null,null,null,null,null,null,null,0]
[null,null,null,null,null,null,null,null,null,null,0]
[null,null,null,null,null,null,null,null,null,null,0]
[null,null,null,null,null,null,null,null,null,null,0]
[null,null,null,null,null,null,null,null,null,null,0]
[null,null,null,null,null,null,null,null,null,null,{"$f":"SUM(C239:J239)","v":0}]
[null,null,null,null,null,null,null,null,null,null,{"$f":"SUM(C240:J240)","v":0}]
[null,null,null,null,null,null,null,null,null,null,0]
[null,null,null,null,null,null,null,null,null,null,0]
[null,null,null,null,null,null,null,null,null,null,0]
[null,null,null,null,null,null,null,null,null,null,0]
[null,null,null,null,null,null,null,null,null,null,0]
[null,null,null,null,null,null,null,null,null,null,0]
[null,null,null,null,null,null,null,null,null,null,0]
[null,null,null,null,null,null,null,null,null,null,0]
[null,null,null,null,null,null,null,null,null,null,0]
[null,null,null,null,null,null,null,null,null,null,0]
[null,null,null,null,null,null,null,null,null,null,0]
[null,null,null,null,null,null,null,null,null,null,0]
[null,null,null,null,null,null,null,null,null,null,0]
[null,null,null,null,null,null,null,null,null,null,0]
[null,null,null,null,null,null,null,null,null,null,0]
[null,null,null,null,null,null,null,null,null,null,0]
[null,null,null,null,null,null,null,null,null,null,0]
[null,null,null,null,null,null,null,null,null,null,0]
[null,null,null,null,null,null,null,null,null,null,0]
[null,null,null,null,null,null,null,null,null,null,0]
[null,null,null,null,null,null,null,null,null,null,0]
[null,null,null,null,null,null,null,null,null,null,0]
[null,null,null,null,null,null,null,null,null,null,0]
["TOT Jour",null,{"$f":"SUM(C214:C263)","v":0},{"$f":"SUM(D214:D263)","v":0},0,0,0,0,0,0]
["TOT Période",null,{"$f":"SUM(C264:J264)","v":0}]
[{"$f":"B9","v":13}]
[]
[]
["Période :",{"$f":"Accueil!A45","v":"P5"},{"$f":"Accueil!$B45","v":"du"},{"$f":"Accueil!$C45","v":"2015-05-02"},{"$f":"Accueil!$D45","v":"au"},{"$f":"Accueil!$E45","v":"2015-07-03"}]
["Selectionnez la classe participant à l'atelier :"]
["NOM","Prénom","2014-05-25","2014-05-26","2014-05-27","2014-05-28","2014-05-29","2014-05-30","2014-05-31","2014-06-01","TOT"]
[null,null,null,null,null,null,null,null,null,null,{"$f":"SUM(C272:J272)","v":0}]
[null,null,null,null,null,null,null,null,null,null,{"$f":"SUM(C273:J273)","v":0}]
[null,null,null,null,null,null,null,null,null,null,0]
[null,null,null,null,null,null,null,null,null,null,0]
[null,null,null,null,null,null,null,null,null,null,0]
[null,null,null,null,null,null,null,null,null,null,0]
[null,null,null,null,null,null,null,null,null,null,0]
[null,null,null,null,null,null,null,null,null,null,0]
[null,null,null,null,null,null,null,null,null,null,0]
[null,null,null,null,null,null,null,null,null,null,0]
[null,null,null,null,null,null,null,null,null,null,0]
[null,null,null,null,null,null,null,null,null,null,0]
[null,null,null,null,null,null,null,null,null,null,0]
[null,null,null,null,null,null,null,null,null,null,0]
[null,null,null,null,null,null,null,null,null,null,0]
[null,null,null,null,null,null,null,null,null,null,0]
[null,null,null,null,null,null,null,null,null,null,0]
[null,null,null,null,null,null,null,null,null,null,0]
[null,null,null,null,null,null,null,null,null,null,0]
[null,null,null,null,null,null,null,null,null,null,0]
[null,null,null,null,null,null,null,null,null,null,0]
[null,null,null,null,null,null,null,null,null,null,0]
[null,null,null,null,null,null,null,null,null,null,0]
[null,null,null,null,null,null,null,null,null,null,0]
[null,null,null,null,null,null,null,null,null,null,0]
[null,null,null,null,null,null,null,null,null,null,{"$f":"SUM(C297:J297)","v":0}]
[null,null,null,null,null,null,null,null,null,null,{"$f":"SUM(C298:J298)","v":0}]
[null,null,null,null,null,null,null,null,null,null,0]
[null,null,null,null,null,null,null,null,null,null,0]
[null,null,null,null,null,null,null,null,null,null,0]
[null,null,null,null,null,null,null,null,null,null,0]
[null,null,null,null,null,null,null,null,null,null,0]
[null,null,null,null,null,null,null,null,null,null,0]
[null,null,null,null,null,null,null,null,null,null,0]
[null,null,null,null,null,null,null,null,null,null,0]
[null,null,null,null,null,null,null,null,null,null,0]
[null,null,null,null,null,null,null,null,null,null,0]
[null,null,null,null,null,null,null,null,null,null,0]
[null,null,null,null,null,null,null,null,null,null,0]
[null,null,null,null,null,null,null,null,null,null,0]
[null,null,null,null,null,null,null,null,null,null,0]
[null,null,null,null,null,null,null,null,null,null,0]
[null,null,null,null,null,null,null,null,null,null,0]
[null,null,null,null,null,null,null,null,null,null,0]
[null,null,null,null,null,null,null,null,null,null,0]
[null,null,null,null,null,null,null,null,null,null,0]
[null,null,null,null,null,null,null,null,null,null,0]
[null,null,null,null,null,null,null,null,null,null,0]
[null,null,null,null,null,null,null,null,null,null,0]
[null,null,null,null,null,null,null,null,null,null,0]
["TOT Jour",null,{"$f":"SUM(C272:C321)","v":0},{"$f":"SUM(D272:D321)","v":0},0,0,0,0,0,0]
["TOT Période",null,{"$f":"SUM(C322:J322)","v":0}]
["Statistiques"]
[]
[]
["Nombre d'heure de fréquentation :"]
[{"$f":"Accueil!$A41","v":"P1"},{"$f":"$C$91*1.5","v":0},"heures de présence pour cet atelier et pour cette période"]
[{"$f":"Accueil!$A42","v":"P2"},{"$f":"$C$149*1.5","v":0},"heures de présence pour cet atelier et pour cette période"]
[{"$f":"Accueil!$A43","v":"P3"},{"$f":"$C$207*1.5","v":0},"heures de présence pour cet atelier et pour cette période"]
[{"$f":"Accueil!$A44","v":"P4"},{"$f":"$C$265*1.5","v":0},"heures de présence pour cet atelier et pour cette période"]
[{"$f":"Accueil!$A45","v":"P5"},{"$f":"$C$323*1.5","v":0},"heures de présence pour cet atelier et pour cette période"]
["TOT",{"$f":"SUM($B$328:$B$332)","v":0},"heures de présence pour cet atelier et pour l'année"]

{"sheet":"14","index":29,"n_rows":333,"n_cols":11,"rows_kept":333,"cut":false,"hidden":true,"merged":[[90,0,90,1],[90,2,90,9],[8,1,15,9],[33,0,34,10],[37,0,37,3],[37,4,37,5],[89,0,89,1],[91,0,92,10],[95,0,95,3],[95,4,95,5],[147,0,147,1],[148,0,148,1],[148,2,148,9],[149,0,150,10],[153,0,153,3],[153,4,153,5],[205,0,205,1],[206,0,206,1],[206,2,206,9],[207,0,208,10],[211,0,211,3],[211,4,211,5],[263,0,263,1],[264,0,264,1],[264,2,264,9],[265,0,266,10],[269,0,269,3],[269,4,269,5],[321,0,321,1],[322,0,322,1],[322,2,322,9],[332,2,332,6],[323,0,324,10],[327,2,327,6],[328,2,328,6],[329,2,329,6],[330,2,330,6],[331,2,331,6]]}
[]
[]
[]
[]
[]
[]
[]
[]
[null,{"$f":"Accueil!B35","v":14}]
[]
[]
[]
[]
[]
[]
[]
[]
[]
[]
[]
[]
[]
[]
[]
[]
[]
[]
[]
[]
[]
[]
[]
[]
[{"$f":"B9","v":14}]
[]
[]
["Période :",{"$f":"Accueil!$A$41","v":"P1"},{"$f":"Accueil!$B$41","v":"du"},{"$f":"Accueil!$C$41","v":"2014-09-02"},{"$f":"Accueil!$D$41","v":"au"},{"$f":"Accueil!$E$41","v":"2014-10-18"}]
["Selectionnez la classe participant à l'atelier :"]
["NOM","Prénom","2014-09-02","2014-05-26","2014-05-27","2014-05-28","2014-05-29","2014-05-30","2014-05-31","2014-06-01","TOT"]
[null,null,null,null,null,null,null,null,null,null,{"$f":"SUM(C40:J40)","v":0}]
[null,null,null,null,null,null,null,null,null,null,{"$f":"SUM(C41:J41)","v":0}]
[null,null,null,null,null,null,null,null,null,null,0]
[null,null,null,null,null,null,null,null,null,null,0]
[null,null,null,null,null,null,null,null,null,null,0]
[null,null,null,null,null,null,null,null,null,null,0]
[null,null,null,null,null,null,null,null,null,null,0]
[null,null,null,null,null,null,null,null,null,null,0]
[null,null,null,null,null,null,null,null,null,null,0]
[null,null,null,null,null,null,null,null,null,null,0]
[null,null,null,null,null,null,null,null,null,null,0]
[null,null,null,null,null,null,null,null,null,null,0]
[null,null,null,null,null,null,null,null,null,null,0]
[null,null,null,null,null,null,null,null,null,null,0]
[null,null,null,null,null,null,null,null,null,null,0]
[null,null,null,null,null,null,null,null,null,null,0]
[null,null,null,null,null,null,null,null,null,null,0]
[null,null,null,null,null,null,null,null,null,null,0]
[null,null,null,null,null,null,null,null,null,null,0]
[null,null,null,null,null,null,null,null,null,null,0]
[null,null,null,null,null,null,null,null,null,null,0]
[null,null,null,null,null,null,null,null,null,null,0]
[null,null,null,null,null,null,null,null,null,null,0]
[null,null,null,null,null,null,null,null,null,null,0]
[null,null,null,null,null,null,null,null,null,null,0]
[null,null,null,null,null,null,null,null,null,null,{"$f":"SUM(C65:J65)","v":0}]
[null,null,null,null,null,null,null,null,null,null,{"$f":"SUM(C66:J66)","v":0}]
[null,null,null,null,null,null,null,null,null,null,0]
[null,null,null,null,null,null,null,null,null,null,0]
[null,null,null,null,null,null,null,null,null,null,0]
[null,null,null,null,null,null,null,null,null,null,0]
[null,null,null,null,null,null,null,null,null,null,0]
[null,null,null,null,null,null,null,null,null,null,0]
[null,null,null,null,null,null,null,null,null,null,0]
[null,null,null,null,null,null,null,null,null,null,0]
[null,null,null,null,null,null,null,null,null,null,0]
[null,null,null,null,null,null,null,null,null,null,0]
[null,null,null,null,null,null,null,null,null,null,0]
[null,null,null,null,null,null,null,null,null,null,0]
[null,null,null,null,null,null,null,null,null,null,0]
[null,null,null,null,null,null,null,null,null,null,0]
[null,null,null,null,null,null,null,null,null,null,0]
[null,null,null,null,null,null,null,null,null,null,0]
[null,null,null,null,null,null,null,null,null,null,0]
[null,null,null,null,null,null,null,null,null,null,0]
[null,null,null,null,null,null,null,null,null,null,0]
[null,null,null,null,null,null,null,null,null,null,0]
[null,null,null,null,null,null,null,null,null,null,0]
[null,null,null,null,null,null,null,null,null,null,0]
[null,null,null,null,null,null,null,null,null,null,0]
["TOT Jour",null,{"$f":"SUM(C40:C89)","v":0},{"$f":"SUM(D40:D89)","v":0},0,0,0,0,0,0]
["TOT Période",null,{"$f":"SUM(C90:J90)","v":0}]
[{"$f":"B9","v":14}]
[]
[]
["Période :",{"$f":"Accueil!$A42","v":"P2"},{"$f":"Accueil!$B42","v":"du"},{"$f":"Accueil!$C42","v":"2014-11-02"},{"$f":"Accueil!$D42","v":"au"},{"$f":"Accueil!$E42","v":"2014-12-18"}]
["Selectionnez la classe participant à l'atelier :"]
["NOM","Prénom","2014-05-25","2014-05-26","2014-05-27","2014-05-28","2014-05-29","2014-05-30","2014-05-31","2014-06-01","TOT"]
[null,null,null,null,null,null,null,null,null,null,{"$f":"SUM(C98:J98)","v":0}]
[null,null,null,null,null,null,null,null,null,null,{"$f":"SUM(C99:J99)","v":0}]
[null,null,null,null,null,null,null,null,null,null,0]
[null,null,null,null,null,null,null,null,null,null,0]
[null,null,null,null,null,null,null,null,null,null,0]
[null,null,null,null,null,null,null,null,null,null,0]
[null,null,null,null,null,null,null,null,null,null,0]
[null,null,null,null,null,null,null,null,null,null,0]
[null,null,null,null,null,null,null,null,null,null,0]
[null,null,null,null,null,null,null,null,null,null,0]
[null,null,null,null,null,null,null,null,null,null,0]
[null,null,null,null,null,null,null,null,null,null,0]
[null,null,null,null,null,null,null,null,null,null,0]
[null,null,null,null,null,null,null,null,null,null,0]
[null,null,null,null,null,null,null,null,null,null,0]
[null,null,null,null,null,null,null,null,null,null,0]
[null,null,null,null,null,null,null,null,null,null,0]
[null,null,null,null,null,null,null,null,null,null,0]
[null,null,null,null,null,null,null,null,null,null,0]
[null,null,null,null,null,null,null,null,null,null,0]
[null,null,null,null,null,null,null,null,null,null,0]
[null,null,null,null,null,null,null,null,null,null,0]
[null,null,null,null,null,null,null,null,null,null,0]
[null,null,null,null,null,null,null,null,null,null,0]
[null,null,null,null,null,null,null,null,null,null,0]
[null,null,null,null,null,null,null,null,null,null,{"$f":"SUM(C123:J123)","v":0}]
[null,null,null,null,null,null,null,null,null,null,{"$f":"SUM(C124:J124)","v":0}]
[null,null,null,null,null,null,null,null,null,null,0]
[null,null,null,null,null,null,null,null,null,null,0]
[null,null,null,null,null,null,null,null,null,null,0]
[null,null,null,null,null,null,null,null,null,null,0]
[null,null,null,null,null,null,null,null,null,null,0]
[null,null,null,null,null,null,null,null,null,null,0]
[null,null,null,null,null,null,null,null,null,null,0]
[null,null,null,null,null,null,null,null,null,null,0]
[null,null,null,null,null,null,null,null,null,null,0]
[null,null,null,null,null,null,null,null,null,null,0]
[null,null,null,null,null,null,null,null,null,null,0]
[null,null,null,null,null,null,null,null,null,null,0]
[null,null,null,null,null,null,null,null,null,null,0]
[null,null,null,null,null,null,null,null,null,null,0]
[null,null,null,null,null,null,null,null,null,null,0]
[null,null,null,null,null,null,null,null,null,null,0]
[null,null,null,null,null,null,null,null,null,null,0]
[null,null,null,null,null,null,null,null,null,null,0]
[null,null,null,null,null,null,null,null,null,null,0]
[null,null,null,null,null,null,null,null,null,null,0]
[null,null,null,null,null,null,null,null,null,null,0]
[null,null,null,null,null,null,null,null,null,null,0]
[null,null,null,null,null,null,null,null,null,null,0]
["TOT Jour",null,{"$f":"SUM(C98:C147)","v":0},{"$f":"SUM(D98:D147)","v":0},0,0,0,0,0,0]
["TOT Période",null,{"$f":"SUM(C148:J148)","v":0}]
[{"$f":"B9","v":14}]
[]
[]
["Période :",{"$f":"Accueil!A43","v":"P3"},{"$f":"Accueil!$B43","v":"du"},{"$f":"Accueil!$C43","v":"2015-01-04"},{"$f":"Accueil!$D43","v":"au"},{"$f":"Accueil!$E43","v":"2015-02-20"}]
["Selectionnez la classe participant à l'atelier :"]
["NOM","Prénom","2014-05-25","2014-05-26","2014-05-27","2014-05-28","2014-05-29","2014-05-30","2014-05-31","2014-06-01","TOT"]
[null,null,null,null,null,null,null,null,null,null,{"$f":"SUM(C156:J156)","v":0}]
[null,null,null,null,null,null,null,null,null,null,{"$f":"SUM(C157:J157)","v":0}]
[null,null,null,null,null,null,null,null,null,null,0]
[null,null,null,null,null,null,null,null,null,null,0]
[null,null,null,null,null,null,null,null,null,null,0]
[null,null,null,null,null,null,null,null,null,null,0]
[null,null,null,null,null,null,null,null,null,null,0]
[null,null,null,null,null,null,null,null,null,null,0]
[null,null,null,null,null,null,null,null,null,null,0]
[null,null,null,null,null,null,null,null,null,null,0]
[null,null,null,null,null,null,null,null,null,null,0]
[null,null,null,null,null,null,null,null,null,null,0]
[null,null,null,null,null,null,null,null,null,null,0]
[null,null,null,null,null,null,null,null,null,null,0]
[null,null,null,null,null,null,null,null,null,null,0]
[null,null,null,null,null,null,null,null,null,null,0]
[null,null,null,null,null,null,null,null,null,null,0]
[null,null,null,null,null,null,null,null,null,null,0]
[null,null,null,null,null,null,null,null,null,null,0]
[null,null,null,null,null,null,null,null,null,null,0]
[null,null,null,null,null,null,null,null,null,null,0]
[null,null,null,null,null,null,null,null,null,null,0]
[null,null,null,null,null,null,null,null,null,null,0]
[null,null,null,null,null,null,null,null,null,null,0]
[null,null,null,null,null,null,null,null,null,null,0]
[null,null,null,null,null,null,null,null,null,null,{"$f":"SUM(C181:J181)","v":0}]
[null,null,null,null,null,null,null,null,null,null,{"$f":"SUM(C182:J182)","v":0}]
[null,null,null,null,null,null,null,null,null,null,0]
[null,null,null,null,null,null,null,null,null,null,0]
[null,null,null,null,null,null,null,null,null,null,0]
[null,null,null,null,null,null,null,null,null,null,0]
[null,null,null,null,null,null,null,null,null,null,0]
[null,null,null,null,null,null,null,null,null,null,0]
[null,null,null,null,null,null,null,null,null,null,0]
[null,null,null,null,null,null,null,null,null,null,0]
[null,null,null,null,null,null,null,null,null,null,0]
[null,null,null,null,null,null,null,null,null,null,0]
[null,null,null,null,null,null,null,null,null,null,0]
[null,null,null,null,null,null,null,null,null,null,0]
[null,null,null,null,null,null,null,null,null,null,0]
[null,null,null,null,null,null,null,null,null,null,0]
[null,null,null,null,null,null,null,null,null,null,0]
[null,null,null,null,null,null,null,null,null,null,0]
[null,null,null,null,null,null,null,null,null,null,0]
[null,null,null,null,null,null,null,null,null,null,0]
[null,null,null,null,null,null,null,null,null,null,0]
[null,null,null,null,null,null,null,null,null,null,0]
[null,null,null,null,null,null,null,null,null,null,0]
[null,null,null,null,null,null,null,null,null,null,0]
[null,null,null,null,null,null,null,null,null,null,0]
["TOT Jour",null,{"$f":"SUM(C156:C205)","v":0},{"$f":"SUM(D156:D205)","v":0},0,0,0,0,0,0]
["TOT Période",null,{"$f":"SUM(C206:J206)","v":0}]
[{"$f":"B9","v":14}]
[]
[]
["Période :",{"$f":"Accueil!A44","v":"P4"},{"$f":"Accueil!$B44","v":"du"},{"$f":"Accueil!$C44","v":"2015-03-08"},{"$f":"Accueil!$D44","v":"au"},{"$f":"Accueil!$E44","v":"2015-04-15"}]
["Selectionnez la classe participant à l'atelier :"]
["NOM","Prénom","2014-05-25","2014-05-26","2014-05-27","2014-05-28","2014-05-29","2014-05-30","2014-05-31","2014-06-01","TOT"]
[null,null,null,null,null,null,null,null,null,null,{"$f":"SUM(C214:J214)","v":0}]
[null,null,null,null,null,null,null,null,null,null,{"$f":"SUM(C215:J215)","v":0}]
[null,null,null,null,null,null,null,null,null,null,0]
[null,null,null,null,null,null,null,null,null,null,0]
[null,null,null,null,null,null,null,null,null,null,0]
[null,null,null,null,null,null,null,null,null,null,0]
[null,null,null,null,null,null,null,null,null,null,0]
[null,null,null,null,null,null,null,null,null,null,0]
[null,null,null,null,null,null,null,null,null,null,0]
[null,null,null,null,null,null,null,null,null,null,0]
[null,null,null,null,null,null,null,null,null,null,0]
[null,null,null,null,null,null,null,null,null,null,0]
[null,null,null,null,null,null,null,null,null,null,0]
[null,null,null,null,null,null,null,null,null,null,0]
[null,null,null,null,null,null,null,null,null,null,0]
[null,null,null,null,null,null,null,null,null,null,0]
[null,null,null,null,null,null,null,null,null,null,0]
[null,null,null,null,null,null,null,null,null,null,0]
[null,null,null,null,null,null,null,null,null,null,0]
[null,null,null,null,null,null,null,null,null,null,0]
[null,null,null,null,null,null,null,null,null,null,0]
[null,null,null,null,null,null,null,null,null,null,0]
[null,null,null,null,null,null,null,null,null,null,0]
[null,null,null,null,null,null,null,null,null,null,0]
[null,null,null,null,null,null,null,null,null,null,0]
[null,null,null,null,null,null,null,null,null,null,{"$f":"SUM(C239:J239)","v":0}]
[null,null,null,null,null,null,null,null,null,null,{"$f":"SUM(C240:J240)","v":0}]
[null,null,null,null,null,null,null,null,null,null,0]
[null,null,null,null,null,null,null,null,null,null,0]
[null,null,null,null,null,null,null,null,null,null,0]
[null,null,null,null,null,null,null,null,null,null,0]
[null,null,null,null,null,null,null,null,null,null,0]
[null,null,null,null,null,null,null,null,null,null,0]
[null,null,null,null,null,null,null,null,null,null,0]
[null,null,null,null,null,null,null,null,null,null,0]
[null,null,null,null,null,null,null,null,null,null,0]
[null,null,null,null,null,null,null,null,null,null,0]
[null,null,null,null,null,null,null,null,null,null,0]
[null,null,null,null,null,null,null,null,null,null,0]
[null,null,null,null,null,null,null,null,null,null,0]
[null,null,null,null,null,null,null,null,null,null,0]
[null,null,null,null,null,null,null,null,null,null,0]
[null,null,null,null,null,null,null,null,null,null,0]
[null,null,null,null,null,null,null,null,null,null,0]
[null,null,null,null,null,null,null,null,null,null,0]
[null,null,null,null,null,null,null,null,null,null,0]
[null,null,null,null,null,null,null,null,null,null,0]
[null,null,null,null,null,null,null,null,null,null,0]
[null,null,null,null,null,null,null,null,null,null,0]
[null,null,null,null,null,null,null,null,null,null,0]
["TOT Jour",null,{"$f":"SUM(C214:C263)","v":0},{"$f":"SUM(D214:D263)","v":0},0,0,0,0,0,0]
["TOT Période",null,{"$f":"SUM(C264:J264)","v":0}]
[{"$f":"B9","v":14}]
[]
[]
["Période :",{"$f":"Accueil!A45","v":"P5"},{"$f":"Accueil!$B45","v":"du"},{"$f":"Accueil!$C45","v":"2015-05-02"},{"$f":"Accueil!$D45","v":"au"},{"$f":"Accueil!$E45","v":"2015-07-03"}]
["Selectionnez la classe participant à l'atelier :"]
["NOM","Prénom","2014-05-25","2014-05-26","2014-05-27","2014-05-28","2014-05-29","2014-05-30","2014-05-31","2014-06-01","TOT"]
[null,null,null,null,null,null,null,null,null,null,{"$f":"SUM(C272:J272)","v":0}]
[null,null,null,null,null,null,null,null,null,null,{"$f":"SUM(C273:J273)","v":0}]
[null,null,null,null,null,null,null,null,null,null,0]
[null,null,null,null,null,null,null,null,null,null,0]
[null,null,null,null,null,null,null,null,null,null,0]
[null,null,null,null,null,null,null,null,null,null,0]
[null,null,null,null,null,null,null,null,null,null,0]
[null,null,null,null,null,null,null,null,null,null,0]
[null,null,null,null,null,null,null,null,null,null,0]
[null,null,null,null,null,null,null,null,null,null,0]
[null,null,null,null,null,null,null,null,null,null,0]
[null,null,null,null,null,null,null,null,null,null,0]
[null,null,null,null,null,null,null,null,null,null,0]
[null,null,null,null,null,null,null,null,null,null,0]
[null,null,null,null,null,null,null,null,null,null,0]
[null,null,null,null,null,null,null,null,null,null,0]
[null,null,null,null,null,null,null,null,null,null,0]
[null,null,null,null,null,null,null,null,null,null,0]
[null,null,null,null,null,null,null,null,null,null,0]
[null,null,null,null,null,null,null,null,null,null,0]
[null,null,null,null,null,null,null,null,null,null,0]
[null,null,null,null,null,null,null,null,null,null,0]
[null,null,null,null,null,null,null,null,null,null,0]
[null,null,null,null,null,null,null,null,null,null,0]
[null,null,null,null,null,null,null,null,null,null,0]
[null,null,null,null,null,null,null,null,null,null,{"$f":"SUM(C297:J297)","v":0}]
[null,null,null,null,null,null,null,null,null,null,{"$f":"SUM(C298:J298)","v":0}]
[null,null,null,null,null,null,null,null,null,null,0]
[null,null,null,null,null,null,null,null,null,null,0]
[null,null,null,null,null,null,null,null,null,null,0]
[null,null,null,null,null,null,null,null,null,null,0]
[null,null,null,null,null,null,null,null,null,null,0]
[null,null,null,null,null,null,null,null,null,null,0]
[null,null,null,null,null,null,null,null,null,null,0]
[null,null,null,null,null,null,null,null,null,null,0]
[null,null,null,null,null,null,null,null,null,null,0]
[null,null,null,null,null,null,null,null,null,null,0]
[null,null,null,null,null,null,null,null,null,null,0]
[null,null,null,null,null,null,null,null,null,null,0]
[null,null,null,null,null,null,null,null,null,null,0]
[null,null,null,null,null,null,null,null,null,null,0]
[null,null,null,null,null,null,null,null,null,null,0]
[null,null,null,null,null,null,null,null,null,null,0]
[null,null,null,null,null,null,null,null,null,null,0]
[null,null,null,null,null,null,null,null,null,null,0]
[null,null,null,null,null,null,null,null,null,null,0]
[null,null,null,null,null,null,null,null,null,null,0]
[null,null,null,null,null,null,null,null,null,null,0]
[null,null,null,null,null,null,null,null,null,null,0]
[null,null,null,null,null,null,null,null,null,null,0]
["TOT Jour",null,{"$f":"SUM(C272:C321)","v":0},{"$f":"SUM(D272:D321)","v":0},0,0,0,0,0,0]
["TOT Période",null,{"$f":"SUM(C322:J322)","v":0}]
["Statistiques"]
[]
[]
["Nombre d'heure de fréquentation :"]
[{"$f":"Accueil!$A41","v":"P1"},{"$f":"$C$91*1.5","v":0},"heures de présence pour cet atelier et pour cette période"]
[{"$f":"Accueil!$A42","v":"P2"},{"$f":"$C$149*1.5","v":0},"heures de présence pour cet atelier et pour cette période"]
[{"$f":"Accueil!$A43","v":"P3"},{"$f":"$C$207*1.5","v":0},"heures de présence pour cet atelier et pour cette période"]
[{"$f":"Accueil!$A44","v":"P4"},{"$f":"$C$265*1.5","v":0},"heures de présence pour cet atelier et pour cette période"]
[{"$f":"Accueil!$A45","v":"P5"},{"$f":"$C$323*1.5","v":0},"heures de présence pour cet atelier et pour cette période"]
["TOT",{"$f":"SUM($B$328:$B$332)","v":0},"heures de présence pour cet atelier et pour l'année"]

{"sheet":"15","index":30,"n_rows":333,"n_cols":11,"rows_kept":333,"cut":false,"hidden":true,"merged":[[90,0,90,1],[90,2,90,9],[8,1,15,9],[33,0,34,10],[37,0,37,3],[37,4,37,5],[89,0,89,1],[91,0,92,10],[95,0,95,3],[95,4,95,5],[147,0,147,1],[148,0,148,1],[148,2,148,9],[149,0,150,10],[153,0,153,3],[153,4,153,5],[205,0,205,1],[206,0,206,1],[206,2,206,9],[207,0,208,10],[211,0,211,3],[211,4,211,5],[263,0,263,1],[264,0,264,1],[264,2,264,9],[265,0,266,10],[269,0,269,3],[269,4,269,5],[321,0,321,1],[322,0,322,1],[322,2,322,9],[332,2,332,6],[323,0,324,10],[327,2,327,6],[328,2,328,6],[329,2,329,6],[330,2,330,6],[331,2,331,6]]}
[]
[]
[]
[]
[]
[]
[]
[]
[null,{"$f":"Accueil!B36","v":15}]
[]
[]
[]
[]
[]
[]
[]
[]
[]
[]
[]
[]
[]
[]
[]
[]
[]
[]
[]
[]
[]
[]
[]
[]
[{"$f":"B9","v":15}]
[]
[]
["Période :",{"$f":"Accueil!$A$41","v":"P1"},{"$f":"Accueil!$B$41","v":"du"},{"$f":"Accueil!$C$41","v":"2014-09-02"},{"$f":"Accueil!$D$41","v":"au"},{"$f":"Accueil!$E$41","v":"2014-10-18"}]
["Selectionnez la classe participant à l'atelier :"]
["NOM","Prénom","2014-09-02","2014-05-26","2014-05-27","2014-05-28","2014-05-29","2014-05-30","2014-05-31","2014-06-01","TOT"]
[null,null,null,null,null,null,null,null,null,null,{"$f":"SUM(C40:J40)","v":0}]
[null,null,null,null,null,null,null,null,null,null,{"$f":"SUM(C41:J41)","v":0}]
[null,null,null,null,null,null,null,null,null,null,0]
[null,null,null,null,null,null,null,null,null,null,0]
[null,null,null,null,null,null,null,null,null,null,0]
[null,null,null,null,null,null,null,null,null,null,0]
[null,null,null,null,null,null,null,null,null,null,0]
[null,null,null,null,null,null,null,null,null,null,0]
[null,null,null,null,null,null,null,null,null,null,0]
[null,null,null,null,null,null,null,null,null,null,0]
[null,null,null,null,null,null,null,null,null,null,0]
[null,null,null,null,null,null,null,null,null,null,0]
[null,null,null,null,null,null,null,null,null,null,0]
[null,null,null,null,null,null,null,null,null,null,0]
[null,null,null,null,null,null,null,null,null,null,0]
[null,null,null,null,null,null,null,null,null,null,0]
[null,null,null,null,null,null,null,null,null,null,0]
[null,null,null,null,null,null,null,null,null,null,0]
[null,null,null,null,null,null,null,null,null,null,0]
[null,null,null,null,null,null,null,null,null,null,0]
[null,null,null,null,null,null,null,null,null,null,0]
[null,null,null,null,null,null,null,null,null,null,0]
[null,null,null,null,null,null,null,null,null,null,0]
[null,null,null,null,null,null,null,null,null,null,0]
[null,null,null,null,null,null,null,null,null,null,0]
[null,null,null,null,null,null,null,null,null,null,{"$f":"SUM(C65:J65)","v":0}]
[null,null,null,null,null,null,null,null,null,null,{"$f":"SUM(C66:J66)","v":0}]
[null,null,null,null,null,null,null,null,null,null,0]
[null,null,null,null,null,null,null,null,null,null,0]
[null,null,null,null,null,null,null,null,null,null,0]
[null,null,null,null,null,null,null,null,null,null,0]
[null,null,null,null,null,null,null,null,null,null,0]
[null,null,null,null,null,null,null,null,null,null,0]
[null,null,null,null,null,null,null,null,null,null,0]
[null,null,null,null,null,null,null,null,null,null,0]
[null,null,null,null,null,null,null,null,null,null,0]
[null,null,null,null,null,null,null,null,null,null,0]
[null,null,null,null,null,null,null,null,null,null,0]
[null,null,null,null,null,null,null,null,null,null,0]
[null,null,null,null,null,null,null,null,null,null,0]
[null,null,null,null,null,null,null,null,null,null,0]
[null,null,null,null,null,null,null,null,null,null,0]
[null,null,null,null,null,null,null,null,null,null,0]
[null,null,null,null,null,null,null,null,null,null,0]
[null,null,null,null,null,null,null,null,null,null,0]
[null,null,null,null,null,null,null,null,null,null,0]
[null,null,null,null,null,null,null,null,null,null,0]
[null,null,null,null,null,null,null,null,null,null,0]
[null,null,null,null,null,null,null,null,null,null,0]
[null,null,null,null,null,null,null,null,null,null,0]
["TOT Jour",null,{"$f":"SUM(C40:C89)","v":0},{"$f":"SUM(D40:D89)","v":0},0,0,0,0,0,0]
["TOT Période",null,{"$f":"SUM(C90:J90)","v":0}]
[{"$f":"B9","v":15}]
[]
[]
["Période :",{"$f":"Accueil!$A42","v":"P2"},{"$f":"Accueil!$B42","v":"du"},{"$f":"Accueil!$C42","v":"2014-11-02"},{"$f":"Accueil!$D42","v":"au"},{"$f":"Accueil!$E42","v":"2014-12-18"}]
["Selectionnez la classe participant à l'atelier :"]
["NOM","Prénom","2014-05-25","2014-05-26","2014-05-27","2014-05-28","2014-05-29","2014-05-30","2014-05-31","2014-06-01","TOT"]
[null,null,null,null,null,null,null,null,null,null,{"$f":"SUM(C98:J98)","v":0}]
[null,null,null,null,null,null,null,null,null,null,{"$f":"SUM(C99:J99)","v":0}]
[null,null,null,null,null,null,null,null,null,null,0]
[null,null,null,null,null,null,null,null,null,null,0]
[null,null,null,null,null,null,null,null,null,null,0]
[null,null,null,null,null,null,null,null,null,null,0]
[null,null,null,null,null,null,null,null,null,null,0]
[null,null,null,null,null,null,null,null,null,null,0]
[null,null,null,null,null,null,null,null,null,null,0]
[null,null,null,null,null,null,null,null,null,null,0]
[null,null,null,null,null,null,null,null,null,null,0]
[null,null,null,null,null,null,null,null,null,null,0]
[null,null,null,null,null,null,null,null,null,null,0]
[null,null,null,null,null,null,null,null,null,null,0]
[null,null,null,null,null,null,null,null,null,null,0]
[null,null,null,null,null,null,null,null,null,null,0]
[null,null,null,null,null,null,null,null,null,null,0]
[null,null,null,null,null,null,null,null,null,null,0]
[null,null,null,null,null,null,null,null,null,null,0]
[null,null,null,null,null,null,null,null,null,null,0]
[null,null,null,null,null,null,null,null,null,null,0]
[null,null,null,null,null,null,null,null,null,null,0]
[null,null,null,null,null,null,null,null,null,null,0]
[null,null,null,null,null,null,null,null,null,null,0]
[null,null,null,null,null,null,null,null,null,null,0]
[null,null,null,null,null,null,null,null,null,null,{"$f":"SUM(C123:J123)","v":0}]
[null,null,null,null,null,null,null,null,null,null,{"$f":"SUM(C124:J124)","v":0}]
[null,null,null,null,null,null,null,null,null,null,0]
[null,null,null,null,null,null,null,null,null,null,0]
[null,null,null,null,null,null,null,null,null,null,0]
[null,null,null,null,null,null,null,null,null,null,0]
[null,null,null,null,null,null,null,null,null,null,0]
[null,null,null,null,null,null,null,null,null,null,0]
[null,null,null,null,null,null,null,null,null,null,0]
[null,null,null,null,null,null,null,null,null,null,0]
[null,null,null,null,null,null,null,null,null,null,0]
[null,null,null,null,null,null,null,null,null,null,0]
[null,null,null,null,null,null,null,null,null,null,0]
[null,null,null,null,null,null,null,null,null,null,0]
[null,null,null,null,null,null,null,null,null,null,0]
[null,null,null,null,null,null,null,null,null,null,0]
[null,null,null,null,null,null,null,null,null,null,0]
[null,null,null,null,null,null,null,null,null,null,0]
[null,null,null,null,null,null,null,null,null,null,0]
[null,null,null,null,null,null,null,null,null,null,0]
[null,null,null,null,null,null,null,null,null,null,0]
[null,null,null,null,null,null,null,null,null,null,0]
[null,null,null,null,null,null,null,null,null,null,0]
[null,null,null,null,null,null,null,null,null,null,0]
[null,null,null,null,null,null,null,null,null,null,0]
["TOT Jour",null,{"$f":"SUM(C98:C147)","v":0},{"$f":"SUM(D98:D147)","v":0},0,0,0,0,0,0]
["TOT Période",null,{"$f":"SUM(C148:J148)","v":0}]
[{"$f":"B9","v":15}]
[]
[]
["Période :",{"$f":"Accueil!A43","v":"P3"},{"$f":"Accueil!$B43","v":"du"},{"$f":"Accueil!$C43","v":"2015-01-04"},{"$f":"Accueil!$D43","v":"au"},{"$f":"Accueil!$E43","v":"2015-02-20"}]
["Selectionnez la classe participant à l'atelier :"]
["NOM","Prénom","2014-05-25","2014-05-26","2014-05-27","2014-05-28","2014-05-29","2014-05-30","2014-05-31","2014-06-01","TOT"]
[null,null,null,null,null,null,null,null,null,null,{"$f":"SUM(C156:J156)","v":0}]
[null,null,null,null,null,null,null,null,null,null,{"$f":"SUM(C157:J157)","v":0}]
[null,null,null,null,null,null,null,null,null,null,0]
[null,null,null,null,null,null,null,null,null,null,0]
[null,null,null,null,null,null,null,null,null,null,0]
[null,null,null,null,null,null,null,null,null,null,0]
[null,null,null,null,null,null,null,null,null,null,0]
[null,null,null,null,null,null,null,null,null,null,0]
[null,null,null,null,null,null,null,null,null,null,0]
[null,null,null,null,null,null,null,null,null,null,0]
[null,null,null,null,null,null,null,null,null,null,0]
[null,null,null,null,null,null,null,null,null,null,0]
[null,null,null,null,null,null,null,null,null,null,0]
[null,null,null,null,null,null,null,null,null,null,0]
[null,null,null,null,null,null,null,null,null,null,0]
[null,null,null,null,null,null,null,null,null,null,0]
[null,null,null,null,null,null,null,null,null,null,0]
[null,null,null,null,null,null,null,null,null,null,0]
[null,null,null,null,null,null,null,null,null,null,0]
[null,null,null,null,null,null,null,null,null,null,0]
[null,null,null,null,null,null,null,null,null,null,0]
[null,null,null,null,null,null,null,null,null,null,0]
[null,null,null,null,null,null,null,null,null,null,0]
[null,null,null,null,null,null,null,null,null,null,0]
[null,null,null,null,null,null,null,null,null,null,0]
[null,null,null,null,null,null,null,null,null,null,{"$f":"SUM(C181:J181)","v":0}]
[null,null,null,null,null,null,null,null,null,null,{"$f":"SUM(C182:J182)","v":0}]
[null,null,null,null,null,null,null,null,null,null,0]
[null,null,null,null,null,null,null,null,null,null,0]
[null,null,null,null,null,null,null,null,null,null,0]
[null,null,null,null,null,null,null,null,null,null,0]
[null,null,null,null,null,null,null,null,null,null,0]
[null,null,null,null,null,null,null,null,null,null,0]
[null,null,null,null,null,null,null,null,null,null,0]
[null,null,null,null,null,null,null,null,null,null,0]
[null,null,null,null,null,null,null,null,null,null,0]
[null,null,null,null,null,null,null,null,null,null,0]
[null,null,null,null,null,null,null,null,null,null,0]
[null,null,null,null,null,null,null,null,null,null,0]
[null,null,null,null,null,null,null,null,null,null,0]
[null,null,null,null,null,null,null,null,null,null,0]
[null,null,null,null,null,null,null,null,null,null,0]
[null,null,null,null,null,null,null,null,null,null,0]
[null,null,null,null,null,null,null,null,null,null,0]
[null,null,null,null,null,null,null,null,null,null,0]
[null,null,null,null,null,null,null,null,null,null,0]
[null,null,null,null,null,null,null,null,null,null,0]
[null,null,null,null,null,null,null,null,null,null,0]
[null,null,null,null,null,null,null,null,null,null,0]
[null,null,null,null,null,null,null,null,null,null,0]
["TOT Jour",null,{"$f":"SUM(C156:C205)","v":0},{"$f":"SUM(D156:D205)","v":0},0,0,0,0,0,0]
["TOT Période",null,{"$f":"SUM(C206:J206)","v":0}]
[{"$f":"B9","v":15}]
[]
[]
["Période :",{"$f":"Accueil!A44","v":"P4"},{"$f":"Accueil!$B44","v":"du"},{"$f":"Accueil!$C44","v":"2015-03-08"},{"$f":"Accueil!$D44","v":"au"},{"$f":"Accueil!$E44","v":"2015-04-15"}]
["Selectionnez la classe participant à l'atelier :"]
["NOM","Prénom","2014-05-25","2014-05-26","2014-05-27","2014-05-28","2014-05-29","2014-05-30","2014-05-31","2014-06-01","TOT"]
[null,null,null,null,null,null,null,null,null,null,{"$f":"SUM(C214:J214)","v":0}]
[null,null,null,null,null,null,null,null,null,null,{"$f":"SUM(C215:J215)","v":0}]
[null,null,null,null,null,null,null,null,null,null,0]
[null,null,null,null,null,null,null,null,null,null,0]
[null,null,null,null,null,null,null,null,null,null,0]
[null,null,null,null,null,null,null,null,null,null,0]
[null,null,null,null,null,null,null,null,null,null,0]
[null,null,null,null,null,null,null,null,null,null,0]
[null,null,null,null,null,null,null,null,null,null,0]
[null,null,null,null,null,null,null,null,null,null,0]
[null,null,null,null,null,null,null,null,null,null,0]
[null,null,null,null,null,null,null,null,null,null,0]
[null,null,null,null,null,null,null,null,null,null,0]
[null,null,null,null,null,null,null,null,null,null,0]
[null,null,null,null,null,null,null,null,null,null,0]
[null,null,null,null,null,null,null,null,null,null,0]
[null,null,null,null,null,null,null,null,null,null,0]
[null,null,null,null,null,null,null,null,null,null,0]
[null,null,null,null,null,null,null,null,null,null,0]
[null,null,null,null,null,null,null,null,null,null,0]
[null,null,null,null,null,null,null,null,null,null,0]
[null,null,null,null,null,null,null,null,null,null,0]
[null,null,null,null,null,null,null,null,null,null,0]
[null,null,null,null,null,null,null,null,null,null,0]
[null,null,null,null,null,null,null,null,null,null,0]
[null,null,null,null,null,null,null,null,null,null,{"$f":"SUM(C239:J239)","v":0}]
[null,null,null,null,null,null,null,null,null,null,{"$f":"SUM(C240:J240)","v":0}]
[null,null,null,null,null,null,null,null,null,null,0]
[null,null,null,null,null,null,null,null,null,null,0]
[null,null,null,null,null,null,null,null,null,null,0]
[null,null,null,null,null,null,null,null,null,null,0]
[null,null,null,null,null,null,null,null,null,null,0]
[null,null,null,null,null,null,null,null,null,null,0]
[null,null,null,null,null,null,null,null,null,null,0]
[null,null,null,null,null,null,null,null,null,null,0]
[null,null,null,null,null,null,null,null,null,null,0]
[null,null,null,null,null,null,null,null,null,null,0]
[null,null,null,null,null,null,null,null,null,null,0]
[null,null,null,null,null,null,null,null,null,null,0]
[null,null,null,null,null,null,null,null,null,null,0]
[null,null,null,null,null,null,null,null,null,null,0]
[null,null,null,null,null,null,null,null,null,null,0]
[null,null,null,null,null,null,null,null,null,null,0]
[null,null,null,null,null,null,null,null,null,null,0]
[null,null,null,null,null,null,null,null,null,null,0]
[null,null,null,null,null,null,null,null,null,null,0]
[null,null,null,null,null,null,null,null,null,null,0]
[null,null,null,null,null,null,null,null,null,null,0]
[null,null,null,null,null,null,null,null,null,null,0]
[null,null,null,null,null,null,null,null,null,null,0]
["TOT Jour",null,{"$f":"SUM(C214:C263)","v":0},{"$f":"SUM(D214:D263)","v":0},0,0,0,0,0,0]
["TOT Période",null,{"$f":"SUM(C264:J264)","v":0}]
[{"$f":"B9","v":15}]
[]
[]
["Période :",{"$f":"Accueil!A45","v":"P5"},{"$f":"Accueil!$B45","v":"du"},{"$f":"Accueil!$C45","v":"2015-05-02"},{"$f":"Accueil!$D45","v":"au"},{"$f":"Accueil!$E45","v":"2015-07-03"}]
["Selectionnez la classe participant à l'atelier :"]
["NOM","Prénom","2014-05-25","2014-05-26","2014-05-27","2014-05-28","2014-05-29","2014-05-30","2014-05-31","2014-06-01","TOT"]
[null,null,null,null,null,null,null,null,null,null,{"$f":"SUM(C272:J272)","v":0}]
[null,null,null,null,null,null,null,null,null,null,{"$f":"SUM(C273:J273)","v":0}]
[null,null,null,null,null,null,null,null,null,null,0]
[null,null,null,null,null,null,null,null,null,null,0]
[null,null,null,null,null,null,null,null,null,null,0]
[null,null,null,null,null,null,null,null,null,null,0]
[null,null,null,null,null,null,null,null,null,null,0]
[null,null,null,null,null,null,null,null,null,null,0]
[null,null,null,null,null,null,null,null,null,null,0]
[null,null,null,null,null,null,null,null,null,null,0]
[null,null,null,null,null,null,null,null,null,null,0]
[null,null,null,null,null,null,null,null,null,null,0]
[null,null,null,null,null,null,null,null,null,null,0]
[null,null,null,null,null,null,null,null,null,null,0]
[null,null,null,null,null,null,null,null,null,null,0]
[null,null,null,null,null,null,null,null,null,null,0]
[null,null,null,null,null,null,null,null,null,null,0]
[null,null,null,null,null,null,null,null,null,null,0]
[null,null,null,null,null,null,null,null,null,null,0]
[null,null,null,null,null,null,null,null,null,null,0]
[null,null,null,null,null,null,null,null,null,null,0]
[null,null,null,null,null,null,null,null,null,null,0]
[null,null,null,null,null,null,null,null,null,null,0]
[null,null,null,null,null,null,null,null,null,null,0]
[null,null,null,null,null,null,null,null,null,null,0]
[null,null,null,null,null,null,null,null,null,null,{"$f":"SUM(C297:J297)","v":0}]
[null,null,null,null,null,null,null,null,null,null,{"$f":"SUM(C298:J298)","v":0}]
[null,null,null,null,null,null,null,null,null,null,0]
[null,null,null,null,null,null,null,null,null,null,0]
[null,null,null,null,null,null,null,null,null,null,0]
[null,null,null,null,null,null,null,null,null,null,0]
[null,null,null,null,null,null,null,null,null,null,0]
[null,null,null,null,null,null,null,null,null,null,0]
[null,null,null,null,null,null,null,null,null,null,0]
[null,null,null,null,null,null,null,null,null,null,0]
[null,null,null,null,null,null,null,null,null,null,0]
[null,null,null,null,null,null,null,null,null,null,0]
[null,null,null,null,null,null,null,null,null,null,0]
[null,null,null,null,null,null,null,null,null,null,0]
[null,null,null,null,null,null,null,null,null,null,0]
[null,null,null,null,null,null,null,null,null,null,0]
[null,null,null,null,null,null,null,null,null,null,0]
[null,null,null,null,null,null,null,null,null,null,0]
[null,null,null,null,null,null,null,null,null,null,0]
[null,null,null,null,null,null,null,null,null,null,0]
[null,null,null,null,null,null,null,null,null,null,0]
[null,null,null,null,null,null,null,null,null,null,0]
[null,null,null,null,null,null,null,null,null,null,0]
[null,null,null,null,null,null,null,null,null,null,0]
[null,null,null,null,null,null,null,null,null,null,0]
["TOT Jour",null,{"$f":"SUM(C272:C321)","v":0},{"$f":"SUM(D272:D321)","v":0},0,0,0,0,0,0]
["TOT Période",null,{"$f":"SUM(C322:J322)","v":0}]
["Statistiques"]
[]
[]
["Nombre d'heure de fréquentation :"]
[{"$f":"Accueil!$A41","v":"P1"},{"$f":"$C$91*1.5","v":0},"heures de présence pour cet atelier et pour cette période"]
[{"$f":"Accueil!$A42","v":"P2"},{"$f":"$C$149*1.5","v":0},"heures de présence pour cet atelier et pour cette période"]
[{"$f":"Accueil!$A43","v":"P3"},{"$f":"$C$207*1.5","v":0},"heures de présence pour cet atelier et pour cette période"]
[{"$f":"Accueil!$A44","v":"P4"},{"$f":"$C$265*1.5","v":0},"heures de présence pour cet atelier et pour cette période"]
[{"$f":"Accueil!$A45","v":"P5"},{"$f":"$C$323*1.5","v":0},"heures de présence pour cet atelier et pour cette période"]
["TOT",{"$f":"SUM($B$328:$B$332)","v":0},"heures de présence pour cet atelier et pour l'année"]

{"sheet":"CP Mme VIALE","index":31,"n_rows":28,"n_cols":13,"rows_kept":28,"cut":false,"hidden":true,"merged":[[0,0,1,12],[5,11,5,12],[5,3,5,4],[5,5,5,6],[5,7,5,8],[5,9,5,10]]}
["CP Mme VIALE"]
[]
[]
[]
[]
["Nombre d'enfants",{"$f":"SUM(COUNTA(A8:A28))","v":21},null,"Atelier P1",null,"Atelier P2",null,"Atelier P3",null,"Atelier P4",null,"Atelier P5"]
["NOM","Prénom","Niveau","Lundi","Jeudi","Lundi","Jeudi","Lundi","Jeudi","Lundi","Jeudi","Lundi","Jeudi"]
["MARTIN","Alban","CP","Mouchoirs",5]
["MARTIN","Nathan","CP","Mouchoirs",5]
["MARTIN","Yoan","CP","Mouchoirs",5]
["MARTIN","Chloé","CP","Mouchoirs",5]
["MARTIN","Amélie","CP","Mouchoirs",5]
["MARTIN","Johan","CP","Mouchoirs",5]
["MARTIN","Luke","CP","Mouchoirs",5]
["MARTIN","Lucie","CP","Mouchoirs",5]
["MARTIN","Noémie","CP","Mouchoirs",5]
["MARTIN","Yanis","CP","Mouchoirs",5]
["MARTIN","Thalia","CP","Mouchoirs",5]
["MARTIN","Arthur","CP","Mouchoirs",5]
["MARTIN","Woody","CP","Mouchoirs",5]
["MARTIN","Alyssa","CP","Mouchoirs",5]
["MARTIN","Antonin","CP","Mouchoirs",5]
["MARTIN","Louanne","CP","Mouchoirs",5]
["MARTIN","Samia","CP","Mouchoirs",5]
["MARTIN","Clarence","CP","Mouchoirs",5]
["MARTIN","Gabriel","CP","Mouchoirs",5]
["MARTIN","Jade","CP","Mouchoirs",5]
["MARTIN","Mathéo","CP","Mouchoirs",5]

{"sheet":"CP-CE1 Mme JEANNET","index":32,"n_rows":27,"n_cols":13,"rows_kept":27,"cut":false,"hidden":true,"merged":[[0,0,1,12],[5,9,5,10],[5,11,5,12],[5,0,5,2],[5,3,5,4],[5,5,5,6],[5,7,5,8]]}
["CP-CE1 Mme JEANNET"]
[]
[]
[]
[]
[{"$f":"SUM(COUNTA(A8:A39))","v":20},null,null,"Atelier P1",null,"Atelier P2",null,"Atelier P3",null,"Atelier P4",null,"Atelier P5"]
["NOM","Prénom","Niveau","Lundi","Jeudi","Lundi","Jeudi","Lundi","Jeudi","Lundi","Jeudi","Lundi","Jeudi"]
["MARTIN","Manon","CP","Jeux"]
["MARTIN","Alexandre","CP"]
["MARTIN","Lukas","CP"]
["MARTIN","Gaëtane","CP"]
["MARTIN","Maïa","CP"]
["MARTIN","Bastien","CP"]
["MARTIN","Nathanaël","CP"]
["MARTIN","Milo","CP"]
["MARTIN","Julie","CP"]
["MARTIN","Lou-Ann","CE1"]
["MARTIN","Lilou","CE1"]
["MARTIN","Cléo","CE1"]
["MARTIN","Alycia","CE1"]
["MARTIN","Emilie","CE1"]
["MARTIN","Lily","CE1"]
["MARTIN","Clara","CE1"]
["MARTIN","Kinsley","CE1"]
["MARTIN","Eloïse","CE1"]
["MARTIN","Killian","CE1"]
["MARTIN","Zoé","CE1"]

{"sheet":"CE1 Mme GUILLOUX","index":33,"n_rows":29,"n_cols":13,"rows_kept":29,"cut":false,"hidden":true,"merged":[[0,0,1,12],[5,9,5,10],[5,11,5,12],[5,0,5,2],[5,3,5,4],[5,5,5,6],[5,7,5,8]]}
["CE1 Mme GUILLOUX"]
[]
[]
[]
[]
[{"$f":"SUM(COUNTA(A8:A39))","v":22},null,null,"Atelier P1",null,"Atelier P2",null,"Atelier P3",null,"Atelier P4",null,"Atelier P5"]
["NOM","Prénom","Niveau","Lundi","Jeudi","Lundi","Jeudi","Lundi","Jeudi","Lundi","Jeudi","Lundi","Jeudi"]
["MARTIN","Marvin","CE1"]
["MARTIN","Andréa","CE1"]
["MARTIN","Pippa","CE1"]
["MARTIN","Lilou","CE1"]
["MARTIN","Camille","CE1"]
["MARTIN","Savana","CE1"]
["MARTIN","Eloïse","CE1"]
["MARTIN","Maëva","CE1"]
["MARTIN","Jérémie","CE1"]
["MARTIN","Anaïs","CE1"]
["MARTIN","Maria","CE1"]
["MARTIN","Maélice","CE1"]
["MARTIN","Maud","CE1"]
["MARTIN","Bastien","CE1"]
["MARTIN","Clément","CE1"]
["MARTIN","Alexis","CE1"]
["MARTIN","Erwan","CE1"]
["MARTIN","Solaine","CE1"]
["MARTIN","Imanol","CE1"]
["MARTIN","Loli","CE1"]
["MARTIN","Mathéo","CE1"]
["MARTIN","Louna","CE1"]

{"sheet":"CE1-CE2 Mme PINOT","index":34,"n_rows":27,"n_cols":13,"rows_kept":27,"cut":false,"hidden":true,"merged":[[0,0,1,12],[5,9,5,10],[5,11,5,12],[5,0,5,2],[5,3,5,4],[5,5,5,6],[5,7,5,8]]}
["CE1-CE2 Mme PINOT"]
[]
[]
[]
[]
[{"$f":"SUM(COUNTA(A8:A39))","v":20},null,null,"Atelier P1",null,"Atelier P2",null,"Atelier P3",null,"Atelier P4",null,"Atelier P5"]
["NOM","Prénom","Niveau","Lundi","Jeudi","Lundi","Jeudi","Lundi","Jeudi","Lundi","Jeudi","Lundi","Jeudi"]
["MARTIN","Romain","CE1"]
["MARTIN","Soléane","CE1"]
["MARTIN","Léopold","CE1"]
["MARTIN","Gaël","CE1"]
["MARTIN","Maud","CE1"]
["MARTIN","Emma","CE1"]
["MARTIN","Tifenn","CE1"]
["MARTIN","Gabrielle","CE2"]
["MARTIN","Yanis","CE2"]
["MARTIN","Lise","CE2"]
["MARTIN","Léanna","CE2"]
["MARTIN","Logan","CE2"]
["MARTIN","Chloé","CE2"]
["MARTIN","Daisy","CE2"]
["MARTIN","Noah","CE2"]
["MARTIN","Pierre","CE2"]
["MARTIN","Justin","CE2"]
["MARTIN","Ambre","CE2"]
["MARTIN","Antonin","CE2"]
["MARTIN","Mattéo","CE2"]

{"sheet":"CE2 Mme QUERAUD","index":35,"n_rows":33,"n_cols":13,"rows_kept":33,"cut":false,"hidden":true,"merged":[[0,0,1,12],[5,9,5,10],[5,11,5,12],[5,0,5,2],[5,3,5,4],[5,5,5,6],[5,7,5,8]]}
["CE2 Mme QUERAUD"]
[]
[]
[]
[]
[{"$f":"SUM(COUNTA(A8:A39))","v":26},null,null,"Atelier P1",null,"Atelier P2",null,"Atelier P3",null,"Atelier P4",null,"Atelier P5"]
["NOM","Prénom","Niveau","Lundi","Jeudi","Lundi","Jeudi","Lundi","Jeudi","Lundi","Jeudi","Lundi","Jeudi"]
["MARTIN","Simon","CE2"]
["MARTIN","Mathis","CE2"]
["MARTIN","Louis","CE2"]
["MARTIN","Mathéo","CE2"]
["MARTIN","Andy","CE2"]
["MARTIN","Antony","CE2"]
["MARTIN","Justine","CE2"]
["MARTIN","Johanna","CE2"]
["MARTIN","Lucas","CE2"]
["MARTIN","Marie","CE2"]
["MARTIN","Alycia","CE2"]
["MARTIN","Benjamin","CE2"]
["MARTIN","Elouan","CE2"]
["MARTIN","Lucas","CE2"]
["MARTIN","Fanny","CE2"]
["MARTIN","Eva","CE2"]
["MARTIN","Ewan","CE2"]
["MARTIN","Samuel","CE2"]
["MARTIN","Léa","CE2"]
["MARTIN","Lucie","CE2"]
["MARTIN","Maeva","CE2"]
["MARTIN","Louis","CE2"]
["MARTIN","Océane","CE2"]
["MARTIN","Paul","CE2"]
["MARTIN","Mathias","CE2"]
["MARTIN","Lucas","CE2"]

{"sheet":"CM1 M. MILLON","index":36,"n_rows":32,"n_cols":13,"rows_kept":32,"cut":false,"hidden":true,"merged":[[0,0,1,12],[5,9,5,10],[5,11,5,12],[5,0,5,2],[5,3,5,4],[5,5,5,6],[5,7,5,8]]}
["CM1 M. MILLON"]
[]
[]
[]
[]
[{"$f":"SUM(COUNTA(A8:A39))","v":25},null,null,"Atelier P1",null,"Atelier P2",null,"Atelier P3",null,"Atelier P4",null,"Atelier P5"]
["NOM","Prénom","Niveau","Lundi","Jeudi","Lundi","Jeudi","Lundi","Jeudi","Lundi","Jeudi","Lundi","Jeudi"]
["MARTIN","Quentin","CM1"]
["MARTIN","Hugo","CM1"]
["MARTIN","Gabriel","CM1"]
["MARTIN","Tom","CM1"]
["MARTIN","Adrien","CM1"]
["MARTIN","Mathis","CM1"]
["MARTIN","Noémie","CM1"]
["MARTIN","Morgane","CM1"]
["MARTIN","Florian","CM1"]
["MARTIN","Maelys","CM1"]
["MARTIN","Solenn","CM1"]
["MARTIN","Jeanne","CM1"]
["MARTIN","Quentin","CM1"]
["MARTIN","Cornélia","CM1"]
["MARTIN","Rafaël","CM1"]
["MARTIN","Charlotte","CM1"]
["MARTIN","Victor","CM1"]
["MARTIN","Adrien","CM1"]
["MARTIN","Lucie","CM1"]
["MARTIN","Maxime","CM1"]
["MARTIN","Florian","CM1"]
["MARTIN","Agathe","CM1"]
["MARTIN","Ghislain","CM1"]
["MARTIN","Zoé","CM1"]
["MARTIN","Cindy","CM1"]

{"sheet":"CM1-CM2 M. BECHADE","index":37,"n_rows":30,"n_cols":13,"rows_kept":30,"cut":false,"hidden":true,"merged":[[0,0,1,12],[5,9,5,10],[5,11,5,12],[5,0,5,2],[5,3,5,4],[5,5,5,6],[5,7,5,8]]}
["CM1-CM2 M. BECHADE"]
[]
[]
[]
[]
[{"$f":"SUM(COUNTA(A8:A39))","v":23},null,null,"Atelier P1",null,"Atelier P2",null,"Atelier P3",null,"Atelier P4",null,"Atelier P5"]
["NOM","Prénom","Niveau","Lundi","Jeudi","Lundi","Jeudi","Lundi","Jeudi","Lundi","Jeudi","Lundi","Jeudi"]
["MARTIN","Sacha","CM1"]
["MARTIN","Sophie","CM1"]
["MARTIN","Léa","CM1"]
["MARTIN","Eva","CM1"]
["MARTIN","Noa","CM1"]
["MARTIN","Mathis","CM1"]
["MARTIN","Andy","CM1"]
["MARTIN","Manon","CM1"]
["MARTIN","Lucie","CM1"]
["MARTIN","Arthur","CM1"]
["MARTIN","Kalvin","CM2"]
["MARTIN","Clélia","CM2"]
["MARTIN","Eva","CM2"]
["MARTIN","Aléxia","CM2"]
["MARTIN","Maxence","CM2"]
["MARTIN","Justine","CM2"]
["MARTIN","Gaëtan","CM2"]
["MARTIN","Florence","CM2"]
["MARTIN","Océane","CM2"]
["MARTIN","Flore","CM2"]
["MARTIN","Sacha","CM2"]
["MARTIN","Alexis","CM2"]
["MARTIN","Nathan","CM2"]

{"sheet":"CM2 M. SOURY","index":38,"n_rows":32,"n_cols":13,"rows_kept":32,"cut":false,"hidden":true,"merged":[[0,0,1,12],[5,9,5,10],[5,11,5,12],[5,0,5,2],[5,3,5,4],[5,5,5,6],[5,7,5,8]]}
["CM2 M. SOURY"]
[]
[]
[]
[]
[{"$f":"SUM(COUNTA(A8:A39))","v":25},null,null,"Atelier P1",null,"Atelier P2",null,"Atelier P3",null,"Atelier P4",null,"Atelier P5"]
["NOM","Prénom","Niveau","Lundi","Jeudi","Lundi","Jeudi","Lundi","Jeudi","Lundi","Jeudi","Lundi","Jeudi"]
["MARTIN","Manon","CM2"]
["MARTIN","Léo","CM2"]
["MARTIN","Alexandre","CM2"]
["MARTIN","Morgane","CM2"]
["MARTIN","Mathys","CM2"]
["MARTIN","Axel","CM2"]
["MARTIN","Lilian","CM2"]
["MARTIN","Yanis","CM2"]
["MARTIN","Maëva","CM2"]
["MARTIN","Mélina","CM2"]
["MARTIN","Auxane","CM2"]
["MARTIN","Emmy","CM2"]
["MARTIN","Edwin","CM2"]
["MARTIN","Lucas","CM2"]
["MARTIN","Bérénice","CM2"]
["MARTIN","Célinda","CM2"]
["MARTIN","Alexandre","CM2"]
["MARTIN","Axelle","CM2"]
["MARTIN","Théa","CM2"]
["MARTIN","Sarah","CM2"]
["MARTIN","Matea","CM2"]
["MARTIN","Giovany","CM2"]
["MARTIN","Shana","CM2"]
["MARTIN","Antonin","CM2"]
["MARTIN","Clément","CM2"]

{"sheet":"CLIS Mme SANCHEZ","index":39,"n_rows":19,"n_cols":13,"rows_kept":19,"cut":false,"hidden":true,"merged":[[0,0,1,12],[5,9,5,10],[5,11,5,12],[5,0,5,2],[5,3,5,4],[5,5,5,6],[5,7,5,8]]}
["CLIS Mme SANCHEZ"]
[]
[]
[]
[]
[{"$f":"SUM(COUNTA(A8:A39))","v":12},null,null,"Atelier P1",null,"Atelier P2",null,"Atelier P3",null,"Atelier P4",null,"Atelier P5"]
["NOM","Prénom","Niveau","Lundi","Jeudi","Lundi","Jeudi","Lundi","Jeudi","Lundi","Jeudi","Lundi","Jeudi"]
["MARTIN","Pédro","Clis"]
["MARTIN","Laura","Clis"]
["MARTIN","Evan","Clis"]
["MARTIN","Aurélien","Clis"]
["MARTIN","Eléna","Clis"]
["MARTIN","Diego","Clis"]
["MARTIN","Hortanse","Clis"]
["MARTIN","Evan","Clis"]
["MARTIN","Coleen","Clis"]
["MARTIN","Raphaël","Clis"]
["MARTIN","Alison","Clis"]
["MARTIN","Owena","Clis"]

{"sheet":"Statistiques","index":40,"n_rows":0,"n_cols":0,"rows_kept":0,"cut":false,"hidden":true,"merged":[]}