{"text_format":"1","workbook":"xlsx","n_sheets":6,"sheets":["Menu","BD","Nouveau_Mensuel","Consultation","Param","calc"],"not_rendered":{"charts":0,"images":0,"macros":1,"external_links":0,"defined_names":24,"comments":3,"pivot_tables":0},"unopened":[],"bounds":{"document_bytes":16777216,"sheet_cells":100000,"rows_first":2000,"rows_last":500,"rows_between":2000,"halvings":0,"cell_chars":16384,"cell_head_chars":4096},"cells_cut":0,"cells_raw":0,"read":"whole","date_system":"1900"}

{"sheet":"Menu","index":0,"n_rows":2,"n_cols":2,"rows_kept":2,"cut":false,"hidden":true,"merged":[]}
[]
[null,"SAISIE MENSUEL"]

{"sheet":"BD","index":1,"n_rows":15,"n_cols":32,"rows_kept":15,"cut":false,"hidden":false,"merged":[]}
["N°","Code affaires","Nom du site","Date début de facturation","Date fin de facturation","date de facture émise","Index début","Index fin","Décompteur","Conso (MWh)","Base R1","Coéficient de révision R1","prix final","Redevance R1","Base R2","Coéficient de révision R2","Redevance R2","Remarque","Date début de facturation","Date fin de facturation ","date de facture émise ","R1 à Facturer","R1 déjà facturé HT","Régularisation R1","Index début d'avoir","Index fin d'avoir","Conso (MWh)","R2 à Facturer","R2 déjà facturé HT","Régularisation R2","Période de couverture","Remarque"]
[19,"H2312","MEXICO","2013-08-01","2013-09-30","2013-09-30",4152,4563,14,397,4561,1.5,4706.9520000000002,1868659.9440000001,41552,254,1.0653999999999999,"blablablabla ","2013-08-01","2013-09-30","2013-11-15",24600.880000000001,25487.31,{"$f":"W2-V2","v":886.43000000000029},25487.31,39752.870000000003,40239.050000000003,486.18000000000029,2313,3654,"01/03/2013 au 31/12/2013","blablabla"]
[18,"H06","LIEVIN","2013-04-01","2013-04-30","2013-08-30",2543,6852,14,4295,1254,1.0511999999999999,1318.2048,5661689.6159999995,41452,452,1.056]
[17,"H06","LIEVIN","2013-05-01","2013-05-31","2013-05-31",1234,1954,25,695,4567,1.0649999999999999,4863.8549999999996,3380379.2249999996,41448,125,1.054,"blablablabla"]
[16,"H06","LIEVIN","2013-06-01","2013-06-30","2013-06-30",1235,14568,12,13321,1456,1.0680000000000001,1555.008,20714261.568,41417,1254,12]
[15,"H06","LIEVIN","2013-07-01","2013-07-31","2013-07-31",25654,29854,25,4175,22,22,484,2020700,41610,25,1.05,"blablablabla"]
[14,"H06","LIEVIN","2013-08-01","2013-08-31","2013-08-31",236,298,32,30,125,1.2,150,4500,41449,451,1.3638319999999999]
[8,"H06","LIEVIN","2013-09-01","2013-09-30","2013-09-30",49110.5,49194.6,3.33,80.769999999998547,14.510999999999999,3.1384799999999999,45.542483279999999,3678.4663745255339,41486,62979.171999999999,1.3638319999999999,"blablablabla"]
[7,"H06","LIEVIN","2013-10-01","2013-10-31","2013-10-31",49110.5,49194.6,14,23.65,45.6,3.1384799999999999,45.542483279999999,3678.4663745255339,41486,62979.171999999999,1.3638319999999999]
[5,"H015","Arras Hochettes","2013-04-01","2013-04-30","2013-05-01",49110.5,49194.6,4,80.769999999998547,25,3.1384799999999999,45.542483279999999,3678.4663745255339,41486,62979.171999999999,1.3638319999999999,"blablablabla","2013-04-01","2013-04-30","2013-12-25",145,254,130.364,123,321,198,542,265,-331.29200000000003,"Du 01/03/2013 au 31/12/2013","kqsfh kqejiekfana kejfgkeaf"]
[4,"H07","Arras Haut Blancs Monts","2013-06-01","2013-07-31","2013-07-31",49110.5,49194.6,5,80.769999999998547,63,3.1384799999999999,45.542483279999999,3678.4663745255339,41486,62979.171999999999,1.3614170000000001,null,"2012-06-01","2012-07-31","2012-12-31",41531,24600.880000000001,2514,25487.31,39752.870000000003,40239.050000000003,486.18000000000029,548,253,"01/03/2013 au 31/12/2013"]
[2,"H06","LIEVIN","2013-11-01","2013-11-30","2013-11-30",39752.870000000003,40293.050000000003,0,540.18000000000029,14.510999999999999,3.1384799999999999,45.542483279999999,24601.138618190413,41455,41819.620999999999,1.3614170000000001]
[1,"H06","LIEVIN","2012-12-01","2012-12-31","2013-12-31",39752.870000000003,40293.050000000003,0,540.18000000000029,14.510999999999999,3.1384799999999999,45.542483279999999,24601.138618190413,41455,41819.620999999999,0.98699999999999999,"blablablabla"]
[20,"TH054","Paris","2013-07-01","2013-07-31","2013-07-31",7412,7952,36,504,1254,1.0349999999999999,1297.8899999999999,654136.55999999994,1543,1242,0.98699999999999999]
[21,"H06","LIEVIN",0,0,0,0,0,0,0,0,0,0,0,0,0]

{"sheet":"Nouveau_Mensuel","index":2,"n_rows":19,"n_cols":43,"rows_kept":19,"cut":false,"hidden":false,"merged":[]}
["N°","Code affaires","Nom du site","Date début de facturation","Date fin de facturation","date de facture émise","Index début","Index fin","Décompteur","Conso (MWh)","Base R1","Coéficient de révision R1","prix final","Redevance R1","Base R2","Coéficient de révision R2","Redevance R2","Remarque","Date début de facturation","Date fin de facturation ","date de facture émise ","R1 à Facturer","R1 déjà facturé HT","Régularisation R1","Index début d'avoir","Index fin d'avoir","Conso (MWh)","R2 à Facturer","R2 déjà facturé HT","Régularisation R2","Période de couverture","Remarque"]
[{"$f":"MAX(BD!A:A)+1","v":22},{"$f":"E5","v":"H07"},{"$f":"E6","v":"Arras Haut Blancs Monts"},{"$f":"E7","v":"2010-01-01"},{"$f":"E8","v":"2010-01-02"},{"$f":"E9","v":"2010-01-03"},{"$f":"E12","v":125},{"$f":"E13","v":252},{"$f":"E14","v":300},{"$f":"H2-G2-I2","v":-173},{"$f":"E10","v":200},{"$f":"E11","v":3},{"$f":"K2*L2","v":600},{"$f":"M2*J2","v":-103800},{"$f":"E15","v":150.25},{"$f":"E16","v":30},{"$f":"O2*P2","v":4507.5},{"$f":"E17","v":"aze"},{"$f":"K9","v":"2013-04-01"},{"$f":"K10","v":"2013-04-30"},{"$f":"K8","v":"2014-01-12"},{"$f":"K13","v":154},{"$f":"K14","v":325},{"$f":"((V2-W2)+(V2-W2)*0.196)*-1","v":204.51599999999999},{"$f":"K11","v":121},{"$f":"K12","v":321},{"$f":"Z2-Y2","v":200},{"$f":"+K15","v":125},{"$f":"K16","v":325},{"$f":"((AB2-AC2)+(AB2-AC2)*0.196)*-1","v":239.2},{"$f":"K18","v":"du 01/04/2013 au 31/12/2013"},{"$f":"K19","v":"BLABLABLABAML"}]
[null,{"$f":"\"BD!A\"&COUNTIF(BD!A:A,\">0\")+2","v":"BD!A16"}]
[null,null,{"$f":"IF(BD!A6000>0,\"CAPACITE MAXI ATTEINTE\",\"\")","v":""},null,null,null,null,null,"Nombre de mois couvrant la Régulation :",null,9]
[null,null,"Code affaires",null,"H07"]
[null,null,"Nom du site",null,{"$f":"IF(E5=\"\",\"\",IF(AND(D6=\"\",COUNTIF(Liste_ref,E5)=0),\"<< Entrer le site\",IF(COUNTIF(Liste_ref,E5),VLOOKUP(E5,BD!$B:$C,2,0),D6)))","v":"Arras Haut Blancs Monts"},null,null,null,"Code affaires",null,"H06",null,"Code affaires",null,"H06",null,"Code affaires",null,"H06",null,"Code affaires",null,"H06",null,"Code affaires",null,"H06",null,"Code affaires",null,"H06",null,"Code affaires",null,"H06",null,"Code affaires",null,"H06",null,"Code affaires",null,"H06"]
[null,null,"Date début de facturation",null,"2010-01-01",null,null,null,"Nom du site",null,{"$f":"IF(K6=\"\",\"\",VLOOKUP(K6,BD!$B:$C,2,0))","v":"LIEVIN"},null,"Nom du site",null,{"$f":"IF(O6=\"\",\"\",VLOOKUP(O6,BD!$B:$C,2,0))","v":"LIEVIN"},null,"Nom du site",null,{"$f":"IF(S6=\"\",\"\",VLOOKUP(S6,BD!$B:$C,2,0))","v":"LIEVIN"},null,"Nom du site",null,{"$f":"IF(W6=\"\",\"\",VLOOKUP(W6,BD!$B:$C,2,0))","v":"LIEVIN"},null,"Nom du site",null,{"$f":"IF(AA6=\"\",\"\",VLOOKUP(AA6,BD!$B:$C,2,0))","v":"LIEVIN"},null,"Nom du site",null,{"$f":"IF(AE6=\"\",\"\",VLOOKUP(AE6,BD!$B:$C,2,0))","v":"LIEVIN"},null,"Nom du site",null,{"$f":"IF(AI6=\"\",\"\",VLOOKUP(AI6,BD!$B:$C,2,0))","v":"LIEVIN"},null,"Nom du site",null,{"$f":"IF(AM6=\"\",\"\",VLOOKUP(AM6,BD!$B:$C,2,0))","v":"LIEVIN"},null,"Nom du site",null,{"$f":"IF(AQ6=\"\",\"\",VLOOKUP(AQ6,BD!$B:$C,2,0))","v":"LIEVIN"}]
[null,null,"Date fin de facturation",null,"2010-01-02",null,null,null,"date de facture émise ",null,"2014-01-12",null,"date de facture émise ",null,"2014-01-12",null,"date de facture émise ",null,"2014-01-12",null,"date de facture émise ",null,"2014-01-12",null,"date de facture émise ",null,"2014-01-12",null,"date de facture émise ",null,"2014-01-12",null,"date de facture émise ",null,"2014-01-12",null,"date de facture émise ",null,"2014-01-12",null,"date de facture émise ",null,"2014-01-12"]
[null,null,"date de facture émise",null,"2010-01-03",null,null,null,"Date début de facturation ",null,"2013-04-01",null,"Date début de facturation ",null,"2013-05-01",null,"Date début de facturation ",null,"2013-06-01",null,"Date début de facturation ",null,"2013-07-01",null,"Date début de facturation ",null,"2013-08-01",null,"Date début de facturation ",null,"2013-09-01",null,"Date début de facturation ",null,"2013-10-01",null,"Date début de facturation ",null,"2013-11-01",null,"Date début de facturation ",null,"2012-12-01"]
[null,null,"Base R1",null,200,null,null,null,"Date fin de facturation ",null,"2013-04-30",null,"Date fin de facturation ",null,"2013-05-31",null,"Date fin de facturation ",null,"2013-06-30",null,"Date fin de facturation ",null,"2013-07-31",null,"Date fin de facturation ",null,"2013-08-31",null,"Date fin de facturation ",null,"2013-09-30",null,"Date fin de facturation ",null,"2013-10-31",null,"Date fin de facturation ",null,"2013-11-30",null,"Date fin de facturation ",null,"2012-12-31"]
[null,null,"Coéficient de révision R1",null,3,null,null,null,"Index début d'avoir",null,121,null,"Index début d'avoir",null,542,null,"Index début d'avoir",null,745,null,"Index début d'avoir",null,854,null,"Index début d'avoir",null,524,null,"Index début d'avoir",null,456,null,"Index début d'avoir",null,654,null,"Index début d'avoir",null,654,null,"Index début d'avoir",null,357]
[null,null,"Index début",null,125,null,null,null,"Index fin d'avoir",null,321,null,"Index fin d'avoir",null,654,null,"Index fin d'avoir",null,987,null,"Index fin d'avoir",null,965,null,"Index fin d'avoir",null,652,null,"Index fin d'avoir",null,654,null,"Index fin d'avoir",null,789,null,"Index fin d'avoir",null,789,null,"Index fin d'avoir",null,987]
[null,null,"Index fin",null,252,null,null,null,"R1 à Facturé",null,154,null,"R1 à Facturé",null,124,null,"R1 à Facturé",null,521,null,"R1 à Facturé",null,147,null,"R1 à Facturé",null,456,null,"R1 à Facturé",null,753,null,"R1 à Facturé",null,456,null,"R1 à Facturé",null,456,null,"R1 à Facturé",null,458]
[null,null,"Décompteur",null,300,null,null,null,"R1 déjà facturé HT",null,325,null,"R1 déjà facturé HT",null,256,null,"R1 déjà facturé HT",null,952,null,"R1 déjà facturé HT",null,258,null,"R1 déjà facturé HT",null,478,null,"R1 déjà facturé HT",null,852,null,"R1 déjà facturé HT",null,258,null,"R1 déjà facturé HT",null,489,null,"R1 déjà facturé HT",null,658]
[null,null,"Base R2",null,150.25,null,null,null,"R2 à Facturé",null,125,null,"R2 à Facturé",null,125,null,"R2 à Facturé",null,452,null,"R2 à Facturé",null,741,null,"R2 à Facturé",null,159,null,"R2 à Facturé",null,741,null,"R2 à Facturé",null,654,null,"R2 à Facturé",null,654,null,"R2 à Facturé",null,215]
[null,null,"Coéficient de révision R2",null,30,null,null,null,"R2 déjà facturé HT",null,325,null,"R2 déjà facturé HT",null,145,null,"R2 déjà facturé HT",null,654,null,"R2 déjà facturé HT",null,258,null,"R2 déjà facturé HT",null,178,null,"R2 déjà facturé HT",null,852,null,"R2 déjà facturé HT",null,457,null,"R2 déjà facturé HT",null,789,null,"R2 déjà facturé HT",null,354]
[null,null,"Remarque",null,"aze",null,null,null,"Régularisation R2",null,{"$f":"((K15-K16)+(K15-K16)*0.196)*-1","v":239.2},null,"Régularisation R2",null,{"$f":"((O15-O16)+(O15-O16)*0.196)*-1","v":23.92},null,"Régularisation R2",null,{"$f":"((S15-S16)+(S15-S16)*0.196)*-1","v":241.59199999999998},null,"Régularisation R2",null,{"$f":"((W15-W16)+(W15-W16)*0.196)*-1","v":-577.66800000000001},null,"Régularisation R2",null,{"$f":"((AA15-AA16)+(AA15-AA16)*0.196)*-1","v":22.724},null,"Régularisation R2",null,{"$f":"((AE15-AE16)+(AE15-AE16)*0.196)*-1","v":132.756},null,"Régularisation R2",null,{"$f":"((AI15-AI16)+(AI15-AI16)*0.196)*-1","v":-235.61199999999999},null,"Régularisation R2",null,{"$f":"((AM15-AM16)+(AM15-AM16)*0.196)*-1","v":161.46},null,"Régularisation R2",null,{"$f":"((AQ15-AQ16)+(AQ15-AQ16)*0.196)*-1","v":166.244}]
[null,null,null,null,null,null,null,null,"Période de couverture",null,"du 01/04/2013 au 31/12/2013",null,"Période de couverture",null,"du 01/04/2013 au 31/12/2013",null,"Période de couverture",null,"du 01/04/2013 au 31/12/2013",null,"Période de couverture",null,"du 01/04/2013 au 31/12/2013",null,"Période de couverture",null,"du 01/04/2013 au 31/12/2013",null,"Période de couverture",null,"du 01/04/2013 au 31/12/2013",null,"Période de couverture",null,"du 01/04/2013 au 31/12/2013",null,"Période de couverture",null,"du 01/04/2013 au 31/12/2013",null,"Période de couverture",null,"du 01/04/2013 au 31/12/2013"]
[null,null,null,null,null,null,null,null,"Remarque",null,"BLABLABLABAML",null,"Remarque",null,"BLABLABAL",null,"Remarque",null,"BLABLABLABLABLANBAL NBALKN",null,"Remarque",null,"BLABLABLABLABLANBAL NBALKN",null,"Remarque",null,null,null,"Remarque",null,"BLABLABLABLABLANBAL NBALKN",null,"Remarque",null,"BLABLABLABLABLANBAL NBALKN",null,"Remarque",null,null,null,"Remarque",null,"BLABLABLABLABLANBAL NBALKN"]

{"sheet":"Consultation","index":3,"n_rows":31,"n_cols":37,"rows_kept":31,"cut":false,"hidden":false,"merged":[[3,10,4,10],[3,6,3,7],[4,6,4,7],[5,6,5,7],[18,5,29,5],[3,8,3,9],[4,8,4,9],[5,8,5,9],[8,5,17,5]]}
["N°","Code affaires","Nom du site","Date début de facturation","Date fin de facturation","date de facture émise","Index début","Index fin","Décompteur","Conso (MWh)","Base R1","Coéficient de révision R1","prix final","Redevance R1","Base R2","Coéficient de révision R2","Redevance R2","Remarque","Date début de facturation","Date fin de facturation ","date de facture émise ","R1 à Facturer","R1 déjà facturé HT","Régularisation R1","Index début d'avoir","Index fin d'avoir","Conso (MWh)","R2 à Facturer","R2 déjà facturé HT","Régularisation R2","Période de couverture","Remarque"]
[{"$f":"C8","v":4},{"$f":"IF($A$2=\"\",\"\",VLOOKUP($A$2,Champ,2,0))","v":"H07"},{"$f":"IF($A$2=\"\",\"\",IF(D12<>\"\",$D$12,$C$12))","v":"Arras Haut Blancs Monts"},{"$f":"IF($A$2=\"\",\"\",IF($D$19<>\"\",$D$19,$C$19))","v":""},{"$f":"IF($A$2=\"\",\"\",IF($D$20<>\"\",$D$20,$C$20))","v":41121},{"$f":"IF($A$2=\"\",\"\",IF($D$21<>\"\",$D$21,$C$21))","v":41274},{"$f":"IF($A$2=\"\",\"\",IF($D$13<>\"\",$D$13,$C$13))","v":49110.5},{"$f":"IF($A$2=\"\",\"\",IF($D$14<>\"\",$D$14,$C$14))","v":49194.6},{"$f":"IF($A$2=\"\",\"\",VLOOKUP($A$2,Champ,9,0))","v":5},{"$f":"H2-G2-I2","v":79.099999999998545},{"$f":"IF($A$2=\"\",\"\",VLOOKUP($A$2,Champ,11,0))","v":63},{"$f":"IF($A$2=\"\",\"\",VLOOKUP($A$2,Champ,12,0))","v":3.1384799999999999},{"$f":"K2*L2","v":197.72424000000001},{"$f":"M2*J2","v":15639.987383999713},{"$f":"IF($A$2=\"\",\"\",VLOOKUP($A$2,Champ,15,0))","v":41486},{"$f":"IF($A$2=\"\",\"\",VLOOKUP($A$2,Champ,16,0))","v":62979.171999999999},{"$f":"O2*P2","v":2612753929.592},{"$f":"IF($A$2=\"\",\"\",IF($D$18<>\"\",$D$18,$C$18))","v":0},{"$f":"IF($A$2=\"\",\"\",IF($D$19<>\"\",$D$19,$C$19))","v":""},{"$f":"IF($A$2=\"\",\"\",IF($D$20<>\"\",$D$20,$C$20))","v":41121},{"$f":"IF($A$2=\"\",\"\",IF($D$21<>\"\",$D$21,$C$21))","v":41274},{"$f":"IF($A$2=\"\",\"\",IF($D$23<>\"\",$D$23,$C$23))","v":41531},{"$f":"IF($A$2=\"\",\"\",IF($D$24<>\"\",$D$24,$C$24))","v":24600.880000000001},{"$f":"((V2-W2)+(V2-W2)*0.196)*-1","v":-20248.42352},{"$f":"IF($A$2=\"\",\"\",VLOOKUP($A$2,Champ,25,0))","v":25487.31},{"$f":"IF($A$2=\"\",\"\",VLOOKUP($A$2,Champ,26,0))","v":39752.870000000003},{"$f":"Z2-Y2","v":14265.560000000001},{"$f":"IF($A$2=\"\",\"\",IF($D$27<>\"\",$D$27,$C$27))","v":486.18000000000029},{"$f":"IF($A$2=\"\",\"\",IF($D$28<>\"\",$D$28,$C$28))","v":548},{"$f":"((AB2-AC2)+(AB2-AC2)*0.196)*-1","v":73.936719999999653},{"$f":"IF($A$2=\"\",\"\",IF($D$29<>\"\",$D$29,$C$29))","v":"01/03/2013 au 31/12/2013"},{"$f":"IF($A$2=\"\",\"\",IF($D$30<>\"\",$D$30,$C$30))","v":0}]
[{"$f":"\"BD!A\"&MATCH(A2,BD!A:A,0)&\":AF\"&MATCH(A2,BD!A:A,0)","v":"BD!A11:AF11"}]
[null,null,null,null,null,null,"Sélectionner : Code affaire recherché",null,"H07",null,"Sélectionner la durée voulue"]
[null,null,null,null,null,null,"Sélectionner : Début de période souhaité",null,"2012-01-01"]
[null,null,null,null,null,null,"Date de fin de période",null,{"$f":"DATE(YEAR(I5),MONTH(I5)+K6,DAY(I5))","v":"2013-07-01"},null,18]
[null,null,"Edition","Modification"]
[null,"Sélection du Numéro à éditer>",4,null,null,null,"N° de codage",{"$f":"IF(COLUMN()-7<=MAX(calc!$H$2:$H$3000),INDEX(BD!$A$2:$A$3000,MATCH(COLUMN()-7,calc!$H$2:$H$3000,0)),\"\")","v":4},{"$f":"IF(COLUMN()-7<=MAX(calc!$H$2:$H$3000),INDEX(BD!$A$2:$A$3000,MATCH(COLUMN()-7,calc!$H$2:$H$3000,0)),\"\")","v":""},{"$f":"IF(COLUMN()-7<=MAX(calc!$H$2:$H$3000),INDEX(BD!$A$2:$A$3000,MATCH(COLUMN()-7,calc!$H$2:$H$3000,0)),\"\")","v":""},{"$f":"IF(COLUMN()-7<=MAX(calc!$H$2:$H$3000),INDEX(BD!$A$2:$A$3000,MATCH(COLUMN()-7,calc!$H$2:$H$3000,0)),\"\")","v":""},{"$f":"IF(COLUMN()-7<=MAX(calc!$H$2:$H$3000),INDEX(BD!$A$2:$A$3000,MATCH(COLUMN()-7,calc!$H$2:$H$3000,0)),\"\")","v":""},{"$f":"IF(COLUMN()-7<=MAX(calc!$H$2:$H$3000),INDEX(BD!$A$2:$A$3000,MATCH(COLUMN()-7,calc!$H$2:$H$3000,0)),\"\")","v":""},{"$f":"IF(COLUMN()-7<=MAX(calc!$H$2:$H$3000),INDEX(BD!$A$2:$A$3000,MATCH(COLUMN()-7,calc!$H$2:$H$3000,0)),\"\")","v":""},{"$f":"IF(COLUMN()-7<=MAX(calc!$H$2:$H$3000),INDEX(BD!$A$2:$A$3000,MATCH(COLUMN()-7,calc!$H$2:$H$3000,0)),\"\")","v":""},{"$f":"IF(COLUMN()-7<=MAX(calc!$H$2:$H$3000),INDEX(BD!$A$2:$A$3000,MATCH(COLUMN()-7,calc!$H$2:$H$3000,0)),\"\")","v":""},{"$f":"IF(COLUMN()-7<=MAX(calc!$H$2:$H$3000),INDEX(BD!$A$2:$A$3000,MATCH(COLUMN()-7,calc!$H$2:$H$3000,0)),\"\")","v":""},{"$f":"IF(COLUMN()-7<=MAX(calc!$H$2:$H$3000),INDEX(BD!$A$2:$A$3000,MATCH(COLUMN()-7,calc!$H$2:$H$3000,0)),\"\")","v":""},{"$f":"IF(COLUMN()-7<=MAX(calc!$H$2:$H$3000),INDEX(BD!$A$2:$A$3000,MATCH(COLUMN()-7,calc!$H$2:$H$3000,0)),\"\")","v":""},{"$f":"IF(COLUMN()-7<=MAX(calc!$H$2:$H$3000),INDEX(BD!$A$2:$A$3000,MATCH(COLUMN()-7,calc!$H$2:$H$3000,0)),\"\")","v":""},{"$f":"IF(COLUMN()-7<=MAX(calc!$H$2:$H$3000),INDEX(BD!$A$2:$A$3000,MATCH(COLUMN()-7,calc!$H$2:$H$3000,0)),\"\")","v":""},{"$f":"IF(COLUMN()-7<=MAX(calc!$H$2:$H$3000),INDEX(BD!$A$2:$A$3000,MATCH(COLUMN()-7,calc!$H$2:$H$3000,0)),\"\")","v":""},{"$f":"IF(COLUMN()-7<=MAX(calc!$H$2:$H$3000),INDEX(BD!$A$2:$A$3000,MATCH(COLUMN()-7,calc!$H$2:$H$3000,0)),\"\")","v":""},{"$f":"IF(COLUMN()-7<=MAX(calc!$H$2:$H$3000),INDEX(BD!$A$2:$A$3000,MATCH(COLUMN()-7,calc!$H$2:$H$3000,0)),\"\")","v":""},{"$f":"IF(COLUMN()-7<=MAX(calc!$H$2:$H$3000),INDEX(BD!$A$2:$A$3000,MATCH(COLUMN()-7,calc!$H$2:$H$3000,0)),\"\")","v":""},{"$f":"IF(COLUMN()-7<=MAX(calc!$H$2:$H$3000),INDEX(BD!$A$2:$A$3000,MATCH(COLUMN()-7,calc!$H$2:$H$3000,0)),\"\")","v":""},{"$f":"IF(COLUMN()-7<=MAX(calc!$H$2:$H$3000),INDEX(BD!$A$2:$A$3000,MATCH(COLUMN()-7,calc!$H$2:$H$3000,0)),\"\")","v":""},{"$f":"IF(COLUMN()-7<=MAX(calc!$H$2:$H$3000),INDEX(BD!$A$2:$A$3000,MATCH(COLUMN()-7,calc!$H$2:$H$3000,0)),\"\")","v":""},{"$f":"IF(COLUMN()-7<=MAX(calc!$H$2:$H$3000),INDEX(BD!$A$2:$A$3000,MATCH(COLUMN()-7,calc!$H$2:$H$3000,0)),\"\")","v":""},{"$f":"IF(COLUMN()-7<=MAX(calc!$H$2:$H$3000),INDEX(BD!$A$2:$A$3000,MATCH(COLUMN()-7,calc!$H$2:$H$3000,0)),\"\")","v":""},{"$f":"IF(COLUMN()-7<=MAX(calc!$H$2:$H$3000),INDEX(BD!$A$2:$A$3000,MATCH(COLUMN()-7,calc!$H$2:$H$3000,0)),\"\")","v":""},{"$f":"IF(COLUMN()-7<=MAX(calc!$H$2:$H$3000),INDEX(BD!$A$2:$A$3000,MATCH(COLUMN()-7,calc!$H$2:$H$3000,0)),\"\")","v":""},{"$f":"IF(COLUMN()-7<=MAX(calc!$H$2:$H$3000),INDEX(BD!$A$2:$A$3000,MATCH(COLUMN()-7,calc!$H$2:$H$3000,0)),\"\")","v":""},{"$f":"IF(COLUMN()-7<=MAX(calc!$H$2:$H$3000),INDEX(BD!$A$2:$A$3000,MATCH(COLUMN()-7,calc!$H$2:$H$3000,0)),\"\")","v":""},{"$f":"IF(COLUMN()-7<=MAX(calc!$H$2:$H$3000),INDEX(BD!$A$2:$A$3000,MATCH(COLUMN()-7,calc!$H$2:$H$3000,0)),\"\")","v":""},{"$f":"IF(COLUMN()-7<=MAX(calc!$H$2:$H$3000),INDEX(BD!$A$2:$A$3000,MATCH(COLUMN()-7,calc!$H$2:$H$3000,0)),\"\")","v":""},{"$f":"IF(COLUMN()-7<=MAX(calc!$H$2:$H$3000),INDEX(BD!$A$2:$A$3000,MATCH(COLUMN()-7,calc!$H$2:$H$3000,0)),\"\")","v":""}]
[null,"Date début de facturation",{"$f":"IF($C$8=\"\",\"\",HLOOKUP($C$8,$H$8:$AK$30,ROW()-7,0))","v":"2013-06-01"},null,null,"FACTURE","Date début de facturation",{"$f":"IF(H$8=\"\",\"\",VLOOKUP(H$8,Champ,4,0))","v":"2013-06-01"},"","","","","","","","","","","","","","","","","","","","","","","","","","","","",""]
[null,"Date fin de facturation",{"$f":"IF($C$8=\"\",\"\",HLOOKUP($C$8,$H$8:$AK$30,ROW()-7,0))","v":"2013-07-31"},null,null,null,"Date fin de facturation",{"$f":"IF(H$8=\"\",\"\",VLOOKUP(H$8,Champ,5,0))","v":"2013-07-31"},"","","","","","","","","","","","","","","","","","","","","","","","","","","","",""]
[null,"date de facture émise","2013-07-31",null,null,null,"date de facture émise",{"$f":"IF(H$8=\"\",\"\",VLOOKUP(H$8,Champ,6,0))","v":"2013-07-31"},"","","","","","","","","","","","","","","","","","","","","","","","","","","","",""]
[null,"Nom du site","Arras Haut Blancs Monts",null,null,null,"Nom du site",{"$f":"IF(H$8=\"\",\"\",VLOOKUP(H$8,Champ,3,0))","v":"Arras Haut Blancs Monts"},"","","","","","","","","","","","","","","","","","","","","","","","","","","","",""]
[null,"Index début",49110.5,null,null,null,"Index début",{"$f":"IF(H$8=\"\",\"\",VLOOKUP(H$8,Champ,7,0))","v":49110.5},"","","","","","","","","","","","","","","","","","","","","","","","","","","","",""]
[null,"Index fin",49194.6,null,null,null,"Index fin",{"$f":"IF(H$8=\"\",\"\",VLOOKUP(H$8,Champ,8,0))","v":49194.6},"","","","","","","","","","","","","","","","","","","","","","","","","","","","",""]
[null,"Conso (MWh)",80.769999999998547,{"$f":"IF(C8=\"\",\"\",IF(J2=C15,\"\",J2))","v":79.099999999998545},null,null,"Conso (MWh)",{"$f":"IF(H$8=\"\",\"\",VLOOKUP(H$8,Champ,10,0))","v":80.769999999998547},"","","","","","","","","","","","","","","","","","","","","","","","","","","","",""]
[null,"Redevance R1",3678.4663745255339,{"$f":"IF(C8=\"\",\"\",IF(N2=C16,\"\",N2))","v":15639.987383999713},null,null,"Redevance R1",{"$f":"IF(H$8=\"\",\"\",VLOOKUP(H$8,Champ,14,0))","v":3678.4663745255339},"","","","","","","","","","","","","","","","","","","","","","","","","","","","",""]
[null,"Redevance R2",1.3614170000000001,{"$f":"IF(C8=\"\",\"\",IF(Q2=C17,\"\",Q2))","v":2612753929.592},null,null,"Redevance R2",{"$f":"IF(H$8=\"\",\"\",VLOOKUP(H$8,Champ,17,0))","v":1.3614170000000001},"","","","","","","","","","","","","","","","","","","","","","","","","","","","",""]
[null,"Remarque",0,null,null,null,"Remarque",{"$f":"IF(H$8=\"\",\"\",VLOOKUP(H$8,Champ,18,0))","v":0},"","","","","","","","","","","","","","","","","","","","","","","","","","","","",""]
[null,"Date début de facturation ","",null,null,"REGULATION","Date début de facturation ",{"$f":"IF(I$8=\"\",\"\",VLOOKUP(I$8,Champ,19,0))","v":""},"","","","","","","","","","","","","","","","","","","","","","","","","","","","",""]
[null,"Date fin de facturation ","2012-07-31",null,null,null,"Date fin de facturation ",{"$f":"IF(H$8=\"\",\"\",VLOOKUP(H$8,Champ,20,0))","v":"2012-07-31"},"","","","","","","","","","","","","","","","","","","","","","","","","","","","",""]
[null,"date de facture émise ","2012-12-31",null,null,null,"date de facture émise ",{"$f":"IF(H$8=\"\",\"\",VLOOKUP(H$8,Champ,21,0))","v":"2012-12-31"},"","","","","","","","","","","","","","","","","","","","","","","","","","","","",""]
[null,"Régularisation R1",2514,{"$f":"IF(C8=\"\",\"\",IF(X2=C22,\"\",X2))","v":-20248.42352},null,null,"Régularisation R1",{"$f":"IF(H$8=\"\",\"\",VLOOKUP(H$8,Champ,24,0))","v":2514},"","","","","","","","","","","","","","","","","","","","","","","","","","","","",""]
[null,"R1 à Facturer",41531,null,null,null,"R1 à Facturer",{"$f":"IF(H$8=\"\",\"\",VLOOKUP(H$8,Champ,22,0))","v":41531},"","","","","","","","","","","","","","","","","","","","","","","","","","","","",""]
[null,"R1 déjà facturé HT",24600.880000000001,null,null,null,"R1 déjà facturé HT",{"$f":"IF(H$8=\"\",\"\",VLOOKUP(H$8,Champ,23,0))","v":24600.880000000001},"","","","","","","","","","","","","","","","","","","","","","","","","","","","",""]
[null,"Conso (MWh)",40239.050000000003,{"$f":"IF(C8=\"\",\"\",IF(AA2=C25,\"\",AA2))","v":14265.560000000001},null,null,"Conso (MWh)",{"$f":"IF(H$8=\"\",\"\",VLOOKUP(H$8,Champ,27,0))","v":40239.050000000003},"","","","","","","","","","","","","","","","","","","","","","","","","","","","",""]
[null,"Régularisation R2",253,{"$f":"IF(C8=\"\",\"\",IF(AD2=C26,\"\",AD2))","v":73.936719999999653},null,null,"Régularisation R2",{"$f":"IF(H$8=\"\",\"\",VLOOKUP(H$8,Champ,30,0))","v":253},"","","","","","","","","","","","","","","","","","","","","","","","","","","","",""]
[null,"R2 à Facturer",486.18000000000029,null,null,null,"R2 à Facturer",{"$f":"IF(H$8=\"\",\"\",VLOOKUP(H$8,Champ,28,0))","v":486.18000000000029},"","","","","","","","","","","","","","","","","","","","","","","","","","","","",""]
[null,"R2 déjà facturé HT",548,null,null,null,"R2 déjà facturé HT",{"$f":"IF(H$8=\"\",\"\",VLOOKUP(H$8,Champ,29,0))","v":548},"","","","","","","","","","","","","","","","","","","","","","","","","","","","",""]
[null,"Période de couverture","01/03/2013 au 31/12/2013",null,null,null,"Période de couverutre",{"$f":"IF(H$8=\"\",\"\",VLOOKUP(H$8,Champ,31,0))","v":"01/03/2013 au 31/12/2013"},"","","","","","","","","","","","","","","","","","","","","","","","","","","","",""]
[null,"Remarque",0,null,null,null,"Remarque",{"$f":"IF(H$8=\"\",\"\",VLOOKUP(H$8,Champ,32,0))","v":0},"",{"$f":"IF(J$8=\"\",\"\",VLOOKUP(J$8,Champ,32,0))","v":""},"","","","","","","","","","","","","","","","","","","","","","","","","","",""]
[null,null,null,{"$f":"IF(Q16=C31,\"\",Q16)","v":""}]

{"sheet":"Param","index":4,"n_rows":2000,"n_cols":2,"rows_kept":2000,"cut":false,"hidden":true,"merged":[]}
[]
[]
[]
[]
[]
[]
[{"$f":"IF(A2000<>\"\",\"Capacité liste atteinte\",\"\")","v":""}]
["Code affaires nommé Liste_ref","Nom du site (issu de BD)"]
[{"$f":"IF(ROW()-8<=MAX(calc!F:F),INDEX(BD!B:B,MATCH(ROW()-8,calc!F:F,0)),\"\")","v":"H2312"},{"$f":"IF(A9=\"\",\"\",VLOOKUP(A9,BD!B:C,2,0))","v":"MEXICO"}]
[{"$f":"IF(ROW()-8<=MAX(calc!F:F),INDEX(BD!B:B,MATCH(ROW()-8,calc!F:F,0)),\"\")","v":"H06"},{"$f":"IF(A10=\"\",\"\",VLOOKUP(A10,BD!B:C,2,0))","v":"LIEVIN"}]
[{"$f":"IF(ROW()-8<=MAX(calc!F:F),INDEX(BD!B:B,MATCH(ROW()-8,calc!F:F,0)),\"\")","v":"H015"},{"$f":"IF(A11=\"\",\"\",VLOOKUP(A11,BD!B:C,2,0))","v":"Arras Hochettes"}]
[{"$f":"IF(ROW()-8<=MAX(calc!F:F),INDEX(BD!B:B,MATCH(ROW()-8,calc!F:F,0)),\"\")","v":"H07"},{"$f":"IF(A12=\"\",\"\",VLOOKUP(A12,BD!B:C,2,0))","v":"Arras Haut Blancs Monts"}]
[{"$f":"IF(ROW()-8<=MAX(calc!F:F),INDEX(BD!B:B,MATCH(ROW()-8,calc!F:F,0)),\"\")","v":"TH054"},{"$f":"IF(A13=\"\",\"\",VLOOKUP(A13,BD!B:C,2,0))","v":"Paris"}]
[{"$f":"IF(ROW()-8<=MAX(calc!F:F),INDEX(BD!B:B,MATCH(ROW()-8,calc!F:F,0)),\"\")","v":""},{"$f":"IF(A14=\"\",\"\",VLOOKUP(A14,BD!B:C,2,0))","v":""}]
[{"$f":"IF(ROW()-8<=MAX(calc!F:F),INDEX(BD!B:B,MATCH(ROW()-8,calc!F:F,0)),\"\")","v":""},{"$f":"IF(A15=\"\",\"\",VLOOKUP(A15,BD!B:C,2,0))","v":""}]
[{"$f":"IF(ROW()-8<=MAX(calc!F:F),INDEX(BD!B:B,MATCH(ROW()-8,calc!F:F,0)),\"\")","v":""},{"$f":"IF(A16=\"\",\"\",VLOOKUP(A16,BD!B:C,2,0))","v":""}]
[{"$f":"IF(ROW()-8<=MAX(calc!F:F),INDEX(BD!B:B,MATCH(ROW()-8,calc!F:F,0)),\"\")","v":""},{"$f":"IF(A17=\"\",\"\",VLOOKUP(A17,BD!B:C,2,0))","v":""}]
[{"$f":"IF(ROW()-8<=MAX(calc!F:F),INDEX(BD!B:B,MATCH(ROW()-8,calc!F:F,0)),\"\")","v":""},{"$f":"IF(A18=\"\",\"\",VLOOKUP(A18,BD!B:C,2,0))","v":""}]
[{"$f":"IF(ROW()-8<=MAX(calc!F:F),INDEX(BD!B:B,MATCH(ROW()-8,calc!F:F,0)),\"\")","v":""},{"$f":"IF(A19=\"\",\"\",VLOOKUP(A19,BD!B:C,2,0))","v":""}]
[{"$f":"IF(ROW()-8<=MAX(calc!F:F),INDEX(BD!B:B,MATCH(ROW()-8,calc!F:F,0)),\"\")","v":""},{"$f":"IF(A20=\"\",\"\",VLOOKUP(A20,BD!B:C,2,0))","v":""}]
[{"$f":"IF(ROW()-8<=MAX(calc!F:F),INDEX(BD!B:B,MATCH(ROW()-8,calc!F:F,0)),\"\")","v":""},{"$f":"IF(A21=\"\",\"\",VLOOKUP(A21,BD!B:C,2,0))","v":""}]
[{"$f":"IF(ROW()-8<=MAX(calc!F:F),INDEX(BD!B:B,MATCH(ROW()-8,calc!F:F,0)),\"\")","v":""},{"$f":"IF(A22=\"\",\"\",VLOOKUP(A22,BD!B:C,2,0))","v":""}]
[{"$f":"IF(ROW()-8<=MAX(calc!F:F),INDEX(BD!B:B,MATCH(ROW()-8,calc!F:F,0)),\"\")","v":""},{"$f":"IF(A23=\"\",\"\",VLOOKUP(A23,BD!B:C,2,0))","v":""}]
[{"$f":"IF(ROW()-8<=MAX(calc!F:F),INDEX(BD!B:B,MATCH(ROW()-8,calc!F:F,0)),\"\")","v":""},{"$f":"IF(A24=\"\",\"\",VLOOKUP(A24,BD!B:C,2,0))","v":""}]
[{"$f":"IF(ROW()-8<=MAX(calc!F:F),INDEX(BD!B:B,MATCH(ROW()-8,calc!F:F,0)),\"\")","v":""},{"$f":"IF(A25=\"\",\"\",VLOOKUP(A25,BD!B:C,2,0))","v":""}]
[{"$f":"IF(ROW()-8<=MAX(calc!F:F),INDEX(BD!B:B,MATCH(ROW()-8,calc!F:F,0)),\"\")","v":""},{"$f":"IF(A26=\"\",\"\",VLOOKUP(A26,BD!B:C,2,0))","v":""}]
[{"$f":"IF(ROW()-8<=MAX(calc!F:F),INDEX(BD!B:B,MATCH(ROW()-8,calc!F:F,0)),\"\")","v":""},{"$f":"IF(A27=\"\",\"\",VLOOKUP(A27,BD!B:C,2,0))","v":""}]
[{"$f":"IF(ROW()-8<=MAX(calc!F:F),INDEX(BD!B:B,MATCH(ROW()-8,calc!F:F,0)),\"\")","v":""},{"$f":"IF(A28=\"\",\"\",VLOOKUP(A28,BD!B:C,2,0))","v":""}]
[{"$f":"IF(ROW()-8<=MAX(calc!F:F),INDEX(BD!B:B,MATCH(ROW()-8,calc!F:F,0)),\"\")","v":""},{"$f":"IF(A29=\"\",\"\",VLOOKUP(A29,BD!B:C,2,0))","v":""}]
[{"$f":"IF(ROW()-8<=MAX(calc!F:F),INDEX(BD!B:B,MATCH(ROW()-8,calc!F:F,0)),\"\")","v":""},{"$f":"IF(A30=\"\",\"\",VLOOKUP(A30,BD!B:C,2,0))","v":""}]
[{"$f":"IF(ROW()-8<=MAX(calc!F:F),INDEX(BD!B:B,MATCH(ROW()-8,calc!F:F,0)),\"\")","v":""},{"$f":"IF(A31=\"\",\"\",VLOOKUP(A31,BD!B:C,2,0))","v":""}]
[{"$f":"IF(ROW()-8<=MAX(calc!F:F),INDEX(BD!B:B,MATCH(ROW()-8,calc!F:F,0)),\"\")","v":""},{"$f":"IF(A32=\"\",\"\",VLOOKUP(A32,BD!B:C,2,0))","v":""}]
[{"$f":"IF(ROW()-8<=MAX(calc!F:F),INDEX(BD!B:B,MATCH(ROW()-8,calc!F:F,0)),\"\")","v":""},{"$f":"IF(A33=\"\",\"\",VLOOKUP(A33,BD!B:C,2,0))","v":""}]
[{"$f":"IF(ROW()-8<=MAX(calc!F:F),INDEX(BD!B:B,MATCH(ROW()-8,calc!F:F,0)),\"\")","v":""},{"$f":"IF(A34=\"\",\"\",VLOOKUP(A34,BD!B:C,2,0))","v":""}]
[{"$f":"IF(ROW()-8<=MAX(calc!F:F),INDEX(BD!B:B,MATCH(ROW()-8,calc!F:F,0)),\"\")","v":""},{"$f":"IF(A35=\"\",\"\",VLOOKUP(A35,BD!B:C,2,0))","v":""}]
[{"$f":"IF(ROW()-8<=MAX(calc!F:F),INDEX(BD!B:B,MATCH(ROW()-8,calc!F:F,0)),\"\")","v":""},{"$f":"IF(A36=\"\",\"\",VLOOKUP(A36,BD!B:C,2,0))","v":""}]
[{"$f":"IF(ROW()-8<=MAX(calc!F:F),INDEX(BD!B:B,MATCH(ROW()-8,calc!F:F,0)),\"\")","v":""},{"$f":"IF(A37=\"\",\"\",VLOOKUP(A37,BD!B:C,2,0))","v":""}]
[{"$f":"IF(ROW()-8<=MAX(calc!F:F),INDEX(BD!B:B,MATCH(ROW()-8,calc!F:F,0)),\"\")","v":""},{"$f":"IF(A38=\"\",\"\",VLOOKUP(A38,BD!B:C,2,0))","v":""}]
[{"$f":"IF(ROW()-8<=MAX(calc!F:F),INDEX(BD!B:B,MATCH(ROW()-8,calc!F:F,0)),\"\")","v":""},{"$f":"IF(A39=\"\",\"\",VLOOKUP(A39,BD!B:C,2,0))","v":""}]
[{"$f":"IF(ROW()-8<=MAX(calc!F:F),INDEX(BD!B:B,MATCH(ROW()-8,calc!F:F,0)),\"\")","v":""},{"$f":"IF(A40=\"\",\"\",VLOOKUP(A40,BD!B:C,2,0))","v":""}]
[{"$f":"IF(ROW()-8<=MAX(calc!F:F),INDEX(BD!B:B,MATCH(ROW()-8,calc!F:F,0)),\"\")","v":""},{"$f":"IF(A41=\"\",\"\",VLOOKUP(A41,BD!B:C,2,0))","v":""}]
[{"$f":"IF(ROW()-8<=MAX(calc!F:F),INDEX(BD!B:B,MATCH(ROW()-8,calc!F:F,0)),\"\")","v":""},{"$f":"IF(A42=\"\",\"\",VLOOKUP(A42,BD!B:C,2,0))","v":""}]
[{"$f":"IF(ROW()-8<=MAX(calc!F:F),INDEX(BD!B:B,MATCH(ROW()-8,calc!F:F,0)),\"\")","v":""},{"$f":"IF(A43=\"\",\"\",VLOOKUP(A43,BD!B:C,2,0))","v":""}]
[{"$f":"IF(ROW()-8<=MAX(calc!F:F),INDEX(BD!B:B,MATCH(ROW()-8,calc!F:F,0)),\"\")","v":""},{"$f":"IF(A44=\"\",\"\",VLOOKUP(A44,BD!B:C,2,0))","v":""}]
[{"$f":"IF(ROW()-8<=MAX(calc!F:F),INDEX(BD!B:B,MATCH(ROW()-8,calc!F:F,0)),\"\")","v":""},{"$f":"IF(A45=\"\",\"\",VLOOKUP(A45,BD!B:C,2,0))","v":""}]
[{"$f":"IF(ROW()-8<=MAX(calc!F:F),INDEX(BD!B:B,MATCH(ROW()-8,calc!F:F,0)),\"\")","v":""},{"$f":"IF(A46=\"\",\"\",VLOOKUP(A46,BD!B:C,2,0))","v":""}]
[{"$f":"IF(ROW()-8<=MAX(calc!F:F),INDEX(BD!B:B,MATCH(ROW()-8,calc!F:F,0)),\"\")","v":""},{"$f":"IF(A47=\"\",\"\",VLOOKUP(A47,BD!B:C,2,0))","v":""}]
[{"$f":"IF(ROW()-8<=MAX(calc!F:F),INDEX(BD!B:B,MATCH(ROW()-8,calc!F:F,0)),\"\")","v":""},{"$f":"IF(A48=\"\",\"\",VLOOKUP(A48,BD!B:C,2,0))","v":""}]
[{"$f":"IF(ROW()-8<=MAX(calc!F:F),INDEX(BD!B:B,MATCH(ROW()-8,calc!F:F,0)),\"\")","v":""},{"$f":"IF(A49=\"\",\"\",VLOOKUP(A49,BD!B:C,2,0))","v":""}]
[{"$f":"IF(ROW()-8<=MAX(calc!F:F),INDEX(BD!B:B,MATCH(ROW()-8,calc!F:F,0)),\"\")","v":""},{"$f":"IF(A50=\"\",\"\",VLOOKUP(A50,BD!B:C,2,0))","v":""}]
[{"$f":"IF(ROW()-8<=MAX(calc!F:F),INDEX(BD!B:B,MATCH(ROW()-8,calc!F:F,0)),\"\")","v":""},{"$f":"IF(A51=\"\",\"\",VLOOKUP(A51,BD!B:C,2,0))","v":""}]
[{"$f":"IF(ROW()-8<=MAX(calc!F:F),INDEX(BD!B:B,MATCH(ROW()-8,calc!F:F,0)),\"\")","v":""},{"$f":"IF(A52=\"\",\"\",VLOOKUP(A52,BD!B:C,2,0))","v":""}]
[{"$f":"IF(ROW()-8<=MAX(calc!F:F),INDEX(BD!B:B,MATCH(ROW()-8,calc!F:F,0)),\"\")","v":""},{"$f":"IF(A53=\"\",\"\",VLOOKUP(A53,BD!B:C,2,0))","v":""}]
[{"$f":"IF(ROW()-8<=MAX(calc!F:F),INDEX(BD!B:B,MATCH(ROW()-8,calc!F:F,0)),\"\")","v":""},{"$f":"IF(A54=\"\",\"\",VLOOKUP(A54,BD!B:C,2,0))","v":""}]
[{"$f":"IF(ROW()-8<=MAX(calc!F:F),INDEX(BD!B:B,MATCH(ROW()-8,calc!F:F,0)),\"\")","v":""},{"$f":"IF(A55=\"\",\"\",VLOOKUP(A55,BD!B:C,2,0))","v":""}]
[{"$f":"IF(ROW()-8<=MAX(calc!F:F),INDEX(BD!B:B,MATCH(ROW()-8,calc!F:F,0)),\"\")","v":""},{"$f":"IF(A56=\"\",\"\",VLOOKUP(A56,BD!B:C,2,0))","v":""}]
[{"$f":"IF(ROW()-8<=MAX(calc!F:F),INDEX(BD!B:B,MATCH(ROW()-8,calc!F:F,0)),\"\")","v":""},{"$f":"IF(A57=\"\",\"\",VLOOKUP(A57,BD!B:C,2,0))","v":""}]
[{"$f":"IF(ROW()-8<=MAX(calc!F:F),INDEX(BD!B:B,MATCH(ROW()-8,calc!F:F,0)),\"\")","v":""},{"$f":"IF(A58=\"\",\"\",VLOOKUP(A58,BD!B:C,2,0))","v":""}]
[{"$f":"IF(ROW()-8<=MAX(calc!F:F),INDEX(BD!B:B,MATCH(ROW()-8,calc!F:F,0)),\"\")","v":""},{"$f":"IF(A59=\"\",\"\",VLOOKUP(A59,BD!B:C,2,0))","v":""}]
[{"$f":"IF(ROW()-8<=MAX(calc!F:F),INDEX(BD!B:B,MATCH(ROW()-8,calc!F:F,0)),\"\")","v":""},{"$f":"IF(A60=\"\",\"\",VLOOKUP(A60,BD!B:C,2,0))","v":""}]
[{"$f":"IF(ROW()-8<=MAX(calc!F:F),INDEX(BD!B:B,MATCH(ROW()-8,calc!F:F,0)),\"\")","v":""},{"$f":"IF(A61=\"\",\"\",VLOOKUP(A61,BD!B:C,2,0))","v":""}]
[{"$f":"IF(ROW()-8<=MAX(calc!F:F),INDEX(BD!B:B,MATCH(ROW()-8,calc!F:F,0)),\"\")","v":""},{"$f":"IF(A62=\"\",\"\",VLOOKUP(A62,BD!B:C,2,0))","v":""}]
[{"$f":"IF(ROW()-8<=MAX(calc!F:F),INDEX(BD!B:B,MATCH(ROW()-8,calc!F:F,0)),\"\")","v":""},{"$f":"IF(A63=\"\",\"\",VLOOKUP(A63,BD!B:C,2,0))","v":""}]
[{"$f":"IF(ROW()-8<=MAX(calc!F:F),INDEX(BD!B:B,MATCH(ROW()-8,calc!F:F,0)),\"\")","v":""},{"$f":"IF(A64=\"\",\"\",VLOOKUP(A64,BD!B:C,2,0))","v":""}]
[{"$f":"IF(ROW()-8<=MAX(calc!F:F),INDEX(BD!B:B,MATCH(ROW()-8,calc!F:F,0)),\"\")","v":""},{"$f":"IF(A65=\"\",\"\",VLOOKUP(A65,BD!B:C,2,0))","v":""}]
[{"$f":"IF(ROW()-8<=MAX(calc!F:F),INDEX(BD!B:B,MATCH(ROW()-8,calc!F:F,0)),\"\")","v":""},{"$f":"IF(A66=\"\",\"\",VLOOKUP(A66,BD!B:C,2,0))","v":""}]
[{"$f":"IF(ROW()-8<=MAX(calc!F:F),INDEX(BD!B:B,MATCH(ROW()-8,calc!F:F,0)),\"\")","v":""},{"$f":"IF(A67=\"\",\"\",VLOOKUP(A67,BD!B:C,2,0))","v":""}]
[{"$f":"IF(ROW()-8<=MAX(calc!F:F),INDEX(BD!B:B,MATCH(ROW()-8,calc!F:F,0)),\"\")","v":""},{"$f":"IF(A68=\"\",\"\",VLOOKUP(A68,BD!B:C,2,0))","v":""}]
[{"$f":"IF(ROW()-8<=MAX(calc!F:F),INDEX(BD!B:B,MATCH(ROW()-8,calc!F:F,0)),\"\")","v":""},{"$f":"IF(A69=\"\",\"\",VLOOKUP(A69,BD!B:C,2,0))","v":""}]
[{"$f":"IF(ROW()-8<=MAX(calc!F:F),INDEX(BD!B:B,MATCH(ROW()-8,calc!F:F,0)),\"\")","v":""},{"$f":"IF(A70=\"\",\"\",VLOOKUP(A70,BD!B:C,2,0))","v":""}]
[{"$f":"IF(ROW()-8<=MAX(calc!F:F),INDEX(BD!B:B,MATCH(ROW()-8,calc!F:F,0)),\"\")","v":""},{"$f":"IF(A71=\"\",\"\",VLOOKUP(A71,BD!B:C,2,0))","v":""}]
[{"$f":"IF(ROW()-8<=MAX(calc!F:F),INDEX(BD!B:B,MATCH(ROW()-8,calc!F:F,0)),\"\")","v":""},{"$f":"IF(A72=\"\",\"\",VLOOKUP(A72,BD!B:C,2,0))","v":""}]
[{"$f":"IF(ROW()-8<=MAX(calc!F:F),INDEX(BD!B:B,MATCH(ROW()-8,calc!F:F,0)),\"\")","v":""},{"$f":"IF(A73=\"\",\"\",VLOOKUP(A73,BD!B:C,2,0))","v":""}]
[{"$f":"IF(ROW()-8<=MAX(calc!F:F),INDEX(BD!B:B,MATCH(ROW()-8,calc!F:F,0)),\"\")","v":""},{"$f":"IF(A74=\"\",\"\",VLOOKUP(A74,BD!B:C,2,0))","v":""}]
[{"$f":"IF(ROW()-8<=MAX(calc!F:F),INDEX(BD!B:B,MATCH(ROW()-8,calc!F:F,0)),\"\")","v":""},{"$f":"IF(A75=\"\",\"\",VLOOKUP(A75,BD!B:C,2,0))","v":""}]
[{"$f":"IF(ROW()-8<=MAX(calc!F:F),INDEX(BD!B:B,MATCH(ROW()-8,calc!F:F,0)),\"\")","v":""},{"$f":"IF(A76=\"\",\"\",VLOOKUP(A76,BD!B:C,2,0))","v":""}]
[{"$f":"IF(ROW()-8<=MAX(calc!F:F),INDEX(BD!B:B,MATCH(ROW()-8,calc!F:F,0)),\"\")","v":""},{"$f":"IF(A77=\"\",\"\",VLOOKUP(A77,BD!B:C,2,0))","v":""}]
[{"$f":"IF(ROW()-8<=MAX(calc!F:F),INDEX(BD!B:B,MATCH(ROW()-8,calc!F:F,0)),\"\")","v":""},{"$f":"IF(A78=\"\",\"\",VLOOKUP(A78,BD!B:C,2,0))","v":""}]
[{"$f":"IF(ROW()-8<=MAX(calc!F:F),INDEX(BD!B:B,MATCH(ROW()-8,calc!F:F,0)),\"\")","v":""},{"$f":"IF(A79=\"\",\"\",VLOOKUP(A79,BD!B:C,2,0))","v":""}]
[{"$f":"IF(ROW()-8<=MAX(calc!F:F),INDEX(BD!B:B,MATCH(ROW()-8,calc!F:F,0)),\"\")","v":""},{"$f":"IF(A80=\"\",\"\",VLOOKUP(A80,BD!B:C,2,0))","v":""}]
[{"$f":"IF(ROW()-8<=MAX(calc!F:F),INDEX(BD!B:B,MATCH(ROW()-8,calc!F:F,0)),\"\")","v":""},{"$f":"IF(A81=\"\",\"\",VLOOKUP(A81,BD!B:C,2,0))","v":""}]
[{"$f":"IF(ROW()-8<=MAX(calc!F:F),INDEX(BD!B:B,MATCH(ROW()-8,calc!F:F,0)),\"\")","v":""},{"$f":"IF(A82=\"\",\"\",VLOOKUP(A82,BD!B:C,2,0))","v":""}]
[{"$f":"IF(ROW()-8<=MAX(calc!F:F),INDEX(BD!B:B,MATCH(ROW()-8,calc!F:F,0)),\"\")","v":""},{"$f":"IF(A83=\"\",\"\",VLOOKUP(A83,BD!B:C,2,0))","v":""}]
[{"$f":"IF(ROW()-8<=MAX(calc!F:F),INDEX(BD!B:B,MATCH(ROW()-8,calc!F:F,0)),\"\")","v":""},{"$f":"IF(A84=\"\",\"\",VLOOKUP(A84,BD!B:C,2,0))","v":""}]
[{"$f":"IF(ROW()-8<=MAX(calc!F:F),INDEX(BD!B:B,MATCH(ROW()-8,calc!F:F,0)),\"\")","v":""},{"$f":"IF(A85=\"\",\"\",VLOOKUP(A85,BD!B:C,2,0))","v":""}]
[{"$f":"IF(ROW()-8<=MAX(calc!F:F),INDEX(BD!B:B,MATCH(ROW()-8,calc!F:F,0)),\"\")","v":""},{"$f":"IF(A86=\"\",\"\",VLOOKUP(A86,BD!B:C,2,0))","v":""}]
[{"$f":"IF(ROW()-8<=MAX(calc!F:F),INDEX(BD!B:B,MATCH(ROW()-8,calc!F:F,0)),\"\")","v":""},{"$f":"IF(A87=\"\",\"\",VLOOKUP(A87,BD!B:C,2,0))","v":""}]
[{"$f":"IF(ROW()-8<=MAX(calc!F:F),INDEX(BD!B:B,MATCH(ROW()-8,calc!F:F,0)),\"\")","v":""},{"$f":"IF(A88=\"\",\"\",VLOOKUP(A88,BD!B:C,2,0))","v":""}]
[{"$f":"IF(ROW()-8<=MAX(calc!F:F),INDEX(BD!B:B,MATCH(ROW()-8,calc!F:F,0)),\"\")","v":""},{"$f":"IF(A89=\"\",\"\",VLOOKUP(A89,BD!B:C,2,0))","v":""}]
[{"$f":"IF(ROW()-8<=MAX(calc!F:F),INDEX(BD!B:B,MATCH(ROW()-8,calc!F:F,0)),\"\")","v":""},{"$f":"IF(A90=\"\",\"\",VLOOKUP(A90,BD!B:C,2,0))","v":""}]
[{"$f":"IF(ROW()-8<=MAX(calc!F:F),INDEX(BD!B:B,MATCH(ROW()-8,calc!F:F,0)),\"\")","v":""},{"$f":"IF(A91=\"\",\"\",VLOOKUP(A91,BD!B:C,2,0))","v":""}]
[{"$f":"IF(ROW()-8<=MAX(calc!F:F),INDEX(BD!B:B,MATCH(ROW()-8,calc!F:F,0)),\"\")","v":""},{"$f":"IF(A92=\"\",\"\",VLOOKUP(A92,BD!B:C,2,0))","v":""}]
[{"$f":"IF(ROW()-8<=MAX(calc!F:F),INDEX(BD!B:B,MATCH(ROW()-8,calc!F:F,0)),\"\")","v":""},{"$f":"IF(A93=\"\",\"\",VLOOKUP(A93,BD!B:C,2,0))","v":""}]
[{"$f":"IF(ROW()-8<=MAX(calc!F:F),INDEX(BD!B:B,MATCH(ROW()-8,calc!F:F,0)),\"\")","v":""},{"$f":"IF(A94=\"\",\"\",VLOOKUP(A94,BD!B:C,2,0))","v":""}]
[{"$f":"IF(ROW()-8<=MAX(calc!F:F),INDEX(BD!B:B,MATCH(ROW()-8,calc!F:F,0)),\"\")","v":""},{"$f":"IF(A95=\"\",\"\",VLOOKUP(A95,BD!B:C,2,0))","v":""}]
[{"$f":"IF(ROW()-8<=MAX(calc!F:F),INDEX(BD!B:B,MATCH(ROW()-8,calc!F:F,0)),\"\")","v":""},{"$f":"IF(A96=\"\",\"\",VLOOKUP(A96,BD!B:C,2,0))","v":""}]
[{"$f":"IF(ROW()-8<=MAX(calc!F:F),INDEX(BD!B:B,MATCH(ROW()-8,calc!F:F,0)),\"\")","v":""},{"$f":"IF(A97=\"\",\"\",VLOOKUP(A97,BD!B:C,2,0))","v":""}]
[{"$f":"IF(ROW()-8<=MAX(calc!F:F),INDEX(BD!B:B,MATCH(ROW()-8,calc!F:F,0)),\"\")","v":""},{"$f":"IF(A98=\"\",\"\",VLOOKUP(A98,BD!B:C,2,0))","v":""}]
[{"$f":"IF(ROW()-8<=MAX(calc!F:F),INDEX(BD!B:B,MATCH(ROW()-8,calc!F:F,0)),\"\")","v":""},{"$f":"IF(A99=\"\",\"\",VLOOKUP(A99,BD!B:C,2,0))","v":""}]
[{"$f":"IF(ROW()-8<=MAX(calc!F:F),INDEX(BD!B:B,MATCH(ROW()-8,calc!F:F,0)),\"\")","v":""},{"$f":"IF(A100=\"\",\"\",VLOOKUP(A100,BD!B:C,2,0))","v":""}]
[{"$f":"IF(ROW()-8<=MAX(calc!F:F),INDEX(BD!B:B,MATCH(ROW()-8,calc!F:F,0)),\"\")","v":""},{"$f":"IF(A101=\"\",\"\",VLOOKUP(A101,BD!B:C,2,0))","v":""}]
[{"$f":"IF(ROW()-8<=MAX(calc!F:F),INDEX(BD!B:B,MATCH(ROW()-8,calc!F:F,0)),\"\")","v":""},{"$f":"IF(A102=\"\",\"\",VLOOKUP(A102,BD!B:C,2,0))","v":""}]
[{"$f":"IF(ROW()-8<=MAX(calc!F:F),INDEX(BD!B:B,MATCH(ROW()-8,calc!F:F,0)),\"\")","v":""},{"$f":"IF(A103=\"\",\"\",VLOOKUP(A103,BD!B:C,2,0))","v":""}]
[{"$f":"IF(ROW()-8<=MAX(calc!F:F),INDEX(BD!B:B,MATCH(ROW()-8,calc!F:F,0)),\"\")","v":""},{"$f":"IF(A104=\"\",\"\",VLOOKUP(A104,BD!B:C,2,0))","v":""}]
[{"$f":"IF(ROW()-8<=MAX(calc!F:F),INDEX(BD!B:B,MATCH(ROW()-8,calc!F:F,0)),\"\")","v":""},{"$f":"IF(A105=\"\",\"\",VLOOKUP(A105,BD!B:C,2,0))","v":""}]
[{"$f":"IF(ROW()-8<=MAX(calc!F:F),INDEX(BD!B:B,MATCH(ROW()-8,calc!F:F,0)),\"\")","v":""},{"$f":"IF(A106=\"\",\"\",VLOOKUP(A106,BD!B:C,2,0))","v":""}]
[{"$f":"IF(ROW()-8<=MAX(calc!F:F),INDEX(BD!B:B,MATCH(ROW()-8,calc!F:F,0)),\"\")","v":""},{"$f":"IF(A107=\"\",\"\",VLOOKUP(A107,BD!B:C,2,0))","v":""}]
[{"$f":"IF(ROW()-8<=MAX(calc!F:F),INDEX(BD!B:B,MATCH(ROW()-8,calc!F:F,0)),\"\")","v":""},{"$f":"IF(A108=\"\",\"\",VLOOKUP(A108,BD!B:C,2,0))","v":""}]
[{"$f":"IF(ROW()-8<=MAX(calc!F:F),INDEX(BD!B:B,MATCH(ROW()-8,calc!F:F,0)),\"\")","v":""},{"$f":"IF(A109=\"\",\"\",VLOOKUP(A109,BD!B:C,2,0))","v":""}]
[{"$f":"IF(ROW()-8<=MAX(calc!F:F),INDEX(BD!B:B,MATCH(ROW()-8,calc!F:F,0)),\"\")","v":""},{"$f":"IF(A110=\"\",\"\",VLOOKUP(A110,BD!B:C,2,0))","v":""}]
[{"$f":"IF(ROW()-8<=MAX(calc!F:F),INDEX(BD!B:B,MATCH(ROW()-8,calc!F:F,0)),\"\")","v":""},{"$f":"IF(A111=\"\",\"\",VLOOKUP(A111,BD!B:C,2,0))","v":""}]
[{"$f":"IF(ROW()-8<=MAX(calc!F:F),INDEX(BD!B:B,MATCH(ROW()-8,calc!F:F,0)),\"\")","v":""},{"$f":"IF(A112=\"\",\"\",VLOOKUP(A112,BD!B:C,2,0))","v":""}]
[{"$f":"IF(ROW()-8<=MAX(calc!F:F),INDEX(BD!B:B,MATCH(ROW()-8,calc!F:F,0)),\"\")","v":""},{"$f":"IF(A113=\"\",\"\",VLOOKUP(A113,BD!B:C,2,0))","v":""}]
[{"$f":"IF(ROW()-8<=MAX(calc!F:F),INDEX(BD!B:B,MATCH(ROW()-8,calc!F:F,0)),\"\")","v":""},{"$f":"IF(A114=\"\",\"\",VLOOKUP(A114,BD!B:C,2,0))","v":""}]
[{"$f":"IF(ROW()-8<=MAX(calc!F:F),INDEX(BD!B:B,MATCH(ROW()-8,calc!F:F,0)),\"\")","v":""},{"$f":"IF(A115=\"\",\"\",VLOOKUP(A115,BD!B:C,2,0))","v":""}]
[{"$f":"IF(ROW()-8<=MAX(calc!F:F),INDEX(BD!B:B,MATCH(ROW()-8,calc!F:F,0)),\"\")","v":""},{"$f":"IF(A116=\"\",\"\",VLOOKUP(A116,BD!B:C,2,0))","v":""}]
[{"$f":"IF(ROW()-8<=MAX(calc!F:F),INDEX(BD!B:B,MATCH(ROW()-8,calc!F:F,0)),\"\")","v":""},{"$f":"IF(A117=\"\",\"\",VLOOKUP(A117,BD!B:C,2,0))","v":""}]
[{"$f":"IF(ROW()-8<=MAX(calc!F:F),INDEX(BD!B:B,MATCH(ROW()-8,calc!F:F,0)),\"\")","v":""},{"$f":"IF(A118=\"\",\"\",VLOOKUP(A118,BD!B:C,2,0))","v":""}]
[{"$f":"IF(ROW()-8<=MAX(calc!F:F),INDEX(BD!B:B,MATCH(ROW()-8,calc!F:F,0)),\"\")","v":""},{"$f":"IF(A119=\"\",\"\",VLOOKUP(A119,BD!B:C,2,0))","v":""}]
[{"$f":"IF(ROW()-8<=MAX(calc!F:F),INDEX(BD!B:B,MATCH(ROW()-8,calc!F:F,0)),\"\")","v":""},{"$f":"IF(A120=\"\",\"\",VLOOKUP(A120,BD!B:C,2,0))","v":""}]
[{"$f":"IF(ROW()-8<=MAX(calc!F:F),INDEX(BD!B:B,MATCH(ROW()-8,calc!F:F,0)),\"\")","v":""},{"$f":"IF(A121=\"\",\"\",VLOOKUP(A121,BD!B:C,2,0))","v":""}]
[{"$f":"IF(ROW()-8<=MAX(calc!F:F),INDEX(BD!B:B,MATCH(ROW()-8,calc!F:F,0)),\"\")","v":""},{"$f":"IF(A122=\"\",\"\",VLOOKUP(A122,BD!B:C,2,0))","v":""}]
[{"$f":"IF(ROW()-8<=MAX(calc!F:F),INDEX(BD!B:B,MATCH(ROW()-8,calc!F:F,0)),\"\")","v":""},{"$f":"IF(A123=\"\",\"\",VLOOKUP(A123,BD!B:C,2,0))","v":""}]
[{"$f":"IF(ROW()-8<=MAX(calc!F:F),INDEX(BD!B:B,MATCH(ROW()-8,calc!F:F,0)),\"\")","v":""},{"$f":"IF(A124=\"\",\"\",VLOOKUP(A124,BD!B:C,2,0))","v":""}]
[{"$f":"IF(ROW()-8<=MAX(calc!F:F),INDEX(BD!B:B,MATCH(ROW()-8,calc!F:F,0)),\"\")","v":""},{"$f":"IF(A125=\"\",\"\",VLOOKUP(A125,BD!B:C,2,0))","v":""}]
[{"$f":"IF(ROW()-8<=MAX(calc!F:F),INDEX(BD!B:B,MATCH(ROW()-8,calc!F:F,0)),\"\")","v":""},{"$f":"IF(A126=\"\",\"\",VLOOKUP(A126,BD!B:C,2,0))","v":""}]
[{"$f":"IF(ROW()-8<=MAX(calc!F:F),INDEX(BD!B:B,MATCH(ROW()-8,calc!F:F,0)),\"\")","v":""},{"$f":"IF(A127=\"\",\"\",VLOOKUP(A127,BD!B:C,2,0))","v":""}]
[{"$f":"IF(ROW()-8<=MAX(calc!F:F),INDEX(BD!B:B,MATCH(ROW()-8,calc!F:F,0)),\"\")","v":""},{"$f":"IF(A128=\"\",\"\",VLOOKUP(A128,BD!B:C,2,0))","v":""}]
[{"$f":"IF(ROW()-8<=MAX(calc!F:F),INDEX(BD!B:B,MATCH(ROW()-8,calc!F:F,0)),\"\")","v":""},{"$f":"IF(A129=\"\",\"\",VLOOKUP(A129,BD!B:C,2,0))","v":""}]
[{"$f":"IF(ROW()-8<=MAX(calc!F:F),INDEX(BD!B:B,MATCH(ROW()-8,calc!F:F,0)),\"\")","v":""},{"$f":"IF(A130=\"\",\"\",VLOOKUP(A130,BD!B:C,2,0))","v":""}]
[{"$f":"IF(ROW()-8<=MAX(calc!F:F),INDEX(BD!B:B,MATCH(ROW()-8,calc!F:F,0)),\"\")","v":""},{"$f":"IF(A131=\"\",\"\",VLOOKUP(A131,BD!B:C,2,0))","v":""}]
[{"$f":"IF(ROW()-8<=MAX(calc!F:F),INDEX(BD!B:B,MATCH(ROW()-8,calc!F:F,0)),\"\")","v":""},{"$f":"IF(A132=\"\",\"\",VLOOKUP(A132,BD!B:C,2,0))","v":""}]
[{"$f":"IF(ROW()-8<=MAX(calc!F:F),INDEX(BD!B:B,MATCH(ROW()-8,calc!F:F,0)),\"\")","v":""},{"$f":"IF(A133=\"\",\"\",VLOOKUP(A133,BD!B:C,2,0))","v":""}]
[{"$f":"IF(ROW()-8<=MAX(calc!F:F),INDEX(BD!B:B,MATCH(ROW()-8,calc!F:F,0)),\"\")","v":""},{"$f":"IF(A134=\"\",\"\",VLOOKUP(A134,BD!B:C,2,0))","v":""}]
[{"$f":"IF(ROW()-8<=MAX(calc!F:F),INDEX(BD!B:B,MATCH(ROW()-8,calc!F:F,0)),\"\")","v":""},{"$f":"IF(A135=\"\",\"\",VLOOKUP(A135,BD!B:C,2,0))","v":""}]
[{"$f":"IF(ROW()-8<=MAX(calc!F:F),INDEX(BD!B:B,MATCH(ROW()-8,calc!F:F,0)),\"\")","v":""},{"$f":"IF(A136=\"\",\"\",VLOOKUP(A136,BD!B:C,2,0))","v":""}]
[{"$f":"IF(ROW()-8<=MAX(calc!F:F),INDEX(BD!B:B,MATCH(ROW()-8,calc!F:F,0)),\"\")","v":""},{"$f":"IF(A137=\"\",\"\",VLOOKUP(A137,BD!B:C,2,0))","v":""}]
[{"$f":"IF(ROW()-8<=MAX(calc!F:F),INDEX(BD!B:B,MATCH(ROW()-8,calc!F:F,0)),\"\")","v":""},{"$f":"IF(A138=\"\",\"\",VLOOKUP(A138,BD!B:C,2,0))","v":""}]
[{"$f":"IF(ROW()-8<=MAX(calc!F:F),INDEX(BD!B:B,MATCH(ROW()-8,calc!F:F,0)),\"\")","v":""},{"$f":"IF(A139=\"\",\"\",VLOOKUP(A139,BD!B:C,2,0))","v":""}]
[{"$f":"IF(ROW()-8<=MAX(calc!F:F),INDEX(BD!B:B,MATCH(ROW()-8,calc!F:F,0)),\"\")","v":""},{"$f":"IF(A140=\"\",\"\",VLOOKUP(A140,BD!B:C,2,0))","v":""}]
[{"$f":"IF(ROW()-8<=MAX(calc!F:F),INDEX(BD!B:B,MATCH(ROW()-8,calc!F:F,0)),\"\")","v":""},{"$f":"IF(A141=\"\",\"\",VLOOKUP(A141,BD!B:C,2,0))","v":""}]
[{"$f":"IF(ROW()-8<=MAX(calc!F:F),INDEX(BD!B:B,MATCH(ROW()-8,calc!F:F,0)),\"\")","v":""},{"$f":"IF(A142=\"\",\"\",VLOOKUP(A142,BD!B:C,2,0))","v":""}]
[{"$f":"IF(ROW()-8<=MAX(calc!F:F),INDEX(BD!B:B,MATCH(ROW()-8,calc!F:F,0)),\"\")","v":""},{"$f":"IF(A143=\"\",\"\",VLOOKUP(A143,BD!B:C,2,0))","v":""}]
[{"$f":"IF(ROW()-8<=MAX(calc!F:F),INDEX(BD!B:B,MATCH(ROW()-8,calc!F:F,0)),\"\")","v":""},{"$f":"IF(A144=\"\",\"\",VLOOKUP(A144,BD!B:C,2,0))","v":""}]
[{"$f":"IF(ROW()-8<=MAX(calc!F:F),INDEX(BD!B:B,MATCH(ROW()-8,calc!F:F,0)),\"\")","v":""},{"$f":"IF(A145=\"\",\"\",VLOOKUP(A145,BD!B:C,2,0))","v":""}]
[{"$f":"IF(ROW()-8<=MAX(calc!F:F),INDEX(BD!B:B,MATCH(ROW()-8,calc!F:F,0)),\"\")","v":""},{"$f":"IF(A146=\"\",\"\",VLOOKUP(A146,BD!B:C,2,0))","v":""}]
[{"$f":"IF(ROW()-8<=MAX(calc!F:F),INDEX(BD!B:B,MATCH(ROW()-8,calc!F:F,0)),\"\")","v":""},{"$f":"IF(A147=\"\",\"\",VLOOKUP(A147,BD!B:C,2,0))","v":""}]
[{"$f":"IF(ROW()-8<=MAX(calc!F:F),INDEX(BD!B:B,MATCH(ROW()-8,calc!F:F,0)),\"\")","v":""},{"$f":"IF(A148=\"\",\"\",VLOOKUP(A148,BD!B:C,2,0))","v":""}]
[{"$f":"IF(ROW()-8<=MAX(calc!F:F),INDEX(BD!B:B,MATCH(ROW()-8,calc!F:F,0)),\"\")","v":""},{"$f":"IF(A149=\"\",\"\",VLOOKUP(A149,BD!B:C,2,0))","v":""}]
[{"$f":"IF(ROW()-8<=MAX(calc!F:F),INDEX(BD!B:B,MATCH(ROW()-8,calc!F:F,0)),\"\")","v":""},{"$f":"IF(A150=\"\",\"\",VLOOKUP(A150,BD!B:C,2,0))","v":""}]
[{"$f":"IF(ROW()-8<=MAX(calc!F:F),INDEX(BD!B:B,MATCH(ROW()-8,calc!F:F,0)),\"\")","v":""},{"$f":"IF(A151=\"\",\"\",VLOOKUP(A151,BD!B:C,2,0))","v":""}]
[{"$f":"IF(ROW()-8<=MAX(calc!F:F),INDEX(BD!B:B,MATCH(ROW()-8,calc!F:F,0)),\"\")","v":""},{"$f":"IF(A152=\"\",\"\",VLOOKUP(A152,BD!B:C,2,0))","v":""}]
[{"$f":"IF(ROW()-8<=MAX(calc!F:F),INDEX(BD!B:B,MATCH(ROW()-8,calc!F:F,0)),\"\")","v":""},{"$f":"IF(A153=\"\",\"\",VLOOKUP(A153,BD!B:C,2,0))","v":""}]
[{"$f":"IF(ROW()-8<=MAX(calc!F:F),INDEX(BD!B:B,MATCH(ROW()-8,calc!F:F,0)),\"\")","v":""},{"$f":"IF(A154=\"\",\"\",VLOOKUP(A154,BD!B:C,2,0))","v":""}]
[{"$f":"IF(ROW()-8<=MAX(calc!F:F),INDEX(BD!B:B,MATCH(ROW()-8,calc!F:F,0)),\"\")","v":""},{"$f":"IF(A155=\"\",\"\",VLOOKUP(A155,BD!B:C,2,0))","v":""}]
[{"$f":"IF(ROW()-8<=MAX(calc!F:F),INDEX(BD!B:B,MATCH(ROW()-8,calc!F:F,0)),\"\")","v":""},{"$f":"IF(A156=\"\",\"\",VLOOKUP(A156,BD!B:C,2,0))","v":""}]
[{"$f":"IF(ROW()-8<=MAX(calc!F:F),INDEX(BD!B:B,MATCH(ROW()-8,calc!F:F,0)),\"\")","v":""},{"$f":"IF(A157=\"\",\"\",VLOOKUP(A157,BD!B:C,2,0))","v":""}]
[{"$f":"IF(ROW()-8<=MAX(calc!F:F),INDEX(BD!B:B,MATCH(ROW()-8,calc!F:F,0)),\"\")","v":""},{"$f":"IF(A158=\"\",\"\",VLOOKUP(A158,BD!B:C,2,0))","v":""}]
[{"$f":"IF(ROW()-8<=MAX(calc!F:F),INDEX(BD!B:B,MATCH(ROW()-8,calc!F:F,0)),\"\")","v":""},{"$f":"IF(A159=\"\",\"\",VLOOKUP(A159,BD!B:C,2,0))","v":""}]
[{"$f":"IF(ROW()-8<=MAX(calc!F:F),INDEX(BD!B:B,MATCH(ROW()-8,calc!F:F,0)),\"\")","v":""},{"$f":"IF(A160=\"\",\"\",VLOOKUP(A160,BD!B:C,2,0))","v":""}]
[{"$f":"IF(ROW()-8<=MAX(calc!F:F),INDEX(BD!B:B,MATCH(ROW()-8,calc!F:F,0)),\"\")","v":""},{"$f":"IF(A161=\"\",\"\",VLOOKUP(A161,BD!B:C,2,0))","v":""}]
[{"$f":"IF(ROW()-8<=MAX(calc!F:F),INDEX(BD!B:B,MATCH(ROW()-8,calc!F:F,0)),\"\")","v":""},{"$f":"IF(A162=\"\",\"\",VLOOKUP(A162,BD!B:C,2,0))","v":""}]
[{"$f":"IF(ROW()-8<=MAX(calc!F:F),INDEX(BD!B:B,MATCH(ROW()-8,calc!F:F,0)),\"\")","v":""},{"$f":"IF(A163=\"\",\"\",VLOOKUP(A163,BD!B:C,2,0))","v":""}]
[{"$f":"IF(ROW()-8<=MAX(calc!F:F),INDEX(BD!B:B,MATCH(ROW()-8,calc!F:F,0)),\"\")","v":""},{"$f":"IF(A164=\"\",\"\",VLOOKUP(A164,BD!B:C,2,0))","v":""}]
[{"$f":"IF(ROW()-8<=MAX(calc!F:F),INDEX(BD!B:B,MATCH(ROW()-8,calc!F:F,0)),\"\")","v":""},{"$f":"IF(A165=\"\",\"\",VLOOKUP(A165,BD!B:C,2,0))","v":""}]
[{"$f":"IF(ROW()-8<=MAX(calc!F:F),INDEX(BD!B:B,MATCH(ROW()-8,calc!F:F,0)),\"\")","v":""},{"$f":"IF(A166=\"\",\"\",VLOOKUP(A166,BD!B:C,2,0))","v":""}]
[{"$f":"IF(ROW()-8<=MAX(calc!F:F),INDEX(BD!B:B,MATCH(ROW()-8,calc!F:F,0)),\"\")","v":""},{"$f":"IF(A167=\"\",\"\",VLOOKUP(A167,BD!B:C,2,0))","v":""}]
[{"$f":"IF(ROW()-8<=MAX(calc!F:F),INDEX(BD!B:B,MATCH(ROW()-8,calc!F:F,0)),\"\")","v":""},{"$f":"IF(A168=\"\",\"\",VLOOKUP(A168,BD!B:C,2,0))","v":""}]
[{"$f":"IF(ROW()-8<=MAX(calc!F:F),INDEX(BD!B:B,MATCH(ROW()-8,calc!F:F,0)),\"\")","v":""},{"$f":"IF(A169=\"\",\"\",VLOOKUP(A169,BD!B:C,2,0))","v":""}]
[{"$f":"IF(ROW()-8<=MAX(calc!F:F),INDEX(BD!B:B,MATCH(ROW()-8,calc!F:F,0)),\"\")","v":""},{"$f":"IF(A170=\"\",\"\",VLOOKUP(A170,BD!B:C,2,0))","v":""}]
[{"$f":"IF(ROW()-8<=MAX(calc!F:F),INDEX(BD!B:B,MATCH(ROW()-8,calc!F:F,0)),\"\")","v":""},{"$f":"IF(A171=\"\",\"\",VLOOKUP(A171,BD!B:C,2,0))","v":""}]
[{"$f":"IF(ROW()-8<=MAX(calc!F:F),INDEX(BD!B:B,MATCH(ROW()-8,calc!F:F,0)),\"\")","v":""},{"$f":"IF(A172=\"\",\"\",VLOOKUP(A172,BD!B:C,2,0))","v":""}]
[{"$f":"IF(ROW()-8<=MAX(calc!F:F),INDEX(BD!B:B,MATCH(ROW()-8,calc!F:F,0)),\"\")","v":""},{"$f":"IF(A173=\"\",\"\",VLOOKUP(A173,BD!B:C,2,0))","v":""}]
[{"$f":"IF(ROW()-8<=MAX(calc!F:F),INDEX(BD!B:B,MATCH(ROW()-8,calc!F:F,0)),\"\")","v":""},{"$f":"IF(A174=\"\",\"\",VLOOKUP(A174,BD!B:C,2,0))","v":""}]
[{"$f":"IF(ROW()-8<=MAX(calc!F:F),INDEX(BD!B:B,MATCH(ROW()-8,calc!F:F,0)),\"\")","v":""},{"$f":"IF(A175=\"\",\"\",VLOOKUP(A175,BD!B:C,2,0))","v":""}]
[{"$f":"IF(ROW()-8<=MAX(calc!F:F),INDEX(BD!B:B,MATCH(ROW()-8,calc!F:F,0)),\"\")","v":""},{"$f":"IF(A176=\"\",\"\",VLOOKUP(A176,BD!B:C,2,0))","v":""}]
[{"$f":"IF(ROW()-8<=MAX(calc!F:F),INDEX(BD!B:B,MATCH(ROW()-8,calc!F:F,0)),\"\")","v":""},{"$f":"IF(A177=\"\",\"\",VLOOKUP(A177,BD!B:C,2,0))","v":""}]
[{"$f":"IF(ROW()-8<=MAX(calc!F:F),INDEX(BD!B:B,MATCH(ROW()-8,calc!F:F,0)),\"\")","v":""},{"$f":"IF(A178=\"\",\"\",VLOOKUP(A178,BD!B:C,2,0))","v":""}]
[{"$f":"IF(ROW()-8<=MAX(calc!F:F),INDEX(BD!B:B,MATCH(ROW()-8,calc!F:F,0)),\"\")","v":""},{"$f":"IF(A179=\"\",\"\",VLOOKUP(A179,BD!B:C,2,0))","v":""}]
[{"$f":"IF(ROW()-8<=MAX(calc!F:F),INDEX(BD!B:B,MATCH(ROW()-8,calc!F:F,0)),\"\")","v":""},{"$f":"IF(A180=\"\",\"\",VLOOKUP(A180,BD!B:C,2,0))","v":""}]
[{"$f":"IF(ROW()-8<=MAX(calc!F:F),INDEX(BD!B:B,MATCH(ROW()-8,calc!F:F,0)),\"\")","v":""},{"$f":"IF(A181=\"\",\"\",VLOOKUP(A181,BD!B:C,2,0))","v":""}]
[{"$f":"IF(ROW()-8<=MAX(calc!F:F),INDEX(BD!B:B,MATCH(ROW()-8,calc!F:F,0)),\"\")","v":""},{"$f":"IF(A182=\"\",\"\",VLOOKUP(A182,BD!B:C,2,0))","v":""}]
[{"$f":"IF(ROW()-8<=MAX(calc!F:F),INDEX(BD!B:B,MATCH(ROW()-8,calc!F:F,0)),\"\")","v":""},{"$f":"IF(A183=\"\",\"\",VLOOKUP(A183,BD!B:C,2,0))","v":""}]
[{"$f":"IF(ROW()-8<=MAX(calc!F:F),INDEX(BD!B:B,MATCH(ROW()-8,calc!F:F,0)),\"\")","v":""},{"$f":"IF(A184=\"\",\"\",VLOOKUP(A184,BD!B:C,2,0))","v":""}]
[{"$f":"IF(ROW()-8<=MAX(calc!F:F),INDEX(BD!B:B,MATCH(ROW()-8,calc!F:F,0)),\"\")","v":""},{"$f":"IF(A185=\"\",\"\",VLOOKUP(A185,BD!B:C,2,0))","v":""}]
[{"$f":"IF(ROW()-8<=MAX(calc!F:F),INDEX(BD!B:B,MATCH(ROW()-8,calc!F:F,0)),\"\")","v":""},{"$f":"IF(A186=\"\",\"\",VLOOKUP(A186,BD!B:C,2,0))","v":""}]
[{"$f":"IF(ROW()-8<=MAX(calc!F:F),INDEX(BD!B:B,MATCH(ROW()-8,calc!F:F,0)),\"\")","v":""},{"$f":"IF(A187=\"\",\"\",VLOOKUP(A187,BD!B:C,2,0))","v":""}]
[{"$f":"IF(ROW()-8<=MAX(calc!F:F),INDEX(BD!B:B,MATCH(ROW()-8,calc!F:F,0)),\"\")","v":""},{"$f":"IF(A188=\"\",\"\",VLOOKUP(A188,BD!B:C,2,0))","v":""}]
[{"$f":"IF(ROW()-8<=MAX(calc!F:F),INDEX(BD!B:B,MATCH(ROW()-8,calc!F:F,0)),\"\")","v":""},{"$f":"IF(A189=\"\",\"\",VLOOKUP(A189,BD!B:C,2,0))","v":""}]
[{"$f":"IF(ROW()-8<=MAX(calc!F:F),INDEX(BD!B:B,MATCH(ROW()-8,calc!F:F,0)),\"\")","v":""},{"$f":"IF(A190=\"\",\"\",VLOOKUP(A190,BD!B:C,2,0))","v":""}]
[{"$f":"IF(ROW()-8<=MAX(calc!F:F),INDEX(BD!B:B,MATCH(ROW()-8,calc!F:F,0)),\"\")","v":""},{"$f":"IF(A191=\"\",\"\",VLOOKUP(A191,BD!B:C,2,0))","v":""}]
[{"$f":"IF(ROW()-8<=MAX(calc!F:F),INDEX(BD!B:B,MATCH(ROW()-8,calc!F:F,0)),\"\")","v":""},{"$f":"IF(A192=\"\",\"\",VLOOKUP(A192,BD!B:C,2,0))","v":""}]
[{"$f":"IF(ROW()-8<=MAX(calc!F:F),INDEX(BD!B:B,MATCH(ROW()-8,calc!F:F,0)),\"\")","v":""},{"$f":"IF(A193=\"\",\"\",VLOOKUP(A193,BD!B:C,2,0))","v":""}]
[{"$f":"IF(ROW()-8<=MAX(calc!F:F),INDEX(BD!B:B,MATCH(ROW()-8,calc!F:F,0)),\"\")","v":""},{"$f":"IF(A194=\"\",\"\",VLOOKUP(A194,BD!B:C,2,0))","v":""}]
[{"$f":"IF(ROW()-8<=MAX(calc!F:F),INDEX(BD!B:B,MATCH(ROW()-8,calc!F:F,0)),\"\")","v":""},{"$f":"IF(A195=\"\",\"\",VLOOKUP(A195,BD!B:C,2,0))","v":""}]
[{"$f":"IF(ROW()-8<=MAX(calc!F:F),INDEX(BD!B:B,MATCH(ROW()-8,calc!F:F,0)),\"\")","v":""},{"$f":"IF(A196=\"\",\"\",VLOOKUP(A196,BD!B:C,2,0))","v":""}]
[{"$f":"IF(ROW()-8<=MAX(calc!F:F),INDEX(BD!B:B,MATCH(ROW()-8,calc!F:F,0)),\"\")","v":""},{"$f":"IF(A197=\"\",\"\",VLOOKUP(A197,BD!B:C,2,0))","v":""}]
[{"$f":"IF(ROW()-8<=MAX(calc!F:F),INDEX(BD!B:B,MATCH(ROW()-8,calc!F:F,0)),\"\")","v":""},{"$f":"IF(A198=\"\",\"\",VLOOKUP(A198,BD!B:C,2,0))","v":""}]
[{"$f":"IF(ROW()-8<=MAX(calc!F:F),INDEX(BD!B:B,MATCH(ROW()-8,calc!F:F,0)),\"\")","v":""},{"$f":"IF(A199=\"\",\"\",VLOOKUP(A199,BD!B:C,2,0))","v":""}]
[{"$f":"IF(ROW()-8<=MAX(calc!F:F),INDEX(BD!B:B,MATCH(ROW()-8,calc!F:F,0)),\"\")","v":""},{"$f":"IF(A200=\"\",\"\",VLOOKUP(A200,BD!B:C,2,0))","v":""}]
[{"$f":"IF(ROW()-8<=MAX(calc!F:F),INDEX(BD!B:B,MATCH(ROW()-8,calc!F:F,0)),\"\")","v":""},{"$f":"IF(A201=\"\",\"\",VLOOKUP(A201,BD!B:C,2,0))","v":""}]
[{"$f":"IF(ROW()-8<=MAX(calc!F:F),INDEX(BD!B:B,MATCH(ROW()-8,calc!F:F,0)),\"\")","v":""},{"$f":"IF(A202=\"\",\"\",VLOOKUP(A202,BD!B:C,2,0))","v":""}]
[{"$f":"IF(ROW()-8<=MAX(calc!F:F),INDEX(BD!B:B,MATCH(ROW()-8,calc!F:F,0)),\"\")","v":""},{"$f":"IF(A203=\"\",\"\",VLOOKUP(A203,BD!B:C,2,0))","v":""}]
[{"$f":"IF(ROW()-8<=MAX(calc!F:F),INDEX(BD!B:B,MATCH(ROW()-8,calc!F:F,0)),\"\")","v":""},{"$f":"IF(A204=\"\",\"\",VLOOKUP(A204,BD!B:C,2,0))","v":""}]
[{"$f":"IF(ROW()-8<=MAX(calc!F:F),INDEX(BD!B:B,MATCH(ROW()-8,calc!F:F,0)),\"\")","v":""},{"$f":"IF(A205=\"\",\"\",VLOOKUP(A205,BD!B:C,2,0))","v":""}]
[{"$f":"IF(ROW()-8<=MAX(calc!F:F),INDEX(BD!B:B,MATCH(ROW()-8,calc!F:F,0)),\"\")","v":""},{"$f":"IF(A206=\"\",\"\",VLOOKUP(A206,BD!B:C,2,0))","v":""}]
[{"$f":"IF(ROW()-8<=MAX(calc!F:F),INDEX(BD!B:B,MATCH(ROW()-8,calc!F:F,0)),\"\")","v":""},{"$f":"IF(A207=\"\",\"\",VLOOKUP(A207,BD!B:C,2,0))","v":""}]
[{"$f":"IF(ROW()-8<=MAX(calc!F:F),INDEX(BD!B:B,MATCH(ROW()-8,calc!F:F,0)),\"\")","v":""},{"$f":"IF(A208=\"\",\"\",VLOOKUP(A208,BD!B:C,2,0))","v":""}]
[{"$f":"IF(ROW()-8<=MAX(calc!F:F),INDEX(BD!B:B,MATCH(ROW()-8,calc!F:F,0)),\"\")","v":""},{"$f":"IF(A209=\"\",\"\",VLOOKUP(A209,BD!B:C,2,0))","v":""}]
[{"$f":"IF(ROW()-8<=MAX(calc!F:F),INDEX(BD!B:B,MATCH(ROW()-8,calc!F:F,0)),\"\")","v":""},{"$f":"IF(A210=\"\",\"\",VLOOKUP(A210,BD!B:C,2,0))","v":""}]
[{"$f":"IF(ROW()-8<=MAX(calc!F:F),INDEX(BD!B:B,MATCH(ROW()-8,calc!F:F,0)),\"\")","v":""},{"$f":"IF(A211=\"\",\"\",VLOOKUP(A211,BD!B:C,2,0))","v":""}]
[{"$f":"IF(ROW()-8<=MAX(calc!F:F),INDEX(BD!B:B,MATCH(ROW()-8,calc!F:F,0)),\"\")","v":""},{"$f":"IF(A212=\"\",\"\",VLOOKUP(A212,BD!B:C,2,0))","v":""}]
[{"$f":"IF(ROW()-8<=MAX(calc!F:F),INDEX(BD!B:B,MATCH(ROW()-8,calc!F:F,0)),\"\")","v":""},{"$f":"IF(A213=\"\",\"\",VLOOKUP(A213,BD!B:C,2,0))","v":""}]
[{"$f":"IF(ROW()-8<=MAX(calc!F:F),INDEX(BD!B:B,MATCH(ROW()-8,calc!F:F,0)),\"\")","v":""},{"$f":"IF(A214=\"\",\"\",VLOOKUP(A214,BD!B:C,2,0))","v":""}]
[{"$f":"IF(ROW()-8<=MAX(calc!F:F),INDEX(BD!B:B,MATCH(ROW()-8,calc!F:F,0)),\"\")","v":""},{"$f":"IF(A215=\"\",\"\",VLOOKUP(A215,BD!B:C,2,0))","v":""}]
[{"$f":"IF(ROW()-8<=MAX(calc!F:F),INDEX(BD!B:B,MATCH(ROW()-8,calc!F:F,0)),\"\")","v":""},{"$f":"IF(A216=\"\",\"\",VLOOKUP(A216,BD!B:C,2,0))","v":""}]
[{"$f":"IF(ROW()-8<=MAX(calc!F:F),INDEX(BD!B:B,MATCH(ROW()-8,calc!F:F,0)),\"\")","v":""},{"$f":"IF(A217=\"\",\"\",VLOOKUP(A217,BD!B:C,2,0))","v":""}]
[{"$f":"IF(ROW()-8<=MAX(calc!F:F),INDEX(BD!B:B,MATCH(ROW()-8,calc!F:F,0)),\"\")","v":""},{"$f":"IF(A218=\"\",\"\",VLOOKUP(A218,BD!B:C,2,0))","v":""}]
[{"$f":"IF(ROW()-8<=MAX(calc!F:F),INDEX(BD!B:B,MATCH(ROW()-8,calc!F:F,0)),\"\")","v":""},{"$f":"IF(A219=\"\",\"\",VLOOKUP(A219,BD!B:C,2,0))","v":""}]
[{"$f":"IF(ROW()-8<=MAX(calc!F:F),INDEX(BD!B:B,MATCH(ROW()-8,calc!F:F,0)),\"\")","v":""},{"$f":"IF(A220=\"\",\"\",VLOOKUP(A220,BD!B:C,2,0))","v":""}]
[{"$f":"IF(ROW()-8<=MAX(calc!F:F),INDEX(BD!B:B,MATCH(ROW()-8,calc!F:F,0)),\"\")","v":""},{"$f":"IF(A221=\"\",\"\",VLOOKUP(A221,BD!B:C,2,0))","v":""}]
[{"$f":"IF(ROW()-8<=MAX(calc!F:F),INDEX(BD!B:B,MATCH(ROW()-8,calc!F:F,0)),\"\")","v":""},{"$f":"IF(A222=\"\",\"\",VLOOKUP(A222,BD!B:C,2,0))","v":""}]
[{"$f":"IF(ROW()-8<=MAX(calc!F:F),INDEX(BD!B:B,MATCH(ROW()-8,calc!F:F,0)),\"\")","v":""},{"$f":"IF(A223=\"\",\"\",VLOOKUP(A223,BD!B:C,2,0))","v":""}]
[{"$f":"IF(ROW()-8<=MAX(calc!F:F),INDEX(BD!B:B,MATCH(ROW()-8,calc!F:F,0)),\"\")","v":""},{"$f":"IF(A224=\"\",\"\",VLOOKUP(A224,BD!B:C,2,0))","v":""}]
[{"$f":"IF(ROW()-8<=MAX(calc!F:F),INDEX(BD!B:B,MATCH(ROW()-8,calc!F:F,0)),\"\")","v":""},{"$f":"IF(A225=\"\",\"\",VLOOKUP(A225,BD!B:C,2,0))","v":""}]
[{"$f":"IF(ROW()-8<=MAX(calc!F:F),INDEX(BD!B:B,MATCH(ROW()-8,calc!F:F,0)),\"\")","v":""},{"$f":"IF(A226=\"\",\"\",VLOOKUP(A226,BD!B:C,2,0))","v":""}]
[{"$f":"IF(ROW()-8<=MAX(calc!F:F),INDEX(BD!B:B,MATCH(ROW()-8,calc!F:F,0)),\"\")","v":""},{"$f":"IF(A227=\"\",\"\",VLOOKUP(A227,BD!B:C,2,0))","v":""}]
[{"$f":"IF(ROW()-8<=MAX(calc!F:F),INDEX(BD!B:B,MATCH(ROW()-8,calc!F:F,0)),\"\")","v":""},{"$f":"IF(A228=\"\",\"\",VLOOKUP(A228,BD!B:C,2,0))","v":""}]
[{"$f":"IF(ROW()-8<=MAX(calc!F:F),INDEX(BD!B:B,MATCH(ROW()-8,calc!F:F,0)),\"\")","v":""},{"$f":"IF(A229=\"\",\"\",VLOOKUP(A229,BD!B:C,2,0))","v":""}]
[{"$f":"IF(ROW()-8<=MAX(calc!F:F),INDEX(BD!B:B,MATCH(ROW()-8,calc!F:F,0)),\"\")","v":""},{"$f":"IF(A230=\"\",\"\",VLOOKUP(A230,BD!B:C,2,0))","v":""}]
[{"$f":"IF(ROW()-8<=MAX(calc!F:F),INDEX(BD!B:B,MATCH(ROW()-8,calc!F:F,0)),\"\")","v":""},{"$f":"IF(A231=\"\",\"\",VLOOKUP(A231,BD!B:C,2,0))","v":""}]
[{"$f":"IF(ROW()-8<=MAX(calc!F:F),INDEX(BD!B:B,MATCH(ROW()-8,calc!F:F,0)),\"\")","v":""},{"$f":"IF(A232=\"\",\"\",VLOOKUP(A232,BD!B:C,2,0))","v":""}]
[{"$f":"IF(ROW()-8<=MAX(calc!F:F),INDEX(BD!B:B,MATCH(ROW()-8,calc!F:F,0)),\"\")","v":""},{"$f":"IF(A233=\"\",\"\",VLOOKUP(A233,BD!B:C,2,0))","v":""}]
[{"$f":"IF(ROW()-8<=MAX(calc!F:F),INDEX(BD!B:B,MATCH(ROW()-8,calc!F:F,0)),\"\")","v":""},{"$f":"IF(A234=\"\",\"\",VLOOKUP(A234,BD!B:C,2,0))","v":""}]
[{"$f":"IF(ROW()-8<=MAX(calc!F:F),INDEX(BD!B:B,MATCH(ROW()-8,calc!F:F,0)),\"\")","v":""},{"$f":"IF(A235=\"\",\"\",VLOOKUP(A235,BD!B:C,2,0))","v":""}]
[{"$f":"IF(ROW()-8<=MAX(calc!F:F),INDEX(BD!B:B,MATCH(ROW()-8,calc!F:F,0)),\"\")","v":""},{"$f":"IF(A236=\"\",\"\",VLOOKUP(A236,BD!B:C,2,0))","v":""}]
[{"$f":"IF(ROW()-8<=MAX(calc!F:F),INDEX(BD!B:B,MATCH(ROW()-8,calc!F:F,0)),\"\")","v":""},{"$f":"IF(A237=\"\",\"\",VLOOKUP(A237,BD!B:C,2,0))","v":""}]
[{"$f":"IF(ROW()-8<=MAX(calc!F:F),INDEX(BD!B:B,MATCH(ROW()-8,calc!F:F,0)),\"\")","v":""},{"$f":"IF(A238=\"\",\"\",VLOOKUP(A238,BD!B:C,2,0))","v":""}]
[{"$f":"IF(ROW()-8<=MAX(calc!F:F),INDEX(BD!B:B,MATCH(ROW()-8,calc!F:F,0)),\"\")","v":""},{"$f":"IF(A239=\"\",\"\",VLOOKUP(A239,BD!B:C,2,0))","v":""}]
[{"$f":"IF(ROW()-8<=MAX(calc!F:F),INDEX(BD!B:B,MATCH(ROW()-8,calc!F:F,0)),\"\")","v":""},{"$f":"IF(A240=\"\",\"\",VLOOKUP(A240,BD!B:C,2,0))","v":""}]
[{"$f":"IF(ROW()-8<=MAX(calc!F:F),INDEX(BD!B:B,MATCH(ROW()-8,calc!F:F,0)),\"\")","v":""},{"$f":"IF(A241=\"\",\"\",VLOOKUP(A241,BD!B:C,2,0))","v":""}]
[{"$f":"IF(ROW()-8<=MAX(calc!F:F),INDEX(BD!B:B,MATCH(ROW()-8,calc!F:F,0)),\"\")","v":""},{"$f":"IF(A242=\"\",\"\",VLOOKUP(A242,BD!B:C,2,0))","v":""}]
[{"$f":"IF(ROW()-8<=MAX(calc!F:F),INDEX(BD!B:B,MATCH(ROW()-8,calc!F:F,0)),\"\")","v":""},{"$f":"IF(A243=\"\",\"\",VLOOKUP(A243,BD!B:C,2,0))","v":""}]
[{"$f":"IF(ROW()-8<=MAX(calc!F:F),INDEX(BD!B:B,MATCH(ROW()-8,calc!F:F,0)),\"\")","v":""},{"$f":"IF(A244=\"\",\"\",VLOOKUP(A244,BD!B:C,2,0))","v":""}]
[{"$f":"IF(ROW()-8<=MAX(calc!F:F),INDEX(BD!B:B,MATCH(ROW()-8,calc!F:F,0)),\"\")","v":""},{"$f":"IF(A245=\"\",\"\",VLOOKUP(A245,BD!B:C,2,0))","v":""}]
[{"$f":"IF(ROW()-8<=MAX(calc!F:F),INDEX(BD!B:B,MATCH(ROW()-8,calc!F:F,0)),\"\")","v":""},{"$f":"IF(A246=\"\",\"\",VLOOKUP(A246,BD!B:C,2,0))","v":""}]
[{"$f":"IF(ROW()-8<=MAX(calc!F:F),INDEX(BD!B:B,MATCH(ROW()-8,calc!F:F,0)),\"\")","v":""},{"$f":"IF(A247=\"\",\"\",VLOOKUP(A247,BD!B:C,2,0))","v":""}]
[{"$f":"IF(ROW()-8<=MAX(calc!F:F),INDEX(BD!B:B,MATCH(ROW()-8,calc!F:F,0)),\"\")","v":""},{"$f":"IF(A248=\"\",\"\",VLOOKUP(A248,BD!B:C,2,0))","v":""}]
[{"$f":"IF(ROW()-8<=MAX(calc!F:F),INDEX(BD!B:B,MATCH(ROW()-8,calc!F:F,0)),\"\")","v":""},{"$f":"IF(A249=\"\",\"\",VLOOKUP(A249,BD!B:C,2,0))","v":""}]
[{"$f":"IF(ROW()-8<=MAX(calc!F:F),INDEX(BD!B:B,MATCH(ROW()-8,calc!F:F,0)),\"\")","v":""},{"$f":"IF(A250=\"\",\"\",VLOOKUP(A250,BD!B:C,2,0))","v":""}]
[{"$f":"IF(ROW()-8<=MAX(calc!F:F),INDEX(BD!B:B,MATCH(ROW()-8,calc!F:F,0)),\"\")","v":""},{"$f":"IF(A251=\"\",\"\",VLOOKUP(A251,BD!B:C,2,0))","v":""}]
[{"$f":"IF(ROW()-8<=MAX(calc!F:F),INDEX(BD!B:B,MATCH(ROW()-8,calc!F:F,0)),\"\")","v":""},{"$f":"IF(A252=\"\",\"\",VLOOKUP(A252,BD!B:C,2,0))","v":""}]
[{"$f":"IF(ROW()-8<=MAX(calc!F:F),INDEX(BD!B:B,MATCH(ROW()-8,calc!F:F,0)),\"\")","v":""},{"$f":"IF(A253=\"\",\"\",VLOOKUP(A253,BD!B:C,2,0))","v":""}]
[{"$f":"IF(ROW()-8<=MAX(calc!F:F),INDEX(BD!B:B,MATCH(ROW()-8,calc!F:F,0)),\"\")","v":""},{"$f":"IF(A254=\"\",\"\",VLOOKUP(A254,BD!B:C,2,0))","v":""}]
[{"$f":"IF(ROW()-8<=MAX(calc!F:F),INDEX(BD!B:B,MATCH(ROW()-8,calc!F:F,0)),\"\")","v":""},{"$f":"IF(A255=\"\",\"\",VLOOKUP(A255,BD!B:C,2,0))","v":""}]
[{"$f":"IF(ROW()-8<=MAX(calc!F:F),INDEX(BD!B:B,MATCH(ROW()-8,calc!F:F,0)),\"\")","v":""},{"$f":"IF(A256=\"\",\"\",VLOOKUP(A256,BD!B:C,2,0))","v":""}]
[{"$f":"IF(ROW()-8<=MAX(calc!F:F),INDEX(BD!B:B,MATCH(ROW()-8,calc!F:F,0)),\"\")","v":""},{"$f":"IF(A257=\"\",\"\",VLOOKUP(A257,BD!B:C,2,0))","v":""}]
[{"$f":"IF(ROW()-8<=MAX(calc!F:F),INDEX(BD!B:B,MATCH(ROW()-8,calc!F:F,0)),\"\")","v":""},{"$f":"IF(A258=\"\",\"\",VLOOKUP(A258,BD!B:C,2,0))","v":""}]
[{"$f":"IF(ROW()-8<=MAX(calc!F:F),INDEX(BD!B:B,MATCH(ROW()-8,calc!F:F,0)),\"\")","v":""},{"$f":"IF(A259=\"\",\"\",VLOOKUP(A259,BD!B:C,2,0))","v":""}]
[{"$f":"IF(ROW()-8<=MAX(calc!F:F),INDEX(BD!B:B,MATCH(ROW()-8,calc!F:F,0)),\"\")","v":""},{"$f":"IF(A260=\"\",\"\",VLOOKUP(A260,BD!B:C,2,0))","v":""}]
[{"$f":"IF(ROW()-8<=MAX(calc!F:F),INDEX(BD!B:B,MATCH(ROW()-8,calc!F:F,0)),\"\")","v":""},{"$f":"IF(A261=\"\",\"\",VLOOKUP(A261,BD!B:C,2,0))","v":""}]
[{"$f":"IF(ROW()-8<=MAX(calc!F:F),INDEX(BD!B:B,MATCH(ROW()-8,calc!F:F,0)),\"\")","v":""},{"$f":"IF(A262=\"\",\"\",VLOOKUP(A262,BD!B:C,2,0))","v":""}]
[{"$f":"IF(ROW()-8<=MAX(calc!F:F),INDEX(BD!B:B,MATCH(ROW()-8,calc!F:F,0)),\"\")","v":""},{"$f":"IF(A263=\"\",\"\",VLOOKUP(A263,BD!B:C,2,0))","v":""}]
[{"$f":"IF(ROW()-8<=MAX(calc!F:F),INDEX(BD!B:B,MATCH(ROW()-8,calc!F:F,0)),\"\")","v":""},{"$f":"IF(A264=\"\",\"\",VLOOKUP(A264,BD!B:C,2,0))","v":""}]
[{"$f":"IF(ROW()-8<=MAX(calc!F:F),INDEX(BD!B:B,MATCH(ROW()-8,calc!F:F,0)),\"\")","v":""},{"$f":"IF(A265=\"\",\"\",VLOOKUP(A265,BD!B:C,2,0))","v":""}]
[{"$f":"IF(ROW()-8<=MAX(calc!F:F),INDEX(BD!B:B,MATCH(ROW()-8,calc!F:F,0)),\"\")","v":""},{"$f":"IF(A266=\"\",\"\",VLOOKUP(A266,BD!B:C,2,0))","v":""}]
[{"$f":"IF(ROW()-8<=MAX(calc!F:F),INDEX(BD!B:B,MATCH(ROW()-8,calc!F:F,0)),\"\")","v":""},{"$f":"IF(A267=\"\",\"\",VLOOKUP(A267,BD!B:C,2,0))","v":""}]
[{"$f":"IF(ROW()-8<=MAX(calc!F:F),INDEX(BD!B:B,MATCH(ROW()-8,calc!F:F,0)),\"\")","v":""},{"$f":"IF(A268=\"\",\"\",VLOOKUP(A268,BD!B:C,2,0))","v":""}]
[{"$f":"IF(ROW()-8<=MAX(calc!F:F),INDEX(BD!B:B,MATCH(ROW()-8,calc!F:F,0)),\"\")","v":""},{"$f":"IF(A269=\"\",\"\",VLOOKUP(A269,BD!B:C,2,0))","v":""}]
[{"$f":"IF(ROW()-8<=MAX(calc!F:F),INDEX(BD!B:B,MATCH(ROW()-8,calc!F:F,0)),\"\")","v":""},{"$f":"IF(A270=\"\",\"\",VLOOKUP(A270,BD!B:C,2,0))","v":""}]
[{"$f":"IF(ROW()-8<=MAX(calc!F:F),INDEX(BD!B:B,MATCH(ROW()-8,calc!F:F,0)),\"\")","v":""},{"$f":"IF(A271=\"\",\"\",VLOOKUP(A271,BD!B:C,2,0))","v":""}]
[{"$f":"IF(ROW()-8<=MAX(calc!F:F),INDEX(BD!B:B,MATCH(ROW()-8,calc!F:F,0)),\"\")","v":""},{"$f":"IF(A272=\"\",\"\",VLOOKUP(A272,BD!B:C,2,0))","v":""}]
[{"$f":"IF(ROW()-8<=MAX(calc!F:F),INDEX(BD!B:B,MATCH(ROW()-8,calc!F:F,0)),\"\")","v":""},{"$f":"IF(A273=\"\",\"\",VLOOKUP(A273,BD!B:C,2,0))","v":""}]
[{"$f":"IF(ROW()-8<=MAX(calc!F:F),INDEX(BD!B:B,MATCH(ROW()-8,calc!F:F,0)),\"\")","v":""},{"$f":"IF(A274=\"\",\"\",VLOOKUP(A274,BD!B:C,2,0))","v":""}]
[{"$f":"IF(ROW()-8<=MAX(calc!F:F),INDEX(BD!B:B,MATCH(ROW()-8,calc!F:F,0)),\"\")","v":""},{"$f":"IF(A275=\"\",\"\",VLOOKUP(A275,BD!B:C,2,0))","v":""}]
[{"$f":"IF(ROW()-8<=MAX(calc!F:F),INDEX(BD!B:B,MATCH(ROW()-8,calc!F:F,0)),\"\")","v":""},{"$f":"IF(A276=\"\",\"\",VLOOKUP(A276,BD!B:C,2,0))","v":""}]
[{"$f":"IF(ROW()-8<=MAX(calc!F:F),INDEX(BD!B:B,MATCH(ROW()-8,calc!F:F,0)),\"\")","v":""},{"$f":"IF(A277=\"\",\"\",VLOOKUP(A277,BD!B:C,2,0))","v":""}]
[{"$f":"IF(ROW()-8<=MAX(calc!F:F),INDEX(BD!B:B,MATCH(ROW()-8,calc!F:F,0)),\"\")","v":""},{"$f":"IF(A278=\"\",\"\",VLOOKUP(A278,BD!B:C,2,0))","v":""}]
[{"$f":"IF(ROW()-8<=MAX(calc!F:F),INDEX(BD!B:B,MATCH(ROW()-8,calc!F:F,0)),\"\")","v":""},{"$f":"IF(A279=\"\",\"\",VLOOKUP(A279,BD!B:C,2,0))","v":""}]
[{"$f":"IF(ROW()-8<=MAX(calc!F:F),INDEX(BD!B:B,MATCH(ROW()-8,calc!F:F,0)),\"\")","v":""},{"$f":"IF(A280=\"\",\"\",VLOOKUP(A280,BD!B:C,2,0))","v":""}]
[{"$f":"IF(ROW()-8<=MAX(calc!F:F),INDEX(BD!B:B,MATCH(ROW()-8,calc!F:F,0)),\"\")","v":""},{"$f":"IF(A281=\"\",\"\",VLOOKUP(A281,BD!B:C,2,0))","v":""}]
[{"$f":"IF(ROW()-8<=MAX(calc!F:F),INDEX(BD!B:B,MATCH(ROW()-8,calc!F:F,0)),\"\")","v":""},{"$f":"IF(A282=\"\",\"\",VLOOKUP(A282,BD!B:C,2,0))","v":""}]
[{"$f":"IF(ROW()-8<=MAX(calc!F:F),INDEX(BD!B:B,MATCH(ROW()-8,calc!F:F,0)),\"\")","v":""},{"$f":"IF(A283=\"\",\"\",VLOOKUP(A283,BD!B:C,2,0))","v":""}]
[{"$f":"IF(ROW()-8<=MAX(calc!F:F),INDEX(BD!B:B,MATCH(ROW()-8,calc!F:F,0)),\"\")","v":""},{"$f":"IF(A284=\"\",\"\",VLOOKUP(A284,BD!B:C,2,0))","v":""}]
[{"$f":"IF(ROW()-8<=MAX(calc!F:F),INDEX(BD!B:B,MATCH(ROW()-8,calc!F:F,0)),\"\")","v":""},{"$f":"IF(A285=\"\",\"\",VLOOKUP(A285,BD!B:C,2,0))","v":""}]
[{"$f":"IF(ROW()-8<=MAX(calc!F:F),INDEX(BD!B:B,MATCH(ROW()-8,calc!F:F,0)),\"\")","v":""},{"$f":"IF(A286=\"\",\"\",VLOOKUP(A286,BD!B:C,2,0))","v":""}]
[{"$f":"IF(ROW()-8<=MAX(calc!F:F),INDEX(BD!B:B,MATCH(ROW()-8,calc!F:F,0)),\"\")","v":""},{"$f":"IF(A287=\"\",\"\",VLOOKUP(A287,BD!B:C,2,0))","v":""}]
[{"$f":"IF(ROW()-8<=MAX(calc!F:F),INDEX(BD!B:B,MATCH(ROW()-8,calc!F:F,0)),\"\")","v":""},{"$f":"IF(A288=\"\",\"\",VLOOKUP(A288,BD!B:C,2,0))","v":""}]
[{"$f":"IF(ROW()-8<=MAX(calc!F:F),INDEX(BD!B:B,MATCH(ROW()-8,calc!F:F,0)),\"\")","v":""},{"$f":"IF(A289=\"\",\"\",VLOOKUP(A289,BD!B:C,2,0))","v":""}]
[{"$f":"IF(ROW()-8<=MAX(calc!F:F),INDEX(BD!B:B,MATCH(ROW()-8,calc!F:F,0)),\"\")","v":""},{"$f":"IF(A290=\"\",\"\",VLOOKUP(A290,BD!B:C,2,0))","v":""}]
[{"$f":"IF(ROW()-8<=MAX(calc!F:F),INDEX(BD!B:B,MATCH(ROW()-8,calc!F:F,0)),\"\")","v":""},{"$f":"IF(A291=\"\",\"\",VLOOKUP(A291,BD!B:C,2,0))","v":""}]
[{"$f":"IF(ROW()-8<=MAX(calc!F:F),INDEX(BD!B:B,MATCH(ROW()-8,calc!F:F,0)),\"\")","v":""},{"$f":"IF(A292=\"\",\"\",VLOOKUP(A292,BD!B:C,2,0))","v":""}]
[{"$f":"IF(ROW()-8<=MAX(calc!F:F),INDEX(BD!B:B,MATCH(ROW()-8,calc!F:F,0)),\"\")","v":""},{"$f":"IF(A293=\"\",\"\",VLOOKUP(A293,BD!B:C,2,0))","v":""}]
[{"$f":"IF(ROW()-8<=MAX(calc!F:F),INDEX(BD!B:B,MATCH(ROW()-8,calc!F:F,0)),\"\")","v":""},{"$f":"IF(A294=\"\",\"\",VLOOKUP(A294,BD!B:C,2,0))","v":""}]
[{"$f":"IF(ROW()-8<=MAX(calc!F:F),INDEX(BD!B:B,MATCH(ROW()-8,calc!F:F,0)),\"\")","v":""},{"$f":"IF(A295=\"\",\"\",VLOOKUP(A295,BD!B:C,2,0))","v":""}]
[{"$f":"IF(ROW()-8<=MAX(calc!F:F),INDEX(BD!B:B,MATCH(ROW()-8,calc!F:F,0)),\"\")","v":""},{"$f":"IF(A296=\"\",\"\",VLOOKUP(A296,BD!B:C,2,0))","v":""}]
[{"$f":"IF(ROW()-8<=MAX(calc!F:F),INDEX(BD!B:B,MATCH(ROW()-8,calc!F:F,0)),\"\")","v":""},{"$f":"IF(A297=\"\",\"\",VLOOKUP(A297,BD!B:C,2,0))","v":""}]
[{"$f":"IF(ROW()-8<=MAX(calc!F:F),INDEX(BD!B:B,MATCH(ROW()-8,calc!F:F,0)),\"\")","v":""},{"$f":"IF(A298=\"\",\"\",VLOOKUP(A298,BD!B:C,2,0))","v":""}]
[{"$f":"IF(ROW()-8<=MAX(calc!F:F),INDEX(BD!B:B,MATCH(ROW()-8,calc!F:F,0)),\"\")","v":""},{"$f":"IF(A299=\"\",\"\",VLOOKUP(A299,BD!B:C,2,0))","v":""}]
[{"$f":"IF(ROW()-8<=MAX(calc!F:F),INDEX(BD!B:B,MATCH(ROW()-8,calc!F:F,0)),\"\")","v":""},{"$f":"IF(A300=\"\",\"\",VLOOKUP(A300,BD!B:C,2,0))","v":""}]
[{"$f":"IF(ROW()-8<=MAX(calc!F:F),INDEX(BD!B:B,MATCH(ROW()-8,calc!F:F,0)),\"\")","v":""},{"$f":"IF(A301=\"\",\"\",VLOOKUP(A301,BD!B:C,2,0))","v":""}]
[{"$f":"IF(ROW()-8<=MAX(calc!F:F),INDEX(BD!B:B,MATCH(ROW()-8,calc!F:F,0)),\"\")","v":""},{"$f":"IF(A302=\"\",\"\",VLOOKUP(A302,BD!B:C,2,0))","v":""}]
[{"$f":"IF(ROW()-8<=MAX(calc!F:F),INDEX(BD!B:B,MATCH(ROW()-8,calc!F:F,0)),\"\")","v":""},{"$f":"IF(A303=\"\",\"\",VLOOKUP(A303,BD!B:C,2,0))","v":""}]
[{"$f":"IF(ROW()-8<=MAX(calc!F:F),INDEX(BD!B:B,MATCH(ROW()-8,calc!F:F,0)),\"\")","v":""},{"$f":"IF(A304=\"\",\"\",VLOOKUP(A304,BD!B:C,2,0))","v":""}]
[{"$f":"IF(ROW()-8<=MAX(calc!F:F),INDEX(BD!B:B,MATCH(ROW()-8,calc!F:F,0)),\"\")","v":""},{"$f":"IF(A305=\"\",\"\",VLOOKUP(A305,BD!B:C,2,0))","v":""}]
[{"$f":"IF(ROW()-8<=MAX(calc!F:F),INDEX(BD!B:B,MATCH(ROW()-8,calc!F:F,0)),\"\")","v":""},{"$f":"IF(A306=\"\",\"\",VLOOKUP(A306,BD!B:C,2,0))","v":""}]
[{"$f":"IF(ROW()-8<=MAX(calc!F:F),INDEX(BD!B:B,MATCH(ROW()-8,calc!F:F,0)),\"\")","v":""},{"$f":"IF(A307=\"\",\"\",VLOOKUP(A307,BD!B:C,2,0))","v":""}]
[{"$f":"IF(ROW()-8<=MAX(calc!F:F),INDEX(BD!B:B,MATCH(ROW()-8,calc!F:F,0)),\"\")","v":""},{"$f":"IF(A308=\"\",\"\",VLOOKUP(A308,BD!B:C,2,0))","v":""}]
[{"$f":"IF(ROW()-8<=MAX(calc!F:F),INDEX(BD!B:B,MATCH(ROW()-8,calc!F:F,0)),\"\")","v":""},{"$f":"IF(A309=\"\",\"\",VLOOKUP(A309,BD!B:C,2,0))","v":""}]
[{"$f":"IF(ROW()-8<=MAX(calc!F:F),INDEX(BD!B:B,MATCH(ROW()-8,calc!F:F,0)),\"\")","v":""},{"$f":"IF(A310=\"\",\"\",VLOOKUP(A310,BD!B:C,2,0))","v":""}]
[{"$f":"IF(ROW()-8<=MAX(calc!F:F),INDEX(BD!B:B,MATCH(ROW()-8,calc!F:F,0)),\"\")","v":""},{"$f":"IF(A311=\"\",\"\",VLOOKUP(A311,BD!B:C,2,0))","v":""}]
[{"$f":"IF(ROW()-8<=MAX(calc!F:F),INDEX(BD!B:B,MATCH(ROW()-8,calc!F:F,0)),\"\")","v":""},{"$f":"IF(A312=\"\",\"\",VLOOKUP(A312,BD!B:C,2,0))","v":""}]
[{"$f":"IF(ROW()-8<=MAX(calc!F:F),INDEX(BD!B:B,MATCH(ROW()-8,calc!F:F,0)),\"\")","v":""},{"$f":"IF(A313=\"\",\"\",VLOOKUP(A313,BD!B:C,2,0))","v":""}]
[{"$f":"IF(ROW()-8<=MAX(calc!F:F),INDEX(BD!B:B,MATCH(ROW()-8,calc!F:F,0)),\"\")","v":""},{"$f":"IF(A314=\"\",\"\",VLOOKUP(A314,BD!B:C,2,0))","v":""}]
[{"$f":"IF(ROW()-8<=MAX(calc!F:F),INDEX(BD!B:B,MATCH(ROW()-8,calc!F:F,0)),\"\")","v":""},{"$f":"IF(A315=\"\",\"\",VLOOKUP(A315,BD!B:C,2,0))","v":""}]
[{"$f":"IF(ROW()-8<=MAX(calc!F:F),INDEX(BD!B:B,MATCH(ROW()-8,calc!F:F,0)),\"\")","v":""},{"$f":"IF(A316=\"\",\"\",VLOOKUP(A316,BD!B:C,2,0))","v":""}]
[{"$f":"IF(ROW()-8<=MAX(calc!F:F),INDEX(BD!B:B,MATCH(ROW()-8,calc!F:F,0)),\"\")","v":""},{"$f":"IF(A317=\"\",\"\",VLOOKUP(A317,BD!B:C,2,0))","v":""}]
[{"$f":"IF(ROW()-8<=MAX(calc!F:F),INDEX(BD!B:B,MATCH(ROW()-8,calc!F:F,0)),\"\")","v":""},{"$f":"IF(A318=\"\",\"\",VLOOKUP(A318,BD!B:C,2,0))","v":""}]
[{"$f":"IF(ROW()-8<=MAX(calc!F:F),INDEX(BD!B:B,MATCH(ROW()-8,calc!F:F,0)),\"\")","v":""},{"$f":"IF(A319=\"\",\"\",VLOOKUP(A319,BD!B:C,2,0))","v":""}]
[{"$f":"IF(ROW()-8<=MAX(calc!F:F),INDEX(BD!B:B,MATCH(ROW()-8,calc!F:F,0)),\"\")","v":""},{"$f":"IF(A320=\"\",\"\",VLOOKUP(A320,BD!B:C,2,0))","v":""}]
[{"$f":"IF(ROW()-8<=MAX(calc!F:F),INDEX(BD!B:B,MATCH(ROW()-8,calc!F:F,0)),\"\")","v":""},{"$f":"IF(A321=\"\",\"\",VLOOKUP(A321,BD!B:C,2,0))","v":""}]
[{"$f":"IF(ROW()-8<=MAX(calc!F:F),INDEX(BD!B:B,MATCH(ROW()-8,calc!F:F,0)),\"\")","v":""},{"$f":"IF(A322=\"\",\"\",VLOOKUP(A322,BD!B:C,2,0))","v":""}]
[{"$f":"IF(ROW()-8<=MAX(calc!F:F),INDEX(BD!B:B,MATCH(ROW()-8,calc!F:F,0)),\"\")","v":""},{"$f":"IF(A323=\"\",\"\",VLOOKUP(A323,BD!B:C,2,0))","v":""}]
[{"$f":"IF(ROW()-8<=MAX(calc!F:F),INDEX(BD!B:B,MATCH(ROW()-8,calc!F:F,0)),\"\")","v":""},{"$f":"IF(A324=\"\",\"\",VLOOKUP(A324,BD!B:C,2,0))","v":""}]
[{"$f":"IF(ROW()-8<=MAX(calc!F:F),INDEX(BD!B:B,MATCH(ROW()-8,calc!F:F,0)),\"\")","v":""},{"$f":"IF(A325=\"\",\"\",VLOOKUP(A325,BD!B:C,2,0))","v":""}]
[{"$f":"IF(ROW()-8<=MAX(calc!F:F),INDEX(BD!B:B,MATCH(ROW()-8,calc!F:F,0)),\"\")","v":""},{"$f":"IF(A326=\"\",\"\",VLOOKUP(A326,BD!B:C,2,0))","v":""}]
[{"$f":"IF(ROW()-8<=MAX(calc!F:F),INDEX(BD!B:B,MATCH(ROW()-8,calc!F:F,0)),\"\")","v":""},{"$f":"IF(A327=\"\",\"\",VLOOKUP(A327,BD!B:C,2,0))","v":""}]
[{"$f":"IF(ROW()-8<=MAX(calc!F:F),INDEX(BD!B:B,MATCH(ROW()-8,calc!F:F,0)),\"\")","v":""},{"$f":"IF(A328=\"\",\"\",VLOOKUP(A328,BD!B:C,2,0))","v":""}]
[{"$f":"IF(ROW()-8<=MAX(calc!F:F),INDEX(BD!B:B,MATCH(ROW()-8,calc!F:F,0)),\"\")","v":""},{"$f":"IF(A329=\"\",\"\",VLOOKUP(A329,BD!B:C,2,0))","v":""}]
[{"$f":"IF(ROW()-8<=MAX(calc!F:F),INDEX(BD!B:B,MATCH(ROW()-8,calc!F:F,0)),\"\")","v":""},{"$f":"IF(A330=\"\",\"\",VLOOKUP(A330,BD!B:C,2,0))","v":""}]
[{"$f":"IF(ROW()-8<=MAX(calc!F:F),INDEX(BD!B:B,MATCH(ROW()-8,calc!F:F,0)),\"\")","v":""},{"$f":"IF(A331=\"\",\"\",VLOOKUP(A331,BD!B:C,2,0))","v":""}]
[{"$f":"IF(ROW()-8<=MAX(calc!F:F),INDEX(BD!B:B,MATCH(ROW()-8,calc!F:F,0)),\"\")","v":""},{"$f":"IF(A332=\"\",\"\",VLOOKUP(A332,BD!B:C,2,0))","v":""}]
[{"$f":"IF(ROW()-8<=MAX(calc!F:F),INDEX(BD!B:B,MATCH(ROW()-8,calc!F:F,0)),\"\")","v":""},{"$f":"IF(A333=\"\",\"\",VLOOKUP(A333,BD!B:C,2,0))","v":""}]
[{"$f":"IF(ROW()-8<=MAX(calc!F:F),INDEX(BD!B:B,MATCH(ROW()-8,calc!F:F,0)),\"\")","v":""},{"$f":"IF(A334=\"\",\"\",VLOOKUP(A334,BD!B:C,2,0))","v":""}]
[{"$f":"IF(ROW()-8<=MAX(calc!F:F),INDEX(BD!B:B,MATCH(ROW()-8,calc!F:F,0)),\"\")","v":""},{"$f":"IF(A335=\"\",\"\",VLOOKUP(A335,BD!B:C,2,0))","v":""}]
[{"$f":"IF(ROW()-8<=MAX(calc!F:F),INDEX(BD!B:B,MATCH(ROW()-8,calc!F:F,0)),\"\")","v":""},{"$f":"IF(A336=\"\",\"\",VLOOKUP(A336,BD!B:C,2,0))","v":""}]
[{"$f":"IF(ROW()-8<=MAX(calc!F:F),INDEX(BD!B:B,MATCH(ROW()-8,calc!F:F,0)),\"\")","v":""},{"$f":"IF(A337=\"\",\"\",VLOOKUP(A337,BD!B:C,2,0))","v":""}]
[{"$f":"IF(ROW()-8<=MAX(calc!F:F),INDEX(BD!B:B,MATCH(ROW()-8,calc!F:F,0)),\"\")","v":""},{"$f":"IF(A338=\"\",\"\",VLOOKUP(A338,BD!B:C,2,0))","v":""}]
[{"$f":"IF(ROW()-8<=MAX(calc!F:F),INDEX(BD!B:B,MATCH(ROW()-8,calc!F:F,0)),\"\")","v":""},{"$f":"IF(A339=\"\",\"\",VLOOKUP(A339,BD!B:C,2,0))","v":""}]
[{"$f":"IF(ROW()-8<=MAX(calc!F:F),INDEX(BD!B:B,MATCH(ROW()-8,calc!F:F,0)),\"\")","v":""},{"$f":"IF(A340=\"\",\"\",VLOOKUP(A340,BD!B:C,2,0))","v":""}]
[{"$f":"IF(ROW()-8<=MAX(calc!F:F),INDEX(BD!B:B,MATCH(ROW()-8,calc!F:F,0)),\"\")","v":""},{"$f":"IF(A341=\"\",\"\",VLOOKUP(A341,BD!B:C,2,0))","v":""}]
[{"$f":"IF(ROW()-8<=MAX(calc!F:F),INDEX(BD!B:B,MATCH(ROW()-8,calc!F:F,0)),\"\")","v":""},{"$f":"IF(A342=\"\",\"\",VLOOKUP(A342,BD!B:C,2,0))","v":""}]
[{"$f":"IF(ROW()-8<=MAX(calc!F:F),INDEX(BD!B:B,MATCH(ROW()-8,calc!F:F,0)),\"\")","v":""},{"$f":"IF(A343=\"\",\"\",VLOOKUP(A343,BD!B:C,2,0))","v":""}]
[{"$f":"IF(ROW()-8<=MAX(calc!F:F),INDEX(BD!B:B,MATCH(ROW()-8,calc!F:F,0)),\"\")","v":""},{"$f":"IF(A344=\"\",\"\",VLOOKUP(A344,BD!B:C,2,0))","v":""}]
[{"$f":"IF(ROW()-8<=MAX(calc!F:F),INDEX(BD!B:B,MATCH(ROW()-8,calc!F:F,0)),\"\")","v":""},{"$f":"IF(A345=\"\",\"\",VLOOKUP(A345,BD!B:C,2,0))","v":""}]
[{"$f":"IF(ROW()-8<=MAX(calc!F:F),INDEX(BD!B:B,MATCH(ROW()-8,calc!F:F,0)),\"\")","v":""},{"$f":"IF(A346=\"\",\"\",VLOOKUP(A346,BD!B:C,2,0))","v":""}]
[{"$f":"IF(ROW()-8<=MAX(calc!F:F),INDEX(BD!B:B,MATCH(ROW()-8,calc!F:F,0)),\"\")","v":""},{"$f":"IF(A347=\"\",\"\",VLOOKUP(A347,BD!B:C,2,0))","v":""}]
[{"$f":"IF(ROW()-8<=MAX(calc!F:F),INDEX(BD!B:B,MATCH(ROW()-8,calc!F:F,0)),\"\")","v":""},{"$f":"IF(A348=\"\",\"\",VLOOKUP(A348,BD!B:C,2,0))","v":""}]
[{"$f":"IF(ROW()-8<=MAX(calc!F:F),INDEX(BD!B:B,MATCH(ROW()-8,calc!F:F,0)),\"\")","v":""},{"$f":"IF(A349=\"\",\"\",VLOOKUP(A349,BD!B:C,2,0))","v":""}]
[{"$f":"IF(ROW()-8<=MAX(calc!F:F),INDEX(BD!B:B,MATCH(ROW()-8,calc!F:F,0)),\"\")","v":""},{"$f":"IF(A350=\"\",\"\",VLOOKUP(A350,BD!B:C,2,0))","v":""}]
[{"$f":"IF(ROW()-8<=MAX(calc!F:F),INDEX(BD!B:B,MATCH(ROW()-8,calc!F:F,0)),\"\")","v":""},{"$f":"IF(A351=\"\",\"\",VLOOKUP(A351,BD!B:C,2,0))","v":""}]
[{"$f":"IF(ROW()-8<=MAX(calc!F:F),INDEX(BD!B:B,MATCH(ROW()-8,calc!F:F,0)),\"\")","v":""},{"$f":"IF(A352=\"\",\"\",VLOOKUP(A352,BD!B:C,2,0))","v":""}]
[{"$f":"IF(ROW()-8<=MAX(calc!F:F),INDEX(BD!B:B,MATCH(ROW()-8,calc!F:F,0)),\"\")","v":""},{"$f":"IF(A353=\"\",\"\",VLOOKUP(A353,BD!B:C,2,0))","v":""}]
[{"$f":"IF(ROW()-8<=MAX(calc!F:F),INDEX(BD!B:B,MATCH(ROW()-8,calc!F:F,0)),\"\")","v":""},{"$f":"IF(A354=\"\",\"\",VLOOKUP(A354,BD!B:C,2,0))","v":""}]
[{"$f":"IF(ROW()-8<=MAX(calc!F:F),INDEX(BD!B:B,MATCH(ROW()-8,calc!F:F,0)),\"\")","v":""},{"$f":"IF(A355=\"\",\"\",VLOOKUP(A355,BD!B:C,2,0))","v":""}]
[{"$f":"IF(ROW()-8<=MAX(calc!F:F),INDEX(BD!B:B,MATCH(ROW()-8,calc!F:F,0)),\"\")","v":""},{"$f":"IF(A356=\"\",\"\",VLOOKUP(A356,BD!B:C,2,0))","v":""}]
[{"$f":"IF(ROW()-8<=MAX(calc!F:F),INDEX(BD!B:B,MATCH(ROW()-8,calc!F:F,0)),\"\")","v":""},{"$f":"IF(A357=\"\",\"\",VLOOKUP(A357,BD!B:C,2,0))","v":""}]
[{"$f":"IF(ROW()-8<=MAX(calc!F:F),INDEX(BD!B:B,MATCH(ROW()-8,calc!F:F,0)),\"\")","v":""},{"$f":"IF(A358=\"\",\"\",VLOOKUP(A358,BD!B:C,2,0))","v":""}]
[{"$f":"IF(ROW()-8<=MAX(calc!F:F),INDEX(BD!B:B,MATCH(ROW()-8,calc!F:F,0)),\"\")","v":""},{"$f":"IF(A359=\"\",\"\",VLOOKUP(A359,BD!B:C,2,0))","v":""}]
[{"$f":"IF(ROW()-8<=MAX(calc!F:F),INDEX(BD!B:B,MATCH(ROW()-8,calc!F:F,0)),\"\")","v":""},{"$f":"IF(A360=\"\",\"\",VLOOKUP(A360,BD!B:C,2,0))","v":""}]
[{"$f":"IF(ROW()-8<=MAX(calc!F:F),INDEX(BD!B:B,MATCH(ROW()-8,calc!F:F,0)),\"\")","v":""},{"$f":"IF(A361=\"\",\"\",VLOOKUP(A361,BD!B:C,2,0))","v":""}]
[{"$f":"IF(ROW()-8<=MAX(calc!F:F),INDEX(BD!B:B,MATCH(ROW()-8,calc!F:F,0)),\"\")","v":""},{"$f":"IF(A362=\"\",\"\",VLOOKUP(A362,BD!B:C,2,0))","v":""}]
[{"$f":"IF(ROW()-8<=MAX(calc!F:F),INDEX(BD!B:B,MATCH(ROW()-8,calc!F:F,0)),\"\")","v":""},{"$f":"IF(A363=\"\",\"\",VLOOKUP(A363,BD!B:C,2,0))","v":""}]
[{"$f":"IF(ROW()-8<=MAX(calc!F:F),INDEX(BD!B:B,MATCH(ROW()-8,calc!F:F,0)),\"\")","v":""},{"$f":"IF(A364=\"\",\"\",VLOOKUP(A364,BD!B:C,2,0))","v":""}]
[{"$f":"IF(ROW()-8<=MAX(calc!F:F),INDEX(BD!B:B,MATCH(ROW()-8,calc!F:F,0)),\"\")","v":""},{"$f":"IF(A365=\"\",\"\",VLOOKUP(A365,BD!B:C,2,0))","v":""}]
[{"$f":"IF(ROW()-8<=MAX(calc!F:F),INDEX(BD!B:B,MATCH(ROW()-8,calc!F:F,0)),\"\")","v":""},{"$f":"IF(A366=\"\",\"\",VLOOKUP(A366,BD!B:C,2,0))","v":""}]
[{"$f":"IF(ROW()-8<=MAX(calc!F:F),INDEX(BD!B:B,MATCH(ROW()-8,calc!F:F,0)),\"\")","v":""},{"$f":"IF(A367=\"\",\"\",VLOOKUP(A367,BD!B:C,2,0))","v":""}]
[{"$f":"IF(ROW()-8<=MAX(calc!F:F),INDEX(BD!B:B,MATCH(ROW()-8,calc!F:F,0)),\"\")","v":""},{"$f":"IF(A368=\"\",\"\",VLOOKUP(A368,BD!B:C,2,0))","v":""}]
[{"$f":"IF(ROW()-8<=MAX(calc!F:F),INDEX(BD!B:B,MATCH(ROW()-8,calc!F:F,0)),\"\")","v":""},{"$f":"IF(A369=\"\",\"\",VLOOKUP(A369,BD!B:C,2,0))","v":""}]
[{"$f":"IF(ROW()-8<=MAX(calc!F:F),INDEX(BD!B:B,MATCH(ROW()-8,calc!F:F,0)),\"\")","v":""},{"$f":"IF(A370=\"\",\"\",VLOOKUP(A370,BD!B:C,2,0))","v":""}]
[{"$f":"IF(ROW()-8<=MAX(calc!F:F),INDEX(BD!B:B,MATCH(ROW()-8,calc!F:F,0)),\"\")","v":""},{"$f":"IF(A371=\"\",\"\",VLOOKUP(A371,BD!B:C,2,0))","v":""}]
[{"$f":"IF(ROW()-8<=MAX(calc!F:F),INDEX(BD!B:B,MATCH(ROW()-8,calc!F:F,0)),\"\")","v":""},{"$f":"IF(A372=\"\",\"\",VLOOKUP(A372,BD!B:C,2,0))","v":""}]
[{"$f":"IF(ROW()-8<=MAX(calc!F:F),INDEX(BD!B:B,MATCH(ROW()-8,calc!F:F,0)),\"\")","v":""},{"$f":"IF(A373=\"\",\"\",VLOOKUP(A373,BD!B:C,2,0))","v":""}]
[{"$f":"IF(ROW()-8<=MAX(calc!F:F),INDEX(BD!B:B,MATCH(ROW()-8,calc!F:F,0)),\"\")","v":""},{"$f":"IF(A374=\"\",\"\",VLOOKUP(A374,BD!B:C,2,0))","v":""}]
[{"$f":"IF(ROW()-8<=MAX(calc!F:F),INDEX(BD!B:B,MATCH(ROW()-8,calc!F:F,0)),\"\")","v":""},{"$f":"IF(A375=\"\",\"\",VLOOKUP(A375,BD!B:C,2,0))","v":""}]
[{"$f":"IF(ROW()-8<=MAX(calc!F:F),INDEX(BD!B:B,MATCH(ROW()-8,calc!F:F,0)),\"\")","v":""},{"$f":"IF(A376=\"\",\"\",VLOOKUP(A376,BD!B:C,2,0))","v":""}]
[{"$f":"IF(ROW()-8<=MAX(calc!F:F),INDEX(BD!B:B,MATCH(ROW()-8,calc!F:F,0)),\"\")","v":""},{"$f":"IF(A377=\"\",\"\",VLOOKUP(A377,BD!B:C,2,0))","v":""}]
[{"$f":"IF(ROW()-8<=MAX(calc!F:F),INDEX(BD!B:B,MATCH(ROW()-8,calc!F:F,0)),\"\")","v":""},{"$f":"IF(A378=\"\",\"\",VLOOKUP(A378,BD!B:C,2,0))","v":""}]
[{"$f":"IF(ROW()-8<=MAX(calc!F:F),INDEX(BD!B:B,MATCH(ROW()-8,calc!F:F,0)),\"\")","v":""},{"$f":"IF(A379=\"\",\"\",VLOOKUP(A379,BD!B:C,2,0))","v":""}]
[{"$f":"IF(ROW()-8<=MAX(calc!F:F),INDEX(BD!B:B,MATCH(ROW()-8,calc!F:F,0)),\"\")","v":""},{"$f":"IF(A380=\"\",\"\",VLOOKUP(A380,BD!B:C,2,0))","v":""}]
[{"$f":"IF(ROW()-8<=MAX(calc!F:F),INDEX(BD!B:B,MATCH(ROW()-8,calc!F:F,0)),\"\")","v":""},{"$f":"IF(A381=\"\",\"\",VLOOKUP(A381,BD!B:C,2,0))","v":""}]
[{"$f":"IF(ROW()-8<=MAX(calc!F:F),INDEX(BD!B:B,MATCH(ROW()-8,calc!F:F,0)),\"\")","v":""},{"$f":"IF(A382=\"\",\"\",VLOOKUP(A382,BD!B:C,2,0))","v":""}]
[{"$f":"IF(ROW()-8<=MAX(calc!F:F),INDEX(BD!B:B,MATCH(ROW()-8,calc!F:F,0)),\"\")","v":""},{"$f":"IF(A383=\"\",\"\",VLOOKUP(A383,BD!B:C,2,0))","v":""}]
[{"$f":"IF(ROW()-8<=MAX(calc!F:F),INDEX(BD!B:B,MATCH(ROW()-8,calc!F:F,0)),\"\")","v":""},{"$f":"IF(A384=\"\",\"\",VLOOKUP(A384,BD!B:C,2,0))","v":""}]
[{"$f":"IF(ROW()-8<=MAX(calc!F:F),INDEX(BD!B:B,MATCH(ROW()-8,calc!F:F,0)),\"\")","v":""},{"$f":"IF(A385=\"\",\"\",VLOOKUP(A385,BD!B:C,2,0))","v":""}]
[{"$f":"IF(ROW()-8<=MAX(calc!F:F),INDEX(BD!B:B,MATCH(ROW()-8,calc!F:F,0)),\"\")","v":""},{"$f":"IF(A386=\"\",\"\",VLOOKUP(A386,BD!B:C,2,0))","v":""}]
[{"$f":"IF(ROW()-8<=MAX(calc!F:F),INDEX(BD!B:B,MATCH(ROW()-8,calc!F:F,0)),\"\")","v":""},{"$f":"IF(A387=\"\",\"\",VLOOKUP(A387,BD!B:C,2,0))","v":""}]
[{"$f":"IF(ROW()-8<=MAX(calc!F:F),INDEX(BD!B:B,MATCH(ROW()-8,calc!F:F,0)),\"\")","v":""},{"$f":"IF(A388=\"\",\"\",VLOOKUP(A388,BD!B:C,2,0))","v":""}]
[{"$f":"IF(ROW()-8<=MAX(calc!F:F),INDEX(BD!B:B,MATCH(ROW()-8,calc!F:F,0)),\"\")","v":""},{"$f":"IF(A389=\"\",\"\",VLOOKUP(A389,BD!B:C,2,0))","v":""}]
[{"$f":"IF(ROW()-8<=MAX(calc!F:F),INDEX(BD!B:B,MATCH(ROW()-8,calc!F:F,0)),\"\")","v":""},{"$f":"IF(A390=\"\",\"\",VLOOKUP(A390,BD!B:C,2,0))","v":""}]
[{"$f":"IF(ROW()-8<=MAX(calc!F:F),INDEX(BD!B:B,MATCH(ROW()-8,calc!F:F,0)),\"\")","v":""},{"$f":"IF(A391=\"\",\"\",VLOOKUP(A391,BD!B:C,2,0))","v":""}]
[{"$f":"IF(ROW()-8<=MAX(calc!F:F),INDEX(BD!B:B,MATCH(ROW()-8,calc!F:F,0)),\"\")","v":""},{"$f":"IF(A392=\"\",\"\",VLOOKUP(A392,BD!B:C,2,0))","v":""}]
[{"$f":"IF(ROW()-8<=MAX(calc!F:F),INDEX(BD!B:B,MATCH(ROW()-8,calc!F:F,0)),\"\")","v":""},{"$f":"IF(A393=\"\",\"\",VLOOKUP(A393,BD!B:C,2,0))","v":""}]
[{"$f":"IF(ROW()-8<=MAX(calc!F:F),INDEX(BD!B:B,MATCH(ROW()-8,calc!F:F,0)),\"\")","v":""},{"$f":"IF(A394=\"\",\"\",VLOOKUP(A394,BD!B:C,2,0))","v":""}]
[{"$f":"IF(ROW()-8<=MAX(calc!F:F),INDEX(BD!B:B,MATCH(ROW()-8,calc!F:F,0)),\"\")","v":""},{"$f":"IF(A395=\"\",\"\",VLOOKUP(A395,BD!B:C,2,0))","v":""}]
[{"$f":"IF(ROW()-8<=MAX(calc!F:F),INDEX(BD!B:B,MATCH(ROW()-8,calc!F:F,0)),\"\")","v":""},{"$f":"IF(A396=\"\",\"\",VLOOKUP(A396,BD!B:C,2,0))","v":""}]
[{"$f":"IF(ROW()-8<=MAX(calc!F:F),INDEX(BD!B:B,MATCH(ROW()-8,calc!F:F,0)),\"\")","v":""},{"$f":"IF(A397=\"\",\"\",VLOOKUP(A397,BD!B:C,2,0))","v":""}]
[{"$f":"IF(ROW()-8<=MAX(calc!F:F),INDEX(BD!B:B,MATCH(ROW()-8,calc!F:F,0)),\"\")","v":""},{"$f":"IF(A398=\"\",\"\",VLOOKUP(A398,BD!B:C,2,0))","v":""}]
[{"$f":"IF(ROW()-8<=MAX(calc!F:F),INDEX(BD!B:B,MATCH(ROW()-8,calc!F:F,0)),\"\")","v":""},{"$f":"IF(A399=\"\",\"\",VLOOKUP(A399,BD!B:C,2,0))","v":""}]
[{"$f":"IF(ROW()-8<=MAX(calc!F:F),INDEX(BD!B:B,MATCH(ROW()-8,calc!F:F,0)),\"\")","v":""},{"$f":"IF(A400=\"\",\"\",VLOOKUP(A400,BD!B:C,2,0))","v":""}]
[{"$f":"IF(ROW()-8<=MAX(calc!F:F),INDEX(BD!B:B,MATCH(ROW()-8,calc!F:F,0)),\"\")","v":""},{"$f":"IF(A401=\"\",\"\",VLOOKUP(A401,BD!B:C,2,0))","v":""}]
[{"$f":"IF(ROW()-8<=MAX(calc!F:F),INDEX(BD!B:B,MATCH(ROW()-8,calc!F:F,0)),\"\")","v":""},{"$f":"IF(A402=\"\",\"\",VLOOKUP(A402,BD!B:C,2,0))","v":""}]
[{"$f":"IF(ROW()-8<=MAX(calc!F:F),INDEX(BD!B:B,MATCH(ROW()-8,calc!F:F,0)),\"\")","v":""},{"$f":"IF(A403=\"\",\"\",VLOOKUP(A403,BD!B:C,2,0))","v":""}]
[{"$f":"IF(ROW()-8<=MAX(calc!F:F),INDEX(BD!B:B,MATCH(ROW()-8,calc!F:F,0)),\"\")","v":""},{"$f":"IF(A404=\"\",\"\",VLOOKUP(A404,BD!B:C,2,0))","v":""}]
[{"$f":"IF(ROW()-8<=MAX(calc!F:F),INDEX(BD!B:B,MATCH(ROW()-8,calc!F:F,0)),\"\")","v":""},{"$f":"IF(A405=\"\",\"\",VLOOKUP(A405,BD!B:C,2,0))","v":""}]
[{"$f":"IF(ROW()-8<=MAX(calc!F:F),INDEX(BD!B:B,MATCH(ROW()-8,calc!F:F,0)),\"\")","v":""},{"$f":"IF(A406=\"\",\"\",VLOOKUP(A406,BD!B:C,2,0))","v":""}]
[{"$f":"IF(ROW()-8<=MAX(calc!F:F),INDEX(BD!B:B,MATCH(ROW()-8,calc!F:F,0)),\"\")","v":""},{"$f":"IF(A407=\"\",\"\",VLOOKUP(A407,BD!B:C,2,0))","v":""}]
[{"$f":"IF(ROW()-8<=MAX(calc!F:F),INDEX(BD!B:B,MATCH(ROW()-8,calc!F:F,0)),\"\")","v":""},{"$f":"IF(A408=\"\",\"\",VLOOKUP(A408,BD!B:C,2,0))","v":""}]
[{"$f":"IF(ROW()-8<=MAX(calc!F:F),INDEX(BD!B:B,MATCH(ROW()-8,calc!F:F,0)),\"\")","v":""},{"$f":"IF(A409=\"\",\"\",VLOOKUP(A409,BD!B:C,2,0))","v":""}]
[{"$f":"IF(ROW()-8<=MAX(calc!F:F),INDEX(BD!B:B,MATCH(ROW()-8,calc!F:F,0)),\"\")","v":""},{"$f":"IF(A410=\"\",\"\",VLOOKUP(A410,BD!B:C,2,0))","v":""}]
[{"$f":"IF(ROW()-8<=MAX(calc!F:F),INDEX(BD!B:B,MATCH(ROW()-8,calc!F:F,0)),\"\")","v":""},{"$f":"IF(A411=\"\",\"\",VLOOKUP(A411,BD!B:C,2,0))","v":""}]
[{"$f":"IF(ROW()-8<=MAX(calc!F:F),INDEX(BD!B:B,MATCH(ROW()-8,calc!F:F,0)),\"\")","v":""},{"$f":"IF(A412=\"\",\"\",VLOOKUP(A412,BD!B:C,2,0))","v":""}]
[{"$f":"IF(ROW()-8<=MAX(calc!F:F),INDEX(BD!B:B,MATCH(ROW()-8,calc!F:F,0)),\"\")","v":""},{"$f":"IF(A413=\"\",\"\",VLOOKUP(A413,BD!B:C,2,0))","v":""}]
[{"$f":"IF(ROW()-8<=MAX(calc!F:F),INDEX(BD!B:B,MATCH(ROW()-8,calc!F:F,0)),\"\")","v":""},{"$f":"IF(A414=\"\",\"\",VLOOKUP(A414,BD!B:C,2,0))","v":""}]
[{"$f":"IF(ROW()-8<=MAX(calc!F:F),INDEX(BD!B:B,MATCH(ROW()-8,calc!F:F,0)),\"\")","v":""},{"$f":"IF(A415=\"\",\"\",VLOOKUP(A415,BD!B:C,2,0))","v":""}]
[{"$f":"IF(ROW()-8<=MAX(calc!F:F),INDEX(BD!B:B,MATCH(ROW()-8,calc!F:F,0)),\"\")","v":""},{"$f":"IF(A416=\"\",\"\",VLOOKUP(A416,BD!B:C,2,0))","v":""}]
[{"$f":"IF(ROW()-8<=MAX(calc!F:F),INDEX(BD!B:B,MATCH(ROW()-8,calc!F:F,0)),\"\")","v":""},{"$f":"IF(A417=\"\",\"\",VLOOKUP(A417,BD!B:C,2,0))","v":""}]
[{"$f":"IF(ROW()-8<=MAX(calc!F:F),INDEX(BD!B:B,MATCH(ROW()-8,calc!F:F,0)),\"\")","v":""},{"$f":"IF(A418=\"\",\"\",VLOOKUP(A418,BD!B:C,2,0))","v":""}]
[{"$f":"IF(ROW()-8<=MAX(calc!F:F),INDEX(BD!B:B,MATCH(ROW()-8,calc!F:F,0)),\"\")","v":""},{"$f":"IF(A419=\"\",\"\",VLOOKUP(A419,BD!B:C,2,0))","v":""}]
[{"$f":"IF(ROW()-8<=MAX(calc!F:F),INDEX(BD!B:B,MATCH(ROW()-8,calc!F:F,0)),\"\")","v":""},{"$f":"IF(A420=\"\",\"\",VLOOKUP(A420,BD!B:C,2,0))","v":""}]
[{"$f":"IF(ROW()-8<=MAX(calc!F:F),INDEX(BD!B:B,MATCH(ROW()-8,calc!F:F,0)),\"\")","v":""},{"$f":"IF(A421=\"\",\"\",VLOOKUP(A421,BD!B:C,2,0))","v":""}]
[{"$f":"IF(ROW()-8<=MAX(calc!F:F),INDEX(BD!B:B,MATCH(ROW()-8,calc!F:F,0)),\"\")","v":""},{"$f":"IF(A422=\"\",\"\",VLOOKUP(A422,BD!B:C,2,0))","v":""}]
[{"$f":"IF(ROW()-8<=MAX(calc!F:F),INDEX(BD!B:B,MATCH(ROW()-8,calc!F:F,0)),\"\")","v":""},{"$f":"IF(A423=\"\",\"\",VLOOKUP(A423,BD!B:C,2,0))","v":""}]
[{"$f":"IF(ROW()-8<=MAX(calc!F:F),INDEX(BD!B:B,MATCH(ROW()-8,calc!F:F,0)),\"\")","v":""},{"$f":"IF(A424=\"\",\"\",VLOOKUP(A424,BD!B:C,2,0))","v":""}]
[{"$f":"IF(ROW()-8<=MAX(calc!F:F),INDEX(BD!B:B,MATCH(ROW()-8,calc!F:F,0)),\"\")","v":""},{"$f":"IF(A425=\"\",\"\",VLOOKUP(A425,BD!B:C,2,0))","v":""}]
[{"$f":"IF(ROW()-8<=MAX(calc!F:F),INDEX(BD!B:B,MATCH(ROW()-8,calc!F:F,0)),\"\")","v":""},{"$f":"IF(A426=\"\",\"\",VLOOKUP(A426,BD!B:C,2,0))","v":""}]
[{"$f":"IF(ROW()-8<=MAX(calc!F:F),INDEX(BD!B:B,MATCH(ROW()-8,calc!F:F,0)),\"\")","v":""},{"$f":"IF(A427=\"\",\"\",VLOOKUP(A427,BD!B:C,2,0))","v":""}]
[{"$f":"IF(ROW()-8<=MAX(calc!F:F),INDEX(BD!B:B,MATCH(ROW()-8,calc!F:F,0)),\"\")","v":""},{"$f":"IF(A428=\"\",\"\",VLOOKUP(A428,BD!B:C,2,0))","v":""}]
[{"$f":"IF(ROW()-8<=MAX(calc!F:F),INDEX(BD!B:B,MATCH(ROW()-8,calc!F:F,0)),\"\")","v":""},{"$f":"IF(A429=\"\",\"\",VLOOKUP(A429,BD!B:C,2,0))","v":""}]
[{"$f":"IF(ROW()-8<=MAX(calc!F:F),INDEX(BD!B:B,MATCH(ROW()-8,calc!F:F,0)),\"\")","v":""},{"$f":"IF(A430=\"\",\"\",VLOOKUP(A430,BD!B:C,2,0))","v":""}]
[{"$f":"IF(ROW()-8<=MAX(calc!F:F),INDEX(BD!B:B,MATCH(ROW()-8,calc!F:F,0)),\"\")","v":""},{"$f":"IF(A431=\"\",\"\",VLOOKUP(A431,BD!B:C,2,0))","v":""}]
[{"$f":"IF(ROW()-8<=MAX(calc!F:F),INDEX(BD!B:B,MATCH(ROW()-8,calc!F:F,0)),\"\")","v":""},{"$f":"IF(A432=\"\",\"\",VLOOKUP(A432,BD!B:C,2,0))","v":""}]
[{"$f":"IF(ROW()-8<=MAX(calc!F:F),INDEX(BD!B:B,MATCH(ROW()-8,calc!F:F,0)),\"\")","v":""},{"$f":"IF(A433=\"\",\"\",VLOOKUP(A433,BD!B:C,2,0))","v":""}]
[{"$f":"IF(ROW()-8<=MAX(calc!F:F),INDEX(BD!B:B,MATCH(ROW()-8,calc!F:F,0)),\"\")","v":""},{"$f":"IF(A434=\"\",\"\",VLOOKUP(A434,BD!B:C,2,0))","v":""}]
[{"$f":"IF(ROW()-8<=MAX(calc!F:F),INDEX(BD!B:B,MATCH(ROW()-8,calc!F:F,0)),\"\")","v":""},{"$f":"IF(A435=\"\",\"\",VLOOKUP(A435,BD!B:C,2,0))","v":""}]
[{"$f":"IF(ROW()-8<=MAX(calc!F:F),INDEX(BD!B:B,MATCH(ROW()-8,calc!F:F,0)),\"\")","v":""},{"$f":"IF(A436=\"\",\"\",VLOOKUP(A436,BD!B:C,2,0))","v":""}]
[{"$f":"IF(ROW()-8<=MAX(calc!F:F),INDEX(BD!B:B,MATCH(ROW()-8,calc!F:F,0)),\"\")","v":""},{"$f":"IF(A437=\"\",\"\",VLOOKUP(A437,BD!B:C,2,0))","v":""}]
[{"$f":"IF(ROW()-8<=MAX(calc!F:F),INDEX(BD!B:B,MATCH(ROW()-8,calc!F:F,0)),\"\")","v":""},{"$f":"IF(A438=\"\",\"\",VLOOKUP(A438,BD!B:C,2,0))","v":""}]
[{"$f":"IF(ROW()-8<=MAX(calc!F:F),INDEX(BD!B:B,MATCH(ROW()-8,calc!F:F,0)),\"\")","v":""},{"$f":"IF(A439=\"\",\"\",VLOOKUP(A439,BD!B:C,2,0))","v":""}]
[{"$f":"IF(ROW()-8<=MAX(calc!F:F),INDEX(BD!B:B,MATCH(ROW()-8,calc!F:F,0)),\"\")","v":""},{"$f":"IF(A440=\"\",\"\",VLOOKUP(A440,BD!B:C,2,0))","v":""}]
[{"$f":"IF(ROW()-8<=MAX(calc!F:F),INDEX(BD!B:B,MATCH(ROW()-8,calc!F:F,0)),\"\")","v":""},{"$f":"IF(A441=\"\",\"\",VLOOKUP(A441,BD!B:C,2,0))","v":""}]
[{"$f":"IF(ROW()-8<=MAX(calc!F:F),INDEX(BD!B:B,MATCH(ROW()-8,calc!F:F,0)),\"\")","v":""},{"$f":"IF(A442=\"\",\"\",VLOOKUP(A442,BD!B:C,2,0))","v":""}]
[{"$f":"IF(ROW()-8<=MAX(calc!F:F),INDEX(BD!B:B,MATCH(ROW()-8,calc!F:F,0)),\"\")","v":""},{"$f":"IF(A443=\"\",\"\",VLOOKUP(A443,BD!B:C,2,0))","v":""}]
[{"$f":"IF(ROW()-8<=MAX(calc!F:F),INDEX(BD!B:B,MATCH(ROW()-8,calc!F:F,0)),\"\")","v":""},{"$f":"IF(A444=\"\",\"\",VLOOKUP(A444,BD!B:C,2,0))","v":""}]
[{"$f":"IF(ROW()-8<=MAX(calc!F:F),INDEX(BD!B:B,MATCH(ROW()-8,calc!F:F,0)),\"\")","v":""},{"$f":"IF(A445=\"\",\"\",VLOOKUP(A445,BD!B:C,2,0))","v":""}]
[{"$f":"IF(ROW()-8<=MAX(calc!F:F),INDEX(BD!B:B,MATCH(ROW()-8,calc!F:F,0)),\"\")","v":""},{"$f":"IF(A446=\"\",\"\",VLOOKUP(A446,BD!B:C,2,0))","v":""}]
[{"$f":"IF(ROW()-8<=MAX(calc!F:F),INDEX(BD!B:B,MATCH(ROW()-8,calc!F:F,0)),\"\")","v":""},{"$f":"IF(A447=\"\",\"\",VLOOKUP(A447,BD!B:C,2,0))","v":""}]
[{"$f":"IF(ROW()-8<=MAX(calc!F:F),INDEX(BD!B:B,MATCH(ROW()-8,calc!F:F,0)),\"\")","v":""},{"$f":"IF(A448=\"\",\"\",VLOOKUP(A448,BD!B:C,2,0))","v":""}]
[{"$f":"IF(ROW()-8<=MAX(calc!F:F),INDEX(BD!B:B,MATCH(ROW()-8,calc!F:F,0)),\"\")","v":""},{"$f":"IF(A449=\"\",\"\",VLOOKUP(A449,BD!B:C,2,0))","v":""}]
[{"$f":"IF(ROW()-8<=MAX(calc!F:F),INDEX(BD!B:B,MATCH(ROW()-8,calc!F:F,0)),\"\")","v":""},{"$f":"IF(A450=\"\",\"\",VLOOKUP(A450,BD!B:C,2,0))","v":""}]
[{"$f":"IF(ROW()-8<=MAX(calc!F:F),INDEX(BD!B:B,MATCH(ROW()-8,calc!F:F,0)),\"\")","v":""},{"$f":"IF(A451=\"\",\"\",VLOOKUP(A451,BD!B:C,2,0))","v":""}]
[{"$f":"IF(ROW()-8<=MAX(calc!F:F),INDEX(BD!B:B,MATCH(ROW()-8,calc!F:F,0)),\"\")","v":""},{"$f":"IF(A452=\"\",\"\",VLOOKUP(A452,BD!B:C,2,0))","v":""}]
[{"$f":"IF(ROW()-8<=MAX(calc!F:F),INDEX(BD!B:B,MATCH(ROW()-8,calc!F:F,0)),\"\")","v":""},{"$f":"IF(A453=\"\",\"\",VLOOKUP(A453,BD!B:C,2,0))","v":""}]
[{"$f":"IF(ROW()-8<=MAX(calc!F:F),INDEX(BD!B:B,MATCH(ROW()-8,calc!F:F,0)),\"\")","v":""},{"$f":"IF(A454=\"\",\"\",VLOOKUP(A454,BD!B:C,2,0))","v":""}]
[{"$f":"IF(ROW()-8<=MAX(calc!F:F),INDEX(BD!B:B,MATCH(ROW()-8,calc!F:F,0)),\"\")","v":""},{"$f":"IF(A455=\"\",\"\",VLOOKUP(A455,BD!B:C,2,0))","v":""}]
[{"$f":"IF(ROW()-8<=MAX(calc!F:F),INDEX(BD!B:B,MATCH(ROW()-8,calc!F:F,0)),\"\")","v":""},{"$f":"IF(A456=\"\",\"\",VLOOKUP(A456,BD!B:C,2,0))","v":""}]
[{"$f":"IF(ROW()-8<=MAX(calc!F:F),INDEX(BD!B:B,MATCH(ROW()-8,calc!F:F,0)),\"\")","v":""},{"$f":"IF(A457=\"\",\"\",VLOOKUP(A457,BD!B:C,2,0))","v":""}]
[{"$f":"IF(ROW()-8<=MAX(calc!F:F),INDEX(BD!B:B,MATCH(ROW()-8,calc!F:F,0)),\"\")","v":""},{"$f":"IF(A458=\"\",\"\",VLOOKUP(A458,BD!B:C,2,0))","v":""}]
[{"$f":"IF(ROW()-8<=MAX(calc!F:F),INDEX(BD!B:B,MATCH(ROW()-8,calc!F:F,0)),\"\")","v":""},{"$f":"IF(A459=\"\",\"\",VLOOKUP(A459,BD!B:C,2,0))","v":""}]
[{"$f":"IF(ROW()-8<=MAX(calc!F:F),INDEX(BD!B:B,MATCH(ROW()-8,calc!F:F,0)),\"\")","v":""},{"$f":"IF(A460=\"\",\"\",VLOOKUP(A460,BD!B:C,2,0))","v":""}]
[{"$f":"IF(ROW()-8<=MAX(calc!F:F),INDEX(BD!B:B,MATCH(ROW()-8,calc!F:F,0)),\"\")","v":""},{"$f":"IF(A461=\"\",\"\",VLOOKUP(A461,BD!B:C,2,0))","v":""}]
[{"$f":"IF(ROW()-8<=MAX(calc!F:F),INDEX(BD!B:B,MATCH(ROW()-8,calc!F:F,0)),\"\")","v":""},{"$f":"IF(A462=\"\",\"\",VLOOKUP(A462,BD!B:C,2,0))","v":""}]
[{"$f":"IF(ROW()-8<=MAX(calc!F:F),INDEX(BD!B:B,MATCH(ROW()-8,calc!F:F,0)),\"\")","v":""},{"$f":"IF(A463=\"\",\"\",VLOOKUP(A463,BD!B:C,2,0))","v":""}]
[{"$f":"IF(ROW()-8<=MAX(calc!F:F),INDEX(BD!B:B,MATCH(ROW()-8,calc!F:F,0)),\"\")","v":""},{"$f":"IF(A464=\"\",\"\",VLOOKUP(A464,BD!B:C,2,0))","v":""}]
[{"$f":"IF(ROW()-8<=MAX(calc!F:F),INDEX(BD!B:B,MATCH(ROW()-8,calc!F:F,0)),\"\")","v":""},{"$f":"IF(A465=\"\",\"\",VLOOKUP(A465,BD!B:C,2,0))","v":""}]
[{"$f":"IF(ROW()-8<=MAX(calc!F:F),INDEX(BD!B:B,MATCH(ROW()-8,calc!F:F,0)),\"\")","v":""},{"$f":"IF(A466=\"\",\"\",VLOOKUP(A466,BD!B:C,2,0))","v":""}]
[{"$f":"IF(ROW()-8<=MAX(calc!F:F),INDEX(BD!B:B,MATCH(ROW()-8,calc!F:F,0)),\"\")","v":""},{"$f":"IF(A467=\"\",\"\",VLOOKUP(A467,BD!B:C,2,0))","v":""}]
[{"$f":"IF(ROW()-8<=MAX(calc!F:F),INDEX(BD!B:B,MATCH(ROW()-8,calc!F:F,0)),\"\")","v":""},{"$f":"IF(A468=\"\",\"\",VLOOKUP(A468,BD!B:C,2,0))","v":""}]
[{"$f":"IF(ROW()-8<=MAX(calc!F:F),INDEX(BD!B:B,MATCH(ROW()-8,calc!F:F,0)),\"\")","v":""},{"$f":"IF(A469=\"\",\"\",VLOOKUP(A469,BD!B:C,2,0))","v":""}]
[{"$f":"IF(ROW()-8<=MAX(calc!F:F),INDEX(BD!B:B,MATCH(ROW()-8,calc!F:F,0)),\"\")","v":""},{"$f":"IF(A470=\"\",\"\",VLOOKUP(A470,BD!B:C,2,0))","v":""}]
[{"$f":"IF(ROW()-8<=MAX(calc!F:F),INDEX(BD!B:B,MATCH(ROW()-8,calc!F:F,0)),\"\")","v":""},{"$f":"IF(A471=\"\",\"\",VLOOKUP(A471,BD!B:C,2,0))","v":""}]
[{"$f":"IF(ROW()-8<=MAX(calc!F:F),INDEX(BD!B:B,MATCH(ROW()-8,calc!F:F,0)),\"\")","v":""},{"$f":"IF(A472=\"\",\"\",VLOOKUP(A472,BD!B:C,2,0))","v":""}]
[{"$f":"IF(ROW()-8<=MAX(calc!F:F),INDEX(BD!B:B,MATCH(ROW()-8,calc!F:F,0)),\"\")","v":""},{"$f":"IF(A473=\"\",\"\",VLOOKUP(A473,BD!B:C,2,0))","v":""}]
[{"$f":"IF(ROW()-8<=MAX(calc!F:F),INDEX(BD!B:B,MATCH(ROW()-8,calc!F:F,0)),\"\")","v":""},{"$f":"IF(A474=\"\",\"\",VLOOKUP(A474,BD!B:C,2,0))","v":""}]
[{"$f":"IF(ROW()-8<=MAX(calc!F:F),INDEX(BD!B:B,MATCH(ROW()-8,calc!F:F,0)),\"\")","v":""},{"$f":"IF(A475=\"\",\"\",VLOOKUP(A475,BD!B:C,2,0))","v":""}]
[{"$f":"IF(ROW()-8<=MAX(calc!F:F),INDEX(BD!B:B,MATCH(ROW()-8,calc!F:F,0)),\"\")","v":""},{"$f":"IF(A476=\"\",\"\",VLOOKUP(A476,BD!B:C,2,0))","v":""}]
[{"$f":"IF(ROW()-8<=MAX(calc!F:F),INDEX(BD!B:B,MATCH(ROW()-8,calc!F:F,0)),\"\")","v":""},{"$f":"IF(A477=\"\",\"\",VLOOKUP(A477,BD!B:C,2,0))","v":""}]
[{"$f":"IF(ROW()-8<=MAX(calc!F:F),INDEX(BD!B:B,MATCH(ROW()-8,calc!F:F,0)),\"\")","v":""},{"$f":"IF(A478=\"\",\"\",VLOOKUP(A478,BD!B:C,2,0))","v":""}]
[{"$f":"IF(ROW()-8<=MAX(calc!F:F),INDEX(BD!B:B,MATCH(ROW()-8,calc!F:F,0)),\"\")","v":""},{"$f":"IF(A479=\"\",\"\",VLOOKUP(A479,BD!B:C,2,0))","v":""}]
[{"$f":"IF(ROW()-8<=MAX(calc!F:F),INDEX(BD!B:B,MATCH(ROW()-8,calc!F:F,0)),\"\")","v":""},{"$f":"IF(A480=\"\",\"\",VLOOKUP(A480,BD!B:C,2,0))","v":""}]
[{"$f":"IF(ROW()-8<=MAX(calc!F:F),INDEX(BD!B:B,MATCH(ROW()-8,calc!F:F,0)),\"\")","v":""},{"$f":"IF(A481=\"\",\"\",VLOOKUP(A481,BD!B:C,2,0))","v":""}]
[{"$f":"IF(ROW()-8<=MAX(calc!F:F),INDEX(BD!B:B,MATCH(ROW()-8,calc!F:F,0)),\"\")","v":""},{"$f":"IF(A482=\"\",\"\",VLOOKUP(A482,BD!B:C,2,0))","v":""}]
[{"$f":"IF(ROW()-8<=MAX(calc!F:F),INDEX(BD!B:B,MATCH(ROW()-8,calc!F:F,0)),\"\")","v":""},{"$f":"IF(A483=\"\",\"\",VLOOKUP(A483,BD!B:C,2,0))","v":""}]
[{"$f":"IF(ROW()-8<=MAX(calc!F:F),INDEX(BD!B:B,MATCH(ROW()-8,calc!F:F,0)),\"\")","v":""},{"$f":"IF(A484=\"\",\"\",VLOOKUP(A484,BD!B:C,2,0))","v":""}]
[{"$f":"IF(ROW()-8<=MAX(calc!F:F),INDEX(BD!B:B,MATCH(ROW()-8,calc!F:F,0)),\"\")","v":""},{"$f":"IF(A485=\"\",\"\",VLOOKUP(A485,BD!B:C,2,0))","v":""}]
[{"$f":"IF(ROW()-8<=MAX(calc!F:F),INDEX(BD!B:B,MATCH(ROW()-8,calc!F:F,0)),\"\")","v":""},{"$f":"IF(A486=\"\",\"\",VLOOKUP(A486,BD!B:C,2,0))","v":""}]
[{"$f":"IF(ROW()-8<=MAX(calc!F:F),INDEX(BD!B:B,MATCH(ROW()-8,calc!F:F,0)),\"\")","v":""},{"$f":"IF(A487=\"\",\"\",VLOOKUP(A487,BD!B:C,2,0))","v":""}]
[{"$f":"IF(ROW()-8<=MAX(calc!F:F),INDEX(BD!B:B,MATCH(ROW()-8,calc!F:F,0)),\"\")","v":""},{"$f":"IF(A488=\"\",\"\",VLOOKUP(A488,BD!B:C,2,0))","v":""}]
[{"$f":"IF(ROW()-8<=MAX(calc!F:F),INDEX(BD!B:B,MATCH(ROW()-8,calc!F:F,0)),\"\")","v":""},{"$f":"IF(A489=\"\",\"\",VLOOKUP(A489,BD!B:C,2,0))","v":""}]
[{"$f":"IF(ROW()-8<=MAX(calc!F:F),INDEX(BD!B:B,MATCH(ROW()-8,calc!F:F,0)),\"\")","v":""},{"$f":"IF(A490=\"\",\"\",VLOOKUP(A490,BD!B:C,2,0))","v":""}]
[{"$f":"IF(ROW()-8<=MAX(calc!F:F),INDEX(BD!B:B,MATCH(ROW()-8,calc!F:F,0)),\"\")","v":""},{"$f":"IF(A491=\"\",\"\",VLOOKUP(A491,BD!B:C,2,0))","v":""}]
[{"$f":"IF(ROW()-8<=MAX(calc!F:F),INDEX(BD!B:B,MATCH(ROW()-8,calc!F:F,0)),\"\")","v":""},{"$f":"IF(A492=\"\",\"\",VLOOKUP(A492,BD!B:C,2,0))","v":""}]
[{"$f":"IF(ROW()-8<=MAX(calc!F:F),INDEX(BD!B:B,MATCH(ROW()-8,calc!F:F,0)),\"\")","v":""},{"$f":"IF(A493=\"\",\"\",VLOOKUP(A493,BD!B:C,2,0))","v":""}]
[{"$f":"IF(ROW()-8<=MAX(calc!F:F),INDEX(BD!B:B,MATCH(ROW()-8,calc!F:F,0)),\"\")","v":""},{"$f":"IF(A494=\"\",\"\",VLOOKUP(A494,BD!B:C,2,0))","v":""}]
[{"$f":"IF(ROW()-8<=MAX(calc!F:F),INDEX(BD!B:B,MATCH(ROW()-8,calc!F:F,0)),\"\")","v":""},{"$f":"IF(A495=\"\",\"\",VLOOKUP(A495,BD!B:C,2,0))","v":""}]
[{"$f":"IF(ROW()-8<=MAX(calc!F:F),INDEX(BD!B:B,MATCH(ROW()-8,calc!F:F,0)),\"\")","v":""},{"$f":"IF(A496=\"\",\"\",VLOOKUP(A496,BD!B:C,2,0))","v":""}]
[{"$f":"IF(ROW()-8<=MAX(calc!F:F),INDEX(BD!B:B,MATCH(ROW()-8,calc!F:F,0)),\"\")","v":""},{"$f":"IF(A497=\"\",\"\",VLOOKUP(A497,BD!B:C,2,0))","v":""}]
[{"$f":"IF(ROW()-8<=MAX(calc!F:F),INDEX(BD!B:B,MATCH(ROW()-8,calc!F:F,0)),\"\")","v":""},{"$f":"IF(A498=\"\",\"\",VLOOKUP(A498,BD!B:C,2,0))","v":""}]
[{"$f":"IF(ROW()-8<=MAX(calc!F:F),INDEX(BD!B:B,MATCH(ROW()-8,calc!F:F,0)),\"\")","v":""},{"$f":"IF(A499=\"\",\"\",VLOOKUP(A499,BD!B:C,2,0))","v":""}]
[{"$f":"IF(ROW()-8<=MAX(calc!F:F),INDEX(BD!B:B,MATCH(ROW()-8,calc!F:F,0)),\"\")","v":""},{"$f":"IF(A500=\"\",\"\",VLOOKUP(A500,BD!B:C,2,0))","v":""}]
[{"$f":"IF(ROW()-8<=MAX(calc!F:F),INDEX(BD!B:B,MATCH(ROW()-8,calc!F:F,0)),\"\")","v":""},{"$f":"IF(A501=\"\",\"\",VLOOKUP(A501,BD!B:C,2,0))","v":""}]
[{"$f":"IF(ROW()-8<=MAX(calc!F:F),INDEX(BD!B:B,MATCH(ROW()-8,calc!F:F,0)),\"\")","v":""},{"$f":"IF(A502=\"\",\"\",VLOOKUP(A502,BD!B:C,2,0))","v":""}]
[{"$f":"IF(ROW()-8<=MAX(calc!F:F),INDEX(BD!B:B,MATCH(ROW()-8,calc!F:F,0)),\"\")","v":""},{"$f":"IF(A503=\"\",\"\",VLOOKUP(A503,BD!B:C,2,0))","v":""}]
[{"$f":"IF(ROW()-8<=MAX(calc!F:F),INDEX(BD!B:B,MATCH(ROW()-8,calc!F:F,0)),\"\")","v":""},{"$f":"IF(A504=\"\",\"\",VLOOKUP(A504,BD!B:C,2,0))","v":""}]
[{"$f":"IF(ROW()-8<=MAX(calc!F:F),INDEX(BD!B:B,MATCH(ROW()-8,calc!F:F,0)),\"\")","v":""},{"$f":"IF(A505=\"\",\"\",VLOOKUP(A505,BD!B:C,2,0))","v":""}]
[{"$f":"IF(ROW()-8<=MAX(calc!F:F),INDEX(BD!B:B,MATCH(ROW()-8,calc!F:F,0)),\"\")","v":""},{"$f":"IF(A506=\"\",\"\",VLOOKUP(A506,BD!B:C,2,0))","v":""}]
[{"$f":"IF(ROW()-8<=MAX(calc!F:F),INDEX(BD!B:B,MATCH(ROW()-8,calc!F:F,0)),\"\")","v":""},{"$f":"IF(A507=\"\",\"\",VLOOKUP(A507,BD!B:C,2,0))","v":""}]
[{"$f":"IF(ROW()-8<=MAX(calc!F:F),INDEX(BD!B:B,MATCH(ROW()-8,calc!F:F,0)),\"\")","v":""},{"$f":"IF(A508=\"\",\"\",VLOOKUP(A508,BD!B:C,2,0))","v":""}]
[{"$f":"IF(ROW()-8<=MAX(calc!F:F),INDEX(BD!B:B,MATCH(ROW()-8,calc!F:F,0)),\"\")","v":""},{"$f":"IF(A509=\"\",\"\",VLOOKUP(A509,BD!B:C,2,0))","v":""}]
[{"$f":"IF(ROW()-8<=MAX(calc!F:F),INDEX(BD!B:B,MATCH(ROW()-8,calc!F:F,0)),\"\")","v":""},{"$f":"IF(A510=\"\",\"\",VLOOKUP(A510,BD!B:C,2,0))","v":""}]
[{"$f":"IF(ROW()-8<=MAX(calc!F:F),INDEX(BD!B:B,MATCH(ROW()-8,calc!F:F,0)),\"\")","v":""},{"$f":"IF(A511=\"\",\"\",VLOOKUP(A511,BD!B:C,2,0))","v":""}]
[{"$f":"IF(ROW()-8<=MAX(calc!F:F),INDEX(BD!B:B,MATCH(ROW()-8,calc!F:F,0)),\"\")","v":""},{"$f":"IF(A512=\"\",\"\",VLOOKUP(A512,BD!B:C,2,0))","v":""}]
[{"$f":"IF(ROW()-8<=MAX(calc!F:F),INDEX(BD!B:B,MATCH(ROW()-8,calc!F:F,0)),\"\")","v":""},{"$f":"IF(A513=\"\",\"\",VLOOKUP(A513,BD!B:C,2,0))","v":""}]
[{"$f":"IF(ROW()-8<=MAX(calc!F:F),INDEX(BD!B:B,MATCH(ROW()-8,calc!F:F,0)),\"\")","v":""},{"$f":"IF(A514=\"\",\"\",VLOOKUP(A514,BD!B:C,2,0))","v":""}]
[{"$f":"IF(ROW()-8<=MAX(calc!F:F),INDEX(BD!B:B,MATCH(ROW()-8,calc!F:F,0)),\"\")","v":""},{"$f":"IF(A515=\"\",\"\",VLOOKUP(A515,BD!B:C,2,0))","v":""}]
[{"$f":"IF(ROW()-8<=MAX(calc!F:F),INDEX(BD!B:B,MATCH(ROW()-8,calc!F:F,0)),\"\")","v":""},{"$f":"IF(A516=\"\",\"\",VLOOKUP(A516,BD!B:C,2,0))","v":""}]
[{"$f":"IF(ROW()-8<=MAX(calc!F:F),INDEX(BD!B:B,MATCH(ROW()-8,calc!F:F,0)),\"\")","v":""},{"$f":"IF(A517=\"\",\"\",VLOOKUP(A517,BD!B:C,2,0))","v":""}]
[{"$f":"IF(ROW()-8<=MAX(calc!F:F),INDEX(BD!B:B,MATCH(ROW()-8,calc!F:F,0)),\"\")","v":""},{"$f":"IF(A518=\"\",\"\",VLOOKUP(A518,BD!B:C,2,0))","v":""}]
[{"$f":"IF(ROW()-8<=MAX(calc!F:F),INDEX(BD!B:B,MATCH(ROW()-8,calc!F:F,0)),\"\")","v":""},{"$f":"IF(A519=\"\",\"\",VLOOKUP(A519,BD!B:C,2,0))","v":""}]
[{"$f":"IF(ROW()-8<=MAX(calc!F:F),INDEX(BD!B:B,MATCH(ROW()-8,calc!F:F,0)),\"\")","v":""},{"$f":"IF(A520=\"\",\"\",VLOOKUP(A520,BD!B:C,2,0))","v":""}]
[{"$f":"IF(ROW()-8<=MAX(calc!F:F),INDEX(BD!B:B,MATCH(ROW()-8,calc!F:F,0)),\"\")","v":""},{"$f":"IF(A521=\"\",\"\",VLOOKUP(A521,BD!B:C,2,0))","v":""}]
[{"$f":"IF(ROW()-8<=MAX(calc!F:F),INDEX(BD!B:B,MATCH(ROW()-8,calc!F:F,0)),\"\")","v":""},{"$f":"IF(A522=\"\",\"\",VLOOKUP(A522,BD!B:C,2,0))","v":""}]
[{"$f":"IF(ROW()-8<=MAX(calc!F:F),INDEX(BD!B:B,MATCH(ROW()-8,calc!F:F,0)),\"\")","v":""},{"$f":"IF(A523=\"\",\"\",VLOOKUP(A523,BD!B:C,2,0))","v":""}]
[{"$f":"IF(ROW()-8<=MAX(calc!F:F),INDEX(BD!B:B,MATCH(ROW()-8,calc!F:F,0)),\"\")","v":""},{"$f":"IF(A524=\"\",\"\",VLOOKUP(A524,BD!B:C,2,0))","v":""}]
[{"$f":"IF(ROW()-8<=MAX(calc!F:F),INDEX(BD!B:B,MATCH(ROW()-8,calc!F:F,0)),\"\")","v":""},{"$f":"IF(A525=\"\",\"\",VLOOKUP(A525,BD!B:C,2,0))","v":""}]
[{"$f":"IF(ROW()-8<=MAX(calc!F:F),INDEX(BD!B:B,MATCH(ROW()-8,calc!F:F,0)),\"\")","v":""},{"$f":"IF(A526=\"\",\"\",VLOOKUP(A526,BD!B:C,2,0))","v":""}]
[{"$f":"IF(ROW()-8<=MAX(calc!F:F),INDEX(BD!B:B,MATCH(ROW()-8,calc!F:F,0)),\"\")","v":""},{"$f":"IF(A527=\"\",\"\",VLOOKUP(A527,BD!B:C,2,0))","v":""}]
[{"$f":"IF(ROW()-8<=MAX(calc!F:F),INDEX(BD!B:B,MATCH(ROW()-8,calc!F:F,0)),\"\")","v":""},{"$f":"IF(A528=\"\",\"\",VLOOKUP(A528,BD!B:C,2,0))","v":""}]
[{"$f":"IF(ROW()-8<=MAX(calc!F:F),INDEX(BD!B:B,MATCH(ROW()-8,calc!F:F,0)),\"\")","v":""},{"$f":"IF(A529=\"\",\"\",VLOOKUP(A529,BD!B:C,2,0))","v":""}]
[{"$f":"IF(ROW()-8<=MAX(calc!F:F),INDEX(BD!B:B,MATCH(ROW()-8,calc!F:F,0)),\"\")","v":""},{"$f":"IF(A530=\"\",\"\",VLOOKUP(A530,BD!B:C,2,0))","v":""}]
[{"$f":"IF(ROW()-8<=MAX(calc!F:F),INDEX(BD!B:B,MATCH(ROW()-8,calc!F:F,0)),\"\")","v":""},{"$f":"IF(A531=\"\",\"\",VLOOKUP(A531,BD!B:C,2,0))","v":""}]
[{"$f":"IF(ROW()-8<=MAX(calc!F:F),INDEX(BD!B:B,MATCH(ROW()-8,calc!F:F,0)),\"\")","v":""},{"$f":"IF(A532=\"\",\"\",VLOOKUP(A532,BD!B:C,2,0))","v":""}]
[{"$f":"IF(ROW()-8<=MAX(calc!F:F),INDEX(BD!B:B,MATCH(ROW()-8,calc!F:F,0)),\"\")","v":""},{"$f":"IF(A533=\"\",\"\",VLOOKUP(A533,BD!B:C,2,0))","v":""}]
[{"$f":"IF(ROW()-8<=MAX(calc!F:F),INDEX(BD!B:B,MATCH(ROW()-8,calc!F:F,0)),\"\")","v":""},{"$f":"IF(A534=\"\",\"\",VLOOKUP(A534,BD!B:C,2,0))","v":""}]
[{"$f":"IF(ROW()-8<=MAX(calc!F:F),INDEX(BD!B:B,MATCH(ROW()-8,calc!F:F,0)),\"\")","v":""},{"$f":"IF(A535=\"\",\"\",VLOOKUP(A535,BD!B:C,2,0))","v":""}]
[{"$f":"IF(ROW()-8<=MAX(calc!F:F),INDEX(BD!B:B,MATCH(ROW()-8,calc!F:F,0)),\"\")","v":""},{"$f":"IF(A536=\"\",\"\",VLOOKUP(A536,BD!B:C,2,0))","v":""}]
[{"$f":"IF(ROW()-8<=MAX(calc!F:F),INDEX(BD!B:B,MATCH(ROW()-8,calc!F:F,0)),\"\")","v":""},{"$f":"IF(A537=\"\",\"\",VLOOKUP(A537,BD!B:C,2,0))","v":""}]
[{"$f":"IF(ROW()-8<=MAX(calc!F:F),INDEX(BD!B:B,MATCH(ROW()-8,calc!F:F,0)),\"\")","v":""},{"$f":"IF(A538=\"\",\"\",VLOOKUP(A538,BD!B:C,2,0))","v":""}]
[{"$f":"IF(ROW()-8<=MAX(calc!F:F),INDEX(BD!B:B,MATCH(ROW()-8,calc!F:F,0)),\"\")","v":""},{"$f":"IF(A539=\"\",\"\",VLOOKUP(A539,BD!B:C,2,0))","v":""}]
[{"$f":"IF(ROW()-8<=MAX(calc!F:F),INDEX(BD!B:B,MATCH(ROW()-8,calc!F:F,0)),\"\")","v":""},{"$f":"IF(A540=\"\",\"\",VLOOKUP(A540,BD!B:C,2,0))","v":""}]
[{"$f":"IF(ROW()-8<=MAX(calc!F:F),INDEX(BD!B:B,MATCH(ROW()-8,calc!F:F,0)),\"\")","v":""},{"$f":"IF(A541=\"\",\"\",VLOOKUP(A541,BD!B:C,2,0))","v":""}]
[{"$f":"IF(ROW()-8<=MAX(calc!F:F),INDEX(BD!B:B,MATCH(ROW()-8,calc!F:F,0)),\"\")","v":""},{"$f":"IF(A542=\"\",\"\",VLOOKUP(A542,BD!B:C,2,0))","v":""}]
[{"$f":"IF(ROW()-8<=MAX(calc!F:F),INDEX(BD!B:B,MATCH(ROW()-8,calc!F:F,0)),\"\")","v":""},{"$f":"IF(A543=\"\",\"\",VLOOKUP(A543,BD!B:C,2,0))","v":""}]
[{"$f":"IF(ROW()-8<=MAX(calc!F:F),INDEX(BD!B:B,MATCH(ROW()-8,calc!F:F,0)),\"\")","v":""},{"$f":"IF(A544=\"\",\"\",VLOOKUP(A544,BD!B:C,2,0))","v":""}]
[{"$f":"IF(ROW()-8<=MAX(calc!F:F),INDEX(BD!B:B,MATCH(ROW()-8,calc!F:F,0)),\"\")","v":""},{"$f":"IF(A545=\"\",\"\",VLOOKUP(A545,BD!B:C,2,0))","v":""}]
[{"$f":"IF(ROW()-8<=MAX(calc!F:F),INDEX(BD!B:B,MATCH(ROW()-8,calc!F:F,0)),\"\")","v":""},{"$f":"IF(A546=\"\",\"\",VLOOKUP(A546,BD!B:C,2,0))","v":""}]
[{"$f":"IF(ROW()-8<=MAX(calc!F:F),INDEX(BD!B:B,MATCH(ROW()-8,calc!F:F,0)),\"\")","v":""},{"$f":"IF(A547=\"\",\"\",VLOOKUP(A547,BD!B:C,2,0))","v":""}]
[{"$f":"IF(ROW()-8<=MAX(calc!F:F),INDEX(BD!B:B,MATCH(ROW()-8,calc!F:F,0)),\"\")","v":""},{"$f":"IF(A548=\"\",\"\",VLOOKUP(A548,BD!B:C,2,0))","v":""}]
[{"$f":"IF(ROW()-8<=MAX(calc!F:F),INDEX(BD!B:B,MATCH(ROW()-8,calc!F:F,0)),\"\")","v":""},{"$f":"IF(A549=\"\",\"\",VLOOKUP(A549,BD!B:C,2,0))","v":""}]
[{"$f":"IF(ROW()-8<=MAX(calc!F:F),INDEX(BD!B:B,MATCH(ROW()-8,calc!F:F,0)),\"\")","v":""},{"$f":"IF(A550=\"\",\"\",VLOOKUP(A550,BD!B:C,2,0))","v":""}]
[{"$f":"IF(ROW()-8<=MAX(calc!F:F),INDEX(BD!B:B,MATCH(ROW()-8,calc!F:F,0)),\"\")","v":""},{"$f":"IF(A551=\"\",\"\",VLOOKUP(A551,BD!B:C,2,0))","v":""}]
[{"$f":"IF(ROW()-8<=MAX(calc!F:F),INDEX(BD!B:B,MATCH(ROW()-8,calc!F:F,0)),\"\")","v":""},{"$f":"IF(A552=\"\",\"\",VLOOKUP(A552,BD!B:C,2,0))","v":""}]
[{"$f":"IF(ROW()-8<=MAX(calc!F:F),INDEX(BD!B:B,MATCH(ROW()-8,calc!F:F,0)),\"\")","v":""},{"$f":"IF(A553=\"\",\"\",VLOOKUP(A553,BD!B:C,2,0))","v":""}]
[{"$f":"IF(ROW()-8<=MAX(calc!F:F),INDEX(BD!B:B,MATCH(ROW()-8,calc!F:F,0)),\"\")","v":""},{"$f":"IF(A554=\"\",\"\",VLOOKUP(A554,BD!B:C,2,0))","v":""}]
[{"$f":"IF(ROW()-8<=MAX(calc!F:F),INDEX(BD!B:B,MATCH(ROW()-8,calc!F:F,0)),\"\")","v":""},{"$f":"IF(A555=\"\",\"\",VLOOKUP(A555,BD!B:C,2,0))","v":""}]
[{"$f":"IF(ROW()-8<=MAX(calc!F:F),INDEX(BD!B:B,MATCH(ROW()-8,calc!F:F,0)),\"\")","v":""},{"$f":"IF(A556=\"\",\"\",VLOOKUP(A556,BD!B:C,2,0))","v":""}]
[{"$f":"IF(ROW()-8<=MAX(calc!F:F),INDEX(BD!B:B,MATCH(ROW()-8,calc!F:F,0)),\"\")","v":""},{"$f":"IF(A557=\"\",\"\",VLOOKUP(A557,BD!B:C,2,0))","v":""}]
[{"$f":"IF(ROW()-8<=MAX(calc!F:F),INDEX(BD!B:B,MATCH(ROW()-8,calc!F:F,0)),\"\")","v":""},{"$f":"IF(A558=\"\",\"\",VLOOKUP(A558,BD!B:C,2,0))","v":""}]
[{"$f":"IF(ROW()-8<=MAX(calc!F:F),INDEX(BD!B:B,MATCH(ROW()-8,calc!F:F,0)),\"\")","v":""},{"$f":"IF(A559=\"\",\"\",VLOOKUP(A559,BD!B:C,2,0))","v":""}]
[{"$f":"IF(ROW()-8<=MAX(calc!F:F),INDEX(BD!B:B,MATCH(ROW()-8,calc!F:F,0)),\"\")","v":""},{"$f":"IF(A560=\"\",\"\",VLOOKUP(A560,BD!B:C,2,0))","v":""}]
[{"$f":"IF(ROW()-8<=MAX(calc!F:F),INDEX(BD!B:B,MATCH(ROW()-8,calc!F:F,0)),\"\")","v":""},{"$f":"IF(A561=\"\",\"\",VLOOKUP(A561,BD!B:C,2,0))","v":""}]
[{"$f":"IF(ROW()-8<=MAX(calc!F:F),INDEX(BD!B:B,MATCH(ROW()-8,calc!F:F,0)),\"\")","v":""},{"$f":"IF(A562=\"\",\"\",VLOOKUP(A562,BD!B:C,2,0))","v":""}]
[{"$f":"IF(ROW()-8<=MAX(calc!F:F),INDEX(BD!B:B,MATCH(ROW()-8,calc!F:F,0)),\"\")","v":""},{"$f":"IF(A563=\"\",\"\",VLOOKUP(A563,BD!B:C,2,0))","v":""}]
[{"$f":"IF(ROW()-8<=MAX(calc!F:F),INDEX(BD!B:B,MATCH(ROW()-8,calc!F:F,0)),\"\")","v":""},{"$f":"IF(A564=\"\",\"\",VLOOKUP(A564,BD!B:C,2,0))","v":""}]
[{"$f":"IF(ROW()-8<=MAX(calc!F:F),INDEX(BD!B:B,MATCH(ROW()-8,calc!F:F,0)),\"\")","v":""},{"$f":"IF(A565=\"\",\"\",VLOOKUP(A565,BD!B:C,2,0))","v":""}]
[{"$f":"IF(ROW()-8<=MAX(calc!F:F),INDEX(BD!B:B,MATCH(ROW()-8,calc!F:F,0)),\"\")","v":""},{"$f":"IF(A566=\"\",\"\",VLOOKUP(A566,BD!B:C,2,0))","v":""}]
[{"$f":"IF(ROW()-8<=MAX(calc!F:F),INDEX(BD!B:B,MATCH(ROW()-8,calc!F:F,0)),\"\")","v":""},{"$f":"IF(A567=\"\",\"\",VLOOKUP(A567,BD!B:C,2,0))","v":""}]
[{"$f":"IF(ROW()-8<=MAX(calc!F:F),INDEX(BD!B:B,MATCH(ROW()-8,calc!F:F,0)),\"\")","v":""},{"$f":"IF(A568=\"\",\"\",VLOOKUP(A568,BD!B:C,2,0))","v":""}]
[{"$f":"IF(ROW()-8<=MAX(calc!F:F),INDEX(BD!B:B,MATCH(ROW()-8,calc!F:F,0)),\"\")","v":""},{"$f":"IF(A569=\"\",\"\",VLOOKUP(A569,BD!B:C,2,0))","v":""}]
[{"$f":"IF(ROW()-8<=MAX(calc!F:F),INDEX(BD!B:B,MATCH(ROW()-8,calc!F:F,0)),\"\")","v":""},{"$f":"IF(A570=\"\",\"\",VLOOKUP(A570,BD!B:C,2,0))","v":""}]
[{"$f":"IF(ROW()-8<=MAX(calc!F:F),INDEX(BD!B:B,MATCH(ROW()-8,calc!F:F,0)),\"\")","v":""},{"$f":"IF(A571=\"\",\"\",VLOOKUP(A571,BD!B:C,2,0))","v":""}]
[{"$f":"IF(ROW()-8<=MAX(calc!F:F),INDEX(BD!B:B,MATCH(ROW()-8,calc!F:F,0)),\"\")","v":""},{"$f":"IF(A572=\"\",\"\",VLOOKUP(A572,BD!B:C,2,0))","v":""}]
[{"$f":"IF(ROW()-8<=MAX(calc!F:F),INDEX(BD!B:B,MATCH(ROW()-8,calc!F:F,0)),\"\")","v":""},{"$f":"IF(A573=\"\",\"\",VLOOKUP(A573,BD!B:C,2,0))","v":""}]
[{"$f":"IF(ROW()-8<=MAX(calc!F:F),INDEX(BD!B:B,MATCH(ROW()-8,calc!F:F,0)),\"\")","v":""},{"$f":"IF(A574=\"\",\"\",VLOOKUP(A574,BD!B:C,2,0))","v":""}]
[{"$f":"IF(ROW()-8<=MAX(calc!F:F),INDEX(BD!B:B,MATCH(ROW()-8,calc!F:F,0)),\"\")","v":""},{"$f":"IF(A575=\"\",\"\",VLOOKUP(A575,BD!B:C,2,0))","v":""}]
[{"$f":"IF(ROW()-8<=MAX(calc!F:F),INDEX(BD!B:B,MATCH(ROW()-8,calc!F:F,0)),\"\")","v":""},{"$f":"IF(A576=\"\",\"\",VLOOKUP(A576,BD!B:C,2,0))","v":""}]
[{"$f":"IF(ROW()-8<=MAX(calc!F:F),INDEX(BD!B:B,MATCH(ROW()-8,calc!F:F,0)),\"\")","v":""},{"$f":"IF(A577=\"\",\"\",VLOOKUP(A577,BD!B:C,2,0))","v":""}]
[{"$f":"IF(ROW()-8<=MAX(calc!F:F),INDEX(BD!B:B,MATCH(ROW()-8,calc!F:F,0)),\"\")","v":""},{"$f":"IF(A578=\"\",\"\",VLOOKUP(A578,BD!B:C,2,0))","v":""}]
[{"$f":"IF(ROW()-8<=MAX(calc!F:F),INDEX(BD!B:B,MATCH(ROW()-8,calc!F:F,0)),\"\")","v":""},{"$f":"IF(A579=\"\",\"\",VLOOKUP(A579,BD!B:C,2,0))","v":""}]
[{"$f":"IF(ROW()-8<=MAX(calc!F:F),INDEX(BD!B:B,MATCH(ROW()-8,calc!F:F,0)),\"\")","v":""},{"$f":"IF(A580=\"\",\"\",VLOOKUP(A580,BD!B:C,2,0))","v":""}]
[{"$f":"IF(ROW()-8<=MAX(calc!F:F),INDEX(BD!B:B,MATCH(ROW()-8,calc!F:F,0)),\"\")","v":""},{"$f":"IF(A581=\"\",\"\",VLOOKUP(A581,BD!B:C,2,0))","v":""}]
[{"$f":"IF(ROW()-8<=MAX(calc!F:F),INDEX(BD!B:B,MATCH(ROW()-8,calc!F:F,0)),\"\")","v":""},{"$f":"IF(A582=\"\",\"\",VLOOKUP(A582,BD!B:C,2,0))","v":""}]
[{"$f":"IF(ROW()-8<=MAX(calc!F:F),INDEX(BD!B:B,MATCH(ROW()-8,calc!F:F,0)),\"\")","v":""},{"$f":"IF(A583=\"\",\"\",VLOOKUP(A583,BD!B:C,2,0))","v":""}]
[{"$f":"IF(ROW()-8<=MAX(calc!F:F),INDEX(BD!B:B,MATCH(ROW()-8,calc!F:F,0)),\"\")","v":""},{"$f":"IF(A584=\"\",\"\",VLOOKUP(A584,BD!B:C,2,0))","v":""}]
[{"$f":"IF(ROW()-8<=MAX(calc!F:F),INDEX(BD!B:B,MATCH(ROW()-8,calc!F:F,0)),\"\")","v":""},{"$f":"IF(A585=\"\",\"\",VLOOKUP(A585,BD!B:C,2,0))","v":""}]
[{"$f":"IF(ROW()-8<=MAX(calc!F:F),INDEX(BD!B:B,MATCH(ROW()-8,calc!F:F,0)),\"\")","v":""},{"$f":"IF(A586=\"\",\"\",VLOOKUP(A586,BD!B:C,2,0))","v":""}]
[{"$f":"IF(ROW()-8<=MAX(calc!F:F),INDEX(BD!B:B,MATCH(ROW()-8,calc!F:F,0)),\"\")","v":""},{"$f":"IF(A587=\"\",\"\",VLOOKUP(A587,BD!B:C,2,0))","v":""}]
[{"$f":"IF(ROW()-8<=MAX(calc!F:F),INDEX(BD!B:B,MATCH(ROW()-8,calc!F:F,0)),\"\")","v":""},{"$f":"IF(A588=\"\",\"\",VLOOKUP(A588,BD!B:C,2,0))","v":""}]
[{"$f":"IF(ROW()-8<=MAX(calc!F:F),INDEX(BD!B:B,MATCH(ROW()-8,calc!F:F,0)),\"\")","v":""},{"$f":"IF(A589=\"\",\"\",VLOOKUP(A589,BD!B:C,2,0))","v":""}]
[{"$f":"IF(ROW()-8<=MAX(calc!F:F),INDEX(BD!B:B,MATCH(ROW()-8,calc!F:F,0)),\"\")","v":""},{"$f":"IF(A590=\"\",\"\",VLOOKUP(A590,BD!B:C,2,0))","v":""}]
[{"$f":"IF(ROW()-8<=MAX(calc!F:F),INDEX(BD!B:B,MATCH(ROW()-8,calc!F:F,0)),\"\")","v":""},{"$f":"IF(A591=\"\",\"\",VLOOKUP(A591,BD!B:C,2,0))","v":""}]
[{"$f":"IF(ROW()-8<=MAX(calc!F:F),INDEX(BD!B:B,MATCH(ROW()-8,calc!F:F,0)),\"\")","v":""},{"$f":"IF(A592=\"\",\"\",VLOOKUP(A592,BD!B:C,2,0))","v":""}]
[{"$f":"IF(ROW()-8<=MAX(calc!F:F),INDEX(BD!B:B,MATCH(ROW()-8,calc!F:F,0)),\"\")","v":""},{"$f":"IF(A593=\"\",\"\",VLOOKUP(A593,BD!B:C,2,0))","v":""}]
[{"$f":"IF(ROW()-8<=MAX(calc!F:F),INDEX(BD!B:B,MATCH(ROW()-8,calc!F:F,0)),\"\")","v":""},{"$f":"IF(A594=\"\",\"\",VLOOKUP(A594,BD!B:C,2,0))","v":""}]
[{"$f":"IF(ROW()-8<=MAX(calc!F:F),INDEX(BD!B:B,MATCH(ROW()-8,calc!F:F,0)),\"\")","v":""},{"$f":"IF(A595=\"\",\"\",VLOOKUP(A595,BD!B:C,2,0))","v":""}]
[{"$f":"IF(ROW()-8<=MAX(calc!F:F),INDEX(BD!B:B,MATCH(ROW()-8,calc!F:F,0)),\"\")","v":""},{"$f":"IF(A596=\"\",\"\",VLOOKUP(A596,BD!B:C,2,0))","v":""}]
[{"$f":"IF(ROW()-8<=MAX(calc!F:F),INDEX(BD!B:B,MATCH(ROW()-8,calc!F:F,0)),\"\")","v":""},{"$f":"IF(A597=\"\",\"\",VLOOKUP(A597,BD!B:C,2,0))","v":""}]
[{"$f":"IF(ROW()-8<=MAX(calc!F:F),INDEX(BD!B:B,MATCH(ROW()-8,calc!F:F,0)),\"\")","v":""},{"$f":"IF(A598=\"\",\"\",VLOOKUP(A598,BD!B:C,2,0))","v":""}]
[{"$f":"IF(ROW()-8<=MAX(calc!F:F),INDEX(BD!B:B,MATCH(ROW()-8,calc!F:F,0)),\"\")","v":""},{"$f":"IF(A599=\"\",\"\",VLOOKUP(A599,BD!B:C,2,0))","v":""}]
[{"$f":"IF(ROW()-8<=MAX(calc!F:F),INDEX(BD!B:B,MATCH(ROW()-8,calc!F:F,0)),\"\")","v":""},{"$f":"IF(A600=\"\",\"\",VLOOKUP(A600,BD!B:C,2,0))","v":""}]
[{"$f":"IF(ROW()-8<=MAX(calc!F:F),INDEX(BD!B:B,MATCH(ROW()-8,calc!F:F,0)),\"\")","v":""},{"$f":"IF(A601=\"\",\"\",VLOOKUP(A601,BD!B:C,2,0))","v":""}]
[{"$f":"IF(ROW()-8<=MAX(calc!F:F),INDEX(BD!B:B,MATCH(ROW()-8,calc!F:F,0)),\"\")","v":""},{"$f":"IF(A602=\"\",\"\",VLOOKUP(A602,BD!B:C,2,0))","v":""}]
[{"$f":"IF(ROW()-8<=MAX(calc!F:F),INDEX(BD!B:B,MATCH(ROW()-8,calc!F:F,0)),\"\")","v":""},{"$f":"IF(A603=\"\",\"\",VLOOKUP(A603,BD!B:C,2,0))","v":""}]
[{"$f":"IF(ROW()-8<=MAX(calc!F:F),INDEX(BD!B:B,MATCH(ROW()-8,calc!F:F,0)),\"\")","v":""},{"$f":"IF(A604=\"\",\"\",VLOOKUP(A604,BD!B:C,2,0))","v":""}]
[{"$f":"IF(ROW()-8<=MAX(calc!F:F),INDEX(BD!B:B,MATCH(ROW()-8,calc!F:F,0)),\"\")","v":""},{"$f":"IF(A605=\"\",\"\",VLOOKUP(A605,BD!B:C,2,0))","v":""}]
[{"$f":"IF(ROW()-8<=MAX(calc!F:F),INDEX(BD!B:B,MATCH(ROW()-8,calc!F:F,0)),\"\")","v":""},{"$f":"IF(A606=\"\",\"\",VLOOKUP(A606,BD!B:C,2,0))","v":""}]
[{"$f":"IF(ROW()-8<=MAX(calc!F:F),INDEX(BD!B:B,MATCH(ROW()-8,calc!F:F,0)),\"\")","v":""},{"$f":"IF(A607=\"\",\"\",VLOOKUP(A607,BD!B:C,2,0))","v":""}]
[{"$f":"IF(ROW()-8<=MAX(calc!F:F),INDEX(BD!B:B,MATCH(ROW()-8,calc!F:F,0)),\"\")","v":""},{"$f":"IF(A608=\"\",\"\",VLOOKUP(A608,BD!B:C,2,0))","v":""}]
[{"$f":"IF(ROW()-8<=MAX(calc!F:F),INDEX(BD!B:B,MATCH(ROW()-8,calc!F:F,0)),\"\")","v":""},{"$f":"IF(A609=\"\",\"\",VLOOKUP(A609,BD!B:C,2,0))","v":""}]
[{"$f":"IF(ROW()-8<=MAX(calc!F:F),INDEX(BD!B:B,MATCH(ROW()-8,calc!F:F,0)),\"\")","v":""},{"$f":"IF(A610=\"\",\"\",VLOOKUP(A610,BD!B:C,2,0))","v":""}]
[{"$f":"IF(ROW()-8<=MAX(calc!F:F),INDEX(BD!B:B,MATCH(ROW()-8,calc!F:F,0)),\"\")","v":""},{"$f":"IF(A611=\"\",\"\",VLOOKUP(A611,BD!B:C,2,0))","v":""}]
[{"$f":"IF(ROW()-8<=MAX(calc!F:F),INDEX(BD!B:B,MATCH(ROW()-8,calc!F:F,0)),\"\")","v":""},{"$f":"IF(A612=\"\",\"\",VLOOKUP(A612,BD!B:C,2,0))","v":""}]
[{"$f":"IF(ROW()-8<=MAX(calc!F:F),INDEX(BD!B:B,MATCH(ROW()-8,calc!F:F,0)),\"\")","v":""},{"$f":"IF(A613=\"\",\"\",VLOOKUP(A613,BD!B:C,2,0))","v":""}]
[{"$f":"IF(ROW()-8<=MAX(calc!F:F),INDEX(BD!B:B,MATCH(ROW()-8,calc!F:F,0)),\"\")","v":""},{"$f":"IF(A614=\"\",\"\",VLOOKUP(A614,BD!B:C,2,0))","v":""}]
[{"$f":"IF(ROW()-8<=MAX(calc!F:F),INDEX(BD!B:B,MATCH(ROW()-8,calc!F:F,0)),\"\")","v":""},{"$f":"IF(A615=\"\",\"\",VLOOKUP(A615,BD!B:C,2,0))","v":""}]
[{"$f":"IF(ROW()-8<=MAX(calc!F:F),INDEX(BD!B:B,MATCH(ROW()-8,calc!F:F,0)),\"\")","v":""},{"$f":"IF(A616=\"\",\"\",VLOOKUP(A616,BD!B:C,2,0))","v":""}]
[{"$f":"IF(ROW()-8<=MAX(calc!F:F),INDEX(BD!B:B,MATCH(ROW()-8,calc!F:F,0)),\"\")","v":""},{"$f":"IF(A617=\"\",\"\",VLOOKUP(A617,BD!B:C,2,0))","v":""}]
[{"$f":"IF(ROW()-8<=MAX(calc!F:F),INDEX(BD!B:B,MATCH(ROW()-8,calc!F:F,0)),\"\")","v":""},{"$f":"IF(A618=\"\",\"\",VLOOKUP(A618,BD!B:C,2,0))","v":""}]
[{"$f":"IF(ROW()-8<=MAX(calc!F:F),INDEX(BD!B:B,MATCH(ROW()-8,calc!F:F,0)),\"\")","v":""},{"$f":"IF(A619=\"\",\"\",VLOOKUP(A619,BD!B:C,2,0))","v":""}]
[{"$f":"IF(ROW()-8<=MAX(calc!F:F),INDEX(BD!B:B,MATCH(ROW()-8,calc!F:F,0)),\"\")","v":""},{"$f":"IF(A620=\"\",\"\",VLOOKUP(A620,BD!B:C,2,0))","v":""}]
[{"$f":"IF(ROW()-8<=MAX(calc!F:F),INDEX(BD!B:B,MATCH(ROW()-8,calc!F:F,0)),\"\")","v":""},{"$f":"IF(A621=\"\",\"\",VLOOKUP(A621,BD!B:C,2,0))","v":""}]
[{"$f":"IF(ROW()-8<=MAX(calc!F:F),INDEX(BD!B:B,MATCH(ROW()-8,calc!F:F,0)),\"\")","v":""},{"$f":"IF(A622=\"\",\"\",VLOOKUP(A622,BD!B:C,2,0))","v":""}]
[{"$f":"IF(ROW()-8<=MAX(calc!F:F),INDEX(BD!B:B,MATCH(ROW()-8,calc!F:F,0)),\"\")","v":""},{"$f":"IF(A623=\"\",\"\",VLOOKUP(A623,BD!B:C,2,0))","v":""}]
[{"$f":"IF(ROW()-8<=MAX(calc!F:F),INDEX(BD!B:B,MATCH(ROW()-8,calc!F:F,0)),\"\")","v":""},{"$f":"IF(A624=\"\",\"\",VLOOKUP(A624,BD!B:C,2,0))","v":""}]
[{"$f":"IF(ROW()-8<=MAX(calc!F:F),INDEX(BD!B:B,MATCH(ROW()-8,calc!F:F,0)),\"\")","v":""},{"$f":"IF(A625=\"\",\"\",VLOOKUP(A625,BD!B:C,2,0))","v":""}]
[{"$f":"IF(ROW()-8<=MAX(calc!F:F),INDEX(BD!B:B,MATCH(ROW()-8,calc!F:F,0)),\"\")","v":""},{"$f":"IF(A626=\"\",\"\",VLOOKUP(A626,BD!B:C,2,0))","v":""}]
[{"$f":"IF(ROW()-8<=MAX(calc!F:F),INDEX(BD!B:B,MATCH(ROW()-8,calc!F:F,0)),\"\")","v":""},{"$f":"IF(A627=\"\",\"\",VLOOKUP(A627,BD!B:C,2,0))","v":""}]
[{"$f":"IF(ROW()-8<=MAX(calc!F:F),INDEX(BD!B:B,MATCH(ROW()-8,calc!F:F,0)),\"\")","v":""},{"$f":"IF(A628=\"\",\"\",VLOOKUP(A628,BD!B:C,2,0))","v":""}]
[{"$f":"IF(ROW()-8<=MAX(calc!F:F),INDEX(BD!B:B,MATCH(ROW()-8,calc!F:F,0)),\"\")","v":""},{"$f":"IF(A629=\"\",\"\",VLOOKUP(A629,BD!B:C,2,0))","v":""}]
[{"$f":"IF(ROW()-8<=MAX(calc!F:F),INDEX(BD!B:B,MATCH(ROW()-8,calc!F:F,0)),\"\")","v":""},{"$f":"IF(A630=\"\",\"\",VLOOKUP(A630,BD!B:C,2,0))","v":""}]
[{"$f":"IF(ROW()-8<=MAX(calc!F:F),INDEX(BD!B:B,MATCH(ROW()-8,calc!F:F,0)),\"\")","v":""},{"$f":"IF(A631=\"\",\"\",VLOOKUP(A631,BD!B:C,2,0))","v":""}]
[{"$f":"IF(ROW()-8<=MAX(calc!F:F),INDEX(BD!B:B,MATCH(ROW()-8,calc!F:F,0)),\"\")","v":""},{"$f":"IF(A632=\"\",\"\",VLOOKUP(A632,BD!B:C,2,0))","v":""}]
[{"$f":"IF(ROW()-8<=MAX(calc!F:F),INDEX(BD!B:B,MATCH(ROW()-8,calc!F:F,0)),\"\")","v":""},{"$f":"IF(A633=\"\",\"\",VLOOKUP(A633,BD!B:C,2,0))","v":""}]
[{"$f":"IF(ROW()-8<=MAX(calc!F:F),INDEX(BD!B:B,MATCH(ROW()-8,calc!F:F,0)),\"\")","v":""},{"$f":"IF(A634=\"\",\"\",VLOOKUP(A634,BD!B:C,2,0))","v":""}]
[{"$f":"IF(ROW()-8<=MAX(calc!F:F),INDEX(BD!B:B,MATCH(ROW()-8,calc!F:F,0)),\"\")","v":""},{"$f":"IF(A635=\"\",\"\",VLOOKUP(A635,BD!B:C,2,0))","v":""}]
[{"$f":"IF(ROW()-8<=MAX(calc!F:F),INDEX(BD!B:B,MATCH(ROW()-8,calc!F:F,0)),\"\")","v":""},{"$f":"IF(A636=\"\",\"\",VLOOKUP(A636,BD!B:C,2,0))","v":""}]
[{"$f":"IF(ROW()-8<=MAX(calc!F:F),INDEX(BD!B:B,MATCH(ROW()-8,calc!F:F,0)),\"\")","v":""},{"$f":"IF(A637=\"\",\"\",VLOOKUP(A637,BD!B:C,2,0))","v":""}]
[{"$f":"IF(ROW()-8<=MAX(calc!F:F),INDEX(BD!B:B,MATCH(ROW()-8,calc!F:F,0)),\"\")","v":""},{"$f":"IF(A638=\"\",\"\",VLOOKUP(A638,BD!B:C,2,0))","v":""}]
[{"$f":"IF(ROW()-8<=MAX(calc!F:F),INDEX(BD!B:B,MATCH(ROW()-8,calc!F:F,0)),\"\")","v":""},{"$f":"IF(A639=\"\",\"\",VLOOKUP(A639,BD!B:C,2,0))","v":""}]
[{"$f":"IF(ROW()-8<=MAX(calc!F:F),INDEX(BD!B:B,MATCH(ROW()-8,calc!F:F,0)),\"\")","v":""},{"$f":"IF(A640=\"\",\"\",VLOOKUP(A640,BD!B:C,2,0))","v":""}]
[{"$f":"IF(ROW()-8<=MAX(calc!F:F),INDEX(BD!B:B,MATCH(ROW()-8,calc!F:F,0)),\"\")","v":""},{"$f":"IF(A641=\"\",\"\",VLOOKUP(A641,BD!B:C,2,0))","v":""}]
[{"$f":"IF(ROW()-8<=MAX(calc!F:F),INDEX(BD!B:B,MATCH(ROW()-8,calc!F:F,0)),\"\")","v":""},{"$f":"IF(A642=\"\",\"\",VLOOKUP(A642,BD!B:C,2,0))","v":""}]
[{"$f":"IF(ROW()-8<=MAX(calc!F:F),INDEX(BD!B:B,MATCH(ROW()-8,calc!F:F,0)),\"\")","v":""},{"$f":"IF(A643=\"\",\"\",VLOOKUP(A643,BD!B:C,2,0))","v":""}]
[{"$f":"IF(ROW()-8<=MAX(calc!F:F),INDEX(BD!B:B,MATCH(ROW()-8,calc!F:F,0)),\"\")","v":""},{"$f":"IF(A644=\"\",\"\",VLOOKUP(A644,BD!B:C,2,0))","v":""}]
[{"$f":"IF(ROW()-8<=MAX(calc!F:F),INDEX(BD!B:B,MATCH(ROW()-8,calc!F:F,0)),\"\")","v":""},{"$f":"IF(A645=\"\",\"\",VLOOKUP(A645,BD!B:C,2,0))","v":""}]
[{"$f":"IF(ROW()-8<=MAX(calc!F:F),INDEX(BD!B:B,MATCH(ROW()-8,calc!F:F,0)),\"\")","v":""},{"$f":"IF(A646=\"\",\"\",VLOOKUP(A646,BD!B:C,2,0))","v":""}]
[{"$f":"IF(ROW()-8<=MAX(calc!F:F),INDEX(BD!B:B,MATCH(ROW()-8,calc!F:F,0)),\"\")","v":""},{"$f":"IF(A647=\"\",\"\",VLOOKUP(A647,BD!B:C,2,0))","v":""}]
[{"$f":"IF(ROW()-8<=MAX(calc!F:F),INDEX(BD!B:B,MATCH(ROW()-8,calc!F:F,0)),\"\")","v":""},{"$f":"IF(A648=\"\",\"\",VLOOKUP(A648,BD!B:C,2,0))","v":""}]
[{"$f":"IF(ROW()-8<=MAX(calc!F:F),INDEX(BD!B:B,MATCH(ROW()-8,calc!F:F,0)),\"\")","v":""},{"$f":"IF(A649=\"\",\"\",VLOOKUP(A649,BD!B:C,2,0))","v":""}]
[{"$f":"IF(ROW()-8<=MAX(calc!F:F),INDEX(BD!B:B,MATCH(ROW()-8,calc!F:F,0)),\"\")","v":""},{"$f":"IF(A650=\"\",\"\",VLOOKUP(A650,BD!B:C,2,0))","v":""}]
[{"$f":"IF(ROW()-8<=MAX(calc!F:F),INDEX(BD!B:B,MATCH(ROW()-8,calc!F:F,0)),\"\")","v":""},{"$f":"IF(A651=\"\",\"\",VLOOKUP(A651,BD!B:C,2,0))","v":""}]
[{"$f":"IF(ROW()-8<=MAX(calc!F:F),INDEX(BD!B:B,MATCH(ROW()-8,calc!F:F,0)),\"\")","v":""},{"$f":"IF(A652=\"\",\"\",VLOOKUP(A652,BD!B:C,2,0))","v":""}]
[{"$f":"IF(ROW()-8<=MAX(calc!F:F),INDEX(BD!B:B,MATCH(ROW()-8,calc!F:F,0)),\"\")","v":""},{"$f":"IF(A653=\"\",\"\",VLOOKUP(A653,BD!B:C,2,0))","v":""}]
[{"$f":"IF(ROW()-8<=MAX(calc!F:F),INDEX(BD!B:B,MATCH(ROW()-8,calc!F:F,0)),\"\")","v":""},{"$f":"IF(A654=\"\",\"\",VLOOKUP(A654,BD!B:C,2,0))","v":""}]
[{"$f":"IF(ROW()-8<=MAX(calc!F:F),INDEX(BD!B:B,MATCH(ROW()-8,calc!F:F,0)),\"\")","v":""},{"$f":"IF(A655=\"\",\"\",VLOOKUP(A655,BD!B:C,2,0))","v":""}]
[{"$f":"IF(ROW()-8<=MAX(calc!F:F),INDEX(BD!B:B,MATCH(ROW()-8,calc!F:F,0)),\"\")","v":""},{"$f":"IF(A656=\"\",\"\",VLOOKUP(A656,BD!B:C,2,0))","v":""}]
[{"$f":"IF(ROW()-8<=MAX(calc!F:F),INDEX(BD!B:B,MATCH(ROW()-8,calc!F:F,0)),\"\")","v":""},{"$f":"IF(A657=\"\",\"\",VLOOKUP(A657,BD!B:C,2,0))","v":""}]
[{"$f":"IF(ROW()-8<=MAX(calc!F:F),INDEX(BD!B:B,MATCH(ROW()-8,calc!F:F,0)),\"\")","v":""},{"$f":"IF(A658=\"\",\"\",VLOOKUP(A658,BD!B:C,2,0))","v":""}]
[{"$f":"IF(ROW()-8<=MAX(calc!F:F),INDEX(BD!B:B,MATCH(ROW()-8,calc!F:F,0)),\"\")","v":""},{"$f":"IF(A659=\"\",\"\",VLOOKUP(A659,BD!B:C,2,0))","v":""}]
[{"$f":"IF(ROW()-8<=MAX(calc!F:F),INDEX(BD!B:B,MATCH(ROW()-8,calc!F:F,0)),\"\")","v":""},{"$f":"IF(A660=\"\",\"\",VLOOKUP(A660,BD!B:C,2,0))","v":""}]
[{"$f":"IF(ROW()-8<=MAX(calc!F:F),INDEX(BD!B:B,MATCH(ROW()-8,calc!F:F,0)),\"\")","v":""},{"$f":"IF(A661=\"\",\"\",VLOOKUP(A661,BD!B:C,2,0))","v":""}]
[{"$f":"IF(ROW()-8<=MAX(calc!F:F),INDEX(BD!B:B,MATCH(ROW()-8,calc!F:F,0)),\"\")","v":""},{"$f":"IF(A662=\"\",\"\",VLOOKUP(A662,BD!B:C,2,0))","v":""}]
[{"$f":"IF(ROW()-8<=MAX(calc!F:F),INDEX(BD!B:B,MATCH(ROW()-8,calc!F:F,0)),\"\")","v":""},{"$f":"IF(A663=\"\",\"\",VLOOKUP(A663,BD!B:C,2,0))","v":""}]
[{"$f":"IF(ROW()-8<=MAX(calc!F:F),INDEX(BD!B:B,MATCH(ROW()-8,calc!F:F,0)),\"\")","v":""},{"$f":"IF(A664=\"\",\"\",VLOOKUP(A664,BD!B:C,2,0))","v":""}]
[{"$f":"IF(ROW()-8<=MAX(calc!F:F),INDEX(BD!B:B,MATCH(ROW()-8,calc!F:F,0)),\"\")","v":""},{"$f":"IF(A665=\"\",\"\",VLOOKUP(A665,BD!B:C,2,0))","v":""}]
[{"$f":"IF(ROW()-8<=MAX(calc!F:F),INDEX(BD!B:B,MATCH(ROW()-8,calc!F:F,0)),\"\")","v":""},{"$f":"IF(A666=\"\",\"\",VLOOKUP(A666,BD!B:C,2,0))","v":""}]
[{"$f":"IF(ROW()-8<=MAX(calc!F:F),INDEX(BD!B:B,MATCH(ROW()-8,calc!F:F,0)),\"\")","v":""},{"$f":"IF(A667=\"\",\"\",VLOOKUP(A667,BD!B:C,2,0))","v":""}]
[{"$f":"IF(ROW()-8<=MAX(calc!F:F),INDEX(BD!B:B,MATCH(ROW()-8,calc!F:F,0)),\"\")","v":""},{"$f":"IF(A668=\"\",\"\",VLOOKUP(A668,BD!B:C,2,0))","v":""}]
[{"$f":"IF(ROW()-8<=MAX(calc!F:F),INDEX(BD!B:B,MATCH(ROW()-8,calc!F:F,0)),\"\")","v":""},{"$f":"IF(A669=\"\",\"\",VLOOKUP(A669,BD!B:C,2,0))","v":""}]
[{"$f":"IF(ROW()-8<=MAX(calc!F:F),INDEX(BD!B:B,MATCH(ROW()-8,calc!F:F,0)),\"\")","v":""},{"$f":"IF(A670=\"\",\"\",VLOOKUP(A670,BD!B:C,2,0))","v":""}]
[{"$f":"IF(ROW()-8<=MAX(calc!F:F),INDEX(BD!B:B,MATCH(ROW()-8,calc!F:F,0)),\"\")","v":""},{"$f":"IF(A671=\"\",\"\",VLOOKUP(A671,BD!B:C,2,0))","v":""}]
[{"$f":"IF(ROW()-8<=MAX(calc!F:F),INDEX(BD!B:B,MATCH(ROW()-8,calc!F:F,0)),\"\")","v":""},{"$f":"IF(A672=\"\",\"\",VLOOKUP(A672,BD!B:C,2,0))","v":""}]
[{"$f":"IF(ROW()-8<=MAX(calc!F:F),INDEX(BD!B:B,MATCH(ROW()-8,calc!F:F,0)),\"\")","v":""},{"$f":"IF(A673=\"\",\"\",VLOOKUP(A673,BD!B:C,2,0))","v":""}]
[{"$f":"IF(ROW()-8<=MAX(calc!F:F),INDEX(BD!B:B,MATCH(ROW()-8,calc!F:F,0)),\"\")","v":""},{"$f":"IF(A674=\"\",\"\",VLOOKUP(A674,BD!B:C,2,0))","v":""}]
[{"$f":"IF(ROW()-8<=MAX(calc!F:F),INDEX(BD!B:B,MATCH(ROW()-8,calc!F:F,0)),\"\")","v":""},{"$f":"IF(A675=\"\",\"\",VLOOKUP(A675,BD!B:C,2,0))","v":""}]
[{"$f":"IF(ROW()-8<=MAX(calc!F:F),INDEX(BD!B:B,MATCH(ROW()-8,calc!F:F,0)),\"\")","v":""},{"$f":"IF(A676=\"\",\"\",VLOOKUP(A676,BD!B:C,2,0))","v":""}]
[{"$f":"IF(ROW()-8<=MAX(calc!F:F),INDEX(BD!B:B,MATCH(ROW()-8,calc!F:F,0)),\"\")","v":""},{"$f":"IF(A677=\"\",\"\",VLOOKUP(A677,BD!B:C,2,0))","v":""}]
[{"$f":"IF(ROW()-8<=MAX(calc!F:F),INDEX(BD!B:B,MATCH(ROW()-8,calc!F:F,0)),\"\")","v":""},{"$f":"IF(A678=\"\",\"\",VLOOKUP(A678,BD!B:C,2,0))","v":""}]
[{"$f":"IF(ROW()-8<=MAX(calc!F:F),INDEX(BD!B:B,MATCH(ROW()-8,calc!F:F,0)),\"\")","v":""},{"$f":"IF(A679=\"\",\"\",VLOOKUP(A679,BD!B:C,2,0))","v":""}]
[{"$f":"IF(ROW()-8<=MAX(calc!F:F),INDEX(BD!B:B,MATCH(ROW()-8,calc!F:F,0)),\"\")","v":""},{"$f":"IF(A680=\"\",\"\",VLOOKUP(A680,BD!B:C,2,0))","v":""}]
[{"$f":"IF(ROW()-8<=MAX(calc!F:F),INDEX(BD!B:B,MATCH(ROW()-8,calc!F:F,0)),\"\")","v":""},{"$f":"IF(A681=\"\",\"\",VLOOKUP(A681,BD!B:C,2,0))","v":""}]
[{"$f":"IF(ROW()-8<=MAX(calc!F:F),INDEX(BD!B:B,MATCH(ROW()-8,calc!F:F,0)),\"\")","v":""},{"$f":"IF(A682=\"\",\"\",VLOOKUP(A682,BD!B:C,2,0))","v":""}]
[{"$f":"IF(ROW()-8<=MAX(calc!F:F),INDEX(BD!B:B,MATCH(ROW()-8,calc!F:F,0)),\"\")","v":""},{"$f":"IF(A683=\"\",\"\",VLOOKUP(A683,BD!B:C,2,0))","v":""}]
[{"$f":"IF(ROW()-8<=MAX(calc!F:F),INDEX(BD!B:B,MATCH(ROW()-8,calc!F:F,0)),\"\")","v":""},{"$f":"IF(A684=\"\",\"\",VLOOKUP(A684,BD!B:C,2,0))","v":""}]
[{"$f":"IF(ROW()-8<=MAX(calc!F:F),INDEX(BD!B:B,MATCH(ROW()-8,calc!F:F,0)),\"\")","v":""},{"$f":"IF(A685=\"\",\"\",VLOOKUP(A685,BD!B:C,2,0))","v":""}]
[{"$f":"IF(ROW()-8<=MAX(calc!F:F),INDEX(BD!B:B,MATCH(ROW()-8,calc!F:F,0)),\"\")","v":""},{"$f":"IF(A686=\"\",\"\",VLOOKUP(A686,BD!B:C,2,0))","v":""}]
[{"$f":"IF(ROW()-8<=MAX(calc!F:F),INDEX(BD!B:B,MATCH(ROW()-8,calc!F:F,0)),\"\")","v":""},{"$f":"IF(A687=\"\",\"\",VLOOKUP(A687,BD!B:C,2,0))","v":""}]
[{"$f":"IF(ROW()-8<=MAX(calc!F:F),INDEX(BD!B:B,MATCH(ROW()-8,calc!F:F,0)),\"\")","v":""},{"$f":"IF(A688=\"\",\"\",VLOOKUP(A688,BD!B:C,2,0))","v":""}]
[{"$f":"IF(ROW()-8<=MAX(calc!F:F),INDEX(BD!B:B,MATCH(ROW()-8,calc!F:F,0)),\"\")","v":""},{"$f":"IF(A689=\"\",\"\",VLOOKUP(A689,BD!B:C,2,0))","v":""}]
[{"$f":"IF(ROW()-8<=MAX(calc!F:F),INDEX(BD!B:B,MATCH(ROW()-8,calc!F:F,0)),\"\")","v":""},{"$f":"IF(A690=\"\",\"\",VLOOKUP(A690,BD!B:C,2,0))","v":""}]
[{"$f":"IF(ROW()-8<=MAX(calc!F:F),INDEX(BD!B:B,MATCH(ROW()-8,calc!F:F,0)),\"\")","v":""},{"$f":"IF(A691=\"\",\"\",VLOOKUP(A691,BD!B:C,2,0))","v":""}]
[{"$f":"IF(ROW()-8<=MAX(calc!F:F),INDEX(BD!B:B,MATCH(ROW()-8,calc!F:F,0)),\"\")","v":""},{"$f":"IF(A692=\"\",\"\",VLOOKUP(A692,BD!B:C,2,0))","v":""}]
[{"$f":"IF(ROW()-8<=MAX(calc!F:F),INDEX(BD!B:B,MATCH(ROW()-8,calc!F:F,0)),\"\")","v":""},{"$f":"IF(A693=\"\",\"\",VLOOKUP(A693,BD!B:C,2,0))","v":""}]
[{"$f":"IF(ROW()-8<=MAX(calc!F:F),INDEX(BD!B:B,MATCH(ROW()-8,calc!F:F,0)),\"\")","v":""},{"$f":"IF(A694=\"\",\"\",VLOOKUP(A694,BD!B:C,2,0))","v":""}]
[{"$f":"IF(ROW()-8<=MAX(calc!F:F),INDEX(BD!B:B,MATCH(ROW()-8,calc!F:F,0)),\"\")","v":""},{"$f":"IF(A695=\"\",\"\",VLOOKUP(A695,BD!B:C,2,0))","v":""}]
[{"$f":"IF(ROW()-8<=MAX(calc!F:F),INDEX(BD!B:B,MATCH(ROW()-8,calc!F:F,0)),\"\")","v":""},{"$f":"IF(A696=\"\",\"\",VLOOKUP(A696,BD!B:C,2,0))","v":""}]
[{"$f":"IF(ROW()-8<=MAX(calc!F:F),INDEX(BD!B:B,MATCH(ROW()-8,calc!F:F,0)),\"\")","v":""},{"$f":"IF(A697=\"\",\"\",VLOOKUP(A697,BD!B:C,2,0))","v":""}]
[{"$f":"IF(ROW()-8<=MAX(calc!F:F),INDEX(BD!B:B,MATCH(ROW()-8,calc!F:F,0)),\"\")","v":""},{"$f":"IF(A698=\"\",\"\",VLOOKUP(A698,BD!B:C,2,0))","v":""}]
[{"$f":"IF(ROW()-8<=MAX(calc!F:F),INDEX(BD!B:B,MATCH(ROW()-8,calc!F:F,0)),\"\")","v":""},{"$f":"IF(A699=\"\",\"\",VLOOKUP(A699,BD!B:C,2,0))","v":""}]
[{"$f":"IF(ROW()-8<=MAX(calc!F:F),INDEX(BD!B:B,MATCH(ROW()-8,calc!F:F,0)),\"\")","v":""},{"$f":"IF(A700=\"\",\"\",VLOOKUP(A700,BD!B:C,2,0))","v":""}]
[{"$f":"IF(ROW()-8<=MAX(calc!F:F),INDEX(BD!B:B,MATCH(ROW()-8,calc!F:F,0)),\"\")","v":""},{"$f":"IF(A701=\"\",\"\",VLOOKUP(A701,BD!B:C,2,0))","v":""}]
[{"$f":"IF(ROW()-8<=MAX(calc!F:F),INDEX(BD!B:B,MATCH(ROW()-8,calc!F:F,0)),\"\")","v":""},{"$f":"IF(A702=\"\",\"\",VLOOKUP(A702,BD!B:C,2,0))","v":""}]
[{"$f":"IF(ROW()-8<=MAX(calc!F:F),INDEX(BD!B:B,MATCH(ROW()-8,calc!F:F,0)),\"\")","v":""},{"$f":"IF(A703=\"\",\"\",VLOOKUP(A703,BD!B:C,2,0))","v":""}]
[{"$f":"IF(ROW()-8<=MAX(calc!F:F),INDEX(BD!B:B,MATCH(ROW()-8,calc!F:F,0)),\"\")","v":""},{"$f":"IF(A704=\"\",\"\",VLOOKUP(A704,BD!B:C,2,0))","v":""}]
[{"$f":"IF(ROW()-8<=MAX(calc!F:F),INDEX(BD!B:B,MATCH(ROW()-8,calc!F:F,0)),\"\")","v":""},{"$f":"IF(A705=\"\",\"\",VLOOKUP(A705,BD!B:C,2,0))","v":""}]
[{"$f":"IF(ROW()-8<=MAX(calc!F:F),INDEX(BD!B:B,MATCH(ROW()-8,calc!F:F,0)),\"\")","v":""},{"$f":"IF(A706=\"\",\"\",VLOOKUP(A706,BD!B:C,2,0))","v":""}]
[{"$f":"IF(ROW()-8<=MAX(calc!F:F),INDEX(BD!B:B,MATCH(ROW()-8,calc!F:F,0)),\"\")","v":""},{"$f":"IF(A707=\"\",\"\",VLOOKUP(A707,BD!B:C,2,0))","v":""}]
[{"$f":"IF(ROW()-8<=MAX(calc!F:F),INDEX(BD!B:B,MATCH(ROW()-8,calc!F:F,0)),\"\")","v":""},{"$f":"IF(A708=\"\",\"\",VLOOKUP(A708,BD!B:C,2,0))","v":""}]
[{"$f":"IF(ROW()-8<=MAX(calc!F:F),INDEX(BD!B:B,MATCH(ROW()-8,calc!F:F,0)),\"\")","v":""},{"$f":"IF(A709=\"\",\"\",VLOOKUP(A709,BD!B:C,2,0))","v":""}]
[{"$f":"IF(ROW()-8<=MAX(calc!F:F),INDEX(BD!B:B,MATCH(ROW()-8,calc!F:F,0)),\"\")","v":""},{"$f":"IF(A710=\"\",\"\",VLOOKUP(A710,BD!B:C,2,0))","v":""}]
[{"$f":"IF(ROW()-8<=MAX(calc!F:F),INDEX(BD!B:B,MATCH(ROW()-8,calc!F:F,0)),\"\")","v":""},{"$f":"IF(A711=\"\",\"\",VLOOKUP(A711,BD!B:C,2,0))","v":""}]
[{"$f":"IF(ROW()-8<=MAX(calc!F:F),INDEX(BD!B:B,MATCH(ROW()-8,calc!F:F,0)),\"\")","v":""},{"$f":"IF(A712=\"\",\"\",VLOOKUP(A712,BD!B:C,2,0))","v":""}]
[{"$f":"IF(ROW()-8<=MAX(calc!F:F),INDEX(BD!B:B,MATCH(ROW()-8,calc!F:F,0)),\"\")","v":""},{"$f":"IF(A713=\"\",\"\",VLOOKUP(A713,BD!B:C,2,0))","v":""}]
[{"$f":"IF(ROW()-8<=MAX(calc!F:F),INDEX(BD!B:B,MATCH(ROW()-8,calc!F:F,0)),\"\")","v":""},{"$f":"IF(A714=\"\",\"\",VLOOKUP(A714,BD!B:C,2,0))","v":""}]
[{"$f":"IF(ROW()-8<=MAX(calc!F:F),INDEX(BD!B:B,MATCH(ROW()-8,calc!F:F,0)),\"\")","v":""},{"$f":"IF(A715=\"\",\"\",VLOOKUP(A715,BD!B:C,2,0))","v":""}]
[{"$f":"IF(ROW()-8<=MAX(calc!F:F),INDEX(BD!B:B,MATCH(ROW()-8,calc!F:F,0)),\"\")","v":""},{"$f":"IF(A716=\"\",\"\",VLOOKUP(A716,BD!B:C,2,0))","v":""}]
[{"$f":"IF(ROW()-8<=MAX(calc!F:F),INDEX(BD!B:B,MATCH(ROW()-8,calc!F:F,0)),\"\")","v":""},{"$f":"IF(A717=\"\",\"\",VLOOKUP(A717,BD!B:C,2,0))","v":""}]
[{"$f":"IF(ROW()-8<=MAX(calc!F:F),INDEX(BD!B:B,MATCH(ROW()-8,calc!F:F,0)),\"\")","v":""},{"$f":"IF(A718=\"\",\"\",VLOOKUP(A718,BD!B:C,2,0))","v":""}]
[{"$f":"IF(ROW()-8<=MAX(calc!F:F),INDEX(BD!B:B,MATCH(ROW()-8,calc!F:F,0)),\"\")","v":""},{"$f":"IF(A719=\"\",\"\",VLOOKUP(A719,BD!B:C,2,0))","v":""}]
[{"$f":"IF(ROW()-8<=MAX(calc!F:F),INDEX(BD!B:B,MATCH(ROW()-8,calc!F:F,0)),\"\")","v":""},{"$f":"IF(A720=\"\",\"\",VLOOKUP(A720,BD!B:C,2,0))","v":""}]
[{"$f":"IF(ROW()-8<=MAX(calc!F:F),INDEX(BD!B:B,MATCH(ROW()-8,calc!F:F,0)),\"\")","v":""},{"$f":"IF(A721=\"\",\"\",VLOOKUP(A721,BD!B:C,2,0))","v":""}]
[{"$f":"IF(ROW()-8<=MAX(calc!F:F),INDEX(BD!B:B,MATCH(ROW()-8,calc!F:F,0)),\"\")","v":""},{"$f":"IF(A722=\"\",\"\",VLOOKUP(A722,BD!B:C,2,0))","v":""}]
[{"$f":"IF(ROW()-8<=MAX(calc!F:F),INDEX(BD!B:B,MATCH(ROW()-8,calc!F:F,0)),\"\")","v":""},{"$f":"IF(A723=\"\",\"\",VLOOKUP(A723,BD!B:C,2,0))","v":""}]
[{"$f":"IF(ROW()-8<=MAX(calc!F:F),INDEX(BD!B:B,MATCH(ROW()-8,calc!F:F,0)),\"\")","v":""},{"$f":"IF(A724=\"\",\"\",VLOOKUP(A724,BD!B:C,2,0))","v":""}]
[{"$f":"IF(ROW()-8<=MAX(calc!F:F),INDEX(BD!B:B,MATCH(ROW()-8,calc!F:F,0)),\"\")","v":""},{"$f":"IF(A725=\"\",\"\",VLOOKUP(A725,BD!B:C,2,0))","v":""}]
[{"$f":"IF(ROW()-8<=MAX(calc!F:F),INDEX(BD!B:B,MATCH(ROW()-8,calc!F:F,0)),\"\")","v":""},{"$f":"IF(A726=\"\",\"\",VLOOKUP(A726,BD!B:C,2,0))","v":""}]
[{"$f":"IF(ROW()-8<=MAX(calc!F:F),INDEX(BD!B:B,MATCH(ROW()-8,calc!F:F,0)),\"\")","v":""},{"$f":"IF(A727=\"\",\"\",VLOOKUP(A727,BD!B:C,2,0))","v":""}]
[{"$f":"IF(ROW()-8<=MAX(calc!F:F),INDEX(BD!B:B,MATCH(ROW()-8,calc!F:F,0)),\"\")","v":""},{"$f":"IF(A728=\"\",\"\",VLOOKUP(A728,BD!B:C,2,0))","v":""}]
[{"$f":"IF(ROW()-8<=MAX(calc!F:F),INDEX(BD!B:B,MATCH(ROW()-8,calc!F:F,0)),\"\")","v":""},{"$f":"IF(A729=\"\",\"\",VLOOKUP(A729,BD!B:C,2,0))","v":""}]
[{"$f":"IF(ROW()-8<=MAX(calc!F:F),INDEX(BD!B:B,MATCH(ROW()-8,calc!F:F,0)),\"\")","v":""},{"$f":"IF(A730=\"\",\"\",VLOOKUP(A730,BD!B:C,2,0))","v":""}]
[{"$f":"IF(ROW()-8<=MAX(calc!F:F),INDEX(BD!B:B,MATCH(ROW()-8,calc!F:F,0)),\"\")","v":""},{"$f":"IF(A731=\"\",\"\",VLOOKUP(A731,BD!B:C,2,0))","v":""}]
[{"$f":"IF(ROW()-8<=MAX(calc!F:F),INDEX(BD!B:B,MATCH(ROW()-8,calc!F:F,0)),\"\")","v":""},{"$f":"IF(A732=\"\",\"\",VLOOKUP(A732,BD!B:C,2,0))","v":""}]
[{"$f":"IF(ROW()-8<=MAX(calc!F:F),INDEX(BD!B:B,MATCH(ROW()-8,calc!F:F,0)),\"\")","v":""},{"$f":"IF(A733=\"\",\"\",VLOOKUP(A733,BD!B:C,2,0))","v":""}]
[{"$f":"IF(ROW()-8<=MAX(calc!F:F),INDEX(BD!B:B,MATCH(ROW()-8,calc!F:F,0)),\"\")","v":""},{"$f":"IF(A734=\"\",\"\",VLOOKUP(A734,BD!B:C,2,0))","v":""}]
[{"$f":"IF(ROW()-8<=MAX(calc!F:F),INDEX(BD!B:B,MATCH(ROW()-8,calc!F:F,0)),\"\")","v":""},{"$f":"IF(A735=\"\",\"\",VLOOKUP(A735,BD!B:C,2,0))","v":""}]
[{"$f":"IF(ROW()-8<=MAX(calc!F:F),INDEX(BD!B:B,MATCH(ROW()-8,calc!F:F,0)),\"\")","v":""},{"$f":"IF(A736=\"\",\"\",VLOOKUP(A736,BD!B:C,2,0))","v":""}]
[{"$f":"IF(ROW()-8<=MAX(calc!F:F),INDEX(BD!B:B,MATCH(ROW()-8,calc!F:F,0)),\"\")","v":""},{"$f":"IF(A737=\"\",\"\",VLOOKUP(A737,BD!B:C,2,0))","v":""}]
[{"$f":"IF(ROW()-8<=MAX(calc!F:F),INDEX(BD!B:B,MATCH(ROW()-8,calc!F:F,0)),\"\")","v":""},{"$f":"IF(A738=\"\",\"\",VLOOKUP(A738,BD!B:C,2,0))","v":""}]
[{"$f":"IF(ROW()-8<=MAX(calc!F:F),INDEX(BD!B:B,MATCH(ROW()-8,calc!F:F,0)),\"\")","v":""},{"$f":"IF(A739=\"\",\"\",VLOOKUP(A739,BD!B:C,2,0))","v":""}]
[{"$f":"IF(ROW()-8<=MAX(calc!F:F),INDEX(BD!B:B,MATCH(ROW()-8,calc!F:F,0)),\"\")","v":""},{"$f":"IF(A740=\"\",\"\",VLOOKUP(A740,BD!B:C,2,0))","v":""}]
[{"$f":"IF(ROW()-8<=MAX(calc!F:F),INDEX(BD!B:B,MATCH(ROW()-8,calc!F:F,0)),\"\")","v":""},{"$f":"IF(A741=\"\",\"\",VLOOKUP(A741,BD!B:C,2,0))","v":""}]
[{"$f":"IF(ROW()-8<=MAX(calc!F:F),INDEX(BD!B:B,MATCH(ROW()-8,calc!F:F,0)),\"\")","v":""},{"$f":"IF(A742=\"\",\"\",VLOOKUP(A742,BD!B:C,2,0))","v":""}]
[{"$f":"IF(ROW()-8<=MAX(calc!F:F),INDEX(BD!B:B,MATCH(ROW()-8,calc!F:F,0)),\"\")","v":""},{"$f":"IF(A743=\"\",\"\",VLOOKUP(A743,BD!B:C,2,0))","v":""}]
[{"$f":"IF(ROW()-8<=MAX(calc!F:F),INDEX(BD!B:B,MATCH(ROW()-8,calc!F:F,0)),\"\")","v":""},{"$f":"IF(A744=\"\",\"\",VLOOKUP(A744,BD!B:C,2,0))","v":""}]
[{"$f":"IF(ROW()-8<=MAX(calc!F:F),INDEX(BD!B:B,MATCH(ROW()-8,calc!F:F,0)),\"\")","v":""},{"$f":"IF(A745=\"\",\"\",VLOOKUP(A745,BD!B:C,2,0))","v":""}]
[{"$f":"IF(ROW()-8<=MAX(calc!F:F),INDEX(BD!B:B,MATCH(ROW()-8,calc!F:F,0)),\"\")","v":""},{"$f":"IF(A746=\"\",\"\",VLOOKUP(A746,BD!B:C,2,0))","v":""}]
[{"$f":"IF(ROW()-8<=MAX(calc!F:F),INDEX(BD!B:B,MATCH(ROW()-8,calc!F:F,0)),\"\")","v":""},{"$f":"IF(A747=\"\",\"\",VLOOKUP(A747,BD!B:C,2,0))","v":""}]
[{"$f":"IF(ROW()-8<=MAX(calc!F:F),INDEX(BD!B:B,MATCH(ROW()-8,calc!F:F,0)),\"\")","v":""},{"$f":"IF(A748=\"\",\"\",VLOOKUP(A748,BD!B:C,2,0))","v":""}]
[{"$f":"IF(ROW()-8<=MAX(calc!F:F),INDEX(BD!B:B,MATCH(ROW()-8,calc!F:F,0)),\"\")","v":""},{"$f":"IF(A749=\"\",\"\",VLOOKUP(A749,BD!B:C,2,0))","v":""}]
[{"$f":"IF(ROW()-8<=MAX(calc!F:F),INDEX(BD!B:B,MATCH(ROW()-8,calc!F:F,0)),\"\")","v":""},{"$f":"IF(A750=\"\",\"\",VLOOKUP(A750,BD!B:C,2,0))","v":""}]
[{"$f":"IF(ROW()-8<=MAX(calc!F:F),INDEX(BD!B:B,MATCH(ROW()-8,calc!F:F,0)),\"\")","v":""},{"$f":"IF(A751=\"\",\"\",VLOOKUP(A751,BD!B:C,2,0))","v":""}]
[{"$f":"IF(ROW()-8<=MAX(calc!F:F),INDEX(BD!B:B,MATCH(ROW()-8,calc!F:F,0)),\"\")","v":""},{"$f":"IF(A752=\"\",\"\",VLOOKUP(A752,BD!B:C,2,0))","v":""}]
[{"$f":"IF(ROW()-8<=MAX(calc!F:F),INDEX(BD!B:B,MATCH(ROW()-8,calc!F:F,0)),\"\")","v":""},{"$f":"IF(A753=\"\",\"\",VLOOKUP(A753,BD!B:C,2,0))","v":""}]
[{"$f":"IF(ROW()-8<=MAX(calc!F:F),INDEX(BD!B:B,MATCH(ROW()-8,calc!F:F,0)),\"\")","v":""},{"$f":"IF(A754=\"\",\"\",VLOOKUP(A754,BD!B:C,2,0))","v":""}]
[{"$f":"IF(ROW()-8<=MAX(calc!F:F),INDEX(BD!B:B,MATCH(ROW()-8,calc!F:F,0)),\"\")","v":""},{"$f":"IF(A755=\"\",\"\",VLOOKUP(A755,BD!B:C,2,0))","v":""}]
[{"$f":"IF(ROW()-8<=MAX(calc!F:F),INDEX(BD!B:B,MATCH(ROW()-8,calc!F:F,0)),\"\")","v":""},{"$f":"IF(A756=\"\",\"\",VLOOKUP(A756,BD!B:C,2,0))","v":""}]
[{"$f":"IF(ROW()-8<=MAX(calc!F:F),INDEX(BD!B:B,MATCH(ROW()-8,calc!F:F,0)),\"\")","v":""},{"$f":"IF(A757=\"\",\"\",VLOOKUP(A757,BD!B:C,2,0))","v":""}]
[{"$f":"IF(ROW()-8<=MAX(calc!F:F),INDEX(BD!B:B,MATCH(ROW()-8,calc!F:F,0)),\"\")","v":""},{"$f":"IF(A758=\"\",\"\",VLOOKUP(A758,BD!B:C,2,0))","v":""}]
[{"$f":"IF(ROW()-8<=MAX(calc!F:F),INDEX(BD!B:B,MATCH(ROW()-8,calc!F:F,0)),\"\")","v":""},{"$f":"IF(A759=\"\",\"\",VLOOKUP(A759,BD!B:C,2,0))","v":""}]
[{"$f":"IF(ROW()-8<=MAX(calc!F:F),INDEX(BD!B:B,MATCH(ROW()-8,calc!F:F,0)),\"\")","v":""},{"$f":"IF(A760=\"\",\"\",VLOOKUP(A760,BD!B:C,2,0))","v":""}]
[{"$f":"IF(ROW()-8<=MAX(calc!F:F),INDEX(BD!B:B,MATCH(ROW()-8,calc!F:F,0)),\"\")","v":""},{"$f":"IF(A761=\"\",\"\",VLOOKUP(A761,BD!B:C,2,0))","v":""}]
[{"$f":"IF(ROW()-8<=MAX(calc!F:F),INDEX(BD!B:B,MATCH(ROW()-8,calc!F:F,0)),\"\")","v":""},{"$f":"IF(A762=\"\",\"\",VLOOKUP(A762,BD!B:C,2,0))","v":""}]
[{"$f":"IF(ROW()-8<=MAX(calc!F:F),INDEX(BD!B:B,MATCH(ROW()-8,calc!F:F,0)),\"\")","v":""},{"$f":"IF(A763=\"\",\"\",VLOOKUP(A763,BD!B:C,2,0))","v":""}]
[{"$f":"IF(ROW()-8<=MAX(calc!F:F),INDEX(BD!B:B,MATCH(ROW()-8,calc!F:F,0)),\"\")","v":""},{"$f":"IF(A764=\"\",\"\",VLOOKUP(A764,BD!B:C,2,0))","v":""}]
[{"$f":"IF(ROW()-8<=MAX(calc!F:F),INDEX(BD!B:B,MATCH(ROW()-8,calc!F:F,0)),\"\")","v":""},{"$f":"IF(A765=\"\",\"\",VLOOKUP(A765,BD!B:C,2,0))","v":""}]
[{"$f":"IF(ROW()-8<=MAX(calc!F:F),INDEX(BD!B:B,MATCH(ROW()-8,calc!F:F,0)),\"\")","v":""},{"$f":"IF(A766=\"\",\"\",VLOOKUP(A766,BD!B:C,2,0))","v":""}]
[{"$f":"IF(ROW()-8<=MAX(calc!F:F),INDEX(BD!B:B,MATCH(ROW()-8,calc!F:F,0)),\"\")","v":""},{"$f":"IF(A767=\"\",\"\",VLOOKUP(A767,BD!B:C,2,0))","v":""}]
[{"$f":"IF(ROW()-8<=MAX(calc!F:F),INDEX(BD!B:B,MATCH(ROW()-8,calc!F:F,0)),\"\")","v":""},{"$f":"IF(A768=\"\",\"\",VLOOKUP(A768,BD!B:C,2,0))","v":""}]
[{"$f":"IF(ROW()-8<=MAX(calc!F:F),INDEX(BD!B:B,MATCH(ROW()-8,calc!F:F,0)),\"\")","v":""},{"$f":"IF(A769=\"\",\"\",VLOOKUP(A769,BD!B:C,2,0))","v":""}]
[{"$f":"IF(ROW()-8<=MAX(calc!F:F),INDEX(BD!B:B,MATCH(ROW()-8,calc!F:F,0)),\"\")","v":""},{"$f":"IF(A770=\"\",\"\",VLOOKUP(A770,BD!B:C,2,0))","v":""}]
[{"$f":"IF(ROW()-8<=MAX(calc!F:F),INDEX(BD!B:B,MATCH(ROW()-8,calc!F:F,0)),\"\")","v":""},{"$f":"IF(A771=\"\",\"\",VLOOKUP(A771,BD!B:C,2,0))","v":""}]
[{"$f":"IF(ROW()-8<=MAX(calc!F:F),INDEX(BD!B:B,MATCH(ROW()-8,calc!F:F,0)),\"\")","v":""},{"$f":"IF(A772=\"\",\"\",VLOOKUP(A772,BD!B:C,2,0))","v":""}]
[{"$f":"IF(ROW()-8<=MAX(calc!F:F),INDEX(BD!B:B,MATCH(ROW()-8,calc!F:F,0)),\"\")","v":""},{"$f":"IF(A773=\"\",\"\",VLOOKUP(A773,BD!B:C,2,0))","v":""}]
[{"$f":"IF(ROW()-8<=MAX(calc!F:F),INDEX(BD!B:B,MATCH(ROW()-8,calc!F:F,0)),\"\")","v":""},{"$f":"IF(A774=\"\",\"\",VLOOKUP(A774,BD!B:C,2,0))","v":""}]
[{"$f":"IF(ROW()-8<=MAX(calc!F:F),INDEX(BD!B:B,MATCH(ROW()-8,calc!F:F,0)),\"\")","v":""},{"$f":"IF(A775=\"\",\"\",VLOOKUP(A775,BD!B:C,2,0))","v":""}]
[{"$f":"IF(ROW()-8<=MAX(calc!F:F),INDEX(BD!B:B,MATCH(ROW()-8,calc!F:F,0)),\"\")","v":""},{"$f":"IF(A776=\"\",\"\",VLOOKUP(A776,BD!B:C,2,0))","v":""}]
[{"$f":"IF(ROW()-8<=MAX(calc!F:F),INDEX(BD!B:B,MATCH(ROW()-8,calc!F:F,0)),\"\")","v":""},{"$f":"IF(A777=\"\",\"\",VLOOKUP(A777,BD!B:C,2,0))","v":""}]
[{"$f":"IF(ROW()-8<=MAX(calc!F:F),INDEX(BD!B:B,MATCH(ROW()-8,calc!F:F,0)),\"\")","v":""},{"$f":"IF(A778=\"\",\"\",VLOOKUP(A778,BD!B:C,2,0))","v":""}]
[{"$f":"IF(ROW()-8<=MAX(calc!F:F),INDEX(BD!B:B,MATCH(ROW()-8,calc!F:F,0)),\"\")","v":""},{"$f":"IF(A779=\"\",\"\",VLOOKUP(A779,BD!B:C,2,0))","v":""}]
[{"$f":"IF(ROW()-8<=MAX(calc!F:F),INDEX(BD!B:B,MATCH(ROW()-8,calc!F:F,0)),\"\")","v":""},{"$f":"IF(A780=\"\",\"\",VLOOKUP(A780,BD!B:C,2,0))","v":""}]
[{"$f":"IF(ROW()-8<=MAX(calc!F:F),INDEX(BD!B:B,MATCH(ROW()-8,calc!F:F,0)),\"\")","v":""},{"$f":"IF(A781=\"\",\"\",VLOOKUP(A781,BD!B:C,2,0))","v":""}]
[{"$f":"IF(ROW()-8<=MAX(calc!F:F),INDEX(BD!B:B,MATCH(ROW()-8,calc!F:F,0)),\"\")","v":""},{"$f":"IF(A782=\"\",\"\",VLOOKUP(A782,BD!B:C,2,0))","v":""}]
[{"$f":"IF(ROW()-8<=MAX(calc!F:F),INDEX(BD!B:B,MATCH(ROW()-8,calc!F:F,0)),\"\")","v":""},{"$f":"IF(A783=\"\",\"\",VLOOKUP(A783,BD!B:C,2,0))","v":""}]
[{"$f":"IF(ROW()-8<=MAX(calc!F:F),INDEX(BD!B:B,MATCH(ROW()-8,calc!F:F,0)),\"\")","v":""},{"$f":"IF(A784=\"\",\"\",VLOOKUP(A784,BD!B:C,2,0))","v":""}]
[{"$f":"IF(ROW()-8<=MAX(calc!F:F),INDEX(BD!B:B,MATCH(ROW()-8,calc!F:F,0)),\"\")","v":""},{"$f":"IF(A785=\"\",\"\",VLOOKUP(A785,BD!B:C,2,0))","v":""}]
[{"$f":"IF(ROW()-8<=MAX(calc!F:F),INDEX(BD!B:B,MATCH(ROW()-8,calc!F:F,0)),\"\")","v":""},{"$f":"IF(A786=\"\",\"\",VLOOKUP(A786,BD!B:C,2,0))","v":""}]
[{"$f":"IF(ROW()-8<=MAX(calc!F:F),INDEX(BD!B:B,MATCH(ROW()-8,calc!F:F,0)),\"\")","v":""},{"$f":"IF(A787=\"\",\"\",VLOOKUP(A787,BD!B:C,2,0))","v":""}]
[{"$f":"IF(ROW()-8<=MAX(calc!F:F),INDEX(BD!B:B,MATCH(ROW()-8,calc!F:F,0)),\"\")","v":""},{"$f":"IF(A788=\"\",\"\",VLOOKUP(A788,BD!B:C,2,0))","v":""}]
[{"$f":"IF(ROW()-8<=MAX(calc!F:F),INDEX(BD!B:B,MATCH(ROW()-8,calc!F:F,0)),\"\")","v":""},{"$f":"IF(A789=\"\",\"\",VLOOKUP(A789,BD!B:C,2,0))","v":""}]
[{"$f":"IF(ROW()-8<=MAX(calc!F:F),INDEX(BD!B:B,MATCH(ROW()-8,calc!F:F,0)),\"\")","v":""},{"$f":"IF(A790=\"\",\"\",VLOOKUP(A790,BD!B:C,2,0))","v":""}]
[{"$f":"IF(ROW()-8<=MAX(calc!F:F),INDEX(BD!B:B,MATCH(ROW()-8,calc!F:F,0)),\"\")","v":""},{"$f":"IF(A791=\"\",\"\",VLOOKUP(A791,BD!B:C,2,0))","v":""}]
[{"$f":"IF(ROW()-8<=MAX(calc!F:F),INDEX(BD!B:B,MATCH(ROW()-8,calc!F:F,0)),\"\")","v":""},{"$f":"IF(A792=\"\",\"\",VLOOKUP(A792,BD!B:C,2,0))","v":""}]
[{"$f":"IF(ROW()-8<=MAX(calc!F:F),INDEX(BD!B:B,MATCH(ROW()-8,calc!F:F,0)),\"\")","v":""},{"$f":"IF(A793=\"\",\"\",VLOOKUP(A793,BD!B:C,2,0))","v":""}]
[{"$f":"IF(ROW()-8<=MAX(calc!F:F),INDEX(BD!B:B,MATCH(ROW()-8,calc!F:F,0)),\"\")","v":""},{"$f":"IF(A794=\"\",\"\",VLOOKUP(A794,BD!B:C,2,0))","v":""}]
[{"$f":"IF(ROW()-8<=MAX(calc!F:F),INDEX(BD!B:B,MATCH(ROW()-8,calc!F:F,0)),\"\")","v":""},{"$f":"IF(A795=\"\",\"\",VLOOKUP(A795,BD!B:C,2,0))","v":""}]
[{"$f":"IF(ROW()-8<=MAX(calc!F:F),INDEX(BD!B:B,MATCH(ROW()-8,calc!F:F,0)),\"\")","v":""},{"$f":"IF(A796=\"\",\"\",VLOOKUP(A796,BD!B:C,2,0))","v":""}]
[{"$f":"IF(ROW()-8<=MAX(calc!F:F),INDEX(BD!B:B,MATCH(ROW()-8,calc!F:F,0)),\"\")","v":""},{"$f":"IF(A797=\"\",\"\",VLOOKUP(A797,BD!B:C,2,0))","v":""}]
[{"$f":"IF(ROW()-8<=MAX(calc!F:F),INDEX(BD!B:B,MATCH(ROW()-8,calc!F:F,0)),\"\")","v":""},{"$f":"IF(A798=\"\",\"\",VLOOKUP(A798,BD!B:C,2,0))","v":""}]
[{"$f":"IF(ROW()-8<=MAX(calc!F:F),INDEX(BD!B:B,MATCH(ROW()-8,calc!F:F,0)),\"\")","v":""},{"$f":"IF(A799=\"\",\"\",VLOOKUP(A799,BD!B:C,2,0))","v":""}]
[{"$f":"IF(ROW()-8<=MAX(calc!F:F),INDEX(BD!B:B,MATCH(ROW()-8,calc!F:F,0)),\"\")","v":""},{"$f":"IF(A800=\"\",\"\",VLOOKUP(A800,BD!B:C,2,0))","v":""}]
[{"$f":"IF(ROW()-8<=MAX(calc!F:F),INDEX(BD!B:B,MATCH(ROW()-8,calc!F:F,0)),\"\")","v":""},{"$f":"IF(A801=\"\",\"\",VLOOKUP(A801,BD!B:C,2,0))","v":""}]
[{"$f":"IF(ROW()-8<=MAX(calc!F:F),INDEX(BD!B:B,MATCH(ROW()-8,calc!F:F,0)),\"\")","v":""},{"$f":"IF(A802=\"\",\"\",VLOOKUP(A802,BD!B:C,2,0))","v":""}]
[{"$f":"IF(ROW()-8<=MAX(calc!F:F),INDEX(BD!B:B,MATCH(ROW()-8,calc!F:F,0)),\"\")","v":""},{"$f":"IF(A803=\"\",\"\",VLOOKUP(A803,BD!B:C,2,0))","v":""}]
[{"$f":"IF(ROW()-8<=MAX(calc!F:F),INDEX(BD!B:B,MATCH(ROW()-8,calc!F:F,0)),\"\")","v":""},{"$f":"IF(A804=\"\",\"\",VLOOKUP(A804,BD!B:C,2,0))","v":""}]
[{"$f":"IF(ROW()-8<=MAX(calc!F:F),INDEX(BD!B:B,MATCH(ROW()-8,calc!F:F,0)),\"\")","v":""},{"$f":"IF(A805=\"\",\"\",VLOOKUP(A805,BD!B:C,2,0))","v":""}]
[{"$f":"IF(ROW()-8<=MAX(calc!F:F),INDEX(BD!B:B,MATCH(ROW()-8,calc!F:F,0)),\"\")","v":""},{"$f":"IF(A806=\"\",\"\",VLOOKUP(A806,BD!B:C,2,0))","v":""}]
[{"$f":"IF(ROW()-8<=MAX(calc!F:F),INDEX(BD!B:B,MATCH(ROW()-8,calc!F:F,0)),\"\")","v":""},{"$f":"IF(A807=\"\",\"\",VLOOKUP(A807,BD!B:C,2,0))","v":""}]
[{"$f":"IF(ROW()-8<=MAX(calc!F:F),INDEX(BD!B:B,MATCH(ROW()-8,calc!F:F,0)),\"\")","v":""},{"$f":"IF(A808=\"\",\"\",VLOOKUP(A808,BD!B:C,2,0))","v":""}]
[{"$f":"IF(ROW()-8<=MAX(calc!F:F),INDEX(BD!B:B,MATCH(ROW()-8,calc!F:F,0)),\"\")","v":""},{"$f":"IF(A809=\"\",\"\",VLOOKUP(A809,BD!B:C,2,0))","v":""}]
[{"$f":"IF(ROW()-8<=MAX(calc!F:F),INDEX(BD!B:B,MATCH(ROW()-8,calc!F:F,0)),\"\")","v":""},{"$f":"IF(A810=\"\",\"\",VLOOKUP(A810,BD!B:C,2,0))","v":""}]
[{"$f":"IF(ROW()-8<=MAX(calc!F:F),INDEX(BD!B:B,MATCH(ROW()-8,calc!F:F,0)),\"\")","v":""},{"$f":"IF(A811=\"\",\"\",VLOOKUP(A811,BD!B:C,2,0))","v":""}]
[{"$f":"IF(ROW()-8<=MAX(calc!F:F),INDEX(BD!B:B,MATCH(ROW()-8,calc!F:F,0)),\"\")","v":""},{"$f":"IF(A812=\"\",\"\",VLOOKUP(A812,BD!B:C,2,0))","v":""}]
[{"$f":"IF(ROW()-8<=MAX(calc!F:F),INDEX(BD!B:B,MATCH(ROW()-8,calc!F:F,0)),\"\")","v":""},{"$f":"IF(A813=\"\",\"\",VLOOKUP(A813,BD!B:C,2,0))","v":""}]
[{"$f":"IF(ROW()-8<=MAX(calc!F:F),INDEX(BD!B:B,MATCH(ROW()-8,calc!F:F,0)),\"\")","v":""},{"$f":"IF(A814=\"\",\"\",VLOOKUP(A814,BD!B:C,2,0))","v":""}]
[{"$f":"IF(ROW()-8<=MAX(calc!F:F),INDEX(BD!B:B,MATCH(ROW()-8,calc!F:F,0)),\"\")","v":""},{"$f":"IF(A815=\"\",\"\",VLOOKUP(A815,BD!B:C,2,0))","v":""}]
[{"$f":"IF(ROW()-8<=MAX(calc!F:F),INDEX(BD!B:B,MATCH(ROW()-8,calc!F:F,0)),\"\")","v":""},{"$f":"IF(A816=\"\",\"\",VLOOKUP(A816,BD!B:C,2,0))","v":""}]
[{"$f":"IF(ROW()-8<=MAX(calc!F:F),INDEX(BD!B:B,MATCH(ROW()-8,calc!F:F,0)),\"\")","v":""},{"$f":"IF(A817=\"\",\"\",VLOOKUP(A817,BD!B:C,2,0))","v":""}]
[{"$f":"IF(ROW()-8<=MAX(calc!F:F),INDEX(BD!B:B,MATCH(ROW()-8,calc!F:F,0)),\"\")","v":""},{"$f":"IF(A818=\"\",\"\",VLOOKUP(A818,BD!B:C,2,0))","v":""}]
[{"$f":"IF(ROW()-8<=MAX(calc!F:F),INDEX(BD!B:B,MATCH(ROW()-8,calc!F:F,0)),\"\")","v":""},{"$f":"IF(A819=\"\",\"\",VLOOKUP(A819,BD!B:C,2,0))","v":""}]
[{"$f":"IF(ROW()-8<=MAX(calc!F:F),INDEX(BD!B:B,MATCH(ROW()-8,calc!F:F,0)),\"\")","v":""},{"$f":"IF(A820=\"\",\"\",VLOOKUP(A820,BD!B:C,2,0))","v":""}]
[{"$f":"IF(ROW()-8<=MAX(calc!F:F),INDEX(BD!B:B,MATCH(ROW()-8,calc!F:F,0)),\"\")","v":""},{"$f":"IF(A821=\"\",\"\",VLOOKUP(A821,BD!B:C,2,0))","v":""}]
[{"$f":"IF(ROW()-8<=MAX(calc!F:F),INDEX(BD!B:B,MATCH(ROW()-8,calc!F:F,0)),\"\")","v":""},{"$f":"IF(A822=\"\",\"\",VLOOKUP(A822,BD!B:C,2,0))","v":""}]
[{"$f":"IF(ROW()-8<=MAX(calc!F:F),INDEX(BD!B:B,MATCH(ROW()-8,calc!F:F,0)),\"\")","v":""},{"$f":"IF(A823=\"\",\"\",VLOOKUP(A823,BD!B:C,2,0))","v":""}]
[{"$f":"IF(ROW()-8<=MAX(calc!F:F),INDEX(BD!B:B,MATCH(ROW()-8,calc!F:F,0)),\"\")","v":""},{"$f":"IF(A824=\"\",\"\",VLOOKUP(A824,BD!B:C,2,0))","v":""}]
[{"$f":"IF(ROW()-8<=MAX(calc!F:F),INDEX(BD!B:B,MATCH(ROW()-8,calc!F:F,0)),\"\")","v":""},{"$f":"IF(A825=\"\",\"\",VLOOKUP(A825,BD!B:C,2,0))","v":""}]
[{"$f":"IF(ROW()-8<=MAX(calc!F:F),INDEX(BD!B:B,MATCH(ROW()-8,calc!F:F,0)),\"\")","v":""},{"$f":"IF(A826=\"\",\"\",VLOOKUP(A826,BD!B:C,2,0))","v":""}]
[{"$f":"IF(ROW()-8<=MAX(calc!F:F),INDEX(BD!B:B,MATCH(ROW()-8,calc!F:F,0)),\"\")","v":""},{"$f":"IF(A827=\"\",\"\",VLOOKUP(A827,BD!B:C,2,0))","v":""}]
[{"$f":"IF(ROW()-8<=MAX(calc!F:F),INDEX(BD!B:B,MATCH(ROW()-8,calc!F:F,0)),\"\")","v":""},{"$f":"IF(A828=\"\",\"\",VLOOKUP(A828,BD!B:C,2,0))","v":""}]
[{"$f":"IF(ROW()-8<=MAX(calc!F:F),INDEX(BD!B:B,MATCH(ROW()-8,calc!F:F,0)),\"\")","v":""},{"$f":"IF(A829=\"\",\"\",VLOOKUP(A829,BD!B:C,2,0))","v":""}]
[{"$f":"IF(ROW()-8<=MAX(calc!F:F),INDEX(BD!B:B,MATCH(ROW()-8,calc!F:F,0)),\"\")","v":""},{"$f":"IF(A830=\"\",\"\",VLOOKUP(A830,BD!B:C,2,0))","v":""}]
[{"$f":"IF(ROW()-8<=MAX(calc!F:F),INDEX(BD!B:B,MATCH(ROW()-8,calc!F:F,0)),\"\")","v":""},{"$f":"IF(A831=\"\",\"\",VLOOKUP(A831,BD!B:C,2,0))","v":""}]
[{"$f":"IF(ROW()-8<=MAX(calc!F:F),INDEX(BD!B:B,MATCH(ROW()-8,calc!F:F,0)),\"\")","v":""},{"$f":"IF(A832=\"\",\"\",VLOOKUP(A832,BD!B:C,2,0))","v":""}]
[{"$f":"IF(ROW()-8<=MAX(calc!F:F),INDEX(BD!B:B,MATCH(ROW()-8,calc!F:F,0)),\"\")","v":""},{"$f":"IF(A833=\"\",\"\",VLOOKUP(A833,BD!B:C,2,0))","v":""}]
[{"$f":"IF(ROW()-8<=MAX(calc!F:F),INDEX(BD!B:B,MATCH(ROW()-8,calc!F:F,0)),\"\")","v":""},{"$f":"IF(A834=\"\",\"\",VLOOKUP(A834,BD!B:C,2,0))","v":""}]
[{"$f":"IF(ROW()-8<=MAX(calc!F:F),INDEX(BD!B:B,MATCH(ROW()-8,calc!F:F,0)),\"\")","v":""},{"$f":"IF(A835=\"\",\"\",VLOOKUP(A835,BD!B:C,2,0))","v":""}]
[{"$f":"IF(ROW()-8<=MAX(calc!F:F),INDEX(BD!B:B,MATCH(ROW()-8,calc!F:F,0)),\"\")","v":""},{"$f":"IF(A836=\"\",\"\",VLOOKUP(A836,BD!B:C,2,0))","v":""}]
[{"$f":"IF(ROW()-8<=MAX(calc!F:F),INDEX(BD!B:B,MATCH(ROW()-8,calc!F:F,0)),\"\")","v":""},{"$f":"IF(A837=\"\",\"\",VLOOKUP(A837,BD!B:C,2,0))","v":""}]
[{"$f":"IF(ROW()-8<=MAX(calc!F:F),INDEX(BD!B:B,MATCH(ROW()-8,calc!F:F,0)),\"\")","v":""},{"$f":"IF(A838=\"\",\"\",VLOOKUP(A838,BD!B:C,2,0))","v":""}]
[{"$f":"IF(ROW()-8<=MAX(calc!F:F),INDEX(BD!B:B,MATCH(ROW()-8,calc!F:F,0)),\"\")","v":""},{"$f":"IF(A839=\"\",\"\",VLOOKUP(A839,BD!B:C,2,0))","v":""}]
[{"$f":"IF(ROW()-8<=MAX(calc!F:F),INDEX(BD!B:B,MATCH(ROW()-8,calc!F:F,0)),\"\")","v":""},{"$f":"IF(A840=\"\",\"\",VLOOKUP(A840,BD!B:C,2,0))","v":""}]
[{"$f":"IF(ROW()-8<=MAX(calc!F:F),INDEX(BD!B:B,MATCH(ROW()-8,calc!F:F,0)),\"\")","v":""},{"$f":"IF(A841=\"\",\"\",VLOOKUP(A841,BD!B:C,2,0))","v":""}]
[{"$f":"IF(ROW()-8<=MAX(calc!F:F),INDEX(BD!B:B,MATCH(ROW()-8,calc!F:F,0)),\"\")","v":""},{"$f":"IF(A842=\"\",\"\",VLOOKUP(A842,BD!B:C,2,0))","v":""}]
[{"$f":"IF(ROW()-8<=MAX(calc!F:F),INDEX(BD!B:B,MATCH(ROW()-8,calc!F:F,0)),\"\")","v":""},{"$f":"IF(A843=\"\",\"\",VLOOKUP(A843,BD!B:C,2,0))","v":""}]
[{"$f":"IF(ROW()-8<=MAX(calc!F:F),INDEX(BD!B:B,MATCH(ROW()-8,calc!F:F,0)),\"\")","v":""},{"$f":"IF(A844=\"\",\"\",VLOOKUP(A844,BD!B:C,2,0))","v":""}]
[{"$f":"IF(ROW()-8<=MAX(calc!F:F),INDEX(BD!B:B,MATCH(ROW()-8,calc!F:F,0)),\"\")","v":""},{"$f":"IF(A845=\"\",\"\",VLOOKUP(A845,BD!B:C,2,0))","v":""}]
[{"$f":"IF(ROW()-8<=MAX(calc!F:F),INDEX(BD!B:B,MATCH(ROW()-8,calc!F:F,0)),\"\")","v":""},{"$f":"IF(A846=\"\",\"\",VLOOKUP(A846,BD!B:C,2,0))","v":""}]
[{"$f":"IF(ROW()-8<=MAX(calc!F:F),INDEX(BD!B:B,MATCH(ROW()-8,calc!F:F,0)),\"\")","v":""},{"$f":"IF(A847=\"\",\"\",VLOOKUP(A847,BD!B:C,2,0))","v":""}]
[{"$f":"IF(ROW()-8<=MAX(calc!F:F),INDEX(BD!B:B,MATCH(ROW()-8,calc!F:F,0)),\"\")","v":""},{"$f":"IF(A848=\"\",\"\",VLOOKUP(A848,BD!B:C,2,0))","v":""}]
[{"$f":"IF(ROW()-8<=MAX(calc!F:F),INDEX(BD!B:B,MATCH(ROW()-8,calc!F:F,0)),\"\")","v":""},{"$f":"IF(A849=\"\",\"\",VLOOKUP(A849,BD!B:C,2,0))","v":""}]
[{"$f":"IF(ROW()-8<=MAX(calc!F:F),INDEX(BD!B:B,MATCH(ROW()-8,calc!F:F,0)),\"\")","v":""},{"$f":"IF(A850=\"\",\"\",VLOOKUP(A850,BD!B:C,2,0))","v":""}]
[{"$f":"IF(ROW()-8<=MAX(calc!F:F),INDEX(BD!B:B,MATCH(ROW()-8,calc!F:F,0)),\"\")","v":""},{"$f":"IF(A851=\"\",\"\",VLOOKUP(A851,BD!B:C,2,0))","v":""}]
[{"$f":"IF(ROW()-8<=MAX(calc!F:F),INDEX(BD!B:B,MATCH(ROW()-8,calc!F:F,0)),\"\")","v":""},{"$f":"IF(A852=\"\",\"\",VLOOKUP(A852,BD!B:C,2,0))","v":""}]
[{"$f":"IF(ROW()-8<=MAX(calc!F:F),INDEX(BD!B:B,MATCH(ROW()-8,calc!F:F,0)),\"\")","v":""},{"$f":"IF(A853=\"\",\"\",VLOOKUP(A853,BD!B:C,2,0))","v":""}]
[{"$f":"IF(ROW()-8<=MAX(calc!F:F),INDEX(BD!B:B,MATCH(ROW()-8,calc!F:F,0)),\"\")","v":""},{"$f":"IF(A854=\"\",\"\",VLOOKUP(A854,BD!B:C,2,0))","v":""}]
[{"$f":"IF(ROW()-8<=MAX(calc!F:F),INDEX(BD!B:B,MATCH(ROW()-8,calc!F:F,0)),\"\")","v":""},{"$f":"IF(A855=\"\",\"\",VLOOKUP(A855,BD!B:C,2,0))","v":""}]
[{"$f":"IF(ROW()-8<=MAX(calc!F:F),INDEX(BD!B:B,MATCH(ROW()-8,calc!F:F,0)),\"\")","v":""},{"$f":"IF(A856=\"\",\"\",VLOOKUP(A856,BD!B:C,2,0))","v":""}]
[{"$f":"IF(ROW()-8<=MAX(calc!F:F),INDEX(BD!B:B,MATCH(ROW()-8,calc!F:F,0)),\"\")","v":""},{"$f":"IF(A857=\"\",\"\",VLOOKUP(A857,BD!B:C,2,0))","v":""}]
[{"$f":"IF(ROW()-8<=MAX(calc!F:F),INDEX(BD!B:B,MATCH(ROW()-8,calc!F:F,0)),\"\")","v":""},{"$f":"IF(A858=\"\",\"\",VLOOKUP(A858,BD!B:C,2,0))","v":""}]
[{"$f":"IF(ROW()-8<=MAX(calc!F:F),INDEX(BD!B:B,MATCH(ROW()-8,calc!F:F,0)),\"\")","v":""},{"$f":"IF(A859=\"\",\"\",VLOOKUP(A859,BD!B:C,2,0))","v":""}]
[{"$f":"IF(ROW()-8<=MAX(calc!F:F),INDEX(BD!B:B,MATCH(ROW()-8,calc!F:F,0)),\"\")","v":""},{"$f":"IF(A860=\"\",\"\",VLOOKUP(A860,BD!B:C,2,0))","v":""}]
[{"$f":"IF(ROW()-8<=MAX(calc!F:F),INDEX(BD!B:B,MATCH(ROW()-8,calc!F:F,0)),\"\")","v":""},{"$f":"IF(A861=\"\",\"\",VLOOKUP(A861,BD!B:C,2,0))","v":""}]
[{"$f":"IF(ROW()-8<=MAX(calc!F:F),INDEX(BD!B:B,MATCH(ROW()-8,calc!F:F,0)),\"\")","v":""},{"$f":"IF(A862=\"\",\"\",VLOOKUP(A862,BD!B:C,2,0))","v":""}]
[{"$f":"IF(ROW()-8<=MAX(calc!F:F),INDEX(BD!B:B,MATCH(ROW()-8,calc!F:F,0)),\"\")","v":""},{"$f":"IF(A863=\"\",\"\",VLOOKUP(A863,BD!B:C,2,0))","v":""}]
[{"$f":"IF(ROW()-8<=MAX(calc!F:F),INDEX(BD!B:B,MATCH(ROW()-8,calc!F:F,0)),\"\")","v":""},{"$f":"IF(A864=\"\",\"\",VLOOKUP(A864,BD!B:C,2,0))","v":""}]
[{"$f":"IF(ROW()-8<=MAX(calc!F:F),INDEX(BD!B:B,MATCH(ROW()-8,calc!F:F,0)),\"\")","v":""},{"$f":"IF(A865=\"\",\"\",VLOOKUP(A865,BD!B:C,2,0))","v":""}]
[{"$f":"IF(ROW()-8<=MAX(calc!F:F),INDEX(BD!B:B,MATCH(ROW()-8,calc!F:F,0)),\"\")","v":""},{"$f":"IF(A866=\"\",\"\",VLOOKUP(A866,BD!B:C,2,0))","v":""}]
[{"$f":"IF(ROW()-8<=MAX(calc!F:F),INDEX(BD!B:B,MATCH(ROW()-8,calc!F:F,0)),\"\")","v":""},{"$f":"IF(A867=\"\",\"\",VLOOKUP(A867,BD!B:C,2,0))","v":""}]
[{"$f":"IF(ROW()-8<=MAX(calc!F:F),INDEX(BD!B:B,MATCH(ROW()-8,calc!F:F,0)),\"\")","v":""},{"$f":"IF(A868=\"\",\"\",VLOOKUP(A868,BD!B:C,2,0))","v":""}]
[{"$f":"IF(ROW()-8<=MAX(calc!F:F),INDEX(BD!B:B,MATCH(ROW()-8,calc!F:F,0)),\"\")","v":""},{"$f":"IF(A869=\"\",\"\",VLOOKUP(A869,BD!B:C,2,0))","v":""}]
[{"$f":"IF(ROW()-8<=MAX(calc!F:F),INDEX(BD!B:B,MATCH(ROW()-8,calc!F:F,0)),\"\")","v":""},{"$f":"IF(A870=\"\",\"\",VLOOKUP(A870,BD!B:C,2,0))","v":""}]
[{"$f":"IF(ROW()-8<=MAX(calc!F:F),INDEX(BD!B:B,MATCH(ROW()-8,calc!F:F,0)),\"\")","v":""},{"$f":"IF(A871=\"\",\"\",VLOOKUP(A871,BD!B:C,2,0))","v":""}]
[{"$f":"IF(ROW()-8<=MAX(calc!F:F),INDEX(BD!B:B,MATCH(ROW()-8,calc!F:F,0)),\"\")","v":""},{"$f":"IF(A872=\"\",\"\",VLOOKUP(A872,BD!B:C,2,0))","v":""}]
[{"$f":"IF(ROW()-8<=MAX(calc!F:F),INDEX(BD!B:B,MATCH(ROW()-8,calc!F:F,0)),\"\")","v":""},{"$f":"IF(A873=\"\",\"\",VLOOKUP(A873,BD!B:C,2,0))","v":""}]
[{"$f":"IF(ROW()-8<=MAX(calc!F:F),INDEX(BD!B:B,MATCH(ROW()-8,calc!F:F,0)),\"\")","v":""},{"$f":"IF(A874=\"\",\"\",VLOOKUP(A874,BD!B:C,2,0))","v":""}]
[{"$f":"IF(ROW()-8<=MAX(calc!F:F),INDEX(BD!B:B,MATCH(ROW()-8,calc!F:F,0)),\"\")","v":""},{"$f":"IF(A875=\"\",\"\",VLOOKUP(A875,BD!B:C,2,0))","v":""}]
[{"$f":"IF(ROW()-8<=MAX(calc!F:F),INDEX(BD!B:B,MATCH(ROW()-8,calc!F:F,0)),\"\")","v":""},{"$f":"IF(A876=\"\",\"\",VLOOKUP(A876,BD!B:C,2,0))","v":""}]
[{"$f":"IF(ROW()-8<=MAX(calc!F:F),INDEX(BD!B:B,MATCH(ROW()-8,calc!F:F,0)),\"\")","v":""},{"$f":"IF(A877=\"\",\"\",VLOOKUP(A877,BD!B:C,2,0))","v":""}]
[{"$f":"IF(ROW()-8<=MAX(calc!F:F),INDEX(BD!B:B,MATCH(ROW()-8,calc!F:F,0)),\"\")","v":""},{"$f":"IF(A878=\"\",\"\",VLOOKUP(A878,BD!B:C,2,0))","v":""}]
[{"$f":"IF(ROW()-8<=MAX(calc!F:F),INDEX(BD!B:B,MATCH(ROW()-8,calc!F:F,0)),\"\")","v":""},{"$f":"IF(A879=\"\",\"\",VLOOKUP(A879,BD!B:C,2,0))","v":""}]
[{"$f":"IF(ROW()-8<=MAX(calc!F:F),INDEX(BD!B:B,MATCH(ROW()-8,calc!F:F,0)),\"\")","v":""},{"$f":"IF(A880=\"\",\"\",VLOOKUP(A880,BD!B:C,2,0))","v":""}]
[{"$f":"IF(ROW()-8<=MAX(calc!F:F),INDEX(BD!B:B,MATCH(ROW()-8,calc!F:F,0)),\"\")","v":""},{"$f":"IF(A881=\"\",\"\",VLOOKUP(A881,BD!B:C,2,0))","v":""}]
[{"$f":"IF(ROW()-8<=MAX(calc!F:F),INDEX(BD!B:B,MATCH(ROW()-8,calc!F:F,0)),\"\")","v":""},{"$f":"IF(A882=\"\",\"\",VLOOKUP(A882,BD!B:C,2,0))","v":""}]
[{"$f":"IF(ROW()-8<=MAX(calc!F:F),INDEX(BD!B:B,MATCH(ROW()-8,calc!F:F,0)),\"\")","v":""},{"$f":"IF(A883=\"\",\"\",VLOOKUP(A883,BD!B:C,2,0))","v":""}]
[{"$f":"IF(ROW()-8<=MAX(calc!F:F),INDEX(BD!B:B,MATCH(ROW()-8,calc!F:F,0)),\"\")","v":""},{"$f":"IF(A884=\"\",\"\",VLOOKUP(A884,BD!B:C,2,0))","v":""}]
[{"$f":"IF(ROW()-8<=MAX(calc!F:F),INDEX(BD!B:B,MATCH(ROW()-8,calc!F:F,0)),\"\")","v":""},{"$f":"IF(A885=\"\",\"\",VLOOKUP(A885,BD!B:C,2,0))","v":""}]
[{"$f":"IF(ROW()-8<=MAX(calc!F:F),INDEX(BD!B:B,MATCH(ROW()-8,calc!F:F,0)),\"\")","v":""},{"$f":"IF(A886=\"\",\"\",VLOOKUP(A886,BD!B:C,2,0))","v":""}]
[{"$f":"IF(ROW()-8<=MAX(calc!F:F),INDEX(BD!B:B,MATCH(ROW()-8,calc!F:F,0)),\"\")","v":""},{"$f":"IF(A887=\"\",\"\",VLOOKUP(A887,BD!B:C,2,0))","v":""}]
[{"$f":"IF(ROW()-8<=MAX(calc!F:F),INDEX(BD!B:B,MATCH(ROW()-8,calc!F:F,0)),\"\")","v":""},{"$f":"IF(A888=\"\",\"\",VLOOKUP(A888,BD!B:C,2,0))","v":""}]
[{"$f":"IF(ROW()-8<=MAX(calc!F:F),INDEX(BD!B:B,MATCH(ROW()-8,calc!F:F,0)),\"\")","v":""},{"$f":"IF(A889=\"\",\"\",VLOOKUP(A889,BD!B:C,2,0))","v":""}]
[{"$f":"IF(ROW()-8<=MAX(calc!F:F),INDEX(BD!B:B,MATCH(ROW()-8,calc!F:F,0)),\"\")","v":""},{"$f":"IF(A890=\"\",\"\",VLOOKUP(A890,BD!B:C,2,0))","v":""}]
[{"$f":"IF(ROW()-8<=MAX(calc!F:F),INDEX(BD!B:B,MATCH(ROW()-8,calc!F:F,0)),\"\")","v":""},{"$f":"IF(A891=\"\",\"\",VLOOKUP(A891,BD!B:C,2,0))","v":""}]
[{"$f":"IF(ROW()-8<=MAX(calc!F:F),INDEX(BD!B:B,MATCH(ROW()-8,calc!F:F,0)),\"\")","v":""},{"$f":"IF(A892=\"\",\"\",VLOOKUP(A892,BD!B:C,2,0))","v":""}]
[{"$f":"IF(ROW()-8<=MAX(calc!F:F),INDEX(BD!B:B,MATCH(ROW()-8,calc!F:F,0)),\"\")","v":""},{"$f":"IF(A893=\"\",\"\",VLOOKUP(A893,BD!B:C,2,0))","v":""}]
[{"$f":"IF(ROW()-8<=MAX(calc!F:F),INDEX(BD!B:B,MATCH(ROW()-8,calc!F:F,0)),\"\")","v":""},{"$f":"IF(A894=\"\",\"\",VLOOKUP(A894,BD!B:C,2,0))","v":""}]
[{"$f":"IF(ROW()-8<=MAX(calc!F:F),INDEX(BD!B:B,MATCH(ROW()-8,calc!F:F,0)),\"\")","v":""},{"$f":"IF(A895=\"\",\"\",VLOOKUP(A895,BD!B:C,2,0))","v":""}]
[{"$f":"IF(ROW()-8<=MAX(calc!F:F),INDEX(BD!B:B,MATCH(ROW()-8,calc!F:F,0)),\"\")","v":""},{"$f":"IF(A896=\"\",\"\",VLOOKUP(A896,BD!B:C,2,0))","v":""}]
[{"$f":"IF(ROW()-8<=MAX(calc!F:F),INDEX(BD!B:B,MATCH(ROW()-8,calc!F:F,0)),\"\")","v":""},{"$f":"IF(A897=\"\",\"\",VLOOKUP(A897,BD!B:C,2,0))","v":""}]
[{"$f":"IF(ROW()-8<=MAX(calc!F:F),INDEX(BD!B:B,MATCH(ROW()-8,calc!F:F,0)),\"\")","v":""},{"$f":"IF(A898=\"\",\"\",VLOOKUP(A898,BD!B:C,2,0))","v":""}]
[{"$f":"IF(ROW()-8<=MAX(calc!F:F),INDEX(BD!B:B,MATCH(ROW()-8,calc!F:F,0)),\"\")","v":""},{"$f":"IF(A899=\"\",\"\",VLOOKUP(A899,BD!B:C,2,0))","v":""}]
[{"$f":"IF(ROW()-8<=MAX(calc!F:F),INDEX(BD!B:B,MATCH(ROW()-8,calc!F:F,0)),\"\")","v":""},{"$f":"IF(A900=\"\",\"\",VLOOKUP(A900,BD!B:C,2,0))","v":""}]
[{"$f":"IF(ROW()-8<=MAX(calc!F:F),INDEX(BD!B:B,MATCH(ROW()-8,calc!F:F,0)),\"\")","v":""},{"$f":"IF(A901=\"\",\"\",VLOOKUP(A901,BD!B:C,2,0))","v":""}]
[{"$f":"IF(ROW()-8<=MAX(calc!F:F),INDEX(BD!B:B,MATCH(ROW()-8,calc!F:F,0)),\"\")","v":""},{"$f":"IF(A902=\"\",\"\",VLOOKUP(A902,BD!B:C,2,0))","v":""}]
[{"$f":"IF(ROW()-8<=MAX(calc!F:F),INDEX(BD!B:B,MATCH(ROW()-8,calc!F:F,0)),\"\")","v":""},{"$f":"IF(A903=\"\",\"\",VLOOKUP(A903,BD!B:C,2,0))","v":""}]
[{"$f":"IF(ROW()-8<=MAX(calc!F:F),INDEX(BD!B:B,MATCH(ROW()-8,calc!F:F,0)),\"\")","v":""},{"$f":"IF(A904=\"\",\"\",VLOOKUP(A904,BD!B:C,2,0))","v":""}]
[{"$f":"IF(ROW()-8<=MAX(calc!F:F),INDEX(BD!B:B,MATCH(ROW()-8,calc!F:F,0)),\"\")","v":""},{"$f":"IF(A905=\"\",\"\",VLOOKUP(A905,BD!B:C,2,0))","v":""}]
[{"$f":"IF(ROW()-8<=MAX(calc!F:F),INDEX(BD!B:B,MATCH(ROW()-8,calc!F:F,0)),\"\")","v":""},{"$f":"IF(A906=\"\",\"\",VLOOKUP(A906,BD!B:C,2,0))","v":""}]
[{"$f":"IF(ROW()-8<=MAX(calc!F:F),INDEX(BD!B:B,MATCH(ROW()-8,calc!F:F,0)),\"\")","v":""},{"$f":"IF(A907=\"\",\"\",VLOOKUP(A907,BD!B:C,2,0))","v":""}]
[{"$f":"IF(ROW()-8<=MAX(calc!F:F),INDEX(BD!B:B,MATCH(ROW()-8,calc!F:F,0)),\"\")","v":""},{"$f":"IF(A908=\"\",\"\",VLOOKUP(A908,BD!B:C,2,0))","v":""}]
[{"$f":"IF(ROW()-8<=MAX(calc!F:F),INDEX(BD!B:B,MATCH(ROW()-8,calc!F:F,0)),\"\")","v":""},{"$f":"IF(A909=\"\",\"\",VLOOKUP(A909,BD!B:C,2,0))","v":""}]
[{"$f":"IF(ROW()-8<=MAX(calc!F:F),INDEX(BD!B:B,MATCH(ROW()-8,calc!F:F,0)),\"\")","v":""},{"$f":"IF(A910=\"\",\"\",VLOOKUP(A910,BD!B:C,2,0))","v":""}]
[{"$f":"IF(ROW()-8<=MAX(calc!F:F),INDEX(BD!B:B,MATCH(ROW()-8,calc!F:F,0)),\"\")","v":""},{"$f":"IF(A911=\"\",\"\",VLOOKUP(A911,BD!B:C,2,0))","v":""}]
[{"$f":"IF(ROW()-8<=MAX(calc!F:F),INDEX(BD!B:B,MATCH(ROW()-8,calc!F:F,0)),\"\")","v":""},{"$f":"IF(A912=\"\",\"\",VLOOKUP(A912,BD!B:C,2,0))","v":""}]
[{"$f":"IF(ROW()-8<=MAX(calc!F:F),INDEX(BD!B:B,MATCH(ROW()-8,calc!F:F,0)),\"\")","v":""},{"$f":"IF(A913=\"\",\"\",VLOOKUP(A913,BD!B:C,2,0))","v":""}]
[{"$f":"IF(ROW()-8<=MAX(calc!F:F),INDEX(BD!B:B,MATCH(ROW()-8,calc!F:F,0)),\"\")","v":""},{"$f":"IF(A914=\"\",\"\",VLOOKUP(A914,BD!B:C,2,0))","v":""}]
[{"$f":"IF(ROW()-8<=MAX(calc!F:F),INDEX(BD!B:B,MATCH(ROW()-8,calc!F:F,0)),\"\")","v":""},{"$f":"IF(A915=\"\",\"\",VLOOKUP(A915,BD!B:C,2,0))","v":""}]
[{"$f":"IF(ROW()-8<=MAX(calc!F:F),INDEX(BD!B:B,MATCH(ROW()-8,calc!F:F,0)),\"\")","v":""},{"$f":"IF(A916=\"\",\"\",VLOOKUP(A916,BD!B:C,2,0))","v":""}]
[{"$f":"IF(ROW()-8<=MAX(calc!F:F),INDEX(BD!B:B,MATCH(ROW()-8,calc!F:F,0)),\"\")","v":""},{"$f":"IF(A917=\"\",\"\",VLOOKUP(A917,BD!B:C,2,0))","v":""}]
[{"$f":"IF(ROW()-8<=MAX(calc!F:F),INDEX(BD!B:B,MATCH(ROW()-8,calc!F:F,0)),\"\")","v":""},{"$f":"IF(A918=\"\",\"\",VLOOKUP(A918,BD!B:C,2,0))","v":""}]
[{"$f":"IF(ROW()-8<=MAX(calc!F:F),INDEX(BD!B:B,MATCH(ROW()-8,calc!F:F,0)),\"\")","v":""},{"$f":"IF(A919=\"\",\"\",VLOOKUP(A919,BD!B:C,2,0))","v":""}]
[{"$f":"IF(ROW()-8<=MAX(calc!F:F),INDEX(BD!B:B,MATCH(ROW()-8,calc!F:F,0)),\"\")","v":""},{"$f":"IF(A920=\"\",\"\",VLOOKUP(A920,BD!B:C,2,0))","v":""}]
[{"$f":"IF(ROW()-8<=MAX(calc!F:F),INDEX(BD!B:B,MATCH(ROW()-8,calc!F:F,0)),\"\")","v":""},{"$f":"IF(A921=\"\",\"\",VLOOKUP(A921,BD!B:C,2,0))","v":""}]
[{"$f":"IF(ROW()-8<=MAX(calc!F:F),INDEX(BD!B:B,MATCH(ROW()-8,calc!F:F,0)),\"\")","v":""},{"$f":"IF(A922=\"\",\"\",VLOOKUP(A922,BD!B:C,2,0))","v":""}]
[{"$f":"IF(ROW()-8<=MAX(calc!F:F),INDEX(BD!B:B,MATCH(ROW()-8,calc!F:F,0)),\"\")","v":""},{"$f":"IF(A923=\"\",\"\",VLOOKUP(A923,BD!B:C,2,0))","v":""}]
[{"$f":"IF(ROW()-8<=MAX(calc!F:F),INDEX(BD!B:B,MATCH(ROW()-8,calc!F:F,0)),\"\")","v":""},{"$f":"IF(A924=\"\",\"\",VLOOKUP(A924,BD!B:C,2,0))","v":""}]
[{"$f":"IF(ROW()-8<=MAX(calc!F:F),INDEX(BD!B:B,MATCH(ROW()-8,calc!F:F,0)),\"\")","v":""},{"$f":"IF(A925=\"\",\"\",VLOOKUP(A925,BD!B:C,2,0))","v":""}]
[{"$f":"IF(ROW()-8<=MAX(calc!F:F),INDEX(BD!B:B,MATCH(ROW()-8,calc!F:F,0)),\"\")","v":""},{"$f":"IF(A926=\"\",\"\",VLOOKUP(A926,BD!B:C,2,0))","v":""}]
[{"$f":"IF(ROW()-8<=MAX(calc!F:F),INDEX(BD!B:B,MATCH(ROW()-8,calc!F:F,0)),\"\")","v":""},{"$f":"IF(A927=\"\",\"\",VLOOKUP(A927,BD!B:C,2,0))","v":""}]
[{"$f":"IF(ROW()-8<=MAX(calc!F:F),INDEX(BD!B:B,MATCH(ROW()-8,calc!F:F,0)),\"\")","v":""},{"$f":"IF(A928=\"\",\"\",VLOOKUP(A928,BD!B:C,2,0))","v":""}]
[{"$f":"IF(ROW()-8<=MAX(calc!F:F),INDEX(BD!B:B,MATCH(ROW()-8,calc!F:F,0)),\"\")","v":""},{"$f":"IF(A929=\"\",\"\",VLOOKUP(A929,BD!B:C,2,0))","v":""}]
[{"$f":"IF(ROW()-8<=MAX(calc!F:F),INDEX(BD!B:B,MATCH(ROW()-8,calc!F:F,0)),\"\")","v":""},{"$f":"IF(A930=\"\",\"\",VLOOKUP(A930,BD!B:C,2,0))","v":""}]
[{"$f":"IF(ROW()-8<=MAX(calc!F:F),INDEX(BD!B:B,MATCH(ROW()-8,calc!F:F,0)),\"\")","v":""},{"$f":"IF(A931=\"\",\"\",VLOOKUP(A931,BD!B:C,2,0))","v":""}]
[{"$f":"IF(ROW()-8<=MAX(calc!F:F),INDEX(BD!B:B,MATCH(ROW()-8,calc!F:F,0)),\"\")","v":""},{"$f":"IF(A932=\"\",\"\",VLOOKUP(A932,BD!B:C,2,0))","v":""}]
[{"$f":"IF(ROW()-8<=MAX(calc!F:F),INDEX(BD!B:B,MATCH(ROW()-8,calc!F:F,0)),\"\")","v":""},{"$f":"IF(A933=\"\",\"\",VLOOKUP(A933,BD!B:C,2,0))","v":""}]
[{"$f":"IF(ROW()-8<=MAX(calc!F:F),INDEX(BD!B:B,MATCH(ROW()-8,calc!F:F,0)),\"\")","v":""},{"$f":"IF(A934=\"\",\"\",VLOOKUP(A934,BD!B:C,2,0))","v":""}]
[{"$f":"IF(ROW()-8<=MAX(calc!F:F),INDEX(BD!B:B,MATCH(ROW()-8,calc!F:F,0)),\"\")","v":""},{"$f":"IF(A935=\"\",\"\",VLOOKUP(A935,BD!B:C,2,0))","v":""}]
[{"$f":"IF(ROW()-8<=MAX(calc!F:F),INDEX(BD!B:B,MATCH(ROW()-8,calc!F:F,0)),\"\")","v":""},{"$f":"IF(A936=\"\",\"\",VLOOKUP(A936,BD!B:C,2,0))","v":""}]
[{"$f":"IF(ROW()-8<=MAX(calc!F:F),INDEX(BD!B:B,MATCH(ROW()-8,calc!F:F,0)),\"\")","v":""},{"$f":"IF(A937=\"\",\"\",VLOOKUP(A937,BD!B:C,2,0))","v":""}]
[{"$f":"IF(ROW()-8<=MAX(calc!F:F),INDEX(BD!B:B,MATCH(ROW()-8,calc!F:F,0)),\"\")","v":""},{"$f":"IF(A938=\"\",\"\",VLOOKUP(A938,BD!B:C,2,0))","v":""}]
[{"$f":"IF(ROW()-8<=MAX(calc!F:F),INDEX(BD!B:B,MATCH(ROW()-8,calc!F:F,0)),\"\")","v":""},{"$f":"IF(A939=\"\",\"\",VLOOKUP(A939,BD!B:C,2,0))","v":""}]
[{"$f":"IF(ROW()-8<=MAX(calc!F:F),INDEX(BD!B:B,MATCH(ROW()-8,calc!F:F,0)),\"\")","v":""},{"$f":"IF(A940=\"\",\"\",VLOOKUP(A940,BD!B:C,2,0))","v":""}]
[{"$f":"IF(ROW()-8<=MAX(calc!F:F),INDEX(BD!B:B,MATCH(ROW()-8,calc!F:F,0)),\"\")","v":""},{"$f":"IF(A941=\"\",\"\",VLOOKUP(A941,BD!B:C,2,0))","v":""}]
[{"$f":"IF(ROW()-8<=MAX(calc!F:F),INDEX(BD!B:B,MATCH(ROW()-8,calc!F:F,0)),\"\")","v":""},{"$f":"IF(A942=\"\",\"\",VLOOKUP(A942,BD!B:C,2,0))","v":""}]
[{"$f":"IF(ROW()-8<=MAX(calc!F:F),INDEX(BD!B:B,MATCH(ROW()-8,calc!F:F,0)),\"\")","v":""},{"$f":"IF(A943=\"\",\"\",VLOOKUP(A943,BD!B:C,2,0))","v":""}]
[{"$f":"IF(ROW()-8<=MAX(calc!F:F),INDEX(BD!B:B,MATCH(ROW()-8,calc!F:F,0)),\"\")","v":""},{"$f":"IF(A944=\"\",\"\",VLOOKUP(A944,BD!B:C,2,0))","v":""}]
[{"$f":"IF(ROW()-8<=MAX(calc!F:F),INDEX(BD!B:B,MATCH(ROW()-8,calc!F:F,0)),\"\")","v":""},{"$f":"IF(A945=\"\",\"\",VLOOKUP(A945,BD!B:C,2,0))","v":""}]
[{"$f":"IF(ROW()-8<=MAX(calc!F:F),INDEX(BD!B:B,MATCH(ROW()-8,calc!F:F,0)),\"\")","v":""},{"$f":"IF(A946=\"\",\"\",VLOOKUP(A946,BD!B:C,2,0))","v":""}]
[{"$f":"IF(ROW()-8<=MAX(calc!F:F),INDEX(BD!B:B,MATCH(ROW()-8,calc!F:F,0)),\"\")","v":""},{"$f":"IF(A947=\"\",\"\",VLOOKUP(A947,BD!B:C,2,0))","v":""}]
[{"$f":"IF(ROW()-8<=MAX(calc!F:F),INDEX(BD!B:B,MATCH(ROW()-8,calc!F:F,0)),\"\")","v":""},{"$f":"IF(A948=\"\",\"\",VLOOKUP(A948,BD!B:C,2,0))","v":""}]
[{"$f":"IF(ROW()-8<=MAX(calc!F:F),INDEX(BD!B:B,MATCH(ROW()-8,calc!F:F,0)),\"\")","v":""},{"$f":"IF(A949=\"\",\"\",VLOOKUP(A949,BD!B:C,2,0))","v":""}]
[{"$f":"IF(ROW()-8<=MAX(calc!F:F),INDEX(BD!B:B,MATCH(ROW()-8,calc!F:F,0)),\"\")","v":""},{"$f":"IF(A950=\"\",\"\",VLOOKUP(A950,BD!B:C,2,0))","v":""}]
[{"$f":"IF(ROW()-8<=MAX(calc!F:F),INDEX(BD!B:B,MATCH(ROW()-8,calc!F:F,0)),\"\")","v":""},{"$f":"IF(A951=\"\",\"\",VLOOKUP(A951,BD!B:C,2,0))","v":""}]
[{"$f":"IF(ROW()-8<=MAX(calc!F:F),INDEX(BD!B:B,MATCH(ROW()-8,calc!F:F,0)),\"\")","v":""},{"$f":"IF(A952=\"\",\"\",VLOOKUP(A952,BD!B:C,2,0))","v":""}]
[{"$f":"IF(ROW()-8<=MAX(calc!F:F),INDEX(BD!B:B,MATCH(ROW()-8,calc!F:F,0)),\"\")","v":""},{"$f":"IF(A953=\"\",\"\",VLOOKUP(A953,BD!B:C,2,0))","v":""}]
[{"$f":"IF(ROW()-8<=MAX(calc!F:F),INDEX(BD!B:B,MATCH(ROW()-8,calc!F:F,0)),\"\")","v":""},{"$f":"IF(A954=\"\",\"\",VLOOKUP(A954,BD!B:C,2,0))","v":""}]
[{"$f":"IF(ROW()-8<=MAX(calc!F:F),INDEX(BD!B:B,MATCH(ROW()-8,calc!F:F,0)),\"\")","v":""},{"$f":"IF(A955=\"\",\"\",VLOOKUP(A955,BD!B:C,2,0))","v":""}]
[{"$f":"IF(ROW()-8<=MAX(calc!F:F),INDEX(BD!B:B,MATCH(ROW()-8,calc!F:F,0)),\"\")","v":""},{"$f":"IF(A956=\"\",\"\",VLOOKUP(A956,BD!B:C,2,0))","v":""}]
[{"$f":"IF(ROW()-8<=MAX(calc!F:F),INDEX(BD!B:B,MATCH(ROW()-8,calc!F:F,0)),\"\")","v":""},{"$f":"IF(A957=\"\",\"\",VLOOKUP(A957,BD!B:C,2,0))","v":""}]
[{"$f":"IF(ROW()-8<=MAX(calc!F:F),INDEX(BD!B:B,MATCH(ROW()-8,calc!F:F,0)),\"\")","v":""},{"$f":"IF(A958=\"\",\"\",VLOOKUP(A958,BD!B:C,2,0))","v":""}]
[{"$f":"IF(ROW()-8<=MAX(calc!F:F),INDEX(BD!B:B,MATCH(ROW()-8,calc!F:F,0)),\"\")","v":""},{"$f":"IF(A959=\"\",\"\",VLOOKUP(A959,BD!B:C,2,0))","v":""}]
[{"$f":"IF(ROW()-8<=MAX(calc!F:F),INDEX(BD!B:B,MATCH(ROW()-8,calc!F:F,0)),\"\")","v":""},{"$f":"IF(A960=\"\",\"\",VLOOKUP(A960,BD!B:C,2,0))","v":""}]
[{"$f":"IF(ROW()-8<=MAX(calc!F:F),INDEX(BD!B:B,MATCH(ROW()-8,calc!F:F,0)),\"\")","v":""},{"$f":"IF(A961=\"\",\"\",VLOOKUP(A961,BD!B:C,2,0))","v":""}]
[{"$f":"IF(ROW()-8<=MAX(calc!F:F),INDEX(BD!B:B,MATCH(ROW()-8,calc!F:F,0)),\"\")","v":""},{"$f":"IF(A962=\"\",\"\",VLOOKUP(A962,BD!B:C,2,0))","v":""}]
[{"$f":"IF(ROW()-8<=MAX(calc!F:F),INDEX(BD!B:B,MATCH(ROW()-8,calc!F:F,0)),\"\")","v":""},{"$f":"IF(A963=\"\",\"\",VLOOKUP(A963,BD!B:C,2,0))","v":""}]
[{"$f":"IF(ROW()-8<=MAX(calc!F:F),INDEX(BD!B:B,MATCH(ROW()-8,calc!F:F,0)),\"\")","v":""},{"$f":"IF(A964=\"\",\"\",VLOOKUP(A964,BD!B:C,2,0))","v":""}]
[{"$f":"IF(ROW()-8<=MAX(calc!F:F),INDEX(BD!B:B,MATCH(ROW()-8,calc!F:F,0)),\"\")","v":""},{"$f":"IF(A965=\"\",\"\",VLOOKUP(A965,BD!B:C,2,0))","v":""}]
[{"$f":"IF(ROW()-8<=MAX(calc!F:F),INDEX(BD!B:B,MATCH(ROW()-8,calc!F:F,0)),\"\")","v":""},{"$f":"IF(A966=\"\",\"\",VLOOKUP(A966,BD!B:C,2,0))","v":""}]
[{"$f":"IF(ROW()-8<=MAX(calc!F:F),INDEX(BD!B:B,MATCH(ROW()-8,calc!F:F,0)),\"\")","v":""},{"$f":"IF(A967=\"\",\"\",VLOOKUP(A967,BD!B:C,2,0))","v":""}]
[{"$f":"IF(ROW()-8<=MAX(calc!F:F),INDEX(BD!B:B,MATCH(ROW()-8,calc!F:F,0)),\"\")","v":""},{"$f":"IF(A968=\"\",\"\",VLOOKUP(A968,BD!B:C,2,0))","v":""}]
[{"$f":"IF(ROW()-8<=MAX(calc!F:F),INDEX(BD!B:B,MATCH(ROW()-8,calc!F:F,0)),\"\")","v":""},{"$f":"IF(A969=\"\",\"\",VLOOKUP(A969,BD!B:C,2,0))","v":""}]
[{"$f":"IF(ROW()-8<=MAX(calc!F:F),INDEX(BD!B:B,MATCH(ROW()-8,calc!F:F,0)),\"\")","v":""},{"$f":"IF(A970=\"\",\"\",VLOOKUP(A970,BD!B:C,2,0))","v":""}]
[{"$f":"IF(ROW()-8<=MAX(calc!F:F),INDEX(BD!B:B,MATCH(ROW()-8,calc!F:F,0)),\"\")","v":""},{"$f":"IF(A971=\"\",\"\",VLOOKUP(A971,BD!B:C,2,0))","v":""}]
[{"$f":"IF(ROW()-8<=MAX(calc!F:F),INDEX(BD!B:B,MATCH(ROW()-8,calc!F:F,0)),\"\")","v":""},{"$f":"IF(A972=\"\",\"\",VLOOKUP(A972,BD!B:C,2,0))","v":""}]
[{"$f":"IF(ROW()-8<=MAX(calc!F:F),INDEX(BD!B:B,MATCH(ROW()-8,calc!F:F,0)),\"\")","v":""},{"$f":"IF(A973=\"\",\"\",VLOOKUP(A973,BD!B:C,2,0))","v":""}]
[{"$f":"IF(ROW()-8<=MAX(calc!F:F),INDEX(BD!B:B,MATCH(ROW()-8,calc!F:F,0)),\"\")","v":""},{"$f":"IF(A974=\"\",\"\",VLOOKUP(A974,BD!B:C,2,0))","v":""}]
[{"$f":"IF(ROW()-8<=MAX(calc!F:F),INDEX(BD!B:B,MATCH(ROW()-8,calc!F:F,0)),\"\")","v":""},{"$f":"IF(A975=\"\",\"\",VLOOKUP(A975,BD!B:C,2,0))","v":""}]
[{"$f":"IF(ROW()-8<=MAX(calc!F:F),INDEX(BD!B:B,MATCH(ROW()-8,calc!F:F,0)),\"\")","v":""},{"$f":"IF(A976=\"\",\"\",VLOOKUP(A976,BD!B:C,2,0))","v":""}]
[{"$f":"IF(ROW()-8<=MAX(calc!F:F),INDEX(BD!B:B,MATCH(ROW()-8,calc!F:F,0)),\"\")","v":""},{"$f":"IF(A977=\"\",\"\",VLOOKUP(A977,BD!B:C,2,0))","v":""}]
[{"$f":"IF(ROW()-8<=MAX(calc!F:F),INDEX(BD!B:B,MATCH(ROW()-8,calc!F:F,0)),\"\")","v":""},{"$f":"IF(A978=\"\",\"\",VLOOKUP(A978,BD!B:C,2,0))","v":""}]
[{"$f":"IF(ROW()-8<=MAX(calc!F:F),INDEX(BD!B:B,MATCH(ROW()-8,calc!F:F,0)),\"\")","v":""},{"$f":"IF(A979=\"\",\"\",VLOOKUP(A979,BD!B:C,2,0))","v":""}]
[{"$f":"IF(ROW()-8<=MAX(calc!F:F),INDEX(BD!B:B,MATCH(ROW()-8,calc!F:F,0)),\"\")","v":""},{"$f":"IF(A980=\"\",\"\",VLOOKUP(A980,BD!B:C,2,0))","v":""}]
[{"$f":"IF(ROW()-8<=MAX(calc!F:F),INDEX(BD!B:B,MATCH(ROW()-8,calc!F:F,0)),\"\")","v":""},{"$f":"IF(A981=\"\",\"\",VLOOKUP(A981,BD!B:C,2,0))","v":""}]
[{"$f":"IF(ROW()-8<=MAX(calc!F:F),INDEX(BD!B:B,MATCH(ROW()-8,calc!F:F,0)),\"\")","v":""},{"$f":"IF(A982=\"\",\"\",VLOOKUP(A982,BD!B:C,2,0))","v":""}]
[{"$f":"IF(ROW()-8<=MAX(calc!F:F),INDEX(BD!B:B,MATCH(ROW()-8,calc!F:F,0)),\"\")","v":""},{"$f":"IF(A983=\"\",\"\",VLOOKUP(A983,BD!B:C,2,0))","v":""}]
[{"$f":"IF(ROW()-8<=MAX(calc!F:F),INDEX(BD!B:B,MATCH(ROW()-8,calc!F:F,0)),\"\")","v":""},{"$f":"IF(A984=\"\",\"\",VLOOKUP(A984,BD!B:C,2,0))","v":""}]
[{"$f":"IF(ROW()-8<=MAX(calc!F:F),INDEX(BD!B:B,MATCH(ROW()-8,calc!F:F,0)),\"\")","v":""},{"$f":"IF(A985=\"\",\"\",VLOOKUP(A985,BD!B:C,2,0))","v":""}]
[{"$f":"IF(ROW()-8<=MAX(calc!F:F),INDEX(BD!B:B,MATCH(ROW()-8,calc!F:F,0)),\"\")","v":""},{"$f":"IF(A986=\"\",\"\",VLOOKUP(A986,BD!B:C,2,0))","v":""}]
[{"$f":"IF(ROW()-8<=MAX(calc!F:F),INDEX(BD!B:B,MATCH(ROW()-8,calc!F:F,0)),\"\")","v":""},{"$f":"IF(A987=\"\",\"\",VLOOKUP(A987,BD!B:C,2,0))","v":""}]
[{"$f":"IF(ROW()-8<=MAX(calc!F:F),INDEX(BD!B:B,MATCH(ROW()-8,calc!F:F,0)),\"\")","v":""},{"$f":"IF(A988=\"\",\"\",VLOOKUP(A988,BD!B:C,2,0))","v":""}]
[{"$f":"IF(ROW()-8<=MAX(calc!F:F),INDEX(BD!B:B,MATCH(ROW()-8,calc!F:F,0)),\"\")","v":""},{"$f":"IF(A989=\"\",\"\",VLOOKUP(A989,BD!B:C,2,0))","v":""}]
[{"$f":"IF(ROW()-8<=MAX(calc!F:F),INDEX(BD!B:B,MATCH(ROW()-8,calc!F:F,0)),\"\")","v":""},{"$f":"IF(A990=\"\",\"\",VLOOKUP(A990,BD!B:C,2,0))","v":""}]
[{"$f":"IF(ROW()-8<=MAX(calc!F:F),INDEX(BD!B:B,MATCH(ROW()-8,calc!F:F,0)),\"\")","v":""},{"$f":"IF(A991=\"\",\"\",VLOOKUP(A991,BD!B:C,2,0))","v":""}]
[{"$f":"IF(ROW()-8<=MAX(calc!F:F),INDEX(BD!B:B,MATCH(ROW()-8,calc!F:F,0)),\"\")","v":""},{"$f":"IF(A992=\"\",\"\",VLOOKUP(A992,BD!B:C,2,0))","v":""}]
[{"$f":"IF(ROW()-8<=MAX(calc!F:F),INDEX(BD!B:B,MATCH(ROW()-8,calc!F:F,0)),\"\")","v":""},{"$f":"IF(A993=\"\",\"\",VLOOKUP(A993,BD!B:C,2,0))","v":""}]
[{"$f":"IF(ROW()-8<=MAX(calc!F:F),INDEX(BD!B:B,MATCH(ROW()-8,calc!F:F,0)),\"\")","v":""},{"$f":"IF(A994=\"\",\"\",VLOOKUP(A994,BD!B:C,2,0))","v":""}]
[{"$f":"IF(ROW()-8<=MAX(calc!F:F),INDEX(BD!B:B,MATCH(ROW()-8,calc!F:F,0)),\"\")","v":""},{"$f":"IF(A995=\"\",\"\",VLOOKUP(A995,BD!B:C,2,0))","v":""}]
[{"$f":"IF(ROW()-8<=MAX(calc!F:F),INDEX(BD!B:B,MATCH(ROW()-8,calc!F:F,0)),\"\")","v":""},{"$f":"IF(A996=\"\",\"\",VLOOKUP(A996,BD!B:C,2,0))","v":""}]
[{"$f":"IF(ROW()-8<=MAX(calc!F:F),INDEX(BD!B:B,MATCH(ROW()-8,calc!F:F,0)),\"\")","v":""},{"$f":"IF(A997=\"\",\"\",VLOOKUP(A997,BD!B:C,2,0))","v":""}]
[{"$f":"IF(ROW()-8<=MAX(calc!F:F),INDEX(BD!B:B,MATCH(ROW()-8,calc!F:F,0)),\"\")","v":""},{"$f":"IF(A998=\"\",\"\",VLOOKUP(A998,BD!B:C,2,0))","v":""}]
[{"$f":"IF(ROW()-8<=MAX(calc!F:F),INDEX(BD!B:B,MATCH(ROW()-8,calc!F:F,0)),\"\")","v":""},{"$f":"IF(A999=\"\",\"\",VLOOKUP(A999,BD!B:C,2,0))","v":""}]
[{"$f":"IF(ROW()-8<=MAX(calc!F:F),INDEX(BD!B:B,MATCH(ROW()-8,calc!F:F,0)),\"\")","v":""},{"$f":"IF(A1000=\"\",\"\",VLOOKUP(A1000,BD!B:C,2,0))","v":""}]
[{"$f":"IF(ROW()-8<=MAX(calc!F:F),INDEX(BD!B:B,MATCH(ROW()-8,calc!F:F,0)),\"\")","v":""},{"$f":"IF(A1001=\"\",\"\",VLOOKUP(A1001,BD!B:C,2,0))","v":""}]
[{"$f":"IF(ROW()-8<=MAX(calc!F:F),INDEX(BD!B:B,MATCH(ROW()-8,calc!F:F,0)),\"\")","v":""},{"$f":"IF(A1002=\"\",\"\",VLOOKUP(A1002,BD!B:C,2,0))","v":""}]
[{"$f":"IF(ROW()-8<=MAX(calc!F:F),INDEX(BD!B:B,MATCH(ROW()-8,calc!F:F,0)),\"\")","v":""},{"$f":"IF(A1003=\"\",\"\",VLOOKUP(A1003,BD!B:C,2,0))","v":""}]
[{"$f":"IF(ROW()-8<=MAX(calc!F:F),INDEX(BD!B:B,MATCH(ROW()-8,calc!F:F,0)),\"\")","v":""},{"$f":"IF(A1004=\"\",\"\",VLOOKUP(A1004,BD!B:C,2,0))","v":""}]
[{"$f":"IF(ROW()-8<=MAX(calc!F:F),INDEX(BD!B:B,MATCH(ROW()-8,calc!F:F,0)),\"\")","v":""},{"$f":"IF(A1005=\"\",\"\",VLOOKUP(A1005,BD!B:C,2,0))","v":""}]
[{"$f":"IF(ROW()-8<=MAX(calc!F:F),INDEX(BD!B:B,MATCH(ROW()-8,calc!F:F,0)),\"\")","v":""},{"$f":"IF(A1006=\"\",\"\",VLOOKUP(A1006,BD!B:C,2,0))","v":""}]
[{"$f":"IF(ROW()-8<=MAX(calc!F:F),INDEX(BD!B:B,MATCH(ROW()-8,calc!F:F,0)),\"\")","v":""},{"$f":"IF(A1007=\"\",\"\",VLOOKUP(A1007,BD!B:C,2,0))","v":""}]
[{"$f":"IF(ROW()-8<=MAX(calc!F:F),INDEX(BD!B:B,MATCH(ROW()-8,calc!F:F,0)),\"\")","v":""},{"$f":"IF(A1008=\"\",\"\",VLOOKUP(A1008,BD!B:C,2,0))","v":""}]
[{"$f":"IF(ROW()-8<=MAX(calc!F:F),INDEX(BD!B:B,MATCH(ROW()-8,calc!F:F,0)),\"\")","v":""},{"$f":"IF(A1009=\"\",\"\",VLOOKUP(A1009,BD!B:C,2,0))","v":""}]
[{"$f":"IF(ROW()-8<=MAX(calc!F:F),INDEX(BD!B:B,MATCH(ROW()-8,calc!F:F,0)),\"\")","v":""},{"$f":"IF(A1010=\"\",\"\",VLOOKUP(A1010,BD!B:C,2,0))","v":""}]
[{"$f":"IF(ROW()-8<=MAX(calc!F:F),INDEX(BD!B:B,MATCH(ROW()-8,calc!F:F,0)),\"\")","v":""},{"$f":"IF(A1011=\"\",\"\",VLOOKUP(A1011,BD!B:C,2,0))","v":""}]
[{"$f":"IF(ROW()-8<=MAX(calc!F:F),INDEX(BD!B:B,MATCH(ROW()-8,calc!F:F,0)),\"\")","v":""},{"$f":"IF(A1012=\"\",\"\",VLOOKUP(A1012,BD!B:C,2,0))","v":""}]
[{"$f":"IF(ROW()-8<=MAX(calc!F:F),INDEX(BD!B:B,MATCH(ROW()-8,calc!F:F,0)),\"\")","v":""},{"$f":"IF(A1013=\"\",\"\",VLOOKUP(A1013,BD!B:C,2,0))","v":""}]
[{"$f":"IF(ROW()-8<=MAX(calc!F:F),INDEX(BD!B:B,MATCH(ROW()-8,calc!F:F,0)),\"\")","v":""},{"$f":"IF(A1014=\"\",\"\",VLOOKUP(A1014,BD!B:C,2,0))","v":""}]
[{"$f":"IF(ROW()-8<=MAX(calc!F:F),INDEX(BD!B:B,MATCH(ROW()-8,calc!F:F,0)),\"\")","v":""},{"$f":"IF(A1015=\"\",\"\",VLOOKUP(A1015,BD!B:C,2,0))","v":""}]
[{"$f":"IF(ROW()-8<=MAX(calc!F:F),INDEX(BD!B:B,MATCH(ROW()-8,calc!F:F,0)),\"\")","v":""},{"$f":"IF(A1016=\"\",\"\",VLOOKUP(A1016,BD!B:C,2,0))","v":""}]
[{"$f":"IF(ROW()-8<=MAX(calc!F:F),INDEX(BD!B:B,MATCH(ROW()-8,calc!F:F,0)),\"\")","v":""},{"$f":"IF(A1017=\"\",\"\",VLOOKUP(A1017,BD!B:C,2,0))","v":""}]
[{"$f":"IF(ROW()-8<=MAX(calc!F:F),INDEX(BD!B:B,MATCH(ROW()-8,calc!F:F,0)),\"\")","v":""},{"$f":"IF(A1018=\"\",\"\",VLOOKUP(A1018,BD!B:C,2,0))","v":""}]
[{"$f":"IF(ROW()-8<=MAX(calc!F:F),INDEX(BD!B:B,MATCH(ROW()-8,calc!F:F,0)),\"\")","v":""},{"$f":"IF(A1019=\"\",\"\",VLOOKUP(A1019,BD!B:C,2,0))","v":""}]
[{"$f":"IF(ROW()-8<=MAX(calc!F:F),INDEX(BD!B:B,MATCH(ROW()-8,calc!F:F,0)),\"\")","v":""},{"$f":"IF(A1020=\"\",\"\",VLOOKUP(A1020,BD!B:C,2,0))","v":""}]
[{"$f":"IF(ROW()-8<=MAX(calc!F:F),INDEX(BD!B:B,MATCH(ROW()-8,calc!F:F,0)),\"\")","v":""},{"$f":"IF(A1021=\"\",\"\",VLOOKUP(A1021,BD!B:C,2,0))","v":""}]
[{"$f":"IF(ROW()-8<=MAX(calc!F:F),INDEX(BD!B:B,MATCH(ROW()-8,calc!F:F,0)),\"\")","v":""},{"$f":"IF(A1022=\"\",\"\",VLOOKUP(A1022,BD!B:C,2,0))","v":""}]
[{"$f":"IF(ROW()-8<=MAX(calc!F:F),INDEX(BD!B:B,MATCH(ROW()-8,calc!F:F,0)),\"\")","v":""},{"$f":"IF(A1023=\"\",\"\",VLOOKUP(A1023,BD!B:C,2,0))","v":""}]
[{"$f":"IF(ROW()-8<=MAX(calc!F:F),INDEX(BD!B:B,MATCH(ROW()-8,calc!F:F,0)),\"\")","v":""},{"$f":"IF(A1024=\"\",\"\",VLOOKUP(A1024,BD!B:C,2,0))","v":""}]
[{"$f":"IF(ROW()-8<=MAX(calc!F:F),INDEX(BD!B:B,MATCH(ROW()-8,calc!F:F,0)),\"\")","v":""},{"$f":"IF(A1025=\"\",\"\",VLOOKUP(A1025,BD!B:C,2,0))","v":""}]
[{"$f":"IF(ROW()-8<=MAX(calc!F:F),INDEX(BD!B:B,MATCH(ROW()-8,calc!F:F,0)),\"\")","v":""},{"$f":"IF(A1026=\"\",\"\",VLOOKUP(A1026,BD!B:C,2,0))","v":""}]
[{"$f":"IF(ROW()-8<=MAX(calc!F:F),INDEX(BD!B:B,MATCH(ROW()-8,calc!F:F,0)),\"\")","v":""},{"$f":"IF(A1027=\"\",\"\",VLOOKUP(A1027,BD!B:C,2,0))","v":""}]
[{"$f":"IF(ROW()-8<=MAX(calc!F:F),INDEX(BD!B:B,MATCH(ROW()-8,calc!F:F,0)),\"\")","v":""},{"$f":"IF(A1028=\"\",\"\",VLOOKUP(A1028,BD!B:C,2,0))","v":""}]
[{"$f":"IF(ROW()-8<=MAX(calc!F:F),INDEX(BD!B:B,MATCH(ROW()-8,calc!F:F,0)),\"\")","v":""},{"$f":"IF(A1029=\"\",\"\",VLOOKUP(A1029,BD!B:C,2,0))","v":""}]
[{"$f":"IF(ROW()-8<=MAX(calc!F:F),INDEX(BD!B:B,MATCH(ROW()-8,calc!F:F,0)),\"\")","v":""},{"$f":"IF(A1030=\"\",\"\",VLOOKUP(A1030,BD!B:C,2,0))","v":""}]
[{"$f":"IF(ROW()-8<=MAX(calc!F:F),INDEX(BD!B:B,MATCH(ROW()-8,calc!F:F,0)),\"\")","v":""},{"$f":"IF(A1031=\"\",\"\",VLOOKUP(A1031,BD!B:C,2,0))","v":""}]
[{"$f":"IF(ROW()-8<=MAX(calc!F:F),INDEX(BD!B:B,MATCH(ROW()-8,calc!F:F,0)),\"\")","v":""},{"$f":"IF(A1032=\"\",\"\",VLOOKUP(A1032,BD!B:C,2,0))","v":""}]
[{"$f":"IF(ROW()-8<=MAX(calc!F:F),INDEX(BD!B:B,MATCH(ROW()-8,calc!F:F,0)),\"\")","v":""},{"$f":"IF(A1033=\"\",\"\",VLOOKUP(A1033,BD!B:C,2,0))","v":""}]
[{"$f":"IF(ROW()-8<=MAX(calc!F:F),INDEX(BD!B:B,MATCH(ROW()-8,calc!F:F,0)),\"\")","v":""},{"$f":"IF(A1034=\"\",\"\",VLOOKUP(A1034,BD!B:C,2,0))","v":""}]
[{"$f":"IF(ROW()-8<=MAX(calc!F:F),INDEX(BD!B:B,MATCH(ROW()-8,calc!F:F,0)),\"\")","v":""},{"$f":"IF(A1035=\"\",\"\",VLOOKUP(A1035,BD!B:C,2,0))","v":""}]
[{"$f":"IF(ROW()-8<=MAX(calc!F:F),INDEX(BD!B:B,MATCH(ROW()-8,calc!F:F,0)),\"\")","v":""},{"$f":"IF(A1036=\"\",\"\",VLOOKUP(A1036,BD!B:C,2,0))","v":""}]
[{"$f":"IF(ROW()-8<=MAX(calc!F:F),INDEX(BD!B:B,MATCH(ROW()-8,calc!F:F,0)),\"\")","v":""},{"$f":"IF(A1037=\"\",\"\",VLOOKUP(A1037,BD!B:C,2,0))","v":""}]
[{"$f":"IF(ROW()-8<=MAX(calc!F:F),INDEX(BD!B:B,MATCH(ROW()-8,calc!F:F,0)),\"\")","v":""},{"$f":"IF(A1038=\"\",\"\",VLOOKUP(A1038,BD!B:C,2,0))","v":""}]
[{"$f":"IF(ROW()-8<=MAX(calc!F:F),INDEX(BD!B:B,MATCH(ROW()-8,calc!F:F,0)),\"\")","v":""},{"$f":"IF(A1039=\"\",\"\",VLOOKUP(A1039,BD!B:C,2,0))","v":""}]
[{"$f":"IF(ROW()-8<=MAX(calc!F:F),INDEX(BD!B:B,MATCH(ROW()-8,calc!F:F,0)),\"\")","v":""},{"$f":"IF(A1040=\"\",\"\",VLOOKUP(A1040,BD!B:C,2,0))","v":""}]
[{"$f":"IF(ROW()-8<=MAX(calc!F:F),INDEX(BD!B:B,MATCH(ROW()-8,calc!F:F,0)),\"\")","v":""},{"$f":"IF(A1041=\"\",\"\",VLOOKUP(A1041,BD!B:C,2,0))","v":""}]
[{"$f":"IF(ROW()-8<=MAX(calc!F:F),INDEX(BD!B:B,MATCH(ROW()-8,calc!F:F,0)),\"\")","v":""},{"$f":"IF(A1042=\"\",\"\",VLOOKUP(A1042,BD!B:C,2,0))","v":""}]
[{"$f":"IF(ROW()-8<=MAX(calc!F:F),INDEX(BD!B:B,MATCH(ROW()-8,calc!F:F,0)),\"\")","v":""},{"$f":"IF(A1043=\"\",\"\",VLOOKUP(A1043,BD!B:C,2,0))","v":""}]
[{"$f":"IF(ROW()-8<=MAX(calc!F:F),INDEX(BD!B:B,MATCH(ROW()-8,calc!F:F,0)),\"\")","v":""},{"$f":"IF(A1044=\"\",\"\",VLOOKUP(A1044,BD!B:C,2,0))","v":""}]
[{"$f":"IF(ROW()-8<=MAX(calc!F:F),INDEX(BD!B:B,MATCH(ROW()-8,calc!F:F,0)),\"\")","v":""},{"$f":"IF(A1045=\"\",\"\",VLOOKUP(A1045,BD!B:C,2,0))","v":""}]
[{"$f":"IF(ROW()-8<=MAX(calc!F:F),INDEX(BD!B:B,MATCH(ROW()-8,calc!F:F,0)),\"\")","v":""},{"$f":"IF(A1046=\"\",\"\",VLOOKUP(A1046,BD!B:C,2,0))","v":""}]
[{"$f":"IF(ROW()-8<=MAX(calc!F:F),INDEX(BD!B:B,MATCH(ROW()-8,calc!F:F,0)),\"\")","v":""},{"$f":"IF(A1047=\"\",\"\",VLOOKUP(A1047,BD!B:C,2,0))","v":""}]
[{"$f":"IF(ROW()-8<=MAX(calc!F:F),INDEX(BD!B:B,MATCH(ROW()-8,calc!F:F,0)),\"\")","v":""},{"$f":"IF(A1048=\"\",\"\",VLOOKUP(A1048,BD!B:C,2,0))","v":""}]
[{"$f":"IF(ROW()-8<=MAX(calc!F:F),INDEX(BD!B:B,MATCH(ROW()-8,calc!F:F,0)),\"\")","v":""},{"$f":"IF(A1049=\"\",\"\",VLOOKUP(A1049,BD!B:C,2,0))","v":""}]
[{"$f":"IF(ROW()-8<=MAX(calc!F:F),INDEX(BD!B:B,MATCH(ROW()-8,calc!F:F,0)),\"\")","v":""},{"$f":"IF(A1050=\"\",\"\",VLOOKUP(A1050,BD!B:C,2,0))","v":""}]
[{"$f":"IF(ROW()-8<=MAX(calc!F:F),INDEX(BD!B:B,MATCH(ROW()-8,calc!F:F,0)),\"\")","v":""},{"$f":"IF(A1051=\"\",\"\",VLOOKUP(A1051,BD!B:C,2,0))","v":""}]
[{"$f":"IF(ROW()-8<=MAX(calc!F:F),INDEX(BD!B:B,MATCH(ROW()-8,calc!F:F,0)),\"\")","v":""},{"$f":"IF(A1052=\"\",\"\",VLOOKUP(A1052,BD!B:C,2,0))","v":""}]
[{"$f":"IF(ROW()-8<=MAX(calc!F:F),INDEX(BD!B:B,MATCH(ROW()-8,calc!F:F,0)),\"\")","v":""},{"$f":"IF(A1053=\"\",\"\",VLOOKUP(A1053,BD!B:C,2,0))","v":""}]
[{"$f":"IF(ROW()-8<=MAX(calc!F:F),INDEX(BD!B:B,MATCH(ROW()-8,calc!F:F,0)),\"\")","v":""},{"$f":"IF(A1054=\"\",\"\",VLOOKUP(A1054,BD!B:C,2,0))","v":""}]
[{"$f":"IF(ROW()-8<=MAX(calc!F:F),INDEX(BD!B:B,MATCH(ROW()-8,calc!F:F,0)),\"\")","v":""},{"$f":"IF(A1055=\"\",\"\",VLOOKUP(A1055,BD!B:C,2,0))","v":""}]
[{"$f":"IF(ROW()-8<=MAX(calc!F:F),INDEX(BD!B:B,MATCH(ROW()-8,calc!F:F,0)),\"\")","v":""},{"$f":"IF(A1056=\"\",\"\",VLOOKUP(A1056,BD!B:C,2,0))","v":""}]
[{"$f":"IF(ROW()-8<=MAX(calc!F:F),INDEX(BD!B:B,MATCH(ROW()-8,calc!F:F,0)),\"\")","v":""},{"$f":"IF(A1057=\"\",\"\",VLOOKUP(A1057,BD!B:C,2,0))","v":""}]
[{"$f":"IF(ROW()-8<=MAX(calc!F:F),INDEX(BD!B:B,MATCH(ROW()-8,calc!F:F,0)),\"\")","v":""},{"$f":"IF(A1058=\"\",\"\",VLOOKUP(A1058,BD!B:C,2,0))","v":""}]
[{"$f":"IF(ROW()-8<=MAX(calc!F:F),INDEX(BD!B:B,MATCH(ROW()-8,calc!F:F,0)),\"\")","v":""},{"$f":"IF(A1059=\"\",\"\",VLOOKUP(A1059,BD!B:C,2,0))","v":""}]
[{"$f":"IF(ROW()-8<=MAX(calc!F:F),INDEX(BD!B:B,MATCH(ROW()-8,calc!F:F,0)),\"\")","v":""},{"$f":"IF(A1060=\"\",\"\",VLOOKUP(A1060,BD!B:C,2,0))","v":""}]
[{"$f":"IF(ROW()-8<=MAX(calc!F:F),INDEX(BD!B:B,MATCH(ROW()-8,calc!F:F,0)),\"\")","v":""},{"$f":"IF(A1061=\"\",\"\",VLOOKUP(A1061,BD!B:C,2,0))","v":""}]
[{"$f":"IF(ROW()-8<=MAX(calc!F:F),INDEX(BD!B:B,MATCH(ROW()-8,calc!F:F,0)),\"\")","v":""},{"$f":"IF(A1062=\"\",\"\",VLOOKUP(A1062,BD!B:C,2,0))","v":""}]
[{"$f":"IF(ROW()-8<=MAX(calc!F:F),INDEX(BD!B:B,MATCH(ROW()-8,calc!F:F,0)),\"\")","v":""},{"$f":"IF(A1063=\"\",\"\",VLOOKUP(A1063,BD!B:C,2,0))","v":""}]
[{"$f":"IF(ROW()-8<=MAX(calc!F:F),INDEX(BD!B:B,MATCH(ROW()-8,calc!F:F,0)),\"\")","v":""},{"$f":"IF(A1064=\"\",\"\",VLOOKUP(A1064,BD!B:C,2,0))","v":""}]
[{"$f":"IF(ROW()-8<=MAX(calc!F:F),INDEX(BD!B:B,MATCH(ROW()-8,calc!F:F,0)),\"\")","v":""},{"$f":"IF(A1065=\"\",\"\",VLOOKUP(A1065,BD!B:C,2,0))","v":""}]
[{"$f":"IF(ROW()-8<=MAX(calc!F:F),INDEX(BD!B:B,MATCH(ROW()-8,calc!F:F,0)),\"\")","v":""},{"$f":"IF(A1066=\"\",\"\",VLOOKUP(A1066,BD!B:C,2,0))","v":""}]
[{"$f":"IF(ROW()-8<=MAX(calc!F:F),INDEX(BD!B:B,MATCH(ROW()-8,calc!F:F,0)),\"\")","v":""},{"$f":"IF(A1067=\"\",\"\",VLOOKUP(A1067,BD!B:C,2,0))","v":""}]
[{"$f":"IF(ROW()-8<=MAX(calc!F:F),INDEX(BD!B:B,MATCH(ROW()-8,calc!F:F,0)),\"\")","v":""},{"$f":"IF(A1068=\"\",\"\",VLOOKUP(A1068,BD!B:C,2,0))","v":""}]
[{"$f":"IF(ROW()-8<=MAX(calc!F:F),INDEX(BD!B:B,MATCH(ROW()-8,calc!F:F,0)),\"\")","v":""},{"$f":"IF(A1069=\"\",\"\",VLOOKUP(A1069,BD!B:C,2,0))","v":""}]
[{"$f":"IF(ROW()-8<=MAX(calc!F:F),INDEX(BD!B:B,MATCH(ROW()-8,calc!F:F,0)),\"\")","v":""},{"$f":"IF(A1070=\"\",\"\",VLOOKUP(A1070,BD!B:C,2,0))","v":""}]
[{"$f":"IF(ROW()-8<=MAX(calc!F:F),INDEX(BD!B:B,MATCH(ROW()-8,calc!F:F,0)),\"\")","v":""},{"$f":"IF(A1071=\"\",\"\",VLOOKUP(A1071,BD!B:C,2,0))","v":""}]
[{"$f":"IF(ROW()-8<=MAX(calc!F:F),INDEX(BD!B:B,MATCH(ROW()-8,calc!F:F,0)),\"\")","v":""},{"$f":"IF(A1072=\"\",\"\",VLOOKUP(A1072,BD!B:C,2,0))","v":""}]
[{"$f":"IF(ROW()-8<=MAX(calc!F:F),INDEX(BD!B:B,MATCH(ROW()-8,calc!F:F,0)),\"\")","v":""},{"$f":"IF(A1073=\"\",\"\",VLOOKUP(A1073,BD!B:C,2,0))","v":""}]
[{"$f":"IF(ROW()-8<=MAX(calc!F:F),INDEX(BD!B:B,MATCH(ROW()-8,calc!F:F,0)),\"\")","v":""},{"$f":"IF(A1074=\"\",\"\",VLOOKUP(A1074,BD!B:C,2,0))","v":""}]
[{"$f":"IF(ROW()-8<=MAX(calc!F:F),INDEX(BD!B:B,MATCH(ROW()-8,calc!F:F,0)),\"\")","v":""},{"$f":"IF(A1075=\"\",\"\",VLOOKUP(A1075,BD!B:C,2,0))","v":""}]
[{"$f":"IF(ROW()-8<=MAX(calc!F:F),INDEX(BD!B:B,MATCH(ROW()-8,calc!F:F,0)),\"\")","v":""},{"$f":"IF(A1076=\"\",\"\",VLOOKUP(A1076,BD!B:C,2,0))","v":""}]
[{"$f":"IF(ROW()-8<=MAX(calc!F:F),INDEX(BD!B:B,MATCH(ROW()-8,calc!F:F,0)),\"\")","v":""},{"$f":"IF(A1077=\"\",\"\",VLOOKUP(A1077,BD!B:C,2,0))","v":""}]
[{"$f":"IF(ROW()-8<=MAX(calc!F:F),INDEX(BD!B:B,MATCH(ROW()-8,calc!F:F,0)),\"\")","v":""},{"$f":"IF(A1078=\"\",\"\",VLOOKUP(A1078,BD!B:C,2,0))","v":""}]
[{"$f":"IF(ROW()-8<=MAX(calc!F:F),INDEX(BD!B:B,MATCH(ROW()-8,calc!F:F,0)),\"\")","v":""},{"$f":"IF(A1079=\"\",\"\",VLOOKUP(A1079,BD!B:C,2,0))","v":""}]
[{"$f":"IF(ROW()-8<=MAX(calc!F:F),INDEX(BD!B:B,MATCH(ROW()-8,calc!F:F,0)),\"\")","v":""},{"$f":"IF(A1080=\"\",\"\",VLOOKUP(A1080,BD!B:C,2,0))","v":""}]
[{"$f":"IF(ROW()-8<=MAX(calc!F:F),INDEX(BD!B:B,MATCH(ROW()-8,calc!F:F,0)),\"\")","v":""},{"$f":"IF(A1081=\"\",\"\",VLOOKUP(A1081,BD!B:C,2,0))","v":""}]
[{"$f":"IF(ROW()-8<=MAX(calc!F:F),INDEX(BD!B:B,MATCH(ROW()-8,calc!F:F,0)),\"\")","v":""},{"$f":"IF(A1082=\"\",\"\",VLOOKUP(A1082,BD!B:C,2,0))","v":""}]
[{"$f":"IF(ROW()-8<=MAX(calc!F:F),INDEX(BD!B:B,MATCH(ROW()-8,calc!F:F,0)),\"\")","v":""},{"$f":"IF(A1083=\"\",\"\",VLOOKUP(A1083,BD!B:C,2,0))","v":""}]
[{"$f":"IF(ROW()-8<=MAX(calc!F:F),INDEX(BD!B:B,MATCH(ROW()-8,calc!F:F,0)),\"\")","v":""},{"$f":"IF(A1084=\"\",\"\",VLOOKUP(A1084,BD!B:C,2,0))","v":""}]
[{"$f":"IF(ROW()-8<=MAX(calc!F:F),INDEX(BD!B:B,MATCH(ROW()-8,calc!F:F,0)),\"\")","v":""},{"$f":"IF(A1085=\"\",\"\",VLOOKUP(A1085,BD!B:C,2,0))","v":""}]
[{"$f":"IF(ROW()-8<=MAX(calc!F:F),INDEX(BD!B:B,MATCH(ROW()-8,calc!F:F,0)),\"\")","v":""},{"$f":"IF(A1086=\"\",\"\",VLOOKUP(A1086,BD!B:C,2,0))","v":""}]
[{"$f":"IF(ROW()-8<=MAX(calc!F:F),INDEX(BD!B:B,MATCH(ROW()-8,calc!F:F,0)),\"\")","v":""},{"$f":"IF(A1087=\"\",\"\",VLOOKUP(A1087,BD!B:C,2,0))","v":""}]
[{"$f":"IF(ROW()-8<=MAX(calc!F:F),INDEX(BD!B:B,MATCH(ROW()-8,calc!F:F,0)),\"\")","v":""},{"$f":"IF(A1088=\"\",\"\",VLOOKUP(A1088,BD!B:C,2,0))","v":""}]
[{"$f":"IF(ROW()-8<=MAX(calc!F:F),INDEX(BD!B:B,MATCH(ROW()-8,calc!F:F,0)),\"\")","v":""},{"$f":"IF(A1089=\"\",\"\",VLOOKUP(A1089,BD!B:C,2,0))","v":""}]
[{"$f":"IF(ROW()-8<=MAX(calc!F:F),INDEX(BD!B:B,MATCH(ROW()-8,calc!F:F,0)),\"\")","v":""},{"$f":"IF(A1090=\"\",\"\",VLOOKUP(A1090,BD!B:C,2,0))","v":""}]
[{"$f":"IF(ROW()-8<=MAX(calc!F:F),INDEX(BD!B:B,MATCH(ROW()-8,calc!F:F,0)),\"\")","v":""},{"$f":"IF(A1091=\"\",\"\",VLOOKUP(A1091,BD!B:C,2,0))","v":""}]
[{"$f":"IF(ROW()-8<=MAX(calc!F:F),INDEX(BD!B:B,MATCH(ROW()-8,calc!F:F,0)),\"\")","v":""},{"$f":"IF(A1092=\"\",\"\",VLOOKUP(A1092,BD!B:C,2,0))","v":""}]
[{"$f":"IF(ROW()-8<=MAX(calc!F:F),INDEX(BD!B:B,MATCH(ROW()-8,calc!F:F,0)),\"\")","v":""},{"$f":"IF(A1093=\"\",\"\",VLOOKUP(A1093,BD!B:C,2,0))","v":""}]
[{"$f":"IF(ROW()-8<=MAX(calc!F:F),INDEX(BD!B:B,MATCH(ROW()-8,calc!F:F,0)),\"\")","v":""},{"$f":"IF(A1094=\"\",\"\",VLOOKUP(A1094,BD!B:C,2,0))","v":""}]
[{"$f":"IF(ROW()-8<=MAX(calc!F:F),INDEX(BD!B:B,MATCH(ROW()-8,calc!F:F,0)),\"\")","v":""},{"$f":"IF(A1095=\"\",\"\",VLOOKUP(A1095,BD!B:C,2,0))","v":""}]
[{"$f":"IF(ROW()-8<=MAX(calc!F:F),INDEX(BD!B:B,MATCH(ROW()-8,calc!F:F,0)),\"\")","v":""},{"$f":"IF(A1096=\"\",\"\",VLOOKUP(A1096,BD!B:C,2,0))","v":""}]
[{"$f":"IF(ROW()-8<=MAX(calc!F:F),INDEX(BD!B:B,MATCH(ROW()-8,calc!F:F,0)),\"\")","v":""},{"$f":"IF(A1097=\"\",\"\",VLOOKUP(A1097,BD!B:C,2,0))","v":""}]
[{"$f":"IF(ROW()-8<=MAX(calc!F:F),INDEX(BD!B:B,MATCH(ROW()-8,calc!F:F,0)),\"\")","v":""},{"$f":"IF(A1098=\"\",\"\",VLOOKUP(A1098,BD!B:C,2,0))","v":""}]
[{"$f":"IF(ROW()-8<=MAX(calc!F:F),INDEX(BD!B:B,MATCH(ROW()-8,calc!F:F,0)),\"\")","v":""},{"$f":"IF(A1099=\"\",\"\",VLOOKUP(A1099,BD!B:C,2,0))","v":""}]
[{"$f":"IF(ROW()-8<=MAX(calc!F:F),INDEX(BD!B:B,MATCH(ROW()-8,calc!F:F,0)),\"\")","v":""},{"$f":"IF(A1100=\"\",\"\",VLOOKUP(A1100,BD!B:C,2,0))","v":""}]
[{"$f":"IF(ROW()-8<=MAX(calc!F:F),INDEX(BD!B:B,MATCH(ROW()-8,calc!F:F,0)),\"\")","v":""},{"$f":"IF(A1101=\"\",\"\",VLOOKUP(A1101,BD!B:C,2,0))","v":""}]
[{"$f":"IF(ROW()-8<=MAX(calc!F:F),INDEX(BD!B:B,MATCH(ROW()-8,calc!F:F,0)),\"\")","v":""},{"$f":"IF(A1102=\"\",\"\",VLOOKUP(A1102,BD!B:C,2,0))","v":""}]
[{"$f":"IF(ROW()-8<=MAX(calc!F:F),INDEX(BD!B:B,MATCH(ROW()-8,calc!F:F,0)),\"\")","v":""},{"$f":"IF(A1103=\"\",\"\",VLOOKUP(A1103,BD!B:C,2,0))","v":""}]
[{"$f":"IF(ROW()-8<=MAX(calc!F:F),INDEX(BD!B:B,MATCH(ROW()-8,calc!F:F,0)),\"\")","v":""},{"$f":"IF(A1104=\"\",\"\",VLOOKUP(A1104,BD!B:C,2,0))","v":""}]
[{"$f":"IF(ROW()-8<=MAX(calc!F:F),INDEX(BD!B:B,MATCH(ROW()-8,calc!F:F,0)),\"\")","v":""},{"$f":"IF(A1105=\"\",\"\",VLOOKUP(A1105,BD!B:C,2,0))","v":""}]
[{"$f":"IF(ROW()-8<=MAX(calc!F:F),INDEX(BD!B:B,MATCH(ROW()-8,calc!F:F,0)),\"\")","v":""},{"$f":"IF(A1106=\"\",\"\",VLOOKUP(A1106,BD!B:C,2,0))","v":""}]
[{"$f":"IF(ROW()-8<=MAX(calc!F:F),INDEX(BD!B:B,MATCH(ROW()-8,calc!F:F,0)),\"\")","v":""},{"$f":"IF(A1107=\"\",\"\",VLOOKUP(A1107,BD!B:C,2,0))","v":""}]
[{"$f":"IF(ROW()-8<=MAX(calc!F:F),INDEX(BD!B:B,MATCH(ROW()-8,calc!F:F,0)),\"\")","v":""},{"$f":"IF(A1108=\"\",\"\",VLOOKUP(A1108,BD!B:C,2,0))","v":""}]
[{"$f":"IF(ROW()-8<=MAX(calc!F:F),INDEX(BD!B:B,MATCH(ROW()-8,calc!F:F,0)),\"\")","v":""},{"$f":"IF(A1109=\"\",\"\",VLOOKUP(A1109,BD!B:C,2,0))","v":""}]
[{"$f":"IF(ROW()-8<=MAX(calc!F:F),INDEX(BD!B:B,MATCH(ROW()-8,calc!F:F,0)),\"\")","v":""},{"$f":"IF(A1110=\"\",\"\",VLOOKUP(A1110,BD!B:C,2,0))","v":""}]
[{"$f":"IF(ROW()-8<=MAX(calc!F:F),INDEX(BD!B:B,MATCH(ROW()-8,calc!F:F,0)),\"\")","v":""},{"$f":"IF(A1111=\"\",\"\",VLOOKUP(A1111,BD!B:C,2,0))","v":""}]
[{"$f":"IF(ROW()-8<=MAX(calc!F:F),INDEX(BD!B:B,MATCH(ROW()-8,calc!F:F,0)),\"\")","v":""},{"$f":"IF(A1112=\"\",\"\",VLOOKUP(A1112,BD!B:C,2,0))","v":""}]
[{"$f":"IF(ROW()-8<=MAX(calc!F:F),INDEX(BD!B:B,MATCH(ROW()-8,calc!F:F,0)),\"\")","v":""},{"$f":"IF(A1113=\"\",\"\",VLOOKUP(A1113,BD!B:C,2,0))","v":""}]
[{"$f":"IF(ROW()-8<=MAX(calc!F:F),INDEX(BD!B:B,MATCH(ROW()-8,calc!F:F,0)),\"\")","v":""},{"$f":"IF(A1114=\"\",\"\",VLOOKUP(A1114,BD!B:C,2,0))","v":""}]
[{"$f":"IF(ROW()-8<=MAX(calc!F:F),INDEX(BD!B:B,MATCH(ROW()-8,calc!F:F,0)),\"\")","v":""},{"$f":"IF(A1115=\"\",\"\",VLOOKUP(A1115,BD!B:C,2,0))","v":""}]
[{"$f":"IF(ROW()-8<=MAX(calc!F:F),INDEX(BD!B:B,MATCH(ROW()-8,calc!F:F,0)),\"\")","v":""},{"$f":"IF(A1116=\"\",\"\",VLOOKUP(A1116,BD!B:C,2,0))","v":""}]
[{"$f":"IF(ROW()-8<=MAX(calc!F:F),INDEX(BD!B:B,MATCH(ROW()-8,calc!F:F,0)),\"\")","v":""},{"$f":"IF(A1117=\"\",\"\",VLOOKUP(A1117,BD!B:C,2,0))","v":""}]
[{"$f":"IF(ROW()-8<=MAX(calc!F:F),INDEX(BD!B:B,MATCH(ROW()-8,calc!F:F,0)),\"\")","v":""},{"$f":"IF(A1118=\"\",\"\",VLOOKUP(A1118,BD!B:C,2,0))","v":""}]
[{"$f":"IF(ROW()-8<=MAX(calc!F:F),INDEX(BD!B:B,MATCH(ROW()-8,calc!F:F,0)),\"\")","v":""},{"$f":"IF(A1119=\"\",\"\",VLOOKUP(A1119,BD!B:C,2,0))","v":""}]
[{"$f":"IF(ROW()-8<=MAX(calc!F:F),INDEX(BD!B:B,MATCH(ROW()-8,calc!F:F,0)),\"\")","v":""},{"$f":"IF(A1120=\"\",\"\",VLOOKUP(A1120,BD!B:C,2,0))","v":""}]
[{"$f":"IF(ROW()-8<=MAX(calc!F:F),INDEX(BD!B:B,MATCH(ROW()-8,calc!F:F,0)),\"\")","v":""},{"$f":"IF(A1121=\"\",\"\",VLOOKUP(A1121,BD!B:C,2,0))","v":""}]
[{"$f":"IF(ROW()-8<=MAX(calc!F:F),INDEX(BD!B:B,MATCH(ROW()-8,calc!F:F,0)),\"\")","v":""},{"$f":"IF(A1122=\"\",\"\",VLOOKUP(A1122,BD!B:C,2,0))","v":""}]
[{"$f":"IF(ROW()-8<=MAX(calc!F:F),INDEX(BD!B:B,MATCH(ROW()-8,calc!F:F,0)),\"\")","v":""},{"$f":"IF(A1123=\"\",\"\",VLOOKUP(A1123,BD!B:C,2,0))","v":""}]
[{"$f":"IF(ROW()-8<=MAX(calc!F:F),INDEX(BD!B:B,MATCH(ROW()-8,calc!F:F,0)),\"\")","v":""},{"$f":"IF(A1124=\"\",\"\",VLOOKUP(A1124,BD!B:C,2,0))","v":""}]
[{"$f":"IF(ROW()-8<=MAX(calc!F:F),INDEX(BD!B:B,MATCH(ROW()-8,calc!F:F,0)),\"\")","v":""},{"$f":"IF(A1125=\"\",\"\",VLOOKUP(A1125,BD!B:C,2,0))","v":""}]
[{"$f":"IF(ROW()-8<=MAX(calc!F:F),INDEX(BD!B:B,MATCH(ROW()-8,calc!F:F,0)),\"\")","v":""},{"$f":"IF(A1126=\"\",\"\",VLOOKUP(A1126,BD!B:C,2,0))","v":""}]
[{"$f":"IF(ROW()-8<=MAX(calc!F:F),INDEX(BD!B:B,MATCH(ROW()-8,calc!F:F,0)),\"\")","v":""},{"$f":"IF(A1127=\"\",\"\",VLOOKUP(A1127,BD!B:C,2,0))","v":""}]
[{"$f":"IF(ROW()-8<=MAX(calc!F:F),INDEX(BD!B:B,MATCH(ROW()-8,calc!F:F,0)),\"\")","v":""},{"$f":"IF(A1128=\"\",\"\",VLOOKUP(A1128,BD!B:C,2,0))","v":""}]
[{"$f":"IF(ROW()-8<=MAX(calc!F:F),INDEX(BD!B:B,MATCH(ROW()-8,calc!F:F,0)),\"\")","v":""},{"$f":"IF(A1129=\"\",\"\",VLOOKUP(A1129,BD!B:C,2,0))","v":""}]
[{"$f":"IF(ROW()-8<=MAX(calc!F:F),INDEX(BD!B:B,MATCH(ROW()-8,calc!F:F,0)),\"\")","v":""},{"$f":"IF(A1130=\"\",\"\",VLOOKUP(A1130,BD!B:C,2,0))","v":""}]
[{"$f":"IF(ROW()-8<=MAX(calc!F:F),INDEX(BD!B:B,MATCH(ROW()-8,calc!F:F,0)),\"\")","v":""},{"$f":"IF(A1131=\"\",\"\",VLOOKUP(A1131,BD!B:C,2,0))","v":""}]
[{"$f":"IF(ROW()-8<=MAX(calc!F:F),INDEX(BD!B:B,MATCH(ROW()-8,calc!F:F,0)),\"\")","v":""},{"$f":"IF(A1132=\"\",\"\",VLOOKUP(A1132,BD!B:C,2,0))","v":""}]
[{"$f":"IF(ROW()-8<=MAX(calc!F:F),INDEX(BD!B:B,MATCH(ROW()-8,calc!F:F,0)),\"\")","v":""},{"$f":"IF(A1133=\"\",\"\",VLOOKUP(A1133,BD!B:C,2,0))","v":""}]
[{"$f":"IF(ROW()-8<=MAX(calc!F:F),INDEX(BD!B:B,MATCH(ROW()-8,calc!F:F,0)),\"\")","v":""},{"$f":"IF(A1134=\"\",\"\",VLOOKUP(A1134,BD!B:C,2,0))","v":""}]
[{"$f":"IF(ROW()-8<=MAX(calc!F:F),INDEX(BD!B:B,MATCH(ROW()-8,calc!F:F,0)),\"\")","v":""},{"$f":"IF(A1135=\"\",\"\",VLOOKUP(A1135,BD!B:C,2,0))","v":""}]
[{"$f":"IF(ROW()-8<=MAX(calc!F:F),INDEX(BD!B:B,MATCH(ROW()-8,calc!F:F,0)),\"\")","v":""},{"$f":"IF(A1136=\"\",\"\",VLOOKUP(A1136,BD!B:C,2,0))","v":""}]
[{"$f":"IF(ROW()-8<=MAX(calc!F:F),INDEX(BD!B:B,MATCH(ROW()-8,calc!F:F,0)),\"\")","v":""},{"$f":"IF(A1137=\"\",\"\",VLOOKUP(A1137,BD!B:C,2,0))","v":""}]
[{"$f":"IF(ROW()-8<=MAX(calc!F:F),INDEX(BD!B:B,MATCH(ROW()-8,calc!F:F,0)),\"\")","v":""},{"$f":"IF(A1138=\"\",\"\",VLOOKUP(A1138,BD!B:C,2,0))","v":""}]
[{"$f":"IF(ROW()-8<=MAX(calc!F:F),INDEX(BD!B:B,MATCH(ROW()-8,calc!F:F,0)),\"\")","v":""},{"$f":"IF(A1139=\"\",\"\",VLOOKUP(A1139,BD!B:C,2,0))","v":""}]
[{"$f":"IF(ROW()-8<=MAX(calc!F:F),INDEX(BD!B:B,MATCH(ROW()-8,calc!F:F,0)),\"\")","v":""},{"$f":"IF(A1140=\"\",\"\",VLOOKUP(A1140,BD!B:C,2,0))","v":""}]
[{"$f":"IF(ROW()-8<=MAX(calc!F:F),INDEX(BD!B:B,MATCH(ROW()-8,calc!F:F,0)),\"\")","v":""},{"$f":"IF(A1141=\"\",\"\",VLOOKUP(A1141,BD!B:C,2,0))","v":""}]
[{"$f":"IF(ROW()-8<=MAX(calc!F:F),INDEX(BD!B:B,MATCH(ROW()-8,calc!F:F,0)),\"\")","v":""},{"$f":"IF(A1142=\"\",\"\",VLOOKUP(A1142,BD!B:C,2,0))","v":""}]
[{"$f":"IF(ROW()-8<=MAX(calc!F:F),INDEX(BD!B:B,MATCH(ROW()-8,calc!F:F,0)),\"\")","v":""},{"$f":"IF(A1143=\"\",\"\",VLOOKUP(A1143,BD!B:C,2,0))","v":""}]
[{"$f":"IF(ROW()-8<=MAX(calc!F:F),INDEX(BD!B:B,MATCH(ROW()-8,calc!F:F,0)),\"\")","v":""},{"$f":"IF(A1144=\"\",\"\",VLOOKUP(A1144,BD!B:C,2,0))","v":""}]
[{"$f":"IF(ROW()-8<=MAX(calc!F:F),INDEX(BD!B:B,MATCH(ROW()-8,calc!F:F,0)),\"\")","v":""},{"$f":"IF(A1145=\"\",\"\",VLOOKUP(A1145,BD!B:C,2,0))","v":""}]
[{"$f":"IF(ROW()-8<=MAX(calc!F:F),INDEX(BD!B:B,MATCH(ROW()-8,calc!F:F,0)),\"\")","v":""},{"$f":"IF(A1146=\"\",\"\",VLOOKUP(A1146,BD!B:C,2,0))","v":""}]
[{"$f":"IF(ROW()-8<=MAX(calc!F:F),INDEX(BD!B:B,MATCH(ROW()-8,calc!F:F,0)),\"\")","v":""},{"$f":"IF(A1147=\"\",\"\",VLOOKUP(A1147,BD!B:C,2,0))","v":""}]
[{"$f":"IF(ROW()-8<=MAX(calc!F:F),INDEX(BD!B:B,MATCH(ROW()-8,calc!F:F,0)),\"\")","v":""},{"$f":"IF(A1148=\"\",\"\",VLOOKUP(A1148,BD!B:C,2,0))","v":""}]
[{"$f":"IF(ROW()-8<=MAX(calc!F:F),INDEX(BD!B:B,MATCH(ROW()-8,calc!F:F,0)),\"\")","v":""},{"$f":"IF(A1149=\"\",\"\",VLOOKUP(A1149,BD!B:C,2,0))","v":""}]
[{"$f":"IF(ROW()-8<=MAX(calc!F:F),INDEX(BD!B:B,MATCH(ROW()-8,calc!F:F,0)),\"\")","v":""},{"$f":"IF(A1150=\"\",\"\",VLOOKUP(A1150,BD!B:C,2,0))","v":""}]
[{"$f":"IF(ROW()-8<=MAX(calc!F:F),INDEX(BD!B:B,MATCH(ROW()-8,calc!F:F,0)),\"\")","v":""},{"$f":"IF(A1151=\"\",\"\",VLOOKUP(A1151,BD!B:C,2,0))","v":""}]
[{"$f":"IF(ROW()-8<=MAX(calc!F:F),INDEX(BD!B:B,MATCH(ROW()-8,calc!F:F,0)),\"\")","v":""},{"$f":"IF(A1152=\"\",\"\",VLOOKUP(A1152,BD!B:C,2,0))","v":""}]
[{"$f":"IF(ROW()-8<=MAX(calc!F:F),INDEX(BD!B:B,MATCH(ROW()-8,calc!F:F,0)),\"\")","v":""},{"$f":"IF(A1153=\"\",\"\",VLOOKUP(A1153,BD!B:C,2,0))","v":""}]
[{"$f":"IF(ROW()-8<=MAX(calc!F:F),INDEX(BD!B:B,MATCH(ROW()-8,calc!F:F,0)),\"\")","v":""},{"$f":"IF(A1154=\"\",\"\",VLOOKUP(A1154,BD!B:C,2,0))","v":""}]
[{"$f":"IF(ROW()-8<=MAX(calc!F:F),INDEX(BD!B:B,MATCH(ROW()-8,calc!F:F,0)),\"\")","v":""},{"$f":"IF(A1155=\"\",\"\",VLOOKUP(A1155,BD!B:C,2,0))","v":""}]
[{"$f":"IF(ROW()-8<=MAX(calc!F:F),INDEX(BD!B:B,MATCH(ROW()-8,calc!F:F,0)),\"\")","v":""},{"$f":"IF(A1156=\"\",\"\",VLOOKUP(A1156,BD!B:C,2,0))","v":""}]
[{"$f":"IF(ROW()-8<=MAX(calc!F:F),INDEX(BD!B:B,MATCH(ROW()-8,calc!F:F,0)),\"\")","v":""},{"$f":"IF(A1157=\"\",\"\",VLOOKUP(A1157,BD!B:C,2,0))","v":""}]
[{"$f":"IF(ROW()-8<=MAX(calc!F:F),INDEX(BD!B:B,MATCH(ROW()-8,calc!F:F,0)),\"\")","v":""},{"$f":"IF(A1158=\"\",\"\",VLOOKUP(A1158,BD!B:C,2,0))","v":""}]
[{"$f":"IF(ROW()-8<=MAX(calc!F:F),INDEX(BD!B:B,MATCH(ROW()-8,calc!F:F,0)),\"\")","v":""},{"$f":"IF(A1159=\"\",\"\",VLOOKUP(A1159,BD!B:C,2,0))","v":""}]
[{"$f":"IF(ROW()-8<=MAX(calc!F:F),INDEX(BD!B:B,MATCH(ROW()-8,calc!F:F,0)),\"\")","v":""},{"$f":"IF(A1160=\"\",\"\",VLOOKUP(A1160,BD!B:C,2,0))","v":""}]
[{"$f":"IF(ROW()-8<=MAX(calc!F:F),INDEX(BD!B:B,MATCH(ROW()-8,calc!F:F,0)),\"\")","v":""},{"$f":"IF(A1161=\"\",\"\",VLOOKUP(A1161,BD!B:C,2,0))","v":""}]
[{"$f":"IF(ROW()-8<=MAX(calc!F:F),INDEX(BD!B:B,MATCH(ROW()-8,calc!F:F,0)),\"\")","v":""},{"$f":"IF(A1162=\"\",\"\",VLOOKUP(A1162,BD!B:C,2,0))","v":""}]
[{"$f":"IF(ROW()-8<=MAX(calc!F:F),INDEX(BD!B:B,MATCH(ROW()-8,calc!F:F,0)),\"\")","v":""},{"$f":"IF(A1163=\"\",\"\",VLOOKUP(A1163,BD!B:C,2,0))","v":""}]
[{"$f":"IF(ROW()-8<=MAX(calc!F:F),INDEX(BD!B:B,MATCH(ROW()-8,calc!F:F,0)),\"\")","v":""},{"$f":"IF(A1164=\"\",\"\",VLOOKUP(A1164,BD!B:C,2,0))","v":""}]
[{"$f":"IF(ROW()-8<=MAX(calc!F:F),INDEX(BD!B:B,MATCH(ROW()-8,calc!F:F,0)),\"\")","v":""},{"$f":"IF(A1165=\"\",\"\",VLOOKUP(A1165,BD!B:C,2,0))","v":""}]
[{"$f":"IF(ROW()-8<=MAX(calc!F:F),INDEX(BD!B:B,MATCH(ROW()-8,calc!F:F,0)),\"\")","v":""},{"$f":"IF(A1166=\"\",\"\",VLOOKUP(A1166,BD!B:C,2,0))","v":""}]
[{"$f":"IF(ROW()-8<=MAX(calc!F:F),INDEX(BD!B:B,MATCH(ROW()-8,calc!F:F,0)),\"\")","v":""},{"$f":"IF(A1167=\"\",\"\",VLOOKUP(A1167,BD!B:C,2,0))","v":""}]
[{"$f":"IF(ROW()-8<=MAX(calc!F:F),INDEX(BD!B:B,MATCH(ROW()-8,calc!F:F,0)),\"\")","v":""},{"$f":"IF(A1168=\"\",\"\",VLOOKUP(A1168,BD!B:C,2,0))","v":""}]
[{"$f":"IF(ROW()-8<=MAX(calc!F:F),INDEX(BD!B:B,MATCH(ROW()-8,calc!F:F,0)),\"\")","v":""},{"$f":"IF(A1169=\"\",\"\",VLOOKUP(A1169,BD!B:C,2,0))","v":""}]
[{"$f":"IF(ROW()-8<=MAX(calc!F:F),INDEX(BD!B:B,MATCH(ROW()-8,calc!F:F,0)),\"\")","v":""},{"$f":"IF(A1170=\"\",\"\",VLOOKUP(A1170,BD!B:C,2,0))","v":""}]
[{"$f":"IF(ROW()-8<=MAX(calc!F:F),INDEX(BD!B:B,MATCH(ROW()-8,calc!F:F,0)),\"\")","v":""},{"$f":"IF(A1171=\"\",\"\",VLOOKUP(A1171,BD!B:C,2,0))","v":""}]
[{"$f":"IF(ROW()-8<=MAX(calc!F:F),INDEX(BD!B:B,MATCH(ROW()-8,calc!F:F,0)),\"\")","v":""},{"$f":"IF(A1172=\"\",\"\",VLOOKUP(A1172,BD!B:C,2,0))","v":""}]
[{"$f":"IF(ROW()-8<=MAX(calc!F:F),INDEX(BD!B:B,MATCH(ROW()-8,calc!F:F,0)),\"\")","v":""},{"$f":"IF(A1173=\"\",\"\",VLOOKUP(A1173,BD!B:C,2,0))","v":""}]
[{"$f":"IF(ROW()-8<=MAX(calc!F:F),INDEX(BD!B:B,MATCH(ROW()-8,calc!F:F,0)),\"\")","v":""},{"$f":"IF(A1174=\"\",\"\",VLOOKUP(A1174,BD!B:C,2,0))","v":""}]
[{"$f":"IF(ROW()-8<=MAX(calc!F:F),INDEX(BD!B:B,MATCH(ROW()-8,calc!F:F,0)),\"\")","v":""},{"$f":"IF(A1175=\"\",\"\",VLOOKUP(A1175,BD!B:C,2,0))","v":""}]
[{"$f":"IF(ROW()-8<=MAX(calc!F:F),INDEX(BD!B:B,MATCH(ROW()-8,calc!F:F,0)),\"\")","v":""},{"$f":"IF(A1176=\"\",\"\",VLOOKUP(A1176,BD!B:C,2,0))","v":""}]
[{"$f":"IF(ROW()-8<=MAX(calc!F:F),INDEX(BD!B:B,MATCH(ROW()-8,calc!F:F,0)),\"\")","v":""},{"$f":"IF(A1177=\"\",\"\",VLOOKUP(A1177,BD!B:C,2,0))","v":""}]
[{"$f":"IF(ROW()-8<=MAX(calc!F:F),INDEX(BD!B:B,MATCH(ROW()-8,calc!F:F,0)),\"\")","v":""},{"$f":"IF(A1178=\"\",\"\",VLOOKUP(A1178,BD!B:C,2,0))","v":""}]
[{"$f":"IF(ROW()-8<=MAX(calc!F:F),INDEX(BD!B:B,MATCH(ROW()-8,calc!F:F,0)),\"\")","v":""},{"$f":"IF(A1179=\"\",\"\",VLOOKUP(A1179,BD!B:C,2,0))","v":""}]
[{"$f":"IF(ROW()-8<=MAX(calc!F:F),INDEX(BD!B:B,MATCH(ROW()-8,calc!F:F,0)),\"\")","v":""},{"$f":"IF(A1180=\"\",\"\",VLOOKUP(A1180,BD!B:C,2,0))","v":""}]
[{"$f":"IF(ROW()-8<=MAX(calc!F:F),INDEX(BD!B:B,MATCH(ROW()-8,calc!F:F,0)),\"\")","v":""},{"$f":"IF(A1181=\"\",\"\",VLOOKUP(A1181,BD!B:C,2,0))","v":""}]
[{"$f":"IF(ROW()-8<=MAX(calc!F:F),INDEX(BD!B:B,MATCH(ROW()-8,calc!F:F,0)),\"\")","v":""},{"$f":"IF(A1182=\"\",\"\",VLOOKUP(A1182,BD!B:C,2,0))","v":""}]
[{"$f":"IF(ROW()-8<=MAX(calc!F:F),INDEX(BD!B:B,MATCH(ROW()-8,calc!F:F,0)),\"\")","v":""},{"$f":"IF(A1183=\"\",\"\",VLOOKUP(A1183,BD!B:C,2,0))","v":""}]
[{"$f":"IF(ROW()-8<=MAX(calc!F:F),INDEX(BD!B:B,MATCH(ROW()-8,calc!F:F,0)),\"\")","v":""},{"$f":"IF(A1184=\"\",\"\",VLOOKUP(A1184,BD!B:C,2,0))","v":""}]
[{"$f":"IF(ROW()-8<=MAX(calc!F:F),INDEX(BD!B:B,MATCH(ROW()-8,calc!F:F,0)),\"\")","v":""},{"$f":"IF(A1185=\"\",\"\",VLOOKUP(A1185,BD!B:C,2,0))","v":""}]
[{"$f":"IF(ROW()-8<=MAX(calc!F:F),INDEX(BD!B:B,MATCH(ROW()-8,calc!F:F,0)),\"\")","v":""},{"$f":"IF(A1186=\"\",\"\",VLOOKUP(A1186,BD!B:C,2,0))","v":""}]
[{"$f":"IF(ROW()-8<=MAX(calc!F:F),INDEX(BD!B:B,MATCH(ROW()-8,calc!F:F,0)),\"\")","v":""},{"$f":"IF(A1187=\"\",\"\",VLOOKUP(A1187,BD!B:C,2,0))","v":""}]
[{"$f":"IF(ROW()-8<=MAX(calc!F:F),INDEX(BD!B:B,MATCH(ROW()-8,calc!F:F,0)),\"\")","v":""},{"$f":"IF(A1188=\"\",\"\",VLOOKUP(A1188,BD!B:C,2,0))","v":""}]
[{"$f":"IF(ROW()-8<=MAX(calc!F:F),INDEX(BD!B:B,MATCH(ROW()-8,calc!F:F,0)),\"\")","v":""},{"$f":"IF(A1189=\"\",\"\",VLOOKUP(A1189,BD!B:C,2,0))","v":""}]
[{"$f":"IF(ROW()-8<=MAX(calc!F:F),INDEX(BD!B:B,MATCH(ROW()-8,calc!F:F,0)),\"\")","v":""},{"$f":"IF(A1190=\"\",\"\",VLOOKUP(A1190,BD!B:C,2,0))","v":""}]
[{"$f":"IF(ROW()-8<=MAX(calc!F:F),INDEX(BD!B:B,MATCH(ROW()-8,calc!F:F,0)),\"\")","v":""},{"$f":"IF(A1191=\"\",\"\",VLOOKUP(A1191,BD!B:C,2,0))","v":""}]
[{"$f":"IF(ROW()-8<=MAX(calc!F:F),INDEX(BD!B:B,MATCH(ROW()-8,calc!F:F,0)),\"\")","v":""},{"$f":"IF(A1192=\"\",\"\",VLOOKUP(A1192,BD!B:C,2,0))","v":""}]
[{"$f":"IF(ROW()-8<=MAX(calc!F:F),INDEX(BD!B:B,MATCH(ROW()-8,calc!F:F,0)),\"\")","v":""},{"$f":"IF(A1193=\"\",\"\",VLOOKUP(A1193,BD!B:C,2,0))","v":""}]
[{"$f":"IF(ROW()-8<=MAX(calc!F:F),INDEX(BD!B:B,MATCH(ROW()-8,calc!F:F,0)),\"\")","v":""},{"$f":"IF(A1194=\"\",\"\",VLOOKUP(A1194,BD!B:C,2,0))","v":""}]
[{"$f":"IF(ROW()-8<=MAX(calc!F:F),INDEX(BD!B:B,MATCH(ROW()-8,calc!F:F,0)),\"\")","v":""},{"$f":"IF(A1195=\"\",\"\",VLOOKUP(A1195,BD!B:C,2,0))","v":""}]
[{"$f":"IF(ROW()-8<=MAX(calc!F:F),INDEX(BD!B:B,MATCH(ROW()-8,calc!F:F,0)),\"\")","v":""},{"$f":"IF(A1196=\"\",\"\",VLOOKUP(A1196,BD!B:C,2,0))","v":""}]
[{"$f":"IF(ROW()-8<=MAX(calc!F:F),INDEX(BD!B:B,MATCH(ROW()-8,calc!F:F,0)),\"\")","v":""},{"$f":"IF(A1197=\"\",\"\",VLOOKUP(A1197,BD!B:C,2,0))","v":""}]
[{"$f":"IF(ROW()-8<=MAX(calc!F:F),INDEX(BD!B:B,MATCH(ROW()-8,calc!F:F,0)),\"\")","v":""},{"$f":"IF(A1198=\"\",\"\",VLOOKUP(A1198,BD!B:C,2,0))","v":""}]
[{"$f":"IF(ROW()-8<=MAX(calc!F:F),INDEX(BD!B:B,MATCH(ROW()-8,calc!F:F,0)),\"\")","v":""},{"$f":"IF(A1199=\"\",\"\",VLOOKUP(A1199,BD!B:C,2,0))","v":""}]
[{"$f":"IF(ROW()-8<=MAX(calc!F:F),INDEX(BD!B:B,MATCH(ROW()-8,calc!F:F,0)),\"\")","v":""},{"$f":"IF(A1200=\"\",\"\",VLOOKUP(A1200,BD!B:C,2,0))","v":""}]
[{"$f":"IF(ROW()-8<=MAX(calc!F:F),INDEX(BD!B:B,MATCH(ROW()-8,calc!F:F,0)),\"\")","v":""},{"$f":"IF(A1201=\"\",\"\",VLOOKUP(A1201,BD!B:C,2,0))","v":""}]
[{"$f":"IF(ROW()-8<=MAX(calc!F:F),INDEX(BD!B:B,MATCH(ROW()-8,calc!F:F,0)),\"\")","v":""},{"$f":"IF(A1202=\"\",\"\",VLOOKUP(A1202,BD!B:C,2,0))","v":""}]
[{"$f":"IF(ROW()-8<=MAX(calc!F:F),INDEX(BD!B:B,MATCH(ROW()-8,calc!F:F,0)),\"\")","v":""},{"$f":"IF(A1203=\"\",\"\",VLOOKUP(A1203,BD!B:C,2,0))","v":""}]
[{"$f":"IF(ROW()-8<=MAX(calc!F:F),INDEX(BD!B:B,MATCH(ROW()-8,calc!F:F,0)),\"\")","v":""},{"$f":"IF(A1204=\"\",\"\",VLOOKUP(A1204,BD!B:C,2,0))","v":""}]
[{"$f":"IF(ROW()-8<=MAX(calc!F:F),INDEX(BD!B:B,MATCH(ROW()-8,calc!F:F,0)),\"\")","v":""},{"$f":"IF(A1205=\"\",\"\",VLOOKUP(A1205,BD!B:C,2,0))","v":""}]
[{"$f":"IF(ROW()-8<=MAX(calc!F:F),INDEX(BD!B:B,MATCH(ROW()-8,calc!F:F,0)),\"\")","v":""},{"$f":"IF(A1206=\"\",\"\",VLOOKUP(A1206,BD!B:C,2,0))","v":""}]
[{"$f":"IF(ROW()-8<=MAX(calc!F:F),INDEX(BD!B:B,MATCH(ROW()-8,calc!F:F,0)),\"\")","v":""},{"$f":"IF(A1207=\"\",\"\",VLOOKUP(A1207,BD!B:C,2,0))","v":""}]
[{"$f":"IF(ROW()-8<=MAX(calc!F:F),INDEX(BD!B:B,MATCH(ROW()-8,calc!F:F,0)),\"\")","v":""},{"$f":"IF(A1208=\"\",\"\",VLOOKUP(A1208,BD!B:C,2,0))","v":""}]
[{"$f":"IF(ROW()-8<=MAX(calc!F:F),INDEX(BD!B:B,MATCH(ROW()-8,calc!F:F,0)),\"\")","v":""},{"$f":"IF(A1209=\"\",\"\",VLOOKUP(A1209,BD!B:C,2,0))","v":""}]
[{"$f":"IF(ROW()-8<=MAX(calc!F:F),INDEX(BD!B:B,MATCH(ROW()-8,calc!F:F,0)),\"\")","v":""},{"$f":"IF(A1210=\"\",\"\",VLOOKUP(A1210,BD!B:C,2,0))","v":""}]
[{"$f":"IF(ROW()-8<=MAX(calc!F:F),INDEX(BD!B:B,MATCH(ROW()-8,calc!F:F,0)),\"\")","v":""},{"$f":"IF(A1211=\"\",\"\",VLOOKUP(A1211,BD!B:C,2,0))","v":""}]
[{"$f":"IF(ROW()-8<=MAX(calc!F:F),INDEX(BD!B:B,MATCH(ROW()-8,calc!F:F,0)),\"\")","v":""},{"$f":"IF(A1212=\"\",\"\",VLOOKUP(A1212,BD!B:C,2,0))","v":""}]
[{"$f":"IF(ROW()-8<=MAX(calc!F:F),INDEX(BD!B:B,MATCH(ROW()-8,calc!F:F,0)),\"\")","v":""},{"$f":"IF(A1213=\"\",\"\",VLOOKUP(A1213,BD!B:C,2,0))","v":""}]
[{"$f":"IF(ROW()-8<=MAX(calc!F:F),INDEX(BD!B:B,MATCH(ROW()-8,calc!F:F,0)),\"\")","v":""},{"$f":"IF(A1214=\"\",\"\",VLOOKUP(A1214,BD!B:C,2,0))","v":""}]
[{"$f":"IF(ROW()-8<=MAX(calc!F:F),INDEX(BD!B:B,MATCH(ROW()-8,calc!F:F,0)),\"\")","v":""},{"$f":"IF(A1215=\"\",\"\",VLOOKUP(A1215,BD!B:C,2,0))","v":""}]
[{"$f":"IF(ROW()-8<=MAX(calc!F:F),INDEX(BD!B:B,MATCH(ROW()-8,calc!F:F,0)),\"\")","v":""},{"$f":"IF(A1216=\"\",\"\",VLOOKUP(A1216,BD!B:C,2,0))","v":""}]
[{"$f":"IF(ROW()-8<=MAX(calc!F:F),INDEX(BD!B:B,MATCH(ROW()-8,calc!F:F,0)),\"\")","v":""},{"$f":"IF(A1217=\"\",\"\",VLOOKUP(A1217,BD!B:C,2,0))","v":""}]
[{"$f":"IF(ROW()-8<=MAX(calc!F:F),INDEX(BD!B:B,MATCH(ROW()-8,calc!F:F,0)),\"\")","v":""},{"$f":"IF(A1218=\"\",\"\",VLOOKUP(A1218,BD!B:C,2,0))","v":""}]
[{"$f":"IF(ROW()-8<=MAX(calc!F:F),INDEX(BD!B:B,MATCH(ROW()-8,calc!F:F,0)),\"\")","v":""},{"$f":"IF(A1219=\"\",\"\",VLOOKUP(A1219,BD!B:C,2,0))","v":""}]
[{"$f":"IF(ROW()-8<=MAX(calc!F:F),INDEX(BD!B:B,MATCH(ROW()-8,calc!F:F,0)),\"\")","v":""},{"$f":"IF(A1220=\"\",\"\",VLOOKUP(A1220,BD!B:C,2,0))","v":""}]
[{"$f":"IF(ROW()-8<=MAX(calc!F:F),INDEX(BD!B:B,MATCH(ROW()-8,calc!F:F,0)),\"\")","v":""},{"$f":"IF(A1221=\"\",\"\",VLOOKUP(A1221,BD!B:C,2,0))","v":""}]
[{"$f":"IF(ROW()-8<=MAX(calc!F:F),INDEX(BD!B:B,MATCH(ROW()-8,calc!F:F,0)),\"\")","v":""},{"$f":"IF(A1222=\"\",\"\",VLOOKUP(A1222,BD!B:C,2,0))","v":""}]
[{"$f":"IF(ROW()-8<=MAX(calc!F:F),INDEX(BD!B:B,MATCH(ROW()-8,calc!F:F,0)),\"\")","v":""},{"$f":"IF(A1223=\"\",\"\",VLOOKUP(A1223,BD!B:C,2,0))","v":""}]
[{"$f":"IF(ROW()-8<=MAX(calc!F:F),INDEX(BD!B:B,MATCH(ROW()-8,calc!F:F,0)),\"\")","v":""},{"$f":"IF(A1224=\"\",\"\",VLOOKUP(A1224,BD!B:C,2,0))","v":""}]
[{"$f":"IF(ROW()-8<=MAX(calc!F:F),INDEX(BD!B:B,MATCH(ROW()-8,calc!F:F,0)),\"\")","v":""},{"$f":"IF(A1225=\"\",\"\",VLOOKUP(A1225,BD!B:C,2,0))","v":""}]
[{"$f":"IF(ROW()-8<=MAX(calc!F:F),INDEX(BD!B:B,MATCH(ROW()-8,calc!F:F,0)),\"\")","v":""},{"$f":"IF(A1226=\"\",\"\",VLOOKUP(A1226,BD!B:C,2,0))","v":""}]
[{"$f":"IF(ROW()-8<=MAX(calc!F:F),INDEX(BD!B:B,MATCH(ROW()-8,calc!F:F,0)),\"\")","v":""},{"$f":"IF(A1227=\"\",\"\",VLOOKUP(A1227,BD!B:C,2,0))","v":""}]
[{"$f":"IF(ROW()-8<=MAX(calc!F:F),INDEX(BD!B:B,MATCH(ROW()-8,calc!F:F,0)),\"\")","v":""},{"$f":"IF(A1228=\"\",\"\",VLOOKUP(A1228,BD!B:C,2,0))","v":""}]
[{"$f":"IF(ROW()-8<=MAX(calc!F:F),INDEX(BD!B:B,MATCH(ROW()-8,calc!F:F,0)),\"\")","v":""},{"$f":"IF(A1229=\"\",\"\",VLOOKUP(A1229,BD!B:C,2,0))","v":""}]
[{"$f":"IF(ROW()-8<=MAX(calc!F:F),INDEX(BD!B:B,MATCH(ROW()-8,calc!F:F,0)),\"\")","v":""},{"$f":"IF(A1230=\"\",\"\",VLOOKUP(A1230,BD!B:C,2,0))","v":""}]
[{"$f":"IF(ROW()-8<=MAX(calc!F:F),INDEX(BD!B:B,MATCH(ROW()-8,calc!F:F,0)),\"\")","v":""},{"$f":"IF(A1231=\"\",\"\",VLOOKUP(A1231,BD!B:C,2,0))","v":""}]
[{"$f":"IF(ROW()-8<=MAX(calc!F:F),INDEX(BD!B:B,MATCH(ROW()-8,calc!F:F,0)),\"\")","v":""},{"$f":"IF(A1232=\"\",\"\",VLOOKUP(A1232,BD!B:C,2,0))","v":""}]
[{"$f":"IF(ROW()-8<=MAX(calc!F:F),INDEX(BD!B:B,MATCH(ROW()-8,calc!F:F,0)),\"\")","v":""},{"$f":"IF(A1233=\"\",\"\",VLOOKUP(A1233,BD!B:C,2,0))","v":""}]
[{"$f":"IF(ROW()-8<=MAX(calc!F:F),INDEX(BD!B:B,MATCH(ROW()-8,calc!F:F,0)),\"\")","v":""},{"$f":"IF(A1234=\"\",\"\",VLOOKUP(A1234,BD!B:C,2,0))","v":""}]
[{"$f":"IF(ROW()-8<=MAX(calc!F:F),INDEX(BD!B:B,MATCH(ROW()-8,calc!F:F,0)),\"\")","v":""},{"$f":"IF(A1235=\"\",\"\",VLOOKUP(A1235,BD!B:C,2,0))","v":""}]
[{"$f":"IF(ROW()-8<=MAX(calc!F:F),INDEX(BD!B:B,MATCH(ROW()-8,calc!F:F,0)),\"\")","v":""},{"$f":"IF(A1236=\"\",\"\",VLOOKUP(A1236,BD!B:C,2,0))","v":""}]
[{"$f":"IF(ROW()-8<=MAX(calc!F:F),INDEX(BD!B:B,MATCH(ROW()-8,calc!F:F,0)),\"\")","v":""},{"$f":"IF(A1237=\"\",\"\",VLOOKUP(A1237,BD!B:C,2,0))","v":""}]
[{"$f":"IF(ROW()-8<=MAX(calc!F:F),INDEX(BD!B:B,MATCH(ROW()-8,calc!F:F,0)),\"\")","v":""},{"$f":"IF(A1238=\"\",\"\",VLOOKUP(A1238,BD!B:C,2,0))","v":""}]
[{"$f":"IF(ROW()-8<=MAX(calc!F:F),INDEX(BD!B:B,MATCH(ROW()-8,calc!F:F,0)),\"\")","v":""},{"$f":"IF(A1239=\"\",\"\",VLOOKUP(A1239,BD!B:C,2,0))","v":""}]
[{"$f":"IF(ROW()-8<=MAX(calc!F:F),INDEX(BD!B:B,MATCH(ROW()-8,calc!F:F,0)),\"\")","v":""},{"$f":"IF(A1240=\"\",\"\",VLOOKUP(A1240,BD!B:C,2,0))","v":""}]
[{"$f":"IF(ROW()-8<=MAX(calc!F:F),INDEX(BD!B:B,MATCH(ROW()-8,calc!F:F,0)),\"\")","v":""},{"$f":"IF(A1241=\"\",\"\",VLOOKUP(A1241,BD!B:C,2,0))","v":""}]
[{"$f":"IF(ROW()-8<=MAX(calc!F:F),INDEX(BD!B:B,MATCH(ROW()-8,calc!F:F,0)),\"\")","v":""},{"$f":"IF(A1242=\"\",\"\",VLOOKUP(A1242,BD!B:C,2,0))","v":""}]
[{"$f":"IF(ROW()-8<=MAX(calc!F:F),INDEX(BD!B:B,MATCH(ROW()-8,calc!F:F,0)),\"\")","v":""},{"$f":"IF(A1243=\"\",\"\",VLOOKUP(A1243,BD!B:C,2,0))","v":""}]
[{"$f":"IF(ROW()-8<=MAX(calc!F:F),INDEX(BD!B:B,MATCH(ROW()-8,calc!F:F,0)),\"\")","v":""},{"$f":"IF(A1244=\"\",\"\",VLOOKUP(A1244,BD!B:C,2,0))","v":""}]
[{"$f":"IF(ROW()-8<=MAX(calc!F:F),INDEX(BD!B:B,MATCH(ROW()-8,calc!F:F,0)),\"\")","v":""},{"$f":"IF(A1245=\"\",\"\",VLOOKUP(A1245,BD!B:C,2,0))","v":""}]
[{"$f":"IF(ROW()-8<=MAX(calc!F:F),INDEX(BD!B:B,MATCH(ROW()-8,calc!F:F,0)),\"\")","v":""},{"$f":"IF(A1246=\"\",\"\",VLOOKUP(A1246,BD!B:C,2,0))","v":""}]
[{"$f":"IF(ROW()-8<=MAX(calc!F:F),INDEX(BD!B:B,MATCH(ROW()-8,calc!F:F,0)),\"\")","v":""},{"$f":"IF(A1247=\"\",\"\",VLOOKUP(A1247,BD!B:C,2,0))","v":""}]
[{"$f":"IF(ROW()-8<=MAX(calc!F:F),INDEX(BD!B:B,MATCH(ROW()-8,calc!F:F,0)),\"\")","v":""},{"$f":"IF(A1248=\"\",\"\",VLOOKUP(A1248,BD!B:C,2,0))","v":""}]
[{"$f":"IF(ROW()-8<=MAX(calc!F:F),INDEX(BD!B:B,MATCH(ROW()-8,calc!F:F,0)),\"\")","v":""},{"$f":"IF(A1249=\"\",\"\",VLOOKUP(A1249,BD!B:C,2,0))","v":""}]
[{"$f":"IF(ROW()-8<=MAX(calc!F:F),INDEX(BD!B:B,MATCH(ROW()-8,calc!F:F,0)),\"\")","v":""},{"$f":"IF(A1250=\"\",\"\",VLOOKUP(A1250,BD!B:C,2,0))","v":""}]
[{"$f":"IF(ROW()-8<=MAX(calc!F:F),INDEX(BD!B:B,MATCH(ROW()-8,calc!F:F,0)),\"\")","v":""},{"$f":"IF(A1251=\"\",\"\",VLOOKUP(A1251,BD!B:C,2,0))","v":""}]
[{"$f":"IF(ROW()-8<=MAX(calc!F:F),INDEX(BD!B:B,MATCH(ROW()-8,calc!F:F,0)),\"\")","v":""},{"$f":"IF(A1252=\"\",\"\",VLOOKUP(A1252,BD!B:C,2,0))","v":""}]
[{"$f":"IF(ROW()-8<=MAX(calc!F:F),INDEX(BD!B:B,MATCH(ROW()-8,calc!F:F,0)),\"\")","v":""},{"$f":"IF(A1253=\"\",\"\",VLOOKUP(A1253,BD!B:C,2,0))","v":""}]
[{"$f":"IF(ROW()-8<=MAX(calc!F:F),INDEX(BD!B:B,MATCH(ROW()-8,calc!F:F,0)),\"\")","v":""},{"$f":"IF(A1254=\"\",\"\",VLOOKUP(A1254,BD!B:C,2,0))","v":""}]
[{"$f":"IF(ROW()-8<=MAX(calc!F:F),INDEX(BD!B:B,MATCH(ROW()-8,calc!F:F,0)),\"\")","v":""},{"$f":"IF(A1255=\"\",\"\",VLOOKUP(A1255,BD!B:C,2,0))","v":""}]
[{"$f":"IF(ROW()-8<=MAX(calc!F:F),INDEX(BD!B:B,MATCH(ROW()-8,calc!F:F,0)),\"\")","v":""},{"$f":"IF(A1256=\"\",\"\",VLOOKUP(A1256,BD!B:C,2,0))","v":""}]
[{"$f":"IF(ROW()-8<=MAX(calc!F:F),INDEX(BD!B:B,MATCH(ROW()-8,calc!F:F,0)),\"\")","v":""},{"$f":"IF(A1257=\"\",\"\",VLOOKUP(A1257,BD!B:C,2,0))","v":""}]
[{"$f":"IF(ROW()-8<=MAX(calc!F:F),INDEX(BD!B:B,MATCH(ROW()-8,calc!F:F,0)),\"\")","v":""},{"$f":"IF(A1258=\"\",\"\",VLOOKUP(A1258,BD!B:C,2,0))","v":""}]
[{"$f":"IF(ROW()-8<=MAX(calc!F:F),INDEX(BD!B:B,MATCH(ROW()-8,calc!F:F,0)),\"\")","v":""},{"$f":"IF(A1259=\"\",\"\",VLOOKUP(A1259,BD!B:C,2,0))","v":""}]
[{"$f":"IF(ROW()-8<=MAX(calc!F:F),INDEX(BD!B:B,MATCH(ROW()-8,calc!F:F,0)),\"\")","v":""},{"$f":"IF(A1260=\"\",\"\",VLOOKUP(A1260,BD!B:C,2,0))","v":""}]
[{"$f":"IF(ROW()-8<=MAX(calc!F:F),INDEX(BD!B:B,MATCH(ROW()-8,calc!F:F,0)),\"\")","v":""},{"$f":"IF(A1261=\"\",\"\",VLOOKUP(A1261,BD!B:C,2,0))","v":""}]
[{"$f":"IF(ROW()-8<=MAX(calc!F:F),INDEX(BD!B:B,MATCH(ROW()-8,calc!F:F,0)),\"\")","v":""},{"$f":"IF(A1262=\"\",\"\",VLOOKUP(A1262,BD!B:C,2,0))","v":""}]
[{"$f":"IF(ROW()-8<=MAX(calc!F:F),INDEX(BD!B:B,MATCH(ROW()-8,calc!F:F,0)),\"\")","v":""},{"$f":"IF(A1263=\"\",\"\",VLOOKUP(A1263,BD!B:C,2,0))","v":""}]
[{"$f":"IF(ROW()-8<=MAX(calc!F:F),INDEX(BD!B:B,MATCH(ROW()-8,calc!F:F,0)),\"\")","v":""},{"$f":"IF(A1264=\"\",\"\",VLOOKUP(A1264,BD!B:C,2,0))","v":""}]
[{"$f":"IF(ROW()-8<=MAX(calc!F:F),INDEX(BD!B:B,MATCH(ROW()-8,calc!F:F,0)),\"\")","v":""},{"$f":"IF(A1265=\"\",\"\",VLOOKUP(A1265,BD!B:C,2,0))","v":""}]
[{"$f":"IF(ROW()-8<=MAX(calc!F:F),INDEX(BD!B:B,MATCH(ROW()-8,calc!F:F,0)),\"\")","v":""},{"$f":"IF(A1266=\"\",\"\",VLOOKUP(A1266,BD!B:C,2,0))","v":""}]
[{"$f":"IF(ROW()-8<=MAX(calc!F:F),INDEX(BD!B:B,MATCH(ROW()-8,calc!F:F,0)),\"\")","v":""},{"$f":"IF(A1267=\"\",\"\",VLOOKUP(A1267,BD!B:C,2,0))","v":""}]
[{"$f":"IF(ROW()-8<=MAX(calc!F:F),INDEX(BD!B:B,MATCH(ROW()-8,calc!F:F,0)),\"\")","v":""},{"$f":"IF(A1268=\"\",\"\",VLOOKUP(A1268,BD!B:C,2,0))","v":""}]
[{"$f":"IF(ROW()-8<=MAX(calc!F:F),INDEX(BD!B:B,MATCH(ROW()-8,calc!F:F,0)),\"\")","v":""},{"$f":"IF(A1269=\"\",\"\",VLOOKUP(A1269,BD!B:C,2,0))","v":""}]
[{"$f":"IF(ROW()-8<=MAX(calc!F:F),INDEX(BD!B:B,MATCH(ROW()-8,calc!F:F,0)),\"\")","v":""},{"$f":"IF(A1270=\"\",\"\",VLOOKUP(A1270,BD!B:C,2,0))","v":""}]
[{"$f":"IF(ROW()-8<=MAX(calc!F:F),INDEX(BD!B:B,MATCH(ROW()-8,calc!F:F,0)),\"\")","v":""},{"$f":"IF(A1271=\"\",\"\",VLOOKUP(A1271,BD!B:C,2,0))","v":""}]
[{"$f":"IF(ROW()-8<=MAX(calc!F:F),INDEX(BD!B:B,MATCH(ROW()-8,calc!F:F,0)),\"\")","v":""},{"$f":"IF(A1272=\"\",\"\",VLOOKUP(A1272,BD!B:C,2,0))","v":""}]
[{"$f":"IF(ROW()-8<=MAX(calc!F:F),INDEX(BD!B:B,MATCH(ROW()-8,calc!F:F,0)),\"\")","v":""},{"$f":"IF(A1273=\"\",\"\",VLOOKUP(A1273,BD!B:C,2,0))","v":""}]
[{"$f":"IF(ROW()-8<=MAX(calc!F:F),INDEX(BD!B:B,MATCH(ROW()-8,calc!F:F,0)),\"\")","v":""},{"$f":"IF(A1274=\"\",\"\",VLOOKUP(A1274,BD!B:C,2,0))","v":""}]
[{"$f":"IF(ROW()-8<=MAX(calc!F:F),INDEX(BD!B:B,MATCH(ROW()-8,calc!F:F,0)),\"\")","v":""},{"$f":"IF(A1275=\"\",\"\",VLOOKUP(A1275,BD!B:C,2,0))","v":""}]
[{"$f":"IF(ROW()-8<=MAX(calc!F:F),INDEX(BD!B:B,MATCH(ROW()-8,calc!F:F,0)),\"\")","v":""},{"$f":"IF(A1276=\"\",\"\",VLOOKUP(A1276,BD!B:C,2,0))","v":""}]
[{"$f":"IF(ROW()-8<=MAX(calc!F:F),INDEX(BD!B:B,MATCH(ROW()-8,calc!F:F,0)),\"\")","v":""},{"$f":"IF(A1277=\"\",\"\",VLOOKUP(A1277,BD!B:C,2,0))","v":""}]
[{"$f":"IF(ROW()-8<=MAX(calc!F:F),INDEX(BD!B:B,MATCH(ROW()-8,calc!F:F,0)),\"\")","v":""},{"$f":"IF(A1278=\"\",\"\",VLOOKUP(A1278,BD!B:C,2,0))","v":""}]
[{"$f":"IF(ROW()-8<=MAX(calc!F:F),INDEX(BD!B:B,MATCH(ROW()-8,calc!F:F,0)),\"\")","v":""},{"$f":"IF(A1279=\"\",\"\",VLOOKUP(A1279,BD!B:C,2,0))","v":""}]
[{"$f":"IF(ROW()-8<=MAX(calc!F:F),INDEX(BD!B:B,MATCH(ROW()-8,calc!F:F,0)),\"\")","v":""},{"$f":"IF(A1280=\"\",\"\",VLOOKUP(A1280,BD!B:C,2,0))","v":""}]
[{"$f":"IF(ROW()-8<=MAX(calc!F:F),INDEX(BD!B:B,MATCH(ROW()-8,calc!F:F,0)),\"\")","v":""},{"$f":"IF(A1281=\"\",\"\",VLOOKUP(A1281,BD!B:C,2,0))","v":""}]
[{"$f":"IF(ROW()-8<=MAX(calc!F:F),INDEX(BD!B:B,MATCH(ROW()-8,calc!F:F,0)),\"\")","v":""},{"$f":"IF(A1282=\"\",\"\",VLOOKUP(A1282,BD!B:C,2,0))","v":""}]
[{"$f":"IF(ROW()-8<=MAX(calc!F:F),INDEX(BD!B:B,MATCH(ROW()-8,calc!F:F,0)),\"\")","v":""},{"$f":"IF(A1283=\"\",\"\",VLOOKUP(A1283,BD!B:C,2,0))","v":""}]
[{"$f":"IF(ROW()-8<=MAX(calc!F:F),INDEX(BD!B:B,MATCH(ROW()-8,calc!F:F,0)),\"\")","v":""},{"$f":"IF(A1284=\"\",\"\",VLOOKUP(A1284,BD!B:C,2,0))","v":""}]
[{"$f":"IF(ROW()-8<=MAX(calc!F:F),INDEX(BD!B:B,MATCH(ROW()-8,calc!F:F,0)),\"\")","v":""},{"$f":"IF(A1285=\"\",\"\",VLOOKUP(A1285,BD!B:C,2,0))","v":""}]
[{"$f":"IF(ROW()-8<=MAX(calc!F:F),INDEX(BD!B:B,MATCH(ROW()-8,calc!F:F,0)),\"\")","v":""},{"$f":"IF(A1286=\"\",\"\",VLOOKUP(A1286,BD!B:C,2,0))","v":""}]
[{"$f":"IF(ROW()-8<=MAX(calc!F:F),INDEX(BD!B:B,MATCH(ROW()-8,calc!F:F,0)),\"\")","v":""},{"$f":"IF(A1287=\"\",\"\",VLOOKUP(A1287,BD!B:C,2,0))","v":""}]
[{"$f":"IF(ROW()-8<=MAX(calc!F:F),INDEX(BD!B:B,MATCH(ROW()-8,calc!F:F,0)),\"\")","v":""},{"$f":"IF(A1288=\"\",\"\",VLOOKUP(A1288,BD!B:C,2,0))","v":""}]
[{"$f":"IF(ROW()-8<=MAX(calc!F:F),INDEX(BD!B:B,MATCH(ROW()-8,calc!F:F,0)),\"\")","v":""},{"$f":"IF(A1289=\"\",\"\",VLOOKUP(A1289,BD!B:C,2,0))","v":""}]
[{"$f":"IF(ROW()-8<=MAX(calc!F:F),INDEX(BD!B:B,MATCH(ROW()-8,calc!F:F,0)),\"\")","v":""},{"$f":"IF(A1290=\"\",\"\",VLOOKUP(A1290,BD!B:C,2,0))","v":""}]
[{"$f":"IF(ROW()-8<=MAX(calc!F:F),INDEX(BD!B:B,MATCH(ROW()-8,calc!F:F,0)),\"\")","v":""},{"$f":"IF(A1291=\"\",\"\",VLOOKUP(A1291,BD!B:C,2,0))","v":""}]
[{"$f":"IF(ROW()-8<=MAX(calc!F:F),INDEX(BD!B:B,MATCH(ROW()-8,calc!F:F,0)),\"\")","v":""},{"$f":"IF(A1292=\"\",\"\",VLOOKUP(A1292,BD!B:C,2,0))","v":""}]
[{"$f":"IF(ROW()-8<=MAX(calc!F:F),INDEX(BD!B:B,MATCH(ROW()-8,calc!F:F,0)),\"\")","v":""},{"$f":"IF(A1293=\"\",\"\",VLOOKUP(A1293,BD!B:C,2,0))","v":""}]
[{"$f":"IF(ROW()-8<=MAX(calc!F:F),INDEX(BD!B:B,MATCH(ROW()-8,calc!F:F,0)),\"\")","v":""},{"$f":"IF(A1294=\"\",\"\",VLOOKUP(A1294,BD!B:C,2,0))","v":""}]
[{"$f":"IF(ROW()-8<=MAX(calc!F:F),INDEX(BD!B:B,MATCH(ROW()-8,calc!F:F,0)),\"\")","v":""},{"$f":"IF(A1295=\"\",\"\",VLOOKUP(A1295,BD!B:C,2,0))","v":""}]
[{"$f":"IF(ROW()-8<=MAX(calc!F:F),INDEX(BD!B:B,MATCH(ROW()-8,calc!F:F,0)),\"\")","v":""},{"$f":"IF(A1296=\"\",\"\",VLOOKUP(A1296,BD!B:C,2,0))","v":""}]
[{"$f":"IF(ROW()-8<=MAX(calc!F:F),INDEX(BD!B:B,MATCH(ROW()-8,calc!F:F,0)),\"\")","v":""},{"$f":"IF(A1297=\"\",\"\",VLOOKUP(A1297,BD!B:C,2,0))","v":""}]
[{"$f":"IF(ROW()-8<=MAX(calc!F:F),INDEX(BD!B:B,MATCH(ROW()-8,calc!F:F,0)),\"\")","v":""},{"$f":"IF(A1298=\"\",\"\",VLOOKUP(A1298,BD!B:C,2,0))","v":""}]
[{"$f":"IF(ROW()-8<=MAX(calc!F:F),INDEX(BD!B:B,MATCH(ROW()-8,calc!F:F,0)),\"\")","v":""},{"$f":"IF(A1299=\"\",\"\",VLOOKUP(A1299,BD!B:C,2,0))","v":""}]
[{"$f":"IF(ROW()-8<=MAX(calc!F:F),INDEX(BD!B:B,MATCH(ROW()-8,calc!F:F,0)),\"\")","v":""},{"$f":"IF(A1300=\"\",\"\",VLOOKUP(A1300,BD!B:C,2,0))","v":""}]
[{"$f":"IF(ROW()-8<=MAX(calc!F:F),INDEX(BD!B:B,MATCH(ROW()-8,calc!F:F,0)),\"\")","v":""},{"$f":"IF(A1301=\"\",\"\",VLOOKUP(A1301,BD!B:C,2,0))","v":""}]
[{"$f":"IF(ROW()-8<=MAX(calc!F:F),INDEX(BD!B:B,MATCH(ROW()-8,calc!F:F,0)),\"\")","v":""},{"$f":"IF(A1302=\"\",\"\",VLOOKUP(A1302,BD!B:C,2,0))","v":""}]
[{"$f":"IF(ROW()-8<=MAX(calc!F:F),INDEX(BD!B:B,MATCH(ROW()-8,calc!F:F,0)),\"\")","v":""},{"$f":"IF(A1303=\"\",\"\",VLOOKUP(A1303,BD!B:C,2,0))","v":""}]
[{"$f":"IF(ROW()-8<=MAX(calc!F:F),INDEX(BD!B:B,MATCH(ROW()-8,calc!F:F,0)),\"\")","v":""},{"$f":"IF(A1304=\"\",\"\",VLOOKUP(A1304,BD!B:C,2,0))","v":""}]
[{"$f":"IF(ROW()-8<=MAX(calc!F:F),INDEX(BD!B:B,MATCH(ROW()-8,calc!F:F,0)),\"\")","v":""},{"$f":"IF(A1305=\"\",\"\",VLOOKUP(A1305,BD!B:C,2,0))","v":""}]
[{"$f":"IF(ROW()-8<=MAX(calc!F:F),INDEX(BD!B:B,MATCH(ROW()-8,calc!F:F,0)),\"\")","v":""},{"$f":"IF(A1306=\"\",\"\",VLOOKUP(A1306,BD!B:C,2,0))","v":""}]
[{"$f":"IF(ROW()-8<=MAX(calc!F:F),INDEX(BD!B:B,MATCH(ROW()-8,calc!F:F,0)),\"\")","v":""},{"$f":"IF(A1307=\"\",\"\",VLOOKUP(A1307,BD!B:C,2,0))","v":""}]
[{"$f":"IF(ROW()-8<=MAX(calc!F:F),INDEX(BD!B:B,MATCH(ROW()-8,calc!F:F,0)),\"\")","v":""},{"$f":"IF(A1308=\"\",\"\",VLOOKUP(A1308,BD!B:C,2,0))","v":""}]
[{"$f":"IF(ROW()-8<=MAX(calc!F:F),INDEX(BD!B:B,MATCH(ROW()-8,calc!F:F,0)),\"\")","v":""},{"$f":"IF(A1309=\"\",\"\",VLOOKUP(A1309,BD!B:C,2,0))","v":""}]
[{"$f":"IF(ROW()-8<=MAX(calc!F:F),INDEX(BD!B:B,MATCH(ROW()-8,calc!F:F,0)),\"\")","v":""},{"$f":"IF(A1310=\"\",\"\",VLOOKUP(A1310,BD!B:C,2,0))","v":""}]
[{"$f":"IF(ROW()-8<=MAX(calc!F:F),INDEX(BD!B:B,MATCH(ROW()-8,calc!F:F,0)),\"\")","v":""},{"$f":"IF(A1311=\"\",\"\",VLOOKUP(A1311,BD!B:C,2,0))","v":""}]
[{"$f":"IF(ROW()-8<=MAX(calc!F:F),INDEX(BD!B:B,MATCH(ROW()-8,calc!F:F,0)),\"\")","v":""},{"$f":"IF(A1312=\"\",\"\",VLOOKUP(A1312,BD!B:C,2,0))","v":""}]
[{"$f":"IF(ROW()-8<=MAX(calc!F:F),INDEX(BD!B:B,MATCH(ROW()-8,calc!F:F,0)),\"\")","v":""},{"$f":"IF(A1313=\"\",\"\",VLOOKUP(A1313,BD!B:C,2,0))","v":""}]
[{"$f":"IF(ROW()-8<=MAX(calc!F:F),INDEX(BD!B:B,MATCH(ROW()-8,calc!F:F,0)),\"\")","v":""},{"$f":"IF(A1314=\"\",\"\",VLOOKUP(A1314,BD!B:C,2,0))","v":""}]
[{"$f":"IF(ROW()-8<=MAX(calc!F:F),INDEX(BD!B:B,MATCH(ROW()-8,calc!F:F,0)),\"\")","v":""},{"$f":"IF(A1315=\"\",\"\",VLOOKUP(A1315,BD!B:C,2,0))","v":""}]
[{"$f":"IF(ROW()-8<=MAX(calc!F:F),INDEX(BD!B:B,MATCH(ROW()-8,calc!F:F,0)),\"\")","v":""},{"$f":"IF(A1316=\"\",\"\",VLOOKUP(A1316,BD!B:C,2,0))","v":""}]
[{"$f":"IF(ROW()-8<=MAX(calc!F:F),INDEX(BD!B:B,MATCH(ROW()-8,calc!F:F,0)),\"\")","v":""},{"$f":"IF(A1317=\"\",\"\",VLOOKUP(A1317,BD!B:C,2,0))","v":""}]
[{"$f":"IF(ROW()-8<=MAX(calc!F:F),INDEX(BD!B:B,MATCH(ROW()-8,calc!F:F,0)),\"\")","v":""},{"$f":"IF(A1318=\"\",\"\",VLOOKUP(A1318,BD!B:C,2,0))","v":""}]
[{"$f":"IF(ROW()-8<=MAX(calc!F:F),INDEX(BD!B:B,MATCH(ROW()-8,calc!F:F,0)),\"\")","v":""},{"$f":"IF(A1319=\"\",\"\",VLOOKUP(A1319,BD!B:C,2,0))","v":""}]
[{"$f":"IF(ROW()-8<=MAX(calc!F:F),INDEX(BD!B:B,MATCH(ROW()-8,calc!F:F,0)),\"\")","v":""},{"$f":"IF(A1320=\"\",\"\",VLOOKUP(A1320,BD!B:C,2,0))","v":""}]
[{"$f":"IF(ROW()-8<=MAX(calc!F:F),INDEX(BD!B:B,MATCH(ROW()-8,calc!F:F,0)),\"\")","v":""},{"$f":"IF(A1321=\"\",\"\",VLOOKUP(A1321,BD!B:C,2,0))","v":""}]
[{"$f":"IF(ROW()-8<=MAX(calc!F:F),INDEX(BD!B:B,MATCH(ROW()-8,calc!F:F,0)),\"\")","v":""},{"$f":"IF(A1322=\"\",\"\",VLOOKUP(A1322,BD!B:C,2,0))","v":""}]
[{"$f":"IF(ROW()-8<=MAX(calc!F:F),INDEX(BD!B:B,MATCH(ROW()-8,calc!F:F,0)),\"\")","v":""},{"$f":"IF(A1323=\"\",\"\",VLOOKUP(A1323,BD!B:C,2,0))","v":""}]
[{"$f":"IF(ROW()-8<=MAX(calc!F:F),INDEX(BD!B:B,MATCH(ROW()-8,calc!F:F,0)),\"\")","v":""},{"$f":"IF(A1324=\"\",\"\",VLOOKUP(A1324,BD!B:C,2,0))","v":""}]
[{"$f":"IF(ROW()-8<=MAX(calc!F:F),INDEX(BD!B:B,MATCH(ROW()-8,calc!F:F,0)),\"\")","v":""},{"$f":"IF(A1325=\"\",\"\",VLOOKUP(A1325,BD!B:C,2,0))","v":""}]
[{"$f":"IF(ROW()-8<=MAX(calc!F:F),INDEX(BD!B:B,MATCH(ROW()-8,calc!F:F,0)),\"\")","v":""},{"$f":"IF(A1326=\"\",\"\",VLOOKUP(A1326,BD!B:C,2,0))","v":""}]
[{"$f":"IF(ROW()-8<=MAX(calc!F:F),INDEX(BD!B:B,MATCH(ROW()-8,calc!F:F,0)),\"\")","v":""},{"$f":"IF(A1327=\"\",\"\",VLOOKUP(A1327,BD!B:C,2,0))","v":""}]
[{"$f":"IF(ROW()-8<=MAX(calc!F:F),INDEX(BD!B:B,MATCH(ROW()-8,calc!F:F,0)),\"\")","v":""},{"$f":"IF(A1328=\"\",\"\",VLOOKUP(A1328,BD!B:C,2,0))","v":""}]
[{"$f":"IF(ROW()-8<=MAX(calc!F:F),INDEX(BD!B:B,MATCH(ROW()-8,calc!F:F,0)),\"\")","v":""},{"$f":"IF(A1329=\"\",\"\",VLOOKUP(A1329,BD!B:C,2,0))","v":""}]
[{"$f":"IF(ROW()-8<=MAX(calc!F:F),INDEX(BD!B:B,MATCH(ROW()-8,calc!F:F,0)),\"\")","v":""},{"$f":"IF(A1330=\"\",\"\",VLOOKUP(A1330,BD!B:C,2,0))","v":""}]
[{"$f":"IF(ROW()-8<=MAX(calc!F:F),INDEX(BD!B:B,MATCH(ROW()-8,calc!F:F,0)),\"\")","v":""},{"$f":"IF(A1331=\"\",\"\",VLOOKUP(A1331,BD!B:C,2,0))","v":""}]
[{"$f":"IF(ROW()-8<=MAX(calc!F:F),INDEX(BD!B:B,MATCH(ROW()-8,calc!F:F,0)),\"\")","v":""},{"$f":"IF(A1332=\"\",\"\",VLOOKUP(A1332,BD!B:C,2,0))","v":""}]
[{"$f":"IF(ROW()-8<=MAX(calc!F:F),INDEX(BD!B:B,MATCH(ROW()-8,calc!F:F,0)),\"\")","v":""},{"$f":"IF(A1333=\"\",\"\",VLOOKUP(A1333,BD!B:C,2,0))","v":""}]
[{"$f":"IF(ROW()-8<=MAX(calc!F:F),INDEX(BD!B:B,MATCH(ROW()-8,calc!F:F,0)),\"\")","v":""},{"$f":"IF(A1334=\"\",\"\",VLOOKUP(A1334,BD!B:C,2,0))","v":""}]
[{"$f":"IF(ROW()-8<=MAX(calc!F:F),INDEX(BD!B:B,MATCH(ROW()-8,calc!F:F,0)),\"\")","v":""},{"$f":"IF(A1335=\"\",\"\",VLOOKUP(A1335,BD!B:C,2,0))","v":""}]
[{"$f":"IF(ROW()-8<=MAX(calc!F:F),INDEX(BD!B:B,MATCH(ROW()-8,calc!F:F,0)),\"\")","v":""},{"$f":"IF(A1336=\"\",\"\",VLOOKUP(A1336,BD!B:C,2,0))","v":""}]
[{"$f":"IF(ROW()-8<=MAX(calc!F:F),INDEX(BD!B:B,MATCH(ROW()-8,calc!F:F,0)),\"\")","v":""},{"$f":"IF(A1337=\"\",\"\",VLOOKUP(A1337,BD!B:C,2,0))","v":""}]
[{"$f":"IF(ROW()-8<=MAX(calc!F:F),INDEX(BD!B:B,MATCH(ROW()-8,calc!F:F,0)),\"\")","v":""},{"$f":"IF(A1338=\"\",\"\",VLOOKUP(A1338,BD!B:C,2,0))","v":""}]
[{"$f":"IF(ROW()-8<=MAX(calc!F:F),INDEX(BD!B:B,MATCH(ROW()-8,calc!F:F,0)),\"\")","v":""},{"$f":"IF(A1339=\"\",\"\",VLOOKUP(A1339,BD!B:C,2,0))","v":""}]
[{"$f":"IF(ROW()-8<=MAX(calc!F:F),INDEX(BD!B:B,MATCH(ROW()-8,calc!F:F,0)),\"\")","v":""},{"$f":"IF(A1340=\"\",\"\",VLOOKUP(A1340,BD!B:C,2,0))","v":""}]
[{"$f":"IF(ROW()-8<=MAX(calc!F:F),INDEX(BD!B:B,MATCH(ROW()-8,calc!F:F,0)),\"\")","v":""},{"$f":"IF(A1341=\"\",\"\",VLOOKUP(A1341,BD!B:C,2,0))","v":""}]
[{"$f":"IF(ROW()-8<=MAX(calc!F:F),INDEX(BD!B:B,MATCH(ROW()-8,calc!F:F,0)),\"\")","v":""},{"$f":"IF(A1342=\"\",\"\",VLOOKUP(A1342,BD!B:C,2,0))","v":""}]
[{"$f":"IF(ROW()-8<=MAX(calc!F:F),INDEX(BD!B:B,MATCH(ROW()-8,calc!F:F,0)),\"\")","v":""},{"$f":"IF(A1343=\"\",\"\",VLOOKUP(A1343,BD!B:C,2,0))","v":""}]
[{"$f":"IF(ROW()-8<=MAX(calc!F:F),INDEX(BD!B:B,MATCH(ROW()-8,calc!F:F,0)),\"\")","v":""},{"$f":"IF(A1344=\"\",\"\",VLOOKUP(A1344,BD!B:C,2,0))","v":""}]
[{"$f":"IF(ROW()-8<=MAX(calc!F:F),INDEX(BD!B:B,MATCH(ROW()-8,calc!F:F,0)),\"\")","v":""},{"$f":"IF(A1345=\"\",\"\",VLOOKUP(A1345,BD!B:C,2,0))","v":""}]
[{"$f":"IF(ROW()-8<=MAX(calc!F:F),INDEX(BD!B:B,MATCH(ROW()-8,calc!F:F,0)),\"\")","v":""},{"$f":"IF(A1346=\"\",\"\",VLOOKUP(A1346,BD!B:C,2,0))","v":""}]
[{"$f":"IF(ROW()-8<=MAX(calc!F:F),INDEX(BD!B:B,MATCH(ROW()-8,calc!F:F,0)),\"\")","v":""},{"$f":"IF(A1347=\"\",\"\",VLOOKUP(A1347,BD!B:C,2,0))","v":""}]
[{"$f":"IF(ROW()-8<=MAX(calc!F:F),INDEX(BD!B:B,MATCH(ROW()-8,calc!F:F,0)),\"\")","v":""},{"$f":"IF(A1348=\"\",\"\",VLOOKUP(A1348,BD!B:C,2,0))","v":""}]
[{"$f":"IF(ROW()-8<=MAX(calc!F:F),INDEX(BD!B:B,MATCH(ROW()-8,calc!F:F,0)),\"\")","v":""},{"$f":"IF(A1349=\"\",\"\",VLOOKUP(A1349,BD!B:C,2,0))","v":""}]
[{"$f":"IF(ROW()-8<=MAX(calc!F:F),INDEX(BD!B:B,MATCH(ROW()-8,calc!F:F,0)),\"\")","v":""},{"$f":"IF(A1350=\"\",\"\",VLOOKUP(A1350,BD!B:C,2,0))","v":""}]
[{"$f":"IF(ROW()-8<=MAX(calc!F:F),INDEX(BD!B:B,MATCH(ROW()-8,calc!F:F,0)),\"\")","v":""},{"$f":"IF(A1351=\"\",\"\",VLOOKUP(A1351,BD!B:C,2,0))","v":""}]
[{"$f":"IF(ROW()-8<=MAX(calc!F:F),INDEX(BD!B:B,MATCH(ROW()-8,calc!F:F,0)),\"\")","v":""},{"$f":"IF(A1352=\"\",\"\",VLOOKUP(A1352,BD!B:C,2,0))","v":""}]
[{"$f":"IF(ROW()-8<=MAX(calc!F:F),INDEX(BD!B:B,MATCH(ROW()-8,calc!F:F,0)),\"\")","v":""},{"$f":"IF(A1353=\"\",\"\",VLOOKUP(A1353,BD!B:C,2,0))","v":""}]
[{"$f":"IF(ROW()-8<=MAX(calc!F:F),INDEX(BD!B:B,MATCH(ROW()-8,calc!F:F,0)),\"\")","v":""},{"$f":"IF(A1354=\"\",\"\",VLOOKUP(A1354,BD!B:C,2,0))","v":""}]
[{"$f":"IF(ROW()-8<=MAX(calc!F:F),INDEX(BD!B:B,MATCH(ROW()-8,calc!F:F,0)),\"\")","v":""},{"$f":"IF(A1355=\"\",\"\",VLOOKUP(A1355,BD!B:C,2,0))","v":""}]
[{"$f":"IF(ROW()-8<=MAX(calc!F:F),INDEX(BD!B:B,MATCH(ROW()-8,calc!F:F,0)),\"\")","v":""},{"$f":"IF(A1356=\"\",\"\",VLOOKUP(A1356,BD!B:C,2,0))","v":""}]
[{"$f":"IF(ROW()-8<=MAX(calc!F:F),INDEX(BD!B:B,MATCH(ROW()-8,calc!F:F,0)),\"\")","v":""},{"$f":"IF(A1357=\"\",\"\",VLOOKUP(A1357,BD!B:C,2,0))","v":""}]
[{"$f":"IF(ROW()-8<=MAX(calc!F:F),INDEX(BD!B:B,MATCH(ROW()-8,calc!F:F,0)),\"\")","v":""},{"$f":"IF(A1358=\"\",\"\",VLOOKUP(A1358,BD!B:C,2,0))","v":""}]
[{"$f":"IF(ROW()-8<=MAX(calc!F:F),INDEX(BD!B:B,MATCH(ROW()-8,calc!F:F,0)),\"\")","v":""},{"$f":"IF(A1359=\"\",\"\",VLOOKUP(A1359,BD!B:C,2,0))","v":""}]
[{"$f":"IF(ROW()-8<=MAX(calc!F:F),INDEX(BD!B:B,MATCH(ROW()-8,calc!F:F,0)),\"\")","v":""},{"$f":"IF(A1360=\"\",\"\",VLOOKUP(A1360,BD!B:C,2,0))","v":""}]
[{"$f":"IF(ROW()-8<=MAX(calc!F:F),INDEX(BD!B:B,MATCH(ROW()-8,calc!F:F,0)),\"\")","v":""},{"$f":"IF(A1361=\"\",\"\",VLOOKUP(A1361,BD!B:C,2,0))","v":""}]
[{"$f":"IF(ROW()-8<=MAX(calc!F:F),INDEX(BD!B:B,MATCH(ROW()-8,calc!F:F,0)),\"\")","v":""},{"$f":"IF(A1362=\"\",\"\",VLOOKUP(A1362,BD!B:C,2,0))","v":""}]
[{"$f":"IF(ROW()-8<=MAX(calc!F:F),INDEX(BD!B:B,MATCH(ROW()-8,calc!F:F,0)),\"\")","v":""},{"$f":"IF(A1363=\"\",\"\",VLOOKUP(A1363,BD!B:C,2,0))","v":""}]
[{"$f":"IF(ROW()-8<=MAX(calc!F:F),INDEX(BD!B:B,MATCH(ROW()-8,calc!F:F,0)),\"\")","v":""},{"$f":"IF(A1364=\"\",\"\",VLOOKUP(A1364,BD!B:C,2,0))","v":""}]
[{"$f":"IF(ROW()-8<=MAX(calc!F:F),INDEX(BD!B:B,MATCH(ROW()-8,calc!F:F,0)),\"\")","v":""},{"$f":"IF(A1365=\"\",\"\",VLOOKUP(A1365,BD!B:C,2,0))","v":""}]
[{"$f":"IF(ROW()-8<=MAX(calc!F:F),INDEX(BD!B:B,MATCH(ROW()-8,calc!F:F,0)),\"\")","v":""},{"$f":"IF(A1366=\"\",\"\",VLOOKUP(A1366,BD!B:C,2,0))","v":""}]
[{"$f":"IF(ROW()-8<=MAX(calc!F:F),INDEX(BD!B:B,MATCH(ROW()-8,calc!F:F,0)),\"\")","v":""},{"$f":"IF(A1367=\"\",\"\",VLOOKUP(A1367,BD!B:C,2,0))","v":""}]
[{"$f":"IF(ROW()-8<=MAX(calc!F:F),INDEX(BD!B:B,MATCH(ROW()-8,calc!F:F,0)),\"\")","v":""},{"$f":"IF(A1368=\"\",\"\",VLOOKUP(A1368,BD!B:C,2,0))","v":""}]
[{"$f":"IF(ROW()-8<=MAX(calc!F:F),INDEX(BD!B:B,MATCH(ROW()-8,calc!F:F,0)),\"\")","v":""},{"$f":"IF(A1369=\"\",\"\",VLOOKUP(A1369,BD!B:C,2,0))","v":""}]
[{"$f":"IF(ROW()-8<=MAX(calc!F:F),INDEX(BD!B:B,MATCH(ROW()-8,calc!F:F,0)),\"\")","v":""},{"$f":"IF(A1370=\"\",\"\",VLOOKUP(A1370,BD!B:C,2,0))","v":""}]
[{"$f":"IF(ROW()-8<=MAX(calc!F:F),INDEX(BD!B:B,MATCH(ROW()-8,calc!F:F,0)),\"\")","v":""},{"$f":"IF(A1371=\"\",\"\",VLOOKUP(A1371,BD!B:C,2,0))","v":""}]
[{"$f":"IF(ROW()-8<=MAX(calc!F:F),INDEX(BD!B:B,MATCH(ROW()-8,calc!F:F,0)),\"\")","v":""},{"$f":"IF(A1372=\"\",\"\",VLOOKUP(A1372,BD!B:C,2,0))","v":""}]
[{"$f":"IF(ROW()-8<=MAX(calc!F:F),INDEX(BD!B:B,MATCH(ROW()-8,calc!F:F,0)),\"\")","v":""},{"$f":"IF(A1373=\"\",\"\",VLOOKUP(A1373,BD!B:C,2,0))","v":""}]
[{"$f":"IF(ROW()-8<=MAX(calc!F:F),INDEX(BD!B:B,MATCH(ROW()-8,calc!F:F,0)),\"\")","v":""},{"$f":"IF(A1374=\"\",\"\",VLOOKUP(A1374,BD!B:C,2,0))","v":""}]
[{"$f":"IF(ROW()-8<=MAX(calc!F:F),INDEX(BD!B:B,MATCH(ROW()-8,calc!F:F,0)),\"\")","v":""},{"$f":"IF(A1375=\"\",\"\",VLOOKUP(A1375,BD!B:C,2,0))","v":""}]
[{"$f":"IF(ROW()-8<=MAX(calc!F:F),INDEX(BD!B:B,MATCH(ROW()-8,calc!F:F,0)),\"\")","v":""},{"$f":"IF(A1376=\"\",\"\",VLOOKUP(A1376,BD!B:C,2,0))","v":""}]
[{"$f":"IF(ROW()-8<=MAX(calc!F:F),INDEX(BD!B:B,MATCH(ROW()-8,calc!F:F,0)),\"\")","v":""},{"$f":"IF(A1377=\"\",\"\",VLOOKUP(A1377,BD!B:C,2,0))","v":""}]
[{"$f":"IF(ROW()-8<=MAX(calc!F:F),INDEX(BD!B:B,MATCH(ROW()-8,calc!F:F,0)),\"\")","v":""},{"$f":"IF(A1378=\"\",\"\",VLOOKUP(A1378,BD!B:C,2,0))","v":""}]
[{"$f":"IF(ROW()-8<=MAX(calc!F:F),INDEX(BD!B:B,MATCH(ROW()-8,calc!F:F,0)),\"\")","v":""},{"$f":"IF(A1379=\"\",\"\",VLOOKUP(A1379,BD!B:C,2,0))","v":""}]
[{"$f":"IF(ROW()-8<=MAX(calc!F:F),INDEX(BD!B:B,MATCH(ROW()-8,calc!F:F,0)),\"\")","v":""},{"$f":"IF(A1380=\"\",\"\",VLOOKUP(A1380,BD!B:C,2,0))","v":""}]
[{"$f":"IF(ROW()-8<=MAX(calc!F:F),INDEX(BD!B:B,MATCH(ROW()-8,calc!F:F,0)),\"\")","v":""},{"$f":"IF(A1381=\"\",\"\",VLOOKUP(A1381,BD!B:C,2,0))","v":""}]
[{"$f":"IF(ROW()-8<=MAX(calc!F:F),INDEX(BD!B:B,MATCH(ROW()-8,calc!F:F,0)),\"\")","v":""},{"$f":"IF(A1382=\"\",\"\",VLOOKUP(A1382,BD!B:C,2,0))","v":""}]
[{"$f":"IF(ROW()-8<=MAX(calc!F:F),INDEX(BD!B:B,MATCH(ROW()-8,calc!F:F,0)),\"\")","v":""},{"$f":"IF(A1383=\"\",\"\",VLOOKUP(A1383,BD!B:C,2,0))","v":""}]
[{"$f":"IF(ROW()-8<=MAX(calc!F:F),INDEX(BD!B:B,MATCH(ROW()-8,calc!F:F,0)),\"\")","v":""},{"$f":"IF(A1384=\"\",\"\",VLOOKUP(A1384,BD!B:C,2,0))","v":""}]
[{"$f":"IF(ROW()-8<=MAX(calc!F:F),INDEX(BD!B:B,MATCH(ROW()-8,calc!F:F,0)),\"\")","v":""},{"$f":"IF(A1385=\"\",\"\",VLOOKUP(A1385,BD!B:C,2,0))","v":""}]
[{"$f":"IF(ROW()-8<=MAX(calc!F:F),INDEX(BD!B:B,MATCH(ROW()-8,calc!F:F,0)),\"\")","v":""},{"$f":"IF(A1386=\"\",\"\",VLOOKUP(A1386,BD!B:C,2,0))","v":""}]
[{"$f":"IF(ROW()-8<=MAX(calc!F:F),INDEX(BD!B:B,MATCH(ROW()-8,calc!F:F,0)),\"\")","v":""},{"$f":"IF(A1387=\"\",\"\",VLOOKUP(A1387,BD!B:C,2,0))","v":""}]
[{"$f":"IF(ROW()-8<=MAX(calc!F:F),INDEX(BD!B:B,MATCH(ROW()-8,calc!F:F,0)),\"\")","v":""},{"$f":"IF(A1388=\"\",\"\",VLOOKUP(A1388,BD!B:C,2,0))","v":""}]
[{"$f":"IF(ROW()-8<=MAX(calc!F:F),INDEX(BD!B:B,MATCH(ROW()-8,calc!F:F,0)),\"\")","v":""},{"$f":"IF(A1389=\"\",\"\",VLOOKUP(A1389,BD!B:C,2,0))","v":""}]
[{"$f":"IF(ROW()-8<=MAX(calc!F:F),INDEX(BD!B:B,MATCH(ROW()-8,calc!F:F,0)),\"\")","v":""},{"$f":"IF(A1390=\"\",\"\",VLOOKUP(A1390,BD!B:C,2,0))","v":""}]
[{"$f":"IF(ROW()-8<=MAX(calc!F:F),INDEX(BD!B:B,MATCH(ROW()-8,calc!F:F,0)),\"\")","v":""},{"$f":"IF(A1391=\"\",\"\",VLOOKUP(A1391,BD!B:C,2,0))","v":""}]
[{"$f":"IF(ROW()-8<=MAX(calc!F:F),INDEX(BD!B:B,MATCH(ROW()-8,calc!F:F,0)),\"\")","v":""},{"$f":"IF(A1392=\"\",\"\",VLOOKUP(A1392,BD!B:C,2,0))","v":""}]
[{"$f":"IF(ROW()-8<=MAX(calc!F:F),INDEX(BD!B:B,MATCH(ROW()-8,calc!F:F,0)),\"\")","v":""},{"$f":"IF(A1393=\"\",\"\",VLOOKUP(A1393,BD!B:C,2,0))","v":""}]
[{"$f":"IF(ROW()-8<=MAX(calc!F:F),INDEX(BD!B:B,MATCH(ROW()-8,calc!F:F,0)),\"\")","v":""},{"$f":"IF(A1394=\"\",\"\",VLOOKUP(A1394,BD!B:C,2,0))","v":""}]
[{"$f":"IF(ROW()-8<=MAX(calc!F:F),INDEX(BD!B:B,MATCH(ROW()-8,calc!F:F,0)),\"\")","v":""},{"$f":"IF(A1395=\"\",\"\",VLOOKUP(A1395,BD!B:C,2,0))","v":""}]
[{"$f":"IF(ROW()-8<=MAX(calc!F:F),INDEX(BD!B:B,MATCH(ROW()-8,calc!F:F,0)),\"\")","v":""},{"$f":"IF(A1396=\"\",\"\",VLOOKUP(A1396,BD!B:C,2,0))","v":""}]
[{"$f":"IF(ROW()-8<=MAX(calc!F:F),INDEX(BD!B:B,MATCH(ROW()-8,calc!F:F,0)),\"\")","v":""},{"$f":"IF(A1397=\"\",\"\",VLOOKUP(A1397,BD!B:C,2,0))","v":""}]
[{"$f":"IF(ROW()-8<=MAX(calc!F:F),INDEX(BD!B:B,MATCH(ROW()-8,calc!F:F,0)),\"\")","v":""},{"$f":"IF(A1398=\"\",\"\",VLOOKUP(A1398,BD!B:C,2,0))","v":""}]
[{"$f":"IF(ROW()-8<=MAX(calc!F:F),INDEX(BD!B:B,MATCH(ROW()-8,calc!F:F,0)),\"\")","v":""},{"$f":"IF(A1399=\"\",\"\",VLOOKUP(A1399,BD!B:C,2,0))","v":""}]
[{"$f":"IF(ROW()-8<=MAX(calc!F:F),INDEX(BD!B:B,MATCH(ROW()-8,calc!F:F,0)),\"\")","v":""},{"$f":"IF(A1400=\"\",\"\",VLOOKUP(A1400,BD!B:C,2,0))","v":""}]
[{"$f":"IF(ROW()-8<=MAX(calc!F:F),INDEX(BD!B:B,MATCH(ROW()-8,calc!F:F,0)),\"\")","v":""},{"$f":"IF(A1401=\"\",\"\",VLOOKUP(A1401,BD!B:C,2,0))","v":""}]
[{"$f":"IF(ROW()-8<=MAX(calc!F:F),INDEX(BD!B:B,MATCH(ROW()-8,calc!F:F,0)),\"\")","v":""},{"$f":"IF(A1402=\"\",\"\",VLOOKUP(A1402,BD!B:C,2,0))","v":""}]
[{"$f":"IF(ROW()-8<=MAX(calc!F:F),INDEX(BD!B:B,MATCH(ROW()-8,calc!F:F,0)),\"\")","v":""},{"$f":"IF(A1403=\"\",\"\",VLOOKUP(A1403,BD!B:C,2,0))","v":""}]
[{"$f":"IF(ROW()-8<=MAX(calc!F:F),INDEX(BD!B:B,MATCH(ROW()-8,calc!F:F,0)),\"\")","v":""},{"$f":"IF(A1404=\"\",\"\",VLOOKUP(A1404,BD!B:C,2,0))","v":""}]
[{"$f":"IF(ROW()-8<=MAX(calc!F:F),INDEX(BD!B:B,MATCH(ROW()-8,calc!F:F,0)),\"\")","v":""},{"$f":"IF(A1405=\"\",\"\",VLOOKUP(A1405,BD!B:C,2,0))","v":""}]
[{"$f":"IF(ROW()-8<=MAX(calc!F:F),INDEX(BD!B:B,MATCH(ROW()-8,calc!F:F,0)),\"\")","v":""},{"$f":"IF(A1406=\"\",\"\",VLOOKUP(A1406,BD!B:C,2,0))","v":""}]
[{"$f":"IF(ROW()-8<=MAX(calc!F:F),INDEX(BD!B:B,MATCH(ROW()-8,calc!F:F,0)),\"\")","v":""},{"$f":"IF(A1407=\"\",\"\",VLOOKUP(A1407,BD!B:C,2,0))","v":""}]
[{"$f":"IF(ROW()-8<=MAX(calc!F:F),INDEX(BD!B:B,MATCH(ROW()-8,calc!F:F,0)),\"\")","v":""},{"$f":"IF(A1408=\"\",\"\",VLOOKUP(A1408,BD!B:C,2,0))","v":""}]
[{"$f":"IF(ROW()-8<=MAX(calc!F:F),INDEX(BD!B:B,MATCH(ROW()-8,calc!F:F,0)),\"\")","v":""},{"$f":"IF(A1409=\"\",\"\",VLOOKUP(A1409,BD!B:C,2,0))","v":""}]
[{"$f":"IF(ROW()-8<=MAX(calc!F:F),INDEX(BD!B:B,MATCH(ROW()-8,calc!F:F,0)),\"\")","v":""},{"$f":"IF(A1410=\"\",\"\",VLOOKUP(A1410,BD!B:C,2,0))","v":""}]
[{"$f":"IF(ROW()-8<=MAX(calc!F:F),INDEX(BD!B:B,MATCH(ROW()-8,calc!F:F,0)),\"\")","v":""},{"$f":"IF(A1411=\"\",\"\",VLOOKUP(A1411,BD!B:C,2,0))","v":""}]
[{"$f":"IF(ROW()-8<=MAX(calc!F:F),INDEX(BD!B:B,MATCH(ROW()-8,calc!F:F,0)),\"\")","v":""},{"$f":"IF(A1412=\"\",\"\",VLOOKUP(A1412,BD!B:C,2,0))","v":""}]
[{"$f":"IF(ROW()-8<=MAX(calc!F:F),INDEX(BD!B:B,MATCH(ROW()-8,calc!F:F,0)),\"\")","v":""},{"$f":"IF(A1413=\"\",\"\",VLOOKUP(A1413,BD!B:C,2,0))","v":""}]
[{"$f":"IF(ROW()-8<=MAX(calc!F:F),INDEX(BD!B:B,MATCH(ROW()-8,calc!F:F,0)),\"\")","v":""},{"$f":"IF(A1414=\"\",\"\",VLOOKUP(A1414,BD!B:C,2,0))","v":""}]
[{"$f":"IF(ROW()-8<=MAX(calc!F:F),INDEX(BD!B:B,MATCH(ROW()-8,calc!F:F,0)),\"\")","v":""},{"$f":"IF(A1415=\"\",\"\",VLOOKUP(A1415,BD!B:C,2,0))","v":""}]
[{"$f":"IF(ROW()-8<=MAX(calc!F:F),INDEX(BD!B:B,MATCH(ROW()-8,calc!F:F,0)),\"\")","v":""},{"$f":"IF(A1416=\"\",\"\",VLOOKUP(A1416,BD!B:C,2,0))","v":""}]
[{"$f":"IF(ROW()-8<=MAX(calc!F:F),INDEX(BD!B:B,MATCH(ROW()-8,calc!F:F,0)),\"\")","v":""},{"$f":"IF(A1417=\"\",\"\",VLOOKUP(A1417,BD!B:C,2,0))","v":""}]
[{"$f":"IF(ROW()-8<=MAX(calc!F:F),INDEX(BD!B:B,MATCH(ROW()-8,calc!F:F,0)),\"\")","v":""},{"$f":"IF(A1418=\"\",\"\",VLOOKUP(A1418,BD!B:C,2,0))","v":""}]
[{"$f":"IF(ROW()-8<=MAX(calc!F:F),INDEX(BD!B:B,MATCH(ROW()-8,calc!F:F,0)),\"\")","v":""},{"$f":"IF(A1419=\"\",\"\",VLOOKUP(A1419,BD!B:C,2,0))","v":""}]
[{"$f":"IF(ROW()-8<=MAX(calc!F:F),INDEX(BD!B:B,MATCH(ROW()-8,calc!F:F,0)),\"\")","v":""},{"$f":"IF(A1420=\"\",\"\",VLOOKUP(A1420,BD!B:C,2,0))","v":""}]
[{"$f":"IF(ROW()-8<=MAX(calc!F:F),INDEX(BD!B:B,MATCH(ROW()-8,calc!F:F,0)),\"\")","v":""},{"$f":"IF(A1421=\"\",\"\",VLOOKUP(A1421,BD!B:C,2,0))","v":""}]
[{"$f":"IF(ROW()-8<=MAX(calc!F:F),INDEX(BD!B:B,MATCH(ROW()-8,calc!F:F,0)),\"\")","v":""},{"$f":"IF(A1422=\"\",\"\",VLOOKUP(A1422,BD!B:C,2,0))","v":""}]
[{"$f":"IF(ROW()-8<=MAX(calc!F:F),INDEX(BD!B:B,MATCH(ROW()-8,calc!F:F,0)),\"\")","v":""},{"$f":"IF(A1423=\"\",\"\",VLOOKUP(A1423,BD!B:C,2,0))","v":""}]
[{"$f":"IF(ROW()-8<=MAX(calc!F:F),INDEX(BD!B:B,MATCH(ROW()-8,calc!F:F,0)),\"\")","v":""},{"$f":"IF(A1424=\"\",\"\",VLOOKUP(A1424,BD!B:C,2,0))","v":""}]
[{"$f":"IF(ROW()-8<=MAX(calc!F:F),INDEX(BD!B:B,MATCH(ROW()-8,calc!F:F,0)),\"\")","v":""},{"$f":"IF(A1425=\"\",\"\",VLOOKUP(A1425,BD!B:C,2,0))","v":""}]
[{"$f":"IF(ROW()-8<=MAX(calc!F:F),INDEX(BD!B:B,MATCH(ROW()-8,calc!F:F,0)),\"\")","v":""},{"$f":"IF(A1426=\"\",\"\",VLOOKUP(A1426,BD!B:C,2,0))","v":""}]
[{"$f":"IF(ROW()-8<=MAX(calc!F:F),INDEX(BD!B:B,MATCH(ROW()-8,calc!F:F,0)),\"\")","v":""},{"$f":"IF(A1427=\"\",\"\",VLOOKUP(A1427,BD!B:C,2,0))","v":""}]
[{"$f":"IF(ROW()-8<=MAX(calc!F:F),INDEX(BD!B:B,MATCH(ROW()-8,calc!F:F,0)),\"\")","v":""},{"$f":"IF(A1428=\"\",\"\",VLOOKUP(A1428,BD!B:C,2,0))","v":""}]
[{"$f":"IF(ROW()-8<=MAX(calc!F:F),INDEX(BD!B:B,MATCH(ROW()-8,calc!F:F,0)),\"\")","v":""},{"$f":"IF(A1429=\"\",\"\",VLOOKUP(A1429,BD!B:C,2,0))","v":""}]
[{"$f":"IF(ROW()-8<=MAX(calc!F:F),INDEX(BD!B:B,MATCH(ROW()-8,calc!F:F,0)),\"\")","v":""},{"$f":"IF(A1430=\"\",\"\",VLOOKUP(A1430,BD!B:C,2,0))","v":""}]
[{"$f":"IF(ROW()-8<=MAX(calc!F:F),INDEX(BD!B:B,MATCH(ROW()-8,calc!F:F,0)),\"\")","v":""},{"$f":"IF(A1431=\"\",\"\",VLOOKUP(A1431,BD!B:C,2,0))","v":""}]
[{"$f":"IF(ROW()-8<=MAX(calc!F:F),INDEX(BD!B:B,MATCH(ROW()-8,calc!F:F,0)),\"\")","v":""},{"$f":"IF(A1432=\"\",\"\",VLOOKUP(A1432,BD!B:C,2,0))","v":""}]
[{"$f":"IF(ROW()-8<=MAX(calc!F:F),INDEX(BD!B:B,MATCH(ROW()-8,calc!F:F,0)),\"\")","v":""},{"$f":"IF(A1433=\"\",\"\",VLOOKUP(A1433,BD!B:C,2,0))","v":""}]
[{"$f":"IF(ROW()-8<=MAX(calc!F:F),INDEX(BD!B:B,MATCH(ROW()-8,calc!F:F,0)),\"\")","v":""},{"$f":"IF(A1434=\"\",\"\",VLOOKUP(A1434,BD!B:C,2,0))","v":""}]
[{"$f":"IF(ROW()-8<=MAX(calc!F:F),INDEX(BD!B:B,MATCH(ROW()-8,calc!F:F,0)),\"\")","v":""},{"$f":"IF(A1435=\"\",\"\",VLOOKUP(A1435,BD!B:C,2,0))","v":""}]
[{"$f":"IF(ROW()-8<=MAX(calc!F:F),INDEX(BD!B:B,MATCH(ROW()-8,calc!F:F,0)),\"\")","v":""},{"$f":"IF(A1436=\"\",\"\",VLOOKUP(A1436,BD!B:C,2,0))","v":""}]
[{"$f":"IF(ROW()-8<=MAX(calc!F:F),INDEX(BD!B:B,MATCH(ROW()-8,calc!F:F,0)),\"\")","v":""},{"$f":"IF(A1437=\"\",\"\",VLOOKUP(A1437,BD!B:C,2,0))","v":""}]
[{"$f":"IF(ROW()-8<=MAX(calc!F:F),INDEX(BD!B:B,MATCH(ROW()-8,calc!F:F,0)),\"\")","v":""},{"$f":"IF(A1438=\"\",\"\",VLOOKUP(A1438,BD!B:C,2,0))","v":""}]
[{"$f":"IF(ROW()-8<=MAX(calc!F:F),INDEX(BD!B:B,MATCH(ROW()-8,calc!F:F,0)),\"\")","v":""},{"$f":"IF(A1439=\"\",\"\",VLOOKUP(A1439,BD!B:C,2,0))","v":""}]
[{"$f":"IF(ROW()-8<=MAX(calc!F:F),INDEX(BD!B:B,MATCH(ROW()-8,calc!F:F,0)),\"\")","v":""},{"$f":"IF(A1440=\"\",\"\",VLOOKUP(A1440,BD!B:C,2,0))","v":""}]
[{"$f":"IF(ROW()-8<=MAX(calc!F:F),INDEX(BD!B:B,MATCH(ROW()-8,calc!F:F,0)),\"\")","v":""},{"$f":"IF(A1441=\"\",\"\",VLOOKUP(A1441,BD!B:C,2,0))","v":""}]
[{"$f":"IF(ROW()-8<=MAX(calc!F:F),INDEX(BD!B:B,MATCH(ROW()-8,calc!F:F,0)),\"\")","v":""},{"$f":"IF(A1442=\"\",\"\",VLOOKUP(A1442,BD!B:C,2,0))","v":""}]
[{"$f":"IF(ROW()-8<=MAX(calc!F:F),INDEX(BD!B:B,MATCH(ROW()-8,calc!F:F,0)),\"\")","v":""},{"$f":"IF(A1443=\"\",\"\",VLOOKUP(A1443,BD!B:C,2,0))","v":""}]
[{"$f":"IF(ROW()-8<=MAX(calc!F:F),INDEX(BD!B:B,MATCH(ROW()-8,calc!F:F,0)),\"\")","v":""},{"$f":"IF(A1444=\"\",\"\",VLOOKUP(A1444,BD!B:C,2,0))","v":""}]
[{"$f":"IF(ROW()-8<=MAX(calc!F:F),INDEX(BD!B:B,MATCH(ROW()-8,calc!F:F,0)),\"\")","v":""},{"$f":"IF(A1445=\"\",\"\",VLOOKUP(A1445,BD!B:C,2,0))","v":""}]
[{"$f":"IF(ROW()-8<=MAX(calc!F:F),INDEX(BD!B:B,MATCH(ROW()-8,calc!F:F,0)),\"\")","v":""},{"$f":"IF(A1446=\"\",\"\",VLOOKUP(A1446,BD!B:C,2,0))","v":""}]
[{"$f":"IF(ROW()-8<=MAX(calc!F:F),INDEX(BD!B:B,MATCH(ROW()-8,calc!F:F,0)),\"\")","v":""},{"$f":"IF(A1447=\"\",\"\",VLOOKUP(A1447,BD!B:C,2,0))","v":""}]
[{"$f":"IF(ROW()-8<=MAX(calc!F:F),INDEX(BD!B:B,MATCH(ROW()-8,calc!F:F,0)),\"\")","v":""},{"$f":"IF(A1448=\"\",\"\",VLOOKUP(A1448,BD!B:C,2,0))","v":""}]
[{"$f":"IF(ROW()-8<=MAX(calc!F:F),INDEX(BD!B:B,MATCH(ROW()-8,calc!F:F,0)),\"\")","v":""},{"$f":"IF(A1449=\"\",\"\",VLOOKUP(A1449,BD!B:C,2,0))","v":""}]
[{"$f":"IF(ROW()-8<=MAX(calc!F:F),INDEX(BD!B:B,MATCH(ROW()-8,calc!F:F,0)),\"\")","v":""},{"$f":"IF(A1450=\"\",\"\",VLOOKUP(A1450,BD!B:C,2,0))","v":""}]
[{"$f":"IF(ROW()-8<=MAX(calc!F:F),INDEX(BD!B:B,MATCH(ROW()-8,calc!F:F,0)),\"\")","v":""},{"$f":"IF(A1451=\"\",\"\",VLOOKUP(A1451,BD!B:C,2,0))","v":""}]
[{"$f":"IF(ROW()-8<=MAX(calc!F:F),INDEX(BD!B:B,MATCH(ROW()-8,calc!F:F,0)),\"\")","v":""},{"$f":"IF(A1452=\"\",\"\",VLOOKUP(A1452,BD!B:C,2,0))","v":""}]
[{"$f":"IF(ROW()-8<=MAX(calc!F:F),INDEX(BD!B:B,MATCH(ROW()-8,calc!F:F,0)),\"\")","v":""},{"$f":"IF(A1453=\"\",\"\",VLOOKUP(A1453,BD!B:C,2,0))","v":""}]
[{"$f":"IF(ROW()-8<=MAX(calc!F:F),INDEX(BD!B:B,MATCH(ROW()-8,calc!F:F,0)),\"\")","v":""},{"$f":"IF(A1454=\"\",\"\",VLOOKUP(A1454,BD!B:C,2,0))","v":""}]
[{"$f":"IF(ROW()-8<=MAX(calc!F:F),INDEX(BD!B:B,MATCH(ROW()-8,calc!F:F,0)),\"\")","v":""},{"$f":"IF(A1455=\"\",\"\",VLOOKUP(A1455,BD!B:C,2,0))","v":""}]
[{"$f":"IF(ROW()-8<=MAX(calc!F:F),INDEX(BD!B:B,MATCH(ROW()-8,calc!F:F,0)),\"\")","v":""},{"$f":"IF(A1456=\"\",\"\",VLOOKUP(A1456,BD!B:C,2,0))","v":""}]
[{"$f":"IF(ROW()-8<=MAX(calc!F:F),INDEX(BD!B:B,MATCH(ROW()-8,calc!F:F,0)),\"\")","v":""},{"$f":"IF(A1457=\"\",\"\",VLOOKUP(A1457,BD!B:C,2,0))","v":""}]
[{"$f":"IF(ROW()-8<=MAX(calc!F:F),INDEX(BD!B:B,MATCH(ROW()-8,calc!F:F,0)),\"\")","v":""},{"$f":"IF(A1458=\"\",\"\",VLOOKUP(A1458,BD!B:C,2,0))","v":""}]
[{"$f":"IF(ROW()-8<=MAX(calc!F:F),INDEX(BD!B:B,MATCH(ROW()-8,calc!F:F,0)),\"\")","v":""},{"$f":"IF(A1459=\"\",\"\",VLOOKUP(A1459,BD!B:C,2,0))","v":""}]
[{"$f":"IF(ROW()-8<=MAX(calc!F:F),INDEX(BD!B:B,MATCH(ROW()-8,calc!F:F,0)),\"\")","v":""},{"$f":"IF(A1460=\"\",\"\",VLOOKUP(A1460,BD!B:C,2,0))","v":""}]
[{"$f":"IF(ROW()-8<=MAX(calc!F:F),INDEX(BD!B:B,MATCH(ROW()-8,calc!F:F,0)),\"\")","v":""},{"$f":"IF(A1461=\"\",\"\",VLOOKUP(A1461,BD!B:C,2,0))","v":""}]
[{"$f":"IF(ROW()-8<=MAX(calc!F:F),INDEX(BD!B:B,MATCH(ROW()-8,calc!F:F,0)),\"\")","v":""},{"$f":"IF(A1462=\"\",\"\",VLOOKUP(A1462,BD!B:C,2,0))","v":""}]
[{"$f":"IF(ROW()-8<=MAX(calc!F:F),INDEX(BD!B:B,MATCH(ROW()-8,calc!F:F,0)),\"\")","v":""},{"$f":"IF(A1463=\"\",\"\",VLOOKUP(A1463,BD!B:C,2,0))","v":""}]
[{"$f":"IF(ROW()-8<=MAX(calc!F:F),INDEX(BD!B:B,MATCH(ROW()-8,calc!F:F,0)),\"\")","v":""},{"$f":"IF(A1464=\"\",\"\",VLOOKUP(A1464,BD!B:C,2,0))","v":""}]
[{"$f":"IF(ROW()-8<=MAX(calc!F:F),INDEX(BD!B:B,MATCH(ROW()-8,calc!F:F,0)),\"\")","v":""},{"$f":"IF(A1465=\"\",\"\",VLOOKUP(A1465,BD!B:C,2,0))","v":""}]
[{"$f":"IF(ROW()-8<=MAX(calc!F:F),INDEX(BD!B:B,MATCH(ROW()-8,calc!F:F,0)),\"\")","v":""},{"$f":"IF(A1466=\"\",\"\",VLOOKUP(A1466,BD!B:C,2,0))","v":""}]
[{"$f":"IF(ROW()-8<=MAX(calc!F:F),INDEX(BD!B:B,MATCH(ROW()-8,calc!F:F,0)),\"\")","v":""},{"$f":"IF(A1467=\"\",\"\",VLOOKUP(A1467,BD!B:C,2,0))","v":""}]
[{"$f":"IF(ROW()-8<=MAX(calc!F:F),INDEX(BD!B:B,MATCH(ROW()-8,calc!F:F,0)),\"\")","v":""},{"$f":"IF(A1468=\"\",\"\",VLOOKUP(A1468,BD!B:C,2,0))","v":""}]
[{"$f":"IF(ROW()-8<=MAX(calc!F:F),INDEX(BD!B:B,MATCH(ROW()-8,calc!F:F,0)),\"\")","v":""},{"$f":"IF(A1469=\"\",\"\",VLOOKUP(A1469,BD!B:C,2,0))","v":""}]
[{"$f":"IF(ROW()-8<=MAX(calc!F:F),INDEX(BD!B:B,MATCH(ROW()-8,calc!F:F,0)),\"\")","v":""},{"$f":"IF(A1470=\"\",\"\",VLOOKUP(A1470,BD!B:C,2,0))","v":""}]
[{"$f":"IF(ROW()-8<=MAX(calc!F:F),INDEX(BD!B:B,MATCH(ROW()-8,calc!F:F,0)),\"\")","v":""},{"$f":"IF(A1471=\"\",\"\",VLOOKUP(A1471,BD!B:C,2,0))","v":""}]
[{"$f":"IF(ROW()-8<=MAX(calc!F:F),INDEX(BD!B:B,MATCH(ROW()-8,calc!F:F,0)),\"\")","v":""},{"$f":"IF(A1472=\"\",\"\",VLOOKUP(A1472,BD!B:C,2,0))","v":""}]
[{"$f":"IF(ROW()-8<=MAX(calc!F:F),INDEX(BD!B:B,MATCH(ROW()-8,calc!F:F,0)),\"\")","v":""},{"$f":"IF(A1473=\"\",\"\",VLOOKUP(A1473,BD!B:C,2,0))","v":""}]
[{"$f":"IF(ROW()-8<=MAX(calc!F:F),INDEX(BD!B:B,MATCH(ROW()-8,calc!F:F,0)),\"\")","v":""},{"$f":"IF(A1474=\"\",\"\",VLOOKUP(A1474,BD!B:C,2,0))","v":""}]
[{"$f":"IF(ROW()-8<=MAX(calc!F:F),INDEX(BD!B:B,MATCH(ROW()-8,calc!F:F,0)),\"\")","v":""},{"$f":"IF(A1475=\"\",\"\",VLOOKUP(A1475,BD!B:C,2,0))","v":""}]
[{"$f":"IF(ROW()-8<=MAX(calc!F:F),INDEX(BD!B:B,MATCH(ROW()-8,calc!F:F,0)),\"\")","v":""},{"$f":"IF(A1476=\"\",\"\",VLOOKUP(A1476,BD!B:C,2,0))","v":""}]
[{"$f":"IF(ROW()-8<=MAX(calc!F:F),INDEX(BD!B:B,MATCH(ROW()-8,calc!F:F,0)),\"\")","v":""},{"$f":"IF(A1477=\"\",\"\",VLOOKUP(A1477,BD!B:C,2,0))","v":""}]
[{"$f":"IF(ROW()-8<=MAX(calc!F:F),INDEX(BD!B:B,MATCH(ROW()-8,calc!F:F,0)),\"\")","v":""},{"$f":"IF(A1478=\"\",\"\",VLOOKUP(A1478,BD!B:C,2,0))","v":""}]
[{"$f":"IF(ROW()-8<=MAX(calc!F:F),INDEX(BD!B:B,MATCH(ROW()-8,calc!F:F,0)),\"\")","v":""},{"$f":"IF(A1479=\"\",\"\",VLOOKUP(A1479,BD!B:C,2,0))","v":""}]
[{"$f":"IF(ROW()-8<=MAX(calc!F:F),INDEX(BD!B:B,MATCH(ROW()-8,calc!F:F,0)),\"\")","v":""},{"$f":"IF(A1480=\"\",\"\",VLOOKUP(A1480,BD!B:C,2,0))","v":""}]
[{"$f":"IF(ROW()-8<=MAX(calc!F:F),INDEX(BD!B:B,MATCH(ROW()-8,calc!F:F,0)),\"\")","v":""},{"$f":"IF(A1481=\"\",\"\",VLOOKUP(A1481,BD!B:C,2,0))","v":""}]
[{"$f":"IF(ROW()-8<=MAX(calc!F:F),INDEX(BD!B:B,MATCH(ROW()-8,calc!F:F,0)),\"\")","v":""},{"$f":"IF(A1482=\"\",\"\",VLOOKUP(A1482,BD!B:C,2,0))","v":""}]
[{"$f":"IF(ROW()-8<=MAX(calc!F:F),INDEX(BD!B:B,MATCH(ROW()-8,calc!F:F,0)),\"\")","v":""},{"$f":"IF(A1483=\"\",\"\",VLOOKUP(A1483,BD!B:C,2,0))","v":""}]
[{"$f":"IF(ROW()-8<=MAX(calc!F:F),INDEX(BD!B:B,MATCH(ROW()-8,calc!F:F,0)),\"\")","v":""},{"$f":"IF(A1484=\"\",\"\",VLOOKUP(A1484,BD!B:C,2,0))","v":""}]
[{"$f":"IF(ROW()-8<=MAX(calc!F:F),INDEX(BD!B:B,MATCH(ROW()-8,calc!F:F,0)),\"\")","v":""},{"$f":"IF(A1485=\"\",\"\",VLOOKUP(A1485,BD!B:C,2,0))","v":""}]
[{"$f":"IF(ROW()-8<=MAX(calc!F:F),INDEX(BD!B:B,MATCH(ROW()-8,calc!F:F,0)),\"\")","v":""},{"$f":"IF(A1486=\"\",\"\",VLOOKUP(A1486,BD!B:C,2,0))","v":""}]
[{"$f":"IF(ROW()-8<=MAX(calc!F:F),INDEX(BD!B:B,MATCH(ROW()-8,calc!F:F,0)),\"\")","v":""},{"$f":"IF(A1487=\"\",\"\",VLOOKUP(A1487,BD!B:C,2,0))","v":""}]
[{"$f":"IF(ROW()-8<=MAX(calc!F:F),INDEX(BD!B:B,MATCH(ROW()-8,calc!F:F,0)),\"\")","v":""},{"$f":"IF(A1488=\"\",\"\",VLOOKUP(A1488,BD!B:C,2,0))","v":""}]
[{"$f":"IF(ROW()-8<=MAX(calc!F:F),INDEX(BD!B:B,MATCH(ROW()-8,calc!F:F,0)),\"\")","v":""},{"$f":"IF(A1489=\"\",\"\",VLOOKUP(A1489,BD!B:C,2,0))","v":""}]
[{"$f":"IF(ROW()-8<=MAX(calc!F:F),INDEX(BD!B:B,MATCH(ROW()-8,calc!F:F,0)),\"\")","v":""},{"$f":"IF(A1490=\"\",\"\",VLOOKUP(A1490,BD!B:C,2,0))","v":""}]
[{"$f":"IF(ROW()-8<=MAX(calc!F:F),INDEX(BD!B:B,MATCH(ROW()-8,calc!F:F,0)),\"\")","v":""},{"$f":"IF(A1491=\"\",\"\",VLOOKUP(A1491,BD!B:C,2,0))","v":""}]
[{"$f":"IF(ROW()-8<=MAX(calc!F:F),INDEX(BD!B:B,MATCH(ROW()-8,calc!F:F,0)),\"\")","v":""},{"$f":"IF(A1492=\"\",\"\",VLOOKUP(A1492,BD!B:C,2,0))","v":""}]
[{"$f":"IF(ROW()-8<=MAX(calc!F:F),INDEX(BD!B:B,MATCH(ROW()-8,calc!F:F,0)),\"\")","v":""},{"$f":"IF(A1493=\"\",\"\",VLOOKUP(A1493,BD!B:C,2,0))","v":""}]
[{"$f":"IF(ROW()-8<=MAX(calc!F:F),INDEX(BD!B:B,MATCH(ROW()-8,calc!F:F,0)),\"\")","v":""},{"$f":"IF(A1494=\"\",\"\",VLOOKUP(A1494,BD!B:C,2,0))","v":""}]
[{"$f":"IF(ROW()-8<=MAX(calc!F:F),INDEX(BD!B:B,MATCH(ROW()-8,calc!F:F,0)),\"\")","v":""},{"$f":"IF(A1495=\"\",\"\",VLOOKUP(A1495,BD!B:C,2,0))","v":""}]
[{"$f":"IF(ROW()-8<=MAX(calc!F:F),INDEX(BD!B:B,MATCH(ROW()-8,calc!F:F,0)),\"\")","v":""},{"$f":"IF(A1496=\"\",\"\",VLOOKUP(A1496,BD!B:C,2,0))","v":""}]
[{"$f":"IF(ROW()-8<=MAX(calc!F:F),INDEX(BD!B:B,MATCH(ROW()-8,calc!F:F,0)),\"\")","v":""},{"$f":"IF(A1497=\"\",\"\",VLOOKUP(A1497,BD!B:C,2,0))","v":""}]
[{"$f":"IF(ROW()-8<=MAX(calc!F:F),INDEX(BD!B:B,MATCH(ROW()-8,calc!F:F,0)),\"\")","v":""},{"$f":"IF(A1498=\"\",\"\",VLOOKUP(A1498,BD!B:C,2,0))","v":""}]
[{"$f":"IF(ROW()-8<=MAX(calc!F:F),INDEX(BD!B:B,MATCH(ROW()-8,calc!F:F,0)),\"\")","v":""},{"$f":"IF(A1499=\"\",\"\",VLOOKUP(A1499,BD!B:C,2,0))","v":""}]
[{"$f":"IF(ROW()-8<=MAX(calc!F:F),INDEX(BD!B:B,MATCH(ROW()-8,calc!F:F,0)),\"\")","v":""},{"$f":"IF(A1500=\"\",\"\",VLOOKUP(A1500,BD!B:C,2,0))","v":""}]
[{"$f":"IF(ROW()-8<=MAX(calc!F:F),INDEX(BD!B:B,MATCH(ROW()-8,calc!F:F,0)),\"\")","v":""},{"$f":"IF(A1501=\"\",\"\",VLOOKUP(A1501,BD!B:C,2,0))","v":""}]
[{"$f":"IF(ROW()-8<=MAX(calc!F:F),INDEX(BD!B:B,MATCH(ROW()-8,calc!F:F,0)),\"\")","v":""},{"$f":"IF(A1502=\"\",\"\",VLOOKUP(A1502,BD!B:C,2,0))","v":""}]
[{"$f":"IF(ROW()-8<=MAX(calc!F:F),INDEX(BD!B:B,MATCH(ROW()-8,calc!F:F,0)),\"\")","v":""},{"$f":"IF(A1503=\"\",\"\",VLOOKUP(A1503,BD!B:C,2,0))","v":""}]
[{"$f":"IF(ROW()-8<=MAX(calc!F:F),INDEX(BD!B:B,MATCH(ROW()-8,calc!F:F,0)),\"\")","v":""},{"$f":"IF(A1504=\"\",\"\",VLOOKUP(A1504,BD!B:C,2,0))","v":""}]
[{"$f":"IF(ROW()-8<=MAX(calc!F:F),INDEX(BD!B:B,MATCH(ROW()-8,calc!F:F,0)),\"\")","v":""},{"$f":"IF(A1505=\"\",\"\",VLOOKUP(A1505,BD!B:C,2,0))","v":""}]
[{"$f":"IF(ROW()-8<=MAX(calc!F:F),INDEX(BD!B:B,MATCH(ROW()-8,calc!F:F,0)),\"\")","v":""},{"$f":"IF(A1506=\"\",\"\",VLOOKUP(A1506,BD!B:C,2,0))","v":""}]
[{"$f":"IF(ROW()-8<=MAX(calc!F:F),INDEX(BD!B:B,MATCH(ROW()-8,calc!F:F,0)),\"\")","v":""},{"$f":"IF(A1507=\"\",\"\",VLOOKUP(A1507,BD!B:C,2,0))","v":""}]
[{"$f":"IF(ROW()-8<=MAX(calc!F:F),INDEX(BD!B:B,MATCH(ROW()-8,calc!F:F,0)),\"\")","v":""},{"$f":"IF(A1508=\"\",\"\",VLOOKUP(A1508,BD!B:C,2,0))","v":""}]
[{"$f":"IF(ROW()-8<=MAX(calc!F:F),INDEX(BD!B:B,MATCH(ROW()-8,calc!F:F,0)),\"\")","v":""},{"$f":"IF(A1509=\"\",\"\",VLOOKUP(A1509,BD!B:C,2,0))","v":""}]
[{"$f":"IF(ROW()-8<=MAX(calc!F:F),INDEX(BD!B:B,MATCH(ROW()-8,calc!F:F,0)),\"\")","v":""},{"$f":"IF(A1510=\"\",\"\",VLOOKUP(A1510,BD!B:C,2,0))","v":""}]
[{"$f":"IF(ROW()-8<=MAX(calc!F:F),INDEX(BD!B:B,MATCH(ROW()-8,calc!F:F,0)),\"\")","v":""},{"$f":"IF(A1511=\"\",\"\",VLOOKUP(A1511,BD!B:C,2,0))","v":""}]
[{"$f":"IF(ROW()-8<=MAX(calc!F:F),INDEX(BD!B:B,MATCH(ROW()-8,calc!F:F,0)),\"\")","v":""},{"$f":"IF(A1512=\"\",\"\",VLOOKUP(A1512,BD!B:C,2,0))","v":""}]
[{"$f":"IF(ROW()-8<=MAX(calc!F:F),INDEX(BD!B:B,MATCH(ROW()-8,calc!F:F,0)),\"\")","v":""},{"$f":"IF(A1513=\"\",\"\",VLOOKUP(A1513,BD!B:C,2,0))","v":""}]
[{"$f":"IF(ROW()-8<=MAX(calc!F:F),INDEX(BD!B:B,MATCH(ROW()-8,calc!F:F,0)),\"\")","v":""},{"$f":"IF(A1514=\"\",\"\",VLOOKUP(A1514,BD!B:C,2,0))","v":""}]
[{"$f":"IF(ROW()-8<=MAX(calc!F:F),INDEX(BD!B:B,MATCH(ROW()-8,calc!F:F,0)),\"\")","v":""},{"$f":"IF(A1515=\"\",\"\",VLOOKUP(A1515,BD!B:C,2,0))","v":""}]
[{"$f":"IF(ROW()-8<=MAX(calc!F:F),INDEX(BD!B:B,MATCH(ROW()-8,calc!F:F,0)),\"\")","v":""},{"$f":"IF(A1516=\"\",\"\",VLOOKUP(A1516,BD!B:C,2,0))","v":""}]
[{"$f":"IF(ROW()-8<=MAX(calc!F:F),INDEX(BD!B:B,MATCH(ROW()-8,calc!F:F,0)),\"\")","v":""},{"$f":"IF(A1517=\"\",\"\",VLOOKUP(A1517,BD!B:C,2,0))","v":""}]
[{"$f":"IF(ROW()-8<=MAX(calc!F:F),INDEX(BD!B:B,MATCH(ROW()-8,calc!F:F,0)),\"\")","v":""},{"$f":"IF(A1518=\"\",\"\",VLOOKUP(A1518,BD!B:C,2,0))","v":""}]
[{"$f":"IF(ROW()-8<=MAX(calc!F:F),INDEX(BD!B:B,MATCH(ROW()-8,calc!F:F,0)),\"\")","v":""},{"$f":"IF(A1519=\"\",\"\",VLOOKUP(A1519,BD!B:C,2,0))","v":""}]
[{"$f":"IF(ROW()-8<=MAX(calc!F:F),INDEX(BD!B:B,MATCH(ROW()-8,calc!F:F,0)),\"\")","v":""},{"$f":"IF(A1520=\"\",\"\",VLOOKUP(A1520,BD!B:C,2,0))","v":""}]
[{"$f":"IF(ROW()-8<=MAX(calc!F:F),INDEX(BD!B:B,MATCH(ROW()-8,calc!F:F,0)),\"\")","v":""},{"$f":"IF(A1521=\"\",\"\",VLOOKUP(A1521,BD!B:C,2,0))","v":""}]
[{"$f":"IF(ROW()-8<=MAX(calc!F:F),INDEX(BD!B:B,MATCH(ROW()-8,calc!F:F,0)),\"\")","v":""},{"$f":"IF(A1522=\"\",\"\",VLOOKUP(A1522,BD!B:C,2,0))","v":""}]
[{"$f":"IF(ROW()-8<=MAX(calc!F:F),INDEX(BD!B:B,MATCH(ROW()-8,calc!F:F,0)),\"\")","v":""},{"$f":"IF(A1523=\"\",\"\",VLOOKUP(A1523,BD!B:C,2,0))","v":""}]
[{"$f":"IF(ROW()-8<=MAX(calc!F:F),INDEX(BD!B:B,MATCH(ROW()-8,calc!F:F,0)),\"\")","v":""},{"$f":"IF(A1524=\"\",\"\",VLOOKUP(A1524,BD!B:C,2,0))","v":""}]
[{"$f":"IF(ROW()-8<=MAX(calc!F:F),INDEX(BD!B:B,MATCH(ROW()-8,calc!F:F,0)),\"\")","v":""},{"$f":"IF(A1525=\"\",\"\",VLOOKUP(A1525,BD!B:C,2,0))","v":""}]
[{"$f":"IF(ROW()-8<=MAX(calc!F:F),INDEX(BD!B:B,MATCH(ROW()-8,calc!F:F,0)),\"\")","v":""},{"$f":"IF(A1526=\"\",\"\",VLOOKUP(A1526,BD!B:C,2,0))","v":""}]
[{"$f":"IF(ROW()-8<=MAX(calc!F:F),INDEX(BD!B:B,MATCH(ROW()-8,calc!F:F,0)),\"\")","v":""},{"$f":"IF(A1527=\"\",\"\",VLOOKUP(A1527,BD!B:C,2,0))","v":""}]
[{"$f":"IF(ROW()-8<=MAX(calc!F:F),INDEX(BD!B:B,MATCH(ROW()-8,calc!F:F,0)),\"\")","v":""},{"$f":"IF(A1528=\"\",\"\",VLOOKUP(A1528,BD!B:C,2,0))","v":""}]
[{"$f":"IF(ROW()-8<=MAX(calc!F:F),INDEX(BD!B:B,MATCH(ROW()-8,calc!F:F,0)),\"\")","v":""},{"$f":"IF(A1529=\"\",\"\",VLOOKUP(A1529,BD!B:C,2,0))","v":""}]
[{"$f":"IF(ROW()-8<=MAX(calc!F:F),INDEX(BD!B:B,MATCH(ROW()-8,calc!F:F,0)),\"\")","v":""},{"$f":"IF(A1530=\"\",\"\",VLOOKUP(A1530,BD!B:C,2,0))","v":""}]
[{"$f":"IF(ROW()-8<=MAX(calc!F:F),INDEX(BD!B:B,MATCH(ROW()-8,calc!F:F,0)),\"\")","v":""},{"$f":"IF(A1531=\"\",\"\",VLOOKUP(A1531,BD!B:C,2,0))","v":""}]
[{"$f":"IF(ROW()-8<=MAX(calc!F:F),INDEX(BD!B:B,MATCH(ROW()-8,calc!F:F,0)),\"\")","v":""},{"$f":"IF(A1532=\"\",\"\",VLOOKUP(A1532,BD!B:C,2,0))","v":""}]
[{"$f":"IF(ROW()-8<=MAX(calc!F:F),INDEX(BD!B:B,MATCH(ROW()-8,calc!F:F,0)),\"\")","v":""},{"$f":"IF(A1533=\"\",\"\",VLOOKUP(A1533,BD!B:C,2,0))","v":""}]
[{"$f":"IF(ROW()-8<=MAX(calc!F:F),INDEX(BD!B:B,MATCH(ROW()-8,calc!F:F,0)),\"\")","v":""},{"$f":"IF(A1534=\"\",\"\",VLOOKUP(A1534,BD!B:C,2,0))","v":""}]
[{"$f":"IF(ROW()-8<=MAX(calc!F:F),INDEX(BD!B:B,MATCH(ROW()-8,calc!F:F,0)),\"\")","v":""},{"$f":"IF(A1535=\"\",\"\",VLOOKUP(A1535,BD!B:C,2,0))","v":""}]
[{"$f":"IF(ROW()-8<=MAX(calc!F:F),INDEX(BD!B:B,MATCH(ROW()-8,calc!F:F,0)),\"\")","v":""},{"$f":"IF(A1536=\"\",\"\",VLOOKUP(A1536,BD!B:C,2,0))","v":""}]
[{"$f":"IF(ROW()-8<=MAX(calc!F:F),INDEX(BD!B:B,MATCH(ROW()-8,calc!F:F,0)),\"\")","v":""},{"$f":"IF(A1537=\"\",\"\",VLOOKUP(A1537,BD!B:C,2,0))","v":""}]
[{"$f":"IF(ROW()-8<=MAX(calc!F:F),INDEX(BD!B:B,MATCH(ROW()-8,calc!F:F,0)),\"\")","v":""},{"$f":"IF(A1538=\"\",\"\",VLOOKUP(A1538,BD!B:C,2,0))","v":""}]
[{"$f":"IF(ROW()-8<=MAX(calc!F:F),INDEX(BD!B:B,MATCH(ROW()-8,calc!F:F,0)),\"\")","v":""},{"$f":"IF(A1539=\"\",\"\",VLOOKUP(A1539,BD!B:C,2,0))","v":""}]
[{"$f":"IF(ROW()-8<=MAX(calc!F:F),INDEX(BD!B:B,MATCH(ROW()-8,calc!F:F,0)),\"\")","v":""},{"$f":"IF(A1540=\"\",\"\",VLOOKUP(A1540,BD!B:C,2,0))","v":""}]
[{"$f":"IF(ROW()-8<=MAX(calc!F:F),INDEX(BD!B:B,MATCH(ROW()-8,calc!F:F,0)),\"\")","v":""},{"$f":"IF(A1541=\"\",\"\",VLOOKUP(A1541,BD!B:C,2,0))","v":""}]
[{"$f":"IF(ROW()-8<=MAX(calc!F:F),INDEX(BD!B:B,MATCH(ROW()-8,calc!F:F,0)),\"\")","v":""},{"$f":"IF(A1542=\"\",\"\",VLOOKUP(A1542,BD!B:C,2,0))","v":""}]
[{"$f":"IF(ROW()-8<=MAX(calc!F:F),INDEX(BD!B:B,MATCH(ROW()-8,calc!F:F,0)),\"\")","v":""},{"$f":"IF(A1543=\"\",\"\",VLOOKUP(A1543,BD!B:C,2,0))","v":""}]
[{"$f":"IF(ROW()-8<=MAX(calc!F:F),INDEX(BD!B:B,MATCH(ROW()-8,calc!F:F,0)),\"\")","v":""},{"$f":"IF(A1544=\"\",\"\",VLOOKUP(A1544,BD!B:C,2,0))","v":""}]
[{"$f":"IF(ROW()-8<=MAX(calc!F:F),INDEX(BD!B:B,MATCH(ROW()-8,calc!F:F,0)),\"\")","v":""},{"$f":"IF(A1545=\"\",\"\",VLOOKUP(A1545,BD!B:C,2,0))","v":""}]
[{"$f":"IF(ROW()-8<=MAX(calc!F:F),INDEX(BD!B:B,MATCH(ROW()-8,calc!F:F,0)),\"\")","v":""},{"$f":"IF(A1546=\"\",\"\",VLOOKUP(A1546,BD!B:C,2,0))","v":""}]
[{"$f":"IF(ROW()-8<=MAX(calc!F:F),INDEX(BD!B:B,MATCH(ROW()-8,calc!F:F,0)),\"\")","v":""},{"$f":"IF(A1547=\"\",\"\",VLOOKUP(A1547,BD!B:C,2,0))","v":""}]
[{"$f":"IF(ROW()-8<=MAX(calc!F:F),INDEX(BD!B:B,MATCH(ROW()-8,calc!F:F,0)),\"\")","v":""},{"$f":"IF(A1548=\"\",\"\",VLOOKUP(A1548,BD!B:C,2,0))","v":""}]
[{"$f":"IF(ROW()-8<=MAX(calc!F:F),INDEX(BD!B:B,MATCH(ROW()-8,calc!F:F,0)),\"\")","v":""},{"$f":"IF(A1549=\"\",\"\",VLOOKUP(A1549,BD!B:C,2,0))","v":""}]
[{"$f":"IF(ROW()-8<=MAX(calc!F:F),INDEX(BD!B:B,MATCH(ROW()-8,calc!F:F,0)),\"\")","v":""},{"$f":"IF(A1550=\"\",\"\",VLOOKUP(A1550,BD!B:C,2,0))","v":""}]
[{"$f":"IF(ROW()-8<=MAX(calc!F:F),INDEX(BD!B:B,MATCH(ROW()-8,calc!F:F,0)),\"\")","v":""},{"$f":"IF(A1551=\"\",\"\",VLOOKUP(A1551,BD!B:C,2,0))","v":""}]
[{"$f":"IF(ROW()-8<=MAX(calc!F:F),INDEX(BD!B:B,MATCH(ROW()-8,calc!F:F,0)),\"\")","v":""},{"$f":"IF(A1552=\"\",\"\",VLOOKUP(A1552,BD!B:C,2,0))","v":""}]
[{"$f":"IF(ROW()-8<=MAX(calc!F:F),INDEX(BD!B:B,MATCH(ROW()-8,calc!F:F,0)),\"\")","v":""},{"$f":"IF(A1553=\"\",\"\",VLOOKUP(A1553,BD!B:C,2,0))","v":""}]
[{"$f":"IF(ROW()-8<=MAX(calc!F:F),INDEX(BD!B:B,MATCH(ROW()-8,calc!F:F,0)),\"\")","v":""},{"$f":"IF(A1554=\"\",\"\",VLOOKUP(A1554,BD!B:C,2,0))","v":""}]
[{"$f":"IF(ROW()-8<=MAX(calc!F:F),INDEX(BD!B:B,MATCH(ROW()-8,calc!F:F,0)),\"\")","v":""},{"$f":"IF(A1555=\"\",\"\",VLOOKUP(A1555,BD!B:C,2,0))","v":""}]
[{"$f":"IF(ROW()-8<=MAX(calc!F:F),INDEX(BD!B:B,MATCH(ROW()-8,calc!F:F,0)),\"\")","v":""},{"$f":"IF(A1556=\"\",\"\",VLOOKUP(A1556,BD!B:C,2,0))","v":""}]
[{"$f":"IF(ROW()-8<=MAX(calc!F:F),INDEX(BD!B:B,MATCH(ROW()-8,calc!F:F,0)),\"\")","v":""},{"$f":"IF(A1557=\"\",\"\",VLOOKUP(A1557,BD!B:C,2,0))","v":""}]
[{"$f":"IF(ROW()-8<=MAX(calc!F:F),INDEX(BD!B:B,MATCH(ROW()-8,calc!F:F,0)),\"\")","v":""},{"$f":"IF(A1558=\"\",\"\",VLOOKUP(A1558,BD!B:C,2,0))","v":""}]
[{"$f":"IF(ROW()-8<=MAX(calc!F:F),INDEX(BD!B:B,MATCH(ROW()-8,calc!F:F,0)),\"\")","v":""},{"$f":"IF(A1559=\"\",\"\",VLOOKUP(A1559,BD!B:C,2,0))","v":""}]
[{"$f":"IF(ROW()-8<=MAX(calc!F:F),INDEX(BD!B:B,MATCH(ROW()-8,calc!F:F,0)),\"\")","v":""},{"$f":"IF(A1560=\"\",\"\",VLOOKUP(A1560,BD!B:C,2,0))","v":""}]
[{"$f":"IF(ROW()-8<=MAX(calc!F:F),INDEX(BD!B:B,MATCH(ROW()-8,calc!F:F,0)),\"\")","v":""},{"$f":"IF(A1561=\"\",\"\",VLOOKUP(A1561,BD!B:C,2,0))","v":""}]
[{"$f":"IF(ROW()-8<=MAX(calc!F:F),INDEX(BD!B:B,MATCH(ROW()-8,calc!F:F,0)),\"\")","v":""},{"$f":"IF(A1562=\"\",\"\",VLOOKUP(A1562,BD!B:C,2,0))","v":""}]
[{"$f":"IF(ROW()-8<=MAX(calc!F:F),INDEX(BD!B:B,MATCH(ROW()-8,calc!F:F,0)),\"\")","v":""},{"$f":"IF(A1563=\"\",\"\",VLOOKUP(A1563,BD!B:C,2,0))","v":""}]
[{"$f":"IF(ROW()-8<=MAX(calc!F:F),INDEX(BD!B:B,MATCH(ROW()-8,calc!F:F,0)),\"\")","v":""},{"$f":"IF(A1564=\"\",\"\",VLOOKUP(A1564,BD!B:C,2,0))","v":""}]
[{"$f":"IF(ROW()-8<=MAX(calc!F:F),INDEX(BD!B:B,MATCH(ROW()-8,calc!F:F,0)),\"\")","v":""},{"$f":"IF(A1565=\"\",\"\",VLOOKUP(A1565,BD!B:C,2,0))","v":""}]
[{"$f":"IF(ROW()-8<=MAX(calc!F:F),INDEX(BD!B:B,MATCH(ROW()-8,calc!F:F,0)),\"\")","v":""},{"$f":"IF(A1566=\"\",\"\",VLOOKUP(A1566,BD!B:C,2,0))","v":""}]
[{"$f":"IF(ROW()-8<=MAX(calc!F:F),INDEX(BD!B:B,MATCH(ROW()-8,calc!F:F,0)),\"\")","v":""},{"$f":"IF(A1567=\"\",\"\",VLOOKUP(A1567,BD!B:C,2,0))","v":""}]
[{"$f":"IF(ROW()-8<=MAX(calc!F:F),INDEX(BD!B:B,MATCH(ROW()-8,calc!F:F,0)),\"\")","v":""},{"$f":"IF(A1568=\"\",\"\",VLOOKUP(A1568,BD!B:C,2,0))","v":""}]
[{"$f":"IF(ROW()-8<=MAX(calc!F:F),INDEX(BD!B:B,MATCH(ROW()-8,calc!F:F,0)),\"\")","v":""},{"$f":"IF(A1569=\"\",\"\",VLOOKUP(A1569,BD!B:C,2,0))","v":""}]
[{"$f":"IF(ROW()-8<=MAX(calc!F:F),INDEX(BD!B:B,MATCH(ROW()-8,calc!F:F,0)),\"\")","v":""},{"$f":"IF(A1570=\"\",\"\",VLOOKUP(A1570,BD!B:C,2,0))","v":""}]
[{"$f":"IF(ROW()-8<=MAX(calc!F:F),INDEX(BD!B:B,MATCH(ROW()-8,calc!F:F,0)),\"\")","v":""},{"$f":"IF(A1571=\"\",\"\",VLOOKUP(A1571,BD!B:C,2,0))","v":""}]
[{"$f":"IF(ROW()-8<=MAX(calc!F:F),INDEX(BD!B:B,MATCH(ROW()-8,calc!F:F,0)),\"\")","v":""},{"$f":"IF(A1572=\"\",\"\",VLOOKUP(A1572,BD!B:C,2,0))","v":""}]
[{"$f":"IF(ROW()-8<=MAX(calc!F:F),INDEX(BD!B:B,MATCH(ROW()-8,calc!F:F,0)),\"\")","v":""},{"$f":"IF(A1573=\"\",\"\",VLOOKUP(A1573,BD!B:C,2,0))","v":""}]
[{"$f":"IF(ROW()-8<=MAX(calc!F:F),INDEX(BD!B:B,MATCH(ROW()-8,calc!F:F,0)),\"\")","v":""},{"$f":"IF(A1574=\"\",\"\",VLOOKUP(A1574,BD!B:C,2,0))","v":""}]
[{"$f":"IF(ROW()-8<=MAX(calc!F:F),INDEX(BD!B:B,MATCH(ROW()-8,calc!F:F,0)),\"\")","v":""},{"$f":"IF(A1575=\"\",\"\",VLOOKUP(A1575,BD!B:C,2,0))","v":""}]
[{"$f":"IF(ROW()-8<=MAX(calc!F:F),INDEX(BD!B:B,MATCH(ROW()-8,calc!F:F,0)),\"\")","v":""},{"$f":"IF(A1576=\"\",\"\",VLOOKUP(A1576,BD!B:C,2,0))","v":""}]
[{"$f":"IF(ROW()-8<=MAX(calc!F:F),INDEX(BD!B:B,MATCH(ROW()-8,calc!F:F,0)),\"\")","v":""},{"$f":"IF(A1577=\"\",\"\",VLOOKUP(A1577,BD!B:C,2,0))","v":""}]
[{"$f":"IF(ROW()-8<=MAX(calc!F:F),INDEX(BD!B:B,MATCH(ROW()-8,calc!F:F,0)),\"\")","v":""},{"$f":"IF(A1578=\"\",\"\",VLOOKUP(A1578,BD!B:C,2,0))","v":""}]
[{"$f":"IF(ROW()-8<=MAX(calc!F:F),INDEX(BD!B:B,MATCH(ROW()-8,calc!F:F,0)),\"\")","v":""},{"$f":"IF(A1579=\"\",\"\",VLOOKUP(A1579,BD!B:C,2,0))","v":""}]
[{"$f":"IF(ROW()-8<=MAX(calc!F:F),INDEX(BD!B:B,MATCH(ROW()-8,calc!F:F,0)),\"\")","v":""},{"$f":"IF(A1580=\"\",\"\",VLOOKUP(A1580,BD!B:C,2,0))","v":""}]
[{"$f":"IF(ROW()-8<=MAX(calc!F:F),INDEX(BD!B:B,MATCH(ROW()-8,calc!F:F,0)),\"\")","v":""},{"$f":"IF(A1581=\"\",\"\",VLOOKUP(A1581,BD!B:C,2,0))","v":""}]
[{"$f":"IF(ROW()-8<=MAX(calc!F:F),INDEX(BD!B:B,MATCH(ROW()-8,calc!F:F,0)),\"\")","v":""},{"$f":"IF(A1582=\"\",\"\",VLOOKUP(A1582,BD!B:C,2,0))","v":""}]
[{"$f":"IF(ROW()-8<=MAX(calc!F:F),INDEX(BD!B:B,MATCH(ROW()-8,calc!F:F,0)),\"\")","v":""},{"$f":"IF(A1583=\"\",\"\",VLOOKUP(A1583,BD!B:C,2,0))","v":""}]
[{"$f":"IF(ROW()-8<=MAX(calc!F:F),INDEX(BD!B:B,MATCH(ROW()-8,calc!F:F,0)),\"\")","v":""},{"$f":"IF(A1584=\"\",\"\",VLOOKUP(A1584,BD!B:C,2,0))","v":""}]
[{"$f":"IF(ROW()-8<=MAX(calc!F:F),INDEX(BD!B:B,MATCH(ROW()-8,calc!F:F,0)),\"\")","v":""},{"$f":"IF(A1585=\"\",\"\",VLOOKUP(A1585,BD!B:C,2,0))","v":""}]
[{"$f":"IF(ROW()-8<=MAX(calc!F:F),INDEX(BD!B:B,MATCH(ROW()-8,calc!F:F,0)),\"\")","v":""},{"$f":"IF(A1586=\"\",\"\",VLOOKUP(A1586,BD!B:C,2,0))","v":""}]
[{"$f":"IF(ROW()-8<=MAX(calc!F:F),INDEX(BD!B:B,MATCH(ROW()-8,calc!F:F,0)),\"\")","v":""},{"$f":"IF(A1587=\"\",\"\",VLOOKUP(A1587,BD!B:C,2,0))","v":""}]
[{"$f":"IF(ROW()-8<=MAX(calc!F:F),INDEX(BD!B:B,MATCH(ROW()-8,calc!F:F,0)),\"\")","v":""},{"$f":"IF(A1588=\"\",\"\",VLOOKUP(A1588,BD!B:C,2,0))","v":""}]
[{"$f":"IF(ROW()-8<=MAX(calc!F:F),INDEX(BD!B:B,MATCH(ROW()-8,calc!F:F,0)),\"\")","v":""},{"$f":"IF(A1589=\"\",\"\",VLOOKUP(A1589,BD!B:C,2,0))","v":""}]
[{"$f":"IF(ROW()-8<=MAX(calc!F:F),INDEX(BD!B:B,MATCH(ROW()-8,calc!F:F,0)),\"\")","v":""},{"$f":"IF(A1590=\"\",\"\",VLOOKUP(A1590,BD!B:C,2,0))","v":""}]
[{"$f":"IF(ROW()-8<=MAX(calc!F:F),INDEX(BD!B:B,MATCH(ROW()-8,calc!F:F,0)),\"\")","v":""},{"$f":"IF(A1591=\"\",\"\",VLOOKUP(A1591,BD!B:C,2,0))","v":""}]
[{"$f":"IF(ROW()-8<=MAX(calc!F:F),INDEX(BD!B:B,MATCH(ROW()-8,calc!F:F,0)),\"\")","v":""},{"$f":"IF(A1592=\"\",\"\",VLOOKUP(A1592,BD!B:C,2,0))","v":""}]
[{"$f":"IF(ROW()-8<=MAX(calc!F:F),INDEX(BD!B:B,MATCH(ROW()-8,calc!F:F,0)),\"\")","v":""},{"$f":"IF(A1593=\"\",\"\",VLOOKUP(A1593,BD!B:C,2,0))","v":""}]
[{"$f":"IF(ROW()-8<=MAX(calc!F:F),INDEX(BD!B:B,MATCH(ROW()-8,calc!F:F,0)),\"\")","v":""},{"$f":"IF(A1594=\"\",\"\",VLOOKUP(A1594,BD!B:C,2,0))","v":""}]
[{"$f":"IF(ROW()-8<=MAX(calc!F:F),INDEX(BD!B:B,MATCH(ROW()-8,calc!F:F,0)),\"\")","v":""},{"$f":"IF(A1595=\"\",\"\",VLOOKUP(A1595,BD!B:C,2,0))","v":""}]
[{"$f":"IF(ROW()-8<=MAX(calc!F:F),INDEX(BD!B:B,MATCH(ROW()-8,calc!F:F,0)),\"\")","v":""},{"$f":"IF(A1596=\"\",\"\",VLOOKUP(A1596,BD!B:C,2,0))","v":""}]
[{"$f":"IF(ROW()-8<=MAX(calc!F:F),INDEX(BD!B:B,MATCH(ROW()-8,calc!F:F,0)),\"\")","v":""},{"$f":"IF(A1597=\"\",\"\",VLOOKUP(A1597,BD!B:C,2,0))","v":""}]
[{"$f":"IF(ROW()-8<=MAX(calc!F:F),INDEX(BD!B:B,MATCH(ROW()-8,calc!F:F,0)),\"\")","v":""},{"$f":"IF(A1598=\"\",\"\",VLOOKUP(A1598,BD!B:C,2,0))","v":""}]
[{"$f":"IF(ROW()-8<=MAX(calc!F:F),INDEX(BD!B:B,MATCH(ROW()-8,calc!F:F,0)),\"\")","v":""},{"$f":"IF(A1599=\"\",\"\",VLOOKUP(A1599,BD!B:C,2,0))","v":""}]
[{"$f":"IF(ROW()-8<=MAX(calc!F:F),INDEX(BD!B:B,MATCH(ROW()-8,calc!F:F,0)),\"\")","v":""},{"$f":"IF(A1600=\"\",\"\",VLOOKUP(A1600,BD!B:C,2,0))","v":""}]
[{"$f":"IF(ROW()-8<=MAX(calc!F:F),INDEX(BD!B:B,MATCH(ROW()-8,calc!F:F,0)),\"\")","v":""},{"$f":"IF(A1601=\"\",\"\",VLOOKUP(A1601,BD!B:C,2,0))","v":""}]
[{"$f":"IF(ROW()-8<=MAX(calc!F:F),INDEX(BD!B:B,MATCH(ROW()-8,calc!F:F,0)),\"\")","v":""},{"$f":"IF(A1602=\"\",\"\",VLOOKUP(A1602,BD!B:C,2,0))","v":""}]
[{"$f":"IF(ROW()-8<=MAX(calc!F:F),INDEX(BD!B:B,MATCH(ROW()-8,calc!F:F,0)),\"\")","v":""},{"$f":"IF(A1603=\"\",\"\",VLOOKUP(A1603,BD!B:C,2,0))","v":""}]
[{"$f":"IF(ROW()-8<=MAX(calc!F:F),INDEX(BD!B:B,MATCH(ROW()-8,calc!F:F,0)),\"\")","v":""},{"$f":"IF(A1604=\"\",\"\",VLOOKUP(A1604,BD!B:C,2,0))","v":""}]
[{"$f":"IF(ROW()-8<=MAX(calc!F:F),INDEX(BD!B:B,MATCH(ROW()-8,calc!F:F,0)),\"\")","v":""},{"$f":"IF(A1605=\"\",\"\",VLOOKUP(A1605,BD!B:C,2,0))","v":""}]
[{"$f":"IF(ROW()-8<=MAX(calc!F:F),INDEX(BD!B:B,MATCH(ROW()-8,calc!F:F,0)),\"\")","v":""},{"$f":"IF(A1606=\"\",\"\",VLOOKUP(A1606,BD!B:C,2,0))","v":""}]
[{"$f":"IF(ROW()-8<=MAX(calc!F:F),INDEX(BD!B:B,MATCH(ROW()-8,calc!F:F,0)),\"\")","v":""},{"$f":"IF(A1607=\"\",\"\",VLOOKUP(A1607,BD!B:C,2,0))","v":""}]
[{"$f":"IF(ROW()-8<=MAX(calc!F:F),INDEX(BD!B:B,MATCH(ROW()-8,calc!F:F,0)),\"\")","v":""},{"$f":"IF(A1608=\"\",\"\",VLOOKUP(A1608,BD!B:C,2,0))","v":""}]
[{"$f":"IF(ROW()-8<=MAX(calc!F:F),INDEX(BD!B:B,MATCH(ROW()-8,calc!F:F,0)),\"\")","v":""},{"$f":"IF(A1609=\"\",\"\",VLOOKUP(A1609,BD!B:C,2,0))","v":""}]
[{"$f":"IF(ROW()-8<=MAX(calc!F:F),INDEX(BD!B:B,MATCH(ROW()-8,calc!F:F,0)),\"\")","v":""},{"$f":"IF(A1610=\"\",\"\",VLOOKUP(A1610,BD!B:C,2,0))","v":""}]
[{"$f":"IF(ROW()-8<=MAX(calc!F:F),INDEX(BD!B:B,MATCH(ROW()-8,calc!F:F,0)),\"\")","v":""},{"$f":"IF(A1611=\"\",\"\",VLOOKUP(A1611,BD!B:C,2,0))","v":""}]
[{"$f":"IF(ROW()-8<=MAX(calc!F:F),INDEX(BD!B:B,MATCH(ROW()-8,calc!F:F,0)),\"\")","v":""},{"$f":"IF(A1612=\"\",\"\",VLOOKUP(A1612,BD!B:C,2,0))","v":""}]
[{"$f":"IF(ROW()-8<=MAX(calc!F:F),INDEX(BD!B:B,MATCH(ROW()-8,calc!F:F,0)),\"\")","v":""},{"$f":"IF(A1613=\"\",\"\",VLOOKUP(A1613,BD!B:C,2,0))","v":""}]
[{"$f":"IF(ROW()-8<=MAX(calc!F:F),INDEX(BD!B:B,MATCH(ROW()-8,calc!F:F,0)),\"\")","v":""},{"$f":"IF(A1614=\"\",\"\",VLOOKUP(A1614,BD!B:C,2,0))","v":""}]
[{"$f":"IF(ROW()-8<=MAX(calc!F:F),INDEX(BD!B:B,MATCH(ROW()-8,calc!F:F,0)),\"\")","v":""},{"$f":"IF(A1615=\"\",\"\",VLOOKUP(A1615,BD!B:C,2,0))","v":""}]
[{"$f":"IF(ROW()-8<=MAX(calc!F:F),INDEX(BD!B:B,MATCH(ROW()-8,calc!F:F,0)),\"\")","v":""},{"$f":"IF(A1616=\"\",\"\",VLOOKUP(A1616,BD!B:C,2,0))","v":""}]
[{"$f":"IF(ROW()-8<=MAX(calc!F:F),INDEX(BD!B:B,MATCH(ROW()-8,calc!F:F,0)),\"\")","v":""},{"$f":"IF(A1617=\"\",\"\",VLOOKUP(A1617,BD!B:C,2,0))","v":""}]
[{"$f":"IF(ROW()-8<=MAX(calc!F:F),INDEX(BD!B:B,MATCH(ROW()-8,calc!F:F,0)),\"\")","v":""},{"$f":"IF(A1618=\"\",\"\",VLOOKUP(A1618,BD!B:C,2,0))","v":""}]
[{"$f":"IF(ROW()-8<=MAX(calc!F:F),INDEX(BD!B:B,MATCH(ROW()-8,calc!F:F,0)),\"\")","v":""},{"$f":"IF(A1619=\"\",\"\",VLOOKUP(A1619,BD!B:C,2,0))","v":""}]
[{"$f":"IF(ROW()-8<=MAX(calc!F:F),INDEX(BD!B:B,MATCH(ROW()-8,calc!F:F,0)),\"\")","v":""},{"$f":"IF(A1620=\"\",\"\",VLOOKUP(A1620,BD!B:C,2,0))","v":""}]
[{"$f":"IF(ROW()-8<=MAX(calc!F:F),INDEX(BD!B:B,MATCH(ROW()-8,calc!F:F,0)),\"\")","v":""},{"$f":"IF(A1621=\"\",\"\",VLOOKUP(A1621,BD!B:C,2,0))","v":""}]
[{"$f":"IF(ROW()-8<=MAX(calc!F:F),INDEX(BD!B:B,MATCH(ROW()-8,calc!F:F,0)),\"\")","v":""},{"$f":"IF(A1622=\"\",\"\",VLOOKUP(A1622,BD!B:C,2,0))","v":""}]
[{"$f":"IF(ROW()-8<=MAX(calc!F:F),INDEX(BD!B:B,MATCH(ROW()-8,calc!F:F,0)),\"\")","v":""},{"$f":"IF(A1623=\"\",\"\",VLOOKUP(A1623,BD!B:C,2,0))","v":""}]
[{"$f":"IF(ROW()-8<=MAX(calc!F:F),INDEX(BD!B:B,MATCH(ROW()-8,calc!F:F,0)),\"\")","v":""},{"$f":"IF(A1624=\"\",\"\",VLOOKUP(A1624,BD!B:C,2,0))","v":""}]
[{"$f":"IF(ROW()-8<=MAX(calc!F:F),INDEX(BD!B:B,MATCH(ROW()-8,calc!F:F,0)),\"\")","v":""},{"$f":"IF(A1625=\"\",\"\",VLOOKUP(A1625,BD!B:C,2,0))","v":""}]
[{"$f":"IF(ROW()-8<=MAX(calc!F:F),INDEX(BD!B:B,MATCH(ROW()-8,calc!F:F,0)),\"\")","v":""},{"$f":"IF(A1626=\"\",\"\",VLOOKUP(A1626,BD!B:C,2,0))","v":""}]
[{"$f":"IF(ROW()-8<=MAX(calc!F:F),INDEX(BD!B:B,MATCH(ROW()-8,calc!F:F,0)),\"\")","v":""},{"$f":"IF(A1627=\"\",\"\",VLOOKUP(A1627,BD!B:C,2,0))","v":""}]
[{"$f":"IF(ROW()-8<=MAX(calc!F:F),INDEX(BD!B:B,MATCH(ROW()-8,calc!F:F,0)),\"\")","v":""},{"$f":"IF(A1628=\"\",\"\",VLOOKUP(A1628,BD!B:C,2,0))","v":""}]
[{"$f":"IF(ROW()-8<=MAX(calc!F:F),INDEX(BD!B:B,MATCH(ROW()-8,calc!F:F,0)),\"\")","v":""},{"$f":"IF(A1629=\"\",\"\",VLOOKUP(A1629,BD!B:C,2,0))","v":""}]
[{"$f":"IF(ROW()-8<=MAX(calc!F:F),INDEX(BD!B:B,MATCH(ROW()-8,calc!F:F,0)),\"\")","v":""},{"$f":"IF(A1630=\"\",\"\",VLOOKUP(A1630,BD!B:C,2,0))","v":""}]
[{"$f":"IF(ROW()-8<=MAX(calc!F:F),INDEX(BD!B:B,MATCH(ROW()-8,calc!F:F,0)),\"\")","v":""},{"$f":"IF(A1631=\"\",\"\",VLOOKUP(A1631,BD!B:C,2,0))","v":""}]
[{"$f":"IF(ROW()-8<=MAX(calc!F:F),INDEX(BD!B:B,MATCH(ROW()-8,calc!F:F,0)),\"\")","v":""},{"$f":"IF(A1632=\"\",\"\",VLOOKUP(A1632,BD!B:C,2,0))","v":""}]
[{"$f":"IF(ROW()-8<=MAX(calc!F:F),INDEX(BD!B:B,MATCH(ROW()-8,calc!F:F,0)),\"\")","v":""},{"$f":"IF(A1633=\"\",\"\",VLOOKUP(A1633,BD!B:C,2,0))","v":""}]
[{"$f":"IF(ROW()-8<=MAX(calc!F:F),INDEX(BD!B:B,MATCH(ROW()-8,calc!F:F,0)),\"\")","v":""},{"$f":"IF(A1634=\"\",\"\",VLOOKUP(A1634,BD!B:C,2,0))","v":""}]
[{"$f":"IF(ROW()-8<=MAX(calc!F:F),INDEX(BD!B:B,MATCH(ROW()-8,calc!F:F,0)),\"\")","v":""},{"$f":"IF(A1635=\"\",\"\",VLOOKUP(A1635,BD!B:C,2,0))","v":""}]
[{"$f":"IF(ROW()-8<=MAX(calc!F:F),INDEX(BD!B:B,MATCH(ROW()-8,calc!F:F,0)),\"\")","v":""},{"$f":"IF(A1636=\"\",\"\",VLOOKUP(A1636,BD!B:C,2,0))","v":""}]
[{"$f":"IF(ROW()-8<=MAX(calc!F:F),INDEX(BD!B:B,MATCH(ROW()-8,calc!F:F,0)),\"\")","v":""},{"$f":"IF(A1637=\"\",\"\",VLOOKUP(A1637,BD!B:C,2,0))","v":""}]
[{"$f":"IF(ROW()-8<=MAX(calc!F:F),INDEX(BD!B:B,MATCH(ROW()-8,calc!F:F,0)),\"\")","v":""},{"$f":"IF(A1638=\"\",\"\",VLOOKUP(A1638,BD!B:C,2,0))","v":""}]
[{"$f":"IF(ROW()-8<=MAX(calc!F:F),INDEX(BD!B:B,MATCH(ROW()-8,calc!F:F,0)),\"\")","v":""},{"$f":"IF(A1639=\"\",\"\",VLOOKUP(A1639,BD!B:C,2,0))","v":""}]
[{"$f":"IF(ROW()-8<=MAX(calc!F:F),INDEX(BD!B:B,MATCH(ROW()-8,calc!F:F,0)),\"\")","v":""},{"$f":"IF(A1640=\"\",\"\",VLOOKUP(A1640,BD!B:C,2,0))","v":""}]
[{"$f":"IF(ROW()-8<=MAX(calc!F:F),INDEX(BD!B:B,MATCH(ROW()-8,calc!F:F,0)),\"\")","v":""},{"$f":"IF(A1641=\"\",\"\",VLOOKUP(A1641,BD!B:C,2,0))","v":""}]
[{"$f":"IF(ROW()-8<=MAX(calc!F:F),INDEX(BD!B:B,MATCH(ROW()-8,calc!F:F,0)),\"\")","v":""},{"$f":"IF(A1642=\"\",\"\",VLOOKUP(A1642,BD!B:C,2,0))","v":""}]
[{"$f":"IF(ROW()-8<=MAX(calc!F:F),INDEX(BD!B:B,MATCH(ROW()-8,calc!F:F,0)),\"\")","v":""},{"$f":"IF(A1643=\"\",\"\",VLOOKUP(A1643,BD!B:C,2,0))","v":""}]
[{"$f":"IF(ROW()-8<=MAX(calc!F:F),INDEX(BD!B:B,MATCH(ROW()-8,calc!F:F,0)),\"\")","v":""},{"$f":"IF(A1644=\"\",\"\",VLOOKUP(A1644,BD!B:C,2,0))","v":""}]
[{"$f":"IF(ROW()-8<=MAX(calc!F:F),INDEX(BD!B:B,MATCH(ROW()-8,calc!F:F,0)),\"\")","v":""},{"$f":"IF(A1645=\"\",\"\",VLOOKUP(A1645,BD!B:C,2,0))","v":""}]
[{"$f":"IF(ROW()-8<=MAX(calc!F:F),INDEX(BD!B:B,MATCH(ROW()-8,calc!F:F,0)),\"\")","v":""},{"$f":"IF(A1646=\"\",\"\",VLOOKUP(A1646,BD!B:C,2,0))","v":""}]
[{"$f":"IF(ROW()-8<=MAX(calc!F:F),INDEX(BD!B:B,MATCH(ROW()-8,calc!F:F,0)),\"\")","v":""},{"$f":"IF(A1647=\"\",\"\",VLOOKUP(A1647,BD!B:C,2,0))","v":""}]
[{"$f":"IF(ROW()-8<=MAX(calc!F:F),INDEX(BD!B:B,MATCH(ROW()-8,calc!F:F,0)),\"\")","v":""},{"$f":"IF(A1648=\"\",\"\",VLOOKUP(A1648,BD!B:C,2,0))","v":""}]
[{"$f":"IF(ROW()-8<=MAX(calc!F:F),INDEX(BD!B:B,MATCH(ROW()-8,calc!F:F,0)),\"\")","v":""},{"$f":"IF(A1649=\"\",\"\",VLOOKUP(A1649,BD!B:C,2,0))","v":""}]
[{"$f":"IF(ROW()-8<=MAX(calc!F:F),INDEX(BD!B:B,MATCH(ROW()-8,calc!F:F,0)),\"\")","v":""},{"$f":"IF(A1650=\"\",\"\",VLOOKUP(A1650,BD!B:C,2,0))","v":""}]
[{"$f":"IF(ROW()-8<=MAX(calc!F:F),INDEX(BD!B:B,MATCH(ROW()-8,calc!F:F,0)),\"\")","v":""},{"$f":"IF(A1651=\"\",\"\",VLOOKUP(A1651,BD!B:C,2,0))","v":""}]
[{"$f":"IF(ROW()-8<=MAX(calc!F:F),INDEX(BD!B:B,MATCH(ROW()-8,calc!F:F,0)),\"\")","v":""},{"$f":"IF(A1652=\"\",\"\",VLOOKUP(A1652,BD!B:C,2,0))","v":""}]
[{"$f":"IF(ROW()-8<=MAX(calc!F:F),INDEX(BD!B:B,MATCH(ROW()-8,calc!F:F,0)),\"\")","v":""},{"$f":"IF(A1653=\"\",\"\",VLOOKUP(A1653,BD!B:C,2,0))","v":""}]
[{"$f":"IF(ROW()-8<=MAX(calc!F:F),INDEX(BD!B:B,MATCH(ROW()-8,calc!F:F,0)),\"\")","v":""},{"$f":"IF(A1654=\"\",\"\",VLOOKUP(A1654,BD!B:C,2,0))","v":""}]
[{"$f":"IF(ROW()-8<=MAX(calc!F:F),INDEX(BD!B:B,MATCH(ROW()-8,calc!F:F,0)),\"\")","v":""},{"$f":"IF(A1655=\"\",\"\",VLOOKUP(A1655,BD!B:C,2,0))","v":""}]
[{"$f":"IF(ROW()-8<=MAX(calc!F:F),INDEX(BD!B:B,MATCH(ROW()-8,calc!F:F,0)),\"\")","v":""},{"$f":"IF(A1656=\"\",\"\",VLOOKUP(A1656,BD!B:C,2,0))","v":""}]
[{"$f":"IF(ROW()-8<=MAX(calc!F:F),INDEX(BD!B:B,MATCH(ROW()-8,calc!F:F,0)),\"\")","v":""},{"$f":"IF(A1657=\"\",\"\",VLOOKUP(A1657,BD!B:C,2,0))","v":""}]
[{"$f":"IF(ROW()-8<=MAX(calc!F:F),INDEX(BD!B:B,MATCH(ROW()-8,calc!F:F,0)),\"\")","v":""},{"$f":"IF(A1658=\"\",\"\",VLOOKUP(A1658,BD!B:C,2,0))","v":""}]
[{"$f":"IF(ROW()-8<=MAX(calc!F:F),INDEX(BD!B:B,MATCH(ROW()-8,calc!F:F,0)),\"\")","v":""},{"$f":"IF(A1659=\"\",\"\",VLOOKUP(A1659,BD!B:C,2,0))","v":""}]
[{"$f":"IF(ROW()-8<=MAX(calc!F:F),INDEX(BD!B:B,MATCH(ROW()-8,calc!F:F,0)),\"\")","v":""},{"$f":"IF(A1660=\"\",\"\",VLOOKUP(A1660,BD!B:C,2,0))","v":""}]
[{"$f":"IF(ROW()-8<=MAX(calc!F:F),INDEX(BD!B:B,MATCH(ROW()-8,calc!F:F,0)),\"\")","v":""},{"$f":"IF(A1661=\"\",\"\",VLOOKUP(A1661,BD!B:C,2,0))","v":""}]
[{"$f":"IF(ROW()-8<=MAX(calc!F:F),INDEX(BD!B:B,MATCH(ROW()-8,calc!F:F,0)),\"\")","v":""},{"$f":"IF(A1662=\"\",\"\",VLOOKUP(A1662,BD!B:C,2,0))","v":""}]
[{"$f":"IF(ROW()-8<=MAX(calc!F:F),INDEX(BD!B:B,MATCH(ROW()-8,calc!F:F,0)),\"\")","v":""},{"$f":"IF(A1663=\"\",\"\",VLOOKUP(A1663,BD!B:C,2,0))","v":""}]
[{"$f":"IF(ROW()-8<=MAX(calc!F:F),INDEX(BD!B:B,MATCH(ROW()-8,calc!F:F,0)),\"\")","v":""},{"$f":"IF(A1664=\"\",\"\",VLOOKUP(A1664,BD!B:C,2,0))","v":""}]
[{"$f":"IF(ROW()-8<=MAX(calc!F:F),INDEX(BD!B:B,MATCH(ROW()-8,calc!F:F,0)),\"\")","v":""},{"$f":"IF(A1665=\"\",\"\",VLOOKUP(A1665,BD!B:C,2,0))","v":""}]
[{"$f":"IF(ROW()-8<=MAX(calc!F:F),INDEX(BD!B:B,MATCH(ROW()-8,calc!F:F,0)),\"\")","v":""},{"$f":"IF(A1666=\"\",\"\",VLOOKUP(A1666,BD!B:C,2,0))","v":""}]
[{"$f":"IF(ROW()-8<=MAX(calc!F:F),INDEX(BD!B:B,MATCH(ROW()-8,calc!F:F,0)),\"\")","v":""},{"$f":"IF(A1667=\"\",\"\",VLOOKUP(A1667,BD!B:C,2,0))","v":""}]
[{"$f":"IF(ROW()-8<=MAX(calc!F:F),INDEX(BD!B:B,MATCH(ROW()-8,calc!F:F,0)),\"\")","v":""},{"$f":"IF(A1668=\"\",\"\",VLOOKUP(A1668,BD!B:C,2,0))","v":""}]
[{"$f":"IF(ROW()-8<=MAX(calc!F:F),INDEX(BD!B:B,MATCH(ROW()-8,calc!F:F,0)),\"\")","v":""},{"$f":"IF(A1669=\"\",\"\",VLOOKUP(A1669,BD!B:C,2,0))","v":""}]
[{"$f":"IF(ROW()-8<=MAX(calc!F:F),INDEX(BD!B:B,MATCH(ROW()-8,calc!F:F,0)),\"\")","v":""},{"$f":"IF(A1670=\"\",\"\",VLOOKUP(A1670,BD!B:C,2,0))","v":""}]
[{"$f":"IF(ROW()-8<=MAX(calc!F:F),INDEX(BD!B:B,MATCH(ROW()-8,calc!F:F,0)),\"\")","v":""},{"$f":"IF(A1671=\"\",\"\",VLOOKUP(A1671,BD!B:C,2,0))","v":""}]
[{"$f":"IF(ROW()-8<=MAX(calc!F:F),INDEX(BD!B:B,MATCH(ROW()-8,calc!F:F,0)),\"\")","v":""},{"$f":"IF(A1672=\"\",\"\",VLOOKUP(A1672,BD!B:C,2,0))","v":""}]
[{"$f":"IF(ROW()-8<=MAX(calc!F:F),INDEX(BD!B:B,MATCH(ROW()-8,calc!F:F,0)),\"\")","v":""},{"$f":"IF(A1673=\"\",\"\",VLOOKUP(A1673,BD!B:C,2,0))","v":""}]
[{"$f":"IF(ROW()-8<=MAX(calc!F:F),INDEX(BD!B:B,MATCH(ROW()-8,calc!F:F,0)),\"\")","v":""},{"$f":"IF(A1674=\"\",\"\",VLOOKUP(A1674,BD!B:C,2,0))","v":""}]
[{"$f":"IF(ROW()-8<=MAX(calc!F:F),INDEX(BD!B:B,MATCH(ROW()-8,calc!F:F,0)),\"\")","v":""},{"$f":"IF(A1675=\"\",\"\",VLOOKUP(A1675,BD!B:C,2,0))","v":""}]
[{"$f":"IF(ROW()-8<=MAX(calc!F:F),INDEX(BD!B:B,MATCH(ROW()-8,calc!F:F,0)),\"\")","v":""},{"$f":"IF(A1676=\"\",\"\",VLOOKUP(A1676,BD!B:C,2,0))","v":""}]
[{"$f":"IF(ROW()-8<=MAX(calc!F:F),INDEX(BD!B:B,MATCH(ROW()-8,calc!F:F,0)),\"\")","v":""},{"$f":"IF(A1677=\"\",\"\",VLOOKUP(A1677,BD!B:C,2,0))","v":""}]
[{"$f":"IF(ROW()-8<=MAX(calc!F:F),INDEX(BD!B:B,MATCH(ROW()-8,calc!F:F,0)),\"\")","v":""},{"$f":"IF(A1678=\"\",\"\",VLOOKUP(A1678,BD!B:C,2,0))","v":""}]
[{"$f":"IF(ROW()-8<=MAX(calc!F:F),INDEX(BD!B:B,MATCH(ROW()-8,calc!F:F,0)),\"\")","v":""},{"$f":"IF(A1679=\"\",\"\",VLOOKUP(A1679,BD!B:C,2,0))","v":""}]
[{"$f":"IF(ROW()-8<=MAX(calc!F:F),INDEX(BD!B:B,MATCH(ROW()-8,calc!F:F,0)),\"\")","v":""},{"$f":"IF(A1680=\"\",\"\",VLOOKUP(A1680,BD!B:C,2,0))","v":""}]
[{"$f":"IF(ROW()-8<=MAX(calc!F:F),INDEX(BD!B:B,MATCH(ROW()-8,calc!F:F,0)),\"\")","v":""},{"$f":"IF(A1681=\"\",\"\",VLOOKUP(A1681,BD!B:C,2,0))","v":""}]
[{"$f":"IF(ROW()-8<=MAX(calc!F:F),INDEX(BD!B:B,MATCH(ROW()-8,calc!F:F,0)),\"\")","v":""},{"$f":"IF(A1682=\"\",\"\",VLOOKUP(A1682,BD!B:C,2,0))","v":""}]
[{"$f":"IF(ROW()-8<=MAX(calc!F:F),INDEX(BD!B:B,MATCH(ROW()-8,calc!F:F,0)),\"\")","v":""},{"$f":"IF(A1683=\"\",\"\",VLOOKUP(A1683,BD!B:C,2,0))","v":""}]
[{"$f":"IF(ROW()-8<=MAX(calc!F:F),INDEX(BD!B:B,MATCH(ROW()-8,calc!F:F,0)),\"\")","v":""},{"$f":"IF(A1684=\"\",\"\",VLOOKUP(A1684,BD!B:C,2,0))","v":""}]
[{"$f":"IF(ROW()-8<=MAX(calc!F:F),INDEX(BD!B:B,MATCH(ROW()-8,calc!F:F,0)),\"\")","v":""},{"$f":"IF(A1685=\"\",\"\",VLOOKUP(A1685,BD!B:C,2,0))","v":""}]
[{"$f":"IF(ROW()-8<=MAX(calc!F:F),INDEX(BD!B:B,MATCH(ROW()-8,calc!F:F,0)),\"\")","v":""},{"$f":"IF(A1686=\"\",\"\",VLOOKUP(A1686,BD!B:C,2,0))","v":""}]
[{"$f":"IF(ROW()-8<=MAX(calc!F:F),INDEX(BD!B:B,MATCH(ROW()-8,calc!F:F,0)),\"\")","v":""},{"$f":"IF(A1687=\"\",\"\",VLOOKUP(A1687,BD!B:C,2,0))","v":""}]
[{"$f":"IF(ROW()-8<=MAX(calc!F:F),INDEX(BD!B:B,MATCH(ROW()-8,calc!F:F,0)),\"\")","v":""},{"$f":"IF(A1688=\"\",\"\",VLOOKUP(A1688,BD!B:C,2,0))","v":""}]
[{"$f":"IF(ROW()-8<=MAX(calc!F:F),INDEX(BD!B:B,MATCH(ROW()-8,calc!F:F,0)),\"\")","v":""},{"$f":"IF(A1689=\"\",\"\",VLOOKUP(A1689,BD!B:C,2,0))","v":""}]
[{"$f":"IF(ROW()-8<=MAX(calc!F:F),INDEX(BD!B:B,MATCH(ROW()-8,calc!F:F,0)),\"\")","v":""},{"$f":"IF(A1690=\"\",\"\",VLOOKUP(A1690,BD!B:C,2,0))","v":""}]
[{"$f":"IF(ROW()-8<=MAX(calc!F:F),INDEX(BD!B:B,MATCH(ROW()-8,calc!F:F,0)),\"\")","v":""},{"$f":"IF(A1691=\"\",\"\",VLOOKUP(A1691,BD!B:C,2,0))","v":""}]
[{"$f":"IF(ROW()-8<=MAX(calc!F:F),INDEX(BD!B:B,MATCH(ROW()-8,calc!F:F,0)),\"\")","v":""},{"$f":"IF(A1692=\"\",\"\",VLOOKUP(A1692,BD!B:C,2,0))","v":""}]
[{"$f":"IF(ROW()-8<=MAX(calc!F:F),INDEX(BD!B:B,MATCH(ROW()-8,calc!F:F,0)),\"\")","v":""},{"$f":"IF(A1693=\"\",\"\",VLOOKUP(A1693,BD!B:C,2,0))","v":""}]
[{"$f":"IF(ROW()-8<=MAX(calc!F:F),INDEX(BD!B:B,MATCH(ROW()-8,calc!F:F,0)),\"\")","v":""},{"$f":"IF(A1694=\"\",\"\",VLOOKUP(A1694,BD!B:C,2,0))","v":""}]
[{"$f":"IF(ROW()-8<=MAX(calc!F:F),INDEX(BD!B:B,MATCH(ROW()-8,calc!F:F,0)),\"\")","v":""},{"$f":"IF(A1695=\"\",\"\",VLOOKUP(A1695,BD!B:C,2,0))","v":""}]
[{"$f":"IF(ROW()-8<=MAX(calc!F:F),INDEX(BD!B:B,MATCH(ROW()-8,calc!F:F,0)),\"\")","v":""},{"$f":"IF(A1696=\"\",\"\",VLOOKUP(A1696,BD!B:C,2,0))","v":""}]
[{"$f":"IF(ROW()-8<=MAX(calc!F:F),INDEX(BD!B:B,MATCH(ROW()-8,calc!F:F,0)),\"\")","v":""},{"$f":"IF(A1697=\"\",\"\",VLOOKUP(A1697,BD!B:C,2,0))","v":""}]
[{"$f":"IF(ROW()-8<=MAX(calc!F:F),INDEX(BD!B:B,MATCH(ROW()-8,calc!F:F,0)),\"\")","v":""},{"$f":"IF(A1698=\"\",\"\",VLOOKUP(A1698,BD!B:C,2,0))","v":""}]
[{"$f":"IF(ROW()-8<=MAX(calc!F:F),INDEX(BD!B:B,MATCH(ROW()-8,calc!F:F,0)),\"\")","v":""},{"$f":"IF(A1699=\"\",\"\",VLOOKUP(A1699,BD!B:C,2,0))","v":""}]
[{"$f":"IF(ROW()-8<=MAX(calc!F:F),INDEX(BD!B:B,MATCH(ROW()-8,calc!F:F,0)),\"\")","v":""},{"$f":"IF(A1700=\"\",\"\",VLOOKUP(A1700,BD!B:C,2,0))","v":""}]
[{"$f":"IF(ROW()-8<=MAX(calc!F:F),INDEX(BD!B:B,MATCH(ROW()-8,calc!F:F,0)),\"\")","v":""},{"$f":"IF(A1701=\"\",\"\",VLOOKUP(A1701,BD!B:C,2,0))","v":""}]
[{"$f":"IF(ROW()-8<=MAX(calc!F:F),INDEX(BD!B:B,MATCH(ROW()-8,calc!F:F,0)),\"\")","v":""},{"$f":"IF(A1702=\"\",\"\",VLOOKUP(A1702,BD!B:C,2,0))","v":""}]
[{"$f":"IF(ROW()-8<=MAX(calc!F:F),INDEX(BD!B:B,MATCH(ROW()-8,calc!F:F,0)),\"\")","v":""},{"$f":"IF(A1703=\"\",\"\",VLOOKUP(A1703,BD!B:C,2,0))","v":""}]
[{"$f":"IF(ROW()-8<=MAX(calc!F:F),INDEX(BD!B:B,MATCH(ROW()-8,calc!F:F,0)),\"\")","v":""},{"$f":"IF(A1704=\"\",\"\",VLOOKUP(A1704,BD!B:C,2,0))","v":""}]
[{"$f":"IF(ROW()-8<=MAX(calc!F:F),INDEX(BD!B:B,MATCH(ROW()-8,calc!F:F,0)),\"\")","v":""},{"$f":"IF(A1705=\"\",\"\",VLOOKUP(A1705,BD!B:C,2,0))","v":""}]
[{"$f":"IF(ROW()-8<=MAX(calc!F:F),INDEX(BD!B:B,MATCH(ROW()-8,calc!F:F,0)),\"\")","v":""},{"$f":"IF(A1706=\"\",\"\",VLOOKUP(A1706,BD!B:C,2,0))","v":""}]
[{"$f":"IF(ROW()-8<=MAX(calc!F:F),INDEX(BD!B:B,MATCH(ROW()-8,calc!F:F,0)),\"\")","v":""},{"$f":"IF(A1707=\"\",\"\",VLOOKUP(A1707,BD!B:C,2,0))","v":""}]
[{"$f":"IF(ROW()-8<=MAX(calc!F:F),INDEX(BD!B:B,MATCH(ROW()-8,calc!F:F,0)),\"\")","v":""},{"$f":"IF(A1708=\"\",\"\",VLOOKUP(A1708,BD!B:C,2,0))","v":""}]
[{"$f":"IF(ROW()-8<=MAX(calc!F:F),INDEX(BD!B:B,MATCH(ROW()-8,calc!F:F,0)),\"\")","v":""},{"$f":"IF(A1709=\"\",\"\",VLOOKUP(A1709,BD!B:C,2,0))","v":""}]
[{"$f":"IF(ROW()-8<=MAX(calc!F:F),INDEX(BD!B:B,MATCH(ROW()-8,calc!F:F,0)),\"\")","v":""},{"$f":"IF(A1710=\"\",\"\",VLOOKUP(A1710,BD!B:C,2,0))","v":""}]
[{"$f":"IF(ROW()-8<=MAX(calc!F:F),INDEX(BD!B:B,MATCH(ROW()-8,calc!F:F,0)),\"\")","v":""},{"$f":"IF(A1711=\"\",\"\",VLOOKUP(A1711,BD!B:C,2,0))","v":""}]
[{"$f":"IF(ROW()-8<=MAX(calc!F:F),INDEX(BD!B:B,MATCH(ROW()-8,calc!F:F,0)),\"\")","v":""},{"$f":"IF(A1712=\"\",\"\",VLOOKUP(A1712,BD!B:C,2,0))","v":""}]
[{"$f":"IF(ROW()-8<=MAX(calc!F:F),INDEX(BD!B:B,MATCH(ROW()-8,calc!F:F,0)),\"\")","v":""},{"$f":"IF(A1713=\"\",\"\",VLOOKUP(A1713,BD!B:C,2,0))","v":""}]
[{"$f":"IF(ROW()-8<=MAX(calc!F:F),INDEX(BD!B:B,MATCH(ROW()-8,calc!F:F,0)),\"\")","v":""},{"$f":"IF(A1714=\"\",\"\",VLOOKUP(A1714,BD!B:C,2,0))","v":""}]
[{"$f":"IF(ROW()-8<=MAX(calc!F:F),INDEX(BD!B:B,MATCH(ROW()-8,calc!F:F,0)),\"\")","v":""},{"$f":"IF(A1715=\"\",\"\",VLOOKUP(A1715,BD!B:C,2,0))","v":""}]
[{"$f":"IF(ROW()-8<=MAX(calc!F:F),INDEX(BD!B:B,MATCH(ROW()-8,calc!F:F,0)),\"\")","v":""},{"$f":"IF(A1716=\"\",\"\",VLOOKUP(A1716,BD!B:C,2,0))","v":""}]
[{"$f":"IF(ROW()-8<=MAX(calc!F:F),INDEX(BD!B:B,MATCH(ROW()-8,calc!F:F,0)),\"\")","v":""},{"$f":"IF(A1717=\"\",\"\",VLOOKUP(A1717,BD!B:C,2,0))","v":""}]
[{"$f":"IF(ROW()-8<=MAX(calc!F:F),INDEX(BD!B:B,MATCH(ROW()-8,calc!F:F,0)),\"\")","v":""},{"$f":"IF(A1718=\"\",\"\",VLOOKUP(A1718,BD!B:C,2,0))","v":""}]
[{"$f":"IF(ROW()-8<=MAX(calc!F:F),INDEX(BD!B:B,MATCH(ROW()-8,calc!F:F,0)),\"\")","v":""},{"$f":"IF(A1719=\"\",\"\",VLOOKUP(A1719,BD!B:C,2,0))","v":""}]
[{"$f":"IF(ROW()-8<=MAX(calc!F:F),INDEX(BD!B:B,MATCH(ROW()-8,calc!F:F,0)),\"\")","v":""},{"$f":"IF(A1720=\"\",\"\",VLOOKUP(A1720,BD!B:C,2,0))","v":""}]
[{"$f":"IF(ROW()-8<=MAX(calc!F:F),INDEX(BD!B:B,MATCH(ROW()-8,calc!F:F,0)),\"\")","v":""},{"$f":"IF(A1721=\"\",\"\",VLOOKUP(A1721,BD!B:C,2,0))","v":""}]
[{"$f":"IF(ROW()-8<=MAX(calc!F:F),INDEX(BD!B:B,MATCH(ROW()-8,calc!F:F,0)),\"\")","v":""},{"$f":"IF(A1722=\"\",\"\",VLOOKUP(A1722,BD!B:C,2,0))","v":""}]
[{"$f":"IF(ROW()-8<=MAX(calc!F:F),INDEX(BD!B:B,MATCH(ROW()-8,calc!F:F,0)),\"\")","v":""},{"$f":"IF(A1723=\"\",\"\",VLOOKUP(A1723,BD!B:C,2,0))","v":""}]
[{"$f":"IF(ROW()-8<=MAX(calc!F:F),INDEX(BD!B:B,MATCH(ROW()-8,calc!F:F,0)),\"\")","v":""},{"$f":"IF(A1724=\"\",\"\",VLOOKUP(A1724,BD!B:C,2,0))","v":""}]
[{"$f":"IF(ROW()-8<=MAX(calc!F:F),INDEX(BD!B:B,MATCH(ROW()-8,calc!F:F,0)),\"\")","v":""},{"$f":"IF(A1725=\"\",\"\",VLOOKUP(A1725,BD!B:C,2,0))","v":""}]
[{"$f":"IF(ROW()-8<=MAX(calc!F:F),INDEX(BD!B:B,MATCH(ROW()-8,calc!F:F,0)),\"\")","v":""},{"$f":"IF(A1726=\"\",\"\",VLOOKUP(A1726,BD!B:C,2,0))","v":""}]
[{"$f":"IF(ROW()-8<=MAX(calc!F:F),INDEX(BD!B:B,MATCH(ROW()-8,calc!F:F,0)),\"\")","v":""},{"$f":"IF(A1727=\"\",\"\",VLOOKUP(A1727,BD!B:C,2,0))","v":""}]
[{"$f":"IF(ROW()-8<=MAX(calc!F:F),INDEX(BD!B:B,MATCH(ROW()-8,calc!F:F,0)),\"\")","v":""},{"$f":"IF(A1728=\"\",\"\",VLOOKUP(A1728,BD!B:C,2,0))","v":""}]
[{"$f":"IF(ROW()-8<=MAX(calc!F:F),INDEX(BD!B:B,MATCH(ROW()-8,calc!F:F,0)),\"\")","v":""},{"$f":"IF(A1729=\"\",\"\",VLOOKUP(A1729,BD!B:C,2,0))","v":""}]
[{"$f":"IF(ROW()-8<=MAX(calc!F:F),INDEX(BD!B:B,MATCH(ROW()-8,calc!F:F,0)),\"\")","v":""},{"$f":"IF(A1730=\"\",\"\",VLOOKUP(A1730,BD!B:C,2,0))","v":""}]
[{"$f":"IF(ROW()-8<=MAX(calc!F:F),INDEX(BD!B:B,MATCH(ROW()-8,calc!F:F,0)),\"\")","v":""},{"$f":"IF(A1731=\"\",\"\",VLOOKUP(A1731,BD!B:C,2,0))","v":""}]
[{"$f":"IF(ROW()-8<=MAX(calc!F:F),INDEX(BD!B:B,MATCH(ROW()-8,calc!F:F,0)),\"\")","v":""},{"$f":"IF(A1732=\"\",\"\",VLOOKUP(A1732,BD!B:C,2,0))","v":""}]
[{"$f":"IF(ROW()-8<=MAX(calc!F:F),INDEX(BD!B:B,MATCH(ROW()-8,calc!F:F,0)),\"\")","v":""},{"$f":"IF(A1733=\"\",\"\",VLOOKUP(A1733,BD!B:C,2,0))","v":""}]
[{"$f":"IF(ROW()-8<=MAX(calc!F:F),INDEX(BD!B:B,MATCH(ROW()-8,calc!F:F,0)),\"\")","v":""},{"$f":"IF(A1734=\"\",\"\",VLOOKUP(A1734,BD!B:C,2,0))","v":""}]
[{"$f":"IF(ROW()-8<=MAX(calc!F:F),INDEX(BD!B:B,MATCH(ROW()-8,calc!F:F,0)),\"\")","v":""},{"$f":"IF(A1735=\"\",\"\",VLOOKUP(A1735,BD!B:C,2,0))","v":""}]
[{"$f":"IF(ROW()-8<=MAX(calc!F:F),INDEX(BD!B:B,MATCH(ROW()-8,calc!F:F,0)),\"\")","v":""},{"$f":"IF(A1736=\"\",\"\",VLOOKUP(A1736,BD!B:C,2,0))","v":""}]
[{"$f":"IF(ROW()-8<=MAX(calc!F:F),INDEX(BD!B:B,MATCH(ROW()-8,calc!F:F,0)),\"\")","v":""},{"$f":"IF(A1737=\"\",\"\",VLOOKUP(A1737,BD!B:C,2,0))","v":""}]
[{"$f":"IF(ROW()-8<=MAX(calc!F:F),INDEX(BD!B:B,MATCH(ROW()-8,calc!F:F,0)),\"\")","v":""},{"$f":"IF(A1738=\"\",\"\",VLOOKUP(A1738,BD!B:C,2,0))","v":""}]
[{"$f":"IF(ROW()-8<=MAX(calc!F:F),INDEX(BD!B:B,MATCH(ROW()-8,calc!F:F,0)),\"\")","v":""},{"$f":"IF(A1739=\"\",\"\",VLOOKUP(A1739,BD!B:C,2,0))","v":""}]
[{"$f":"IF(ROW()-8<=MAX(calc!F:F),INDEX(BD!B:B,MATCH(ROW()-8,calc!F:F,0)),\"\")","v":""},{"$f":"IF(A1740=\"\",\"\",VLOOKUP(A1740,BD!B:C,2,0))","v":""}]
[{"$f":"IF(ROW()-8<=MAX(calc!F:F),INDEX(BD!B:B,MATCH(ROW()-8,calc!F:F,0)),\"\")","v":""},{"$f":"IF(A1741=\"\",\"\",VLOOKUP(A1741,BD!B:C,2,0))","v":""}]
[{"$f":"IF(ROW()-8<=MAX(calc!F:F),INDEX(BD!B:B,MATCH(ROW()-8,calc!F:F,0)),\"\")","v":""},{"$f":"IF(A1742=\"\",\"\",VLOOKUP(A1742,BD!B:C,2,0))","v":""}]
[{"$f":"IF(ROW()-8<=MAX(calc!F:F),INDEX(BD!B:B,MATCH(ROW()-8,calc!F:F,0)),\"\")","v":""},{"$f":"IF(A1743=\"\",\"\",VLOOKUP(A1743,BD!B:C,2,0))","v":""}]
[{"$f":"IF(ROW()-8<=MAX(calc!F:F),INDEX(BD!B:B,MATCH(ROW()-8,calc!F:F,0)),\"\")","v":""},{"$f":"IF(A1744=\"\",\"\",VLOOKUP(A1744,BD!B:C,2,0))","v":""}]
[{"$f":"IF(ROW()-8<=MAX(calc!F:F),INDEX(BD!B:B,MATCH(ROW()-8,calc!F:F,0)),\"\")","v":""},{"$f":"IF(A1745=\"\",\"\",VLOOKUP(A1745,BD!B:C,2,0))","v":""}]
[{"$f":"IF(ROW()-8<=MAX(calc!F:F),INDEX(BD!B:B,MATCH(ROW()-8,calc!F:F,0)),\"\")","v":""},{"$f":"IF(A1746=\"\",\"\",VLOOKUP(A1746,BD!B:C,2,0))","v":""}]
[{"$f":"IF(ROW()-8<=MAX(calc!F:F),INDEX(BD!B:B,MATCH(ROW()-8,calc!F:F,0)),\"\")","v":""},{"$f":"IF(A1747=\"\",\"\",VLOOKUP(A1747,BD!B:C,2,0))","v":""}]
[{"$f":"IF(ROW()-8<=MAX(calc!F:F),INDEX(BD!B:B,MATCH(ROW()-8,calc!F:F,0)),\"\")","v":""},{"$f":"IF(A1748=\"\",\"\",VLOOKUP(A1748,BD!B:C,2,0))","v":""}]
[{"$f":"IF(ROW()-8<=MAX(calc!F:F),INDEX(BD!B:B,MATCH(ROW()-8,calc!F:F,0)),\"\")","v":""},{"$f":"IF(A1749=\"\",\"\",VLOOKUP(A1749,BD!B:C,2,0))","v":""}]
[{"$f":"IF(ROW()-8<=MAX(calc!F:F),INDEX(BD!B:B,MATCH(ROW()-8,calc!F:F,0)),\"\")","v":""},{"$f":"IF(A1750=\"\",\"\",VLOOKUP(A1750,BD!B:C,2,0))","v":""}]
[{"$f":"IF(ROW()-8<=MAX(calc!F:F),INDEX(BD!B:B,MATCH(ROW()-8,calc!F:F,0)),\"\")","v":""},{"$f":"IF(A1751=\"\",\"\",VLOOKUP(A1751,BD!B:C,2,0))","v":""}]
[{"$f":"IF(ROW()-8<=MAX(calc!F:F),INDEX(BD!B:B,MATCH(ROW()-8,calc!F:F,0)),\"\")","v":""},{"$f":"IF(A1752=\"\",\"\",VLOOKUP(A1752,BD!B:C,2,0))","v":""}]
[{"$f":"IF(ROW()-8<=MAX(calc!F:F),INDEX(BD!B:B,MATCH(ROW()-8,calc!F:F,0)),\"\")","v":""},{"$f":"IF(A1753=\"\",\"\",VLOOKUP(A1753,BD!B:C,2,0))","v":""}]
[{"$f":"IF(ROW()-8<=MAX(calc!F:F),INDEX(BD!B:B,MATCH(ROW()-8,calc!F:F,0)),\"\")","v":""},{"$f":"IF(A1754=\"\",\"\",VLOOKUP(A1754,BD!B:C,2,0))","v":""}]
[{"$f":"IF(ROW()-8<=MAX(calc!F:F),INDEX(BD!B:B,MATCH(ROW()-8,calc!F:F,0)),\"\")","v":""},{"$f":"IF(A1755=\"\",\"\",VLOOKUP(A1755,BD!B:C,2,0))","v":""}]
[{"$f":"IF(ROW()-8<=MAX(calc!F:F),INDEX(BD!B:B,MATCH(ROW()-8,calc!F:F,0)),\"\")","v":""},{"$f":"IF(A1756=\"\",\"\",VLOOKUP(A1756,BD!B:C,2,0))","v":""}]
[{"$f":"IF(ROW()-8<=MAX(calc!F:F),INDEX(BD!B:B,MATCH(ROW()-8,calc!F:F,0)),\"\")","v":""},{"$f":"IF(A1757=\"\",\"\",VLOOKUP(A1757,BD!B:C,2,0))","v":""}]
[{"$f":"IF(ROW()-8<=MAX(calc!F:F),INDEX(BD!B:B,MATCH(ROW()-8,calc!F:F,0)),\"\")","v":""},{"$f":"IF(A1758=\"\",\"\",VLOOKUP(A1758,BD!B:C,2,0))","v":""}]
[{"$f":"IF(ROW()-8<=MAX(calc!F:F),INDEX(BD!B:B,MATCH(ROW()-8,calc!F:F,0)),\"\")","v":""},{"$f":"IF(A1759=\"\",\"\",VLOOKUP(A1759,BD!B:C,2,0))","v":""}]
[{"$f":"IF(ROW()-8<=MAX(calc!F:F),INDEX(BD!B:B,MATCH(ROW()-8,calc!F:F,0)),\"\")","v":""},{"$f":"IF(A1760=\"\",\"\",VLOOKUP(A1760,BD!B:C,2,0))","v":""}]
[{"$f":"IF(ROW()-8<=MAX(calc!F:F),INDEX(BD!B:B,MATCH(ROW()-8,calc!F:F,0)),\"\")","v":""},{"$f":"IF(A1761=\"\",\"\",VLOOKUP(A1761,BD!B:C,2,0))","v":""}]
[{"$f":"IF(ROW()-8<=MAX(calc!F:F),INDEX(BD!B:B,MATCH(ROW()-8,calc!F:F,0)),\"\")","v":""},{"$f":"IF(A1762=\"\",\"\",VLOOKUP(A1762,BD!B:C,2,0))","v":""}]
[{"$f":"IF(ROW()-8<=MAX(calc!F:F),INDEX(BD!B:B,MATCH(ROW()-8,calc!F:F,0)),\"\")","v":""},{"$f":"IF(A1763=\"\",\"\",VLOOKUP(A1763,BD!B:C,2,0))","v":""}]
[{"$f":"IF(ROW()-8<=MAX(calc!F:F),INDEX(BD!B:B,MATCH(ROW()-8,calc!F:F,0)),\"\")","v":""},{"$f":"IF(A1764=\"\",\"\",VLOOKUP(A1764,BD!B:C,2,0))","v":""}]
[{"$f":"IF(ROW()-8<=MAX(calc!F:F),INDEX(BD!B:B,MATCH(ROW()-8,calc!F:F,0)),\"\")","v":""},{"$f":"IF(A1765=\"\",\"\",VLOOKUP(A1765,BD!B:C,2,0))","v":""}]
[{"$f":"IF(ROW()-8<=MAX(calc!F:F),INDEX(BD!B:B,MATCH(ROW()-8,calc!F:F,0)),\"\")","v":""},{"$f":"IF(A1766=\"\",\"\",VLOOKUP(A1766,BD!B:C,2,0))","v":""}]
[{"$f":"IF(ROW()-8<=MAX(calc!F:F),INDEX(BD!B:B,MATCH(ROW()-8,calc!F:F,0)),\"\")","v":""},{"$f":"IF(A1767=\"\",\"\",VLOOKUP(A1767,BD!B:C,2,0))","v":""}]
[{"$f":"IF(ROW()-8<=MAX(calc!F:F),INDEX(BD!B:B,MATCH(ROW()-8,calc!F:F,0)),\"\")","v":""},{"$f":"IF(A1768=\"\",\"\",VLOOKUP(A1768,BD!B:C,2,0))","v":""}]
[{"$f":"IF(ROW()-8<=MAX(calc!F:F),INDEX(BD!B:B,MATCH(ROW()-8,calc!F:F,0)),\"\")","v":""},{"$f":"IF(A1769=\"\",\"\",VLOOKUP(A1769,BD!B:C,2,0))","v":""}]
[{"$f":"IF(ROW()-8<=MAX(calc!F:F),INDEX(BD!B:B,MATCH(ROW()-8,calc!F:F,0)),\"\")","v":""},{"$f":"IF(A1770=\"\",\"\",VLOOKUP(A1770,BD!B:C,2,0))","v":""}]
[{"$f":"IF(ROW()-8<=MAX(calc!F:F),INDEX(BD!B:B,MATCH(ROW()-8,calc!F:F,0)),\"\")","v":""},{"$f":"IF(A1771=\"\",\"\",VLOOKUP(A1771,BD!B:C,2,0))","v":""}]
[{"$f":"IF(ROW()-8<=MAX(calc!F:F),INDEX(BD!B:B,MATCH(ROW()-8,calc!F:F,0)),\"\")","v":""},{"$f":"IF(A1772=\"\",\"\",VLOOKUP(A1772,BD!B:C,2,0))","v":""}]
[{"$f":"IF(ROW()-8<=MAX(calc!F:F),INDEX(BD!B:B,MATCH(ROW()-8,calc!F:F,0)),\"\")","v":""},{"$f":"IF(A1773=\"\",\"\",VLOOKUP(A1773,BD!B:C,2,0))","v":""}]
[{"$f":"IF(ROW()-8<=MAX(calc!F:F),INDEX(BD!B:B,MATCH(ROW()-8,calc!F:F,0)),\"\")","v":""},{"$f":"IF(A1774=\"\",\"\",VLOOKUP(A1774,BD!B:C,2,0))","v":""}]
[{"$f":"IF(ROW()-8<=MAX(calc!F:F),INDEX(BD!B:B,MATCH(ROW()-8,calc!F:F,0)),\"\")","v":""},{"$f":"IF(A1775=\"\",\"\",VLOOKUP(A1775,BD!B:C,2,0))","v":""}]
[{"$f":"IF(ROW()-8<=MAX(calc!F:F),INDEX(BD!B:B,MATCH(ROW()-8,calc!F:F,0)),\"\")","v":""},{"$f":"IF(A1776=\"\",\"\",VLOOKUP(A1776,BD!B:C,2,0))","v":""}]
[{"$f":"IF(ROW()-8<=MAX(calc!F:F),INDEX(BD!B:B,MATCH(ROW()-8,calc!F:F,0)),\"\")","v":""},{"$f":"IF(A1777=\"\",\"\",VLOOKUP(A1777,BD!B:C,2,0))","v":""}]
[{"$f":"IF(ROW()-8<=MAX(calc!F:F),INDEX(BD!B:B,MATCH(ROW()-8,calc!F:F,0)),\"\")","v":""},{"$f":"IF(A1778=\"\",\"\",VLOOKUP(A1778,BD!B:C,2,0))","v":""}]
[{"$f":"IF(ROW()-8<=MAX(calc!F:F),INDEX(BD!B:B,MATCH(ROW()-8,calc!F:F,0)),\"\")","v":""},{"$f":"IF(A1779=\"\",\"\",VLOOKUP(A1779,BD!B:C,2,0))","v":""}]
[{"$f":"IF(ROW()-8<=MAX(calc!F:F),INDEX(BD!B:B,MATCH(ROW()-8,calc!F:F,0)),\"\")","v":""},{"$f":"IF(A1780=\"\",\"\",VLOOKUP(A1780,BD!B:C,2,0))","v":""}]
[{"$f":"IF(ROW()-8<=MAX(calc!F:F),INDEX(BD!B:B,MATCH(ROW()-8,calc!F:F,0)),\"\")","v":""},{"$f":"IF(A1781=\"\",\"\",VLOOKUP(A1781,BD!B:C,2,0))","v":""}]
[{"$f":"IF(ROW()-8<=MAX(calc!F:F),INDEX(BD!B:B,MATCH(ROW()-8,calc!F:F,0)),\"\")","v":""},{"$f":"IF(A1782=\"\",\"\",VLOOKUP(A1782,BD!B:C,2,0))","v":""}]
[{"$f":"IF(ROW()-8<=MAX(calc!F:F),INDEX(BD!B:B,MATCH(ROW()-8,calc!F:F,0)),\"\")","v":""},{"$f":"IF(A1783=\"\",\"\",VLOOKUP(A1783,BD!B:C,2,0))","v":""}]
[{"$f":"IF(ROW()-8<=MAX(calc!F:F),INDEX(BD!B:B,MATCH(ROW()-8,calc!F:F,0)),\"\")","v":""},{"$f":"IF(A1784=\"\",\"\",VLOOKUP(A1784,BD!B:C,2,0))","v":""}]
[{"$f":"IF(ROW()-8<=MAX(calc!F:F),INDEX(BD!B:B,MATCH(ROW()-8,calc!F:F,0)),\"\")","v":""},{"$f":"IF(A1785=\"\",\"\",VLOOKUP(A1785,BD!B:C,2,0))","v":""}]
[{"$f":"IF(ROW()-8<=MAX(calc!F:F),INDEX(BD!B:B,MATCH(ROW()-8,calc!F:F,0)),\"\")","v":""},{"$f":"IF(A1786=\"\",\"\",VLOOKUP(A1786,BD!B:C,2,0))","v":""}]
[{"$f":"IF(ROW()-8<=MAX(calc!F:F),INDEX(BD!B:B,MATCH(ROW()-8,calc!F:F,0)),\"\")","v":""},{"$f":"IF(A1787=\"\",\"\",VLOOKUP(A1787,BD!B:C,2,0))","v":""}]
[{"$f":"IF(ROW()-8<=MAX(calc!F:F),INDEX(BD!B:B,MATCH(ROW()-8,calc!F:F,0)),\"\")","v":""},{"$f":"IF(A1788=\"\",\"\",VLOOKUP(A1788,BD!B:C,2,0))","v":""}]
[{"$f":"IF(ROW()-8<=MAX(calc!F:F),INDEX(BD!B:B,MATCH(ROW()-8,calc!F:F,0)),\"\")","v":""},{"$f":"IF(A1789=\"\",\"\",VLOOKUP(A1789,BD!B:C,2,0))","v":""}]
[{"$f":"IF(ROW()-8<=MAX(calc!F:F),INDEX(BD!B:B,MATCH(ROW()-8,calc!F:F,0)),\"\")","v":""},{"$f":"IF(A1790=\"\",\"\",VLOOKUP(A1790,BD!B:C,2,0))","v":""}]
[{"$f":"IF(ROW()-8<=MAX(calc!F:F),INDEX(BD!B:B,MATCH(ROW()-8,calc!F:F,0)),\"\")","v":""},{"$f":"IF(A1791=\"\",\"\",VLOOKUP(A1791,BD!B:C,2,0))","v":""}]
[{"$f":"IF(ROW()-8<=MAX(calc!F:F),INDEX(BD!B:B,MATCH(ROW()-8,calc!F:F,0)),\"\")","v":""},{"$f":"IF(A1792=\"\",\"\",VLOOKUP(A1792,BD!B:C,2,0))","v":""}]
[{"$f":"IF(ROW()-8<=MAX(calc!F:F),INDEX(BD!B:B,MATCH(ROW()-8,calc!F:F,0)),\"\")","v":""},{"$f":"IF(A1793=\"\",\"\",VLOOKUP(A1793,BD!B:C,2,0))","v":""}]
[{"$f":"IF(ROW()-8<=MAX(calc!F:F),INDEX(BD!B:B,MATCH(ROW()-8,calc!F:F,0)),\"\")","v":""},{"$f":"IF(A1794=\"\",\"\",VLOOKUP(A1794,BD!B:C,2,0))","v":""}]
[{"$f":"IF(ROW()-8<=MAX(calc!F:F),INDEX(BD!B:B,MATCH(ROW()-8,calc!F:F,0)),\"\")","v":""},{"$f":"IF(A1795=\"\",\"\",VLOOKUP(A1795,BD!B:C,2,0))","v":""}]
[{"$f":"IF(ROW()-8<=MAX(calc!F:F),INDEX(BD!B:B,MATCH(ROW()-8,calc!F:F,0)),\"\")","v":""},{"$f":"IF(A1796=\"\",\"\",VLOOKUP(A1796,BD!B:C,2,0))","v":""}]
[{"$f":"IF(ROW()-8<=MAX(calc!F:F),INDEX(BD!B:B,MATCH(ROW()-8,calc!F:F,0)),\"\")","v":""},{"$f":"IF(A1797=\"\",\"\",VLOOKUP(A1797,BD!B:C,2,0))","v":""}]
[{"$f":"IF(ROW()-8<=MAX(calc!F:F),INDEX(BD!B:B,MATCH(ROW()-8,calc!F:F,0)),\"\")","v":""},{"$f":"IF(A1798=\"\",\"\",VLOOKUP(A1798,BD!B:C,2,0))","v":""}]
[{"$f":"IF(ROW()-8<=MAX(calc!F:F),INDEX(BD!B:B,MATCH(ROW()-8,calc!F:F,0)),\"\")","v":""},{"$f":"IF(A1799=\"\",\"\",VLOOKUP(A1799,BD!B:C,2,0))","v":""}]
[{"$f":"IF(ROW()-8<=MAX(calc!F:F),INDEX(BD!B:B,MATCH(ROW()-8,calc!F:F,0)),\"\")","v":""},{"$f":"IF(A1800=\"\",\"\",VLOOKUP(A1800,BD!B:C,2,0))","v":""}]
[{"$f":"IF(ROW()-8<=MAX(calc!F:F),INDEX(BD!B:B,MATCH(ROW()-8,calc!F:F,0)),\"\")","v":""},{"$f":"IF(A1801=\"\",\"\",VLOOKUP(A1801,BD!B:C,2,0))","v":""}]
[{"$f":"IF(ROW()-8<=MAX(calc!F:F),INDEX(BD!B:B,MATCH(ROW()-8,calc!F:F,0)),\"\")","v":""},{"$f":"IF(A1802=\"\",\"\",VLOOKUP(A1802,BD!B:C,2,0))","v":""}]
[{"$f":"IF(ROW()-8<=MAX(calc!F:F),INDEX(BD!B:B,MATCH(ROW()-8,calc!F:F,0)),\"\")","v":""},{"$f":"IF(A1803=\"\",\"\",VLOOKUP(A1803,BD!B:C,2,0))","v":""}]
[{"$f":"IF(ROW()-8<=MAX(calc!F:F),INDEX(BD!B:B,MATCH(ROW()-8,calc!F:F,0)),\"\")","v":""},{"$f":"IF(A1804=\"\",\"\",VLOOKUP(A1804,BD!B:C,2,0))","v":""}]
[{"$f":"IF(ROW()-8<=MAX(calc!F:F),INDEX(BD!B:B,MATCH(ROW()-8,calc!F:F,0)),\"\")","v":""},{"$f":"IF(A1805=\"\",\"\",VLOOKUP(A1805,BD!B:C,2,0))","v":""}]
[{"$f":"IF(ROW()-8<=MAX(calc!F:F),INDEX(BD!B:B,MATCH(ROW()-8,calc!F:F,0)),\"\")","v":""},{"$f":"IF(A1806=\"\",\"\",VLOOKUP(A1806,BD!B:C,2,0))","v":""}]
[{"$f":"IF(ROW()-8<=MAX(calc!F:F),INDEX(BD!B:B,MATCH(ROW()-8,calc!F:F,0)),\"\")","v":""},{"$f":"IF(A1807=\"\",\"\",VLOOKUP(A1807,BD!B:C,2,0))","v":""}]
[{"$f":"IF(ROW()-8<=MAX(calc!F:F),INDEX(BD!B:B,MATCH(ROW()-8,calc!F:F,0)),\"\")","v":""},{"$f":"IF(A1808=\"\",\"\",VLOOKUP(A1808,BD!B:C,2,0))","v":""}]
[{"$f":"IF(ROW()-8<=MAX(calc!F:F),INDEX(BD!B:B,MATCH(ROW()-8,calc!F:F,0)),\"\")","v":""},{"$f":"IF(A1809=\"\",\"\",VLOOKUP(A1809,BD!B:C,2,0))","v":""}]
[{"$f":"IF(ROW()-8<=MAX(calc!F:F),INDEX(BD!B:B,MATCH(ROW()-8,calc!F:F,0)),\"\")","v":""},{"$f":"IF(A1810=\"\",\"\",VLOOKUP(A1810,BD!B:C,2,0))","v":""}]
[{"$f":"IF(ROW()-8<=MAX(calc!F:F),INDEX(BD!B:B,MATCH(ROW()-8,calc!F:F,0)),\"\")","v":""},{"$f":"IF(A1811=\"\",\"\",VLOOKUP(A1811,BD!B:C,2,0))","v":""}]
[{"$f":"IF(ROW()-8<=MAX(calc!F:F),INDEX(BD!B:B,MATCH(ROW()-8,calc!F:F,0)),\"\")","v":""},{"$f":"IF(A1812=\"\",\"\",VLOOKUP(A1812,BD!B:C,2,0))","v":""}]
[{"$f":"IF(ROW()-8<=MAX(calc!F:F),INDEX(BD!B:B,MATCH(ROW()-8,calc!F:F,0)),\"\")","v":""},{"$f":"IF(A1813=\"\",\"\",VLOOKUP(A1813,BD!B:C,2,0))","v":""}]
[{"$f":"IF(ROW()-8<=MAX(calc!F:F),INDEX(BD!B:B,MATCH(ROW()-8,calc!F:F,0)),\"\")","v":""},{"$f":"IF(A1814=\"\",\"\",VLOOKUP(A1814,BD!B:C,2,0))","v":""}]
[{"$f":"IF(ROW()-8<=MAX(calc!F:F),INDEX(BD!B:B,MATCH(ROW()-8,calc!F:F,0)),\"\")","v":""},{"$f":"IF(A1815=\"\",\"\",VLOOKUP(A1815,BD!B:C,2,0))","v":""}]
[{"$f":"IF(ROW()-8<=MAX(calc!F:F),INDEX(BD!B:B,MATCH(ROW()-8,calc!F:F,0)),\"\")","v":""},{"$f":"IF(A1816=\"\",\"\",VLOOKUP(A1816,BD!B:C,2,0))","v":""}]
[{"$f":"IF(ROW()-8<=MAX(calc!F:F),INDEX(BD!B:B,MATCH(ROW()-8,calc!F:F,0)),\"\")","v":""},{"$f":"IF(A1817=\"\",\"\",VLOOKUP(A1817,BD!B:C,2,0))","v":""}]
[{"$f":"IF(ROW()-8<=MAX(calc!F:F),INDEX(BD!B:B,MATCH(ROW()-8,calc!F:F,0)),\"\")","v":""},{"$f":"IF(A1818=\"\",\"\",VLOOKUP(A1818,BD!B:C,2,0))","v":""}]
[{"$f":"IF(ROW()-8<=MAX(calc!F:F),INDEX(BD!B:B,MATCH(ROW()-8,calc!F:F,0)),\"\")","v":""},{"$f":"IF(A1819=\"\",\"\",VLOOKUP(A1819,BD!B:C,2,0))","v":""}]
[{"$f":"IF(ROW()-8<=MAX(calc!F:F),INDEX(BD!B:B,MATCH(ROW()-8,calc!F:F,0)),\"\")","v":""},{"$f":"IF(A1820=\"\",\"\",VLOOKUP(A1820,BD!B:C,2,0))","v":""}]
[{"$f":"IF(ROW()-8<=MAX(calc!F:F),INDEX(BD!B:B,MATCH(ROW()-8,calc!F:F,0)),\"\")","v":""},{"$f":"IF(A1821=\"\",\"\",VLOOKUP(A1821,BD!B:C,2,0))","v":""}]
[{"$f":"IF(ROW()-8<=MAX(calc!F:F),INDEX(BD!B:B,MATCH(ROW()-8,calc!F:F,0)),\"\")","v":""},{"$f":"IF(A1822=\"\",\"\",VLOOKUP(A1822,BD!B:C,2,0))","v":""}]
[{"$f":"IF(ROW()-8<=MAX(calc!F:F),INDEX(BD!B:B,MATCH(ROW()-8,calc!F:F,0)),\"\")","v":""},{"$f":"IF(A1823=\"\",\"\",VLOOKUP(A1823,BD!B:C,2,0))","v":""}]
[{"$f":"IF(ROW()-8<=MAX(calc!F:F),INDEX(BD!B:B,MATCH(ROW()-8,calc!F:F,0)),\"\")","v":""},{"$f":"IF(A1824=\"\",\"\",VLOOKUP(A1824,BD!B:C,2,0))","v":""}]
[{"$f":"IF(ROW()-8<=MAX(calc!F:F),INDEX(BD!B:B,MATCH(ROW()-8,calc!F:F,0)),\"\")","v":""},{"$f":"IF(A1825=\"\",\"\",VLOOKUP(A1825,BD!B:C,2,0))","v":""}]
[{"$f":"IF(ROW()-8<=MAX(calc!F:F),INDEX(BD!B:B,MATCH(ROW()-8,calc!F:F,0)),\"\")","v":""},{"$f":"IF(A1826=\"\",\"\",VLOOKUP(A1826,BD!B:C,2,0))","v":""}]
[{"$f":"IF(ROW()-8<=MAX(calc!F:F),INDEX(BD!B:B,MATCH(ROW()-8,calc!F:F,0)),\"\")","v":""},{"$f":"IF(A1827=\"\",\"\",VLOOKUP(A1827,BD!B:C,2,0))","v":""}]
[{"$f":"IF(ROW()-8<=MAX(calc!F:F),INDEX(BD!B:B,MATCH(ROW()-8,calc!F:F,0)),\"\")","v":""},{"$f":"IF(A1828=\"\",\"\",VLOOKUP(A1828,BD!B:C,2,0))","v":""}]
[{"$f":"IF(ROW()-8<=MAX(calc!F:F),INDEX(BD!B:B,MATCH(ROW()-8,calc!F:F,0)),\"\")","v":""},{"$f":"IF(A1829=\"\",\"\",VLOOKUP(A1829,BD!B:C,2,0))","v":""}]
[{"$f":"IF(ROW()-8<=MAX(calc!F:F),INDEX(BD!B:B,MATCH(ROW()-8,calc!F:F,0)),\"\")","v":""},{"$f":"IF(A1830=\"\",\"\",VLOOKUP(A1830,BD!B:C,2,0))","v":""}]
[{"$f":"IF(ROW()-8<=MAX(calc!F:F),INDEX(BD!B:B,MATCH(ROW()-8,calc!F:F,0)),\"\")","v":""},{"$f":"IF(A1831=\"\",\"\",VLOOKUP(A1831,BD!B:C,2,0))","v":""}]
[{"$f":"IF(ROW()-8<=MAX(calc!F:F),INDEX(BD!B:B,MATCH(ROW()-8,calc!F:F,0)),\"\")","v":""},{"$f":"IF(A1832=\"\",\"\",VLOOKUP(A1832,BD!B:C,2,0))","v":""}]
[{"$f":"IF(ROW()-8<=MAX(calc!F:F),INDEX(BD!B:B,MATCH(ROW()-8,calc!F:F,0)),\"\")","v":""},{"$f":"IF(A1833=\"\",\"\",VLOOKUP(A1833,BD!B:C,2,0))","v":""}]
[{"$f":"IF(ROW()-8<=MAX(calc!F:F),INDEX(BD!B:B,MATCH(ROW()-8,calc!F:F,0)),\"\")","v":""},{"$f":"IF(A1834=\"\",\"\",VLOOKUP(A1834,BD!B:C,2,0))","v":""}]
[{"$f":"IF(ROW()-8<=MAX(calc!F:F),INDEX(BD!B:B,MATCH(ROW()-8,calc!F:F,0)),\"\")","v":""},{"$f":"IF(A1835=\"\",\"\",VLOOKUP(A1835,BD!B:C,2,0))","v":""}]
[{"$f":"IF(ROW()-8<=MAX(calc!F:F),INDEX(BD!B:B,MATCH(ROW()-8,calc!F:F,0)),\"\")","v":""},{"$f":"IF(A1836=\"\",\"\",VLOOKUP(A1836,BD!B:C,2,0))","v":""}]
[{"$f":"IF(ROW()-8<=MAX(calc!F:F),INDEX(BD!B:B,MATCH(ROW()-8,calc!F:F,0)),\"\")","v":""},{"$f":"IF(A1837=\"\",\"\",VLOOKUP(A1837,BD!B:C,2,0))","v":""}]
[{"$f":"IF(ROW()-8<=MAX(calc!F:F),INDEX(BD!B:B,MATCH(ROW()-8,calc!F:F,0)),\"\")","v":""},{"$f":"IF(A1838=\"\",\"\",VLOOKUP(A1838,BD!B:C,2,0))","v":""}]
[{"$f":"IF(ROW()-8<=MAX(calc!F:F),INDEX(BD!B:B,MATCH(ROW()-8,calc!F:F,0)),\"\")","v":""},{"$f":"IF(A1839=\"\",\"\",VLOOKUP(A1839,BD!B:C,2,0))","v":""}]
[{"$f":"IF(ROW()-8<=MAX(calc!F:F),INDEX(BD!B:B,MATCH(ROW()-8,calc!F:F,0)),\"\")","v":""},{"$f":"IF(A1840=\"\",\"\",VLOOKUP(A1840,BD!B:C,2,0))","v":""}]
[{"$f":"IF(ROW()-8<=MAX(calc!F:F),INDEX(BD!B:B,MATCH(ROW()-8,calc!F:F,0)),\"\")","v":""},{"$f":"IF(A1841=\"\",\"\",VLOOKUP(A1841,BD!B:C,2,0))","v":""}]
[{"$f":"IF(ROW()-8<=MAX(calc!F:F),INDEX(BD!B:B,MATCH(ROW()-8,calc!F:F,0)),\"\")","v":""},{"$f":"IF(A1842=\"\",\"\",VLOOKUP(A1842,BD!B:C,2,0))","v":""}]
[{"$f":"IF(ROW()-8<=MAX(calc!F:F),INDEX(BD!B:B,MATCH(ROW()-8,calc!F:F,0)),\"\")","v":""},{"$f":"IF(A1843=\"\",\"\",VLOOKUP(A1843,BD!B:C,2,0))","v":""}]
[{"$f":"IF(ROW()-8<=MAX(calc!F:F),INDEX(BD!B:B,MATCH(ROW()-8,calc!F:F,0)),\"\")","v":""},{"$f":"IF(A1844=\"\",\"\",VLOOKUP(A1844,BD!B:C,2,0))","v":""}]
[{"$f":"IF(ROW()-8<=MAX(calc!F:F),INDEX(BD!B:B,MATCH(ROW()-8,calc!F:F,0)),\"\")","v":""},{"$f":"IF(A1845=\"\",\"\",VLOOKUP(A1845,BD!B:C,2,0))","v":""}]
[{"$f":"IF(ROW()-8<=MAX(calc!F:F),INDEX(BD!B:B,MATCH(ROW()-8,calc!F:F,0)),\"\")","v":""},{"$f":"IF(A1846=\"\",\"\",VLOOKUP(A1846,BD!B:C,2,0))","v":""}]
[{"$f":"IF(ROW()-8<=MAX(calc!F:F),INDEX(BD!B:B,MATCH(ROW()-8,calc!F:F,0)),\"\")","v":""},{"$f":"IF(A1847=\"\",\"\",VLOOKUP(A1847,BD!B:C,2,0))","v":""}]
[{"$f":"IF(ROW()-8<=MAX(calc!F:F),INDEX(BD!B:B,MATCH(ROW()-8,calc!F:F,0)),\"\")","v":""},{"$f":"IF(A1848=\"\",\"\",VLOOKUP(A1848,BD!B:C,2,0))","v":""}]
[{"$f":"IF(ROW()-8<=MAX(calc!F:F),INDEX(BD!B:B,MATCH(ROW()-8,calc!F:F,0)),\"\")","v":""},{"$f":"IF(A1849=\"\",\"\",VLOOKUP(A1849,BD!B:C,2,0))","v":""}]
[{"$f":"IF(ROW()-8<=MAX(calc!F:F),INDEX(BD!B:B,MATCH(ROW()-8,calc!F:F,0)),\"\")","v":""},{"$f":"IF(A1850=\"\",\"\",VLOOKUP(A1850,BD!B:C,2,0))","v":""}]
[{"$f":"IF(ROW()-8<=MAX(calc!F:F),INDEX(BD!B:B,MATCH(ROW()-8,calc!F:F,0)),\"\")","v":""},{"$f":"IF(A1851=\"\",\"\",VLOOKUP(A1851,BD!B:C,2,0))","v":""}]
[{"$f":"IF(ROW()-8<=MAX(calc!F:F),INDEX(BD!B:B,MATCH(ROW()-8,calc!F:F,0)),\"\")","v":""},{"$f":"IF(A1852=\"\",\"\",VLOOKUP(A1852,BD!B:C,2,0))","v":""}]
[{"$f":"IF(ROW()-8<=MAX(calc!F:F),INDEX(BD!B:B,MATCH(ROW()-8,calc!F:F,0)),\"\")","v":""},{"$f":"IF(A1853=\"\",\"\",VLOOKUP(A1853,BD!B:C,2,0))","v":""}]
[{"$f":"IF(ROW()-8<=MAX(calc!F:F),INDEX(BD!B:B,MATCH(ROW()-8,calc!F:F,0)),\"\")","v":""},{"$f":"IF(A1854=\"\",\"\",VLOOKUP(A1854,BD!B:C,2,0))","v":""}]
[{"$f":"IF(ROW()-8<=MAX(calc!F:F),INDEX(BD!B:B,MATCH(ROW()-8,calc!F:F,0)),\"\")","v":""},{"$f":"IF(A1855=\"\",\"\",VLOOKUP(A1855,BD!B:C,2,0))","v":""}]
[{"$f":"IF(ROW()-8<=MAX(calc!F:F),INDEX(BD!B:B,MATCH(ROW()-8,calc!F:F,0)),\"\")","v":""},{"$f":"IF(A1856=\"\",\"\",VLOOKUP(A1856,BD!B:C,2,0))","v":""}]
[{"$f":"IF(ROW()-8<=MAX(calc!F:F),INDEX(BD!B:B,MATCH(ROW()-8,calc!F:F,0)),\"\")","v":""},{"$f":"IF(A1857=\"\",\"\",VLOOKUP(A1857,BD!B:C,2,0))","v":""}]
[{"$f":"IF(ROW()-8<=MAX(calc!F:F),INDEX(BD!B:B,MATCH(ROW()-8,calc!F:F,0)),\"\")","v":""},{"$f":"IF(A1858=\"\",\"\",VLOOKUP(A1858,BD!B:C,2,0))","v":""}]
[{"$f":"IF(ROW()-8<=MAX(calc!F:F),INDEX(BD!B:B,MATCH(ROW()-8,calc!F:F,0)),\"\")","v":""},{"$f":"IF(A1859=\"\",\"\",VLOOKUP(A1859,BD!B:C,2,0))","v":""}]
[{"$f":"IF(ROW()-8<=MAX(calc!F:F),INDEX(BD!B:B,MATCH(ROW()-8,calc!F:F,0)),\"\")","v":""},{"$f":"IF(A1860=\"\",\"\",VLOOKUP(A1860,BD!B:C,2,0))","v":""}]
[{"$f":"IF(ROW()-8<=MAX(calc!F:F),INDEX(BD!B:B,MATCH(ROW()-8,calc!F:F,0)),\"\")","v":""},{"$f":"IF(A1861=\"\",\"\",VLOOKUP(A1861,BD!B:C,2,0))","v":""}]
[{"$f":"IF(ROW()-8<=MAX(calc!F:F),INDEX(BD!B:B,MATCH(ROW()-8,calc!F:F,0)),\"\")","v":""},{"$f":"IF(A1862=\"\",\"\",VLOOKUP(A1862,BD!B:C,2,0))","v":""}]
[{"$f":"IF(ROW()-8<=MAX(calc!F:F),INDEX(BD!B:B,MATCH(ROW()-8,calc!F:F,0)),\"\")","v":""},{"$f":"IF(A1863=\"\",\"\",VLOOKUP(A1863,BD!B:C,2,0))","v":""}]
[{"$f":"IF(ROW()-8<=MAX(calc!F:F),INDEX(BD!B:B,MATCH(ROW()-8,calc!F:F,0)),\"\")","v":""},{"$f":"IF(A1864=\"\",\"\",VLOOKUP(A1864,BD!B:C,2,0))","v":""}]
[{"$f":"IF(ROW()-8<=MAX(calc!F:F),INDEX(BD!B:B,MATCH(ROW()-8,calc!F:F,0)),\"\")","v":""},{"$f":"IF(A1865=\"\",\"\",VLOOKUP(A1865,BD!B:C,2,0))","v":""}]
[{"$f":"IF(ROW()-8<=MAX(calc!F:F),INDEX(BD!B:B,MATCH(ROW()-8,calc!F:F,0)),\"\")","v":""},{"$f":"IF(A1866=\"\",\"\",VLOOKUP(A1866,BD!B:C,2,0))","v":""}]
[{"$f":"IF(ROW()-8<=MAX(calc!F:F),INDEX(BD!B:B,MATCH(ROW()-8,calc!F:F,0)),\"\")","v":""},{"$f":"IF(A1867=\"\",\"\",VLOOKUP(A1867,BD!B:C,2,0))","v":""}]
[{"$f":"IF(ROW()-8<=MAX(calc!F:F),INDEX(BD!B:B,MATCH(ROW()-8,calc!F:F,0)),\"\")","v":""},{"$f":"IF(A1868=\"\",\"\",VLOOKUP(A1868,BD!B:C,2,0))","v":""}]
[{"$f":"IF(ROW()-8<=MAX(calc!F:F),INDEX(BD!B:B,MATCH(ROW()-8,calc!F:F,0)),\"\")","v":""},{"$f":"IF(A1869=\"\",\"\",VLOOKUP(A1869,BD!B:C,2,0))","v":""}]
[{"$f":"IF(ROW()-8<=MAX(calc!F:F),INDEX(BD!B:B,MATCH(ROW()-8,calc!F:F,0)),\"\")","v":""},{"$f":"IF(A1870=\"\",\"\",VLOOKUP(A1870,BD!B:C,2,0))","v":""}]
[{"$f":"IF(ROW()-8<=MAX(calc!F:F),INDEX(BD!B:B,MATCH(ROW()-8,calc!F:F,0)),\"\")","v":""},{"$f":"IF(A1871=\"\",\"\",VLOOKUP(A1871,BD!B:C,2,0))","v":""}]
[{"$f":"IF(ROW()-8<=MAX(calc!F:F),INDEX(BD!B:B,MATCH(ROW()-8,calc!F:F,0)),\"\")","v":""},{"$f":"IF(A1872=\"\",\"\",VLOOKUP(A1872,BD!B:C,2,0))","v":""}]
[{"$f":"IF(ROW()-8<=MAX(calc!F:F),INDEX(BD!B:B,MATCH(ROW()-8,calc!F:F,0)),\"\")","v":""},{"$f":"IF(A1873=\"\",\"\",VLOOKUP(A1873,BD!B:C,2,0))","v":""}]
[{"$f":"IF(ROW()-8<=MAX(calc!F:F),INDEX(BD!B:B,MATCH(ROW()-8,calc!F:F,0)),\"\")","v":""},{"$f":"IF(A1874=\"\",\"\",VLOOKUP(A1874,BD!B:C,2,0))","v":""}]
[{"$f":"IF(ROW()-8<=MAX(calc!F:F),INDEX(BD!B:B,MATCH(ROW()-8,calc!F:F,0)),\"\")","v":""},{"$f":"IF(A1875=\"\",\"\",VLOOKUP(A1875,BD!B:C,2,0))","v":""}]
[{"$f":"IF(ROW()-8<=MAX(calc!F:F),INDEX(BD!B:B,MATCH(ROW()-8,calc!F:F,0)),\"\")","v":""},{"$f":"IF(A1876=\"\",\"\",VLOOKUP(A1876,BD!B:C,2,0))","v":""}]
[{"$f":"IF(ROW()-8<=MAX(calc!F:F),INDEX(BD!B:B,MATCH(ROW()-8,calc!F:F,0)),\"\")","v":""},{"$f":"IF(A1877=\"\",\"\",VLOOKUP(A1877,BD!B:C,2,0))","v":""}]
[{"$f":"IF(ROW()-8<=MAX(calc!F:F),INDEX(BD!B:B,MATCH(ROW()-8,calc!F:F,0)),\"\")","v":""},{"$f":"IF(A1878=\"\",\"\",VLOOKUP(A1878,BD!B:C,2,0))","v":""}]
[{"$f":"IF(ROW()-8<=MAX(calc!F:F),INDEX(BD!B:B,MATCH(ROW()-8,calc!F:F,0)),\"\")","v":""},{"$f":"IF(A1879=\"\",\"\",VLOOKUP(A1879,BD!B:C,2,0))","v":""}]
[{"$f":"IF(ROW()-8<=MAX(calc!F:F),INDEX(BD!B:B,MATCH(ROW()-8,calc!F:F,0)),\"\")","v":""},{"$f":"IF(A1880=\"\",\"\",VLOOKUP(A1880,BD!B:C,2,0))","v":""}]
[{"$f":"IF(ROW()-8<=MAX(calc!F:F),INDEX(BD!B:B,MATCH(ROW()-8,calc!F:F,0)),\"\")","v":""},{"$f":"IF(A1881=\"\",\"\",VLOOKUP(A1881,BD!B:C,2,0))","v":""}]
[{"$f":"IF(ROW()-8<=MAX(calc!F:F),INDEX(BD!B:B,MATCH(ROW()-8,calc!F:F,0)),\"\")","v":""},{"$f":"IF(A1882=\"\",\"\",VLOOKUP(A1882,BD!B:C,2,0))","v":""}]
[{"$f":"IF(ROW()-8<=MAX(calc!F:F),INDEX(BD!B:B,MATCH(ROW()-8,calc!F:F,0)),\"\")","v":""},{"$f":"IF(A1883=\"\",\"\",VLOOKUP(A1883,BD!B:C,2,0))","v":""}]
[{"$f":"IF(ROW()-8<=MAX(calc!F:F),INDEX(BD!B:B,MATCH(ROW()-8,calc!F:F,0)),\"\")","v":""},{"$f":"IF(A1884=\"\",\"\",VLOOKUP(A1884,BD!B:C,2,0))","v":""}]
[{"$f":"IF(ROW()-8<=MAX(calc!F:F),INDEX(BD!B:B,MATCH(ROW()-8,calc!F:F,0)),\"\")","v":""},{"$f":"IF(A1885=\"\",\"\",VLOOKUP(A1885,BD!B:C,2,0))","v":""}]
[{"$f":"IF(ROW()-8<=MAX(calc!F:F),INDEX(BD!B:B,MATCH(ROW()-8,calc!F:F,0)),\"\")","v":""},{"$f":"IF(A1886=\"\",\"\",VLOOKUP(A1886,BD!B:C,2,0))","v":""}]
[{"$f":"IF(ROW()-8<=MAX(calc!F:F),INDEX(BD!B:B,MATCH(ROW()-8,calc!F:F,0)),\"\")","v":""},{"$f":"IF(A1887=\"\",\"\",VLOOKUP(A1887,BD!B:C,2,0))","v":""}]
[{"$f":"IF(ROW()-8<=MAX(calc!F:F),INDEX(BD!B:B,MATCH(ROW()-8,calc!F:F,0)),\"\")","v":""},{"$f":"IF(A1888=\"\",\"\",VLOOKUP(A1888,BD!B:C,2,0))","v":""}]
[{"$f":"IF(ROW()-8<=MAX(calc!F:F),INDEX(BD!B:B,MATCH(ROW()-8,calc!F:F,0)),\"\")","v":""},{"$f":"IF(A1889=\"\",\"\",VLOOKUP(A1889,BD!B:C,2,0))","v":""}]
[{"$f":"IF(ROW()-8<=MAX(calc!F:F),INDEX(BD!B:B,MATCH(ROW()-8,calc!F:F,0)),\"\")","v":""},{"$f":"IF(A1890=\"\",\"\",VLOOKUP(A1890,BD!B:C,2,0))","v":""}]
[{"$f":"IF(ROW()-8<=MAX(calc!F:F),INDEX(BD!B:B,MATCH(ROW()-8,calc!F:F,0)),\"\")","v":""},{"$f":"IF(A1891=\"\",\"\",VLOOKUP(A1891,BD!B:C,2,0))","v":""}]
[{"$f":"IF(ROW()-8<=MAX(calc!F:F),INDEX(BD!B:B,MATCH(ROW()-8,calc!F:F,0)),\"\")","v":""},{"$f":"IF(A1892=\"\",\"\",VLOOKUP(A1892,BD!B:C,2,0))","v":""}]
[{"$f":"IF(ROW()-8<=MAX(calc!F:F),INDEX(BD!B:B,MATCH(ROW()-8,calc!F:F,0)),\"\")","v":""},{"$f":"IF(A1893=\"\",\"\",VLOOKUP(A1893,BD!B:C,2,0))","v":""}]
[{"$f":"IF(ROW()-8<=MAX(calc!F:F),INDEX(BD!B:B,MATCH(ROW()-8,calc!F:F,0)),\"\")","v":""},{"$f":"IF(A1894=\"\",\"\",VLOOKUP(A1894,BD!B:C,2,0))","v":""}]
[{"$f":"IF(ROW()-8<=MAX(calc!F:F),INDEX(BD!B:B,MATCH(ROW()-8,calc!F:F,0)),\"\")","v":""},{"$f":"IF(A1895=\"\",\"\",VLOOKUP(A1895,BD!B:C,2,0))","v":""}]
[{"$f":"IF(ROW()-8<=MAX(calc!F:F),INDEX(BD!B:B,MATCH(ROW()-8,calc!F:F,0)),\"\")","v":""},{"$f":"IF(A1896=\"\",\"\",VLOOKUP(A1896,BD!B:C,2,0))","v":""}]
[{"$f":"IF(ROW()-8<=MAX(calc!F:F),INDEX(BD!B:B,MATCH(ROW()-8,calc!F:F,0)),\"\")","v":""},{"$f":"IF(A1897=\"\",\"\",VLOOKUP(A1897,BD!B:C,2,0))","v":""}]
[{"$f":"IF(ROW()-8<=MAX(calc!F:F),INDEX(BD!B:B,MATCH(ROW()-8,calc!F:F,0)),\"\")","v":""},{"$f":"IF(A1898=\"\",\"\",VLOOKUP(A1898,BD!B:C,2,0))","v":""}]
[{"$f":"IF(ROW()-8<=MAX(calc!F:F),INDEX(BD!B:B,MATCH(ROW()-8,calc!F:F,0)),\"\")","v":""},{"$f":"IF(A1899=\"\",\"\",VLOOKUP(A1899,BD!B:C,2,0))","v":""}]
[{"$f":"IF(ROW()-8<=MAX(calc!F:F),INDEX(BD!B:B,MATCH(ROW()-8,calc!F:F,0)),\"\")","v":""},{"$f":"IF(A1900=\"\",\"\",VLOOKUP(A1900,BD!B:C,2,0))","v":""}]
[{"$f":"IF(ROW()-8<=MAX(calc!F:F),INDEX(BD!B:B,MATCH(ROW()-8,calc!F:F,0)),\"\")","v":""},{"$f":"IF(A1901=\"\",\"\",VLOOKUP(A1901,BD!B:C,2,0))","v":""}]
[{"$f":"IF(ROW()-8<=MAX(calc!F:F),INDEX(BD!B:B,MATCH(ROW()-8,calc!F:F,0)),\"\")","v":""},{"$f":"IF(A1902=\"\",\"\",VLOOKUP(A1902,BD!B:C,2,0))","v":""}]
[{"$f":"IF(ROW()-8<=MAX(calc!F:F),INDEX(BD!B:B,MATCH(ROW()-8,calc!F:F,0)),\"\")","v":""},{"$f":"IF(A1903=\"\",\"\",VLOOKUP(A1903,BD!B:C,2,0))","v":""}]
[{"$f":"IF(ROW()-8<=MAX(calc!F:F),INDEX(BD!B:B,MATCH(ROW()-8,calc!F:F,0)),\"\")","v":""},{"$f":"IF(A1904=\"\",\"\",VLOOKUP(A1904,BD!B:C,2,0))","v":""}]
[{"$f":"IF(ROW()-8<=MAX(calc!F:F),INDEX(BD!B:B,MATCH(ROW()-8,calc!F:F,0)),\"\")","v":""},{"$f":"IF(A1905=\"\",\"\",VLOOKUP(A1905,BD!B:C,2,0))","v":""}]
[{"$f":"IF(ROW()-8<=MAX(calc!F:F),INDEX(BD!B:B,MATCH(ROW()-8,calc!F:F,0)),\"\")","v":""},{"$f":"IF(A1906=\"\",\"\",VLOOKUP(A1906,BD!B:C,2,0))","v":""}]
[{"$f":"IF(ROW()-8<=MAX(calc!F:F),INDEX(BD!B:B,MATCH(ROW()-8,calc!F:F,0)),\"\")","v":""},{"$f":"IF(A1907=\"\",\"\",VLOOKUP(A1907,BD!B:C,2,0))","v":""}]
[{"$f":"IF(ROW()-8<=MAX(calc!F:F),INDEX(BD!B:B,MATCH(ROW()-8,calc!F:F,0)),\"\")","v":""},{"$f":"IF(A1908=\"\",\"\",VLOOKUP(A1908,BD!B:C,2,0))","v":""}]
[{"$f":"IF(ROW()-8<=MAX(calc!F:F),INDEX(BD!B:B,MATCH(ROW()-8,calc!F:F,0)),\"\")","v":""},{"$f":"IF(A1909=\"\",\"\",VLOOKUP(A1909,BD!B:C,2,0))","v":""}]
[{"$f":"IF(ROW()-8<=MAX(calc!F:F),INDEX(BD!B:B,MATCH(ROW()-8,calc!F:F,0)),\"\")","v":""},{"$f":"IF(A1910=\"\",\"\",VLOOKUP(A1910,BD!B:C,2,0))","v":""}]
[{"$f":"IF(ROW()-8<=MAX(calc!F:F),INDEX(BD!B:B,MATCH(ROW()-8,calc!F:F,0)),\"\")","v":""},{"$f":"IF(A1911=\"\",\"\",VLOOKUP(A1911,BD!B:C,2,0))","v":""}]
[{"$f":"IF(ROW()-8<=MAX(calc!F:F),INDEX(BD!B:B,MATCH(ROW()-8,calc!F:F,0)),\"\")","v":""},{"$f":"IF(A1912=\"\",\"\",VLOOKUP(A1912,BD!B:C,2,0))","v":""}]
[{"$f":"IF(ROW()-8<=MAX(calc!F:F),INDEX(BD!B:B,MATCH(ROW()-8,calc!F:F,0)),\"\")","v":""},{"$f":"IF(A1913=\"\",\"\",VLOOKUP(A1913,BD!B:C,2,0))","v":""}]
[{"$f":"IF(ROW()-8<=MAX(calc!F:F),INDEX(BD!B:B,MATCH(ROW()-8,calc!F:F,0)),\"\")","v":""},{"$f":"IF(A1914=\"\",\"\",VLOOKUP(A1914,BD!B:C,2,0))","v":""}]
[{"$f":"IF(ROW()-8<=MAX(calc!F:F),INDEX(BD!B:B,MATCH(ROW()-8,calc!F:F,0)),\"\")","v":""},{"$f":"IF(A1915=\"\",\"\",VLOOKUP(A1915,BD!B:C,2,0))","v":""}]
[{"$f":"IF(ROW()-8<=MAX(calc!F:F),INDEX(BD!B:B,MATCH(ROW()-8,calc!F:F,0)),\"\")","v":""},{"$f":"IF(A1916=\"\",\"\",VLOOKUP(A1916,BD!B:C,2,0))","v":""}]
[{"$f":"IF(ROW()-8<=MAX(calc!F:F),INDEX(BD!B:B,MATCH(ROW()-8,calc!F:F,0)),\"\")","v":""},{"$f":"IF(A1917=\"\",\"\",VLOOKUP(A1917,BD!B:C,2,0))","v":""}]
[{"$f":"IF(ROW()-8<=MAX(calc!F:F),INDEX(BD!B:B,MATCH(ROW()-8,calc!F:F,0)),\"\")","v":""},{"$f":"IF(A1918=\"\",\"\",VLOOKUP(A1918,BD!B:C,2,0))","v":""}]
[{"$f":"IF(ROW()-8<=MAX(calc!F:F),INDEX(BD!B:B,MATCH(ROW()-8,calc!F:F,0)),\"\")","v":""},{"$f":"IF(A1919=\"\",\"\",VLOOKUP(A1919,BD!B:C,2,0))","v":""}]
[{"$f":"IF(ROW()-8<=MAX(calc!F:F),INDEX(BD!B:B,MATCH(ROW()-8,calc!F:F,0)),\"\")","v":""},{"$f":"IF(A1920=\"\",\"\",VLOOKUP(A1920,BD!B:C,2,0))","v":""}]
[{"$f":"IF(ROW()-8<=MAX(calc!F:F),INDEX(BD!B:B,MATCH(ROW()-8,calc!F:F,0)),\"\")","v":""},{"$f":"IF(A1921=\"\",\"\",VLOOKUP(A1921,BD!B:C,2,0))","v":""}]
[{"$f":"IF(ROW()-8<=MAX(calc!F:F),INDEX(BD!B:B,MATCH(ROW()-8,calc!F:F,0)),\"\")","v":""},{"$f":"IF(A1922=\"\",\"\",VLOOKUP(A1922,BD!B:C,2,0))","v":""}]
[{"$f":"IF(ROW()-8<=MAX(calc!F:F),INDEX(BD!B:B,MATCH(ROW()-8,calc!F:F,0)),\"\")","v":""},{"$f":"IF(A1923=\"\",\"\",VLOOKUP(A1923,BD!B:C,2,0))","v":""}]
[{"$f":"IF(ROW()-8<=MAX(calc!F:F),INDEX(BD!B:B,MATCH(ROW()-8,calc!F:F,0)),\"\")","v":""},{"$f":"IF(A1924=\"\",\"\",VLOOKUP(A1924,BD!B:C,2,0))","v":""}]
[{"$f":"IF(ROW()-8<=MAX(calc!F:F),INDEX(BD!B:B,MATCH(ROW()-8,calc!F:F,0)),\"\")","v":""},{"$f":"IF(A1925=\"\",\"\",VLOOKUP(A1925,BD!B:C,2,0))","v":""}]
[{"$f":"IF(ROW()-8<=MAX(calc!F:F),INDEX(BD!B:B,MATCH(ROW()-8,calc!F:F,0)),\"\")","v":""},{"$f":"IF(A1926=\"\",\"\",VLOOKUP(A1926,BD!B:C,2,0))","v":""}]
[{"$f":"IF(ROW()-8<=MAX(calc!F:F),INDEX(BD!B:B,MATCH(ROW()-8,calc!F:F,0)),\"\")","v":""},{"$f":"IF(A1927=\"\",\"\",VLOOKUP(A1927,BD!B:C,2,0))","v":""}]
[{"$f":"IF(ROW()-8<=MAX(calc!F:F),INDEX(BD!B:B,MATCH(ROW()-8,calc!F:F,0)),\"\")","v":""},{"$f":"IF(A1928=\"\",\"\",VLOOKUP(A1928,BD!B:C,2,0))","v":""}]
[{"$f":"IF(ROW()-8<=MAX(calc!F:F),INDEX(BD!B:B,MATCH(ROW()-8,calc!F:F,0)),\"\")","v":""},{"$f":"IF(A1929=\"\",\"\",VLOOKUP(A1929,BD!B:C,2,0))","v":""}]
[{"$f":"IF(ROW()-8<=MAX(calc!F:F),INDEX(BD!B:B,MATCH(ROW()-8,calc!F:F,0)),\"\")","v":""},{"$f":"IF(A1930=\"\",\"\",VLOOKUP(A1930,BD!B:C,2,0))","v":""}]
[{"$f":"IF(ROW()-8<=MAX(calc!F:F),INDEX(BD!B:B,MATCH(ROW()-8,calc!F:F,0)),\"\")","v":""},{"$f":"IF(A1931=\"\",\"\",VLOOKUP(A1931,BD!B:C,2,0))","v":""}]
[{"$f":"IF(ROW()-8<=MAX(calc!F:F),INDEX(BD!B:B,MATCH(ROW()-8,calc!F:F,0)),\"\")","v":""},{"$f":"IF(A1932=\"\",\"\",VLOOKUP(A1932,BD!B:C,2,0))","v":""}]
[{"$f":"IF(ROW()-8<=MAX(calc!F:F),INDEX(BD!B:B,MATCH(ROW()-8,calc!F:F,0)),\"\")","v":""},{"$f":"IF(A1933=\"\",\"\",VLOOKUP(A1933,BD!B:C,2,0))","v":""}]
[{"$f":"IF(ROW()-8<=MAX(calc!F:F),INDEX(BD!B:B,MATCH(ROW()-8,calc!F:F,0)),\"\")","v":""},{"$f":"IF(A1934=\"\",\"\",VLOOKUP(A1934,BD!B:C,2,0))","v":""}]
[{"$f":"IF(ROW()-8<=MAX(calc!F:F),INDEX(BD!B:B,MATCH(ROW()-8,calc!F:F,0)),\"\")","v":""},{"$f":"IF(A1935=\"\",\"\",VLOOKUP(A1935,BD!B:C,2,0))","v":""}]
[{"$f":"IF(ROW()-8<=MAX(calc!F:F),INDEX(BD!B:B,MATCH(ROW()-8,calc!F:F,0)),\"\")","v":""},{"$f":"IF(A1936=\"\",\"\",VLOOKUP(A1936,BD!B:C,2,0))","v":""}]
[{"$f":"IF(ROW()-8<=MAX(calc!F:F),INDEX(BD!B:B,MATCH(ROW()-8,calc!F:F,0)),\"\")","v":""},{"$f":"IF(A1937=\"\",\"\",VLOOKUP(A1937,BD!B:C,2,0))","v":""}]
[{"$f":"IF(ROW()-8<=MAX(calc!F:F),INDEX(BD!B:B,MATCH(ROW()-8,calc!F:F,0)),\"\")","v":""},{"$f":"IF(A1938=\"\",\"\",VLOOKUP(A1938,BD!B:C,2,0))","v":""}]
[{"$f":"IF(ROW()-8<=MAX(calc!F:F),INDEX(BD!B:B,MATCH(ROW()-8,calc!F:F,0)),\"\")","v":""},{"$f":"IF(A1939=\"\",\"\",VLOOKUP(A1939,BD!B:C,2,0))","v":""}]
[{"$f":"IF(ROW()-8<=MAX(calc!F:F),INDEX(BD!B:B,MATCH(ROW()-8,calc!F:F,0)),\"\")","v":""},{"$f":"IF(A1940=\"\",\"\",VLOOKUP(A1940,BD!B:C,2,0))","v":""}]
[{"$f":"IF(ROW()-8<=MAX(calc!F:F),INDEX(BD!B:B,MATCH(ROW()-8,calc!F:F,0)),\"\")","v":""},{"$f":"IF(A1941=\"\",\"\",VLOOKUP(A1941,BD!B:C,2,0))","v":""}]
[{"$f":"IF(ROW()-8<=MAX(calc!F:F),INDEX(BD!B:B,MATCH(ROW()-8,calc!F:F,0)),\"\")","v":""},{"$f":"IF(A1942=\"\",\"\",VLOOKUP(A1942,BD!B:C,2,0))","v":""}]
[{"$f":"IF(ROW()-8<=MAX(calc!F:F),INDEX(BD!B:B,MATCH(ROW()-8,calc!F:F,0)),\"\")","v":""},{"$f":"IF(A1943=\"\",\"\",VLOOKUP(A1943,BD!B:C,2,0))","v":""}]
[{"$f":"IF(ROW()-8<=MAX(calc!F:F),INDEX(BD!B:B,MATCH(ROW()-8,calc!F:F,0)),\"\")","v":""},{"$f":"IF(A1944=\"\",\"\",VLOOKUP(A1944,BD!B:C,2,0))","v":""}]
[{"$f":"IF(ROW()-8<=MAX(calc!F:F),INDEX(BD!B:B,MATCH(ROW()-8,calc!F:F,0)),\"\")","v":""},{"$f":"IF(A1945=\"\",\"\",VLOOKUP(A1945,BD!B:C,2,0))","v":""}]
[{"$f":"IF(ROW()-8<=MAX(calc!F:F),INDEX(BD!B:B,MATCH(ROW()-8,calc!F:F,0)),\"\")","v":""},{"$f":"IF(A1946=\"\",\"\",VLOOKUP(A1946,BD!B:C,2,0))","v":""}]
[{"$f":"IF(ROW()-8<=MAX(calc!F:F),INDEX(BD!B:B,MATCH(ROW()-8,calc!F:F,0)),\"\")","v":""},{"$f":"IF(A1947=\"\",\"\",VLOOKUP(A1947,BD!B:C,2,0))","v":""}]
[{"$f":"IF(ROW()-8<=MAX(calc!F:F),INDEX(BD!B:B,MATCH(ROW()-8,calc!F:F,0)),\"\")","v":""},{"$f":"IF(A1948=\"\",\"\",VLOOKUP(A1948,BD!B:C,2,0))","v":""}]
[{"$f":"IF(ROW()-8<=MAX(calc!F:F),INDEX(BD!B:B,MATCH(ROW()-8,calc!F:F,0)),\"\")","v":""},{"$f":"IF(A1949=\"\",\"\",VLOOKUP(A1949,BD!B:C,2,0))","v":""}]
[{"$f":"IF(ROW()-8<=MAX(calc!F:F),INDEX(BD!B:B,MATCH(ROW()-8,calc!F:F,0)),\"\")","v":""},{"$f":"IF(A1950=\"\",\"\",VLOOKUP(A1950,BD!B:C,2,0))","v":""}]
[{"$f":"IF(ROW()-8<=MAX(calc!F:F),INDEX(BD!B:B,MATCH(ROW()-8,calc!F:F,0)),\"\")","v":""},{"$f":"IF(A1951=\"\",\"\",VLOOKUP(A1951,BD!B:C,2,0))","v":""}]
[{"$f":"IF(ROW()-8<=MAX(calc!F:F),INDEX(BD!B:B,MATCH(ROW()-8,calc!F:F,0)),\"\")","v":""},{"$f":"IF(A1952=\"\",\"\",VLOOKUP(A1952,BD!B:C,2,0))","v":""}]
[{"$f":"IF(ROW()-8<=MAX(calc!F:F),INDEX(BD!B:B,MATCH(ROW()-8,calc!F:F,0)),\"\")","v":""},{"$f":"IF(A1953=\"\",\"\",VLOOKUP(A1953,BD!B:C,2,0))","v":""}]
[{"$f":"IF(ROW()-8<=MAX(calc!F:F),INDEX(BD!B:B,MATCH(ROW()-8,calc!F:F,0)),\"\")","v":""},{"$f":"IF(A1954=\"\",\"\",VLOOKUP(A1954,BD!B:C,2,0))","v":""}]
[{"$f":"IF(ROW()-8<=MAX(calc!F:F),INDEX(BD!B:B,MATCH(ROW()-8,calc!F:F,0)),\"\")","v":""},{"$f":"IF(A1955=\"\",\"\",VLOOKUP(A1955,BD!B:C,2,0))","v":""}]
[{"$f":"IF(ROW()-8<=MAX(calc!F:F),INDEX(BD!B:B,MATCH(ROW()-8,calc!F:F,0)),\"\")","v":""},{"$f":"IF(A1956=\"\",\"\",VLOOKUP(A1956,BD!B:C,2,0))","v":""}]
[{"$f":"IF(ROW()-8<=MAX(calc!F:F),INDEX(BD!B:B,MATCH(ROW()-8,calc!F:F,0)),\"\")","v":""},{"$f":"IF(A1957=\"\",\"\",VLOOKUP(A1957,BD!B:C,2,0))","v":""}]
[{"$f":"IF(ROW()-8<=MAX(calc!F:F),INDEX(BD!B:B,MATCH(ROW()-8,calc!F:F,0)),\"\")","v":""},{"$f":"IF(A1958=\"\",\"\",VLOOKUP(A1958,BD!B:C,2,0))","v":""}]
[{"$f":"IF(ROW()-8<=MAX(calc!F:F),INDEX(BD!B:B,MATCH(ROW()-8,calc!F:F,0)),\"\")","v":""},{"$f":"IF(A1959=\"\",\"\",VLOOKUP(A1959,BD!B:C,2,0))","v":""}]
[{"$f":"IF(ROW()-8<=MAX(calc!F:F),INDEX(BD!B:B,MATCH(ROW()-8,calc!F:F,0)),\"\")","v":""},{"$f":"IF(A1960=\"\",\"\",VLOOKUP(A1960,BD!B:C,2,0))","v":""}]
[{"$f":"IF(ROW()-8<=MAX(calc!F:F),INDEX(BD!B:B,MATCH(ROW()-8,calc!F:F,0)),\"\")","v":""},{"$f":"IF(A1961=\"\",\"\",VLOOKUP(A1961,BD!B:C,2,0))","v":""}]
[{"$f":"IF(ROW()-8<=MAX(calc!F:F),INDEX(BD!B:B,MATCH(ROW()-8,calc!F:F,0)),\"\")","v":""},{"$f":"IF(A1962=\"\",\"\",VLOOKUP(A1962,BD!B:C,2,0))","v":""}]
[{"$f":"IF(ROW()-8<=MAX(calc!F:F),INDEX(BD!B:B,MATCH(ROW()-8,calc!F:F,0)),\"\")","v":""},{"$f":"IF(A1963=\"\",\"\",VLOOKUP(A1963,BD!B:C,2,0))","v":""}]
[{"$f":"IF(ROW()-8<=MAX(calc!F:F),INDEX(BD!B:B,MATCH(ROW()-8,calc!F:F,0)),\"\")","v":""},{"$f":"IF(A1964=\"\",\"\",VLOOKUP(A1964,BD!B:C,2,0))","v":""}]
[{"$f":"IF(ROW()-8<=MAX(calc!F:F),INDEX(BD!B:B,MATCH(ROW()-8,calc!F:F,0)),\"\")","v":""},{"$f":"IF(A1965=\"\",\"\",VLOOKUP(A1965,BD!B:C,2,0))","v":""}]
[{"$f":"IF(ROW()-8<=MAX(calc!F:F),INDEX(BD!B:B,MATCH(ROW()-8,calc!F:F,0)),\"\")","v":""},{"$f":"IF(A1966=\"\",\"\",VLOOKUP(A1966,BD!B:C,2,0))","v":""}]
[{"$f":"IF(ROW()-8<=MAX(calc!F:F),INDEX(BD!B:B,MATCH(ROW()-8,calc!F:F,0)),\"\")","v":""},{"$f":"IF(A1967=\"\",\"\",VLOOKUP(A1967,BD!B:C,2,0))","v":""}]
[{"$f":"IF(ROW()-8<=MAX(calc!F:F),INDEX(BD!B:B,MATCH(ROW()-8,calc!F:F,0)),\"\")","v":""},{"$f":"IF(A1968=\"\",\"\",VLOOKUP(A1968,BD!B:C,2,0))","v":""}]
[{"$f":"IF(ROW()-8<=MAX(calc!F:F),INDEX(BD!B:B,MATCH(ROW()-8,calc!F:F,0)),\"\")","v":""},{"$f":"IF(A1969=\"\",\"\",VLOOKUP(A1969,BD!B:C,2,0))","v":""}]
[{"$f":"IF(ROW()-8<=MAX(calc!F:F),INDEX(BD!B:B,MATCH(ROW()-8,calc!F:F,0)),\"\")","v":""},{"$f":"IF(A1970=\"\",\"\",VLOOKUP(A1970,BD!B:C,2,0))","v":""}]
[{"$f":"IF(ROW()-8<=MAX(calc!F:F),INDEX(BD!B:B,MATCH(ROW()-8,calc!F:F,0)),\"\")","v":""},{"$f":"IF(A1971=\"\",\"\",VLOOKUP(A1971,BD!B:C,2,0))","v":""}]
[{"$f":"IF(ROW()-8<=MAX(calc!F:F),INDEX(BD!B:B,MATCH(ROW()-8,calc!F:F,0)),\"\")","v":""},{"$f":"IF(A1972=\"\",\"\",VLOOKUP(A1972,BD!B:C,2,0))","v":""}]
[{"$f":"IF(ROW()-8<=MAX(calc!F:F),INDEX(BD!B:B,MATCH(ROW()-8,calc!F:F,0)),\"\")","v":""},{"$f":"IF(A1973=\"\",\"\",VLOOKUP(A1973,BD!B:C,2,0))","v":""}]
[{"$f":"IF(ROW()-8<=MAX(calc!F:F),INDEX(BD!B:B,MATCH(ROW()-8,calc!F:F,0)),\"\")","v":""},{"$f":"IF(A1974=\"\",\"\",VLOOKUP(A1974,BD!B:C,2,0))","v":""}]
[{"$f":"IF(ROW()-8<=MAX(calc!F:F),INDEX(BD!B:B,MATCH(ROW()-8,calc!F:F,0)),\"\")","v":""},{"$f":"IF(A1975=\"\",\"\",VLOOKUP(A1975,BD!B:C,2,0))","v":""}]
[{"$f":"IF(ROW()-8<=MAX(calc!F:F),INDEX(BD!B:B,MATCH(ROW()-8,calc!F:F,0)),\"\")","v":""},{"$f":"IF(A1976=\"\",\"\",VLOOKUP(A1976,BD!B:C,2,0))","v":""}]
[{"$f":"IF(ROW()-8<=MAX(calc!F:F),INDEX(BD!B:B,MATCH(ROW()-8,calc!F:F,0)),\"\")","v":""},{"$f":"IF(A1977=\"\",\"\",VLOOKUP(A1977,BD!B:C,2,0))","v":""}]
[{"$f":"IF(ROW()-8<=MAX(calc!F:F),INDEX(BD!B:B,MATCH(ROW()-8,calc!F:F,0)),\"\")","v":""},{"$f":"IF(A1978=\"\",\"\",VLOOKUP(A1978,BD!B:C,2,0))","v":""}]
[{"$f":"IF(ROW()-8<=MAX(calc!F:F),INDEX(BD!B:B,MATCH(ROW()-8,calc!F:F,0)),\"\")","v":""},{"$f":"IF(A1979=\"\",\"\",VLOOKUP(A1979,BD!B:C,2,0))","v":""}]
[{"$f":"IF(ROW()-8<=MAX(calc!F:F),INDEX(BD!B:B,MATCH(ROW()-8,calc!F:F,0)),\"\")","v":""},{"$f":"IF(A1980=\"\",\"\",VLOOKUP(A1980,BD!B:C,2,0))","v":""}]
[{"$f":"IF(ROW()-8<=MAX(calc!F:F),INDEX(BD!B:B,MATCH(ROW()-8,calc!F:F,0)),\"\")","v":""},{"$f":"IF(A1981=\"\",\"\",VLOOKUP(A1981,BD!B:C,2,0))","v":""}]
[{"$f":"IF(ROW()-8<=MAX(calc!F:F),INDEX(BD!B:B,MATCH(ROW()-8,calc!F:F,0)),\"\")","v":""},{"$f":"IF(A1982=\"\",\"\",VLOOKUP(A1982,BD!B:C,2,0))","v":""}]
[{"$f":"IF(ROW()-8<=MAX(calc!F:F),INDEX(BD!B:B,MATCH(ROW()-8,calc!F:F,0)),\"\")","v":""},{"$f":"IF(A1983=\"\",\"\",VLOOKUP(A1983,BD!B:C,2,0))","v":""}]
[{"$f":"IF(ROW()-8<=MAX(calc!F:F),INDEX(BD!B:B,MATCH(ROW()-8,calc!F:F,0)),\"\")","v":""},{"$f":"IF(A1984=\"\",\"\",VLOOKUP(A1984,BD!B:C,2,0))","v":""}]
[{"$f":"IF(ROW()-8<=MAX(calc!F:F),INDEX(BD!B:B,MATCH(ROW()-8,calc!F:F,0)),\"\")","v":""},{"$f":"IF(A1985=\"\",\"\",VLOOKUP(A1985,BD!B:C,2,0))","v":""}]
[{"$f":"IF(ROW()-8<=MAX(calc!F:F),INDEX(BD!B:B,MATCH(ROW()-8,calc!F:F,0)),\"\")","v":""},{"$f":"IF(A1986=\"\",\"\",VLOOKUP(A1986,BD!B:C,2,0))","v":""}]
[{"$f":"IF(ROW()-8<=MAX(calc!F:F),INDEX(BD!B:B,MATCH(ROW()-8,calc!F:F,0)),\"\")","v":""},{"$f":"IF(A1987=\"\",\"\",VLOOKUP(A1987,BD!B:C,2,0))","v":""}]
[{"$f":"IF(ROW()-8<=MAX(calc!F:F),INDEX(BD!B:B,MATCH(ROW()-8,calc!F:F,0)),\"\")","v":""},{"$f":"IF(A1988=\"\",\"\",VLOOKUP(A1988,BD!B:C,2,0))","v":""}]
[{"$f":"IF(ROW()-8<=MAX(calc!F:F),INDEX(BD!B:B,MATCH(ROW()-8,calc!F:F,0)),\"\")","v":""},{"$f":"IF(A1989=\"\",\"\",VLOOKUP(A1989,BD!B:C,2,0))","v":""}]
[{"$f":"IF(ROW()-8<=MAX(calc!F:F),INDEX(BD!B:B,MATCH(ROW()-8,calc!F:F,0)),\"\")","v":""},{"$f":"IF(A1990=\"\",\"\",VLOOKUP(A1990,BD!B:C,2,0))","v":""}]
[{"$f":"IF(ROW()-8<=MAX(calc!F:F),INDEX(BD!B:B,MATCH(ROW()-8,calc!F:F,0)),\"\")","v":""},{"$f":"IF(A1991=\"\",\"\",VLOOKUP(A1991,BD!B:C,2,0))","v":""}]
[{"$f":"IF(ROW()-8<=MAX(calc!F:F),INDEX(BD!B:B,MATCH(ROW()-8,calc!F:F,0)),\"\")","v":""},{"$f":"IF(A1992=\"\",\"\",VLOOKUP(A1992,BD!B:C,2,0))","v":""}]
[{"$f":"IF(ROW()-8<=MAX(calc!F:F),INDEX(BD!B:B,MATCH(ROW()-8,calc!F:F,0)),\"\")","v":""},{"$f":"IF(A1993=\"\",\"\",VLOOKUP(A1993,BD!B:C,2,0))","v":""}]
[{"$f":"IF(ROW()-8<=MAX(calc!F:F),INDEX(BD!B:B,MATCH(ROW()-8,calc!F:F,0)),\"\")","v":""},{"$f":"IF(A1994=\"\",\"\",VLOOKUP(A1994,BD!B:C,2,0))","v":""}]
[{"$f":"IF(ROW()-8<=MAX(calc!F:F),INDEX(BD!B:B,MATCH(ROW()-8,calc!F:F,0)),\"\")","v":""},{"$f":"IF(A1995=\"\",\"\",VLOOKUP(A1995,BD!B:C,2,0))","v":""}]
[{"$f":"IF(ROW()-8<=MAX(calc!F:F),INDEX(BD!B:B,MATCH(ROW()-8,calc!F:F,0)),\"\")","v":""},{"$f":"IF(A1996=\"\",\"\",VLOOKUP(A1996,BD!B:C,2,0))","v":""}]
[{"$f":"IF(ROW()-8<=MAX(calc!F:F),INDEX(BD!B:B,MATCH(ROW()-8,calc!F:F,0)),\"\")","v":""},{"$f":"IF(A1997=\"\",\"\",VLOOKUP(A1997,BD!B:C,2,0))","v":""}]
[{"$f":"IF(ROW()-8<=MAX(calc!F:F),INDEX(BD!B:B,MATCH(ROW()-8,calc!F:F,0)),\"\")","v":""},{"$f":"IF(A1998=\"\",\"\",VLOOKUP(A1998,BD!B:C,2,0))","v":""}]
[{"$f":"IF(ROW()-8<=MAX(calc!F:F),INDEX(BD!B:B,MATCH(ROW()-8,calc!F:F,0)),\"\")","v":""},{"$f":"IF(A1999=\"\",\"\",VLOOKUP(A1999,BD!B:C,2,0))","v":""}]
[{"$f":"IF(ROW()-8<=MAX(calc!F:F),INDEX(BD!B:B,MATCH(ROW()-8,calc!F:F,0)),\"\")","v":""},{"$f":"IF(A2000=\"\",\"\",VLOOKUP(A2000,BD!B:C,2,0))","v":""}]

{"sheet":"calc","index":5,"n_rows":6000,"n_cols":11,"rows_kept":6000,"cut":false,"hidden":true,"merged":[]}
["Champ utilisés /noms","Feuille","Champ",null,null,"CODAGE LISTE REFERENCES",null,"détection ligne fac",{"$f":"REF","v":"H07"},{"$f":"DEB","v":"2012-01-01"},{"$f":"FIN","v":"2013-07-01"}]
["REF","Consultation","F4",null,null,{"$f":"IF(COUNTIF(BD!$B$2:B2,BD!B2)=1,MAX($F$1:F1)+1,\"\")","v":1},null,{"$f":"IF(AND(BD!B2=REF,BD!D2>=DEB,BD!D2<=FIN),MAX($H$1:H1)+1,0)","v":0},{"$f":"BD!B2","v":"H2312"},{"$f":"BD!D2","v":"2013-08-01"}]
["DEB","Consultation","F5",null,null,{"$f":"IF(COUNTIF(BD!$B$2:B3,BD!B3)=1,MAX($F$1:F2)+1,\"\")","v":2},null,{"$f":"IF(AND(BD!B3=REF,BD!D3>=DEB,BD!D3<=FIN),MAX($H$1:H2)+1,0)","v":0},{"$f":"BD!B3","v":"H06"},{"$f":"BD!D3","v":"2013-04-01"}]
["FIN","Consultation","F6",null,null,{"$f":"IF(COUNTIF(BD!$B$2:B4,BD!B4)=1,MAX($F$1:F3)+1,\"\")","v":""},null,{"$f":"IF(AND(BD!B4=REF,BD!D4>=DEB,BD!D4<=FIN),MAX($H$1:H3)+1,0)","v":0},{"$f":"BD!B4","v":"H06"},{"$f":"BD!D4","v":"2013-05-01"}]
["Champ","BD","DECALER//A1:AC3000",null,null,{"$f":"IF(COUNTIF(BD!$B$2:B5,BD!B5)=1,MAX($F$1:F4)+1,\"\")","v":""},null,{"$f":"IF(AND(BD!B5=REF,BD!D5>=DEB,BD!D5<=FIN),MAX($H$1:H4)+1,0)","v":0},{"$f":"BD!B5","v":"H06"},{"$f":"BD!D5","v":"2013-06-01"}]
[null,null,null,null,null,{"$f":"IF(COUNTIF(BD!$B$2:B6,BD!B6)=1,MAX($F$1:F5)+1,\"\")","v":""},null,{"$f":"IF(AND(BD!B6=REF,BD!D6>=DEB,BD!D6<=FIN),MAX($H$1:H5)+1,0)","v":0},{"$f":"BD!B6","v":"H06"},{"$f":"BD!D6","v":"2013-07-01"}]
[null,null,null,null,null,{"$f":"IF(COUNTIF(BD!$B$2:B7,BD!B7)=1,MAX($F$1:F6)+1,\"\")","v":""},null,{"$f":"IF(AND(BD!B7=REF,BD!D7>=DEB,BD!D7<=FIN),MAX($H$1:H6)+1,0)","v":0},{"$f":"BD!B7","v":"H06"},{"$f":"BD!D7","v":"2013-08-01"}]
[null,null,null,null,null,{"$f":"IF(COUNTIF(BD!$B$2:B8,BD!B8)=1,MAX($F$1:F7)+1,\"\")","v":""},null,{"$f":"IF(AND(BD!B8=REF,BD!D8>=DEB,BD!D8<=FIN),MAX($H$1:H7)+1,0)","v":0},{"$f":"BD!B8","v":"H06"},{"$f":"BD!D8","v":"2013-09-01"}]
[null,null,null,null,null,{"$f":"IF(COUNTIF(BD!$B$2:B9,BD!B9)=1,MAX($F$1:F8)+1,\"\")","v":""},null,{"$f":"IF(AND(BD!B9=REF,BD!D9>=DEB,BD!D9<=FIN),MAX($H$1:H8)+1,0)","v":0},{"$f":"BD!B9","v":"H06"},{"$f":"BD!D9","v":"2013-10-01"}]
[null,null,null,null,null,{"$f":"IF(COUNTIF(BD!$B$2:B10,BD!B10)=1,MAX($F$1:F9)+1,\"\")","v":3},null,{"$f":"IF(AND(BD!B10=REF,BD!D10>=DEB,BD!D10<=FIN),MAX($H$1:H9)+1,0)","v":0},{"$f":"BD!B10","v":"H015"},{"$f":"BD!D10","v":"2013-04-01"}]
[null,null,null,null,null,{"$f":"IF(COUNTIF(BD!$B$2:B11,BD!B11)=1,MAX($F$1:F10)+1,\"\")","v":4},null,{"$f":"IF(AND(BD!B11=REF,BD!D11>=DEB,BD!D11<=FIN),MAX($H$1:H10)+1,0)","v":1},{"$f":"BD!B11","v":"H07"},{"$f":"BD!D11","v":"2013-06-01"}]
[null,null,null,null,null,{"$f":"IF(COUNTIF(BD!$B$2:B12,BD!B12)=1,MAX($F$1:F11)+1,\"\")","v":""},null,{"$f":"IF(AND(BD!B12=REF,BD!D12>=DEB,BD!D12<=FIN),MAX($H$1:H11)+1,0)","v":0},{"$f":"BD!B12","v":"H06"},{"$f":"BD!D12","v":"2013-11-01"}]
[null,null,null,null,null,{"$f":"IF(COUNTIF(BD!$B$2:B13,BD!B13)=1,MAX($F$1:F12)+1,\"\")","v":""},null,{"$f":"IF(AND(BD!B13=REF,BD!D13>=DEB,BD!D13<=FIN),MAX($H$1:H12)+1,0)","v":0},{"$f":"BD!B13","v":"H06"},{"$f":"BD!D13","v":"2012-12-01"}]
[null,null,null,null,null,{"$f":"IF(COUNTIF(BD!$B$2:B14,BD!B14)=1,MAX($F$1:F13)+1,\"\")","v":5},null,{"$f":"IF(AND(BD!B14=REF,BD!D14>=DEB,BD!D14<=FIN),MAX($H$1:H13)+1,0)","v":0},{"$f":"BD!B14","v":"TH054"},{"$f":"BD!D14","v":"2013-07-01"}]
[null,null,null,null,null,{"$f":"IF(COUNTIF(BD!$B$2:B15,BD!B15)=1,MAX($F$1:F14)+1,\"\")","v":""},null,{"$f":"IF(AND(BD!B15=REF,BD!D15>=DEB,BD!D15<=FIN),MAX($H$1:H14)+1,0)","v":0},{"$f":"BD!B15","v":"H06"},{"$f":"BD!D15","v":"00:00:00"}]
[null,null,null,null,null,{"$f":"IF(COUNTIF(BD!$B$2:B16,BD!B16)=1,MAX($F$1:F15)+1,\"\")","v":""},null,{"$f":"IF(AND(BD!B16=REF,BD!D16>=DEB,BD!D16<=FIN),MAX($H$1:H15)+1,0)","v":0},{"$f":"BD!B16","v":0},{"$f":"BD!D16","v":"00:00:00"}]
[null,null,null,null,null,{"$f":"IF(COUNTIF(BD!$B$2:B17,BD!B17)=1,MAX($F$1:F16)+1,\"\")","v":""},null,{"$f":"IF(AND(BD!B17=REF,BD!D17>=DEB,BD!D17<=FIN),MAX($H$1:H16)+1,0)","v":0},{"$f":"BD!B17","v":0},{"$f":"BD!D17","v":"00:00:00"}]
[null,null,null,null,null,{"$f":"IF(COUNTIF(BD!$B$2:B18,BD!B18)=1,MAX($F$1:F17)+1,\"\")","v":""},null,{"$f":"IF(AND(BD!B18=REF,BD!D18>=DEB,BD!D18<=FIN),MAX(calc!$H$1:H17)+1,0)","v":0},{"$f":"BD!B18","v":0},{"$f":"BD!D18","v":"00:00:00"}]
[null,null,null,null,null,{"$f":"IF(COUNTIF(BD!$B$2:B19,BD!B19)=1,MAX($F$1:F18)+1,\"\")","v":""},null,{"$f":"IF(AND(BD!B19=REF,BD!D19>=DEB,BD!D19<=FIN),MAX(calc!$H$1:H18)+1,0)","v":0}]
[null,null,null,null,null,{"$f":"IF(COUNTIF(BD!$B$2:B20,BD!B20)=1,MAX($F$1:F19)+1,\"\")","v":""},null,{"$f":"IF(AND(BD!B20=REF,BD!D20>=DEB,BD!D20<=FIN),MAX(calc!$H$1:H19)+1,0)","v":0}]
[null,null,null,null,null,{"$f":"IF(COUNTIF(BD!$B$2:B21,BD!B21)=1,MAX($F$1:F20)+1,\"\")","v":""},null,{"$f":"IF(AND(BD!B21=REF,BD!D21>=DEB,BD!D21<=FIN),MAX(calc!$H$1:H20)+1,0)","v":0}]
[null,null,null,null,null,{"$f":"IF(COUNTIF(BD!$B$2:B22,BD!B22)=1,MAX($F$1:F21)+1,\"\")","v":""},null,{"$f":"IF(AND(BD!B22=REF,BD!D22>=DEB,BD!D22<=FIN),MAX(calc!$H$1:H21)+1,0)","v":0}]
[null,null,null,null,null,{"$f":"IF(COUNTIF(BD!$B$2:B23,BD!B23)=1,MAX($F$1:F22)+1,\"\")","v":""},null,{"$f":"IF(AND(BD!B23=REF,BD!D23>=DEB,BD!D23<=FIN),MAX(calc!$H$1:H22)+1,0)","v":0}]
[null,null,null,null,null,{"$f":"IF(COUNTIF(BD!$B$2:B24,BD!B24)=1,MAX($F$1:F23)+1,\"\")","v":""},null,{"$f":"IF(AND(BD!B24=REF,BD!D24>=DEB,BD!D24<=FIN),MAX(calc!$H$1:H23)+1,0)","v":0}]
[null,null,null,null,null,{"$f":"IF(COUNTIF(BD!$B$2:B25,BD!B25)=1,MAX($F$1:F24)+1,\"\")","v":""},null,{"$f":"IF(AND(BD!B25=REF,BD!D25>=DEB,BD!D25<=FIN),MAX(calc!$H$1:H24)+1,0)","v":0}]
[null,null,null,null,null,{"$f":"IF(COUNTIF(BD!$B$2:B26,BD!B26)=1,MAX($F$1:F25)+1,\"\")","v":""},null,{"$f":"IF(AND(BD!B26=REF,BD!D26>=DEB,BD!D26<=FIN),MAX(calc!$H$1:H25)+1,0)","v":0}]
[null,null,null,null,null,{"$f":"IF(COUNTIF(BD!$B$2:B27,BD!B27)=1,MAX($F$1:F26)+1,\"\")","v":""},null,{"$f":"IF(AND(BD!B27=REF,BD!D27>=DEB,BD!D27<=FIN),MAX(calc!$H$1:H26)+1,0)","v":0}]
[null,null,null,null,null,{"$f":"IF(COUNTIF(BD!$B$2:B28,BD!B28)=1,MAX($F$1:F27)+1,\"\")","v":""},null,{"$f":"IF(AND(BD!B28=REF,BD!D28>=DEB,BD!D28<=FIN),MAX(calc!$H$1:H27)+1,0)","v":0}]
[null,null,null,null,null,{"$f":"IF(COUNTIF(BD!$B$2:B29,BD!B29)=1,MAX($F$1:F28)+1,\"\")","v":""},null,{"$f":"IF(AND(BD!B29=REF,BD!D29>=DEB,BD!D29<=FIN),MAX(calc!$H$1:H28)+1,0)","v":0}]
[null,null,null,null,null,{"$f":"IF(COUNTIF(BD!$B$2:B30,BD!B30)=1,MAX($F$1:F29)+1,\"\")","v":""},null,{"$f":"IF(AND(BD!B30=REF,BD!D30>=DEB,BD!D30<=FIN),MAX(calc!$H$1:H29)+1,0)","v":0}]
[null,null,null,null,null,{"$f":"IF(COUNTIF(BD!$B$2:B31,BD!B31)=1,MAX($F$1:F30)+1,\"\")","v":""},null,{"$f":"IF(AND(BD!B31=REF,BD!D31>=DEB,BD!D31<=FIN),MAX(calc!$H$1:H30)+1,0)","v":0}]
[null,null,null,null,null,{"$f":"IF(COUNTIF(BD!$B$2:B32,BD!B32)=1,MAX($F$1:F31)+1,\"\")","v":""},null,{"$f":"IF(AND(BD!B32=REF,BD!D32>=DEB,BD!D32<=FIN),MAX(calc!$H$1:H31)+1,0)","v":0}]
[null,null,null,null,null,{"$f":"IF(COUNTIF(BD!$B$2:B33,BD!B33)=1,MAX($F$1:F32)+1,\"\")","v":""},null,{"$f":"IF(AND(BD!B33=REF,BD!D33>=DEB,BD!D33<=FIN),MAX(calc!$H$1:H32)+1,0)","v":0}]
[null,null,null,null,null,{"$f":"IF(COUNTIF(BD!$B$2:B34,BD!B34)=1,MAX($F$1:F33)+1,\"\")","v":""},null,{"$f":"IF(AND(BD!B34=REF,BD!D34>=DEB,BD!D34<=FIN),MAX(calc!$H$1:H33)+1,0)","v":0}]
[null,null,null,null,null,{"$f":"IF(COUNTIF(BD!$B$2:B35,BD!B35)=1,MAX($F$1:F34)+1,\"\")","v":""},null,{"$f":"IF(AND(BD!B35=REF,BD!D35>=DEB,BD!D35<=FIN),MAX(calc!$H$1:H34)+1,0)","v":0}]
[null,null,null,null,null,{"$f":"IF(COUNTIF(BD!$B$2:B36,BD!B36)=1,MAX($F$1:F35)+1,\"\")","v":""},null,{"$f":"IF(AND(BD!B36=REF,BD!D36>=DEB,BD!D36<=FIN),MAX(calc!$H$1:H35)+1,0)","v":0}]
[null,null,null,null,null,{"$f":"IF(COUNTIF(BD!$B$2:B37,BD!B37)=1,MAX($F$1:F36)+1,\"\")","v":""},null,{"$f":"IF(AND(BD!B37=REF,BD!D37>=DEB,BD!D37<=FIN),MAX(calc!$H$1:H36)+1,0)","v":0}]
[null,null,null,null,null,{"$f":"IF(COUNTIF(BD!$B$2:B38,BD!B38)=1,MAX($F$1:F37)+1,\"\")","v":""},null,{"$f":"IF(AND(BD!B38=REF,BD!D38>=DEB,BD!D38<=FIN),MAX(calc!$H$1:H37)+1,0)","v":0}]
[null,null,null,null,null,{"$f":"IF(COUNTIF(BD!$B$2:B39,BD!B39)=1,MAX($F$1:F38)+1,\"\")","v":""},null,{"$f":"IF(AND(BD!B39=REF,BD!D39>=DEB,BD!D39<=FIN),MAX(calc!$H$1:H38)+1,0)","v":0}]
[null,null,null,null,null,{"$f":"IF(COUNTIF(BD!$B$2:B40,BD!B40)=1,MAX($F$1:F39)+1,\"\")","v":""},null,{"$f":"IF(AND(BD!B40=REF,BD!D40>=DEB,BD!D40<=FIN),MAX(calc!$H$1:H39)+1,0)","v":0}]
[null,null,null,null,null,{"$f":"IF(COUNTIF(BD!$B$2:B41,BD!B41)=1,MAX($F$1:F40)+1,\"\")","v":""},null,{"$f":"IF(AND(BD!B41=REF,BD!D41>=DEB,BD!D41<=FIN),MAX(calc!$H$1:H40)+1,0)","v":0}]
[null,null,null,null,null,{"$f":"IF(COUNTIF(BD!$B$2:B42,BD!B42)=1,MAX($F$1:F41)+1,\"\")","v":""},null,{"$f":"IF(AND(BD!B42=REF,BD!D42>=DEB,BD!D42<=FIN),MAX(calc!$H$1:H41)+1,0)","v":0}]
[null,null,null,null,null,{"$f":"IF(COUNTIF(BD!$B$2:B43,BD!B43)=1,MAX($F$1:F42)+1,\"\")","v":""},null,{"$f":"IF(AND(BD!B43=REF,BD!D43>=DEB,BD!D43<=FIN),MAX(calc!$H$1:H42)+1,0)","v":0}]
[null,null,null,null,null,{"$f":"IF(COUNTIF(BD!$B$2:B44,BD!B44)=1,MAX($F$1:F43)+1,\"\")","v":""},null,{"$f":"IF(AND(BD!B44=REF,BD!D44>=DEB,BD!D44<=FIN),MAX(calc!$H$1:H43)+1,0)","v":0}]
[null,null,null,null,null,{"$f":"IF(COUNTIF(BD!$B$2:B45,BD!B45)=1,MAX($F$1:F44)+1,\"\")","v":""},null,{"$f":"IF(AND(BD!B45=REF,BD!D45>=DEB,BD!D45<=FIN),MAX(calc!$H$1:H44)+1,0)","v":0}]
[null,null,null,null,null,{"$f":"IF(COUNTIF(BD!$B$2:B46,BD!B46)=1,MAX($F$1:F45)+1,\"\")","v":""},null,{"$f":"IF(AND(BD!B46=REF,BD!D46>=DEB,BD!D46<=FIN),MAX(calc!$H$1:H45)+1,0)","v":0}]
[null,null,null,null,null,{"$f":"IF(COUNTIF(BD!$B$2:B47,BD!B47)=1,MAX($F$1:F46)+1,\"\")","v":""},null,{"$f":"IF(AND(BD!B47=REF,BD!D47>=DEB,BD!D47<=FIN),MAX(calc!$H$1:H46)+1,0)","v":0}]
[null,null,null,null,null,{"$f":"IF(COUNTIF(BD!$B$2:B48,BD!B48)=1,MAX($F$1:F47)+1,\"\")","v":""},null,{"$f":"IF(AND(BD!B48=REF,BD!D48>=DEB,BD!D48<=FIN),MAX(calc!$H$1:H47)+1,0)","v":0}]
[null,null,null,null,null,{"$f":"IF(COUNTIF(BD!$B$2:B49,BD!B49)=1,MAX($F$1:F48)+1,\"\")","v":""},null,{"$f":"IF(AND(BD!B49=REF,BD!D49>=DEB,BD!D49<=FIN),MAX(calc!$H$1:H48)+1,0)","v":0}]
[null,null,null,null,null,{"$f":"IF(COUNTIF(BD!$B$2:B50,BD!B50)=1,MAX($F$1:F49)+1,\"\")","v":""},null,{"$f":"IF(AND(BD!B50=REF,BD!D50>=DEB,BD!D50<=FIN),MAX(calc!$H$1:H49)+1,0)","v":0}]
[null,null,null,null,null,{"$f":"IF(COUNTIF(BD!$B$2:B51,BD!B51)=1,MAX($F$1:F50)+1,\"\")","v":""},null,{"$f":"IF(AND(BD!B51=REF,BD!D51>=DEB,BD!D51<=FIN),MAX(calc!$H$1:H50)+1,0)","v":0}]
[null,null,null,null,null,{"$f":"IF(COUNTIF(BD!$B$2:B52,BD!B52)=1,MAX($F$1:F51)+1,\"\")","v":""},null,{"$f":"IF(AND(BD!B52=REF,BD!D52>=DEB,BD!D52<=FIN),MAX(calc!$H$1:H51)+1,0)","v":0}]
[null,null,null,null,null,{"$f":"IF(COUNTIF(BD!$B$2:B53,BD!B53)=1,MAX($F$1:F52)+1,\"\")","v":""},null,{"$f":"IF(AND(BD!B53=REF,BD!D53>=DEB,BD!D53<=FIN),MAX(calc!$H$1:H52)+1,0)","v":0}]
[null,null,null,null,null,{"$f":"IF(COUNTIF(BD!$B$2:B54,BD!B54)=1,MAX($F$1:F53)+1,\"\")","v":""},null,{"$f":"IF(AND(BD!B54=REF,BD!D54>=DEB,BD!D54<=FIN),MAX(calc!$H$1:H53)+1,0)","v":0}]
[null,null,null,null,null,{"$f":"IF(COUNTIF(BD!$B$2:B55,BD!B55)=1,MAX($F$1:F54)+1,\"\")","v":""},null,{"$f":"IF(AND(BD!B55=REF,BD!D55>=DEB,BD!D55<=FIN),MAX(calc!$H$1:H54)+1,0)","v":0}]
[null,null,null,null,null,{"$f":"IF(COUNTIF(BD!$B$2:B56,BD!B56)=1,MAX($F$1:F55)+1,\"\")","v":""},null,{"$f":"IF(AND(BD!B56=REF,BD!D56>=DEB,BD!D56<=FIN),MAX(calc!$H$1:H55)+1,0)","v":0}]
[null,null,null,null,null,{"$f":"IF(COUNTIF(BD!$B$2:B57,BD!B57)=1,MAX($F$1:F56)+1,\"\")","v":""},null,{"$f":"IF(AND(BD!B57=REF,BD!D57>=DEB,BD!D57<=FIN),MAX(calc!$H$1:H56)+1,0)","v":0}]
[null,null,null,null,null,{"$f":"IF(COUNTIF(BD!$B$2:B58,BD!B58)=1,MAX($F$1:F57)+1,\"\")","v":""},null,{"$f":"IF(AND(BD!B58=REF,BD!D58>=DEB,BD!D58<=FIN),MAX(calc!$H$1:H57)+1,0)","v":0}]
[null,null,null,null,null,{"$f":"IF(COUNTIF(BD!$B$2:B59,BD!B59)=1,MAX($F$1:F58)+1,\"\")","v":""},null,{"$f":"IF(AND(BD!B59=REF,BD!D59>=DEB,BD!D59<=FIN),MAX(calc!$H$1:H58)+1,0)","v":0}]
[null,null,null,null,null,{"$f":"IF(COUNTIF(BD!$B$2:B60,BD!B60)=1,MAX($F$1:F59)+1,\"\")","v":""},null,{"$f":"IF(AND(BD!B60=REF,BD!D60>=DEB,BD!D60<=FIN),MAX(calc!$H$1:H59)+1,0)","v":0}]
[null,null,null,null,null,{"$f":"IF(COUNTIF(BD!$B$2:B61,BD!B61)=1,MAX($F$1:F60)+1,\"\")","v":""},null,{"$f":"IF(AND(BD!B61=REF,BD!D61>=DEB,BD!D61<=FIN),MAX(calc!$H$1:H60)+1,0)","v":0}]
[null,null,null,null,null,{"$f":"IF(COUNTIF(BD!$B$2:B62,BD!B62)=1,MAX($F$1:F61)+1,\"\")","v":""},null,{"$f":"IF(AND(BD!B62=REF,BD!D62>=DEB,BD!D62<=FIN),MAX(calc!$H$1:H61)+1,0)","v":0}]
[null,null,null,null,null,{"$f":"IF(COUNTIF(BD!$B$2:B63,BD!B63)=1,MAX($F$1:F62)+1,\"\")","v":""},null,{"$f":"IF(AND(BD!B63=REF,BD!D63>=DEB,BD!D63<=FIN),MAX(calc!$H$1:H62)+1,0)","v":0}]
[null,null,null,null,null,{"$f":"IF(COUNTIF(BD!$B$2:B64,BD!B64)=1,MAX($F$1:F63)+1,\"\")","v":""},null,{"$f":"IF(AND(BD!B64=REF,BD!D64>=DEB,BD!D64<=FIN),MAX(calc!$H$1:H63)+1,0)","v":0}]
[null,null,null,null,null,{"$f":"IF(COUNTIF(BD!$B$2:B65,BD!B65)=1,MAX($F$1:F64)+1,\"\")","v":""},null,{"$f":"IF(AND(BD!B65=REF,BD!D65>=DEB,BD!D65<=FIN),MAX(calc!$H$1:H64)+1,0)","v":0}]
[null,null,null,null,null,{"$f":"IF(COUNTIF(BD!$B$2:B66,BD!B66)=1,MAX($F$1:F65)+1,\"\")","v":""},null,{"$f":"IF(AND(BD!B66=REF,BD!D66>=DEB,BD!D66<=FIN),MAX(calc!$H$1:H65)+1,0)","v":0}]
[null,null,null,null,null,{"$f":"IF(COUNTIF(BD!$B$2:B67,BD!B67)=1,MAX($F$1:F66)+1,\"\")","v":""},null,{"$f":"IF(AND(BD!B67=REF,BD!D67>=DEB,BD!D67<=FIN),MAX(calc!$H$1:H66)+1,0)","v":0}]
[null,null,null,null,null,{"$f":"IF(COUNTIF(BD!$B$2:B68,BD!B68)=1,MAX($F$1:F67)+1,\"\")","v":""},null,{"$f":"IF(AND(BD!B68=REF,BD!D68>=DEB,BD!D68<=FIN),MAX(calc!$H$1:H67)+1,0)","v":0}]
[null,null,null,null,null,{"$f":"IF(COUNTIF(BD!$B$2:B69,BD!B69)=1,MAX($F$1:F68)+1,\"\")","v":""},null,{"$f":"IF(AND(BD!B69=REF,BD!D69>=DEB,BD!D69<=FIN),MAX(calc!$H$1:H68)+1,0)","v":0}]
[null,null,null,null,null,{"$f":"IF(COUNTIF(BD!$B$2:B70,BD!B70)=1,MAX($F$1:F69)+1,\"\")","v":""},null,{"$f":"IF(AND(BD!B70=REF,BD!D70>=DEB,BD!D70<=FIN),MAX(calc!$H$1:H69)+1,0)","v":0}]
[null,null,null,null,null,{"$f":"IF(COUNTIF(BD!$B$2:B71,BD!B71)=1,MAX($F$1:F70)+1,\"\")","v":""},null,{"$f":"IF(AND(BD!B71=REF,BD!D71>=DEB,BD!D71<=FIN),MAX(calc!$H$1:H70)+1,0)","v":0}]
[null,null,null,null,null,{"$f":"IF(COUNTIF(BD!$B$2:B72,BD!B72)=1,MAX($F$1:F71)+1,\"\")","v":""},null,{"$f":"IF(AND(BD!B72=REF,BD!D72>=DEB,BD!D72<=FIN),MAX(calc!$H$1:H71)+1,0)","v":0}]
[null,null,null,null,null,{"$f":"IF(COUNTIF(BD!$B$2:B73,BD!B73)=1,MAX($F$1:F72)+1,\"\")","v":""},null,{"$f":"IF(AND(BD!B73=REF,BD!D73>=DEB,BD!D73<=FIN),MAX(calc!$H$1:H72)+1,0)","v":0}]
[null,null,null,null,null,{"$f":"IF(COUNTIF(BD!$B$2:B74,BD!B74)=1,MAX($F$1:F73)+1,\"\")","v":""},null,{"$f":"IF(AND(BD!B74=REF,BD!D74>=DEB,BD!D74<=FIN),MAX(calc!$H$1:H73)+1,0)","v":0}]
[null,null,null,null,null,{"$f":"IF(COUNTIF(BD!$B$2:B75,BD!B75)=1,MAX($F$1:F74)+1,\"\")","v":""},null,{"$f":"IF(AND(BD!B75=REF,BD!D75>=DEB,BD!D75<=FIN),MAX(calc!$H$1:H74)+1,0)","v":0}]
[null,null,null,null,null,{"$f":"IF(COUNTIF(BD!$B$2:B76,BD!B76)=1,MAX($F$1:F75)+1,\"\")","v":""},null,{"$f":"IF(AND(BD!B76=REF,BD!D76>=DEB,BD!D76<=FIN),MAX(calc!$H$1:H75)+1,0)","v":0}]
[null,null,null,null,null,{"$f":"IF(COUNTIF(BD!$B$2:B77,BD!B77)=1,MAX($F$1:F76)+1,\"\")","v":""},null,{"$f":"IF(AND(BD!B77=REF,BD!D77>=DEB,BD!D77<=FIN),MAX(calc!$H$1:H76)+1,0)","v":0}]
[null,null,null,null,null,{"$f":"IF(COUNTIF(BD!$B$2:B78,BD!B78)=1,MAX($F$1:F77)+1,\"\")","v":""},null,{"$f":"IF(AND(BD!B78=REF,BD!D78>=DEB,BD!D78<=FIN),MAX(calc!$H$1:H77)+1,0)","v":0}]
[null,null,null,null,null,{"$f":"IF(COUNTIF(BD!$B$2:B79,BD!B79)=1,MAX($F$1:F78)+1,\"\")","v":""},null,{"$f":"IF(AND(BD!B79=REF,BD!D79>=DEB,BD!D79<=FIN),MAX(calc!$H$1:H78)+1,0)","v":0}]
[null,null,null,null,null,{"$f":"IF(COUNTIF(BD!$B$2:B80,BD!B80)=1,MAX($F$1:F79)+1,\"\")","v":""},null,{"$f":"IF(AND(BD!B80=REF,BD!D80>=DEB,BD!D80<=FIN),MAX(calc!$H$1:H79)+1,0)","v":0}]
[null,null,null,null,null,{"$f":"IF(COUNTIF(BD!$B$2:B81,BD!B81)=1,MAX($F$1:F80)+1,\"\")","v":""},null,{"$f":"IF(AND(BD!B81=REF,BD!D81>=DEB,BD!D81<=FIN),MAX(calc!$H$1:H80)+1,0)","v":0}]
[null,null,null,null,null,{"$f":"IF(COUNTIF(BD!$B$2:B82,BD!B82)=1,MAX($F$1:F81)+1,\"\")","v":""},null,{"$f":"IF(AND(BD!B82=REF,BD!D82>=DEB,BD!D82<=FIN),MAX(calc!$H$1:H81)+1,0)","v":0}]
[null,null,null,null,null,{"$f":"IF(COUNTIF(BD!$B$2:B83,BD!B83)=1,MAX($F$1:F82)+1,\"\")","v":""},null,{"$f":"IF(AND(BD!B83=REF,BD!D83>=DEB,BD!D83<=FIN),MAX(calc!$H$1:H82)+1,0)","v":0}]
[null,null,null,null,null,{"$f":"IF(COUNTIF(BD!$B$2:B84,BD!B84)=1,MAX($F$1:F83)+1,\"\")","v":""},null,{"$f":"IF(AND(BD!B84=REF,BD!D84>=DEB,BD!D84<=FIN),MAX(calc!$H$1:H83)+1,0)","v":0}]
[null,null,null,null,null,{"$f":"IF(COUNTIF(BD!$B$2:B85,BD!B85)=1,MAX($F$1:F84)+1,\"\")","v":""},null,{"$f":"IF(AND(BD!B85=REF,BD!D85>=DEB,BD!D85<=FIN),MAX(calc!$H$1:H84)+1,0)","v":0}]
[null,null,null,null,null,{"$f":"IF(COUNTIF(BD!$B$2:B86,BD!B86)=1,MAX($F$1:F85)+1,\"\")","v":""},null,{"$f":"IF(AND(BD!B86=REF,BD!D86>=DEB,BD!D86<=FIN),MAX(calc!$H$1:H85)+1,0)","v":0}]
[null,null,null,null,null,{"$f":"IF(COUNTIF(BD!$B$2:B87,BD!B87)=1,MAX($F$1:F86)+1,\"\")","v":""},null,{"$f":"IF(AND(BD!B87=REF,BD!D87>=DEB,BD!D87<=FIN),MAX(calc!$H$1:H86)+1,0)","v":0}]
[null,null,null,null,null,{"$f":"IF(COUNTIF(BD!$B$2:B88,BD!B88)=1,MAX($F$1:F87)+1,\"\")","v":""},null,{"$f":"IF(AND(BD!B88=REF,BD!D88>=DEB,BD!D88<=FIN),MAX(calc!$H$1:H87)+1,0)","v":0}]
[null,null,null,null,null,{"$f":"IF(COUNTIF(BD!$B$2:B89,BD!B89)=1,MAX($F$1:F88)+1,\"\")","v":""},null,{"$f":"IF(AND(BD!B89=REF,BD!D89>=DEB,BD!D89<=FIN),MAX(calc!$H$1:H88)+1,0)","v":0}]
[null,null,null,null,null,{"$f":"IF(COUNTIF(BD!$B$2:B90,BD!B90)=1,MAX($F$1:F89)+1,\"\")","v":""},null,{"$f":"IF(AND(BD!B90=REF,BD!D90>=DEB,BD!D90<=FIN),MAX(calc!$H$1:H89)+1,0)","v":0}]
[null,null,null,null,null,{"$f":"IF(COUNTIF(BD!$B$2:B91,BD!B91)=1,MAX($F$1:F90)+1,\"\")","v":""},null,{"$f":"IF(AND(BD!B91=REF,BD!D91>=DEB,BD!D91<=FIN),MAX(calc!$H$1:H90)+1,0)","v":0}]
[null,null,null,null,null,{"$f":"IF(COUNTIF(BD!$B$2:B92,BD!B92)=1,MAX($F$1:F91)+1,\"\")","v":""},null,{"$f":"IF(AND(BD!B92=REF,BD!D92>=DEB,BD!D92<=FIN),MAX(calc!$H$1:H91)+1,0)","v":0}]
[null,null,null,null,null,{"$f":"IF(COUNTIF(BD!$B$2:B93,BD!B93)=1,MAX($F$1:F92)+1,\"\")","v":""},null,{"$f":"IF(AND(BD!B93=REF,BD!D93>=DEB,BD!D93<=FIN),MAX(calc!$H$1:H92)+1,0)","v":0}]
[null,null,null,null,null,{"$f":"IF(COUNTIF(BD!$B$2:B94,BD!B94)=1,MAX($F$1:F93)+1,\"\")","v":""},null,{"$f":"IF(AND(BD!B94=REF,BD!D94>=DEB,BD!D94<=FIN),MAX(calc!$H$1:H93)+1,0)","v":0}]
[null,null,null,null,null,{"$f":"IF(COUNTIF(BD!$B$2:B95,BD!B95)=1,MAX($F$1:F94)+1,\"\")","v":""},null,{"$f":"IF(AND(BD!B95=REF,BD!D95>=DEB,BD!D95<=FIN),MAX(calc!$H$1:H94)+1,0)","v":0}]
[null,null,null,null,null,{"$f":"IF(COUNTIF(BD!$B$2:B96,BD!B96)=1,MAX($F$1:F95)+1,\"\")","v":""},null,{"$f":"IF(AND(BD!B96=REF,BD!D96>=DEB,BD!D96<=FIN),MAX(calc!$H$1:H95)+1,0)","v":0}]
[null,null,null,null,null,{"$f":"IF(COUNTIF(BD!$B$2:B97,BD!B97)=1,MAX($F$1:F96)+1,\"\")","v":""},null,{"$f":"IF(AND(BD!B97=REF,BD!D97>=DEB,BD!D97<=FIN),MAX(calc!$H$1:H96)+1,0)","v":0}]
[null,null,null,null,null,{"$f":"IF(COUNTIF(BD!$B$2:B98,BD!B98)=1,MAX($F$1:F97)+1,\"\")","v":""},null,{"$f":"IF(AND(BD!B98=REF,BD!D98>=DEB,BD!D98<=FIN),MAX(calc!$H$1:H97)+1,0)","v":0}]
[null,null,null,null,null,{"$f":"IF(COUNTIF(BD!$B$2:B99,BD!B99)=1,MAX($F$1:F98)+1,\"\")","v":""},null,{"$f":"IF(AND(BD!B99=REF,BD!D99>=DEB,BD!D99<=FIN),MAX(calc!$H$1:H98)+1,0)","v":0}]
[null,null,null,null,null,{"$f":"IF(COUNTIF(BD!$B$2:B100,BD!B100)=1,MAX($F$1:F99)+1,\"\")","v":""},null,{"$f":"IF(AND(BD!B100=REF,BD!D100>=DEB,BD!D100<=FIN),MAX(calc!$H$1:H99)+1,0)","v":0}]
[null,null,null,null,null,{"$f":"IF(COUNTIF(BD!$B$2:B101,BD!B101)=1,MAX($F$1:F100)+1,\"\")","v":""},null,{"$f":"IF(AND(BD!B101=REF,BD!D101>=DEB,BD!D101<=FIN),MAX(calc!$H$1:H100)+1,0)","v":0}]
[null,null,null,null,null,{"$f":"IF(COUNTIF(BD!$B$2:B102,BD!B102)=1,MAX($F$1:F101)+1,\"\")","v":""},null,{"$f":"IF(AND(BD!B102=REF,BD!D102>=DEB,BD!D102<=FIN),MAX(calc!$H$1:H101)+1,0)","v":0}]
[null,null,null,null,null,{"$f":"IF(COUNTIF(BD!$B$2:B103,BD!B103)=1,MAX($F$1:F102)+1,\"\")","v":""},null,{"$f":"IF(AND(BD!B103=REF,BD!D103>=DEB,BD!D103<=FIN),MAX(calc!$H$1:H102)+1,0)","v":0}]
[null,null,null,null,null,{"$f":"IF(COUNTIF(BD!$B$2:B104,BD!B104)=1,MAX($F$1:F103)+1,\"\")","v":""},null,{"$f":"IF(AND(BD!B104=REF,BD!D104>=DEB,BD!D104<=FIN),MAX(calc!$H$1:H103)+1,0)","v":0}]
[null,null,null,null,null,{"$f":"IF(COUNTIF(BD!$B$2:B105,BD!B105)=1,MAX($F$1:F104)+1,\"\")","v":""},null,{"$f":"IF(AND(BD!B105=REF,BD!D105>=DEB,BD!D105<=FIN),MAX(calc!$H$1:H104)+1,0)","v":0}]
[null,null,null,null,null,{"$f":"IF(COUNTIF(BD!$B$2:B106,BD!B106)=1,MAX($F$1:F105)+1,\"\")","v":""},null,{"$f":"IF(AND(BD!B106=REF,BD!D106>=DEB,BD!D106<=FIN),MAX(calc!$H$1:H105)+1,0)","v":0}]
[null,null,null,null,null,{"$f":"IF(COUNTIF(BD!$B$2:B107,BD!B107)=1,MAX($F$1:F106)+1,\"\")","v":""},null,{"$f":"IF(AND(BD!B107=REF,BD!D107>=DEB,BD!D107<=FIN),MAX(calc!$H$1:H106)+1,0)","v":0}]
[null,null,null,null,null,{"$f":"IF(COUNTIF(BD!$B$2:B108,BD!B108)=1,MAX($F$1:F107)+1,\"\")","v":""},null,{"$f":"IF(AND(BD!B108=REF,BD!D108>=DEB,BD!D108<=FIN),MAX(calc!$H$1:H107)+1,0)","v":0}]
[null,null,null,null,null,{"$f":"IF(COUNTIF(BD!$B$2:B109,BD!B109)=1,MAX($F$1:F108)+1,\"\")","v":""},null,{"$f":"IF(AND(BD!B109=REF,BD!D109>=DEB,BD!D109<=FIN),MAX(calc!$H$1:H108)+1,0)","v":0}]
[null,null,null,null,null,{"$f":"IF(COUNTIF(BD!$B$2:B110,BD!B110)=1,MAX($F$1:F109)+1,\"\")","v":""},null,{"$f":"IF(AND(BD!B110=REF,BD!D110>=DEB,BD!D110<=FIN),MAX(calc!$H$1:H109)+1,0)","v":0}]
[null,null,null,null,null,{"$f":"IF(COUNTIF(BD!$B$2:B111,BD!B111)=1,MAX($F$1:F110)+1,\"\")","v":""},null,{"$f":"IF(AND(BD!B111=REF,BD!D111>=DEB,BD!D111<=FIN),MAX(calc!$H$1:H110)+1,0)","v":0}]
[null,null,null,null,null,{"$f":"IF(COUNTIF(BD!$B$2:B112,BD!B112)=1,MAX($F$1:F111)+1,\"\")","v":""},null,{"$f":"IF(AND(BD!B112=REF,BD!D112>=DEB,BD!D112<=FIN),MAX(calc!$H$1:H111)+1,0)","v":0}]
[null,null,null,null,null,{"$f":"IF(COUNTIF(BD!$B$2:B113,BD!B113)=1,MAX($F$1:F112)+1,\"\")","v":""},null,{"$f":"IF(AND(BD!B113=REF,BD!D113>=DEB,BD!D113<=FIN),MAX(calc!$H$1:H112)+1,0)","v":0}]
[null,null,null,null,null,{"$f":"IF(COUNTIF(BD!$B$2:B114,BD!B114)=1,MAX($F$1:F113)+1,\"\")","v":""},null,{"$f":"IF(AND(BD!B114=REF,BD!D114>=DEB,BD!D114<=FIN),MAX(calc!$H$1:H113)+1,0)","v":0}]
[null,null,null,null,null,{"$f":"IF(COUNTIF(BD!$B$2:B115,BD!B115)=1,MAX($F$1:F114)+1,\"\")","v":""},null,{"$f":"IF(AND(BD!B115=REF,BD!D115>=DEB,BD!D115<=FIN),MAX(calc!$H$1:H114)+1,0)","v":0}]
[null,null,null,null,null,{"$f":"IF(COUNTIF(BD!$B$2:B116,BD!B116)=1,MAX($F$1:F115)+1,\"\")","v":""},null,{"$f":"IF(AND(BD!B116=REF,BD!D116>=DEB,BD!D116<=FIN),MAX(calc!$H$1:H115)+1,0)","v":0}]
[null,null,null,null,null,{"$f":"IF(COUNTIF(BD!$B$2:B117,BD!B117)=1,MAX($F$1:F116)+1,\"\")","v":""},null,{"$f":"IF(AND(BD!B117=REF,BD!D117>=DEB,BD!D117<=FIN),MAX(calc!$H$1:H116)+1,0)","v":0}]
[null,null,null,null,null,{"$f":"IF(COUNTIF(BD!$B$2:B118,BD!B118)=1,MAX($F$1:F117)+1,\"\")","v":""},null,{"$f":"IF(AND(BD!B118=REF,BD!D118>=DEB,BD!D118<=FIN),MAX(calc!$H$1:H117)+1,0)","v":0}]
[null,null,null,null,null,{"$f":"IF(COUNTIF(BD!$B$2:B119,BD!B119)=1,MAX($F$1:F118)+1,\"\")","v":""},null,{"$f":"IF(AND(BD!B119=REF,BD!D119>=DEB,BD!D119<=FIN),MAX(calc!$H$1:H118)+1,0)","v":0}]
[null,null,null,null,null,{"$f":"IF(COUNTIF(BD!$B$2:B120,BD!B120)=1,MAX($F$1:F119)+1,\"\")","v":""},null,{"$f":"IF(AND(BD!B120=REF,BD!D120>=DEB,BD!D120<=FIN),MAX(calc!$H$1:H119)+1,0)","v":0}]
[null,null,null,null,null,{"$f":"IF(COUNTIF(BD!$B$2:B121,BD!B121)=1,MAX($F$1:F120)+1,\"\")","v":""},null,{"$f":"IF(AND(BD!B121=REF,BD!D121>=DEB,BD!D121<=FIN),MAX(calc!$H$1:H120)+1,0)","v":0}]
[null,null,null,null,null,{"$f":"IF(COUNTIF(BD!$B$2:B122,BD!B122)=1,MAX($F$1:F121)+1,\"\")","v":""},null,{"$f":"IF(AND(BD!B122=REF,BD!D122>=DEB,BD!D122<=FIN),MAX(calc!$H$1:H121)+1,0)","v":0}]
[null,null,null,null,null,{"$f":"IF(COUNTIF(BD!$B$2:B123,BD!B123)=1,MAX($F$1:F122)+1,\"\")","v":""},null,{"$f":"IF(AND(BD!B123=REF,BD!D123>=DEB,BD!D123<=FIN),MAX(calc!$H$1:H122)+1,0)","v":0}]
[null,null,null,null,null,{"$f":"IF(COUNTIF(BD!$B$2:B124,BD!B124)=1,MAX($F$1:F123)+1,\"\")","v":""},null,{"$f":"IF(AND(BD!B124=REF,BD!D124>=DEB,BD!D124<=FIN),MAX(calc!$H$1:H123)+1,0)","v":0}]
[null,null,null,null,null,{"$f":"IF(COUNTIF(BD!$B$2:B125,BD!B125)=1,MAX($F$1:F124)+1,\"\")","v":""},null,{"$f":"IF(AND(BD!B125=REF,BD!D125>=DEB,BD!D125<=FIN),MAX(calc!$H$1:H124)+1,0)","v":0}]
[null,null,null,null,null,{"$f":"IF(COUNTIF(BD!$B$2:B126,BD!B126)=1,MAX($F$1:F125)+1,\"\")","v":""},null,{"$f":"IF(AND(BD!B126=REF,BD!D126>=DEB,BD!D126<=FIN),MAX(calc!$H$1:H125)+1,0)","v":0}]
[null,null,null,null,null,{"$f":"IF(COUNTIF(BD!$B$2:B127,BD!B127)=1,MAX($F$1:F126)+1,\"\")","v":""},null,{"$f":"IF(AND(BD!B127=REF,BD!D127>=DEB,BD!D127<=FIN),MAX(calc!$H$1:H126)+1,0)","v":0}]
[null,null,null,null,null,{"$f":"IF(COUNTIF(BD!$B$2:B128,BD!B128)=1,MAX($F$1:F127)+1,\"\")","v":""},null,{"$f":"IF(AND(BD!B128=REF,BD!D128>=DEB,BD!D128<=FIN),MAX(calc!$H$1:H127)+1,0)","v":0}]
[null,null,null,null,null,{"$f":"IF(COUNTIF(BD!$B$2:B129,BD!B129)=1,MAX($F$1:F128)+1,\"\")","v":""},null,{"$f":"IF(AND(BD!B129=REF,BD!D129>=DEB,BD!D129<=FIN),MAX(calc!$H$1:H128)+1,0)","v":0}]
[null,null,null,null,null,{"$f":"IF(COUNTIF(BD!$B$2:B130,BD!B130)=1,MAX($F$1:F129)+1,\"\")","v":""},null,{"$f":"IF(AND(BD!B130=REF,BD!D130>=DEB,BD!D130<=FIN),MAX(calc!$H$1:H129)+1,0)","v":0}]
[null,null,null,null,null,{"$f":"IF(COUNTIF(BD!$B$2:B131,BD!B131)=1,MAX($F$1:F130)+1,\"\")","v":""},null,{"$f":"IF(AND(BD!B131=REF,BD!D131>=DEB,BD!D131<=FIN),MAX(calc!$H$1:H130)+1,0)","v":0}]
[null,null,null,null,null,{"$f":"IF(COUNTIF(BD!$B$2:B132,BD!B132)=1,MAX($F$1:F131)+1,\"\")","v":""},null,{"$f":"IF(AND(BD!B132=REF,BD!D132>=DEB,BD!D132<=FIN),MAX(calc!$H$1:H131)+1,0)","v":0}]
[null,null,null,null,null,{"$f":"IF(COUNTIF(BD!$B$2:B133,BD!B133)=1,MAX($F$1:F132)+1,\"\")","v":""},null,{"$f":"IF(AND(BD!B133=REF,BD!D133>=DEB,BD!D133<=FIN),MAX(calc!$H$1:H132)+1,0)","v":0}]
[null,null,null,null,null,{"$f":"IF(COUNTIF(BD!$B$2:B134,BD!B134)=1,MAX($F$1:F133)+1,\"\")","v":""},null,{"$f":"IF(AND(BD!B134=REF,BD!D134>=DEB,BD!D134<=FIN),MAX(calc!$H$1:H133)+1,0)","v":0}]
[null,null,null,null,null,{"$f":"IF(COUNTIF(BD!$B$2:B135,BD!B135)=1,MAX($F$1:F134)+1,\"\")","v":""},null,{"$f":"IF(AND(BD!B135=REF,BD!D135>=DEB,BD!D135<=FIN),MAX(calc!$H$1:H134)+1,0)","v":0}]
[null,null,null,null,null,{"$f":"IF(COUNTIF(BD!$B$2:B136,BD!B136)=1,MAX($F$1:F135)+1,\"\")","v":""},null,{"$f":"IF(AND(BD!B136=REF,BD!D136>=DEB,BD!D136<=FIN),MAX(calc!$H$1:H135)+1,0)","v":0}]
[null,null,null,null,null,{"$f":"IF(COUNTIF(BD!$B$2:B137,BD!B137)=1,MAX($F$1:F136)+1,\"\")","v":""},null,{"$f":"IF(AND(BD!B137=REF,BD!D137>=DEB,BD!D137<=FIN),MAX(calc!$H$1:H136)+1,0)","v":0}]
[null,null,null,null,null,{"$f":"IF(COUNTIF(BD!$B$2:B138,BD!B138)=1,MAX($F$1:F137)+1,\"\")","v":""},null,{"$f":"IF(AND(BD!B138=REF,BD!D138>=DEB,BD!D138<=FIN),MAX(calc!$H$1:H137)+1,0)","v":0}]
[null,null,null,null,null,{"$f":"IF(COUNTIF(BD!$B$2:B139,BD!B139)=1,MAX($F$1:F138)+1,\"\")","v":""},null,{"$f":"IF(AND(BD!B139=REF,BD!D139>=DEB,BD!D139<=FIN),MAX(calc!$H$1:H138)+1,0)","v":0}]
[null,null,null,null,null,{"$f":"IF(COUNTIF(BD!$B$2:B140,BD!B140)=1,MAX($F$1:F139)+1,\"\")","v":""},null,{"$f":"IF(AND(BD!B140=REF,BD!D140>=DEB,BD!D140<=FIN),MAX(calc!$H$1:H139)+1,0)","v":0}]
[null,null,null,null,null,{"$f":"IF(COUNTIF(BD!$B$2:B141,BD!B141)=1,MAX($F$1:F140)+1,\"\")","v":""},null,{"$f":"IF(AND(BD!B141=REF,BD!D141>=DEB,BD!D141<=FIN),MAX(calc!$H$1:H140)+1,0)","v":0}]
[null,null,null,null,null,{"$f":"IF(COUNTIF(BD!$B$2:B142,BD!B142)=1,MAX($F$1:F141)+1,\"\")","v":""},null,{"$f":"IF(AND(BD!B142=REF,BD!D142>=DEB,BD!D142<=FIN),MAX(calc!$H$1:H141)+1,0)","v":0}]
[null,null,null,null,null,{"$f":"IF(COUNTIF(BD!$B$2:B143,BD!B143)=1,MAX($F$1:F142)+1,\"\")","v":""},null,{"$f":"IF(AND(BD!B143=REF,BD!D143>=DEB,BD!D143<=FIN),MAX(calc!$H$1:H142)+1,0)","v":0}]
[null,null,null,null,null,{"$f":"IF(COUNTIF(BD!$B$2:B144,BD!B144)=1,MAX($F$1:F143)+1,\"\")","v":""},null,{"$f":"IF(AND(BD!B144=REF,BD!D144>=DEB,BD!D144<=FIN),MAX(calc!$H$1:H143)+1,0)","v":0}]
[null,null,null,null,null,{"$f":"IF(COUNTIF(BD!$B$2:B145,BD!B145)=1,MAX($F$1:F144)+1,\"\")","v":""},null,{"$f":"IF(AND(BD!B145=REF,BD!D145>=DEB,BD!D145<=FIN),MAX(calc!$H$1:H144)+1,0)","v":0}]
[null,null,null,null,null,{"$f":"IF(COUNTIF(BD!$B$2:B146,BD!B146)=1,MAX($F$1:F145)+1,\"\")","v":""},null,{"$f":"IF(AND(BD!B146=REF,BD!D146>=DEB,BD!D146<=FIN),MAX(calc!$H$1:H145)+1,0)","v":0}]
[null,null,null,null,null,{"$f":"IF(COUNTIF(BD!$B$2:B147,BD!B147)=1,MAX($F$1:F146)+1,\"\")","v":""},null,{"$f":"IF(AND(BD!B147=REF,BD!D147>=DEB,BD!D147<=FIN),MAX(calc!$H$1:H146)+1,0)","v":0}]
[null,null,null,null,null,{"$f":"IF(COUNTIF(BD!$B$2:B148,BD!B148)=1,MAX($F$1:F147)+1,\"\")","v":""},null,{"$f":"IF(AND(BD!B148=REF,BD!D148>=DEB,BD!D148<=FIN),MAX(calc!$H$1:H147)+1,0)","v":0}]
[null,null,null,null,null,{"$f":"IF(COUNTIF(BD!$B$2:B149,BD!B149)=1,MAX($F$1:F148)+1,\"\")","v":""},null,{"$f":"IF(AND(BD!B149=REF,BD!D149>=DEB,BD!D149<=FIN),MAX(calc!$H$1:H148)+1,0)","v":0}]
[null,null,null,null,null,{"$f":"IF(COUNTIF(BD!$B$2:B150,BD!B150)=1,MAX($F$1:F149)+1,\"\")","v":""},null,{"$f":"IF(AND(BD!B150=REF,BD!D150>=DEB,BD!D150<=FIN),MAX(calc!$H$1:H149)+1,0)","v":0}]
[null,null,null,null,null,{"$f":"IF(COUNTIF(BD!$B$2:B151,BD!B151)=1,MAX($F$1:F150)+1,\"\")","v":""},null,{"$f":"IF(AND(BD!B151=REF,BD!D151>=DEB,BD!D151<=FIN),MAX(calc!$H$1:H150)+1,0)","v":0}]
[null,null,null,null,null,{"$f":"IF(COUNTIF(BD!$B$2:B152,BD!B152)=1,MAX($F$1:F151)+1,\"\")","v":""},null,{"$f":"IF(AND(BD!B152=REF,BD!D152>=DEB,BD!D152<=FIN),MAX(calc!$H$1:H151)+1,0)","v":0}]
[null,null,null,null,null,{"$f":"IF(COUNTIF(BD!$B$2:B153,BD!B153)=1,MAX($F$1:F152)+1,\"\")","v":""},null,{"$f":"IF(AND(BD!B153=REF,BD!D153>=DEB,BD!D153<=FIN),MAX(calc!$H$1:H152)+1,0)","v":0}]
[null,null,null,null,null,{"$f":"IF(COUNTIF(BD!$B$2:B154,BD!B154)=1,MAX($F$1:F153)+1,\"\")","v":""},null,{"$f":"IF(AND(BD!B154=REF,BD!D154>=DEB,BD!D154<=FIN),MAX(calc!$H$1:H153)+1,0)","v":0}]
[null,null,null,null,null,{"$f":"IF(COUNTIF(BD!$B$2:B155,BD!B155)=1,MAX($F$1:F154)+1,\"\")","v":""},null,{"$f":"IF(AND(BD!B155=REF,BD!D155>=DEB,BD!D155<=FIN),MAX(calc!$H$1:H154)+1,0)","v":0}]
[null,null,null,null,null,{"$f":"IF(COUNTIF(BD!$B$2:B156,BD!B156)=1,MAX($F$1:F155)+1,\"\")","v":""},null,{"$f":"IF(AND(BD!B156=REF,BD!D156>=DEB,BD!D156<=FIN),MAX(calc!$H$1:H155)+1,0)","v":0}]
[null,null,null,null,null,{"$f":"IF(COUNTIF(BD!$B$2:B157,BD!B157)=1,MAX($F$1:F156)+1,\"\")","v":""},null,{"$f":"IF(AND(BD!B157=REF,BD!D157>=DEB,BD!D157<=FIN),MAX(calc!$H$1:H156)+1,0)","v":0}]
[null,null,null,null,null,{"$f":"IF(COUNTIF(BD!$B$2:B158,BD!B158)=1,MAX($F$1:F157)+1,\"\")","v":""},null,{"$f":"IF(AND(BD!B158=REF,BD!D158>=DEB,BD!D158<=FIN),MAX(calc!$H$1:H157)+1,0)","v":0}]
[null,null,null,null,null,{"$f":"IF(COUNTIF(BD!$B$2:B159,BD!B159)=1,MAX($F$1:F158)+1,\"\")","v":""},null,{"$f":"IF(AND(BD!B159=REF,BD!D159>=DEB,BD!D159<=FIN),MAX(calc!$H$1:H158)+1,0)","v":0}]
[null,null,null,null,null,{"$f":"IF(COUNTIF(BD!$B$2:B160,BD!B160)=1,MAX($F$1:F159)+1,\"\")","v":""},null,{"$f":"IF(AND(BD!B160=REF,BD!D160>=DEB,BD!D160<=FIN),MAX(calc!$H$1:H159)+1,0)","v":0}]
[null,null,null,null,null,{"$f":"IF(COUNTIF(BD!$B$2:B161,BD!B161)=1,MAX($F$1:F160)+1,\"\")","v":""},null,{"$f":"IF(AND(BD!B161=REF,BD!D161>=DEB,BD!D161<=FIN),MAX(calc!$H$1:H160)+1,0)","v":0}]
[null,null,null,null,null,{"$f":"IF(COUNTIF(BD!$B$2:B162,BD!B162)=1,MAX($F$1:F161)+1,\"\")","v":""},null,{"$f":"IF(AND(BD!B162=REF,BD!D162>=DEB,BD!D162<=FIN),MAX(calc!$H$1:H161)+1,0)","v":0}]
[null,null,null,null,null,{"$f":"IF(COUNTIF(BD!$B$2:B163,BD!B163)=1,MAX($F$1:F162)+1,\"\")","v":""},null,{"$f":"IF(AND(BD!B163=REF,BD!D163>=DEB,BD!D163<=FIN),MAX(calc!$H$1:H162)+1,0)","v":0}]
[null,null,null,null,null,{"$f":"IF(COUNTIF(BD!$B$2:B164,BD!B164)=1,MAX($F$1:F163)+1,\"\")","v":""},null,{"$f":"IF(AND(BD!B164=REF,BD!D164>=DEB,BD!D164<=FIN),MAX(calc!$H$1:H163)+1,0)","v":0}]
[null,null,null,null,null,{"$f":"IF(COUNTIF(BD!$B$2:B165,BD!B165)=1,MAX($F$1:F164)+1,\"\")","v":""},null,{"$f":"IF(AND(BD!B165=REF,BD!D165>=DEB,BD!D165<=FIN),MAX(calc!$H$1:H164)+1,0)","v":0}]
[null,null,null,null,null,{"$f":"IF(COUNTIF(BD!$B$2:B166,BD!B166)=1,MAX($F$1:F165)+1,\"\")","v":""},null,{"$f":"IF(AND(BD!B166=REF,BD!D166>=DEB,BD!D166<=FIN),MAX(calc!$H$1:H165)+1,0)","v":0}]
[null,null,null,null,null,{"$f":"IF(COUNTIF(BD!$B$2:B167,BD!B167)=1,MAX($F$1:F166)+1,\"\")","v":""},null,{"$f":"IF(AND(BD!B167=REF,BD!D167>=DEB,BD!D167<=FIN),MAX(calc!$H$1:H166)+1,0)","v":0}]
[null,null,null,null,null,{"$f":"IF(COUNTIF(BD!$B$2:B168,BD!B168)=1,MAX($F$1:F167)+1,\"\")","v":""},null,{"$f":"IF(AND(BD!B168=REF,BD!D168>=DEB,BD!D168<=FIN),MAX(calc!$H$1:H167)+1,0)","v":0}]
[null,null,null,null,null,{"$f":"IF(COUNTIF(BD!$B$2:B169,BD!B169)=1,MAX($F$1:F168)+1,\"\")","v":""},null,{"$f":"IF(AND(BD!B169=REF,BD!D169>=DEB,BD!D169<=FIN),MAX(calc!$H$1:H168)+1,0)","v":0}]
[null,null,null,null,null,{"$f":"IF(COUNTIF(BD!$B$2:B170,BD!B170)=1,MAX($F$1:F169)+1,\"\")","v":""},null,{"$f":"IF(AND(BD!B170=REF,BD!D170>=DEB,BD!D170<=FIN),MAX(calc!$H$1:H169)+1,0)","v":0}]
[null,null,null,null,null,{"$f":"IF(COUNTIF(BD!$B$2:B171,BD!B171)=1,MAX($F$1:F170)+1,\"\")","v":""},null,{"$f":"IF(AND(BD!B171=REF,BD!D171>=DEB,BD!D171<=FIN),MAX(calc!$H$1:H170)+1,0)","v":0}]
[null,null,null,null,null,{"$f":"IF(COUNTIF(BD!$B$2:B172,BD!B172)=1,MAX($F$1:F171)+1,\"\")","v":""},null,{"$f":"IF(AND(BD!B172=REF,BD!D172>=DEB,BD!D172<=FIN),MAX(calc!$H$1:H171)+1,0)","v":0}]
[null,null,null,null,null,{"$f":"IF(COUNTIF(BD!$B$2:B173,BD!B173)=1,MAX($F$1:F172)+1,\"\")","v":""},null,{"$f":"IF(AND(BD!B173=REF,BD!D173>=DEB,BD!D173<=FIN),MAX(calc!$H$1:H172)+1,0)","v":0}]
[null,null,null,null,null,{"$f":"IF(COUNTIF(BD!$B$2:B174,BD!B174)=1,MAX($F$1:F173)+1,\"\")","v":""},null,{"$f":"IF(AND(BD!B174=REF,BD!D174>=DEB,BD!D174<=FIN),MAX(calc!$H$1:H173)+1,0)","v":0}]
[null,null,null,null,null,{"$f":"IF(COUNTIF(BD!$B$2:B175,BD!B175)=1,MAX($F$1:F174)+1,\"\")","v":""},null,{"$f":"IF(AND(BD!B175=REF,BD!D175>=DEB,BD!D175<=FIN),MAX(calc!$H$1:H174)+1,0)","v":0}]
[null,null,null,null,null,{"$f":"IF(COUNTIF(BD!$B$2:B176,BD!B176)=1,MAX($F$1:F175)+1,\"\")","v":""},null,{"$f":"IF(AND(BD!B176=REF,BD!D176>=DEB,BD!D176<=FIN),MAX(calc!$H$1:H175)+1,0)","v":0}]
[null,null,null,null,null,{"$f":"IF(COUNTIF(BD!$B$2:B177,BD!B177)=1,MAX($F$1:F176)+1,\"\")","v":""},null,{"$f":"IF(AND(BD!B177=REF,BD!D177>=DEB,BD!D177<=FIN),MAX(calc!$H$1:H176)+1,0)","v":0}]
[null,null,null,null,null,{"$f":"IF(COUNTIF(BD!$B$2:B178,BD!B178)=1,MAX($F$1:F177)+1,\"\")","v":""},null,{"$f":"IF(AND(BD!B178=REF,BD!D178>=DEB,BD!D178<=FIN),MAX(calc!$H$1:H177)+1,0)","v":0}]
[null,null,null,null,null,{"$f":"IF(COUNTIF(BD!$B$2:B179,BD!B179)=1,MAX($F$1:F178)+1,\"\")","v":""},null,{"$f":"IF(AND(BD!B179=REF,BD!D179>=DEB,BD!D179<=FIN),MAX(calc!$H$1:H178)+1,0)","v":0}]
[null,null,null,null,null,{"$f":"IF(COUNTIF(BD!$B$2:B180,BD!B180)=1,MAX($F$1:F179)+1,\"\")","v":""},null,{"$f":"IF(AND(BD!B180=REF,BD!D180>=DEB,BD!D180<=FIN),MAX(calc!$H$1:H179)+1,0)","v":0}]
[null,null,null,null,null,{"$f":"IF(COUNTIF(BD!$B$2:B181,BD!B181)=1,MAX($F$1:F180)+1,\"\")","v":""},null,{"$f":"IF(AND(BD!B181=REF,BD!D181>=DEB,BD!D181<=FIN),MAX(calc!$H$1:H180)+1,0)","v":0}]
[null,null,null,null,null,{"$f":"IF(COUNTIF(BD!$B$2:B182,BD!B182)=1,MAX($F$1:F181)+1,\"\")","v":""},null,{"$f":"IF(AND(BD!B182=REF,BD!D182>=DEB,BD!D182<=FIN),MAX(calc!$H$1:H181)+1,0)","v":0}]
[null,null,null,null,null,{"$f":"IF(COUNTIF(BD!$B$2:B183,BD!B183)=1,MAX($F$1:F182)+1,\"\")","v":""},null,{"$f":"IF(AND(BD!B183=REF,BD!D183>=DEB,BD!D183<=FIN),MAX(calc!$H$1:H182)+1,0)","v":0}]
[null,null,null,null,null,{"$f":"IF(COUNTIF(BD!$B$2:B184,BD!B184)=1,MAX($F$1:F183)+1,\"\")","v":""},null,{"$f":"IF(AND(BD!B184=REF,BD!D184>=DEB,BD!D184<=FIN),MAX(calc!$H$1:H183)+1,0)","v":0}]
[null,null,null,null,null,{"$f":"IF(COUNTIF(BD!$B$2:B185,BD!B185)=1,MAX($F$1:F184)+1,\"\")","v":""},null,{"$f":"IF(AND(BD!B185=REF,BD!D185>=DEB,BD!D185<=FIN),MAX(calc!$H$1:H184)+1,0)","v":0}]
[null,null,null,null,null,{"$f":"IF(COUNTIF(BD!$B$2:B186,BD!B186)=1,MAX($F$1:F185)+1,\"\")","v":""},null,{"$f":"IF(AND(BD!B186=REF,BD!D186>=DEB,BD!D186<=FIN),MAX(calc!$H$1:H185)+1,0)","v":0}]
[null,null,null,null,null,{"$f":"IF(COUNTIF(BD!$B$2:B187,BD!B187)=1,MAX($F$1:F186)+1,\"\")","v":""},null,{"$f":"IF(AND(BD!B187=REF,BD!D187>=DEB,BD!D187<=FIN),MAX(calc!$H$1:H186)+1,0)","v":0}]
[null,null,null,null,null,{"$f":"IF(COUNTIF(BD!$B$2:B188,BD!B188)=1,MAX($F$1:F187)+1,\"\")","v":""},null,{"$f":"IF(AND(BD!B188=REF,BD!D188>=DEB,BD!D188<=FIN),MAX(calc!$H$1:H187)+1,0)","v":0}]
[null,null,null,null,null,{"$f":"IF(COUNTIF(BD!$B$2:B189,BD!B189)=1,MAX($F$1:F188)+1,\"\")","v":""},null,{"$f":"IF(AND(BD!B189=REF,BD!D189>=DEB,BD!D189<=FIN),MAX(calc!$H$1:H188)+1,0)","v":0}]
[null,null,null,null,null,{"$f":"IF(COUNTIF(BD!$B$2:B190,BD!B190)=1,MAX($F$1:F189)+1,\"\")","v":""},null,{"$f":"IF(AND(BD!B190=REF,BD!D190>=DEB,BD!D190<=FIN),MAX(calc!$H$1:H189)+1,0)","v":0}]
[null,null,null,null,null,{"$f":"IF(COUNTIF(BD!$B$2:B191,BD!B191)=1,MAX($F$1:F190)+1,\"\")","v":""},null,{"$f":"IF(AND(BD!B191=REF,BD!D191>=DEB,BD!D191<=FIN),MAX(calc!$H$1:H190)+1,0)","v":0}]
[null,null,null,null,null,{"$f":"IF(COUNTIF(BD!$B$2:B192,BD!B192)=1,MAX($F$1:F191)+1,\"\")","v":""},null,{"$f":"IF(AND(BD!B192=REF,BD!D192>=DEB,BD!D192<=FIN),MAX(calc!$H$1:H191)+1,0)","v":0}]
[null,null,null,null,null,{"$f":"IF(COUNTIF(BD!$B$2:B193,BD!B193)=1,MAX($F$1:F192)+1,\"\")","v":""},null,{"$f":"IF(AND(BD!B193=REF,BD!D193>=DEB,BD!D193<=FIN),MAX(calc!$H$1:H192)+1,0)","v":0}]
[null,null,null,null,null,{"$f":"IF(COUNTIF(BD!$B$2:B194,BD!B194)=1,MAX($F$1:F193)+1,\"\")","v":""},null,{"$f":"IF(AND(BD!B194=REF,BD!D194>=DEB,BD!D194<=FIN),MAX(calc!$H$1:H193)+1,0)","v":0}]
[null,null,null,null,null,{"$f":"IF(COUNTIF(BD!$B$2:B195,BD!B195)=1,MAX($F$1:F194)+1,\"\")","v":""},null,{"$f":"IF(AND(BD!B195=REF,BD!D195>=DEB,BD!D195<=FIN),MAX(calc!$H$1:H194)+1,0)","v":0}]
[null,null,null,null,null,{"$f":"IF(COUNTIF(BD!$B$2:B196,BD!B196)=1,MAX($F$1:F195)+1,\"\")","v":""},null,{"$f":"IF(AND(BD!B196=REF,BD!D196>=DEB,BD!D196<=FIN),MAX(calc!$H$1:H195)+1,0)","v":0}]
[null,null,null,null,null,{"$f":"IF(COUNTIF(BD!$B$2:B197,BD!B197)=1,MAX($F$1:F196)+1,\"\")","v":""},null,{"$f":"IF(AND(BD!B197=REF,BD!D197>=DEB,BD!D197<=FIN),MAX(calc!$H$1:H196)+1,0)","v":0}]
[null,null,null,null,null,{"$f":"IF(COUNTIF(BD!$B$2:B198,BD!B198)=1,MAX($F$1:F197)+1,\"\")","v":""},null,{"$f":"IF(AND(BD!B198=REF,BD!D198>=DEB,BD!D198<=FIN),MAX(calc!$H$1:H197)+1,0)","v":0}]
[null,null,null,null,null,{"$f":"IF(COUNTIF(BD!$B$2:B199,BD!B199)=1,MAX($F$1:F198)+1,\"\")","v":""},null,{"$f":"IF(AND(BD!B199=REF,BD!D199>=DEB,BD!D199<=FIN),MAX(calc!$H$1:H198)+1,0)","v":0}]
[null,null,null,null,null,{"$f":"IF(COUNTIF(BD!$B$2:B200,BD!B200)=1,MAX($F$1:F199)+1,\"\")","v":""},null,{"$f":"IF(AND(BD!B200=REF,BD!D200>=DEB,BD!D200<=FIN),MAX(calc!$H$1:H199)+1,0)","v":0}]
[null,null,null,null,null,{"$f":"IF(COUNTIF(BD!$B$2:B201,BD!B201)=1,MAX($F$1:F200)+1,\"\")","v":""},null,{"$f":"IF(AND(BD!B201=REF,BD!D201>=DEB,BD!D201<=FIN),MAX(calc!$H$1:H200)+1,0)","v":0}]
[null,null,null,null,null,{"$f":"IF(COUNTIF(BD!$B$2:B202,BD!B202)=1,MAX($F$1:F201)+1,\"\")","v":""},null,{"$f":"IF(AND(BD!B202=REF,BD!D202>=DEB,BD!D202<=FIN),MAX(calc!$H$1:H201)+1,0)","v":0}]
[null,null,null,null,null,{"$f":"IF(COUNTIF(BD!$B$2:B203,BD!B203)=1,MAX($F$1:F202)+1,\"\")","v":""},null,{"$f":"IF(AND(BD!B203=REF,BD!D203>=DEB,BD!D203<=FIN),MAX(calc!$H$1:H202)+1,0)","v":0}]
[null,null,null,null,null,{"$f":"IF(COUNTIF(BD!$B$2:B204,BD!B204)=1,MAX($F$1:F203)+1,\"\")","v":""},null,{"$f":"IF(AND(BD!B204=REF,BD!D204>=DEB,BD!D204<=FIN),MAX(calc!$H$1:H203)+1,0)","v":0}]
[null,null,null,null,null,{"$f":"IF(COUNTIF(BD!$B$2:B205,BD!B205)=1,MAX($F$1:F204)+1,\"\")","v":""},null,{"$f":"IF(AND(BD!B205=REF,BD!D205>=DEB,BD!D205<=FIN),MAX(calc!$H$1:H204)+1,0)","v":0}]
[null,null,null,null,null,{"$f":"IF(COUNTIF(BD!$B$2:B206,BD!B206)=1,MAX($F$1:F205)+1,\"\")","v":""},null,{"$f":"IF(AND(BD!B206=REF,BD!D206>=DEB,BD!D206<=FIN),MAX(calc!$H$1:H205)+1,0)","v":0}]
[null,null,null,null,null,{"$f":"IF(COUNTIF(BD!$B$2:B207,BD!B207)=1,MAX($F$1:F206)+1,\"\")","v":""},null,{"$f":"IF(AND(BD!B207=REF,BD!D207>=DEB,BD!D207<=FIN),MAX(calc!$H$1:H206)+1,0)","v":0}]
[null,null,null,null,null,{"$f":"IF(COUNTIF(BD!$B$2:B208,BD!B208)=1,MAX($F$1:F207)+1,\"\")","v":""},null,{"$f":"IF(AND(BD!B208=REF,BD!D208>=DEB,BD!D208<=FIN),MAX(calc!$H$1:H207)+1,0)","v":0}]
[null,null,null,null,null,{"$f":"IF(COUNTIF(BD!$B$2:B209,BD!B209)=1,MAX($F$1:F208)+1,\"\")","v":""},null,{"$f":"IF(AND(BD!B209=REF,BD!D209>=DEB,BD!D209<=FIN),MAX(calc!$H$1:H208)+1,0)","v":0}]
[null,null,null,null,null,{"$f":"IF(COUNTIF(BD!$B$2:B210,BD!B210)=1,MAX($F$1:F209)+1,\"\")","v":""},null,{"$f":"IF(AND(BD!B210=REF,BD!D210>=DEB,BD!D210<=FIN),MAX(calc!$H$1:H209)+1,0)","v":0}]
[null,null,null,null,null,{"$f":"IF(COUNTIF(BD!$B$2:B211,BD!B211)=1,MAX($F$1:F210)+1,\"\")","v":""},null,{"$f":"IF(AND(BD!B211=REF,BD!D211>=DEB,BD!D211<=FIN),MAX(calc!$H$1:H210)+1,0)","v":0}]
[null,null,null,null,null,{"$f":"IF(COUNTIF(BD!$B$2:B212,BD!B212)=1,MAX($F$1:F211)+1,\"\")","v":""},null,{"$f":"IF(AND(BD!B212=REF,BD!D212>=DEB,BD!D212<=FIN),MAX(calc!$H$1:H211)+1,0)","v":0}]
[null,null,null,null,null,{"$f":"IF(COUNTIF(BD!$B$2:B213,BD!B213)=1,MAX($F$1:F212)+1,\"\")","v":""},null,{"$f":"IF(AND(BD!B213=REF,BD!D213>=DEB,BD!D213<=FIN),MAX(calc!$H$1:H212)+1,0)","v":0}]
[null,null,null,null,null,{"$f":"IF(COUNTIF(BD!$B$2:B214,BD!B214)=1,MAX($F$1:F213)+1,\"\")","v":""},null,{"$f":"IF(AND(BD!B214=REF,BD!D214>=DEB,BD!D214<=FIN),MAX(calc!$H$1:H213)+1,0)","v":0}]
[null,null,null,null,null,{"$f":"IF(COUNTIF(BD!$B$2:B215,BD!B215)=1,MAX($F$1:F214)+1,\"\")","v":""},null,{"$f":"IF(AND(BD!B215=REF,BD!D215>=DEB,BD!D215<=FIN),MAX(calc!$H$1:H214)+1,0)","v":0}]
[null,null,null,null,null,{"$f":"IF(COUNTIF(BD!$B$2:B216,BD!B216)=1,MAX($F$1:F215)+1,\"\")","v":""},null,{"$f":"IF(AND(BD!B216=REF,BD!D216>=DEB,BD!D216<=FIN),MAX(calc!$H$1:H215)+1,0)","v":0}]
[null,null,null,null,null,{"$f":"IF(COUNTIF(BD!$B$2:B217,BD!B217)=1,MAX($F$1:F216)+1,\"\")","v":""},null,{"$f":"IF(AND(BD!B217=REF,BD!D217>=DEB,BD!D217<=FIN),MAX(calc!$H$1:H216)+1,0)","v":0}]
[null,null,null,null,null,{"$f":"IF(COUNTIF(BD!$B$2:B218,BD!B218)=1,MAX($F$1:F217)+1,\"\")","v":""},null,{"$f":"IF(AND(BD!B218=REF,BD!D218>=DEB,BD!D218<=FIN),MAX(calc!$H$1:H217)+1,0)","v":0}]
[null,null,null,null,null,{"$f":"IF(COUNTIF(BD!$B$2:B219,BD!B219)=1,MAX($F$1:F218)+1,\"\")","v":""},null,{"$f":"IF(AND(BD!B219=REF,BD!D219>=DEB,BD!D219<=FIN),MAX(calc!$H$1:H218)+1,0)","v":0}]
[null,null,null,null,null,{"$f":"IF(COUNTIF(BD!$B$2:B220,BD!B220)=1,MAX($F$1:F219)+1,\"\")","v":""},null,{"$f":"IF(AND(BD!B220=REF,BD!D220>=DEB,BD!D220<=FIN),MAX(calc!$H$1:H219)+1,0)","v":0}]
[null,null,null,null,null,{"$f":"IF(COUNTIF(BD!$B$2:B221,BD!B221)=1,MAX($F$1:F220)+1,\"\")","v":""},null,{"$f":"IF(AND(BD!B221=REF,BD!D221>=DEB,BD!D221<=FIN),MAX(calc!$H$1:H220)+1,0)","v":0}]
[null,null,null,null,null,{"$f":"IF(COUNTIF(BD!$B$2:B222,BD!B222)=1,MAX($F$1:F221)+1,\"\")","v":""},null,{"$f":"IF(AND(BD!B222=REF,BD!D222>=DEB,BD!D222<=FIN),MAX(calc!$H$1:H221)+1,0)","v":0}]
[null,null,null,null,null,{"$f":"IF(COUNTIF(BD!$B$2:B223,BD!B223)=1,MAX($F$1:F222)+1,\"\")","v":""},null,{"$f":"IF(AND(BD!B223=REF,BD!D223>=DEB,BD!D223<=FIN),MAX(calc!$H$1:H222)+1,0)","v":0}]
[null,null,null,null,null,{"$f":"IF(COUNTIF(BD!$B$2:B224,BD!B224)=1,MAX($F$1:F223)+1,\"\")","v":""},null,{"$f":"IF(AND(BD!B224=REF,BD!D224>=DEB,BD!D224<=FIN),MAX(calc!$H$1:H223)+1,0)","v":0}]
[null,null,null,null,null,{"$f":"IF(COUNTIF(BD!$B$2:B225,BD!B225)=1,MAX($F$1:F224)+1,\"\")","v":""},null,{"$f":"IF(AND(BD!B225=REF,BD!D225>=DEB,BD!D225<=FIN),MAX(calc!$H$1:H224)+1,0)","v":0}]
[null,null,null,null,null,{"$f":"IF(COUNTIF(BD!$B$2:B226,BD!B226)=1,MAX($F$1:F225)+1,\"\")","v":""},null,{"$f":"IF(AND(BD!B226=REF,BD!D226>=DEB,BD!D226<=FIN),MAX(calc!$H$1:H225)+1,0)","v":0}]
[null,null,null,null,null,{"$f":"IF(COUNTIF(BD!$B$2:B227,BD!B227)=1,MAX($F$1:F226)+1,\"\")","v":""},null,{"$f":"IF(AND(BD!B227=REF,BD!D227>=DEB,BD!D227<=FIN),MAX(calc!$H$1:H226)+1,0)","v":0}]
[null,null,null,null,null,{"$f":"IF(COUNTIF(BD!$B$2:B228,BD!B228)=1,MAX($F$1:F227)+1,\"\")","v":""},null,{"$f":"IF(AND(BD!B228=REF,BD!D228>=DEB,BD!D228<=FIN),MAX(calc!$H$1:H227)+1,0)","v":0}]
[null,null,null,null,null,{"$f":"IF(COUNTIF(BD!$B$2:B229,BD!B229)=1,MAX($F$1:F228)+1,\"\")","v":""},null,{"$f":"IF(AND(BD!B229=REF,BD!D229>=DEB,BD!D229<=FIN),MAX(calc!$H$1:H228)+1,0)","v":0}]
[null,null,null,null,null,{"$f":"IF(COUNTIF(BD!$B$2:B230,BD!B230)=1,MAX($F$1:F229)+1,\"\")","v":""},null,{"$f":"IF(AND(BD!B230=REF,BD!D230>=DEB,BD!D230<=FIN),MAX(calc!$H$1:H229)+1,0)","v":0}]
[null,null,null,null,null,{"$f":"IF(COUNTIF(BD!$B$2:B231,BD!B231)=1,MAX($F$1:F230)+1,\"\")","v":""},null,{"$f":"IF(AND(BD!B231=REF,BD!D231>=DEB,BD!D231<=FIN),MAX(calc!$H$1:H230)+1,0)","v":0}]
[null,null,null,null,null,{"$f":"IF(COUNTIF(BD!$B$2:B232,BD!B232)=1,MAX($F$1:F231)+1,\"\")","v":""},null,{"$f":"IF(AND(BD!B232=REF,BD!D232>=DEB,BD!D232<=FIN),MAX(calc!$H$1:H231)+1,0)","v":0}]
[null,null,null,null,null,{"$f":"IF(COUNTIF(BD!$B$2:B233,BD!B233)=1,MAX($F$1:F232)+1,\"\")","v":""},null,{"$f":"IF(AND(BD!B233=REF,BD!D233>=DEB,BD!D233<=FIN),MAX(calc!$H$1:H232)+1,0)","v":0}]
[null,null,null,null,null,{"$f":"IF(COUNTIF(BD!$B$2:B234,BD!B234)=1,MAX($F$1:F233)+1,\"\")","v":""},null,{"$f":"IF(AND(BD!B234=REF,BD!D234>=DEB,BD!D234<=FIN),MAX(calc!$H$1:H233)+1,0)","v":0}]
[null,null,null,null,null,{"$f":"IF(COUNTIF(BD!$B$2:B235,BD!B235)=1,MAX($F$1:F234)+1,\"\")","v":""},null,{"$f":"IF(AND(BD!B235=REF,BD!D235>=DEB,BD!D235<=FIN),MAX(calc!$H$1:H234)+1,0)","v":0}]
[null,null,null,null,null,{"$f":"IF(COUNTIF(BD!$B$2:B236,BD!B236)=1,MAX($F$1:F235)+1,\"\")","v":""},null,{"$f":"IF(AND(BD!B236=REF,BD!D236>=DEB,BD!D236<=FIN),MAX(calc!$H$1:H235)+1,0)","v":0}]
[null,null,null,null,null,{"$f":"IF(COUNTIF(BD!$B$2:B237,BD!B237)=1,MAX($F$1:F236)+1,\"\")","v":""},null,{"$f":"IF(AND(BD!B237=REF,BD!D237>=DEB,BD!D237<=FIN),MAX(calc!$H$1:H236)+1,0)","v":0}]
[null,null,null,null,null,{"$f":"IF(COUNTIF(BD!$B$2:B238,BD!B238)=1,MAX($F$1:F237)+1,\"\")","v":""},null,{"$f":"IF(AND(BD!B238=REF,BD!D238>=DEB,BD!D238<=FIN),MAX(calc!$H$1:H237)+1,0)","v":0}]
[null,null,null,null,null,{"$f":"IF(COUNTIF(BD!$B$2:B239,BD!B239)=1,MAX($F$1:F238)+1,\"\")","v":""},null,{"$f":"IF(AND(BD!B239=REF,BD!D239>=DEB,BD!D239<=FIN),MAX(calc!$H$1:H238)+1,0)","v":0}]
[null,null,null,null,null,{"$f":"IF(COUNTIF(BD!$B$2:B240,BD!B240)=1,MAX($F$1:F239)+1,\"\")","v":""},null,{"$f":"IF(AND(BD!B240=REF,BD!D240>=DEB,BD!D240<=FIN),MAX(calc!$H$1:H239)+1,0)","v":0}]
[null,null,null,null,null,{"$f":"IF(COUNTIF(BD!$B$2:B241,BD!B241)=1,MAX($F$1:F240)+1,\"\")","v":""},null,{"$f":"IF(AND(BD!B241=REF,BD!D241>=DEB,BD!D241<=FIN),MAX(calc!$H$1:H240)+1,0)","v":0}]
[null,null,null,null,null,{"$f":"IF(COUNTIF(BD!$B$2:B242,BD!B242)=1,MAX($F$1:F241)+1,\"\")","v":""},null,{"$f":"IF(AND(BD!B242=REF,BD!D242>=DEB,BD!D242<=FIN),MAX(calc!$H$1:H241)+1,0)","v":0}]
[null,null,null,null,null,{"$f":"IF(COUNTIF(BD!$B$2:B243,BD!B243)=1,MAX($F$1:F242)+1,\"\")","v":""},null,{"$f":"IF(AND(BD!B243=REF,BD!D243>=DEB,BD!D243<=FIN),MAX(calc!$H$1:H242)+1,0)","v":0}]
[null,null,null,null,null,{"$f":"IF(COUNTIF(BD!$B$2:B244,BD!B244)=1,MAX($F$1:F243)+1,\"\")","v":""},null,{"$f":"IF(AND(BD!B244=REF,BD!D244>=DEB,BD!D244<=FIN),MAX(calc!$H$1:H243)+1,0)","v":0}]
[null,null,null,null,null,{"$f":"IF(COUNTIF(BD!$B$2:B245,BD!B245)=1,MAX($F$1:F244)+1,\"\")","v":""},null,{"$f":"IF(AND(BD!B245=REF,BD!D245>=DEB,BD!D245<=FIN),MAX(calc!$H$1:H244)+1,0)","v":0}]
[null,null,null,null,null,{"$f":"IF(COUNTIF(BD!$B$2:B246,BD!B246)=1,MAX($F$1:F245)+1,\"\")","v":""},null,{"$f":"IF(AND(BD!B246=REF,BD!D246>=DEB,BD!D246<=FIN),MAX(calc!$H$1:H245)+1,0)","v":0}]
[null,null,null,null,null,{"$f":"IF(COUNTIF(BD!$B$2:B247,BD!B247)=1,MAX($F$1:F246)+1,\"\")","v":""},null,{"$f":"IF(AND(BD!B247=REF,BD!D247>=DEB,BD!D247<=FIN),MAX(calc!$H$1:H246)+1,0)","v":0}]
[null,null,null,null,null,{"$f":"IF(COUNTIF(BD!$B$2:B248,BD!B248)=1,MAX($F$1:F247)+1,\"\")","v":""},null,{"$f":"IF(AND(BD!B248=REF,BD!D248>=DEB,BD!D248<=FIN),MAX(calc!$H$1:H247)+1,0)","v":0}]
[null,null,null,null,null,{"$f":"IF(COUNTIF(BD!$B$2:B249,BD!B249)=1,MAX($F$1:F248)+1,\"\")","v":""},null,{"$f":"IF(AND(BD!B249=REF,BD!D249>=DEB,BD!D249<=FIN),MAX(calc!$H$1:H248)+1,0)","v":0}]
[null,null,null,null,null,{"$f":"IF(COUNTIF(BD!$B$2:B250,BD!B250)=1,MAX($F$1:F249)+1,\"\")","v":""},null,{"$f":"IF(AND(BD!B250=REF,BD!D250>=DEB,BD!D250<=FIN),MAX(calc!$H$1:H249)+1,0)","v":0}]
[null,null,null,null,null,{"$f":"IF(COUNTIF(BD!$B$2:B251,BD!B251)=1,MAX($F$1:F250)+1,\"\")","v":""},null,{"$f":"IF(AND(BD!B251=REF,BD!D251>=DEB,BD!D251<=FIN),MAX(calc!$H$1:H250)+1,0)","v":0}]
[null,null,null,null,null,{"$f":"IF(COUNTIF(BD!$B$2:B252,BD!B252)=1,MAX($F$1:F251)+1,\"\")","v":""},null,{"$f":"IF(AND(BD!B252=REF,BD!D252>=DEB,BD!D252<=FIN),MAX(calc!$H$1:H251)+1,0)","v":0}]
[null,null,null,null,null,{"$f":"IF(COUNTIF(BD!$B$2:B253,BD!B253)=1,MAX($F$1:F252)+1,\"\")","v":""},null,{"$f":"IF(AND(BD!B253=REF,BD!D253>=DEB,BD!D253<=FIN),MAX(calc!$H$1:H252)+1,0)","v":0}]
[null,null,null,null,null,{"$f":"IF(COUNTIF(BD!$B$2:B254,BD!B254)=1,MAX($F$1:F253)+1,\"\")","v":""},null,{"$f":"IF(AND(BD!B254=REF,BD!D254>=DEB,BD!D254<=FIN),MAX(calc!$H$1:H253)+1,0)","v":0}]
[null,null,null,null,null,{"$f":"IF(COUNTIF(BD!$B$2:B255,BD!B255)=1,MAX($F$1:F254)+1,\"\")","v":""},null,{"$f":"IF(AND(BD!B255=REF,BD!D255>=DEB,BD!D255<=FIN),MAX(calc!$H$1:H254)+1,0)","v":0}]
[null,null,null,null,null,{"$f":"IF(COUNTIF(BD!$B$2:B256,BD!B256)=1,MAX($F$1:F255)+1,\"\")","v":""},null,{"$f":"IF(AND(BD!B256=REF,BD!D256>=DEB,BD!D256<=FIN),MAX(calc!$H$1:H255)+1,0)","v":0}]
[null,null,null,null,null,{"$f":"IF(COUNTIF(BD!$B$2:B257,BD!B257)=1,MAX($F$1:F256)+1,\"\")","v":""},null,{"$f":"IF(AND(BD!B257=REF,BD!D257>=DEB,BD!D257<=FIN),MAX(calc!$H$1:H256)+1,0)","v":0}]
[null,null,null,null,null,{"$f":"IF(COUNTIF(BD!$B$2:B258,BD!B258)=1,MAX($F$1:F257)+1,\"\")","v":""},null,{"$f":"IF(AND(BD!B258=REF,BD!D258>=DEB,BD!D258<=FIN),MAX(calc!$H$1:H257)+1,0)","v":0}]
[null,null,null,null,null,{"$f":"IF(COUNTIF(BD!$B$2:B259,BD!B259)=1,MAX($F$1:F258)+1,\"\")","v":""},null,{"$f":"IF(AND(BD!B259=REF,BD!D259>=DEB,BD!D259<=FIN),MAX(calc!$H$1:H258)+1,0)","v":0}]
[null,null,null,null,null,{"$f":"IF(COUNTIF(BD!$B$2:B260,BD!B260)=1,MAX($F$1:F259)+1,\"\")","v":""},null,{"$f":"IF(AND(BD!B260=REF,BD!D260>=DEB,BD!D260<=FIN),MAX(calc!$H$1:H259)+1,0)","v":0}]
[null,null,null,null,null,{"$f":"IF(COUNTIF(BD!$B$2:B261,BD!B261)=1,MAX($F$1:F260)+1,\"\")","v":""},null,{"$f":"IF(AND(BD!B261=REF,BD!D261>=DEB,BD!D261<=FIN),MAX(calc!$H$1:H260)+1,0)","v":0}]
[null,null,null,null,null,{"$f":"IF(COUNTIF(BD!$B$2:B262,BD!B262)=1,MAX($F$1:F261)+1,\"\")","v":""},null,{"$f":"IF(AND(BD!B262=REF,BD!D262>=DEB,BD!D262<=FIN),MAX(calc!$H$1:H261)+1,0)","v":0}]
[null,null,null,null,null,{"$f":"IF(COUNTIF(BD!$B$2:B263,BD!B263)=1,MAX($F$1:F262)+1,\"\")","v":""},null,{"$f":"IF(AND(BD!B263=REF,BD!D263>=DEB,BD!D263<=FIN),MAX(calc!$H$1:H262)+1,0)","v":0}]
[null,null,null,null,null,{"$f":"IF(COUNTIF(BD!$B$2:B264,BD!B264)=1,MAX($F$1:F263)+1,\"\")","v":""},null,{"$f":"IF(AND(BD!B264=REF,BD!D264>=DEB,BD!D264<=FIN),MAX(calc!$H$1:H263)+1,0)","v":0}]
[null,null,null,null,null,{"$f":"IF(COUNTIF(BD!$B$2:B265,BD!B265)=1,MAX($F$1:F264)+1,\"\")","v":""},null,{"$f":"IF(AND(BD!B265=REF,BD!D265>=DEB,BD!D265<=FIN),MAX(calc!$H$1:H264)+1,0)","v":0}]
[null,null,null,null,null,{"$f":"IF(COUNTIF(BD!$B$2:B266,BD!B266)=1,MAX($F$1:F265)+1,\"\")","v":""},null,{"$f":"IF(AND(BD!B266=REF,BD!D266>=DEB,BD!D266<=FIN),MAX(calc!$H$1:H265)+1,0)","v":0}]
[null,null,null,null,null,{"$f":"IF(COUNTIF(BD!$B$2:B267,BD!B267)=1,MAX($F$1:F266)+1,\"\")","v":""},null,{"$f":"IF(AND(BD!B267=REF,BD!D267>=DEB,BD!D267<=FIN),MAX(calc!$H$1:H266)+1,0)","v":0}]
[null,null,null,null,null,{"$f":"IF(COUNTIF(BD!$B$2:B268,BD!B268)=1,MAX($F$1:F267)+1,\"\")","v":""},null,{"$f":"IF(AND(BD!B268=REF,BD!D268>=DEB,BD!D268<=FIN),MAX(calc!$H$1:H267)+1,0)","v":0}]
[null,null,null,null,null,{"$f":"IF(COUNTIF(BD!$B$2:B269,BD!B269)=1,MAX($F$1:F268)+1,\"\")","v":""},null,{"$f":"IF(AND(BD!B269=REF,BD!D269>=DEB,BD!D269<=FIN),MAX(calc!$H$1:H268)+1,0)","v":0}]
[null,null,null,null,null,{"$f":"IF(COUNTIF(BD!$B$2:B270,BD!B270)=1,MAX($F$1:F269)+1,\"\")","v":""},null,{"$f":"IF(AND(BD!B270=REF,BD!D270>=DEB,BD!D270<=FIN),MAX(calc!$H$1:H269)+1,0)","v":0}]
[null,null,null,null,null,{"$f":"IF(COUNTIF(BD!$B$2:B271,BD!B271)=1,MAX($F$1:F270)+1,\"\")","v":""},null,{"$f":"IF(AND(BD!B271=REF,BD!D271>=DEB,BD!D271<=FIN),MAX(calc!$H$1:H270)+1,0)","v":0}]
[null,null,null,null,null,{"$f":"IF(COUNTIF(BD!$B$2:B272,BD!B272)=1,MAX($F$1:F271)+1,\"\")","v":""},null,{"$f":"IF(AND(BD!B272=REF,BD!D272>=DEB,BD!D272<=FIN),MAX(calc!$H$1:H271)+1,0)","v":0}]
[null,null,null,null,null,{"$f":"IF(COUNTIF(BD!$B$2:B273,BD!B273)=1,MAX($F$1:F272)+1,\"\")","v":""},null,{"$f":"IF(AND(BD!B273=REF,BD!D273>=DEB,BD!D273<=FIN),MAX(calc!$H$1:H272)+1,0)","v":0}]
[null,null,null,null,null,{"$f":"IF(COUNTIF(BD!$B$2:B274,BD!B274)=1,MAX($F$1:F273)+1,\"\")","v":""},null,{"$f":"IF(AND(BD!B274=REF,BD!D274>=DEB,BD!D274<=FIN),MAX(calc!$H$1:H273)+1,0)","v":0}]
[null,null,null,null,null,{"$f":"IF(COUNTIF(BD!$B$2:B275,BD!B275)=1,MAX($F$1:F274)+1,\"\")","v":""},null,{"$f":"IF(AND(BD!B275=REF,BD!D275>=DEB,BD!D275<=FIN),MAX(calc!$H$1:H274)+1,0)","v":0}]
[null,null,null,null,null,{"$f":"IF(COUNTIF(BD!$B$2:B276,BD!B276)=1,MAX($F$1:F275)+1,\"\")","v":""},null,{"$f":"IF(AND(BD!B276=REF,BD!D276>=DEB,BD!D276<=FIN),MAX(calc!$H$1:H275)+1,0)","v":0}]
[null,null,null,null,null,{"$f":"IF(COUNTIF(BD!$B$2:B277,BD!B277)=1,MAX($F$1:F276)+1,\"\")","v":""},null,{"$f":"IF(AND(BD!B277=REF,BD!D277>=DEB,BD!D277<=FIN),MAX(calc!$H$1:H276)+1,0)","v":0}]
[null,null,null,null,null,{"$f":"IF(COUNTIF(BD!$B$2:B278,BD!B278)=1,MAX($F$1:F277)+1,\"\")","v":""},null,{"$f":"IF(AND(BD!B278=REF,BD!D278>=DEB,BD!D278<=FIN),MAX(calc!$H$1:H277)+1,0)","v":0}]
[null,null,null,null,null,{"$f":"IF(COUNTIF(BD!$B$2:B279,BD!B279)=1,MAX($F$1:F278)+1,\"\")","v":""},null,{"$f":"IF(AND(BD!B279=REF,BD!D279>=DEB,BD!D279<=FIN),MAX(calc!$H$1:H278)+1,0)","v":0}]
[null,null,null,null,null,{"$f":"IF(COUNTIF(BD!$B$2:B280,BD!B280)=1,MAX($F$1:F279)+1,\"\")","v":""},null,{"$f":"IF(AND(BD!B280=REF,BD!D280>=DEB,BD!D280<=FIN),MAX(calc!$H$1:H279)+1,0)","v":0}]
[null,null,null,null,null,{"$f":"IF(COUNTIF(BD!$B$2:B281,BD!B281)=1,MAX($F$1:F280)+1,\"\")","v":""},null,{"$f":"IF(AND(BD!B281=REF,BD!D281>=DEB,BD!D281<=FIN),MAX(calc!$H$1:H280)+1,0)","v":0}]
[null,null,null,null,null,{"$f":"IF(COUNTIF(BD!$B$2:B282,BD!B282)=1,MAX($F$1:F281)+1,\"\")","v":""},null,{"$f":"IF(AND(BD!B282=REF,BD!D282>=DEB,BD!D282<=FIN),MAX(calc!$H$1:H281)+1,0)","v":0}]
[null,null,null,null,null,{"$f":"IF(COUNTIF(BD!$B$2:B283,BD!B283)=1,MAX($F$1:F282)+1,\"\")","v":""},null,{"$f":"IF(AND(BD!B283=REF,BD!D283>=DEB,BD!D283<=FIN),MAX(calc!$H$1:H282)+1,0)","v":0}]
[null,null,null,null,null,{"$f":"IF(COUNTIF(BD!$B$2:B284,BD!B284)=1,MAX($F$1:F283)+1,\"\")","v":""},null,{"$f":"IF(AND(BD!B284=REF,BD!D284>=DEB,BD!D284<=FIN),MAX(calc!$H$1:H283)+1,0)","v":0}]
[null,null,null,null,null,{"$f":"IF(COUNTIF(BD!$B$2:B285,BD!B285)=1,MAX($F$1:F284)+1,\"\")","v":""},null,{"$f":"IF(AND(BD!B285=REF,BD!D285>=DEB,BD!D285<=FIN),MAX(calc!$H$1:H284)+1,0)","v":0}]
[null,null,null,null,null,{"$f":"IF(COUNTIF(BD!$B$2:B286,BD!B286)=1,MAX($F$1:F285)+1,\"\")","v":""},null,{"$f":"IF(AND(BD!B286=REF,BD!D286>=DEB,BD!D286<=FIN),MAX(calc!$H$1:H285)+1,0)","v":0}]
[null,null,null,null,null,{"$f":"IF(COUNTIF(BD!$B$2:B287,BD!B287)=1,MAX($F$1:F286)+1,\"\")","v":""},null,{"$f":"IF(AND(BD!B287=REF,BD!D287>=DEB,BD!D287<=FIN),MAX(calc!$H$1:H286)+1,0)","v":0}]
[null,null,null,null,null,{"$f":"IF(COUNTIF(BD!$B$2:B288,BD!B288)=1,MAX($F$1:F287)+1,\"\")","v":""},null,{"$f":"IF(AND(BD!B288=REF,BD!D288>=DEB,BD!D288<=FIN),MAX(calc!$H$1:H287)+1,0)","v":0}]
[null,null,null,null,null,{"$f":"IF(COUNTIF(BD!$B$2:B289,BD!B289)=1,MAX($F$1:F288)+1,\"\")","v":""},null,{"$f":"IF(AND(BD!B289=REF,BD!D289>=DEB,BD!D289<=FIN),MAX(calc!$H$1:H288)+1,0)","v":0}]
[null,null,null,null,null,{"$f":"IF(COUNTIF(BD!$B$2:B290,BD!B290)=1,MAX($F$1:F289)+1,\"\")","v":""},null,{"$f":"IF(AND(BD!B290=REF,BD!D290>=DEB,BD!D290<=FIN),MAX(calc!$H$1:H289)+1,0)","v":0}]
[null,null,null,null,null,{"$f":"IF(COUNTIF(BD!$B$2:B291,BD!B291)=1,MAX($F$1:F290)+1,\"\")","v":""},null,{"$f":"IF(AND(BD!B291=REF,BD!D291>=DEB,BD!D291<=FIN),MAX(calc!$H$1:H290)+1,0)","v":0}]
[null,null,null,null,null,{"$f":"IF(COUNTIF(BD!$B$2:B292,BD!B292)=1,MAX($F$1:F291)+1,\"\")","v":""},null,{"$f":"IF(AND(BD!B292=REF,BD!D292>=DEB,BD!D292<=FIN),MAX(calc!$H$1:H291)+1,0)","v":0}]
[null,null,null,null,null,{"$f":"IF(COUNTIF(BD!$B$2:B293,BD!B293)=1,MAX($F$1:F292)+1,\"\")","v":""},null,{"$f":"IF(AND(BD!B293=REF,BD!D293>=DEB,BD!D293<=FIN),MAX(calc!$H$1:H292)+1,0)","v":0}]
[null,null,null,null,null,{"$f":"IF(COUNTIF(BD!$B$2:B294,BD!B294)=1,MAX($F$1:F293)+1,\"\")","v":""},null,{"$f":"IF(AND(BD!B294=REF,BD!D294>=DEB,BD!D294<=FIN),MAX(calc!$H$1:H293)+1,0)","v":0}]
[null,null,null,null,null,{"$f":"IF(COUNTIF(BD!$B$2:B295,BD!B295)=1,MAX($F$1:F294)+1,\"\")","v":""},null,{"$f":"IF(AND(BD!B295=REF,BD!D295>=DEB,BD!D295<=FIN),MAX(calc!$H$1:H294)+1,0)","v":0}]
[null,null,null,null,null,{"$f":"IF(COUNTIF(BD!$B$2:B296,BD!B296)=1,MAX($F$1:F295)+1,\"\")","v":""},null,{"$f":"IF(AND(BD!B296=REF,BD!D296>=DEB,BD!D296<=FIN),MAX(calc!$H$1:H295)+1,0)","v":0}]
[null,null,null,null,null,{"$f":"IF(COUNTIF(BD!$B$2:B297,BD!B297)=1,MAX($F$1:F296)+1,\"\")","v":""},null,{"$f":"IF(AND(BD!B297=REF,BD!D297>=DEB,BD!D297<=FIN),MAX(calc!$H$1:H296)+1,0)","v":0}]
[null,null,null,null,null,{"$f":"IF(COUNTIF(BD!$B$2:B298,BD!B298)=1,MAX($F$1:F297)+1,\"\")","v":""},null,{"$f":"IF(AND(BD!B298=REF,BD!D298>=DEB,BD!D298<=FIN),MAX(calc!$H$1:H297)+1,0)","v":0}]
[null,null,null,null,null,{"$f":"IF(COUNTIF(BD!$B$2:B299,BD!B299)=1,MAX($F$1:F298)+1,\"\")","v":""},null,{"$f":"IF(AND(BD!B299=REF,BD!D299>=DEB,BD!D299<=FIN),MAX(calc!$H$1:H298)+1,0)","v":0}]
[null,null,null,null,null,{"$f":"IF(COUNTIF(BD!$B$2:B300,BD!B300)=1,MAX($F$1:F299)+1,\"\")","v":""},null,{"$f":"IF(AND(BD!B300=REF,BD!D300>=DEB,BD!D300<=FIN),MAX(calc!$H$1:H299)+1,0)","v":0}]
[null,null,null,null,null,{"$f":"IF(COUNTIF(BD!$B$2:B301,BD!B301)=1,MAX($F$1:F300)+1,\"\")","v":""},null,{"$f":"IF(AND(BD!B301=REF,BD!D301>=DEB,BD!D301<=FIN),MAX(calc!$H$1:H300)+1,0)","v":0}]
[null,null,null,null,null,{"$f":"IF(COUNTIF(BD!$B$2:B302,BD!B302)=1,MAX($F$1:F301)+1,\"\")","v":""},null,{"$f":"IF(AND(BD!B302=REF,BD!D302>=DEB,BD!D302<=FIN),MAX(calc!$H$1:H301)+1,0)","v":0}]
[null,null,null,null,null,{"$f":"IF(COUNTIF(BD!$B$2:B303,BD!B303)=1,MAX($F$1:F302)+1,\"\")","v":""},null,{"$f":"IF(AND(BD!B303=REF,BD!D303>=DEB,BD!D303<=FIN),MAX(calc!$H$1:H302)+1,0)","v":0}]
[null,null,null,null,null,{"$f":"IF(COUNTIF(BD!$B$2:B304,BD!B304)=1,MAX($F$1:F303)+1,\"\")","v":""},null,{"$f":"IF(AND(BD!B304=REF,BD!D304>=DEB,BD!D304<=FIN),MAX(calc!$H$1:H303)+1,0)","v":0}]
[null,null,null,null,null,{"$f":"IF(COUNTIF(BD!$B$2:B305,BD!B305)=1,MAX($F$1:F304)+1,\"\")","v":""},null,{"$f":"IF(AND(BD!B305=REF,BD!D305>=DEB,BD!D305<=FIN),MAX(calc!$H$1:H304)+1,0)","v":0}]
[null,null,null,null,null,{"$f":"IF(COUNTIF(BD!$B$2:B306,BD!B306)=1,MAX($F$1:F305)+1,\"\")","v":""},null,{"$f":"IF(AND(BD!B306=REF,BD!D306>=DEB,BD!D306<=FIN),MAX(calc!$H$1:H305)+1,0)","v":0}]
[null,null,null,null,null,{"$f":"IF(COUNTIF(BD!$B$2:B307,BD!B307)=1,MAX($F$1:F306)+1,\"\")","v":""},null,{"$f":"IF(AND(BD!B307=REF,BD!D307>=DEB,BD!D307<=FIN),MAX(calc!$H$1:H306)+1,0)","v":0}]
[null,null,null,null,null,{"$f":"IF(COUNTIF(BD!$B$2:B308,BD!B308)=1,MAX($F$1:F307)+1,\"\")","v":""},null,{"$f":"IF(AND(BD!B308=REF,BD!D308>=DEB,BD!D308<=FIN),MAX(calc!$H$1:H307)+1,0)","v":0}]
[null,null,null,null,null,{"$f":"IF(COUNTIF(BD!$B$2:B309,BD!B309)=1,MAX($F$1:F308)+1,\"\")","v":""},null,{"$f":"IF(AND(BD!B309=REF,BD!D309>=DEB,BD!D309<=FIN),MAX(calc!$H$1:H308)+1,0)","v":0}]
[null,null,null,null,null,{"$f":"IF(COUNTIF(BD!$B$2:B310,BD!B310)=1,MAX($F$1:F309)+1,\"\")","v":""},null,{"$f":"IF(AND(BD!B310=REF,BD!D310>=DEB,BD!D310<=FIN),MAX(calc!$H$1:H309)+1,0)","v":0}]
[null,null,null,null,null,{"$f":"IF(COUNTIF(BD!$B$2:B311,BD!B311)=1,MAX($F$1:F310)+1,\"\")","v":""},null,{"$f":"IF(AND(BD!B311=REF,BD!D311>=DEB,BD!D311<=FIN),MAX(calc!$H$1:H310)+1,0)","v":0}]
[null,null,null,null,null,{"$f":"IF(COUNTIF(BD!$B$2:B312,BD!B312)=1,MAX($F$1:F311)+1,\"\")","v":""},null,{"$f":"IF(AND(BD!B312=REF,BD!D312>=DEB,BD!D312<=FIN),MAX(calc!$H$1:H311)+1,0)","v":0}]
[null,null,null,null,null,{"$f":"IF(COUNTIF(BD!$B$2:B313,BD!B313)=1,MAX($F$1:F312)+1,\"\")","v":""},null,{"$f":"IF(AND(BD!B313=REF,BD!D313>=DEB,BD!D313<=FIN),MAX(calc!$H$1:H312)+1,0)","v":0}]
[null,null,null,null,null,{"$f":"IF(COUNTIF(BD!$B$2:B314,BD!B314)=1,MAX($F$1:F313)+1,\"\")","v":""},null,{"$f":"IF(AND(BD!B314=REF,BD!D314>=DEB,BD!D314<=FIN),MAX(calc!$H$1:H313)+1,0)","v":0}]
[null,null,null,null,null,{"$f":"IF(COUNTIF(BD!$B$2:B315,BD!B315)=1,MAX($F$1:F314)+1,\"\")","v":""},null,{"$f":"IF(AND(BD!B315=REF,BD!D315>=DEB,BD!D315<=FIN),MAX(calc!$H$1:H314)+1,0)","v":0}]
[null,null,null,null,null,{"$f":"IF(COUNTIF(BD!$B$2:B316,BD!B316)=1,MAX($F$1:F315)+1,\"\")","v":""},null,{"$f":"IF(AND(BD!B316=REF,BD!D316>=DEB,BD!D316<=FIN),MAX(calc!$H$1:H315)+1,0)","v":0}]
[null,null,null,null,null,{"$f":"IF(COUNTIF(BD!$B$2:B317,BD!B317)=1,MAX($F$1:F316)+1,\"\")","v":""},null,{"$f":"IF(AND(BD!B317=REF,BD!D317>=DEB,BD!D317<=FIN),MAX(calc!$H$1:H316)+1,0)","v":0}]
[null,null,null,null,null,{"$f":"IF(COUNTIF(BD!$B$2:B318,BD!B318)=1,MAX($F$1:F317)+1,\"\")","v":""},null,{"$f":"IF(AND(BD!B318=REF,BD!D318>=DEB,BD!D318<=FIN),MAX(calc!$H$1:H317)+1,0)","v":0}]
[null,null,null,null,null,{"$f":"IF(COUNTIF(BD!$B$2:B319,BD!B319)=1,MAX($F$1:F318)+1,\"\")","v":""},null,{"$f":"IF(AND(BD!B319=REF,BD!D319>=DEB,BD!D319<=FIN),MAX(calc!$H$1:H318)+1,0)","v":0}]
[null,null,null,null,null,{"$f":"IF(COUNTIF(BD!$B$2:B320,BD!B320)=1,MAX($F$1:F319)+1,\"\")","v":""},null,{"$f":"IF(AND(BD!B320=REF,BD!D320>=DEB,BD!D320<=FIN),MAX(calc!$H$1:H319)+1,0)","v":0}]
[null,null,null,null,null,{"$f":"IF(COUNTIF(BD!$B$2:B321,BD!B321)=1,MAX($F$1:F320)+1,\"\")","v":""},null,{"$f":"IF(AND(BD!B321=REF,BD!D321>=DEB,BD!D321<=FIN),MAX(calc!$H$1:H320)+1,0)","v":0}]
[null,null,null,null,null,{"$f":"IF(COUNTIF(BD!$B$2:B322,BD!B322)=1,MAX($F$1:F321)+1,\"\")","v":""},null,{"$f":"IF(AND(BD!B322=REF,BD!D322>=DEB,BD!D322<=FIN),MAX(calc!$H$1:H321)+1,0)","v":0}]
[null,null,null,null,null,{"$f":"IF(COUNTIF(BD!$B$2:B323,BD!B323)=1,MAX($F$1:F322)+1,\"\")","v":""},null,{"$f":"IF(AND(BD!B323=REF,BD!D323>=DEB,BD!D323<=FIN),MAX(calc!$H$1:H322)+1,0)","v":0}]
[null,null,null,null,null,{"$f":"IF(COUNTIF(BD!$B$2:B324,BD!B324)=1,MAX($F$1:F323)+1,\"\")","v":""},null,{"$f":"IF(AND(BD!B324=REF,BD!D324>=DEB,BD!D324<=FIN),MAX(calc!$H$1:H323)+1,0)","v":0}]
[null,null,null,null,null,{"$f":"IF(COUNTIF(BD!$B$2:B325,BD!B325)=1,MAX($F$1:F324)+1,\"\")","v":""},null,{"$f":"IF(AND(BD!B325=REF,BD!D325>=DEB,BD!D325<=FIN),MAX(calc!$H$1:H324)+1,0)","v":0}]
[null,null,null,null,null,{"$f":"IF(COUNTIF(BD!$B$2:B326,BD!B326)=1,MAX($F$1:F325)+1,\"\")","v":""},null,{"$f":"IF(AND(BD!B326=REF,BD!D326>=DEB,BD!D326<=FIN),MAX(calc!$H$1:H325)+1,0)","v":0}]
[null,null,null,null,null,{"$f":"IF(COUNTIF(BD!$B$2:B327,BD!B327)=1,MAX($F$1:F326)+1,\"\")","v":""},null,{"$f":"IF(AND(BD!B327=REF,BD!D327>=DEB,BD!D327<=FIN),MAX(calc!$H$1:H326)+1,0)","v":0}]
[null,null,null,null,null,{"$f":"IF(COUNTIF(BD!$B$2:B328,BD!B328)=1,MAX($F$1:F327)+1,\"\")","v":""},null,{"$f":"IF(AND(BD!B328=REF,BD!D328>=DEB,BD!D328<=FIN),MAX(calc!$H$1:H327)+1,0)","v":0}]
[null,null,null,null,null,{"$f":"IF(COUNTIF(BD!$B$2:B329,BD!B329)=1,MAX($F$1:F328)+1,\"\")","v":""},null,{"$f":"IF(AND(BD!B329=REF,BD!D329>=DEB,BD!D329<=FIN),MAX(calc!$H$1:H328)+1,0)","v":0}]
[null,null,null,null,null,{"$f":"IF(COUNTIF(BD!$B$2:B330,BD!B330)=1,MAX($F$1:F329)+1,\"\")","v":""},null,{"$f":"IF(AND(BD!B330=REF,BD!D330>=DEB,BD!D330<=FIN),MAX(calc!$H$1:H329)+1,0)","v":0}]
[null,null,null,null,null,{"$f":"IF(COUNTIF(BD!$B$2:B331,BD!B331)=1,MAX($F$1:F330)+1,\"\")","v":""},null,{"$f":"IF(AND(BD!B331=REF,BD!D331>=DEB,BD!D331<=FIN),MAX(calc!$H$1:H330)+1,0)","v":0}]
[null,null,null,null,null,{"$f":"IF(COUNTIF(BD!$B$2:B332,BD!B332)=1,MAX($F$1:F331)+1,\"\")","v":""},null,{"$f":"IF(AND(BD!B332=REF,BD!D332>=DEB,BD!D332<=FIN),MAX(calc!$H$1:H331)+1,0)","v":0}]
[null,null,null,null,null,{"$f":"IF(COUNTIF(BD!$B$2:B333,BD!B333)=1,MAX($F$1:F332)+1,\"\")","v":""},null,{"$f":"IF(AND(BD!B333=REF,BD!D333>=DEB,BD!D333<=FIN),MAX(calc!$H$1:H332)+1,0)","v":0}]
[null,null,null,null,null,{"$f":"IF(COUNTIF(BD!$B$2:B334,BD!B334)=1,MAX($F$1:F333)+1,\"\")","v":""},null,{"$f":"IF(AND(BD!B334=REF,BD!D334>=DEB,BD!D334<=FIN),MAX(calc!$H$1:H333)+1,0)","v":0}]
[null,null,null,null,null,{"$f":"IF(COUNTIF(BD!$B$2:B335,BD!B335)=1,MAX($F$1:F334)+1,\"\")","v":""},null,{"$f":"IF(AND(BD!B335=REF,BD!D335>=DEB,BD!D335<=FIN),MAX(calc!$H$1:H334)+1,0)","v":0}]
[null,null,null,null,null,{"$f":"IF(COUNTIF(BD!$B$2:B336,BD!B336)=1,MAX($F$1:F335)+1,\"\")","v":""},null,{"$f":"IF(AND(BD!B336=REF,BD!D336>=DEB,BD!D336<=FIN),MAX(calc!$H$1:H335)+1,0)","v":0}]
[null,null,null,null,null,{"$f":"IF(COUNTIF(BD!$B$2:B337,BD!B337)=1,MAX($F$1:F336)+1,\"\")","v":""},null,{"$f":"IF(AND(BD!B337=REF,BD!D337>=DEB,BD!D337<=FIN),MAX(calc!$H$1:H336)+1,0)","v":0}]
[null,null,null,null,null,{"$f":"IF(COUNTIF(BD!$B$2:B338,BD!B338)=1,MAX($F$1:F337)+1,\"\")","v":""},null,{"$f":"IF(AND(BD!B338=REF,BD!D338>=DEB,BD!D338<=FIN),MAX(calc!$H$1:H337)+1,0)","v":0}]
[null,null,null,null,null,{"$f":"IF(COUNTIF(BD!$B$2:B339,BD!B339)=1,MAX($F$1:F338)+1,\"\")","v":""},null,{"$f":"IF(AND(BD!B339=REF,BD!D339>=DEB,BD!D339<=FIN),MAX(calc!$H$1:H338)+1,0)","v":0}]
[null,null,null,null,null,{"$f":"IF(COUNTIF(BD!$B$2:B340,BD!B340)=1,MAX($F$1:F339)+1,\"\")","v":""},null,{"$f":"IF(AND(BD!B340=REF,BD!D340>=DEB,BD!D340<=FIN),MAX(calc!$H$1:H339)+1,0)","v":0}]
[null,null,null,null,null,{"$f":"IF(COUNTIF(BD!$B$2:B341,BD!B341)=1,MAX($F$1:F340)+1,\"\")","v":""},null,{"$f":"IF(AND(BD!B341=REF,BD!D341>=DEB,BD!D341<=FIN),MAX(calc!$H$1:H340)+1,0)","v":0}]
[null,null,null,null,null,{"$f":"IF(COUNTIF(BD!$B$2:B342,BD!B342)=1,MAX($F$1:F341)+1,\"\")","v":""},null,{"$f":"IF(AND(BD!B342=REF,BD!D342>=DEB,BD!D342<=FIN),MAX(calc!$H$1:H341)+1,0)","v":0}]
[null,null,null,null,null,{"$f":"IF(COUNTIF(BD!$B$2:B343,BD!B343)=1,MAX($F$1:F342)+1,\"\")","v":""},null,{"$f":"IF(AND(BD!B343=REF,BD!D343>=DEB,BD!D343<=FIN),MAX(calc!$H$1:H342)+1,0)","v":0}]
[null,null,null,null,null,{"$f":"IF(COUNTIF(BD!$B$2:B344,BD!B344)=1,MAX($F$1:F343)+1,\"\")","v":""},null,{"$f":"IF(AND(BD!B344=REF,BD!D344>=DEB,BD!D344<=FIN),MAX(calc!$H$1:H343)+1,0)","v":0}]
[null,null,null,null,null,{"$f":"IF(COUNTIF(BD!$B$2:B345,BD!B345)=1,MAX($F$1:F344)+1,\"\")","v":""},null,{"$f":"IF(AND(BD!B345=REF,BD!D345>=DEB,BD!D345<=FIN),MAX(calc!$H$1:H344)+1,0)","v":0}]
[null,null,null,null,null,{"$f":"IF(COUNTIF(BD!$B$2:B346,BD!B346)=1,MAX($F$1:F345)+1,\"\")","v":""},null,{"$f":"IF(AND(BD!B346=REF,BD!D346>=DEB,BD!D346<=FIN),MAX(calc!$H$1:H345)+1,0)","v":0}]
[null,null,null,null,null,{"$f":"IF(COUNTIF(BD!$B$2:B347,BD!B347)=1,MAX($F$1:F346)+1,\"\")","v":""},null,{"$f":"IF(AND(BD!B347=REF,BD!D347>=DEB,BD!D347<=FIN),MAX(calc!$H$1:H346)+1,0)","v":0}]
[null,null,null,null,null,{"$f":"IF(COUNTIF(BD!$B$2:B348,BD!B348)=1,MAX($F$1:F347)+1,\"\")","v":""},null,{"$f":"IF(AND(BD!B348=REF,BD!D348>=DEB,BD!D348<=FIN),MAX(calc!$H$1:H347)+1,0)","v":0}]
[null,null,null,null,null,{"$f":"IF(COUNTIF(BD!$B$2:B349,BD!B349)=1,MAX($F$1:F348)+1,\"\")","v":""},null,{"$f":"IF(AND(BD!B349=REF,BD!D349>=DEB,BD!D349<=FIN),MAX(calc!$H$1:H348)+1,0)","v":0}]
[null,null,null,null,null,{"$f":"IF(COUNTIF(BD!$B$2:B350,BD!B350)=1,MAX($F$1:F349)+1,\"\")","v":""},null,{"$f":"IF(AND(BD!B350=REF,BD!D350>=DEB,BD!D350<=FIN),MAX(calc!$H$1:H349)+1,0)","v":0}]
[null,null,null,null,null,{"$f":"IF(COUNTIF(BD!$B$2:B351,BD!B351)=1,MAX($F$1:F350)+1,\"\")","v":""},null,{"$f":"IF(AND(BD!B351=REF,BD!D351>=DEB,BD!D351<=FIN),MAX(calc!$H$1:H350)+1,0)","v":0}]
[null,null,null,null,null,{"$f":"IF(COUNTIF(BD!$B$2:B352,BD!B352)=1,MAX($F$1:F351)+1,\"\")","v":""},null,{"$f":"IF(AND(BD!B352=REF,BD!D352>=DEB,BD!D352<=FIN),MAX(calc!$H$1:H351)+1,0)","v":0}]
[null,null,null,null,null,{"$f":"IF(COUNTIF(BD!$B$2:B353,BD!B353)=1,MAX($F$1:F352)+1,\"\")","v":""},null,{"$f":"IF(AND(BD!B353=REF,BD!D353>=DEB,BD!D353<=FIN),MAX(calc!$H$1:H352)+1,0)","v":0}]
[null,null,null,null,null,{"$f":"IF(COUNTIF(BD!$B$2:B354,BD!B354)=1,MAX($F$1:F353)+1,\"\")","v":""},null,{"$f":"IF(AND(BD!B354=REF,BD!D354>=DEB,BD!D354<=FIN),MAX(calc!$H$1:H353)+1,0)","v":0}]
[null,null,null,null,null,{"$f":"IF(COUNTIF(BD!$B$2:B355,BD!B355)=1,MAX($F$1:F354)+1,\"\")","v":""},null,{"$f":"IF(AND(BD!B355=REF,BD!D355>=DEB,BD!D355<=FIN),MAX(calc!$H$1:H354)+1,0)","v":0}]
[null,null,null,null,null,{"$f":"IF(COUNTIF(BD!$B$2:B356,BD!B356)=1,MAX($F$1:F355)+1,\"\")","v":""},null,{"$f":"IF(AND(BD!B356=REF,BD!D356>=DEB,BD!D356<=FIN),MAX(calc!$H$1:H355)+1,0)","v":0}]
[null,null,null,null,null,{"$f":"IF(COUNTIF(BD!$B$2:B357,BD!B357)=1,MAX($F$1:F356)+1,\"\")","v":""},null,{"$f":"IF(AND(BD!B357=REF,BD!D357>=DEB,BD!D357<=FIN),MAX(calc!$H$1:H356)+1,0)","v":0}]
[null,null,null,null,null,{"$f":"IF(COUNTIF(BD!$B$2:B358,BD!B358)=1,MAX($F$1:F357)+1,\"\")","v":""},null,{"$f":"IF(AND(BD!B358=REF,BD!D358>=DEB,BD!D358<=FIN),MAX(calc!$H$1:H357)+1,0)","v":0}]
[null,null,null,null,null,{"$f":"IF(COUNTIF(BD!$B$2:B359,BD!B359)=1,MAX($F$1:F358)+1,\"\")","v":""},null,{"$f":"IF(AND(BD!B359=REF,BD!D359>=DEB,BD!D359<=FIN),MAX(calc!$H$1:H358)+1,0)","v":0}]
[null,null,null,null,null,{"$f":"IF(COUNTIF(BD!$B$2:B360,BD!B360)=1,MAX($F$1:F359)+1,\"\")","v":""},null,{"$f":"IF(AND(BD!B360=REF,BD!D360>=DEB,BD!D360<=FIN),MAX(calc!$H$1:H359)+1,0)","v":0}]
[null,null,null,null,null,{"$f":"IF(COUNTIF(BD!$B$2:B361,BD!B361)=1,MAX($F$1:F360)+1,\"\")","v":""},null,{"$f":"IF(AND(BD!B361=REF,BD!D361>=DEB,BD!D361<=FIN),MAX(calc!$H$1:H360)+1,0)","v":0}]
[null,null,null,null,null,{"$f":"IF(COUNTIF(BD!$B$2:B362,BD!B362)=1,MAX($F$1:F361)+1,\"\")","v":""},null,{"$f":"IF(AND(BD!B362=REF,BD!D362>=DEB,BD!D362<=FIN),MAX(calc!$H$1:H361)+1,0)","v":0}]
[null,null,null,null,null,{"$f":"IF(COUNTIF(BD!$B$2:B363,BD!B363)=1,MAX($F$1:F362)+1,\"\")","v":""},null,{"$f":"IF(AND(BD!B363=REF,BD!D363>=DEB,BD!D363<=FIN),MAX(calc!$H$1:H362)+1,0)","v":0}]
[null,null,null,null,null,{"$f":"IF(COUNTIF(BD!$B$2:B364,BD!B364)=1,MAX($F$1:F363)+1,\"\")","v":""},null,{"$f":"IF(AND(BD!B364=REF,BD!D364>=DEB,BD!D364<=FIN),MAX(calc!$H$1:H363)+1,0)","v":0}]
[null,null,null,null,null,{"$f":"IF(COUNTIF(BD!$B$2:B365,BD!B365)=1,MAX($F$1:F364)+1,\"\")","v":""},null,{"$f":"IF(AND(BD!B365=REF,BD!D365>=DEB,BD!D365<=FIN),MAX(calc!$H$1:H364)+1,0)","v":0}]
[null,null,null,null,null,{"$f":"IF(COUNTIF(BD!$B$2:B366,BD!B366)=1,MAX($F$1:F365)+1,\"\")","v":""},null,{"$f":"IF(AND(BD!B366=REF,BD!D366>=DEB,BD!D366<=FIN),MAX(calc!$H$1:H365)+1,0)","v":0}]
[null,null,null,null,null,{"$f":"IF(COUNTIF(BD!$B$2:B367,BD!B367)=1,MAX($F$1:F366)+1,\"\")","v":""},null,{"$f":"IF(AND(BD!B367=REF,BD!D367>=DEB,BD!D367<=FIN),MAX(calc!$H$1:H366)+1,0)","v":0}]
[null,null,null,null,null,{"$f":"IF(COUNTIF(BD!$B$2:B368,BD!B368)=1,MAX($F$1:F367)+1,\"\")","v":""},null,{"$f":"IF(AND(BD!B368=REF,BD!D368>=DEB,BD!D368<=FIN),MAX(calc!$H$1:H367)+1,0)","v":0}]
[null,null,null,null,null,{"$f":"IF(COUNTIF(BD!$B$2:B369,BD!B369)=1,MAX($F$1:F368)+1,\"\")","v":""},null,{"$f":"IF(AND(BD!B369=REF,BD!D369>=DEB,BD!D369<=FIN),MAX(calc!$H$1:H368)+1,0)","v":0}]
[null,null,null,null,null,{"$f":"IF(COUNTIF(BD!$B$2:B370,BD!B370)=1,MAX($F$1:F369)+1,\"\")","v":""},null,{"$f":"IF(AND(BD!B370=REF,BD!D370>=DEB,BD!D370<=FIN),MAX(calc!$H$1:H369)+1,0)","v":0}]
[null,null,null,null,null,{"$f":"IF(COUNTIF(BD!$B$2:B371,BD!B371)=1,MAX($F$1:F370)+1,\"\")","v":""},null,{"$f":"IF(AND(BD!B371=REF,BD!D371>=DEB,BD!D371<=FIN),MAX(calc!$H$1:H370)+1,0)","v":0}]
[null,null,null,null,null,{"$f":"IF(COUNTIF(BD!$B$2:B372,BD!B372)=1,MAX($F$1:F371)+1,\"\")","v":""},null,{"$f":"IF(AND(BD!B372=REF,BD!D372>=DEB,BD!D372<=FIN),MAX(calc!$H$1:H371)+1,0)","v":0}]
[null,null,null,null,null,{"$f":"IF(COUNTIF(BD!$B$2:B373,BD!B373)=1,MAX($F$1:F372)+1,\"\")","v":""},null,{"$f":"IF(AND(BD!B373=REF,BD!D373>=DEB,BD!D373<=FIN),MAX(calc!$H$1:H372)+1,0)","v":0}]
[null,null,null,null,null,{"$f":"IF(COUNTIF(BD!$B$2:B374,BD!B374)=1,MAX($F$1:F373)+1,\"\")","v":""},null,{"$f":"IF(AND(BD!B374=REF,BD!D374>=DEB,BD!D374<=FIN),MAX(calc!$H$1:H373)+1,0)","v":0}]
[null,null,null,null,null,{"$f":"IF(COUNTIF(BD!$B$2:B375,BD!B375)=1,MAX($F$1:F374)+1,\"\")","v":""},null,{"$f":"IF(AND(BD!B375=REF,BD!D375>=DEB,BD!D375<=FIN),MAX(calc!$H$1:H374)+1,0)","v":0}]
[null,null,null,null,null,{"$f":"IF(COUNTIF(BD!$B$2:B376,BD!B376)=1,MAX($F$1:F375)+1,\"\")","v":""},null,{"$f":"IF(AND(BD!B376=REF,BD!D376>=DEB,BD!D376<=FIN),MAX(calc!$H$1:H375)+1,0)","v":0}]
[null,null,null,null,null,{"$f":"IF(COUNTIF(BD!$B$2:B377,BD!B377)=1,MAX($F$1:F376)+1,\"\")","v":""},null,{"$f":"IF(AND(BD!B377=REF,BD!D377>=DEB,BD!D377<=FIN),MAX(calc!$H$1:H376)+1,0)","v":0}]
[null,null,null,null,null,{"$f":"IF(COUNTIF(BD!$B$2:B378,BD!B378)=1,MAX($F$1:F377)+1,\"\")","v":""},null,{"$f":"IF(AND(BD!B378=REF,BD!D378>=DEB,BD!D378<=FIN),MAX(calc!$H$1:H377)+1,0)","v":0}]
[null,null,null,null,null,{"$f":"IF(COUNTIF(BD!$B$2:B379,BD!B379)=1,MAX($F$1:F378)+1,\"\")","v":""},null,{"$f":"IF(AND(BD!B379=REF,BD!D379>=DEB,BD!D379<=FIN),MAX(calc!$H$1:H378)+1,0)","v":0}]
[null,null,null,null,null,{"$f":"IF(COUNTIF(BD!$B$2:B380,BD!B380)=1,MAX($F$1:F379)+1,\"\")","v":""},null,{"$f":"IF(AND(BD!B380=REF,BD!D380>=DEB,BD!D380<=FIN),MAX(calc!$H$1:H379)+1,0)","v":0}]
[null,null,null,null,null,{"$f":"IF(COUNTIF(BD!$B$2:B381,BD!B381)=1,MAX($F$1:F380)+1,\"\")","v":""},null,{"$f":"IF(AND(BD!B381=REF,BD!D381>=DEB,BD!D381<=FIN),MAX(calc!$H$1:H380)+1,0)","v":0}]
[null,null,null,null,null,{"$f":"IF(COUNTIF(BD!$B$2:B382,BD!B382)=1,MAX($F$1:F381)+1,\"\")","v":""},null,{"$f":"IF(AND(BD!B382=REF,BD!D382>=DEB,BD!D382<=FIN),MAX(calc!$H$1:H381)+1,0)","v":0}]
[null,null,null,null,null,{"$f":"IF(COUNTIF(BD!$B$2:B383,BD!B383)=1,MAX($F$1:F382)+1,\"\")","v":""},null,{"$f":"IF(AND(BD!B383=REF,BD!D383>=DEB,BD!D383<=FIN),MAX(calc!$H$1:H382)+1,0)","v":0}]
[null,null,null,null,null,{"$f":"IF(COUNTIF(BD!$B$2:B384,BD!B384)=1,MAX($F$1:F383)+1,\"\")","v":""},null,{"$f":"IF(AND(BD!B384=REF,BD!D384>=DEB,BD!D384<=FIN),MAX(calc!$H$1:H383)+1,0)","v":0}]
[null,null,null,null,null,{"$f":"IF(COUNTIF(BD!$B$2:B385,BD!B385)=1,MAX($F$1:F384)+1,\"\")","v":""},null,{"$f":"IF(AND(BD!B385=REF,BD!D385>=DEB,BD!D385<=FIN),MAX(calc!$H$1:H384)+1,0)","v":0}]
[null,null,null,null,null,{"$f":"IF(COUNTIF(BD!$B$2:B386,BD!B386)=1,MAX($F$1:F385)+1,\"\")","v":""},null,{"$f":"IF(AND(BD!B386=REF,BD!D386>=DEB,BD!D386<=FIN),MAX(calc!$H$1:H385)+1,0)","v":0}]
[null,null,null,null,null,{"$f":"IF(COUNTIF(BD!$B$2:B387,BD!B387)=1,MAX($F$1:F386)+1,\"\")","v":""},null,{"$f":"IF(AND(BD!B387=REF,BD!D387>=DEB,BD!D387<=FIN),MAX(calc!$H$1:H386)+1,0)","v":0}]
[null,null,null,null,null,{"$f":"IF(COUNTIF(BD!$B$2:B388,BD!B388)=1,MAX($F$1:F387)+1,\"\")","v":""},null,{"$f":"IF(AND(BD!B388=REF,BD!D388>=DEB,BD!D388<=FIN),MAX(calc!$H$1:H387)+1,0)","v":0}]
[null,null,null,null,null,{"$f":"IF(COUNTIF(BD!$B$2:B389,BD!B389)=1,MAX($F$1:F388)+1,\"\")","v":""},null,{"$f":"IF(AND(BD!B389=REF,BD!D389>=DEB,BD!D389<=FIN),MAX(calc!$H$1:H388)+1,0)","v":0}]
[null,null,null,null,null,{"$f":"IF(COUNTIF(BD!$B$2:B390,BD!B390)=1,MAX($F$1:F389)+1,\"\")","v":""},null,{"$f":"IF(AND(BD!B390=REF,BD!D390>=DEB,BD!D390<=FIN),MAX(calc!$H$1:H389)+1,0)","v":0}]
[null,null,null,null,null,{"$f":"IF(COUNTIF(BD!$B$2:B391,BD!B391)=1,MAX($F$1:F390)+1,\"\")","v":""},null,{"$f":"IF(AND(BD!B391=REF,BD!D391>=DEB,BD!D391<=FIN),MAX(calc!$H$1:H390)+1,0)","v":0}]
[null,null,null,null,null,{"$f":"IF(COUNTIF(BD!$B$2:B392,BD!B392)=1,MAX($F$1:F391)+1,\"\")","v":""},null,{"$f":"IF(AND(BD!B392=REF,BD!D392>=DEB,BD!D392<=FIN),MAX(calc!$H$1:H391)+1,0)","v":0}]
[null,null,null,null,null,{"$f":"IF(COUNTIF(BD!$B$2:B393,BD!B393)=1,MAX($F$1:F392)+1,\"\")","v":""},null,{"$f":"IF(AND(BD!B393=REF,BD!D393>=DEB,BD!D393<=FIN),MAX(calc!$H$1:H392)+1,0)","v":0}]
[null,null,null,null,null,{"$f":"IF(COUNTIF(BD!$B$2:B394,BD!B394)=1,MAX($F$1:F393)+1,\"\")","v":""},null,{"$f":"IF(AND(BD!B394=REF,BD!D394>=DEB,BD!D394<=FIN),MAX(calc!$H$1:H393)+1,0)","v":0}]
[null,null,null,null,null,{"$f":"IF(COUNTIF(BD!$B$2:B395,BD!B395)=1,MAX($F$1:F394)+1,\"\")","v":""},null,{"$f":"IF(AND(BD!B395=REF,BD!D395>=DEB,BD!D395<=FIN),MAX(calc!$H$1:H394)+1,0)","v":0}]
[null,null,null,null,null,{"$f":"IF(COUNTIF(BD!$B$2:B396,BD!B396)=1,MAX($F$1:F395)+1,\"\")","v":""},null,{"$f":"IF(AND(BD!B396=REF,BD!D396>=DEB,BD!D396<=FIN),MAX(calc!$H$1:H395)+1,0)","v":0}]
[null,null,null,null,null,{"$f":"IF(COUNTIF(BD!$B$2:B397,BD!B397)=1,MAX($F$1:F396)+1,\"\")","v":""},null,{"$f":"IF(AND(BD!B397=REF,BD!D397>=DEB,BD!D397<=FIN),MAX(calc!$H$1:H396)+1,0)","v":0}]
[null,null,null,null,null,{"$f":"IF(COUNTIF(BD!$B$2:B398,BD!B398)=1,MAX($F$1:F397)+1,\"\")","v":""},null,{"$f":"IF(AND(BD!B398=REF,BD!D398>=DEB,BD!D398<=FIN),MAX(calc!$H$1:H397)+1,0)","v":0}]
[null,null,null,null,null,{"$f":"IF(COUNTIF(BD!$B$2:B399,BD!B399)=1,MAX($F$1:F398)+1,\"\")","v":""},null,{"$f":"IF(AND(BD!B399=REF,BD!D399>=DEB,BD!D399<=FIN),MAX(calc!$H$1:H398)+1,0)","v":0}]
[null,null,null,null,null,{"$f":"IF(COUNTIF(BD!$B$2:B400,BD!B400)=1,MAX($F$1:F399)+1,\"\")","v":""},null,{"$f":"IF(AND(BD!B400=REF,BD!D400>=DEB,BD!D400<=FIN),MAX(calc!$H$1:H399)+1,0)","v":0}]
[null,null,null,null,null,{"$f":"IF(COUNTIF(BD!$B$2:B401,BD!B401)=1,MAX($F$1:F400)+1,\"\")","v":""},null,{"$f":"IF(AND(BD!B401=REF,BD!D401>=DEB,BD!D401<=FIN),MAX(calc!$H$1:H400)+1,0)","v":0}]
[null,null,null,null,null,{"$f":"IF(COUNTIF(BD!$B$2:B402,BD!B402)=1,MAX($F$1:F401)+1,\"\")","v":""},null,{"$f":"IF(AND(BD!B402=REF,BD!D402>=DEB,BD!D402<=FIN),MAX(calc!$H$1:H401)+1,0)","v":0}]
[null,null,null,null,null,{"$f":"IF(COUNTIF(BD!$B$2:B403,BD!B403)=1,MAX($F$1:F402)+1,\"\")","v":""},null,{"$f":"IF(AND(BD!B403=REF,BD!D403>=DEB,BD!D403<=FIN),MAX(calc!$H$1:H402)+1,0)","v":0}]
[null,null,null,null,null,{"$f":"IF(COUNTIF(BD!$B$2:B404,BD!B404)=1,MAX($F$1:F403)+1,\"\")","v":""},null,{"$f":"IF(AND(BD!B404=REF,BD!D404>=DEB,BD!D404<=FIN),MAX(calc!$H$1:H403)+1,0)","v":0}]
[null,null,null,null,null,{"$f":"IF(COUNTIF(BD!$B$2:B405,BD!B405)=1,MAX($F$1:F404)+1,\"\")","v":""},null,{"$f":"IF(AND(BD!B405=REF,BD!D405>=DEB,BD!D405<=FIN),MAX(calc!$H$1:H404)+1,0)","v":0}]
[null,null,null,null,null,{"$f":"IF(COUNTIF(BD!$B$2:B406,BD!B406)=1,MAX($F$1:F405)+1,\"\")","v":""},null,{"$f":"IF(AND(BD!B406=REF,BD!D406>=DEB,BD!D406<=FIN),MAX(calc!$H$1:H405)+1,0)","v":0}]
[null,null,null,null,null,{"$f":"IF(COUNTIF(BD!$B$2:B407,BD!B407)=1,MAX($F$1:F406)+1,\"\")","v":""},null,{"$f":"IF(AND(BD!B407=REF,BD!D407>=DEB,BD!D407<=FIN),MAX(calc!$H$1:H406)+1,0)","v":0}]
[null,null,null,null,null,{"$f":"IF(COUNTIF(BD!$B$2:B408,BD!B408)=1,MAX($F$1:F407)+1,\"\")","v":""},null,{"$f":"IF(AND(BD!B408=REF,BD!D408>=DEB,BD!D408<=FIN),MAX(calc!$H$1:H407)+1,0)","v":0}]
[null,null,null,null,null,{"$f":"IF(COUNTIF(BD!$B$2:B409,BD!B409)=1,MAX($F$1:F408)+1,\"\")","v":""},null,{"$f":"IF(AND(BD!B409=REF,BD!D409>=DEB,BD!D409<=FIN),MAX(calc!$H$1:H408)+1,0)","v":0}]
[null,null,null,null,null,{"$f":"IF(COUNTIF(BD!$B$2:B410,BD!B410)=1,MAX($F$1:F409)+1,\"\")","v":""},null,{"$f":"IF(AND(BD!B410=REF,BD!D410>=DEB,BD!D410<=FIN),MAX(calc!$H$1:H409)+1,0)","v":0}]
[null,null,null,null,null,{"$f":"IF(COUNTIF(BD!$B$2:B411,BD!B411)=1,MAX($F$1:F410)+1,\"\")","v":""},null,{"$f":"IF(AND(BD!B411=REF,BD!D411>=DEB,BD!D411<=FIN),MAX(calc!$H$1:H410)+1,0)","v":0}]
[null,null,null,null,null,{"$f":"IF(COUNTIF(BD!$B$2:B412,BD!B412)=1,MAX($F$1:F411)+1,\"\")","v":""},null,{"$f":"IF(AND(BD!B412=REF,BD!D412>=DEB,BD!D412<=FIN),MAX(calc!$H$1:H411)+1,0)","v":0}]
[null,null,null,null,null,{"$f":"IF(COUNTIF(BD!$B$2:B413,BD!B413)=1,MAX($F$1:F412)+1,\"\")","v":""},null,{"$f":"IF(AND(BD!B413=REF,BD!D413>=DEB,BD!D413<=FIN),MAX(calc!$H$1:H412)+1,0)","v":0}]
[null,null,null,null,null,{"$f":"IF(COUNTIF(BD!$B$2:B414,BD!B414)=1,MAX($F$1:F413)+1,\"\")","v":""},null,{"$f":"IF(AND(BD!B414=REF,BD!D414>=DEB,BD!D414<=FIN),MAX(calc!$H$1:H413)+1,0)","v":0}]
[null,null,null,null,null,{"$f":"IF(COUNTIF(BD!$B$2:B415,BD!B415)=1,MAX($F$1:F414)+1,\"\")","v":""},null,{"$f":"IF(AND(BD!B415=REF,BD!D415>=DEB,BD!D415<=FIN),MAX(calc!$H$1:H414)+1,0)","v":0}]
[null,null,null,null,null,{"$f":"IF(COUNTIF(BD!$B$2:B416,BD!B416)=1,MAX($F$1:F415)+1,\"\")","v":""},null,{"$f":"IF(AND(BD!B416=REF,BD!D416>=DEB,BD!D416<=FIN),MAX(calc!$H$1:H415)+1,0)","v":0}]
[null,null,null,null,null,{"$f":"IF(COUNTIF(BD!$B$2:B417,BD!B417)=1,MAX($F$1:F416)+1,\"\")","v":""},null,{"$f":"IF(AND(BD!B417=REF,BD!D417>=DEB,BD!D417<=FIN),MAX(calc!$H$1:H416)+1,0)","v":0}]
[null,null,null,null,null,{"$f":"IF(COUNTIF(BD!$B$2:B418,BD!B418)=1,MAX($F$1:F417)+1,\"\")","v":""},null,{"$f":"IF(AND(BD!B418=REF,BD!D418>=DEB,BD!D418<=FIN),MAX(calc!$H$1:H417)+1,0)","v":0}]
[null,null,null,null,null,{"$f":"IF(COUNTIF(BD!$B$2:B419,BD!B419)=1,MAX($F$1:F418)+1,\"\")","v":""},null,{"$f":"IF(AND(BD!B419=REF,BD!D419>=DEB,BD!D419<=FIN),MAX(calc!$H$1:H418)+1,0)","v":0}]
[null,null,null,null,null,{"$f":"IF(COUNTIF(BD!$B$2:B420,BD!B420)=1,MAX($F$1:F419)+1,\"\")","v":""},null,{"$f":"IF(AND(BD!B420=REF,BD!D420>=DEB,BD!D420<=FIN),MAX(calc!$H$1:H419)+1,0)","v":0}]
[null,null,null,null,null,{"$f":"IF(COUNTIF(BD!$B$2:B421,BD!B421)=1,MAX($F$1:F420)+1,\"\")","v":""},null,{"$f":"IF(AND(BD!B421=REF,BD!D421>=DEB,BD!D421<=FIN),MAX(calc!$H$1:H420)+1,0)","v":0}]
[null,null,null,null,null,{"$f":"IF(COUNTIF(BD!$B$2:B422,BD!B422)=1,MAX($F$1:F421)+1,\"\")","v":""},null,{"$f":"IF(AND(BD!B422=REF,BD!D422>=DEB,BD!D422<=FIN),MAX(calc!$H$1:H421)+1,0)","v":0}]
[null,null,null,null,null,{"$f":"IF(COUNTIF(BD!$B$2:B423,BD!B423)=1,MAX($F$1:F422)+1,\"\")","v":""},null,{"$f":"IF(AND(BD!B423=REF,BD!D423>=DEB,BD!D423<=FIN),MAX(calc!$H$1:H422)+1,0)","v":0}]
[null,null,null,null,null,{"$f":"IF(COUNTIF(BD!$B$2:B424,BD!B424)=1,MAX($F$1:F423)+1,\"\")","v":""},null,{"$f":"IF(AND(BD!B424=REF,BD!D424>=DEB,BD!D424<=FIN),MAX(calc!$H$1:H423)+1,0)","v":0}]
[null,null,null,null,null,{"$f":"IF(COUNTIF(BD!$B$2:B425,BD!B425)=1,MAX($F$1:F424)+1,\"\")","v":""},null,{"$f":"IF(AND(BD!B425=REF,BD!D425>=DEB,BD!D425<=FIN),MAX(calc!$H$1:H424)+1,0)","v":0}]
[null,null,null,null,null,{"$f":"IF(COUNTIF(BD!$B$2:B426,BD!B426)=1,MAX($F$1:F425)+1,\"\")","v":""},null,{"$f":"IF(AND(BD!B426=REF,BD!D426>=DEB,BD!D426<=FIN),MAX(calc!$H$1:H425)+1,0)","v":0}]
[null,null,null,null,null,{"$f":"IF(COUNTIF(BD!$B$2:B427,BD!B427)=1,MAX($F$1:F426)+1,\"\")","v":""},null,{"$f":"IF(AND(BD!B427=REF,BD!D427>=DEB,BD!D427<=FIN),MAX(calc!$H$1:H426)+1,0)","v":0}]
[null,null,null,null,null,{"$f":"IF(COUNTIF(BD!$B$2:B428,BD!B428)=1,MAX($F$1:F427)+1,\"\")","v":""},null,{"$f":"IF(AND(BD!B428=REF,BD!D428>=DEB,BD!D428<=FIN),MAX(calc!$H$1:H427)+1,0)","v":0}]
[null,null,null,null,null,{"$f":"IF(COUNTIF(BD!$B$2:B429,BD!B429)=1,MAX($F$1:F428)+1,\"\")","v":""},null,{"$f":"IF(AND(BD!B429=REF,BD!D429>=DEB,BD!D429<=FIN),MAX(calc!$H$1:H428)+1,0)","v":0}]
[null,null,null,null,null,{"$f":"IF(COUNTIF(BD!$B$2:B430,BD!B430)=1,MAX($F$1:F429)+1,\"\")","v":""},null,{"$f":"IF(AND(BD!B430=REF,BD!D430>=DEB,BD!D430<=FIN),MAX(calc!$H$1:H429)+1,0)","v":0}]
[null,null,null,null,null,{"$f":"IF(COUNTIF(BD!$B$2:B431,BD!B431)=1,MAX($F$1:F430)+1,\"\")","v":""},null,{"$f":"IF(AND(BD!B431=REF,BD!D431>=DEB,BD!D431<=FIN),MAX(calc!$H$1:H430)+1,0)","v":0}]
[null,null,null,null,null,{"$f":"IF(COUNTIF(BD!$B$2:B432,BD!B432)=1,MAX($F$1:F431)+1,\"\")","v":""},null,{"$f":"IF(AND(BD!B432=REF,BD!D432>=DEB,BD!D432<=FIN),MAX(calc!$H$1:H431)+1,0)","v":0}]
[null,null,null,null,null,{"$f":"IF(COUNTIF(BD!$B$2:B433,BD!B433)=1,MAX($F$1:F432)+1,\"\")","v":""},null,{"$f":"IF(AND(BD!B433=REF,BD!D433>=DEB,BD!D433<=FIN),MAX(calc!$H$1:H432)+1,0)","v":0}]
[null,null,null,null,null,{"$f":"IF(COUNTIF(BD!$B$2:B434,BD!B434)=1,MAX($F$1:F433)+1,\"\")","v":""},null,{"$f":"IF(AND(BD!B434=REF,BD!D434>=DEB,BD!D434<=FIN),MAX(calc!$H$1:H433)+1,0)","v":0}]
[null,null,null,null,null,{"$f":"IF(COUNTIF(BD!$B$2:B435,BD!B435)=1,MAX($F$1:F434)+1,\"\")","v":""},null,{"$f":"IF(AND(BD!B435=REF,BD!D435>=DEB,BD!D435<=FIN),MAX(calc!$H$1:H434)+1,0)","v":0}]
[null,null,null,null,null,{"$f":"IF(COUNTIF(BD!$B$2:B436,BD!B436)=1,MAX($F$1:F435)+1,\"\")","v":""},null,{"$f":"IF(AND(BD!B436=REF,BD!D436>=DEB,BD!D436<=FIN),MAX(calc!$H$1:H435)+1,0)","v":0}]
[null,null,null,null,null,{"$f":"IF(COUNTIF(BD!$B$2:B437,BD!B437)=1,MAX($F$1:F436)+1,\"\")","v":""},null,{"$f":"IF(AND(BD!B437=REF,BD!D437>=DEB,BD!D437<=FIN),MAX(calc!$H$1:H436)+1,0)","v":0}]
[null,null,null,null,null,{"$f":"IF(COUNTIF(BD!$B$2:B438,BD!B438)=1,MAX($F$1:F437)+1,\"\")","v":""},null,{"$f":"IF(AND(BD!B438=REF,BD!D438>=DEB,BD!D438<=FIN),MAX(calc!$H$1:H437)+1,0)","v":0}]
[null,null,null,null,null,{"$f":"IF(COUNTIF(BD!$B$2:B439,BD!B439)=1,MAX($F$1:F438)+1,\"\")","v":""},null,{"$f":"IF(AND(BD!B439=REF,BD!D439>=DEB,BD!D439<=FIN),MAX(calc!$H$1:H438)+1,0)","v":0}]
[null,null,null,null,null,{"$f":"IF(COUNTIF(BD!$B$2:B440,BD!B440)=1,MAX($F$1:F439)+1,\"\")","v":""},null,{"$f":"IF(AND(BD!B440=REF,BD!D440>=DEB,BD!D440<=FIN),MAX(calc!$H$1:H439)+1,0)","v":0}]
[null,null,null,null,null,{"$f":"IF(COUNTIF(BD!$B$2:B441,BD!B441)=1,MAX($F$1:F440)+1,\"\")","v":""},null,{"$f":"IF(AND(BD!B441=REF,BD!D441>=DEB,BD!D441<=FIN),MAX(calc!$H$1:H440)+1,0)","v":0}]
[null,null,null,null,null,{"$f":"IF(COUNTIF(BD!$B$2:B442,BD!B442)=1,MAX($F$1:F441)+1,\"\")","v":""},null,{"$f":"IF(AND(BD!B442=REF,BD!D442>=DEB,BD!D442<=FIN),MAX(calc!$H$1:H441)+1,0)","v":0}]
[null,null,null,null,null,{"$f":"IF(COUNTIF(BD!$B$2:B443,BD!B443)=1,MAX($F$1:F442)+1,\"\")","v":""},null,{"$f":"IF(AND(BD!B443=REF,BD!D443>=DEB,BD!D443<=FIN),MAX(calc!$H$1:H442)+1,0)","v":0}]
[null,null,null,null,null,{"$f":"IF(COUNTIF(BD!$B$2:B444,BD!B444)=1,MAX($F$1:F443)+1,\"\")","v":""},null,{"$f":"IF(AND(BD!B444=REF,BD!D444>=DEB,BD!D444<=FIN),MAX(calc!$H$1:H443)+1,0)","v":0}]
[null,null,null,null,null,{"$f":"IF(COUNTIF(BD!$B$2:B445,BD!B445)=1,MAX($F$1:F444)+1,\"\")","v":""},null,{"$f":"IF(AND(BD!B445=REF,BD!D445>=DEB,BD!D445<=FIN),MAX(calc!$H$1:H444)+1,0)","v":0}]
[null,null,null,null,null,{"$f":"IF(COUNTIF(BD!$B$2:B446,BD!B446)=1,MAX($F$1:F445)+1,\"\")","v":""},null,{"$f":"IF(AND(BD!B446=REF,BD!D446>=DEB,BD!D446<=FIN),MAX(calc!$H$1:H445)+1,0)","v":0}]
[null,null,null,null,null,{"$f":"IF(COUNTIF(BD!$B$2:B447,BD!B447)=1,MAX($F$1:F446)+1,\"\")","v":""},null,{"$f":"IF(AND(BD!B447=REF,BD!D447>=DEB,BD!D447<=FIN),MAX(calc!$H$1:H446)+1,0)","v":0}]
[null,null,null,null,null,{"$f":"IF(COUNTIF(BD!$B$2:B448,BD!B448)=1,MAX($F$1:F447)+1,\"\")","v":""},null,{"$f":"IF(AND(BD!B448=REF,BD!D448>=DEB,BD!D448<=FIN),MAX(calc!$H$1:H447)+1,0)","v":0}]
[null,null,null,null,null,{"$f":"IF(COUNTIF(BD!$B$2:B449,BD!B449)=1,MAX($F$1:F448)+1,\"\")","v":""},null,{"$f":"IF(AND(BD!B449=REF,BD!D449>=DEB,BD!D449<=FIN),MAX(calc!$H$1:H448)+1,0)","v":0}]
[null,null,null,null,null,{"$f":"IF(COUNTIF(BD!$B$2:B450,BD!B450)=1,MAX($F$1:F449)+1,\"\")","v":""},null,{"$f":"IF(AND(BD!B450=REF,BD!D450>=DEB,BD!D450<=FIN),MAX(calc!$H$1:H449)+1,0)","v":0}]
[null,null,null,null,null,{"$f":"IF(COUNTIF(BD!$B$2:B451,BD!B451)=1,MAX($F$1:F450)+1,\"\")","v":""},null,{"$f":"IF(AND(BD!B451=REF,BD!D451>=DEB,BD!D451<=FIN),MAX(calc!$H$1:H450)+1,0)","v":0}]
[null,null,null,null,null,{"$f":"IF(COUNTIF(BD!$B$2:B452,BD!B452)=1,MAX($F$1:F451)+1,\"\")","v":""},null,{"$f":"IF(AND(BD!B452=REF,BD!D452>=DEB,BD!D452<=FIN),MAX(calc!$H$1:H451)+1,0)","v":0}]
[null,null,null,null,null,{"$f":"IF(COUNTIF(BD!$B$2:B453,BD!B453)=1,MAX($F$1:F452)+1,\"\")","v":""},null,{"$f":"IF(AND(BD!B453=REF,BD!D453>=DEB,BD!D453<=FIN),MAX(calc!$H$1:H452)+1,0)","v":0}]
[null,null,null,null,null,{"$f":"IF(COUNTIF(BD!$B$2:B454,BD!B454)=1,MAX($F$1:F453)+1,\"\")","v":""},null,{"$f":"IF(AND(BD!B454=REF,BD!D454>=DEB,BD!D454<=FIN),MAX(calc!$H$1:H453)+1,0)","v":0}]
[null,null,null,null,null,{"$f":"IF(COUNTIF(BD!$B$2:B455,BD!B455)=1,MAX($F$1:F454)+1,\"\")","v":""},null,{"$f":"IF(AND(BD!B455=REF,BD!D455>=DEB,BD!D455<=FIN),MAX(calc!$H$1:H454)+1,0)","v":0}]
[null,null,null,null,null,{"$f":"IF(COUNTIF(BD!$B$2:B456,BD!B456)=1,MAX($F$1:F455)+1,\"\")","v":""},null,{"$f":"IF(AND(BD!B456=REF,BD!D456>=DEB,BD!D456<=FIN),MAX(calc!$H$1:H455)+1,0)","v":0}]
[null,null,null,null,null,{"$f":"IF(COUNTIF(BD!$B$2:B457,BD!B457)=1,MAX($F$1:F456)+1,\"\")","v":""},null,{"$f":"IF(AND(BD!B457=REF,BD!D457>=DEB,BD!D457<=FIN),MAX(calc!$H$1:H456)+1,0)","v":0}]
[null,null,null,null,null,{"$f":"IF(COUNTIF(BD!$B$2:B458,BD!B458)=1,MAX($F$1:F457)+1,\"\")","v":""},null,{"$f":"IF(AND(BD!B458=REF,BD!D458>=DEB,BD!D458<=FIN),MAX(calc!$H$1:H457)+1,0)","v":0}]
[null,null,null,null,null,{"$f":"IF(COUNTIF(BD!$B$2:B459,BD!B459)=1,MAX($F$1:F458)+1,\"\")","v":""},null,{"$f":"IF(AND(BD!B459=REF,BD!D459>=DEB,BD!D459<=FIN),MAX(calc!$H$1:H458)+1,0)","v":0}]
[null,null,null,null,null,{"$f":"IF(COUNTIF(BD!$B$2:B460,BD!B460)=1,MAX($F$1:F459)+1,\"\")","v":""},null,{"$f":"IF(AND(BD!B460=REF,BD!D460>=DEB,BD!D460<=FIN),MAX(calc!$H$1:H459)+1,0)","v":0}]
[null,null,null,null,null,{"$f":"IF(COUNTIF(BD!$B$2:B461,BD!B461)=1,MAX($F$1:F460)+1,\"\")","v":""},null,{"$f":"IF(AND(BD!B461=REF,BD!D461>=DEB,BD!D461<=FIN),MAX(calc!$H$1:H460)+1,0)","v":0}]
[null,null,null,null,null,{"$f":"IF(COUNTIF(BD!$B$2:B462,BD!B462)=1,MAX($F$1:F461)+1,\"\")","v":""},null,{"$f":"IF(AND(BD!B462=REF,BD!D462>=DEB,BD!D462<=FIN),MAX(calc!$H$1:H461)+1,0)","v":0}]
[null,null,null,null,null,{"$f":"IF(COUNTIF(BD!$B$2:B463,BD!B463)=1,MAX($F$1:F462)+1,\"\")","v":""},null,{"$f":"IF(AND(BD!B463=REF,BD!D463>=DEB,BD!D463<=FIN),MAX(calc!$H$1:H462)+1,0)","v":0}]
[null,null,null,null,null,{"$f":"IF(COUNTIF(BD!$B$2:B464,BD!B464)=1,MAX($F$1:F463)+1,\"\")","v":""},null,{"$f":"IF(AND(BD!B464=REF,BD!D464>=DEB,BD!D464<=FIN),MAX(calc!$H$1:H463)+1,0)","v":0}]
[null,null,null,null,null,{"$f":"IF(COUNTIF(BD!$B$2:B465,BD!B465)=1,MAX($F$1:F464)+1,\"\")","v":""},null,{"$f":"IF(AND(BD!B465=REF,BD!D465>=DEB,BD!D465<=FIN),MAX(calc!$H$1:H464)+1,0)","v":0}]
[null,null,null,null,null,{"$f":"IF(COUNTIF(BD!$B$2:B466,BD!B466)=1,MAX($F$1:F465)+1,\"\")","v":""},null,{"$f":"IF(AND(BD!B466=REF,BD!D466>=DEB,BD!D466<=FIN),MAX(calc!$H$1:H465)+1,0)","v":0}]
[null,null,null,null,null,{"$f":"IF(COUNTIF(BD!$B$2:B467,BD!B467)=1,MAX($F$1:F466)+1,\"\")","v":""},null,{"$f":"IF(AND(BD!B467=REF,BD!D467>=DEB,BD!D467<=FIN),MAX(calc!$H$1:H466)+1,0)","v":0}]
[null,null,null,null,null,{"$f":"IF(COUNTIF(BD!$B$2:B468,BD!B468)=1,MAX($F$1:F467)+1,\"\")","v":""},null,{"$f":"IF(AND(BD!B468=REF,BD!D468>=DEB,BD!D468<=FIN),MAX(calc!$H$1:H467)+1,0)","v":0}]
[null,null,null,null,null,{"$f":"IF(COUNTIF(BD!$B$2:B469,BD!B469)=1,MAX($F$1:F468)+1,\"\")","v":""},null,{"$f":"IF(AND(BD!B469=REF,BD!D469>=DEB,BD!D469<=FIN),MAX(calc!$H$1:H468)+1,0)","v":0}]
[null,null,null,null,null,{"$f":"IF(COUNTIF(BD!$B$2:B470,BD!B470)=1,MAX($F$1:F469)+1,\"\")","v":""},null,{"$f":"IF(AND(BD!B470=REF,BD!D470>=DEB,BD!D470<=FIN),MAX(calc!$H$1:H469)+1,0)","v":0}]
[null,null,null,null,null,{"$f":"IF(COUNTIF(BD!$B$2:B471,BD!B471)=1,MAX($F$1:F470)+1,\"\")","v":""},null,{"$f":"IF(AND(BD!B471=REF,BD!D471>=DEB,BD!D471<=FIN),MAX(calc!$H$1:H470)+1,0)","v":0}]
[null,null,null,null,null,{"$f":"IF(COUNTIF(BD!$B$2:B472,BD!B472)=1,MAX($F$1:F471)+1,\"\")","v":""},null,{"$f":"IF(AND(BD!B472=REF,BD!D472>=DEB,BD!D472<=FIN),MAX(calc!$H$1:H471)+1,0)","v":0}]
[null,null,null,null,null,{"$f":"IF(COUNTIF(BD!$B$2:B473,BD!B473)=1,MAX($F$1:F472)+1,\"\")","v":""},null,{"$f":"IF(AND(BD!B473=REF,BD!D473>=DEB,BD!D473<=FIN),MAX(calc!$H$1:H472)+1,0)","v":0}]
[null,null,null,null,null,{"$f":"IF(COUNTIF(BD!$B$2:B474,BD!B474)=1,MAX($F$1:F473)+1,\"\")","v":""},null,{"$f":"IF(AND(BD!B474=REF,BD!D474>=DEB,BD!D474<=FIN),MAX(calc!$H$1:H473)+1,0)","v":0}]
[null,null,null,null,null,{"$f":"IF(COUNTIF(BD!$B$2:B475,BD!B475)=1,MAX($F$1:F474)+1,\"\")","v":""},null,{"$f":"IF(AND(BD!B475=REF,BD!D475>=DEB,BD!D475<=FIN),MAX(calc!$H$1:H474)+1,0)","v":0}]
[null,null,null,null,null,{"$f":"IF(COUNTIF(BD!$B$2:B476,BD!B476)=1,MAX($F$1:F475)+1,\"\")","v":""},null,{"$f":"IF(AND(BD!B476=REF,BD!D476>=DEB,BD!D476<=FIN),MAX(calc!$H$1:H475)+1,0)","v":0}]
[null,null,null,null,null,{"$f":"IF(COUNTIF(BD!$B$2:B477,BD!B477)=1,MAX($F$1:F476)+1,\"\")","v":""},null,{"$f":"IF(AND(BD!B477=REF,BD!D477>=DEB,BD!D477<=FIN),MAX(calc!$H$1:H476)+1,0)","v":0}]
[null,null,null,null,null,{"$f":"IF(COUNTIF(BD!$B$2:B478,BD!B478)=1,MAX($F$1:F477)+1,\"\")","v":""},null,{"$f":"IF(AND(BD!B478=REF,BD!D478>=DEB,BD!D478<=FIN),MAX(calc!$H$1:H477)+1,0)","v":0}]
[null,null,null,null,null,{"$f":"IF(COUNTIF(BD!$B$2:B479,BD!B479)=1,MAX($F$1:F478)+1,\"\")","v":""},null,{"$f":"IF(AND(BD!B479=REF,BD!D479>=DEB,BD!D479<=FIN),MAX(calc!$H$1:H478)+1,0)","v":0}]
[null,null,null,null,null,{"$f":"IF(COUNTIF(BD!$B$2:B480,BD!B480)=1,MAX($F$1:F479)+1,\"\")","v":""},null,{"$f":"IF(AND(BD!B480=REF,BD!D480>=DEB,BD!D480<=FIN),MAX(calc!$H$1:H479)+1,0)","v":0}]
[null,null,null,null,null,{"$f":"IF(COUNTIF(BD!$B$2:B481,BD!B481)=1,MAX($F$1:F480)+1,\"\")","v":""},null,{"$f":"IF(AND(BD!B481=REF,BD!D481>=DEB,BD!D481<=FIN),MAX(calc!$H$1:H480)+1,0)","v":0}]
[null,null,null,null,null,{"$f":"IF(COUNTIF(BD!$B$2:B482,BD!B482)=1,MAX($F$1:F481)+1,\"\")","v":""},null,{"$f":"IF(AND(BD!B482=REF,BD!D482>=DEB,BD!D482<=FIN),MAX(calc!$H$1:H481)+1,0)","v":0}]
[null,null,null,null,null,{"$f":"IF(COUNTIF(BD!$B$2:B483,BD!B483)=1,MAX($F$1:F482)+1,\"\")","v":""},null,{"$f":"IF(AND(BD!B483=REF,BD!D483>=DEB,BD!D483<=FIN),MAX(calc!$H$1:H482)+1,0)","v":0}]
[null,null,null,null,null,{"$f":"IF(COUNTIF(BD!$B$2:B484,BD!B484)=1,MAX($F$1:F483)+1,\"\")","v":""},null,{"$f":"IF(AND(BD!B484=REF,BD!D484>=DEB,BD!D484<=FIN),MAX(calc!$H$1:H483)+1,0)","v":0}]
[null,null,null,null,null,{"$f":"IF(COUNTIF(BD!$B$2:B485,BD!B485)=1,MAX($F$1:F484)+1,\"\")","v":""},null,{"$f":"IF(AND(BD!B485=REF,BD!D485>=DEB,BD!D485<=FIN),MAX(calc!$H$1:H484)+1,0)","v":0}]
[null,null,null,null,null,{"$f":"IF(COUNTIF(BD!$B$2:B486,BD!B486)=1,MAX($F$1:F485)+1,\"\")","v":""},null,{"$f":"IF(AND(BD!B486=REF,BD!D486>=DEB,BD!D486<=FIN),MAX(calc!$H$1:H485)+1,0)","v":0}]
[null,null,null,null,null,{"$f":"IF(COUNTIF(BD!$B$2:B487,BD!B487)=1,MAX($F$1:F486)+1,\"\")","v":""},null,{"$f":"IF(AND(BD!B487=REF,BD!D487>=DEB,BD!D487<=FIN),MAX(calc!$H$1:H486)+1,0)","v":0}]
[null,null,null,null,null,{"$f":"IF(COUNTIF(BD!$B$2:B488,BD!B488)=1,MAX($F$1:F487)+1,\"\")","v":""},null,{"$f":"IF(AND(BD!B488=REF,BD!D488>=DEB,BD!D488<=FIN),MAX(calc!$H$1:H487)+1,0)","v":0}]
[null,null,null,null,null,{"$f":"IF(COUNTIF(BD!$B$2:B489,BD!B489)=1,MAX($F$1:F488)+1,\"\")","v":""},null,{"$f":"IF(AND(BD!B489=REF,BD!D489>=DEB,BD!D489<=FIN),MAX(calc!$H$1:H488)+1,0)","v":0}]
[null,null,null,null,null,{"$f":"IF(COUNTIF(BD!$B$2:B490,BD!B490)=1,MAX($F$1:F489)+1,\"\")","v":""},null,{"$f":"IF(AND(BD!B490=REF,BD!D490>=DEB,BD!D490<=FIN),MAX(calc!$H$1:H489)+1,0)","v":0}]
[null,null,null,null,null,{"$f":"IF(COUNTIF(BD!$B$2:B491,BD!B491)=1,MAX($F$1:F490)+1,\"\")","v":""},null,{"$f":"IF(AND(BD!B491=REF,BD!D491>=DEB,BD!D491<=FIN),MAX(calc!$H$1:H490)+1,0)","v":0}]
[null,null,null,null,null,{"$f":"IF(COUNTIF(BD!$B$2:B492,BD!B492)=1,MAX($F$1:F491)+1,\"\")","v":""},null,{"$f":"IF(AND(BD!B492=REF,BD!D492>=DEB,BD!D492<=FIN),MAX(calc!$H$1:H491)+1,0)","v":0}]
[null,null,null,null,null,{"$f":"IF(COUNTIF(BD!$B$2:B493,BD!B493)=1,MAX($F$1:F492)+1,\"\")","v":""},null,{"$f":"IF(AND(BD!B493=REF,BD!D493>=DEB,BD!D493<=FIN),MAX(calc!$H$1:H492)+1,0)","v":0}]
[null,null,null,null,null,{"$f":"IF(COUNTIF(BD!$B$2:B494,BD!B494)=1,MAX($F$1:F493)+1,\"\")","v":""},null,{"$f":"IF(AND(BD!B494=REF,BD!D494>=DEB,BD!D494<=FIN),MAX(calc!$H$1:H493)+1,0)","v":0}]
[null,null,null,null,null,{"$f":"IF(COUNTIF(BD!$B$2:B495,BD!B495)=1,MAX($F$1:F494)+1,\"\")","v":""},null,{"$f":"IF(AND(BD!B495=REF,BD!D495>=DEB,BD!D495<=FIN),MAX(calc!$H$1:H494)+1,0)","v":0}]
[null,null,null,null,null,{"$f":"IF(COUNTIF(BD!$B$2:B496,BD!B496)=1,MAX($F$1:F495)+1,\"\")","v":""},null,{"$f":"IF(AND(BD!B496=REF,BD!D496>=DEB,BD!D496<=FIN),MAX(calc!$H$1:H495)+1,0)","v":0}]
[null,null,null,null,null,{"$f":"IF(COUNTIF(BD!$B$2:B497,BD!B497)=1,MAX($F$1:F496)+1,\"\")","v":""},null,{"$f":"IF(AND(BD!B497=REF,BD!D497>=DEB,BD!D497<=FIN),MAX(calc!$H$1:H496)+1,0)","v":0}]
[null,null,null,null,null,{"$f":"IF(COUNTIF(BD!$B$2:B498,BD!B498)=1,MAX($F$1:F497)+1,\"\")","v":""},null,{"$f":"IF(AND(BD!B498=REF,BD!D498>=DEB,BD!D498<=FIN),MAX(calc!$H$1:H497)+1,0)","v":0}]
[null,null,null,null,null,{"$f":"IF(COUNTIF(BD!$B$2:B499,BD!B499)=1,MAX($F$1:F498)+1,\"\")","v":""},null,{"$f":"IF(AND(BD!B499=REF,BD!D499>=DEB,BD!D499<=FIN),MAX(calc!$H$1:H498)+1,0)","v":0}]
[null,null,null,null,null,{"$f":"IF(COUNTIF(BD!$B$2:B500,BD!B500)=1,MAX($F$1:F499)+1,\"\")","v":""},null,{"$f":"IF(AND(BD!B500=REF,BD!D500>=DEB,BD!D500<=FIN),MAX(calc!$H$1:H499)+1,0)","v":0}]
[null,null,null,null,null,{"$f":"IF(COUNTIF(BD!$B$2:B501,BD!B501)=1,MAX($F$1:F500)+1,\"\")","v":""},null,{"$f":"IF(AND(BD!B501=REF,BD!D501>=DEB,BD!D501<=FIN),MAX(calc!$H$1:H500)+1,0)","v":0}]
[null,null,null,null,null,{"$f":"IF(COUNTIF(BD!$B$2:B502,BD!B502)=1,MAX($F$1:F501)+1,\"\")","v":""},null,{"$f":"IF(AND(BD!B502=REF,BD!D502>=DEB,BD!D502<=FIN),MAX(calc!$H$1:H501)+1,0)","v":0}]
[null,null,null,null,null,{"$f":"IF(COUNTIF(BD!$B$2:B503,BD!B503)=1,MAX($F$1:F502)+1,\"\")","v":""},null,{"$f":"IF(AND(BD!B503=REF,BD!D503>=DEB,BD!D503<=FIN),MAX(calc!$H$1:H502)+1,0)","v":0}]
[null,null,null,null,null,{"$f":"IF(COUNTIF(BD!$B$2:B504,BD!B504)=1,MAX($F$1:F503)+1,\"\")","v":""},null,{"$f":"IF(AND(BD!B504=REF,BD!D504>=DEB,BD!D504<=FIN),MAX(calc!$H$1:H503)+1,0)","v":0}]
[null,null,null,null,null,{"$f":"IF(COUNTIF(BD!$B$2:B505,BD!B505)=1,MAX($F$1:F504)+1,\"\")","v":""},null,{"$f":"IF(AND(BD!B505=REF,BD!D505>=DEB,BD!D505<=FIN),MAX(calc!$H$1:H504)+1,0)","v":0}]
[null,null,null,null,null,{"$f":"IF(COUNTIF(BD!$B$2:B506,BD!B506)=1,MAX($F$1:F505)+1,\"\")","v":""},null,{"$f":"IF(AND(BD!B506=REF,BD!D506>=DEB,BD!D506<=FIN),MAX(calc!$H$1:H505)+1,0)","v":0}]
[null,null,null,null,null,{"$f":"IF(COUNTIF(BD!$B$2:B507,BD!B507)=1,MAX($F$1:F506)+1,\"\")","v":""},null,{"$f":"IF(AND(BD!B507=REF,BD!D507>=DEB,BD!D507<=FIN),MAX(calc!$H$1:H506)+1,0)","v":0}]
[null,null,null,null,null,{"$f":"IF(COUNTIF(BD!$B$2:B508,BD!B508)=1,MAX($F$1:F507)+1,\"\")","v":""},null,{"$f":"IF(AND(BD!B508=REF,BD!D508>=DEB,BD!D508<=FIN),MAX(calc!$H$1:H507)+1,0)","v":0}]
[null,null,null,null,null,{"$f":"IF(COUNTIF(BD!$B$2:B509,BD!B509)=1,MAX($F$1:F508)+1,\"\")","v":""},null,{"$f":"IF(AND(BD!B509=REF,BD!D509>=DEB,BD!D509<=FIN),MAX(calc!$H$1:H508)+1,0)","v":0}]
[null,null,null,null,null,{"$f":"IF(COUNTIF(BD!$B$2:B510,BD!B510)=1,MAX($F$1:F509)+1,\"\")","v":""},null,{"$f":"IF(AND(BD!B510=REF,BD!D510>=DEB,BD!D510<=FIN),MAX(calc!$H$1:H509)+1,0)","v":0}]
[null,null,null,null,null,{"$f":"IF(COUNTIF(BD!$B$2:B511,BD!B511)=1,MAX($F$1:F510)+1,\"\")","v":""},null,{"$f":"IF(AND(BD!B511=REF,BD!D511>=DEB,BD!D511<=FIN),MAX(calc!$H$1:H510)+1,0)","v":0}]
[null,null,null,null,null,{"$f":"IF(COUNTIF(BD!$B$2:B512,BD!B512)=1,MAX($F$1:F511)+1,\"\")","v":""},null,{"$f":"IF(AND(BD!B512=REF,BD!D512>=DEB,BD!D512<=FIN),MAX(calc!$H$1:H511)+1,0)","v":0}]
[null,null,null,null,null,{"$f":"IF(COUNTIF(BD!$B$2:B513,BD!B513)=1,MAX($F$1:F512)+1,\"\")","v":""},null,{"$f":"IF(AND(BD!B513=REF,BD!D513>=DEB,BD!D513<=FIN),MAX(calc!$H$1:H512)+1,0)","v":0}]
[null,null,null,null,null,{"$f":"IF(COUNTIF(BD!$B$2:B514,BD!B514)=1,MAX($F$1:F513)+1,\"\")","v":""},null,{"$f":"IF(AND(BD!B514=REF,BD!D514>=DEB,BD!D514<=FIN),MAX(calc!$H$1:H513)+1,0)","v":0}]
[null,null,null,null,null,{"$f":"IF(COUNTIF(BD!$B$2:B515,BD!B515)=1,MAX($F$1:F514)+1,\"\")","v":""},null,{"$f":"IF(AND(BD!B515=REF,BD!D515>=DEB,BD!D515<=FIN),MAX(calc!$H$1:H514)+1,0)","v":0}]
[null,null,null,null,null,{"$f":"IF(COUNTIF(BD!$B$2:B516,BD!B516)=1,MAX($F$1:F515)+1,\"\")","v":""},null,{"$f":"IF(AND(BD!B516=REF,BD!D516>=DEB,BD!D516<=FIN),MAX(calc!$H$1:H515)+1,0)","v":0}]
[null,null,null,null,null,{"$f":"IF(COUNTIF(BD!$B$2:B517,BD!B517)=1,MAX($F$1:F516)+1,\"\")","v":""},null,{"$f":"IF(AND(BD!B517=REF,BD!D517>=DEB,BD!D517<=FIN),MAX(calc!$H$1:H516)+1,0)","v":0}]
[null,null,null,null,null,{"$f":"IF(COUNTIF(BD!$B$2:B518,BD!B518)=1,MAX($F$1:F517)+1,\"\")","v":""},null,{"$f":"IF(AND(BD!B518=REF,BD!D518>=DEB,BD!D518<=FIN),MAX(calc!$H$1:H517)+1,0)","v":0}]
[null,null,null,null,null,{"$f":"IF(COUNTIF(BD!$B$2:B519,BD!B519)=1,MAX($F$1:F518)+1,\"\")","v":""},null,{"$f":"IF(AND(BD!B519=REF,BD!D519>=DEB,BD!D519<=FIN),MAX(calc!$H$1:H518)+1,0)","v":0}]
[null,null,null,null,null,{"$f":"IF(COUNTIF(BD!$B$2:B520,BD!B520)=1,MAX($F$1:F519)+1,\"\")","v":""},null,{"$f":"IF(AND(BD!B520=REF,BD!D520>=DEB,BD!D520<=FIN),MAX(calc!$H$1:H519)+1,0)","v":0}]
[null,null,null,null,null,{"$f":"IF(COUNTIF(BD!$B$2:B521,BD!B521)=1,MAX($F$1:F520)+1,\"\")","v":""},null,{"$f":"IF(AND(BD!B521=REF,BD!D521>=DEB,BD!D521<=FIN),MAX(calc!$H$1:H520)+1,0)","v":0}]
[null,null,null,null,null,{"$f":"IF(COUNTIF(BD!$B$2:B522,BD!B522)=1,MAX($F$1:F521)+1,\"\")","v":""},null,{"$f":"IF(AND(BD!B522=REF,BD!D522>=DEB,BD!D522<=FIN),MAX(calc!$H$1:H521)+1,0)","v":0}]
[null,null,null,null,null,{"$f":"IF(COUNTIF(BD!$B$2:B523,BD!B523)=1,MAX($F$1:F522)+1,\"\")","v":""},null,{"$f":"IF(AND(BD!B523=REF,BD!D523>=DEB,BD!D523<=FIN),MAX(calc!$H$1:H522)+1,0)","v":0}]
[null,null,null,null,null,{"$f":"IF(COUNTIF(BD!$B$2:B524,BD!B524)=1,MAX($F$1:F523)+1,\"\")","v":""},null,{"$f":"IF(AND(BD!B524=REF,BD!D524>=DEB,BD!D524<=FIN),MAX(calc!$H$1:H523)+1,0)","v":0}]
[null,null,null,null,null,{"$f":"IF(COUNTIF(BD!$B$2:B525,BD!B525)=1,MAX($F$1:F524)+1,\"\")","v":""},null,{"$f":"IF(AND(BD!B525=REF,BD!D525>=DEB,BD!D525<=FIN),MAX(calc!$H$1:H524)+1,0)","v":0}]
[null,null,null,null,null,{"$f":"IF(COUNTIF(BD!$B$2:B526,BD!B526)=1,MAX($F$1:F525)+1,\"\")","v":""},null,{"$f":"IF(AND(BD!B526=REF,BD!D526>=DEB,BD!D526<=FIN),MAX(calc!$H$1:H525)+1,0)","v":0}]
[null,null,null,null,null,{"$f":"IF(COUNTIF(BD!$B$2:B527,BD!B527)=1,MAX($F$1:F526)+1,\"\")","v":""},null,{"$f":"IF(AND(BD!B527=REF,BD!D527>=DEB,BD!D527<=FIN),MAX(calc!$H$1:H526)+1,0)","v":0}]
[null,null,null,null,null,{"$f":"IF(COUNTIF(BD!$B$2:B528,BD!B528)=1,MAX($F$1:F527)+1,\"\")","v":""},null,{"$f":"IF(AND(BD!B528=REF,BD!D528>=DEB,BD!D528<=FIN),MAX(calc!$H$1:H527)+1,0)","v":0}]
[null,null,null,null,null,{"$f":"IF(COUNTIF(BD!$B$2:B529,BD!B529)=1,MAX($F$1:F528)+1,\"\")","v":""},null,{"$f":"IF(AND(BD!B529=REF,BD!D529>=DEB,BD!D529<=FIN),MAX(calc!$H$1:H528)+1,0)","v":0}]
[null,null,null,null,null,{"$f":"IF(COUNTIF(BD!$B$2:B530,BD!B530)=1,MAX($F$1:F529)+1,\"\")","v":""},null,{"$f":"IF(AND(BD!B530=REF,BD!D530>=DEB,BD!D530<=FIN),MAX(calc!$H$1:H529)+1,0)","v":0}]
[null,null,null,null,null,{"$f":"IF(COUNTIF(BD!$B$2:B531,BD!B531)=1,MAX($F$1:F530)+1,\"\")","v":""},null,{"$f":"IF(AND(BD!B531=REF,BD!D531>=DEB,BD!D531<=FIN),MAX(calc!$H$1:H530)+1,0)","v":0}]
[null,null,null,null,null,{"$f":"IF(COUNTIF(BD!$B$2:B532,BD!B532)=1,MAX($F$1:F531)+1,\"\")","v":""},null,{"$f":"IF(AND(BD!B532=REF,BD!D532>=DEB,BD!D532<=FIN),MAX(calc!$H$1:H531)+1,0)","v":0}]
[null,null,null,null,null,{"$f":"IF(COUNTIF(BD!$B$2:B533,BD!B533)=1,MAX($F$1:F532)+1,\"\")","v":""},null,{"$f":"IF(AND(BD!B533=REF,BD!D533>=DEB,BD!D533<=FIN),MAX(calc!$H$1:H532)+1,0)","v":0}]
[null,null,null,null,null,{"$f":"IF(COUNTIF(BD!$B$2:B534,BD!B534)=1,MAX($F$1:F533)+1,\"\")","v":""},null,{"$f":"IF(AND(BD!B534=REF,BD!D534>=DEB,BD!D534<=FIN),MAX(calc!$H$1:H533)+1,0)","v":0}]
[null,null,null,null,null,{"$f":"IF(COUNTIF(BD!$B$2:B535,BD!B535)=1,MAX($F$1:F534)+1,\"\")","v":""},null,{"$f":"IF(AND(BD!B535=REF,BD!D535>=DEB,BD!D535<=FIN),MAX(calc!$H$1:H534)+1,0)","v":0}]
[null,null,null,null,null,{"$f":"IF(COUNTIF(BD!$B$2:B536,BD!B536)=1,MAX($F$1:F535)+1,\"\")","v":""},null,{"$f":"IF(AND(BD!B536=REF,BD!D536>=DEB,BD!D536<=FIN),MAX(calc!$H$1:H535)+1,0)","v":0}]
[null,null,null,null,null,{"$f":"IF(COUNTIF(BD!$B$2:B537,BD!B537)=1,MAX($F$1:F536)+1,\"\")","v":""},null,{"$f":"IF(AND(BD!B537=REF,BD!D537>=DEB,BD!D537<=FIN),MAX(calc!$H$1:H536)+1,0)","v":0}]
[null,null,null,null,null,{"$f":"IF(COUNTIF(BD!$B$2:B538,BD!B538)=1,MAX($F$1:F537)+1,\"\")","v":""},null,{"$f":"IF(AND(BD!B538=REF,BD!D538>=DEB,BD!D538<=FIN),MAX(calc!$H$1:H537)+1,0)","v":0}]
[null,null,null,null,null,{"$f":"IF(COUNTIF(BD!$B$2:B539,BD!B539)=1,MAX($F$1:F538)+1,\"\")","v":""},null,{"$f":"IF(AND(BD!B539=REF,BD!D539>=DEB,BD!D539<=FIN),MAX(calc!$H$1:H538)+1,0)","v":0}]
[null,null,null,null,null,{"$f":"IF(COUNTIF(BD!$B$2:B540,BD!B540)=1,MAX($F$1:F539)+1,\"\")","v":""},null,{"$f":"IF(AND(BD!B540=REF,BD!D540>=DEB,BD!D540<=FIN),MAX(calc!$H$1:H539)+1,0)","v":0}]
[null,null,null,null,null,{"$f":"IF(COUNTIF(BD!$B$2:B541,BD!B541)=1,MAX($F$1:F540)+1,\"\")","v":""},null,{"$f":"IF(AND(BD!B541=REF,BD!D541>=DEB,BD!D541<=FIN),MAX(calc!$H$1:H540)+1,0)","v":0}]
[null,null,null,null,null,{"$f":"IF(COUNTIF(BD!$B$2:B542,BD!B542)=1,MAX($F$1:F541)+1,\"\")","v":""},null,{"$f":"IF(AND(BD!B542=REF,BD!D542>=DEB,BD!D542<=FIN),MAX(calc!$H$1:H541)+1,0)","v":0}]
[null,null,null,null,null,{"$f":"IF(COUNTIF(BD!$B$2:B543,BD!B543)=1,MAX($F$1:F542)+1,\"\")","v":""},null,{"$f":"IF(AND(BD!B543=REF,BD!D543>=DEB,BD!D543<=FIN),MAX(calc!$H$1:H542)+1,0)","v":0}]
[null,null,null,null,null,{"$f":"IF(COUNTIF(BD!$B$2:B544,BD!B544)=1,MAX($F$1:F543)+1,\"\")","v":""},null,{"$f":"IF(AND(BD!B544=REF,BD!D544>=DEB,BD!D544<=FIN),MAX(calc!$H$1:H543)+1,0)","v":0}]
[null,null,null,null,null,{"$f":"IF(COUNTIF(BD!$B$2:B545,BD!B545)=1,MAX($F$1:F544)+1,\"\")","v":""},null,{"$f":"IF(AND(BD!B545=REF,BD!D545>=DEB,BD!D545<=FIN),MAX(calc!$H$1:H544)+1,0)","v":0}]
[null,null,null,null,null,{"$f":"IF(COUNTIF(BD!$B$2:B546,BD!B546)=1,MAX($F$1:F545)+1,\"\")","v":""},null,{"$f":"IF(AND(BD!B546=REF,BD!D546>=DEB,BD!D546<=FIN),MAX(calc!$H$1:H545)+1,0)","v":0}]
[null,null,null,null,null,{"$f":"IF(COUNTIF(BD!$B$2:B547,BD!B547)=1,MAX($F$1:F546)+1,\"\")","v":""},null,{"$f":"IF(AND(BD!B547=REF,BD!D547>=DEB,BD!D547<=FIN),MAX(calc!$H$1:H546)+1,0)","v":0}]
[null,null,null,null,null,{"$f":"IF(COUNTIF(BD!$B$2:B548,BD!B548)=1,MAX($F$1:F547)+1,\"\")","v":""},null,{"$f":"IF(AND(BD!B548=REF,BD!D548>=DEB,BD!D548<=FIN),MAX(calc!$H$1:H547)+1,0)","v":0}]
[null,null,null,null,null,{"$f":"IF(COUNTIF(BD!$B$2:B549,BD!B549)=1,MAX($F$1:F548)+1,\"\")","v":""},null,{"$f":"IF(AND(BD!B549=REF,BD!D549>=DEB,BD!D549<=FIN),MAX(calc!$H$1:H548)+1,0)","v":0}]
[null,null,null,null,null,{"$f":"IF(COUNTIF(BD!$B$2:B550,BD!B550)=1,MAX($F$1:F549)+1,\"\")","v":""},null,{"$f":"IF(AND(BD!B550=REF,BD!D550>=DEB,BD!D550<=FIN),MAX(calc!$H$1:H549)+1,0)","v":0}]
[null,null,null,null,null,{"$f":"IF(COUNTIF(BD!$B$2:B551,BD!B551)=1,MAX($F$1:F550)+1,\"\")","v":""},null,{"$f":"IF(AND(BD!B551=REF,BD!D551>=DEB,BD!D551<=FIN),MAX(calc!$H$1:H550)+1,0)","v":0}]
[null,null,null,null,null,{"$f":"IF(COUNTIF(BD!$B$2:B552,BD!B552)=1,MAX($F$1:F551)+1,\"\")","v":""},null,{"$f":"IF(AND(BD!B552=REF,BD!D552>=DEB,BD!D552<=FIN),MAX(calc!$H$1:H551)+1,0)","v":0}]
[null,null,null,null,null,{"$f":"IF(COUNTIF(BD!$B$2:B553,BD!B553)=1,MAX($F$1:F552)+1,\"\")","v":""},null,{"$f":"IF(AND(BD!B553=REF,BD!D553>=DEB,BD!D553<=FIN),MAX(calc!$H$1:H552)+1,0)","v":0}]
[null,null,null,null,null,{"$f":"IF(COUNTIF(BD!$B$2:B554,BD!B554)=1,MAX($F$1:F553)+1,\"\")","v":""},null,{"$f":"IF(AND(BD!B554=REF,BD!D554>=DEB,BD!D554<=FIN),MAX(calc!$H$1:H553)+1,0)","v":0}]
[null,null,null,null,null,{"$f":"IF(COUNTIF(BD!$B$2:B555,BD!B555)=1,MAX($F$1:F554)+1,\"\")","v":""},null,{"$f":"IF(AND(BD!B555=REF,BD!D555>=DEB,BD!D555<=FIN),MAX(calc!$H$1:H554)+1,0)","v":0}]
[null,null,null,null,null,{"$f":"IF(COUNTIF(BD!$B$2:B556,BD!B556)=1,MAX($F$1:F555)+1,\"\")","v":""},null,{"$f":"IF(AND(BD!B556=REF,BD!D556>=DEB,BD!D556<=FIN),MAX(calc!$H$1:H555)+1,0)","v":0}]
[null,null,null,null,null,{"$f":"IF(COUNTIF(BD!$B$2:B557,BD!B557)=1,MAX($F$1:F556)+1,\"\")","v":""},null,{"$f":"IF(AND(BD!B557=REF,BD!D557>=DEB,BD!D557<=FIN),MAX(calc!$H$1:H556)+1,0)","v":0}]
[null,null,null,null,null,{"$f":"IF(COUNTIF(BD!$B$2:B558,BD!B558)=1,MAX($F$1:F557)+1,\"\")","v":""},null,{"$f":"IF(AND(BD!B558=REF,BD!D558>=DEB,BD!D558<=FIN),MAX(calc!$H$1:H557)+1,0)","v":0}]
[null,null,null,null,null,{"$f":"IF(COUNTIF(BD!$B$2:B559,BD!B559)=1,MAX($F$1:F558)+1,\"\")","v":""},null,{"$f":"IF(AND(BD!B559=REF,BD!D559>=DEB,BD!D559<=FIN),MAX(calc!$H$1:H558)+1,0)","v":0}]
[null,null,null,null,null,{"$f":"IF(COUNTIF(BD!$B$2:B560,BD!B560)=1,MAX($F$1:F559)+1,\"\")","v":""},null,{"$f":"IF(AND(BD!B560=REF,BD!D560>=DEB,BD!D560<=FIN),MAX(calc!$H$1:H559)+1,0)","v":0}]
[null,null,null,null,null,{"$f":"IF(COUNTIF(BD!$B$2:B561,BD!B561)=1,MAX($F$1:F560)+1,\"\")","v":""},null,{"$f":"IF(AND(BD!B561=REF,BD!D561>=DEB,BD!D561<=FIN),MAX(calc!$H$1:H560)+1,0)","v":0}]
[null,null,null,null,null,{"$f":"IF(COUNTIF(BD!$B$2:B562,BD!B562)=1,MAX($F$1:F561)+1,\"\")","v":""},null,{"$f":"IF(AND(BD!B562=REF,BD!D562>=DEB,BD!D562<=FIN),MAX(calc!$H$1:H561)+1,0)","v":0}]
[null,null,null,null,null,{"$f":"IF(COUNTIF(BD!$B$2:B563,BD!B563)=1,MAX($F$1:F562)+1,\"\")","v":""},null,{"$f":"IF(AND(BD!B563=REF,BD!D563>=DEB,BD!D563<=FIN),MAX(calc!$H$1:H562)+1,0)","v":0}]
[null,null,null,null,null,{"$f":"IF(COUNTIF(BD!$B$2:B564,BD!B564)=1,MAX($F$1:F563)+1,\"\")","v":""},null,{"$f":"IF(AND(BD!B564=REF,BD!D564>=DEB,BD!D564<=FIN),MAX(calc!$H$1:H563)+1,0)","v":0}]
[null,null,null,null,null,{"$f":"IF(COUNTIF(BD!$B$2:B565,BD!B565)=1,MAX($F$1:F564)+1,\"\")","v":""},null,{"$f":"IF(AND(BD!B565=REF,BD!D565>=DEB,BD!D565<=FIN),MAX(calc!$H$1:H564)+1,0)","v":0}]
[null,null,null,null,null,{"$f":"IF(COUNTIF(BD!$B$2:B566,BD!B566)=1,MAX($F$1:F565)+1,\"\")","v":""},null,{"$f":"IF(AND(BD!B566=REF,BD!D566>=DEB,BD!D566<=FIN),MAX(calc!$H$1:H565)+1,0)","v":0}]
[null,null,null,null,null,{"$f":"IF(COUNTIF(BD!$B$2:B567,BD!B567)=1,MAX($F$1:F566)+1,\"\")","v":""},null,{"$f":"IF(AND(BD!B567=REF,BD!D567>=DEB,BD!D567<=FIN),MAX(calc!$H$1:H566)+1,0)","v":0}]
[null,null,null,null,null,{"$f":"IF(COUNTIF(BD!$B$2:B568,BD!B568)=1,MAX($F$1:F567)+1,\"\")","v":""},null,{"$f":"IF(AND(BD!B568=REF,BD!D568>=DEB,BD!D568<=FIN),MAX(calc!$H$1:H567)+1,0)","v":0}]
[null,null,null,null,null,{"$f":"IF(COUNTIF(BD!$B$2:B569,BD!B569)=1,MAX($F$1:F568)+1,\"\")","v":""},null,{"$f":"IF(AND(BD!B569=REF,BD!D569>=DEB,BD!D569<=FIN),MAX(calc!$H$1:H568)+1,0)","v":0}]
[null,null,null,null,null,{"$f":"IF(COUNTIF(BD!$B$2:B570,BD!B570)=1,MAX($F$1:F569)+1,\"\")","v":""},null,{"$f":"IF(AND(BD!B570=REF,BD!D570>=DEB,BD!D570<=FIN),MAX(calc!$H$1:H569)+1,0)","v":0}]
[null,null,null,null,null,{"$f":"IF(COUNTIF(BD!$B$2:B571,BD!B571)=1,MAX($F$1:F570)+1,\"\")","v":""},null,{"$f":"IF(AND(BD!B571=REF,BD!D571>=DEB,BD!D571<=FIN),MAX(calc!$H$1:H570)+1,0)","v":0}]
[null,null,null,null,null,{"$f":"IF(COUNTIF(BD!$B$2:B572,BD!B572)=1,MAX($F$1:F571)+1,\"\")","v":""},null,{"$f":"IF(AND(BD!B572=REF,BD!D572>=DEB,BD!D572<=FIN),MAX(calc!$H$1:H571)+1,0)","v":0}]
[null,null,null,null,null,{"$f":"IF(COUNTIF(BD!$B$2:B573,BD!B573)=1,MAX($F$1:F572)+1,\"\")","v":""},null,{"$f":"IF(AND(BD!B573=REF,BD!D573>=DEB,BD!D573<=FIN),MAX(calc!$H$1:H572)+1,0)","v":0}]
[null,null,null,null,null,{"$f":"IF(COUNTIF(BD!$B$2:B574,BD!B574)=1,MAX($F$1:F573)+1,\"\")","v":""},null,{"$f":"IF(AND(BD!B574=REF,BD!D574>=DEB,BD!D574<=FIN),MAX(calc!$H$1:H573)+1,0)","v":0}]
[null,null,null,null,null,{"$f":"IF(COUNTIF(BD!$B$2:B575,BD!B575)=1,MAX($F$1:F574)+1,\"\")","v":""},null,{"$f":"IF(AND(BD!B575=REF,BD!D575>=DEB,BD!D575<=FIN),MAX(calc!$H$1:H574)+1,0)","v":0}]
[null,null,null,null,null,{"$f":"IF(COUNTIF(BD!$B$2:B576,BD!B576)=1,MAX($F$1:F575)+1,\"\")","v":""},null,{"$f":"IF(AND(BD!B576=REF,BD!D576>=DEB,BD!D576<=FIN),MAX(calc!$H$1:H575)+1,0)","v":0}]
[null,null,null,null,null,{"$f":"IF(COUNTIF(BD!$B$2:B577,BD!B577)=1,MAX($F$1:F576)+1,\"\")","v":""},null,{"$f":"IF(AND(BD!B577=REF,BD!D577>=DEB,BD!D577<=FIN),MAX(calc!$H$1:H576)+1,0)","v":0}]
[null,null,null,null,null,{"$f":"IF(COUNTIF(BD!$B$2:B578,BD!B578)=1,MAX($F$1:F577)+1,\"\")","v":""},null,{"$f":"IF(AND(BD!B578=REF,BD!D578>=DEB,BD!D578<=FIN),MAX(calc!$H$1:H577)+1,0)","v":0}]
[null,null,null,null,null,{"$f":"IF(COUNTIF(BD!$B$2:B579,BD!B579)=1,MAX($F$1:F578)+1,\"\")","v":""},null,{"$f":"IF(AND(BD!B579=REF,BD!D579>=DEB,BD!D579<=FIN),MAX(calc!$H$1:H578)+1,0)","v":0}]
[null,null,null,null,null,{"$f":"IF(COUNTIF(BD!$B$2:B580,BD!B580)=1,MAX($F$1:F579)+1,\"\")","v":""},null,{"$f":"IF(AND(BD!B580=REF,BD!D580>=DEB,BD!D580<=FIN),MAX(calc!$H$1:H579)+1,0)","v":0}]
[null,null,null,null,null,{"$f":"IF(COUNTIF(BD!$B$2:B581,BD!B581)=1,MAX($F$1:F580)+1,\"\")","v":""},null,{"$f":"IF(AND(BD!B581=REF,BD!D581>=DEB,BD!D581<=FIN),MAX(calc!$H$1:H580)+1,0)","v":0}]
[null,null,null,null,null,{"$f":"IF(COUNTIF(BD!$B$2:B582,BD!B582)=1,MAX($F$1:F581)+1,\"\")","v":""},null,{"$f":"IF(AND(BD!B582=REF,BD!D582>=DEB,BD!D582<=FIN),MAX(calc!$H$1:H581)+1,0)","v":0}]
[null,null,null,null,null,{"$f":"IF(COUNTIF(BD!$B$2:B583,BD!B583)=1,MAX($F$1:F582)+1,\"\")","v":""},null,{"$f":"IF(AND(BD!B583=REF,BD!D583>=DEB,BD!D583<=FIN),MAX(calc!$H$1:H582)+1,0)","v":0}]
[null,null,null,null,null,{"$f":"IF(COUNTIF(BD!$B$2:B584,BD!B584)=1,MAX($F$1:F583)+1,\"\")","v":""},null,{"$f":"IF(AND(BD!B584=REF,BD!D584>=DEB,BD!D584<=FIN),MAX(calc!$H$1:H583)+1,0)","v":0}]
[null,null,null,null,null,{"$f":"IF(COUNTIF(BD!$B$2:B585,BD!B585)=1,MAX($F$1:F584)+1,\"\")","v":""},null,{"$f":"IF(AND(BD!B585=REF,BD!D585>=DEB,BD!D585<=FIN),MAX(calc!$H$1:H584)+1,0)","v":0}]
[null,null,null,null,null,{"$f":"IF(COUNTIF(BD!$B$2:B586,BD!B586)=1,MAX($F$1:F585)+1,\"\")","v":""},null,{"$f":"IF(AND(BD!B586=REF,BD!D586>=DEB,BD!D586<=FIN),MAX(calc!$H$1:H585)+1,0)","v":0}]
[null,null,null,null,null,{"$f":"IF(COUNTIF(BD!$B$2:B587,BD!B587)=1,MAX($F$1:F586)+1,\"\")","v":""},null,{"$f":"IF(AND(BD!B587=REF,BD!D587>=DEB,BD!D587<=FIN),MAX(calc!$H$1:H586)+1,0)","v":0}]
[null,null,null,null,null,{"$f":"IF(COUNTIF(BD!$B$2:B588,BD!B588)=1,MAX($F$1:F587)+1,\"\")","v":""},null,{"$f":"IF(AND(BD!B588=REF,BD!D588>=DEB,BD!D588<=FIN),MAX(calc!$H$1:H587)+1,0)","v":0}]
[null,null,null,null,null,{"$f":"IF(COUNTIF(BD!$B$2:B589,BD!B589)=1,MAX($F$1:F588)+1,\"\")","v":""},null,{"$f":"IF(AND(BD!B589=REF,BD!D589>=DEB,BD!D589<=FIN),MAX(calc!$H$1:H588)+1,0)","v":0}]
[null,null,null,null,null,{"$f":"IF(COUNTIF(BD!$B$2:B590,BD!B590)=1,MAX($F$1:F589)+1,\"\")","v":""},null,{"$f":"IF(AND(BD!B590=REF,BD!D590>=DEB,BD!D590<=FIN),MAX(calc!$H$1:H589)+1,0)","v":0}]
[null,null,null,null,null,{"$f":"IF(COUNTIF(BD!$B$2:B591,BD!B591)=1,MAX($F$1:F590)+1,\"\")","v":""},null,{"$f":"IF(AND(BD!B591=REF,BD!D591>=DEB,BD!D591<=FIN),MAX(calc!$H$1:H590)+1,0)","v":0}]
[null,null,null,null,null,{"$f":"IF(COUNTIF(BD!$B$2:B592,BD!B592)=1,MAX($F$1:F591)+1,\"\")","v":""},null,{"$f":"IF(AND(BD!B592=REF,BD!D592>=DEB,BD!D592<=FIN),MAX(calc!$H$1:H591)+1,0)","v":0}]
[null,null,null,null,null,{"$f":"IF(COUNTIF(BD!$B$2:B593,BD!B593)=1,MAX($F$1:F592)+1,\"\")","v":""},null,{"$f":"IF(AND(BD!B593=REF,BD!D593>=DEB,BD!D593<=FIN),MAX(calc!$H$1:H592)+1,0)","v":0}]
[null,null,null,null,null,{"$f":"IF(COUNTIF(BD!$B$2:B594,BD!B594)=1,MAX($F$1:F593)+1,\"\")","v":""},null,{"$f":"IF(AND(BD!B594=REF,BD!D594>=DEB,BD!D594<=FIN),MAX(calc!$H$1:H593)+1,0)","v":0}]
[null,null,null,null,null,{"$f":"IF(COUNTIF(BD!$B$2:B595,BD!B595)=1,MAX($F$1:F594)+1,\"\")","v":""},null,{"$f":"IF(AND(BD!B595=REF,BD!D595>=DEB,BD!D595<=FIN),MAX(calc!$H$1:H594)+1,0)","v":0}]
[null,null,null,null,null,{"$f":"IF(COUNTIF(BD!$B$2:B596,BD!B596)=1,MAX($F$1:F595)+1,\"\")","v":""},null,{"$f":"IF(AND(BD!B596=REF,BD!D596>=DEB,BD!D596<=FIN),MAX(calc!$H$1:H595)+1,0)","v":0}]
[null,null,null,null,null,{"$f":"IF(COUNTIF(BD!$B$2:B597,BD!B597)=1,MAX($F$1:F596)+1,\"\")","v":""},null,{"$f":"IF(AND(BD!B597=REF,BD!D597>=DEB,BD!D597<=FIN),MAX(calc!$H$1:H596)+1,0)","v":0}]
[null,null,null,null,null,{"$f":"IF(COUNTIF(BD!$B$2:B598,BD!B598)=1,MAX($F$1:F597)+1,\"\")","v":""},null,{"$f":"IF(AND(BD!B598=REF,BD!D598>=DEB,BD!D598<=FIN),MAX(calc!$H$1:H597)+1,0)","v":0}]
[null,null,null,null,null,{"$f":"IF(COUNTIF(BD!$B$2:B599,BD!B599)=1,MAX($F$1:F598)+1,\"\")","v":""},null,{"$f":"IF(AND(BD!B599=REF,BD!D599>=DEB,BD!D599<=FIN),MAX(calc!$H$1:H598)+1,0)","v":0}]
[null,null,null,null,null,{"$f":"IF(COUNTIF(BD!$B$2:B600,BD!B600)=1,MAX($F$1:F599)+1,\"\")","v":""},null,{"$f":"IF(AND(BD!B600=REF,BD!D600>=DEB,BD!D600<=FIN),MAX(calc!$H$1:H599)+1,0)","v":0}]
[null,null,null,null,null,{"$f":"IF(COUNTIF(BD!$B$2:B601,BD!B601)=1,MAX($F$1:F600)+1,\"\")","v":""},null,{"$f":"IF(AND(BD!B601=REF,BD!D601>=DEB,BD!D601<=FIN),MAX(calc!$H$1:H600)+1,0)","v":0}]
[null,null,null,null,null,{"$f":"IF(COUNTIF(BD!$B$2:B602,BD!B602)=1,MAX($F$1:F601)+1,\"\")","v":""},null,{"$f":"IF(AND(BD!B602=REF,BD!D602>=DEB,BD!D602<=FIN),MAX(calc!$H$1:H601)+1,0)","v":0}]
[null,null,null,null,null,{"$f":"IF(COUNTIF(BD!$B$2:B603,BD!B603)=1,MAX($F$1:F602)+1,\"\")","v":""},null,{"$f":"IF(AND(BD!B603=REF,BD!D603>=DEB,BD!D603<=FIN),MAX(calc!$H$1:H602)+1,0)","v":0}]
[null,null,null,null,null,{"$f":"IF(COUNTIF(BD!$B$2:B604,BD!B604)=1,MAX($F$1:F603)+1,\"\")","v":""},null,{"$f":"IF(AND(BD!B604=REF,BD!D604>=DEB,BD!D604<=FIN),MAX(calc!$H$1:H603)+1,0)","v":0}]
[null,null,null,null,null,{"$f":"IF(COUNTIF(BD!$B$2:B605,BD!B605)=1,MAX($F$1:F604)+1,\"\")","v":""},null,{"$f":"IF(AND(BD!B605=REF,BD!D605>=DEB,BD!D605<=FIN),MAX(calc!$H$1:H604)+1,0)","v":0}]
[null,null,null,null,null,{"$f":"IF(COUNTIF(BD!$B$2:B606,BD!B606)=1,MAX($F$1:F605)+1,\"\")","v":""},null,{"$f":"IF(AND(BD!B606=REF,BD!D606>=DEB,BD!D606<=FIN),MAX(calc!$H$1:H605)+1,0)","v":0}]
[null,null,null,null,null,{"$f":"IF(COUNTIF(BD!$B$2:B607,BD!B607)=1,MAX($F$1:F606)+1,\"\")","v":""},null,{"$f":"IF(AND(BD!B607=REF,BD!D607>=DEB,BD!D607<=FIN),MAX(calc!$H$1:H606)+1,0)","v":0}]
[null,null,null,null,null,{"$f":"IF(COUNTIF(BD!$B$2:B608,BD!B608)=1,MAX($F$1:F607)+1,\"\")","v":""},null,{"$f":"IF(AND(BD!B608=REF,BD!D608>=DEB,BD!D608<=FIN),MAX(calc!$H$1:H607)+1,0)","v":0}]
[null,null,null,null,null,{"$f":"IF(COUNTIF(BD!$B$2:B609,BD!B609)=1,MAX($F$1:F608)+1,\"\")","v":""},null,{"$f":"IF(AND(BD!B609=REF,BD!D609>=DEB,BD!D609<=FIN),MAX(calc!$H$1:H608)+1,0)","v":0}]
[null,null,null,null,null,{"$f":"IF(COUNTIF(BD!$B$2:B610,BD!B610)=1,MAX($F$1:F609)+1,\"\")","v":""},null,{"$f":"IF(AND(BD!B610=REF,BD!D610>=DEB,BD!D610<=FIN),MAX(calc!$H$1:H609)+1,0)","v":0}]
[null,null,null,null,null,{"$f":"IF(COUNTIF(BD!$B$2:B611,BD!B611)=1,MAX($F$1:F610)+1,\"\")","v":""},null,{"$f":"IF(AND(BD!B611=REF,BD!D611>=DEB,BD!D611<=FIN),MAX(calc!$H$1:H610)+1,0)","v":0}]
[null,null,null,null,null,{"$f":"IF(COUNTIF(BD!$B$2:B612,BD!B612)=1,MAX($F$1:F611)+1,\"\")","v":""},null,{"$f":"IF(AND(BD!B612=REF,BD!D612>=DEB,BD!D612<=FIN),MAX(calc!$H$1:H611)+1,0)","v":0}]
[null,null,null,null,null,{"$f":"IF(COUNTIF(BD!$B$2:B613,BD!B613)=1,MAX($F$1:F612)+1,\"\")","v":""},null,{"$f":"IF(AND(BD!B613=REF,BD!D613>=DEB,BD!D613<=FIN),MAX(calc!$H$1:H612)+1,0)","v":0}]
[null,null,null,null,null,{"$f":"IF(COUNTIF(BD!$B$2:B614,BD!B614)=1,MAX($F$1:F613)+1,\"\")","v":""},null,{"$f":"IF(AND(BD!B614=REF,BD!D614>=DEB,BD!D614<=FIN),MAX(calc!$H$1:H613)+1,0)","v":0}]
[null,null,null,null,null,{"$f":"IF(COUNTIF(BD!$B$2:B615,BD!B615)=1,MAX($F$1:F614)+1,\"\")","v":""},null,{"$f":"IF(AND(BD!B615=REF,BD!D615>=DEB,BD!D615<=FIN),MAX(calc!$H$1:H614)+1,0)","v":0}]
[null,null,null,null,null,{"$f":"IF(COUNTIF(BD!$B$2:B616,BD!B616)=1,MAX($F$1:F615)+1,\"\")","v":""},null,{"$f":"IF(AND(BD!B616=REF,BD!D616>=DEB,BD!D616<=FIN),MAX(calc!$H$1:H615)+1,0)","v":0}]
[null,null,null,null,null,{"$f":"IF(COUNTIF(BD!$B$2:B617,BD!B617)=1,MAX($F$1:F616)+1,\"\")","v":""},null,{"$f":"IF(AND(BD!B617=REF,BD!D617>=DEB,BD!D617<=FIN),MAX(calc!$H$1:H616)+1,0)","v":0}]
[null,null,null,null,null,{"$f":"IF(COUNTIF(BD!$B$2:B618,BD!B618)=1,MAX($F$1:F617)+1,\"\")","v":""},null,{"$f":"IF(AND(BD!B618=REF,BD!D618>=DEB,BD!D618<=FIN),MAX(calc!$H$1:H617)+1,0)","v":0}]
[null,null,null,null,null,{"$f":"IF(COUNTIF(BD!$B$2:B619,BD!B619)=1,MAX($F$1:F618)+1,\"\")","v":""},null,{"$f":"IF(AND(BD!B619=REF,BD!D619>=DEB,BD!D619<=FIN),MAX(calc!$H$1:H618)+1,0)","v":0}]
[null,null,null,null,null,{"$f":"IF(COUNTIF(BD!$B$2:B620,BD!B620)=1,MAX($F$1:F619)+1,\"\")","v":""},null,{"$f":"IF(AND(BD!B620=REF,BD!D620>=DEB,BD!D620<=FIN),MAX(calc!$H$1:H619)+1,0)","v":0}]
[null,null,null,null,null,{"$f":"IF(COUNTIF(BD!$B$2:B621,BD!B621)=1,MAX($F$1:F620)+1,\"\")","v":""},null,{"$f":"IF(AND(BD!B621=REF,BD!D621>=DEB,BD!D621<=FIN),MAX(calc!$H$1:H620)+1,0)","v":0}]
[null,null,null,null,null,{"$f":"IF(COUNTIF(BD!$B$2:B622,BD!B622)=1,MAX($F$1:F621)+1,\"\")","v":""},null,{"$f":"IF(AND(BD!B622=REF,BD!D622>=DEB,BD!D622<=FIN),MAX(calc!$H$1:H621)+1,0)","v":0}]
[null,null,null,null,null,{"$f":"IF(COUNTIF(BD!$B$2:B623,BD!B623)=1,MAX($F$1:F622)+1,\"\")","v":""},null,{"$f":"IF(AND(BD!B623=REF,BD!D623>=DEB,BD!D623<=FIN),MAX(calc!$H$1:H622)+1,0)","v":0}]
[null,null,null,null,null,{"$f":"IF(COUNTIF(BD!$B$2:B624,BD!B624)=1,MAX($F$1:F623)+1,\"\")","v":""},null,{"$f":"IF(AND(BD!B624=REF,BD!D624>=DEB,BD!D624<=FIN),MAX(calc!$H$1:H623)+1,0)","v":0}]
[null,null,null,null,null,{"$f":"IF(COUNTIF(BD!$B$2:B625,BD!B625)=1,MAX($F$1:F624)+1,\"\")","v":""},null,{"$f":"IF(AND(BD!B625=REF,BD!D625>=DEB,BD!D625<=FIN),MAX(calc!$H$1:H624)+1,0)","v":0}]
[null,null,null,null,null,{"$f":"IF(COUNTIF(BD!$B$2:B626,BD!B626)=1,MAX($F$1:F625)+1,\"\")","v":""},null,{"$f":"IF(AND(BD!B626=REF,BD!D626>=DEB,BD!D626<=FIN),MAX(calc!$H$1:H625)+1,0)","v":0}]
[null,null,null,null,null,{"$f":"IF(COUNTIF(BD!$B$2:B627,BD!B627)=1,MAX($F$1:F626)+1,\"\")","v":""},null,{"$f":"IF(AND(BD!B627=REF,BD!D627>=DEB,BD!D627<=FIN),MAX(calc!$H$1:H626)+1,0)","v":0}]
[null,null,null,null,null,{"$f":"IF(COUNTIF(BD!$B$2:B628,BD!B628)=1,MAX($F$1:F627)+1,\"\")","v":""},null,{"$f":"IF(AND(BD!B628=REF,BD!D628>=DEB,BD!D628<=FIN),MAX(calc!$H$1:H627)+1,0)","v":0}]
[null,null,null,null,null,{"$f":"IF(COUNTIF(BD!$B$2:B629,BD!B629)=1,MAX($F$1:F628)+1,\"\")","v":""},null,{"$f":"IF(AND(BD!B629=REF,BD!D629>=DEB,BD!D629<=FIN),MAX(calc!$H$1:H628)+1,0)","v":0}]
[null,null,null,null,null,{"$f":"IF(COUNTIF(BD!$B$2:B630,BD!B630)=1,MAX($F$1:F629)+1,\"\")","v":""},null,{"$f":"IF(AND(BD!B630=REF,BD!D630>=DEB,BD!D630<=FIN),MAX(calc!$H$1:H629)+1,0)","v":0}]
[null,null,null,null,null,{"$f":"IF(COUNTIF(BD!$B$2:B631,BD!B631)=1,MAX($F$1:F630)+1,\"\")","v":""},null,{"$f":"IF(AND(BD!B631=REF,BD!D631>=DEB,BD!D631<=FIN),MAX(calc!$H$1:H630)+1,0)","v":0}]
[null,null,null,null,null,{"$f":"IF(COUNTIF(BD!$B$2:B632,BD!B632)=1,MAX($F$1:F631)+1,\"\")","v":""},null,{"$f":"IF(AND(BD!B632=REF,BD!D632>=DEB,BD!D632<=FIN),MAX(calc!$H$1:H631)+1,0)","v":0}]
[null,null,null,null,null,{"$f":"IF(COUNTIF(BD!$B$2:B633,BD!B633)=1,MAX($F$1:F632)+1,\"\")","v":""},null,{"$f":"IF(AND(BD!B633=REF,BD!D633>=DEB,BD!D633<=FIN),MAX(calc!$H$1:H632)+1,0)","v":0}]
[null,null,null,null,null,{"$f":"IF(COUNTIF(BD!$B$2:B634,BD!B634)=1,MAX($F$1:F633)+1,\"\")","v":""},null,{"$f":"IF(AND(BD!B634=REF,BD!D634>=DEB,BD!D634<=FIN),MAX(calc!$H$1:H633)+1,0)","v":0}]
[null,null,null,null,null,{"$f":"IF(COUNTIF(BD!$B$2:B635,BD!B635)=1,MAX($F$1:F634)+1,\"\")","v":""},null,{"$f":"IF(AND(BD!B635=REF,BD!D635>=DEB,BD!D635<=FIN),MAX(calc!$H$1:H634)+1,0)","v":0}]
[null,null,null,null,null,{"$f":"IF(COUNTIF(BD!$B$2:B636,BD!B636)=1,MAX($F$1:F635)+1,\"\")","v":""},null,{"$f":"IF(AND(BD!B636=REF,BD!D636>=DEB,BD!D636<=FIN),MAX(calc!$H$1:H635)+1,0)","v":0}]
[null,null,null,null,null,{"$f":"IF(COUNTIF(BD!$B$2:B637,BD!B637)=1,MAX($F$1:F636)+1,\"\")","v":""},null,{"$f":"IF(AND(BD!B637=REF,BD!D637>=DEB,BD!D637<=FIN),MAX(calc!$H$1:H636)+1,0)","v":0}]
[null,null,null,null,null,{"$f":"IF(COUNTIF(BD!$B$2:B638,BD!B638)=1,MAX($F$1:F637)+1,\"\")","v":""},null,{"$f":"IF(AND(BD!B638=REF,BD!D638>=DEB,BD!D638<=FIN),MAX(calc!$H$1:H637)+1,0)","v":0}]
[null,null,null,null,null,{"$f":"IF(COUNTIF(BD!$B$2:B639,BD!B639)=1,MAX($F$1:F638)+1,\"\")","v":""},null,{"$f":"IF(AND(BD!B639=REF,BD!D639>=DEB,BD!D639<=FIN),MAX(calc!$H$1:H638)+1,0)","v":0}]
[null,null,null,null,null,{"$f":"IF(COUNTIF(BD!$B$2:B640,BD!B640)=1,MAX($F$1:F639)+1,\"\")","v":""},null,{"$f":"IF(AND(BD!B640=REF,BD!D640>=DEB,BD!D640<=FIN),MAX(calc!$H$1:H639)+1,0)","v":0}]
[null,null,null,null,null,{"$f":"IF(COUNTIF(BD!$B$2:B641,BD!B641)=1,MAX($F$1:F640)+1,\"\")","v":""},null,{"$f":"IF(AND(BD!B641=REF,BD!D641>=DEB,BD!D641<=FIN),MAX(calc!$H$1:H640)+1,0)","v":0}]
[null,null,null,null,null,{"$f":"IF(COUNTIF(BD!$B$2:B642,BD!B642)=1,MAX($F$1:F641)+1,\"\")","v":""},null,{"$f":"IF(AND(BD!B642=REF,BD!D642>=DEB,BD!D642<=FIN),MAX(calc!$H$1:H641)+1,0)","v":0}]
[null,null,null,null,null,{"$f":"IF(COUNTIF(BD!$B$2:B643,BD!B643)=1,MAX($F$1:F642)+1,\"\")","v":""},null,{"$f":"IF(AND(BD!B643=REF,BD!D643>=DEB,BD!D643<=FIN),MAX(calc!$H$1:H642)+1,0)","v":0}]
[null,null,null,null,null,{"$f":"IF(COUNTIF(BD!$B$2:B644,BD!B644)=1,MAX($F$1:F643)+1,\"\")","v":""},null,{"$f":"IF(AND(BD!B644=REF,BD!D644>=DEB,BD!D644<=FIN),MAX(calc!$H$1:H643)+1,0)","v":0}]
[null,null,null,null,null,{"$f":"IF(COUNTIF(BD!$B$2:B645,BD!B645)=1,MAX($F$1:F644)+1,\"\")","v":""},null,{"$f":"IF(AND(BD!B645=REF,BD!D645>=DEB,BD!D645<=FIN),MAX(calc!$H$1:H644)+1,0)","v":0}]
[null,null,null,null,null,{"$f":"IF(COUNTIF(BD!$B$2:B646,BD!B646)=1,MAX($F$1:F645)+1,\"\")","v":""},null,{"$f":"IF(AND(BD!B646=REF,BD!D646>=DEB,BD!D646<=FIN),MAX(calc!$H$1:H645)+1,0)","v":0}]
[null,null,null,null,null,{"$f":"IF(COUNTIF(BD!$B$2:B647,BD!B647)=1,MAX($F$1:F646)+1,\"\")","v":""},null,{"$f":"IF(AND(BD!B647=REF,BD!D647>=DEB,BD!D647<=FIN),MAX(calc!$H$1:H646)+1,0)","v":0}]
[null,null,null,null,null,{"$f":"IF(COUNTIF(BD!$B$2:B648,BD!B648)=1,MAX($F$1:F647)+1,\"\")","v":""},null,{"$f":"IF(AND(BD!B648=REF,BD!D648>=DEB,BD!D648<=FIN),MAX(calc!$H$1:H647)+1,0)","v":0}]
[null,null,null,null,null,{"$f":"IF(COUNTIF(BD!$B$2:B649,BD!B649)=1,MAX($F$1:F648)+1,\"\")","v":""},null,{"$f":"IF(AND(BD!B649=REF,BD!D649>=DEB,BD!D649<=FIN),MAX(calc!$H$1:H648)+1,0)","v":0}]
[null,null,null,null,null,{"$f":"IF(COUNTIF(BD!$B$2:B650,BD!B650)=1,MAX($F$1:F649)+1,\"\")","v":""},null,{"$f":"IF(AND(BD!B650=REF,BD!D650>=DEB,BD!D650<=FIN),MAX(calc!$H$1:H649)+1,0)","v":0}]
[null,null,null,null,null,{"$f":"IF(COUNTIF(BD!$B$2:B651,BD!B651)=1,MAX($F$1:F650)+1,\"\")","v":""},null,{"$f":"IF(AND(BD!B651=REF,BD!D651>=DEB,BD!D651<=FIN),MAX(calc!$H$1:H650)+1,0)","v":0}]
[null,null,null,null,null,{"$f":"IF(COUNTIF(BD!$B$2:B652,BD!B652)=1,MAX($F$1:F651)+1,\"\")","v":""},null,{"$f":"IF(AND(BD!B652=REF,BD!D652>=DEB,BD!D652<=FIN),MAX(calc!$H$1:H651)+1,0)","v":0}]
[null,null,null,null,null,{"$f":"IF(COUNTIF(BD!$B$2:B653,BD!B653)=1,MAX($F$1:F652)+1,\"\")","v":""},null,{"$f":"IF(AND(BD!B653=REF,BD!D653>=DEB,BD!D653<=FIN),MAX(calc!$H$1:H652)+1,0)","v":0}]
[null,null,null,null,null,{"$f":"IF(COUNTIF(BD!$B$2:B654,BD!B654)=1,MAX($F$1:F653)+1,\"\")","v":""},null,{"$f":"IF(AND(BD!B654=REF,BD!D654>=DEB,BD!D654<=FIN),MAX(calc!$H$1:H653)+1,0)","v":0}]
[null,null,null,null,null,{"$f":"IF(COUNTIF(BD!$B$2:B655,BD!B655)=1,MAX($F$1:F654)+1,\"\")","v":""},null,{"$f":"IF(AND(BD!B655=REF,BD!D655>=DEB,BD!D655<=FIN),MAX(calc!$H$1:H654)+1,0)","v":0}]
[null,null,null,null,null,{"$f":"IF(COUNTIF(BD!$B$2:B656,BD!B656)=1,MAX($F$1:F655)+1,\"\")","v":""},null,{"$f":"IF(AND(BD!B656=REF,BD!D656>=DEB,BD!D656<=FIN),MAX(calc!$H$1:H655)+1,0)","v":0}]
[null,null,null,null,null,{"$f":"IF(COUNTIF(BD!$B$2:B657,BD!B657)=1,MAX($F$1:F656)+1,\"\")","v":""},null,{"$f":"IF(AND(BD!B657=REF,BD!D657>=DEB,BD!D657<=FIN),MAX(calc!$H$1:H656)+1,0)","v":0}]
[null,null,null,null,null,{"$f":"IF(COUNTIF(BD!$B$2:B658,BD!B658)=1,MAX($F$1:F657)+1,\"\")","v":""},null,{"$f":"IF(AND(BD!B658=REF,BD!D658>=DEB,BD!D658<=FIN),MAX(calc!$H$1:H657)+1,0)","v":0}]
[null,null,null,null,null,{"$f":"IF(COUNTIF(BD!$B$2:B659,BD!B659)=1,MAX($F$1:F658)+1,\"\")","v":""},null,{"$f":"IF(AND(BD!B659=REF,BD!D659>=DEB,BD!D659<=FIN),MAX(calc!$H$1:H658)+1,0)","v":0}]
[null,null,null,null,null,{"$f":"IF(COUNTIF(BD!$B$2:B660,BD!B660)=1,MAX($F$1:F659)+1,\"\")","v":""},null,{"$f":"IF(AND(BD!B660=REF,BD!D660>=DEB,BD!D660<=FIN),MAX(calc!$H$1:H659)+1,0)","v":0}]
[null,null,null,null,null,{"$f":"IF(COUNTIF(BD!$B$2:B661,BD!B661)=1,MAX($F$1:F660)+1,\"\")","v":""},null,{"$f":"IF(AND(BD!B661=REF,BD!D661>=DEB,BD!D661<=FIN),MAX(calc!$H$1:H660)+1,0)","v":0}]
[null,null,null,null,null,{"$f":"IF(COUNTIF(BD!$B$2:B662,BD!B662)=1,MAX($F$1:F661)+1,\"\")","v":""},null,{"$f":"IF(AND(BD!B662=REF,BD!D662>=DEB,BD!D662<=FIN),MAX(calc!$H$1:H661)+1,0)","v":0}]
[null,null,null,null,null,{"$f":"IF(COUNTIF(BD!$B$2:B663,BD!B663)=1,MAX($F$1:F662)+1,\"\")","v":""},null,{"$f":"IF(AND(BD!B663=REF,BD!D663>=DEB,BD!D663<=FIN),MAX(calc!$H$1:H662)+1,0)","v":0}]
[null,null,null,null,null,{"$f":"IF(COUNTIF(BD!$B$2:B664,BD!B664)=1,MAX($F$1:F663)+1,\"\")","v":""},null,{"$f":"IF(AND(BD!B664=REF,BD!D664>=DEB,BD!D664<=FIN),MAX(calc!$H$1:H663)+1,0)","v":0}]
[null,null,null,null,null,{"$f":"IF(COUNTIF(BD!$B$2:B665,BD!B665)=1,MAX($F$1:F664)+1,\"\")","v":""},null,{"$f":"IF(AND(BD!B665=REF,BD!D665>=DEB,BD!D665<=FIN),MAX(calc!$H$1:H664)+1,0)","v":0}]
[null,null,null,null,null,{"$f":"IF(COUNTIF(BD!$B$2:B666,BD!B666)=1,MAX($F$1:F665)+1,\"\")","v":""},null,{"$f":"IF(AND(BD!B666=REF,BD!D666>=DEB,BD!D666<=FIN),MAX(calc!$H$1:H665)+1,0)","v":0}]
[null,null,null,null,null,{"$f":"IF(COUNTIF(BD!$B$2:B667,BD!B667)=1,MAX($F$1:F666)+1,\"\")","v":""},null,{"$f":"IF(AND(BD!B667=REF,BD!D667>=DEB,BD!D667<=FIN),MAX(calc!$H$1:H666)+1,0)","v":0}]
[null,null,null,null,null,{"$f":"IF(COUNTIF(BD!$B$2:B668,BD!B668)=1,MAX($F$1:F667)+1,\"\")","v":""},null,{"$f":"IF(AND(BD!B668=REF,BD!D668>=DEB,BD!D668<=FIN),MAX(calc!$H$1:H667)+1,0)","v":0}]
[null,null,null,null,null,{"$f":"IF(COUNTIF(BD!$B$2:B669,BD!B669)=1,MAX($F$1:F668)+1,\"\")","v":""},null,{"$f":"IF(AND(BD!B669=REF,BD!D669>=DEB,BD!D669<=FIN),MAX(calc!$H$1:H668)+1,0)","v":0}]
[null,null,null,null,null,{"$f":"IF(COUNTIF(BD!$B$2:B670,BD!B670)=1,MAX($F$1:F669)+1,\"\")","v":""},null,{"$f":"IF(AND(BD!B670=REF,BD!D670>=DEB,BD!D670<=FIN),MAX(calc!$H$1:H669)+1,0)","v":0}]
[null,null,null,null,null,{"$f":"IF(COUNTIF(BD!$B$2:B671,BD!B671)=1,MAX($F$1:F670)+1,\"\")","v":""},null,{"$f":"IF(AND(BD!B671=REF,BD!D671>=DEB,BD!D671<=FIN),MAX(calc!$H$1:H670)+1,0)","v":0}]
[null,null,null,null,null,{"$f":"IF(COUNTIF(BD!$B$2:B672,BD!B672)=1,MAX($F$1:F671)+1,\"\")","v":""},null,{"$f":"IF(AND(BD!B672=REF,BD!D672>=DEB,BD!D672<=FIN),MAX(calc!$H$1:H671)+1,0)","v":0}]
[null,null,null,null,null,{"$f":"IF(COUNTIF(BD!$B$2:B673,BD!B673)=1,MAX($F$1:F672)+1,\"\")","v":""},null,{"$f":"IF(AND(BD!B673=REF,BD!D673>=DEB,BD!D673<=FIN),MAX(calc!$H$1:H672)+1,0)","v":0}]
[null,null,null,null,null,{"$f":"IF(COUNTIF(BD!$B$2:B674,BD!B674)=1,MAX($F$1:F673)+1,\"\")","v":""},null,{"$f":"IF(AND(BD!B674=REF,BD!D674>=DEB,BD!D674<=FIN),MAX(calc!$H$1:H673)+1,0)","v":0}]
[null,null,null,null,null,{"$f":"IF(COUNTIF(BD!$B$2:B675,BD!B675)=1,MAX($F$1:F674)+1,\"\")","v":""},null,{"$f":"IF(AND(BD!B675=REF,BD!D675>=DEB,BD!D675<=FIN),MAX(calc!$H$1:H674)+1,0)","v":0}]
[null,null,null,null,null,{"$f":"IF(COUNTIF(BD!$B$2:B676,BD!B676)=1,MAX($F$1:F675)+1,\"\")","v":""},null,{"$f":"IF(AND(BD!B676=REF,BD!D676>=DEB,BD!D676<=FIN),MAX(calc!$H$1:H675)+1,0)","v":0}]
[null,null,null,null,null,{"$f":"IF(COUNTIF(BD!$B$2:B677,BD!B677)=1,MAX($F$1:F676)+1,\"\")","v":""},null,{"$f":"IF(AND(BD!B677=REF,BD!D677>=DEB,BD!D677<=FIN),MAX(calc!$H$1:H676)+1,0)","v":0}]
[null,null,null,null,null,{"$f":"IF(COUNTIF(BD!$B$2:B678,BD!B678)=1,MAX($F$1:F677)+1,\"\")","v":""},null,{"$f":"IF(AND(BD!B678=REF,BD!D678>=DEB,BD!D678<=FIN),MAX(calc!$H$1:H677)+1,0)","v":0}]
[null,null,null,null,null,{"$f":"IF(COUNTIF(BD!$B$2:B679,BD!B679)=1,MAX($F$1:F678)+1,\"\")","v":""},null,{"$f":"IF(AND(BD!B679=REF,BD!D679>=DEB,BD!D679<=FIN),MAX(calc!$H$1:H678)+1,0)","v":0}]
[null,null,null,null,null,{"$f":"IF(COUNTIF(BD!$B$2:B680,BD!B680)=1,MAX($F$1:F679)+1,\"\")","v":""},null,{"$f":"IF(AND(BD!B680=REF,BD!D680>=DEB,BD!D680<=FIN),MAX(calc!$H$1:H679)+1,0)","v":0}]
[null,null,null,null,null,{"$f":"IF(COUNTIF(BD!$B$2:B681,BD!B681)=1,MAX($F$1:F680)+1,\"\")","v":""},null,{"$f":"IF(AND(BD!B681=REF,BD!D681>=DEB,BD!D681<=FIN),MAX(calc!$H$1:H680)+1,0)","v":0}]
[null,null,null,null,null,{"$f":"IF(COUNTIF(BD!$B$2:B682,BD!B682)=1,MAX($F$1:F681)+1,\"\")","v":""},null,{"$f":"IF(AND(BD!B682=REF,BD!D682>=DEB,BD!D682<=FIN),MAX(calc!$H$1:H681)+1,0)","v":0}]
[null,null,null,null,null,{"$f":"IF(COUNTIF(BD!$B$2:B683,BD!B683)=1,MAX($F$1:F682)+1,\"\")","v":""},null,{"$f":"IF(AND(BD!B683=REF,BD!D683>=DEB,BD!D683<=FIN),MAX(calc!$H$1:H682)+1,0)","v":0}]
[null,null,null,null,null,{"$f":"IF(COUNTIF(BD!$B$2:B684,BD!B684)=1,MAX($F$1:F683)+1,\"\")","v":""},null,{"$f":"IF(AND(BD!B684=REF,BD!D684>=DEB,BD!D684<=FIN),MAX(calc!$H$1:H683)+1,0)","v":0}]
[null,null,null,null,null,{"$f":"IF(COUNTIF(BD!$B$2:B685,BD!B685)=1,MAX($F$1:F684)+1,\"\")","v":""},null,{"$f":"IF(AND(BD!B685=REF,BD!D685>=DEB,BD!D685<=FIN),MAX(calc!$H$1:H684)+1,0)","v":0}]
[null,null,null,null,null,{"$f":"IF(COUNTIF(BD!$B$2:B686,BD!B686)=1,MAX($F$1:F685)+1,\"\")","v":""},null,{"$f":"IF(AND(BD!B686=REF,BD!D686>=DEB,BD!D686<=FIN),MAX(calc!$H$1:H685)+1,0)","v":0}]
[null,null,null,null,null,{"$f":"IF(COUNTIF(BD!$B$2:B687,BD!B687)=1,MAX($F$1:F686)+1,\"\")","v":""},null,{"$f":"IF(AND(BD!B687=REF,BD!D687>=DEB,BD!D687<=FIN),MAX(calc!$H$1:H686)+1,0)","v":0}]
[null,null,null,null,null,{"$f":"IF(COUNTIF(BD!$B$2:B688,BD!B688)=1,MAX($F$1:F687)+1,\"\")","v":""},null,{"$f":"IF(AND(BD!B688=REF,BD!D688>=DEB,BD!D688<=FIN),MAX(calc!$H$1:H687)+1,0)","v":0}]
[null,null,null,null,null,{"$f":"IF(COUNTIF(BD!$B$2:B689,BD!B689)=1,MAX($F$1:F688)+1,\"\")","v":""},null,{"$f":"IF(AND(BD!B689=REF,BD!D689>=DEB,BD!D689<=FIN),MAX(calc!$H$1:H688)+1,0)","v":0}]
[null,null,null,null,null,{"$f":"IF(COUNTIF(BD!$B$2:B690,BD!B690)=1,MAX($F$1:F689)+1,\"\")","v":""},null,{"$f":"IF(AND(BD!B690=REF,BD!D690>=DEB,BD!D690<=FIN),MAX(calc!$H$1:H689)+1,0)","v":0}]
[null,null,null,null,null,{"$f":"IF(COUNTIF(BD!$B$2:B691,BD!B691)=1,MAX($F$1:F690)+1,\"\")","v":""},null,{"$f":"IF(AND(BD!B691=REF,BD!D691>=DEB,BD!D691<=FIN),MAX(calc!$H$1:H690)+1,0)","v":0}]
[null,null,null,null,null,{"$f":"IF(COUNTIF(BD!$B$2:B692,BD!B692)=1,MAX($F$1:F691)+1,\"\")","v":""},null,{"$f":"IF(AND(BD!B692=REF,BD!D692>=DEB,BD!D692<=FIN),MAX(calc!$H$1:H691)+1,0)","v":0}]
[null,null,null,null,null,{"$f":"IF(COUNTIF(BD!$B$2:B693,BD!B693)=1,MAX($F$1:F692)+1,\"\")","v":""},null,{"$f":"IF(AND(BD!B693=REF,BD!D693>=DEB,BD!D693<=FIN),MAX(calc!$H$1:H692)+1,0)","v":0}]
[null,null,null,null,null,{"$f":"IF(COUNTIF(BD!$B$2:B694,BD!B694)=1,MAX($F$1:F693)+1,\"\")","v":""},null,{"$f":"IF(AND(BD!B694=REF,BD!D694>=DEB,BD!D694<=FIN),MAX(calc!$H$1:H693)+1,0)","v":0}]
[null,null,null,null,null,{"$f":"IF(COUNTIF(BD!$B$2:B695,BD!B695)=1,MAX($F$1:F694)+1,\"\")","v":""},null,{"$f":"IF(AND(BD!B695=REF,BD!D695>=DEB,BD!D695<=FIN),MAX(calc!$H$1:H694)+1,0)","v":0}]
[null,null,null,null,null,{"$f":"IF(COUNTIF(BD!$B$2:B696,BD!B696)=1,MAX($F$1:F695)+1,\"\")","v":""},null,{"$f":"IF(AND(BD!B696=REF,BD!D696>=DEB,BD!D696<=FIN),MAX(calc!$H$1:H695)+1,0)","v":0}]
[null,null,null,null,null,{"$f":"IF(COUNTIF(BD!$B$2:B697,BD!B697)=1,MAX($F$1:F696)+1,\"\")","v":""},null,{"$f":"IF(AND(BD!B697=REF,BD!D697>=DEB,BD!D697<=FIN),MAX(calc!$H$1:H696)+1,0)","v":0}]
[null,null,null,null,null,{"$f":"IF(COUNTIF(BD!$B$2:B698,BD!B698)=1,MAX($F$1:F697)+1,\"\")","v":""},null,{"$f":"IF(AND(BD!B698=REF,BD!D698>=DEB,BD!D698<=FIN),MAX(calc!$H$1:H697)+1,0)","v":0}]
[null,null,null,null,null,{"$f":"IF(COUNTIF(BD!$B$2:B699,BD!B699)=1,MAX($F$1:F698)+1,\"\")","v":""},null,{"$f":"IF(AND(BD!B699=REF,BD!D699>=DEB,BD!D699<=FIN),MAX(calc!$H$1:H698)+1,0)","v":0}]
[null,null,null,null,null,{"$f":"IF(COUNTIF(BD!$B$2:B700,BD!B700)=1,MAX($F$1:F699)+1,\"\")","v":""},null,{"$f":"IF(AND(BD!B700=REF,BD!D700>=DEB,BD!D700<=FIN),MAX(calc!$H$1:H699)+1,0)","v":0}]
[null,null,null,null,null,{"$f":"IF(COUNTIF(BD!$B$2:B701,BD!B701)=1,MAX($F$1:F700)+1,\"\")","v":""},null,{"$f":"IF(AND(BD!B701=REF,BD!D701>=DEB,BD!D701<=FIN),MAX(calc!$H$1:H700)+1,0)","v":0}]
[null,null,null,null,null,{"$f":"IF(COUNTIF(BD!$B$2:B702,BD!B702)=1,MAX($F$1:F701)+1,\"\")","v":""},null,{"$f":"IF(AND(BD!B702=REF,BD!D702>=DEB,BD!D702<=FIN),MAX(calc!$H$1:H701)+1,0)","v":0}]
[null,null,null,null,null,{"$f":"IF(COUNTIF(BD!$B$2:B703,BD!B703)=1,MAX($F$1:F702)+1,\"\")","v":""},null,{"$f":"IF(AND(BD!B703=REF,BD!D703>=DEB,BD!D703<=FIN),MAX(calc!$H$1:H702)+1,0)","v":0}]
[null,null,null,null,null,{"$f":"IF(COUNTIF(BD!$B$2:B704,BD!B704)=1,MAX($F$1:F703)+1,\"\")","v":""},null,{"$f":"IF(AND(BD!B704=REF,BD!D704>=DEB,BD!D704<=FIN),MAX(calc!$H$1:H703)+1,0)","v":0}]
[null,null,null,null,null,{"$f":"IF(COUNTIF(BD!$B$2:B705,BD!B705)=1,MAX($F$1:F704)+1,\"\")","v":""},null,{"$f":"IF(AND(BD!B705=REF,BD!D705>=DEB,BD!D705<=FIN),MAX(calc!$H$1:H704)+1,0)","v":0}]
[null,null,null,null,null,{"$f":"IF(COUNTIF(BD!$B$2:B706,BD!B706)=1,MAX($F$1:F705)+1,\"\")","v":""},null,{"$f":"IF(AND(BD!B706=REF,BD!D706>=DEB,BD!D706<=FIN),MAX(calc!$H$1:H705)+1,0)","v":0}]
[null,null,null,null,null,{"$f":"IF(COUNTIF(BD!$B$2:B707,BD!B707)=1,MAX($F$1:F706)+1,\"\")","v":""},null,{"$f":"IF(AND(BD!B707=REF,BD!D707>=DEB,BD!D707<=FIN),MAX(calc!$H$1:H706)+1,0)","v":0}]
[null,null,null,null,null,{"$f":"IF(COUNTIF(BD!$B$2:B708,BD!B708)=1,MAX($F$1:F707)+1,\"\")","v":""},null,{"$f":"IF(AND(BD!B708=REF,BD!D708>=DEB,BD!D708<=FIN),MAX(calc!$H$1:H707)+1,0)","v":0}]
[null,null,null,null,null,{"$f":"IF(COUNTIF(BD!$B$2:B709,BD!B709)=1,MAX($F$1:F708)+1,\"\")","v":""},null,{"$f":"IF(AND(BD!B709=REF,BD!D709>=DEB,BD!D709<=FIN),MAX(calc!$H$1:H708)+1,0)","v":0}]
[null,null,null,null,null,{"$f":"IF(COUNTIF(BD!$B$2:B710,BD!B710)=1,MAX($F$1:F709)+1,\"\")","v":""},null,{"$f":"IF(AND(BD!B710=REF,BD!D710>=DEB,BD!D710<=FIN),MAX(calc!$H$1:H709)+1,0)","v":0}]
[null,null,null,null,null,{"$f":"IF(COUNTIF(BD!$B$2:B711,BD!B711)=1,MAX($F$1:F710)+1,\"\")","v":""},null,{"$f":"IF(AND(BD!B711=REF,BD!D711>=DEB,BD!D711<=FIN),MAX(calc!$H$1:H710)+1,0)","v":0}]
[null,null,null,null,null,{"$f":"IF(COUNTIF(BD!$B$2:B712,BD!B712)=1,MAX($F$1:F711)+1,\"\")","v":""},null,{"$f":"IF(AND(BD!B712=REF,BD!D712>=DEB,BD!D712<=FIN),MAX(calc!$H$1:H711)+1,0)","v":0}]
[null,null,null,null,null,{"$f":"IF(COUNTIF(BD!$B$2:B713,BD!B713)=1,MAX($F$1:F712)+1,\"\")","v":""},null,{"$f":"IF(AND(BD!B713=REF,BD!D713>=DEB,BD!D713<=FIN),MAX(calc!$H$1:H712)+1,0)","v":0}]
[null,null,null,null,null,{"$f":"IF(COUNTIF(BD!$B$2:B714,BD!B714)=1,MAX($F$1:F713)+1,\"\")","v":""},null,{"$f":"IF(AND(BD!B714=REF,BD!D714>=DEB,BD!D714<=FIN),MAX(calc!$H$1:H713)+1,0)","v":0}]
[null,null,null,null,null,{"$f":"IF(COUNTIF(BD!$B$2:B715,BD!B715)=1,MAX($F$1:F714)+1,\"\")","v":""},null,{"$f":"IF(AND(BD!B715=REF,BD!D715>=DEB,BD!D715<=FIN),MAX(calc!$H$1:H714)+1,0)","v":0}]
[null,null,null,null,null,{"$f":"IF(COUNTIF(BD!$B$2:B716,BD!B716)=1,MAX($F$1:F715)+1,\"\")","v":""},null,{"$f":"IF(AND(BD!B716=REF,BD!D716>=DEB,BD!D716<=FIN),MAX(calc!$H$1:H715)+1,0)","v":0}]
[null,null,null,null,null,{"$f":"IF(COUNTIF(BD!$B$2:B717,BD!B717)=1,MAX($F$1:F716)+1,\"\")","v":""},null,{"$f":"IF(AND(BD!B717=REF,BD!D717>=DEB,BD!D717<=FIN),MAX(calc!$H$1:H716)+1,0)","v":0}]
[null,null,null,null,null,{"$f":"IF(COUNTIF(BD!$B$2:B718,BD!B718)=1,MAX($F$1:F717)+1,\"\")","v":""},null,{"$f":"IF(AND(BD!B718=REF,BD!D718>=DEB,BD!D718<=FIN),MAX(calc!$H$1:H717)+1,0)","v":0}]
[null,null,null,null,null,{"$f":"IF(COUNTIF(BD!$B$2:B719,BD!B719)=1,MAX($F$1:F718)+1,\"\")","v":""},null,{"$f":"IF(AND(BD!B719=REF,BD!D719>=DEB,BD!D719<=FIN),MAX(calc!$H$1:H718)+1,0)","v":0}]
[null,null,null,null,null,{"$f":"IF(COUNTIF(BD!$B$2:B720,BD!B720)=1,MAX($F$1:F719)+1,\"\")","v":""},null,{"$f":"IF(AND(BD!B720=REF,BD!D720>=DEB,BD!D720<=FIN),MAX(calc!$H$1:H719)+1,0)","v":0}]
[null,null,null,null,null,{"$f":"IF(COUNTIF(BD!$B$2:B721,BD!B721)=1,MAX($F$1:F720)+1,\"\")","v":""},null,{"$f":"IF(AND(BD!B721=REF,BD!D721>=DEB,BD!D721<=FIN),MAX(calc!$H$1:H720)+1,0)","v":0}]
[null,null,null,null,null,{"$f":"IF(COUNTIF(BD!$B$2:B722,BD!B722)=1,MAX($F$1:F721)+1,\"\")","v":""},null,{"$f":"IF(AND(BD!B722=REF,BD!D722>=DEB,BD!D722<=FIN),MAX(calc!$H$1:H721)+1,0)","v":0}]
[null,null,null,null,null,{"$f":"IF(COUNTIF(BD!$B$2:B723,BD!B723)=1,MAX($F$1:F722)+1,\"\")","v":""},null,{"$f":"IF(AND(BD!B723=REF,BD!D723>=DEB,BD!D723<=FIN),MAX(calc!$H$1:H722)+1,0)","v":0}]
[null,null,null,null,null,{"$f":"IF(COUNTIF(BD!$B$2:B724,BD!B724)=1,MAX($F$1:F723)+1,\"\")","v":""},null,{"$f":"IF(AND(BD!B724=REF,BD!D724>=DEB,BD!D724<=FIN),MAX(calc!$H$1:H723)+1,0)","v":0}]
[null,null,null,null,null,{"$f":"IF(COUNTIF(BD!$B$2:B725,BD!B725)=1,MAX($F$1:F724)+1,\"\")","v":""},null,{"$f":"IF(AND(BD!B725=REF,BD!D725>=DEB,BD!D725<=FIN),MAX(calc!$H$1:H724)+1,0)","v":0}]
[null,null,null,null,null,{"$f":"IF(COUNTIF(BD!$B$2:B726,BD!B726)=1,MAX($F$1:F725)+1,\"\")","v":""},null,{"$f":"IF(AND(BD!B726=REF,BD!D726>=DEB,BD!D726<=FIN),MAX(calc!$H$1:H725)+1,0)","v":0}]
[null,null,null,null,null,{"$f":"IF(COUNTIF(BD!$B$2:B727,BD!B727)=1,MAX($F$1:F726)+1,\"\")","v":""},null,{"$f":"IF(AND(BD!B727=REF,BD!D727>=DEB,BD!D727<=FIN),MAX(calc!$H$1:H726)+1,0)","v":0}]
[null,null,null,null,null,{"$f":"IF(COUNTIF(BD!$B$2:B728,BD!B728)=1,MAX($F$1:F727)+1,\"\")","v":""},null,{"$f":"IF(AND(BD!B728=REF,BD!D728>=DEB,BD!D728<=FIN),MAX(calc!$H$1:H727)+1,0)","v":0}]
[null,null,null,null,null,{"$f":"IF(COUNTIF(BD!$B$2:B729,BD!B729)=1,MAX($F$1:F728)+1,\"\")","v":""},null,{"$f":"IF(AND(BD!B729=REF,BD!D729>=DEB,BD!D729<=FIN),MAX(calc!$H$1:H728)+1,0)","v":0}]
[null,null,null,null,null,{"$f":"IF(COUNTIF(BD!$B$2:B730,BD!B730)=1,MAX($F$1:F729)+1,\"\")","v":""},null,{"$f":"IF(AND(BD!B730=REF,BD!D730>=DEB,BD!D730<=FIN),MAX(calc!$H$1:H729)+1,0)","v":0}]
[null,null,null,null,null,{"$f":"IF(COUNTIF(BD!$B$2:B731,BD!B731)=1,MAX($F$1:F730)+1,\"\")","v":""},null,{"$f":"IF(AND(BD!B731=REF,BD!D731>=DEB,BD!D731<=FIN),MAX(calc!$H$1:H730)+1,0)","v":0}]
[null,null,null,null,null,{"$f":"IF(COUNTIF(BD!$B$2:B732,BD!B732)=1,MAX($F$1:F731)+1,\"\")","v":""},null,{"$f":"IF(AND(BD!B732=REF,BD!D732>=DEB,BD!D732<=FIN),MAX(calc!$H$1:H731)+1,0)","v":0}]
[null,null,null,null,null,{"$f":"IF(COUNTIF(BD!$B$2:B733,BD!B733)=1,MAX($F$1:F732)+1,\"\")","v":""},null,{"$f":"IF(AND(BD!B733=REF,BD!D733>=DEB,BD!D733<=FIN),MAX(calc!$H$1:H732)+1,0)","v":0}]
[null,null,null,null,null,{"$f":"IF(COUNTIF(BD!$B$2:B734,BD!B734)=1,MAX($F$1:F733)+1,\"\")","v":""},null,{"$f":"IF(AND(BD!B734=REF,BD!D734>=DEB,BD!D734<=FIN),MAX(calc!$H$1:H733)+1,0)","v":0}]
[null,null,null,null,null,{"$f":"IF(COUNTIF(BD!$B$2:B735,BD!B735)=1,MAX($F$1:F734)+1,\"\")","v":""},null,{"$f":"IF(AND(BD!B735=REF,BD!D735>=DEB,BD!D735<=FIN),MAX(calc!$H$1:H734)+1,0)","v":0}]
[null,null,null,null,null,{"$f":"IF(COUNTIF(BD!$B$2:B736,BD!B736)=1,MAX($F$1:F735)+1,\"\")","v":""},null,{"$f":"IF(AND(BD!B736=REF,BD!D736>=DEB,BD!D736<=FIN),MAX(calc!$H$1:H735)+1,0)","v":0}]
[null,null,null,null,null,{"$f":"IF(COUNTIF(BD!$B$2:B737,BD!B737)=1,MAX($F$1:F736)+1,\"\")","v":""},null,{"$f":"IF(AND(BD!B737=REF,BD!D737>=DEB,BD!D737<=FIN),MAX(calc!$H$1:H736)+1,0)","v":0}]
[null,null,null,null,null,{"$f":"IF(COUNTIF(BD!$B$2:B738,BD!B738)=1,MAX($F$1:F737)+1,\"\")","v":""},null,{"$f":"IF(AND(BD!B738=REF,BD!D738>=DEB,BD!D738<=FIN),MAX(calc!$H$1:H737)+1,0)","v":0}]
[null,null,null,null,null,{"$f":"IF(COUNTIF(BD!$B$2:B739,BD!B739)=1,MAX($F$1:F738)+1,\"\")","v":""},null,{"$f":"IF(AND(BD!B739=REF,BD!D739>=DEB,BD!D739<=FIN),MAX(calc!$H$1:H738)+1,0)","v":0}]
[null,null,null,null,null,{"$f":"IF(COUNTIF(BD!$B$2:B740,BD!B740)=1,MAX($F$1:F739)+1,\"\")","v":""},null,{"$f":"IF(AND(BD!B740=REF,BD!D740>=DEB,BD!D740<=FIN),MAX(calc!$H$1:H739)+1,0)","v":0}]
[null,null,null,null,null,{"$f":"IF(COUNTIF(BD!$B$2:B741,BD!B741)=1,MAX($F$1:F740)+1,\"\")","v":""},null,{"$f":"IF(AND(BD!B741=REF,BD!D741>=DEB,BD!D741<=FIN),MAX(calc!$H$1:H740)+1,0)","v":0}]
[null,null,null,null,null,{"$f":"IF(COUNTIF(BD!$B$2:B742,BD!B742)=1,MAX($F$1:F741)+1,\"\")","v":""},null,{"$f":"IF(AND(BD!B742=REF,BD!D742>=DEB,BD!D742<=FIN),MAX(calc!$H$1:H741)+1,0)","v":0}]
[null,null,null,null,null,{"$f":"IF(COUNTIF(BD!$B$2:B743,BD!B743)=1,MAX($F$1:F742)+1,\"\")","v":""},null,{"$f":"IF(AND(BD!B743=REF,BD!D743>=DEB,BD!D743<=FIN),MAX(calc!$H$1:H742)+1,0)","v":0}]
[null,null,null,null,null,{"$f":"IF(COUNTIF(BD!$B$2:B744,BD!B744)=1,MAX($F$1:F743)+1,\"\")","v":""},null,{"$f":"IF(AND(BD!B744=REF,BD!D744>=DEB,BD!D744<=FIN),MAX(calc!$H$1:H743)+1,0)","v":0}]
[null,null,null,null,null,{"$f":"IF(COUNTIF(BD!$B$2:B745,BD!B745)=1,MAX($F$1:F744)+1,\"\")","v":""},null,{"$f":"IF(AND(BD!B745=REF,BD!D745>=DEB,BD!D745<=FIN),MAX(calc!$H$1:H744)+1,0)","v":0}]
[null,null,null,null,null,{"$f":"IF(COUNTIF(BD!$B$2:B746,BD!B746)=1,MAX($F$1:F745)+1,\"\")","v":""},null,{"$f":"IF(AND(BD!B746=REF,BD!D746>=DEB,BD!D746<=FIN),MAX(calc!$H$1:H745)+1,0)","v":0}]
[null,null,null,null,null,{"$f":"IF(COUNTIF(BD!$B$2:B747,BD!B747)=1,MAX($F$1:F746)+1,\"\")","v":""},null,{"$f":"IF(AND(BD!B747=REF,BD!D747>=DEB,BD!D747<=FIN),MAX(calc!$H$1:H746)+1,0)","v":0}]
[null,null,null,null,null,{"$f":"IF(COUNTIF(BD!$B$2:B748,BD!B748)=1,MAX($F$1:F747)+1,\"\")","v":""},null,{"$f":"IF(AND(BD!B748=REF,BD!D748>=DEB,BD!D748<=FIN),MAX(calc!$H$1:H747)+1,0)","v":0}]
[null,null,null,null,null,{"$f":"IF(COUNTIF(BD!$B$2:B749,BD!B749)=1,MAX($F$1:F748)+1,\"\")","v":""},null,{"$f":"IF(AND(BD!B749=REF,BD!D749>=DEB,BD!D749<=FIN),MAX(calc!$H$1:H748)+1,0)","v":0}]
[null,null,null,null,null,{"$f":"IF(COUNTIF(BD!$B$2:B750,BD!B750)=1,MAX($F$1:F749)+1,\"\")","v":""},null,{"$f":"IF(AND(BD!B750=REF,BD!D750>=DEB,BD!D750<=FIN),MAX(calc!$H$1:H749)+1,0)","v":0}]
[null,null,null,null,null,{"$f":"IF(COUNTIF(BD!$B$2:B751,BD!B751)=1,MAX($F$1:F750)+1,\"\")","v":""},null,{"$f":"IF(AND(BD!B751=REF,BD!D751>=DEB,BD!D751<=FIN),MAX(calc!$H$1:H750)+1,0)","v":0}]
[null,null,null,null,null,{"$f":"IF(COUNTIF(BD!$B$2:B752,BD!B752)=1,MAX($F$1:F751)+1,\"\")","v":""},null,{"$f":"IF(AND(BD!B752=REF,BD!D752>=DEB,BD!D752<=FIN),MAX(calc!$H$1:H751)+1,0)","v":0}]
[null,null,null,null,null,{"$f":"IF(COUNTIF(BD!$B$2:B753,BD!B753)=1,MAX($F$1:F752)+1,\"\")","v":""},null,{"$f":"IF(AND(BD!B753=REF,BD!D753>=DEB,BD!D753<=FIN),MAX(calc!$H$1:H752)+1,0)","v":0}]
[null,null,null,null,null,{"$f":"IF(COUNTIF(BD!$B$2:B754,BD!B754)=1,MAX($F$1:F753)+1,\"\")","v":""},null,{"$f":"IF(AND(BD!B754=REF,BD!D754>=DEB,BD!D754<=FIN),MAX(calc!$H$1:H753)+1,0)","v":0}]
[null,null,null,null,null,{"$f":"IF(COUNTIF(BD!$B$2:B755,BD!B755)=1,MAX($F$1:F754)+1,\"\")","v":""},null,{"$f":"IF(AND(BD!B755=REF,BD!D755>=DEB,BD!D755<=FIN),MAX(calc!$H$1:H754)+1,0)","v":0}]
[null,null,null,null,null,{"$f":"IF(COUNTIF(BD!$B$2:B756,BD!B756)=1,MAX($F$1:F755)+1,\"\")","v":""},null,{"$f":"IF(AND(BD!B756=REF,BD!D756>=DEB,BD!D756<=FIN),MAX(calc!$H$1:H755)+1,0)","v":0}]
[null,null,null,null,null,{"$f":"IF(COUNTIF(BD!$B$2:B757,BD!B757)=1,MAX($F$1:F756)+1,\"\")","v":""},null,{"$f":"IF(AND(BD!B757=REF,BD!D757>=DEB,BD!D757<=FIN),MAX(calc!$H$1:H756)+1,0)","v":0}]
[null,null,null,null,null,{"$f":"IF(COUNTIF(BD!$B$2:B758,BD!B758)=1,MAX($F$1:F757)+1,\"\")","v":""},null,{"$f":"IF(AND(BD!B758=REF,BD!D758>=DEB,BD!D758<=FIN),MAX(calc!$H$1:H757)+1,0)","v":0}]
[null,null,null,null,null,{"$f":"IF(COUNTIF(BD!$B$2:B759,BD!B759)=1,MAX($F$1:F758)+1,\"\")","v":""},null,{"$f":"IF(AND(BD!B759=REF,BD!D759>=DEB,BD!D759<=FIN),MAX(calc!$H$1:H758)+1,0)","v":0}]
[null,null,null,null,null,{"$f":"IF(COUNTIF(BD!$B$2:B760,BD!B760)=1,MAX($F$1:F759)+1,\"\")","v":""},null,{"$f":"IF(AND(BD!B760=REF,BD!D760>=DEB,BD!D760<=FIN),MAX(calc!$H$1:H759)+1,0)","v":0}]
[null,null,null,null,null,{"$f":"IF(COUNTIF(BD!$B$2:B761,BD!B761)=1,MAX($F$1:F760)+1,\"\")","v":""},null,{"$f":"IF(AND(BD!B761=REF,BD!D761>=DEB,BD!D761<=FIN),MAX(calc!$H$1:H760)+1,0)","v":0}]
[null,null,null,null,null,{"$f":"IF(COUNTIF(BD!$B$2:B762,BD!B762)=1,MAX($F$1:F761)+1,\"\")","v":""},null,{"$f":"IF(AND(BD!B762=REF,BD!D762>=DEB,BD!D762<=FIN),MAX(calc!$H$1:H761)+1,0)","v":0}]
[null,null,null,null,null,{"$f":"IF(COUNTIF(BD!$B$2:B763,BD!B763)=1,MAX($F$1:F762)+1,\"\")","v":""},null,{"$f":"IF(AND(BD!B763=REF,BD!D763>=DEB,BD!D763<=FIN),MAX(calc!$H$1:H762)+1,0)","v":0}]
[null,null,null,null,null,{"$f":"IF(COUNTIF(BD!$B$2:B764,BD!B764)=1,MAX($F$1:F763)+1,\"\")","v":""},null,{"$f":"IF(AND(BD!B764=REF,BD!D764>=DEB,BD!D764<=FIN),MAX(calc!$H$1:H763)+1,0)","v":0}]
[null,null,null,null,null,{"$f":"IF(COUNTIF(BD!$B$2:B765,BD!B765)=1,MAX($F$1:F764)+1,\"\")","v":""},null,{"$f":"IF(AND(BD!B765=REF,BD!D765>=DEB,BD!D765<=FIN),MAX(calc!$H$1:H764)+1,0)","v":0}]
[null,null,null,null,null,{"$f":"IF(COUNTIF(BD!$B$2:B766,BD!B766)=1,MAX($F$1:F765)+1,\"\")","v":""},null,{"$f":"IF(AND(BD!B766=REF,BD!D766>=DEB,BD!D766<=FIN),MAX(calc!$H$1:H765)+1,0)","v":0}]
[null,null,null,null,null,{"$f":"IF(COUNTIF(BD!$B$2:B767,BD!B767)=1,MAX($F$1:F766)+1,\"\")","v":""},null,{"$f":"IF(AND(BD!B767=REF,BD!D767>=DEB,BD!D767<=FIN),MAX(calc!$H$1:H766)+1,0)","v":0}]
[null,null,null,null,null,{"$f":"IF(COUNTIF(BD!$B$2:B768,BD!B768)=1,MAX($F$1:F767)+1,\"\")","v":""},null,{"$f":"IF(AND(BD!B768=REF,BD!D768>=DEB,BD!D768<=FIN),MAX(calc!$H$1:H767)+1,0)","v":0}]
[null,null,null,null,null,{"$f":"IF(COUNTIF(BD!$B$2:B769,BD!B769)=1,MAX($F$1:F768)+1,\"\")","v":""},null,{"$f":"IF(AND(BD!B769=REF,BD!D769>=DEB,BD!D769<=FIN),MAX(calc!$H$1:H768)+1,0)","v":0}]
[null,null,null,null,null,{"$f":"IF(COUNTIF(BD!$B$2:B770,BD!B770)=1,MAX($F$1:F769)+1,\"\")","v":""},null,{"$f":"IF(AND(BD!B770=REF,BD!D770>=DEB,BD!D770<=FIN),MAX(calc!$H$1:H769)+1,0)","v":0}]
[null,null,null,null,null,{"$f":"IF(COUNTIF(BD!$B$2:B771,BD!B771)=1,MAX($F$1:F770)+1,\"\")","v":""},null,{"$f":"IF(AND(BD!B771=REF,BD!D771>=DEB,BD!D771<=FIN),MAX(calc!$H$1:H770)+1,0)","v":0}]
[null,null,null,null,null,{"$f":"IF(COUNTIF(BD!$B$2:B772,BD!B772)=1,MAX($F$1:F771)+1,\"\")","v":""},null,{"$f":"IF(AND(BD!B772=REF,BD!D772>=DEB,BD!D772<=FIN),MAX(calc!$H$1:H771)+1,0)","v":0}]
[null,null,null,null,null,{"$f":"IF(COUNTIF(BD!$B$2:B773,BD!B773)=1,MAX($F$1:F772)+1,\"\")","v":""},null,{"$f":"IF(AND(BD!B773=REF,BD!D773>=DEB,BD!D773<=FIN),MAX(calc!$H$1:H772)+1,0)","v":0}]
[null,null,null,null,null,{"$f":"IF(COUNTIF(BD!$B$2:B774,BD!B774)=1,MAX($F$1:F773)+1,\"\")","v":""},null,{"$f":"IF(AND(BD!B774=REF,BD!D774>=DEB,BD!D774<=FIN),MAX(calc!$H$1:H773)+1,0)","v":0}]
[null,null,null,null,null,{"$f":"IF(COUNTIF(BD!$B$2:B775,BD!B775)=1,MAX($F$1:F774)+1,\"\")","v":""},null,{"$f":"IF(AND(BD!B775=REF,BD!D775>=DEB,BD!D775<=FIN),MAX(calc!$H$1:H774)+1,0)","v":0}]
[null,null,null,null,null,{"$f":"IF(COUNTIF(BD!$B$2:B776,BD!B776)=1,MAX($F$1:F775)+1,\"\")","v":""},null,{"$f":"IF(AND(BD!B776=REF,BD!D776>=DEB,BD!D776<=FIN),MAX(calc!$H$1:H775)+1,0)","v":0}]
[null,null,null,null,null,{"$f":"IF(COUNTIF(BD!$B$2:B777,BD!B777)=1,MAX($F$1:F776)+1,\"\")","v":""},null,{"$f":"IF(AND(BD!B777=REF,BD!D777>=DEB,BD!D777<=FIN),MAX(calc!$H$1:H776)+1,0)","v":0}]
[null,null,null,null,null,{"$f":"IF(COUNTIF(BD!$B$2:B778,BD!B778)=1,MAX($F$1:F777)+1,\"\")","v":""},null,{"$f":"IF(AND(BD!B778=REF,BD!D778>=DEB,BD!D778<=FIN),MAX(calc!$H$1:H777)+1,0)","v":0}]
[null,null,null,null,null,{"$f":"IF(COUNTIF(BD!$B$2:B779,BD!B779)=1,MAX($F$1:F778)+1,\"\")","v":""},null,{"$f":"IF(AND(BD!B779=REF,BD!D779>=DEB,BD!D779<=FIN),MAX(calc!$H$1:H778)+1,0)","v":0}]
[null,null,null,null,null,{"$f":"IF(COUNTIF(BD!$B$2:B780,BD!B780)=1,MAX($F$1:F779)+1,\"\")","v":""},null,{"$f":"IF(AND(BD!B780=REF,BD!D780>=DEB,BD!D780<=FIN),MAX(calc!$H$1:H779)+1,0)","v":0}]
[null,null,null,null,null,{"$f":"IF(COUNTIF(BD!$B$2:B781,BD!B781)=1,MAX($F$1:F780)+1,\"\")","v":""},null,{"$f":"IF(AND(BD!B781=REF,BD!D781>=DEB,BD!D781<=FIN),MAX(calc!$H$1:H780)+1,0)","v":0}]
[null,null,null,null,null,{"$f":"IF(COUNTIF(BD!$B$2:B782,BD!B782)=1,MAX($F$1:F781)+1,\"\")","v":""},null,{"$f":"IF(AND(BD!B782=REF,BD!D782>=DEB,BD!D782<=FIN),MAX(calc!$H$1:H781)+1,0)","v":0}]
[null,null,null,null,null,{"$f":"IF(COUNTIF(BD!$B$2:B783,BD!B783)=1,MAX($F$1:F782)+1,\"\")","v":""},null,{"$f":"IF(AND(BD!B783=REF,BD!D783>=DEB,BD!D783<=FIN),MAX(calc!$H$1:H782)+1,0)","v":0}]
[null,null,null,null,null,{"$f":"IF(COUNTIF(BD!$B$2:B784,BD!B784)=1,MAX($F$1:F783)+1,\"\")","v":""},null,{"$f":"IF(AND(BD!B784=REF,BD!D784>=DEB,BD!D784<=FIN),MAX(calc!$H$1:H783)+1,0)","v":0}]
[null,null,null,null,null,{"$f":"IF(COUNTIF(BD!$B$2:B785,BD!B785)=1,MAX($F$1:F784)+1,\"\")","v":""},null,{"$f":"IF(AND(BD!B785=REF,BD!D785>=DEB,BD!D785<=FIN),MAX(calc!$H$1:H784)+1,0)","v":0}]
[null,null,null,null,null,{"$f":"IF(COUNTIF(BD!$B$2:B786,BD!B786)=1,MAX($F$1:F785)+1,\"\")","v":""},null,{"$f":"IF(AND(BD!B786=REF,BD!D786>=DEB,BD!D786<=FIN),MAX(calc!$H$1:H785)+1,0)","v":0}]
[null,null,null,null,null,{"$f":"IF(COUNTIF(BD!$B$2:B787,BD!B787)=1,MAX($F$1:F786)+1,\"\")","v":""},null,{"$f":"IF(AND(BD!B787=REF,BD!D787>=DEB,BD!D787<=FIN),MAX(calc!$H$1:H786)+1,0)","v":0}]
[null,null,null,null,null,{"$f":"IF(COUNTIF(BD!$B$2:B788,BD!B788)=1,MAX($F$1:F787)+1,\"\")","v":""},null,{"$f":"IF(AND(BD!B788=REF,BD!D788>=DEB,BD!D788<=FIN),MAX(calc!$H$1:H787)+1,0)","v":0}]
[null,null,null,null,null,{"$f":"IF(COUNTIF(BD!$B$2:B789,BD!B789)=1,MAX($F$1:F788)+1,\"\")","v":""},null,{"$f":"IF(AND(BD!B789=REF,BD!D789>=DEB,BD!D789<=FIN),MAX(calc!$H$1:H788)+1,0)","v":0}]
[null,null,null,null,null,{"$f":"IF(COUNTIF(BD!$B$2:B790,BD!B790)=1,MAX($F$1:F789)+1,\"\")","v":""},null,{"$f":"IF(AND(BD!B790=REF,BD!D790>=DEB,BD!D790<=FIN),MAX(calc!$H$1:H789)+1,0)","v":0}]
[null,null,null,null,null,{"$f":"IF(COUNTIF(BD!$B$2:B791,BD!B791)=1,MAX($F$1:F790)+1,\"\")","v":""},null,{"$f":"IF(AND(BD!B791=REF,BD!D791>=DEB,BD!D791<=FIN),MAX(calc!$H$1:H790)+1,0)","v":0}]
[null,null,null,null,null,{"$f":"IF(COUNTIF(BD!$B$2:B792,BD!B792)=1,MAX($F$1:F791)+1,\"\")","v":""},null,{"$f":"IF(AND(BD!B792=REF,BD!D792>=DEB,BD!D792<=FIN),MAX(calc!$H$1:H791)+1,0)","v":0}]
[null,null,null,null,null,{"$f":"IF(COUNTIF(BD!$B$2:B793,BD!B793)=1,MAX($F$1:F792)+1,\"\")","v":""},null,{"$f":"IF(AND(BD!B793=REF,BD!D793>=DEB,BD!D793<=FIN),MAX(calc!$H$1:H792)+1,0)","v":0}]
[null,null,null,null,null,{"$f":"IF(COUNTIF(BD!$B$2:B794,BD!B794)=1,MAX($F$1:F793)+1,\"\")","v":""},null,{"$f":"IF(AND(BD!B794=REF,BD!D794>=DEB,BD!D794<=FIN),MAX(calc!$H$1:H793)+1,0)","v":0}]
[null,null,null,null,null,{"$f":"IF(COUNTIF(BD!$B$2:B795,BD!B795)=1,MAX($F$1:F794)+1,\"\")","v":""},null,{"$f":"IF(AND(BD!B795=REF,BD!D795>=DEB,BD!D795<=FIN),MAX(calc!$H$1:H794)+1,0)","v":0}]
[null,null,null,null,null,{"$f":"IF(COUNTIF(BD!$B$2:B796,BD!B796)=1,MAX($F$1:F795)+1,\"\")","v":""},null,{"$f":"IF(AND(BD!B796=REF,BD!D796>=DEB,BD!D796<=FIN),MAX(calc!$H$1:H795)+1,0)","v":0}]
[null,null,null,null,null,{"$f":"IF(COUNTIF(BD!$B$2:B797,BD!B797)=1,MAX($F$1:F796)+1,\"\")","v":""},null,{"$f":"IF(AND(BD!B797=REF,BD!D797>=DEB,BD!D797<=FIN),MAX(calc!$H$1:H796)+1,0)","v":0}]
[null,null,null,null,null,{"$f":"IF(COUNTIF(BD!$B$2:B798,BD!B798)=1,MAX($F$1:F797)+1,\"\")","v":""},null,{"$f":"IF(AND(BD!B798=REF,BD!D798>=DEB,BD!D798<=FIN),MAX(calc!$H$1:H797)+1,0)","v":0}]
[null,null,null,null,null,{"$f":"IF(COUNTIF(BD!$B$2:B799,BD!B799)=1,MAX($F$1:F798)+1,\"\")","v":""},null,{"$f":"IF(AND(BD!B799=REF,BD!D799>=DEB,BD!D799<=FIN),MAX(calc!$H$1:H798)+1,0)","v":0}]
[null,null,null,null,null,{"$f":"IF(COUNTIF(BD!$B$2:B800,BD!B800)=1,MAX($F$1:F799)+1,\"\")","v":""},null,{"$f":"IF(AND(BD!B800=REF,BD!D800>=DEB,BD!D800<=FIN),MAX(calc!$H$1:H799)+1,0)","v":0}]
[null,null,null,null,null,{"$f":"IF(COUNTIF(BD!$B$2:B801,BD!B801)=1,MAX($F$1:F800)+1,\"\")","v":""},null,{"$f":"IF(AND(BD!B801=REF,BD!D801>=DEB,BD!D801<=FIN),MAX(calc!$H$1:H800)+1,0)","v":0}]
[null,null,null,null,null,{"$f":"IF(COUNTIF(BD!$B$2:B802,BD!B802)=1,MAX($F$1:F801)+1,\"\")","v":""},null,{"$f":"IF(AND(BD!B802=REF,BD!D802>=DEB,BD!D802<=FIN),MAX(calc!$H$1:H801)+1,0)","v":0}]
[null,null,null,null,null,{"$f":"IF(COUNTIF(BD!$B$2:B803,BD!B803)=1,MAX($F$1:F802)+1,\"\")","v":""},null,{"$f":"IF(AND(BD!B803=REF,BD!D803>=DEB,BD!D803<=FIN),MAX(calc!$H$1:H802)+1,0)","v":0}]
[null,null,null,null,null,{"$f":"IF(COUNTIF(BD!$B$2:B804,BD!B804)=1,MAX($F$1:F803)+1,\"\")","v":""},null,{"$f":"IF(AND(BD!B804=REF,BD!D804>=DEB,BD!D804<=FIN),MAX(calc!$H$1:H803)+1,0)","v":0}]
[null,null,null,null,null,{"$f":"IF(COUNTIF(BD!$B$2:B805,BD!B805)=1,MAX($F$1:F804)+1,\"\")","v":""},null,{"$f":"IF(AND(BD!B805=REF,BD!D805>=DEB,BD!D805<=FIN),MAX(calc!$H$1:H804)+1,0)","v":0}]
[null,null,null,null,null,{"$f":"IF(COUNTIF(BD!$B$2:B806,BD!B806)=1,MAX($F$1:F805)+1,\"\")","v":""},null,{"$f":"IF(AND(BD!B806=REF,BD!D806>=DEB,BD!D806<=FIN),MAX(calc!$H$1:H805)+1,0)","v":0}]
[null,null,null,null,null,{"$f":"IF(COUNTIF(BD!$B$2:B807,BD!B807)=1,MAX($F$1:F806)+1,\"\")","v":""},null,{"$f":"IF(AND(BD!B807=REF,BD!D807>=DEB,BD!D807<=FIN),MAX(calc!$H$1:H806)+1,0)","v":0}]
[null,null,null,null,null,{"$f":"IF(COUNTIF(BD!$B$2:B808,BD!B808)=1,MAX($F$1:F807)+1,\"\")","v":""},null,{"$f":"IF(AND(BD!B808=REF,BD!D808>=DEB,BD!D808<=FIN),MAX(calc!$H$1:H807)+1,0)","v":0}]
[null,null,null,null,null,{"$f":"IF(COUNTIF(BD!$B$2:B809,BD!B809)=1,MAX($F$1:F808)+1,\"\")","v":""},null,{"$f":"IF(AND(BD!B809=REF,BD!D809>=DEB,BD!D809<=FIN),MAX(calc!$H$1:H808)+1,0)","v":0}]
[null,null,null,null,null,{"$f":"IF(COUNTIF(BD!$B$2:B810,BD!B810)=1,MAX($F$1:F809)+1,\"\")","v":""},null,{"$f":"IF(AND(BD!B810=REF,BD!D810>=DEB,BD!D810<=FIN),MAX(calc!$H$1:H809)+1,0)","v":0}]
[null,null,null,null,null,{"$f":"IF(COUNTIF(BD!$B$2:B811,BD!B811)=1,MAX($F$1:F810)+1,\"\")","v":""},null,{"$f":"IF(AND(BD!B811=REF,BD!D811>=DEB,BD!D811<=FIN),MAX(calc!$H$1:H810)+1,0)","v":0}]
[null,null,null,null,null,{"$f":"IF(COUNTIF(BD!$B$2:B812,BD!B812)=1,MAX($F$1:F811)+1,\"\")","v":""},null,{"$f":"IF(AND(BD!B812=REF,BD!D812>=DEB,BD!D812<=FIN),MAX(calc!$H$1:H811)+1,0)","v":0}]
[null,null,null,null,null,{"$f":"IF(COUNTIF(BD!$B$2:B813,BD!B813)=1,MAX($F$1:F812)+1,\"\")","v":""},null,{"$f":"IF(AND(BD!B813=REF,BD!D813>=DEB,BD!D813<=FIN),MAX(calc!$H$1:H812)+1,0)","v":0}]
[null,null,null,null,null,{"$f":"IF(COUNTIF(BD!$B$2:B814,BD!B814)=1,MAX($F$1:F813)+1,\"\")","v":""},null,{"$f":"IF(AND(BD!B814=REF,BD!D814>=DEB,BD!D814<=FIN),MAX(calc!$H$1:H813)+1,0)","v":0}]
[null,null,null,null,null,{"$f":"IF(COUNTIF(BD!$B$2:B815,BD!B815)=1,MAX($F$1:F814)+1,\"\")","v":""},null,{"$f":"IF(AND(BD!B815=REF,BD!D815>=DEB,BD!D815<=FIN),MAX(calc!$H$1:H814)+1,0)","v":0}]
[null,null,null,null,null,{"$f":"IF(COUNTIF(BD!$B$2:B816,BD!B816)=1,MAX($F$1:F815)+1,\"\")","v":""},null,{"$f":"IF(AND(BD!B816=REF,BD!D816>=DEB,BD!D816<=FIN),MAX(calc!$H$1:H815)+1,0)","v":0}]
[null,null,null,null,null,{"$f":"IF(COUNTIF(BD!$B$2:B817,BD!B817)=1,MAX($F$1:F816)+1,\"\")","v":""},null,{"$f":"IF(AND(BD!B817=REF,BD!D817>=DEB,BD!D817<=FIN),MAX(calc!$H$1:H816)+1,0)","v":0}]
[null,null,null,null,null,{"$f":"IF(COUNTIF(BD!$B$2:B818,BD!B818)=1,MAX($F$1:F817)+1,\"\")","v":""},null,{"$f":"IF(AND(BD!B818=REF,BD!D818>=DEB,BD!D818<=FIN),MAX(calc!$H$1:H817)+1,0)","v":0}]
[null,null,null,null,null,{"$f":"IF(COUNTIF(BD!$B$2:B819,BD!B819)=1,MAX($F$1:F818)+1,\"\")","v":""},null,{"$f":"IF(AND(BD!B819=REF,BD!D819>=DEB,BD!D819<=FIN),MAX(calc!$H$1:H818)+1,0)","v":0}]
[null,null,null,null,null,{"$f":"IF(COUNTIF(BD!$B$2:B820,BD!B820)=1,MAX($F$1:F819)+1,\"\")","v":""},null,{"$f":"IF(AND(BD!B820=REF,BD!D820>=DEB,BD!D820<=FIN),MAX(calc!$H$1:H819)+1,0)","v":0}]
[null,null,null,null,null,{"$f":"IF(COUNTIF(BD!$B$2:B821,BD!B821)=1,MAX($F$1:F820)+1,\"\")","v":""},null,{"$f":"IF(AND(BD!B821=REF,BD!D821>=DEB,BD!D821<=FIN),MAX(calc!$H$1:H820)+1,0)","v":0}]
[null,null,null,null,null,{"$f":"IF(COUNTIF(BD!$B$2:B822,BD!B822)=1,MAX($F$1:F821)+1,\"\")","v":""},null,{"$f":"IF(AND(BD!B822=REF,BD!D822>=DEB,BD!D822<=FIN),MAX(calc!$H$1:H821)+1,0)","v":0}]
[null,null,null,null,null,{"$f":"IF(COUNTIF(BD!$B$2:B823,BD!B823)=1,MAX($F$1:F822)+1,\"\")","v":""},null,{"$f":"IF(AND(BD!B823=REF,BD!D823>=DEB,BD!D823<=FIN),MAX(calc!$H$1:H822)+1,0)","v":0}]
[null,null,null,null,null,{"$f":"IF(COUNTIF(BD!$B$2:B824,BD!B824)=1,MAX($F$1:F823)+1,\"\")","v":""},null,{"$f":"IF(AND(BD!B824=REF,BD!D824>=DEB,BD!D824<=FIN),MAX(calc!$H$1:H823)+1,0)","v":0}]
[null,null,null,null,null,{"$f":"IF(COUNTIF(BD!$B$2:B825,BD!B825)=1,MAX($F$1:F824)+1,\"\")","v":""},null,{"$f":"IF(AND(BD!B825=REF,BD!D825>=DEB,BD!D825<=FIN),MAX(calc!$H$1:H824)+1,0)","v":0}]
[null,null,null,null,null,{"$f":"IF(COUNTIF(BD!$B$2:B826,BD!B826)=1,MAX($F$1:F825)+1,\"\")","v":""},null,{"$f":"IF(AND(BD!B826=REF,BD!D826>=DEB,BD!D826<=FIN),MAX(calc!$H$1:H825)+1,0)","v":0}]
[null,null,null,null,null,{"$f":"IF(COUNTIF(BD!$B$2:B827,BD!B827)=1,MAX($F$1:F826)+1,\"\")","v":""},null,{"$f":"IF(AND(BD!B827=REF,BD!D827>=DEB,BD!D827<=FIN),MAX(calc!$H$1:H826)+1,0)","v":0}]
[null,null,null,null,null,{"$f":"IF(COUNTIF(BD!$B$2:B828,BD!B828)=1,MAX($F$1:F827)+1,\"\")","v":""},null,{"$f":"IF(AND(BD!B828=REF,BD!D828>=DEB,BD!D828<=FIN),MAX(calc!$H$1:H827)+1,0)","v":0}]
[null,null,null,null,null,{"$f":"IF(COUNTIF(BD!$B$2:B829,BD!B829)=1,MAX($F$1:F828)+1,\"\")","v":""},null,{"$f":"IF(AND(BD!B829=REF,BD!D829>=DEB,BD!D829<=FIN),MAX(calc!$H$1:H828)+1,0)","v":0}]
[null,null,null,null,null,{"$f":"IF(COUNTIF(BD!$B$2:B830,BD!B830)=1,MAX($F$1:F829)+1,\"\")","v":""},null,{"$f":"IF(AND(BD!B830=REF,BD!D830>=DEB,BD!D830<=FIN),MAX(calc!$H$1:H829)+1,0)","v":0}]
[null,null,null,null,null,{"$f":"IF(COUNTIF(BD!$B$2:B831,BD!B831)=1,MAX($F$1:F830)+1,\"\")","v":""},null,{"$f":"IF(AND(BD!B831=REF,BD!D831>=DEB,BD!D831<=FIN),MAX(calc!$H$1:H830)+1,0)","v":0}]
[null,null,null,null,null,{"$f":"IF(COUNTIF(BD!$B$2:B832,BD!B832)=1,MAX($F$1:F831)+1,\"\")","v":""},null,{"$f":"IF(AND(BD!B832=REF,BD!D832>=DEB,BD!D832<=FIN),MAX(calc!$H$1:H831)+1,0)","v":0}]
[null,null,null,null,null,{"$f":"IF(COUNTIF(BD!$B$2:B833,BD!B833)=1,MAX($F$1:F832)+1,\"\")","v":""},null,{"$f":"IF(AND(BD!B833=REF,BD!D833>=DEB,BD!D833<=FIN),MAX(calc!$H$1:H832)+1,0)","v":0}]
[null,null,null,null,null,{"$f":"IF(COUNTIF(BD!$B$2:B834,BD!B834)=1,MAX($F$1:F833)+1,\"\")","v":""},null,{"$f":"IF(AND(BD!B834=REF,BD!D834>=DEB,BD!D834<=FIN),MAX(calc!$H$1:H833)+1,0)","v":0}]
[null,null,null,null,null,{"$f":"IF(COUNTIF(BD!$B$2:B835,BD!B835)=1,MAX($F$1:F834)+1,\"\")","v":""},null,{"$f":"IF(AND(BD!B835=REF,BD!D835>=DEB,BD!D835<=FIN),MAX(calc!$H$1:H834)+1,0)","v":0}]
[null,null,null,null,null,{"$f":"IF(COUNTIF(BD!$B$2:B836,BD!B836)=1,MAX($F$1:F835)+1,\"\")","v":""},null,{"$f":"IF(AND(BD!B836=REF,BD!D836>=DEB,BD!D836<=FIN),MAX(calc!$H$1:H835)+1,0)","v":0}]
[null,null,null,null,null,{"$f":"IF(COUNTIF(BD!$B$2:B837,BD!B837)=1,MAX($F$1:F836)+1,\"\")","v":""},null,{"$f":"IF(AND(BD!B837=REF,BD!D837>=DEB,BD!D837<=FIN),MAX(calc!$H$1:H836)+1,0)","v":0}]
[null,null,null,null,null,{"$f":"IF(COUNTIF(BD!$B$2:B838,BD!B838)=1,MAX($F$1:F837)+1,\"\")","v":""},null,{"$f":"IF(AND(BD!B838=REF,BD!D838>=DEB,BD!D838<=FIN),MAX(calc!$H$1:H837)+1,0)","v":0}]
[null,null,null,null,null,{"$f":"IF(COUNTIF(BD!$B$2:B839,BD!B839)=1,MAX($F$1:F838)+1,\"\")","v":""},null,{"$f":"IF(AND(BD!B839=REF,BD!D839>=DEB,BD!D839<=FIN),MAX(calc!$H$1:H838)+1,0)","v":0}]
[null,null,null,null,null,{"$f":"IF(COUNTIF(BD!$B$2:B840,BD!B840)=1,MAX($F$1:F839)+1,\"\")","v":""},null,{"$f":"IF(AND(BD!B840=REF,BD!D840>=DEB,BD!D840<=FIN),MAX(calc!$H$1:H839)+1,0)","v":0}]
[null,null,null,null,null,{"$f":"IF(COUNTIF(BD!$B$2:B841,BD!B841)=1,MAX($F$1:F840)+1,\"\")","v":""},null,{"$f":"IF(AND(BD!B841=REF,BD!D841>=DEB,BD!D841<=FIN),MAX(calc!$H$1:H840)+1,0)","v":0}]
[null,null,null,null,null,{"$f":"IF(COUNTIF(BD!$B$2:B842,BD!B842)=1,MAX($F$1:F841)+1,\"\")","v":""},null,{"$f":"IF(AND(BD!B842=REF,BD!D842>=DEB,BD!D842<=FIN),MAX(calc!$H$1:H841)+1,0)","v":0}]
[null,null,null,null,null,{"$f":"IF(COUNTIF(BD!$B$2:B843,BD!B843)=1,MAX($F$1:F842)+1,\"\")","v":""},null,{"$f":"IF(AND(BD!B843=REF,BD!D843>=DEB,BD!D843<=FIN),MAX(calc!$H$1:H842)+1,0)","v":0}]
[null,null,null,null,null,{"$f":"IF(COUNTIF(BD!$B$2:B844,BD!B844)=1,MAX($F$1:F843)+1,\"\")","v":""},null,{"$f":"IF(AND(BD!B844=REF,BD!D844>=DEB,BD!D844<=FIN),MAX(calc!$H$1:H843)+1,0)","v":0}]
[null,null,null,null,null,{"$f":"IF(COUNTIF(BD!$B$2:B845,BD!B845)=1,MAX($F$1:F844)+1,\"\")","v":""},null,{"$f":"IF(AND(BD!B845=REF,BD!D845>=DEB,BD!D845<=FIN),MAX(calc!$H$1:H844)+1,0)","v":0}]
[null,null,null,null,null,{"$f":"IF(COUNTIF(BD!$B$2:B846,BD!B846)=1,MAX($F$1:F845)+1,\"\")","v":""},null,{"$f":"IF(AND(BD!B846=REF,BD!D846>=DEB,BD!D846<=FIN),MAX(calc!$H$1:H845)+1,0)","v":0}]
[null,null,null,null,null,{"$f":"IF(COUNTIF(BD!$B$2:B847,BD!B847)=1,MAX($F$1:F846)+1,\"\")","v":""},null,{"$f":"IF(AND(BD!B847=REF,BD!D847>=DEB,BD!D847<=FIN),MAX(calc!$H$1:H846)+1,0)","v":0}]
[null,null,null,null,null,{"$f":"IF(COUNTIF(BD!$B$2:B848,BD!B848)=1,MAX($F$1:F847)+1,\"\")","v":""},null,{"$f":"IF(AND(BD!B848=REF,BD!D848>=DEB,BD!D848<=FIN),MAX(calc!$H$1:H847)+1,0)","v":0}]
[null,null,null,null,null,{"$f":"IF(COUNTIF(BD!$B$2:B849,BD!B849)=1,MAX($F$1:F848)+1,\"\")","v":""},null,{"$f":"IF(AND(BD!B849=REF,BD!D849>=DEB,BD!D849<=FIN),MAX(calc!$H$1:H848)+1,0)","v":0}]
[null,null,null,null,null,{"$f":"IF(COUNTIF(BD!$B$2:B850,BD!B850)=1,MAX($F$1:F849)+1,\"\")","v":""},null,{"$f":"IF(AND(BD!B850=REF,BD!D850>=DEB,BD!D850<=FIN),MAX(calc!$H$1:H849)+1,0)","v":0}]
[null,null,null,null,null,{"$f":"IF(COUNTIF(BD!$B$2:B851,BD!B851)=1,MAX($F$1:F850)+1,\"\")","v":""},null,{"$f":"IF(AND(BD!B851=REF,BD!D851>=DEB,BD!D851<=FIN),MAX(calc!$H$1:H850)+1,0)","v":0}]
[null,null,null,null,null,{"$f":"IF(COUNTIF(BD!$B$2:B852,BD!B852)=1,MAX($F$1:F851)+1,\"\")","v":""},null,{"$f":"IF(AND(BD!B852=REF,BD!D852>=DEB,BD!D852<=FIN),MAX(calc!$H$1:H851)+1,0)","v":0}]
[null,null,null,null,null,{"$f":"IF(COUNTIF(BD!$B$2:B853,BD!B853)=1,MAX($F$1:F852)+1,\"\")","v":""},null,{"$f":"IF(AND(BD!B853=REF,BD!D853>=DEB,BD!D853<=FIN),MAX(calc!$H$1:H852)+1,0)","v":0}]
[null,null,null,null,null,{"$f":"IF(COUNTIF(BD!$B$2:B854,BD!B854)=1,MAX($F$1:F853)+1,\"\")","v":""},null,{"$f":"IF(AND(BD!B854=REF,BD!D854>=DEB,BD!D854<=FIN),MAX(calc!$H$1:H853)+1,0)","v":0}]
[null,null,null,null,null,{"$f":"IF(COUNTIF(BD!$B$2:B855,BD!B855)=1,MAX($F$1:F854)+1,\"\")","v":""},null,{"$f":"IF(AND(BD!B855=REF,BD!D855>=DEB,BD!D855<=FIN),MAX(calc!$H$1:H854)+1,0)","v":0}]
[null,null,null,null,null,{"$f":"IF(COUNTIF(BD!$B$2:B856,BD!B856)=1,MAX($F$1:F855)+1,\"\")","v":""},null,{"$f":"IF(AND(BD!B856=REF,BD!D856>=DEB,BD!D856<=FIN),MAX(calc!$H$1:H855)+1,0)","v":0}]
[null,null,null,null,null,{"$f":"IF(COUNTIF(BD!$B$2:B857,BD!B857)=1,MAX($F$1:F856)+1,\"\")","v":""},null,{"$f":"IF(AND(BD!B857=REF,BD!D857>=DEB,BD!D857<=FIN),MAX(calc!$H$1:H856)+1,0)","v":0}]
[null,null,null,null,null,{"$f":"IF(COUNTIF(BD!$B$2:B858,BD!B858)=1,MAX($F$1:F857)+1,\"\")","v":""},null,{"$f":"IF(AND(BD!B858=REF,BD!D858>=DEB,BD!D858<=FIN),MAX(calc!$H$1:H857)+1,0)","v":0}]
[null,null,null,null,null,{"$f":"IF(COUNTIF(BD!$B$2:B859,BD!B859)=1,MAX($F$1:F858)+1,\"\")","v":""},null,{"$f":"IF(AND(BD!B859=REF,BD!D859>=DEB,BD!D859<=FIN),MAX(calc!$H$1:H858)+1,0)","v":0}]
[null,null,null,null,null,{"$f":"IF(COUNTIF(BD!$B$2:B860,BD!B860)=1,MAX($F$1:F859)+1,\"\")","v":""},null,{"$f":"IF(AND(BD!B860=REF,BD!D860>=DEB,BD!D860<=FIN),MAX(calc!$H$1:H859)+1,0)","v":0}]
[null,null,null,null,null,{"$f":"IF(COUNTIF(BD!$B$2:B861,BD!B861)=1,MAX($F$1:F860)+1,\"\")","v":""},null,{"$f":"IF(AND(BD!B861=REF,BD!D861>=DEB,BD!D861<=FIN),MAX(calc!$H$1:H860)+1,0)","v":0}]
[null,null,null,null,null,{"$f":"IF(COUNTIF(BD!$B$2:B862,BD!B862)=1,MAX($F$1:F861)+1,\"\")","v":""},null,{"$f":"IF(AND(BD!B862=REF,BD!D862>=DEB,BD!D862<=FIN),MAX(calc!$H$1:H861)+1,0)","v":0}]
[null,null,null,null,null,{"$f":"IF(COUNTIF(BD!$B$2:B863,BD!B863)=1,MAX($F$1:F862)+1,\"\")","v":""},null,{"$f":"IF(AND(BD!B863=REF,BD!D863>=DEB,BD!D863<=FIN),MAX(calc!$H$1:H862)+1,0)","v":0}]
[null,null,null,null,null,{"$f":"IF(COUNTIF(BD!$B$2:B864,BD!B864)=1,MAX($F$1:F863)+1,\"\")","v":""},null,{"$f":"IF(AND(BD!B864=REF,BD!D864>=DEB,BD!D864<=FIN),MAX(calc!$H$1:H863)+1,0)","v":0}]
[null,null,null,null,null,{"$f":"IF(COUNTIF(BD!$B$2:B865,BD!B865)=1,MAX($F$1:F864)+1,\"\")","v":""},null,{"$f":"IF(AND(BD!B865=REF,BD!D865>=DEB,BD!D865<=FIN),MAX(calc!$H$1:H864)+1,0)","v":0}]
[null,null,null,null,null,{"$f":"IF(COUNTIF(BD!$B$2:B866,BD!B866)=1,MAX($F$1:F865)+1,\"\")","v":""},null,{"$f":"IF(AND(BD!B866=REF,BD!D866>=DEB,BD!D866<=FIN),MAX(calc!$H$1:H865)+1,0)","v":0}]
[null,null,null,null,null,{"$f":"IF(COUNTIF(BD!$B$2:B867,BD!B867)=1,MAX($F$1:F866)+1,\"\")","v":""},null,{"$f":"IF(AND(BD!B867=REF,BD!D867>=DEB,BD!D867<=FIN),MAX(calc!$H$1:H866)+1,0)","v":0}]
[null,null,null,null,null,{"$f":"IF(COUNTIF(BD!$B$2:B868,BD!B868)=1,MAX($F$1:F867)+1,\"\")","v":""},null,{"$f":"IF(AND(BD!B868=REF,BD!D868>=DEB,BD!D868<=FIN),MAX(calc!$H$1:H867)+1,0)","v":0}]
[null,null,null,null,null,{"$f":"IF(COUNTIF(BD!$B$2:B869,BD!B869)=1,MAX($F$1:F868)+1,\"\")","v":""},null,{"$f":"IF(AND(BD!B869=REF,BD!D869>=DEB,BD!D869<=FIN),MAX(calc!$H$1:H868)+1,0)","v":0}]
[null,null,null,null,null,{"$f":"IF(COUNTIF(BD!$B$2:B870,BD!B870)=1,MAX($F$1:F869)+1,\"\")","v":""},null,{"$f":"IF(AND(BD!B870=REF,BD!D870>=DEB,BD!D870<=FIN),MAX(calc!$H$1:H869)+1,0)","v":0}]
[null,null,null,null,null,{"$f":"IF(COUNTIF(BD!$B$2:B871,BD!B871)=1,MAX($F$1:F870)+1,\"\")","v":""},null,{"$f":"IF(AND(BD!B871=REF,BD!D871>=DEB,BD!D871<=FIN),MAX(calc!$H$1:H870)+1,0)","v":0}]
[null,null,null,null,null,{"$f":"IF(COUNTIF(BD!$B$2:B872,BD!B872)=1,MAX($F$1:F871)+1,\"\")","v":""},null,{"$f":"IF(AND(BD!B872=REF,BD!D872>=DEB,BD!D872<=FIN),MAX(calc!$H$1:H871)+1,0)","v":0}]
[null,null,null,null,null,{"$f":"IF(COUNTIF(BD!$B$2:B873,BD!B873)=1,MAX($F$1:F872)+1,\"\")","v":""},null,{"$f":"IF(AND(BD!B873=REF,BD!D873>=DEB,BD!D873<=FIN),MAX(calc!$H$1:H872)+1,0)","v":0}]
[null,null,null,null,null,{"$f":"IF(COUNTIF(BD!$B$2:B874,BD!B874)=1,MAX($F$1:F873)+1,\"\")","v":""},null,{"$f":"IF(AND(BD!B874=REF,BD!D874>=DEB,BD!D874<=FIN),MAX(calc!$H$1:H873)+1,0)","v":0}]
[null,null,null,null,null,{"$f":"IF(COUNTIF(BD!$B$2:B875,BD!B875)=1,MAX($F$1:F874)+1,\"\")","v":""},null,{"$f":"IF(AND(BD!B875=REF,BD!D875>=DEB,BD!D875<=FIN),MAX(calc!$H$1:H874)+1,0)","v":0}]
[null,null,null,null,null,{"$f":"IF(COUNTIF(BD!$B$2:B876,BD!B876)=1,MAX($F$1:F875)+1,\"\")","v":""},null,{"$f":"IF(AND(BD!B876=REF,BD!D876>=DEB,BD!D876<=FIN),MAX(calc!$H$1:H875)+1,0)","v":0}]
[null,null,null,null,null,{"$f":"IF(COUNTIF(BD!$B$2:B877,BD!B877)=1,MAX($F$1:F876)+1,\"\")","v":""},null,{"$f":"IF(AND(BD!B877=REF,BD!D877>=DEB,BD!D877<=FIN),MAX(calc!$H$1:H876)+1,0)","v":0}]
[null,null,null,null,null,{"$f":"IF(COUNTIF(BD!$B$2:B878,BD!B878)=1,MAX($F$1:F877)+1,\"\")","v":""},null,{"$f":"IF(AND(BD!B878=REF,BD!D878>=DEB,BD!D878<=FIN),MAX(calc!$H$1:H877)+1,0)","v":0}]
[null,null,null,null,null,{"$f":"IF(COUNTIF(BD!$B$2:B879,BD!B879)=1,MAX($F$1:F878)+1,\"\")","v":""},null,{"$f":"IF(AND(BD!B879=REF,BD!D879>=DEB,BD!D879<=FIN),MAX(calc!$H$1:H878)+1,0)","v":0}]
[null,null,null,null,null,{"$f":"IF(COUNTIF(BD!$B$2:B880,BD!B880)=1,MAX($F$1:F879)+1,\"\")","v":""},null,{"$f":"IF(AND(BD!B880=REF,BD!D880>=DEB,BD!D880<=FIN),MAX(calc!$H$1:H879)+1,0)","v":0}]
[null,null,null,null,null,{"$f":"IF(COUNTIF(BD!$B$2:B881,BD!B881)=1,MAX($F$1:F880)+1,\"\")","v":""},null,{"$f":"IF(AND(BD!B881=REF,BD!D881>=DEB,BD!D881<=FIN),MAX(calc!$H$1:H880)+1,0)","v":0}]
[null,null,null,null,null,{"$f":"IF(COUNTIF(BD!$B$2:B882,BD!B882)=1,MAX($F$1:F881)+1,\"\")","v":""},null,{"$f":"IF(AND(BD!B882=REF,BD!D882>=DEB,BD!D882<=FIN),MAX(calc!$H$1:H881)+1,0)","v":0}]
[null,null,null,null,null,{"$f":"IF(COUNTIF(BD!$B$2:B883,BD!B883)=1,MAX($F$1:F882)+1,\"\")","v":""},null,{"$f":"IF(AND(BD!B883=REF,BD!D883>=DEB,BD!D883<=FIN),MAX(calc!$H$1:H882)+1,0)","v":0}]
[null,null,null,null,null,{"$f":"IF(COUNTIF(BD!$B$2:B884,BD!B884)=1,MAX($F$1:F883)+1,\"\")","v":""},null,{"$f":"IF(AND(BD!B884=REF,BD!D884>=DEB,BD!D884<=FIN),MAX(calc!$H$1:H883)+1,0)","v":0}]
[null,null,null,null,null,{"$f":"IF(COUNTIF(BD!$B$2:B885,BD!B885)=1,MAX($F$1:F884)+1,\"\")","v":""},null,{"$f":"IF(AND(BD!B885=REF,BD!D885>=DEB,BD!D885<=FIN),MAX(calc!$H$1:H884)+1,0)","v":0}]
[null,null,null,null,null,{"$f":"IF(COUNTIF(BD!$B$2:B886,BD!B886)=1,MAX($F$1:F885)+1,\"\")","v":""},null,{"$f":"IF(AND(BD!B886=REF,BD!D886>=DEB,BD!D886<=FIN),MAX(calc!$H$1:H885)+1,0)","v":0}]
[null,null,null,null,null,{"$f":"IF(COUNTIF(BD!$B$2:B887,BD!B887)=1,MAX($F$1:F886)+1,\"\")","v":""},null,{"$f":"IF(AND(BD!B887=REF,BD!D887>=DEB,BD!D887<=FIN),MAX(calc!$H$1:H886)+1,0)","v":0}]
[null,null,null,null,null,{"$f":"IF(COUNTIF(BD!$B$2:B888,BD!B888)=1,MAX($F$1:F887)+1,\"\")","v":""},null,{"$f":"IF(AND(BD!B888=REF,BD!D888>=DEB,BD!D888<=FIN),MAX(calc!$H$1:H887)+1,0)","v":0}]
[null,null,null,null,null,{"$f":"IF(COUNTIF(BD!$B$2:B889,BD!B889)=1,MAX($F$1:F888)+1,\"\")","v":""},null,{"$f":"IF(AND(BD!B889=REF,BD!D889>=DEB,BD!D889<=FIN),MAX(calc!$H$1:H888)+1,0)","v":0}]
[null,null,null,null,null,{"$f":"IF(COUNTIF(BD!$B$2:B890,BD!B890)=1,MAX($F$1:F889)+1,\"\")","v":""},null,{"$f":"IF(AND(BD!B890=REF,BD!D890>=DEB,BD!D890<=FIN),MAX(calc!$H$1:H889)+1,0)","v":0}]
[null,null,null,null,null,{"$f":"IF(COUNTIF(BD!$B$2:B891,BD!B891)=1,MAX($F$1:F890)+1,\"\")","v":""},null,{"$f":"IF(AND(BD!B891=REF,BD!D891>=DEB,BD!D891<=FIN),MAX(calc!$H$1:H890)+1,0)","v":0}]
[null,null,null,null,null,{"$f":"IF(COUNTIF(BD!$B$2:B892,BD!B892)=1,MAX($F$1:F891)+1,\"\")","v":""},null,{"$f":"IF(AND(BD!B892=REF,BD!D892>=DEB,BD!D892<=FIN),MAX(calc!$H$1:H891)+1,0)","v":0}]
[null,null,null,null,null,{"$f":"IF(COUNTIF(BD!$B$2:B893,BD!B893)=1,MAX($F$1:F892)+1,\"\")","v":""},null,{"$f":"IF(AND(BD!B893=REF,BD!D893>=DEB,BD!D893<=FIN),MAX(calc!$H$1:H892)+1,0)","v":0}]
[null,null,null,null,null,{"$f":"IF(COUNTIF(BD!$B$2:B894,BD!B894)=1,MAX($F$1:F893)+1,\"\")","v":""},null,{"$f":"IF(AND(BD!B894=REF,BD!D894>=DEB,BD!D894<=FIN),MAX(calc!$H$1:H893)+1,0)","v":0}]
[null,null,null,null,null,{"$f":"IF(COUNTIF(BD!$B$2:B895,BD!B895)=1,MAX($F$1:F894)+1,\"\")","v":""},null,{"$f":"IF(AND(BD!B895=REF,BD!D895>=DEB,BD!D895<=FIN),MAX(calc!$H$1:H894)+1,0)","v":0}]
[null,null,null,null,null,{"$f":"IF(COUNTIF(BD!$B$2:B896,BD!B896)=1,MAX($F$1:F895)+1,\"\")","v":""},null,{"$f":"IF(AND(BD!B896=REF,BD!D896>=DEB,BD!D896<=FIN),MAX(calc!$H$1:H895)+1,0)","v":0}]
[null,null,null,null,null,{"$f":"IF(COUNTIF(BD!$B$2:B897,BD!B897)=1,MAX($F$1:F896)+1,\"\")","v":""},null,{"$f":"IF(AND(BD!B897=REF,BD!D897>=DEB,BD!D897<=FIN),MAX(calc!$H$1:H896)+1,0)","v":0}]
[null,null,null,null,null,{"$f":"IF(COUNTIF(BD!$B$2:B898,BD!B898)=1,MAX($F$1:F897)+1,\"\")","v":""},null,{"$f":"IF(AND(BD!B898=REF,BD!D898>=DEB,BD!D898<=FIN),MAX(calc!$H$1:H897)+1,0)","v":0}]
[null,null,null,null,null,{"$f":"IF(COUNTIF(BD!$B$2:B899,BD!B899)=1,MAX($F$1:F898)+1,\"\")","v":""},null,{"$f":"IF(AND(BD!B899=REF,BD!D899>=DEB,BD!D899<=FIN),MAX(calc!$H$1:H898)+1,0)","v":0}]
[null,null,null,null,null,{"$f":"IF(COUNTIF(BD!$B$2:B900,BD!B900)=1,MAX($F$1:F899)+1,\"\")","v":""},null,{"$f":"IF(AND(BD!B900=REF,BD!D900>=DEB,BD!D900<=FIN),MAX(calc!$H$1:H899)+1,0)","v":0}]
[null,null,null,null,null,{"$f":"IF(COUNTIF(BD!$B$2:B901,BD!B901)=1,MAX($F$1:F900)+1,\"\")","v":""},null,{"$f":"IF(AND(BD!B901=REF,BD!D901>=DEB,BD!D901<=FIN),MAX(calc!$H$1:H900)+1,0)","v":0}]
[null,null,null,null,null,{"$f":"IF(COUNTIF(BD!$B$2:B902,BD!B902)=1,MAX($F$1:F901)+1,\"\")","v":""},null,{"$f":"IF(AND(BD!B902=REF,BD!D902>=DEB,BD!D902<=FIN),MAX(calc!$H$1:H901)+1,0)","v":0}]
[null,null,null,null,null,{"$f":"IF(COUNTIF(BD!$B$2:B903,BD!B903)=1,MAX($F$1:F902)+1,\"\")","v":""},null,{"$f":"IF(AND(BD!B903=REF,BD!D903>=DEB,BD!D903<=FIN),MAX(calc!$H$1:H902)+1,0)","v":0}]
[null,null,null,null,null,{"$f":"IF(COUNTIF(BD!$B$2:B904,BD!B904)=1,MAX($F$1:F903)+1,\"\")","v":""},null,{"$f":"IF(AND(BD!B904=REF,BD!D904>=DEB,BD!D904<=FIN),MAX(calc!$H$1:H903)+1,0)","v":0}]
[null,null,null,null,null,{"$f":"IF(COUNTIF(BD!$B$2:B905,BD!B905)=1,MAX($F$1:F904)+1,\"\")","v":""},null,{"$f":"IF(AND(BD!B905=REF,BD!D905>=DEB,BD!D905<=FIN),MAX(calc!$H$1:H904)+1,0)","v":0}]
[null,null,null,null,null,{"$f":"IF(COUNTIF(BD!$B$2:B906,BD!B906)=1,MAX($F$1:F905)+1,\"\")","v":""},null,{"$f":"IF(AND(BD!B906=REF,BD!D906>=DEB,BD!D906<=FIN),MAX(calc!$H$1:H905)+1,0)","v":0}]
[null,null,null,null,null,{"$f":"IF(COUNTIF(BD!$B$2:B907,BD!B907)=1,MAX($F$1:F906)+1,\"\")","v":""},null,{"$f":"IF(AND(BD!B907=REF,BD!D907>=DEB,BD!D907<=FIN),MAX(calc!$H$1:H906)+1,0)","v":0}]
[null,null,null,null,null,{"$f":"IF(COUNTIF(BD!$B$2:B908,BD!B908)=1,MAX($F$1:F907)+1,\"\")","v":""},null,{"$f":"IF(AND(BD!B908=REF,BD!D908>=DEB,BD!D908<=FIN),MAX(calc!$H$1:H907)+1,0)","v":0}]
[null,null,null,null,null,{"$f":"IF(COUNTIF(BD!$B$2:B909,BD!B909)=1,MAX($F$1:F908)+1,\"\")","v":""},null,{"$f":"IF(AND(BD!B909=REF,BD!D909>=DEB,BD!D909<=FIN),MAX(calc!$H$1:H908)+1,0)","v":0}]
[null,null,null,null,null,{"$f":"IF(COUNTIF(BD!$B$2:B910,BD!B910)=1,MAX($F$1:F909)+1,\"\")","v":""},null,{"$f":"IF(AND(BD!B910=REF,BD!D910>=DEB,BD!D910<=FIN),MAX(calc!$H$1:H909)+1,0)","v":0}]
[null,null,null,null,null,{"$f":"IF(COUNTIF(BD!$B$2:B911,BD!B911)=1,MAX($F$1:F910)+1,\"\")","v":""},null,{"$f":"IF(AND(BD!B911=REF,BD!D911>=DEB,BD!D911<=FIN),MAX(calc!$H$1:H910)+1,0)","v":0}]
[null,null,null,null,null,{"$f":"IF(COUNTIF(BD!$B$2:B912,BD!B912)=1,MAX($F$1:F911)+1,\"\")","v":""},null,{"$f":"IF(AND(BD!B912=REF,BD!D912>=DEB,BD!D912<=FIN),MAX(calc!$H$1:H911)+1,0)","v":0}]
[null,null,null,null,null,{"$f":"IF(COUNTIF(BD!$B$2:B913,BD!B913)=1,MAX($F$1:F912)+1,\"\")","v":""},null,{"$f":"IF(AND(BD!B913=REF,BD!D913>=DEB,BD!D913<=FIN),MAX(calc!$H$1:H912)+1,0)","v":0}]
[null,null,null,null,null,{"$f":"IF(COUNTIF(BD!$B$2:B914,BD!B914)=1,MAX($F$1:F913)+1,\"\")","v":""},null,{"$f":"IF(AND(BD!B914=REF,BD!D914>=DEB,BD!D914<=FIN),MAX(calc!$H$1:H913)+1,0)","v":0}]
[null,null,null,null,null,{"$f":"IF(COUNTIF(BD!$B$2:B915,BD!B915)=1,MAX($F$1:F914)+1,\"\")","v":""},null,{"$f":"IF(AND(BD!B915=REF,BD!D915>=DEB,BD!D915<=FIN),MAX(calc!$H$1:H914)+1,0)","v":0}]
[null,null,null,null,null,{"$f":"IF(COUNTIF(BD!$B$2:B916,BD!B916)=1,MAX($F$1:F915)+1,\"\")","v":""},null,{"$f":"IF(AND(BD!B916=REF,BD!D916>=DEB,BD!D916<=FIN),MAX(calc!$H$1:H915)+1,0)","v":0}]
[null,null,null,null,null,{"$f":"IF(COUNTIF(BD!$B$2:B917,BD!B917)=1,MAX($F$1:F916)+1,\"\")","v":""},null,{"$f":"IF(AND(BD!B917=REF,BD!D917>=DEB,BD!D917<=FIN),MAX(calc!$H$1:H916)+1,0)","v":0}]
[null,null,null,null,null,{"$f":"IF(COUNTIF(BD!$B$2:B918,BD!B918)=1,MAX($F$1:F917)+1,\"\")","v":""},null,{"$f":"IF(AND(BD!B918=REF,BD!D918>=DEB,BD!D918<=FIN),MAX(calc!$H$1:H917)+1,0)","v":0}]
[null,null,null,null,null,{"$f":"IF(COUNTIF(BD!$B$2:B919,BD!B919)=1,MAX($F$1:F918)+1,\"\")","v":""},null,{"$f":"IF(AND(BD!B919=REF,BD!D919>=DEB,BD!D919<=FIN),MAX(calc!$H$1:H918)+1,0)","v":0}]
[null,null,null,null,null,{"$f":"IF(COUNTIF(BD!$B$2:B920,BD!B920)=1,MAX($F$1:F919)+1,\"\")","v":""},null,{"$f":"IF(AND(BD!B920=REF,BD!D920>=DEB,BD!D920<=FIN),MAX(calc!$H$1:H919)+1,0)","v":0}]
[null,null,null,null,null,{"$f":"IF(COUNTIF(BD!$B$2:B921,BD!B921)=1,MAX($F$1:F920)+1,\"\")","v":""},null,{"$f":"IF(AND(BD!B921=REF,BD!D921>=DEB,BD!D921<=FIN),MAX(calc!$H$1:H920)+1,0)","v":0}]
[null,null,null,null,null,{"$f":"IF(COUNTIF(BD!$B$2:B922,BD!B922)=1,MAX($F$1:F921)+1,\"\")","v":""},null,{"$f":"IF(AND(BD!B922=REF,BD!D922>=DEB,BD!D922<=FIN),MAX(calc!$H$1:H921)+1,0)","v":0}]
[null,null,null,null,null,{"$f":"IF(COUNTIF(BD!$B$2:B923,BD!B923)=1,MAX($F$1:F922)+1,\"\")","v":""},null,{"$f":"IF(AND(BD!B923=REF,BD!D923>=DEB,BD!D923<=FIN),MAX(calc!$H$1:H922)+1,0)","v":0}]
[null,null,null,null,null,{"$f":"IF(COUNTIF(BD!$B$2:B924,BD!B924)=1,MAX($F$1:F923)+1,\"\")","v":""},null,{"$f":"IF(AND(BD!B924=REF,BD!D924>=DEB,BD!D924<=FIN),MAX(calc!$H$1:H923)+1,0)","v":0}]
[null,null,null,null,null,{"$f":"IF(COUNTIF(BD!$B$2:B925,BD!B925)=1,MAX($F$1:F924)+1,\"\")","v":""},null,{"$f":"IF(AND(BD!B925=REF,BD!D925>=DEB,BD!D925<=FIN),MAX(calc!$H$1:H924)+1,0)","v":0}]
[null,null,null,null,null,{"$f":"IF(COUNTIF(BD!$B$2:B926,BD!B926)=1,MAX($F$1:F925)+1,\"\")","v":""},null,{"$f":"IF(AND(BD!B926=REF,BD!D926>=DEB,BD!D926<=FIN),MAX(calc!$H$1:H925)+1,0)","v":0}]
[null,null,null,null,null,{"$f":"IF(COUNTIF(BD!$B$2:B927,BD!B927)=1,MAX($F$1:F926)+1,\"\")","v":""},null,{"$f":"IF(AND(BD!B927=REF,BD!D927>=DEB,BD!D927<=FIN),MAX(calc!$H$1:H926)+1,0)","v":0}]
[null,null,null,null,null,{"$f":"IF(COUNTIF(BD!$B$2:B928,BD!B928)=1,MAX($F$1:F927)+1,\"\")","v":""},null,{"$f":"IF(AND(BD!B928=REF,BD!D928>=DEB,BD!D928<=FIN),MAX(calc!$H$1:H927)+1,0)","v":0}]
[null,null,null,null,null,{"$f":"IF(COUNTIF(BD!$B$2:B929,BD!B929)=1,MAX($F$1:F928)+1,\"\")","v":""},null,{"$f":"IF(AND(BD!B929=REF,BD!D929>=DEB,BD!D929<=FIN),MAX(calc!$H$1:H928)+1,0)","v":0}]
[null,null,null,null,null,{"$f":"IF(COUNTIF(BD!$B$2:B930,BD!B930)=1,MAX($F$1:F929)+1,\"\")","v":""},null,{"$f":"IF(AND(BD!B930=REF,BD!D930>=DEB,BD!D930<=FIN),MAX(calc!$H$1:H929)+1,0)","v":0}]
[null,null,null,null,null,{"$f":"IF(COUNTIF(BD!$B$2:B931,BD!B931)=1,MAX($F$1:F930)+1,\"\")","v":""},null,{"$f":"IF(AND(BD!B931=REF,BD!D931>=DEB,BD!D931<=FIN),MAX(calc!$H$1:H930)+1,0)","v":0}]
[null,null,null,null,null,{"$f":"IF(COUNTIF(BD!$B$2:B932,BD!B932)=1,MAX($F$1:F931)+1,\"\")","v":""},null,{"$f":"IF(AND(BD!B932=REF,BD!D932>=DEB,BD!D932<=FIN),MAX(calc!$H$1:H931)+1,0)","v":0}]
[null,null,null,null,null,{"$f":"IF(COUNTIF(BD!$B$2:B933,BD!B933)=1,MAX($F$1:F932)+1,\"\")","v":""},null,{"$f":"IF(AND(BD!B933=REF,BD!D933>=DEB,BD!D933<=FIN),MAX(calc!$H$1:H932)+1,0)","v":0}]
[null,null,null,null,null,{"$f":"IF(COUNTIF(BD!$B$2:B934,BD!B934)=1,MAX($F$1:F933)+1,\"\")","v":""},null,{"$f":"IF(AND(BD!B934=REF,BD!D934>=DEB,BD!D934<=FIN),MAX(calc!$H$1:H933)+1,0)","v":0}]
[null,null,null,null,null,{"$f":"IF(COUNTIF(BD!$B$2:B935,BD!B935)=1,MAX($F$1:F934)+1,\"\")","v":""},null,{"$f":"IF(AND(BD!B935=REF,BD!D935>=DEB,BD!D935<=FIN),MAX(calc!$H$1:H934)+1,0)","v":0}]
[null,null,null,null,null,{"$f":"IF(COUNTIF(BD!$B$2:B936,BD!B936)=1,MAX($F$1:F935)+1,\"\")","v":""},null,{"$f":"IF(AND(BD!B936=REF,BD!D936>=DEB,BD!D936<=FIN),MAX(calc!$H$1:H935)+1,0)","v":0}]
[null,null,null,null,null,{"$f":"IF(COUNTIF(BD!$B$2:B937,BD!B937)=1,MAX($F$1:F936)+1,\"\")","v":""},null,{"$f":"IF(AND(BD!B937=REF,BD!D937>=DEB,BD!D937<=FIN),MAX(calc!$H$1:H936)+1,0)","v":0}]
[null,null,null,null,null,{"$f":"IF(COUNTIF(BD!$B$2:B938,BD!B938)=1,MAX($F$1:F937)+1,\"\")","v":""},null,{"$f":"IF(AND(BD!B938=REF,BD!D938>=DEB,BD!D938<=FIN),MAX(calc!$H$1:H937)+1,0)","v":0}]
[null,null,null,null,null,{"$f":"IF(COUNTIF(BD!$B$2:B939,BD!B939)=1,MAX($F$1:F938)+1,\"\")","v":""},null,{"$f":"IF(AND(BD!B939=REF,BD!D939>=DEB,BD!D939<=FIN),MAX(calc!$H$1:H938)+1,0)","v":0}]
[null,null,null,null,null,{"$f":"IF(COUNTIF(BD!$B$2:B940,BD!B940)=1,MAX($F$1:F939)+1,\"\")","v":""},null,{"$f":"IF(AND(BD!B940=REF,BD!D940>=DEB,BD!D940<=FIN),MAX(calc!$H$1:H939)+1,0)","v":0}]
[null,null,null,null,null,{"$f":"IF(COUNTIF(BD!$B$2:B941,BD!B941)=1,MAX($F$1:F940)+1,\"\")","v":""},null,{"$f":"IF(AND(BD!B941=REF,BD!D941>=DEB,BD!D941<=FIN),MAX(calc!$H$1:H940)+1,0)","v":0}]
[null,null,null,null,null,{"$f":"IF(COUNTIF(BD!$B$2:B942,BD!B942)=1,MAX($F$1:F941)+1,\"\")","v":""},null,{"$f":"IF(AND(BD!B942=REF,BD!D942>=DEB,BD!D942<=FIN),MAX(calc!$H$1:H941)+1,0)","v":0}]
[null,null,null,null,null,{"$f":"IF(COUNTIF(BD!$B$2:B943,BD!B943)=1,MAX($F$1:F942)+1,\"\")","v":""},null,{"$f":"IF(AND(BD!B943=REF,BD!D943>=DEB,BD!D943<=FIN),MAX(calc!$H$1:H942)+1,0)","v":0}]
[null,null,null,null,null,{"$f":"IF(COUNTIF(BD!$B$2:B944,BD!B944)=1,MAX($F$1:F943)+1,\"\")","v":""},null,{"$f":"IF(AND(BD!B944=REF,BD!D944>=DEB,BD!D944<=FIN),MAX(calc!$H$1:H943)+1,0)","v":0}]
[null,null,null,null,null,{"$f":"IF(COUNTIF(BD!$B$2:B945,BD!B945)=1,MAX($F$1:F944)+1,\"\")","v":""},null,{"$f":"IF(AND(BD!B945=REF,BD!D945>=DEB,BD!D945<=FIN),MAX(calc!$H$1:H944)+1,0)","v":0}]
[null,null,null,null,null,{"$f":"IF(COUNTIF(BD!$B$2:B946,BD!B946)=1,MAX($F$1:F945)+1,\"\")","v":""},null,{"$f":"IF(AND(BD!B946=REF,BD!D946>=DEB,BD!D946<=FIN),MAX(calc!$H$1:H945)+1,0)","v":0}]
[null,null,null,null,null,{"$f":"IF(COUNTIF(BD!$B$2:B947,BD!B947)=1,MAX($F$1:F946)+1,\"\")","v":""},null,{"$f":"IF(AND(BD!B947=REF,BD!D947>=DEB,BD!D947<=FIN),MAX(calc!$H$1:H946)+1,0)","v":0}]
[null,null,null,null,null,{"$f":"IF(COUNTIF(BD!$B$2:B948,BD!B948)=1,MAX($F$1:F947)+1,\"\")","v":""},null,{"$f":"IF(AND(BD!B948=REF,BD!D948>=DEB,BD!D948<=FIN),MAX(calc!$H$1:H947)+1,0)","v":0}]
[null,null,null,null,null,{"$f":"IF(COUNTIF(BD!$B$2:B949,BD!B949)=1,MAX($F$1:F948)+1,\"\")","v":""},null,{"$f":"IF(AND(BD!B949=REF,BD!D949>=DEB,BD!D949<=FIN),MAX(calc!$H$1:H948)+1,0)","v":0}]
[null,null,null,null,null,{"$f":"IF(COUNTIF(BD!$B$2:B950,BD!B950)=1,MAX($F$1:F949)+1,\"\")","v":""},null,{"$f":"IF(AND(BD!B950=REF,BD!D950>=DEB,BD!D950<=FIN),MAX(calc!$H$1:H949)+1,0)","v":0}]
[null,null,null,null,null,{"$f":"IF(COUNTIF(BD!$B$2:B951,BD!B951)=1,MAX($F$1:F950)+1,\"\")","v":""},null,{"$f":"IF(AND(BD!B951=REF,BD!D951>=DEB,BD!D951<=FIN),MAX(calc!$H$1:H950)+1,0)","v":0}]
[null,null,null,null,null,{"$f":"IF(COUNTIF(BD!$B$2:B952,BD!B952)=1,MAX($F$1:F951)+1,\"\")","v":""},null,{"$f":"IF(AND(BD!B952=REF,BD!D952>=DEB,BD!D952<=FIN),MAX(calc!$H$1:H951)+1,0)","v":0}]
[null,null,null,null,null,{"$f":"IF(COUNTIF(BD!$B$2:B953,BD!B953)=1,MAX($F$1:F952)+1,\"\")","v":""},null,{"$f":"IF(AND(BD!B953=REF,BD!D953>=DEB,BD!D953<=FIN),MAX(calc!$H$1:H952)+1,0)","v":0}]
[null,null,null,null,null,{"$f":"IF(COUNTIF(BD!$B$2:B954,BD!B954)=1,MAX($F$1:F953)+1,\"\")","v":""},null,{"$f":"IF(AND(BD!B954=REF,BD!D954>=DEB,BD!D954<=FIN),MAX(calc!$H$1:H953)+1,0)","v":0}]
[null,null,null,null,null,{"$f":"IF(COUNTIF(BD!$B$2:B955,BD!B955)=1,MAX($F$1:F954)+1,\"\")","v":""},null,{"$f":"IF(AND(BD!B955=REF,BD!D955>=DEB,BD!D955<=FIN),MAX(calc!$H$1:H954)+1,0)","v":0}]
[null,null,null,null,null,{"$f":"IF(COUNTIF(BD!$B$2:B956,BD!B956)=1,MAX($F$1:F955)+1,\"\")","v":""},null,{"$f":"IF(AND(BD!B956=REF,BD!D956>=DEB,BD!D956<=FIN),MAX(calc!$H$1:H955)+1,0)","v":0}]
[null,null,null,null,null,{"$f":"IF(COUNTIF(BD!$B$2:B957,BD!B957)=1,MAX($F$1:F956)+1,\"\")","v":""},null,{"$f":"IF(AND(BD!B957=REF,BD!D957>=DEB,BD!D957<=FIN),MAX(calc!$H$1:H956)+1,0)","v":0}]
[null,null,null,null,null,{"$f":"IF(COUNTIF(BD!$B$2:B958,BD!B958)=1,MAX($F$1:F957)+1,\"\")","v":""},null,{"$f":"IF(AND(BD!B958=REF,BD!D958>=DEB,BD!D958<=FIN),MAX(calc!$H$1:H957)+1,0)","v":0}]
[null,null,null,null,null,{"$f":"IF(COUNTIF(BD!$B$2:B959,BD!B959)=1,MAX($F$1:F958)+1,\"\")","v":""},null,{"$f":"IF(AND(BD!B959=REF,BD!D959>=DEB,BD!D959<=FIN),MAX(calc!$H$1:H958)+1,0)","v":0}]
[null,null,null,null,null,{"$f":"IF(COUNTIF(BD!$B$2:B960,BD!B960)=1,MAX($F$1:F959)+1,\"\")","v":""},null,{"$f":"IF(AND(BD!B960=REF,BD!D960>=DEB,BD!D960<=FIN),MAX(calc!$H$1:H959)+1,0)","v":0}]
[null,null,null,null,null,{"$f":"IF(COUNTIF(BD!$B$2:B961,BD!B961)=1,MAX($F$1:F960)+1,\"\")","v":""},null,{"$f":"IF(AND(BD!B961=REF,BD!D961>=DEB,BD!D961<=FIN),MAX(calc!$H$1:H960)+1,0)","v":0}]
[null,null,null,null,null,{"$f":"IF(COUNTIF(BD!$B$2:B962,BD!B962)=1,MAX($F$1:F961)+1,\"\")","v":""},null,{"$f":"IF(AND(BD!B962=REF,BD!D962>=DEB,BD!D962<=FIN),MAX(calc!$H$1:H961)+1,0)","v":0}]
[null,null,null,null,null,{"$f":"IF(COUNTIF(BD!$B$2:B963,BD!B963)=1,MAX($F$1:F962)+1,\"\")","v":""},null,{"$f":"IF(AND(BD!B963=REF,BD!D963>=DEB,BD!D963<=FIN),MAX(calc!$H$1:H962)+1,0)","v":0}]
[null,null,null,null,null,{"$f":"IF(COUNTIF(BD!$B$2:B964,BD!B964)=1,MAX($F$1:F963)+1,\"\")","v":""},null,{"$f":"IF(AND(BD!B964=REF,BD!D964>=DEB,BD!D964<=FIN),MAX(calc!$H$1:H963)+1,0)","v":0}]
[null,null,null,null,null,{"$f":"IF(COUNTIF(BD!$B$2:B965,BD!B965)=1,MAX($F$1:F964)+1,\"\")","v":""},null,{"$f":"IF(AND(BD!B965=REF,BD!D965>=DEB,BD!D965<=FIN),MAX(calc!$H$1:H964)+1,0)","v":0}]
[null,null,null,null,null,{"$f":"IF(COUNTIF(BD!$B$2:B966,BD!B966)=1,MAX($F$1:F965)+1,\"\")","v":""},null,{"$f":"IF(AND(BD!B966=REF,BD!D966>=DEB,BD!D966<=FIN),MAX(calc!$H$1:H965)+1,0)","v":0}]
[null,null,null,null,null,{"$f":"IF(COUNTIF(BD!$B$2:B967,BD!B967)=1,MAX($F$1:F966)+1,\"\")","v":""},null,{"$f":"IF(AND(BD!B967=REF,BD!D967>=DEB,BD!D967<=FIN),MAX(calc!$H$1:H966)+1,0)","v":0}]
[null,null,null,null,null,{"$f":"IF(COUNTIF(BD!$B$2:B968,BD!B968)=1,MAX($F$1:F967)+1,\"\")","v":""},null,{"$f":"IF(AND(BD!B968=REF,BD!D968>=DEB,BD!D968<=FIN),MAX(calc!$H$1:H967)+1,0)","v":0}]
[null,null,null,null,null,{"$f":"IF(COUNTIF(BD!$B$2:B969,BD!B969)=1,MAX($F$1:F968)+1,\"\")","v":""},null,{"$f":"IF(AND(BD!B969=REF,BD!D969>=DEB,BD!D969<=FIN),MAX(calc!$H$1:H968)+1,0)","v":0}]
[null,null,null,null,null,{"$f":"IF(COUNTIF(BD!$B$2:B970,BD!B970)=1,MAX($F$1:F969)+1,\"\")","v":""},null,{"$f":"IF(AND(BD!B970=REF,BD!D970>=DEB,BD!D970<=FIN),MAX(calc!$H$1:H969)+1,0)","v":0}]
[null,null,null,null,null,{"$f":"IF(COUNTIF(BD!$B$2:B971,BD!B971)=1,MAX($F$1:F970)+1,\"\")","v":""},null,{"$f":"IF(AND(BD!B971=REF,BD!D971>=DEB,BD!D971<=FIN),MAX(calc!$H$1:H970)+1,0)","v":0}]
[null,null,null,null,null,{"$f":"IF(COUNTIF(BD!$B$2:B972,BD!B972)=1,MAX($F$1:F971)+1,\"\")","v":""},null,{"$f":"IF(AND(BD!B972=REF,BD!D972>=DEB,BD!D972<=FIN),MAX(calc!$H$1:H971)+1,0)","v":0}]
[null,null,null,null,null,{"$f":"IF(COUNTIF(BD!$B$2:B973,BD!B973)=1,MAX($F$1:F972)+1,\"\")","v":""},null,{"$f":"IF(AND(BD!B973=REF,BD!D973>=DEB,BD!D973<=FIN),MAX(calc!$H$1:H972)+1,0)","v":0}]
[null,null,null,null,null,{"$f":"IF(COUNTIF(BD!$B$2:B974,BD!B974)=1,MAX($F$1:F973)+1,\"\")","v":""},null,{"$f":"IF(AND(BD!B974=REF,BD!D974>=DEB,BD!D974<=FIN),MAX(calc!$H$1:H973)+1,0)","v":0}]
[null,null,null,null,null,{"$f":"IF(COUNTIF(BD!$B$2:B975,BD!B975)=1,MAX($F$1:F974)+1,\"\")","v":""},null,{"$f":"IF(AND(BD!B975=REF,BD!D975>=DEB,BD!D975<=FIN),MAX(calc!$H$1:H974)+1,0)","v":0}]
[null,null,null,null,null,{"$f":"IF(COUNTIF(BD!$B$2:B976,BD!B976)=1,MAX($F$1:F975)+1,\"\")","v":""},null,{"$f":"IF(AND(BD!B976=REF,BD!D976>=DEB,BD!D976<=FIN),MAX(calc!$H$1:H975)+1,0)","v":0}]
[null,null,null,null,null,{"$f":"IF(COUNTIF(BD!$B$2:B977,BD!B977)=1,MAX($F$1:F976)+1,\"\")","v":""},null,{"$f":"IF(AND(BD!B977=REF,BD!D977>=DEB,BD!D977<=FIN),MAX(calc!$H$1:H976)+1,0)","v":0}]
[null,null,null,null,null,{"$f":"IF(COUNTIF(BD!$B$2:B978,BD!B978)=1,MAX($F$1:F977)+1,\"\")","v":""},null,{"$f":"IF(AND(BD!B978=REF,BD!D978>=DEB,BD!D978<=FIN),MAX(calc!$H$1:H977)+1,0)","v":0}]
[null,null,null,null,null,{"$f":"IF(COUNTIF(BD!$B$2:B979,BD!B979)=1,MAX($F$1:F978)+1,\"\")","v":""},null,{"$f":"IF(AND(BD!B979=REF,BD!D979>=DEB,BD!D979<=FIN),MAX(calc!$H$1:H978)+1,0)","v":0}]
[null,null,null,null,null,{"$f":"IF(COUNTIF(BD!$B$2:B980,BD!B980)=1,MAX($F$1:F979)+1,\"\")","v":""},null,{"$f":"IF(AND(BD!B980=REF,BD!D980>=DEB,BD!D980<=FIN),MAX(calc!$H$1:H979)+1,0)","v":0}]
[null,null,null,null,null,{"$f":"IF(COUNTIF(BD!$B$2:B981,BD!B981)=1,MAX($F$1:F980)+1,\"\")","v":""},null,{"$f":"IF(AND(BD!B981=REF,BD!D981>=DEB,BD!D981<=FIN),MAX(calc!$H$1:H980)+1,0)","v":0}]
[null,null,null,null,null,{"$f":"IF(COUNTIF(BD!$B$2:B982,BD!B982)=1,MAX($F$1:F981)+1,\"\")","v":""},null,{"$f":"IF(AND(BD!B982=REF,BD!D982>=DEB,BD!D982<=FIN),MAX(calc!$H$1:H981)+1,0)","v":0}]
[null,null,null,null,null,{"$f":"IF(COUNTIF(BD!$B$2:B983,BD!B983)=1,MAX($F$1:F982)+1,\"\")","v":""},null,{"$f":"IF(AND(BD!B983=REF,BD!D983>=DEB,BD!D983<=FIN),MAX(calc!$H$1:H982)+1,0)","v":0}]
[null,null,null,null,null,{"$f":"IF(COUNTIF(BD!$B$2:B984,BD!B984)=1,MAX($F$1:F983)+1,\"\")","v":""},null,{"$f":"IF(AND(BD!B984=REF,BD!D984>=DEB,BD!D984<=FIN),MAX(calc!$H$1:H983)+1,0)","v":0}]
[null,null,null,null,null,{"$f":"IF(COUNTIF(BD!$B$2:B985,BD!B985)=1,MAX($F$1:F984)+1,\"\")","v":""},null,{"$f":"IF(AND(BD!B985=REF,BD!D985>=DEB,BD!D985<=FIN),MAX(calc!$H$1:H984)+1,0)","v":0}]
[null,null,null,null,null,{"$f":"IF(COUNTIF(BD!$B$2:B986,BD!B986)=1,MAX($F$1:F985)+1,\"\")","v":""},null,{"$f":"IF(AND(BD!B986=REF,BD!D986>=DEB,BD!D986<=FIN),MAX(calc!$H$1:H985)+1,0)","v":0}]
[null,null,null,null,null,{"$f":"IF(COUNTIF(BD!$B$2:B987,BD!B987)=1,MAX($F$1:F986)+1,\"\")","v":""},null,{"$f":"IF(AND(BD!B987=REF,BD!D987>=DEB,BD!D987<=FIN),MAX(calc!$H$1:H986)+1,0)","v":0}]
[null,null,null,null,null,{"$f":"IF(COUNTIF(BD!$B$2:B988,BD!B988)=1,MAX($F$1:F987)+1,\"\")","v":""},null,{"$f":"IF(AND(BD!B988=REF,BD!D988>=DEB,BD!D988<=FIN),MAX(calc!$H$1:H987)+1,0)","v":0}]
[null,null,null,null,null,{"$f":"IF(COUNTIF(BD!$B$2:B989,BD!B989)=1,MAX($F$1:F988)+1,\"\")","v":""},null,{"$f":"IF(AND(BD!B989=REF,BD!D989>=DEB,BD!D989<=FIN),MAX(calc!$H$1:H988)+1,0)","v":0}]
[null,null,null,null,null,{"$f":"IF(COUNTIF(BD!$B$2:B990,BD!B990)=1,MAX($F$1:F989)+1,\"\")","v":""},null,{"$f":"IF(AND(BD!B990=REF,BD!D990>=DEB,BD!D990<=FIN),MAX(calc!$H$1:H989)+1,0)","v":0}]
[null,null,null,null,null,{"$f":"IF(COUNTIF(BD!$B$2:B991,BD!B991)=1,MAX($F$1:F990)+1,\"\")","v":""},null,{"$f":"IF(AND(BD!B991=REF,BD!D991>=DEB,BD!D991<=FIN),MAX(calc!$H$1:H990)+1,0)","v":0}]
[null,null,null,null,null,{"$f":"IF(COUNTIF(BD!$B$2:B992,BD!B992)=1,MAX($F$1:F991)+1,\"\")","v":""},null,{"$f":"IF(AND(BD!B992=REF,BD!D992>=DEB,BD!D992<=FIN),MAX(calc!$H$1:H991)+1,0)","v":0}]
[null,null,null,null,null,{"$f":"IF(COUNTIF(BD!$B$2:B993,BD!B993)=1,MAX($F$1:F992)+1,\"\")","v":""},null,{"$f":"IF(AND(BD!B993=REF,BD!D993>=DEB,BD!D993<=FIN),MAX(calc!$H$1:H992)+1,0)","v":0}]
[null,null,null,null,null,{"$f":"IF(COUNTIF(BD!$B$2:B994,BD!B994)=1,MAX($F$1:F993)+1,\"\")","v":""},null,{"$f":"IF(AND(BD!B994=REF,BD!D994>=DEB,BD!D994<=FIN),MAX(calc!$H$1:H993)+1,0)","v":0}]
[null,null,null,null,null,{"$f":"IF(COUNTIF(BD!$B$2:B995,BD!B995)=1,MAX($F$1:F994)+1,\"\")","v":""},null,{"$f":"IF(AND(BD!B995=REF,BD!D995>=DEB,BD!D995<=FIN),MAX(calc!$H$1:H994)+1,0)","v":0}]
[null,null,null,null,null,{"$f":"IF(COUNTIF(BD!$B$2:B996,BD!B996)=1,MAX($F$1:F995)+1,\"\")","v":""},null,{"$f":"IF(AND(BD!B996=REF,BD!D996>=DEB,BD!D996<=FIN),MAX(calc!$H$1:H995)+1,0)","v":0}]
[null,null,null,null,null,{"$f":"IF(COUNTIF(BD!$B$2:B997,BD!B997)=1,MAX($F$1:F996)+1,\"\")","v":""},null,{"$f":"IF(AND(BD!B997=REF,BD!D997>=DEB,BD!D997<=FIN),MAX(calc!$H$1:H996)+1,0)","v":0}]
[null,null,null,null,null,{"$f":"IF(COUNTIF(BD!$B$2:B998,BD!B998)=1,MAX($F$1:F997)+1,\"\")","v":""},null,{"$f":"IF(AND(BD!B998=REF,BD!D998>=DEB,BD!D998<=FIN),MAX(calc!$H$1:H997)+1,0)","v":0}]
[null,null,null,null,null,{"$f":"IF(COUNTIF(BD!$B$2:B999,BD!B999)=1,MAX($F$1:F998)+1,\"\")","v":""},null,{"$f":"IF(AND(BD!B999=REF,BD!D999>=DEB,BD!D999<=FIN),MAX(calc!$H$1:H998)+1,0)","v":0}]
[null,null,null,null,null,{"$f":"IF(COUNTIF(BD!$B$2:B1000,BD!B1000)=1,MAX($F$1:F999)+1,\"\")","v":""},null,{"$f":"IF(AND(BD!B1000=REF,BD!D1000>=DEB,BD!D1000<=FIN),MAX(calc!$H$1:H999)+1,0)","v":0}]
[null,null,null,null,null,{"$f":"IF(COUNTIF(BD!$B$2:B1001,BD!B1001)=1,MAX($F$1:F1000)+1,\"\")","v":""},null,{"$f":"IF(AND(BD!B1001=REF,BD!D1001>=DEB,BD!D1001<=FIN),MAX(calc!$H$1:H1000)+1,0)","v":0}]
[null,null,null,null,null,{"$f":"IF(COUNTIF(BD!$B$2:B1002,BD!B1002)=1,MAX($F$1:F1001)+1,\"\")","v":""},null,{"$f":"IF(AND(BD!B1002=REF,BD!D1002>=DEB,BD!D1002<=FIN),MAX(calc!$H$1:H1001)+1,0)","v":0}]
[null,null,null,null,null,{"$f":"IF(COUNTIF(BD!$B$2:B1003,BD!B1003)=1,MAX($F$1:F1002)+1,\"\")","v":""},null,{"$f":"IF(AND(BD!B1003=REF,BD!D1003>=DEB,BD!D1003<=FIN),MAX(calc!$H$1:H1002)+1,0)","v":0}]
[null,null,null,null,null,{"$f":"IF(COUNTIF(BD!$B$2:B1004,BD!B1004)=1,MAX($F$1:F1003)+1,\"\")","v":""},null,{"$f":"IF(AND(BD!B1004=REF,BD!D1004>=DEB,BD!D1004<=FIN),MAX(calc!$H$1:H1003)+1,0)","v":0}]
[null,null,null,null,null,{"$f":"IF(COUNTIF(BD!$B$2:B1005,BD!B1005)=1,MAX($F$1:F1004)+1,\"\")","v":""},null,{"$f":"IF(AND(BD!B1005=REF,BD!D1005>=DEB,BD!D1005<=FIN),MAX(calc!$H$1:H1004)+1,0)","v":0}]
[null,null,null,null,null,{"$f":"IF(COUNTIF(BD!$B$2:B1006,BD!B1006)=1,MAX($F$1:F1005)+1,\"\")","v":""},null,{"$f":"IF(AND(BD!B1006=REF,BD!D1006>=DEB,BD!D1006<=FIN),MAX(calc!$H$1:H1005)+1,0)","v":0}]
[null,null,null,null,null,{"$f":"IF(COUNTIF(BD!$B$2:B1007,BD!B1007)=1,MAX($F$1:F1006)+1,\"\")","v":""},null,{"$f":"IF(AND(BD!B1007=REF,BD!D1007>=DEB,BD!D1007<=FIN),MAX(calc!$H$1:H1006)+1,0)","v":0}]
[null,null,null,null,null,{"$f":"IF(COUNTIF(BD!$B$2:B1008,BD!B1008)=1,MAX($F$1:F1007)+1,\"\")","v":""},null,{"$f":"IF(AND(BD!B1008=REF,BD!D1008>=DEB,BD!D1008<=FIN),MAX(calc!$H$1:H1007)+1,0)","v":0}]
[null,null,null,null,null,{"$f":"IF(COUNTIF(BD!$B$2:B1009,BD!B1009)=1,MAX($F$1:F1008)+1,\"\")","v":""},null,{"$f":"IF(AND(BD!B1009=REF,BD!D1009>=DEB,BD!D1009<=FIN),MAX(calc!$H$1:H1008)+1,0)","v":0}]
[null,null,null,null,null,{"$f":"IF(COUNTIF(BD!$B$2:B1010,BD!B1010)=1,MAX($F$1:F1009)+1,\"\")","v":""},null,{"$f":"IF(AND(BD!B1010=REF,BD!D1010>=DEB,BD!D1010<=FIN),MAX(calc!$H$1:H1009)+1,0)","v":0}]
[null,null,null,null,null,{"$f":"IF(COUNTIF(BD!$B$2:B1011,BD!B1011)=1,MAX($F$1:F1010)+1,\"\")","v":""},null,{"$f":"IF(AND(BD!B1011=REF,BD!D1011>=DEB,BD!D1011<=FIN),MAX(calc!$H$1:H1010)+1,0)","v":0}]
[null,null,null,null,null,{"$f":"IF(COUNTIF(BD!$B$2:B1012,BD!B1012)=1,MAX($F$1:F1011)+1,\"\")","v":""},null,{"$f":"IF(AND(BD!B1012=REF,BD!D1012>=DEB,BD!D1012<=FIN),MAX(calc!$H$1:H1011)+1,0)","v":0}]
[null,null,null,null,null,{"$f":"IF(COUNTIF(BD!$B$2:B1013,BD!B1013)=1,MAX($F$1:F1012)+1,\"\")","v":""},null,{"$f":"IF(AND(BD!B1013=REF,BD!D1013>=DEB,BD!D1013<=FIN),MAX(calc!$H$1:H1012)+1,0)","v":0}]
[null,null,null,null,null,{"$f":"IF(COUNTIF(BD!$B$2:B1014,BD!B1014)=1,MAX($F$1:F1013)+1,\"\")","v":""},null,{"$f":"IF(AND(BD!B1014=REF,BD!D1014>=DEB,BD!D1014<=FIN),MAX(calc!$H$1:H1013)+1,0)","v":0}]
[null,null,null,null,null,{"$f":"IF(COUNTIF(BD!$B$2:B1015,BD!B1015)=1,MAX($F$1:F1014)+1,\"\")","v":""},null,{"$f":"IF(AND(BD!B1015=REF,BD!D1015>=DEB,BD!D1015<=FIN),MAX(calc!$H$1:H1014)+1,0)","v":0}]
[null,null,null,null,null,{"$f":"IF(COUNTIF(BD!$B$2:B1016,BD!B1016)=1,MAX($F$1:F1015)+1,\"\")","v":""},null,{"$f":"IF(AND(BD!B1016=REF,BD!D1016>=DEB,BD!D1016<=FIN),MAX(calc!$H$1:H1015)+1,0)","v":0}]
[null,null,null,null,null,{"$f":"IF(COUNTIF(BD!$B$2:B1017,BD!B1017)=1,MAX($F$1:F1016)+1,\"\")","v":""},null,{"$f":"IF(AND(BD!B1017=REF,BD!D1017>=DEB,BD!D1017<=FIN),MAX(calc!$H$1:H1016)+1,0)","v":0}]
[null,null,null,null,null,{"$f":"IF(COUNTIF(BD!$B$2:B1018,BD!B1018)=1,MAX($F$1:F1017)+1,\"\")","v":""},null,{"$f":"IF(AND(BD!B1018=REF,BD!D1018>=DEB,BD!D1018<=FIN),MAX(calc!$H$1:H1017)+1,0)","v":0}]
[null,null,null,null,null,{"$f":"IF(COUNTIF(BD!$B$2:B1019,BD!B1019)=1,MAX($F$1:F1018)+1,\"\")","v":""},null,{"$f":"IF(AND(BD!B1019=REF,BD!D1019>=DEB,BD!D1019<=FIN),MAX(calc!$H$1:H1018)+1,0)","v":0}]
[null,null,null,null,null,{"$f":"IF(COUNTIF(BD!$B$2:B1020,BD!B1020)=1,MAX($F$1:F1019)+1,\"\")","v":""},null,{"$f":"IF(AND(BD!B1020=REF,BD!D1020>=DEB,BD!D1020<=FIN),MAX(calc!$H$1:H1019)+1,0)","v":0}]
[null,null,null,null,null,{"$f":"IF(COUNTIF(BD!$B$2:B1021,BD!B1021)=1,MAX($F$1:F1020)+1,\"\")","v":""},null,{"$f":"IF(AND(BD!B1021=REF,BD!D1021>=DEB,BD!D1021<=FIN),MAX(calc!$H$1:H1020)+1,0)","v":0}]
[null,null,null,null,null,{"$f":"IF(COUNTIF(BD!$B$2:B1022,BD!B1022)=1,MAX($F$1:F1021)+1,\"\")","v":""},null,{"$f":"IF(AND(BD!B1022=REF,BD!D1022>=DEB,BD!D1022<=FIN),MAX(calc!$H$1:H1021)+1,0)","v":0}]
[null,null,null,null,null,{"$f":"IF(COUNTIF(BD!$B$2:B1023,BD!B1023)=1,MAX($F$1:F1022)+1,\"\")","v":""},null,{"$f":"IF(AND(BD!B1023=REF,BD!D1023>=DEB,BD!D1023<=FIN),MAX(calc!$H$1:H1022)+1,0)","v":0}]
[null,null,null,null,null,{"$f":"IF(COUNTIF(BD!$B$2:B1024,BD!B1024)=1,MAX($F$1:F1023)+1,\"\")","v":""},null,{"$f":"IF(AND(BD!B1024=REF,BD!D1024>=DEB,BD!D1024<=FIN),MAX(calc!$H$1:H1023)+1,0)","v":0}]
[null,null,null,null,null,{"$f":"IF(COUNTIF(BD!$B$2:B1025,BD!B1025)=1,MAX($F$1:F1024)+1,\"\")","v":""},null,{"$f":"IF(AND(BD!B1025=REF,BD!D1025>=DEB,BD!D1025<=FIN),MAX(calc!$H$1:H1024)+1,0)","v":0}]
[null,null,null,null,null,{"$f":"IF(COUNTIF(BD!$B$2:B1026,BD!B1026)=1,MAX($F$1:F1025)+1,\"\")","v":""},null,{"$f":"IF(AND(BD!B1026=REF,BD!D1026>=DEB,BD!D1026<=FIN),MAX(calc!$H$1:H1025)+1,0)","v":0}]
[null,null,null,null,null,{"$f":"IF(COUNTIF(BD!$B$2:B1027,BD!B1027)=1,MAX($F$1:F1026)+1,\"\")","v":""},null,{"$f":"IF(AND(BD!B1027=REF,BD!D1027>=DEB,BD!D1027<=FIN),MAX(calc!$H$1:H1026)+1,0)","v":0}]
[null,null,null,null,null,{"$f":"IF(COUNTIF(BD!$B$2:B1028,BD!B1028)=1,MAX($F$1:F1027)+1,\"\")","v":""},null,{"$f":"IF(AND(BD!B1028=REF,BD!D1028>=DEB,BD!D1028<=FIN),MAX(calc!$H$1:H1027)+1,0)","v":0}]
[null,null,null,null,null,{"$f":"IF(COUNTIF(BD!$B$2:B1029,BD!B1029)=1,MAX($F$1:F1028)+1,\"\")","v":""},null,{"$f":"IF(AND(BD!B1029=REF,BD!D1029>=DEB,BD!D1029<=FIN),MAX(calc!$H$1:H1028)+1,0)","v":0}]
[null,null,null,null,null,{"$f":"IF(COUNTIF(BD!$B$2:B1030,BD!B1030)=1,MAX($F$1:F1029)+1,\"\")","v":""},null,{"$f":"IF(AND(BD!B1030=REF,BD!D1030>=DEB,BD!D1030<=FIN),MAX(calc!$H$1:H1029)+1,0)","v":0}]
[null,null,null,null,null,{"$f":"IF(COUNTIF(BD!$B$2:B1031,BD!B1031)=1,MAX($F$1:F1030)+1,\"\")","v":""},null,{"$f":"IF(AND(BD!B1031=REF,BD!D1031>=DEB,BD!D1031<=FIN),MAX(calc!$H$1:H1030)+1,0)","v":0}]
[null,null,null,null,null,{"$f":"IF(COUNTIF(BD!$B$2:B1032,BD!B1032)=1,MAX($F$1:F1031)+1,\"\")","v":""},null,{"$f":"IF(AND(BD!B1032=REF,BD!D1032>=DEB,BD!D1032<=FIN),MAX(calc!$H$1:H1031)+1,0)","v":0}]
[null,null,null,null,null,{"$f":"IF(COUNTIF(BD!$B$2:B1033,BD!B1033)=1,MAX($F$1:F1032)+1,\"\")","v":""},null,{"$f":"IF(AND(BD!B1033=REF,BD!D1033>=DEB,BD!D1033<=FIN),MAX(calc!$H$1:H1032)+1,0)","v":0}]
[null,null,null,null,null,{"$f":"IF(COUNTIF(BD!$B$2:B1034,BD!B1034)=1,MAX($F$1:F1033)+1,\"\")","v":""},null,{"$f":"IF(AND(BD!B1034=REF,BD!D1034>=DEB,BD!D1034<=FIN),MAX(calc!$H$1:H1033)+1,0)","v":0}]
[null,null,null,null,null,{"$f":"IF(COUNTIF(BD!$B$2:B1035,BD!B1035)=1,MAX($F$1:F1034)+1,\"\")","v":""},null,{"$f":"IF(AND(BD!B1035=REF,BD!D1035>=DEB,BD!D1035<=FIN),MAX(calc!$H$1:H1034)+1,0)","v":0}]
[null,null,null,null,null,{"$f":"IF(COUNTIF(BD!$B$2:B1036,BD!B1036)=1,MAX($F$1:F1035)+1,\"\")","v":""},null,{"$f":"IF(AND(BD!B1036=REF,BD!D1036>=DEB,BD!D1036<=FIN),MAX(calc!$H$1:H1035)+1,0)","v":0}]
[null,null,null,null,null,{"$f":"IF(COUNTIF(BD!$B$2:B1037,BD!B1037)=1,MAX($F$1:F1036)+1,\"\")","v":""},null,{"$f":"IF(AND(BD!B1037=REF,BD!D1037>=DEB,BD!D1037<=FIN),MAX(calc!$H$1:H1036)+1,0)","v":0}]
[null,null,null,null,null,{"$f":"IF(COUNTIF(BD!$B$2:B1038,BD!B1038)=1,MAX($F$1:F1037)+1,\"\")","v":""},null,{"$f":"IF(AND(BD!B1038=REF,BD!D1038>=DEB,BD!D1038<=FIN),MAX(calc!$H$1:H1037)+1,0)","v":0}]
[null,null,null,null,null,{"$f":"IF(COUNTIF(BD!$B$2:B1039,BD!B1039)=1,MAX($F$1:F1038)+1,\"\")","v":""},null,{"$f":"IF(AND(BD!B1039=REF,BD!D1039>=DEB,BD!D1039<=FIN),MAX(calc!$H$1:H1038)+1,0)","v":0}]
[null,null,null,null,null,{"$f":"IF(COUNTIF(BD!$B$2:B1040,BD!B1040)=1,MAX($F$1:F1039)+1,\"\")","v":""},null,{"$f":"IF(AND(BD!B1040=REF,BD!D1040>=DEB,BD!D1040<=FIN),MAX(calc!$H$1:H1039)+1,0)","v":0}]
[null,null,null,null,null,{"$f":"IF(COUNTIF(BD!$B$2:B1041,BD!B1041)=1,MAX($F$1:F1040)+1,\"\")","v":""},null,{"$f":"IF(AND(BD!B1041=REF,BD!D1041>=DEB,BD!D1041<=FIN),MAX(calc!$H$1:H1040)+1,0)","v":0}]
[null,null,null,null,null,{"$f":"IF(COUNTIF(BD!$B$2:B1042,BD!B1042)=1,MAX($F$1:F1041)+1,\"\")","v":""},null,{"$f":"IF(AND(BD!B1042=REF,BD!D1042>=DEB,BD!D1042<=FIN),MAX(calc!$H$1:H1041)+1,0)","v":0}]
[null,null,null,null,null,{"$f":"IF(COUNTIF(BD!$B$2:B1043,BD!B1043)=1,MAX($F$1:F1042)+1,\"\")","v":""},null,{"$f":"IF(AND(BD!B1043=REF,BD!D1043>=DEB,BD!D1043<=FIN),MAX(calc!$H$1:H1042)+1,0)","v":0}]
[null,null,null,null,null,{"$f":"IF(COUNTIF(BD!$B$2:B1044,BD!B1044)=1,MAX($F$1:F1043)+1,\"\")","v":""},null,{"$f":"IF(AND(BD!B1044=REF,BD!D1044>=DEB,BD!D1044<=FIN),MAX(calc!$H$1:H1043)+1,0)","v":0}]
[null,null,null,null,null,{"$f":"IF(COUNTIF(BD!$B$2:B1045,BD!B1045)=1,MAX($F$1:F1044)+1,\"\")","v":""},null,{"$f":"IF(AND(BD!B1045=REF,BD!D1045>=DEB,BD!D1045<=FIN),MAX(calc!$H$1:H1044)+1,0)","v":0}]
[null,null,null,null,null,{"$f":"IF(COUNTIF(BD!$B$2:B1046,BD!B1046)=1,MAX($F$1:F1045)+1,\"\")","v":""},null,{"$f":"IF(AND(BD!B1046=REF,BD!D1046>=DEB,BD!D1046<=FIN),MAX(calc!$H$1:H1045)+1,0)","v":0}]
[null,null,null,null,null,{"$f":"IF(COUNTIF(BD!$B$2:B1047,BD!B1047)=1,MAX($F$1:F1046)+1,\"\")","v":""},null,{"$f":"IF(AND(BD!B1047=REF,BD!D1047>=DEB,BD!D1047<=FIN),MAX(calc!$H$1:H1046)+1,0)","v":0}]
[null,null,null,null,null,{"$f":"IF(COUNTIF(BD!$B$2:B1048,BD!B1048)=1,MAX($F$1:F1047)+1,\"\")","v":""},null,{"$f":"IF(AND(BD!B1048=REF,BD!D1048>=DEB,BD!D1048<=FIN),MAX(calc!$H$1:H1047)+1,0)","v":0}]
[null,null,null,null,null,{"$f":"IF(COUNTIF(BD!$B$2:B1049,BD!B1049)=1,MAX($F$1:F1048)+1,\"\")","v":""},null,{"$f":"IF(AND(BD!B1049=REF,BD!D1049>=DEB,BD!D1049<=FIN),MAX(calc!$H$1:H1048)+1,0)","v":0}]
[null,null,null,null,null,{"$f":"IF(COUNTIF(BD!$B$2:B1050,BD!B1050)=1,MAX($F$1:F1049)+1,\"\")","v":""},null,{"$f":"IF(AND(BD!B1050=REF,BD!D1050>=DEB,BD!D1050<=FIN),MAX(calc!$H$1:H1049)+1,0)","v":0}]
[null,null,null,null,null,{"$f":"IF(COUNTIF(BD!$B$2:B1051,BD!B1051)=1,MAX($F$1:F1050)+1,\"\")","v":""},null,{"$f":"IF(AND(BD!B1051=REF,BD!D1051>=DEB,BD!D1051<=FIN),MAX(calc!$H$1:H1050)+1,0)","v":0}]
[null,null,null,null,null,{"$f":"IF(COUNTIF(BD!$B$2:B1052,BD!B1052)=1,MAX($F$1:F1051)+1,\"\")","v":""},null,{"$f":"IF(AND(BD!B1052=REF,BD!D1052>=DEB,BD!D1052<=FIN),MAX(calc!$H$1:H1051)+1,0)","v":0}]
[null,null,null,null,null,{"$f":"IF(COUNTIF(BD!$B$2:B1053,BD!B1053)=1,MAX($F$1:F1052)+1,\"\")","v":""},null,{"$f":"IF(AND(BD!B1053=REF,BD!D1053>=DEB,BD!D1053<=FIN),MAX(calc!$H$1:H1052)+1,0)","v":0}]
[null,null,null,null,null,{"$f":"IF(COUNTIF(BD!$B$2:B1054,BD!B1054)=1,MAX($F$1:F1053)+1,\"\")","v":""},null,{"$f":"IF(AND(BD!B1054=REF,BD!D1054>=DEB,BD!D1054<=FIN),MAX(calc!$H$1:H1053)+1,0)","v":0}]
[null,null,null,null,null,{"$f":"IF(COUNTIF(BD!$B$2:B1055,BD!B1055)=1,MAX($F$1:F1054)+1,\"\")","v":""},null,{"$f":"IF(AND(BD!B1055=REF,BD!D1055>=DEB,BD!D1055<=FIN),MAX(calc!$H$1:H1054)+1,0)","v":0}]
[null,null,null,null,null,{"$f":"IF(COUNTIF(BD!$B$2:B1056,BD!B1056)=1,MAX($F$1:F1055)+1,\"\")","v":""},null,{"$f":"IF(AND(BD!B1056=REF,BD!D1056>=DEB,BD!D1056<=FIN),MAX(calc!$H$1:H1055)+1,0)","v":0}]
[null,null,null,null,null,{"$f":"IF(COUNTIF(BD!$B$2:B1057,BD!B1057)=1,MAX($F$1:F1056)+1,\"\")","v":""},null,{"$f":"IF(AND(BD!B1057=REF,BD!D1057>=DEB,BD!D1057<=FIN),MAX(calc!$H$1:H1056)+1,0)","v":0}]
[null,null,null,null,null,{"$f":"IF(COUNTIF(BD!$B$2:B1058,BD!B1058)=1,MAX($F$1:F1057)+1,\"\")","v":""},null,{"$f":"IF(AND(BD!B1058=REF,BD!D1058>=DEB,BD!D1058<=FIN),MAX(calc!$H$1:H1057)+1,0)","v":0}]
[null,null,null,null,null,{"$f":"IF(COUNTIF(BD!$B$2:B1059,BD!B1059)=1,MAX($F$1:F1058)+1,\"\")","v":""},null,{"$f":"IF(AND(BD!B1059=REF,BD!D1059>=DEB,BD!D1059<=FIN),MAX(calc!$H$1:H1058)+1,0)","v":0}]
[null,null,null,null,null,{"$f":"IF(COUNTIF(BD!$B$2:B1060,BD!B1060)=1,MAX($F$1:F1059)+1,\"\")","v":""},null,{"$f":"IF(AND(BD!B1060=REF,BD!D1060>=DEB,BD!D1060<=FIN),MAX(calc!$H$1:H1059)+1,0)","v":0}]
[null,null,null,null,null,{"$f":"IF(COUNTIF(BD!$B$2:B1061,BD!B1061)=1,MAX($F$1:F1060)+1,\"\")","v":""},null,{"$f":"IF(AND(BD!B1061=REF,BD!D1061>=DEB,BD!D1061<=FIN),MAX(calc!$H$1:H1060)+1,0)","v":0}]
[null,null,null,null,null,{"$f":"IF(COUNTIF(BD!$B$2:B1062,BD!B1062)=1,MAX($F$1:F1061)+1,\"\")","v":""},null,{"$f":"IF(AND(BD!B1062=REF,BD!D1062>=DEB,BD!D1062<=FIN),MAX(calc!$H$1:H1061)+1,0)","v":0}]
[null,null,null,null,null,{"$f":"IF(COUNTIF(BD!$B$2:B1063,BD!B1063)=1,MAX($F$1:F1062)+1,\"\")","v":""},null,{"$f":"IF(AND(BD!B1063=REF,BD!D1063>=DEB,BD!D1063<=FIN),MAX(calc!$H$1:H1062)+1,0)","v":0}]
[null,null,null,null,null,{"$f":"IF(COUNTIF(BD!$B$2:B1064,BD!B1064)=1,MAX($F$1:F1063)+1,\"\")","v":""},null,{"$f":"IF(AND(BD!B1064=REF,BD!D1064>=DEB,BD!D1064<=FIN),MAX(calc!$H$1:H1063)+1,0)","v":0}]
[null,null,null,null,null,{"$f":"IF(COUNTIF(BD!$B$2:B1065,BD!B1065)=1,MAX($F$1:F1064)+1,\"\")","v":""},null,{"$f":"IF(AND(BD!B1065=REF,BD!D1065>=DEB,BD!D1065<=FIN),MAX(calc!$H$1:H1064)+1,0)","v":0}]
[null,null,null,null,null,{"$f":"IF(COUNTIF(BD!$B$2:B1066,BD!B1066)=1,MAX($F$1:F1065)+1,\"\")","v":""},null,{"$f":"IF(AND(BD!B1066=REF,BD!D1066>=DEB,BD!D1066<=FIN),MAX(calc!$H$1:H1065)+1,0)","v":0}]
[null,null,null,null,null,{"$f":"IF(COUNTIF(BD!$B$2:B1067,BD!B1067)=1,MAX($F$1:F1066)+1,\"\")","v":""},null,{"$f":"IF(AND(BD!B1067=REF,BD!D1067>=DEB,BD!D1067<=FIN),MAX(calc!$H$1:H1066)+1,0)","v":0}]
[null,null,null,null,null,{"$f":"IF(COUNTIF(BD!$B$2:B1068,BD!B1068)=1,MAX($F$1:F1067)+1,\"\")","v":""},null,{"$f":"IF(AND(BD!B1068=REF,BD!D1068>=DEB,BD!D1068<=FIN),MAX(calc!$H$1:H1067)+1,0)","v":0}]
[null,null,null,null,null,{"$f":"IF(COUNTIF(BD!$B$2:B1069,BD!B1069)=1,MAX($F$1:F1068)+1,\"\")","v":""},null,{"$f":"IF(AND(BD!B1069=REF,BD!D1069>=DEB,BD!D1069<=FIN),MAX(calc!$H$1:H1068)+1,0)","v":0}]
[null,null,null,null,null,{"$f":"IF(COUNTIF(BD!$B$2:B1070,BD!B1070)=1,MAX($F$1:F1069)+1,\"\")","v":""},null,{"$f":"IF(AND(BD!B1070=REF,BD!D1070>=DEB,BD!D1070<=FIN),MAX(calc!$H$1:H1069)+1,0)","v":0}]
[null,null,null,null,null,{"$f":"IF(COUNTIF(BD!$B$2:B1071,BD!B1071)=1,MAX($F$1:F1070)+1,\"\")","v":""},null,{"$f":"IF(AND(BD!B1071=REF,BD!D1071>=DEB,BD!D1071<=FIN),MAX(calc!$H$1:H1070)+1,0)","v":0}]
[null,null,null,null,null,{"$f":"IF(COUNTIF(BD!$B$2:B1072,BD!B1072)=1,MAX($F$1:F1071)+1,\"\")","v":""},null,{"$f":"IF(AND(BD!B1072=REF,BD!D1072>=DEB,BD!D1072<=FIN),MAX(calc!$H$1:H1071)+1,0)","v":0}]
[null,null,null,null,null,{"$f":"IF(COUNTIF(BD!$B$2:B1073,BD!B1073)=1,MAX($F$1:F1072)+1,\"\")","v":""},null,{"$f":"IF(AND(BD!B1073=REF,BD!D1073>=DEB,BD!D1073<=FIN),MAX(calc!$H$1:H1072)+1,0)","v":0}]
[null,null,null,null,null,{"$f":"IF(COUNTIF(BD!$B$2:B1074,BD!B1074)=1,MAX($F$1:F1073)+1,\"\")","v":""},null,{"$f":"IF(AND(BD!B1074=REF,BD!D1074>=DEB,BD!D1074<=FIN),MAX(calc!$H$1:H1073)+1,0)","v":0}]
[null,null,null,null,null,{"$f":"IF(COUNTIF(BD!$B$2:B1075,BD!B1075)=1,MAX($F$1:F1074)+1,\"\")","v":""},null,{"$f":"IF(AND(BD!B1075=REF,BD!D1075>=DEB,BD!D1075<=FIN),MAX(calc!$H$1:H1074)+1,0)","v":0}]
[null,null,null,null,null,{"$f":"IF(COUNTIF(BD!$B$2:B1076,BD!B1076)=1,MAX($F$1:F1075)+1,\"\")","v":""},null,{"$f":"IF(AND(BD!B1076=REF,BD!D1076>=DEB,BD!D1076<=FIN),MAX(calc!$H$1:H1075)+1,0)","v":0}]
[null,null,null,null,null,{"$f":"IF(COUNTIF(BD!$B$2:B1077,BD!B1077)=1,MAX($F$1:F1076)+1,\"\")","v":""},null,{"$f":"IF(AND(BD!B1077=REF,BD!D1077>=DEB,BD!D1077<=FIN),MAX(calc!$H$1:H1076)+1,0)","v":0}]
[null,null,null,null,null,{"$f":"IF(COUNTIF(BD!$B$2:B1078,BD!B1078)=1,MAX($F$1:F1077)+1,\"\")","v":""},null,{"$f":"IF(AND(BD!B1078=REF,BD!D1078>=DEB,BD!D1078<=FIN),MAX(calc!$H$1:H1077)+1,0)","v":0}]
[null,null,null,null,null,{"$f":"IF(COUNTIF(BD!$B$2:B1079,BD!B1079)=1,MAX($F$1:F1078)+1,\"\")","v":""},null,{"$f":"IF(AND(BD!B1079=REF,BD!D1079>=DEB,BD!D1079<=FIN),MAX(calc!$H$1:H1078)+1,0)","v":0}]
[null,null,null,null,null,{"$f":"IF(COUNTIF(BD!$B$2:B1080,BD!B1080)=1,MAX($F$1:F1079)+1,\"\")","v":""},null,{"$f":"IF(AND(BD!B1080=REF,BD!D1080>=DEB,BD!D1080<=FIN),MAX(calc!$H$1:H1079)+1,0)","v":0}]
[null,null,null,null,null,{"$f":"IF(COUNTIF(BD!$B$2:B1081,BD!B1081)=1,MAX($F$1:F1080)+1,\"\")","v":""},null,{"$f":"IF(AND(BD!B1081=REF,BD!D1081>=DEB,BD!D1081<=FIN),MAX(calc!$H$1:H1080)+1,0)","v":0}]
[null,null,null,null,null,{"$f":"IF(COUNTIF(BD!$B$2:B1082,BD!B1082)=1,MAX($F$1:F1081)+1,\"\")","v":""},null,{"$f":"IF(AND(BD!B1082=REF,BD!D1082>=DEB,BD!D1082<=FIN),MAX(calc!$H$1:H1081)+1,0)","v":0}]
[null,null,null,null,null,{"$f":"IF(COUNTIF(BD!$B$2:B1083,BD!B1083)=1,MAX($F$1:F1082)+1,\"\")","v":""},null,{"$f":"IF(AND(BD!B1083=REF,BD!D1083>=DEB,BD!D1083<=FIN),MAX(calc!$H$1:H1082)+1,0)","v":0}]
[null,null,null,null,null,{"$f":"IF(COUNTIF(BD!$B$2:B1084,BD!B1084)=1,MAX($F$1:F1083)+1,\"\")","v":""},null,{"$f":"IF(AND(BD!B1084=REF,BD!D1084>=DEB,BD!D1084<=FIN),MAX(calc!$H$1:H1083)+1,0)","v":0}]
[null,null,null,null,null,{"$f":"IF(COUNTIF(BD!$B$2:B1085,BD!B1085)=1,MAX($F$1:F1084)+1,\"\")","v":""},null,{"$f":"IF(AND(BD!B1085=REF,BD!D1085>=DEB,BD!D1085<=FIN),MAX(calc!$H$1:H1084)+1,0)","v":0}]
[null,null,null,null,null,{"$f":"IF(COUNTIF(BD!$B$2:B1086,BD!B1086)=1,MAX($F$1:F1085)+1,\"\")","v":""},null,{"$f":"IF(AND(BD!B1086=REF,BD!D1086>=DEB,BD!D1086<=FIN),MAX(calc!$H$1:H1085)+1,0)","v":0}]
[null,null,null,null,null,{"$f":"IF(COUNTIF(BD!$B$2:B1087,BD!B1087)=1,MAX($F$1:F1086)+1,\"\")","v":""},null,{"$f":"IF(AND(BD!B1087=REF,BD!D1087>=DEB,BD!D1087<=FIN),MAX(calc!$H$1:H1086)+1,0)","v":0}]
[null,null,null,null,null,{"$f":"IF(COUNTIF(BD!$B$2:B1088,BD!B1088)=1,MAX($F$1:F1087)+1,\"\")","v":""},null,{"$f":"IF(AND(BD!B1088=REF,BD!D1088>=DEB,BD!D1088<=FIN),MAX(calc!$H$1:H1087)+1,0)","v":0}]
[null,null,null,null,null,{"$f":"IF(COUNTIF(BD!$B$2:B1089,BD!B1089)=1,MAX($F$1:F1088)+1,\"\")","v":""},null,{"$f":"IF(AND(BD!B1089=REF,BD!D1089>=DEB,BD!D1089<=FIN),MAX(calc!$H$1:H1088)+1,0)","v":0}]
[null,null,null,null,null,{"$f":"IF(COUNTIF(BD!$B$2:B1090,BD!B1090)=1,MAX($F$1:F1089)+1,\"\")","v":""},null,{"$f":"IF(AND(BD!B1090=REF,BD!D1090>=DEB,BD!D1090<=FIN),MAX(calc!$H$1:H1089)+1,0)","v":0}]
[null,null,null,null,null,{"$f":"IF(COUNTIF(BD!$B$2:B1091,BD!B1091)=1,MAX($F$1:F1090)+1,\"\")","v":""},null,{"$f":"IF(AND(BD!B1091=REF,BD!D1091>=DEB,BD!D1091<=FIN),MAX(calc!$H$1:H1090)+1,0)","v":0}]
[null,null,null,null,null,{"$f":"IF(COUNTIF(BD!$B$2:B1092,BD!B1092)=1,MAX($F$1:F1091)+1,\"\")","v":""},null,{"$f":"IF(AND(BD!B1092=REF,BD!D1092>=DEB,BD!D1092<=FIN),MAX(calc!$H$1:H1091)+1,0)","v":0}]
[null,null,null,null,null,{"$f":"IF(COUNTIF(BD!$B$2:B1093,BD!B1093)=1,MAX($F$1:F1092)+1,\"\")","v":""},null,{"$f":"IF(AND(BD!B1093=REF,BD!D1093>=DEB,BD!D1093<=FIN),MAX(calc!$H$1:H1092)+1,0)","v":0}]
[null,null,null,null,null,{"$f":"IF(COUNTIF(BD!$B$2:B1094,BD!B1094)=1,MAX($F$1:F1093)+1,\"\")","v":""},null,{"$f":"IF(AND(BD!B1094=REF,BD!D1094>=DEB,BD!D1094<=FIN),MAX(calc!$H$1:H1093)+1,0)","v":0}]
[null,null,null,null,null,{"$f":"IF(COUNTIF(BD!$B$2:B1095,BD!B1095)=1,MAX($F$1:F1094)+1,\"\")","v":""},null,{"$f":"IF(AND(BD!B1095=REF,BD!D1095>=DEB,BD!D1095<=FIN),MAX(calc!$H$1:H1094)+1,0)","v":0}]
[null,null,null,null,null,{"$f":"IF(COUNTIF(BD!$B$2:B1096,BD!B1096)=1,MAX($F$1:F1095)+1,\"\")","v":""},null,{"$f":"IF(AND(BD!B1096=REF,BD!D1096>=DEB,BD!D1096<=FIN),MAX(calc!$H$1:H1095)+1,0)","v":0}]
[null,null,null,null,null,{"$f":"IF(COUNTIF(BD!$B$2:B1097,BD!B1097)=1,MAX($F$1:F1096)+1,\"\")","v":""},null,{"$f":"IF(AND(BD!B1097=REF,BD!D1097>=DEB,BD!D1097<=FIN),MAX(calc!$H$1:H1096)+1,0)","v":0}]
[null,null,null,null,null,{"$f":"IF(COUNTIF(BD!$B$2:B1098,BD!B1098)=1,MAX($F$1:F1097)+1,\"\")","v":""},null,{"$f":"IF(AND(BD!B1098=REF,BD!D1098>=DEB,BD!D1098<=FIN),MAX(calc!$H$1:H1097)+1,0)","v":0}]
[null,null,null,null,null,{"$f":"IF(COUNTIF(BD!$B$2:B1099,BD!B1099)=1,MAX($F$1:F1098)+1,\"\")","v":""},null,{"$f":"IF(AND(BD!B1099=REF,BD!D1099>=DEB,BD!D1099<=FIN),MAX(calc!$H$1:H1098)+1,0)","v":0}]
[null,null,null,null,null,{"$f":"IF(COUNTIF(BD!$B$2:B1100,BD!B1100)=1,MAX($F$1:F1099)+1,\"\")","v":""},null,{"$f":"IF(AND(BD!B1100=REF,BD!D1100>=DEB,BD!D1100<=FIN),MAX(calc!$H$1:H1099)+1,0)","v":0}]
[null,null,null,null,null,{"$f":"IF(COUNTIF(BD!$B$2:B1101,BD!B1101)=1,MAX($F$1:F1100)+1,\"\")","v":""},null,{"$f":"IF(AND(BD!B1101=REF,BD!D1101>=DEB,BD!D1101<=FIN),MAX(calc!$H$1:H1100)+1,0)","v":0}]
[null,null,null,null,null,{"$f":"IF(COUNTIF(BD!$B$2:B1102,BD!B1102)=1,MAX($F$1:F1101)+1,\"\")","v":""},null,{"$f":"IF(AND(BD!B1102=REF,BD!D1102>=DEB,BD!D1102<=FIN),MAX(calc!$H$1:H1101)+1,0)","v":0}]
[null,null,null,null,null,{"$f":"IF(COUNTIF(BD!$B$2:B1103,BD!B1103)=1,MAX($F$1:F1102)+1,\"\")","v":""},null,{"$f":"IF(AND(BD!B1103=REF,BD!D1103>=DEB,BD!D1103<=FIN),MAX(calc!$H$1:H1102)+1,0)","v":0}]
[null,null,null,null,null,{"$f":"IF(COUNTIF(BD!$B$2:B1104,BD!B1104)=1,MAX($F$1:F1103)+1,\"\")","v":""},null,{"$f":"IF(AND(BD!B1104=REF,BD!D1104>=DEB,BD!D1104<=FIN),MAX(calc!$H$1:H1103)+1,0)","v":0}]
[null,null,null,null,null,{"$f":"IF(COUNTIF(BD!$B$2:B1105,BD!B1105)=1,MAX($F$1:F1104)+1,\"\")","v":""},null,{"$f":"IF(AND(BD!B1105=REF,BD!D1105>=DEB,BD!D1105<=FIN),MAX(calc!$H$1:H1104)+1,0)","v":0}]
[null,null,null,null,null,{"$f":"IF(COUNTIF(BD!$B$2:B1106,BD!B1106)=1,MAX($F$1:F1105)+1,\"\")","v":""},null,{"$f":"IF(AND(BD!B1106=REF,BD!D1106>=DEB,BD!D1106<=FIN),MAX(calc!$H$1:H1105)+1,0)","v":0}]
[null,null,null,null,null,{"$f":"IF(COUNTIF(BD!$B$2:B1107,BD!B1107)=1,MAX($F$1:F1106)+1,\"\")","v":""},null,{"$f":"IF(AND(BD!B1107=REF,BD!D1107>=DEB,BD!D1107<=FIN),MAX(calc!$H$1:H1106)+1,0)","v":0}]
[null,null,null,null,null,{"$f":"IF(COUNTIF(BD!$B$2:B1108,BD!B1108)=1,MAX($F$1:F1107)+1,\"\")","v":""},null,{"$f":"IF(AND(BD!B1108=REF,BD!D1108>=DEB,BD!D1108<=FIN),MAX(calc!$H$1:H1107)+1,0)","v":0}]
[null,null,null,null,null,{"$f":"IF(COUNTIF(BD!$B$2:B1109,BD!B1109)=1,MAX($F$1:F1108)+1,\"\")","v":""},null,{"$f":"IF(AND(BD!B1109=REF,BD!D1109>=DEB,BD!D1109<=FIN),MAX(calc!$H$1:H1108)+1,0)","v":0}]
[null,null,null,null,null,{"$f":"IF(COUNTIF(BD!$B$2:B1110,BD!B1110)=1,MAX($F$1:F1109)+1,\"\")","v":""},null,{"$f":"IF(AND(BD!B1110=REF,BD!D1110>=DEB,BD!D1110<=FIN),MAX(calc!$H$1:H1109)+1,0)","v":0}]
[null,null,null,null,null,{"$f":"IF(COUNTIF(BD!$B$2:B1111,BD!B1111)=1,MAX($F$1:F1110)+1,\"\")","v":""},null,{"$f":"IF(AND(BD!B1111=REF,BD!D1111>=DEB,BD!D1111<=FIN),MAX(calc!$H$1:H1110)+1,0)","v":0}]
[null,null,null,null,null,{"$f":"IF(COUNTIF(BD!$B$2:B1112,BD!B1112)=1,MAX($F$1:F1111)+1,\"\")","v":""},null,{"$f":"IF(AND(BD!B1112=REF,BD!D1112>=DEB,BD!D1112<=FIN),MAX(calc!$H$1:H1111)+1,0)","v":0}]
[null,null,null,null,null,{"$f":"IF(COUNTIF(BD!$B$2:B1113,BD!B1113)=1,MAX($F$1:F1112)+1,\"\")","v":""},null,{"$f":"IF(AND(BD!B1113=REF,BD!D1113>=DEB,BD!D1113<=FIN),MAX(calc!$H$1:H1112)+1,0)","v":0}]
[null,null,null,null,null,{"$f":"IF(COUNTIF(BD!$B$2:B1114,BD!B1114)=1,MAX($F$1:F1113)+1,\"\")","v":""},null,{"$f":"IF(AND(BD!B1114=REF,BD!D1114>=DEB,BD!D1114<=FIN),MAX(calc!$H$1:H1113)+1,0)","v":0}]
[null,null,null,null,null,{"$f":"IF(COUNTIF(BD!$B$2:B1115,BD!B1115)=1,MAX($F$1:F1114)+1,\"\")","v":""},null,{"$f":"IF(AND(BD!B1115=REF,BD!D1115>=DEB,BD!D1115<=FIN),MAX(calc!$H$1:H1114)+1,0)","v":0}]
[null,null,null,null,null,{"$f":"IF(COUNTIF(BD!$B$2:B1116,BD!B1116)=1,MAX($F$1:F1115)+1,\"\")","v":""},null,{"$f":"IF(AND(BD!B1116=REF,BD!D1116>=DEB,BD!D1116<=FIN),MAX(calc!$H$1:H1115)+1,0)","v":0}]
[null,null,null,null,null,{"$f":"IF(COUNTIF(BD!$B$2:B1117,BD!B1117)=1,MAX($F$1:F1116)+1,\"\")","v":""},null,{"$f":"IF(AND(BD!B1117=REF,BD!D1117>=DEB,BD!D1117<=FIN),MAX(calc!$H$1:H1116)+1,0)","v":0}]
[null,null,null,null,null,{"$f":"IF(COUNTIF(BD!$B$2:B1118,BD!B1118)=1,MAX($F$1:F1117)+1,\"\")","v":""},null,{"$f":"IF(AND(BD!B1118=REF,BD!D1118>=DEB,BD!D1118<=FIN),MAX(calc!$H$1:H1117)+1,0)","v":0}]
[null,null,null,null,null,{"$f":"IF(COUNTIF(BD!$B$2:B1119,BD!B1119)=1,MAX($F$1:F1118)+1,\"\")","v":""},null,{"$f":"IF(AND(BD!B1119=REF,BD!D1119>=DEB,BD!D1119<=FIN),MAX(calc!$H$1:H1118)+1,0)","v":0}]
[null,null,null,null,null,{"$f":"IF(COUNTIF(BD!$B$2:B1120,BD!B1120)=1,MAX($F$1:F1119)+1,\"\")","v":""},null,{"$f":"IF(AND(BD!B1120=REF,BD!D1120>=DEB,BD!D1120<=FIN),MAX(calc!$H$1:H1119)+1,0)","v":0}]
[null,null,null,null,null,{"$f":"IF(COUNTIF(BD!$B$2:B1121,BD!B1121)=1,MAX($F$1:F1120)+1,\"\")","v":""},null,{"$f":"IF(AND(BD!B1121=REF,BD!D1121>=DEB,BD!D1121<=FIN),MAX(calc!$H$1:H1120)+1,0)","v":0}]
[null,null,null,null,null,{"$f":"IF(COUNTIF(BD!$B$2:B1122,BD!B1122)=1,MAX($F$1:F1121)+1,\"\")","v":""},null,{"$f":"IF(AND(BD!B1122=REF,BD!D1122>=DEB,BD!D1122<=FIN),MAX(calc!$H$1:H1121)+1,0)","v":0}]
[null,null,null,null,null,{"$f":"IF(COUNTIF(BD!$B$2:B1123,BD!B1123)=1,MAX($F$1:F1122)+1,\"\")","v":""},null,{"$f":"IF(AND(BD!B1123=REF,BD!D1123>=DEB,BD!D1123<=FIN),MAX(calc!$H$1:H1122)+1,0)","v":0}]
[null,null,null,null,null,{"$f":"IF(COUNTIF(BD!$B$2:B1124,BD!B1124)=1,MAX($F$1:F1123)+1,\"\")","v":""},null,{"$f":"IF(AND(BD!B1124=REF,BD!D1124>=DEB,BD!D1124<=FIN),MAX(calc!$H$1:H1123)+1,0)","v":0}]
[null,null,null,null,null,{"$f":"IF(COUNTIF(BD!$B$2:B1125,BD!B1125)=1,MAX($F$1:F1124)+1,\"\")","v":""},null,{"$f":"IF(AND(BD!B1125=REF,BD!D1125>=DEB,BD!D1125<=FIN),MAX(calc!$H$1:H1124)+1,0)","v":0}]
[null,null,null,null,null,{"$f":"IF(COUNTIF(BD!$B$2:B1126,BD!B1126)=1,MAX($F$1:F1125)+1,\"\")","v":""},null,{"$f":"IF(AND(BD!B1126=REF,BD!D1126>=DEB,BD!D1126<=FIN),MAX(calc!$H$1:H1125)+1,0)","v":0}]
[null,null,null,null,null,{"$f":"IF(COUNTIF(BD!$B$2:B1127,BD!B1127)=1,MAX($F$1:F1126)+1,\"\")","v":""},null,{"$f":"IF(AND(BD!B1127=REF,BD!D1127>=DEB,BD!D1127<=FIN),MAX(calc!$H$1:H1126)+1,0)","v":0}]
[null,null,null,null,null,{"$f":"IF(COUNTIF(BD!$B$2:B1128,BD!B1128)=1,MAX($F$1:F1127)+1,\"\")","v":""},null,{"$f":"IF(AND(BD!B1128=REF,BD!D1128>=DEB,BD!D1128<=FIN),MAX(calc!$H$1:H1127)+1,0)","v":0}]
[null,null,null,null,null,{"$f":"IF(COUNTIF(BD!$B$2:B1129,BD!B1129)=1,MAX($F$1:F1128)+1,\"\")","v":""},null,{"$f":"IF(AND(BD!B1129=REF,BD!D1129>=DEB,BD!D1129<=FIN),MAX(calc!$H$1:H1128)+1,0)","v":0}]
[null,null,null,null,null,{"$f":"IF(COUNTIF(BD!$B$2:B1130,BD!B1130)=1,MAX($F$1:F1129)+1,\"\")","v":""},null,{"$f":"IF(AND(BD!B1130=REF,BD!D1130>=DEB,BD!D1130<=FIN),MAX(calc!$H$1:H1129)+1,0)","v":0}]
[null,null,null,null,null,{"$f":"IF(COUNTIF(BD!$B$2:B1131,BD!B1131)=1,MAX($F$1:F1130)+1,\"\")","v":""},null,{"$f":"IF(AND(BD!B1131=REF,BD!D1131>=DEB,BD!D1131<=FIN),MAX(calc!$H$1:H1130)+1,0)","v":0}]
[null,null,null,null,null,{"$f":"IF(COUNTIF(BD!$B$2:B1132,BD!B1132)=1,MAX($F$1:F1131)+1,\"\")","v":""},null,{"$f":"IF(AND(BD!B1132=REF,BD!D1132>=DEB,BD!D1132<=FIN),MAX(calc!$H$1:H1131)+1,0)","v":0}]
[null,null,null,null,null,{"$f":"IF(COUNTIF(BD!$B$2:B1133,BD!B1133)=1,MAX($F$1:F1132)+1,\"\")","v":""},null,{"$f":"IF(AND(BD!B1133=REF,BD!D1133>=DEB,BD!D1133<=FIN),MAX(calc!$H$1:H1132)+1,0)","v":0}]
[null,null,null,null,null,{"$f":"IF(COUNTIF(BD!$B$2:B1134,BD!B1134)=1,MAX($F$1:F1133)+1,\"\")","v":""},null,{"$f":"IF(AND(BD!B1134=REF,BD!D1134>=DEB,BD!D1134<=FIN),MAX(calc!$H$1:H1133)+1,0)","v":0}]
[null,null,null,null,null,{"$f":"IF(COUNTIF(BD!$B$2:B1135,BD!B1135)=1,MAX($F$1:F1134)+1,\"\")","v":""},null,{"$f":"IF(AND(BD!B1135=REF,BD!D1135>=DEB,BD!D1135<=FIN),MAX(calc!$H$1:H1134)+1,0)","v":0}]
[null,null,null,null,null,{"$f":"IF(COUNTIF(BD!$B$2:B1136,BD!B1136)=1,MAX($F$1:F1135)+1,\"\")","v":""},null,{"$f":"IF(AND(BD!B1136=REF,BD!D1136>=DEB,BD!D1136<=FIN),MAX(calc!$H$1:H1135)+1,0)","v":0}]
[null,null,null,null,null,{"$f":"IF(COUNTIF(BD!$B$2:B1137,BD!B1137)=1,MAX($F$1:F1136)+1,\"\")","v":""},null,{"$f":"IF(AND(BD!B1137=REF,BD!D1137>=DEB,BD!D1137<=FIN),MAX(calc!$H$1:H1136)+1,0)","v":0}]
[null,null,null,null,null,{"$f":"IF(COUNTIF(BD!$B$2:B1138,BD!B1138)=1,MAX($F$1:F1137)+1,\"\")","v":""},null,{"$f":"IF(AND(BD!B1138=REF,BD!D1138>=DEB,BD!D1138<=FIN),MAX(calc!$H$1:H1137)+1,0)","v":0}]
[null,null,null,null,null,{"$f":"IF(COUNTIF(BD!$B$2:B1139,BD!B1139)=1,MAX($F$1:F1138)+1,\"\")","v":""},null,{"$f":"IF(AND(BD!B1139=REF,BD!D1139>=DEB,BD!D1139<=FIN),MAX(calc!$H$1:H1138)+1,0)","v":0}]
[null,null,null,null,null,{"$f":"IF(COUNTIF(BD!$B$2:B1140,BD!B1140)=1,MAX($F$1:F1139)+1,\"\")","v":""},null,{"$f":"IF(AND(BD!B1140=REF,BD!D1140>=DEB,BD!D1140<=FIN),MAX(calc!$H$1:H1139)+1,0)","v":0}]
[null,null,null,null,null,{"$f":"IF(COUNTIF(BD!$B$2:B1141,BD!B1141)=1,MAX($F$1:F1140)+1,\"\")","v":""},null,{"$f":"IF(AND(BD!B1141=REF,BD!D1141>=DEB,BD!D1141<=FIN),MAX(calc!$H$1:H1140)+1,0)","v":0}]
[null,null,null,null,null,{"$f":"IF(COUNTIF(BD!$B$2:B1142,BD!B1142)=1,MAX($F$1:F1141)+1,\"\")","v":""},null,{"$f":"IF(AND(BD!B1142=REF,BD!D1142>=DEB,BD!D1142<=FIN),MAX(calc!$H$1:H1141)+1,0)","v":0}]
[null,null,null,null,null,{"$f":"IF(COUNTIF(BD!$B$2:B1143,BD!B1143)=1,MAX($F$1:F1142)+1,\"\")","v":""},null,{"$f":"IF(AND(BD!B1143=REF,BD!D1143>=DEB,BD!D1143<=FIN),MAX(calc!$H$1:H1142)+1,0)","v":0}]
[null,null,null,null,null,{"$f":"IF(COUNTIF(BD!$B$2:B1144,BD!B1144)=1,MAX($F$1:F1143)+1,\"\")","v":""},null,{"$f":"IF(AND(BD!B1144=REF,BD!D1144>=DEB,BD!D1144<=FIN),MAX(calc!$H$1:H1143)+1,0)","v":0}]
[null,null,null,null,null,{"$f":"IF(COUNTIF(BD!$B$2:B1145,BD!B1145)=1,MAX($F$1:F1144)+1,\"\")","v":""},null,{"$f":"IF(AND(BD!B1145=REF,BD!D1145>=DEB,BD!D1145<=FIN),MAX(calc!$H$1:H1144)+1,0)","v":0}]
[null,null,null,null,null,{"$f":"IF(COUNTIF(BD!$B$2:B1146,BD!B1146)=1,MAX($F$1:F1145)+1,\"\")","v":""},null,{"$f":"IF(AND(BD!B1146=REF,BD!D1146>=DEB,BD!D1146<=FIN),MAX(calc!$H$1:H1145)+1,0)","v":0}]
[null,null,null,null,null,{"$f":"IF(COUNTIF(BD!$B$2:B1147,BD!B1147)=1,MAX($F$1:F1146)+1,\"\")","v":""},null,{"$f":"IF(AND(BD!B1147=REF,BD!D1147>=DEB,BD!D1147<=FIN),MAX(calc!$H$1:H1146)+1,0)","v":0}]
[null,null,null,null,null,{"$f":"IF(COUNTIF(BD!$B$2:B1148,BD!B1148)=1,MAX($F$1:F1147)+1,\"\")","v":""},null,{"$f":"IF(AND(BD!B1148=REF,BD!D1148>=DEB,BD!D1148<=FIN),MAX(calc!$H$1:H1147)+1,0)","v":0}]
[null,null,null,null,null,{"$f":"IF(COUNTIF(BD!$B$2:B1149,BD!B1149)=1,MAX($F$1:F1148)+1,\"\")","v":""},null,{"$f":"IF(AND(BD!B1149=REF,BD!D1149>=DEB,BD!D1149<=FIN),MAX(calc!$H$1:H1148)+1,0)","v":0}]
[null,null,null,null,null,{"$f":"IF(COUNTIF(BD!$B$2:B1150,BD!B1150)=1,MAX($F$1:F1149)+1,\"\")","v":""},null,{"$f":"IF(AND(BD!B1150=REF,BD!D1150>=DEB,BD!D1150<=FIN),MAX(calc!$H$1:H1149)+1,0)","v":0}]
[null,null,null,null,null,{"$f":"IF(COUNTIF(BD!$B$2:B1151,BD!B1151)=1,MAX($F$1:F1150)+1,\"\")","v":""},null,{"$f":"IF(AND(BD!B1151=REF,BD!D1151>=DEB,BD!D1151<=FIN),MAX(calc!$H$1:H1150)+1,0)","v":0}]
[null,null,null,null,null,{"$f":"IF(COUNTIF(BD!$B$2:B1152,BD!B1152)=1,MAX($F$1:F1151)+1,\"\")","v":""},null,{"$f":"IF(AND(BD!B1152=REF,BD!D1152>=DEB,BD!D1152<=FIN),MAX(calc!$H$1:H1151)+1,0)","v":0}]
[null,null,null,null,null,{"$f":"IF(COUNTIF(BD!$B$2:B1153,BD!B1153)=1,MAX($F$1:F1152)+1,\"\")","v":""},null,{"$f":"IF(AND(BD!B1153=REF,BD!D1153>=DEB,BD!D1153<=FIN),MAX(calc!$H$1:H1152)+1,0)","v":0}]
[null,null,null,null,null,{"$f":"IF(COUNTIF(BD!$B$2:B1154,BD!B1154)=1,MAX($F$1:F1153)+1,\"\")","v":""},null,{"$f":"IF(AND(BD!B1154=REF,BD!D1154>=DEB,BD!D1154<=FIN),MAX(calc!$H$1:H1153)+1,0)","v":0}]
[null,null,null,null,null,{"$f":"IF(COUNTIF(BD!$B$2:B1155,BD!B1155)=1,MAX($F$1:F1154)+1,\"\")","v":""},null,{"$f":"IF(AND(BD!B1155=REF,BD!D1155>=DEB,BD!D1155<=FIN),MAX(calc!$H$1:H1154)+1,0)","v":0}]
[null,null,null,null,null,{"$f":"IF(COUNTIF(BD!$B$2:B1156,BD!B1156)=1,MAX($F$1:F1155)+1,\"\")","v":""},null,{"$f":"IF(AND(BD!B1156=REF,BD!D1156>=DEB,BD!D1156<=FIN),MAX(calc!$H$1:H1155)+1,0)","v":0}]
[null,null,null,null,null,{"$f":"IF(COUNTIF(BD!$B$2:B1157,BD!B1157)=1,MAX($F$1:F1156)+1,\"\")","v":""},null,{"$f":"IF(AND(BD!B1157=REF,BD!D1157>=DEB,BD!D1157<=FIN),MAX(calc!$H$1:H1156)+1,0)","v":0}]
[null,null,null,null,null,{"$f":"IF(COUNTIF(BD!$B$2:B1158,BD!B1158)=1,MAX($F$1:F1157)+1,\"\")","v":""},null,{"$f":"IF(AND(BD!B1158=REF,BD!D1158>=DEB,BD!D1158<=FIN),MAX(calc!$H$1:H1157)+1,0)","v":0}]
[null,null,null,null,null,{"$f":"IF(COUNTIF(BD!$B$2:B1159,BD!B1159)=1,MAX($F$1:F1158)+1,\"\")","v":""},null,{"$f":"IF(AND(BD!B1159=REF,BD!D1159>=DEB,BD!D1159<=FIN),MAX(calc!$H$1:H1158)+1,0)","v":0}]
[null,null,null,null,null,{"$f":"IF(COUNTIF(BD!$B$2:B1160,BD!B1160)=1,MAX($F$1:F1159)+1,\"\")","v":""},null,{"$f":"IF(AND(BD!B1160=REF,BD!D1160>=DEB,BD!D1160<=FIN),MAX(calc!$H$1:H1159)+1,0)","v":0}]
[null,null,null,null,null,{"$f":"IF(COUNTIF(BD!$B$2:B1161,BD!B1161)=1,MAX($F$1:F1160)+1,\"\")","v":""},null,{"$f":"IF(AND(BD!B1161=REF,BD!D1161>=DEB,BD!D1161<=FIN),MAX(calc!$H$1:H1160)+1,0)","v":0}]
[null,null,null,null,null,{"$f":"IF(COUNTIF(BD!$B$2:B1162,BD!B1162)=1,MAX($F$1:F1161)+1,\"\")","v":""},null,{"$f":"IF(AND(BD!B1162=REF,BD!D1162>=DEB,BD!D1162<=FIN),MAX(calc!$H$1:H1161)+1,0)","v":0}]
[null,null,null,null,null,{"$f":"IF(COUNTIF(BD!$B$2:B1163,BD!B1163)=1,MAX($F$1:F1162)+1,\"\")","v":""},null,{"$f":"IF(AND(BD!B1163=REF,BD!D1163>=DEB,BD!D1163<=FIN),MAX(calc!$H$1:H1162)+1,0)","v":0}]
[null,null,null,null,null,{"$f":"IF(COUNTIF(BD!$B$2:B1164,BD!B1164)=1,MAX($F$1:F1163)+1,\"\")","v":""},null,{"$f":"IF(AND(BD!B1164=REF,BD!D1164>=DEB,BD!D1164<=FIN),MAX(calc!$H$1:H1163)+1,0)","v":0}]
[null,null,null,null,null,{"$f":"IF(COUNTIF(BD!$B$2:B1165,BD!B1165)=1,MAX($F$1:F1164)+1,\"\")","v":""},null,{"$f":"IF(AND(BD!B1165=REF,BD!D1165>=DEB,BD!D1165<=FIN),MAX(calc!$H$1:H1164)+1,0)","v":0}]
[null,null,null,null,null,{"$f":"IF(COUNTIF(BD!$B$2:B1166,BD!B1166)=1,MAX($F$1:F1165)+1,\"\")","v":""},null,{"$f":"IF(AND(BD!B1166=REF,BD!D1166>=DEB,BD!D1166<=FIN),MAX(calc!$H$1:H1165)+1,0)","v":0}]
[null,null,null,null,null,{"$f":"IF(COUNTIF(BD!$B$2:B1167,BD!B1167)=1,MAX($F$1:F1166)+1,\"\")","v":""},null,{"$f":"IF(AND(BD!B1167=REF,BD!D1167>=DEB,BD!D1167<=FIN),MAX(calc!$H$1:H1166)+1,0)","v":0}]
[null,null,null,null,null,{"$f":"IF(COUNTIF(BD!$B$2:B1168,BD!B1168)=1,MAX($F$1:F1167)+1,\"\")","v":""},null,{"$f":"IF(AND(BD!B1168=REF,BD!D1168>=DEB,BD!D1168<=FIN),MAX(calc!$H$1:H1167)+1,0)","v":0}]
[null,null,null,null,null,{"$f":"IF(COUNTIF(BD!$B$2:B1169,BD!B1169)=1,MAX($F$1:F1168)+1,\"\")","v":""},null,{"$f":"IF(AND(BD!B1169=REF,BD!D1169>=DEB,BD!D1169<=FIN),MAX(calc!$H$1:H1168)+1,0)","v":0}]
[null,null,null,null,null,{"$f":"IF(COUNTIF(BD!$B$2:B1170,BD!B1170)=1,MAX($F$1:F1169)+1,\"\")","v":""},null,{"$f":"IF(AND(BD!B1170=REF,BD!D1170>=DEB,BD!D1170<=FIN),MAX(calc!$H$1:H1169)+1,0)","v":0}]
[null,null,null,null,null,{"$f":"IF(COUNTIF(BD!$B$2:B1171,BD!B1171)=1,MAX($F$1:F1170)+1,\"\")","v":""},null,{"$f":"IF(AND(BD!B1171=REF,BD!D1171>=DEB,BD!D1171<=FIN),MAX(calc!$H$1:H1170)+1,0)","v":0}]
[null,null,null,null,null,{"$f":"IF(COUNTIF(BD!$B$2:B1172,BD!B1172)=1,MAX($F$1:F1171)+1,\"\")","v":""},null,{"$f":"IF(AND(BD!B1172=REF,BD!D1172>=DEB,BD!D1172<=FIN),MAX(calc!$H$1:H1171)+1,0)","v":0}]
[null,null,null,null,null,{"$f":"IF(COUNTIF(BD!$B$2:B1173,BD!B1173)=1,MAX($F$1:F1172)+1,\"\")","v":""},null,{"$f":"IF(AND(BD!B1173=REF,BD!D1173>=DEB,BD!D1173<=FIN),MAX(calc!$H$1:H1172)+1,0)","v":0}]
[null,null,null,null,null,{"$f":"IF(COUNTIF(BD!$B$2:B1174,BD!B1174)=1,MAX($F$1:F1173)+1,\"\")","v":""},null,{"$f":"IF(AND(BD!B1174=REF,BD!D1174>=DEB,BD!D1174<=FIN),MAX(calc!$H$1:H1173)+1,0)","v":0}]
[null,null,null,null,null,{"$f":"IF(COUNTIF(BD!$B$2:B1175,BD!B1175)=1,MAX($F$1:F1174)+1,\"\")","v":""},null,{"$f":"IF(AND(BD!B1175=REF,BD!D1175>=DEB,BD!D1175<=FIN),MAX(calc!$H$1:H1174)+1,0)","v":0}]
[null,null,null,null,null,{"$f":"IF(COUNTIF(BD!$B$2:B1176,BD!B1176)=1,MAX($F$1:F1175)+1,\"\")","v":""},null,{"$f":"IF(AND(BD!B1176=REF,BD!D1176>=DEB,BD!D1176<=FIN),MAX(calc!$H$1:H1175)+1,0)","v":0}]
[null,null,null,null,null,{"$f":"IF(COUNTIF(BD!$B$2:B1177,BD!B1177)=1,MAX($F$1:F1176)+1,\"\")","v":""},null,{"$f":"IF(AND(BD!B1177=REF,BD!D1177>=DEB,BD!D1177<=FIN),MAX(calc!$H$1:H1176)+1,0)","v":0}]
[null,null,null,null,null,{"$f":"IF(COUNTIF(BD!$B$2:B1178,BD!B1178)=1,MAX($F$1:F1177)+1,\"\")","v":""},null,{"$f":"IF(AND(BD!B1178=REF,BD!D1178>=DEB,BD!D1178<=FIN),MAX(calc!$H$1:H1177)+1,0)","v":0}]
[null,null,null,null,null,{"$f":"IF(COUNTIF(BD!$B$2:B1179,BD!B1179)=1,MAX($F$1:F1178)+1,\"\")","v":""},null,{"$f":"IF(AND(BD!B1179=REF,BD!D1179>=DEB,BD!D1179<=FIN),MAX(calc!$H$1:H1178)+1,0)","v":0}]
[null,null,null,null,null,{"$f":"IF(COUNTIF(BD!$B$2:B1180,BD!B1180)=1,MAX($F$1:F1179)+1,\"\")","v":""},null,{"$f":"IF(AND(BD!B1180=REF,BD!D1180>=DEB,BD!D1180<=FIN),MAX(calc!$H$1:H1179)+1,0)","v":0}]
[null,null,null,null,null,{"$f":"IF(COUNTIF(BD!$B$2:B1181,BD!B1181)=1,MAX($F$1:F1180)+1,\"\")","v":""},null,{"$f":"IF(AND(BD!B1181=REF,BD!D1181>=DEB,BD!D1181<=FIN),MAX(calc!$H$1:H1180)+1,0)","v":0}]
[null,null,null,null,null,{"$f":"IF(COUNTIF(BD!$B$2:B1182,BD!B1182)=1,MAX($F$1:F1181)+1,\"\")","v":""},null,{"$f":"IF(AND(BD!B1182=REF,BD!D1182>=DEB,BD!D1182<=FIN),MAX(calc!$H$1:H1181)+1,0)","v":0}]
[null,null,null,null,null,{"$f":"IF(COUNTIF(BD!$B$2:B1183,BD!B1183)=1,MAX($F$1:F1182)+1,\"\")","v":""},null,{"$f":"IF(AND(BD!B1183=REF,BD!D1183>=DEB,BD!D1183<=FIN),MAX(calc!$H$1:H1182)+1,0)","v":0}]
[null,null,null,null,null,{"$f":"IF(COUNTIF(BD!$B$2:B1184,BD!B1184)=1,MAX($F$1:F1183)+1,\"\")","v":""},null,{"$f":"IF(AND(BD!B1184=REF,BD!D1184>=DEB,BD!D1184<=FIN),MAX(calc!$H$1:H1183)+1,0)","v":0}]
[null,null,null,null,null,{"$f":"IF(COUNTIF(BD!$B$2:B1185,BD!B1185)=1,MAX($F$1:F1184)+1,\"\")","v":""},null,{"$f":"IF(AND(BD!B1185=REF,BD!D1185>=DEB,BD!D1185<=FIN),MAX(calc!$H$1:H1184)+1,0)","v":0}]
[null,null,null,null,null,{"$f":"IF(COUNTIF(BD!$B$2:B1186,BD!B1186)=1,MAX($F$1:F1185)+1,\"\")","v":""},null,{"$f":"IF(AND(BD!B1186=REF,BD!D1186>=DEB,BD!D1186<=FIN),MAX(calc!$H$1:H1185)+1,0)","v":0}]
[null,null,null,null,null,{"$f":"IF(COUNTIF(BD!$B$2:B1187,BD!B1187)=1,MAX($F$1:F1186)+1,\"\")","v":""},null,{"$f":"IF(AND(BD!B1187=REF,BD!D1187>=DEB,BD!D1187<=FIN),MAX(calc!$H$1:H1186)+1,0)","v":0}]
[null,null,null,null,null,{"$f":"IF(COUNTIF(BD!$B$2:B1188,BD!B1188)=1,MAX($F$1:F1187)+1,\"\")","v":""},null,{"$f":"IF(AND(BD!B1188=REF,BD!D1188>=DEB,BD!D1188<=FIN),MAX(calc!$H$1:H1187)+1,0)","v":0}]
[null,null,null,null,null,{"$f":"IF(COUNTIF(BD!$B$2:B1189,BD!B1189)=1,MAX($F$1:F1188)+1,\"\")","v":""},null,{"$f":"IF(AND(BD!B1189=REF,BD!D1189>=DEB,BD!D1189<=FIN),MAX(calc!$H$1:H1188)+1,0)","v":0}]
[null,null,null,null,null,{"$f":"IF(COUNTIF(BD!$B$2:B1190,BD!B1190)=1,MAX($F$1:F1189)+1,\"\")","v":""},null,{"$f":"IF(AND(BD!B1190=REF,BD!D1190>=DEB,BD!D1190<=FIN),MAX(calc!$H$1:H1189)+1,0)","v":0}]
[null,null,null,null,null,{"$f":"IF(COUNTIF(BD!$B$2:B1191,BD!B1191)=1,MAX($F$1:F1190)+1,\"\")","v":""},null,{"$f":"IF(AND(BD!B1191=REF,BD!D1191>=DEB,BD!D1191<=FIN),MAX(calc!$H$1:H1190)+1,0)","v":0}]
[null,null,null,null,null,{"$f":"IF(COUNTIF(BD!$B$2:B1192,BD!B1192)=1,MAX($F$1:F1191)+1,\"\")","v":""},null,{"$f":"IF(AND(BD!B1192=REF,BD!D1192>=DEB,BD!D1192<=FIN),MAX(calc!$H$1:H1191)+1,0)","v":0}]
[null,null,null,null,null,{"$f":"IF(COUNTIF(BD!$B$2:B1193,BD!B1193)=1,MAX($F$1:F1192)+1,\"\")","v":""},null,{"$f":"IF(AND(BD!B1193=REF,BD!D1193>=DEB,BD!D1193<=FIN),MAX(calc!$H$1:H1192)+1,0)","v":0}]
[null,null,null,null,null,{"$f":"IF(COUNTIF(BD!$B$2:B1194,BD!B1194)=1,MAX($F$1:F1193)+1,\"\")","v":""},null,{"$f":"IF(AND(BD!B1194=REF,BD!D1194>=DEB,BD!D1194<=FIN),MAX(calc!$H$1:H1193)+1,0)","v":0}]
[null,null,null,null,null,{"$f":"IF(COUNTIF(BD!$B$2:B1195,BD!B1195)=1,MAX($F$1:F1194)+1,\"\")","v":""},null,{"$f":"IF(AND(BD!B1195=REF,BD!D1195>=DEB,BD!D1195<=FIN),MAX(calc!$H$1:H1194)+1,0)","v":0}]
[null,null,null,null,null,{"$f":"IF(COUNTIF(BD!$B$2:B1196,BD!B1196)=1,MAX($F$1:F1195)+1,\"\")","v":""},null,{"$f":"IF(AND(BD!B1196=REF,BD!D1196>=DEB,BD!D1196<=FIN),MAX(calc!$H$1:H1195)+1,0)","v":0}]
[null,null,null,null,null,{"$f":"IF(COUNTIF(BD!$B$2:B1197,BD!B1197)=1,MAX($F$1:F1196)+1,\"\")","v":""},null,{"$f":"IF(AND(BD!B1197=REF,BD!D1197>=DEB,BD!D1197<=FIN),MAX(calc!$H$1:H1196)+1,0)","v":0}]
[null,null,null,null,null,{"$f":"IF(COUNTIF(BD!$B$2:B1198,BD!B1198)=1,MAX($F$1:F1197)+1,\"\")","v":""},null,{"$f":"IF(AND(BD!B1198=REF,BD!D1198>=DEB,BD!D1198<=FIN),MAX(calc!$H$1:H1197)+1,0)","v":0}]
[null,null,null,null,null,{"$f":"IF(COUNTIF(BD!$B$2:B1199,BD!B1199)=1,MAX($F$1:F1198)+1,\"\")","v":""},null,{"$f":"IF(AND(BD!B1199=REF,BD!D1199>=DEB,BD!D1199<=FIN),MAX(calc!$H$1:H1198)+1,0)","v":0}]
[null,null,null,null,null,{"$f":"IF(COUNTIF(BD!$B$2:B1200,BD!B1200)=1,MAX($F$1:F1199)+1,\"\")","v":""},null,{"$f":"IF(AND(BD!B1200=REF,BD!D1200>=DEB,BD!D1200<=FIN),MAX(calc!$H$1:H1199)+1,0)","v":0}]
[null,null,null,null,null,{"$f":"IF(COUNTIF(BD!$B$2:B1201,BD!B1201)=1,MAX($F$1:F1200)+1,\"\")","v":""},null,{"$f":"IF(AND(BD!B1201=REF,BD!D1201>=DEB,BD!D1201<=FIN),MAX(calc!$H$1:H1200)+1,0)","v":0}]
[null,null,null,null,null,{"$f":"IF(COUNTIF(BD!$B$2:B1202,BD!B1202)=1,MAX($F$1:F1201)+1,\"\")","v":""},null,{"$f":"IF(AND(BD!B1202=REF,BD!D1202>=DEB,BD!D1202<=FIN),MAX(calc!$H$1:H1201)+1,0)","v":0}]
[null,null,null,null,null,{"$f":"IF(COUNTIF(BD!$B$2:B1203,BD!B1203)=1,MAX($F$1:F1202)+1,\"\")","v":""},null,{"$f":"IF(AND(BD!B1203=REF,BD!D1203>=DEB,BD!D1203<=FIN),MAX(calc!$H$1:H1202)+1,0)","v":0}]
[null,null,null,null,null,{"$f":"IF(COUNTIF(BD!$B$2:B1204,BD!B1204)=1,MAX($F$1:F1203)+1,\"\")","v":""},null,{"$f":"IF(AND(BD!B1204=REF,BD!D1204>=DEB,BD!D1204<=FIN),MAX(calc!$H$1:H1203)+1,0)","v":0}]
[null,null,null,null,null,{"$f":"IF(COUNTIF(BD!$B$2:B1205,BD!B1205)=1,MAX($F$1:F1204)+1,\"\")","v":""},null,{"$f":"IF(AND(BD!B1205=REF,BD!D1205>=DEB,BD!D1205<=FIN),MAX(calc!$H$1:H1204)+1,0)","v":0}]
[null,null,null,null,null,{"$f":"IF(COUNTIF(BD!$B$2:B1206,BD!B1206)=1,MAX($F$1:F1205)+1,\"\")","v":""},null,{"$f":"IF(AND(BD!B1206=REF,BD!D1206>=DEB,BD!D1206<=FIN),MAX(calc!$H$1:H1205)+1,0)","v":0}]
[null,null,null,null,null,{"$f":"IF(COUNTIF(BD!$B$2:B1207,BD!B1207)=1,MAX($F$1:F1206)+1,\"\")","v":""},null,{"$f":"IF(AND(BD!B1207=REF,BD!D1207>=DEB,BD!D1207<=FIN),MAX(calc!$H$1:H1206)+1,0)","v":0}]
[null,null,null,null,null,{"$f":"IF(COUNTIF(BD!$B$2:B1208,BD!B1208)=1,MAX($F$1:F1207)+1,\"\")","v":""},null,{"$f":"IF(AND(BD!B1208=REF,BD!D1208>=DEB,BD!D1208<=FIN),MAX(calc!$H$1:H1207)+1,0)","v":0}]
[null,null,null,null,null,{"$f":"IF(COUNTIF(BD!$B$2:B1209,BD!B1209)=1,MAX($F$1:F1208)+1,\"\")","v":""},null,{"$f":"IF(AND(BD!B1209=REF,BD!D1209>=DEB,BD!D1209<=FIN),MAX(calc!$H$1:H1208)+1,0)","v":0}]
[null,null,null,null,null,{"$f":"IF(COUNTIF(BD!$B$2:B1210,BD!B1210)=1,MAX($F$1:F1209)+1,\"\")","v":""},null,{"$f":"IF(AND(BD!B1210=REF,BD!D1210>=DEB,BD!D1210<=FIN),MAX(calc!$H$1:H1209)+1,0)","v":0}]
[null,null,null,null,null,{"$f":"IF(COUNTIF(BD!$B$2:B1211,BD!B1211)=1,MAX($F$1:F1210)+1,\"\")","v":""},null,{"$f":"IF(AND(BD!B1211=REF,BD!D1211>=DEB,BD!D1211<=FIN),MAX(calc!$H$1:H1210)+1,0)","v":0}]
[null,null,null,null,null,{"$f":"IF(COUNTIF(BD!$B$2:B1212,BD!B1212)=1,MAX($F$1:F1211)+1,\"\")","v":""},null,{"$f":"IF(AND(BD!B1212=REF,BD!D1212>=DEB,BD!D1212<=FIN),MAX(calc!$H$1:H1211)+1,0)","v":0}]
[null,null,null,null,null,{"$f":"IF(COUNTIF(BD!$B$2:B1213,BD!B1213)=1,MAX($F$1:F1212)+1,\"\")","v":""},null,{"$f":"IF(AND(BD!B1213=REF,BD!D1213>=DEB,BD!D1213<=FIN),MAX(calc!$H$1:H1212)+1,0)","v":0}]
[null,null,null,null,null,{"$f":"IF(COUNTIF(BD!$B$2:B1214,BD!B1214)=1,MAX($F$1:F1213)+1,\"\")","v":""},null,{"$f":"IF(AND(BD!B1214=REF,BD!D1214>=DEB,BD!D1214<=FIN),MAX(calc!$H$1:H1213)+1,0)","v":0}]
[null,null,null,null,null,{"$f":"IF(COUNTIF(BD!$B$2:B1215,BD!B1215)=1,MAX($F$1:F1214)+1,\"\")","v":""},null,{"$f":"IF(AND(BD!B1215=REF,BD!D1215>=DEB,BD!D1215<=FIN),MAX(calc!$H$1:H1214)+1,0)","v":0}]
[null,null,null,null,null,{"$f":"IF(COUNTIF(BD!$B$2:B1216,BD!B1216)=1,MAX($F$1:F1215)+1,\"\")","v":""},null,{"$f":"IF(AND(BD!B1216=REF,BD!D1216>=DEB,BD!D1216<=FIN),MAX(calc!$H$1:H1215)+1,0)","v":0}]
[null,null,null,null,null,{"$f":"IF(COUNTIF(BD!$B$2:B1217,BD!B1217)=1,MAX($F$1:F1216)+1,\"\")","v":""},null,{"$f":"IF(AND(BD!B1217=REF,BD!D1217>=DEB,BD!D1217<=FIN),MAX(calc!$H$1:H1216)+1,0)","v":0}]
[null,null,null,null,null,{"$f":"IF(COUNTIF(BD!$B$2:B1218,BD!B1218)=1,MAX($F$1:F1217)+1,\"\")","v":""},null,{"$f":"IF(AND(BD!B1218=REF,BD!D1218>=DEB,BD!D1218<=FIN),MAX(calc!$H$1:H1217)+1,0)","v":0}]
[null,null,null,null,null,{"$f":"IF(COUNTIF(BD!$B$2:B1219,BD!B1219)=1,MAX($F$1:F1218)+1,\"\")","v":""},null,{"$f":"IF(AND(BD!B1219=REF,BD!D1219>=DEB,BD!D1219<=FIN),MAX(calc!$H$1:H1218)+1,0)","v":0}]
[null,null,null,null,null,{"$f":"IF(COUNTIF(BD!$B$2:B1220,BD!B1220)=1,MAX($F$1:F1219)+1,\"\")","v":""},null,{"$f":"IF(AND(BD!B1220=REF,BD!D1220>=DEB,BD!D1220<=FIN),MAX(calc!$H$1:H1219)+1,0)","v":0}]
[null,null,null,null,null,{"$f":"IF(COUNTIF(BD!$B$2:B1221,BD!B1221)=1,MAX($F$1:F1220)+1,\"\")","v":""},null,{"$f":"IF(AND(BD!B1221=REF,BD!D1221>=DEB,BD!D1221<=FIN),MAX(calc!$H$1:H1220)+1,0)","v":0}]
[null,null,null,null,null,{"$f":"IF(COUNTIF(BD!$B$2:B1222,BD!B1222)=1,MAX($F$1:F1221)+1,\"\")","v":""},null,{"$f":"IF(AND(BD!B1222=REF,BD!D1222>=DEB,BD!D1222<=FIN),MAX(calc!$H$1:H1221)+1,0)","v":0}]
[null,null,null,null,null,{"$f":"IF(COUNTIF(BD!$B$2:B1223,BD!B1223)=1,MAX($F$1:F1222)+1,\"\")","v":""},null,{"$f":"IF(AND(BD!B1223=REF,BD!D1223>=DEB,BD!D1223<=FIN),MAX(calc!$H$1:H1222)+1,0)","v":0}]
[null,null,null,null,null,{"$f":"IF(COUNTIF(BD!$B$2:B1224,BD!B1224)=1,MAX($F$1:F1223)+1,\"\")","v":""},null,{"$f":"IF(AND(BD!B1224=REF,BD!D1224>=DEB,BD!D1224<=FIN),MAX(calc!$H$1:H1223)+1,0)","v":0}]
[null,null,null,null,null,{"$f":"IF(COUNTIF(BD!$B$2:B1225,BD!B1225)=1,MAX($F$1:F1224)+1,\"\")","v":""},null,{"$f":"IF(AND(BD!B1225=REF,BD!D1225>=DEB,BD!D1225<=FIN),MAX(calc!$H$1:H1224)+1,0)","v":0}]
[null,null,null,null,null,{"$f":"IF(COUNTIF(BD!$B$2:B1226,BD!B1226)=1,MAX($F$1:F1225)+1,\"\")","v":""},null,{"$f":"IF(AND(BD!B1226=REF,BD!D1226>=DEB,BD!D1226<=FIN),MAX(calc!$H$1:H1225)+1,0)","v":0}]
[null,null,null,null,null,{"$f":"IF(COUNTIF(BD!$B$2:B1227,BD!B1227)=1,MAX($F$1:F1226)+1,\"\")","v":""},null,{"$f":"IF(AND(BD!B1227=REF,BD!D1227>=DEB,BD!D1227<=FIN),MAX(calc!$H$1:H1226)+1,0)","v":0}]
[null,null,null,null,null,{"$f":"IF(COUNTIF(BD!$B$2:B1228,BD!B1228)=1,MAX($F$1:F1227)+1,\"\")","v":""},null,{"$f":"IF(AND(BD!B1228=REF,BD!D1228>=DEB,BD!D1228<=FIN),MAX(calc!$H$1:H1227)+1,0)","v":0}]
[null,null,null,null,null,{"$f":"IF(COUNTIF(BD!$B$2:B1229,BD!B1229)=1,MAX($F$1:F1228)+1,\"\")","v":""},null,{"$f":"IF(AND(BD!B1229=REF,BD!D1229>=DEB,BD!D1229<=FIN),MAX(calc!$H$1:H1228)+1,0)","v":0}]
[null,null,null,null,null,{"$f":"IF(COUNTIF(BD!$B$2:B1230,BD!B1230)=1,MAX($F$1:F1229)+1,\"\")","v":""},null,{"$f":"IF(AND(BD!B1230=REF,BD!D1230>=DEB,BD!D1230<=FIN),MAX(calc!$H$1:H1229)+1,0)","v":0}]
[null,null,null,null,null,{"$f":"IF(COUNTIF(BD!$B$2:B1231,BD!B1231)=1,MAX($F$1:F1230)+1,\"\")","v":""},null,{"$f":"IF(AND(BD!B1231=REF,BD!D1231>=DEB,BD!D1231<=FIN),MAX(calc!$H$1:H1230)+1,0)","v":0}]
[null,null,null,null,null,{"$f":"IF(COUNTIF(BD!$B$2:B1232,BD!B1232)=1,MAX($F$1:F1231)+1,\"\")","v":""},null,{"$f":"IF(AND(BD!B1232=REF,BD!D1232>=DEB,BD!D1232<=FIN),MAX(calc!$H$1:H1231)+1,0)","v":0}]
[null,null,null,null,null,{"$f":"IF(COUNTIF(BD!$B$2:B1233,BD!B1233)=1,MAX($F$1:F1232)+1,\"\")","v":""},null,{"$f":"IF(AND(BD!B1233=REF,BD!D1233>=DEB,BD!D1233<=FIN),MAX(calc!$H$1:H1232)+1,0)","v":0}]
[null,null,null,null,null,{"$f":"IF(COUNTIF(BD!$B$2:B1234,BD!B1234)=1,MAX($F$1:F1233)+1,\"\")","v":""},null,{"$f":"IF(AND(BD!B1234=REF,BD!D1234>=DEB,BD!D1234<=FIN),MAX(calc!$H$1:H1233)+1,0)","v":0}]
[null,null,null,null,null,{"$f":"IF(COUNTIF(BD!$B$2:B1235,BD!B1235)=1,MAX($F$1:F1234)+1,\"\")","v":""},null,{"$f":"IF(AND(BD!B1235=REF,BD!D1235>=DEB,BD!D1235<=FIN),MAX(calc!$H$1:H1234)+1,0)","v":0}]
[null,null,null,null,null,{"$f":"IF(COUNTIF(BD!$B$2:B1236,BD!B1236)=1,MAX($F$1:F1235)+1,\"\")","v":""},null,{"$f":"IF(AND(BD!B1236=REF,BD!D1236>=DEB,BD!D1236<=FIN),MAX(calc!$H$1:H1235)+1,0)","v":0}]
[null,null,null,null,null,{"$f":"IF(COUNTIF(BD!$B$2:B1237,BD!B1237)=1,MAX($F$1:F1236)+1,\"\")","v":""},null,{"$f":"IF(AND(BD!B1237=REF,BD!D1237>=DEB,BD!D1237<=FIN),MAX(calc!$H$1:H1236)+1,0)","v":0}]
[null,null,null,null,null,{"$f":"IF(COUNTIF(BD!$B$2:B1238,BD!B1238)=1,MAX($F$1:F1237)+1,\"\")","v":""},null,{"$f":"IF(AND(BD!B1238=REF,BD!D1238>=DEB,BD!D1238<=FIN),MAX(calc!$H$1:H1237)+1,0)","v":0}]
[null,null,null,null,null,{"$f":"IF(COUNTIF(BD!$B$2:B1239,BD!B1239)=1,MAX($F$1:F1238)+1,\"\")","v":""},null,{"$f":"IF(AND(BD!B1239=REF,BD!D1239>=DEB,BD!D1239<=FIN),MAX(calc!$H$1:H1238)+1,0)","v":0}]
[null,null,null,null,null,{"$f":"IF(COUNTIF(BD!$B$2:B1240,BD!B1240)=1,MAX($F$1:F1239)+1,\"\")","v":""},null,{"$f":"IF(AND(BD!B1240=REF,BD!D1240>=DEB,BD!D1240<=FIN),MAX(calc!$H$1:H1239)+1,0)","v":0}]
[null,null,null,null,null,{"$f":"IF(COUNTIF(BD!$B$2:B1241,BD!B1241)=1,MAX($F$1:F1240)+1,\"\")","v":""},null,{"$f":"IF(AND(BD!B1241=REF,BD!D1241>=DEB,BD!D1241<=FIN),MAX(calc!$H$1:H1240)+1,0)","v":0}]
[null,null,null,null,null,{"$f":"IF(COUNTIF(BD!$B$2:B1242,BD!B1242)=1,MAX($F$1:F1241)+1,\"\")","v":""},null,{"$f":"IF(AND(BD!B1242=REF,BD!D1242>=DEB,BD!D1242<=FIN),MAX(calc!$H$1:H1241)+1,0)","v":0}]
[null,null,null,null,null,{"$f":"IF(COUNTIF(BD!$B$2:B1243,BD!B1243)=1,MAX($F$1:F1242)+1,\"\")","v":""},null,{"$f":"IF(AND(BD!B1243=REF,BD!D1243>=DEB,BD!D1243<=FIN),MAX(calc!$H$1:H1242)+1,0)","v":0}]
[null,null,null,null,null,{"$f":"IF(COUNTIF(BD!$B$2:B1244,BD!B1244)=1,MAX($F$1:F1243)+1,\"\")","v":""},null,{"$f":"IF(AND(BD!B1244=REF,BD!D1244>=DEB,BD!D1244<=FIN),MAX(calc!$H$1:H1243)+1,0)","v":0}]
[null,null,null,null,null,{"$f":"IF(COUNTIF(BD!$B$2:B1245,BD!B1245)=1,MAX($F$1:F1244)+1,\"\")","v":""},null,{"$f":"IF(AND(BD!B1245=REF,BD!D1245>=DEB,BD!D1245<=FIN),MAX(calc!$H$1:H1244)+1,0)","v":0}]
[null,null,null,null,null,{"$f":"IF(COUNTIF(BD!$B$2:B1246,BD!B1246)=1,MAX($F$1:F1245)+1,\"\")","v":""},null,{"$f":"IF(AND(BD!B1246=REF,BD!D1246>=DEB,BD!D1246<=FIN),MAX(calc!$H$1:H1245)+1,0)","v":0}]
[null,null,null,null,null,{"$f":"IF(COUNTIF(BD!$B$2:B1247,BD!B1247)=1,MAX($F$1:F1246)+1,\"\")","v":""},null,{"$f":"IF(AND(BD!B1247=REF,BD!D1247>=DEB,BD!D1247<=FIN),MAX(calc!$H$1:H1246)+1,0)","v":0}]
[null,null,null,null,null,{"$f":"IF(COUNTIF(BD!$B$2:B1248,BD!B1248)=1,MAX($F$1:F1247)+1,\"\")","v":""},null,{"$f":"IF(AND(BD!B1248=REF,BD!D1248>=DEB,BD!D1248<=FIN),MAX(calc!$H$1:H1247)+1,0)","v":0}]
[null,null,null,null,null,{"$f":"IF(COUNTIF(BD!$B$2:B1249,BD!B1249)=1,MAX($F$1:F1248)+1,\"\")","v":""},null,{"$f":"IF(AND(BD!B1249=REF,BD!D1249>=DEB,BD!D1249<=FIN),MAX(calc!$H$1:H1248)+1,0)","v":0}]
[null,null,null,null,null,{"$f":"IF(COUNTIF(BD!$B$2:B1250,BD!B1250)=1,MAX($F$1:F1249)+1,\"\")","v":""},null,{"$f":"IF(AND(BD!B1250=REF,BD!D1250>=DEB,BD!D1250<=FIN),MAX(calc!$H$1:H1249)+1,0)","v":0}]
[null,null,null,null,null,{"$f":"IF(COUNTIF(BD!$B$2:B1251,BD!B1251)=1,MAX($F$1:F1250)+1,\"\")","v":""},null,{"$f":"IF(AND(BD!B1251=REF,BD!D1251>=DEB,BD!D1251<=FIN),MAX(calc!$H$1:H1250)+1,0)","v":0}]
[null,null,null,null,null,{"$f":"IF(COUNTIF(BD!$B$2:B1252,BD!B1252)=1,MAX($F$1:F1251)+1,\"\")","v":""},null,{"$f":"IF(AND(BD!B1252=REF,BD!D1252>=DEB,BD!D1252<=FIN),MAX(calc!$H$1:H1251)+1,0)","v":0}]
[null,null,null,null,null,{"$f":"IF(COUNTIF(BD!$B$2:B1253,BD!B1253)=1,MAX($F$1:F1252)+1,\"\")","v":""},null,{"$f":"IF(AND(BD!B1253=REF,BD!D1253>=DEB,BD!D1253<=FIN),MAX(calc!$H$1:H1252)+1,0)","v":0}]
[null,null,null,null,null,{"$f":"IF(COUNTIF(BD!$B$2:B1254,BD!B1254)=1,MAX($F$1:F1253)+1,\"\")","v":""},null,{"$f":"IF(AND(BD!B1254=REF,BD!D1254>=DEB,BD!D1254<=FIN),MAX(calc!$H$1:H1253)+1,0)","v":0}]
[null,null,null,null,null,{"$f":"IF(COUNTIF(BD!$B$2:B1255,BD!B1255)=1,MAX($F$1:F1254)+1,\"\")","v":""},null,{"$f":"IF(AND(BD!B1255=REF,BD!D1255>=DEB,BD!D1255<=FIN),MAX(calc!$H$1:H1254)+1,0)","v":0}]
[null,null,null,null,null,{"$f":"IF(COUNTIF(BD!$B$2:B1256,BD!B1256)=1,MAX($F$1:F1255)+1,\"\")","v":""},null,{"$f":"IF(AND(BD!B1256=REF,BD!D1256>=DEB,BD!D1256<=FIN),MAX(calc!$H$1:H1255)+1,0)","v":0}]
[null,null,null,null,null,{"$f":"IF(COUNTIF(BD!$B$2:B1257,BD!B1257)=1,MAX($F$1:F1256)+1,\"\")","v":""},null,{"$f":"IF(AND(BD!B1257=REF,BD!D1257>=DEB,BD!D1257<=FIN),MAX(calc!$H$1:H1256)+1,0)","v":0}]
[null,null,null,null,null,{"$f":"IF(COUNTIF(BD!$B$2:B1258,BD!B1258)=1,MAX($F$1:F1257)+1,\"\")","v":""},null,{"$f":"IF(AND(BD!B1258=REF,BD!D1258>=DEB,BD!D1258<=FIN),MAX(calc!$H$1:H1257)+1,0)","v":0}]
[null,null,null,null,null,{"$f":"IF(COUNTIF(BD!$B$2:B1259,BD!B1259)=1,MAX($F$1:F1258)+1,\"\")","v":""},null,{"$f":"IF(AND(BD!B1259=REF,BD!D1259>=DEB,BD!D1259<=FIN),MAX(calc!$H$1:H1258)+1,0)","v":0}]
[null,null,null,null,null,{"$f":"IF(COUNTIF(BD!$B$2:B1260,BD!B1260)=1,MAX($F$1:F1259)+1,\"\")","v":""},null,{"$f":"IF(AND(BD!B1260=REF,BD!D1260>=DEB,BD!D1260<=FIN),MAX(calc!$H$1:H1259)+1,0)","v":0}]
[null,null,null,null,null,{"$f":"IF(COUNTIF(BD!$B$2:B1261,BD!B1261)=1,MAX($F$1:F1260)+1,\"\")","v":""},null,{"$f":"IF(AND(BD!B1261=REF,BD!D1261>=DEB,BD!D1261<=FIN),MAX(calc!$H$1:H1260)+1,0)","v":0}]
[null,null,null,null,null,{"$f":"IF(COUNTIF(BD!$B$2:B1262,BD!B1262)=1,MAX($F$1:F1261)+1,\"\")","v":""},null,{"$f":"IF(AND(BD!B1262=REF,BD!D1262>=DEB,BD!D1262<=FIN),MAX(calc!$H$1:H1261)+1,0)","v":0}]
[null,null,null,null,null,{"$f":"IF(COUNTIF(BD!$B$2:B1263,BD!B1263)=1,MAX($F$1:F1262)+1,\"\")","v":""},null,{"$f":"IF(AND(BD!B1263=REF,BD!D1263>=DEB,BD!D1263<=FIN),MAX(calc!$H$1:H1262)+1,0)","v":0}]
[null,null,null,null,null,{"$f":"IF(COUNTIF(BD!$B$2:B1264,BD!B1264)=1,MAX($F$1:F1263)+1,\"\")","v":""},null,{"$f":"IF(AND(BD!B1264=REF,BD!D1264>=DEB,BD!D1264<=FIN),MAX(calc!$H$1:H1263)+1,0)","v":0}]
[null,null,null,null,null,{"$f":"IF(COUNTIF(BD!$B$2:B1265,BD!B1265)=1,MAX($F$1:F1264)+1,\"\")","v":""},null,{"$f":"IF(AND(BD!B1265=REF,BD!D1265>=DEB,BD!D1265<=FIN),MAX(calc!$H$1:H1264)+1,0)","v":0}]
[null,null,null,null,null,{"$f":"IF(COUNTIF(BD!$B$2:B1266,BD!B1266)=1,MAX($F$1:F1265)+1,\"\")","v":""},null,{"$f":"IF(AND(BD!B1266=REF,BD!D1266>=DEB,BD!D1266<=FIN),MAX(calc!$H$1:H1265)+1,0)","v":0}]
[null,null,null,null,null,{"$f":"IF(COUNTIF(BD!$B$2:B1267,BD!B1267)=1,MAX($F$1:F1266)+1,\"\")","v":""},null,{"$f":"IF(AND(BD!B1267=REF,BD!D1267>=DEB,BD!D1267<=FIN),MAX(calc!$H$1:H1266)+1,0)","v":0}]
[null,null,null,null,null,{"$f":"IF(COUNTIF(BD!$B$2:B1268,BD!B1268)=1,MAX($F$1:F1267)+1,\"\")","v":""},null,{"$f":"IF(AND(BD!B1268=REF,BD!D1268>=DEB,BD!D1268<=FIN),MAX(calc!$H$1:H1267)+1,0)","v":0}]
[null,null,null,null,null,{"$f":"IF(COUNTIF(BD!$B$2:B1269,BD!B1269)=1,MAX($F$1:F1268)+1,\"\")","v":""},null,{"$f":"IF(AND(BD!B1269=REF,BD!D1269>=DEB,BD!D1269<=FIN),MAX(calc!$H$1:H1268)+1,0)","v":0}]
[null,null,null,null,null,{"$f":"IF(COUNTIF(BD!$B$2:B1270,BD!B1270)=1,MAX($F$1:F1269)+1,\"\")","v":""},null,{"$f":"IF(AND(BD!B1270=REF,BD!D1270>=DEB,BD!D1270<=FIN),MAX(calc!$H$1:H1269)+1,0)","v":0}]
[null,null,null,null,null,{"$f":"IF(COUNTIF(BD!$B$2:B1271,BD!B1271)=1,MAX($F$1:F1270)+1,\"\")","v":""},null,{"$f":"IF(AND(BD!B1271=REF,BD!D1271>=DEB,BD!D1271<=FIN),MAX(calc!$H$1:H1270)+1,0)","v":0}]
[null,null,null,null,null,{"$f":"IF(COUNTIF(BD!$B$2:B1272,BD!B1272)=1,MAX($F$1:F1271)+1,\"\")","v":""},null,{"$f":"IF(AND(BD!B1272=REF,BD!D1272>=DEB,BD!D1272<=FIN),MAX(calc!$H$1:H1271)+1,0)","v":0}]
[null,null,null,null,null,{"$f":"IF(COUNTIF(BD!$B$2:B1273,BD!B1273)=1,MAX($F$1:F1272)+1,\"\")","v":""},null,{"$f":"IF(AND(BD!B1273=REF,BD!D1273>=DEB,BD!D1273<=FIN),MAX(calc!$H$1:H1272)+1,0)","v":0}]
[null,null,null,null,null,{"$f":"IF(COUNTIF(BD!$B$2:B1274,BD!B1274)=1,MAX($F$1:F1273)+1,\"\")","v":""},null,{"$f":"IF(AND(BD!B1274=REF,BD!D1274>=DEB,BD!D1274<=FIN),MAX(calc!$H$1:H1273)+1,0)","v":0}]
[null,null,null,null,null,{"$f":"IF(COUNTIF(BD!$B$2:B1275,BD!B1275)=1,MAX($F$1:F1274)+1,\"\")","v":""},null,{"$f":"IF(AND(BD!B1275=REF,BD!D1275>=DEB,BD!D1275<=FIN),MAX(calc!$H$1:H1274)+1,0)","v":0}]
[null,null,null,null,null,{"$f":"IF(COUNTIF(BD!$B$2:B1276,BD!B1276)=1,MAX($F$1:F1275)+1,\"\")","v":""},null,{"$f":"IF(AND(BD!B1276=REF,BD!D1276>=DEB,BD!D1276<=FIN),MAX(calc!$H$1:H1275)+1,0)","v":0}]
[null,null,null,null,null,{"$f":"IF(COUNTIF(BD!$B$2:B1277,BD!B1277)=1,MAX($F$1:F1276)+1,\"\")","v":""},null,{"$f":"IF(AND(BD!B1277=REF,BD!D1277>=DEB,BD!D1277<=FIN),MAX(calc!$H$1:H1276)+1,0)","v":0}]
[null,null,null,null,null,{"$f":"IF(COUNTIF(BD!$B$2:B1278,BD!B1278)=1,MAX($F$1:F1277)+1,\"\")","v":""},null,{"$f":"IF(AND(BD!B1278=REF,BD!D1278>=DEB,BD!D1278<=FIN),MAX(calc!$H$1:H1277)+1,0)","v":0}]
[null,null,null,null,null,{"$f":"IF(COUNTIF(BD!$B$2:B1279,BD!B1279)=1,MAX($F$1:F1278)+1,\"\")","v":""},null,{"$f":"IF(AND(BD!B1279=REF,BD!D1279>=DEB,BD!D1279<=FIN),MAX(calc!$H$1:H1278)+1,0)","v":0}]
[null,null,null,null,null,{"$f":"IF(COUNTIF(BD!$B$2:B1280,BD!B1280)=1,MAX($F$1:F1279)+1,\"\")","v":""},null,{"$f":"IF(AND(BD!B1280=REF,BD!D1280>=DEB,BD!D1280<=FIN),MAX(calc!$H$1:H1279)+1,0)","v":0}]
[null,null,null,null,null,{"$f":"IF(COUNTIF(BD!$B$2:B1281,BD!B1281)=1,MAX($F$1:F1280)+1,\"\")","v":""},null,{"$f":"IF(AND(BD!B1281=REF,BD!D1281>=DEB,BD!D1281<=FIN),MAX(calc!$H$1:H1280)+1,0)","v":0}]
[null,null,null,null,null,{"$f":"IF(COUNTIF(BD!$B$2:B1282,BD!B1282)=1,MAX($F$1:F1281)+1,\"\")","v":""},null,{"$f":"IF(AND(BD!B1282=REF,BD!D1282>=DEB,BD!D1282<=FIN),MAX(calc!$H$1:H1281)+1,0)","v":0}]
[null,null,null,null,null,{"$f":"IF(COUNTIF(BD!$B$2:B1283,BD!B1283)=1,MAX($F$1:F1282)+1,\"\")","v":""},null,{"$f":"IF(AND(BD!B1283=REF,BD!D1283>=DEB,BD!D1283<=FIN),MAX(calc!$H$1:H1282)+1,0)","v":0}]
[null,null,null,null,null,{"$f":"IF(COUNTIF(BD!$B$2:B1284,BD!B1284)=1,MAX($F$1:F1283)+1,\"\")","v":""},null,{"$f":"IF(AND(BD!B1284=REF,BD!D1284>=DEB,BD!D1284<=FIN),MAX(calc!$H$1:H1283)+1,0)","v":0}]
[null,null,null,null,null,{"$f":"IF(COUNTIF(BD!$B$2:B1285,BD!B1285)=1,MAX($F$1:F1284)+1,\"\")","v":""},null,{"$f":"IF(AND(BD!B1285=REF,BD!D1285>=DEB,BD!D1285<=FIN),MAX(calc!$H$1:H1284)+1,0)","v":0}]
[null,null,null,null,null,{"$f":"IF(COUNTIF(BD!$B$2:B1286,BD!B1286)=1,MAX($F$1:F1285)+1,\"\")","v":""},null,{"$f":"IF(AND(BD!B1286=REF,BD!D1286>=DEB,BD!D1286<=FIN),MAX(calc!$H$1:H1285)+1,0)","v":0}]
[null,null,null,null,null,{"$f":"IF(COUNTIF(BD!$B$2:B1287,BD!B1287)=1,MAX($F$1:F1286)+1,\"\")","v":""},null,{"$f":"IF(AND(BD!B1287=REF,BD!D1287>=DEB,BD!D1287<=FIN),MAX(calc!$H$1:H1286)+1,0)","v":0}]
[null,null,null,null,null,{"$f":"IF(COUNTIF(BD!$B$2:B1288,BD!B1288)=1,MAX($F$1:F1287)+1,\"\")","v":""},null,{"$f":"IF(AND(BD!B1288=REF,BD!D1288>=DEB,BD!D1288<=FIN),MAX(calc!$H$1:H1287)+1,0)","v":0}]
[null,null,null,null,null,{"$f":"IF(COUNTIF(BD!$B$2:B1289,BD!B1289)=1,MAX($F$1:F1288)+1,\"\")","v":""},null,{"$f":"IF(AND(BD!B1289=REF,BD!D1289>=DEB,BD!D1289<=FIN),MAX(calc!$H$1:H1288)+1,0)","v":0}]
[null,null,null,null,null,{"$f":"IF(COUNTIF(BD!$B$2:B1290,BD!B1290)=1,MAX($F$1:F1289)+1,\"\")","v":""},null,{"$f":"IF(AND(BD!B1290=REF,BD!D1290>=DEB,BD!D1290<=FIN),MAX(calc!$H$1:H1289)+1,0)","v":0}]
[null,null,null,null,null,{"$f":"IF(COUNTIF(BD!$B$2:B1291,BD!B1291)=1,MAX($F$1:F1290)+1,\"\")","v":""},null,{"$f":"IF(AND(BD!B1291=REF,BD!D1291>=DEB,BD!D1291<=FIN),MAX(calc!$H$1:H1290)+1,0)","v":0}]
[null,null,null,null,null,{"$f":"IF(COUNTIF(BD!$B$2:B1292,BD!B1292)=1,MAX($F$1:F1291)+1,\"\")","v":""},null,{"$f":"IF(AND(BD!B1292=REF,BD!D1292>=DEB,BD!D1292<=FIN),MAX(calc!$H$1:H1291)+1,0)","v":0}]
[null,null,null,null,null,{"$f":"IF(COUNTIF(BD!$B$2:B1293,BD!B1293)=1,MAX($F$1:F1292)+1,\"\")","v":""},null,{"$f":"IF(AND(BD!B1293=REF,BD!D1293>=DEB,BD!D1293<=FIN),MAX(calc!$H$1:H1292)+1,0)","v":0}]
[null,null,null,null,null,{"$f":"IF(COUNTIF(BD!$B$2:B1294,BD!B1294)=1,MAX($F$1:F1293)+1,\"\")","v":""},null,{"$f":"IF(AND(BD!B1294=REF,BD!D1294>=DEB,BD!D1294<=FIN),MAX(calc!$H$1:H1293)+1,0)","v":0}]
[null,null,null,null,null,{"$f":"IF(COUNTIF(BD!$B$2:B1295,BD!B1295)=1,MAX($F$1:F1294)+1,\"\")","v":""},null,{"$f":"IF(AND(BD!B1295=REF,BD!D1295>=DEB,BD!D1295<=FIN),MAX(calc!$H$1:H1294)+1,0)","v":0}]
[null,null,null,null,null,{"$f":"IF(COUNTIF(BD!$B$2:B1296,BD!B1296)=1,MAX($F$1:F1295)+1,\"\")","v":""},null,{"$f":"IF(AND(BD!B1296=REF,BD!D1296>=DEB,BD!D1296<=FIN),MAX(calc!$H$1:H1295)+1,0)","v":0}]
[null,null,null,null,null,{"$f":"IF(COUNTIF(BD!$B$2:B1297,BD!B1297)=1,MAX($F$1:F1296)+1,\"\")","v":""},null,{"$f":"IF(AND(BD!B1297=REF,BD!D1297>=DEB,BD!D1297<=FIN),MAX(calc!$H$1:H1296)+1,0)","v":0}]
[null,null,null,null,null,{"$f":"IF(COUNTIF(BD!$B$2:B1298,BD!B1298)=1,MAX($F$1:F1297)+1,\"\")","v":""},null,{"$f":"IF(AND(BD!B1298=REF,BD!D1298>=DEB,BD!D1298<=FIN),MAX(calc!$H$1:H1297)+1,0)","v":0}]
[null,null,null,null,null,{"$f":"IF(COUNTIF(BD!$B$2:B1299,BD!B1299)=1,MAX($F$1:F1298)+1,\"\")","v":""},null,{"$f":"IF(AND(BD!B1299=REF,BD!D1299>=DEB,BD!D1299<=FIN),MAX(calc!$H$1:H1298)+1,0)","v":0}]
[null,null,null,null,null,{"$f":"IF(COUNTIF(BD!$B$2:B1300,BD!B1300)=1,MAX($F$1:F1299)+1,\"\")","v":""},null,{"$f":"IF(AND(BD!B1300=REF,BD!D1300>=DEB,BD!D1300<=FIN),MAX(calc!$H$1:H1299)+1,0)","v":0}]
[null,null,null,null,null,{"$f":"IF(COUNTIF(BD!$B$2:B1301,BD!B1301)=1,MAX($F$1:F1300)+1,\"\")","v":""},null,{"$f":"IF(AND(BD!B1301=REF,BD!D1301>=DEB,BD!D1301<=FIN),MAX(calc!$H$1:H1300)+1,0)","v":0}]
[null,null,null,null,null,{"$f":"IF(COUNTIF(BD!$B$2:B1302,BD!B1302)=1,MAX($F$1:F1301)+1,\"\")","v":""},null,{"$f":"IF(AND(BD!B1302=REF,BD!D1302>=DEB,BD!D1302<=FIN),MAX(calc!$H$1:H1301)+1,0)","v":0}]
[null,null,null,null,null,{"$f":"IF(COUNTIF(BD!$B$2:B1303,BD!B1303)=1,MAX($F$1:F1302)+1,\"\")","v":""},null,{"$f":"IF(AND(BD!B1303=REF,BD!D1303>=DEB,BD!D1303<=FIN),MAX(calc!$H$1:H1302)+1,0)","v":0}]
[null,null,null,null,null,{"$f":"IF(COUNTIF(BD!$B$2:B1304,BD!B1304)=1,MAX($F$1:F1303)+1,\"\")","v":""},null,{"$f":"IF(AND(BD!B1304=REF,BD!D1304>=DEB,BD!D1304<=FIN),MAX(calc!$H$1:H1303)+1,0)","v":0}]
[null,null,null,null,null,{"$f":"IF(COUNTIF(BD!$B$2:B1305,BD!B1305)=1,MAX($F$1:F1304)+1,\"\")","v":""},null,{"$f":"IF(AND(BD!B1305=REF,BD!D1305>=DEB,BD!D1305<=FIN),MAX(calc!$H$1:H1304)+1,0)","v":0}]
[null,null,null,null,null,{"$f":"IF(COUNTIF(BD!$B$2:B1306,BD!B1306)=1,MAX($F$1:F1305)+1,\"\")","v":""},null,{"$f":"IF(AND(BD!B1306=REF,BD!D1306>=DEB,BD!D1306<=FIN),MAX(calc!$H$1:H1305)+1,0)","v":0}]
[null,null,null,null,null,{"$f":"IF(COUNTIF(BD!$B$2:B1307,BD!B1307)=1,MAX($F$1:F1306)+1,\"\")","v":""},null,{"$f":"IF(AND(BD!B1307=REF,BD!D1307>=DEB,BD!D1307<=FIN),MAX(calc!$H$1:H1306)+1,0)","v":0}]
[null,null,null,null,null,{"$f":"IF(COUNTIF(BD!$B$2:B1308,BD!B1308)=1,MAX($F$1:F1307)+1,\"\")","v":""},null,{"$f":"IF(AND(BD!B1308=REF,BD!D1308>=DEB,BD!D1308<=FIN),MAX(calc!$H$1:H1307)+1,0)","v":0}]
[null,null,null,null,null,{"$f":"IF(COUNTIF(BD!$B$2:B1309,BD!B1309)=1,MAX($F$1:F1308)+1,\"\")","v":""},null,{"$f":"IF(AND(BD!B1309=REF,BD!D1309>=DEB,BD!D1309<=FIN),MAX(calc!$H$1:H1308)+1,0)","v":0}]
[null,null,null,null,null,{"$f":"IF(COUNTIF(BD!$B$2:B1310,BD!B1310)=1,MAX($F$1:F1309)+1,\"\")","v":""},null,{"$f":"IF(AND(BD!B1310=REF,BD!D1310>=DEB,BD!D1310<=FIN),MAX(calc!$H$1:H1309)+1,0)","v":0}]
[null,null,null,null,null,{"$f":"IF(COUNTIF(BD!$B$2:B1311,BD!B1311)=1,MAX($F$1:F1310)+1,\"\")","v":""},null,{"$f":"IF(AND(BD!B1311=REF,BD!D1311>=DEB,BD!D1311<=FIN),MAX(calc!$H$1:H1310)+1,0)","v":0}]
[null,null,null,null,null,{"$f":"IF(COUNTIF(BD!$B$2:B1312,BD!B1312)=1,MAX($F$1:F1311)+1,\"\")","v":""},null,{"$f":"IF(AND(BD!B1312=REF,BD!D1312>=DEB,BD!D1312<=FIN),MAX(calc!$H$1:H1311)+1,0)","v":0}]
[null,null,null,null,null,{"$f":"IF(COUNTIF(BD!$B$2:B1313,BD!B1313)=1,MAX($F$1:F1312)+1,\"\")","v":""},null,{"$f":"IF(AND(BD!B1313=REF,BD!D1313>=DEB,BD!D1313<=FIN),MAX(calc!$H$1:H1312)+1,0)","v":0}]
[null,null,null,null,null,{"$f":"IF(COUNTIF(BD!$B$2:B1314,BD!B1314)=1,MAX($F$1:F1313)+1,\"\")","v":""},null,{"$f":"IF(AND(BD!B1314=REF,BD!D1314>=DEB,BD!D1314<=FIN),MAX(calc!$H$1:H1313)+1,0)","v":0}]
[null,null,null,null,null,{"$f":"IF(COUNTIF(BD!$B$2:B1315,BD!B1315)=1,MAX($F$1:F1314)+1,\"\")","v":""},null,{"$f":"IF(AND(BD!B1315=REF,BD!D1315>=DEB,BD!D1315<=FIN),MAX(calc!$H$1:H1314)+1,0)","v":0}]
[null,null,null,null,null,{"$f":"IF(COUNTIF(BD!$B$2:B1316,BD!B1316)=1,MAX($F$1:F1315)+1,\"\")","v":""},null,{"$f":"IF(AND(BD!B1316=REF,BD!D1316>=DEB,BD!D1316<=FIN),MAX(calc!$H$1:H1315)+1,0)","v":0}]
[null,null,null,null,null,{"$f":"IF(COUNTIF(BD!$B$2:B1317,BD!B1317)=1,MAX($F$1:F1316)+1,\"\")","v":""},null,{"$f":"IF(AND(BD!B1317=REF,BD!D1317>=DEB,BD!D1317<=FIN),MAX(calc!$H$1:H1316)+1,0)","v":0}]
[null,null,null,null,null,{"$f":"IF(COUNTIF(BD!$B$2:B1318,BD!B1318)=1,MAX($F$1:F1317)+1,\"\")","v":""},null,{"$f":"IF(AND(BD!B1318=REF,BD!D1318>=DEB,BD!D1318<=FIN),MAX(calc!$H$1:H1317)+1,0)","v":0}]
[null,null,null,null,null,{"$f":"IF(COUNTIF(BD!$B$2:B1319,BD!B1319)=1,MAX($F$1:F1318)+1,\"\")","v":""},null,{"$f":"IF(AND(BD!B1319=REF,BD!D1319>=DEB,BD!D1319<=FIN),MAX(calc!$H$1:H1318)+1,0)","v":0}]
[null,null,null,null,null,{"$f":"IF(COUNTIF(BD!$B$2:B1320,BD!B1320)=1,MAX($F$1:F1319)+1,\"\")","v":""},null,{"$f":"IF(AND(BD!B1320=REF,BD!D1320>=DEB,BD!D1320<=FIN),MAX(calc!$H$1:H1319)+1,0)","v":0}]
[null,null,null,null,null,{"$f":"IF(COUNTIF(BD!$B$2:B1321,BD!B1321)=1,MAX($F$1:F1320)+1,\"\")","v":""},null,{"$f":"IF(AND(BD!B1321=REF,BD!D1321>=DEB,BD!D1321<=FIN),MAX(calc!$H$1:H1320)+1,0)","v":0}]
[null,null,null,null,null,{"$f":"IF(COUNTIF(BD!$B$2:B1322,BD!B1322)=1,MAX($F$1:F1321)+1,\"\")","v":""},null,{"$f":"IF(AND(BD!B1322=REF,BD!D1322>=DEB,BD!D1322<=FIN),MAX(calc!$H$1:H1321)+1,0)","v":0}]
[null,null,null,null,null,{"$f":"IF(COUNTIF(BD!$B$2:B1323,BD!B1323)=1,MAX($F$1:F1322)+1,\"\")","v":""},null,{"$f":"IF(AND(BD!B1323=REF,BD!D1323>=DEB,BD!D1323<=FIN),MAX(calc!$H$1:H1322)+1,0)","v":0}]
[null,null,null,null,null,{"$f":"IF(COUNTIF(BD!$B$2:B1324,BD!B1324)=1,MAX($F$1:F1323)+1,\"\")","v":""},null,{"$f":"IF(AND(BD!B1324=REF,BD!D1324>=DEB,BD!D1324<=FIN),MAX(calc!$H$1:H1323)+1,0)","v":0}]
[null,null,null,null,null,{"$f":"IF(COUNTIF(BD!$B$2:B1325,BD!B1325)=1,MAX($F$1:F1324)+1,\"\")","v":""},null,{"$f":"IF(AND(BD!B1325=REF,BD!D1325>=DEB,BD!D1325<=FIN),MAX(calc!$H$1:H1324)+1,0)","v":0}]
[null,null,null,null,null,{"$f":"IF(COUNTIF(BD!$B$2:B1326,BD!B1326)=1,MAX($F$1:F1325)+1,\"\")","v":""},null,{"$f":"IF(AND(BD!B1326=REF,BD!D1326>=DEB,BD!D1326<=FIN),MAX(calc!$H$1:H1325)+1,0)","v":0}]
[null,null,null,null,null,{"$f":"IF(COUNTIF(BD!$B$2:B1327,BD!B1327)=1,MAX($F$1:F1326)+1,\"\")","v":""},null,{"$f":"IF(AND(BD!B1327=REF,BD!D1327>=DEB,BD!D1327<=FIN),MAX(calc!$H$1:H1326)+1,0)","v":0}]
[null,null,null,null,null,{"$f":"IF(COUNTIF(BD!$B$2:B1328,BD!B1328)=1,MAX($F$1:F1327)+1,\"\")","v":""},null,{"$f":"IF(AND(BD!B1328=REF,BD!D1328>=DEB,BD!D1328<=FIN),MAX(calc!$H$1:H1327)+1,0)","v":0}]
[null,null,null,null,null,{"$f":"IF(COUNTIF(BD!$B$2:B1329,BD!B1329)=1,MAX($F$1:F1328)+1,\"\")","v":""},null,{"$f":"IF(AND(BD!B1329=REF,BD!D1329>=DEB,BD!D1329<=FIN),MAX(calc!$H$1:H1328)+1,0)","v":0}]
[null,null,null,null,null,{"$f":"IF(COUNTIF(BD!$B$2:B1330,BD!B1330)=1,MAX($F$1:F1329)+1,\"\")","v":""},null,{"$f":"IF(AND(BD!B1330=REF,BD!D1330>=DEB,BD!D1330<=FIN),MAX(calc!$H$1:H1329)+1,0)","v":0}]
[null,null,null,null,null,{"$f":"IF(COUNTIF(BD!$B$2:B1331,BD!B1331)=1,MAX($F$1:F1330)+1,\"\")","v":""},null,{"$f":"IF(AND(BD!B1331=REF,BD!D1331>=DEB,BD!D1331<=FIN),MAX(calc!$H$1:H1330)+1,0)","v":0}]
[null,null,null,null,null,{"$f":"IF(COUNTIF(BD!$B$2:B1332,BD!B1332)=1,MAX($F$1:F1331)+1,\"\")","v":""},null,{"$f":"IF(AND(BD!B1332=REF,BD!D1332>=DEB,BD!D1332<=FIN),MAX(calc!$H$1:H1331)+1,0)","v":0}]
[null,null,null,null,null,{"$f":"IF(COUNTIF(BD!$B$2:B1333,BD!B1333)=1,MAX($F$1:F1332)+1,\"\")","v":""},null,{"$f":"IF(AND(BD!B1333=REF,BD!D1333>=DEB,BD!D1333<=FIN),MAX(calc!$H$1:H1332)+1,0)","v":0}]
[null,null,null,null,null,{"$f":"IF(COUNTIF(BD!$B$2:B1334,BD!B1334)=1,MAX($F$1:F1333)+1,\"\")","v":""},null,{"$f":"IF(AND(BD!B1334=REF,BD!D1334>=DEB,BD!D1334<=FIN),MAX(calc!$H$1:H1333)+1,0)","v":0}]
[null,null,null,null,null,{"$f":"IF(COUNTIF(BD!$B$2:B1335,BD!B1335)=1,MAX($F$1:F1334)+1,\"\")","v":""},null,{"$f":"IF(AND(BD!B1335=REF,BD!D1335>=DEB,BD!D1335<=FIN),MAX(calc!$H$1:H1334)+1,0)","v":0}]
[null,null,null,null,null,{"$f":"IF(COUNTIF(BD!$B$2:B1336,BD!B1336)=1,MAX($F$1:F1335)+1,\"\")","v":""},null,{"$f":"IF(AND(BD!B1336=REF,BD!D1336>=DEB,BD!D1336<=FIN),MAX(calc!$H$1:H1335)+1,0)","v":0}]
[null,null,null,null,null,{"$f":"IF(COUNTIF(BD!$B$2:B1337,BD!B1337)=1,MAX($F$1:F1336)+1,\"\")","v":""},null,{"$f":"IF(AND(BD!B1337=REF,BD!D1337>=DEB,BD!D1337<=FIN),MAX(calc!$H$1:H1336)+1,0)","v":0}]
[null,null,null,null,null,{"$f":"IF(COUNTIF(BD!$B$2:B1338,BD!B1338)=1,MAX($F$1:F1337)+1,\"\")","v":""},null,{"$f":"IF(AND(BD!B1338=REF,BD!D1338>=DEB,BD!D1338<=FIN),MAX(calc!$H$1:H1337)+1,0)","v":0}]
[null,null,null,null,null,{"$f":"IF(COUNTIF(BD!$B$2:B1339,BD!B1339)=1,MAX($F$1:F1338)+1,\"\")","v":""},null,{"$f":"IF(AND(BD!B1339=REF,BD!D1339>=DEB,BD!D1339<=FIN),MAX(calc!$H$1:H1338)+1,0)","v":0}]
[null,null,null,null,null,{"$f":"IF(COUNTIF(BD!$B$2:B1340,BD!B1340)=1,MAX($F$1:F1339)+1,\"\")","v":""},null,{"$f":"IF(AND(BD!B1340=REF,BD!D1340>=DEB,BD!D1340<=FIN),MAX(calc!$H$1:H1339)+1,0)","v":0}]
[null,null,null,null,null,{"$f":"IF(COUNTIF(BD!$B$2:B1341,BD!B1341)=1,MAX($F$1:F1340)+1,\"\")","v":""},null,{"$f":"IF(AND(BD!B1341=REF,BD!D1341>=DEB,BD!D1341<=FIN),MAX(calc!$H$1:H1340)+1,0)","v":0}]
[null,null,null,null,null,{"$f":"IF(COUNTIF(BD!$B$2:B1342,BD!B1342)=1,MAX($F$1:F1341)+1,\"\")","v":""},null,{"$f":"IF(AND(BD!B1342=REF,BD!D1342>=DEB,BD!D1342<=FIN),MAX(calc!$H$1:H1341)+1,0)","v":0}]
[null,null,null,null,null,{"$f":"IF(COUNTIF(BD!$B$2:B1343,BD!B1343)=1,MAX($F$1:F1342)+1,\"\")","v":""},null,{"$f":"IF(AND(BD!B1343=REF,BD!D1343>=DEB,BD!D1343<=FIN),MAX(calc!$H$1:H1342)+1,0)","v":0}]
[null,null,null,null,null,{"$f":"IF(COUNTIF(BD!$B$2:B1344,BD!B1344)=1,MAX($F$1:F1343)+1,\"\")","v":""},null,{"$f":"IF(AND(BD!B1344=REF,BD!D1344>=DEB,BD!D1344<=FIN),MAX(calc!$H$1:H1343)+1,0)","v":0}]
[null,null,null,null,null,{"$f":"IF(COUNTIF(BD!$B$2:B1345,BD!B1345)=1,MAX($F$1:F1344)+1,\"\")","v":""},null,{"$f":"IF(AND(BD!B1345=REF,BD!D1345>=DEB,BD!D1345<=FIN),MAX(calc!$H$1:H1344)+1,0)","v":0}]
[null,null,null,null,null,{"$f":"IF(COUNTIF(BD!$B$2:B1346,BD!B1346)=1,MAX($F$1:F1345)+1,\"\")","v":""},null,{"$f":"IF(AND(BD!B1346=REF,BD!D1346>=DEB,BD!D1346<=FIN),MAX(calc!$H$1:H1345)+1,0)","v":0}]
[null,null,null,null,null,{"$f":"IF(COUNTIF(BD!$B$2:B1347,BD!B1347)=1,MAX($F$1:F1346)+1,\"\")","v":""},null,{"$f":"IF(AND(BD!B1347=REF,BD!D1347>=DEB,BD!D1347<=FIN),MAX(calc!$H$1:H1346)+1,0)","v":0}]
[null,null,null,null,null,{"$f":"IF(COUNTIF(BD!$B$2:B1348,BD!B1348)=1,MAX($F$1:F1347)+1,\"\")","v":""},null,{"$f":"IF(AND(BD!B1348=REF,BD!D1348>=DEB,BD!D1348<=FIN),MAX(calc!$H$1:H1347)+1,0)","v":0}]
[null,null,null,null,null,{"$f":"IF(COUNTIF(BD!$B$2:B1349,BD!B1349)=1,MAX($F$1:F1348)+1,\"\")","v":""},null,{"$f":"IF(AND(BD!B1349=REF,BD!D1349>=DEB,BD!D1349<=FIN),MAX(calc!$H$1:H1348)+1,0)","v":0}]
[null,null,null,null,null,{"$f":"IF(COUNTIF(BD!$B$2:B1350,BD!B1350)=1,MAX($F$1:F1349)+1,\"\")","v":""},null,{"$f":"IF(AND(BD!B1350=REF,BD!D1350>=DEB,BD!D1350<=FIN),MAX(calc!$H$1:H1349)+1,0)","v":0}]
[null,null,null,null,null,{"$f":"IF(COUNTIF(BD!$B$2:B1351,BD!B1351)=1,MAX($F$1:F1350)+1,\"\")","v":""},null,{"$f":"IF(AND(BD!B1351=REF,BD!D1351>=DEB,BD!D1351<=FIN),MAX(calc!$H$1:H1350)+1,0)","v":0}]
[null,null,null,null,null,{"$f":"IF(COUNTIF(BD!$B$2:B1352,BD!B1352)=1,MAX($F$1:F1351)+1,\"\")","v":""},null,{"$f":"IF(AND(BD!B1352=REF,BD!D1352>=DEB,BD!D1352<=FIN),MAX(calc!$H$1:H1351)+1,0)","v":0}]
[null,null,null,null,null,{"$f":"IF(COUNTIF(BD!$B$2:B1353,BD!B1353)=1,MAX($F$1:F1352)+1,\"\")","v":""},null,{"$f":"IF(AND(BD!B1353=REF,BD!D1353>=DEB,BD!D1353<=FIN),MAX(calc!$H$1:H1352)+1,0)","v":0}]
[null,null,null,null,null,{"$f":"IF(COUNTIF(BD!$B$2:B1354,BD!B1354)=1,MAX($F$1:F1353)+1,\"\")","v":""},null,{"$f":"IF(AND(BD!B1354=REF,BD!D1354>=DEB,BD!D1354<=FIN),MAX(calc!$H$1:H1353)+1,0)","v":0}]
[null,null,null,null,null,{"$f":"IF(COUNTIF(BD!$B$2:B1355,BD!B1355)=1,MAX($F$1:F1354)+1,\"\")","v":""},null,{"$f":"IF(AND(BD!B1355=REF,BD!D1355>=DEB,BD!D1355<=FIN),MAX(calc!$H$1:H1354)+1,0)","v":0}]
[null,null,null,null,null,{"$f":"IF(COUNTIF(BD!$B$2:B1356,BD!B1356)=1,MAX($F$1:F1355)+1,\"\")","v":""},null,{"$f":"IF(AND(BD!B1356=REF,BD!D1356>=DEB,BD!D1356<=FIN),MAX(calc!$H$1:H1355)+1,0)","v":0}]
[null,null,null,null,null,{"$f":"IF(COUNTIF(BD!$B$2:B1357,BD!B1357)=1,MAX($F$1:F1356)+1,\"\")","v":""},null,{"$f":"IF(AND(BD!B1357=REF,BD!D1357>=DEB,BD!D1357<=FIN),MAX(calc!$H$1:H1356)+1,0)","v":0}]
[null,null,null,null,null,{"$f":"IF(COUNTIF(BD!$B$2:B1358,BD!B1358)=1,MAX($F$1:F1357)+1,\"\")","v":""},null,{"$f":"IF(AND(BD!B1358=REF,BD!D1358>=DEB,BD!D1358<=FIN),MAX(calc!$H$1:H1357)+1,0)","v":0}]
[null,null,null,null,null,{"$f":"IF(COUNTIF(BD!$B$2:B1359,BD!B1359)=1,MAX($F$1:F1358)+1,\"\")","v":""},null,{"$f":"IF(AND(BD!B1359=REF,BD!D1359>=DEB,BD!D1359<=FIN),MAX(calc!$H$1:H1358)+1,0)","v":0}]
[null,null,null,null,null,{"$f":"IF(COUNTIF(BD!$B$2:B1360,BD!B1360)=1,MAX($F$1:F1359)+1,\"\")","v":""},null,{"$f":"IF(AND(BD!B1360=REF,BD!D1360>=DEB,BD!D1360<=FIN),MAX(calc!$H$1:H1359)+1,0)","v":0}]
[null,null,null,null,null,{"$f":"IF(COUNTIF(BD!$B$2:B1361,BD!B1361)=1,MAX($F$1:F1360)+1,\"\")","v":""},null,{"$f":"IF(AND(BD!B1361=REF,BD!D1361>=DEB,BD!D1361<=FIN),MAX(calc!$H$1:H1360)+1,0)","v":0}]
[null,null,null,null,null,{"$f":"IF(COUNTIF(BD!$B$2:B1362,BD!B1362)=1,MAX($F$1:F1361)+1,\"\")","v":""},null,{"$f":"IF(AND(BD!B1362=REF,BD!D1362>=DEB,BD!D1362<=FIN),MAX(calc!$H$1:H1361)+1,0)","v":0}]
[null,null,null,null,null,{"$f":"IF(COUNTIF(BD!$B$2:B1363,BD!B1363)=1,MAX($F$1:F1362)+1,\"\")","v":""},null,{"$f":"IF(AND(BD!B1363=REF,BD!D1363>=DEB,BD!D1363<=FIN),MAX(calc!$H$1:H1362)+1,0)","v":0}]
[null,null,null,null,null,{"$f":"IF(COUNTIF(BD!$B$2:B1364,BD!B1364)=1,MAX($F$1:F1363)+1,\"\")","v":""},null,{"$f":"IF(AND(BD!B1364=REF,BD!D1364>=DEB,BD!D1364<=FIN),MAX(calc!$H$1:H1363)+1,0)","v":0}]
[null,null,null,null,null,{"$f":"IF(COUNTIF(BD!$B$2:B1365,BD!B1365)=1,MAX($F$1:F1364)+1,\"\")","v":""},null,{"$f":"IF(AND(BD!B1365=REF,BD!D1365>=DEB,BD!D1365<=FIN),MAX(calc!$H$1:H1364)+1,0)","v":0}]
[null,null,null,null,null,{"$f":"IF(COUNTIF(BD!$B$2:B1366,BD!B1366)=1,MAX($F$1:F1365)+1,\"\")","v":""},null,{"$f":"IF(AND(BD!B1366=REF,BD!D1366>=DEB,BD!D1366<=FIN),MAX(calc!$H$1:H1365)+1,0)","v":0}]
[null,null,null,null,null,{"$f":"IF(COUNTIF(BD!$B$2:B1367,BD!B1367)=1,MAX($F$1:F1366)+1,\"\")","v":""},null,{"$f":"IF(AND(BD!B1367=REF,BD!D1367>=DEB,BD!D1367<=FIN),MAX(calc!$H$1:H1366)+1,0)","v":0}]
[null,null,null,null,null,{"$f":"IF(COUNTIF(BD!$B$2:B1368,BD!B1368)=1,MAX($F$1:F1367)+1,\"\")","v":""},null,{"$f":"IF(AND(BD!B1368=REF,BD!D1368>=DEB,BD!D1368<=FIN),MAX(calc!$H$1:H1367)+1,0)","v":0}]
[null,null,null,null,null,{"$f":"IF(COUNTIF(BD!$B$2:B1369,BD!B1369)=1,MAX($F$1:F1368)+1,\"\")","v":""},null,{"$f":"IF(AND(BD!B1369=REF,BD!D1369>=DEB,BD!D1369<=FIN),MAX(calc!$H$1:H1368)+1,0)","v":0}]
[null,null,null,null,null,{"$f":"IF(COUNTIF(BD!$B$2:B1370,BD!B1370)=1,MAX($F$1:F1369)+1,\"\")","v":""},null,{"$f":"IF(AND(BD!B1370=REF,BD!D1370>=DEB,BD!D1370<=FIN),MAX(calc!$H$1:H1369)+1,0)","v":0}]
[null,null,null,null,null,{"$f":"IF(COUNTIF(BD!$B$2:B1371,BD!B1371)=1,MAX($F$1:F1370)+1,\"\")","v":""},null,{"$f":"IF(AND(BD!B1371=REF,BD!D1371>=DEB,BD!D1371<=FIN),MAX(calc!$H$1:H1370)+1,0)","v":0}]
[null,null,null,null,null,{"$f":"IF(COUNTIF(BD!$B$2:B1372,BD!B1372)=1,MAX($F$1:F1371)+1,\"\")","v":""},null,{"$f":"IF(AND(BD!B1372=REF,BD!D1372>=DEB,BD!D1372<=FIN),MAX(calc!$H$1:H1371)+1,0)","v":0}]
[null,null,null,null,null,{"$f":"IF(COUNTIF(BD!$B$2:B1373,BD!B1373)=1,MAX($F$1:F1372)+1,\"\")","v":""},null,{"$f":"IF(AND(BD!B1373=REF,BD!D1373>=DEB,BD!D1373<=FIN),MAX(calc!$H$1:H1372)+1,0)","v":0}]
[null,null,null,null,null,{"$f":"IF(COUNTIF(BD!$B$2:B1374,BD!B1374)=1,MAX($F$1:F1373)+1,\"\")","v":""},null,{"$f":"IF(AND(BD!B1374=REF,BD!D1374>=DEB,BD!D1374<=FIN),MAX(calc!$H$1:H1373)+1,0)","v":0}]
[null,null,null,null,null,{"$f":"IF(COUNTIF(BD!$B$2:B1375,BD!B1375)=1,MAX($F$1:F1374)+1,\"\")","v":""},null,{"$f":"IF(AND(BD!B1375=REF,BD!D1375>=DEB,BD!D1375<=FIN),MAX(calc!$H$1:H1374)+1,0)","v":0}]
[null,null,null,null,null,{"$f":"IF(COUNTIF(BD!$B$2:B1376,BD!B1376)=1,MAX($F$1:F1375)+1,\"\")","v":""},null,{"$f":"IF(AND(BD!B1376=REF,BD!D1376>=DEB,BD!D1376<=FIN),MAX(calc!$H$1:H1375)+1,0)","v":0}]
[null,null,null,null,null,{"$f":"IF(COUNTIF(BD!$B$2:B1377,BD!B1377)=1,MAX($F$1:F1376)+1,\"\")","v":""},null,{"$f":"IF(AND(BD!B1377=REF,BD!D1377>=DEB,BD!D1377<=FIN),MAX(calc!$H$1:H1376)+1,0)","v":0}]
[null,null,null,null,null,{"$f":"IF(COUNTIF(BD!$B$2:B1378,BD!B1378)=1,MAX($F$1:F1377)+1,\"\")","v":""},null,{"$f":"IF(AND(BD!B1378=REF,BD!D1378>=DEB,BD!D1378<=FIN),MAX(calc!$H$1:H1377)+1,0)","v":0}]
[null,null,null,null,null,{"$f":"IF(COUNTIF(BD!$B$2:B1379,BD!B1379)=1,MAX($F$1:F1378)+1,\"\")","v":""},null,{"$f":"IF(AND(BD!B1379=REF,BD!D1379>=DEB,BD!D1379<=FIN),MAX(calc!$H$1:H1378)+1,0)","v":0}]
[null,null,null,null,null,{"$f":"IF(COUNTIF(BD!$B$2:B1380,BD!B1380)=1,MAX($F$1:F1379)+1,\"\")","v":""},null,{"$f":"IF(AND(BD!B1380=REF,BD!D1380>=DEB,BD!D1380<=FIN),MAX(calc!$H$1:H1379)+1,0)","v":0}]
[null,null,null,null,null,{"$f":"IF(COUNTIF(BD!$B$2:B1381,BD!B1381)=1,MAX($F$1:F1380)+1,\"\")","v":""},null,{"$f":"IF(AND(BD!B1381=REF,BD!D1381>=DEB,BD!D1381<=FIN),MAX(calc!$H$1:H1380)+1,0)","v":0}]
[null,null,null,null,null,{"$f":"IF(COUNTIF(BD!$B$2:B1382,BD!B1382)=1,MAX($F$1:F1381)+1,\"\")","v":""},null,{"$f":"IF(AND(BD!B1382=REF,BD!D1382>=DEB,BD!D1382<=FIN),MAX(calc!$H$1:H1381)+1,0)","v":0}]
[null,null,null,null,null,{"$f":"IF(COUNTIF(BD!$B$2:B1383,BD!B1383)=1,MAX($F$1:F1382)+1,\"\")","v":""},null,{"$f":"IF(AND(BD!B1383=REF,BD!D1383>=DEB,BD!D1383<=FIN),MAX(calc!$H$1:H1382)+1,0)","v":0}]
[null,null,null,null,null,{"$f":"IF(COUNTIF(BD!$B$2:B1384,BD!B1384)=1,MAX($F$1:F1383)+1,\"\")","v":""},null,{"$f":"IF(AND(BD!B1384=REF,BD!D1384>=DEB,BD!D1384<=FIN),MAX(calc!$H$1:H1383)+1,0)","v":0}]
[null,null,null,null,null,{"$f":"IF(COUNTIF(BD!$B$2:B1385,BD!B1385)=1,MAX($F$1:F1384)+1,\"\")","v":""},null,{"$f":"IF(AND(BD!B1385=REF,BD!D1385>=DEB,BD!D1385<=FIN),MAX(calc!$H$1:H1384)+1,0)","v":0}]
[null,null,null,null,null,{"$f":"IF(COUNTIF(BD!$B$2:B1386,BD!B1386)=1,MAX($F$1:F1385)+1,\"\")","v":""},null,{"$f":"IF(AND(BD!B1386=REF,BD!D1386>=DEB,BD!D1386<=FIN),MAX(calc!$H$1:H1385)+1,0)","v":0}]
[null,null,null,null,null,{"$f":"IF(COUNTIF(BD!$B$2:B1387,BD!B1387)=1,MAX($F$1:F1386)+1,\"\")","v":""},null,{"$f":"IF(AND(BD!B1387=REF,BD!D1387>=DEB,BD!D1387<=FIN),MAX(calc!$H$1:H1386)+1,0)","v":0}]
[null,null,null,null,null,{"$f":"IF(COUNTIF(BD!$B$2:B1388,BD!B1388)=1,MAX($F$1:F1387)+1,\"\")","v":""},null,{"$f":"IF(AND(BD!B1388=REF,BD!D1388>=DEB,BD!D1388<=FIN),MAX(calc!$H$1:H1387)+1,0)","v":0}]
[null,null,null,null,null,{"$f":"IF(COUNTIF(BD!$B$2:B1389,BD!B1389)=1,MAX($F$1:F1388)+1,\"\")","v":""},null,{"$f":"IF(AND(BD!B1389=REF,BD!D1389>=DEB,BD!D1389<=FIN),MAX(calc!$H$1:H1388)+1,0)","v":0}]
[null,null,null,null,null,{"$f":"IF(COUNTIF(BD!$B$2:B1390,BD!B1390)=1,MAX($F$1:F1389)+1,\"\")","v":""},null,{"$f":"IF(AND(BD!B1390=REF,BD!D1390>=DEB,BD!D1390<=FIN),MAX(calc!$H$1:H1389)+1,0)","v":0}]
[null,null,null,null,null,{"$f":"IF(COUNTIF(BD!$B$2:B1391,BD!B1391)=1,MAX($F$1:F1390)+1,\"\")","v":""},null,{"$f":"IF(AND(BD!B1391=REF,BD!D1391>=DEB,BD!D1391<=FIN),MAX(calc!$H$1:H1390)+1,0)","v":0}]
[null,null,null,null,null,{"$f":"IF(COUNTIF(BD!$B$2:B1392,BD!B1392)=1,MAX($F$1:F1391)+1,\"\")","v":""},null,{"$f":"IF(AND(BD!B1392=REF,BD!D1392>=DEB,BD!D1392<=FIN),MAX(calc!$H$1:H1391)+1,0)","v":0}]
[null,null,null,null,null,{"$f":"IF(COUNTIF(BD!$B$2:B1393,BD!B1393)=1,MAX($F$1:F1392)+1,\"\")","v":""},null,{"$f":"IF(AND(BD!B1393=REF,BD!D1393>=DEB,BD!D1393<=FIN),MAX(calc!$H$1:H1392)+1,0)","v":0}]
[null,null,null,null,null,{"$f":"IF(COUNTIF(BD!$B$2:B1394,BD!B1394)=1,MAX($F$1:F1393)+1,\"\")","v":""},null,{"$f":"IF(AND(BD!B1394=REF,BD!D1394>=DEB,BD!D1394<=FIN),MAX(calc!$H$1:H1393)+1,0)","v":0}]
[null,null,null,null,null,{"$f":"IF(COUNTIF(BD!$B$2:B1395,BD!B1395)=1,MAX($F$1:F1394)+1,\"\")","v":""},null,{"$f":"IF(AND(BD!B1395=REF,BD!D1395>=DEB,BD!D1395<=FIN),MAX(calc!$H$1:H1394)+1,0)","v":0}]
[null,null,null,null,null,{"$f":"IF(COUNTIF(BD!$B$2:B1396,BD!B1396)=1,MAX($F$1:F1395)+1,\"\")","v":""},null,{"$f":"IF(AND(BD!B1396=REF,BD!D1396>=DEB,BD!D1396<=FIN),MAX(calc!$H$1:H1395)+1,0)","v":0}]
[null,null,null,null,null,{"$f":"IF(COUNTIF(BD!$B$2:B1397,BD!B1397)=1,MAX($F$1:F1396)+1,\"\")","v":""},null,{"$f":"IF(AND(BD!B1397=REF,BD!D1397>=DEB,BD!D1397<=FIN),MAX(calc!$H$1:H1396)+1,0)","v":0}]
[null,null,null,null,null,{"$f":"IF(COUNTIF(BD!$B$2:B1398,BD!B1398)=1,MAX($F$1:F1397)+1,\"\")","v":""},null,{"$f":"IF(AND(BD!B1398=REF,BD!D1398>=DEB,BD!D1398<=FIN),MAX(calc!$H$1:H1397)+1,0)","v":0}]
[null,null,null,null,null,{"$f":"IF(COUNTIF(BD!$B$2:B1399,BD!B1399)=1,MAX($F$1:F1398)+1,\"\")","v":""},null,{"$f":"IF(AND(BD!B1399=REF,BD!D1399>=DEB,BD!D1399<=FIN),MAX(calc!$H$1:H1398)+1,0)","v":0}]
[null,null,null,null,null,{"$f":"IF(COUNTIF(BD!$B$2:B1400,BD!B1400)=1,MAX($F$1:F1399)+1,\"\")","v":""},null,{"$f":"IF(AND(BD!B1400=REF,BD!D1400>=DEB,BD!D1400<=FIN),MAX(calc!$H$1:H1399)+1,0)","v":0}]
[null,null,null,null,null,{"$f":"IF(COUNTIF(BD!$B$2:B1401,BD!B1401)=1,MAX($F$1:F1400)+1,\"\")","v":""},null,{"$f":"IF(AND(BD!B1401=REF,BD!D1401>=DEB,BD!D1401<=FIN),MAX(calc!$H$1:H1400)+1,0)","v":0}]
[null,null,null,null,null,{"$f":"IF(COUNTIF(BD!$B$2:B1402,BD!B1402)=1,MAX($F$1:F1401)+1,\"\")","v":""},null,{"$f":"IF(AND(BD!B1402=REF,BD!D1402>=DEB,BD!D1402<=FIN),MAX(calc!$H$1:H1401)+1,0)","v":0}]
[null,null,null,null,null,{"$f":"IF(COUNTIF(BD!$B$2:B1403,BD!B1403)=1,MAX($F$1:F1402)+1,\"\")","v":""},null,{"$f":"IF(AND(BD!B1403=REF,BD!D1403>=DEB,BD!D1403<=FIN),MAX(calc!$H$1:H1402)+1,0)","v":0}]
[null,null,null,null,null,{"$f":"IF(COUNTIF(BD!$B$2:B1404,BD!B1404)=1,MAX($F$1:F1403)+1,\"\")","v":""},null,{"$f":"IF(AND(BD!B1404=REF,BD!D1404>=DEB,BD!D1404<=FIN),MAX(calc!$H$1:H1403)+1,0)","v":0}]
[null,null,null,null,null,{"$f":"IF(COUNTIF(BD!$B$2:B1405,BD!B1405)=1,MAX($F$1:F1404)+1,\"\")","v":""},null,{"$f":"IF(AND(BD!B1405=REF,BD!D1405>=DEB,BD!D1405<=FIN),MAX(calc!$H$1:H1404)+1,0)","v":0}]
[null,null,null,null,null,{"$f":"IF(COUNTIF(BD!$B$2:B1406,BD!B1406)=1,MAX($F$1:F1405)+1,\"\")","v":""},null,{"$f":"IF(AND(BD!B1406=REF,BD!D1406>=DEB,BD!D1406<=FIN),MAX(calc!$H$1:H1405)+1,0)","v":0}]
[null,null,null,null,null,{"$f":"IF(COUNTIF(BD!$B$2:B1407,BD!B1407)=1,MAX($F$1:F1406)+1,\"\")","v":""},null,{"$f":"IF(AND(BD!B1407=REF,BD!D1407>=DEB,BD!D1407<=FIN),MAX(calc!$H$1:H1406)+1,0)","v":0}]
[null,null,null,null,null,{"$f":"IF(COUNTIF(BD!$B$2:B1408,BD!B1408)=1,MAX($F$1:F1407)+1,\"\")","v":""},null,{"$f":"IF(AND(BD!B1408=REF,BD!D1408>=DEB,BD!D1408<=FIN),MAX(calc!$H$1:H1407)+1,0)","v":0}]
[null,null,null,null,null,{"$f":"IF(COUNTIF(BD!$B$2:B1409,BD!B1409)=1,MAX($F$1:F1408)+1,\"\")","v":""},null,{"$f":"IF(AND(BD!B1409=REF,BD!D1409>=DEB,BD!D1409<=FIN),MAX(calc!$H$1:H1408)+1,0)","v":0}]
[null,null,null,null,null,{"$f":"IF(COUNTIF(BD!$B$2:B1410,BD!B1410)=1,MAX($F$1:F1409)+1,\"\")","v":""},null,{"$f":"IF(AND(BD!B1410=REF,BD!D1410>=DEB,BD!D1410<=FIN),MAX(calc!$H$1:H1409)+1,0)","v":0}]
[null,null,null,null,null,{"$f":"IF(COUNTIF(BD!$B$2:B1411,BD!B1411)=1,MAX($F$1:F1410)+1,\"\")","v":""},null,{"$f":"IF(AND(BD!B1411=REF,BD!D1411>=DEB,BD!D1411<=FIN),MAX(calc!$H$1:H1410)+1,0)","v":0}]
[null,null,null,null,null,{"$f":"IF(COUNTIF(BD!$B$2:B1412,BD!B1412)=1,MAX($F$1:F1411)+1,\"\")","v":""},null,{"$f":"IF(AND(BD!B1412=REF,BD!D1412>=DEB,BD!D1412<=FIN),MAX(calc!$H$1:H1411)+1,0)","v":0}]
[null,null,null,null,null,{"$f":"IF(COUNTIF(BD!$B$2:B1413,BD!B1413)=1,MAX($F$1:F1412)+1,\"\")","v":""},null,{"$f":"IF(AND(BD!B1413=REF,BD!D1413>=DEB,BD!D1413<=FIN),MAX(calc!$H$1:H1412)+1,0)","v":0}]
[null,null,null,null,null,{"$f":"IF(COUNTIF(BD!$B$2:B1414,BD!B1414)=1,MAX($F$1:F1413)+1,\"\")","v":""},null,{"$f":"IF(AND(BD!B1414=REF,BD!D1414>=DEB,BD!D1414<=FIN),MAX(calc!$H$1:H1413)+1,0)","v":0}]
[null,null,null,null,null,{"$f":"IF(COUNTIF(BD!$B$2:B1415,BD!B1415)=1,MAX($F$1:F1414)+1,\"\")","v":""},null,{"$f":"IF(AND(BD!B1415=REF,BD!D1415>=DEB,BD!D1415<=FIN),MAX(calc!$H$1:H1414)+1,0)","v":0}]
[null,null,null,null,null,{"$f":"IF(COUNTIF(BD!$B$2:B1416,BD!B1416)=1,MAX($F$1:F1415)+1,\"\")","v":""},null,{"$f":"IF(AND(BD!B1416=REF,BD!D1416>=DEB,BD!D1416<=FIN),MAX(calc!$H$1:H1415)+1,0)","v":0}]
[null,null,null,null,null,{"$f":"IF(COUNTIF(BD!$B$2:B1417,BD!B1417)=1,MAX($F$1:F1416)+1,\"\")","v":""},null,{"$f":"IF(AND(BD!B1417=REF,BD!D1417>=DEB,BD!D1417<=FIN),MAX(calc!$H$1:H1416)+1,0)","v":0}]
[null,null,null,null,null,{"$f":"IF(COUNTIF(BD!$B$2:B1418,BD!B1418)=1,MAX($F$1:F1417)+1,\"\")","v":""},null,{"$f":"IF(AND(BD!B1418=REF,BD!D1418>=DEB,BD!D1418<=FIN),MAX(calc!$H$1:H1417)+1,0)","v":0}]
[null,null,null,null,null,{"$f":"IF(COUNTIF(BD!$B$2:B1419,BD!B1419)=1,MAX($F$1:F1418)+1,\"\")","v":""},null,{"$f":"IF(AND(BD!B1419=REF,BD!D1419>=DEB,BD!D1419<=FIN),MAX(calc!$H$1:H1418)+1,0)","v":0}]
[null,null,null,null,null,{"$f":"IF(COUNTIF(BD!$B$2:B1420,BD!B1420)=1,MAX($F$1:F1419)+1,\"\")","v":""},null,{"$f":"IF(AND(BD!B1420=REF,BD!D1420>=DEB,BD!D1420<=FIN),MAX(calc!$H$1:H1419)+1,0)","v":0}]
[null,null,null,null,null,{"$f":"IF(COUNTIF(BD!$B$2:B1421,BD!B1421)=1,MAX($F$1:F1420)+1,\"\")","v":""},null,{"$f":"IF(AND(BD!B1421=REF,BD!D1421>=DEB,BD!D1421<=FIN),MAX(calc!$H$1:H1420)+1,0)","v":0}]
[null,null,null,null,null,{"$f":"IF(COUNTIF(BD!$B$2:B1422,BD!B1422)=1,MAX($F$1:F1421)+1,\"\")","v":""},null,{"$f":"IF(AND(BD!B1422=REF,BD!D1422>=DEB,BD!D1422<=FIN),MAX(calc!$H$1:H1421)+1,0)","v":0}]
[null,null,null,null,null,{"$f":"IF(COUNTIF(BD!$B$2:B1423,BD!B1423)=1,MAX($F$1:F1422)+1,\"\")","v":""},null,{"$f":"IF(AND(BD!B1423=REF,BD!D1423>=DEB,BD!D1423<=FIN),MAX(calc!$H$1:H1422)+1,0)","v":0}]
[null,null,null,null,null,{"$f":"IF(COUNTIF(BD!$B$2:B1424,BD!B1424)=1,MAX($F$1:F1423)+1,\"\")","v":""},null,{"$f":"IF(AND(BD!B1424=REF,BD!D1424>=DEB,BD!D1424<=FIN),MAX(calc!$H$1:H1423)+1,0)","v":0}]
[null,null,null,null,null,{"$f":"IF(COUNTIF(BD!$B$2:B1425,BD!B1425)=1,MAX($F$1:F1424)+1,\"\")","v":""},null,{"$f":"IF(AND(BD!B1425=REF,BD!D1425>=DEB,BD!D1425<=FIN),MAX(calc!$H$1:H1424)+1,0)","v":0}]
[null,null,null,null,null,{"$f":"IF(COUNTIF(BD!$B$2:B1426,BD!B1426)=1,MAX($F$1:F1425)+1,\"\")","v":""},null,{"$f":"IF(AND(BD!B1426=REF,BD!D1426>=DEB,BD!D1426<=FIN),MAX(calc!$H$1:H1425)+1,0)","v":0}]
[null,null,null,null,null,{"$f":"IF(COUNTIF(BD!$B$2:B1427,BD!B1427)=1,MAX($F$1:F1426)+1,\"\")","v":""},null,{"$f":"IF(AND(BD!B1427=REF,BD!D1427>=DEB,BD!D1427<=FIN),MAX(calc!$H$1:H1426)+1,0)","v":0}]
[null,null,null,null,null,{"$f":"IF(COUNTIF(BD!$B$2:B1428,BD!B1428)=1,MAX($F$1:F1427)+1,\"\")","v":""},null,{"$f":"IF(AND(BD!B1428=REF,BD!D1428>=DEB,BD!D1428<=FIN),MAX(calc!$H$1:H1427)+1,0)","v":0}]
[null,null,null,null,null,{"$f":"IF(COUNTIF(BD!$B$2:B1429,BD!B1429)=1,MAX($F$1:F1428)+1,\"\")","v":""},null,{"$f":"IF(AND(BD!B1429=REF,BD!D1429>=DEB,BD!D1429<=FIN),MAX(calc!$H$1:H1428)+1,0)","v":0}]
[null,null,null,null,null,{"$f":"IF(COUNTIF(BD!$B$2:B1430,BD!B1430)=1,MAX($F$1:F1429)+1,\"\")","v":""},null,{"$f":"IF(AND(BD!B1430=REF,BD!D1430>=DEB,BD!D1430<=FIN),MAX(calc!$H$1:H1429)+1,0)","v":0}]
[null,null,null,null,null,{"$f":"IF(COUNTIF(BD!$B$2:B1431,BD!B1431)=1,MAX($F$1:F1430)+1,\"\")","v":""},null,{"$f":"IF(AND(BD!B1431=REF,BD!D1431>=DEB,BD!D1431<=FIN),MAX(calc!$H$1:H1430)+1,0)","v":0}]
[null,null,null,null,null,{"$f":"IF(COUNTIF(BD!$B$2:B1432,BD!B1432)=1,MAX($F$1:F1431)+1,\"\")","v":""},null,{"$f":"IF(AND(BD!B1432=REF,BD!D1432>=DEB,BD!D1432<=FIN),MAX(calc!$H$1:H1431)+1,0)","v":0}]
[null,null,null,null,null,{"$f":"IF(COUNTIF(BD!$B$2:B1433,BD!B1433)=1,MAX($F$1:F1432)+1,\"\")","v":""},null,{"$f":"IF(AND(BD!B1433=REF,BD!D1433>=DEB,BD!D1433<=FIN),MAX(calc!$H$1:H1432)+1,0)","v":0}]
[null,null,null,null,null,{"$f":"IF(COUNTIF(BD!$B$2:B1434,BD!B1434)=1,MAX($F$1:F1433)+1,\"\")","v":""},null,{"$f":"IF(AND(BD!B1434=REF,BD!D1434>=DEB,BD!D1434<=FIN),MAX(calc!$H$1:H1433)+1,0)","v":0}]
[null,null,null,null,null,{"$f":"IF(COUNTIF(BD!$B$2:B1435,BD!B1435)=1,MAX($F$1:F1434)+1,\"\")","v":""},null,{"$f":"IF(AND(BD!B1435=REF,BD!D1435>=DEB,BD!D1435<=FIN),MAX(calc!$H$1:H1434)+1,0)","v":0}]
[null,null,null,null,null,{"$f":"IF(COUNTIF(BD!$B$2:B1436,BD!B1436)=1,MAX($F$1:F1435)+1,\"\")","v":""},null,{"$f":"IF(AND(BD!B1436=REF,BD!D1436>=DEB,BD!D1436<=FIN),MAX(calc!$H$1:H1435)+1,0)","v":0}]
[null,null,null,null,null,{"$f":"IF(COUNTIF(BD!$B$2:B1437,BD!B1437)=1,MAX($F$1:F1436)+1,\"\")","v":""},null,{"$f":"IF(AND(BD!B1437=REF,BD!D1437>=DEB,BD!D1437<=FIN),MAX(calc!$H$1:H1436)+1,0)","v":0}]
[null,null,null,null,null,{"$f":"IF(COUNTIF(BD!$B$2:B1438,BD!B1438)=1,MAX($F$1:F1437)+1,\"\")","v":""},null,{"$f":"IF(AND(BD!B1438=REF,BD!D1438>=DEB,BD!D1438<=FIN),MAX(calc!$H$1:H1437)+1,0)","v":0}]
[null,null,null,null,null,{"$f":"IF(COUNTIF(BD!$B$2:B1439,BD!B1439)=1,MAX($F$1:F1438)+1,\"\")","v":""},null,{"$f":"IF(AND(BD!B1439=REF,BD!D1439>=DEB,BD!D1439<=FIN),MAX(calc!$H$1:H1438)+1,0)","v":0}]
[null,null,null,null,null,{"$f":"IF(COUNTIF(BD!$B$2:B1440,BD!B1440)=1,MAX($F$1:F1439)+1,\"\")","v":""},null,{"$f":"IF(AND(BD!B1440=REF,BD!D1440>=DEB,BD!D1440<=FIN),MAX(calc!$H$1:H1439)+1,0)","v":0}]
[null,null,null,null,null,{"$f":"IF(COUNTIF(BD!$B$2:B1441,BD!B1441)=1,MAX($F$1:F1440)+1,\"\")","v":""},null,{"$f":"IF(AND(BD!B1441=REF,BD!D1441>=DEB,BD!D1441<=FIN),MAX(calc!$H$1:H1440)+1,0)","v":0}]
[null,null,null,null,null,{"$f":"IF(COUNTIF(BD!$B$2:B1442,BD!B1442)=1,MAX($F$1:F1441)+1,\"\")","v":""},null,{"$f":"IF(AND(BD!B1442=REF,BD!D1442>=DEB,BD!D1442<=FIN),MAX(calc!$H$1:H1441)+1,0)","v":0}]
[null,null,null,null,null,{"$f":"IF(COUNTIF(BD!$B$2:B1443,BD!B1443)=1,MAX($F$1:F1442)+1,\"\")","v":""},null,{"$f":"IF(AND(BD!B1443=REF,BD!D1443>=DEB,BD!D1443<=FIN),MAX(calc!$H$1:H1442)+1,0)","v":0}]
[null,null,null,null,null,{"$f":"IF(COUNTIF(BD!$B$2:B1444,BD!B1444)=1,MAX($F$1:F1443)+1,\"\")","v":""},null,{"$f":"IF(AND(BD!B1444=REF,BD!D1444>=DEB,BD!D1444<=FIN),MAX(calc!$H$1:H1443)+1,0)","v":0}]
[null,null,null,null,null,{"$f":"IF(COUNTIF(BD!$B$2:B1445,BD!B1445)=1,MAX($F$1:F1444)+1,\"\")","v":""},null,{"$f":"IF(AND(BD!B1445=REF,BD!D1445>=DEB,BD!D1445<=FIN),MAX(calc!$H$1:H1444)+1,0)","v":0}]
[null,null,null,null,null,{"$f":"IF(COUNTIF(BD!$B$2:B1446,BD!B1446)=1,MAX($F$1:F1445)+1,\"\")","v":""},null,{"$f":"IF(AND(BD!B1446=REF,BD!D1446>=DEB,BD!D1446<=FIN),MAX(calc!$H$1:H1445)+1,0)","v":0}]
[null,null,null,null,null,{"$f":"IF(COUNTIF(BD!$B$2:B1447,BD!B1447)=1,MAX($F$1:F1446)+1,\"\")","v":""},null,{"$f":"IF(AND(BD!B1447=REF,BD!D1447>=DEB,BD!D1447<=FIN),MAX(calc!$H$1:H1446)+1,0)","v":0}]
[null,null,null,null,null,{"$f":"IF(COUNTIF(BD!$B$2:B1448,BD!B1448)=1,MAX($F$1:F1447)+1,\"\")","v":""},null,{"$f":"IF(AND(BD!B1448=REF,BD!D1448>=DEB,BD!D1448<=FIN),MAX(calc!$H$1:H1447)+1,0)","v":0}]
[null,null,null,null,null,{"$f":"IF(COUNTIF(BD!$B$2:B1449,BD!B1449)=1,MAX($F$1:F1448)+1,\"\")","v":""},null,{"$f":"IF(AND(BD!B1449=REF,BD!D1449>=DEB,BD!D1449<=FIN),MAX(calc!$H$1:H1448)+1,0)","v":0}]
[null,null,null,null,null,{"$f":"IF(COUNTIF(BD!$B$2:B1450,BD!B1450)=1,MAX($F$1:F1449)+1,\"\")","v":""},null,{"$f":"IF(AND(BD!B1450=REF,BD!D1450>=DEB,BD!D1450<=FIN),MAX(calc!$H$1:H1449)+1,0)","v":0}]
[null,null,null,null,null,{"$f":"IF(COUNTIF(BD!$B$2:B1451,BD!B1451)=1,MAX($F$1:F1450)+1,\"\")","v":""},null,{"$f":"IF(AND(BD!B1451=REF,BD!D1451>=DEB,BD!D1451<=FIN),MAX(calc!$H$1:H1450)+1,0)","v":0}]
[null,null,null,null,null,{"$f":"IF(COUNTIF(BD!$B$2:B1452,BD!B1452)=1,MAX($F$1:F1451)+1,\"\")","v":""},null,{"$f":"IF(AND(BD!B1452=REF,BD!D1452>=DEB,BD!D1452<=FIN),MAX(calc!$H$1:H1451)+1,0)","v":0}]
[null,null,null,null,null,{"$f":"IF(COUNTIF(BD!$B$2:B1453,BD!B1453)=1,MAX($F$1:F1452)+1,\"\")","v":""},null,{"$f":"IF(AND(BD!B1453=REF,BD!D1453>=DEB,BD!D1453<=FIN),MAX(calc!$H$1:H1452)+1,0)","v":0}]
[null,null,null,null,null,{"$f":"IF(COUNTIF(BD!$B$2:B1454,BD!B1454)=1,MAX($F$1:F1453)+1,\"\")","v":""},null,{"$f":"IF(AND(BD!B1454=REF,BD!D1454>=DEB,BD!D1454<=FIN),MAX(calc!$H$1:H1453)+1,0)","v":0}]
[null,null,null,null,null,{"$f":"IF(COUNTIF(BD!$B$2:B1455,BD!B1455)=1,MAX($F$1:F1454)+1,\"\")","v":""},null,{"$f":"IF(AND(BD!B1455=REF,BD!D1455>=DEB,BD!D1455<=FIN),MAX(calc!$H$1:H1454)+1,0)","v":0}]
[null,null,null,null,null,{"$f":"IF(COUNTIF(BD!$B$2:B1456,BD!B1456)=1,MAX($F$1:F1455)+1,\"\")","v":""},null,{"$f":"IF(AND(BD!B1456=REF,BD!D1456>=DEB,BD!D1456<=FIN),MAX(calc!$H$1:H1455)+1,0)","v":0}]
[null,null,null,null,null,{"$f":"IF(COUNTIF(BD!$B$2:B1457,BD!B1457)=1,MAX($F$1:F1456)+1,\"\")","v":""},null,{"$f":"IF(AND(BD!B1457=REF,BD!D1457>=DEB,BD!D1457<=FIN),MAX(calc!$H$1:H1456)+1,0)","v":0}]
[null,null,null,null,null,{"$f":"IF(COUNTIF(BD!$B$2:B1458,BD!B1458)=1,MAX($F$1:F1457)+1,\"\")","v":""},null,{"$f":"IF(AND(BD!B1458=REF,BD!D1458>=DEB,BD!D1458<=FIN),MAX(calc!$H$1:H1457)+1,0)","v":0}]
[null,null,null,null,null,{"$f":"IF(COUNTIF(BD!$B$2:B1459,BD!B1459)=1,MAX($F$1:F1458)+1,\"\")","v":""},null,{"$f":"IF(AND(BD!B1459=REF,BD!D1459>=DEB,BD!D1459<=FIN),MAX(calc!$H$1:H1458)+1,0)","v":0}]
[null,null,null,null,null,{"$f":"IF(COUNTIF(BD!$B$2:B1460,BD!B1460)=1,MAX($F$1:F1459)+1,\"\")","v":""},null,{"$f":"IF(AND(BD!B1460=REF,BD!D1460>=DEB,BD!D1460<=FIN),MAX(calc!$H$1:H1459)+1,0)","v":0}]
[null,null,null,null,null,{"$f":"IF(COUNTIF(BD!$B$2:B1461,BD!B1461)=1,MAX($F$1:F1460)+1,\"\")","v":""},null,{"$f":"IF(AND(BD!B1461=REF,BD!D1461>=DEB,BD!D1461<=FIN),MAX(calc!$H$1:H1460)+1,0)","v":0}]
[null,null,null,null,null,{"$f":"IF(COUNTIF(BD!$B$2:B1462,BD!B1462)=1,MAX($F$1:F1461)+1,\"\")","v":""},null,{"$f":"IF(AND(BD!B1462=REF,BD!D1462>=DEB,BD!D1462<=FIN),MAX(calc!$H$1:H1461)+1,0)","v":0}]
[null,null,null,null,null,{"$f":"IF(COUNTIF(BD!$B$2:B1463,BD!B1463)=1,MAX($F$1:F1462)+1,\"\")","v":""},null,{"$f":"IF(AND(BD!B1463=REF,BD!D1463>=DEB,BD!D1463<=FIN),MAX(calc!$H$1:H1462)+1,0)","v":0}]
[null,null,null,null,null,{"$f":"IF(COUNTIF(BD!$B$2:B1464,BD!B1464)=1,MAX($F$1:F1463)+1,\"\")","v":""},null,{"$f":"IF(AND(BD!B1464=REF,BD!D1464>=DEB,BD!D1464<=FIN),MAX(calc!$H$1:H1463)+1,0)","v":0}]
[null,null,null,null,null,{"$f":"IF(COUNTIF(BD!$B$2:B1465,BD!B1465)=1,MAX($F$1:F1464)+1,\"\")","v":""},null,{"$f":"IF(AND(BD!B1465=REF,BD!D1465>=DEB,BD!D1465<=FIN),MAX(calc!$H$1:H1464)+1,0)","v":0}]
[null,null,null,null,null,{"$f":"IF(COUNTIF(BD!$B$2:B1466,BD!B1466)=1,MAX($F$1:F1465)+1,\"\")","v":""},null,{"$f":"IF(AND(BD!B1466=REF,BD!D1466>=DEB,BD!D1466<=FIN),MAX(calc!$H$1:H1465)+1,0)","v":0}]
[null,null,null,null,null,{"$f":"IF(COUNTIF(BD!$B$2:B1467,BD!B1467)=1,MAX($F$1:F1466)+1,\"\")","v":""},null,{"$f":"IF(AND(BD!B1467=REF,BD!D1467>=DEB,BD!D1467<=FIN),MAX(calc!$H$1:H1466)+1,0)","v":0}]
[null,null,null,null,null,{"$f":"IF(COUNTIF(BD!$B$2:B1468,BD!B1468)=1,MAX($F$1:F1467)+1,\"\")","v":""},null,{"$f":"IF(AND(BD!B1468=REF,BD!D1468>=DEB,BD!D1468<=FIN),MAX(calc!$H$1:H1467)+1,0)","v":0}]
[null,null,null,null,null,{"$f":"IF(COUNTIF(BD!$B$2:B1469,BD!B1469)=1,MAX($F$1:F1468)+1,\"\")","v":""},null,{"$f":"IF(AND(BD!B1469=REF,BD!D1469>=DEB,BD!D1469<=FIN),MAX(calc!$H$1:H1468)+1,0)","v":0}]
[null,null,null,null,null,{"$f":"IF(COUNTIF(BD!$B$2:B1470,BD!B1470)=1,MAX($F$1:F1469)+1,\"\")","v":""},null,{"$f":"IF(AND(BD!B1470=REF,BD!D1470>=DEB,BD!D1470<=FIN),MAX(calc!$H$1:H1469)+1,0)","v":0}]
[null,null,null,null,null,{"$f":"IF(COUNTIF(BD!$B$2:B1471,BD!B1471)=1,MAX($F$1:F1470)+1,\"\")","v":""},null,{"$f":"IF(AND(BD!B1471=REF,BD!D1471>=DEB,BD!D1471<=FIN),MAX(calc!$H$1:H1470)+1,0)","v":0}]
[null,null,null,null,null,{"$f":"IF(COUNTIF(BD!$B$2:B1472,BD!B1472)=1,MAX($F$1:F1471)+1,\"\")","v":""},null,{"$f":"IF(AND(BD!B1472=REF,BD!D1472>=DEB,BD!D1472<=FIN),MAX(calc!$H$1:H1471)+1,0)","v":0}]
[null,null,null,null,null,{"$f":"IF(COUNTIF(BD!$B$2:B1473,BD!B1473)=1,MAX($F$1:F1472)+1,\"\")","v":""},null,{"$f":"IF(AND(BD!B1473=REF,BD!D1473>=DEB,BD!D1473<=FIN),MAX(calc!$H$1:H1472)+1,0)","v":0}]
[null,null,null,null,null,{"$f":"IF(COUNTIF(BD!$B$2:B1474,BD!B1474)=1,MAX($F$1:F1473)+1,\"\")","v":""},null,{"$f":"IF(AND(BD!B1474=REF,BD!D1474>=DEB,BD!D1474<=FIN),MAX(calc!$H$1:H1473)+1,0)","v":0}]
[null,null,null,null,null,{"$f":"IF(COUNTIF(BD!$B$2:B1475,BD!B1475)=1,MAX($F$1:F1474)+1,\"\")","v":""},null,{"$f":"IF(AND(BD!B1475=REF,BD!D1475>=DEB,BD!D1475<=FIN),MAX(calc!$H$1:H1474)+1,0)","v":0}]
[null,null,null,null,null,{"$f":"IF(COUNTIF(BD!$B$2:B1476,BD!B1476)=1,MAX($F$1:F1475)+1,\"\")","v":""},null,{"$f":"IF(AND(BD!B1476=REF,BD!D1476>=DEB,BD!D1476<=FIN),MAX(calc!$H$1:H1475)+1,0)","v":0}]
[null,null,null,null,null,{"$f":"IF(COUNTIF(BD!$B$2:B1477,BD!B1477)=1,MAX($F$1:F1476)+1,\"\")","v":""},null,{"$f":"IF(AND(BD!B1477=REF,BD!D1477>=DEB,BD!D1477<=FIN),MAX(calc!$H$1:H1476)+1,0)","v":0}]
[null,null,null,null,null,{"$f":"IF(COUNTIF(BD!$B$2:B1478,BD!B1478)=1,MAX($F$1:F1477)+1,\"\")","v":""},null,{"$f":"IF(AND(BD!B1478=REF,BD!D1478>=DEB,BD!D1478<=FIN),MAX(calc!$H$1:H1477)+1,0)","v":0}]
[null,null,null,null,null,{"$f":"IF(COUNTIF(BD!$B$2:B1479,BD!B1479)=1,MAX($F$1:F1478)+1,\"\")","v":""},null,{"$f":"IF(AND(BD!B1479=REF,BD!D1479>=DEB,BD!D1479<=FIN),MAX(calc!$H$1:H1478)+1,0)","v":0}]
[null,null,null,null,null,{"$f":"IF(COUNTIF(BD!$B$2:B1480,BD!B1480)=1,MAX($F$1:F1479)+1,\"\")","v":""},null,{"$f":"IF(AND(BD!B1480=REF,BD!D1480>=DEB,BD!D1480<=FIN),MAX(calc!$H$1:H1479)+1,0)","v":0}]
[null,null,null,null,null,{"$f":"IF(COUNTIF(BD!$B$2:B1481,BD!B1481)=1,MAX($F$1:F1480)+1,\"\")","v":""},null,{"$f":"IF(AND(BD!B1481=REF,BD!D1481>=DEB,BD!D1481<=FIN),MAX(calc!$H$1:H1480)+1,0)","v":0}]
[null,null,null,null,null,{"$f":"IF(COUNTIF(BD!$B$2:B1482,BD!B1482)=1,MAX($F$1:F1481)+1,\"\")","v":""},null,{"$f":"IF(AND(BD!B1482=REF,BD!D1482>=DEB,BD!D1482<=FIN),MAX(calc!$H$1:H1481)+1,0)","v":0}]
[null,null,null,null,null,{"$f":"IF(COUNTIF(BD!$B$2:B1483,BD!B1483)=1,MAX($F$1:F1482)+1,\"\")","v":""},null,{"$f":"IF(AND(BD!B1483=REF,BD!D1483>=DEB,BD!D1483<=FIN),MAX(calc!$H$1:H1482)+1,0)","v":0}]
[null,null,null,null,null,{"$f":"IF(COUNTIF(BD!$B$2:B1484,BD!B1484)=1,MAX($F$1:F1483)+1,\"\")","v":""},null,{"$f":"IF(AND(BD!B1484=REF,BD!D1484>=DEB,BD!D1484<=FIN),MAX(calc!$H$1:H1483)+1,0)","v":0}]
[null,null,null,null,null,{"$f":"IF(COUNTIF(BD!$B$2:B1485,BD!B1485)=1,MAX($F$1:F1484)+1,\"\")","v":""},null,{"$f":"IF(AND(BD!B1485=REF,BD!D1485>=DEB,BD!D1485<=FIN),MAX(calc!$H$1:H1484)+1,0)","v":0}]
[null,null,null,null,null,{"$f":"IF(COUNTIF(BD!$B$2:B1486,BD!B1486)=1,MAX($F$1:F1485)+1,\"\")","v":""},null,{"$f":"IF(AND(BD!B1486=REF,BD!D1486>=DEB,BD!D1486<=FIN),MAX(calc!$H$1:H1485)+1,0)","v":0}]
[null,null,null,null,null,{"$f":"IF(COUNTIF(BD!$B$2:B1487,BD!B1487)=1,MAX($F$1:F1486)+1,\"\")","v":""},null,{"$f":"IF(AND(BD!B1487=REF,BD!D1487>=DEB,BD!D1487<=FIN),MAX(calc!$H$1:H1486)+1,0)","v":0}]
[null,null,null,null,null,{"$f":"IF(COUNTIF(BD!$B$2:B1488,BD!B1488)=1,MAX($F$1:F1487)+1,\"\")","v":""},null,{"$f":"IF(AND(BD!B1488=REF,BD!D1488>=DEB,BD!D1488<=FIN),MAX(calc!$H$1:H1487)+1,0)","v":0}]
[null,null,null,null,null,{"$f":"IF(COUNTIF(BD!$B$2:B1489,BD!B1489)=1,MAX($F$1:F1488)+1,\"\")","v":""},null,{"$f":"IF(AND(BD!B1489=REF,BD!D1489>=DEB,BD!D1489<=FIN),MAX(calc!$H$1:H1488)+1,0)","v":0}]
[null,null,null,null,null,{"$f":"IF(COUNTIF(BD!$B$2:B1490,BD!B1490)=1,MAX($F$1:F1489)+1,\"\")","v":""},null,{"$f":"IF(AND(BD!B1490=REF,BD!D1490>=DEB,BD!D1490<=FIN),MAX(calc!$H$1:H1489)+1,0)","v":0}]
[null,null,null,null,null,{"$f":"IF(COUNTIF(BD!$B$2:B1491,BD!B1491)=1,MAX($F$1:F1490)+1,\"\")","v":""},null,{"$f":"IF(AND(BD!B1491=REF,BD!D1491>=DEB,BD!D1491<=FIN),MAX(calc!$H$1:H1490)+1,0)","v":0}]
[null,null,null,null,null,{"$f":"IF(COUNTIF(BD!$B$2:B1492,BD!B1492)=1,MAX($F$1:F1491)+1,\"\")","v":""},null,{"$f":"IF(AND(BD!B1492=REF,BD!D1492>=DEB,BD!D1492<=FIN),MAX(calc!$H$1:H1491)+1,0)","v":0}]
[null,null,null,null,null,{"$f":"IF(COUNTIF(BD!$B$2:B1493,BD!B1493)=1,MAX($F$1:F1492)+1,\"\")","v":""},null,{"$f":"IF(AND(BD!B1493=REF,BD!D1493>=DEB,BD!D1493<=FIN),MAX(calc!$H$1:H1492)+1,0)","v":0}]
[null,null,null,null,null,{"$f":"IF(COUNTIF(BD!$B$2:B1494,BD!B1494)=1,MAX($F$1:F1493)+1,\"\")","v":""},null,{"$f":"IF(AND(BD!B1494=REF,BD!D1494>=DEB,BD!D1494<=FIN),MAX(calc!$H$1:H1493)+1,0)","v":0}]
[null,null,null,null,null,{"$f":"IF(COUNTIF(BD!$B$2:B1495,BD!B1495)=1,MAX($F$1:F1494)+1,\"\")","v":""},null,{"$f":"IF(AND(BD!B1495=REF,BD!D1495>=DEB,BD!D1495<=FIN),MAX(calc!$H$1:H1494)+1,0)","v":0}]
[null,null,null,null,null,{"$f":"IF(COUNTIF(BD!$B$2:B1496,BD!B1496)=1,MAX($F$1:F1495)+1,\"\")","v":""},null,{"$f":"IF(AND(BD!B1496=REF,BD!D1496>=DEB,BD!D1496<=FIN),MAX(calc!$H$1:H1495)+1,0)","v":0}]
[null,null,null,null,null,{"$f":"IF(COUNTIF(BD!$B$2:B1497,BD!B1497)=1,MAX($F$1:F1496)+1,\"\")","v":""},null,{"$f":"IF(AND(BD!B1497=REF,BD!D1497>=DEB,BD!D1497<=FIN),MAX(calc!$H$1:H1496)+1,0)","v":0}]
[null,null,null,null,null,{"$f":"IF(COUNTIF(BD!$B$2:B1498,BD!B1498)=1,MAX($F$1:F1497)+1,\"\")","v":""},null,{"$f":"IF(AND(BD!B1498=REF,BD!D1498>=DEB,BD!D1498<=FIN),MAX(calc!$H$1:H1497)+1,0)","v":0}]
[null,null,null,null,null,{"$f":"IF(COUNTIF(BD!$B$2:B1499,BD!B1499)=1,MAX($F$1:F1498)+1,\"\")","v":""},null,{"$f":"IF(AND(BD!B1499=REF,BD!D1499>=DEB,BD!D1499<=FIN),MAX(calc!$H$1:H1498)+1,0)","v":0}]
[null,null,null,null,null,{"$f":"IF(COUNTIF(BD!$B$2:B1500,BD!B1500)=1,MAX($F$1:F1499)+1,\"\")","v":""},null,{"$f":"IF(AND(BD!B1500=REF,BD!D1500>=DEB,BD!D1500<=FIN),MAX(calc!$H$1:H1499)+1,0)","v":0}]
[null,null,null,null,null,{"$f":"IF(COUNTIF(BD!$B$2:B1501,BD!B1501)=1,MAX($F$1:F1500)+1,\"\")","v":""},null,{"$f":"IF(AND(BD!B1501=REF,BD!D1501>=DEB,BD!D1501<=FIN),MAX(calc!$H$1:H1500)+1,0)","v":0}]
[null,null,null,null,null,{"$f":"IF(COUNTIF(BD!$B$2:B1502,BD!B1502)=1,MAX($F$1:F1501)+1,\"\")","v":""},null,{"$f":"IF(AND(BD!B1502=REF,BD!D1502>=DEB,BD!D1502<=FIN),MAX(calc!$H$1:H1501)+1,0)","v":0}]
[null,null,null,null,null,{"$f":"IF(COUNTIF(BD!$B$2:B1503,BD!B1503)=1,MAX($F$1:F1502)+1,\"\")","v":""},null,{"$f":"IF(AND(BD!B1503=REF,BD!D1503>=DEB,BD!D1503<=FIN),MAX(calc!$H$1:H1502)+1,0)","v":0}]
[null,null,null,null,null,{"$f":"IF(COUNTIF(BD!$B$2:B1504,BD!B1504)=1,MAX($F$1:F1503)+1,\"\")","v":""},null,{"$f":"IF(AND(BD!B1504=REF,BD!D1504>=DEB,BD!D1504<=FIN),MAX(calc!$H$1:H1503)+1,0)","v":0}]
[null,null,null,null,null,{"$f":"IF(COUNTIF(BD!$B$2:B1505,BD!B1505)=1,MAX($F$1:F1504)+1,\"\")","v":""},null,{"$f":"IF(AND(BD!B1505=REF,BD!D1505>=DEB,BD!D1505<=FIN),MAX(calc!$H$1:H1504)+1,0)","v":0}]
[null,null,null,null,null,{"$f":"IF(COUNTIF(BD!$B$2:B1506,BD!B1506)=1,MAX($F$1:F1505)+1,\"\")","v":""},null,{"$f":"IF(AND(BD!B1506=REF,BD!D1506>=DEB,BD!D1506<=FIN),MAX(calc!$H$1:H1505)+1,0)","v":0}]
[null,null,null,null,null,{"$f":"IF(COUNTIF(BD!$B$2:B1507,BD!B1507)=1,MAX($F$1:F1506)+1,\"\")","v":""},null,{"$f":"IF(AND(BD!B1507=REF,BD!D1507>=DEB,BD!D1507<=FIN),MAX(calc!$H$1:H1506)+1,0)","v":0}]
[null,null,null,null,null,{"$f":"IF(COUNTIF(BD!$B$2:B1508,BD!B1508)=1,MAX($F$1:F1507)+1,\"\")","v":""},null,{"$f":"IF(AND(BD!B1508=REF,BD!D1508>=DEB,BD!D1508<=FIN),MAX(calc!$H$1:H1507)+1,0)","v":0}]
[null,null,null,null,null,{"$f":"IF(COUNTIF(BD!$B$2:B1509,BD!B1509)=1,MAX($F$1:F1508)+1,\"\")","v":""},null,{"$f":"IF(AND(BD!B1509=REF,BD!D1509>=DEB,BD!D1509<=FIN),MAX(calc!$H$1:H1508)+1,0)","v":0}]
[null,null,null,null,null,{"$f":"IF(COUNTIF(BD!$B$2:B1510,BD!B1510)=1,MAX($F$1:F1509)+1,\"\")","v":""},null,{"$f":"IF(AND(BD!B1510=REF,BD!D1510>=DEB,BD!D1510<=FIN),MAX(calc!$H$1:H1509)+1,0)","v":0}]
[null,null,null,null,null,{"$f":"IF(COUNTIF(BD!$B$2:B1511,BD!B1511)=1,MAX($F$1:F1510)+1,\"\")","v":""},null,{"$f":"IF(AND(BD!B1511=REF,BD!D1511>=DEB,BD!D1511<=FIN),MAX(calc!$H$1:H1510)+1,0)","v":0}]
[null,null,null,null,null,{"$f":"IF(COUNTIF(BD!$B$2:B1512,BD!B1512)=1,MAX($F$1:F1511)+1,\"\")","v":""},null,{"$f":"IF(AND(BD!B1512=REF,BD!D1512>=DEB,BD!D1512<=FIN),MAX(calc!$H$1:H1511)+1,0)","v":0}]
[null,null,null,null,null,{"$f":"IF(COUNTIF(BD!$B$2:B1513,BD!B1513)=1,MAX($F$1:F1512)+1,\"\")","v":""},null,{"$f":"IF(AND(BD!B1513=REF,BD!D1513>=DEB,BD!D1513<=FIN),MAX(calc!$H$1:H1512)+1,0)","v":0}]
[null,null,null,null,null,{"$f":"IF(COUNTIF(BD!$B$2:B1514,BD!B1514)=1,MAX($F$1:F1513)+1,\"\")","v":""},null,{"$f":"IF(AND(BD!B1514=REF,BD!D1514>=DEB,BD!D1514<=FIN),MAX(calc!$H$1:H1513)+1,0)","v":0}]
[null,null,null,null,null,{"$f":"IF(COUNTIF(BD!$B$2:B1515,BD!B1515)=1,MAX($F$1:F1514)+1,\"\")","v":""},null,{"$f":"IF(AND(BD!B1515=REF,BD!D1515>=DEB,BD!D1515<=FIN),MAX(calc!$H$1:H1514)+1,0)","v":0}]
[null,null,null,null,null,{"$f":"IF(COUNTIF(BD!$B$2:B1516,BD!B1516)=1,MAX($F$1:F1515)+1,\"\")","v":""},null,{"$f":"IF(AND(BD!B1516=REF,BD!D1516>=DEB,BD!D1516<=FIN),MAX(calc!$H$1:H1515)+1,0)","v":0}]
[null,null,null,null,null,{"$f":"IF(COUNTIF(BD!$B$2:B1517,BD!B1517)=1,MAX($F$1:F1516)+1,\"\")","v":""},null,{"$f":"IF(AND(BD!B1517=REF,BD!D1517>=DEB,BD!D1517<=FIN),MAX(calc!$H$1:H1516)+1,0)","v":0}]
[null,null,null,null,null,{"$f":"IF(COUNTIF(BD!$B$2:B1518,BD!B1518)=1,MAX($F$1:F1517)+1,\"\")","v":""},null,{"$f":"IF(AND(BD!B1518=REF,BD!D1518>=DEB,BD!D1518<=FIN),MAX(calc!$H$1:H1517)+1,0)","v":0}]
[null,null,null,null,null,{"$f":"IF(COUNTIF(BD!$B$2:B1519,BD!B1519)=1,MAX($F$1:F1518)+1,\"\")","v":""},null,{"$f":"IF(AND(BD!B1519=REF,BD!D1519>=DEB,BD!D1519<=FIN),MAX(calc!$H$1:H1518)+1,0)","v":0}]
[null,null,null,null,null,{"$f":"IF(COUNTIF(BD!$B$2:B1520,BD!B1520)=1,MAX($F$1:F1519)+1,\"\")","v":""},null,{"$f":"IF(AND(BD!B1520=REF,BD!D1520>=DEB,BD!D1520<=FIN),MAX(calc!$H$1:H1519)+1,0)","v":0}]
[null,null,null,null,null,{"$f":"IF(COUNTIF(BD!$B$2:B1521,BD!B1521)=1,MAX($F$1:F1520)+1,\"\")","v":""},null,{"$f":"IF(AND(BD!B1521=REF,BD!D1521>=DEB,BD!D1521<=FIN),MAX(calc!$H$1:H1520)+1,0)","v":0}]
[null,null,null,null,null,{"$f":"IF(COUNTIF(BD!$B$2:B1522,BD!B1522)=1,MAX($F$1:F1521)+1,\"\")","v":""},null,{"$f":"IF(AND(BD!B1522=REF,BD!D1522>=DEB,BD!D1522<=FIN),MAX(calc!$H$1:H1521)+1,0)","v":0}]
[null,null,null,null,null,{"$f":"IF(COUNTIF(BD!$B$2:B1523,BD!B1523)=1,MAX($F$1:F1522)+1,\"\")","v":""},null,{"$f":"IF(AND(BD!B1523=REF,BD!D1523>=DEB,BD!D1523<=FIN),MAX(calc!$H$1:H1522)+1,0)","v":0}]
[null,null,null,null,null,{"$f":"IF(COUNTIF(BD!$B$2:B1524,BD!B1524)=1,MAX($F$1:F1523)+1,\"\")","v":""},null,{"$f":"IF(AND(BD!B1524=REF,BD!D1524>=DEB,BD!D1524<=FIN),MAX(calc!$H$1:H1523)+1,0)","v":0}]
[null,null,null,null,null,{"$f":"IF(COUNTIF(BD!$B$2:B1525,BD!B1525)=1,MAX($F$1:F1524)+1,\"\")","v":""},null,{"$f":"IF(AND(BD!B1525=REF,BD!D1525>=DEB,BD!D1525<=FIN),MAX(calc!$H$1:H1524)+1,0)","v":0}]
[null,null,null,null,null,{"$f":"IF(COUNTIF(BD!$B$2:B1526,BD!B1526)=1,MAX($F$1:F1525)+1,\"\")","v":""},null,{"$f":"IF(AND(BD!B1526=REF,BD!D1526>=DEB,BD!D1526<=FIN),MAX(calc!$H$1:H1525)+1,0)","v":0}]
[null,null,null,null,null,{"$f":"IF(COUNTIF(BD!$B$2:B1527,BD!B1527)=1,MAX($F$1:F1526)+1,\"\")","v":""},null,{"$f":"IF(AND(BD!B1527=REF,BD!D1527>=DEB,BD!D1527<=FIN),MAX(calc!$H$1:H1526)+1,0)","v":0}]
[null,null,null,null,null,{"$f":"IF(COUNTIF(BD!$B$2:B1528,BD!B1528)=1,MAX($F$1:F1527)+1,\"\")","v":""},null,{"$f":"IF(AND(BD!B1528=REF,BD!D1528>=DEB,BD!D1528<=FIN),MAX(calc!$H$1:H1527)+1,0)","v":0}]
[null,null,null,null,null,{"$f":"IF(COUNTIF(BD!$B$2:B1529,BD!B1529)=1,MAX($F$1:F1528)+1,\"\")","v":""},null,{"$f":"IF(AND(BD!B1529=REF,BD!D1529>=DEB,BD!D1529<=FIN),MAX(calc!$H$1:H1528)+1,0)","v":0}]
[null,null,null,null,null,{"$f":"IF(COUNTIF(BD!$B$2:B1530,BD!B1530)=1,MAX($F$1:F1529)+1,\"\")","v":""},null,{"$f":"IF(AND(BD!B1530=REF,BD!D1530>=DEB,BD!D1530<=FIN),MAX(calc!$H$1:H1529)+1,0)","v":0}]
[null,null,null,null,null,{"$f":"IF(COUNTIF(BD!$B$2:B1531,BD!B1531)=1,MAX($F$1:F1530)+1,\"\")","v":""},null,{"$f":"IF(AND(BD!B1531=REF,BD!D1531>=DEB,BD!D1531<=FIN),MAX(calc!$H$1:H1530)+1,0)","v":0}]
[null,null,null,null,null,{"$f":"IF(COUNTIF(BD!$B$2:B1532,BD!B1532)=1,MAX($F$1:F1531)+1,\"\")","v":""},null,{"$f":"IF(AND(BD!B1532=REF,BD!D1532>=DEB,BD!D1532<=FIN),MAX(calc!$H$1:H1531)+1,0)","v":0}]
[null,null,null,null,null,{"$f":"IF(COUNTIF(BD!$B$2:B1533,BD!B1533)=1,MAX($F$1:F1532)+1,\"\")","v":""},null,{"$f":"IF(AND(BD!B1533=REF,BD!D1533>=DEB,BD!D1533<=FIN),MAX(calc!$H$1:H1532)+1,0)","v":0}]
[null,null,null,null,null,{"$f":"IF(COUNTIF(BD!$B$2:B1534,BD!B1534)=1,MAX($F$1:F1533)+1,\"\")","v":""},null,{"$f":"IF(AND(BD!B1534=REF,BD!D1534>=DEB,BD!D1534<=FIN),MAX(calc!$H$1:H1533)+1,0)","v":0}]
[null,null,null,null,null,{"$f":"IF(COUNTIF(BD!$B$2:B1535,BD!B1535)=1,MAX($F$1:F1534)+1,\"\")","v":""},null,{"$f":"IF(AND(BD!B1535=REF,BD!D1535>=DEB,BD!D1535<=FIN),MAX(calc!$H$1:H1534)+1,0)","v":0}]
[null,null,null,null,null,{"$f":"IF(COUNTIF(BD!$B$2:B1536,BD!B1536)=1,MAX($F$1:F1535)+1,\"\")","v":""},null,{"$f":"IF(AND(BD!B1536=REF,BD!D1536>=DEB,BD!D1536<=FIN),MAX(calc!$H$1:H1535)+1,0)","v":0}]
[null,null,null,null,null,{"$f":"IF(COUNTIF(BD!$B$2:B1537,BD!B1537)=1,MAX($F$1:F1536)+1,\"\")","v":""},null,{"$f":"IF(AND(BD!B1537=REF,BD!D1537>=DEB,BD!D1537<=FIN),MAX(calc!$H$1:H1536)+1,0)","v":0}]
[null,null,null,null,null,{"$f":"IF(COUNTIF(BD!$B$2:B1538,BD!B1538)=1,MAX($F$1:F1537)+1,\"\")","v":""},null,{"$f":"IF(AND(BD!B1538=REF,BD!D1538>=DEB,BD!D1538<=FIN),MAX(calc!$H$1:H1537)+1,0)","v":0}]
[null,null,null,null,null,{"$f":"IF(COUNTIF(BD!$B$2:B1539,BD!B1539)=1,MAX($F$1:F1538)+1,\"\")","v":""},null,{"$f":"IF(AND(BD!B1539=REF,BD!D1539>=DEB,BD!D1539<=FIN),MAX(calc!$H$1:H1538)+1,0)","v":0}]
[null,null,null,null,null,{"$f":"IF(COUNTIF(BD!$B$2:B1540,BD!B1540)=1,MAX($F$1:F1539)+1,\"\")","v":""},null,{"$f":"IF(AND(BD!B1540=REF,BD!D1540>=DEB,BD!D1540<=FIN),MAX(calc!$H$1:H1539)+1,0)","v":0}]
[null,null,null,null,null,{"$f":"IF(COUNTIF(BD!$B$2:B1541,BD!B1541)=1,MAX($F$1:F1540)+1,\"\")","v":""},null,{"$f":"IF(AND(BD!B1541=REF,BD!D1541>=DEB,BD!D1541<=FIN),MAX(calc!$H$1:H1540)+1,0)","v":0}]
[null,null,null,null,null,{"$f":"IF(COUNTIF(BD!$B$2:B1542,BD!B1542)=1,MAX($F$1:F1541)+1,\"\")","v":""},null,{"$f":"IF(AND(BD!B1542=REF,BD!D1542>=DEB,BD!D1542<=FIN),MAX(calc!$H$1:H1541)+1,0)","v":0}]
[null,null,null,null,null,{"$f":"IF(COUNTIF(BD!$B$2:B1543,BD!B1543)=1,MAX($F$1:F1542)+1,\"\")","v":""},null,{"$f":"IF(AND(BD!B1543=REF,BD!D1543>=DEB,BD!D1543<=FIN),MAX(calc!$H$1:H1542)+1,0)","v":0}]
[null,null,null,null,null,{"$f":"IF(COUNTIF(BD!$B$2:B1544,BD!B1544)=1,MAX($F$1:F1543)+1,\"\")","v":""},null,{"$f":"IF(AND(BD!B1544=REF,BD!D1544>=DEB,BD!D1544<=FIN),MAX(calc!$H$1:H1543)+1,0)","v":0}]
[null,null,null,null,null,{"$f":"IF(COUNTIF(BD!$B$2:B1545,BD!B1545)=1,MAX($F$1:F1544)+1,\"\")","v":""},null,{"$f":"IF(AND(BD!B1545=REF,BD!D1545>=DEB,BD!D1545<=FIN),MAX(calc!$H$1:H1544)+1,0)","v":0}]
[null,null,null,null,null,{"$f":"IF(COUNTIF(BD!$B$2:B1546,BD!B1546)=1,MAX($F$1:F1545)+1,\"\")","v":""},null,{"$f":"IF(AND(BD!B1546=REF,BD!D1546>=DEB,BD!D1546<=FIN),MAX(calc!$H$1:H1545)+1,0)","v":0}]
[null,null,null,null,null,{"$f":"IF(COUNTIF(BD!$B$2:B1547,BD!B1547)=1,MAX($F$1:F1546)+1,\"\")","v":""},null,{"$f":"IF(AND(BD!B1547=REF,BD!D1547>=DEB,BD!D1547<=FIN),MAX(calc!$H$1:H1546)+1,0)","v":0}]
[null,null,null,null,null,{"$f":"IF(COUNTIF(BD!$B$2:B1548,BD!B1548)=1,MAX($F$1:F1547)+1,\"\")","v":""},null,{"$f":"IF(AND(BD!B1548=REF,BD!D1548>=DEB,BD!D1548<=FIN),MAX(calc!$H$1:H1547)+1,0)","v":0}]
[null,null,null,null,null,{"$f":"IF(COUNTIF(BD!$B$2:B1549,BD!B1549)=1,MAX($F$1:F1548)+1,\"\")","v":""},null,{"$f":"IF(AND(BD!B1549=REF,BD!D1549>=DEB,BD!D1549<=FIN),MAX(calc!$H$1:H1548)+1,0)","v":0}]
[null,null,null,null,null,{"$f":"IF(COUNTIF(BD!$B$2:B1550,BD!B1550)=1,MAX($F$1:F1549)+1,\"\")","v":""},null,{"$f":"IF(AND(BD!B1550=REF,BD!D1550>=DEB,BD!D1550<=FIN),MAX(calc!$H$1:H1549)+1,0)","v":0}]
[null,null,null,null,null,{"$f":"IF(COUNTIF(BD!$B$2:B1551,BD!B1551)=1,MAX($F$1:F1550)+1,\"\")","v":""},null,{"$f":"IF(AND(BD!B1551=REF,BD!D1551>=DEB,BD!D1551<=FIN),MAX(calc!$H$1:H1550)+1,0)","v":0}]
[null,null,null,null,null,{"$f":"IF(COUNTIF(BD!$B$2:B1552,BD!B1552)=1,MAX($F$1:F1551)+1,\"\")","v":""},null,{"$f":"IF(AND(BD!B1552=REF,BD!D1552>=DEB,BD!D1552<=FIN),MAX(calc!$H$1:H1551)+1,0)","v":0}]
[null,null,null,null,null,{"$f":"IF(COUNTIF(BD!$B$2:B1553,BD!B1553)=1,MAX($F$1:F1552)+1,\"\")","v":""},null,{"$f":"IF(AND(BD!B1553=REF,BD!D1553>=DEB,BD!D1553<=FIN),MAX(calc!$H$1:H1552)+1,0)","v":0}]
[null,null,null,null,null,{"$f":"IF(COUNTIF(BD!$B$2:B1554,BD!B1554)=1,MAX($F$1:F1553)+1,\"\")","v":""},null,{"$f":"IF(AND(BD!B1554=REF,BD!D1554>=DEB,BD!D1554<=FIN),MAX(calc!$H$1:H1553)+1,0)","v":0}]
[null,null,null,null,null,{"$f":"IF(COUNTIF(BD!$B$2:B1555,BD!B1555)=1,MAX($F$1:F1554)+1,\"\")","v":""},null,{"$f":"IF(AND(BD!B1555=REF,BD!D1555>=DEB,BD!D1555<=FIN),MAX(calc!$H$1:H1554)+1,0)","v":0}]
[null,null,null,null,null,{"$f":"IF(COUNTIF(BD!$B$2:B1556,BD!B1556)=1,MAX($F$1:F1555)+1,\"\")","v":""},null,{"$f":"IF(AND(BD!B1556=REF,BD!D1556>=DEB,BD!D1556<=FIN),MAX(calc!$H$1:H1555)+1,0)","v":0}]
[null,null,null,null,null,{"$f":"IF(COUNTIF(BD!$B$2:B1557,BD!B1557)=1,MAX($F$1:F1556)+1,\"\")","v":""},null,{"$f":"IF(AND(BD!B1557=REF,BD!D1557>=DEB,BD!D1557<=FIN),MAX(calc!$H$1:H1556)+1,0)","v":0}]
[null,null,null,null,null,{"$f":"IF(COUNTIF(BD!$B$2:B1558,BD!B1558)=1,MAX($F$1:F1557)+1,\"\")","v":""},null,{"$f":"IF(AND(BD!B1558=REF,BD!D1558>=DEB,BD!D1558<=FIN),MAX(calc!$H$1:H1557)+1,0)","v":0}]
[null,null,null,null,null,{"$f":"IF(COUNTIF(BD!$B$2:B1559,BD!B1559)=1,MAX($F$1:F1558)+1,\"\")","v":""},null,{"$f":"IF(AND(BD!B1559=REF,BD!D1559>=DEB,BD!D1559<=FIN),MAX(calc!$H$1:H1558)+1,0)","v":0}]
[null,null,null,null,null,{"$f":"IF(COUNTIF(BD!$B$2:B1560,BD!B1560)=1,MAX($F$1:F1559)+1,\"\")","v":""},null,{"$f":"IF(AND(BD!B1560=REF,BD!D1560>=DEB,BD!D1560<=FIN),MAX(calc!$H$1:H1559)+1,0)","v":0}]
[null,null,null,null,null,{"$f":"IF(COUNTIF(BD!$B$2:B1561,BD!B1561)=1,MAX($F$1:F1560)+1,\"\")","v":""},null,{"$f":"IF(AND(BD!B1561=REF,BD!D1561>=DEB,BD!D1561<=FIN),MAX(calc!$H$1:H1560)+1,0)","v":0}]
[null,null,null,null,null,{"$f":"IF(COUNTIF(BD!$B$2:B1562,BD!B1562)=1,MAX($F$1:F1561)+1,\"\")","v":""},null,{"$f":"IF(AND(BD!B1562=REF,BD!D1562>=DEB,BD!D1562<=FIN),MAX(calc!$H$1:H1561)+1,0)","v":0}]
[null,null,null,null,null,{"$f":"IF(COUNTIF(BD!$B$2:B1563,BD!B1563)=1,MAX($F$1:F1562)+1,\"\")","v":""},null,{"$f":"IF(AND(BD!B1563=REF,BD!D1563>=DEB,BD!D1563<=FIN),MAX(calc!$H$1:H1562)+1,0)","v":0}]
[null,null,null,null,null,{"$f":"IF(COUNTIF(BD!$B$2:B1564,BD!B1564)=1,MAX($F$1:F1563)+1,\"\")","v":""},null,{"$f":"IF(AND(BD!B1564=REF,BD!D1564>=DEB,BD!D1564<=FIN),MAX(calc!$H$1:H1563)+1,0)","v":0}]
[null,null,null,null,null,{"$f":"IF(COUNTIF(BD!$B$2:B1565,BD!B1565)=1,MAX($F$1:F1564)+1,\"\")","v":""},null,{"$f":"IF(AND(BD!B1565=REF,BD!D1565>=DEB,BD!D1565<=FIN),MAX(calc!$H$1:H1564)+1,0)","v":0}]
[null,null,null,null,null,{"$f":"IF(COUNTIF(BD!$B$2:B1566,BD!B1566)=1,MAX($F$1:F1565)+1,\"\")","v":""},null,{"$f":"IF(AND(BD!B1566=REF,BD!D1566>=DEB,BD!D1566<=FIN),MAX(calc!$H$1:H1565)+1,0)","v":0}]
[null,null,null,null,null,{"$f":"IF(COUNTIF(BD!$B$2:B1567,BD!B1567)=1,MAX($F$1:F1566)+1,\"\")","v":""},null,{"$f":"IF(AND(BD!B1567=REF,BD!D1567>=DEB,BD!D1567<=FIN),MAX(calc!$H$1:H1566)+1,0)","v":0}]
[null,null,null,null,null,{"$f":"IF(COUNTIF(BD!$B$2:B1568,BD!B1568)=1,MAX($F$1:F1567)+1,\"\")","v":""},null,{"$f":"IF(AND(BD!B1568=REF,BD!D1568>=DEB,BD!D1568<=FIN),MAX(calc!$H$1:H1567)+1,0)","v":0}]
[null,null,null,null,null,{"$f":"IF(COUNTIF(BD!$B$2:B1569,BD!B1569)=1,MAX($F$1:F1568)+1,\"\")","v":""},null,{"$f":"IF(AND(BD!B1569=REF,BD!D1569>=DEB,BD!D1569<=FIN),MAX(calc!$H$1:H1568)+1,0)","v":0}]
[null,null,null,null,null,{"$f":"IF(COUNTIF(BD!$B$2:B1570,BD!B1570)=1,MAX($F$1:F1569)+1,\"\")","v":""},null,{"$f":"IF(AND(BD!B1570=REF,BD!D1570>=DEB,BD!D1570<=FIN),MAX(calc!$H$1:H1569)+1,0)","v":0}]
[null,null,null,null,null,{"$f":"IF(COUNTIF(BD!$B$2:B1571,BD!B1571)=1,MAX($F$1:F1570)+1,\"\")","v":""},null,{"$f":"IF(AND(BD!B1571=REF,BD!D1571>=DEB,BD!D1571<=FIN),MAX(calc!$H$1:H1570)+1,0)","v":0}]
[null,null,null,null,null,{"$f":"IF(COUNTIF(BD!$B$2:B1572,BD!B1572)=1,MAX($F$1:F1571)+1,\"\")","v":""},null,{"$f":"IF(AND(BD!B1572=REF,BD!D1572>=DEB,BD!D1572<=FIN),MAX(calc!$H$1:H1571)+1,0)","v":0}]
[null,null,null,null,null,{"$f":"IF(COUNTIF(BD!$B$2:B1573,BD!B1573)=1,MAX($F$1:F1572)+1,\"\")","v":""},null,{"$f":"IF(AND(BD!B1573=REF,BD!D1573>=DEB,BD!D1573<=FIN),MAX(calc!$H$1:H1572)+1,0)","v":0}]
[null,null,null,null,null,{"$f":"IF(COUNTIF(BD!$B$2:B1574,BD!B1574)=1,MAX($F$1:F1573)+1,\"\")","v":""},null,{"$f":"IF(AND(BD!B1574=REF,BD!D1574>=DEB,BD!D1574<=FIN),MAX(calc!$H$1:H1573)+1,0)","v":0}]
[null,null,null,null,null,{"$f":"IF(COUNTIF(BD!$B$2:B1575,BD!B1575)=1,MAX($F$1:F1574)+1,\"\")","v":""},null,{"$f":"IF(AND(BD!B1575=REF,BD!D1575>=DEB,BD!D1575<=FIN),MAX(calc!$H$1:H1574)+1,0)","v":0}]
[null,null,null,null,null,{"$f":"IF(COUNTIF(BD!$B$2:B1576,BD!B1576)=1,MAX($F$1:F1575)+1,\"\")","v":""},null,{"$f":"IF(AND(BD!B1576=REF,BD!D1576>=DEB,BD!D1576<=FIN),MAX(calc!$H$1:H1575)+1,0)","v":0}]
[null,null,null,null,null,{"$f":"IF(COUNTIF(BD!$B$2:B1577,BD!B1577)=1,MAX($F$1:F1576)+1,\"\")","v":""},null,{"$f":"IF(AND(BD!B1577=REF,BD!D1577>=DEB,BD!D1577<=FIN),MAX(calc!$H$1:H1576)+1,0)","v":0}]
[null,null,null,null,null,{"$f":"IF(COUNTIF(BD!$B$2:B1578,BD!B1578)=1,MAX($F$1:F1577)+1,\"\")","v":""},null,{"$f":"IF(AND(BD!B1578=REF,BD!D1578>=DEB,BD!D1578<=FIN),MAX(calc!$H$1:H1577)+1,0)","v":0}]
[null,null,null,null,null,{"$f":"IF(COUNTIF(BD!$B$2:B1579,BD!B1579)=1,MAX($F$1:F1578)+1,\"\")","v":""},null,{"$f":"IF(AND(BD!B1579=REF,BD!D1579>=DEB,BD!D1579<=FIN),MAX(calc!$H$1:H1578)+1,0)","v":0}]
[null,null,null,null,null,{"$f":"IF(COUNTIF(BD!$B$2:B1580,BD!B1580)=1,MAX($F$1:F1579)+1,\"\")","v":""},null,{"$f":"IF(AND(BD!B1580=REF,BD!D1580>=DEB,BD!D1580<=FIN),MAX(calc!$H$1:H1579)+1,0)","v":0}]
[null,null,null,null,null,{"$f":"IF(COUNTIF(BD!$B$2:B1581,BD!B1581)=1,MAX($F$1:F1580)+1,\"\")","v":""},null,{"$f":"IF(AND(BD!B1581=REF,BD!D1581>=DEB,BD!D1581<=FIN),MAX(calc!$H$1:H1580)+1,0)","v":0}]
[null,null,null,null,null,{"$f":"IF(COUNTIF(BD!$B$2:B1582,BD!B1582)=1,MAX($F$1:F1581)+1,\"\")","v":""},null,{"$f":"IF(AND(BD!B1582=REF,BD!D1582>=DEB,BD!D1582<=FIN),MAX(calc!$H$1:H1581)+1,0)","v":0}]
[null,null,null,null,null,{"$f":"IF(COUNTIF(BD!$B$2:B1583,BD!B1583)=1,MAX($F$1:F1582)+1,\"\")","v":""},null,{"$f":"IF(AND(BD!B1583=REF,BD!D1583>=DEB,BD!D1583<=FIN),MAX(calc!$H$1:H1582)+1,0)","v":0}]
[null,null,null,null,null,{"$f":"IF(COUNTIF(BD!$B$2:B1584,BD!B1584)=1,MAX($F$1:F1583)+1,\"\")","v":""},null,{"$f":"IF(AND(BD!B1584=REF,BD!D1584>=DEB,BD!D1584<=FIN),MAX(calc!$H$1:H1583)+1,0)","v":0}]
[null,null,null,null,null,{"$f":"IF(COUNTIF(BD!$B$2:B1585,BD!B1585)=1,MAX($F$1:F1584)+1,\"\")","v":""},null,{"$f":"IF(AND(BD!B1585=REF,BD!D1585>=DEB,BD!D1585<=FIN),MAX(calc!$H$1:H1584)+1,0)","v":0}]
[null,null,null,null,null,{"$f":"IF(COUNTIF(BD!$B$2:B1586,BD!B1586)=1,MAX($F$1:F1585)+1,\"\")","v":""},null,{"$f":"IF(AND(BD!B1586=REF,BD!D1586>=DEB,BD!D1586<=FIN),MAX(calc!$H$1:H1585)+1,0)","v":0}]
[null,null,null,null,null,{"$f":"IF(COUNTIF(BD!$B$2:B1587,BD!B1587)=1,MAX($F$1:F1586)+1,\"\")","v":""},null,{"$f":"IF(AND(BD!B1587=REF,BD!D1587>=DEB,BD!D1587<=FIN),MAX(calc!$H$1:H1586)+1,0)","v":0}]
[null,null,null,null,null,{"$f":"IF(COUNTIF(BD!$B$2:B1588,BD!B1588)=1,MAX($F$1:F1587)+1,\"\")","v":""},null,{"$f":"IF(AND(BD!B1588=REF,BD!D1588>=DEB,BD!D1588<=FIN),MAX(calc!$H$1:H1587)+1,0)","v":0}]
[null,null,null,null,null,{"$f":"IF(COUNTIF(BD!$B$2:B1589,BD!B1589)=1,MAX($F$1:F1588)+1,\"\")","v":""},null,{"$f":"IF(AND(BD!B1589=REF,BD!D1589>=DEB,BD!D1589<=FIN),MAX(calc!$H$1:H1588)+1,0)","v":0}]
[null,null,null,null,null,{"$f":"IF(COUNTIF(BD!$B$2:B1590,BD!B1590)=1,MAX($F$1:F1589)+1,\"\")","v":""},null,{"$f":"IF(AND(BD!B1590=REF,BD!D1590>=DEB,BD!D1590<=FIN),MAX(calc!$H$1:H1589)+1,0)","v":0}]
[null,null,null,null,null,{"$f":"IF(COUNTIF(BD!$B$2:B1591,BD!B1591)=1,MAX($F$1:F1590)+1,\"\")","v":""},null,{"$f":"IF(AND(BD!B1591=REF,BD!D1591>=DEB,BD!D1591<=FIN),MAX(calc!$H$1:H1590)+1,0)","v":0}]
[null,null,null,null,null,{"$f":"IF(COUNTIF(BD!$B$2:B1592,BD!B1592)=1,MAX($F$1:F1591)+1,\"\")","v":""},null,{"$f":"IF(AND(BD!B1592=REF,BD!D1592>=DEB,BD!D1592<=FIN),MAX(calc!$H$1:H1591)+1,0)","v":0}]
[null,null,null,null,null,{"$f":"IF(COUNTIF(BD!$B$2:B1593,BD!B1593)=1,MAX($F$1:F1592)+1,\"\")","v":""},null,{"$f":"IF(AND(BD!B1593=REF,BD!D1593>=DEB,BD!D1593<=FIN),MAX(calc!$H$1:H1592)+1,0)","v":0}]
[null,null,null,null,null,{"$f":"IF(COUNTIF(BD!$B$2:B1594,BD!B1594)=1,MAX($F$1:F1593)+1,\"\")","v":""},null,{"$f":"IF(AND(BD!B1594=REF,BD!D1594>=DEB,BD!D1594<=FIN),MAX(calc!$H$1:H1593)+1,0)","v":0}]
[null,null,null,null,null,{"$f":"IF(COUNTIF(BD!$B$2:B1595,BD!B1595)=1,MAX($F$1:F1594)+1,\"\")","v":""},null,{"$f":"IF(AND(BD!B1595=REF,BD!D1595>=DEB,BD!D1595<=FIN),MAX(calc!$H$1:H1594)+1,0)","v":0}]
[null,null,null,null,null,{"$f":"IF(COUNTIF(BD!$B$2:B1596,BD!B1596)=1,MAX($F$1:F1595)+1,\"\")","v":""},null,{"$f":"IF(AND(BD!B1596=REF,BD!D1596>=DEB,BD!D1596<=FIN),MAX(calc!$H$1:H1595)+1,0)","v":0}]
[null,null,null,null,null,{"$f":"IF(COUNTIF(BD!$B$2:B1597,BD!B1597)=1,MAX($F$1:F1596)+1,\"\")","v":""},null,{"$f":"IF(AND(BD!B1597=REF,BD!D1597>=DEB,BD!D1597<=FIN),MAX(calc!$H$1:H1596)+1,0)","v":0}]
[null,null,null,null,null,{"$f":"IF(COUNTIF(BD!$B$2:B1598,BD!B1598)=1,MAX($F$1:F1597)+1,\"\")","v":""},null,{"$f":"IF(AND(BD!B1598=REF,BD!D1598>=DEB,BD!D1598<=FIN),MAX(calc!$H$1:H1597)+1,0)","v":0}]
[null,null,null,null,null,{"$f":"IF(COUNTIF(BD!$B$2:B1599,BD!B1599)=1,MAX($F$1:F1598)+1,\"\")","v":""},null,{"$f":"IF(AND(BD!B1599=REF,BD!D1599>=DEB,BD!D1599<=FIN),MAX(calc!$H$1:H1598)+1,0)","v":0}]
[null,null,null,null,null,{"$f":"IF(COUNTIF(BD!$B$2:B1600,BD!B1600)=1,MAX($F$1:F1599)+1,\"\")","v":""},null,{"$f":"IF(AND(BD!B1600=REF,BD!D1600>=DEB,BD!D1600<=FIN),MAX(calc!$H$1:H1599)+1,0)","v":0}]
[null,null,null,null,null,{"$f":"IF(COUNTIF(BD!$B$2:B1601,BD!B1601)=1,MAX($F$1:F1600)+1,\"\")","v":""},null,{"$f":"IF(AND(BD!B1601=REF,BD!D1601>=DEB,BD!D1601<=FIN),MAX(calc!$H$1:H1600)+1,0)","v":0}]
[null,null,null,null,null,{"$f":"IF(COUNTIF(BD!$B$2:B1602,BD!B1602)=1,MAX($F$1:F1601)+1,\"\")","v":""},null,{"$f":"IF(AND(BD!B1602=REF,BD!D1602>=DEB,BD!D1602<=FIN),MAX(calc!$H$1:H1601)+1,0)","v":0}]
[null,null,null,null,null,{"$f":"IF(COUNTIF(BD!$B$2:B1603,BD!B1603)=1,MAX($F$1:F1602)+1,\"\")","v":""},null,{"$f":"IF(AND(BD!B1603=REF,BD!D1603>=DEB,BD!D1603<=FIN),MAX(calc!$H$1:H1602)+1,0)","v":0}]
[null,null,null,null,null,{"$f":"IF(COUNTIF(BD!$B$2:B1604,BD!B1604)=1,MAX($F$1:F1603)+1,\"\")","v":""},null,{"$f":"IF(AND(BD!B1604=REF,BD!D1604>=DEB,BD!D1604<=FIN),MAX(calc!$H$1:H1603)+1,0)","v":0}]
[null,null,null,null,null,{"$f":"IF(COUNTIF(BD!$B$2:B1605,BD!B1605)=1,MAX($F$1:F1604)+1,\"\")","v":""},null,{"$f":"IF(AND(BD!B1605=REF,BD!D1605>=DEB,BD!D1605<=FIN),MAX(calc!$H$1:H1604)+1,0)","v":0}]
[null,null,null,null,null,{"$f":"IF(COUNTIF(BD!$B$2:B1606,BD!B1606)=1,MAX($F$1:F1605)+1,\"\")","v":""},null,{"$f":"IF(AND(BD!B1606=REF,BD!D1606>=DEB,BD!D1606<=FIN),MAX(calc!$H$1:H1605)+1,0)","v":0}]
[null,null,null,null,null,{"$f":"IF(COUNTIF(BD!$B$2:B1607,BD!B1607)=1,MAX($F$1:F1606)+1,\"\")","v":""},null,{"$f":"IF(AND(BD!B1607=REF,BD!D1607>=DEB,BD!D1607<=FIN),MAX(calc!$H$1:H1606)+1,0)","v":0}]
[null,null,null,null,null,{"$f":"IF(COUNTIF(BD!$B$2:B1608,BD!B1608)=1,MAX($F$1:F1607)+1,\"\")","v":""},null,{"$f":"IF(AND(BD!B1608=REF,BD!D1608>=DEB,BD!D1608<=FIN),MAX(calc!$H$1:H1607)+1,0)","v":0}]
[null,null,null,null,null,{"$f":"IF(COUNTIF(BD!$B$2:B1609,BD!B1609)=1,MAX($F$1:F1608)+1,\"\")","v":""},null,{"$f":"IF(AND(BD!B1609=REF,BD!D1609>=DEB,BD!D1609<=FIN),MAX(calc!$H$1:H1608)+1,0)","v":0}]
[null,null,null,null,null,{"$f":"IF(COUNTIF(BD!$B$2:B1610,BD!B1610)=1,MAX($F$1:F1609)+1,\"\")","v":""},null,{"$f":"IF(AND(BD!B1610=REF,BD!D1610>=DEB,BD!D1610<=FIN),MAX(calc!$H$1:H1609)+1,0)","v":0}]
[null,null,null,null,null,{"$f":"IF(COUNTIF(BD!$B$2:B1611,BD!B1611)=1,MAX($F$1:F1610)+1,\"\")","v":""},null,{"$f":"IF(AND(BD!B1611=REF,BD!D1611>=DEB,BD!D1611<=FIN),MAX(calc!$H$1:H1610)+1,0)","v":0}]
[null,null,null,null,null,{"$f":"IF(COUNTIF(BD!$B$2:B1612,BD!B1612)=1,MAX($F$1:F1611)+1,\"\")","v":""},null,{"$f":"IF(AND(BD!B1612=REF,BD!D1612>=DEB,BD!D1612<=FIN),MAX(calc!$H$1:H1611)+1,0)","v":0}]
[null,null,null,null,null,{"$f":"IF(COUNTIF(BD!$B$2:B1613,BD!B1613)=1,MAX($F$1:F1612)+1,\"\")","v":""},null,{"$f":"IF(AND(BD!B1613=REF,BD!D1613>=DEB,BD!D1613<=FIN),MAX(calc!$H$1:H1612)+1,0)","v":0}]
[null,null,null,null,null,{"$f":"IF(COUNTIF(BD!$B$2:B1614,BD!B1614)=1,MAX($F$1:F1613)+1,\"\")","v":""},null,{"$f":"IF(AND(BD!B1614=REF,BD!D1614>=DEB,BD!D1614<=FIN),MAX(calc!$H$1:H1613)+1,0)","v":0}]
[null,null,null,null,null,{"$f":"IF(COUNTIF(BD!$B$2:B1615,BD!B1615)=1,MAX($F$1:F1614)+1,\"\")","v":""},null,{"$f":"IF(AND(BD!B1615=REF,BD!D1615>=DEB,BD!D1615<=FIN),MAX(calc!$H$1:H1614)+1,0)","v":0}]
[null,null,null,null,null,{"$f":"IF(COUNTIF(BD!$B$2:B1616,BD!B1616)=1,MAX($F$1:F1615)+1,\"\")","v":""},null,{"$f":"IF(AND(BD!B1616=REF,BD!D1616>=DEB,BD!D1616<=FIN),MAX(calc!$H$1:H1615)+1,0)","v":0}]
[null,null,null,null,null,{"$f":"IF(COUNTIF(BD!$B$2:B1617,BD!B1617)=1,MAX($F$1:F1616)+1,\"\")","v":""},null,{"$f":"IF(AND(BD!B1617=REF,BD!D1617>=DEB,BD!D1617<=FIN),MAX(calc!$H$1:H1616)+1,0)","v":0}]
[null,null,null,null,null,{"$f":"IF(COUNTIF(BD!$B$2:B1618,BD!B1618)=1,MAX($F$1:F1617)+1,\"\")","v":""},null,{"$f":"IF(AND(BD!B1618=REF,BD!D1618>=DEB,BD!D1618<=FIN),MAX(calc!$H$1:H1617)+1,0)","v":0}]
[null,null,null,null,null,{"$f":"IF(COUNTIF(BD!$B$2:B1619,BD!B1619)=1,MAX($F$1:F1618)+1,\"\")","v":""},null,{"$f":"IF(AND(BD!B1619=REF,BD!D1619>=DEB,BD!D1619<=FIN),MAX(calc!$H$1:H1618)+1,0)","v":0}]
[null,null,null,null,null,{"$f":"IF(COUNTIF(BD!$B$2:B1620,BD!B1620)=1,MAX($F$1:F1619)+1,\"\")","v":""},null,{"$f":"IF(AND(BD!B1620=REF,BD!D1620>=DEB,BD!D1620<=FIN),MAX(calc!$H$1:H1619)+1,0)","v":0}]
[null,null,null,null,null,{"$f":"IF(COUNTIF(BD!$B$2:B1621,BD!B1621)=1,MAX($F$1:F1620)+1,\"\")","v":""},null,{"$f":"IF(AND(BD!B1621=REF,BD!D1621>=DEB,BD!D1621<=FIN),MAX(calc!$H$1:H1620)+1,0)","v":0}]
[null,null,null,null,null,{"$f":"IF(COUNTIF(BD!$B$2:B1622,BD!B1622)=1,MAX($F$1:F1621)+1,\"\")","v":""},null,{"$f":"IF(AND(BD!B1622=REF,BD!D1622>=DEB,BD!D1622<=FIN),MAX(calc!$H$1:H1621)+1,0)","v":0}]
[null,null,null,null,null,{"$f":"IF(COUNTIF(BD!$B$2:B1623,BD!B1623)=1,MAX($F$1:F1622)+1,\"\")","v":""},null,{"$f":"IF(AND(BD!B1623=REF,BD!D1623>=DEB,BD!D1623<=FIN),MAX(calc!$H$1:H1622)+1,0)","v":0}]
[null,null,null,null,null,{"$f":"IF(COUNTIF(BD!$B$2:B1624,BD!B1624)=1,MAX($F$1:F1623)+1,\"\")","v":""},null,{"$f":"IF(AND(BD!B1624=REF,BD!D1624>=DEB,BD!D1624<=FIN),MAX(calc!$H$1:H1623)+1,0)","v":0}]
[null,null,null,null,null,{"$f":"IF(COUNTIF(BD!$B$2:B1625,BD!B1625)=1,MAX($F$1:F1624)+1,\"\")","v":""},null,{"$f":"IF(AND(BD!B1625=REF,BD!D1625>=DEB,BD!D1625<=FIN),MAX(calc!$H$1:H1624)+1,0)","v":0}]
[null,null,null,null,null,{"$f":"IF(COUNTIF(BD!$B$2:B1626,BD!B1626)=1,MAX($F$1:F1625)+1,\"\")","v":""},null,{"$f":"IF(AND(BD!B1626=REF,BD!D1626>=DEB,BD!D1626<=FIN),MAX(calc!$H$1:H1625)+1,0)","v":0}]
[null,null,null,null,null,{"$f":"IF(COUNTIF(BD!$B$2:B1627,BD!B1627)=1,MAX($F$1:F1626)+1,\"\")","v":""},null,{"$f":"IF(AND(BD!B1627=REF,BD!D1627>=DEB,BD!D1627<=FIN),MAX(calc!$H$1:H1626)+1,0)","v":0}]
[null,null,null,null,null,{"$f":"IF(COUNTIF(BD!$B$2:B1628,BD!B1628)=1,MAX($F$1:F1627)+1,\"\")","v":""},null,{"$f":"IF(AND(BD!B1628=REF,BD!D1628>=DEB,BD!D1628<=FIN),MAX(calc!$H$1:H1627)+1,0)","v":0}]
[null,null,null,null,null,{"$f":"IF(COUNTIF(BD!$B$2:B1629,BD!B1629)=1,MAX($F$1:F1628)+1,\"\")","v":""},null,{"$f":"IF(AND(BD!B1629=REF,BD!D1629>=DEB,BD!D1629<=FIN),MAX(calc!$H$1:H1628)+1,0)","v":0}]
[null,null,null,null,null,{"$f":"IF(COUNTIF(BD!$B$2:B1630,BD!B1630)=1,MAX($F$1:F1629)+1,\"\")","v":""},null,{"$f":"IF(AND(BD!B1630=REF,BD!D1630>=DEB,BD!D1630<=FIN),MAX(calc!$H$1:H1629)+1,0)","v":0}]
[null,null,null,null,null,{"$f":"IF(COUNTIF(BD!$B$2:B1631,BD!B1631)=1,MAX($F$1:F1630)+1,\"\")","v":""},null,{"$f":"IF(AND(BD!B1631=REF,BD!D1631>=DEB,BD!D1631<=FIN),MAX(calc!$H$1:H1630)+1,0)","v":0}]
[null,null,null,null,null,{"$f":"IF(COUNTIF(BD!$B$2:B1632,BD!B1632)=1,MAX($F$1:F1631)+1,\"\")","v":""},null,{"$f":"IF(AND(BD!B1632=REF,BD!D1632>=DEB,BD!D1632<=FIN),MAX(calc!$H$1:H1631)+1,0)","v":0}]
[null,null,null,null,null,{"$f":"IF(COUNTIF(BD!$B$2:B1633,BD!B1633)=1,MAX($F$1:F1632)+1,\"\")","v":""},null,{"$f":"IF(AND(BD!B1633=REF,BD!D1633>=DEB,BD!D1633<=FIN),MAX(calc!$H$1:H1632)+1,0)","v":0}]
[null,null,null,null,null,{"$f":"IF(COUNTIF(BD!$B$2:B1634,BD!B1634)=1,MAX($F$1:F1633)+1,\"\")","v":""},null,{"$f":"IF(AND(BD!B1634=REF,BD!D1634>=DEB,BD!D1634<=FIN),MAX(calc!$H$1:H1633)+1,0)","v":0}]
[null,null,null,null,null,{"$f":"IF(COUNTIF(BD!$B$2:B1635,BD!B1635)=1,MAX($F$1:F1634)+1,\"\")","v":""},null,{"$f":"IF(AND(BD!B1635=REF,BD!D1635>=DEB,BD!D1635<=FIN),MAX(calc!$H$1:H1634)+1,0)","v":0}]
[null,null,null,null,null,{"$f":"IF(COUNTIF(BD!$B$2:B1636,BD!B1636)=1,MAX($F$1:F1635)+1,\"\")","v":""},null,{"$f":"IF(AND(BD!B1636=REF,BD!D1636>=DEB,BD!D1636<=FIN),MAX(calc!$H$1:H1635)+1,0)","v":0}]
[null,null,null,null,null,{"$f":"IF(COUNTIF(BD!$B$2:B1637,BD!B1637)=1,MAX($F$1:F1636)+1,\"\")","v":""},null,{"$f":"IF(AND(BD!B1637=REF,BD!D1637>=DEB,BD!D1637<=FIN),MAX(calc!$H$1:H1636)+1,0)","v":0}]
[null,null,null,null,null,{"$f":"IF(COUNTIF(BD!$B$2:B1638,BD!B1638)=1,MAX($F$1:F1637)+1,\"\")","v":""},null,{"$f":"IF(AND(BD!B1638=REF,BD!D1638>=DEB,BD!D1638<=FIN),MAX(calc!$H$1:H1637)+1,0)","v":0}]
[null,null,null,null,null,{"$f":"IF(COUNTIF(BD!$B$2:B1639,BD!B1639)=1,MAX($F$1:F1638)+1,\"\")","v":""},null,{"$f":"IF(AND(BD!B1639=REF,BD!D1639>=DEB,BD!D1639<=FIN),MAX(calc!$H$1:H1638)+1,0)","v":0}]
[null,null,null,null,null,{"$f":"IF(COUNTIF(BD!$B$2:B1640,BD!B1640)=1,MAX($F$1:F1639)+1,\"\")","v":""},null,{"$f":"IF(AND(BD!B1640=REF,BD!D1640>=DEB,BD!D1640<=FIN),MAX(calc!$H$1:H1639)+1,0)","v":0}]
[null,null,null,null,null,{"$f":"IF(COUNTIF(BD!$B$2:B1641,BD!B1641)=1,MAX($F$1:F1640)+1,\"\")","v":""},null,{"$f":"IF(AND(BD!B1641=REF,BD!D1641>=DEB,BD!D1641<=FIN),MAX(calc!$H$1:H1640)+1,0)","v":0}]
[null,null,null,null,null,{"$f":"IF(COUNTIF(BD!$B$2:B1642,BD!B1642)=1,MAX($F$1:F1641)+1,\"\")","v":""},null,{"$f":"IF(AND(BD!B1642=REF,BD!D1642>=DEB,BD!D1642<=FIN),MAX(calc!$H$1:H1641)+1,0)","v":0}]
[null,null,null,null,null,{"$f":"IF(COUNTIF(BD!$B$2:B1643,BD!B1643)=1,MAX($F$1:F1642)+1,\"\")","v":""},null,{"$f":"IF(AND(BD!B1643=REF,BD!D1643>=DEB,BD!D1643<=FIN),MAX(calc!$H$1:H1642)+1,0)","v":0}]
[null,null,null,null,null,{"$f":"IF(COUNTIF(BD!$B$2:B1644,BD!B1644)=1,MAX($F$1:F1643)+1,\"\")","v":""},null,{"$f":"IF(AND(BD!B1644=REF,BD!D1644>=DEB,BD!D1644<=FIN),MAX(calc!$H$1:H1643)+1,0)","v":0}]
[null,null,null,null,null,{"$f":"IF(COUNTIF(BD!$B$2:B1645,BD!B1645)=1,MAX($F$1:F1644)+1,\"\")","v":""},null,{"$f":"IF(AND(BD!B1645=REF,BD!D1645>=DEB,BD!D1645<=FIN),MAX(calc!$H$1:H1644)+1,0)","v":0}]
[null,null,null,null,null,{"$f":"IF(COUNTIF(BD!$B$2:B1646,BD!B1646)=1,MAX($F$1:F1645)+1,\"\")","v":""},null,{"$f":"IF(AND(BD!B1646=REF,BD!D1646>=DEB,BD!D1646<=FIN),MAX(calc!$H$1:H1645)+1,0)","v":0}]
[null,null,null,null,null,{"$f":"IF(COUNTIF(BD!$B$2:B1647,BD!B1647)=1,MAX($F$1:F1646)+1,\"\")","v":""},null,{"$f":"IF(AND(BD!B1647=REF,BD!D1647>=DEB,BD!D1647<=FIN),MAX(calc!$H$1:H1646)+1,0)","v":0}]
[null,null,null,null,null,{"$f":"IF(COUNTIF(BD!$B$2:B1648,BD!B1648)=1,MAX($F$1:F1647)+1,\"\")","v":""},null,{"$f":"IF(AND(BD!B1648=REF,BD!D1648>=DEB,BD!D1648<=FIN),MAX(calc!$H$1:H1647)+1,0)","v":0}]
[null,null,null,null,null,{"$f":"IF(COUNTIF(BD!$B$2:B1649,BD!B1649)=1,MAX($F$1:F1648)+1,\"\")","v":""},null,{"$f":"IF(AND(BD!B1649=REF,BD!D1649>=DEB,BD!D1649<=FIN),MAX(calc!$H$1:H1648)+1,0)","v":0}]
[null,null,null,null,null,{"$f":"IF(COUNTIF(BD!$B$2:B1650,BD!B1650)=1,MAX($F$1:F1649)+1,\"\")","v":""},null,{"$f":"IF(AND(BD!B1650=REF,BD!D1650>=DEB,BD!D1650<=FIN),MAX(calc!$H$1:H1649)+1,0)","v":0}]
[null,null,null,null,null,{"$f":"IF(COUNTIF(BD!$B$2:B1651,BD!B1651)=1,MAX($F$1:F1650)+1,\"\")","v":""},null,{"$f":"IF(AND(BD!B1651=REF,BD!D1651>=DEB,BD!D1651<=FIN),MAX(calc!$H$1:H1650)+1,0)","v":0}]
[null,null,null,null,null,{"$f":"IF(COUNTIF(BD!$B$2:B1652,BD!B1652)=1,MAX($F$1:F1651)+1,\"\")","v":""},null,{"$f":"IF(AND(BD!B1652=REF,BD!D1652>=DEB,BD!D1652<=FIN),MAX(calc!$H$1:H1651)+1,0)","v":0}]
[null,null,null,null,null,{"$f":"IF(COUNTIF(BD!$B$2:B1653,BD!B1653)=1,MAX($F$1:F1652)+1,\"\")","v":""},null,{"$f":"IF(AND(BD!B1653=REF,BD!D1653>=DEB,BD!D1653<=FIN),MAX(calc!$H$1:H1652)+1,0)","v":0}]
[null,null,null,null,null,{"$f":"IF(COUNTIF(BD!$B$2:B1654,BD!B1654)=1,MAX($F$1:F1653)+1,\"\")","v":""},null,{"$f":"IF(AND(BD!B1654=REF,BD!D1654>=DEB,BD!D1654<=FIN),MAX(calc!$H$1:H1653)+1,0)","v":0}]
[null,null,null,null,null,{"$f":"IF(COUNTIF(BD!$B$2:B1655,BD!B1655)=1,MAX($F$1:F1654)+1,\"\")","v":""},null,{"$f":"IF(AND(BD!B1655=REF,BD!D1655>=DEB,BD!D1655<=FIN),MAX(calc!$H$1:H1654)+1,0)","v":0}]
[null,null,null,null,null,{"$f":"IF(COUNTIF(BD!$B$2:B1656,BD!B1656)=1,MAX($F$1:F1655)+1,\"\")","v":""},null,{"$f":"IF(AND(BD!B1656=REF,BD!D1656>=DEB,BD!D1656<=FIN),MAX(calc!$H$1:H1655)+1,0)","v":0}]
[null,null,null,null,null,{"$f":"IF(COUNTIF(BD!$B$2:B1657,BD!B1657)=1,MAX($F$1:F1656)+1,\"\")","v":""},null,{"$f":"IF(AND(BD!B1657=REF,BD!D1657>=DEB,BD!D1657<=FIN),MAX(calc!$H$1:H1656)+1,0)","v":0}]
[null,null,null,null,null,{"$f":"IF(COUNTIF(BD!$B$2:B1658,BD!B1658)=1,MAX($F$1:F1657)+1,\"\")","v":""},null,{"$f":"IF(AND(BD!B1658=REF,BD!D1658>=DEB,BD!D1658<=FIN),MAX(calc!$H$1:H1657)+1,0)","v":0}]
[null,null,null,null,null,{"$f":"IF(COUNTIF(BD!$B$2:B1659,BD!B1659)=1,MAX($F$1:F1658)+1,\"\")","v":""},null,{"$f":"IF(AND(BD!B1659=REF,BD!D1659>=DEB,BD!D1659<=FIN),MAX(calc!$H$1:H1658)+1,0)","v":0}]
[null,null,null,null,null,{"$f":"IF(COUNTIF(BD!$B$2:B1660,BD!B1660)=1,MAX($F$1:F1659)+1,\"\")","v":""},null,{"$f":"IF(AND(BD!B1660=REF,BD!D1660>=DEB,BD!D1660<=FIN),MAX(calc!$H$1:H1659)+1,0)","v":0}]
[null,null,null,null,null,{"$f":"IF(COUNTIF(BD!$B$2:B1661,BD!B1661)=1,MAX($F$1:F1660)+1,\"\")","v":""},null,{"$f":"IF(AND(BD!B1661=REF,BD!D1661>=DEB,BD!D1661<=FIN),MAX(calc!$H$1:H1660)+1,0)","v":0}]
[null,null,null,null,null,{"$f":"IF(COUNTIF(BD!$B$2:B1662,BD!B1662)=1,MAX($F$1:F1661)+1,\"\")","v":""},null,{"$f":"IF(AND(BD!B1662=REF,BD!D1662>=DEB,BD!D1662<=FIN),MAX(calc!$H$1:H1661)+1,0)","v":0}]
[null,null,null,null,null,{"$f":"IF(COUNTIF(BD!$B$2:B1663,BD!B1663)=1,MAX($F$1:F1662)+1,\"\")","v":""},null,{"$f":"IF(AND(BD!B1663=REF,BD!D1663>=DEB,BD!D1663<=FIN),MAX(calc!$H$1:H1662)+1,0)","v":0}]
[null,null,null,null,null,{"$f":"IF(COUNTIF(BD!$B$2:B1664,BD!B1664)=1,MAX($F$1:F1663)+1,\"\")","v":""},null,{"$f":"IF(AND(BD!B1664=REF,BD!D1664>=DEB,BD!D1664<=FIN),MAX(calc!$H$1:H1663)+1,0)","v":0}]
[null,null,null,null,null,{"$f":"IF(COUNTIF(BD!$B$2:B1665,BD!B1665)=1,MAX($F$1:F1664)+1,\"\")","v":""},null,{"$f":"IF(AND(BD!B1665=REF,BD!D1665>=DEB,BD!D1665<=FIN),MAX(calc!$H$1:H1664)+1,0)","v":0}]
[null,null,null,null,null,{"$f":"IF(COUNTIF(BD!$B$2:B1666,BD!B1666)=1,MAX($F$1:F1665)+1,\"\")","v":""},null,{"$f":"IF(AND(BD!B1666=REF,BD!D1666>=DEB,BD!D1666<=FIN),MAX(calc!$H$1:H1665)+1,0)","v":0}]
[null,null,null,null,null,{"$f":"IF(COUNTIF(BD!$B$2:B1667,BD!B1667)=1,MAX($F$1:F1666)+1,\"\")","v":""},null,{"$f":"IF(AND(BD!B1667=REF,BD!D1667>=DEB,BD!D1667<=FIN),MAX(calc!$H$1:H1666)+1,0)","v":0}]
[null,null,null,null,null,{"$f":"IF(COUNTIF(BD!$B$2:B1668,BD!B1668)=1,MAX($F$1:F1667)+1,\"\")","v":""},null,{"$f":"IF(AND(BD!B1668=REF,BD!D1668>=DEB,BD!D1668<=FIN),MAX(calc!$H$1:H1667)+1,0)","v":0}]
[null,null,null,null,null,{"$f":"IF(COUNTIF(BD!$B$2:B1669,BD!B1669)=1,MAX($F$1:F1668)+1,\"\")","v":""},null,{"$f":"IF(AND(BD!B1669=REF,BD!D1669>=DEB,BD!D1669<=FIN),MAX(calc!$H$1:H1668)+1,0)","v":0}]
[null,null,null,null,null,{"$f":"IF(COUNTIF(BD!$B$2:B1670,BD!B1670)=1,MAX($F$1:F1669)+1,\"\")","v":""},null,{"$f":"IF(AND(BD!B1670=REF,BD!D1670>=DEB,BD!D1670<=FIN),MAX(calc!$H$1:H1669)+1,0)","v":0}]
[null,null,null,null,null,{"$f":"IF(COUNTIF(BD!$B$2:B1671,BD!B1671)=1,MAX($F$1:F1670)+1,\"\")","v":""},null,{"$f":"IF(AND(BD!B1671=REF,BD!D1671>=DEB,BD!D1671<=FIN),MAX(calc!$H$1:H1670)+1,0)","v":0}]
[null,null,null,null,null,{"$f":"IF(COUNTIF(BD!$B$2:B1672,BD!B1672)=1,MAX($F$1:F1671)+1,\"\")","v":""},null,{"$f":"IF(AND(BD!B1672=REF,BD!D1672>=DEB,BD!D1672<=FIN),MAX(calc!$H$1:H1671)+1,0)","v":0}]
[null,null,null,null,null,{"$f":"IF(COUNTIF(BD!$B$2:B1673,BD!B1673)=1,MAX($F$1:F1672)+1,\"\")","v":""},null,{"$f":"IF(AND(BD!B1673=REF,BD!D1673>=DEB,BD!D1673<=FIN),MAX(calc!$H$1:H1672)+1,0)","v":0}]
[null,null,null,null,null,{"$f":"IF(COUNTIF(BD!$B$2:B1674,BD!B1674)=1,MAX($F$1:F1673)+1,\"\")","v":""},null,{"$f":"IF(AND(BD!B1674=REF,BD!D1674>=DEB,BD!D1674<=FIN),MAX(calc!$H$1:H1673)+1,0)","v":0}]
[null,null,null,null,null,{"$f":"IF(COUNTIF(BD!$B$2:B1675,BD!B1675)=1,MAX($F$1:F1674)+1,\"\")","v":""},null,{"$f":"IF(AND(BD!B1675=REF,BD!D1675>=DEB,BD!D1675<=FIN),MAX(calc!$H$1:H1674)+1,0)","v":0}]
[null,null,null,null,null,{"$f":"IF(COUNTIF(BD!$B$2:B1676,BD!B1676)=1,MAX($F$1:F1675)+1,\"\")","v":""},null,{"$f":"IF(AND(BD!B1676=REF,BD!D1676>=DEB,BD!D1676<=FIN),MAX(calc!$H$1:H1675)+1,0)","v":0}]
[null,null,null,null,null,{"$f":"IF(COUNTIF(BD!$B$2:B1677,BD!B1677)=1,MAX($F$1:F1676)+1,\"\")","v":""},null,{"$f":"IF(AND(BD!B1677=REF,BD!D1677>=DEB,BD!D1677<=FIN),MAX(calc!$H$1:H1676)+1,0)","v":0}]
[null,null,null,null,null,{"$f":"IF(COUNTIF(BD!$B$2:B1678,BD!B1678)=1,MAX($F$1:F1677)+1,\"\")","v":""},null,{"$f":"IF(AND(BD!B1678=REF,BD!D1678>=DEB,BD!D1678<=FIN),MAX(calc!$H$1:H1677)+1,0)","v":0}]
[null,null,null,null,null,{"$f":"IF(COUNTIF(BD!$B$2:B1679,BD!B1679)=1,MAX($F$1:F1678)+1,\"\")","v":""},null,{"$f":"IF(AND(BD!B1679=REF,BD!D1679>=DEB,BD!D1679<=FIN),MAX(calc!$H$1:H1678)+1,0)","v":0}]
[null,null,null,null,null,{"$f":"IF(COUNTIF(BD!$B$2:B1680,BD!B1680)=1,MAX($F$1:F1679)+1,\"\")","v":""},null,{"$f":"IF(AND(BD!B1680=REF,BD!D1680>=DEB,BD!D1680<=FIN),MAX(calc!$H$1:H1679)+1,0)","v":0}]
[null,null,null,null,null,{"$f":"IF(COUNTIF(BD!$B$2:B1681,BD!B1681)=1,MAX($F$1:F1680)+1,\"\")","v":""},null,{"$f":"IF(AND(BD!B1681=REF,BD!D1681>=DEB,BD!D1681<=FIN),MAX(calc!$H$1:H1680)+1,0)","v":0}]
[null,null,null,null,null,{"$f":"IF(COUNTIF(BD!$B$2:B1682,BD!B1682)=1,MAX($F$1:F1681)+1,\"\")","v":""},null,{"$f":"IF(AND(BD!B1682=REF,BD!D1682>=DEB,BD!D1682<=FIN),MAX(calc!$H$1:H1681)+1,0)","v":0}]
[null,null,null,null,null,{"$f":"IF(COUNTIF(BD!$B$2:B1683,BD!B1683)=1,MAX($F$1:F1682)+1,\"\")","v":""},null,{"$f":"IF(AND(BD!B1683=REF,BD!D1683>=DEB,BD!D1683<=FIN),MAX(calc!$H$1:H1682)+1,0)","v":0}]
[null,null,null,null,null,{"$f":"IF(COUNTIF(BD!$B$2:B1684,BD!B1684)=1,MAX($F$1:F1683)+1,\"\")","v":""},null,{"$f":"IF(AND(BD!B1684=REF,BD!D1684>=DEB,BD!D1684<=FIN),MAX(calc!$H$1:H1683)+1,0)","v":0}]
[null,null,null,null,null,{"$f":"IF(COUNTIF(BD!$B$2:B1685,BD!B1685)=1,MAX($F$1:F1684)+1,\"\")","v":""},null,{"$f":"IF(AND(BD!B1685=REF,BD!D1685>=DEB,BD!D1685<=FIN),MAX(calc!$H$1:H1684)+1,0)","v":0}]
[null,null,null,null,null,{"$f":"IF(COUNTIF(BD!$B$2:B1686,BD!B1686)=1,MAX($F$1:F1685)+1,\"\")","v":""},null,{"$f":"IF(AND(BD!B1686=REF,BD!D1686>=DEB,BD!D1686<=FIN),MAX(calc!$H$1:H1685)+1,0)","v":0}]
[null,null,null,null,null,{"$f":"IF(COUNTIF(BD!$B$2:B1687,BD!B1687)=1,MAX($F$1:F1686)+1,\"\")","v":""},null,{"$f":"IF(AND(BD!B1687=REF,BD!D1687>=DEB,BD!D1687<=FIN),MAX(calc!$H$1:H1686)+1,0)","v":0}]
[null,null,null,null,null,{"$f":"IF(COUNTIF(BD!$B$2:B1688,BD!B1688)=1,MAX($F$1:F1687)+1,\"\")","v":""},null,{"$f":"IF(AND(BD!B1688=REF,BD!D1688>=DEB,BD!D1688<=FIN),MAX(calc!$H$1:H1687)+1,0)","v":0}]
[null,null,null,null,null,{"$f":"IF(COUNTIF(BD!$B$2:B1689,BD!B1689)=1,MAX($F$1:F1688)+1,\"\")","v":""},null,{"$f":"IF(AND(BD!B1689=REF,BD!D1689>=DEB,BD!D1689<=FIN),MAX(calc!$H$1:H1688)+1,0)","v":0}]
[null,null,null,null,null,{"$f":"IF(COUNTIF(BD!$B$2:B1690,BD!B1690)=1,MAX($F$1:F1689)+1,\"\")","v":""},null,{"$f":"IF(AND(BD!B1690=REF,BD!D1690>=DEB,BD!D1690<=FIN),MAX(calc!$H$1:H1689)+1,0)","v":0}]
[null,null,null,null,null,{"$f":"IF(COUNTIF(BD!$B$2:B1691,BD!B1691)=1,MAX($F$1:F1690)+1,\"\")","v":""},null,{"$f":"IF(AND(BD!B1691=REF,BD!D1691>=DEB,BD!D1691<=FIN),MAX(calc!$H$1:H1690)+1,0)","v":0}]
[null,null,null,null,null,{"$f":"IF(COUNTIF(BD!$B$2:B1692,BD!B1692)=1,MAX($F$1:F1691)+1,\"\")","v":""},null,{"$f":"IF(AND(BD!B1692=REF,BD!D1692>=DEB,BD!D1692<=FIN),MAX(calc!$H$1:H1691)+1,0)","v":0}]
[null,null,null,null,null,{"$f":"IF(COUNTIF(BD!$B$2:B1693,BD!B1693)=1,MAX($F$1:F1692)+1,\"\")","v":""},null,{"$f":"IF(AND(BD!B1693=REF,BD!D1693>=DEB,BD!D1693<=FIN),MAX(calc!$H$1:H1692)+1,0)","v":0}]
[null,null,null,null,null,{"$f":"IF(COUNTIF(BD!$B$2:B1694,BD!B1694)=1,MAX($F$1:F1693)+1,\"\")","v":""},null,{"$f":"IF(AND(BD!B1694=REF,BD!D1694>=DEB,BD!D1694<=FIN),MAX(calc!$H$1:H1693)+1,0)","v":0}]
[null,null,null,null,null,{"$f":"IF(COUNTIF(BD!$B$2:B1695,BD!B1695)=1,MAX($F$1:F1694)+1,\"\")","v":""},null,{"$f":"IF(AND(BD!B1695=REF,BD!D1695>=DEB,BD!D1695<=FIN),MAX(calc!$H$1:H1694)+1,0)","v":0}]
[null,null,null,null,null,{"$f":"IF(COUNTIF(BD!$B$2:B1696,BD!B1696)=1,MAX($F$1:F1695)+1,\"\")","v":""},null,{"$f":"IF(AND(BD!B1696=REF,BD!D1696>=DEB,BD!D1696<=FIN),MAX(calc!$H$1:H1695)+1,0)","v":0}]
[null,null,null,null,null,{"$f":"IF(COUNTIF(BD!$B$2:B1697,BD!B1697)=1,MAX($F$1:F1696)+1,\"\")","v":""},null,{"$f":"IF(AND(BD!B1697=REF,BD!D1697>=DEB,BD!D1697<=FIN),MAX(calc!$H$1:H1696)+1,0)","v":0}]
[null,null,null,null,null,{"$f":"IF(COUNTIF(BD!$B$2:B1698,BD!B1698)=1,MAX($F$1:F1697)+1,\"\")","v":""},null,{"$f":"IF(AND(BD!B1698=REF,BD!D1698>=DEB,BD!D1698<=FIN),MAX(calc!$H$1:H1697)+1,0)","v":0}]
[null,null,null,null,null,{"$f":"IF(COUNTIF(BD!$B$2:B1699,BD!B1699)=1,MAX($F$1:F1698)+1,\"\")","v":""},null,{"$f":"IF(AND(BD!B1699=REF,BD!D1699>=DEB,BD!D1699<=FIN),MAX(calc!$H$1:H1698)+1,0)","v":0}]
[null,null,null,null,null,{"$f":"IF(COUNTIF(BD!$B$2:B1700,BD!B1700)=1,MAX($F$1:F1699)+1,\"\")","v":""},null,{"$f":"IF(AND(BD!B1700=REF,BD!D1700>=DEB,BD!D1700<=FIN),MAX(calc!$H$1:H1699)+1,0)","v":0}]
[null,null,null,null,null,{"$f":"IF(COUNTIF(BD!$B$2:B1701,BD!B1701)=1,MAX($F$1:F1700)+1,\"\")","v":""},null,{"$f":"IF(AND(BD!B1701=REF,BD!D1701>=DEB,BD!D1701<=FIN),MAX(calc!$H$1:H1700)+1,0)","v":0}]
[null,null,null,null,null,{"$f":"IF(COUNTIF(BD!$B$2:B1702,BD!B1702)=1,MAX($F$1:F1701)+1,\"\")","v":""},null,{"$f":"IF(AND(BD!B1702=REF,BD!D1702>=DEB,BD!D1702<=FIN),MAX(calc!$H$1:H1701)+1,0)","v":0}]
[null,null,null,null,null,{"$f":"IF(COUNTIF(BD!$B$2:B1703,BD!B1703)=1,MAX($F$1:F1702)+1,\"\")","v":""},null,{"$f":"IF(AND(BD!B1703=REF,BD!D1703>=DEB,BD!D1703<=FIN),MAX(calc!$H$1:H1702)+1,0)","v":0}]
[null,null,null,null,null,{"$f":"IF(COUNTIF(BD!$B$2:B1704,BD!B1704)=1,MAX($F$1:F1703)+1,\"\")","v":""},null,{"$f":"IF(AND(BD!B1704=REF,BD!D1704>=DEB,BD!D1704<=FIN),MAX(calc!$H$1:H1703)+1,0)","v":0}]
[null,null,null,null,null,{"$f":"IF(COUNTIF(BD!$B$2:B1705,BD!B1705)=1,MAX($F$1:F1704)+1,\"\")","v":""},null,{"$f":"IF(AND(BD!B1705=REF,BD!D1705>=DEB,BD!D1705<=FIN),MAX(calc!$H$1:H1704)+1,0)","v":0}]
[null,null,null,null,null,{"$f":"IF(COUNTIF(BD!$B$2:B1706,BD!B1706)=1,MAX($F$1:F1705)+1,\"\")","v":""},null,{"$f":"IF(AND(BD!B1706=REF,BD!D1706>=DEB,BD!D1706<=FIN),MAX(calc!$H$1:H1705)+1,0)","v":0}]
[null,null,null,null,null,{"$f":"IF(COUNTIF(BD!$B$2:B1707,BD!B1707)=1,MAX($F$1:F1706)+1,\"\")","v":""},null,{"$f":"IF(AND(BD!B1707=REF,BD!D1707>=DEB,BD!D1707<=FIN),MAX(calc!$H$1:H1706)+1,0)","v":0}]
[null,null,null,null,null,{"$f":"IF(COUNTIF(BD!$B$2:B1708,BD!B1708)=1,MAX($F$1:F1707)+1,\"\")","v":""},null,{"$f":"IF(AND(BD!B1708=REF,BD!D1708>=DEB,BD!D1708<=FIN),MAX(calc!$H$1:H1707)+1,0)","v":0}]
[null,null,null,null,null,{"$f":"IF(COUNTIF(BD!$B$2:B1709,BD!B1709)=1,MAX($F$1:F1708)+1,\"\")","v":""},null,{"$f":"IF(AND(BD!B1709=REF,BD!D1709>=DEB,BD!D1709<=FIN),MAX(calc!$H$1:H1708)+1,0)","v":0}]
[null,null,null,null,null,{"$f":"IF(COUNTIF(BD!$B$2:B1710,BD!B1710)=1,MAX($F$1:F1709)+1,\"\")","v":""},null,{"$f":"IF(AND(BD!B1710=REF,BD!D1710>=DEB,BD!D1710<=FIN),MAX(calc!$H$1:H1709)+1,0)","v":0}]
[null,null,null,null,null,{"$f":"IF(COUNTIF(BD!$B$2:B1711,BD!B1711)=1,MAX($F$1:F1710)+1,\"\")","v":""},null,{"$f":"IF(AND(BD!B1711=REF,BD!D1711>=DEB,BD!D1711<=FIN),MAX(calc!$H$1:H1710)+1,0)","v":0}]
[null,null,null,null,null,{"$f":"IF(COUNTIF(BD!$B$2:B1712,BD!B1712)=1,MAX($F$1:F1711)+1,\"\")","v":""},null,{"$f":"IF(AND(BD!B1712=REF,BD!D1712>=DEB,BD!D1712<=FIN),MAX(calc!$H$1:H1711)+1,0)","v":0}]
[null,null,null,null,null,{"$f":"IF(COUNTIF(BD!$B$2:B1713,BD!B1713)=1,MAX($F$1:F1712)+1,\"\")","v":""},null,{"$f":"IF(AND(BD!B1713=REF,BD!D1713>=DEB,BD!D1713<=FIN),MAX(calc!$H$1:H1712)+1,0)","v":0}]
[null,null,null,null,null,{"$f":"IF(COUNTIF(BD!$B$2:B1714,BD!B1714)=1,MAX($F$1:F1713)+1,\"\")","v":""},null,{"$f":"IF(AND(BD!B1714=REF,BD!D1714>=DEB,BD!D1714<=FIN),MAX(calc!$H$1:H1713)+1,0)","v":0}]
[null,null,null,null,null,{"$f":"IF(COUNTIF(BD!$B$2:B1715,BD!B1715)=1,MAX($F$1:F1714)+1,\"\")","v":""},null,{"$f":"IF(AND(BD!B1715=REF,BD!D1715>=DEB,BD!D1715<=FIN),MAX(calc!$H$1:H1714)+1,0)","v":0}]
[null,null,null,null,null,{"$f":"IF(COUNTIF(BD!$B$2:B1716,BD!B1716)=1,MAX($F$1:F1715)+1,\"\")","v":""},null,{"$f":"IF(AND(BD!B1716=REF,BD!D1716>=DEB,BD!D1716<=FIN),MAX(calc!$H$1:H1715)+1,0)","v":0}]
[null,null,null,null,null,{"$f":"IF(COUNTIF(BD!$B$2:B1717,BD!B1717)=1,MAX($F$1:F1716)+1,\"\")","v":""},null,{"$f":"IF(AND(BD!B1717=REF,BD!D1717>=DEB,BD!D1717<=FIN),MAX(calc!$H$1:H1716)+1,0)","v":0}]
[null,null,null,null,null,{"$f":"IF(COUNTIF(BD!$B$2:B1718,BD!B1718)=1,MAX($F$1:F1717)+1,\"\")","v":""},null,{"$f":"IF(AND(BD!B1718=REF,BD!D1718>=DEB,BD!D1718<=FIN),MAX(calc!$H$1:H1717)+1,0)","v":0}]
[null,null,null,null,null,{"$f":"IF(COUNTIF(BD!$B$2:B1719,BD!B1719)=1,MAX($F$1:F1718)+1,\"\")","v":""},null,{"$f":"IF(AND(BD!B1719=REF,BD!D1719>=DEB,BD!D1719<=FIN),MAX(calc!$H$1:H1718)+1,0)","v":0}]
[null,null,null,null,null,{"$f":"IF(COUNTIF(BD!$B$2:B1720,BD!B1720)=1,MAX($F$1:F1719)+1,\"\")","v":""},null,{"$f":"IF(AND(BD!B1720=REF,BD!D1720>=DEB,BD!D1720<=FIN),MAX(calc!$H$1:H1719)+1,0)","v":0}]
[null,null,null,null,null,{"$f":"IF(COUNTIF(BD!$B$2:B1721,BD!B1721)=1,MAX($F$1:F1720)+1,\"\")","v":""},null,{"$f":"IF(AND(BD!B1721=REF,BD!D1721>=DEB,BD!D1721<=FIN),MAX(calc!$H$1:H1720)+1,0)","v":0}]
[null,null,null,null,null,{"$f":"IF(COUNTIF(BD!$B$2:B1722,BD!B1722)=1,MAX($F$1:F1721)+1,\"\")","v":""},null,{"$f":"IF(AND(BD!B1722=REF,BD!D1722>=DEB,BD!D1722<=FIN),MAX(calc!$H$1:H1721)+1,0)","v":0}]
[null,null,null,null,null,{"$f":"IF(COUNTIF(BD!$B$2:B1723,BD!B1723)=1,MAX($F$1:F1722)+1,\"\")","v":""},null,{"$f":"IF(AND(BD!B1723=REF,BD!D1723>=DEB,BD!D1723<=FIN),MAX(calc!$H$1:H1722)+1,0)","v":0}]
[null,null,null,null,null,{"$f":"IF(COUNTIF(BD!$B$2:B1724,BD!B1724)=1,MAX($F$1:F1723)+1,\"\")","v":""},null,{"$f":"IF(AND(BD!B1724=REF,BD!D1724>=DEB,BD!D1724<=FIN),MAX(calc!$H$1:H1723)+1,0)","v":0}]
[null,null,null,null,null,{"$f":"IF(COUNTIF(BD!$B$2:B1725,BD!B1725)=1,MAX($F$1:F1724)+1,\"\")","v":""},null,{"$f":"IF(AND(BD!B1725=REF,BD!D1725>=DEB,BD!D1725<=FIN),MAX(calc!$H$1:H1724)+1,0)","v":0}]
[null,null,null,null,null,{"$f":"IF(COUNTIF(BD!$B$2:B1726,BD!B1726)=1,MAX($F$1:F1725)+1,\"\")","v":""},null,{"$f":"IF(AND(BD!B1726=REF,BD!D1726>=DEB,BD!D1726<=FIN),MAX(calc!$H$1:H1725)+1,0)","v":0}]
[null,null,null,null,null,{"$f":"IF(COUNTIF(BD!$B$2:B1727,BD!B1727)=1,MAX($F$1:F1726)+1,\"\")","v":""},null,{"$f":"IF(AND(BD!B1727=REF,BD!D1727>=DEB,BD!D1727<=FIN),MAX(calc!$H$1:H1726)+1,0)","v":0}]
[null,null,null,null,null,{"$f":"IF(COUNTIF(BD!$B$2:B1728,BD!B1728)=1,MAX($F$1:F1727)+1,\"\")","v":""},null,{"$f":"IF(AND(BD!B1728=REF,BD!D1728>=DEB,BD!D1728<=FIN),MAX(calc!$H$1:H1727)+1,0)","v":0}]
[null,null,null,null,null,{"$f":"IF(COUNTIF(BD!$B$2:B1729,BD!B1729)=1,MAX($F$1:F1728)+1,\"\")","v":""},null,{"$f":"IF(AND(BD!B1729=REF,BD!D1729>=DEB,BD!D1729<=FIN),MAX(calc!$H$1:H1728)+1,0)","v":0}]
[null,null,null,null,null,{"$f":"IF(COUNTIF(BD!$B$2:B1730,BD!B1730)=1,MAX($F$1:F1729)+1,\"\")","v":""},null,{"$f":"IF(AND(BD!B1730=REF,BD!D1730>=DEB,BD!D1730<=FIN),MAX(calc!$H$1:H1729)+1,0)","v":0}]
[null,null,null,null,null,{"$f":"IF(COUNTIF(BD!$B$2:B1731,BD!B1731)=1,MAX($F$1:F1730)+1,\"\")","v":""},null,{"$f":"IF(AND(BD!B1731=REF,BD!D1731>=DEB,BD!D1731<=FIN),MAX(calc!$H$1:H1730)+1,0)","v":0}]
[null,null,null,null,null,{"$f":"IF(COUNTIF(BD!$B$2:B1732,BD!B1732)=1,MAX($F$1:F1731)+1,\"\")","v":""},null,{"$f":"IF(AND(BD!B1732=REF,BD!D1732>=DEB,BD!D1732<=FIN),MAX(calc!$H$1:H1731)+1,0)","v":0}]
[null,null,null,null,null,{"$f":"IF(COUNTIF(BD!$B$2:B1733,BD!B1733)=1,MAX($F$1:F1732)+1,\"\")","v":""},null,{"$f":"IF(AND(BD!B1733=REF,BD!D1733>=DEB,BD!D1733<=FIN),MAX(calc!$H$1:H1732)+1,0)","v":0}]
[null,null,null,null,null,{"$f":"IF(COUNTIF(BD!$B$2:B1734,BD!B1734)=1,MAX($F$1:F1733)+1,\"\")","v":""},null,{"$f":"IF(AND(BD!B1734=REF,BD!D1734>=DEB,BD!D1734<=FIN),MAX(calc!$H$1:H1733)+1,0)","v":0}]
[null,null,null,null,null,{"$f":"IF(COUNTIF(BD!$B$2:B1735,BD!B1735)=1,MAX($F$1:F1734)+1,\"\")","v":""},null,{"$f":"IF(AND(BD!B1735=REF,BD!D1735>=DEB,BD!D1735<=FIN),MAX(calc!$H$1:H1734)+1,0)","v":0}]
[null,null,null,null,null,{"$f":"IF(COUNTIF(BD!$B$2:B1736,BD!B1736)=1,MAX($F$1:F1735)+1,\"\")","v":""},null,{"$f":"IF(AND(BD!B1736=REF,BD!D1736>=DEB,BD!D1736<=FIN),MAX(calc!$H$1:H1735)+1,0)","v":0}]
[null,null,null,null,null,{"$f":"IF(COUNTIF(BD!$B$2:B1737,BD!B1737)=1,MAX($F$1:F1736)+1,\"\")","v":""},null,{"$f":"IF(AND(BD!B1737=REF,BD!D1737>=DEB,BD!D1737<=FIN),MAX(calc!$H$1:H1736)+1,0)","v":0}]
[null,null,null,null,null,{"$f":"IF(COUNTIF(BD!$B$2:B1738,BD!B1738)=1,MAX($F$1:F1737)+1,\"\")","v":""},null,{"$f":"IF(AND(BD!B1738=REF,BD!D1738>=DEB,BD!D1738<=FIN),MAX(calc!$H$1:H1737)+1,0)","v":0}]
[null,null,null,null,null,{"$f":"IF(COUNTIF(BD!$B$2:B1739,BD!B1739)=1,MAX($F$1:F1738)+1,\"\")","v":""},null,{"$f":"IF(AND(BD!B1739=REF,BD!D1739>=DEB,BD!D1739<=FIN),MAX(calc!$H$1:H1738)+1,0)","v":0}]
[null,null,null,null,null,{"$f":"IF(COUNTIF(BD!$B$2:B1740,BD!B1740)=1,MAX($F$1:F1739)+1,\"\")","v":""},null,{"$f":"IF(AND(BD!B1740=REF,BD!D1740>=DEB,BD!D1740<=FIN),MAX(calc!$H$1:H1739)+1,0)","v":0}]
[null,null,null,null,null,{"$f":"IF(COUNTIF(BD!$B$2:B1741,BD!B1741)=1,MAX($F$1:F1740)+1,\"\")","v":""},null,{"$f":"IF(AND(BD!B1741=REF,BD!D1741>=DEB,BD!D1741<=FIN),MAX(calc!$H$1:H1740)+1,0)","v":0}]
[null,null,null,null,null,{"$f":"IF(COUNTIF(BD!$B$2:B1742,BD!B1742)=1,MAX($F$1:F1741)+1,\"\")","v":""},null,{"$f":"IF(AND(BD!B1742=REF,BD!D1742>=DEB,BD!D1742<=FIN),MAX(calc!$H$1:H1741)+1,0)","v":0}]
[null,null,null,null,null,{"$f":"IF(COUNTIF(BD!$B$2:B1743,BD!B1743)=1,MAX($F$1:F1742)+1,\"\")","v":""},null,{"$f":"IF(AND(BD!B1743=REF,BD!D1743>=DEB,BD!D1743<=FIN),MAX(calc!$H$1:H1742)+1,0)","v":0}]
[null,null,null,null,null,{"$f":"IF(COUNTIF(BD!$B$2:B1744,BD!B1744)=1,MAX($F$1:F1743)+1,\"\")","v":""},null,{"$f":"IF(AND(BD!B1744=REF,BD!D1744>=DEB,BD!D1744<=FIN),MAX(calc!$H$1:H1743)+1,0)","v":0}]
[null,null,null,null,null,{"$f":"IF(COUNTIF(BD!$B$2:B1745,BD!B1745)=1,MAX($F$1:F1744)+1,\"\")","v":""},null,{"$f":"IF(AND(BD!B1745=REF,BD!D1745>=DEB,BD!D1745<=FIN),MAX(calc!$H$1:H1744)+1,0)","v":0}]
[null,null,null,null,null,{"$f":"IF(COUNTIF(BD!$B$2:B1746,BD!B1746)=1,MAX($F$1:F1745)+1,\"\")","v":""},null,{"$f":"IF(AND(BD!B1746=REF,BD!D1746>=DEB,BD!D1746<=FIN),MAX(calc!$H$1:H1745)+1,0)","v":0}]
[null,null,null,null,null,{"$f":"IF(COUNTIF(BD!$B$2:B1747,BD!B1747)=1,MAX($F$1:F1746)+1,\"\")","v":""},null,{"$f":"IF(AND(BD!B1747=REF,BD!D1747>=DEB,BD!D1747<=FIN),MAX(calc!$H$1:H1746)+1,0)","v":0}]
[null,null,null,null,null,{"$f":"IF(COUNTIF(BD!$B$2:B1748,BD!B1748)=1,MAX($F$1:F1747)+1,\"\")","v":""},null,{"$f":"IF(AND(BD!B1748=REF,BD!D1748>=DEB,BD!D1748<=FIN),MAX(calc!$H$1:H1747)+1,0)","v":0}]
[null,null,null,null,null,{"$f":"IF(COUNTIF(BD!$B$2:B1749,BD!B1749)=1,MAX($F$1:F1748)+1,\"\")","v":""},null,{"$f":"IF(AND(BD!B1749=REF,BD!D1749>=DEB,BD!D1749<=FIN),MAX(calc!$H$1:H1748)+1,0)","v":0}]
[null,null,null,null,null,{"$f":"IF(COUNTIF(BD!$B$2:B1750,BD!B1750)=1,MAX($F$1:F1749)+1,\"\")","v":""},null,{"$f":"IF(AND(BD!B1750=REF,BD!D1750>=DEB,BD!D1750<=FIN),MAX(calc!$H$1:H1749)+1,0)","v":0}]
[null,null,null,null,null,{"$f":"IF(COUNTIF(BD!$B$2:B1751,BD!B1751)=1,MAX($F$1:F1750)+1,\"\")","v":""},null,{"$f":"IF(AND(BD!B1751=REF,BD!D1751>=DEB,BD!D1751<=FIN),MAX(calc!$H$1:H1750)+1,0)","v":0}]
[null,null,null,null,null,{"$f":"IF(COUNTIF(BD!$B$2:B1752,BD!B1752)=1,MAX($F$1:F1751)+1,\"\")","v":""},null,{"$f":"IF(AND(BD!B1752=REF,BD!D1752>=DEB,BD!D1752<=FIN),MAX(calc!$H$1:H1751)+1,0)","v":0}]
[null,null,null,null,null,{"$f":"IF(COUNTIF(BD!$B$2:B1753,BD!B1753)=1,MAX($F$1:F1752)+1,\"\")","v":""},null,{"$f":"IF(AND(BD!B1753=REF,BD!D1753>=DEB,BD!D1753<=FIN),MAX(calc!$H$1:H1752)+1,0)","v":0}]
[null,null,null,null,null,{"$f":"IF(COUNTIF(BD!$B$2:B1754,BD!B1754)=1,MAX($F$1:F1753)+1,\"\")","v":""},null,{"$f":"IF(AND(BD!B1754=REF,BD!D1754>=DEB,BD!D1754<=FIN),MAX(calc!$H$1:H1753)+1,0)","v":0}]
[null,null,null,null,null,{"$f":"IF(COUNTIF(BD!$B$2:B1755,BD!B1755)=1,MAX($F$1:F1754)+1,\"\")","v":""},null,{"$f":"IF(AND(BD!B1755=REF,BD!D1755>=DEB,BD!D1755<=FIN),MAX(calc!$H$1:H1754)+1,0)","v":0}]
[null,null,null,null,null,{"$f":"IF(COUNTIF(BD!$B$2:B1756,BD!B1756)=1,MAX($F$1:F1755)+1,\"\")","v":""},null,{"$f":"IF(AND(BD!B1756=REF,BD!D1756>=DEB,BD!D1756<=FIN),MAX(calc!$H$1:H1755)+1,0)","v":0}]
[null,null,null,null,null,{"$f":"IF(COUNTIF(BD!$B$2:B1757,BD!B1757)=1,MAX($F$1:F1756)+1,\"\")","v":""},null,{"$f":"IF(AND(BD!B1757=REF,BD!D1757>=DEB,BD!D1757<=FIN),MAX(calc!$H$1:H1756)+1,0)","v":0}]
[null,null,null,null,null,{"$f":"IF(COUNTIF(BD!$B$2:B1758,BD!B1758)=1,MAX($F$1:F1757)+1,\"\")","v":""},null,{"$f":"IF(AND(BD!B1758=REF,BD!D1758>=DEB,BD!D1758<=FIN),MAX(calc!$H$1:H1757)+1,0)","v":0}]
[null,null,null,null,null,{"$f":"IF(COUNTIF(BD!$B$2:B1759,BD!B1759)=1,MAX($F$1:F1758)+1,\"\")","v":""},null,{"$f":"IF(AND(BD!B1759=REF,BD!D1759>=DEB,BD!D1759<=FIN),MAX(calc!$H$1:H1758)+1,0)","v":0}]
[null,null,null,null,null,{"$f":"IF(COUNTIF(BD!$B$2:B1760,BD!B1760)=1,MAX($F$1:F1759)+1,\"\")","v":""},null,{"$f":"IF(AND(BD!B1760=REF,BD!D1760>=DEB,BD!D1760<=FIN),MAX(calc!$H$1:H1759)+1,0)","v":0}]
[null,null,null,null,null,{"$f":"IF(COUNTIF(BD!$B$2:B1761,BD!B1761)=1,MAX($F$1:F1760)+1,\"\")","v":""},null,{"$f":"IF(AND(BD!B1761=REF,BD!D1761>=DEB,BD!D1761<=FIN),MAX(calc!$H$1:H1760)+1,0)","v":0}]
[null,null,null,null,null,{"$f":"IF(COUNTIF(BD!$B$2:B1762,BD!B1762)=1,MAX($F$1:F1761)+1,\"\")","v":""},null,{"$f":"IF(AND(BD!B1762=REF,BD!D1762>=DEB,BD!D1762<=FIN),MAX(calc!$H$1:H1761)+1,0)","v":0}]
[null,null,null,null,null,{"$f":"IF(COUNTIF(BD!$B$2:B1763,BD!B1763)=1,MAX($F$1:F1762)+1,\"\")","v":""},null,{"$f":"IF(AND(BD!B1763=REF,BD!D1763>=DEB,BD!D1763<=FIN),MAX(calc!$H$1:H1762)+1,0)","v":0}]
[null,null,null,null,null,{"$f":"IF(COUNTIF(BD!$B$2:B1764,BD!B1764)=1,MAX($F$1:F1763)+1,\"\")","v":""},null,{"$f":"IF(AND(BD!B1764=REF,BD!D1764>=DEB,BD!D1764<=FIN),MAX(calc!$H$1:H1763)+1,0)","v":0}]
[null,null,null,null,null,{"$f":"IF(COUNTIF(BD!$B$2:B1765,BD!B1765)=1,MAX($F$1:F1764)+1,\"\")","v":""},null,{"$f":"IF(AND(BD!B1765=REF,BD!D1765>=DEB,BD!D1765<=FIN),MAX(calc!$H$1:H1764)+1,0)","v":0}]
[null,null,null,null,null,{"$f":"IF(COUNTIF(BD!$B$2:B1766,BD!B1766)=1,MAX($F$1:F1765)+1,\"\")","v":""},null,{"$f":"IF(AND(BD!B1766=REF,BD!D1766>=DEB,BD!D1766<=FIN),MAX(calc!$H$1:H1765)+1,0)","v":0}]
[null,null,null,null,null,{"$f":"IF(COUNTIF(BD!$B$2:B1767,BD!B1767)=1,MAX($F$1:F1766)+1,\"\")","v":""},null,{"$f":"IF(AND(BD!B1767=REF,BD!D1767>=DEB,BD!D1767<=FIN),MAX(calc!$H$1:H1766)+1,0)","v":0}]
[null,null,null,null,null,{"$f":"IF(COUNTIF(BD!$B$2:B1768,BD!B1768)=1,MAX($F$1:F1767)+1,\"\")","v":""},null,{"$f":"IF(AND(BD!B1768=REF,BD!D1768>=DEB,BD!D1768<=FIN),MAX(calc!$H$1:H1767)+1,0)","v":0}]
[null,null,null,null,null,{"$f":"IF(COUNTIF(BD!$B$2:B1769,BD!B1769)=1,MAX($F$1:F1768)+1,\"\")","v":""},null,{"$f":"IF(AND(BD!B1769=REF,BD!D1769>=DEB,BD!D1769<=FIN),MAX(calc!$H$1:H1768)+1,0)","v":0}]
[null,null,null,null,null,{"$f":"IF(COUNTIF(BD!$B$2:B1770,BD!B1770)=1,MAX($F$1:F1769)+1,\"\")","v":""},null,{"$f":"IF(AND(BD!B1770=REF,BD!D1770>=DEB,BD!D1770<=FIN),MAX(calc!$H$1:H1769)+1,0)","v":0}]
[null,null,null,null,null,{"$f":"IF(COUNTIF(BD!$B$2:B1771,BD!B1771)=1,MAX($F$1:F1770)+1,\"\")","v":""},null,{"$f":"IF(AND(BD!B1771=REF,BD!D1771>=DEB,BD!D1771<=FIN),MAX(calc!$H$1:H1770)+1,0)","v":0}]
[null,null,null,null,null,{"$f":"IF(COUNTIF(BD!$B$2:B1772,BD!B1772)=1,MAX($F$1:F1771)+1,\"\")","v":""},null,{"$f":"IF(AND(BD!B1772=REF,BD!D1772>=DEB,BD!D1772<=FIN),MAX(calc!$H$1:H1771)+1,0)","v":0}]
[null,null,null,null,null,{"$f":"IF(COUNTIF(BD!$B$2:B1773,BD!B1773)=1,MAX($F$1:F1772)+1,\"\")","v":""},null,{"$f":"IF(AND(BD!B1773=REF,BD!D1773>=DEB,BD!D1773<=FIN),MAX(calc!$H$1:H1772)+1,0)","v":0}]
[null,null,null,null,null,{"$f":"IF(COUNTIF(BD!$B$2:B1774,BD!B1774)=1,MAX($F$1:F1773)+1,\"\")","v":""},null,{"$f":"IF(AND(BD!B1774=REF,BD!D1774>=DEB,BD!D1774<=FIN),MAX(calc!$H$1:H1773)+1,0)","v":0}]
[null,null,null,null,null,{"$f":"IF(COUNTIF(BD!$B$2:B1775,BD!B1775)=1,MAX($F$1:F1774)+1,\"\")","v":""},null,{"$f":"IF(AND(BD!B1775=REF,BD!D1775>=DEB,BD!D1775<=FIN),MAX(calc!$H$1:H1774)+1,0)","v":0}]
[null,null,null,null,null,{"$f":"IF(COUNTIF(BD!$B$2:B1776,BD!B1776)=1,MAX($F$1:F1775)+1,\"\")","v":""},null,{"$f":"IF(AND(BD!B1776=REF,BD!D1776>=DEB,BD!D1776<=FIN),MAX(calc!$H$1:H1775)+1,0)","v":0}]
[null,null,null,null,null,{"$f":"IF(COUNTIF(BD!$B$2:B1777,BD!B1777)=1,MAX($F$1:F1776)+1,\"\")","v":""},null,{"$f":"IF(AND(BD!B1777=REF,BD!D1777>=DEB,BD!D1777<=FIN),MAX(calc!$H$1:H1776)+1,0)","v":0}]
[null,null,null,null,null,{"$f":"IF(COUNTIF(BD!$B$2:B1778,BD!B1778)=1,MAX($F$1:F1777)+1,\"\")","v":""},null,{"$f":"IF(AND(BD!B1778=REF,BD!D1778>=DEB,BD!D1778<=FIN),MAX(calc!$H$1:H1777)+1,0)","v":0}]
[null,null,null,null,null,{"$f":"IF(COUNTIF(BD!$B$2:B1779,BD!B1779)=1,MAX($F$1:F1778)+1,\"\")","v":""},null,{"$f":"IF(AND(BD!B1779=REF,BD!D1779>=DEB,BD!D1779<=FIN),MAX(calc!$H$1:H1778)+1,0)","v":0}]
[null,null,null,null,null,{"$f":"IF(COUNTIF(BD!$B$2:B1780,BD!B1780)=1,MAX($F$1:F1779)+1,\"\")","v":""},null,{"$f":"IF(AND(BD!B1780=REF,BD!D1780>=DEB,BD!D1780<=FIN),MAX(calc!$H$1:H1779)+1,0)","v":0}]
[null,null,null,null,null,{"$f":"IF(COUNTIF(BD!$B$2:B1781,BD!B1781)=1,MAX($F$1:F1780)+1,\"\")","v":""},null,{"$f":"IF(AND(BD!B1781=REF,BD!D1781>=DEB,BD!D1781<=FIN),MAX(calc!$H$1:H1780)+1,0)","v":0}]
[null,null,null,null,null,{"$f":"IF(COUNTIF(BD!$B$2:B1782,BD!B1782)=1,MAX($F$1:F1781)+1,\"\")","v":""},null,{"$f":"IF(AND(BD!B1782=REF,BD!D1782>=DEB,BD!D1782<=FIN),MAX(calc!$H$1:H1781)+1,0)","v":0}]
[null,null,null,null,null,{"$f":"IF(COUNTIF(BD!$B$2:B1783,BD!B1783)=1,MAX($F$1:F1782)+1,\"\")","v":""},null,{"$f":"IF(AND(BD!B1783=REF,BD!D1783>=DEB,BD!D1783<=FIN),MAX(calc!$H$1:H1782)+1,0)","v":0}]
[null,null,null,null,null,{"$f":"IF(COUNTIF(BD!$B$2:B1784,BD!B1784)=1,MAX($F$1:F1783)+1,\"\")","v":""},null,{"$f":"IF(AND(BD!B1784=REF,BD!D1784>=DEB,BD!D1784<=FIN),MAX(calc!$H$1:H1783)+1,0)","v":0}]
[null,null,null,null,null,{"$f":"IF(COUNTIF(BD!$B$2:B1785,BD!B1785)=1,MAX($F$1:F1784)+1,\"\")","v":""},null,{"$f":"IF(AND(BD!B1785=REF,BD!D1785>=DEB,BD!D1785<=FIN),MAX(calc!$H$1:H1784)+1,0)","v":0}]
[null,null,null,null,null,{"$f":"IF(COUNTIF(BD!$B$2:B1786,BD!B1786)=1,MAX($F$1:F1785)+1,\"\")","v":""},null,{"$f":"IF(AND(BD!B1786=REF,BD!D1786>=DEB,BD!D1786<=FIN),MAX(calc!$H$1:H1785)+1,0)","v":0}]
[null,null,null,null,null,{"$f":"IF(COUNTIF(BD!$B$2:B1787,BD!B1787)=1,MAX($F$1:F1786)+1,\"\")","v":""},null,{"$f":"IF(AND(BD!B1787=REF,BD!D1787>=DEB,BD!D1787<=FIN),MAX(calc!$H$1:H1786)+1,0)","v":0}]
[null,null,null,null,null,{"$f":"IF(COUNTIF(BD!$B$2:B1788,BD!B1788)=1,MAX($F$1:F1787)+1,\"\")","v":""},null,{"$f":"IF(AND(BD!B1788=REF,BD!D1788>=DEB,BD!D1788<=FIN),MAX(calc!$H$1:H1787)+1,0)","v":0}]
[null,null,null,null,null,{"$f":"IF(COUNTIF(BD!$B$2:B1789,BD!B1789)=1,MAX($F$1:F1788)+1,\"\")","v":""},null,{"$f":"IF(AND(BD!B1789=REF,BD!D1789>=DEB,BD!D1789<=FIN),MAX(calc!$H$1:H1788)+1,0)","v":0}]
[null,null,null,null,null,{"$f":"IF(COUNTIF(BD!$B$2:B1790,BD!B1790)=1,MAX($F$1:F1789)+1,\"\")","v":""},null,{"$f":"IF(AND(BD!B1790=REF,BD!D1790>=DEB,BD!D1790<=FIN),MAX(calc!$H$1:H1789)+1,0)","v":0}]
[null,null,null,null,null,{"$f":"IF(COUNTIF(BD!$B$2:B1791,BD!B1791)=1,MAX($F$1:F1790)+1,\"\")","v":""},null,{"$f":"IF(AND(BD!B1791=REF,BD!D1791>=DEB,BD!D1791<=FIN),MAX(calc!$H$1:H1790)+1,0)","v":0}]
[null,null,null,null,null,{"$f":"IF(COUNTIF(BD!$B$2:B1792,BD!B1792)=1,MAX($F$1:F1791)+1,\"\")","v":""},null,{"$f":"IF(AND(BD!B1792=REF,BD!D1792>=DEB,BD!D1792<=FIN),MAX(calc!$H$1:H1791)+1,0)","v":0}]
[null,null,null,null,null,{"$f":"IF(COUNTIF(BD!$B$2:B1793,BD!B1793)=1,MAX($F$1:F1792)+1,\"\")","v":""},null,{"$f":"IF(AND(BD!B1793=REF,BD!D1793>=DEB,BD!D1793<=FIN),MAX(calc!$H$1:H1792)+1,0)","v":0}]
[null,null,null,null,null,{"$f":"IF(COUNTIF(BD!$B$2:B1794,BD!B1794)=1,MAX($F$1:F1793)+1,\"\")","v":""},null,{"$f":"IF(AND(BD!B1794=REF,BD!D1794>=DEB,BD!D1794<=FIN),MAX(calc!$H$1:H1793)+1,0)","v":0}]
[null,null,null,null,null,{"$f":"IF(COUNTIF(BD!$B$2:B1795,BD!B1795)=1,MAX($F$1:F1794)+1,\"\")","v":""},null,{"$f":"IF(AND(BD!B1795=REF,BD!D1795>=DEB,BD!D1795<=FIN),MAX(calc!$H$1:H1794)+1,0)","v":0}]
[null,null,null,null,null,{"$f":"IF(COUNTIF(BD!$B$2:B1796,BD!B1796)=1,MAX($F$1:F1795)+1,\"\")","v":""},null,{"$f":"IF(AND(BD!B1796=REF,BD!D1796>=DEB,BD!D1796<=FIN),MAX(calc!$H$1:H1795)+1,0)","v":0}]
[null,null,null,null,null,{"$f":"IF(COUNTIF(BD!$B$2:B1797,BD!B1797)=1,MAX($F$1:F1796)+1,\"\")","v":""},null,{"$f":"IF(AND(BD!B1797=REF,BD!D1797>=DEB,BD!D1797<=FIN),MAX(calc!$H$1:H1796)+1,0)","v":0}]
[null,null,null,null,null,{"$f":"IF(COUNTIF(BD!$B$2:B1798,BD!B1798)=1,MAX($F$1:F1797)+1,\"\")","v":""},null,{"$f":"IF(AND(BD!B1798=REF,BD!D1798>=DEB,BD!D1798<=FIN),MAX(calc!$H$1:H1797)+1,0)","v":0}]
[null,null,null,null,null,{"$f":"IF(COUNTIF(BD!$B$2:B1799,BD!B1799)=1,MAX($F$1:F1798)+1,\"\")","v":""},null,{"$f":"IF(AND(BD!B1799=REF,BD!D1799>=DEB,BD!D1799<=FIN),MAX(calc!$H$1:H1798)+1,0)","v":0}]
[null,null,null,null,null,{"$f":"IF(COUNTIF(BD!$B$2:B1800,BD!B1800)=1,MAX($F$1:F1799)+1,\"\")","v":""},null,{"$f":"IF(AND(BD!B1800=REF,BD!D1800>=DEB,BD!D1800<=FIN),MAX(calc!$H$1:H1799)+1,0)","v":0}]
[null,null,null,null,null,{"$f":"IF(COUNTIF(BD!$B$2:B1801,BD!B1801)=1,MAX($F$1:F1800)+1,\"\")","v":""},null,{"$f":"IF(AND(BD!B1801=REF,BD!D1801>=DEB,BD!D1801<=FIN),MAX(calc!$H$1:H1800)+1,0)","v":0}]
[null,null,null,null,null,{"$f":"IF(COUNTIF(BD!$B$2:B1802,BD!B1802)=1,MAX($F$1:F1801)+1,\"\")","v":""},null,{"$f":"IF(AND(BD!B1802=REF,BD!D1802>=DEB,BD!D1802<=FIN),MAX(calc!$H$1:H1801)+1,0)","v":0}]
[null,null,null,null,null,{"$f":"IF(COUNTIF(BD!$B$2:B1803,BD!B1803)=1,MAX($F$1:F1802)+1,\"\")","v":""},null,{"$f":"IF(AND(BD!B1803=REF,BD!D1803>=DEB,BD!D1803<=FIN),MAX(calc!$H$1:H1802)+1,0)","v":0}]
[null,null,null,null,null,{"$f":"IF(COUNTIF(BD!$B$2:B1804,BD!B1804)=1,MAX($F$1:F1803)+1,\"\")","v":""},null,{"$f":"IF(AND(BD!B1804=REF,BD!D1804>=DEB,BD!D1804<=FIN),MAX(calc!$H$1:H1803)+1,0)","v":0}]
[null,null,null,null,null,{"$f":"IF(COUNTIF(BD!$B$2:B1805,BD!B1805)=1,MAX($F$1:F1804)+1,\"\")","v":""},null,{"$f":"IF(AND(BD!B1805=REF,BD!D1805>=DEB,BD!D1805<=FIN),MAX(calc!$H$1:H1804)+1,0)","v":0}]
[null,null,null,null,null,{"$f":"IF(COUNTIF(BD!$B$2:B1806,BD!B1806)=1,MAX($F$1:F1805)+1,\"\")","v":""},null,{"$f":"IF(AND(BD!B1806=REF,BD!D1806>=DEB,BD!D1806<=FIN),MAX(calc!$H$1:H1805)+1,0)","v":0}]
[null,null,null,null,null,{"$f":"IF(COUNTIF(BD!$B$2:B1807,BD!B1807)=1,MAX($F$1:F1806)+1,\"\")","v":""},null,{"$f":"IF(AND(BD!B1807=REF,BD!D1807>=DEB,BD!D1807<=FIN),MAX(calc!$H$1:H1806)+1,0)","v":0}]
[null,null,null,null,null,{"$f":"IF(COUNTIF(BD!$B$2:B1808,BD!B1808)=1,MAX($F$1:F1807)+1,\"\")","v":""},null,{"$f":"IF(AND(BD!B1808=REF,BD!D1808>=DEB,BD!D1808<=FIN),MAX(calc!$H$1:H1807)+1,0)","v":0}]
[null,null,null,null,null,{"$f":"IF(COUNTIF(BD!$B$2:B1809,BD!B1809)=1,MAX($F$1:F1808)+1,\"\")","v":""},null,{"$f":"IF(AND(BD!B1809=REF,BD!D1809>=DEB,BD!D1809<=FIN),MAX(calc!$H$1:H1808)+1,0)","v":0}]
[null,null,null,null,null,{"$f":"IF(COUNTIF(BD!$B$2:B1810,BD!B1810)=1,MAX($F$1:F1809)+1,\"\")","v":""},null,{"$f":"IF(AND(BD!B1810=REF,BD!D1810>=DEB,BD!D1810<=FIN),MAX(calc!$H$1:H1809)+1,0)","v":0}]
[null,null,null,null,null,{"$f":"IF(COUNTIF(BD!$B$2:B1811,BD!B1811)=1,MAX($F$1:F1810)+1,\"\")","v":""},null,{"$f":"IF(AND(BD!B1811=REF,BD!D1811>=DEB,BD!D1811<=FIN),MAX(calc!$H$1:H1810)+1,0)","v":0}]
[null,null,null,null,null,{"$f":"IF(COUNTIF(BD!$B$2:B1812,BD!B1812)=1,MAX($F$1:F1811)+1,\"\")","v":""},null,{"$f":"IF(AND(BD!B1812=REF,BD!D1812>=DEB,BD!D1812<=FIN),MAX(calc!$H$1:H1811)+1,0)","v":0}]
[null,null,null,null,null,{"$f":"IF(COUNTIF(BD!$B$2:B1813,BD!B1813)=1,MAX($F$1:F1812)+1,\"\")","v":""},null,{"$f":"IF(AND(BD!B1813=REF,BD!D1813>=DEB,BD!D1813<=FIN),MAX(calc!$H$1:H1812)+1,0)","v":0}]
[null,null,null,null,null,{"$f":"IF(COUNTIF(BD!$B$2:B1814,BD!B1814)=1,MAX($F$1:F1813)+1,\"\")","v":""},null,{"$f":"IF(AND(BD!B1814=REF,BD!D1814>=DEB,BD!D1814<=FIN),MAX(calc!$H$1:H1813)+1,0)","v":0}]
[null,null,null,null,null,{"$f":"IF(COUNTIF(BD!$B$2:B1815,BD!B1815)=1,MAX($F$1:F1814)+1,\"\")","v":""},null,{"$f":"IF(AND(BD!B1815=REF,BD!D1815>=DEB,BD!D1815<=FIN),MAX(calc!$H$1:H1814)+1,0)","v":0}]
[null,null,null,null,null,{"$f":"IF(COUNTIF(BD!$B$2:B1816,BD!B1816)=1,MAX($F$1:F1815)+1,\"\")","v":""},null,{"$f":"IF(AND(BD!B1816=REF,BD!D1816>=DEB,BD!D1816<=FIN),MAX(calc!$H$1:H1815)+1,0)","v":0}]
[null,null,null,null,null,{"$f":"IF(COUNTIF(BD!$B$2:B1817,BD!B1817)=1,MAX($F$1:F1816)+1,\"\")","v":""},null,{"$f":"IF(AND(BD!B1817=REF,BD!D1817>=DEB,BD!D1817<=FIN),MAX(calc!$H$1:H1816)+1,0)","v":0}]
[null,null,null,null,null,{"$f":"IF(COUNTIF(BD!$B$2:B1818,BD!B1818)=1,MAX($F$1:F1817)+1,\"\")","v":""},null,{"$f":"IF(AND(BD!B1818=REF,BD!D1818>=DEB,BD!D1818<=FIN),MAX(calc!$H$1:H1817)+1,0)","v":0}]
[null,null,null,null,null,{"$f":"IF(COUNTIF(BD!$B$2:B1819,BD!B1819)=1,MAX($F$1:F1818)+1,\"\")","v":""},null,{"$f":"IF(AND(BD!B1819=REF,BD!D1819>=DEB,BD!D1819<=FIN),MAX(calc!$H$1:H1818)+1,0)","v":0}]
[null,null,null,null,null,{"$f":"IF(COUNTIF(BD!$B$2:B1820,BD!B1820)=1,MAX($F$1:F1819)+1,\"\")","v":""},null,{"$f":"IF(AND(BD!B1820=REF,BD!D1820>=DEB,BD!D1820<=FIN),MAX(calc!$H$1:H1819)+1,0)","v":0}]
[null,null,null,null,null,{"$f":"IF(COUNTIF(BD!$B$2:B1821,BD!B1821)=1,MAX($F$1:F1820)+1,\"\")","v":""},null,{"$f":"IF(AND(BD!B1821=REF,BD!D1821>=DEB,BD!D1821<=FIN),MAX(calc!$H$1:H1820)+1,0)","v":0}]
[null,null,null,null,null,{"$f":"IF(COUNTIF(BD!$B$2:B1822,BD!B1822)=1,MAX($F$1:F1821)+1,\"\")","v":""},null,{"$f":"IF(AND(BD!B1822=REF,BD!D1822>=DEB,BD!D1822<=FIN),MAX(calc!$H$1:H1821)+1,0)","v":0}]
[null,null,null,null,null,{"$f":"IF(COUNTIF(BD!$B$2:B1823,BD!B1823)=1,MAX($F$1:F1822)+1,\"\")","v":""},null,{"$f":"IF(AND(BD!B1823=REF,BD!D1823>=DEB,BD!D1823<=FIN),MAX(calc!$H$1:H1822)+1,0)","v":0}]
[null,null,null,null,null,{"$f":"IF(COUNTIF(BD!$B$2:B1824,BD!B1824)=1,MAX($F$1:F1823)+1,\"\")","v":""},null,{"$f":"IF(AND(BD!B1824=REF,BD!D1824>=DEB,BD!D1824<=FIN),MAX(calc!$H$1:H1823)+1,0)","v":0}]
[null,null,null,null,null,{"$f":"IF(COUNTIF(BD!$B$2:B1825,BD!B1825)=1,MAX($F$1:F1824)+1,\"\")","v":""},null,{"$f":"IF(AND(BD!B1825=REF,BD!D1825>=DEB,BD!D1825<=FIN),MAX(calc!$H$1:H1824)+1,0)","v":0}]
[null,null,null,null,null,{"$f":"IF(COUNTIF(BD!$B$2:B1826,BD!B1826)=1,MAX($F$1:F1825)+1,\"\")","v":""},null,{"$f":"IF(AND(BD!B1826=REF,BD!D1826>=DEB,BD!D1826<=FIN),MAX(calc!$H$1:H1825)+1,0)","v":0}]
[null,null,null,null,null,{"$f":"IF(COUNTIF(BD!$B$2:B1827,BD!B1827)=1,MAX($F$1:F1826)+1,\"\")","v":""},null,{"$f":"IF(AND(BD!B1827=REF,BD!D1827>=DEB,BD!D1827<=FIN),MAX(calc!$H$1:H1826)+1,0)","v":0}]
[null,null,null,null,null,{"$f":"IF(COUNTIF(BD!$B$2:B1828,BD!B1828)=1,MAX($F$1:F1827)+1,\"\")","v":""},null,{"$f":"IF(AND(BD!B1828=REF,BD!D1828>=DEB,BD!D1828<=FIN),MAX(calc!$H$1:H1827)+1,0)","v":0}]
[null,null,null,null,null,{"$f":"IF(COUNTIF(BD!$B$2:B1829,BD!B1829)=1,MAX($F$1:F1828)+1,\"\")","v":""},null,{"$f":"IF(AND(BD!B1829=REF,BD!D1829>=DEB,BD!D1829<=FIN),MAX(calc!$H$1:H1828)+1,0)","v":0}]
[null,null,null,null,null,{"$f":"IF(COUNTIF(BD!$B$2:B1830,BD!B1830)=1,MAX($F$1:F1829)+1,\"\")","v":""},null,{"$f":"IF(AND(BD!B1830=REF,BD!D1830>=DEB,BD!D1830<=FIN),MAX(calc!$H$1:H1829)+1,0)","v":0}]
[null,null,null,null,null,{"$f":"IF(COUNTIF(BD!$B$2:B1831,BD!B1831)=1,MAX($F$1:F1830)+1,\"\")","v":""},null,{"$f":"IF(AND(BD!B1831=REF,BD!D1831>=DEB,BD!D1831<=FIN),MAX(calc!$H$1:H1830)+1,0)","v":0}]
[null,null,null,null,null,{"$f":"IF(COUNTIF(BD!$B$2:B1832,BD!B1832)=1,MAX($F$1:F1831)+1,\"\")","v":""},null,{"$f":"IF(AND(BD!B1832=REF,BD!D1832>=DEB,BD!D1832<=FIN),MAX(calc!$H$1:H1831)+1,0)","v":0}]
[null,null,null,null,null,{"$f":"IF(COUNTIF(BD!$B$2:B1833,BD!B1833)=1,MAX($F$1:F1832)+1,\"\")","v":""},null,{"$f":"IF(AND(BD!B1833=REF,BD!D1833>=DEB,BD!D1833<=FIN),MAX(calc!$H$1:H1832)+1,0)","v":0}]
[null,null,null,null,null,{"$f":"IF(COUNTIF(BD!$B$2:B1834,BD!B1834)=1,MAX($F$1:F1833)+1,\"\")","v":""},null,{"$f":"IF(AND(BD!B1834=REF,BD!D1834>=DEB,BD!D1834<=FIN),MAX(calc!$H$1:H1833)+1,0)","v":0}]
[null,null,null,null,null,{"$f":"IF(COUNTIF(BD!$B$2:B1835,BD!B1835)=1,MAX($F$1:F1834)+1,\"\")","v":""},null,{"$f":"IF(AND(BD!B1835=REF,BD!D1835>=DEB,BD!D1835<=FIN),MAX(calc!$H$1:H1834)+1,0)","v":0}]
[null,null,null,null,null,{"$f":"IF(COUNTIF(BD!$B$2:B1836,BD!B1836)=1,MAX($F$1:F1835)+1,\"\")","v":""},null,{"$f":"IF(AND(BD!B1836=REF,BD!D1836>=DEB,BD!D1836<=FIN),MAX(calc!$H$1:H1835)+1,0)","v":0}]
[null,null,null,null,null,{"$f":"IF(COUNTIF(BD!$B$2:B1837,BD!B1837)=1,MAX($F$1:F1836)+1,\"\")","v":""},null,{"$f":"IF(AND(BD!B1837=REF,BD!D1837>=DEB,BD!D1837<=FIN),MAX(calc!$H$1:H1836)+1,0)","v":0}]
[null,null,null,null,null,{"$f":"IF(COUNTIF(BD!$B$2:B1838,BD!B1838)=1,MAX($F$1:F1837)+1,\"\")","v":""},null,{"$f":"IF(AND(BD!B1838=REF,BD!D1838>=DEB,BD!D1838<=FIN),MAX(calc!$H$1:H1837)+1,0)","v":0}]
[null,null,null,null,null,{"$f":"IF(COUNTIF(BD!$B$2:B1839,BD!B1839)=1,MAX($F$1:F1838)+1,\"\")","v":""},null,{"$f":"IF(AND(BD!B1839=REF,BD!D1839>=DEB,BD!D1839<=FIN),MAX(calc!$H$1:H1838)+1,0)","v":0}]
[null,null,null,null,null,{"$f":"IF(COUNTIF(BD!$B$2:B1840,BD!B1840)=1,MAX($F$1:F1839)+1,\"\")","v":""},null,{"$f":"IF(AND(BD!B1840=REF,BD!D1840>=DEB,BD!D1840<=FIN),MAX(calc!$H$1:H1839)+1,0)","v":0}]
[null,null,null,null,null,{"$f":"IF(COUNTIF(BD!$B$2:B1841,BD!B1841)=1,MAX($F$1:F1840)+1,\"\")","v":""},null,{"$f":"IF(AND(BD!B1841=REF,BD!D1841>=DEB,BD!D1841<=FIN),MAX(calc!$H$1:H1840)+1,0)","v":0}]
[null,null,null,null,null,{"$f":"IF(COUNTIF(BD!$B$2:B1842,BD!B1842)=1,MAX($F$1:F1841)+1,\"\")","v":""},null,{"$f":"IF(AND(BD!B1842=REF,BD!D1842>=DEB,BD!D1842<=FIN),MAX(calc!$H$1:H1841)+1,0)","v":0}]
[null,null,null,null,null,{"$f":"IF(COUNTIF(BD!$B$2:B1843,BD!B1843)=1,MAX($F$1:F1842)+1,\"\")","v":""},null,{"$f":"IF(AND(BD!B1843=REF,BD!D1843>=DEB,BD!D1843<=FIN),MAX(calc!$H$1:H1842)+1,0)","v":0}]
[null,null,null,null,null,{"$f":"IF(COUNTIF(BD!$B$2:B1844,BD!B1844)=1,MAX($F$1:F1843)+1,\"\")","v":""},null,{"$f":"IF(AND(BD!B1844=REF,BD!D1844>=DEB,BD!D1844<=FIN),MAX(calc!$H$1:H1843)+1,0)","v":0}]
[null,null,null,null,null,{"$f":"IF(COUNTIF(BD!$B$2:B1845,BD!B1845)=1,MAX($F$1:F1844)+1,\"\")","v":""},null,{"$f":"IF(AND(BD!B1845=REF,BD!D1845>=DEB,BD!D1845<=FIN),MAX(calc!$H$1:H1844)+1,0)","v":0}]
[null,null,null,null,null,{"$f":"IF(COUNTIF(BD!$B$2:B1846,BD!B1846)=1,MAX($F$1:F1845)+1,\"\")","v":""},null,{"$f":"IF(AND(BD!B1846=REF,BD!D1846>=DEB,BD!D1846<=FIN),MAX(calc!$H$1:H1845)+1,0)","v":0}]
[null,null,null,null,null,{"$f":"IF(COUNTIF(BD!$B$2:B1847,BD!B1847)=1,MAX($F$1:F1846)+1,\"\")","v":""},null,{"$f":"IF(AND(BD!B1847=REF,BD!D1847>=DEB,BD!D1847<=FIN),MAX(calc!$H$1:H1846)+1,0)","v":0}]
[null,null,null,null,null,{"$f":"IF(COUNTIF(BD!$B$2:B1848,BD!B1848)=1,MAX($F$1:F1847)+1,\"\")","v":""},null,{"$f":"IF(AND(BD!B1848=REF,BD!D1848>=DEB,BD!D1848<=FIN),MAX(calc!$H$1:H1847)+1,0)","v":0}]
[null,null,null,null,null,{"$f":"IF(COUNTIF(BD!$B$2:B1849,BD!B1849)=1,MAX($F$1:F1848)+1,\"\")","v":""},null,{"$f":"IF(AND(BD!B1849=REF,BD!D1849>=DEB,BD!D1849<=FIN),MAX(calc!$H$1:H1848)+1,0)","v":0}]
[null,null,null,null,null,{"$f":"IF(COUNTIF(BD!$B$2:B1850,BD!B1850)=1,MAX($F$1:F1849)+1,\"\")","v":""},null,{"$f":"IF(AND(BD!B1850=REF,BD!D1850>=DEB,BD!D1850<=FIN),MAX(calc!$H$1:H1849)+1,0)","v":0}]
[null,null,null,null,null,{"$f":"IF(COUNTIF(BD!$B$2:B1851,BD!B1851)=1,MAX($F$1:F1850)+1,\"\")","v":""},null,{"$f":"IF(AND(BD!B1851=REF,BD!D1851>=DEB,BD!D1851<=FIN),MAX(calc!$H$1:H1850)+1,0)","v":0}]
[null,null,null,null,null,{"$f":"IF(COUNTIF(BD!$B$2:B1852,BD!B1852)=1,MAX($F$1:F1851)+1,\"\")","v":""},null,{"$f":"IF(AND(BD!B1852=REF,BD!D1852>=DEB,BD!D1852<=FIN),MAX(calc!$H$1:H1851)+1,0)","v":0}]
[null,null,null,null,null,{"$f":"IF(COUNTIF(BD!$B$2:B1853,BD!B1853)=1,MAX($F$1:F1852)+1,\"\")","v":""},null,{"$f":"IF(AND(BD!B1853=REF,BD!D1853>=DEB,BD!D1853<=FIN),MAX(calc!$H$1:H1852)+1,0)","v":0}]
[null,null,null,null,null,{"$f":"IF(COUNTIF(BD!$B$2:B1854,BD!B1854)=1,MAX($F$1:F1853)+1,\"\")","v":""},null,{"$f":"IF(AND(BD!B1854=REF,BD!D1854>=DEB,BD!D1854<=FIN),MAX(calc!$H$1:H1853)+1,0)","v":0}]
[null,null,null,null,null,{"$f":"IF(COUNTIF(BD!$B$2:B1855,BD!B1855)=1,MAX($F$1:F1854)+1,\"\")","v":""},null,{"$f":"IF(AND(BD!B1855=REF,BD!D1855>=DEB,BD!D1855<=FIN),MAX(calc!$H$1:H1854)+1,0)","v":0}]
[null,null,null,null,null,{"$f":"IF(COUNTIF(BD!$B$2:B1856,BD!B1856)=1,MAX($F$1:F1855)+1,\"\")","v":""},null,{"$f":"IF(AND(BD!B1856=REF,BD!D1856>=DEB,BD!D1856<=FIN),MAX(calc!$H$1:H1855)+1,0)","v":0}]
[null,null,null,null,null,{"$f":"IF(COUNTIF(BD!$B$2:B1857,BD!B1857)=1,MAX($F$1:F1856)+1,\"\")","v":""},null,{"$f":"IF(AND(BD!B1857=REF,BD!D1857>=DEB,BD!D1857<=FIN),MAX(calc!$H$1:H1856)+1,0)","v":0}]
[null,null,null,null,null,{"$f":"IF(COUNTIF(BD!$B$2:B1858,BD!B1858)=1,MAX($F$1:F1857)+1,\"\")","v":""},null,{"$f":"IF(AND(BD!B1858=REF,BD!D1858>=DEB,BD!D1858<=FIN),MAX(calc!$H$1:H1857)+1,0)","v":0}]
[null,null,null,null,null,{"$f":"IF(COUNTIF(BD!$B$2:B1859,BD!B1859)=1,MAX($F$1:F1858)+1,\"\")","v":""},null,{"$f":"IF(AND(BD!B1859=REF,BD!D1859>=DEB,BD!D1859<=FIN),MAX(calc!$H$1:H1858)+1,0)","v":0}]
[null,null,null,null,null,{"$f":"IF(COUNTIF(BD!$B$2:B1860,BD!B1860)=1,MAX($F$1:F1859)+1,\"\")","v":""},null,{"$f":"IF(AND(BD!B1860=REF,BD!D1860>=DEB,BD!D1860<=FIN),MAX(calc!$H$1:H1859)+1,0)","v":0}]
[null,null,null,null,null,{"$f":"IF(COUNTIF(BD!$B$2:B1861,BD!B1861)=1,MAX($F$1:F1860)+1,\"\")","v":""},null,{"$f":"IF(AND(BD!B1861=REF,BD!D1861>=DEB,BD!D1861<=FIN),MAX(calc!$H$1:H1860)+1,0)","v":0}]
[null,null,null,null,null,{"$f":"IF(COUNTIF(BD!$B$2:B1862,BD!B1862)=1,MAX($F$1:F1861)+1,\"\")","v":""},null,{"$f":"IF(AND(BD!B1862=REF,BD!D1862>=DEB,BD!D1862<=FIN),MAX(calc!$H$1:H1861)+1,0)","v":0}]
[null,null,null,null,null,{"$f":"IF(COUNTIF(BD!$B$2:B1863,BD!B1863)=1,MAX($F$1:F1862)+1,\"\")","v":""},null,{"$f":"IF(AND(BD!B1863=REF,BD!D1863>=DEB,BD!D1863<=FIN),MAX(calc!$H$1:H1862)+1,0)","v":0}]
[null,null,null,null,null,{"$f":"IF(COUNTIF(BD!$B$2:B1864,BD!B1864)=1,MAX($F$1:F1863)+1,\"\")","v":""},null,{"$f":"IF(AND(BD!B1864=REF,BD!D1864>=DEB,BD!D1864<=FIN),MAX(calc!$H$1:H1863)+1,0)","v":0}]
[null,null,null,null,null,{"$f":"IF(COUNTIF(BD!$B$2:B1865,BD!B1865)=1,MAX($F$1:F1864)+1,\"\")","v":""},null,{"$f":"IF(AND(BD!B1865=REF,BD!D1865>=DEB,BD!D1865<=FIN),MAX(calc!$H$1:H1864)+1,0)","v":0}]
[null,null,null,null,null,{"$f":"IF(COUNTIF(BD!$B$2:B1866,BD!B1866)=1,MAX($F$1:F1865)+1,\"\")","v":""},null,{"$f":"IF(AND(BD!B1866=REF,BD!D1866>=DEB,BD!D1866<=FIN),MAX(calc!$H$1:H1865)+1,0)","v":0}]
[null,null,null,null,null,{"$f":"IF(COUNTIF(BD!$B$2:B1867,BD!B1867)=1,MAX($F$1:F1866)+1,\"\")","v":""},null,{"$f":"IF(AND(BD!B1867=REF,BD!D1867>=DEB,BD!D1867<=FIN),MAX(calc!$H$1:H1866)+1,0)","v":0}]
[null,null,null,null,null,{"$f":"IF(COUNTIF(BD!$B$2:B1868,BD!B1868)=1,MAX($F$1:F1867)+1,\"\")","v":""},null,{"$f":"IF(AND(BD!B1868=REF,BD!D1868>=DEB,BD!D1868<=FIN),MAX(calc!$H$1:H1867)+1,0)","v":0}]
[null,null,null,null,null,{"$f":"IF(COUNTIF(BD!$B$2:B1869,BD!B1869)=1,MAX($F$1:F1868)+1,\"\")","v":""},null,{"$f":"IF(AND(BD!B1869=REF,BD!D1869>=DEB,BD!D1869<=FIN),MAX(calc!$H$1:H1868)+1,0)","v":0}]
[null,null,null,null,null,{"$f":"IF(COUNTIF(BD!$B$2:B1870,BD!B1870)=1,MAX($F$1:F1869)+1,\"\")","v":""},null,{"$f":"IF(AND(BD!B1870=REF,BD!D1870>=DEB,BD!D1870<=FIN),MAX(calc!$H$1:H1869)+1,0)","v":0}]
[null,null,null,null,null,{"$f":"IF(COUNTIF(BD!$B$2:B1871,BD!B1871)=1,MAX($F$1:F1870)+1,\"\")","v":""},null,{"$f":"IF(AND(BD!B1871=REF,BD!D1871>=DEB,BD!D1871<=FIN),MAX(calc!$H$1:H1870)+1,0)","v":0}]
[null,null,null,null,null,{"$f":"IF(COUNTIF(BD!$B$2:B1872,BD!B1872)=1,MAX($F$1:F1871)+1,\"\")","v":""},null,{"$f":"IF(AND(BD!B1872=REF,BD!D1872>=DEB,BD!D1872<=FIN),MAX(calc!$H$1:H1871)+1,0)","v":0}]
[null,null,null,null,null,{"$f":"IF(COUNTIF(BD!$B$2:B1873,BD!B1873)=1,MAX($F$1:F1872)+1,\"\")","v":""},null,{"$f":"IF(AND(BD!B1873=REF,BD!D1873>=DEB,BD!D1873<=FIN),MAX(calc!$H$1:H1872)+1,0)","v":0}]
[null,null,null,null,null,{"$f":"IF(COUNTIF(BD!$B$2:B1874,BD!B1874)=1,MAX($F$1:F1873)+1,\"\")","v":""},null,{"$f":"IF(AND(BD!B1874=REF,BD!D1874>=DEB,BD!D1874<=FIN),MAX(calc!$H$1:H1873)+1,0)","v":0}]
[null,null,null,null,null,{"$f":"IF(COUNTIF(BD!$B$2:B1875,BD!B1875)=1,MAX($F$1:F1874)+1,\"\")","v":""},null,{"$f":"IF(AND(BD!B1875=REF,BD!D1875>=DEB,BD!D1875<=FIN),MAX(calc!$H$1:H1874)+1,0)","v":0}]
[null,null,null,null,null,{"$f":"IF(COUNTIF(BD!$B$2:B1876,BD!B1876)=1,MAX($F$1:F1875)+1,\"\")","v":""},null,{"$f":"IF(AND(BD!B1876=REF,BD!D1876>=DEB,BD!D1876<=FIN),MAX(calc!$H$1:H1875)+1,0)","v":0}]
[null,null,null,null,null,{"$f":"IF(COUNTIF(BD!$B$2:B1877,BD!B1877)=1,MAX($F$1:F1876)+1,\"\")","v":""},null,{"$f":"IF(AND(BD!B1877=REF,BD!D1877>=DEB,BD!D1877<=FIN),MAX(calc!$H$1:H1876)+1,0)","v":0}]
[null,null,null,null,null,{"$f":"IF(COUNTIF(BD!$B$2:B1878,BD!B1878)=1,MAX($F$1:F1877)+1,\"\")","v":""},null,{"$f":"IF(AND(BD!B1878=REF,BD!D1878>=DEB,BD!D1878<=FIN),MAX(calc!$H$1:H1877)+1,0)","v":0}]
[null,null,null,null,null,{"$f":"IF(COUNTIF(BD!$B$2:B1879,BD!B1879)=1,MAX($F$1:F1878)+1,\"\")","v":""},null,{"$f":"IF(AND(BD!B1879=REF,BD!D1879>=DEB,BD!D1879<=FIN),MAX(calc!$H$1:H1878)+1,0)","v":0}]
[null,null,null,null,null,{"$f":"IF(COUNTIF(BD!$B$2:B1880,BD!B1880)=1,MAX($F$1:F1879)+1,\"\")","v":""},null,{"$f":"IF(AND(BD!B1880=REF,BD!D1880>=DEB,BD!D1880<=FIN),MAX(calc!$H$1:H1879)+1,0)","v":0}]
[null,null,null,null,null,{"$f":"IF(COUNTIF(BD!$B$2:B1881,BD!B1881)=1,MAX($F$1:F1880)+1,\"\")","v":""},null,{"$f":"IF(AND(BD!B1881=REF,BD!D1881>=DEB,BD!D1881<=FIN),MAX(calc!$H$1:H1880)+1,0)","v":0}]
[null,null,null,null,null,{"$f":"IF(COUNTIF(BD!$B$2:B1882,BD!B1882)=1,MAX($F$1:F1881)+1,\"\")","v":""},null,{"$f":"IF(AND(BD!B1882=REF,BD!D1882>=DEB,BD!D1882<=FIN),MAX(calc!$H$1:H1881)+1,0)","v":0}]
[null,null,null,null,null,{"$f":"IF(COUNTIF(BD!$B$2:B1883,BD!B1883)=1,MAX($F$1:F1882)+1,\"\")","v":""},null,{"$f":"IF(AND(BD!B1883=REF,BD!D1883>=DEB,BD!D1883<=FIN),MAX(calc!$H$1:H1882)+1,0)","v":0}]
[null,null,null,null,null,{"$f":"IF(COUNTIF(BD!$B$2:B1884,BD!B1884)=1,MAX($F$1:F1883)+1,\"\")","v":""},null,{"$f":"IF(AND(BD!B1884=REF,BD!D1884>=DEB,BD!D1884<=FIN),MAX(calc!$H$1:H1883)+1,0)","v":0}]
[null,null,null,null,null,{"$f":"IF(COUNTIF(BD!$B$2:B1885,BD!B1885)=1,MAX($F$1:F1884)+1,\"\")","v":""},null,{"$f":"IF(AND(BD!B1885=REF,BD!D1885>=DEB,BD!D1885<=FIN),MAX(calc!$H$1:H1884)+1,0)","v":0}]
[null,null,null,null,null,{"$f":"IF(COUNTIF(BD!$B$2:B1886,BD!B1886)=1,MAX($F$1:F1885)+1,\"\")","v":""},null,{"$f":"IF(AND(BD!B1886=REF,BD!D1886>=DEB,BD!D1886<=FIN),MAX(calc!$H$1:H1885)+1,0)","v":0}]
[null,null,null,null,null,{"$f":"IF(COUNTIF(BD!$B$2:B1887,BD!B1887)=1,MAX($F$1:F1886)+1,\"\")","v":""},null,{"$f":"IF(AND(BD!B1887=REF,BD!D1887>=DEB,BD!D1887<=FIN),MAX(calc!$H$1:H1886)+1,0)","v":0}]
[null,null,null,null,null,{"$f":"IF(COUNTIF(BD!$B$2:B1888,BD!B1888)=1,MAX($F$1:F1887)+1,\"\")","v":""},null,{"$f":"IF(AND(BD!B1888=REF,BD!D1888>=DEB,BD!D1888<=FIN),MAX(calc!$H$1:H1887)+1,0)","v":0}]
[null,null,null,null,null,{"$f":"IF(COUNTIF(BD!$B$2:B1889,BD!B1889)=1,MAX($F$1:F1888)+1,\"\")","v":""},null,{"$f":"IF(AND(BD!B1889=REF,BD!D1889>=DEB,BD!D1889<=FIN),MAX(calc!$H$1:H1888)+1,0)","v":0}]
[null,null,null,null,null,{"$f":"IF(COUNTIF(BD!$B$2:B1890,BD!B1890)=1,MAX($F$1:F1889)+1,\"\")","v":""},null,{"$f":"IF(AND(BD!B1890=REF,BD!D1890>=DEB,BD!D1890<=FIN),MAX(calc!$H$1:H1889)+1,0)","v":0}]
[null,null,null,null,null,{"$f":"IF(COUNTIF(BD!$B$2:B1891,BD!B1891)=1,MAX($F$1:F1890)+1,\"\")","v":""},null,{"$f":"IF(AND(BD!B1891=REF,BD!D1891>=DEB,BD!D1891<=FIN),MAX(calc!$H$1:H1890)+1,0)","v":0}]
[null,null,null,null,null,{"$f":"IF(COUNTIF(BD!$B$2:B1892,BD!B1892)=1,MAX($F$1:F1891)+1,\"\")","v":""},null,{"$f":"IF(AND(BD!B1892=REF,BD!D1892>=DEB,BD!D1892<=FIN),MAX(calc!$H$1:H1891)+1,0)","v":0}]
[null,null,null,null,null,{"$f":"IF(COUNTIF(BD!$B$2:B1893,BD!B1893)=1,MAX($F$1:F1892)+1,\"\")","v":""},null,{"$f":"IF(AND(BD!B1893=REF,BD!D1893>=DEB,BD!D1893<=FIN),MAX(calc!$H$1:H1892)+1,0)","v":0}]
[null,null,null,null,null,{"$f":"IF(COUNTIF(BD!$B$2:B1894,BD!B1894)=1,MAX($F$1:F1893)+1,\"\")","v":""},null,{"$f":"IF(AND(BD!B1894=REF,BD!D1894>=DEB,BD!D1894<=FIN),MAX(calc!$H$1:H1893)+1,0)","v":0}]
[null,null,null,null,null,{"$f":"IF(COUNTIF(BD!$B$2:B1895,BD!B1895)=1,MAX($F$1:F1894)+1,\"\")","v":""},null,{"$f":"IF(AND(BD!B1895=REF,BD!D1895>=DEB,BD!D1895<=FIN),MAX(calc!$H$1:H1894)+1,0)","v":0}]
[null,null,null,null,null,{"$f":"IF(COUNTIF(BD!$B$2:B1896,BD!B1896)=1,MAX($F$1:F1895)+1,\"\")","v":""},null,{"$f":"IF(AND(BD!B1896=REF,BD!D1896>=DEB,BD!D1896<=FIN),MAX(calc!$H$1:H1895)+1,0)","v":0}]
[null,null,null,null,null,{"$f":"IF(COUNTIF(BD!$B$2:B1897,BD!B1897)=1,MAX($F$1:F1896)+1,\"\")","v":""},null,{"$f":"IF(AND(BD!B1897=REF,BD!D1897>=DEB,BD!D1897<=FIN),MAX(calc!$H$1:H1896)+1,0)","v":0}]
[null,null,null,null,null,{"$f":"IF(COUNTIF(BD!$B$2:B1898,BD!B1898)=1,MAX($F$1:F1897)+1,\"\")","v":""},null,{"$f":"IF(AND(BD!B1898=REF,BD!D1898>=DEB,BD!D1898<=FIN),MAX(calc!$H$1:H1897)+1,0)","v":0}]
[null,null,null,null,null,{"$f":"IF(COUNTIF(BD!$B$2:B1899,BD!B1899)=1,MAX($F$1:F1898)+1,\"\")","v":""},null,{"$f":"IF(AND(BD!B1899=REF,BD!D1899>=DEB,BD!D1899<=FIN),MAX(calc!$H$1:H1898)+1,0)","v":0}]
[null,null,null,null,null,{"$f":"IF(COUNTIF(BD!$B$2:B1900,BD!B1900)=1,MAX($F$1:F1899)+1,\"\")","v":""},null,{"$f":"IF(AND(BD!B1900=REF,BD!D1900>=DEB,BD!D1900<=FIN),MAX(calc!$H$1:H1899)+1,0)","v":0}]
[null,null,null,null,null,{"$f":"IF(COUNTIF(BD!$B$2:B1901,BD!B1901)=1,MAX($F$1:F1900)+1,\"\")","v":""},null,{"$f":"IF(AND(BD!B1901=REF,BD!D1901>=DEB,BD!D1901<=FIN),MAX(calc!$H$1:H1900)+1,0)","v":0}]
[null,null,null,null,null,{"$f":"IF(COUNTIF(BD!$B$2:B1902,BD!B1902)=1,MAX($F$1:F1901)+1,\"\")","v":""},null,{"$f":"IF(AND(BD!B1902=REF,BD!D1902>=DEB,BD!D1902<=FIN),MAX(calc!$H$1:H1901)+1,0)","v":0}]
[null,null,null,null,null,{"$f":"IF(COUNTIF(BD!$B$2:B1903,BD!B1903)=1,MAX($F$1:F1902)+1,\"\")","v":""},null,{"$f":"IF(AND(BD!B1903=REF,BD!D1903>=DEB,BD!D1903<=FIN),MAX(calc!$H$1:H1902)+1,0)","v":0}]
[null,null,null,null,null,{"$f":"IF(COUNTIF(BD!$B$2:B1904,BD!B1904)=1,MAX($F$1:F1903)+1,\"\")","v":""},null,{"$f":"IF(AND(BD!B1904=REF,BD!D1904>=DEB,BD!D1904<=FIN),MAX(calc!$H$1:H1903)+1,0)","v":0}]
[null,null,null,null,null,{"$f":"IF(COUNTIF(BD!$B$2:B1905,BD!B1905)=1,MAX($F$1:F1904)+1,\"\")","v":""},null,{"$f":"IF(AND(BD!B1905=REF,BD!D1905>=DEB,BD!D1905<=FIN),MAX(calc!$H$1:H1904)+1,0)","v":0}]
[null,null,null,null,null,{"$f":"IF(COUNTIF(BD!$B$2:B1906,BD!B1906)=1,MAX($F$1:F1905)+1,\"\")","v":""},null,{"$f":"IF(AND(BD!B1906=REF,BD!D1906>=DEB,BD!D1906<=FIN),MAX(calc!$H$1:H1905)+1,0)","v":0}]
[null,null,null,null,null,{"$f":"IF(COUNTIF(BD!$B$2:B1907,BD!B1907)=1,MAX($F$1:F1906)+1,\"\")","v":""},null,{"$f":"IF(AND(BD!B1907=REF,BD!D1907>=DEB,BD!D1907<=FIN),MAX(calc!$H$1:H1906)+1,0)","v":0}]
[null,null,null,null,null,{"$f":"IF(COUNTIF(BD!$B$2:B1908,BD!B1908)=1,MAX($F$1:F1907)+1,\"\")","v":""},null,{"$f":"IF(AND(BD!B1908=REF,BD!D1908>=DEB,BD!D1908<=FIN),MAX(calc!$H$1:H1907)+1,0)","v":0}]
[null,null,null,null,null,{"$f":"IF(COUNTIF(BD!$B$2:B1909,BD!B1909)=1,MAX($F$1:F1908)+1,\"\")","v":""},null,{"$f":"IF(AND(BD!B1909=REF,BD!D1909>=DEB,BD!D1909<=FIN),MAX(calc!$H$1:H1908)+1,0)","v":0}]
[null,null,null,null,null,{"$f":"IF(COUNTIF(BD!$B$2:B1910,BD!B1910)=1,MAX($F$1:F1909)+1,\"\")","v":""},null,{"$f":"IF(AND(BD!B1910=REF,BD!D1910>=DEB,BD!D1910<=FIN),MAX(calc!$H$1:H1909)+1,0)","v":0}]
[null,null,null,null,null,{"$f":"IF(COUNTIF(BD!$B$2:B1911,BD!B1911)=1,MAX($F$1:F1910)+1,\"\")","v":""},null,{"$f":"IF(AND(BD!B1911=REF,BD!D1911>=DEB,BD!D1911<=FIN),MAX(calc!$H$1:H1910)+1,0)","v":0}]
[null,null,null,null,null,{"$f":"IF(COUNTIF(BD!$B$2:B1912,BD!B1912)=1,MAX($F$1:F1911)+1,\"\")","v":""},null,{"$f":"IF(AND(BD!B1912=REF,BD!D1912>=DEB,BD!D1912<=FIN),MAX(calc!$H$1:H1911)+1,0)","v":0}]
[null,null,null,null,null,{"$f":"IF(COUNTIF(BD!$B$2:B1913,BD!B1913)=1,MAX($F$1:F1912)+1,\"\")","v":""},null,{"$f":"IF(AND(BD!B1913=REF,BD!D1913>=DEB,BD!D1913<=FIN),MAX(calc!$H$1:H1912)+1,0)","v":0}]
[null,null,null,null,null,{"$f":"IF(COUNTIF(BD!$B$2:B1914,BD!B1914)=1,MAX($F$1:F1913)+1,\"\")","v":""},null,{"$f":"IF(AND(BD!B1914=REF,BD!D1914>=DEB,BD!D1914<=FIN),MAX(calc!$H$1:H1913)+1,0)","v":0}]
[null,null,null,null,null,{"$f":"IF(COUNTIF(BD!$B$2:B1915,BD!B1915)=1,MAX($F$1:F1914)+1,\"\")","v":""},null,{"$f":"IF(AND(BD!B1915=REF,BD!D1915>=DEB,BD!D1915<=FIN),MAX(calc!$H$1:H1914)+1,0)","v":0}]
[null,null,null,null,null,{"$f":"IF(COUNTIF(BD!$B$2:B1916,BD!B1916)=1,MAX($F$1:F1915)+1,\"\")","v":""},null,{"$f":"IF(AND(BD!B1916=REF,BD!D1916>=DEB,BD!D1916<=FIN),MAX(calc!$H$1:H1915)+1,0)","v":0}]
[null,null,null,null,null,{"$f":"IF(COUNTIF(BD!$B$2:B1917,BD!B1917)=1,MAX($F$1:F1916)+1,\"\")","v":""},null,{"$f":"IF(AND(BD!B1917=REF,BD!D1917>=DEB,BD!D1917<=FIN),MAX(calc!$H$1:H1916)+1,0)","v":0}]
[null,null,null,null,null,{"$f":"IF(COUNTIF(BD!$B$2:B1918,BD!B1918)=1,MAX($F$1:F1917)+1,\"\")","v":""},null,{"$f":"IF(AND(BD!B1918=REF,BD!D1918>=DEB,BD!D1918<=FIN),MAX(calc!$H$1:H1917)+1,0)","v":0}]
[null,null,null,null,null,{"$f":"IF(COUNTIF(BD!$B$2:B1919,BD!B1919)=1,MAX($F$1:F1918)+1,\"\")","v":""},null,{"$f":"IF(AND(BD!B1919=REF,BD!D1919>=DEB,BD!D1919<=FIN),MAX(calc!$H$1:H1918)+1,0)","v":0}]
[null,null,null,null,null,{"$f":"IF(COUNTIF(BD!$B$2:B1920,BD!B1920)=1,MAX($F$1:F1919)+1,\"\")","v":""},null,{"$f":"IF(AND(BD!B1920=REF,BD!D1920>=DEB,BD!D1920<=FIN),MAX(calc!$H$1:H1919)+1,0)","v":0}]
[null,null,null,null,null,{"$f":"IF(COUNTIF(BD!$B$2:B1921,BD!B1921)=1,MAX($F$1:F1920)+1,\"\")","v":""},null,{"$f":"IF(AND(BD!B1921=REF,BD!D1921>=DEB,BD!D1921<=FIN),MAX(calc!$H$1:H1920)+1,0)","v":0}]
[null,null,null,null,null,{"$f":"IF(COUNTIF(BD!$B$2:B1922,BD!B1922)=1,MAX($F$1:F1921)+1,\"\")","v":""},null,{"$f":"IF(AND(BD!B1922=REF,BD!D1922>=DEB,BD!D1922<=FIN),MAX(calc!$H$1:H1921)+1,0)","v":0}]
[null,null,null,null,null,{"$f":"IF(COUNTIF(BD!$B$2:B1923,BD!B1923)=1,MAX($F$1:F1922)+1,\"\")","v":""},null,{"$f":"IF(AND(BD!B1923=REF,BD!D1923>=DEB,BD!D1923<=FIN),MAX(calc!$H$1:H1922)+1,0)","v":0}]
[null,null,null,null,null,{"$f":"IF(COUNTIF(BD!$B$2:B1924,BD!B1924)=1,MAX($F$1:F1923)+1,\"\")","v":""},null,{"$f":"IF(AND(BD!B1924=REF,BD!D1924>=DEB,BD!D1924<=FIN),MAX(calc!$H$1:H1923)+1,0)","v":0}]
[null,null,null,null,null,{"$f":"IF(COUNTIF(BD!$B$2:B1925,BD!B1925)=1,MAX($F$1:F1924)+1,\"\")","v":""},null,{"$f":"IF(AND(BD!B1925=REF,BD!D1925>=DEB,BD!D1925<=FIN),MAX(calc!$H$1:H1924)+1,0)","v":0}]
[null,null,null,null,null,{"$f":"IF(COUNTIF(BD!$B$2:B1926,BD!B1926)=1,MAX($F$1:F1925)+1,\"\")","v":""},null,{"$f":"IF(AND(BD!B1926=REF,BD!D1926>=DEB,BD!D1926<=FIN),MAX(calc!$H$1:H1925)+1,0)","v":0}]
[null,null,null,null,null,{"$f":"IF(COUNTIF(BD!$B$2:B1927,BD!B1927)=1,MAX($F$1:F1926)+1,\"\")","v":""},null,{"$f":"IF(AND(BD!B1927=REF,BD!D1927>=DEB,BD!D1927<=FIN),MAX(calc!$H$1:H1926)+1,0)","v":0}]
[null,null,null,null,null,{"$f":"IF(COUNTIF(BD!$B$2:B1928,BD!B1928)=1,MAX($F$1:F1927)+1,\"\")","v":""},null,{"$f":"IF(AND(BD!B1928=REF,BD!D1928>=DEB,BD!D1928<=FIN),MAX(calc!$H$1:H1927)+1,0)","v":0}]
[null,null,null,null,null,{"$f":"IF(COUNTIF(BD!$B$2:B1929,BD!B1929)=1,MAX($F$1:F1928)+1,\"\")","v":""},null,{"$f":"IF(AND(BD!B1929=REF,BD!D1929>=DEB,BD!D1929<=FIN),MAX(calc!$H$1:H1928)+1,0)","v":0}]
[null,null,null,null,null,{"$f":"IF(COUNTIF(BD!$B$2:B1930,BD!B1930)=1,MAX($F$1:F1929)+1,\"\")","v":""},null,{"$f":"IF(AND(BD!B1930=REF,BD!D1930>=DEB,BD!D1930<=FIN),MAX(calc!$H$1:H1929)+1,0)","v":0}]
[null,null,null,null,null,{"$f":"IF(COUNTIF(BD!$B$2:B1931,BD!B1931)=1,MAX($F$1:F1930)+1,\"\")","v":""},null,{"$f":"IF(AND(BD!B1931=REF,BD!D1931>=DEB,BD!D1931<=FIN),MAX(calc!$H$1:H1930)+1,0)","v":0}]
[null,null,null,null,null,{"$f":"IF(COUNTIF(BD!$B$2:B1932,BD!B1932)=1,MAX($F$1:F1931)+1,\"\")","v":""},null,{"$f":"IF(AND(BD!B1932=REF,BD!D1932>=DEB,BD!D1932<=FIN),MAX(calc!$H$1:H1931)+1,0)","v":0}]
[null,null,null,null,null,{"$f":"IF(COUNTIF(BD!$B$2:B1933,BD!B1933)=1,MAX($F$1:F1932)+1,\"\")","v":""},null,{"$f":"IF(AND(BD!B1933=REF,BD!D1933>=DEB,BD!D1933<=FIN),MAX(calc!$H$1:H1932)+1,0)","v":0}]
[null,null,null,null,null,{"$f":"IF(COUNTIF(BD!$B$2:B1934,BD!B1934)=1,MAX($F$1:F1933)+1,\"\")","v":""},null,{"$f":"IF(AND(BD!B1934=REF,BD!D1934>=DEB,BD!D1934<=FIN),MAX(calc!$H$1:H1933)+1,0)","v":0}]
[null,null,null,null,null,{"$f":"IF(COUNTIF(BD!$B$2:B1935,BD!B1935)=1,MAX($F$1:F1934)+1,\"\")","v":""},null,{"$f":"IF(AND(BD!B1935=REF,BD!D1935>=DEB,BD!D1935<=FIN),MAX(calc!$H$1:H1934)+1,0)","v":0}]
[null,null,null,null,null,{"$f":"IF(COUNTIF(BD!$B$2:B1936,BD!B1936)=1,MAX($F$1:F1935)+1,\"\")","v":""},null,{"$f":"IF(AND(BD!B1936=REF,BD!D1936>=DEB,BD!D1936<=FIN),MAX(calc!$H$1:H1935)+1,0)","v":0}]
[null,null,null,null,null,{"$f":"IF(COUNTIF(BD!$B$2:B1937,BD!B1937)=1,MAX($F$1:F1936)+1,\"\")","v":""},null,{"$f":"IF(AND(BD!B1937=REF,BD!D1937>=DEB,BD!D1937<=FIN),MAX(calc!$H$1:H1936)+1,0)","v":0}]
[null,null,null,null,null,{"$f":"IF(COUNTIF(BD!$B$2:B1938,BD!B1938)=1,MAX($F$1:F1937)+1,\"\")","v":""},null,{"$f":"IF(AND(BD!B1938=REF,BD!D1938>=DEB,BD!D1938<=FIN),MAX(calc!$H$1:H1937)+1,0)","v":0}]
[null,null,null,null,null,{"$f":"IF(COUNTIF(BD!$B$2:B1939,BD!B1939)=1,MAX($F$1:F1938)+1,\"\")","v":""},null,{"$f":"IF(AND(BD!B1939=REF,BD!D1939>=DEB,BD!D1939<=FIN),MAX(calc!$H$1:H1938)+1,0)","v":0}]
[null,null,null,null,null,{"$f":"IF(COUNTIF(BD!$B$2:B1940,BD!B1940)=1,MAX($F$1:F1939)+1,\"\")","v":""},null,{"$f":"IF(AND(BD!B1940=REF,BD!D1940>=DEB,BD!D1940<=FIN),MAX(calc!$H$1:H1939)+1,0)","v":0}]
[null,null,null,null,null,{"$f":"IF(COUNTIF(BD!$B$2:B1941,BD!B1941)=1,MAX($F$1:F1940)+1,\"\")","v":""},null,{"$f":"IF(AND(BD!B1941=REF,BD!D1941>=DEB,BD!D1941<=FIN),MAX(calc!$H$1:H1940)+1,0)","v":0}]
[null,null,null,null,null,{"$f":"IF(COUNTIF(BD!$B$2:B1942,BD!B1942)=1,MAX($F$1:F1941)+1,\"\")","v":""},null,{"$f":"IF(AND(BD!B1942=REF,BD!D1942>=DEB,BD!D1942<=FIN),MAX(calc!$H$1:H1941)+1,0)","v":0}]
[null,null,null,null,null,{"$f":"IF(COUNTIF(BD!$B$2:B1943,BD!B1943)=1,MAX($F$1:F1942)+1,\"\")","v":""},null,{"$f":"IF(AND(BD!B1943=REF,BD!D1943>=DEB,BD!D1943<=FIN),MAX(calc!$H$1:H1942)+1,0)","v":0}]
[null,null,null,null,null,{"$f":"IF(COUNTIF(BD!$B$2:B1944,BD!B1944)=1,MAX($F$1:F1943)+1,\"\")","v":""},null,{"$f":"IF(AND(BD!B1944=REF,BD!D1944>=DEB,BD!D1944<=FIN),MAX(calc!$H$1:H1943)+1,0)","v":0}]
[null,null,null,null,null,{"$f":"IF(COUNTIF(BD!$B$2:B1945,BD!B1945)=1,MAX($F$1:F1944)+1,\"\")","v":""},null,{"$f":"IF(AND(BD!B1945=REF,BD!D1945>=DEB,BD!D1945<=FIN),MAX(calc!$H$1:H1944)+1,0)","v":0}]
[null,null,null,null,null,{"$f":"IF(COUNTIF(BD!$B$2:B1946,BD!B1946)=1,MAX($F$1:F1945)+1,\"\")","v":""},null,{"$f":"IF(AND(BD!B1946=REF,BD!D1946>=DEB,BD!D1946<=FIN),MAX(calc!$H$1:H1945)+1,0)","v":0}]
[null,null,null,null,null,{"$f":"IF(COUNTIF(BD!$B$2:B1947,BD!B1947)=1,MAX($F$1:F1946)+1,\"\")","v":""},null,{"$f":"IF(AND(BD!B1947=REF,BD!D1947>=DEB,BD!D1947<=FIN),MAX(calc!$H$1:H1946)+1,0)","v":0}]
[null,null,null,null,null,{"$f":"IF(COUNTIF(BD!$B$2:B1948,BD!B1948)=1,MAX($F$1:F1947)+1,\"\")","v":""},null,{"$f":"IF(AND(BD!B1948=REF,BD!D1948>=DEB,BD!D1948<=FIN),MAX(calc!$H$1:H1947)+1,0)","v":0}]
[null,null,null,null,null,{"$f":"IF(COUNTIF(BD!$B$2:B1949,BD!B1949)=1,MAX($F$1:F1948)+1,\"\")","v":""},null,{"$f":"IF(AND(BD!B1949=REF,BD!D1949>=DEB,BD!D1949<=FIN),MAX(calc!$H$1:H1948)+1,0)","v":0}]
[null,null,null,null,null,{"$f":"IF(COUNTIF(BD!$B$2:B1950,BD!B1950)=1,MAX($F$1:F1949)+1,\"\")","v":""},null,{"$f":"IF(AND(BD!B1950=REF,BD!D1950>=DEB,BD!D1950<=FIN),MAX(calc!$H$1:H1949)+1,0)","v":0}]
[null,null,null,null,null,{"$f":"IF(COUNTIF(BD!$B$2:B1951,BD!B1951)=1,MAX($F$1:F1950)+1,\"\")","v":""},null,{"$f":"IF(AND(BD!B1951=REF,BD!D1951>=DEB,BD!D1951<=FIN),MAX(calc!$H$1:H1950)+1,0)","v":0}]
[null,null,null,null,null,{"$f":"IF(COUNTIF(BD!$B$2:B1952,BD!B1952)=1,MAX($F$1:F1951)+1,\"\")","v":""},null,{"$f":"IF(AND(BD!B1952=REF,BD!D1952>=DEB,BD!D1952<=FIN),MAX(calc!$H$1:H1951)+1,0)","v":0}]
[null,null,null,null,null,{"$f":"IF(COUNTIF(BD!$B$2:B1953,BD!B1953)=1,MAX($F$1:F1952)+1,\"\")","v":""},null,{"$f":"IF(AND(BD!B1953=REF,BD!D1953>=DEB,BD!D1953<=FIN),MAX(calc!$H$1:H1952)+1,0)","v":0}]
[null,null,null,null,null,{"$f":"IF(COUNTIF(BD!$B$2:B1954,BD!B1954)=1,MAX($F$1:F1953)+1,\"\")","v":""},null,{"$f":"IF(AND(BD!B1954=REF,BD!D1954>=DEB,BD!D1954<=FIN),MAX(calc!$H$1:H1953)+1,0)","v":0}]
[null,null,null,null,null,{"$f":"IF(COUNTIF(BD!$B$2:B1955,BD!B1955)=1,MAX($F$1:F1954)+1,\"\")","v":""},null,{"$f":"IF(AND(BD!B1955=REF,BD!D1955>=DEB,BD!D1955<=FIN),MAX(calc!$H$1:H1954)+1,0)","v":0}]
[null,null,null,null,null,{"$f":"IF(COUNTIF(BD!$B$2:B1956,BD!B1956)=1,MAX($F$1:F1955)+1,\"\")","v":""},null,{"$f":"IF(AND(BD!B1956=REF,BD!D1956>=DEB,BD!D1956<=FIN),MAX(calc!$H$1:H1955)+1,0)","v":0}]
[null,null,null,null,null,{"$f":"IF(COUNTIF(BD!$B$2:B1957,BD!B1957)=1,MAX($F$1:F1956)+1,\"\")","v":""},null,{"$f":"IF(AND(BD!B1957=REF,BD!D1957>=DEB,BD!D1957<=FIN),MAX(calc!$H$1:H1956)+1,0)","v":0}]
[null,null,null,null,null,{"$f":"IF(COUNTIF(BD!$B$2:B1958,BD!B1958)=1,MAX($F$1:F1957)+1,\"\")","v":""},null,{"$f":"IF(AND(BD!B1958=REF,BD!D1958>=DEB,BD!D1958<=FIN),MAX(calc!$H$1:H1957)+1,0)","v":0}]
[null,null,null,null,null,{"$f":"IF(COUNTIF(BD!$B$2:B1959,BD!B1959)=1,MAX($F$1:F1958)+1,\"\")","v":""},null,{"$f":"IF(AND(BD!B1959=REF,BD!D1959>=DEB,BD!D1959<=FIN),MAX(calc!$H$1:H1958)+1,0)","v":0}]
[null,null,null,null,null,{"$f":"IF(COUNTIF(BD!$B$2:B1960,BD!B1960)=1,MAX($F$1:F1959)+1,\"\")","v":""},null,{"$f":"IF(AND(BD!B1960=REF,BD!D1960>=DEB,BD!D1960<=FIN),MAX(calc!$H$1:H1959)+1,0)","v":0}]
[null,null,null,null,null,{"$f":"IF(COUNTIF(BD!$B$2:B1961,BD!B1961)=1,MAX($F$1:F1960)+1,\"\")","v":""},null,{"$f":"IF(AND(BD!B1961=REF,BD!D1961>=DEB,BD!D1961<=FIN),MAX(calc!$H$1:H1960)+1,0)","v":0}]
[null,null,null,null,null,{"$f":"IF(COUNTIF(BD!$B$2:B1962,BD!B1962)=1,MAX($F$1:F1961)+1,\"\")","v":""},null,{"$f":"IF(AND(BD!B1962=REF,BD!D1962>=DEB,BD!D1962<=FIN),MAX(calc!$H$1:H1961)+1,0)","v":0}]
[null,null,null,null,null,{"$f":"IF(COUNTIF(BD!$B$2:B1963,BD!B1963)=1,MAX($F$1:F1962)+1,\"\")","v":""},null,{"$f":"IF(AND(BD!B1963=REF,BD!D1963>=DEB,BD!D1963<=FIN),MAX(calc!$H$1:H1962)+1,0)","v":0}]
[null,null,null,null,null,{"$f":"IF(COUNTIF(BD!$B$2:B1964,BD!B1964)=1,MAX($F$1:F1963)+1,\"\")","v":""},null,{"$f":"IF(AND(BD!B1964=REF,BD!D1964>=DEB,BD!D1964<=FIN),MAX(calc!$H$1:H1963)+1,0)","v":0}]
[null,null,null,null,null,{"$f":"IF(COUNTIF(BD!$B$2:B1965,BD!B1965)=1,MAX($F$1:F1964)+1,\"\")","v":""},null,{"$f":"IF(AND(BD!B1965=REF,BD!D1965>=DEB,BD!D1965<=FIN),MAX(calc!$H$1:H1964)+1,0)","v":0}]
[null,null,null,null,null,{"$f":"IF(COUNTIF(BD!$B$2:B1966,BD!B1966)=1,MAX($F$1:F1965)+1,\"\")","v":""},null,{"$f":"IF(AND(BD!B1966=REF,BD!D1966>=DEB,BD!D1966<=FIN),MAX(calc!$H$1:H1965)+1,0)","v":0}]
[null,null,null,null,null,{"$f":"IF(COUNTIF(BD!$B$2:B1967,BD!B1967)=1,MAX($F$1:F1966)+1,\"\")","v":""},null,{"$f":"IF(AND(BD!B1967=REF,BD!D1967>=DEB,BD!D1967<=FIN),MAX(calc!$H$1:H1966)+1,0)","v":0}]
[null,null,null,null,null,{"$f":"IF(COUNTIF(BD!$B$2:B1968,BD!B1968)=1,MAX($F$1:F1967)+1,\"\")","v":""},null,{"$f":"IF(AND(BD!B1968=REF,BD!D1968>=DEB,BD!D1968<=FIN),MAX(calc!$H$1:H1967)+1,0)","v":0}]
[null,null,null,null,null,{"$f":"IF(COUNTIF(BD!$B$2:B1969,BD!B1969)=1,MAX($F$1:F1968)+1,\"\")","v":""},null,{"$f":"IF(AND(BD!B1969=REF,BD!D1969>=DEB,BD!D1969<=FIN),MAX(calc!$H$1:H1968)+1,0)","v":0}]
[null,null,null,null,null,{"$f":"IF(COUNTIF(BD!$B$2:B1970,BD!B1970)=1,MAX($F$1:F1969)+1,\"\")","v":""},null,{"$f":"IF(AND(BD!B1970=REF,BD!D1970>=DEB,BD!D1970<=FIN),MAX(calc!$H$1:H1969)+1,0)","v":0}]
[null,null,null,null,null,{"$f":"IF(COUNTIF(BD!$B$2:B1971,BD!B1971)=1,MAX($F$1:F1970)+1,\"\")","v":""},null,{"$f":"IF(AND(BD!B1971=REF,BD!D1971>=DEB,BD!D1971<=FIN),MAX(calc!$H$1:H1970)+1,0)","v":0}]
[null,null,null,null,null,{"$f":"IF(COUNTIF(BD!$B$2:B1972,BD!B1972)=1,MAX($F$1:F1971)+1,\"\")","v":""},null,{"$f":"IF(AND(BD!B1972=REF,BD!D1972>=DEB,BD!D1972<=FIN),MAX(calc!$H$1:H1971)+1,0)","v":0}]
[null,null,null,null,null,{"$f":"IF(COUNTIF(BD!$B$2:B1973,BD!B1973)=1,MAX($F$1:F1972)+1,\"\")","v":""},null,{"$f":"IF(AND(BD!B1973=REF,BD!D1973>=DEB,BD!D1973<=FIN),MAX(calc!$H$1:H1972)+1,0)","v":0}]
[null,null,null,null,null,{"$f":"IF(COUNTIF(BD!$B$2:B1974,BD!B1974)=1,MAX($F$1:F1973)+1,\"\")","v":""},null,{"$f":"IF(AND(BD!B1974=REF,BD!D1974>=DEB,BD!D1974<=FIN),MAX(calc!$H$1:H1973)+1,0)","v":0}]
[null,null,null,null,null,{"$f":"IF(COUNTIF(BD!$B$2:B1975,BD!B1975)=1,MAX($F$1:F1974)+1,\"\")","v":""},null,{"$f":"IF(AND(BD!B1975=REF,BD!D1975>=DEB,BD!D1975<=FIN),MAX(calc!$H$1:H1974)+1,0)","v":0}]
[null,null,null,null,null,{"$f":"IF(COUNTIF(BD!$B$2:B1976,BD!B1976)=1,MAX($F$1:F1975)+1,\"\")","v":""},null,{"$f":"IF(AND(BD!B1976=REF,BD!D1976>=DEB,BD!D1976<=FIN),MAX(calc!$H$1:H1975)+1,0)","v":0}]
[null,null,null,null,null,{"$f":"IF(COUNTIF(BD!$B$2:B1977,BD!B1977)=1,MAX($F$1:F1976)+1,\"\")","v":""},null,{"$f":"IF(AND(BD!B1977=REF,BD!D1977>=DEB,BD!D1977<=FIN),MAX(calc!$H$1:H1976)+1,0)","v":0}]
[null,null,null,null,null,{"$f":"IF(COUNTIF(BD!$B$2:B1978,BD!B1978)=1,MAX($F$1:F1977)+1,\"\")","v":""},null,{"$f":"IF(AND(BD!B1978=REF,BD!D1978>=DEB,BD!D1978<=FIN),MAX(calc!$H$1:H1977)+1,0)","v":0}]
[null,null,null,null,null,{"$f":"IF(COUNTIF(BD!$B$2:B1979,BD!B1979)=1,MAX($F$1:F1978)+1,\"\")","v":""},null,{"$f":"IF(AND(BD!B1979=REF,BD!D1979>=DEB,BD!D1979<=FIN),MAX(calc!$H$1:H1978)+1,0)","v":0}]
[null,null,null,null,null,{"$f":"IF(COUNTIF(BD!$B$2:B1980,BD!B1980)=1,MAX($F$1:F1979)+1,\"\")","v":""},null,{"$f":"IF(AND(BD!B1980=REF,BD!D1980>=DEB,BD!D1980<=FIN),MAX(calc!$H$1:H1979)+1,0)","v":0}]
[null,null,null,null,null,{"$f":"IF(COUNTIF(BD!$B$2:B1981,BD!B1981)=1,MAX($F$1:F1980)+1,\"\")","v":""},null,{"$f":"IF(AND(BD!B1981=REF,BD!D1981>=DEB,BD!D1981<=FIN),MAX(calc!$H$1:H1980)+1,0)","v":0}]
[null,null,null,null,null,{"$f":"IF(COUNTIF(BD!$B$2:B1982,BD!B1982)=1,MAX($F$1:F1981)+1,\"\")","v":""},null,{"$f":"IF(AND(BD!B1982=REF,BD!D1982>=DEB,BD!D1982<=FIN),MAX(calc!$H$1:H1981)+1,0)","v":0}]
[null,null,null,null,null,{"$f":"IF(COUNTIF(BD!$B$2:B1983,BD!B1983)=1,MAX($F$1:F1982)+1,\"\")","v":""},null,{"$f":"IF(AND(BD!B1983=REF,BD!D1983>=DEB,BD!D1983<=FIN),MAX(calc!$H$1:H1982)+1,0)","v":0}]
[null,null,null,null,null,{"$f":"IF(COUNTIF(BD!$B$2:B1984,BD!B1984)=1,MAX($F$1:F1983)+1,\"\")","v":""},null,{"$f":"IF(AND(BD!B1984=REF,BD!D1984>=DEB,BD!D1984<=FIN),MAX(calc!$H$1:H1983)+1,0)","v":0}]
[null,null,null,null,null,{"$f":"IF(COUNTIF(BD!$B$2:B1985,BD!B1985)=1,MAX($F$1:F1984)+1,\"\")","v":""},null,{"$f":"IF(AND(BD!B1985=REF,BD!D1985>=DEB,BD!D1985<=FIN),MAX(calc!$H$1:H1984)+1,0)","v":0}]
[null,null,null,null,null,{"$f":"IF(COUNTIF(BD!$B$2:B1986,BD!B1986)=1,MAX($F$1:F1985)+1,\"\")","v":""},null,{"$f":"IF(AND(BD!B1986=REF,BD!D1986>=DEB,BD!D1986<=FIN),MAX(calc!$H$1:H1985)+1,0)","v":0}]
[null,null,null,null,null,{"$f":"IF(COUNTIF(BD!$B$2:B1987,BD!B1987)=1,MAX($F$1:F1986)+1,\"\")","v":""},null,{"$f":"IF(AND(BD!B1987=REF,BD!D1987>=DEB,BD!D1987<=FIN),MAX(calc!$H$1:H1986)+1,0)","v":0}]
[null,null,null,null,null,{"$f":"IF(COUNTIF(BD!$B$2:B1988,BD!B1988)=1,MAX($F$1:F1987)+1,\"\")","v":""},null,{"$f":"IF(AND(BD!B1988=REF,BD!D1988>=DEB,BD!D1988<=FIN),MAX(calc!$H$1:H1987)+1,0)","v":0}]
[null,null,null,null,null,{"$f":"IF(COUNTIF(BD!$B$2:B1989,BD!B1989)=1,MAX($F$1:F1988)+1,\"\")","v":""},null,{"$f":"IF(AND(BD!B1989=REF,BD!D1989>=DEB,BD!D1989<=FIN),MAX(calc!$H$1:H1988)+1,0)","v":0}]
[null,null,null,null,null,{"$f":"IF(COUNTIF(BD!$B$2:B1990,BD!B1990)=1,MAX($F$1:F1989)+1,\"\")","v":""},null,{"$f":"IF(AND(BD!B1990=REF,BD!D1990>=DEB,BD!D1990<=FIN),MAX(calc!$H$1:H1989)+1,0)","v":0}]
[null,null,null,null,null,{"$f":"IF(COUNTIF(BD!$B$2:B1991,BD!B1991)=1,MAX($F$1:F1990)+1,\"\")","v":""},null,{"$f":"IF(AND(BD!B1991=REF,BD!D1991>=DEB,BD!D1991<=FIN),MAX(calc!$H$1:H1990)+1,0)","v":0}]
[null,null,null,null,null,{"$f":"IF(COUNTIF(BD!$B$2:B1992,BD!B1992)=1,MAX($F$1:F1991)+1,\"\")","v":""},null,{"$f":"IF(AND(BD!B1992=REF,BD!D1992>=DEB,BD!D1992<=FIN),MAX(calc!$H$1:H1991)+1,0)","v":0}]
[null,null,null,null,null,{"$f":"IF(COUNTIF(BD!$B$2:B1993,BD!B1993)=1,MAX($F$1:F1992)+1,\"\")","v":""},null,{"$f":"IF(AND(BD!B1993=REF,BD!D1993>=DEB,BD!D1993<=FIN),MAX(calc!$H$1:H1992)+1,0)","v":0}]
[null,null,null,null,null,{"$f":"IF(COUNTIF(BD!$B$2:B1994,BD!B1994)=1,MAX($F$1:F1993)+1,\"\")","v":""},null,{"$f":"IF(AND(BD!B1994=REF,BD!D1994>=DEB,BD!D1994<=FIN),MAX(calc!$H$1:H1993)+1,0)","v":0}]
[null,null,null,null,null,{"$f":"IF(COUNTIF(BD!$B$2:B1995,BD!B1995)=1,MAX($F$1:F1994)+1,\"\")","v":""},null,{"$f":"IF(AND(BD!B1995=REF,BD!D1995>=DEB,BD!D1995<=FIN),MAX(calc!$H$1:H1994)+1,0)","v":0}]
[null,null,null,null,null,{"$f":"IF(COUNTIF(BD!$B$2:B1996,BD!B1996)=1,MAX($F$1:F1995)+1,\"\")","v":""},null,{"$f":"IF(AND(BD!B1996=REF,BD!D1996>=DEB,BD!D1996<=FIN),MAX(calc!$H$1:H1995)+1,0)","v":0}]
[null,null,null,null,null,{"$f":"IF(COUNTIF(BD!$B$2:B1997,BD!B1997)=1,MAX($F$1:F1996)+1,\"\")","v":""},null,{"$f":"IF(AND(BD!B1997=REF,BD!D1997>=DEB,BD!D1997<=FIN),MAX(calc!$H$1:H1996)+1,0)","v":0}]
[null,null,null,null,null,{"$f":"IF(COUNTIF(BD!$B$2:B1998,BD!B1998)=1,MAX($F$1:F1997)+1,\"\")","v":""},null,{"$f":"IF(AND(BD!B1998=REF,BD!D1998>=DEB,BD!D1998<=FIN),MAX(calc!$H$1:H1997)+1,0)","v":0}]
[null,null,null,null,null,{"$f":"IF(COUNTIF(BD!$B$2:B1999,BD!B1999)=1,MAX($F$1:F1998)+1,\"\")","v":""},null,{"$f":"IF(AND(BD!B1999=REF,BD!D1999>=DEB,BD!D1999<=FIN),MAX(calc!$H$1:H1998)+1,0)","v":0}]
[null,null,null,null,null,{"$f":"IF(COUNTIF(BD!$B$2:B2000,BD!B2000)=1,MAX($F$1:F1999)+1,\"\")","v":""},null,{"$f":"IF(AND(BD!B2000=REF,BD!D2000>=DEB,BD!D2000<=FIN),MAX(calc!$H$1:H1999)+1,0)","v":0}]
[null,null,null,null,null,{"$f":"IF(COUNTIF(BD!$B$2:B2001,BD!B2001)=1,MAX($F$1:F2000)+1,\"\")","v":""},null,{"$f":"IF(AND(BD!B2001=REF,BD!D2001>=DEB,BD!D2001<=FIN),MAX(calc!$H$1:H2000)+1,0)","v":0}]
[null,null,null,null,null,{"$f":"IF(COUNTIF(BD!$B$2:B2002,BD!B2002)=1,MAX($F$1:F2001)+1,\"\")","v":""},null,{"$f":"IF(AND(BD!B2002=REF,BD!D2002>=DEB,BD!D2002<=FIN),MAX(calc!$H$1:H2001)+1,0)","v":0}]
[null,null,null,null,null,{"$f":"IF(COUNTIF(BD!$B$2:B2003,BD!B2003)=1,MAX($F$1:F2002)+1,\"\")","v":""},null,{"$f":"IF(AND(BD!B2003=REF,BD!D2003>=DEB,BD!D2003<=FIN),MAX(calc!$H$1:H2002)+1,0)","v":0}]
[null,null,null,null,null,{"$f":"IF(COUNTIF(BD!$B$2:B2004,BD!B2004)=1,MAX($F$1:F2003)+1,\"\")","v":""},null,{"$f":"IF(AND(BD!B2004=REF,BD!D2004>=DEB,BD!D2004<=FIN),MAX(calc!$H$1:H2003)+1,0)","v":0}]
[null,null,null,null,null,{"$f":"IF(COUNTIF(BD!$B$2:B2005,BD!B2005)=1,MAX($F$1:F2004)+1,\"\")","v":""},null,{"$f":"IF(AND(BD!B2005=REF,BD!D2005>=DEB,BD!D2005<=FIN),MAX(calc!$H$1:H2004)+1,0)","v":0}]
[null,null,null,null,null,{"$f":"IF(COUNTIF(BD!$B$2:B2006,BD!B2006)=1,MAX($F$1:F2005)+1,\"\")","v":""},null,{"$f":"IF(AND(BD!B2006=REF,BD!D2006>=DEB,BD!D2006<=FIN),MAX(calc!$H$1:H2005)+1,0)","v":0}]
[null,null,null,null,null,{"$f":"IF(COUNTIF(BD!$B$2:B2007,BD!B2007)=1,MAX($F$1:F2006)+1,\"\")","v":""},null,{"$f":"IF(AND(BD!B2007=REF,BD!D2007>=DEB,BD!D2007<=FIN),MAX(calc!$H$1:H2006)+1,0)","v":0}]
[null,null,null,null,null,{"$f":"IF(COUNTIF(BD!$B$2:B2008,BD!B2008)=1,MAX($F$1:F2007)+1,\"\")","v":""},null,{"$f":"IF(AND(BD!B2008=REF,BD!D2008>=DEB,BD!D2008<=FIN),MAX(calc!$H$1:H2007)+1,0)","v":0}]
[null,null,null,null,null,{"$f":"IF(COUNTIF(BD!$B$2:B2009,BD!B2009)=1,MAX($F$1:F2008)+1,\"\")","v":""},null,{"$f":"IF(AND(BD!B2009=REF,BD!D2009>=DEB,BD!D2009<=FIN),MAX(calc!$H$1:H2008)+1,0)","v":0}]
[null,null,null,null,null,{"$f":"IF(COUNTIF(BD!$B$2:B2010,BD!B2010)=1,MAX($F$1:F2009)+1,\"\")","v":""},null,{"$f":"IF(AND(BD!B2010=REF,BD!D2010>=DEB,BD!D2010<=FIN),MAX(calc!$H$1:H2009)+1,0)","v":0}]
[null,null,null,null,null,{"$f":"IF(COUNTIF(BD!$B$2:B2011,BD!B2011)=1,MAX($F$1:F2010)+1,\"\")","v":""},null,{"$f":"IF(AND(BD!B2011=REF,BD!D2011>=DEB,BD!D2011<=FIN),MAX(calc!$H$1:H2010)+1,0)","v":0}]
[null,null,null,null,null,{"$f":"IF(COUNTIF(BD!$B$2:B2012,BD!B2012)=1,MAX($F$1:F2011)+1,\"\")","v":""},null,{"$f":"IF(AND(BD!B2012=REF,BD!D2012>=DEB,BD!D2012<=FIN),MAX(calc!$H$1:H2011)+1,0)","v":0}]
[null,null,null,null,null,{"$f":"IF(COUNTIF(BD!$B$2:B2013,BD!B2013)=1,MAX($F$1:F2012)+1,\"\")","v":""},null,{"$f":"IF(AND(BD!B2013=REF,BD!D2013>=DEB,BD!D2013<=FIN),MAX(calc!$H$1:H2012)+1,0)","v":0}]
[null,null,null,null,null,{"$f":"IF(COUNTIF(BD!$B$2:B2014,BD!B2014)=1,MAX($F$1:F2013)+1,\"\")","v":""},null,{"$f":"IF(AND(BD!B2014=REF,BD!D2014>=DEB,BD!D2014<=FIN),MAX(calc!$H$1:H2013)+1,0)","v":0}]
[null,null,null,null,null,{"$f":"IF(COUNTIF(BD!$B$2:B2015,BD!B2015)=1,MAX($F$1:F2014)+1,\"\")","v":""},null,{"$f":"IF(AND(BD!B2015=REF,BD!D2015>=DEB,BD!D2015<=FIN),MAX(calc!$H$1:H2014)+1,0)","v":0}]
[null,null,null,null,null,{"$f":"IF(COUNTIF(BD!$B$2:B2016,BD!B2016)=1,MAX($F$1:F2015)+1,\"\")","v":""},null,{"$f":"IF(AND(BD!B2016=REF,BD!D2016>=DEB,BD!D2016<=FIN),MAX(calc!$H$1:H2015)+1,0)","v":0}]
[null,null,null,null,null,{"$f":"IF(COUNTIF(BD!$B$2:B2017,BD!B2017)=1,MAX($F$1:F2016)+1,\"\")","v":""},null,{"$f":"IF(AND(BD!B2017=REF,BD!D2017>=DEB,BD!D2017<=FIN),MAX(calc!$H$1:H2016)+1,0)","v":0}]
[null,null,null,null,null,{"$f":"IF(COUNTIF(BD!$B$2:B2018,BD!B2018)=1,MAX($F$1:F2017)+1,\"\")","v":""},null,{"$f":"IF(AND(BD!B2018=REF,BD!D2018>=DEB,BD!D2018<=FIN),MAX(calc!$H$1:H2017)+1,0)","v":0}]
[null,null,null,null,null,{"$f":"IF(COUNTIF(BD!$B$2:B2019,BD!B2019)=1,MAX($F$1:F2018)+1,\"\")","v":""},null,{"$f":"IF(AND(BD!B2019=REF,BD!D2019>=DEB,BD!D2019<=FIN),MAX(calc!$H$1:H2018)+1,0)","v":0}]
[null,null,null,null,null,{"$f":"IF(COUNTIF(BD!$B$2:B2020,BD!B2020)=1,MAX($F$1:F2019)+1,\"\")","v":""},null,{"$f":"IF(AND(BD!B2020=REF,BD!D2020>=DEB,BD!D2020<=FIN),MAX(calc!$H$1:H2019)+1,0)","v":0}]
[null,null,null,null,null,{"$f":"IF(COUNTIF(BD!$B$2:B2021,BD!B2021)=1,MAX($F$1:F2020)+1,\"\")","v":""},null,{"$f":"IF(AND(BD!B2021=REF,BD!D2021>=DEB,BD!D2021<=FIN),MAX(calc!$H$1:H2020)+1,0)","v":0}]
[null,null,null,null,null,{"$f":"IF(COUNTIF(BD!$B$2:B2022,BD!B2022)=1,MAX($F$1:F2021)+1,\"\")","v":""},null,{"$f":"IF(AND(BD!B2022=REF,BD!D2022>=DEB,BD!D2022<=FIN),MAX(calc!$H$1:H2021)+1,0)","v":0}]
[null,null,null,null,null,{"$f":"IF(COUNTIF(BD!$B$2:B2023,BD!B2023)=1,MAX($F$1:F2022)+1,\"\")","v":""},null,{"$f":"IF(AND(BD!B2023=REF,BD!D2023>=DEB,BD!D2023<=FIN),MAX(calc!$H$1:H2022)+1,0)","v":0}]
[null,null,null,null,null,{"$f":"IF(COUNTIF(BD!$B$2:B2024,BD!B2024)=1,MAX($F$1:F2023)+1,\"\")","v":""},null,{"$f":"IF(AND(BD!B2024=REF,BD!D2024>=DEB,BD!D2024<=FIN),MAX(calc!$H$1:H2023)+1,0)","v":0}]
[null,null,null,null,null,{"$f":"IF(COUNTIF(BD!$B$2:B2025,BD!B2025)=1,MAX($F$1:F2024)+1,\"\")","v":""},null,{"$f":"IF(AND(BD!B2025=REF,BD!D2025>=DEB,BD!D2025<=FIN),MAX(calc!$H$1:H2024)+1,0)","v":0}]
[null,null,null,null,null,{"$f":"IF(COUNTIF(BD!$B$2:B2026,BD!B2026)=1,MAX($F$1:F2025)+1,\"\")","v":""},null,{"$f":"IF(AND(BD!B2026=REF,BD!D2026>=DEB,BD!D2026<=FIN),MAX(calc!$H$1:H2025)+1,0)","v":0}]
[null,null,null,null,null,{"$f":"IF(COUNTIF(BD!$B$2:B2027,BD!B2027)=1,MAX($F$1:F2026)+1,\"\")","v":""},null,{"$f":"IF(AND(BD!B2027=REF,BD!D2027>=DEB,BD!D2027<=FIN),MAX(calc!$H$1:H2026)+1,0)","v":0}]
[null,null,null,null,null,{"$f":"IF(COUNTIF(BD!$B$2:B2028,BD!B2028)=1,MAX($F$1:F2027)+1,\"\")","v":""},null,{"$f":"IF(AND(BD!B2028=REF,BD!D2028>=DEB,BD!D2028<=FIN),MAX(calc!$H$1:H2027)+1,0)","v":0}]
[null,null,null,null,null,{"$f":"IF(COUNTIF(BD!$B$2:B2029,BD!B2029)=1,MAX($F$1:F2028)+1,\"\")","v":""},null,{"$f":"IF(AND(BD!B2029=REF,BD!D2029>=DEB,BD!D2029<=FIN),MAX(calc!$H$1:H2028)+1,0)","v":0}]
[null,null,null,null,null,{"$f":"IF(COUNTIF(BD!$B$2:B2030,BD!B2030)=1,MAX($F$1:F2029)+1,\"\")","v":""},null,{"$f":"IF(AND(BD!B2030=REF,BD!D2030>=DEB,BD!D2030<=FIN),MAX(calc!$H$1:H2029)+1,0)","v":0}]
[null,null,null,null,null,{"$f":"IF(COUNTIF(BD!$B$2:B2031,BD!B2031)=1,MAX($F$1:F2030)+1,\"\")","v":""},null,{"$f":"IF(AND(BD!B2031=REF,BD!D2031>=DEB,BD!D2031<=FIN),MAX(calc!$H$1:H2030)+1,0)","v":0}]
[null,null,null,null,null,{"$f":"IF(COUNTIF(BD!$B$2:B2032,BD!B2032)=1,MAX($F$1:F2031)+1,\"\")","v":""},null,{"$f":"IF(AND(BD!B2032=REF,BD!D2032>=DEB,BD!D2032<=FIN),MAX(calc!$H$1:H2031)+1,0)","v":0}]
[null,null,null,null,null,{"$f":"IF(COUNTIF(BD!$B$2:B2033,BD!B2033)=1,MAX($F$1:F2032)+1,\"\")","v":""},null,{"$f":"IF(AND(BD!B2033=REF,BD!D2033>=DEB,BD!D2033<=FIN),MAX(calc!$H$1:H2032)+1,0)","v":0}]
[null,null,null,null,null,{"$f":"IF(COUNTIF(BD!$B$2:B2034,BD!B2034)=1,MAX($F$1:F2033)+1,\"\")","v":""},null,{"$f":"IF(AND(BD!B2034=REF,BD!D2034>=DEB,BD!D2034<=FIN),MAX(calc!$H$1:H2033)+1,0)","v":0}]
[null,null,null,null,null,{"$f":"IF(COUNTIF(BD!$B$2:B2035,BD!B2035)=1,MAX($F$1:F2034)+1,\"\")","v":""},null,{"$f":"IF(AND(BD!B2035=REF,BD!D2035>=DEB,BD!D2035<=FIN),MAX(calc!$H$1:H2034)+1,0)","v":0}]
[null,null,null,null,null,{"$f":"IF(COUNTIF(BD!$B$2:B2036,BD!B2036)=1,MAX($F$1:F2035)+1,\"\")","v":""},null,{"$f":"IF(AND(BD!B2036=REF,BD!D2036>=DEB,BD!D2036<=FIN),MAX(calc!$H$1:H2035)+1,0)","v":0}]
[null,null,null,null,null,{"$f":"IF(COUNTIF(BD!$B$2:B2037,BD!B2037)=1,MAX($F$1:F2036)+1,\"\")","v":""},null,{"$f":"IF(AND(BD!B2037=REF,BD!D2037>=DEB,BD!D2037<=FIN),MAX(calc!$H$1:H2036)+1,0)","v":0}]
[null,null,null,null,null,{"$f":"IF(COUNTIF(BD!$B$2:B2038,BD!B2038)=1,MAX($F$1:F2037)+1,\"\")","v":""},null,{"$f":"IF(AND(BD!B2038=REF,BD!D2038>=DEB,BD!D2038<=FIN),MAX(calc!$H$1:H2037)+1,0)","v":0}]
[null,null,null,null,null,{"$f":"IF(COUNTIF(BD!$B$2:B2039,BD!B2039)=1,MAX($F$1:F2038)+1,\"\")","v":""},null,{"$f":"IF(AND(BD!B2039=REF,BD!D2039>=DEB,BD!D2039<=FIN),MAX(calc!$H$1:H2038)+1,0)","v":0}]
[null,null,null,null,null,{"$f":"IF(COUNTIF(BD!$B$2:B2040,BD!B2040)=1,MAX($F$1:F2039)+1,\"\")","v":""},null,{"$f":"IF(AND(BD!B2040=REF,BD!D2040>=DEB,BD!D2040<=FIN),MAX(calc!$H$1:H2039)+1,0)","v":0}]
[null,null,null,null,null,{"$f":"IF(COUNTIF(BD!$B$2:B2041,BD!B2041)=1,MAX($F$1:F2040)+1,\"\")","v":""},null,{"$f":"IF(AND(BD!B2041=REF,BD!D2041>=DEB,BD!D2041<=FIN),MAX(calc!$H$1:H2040)+1,0)","v":0}]
[null,null,null,null,null,{"$f":"IF(COUNTIF(BD!$B$2:B2042,BD!B2042)=1,MAX($F$1:F2041)+1,\"\")","v":""},null,{"$f":"IF(AND(BD!B2042=REF,BD!D2042>=DEB,BD!D2042<=FIN),MAX(calc!$H$1:H2041)+1,0)","v":0}]
[null,null,null,null,null,{"$f":"IF(COUNTIF(BD!$B$2:B2043,BD!B2043)=1,MAX($F$1:F2042)+1,\"\")","v":""},null,{"$f":"IF(AND(BD!B2043=REF,BD!D2043>=DEB,BD!D2043<=FIN),MAX(calc!$H$1:H2042)+1,0)","v":0}]
[null,null,null,null,null,{"$f":"IF(COUNTIF(BD!$B$2:B2044,BD!B2044)=1,MAX($F$1:F2043)+1,\"\")","v":""},null,{"$f":"IF(AND(BD!B2044=REF,BD!D2044>=DEB,BD!D2044<=FIN),MAX(calc!$H$1:H2043)+1,0)","v":0}]
[null,null,null,null,null,{"$f":"IF(COUNTIF(BD!$B$2:B2045,BD!B2045)=1,MAX($F$1:F2044)+1,\"\")","v":""},null,{"$f":"IF(AND(BD!B2045=REF,BD!D2045>=DEB,BD!D2045<=FIN),MAX(calc!$H$1:H2044)+1,0)","v":0}]
[null,null,null,null,null,{"$f":"IF(COUNTIF(BD!$B$2:B2046,BD!B2046)=1,MAX($F$1:F2045)+1,\"\")","v":""},null,{"$f":"IF(AND(BD!B2046=REF,BD!D2046>=DEB,BD!D2046<=FIN),MAX(calc!$H$1:H2045)+1,0)","v":0}]
[null,null,null,null,null,{"$f":"IF(COUNTIF(BD!$B$2:B2047,BD!B2047)=1,MAX($F$1:F2046)+1,\"\")","v":""},null,{"$f":"IF(AND(BD!B2047=REF,BD!D2047>=DEB,BD!D2047<=FIN),MAX(calc!$H$1:H2046)+1,0)","v":0}]
[null,null,null,null,null,{"$f":"IF(COUNTIF(BD!$B$2:B2048,BD!B2048)=1,MAX($F$1:F2047)+1,\"\")","v":""},null,{"$f":"IF(AND(BD!B2048=REF,BD!D2048>=DEB,BD!D2048<=FIN),MAX(calc!$H$1:H2047)+1,0)","v":0}]
[null,null,null,null,null,{"$f":"IF(COUNTIF(BD!$B$2:B2049,BD!B2049)=1,MAX($F$1:F2048)+1,\"\")","v":""},null,{"$f":"IF(AND(BD!B2049=REF,BD!D2049>=DEB,BD!D2049<=FIN),MAX(calc!$H$1:H2048)+1,0)","v":0}]
[null,null,null,null,null,{"$f":"IF(COUNTIF(BD!$B$2:B2050,BD!B2050)=1,MAX($F$1:F2049)+1,\"\")","v":""},null,{"$f":"IF(AND(BD!B2050=REF,BD!D2050>=DEB,BD!D2050<=FIN),MAX(calc!$H$1:H2049)+1,0)","v":0}]
[null,null,null,null,null,{"$f":"IF(COUNTIF(BD!$B$2:B2051,BD!B2051)=1,MAX($F$1:F2050)+1,\"\")","v":""},null,{"$f":"IF(AND(BD!B2051=REF,BD!D2051>=DEB,BD!D2051<=FIN),MAX(calc!$H$1:H2050)+1,0)","v":0}]
[null,null,null,null,null,{"$f":"IF(COUNTIF(BD!$B$2:B2052,BD!B2052)=1,MAX($F$1:F2051)+1,\"\")","v":""},null,{"$f":"IF(AND(BD!B2052=REF,BD!D2052>=DEB,BD!D2052<=FIN),MAX(calc!$H$1:H2051)+1,0)","v":0}]
[null,null,null,null,null,{"$f":"IF(COUNTIF(BD!$B$2:B2053,BD!B2053)=1,MAX($F$1:F2052)+1,\"\")","v":""},null,{"$f":"IF(AND(BD!B2053=REF,BD!D2053>=DEB,BD!D2053<=FIN),MAX(calc!$H$1:H2052)+1,0)","v":0}]
[null,null,null,null,null,{"$f":"IF(COUNTIF(BD!$B$2:B2054,BD!B2054)=1,MAX($F$1:F2053)+1,\"\")","v":""},null,{"$f":"IF(AND(BD!B2054=REF,BD!D2054>=DEB,BD!D2054<=FIN),MAX(calc!$H$1:H2053)+1,0)","v":0}]
[null,null,null,null,null,{"$f":"IF(COUNTIF(BD!$B$2:B2055,BD!B2055)=1,MAX($F$1:F2054)+1,\"\")","v":""},null,{"$f":"IF(AND(BD!B2055=REF,BD!D2055>=DEB,BD!D2055<=FIN),MAX(calc!$H$1:H2054)+1,0)","v":0}]
[null,null,null,null,null,{"$f":"IF(COUNTIF(BD!$B$2:B2056,BD!B2056)=1,MAX($F$1:F2055)+1,\"\")","v":""},null,{"$f":"IF(AND(BD!B2056=REF,BD!D2056>=DEB,BD!D2056<=FIN),MAX(calc!$H$1:H2055)+1,0)","v":0}]
[null,null,null,null,null,{"$f":"IF(COUNTIF(BD!$B$2:B2057,BD!B2057)=1,MAX($F$1:F2056)+1,\"\")","v":""},null,{"$f":"IF(AND(BD!B2057=REF,BD!D2057>=DEB,BD!D2057<=FIN),MAX(calc!$H$1:H2056)+1,0)","v":0}]
[null,null,null,null,null,{"$f":"IF(COUNTIF(BD!$B$2:B2058,BD!B2058)=1,MAX($F$1:F2057)+1,\"\")","v":""},null,{"$f":"IF(AND(BD!B2058=REF,BD!D2058>=DEB,BD!D2058<=FIN),MAX(calc!$H$1:H2057)+1,0)","v":0}]
[null,null,null,null,null,{"$f":"IF(COUNTIF(BD!$B$2:B2059,BD!B2059)=1,MAX($F$1:F2058)+1,\"\")","v":""},null,{"$f":"IF(AND(BD!B2059=REF,BD!D2059>=DEB,BD!D2059<=FIN),MAX(calc!$H$1:H2058)+1,0)","v":0}]
[null,null,null,null,null,{"$f":"IF(COUNTIF(BD!$B$2:B2060,BD!B2060)=1,MAX($F$1:F2059)+1,\"\")","v":""},null,{"$f":"IF(AND(BD!B2060=REF,BD!D2060>=DEB,BD!D2060<=FIN),MAX(calc!$H$1:H2059)+1,0)","v":0}]
[null,null,null,null,null,{"$f":"IF(COUNTIF(BD!$B$2:B2061,BD!B2061)=1,MAX($F$1:F2060)+1,\"\")","v":""},null,{"$f":"IF(AND(BD!B2061=REF,BD!D2061>=DEB,BD!D2061<=FIN),MAX(calc!$H$1:H2060)+1,0)","v":0}]
[null,null,null,null,null,{"$f":"IF(COUNTIF(BD!$B$2:B2062,BD!B2062)=1,MAX($F$1:F2061)+1,\"\")","v":""},null,{"$f":"IF(AND(BD!B2062=REF,BD!D2062>=DEB,BD!D2062<=FIN),MAX(calc!$H$1:H2061)+1,0)","v":0}]
[null,null,null,null,null,{"$f":"IF(COUNTIF(BD!$B$2:B2063,BD!B2063)=1,MAX($F$1:F2062)+1,\"\")","v":""},null,{"$f":"IF(AND(BD!B2063=REF,BD!D2063>=DEB,BD!D2063<=FIN),MAX(calc!$H$1:H2062)+1,0)","v":0}]
[null,null,null,null,null,{"$f":"IF(COUNTIF(BD!$B$2:B2064,BD!B2064)=1,MAX($F$1:F2063)+1,\"\")","v":""},null,{"$f":"IF(AND(BD!B2064=REF,BD!D2064>=DEB,BD!D2064<=FIN),MAX(calc!$H$1:H2063)+1,0)","v":0}]
[null,null,null,null,null,{"$f":"IF(COUNTIF(BD!$B$2:B2065,BD!B2065)=1,MAX($F$1:F2064)+1,\"\")","v":""},null,{"$f":"IF(AND(BD!B2065=REF,BD!D2065>=DEB,BD!D2065<=FIN),MAX(calc!$H$1:H2064)+1,0)","v":0}]
[null,null,null,null,null,{"$f":"IF(COUNTIF(BD!$B$2:B2066,BD!B2066)=1,MAX($F$1:F2065)+1,\"\")","v":""},null,{"$f":"IF(AND(BD!B2066=REF,BD!D2066>=DEB,BD!D2066<=FIN),MAX(calc!$H$1:H2065)+1,0)","v":0}]
[null,null,null,null,null,{"$f":"IF(COUNTIF(BD!$B$2:B2067,BD!B2067)=1,MAX($F$1:F2066)+1,\"\")","v":""},null,{"$f":"IF(AND(BD!B2067=REF,BD!D2067>=DEB,BD!D2067<=FIN),MAX(calc!$H$1:H2066)+1,0)","v":0}]
[null,null,null,null,null,{"$f":"IF(COUNTIF(BD!$B$2:B2068,BD!B2068)=1,MAX($F$1:F2067)+1,\"\")","v":""},null,{"$f":"IF(AND(BD!B2068=REF,BD!D2068>=DEB,BD!D2068<=FIN),MAX(calc!$H$1:H2067)+1,0)","v":0}]
[null,null,null,null,null,{"$f":"IF(COUNTIF(BD!$B$2:B2069,BD!B2069)=1,MAX($F$1:F2068)+1,\"\")","v":""},null,{"$f":"IF(AND(BD!B2069=REF,BD!D2069>=DEB,BD!D2069<=FIN),MAX(calc!$H$1:H2068)+1,0)","v":0}]
[null,null,null,null,null,{"$f":"IF(COUNTIF(BD!$B$2:B2070,BD!B2070)=1,MAX($F$1:F2069)+1,\"\")","v":""},null,{"$f":"IF(AND(BD!B2070=REF,BD!D2070>=DEB,BD!D2070<=FIN),MAX(calc!$H$1:H2069)+1,0)","v":0}]
[null,null,null,null,null,{"$f":"IF(COUNTIF(BD!$B$2:B2071,BD!B2071)=1,MAX($F$1:F2070)+1,\"\")","v":""},null,{"$f":"IF(AND(BD!B2071=REF,BD!D2071>=DEB,BD!D2071<=FIN),MAX(calc!$H$1:H2070)+1,0)","v":0}]
[null,null,null,null,null,{"$f":"IF(COUNTIF(BD!$B$2:B2072,BD!B2072)=1,MAX($F$1:F2071)+1,\"\")","v":""},null,{"$f":"IF(AND(BD!B2072=REF,BD!D2072>=DEB,BD!D2072<=FIN),MAX(calc!$H$1:H2071)+1,0)","v":0}]
[null,null,null,null,null,{"$f":"IF(COUNTIF(BD!$B$2:B2073,BD!B2073)=1,MAX($F$1:F2072)+1,\"\")","v":""},null,{"$f":"IF(AND(BD!B2073=REF,BD!D2073>=DEB,BD!D2073<=FIN),MAX(calc!$H$1:H2072)+1,0)","v":0}]
[null,null,null,null,null,{"$f":"IF(COUNTIF(BD!$B$2:B2074,BD!B2074)=1,MAX($F$1:F2073)+1,\"\")","v":""},null,{"$f":"IF(AND(BD!B2074=REF,BD!D2074>=DEB,BD!D2074<=FIN),MAX(calc!$H$1:H2073)+1,0)","v":0}]
[null,null,null,null,null,{"$f":"IF(COUNTIF(BD!$B$2:B2075,BD!B2075)=1,MAX($F$1:F2074)+1,\"\")","v":""},null,{"$f":"IF(AND(BD!B2075=REF,BD!D2075>=DEB,BD!D2075<=FIN),MAX(calc!$H$1:H2074)+1,0)","v":0}]
[null,null,null,null,null,{"$f":"IF(COUNTIF(BD!$B$2:B2076,BD!B2076)=1,MAX($F$1:F2075)+1,\"\")","v":""},null,{"$f":"IF(AND(BD!B2076=REF,BD!D2076>=DEB,BD!D2076<=FIN),MAX(calc!$H$1:H2075)+1,0)","v":0}]
[null,null,null,null,null,{"$f":"IF(COUNTIF(BD!$B$2:B2077,BD!B2077)=1,MAX($F$1:F2076)+1,\"\")","v":""},null,{"$f":"IF(AND(BD!B2077=REF,BD!D2077>=DEB,BD!D2077<=FIN),MAX(calc!$H$1:H2076)+1,0)","v":0}]
[null,null,null,null,null,{"$f":"IF(COUNTIF(BD!$B$2:B2078,BD!B2078)=1,MAX($F$1:F2077)+1,\"\")","v":""},null,{"$f":"IF(AND(BD!B2078=REF,BD!D2078>=DEB,BD!D2078<=FIN),MAX(calc!$H$1:H2077)+1,0)","v":0}]
[null,null,null,null,null,{"$f":"IF(COUNTIF(BD!$B$2:B2079,BD!B2079)=1,MAX($F$1:F2078)+1,\"\")","v":""},null,{"$f":"IF(AND(BD!B2079=REF,BD!D2079>=DEB,BD!D2079<=FIN),MAX(calc!$H$1:H2078)+1,0)","v":0}]
[null,null,null,null,null,{"$f":"IF(COUNTIF(BD!$B$2:B2080,BD!B2080)=1,MAX($F$1:F2079)+1,\"\")","v":""},null,{"$f":"IF(AND(BD!B2080=REF,BD!D2080>=DEB,BD!D2080<=FIN),MAX(calc!$H$1:H2079)+1,0)","v":0}]
[null,null,null,null,null,{"$f":"IF(COUNTIF(BD!$B$2:B2081,BD!B2081)=1,MAX($F$1:F2080)+1,\"\")","v":""},null,{"$f":"IF(AND(BD!B2081=REF,BD!D2081>=DEB,BD!D2081<=FIN),MAX(calc!$H$1:H2080)+1,0)","v":0}]
[null,null,null,null,null,{"$f":"IF(COUNTIF(BD!$B$2:B2082,BD!B2082)=1,MAX($F$1:F2081)+1,\"\")","v":""},null,{"$f":"IF(AND(BD!B2082=REF,BD!D2082>=DEB,BD!D2082<=FIN),MAX(calc!$H$1:H2081)+1,0)","v":0}]
[null,null,null,null,null,{"$f":"IF(COUNTIF(BD!$B$2:B2083,BD!B2083)=1,MAX($F$1:F2082)+1,\"\")","v":""},null,{"$f":"IF(AND(BD!B2083=REF,BD!D2083>=DEB,BD!D2083<=FIN),MAX(calc!$H$1:H2082)+1,0)","v":0}]
[null,null,null,null,null,{"$f":"IF(COUNTIF(BD!$B$2:B2084,BD!B2084)=1,MAX($F$1:F2083)+1,\"\")","v":""},null,{"$f":"IF(AND(BD!B2084=REF,BD!D2084>=DEB,BD!D2084<=FIN),MAX(calc!$H$1:H2083)+1,0)","v":0}]
[null,null,null,null,null,{"$f":"IF(COUNTIF(BD!$B$2:B2085,BD!B2085)=1,MAX($F$1:F2084)+1,\"\")","v":""},null,{"$f":"IF(AND(BD!B2085=REF,BD!D2085>=DEB,BD!D2085<=FIN),MAX(calc!$H$1:H2084)+1,0)","v":0}]
[null,null,null,null,null,{"$f":"IF(COUNTIF(BD!$B$2:B2086,BD!B2086)=1,MAX($F$1:F2085)+1,\"\")","v":""},null,{"$f":"IF(AND(BD!B2086=REF,BD!D2086>=DEB,BD!D2086<=FIN),MAX(calc!$H$1:H2085)+1,0)","v":0}]
[null,null,null,null,null,{"$f":"IF(COUNTIF(BD!$B$2:B2087,BD!B2087)=1,MAX($F$1:F2086)+1,\"\")","v":""},null,{"$f":"IF(AND(BD!B2087=REF,BD!D2087>=DEB,BD!D2087<=FIN),MAX(calc!$H$1:H2086)+1,0)","v":0}]
[null,null,null,null,null,{"$f":"IF(COUNTIF(BD!$B$2:B2088,BD!B2088)=1,MAX($F$1:F2087)+1,\"\")","v":""},null,{"$f":"IF(AND(BD!B2088=REF,BD!D2088>=DEB,BD!D2088<=FIN),MAX(calc!$H$1:H2087)+1,0)","v":0}]
[null,null,null,null,null,{"$f":"IF(COUNTIF(BD!$B$2:B2089,BD!B2089)=1,MAX($F$1:F2088)+1,\"\")","v":""},null,{"$f":"IF(AND(BD!B2089=REF,BD!D2089>=DEB,BD!D2089<=FIN),MAX(calc!$H$1:H2088)+1,0)","v":0}]
[null,null,null,null,null,{"$f":"IF(COUNTIF(BD!$B$2:B2090,BD!B2090)=1,MAX($F$1:F2089)+1,\"\")","v":""},null,{"$f":"IF(AND(BD!B2090=REF,BD!D2090>=DEB,BD!D2090<=FIN),MAX(calc!$H$1:H2089)+1,0)","v":0}]
[null,null,null,null,null,{"$f":"IF(COUNTIF(BD!$B$2:B2091,BD!B2091)=1,MAX($F$1:F2090)+1,\"\")","v":""},null,{"$f":"IF(AND(BD!B2091=REF,BD!D2091>=DEB,BD!D2091<=FIN),MAX(calc!$H$1:H2090)+1,0)","v":0}]
[null,null,null,null,null,{"$f":"IF(COUNTIF(BD!$B$2:B2092,BD!B2092)=1,MAX($F$1:F2091)+1,\"\")","v":""},null,{"$f":"IF(AND(BD!B2092=REF,BD!D2092>=DEB,BD!D2092<=FIN),MAX(calc!$H$1:H2091)+1,0)","v":0}]
[null,null,null,null,null,{"$f":"IF(COUNTIF(BD!$B$2:B2093,BD!B2093)=1,MAX($F$1:F2092)+1,\"\")","v":""},null,{"$f":"IF(AND(BD!B2093=REF,BD!D2093>=DEB,BD!D2093<=FIN),MAX(calc!$H$1:H2092)+1,0)","v":0}]
[null,null,null,null,null,{"$f":"IF(COUNTIF(BD!$B$2:B2094,BD!B2094)=1,MAX($F$1:F2093)+1,\"\")","v":""},null,{"$f":"IF(AND(BD!B2094=REF,BD!D2094>=DEB,BD!D2094<=FIN),MAX(calc!$H$1:H2093)+1,0)","v":0}]
[null,null,null,null,null,{"$f":"IF(COUNTIF(BD!$B$2:B2095,BD!B2095)=1,MAX($F$1:F2094)+1,\"\")","v":""},null,{"$f":"IF(AND(BD!B2095=REF,BD!D2095>=DEB,BD!D2095<=FIN),MAX(calc!$H$1:H2094)+1,0)","v":0}]
[null,null,null,null,null,{"$f":"IF(COUNTIF(BD!$B$2:B2096,BD!B2096)=1,MAX($F$1:F2095)+1,\"\")","v":""},null,{"$f":"IF(AND(BD!B2096=REF,BD!D2096>=DEB,BD!D2096<=FIN),MAX(calc!$H$1:H2095)+1,0)","v":0}]
[null,null,null,null,null,{"$f":"IF(COUNTIF(BD!$B$2:B2097,BD!B2097)=1,MAX($F$1:F2096)+1,\"\")","v":""},null,{"$f":"IF(AND(BD!B2097=REF,BD!D2097>=DEB,BD!D2097<=FIN),MAX(calc!$H$1:H2096)+1,0)","v":0}]
[null,null,null,null,null,{"$f":"IF(COUNTIF(BD!$B$2:B2098,BD!B2098)=1,MAX($F$1:F2097)+1,\"\")","v":""},null,{"$f":"IF(AND(BD!B2098=REF,BD!D2098>=DEB,BD!D2098<=FIN),MAX(calc!$H$1:H2097)+1,0)","v":0}]
[null,null,null,null,null,{"$f":"IF(COUNTIF(BD!$B$2:B2099,BD!B2099)=1,MAX($F$1:F2098)+1,\"\")","v":""},null,{"$f":"IF(AND(BD!B2099=REF,BD!D2099>=DEB,BD!D2099<=FIN),MAX(calc!$H$1:H2098)+1,0)","v":0}]
[null,null,null,null,null,{"$f":"IF(COUNTIF(BD!$B$2:B2100,BD!B2100)=1,MAX($F$1:F2099)+1,\"\")","v":""},null,{"$f":"IF(AND(BD!B2100=REF,BD!D2100>=DEB,BD!D2100<=FIN),MAX(calc!$H$1:H2099)+1,0)","v":0}]
[null,null,null,null,null,{"$f":"IF(COUNTIF(BD!$B$2:B2101,BD!B2101)=1,MAX($F$1:F2100)+1,\"\")","v":""},null,{"$f":"IF(AND(BD!B2101=REF,BD!D2101>=DEB,BD!D2101<=FIN),MAX(calc!$H$1:H2100)+1,0)","v":0}]
[null,null,null,null,null,{"$f":"IF(COUNTIF(BD!$B$2:B2102,BD!B2102)=1,MAX($F$1:F2101)+1,\"\")","v":""},null,{"$f":"IF(AND(BD!B2102=REF,BD!D2102>=DEB,BD!D2102<=FIN),MAX(calc!$H$1:H2101)+1,0)","v":0}]
[null,null,null,null,null,{"$f":"IF(COUNTIF(BD!$B$2:B2103,BD!B2103)=1,MAX($F$1:F2102)+1,\"\")","v":""},null,{"$f":"IF(AND(BD!B2103=REF,BD!D2103>=DEB,BD!D2103<=FIN),MAX(calc!$H$1:H2102)+1,0)","v":0}]
[null,null,null,null,null,{"$f":"IF(COUNTIF(BD!$B$2:B2104,BD!B2104)=1,MAX($F$1:F2103)+1,\"\")","v":""},null,{"$f":"IF(AND(BD!B2104=REF,BD!D2104>=DEB,BD!D2104<=FIN),MAX(calc!$H$1:H2103)+1,0)","v":0}]
[null,null,null,null,null,{"$f":"IF(COUNTIF(BD!$B$2:B2105,BD!B2105)=1,MAX($F$1:F2104)+1,\"\")","v":""},null,{"$f":"IF(AND(BD!B2105=REF,BD!D2105>=DEB,BD!D2105<=FIN),MAX(calc!$H$1:H2104)+1,0)","v":0}]
[null,null,null,null,null,{"$f":"IF(COUNTIF(BD!$B$2:B2106,BD!B2106)=1,MAX($F$1:F2105)+1,\"\")","v":""},null,{"$f":"IF(AND(BD!B2106=REF,BD!D2106>=DEB,BD!D2106<=FIN),MAX(calc!$H$1:H2105)+1,0)","v":0}]
[null,null,null,null,null,{"$f":"IF(COUNTIF(BD!$B$2:B2107,BD!B2107)=1,MAX($F$1:F2106)+1,\"\")","v":""},null,{"$f":"IF(AND(BD!B2107=REF,BD!D2107>=DEB,BD!D2107<=FIN),MAX(calc!$H$1:H2106)+1,0)","v":0}]
[null,null,null,null,null,{"$f":"IF(COUNTIF(BD!$B$2:B2108,BD!B2108)=1,MAX($F$1:F2107)+1,\"\")","v":""},null,{"$f":"IF(AND(BD!B2108=REF,BD!D2108>=DEB,BD!D2108<=FIN),MAX(calc!$H$1:H2107)+1,0)","v":0}]
[null,null,null,null,null,{"$f":"IF(COUNTIF(BD!$B$2:B2109,BD!B2109)=1,MAX($F$1:F2108)+1,\"\")","v":""},null,{"$f":"IF(AND(BD!B2109=REF,BD!D2109>=DEB,BD!D2109<=FIN),MAX(calc!$H$1:H2108)+1,0)","v":0}]
[null,null,null,null,null,{"$f":"IF(COUNTIF(BD!$B$2:B2110,BD!B2110)=1,MAX($F$1:F2109)+1,\"\")","v":""},null,{"$f":"IF(AND(BD!B2110=REF,BD!D2110>=DEB,BD!D2110<=FIN),MAX(calc!$H$1:H2109)+1,0)","v":0}]
[null,null,null,null,null,{"$f":"IF(COUNTIF(BD!$B$2:B2111,BD!B2111)=1,MAX($F$1:F2110)+1,\"\")","v":""},null,{"$f":"IF(AND(BD!B2111=REF,BD!D2111>=DEB,BD!D2111<=FIN),MAX(calc!$H$1:H2110)+1,0)","v":0}]
[null,null,null,null,null,{"$f":"IF(COUNTIF(BD!$B$2:B2112,BD!B2112)=1,MAX($F$1:F2111)+1,\"\")","v":""},null,{"$f":"IF(AND(BD!B2112=REF,BD!D2112>=DEB,BD!D2112<=FIN),MAX(calc!$H$1:H2111)+1,0)","v":0}]
[null,null,null,null,null,{"$f":"IF(COUNTIF(BD!$B$2:B2113,BD!B2113)=1,MAX($F$1:F2112)+1,\"\")","v":""},null,{"$f":"IF(AND(BD!B2113=REF,BD!D2113>=DEB,BD!D2113<=FIN),MAX(calc!$H$1:H2112)+1,0)","v":0}]
[null,null,null,null,null,{"$f":"IF(COUNTIF(BD!$B$2:B2114,BD!B2114)=1,MAX($F$1:F2113)+1,\"\")","v":""},null,{"$f":"IF(AND(BD!B2114=REF,BD!D2114>=DEB,BD!D2114<=FIN),MAX(calc!$H$1:H2113)+1,0)","v":0}]
[null,null,null,null,null,{"$f":"IF(COUNTIF(BD!$B$2:B2115,BD!B2115)=1,MAX($F$1:F2114)+1,\"\")","v":""},null,{"$f":"IF(AND(BD!B2115=REF,BD!D2115>=DEB,BD!D2115<=FIN),MAX(calc!$H$1:H2114)+1,0)","v":0}]
[null,null,null,null,null,{"$f":"IF(COUNTIF(BD!$B$2:B2116,BD!B2116)=1,MAX($F$1:F2115)+1,\"\")","v":""},null,{"$f":"IF(AND(BD!B2116=REF,BD!D2116>=DEB,BD!D2116<=FIN),MAX(calc!$H$1:H2115)+1,0)","v":0}]
[null,null,null,null,null,{"$f":"IF(COUNTIF(BD!$B$2:B2117,BD!B2117)=1,MAX($F$1:F2116)+1,\"\")","v":""},null,{"$f":"IF(AND(BD!B2117=REF,BD!D2117>=DEB,BD!D2117<=FIN),MAX(calc!$H$1:H2116)+1,0)","v":0}]
[null,null,null,null,null,{"$f":"IF(COUNTIF(BD!$B$2:B2118,BD!B2118)=1,MAX($F$1:F2117)+1,\"\")","v":""},null,{"$f":"IF(AND(BD!B2118=REF,BD!D2118>=DEB,BD!D2118<=FIN),MAX(calc!$H$1:H2117)+1,0)","v":0}]
[null,null,null,null,null,{"$f":"IF(COUNTIF(BD!$B$2:B2119,BD!B2119)=1,MAX($F$1:F2118)+1,\"\")","v":""},null,{"$f":"IF(AND(BD!B2119=REF,BD!D2119>=DEB,BD!D2119<=FIN),MAX(calc!$H$1:H2118)+1,0)","v":0}]
[null,null,null,null,null,{"$f":"IF(COUNTIF(BD!$B$2:B2120,BD!B2120)=1,MAX($F$1:F2119)+1,\"\")","v":""},null,{"$f":"IF(AND(BD!B2120=REF,BD!D2120>=DEB,BD!D2120<=FIN),MAX(calc!$H$1:H2119)+1,0)","v":0}]
[null,null,null,null,null,{"$f":"IF(COUNTIF(BD!$B$2:B2121,BD!B2121)=1,MAX($F$1:F2120)+1,\"\")","v":""},null,{"$f":"IF(AND(BD!B2121=REF,BD!D2121>=DEB,BD!D2121<=FIN),MAX(calc!$H$1:H2120)+1,0)","v":0}]
[null,null,null,null,null,{"$f":"IF(COUNTIF(BD!$B$2:B2122,BD!B2122)=1,MAX($F$1:F2121)+1,\"\")","v":""},null,{"$f":"IF(AND(BD!B2122=REF,BD!D2122>=DEB,BD!D2122<=FIN),MAX(calc!$H$1:H2121)+1,0)","v":0}]
[null,null,null,null,null,{"$f":"IF(COUNTIF(BD!$B$2:B2123,BD!B2123)=1,MAX($F$1:F2122)+1,\"\")","v":""},null,{"$f":"IF(AND(BD!B2123=REF,BD!D2123>=DEB,BD!D2123<=FIN),MAX(calc!$H$1:H2122)+1,0)","v":0}]
[null,null,null,null,null,{"$f":"IF(COUNTIF(BD!$B$2:B2124,BD!B2124)=1,MAX($F$1:F2123)+1,\"\")","v":""},null,{"$f":"IF(AND(BD!B2124=REF,BD!D2124>=DEB,BD!D2124<=FIN),MAX(calc!$H$1:H2123)+1,0)","v":0}]
[null,null,null,null,null,{"$f":"IF(COUNTIF(BD!$B$2:B2125,BD!B2125)=1,MAX($F$1:F2124)+1,\"\")","v":""},null,{"$f":"IF(AND(BD!B2125=REF,BD!D2125>=DEB,BD!D2125<=FIN),MAX(calc!$H$1:H2124)+1,0)","v":0}]
[null,null,null,null,null,{"$f":"IF(COUNTIF(BD!$B$2:B2126,BD!B2126)=1,MAX($F$1:F2125)+1,\"\")","v":""},null,{"$f":"IF(AND(BD!B2126=REF,BD!D2126>=DEB,BD!D2126<=FIN),MAX(calc!$H$1:H2125)+1,0)","v":0}]
[null,null,null,null,null,{"$f":"IF(COUNTIF(BD!$B$2:B2127,BD!B2127)=1,MAX($F$1:F2126)+1,\"\")","v":""},null,{"$f":"IF(AND(BD!B2127=REF,BD!D2127>=DEB,BD!D2127<=FIN),MAX(calc!$H$1:H2126)+1,0)","v":0}]
[null,null,null,null,null,{"$f":"IF(COUNTIF(BD!$B$2:B2128,BD!B2128)=1,MAX($F$1:F2127)+1,\"\")","v":""},null,{"$f":"IF(AND(BD!B2128=REF,BD!D2128>=DEB,BD!D2128<=FIN),MAX(calc!$H$1:H2127)+1,0)","v":0}]
[null,null,null,null,null,{"$f":"IF(COUNTIF(BD!$B$2:B2129,BD!B2129)=1,MAX($F$1:F2128)+1,\"\")","v":""},null,{"$f":"IF(AND(BD!B2129=REF,BD!D2129>=DEB,BD!D2129<=FIN),MAX(calc!$H$1:H2128)+1,0)","v":0}]
[null,null,null,null,null,{"$f":"IF(COUNTIF(BD!$B$2:B2130,BD!B2130)=1,MAX($F$1:F2129)+1,\"\")","v":""},null,{"$f":"IF(AND(BD!B2130=REF,BD!D2130>=DEB,BD!D2130<=FIN),MAX(calc!$H$1:H2129)+1,0)","v":0}]
[null,null,null,null,null,{"$f":"IF(COUNTIF(BD!$B$2:B2131,BD!B2131)=1,MAX($F$1:F2130)+1,\"\")","v":""},null,{"$f":"IF(AND(BD!B2131=REF,BD!D2131>=DEB,BD!D2131<=FIN),MAX(calc!$H$1:H2130)+1,0)","v":0}]
[null,null,null,null,null,{"$f":"IF(COUNTIF(BD!$B$2:B2132,BD!B2132)=1,MAX($F$1:F2131)+1,\"\")","v":""},null,{"$f":"IF(AND(BD!B2132=REF,BD!D2132>=DEB,BD!D2132<=FIN),MAX(calc!$H$1:H2131)+1,0)","v":0}]
[null,null,null,null,null,{"$f":"IF(COUNTIF(BD!$B$2:B2133,BD!B2133)=1,MAX($F$1:F2132)+1,\"\")","v":""},null,{"$f":"IF(AND(BD!B2133=REF,BD!D2133>=DEB,BD!D2133<=FIN),MAX(calc!$H$1:H2132)+1,0)","v":0}]
[null,null,null,null,null,{"$f":"IF(COUNTIF(BD!$B$2:B2134,BD!B2134)=1,MAX($F$1:F2133)+1,\"\")","v":""},null,{"$f":"IF(AND(BD!B2134=REF,BD!D2134>=DEB,BD!D2134<=FIN),MAX(calc!$H$1:H2133)+1,0)","v":0}]
[null,null,null,null,null,{"$f":"IF(COUNTIF(BD!$B$2:B2135,BD!B2135)=1,MAX($F$1:F2134)+1,\"\")","v":""},null,{"$f":"IF(AND(BD!B2135=REF,BD!D2135>=DEB,BD!D2135<=FIN),MAX(calc!$H$1:H2134)+1,0)","v":0}]
[null,null,null,null,null,{"$f":"IF(COUNTIF(BD!$B$2:B2136,BD!B2136)=1,MAX($F$1:F2135)+1,\"\")","v":""},null,{"$f":"IF(AND(BD!B2136=REF,BD!D2136>=DEB,BD!D2136<=FIN),MAX(calc!$H$1:H2135)+1,0)","v":0}]
[null,null,null,null,null,{"$f":"IF(COUNTIF(BD!$B$2:B2137,BD!B2137)=1,MAX($F$1:F2136)+1,\"\")","v":""},null,{"$f":"IF(AND(BD!B2137=REF,BD!D2137>=DEB,BD!D2137<=FIN),MAX(calc!$H$1:H2136)+1,0)","v":0}]
[null,null,null,null,null,{"$f":"IF(COUNTIF(BD!$B$2:B2138,BD!B2138)=1,MAX($F$1:F2137)+1,\"\")","v":""},null,{"$f":"IF(AND(BD!B2138=REF,BD!D2138>=DEB,BD!D2138<=FIN),MAX(calc!$H$1:H2137)+1,0)","v":0}]
[null,null,null,null,null,{"$f":"IF(COUNTIF(BD!$B$2:B2139,BD!B2139)=1,MAX($F$1:F2138)+1,\"\")","v":""},null,{"$f":"IF(AND(BD!B2139=REF,BD!D2139>=DEB,BD!D2139<=FIN),MAX(calc!$H$1:H2138)+1,0)","v":0}]
[null,null,null,null,null,{"$f":"IF(COUNTIF(BD!$B$2:B2140,BD!B2140)=1,MAX($F$1:F2139)+1,\"\")","v":""},null,{"$f":"IF(AND(BD!B2140=REF,BD!D2140>=DEB,BD!D2140<=FIN),MAX(calc!$H$1:H2139)+1,0)","v":0}]
[null,null,null,null,null,{"$f":"IF(COUNTIF(BD!$B$2:B2141,BD!B2141)=1,MAX($F$1:F2140)+1,\"\")","v":""},null,{"$f":"IF(AND(BD!B2141=REF,BD!D2141>=DEB,BD!D2141<=FIN),MAX(calc!$H$1:H2140)+1,0)","v":0}]
[null,null,null,null,null,{"$f":"IF(COUNTIF(BD!$B$2:B2142,BD!B2142)=1,MAX($F$1:F2141)+1,\"\")","v":""},null,{"$f":"IF(AND(BD!B2142=REF,BD!D2142>=DEB,BD!D2142<=FIN),MAX(calc!$H$1:H2141)+1,0)","v":0}]
[null,null,null,null,null,{"$f":"IF(COUNTIF(BD!$B$2:B2143,BD!B2143)=1,MAX($F$1:F2142)+1,\"\")","v":""},null,{"$f":"IF(AND(BD!B2143=REF,BD!D2143>=DEB,BD!D2143<=FIN),MAX(calc!$H$1:H2142)+1,0)","v":0}]
[null,null,null,null,null,{"$f":"IF(COUNTIF(BD!$B$2:B2144,BD!B2144)=1,MAX($F$1:F2143)+1,\"\")","v":""},null,{"$f":"IF(AND(BD!B2144=REF,BD!D2144>=DEB,BD!D2144<=FIN),MAX(calc!$H$1:H2143)+1,0)","v":0}]
[null,null,null,null,null,{"$f":"IF(COUNTIF(BD!$B$2:B2145,BD!B2145)=1,MAX($F$1:F2144)+1,\"\")","v":""},null,{"$f":"IF(AND(BD!B2145=REF,BD!D2145>=DEB,BD!D2145<=FIN),MAX(calc!$H$1:H2144)+1,0)","v":0}]
[null,null,null,null,null,{"$f":"IF(COUNTIF(BD!$B$2:B2146,BD!B2146)=1,MAX($F$1:F2145)+1,\"\")","v":""},null,{"$f":"IF(AND(BD!B2146=REF,BD!D2146>=DEB,BD!D2146<=FIN),MAX(calc!$H$1:H2145)+1,0)","v":0}]
[null,null,null,null,null,{"$f":"IF(COUNTIF(BD!$B$2:B2147,BD!B2147)=1,MAX($F$1:F2146)+1,\"\")","v":""},null,{"$f":"IF(AND(BD!B2147=REF,BD!D2147>=DEB,BD!D2147<=FIN),MAX(calc!$H$1:H2146)+1,0)","v":0}]
[null,null,null,null,null,{"$f":"IF(COUNTIF(BD!$B$2:B2148,BD!B2148)=1,MAX($F$1:F2147)+1,\"\")","v":""},null,{"$f":"IF(AND(BD!B2148=REF,BD!D2148>=DEB,BD!D2148<=FIN),MAX(calc!$H$1:H2147)+1,0)","v":0}]
[null,null,null,null,null,{"$f":"IF(COUNTIF(BD!$B$2:B2149,BD!B2149)=1,MAX($F$1:F2148)+1,\"\")","v":""},null,{"$f":"IF(AND(BD!B2149=REF,BD!D2149>=DEB,BD!D2149<=FIN),MAX(calc!$H$1:H2148)+1,0)","v":0}]
[null,null,null,null,null,{"$f":"IF(COUNTIF(BD!$B$2:B2150,BD!B2150)=1,MAX($F$1:F2149)+1,\"\")","v":""},null,{"$f":"IF(AND(BD!B2150=REF,BD!D2150>=DEB,BD!D2150<=FIN),MAX(calc!$H$1:H2149)+1,0)","v":0}]
[null,null,null,null,null,{"$f":"IF(COUNTIF(BD!$B$2:B2151,BD!B2151)=1,MAX($F$1:F2150)+1,\"\")","v":""},null,{"$f":"IF(AND(BD!B2151=REF,BD!D2151>=DEB,BD!D2151<=FIN),MAX(calc!$H$1:H2150)+1,0)","v":0}]
[null,null,null,null,null,{"$f":"IF(COUNTIF(BD!$B$2:B2152,BD!B2152)=1,MAX($F$1:F2151)+1,\"\")","v":""},null,{"$f":"IF(AND(BD!B2152=REF,BD!D2152>=DEB,BD!D2152<=FIN),MAX(calc!$H$1:H2151)+1,0)","v":0}]
[null,null,null,null,null,{"$f":"IF(COUNTIF(BD!$B$2:B2153,BD!B2153)=1,MAX($F$1:F2152)+1,\"\")","v":""},null,{"$f":"IF(AND(BD!B2153=REF,BD!D2153>=DEB,BD!D2153<=FIN),MAX(calc!$H$1:H2152)+1,0)","v":0}]
[null,null,null,null,null,{"$f":"IF(COUNTIF(BD!$B$2:B2154,BD!B2154)=1,MAX($F$1:F2153)+1,\"\")","v":""},null,{"$f":"IF(AND(BD!B2154=REF,BD!D2154>=DEB,BD!D2154<=FIN),MAX(calc!$H$1:H2153)+1,0)","v":0}]
[null,null,null,null,null,{"$f":"IF(COUNTIF(BD!$B$2:B2155,BD!B2155)=1,MAX($F$1:F2154)+1,\"\")","v":""},null,{"$f":"IF(AND(BD!B2155=REF,BD!D2155>=DEB,BD!D2155<=FIN),MAX(calc!$H$1:H2154)+1,0)","v":0}]
[null,null,null,null,null,{"$f":"IF(COUNTIF(BD!$B$2:B2156,BD!B2156)=1,MAX($F$1:F2155)+1,\"\")","v":""},null,{"$f":"IF(AND(BD!B2156=REF,BD!D2156>=DEB,BD!D2156<=FIN),MAX(calc!$H$1:H2155)+1,0)","v":0}]
[null,null,null,null,null,{"$f":"IF(COUNTIF(BD!$B$2:B2157,BD!B2157)=1,MAX($F$1:F2156)+1,\"\")","v":""},null,{"$f":"IF(AND(BD!B2157=REF,BD!D2157>=DEB,BD!D2157<=FIN),MAX(calc!$H$1:H2156)+1,0)","v":0}]
[null,null,null,null,null,{"$f":"IF(COUNTIF(BD!$B$2:B2158,BD!B2158)=1,MAX($F$1:F2157)+1,\"\")","v":""},null,{"$f":"IF(AND(BD!B2158=REF,BD!D2158>=DEB,BD!D2158<=FIN),MAX(calc!$H$1:H2157)+1,0)","v":0}]
[null,null,null,null,null,{"$f":"IF(COUNTIF(BD!$B$2:B2159,BD!B2159)=1,MAX($F$1:F2158)+1,\"\")","v":""},null,{"$f":"IF(AND(BD!B2159=REF,BD!D2159>=DEB,BD!D2159<=FIN),MAX(calc!$H$1:H2158)+1,0)","v":0}]
[null,null,null,null,null,{"$f":"IF(COUNTIF(BD!$B$2:B2160,BD!B2160)=1,MAX($F$1:F2159)+1,\"\")","v":""},null,{"$f":"IF(AND(BD!B2160=REF,BD!D2160>=DEB,BD!D2160<=FIN),MAX(calc!$H$1:H2159)+1,0)","v":0}]
[null,null,null,null,null,{"$f":"IF(COUNTIF(BD!$B$2:B2161,BD!B2161)=1,MAX($F$1:F2160)+1,\"\")","v":""},null,{"$f":"IF(AND(BD!B2161=REF,BD!D2161>=DEB,BD!D2161<=FIN),MAX(calc!$H$1:H2160)+1,0)","v":0}]
[null,null,null,null,null,{"$f":"IF(COUNTIF(BD!$B$2:B2162,BD!B2162)=1,MAX($F$1:F2161)+1,\"\")","v":""},null,{"$f":"IF(AND(BD!B2162=REF,BD!D2162>=DEB,BD!D2162<=FIN),MAX(calc!$H$1:H2161)+1,0)","v":0}]
[null,null,null,null,null,{"$f":"IF(COUNTIF(BD!$B$2:B2163,BD!B2163)=1,MAX($F$1:F2162)+1,\"\")","v":""},null,{"$f":"IF(AND(BD!B2163=REF,BD!D2163>=DEB,BD!D2163<=FIN),MAX(calc!$H$1:H2162)+1,0)","v":0}]
[null,null,null,null,null,{"$f":"IF(COUNTIF(BD!$B$2:B2164,BD!B2164)=1,MAX($F$1:F2163)+1,\"\")","v":""},null,{"$f":"IF(AND(BD!B2164=REF,BD!D2164>=DEB,BD!D2164<=FIN),MAX(calc!$H$1:H2163)+1,0)","v":0}]
[null,null,null,null,null,{"$f":"IF(COUNTIF(BD!$B$2:B2165,BD!B2165)=1,MAX($F$1:F2164)+1,\"\")","v":""},null,{"$f":"IF(AND(BD!B2165=REF,BD!D2165>=DEB,BD!D2165<=FIN),MAX(calc!$H$1:H2164)+1,0)","v":0}]
[null,null,null,null,null,{"$f":"IF(COUNTIF(BD!$B$2:B2166,BD!B2166)=1,MAX($F$1:F2165)+1,\"\")","v":""},null,{"$f":"IF(AND(BD!B2166=REF,BD!D2166>=DEB,BD!D2166<=FIN),MAX(calc!$H$1:H2165)+1,0)","v":0}]
[null,null,null,null,null,{"$f":"IF(COUNTIF(BD!$B$2:B2167,BD!B2167)=1,MAX($F$1:F2166)+1,\"\")","v":""},null,{"$f":"IF(AND(BD!B2167=REF,BD!D2167>=DEB,BD!D2167<=FIN),MAX(calc!$H$1:H2166)+1,0)","v":0}]
[null,null,null,null,null,{"$f":"IF(COUNTIF(BD!$B$2:B2168,BD!B2168)=1,MAX($F$1:F2167)+1,\"\")","v":""},null,{"$f":"IF(AND(BD!B2168=REF,BD!D2168>=DEB,BD!D2168<=FIN),MAX(calc!$H$1:H2167)+1,0)","v":0}]
[null,null,null,null,null,{"$f":"IF(COUNTIF(BD!$B$2:B2169,BD!B2169)=1,MAX($F$1:F2168)+1,\"\")","v":""},null,{"$f":"IF(AND(BD!B2169=REF,BD!D2169>=DEB,BD!D2169<=FIN),MAX(calc!$H$1:H2168)+1,0)","v":0}]
[null,null,null,null,null,{"$f":"IF(COUNTIF(BD!$B$2:B2170,BD!B2170)=1,MAX($F$1:F2169)+1,\"\")","v":""},null,{"$f":"IF(AND(BD!B2170=REF,BD!D2170>=DEB,BD!D2170<=FIN),MAX(calc!$H$1:H2169)+1,0)","v":0}]
[null,null,null,null,null,{"$f":"IF(COUNTIF(BD!$B$2:B2171,BD!B2171)=1,MAX($F$1:F2170)+1,\"\")","v":""},null,{"$f":"IF(AND(BD!B2171=REF,BD!D2171>=DEB,BD!D2171<=FIN),MAX(calc!$H$1:H2170)+1,0)","v":0}]
[null,null,null,null,null,{"$f":"IF(COUNTIF(BD!$B$2:B2172,BD!B2172)=1,MAX($F$1:F2171)+1,\"\")","v":""},null,{"$f":"IF(AND(BD!B2172=REF,BD!D2172>=DEB,BD!D2172<=FIN),MAX(calc!$H$1:H2171)+1,0)","v":0}]
[null,null,null,null,null,{"$f":"IF(COUNTIF(BD!$B$2:B2173,BD!B2173)=1,MAX($F$1:F2172)+1,\"\")","v":""},null,{"$f":"IF(AND(BD!B2173=REF,BD!D2173>=DEB,BD!D2173<=FIN),MAX(calc!$H$1:H2172)+1,0)","v":0}]
[null,null,null,null,null,{"$f":"IF(COUNTIF(BD!$B$2:B2174,BD!B2174)=1,MAX($F$1:F2173)+1,\"\")","v":""},null,{"$f":"IF(AND(BD!B2174=REF,BD!D2174>=DEB,BD!D2174<=FIN),MAX(calc!$H$1:H2173)+1,0)","v":0}]
[null,null,null,null,null,{"$f":"IF(COUNTIF(BD!$B$2:B2175,BD!B2175)=1,MAX($F$1:F2174)+1,\"\")","v":""},null,{"$f":"IF(AND(BD!B2175=REF,BD!D2175>=DEB,BD!D2175<=FIN),MAX(calc!$H$1:H2174)+1,0)","v":0}]
[null,null,null,null,null,{"$f":"IF(COUNTIF(BD!$B$2:B2176,BD!B2176)=1,MAX($F$1:F2175)+1,\"\")","v":""},null,{"$f":"IF(AND(BD!B2176=REF,BD!D2176>=DEB,BD!D2176<=FIN),MAX(calc!$H$1:H2175)+1,0)","v":0}]
[null,null,null,null,null,{"$f":"IF(COUNTIF(BD!$B$2:B2177,BD!B2177)=1,MAX($F$1:F2176)+1,\"\")","v":""},null,{"$f":"IF(AND(BD!B2177=REF,BD!D2177>=DEB,BD!D2177<=FIN),MAX(calc!$H$1:H2176)+1,0)","v":0}]
[null,null,null,null,null,{"$f":"IF(COUNTIF(BD!$B$2:B2178,BD!B2178)=1,MAX($F$1:F2177)+1,\"\")","v":""},null,{"$f":"IF(AND(BD!B2178=REF,BD!D2178>=DEB,BD!D2178<=FIN),MAX(calc!$H$1:H2177)+1,0)","v":0}]
[null,null,null,null,null,{"$f":"IF(COUNTIF(BD!$B$2:B2179,BD!B2179)=1,MAX($F$1:F2178)+1,\"\")","v":""},null,{"$f":"IF(AND(BD!B2179=REF,BD!D2179>=DEB,BD!D2179<=FIN),MAX(calc!$H$1:H2178)+1,0)","v":0}]
[null,null,null,null,null,{"$f":"IF(COUNTIF(BD!$B$2:B2180,BD!B2180)=1,MAX($F$1:F2179)+1,\"\")","v":""},null,{"$f":"IF(AND(BD!B2180=REF,BD!D2180>=DEB,BD!D2180<=FIN),MAX(calc!$H$1:H2179)+1,0)","v":0}]
[null,null,null,null,null,{"$f":"IF(COUNTIF(BD!$B$2:B2181,BD!B2181)=1,MAX($F$1:F2180)+1,\"\")","v":""},null,{"$f":"IF(AND(BD!B2181=REF,BD!D2181>=DEB,BD!D2181<=FIN),MAX(calc!$H$1:H2180)+1,0)","v":0}]
[null,null,null,null,null,{"$f":"IF(COUNTIF(BD!$B$2:B2182,BD!B2182)=1,MAX($F$1:F2181)+1,\"\")","v":""},null,{"$f":"IF(AND(BD!B2182=REF,BD!D2182>=DEB,BD!D2182<=FIN),MAX(calc!$H$1:H2181)+1,0)","v":0}]
[null,null,null,null,null,{"$f":"IF(COUNTIF(BD!$B$2:B2183,BD!B2183)=1,MAX($F$1:F2182)+1,\"\")","v":""},null,{"$f":"IF(AND(BD!B2183=REF,BD!D2183>=DEB,BD!D2183<=FIN),MAX(calc!$H$1:H2182)+1,0)","v":0}]
[null,null,null,null,null,{"$f":"IF(COUNTIF(BD!$B$2:B2184,BD!B2184)=1,MAX($F$1:F2183)+1,\"\")","v":""},null,{"$f":"IF(AND(BD!B2184=REF,BD!D2184>=DEB,BD!D2184<=FIN),MAX(calc!$H$1:H2183)+1,0)","v":0}]
[null,null,null,null,null,{"$f":"IF(COUNTIF(BD!$B$2:B2185,BD!B2185)=1,MAX($F$1:F2184)+1,\"\")","v":""},null,{"$f":"IF(AND(BD!B2185=REF,BD!D2185>=DEB,BD!D2185<=FIN),MAX(calc!$H$1:H2184)+1,0)","v":0}]
[null,null,null,null,null,{"$f":"IF(COUNTIF(BD!$B$2:B2186,BD!B2186)=1,MAX($F$1:F2185)+1,\"\")","v":""},null,{"$f":"IF(AND(BD!B2186=REF,BD!D2186>=DEB,BD!D2186<=FIN),MAX(calc!$H$1:H2185)+1,0)","v":0}]
[null,null,null,null,null,{"$f":"IF(COUNTIF(BD!$B$2:B2187,BD!B2187)=1,MAX($F$1:F2186)+1,\"\")","v":""},null,{"$f":"IF(AND(BD!B2187=REF,BD!D2187>=DEB,BD!D2187<=FIN),MAX(calc!$H$1:H2186)+1,0)","v":0}]
[null,null,null,null,null,{"$f":"IF(COUNTIF(BD!$B$2:B2188,BD!B2188)=1,MAX($F$1:F2187)+1,\"\")","v":""},null,{"$f":"IF(AND(BD!B2188=REF,BD!D2188>=DEB,BD!D2188<=FIN),MAX(calc!$H$1:H2187)+1,0)","v":0}]
[null,null,null,null,null,{"$f":"IF(COUNTIF(BD!$B$2:B2189,BD!B2189)=1,MAX($F$1:F2188)+1,\"\")","v":""},null,{"$f":"IF(AND(BD!B2189=REF,BD!D2189>=DEB,BD!D2189<=FIN),MAX(calc!$H$1:H2188)+1,0)","v":0}]
[null,null,null,null,null,{"$f":"IF(COUNTIF(BD!$B$2:B2190,BD!B2190)=1,MAX($F$1:F2189)+1,\"\")","v":""},null,{"$f":"IF(AND(BD!B2190=REF,BD!D2190>=DEB,BD!D2190<=FIN),MAX(calc!$H$1:H2189)+1,0)","v":0}]
[null,null,null,null,null,{"$f":"IF(COUNTIF(BD!$B$2:B2191,BD!B2191)=1,MAX($F$1:F2190)+1,\"\")","v":""},null,{"$f":"IF(AND(BD!B2191=REF,BD!D2191>=DEB,BD!D2191<=FIN),MAX(calc!$H$1:H2190)+1,0)","v":0}]
[null,null,null,null,null,{"$f":"IF(COUNTIF(BD!$B$2:B2192,BD!B2192)=1,MAX($F$1:F2191)+1,\"\")","v":""},null,{"$f":"IF(AND(BD!B2192=REF,BD!D2192>=DEB,BD!D2192<=FIN),MAX(calc!$H$1:H2191)+1,0)","v":0}]
[null,null,null,null,null,{"$f":"IF(COUNTIF(BD!$B$2:B2193,BD!B2193)=1,MAX($F$1:F2192)+1,\"\")","v":""},null,{"$f":"IF(AND(BD!B2193=REF,BD!D2193>=DEB,BD!D2193<=FIN),MAX(calc!$H$1:H2192)+1,0)","v":0}]
[null,null,null,null,null,{"$f":"IF(COUNTIF(BD!$B$2:B2194,BD!B2194)=1,MAX($F$1:F2193)+1,\"\")","v":""},null,{"$f":"IF(AND(BD!B2194=REF,BD!D2194>=DEB,BD!D2194<=FIN),MAX(calc!$H$1:H2193)+1,0)","v":0}]
[null,null,null,null,null,{"$f":"IF(COUNTIF(BD!$B$2:B2195,BD!B2195)=1,MAX($F$1:F2194)+1,\"\")","v":""},null,{"$f":"IF(AND(BD!B2195=REF,BD!D2195>=DEB,BD!D2195<=FIN),MAX(calc!$H$1:H2194)+1,0)","v":0}]
[null,null,null,null,null,{"$f":"IF(COUNTIF(BD!$B$2:B2196,BD!B2196)=1,MAX($F$1:F2195)+1,\"\")","v":""},null,{"$f":"IF(AND(BD!B2196=REF,BD!D2196>=DEB,BD!D2196<=FIN),MAX(calc!$H$1:H2195)+1,0)","v":0}]
[null,null,null,null,null,{"$f":"IF(COUNTIF(BD!$B$2:B2197,BD!B2197)=1,MAX($F$1:F2196)+1,\"\")","v":""},null,{"$f":"IF(AND(BD!B2197=REF,BD!D2197>=DEB,BD!D2197<=FIN),MAX(calc!$H$1:H2196)+1,0)","v":0}]
[null,null,null,null,null,{"$f":"IF(COUNTIF(BD!$B$2:B2198,BD!B2198)=1,MAX($F$1:F2197)+1,\"\")","v":""},null,{"$f":"IF(AND(BD!B2198=REF,BD!D2198>=DEB,BD!D2198<=FIN),MAX(calc!$H$1:H2197)+1,0)","v":0}]
[null,null,null,null,null,{"$f":"IF(COUNTIF(BD!$B$2:B2199,BD!B2199)=1,MAX($F$1:F2198)+1,\"\")","v":""},null,{"$f":"IF(AND(BD!B2199=REF,BD!D2199>=DEB,BD!D2199<=FIN),MAX(calc!$H$1:H2198)+1,0)","v":0}]
[null,null,null,null,null,{"$f":"IF(COUNTIF(BD!$B$2:B2200,BD!B2200)=1,MAX($F$1:F2199)+1,\"\")","v":""},null,{"$f":"IF(AND(BD!B2200=REF,BD!D2200>=DEB,BD!D2200<=FIN),MAX(calc!$H$1:H2199)+1,0)","v":0}]
[null,null,null,null,null,{"$f":"IF(COUNTIF(BD!$B$2:B2201,BD!B2201)=1,MAX($F$1:F2200)+1,\"\")","v":""},null,{"$f":"IF(AND(BD!B2201=REF,BD!D2201>=DEB,BD!D2201<=FIN),MAX(calc!$H$1:H2200)+1,0)","v":0}]
[null,null,null,null,null,{"$f":"IF(COUNTIF(BD!$B$2:B2202,BD!B2202)=1,MAX($F$1:F2201)+1,\"\")","v":""},null,{"$f":"IF(AND(BD!B2202=REF,BD!D2202>=DEB,BD!D2202<=FIN),MAX(calc!$H$1:H2201)+1,0)","v":0}]
[null,null,null,null,null,{"$f":"IF(COUNTIF(BD!$B$2:B2203,BD!B2203)=1,MAX($F$1:F2202)+1,\"\")","v":""},null,{"$f":"IF(AND(BD!B2203=REF,BD!D2203>=DEB,BD!D2203<=FIN),MAX(calc!$H$1:H2202)+1,0)","v":0}]
[null,null,null,null,null,{"$f":"IF(COUNTIF(BD!$B$2:B2204,BD!B2204)=1,MAX($F$1:F2203)+1,\"\")","v":""},null,{"$f":"IF(AND(BD!B2204=REF,BD!D2204>=DEB,BD!D2204<=FIN),MAX(calc!$H$1:H2203)+1,0)","v":0}]
[null,null,null,null,null,{"$f":"IF(COUNTIF(BD!$B$2:B2205,BD!B2205)=1,MAX($F$1:F2204)+1,\"\")","v":""},null,{"$f":"IF(AND(BD!B2205=REF,BD!D2205>=DEB,BD!D2205<=FIN),MAX(calc!$H$1:H2204)+1,0)","v":0}]
[null,null,null,null,null,{"$f":"IF(COUNTIF(BD!$B$2:B2206,BD!B2206)=1,MAX($F$1:F2205)+1,\"\")","v":""},null,{"$f":"IF(AND(BD!B2206=REF,BD!D2206>=DEB,BD!D2206<=FIN),MAX(calc!$H$1:H2205)+1,0)","v":0}]
[null,null,null,null,null,{"$f":"IF(COUNTIF(BD!$B$2:B2207,BD!B2207)=1,MAX($F$1:F2206)+1,\"\")","v":""},null,{"$f":"IF(AND(BD!B2207=REF,BD!D2207>=DEB,BD!D2207<=FIN),MAX(calc!$H$1:H2206)+1,0)","v":0}]
[null,null,null,null,null,{"$f":"IF(COUNTIF(BD!$B$2:B2208,BD!B2208)=1,MAX($F$1:F2207)+1,\"\")","v":""},null,{"$f":"IF(AND(BD!B2208=REF,BD!D2208>=DEB,BD!D2208<=FIN),MAX(calc!$H$1:H2207)+1,0)","v":0}]
[null,null,null,null,null,{"$f":"IF(COUNTIF(BD!$B$2:B2209,BD!B2209)=1,MAX($F$1:F2208)+1,\"\")","v":""},null,{"$f":"IF(AND(BD!B2209=REF,BD!D2209>=DEB,BD!D2209<=FIN),MAX(calc!$H$1:H2208)+1,0)","v":0}]
[null,null,null,null,null,{"$f":"IF(COUNTIF(BD!$B$2:B2210,BD!B2210)=1,MAX($F$1:F2209)+1,\"\")","v":""},null,{"$f":"IF(AND(BD!B2210=REF,BD!D2210>=DEB,BD!D2210<=FIN),MAX(calc!$H$1:H2209)+1,0)","v":0}]
[null,null,null,null,null,{"$f":"IF(COUNTIF(BD!$B$2:B2211,BD!B2211)=1,MAX($F$1:F2210)+1,\"\")","v":""},null,{"$f":"IF(AND(BD!B2211=REF,BD!D2211>=DEB,BD!D2211<=FIN),MAX(calc!$H$1:H2210)+1,0)","v":0}]
[null,null,null,null,null,{"$f":"IF(COUNTIF(BD!$B$2:B2212,BD!B2212)=1,MAX($F$1:F2211)+1,\"\")","v":""},null,{"$f":"IF(AND(BD!B2212=REF,BD!D2212>=DEB,BD!D2212<=FIN),MAX(calc!$H$1:H2211)+1,0)","v":0}]
[null,null,null,null,null,{"$f":"IF(COUNTIF(BD!$B$2:B2213,BD!B2213)=1,MAX($F$1:F2212)+1,\"\")","v":""},null,{"$f":"IF(AND(BD!B2213=REF,BD!D2213>=DEB,BD!D2213<=FIN),MAX(calc!$H$1:H2212)+1,0)","v":0}]
[null,null,null,null,null,{"$f":"IF(COUNTIF(BD!$B$2:B2214,BD!B2214)=1,MAX($F$1:F2213)+1,\"\")","v":""},null,{"$f":"IF(AND(BD!B2214=REF,BD!D2214>=DEB,BD!D2214<=FIN),MAX(calc!$H$1:H2213)+1,0)","v":0}]
[null,null,null,null,null,{"$f":"IF(COUNTIF(BD!$B$2:B2215,BD!B2215)=1,MAX($F$1:F2214)+1,\"\")","v":""},null,{"$f":"IF(AND(BD!B2215=REF,BD!D2215>=DEB,BD!D2215<=FIN),MAX(calc!$H$1:H2214)+1,0)","v":0}]
[null,null,null,null,null,{"$f":"IF(COUNTIF(BD!$B$2:B2216,BD!B2216)=1,MAX($F$1:F2215)+1,\"\")","v":""},null,{"$f":"IF(AND(BD!B2216=REF,BD!D2216>=DEB,BD!D2216<=FIN),MAX(calc!$H$1:H2215)+1,0)","v":0}]
[null,null,null,null,null,{"$f":"IF(COUNTIF(BD!$B$2:B2217,BD!B2217)=1,MAX($F$1:F2216)+1,\"\")","v":""},null,{"$f":"IF(AND(BD!B2217=REF,BD!D2217>=DEB,BD!D2217<=FIN),MAX(calc!$H$1:H2216)+1,0)","v":0}]
[null,null,null,null,null,{"$f":"IF(COUNTIF(BD!$B$2:B2218,BD!B2218)=1,MAX($F$1:F2217)+1,\"\")","v":""},null,{"$f":"IF(AND(BD!B2218=REF,BD!D2218>=DEB,BD!D2218<=FIN),MAX(calc!$H$1:H2217)+1,0)","v":0}]
[null,null,null,null,null,{"$f":"IF(COUNTIF(BD!$B$2:B2219,BD!B2219)=1,MAX($F$1:F2218)+1,\"\")","v":""},null,{"$f":"IF(AND(BD!B2219=REF,BD!D2219>=DEB,BD!D2219<=FIN),MAX(calc!$H$1:H2218)+1,0)","v":0}]
[null,null,null,null,null,{"$f":"IF(COUNTIF(BD!$B$2:B2220,BD!B2220)=1,MAX($F$1:F2219)+1,\"\")","v":""},null,{"$f":"IF(AND(BD!B2220=REF,BD!D2220>=DEB,BD!D2220<=FIN),MAX(calc!$H$1:H2219)+1,0)","v":0}]
[null,null,null,null,null,{"$f":"IF(COUNTIF(BD!$B$2:B2221,BD!B2221)=1,MAX($F$1:F2220)+1,\"\")","v":""},null,{"$f":"IF(AND(BD!B2221=REF,BD!D2221>=DEB,BD!D2221<=FIN),MAX(calc!$H$1:H2220)+1,0)","v":0}]
[null,null,null,null,null,{"$f":"IF(COUNTIF(BD!$B$2:B2222,BD!B2222)=1,MAX($F$1:F2221)+1,\"\")","v":""},null,{"$f":"IF(AND(BD!B2222=REF,BD!D2222>=DEB,BD!D2222<=FIN),MAX(calc!$H$1:H2221)+1,0)","v":0}]
[null,null,null,null,null,{"$f":"IF(COUNTIF(BD!$B$2:B2223,BD!B2223)=1,MAX($F$1:F2222)+1,\"\")","v":""},null,{"$f":"IF(AND(BD!B2223=REF,BD!D2223>=DEB,BD!D2223<=FIN),MAX(calc!$H$1:H2222)+1,0)","v":0}]
[null,null,null,null,null,{"$f":"IF(COUNTIF(BD!$B$2:B2224,BD!B2224)=1,MAX($F$1:F2223)+1,\"\")","v":""},null,{"$f":"IF(AND(BD!B2224=REF,BD!D2224>=DEB,BD!D2224<=FIN),MAX(calc!$H$1:H2223)+1,0)","v":0}]
[null,null,null,null,null,{"$f":"IF(COUNTIF(BD!$B$2:B2225,BD!B2225)=1,MAX($F$1:F2224)+1,\"\")","v":""},null,{"$f":"IF(AND(BD!B2225=REF,BD!D2225>=DEB,BD!D2225<=FIN),MAX(calc!$H$1:H2224)+1,0)","v":0}]
[null,null,null,null,null,{"$f":"IF(COUNTIF(BD!$B$2:B2226,BD!B2226)=1,MAX($F$1:F2225)+1,\"\")","v":""},null,{"$f":"IF(AND(BD!B2226=REF,BD!D2226>=DEB,BD!D2226<=FIN),MAX(calc!$H$1:H2225)+1,0)","v":0}]
[null,null,null,null,null,{"$f":"IF(COUNTIF(BD!$B$2:B2227,BD!B2227)=1,MAX($F$1:F2226)+1,\"\")","v":""},null,{"$f":"IF(AND(BD!B2227=REF,BD!D2227>=DEB,BD!D2227<=FIN),MAX(calc!$H$1:H2226)+1,0)","v":0}]
[null,null,null,null,null,{"$f":"IF(COUNTIF(BD!$B$2:B2228,BD!B2228)=1,MAX($F$1:F2227)+1,\"\")","v":""},null,{"$f":"IF(AND(BD!B2228=REF,BD!D2228>=DEB,BD!D2228<=FIN),MAX(calc!$H$1:H2227)+1,0)","v":0}]
[null,null,null,null,null,{"$f":"IF(COUNTIF(BD!$B$2:B2229,BD!B2229)=1,MAX($F$1:F2228)+1,\"\")","v":""},null,{"$f":"IF(AND(BD!B2229=REF,BD!D2229>=DEB,BD!D2229<=FIN),MAX(calc!$H$1:H2228)+1,0)","v":0}]
[null,null,null,null,null,{"$f":"IF(COUNTIF(BD!$B$2:B2230,BD!B2230)=1,MAX($F$1:F2229)+1,\"\")","v":""},null,{"$f":"IF(AND(BD!B2230=REF,BD!D2230>=DEB,BD!D2230<=FIN),MAX(calc!$H$1:H2229)+1,0)","v":0}]
[null,null,null,null,null,{"$f":"IF(COUNTIF(BD!$B$2:B2231,BD!B2231)=1,MAX($F$1:F2230)+1,\"\")","v":""},null,{"$f":"IF(AND(BD!B2231=REF,BD!D2231>=DEB,BD!D2231<=FIN),MAX(calc!$H$1:H2230)+1,0)","v":0}]
[null,null,null,null,null,{"$f":"IF(COUNTIF(BD!$B$2:B2232,BD!B2232)=1,MAX($F$1:F2231)+1,\"\")","v":""},null,{"$f":"IF(AND(BD!B2232=REF,BD!D2232>=DEB,BD!D2232<=FIN),MAX(calc!$H$1:H2231)+1,0)","v":0}]
[null,null,null,null,null,{"$f":"IF(COUNTIF(BD!$B$2:B2233,BD!B2233)=1,MAX($F$1:F2232)+1,\"\")","v":""},null,{"$f":"IF(AND(BD!B2233=REF,BD!D2233>=DEB,BD!D2233<=FIN),MAX(calc!$H$1:H2232)+1,0)","v":0}]
[null,null,null,null,null,{"$f":"IF(COUNTIF(BD!$B$2:B2234,BD!B2234)=1,MAX($F$1:F2233)+1,\"\")","v":""},null,{"$f":"IF(AND(BD!B2234=REF,BD!D2234>=DEB,BD!D2234<=FIN),MAX(calc!$H$1:H2233)+1,0)","v":0}]
[null,null,null,null,null,{"$f":"IF(COUNTIF(BD!$B$2:B2235,BD!B2235)=1,MAX($F$1:F2234)+1,\"\")","v":""},null,{"$f":"IF(AND(BD!B2235=REF,BD!D2235>=DEB,BD!D2235<=FIN),MAX(calc!$H$1:H2234)+1,0)","v":0}]
[null,null,null,null,null,{"$f":"IF(COUNTIF(BD!$B$2:B2236,BD!B2236)=1,MAX($F$1:F2235)+1,\"\")","v":""},null,{"$f":"IF(AND(BD!B2236=REF,BD!D2236>=DEB,BD!D2236<=FIN),MAX(calc!$H$1:H2235)+1,0)","v":0}]
[null,null,null,null,null,{"$f":"IF(COUNTIF(BD!$B$2:B2237,BD!B2237)=1,MAX($F$1:F2236)+1,\"\")","v":""},null,{"$f":"IF(AND(BD!B2237=REF,BD!D2237>=DEB,BD!D2237<=FIN),MAX(calc!$H$1:H2236)+1,0)","v":0}]
[null,null,null,null,null,{"$f":"IF(COUNTIF(BD!$B$2:B2238,BD!B2238)=1,MAX($F$1:F2237)+1,\"\")","v":""},null,{"$f":"IF(AND(BD!B2238=REF,BD!D2238>=DEB,BD!D2238<=FIN),MAX(calc!$H$1:H2237)+1,0)","v":0}]
[null,null,null,null,null,{"$f":"IF(COUNTIF(BD!$B$2:B2239,BD!B2239)=1,MAX($F$1:F2238)+1,\"\")","v":""},null,{"$f":"IF(AND(BD!B2239=REF,BD!D2239>=DEB,BD!D2239<=FIN),MAX(calc!$H$1:H2238)+1,0)","v":0}]
[null,null,null,null,null,{"$f":"IF(COUNTIF(BD!$B$2:B2240,BD!B2240)=1,MAX($F$1:F2239)+1,\"\")","v":""},null,{"$f":"IF(AND(BD!B2240=REF,BD!D2240>=DEB,BD!D2240<=FIN),MAX(calc!$H$1:H2239)+1,0)","v":0}]
[null,null,null,null,null,{"$f":"IF(COUNTIF(BD!$B$2:B2241,BD!B2241)=1,MAX($F$1:F2240)+1,\"\")","v":""},null,{"$f":"IF(AND(BD!B2241=REF,BD!D2241>=DEB,BD!D2241<=FIN),MAX(calc!$H$1:H2240)+1,0)","v":0}]
[null,null,null,null,null,{"$f":"IF(COUNTIF(BD!$B$2:B2242,BD!B2242)=1,MAX($F$1:F2241)+1,\"\")","v":""},null,{"$f":"IF(AND(BD!B2242=REF,BD!D2242>=DEB,BD!D2242<=FIN),MAX(calc!$H$1:H2241)+1,0)","v":0}]
[null,null,null,null,null,{"$f":"IF(COUNTIF(BD!$B$2:B2243,BD!B2243)=1,MAX($F$1:F2242)+1,\"\")","v":""},null,{"$f":"IF(AND(BD!B2243=REF,BD!D2243>=DEB,BD!D2243<=FIN),MAX(calc!$H$1:H2242)+1,0)","v":0}]
[null,null,null,null,null,{"$f":"IF(COUNTIF(BD!$B$2:B2244,BD!B2244)=1,MAX($F$1:F2243)+1,\"\")","v":""},null,{"$f":"IF(AND(BD!B2244=REF,BD!D2244>=DEB,BD!D2244<=FIN),MAX(calc!$H$1:H2243)+1,0)","v":0}]
[null,null,null,null,null,{"$f":"IF(COUNTIF(BD!$B$2:B2245,BD!B2245)=1,MAX($F$1:F2244)+1,\"\")","v":""},null,{"$f":"IF(AND(BD!B2245=REF,BD!D2245>=DEB,BD!D2245<=FIN),MAX(calc!$H$1:H2244)+1,0)","v":0}]
[null,null,null,null,null,{"$f":"IF(COUNTIF(BD!$B$2:B2246,BD!B2246)=1,MAX($F$1:F2245)+1,\"\")","v":""},null,{"$f":"IF(AND(BD!B2246=REF,BD!D2246>=DEB,BD!D2246<=FIN),MAX(calc!$H$1:H2245)+1,0)","v":0}]
[null,null,null,null,null,{"$f":"IF(COUNTIF(BD!$B$2:B2247,BD!B2247)=1,MAX($F$1:F2246)+1,\"\")","v":""},null,{"$f":"IF(AND(BD!B2247=REF,BD!D2247>=DEB,BD!D2247<=FIN),MAX(calc!$H$1:H2246)+1,0)","v":0}]
[null,null,null,null,null,{"$f":"IF(COUNTIF(BD!$B$2:B2248,BD!B2248)=1,MAX($F$1:F2247)+1,\"\")","v":""},null,{"$f":"IF(AND(BD!B2248=REF,BD!D2248>=DEB,BD!D2248<=FIN),MAX(calc!$H$1:H2247)+1,0)","v":0}]
[null,null,null,null,null,{"$f":"IF(COUNTIF(BD!$B$2:B2249,BD!B2249)=1,MAX($F$1:F2248)+1,\"\")","v":""},null,{"$f":"IF(AND(BD!B2249=REF,BD!D2249>=DEB,BD!D2249<=FIN),MAX(calc!$H$1:H2248)+1,0)","v":0}]
[null,null,null,null,null,{"$f":"IF(COUNTIF(BD!$B$2:B2250,BD!B2250)=1,MAX($F$1:F2249)+1,\"\")","v":""},null,{"$f":"IF(AND(BD!B2250=REF,BD!D2250>=DEB,BD!D2250<=FIN),MAX(calc!$H$1:H2249)+1,0)","v":0}]
[null,null,null,null,null,{"$f":"IF(COUNTIF(BD!$B$2:B2251,BD!B2251)=1,MAX($F$1:F2250)+1,\"\")","v":""},null,{"$f":"IF(AND(BD!B2251=REF,BD!D2251>=DEB,BD!D2251<=FIN),MAX(calc!$H$1:H2250)+1,0)","v":0}]
[null,null,null,null,null,{"$f":"IF(COUNTIF(BD!$B$2:B2252,BD!B2252)=1,MAX($F$1:F2251)+1,\"\")","v":""},null,{"$f":"IF(AND(BD!B2252=REF,BD!D2252>=DEB,BD!D2252<=FIN),MAX(calc!$H$1:H2251)+1,0)","v":0}]
[null,null,null,null,null,{"$f":"IF(COUNTIF(BD!$B$2:B2253,BD!B2253)=1,MAX($F$1:F2252)+1,\"\")","v":""},null,{"$f":"IF(AND(BD!B2253=REF,BD!D2253>=DEB,BD!D2253<=FIN),MAX(calc!$H$1:H2252)+1,0)","v":0}]
[null,null,null,null,null,{"$f":"IF(COUNTIF(BD!$B$2:B2254,BD!B2254)=1,MAX($F$1:F2253)+1,\"\")","v":""},null,{"$f":"IF(AND(BD!B2254=REF,BD!D2254>=DEB,BD!D2254<=FIN),MAX(calc!$H$1:H2253)+1,0)","v":0}]
[null,null,null,null,null,{"$f":"IF(COUNTIF(BD!$B$2:B2255,BD!B2255)=1,MAX($F$1:F2254)+1,\"\")","v":""},null,{"$f":"IF(AND(BD!B2255=REF,BD!D2255>=DEB,BD!D2255<=FIN),MAX(calc!$H$1:H2254)+1,0)","v":0}]
[null,null,null,null,null,{"$f":"IF(COUNTIF(BD!$B$2:B2256,BD!B2256)=1,MAX($F$1:F2255)+1,\"\")","v":""},null,{"$f":"IF(AND(BD!B2256=REF,BD!D2256>=DEB,BD!D2256<=FIN),MAX(calc!$H$1:H2255)+1,0)","v":0}]
[null,null,null,null,null,{"$f":"IF(COUNTIF(BD!$B$2:B2257,BD!B2257)=1,MAX($F$1:F2256)+1,\"\")","v":""},null,{"$f":"IF(AND(BD!B2257=REF,BD!D2257>=DEB,BD!D2257<=FIN),MAX(calc!$H$1:H2256)+1,0)","v":0}]
[null,null,null,null,null,{"$f":"IF(COUNTIF(BD!$B$2:B2258,BD!B2258)=1,MAX($F$1:F2257)+1,\"\")","v":""},null,{"$f":"IF(AND(BD!B2258=REF,BD!D2258>=DEB,BD!D2258<=FIN),MAX(calc!$H$1:H2257)+1,0)","v":0}]
[null,null,null,null,null,{"$f":"IF(COUNTIF(BD!$B$2:B2259,BD!B2259)=1,MAX($F$1:F2258)+1,\"\")","v":""},null,{"$f":"IF(AND(BD!B2259=REF,BD!D2259>=DEB,BD!D2259<=FIN),MAX(calc!$H$1:H2258)+1,0)","v":0}]
[null,null,null,null,null,{"$f":"IF(COUNTIF(BD!$B$2:B2260,BD!B2260)=1,MAX($F$1:F2259)+1,\"\")","v":""},null,{"$f":"IF(AND(BD!B2260=REF,BD!D2260>=DEB,BD!D2260<=FIN),MAX(calc!$H$1:H2259)+1,0)","v":0}]
[null,null,null,null,null,{"$f":"IF(COUNTIF(BD!$B$2:B2261,BD!B2261)=1,MAX($F$1:F2260)+1,\"\")","v":""},null,{"$f":"IF(AND(BD!B2261=REF,BD!D2261>=DEB,BD!D2261<=FIN),MAX(calc!$H$1:H2260)+1,0)","v":0}]
[null,null,null,null,null,{"$f":"IF(COUNTIF(BD!$B$2:B2262,BD!B2262)=1,MAX($F$1:F2261)+1,\"\")","v":""},null,{"$f":"IF(AND(BD!B2262=REF,BD!D2262>=DEB,BD!D2262<=FIN),MAX(calc!$H$1:H2261)+1,0)","v":0}]
[null,null,null,null,null,{"$f":"IF(COUNTIF(BD!$B$2:B2263,BD!B2263)=1,MAX($F$1:F2262)+1,\"\")","v":""},null,{"$f":"IF(AND(BD!B2263=REF,BD!D2263>=DEB,BD!D2263<=FIN),MAX(calc!$H$1:H2262)+1,0)","v":0}]
[null,null,null,null,null,{"$f":"IF(COUNTIF(BD!$B$2:B2264,BD!B2264)=1,MAX($F$1:F2263)+1,\"\")","v":""},null,{"$f":"IF(AND(BD!B2264=REF,BD!D2264>=DEB,BD!D2264<=FIN),MAX(calc!$H$1:H2263)+1,0)","v":0}]
[null,null,null,null,null,{"$f":"IF(COUNTIF(BD!$B$2:B2265,BD!B2265)=1,MAX($F$1:F2264)+1,\"\")","v":""},null,{"$f":"IF(AND(BD!B2265=REF,BD!D2265>=DEB,BD!D2265<=FIN),MAX(calc!$H$1:H2264)+1,0)","v":0}]
[null,null,null,null,null,{"$f":"IF(COUNTIF(BD!$B$2:B2266,BD!B2266)=1,MAX($F$1:F2265)+1,\"\")","v":""},null,{"$f":"IF(AND(BD!B2266=REF,BD!D2266>=DEB,BD!D2266<=FIN),MAX(calc!$H$1:H2265)+1,0)","v":0}]
[null,null,null,null,null,{"$f":"IF(COUNTIF(BD!$B$2:B2267,BD!B2267)=1,MAX($F$1:F2266)+1,\"\")","v":""},null,{"$f":"IF(AND(BD!B2267=REF,BD!D2267>=DEB,BD!D2267<=FIN),MAX(calc!$H$1:H2266)+1,0)","v":0}]
[null,null,null,null,null,{"$f":"IF(COUNTIF(BD!$B$2:B2268,BD!B2268)=1,MAX($F$1:F2267)+1,\"\")","v":""},null,{"$f":"IF(AND(BD!B2268=REF,BD!D2268>=DEB,BD!D2268<=FIN),MAX(calc!$H$1:H2267)+1,0)","v":0}]
[null,null,null,null,null,{"$f":"IF(COUNTIF(BD!$B$2:B2269,BD!B2269)=1,MAX($F$1:F2268)+1,\"\")","v":""},null,{"$f":"IF(AND(BD!B2269=REF,BD!D2269>=DEB,BD!D2269<=FIN),MAX(calc!$H$1:H2268)+1,0)","v":0}]
[null,null,null,null,null,{"$f":"IF(COUNTIF(BD!$B$2:B2270,BD!B2270)=1,MAX($F$1:F2269)+1,\"\")","v":""},null,{"$f":"IF(AND(BD!B2270=REF,BD!D2270>=DEB,BD!D2270<=FIN),MAX(calc!$H$1:H2269)+1,0)","v":0}]
[null,null,null,null,null,{"$f":"IF(COUNTIF(BD!$B$2:B2271,BD!B2271)=1,MAX($F$1:F2270)+1,\"\")","v":""},null,{"$f":"IF(AND(BD!B2271=REF,BD!D2271>=DEB,BD!D2271<=FIN),MAX(calc!$H$1:H2270)+1,0)","v":0}]
[null,null,null,null,null,{"$f":"IF(COUNTIF(BD!$B$2:B2272,BD!B2272)=1,MAX($F$1:F2271)+1,\"\")","v":""},null,{"$f":"IF(AND(BD!B2272=REF,BD!D2272>=DEB,BD!D2272<=FIN),MAX(calc!$H$1:H2271)+1,0)","v":0}]
[null,null,null,null,null,{"$f":"IF(COUNTIF(BD!$B$2:B2273,BD!B2273)=1,MAX($F$1:F2272)+1,\"\")","v":""},null,{"$f":"IF(AND(BD!B2273=REF,BD!D2273>=DEB,BD!D2273<=FIN),MAX(calc!$H$1:H2272)+1,0)","v":0}]
[null,null,null,null,null,{"$f":"IF(COUNTIF(BD!$B$2:B2274,BD!B2274)=1,MAX($F$1:F2273)+1,\"\")","v":""},null,{"$f":"IF(AND(BD!B2274=REF,BD!D2274>=DEB,BD!D2274<=FIN),MAX(calc!$H$1:H2273)+1,0)","v":0}]
[null,null,null,null,null,{"$f":"IF(COUNTIF(BD!$B$2:B2275,BD!B2275)=1,MAX($F$1:F2274)+1,\"\")","v":""},null,{"$f":"IF(AND(BD!B2275=REF,BD!D2275>=DEB,BD!D2275<=FIN),MAX(calc!$H$1:H2274)+1,0)","v":0}]
[null,null,null,null,null,{"$f":"IF(COUNTIF(BD!$B$2:B2276,BD!B2276)=1,MAX($F$1:F2275)+1,\"\")","v":""},null,{"$f":"IF(AND(BD!B2276=REF,BD!D2276>=DEB,BD!D2276<=FIN),MAX(calc!$H$1:H2275)+1,0)","v":0}]
[null,null,null,null,null,{"$f":"IF(COUNTIF(BD!$B$2:B2277,BD!B2277)=1,MAX($F$1:F2276)+1,\"\")","v":""},null,{"$f":"IF(AND(BD!B2277=REF,BD!D2277>=DEB,BD!D2277<=FIN),MAX(calc!$H$1:H2276)+1,0)","v":0}]
[null,null,null,null,null,{"$f":"IF(COUNTIF(BD!$B$2:B2278,BD!B2278)=1,MAX($F$1:F2277)+1,\"\")","v":""},null,{"$f":"IF(AND(BD!B2278=REF,BD!D2278>=DEB,BD!D2278<=FIN),MAX(calc!$H$1:H2277)+1,0)","v":0}]
[null,null,null,null,null,{"$f":"IF(COUNTIF(BD!$B$2:B2279,BD!B2279)=1,MAX($F$1:F2278)+1,\"\")","v":""},null,{"$f":"IF(AND(BD!B2279=REF,BD!D2279>=DEB,BD!D2279<=FIN),MAX(calc!$H$1:H2278)+1,0)","v":0}]
[null,null,null,null,null,{"$f":"IF(COUNTIF(BD!$B$2:B2280,BD!B2280)=1,MAX($F$1:F2279)+1,\"\")","v":""},null,{"$f":"IF(AND(BD!B2280=REF,BD!D2280>=DEB,BD!D2280<=FIN),MAX(calc!$H$1:H2279)+1,0)","v":0}]
[null,null,null,null,null,{"$f":"IF(COUNTIF(BD!$B$2:B2281,BD!B2281)=1,MAX($F$1:F2280)+1,\"\")","v":""},null,{"$f":"IF(AND(BD!B2281=REF,BD!D2281>=DEB,BD!D2281<=FIN),MAX(calc!$H$1:H2280)+1,0)","v":0}]
[null,null,null,null,null,{"$f":"IF(COUNTIF(BD!$B$2:B2282,BD!B2282)=1,MAX($F$1:F2281)+1,\"\")","v":""},null,{"$f":"IF(AND(BD!B2282=REF,BD!D2282>=DEB,BD!D2282<=FIN),MAX(calc!$H$1:H2281)+1,0)","v":0}]
[null,null,null,null,null,{"$f":"IF(COUNTIF(BD!$B$2:B2283,BD!B2283)=1,MAX($F$1:F2282)+1,\"\")","v":""},null,{"$f":"IF(AND(BD!B2283=REF,BD!D2283>=DEB,BD!D2283<=FIN),MAX(calc!$H$1:H2282)+1,0)","v":0}]
[null,null,null,null,null,{"$f":"IF(COUNTIF(BD!$B$2:B2284,BD!B2284)=1,MAX($F$1:F2283)+1,\"\")","v":""},null,{"$f":"IF(AND(BD!B2284=REF,BD!D2284>=DEB,BD!D2284<=FIN),MAX(calc!$H$1:H2283)+1,0)","v":0}]
[null,null,null,null,null,{"$f":"IF(COUNTIF(BD!$B$2:B2285,BD!B2285)=1,MAX($F$1:F2284)+1,\"\")","v":""},null,{"$f":"IF(AND(BD!B2285=REF,BD!D2285>=DEB,BD!D2285<=FIN),MAX(calc!$H$1:H2284)+1,0)","v":0}]
[null,null,null,null,null,{"$f":"IF(COUNTIF(BD!$B$2:B2286,BD!B2286)=1,MAX($F$1:F2285)+1,\"\")","v":""},null,{"$f":"IF(AND(BD!B2286=REF,BD!D2286>=DEB,BD!D2286<=FIN),MAX(calc!$H$1:H2285)+1,0)","v":0}]
[null,null,null,null,null,{"$f":"IF(COUNTIF(BD!$B$2:B2287,BD!B2287)=1,MAX($F$1:F2286)+1,\"\")","v":""},null,{"$f":"IF(AND(BD!B2287=REF,BD!D2287>=DEB,BD!D2287<=FIN),MAX(calc!$H$1:H2286)+1,0)","v":0}]
[null,null,null,null,null,{"$f":"IF(COUNTIF(BD!$B$2:B2288,BD!B2288)=1,MAX($F$1:F2287)+1,\"\")","v":""},null,{"$f":"IF(AND(BD!B2288=REF,BD!D2288>=DEB,BD!D2288<=FIN),MAX(calc!$H$1:H2287)+1,0)","v":0}]
[null,null,null,null,null,{"$f":"IF(COUNTIF(BD!$B$2:B2289,BD!B2289)=1,MAX($F$1:F2288)+1,\"\")","v":""},null,{"$f":"IF(AND(BD!B2289=REF,BD!D2289>=DEB,BD!D2289<=FIN),MAX(calc!$H$1:H2288)+1,0)","v":0}]
[null,null,null,null,null,{"$f":"IF(COUNTIF(BD!$B$2:B2290,BD!B2290)=1,MAX($F$1:F2289)+1,\"\")","v":""},null,{"$f":"IF(AND(BD!B2290=REF,BD!D2290>=DEB,BD!D2290<=FIN),MAX(calc!$H$1:H2289)+1,0)","v":0}]
[null,null,null,null,null,{"$f":"IF(COUNTIF(BD!$B$2:B2291,BD!B2291)=1,MAX($F$1:F2290)+1,\"\")","v":""},null,{"$f":"IF(AND(BD!B2291=REF,BD!D2291>=DEB,BD!D2291<=FIN),MAX(calc!$H$1:H2290)+1,0)","v":0}]
[null,null,null,null,null,{"$f":"IF(COUNTIF(BD!$B$2:B2292,BD!B2292)=1,MAX($F$1:F2291)+1,\"\")","v":""},null,{"$f":"IF(AND(BD!B2292=REF,BD!D2292>=DEB,BD!D2292<=FIN),MAX(calc!$H$1:H2291)+1,0)","v":0}]
[null,null,null,null,null,{"$f":"IF(COUNTIF(BD!$B$2:B2293,BD!B2293)=1,MAX($F$1:F2292)+1,\"\")","v":""},null,{"$f":"IF(AND(BD!B2293=REF,BD!D2293>=DEB,BD!D2293<=FIN),MAX(calc!$H$1:H2292)+1,0)","v":0}]
[null,null,null,null,null,{"$f":"IF(COUNTIF(BD!$B$2:B2294,BD!B2294)=1,MAX($F$1:F2293)+1,\"\")","v":""},null,{"$f":"IF(AND(BD!B2294=REF,BD!D2294>=DEB,BD!D2294<=FIN),MAX(calc!$H$1:H2293)+1,0)","v":0}]
[null,null,null,null,null,{"$f":"IF(COUNTIF(BD!$B$2:B2295,BD!B2295)=1,MAX($F$1:F2294)+1,\"\")","v":""},null,{"$f":"IF(AND(BD!B2295=REF,BD!D2295>=DEB,BD!D2295<=FIN),MAX(calc!$H$1:H2294)+1,0)","v":0}]
[null,null,null,null,null,{"$f":"IF(COUNTIF(BD!$B$2:B2296,BD!B2296)=1,MAX($F$1:F2295)+1,\"\")","v":""},null,{"$f":"IF(AND(BD!B2296=REF,BD!D2296>=DEB,BD!D2296<=FIN),MAX(calc!$H$1:H2295)+1,0)","v":0}]
[null,null,null,null,null,{"$f":"IF(COUNTIF(BD!$B$2:B2297,BD!B2297)=1,MAX($F$1:F2296)+1,\"\")","v":""},null,{"$f":"IF(AND(BD!B2297=REF,BD!D2297>=DEB,BD!D2297<=FIN),MAX(calc!$H$1:H2296)+1,0)","v":0}]
[null,null,null,null,null,{"$f":"IF(COUNTIF(BD!$B$2:B2298,BD!B2298)=1,MAX($F$1:F2297)+1,\"\")","v":""},null,{"$f":"IF(AND(BD!B2298=REF,BD!D2298>=DEB,BD!D2298<=FIN),MAX(calc!$H$1:H2297)+1,0)","v":0}]
[null,null,null,null,null,{"$f":"IF(COUNTIF(BD!$B$2:B2299,BD!B2299)=1,MAX($F$1:F2298)+1,\"\")","v":""},null,{"$f":"IF(AND(BD!B2299=REF,BD!D2299>=DEB,BD!D2299<=FIN),MAX(calc!$H$1:H2298)+1,0)","v":0}]
[null,null,null,null,null,{"$f":"IF(COUNTIF(BD!$B$2:B2300,BD!B2300)=1,MAX($F$1:F2299)+1,\"\")","v":""},null,{"$f":"IF(AND(BD!B2300=REF,BD!D2300>=DEB,BD!D2300<=FIN),MAX(calc!$H$1:H2299)+1,0)","v":0}]
[null,null,null,null,null,{"$f":"IF(COUNTIF(BD!$B$2:B2301,BD!B2301)=1,MAX($F$1:F2300)+1,\"\")","v":""},null,{"$f":"IF(AND(BD!B2301=REF,BD!D2301>=DEB,BD!D2301<=FIN),MAX(calc!$H$1:H2300)+1,0)","v":0}]
[null,null,null,null,null,{"$f":"IF(COUNTIF(BD!$B$2:B2302,BD!B2302)=1,MAX($F$1:F2301)+1,\"\")","v":""},null,{"$f":"IF(AND(BD!B2302=REF,BD!D2302>=DEB,BD!D2302<=FIN),MAX(calc!$H$1:H2301)+1,0)","v":0}]
[null,null,null,null,null,{"$f":"IF(COUNTIF(BD!$B$2:B2303,BD!B2303)=1,MAX($F$1:F2302)+1,\"\")","v":""},null,{"$f":"IF(AND(BD!B2303=REF,BD!D2303>=DEB,BD!D2303<=FIN),MAX(calc!$H$1:H2302)+1,0)","v":0}]
[null,null,null,null,null,{"$f":"IF(COUNTIF(BD!$B$2:B2304,BD!B2304)=1,MAX($F$1:F2303)+1,\"\")","v":""},null,{"$f":"IF(AND(BD!B2304=REF,BD!D2304>=DEB,BD!D2304<=FIN),MAX(calc!$H$1:H2303)+1,0)","v":0}]
[null,null,null,null,null,{"$f":"IF(COUNTIF(BD!$B$2:B2305,BD!B2305)=1,MAX($F$1:F2304)+1,\"\")","v":""},null,{"$f":"IF(AND(BD!B2305=REF,BD!D2305>=DEB,BD!D2305<=FIN),MAX(calc!$H$1:H2304)+1,0)","v":0}]
[null,null,null,null,null,{"$f":"IF(COUNTIF(BD!$B$2:B2306,BD!B2306)=1,MAX($F$1:F2305)+1,\"\")","v":""},null,{"$f":"IF(AND(BD!B2306=REF,BD!D2306>=DEB,BD!D2306<=FIN),MAX(calc!$H$1:H2305)+1,0)","v":0}]
[null,null,null,null,null,{"$f":"IF(COUNTIF(BD!$B$2:B2307,BD!B2307)=1,MAX($F$1:F2306)+1,\"\")","v":""},null,{"$f":"IF(AND(BD!B2307=REF,BD!D2307>=DEB,BD!D2307<=FIN),MAX(calc!$H$1:H2306)+1,0)","v":0}]
[null,null,null,null,null,{"$f":"IF(COUNTIF(BD!$B$2:B2308,BD!B2308)=1,MAX($F$1:F2307)+1,\"\")","v":""},null,{"$f":"IF(AND(BD!B2308=REF,BD!D2308>=DEB,BD!D2308<=FIN),MAX(calc!$H$1:H2307)+1,0)","v":0}]
[null,null,null,null,null,{"$f":"IF(COUNTIF(BD!$B$2:B2309,BD!B2309)=1,MAX($F$1:F2308)+1,\"\")","v":""},null,{"$f":"IF(AND(BD!B2309=REF,BD!D2309>=DEB,BD!D2309<=FIN),MAX(calc!$H$1:H2308)+1,0)","v":0}]
[null,null,null,null,null,{"$f":"IF(COUNTIF(BD!$B$2:B2310,BD!B2310)=1,MAX($F$1:F2309)+1,\"\")","v":""},null,{"$f":"IF(AND(BD!B2310=REF,BD!D2310>=DEB,BD!D2310<=FIN),MAX(calc!$H$1:H2309)+1,0)","v":0}]
[null,null,null,null,null,{"$f":"IF(COUNTIF(BD!$B$2:B2311,BD!B2311)=1,MAX($F$1:F2310)+1,\"\")","v":""},null,{"$f":"IF(AND(BD!B2311=REF,BD!D2311>=DEB,BD!D2311<=FIN),MAX(calc!$H$1:H2310)+1,0)","v":0}]
[null,null,null,null,null,{"$f":"IF(COUNTIF(BD!$B$2:B2312,BD!B2312)=1,MAX($F$1:F2311)+1,\"\")","v":""},null,{"$f":"IF(AND(BD!B2312=REF,BD!D2312>=DEB,BD!D2312<=FIN),MAX(calc!$H$1:H2311)+1,0)","v":0}]
[null,null,null,null,null,{"$f":"IF(COUNTIF(BD!$B$2:B2313,BD!B2313)=1,MAX($F$1:F2312)+1,\"\")","v":""},null,{"$f":"IF(AND(BD!B2313=REF,BD!D2313>=DEB,BD!D2313<=FIN),MAX(calc!$H$1:H2312)+1,0)","v":0}]
[null,null,null,null,null,{"$f":"IF(COUNTIF(BD!$B$2:B2314,BD!B2314)=1,MAX($F$1:F2313)+1,\"\")","v":""},null,{"$f":"IF(AND(BD!B2314=REF,BD!D2314>=DEB,BD!D2314<=FIN),MAX(calc!$H$1:H2313)+1,0)","v":0}]
[null,null,null,null,null,{"$f":"IF(COUNTIF(BD!$B$2:B2315,BD!B2315)=1,MAX($F$1:F2314)+1,\"\")","v":""},null,{"$f":"IF(AND(BD!B2315=REF,BD!D2315>=DEB,BD!D2315<=FIN),MAX(calc!$H$1:H2314)+1,0)","v":0}]
[null,null,null,null,null,{"$f":"IF(COUNTIF(BD!$B$2:B2316,BD!B2316)=1,MAX($F$1:F2315)+1,\"\")","v":""},null,{"$f":"IF(AND(BD!B2316=REF,BD!D2316>=DEB,BD!D2316<=FIN),MAX(calc!$H$1:H2315)+1,0)","v":0}]
[null,null,null,null,null,{"$f":"IF(COUNTIF(BD!$B$2:B2317,BD!B2317)=1,MAX($F$1:F2316)+1,\"\")","v":""},null,{"$f":"IF(AND(BD!B2317=REF,BD!D2317>=DEB,BD!D2317<=FIN),MAX(calc!$H$1:H2316)+1,0)","v":0}]
[null,null,null,null,null,{"$f":"IF(COUNTIF(BD!$B$2:B2318,BD!B2318)=1,MAX($F$1:F2317)+1,\"\")","v":""},null,{"$f":"IF(AND(BD!B2318=REF,BD!D2318>=DEB,BD!D2318<=FIN),MAX(calc!$H$1:H2317)+1,0)","v":0}]
[null,null,null,null,null,{"$f":"IF(COUNTIF(BD!$B$2:B2319,BD!B2319)=1,MAX($F$1:F2318)+1,\"\")","v":""},null,{"$f":"IF(AND(BD!B2319=REF,BD!D2319>=DEB,BD!D2319<=FIN),MAX(calc!$H$1:H2318)+1,0)","v":0}]
[null,null,null,null,null,{"$f":"IF(COUNTIF(BD!$B$2:B2320,BD!B2320)=1,MAX($F$1:F2319)+1,\"\")","v":""},null,{"$f":"IF(AND(BD!B2320=REF,BD!D2320>=DEB,BD!D2320<=FIN),MAX(calc!$H$1:H2319)+1,0)","v":0}]
[null,null,null,null,null,{"$f":"IF(COUNTIF(BD!$B$2:B2321,BD!B2321)=1,MAX($F$1:F2320)+1,\"\")","v":""},null,{"$f":"IF(AND(BD!B2321=REF,BD!D2321>=DEB,BD!D2321<=FIN),MAX(calc!$H$1:H2320)+1,0)","v":0}]
[null,null,null,null,null,{"$f":"IF(COUNTIF(BD!$B$2:B2322,BD!B2322)=1,MAX($F$1:F2321)+1,\"\")","v":""},null,{"$f":"IF(AND(BD!B2322=REF,BD!D2322>=DEB,BD!D2322<=FIN),MAX(calc!$H$1:H2321)+1,0)","v":0}]
[null,null,null,null,null,{"$f":"IF(COUNTIF(BD!$B$2:B2323,BD!B2323)=1,MAX($F$1:F2322)+1,\"\")","v":""},null,{"$f":"IF(AND(BD!B2323=REF,BD!D2323>=DEB,BD!D2323<=FIN),MAX(calc!$H$1:H2322)+1,0)","v":0}]
[null,null,null,null,null,{"$f":"IF(COUNTIF(BD!$B$2:B2324,BD!B2324)=1,MAX($F$1:F2323)+1,\"\")","v":""},null,{"$f":"IF(AND(BD!B2324=REF,BD!D2324>=DEB,BD!D2324<=FIN),MAX(calc!$H$1:H2323)+1,0)","v":0}]
[null,null,null,null,null,{"$f":"IF(COUNTIF(BD!$B$2:B2325,BD!B2325)=1,MAX($F$1:F2324)+1,\"\")","v":""},null,{"$f":"IF(AND(BD!B2325=REF,BD!D2325>=DEB,BD!D2325<=FIN),MAX(calc!$H$1:H2324)+1,0)","v":0}]
[null,null,null,null,null,{"$f":"IF(COUNTIF(BD!$B$2:B2326,BD!B2326)=1,MAX($F$1:F2325)+1,\"\")","v":""},null,{"$f":"IF(AND(BD!B2326=REF,BD!D2326>=DEB,BD!D2326<=FIN),MAX(calc!$H$1:H2325)+1,0)","v":0}]
[null,null,null,null,null,{"$f":"IF(COUNTIF(BD!$B$2:B2327,BD!B2327)=1,MAX($F$1:F2326)+1,\"\")","v":""},null,{"$f":"IF(AND(BD!B2327=REF,BD!D2327>=DEB,BD!D2327<=FIN),MAX(calc!$H$1:H2326)+1,0)","v":0}]
[null,null,null,null,null,{"$f":"IF(COUNTIF(BD!$B$2:B2328,BD!B2328)=1,MAX($F$1:F2327)+1,\"\")","v":""},null,{"$f":"IF(AND(BD!B2328=REF,BD!D2328>=DEB,BD!D2328<=FIN),MAX(calc!$H$1:H2327)+1,0)","v":0}]
[null,null,null,null,null,{"$f":"IF(COUNTIF(BD!$B$2:B2329,BD!B2329)=1,MAX($F$1:F2328)+1,\"\")","v":""},null,{"$f":"IF(AND(BD!B2329=REF,BD!D2329>=DEB,BD!D2329<=FIN),MAX(calc!$H$1:H2328)+1,0)","v":0}]
[null,null,null,null,null,{"$f":"IF(COUNTIF(BD!$B$2:B2330,BD!B2330)=1,MAX($F$1:F2329)+1,\"\")","v":""},null,{"$f":"IF(AND(BD!B2330=REF,BD!D2330>=DEB,BD!D2330<=FIN),MAX(calc!$H$1:H2329)+1,0)","v":0}]
[null,null,null,null,null,{"$f":"IF(COUNTIF(BD!$B$2:B2331,BD!B2331)=1,MAX($F$1:F2330)+1,\"\")","v":""},null,{"$f":"IF(AND(BD!B2331=REF,BD!D2331>=DEB,BD!D2331<=FIN),MAX(calc!$H$1:H2330)+1,0)","v":0}]
[null,null,null,null,null,{"$f":"IF(COUNTIF(BD!$B$2:B2332,BD!B2332)=1,MAX($F$1:F2331)+1,\"\")","v":""},null,{"$f":"IF(AND(BD!B2332=REF,BD!D2332>=DEB,BD!D2332<=FIN),MAX(calc!$H$1:H2331)+1,0)","v":0}]
[null,null,null,null,null,{"$f":"IF(COUNTIF(BD!$B$2:B2333,BD!B2333)=1,MAX($F$1:F2332)+1,\"\")","v":""},null,{"$f":"IF(AND(BD!B2333=REF,BD!D2333>=DEB,BD!D2333<=FIN),MAX(calc!$H$1:H2332)+1,0)","v":0}]
[null,null,null,null,null,{"$f":"IF(COUNTIF(BD!$B$2:B2334,BD!B2334)=1,MAX($F$1:F2333)+1,\"\")","v":""},null,{"$f":"IF(AND(BD!B2334=REF,BD!D2334>=DEB,BD!D2334<=FIN),MAX(calc!$H$1:H2333)+1,0)","v":0}]
[null,null,null,null,null,{"$f":"IF(COUNTIF(BD!$B$2:B2335,BD!B2335)=1,MAX($F$1:F2334)+1,\"\")","v":""},null,{"$f":"IF(AND(BD!B2335=REF,BD!D2335>=DEB,BD!D2335<=FIN),MAX(calc!$H$1:H2334)+1,0)","v":0}]
[null,null,null,null,null,{"$f":"IF(COUNTIF(BD!$B$2:B2336,BD!B2336)=1,MAX($F$1:F2335)+1,\"\")","v":""},null,{"$f":"IF(AND(BD!B2336=REF,BD!D2336>=DEB,BD!D2336<=FIN),MAX(calc!$H$1:H2335)+1,0)","v":0}]
[null,null,null,null,null,{"$f":"IF(COUNTIF(BD!$B$2:B2337,BD!B2337)=1,MAX($F$1:F2336)+1,\"\")","v":""},null,{"$f":"IF(AND(BD!B2337=REF,BD!D2337>=DEB,BD!D2337<=FIN),MAX(calc!$H$1:H2336)+1,0)","v":0}]
[null,null,null,null,null,{"$f":"IF(COUNTIF(BD!$B$2:B2338,BD!B2338)=1,MAX($F$1:F2337)+1,\"\")","v":""},null,{"$f":"IF(AND(BD!B2338=REF,BD!D2338>=DEB,BD!D2338<=FIN),MAX(calc!$H$1:H2337)+1,0)","v":0}]
[null,null,null,null,null,{"$f":"IF(COUNTIF(BD!$B$2:B2339,BD!B2339)=1,MAX($F$1:F2338)+1,\"\")","v":""},null,{"$f":"IF(AND(BD!B2339=REF,BD!D2339>=DEB,BD!D2339<=FIN),MAX(calc!$H$1:H2338)+1,0)","v":0}]
[null,null,null,null,null,{"$f":"IF(COUNTIF(BD!$B$2:B2340,BD!B2340)=1,MAX($F$1:F2339)+1,\"\")","v":""},null,{"$f":"IF(AND(BD!B2340=REF,BD!D2340>=DEB,BD!D2340<=FIN),MAX(calc!$H$1:H2339)+1,0)","v":0}]
[null,null,null,null,null,{"$f":"IF(COUNTIF(BD!$B$2:B2341,BD!B2341)=1,MAX($F$1:F2340)+1,\"\")","v":""},null,{"$f":"IF(AND(BD!B2341=REF,BD!D2341>=DEB,BD!D2341<=FIN),MAX(calc!$H$1:H2340)+1,0)","v":0}]
[null,null,null,null,null,{"$f":"IF(COUNTIF(BD!$B$2:B2342,BD!B2342)=1,MAX($F$1:F2341)+1,\"\")","v":""},null,{"$f":"IF(AND(BD!B2342=REF,BD!D2342>=DEB,BD!D2342<=FIN),MAX(calc!$H$1:H2341)+1,0)","v":0}]
[null,null,null,null,null,{"$f":"IF(COUNTIF(BD!$B$2:B2343,BD!B2343)=1,MAX($F$1:F2342)+1,\"\")","v":""},null,{"$f":"IF(AND(BD!B2343=REF,BD!D2343>=DEB,BD!D2343<=FIN),MAX(calc!$H$1:H2342)+1,0)","v":0}]
[null,null,null,null,null,{"$f":"IF(COUNTIF(BD!$B$2:B2344,BD!B2344)=1,MAX($F$1:F2343)+1,\"\")","v":""},null,{"$f":"IF(AND(BD!B2344=REF,BD!D2344>=DEB,BD!D2344<=FIN),MAX(calc!$H$1:H2343)+1,0)","v":0}]
[null,null,null,null,null,{"$f":"IF(COUNTIF(BD!$B$2:B2345,BD!B2345)=1,MAX($F$1:F2344)+1,\"\")","v":""},null,{"$f":"IF(AND(BD!B2345=REF,BD!D2345>=DEB,BD!D2345<=FIN),MAX(calc!$H$1:H2344)+1,0)","v":0}]
[null,null,null,null,null,{"$f":"IF(COUNTIF(BD!$B$2:B2346,BD!B2346)=1,MAX($F$1:F2345)+1,\"\")","v":""},null,{"$f":"IF(AND(BD!B2346=REF,BD!D2346>=DEB,BD!D2346<=FIN),MAX(calc!$H$1:H2345)+1,0)","v":0}]
[null,null,null,null,null,{"$f":"IF(COUNTIF(BD!$B$2:B2347,BD!B2347)=1,MAX($F$1:F2346)+1,\"\")","v":""},null,{"$f":"IF(AND(BD!B2347=REF,BD!D2347>=DEB,BD!D2347<=FIN),MAX(calc!$H$1:H2346)+1,0)","v":0}]
[null,null,null,null,null,{"$f":"IF(COUNTIF(BD!$B$2:B2348,BD!B2348)=1,MAX($F$1:F2347)+1,\"\")","v":""},null,{"$f":"IF(AND(BD!B2348=REF,BD!D2348>=DEB,BD!D2348<=FIN),MAX(calc!$H$1:H2347)+1,0)","v":0}]
[null,null,null,null,null,{"$f":"IF(COUNTIF(BD!$B$2:B2349,BD!B2349)=1,MAX($F$1:F2348)+1,\"\")","v":""},null,{"$f":"IF(AND(BD!B2349=REF,BD!D2349>=DEB,BD!D2349<=FIN),MAX(calc!$H$1:H2348)+1,0)","v":0}]
[null,null,null,null,null,{"$f":"IF(COUNTIF(BD!$B$2:B2350,BD!B2350)=1,MAX($F$1:F2349)+1,\"\")","v":""},null,{"$f":"IF(AND(BD!B2350=REF,BD!D2350>=DEB,BD!D2350<=FIN),MAX(calc!$H$1:H2349)+1,0)","v":0}]
[null,null,null,null,null,{"$f":"IF(COUNTIF(BD!$B$2:B2351,BD!B2351)=1,MAX($F$1:F2350)+1,\"\")","v":""},null,{"$f":"IF(AND(BD!B2351=REF,BD!D2351>=DEB,BD!D2351<=FIN),MAX(calc!$H$1:H2350)+1,0)","v":0}]
[null,null,null,null,null,{"$f":"IF(COUNTIF(BD!$B$2:B2352,BD!B2352)=1,MAX($F$1:F2351)+1,\"\")","v":""},null,{"$f":"IF(AND(BD!B2352=REF,BD!D2352>=DEB,BD!D2352<=FIN),MAX(calc!$H$1:H2351)+1,0)","v":0}]
[null,null,null,null,null,{"$f":"IF(COUNTIF(BD!$B$2:B2353,BD!B2353)=1,MAX($F$1:F2352)+1,\"\")","v":""},null,{"$f":"IF(AND(BD!B2353=REF,BD!D2353>=DEB,BD!D2353<=FIN),MAX(calc!$H$1:H2352)+1,0)","v":0}]
[null,null,null,null,null,{"$f":"IF(COUNTIF(BD!$B$2:B2354,BD!B2354)=1,MAX($F$1:F2353)+1,\"\")","v":""},null,{"$f":"IF(AND(BD!B2354=REF,BD!D2354>=DEB,BD!D2354<=FIN),MAX(calc!$H$1:H2353)+1,0)","v":0}]
[null,null,null,null,null,{"$f":"IF(COUNTIF(BD!$B$2:B2355,BD!B2355)=1,MAX($F$1:F2354)+1,\"\")","v":""},null,{"$f":"IF(AND(BD!B2355=REF,BD!D2355>=DEB,BD!D2355<=FIN),MAX(calc!$H$1:H2354)+1,0)","v":0}]
[null,null,null,null,null,{"$f":"IF(COUNTIF(BD!$B$2:B2356,BD!B2356)=1,MAX($F$1:F2355)+1,\"\")","v":""},null,{"$f":"IF(AND(BD!B2356=REF,BD!D2356>=DEB,BD!D2356<=FIN),MAX(calc!$H$1:H2355)+1,0)","v":0}]
[null,null,null,null,null,{"$f":"IF(COUNTIF(BD!$B$2:B2357,BD!B2357)=1,MAX($F$1:F2356)+1,\"\")","v":""},null,{"$f":"IF(AND(BD!B2357=REF,BD!D2357>=DEB,BD!D2357<=FIN),MAX(calc!$H$1:H2356)+1,0)","v":0}]
[null,null,null,null,null,{"$f":"IF(COUNTIF(BD!$B$2:B2358,BD!B2358)=1,MAX($F$1:F2357)+1,\"\")","v":""},null,{"$f":"IF(AND(BD!B2358=REF,BD!D2358>=DEB,BD!D2358<=FIN),MAX(calc!$H$1:H2357)+1,0)","v":0}]
[null,null,null,null,null,{"$f":"IF(COUNTIF(BD!$B$2:B2359,BD!B2359)=1,MAX($F$1:F2358)+1,\"\")","v":""},null,{"$f":"IF(AND(BD!B2359=REF,BD!D2359>=DEB,BD!D2359<=FIN),MAX(calc!$H$1:H2358)+1,0)","v":0}]
[null,null,null,null,null,{"$f":"IF(COUNTIF(BD!$B$2:B2360,BD!B2360)=1,MAX($F$1:F2359)+1,\"\")","v":""},null,{"$f":"IF(AND(BD!B2360=REF,BD!D2360>=DEB,BD!D2360<=FIN),MAX(calc!$H$1:H2359)+1,0)","v":0}]
[null,null,null,null,null,{"$f":"IF(COUNTIF(BD!$B$2:B2361,BD!B2361)=1,MAX($F$1:F2360)+1,\"\")","v":""},null,{"$f":"IF(AND(BD!B2361=REF,BD!D2361>=DEB,BD!D2361<=FIN),MAX(calc!$H$1:H2360)+1,0)","v":0}]
[null,null,null,null,null,{"$f":"IF(COUNTIF(BD!$B$2:B2362,BD!B2362)=1,MAX($F$1:F2361)+1,\"\")","v":""},null,{"$f":"IF(AND(BD!B2362=REF,BD!D2362>=DEB,BD!D2362<=FIN),MAX(calc!$H$1:H2361)+1,0)","v":0}]
[null,null,null,null,null,{"$f":"IF(COUNTIF(BD!$B$2:B2363,BD!B2363)=1,MAX($F$1:F2362)+1,\"\")","v":""},null,{"$f":"IF(AND(BD!B2363=REF,BD!D2363>=DEB,BD!D2363<=FIN),MAX(calc!$H$1:H2362)+1,0)","v":0}]
[null,null,null,null,null,{"$f":"IF(COUNTIF(BD!$B$2:B2364,BD!B2364)=1,MAX($F$1:F2363)+1,\"\")","v":""},null,{"$f":"IF(AND(BD!B2364=REF,BD!D2364>=DEB,BD!D2364<=FIN),MAX(calc!$H$1:H2363)+1,0)","v":0}]
[null,null,null,null,null,{"$f":"IF(COUNTIF(BD!$B$2:B2365,BD!B2365)=1,MAX($F$1:F2364)+1,\"\")","v":""},null,{"$f":"IF(AND(BD!B2365=REF,BD!D2365>=DEB,BD!D2365<=FIN),MAX(calc!$H$1:H2364)+1,0)","v":0}]
[null,null,null,null,null,{"$f":"IF(COUNTIF(BD!$B$2:B2366,BD!B2366)=1,MAX($F$1:F2365)+1,\"\")","v":""},null,{"$f":"IF(AND(BD!B2366=REF,BD!D2366>=DEB,BD!D2366<=FIN),MAX(calc!$H$1:H2365)+1,0)","v":0}]
[null,null,null,null,null,{"$f":"IF(COUNTIF(BD!$B$2:B2367,BD!B2367)=1,MAX($F$1:F2366)+1,\"\")","v":""},null,{"$f":"IF(AND(BD!B2367=REF,BD!D2367>=DEB,BD!D2367<=FIN),MAX(calc!$H$1:H2366)+1,0)","v":0}]
[null,null,null,null,null,{"$f":"IF(COUNTIF(BD!$B$2:B2368,BD!B2368)=1,MAX($F$1:F2367)+1,\"\")","v":""},null,{"$f":"IF(AND(BD!B2368=REF,BD!D2368>=DEB,BD!D2368<=FIN),MAX(calc!$H$1:H2367)+1,0)","v":0}]
[null,null,null,null,null,{"$f":"IF(COUNTIF(BD!$B$2:B2369,BD!B2369)=1,MAX($F$1:F2368)+1,\"\")","v":""},null,{"$f":"IF(AND(BD!B2369=REF,BD!D2369>=DEB,BD!D2369<=FIN),MAX(calc!$H$1:H2368)+1,0)","v":0}]
[null,null,null,null,null,{"$f":"IF(COUNTIF(BD!$B$2:B2370,BD!B2370)=1,MAX($F$1:F2369)+1,\"\")","v":""},null,{"$f":"IF(AND(BD!B2370=REF,BD!D2370>=DEB,BD!D2370<=FIN),MAX(calc!$H$1:H2369)+1,0)","v":0}]
[null,null,null,null,null,{"$f":"IF(COUNTIF(BD!$B$2:B2371,BD!B2371)=1,MAX($F$1:F2370)+1,\"\")","v":""},null,{"$f":"IF(AND(BD!B2371=REF,BD!D2371>=DEB,BD!D2371<=FIN),MAX(calc!$H$1:H2370)+1,0)","v":0}]
[null,null,null,null,null,{"$f":"IF(COUNTIF(BD!$B$2:B2372,BD!B2372)=1,MAX($F$1:F2371)+1,\"\")","v":""},null,{"$f":"IF(AND(BD!B2372=REF,BD!D2372>=DEB,BD!D2372<=FIN),MAX(calc!$H$1:H2371)+1,0)","v":0}]
[null,null,null,null,null,{"$f":"IF(COUNTIF(BD!$B$2:B2373,BD!B2373)=1,MAX($F$1:F2372)+1,\"\")","v":""},null,{"$f":"IF(AND(BD!B2373=REF,BD!D2373>=DEB,BD!D2373<=FIN),MAX(calc!$H$1:H2372)+1,0)","v":0}]
[null,null,null,null,null,{"$f":"IF(COUNTIF(BD!$B$2:B2374,BD!B2374)=1,MAX($F$1:F2373)+1,\"\")","v":""},null,{"$f":"IF(AND(BD!B2374=REF,BD!D2374>=DEB,BD!D2374<=FIN),MAX(calc!$H$1:H2373)+1,0)","v":0}]
[null,null,null,null,null,{"$f":"IF(COUNTIF(BD!$B$2:B2375,BD!B2375)=1,MAX($F$1:F2374)+1,\"\")","v":""},null,{"$f":"IF(AND(BD!B2375=REF,BD!D2375>=DEB,BD!D2375<=FIN),MAX(calc!$H$1:H2374)+1,0)","v":0}]
[null,null,null,null,null,{"$f":"IF(COUNTIF(BD!$B$2:B2376,BD!B2376)=1,MAX($F$1:F2375)+1,\"\")","v":""},null,{"$f":"IF(AND(BD!B2376=REF,BD!D2376>=DEB,BD!D2376<=FIN),MAX(calc!$H$1:H2375)+1,0)","v":0}]
[null,null,null,null,null,{"$f":"IF(COUNTIF(BD!$B$2:B2377,BD!B2377)=1,MAX($F$1:F2376)+1,\"\")","v":""},null,{"$f":"IF(AND(BD!B2377=REF,BD!D2377>=DEB,BD!D2377<=FIN),MAX(calc!$H$1:H2376)+1,0)","v":0}]
[null,null,null,null,null,{"$f":"IF(COUNTIF(BD!$B$2:B2378,BD!B2378)=1,MAX($F$1:F2377)+1,\"\")","v":""},null,{"$f":"IF(AND(BD!B2378=REF,BD!D2378>=DEB,BD!D2378<=FIN),MAX(calc!$H$1:H2377)+1,0)","v":0}]
[null,null,null,null,null,{"$f":"IF(COUNTIF(BD!$B$2:B2379,BD!B2379)=1,MAX($F$1:F2378)+1,\"\")","v":""},null,{"$f":"IF(AND(BD!B2379=REF,BD!D2379>=DEB,BD!D2379<=FIN),MAX(calc!$H$1:H2378)+1,0)","v":0}]
[null,null,null,null,null,{"$f":"IF(COUNTIF(BD!$B$2:B2380,BD!B2380)=1,MAX($F$1:F2379)+1,\"\")","v":""},null,{"$f":"IF(AND(BD!B2380=REF,BD!D2380>=DEB,BD!D2380<=FIN),MAX(calc!$H$1:H2379)+1,0)","v":0}]
[null,null,null,null,null,{"$f":"IF(COUNTIF(BD!$B$2:B2381,BD!B2381)=1,MAX($F$1:F2380)+1,\"\")","v":""},null,{"$f":"IF(AND(BD!B2381=REF,BD!D2381>=DEB,BD!D2381<=FIN),MAX(calc!$H$1:H2380)+1,0)","v":0}]
[null,null,null,null,null,{"$f":"IF(COUNTIF(BD!$B$2:B2382,BD!B2382)=1,MAX($F$1:F2381)+1,\"\")","v":""},null,{"$f":"IF(AND(BD!B2382=REF,BD!D2382>=DEB,BD!D2382<=FIN),MAX(calc!$H$1:H2381)+1,0)","v":0}]
[null,null,null,null,null,{"$f":"IF(COUNTIF(BD!$B$2:B2383,BD!B2383)=1,MAX($F$1:F2382)+1,\"\")","v":""},null,{"$f":"IF(AND(BD!B2383=REF,BD!D2383>=DEB,BD!D2383<=FIN),MAX(calc!$H$1:H2382)+1,0)","v":0}]
[null,null,null,null,null,{"$f":"IF(COUNTIF(BD!$B$2:B2384,BD!B2384)=1,MAX($F$1:F2383)+1,\"\")","v":""},null,{"$f":"IF(AND(BD!B2384=REF,BD!D2384>=DEB,BD!D2384<=FIN),MAX(calc!$H$1:H2383)+1,0)","v":0}]
[null,null,null,null,null,{"$f":"IF(COUNTIF(BD!$B$2:B2385,BD!B2385)=1,MAX($F$1:F2384)+1,\"\")","v":""},null,{"$f":"IF(AND(BD!B2385=REF,BD!D2385>=DEB,BD!D2385<=FIN),MAX(calc!$H$1:H2384)+1,0)","v":0}]
[null,null,null,null,null,{"$f":"IF(COUNTIF(BD!$B$2:B2386,BD!B2386)=1,MAX($F$1:F2385)+1,\"\")","v":""},null,{"$f":"IF(AND(BD!B2386=REF,BD!D2386>=DEB,BD!D2386<=FIN),MAX(calc!$H$1:H2385)+1,0)","v":0}]
[null,null,null,null,null,{"$f":"IF(COUNTIF(BD!$B$2:B2387,BD!B2387)=1,MAX($F$1:F2386)+1,\"\")","v":""},null,{"$f":"IF(AND(BD!B2387=REF,BD!D2387>=DEB,BD!D2387<=FIN),MAX(calc!$H$1:H2386)+1,0)","v":0}]
[null,null,null,null,null,{"$f":"IF(COUNTIF(BD!$B$2:B2388,BD!B2388)=1,MAX($F$1:F2387)+1,\"\")","v":""},null,{"$f":"IF(AND(BD!B2388=REF,BD!D2388>=DEB,BD!D2388<=FIN),MAX(calc!$H$1:H2387)+1,0)","v":0}]
[null,null,null,null,null,{"$f":"IF(COUNTIF(BD!$B$2:B2389,BD!B2389)=1,MAX($F$1:F2388)+1,\"\")","v":""},null,{"$f":"IF(AND(BD!B2389=REF,BD!D2389>=DEB,BD!D2389<=FIN),MAX(calc!$H$1:H2388)+1,0)","v":0}]
[null,null,null,null,null,{"$f":"IF(COUNTIF(BD!$B$2:B2390,BD!B2390)=1,MAX($F$1:F2389)+1,\"\")","v":""},null,{"$f":"IF(AND(BD!B2390=REF,BD!D2390>=DEB,BD!D2390<=FIN),MAX(calc!$H$1:H2389)+1,0)","v":0}]
[null,null,null,null,null,{"$f":"IF(COUNTIF(BD!$B$2:B2391,BD!B2391)=1,MAX($F$1:F2390)+1,\"\")","v":""},null,{"$f":"IF(AND(BD!B2391=REF,BD!D2391>=DEB,BD!D2391<=FIN),MAX(calc!$H$1:H2390)+1,0)","v":0}]
[null,null,null,null,null,{"$f":"IF(COUNTIF(BD!$B$2:B2392,BD!B2392)=1,MAX($F$1:F2391)+1,\"\")","v":""},null,{"$f":"IF(AND(BD!B2392=REF,BD!D2392>=DEB,BD!D2392<=FIN),MAX(calc!$H$1:H2391)+1,0)","v":0}]
[null,null,null,null,null,{"$f":"IF(COUNTIF(BD!$B$2:B2393,BD!B2393)=1,MAX($F$1:F2392)+1,\"\")","v":""},null,{"$f":"IF(AND(BD!B2393=REF,BD!D2393>=DEB,BD!D2393<=FIN),MAX(calc!$H$1:H2392)+1,0)","v":0}]
[null,null,null,null,null,{"$f":"IF(COUNTIF(BD!$B$2:B2394,BD!B2394)=1,MAX($F$1:F2393)+1,\"\")","v":""},null,{"$f":"IF(AND(BD!B2394=REF,BD!D2394>=DEB,BD!D2394<=FIN),MAX(calc!$H$1:H2393)+1,0)","v":0}]
[null,null,null,null,null,{"$f":"IF(COUNTIF(BD!$B$2:B2395,BD!B2395)=1,MAX($F$1:F2394)+1,\"\")","v":""},null,{"$f":"IF(AND(BD!B2395=REF,BD!D2395>=DEB,BD!D2395<=FIN),MAX(calc!$H$1:H2394)+1,0)","v":0}]
[null,null,null,null,null,{"$f":"IF(COUNTIF(BD!$B$2:B2396,BD!B2396)=1,MAX($F$1:F2395)+1,\"\")","v":""},null,{"$f":"IF(AND(BD!B2396=REF,BD!D2396>=DEB,BD!D2396<=FIN),MAX(calc!$H$1:H2395)+1,0)","v":0}]
[null,null,null,null,null,{"$f":"IF(COUNTIF(BD!$B$2:B2397,BD!B2397)=1,MAX($F$1:F2396)+1,\"\")","v":""},null,{"$f":"IF(AND(BD!B2397=REF,BD!D2397>=DEB,BD!D2397<=FIN),MAX(calc!$H$1:H2396)+1,0)","v":0}]
[null,null,null,null,null,{"$f":"IF(COUNTIF(BD!$B$2:B2398,BD!B2398)=1,MAX($F$1:F2397)+1,\"\")","v":""},null,{"$f":"IF(AND(BD!B2398=REF,BD!D2398>=DEB,BD!D2398<=FIN),MAX(calc!$H$1:H2397)+1,0)","v":0}]
[null,null,null,null,null,{"$f":"IF(COUNTIF(BD!$B$2:B2399,BD!B2399)=1,MAX($F$1:F2398)+1,\"\")","v":""},null,{"$f":"IF(AND(BD!B2399=REF,BD!D2399>=DEB,BD!D2399<=FIN),MAX(calc!$H$1:H2398)+1,0)","v":0}]
[null,null,null,null,null,{"$f":"IF(COUNTIF(BD!$B$2:B2400,BD!B2400)=1,MAX($F$1:F2399)+1,\"\")","v":""},null,{"$f":"IF(AND(BD!B2400=REF,BD!D2400>=DEB,BD!D2400<=FIN),MAX(calc!$H$1:H2399)+1,0)","v":0}]
[null,null,null,null,null,{"$f":"IF(COUNTIF(BD!$B$2:B2401,BD!B2401)=1,MAX($F$1:F2400)+1,\"\")","v":""},null,{"$f":"IF(AND(BD!B2401=REF,BD!D2401>=DEB,BD!D2401<=FIN),MAX(calc!$H$1:H2400)+1,0)","v":0}]
[null,null,null,null,null,{"$f":"IF(COUNTIF(BD!$B$2:B2402,BD!B2402)=1,MAX($F$1:F2401)+1,\"\")","v":""},null,{"$f":"IF(AND(BD!B2402=REF,BD!D2402>=DEB,BD!D2402<=FIN),MAX(calc!$H$1:H2401)+1,0)","v":0}]
[null,null,null,null,null,{"$f":"IF(COUNTIF(BD!$B$2:B2403,BD!B2403)=1,MAX($F$1:F2402)+1,\"\")","v":""},null,{"$f":"IF(AND(BD!B2403=REF,BD!D2403>=DEB,BD!D2403<=FIN),MAX(calc!$H$1:H2402)+1,0)","v":0}]
[null,null,null,null,null,{"$f":"IF(COUNTIF(BD!$B$2:B2404,BD!B2404)=1,MAX($F$1:F2403)+1,\"\")","v":""},null,{"$f":"IF(AND(BD!B2404=REF,BD!D2404>=DEB,BD!D2404<=FIN),MAX(calc!$H$1:H2403)+1,0)","v":0}]
[null,null,null,null,null,{"$f":"IF(COUNTIF(BD!$B$2:B2405,BD!B2405)=1,MAX($F$1:F2404)+1,\"\")","v":""},null,{"$f":"IF(AND(BD!B2405=REF,BD!D2405>=DEB,BD!D2405<=FIN),MAX(calc!$H$1:H2404)+1,0)","v":0}]
[null,null,null,null,null,{"$f":"IF(COUNTIF(BD!$B$2:B2406,BD!B2406)=1,MAX($F$1:F2405)+1,\"\")","v":""},null,{"$f":"IF(AND(BD!B2406=REF,BD!D2406>=DEB,BD!D2406<=FIN),MAX(calc!$H$1:H2405)+1,0)","v":0}]
[null,null,null,null,null,{"$f":"IF(COUNTIF(BD!$B$2:B2407,BD!B2407)=1,MAX($F$1:F2406)+1,\"\")","v":""},null,{"$f":"IF(AND(BD!B2407=REF,BD!D2407>=DEB,BD!D2407<=FIN),MAX(calc!$H$1:H2406)+1,0)","v":0}]
[null,null,null,null,null,{"$f":"IF(COUNTIF(BD!$B$2:B2408,BD!B2408)=1,MAX($F$1:F2407)+1,\"\")","v":""},null,{"$f":"IF(AND(BD!B2408=REF,BD!D2408>=DEB,BD!D2408<=FIN),MAX(calc!$H$1:H2407)+1,0)","v":0}]
[null,null,null,null,null,{"$f":"IF(COUNTIF(BD!$B$2:B2409,BD!B2409)=1,MAX($F$1:F2408)+1,\"\")","v":""},null,{"$f":"IF(AND(BD!B2409=REF,BD!D2409>=DEB,BD!D2409<=FIN),MAX(calc!$H$1:H2408)+1,0)","v":0}]
[null,null,null,null,null,{"$f":"IF(COUNTIF(BD!$B$2:B2410,BD!B2410)=1,MAX($F$1:F2409)+1,\"\")","v":""},null,{"$f":"IF(AND(BD!B2410=REF,BD!D2410>=DEB,BD!D2410<=FIN),MAX(calc!$H$1:H2409)+1,0)","v":0}]
[null,null,null,null,null,{"$f":"IF(COUNTIF(BD!$B$2:B2411,BD!B2411)=1,MAX($F$1:F2410)+1,\"\")","v":""},null,{"$f":"IF(AND(BD!B2411=REF,BD!D2411>=DEB,BD!D2411<=FIN),MAX(calc!$H$1:H2410)+1,0)","v":0}]
[null,null,null,null,null,{"$f":"IF(COUNTIF(BD!$B$2:B2412,BD!B2412)=1,MAX($F$1:F2411)+1,\"\")","v":""},null,{"$f":"IF(AND(BD!B2412=REF,BD!D2412>=DEB,BD!D2412<=FIN),MAX(calc!$H$1:H2411)+1,0)","v":0}]
[null,null,null,null,null,{"$f":"IF(COUNTIF(BD!$B$2:B2413,BD!B2413)=1,MAX($F$1:F2412)+1,\"\")","v":""},null,{"$f":"IF(AND(BD!B2413=REF,BD!D2413>=DEB,BD!D2413<=FIN),MAX(calc!$H$1:H2412)+1,0)","v":0}]
[null,null,null,null,null,{"$f":"IF(COUNTIF(BD!$B$2:B2414,BD!B2414)=1,MAX($F$1:F2413)+1,\"\")","v":""},null,{"$f":"IF(AND(BD!B2414=REF,BD!D2414>=DEB,BD!D2414<=FIN),MAX(calc!$H$1:H2413)+1,0)","v":0}]
[null,null,null,null,null,{"$f":"IF(COUNTIF(BD!$B$2:B2415,BD!B2415)=1,MAX($F$1:F2414)+1,\"\")","v":""},null,{"$f":"IF(AND(BD!B2415=REF,BD!D2415>=DEB,BD!D2415<=FIN),MAX(calc!$H$1:H2414)+1,0)","v":0}]
[null,null,null,null,null,{"$f":"IF(COUNTIF(BD!$B$2:B2416,BD!B2416)=1,MAX($F$1:F2415)+1,\"\")","v":""},null,{"$f":"IF(AND(BD!B2416=REF,BD!D2416>=DEB,BD!D2416<=FIN),MAX(calc!$H$1:H2415)+1,0)","v":0}]
[null,null,null,null,null,{"$f":"IF(COUNTIF(BD!$B$2:B2417,BD!B2417)=1,MAX($F$1:F2416)+1,\"\")","v":""},null,{"$f":"IF(AND(BD!B2417=REF,BD!D2417>=DEB,BD!D2417<=FIN),MAX(calc!$H$1:H2416)+1,0)","v":0}]
[null,null,null,null,null,{"$f":"IF(COUNTIF(BD!$B$2:B2418,BD!B2418)=1,MAX($F$1:F2417)+1,\"\")","v":""},null,{"$f":"IF(AND(BD!B2418=REF,BD!D2418>=DEB,BD!D2418<=FIN),MAX(calc!$H$1:H2417)+1,0)","v":0}]
[null,null,null,null,null,{"$f":"IF(COUNTIF(BD!$B$2:B2419,BD!B2419)=1,MAX($F$1:F2418)+1,\"\")","v":""},null,{"$f":"IF(AND(BD!B2419=REF,BD!D2419>=DEB,BD!D2419<=FIN),MAX(calc!$H$1:H2418)+1,0)","v":0}]
[null,null,null,null,null,{"$f":"IF(COUNTIF(BD!$B$2:B2420,BD!B2420)=1,MAX($F$1:F2419)+1,\"\")","v":""},null,{"$f":"IF(AND(BD!B2420=REF,BD!D2420>=DEB,BD!D2420<=FIN),MAX(calc!$H$1:H2419)+1,0)","v":0}]
[null,null,null,null,null,{"$f":"IF(COUNTIF(BD!$B$2:B2421,BD!B2421)=1,MAX($F$1:F2420)+1,\"\")","v":""},null,{"$f":"IF(AND(BD!B2421=REF,BD!D2421>=DEB,BD!D2421<=FIN),MAX(calc!$H$1:H2420)+1,0)","v":0}]
[null,null,null,null,null,{"$f":"IF(COUNTIF(BD!$B$2:B2422,BD!B2422)=1,MAX($F$1:F2421)+1,\"\")","v":""},null,{"$f":"IF(AND(BD!B2422=REF,BD!D2422>=DEB,BD!D2422<=FIN),MAX(calc!$H$1:H2421)+1,0)","v":0}]
[null,null,null,null,null,{"$f":"IF(COUNTIF(BD!$B$2:B2423,BD!B2423)=1,MAX($F$1:F2422)+1,\"\")","v":""},null,{"$f":"IF(AND(BD!B2423=REF,BD!D2423>=DEB,BD!D2423<=FIN),MAX(calc!$H$1:H2422)+1,0)","v":0}]
[null,null,null,null,null,{"$f":"IF(COUNTIF(BD!$B$2:B2424,BD!B2424)=1,MAX($F$1:F2423)+1,\"\")","v":""},null,{"$f":"IF(AND(BD!B2424=REF,BD!D2424>=DEB,BD!D2424<=FIN),MAX(calc!$H$1:H2423)+1,0)","v":0}]
[null,null,null,null,null,{"$f":"IF(COUNTIF(BD!$B$2:B2425,BD!B2425)=1,MAX($F$1:F2424)+1,\"\")","v":""},null,{"$f":"IF(AND(BD!B2425=REF,BD!D2425>=DEB,BD!D2425<=FIN),MAX(calc!$H$1:H2424)+1,0)","v":0}]
[null,null,null,null,null,{"$f":"IF(COUNTIF(BD!$B$2:B2426,BD!B2426)=1,MAX($F$1:F2425)+1,\"\")","v":""},null,{"$f":"IF(AND(BD!B2426=REF,BD!D2426>=DEB,BD!D2426<=FIN),MAX(calc!$H$1:H2425)+1,0)","v":0}]
[null,null,null,null,null,{"$f":"IF(COUNTIF(BD!$B$2:B2427,BD!B2427)=1,MAX($F$1:F2426)+1,\"\")","v":""},null,{"$f":"IF(AND(BD!B2427=REF,BD!D2427>=DEB,BD!D2427<=FIN),MAX(calc!$H$1:H2426)+1,0)","v":0}]
[null,null,null,null,null,{"$f":"IF(COUNTIF(BD!$B$2:B2428,BD!B2428)=1,MAX($F$1:F2427)+1,\"\")","v":""},null,{"$f":"IF(AND(BD!B2428=REF,BD!D2428>=DEB,BD!D2428<=FIN),MAX(calc!$H$1:H2427)+1,0)","v":0}]
[null,null,null,null,null,{"$f":"IF(COUNTIF(BD!$B$2:B2429,BD!B2429)=1,MAX($F$1:F2428)+1,\"\")","v":""},null,{"$f":"IF(AND(BD!B2429=REF,BD!D2429>=DEB,BD!D2429<=FIN),MAX(calc!$H$1:H2428)+1,0)","v":0}]
[null,null,null,null,null,{"$f":"IF(COUNTIF(BD!$B$2:B2430,BD!B2430)=1,MAX($F$1:F2429)+1,\"\")","v":""},null,{"$f":"IF(AND(BD!B2430=REF,BD!D2430>=DEB,BD!D2430<=FIN),MAX(calc!$H$1:H2429)+1,0)","v":0}]
[null,null,null,null,null,{"$f":"IF(COUNTIF(BD!$B$2:B2431,BD!B2431)=1,MAX($F$1:F2430)+1,\"\")","v":""},null,{"$f":"IF(AND(BD!B2431=REF,BD!D2431>=DEB,BD!D2431<=FIN),MAX(calc!$H$1:H2430)+1,0)","v":0}]
[null,null,null,null,null,{"$f":"IF(COUNTIF(BD!$B$2:B2432,BD!B2432)=1,MAX($F$1:F2431)+1,\"\")","v":""},null,{"$f":"IF(AND(BD!B2432=REF,BD!D2432>=DEB,BD!D2432<=FIN),MAX(calc!$H$1:H2431)+1,0)","v":0}]
[null,null,null,null,null,{"$f":"IF(COUNTIF(BD!$B$2:B2433,BD!B2433)=1,MAX($F$1:F2432)+1,\"\")","v":""},null,{"$f":"IF(AND(BD!B2433=REF,BD!D2433>=DEB,BD!D2433<=FIN),MAX(calc!$H$1:H2432)+1,0)","v":0}]
[null,null,null,null,null,{"$f":"IF(COUNTIF(BD!$B$2:B2434,BD!B2434)=1,MAX($F$1:F2433)+1,\"\")","v":""},null,{"$f":"IF(AND(BD!B2434=REF,BD!D2434>=DEB,BD!D2434<=FIN),MAX(calc!$H$1:H2433)+1,0)","v":0}]
[null,null,null,null,null,{"$f":"IF(COUNTIF(BD!$B$2:B2435,BD!B2435)=1,MAX($F$1:F2434)+1,\"\")","v":""},null,{"$f":"IF(AND(BD!B2435=REF,BD!D2435>=DEB,BD!D2435<=FIN),MAX(calc!$H$1:H2434)+1,0)","v":0}]
[null,null,null,null,null,{"$f":"IF(COUNTIF(BD!$B$2:B2436,BD!B2436)=1,MAX($F$1:F2435)+1,\"\")","v":""},null,{"$f":"IF(AND(BD!B2436=REF,BD!D2436>=DEB,BD!D2436<=FIN),MAX(calc!$H$1:H2435)+1,0)","v":0}]
[null,null,null,null,null,{"$f":"IF(COUNTIF(BD!$B$2:B2437,BD!B2437)=1,MAX($F$1:F2436)+1,\"\")","v":""},null,{"$f":"IF(AND(BD!B2437=REF,BD!D2437>=DEB,BD!D2437<=FIN),MAX(calc!$H$1:H2436)+1,0)","v":0}]
[null,null,null,null,null,{"$f":"IF(COUNTIF(BD!$B$2:B2438,BD!B2438)=1,MAX($F$1:F2437)+1,\"\")","v":""},null,{"$f":"IF(AND(BD!B2438=REF,BD!D2438>=DEB,BD!D2438<=FIN),MAX(calc!$H$1:H2437)+1,0)","v":0}]
[null,null,null,null,null,{"$f":"IF(COUNTIF(BD!$B$2:B2439,BD!B2439)=1,MAX($F$1:F2438)+1,\"\")","v":""},null,{"$f":"IF(AND(BD!B2439=REF,BD!D2439>=DEB,BD!D2439<=FIN),MAX(calc!$H$1:H2438)+1,0)","v":0}]
[null,null,null,null,null,{"$f":"IF(COUNTIF(BD!$B$2:B2440,BD!B2440)=1,MAX($F$1:F2439)+1,\"\")","v":""},null,{"$f":"IF(AND(BD!B2440=REF,BD!D2440>=DEB,BD!D2440<=FIN),MAX(calc!$H$1:H2439)+1,0)","v":0}]
[null,null,null,null,null,{"$f":"IF(COUNTIF(BD!$B$2:B2441,BD!B2441)=1,MAX($F$1:F2440)+1,\"\")","v":""},null,{"$f":"IF(AND(BD!B2441=REF,BD!D2441>=DEB,BD!D2441<=FIN),MAX(calc!$H$1:H2440)+1,0)","v":0}]
[null,null,null,null,null,{"$f":"IF(COUNTIF(BD!$B$2:B2442,BD!B2442)=1,MAX($F$1:F2441)+1,\"\")","v":""},null,{"$f":"IF(AND(BD!B2442=REF,BD!D2442>=DEB,BD!D2442<=FIN),MAX(calc!$H$1:H2441)+1,0)","v":0}]
[null,null,null,null,null,{"$f":"IF(COUNTIF(BD!$B$2:B2443,BD!B2443)=1,MAX($F$1:F2442)+1,\"\")","v":""},null,{"$f":"IF(AND(BD!B2443=REF,BD!D2443>=DEB,BD!D2443<=FIN),MAX(calc!$H$1:H2442)+1,0)","v":0}]
[null,null,null,null,null,{"$f":"IF(COUNTIF(BD!$B$2:B2444,BD!B2444)=1,MAX($F$1:F2443)+1,\"\")","v":""},null,{"$f":"IF(AND(BD!B2444=REF,BD!D2444>=DEB,BD!D2444<=FIN),MAX(calc!$H$1:H2443)+1,0)","v":0}]
[null,null,null,null,null,{"$f":"IF(COUNTIF(BD!$B$2:B2445,BD!B2445)=1,MAX($F$1:F2444)+1,\"\")","v":""},null,{"$f":"IF(AND(BD!B2445=REF,BD!D2445>=DEB,BD!D2445<=FIN),MAX(calc!$H$1:H2444)+1,0)","v":0}]
[null,null,null,null,null,{"$f":"IF(COUNTIF(BD!$B$2:B2446,BD!B2446)=1,MAX($F$1:F2445)+1,\"\")","v":""},null,{"$f":"IF(AND(BD!B2446=REF,BD!D2446>=DEB,BD!D2446<=FIN),MAX(calc!$H$1:H2445)+1,0)","v":0}]
[null,null,null,null,null,{"$f":"IF(COUNTIF(BD!$B$2:B2447,BD!B2447)=1,MAX($F$1:F2446)+1,\"\")","v":""},null,{"$f":"IF(AND(BD!B2447=REF,BD!D2447>=DEB,BD!D2447<=FIN),MAX(calc!$H$1:H2446)+1,0)","v":0}]
[null,null,null,null,null,{"$f":"IF(COUNTIF(BD!$B$2:B2448,BD!B2448)=1,MAX($F$1:F2447)+1,\"\")","v":""},null,{"$f":"IF(AND(BD!B2448=REF,BD!D2448>=DEB,BD!D2448<=FIN),MAX(calc!$H$1:H2447)+1,0)","v":0}]
[null,null,null,null,null,{"$f":"IF(COUNTIF(BD!$B$2:B2449,BD!B2449)=1,MAX($F$1:F2448)+1,\"\")","v":""},null,{"$f":"IF(AND(BD!B2449=REF,BD!D2449>=DEB,BD!D2449<=FIN),MAX(calc!$H$1:H2448)+1,0)","v":0}]
[null,null,null,null,null,{"$f":"IF(COUNTIF(BD!$B$2:B2450,BD!B2450)=1,MAX($F$1:F2449)+1,\"\")","v":""},null,{"$f":"IF(AND(BD!B2450=REF,BD!D2450>=DEB,BD!D2450<=FIN),MAX(calc!$H$1:H2449)+1,0)","v":0}]
[null,null,null,null,null,{"$f":"IF(COUNTIF(BD!$B$2:B2451,BD!B2451)=1,MAX($F$1:F2450)+1,\"\")","v":""},null,{"$f":"IF(AND(BD!B2451=REF,BD!D2451>=DEB,BD!D2451<=FIN),MAX(calc!$H$1:H2450)+1,0)","v":0}]
[null,null,null,null,null,{"$f":"IF(COUNTIF(BD!$B$2:B2452,BD!B2452)=1,MAX($F$1:F2451)+1,\"\")","v":""},null,{"$f":"IF(AND(BD!B2452=REF,BD!D2452>=DEB,BD!D2452<=FIN),MAX(calc!$H$1:H2451)+1,0)","v":0}]
[null,null,null,null,null,{"$f":"IF(COUNTIF(BD!$B$2:B2453,BD!B2453)=1,MAX($F$1:F2452)+1,\"\")","v":""},null,{"$f":"IF(AND(BD!B2453=REF,BD!D2453>=DEB,BD!D2453<=FIN),MAX(calc!$H$1:H2452)+1,0)","v":0}]
[null,null,null,null,null,{"$f":"IF(COUNTIF(BD!$B$2:B2454,BD!B2454)=1,MAX($F$1:F2453)+1,\"\")","v":""},null,{"$f":"IF(AND(BD!B2454=REF,BD!D2454>=DEB,BD!D2454<=FIN),MAX(calc!$H$1:H2453)+1,0)","v":0}]
[null,null,null,null,null,{"$f":"IF(COUNTIF(BD!$B$2:B2455,BD!B2455)=1,MAX($F$1:F2454)+1,\"\")","v":""},null,{"$f":"IF(AND(BD!B2455=REF,BD!D2455>=DEB,BD!D2455<=FIN),MAX(calc!$H$1:H2454)+1,0)","v":0}]
[null,null,null,null,null,{"$f":"IF(COUNTIF(BD!$B$2:B2456,BD!B2456)=1,MAX($F$1:F2455)+1,\"\")","v":""},null,{"$f":"IF(AND(BD!B2456=REF,BD!D2456>=DEB,BD!D2456<=FIN),MAX(calc!$H$1:H2455)+1,0)","v":0}]
[null,null,null,null,null,{"$f":"IF(COUNTIF(BD!$B$2:B2457,BD!B2457)=1,MAX($F$1:F2456)+1,\"\")","v":""},null,{"$f":"IF(AND(BD!B2457=REF,BD!D2457>=DEB,BD!D2457<=FIN),MAX(calc!$H$1:H2456)+1,0)","v":0}]
[null,null,null,null,null,{"$f":"IF(COUNTIF(BD!$B$2:B2458,BD!B2458)=1,MAX($F$1:F2457)+1,\"\")","v":""},null,{"$f":"IF(AND(BD!B2458=REF,BD!D2458>=DEB,BD!D2458<=FIN),MAX(calc!$H$1:H2457)+1,0)","v":0}]
[null,null,null,null,null,{"$f":"IF(COUNTIF(BD!$B$2:B2459,BD!B2459)=1,MAX($F$1:F2458)+1,\"\")","v":""},null,{"$f":"IF(AND(BD!B2459=REF,BD!D2459>=DEB,BD!D2459<=FIN),MAX(calc!$H$1:H2458)+1,0)","v":0}]
[null,null,null,null,null,{"$f":"IF(COUNTIF(BD!$B$2:B2460,BD!B2460)=1,MAX($F$1:F2459)+1,\"\")","v":""},null,{"$f":"IF(AND(BD!B2460=REF,BD!D2460>=DEB,BD!D2460<=FIN),MAX(calc!$H$1:H2459)+1,0)","v":0}]
[null,null,null,null,null,{"$f":"IF(COUNTIF(BD!$B$2:B2461,BD!B2461)=1,MAX($F$1:F2460)+1,\"\")","v":""},null,{"$f":"IF(AND(BD!B2461=REF,BD!D2461>=DEB,BD!D2461<=FIN),MAX(calc!$H$1:H2460)+1,0)","v":0}]
[null,null,null,null,null,{"$f":"IF(COUNTIF(BD!$B$2:B2462,BD!B2462)=1,MAX($F$1:F2461)+1,\"\")","v":""},null,{"$f":"IF(AND(BD!B2462=REF,BD!D2462>=DEB,BD!D2462<=FIN),MAX(calc!$H$1:H2461)+1,0)","v":0}]
[null,null,null,null,null,{"$f":"IF(COUNTIF(BD!$B$2:B2463,BD!B2463)=1,MAX($F$1:F2462)+1,\"\")","v":""},null,{"$f":"IF(AND(BD!B2463=REF,BD!D2463>=DEB,BD!D2463<=FIN),MAX(calc!$H$1:H2462)+1,0)","v":0}]
[null,null,null,null,null,{"$f":"IF(COUNTIF(BD!$B$2:B2464,BD!B2464)=1,MAX($F$1:F2463)+1,\"\")","v":""},null,{"$f":"IF(AND(BD!B2464=REF,BD!D2464>=DEB,BD!D2464<=FIN),MAX(calc!$H$1:H2463)+1,0)","v":0}]
[null,null,null,null,null,{"$f":"IF(COUNTIF(BD!$B$2:B2465,BD!B2465)=1,MAX($F$1:F2464)+1,\"\")","v":""},null,{"$f":"IF(AND(BD!B2465=REF,BD!D2465>=DEB,BD!D2465<=FIN),MAX(calc!$H$1:H2464)+1,0)","v":0}]
[null,null,null,null,null,{"$f":"IF(COUNTIF(BD!$B$2:B2466,BD!B2466)=1,MAX($F$1:F2465)+1,\"\")","v":""},null,{"$f":"IF(AND(BD!B2466=REF,BD!D2466>=DEB,BD!D2466<=FIN),MAX(calc!$H$1:H2465)+1,0)","v":0}]
[null,null,null,null,null,{"$f":"IF(COUNTIF(BD!$B$2:B2467,BD!B2467)=1,MAX($F$1:F2466)+1,\"\")","v":""},null,{"$f":"IF(AND(BD!B2467=REF,BD!D2467>=DEB,BD!D2467<=FIN),MAX(calc!$H$1:H2466)+1,0)","v":0}]
[null,null,null,null,null,{"$f":"IF(COUNTIF(BD!$B$2:B2468,BD!B2468)=1,MAX($F$1:F2467)+1,\"\")","v":""},null,{"$f":"IF(AND(BD!B2468=REF,BD!D2468>=DEB,BD!D2468<=FIN),MAX(calc!$H$1:H2467)+1,0)","v":0}]
[null,null,null,null,null,{"$f":"IF(COUNTIF(BD!$B$2:B2469,BD!B2469)=1,MAX($F$1:F2468)+1,\"\")","v":""},null,{"$f":"IF(AND(BD!B2469=REF,BD!D2469>=DEB,BD!D2469<=FIN),MAX(calc!$H$1:H2468)+1,0)","v":0}]
[null,null,null,null,null,{"$f":"IF(COUNTIF(BD!$B$2:B2470,BD!B2470)=1,MAX($F$1:F2469)+1,\"\")","v":""},null,{"$f":"IF(AND(BD!B2470=REF,BD!D2470>=DEB,BD!D2470<=FIN),MAX(calc!$H$1:H2469)+1,0)","v":0}]
[null,null,null,null,null,{"$f":"IF(COUNTIF(BD!$B$2:B2471,BD!B2471)=1,MAX($F$1:F2470)+1,\"\")","v":""},null,{"$f":"IF(AND(BD!B2471=REF,BD!D2471>=DEB,BD!D2471<=FIN),MAX(calc!$H$1:H2470)+1,0)","v":0}]
[null,null,null,null,null,{"$f":"IF(COUNTIF(BD!$B$2:B2472,BD!B2472)=1,MAX($F$1:F2471)+1,\"\")","v":""},null,{"$f":"IF(AND(BD!B2472=REF,BD!D2472>=DEB,BD!D2472<=FIN),MAX(calc!$H$1:H2471)+1,0)","v":0}]
[null,null,null,null,null,{"$f":"IF(COUNTIF(BD!$B$2:B2473,BD!B2473)=1,MAX($F$1:F2472)+1,\"\")","v":""},null,{"$f":"IF(AND(BD!B2473=REF,BD!D2473>=DEB,BD!D2473<=FIN),MAX(calc!$H$1:H2472)+1,0)","v":0}]
[null,null,null,null,null,{"$f":"IF(COUNTIF(BD!$B$2:B2474,BD!B2474)=1,MAX($F$1:F2473)+1,\"\")","v":""},null,{"$f":"IF(AND(BD!B2474=REF,BD!D2474>=DEB,BD!D2474<=FIN),MAX(calc!$H$1:H2473)+1,0)","v":0}]
[null,null,null,null,null,{"$f":"IF(COUNTIF(BD!$B$2:B2475,BD!B2475)=1,MAX($F$1:F2474)+1,\"\")","v":""},null,{"$f":"IF(AND(BD!B2475=REF,BD!D2475>=DEB,BD!D2475<=FIN),MAX(calc!$H$1:H2474)+1,0)","v":0}]
[null,null,null,null,null,{"$f":"IF(COUNTIF(BD!$B$2:B2476,BD!B2476)=1,MAX($F$1:F2475)+1,\"\")","v":""},null,{"$f":"IF(AND(BD!B2476=REF,BD!D2476>=DEB,BD!D2476<=FIN),MAX(calc!$H$1:H2475)+1,0)","v":0}]
[null,null,null,null,null,{"$f":"IF(COUNTIF(BD!$B$2:B2477,BD!B2477)=1,MAX($F$1:F2476)+1,\"\")","v":""},null,{"$f":"IF(AND(BD!B2477=REF,BD!D2477>=DEB,BD!D2477<=FIN),MAX(calc!$H$1:H2476)+1,0)","v":0}]
[null,null,null,null,null,{"$f":"IF(COUNTIF(BD!$B$2:B2478,BD!B2478)=1,MAX($F$1:F2477)+1,\"\")","v":""},null,{"$f":"IF(AND(BD!B2478=REF,BD!D2478>=DEB,BD!D2478<=FIN),MAX(calc!$H$1:H2477)+1,0)","v":0}]
[null,null,null,null,null,{"$f":"IF(COUNTIF(BD!$B$2:B2479,BD!B2479)=1,MAX($F$1:F2478)+1,\"\")","v":""},null,{"$f":"IF(AND(BD!B2479=REF,BD!D2479>=DEB,BD!D2479<=FIN),MAX(calc!$H$1:H2478)+1,0)","v":0}]
[null,null,null,null,null,{"$f":"IF(COUNTIF(BD!$B$2:B2480,BD!B2480)=1,MAX($F$1:F2479)+1,\"\")","v":""},null,{"$f":"IF(AND(BD!B2480=REF,BD!D2480>=DEB,BD!D2480<=FIN),MAX(calc!$H$1:H2479)+1,0)","v":0}]
[null,null,null,null,null,{"$f":"IF(COUNTIF(BD!$B$2:B2481,BD!B2481)=1,MAX($F$1:F2480)+1,\"\")","v":""},null,{"$f":"IF(AND(BD!B2481=REF,BD!D2481>=DEB,BD!D2481<=FIN),MAX(calc!$H$1:H2480)+1,0)","v":0}]
[null,null,null,null,null,{"$f":"IF(COUNTIF(BD!$B$2:B2482,BD!B2482)=1,MAX($F$1:F2481)+1,\"\")","v":""},null,{"$f":"IF(AND(BD!B2482=REF,BD!D2482>=DEB,BD!D2482<=FIN),MAX(calc!$H$1:H2481)+1,0)","v":0}]
[null,null,null,null,null,{"$f":"IF(COUNTIF(BD!$B$2:B2483,BD!B2483)=1,MAX($F$1:F2482)+1,\"\")","v":""},null,{"$f":"IF(AND(BD!B2483=REF,BD!D2483>=DEB,BD!D2483<=FIN),MAX(calc!$H$1:H2482)+1,0)","v":0}]
[null,null,null,null,null,{"$f":"IF(COUNTIF(BD!$B$2:B2484,BD!B2484)=1,MAX($F$1:F2483)+1,\"\")","v":""},null,{"$f":"IF(AND(BD!B2484=REF,BD!D2484>=DEB,BD!D2484<=FIN),MAX(calc!$H$1:H2483)+1,0)","v":0}]
[null,null,null,null,null,{"$f":"IF(COUNTIF(BD!$B$2:B2485,BD!B2485)=1,MAX($F$1:F2484)+1,\"\")","v":""},null,{"$f":"IF(AND(BD!B2485=REF,BD!D2485>=DEB,BD!D2485<=FIN),MAX(calc!$H$1:H2484)+1,0)","v":0}]
[null,null,null,null,null,{"$f":"IF(COUNTIF(BD!$B$2:B2486,BD!B2486)=1,MAX($F$1:F2485)+1,\"\")","v":""},null,{"$f":"IF(AND(BD!B2486=REF,BD!D2486>=DEB,BD!D2486<=FIN),MAX(calc!$H$1:H2485)+1,0)","v":0}]
[null,null,null,null,null,{"$f":"IF(COUNTIF(BD!$B$2:B2487,BD!B2487)=1,MAX($F$1:F2486)+1,\"\")","v":""},null,{"$f":"IF(AND(BD!B2487=REF,BD!D2487>=DEB,BD!D2487<=FIN),MAX(calc!$H$1:H2486)+1,0)","v":0}]
[null,null,null,null,null,{"$f":"IF(COUNTIF(BD!$B$2:B2488,BD!B2488)=1,MAX($F$1:F2487)+1,\"\")","v":""},null,{"$f":"IF(AND(BD!B2488=REF,BD!D2488>=DEB,BD!D2488<=FIN),MAX(calc!$H$1:H2487)+1,0)","v":0}]
[null,null,null,null,null,{"$f":"IF(COUNTIF(BD!$B$2:B2489,BD!B2489)=1,MAX($F$1:F2488)+1,\"\")","v":""},null,{"$f":"IF(AND(BD!B2489=REF,BD!D2489>=DEB,BD!D2489<=FIN),MAX(calc!$H$1:H2488)+1,0)","v":0}]
[null,null,null,null,null,{"$f":"IF(COUNTIF(BD!$B$2:B2490,BD!B2490)=1,MAX($F$1:F2489)+1,\"\")","v":""},null,{"$f":"IF(AND(BD!B2490=REF,BD!D2490>=DEB,BD!D2490<=FIN),MAX(calc!$H$1:H2489)+1,0)","v":0}]
[null,null,null,null,null,{"$f":"IF(COUNTIF(BD!$B$2:B2491,BD!B2491)=1,MAX($F$1:F2490)+1,\"\")","v":""},null,{"$f":"IF(AND(BD!B2491=REF,BD!D2491>=DEB,BD!D2491<=FIN),MAX(calc!$H$1:H2490)+1,0)","v":0}]
[null,null,null,null,null,{"$f":"IF(COUNTIF(BD!$B$2:B2492,BD!B2492)=1,MAX($F$1:F2491)+1,\"\")","v":""},null,{"$f":"IF(AND(BD!B2492=REF,BD!D2492>=DEB,BD!D2492<=FIN),MAX(calc!$H$1:H2491)+1,0)","v":0}]
[null,null,null,null,null,{"$f":"IF(COUNTIF(BD!$B$2:B2493,BD!B2493)=1,MAX($F$1:F2492)+1,\"\")","v":""},null,{"$f":"IF(AND(BD!B2493=REF,BD!D2493>=DEB,BD!D2493<=FIN),MAX(calc!$H$1:H2492)+1,0)","v":0}]
[null,null,null,null,null,{"$f":"IF(COUNTIF(BD!$B$2:B2494,BD!B2494)=1,MAX($F$1:F2493)+1,\"\")","v":""},null,{"$f":"IF(AND(BD!B2494=REF,BD!D2494>=DEB,BD!D2494<=FIN),MAX(calc!$H$1:H2493)+1,0)","v":0}]
[null,null,null,null,null,{"$f":"IF(COUNTIF(BD!$B$2:B2495,BD!B2495)=1,MAX($F$1:F2494)+1,\"\")","v":""},null,{"$f":"IF(AND(BD!B2495=REF,BD!D2495>=DEB,BD!D2495<=FIN),MAX(calc!$H$1:H2494)+1,0)","v":0}]
[null,null,null,null,null,{"$f":"IF(COUNTIF(BD!$B$2:B2496,BD!B2496)=1,MAX($F$1:F2495)+1,\"\")","v":""},null,{"$f":"IF(AND(BD!B2496=REF,BD!D2496>=DEB,BD!D2496<=FIN),MAX(calc!$H$1:H2495)+1,0)","v":0}]
[null,null,null,null,null,{"$f":"IF(COUNTIF(BD!$B$2:B2497,BD!B2497)=1,MAX($F$1:F2496)+1,\"\")","v":""},null,{"$f":"IF(AND(BD!B2497=REF,BD!D2497>=DEB,BD!D2497<=FIN),MAX(calc!$H$1:H2496)+1,0)","v":0}]
[null,null,null,null,null,{"$f":"IF(COUNTIF(BD!$B$2:B2498,BD!B2498)=1,MAX($F$1:F2497)+1,\"\")","v":""},null,{"$f":"IF(AND(BD!B2498=REF,BD!D2498>=DEB,BD!D2498<=FIN),MAX(calc!$H$1:H2497)+1,0)","v":0}]
[null,null,null,null,null,{"$f":"IF(COUNTIF(BD!$B$2:B2499,BD!B2499)=1,MAX($F$1:F2498)+1,\"\")","v":""},null,{"$f":"IF(AND(BD!B2499=REF,BD!D2499>=DEB,BD!D2499<=FIN),MAX(calc!$H$1:H2498)+1,0)","v":0}]
[null,null,null,null,null,{"$f":"IF(COUNTIF(BD!$B$2:B2500,BD!B2500)=1,MAX($F$1:F2499)+1,\"\")","v":""},null,{"$f":"IF(AND(BD!B2500=REF,BD!D2500>=DEB,BD!D2500<=FIN),MAX(calc!$H$1:H2499)+1,0)","v":0}]
[null,null,null,null,null,{"$f":"IF(COUNTIF(BD!$B$2:B2501,BD!B2501)=1,MAX($F$1:F2500)+1,\"\")","v":""},null,{"$f":"IF(AND(BD!B2501=REF,BD!D2501>=DEB,BD!D2501<=FIN),MAX(calc!$H$1:H2500)+1,0)","v":0}]
[null,null,null,null,null,{"$f":"IF(COUNTIF(BD!$B$2:B2502,BD!B2502)=1,MAX($F$1:F2501)+1,\"\")","v":""},null,{"$f":"IF(AND(BD!B2502=REF,BD!D2502>=DEB,BD!D2502<=FIN),MAX(calc!$H$1:H2501)+1,0)","v":0}]
[null,null,null,null,null,{"$f":"IF(COUNTIF(BD!$B$2:B2503,BD!B2503)=1,MAX($F$1:F2502)+1,\"\")","v":""},null,{"$f":"IF(AND(BD!B2503=REF,BD!D2503>=DEB,BD!D2503<=FIN),MAX(calc!$H$1:H2502)+1,0)","v":0}]
[null,null,null,null,null,{"$f":"IF(COUNTIF(BD!$B$2:B2504,BD!B2504)=1,MAX($F$1:F2503)+1,\"\")","v":""},null,{"$f":"IF(AND(BD!B2504=REF,BD!D2504>=DEB,BD!D2504<=FIN),MAX(calc!$H$1:H2503)+1,0)","v":0}]
[null,null,null,null,null,{"$f":"IF(COUNTIF(BD!$B$2:B2505,BD!B2505)=1,MAX($F$1:F2504)+1,\"\")","v":""},null,{"$f":"IF(AND(BD!B2505=REF,BD!D2505>=DEB,BD!D2505<=FIN),MAX(calc!$H$1:H2504)+1,0)","v":0}]
[null,null,null,null,null,{"$f":"IF(COUNTIF(BD!$B$2:B2506,BD!B2506)=1,MAX($F$1:F2505)+1,\"\")","v":""},null,{"$f":"IF(AND(BD!B2506=REF,BD!D2506>=DEB,BD!D2506<=FIN),MAX(calc!$H$1:H2505)+1,0)","v":0}]
[null,null,null,null,null,{"$f":"IF(COUNTIF(BD!$B$2:B2507,BD!B2507)=1,MAX($F$1:F2506)+1,\"\")","v":""},null,{"$f":"IF(AND(BD!B2507=REF,BD!D2507>=DEB,BD!D2507<=FIN),MAX(calc!$H$1:H2506)+1,0)","v":0}]
[null,null,null,null,null,{"$f":"IF(COUNTIF(BD!$B$2:B2508,BD!B2508)=1,MAX($F$1:F2507)+1,\"\")","v":""},null,{"$f":"IF(AND(BD!B2508=REF,BD!D2508>=DEB,BD!D2508<=FIN),MAX(calc!$H$1:H2507)+1,0)","v":0}]
[null,null,null,null,null,{"$f":"IF(COUNTIF(BD!$B$2:B2509,BD!B2509)=1,MAX($F$1:F2508)+1,\"\")","v":""},null,{"$f":"IF(AND(BD!B2509=REF,BD!D2509>=DEB,BD!D2509<=FIN),MAX(calc!$H$1:H2508)+1,0)","v":0}]
[null,null,null,null,null,{"$f":"IF(COUNTIF(BD!$B$2:B2510,BD!B2510)=1,MAX($F$1:F2509)+1,\"\")","v":""},null,{"$f":"IF(AND(BD!B2510=REF,BD!D2510>=DEB,BD!D2510<=FIN),MAX(calc!$H$1:H2509)+1,0)","v":0}]
[null,null,null,null,null,{"$f":"IF(COUNTIF(BD!$B$2:B2511,BD!B2511)=1,MAX($F$1:F2510)+1,\"\")","v":""},null,{"$f":"IF(AND(BD!B2511=REF,BD!D2511>=DEB,BD!D2511<=FIN),MAX(calc!$H$1:H2510)+1,0)","v":0}]
[null,null,null,null,null,{"$f":"IF(COUNTIF(BD!$B$2:B2512,BD!B2512)=1,MAX($F$1:F2511)+1,\"\")","v":""},null,{"$f":"IF(AND(BD!B2512=REF,BD!D2512>=DEB,BD!D2512<=FIN),MAX(calc!$H$1:H2511)+1,0)","v":0}]
[null,null,null,null,null,{"$f":"IF(COUNTIF(BD!$B$2:B2513,BD!B2513)=1,MAX($F$1:F2512)+1,\"\")","v":""},null,{"$f":"IF(AND(BD!B2513=REF,BD!D2513>=DEB,BD!D2513<=FIN),MAX(calc!$H$1:H2512)+1,0)","v":0}]
[null,null,null,null,null,{"$f":"IF(COUNTIF(BD!$B$2:B2514,BD!B2514)=1,MAX($F$1:F2513)+1,\"\")","v":""},null,{"$f":"IF(AND(BD!B2514=REF,BD!D2514>=DEB,BD!D2514<=FIN),MAX(calc!$H$1:H2513)+1,0)","v":0}]
[null,null,null,null,null,{"$f":"IF(COUNTIF(BD!$B$2:B2515,BD!B2515)=1,MAX($F$1:F2514)+1,\"\")","v":""},null,{"$f":"IF(AND(BD!B2515=REF,BD!D2515>=DEB,BD!D2515<=FIN),MAX(calc!$H$1:H2514)+1,0)","v":0}]
[null,null,null,null,null,{"$f":"IF(COUNTIF(BD!$B$2:B2516,BD!B2516)=1,MAX($F$1:F2515)+1,\"\")","v":""},null,{"$f":"IF(AND(BD!B2516=REF,BD!D2516>=DEB,BD!D2516<=FIN),MAX(calc!$H$1:H2515)+1,0)","v":0}]
[null,null,null,null,null,{"$f":"IF(COUNTIF(BD!$B$2:B2517,BD!B2517)=1,MAX($F$1:F2516)+1,\"\")","v":""},null,{"$f":"IF(AND(BD!B2517=REF,BD!D2517>=DEB,BD!D2517<=FIN),MAX(calc!$H$1:H2516)+1,0)","v":0}]
[null,null,null,null,null,{"$f":"IF(COUNTIF(BD!$B$2:B2518,BD!B2518)=1,MAX($F$1:F2517)+1,\"\")","v":""},null,{"$f":"IF(AND(BD!B2518=REF,BD!D2518>=DEB,BD!D2518<=FIN),MAX(calc!$H$1:H2517)+1,0)","v":0}]
[null,null,null,null,null,{"$f":"IF(COUNTIF(BD!$B$2:B2519,BD!B2519)=1,MAX($F$1:F2518)+1,\"\")","v":""},null,{"$f":"IF(AND(BD!B2519=REF,BD!D2519>=DEB,BD!D2519<=FIN),MAX(calc!$H$1:H2518)+1,0)","v":0}]
[null,null,null,null,null,{"$f":"IF(COUNTIF(BD!$B$2:B2520,BD!B2520)=1,MAX($F$1:F2519)+1,\"\")","v":""},null,{"$f":"IF(AND(BD!B2520=REF,BD!D2520>=DEB,BD!D2520<=FIN),MAX(calc!$H$1:H2519)+1,0)","v":0}]
[null,null,null,null,null,{"$f":"IF(COUNTIF(BD!$B$2:B2521,BD!B2521)=1,MAX($F$1:F2520)+1,\"\")","v":""},null,{"$f":"IF(AND(BD!B2521=REF,BD!D2521>=DEB,BD!D2521<=FIN),MAX(calc!$H$1:H2520)+1,0)","v":0}]
[null,null,null,null,null,{"$f":"IF(COUNTIF(BD!$B$2:B2522,BD!B2522)=1,MAX($F$1:F2521)+1,\"\")","v":""},null,{"$f":"IF(AND(BD!B2522=REF,BD!D2522>=DEB,BD!D2522<=FIN),MAX(calc!$H$1:H2521)+1,0)","v":0}]
[null,null,null,null,null,{"$f":"IF(COUNTIF(BD!$B$2:B2523,BD!B2523)=1,MAX($F$1:F2522)+1,\"\")","v":""},null,{"$f":"IF(AND(BD!B2523=REF,BD!D2523>=DEB,BD!D2523<=FIN),MAX(calc!$H$1:H2522)+1,0)","v":0}]
[null,null,null,null,null,{"$f":"IF(COUNTIF(BD!$B$2:B2524,BD!B2524)=1,MAX($F$1:F2523)+1,\"\")","v":""},null,{"$f":"IF(AND(BD!B2524=REF,BD!D2524>=DEB,BD!D2524<=FIN),MAX(calc!$H$1:H2523)+1,0)","v":0}]
[null,null,null,null,null,{"$f":"IF(COUNTIF(BD!$B$2:B2525,BD!B2525)=1,MAX($F$1:F2524)+1,\"\")","v":""},null,{"$f":"IF(AND(BD!B2525=REF,BD!D2525>=DEB,BD!D2525<=FIN),MAX(calc!$H$1:H2524)+1,0)","v":0}]
[null,null,null,null,null,{"$f":"IF(COUNTIF(BD!$B$2:B2526,BD!B2526)=1,MAX($F$1:F2525)+1,\"\")","v":""},null,{"$f":"IF(AND(BD!B2526=REF,BD!D2526>=DEB,BD!D2526<=FIN),MAX(calc!$H$1:H2525)+1,0)","v":0}]
[null,null,null,null,null,{"$f":"IF(COUNTIF(BD!$B$2:B2527,BD!B2527)=1,MAX($F$1:F2526)+1,\"\")","v":""},null,{"$f":"IF(AND(BD!B2527=REF,BD!D2527>=DEB,BD!D2527<=FIN),MAX(calc!$H$1:H2526)+1,0)","v":0}]
[null,null,null,null,null,{"$f":"IF(COUNTIF(BD!$B$2:B2528,BD!B2528)=1,MAX($F$1:F2527)+1,\"\")","v":""},null,{"$f":"IF(AND(BD!B2528=REF,BD!D2528>=DEB,BD!D2528<=FIN),MAX(calc!$H$1:H2527)+1,0)","v":0}]
[null,null,null,null,null,{"$f":"IF(COUNTIF(BD!$B$2:B2529,BD!B2529)=1,MAX($F$1:F2528)+1,\"\")","v":""},null,{"$f":"IF(AND(BD!B2529=REF,BD!D2529>=DEB,BD!D2529<=FIN),MAX(calc!$H$1:H2528)+1,0)","v":0}]
[null,null,null,null,null,{"$f":"IF(COUNTIF(BD!$B$2:B2530,BD!B2530)=1,MAX($F$1:F2529)+1,\"\")","v":""},null,{"$f":"IF(AND(BD!B2530=REF,BD!D2530>=DEB,BD!D2530<=FIN),MAX(calc!$H$1:H2529)+1,0)","v":0}]
[null,null,null,null,null,{"$f":"IF(COUNTIF(BD!$B$2:B2531,BD!B2531)=1,MAX($F$1:F2530)+1,\"\")","v":""},null,{"$f":"IF(AND(BD!B2531=REF,BD!D2531>=DEB,BD!D2531<=FIN),MAX(calc!$H$1:H2530)+1,0)","v":0}]
[null,null,null,null,null,{"$f":"IF(COUNTIF(BD!$B$2:B2532,BD!B2532)=1,MAX($F$1:F2531)+1,\"\")","v":""},null,{"$f":"IF(AND(BD!B2532=REF,BD!D2532>=DEB,BD!D2532<=FIN),MAX(calc!$H$1:H2531)+1,0)","v":0}]
[null,null,null,null,null,{"$f":"IF(COUNTIF(BD!$B$2:B2533,BD!B2533)=1,MAX($F$1:F2532)+1,\"\")","v":""},null,{"$f":"IF(AND(BD!B2533=REF,BD!D2533>=DEB,BD!D2533<=FIN),MAX(calc!$H$1:H2532)+1,0)","v":0}]
[null,null,null,null,null,{"$f":"IF(COUNTIF(BD!$B$2:B2534,BD!B2534)=1,MAX($F$1:F2533)+1,\"\")","v":""},null,{"$f":"IF(AND(BD!B2534=REF,BD!D2534>=DEB,BD!D2534<=FIN),MAX(calc!$H$1:H2533)+1,0)","v":0}]
[null,null,null,null,null,{"$f":"IF(COUNTIF(BD!$B$2:B2535,BD!B2535)=1,MAX($F$1:F2534)+1,\"\")","v":""},null,{"$f":"IF(AND(BD!B2535=REF,BD!D2535>=DEB,BD!D2535<=FIN),MAX(calc!$H$1:H2534)+1,0)","v":0}]
[null,null,null,null,null,{"$f":"IF(COUNTIF(BD!$B$2:B2536,BD!B2536)=1,MAX($F$1:F2535)+1,\"\")","v":""},null,{"$f":"IF(AND(BD!B2536=REF,BD!D2536>=DEB,BD!D2536<=FIN),MAX(calc!$H$1:H2535)+1,0)","v":0}]
[null,null,null,null,null,{"$f":"IF(COUNTIF(BD!$B$2:B2537,BD!B2537)=1,MAX($F$1:F2536)+1,\"\")","v":""},null,{"$f":"IF(AND(BD!B2537=REF,BD!D2537>=DEB,BD!D2537<=FIN),MAX(calc!$H$1:H2536)+1,0)","v":0}]
[null,null,null,null,null,{"$f":"IF(COUNTIF(BD!$B$2:B2538,BD!B2538)=1,MAX($F$1:F2537)+1,\"\")","v":""},null,{"$f":"IF(AND(BD!B2538=REF,BD!D2538>=DEB,BD!D2538<=FIN),MAX(calc!$H$1:H2537)+1,0)","v":0}]
[null,null,null,null,null,{"$f":"IF(COUNTIF(BD!$B$2:B2539,BD!B2539)=1,MAX($F$1:F2538)+1,\"\")","v":""},null,{"$f":"IF(AND(BD!B2539=REF,BD!D2539>=DEB,BD!D2539<=FIN),MAX(calc!$H$1:H2538)+1,0)","v":0}]
[null,null,null,null,null,{"$f":"IF(COUNTIF(BD!$B$2:B2540,BD!B2540)=1,MAX($F$1:F2539)+1,\"\")","v":""},null,{"$f":"IF(AND(BD!B2540=REF,BD!D2540>=DEB,BD!D2540<=FIN),MAX(calc!$H$1:H2539)+1,0)","v":0}]
[null,null,null,null,null,{"$f":"IF(COUNTIF(BD!$B$2:B2541,BD!B2541)=1,MAX($F$1:F2540)+1,\"\")","v":""},null,{"$f":"IF(AND(BD!B2541=REF,BD!D2541>=DEB,BD!D2541<=FIN),MAX(calc!$H$1:H2540)+1,0)","v":0}]
[null,null,null,null,null,{"$f":"IF(COUNTIF(BD!$B$2:B2542,BD!B2542)=1,MAX($F$1:F2541)+1,\"\")","v":""},null,{"$f":"IF(AND(BD!B2542=REF,BD!D2542>=DEB,BD!D2542<=FIN),MAX(calc!$H$1:H2541)+1,0)","v":0}]
[null,null,null,null,null,{"$f":"IF(COUNTIF(BD!$B$2:B2543,BD!B2543)=1,MAX($F$1:F2542)+1,\"\")","v":""},null,{"$f":"IF(AND(BD!B2543=REF,BD!D2543>=DEB,BD!D2543<=FIN),MAX(calc!$H$1:H2542)+1,0)","v":0}]
[null,null,null,null,null,{"$f":"IF(COUNTIF(BD!$B$2:B2544,BD!B2544)=1,MAX($F$1:F2543)+1,\"\")","v":""},null,{"$f":"IF(AND(BD!B2544=REF,BD!D2544>=DEB,BD!D2544<=FIN),MAX(calc!$H$1:H2543)+1,0)","v":0}]
[null,null,null,null,null,{"$f":"IF(COUNTIF(BD!$B$2:B2545,BD!B2545)=1,MAX($F$1:F2544)+1,\"\")","v":""},null,{"$f":"IF(AND(BD!B2545=REF,BD!D2545>=DEB,BD!D2545<=FIN),MAX(calc!$H$1:H2544)+1,0)","v":0}]
[null,null,null,null,null,{"$f":"IF(COUNTIF(BD!$B$2:B2546,BD!B2546)=1,MAX($F$1:F2545)+1,\"\")","v":""},null,{"$f":"IF(AND(BD!B2546=REF,BD!D2546>=DEB,BD!D2546<=FIN),MAX(calc!$H$1:H2545)+1,0)","v":0}]
[null,null,null,null,null,{"$f":"IF(COUNTIF(BD!$B$2:B2547,BD!B2547)=1,MAX($F$1:F2546)+1,\"\")","v":""},null,{"$f":"IF(AND(BD!B2547=REF,BD!D2547>=DEB,BD!D2547<=FIN),MAX(calc!$H$1:H2546)+1,0)","v":0}]
[null,null,null,null,null,{"$f":"IF(COUNTIF(BD!$B$2:B2548,BD!B2548)=1,MAX($F$1:F2547)+1,\"\")","v":""},null,{"$f":"IF(AND(BD!B2548=REF,BD!D2548>=DEB,BD!D2548<=FIN),MAX(calc!$H$1:H2547)+1,0)","v":0}]
[null,null,null,null,null,{"$f":"IF(COUNTIF(BD!$B$2:B2549,BD!B2549)=1,MAX($F$1:F2548)+1,\"\")","v":""},null,{"$f":"IF(AND(BD!B2549=REF,BD!D2549>=DEB,BD!D2549<=FIN),MAX(calc!$H$1:H2548)+1,0)","v":0}]
[null,null,null,null,null,{"$f":"IF(COUNTIF(BD!$B$2:B2550,BD!B2550)=1,MAX($F$1:F2549)+1,\"\")","v":""},null,{"$f":"IF(AND(BD!B2550=REF,BD!D2550>=DEB,BD!D2550<=FIN),MAX(calc!$H$1:H2549)+1,0)","v":0}]
[null,null,null,null,null,{"$f":"IF(COUNTIF(BD!$B$2:B2551,BD!B2551)=1,MAX($F$1:F2550)+1,\"\")","v":""},null,{"$f":"IF(AND(BD!B2551=REF,BD!D2551>=DEB,BD!D2551<=FIN),MAX(calc!$H$1:H2550)+1,0)","v":0}]
[null,null,null,null,null,{"$f":"IF(COUNTIF(BD!$B$2:B2552,BD!B2552)=1,MAX($F$1:F2551)+1,\"\")","v":""},null,{"$f":"IF(AND(BD!B2552=REF,BD!D2552>=DEB,BD!D2552<=FIN),MAX(calc!$H$1:H2551)+1,0)","v":0}]
[null,null,null,null,null,{"$f":"IF(COUNTIF(BD!$B$2:B2553,BD!B2553)=1,MAX($F$1:F2552)+1,\"\")","v":""},null,{"$f":"IF(AND(BD!B2553=REF,BD!D2553>=DEB,BD!D2553<=FIN),MAX(calc!$H$1:H2552)+1,0)","v":0}]
[null,null,null,null,null,{"$f":"IF(COUNTIF(BD!$B$2:B2554,BD!B2554)=1,MAX($F$1:F2553)+1,\"\")","v":""},null,{"$f":"IF(AND(BD!B2554=REF,BD!D2554>=DEB,BD!D2554<=FIN),MAX(calc!$H$1:H2553)+1,0)","v":0}]
[null,null,null,null,null,{"$f":"IF(COUNTIF(BD!$B$2:B2555,BD!B2555)=1,MAX($F$1:F2554)+1,\"\")","v":""},null,{"$f":"IF(AND(BD!B2555=REF,BD!D2555>=DEB,BD!D2555<=FIN),MAX(calc!$H$1:H2554)+1,0)","v":0}]
[null,null,null,null,null,{"$f":"IF(COUNTIF(BD!$B$2:B2556,BD!B2556)=1,MAX($F$1:F2555)+1,\"\")","v":""},null,{"$f":"IF(AND(BD!B2556=REF,BD!D2556>=DEB,BD!D2556<=FIN),MAX(calc!$H$1:H2555)+1,0)","v":0}]
[null,null,null,null,null,{"$f":"IF(COUNTIF(BD!$B$2:B2557,BD!B2557)=1,MAX($F$1:F2556)+1,\"\")","v":""},null,{"$f":"IF(AND(BD!B2557=REF,BD!D2557>=DEB,BD!D2557<=FIN),MAX(calc!$H$1:H2556)+1,0)","v":0}]
[null,null,null,null,null,{"$f":"IF(COUNTIF(BD!$B$2:B2558,BD!B2558)=1,MAX($F$1:F2557)+1,\"\")","v":""},null,{"$f":"IF(AND(BD!B2558=REF,BD!D2558>=DEB,BD!D2558<=FIN),MAX(calc!$H$1:H2557)+1,0)","v":0}]
[null,null,null,null,null,{"$f":"IF(COUNTIF(BD!$B$2:B2559,BD!B2559)=1,MAX($F$1:F2558)+1,\"\")","v":""},null,{"$f":"IF(AND(BD!B2559=REF,BD!D2559>=DEB,BD!D2559<=FIN),MAX(calc!$H$1:H2558)+1,0)","v":0}]
[null,null,null,null,null,{"$f":"IF(COUNTIF(BD!$B$2:B2560,BD!B2560)=1,MAX($F$1:F2559)+1,\"\")","v":""},null,{"$f":"IF(AND(BD!B2560=REF,BD!D2560>=DEB,BD!D2560<=FIN),MAX(calc!$H$1:H2559)+1,0)","v":0}]
[null,null,null,null,null,{"$f":"IF(COUNTIF(BD!$B$2:B2561,BD!B2561)=1,MAX($F$1:F2560)+1,\"\")","v":""},null,{"$f":"IF(AND(BD!B2561=REF,BD!D2561>=DEB,BD!D2561<=FIN),MAX(calc!$H$1:H2560)+1,0)","v":0}]
[null,null,null,null,null,{"$f":"IF(COUNTIF(BD!$B$2:B2562,BD!B2562)=1,MAX($F$1:F2561)+1,\"\")","v":""},null,{"$f":"IF(AND(BD!B2562=REF,BD!D2562>=DEB,BD!D2562<=FIN),MAX(calc!$H$1:H2561)+1,0)","v":0}]
[null,null,null,null,null,{"$f":"IF(COUNTIF(BD!$B$2:B2563,BD!B2563)=1,MAX($F$1:F2562)+1,\"\")","v":""},null,{"$f":"IF(AND(BD!B2563=REF,BD!D2563>=DEB,BD!D2563<=FIN),MAX(calc!$H$1:H2562)+1,0)","v":0}]
[null,null,null,null,null,{"$f":"IF(COUNTIF(BD!$B$2:B2564,BD!B2564)=1,MAX($F$1:F2563)+1,\"\")","v":""},null,{"$f":"IF(AND(BD!B2564=REF,BD!D2564>=DEB,BD!D2564<=FIN),MAX(calc!$H$1:H2563)+1,0)","v":0}]
[null,null,null,null,null,{"$f":"IF(COUNTIF(BD!$B$2:B2565,BD!B2565)=1,MAX($F$1:F2564)+1,\"\")","v":""},null,{"$f":"IF(AND(BD!B2565=REF,BD!D2565>=DEB,BD!D2565<=FIN),MAX(calc!$H$1:H2564)+1,0)","v":0}]
[null,null,null,null,null,{"$f":"IF(COUNTIF(BD!$B$2:B2566,BD!B2566)=1,MAX($F$1:F2565)+1,\"\")","v":""},null,{"$f":"IF(AND(BD!B2566=REF,BD!D2566>=DEB,BD!D2566<=FIN),MAX(calc!$H$1:H2565)+1,0)","v":0}]
[null,null,null,null,null,{"$f":"IF(COUNTIF(BD!$B$2:B2567,BD!B2567)=1,MAX($F$1:F2566)+1,\"\")","v":""},null,{"$f":"IF(AND(BD!B2567=REF,BD!D2567>=DEB,BD!D2567<=FIN),MAX(calc!$H$1:H2566)+1,0)","v":0}]
[null,null,null,null,null,{"$f":"IF(COUNTIF(BD!$B$2:B2568,BD!B2568)=1,MAX($F$1:F2567)+1,\"\")","v":""},null,{"$f":"IF(AND(BD!B2568=REF,BD!D2568>=DEB,BD!D2568<=FIN),MAX(calc!$H$1:H2567)+1,0)","v":0}]
[null,null,null,null,null,{"$f":"IF(COUNTIF(BD!$B$2:B2569,BD!B2569)=1,MAX($F$1:F2568)+1,\"\")","v":""},null,{"$f":"IF(AND(BD!B2569=REF,BD!D2569>=DEB,BD!D2569<=FIN),MAX(calc!$H$1:H2568)+1,0)","v":0}]
[null,null,null,null,null,{"$f":"IF(COUNTIF(BD!$B$2:B2570,BD!B2570)=1,MAX($F$1:F2569)+1,\"\")","v":""},null,{"$f":"IF(AND(BD!B2570=REF,BD!D2570>=DEB,BD!D2570<=FIN),MAX(calc!$H$1:H2569)+1,0)","v":0}]
[null,null,null,null,null,{"$f":"IF(COUNTIF(BD!$B$2:B2571,BD!B2571)=1,MAX($F$1:F2570)+1,\"\")","v":""},null,{"$f":"IF(AND(BD!B2571=REF,BD!D2571>=DEB,BD!D2571<=FIN),MAX(calc!$H$1:H2570)+1,0)","v":0}]
[null,null,null,null,null,{"$f":"IF(COUNTIF(BD!$B$2:B2572,BD!B2572)=1,MAX($F$1:F2571)+1,\"\")","v":""},null,{"$f":"IF(AND(BD!B2572=REF,BD!D2572>=DEB,BD!D2572<=FIN),MAX(calc!$H$1:H2571)+1,0)","v":0}]
[null,null,null,null,null,{"$f":"IF(COUNTIF(BD!$B$2:B2573,BD!B2573)=1,MAX($F$1:F2572)+1,\"\")","v":""},null,{"$f":"IF(AND(BD!B2573=REF,BD!D2573>=DEB,BD!D2573<=FIN),MAX(calc!$H$1:H2572)+1,0)","v":0}]
[null,null,null,null,null,{"$f":"IF(COUNTIF(BD!$B$2:B2574,BD!B2574)=1,MAX($F$1:F2573)+1,\"\")","v":""},null,{"$f":"IF(AND(BD!B2574=REF,BD!D2574>=DEB,BD!D2574<=FIN),MAX(calc!$H$1:H2573)+1,0)","v":0}]
[null,null,null,null,null,{"$f":"IF(COUNTIF(BD!$B$2:B2575,BD!B2575)=1,MAX($F$1:F2574)+1,\"\")","v":""},null,{"$f":"IF(AND(BD!B2575=REF,BD!D2575>=DEB,BD!D2575<=FIN),MAX(calc!$H$1:H2574)+1,0)","v":0}]
[null,null,null,null,null,{"$f":"IF(COUNTIF(BD!$B$2:B2576,BD!B2576)=1,MAX($F$1:F2575)+1,\"\")","v":""},null,{"$f":"IF(AND(BD!B2576=REF,BD!D2576>=DEB,BD!D2576<=FIN),MAX(calc!$H$1:H2575)+1,0)","v":0}]
[null,null,null,null,null,{"$f":"IF(COUNTIF(BD!$B$2:B2577,BD!B2577)=1,MAX($F$1:F2576)+1,\"\")","v":""},null,{"$f":"IF(AND(BD!B2577=REF,BD!D2577>=DEB,BD!D2577<=FIN),MAX(calc!$H$1:H2576)+1,0)","v":0}]
[null,null,null,null,null,{"$f":"IF(COUNTIF(BD!$B$2:B2578,BD!B2578)=1,MAX($F$1:F2577)+1,\"\")","v":""},null,{"$f":"IF(AND(BD!B2578=REF,BD!D2578>=DEB,BD!D2578<=FIN),MAX(calc!$H$1:H2577)+1,0)","v":0}]
[null,null,null,null,null,{"$f":"IF(COUNTIF(BD!$B$2:B2579,BD!B2579)=1,MAX($F$1:F2578)+1,\"\")","v":""},null,{"$f":"IF(AND(BD!B2579=REF,BD!D2579>=DEB,BD!D2579<=FIN),MAX(calc!$H$1:H2578)+1,0)","v":0}]
[null,null,null,null,null,{"$f":"IF(COUNTIF(BD!$B$2:B2580,BD!B2580)=1,MAX($F$1:F2579)+1,\"\")","v":""},null,{"$f":"IF(AND(BD!B2580=REF,BD!D2580>=DEB,BD!D2580<=FIN),MAX(calc!$H$1:H2579)+1,0)","v":0}]
[null,null,null,null,null,{"$f":"IF(COUNTIF(BD!$B$2:B2581,BD!B2581)=1,MAX($F$1:F2580)+1,\"\")","v":""},null,{"$f":"IF(AND(BD!B2581=REF,BD!D2581>=DEB,BD!D2581<=FIN),MAX(calc!$H$1:H2580)+1,0)","v":0}]
[null,null,null,null,null,{"$f":"IF(COUNTIF(BD!$B$2:B2582,BD!B2582)=1,MAX($F$1:F2581)+1,\"\")","v":""},null,{"$f":"IF(AND(BD!B2582=REF,BD!D2582>=DEB,BD!D2582<=FIN),MAX(calc!$H$1:H2581)+1,0)","v":0}]
[null,null,null,null,null,{"$f":"IF(COUNTIF(BD!$B$2:B2583,BD!B2583)=1,MAX($F$1:F2582)+1,\"\")","v":""},null,{"$f":"IF(AND(BD!B2583=REF,BD!D2583>=DEB,BD!D2583<=FIN),MAX(calc!$H$1:H2582)+1,0)","v":0}]
[null,null,null,null,null,{"$f":"IF(COUNTIF(BD!$B$2:B2584,BD!B2584)=1,MAX($F$1:F2583)+1,\"\")","v":""},null,{"$f":"IF(AND(BD!B2584=REF,BD!D2584>=DEB,BD!D2584<=FIN),MAX(calc!$H$1:H2583)+1,0)","v":0}]
[null,null,null,null,null,{"$f":"IF(COUNTIF(BD!$B$2:B2585,BD!B2585)=1,MAX($F$1:F2584)+1,\"\")","v":""},null,{"$f":"IF(AND(BD!B2585=REF,BD!D2585>=DEB,BD!D2585<=FIN),MAX(calc!$H$1:H2584)+1,0)","v":0}]
[null,null,null,null,null,{"$f":"IF(COUNTIF(BD!$B$2:B2586,BD!B2586)=1,MAX($F$1:F2585)+1,\"\")","v":""},null,{"$f":"IF(AND(BD!B2586=REF,BD!D2586>=DEB,BD!D2586<=FIN),MAX(calc!$H$1:H2585)+1,0)","v":0}]
[null,null,null,null,null,{"$f":"IF(COUNTIF(BD!$B$2:B2587,BD!B2587)=1,MAX($F$1:F2586)+1,\"\")","v":""},null,{"$f":"IF(AND(BD!B2587=REF,BD!D2587>=DEB,BD!D2587<=FIN),MAX(calc!$H$1:H2586)+1,0)","v":0}]
[null,null,null,null,null,{"$f":"IF(COUNTIF(BD!$B$2:B2588,BD!B2588)=1,MAX($F$1:F2587)+1,\"\")","v":""},null,{"$f":"IF(AND(BD!B2588=REF,BD!D2588>=DEB,BD!D2588<=FIN),MAX(calc!$H$1:H2587)+1,0)","v":0}]
[null,null,null,null,null,{"$f":"IF(COUNTIF(BD!$B$2:B2589,BD!B2589)=1,MAX($F$1:F2588)+1,\"\")","v":""},null,{"$f":"IF(AND(BD!B2589=REF,BD!D2589>=DEB,BD!D2589<=FIN),MAX(calc!$H$1:H2588)+1,0)","v":0}]
[null,null,null,null,null,{"$f":"IF(COUNTIF(BD!$B$2:B2590,BD!B2590)=1,MAX($F$1:F2589)+1,\"\")","v":""},null,{"$f":"IF(AND(BD!B2590=REF,BD!D2590>=DEB,BD!D2590<=FIN),MAX(calc!$H$1:H2589)+1,0)","v":0}]
[null,null,null,null,null,{"$f":"IF(COUNTIF(BD!$B$2:B2591,BD!B2591)=1,MAX($F$1:F2590)+1,\"\")","v":""},null,{"$f":"IF(AND(BD!B2591=REF,BD!D2591>=DEB,BD!D2591<=FIN),MAX(calc!$H$1:H2590)+1,0)","v":0}]
[null,null,null,null,null,{"$f":"IF(COUNTIF(BD!$B$2:B2592,BD!B2592)=1,MAX($F$1:F2591)+1,\"\")","v":""},null,{"$f":"IF(AND(BD!B2592=REF,BD!D2592>=DEB,BD!D2592<=FIN),MAX(calc!$H$1:H2591)+1,0)","v":0}]
[null,null,null,null,null,{"$f":"IF(COUNTIF(BD!$B$2:B2593,BD!B2593)=1,MAX($F$1:F2592)+1,\"\")","v":""},null,{"$f":"IF(AND(BD!B2593=REF,BD!D2593>=DEB,BD!D2593<=FIN),MAX(calc!$H$1:H2592)+1,0)","v":0}]
[null,null,null,null,null,{"$f":"IF(COUNTIF(BD!$B$2:B2594,BD!B2594)=1,MAX($F$1:F2593)+1,\"\")","v":""},null,{"$f":"IF(AND(BD!B2594=REF,BD!D2594>=DEB,BD!D2594<=FIN),MAX(calc!$H$1:H2593)+1,0)","v":0}]
[null,null,null,null,null,{"$f":"IF(COUNTIF(BD!$B$2:B2595,BD!B2595)=1,MAX($F$1:F2594)+1,\"\")","v":""},null,{"$f":"IF(AND(BD!B2595=REF,BD!D2595>=DEB,BD!D2595<=FIN),MAX(calc!$H$1:H2594)+1,0)","v":0}]
[null,null,null,null,null,{"$f":"IF(COUNTIF(BD!$B$2:B2596,BD!B2596)=1,MAX($F$1:F2595)+1,\"\")","v":""},null,{"$f":"IF(AND(BD!B2596=REF,BD!D2596>=DEB,BD!D2596<=FIN),MAX(calc!$H$1:H2595)+1,0)","v":0}]
[null,null,null,null,null,{"$f":"IF(COUNTIF(BD!$B$2:B2597,BD!B2597)=1,MAX($F$1:F2596)+1,\"\")","v":""},null,{"$f":"IF(AND(BD!B2597=REF,BD!D2597>=DEB,BD!D2597<=FIN),MAX(calc!$H$1:H2596)+1,0)","v":0}]
[null,null,null,null,null,{"$f":"IF(COUNTIF(BD!$B$2:B2598,BD!B2598)=1,MAX($F$1:F2597)+1,\"\")","v":""},null,{"$f":"IF(AND(BD!B2598=REF,BD!D2598>=DEB,BD!D2598<=FIN),MAX(calc!$H$1:H2597)+1,0)","v":0}]
[null,null,null,null,null,{"$f":"IF(COUNTIF(BD!$B$2:B2599,BD!B2599)=1,MAX($F$1:F2598)+1,\"\")","v":""},null,{"$f":"IF(AND(BD!B2599=REF,BD!D2599>=DEB,BD!D2599<=FIN),MAX(calc!$H$1:H2598)+1,0)","v":0}]
[null,null,null,null,null,{"$f":"IF(COUNTIF(BD!$B$2:B2600,BD!B2600)=1,MAX($F$1:F2599)+1,\"\")","v":""},null,{"$f":"IF(AND(BD!B2600=REF,BD!D2600>=DEB,BD!D2600<=FIN),MAX(calc!$H$1:H2599)+1,0)","v":0}]
[null,null,null,null,null,{"$f":"IF(COUNTIF(BD!$B$2:B2601,BD!B2601)=1,MAX($F$1:F2600)+1,\"\")","v":""},null,{"$f":"IF(AND(BD!B2601=REF,BD!D2601>=DEB,BD!D2601<=FIN),MAX(calc!$H$1:H2600)+1,0)","v":0}]
[null,null,null,null,null,{"$f":"IF(COUNTIF(BD!$B$2:B2602,BD!B2602)=1,MAX($F$1:F2601)+1,\"\")","v":""},null,{"$f":"IF(AND(BD!B2602=REF,BD!D2602>=DEB,BD!D2602<=FIN),MAX(calc!$H$1:H2601)+1,0)","v":0}]
[null,null,null,null,null,{"$f":"IF(COUNTIF(BD!$B$2:B2603,BD!B2603)=1,MAX($F$1:F2602)+1,\"\")","v":""},null,{"$f":"IF(AND(BD!B2603=REF,BD!D2603>=DEB,BD!D2603<=FIN),MAX(calc!$H$1:H2602)+1,0)","v":0}]
[null,null,null,null,null,{"$f":"IF(COUNTIF(BD!$B$2:B2604,BD!B2604)=1,MAX($F$1:F2603)+1,\"\")","v":""},null,{"$f":"IF(AND(BD!B2604=REF,BD!D2604>=DEB,BD!D2604<=FIN),MAX(calc!$H$1:H2603)+1,0)","v":0}]
[null,null,null,null,null,{"$f":"IF(COUNTIF(BD!$B$2:B2605,BD!B2605)=1,MAX($F$1:F2604)+1,\"\")","v":""},null,{"$f":"IF(AND(BD!B2605=REF,BD!D2605>=DEB,BD!D2605<=FIN),MAX(calc!$H$1:H2604)+1,0)","v":0}]
[null,null,null,null,null,{"$f":"IF(COUNTIF(BD!$B$2:B2606,BD!B2606)=1,MAX($F$1:F2605)+1,\"\")","v":""},null,{"$f":"IF(AND(BD!B2606=REF,BD!D2606>=DEB,BD!D2606<=FIN),MAX(calc!$H$1:H2605)+1,0)","v":0}]
[null,null,null,null,null,{"$f":"IF(COUNTIF(BD!$B$2:B2607,BD!B2607)=1,MAX($F$1:F2606)+1,\"\")","v":""},null,{"$f":"IF(AND(BD!B2607=REF,BD!D2607>=DEB,BD!D2607<=FIN),MAX(calc!$H$1:H2606)+1,0)","v":0}]
[null,null,null,null,null,{"$f":"IF(COUNTIF(BD!$B$2:B2608,BD!B2608)=1,MAX($F$1:F2607)+1,\"\")","v":""},null,{"$f":"IF(AND(BD!B2608=REF,BD!D2608>=DEB,BD!D2608<=FIN),MAX(calc!$H$1:H2607)+1,0)","v":0}]
[null,null,null,null,null,{"$f":"IF(COUNTIF(BD!$B$2:B2609,BD!B2609)=1,MAX($F$1:F2608)+1,\"\")","v":""},null,{"$f":"IF(AND(BD!B2609=REF,BD!D2609>=DEB,BD!D2609<=FIN),MAX(calc!$H$1:H2608)+1,0)","v":0}]
[null,null,null,null,null,{"$f":"IF(COUNTIF(BD!$B$2:B2610,BD!B2610)=1,MAX($F$1:F2609)+1,\"\")","v":""},null,{"$f":"IF(AND(BD!B2610=REF,BD!D2610>=DEB,BD!D2610<=FIN),MAX(calc!$H$1:H2609)+1,0)","v":0}]
[null,null,null,null,null,{"$f":"IF(COUNTIF(BD!$B$2:B2611,BD!B2611)=1,MAX($F$1:F2610)+1,\"\")","v":""},null,{"$f":"IF(AND(BD!B2611=REF,BD!D2611>=DEB,BD!D2611<=FIN),MAX(calc!$H$1:H2610)+1,0)","v":0}]
[null,null,null,null,null,{"$f":"IF(COUNTIF(BD!$B$2:B2612,BD!B2612)=1,MAX($F$1:F2611)+1,\"\")","v":""},null,{"$f":"IF(AND(BD!B2612=REF,BD!D2612>=DEB,BD!D2612<=FIN),MAX(calc!$H$1:H2611)+1,0)","v":0}]
[null,null,null,null,null,{"$f":"IF(COUNTIF(BD!$B$2:B2613,BD!B2613)=1,MAX($F$1:F2612)+1,\"\")","v":""},null,{"$f":"IF(AND(BD!B2613=REF,BD!D2613>=DEB,BD!D2613<=FIN),MAX(calc!$H$1:H2612)+1,0)","v":0}]
[null,null,null,null,null,{"$f":"IF(COUNTIF(BD!$B$2:B2614,BD!B2614)=1,MAX($F$1:F2613)+1,\"\")","v":""},null,{"$f":"IF(AND(BD!B2614=REF,BD!D2614>=DEB,BD!D2614<=FIN),MAX(calc!$H$1:H2613)+1,0)","v":0}]
[null,null,null,null,null,{"$f":"IF(COUNTIF(BD!$B$2:B2615,BD!B2615)=1,MAX($F$1:F2614)+1,\"\")","v":""},null,{"$f":"IF(AND(BD!B2615=REF,BD!D2615>=DEB,BD!D2615<=FIN),MAX(calc!$H$1:H2614)+1,0)","v":0}]
[null,null,null,null,null,{"$f":"IF(COUNTIF(BD!$B$2:B2616,BD!B2616)=1,MAX($F$1:F2615)+1,\"\")","v":""},null,{"$f":"IF(AND(BD!B2616=REF,BD!D2616>=DEB,BD!D2616<=FIN),MAX(calc!$H$1:H2615)+1,0)","v":0}]
[null,null,null,null,null,{"$f":"IF(COUNTIF(BD!$B$2:B2617,BD!B2617)=1,MAX($F$1:F2616)+1,\"\")","v":""},null,{"$f":"IF(AND(BD!B2617=REF,BD!D2617>=DEB,BD!D2617<=FIN),MAX(calc!$H$1:H2616)+1,0)","v":0}]
[null,null,null,null,null,{"$f":"IF(COUNTIF(BD!$B$2:B2618,BD!B2618)=1,MAX($F$1:F2617)+1,\"\")","v":""},null,{"$f":"IF(AND(BD!B2618=REF,BD!D2618>=DEB,BD!D2618<=FIN),MAX(calc!$H$1:H2617)+1,0)","v":0}]
[null,null,null,null,null,{"$f":"IF(COUNTIF(BD!$B$2:B2619,BD!B2619)=1,MAX($F$1:F2618)+1,\"\")","v":""},null,{"$f":"IF(AND(BD!B2619=REF,BD!D2619>=DEB,BD!D2619<=FIN),MAX(calc!$H$1:H2618)+1,0)","v":0}]
[null,null,null,null,null,{"$f":"IF(COUNTIF(BD!$B$2:B2620,BD!B2620)=1,MAX($F$1:F2619)+1,\"\")","v":""},null,{"$f":"IF(AND(BD!B2620=REF,BD!D2620>=DEB,BD!D2620<=FIN),MAX(calc!$H$1:H2619)+1,0)","v":0}]
[null,null,null,null,null,{"$f":"IF(COUNTIF(BD!$B$2:B2621,BD!B2621)=1,MAX($F$1:F2620)+1,\"\")","v":""},null,{"$f":"IF(AND(BD!B2621=REF,BD!D2621>=DEB,BD!D2621<=FIN),MAX(calc!$H$1:H2620)+1,0)","v":0}]
[null,null,null,null,null,{"$f":"IF(COUNTIF(BD!$B$2:B2622,BD!B2622)=1,MAX($F$1:F2621)+1,\"\")","v":""},null,{"$f":"IF(AND(BD!B2622=REF,BD!D2622>=DEB,BD!D2622<=FIN),MAX(calc!$H$1:H2621)+1,0)","v":0}]
[null,null,null,null,null,{"$f":"IF(COUNTIF(BD!$B$2:B2623,BD!B2623)=1,MAX($F$1:F2622)+1,\"\")","v":""},null,{"$f":"IF(AND(BD!B2623=REF,BD!D2623>=DEB,BD!D2623<=FIN),MAX(calc!$H$1:H2622)+1,0)","v":0}]
[null,null,null,null,null,{"$f":"IF(COUNTIF(BD!$B$2:B2624,BD!B2624)=1,MAX($F$1:F2623)+1,\"\")","v":""},null,{"$f":"IF(AND(BD!B2624=REF,BD!D2624>=DEB,BD!D2624<=FIN),MAX(calc!$H$1:H2623)+1,0)","v":0}]
[null,null,null,null,null,{"$f":"IF(COUNTIF(BD!$B$2:B2625,BD!B2625)=1,MAX($F$1:F2624)+1,\"\")","v":""},null,{"$f":"IF(AND(BD!B2625=REF,BD!D2625>=DEB,BD!D2625<=FIN),MAX(calc!$H$1:H2624)+1,0)","v":0}]
[null,null,null,null,null,{"$f":"IF(COUNTIF(BD!$B$2:B2626,BD!B2626)=1,MAX($F$1:F2625)+1,\"\")","v":""},null,{"$f":"IF(AND(BD!B2626=REF,BD!D2626>=DEB,BD!D2626<=FIN),MAX(calc!$H$1:H2625)+1,0)","v":0}]
[null,null,null,null,null,{"$f":"IF(COUNTIF(BD!$B$2:B2627,BD!B2627)=1,MAX($F$1:F2626)+1,\"\")","v":""},null,{"$f":"IF(AND(BD!B2627=REF,BD!D2627>=DEB,BD!D2627<=FIN),MAX(calc!$H$1:H2626)+1,0)","v":0}]
[null,null,null,null,null,{"$f":"IF(COUNTIF(BD!$B$2:B2628,BD!B2628)=1,MAX($F$1:F2627)+1,\"\")","v":""},null,{"$f":"IF(AND(BD!B2628=REF,BD!D2628>=DEB,BD!D2628<=FIN),MAX(calc!$H$1:H2627)+1,0)","v":0}]
[null,null,null,null,null,{"$f":"IF(COUNTIF(BD!$B$2:B2629,BD!B2629)=1,MAX($F$1:F2628)+1,\"\")","v":""},null,{"$f":"IF(AND(BD!B2629=REF,BD!D2629>=DEB,BD!D2629<=FIN),MAX(calc!$H$1:H2628)+1,0)","v":0}]
[null,null,null,null,null,{"$f":"IF(COUNTIF(BD!$B$2:B2630,BD!B2630)=1,MAX($F$1:F2629)+1,\"\")","v":""},null,{"$f":"IF(AND(BD!B2630=REF,BD!D2630>=DEB,BD!D2630<=FIN),MAX(calc!$H$1:H2629)+1,0)","v":0}]
[null,null,null,null,null,{"$f":"IF(COUNTIF(BD!$B$2:B2631,BD!B2631)=1,MAX($F$1:F2630)+1,\"\")","v":""},null,{"$f":"IF(AND(BD!B2631=REF,BD!D2631>=DEB,BD!D2631<=FIN),MAX(calc!$H$1:H2630)+1,0)","v":0}]
[null,null,null,null,null,{"$f":"IF(COUNTIF(BD!$B$2:B2632,BD!B2632)=1,MAX($F$1:F2631)+1,\"\")","v":""},null,{"$f":"IF(AND(BD!B2632=REF,BD!D2632>=DEB,BD!D2632<=FIN),MAX(calc!$H$1:H2631)+1,0)","v":0}]
[null,null,null,null,null,{"$f":"IF(COUNTIF(BD!$B$2:B2633,BD!B2633)=1,MAX($F$1:F2632)+1,\"\")","v":""},null,{"$f":"IF(AND(BD!B2633=REF,BD!D2633>=DEB,BD!D2633<=FIN),MAX(calc!$H$1:H2632)+1,0)","v":0}]
[null,null,null,null,null,{"$f":"IF(COUNTIF(BD!$B$2:B2634,BD!B2634)=1,MAX($F$1:F2633)+1,\"\")","v":""},null,{"$f":"IF(AND(BD!B2634=REF,BD!D2634>=DEB,BD!D2634<=FIN),MAX(calc!$H$1:H2633)+1,0)","v":0}]
[null,null,null,null,null,{"$f":"IF(COUNTIF(BD!$B$2:B2635,BD!B2635)=1,MAX($F$1:F2634)+1,\"\")","v":""},null,{"$f":"IF(AND(BD!B2635=REF,BD!D2635>=DEB,BD!D2635<=FIN),MAX(calc!$H$1:H2634)+1,0)","v":0}]
[null,null,null,null,null,{"$f":"IF(COUNTIF(BD!$B$2:B2636,BD!B2636)=1,MAX($F$1:F2635)+1,\"\")","v":""},null,{"$f":"IF(AND(BD!B2636=REF,BD!D2636>=DEB,BD!D2636<=FIN),MAX(calc!$H$1:H2635)+1,0)","v":0}]
[null,null,null,null,null,{"$f":"IF(COUNTIF(BD!$B$2:B2637,BD!B2637)=1,MAX($F$1:F2636)+1,\"\")","v":""},null,{"$f":"IF(AND(BD!B2637=REF,BD!D2637>=DEB,BD!D2637<=FIN),MAX(calc!$H$1:H2636)+1,0)","v":0}]
[null,null,null,null,null,{"$f":"IF(COUNTIF(BD!$B$2:B2638,BD!B2638)=1,MAX($F$1:F2637)+1,\"\")","v":""},null,{"$f":"IF(AND(BD!B2638=REF,BD!D2638>=DEB,BD!D2638<=FIN),MAX(calc!$H$1:H2637)+1,0)","v":0}]
[null,null,null,null,null,{"$f":"IF(COUNTIF(BD!$B$2:B2639,BD!B2639)=1,MAX($F$1:F2638)+1,\"\")","v":""},null,{"$f":"IF(AND(BD!B2639=REF,BD!D2639>=DEB,BD!D2639<=FIN),MAX(calc!$H$1:H2638)+1,0)","v":0}]
[null,null,null,null,null,{"$f":"IF(COUNTIF(BD!$B$2:B2640,BD!B2640)=1,MAX($F$1:F2639)+1,\"\")","v":""},null,{"$f":"IF(AND(BD!B2640=REF,BD!D2640>=DEB,BD!D2640<=FIN),MAX(calc!$H$1:H2639)+1,0)","v":0}]
[null,null,null,null,null,{"$f":"IF(COUNTIF(BD!$B$2:B2641,BD!B2641)=1,MAX($F$1:F2640)+1,\"\")","v":""},null,{"$f":"IF(AND(BD!B2641=REF,BD!D2641>=DEB,BD!D2641<=FIN),MAX(calc!$H$1:H2640)+1,0)","v":0}]
[null,null,null,null,null,{"$f":"IF(COUNTIF(BD!$B$2:B2642,BD!B2642)=1,MAX($F$1:F2641)+1,\"\")","v":""},null,{"$f":"IF(AND(BD!B2642=REF,BD!D2642>=DEB,BD!D2642<=FIN),MAX(calc!$H$1:H2641)+1,0)","v":0}]
[null,null,null,null,null,{"$f":"IF(COUNTIF(BD!$B$2:B2643,BD!B2643)=1,MAX($F$1:F2642)+1,\"\")","v":""},null,{"$f":"IF(AND(BD!B2643=REF,BD!D2643>=DEB,BD!D2643<=FIN),MAX(calc!$H$1:H2642)+1,0)","v":0}]
[null,null,null,null,null,{"$f":"IF(COUNTIF(BD!$B$2:B2644,BD!B2644)=1,MAX($F$1:F2643)+1,\"\")","v":""},null,{"$f":"IF(AND(BD!B2644=REF,BD!D2644>=DEB,BD!D2644<=FIN),MAX(calc!$H$1:H2643)+1,0)","v":0}]
[null,null,null,null,null,{"$f":"IF(COUNTIF(BD!$B$2:B2645,BD!B2645)=1,MAX($F$1:F2644)+1,\"\")","v":""},null,{"$f":"IF(AND(BD!B2645=REF,BD!D2645>=DEB,BD!D2645<=FIN),MAX(calc!$H$1:H2644)+1,0)","v":0}]
[null,null,null,null,null,{"$f":"IF(COUNTIF(BD!$B$2:B2646,BD!B2646)=1,MAX($F$1:F2645)+1,\"\")","v":""},null,{"$f":"IF(AND(BD!B2646=REF,BD!D2646>=DEB,BD!D2646<=FIN),MAX(calc!$H$1:H2645)+1,0)","v":0}]
[null,null,null,null,null,{"$f":"IF(COUNTIF(BD!$B$2:B2647,BD!B2647)=1,MAX($F$1:F2646)+1,\"\")","v":""},null,{"$f":"IF(AND(BD!B2647=REF,BD!D2647>=DEB,BD!D2647<=FIN),MAX(calc!$H$1:H2646)+1,0)","v":0}]
[null,null,null,null,null,{"$f":"IF(COUNTIF(BD!$B$2:B2648,BD!B2648)=1,MAX($F$1:F2647)+1,\"\")","v":""},null,{"$f":"IF(AND(BD!B2648=REF,BD!D2648>=DEB,BD!D2648<=FIN),MAX(calc!$H$1:H2647)+1,0)","v":0}]
[null,null,null,null,null,{"$f":"IF(COUNTIF(BD!$B$2:B2649,BD!B2649)=1,MAX($F$1:F2648)+1,\"\")","v":""},null,{"$f":"IF(AND(BD!B2649=REF,BD!D2649>=DEB,BD!D2649<=FIN),MAX(calc!$H$1:H2648)+1,0)","v":0}]
[null,null,null,null,null,{"$f":"IF(COUNTIF(BD!$B$2:B2650,BD!B2650)=1,MAX($F$1:F2649)+1,\"\")","v":""},null,{"$f":"IF(AND(BD!B2650=REF,BD!D2650>=DEB,BD!D2650<=FIN),MAX(calc!$H$1:H2649)+1,0)","v":0}]
[null,null,null,null,null,{"$f":"IF(COUNTIF(BD!$B$2:B2651,BD!B2651)=1,MAX($F$1:F2650)+1,\"\")","v":""},null,{"$f":"IF(AND(BD!B2651=REF,BD!D2651>=DEB,BD!D2651<=FIN),MAX(calc!$H$1:H2650)+1,0)","v":0}]
[null,null,null,null,null,{"$f":"IF(COUNTIF(BD!$B$2:B2652,BD!B2652)=1,MAX($F$1:F2651)+1,\"\")","v":""},null,{"$f":"IF(AND(BD!B2652=REF,BD!D2652>=DEB,BD!D2652<=FIN),MAX(calc!$H$1:H2651)+1,0)","v":0}]
[null,null,null,null,null,{"$f":"IF(COUNTIF(BD!$B$2:B2653,BD!B2653)=1,MAX($F$1:F2652)+1,\"\")","v":""},null,{"$f":"IF(AND(BD!B2653=REF,BD!D2653>=DEB,BD!D2653<=FIN),MAX(calc!$H$1:H2652)+1,0)","v":0}]
[null,null,null,null,null,{"$f":"IF(COUNTIF(BD!$B$2:B2654,BD!B2654)=1,MAX($F$1:F2653)+1,\"\")","v":""},null,{"$f":"IF(AND(BD!B2654=REF,BD!D2654>=DEB,BD!D2654<=FIN),MAX(calc!$H$1:H2653)+1,0)","v":0}]
[null,null,null,null,null,{"$f":"IF(COUNTIF(BD!$B$2:B2655,BD!B2655)=1,MAX($F$1:F2654)+1,\"\")","v":""},null,{"$f":"IF(AND(BD!B2655=REF,BD!D2655>=DEB,BD!D2655<=FIN),MAX(calc!$H$1:H2654)+1,0)","v":0}]
[null,null,null,null,null,{"$f":"IF(COUNTIF(BD!$B$2:B2656,BD!B2656)=1,MAX($F$1:F2655)+1,\"\")","v":""},null,{"$f":"IF(AND(BD!B2656=REF,BD!D2656>=DEB,BD!D2656<=FIN),MAX(calc!$H$1:H2655)+1,0)","v":0}]
[null,null,null,null,null,{"$f":"IF(COUNTIF(BD!$B$2:B2657,BD!B2657)=1,MAX($F$1:F2656)+1,\"\")","v":""},null,{"$f":"IF(AND(BD!B2657=REF,BD!D2657>=DEB,BD!D2657<=FIN),MAX(calc!$H$1:H2656)+1,0)","v":0}]
[null,null,null,null,null,{"$f":"IF(COUNTIF(BD!$B$2:B2658,BD!B2658)=1,MAX($F$1:F2657)+1,\"\")","v":""},null,{"$f":"IF(AND(BD!B2658=REF,BD!D2658>=DEB,BD!D2658<=FIN),MAX(calc!$H$1:H2657)+1,0)","v":0}]
[null,null,null,null,null,{"$f":"IF(COUNTIF(BD!$B$2:B2659,BD!B2659)=1,MAX($F$1:F2658)+1,\"\")","v":""},null,{"$f":"IF(AND(BD!B2659=REF,BD!D2659>=DEB,BD!D2659<=FIN),MAX(calc!$H$1:H2658)+1,0)","v":0}]
[null,null,null,null,null,{"$f":"IF(COUNTIF(BD!$B$2:B2660,BD!B2660)=1,MAX($F$1:F2659)+1,\"\")","v":""},null,{"$f":"IF(AND(BD!B2660=REF,BD!D2660>=DEB,BD!D2660<=FIN),MAX(calc!$H$1:H2659)+1,0)","v":0}]
[null,null,null,null,null,{"$f":"IF(COUNTIF(BD!$B$2:B2661,BD!B2661)=1,MAX($F$1:F2660)+1,\"\")","v":""},null,{"$f":"IF(AND(BD!B2661=REF,BD!D2661>=DEB,BD!D2661<=FIN),MAX(calc!$H$1:H2660)+1,0)","v":0}]
[null,null,null,null,null,{"$f":"IF(COUNTIF(BD!$B$2:B2662,BD!B2662)=1,MAX($F$1:F2661)+1,\"\")","v":""},null,{"$f":"IF(AND(BD!B2662=REF,BD!D2662>=DEB,BD!D2662<=FIN),MAX(calc!$H$1:H2661)+1,0)","v":0}]
[null,null,null,null,null,{"$f":"IF(COUNTIF(BD!$B$2:B2663,BD!B2663)=1,MAX($F$1:F2662)+1,\"\")","v":""},null,{"$f":"IF(AND(BD!B2663=REF,BD!D2663>=DEB,BD!D2663<=FIN),MAX(calc!$H$1:H2662)+1,0)","v":0}]
[null,null,null,null,null,{"$f":"IF(COUNTIF(BD!$B$2:B2664,BD!B2664)=1,MAX($F$1:F2663)+1,\"\")","v":""},null,{"$f":"IF(AND(BD!B2664=REF,BD!D2664>=DEB,BD!D2664<=FIN),MAX(calc!$H$1:H2663)+1,0)","v":0}]
[null,null,null,null,null,{"$f":"IF(COUNTIF(BD!$B$2:B2665,BD!B2665)=1,MAX($F$1:F2664)+1,\"\")","v":""},null,{"$f":"IF(AND(BD!B2665=REF,BD!D2665>=DEB,BD!D2665<=FIN),MAX(calc!$H$1:H2664)+1,0)","v":0}]
[null,null,null,null,null,{"$f":"IF(COUNTIF(BD!$B$2:B2666,BD!B2666)=1,MAX($F$1:F2665)+1,\"\")","v":""},null,{"$f":"IF(AND(BD!B2666=REF,BD!D2666>=DEB,BD!D2666<=FIN),MAX(calc!$H$1:H2665)+1,0)","v":0}]
[null,null,null,null,null,{"$f":"IF(COUNTIF(BD!$B$2:B2667,BD!B2667)=1,MAX($F$1:F2666)+1,\"\")","v":""},null,{"$f":"IF(AND(BD!B2667=REF,BD!D2667>=DEB,BD!D2667<=FIN),MAX(calc!$H$1:H2666)+1,0)","v":0}]
[null,null,null,null,null,{"$f":"IF(COUNTIF(BD!$B$2:B2668,BD!B2668)=1,MAX($F$1:F2667)+1,\"\")","v":""},null,{"$f":"IF(AND(BD!B2668=REF,BD!D2668>=DEB,BD!D2668<=FIN),MAX(calc!$H$1:H2667)+1,0)","v":0}]
[null,null,null,null,null,{"$f":"IF(COUNTIF(BD!$B$2:B2669,BD!B2669)=1,MAX($F$1:F2668)+1,\"\")","v":""},null,{"$f":"IF(AND(BD!B2669=REF,BD!D2669>=DEB,BD!D2669<=FIN),MAX(calc!$H$1:H2668)+1,0)","v":0}]
[null,null,null,null,null,{"$f":"IF(COUNTIF(BD!$B$2:B2670,BD!B2670)=1,MAX($F$1:F2669)+1,\"\")","v":""},null,{"$f":"IF(AND(BD!B2670=REF,BD!D2670>=DEB,BD!D2670<=FIN),MAX(calc!$H$1:H2669)+1,0)","v":0}]
[null,null,null,null,null,{"$f":"IF(COUNTIF(BD!$B$2:B2671,BD!B2671)=1,MAX($F$1:F2670)+1,\"\")","v":""},null,{"$f":"IF(AND(BD!B2671=REF,BD!D2671>=DEB,BD!D2671<=FIN),MAX(calc!$H$1:H2670)+1,0)","v":0}]
[null,null,null,null,null,{"$f":"IF(COUNTIF(BD!$B$2:B2672,BD!B2672)=1,MAX($F$1:F2671)+1,\"\")","v":""},null,{"$f":"IF(AND(BD!B2672=REF,BD!D2672>=DEB,BD!D2672<=FIN),MAX(calc!$H$1:H2671)+1,0)","v":0}]
[null,null,null,null,null,{"$f":"IF(COUNTIF(BD!$B$2:B2673,BD!B2673)=1,MAX($F$1:F2672)+1,\"\")","v":""},null,{"$f":"IF(AND(BD!B2673=REF,BD!D2673>=DEB,BD!D2673<=FIN),MAX(calc!$H$1:H2672)+1,0)","v":0}]
[null,null,null,null,null,{"$f":"IF(COUNTIF(BD!$B$2:B2674,BD!B2674)=1,MAX($F$1:F2673)+1,\"\")","v":""},null,{"$f":"IF(AND(BD!B2674=REF,BD!D2674>=DEB,BD!D2674<=FIN),MAX(calc!$H$1:H2673)+1,0)","v":0}]
[null,null,null,null,null,{"$f":"IF(COUNTIF(BD!$B$2:B2675,BD!B2675)=1,MAX($F$1:F2674)+1,\"\")","v":""},null,{"$f":"IF(AND(BD!B2675=REF,BD!D2675>=DEB,BD!D2675<=FIN),MAX(calc!$H$1:H2674)+1,0)","v":0}]
[null,null,null,null,null,{"$f":"IF(COUNTIF(BD!$B$2:B2676,BD!B2676)=1,MAX($F$1:F2675)+1,\"\")","v":""},null,{"$f":"IF(AND(BD!B2676=REF,BD!D2676>=DEB,BD!D2676<=FIN),MAX(calc!$H$1:H2675)+1,0)","v":0}]
[null,null,null,null,null,{"$f":"IF(COUNTIF(BD!$B$2:B2677,BD!B2677)=1,MAX($F$1:F2676)+1,\"\")","v":""},null,{"$f":"IF(AND(BD!B2677=REF,BD!D2677>=DEB,BD!D2677<=FIN),MAX(calc!$H$1:H2676)+1,0)","v":0}]
[null,null,null,null,null,{"$f":"IF(COUNTIF(BD!$B$2:B2678,BD!B2678)=1,MAX($F$1:F2677)+1,\"\")","v":""},null,{"$f":"IF(AND(BD!B2678=REF,BD!D2678>=DEB,BD!D2678<=FIN),MAX(calc!$H$1:H2677)+1,0)","v":0}]
[null,null,null,null,null,{"$f":"IF(COUNTIF(BD!$B$2:B2679,BD!B2679)=1,MAX($F$1:F2678)+1,\"\")","v":""},null,{"$f":"IF(AND(BD!B2679=REF,BD!D2679>=DEB,BD!D2679<=FIN),MAX(calc!$H$1:H2678)+1,0)","v":0}]
[null,null,null,null,null,{"$f":"IF(COUNTIF(BD!$B$2:B2680,BD!B2680)=1,MAX($F$1:F2679)+1,\"\")","v":""},null,{"$f":"IF(AND(BD!B2680=REF,BD!D2680>=DEB,BD!D2680<=FIN),MAX(calc!$H$1:H2679)+1,0)","v":0}]
[null,null,null,null,null,{"$f":"IF(COUNTIF(BD!$B$2:B2681,BD!B2681)=1,MAX($F$1:F2680)+1,\"\")","v":""},null,{"$f":"IF(AND(BD!B2681=REF,BD!D2681>=DEB,BD!D2681<=FIN),MAX(calc!$H$1:H2680)+1,0)","v":0}]
[null,null,null,null,null,{"$f":"IF(COUNTIF(BD!$B$2:B2682,BD!B2682)=1,MAX($F$1:F2681)+1,\"\")","v":""},null,{"$f":"IF(AND(BD!B2682=REF,BD!D2682>=DEB,BD!D2682<=FIN),MAX(calc!$H$1:H2681)+1,0)","v":0}]
[null,null,null,null,null,{"$f":"IF(COUNTIF(BD!$B$2:B2683,BD!B2683)=1,MAX($F$1:F2682)+1,\"\")","v":""},null,{"$f":"IF(AND(BD!B2683=REF,BD!D2683>=DEB,BD!D2683<=FIN),MAX(calc!$H$1:H2682)+1,0)","v":0}]
[null,null,null,null,null,{"$f":"IF(COUNTIF(BD!$B$2:B2684,BD!B2684)=1,MAX($F$1:F2683)+1,\"\")","v":""},null,{"$f":"IF(AND(BD!B2684=REF,BD!D2684>=DEB,BD!D2684<=FIN),MAX(calc!$H$1:H2683)+1,0)","v":0}]
[null,null,null,null,null,{"$f":"IF(COUNTIF(BD!$B$2:B2685,BD!B2685)=1,MAX($F$1:F2684)+1,\"\")","v":""},null,{"$f":"IF(AND(BD!B2685=REF,BD!D2685>=DEB,BD!D2685<=FIN),MAX(calc!$H$1:H2684)+1,0)","v":0}]
[null,null,null,null,null,{"$f":"IF(COUNTIF(BD!$B$2:B2686,BD!B2686)=1,MAX($F$1:F2685)+1,\"\")","v":""},null,{"$f":"IF(AND(BD!B2686=REF,BD!D2686>=DEB,BD!D2686<=FIN),MAX(calc!$H$1:H2685)+1,0)","v":0}]
[null,null,null,null,null,{"$f":"IF(COUNTIF(BD!$B$2:B2687,BD!B2687)=1,MAX($F$1:F2686)+1,\"\")","v":""},null,{"$f":"IF(AND(BD!B2687=REF,BD!D2687>=DEB,BD!D2687<=FIN),MAX(calc!$H$1:H2686)+1,0)","v":0}]
[null,null,null,null,null,{"$f":"IF(COUNTIF(BD!$B$2:B2688,BD!B2688)=1,MAX($F$1:F2687)+1,\"\")","v":""},null,{"$f":"IF(AND(BD!B2688=REF,BD!D2688>=DEB,BD!D2688<=FIN),MAX(calc!$H$1:H2687)+1,0)","v":0}]
[null,null,null,null,null,{"$f":"IF(COUNTIF(BD!$B$2:B2689,BD!B2689)=1,MAX($F$1:F2688)+1,\"\")","v":""},null,{"$f":"IF(AND(BD!B2689=REF,BD!D2689>=DEB,BD!D2689<=FIN),MAX(calc!$H$1:H2688)+1,0)","v":0}]
[null,null,null,null,null,{"$f":"IF(COUNTIF(BD!$B$2:B2690,BD!B2690)=1,MAX($F$1:F2689)+1,\"\")","v":""},null,{"$f":"IF(AND(BD!B2690=REF,BD!D2690>=DEB,BD!D2690<=FIN),MAX(calc!$H$1:H2689)+1,0)","v":0}]
[null,null,null,null,null,{"$f":"IF(COUNTIF(BD!$B$2:B2691,BD!B2691)=1,MAX($F$1:F2690)+1,\"\")","v":""},null,{"$f":"IF(AND(BD!B2691=REF,BD!D2691>=DEB,BD!D2691<=FIN),MAX(calc!$H$1:H2690)+1,0)","v":0}]
[null,null,null,null,null,{"$f":"IF(COUNTIF(BD!$B$2:B2692,BD!B2692)=1,MAX($F$1:F2691)+1,\"\")","v":""},null,{"$f":"IF(AND(BD!B2692=REF,BD!D2692>=DEB,BD!D2692<=FIN),MAX(calc!$H$1:H2691)+1,0)","v":0}]
[null,null,null,null,null,{"$f":"IF(COUNTIF(BD!$B$2:B2693,BD!B2693)=1,MAX($F$1:F2692)+1,\"\")","v":""},null,{"$f":"IF(AND(BD!B2693=REF,BD!D2693>=DEB,BD!D2693<=FIN),MAX(calc!$H$1:H2692)+1,0)","v":0}]
[null,null,null,null,null,{"$f":"IF(COUNTIF(BD!$B$2:B2694,BD!B2694)=1,MAX($F$1:F2693)+1,\"\")","v":""},null,{"$f":"IF(AND(BD!B2694=REF,BD!D2694>=DEB,BD!D2694<=FIN),MAX(calc!$H$1:H2693)+1,0)","v":0}]
[null,null,null,null,null,{"$f":"IF(COUNTIF(BD!$B$2:B2695,BD!B2695)=1,MAX($F$1:F2694)+1,\"\")","v":""},null,{"$f":"IF(AND(BD!B2695=REF,BD!D2695>=DEB,BD!D2695<=FIN),MAX(calc!$H$1:H2694)+1,0)","v":0}]
[null,null,null,null,null,{"$f":"IF(COUNTIF(BD!$B$2:B2696,BD!B2696)=1,MAX($F$1:F2695)+1,\"\")","v":""},null,{"$f":"IF(AND(BD!B2696=REF,BD!D2696>=DEB,BD!D2696<=FIN),MAX(calc!$H$1:H2695)+1,0)","v":0}]
[null,null,null,null,null,{"$f":"IF(COUNTIF(BD!$B$2:B2697,BD!B2697)=1,MAX($F$1:F2696)+1,\"\")","v":""},null,{"$f":"IF(AND(BD!B2697=REF,BD!D2697>=DEB,BD!D2697<=FIN),MAX(calc!$H$1:H2696)+1,0)","v":0}]
[null,null,null,null,null,{"$f":"IF(COUNTIF(BD!$B$2:B2698,BD!B2698)=1,MAX($F$1:F2697)+1,\"\")","v":""},null,{"$f":"IF(AND(BD!B2698=REF,BD!D2698>=DEB,BD!D2698<=FIN),MAX(calc!$H$1:H2697)+1,0)","v":0}]
[null,null,null,null,null,{"$f":"IF(COUNTIF(BD!$B$2:B2699,BD!B2699)=1,MAX($F$1:F2698)+1,\"\")","v":""},null,{"$f":"IF(AND(BD!B2699=REF,BD!D2699>=DEB,BD!D2699<=FIN),MAX(calc!$H$1:H2698)+1,0)","v":0}]
[null,null,null,null,null,{"$f":"IF(COUNTIF(BD!$B$2:B2700,BD!B2700)=1,MAX($F$1:F2699)+1,\"\")","v":""},null,{"$f":"IF(AND(BD!B2700=REF,BD!D2700>=DEB,BD!D2700<=FIN),MAX(calc!$H$1:H2699)+1,0)","v":0}]
[null,null,null,null,null,{"$f":"IF(COUNTIF(BD!$B$2:B2701,BD!B2701)=1,MAX($F$1:F2700)+1,\"\")","v":""},null,{"$f":"IF(AND(BD!B2701=REF,BD!D2701>=DEB,BD!D2701<=FIN),MAX(calc!$H$1:H2700)+1,0)","v":0}]
[null,null,null,null,null,{"$f":"IF(COUNTIF(BD!$B$2:B2702,BD!B2702)=1,MAX($F$1:F2701)+1,\"\")","v":""},null,{"$f":"IF(AND(BD!B2702=REF,BD!D2702>=DEB,BD!D2702<=FIN),MAX(calc!$H$1:H2701)+1,0)","v":0}]
[null,null,null,null,null,{"$f":"IF(COUNTIF(BD!$B$2:B2703,BD!B2703)=1,MAX($F$1:F2702)+1,\"\")","v":""},null,{"$f":"IF(AND(BD!B2703=REF,BD!D2703>=DEB,BD!D2703<=FIN),MAX(calc!$H$1:H2702)+1,0)","v":0}]
[null,null,null,null,null,{"$f":"IF(COUNTIF(BD!$B$2:B2704,BD!B2704)=1,MAX($F$1:F2703)+1,\"\")","v":""},null,{"$f":"IF(AND(BD!B2704=REF,BD!D2704>=DEB,BD!D2704<=FIN),MAX(calc!$H$1:H2703)+1,0)","v":0}]
[null,null,null,null,null,{"$f":"IF(COUNTIF(BD!$B$2:B2705,BD!B2705)=1,MAX($F$1:F2704)+1,\"\")","v":""},null,{"$f":"IF(AND(BD!B2705=REF,BD!D2705>=DEB,BD!D2705<=FIN),MAX(calc!$H$1:H2704)+1,0)","v":0}]
[null,null,null,null,null,{"$f":"IF(COUNTIF(BD!$B$2:B2706,BD!B2706)=1,MAX($F$1:F2705)+1,\"\")","v":""},null,{"$f":"IF(AND(BD!B2706=REF,BD!D2706>=DEB,BD!D2706<=FIN),MAX(calc!$H$1:H2705)+1,0)","v":0}]
[null,null,null,null,null,{"$f":"IF(COUNTIF(BD!$B$2:B2707,BD!B2707)=1,MAX($F$1:F2706)+1,\"\")","v":""},null,{"$f":"IF(AND(BD!B2707=REF,BD!D2707>=DEB,BD!D2707<=FIN),MAX(calc!$H$1:H2706)+1,0)","v":0}]
[null,null,null,null,null,{"$f":"IF(COUNTIF(BD!$B$2:B2708,BD!B2708)=1,MAX($F$1:F2707)+1,\"\")","v":""},null,{"$f":"IF(AND(BD!B2708=REF,BD!D2708>=DEB,BD!D2708<=FIN),MAX(calc!$H$1:H2707)+1,0)","v":0}]
[null,null,null,null,null,{"$f":"IF(COUNTIF(BD!$B$2:B2709,BD!B2709)=1,MAX($F$1:F2708)+1,\"\")","v":""},null,{"$f":"IF(AND(BD!B2709=REF,BD!D2709>=DEB,BD!D2709<=FIN),MAX(calc!$H$1:H2708)+1,0)","v":0}]
[null,null,null,null,null,{"$f":"IF(COUNTIF(BD!$B$2:B2710,BD!B2710)=1,MAX($F$1:F2709)+1,\"\")","v":""},null,{"$f":"IF(AND(BD!B2710=REF,BD!D2710>=DEB,BD!D2710<=FIN),MAX(calc!$H$1:H2709)+1,0)","v":0}]
[null,null,null,null,null,{"$f":"IF(COUNTIF(BD!$B$2:B2711,BD!B2711)=1,MAX($F$1:F2710)+1,\"\")","v":""},null,{"$f":"IF(AND(BD!B2711=REF,BD!D2711>=DEB,BD!D2711<=FIN),MAX(calc!$H$1:H2710)+1,0)","v":0}]
[null,null,null,null,null,{"$f":"IF(COUNTIF(BD!$B$2:B2712,BD!B2712)=1,MAX($F$1:F2711)+1,\"\")","v":""},null,{"$f":"IF(AND(BD!B2712=REF,BD!D2712>=DEB,BD!D2712<=FIN),MAX(calc!$H$1:H2711)+1,0)","v":0}]
[null,null,null,null,null,{"$f":"IF(COUNTIF(BD!$B$2:B2713,BD!B2713)=1,MAX($F$1:F2712)+1,\"\")","v":""},null,{"$f":"IF(AND(BD!B2713=REF,BD!D2713>=DEB,BD!D2713<=FIN),MAX(calc!$H$1:H2712)+1,0)","v":0}]
[null,null,null,null,null,{"$f":"IF(COUNTIF(BD!$B$2:B2714,BD!B2714)=1,MAX($F$1:F2713)+1,\"\")","v":""},null,{"$f":"IF(AND(BD!B2714=REF,BD!D2714>=DEB,BD!D2714<=FIN),MAX(calc!$H$1:H2713)+1,0)","v":0}]
[null,null,null,null,null,{"$f":"IF(COUNTIF(BD!$B$2:B2715,BD!B2715)=1,MAX($F$1:F2714)+1,\"\")","v":""},null,{"$f":"IF(AND(BD!B2715=REF,BD!D2715>=DEB,BD!D2715<=FIN),MAX(calc!$H$1:H2714)+1,0)","v":0}]
[null,null,null,null,null,{"$f":"IF(COUNTIF(BD!$B$2:B2716,BD!B2716)=1,MAX($F$1:F2715)+1,\"\")","v":""},null,{"$f":"IF(AND(BD!B2716=REF,BD!D2716>=DEB,BD!D2716<=FIN),MAX(calc!$H$1:H2715)+1,0)","v":0}]
[null,null,null,null,null,{"$f":"IF(COUNTIF(BD!$B$2:B2717,BD!B2717)=1,MAX($F$1:F2716)+1,\"\")","v":""},null,{"$f":"IF(AND(BD!B2717=REF,BD!D2717>=DEB,BD!D2717<=FIN),MAX(calc!$H$1:H2716)+1,0)","v":0}]
[null,null,null,null,null,{"$f":"IF(COUNTIF(BD!$B$2:B2718,BD!B2718)=1,MAX($F$1:F2717)+1,\"\")","v":""},null,{"$f":"IF(AND(BD!B2718=REF,BD!D2718>=DEB,BD!D2718<=FIN),MAX(calc!$H$1:H2717)+1,0)","v":0}]
[null,null,null,null,null,{"$f":"IF(COUNTIF(BD!$B$2:B2719,BD!B2719)=1,MAX($F$1:F2718)+1,\"\")","v":""},null,{"$f":"IF(AND(BD!B2719=REF,BD!D2719>=DEB,BD!D2719<=FIN),MAX(calc!$H$1:H2718)+1,0)","v":0}]
[null,null,null,null,null,{"$f":"IF(COUNTIF(BD!$B$2:B2720,BD!B2720)=1,MAX($F$1:F2719)+1,\"\")","v":""},null,{"$f":"IF(AND(BD!B2720=REF,BD!D2720>=DEB,BD!D2720<=FIN),MAX(calc!$H$1:H2719)+1,0)","v":0}]
[null,null,null,null,null,{"$f":"IF(COUNTIF(BD!$B$2:B2721,BD!B2721)=1,MAX($F$1:F2720)+1,\"\")","v":""},null,{"$f":"IF(AND(BD!B2721=REF,BD!D2721>=DEB,BD!D2721<=FIN),MAX(calc!$H$1:H2720)+1,0)","v":0}]
[null,null,null,null,null,{"$f":"IF(COUNTIF(BD!$B$2:B2722,BD!B2722)=1,MAX($F$1:F2721)+1,\"\")","v":""},null,{"$f":"IF(AND(BD!B2722=REF,BD!D2722>=DEB,BD!D2722<=FIN),MAX(calc!$H$1:H2721)+1,0)","v":0}]
[null,null,null,null,null,{"$f":"IF(COUNTIF(BD!$B$2:B2723,BD!B2723)=1,MAX($F$1:F2722)+1,\"\")","v":""},null,{"$f":"IF(AND(BD!B2723=REF,BD!D2723>=DEB,BD!D2723<=FIN),MAX(calc!$H$1:H2722)+1,0)","v":0}]
[null,null,null,null,null,{"$f":"IF(COUNTIF(BD!$B$2:B2724,BD!B2724)=1,MAX($F$1:F2723)+1,\"\")","v":""},null,{"$f":"IF(AND(BD!B2724=REF,BD!D2724>=DEB,BD!D2724<=FIN),MAX(calc!$H$1:H2723)+1,0)","v":0}]
[null,null,null,null,null,{"$f":"IF(COUNTIF(BD!$B$2:B2725,BD!B2725)=1,MAX($F$1:F2724)+1,\"\")","v":""},null,{"$f":"IF(AND(BD!B2725=REF,BD!D2725>=DEB,BD!D2725<=FIN),MAX(calc!$H$1:H2724)+1,0)","v":0}]
[null,null,null,null,null,{"$f":"IF(COUNTIF(BD!$B$2:B2726,BD!B2726)=1,MAX($F$1:F2725)+1,\"\")","v":""},null,{"$f":"IF(AND(BD!B2726=REF,BD!D2726>=DEB,BD!D2726<=FIN),MAX(calc!$H$1:H2725)+1,0)","v":0}]
[null,null,null,null,null,{"$f":"IF(COUNTIF(BD!$B$2:B2727,BD!B2727)=1,MAX($F$1:F2726)+1,\"\")","v":""},null,{"$f":"IF(AND(BD!B2727=REF,BD!D2727>=DEB,BD!D2727<=FIN),MAX(calc!$H$1:H2726)+1,0)","v":0}]
[null,null,null,null,null,{"$f":"IF(COUNTIF(BD!$B$2:B2728,BD!B2728)=1,MAX($F$1:F2727)+1,\"\")","v":""},null,{"$f":"IF(AND(BD!B2728=REF,BD!D2728>=DEB,BD!D2728<=FIN),MAX(calc!$H$1:H2727)+1,0)","v":0}]
[null,null,null,null,null,{"$f":"IF(COUNTIF(BD!$B$2:B2729,BD!B2729)=1,MAX($F$1:F2728)+1,\"\")","v":""},null,{"$f":"IF(AND(BD!B2729=REF,BD!D2729>=DEB,BD!D2729<=FIN),MAX(calc!$H$1:H2728)+1,0)","v":0}]
[null,null,null,null,null,{"$f":"IF(COUNTIF(BD!$B$2:B2730,BD!B2730)=1,MAX($F$1:F2729)+1,\"\")","v":""},null,{"$f":"IF(AND(BD!B2730=REF,BD!D2730>=DEB,BD!D2730<=FIN),MAX(calc!$H$1:H2729)+1,0)","v":0}]
[null,null,null,null,null,{"$f":"IF(COUNTIF(BD!$B$2:B2731,BD!B2731)=1,MAX($F$1:F2730)+1,\"\")","v":""},null,{"$f":"IF(AND(BD!B2731=REF,BD!D2731>=DEB,BD!D2731<=FIN),MAX(calc!$H$1:H2730)+1,0)","v":0}]
[null,null,null,null,null,{"$f":"IF(COUNTIF(BD!$B$2:B2732,BD!B2732)=1,MAX($F$1:F2731)+1,\"\")","v":""},null,{"$f":"IF(AND(BD!B2732=REF,BD!D2732>=DEB,BD!D2732<=FIN),MAX(calc!$H$1:H2731)+1,0)","v":0}]
[null,null,null,null,null,{"$f":"IF(COUNTIF(BD!$B$2:B2733,BD!B2733)=1,MAX($F$1:F2732)+1,\"\")","v":""},null,{"$f":"IF(AND(BD!B2733=REF,BD!D2733>=DEB,BD!D2733<=FIN),MAX(calc!$H$1:H2732)+1,0)","v":0}]
[null,null,null,null,null,{"$f":"IF(COUNTIF(BD!$B$2:B2734,BD!B2734)=1,MAX($F$1:F2733)+1,\"\")","v":""},null,{"$f":"IF(AND(BD!B2734=REF,BD!D2734>=DEB,BD!D2734<=FIN),MAX(calc!$H$1:H2733)+1,0)","v":0}]
[null,null,null,null,null,{"$f":"IF(COUNTIF(BD!$B$2:B2735,BD!B2735)=1,MAX($F$1:F2734)+1,\"\")","v":""},null,{"$f":"IF(AND(BD!B2735=REF,BD!D2735>=DEB,BD!D2735<=FIN),MAX(calc!$H$1:H2734)+1,0)","v":0}]
[null,null,null,null,null,{"$f":"IF(COUNTIF(BD!$B$2:B2736,BD!B2736)=1,MAX($F$1:F2735)+1,\"\")","v":""},null,{"$f":"IF(AND(BD!B2736=REF,BD!D2736>=DEB,BD!D2736<=FIN),MAX(calc!$H$1:H2735)+1,0)","v":0}]
[null,null,null,null,null,{"$f":"IF(COUNTIF(BD!$B$2:B2737,BD!B2737)=1,MAX($F$1:F2736)+1,\"\")","v":""},null,{"$f":"IF(AND(BD!B2737=REF,BD!D2737>=DEB,BD!D2737<=FIN),MAX(calc!$H$1:H2736)+1,0)","v":0}]
[null,null,null,null,null,{"$f":"IF(COUNTIF(BD!$B$2:B2738,BD!B2738)=1,MAX($F$1:F2737)+1,\"\")","v":""},null,{"$f":"IF(AND(BD!B2738=REF,BD!D2738>=DEB,BD!D2738<=FIN),MAX(calc!$H$1:H2737)+1,0)","v":0}]
[null,null,null,null,null,{"$f":"IF(COUNTIF(BD!$B$2:B2739,BD!B2739)=1,MAX($F$1:F2738)+1,\"\")","v":""},null,{"$f":"IF(AND(BD!B2739=REF,BD!D2739>=DEB,BD!D2739<=FIN),MAX(calc!$H$1:H2738)+1,0)","v":0}]
[null,null,null,null,null,{"$f":"IF(COUNTIF(BD!$B$2:B2740,BD!B2740)=1,MAX($F$1:F2739)+1,\"\")","v":""},null,{"$f":"IF(AND(BD!B2740=REF,BD!D2740>=DEB,BD!D2740<=FIN),MAX(calc!$H$1:H2739)+1,0)","v":0}]
[null,null,null,null,null,{"$f":"IF(COUNTIF(BD!$B$2:B2741,BD!B2741)=1,MAX($F$1:F2740)+1,\"\")","v":""},null,{"$f":"IF(AND(BD!B2741=REF,BD!D2741>=DEB,BD!D2741<=FIN),MAX(calc!$H$1:H2740)+1,0)","v":0}]
[null,null,null,null,null,{"$f":"IF(COUNTIF(BD!$B$2:B2742,BD!B2742)=1,MAX($F$1:F2741)+1,\"\")","v":""},null,{"$f":"IF(AND(BD!B2742=REF,BD!D2742>=DEB,BD!D2742<=FIN),MAX(calc!$H$1:H2741)+1,0)","v":0}]
[null,null,null,null,null,{"$f":"IF(COUNTIF(BD!$B$2:B2743,BD!B2743)=1,MAX($F$1:F2742)+1,\"\")","v":""},null,{"$f":"IF(AND(BD!B2743=REF,BD!D2743>=DEB,BD!D2743<=FIN),MAX(calc!$H$1:H2742)+1,0)","v":0}]
[null,null,null,null,null,{"$f":"IF(COUNTIF(BD!$B$2:B2744,BD!B2744)=1,MAX($F$1:F2743)+1,\"\")","v":""},null,{"$f":"IF(AND(BD!B2744=REF,BD!D2744>=DEB,BD!D2744<=FIN),MAX(calc!$H$1:H2743)+1,0)","v":0}]
[null,null,null,null,null,{"$f":"IF(COUNTIF(BD!$B$2:B2745,BD!B2745)=1,MAX($F$1:F2744)+1,\"\")","v":""},null,{"$f":"IF(AND(BD!B2745=REF,BD!D2745>=DEB,BD!D2745<=FIN),MAX(calc!$H$1:H2744)+1,0)","v":0}]
[null,null,null,null,null,{"$f":"IF(COUNTIF(BD!$B$2:B2746,BD!B2746)=1,MAX($F$1:F2745)+1,\"\")","v":""},null,{"$f":"IF(AND(BD!B2746=REF,BD!D2746>=DEB,BD!D2746<=FIN),MAX(calc!$H$1:H2745)+1,0)","v":0}]
[null,null,null,null,null,{"$f":"IF(COUNTIF(BD!$B$2:B2747,BD!B2747)=1,MAX($F$1:F2746)+1,\"\")","v":""},null,{"$f":"IF(AND(BD!B2747=REF,BD!D2747>=DEB,BD!D2747<=FIN),MAX(calc!$H$1:H2746)+1,0)","v":0}]
[null,null,null,null,null,{"$f":"IF(COUNTIF(BD!$B$2:B2748,BD!B2748)=1,MAX($F$1:F2747)+1,\"\")","v":""},null,{"$f":"IF(AND(BD!B2748=REF,BD!D2748>=DEB,BD!D2748<=FIN),MAX(calc!$H$1:H2747)+1,0)","v":0}]
[null,null,null,null,null,{"$f":"IF(COUNTIF(BD!$B$2:B2749,BD!B2749)=1,MAX($F$1:F2748)+1,\"\")","v":""},null,{"$f":"IF(AND(BD!B2749=REF,BD!D2749>=DEB,BD!D2749<=FIN),MAX(calc!$H$1:H2748)+1,0)","v":0}]
[null,null,null,null,null,{"$f":"IF(COUNTIF(BD!$B$2:B2750,BD!B2750)=1,MAX($F$1:F2749)+1,\"\")","v":""},null,{"$f":"IF(AND(BD!B2750=REF,BD!D2750>=DEB,BD!D2750<=FIN),MAX(calc!$H$1:H2749)+1,0)","v":0}]
[null,null,null,null,null,{"$f":"IF(COUNTIF(BD!$B$2:B2751,BD!B2751)=1,MAX($F$1:F2750)+1,\"\")","v":""},null,{"$f":"IF(AND(BD!B2751=REF,BD!D2751>=DEB,BD!D2751<=FIN),MAX(calc!$H$1:H2750)+1,0)","v":0}]
[null,null,null,null,null,{"$f":"IF(COUNTIF(BD!$B$2:B2752,BD!B2752)=1,MAX($F$1:F2751)+1,\"\")","v":""},null,{"$f":"IF(AND(BD!B2752=REF,BD!D2752>=DEB,BD!D2752<=FIN),MAX(calc!$H$1:H2751)+1,0)","v":0}]
[null,null,null,null,null,{"$f":"IF(COUNTIF(BD!$B$2:B2753,BD!B2753)=1,MAX($F$1:F2752)+1,\"\")","v":""},null,{"$f":"IF(AND(BD!B2753=REF,BD!D2753>=DEB,BD!D2753<=FIN),MAX(calc!$H$1:H2752)+1,0)","v":0}]
[null,null,null,null,null,{"$f":"IF(COUNTIF(BD!$B$2:B2754,BD!B2754)=1,MAX($F$1:F2753)+1,\"\")","v":""},null,{"$f":"IF(AND(BD!B2754=REF,BD!D2754>=DEB,BD!D2754<=FIN),MAX(calc!$H$1:H2753)+1,0)","v":0}]
[null,null,null,null,null,{"$f":"IF(COUNTIF(BD!$B$2:B2755,BD!B2755)=1,MAX($F$1:F2754)+1,\"\")","v":""},null,{"$f":"IF(AND(BD!B2755=REF,BD!D2755>=DEB,BD!D2755<=FIN),MAX(calc!$H$1:H2754)+1,0)","v":0}]
[null,null,null,null,null,{"$f":"IF(COUNTIF(BD!$B$2:B2756,BD!B2756)=1,MAX($F$1:F2755)+1,\"\")","v":""},null,{"$f":"IF(AND(BD!B2756=REF,BD!D2756>=DEB,BD!D2756<=FIN),MAX(calc!$H$1:H2755)+1,0)","v":0}]
[null,null,null,null,null,{"$f":"IF(COUNTIF(BD!$B$2:B2757,BD!B2757)=1,MAX($F$1:F2756)+1,\"\")","v":""},null,{"$f":"IF(AND(BD!B2757=REF,BD!D2757>=DEB,BD!D2757<=FIN),MAX(calc!$H$1:H2756)+1,0)","v":0}]
[null,null,null,null,null,{"$f":"IF(COUNTIF(BD!$B$2:B2758,BD!B2758)=1,MAX($F$1:F2757)+1,\"\")","v":""},null,{"$f":"IF(AND(BD!B2758=REF,BD!D2758>=DEB,BD!D2758<=FIN),MAX(calc!$H$1:H2757)+1,0)","v":0}]
[null,null,null,null,null,{"$f":"IF(COUNTIF(BD!$B$2:B2759,BD!B2759)=1,MAX($F$1:F2758)+1,\"\")","v":""},null,{"$f":"IF(AND(BD!B2759=REF,BD!D2759>=DEB,BD!D2759<=FIN),MAX(calc!$H$1:H2758)+1,0)","v":0}]
[null,null,null,null,null,{"$f":"IF(COUNTIF(BD!$B$2:B2760,BD!B2760)=1,MAX($F$1:F2759)+1,\"\")","v":""},null,{"$f":"IF(AND(BD!B2760=REF,BD!D2760>=DEB,BD!D2760<=FIN),MAX(calc!$H$1:H2759)+1,0)","v":0}]
[null,null,null,null,null,{"$f":"IF(COUNTIF(BD!$B$2:B2761,BD!B2761)=1,MAX($F$1:F2760)+1,\"\")","v":""},null,{"$f":"IF(AND(BD!B2761=REF,BD!D2761>=DEB,BD!D2761<=FIN),MAX(calc!$H$1:H2760)+1,0)","v":0}]
[null,null,null,null,null,{"$f":"IF(COUNTIF(BD!$B$2:B2762,BD!B2762)=1,MAX($F$1:F2761)+1,\"\")","v":""},null,{"$f":"IF(AND(BD!B2762=REF,BD!D2762>=DEB,BD!D2762<=FIN),MAX(calc!$H$1:H2761)+1,0)","v":0}]
[null,null,null,null,null,{"$f":"IF(COUNTIF(BD!$B$2:B2763,BD!B2763)=1,MAX($F$1:F2762)+1,\"\")","v":""},null,{"$f":"IF(AND(BD!B2763=REF,BD!D2763>=DEB,BD!D2763<=FIN),MAX(calc!$H$1:H2762)+1,0)","v":0}]
[null,null,null,null,null,{"$f":"IF(COUNTIF(BD!$B$2:B2764,BD!B2764)=1,MAX($F$1:F2763)+1,\"\")","v":""},null,{"$f":"IF(AND(BD!B2764=REF,BD!D2764>=DEB,BD!D2764<=FIN),MAX(calc!$H$1:H2763)+1,0)","v":0}]
[null,null,null,null,null,{"$f":"IF(COUNTIF(BD!$B$2:B2765,BD!B2765)=1,MAX($F$1:F2764)+1,\"\")","v":""},null,{"$f":"IF(AND(BD!B2765=REF,BD!D2765>=DEB,BD!D2765<=FIN),MAX(calc!$H$1:H2764)+1,0)","v":0}]
[null,null,null,null,null,{"$f":"IF(COUNTIF(BD!$B$2:B2766,BD!B2766)=1,MAX($F$1:F2765)+1,\"\")","v":""},null,{"$f":"IF(AND(BD!B2766=REF,BD!D2766>=DEB,BD!D2766<=FIN),MAX(calc!$H$1:H2765)+1,0)","v":0}]
[null,null,null,null,null,{"$f":"IF(COUNTIF(BD!$B$2:B2767,BD!B2767)=1,MAX($F$1:F2766)+1,\"\")","v":""},null,{"$f":"IF(AND(BD!B2767=REF,BD!D2767>=DEB,BD!D2767<=FIN),MAX(calc!$H$1:H2766)+1,0)","v":0}]
[null,null,null,null,null,{"$f":"IF(COUNTIF(BD!$B$2:B2768,BD!B2768)=1,MAX($F$1:F2767)+1,\"\")","v":""},null,{"$f":"IF(AND(BD!B2768=REF,BD!D2768>=DEB,BD!D2768<=FIN),MAX(calc!$H$1:H2767)+1,0)","v":0}]
[null,null,null,null,null,{"$f":"IF(COUNTIF(BD!$B$2:B2769,BD!B2769)=1,MAX($F$1:F2768)+1,\"\")","v":""},null,{"$f":"IF(AND(BD!B2769=REF,BD!D2769>=DEB,BD!D2769<=FIN),MAX(calc!$H$1:H2768)+1,0)","v":0}]
[null,null,null,null,null,{"$f":"IF(COUNTIF(BD!$B$2:B2770,BD!B2770)=1,MAX($F$1:F2769)+1,\"\")","v":""},null,{"$f":"IF(AND(BD!B2770=REF,BD!D2770>=DEB,BD!D2770<=FIN),MAX(calc!$H$1:H2769)+1,0)","v":0}]
[null,null,null,null,null,{"$f":"IF(COUNTIF(BD!$B$2:B2771,BD!B2771)=1,MAX($F$1:F2770)+1,\"\")","v":""},null,{"$f":"IF(AND(BD!B2771=REF,BD!D2771>=DEB,BD!D2771<=FIN),MAX(calc!$H$1:H2770)+1,0)","v":0}]
[null,null,null,null,null,{"$f":"IF(COUNTIF(BD!$B$2:B2772,BD!B2772)=1,MAX($F$1:F2771)+1,\"\")","v":""},null,{"$f":"IF(AND(BD!B2772=REF,BD!D2772>=DEB,BD!D2772<=FIN),MAX(calc!$H$1:H2771)+1,0)","v":0}]
[null,null,null,null,null,{"$f":"IF(COUNTIF(BD!$B$2:B2773,BD!B2773)=1,MAX($F$1:F2772)+1,\"\")","v":""},null,{"$f":"IF(AND(BD!B2773=REF,BD!D2773>=DEB,BD!D2773<=FIN),MAX(calc!$H$1:H2772)+1,0)","v":0}]
[null,null,null,null,null,{"$f":"IF(COUNTIF(BD!$B$2:B2774,BD!B2774)=1,MAX($F$1:F2773)+1,\"\")","v":""},null,{"$f":"IF(AND(BD!B2774=REF,BD!D2774>=DEB,BD!D2774<=FIN),MAX(calc!$H$1:H2773)+1,0)","v":0}]
[null,null,null,null,null,{"$f":"IF(COUNTIF(BD!$B$2:B2775,BD!B2775)=1,MAX($F$1:F2774)+1,\"\")","v":""},null,{"$f":"IF(AND(BD!B2775=REF,BD!D2775>=DEB,BD!D2775<=FIN),MAX(calc!$H$1:H2774)+1,0)","v":0}]
[null,null,null,null,null,{"$f":"IF(COUNTIF(BD!$B$2:B2776,BD!B2776)=1,MAX($F$1:F2775)+1,\"\")","v":""},null,{"$f":"IF(AND(BD!B2776=REF,BD!D2776>=DEB,BD!D2776<=FIN),MAX(calc!$H$1:H2775)+1,0)","v":0}]
[null,null,null,null,null,{"$f":"IF(COUNTIF(BD!$B$2:B2777,BD!B2777)=1,MAX($F$1:F2776)+1,\"\")","v":""},null,{"$f":"IF(AND(BD!B2777=REF,BD!D2777>=DEB,BD!D2777<=FIN),MAX(calc!$H$1:H2776)+1,0)","v":0}]
[null,null,null,null,null,{"$f":"IF(COUNTIF(BD!$B$2:B2778,BD!B2778)=1,MAX($F$1:F2777)+1,\"\")","v":""},null,{"$f":"IF(AND(BD!B2778=REF,BD!D2778>=DEB,BD!D2778<=FIN),MAX(calc!$H$1:H2777)+1,0)","v":0}]
[null,null,null,null,null,{"$f":"IF(COUNTIF(BD!$B$2:B2779,BD!B2779)=1,MAX($F$1:F2778)+1,\"\")","v":""},null,{"$f":"IF(AND(BD!B2779=REF,BD!D2779>=DEB,BD!D2779<=FIN),MAX(calc!$H$1:H2778)+1,0)","v":0}]
[null,null,null,null,null,{"$f":"IF(COUNTIF(BD!$B$2:B2780,BD!B2780)=1,MAX($F$1:F2779)+1,\"\")","v":""},null,{"$f":"IF(AND(BD!B2780=REF,BD!D2780>=DEB,BD!D2780<=FIN),MAX(calc!$H$1:H2779)+1,0)","v":0}]
[null,null,null,null,null,{"$f":"IF(COUNTIF(BD!$B$2:B2781,BD!B2781)=1,MAX($F$1:F2780)+1,\"\")","v":""},null,{"$f":"IF(AND(BD!B2781=REF,BD!D2781>=DEB,BD!D2781<=FIN),MAX(calc!$H$1:H2780)+1,0)","v":0}]
[null,null,null,null,null,{"$f":"IF(COUNTIF(BD!$B$2:B2782,BD!B2782)=1,MAX($F$1:F2781)+1,\"\")","v":""},null,{"$f":"IF(AND(BD!B2782=REF,BD!D2782>=DEB,BD!D2782<=FIN),MAX(calc!$H$1:H2781)+1,0)","v":0}]
[null,null,null,null,null,{"$f":"IF(COUNTIF(BD!$B$2:B2783,BD!B2783)=1,MAX($F$1:F2782)+1,\"\")","v":""},null,{"$f":"IF(AND(BD!B2783=REF,BD!D2783>=DEB,BD!D2783<=FIN),MAX(calc!$H$1:H2782)+1,0)","v":0}]
[null,null,null,null,null,{"$f":"IF(COUNTIF(BD!$B$2:B2784,BD!B2784)=1,MAX($F$1:F2783)+1,\"\")","v":""},null,{"$f":"IF(AND(BD!B2784=REF,BD!D2784>=DEB,BD!D2784<=FIN),MAX(calc!$H$1:H2783)+1,0)","v":0}]
[null,null,null,null,null,{"$f":"IF(COUNTIF(BD!$B$2:B2785,BD!B2785)=1,MAX($F$1:F2784)+1,\"\")","v":""},null,{"$f":"IF(AND(BD!B2785=REF,BD!D2785>=DEB,BD!D2785<=FIN),MAX(calc!$H$1:H2784)+1,0)","v":0}]
[null,null,null,null,null,{"$f":"IF(COUNTIF(BD!$B$2:B2786,BD!B2786)=1,MAX($F$1:F2785)+1,\"\")","v":""},null,{"$f":"IF(AND(BD!B2786=REF,BD!D2786>=DEB,BD!D2786<=FIN),MAX(calc!$H$1:H2785)+1,0)","v":0}]
[null,null,null,null,null,{"$f":"IF(COUNTIF(BD!$B$2:B2787,BD!B2787)=1,MAX($F$1:F2786)+1,\"\")","v":""},null,{"$f":"IF(AND(BD!B2787=REF,BD!D2787>=DEB,BD!D2787<=FIN),MAX(calc!$H$1:H2786)+1,0)","v":0}]
[null,null,null,null,null,{"$f":"IF(COUNTIF(BD!$B$2:B2788,BD!B2788)=1,MAX($F$1:F2787)+1,\"\")","v":""},null,{"$f":"IF(AND(BD!B2788=REF,BD!D2788>=DEB,BD!D2788<=FIN),MAX(calc!$H$1:H2787)+1,0)","v":0}]
[null,null,null,null,null,{"$f":"IF(COUNTIF(BD!$B$2:B2789,BD!B2789)=1,MAX($F$1:F2788)+1,\"\")","v":""},null,{"$f":"IF(AND(BD!B2789=REF,BD!D2789>=DEB,BD!D2789<=FIN),MAX(calc!$H$1:H2788)+1,0)","v":0}]
[null,null,null,null,null,{"$f":"IF(COUNTIF(BD!$B$2:B2790,BD!B2790)=1,MAX($F$1:F2789)+1,\"\")","v":""},null,{"$f":"IF(AND(BD!B2790=REF,BD!D2790>=DEB,BD!D2790<=FIN),MAX(calc!$H$1:H2789)+1,0)","v":0}]
[null,null,null,null,null,{"$f":"IF(COUNTIF(BD!$B$2:B2791,BD!B2791)=1,MAX($F$1:F2790)+1,\"\")","v":""},null,{"$f":"IF(AND(BD!B2791=REF,BD!D2791>=DEB,BD!D2791<=FIN),MAX(calc!$H$1:H2790)+1,0)","v":0}]
[null,null,null,null,null,{"$f":"IF(COUNTIF(BD!$B$2:B2792,BD!B2792)=1,MAX($F$1:F2791)+1,\"\")","v":""},null,{"$f":"IF(AND(BD!B2792=REF,BD!D2792>=DEB,BD!D2792<=FIN),MAX(calc!$H$1:H2791)+1,0)","v":0}]
[null,null,null,null,null,{"$f":"IF(COUNTIF(BD!$B$2:B2793,BD!B2793)=1,MAX($F$1:F2792)+1,\"\")","v":""},null,{"$f":"IF(AND(BD!B2793=REF,BD!D2793>=DEB,BD!D2793<=FIN),MAX(calc!$H$1:H2792)+1,0)","v":0}]
[null,null,null,null,null,{"$f":"IF(COUNTIF(BD!$B$2:B2794,BD!B2794)=1,MAX($F$1:F2793)+1,\"\")","v":""},null,{"$f":"IF(AND(BD!B2794=REF,BD!D2794>=DEB,BD!D2794<=FIN),MAX(calc!$H$1:H2793)+1,0)","v":0}]
[null,null,null,null,null,{"$f":"IF(COUNTIF(BD!$B$2:B2795,BD!B2795)=1,MAX($F$1:F2794)+1,\"\")","v":""},null,{"$f":"IF(AND(BD!B2795=REF,BD!D2795>=DEB,BD!D2795<=FIN),MAX(calc!$H$1:H2794)+1,0)","v":0}]
[null,null,null,null,null,{"$f":"IF(COUNTIF(BD!$B$2:B2796,BD!B2796)=1,MAX($F$1:F2795)+1,\"\")","v":""},null,{"$f":"IF(AND(BD!B2796=REF,BD!D2796>=DEB,BD!D2796<=FIN),MAX(calc!$H$1:H2795)+1,0)","v":0}]
[null,null,null,null,null,{"$f":"IF(COUNTIF(BD!$B$2:B2797,BD!B2797)=1,MAX($F$1:F2796)+1,\"\")","v":""},null,{"$f":"IF(AND(BD!B2797=REF,BD!D2797>=DEB,BD!D2797<=FIN),MAX(calc!$H$1:H2796)+1,0)","v":0}]
[null,null,null,null,null,{"$f":"IF(COUNTIF(BD!$B$2:B2798,BD!B2798)=1,MAX($F$1:F2797)+1,\"\")","v":""},null,{"$f":"IF(AND(BD!B2798=REF,BD!D2798>=DEB,BD!D2798<=FIN),MAX(calc!$H$1:H2797)+1,0)","v":0}]
[null,null,null,null,null,{"$f":"IF(COUNTIF(BD!$B$2:B2799,BD!B2799)=1,MAX($F$1:F2798)+1,\"\")","v":""},null,{"$f":"IF(AND(BD!B2799=REF,BD!D2799>=DEB,BD!D2799<=FIN),MAX(calc!$H$1:H2798)+1,0)","v":0}]
[null,null,null,null,null,{"$f":"IF(COUNTIF(BD!$B$2:B2800,BD!B2800)=1,MAX($F$1:F2799)+1,\"\")","v":""},null,{"$f":"IF(AND(BD!B2800=REF,BD!D2800>=DEB,BD!D2800<=FIN),MAX(calc!$H$1:H2799)+1,0)","v":0}]
[null,null,null,null,null,{"$f":"IF(COUNTIF(BD!$B$2:B2801,BD!B2801)=1,MAX($F$1:F2800)+1,\"\")","v":""},null,{"$f":"IF(AND(BD!B2801=REF,BD!D2801>=DEB,BD!D2801<=FIN),MAX(calc!$H$1:H2800)+1,0)","v":0}]
[null,null,null,null,null,{"$f":"IF(COUNTIF(BD!$B$2:B2802,BD!B2802)=1,MAX($F$1:F2801)+1,\"\")","v":""},null,{"$f":"IF(AND(BD!B2802=REF,BD!D2802>=DEB,BD!D2802<=FIN),MAX(calc!$H$1:H2801)+1,0)","v":0}]
[null,null,null,null,null,{"$f":"IF(COUNTIF(BD!$B$2:B2803,BD!B2803)=1,MAX($F$1:F2802)+1,\"\")","v":""},null,{"$f":"IF(AND(BD!B2803=REF,BD!D2803>=DEB,BD!D2803<=FIN),MAX(calc!$H$1:H2802)+1,0)","v":0}]
[null,null,null,null,null,{"$f":"IF(COUNTIF(BD!$B$2:B2804,BD!B2804)=1,MAX($F$1:F2803)+1,\"\")","v":""},null,{"$f":"IF(AND(BD!B2804=REF,BD!D2804>=DEB,BD!D2804<=FIN),MAX(calc!$H$1:H2803)+1,0)","v":0}]
[null,null,null,null,null,{"$f":"IF(COUNTIF(BD!$B$2:B2805,BD!B2805)=1,MAX($F$1:F2804)+1,\"\")","v":""},null,{"$f":"IF(AND(BD!B2805=REF,BD!D2805>=DEB,BD!D2805<=FIN),MAX(calc!$H$1:H2804)+1,0)","v":0}]
[null,null,null,null,null,{"$f":"IF(COUNTIF(BD!$B$2:B2806,BD!B2806)=1,MAX($F$1:F2805)+1,\"\")","v":""},null,{"$f":"IF(AND(BD!B2806=REF,BD!D2806>=DEB,BD!D2806<=FIN),MAX(calc!$H$1:H2805)+1,0)","v":0}]
[null,null,null,null,null,{"$f":"IF(COUNTIF(BD!$B$2:B2807,BD!B2807)=1,MAX($F$1:F2806)+1,\"\")","v":""},null,{"$f":"IF(AND(BD!B2807=REF,BD!D2807>=DEB,BD!D2807<=FIN),MAX(calc!$H$1:H2806)+1,0)","v":0}]
[null,null,null,null,null,{"$f":"IF(COUNTIF(BD!$B$2:B2808,BD!B2808)=1,MAX($F$1:F2807)+1,\"\")","v":""},null,{"$f":"IF(AND(BD!B2808=REF,BD!D2808>=DEB,BD!D2808<=FIN),MAX(calc!$H$1:H2807)+1,0)","v":0}]
[null,null,null,null,null,{"$f":"IF(COUNTIF(BD!$B$2:B2809,BD!B2809)=1,MAX($F$1:F2808)+1,\"\")","v":""},null,{"$f":"IF(AND(BD!B2809=REF,BD!D2809>=DEB,BD!D2809<=FIN),MAX(calc!$H$1:H2808)+1,0)","v":0}]
[null,null,null,null,null,{"$f":"IF(COUNTIF(BD!$B$2:B2810,BD!B2810)=1,MAX($F$1:F2809)+1,\"\")","v":""},null,{"$f":"IF(AND(BD!B2810=REF,BD!D2810>=DEB,BD!D2810<=FIN),MAX(calc!$H$1:H2809)+1,0)","v":0}]
[null,null,null,null,null,{"$f":"IF(COUNTIF(BD!$B$2:B2811,BD!B2811)=1,MAX($F$1:F2810)+1,\"\")","v":""},null,{"$f":"IF(AND(BD!B2811=REF,BD!D2811>=DEB,BD!D2811<=FIN),MAX(calc!$H$1:H2810)+1,0)","v":0}]
[null,null,null,null,null,{"$f":"IF(COUNTIF(BD!$B$2:B2812,BD!B2812)=1,MAX($F$1:F2811)+1,\"\")","v":""},null,{"$f":"IF(AND(BD!B2812=REF,BD!D2812>=DEB,BD!D2812<=FIN),MAX(calc!$H$1:H2811)+1,0)","v":0}]
[null,null,null,null,null,{"$f":"IF(COUNTIF(BD!$B$2:B2813,BD!B2813)=1,MAX($F$1:F2812)+1,\"\")","v":""},null,{"$f":"IF(AND(BD!B2813=REF,BD!D2813>=DEB,BD!D2813<=FIN),MAX(calc!$H$1:H2812)+1,0)","v":0}]
[null,null,null,null,null,{"$f":"IF(COUNTIF(BD!$B$2:B2814,BD!B2814)=1,MAX($F$1:F2813)+1,\"\")","v":""},null,{"$f":"IF(AND(BD!B2814=REF,BD!D2814>=DEB,BD!D2814<=FIN),MAX(calc!$H$1:H2813)+1,0)","v":0}]
[null,null,null,null,null,{"$f":"IF(COUNTIF(BD!$B$2:B2815,BD!B2815)=1,MAX($F$1:F2814)+1,\"\")","v":""},null,{"$f":"IF(AND(BD!B2815=REF,BD!D2815>=DEB,BD!D2815<=FIN),MAX(calc!$H$1:H2814)+1,0)","v":0}]
[null,null,null,null,null,{"$f":"IF(COUNTIF(BD!$B$2:B2816,BD!B2816)=1,MAX($F$1:F2815)+1,\"\")","v":""},null,{"$f":"IF(AND(BD!B2816=REF,BD!D2816>=DEB,BD!D2816<=FIN),MAX(calc!$H$1:H2815)+1,0)","v":0}]
[null,null,null,null,null,{"$f":"IF(COUNTIF(BD!$B$2:B2817,BD!B2817)=1,MAX($F$1:F2816)+1,\"\")","v":""},null,{"$f":"IF(AND(BD!B2817=REF,BD!D2817>=DEB,BD!D2817<=FIN),MAX(calc!$H$1:H2816)+1,0)","v":0}]
[null,null,null,null,null,{"$f":"IF(COUNTIF(BD!$B$2:B2818,BD!B2818)=1,MAX($F$1:F2817)+1,\"\")","v":""},null,{"$f":"IF(AND(BD!B2818=REF,BD!D2818>=DEB,BD!D2818<=FIN),MAX(calc!$H$1:H2817)+1,0)","v":0}]
[null,null,null,null,null,{"$f":"IF(COUNTIF(BD!$B$2:B2819,BD!B2819)=1,MAX($F$1:F2818)+1,\"\")","v":""},null,{"$f":"IF(AND(BD!B2819=REF,BD!D2819>=DEB,BD!D2819<=FIN),MAX(calc!$H$1:H2818)+1,0)","v":0}]
[null,null,null,null,null,{"$f":"IF(COUNTIF(BD!$B$2:B2820,BD!B2820)=1,MAX($F$1:F2819)+1,\"\")","v":""},null,{"$f":"IF(AND(BD!B2820=REF,BD!D2820>=DEB,BD!D2820<=FIN),MAX(calc!$H$1:H2819)+1,0)","v":0}]
[null,null,null,null,null,{"$f":"IF(COUNTIF(BD!$B$2:B2821,BD!B2821)=1,MAX($F$1:F2820)+1,\"\")","v":""},null,{"$f":"IF(AND(BD!B2821=REF,BD!D2821>=DEB,BD!D2821<=FIN),MAX(calc!$H$1:H2820)+1,0)","v":0}]
[null,null,null,null,null,{"$f":"IF(COUNTIF(BD!$B$2:B2822,BD!B2822)=1,MAX($F$1:F2821)+1,\"\")","v":""},null,{"$f":"IF(AND(BD!B2822=REF,BD!D2822>=DEB,BD!D2822<=FIN),MAX(calc!$H$1:H2821)+1,0)","v":0}]
[null,null,null,null,null,{"$f":"IF(COUNTIF(BD!$B$2:B2823,BD!B2823)=1,MAX($F$1:F2822)+1,\"\")","v":""},null,{"$f":"IF(AND(BD!B2823=REF,BD!D2823>=DEB,BD!D2823<=FIN),MAX(calc!$H$1:H2822)+1,0)","v":0}]
[null,null,null,null,null,{"$f":"IF(COUNTIF(BD!$B$2:B2824,BD!B2824)=1,MAX($F$1:F2823)+1,\"\")","v":""},null,{"$f":"IF(AND(BD!B2824=REF,BD!D2824>=DEB,BD!D2824<=FIN),MAX(calc!$H$1:H2823)+1,0)","v":0}]
[null,null,null,null,null,{"$f":"IF(COUNTIF(BD!$B$2:B2825,BD!B2825)=1,MAX($F$1:F2824)+1,\"\")","v":""},null,{"$f":"IF(AND(BD!B2825=REF,BD!D2825>=DEB,BD!D2825<=FIN),MAX(calc!$H$1:H2824)+1,0)","v":0}]
[null,null,null,null,null,{"$f":"IF(COUNTIF(BD!$B$2:B2826,BD!B2826)=1,MAX($F$1:F2825)+1,\"\")","v":""},null,{"$f":"IF(AND(BD!B2826=REF,BD!D2826>=DEB,BD!D2826<=FIN),MAX(calc!$H$1:H2825)+1,0)","v":0}]
[null,null,null,null,null,{"$f":"IF(COUNTIF(BD!$B$2:B2827,BD!B2827)=1,MAX($F$1:F2826)+1,\"\")","v":""},null,{"$f":"IF(AND(BD!B2827=REF,BD!D2827>=DEB,BD!D2827<=FIN),MAX(calc!$H$1:H2826)+1,0)","v":0}]
[null,null,null,null,null,{"$f":"IF(COUNTIF(BD!$B$2:B2828,BD!B2828)=1,MAX($F$1:F2827)+1,\"\")","v":""},null,{"$f":"IF(AND(BD!B2828=REF,BD!D2828>=DEB,BD!D2828<=FIN),MAX(calc!$H$1:H2827)+1,0)","v":0}]
[null,null,null,null,null,{"$f":"IF(COUNTIF(BD!$B$2:B2829,BD!B2829)=1,MAX($F$1:F2828)+1,\"\")","v":""},null,{"$f":"IF(AND(BD!B2829=REF,BD!D2829>=DEB,BD!D2829<=FIN),MAX(calc!$H$1:H2828)+1,0)","v":0}]
[null,null,null,null,null,{"$f":"IF(COUNTIF(BD!$B$2:B2830,BD!B2830)=1,MAX($F$1:F2829)+1,\"\")","v":""},null,{"$f":"IF(AND(BD!B2830=REF,BD!D2830>=DEB,BD!D2830<=FIN),MAX(calc!$H$1:H2829)+1,0)","v":0}]
[null,null,null,null,null,{"$f":"IF(COUNTIF(BD!$B$2:B2831,BD!B2831)=1,MAX($F$1:F2830)+1,\"\")","v":""},null,{"$f":"IF(AND(BD!B2831=REF,BD!D2831>=DEB,BD!D2831<=FIN),MAX(calc!$H$1:H2830)+1,0)","v":0}]
[null,null,null,null,null,{"$f":"IF(COUNTIF(BD!$B$2:B2832,BD!B2832)=1,MAX($F$1:F2831)+1,\"\")","v":""},null,{"$f":"IF(AND(BD!B2832=REF,BD!D2832>=DEB,BD!D2832<=FIN),MAX(calc!$H$1:H2831)+1,0)","v":0}]
[null,null,null,null,null,{"$f":"IF(COUNTIF(BD!$B$2:B2833,BD!B2833)=1,MAX($F$1:F2832)+1,\"\")","v":""},null,{"$f":"IF(AND(BD!B2833=REF,BD!D2833>=DEB,BD!D2833<=FIN),MAX(calc!$H$1:H2832)+1,0)","v":0}]
[null,null,null,null,null,{"$f":"IF(COUNTIF(BD!$B$2:B2834,BD!B2834)=1,MAX($F$1:F2833)+1,\"\")","v":""},null,{"$f":"IF(AND(BD!B2834=REF,BD!D2834>=DEB,BD!D2834<=FIN),MAX(calc!$H$1:H2833)+1,0)","v":0}]
[null,null,null,null,null,{"$f":"IF(COUNTIF(BD!$B$2:B2835,BD!B2835)=1,MAX($F$1:F2834)+1,\"\")","v":""},null,{"$f":"IF(AND(BD!B2835=REF,BD!D2835>=DEB,BD!D2835<=FIN),MAX(calc!$H$1:H2834)+1,0)","v":0}]
[null,null,null,null,null,{"$f":"IF(COUNTIF(BD!$B$2:B2836,BD!B2836)=1,MAX($F$1:F2835)+1,\"\")","v":""},null,{"$f":"IF(AND(BD!B2836=REF,BD!D2836>=DEB,BD!D2836<=FIN),MAX(calc!$H$1:H2835)+1,0)","v":0}]
[null,null,null,null,null,{"$f":"IF(COUNTIF(BD!$B$2:B2837,BD!B2837)=1,MAX($F$1:F2836)+1,\"\")","v":""},null,{"$f":"IF(AND(BD!B2837=REF,BD!D2837>=DEB,BD!D2837<=FIN),MAX(calc!$H$1:H2836)+1,0)","v":0}]
[null,null,null,null,null,{"$f":"IF(COUNTIF(BD!$B$2:B2838,BD!B2838)=1,MAX($F$1:F2837)+1,\"\")","v":""},null,{"$f":"IF(AND(BD!B2838=REF,BD!D2838>=DEB,BD!D2838<=FIN),MAX(calc!$H$1:H2837)+1,0)","v":0}]
[null,null,null,null,null,{"$f":"IF(COUNTIF(BD!$B$2:B2839,BD!B2839)=1,MAX($F$1:F2838)+1,\"\")","v":""},null,{"$f":"IF(AND(BD!B2839=REF,BD!D2839>=DEB,BD!D2839<=FIN),MAX(calc!$H$1:H2838)+1,0)","v":0}]
[null,null,null,null,null,{"$f":"IF(COUNTIF(BD!$B$2:B2840,BD!B2840)=1,MAX($F$1:F2839)+1,\"\")","v":""},null,{"$f":"IF(AND(BD!B2840=REF,BD!D2840>=DEB,BD!D2840<=FIN),MAX(calc!$H$1:H2839)+1,0)","v":0}]
[null,null,null,null,null,{"$f":"IF(COUNTIF(BD!$B$2:B2841,BD!B2841)=1,MAX($F$1:F2840)+1,\"\")","v":""},null,{"$f":"IF(AND(BD!B2841=REF,BD!D2841>=DEB,BD!D2841<=FIN),MAX(calc!$H$1:H2840)+1,0)","v":0}]
[null,null,null,null,null,{"$f":"IF(COUNTIF(BD!$B$2:B2842,BD!B2842)=1,MAX($F$1:F2841)+1,\"\")","v":""},null,{"$f":"IF(AND(BD!B2842=REF,BD!D2842>=DEB,BD!D2842<=FIN),MAX(calc!$H$1:H2841)+1,0)","v":0}]
[null,null,null,null,null,{"$f":"IF(COUNTIF(BD!$B$2:B2843,BD!B2843)=1,MAX($F$1:F2842)+1,\"\")","v":""},null,{"$f":"IF(AND(BD!B2843=REF,BD!D2843>=DEB,BD!D2843<=FIN),MAX(calc!$H$1:H2842)+1,0)","v":0}]
[null,null,null,null,null,{"$f":"IF(COUNTIF(BD!$B$2:B2844,BD!B2844)=1,MAX($F$1:F2843)+1,\"\")","v":""},null,{"$f":"IF(AND(BD!B2844=REF,BD!D2844>=DEB,BD!D2844<=FIN),MAX(calc!$H$1:H2843)+1,0)","v":0}]
[null,null,null,null,null,{"$f":"IF(COUNTIF(BD!$B$2:B2845,BD!B2845)=1,MAX($F$1:F2844)+1,\"\")","v":""},null,{"$f":"IF(AND(BD!B2845=REF,BD!D2845>=DEB,BD!D2845<=FIN),MAX(calc!$H$1:H2844)+1,0)","v":0}]
[null,null,null,null,null,{"$f":"IF(COUNTIF(BD!$B$2:B2846,BD!B2846)=1,MAX($F$1:F2845)+1,\"\")","v":""},null,{"$f":"IF(AND(BD!B2846=REF,BD!D2846>=DEB,BD!D2846<=FIN),MAX(calc!$H$1:H2845)+1,0)","v":0}]
[null,null,null,null,null,{"$f":"IF(COUNTIF(BD!$B$2:B2847,BD!B2847)=1,MAX($F$1:F2846)+1,\"\")","v":""},null,{"$f":"IF(AND(BD!B2847=REF,BD!D2847>=DEB,BD!D2847<=FIN),MAX(calc!$H$1:H2846)+1,0)","v":0}]
[null,null,null,null,null,{"$f":"IF(COUNTIF(BD!$B$2:B2848,BD!B2848)=1,MAX($F$1:F2847)+1,\"\")","v":""},null,{"$f":"IF(AND(BD!B2848=REF,BD!D2848>=DEB,BD!D2848<=FIN),MAX(calc!$H$1:H2847)+1,0)","v":0}]
[null,null,null,null,null,{"$f":"IF(COUNTIF(BD!$B$2:B2849,BD!B2849)=1,MAX($F$1:F2848)+1,\"\")","v":""},null,{"$f":"IF(AND(BD!B2849=REF,BD!D2849>=DEB,BD!D2849<=FIN),MAX(calc!$H$1:H2848)+1,0)","v":0}]
[null,null,null,null,null,{"$f":"IF(COUNTIF(BD!$B$2:B2850,BD!B2850)=1,MAX($F$1:F2849)+1,\"\")","v":""},null,{"$f":"IF(AND(BD!B2850=REF,BD!D2850>=DEB,BD!D2850<=FIN),MAX(calc!$H$1:H2849)+1,0)","v":0}]
[null,null,null,null,null,{"$f":"IF(COUNTIF(BD!$B$2:B2851,BD!B2851)=1,MAX($F$1:F2850)+1,\"\")","v":""},null,{"$f":"IF(AND(BD!B2851=REF,BD!D2851>=DEB,BD!D2851<=FIN),MAX(calc!$H$1:H2850)+1,0)","v":0}]
[null,null,null,null,null,{"$f":"IF(COUNTIF(BD!$B$2:B2852,BD!B2852)=1,MAX($F$1:F2851)+1,\"\")","v":""},null,{"$f":"IF(AND(BD!B2852=REF,BD!D2852>=DEB,BD!D2852<=FIN),MAX(calc!$H$1:H2851)+1,0)","v":0}]
[null,null,null,null,null,{"$f":"IF(COUNTIF(BD!$B$2:B2853,BD!B2853)=1,MAX($F$1:F2852)+1,\"\")","v":""},null,{"$f":"IF(AND(BD!B2853=REF,BD!D2853>=DEB,BD!D2853<=FIN),MAX(calc!$H$1:H2852)+1,0)","v":0}]
[null,null,null,null,null,{"$f":"IF(COUNTIF(BD!$B$2:B2854,BD!B2854)=1,MAX($F$1:F2853)+1,\"\")","v":""},null,{"$f":"IF(AND(BD!B2854=REF,BD!D2854>=DEB,BD!D2854<=FIN),MAX(calc!$H$1:H2853)+1,0)","v":0}]
[null,null,null,null,null,{"$f":"IF(COUNTIF(BD!$B$2:B2855,BD!B2855)=1,MAX($F$1:F2854)+1,\"\")","v":""},null,{"$f":"IF(AND(BD!B2855=REF,BD!D2855>=DEB,BD!D2855<=FIN),MAX(calc!$H$1:H2854)+1,0)","v":0}]
[null,null,null,null,null,{"$f":"IF(COUNTIF(BD!$B$2:B2856,BD!B2856)=1,MAX($F$1:F2855)+1,\"\")","v":""},null,{"$f":"IF(AND(BD!B2856=REF,BD!D2856>=DEB,BD!D2856<=FIN),MAX(calc!$H$1:H2855)+1,0)","v":0}]
[null,null,null,null,null,{"$f":"IF(COUNTIF(BD!$B$2:B2857,BD!B2857)=1,MAX($F$1:F2856)+1,\"\")","v":""},null,{"$f":"IF(AND(BD!B2857=REF,BD!D2857>=DEB,BD!D2857<=FIN),MAX(calc!$H$1:H2856)+1,0)","v":0}]
[null,null,null,null,null,{"$f":"IF(COUNTIF(BD!$B$2:B2858,BD!B2858)=1,MAX($F$1:F2857)+1,\"\")","v":""},null,{"$f":"IF(AND(BD!B2858=REF,BD!D2858>=DEB,BD!D2858<=FIN),MAX(calc!$H$1:H2857)+1,0)","v":0}]
[null,null,null,null,null,{"$f":"IF(COUNTIF(BD!$B$2:B2859,BD!B2859)=1,MAX($F$1:F2858)+1,\"\")","v":""},null,{"$f":"IF(AND(BD!B2859=REF,BD!D2859>=DEB,BD!D2859<=FIN),MAX(calc!$H$1:H2858)+1,0)","v":0}]
[null,null,null,null,null,{"$f":"IF(COUNTIF(BD!$B$2:B2860,BD!B2860)=1,MAX($F$1:F2859)+1,\"\")","v":""},null,{"$f":"IF(AND(BD!B2860=REF,BD!D2860>=DEB,BD!D2860<=FIN),MAX(calc!$H$1:H2859)+1,0)","v":0}]
[null,null,null,null,null,{"$f":"IF(COUNTIF(BD!$B$2:B2861,BD!B2861)=1,MAX($F$1:F2860)+1,\"\")","v":""},null,{"$f":"IF(AND(BD!B2861=REF,BD!D2861>=DEB,BD!D2861<=FIN),MAX(calc!$H$1:H2860)+1,0)","v":0}]
[null,null,null,null,null,{"$f":"IF(COUNTIF(BD!$B$2:B2862,BD!B2862)=1,MAX($F$1:F2861)+1,\"\")","v":""},null,{"$f":"IF(AND(BD!B2862=REF,BD!D2862>=DEB,BD!D2862<=FIN),MAX(calc!$H$1:H2861)+1,0)","v":0}]
[null,null,null,null,null,{"$f":"IF(COUNTIF(BD!$B$2:B2863,BD!B2863)=1,MAX($F$1:F2862)+1,\"\")","v":""},null,{"$f":"IF(AND(BD!B2863=REF,BD!D2863>=DEB,BD!D2863<=FIN),MAX(calc!$H$1:H2862)+1,0)","v":0}]
[null,null,null,null,null,{"$f":"IF(COUNTIF(BD!$B$2:B2864,BD!B2864)=1,MAX($F$1:F2863)+1,\"\")","v":""},null,{"$f":"IF(AND(BD!B2864=REF,BD!D2864>=DEB,BD!D2864<=FIN),MAX(calc!$H$1:H2863)+1,0)","v":0}]
[null,null,null,null,null,{"$f":"IF(COUNTIF(BD!$B$2:B2865,BD!B2865)=1,MAX($F$1:F2864)+1,\"\")","v":""},null,{"$f":"IF(AND(BD!B2865=REF,BD!D2865>=DEB,BD!D2865<=FIN),MAX(calc!$H$1:H2864)+1,0)","v":0}]
[null,null,null,null,null,{"$f":"IF(COUNTIF(BD!$B$2:B2866,BD!B2866)=1,MAX($F$1:F2865)+1,\"\")","v":""},null,{"$f":"IF(AND(BD!B2866=REF,BD!D2866>=DEB,BD!D2866<=FIN),MAX(calc!$H$1:H2865)+1,0)","v":0}]
[null,null,null,null,null,{"$f":"IF(COUNTIF(BD!$B$2:B2867,BD!B2867)=1,MAX($F$1:F2866)+1,\"\")","v":""},null,{"$f":"IF(AND(BD!B2867=REF,BD!D2867>=DEB,BD!D2867<=FIN),MAX(calc!$H$1:H2866)+1,0)","v":0}]
[null,null,null,null,null,{"$f":"IF(COUNTIF(BD!$B$2:B2868,BD!B2868)=1,MAX($F$1:F2867)+1,\"\")","v":""},null,{"$f":"IF(AND(BD!B2868=REF,BD!D2868>=DEB,BD!D2868<=FIN),MAX(calc!$H$1:H2867)+1,0)","v":0}]
[null,null,null,null,null,{"$f":"IF(COUNTIF(BD!$B$2:B2869,BD!B2869)=1,MAX($F$1:F2868)+1,\"\")","v":""},null,{"$f":"IF(AND(BD!B2869=REF,BD!D2869>=DEB,BD!D2869<=FIN),MAX(calc!$H$1:H2868)+1,0)","v":0}]
[null,null,null,null,null,{"$f":"IF(COUNTIF(BD!$B$2:B2870,BD!B2870)=1,MAX($F$1:F2869)+1,\"\")","v":""},null,{"$f":"IF(AND(BD!B2870=REF,BD!D2870>=DEB,BD!D2870<=FIN),MAX(calc!$H$1:H2869)+1,0)","v":0}]
[null,null,null,null,null,{"$f":"IF(COUNTIF(BD!$B$2:B2871,BD!B2871)=1,MAX($F$1:F2870)+1,\"\")","v":""},null,{"$f":"IF(AND(BD!B2871=REF,BD!D2871>=DEB,BD!D2871<=FIN),MAX(calc!$H$1:H2870)+1,0)","v":0}]
[null,null,null,null,null,{"$f":"IF(COUNTIF(BD!$B$2:B2872,BD!B2872)=1,MAX($F$1:F2871)+1,\"\")","v":""},null,{"$f":"IF(AND(BD!B2872=REF,BD!D2872>=DEB,BD!D2872<=FIN),MAX(calc!$H$1:H2871)+1,0)","v":0}]
[null,null,null,null,null,{"$f":"IF(COUNTIF(BD!$B$2:B2873,BD!B2873)=1,MAX($F$1:F2872)+1,\"\")","v":""},null,{"$f":"IF(AND(BD!B2873=REF,BD!D2873>=DEB,BD!D2873<=FIN),MAX(calc!$H$1:H2872)+1,0)","v":0}]
[null,null,null,null,null,{"$f":"IF(COUNTIF(BD!$B$2:B2874,BD!B2874)=1,MAX($F$1:F2873)+1,\"\")","v":""},null,{"$f":"IF(AND(BD!B2874=REF,BD!D2874>=DEB,BD!D2874<=FIN),MAX(calc!$H$1:H2873)+1,0)","v":0}]
[null,null,null,null,null,{"$f":"IF(COUNTIF(BD!$B$2:B2875,BD!B2875)=1,MAX($F$1:F2874)+1,\"\")","v":""},null,{"$f":"IF(AND(BD!B2875=REF,BD!D2875>=DEB,BD!D2875<=FIN),MAX(calc!$H$1:H2874)+1,0)","v":0}]
[null,null,null,null,null,{"$f":"IF(COUNTIF(BD!$B$2:B2876,BD!B2876)=1,MAX($F$1:F2875)+1,\"\")","v":""},null,{"$f":"IF(AND(BD!B2876=REF,BD!D2876>=DEB,BD!D2876<=FIN),MAX(calc!$H$1:H2875)+1,0)","v":0}]
[null,null,null,null,null,{"$f":"IF(COUNTIF(BD!$B$2:B2877,BD!B2877)=1,MAX($F$1:F2876)+1,\"\")","v":""},null,{"$f":"IF(AND(BD!B2877=REF,BD!D2877>=DEB,BD!D2877<=FIN),MAX(calc!$H$1:H2876)+1,0)","v":0}]
[null,null,null,null,null,{"$f":"IF(COUNTIF(BD!$B$2:B2878,BD!B2878)=1,MAX($F$1:F2877)+1,\"\")","v":""},null,{"$f":"IF(AND(BD!B2878=REF,BD!D2878>=DEB,BD!D2878<=FIN),MAX(calc!$H$1:H2877)+1,0)","v":0}]
[null,null,null,null,null,{"$f":"IF(COUNTIF(BD!$B$2:B2879,BD!B2879)=1,MAX($F$1:F2878)+1,\"\")","v":""},null,{"$f":"IF(AND(BD!B2879=REF,BD!D2879>=DEB,BD!D2879<=FIN),MAX(calc!$H$1:H2878)+1,0)","v":0}]
[null,null,null,null,null,{"$f":"IF(COUNTIF(BD!$B$2:B2880,BD!B2880)=1,MAX($F$1:F2879)+1,\"\")","v":""},null,{"$f":"IF(AND(BD!B2880=REF,BD!D2880>=DEB,BD!D2880<=FIN),MAX(calc!$H$1:H2879)+1,0)","v":0}]
[null,null,null,null,null,{"$f":"IF(COUNTIF(BD!$B$2:B2881,BD!B2881)=1,MAX($F$1:F2880)+1,\"\")","v":""},null,{"$f":"IF(AND(BD!B2881=REF,BD!D2881>=DEB,BD!D2881<=FIN),MAX(calc!$H$1:H2880)+1,0)","v":0}]
[null,null,null,null,null,{"$f":"IF(COUNTIF(BD!$B$2:B2882,BD!B2882)=1,MAX($F$1:F2881)+1,\"\")","v":""},null,{"$f":"IF(AND(BD!B2882=REF,BD!D2882>=DEB,BD!D2882<=FIN),MAX(calc!$H$1:H2881)+1,0)","v":0}]
[null,null,null,null,null,{"$f":"IF(COUNTIF(BD!$B$2:B2883,BD!B2883)=1,MAX($F$1:F2882)+1,\"\")","v":""},null,{"$f":"IF(AND(BD!B2883=REF,BD!D2883>=DEB,BD!D2883<=FIN),MAX(calc!$H$1:H2882)+1,0)","v":0}]
[null,null,null,null,null,{"$f":"IF(COUNTIF(BD!$B$2:B2884,BD!B2884)=1,MAX($F$1:F2883)+1,\"\")","v":""},null,{"$f":"IF(AND(BD!B2884=REF,BD!D2884>=DEB,BD!D2884<=FIN),MAX(calc!$H$1:H2883)+1,0)","v":0}]
[null,null,null,null,null,{"$f":"IF(COUNTIF(BD!$B$2:B2885,BD!B2885)=1,MAX($F$1:F2884)+1,\"\")","v":""},null,{"$f":"IF(AND(BD!B2885=REF,BD!D2885>=DEB,BD!D2885<=FIN),MAX(calc!$H$1:H2884)+1,0)","v":0}]
[null,null,null,null,null,{"$f":"IF(COUNTIF(BD!$B$2:B2886,BD!B2886)=1,MAX($F$1:F2885)+1,\"\")","v":""},null,{"$f":"IF(AND(BD!B2886=REF,BD!D2886>=DEB,BD!D2886<=FIN),MAX(calc!$H$1:H2885)+1,0)","v":0}]
[null,null,null,null,null,{"$f":"IF(COUNTIF(BD!$B$2:B2887,BD!B2887)=1,MAX($F$1:F2886)+1,\"\")","v":""},null,{"$f":"IF(AND(BD!B2887=REF,BD!D2887>=DEB,BD!D2887<=FIN),MAX(calc!$H$1:H2886)+1,0)","v":0}]
[null,null,null,null,null,{"$f":"IF(COUNTIF(BD!$B$2:B2888,BD!B2888)=1,MAX($F$1:F2887)+1,\"\")","v":""},null,{"$f":"IF(AND(BD!B2888=REF,BD!D2888>=DEB,BD!D2888<=FIN),MAX(calc!$H$1:H2887)+1,0)","v":0}]
[null,null,null,null,null,{"$f":"IF(COUNTIF(BD!$B$2:B2889,BD!B2889)=1,MAX($F$1:F2888)+1,\"\")","v":""},null,{"$f":"IF(AND(BD!B2889=REF,BD!D2889>=DEB,BD!D2889<=FIN),MAX(calc!$H$1:H2888)+1,0)","v":0}]
[null,null,null,null,null,{"$f":"IF(COUNTIF(BD!$B$2:B2890,BD!B2890)=1,MAX($F$1:F2889)+1,\"\")","v":""},null,{"$f":"IF(AND(BD!B2890=REF,BD!D2890>=DEB,BD!D2890<=FIN),MAX(calc!$H$1:H2889)+1,0)","v":0}]
[null,null,null,null,null,{"$f":"IF(COUNTIF(BD!$B$2:B2891,BD!B2891)=1,MAX($F$1:F2890)+1,\"\")","v":""},null,{"$f":"IF(AND(BD!B2891=REF,BD!D2891>=DEB,BD!D2891<=FIN),MAX(calc!$H$1:H2890)+1,0)","v":0}]
[null,null,null,null,null,{"$f":"IF(COUNTIF(BD!$B$2:B2892,BD!B2892)=1,MAX($F$1:F2891)+1,\"\")","v":""},null,{"$f":"IF(AND(BD!B2892=REF,BD!D2892>=DEB,BD!D2892<=FIN),MAX(calc!$H$1:H2891)+1,0)","v":0}]
[null,null,null,null,null,{"$f":"IF(COUNTIF(BD!$B$2:B2893,BD!B2893)=1,MAX($F$1:F2892)+1,\"\")","v":""},null,{"$f":"IF(AND(BD!B2893=REF,BD!D2893>=DEB,BD!D2893<=FIN),MAX(calc!$H$1:H2892)+1,0)","v":0}]
[null,null,null,null,null,{"$f":"IF(COUNTIF(BD!$B$2:B2894,BD!B2894)=1,MAX($F$1:F2893)+1,\"\")","v":""},null,{"$f":"IF(AND(BD!B2894=REF,BD!D2894>=DEB,BD!D2894<=FIN),MAX(calc!$H$1:H2893)+1,0)","v":0}]
[null,null,null,null,null,{"$f":"IF(COUNTIF(BD!$B$2:B2895,BD!B2895)=1,MAX($F$1:F2894)+1,\"\")","v":""},null,{"$f":"IF(AND(BD!B2895=REF,BD!D2895>=DEB,BD!D2895<=FIN),MAX(calc!$H$1:H2894)+1,0)","v":0}]
[null,null,null,null,null,{"$f":"IF(COUNTIF(BD!$B$2:B2896,BD!B2896)=1,MAX($F$1:F2895)+1,\"\")","v":""},null,{"$f":"IF(AND(BD!B2896=REF,BD!D2896>=DEB,BD!D2896<=FIN),MAX(calc!$H$1:H2895)+1,0)","v":0}]
[null,null,null,null,null,{"$f":"IF(COUNTIF(BD!$B$2:B2897,BD!B2897)=1,MAX($F$1:F2896)+1,\"\")","v":""},null,{"$f":"IF(AND(BD!B2897=REF,BD!D2897>=DEB,BD!D2897<=FIN),MAX(calc!$H$1:H2896)+1,0)","v":0}]
[null,null,null,null,null,{"$f":"IF(COUNTIF(BD!$B$2:B2898,BD!B2898)=1,MAX($F$1:F2897)+1,\"\")","v":""},null,{"$f":"IF(AND(BD!B2898=REF,BD!D2898>=DEB,BD!D2898<=FIN),MAX(calc!$H$1:H2897)+1,0)","v":0}]
[null,null,null,null,null,{"$f":"IF(COUNTIF(BD!$B$2:B2899,BD!B2899)=1,MAX($F$1:F2898)+1,\"\")","v":""},null,{"$f":"IF(AND(BD!B2899=REF,BD!D2899>=DEB,BD!D2899<=FIN),MAX(calc!$H$1:H2898)+1,0)","v":0}]
[null,null,null,null,null,{"$f":"IF(COUNTIF(BD!$B$2:B2900,BD!B2900)=1,MAX($F$1:F2899)+1,\"\")","v":""},null,{"$f":"IF(AND(BD!B2900=REF,BD!D2900>=DEB,BD!D2900<=FIN),MAX(calc!$H$1:H2899)+1,0)","v":0}]
[null,null,null,null,null,{"$f":"IF(COUNTIF(BD!$B$2:B2901,BD!B2901)=1,MAX($F$1:F2900)+1,\"\")","v":""},null,{"$f":"IF(AND(BD!B2901=REF,BD!D2901>=DEB,BD!D2901<=FIN),MAX(calc!$H$1:H2900)+1,0)","v":0}]
[null,null,null,null,null,{"$f":"IF(COUNTIF(BD!$B$2:B2902,BD!B2902)=1,MAX($F$1:F2901)+1,\"\")","v":""},null,{"$f":"IF(AND(BD!B2902=REF,BD!D2902>=DEB,BD!D2902<=FIN),MAX(calc!$H$1:H2901)+1,0)","v":0}]
[null,null,null,null,null,{"$f":"IF(COUNTIF(BD!$B$2:B2903,BD!B2903)=1,MAX($F$1:F2902)+1,\"\")","v":""},null,{"$f":"IF(AND(BD!B2903=REF,BD!D2903>=DEB,BD!D2903<=FIN),MAX(calc!$H$1:H2902)+1,0)","v":0}]
[null,null,null,null,null,{"$f":"IF(COUNTIF(BD!$B$2:B2904,BD!B2904)=1,MAX($F$1:F2903)+1,\"\")","v":""},null,{"$f":"IF(AND(BD!B2904=REF,BD!D2904>=DEB,BD!D2904<=FIN),MAX(calc!$H$1:H2903)+1,0)","v":0}]
[null,null,null,null,null,{"$f":"IF(COUNTIF(BD!$B$2:B2905,BD!B2905)=1,MAX($F$1:F2904)+1,\"\")","v":""},null,{"$f":"IF(AND(BD!B2905=REF,BD!D2905>=DEB,BD!D2905<=FIN),MAX(calc!$H$1:H2904)+1,0)","v":0}]
[null,null,null,null,null,{"$f":"IF(COUNTIF(BD!$B$2:B2906,BD!B2906)=1,MAX($F$1:F2905)+1,\"\")","v":""},null,{"$f":"IF(AND(BD!B2906=REF,BD!D2906>=DEB,BD!D2906<=FIN),MAX(calc!$H$1:H2905)+1,0)","v":0}]
[null,null,null,null,null,{"$f":"IF(COUNTIF(BD!$B$2:B2907,BD!B2907)=1,MAX($F$1:F2906)+1,\"\")","v":""},null,{"$f":"IF(AND(BD!B2907=REF,BD!D2907>=DEB,BD!D2907<=FIN),MAX(calc!$H$1:H2906)+1,0)","v":0}]
[null,null,null,null,null,{"$f":"IF(COUNTIF(BD!$B$2:B2908,BD!B2908)=1,MAX($F$1:F2907)+1,\"\")","v":""},null,{"$f":"IF(AND(BD!B2908=REF,BD!D2908>=DEB,BD!D2908<=FIN),MAX(calc!$H$1:H2907)+1,0)","v":0}]
[null,null,null,null,null,{"$f":"IF(COUNTIF(BD!$B$2:B2909,BD!B2909)=1,MAX($F$1:F2908)+1,\"\")","v":""},null,{"$f":"IF(AND(BD!B2909=REF,BD!D2909>=DEB,BD!D2909<=FIN),MAX(calc!$H$1:H2908)+1,0)","v":0}]
[null,null,null,null,null,{"$f":"IF(COUNTIF(BD!$B$2:B2910,BD!B2910)=1,MAX($F$1:F2909)+1,\"\")","v":""},null,{"$f":"IF(AND(BD!B2910=REF,BD!D2910>=DEB,BD!D2910<=FIN),MAX(calc!$H$1:H2909)+1,0)","v":0}]
[null,null,null,null,null,{"$f":"IF(COUNTIF(BD!$B$2:B2911,BD!B2911)=1,MAX($F$1:F2910)+1,\"\")","v":""},null,{"$f":"IF(AND(BD!B2911=REF,BD!D2911>=DEB,BD!D2911<=FIN),MAX(calc!$H$1:H2910)+1,0)","v":0}]
[null,null,null,null,null,{"$f":"IF(COUNTIF(BD!$B$2:B2912,BD!B2912)=1,MAX($F$1:F2911)+1,\"\")","v":""},null,{"$f":"IF(AND(BD!B2912=REF,BD!D2912>=DEB,BD!D2912<=FIN),MAX(calc!$H$1:H2911)+1,0)","v":0}]
[null,null,null,null,null,{"$f":"IF(COUNTIF(BD!$B$2:B2913,BD!B2913)=1,MAX($F$1:F2912)+1,\"\")","v":""},null,{"$f":"IF(AND(BD!B2913=REF,BD!D2913>=DEB,BD!D2913<=FIN),MAX(calc!$H$1:H2912)+1,0)","v":0}]
[null,null,null,null,null,{"$f":"IF(COUNTIF(BD!$B$2:B2914,BD!B2914)=1,MAX($F$1:F2913)+1,\"\")","v":""},null,{"$f":"IF(AND(BD!B2914=REF,BD!D2914>=DEB,BD!D2914<=FIN),MAX(calc!$H$1:H2913)+1,0)","v":0}]
[null,null,null,null,null,{"$f":"IF(COUNTIF(BD!$B$2:B2915,BD!B2915)=1,MAX($F$1:F2914)+1,\"\")","v":""},null,{"$f":"IF(AND(BD!B2915=REF,BD!D2915>=DEB,BD!D2915<=FIN),MAX(calc!$H$1:H2914)+1,0)","v":0}]
[null,null,null,null,null,{"$f":"IF(COUNTIF(BD!$B$2:B2916,BD!B2916)=1,MAX($F$1:F2915)+1,\"\")","v":""},null,{"$f":"IF(AND(BD!B2916=REF,BD!D2916>=DEB,BD!D2916<=FIN),MAX(calc!$H$1:H2915)+1,0)","v":0}]
[null,null,null,null,null,{"$f":"IF(COUNTIF(BD!$B$2:B2917,BD!B2917)=1,MAX($F$1:F2916)+1,\"\")","v":""},null,{"$f":"IF(AND(BD!B2917=REF,BD!D2917>=DEB,BD!D2917<=FIN),MAX(calc!$H$1:H2916)+1,0)","v":0}]
[null,null,null,null,null,{"$f":"IF(COUNTIF(BD!$B$2:B2918,BD!B2918)=1,MAX($F$1:F2917)+1,\"\")","v":""},null,{"$f":"IF(AND(BD!B2918=REF,BD!D2918>=DEB,BD!D2918<=FIN),MAX(calc!$H$1:H2917)+1,0)","v":0}]
[null,null,null,null,null,{"$f":"IF(COUNTIF(BD!$B$2:B2919,BD!B2919)=1,MAX($F$1:F2918)+1,\"\")","v":""},null,{"$f":"IF(AND(BD!B2919=REF,BD!D2919>=DEB,BD!D2919<=FIN),MAX(calc!$H$1:H2918)+1,0)","v":0}]
[null,null,null,null,null,{"$f":"IF(COUNTIF(BD!$B$2:B2920,BD!B2920)=1,MAX($F$1:F2919)+1,\"\")","v":""},null,{"$f":"IF(AND(BD!B2920=REF,BD!D2920>=DEB,BD!D2920<=FIN),MAX(calc!$H$1:H2919)+1,0)","v":0}]
[null,null,null,null,null,{"$f":"IF(COUNTIF(BD!$B$2:B2921,BD!B2921)=1,MAX($F$1:F2920)+1,\"\")","v":""},null,{"$f":"IF(AND(BD!B2921=REF,BD!D2921>=DEB,BD!D2921<=FIN),MAX(calc!$H$1:H2920)+1,0)","v":0}]
[null,null,null,null,null,{"$f":"IF(COUNTIF(BD!$B$2:B2922,BD!B2922)=1,MAX($F$1:F2921)+1,\"\")","v":""},null,{"$f":"IF(AND(BD!B2922=REF,BD!D2922>=DEB,BD!D2922<=FIN),MAX(calc!$H$1:H2921)+1,0)","v":0}]
[null,null,null,null,null,{"$f":"IF(COUNTIF(BD!$B$2:B2923,BD!B2923)=1,MAX($F$1:F2922)+1,\"\")","v":""},null,{"$f":"IF(AND(BD!B2923=REF,BD!D2923>=DEB,BD!D2923<=FIN),MAX(calc!$H$1:H2922)+1,0)","v":0}]
[null,null,null,null,null,{"$f":"IF(COUNTIF(BD!$B$2:B2924,BD!B2924)=1,MAX($F$1:F2923)+1,\"\")","v":""},null,{"$f":"IF(AND(BD!B2924=REF,BD!D2924>=DEB,BD!D2924<=FIN),MAX(calc!$H$1:H2923)+1,0)","v":0}]
[null,null,null,null,null,{"$f":"IF(COUNTIF(BD!$B$2:B2925,BD!B2925)=1,MAX($F$1:F2924)+1,\"\")","v":""},null,{"$f":"IF(AND(BD!B2925=REF,BD!D2925>=DEB,BD!D2925<=FIN),MAX(calc!$H$1:H2924)+1,0)","v":0}]
[null,null,null,null,null,{"$f":"IF(COUNTIF(BD!$B$2:B2926,BD!B2926)=1,MAX($F$1:F2925)+1,\"\")","v":""},null,{"$f":"IF(AND(BD!B2926=REF,BD!D2926>=DEB,BD!D2926<=FIN),MAX(calc!$H$1:H2925)+1,0)","v":0}]
[null,null,null,null,null,{"$f":"IF(COUNTIF(BD!$B$2:B2927,BD!B2927)=1,MAX($F$1:F2926)+1,\"\")","v":""},null,{"$f":"IF(AND(BD!B2927=REF,BD!D2927>=DEB,BD!D2927<=FIN),MAX(calc!$H$1:H2926)+1,0)","v":0}]
[null,null,null,null,null,{"$f":"IF(COUNTIF(BD!$B$2:B2928,BD!B2928)=1,MAX($F$1:F2927)+1,\"\")","v":""},null,{"$f":"IF(AND(BD!B2928=REF,BD!D2928>=DEB,BD!D2928<=FIN),MAX(calc!$H$1:H2927)+1,0)","v":0}]
[null,null,null,null,null,{"$f":"IF(COUNTIF(BD!$B$2:B2929,BD!B2929)=1,MAX($F$1:F2928)+1,\"\")","v":""},null,{"$f":"IF(AND(BD!B2929=REF,BD!D2929>=DEB,BD!D2929<=FIN),MAX(calc!$H$1:H2928)+1,0)","v":0}]
[null,null,null,null,null,{"$f":"IF(COUNTIF(BD!$B$2:B2930,BD!B2930)=1,MAX($F$1:F2929)+1,\"\")","v":""},null,{"$f":"IF(AND(BD!B2930=REF,BD!D2930>=DEB,BD!D2930<=FIN),MAX(calc!$H$1:H2929)+1,0)","v":0}]
[null,null,null,null,null,{"$f":"IF(COUNTIF(BD!$B$2:B2931,BD!B2931)=1,MAX($F$1:F2930)+1,\"\")","v":""},null,{"$f":"IF(AND(BD!B2931=REF,BD!D2931>=DEB,BD!D2931<=FIN),MAX(calc!$H$1:H2930)+1,0)","v":0}]
[null,null,null,null,null,{"$f":"IF(COUNTIF(BD!$B$2:B2932,BD!B2932)=1,MAX($F$1:F2931)+1,\"\")","v":""},null,{"$f":"IF(AND(BD!B2932=REF,BD!D2932>=DEB,BD!D2932<=FIN),MAX(calc!$H$1:H2931)+1,0)","v":0}]
[null,null,null,null,null,{"$f":"IF(COUNTIF(BD!$B$2:B2933,BD!B2933)=1,MAX($F$1:F2932)+1,\"\")","v":""},null,{"$f":"IF(AND(BD!B2933=REF,BD!D2933>=DEB,BD!D2933<=FIN),MAX(calc!$H$1:H2932)+1,0)","v":0}]
[null,null,null,null,null,{"$f":"IF(COUNTIF(BD!$B$2:B2934,BD!B2934)=1,MAX($F$1:F2933)+1,\"\")","v":""},null,{"$f":"IF(AND(BD!B2934=REF,BD!D2934>=DEB,BD!D2934<=FIN),MAX(calc!$H$1:H2933)+1,0)","v":0}]
[null,null,null,null,null,{"$f":"IF(COUNTIF(BD!$B$2:B2935,BD!B2935)=1,MAX($F$1:F2934)+1,\"\")","v":""},null,{"$f":"IF(AND(BD!B2935=REF,BD!D2935>=DEB,BD!D2935<=FIN),MAX(calc!$H$1:H2934)+1,0)","v":0}]
[null,null,null,null,null,{"$f":"IF(COUNTIF(BD!$B$2:B2936,BD!B2936)=1,MAX($F$1:F2935)+1,\"\")","v":""},null,{"$f":"IF(AND(BD!B2936=REF,BD!D2936>=DEB,BD!D2936<=FIN),MAX(calc!$H$1:H2935)+1,0)","v":0}]
[null,null,null,null,null,{"$f":"IF(COUNTIF(BD!$B$2:B2937,BD!B2937)=1,MAX($F$1:F2936)+1,\"\")","v":""},null,{"$f":"IF(AND(BD!B2937=REF,BD!D2937>=DEB,BD!D2937<=FIN),MAX(calc!$H$1:H2936)+1,0)","v":0}]
[null,null,null,null,null,{"$f":"IF(COUNTIF(BD!$B$2:B2938,BD!B2938)=1,MAX($F$1:F2937)+1,\"\")","v":""},null,{"$f":"IF(AND(BD!B2938=REF,BD!D2938>=DEB,BD!D2938<=FIN),MAX(calc!$H$1:H2937)+1,0)","v":0}]
[null,null,null,null,null,{"$f":"IF(COUNTIF(BD!$B$2:B2939,BD!B2939)=1,MAX($F$1:F2938)+1,\"\")","v":""},null,{"$f":"IF(AND(BD!B2939=REF,BD!D2939>=DEB,BD!D2939<=FIN),MAX(calc!$H$1:H2938)+1,0)","v":0}]
[null,null,null,null,null,{"$f":"IF(COUNTIF(BD!$B$2:B2940,BD!B2940)=1,MAX($F$1:F2939)+1,\"\")","v":""},null,{"$f":"IF(AND(BD!B2940=REF,BD!D2940>=DEB,BD!D2940<=FIN),MAX(calc!$H$1:H2939)+1,0)","v":0}]
[null,null,null,null,null,{"$f":"IF(COUNTIF(BD!$B$2:B2941,BD!B2941)=1,MAX($F$1:F2940)+1,\"\")","v":""},null,{"$f":"IF(AND(BD!B2941=REF,BD!D2941>=DEB,BD!D2941<=FIN),MAX(calc!$H$1:H2940)+1,0)","v":0}]
[null,null,null,null,null,{"$f":"IF(COUNTIF(BD!$B$2:B2942,BD!B2942)=1,MAX($F$1:F2941)+1,\"\")","v":""},null,{"$f":"IF(AND(BD!B2942=REF,BD!D2942>=DEB,BD!D2942<=FIN),MAX(calc!$H$1:H2941)+1,0)","v":0}]
[null,null,null,null,null,{"$f":"IF(COUNTIF(BD!$B$2:B2943,BD!B2943)=1,MAX($F$1:F2942)+1,\"\")","v":""},null,{"$f":"IF(AND(BD!B2943=REF,BD!D2943>=DEB,BD!D2943<=FIN),MAX(calc!$H$1:H2942)+1,0)","v":0}]
[null,null,null,null,null,{"$f":"IF(COUNTIF(BD!$B$2:B2944,BD!B2944)=1,MAX($F$1:F2943)+1,\"\")","v":""},null,{"$f":"IF(AND(BD!B2944=REF,BD!D2944>=DEB,BD!D2944<=FIN),MAX(calc!$H$1:H2943)+1,0)","v":0}]
[null,null,null,null,null,{"$f":"IF(COUNTIF(BD!$B$2:B2945,BD!B2945)=1,MAX($F$1:F2944)+1,\"\")","v":""},null,{"$f":"IF(AND(BD!B2945=REF,BD!D2945>=DEB,BD!D2945<=FIN),MAX(calc!$H$1:H2944)+1,0)","v":0}]
[null,null,null,null,null,{"$f":"IF(COUNTIF(BD!$B$2:B2946,BD!B2946)=1,MAX($F$1:F2945)+1,\"\")","v":""},null,{"$f":"IF(AND(BD!B2946=REF,BD!D2946>=DEB,BD!D2946<=FIN),MAX(calc!$H$1:H2945)+1,0)","v":0}]
[null,null,null,null,null,{"$f":"IF(COUNTIF(BD!$B$2:B2947,BD!B2947)=1,MAX($F$1:F2946)+1,\"\")","v":""},null,{"$f":"IF(AND(BD!B2947=REF,BD!D2947>=DEB,BD!D2947<=FIN),MAX(calc!$H$1:H2946)+1,0)","v":0}]
[null,null,null,null,null,{"$f":"IF(COUNTIF(BD!$B$2:B2948,BD!B2948)=1,MAX($F$1:F2947)+1,\"\")","v":""},null,{"$f":"IF(AND(BD!B2948=REF,BD!D2948>=DEB,BD!D2948<=FIN),MAX(calc!$H$1:H2947)+1,0)","v":0}]
[null,null,null,null,null,{"$f":"IF(COUNTIF(BD!$B$2:B2949,BD!B2949)=1,MAX($F$1:F2948)+1,\"\")","v":""},null,{"$f":"IF(AND(BD!B2949=REF,BD!D2949>=DEB,BD!D2949<=FIN),MAX(calc!$H$1:H2948)+1,0)","v":0}]
[null,null,null,null,null,{"$f":"IF(COUNTIF(BD!$B$2:B2950,BD!B2950)=1,MAX($F$1:F2949)+1,\"\")","v":""},null,{"$f":"IF(AND(BD!B2950=REF,BD!D2950>=DEB,BD!D2950<=FIN),MAX(calc!$H$1:H2949)+1,0)","v":0}]
[null,null,null,null,null,{"$f":"IF(COUNTIF(BD!$B$2:B2951,BD!B2951)=1,MAX($F$1:F2950)+1,\"\")","v":""},null,{"$f":"IF(AND(BD!B2951=REF,BD!D2951>=DEB,BD!D2951<=FIN),MAX(calc!$H$1:H2950)+1,0)","v":0}]
[null,null,null,null,null,{"$f":"IF(COUNTIF(BD!$B$2:B2952,BD!B2952)=1,MAX($F$1:F2951)+1,\"\")","v":""},null,{"$f":"IF(AND(BD!B2952=REF,BD!D2952>=DEB,BD!D2952<=FIN),MAX(calc!$H$1:H2951)+1,0)","v":0}]
[null,null,null,null,null,{"$f":"IF(COUNTIF(BD!$B$2:B2953,BD!B2953)=1,MAX($F$1:F2952)+1,\"\")","v":""},null,{"$f":"IF(AND(BD!B2953=REF,BD!D2953>=DEB,BD!D2953<=FIN),MAX(calc!$H$1:H2952)+1,0)","v":0}]
[null,null,null,null,null,{"$f":"IF(COUNTIF(BD!$B$2:B2954,BD!B2954)=1,MAX($F$1:F2953)+1,\"\")","v":""},null,{"$f":"IF(AND(BD!B2954=REF,BD!D2954>=DEB,BD!D2954<=FIN),MAX(calc!$H$1:H2953)+1,0)","v":0}]
[null,null,null,null,null,{"$f":"IF(COUNTIF(BD!$B$2:B2955,BD!B2955)=1,MAX($F$1:F2954)+1,\"\")","v":""},null,{"$f":"IF(AND(BD!B2955=REF,BD!D2955>=DEB,BD!D2955<=FIN),MAX(calc!$H$1:H2954)+1,0)","v":0}]
[null,null,null,null,null,{"$f":"IF(COUNTIF(BD!$B$2:B2956,BD!B2956)=1,MAX($F$1:F2955)+1,\"\")","v":""},null,{"$f":"IF(AND(BD!B2956=REF,BD!D2956>=DEB,BD!D2956<=FIN),MAX(calc!$H$1:H2955)+1,0)","v":0}]
[null,null,null,null,null,{"$f":"IF(COUNTIF(BD!$B$2:B2957,BD!B2957)=1,MAX($F$1:F2956)+1,\"\")","v":""},null,{"$f":"IF(AND(BD!B2957=REF,BD!D2957>=DEB,BD!D2957<=FIN),MAX(calc!$H$1:H2956)+1,0)","v":0}]
[null,null,null,null,null,{"$f":"IF(COUNTIF(BD!$B$2:B2958,BD!B2958)=1,MAX($F$1:F2957)+1,\"\")","v":""},null,{"$f":"IF(AND(BD!B2958=REF,BD!D2958>=DEB,BD!D2958<=FIN),MAX(calc!$H$1:H2957)+1,0)","v":0}]
[null,null,null,null,null,{"$f":"IF(COUNTIF(BD!$B$2:B2959,BD!B2959)=1,MAX($F$1:F2958)+1,\"\")","v":""},null,{"$f":"IF(AND(BD!B2959=REF,BD!D2959>=DEB,BD!D2959<=FIN),MAX(calc!$H$1:H2958)+1,0)","v":0}]
[null,null,null,null,null,{"$f":"IF(COUNTIF(BD!$B$2:B2960,BD!B2960)=1,MAX($F$1:F2959)+1,\"\")","v":""},null,{"$f":"IF(AND(BD!B2960=REF,BD!D2960>=DEB,BD!D2960<=FIN),MAX(calc!$H$1:H2959)+1,0)","v":0}]
[null,null,null,null,null,{"$f":"IF(COUNTIF(BD!$B$2:B2961,BD!B2961)=1,MAX($F$1:F2960)+1,\"\")","v":""},null,{"$f":"IF(AND(BD!B2961=REF,BD!D2961>=DEB,BD!D2961<=FIN),MAX(calc!$H$1:H2960)+1,0)","v":0}]
[null,null,null,null,null,{"$f":"IF(COUNTIF(BD!$B$2:B2962,BD!B2962)=1,MAX($F$1:F2961)+1,\"\")","v":""},null,{"$f":"IF(AND(BD!B2962=REF,BD!D2962>=DEB,BD!D2962<=FIN),MAX(calc!$H$1:H2961)+1,0)","v":0}]
[null,null,null,null,null,{"$f":"IF(COUNTIF(BD!$B$2:B2963,BD!B2963)=1,MAX($F$1:F2962)+1,\"\")","v":""},null,{"$f":"IF(AND(BD!B2963=REF,BD!D2963>=DEB,BD!D2963<=FIN),MAX(calc!$H$1:H2962)+1,0)","v":0}]
[null,null,null,null,null,{"$f":"IF(COUNTIF(BD!$B$2:B2964,BD!B2964)=1,MAX($F$1:F2963)+1,\"\")","v":""},null,{"$f":"IF(AND(BD!B2964=REF,BD!D2964>=DEB,BD!D2964<=FIN),MAX(calc!$H$1:H2963)+1,0)","v":0}]
[null,null,null,null,null,{"$f":"IF(COUNTIF(BD!$B$2:B2965,BD!B2965)=1,MAX($F$1:F2964)+1,\"\")","v":""},null,{"$f":"IF(AND(BD!B2965=REF,BD!D2965>=DEB,BD!D2965<=FIN),MAX(calc!$H$1:H2964)+1,0)","v":0}]
[null,null,null,null,null,{"$f":"IF(COUNTIF(BD!$B$2:B2966,BD!B2966)=1,MAX($F$1:F2965)+1,\"\")","v":""},null,{"$f":"IF(AND(BD!B2966=REF,BD!D2966>=DEB,BD!D2966<=FIN),MAX(calc!$H$1:H2965)+1,0)","v":0}]
[null,null,null,null,null,{"$f":"IF(COUNTIF(BD!$B$2:B2967,BD!B2967)=1,MAX($F$1:F2966)+1,\"\")","v":""},null,{"$f":"IF(AND(BD!B2967=REF,BD!D2967>=DEB,BD!D2967<=FIN),MAX(calc!$H$1:H2966)+1,0)","v":0}]
[null,null,null,null,null,{"$f":"IF(COUNTIF(BD!$B$2:B2968,BD!B2968)=1,MAX($F$1:F2967)+1,\"\")","v":""},null,{"$f":"IF(AND(BD!B2968=REF,BD!D2968>=DEB,BD!D2968<=FIN),MAX(calc!$H$1:H2967)+1,0)","v":0}]
[null,null,null,null,null,{"$f":"IF(COUNTIF(BD!$B$2:B2969,BD!B2969)=1,MAX($F$1:F2968)+1,\"\")","v":""},null,{"$f":"IF(AND(BD!B2969=REF,BD!D2969>=DEB,BD!D2969<=FIN),MAX(calc!$H$1:H2968)+1,0)","v":0}]
[null,null,null,null,null,{"$f":"IF(COUNTIF(BD!$B$2:B2970,BD!B2970)=1,MAX($F$1:F2969)+1,\"\")","v":""},null,{"$f":"IF(AND(BD!B2970=REF,BD!D2970>=DEB,BD!D2970<=FIN),MAX(calc!$H$1:H2969)+1,0)","v":0}]
[null,null,null,null,null,{"$f":"IF(COUNTIF(BD!$B$2:B2971,BD!B2971)=1,MAX($F$1:F2970)+1,\"\")","v":""},null,{"$f":"IF(AND(BD!B2971=REF,BD!D2971>=DEB,BD!D2971<=FIN),MAX(calc!$H$1:H2970)+1,0)","v":0}]
[null,null,null,null,null,{"$f":"IF(COUNTIF(BD!$B$2:B2972,BD!B2972)=1,MAX($F$1:F2971)+1,\"\")","v":""},null,{"$f":"IF(AND(BD!B2972=REF,BD!D2972>=DEB,BD!D2972<=FIN),MAX(calc!$H$1:H2971)+1,0)","v":0}]
[null,null,null,null,null,{"$f":"IF(COUNTIF(BD!$B$2:B2973,BD!B2973)=1,MAX($F$1:F2972)+1,\"\")","v":""},null,{"$f":"IF(AND(BD!B2973=REF,BD!D2973>=DEB,BD!D2973<=FIN),MAX(calc!$H$1:H2972)+1,0)","v":0}]
[null,null,null,null,null,{"$f":"IF(COUNTIF(BD!$B$2:B2974,BD!B2974)=1,MAX($F$1:F2973)+1,\"\")","v":""},null,{"$f":"IF(AND(BD!B2974=REF,BD!D2974>=DEB,BD!D2974<=FIN),MAX(calc!$H$1:H2973)+1,0)","v":0}]
[null,null,null,null,null,{"$f":"IF(COUNTIF(BD!$B$2:B2975,BD!B2975)=1,MAX($F$1:F2974)+1,\"\")","v":""},null,{"$f":"IF(AND(BD!B2975=REF,BD!D2975>=DEB,BD!D2975<=FIN),MAX(calc!$H$1:H2974)+1,0)","v":0}]
[null,null,null,null,null,{"$f":"IF(COUNTIF(BD!$B$2:B2976,BD!B2976)=1,MAX($F$1:F2975)+1,\"\")","v":""},null,{"$f":"IF(AND(BD!B2976=REF,BD!D2976>=DEB,BD!D2976<=FIN),MAX(calc!$H$1:H2975)+1,0)","v":0}]
[null,null,null,null,null,{"$f":"IF(COUNTIF(BD!$B$2:B2977,BD!B2977)=1,MAX($F$1:F2976)+1,\"\")","v":""},null,{"$f":"IF(AND(BD!B2977=REF,BD!D2977>=DEB,BD!D2977<=FIN),MAX(calc!$H$1:H2976)+1,0)","v":0}]
[null,null,null,null,null,{"$f":"IF(COUNTIF(BD!$B$2:B2978,BD!B2978)=1,MAX($F$1:F2977)+1,\"\")","v":""},null,{"$f":"IF(AND(BD!B2978=REF,BD!D2978>=DEB,BD!D2978<=FIN),MAX(calc!$H$1:H2977)+1,0)","v":0}]
[null,null,null,null,null,{"$f":"IF(COUNTIF(BD!$B$2:B2979,BD!B2979)=1,MAX($F$1:F2978)+1,\"\")","v":""},null,{"$f":"IF(AND(BD!B2979=REF,BD!D2979>=DEB,BD!D2979<=FIN),MAX(calc!$H$1:H2978)+1,0)","v":0}]
[null,null,null,null,null,{"$f":"IF(COUNTIF(BD!$B$2:B2980,BD!B2980)=1,MAX($F$1:F2979)+1,\"\")","v":""},null,{"$f":"IF(AND(BD!B2980=REF,BD!D2980>=DEB,BD!D2980<=FIN),MAX(calc!$H$1:H2979)+1,0)","v":0}]
[null,null,null,null,null,{"$f":"IF(COUNTIF(BD!$B$2:B2981,BD!B2981)=1,MAX($F$1:F2980)+1,\"\")","v":""},null,{"$f":"IF(AND(BD!B2981=REF,BD!D2981>=DEB,BD!D2981<=FIN),MAX(calc!$H$1:H2980)+1,0)","v":0}]
[null,null,null,null,null,{"$f":"IF(COUNTIF(BD!$B$2:B2982,BD!B2982)=1,MAX($F$1:F2981)+1,\"\")","v":""},null,{"$f":"IF(AND(BD!B2982=REF,BD!D2982>=DEB,BD!D2982<=FIN),MAX(calc!$H$1:H2981)+1,0)","v":0}]
[null,null,null,null,null,{"$f":"IF(COUNTIF(BD!$B$2:B2983,BD!B2983)=1,MAX($F$1:F2982)+1,\"\")","v":""},null,{"$f":"IF(AND(BD!B2983=REF,BD!D2983>=DEB,BD!D2983<=FIN),MAX(calc!$H$1:H2982)+1,0)","v":0}]
[null,null,null,null,null,{"$f":"IF(COUNTIF(BD!$B$2:B2984,BD!B2984)=1,MAX($F$1:F2983)+1,\"\")","v":""},null,{"$f":"IF(AND(BD!B2984=REF,BD!D2984>=DEB,BD!D2984<=FIN),MAX(calc!$H$1:H2983)+1,0)","v":0}]
[null,null,null,null,null,{"$f":"IF(COUNTIF(BD!$B$2:B2985,BD!B2985)=1,MAX($F$1:F2984)+1,\"\")","v":""},null,{"$f":"IF(AND(BD!B2985=REF,BD!D2985>=DEB,BD!D2985<=FIN),MAX(calc!$H$1:H2984)+1,0)","v":0}]
[null,null,null,null,null,{"$f":"IF(COUNTIF(BD!$B$2:B2986,BD!B2986)=1,MAX($F$1:F2985)+1,\"\")","v":""},null,{"$f":"IF(AND(BD!B2986=REF,BD!D2986>=DEB,BD!D2986<=FIN),MAX(calc!$H$1:H2985)+1,0)","v":0}]
[null,null,null,null,null,{"$f":"IF(COUNTIF(BD!$B$2:B2987,BD!B2987)=1,MAX($F$1:F2986)+1,\"\")","v":""},null,{"$f":"IF(AND(BD!B2987=REF,BD!D2987>=DEB,BD!D2987<=FIN),MAX(calc!$H$1:H2986)+1,0)","v":0}]
[null,null,null,null,null,{"$f":"IF(COUNTIF(BD!$B$2:B2988,BD!B2988)=1,MAX($F$1:F2987)+1,\"\")","v":""},null,{"$f":"IF(AND(BD!B2988=REF,BD!D2988>=DEB,BD!D2988<=FIN),MAX(calc!$H$1:H2987)+1,0)","v":0}]
[null,null,null,null,null,{"$f":"IF(COUNTIF(BD!$B$2:B2989,BD!B2989)=1,MAX($F$1:F2988)+1,\"\")","v":""},null,{"$f":"IF(AND(BD!B2989=REF,BD!D2989>=DEB,BD!D2989<=FIN),MAX(calc!$H$1:H2988)+1,0)","v":0}]
[null,null,null,null,null,{"$f":"IF(COUNTIF(BD!$B$2:B2990,BD!B2990)=1,MAX($F$1:F2989)+1,\"\")","v":""},null,{"$f":"IF(AND(BD!B2990=REF,BD!D2990>=DEB,BD!D2990<=FIN),MAX(calc!$H$1:H2989)+1,0)","v":0}]
[null,null,null,null,null,{"$f":"IF(COUNTIF(BD!$B$2:B2991,BD!B2991)=1,MAX($F$1:F2990)+1,\"\")","v":""},null,{"$f":"IF(AND(BD!B2991=REF,BD!D2991>=DEB,BD!D2991<=FIN),MAX(calc!$H$1:H2990)+1,0)","v":0}]
[null,null,null,null,null,{"$f":"IF(COUNTIF(BD!$B$2:B2992,BD!B2992)=1,MAX($F$1:F2991)+1,\"\")","v":""},null,{"$f":"IF(AND(BD!B2992=REF,BD!D2992>=DEB,BD!D2992<=FIN),MAX(calc!$H$1:H2991)+1,0)","v":0}]
[null,null,null,null,null,{"$f":"IF(COUNTIF(BD!$B$2:B2993,BD!B2993)=1,MAX($F$1:F2992)+1,\"\")","v":""},null,{"$f":"IF(AND(BD!B2993=REF,BD!D2993>=DEB,BD!D2993<=FIN),MAX(calc!$H$1:H2992)+1,0)","v":0}]
[null,null,null,null,null,{"$f":"IF(COUNTIF(BD!$B$2:B2994,BD!B2994)=1,MAX($F$1:F2993)+1,\"\")","v":""},null,{"$f":"IF(AND(BD!B2994=REF,BD!D2994>=DEB,BD!D2994<=FIN),MAX(calc!$H$1:H2993)+1,0)","v":0}]
[null,null,null,null,null,{"$f":"IF(COUNTIF(BD!$B$2:B2995,BD!B2995)=1,MAX($F$1:F2994)+1,\"\")","v":""},null,{"$f":"IF(AND(BD!B2995=REF,BD!D2995>=DEB,BD!D2995<=FIN),MAX(calc!$H$1:H2994)+1,0)","v":0}]
[null,null,null,null,null,{"$f":"IF(COUNTIF(BD!$B$2:B2996,BD!B2996)=1,MAX($F$1:F2995)+1,\"\")","v":""},null,{"$f":"IF(AND(BD!B2996=REF,BD!D2996>=DEB,BD!D2996<=FIN),MAX(calc!$H$1:H2995)+1,0)","v":0}]
[null,null,null,null,null,{"$f":"IF(COUNTIF(BD!$B$2:B2997,BD!B2997)=1,MAX($F$1:F2996)+1,\"\")","v":""},null,{"$f":"IF(AND(BD!B2997=REF,BD!D2997>=DEB,BD!D2997<=FIN),MAX(calc!$H$1:H2996)+1,0)","v":0}]
[null,null,null,null,null,{"$f":"IF(COUNTIF(BD!$B$2:B2998,BD!B2998)=1,MAX($F$1:F2997)+1,\"\")","v":""},null,{"$f":"IF(AND(BD!B2998=REF,BD!D2998>=DEB,BD!D2998<=FIN),MAX(calc!$H$1:H2997)+1,0)","v":0}]
[null,null,null,null,null,{"$f":"IF(COUNTIF(BD!$B$2:B2999,BD!B2999)=1,MAX($F$1:F2998)+1,\"\")","v":""},null,{"$f":"IF(AND(BD!B2999=REF,BD!D2999>=DEB,BD!D2999<=FIN),MAX(calc!$H$1:H2998)+1,0)","v":0}]
[null,null,null,null,null,{"$f":"IF(COUNTIF(BD!$B$2:B3000,BD!B3000)=1,MAX($F$1:F2999)+1,\"\")","v":""},null,{"$f":"IF(AND(BD!B3000=REF,BD!D3000>=DEB,BD!D3000<=FIN),MAX(calc!$H$1:H2999)+1,0)","v":0}]
[null,null,null,null,null,{"$f":"IF(COUNTIF(BD!$B$2:B3001,BD!B3001)=1,MAX($F$1:F3000)+1,\"\")","v":""},null,{"$f":"IF(AND(BD!B3001=REF,BD!D3001>=DEB,BD!D3001<=FIN),MAX(calc!$H$1:H3000)+1,0)","v":0}]
[null,null,null,null,null,{"$f":"IF(COUNTIF(BD!$B$2:B3002,BD!B3002)=1,MAX($F$1:F3001)+1,\"\")","v":""},null,{"$f":"IF(AND(BD!B3002=REF,BD!D3002>=DEB,BD!D3002<=FIN),MAX(calc!$H$1:H3001)+1,0)","v":0}]
[null,null,null,null,null,{"$f":"IF(COUNTIF(BD!$B$2:B3003,BD!B3003)=1,MAX($F$1:F3002)+1,\"\")","v":""},null,{"$f":"IF(AND(BD!B3003=REF,BD!D3003>=DEB,BD!D3003<=FIN),MAX(calc!$H$1:H3002)+1,0)","v":0}]
[null,null,null,null,null,{"$f":"IF(COUNTIF(BD!$B$2:B3004,BD!B3004)=1,MAX($F$1:F3003)+1,\"\")","v":""},null,{"$f":"IF(AND(BD!B3004=REF,BD!D3004>=DEB,BD!D3004<=FIN),MAX(calc!$H$1:H3003)+1,0)","v":0}]
[null,null,null,null,null,{"$f":"IF(COUNTIF(BD!$B$2:B3005,BD!B3005)=1,MAX($F$1:F3004)+1,\"\")","v":""},null,{"$f":"IF(AND(BD!B3005=REF,BD!D3005>=DEB,BD!D3005<=FIN),MAX(calc!$H$1:H3004)+1,0)","v":0}]
[null,null,null,null,null,{"$f":"IF(COUNTIF(BD!$B$2:B3006,BD!B3006)=1,MAX($F$1:F3005)+1,\"\")","v":""},null,{"$f":"IF(AND(BD!B3006=REF,BD!D3006>=DEB,BD!D3006<=FIN),MAX(calc!$H$1:H3005)+1,0)","v":0}]
[null,null,null,null,null,{"$f":"IF(COUNTIF(BD!$B$2:B3007,BD!B3007)=1,MAX($F$1:F3006)+1,\"\")","v":""},null,{"$f":"IF(AND(BD!B3007=REF,BD!D3007>=DEB,BD!D3007<=FIN),MAX(calc!$H$1:H3006)+1,0)","v":0}]
[null,null,null,null,null,{"$f":"IF(COUNTIF(BD!$B$2:B3008,BD!B3008)=1,MAX($F$1:F3007)+1,\"\")","v":""},null,{"$f":"IF(AND(BD!B3008=REF,BD!D3008>=DEB,BD!D3008<=FIN),MAX(calc!$H$1:H3007)+1,0)","v":0}]
[null,null,null,null,null,{"$f":"IF(COUNTIF(BD!$B$2:B3009,BD!B3009)=1,MAX($F$1:F3008)+1,\"\")","v":""},null,{"$f":"IF(AND(BD!B3009=REF,BD!D3009>=DEB,BD!D3009<=FIN),MAX(calc!$H$1:H3008)+1,0)","v":0}]
[null,null,null,null,null,{"$f":"IF(COUNTIF(BD!$B$2:B3010,BD!B3010)=1,MAX($F$1:F3009)+1,\"\")","v":""},null,{"$f":"IF(AND(BD!B3010=REF,BD!D3010>=DEB,BD!D3010<=FIN),MAX(calc!$H$1:H3009)+1,0)","v":0}]
[null,null,null,null,null,{"$f":"IF(COUNTIF(BD!$B$2:B3011,BD!B3011)=1,MAX($F$1:F3010)+1,\"\")","v":""},null,{"$f":"IF(AND(BD!B3011=REF,BD!D3011>=DEB,BD!D3011<=FIN),MAX(calc!$H$1:H3010)+1,0)","v":0}]
[null,null,null,null,null,{"$f":"IF(COUNTIF(BD!$B$2:B3012,BD!B3012)=1,MAX($F$1:F3011)+1,\"\")","v":""},null,{"$f":"IF(AND(BD!B3012=REF,BD!D3012>=DEB,BD!D3012<=FIN),MAX(calc!$H$1:H3011)+1,0)","v":0}]
[null,null,null,null,null,{"$f":"IF(COUNTIF(BD!$B$2:B3013,BD!B3013)=1,MAX($F$1:F3012)+1,\"\")","v":""},null,{"$f":"IF(AND(BD!B3013=REF,BD!D3013>=DEB,BD!D3013<=FIN),MAX(calc!$H$1:H3012)+1,0)","v":0}]
[null,null,null,null,null,{"$f":"IF(COUNTIF(BD!$B$2:B3014,BD!B3014)=1,MAX($F$1:F3013)+1,\"\")","v":""},null,{"$f":"IF(AND(BD!B3014=REF,BD!D3014>=DEB,BD!D3014<=FIN),MAX(calc!$H$1:H3013)+1,0)","v":0}]
[null,null,null,null,null,{"$f":"IF(COUNTIF(BD!$B$2:B3015,BD!B3015)=1,MAX($F$1:F3014)+1,\"\")","v":""},null,{"$f":"IF(AND(BD!B3015=REF,BD!D3015>=DEB,BD!D3015<=FIN),MAX(calc!$H$1:H3014)+1,0)","v":0}]
[null,null,null,null,null,{"$f":"IF(COUNTIF(BD!$B$2:B3016,BD!B3016)=1,MAX($F$1:F3015)+1,\"\")","v":""},null,{"$f":"IF(AND(BD!B3016=REF,BD!D3016>=DEB,BD!D3016<=FIN),MAX(calc!$H$1:H3015)+1,0)","v":0}]
[null,null,null,null,null,{"$f":"IF(COUNTIF(BD!$B$2:B3017,BD!B3017)=1,MAX($F$1:F3016)+1,\"\")","v":""},null,{"$f":"IF(AND(BD!B3017=REF,BD!D3017>=DEB,BD!D3017<=FIN),MAX(calc!$H$1:H3016)+1,0)","v":0}]
[null,null,null,null,null,{"$f":"IF(COUNTIF(BD!$B$2:B3018,BD!B3018)=1,MAX($F$1:F3017)+1,\"\")","v":""},null,{"$f":"IF(AND(BD!B3018=REF,BD!D3018>=DEB,BD!D3018<=FIN),MAX(calc!$H$1:H3017)+1,0)","v":0}]
[null,null,null,null,null,{"$f":"IF(COUNTIF(BD!$B$2:B3019,BD!B3019)=1,MAX($F$1:F3018)+1,\"\")","v":""},null,{"$f":"IF(AND(BD!B3019=REF,BD!D3019>=DEB,BD!D3019<=FIN),MAX(calc!$H$1:H3018)+1,0)","v":0}]
[null,null,null,null,null,{"$f":"IF(COUNTIF(BD!$B$2:B3020,BD!B3020)=1,MAX($F$1:F3019)+1,\"\")","v":""},null,{"$f":"IF(AND(BD!B3020=REF,BD!D3020>=DEB,BD!D3020<=FIN),MAX(calc!$H$1:H3019)+1,0)","v":0}]
[null,null,null,null,null,{"$f":"IF(COUNTIF(BD!$B$2:B3021,BD!B3021)=1,MAX($F$1:F3020)+1,\"\")","v":""},null,{"$f":"IF(AND(BD!B3021=REF,BD!D3021>=DEB,BD!D3021<=FIN),MAX(calc!$H$1:H3020)+1,0)","v":0}]
[null,null,null,null,null,{"$f":"IF(COUNTIF(BD!$B$2:B3022,BD!B3022)=1,MAX($F$1:F3021)+1,\"\")","v":""},null,{"$f":"IF(AND(BD!B3022=REF,BD!D3022>=DEB,BD!D3022<=FIN),MAX(calc!$H$1:H3021)+1,0)","v":0}]
[null,null,null,null,null,{"$f":"IF(COUNTIF(BD!$B$2:B3023,BD!B3023)=1,MAX($F$1:F3022)+1,\"\")","v":""},null,{"$f":"IF(AND(BD!B3023=REF,BD!D3023>=DEB,BD!D3023<=FIN),MAX(calc!$H$1:H3022)+1,0)","v":0}]
[null,null,null,null,null,{"$f":"IF(COUNTIF(BD!$B$2:B3024,BD!B3024)=1,MAX($F$1:F3023)+1,\"\")","v":""},null,{"$f":"IF(AND(BD!B3024=REF,BD!D3024>=DEB,BD!D3024<=FIN),MAX(calc!$H$1:H3023)+1,0)","v":0}]
[null,null,null,null,null,{"$f":"IF(COUNTIF(BD!$B$2:B3025,BD!B3025)=1,MAX($F$1:F3024)+1,\"\")","v":""},null,{"$f":"IF(AND(BD!B3025=REF,BD!D3025>=DEB,BD!D3025<=FIN),MAX(calc!$H$1:H3024)+1,0)","v":0}]
[null,null,null,null,null,{"$f":"IF(COUNTIF(BD!$B$2:B3026,BD!B3026)=1,MAX($F$1:F3025)+1,\"\")","v":""},null,{"$f":"IF(AND(BD!B3026=REF,BD!D3026>=DEB,BD!D3026<=FIN),MAX(calc!$H$1:H3025)+1,0)","v":0}]
[null,null,null,null,null,{"$f":"IF(COUNTIF(BD!$B$2:B3027,BD!B3027)=1,MAX($F$1:F3026)+1,\"\")","v":""},null,{"$f":"IF(AND(BD!B3027=REF,BD!D3027>=DEB,BD!D3027<=FIN),MAX(calc!$H$1:H3026)+1,0)","v":0}]
[null,null,null,null,null,{"$f":"IF(COUNTIF(BD!$B$2:B3028,BD!B3028)=1,MAX($F$1:F3027)+1,\"\")","v":""},null,{"$f":"IF(AND(BD!B3028=REF,BD!D3028>=DEB,BD!D3028<=FIN),MAX(calc!$H$1:H3027)+1,0)","v":0}]
[null,null,null,null,null,{"$f":"IF(COUNTIF(BD!$B$2:B3029,BD!B3029)=1,MAX($F$1:F3028)+1,\"\")","v":""},null,{"$f":"IF(AND(BD!B3029=REF,BD!D3029>=DEB,BD!D3029<=FIN),MAX(calc!$H$1:H3028)+1,0)","v":0}]
[null,null,null,null,null,{"$f":"IF(COUNTIF(BD!$B$2:B3030,BD!B3030)=1,MAX($F$1:F3029)+1,\"\")","v":""},null,{"$f":"IF(AND(BD!B3030=REF,BD!D3030>=DEB,BD!D3030<=FIN),MAX(calc!$H$1:H3029)+1,0)","v":0}]
[null,null,null,null,null,{"$f":"IF(COUNTIF(BD!$B$2:B3031,BD!B3031)=1,MAX($F$1:F3030)+1,\"\")","v":""},null,{"$f":"IF(AND(BD!B3031=REF,BD!D3031>=DEB,BD!D3031<=FIN),MAX(calc!$H$1:H3030)+1,0)","v":0}]
[null,null,null,null,null,{"$f":"IF(COUNTIF(BD!$B$2:B3032,BD!B3032)=1,MAX($F$1:F3031)+1,\"\")","v":""},null,{"$f":"IF(AND(BD!B3032=REF,BD!D3032>=DEB,BD!D3032<=FIN),MAX(calc!$H$1:H3031)+1,0)","v":0}]
[null,null,null,null,null,{"$f":"IF(COUNTIF(BD!$B$2:B3033,BD!B3033)=1,MAX($F$1:F3032)+1,\"\")","v":""},null,{"$f":"IF(AND(BD!B3033=REF,BD!D3033>=DEB,BD!D3033<=FIN),MAX(calc!$H$1:H3032)+1,0)","v":0}]
[null,null,null,null,null,{"$f":"IF(COUNTIF(BD!$B$2:B3034,BD!B3034)=1,MAX($F$1:F3033)+1,\"\")","v":""},null,{"$f":"IF(AND(BD!B3034=REF,BD!D3034>=DEB,BD!D3034<=FIN),MAX(calc!$H$1:H3033)+1,0)","v":0}]
[null,null,null,null,null,{"$f":"IF(COUNTIF(BD!$B$2:B3035,BD!B3035)=1,MAX($F$1:F3034)+1,\"\")","v":""},null,{"$f":"IF(AND(BD!B3035=REF,BD!D3035>=DEB,BD!D3035<=FIN),MAX(calc!$H$1:H3034)+1,0)","v":0}]
[null,null,null,null,null,{"$f":"IF(COUNTIF(BD!$B$2:B3036,BD!B3036)=1,MAX($F$1:F3035)+1,\"\")","v":""},null,{"$f":"IF(AND(BD!B3036=REF,BD!D3036>=DEB,BD!D3036<=FIN),MAX(calc!$H$1:H3035)+1,0)","v":0}]
[null,null,null,null,null,{"$f":"IF(COUNTIF(BD!$B$2:B3037,BD!B3037)=1,MAX($F$1:F3036)+1,\"\")","v":""},null,{"$f":"IF(AND(BD!B3037=REF,BD!D3037>=DEB,BD!D3037<=FIN),MAX(calc!$H$1:H3036)+1,0)","v":0}]
[null,null,null,null,null,{"$f":"IF(COUNTIF(BD!$B$2:B3038,BD!B3038)=1,MAX($F$1:F3037)+1,\"\")","v":""},null,{"$f":"IF(AND(BD!B3038=REF,BD!D3038>=DEB,BD!D3038<=FIN),MAX(calc!$H$1:H3037)+1,0)","v":0}]
[null,null,null,null,null,{"$f":"IF(COUNTIF(BD!$B$2:B3039,BD!B3039)=1,MAX($F$1:F3038)+1,\"\")","v":""},null,{"$f":"IF(AND(BD!B3039=REF,BD!D3039>=DEB,BD!D3039<=FIN),MAX(calc!$H$1:H3038)+1,0)","v":0}]
[null,null,null,null,null,{"$f":"IF(COUNTIF(BD!$B$2:B3040,BD!B3040)=1,MAX($F$1:F3039)+1,\"\")","v":""},null,{"$f":"IF(AND(BD!B3040=REF,BD!D3040>=DEB,BD!D3040<=FIN),MAX(calc!$H$1:H3039)+1,0)","v":0}]
[null,null,null,null,null,{"$f":"IF(COUNTIF(BD!$B$2:B3041,BD!B3041)=1,MAX($F$1:F3040)+1,\"\")","v":""},null,{"$f":"IF(AND(BD!B3041=REF,BD!D3041>=DEB,BD!D3041<=FIN),MAX(calc!$H$1:H3040)+1,0)","v":0}]
[null,null,null,null,null,{"$f":"IF(COUNTIF(BD!$B$2:B3042,BD!B3042)=1,MAX($F$1:F3041)+1,\"\")","v":""},null,{"$f":"IF(AND(BD!B3042=REF,BD!D3042>=DEB,BD!D3042<=FIN),MAX(calc!$H$1:H3041)+1,0)","v":0}]
[null,null,null,null,null,{"$f":"IF(COUNTIF(BD!$B$2:B3043,BD!B3043)=1,MAX($F$1:F3042)+1,\"\")","v":""},null,{"$f":"IF(AND(BD!B3043=REF,BD!D3043>=DEB,BD!D3043<=FIN),MAX(calc!$H$1:H3042)+1,0)","v":0}]
[null,null,null,null,null,{"$f":"IF(COUNTIF(BD!$B$2:B3044,BD!B3044)=1,MAX($F$1:F3043)+1,\"\")","v":""},null,{"$f":"IF(AND(BD!B3044=REF,BD!D3044>=DEB,BD!D3044<=FIN),MAX(calc!$H$1:H3043)+1,0)","v":0}]
[null,null,null,null,null,{"$f":"IF(COUNTIF(BD!$B$2:B3045,BD!B3045)=1,MAX($F$1:F3044)+1,\"\")","v":""},null,{"$f":"IF(AND(BD!B3045=REF,BD!D3045>=DEB,BD!D3045<=FIN),MAX(calc!$H$1:H3044)+1,0)","v":0}]
[null,null,null,null,null,{"$f":"IF(COUNTIF(BD!$B$2:B3046,BD!B3046)=1,MAX($F$1:F3045)+1,\"\")","v":""},null,{"$f":"IF(AND(BD!B3046=REF,BD!D3046>=DEB,BD!D3046<=FIN),MAX(calc!$H$1:H3045)+1,0)","v":0}]
[null,null,null,null,null,{"$f":"IF(COUNTIF(BD!$B$2:B3047,BD!B3047)=1,MAX($F$1:F3046)+1,\"\")","v":""},null,{"$f":"IF(AND(BD!B3047=REF,BD!D3047>=DEB,BD!D3047<=FIN),MAX(calc!$H$1:H3046)+1,0)","v":0}]
[null,null,null,null,null,{"$f":"IF(COUNTIF(BD!$B$2:B3048,BD!B3048)=1,MAX($F$1:F3047)+1,\"\")","v":""},null,{"$f":"IF(AND(BD!B3048=REF,BD!D3048>=DEB,BD!D3048<=FIN),MAX(calc!$H$1:H3047)+1,0)","v":0}]
[null,null,null,null,null,{"$f":"IF(COUNTIF(BD!$B$2:B3049,BD!B3049)=1,MAX($F$1:F3048)+1,\"\")","v":""},null,{"$f":"IF(AND(BD!B3049=REF,BD!D3049>=DEB,BD!D3049<=FIN),MAX(calc!$H$1:H3048)+1,0)","v":0}]
[null,null,null,null,null,{"$f":"IF(COUNTIF(BD!$B$2:B3050,BD!B3050)=1,MAX($F$1:F3049)+1,\"\")","v":""},null,{"$f":"IF(AND(BD!B3050=REF,BD!D3050>=DEB,BD!D3050<=FIN),MAX(calc!$H$1:H3049)+1,0)","v":0}]
[null,null,null,null,null,{"$f":"IF(COUNTIF(BD!$B$2:B3051,BD!B3051)=1,MAX($F$1:F3050)+1,\"\")","v":""},null,{"$f":"IF(AND(BD!B3051=REF,BD!D3051>=DEB,BD!D3051<=FIN),MAX(calc!$H$1:H3050)+1,0)","v":0}]
[null,null,null,null,null,{"$f":"IF(COUNTIF(BD!$B$2:B3052,BD!B3052)=1,MAX($F$1:F3051)+1,\"\")","v":""},null,{"$f":"IF(AND(BD!B3052=REF,BD!D3052>=DEB,BD!D3052<=FIN),MAX(calc!$H$1:H3051)+1,0)","v":0}]
[null,null,null,null,null,{"$f":"IF(COUNTIF(BD!$B$2:B3053,BD!B3053)=1,MAX($F$1:F3052)+1,\"\")","v":""},null,{"$f":"IF(AND(BD!B3053=REF,BD!D3053>=DEB,BD!D3053<=FIN),MAX(calc!$H$1:H3052)+1,0)","v":0}]
[null,null,null,null,null,{"$f":"IF(COUNTIF(BD!$B$2:B3054,BD!B3054)=1,MAX($F$1:F3053)+1,\"\")","v":""},null,{"$f":"IF(AND(BD!B3054=REF,BD!D3054>=DEB,BD!D3054<=FIN),MAX(calc!$H$1:H3053)+1,0)","v":0}]
[null,null,null,null,null,{"$f":"IF(COUNTIF(BD!$B$2:B3055,BD!B3055)=1,MAX($F$1:F3054)+1,\"\")","v":""},null,{"$f":"IF(AND(BD!B3055=REF,BD!D3055>=DEB,BD!D3055<=FIN),MAX(calc!$H$1:H3054)+1,0)","v":0}]
[null,null,null,null,null,{"$f":"IF(COUNTIF(BD!$B$2:B3056,BD!B3056)=1,MAX($F$1:F3055)+1,\"\")","v":""},null,{"$f":"IF(AND(BD!B3056=REF,BD!D3056>=DEB,BD!D3056<=FIN),MAX(calc!$H$1:H3055)+1,0)","v":0}]
[null,null,null,null,null,{"$f":"IF(COUNTIF(BD!$B$2:B3057,BD!B3057)=1,MAX($F$1:F3056)+1,\"\")","v":""},null,{"$f":"IF(AND(BD!B3057=REF,BD!D3057>=DEB,BD!D3057<=FIN),MAX(calc!$H$1:H3056)+1,0)","v":0}]
[null,null,null,null,null,{"$f":"IF(COUNTIF(BD!$B$2:B3058,BD!B3058)=1,MAX($F$1:F3057)+1,\"\")","v":""},null,{"$f":"IF(AND(BD!B3058=REF,BD!D3058>=DEB,BD!D3058<=FIN),MAX(calc!$H$1:H3057)+1,0)","v":0}]
[null,null,null,null,null,{"$f":"IF(COUNTIF(BD!$B$2:B3059,BD!B3059)=1,MAX($F$1:F3058)+1,\"\")","v":""},null,{"$f":"IF(AND(BD!B3059=REF,BD!D3059>=DEB,BD!D3059<=FIN),MAX(calc!$H$1:H3058)+1,0)","v":0}]
[null,null,null,null,null,{"$f":"IF(COUNTIF(BD!$B$2:B3060,BD!B3060)=1,MAX($F$1:F3059)+1,\"\")","v":""},null,{"$f":"IF(AND(BD!B3060=REF,BD!D3060>=DEB,BD!D3060<=FIN),MAX(calc!$H$1:H3059)+1,0)","v":0}]
[null,null,null,null,null,{"$f":"IF(COUNTIF(BD!$B$2:B3061,BD!B3061)=1,MAX($F$1:F3060)+1,\"\")","v":""},null,{"$f":"IF(AND(BD!B3061=REF,BD!D3061>=DEB,BD!D3061<=FIN),MAX(calc!$H$1:H3060)+1,0)","v":0}]
[null,null,null,null,null,{"$f":"IF(COUNTIF(BD!$B$2:B3062,BD!B3062)=1,MAX($F$1:F3061)+1,\"\")","v":""},null,{"$f":"IF(AND(BD!B3062=REF,BD!D3062>=DEB,BD!D3062<=FIN),MAX(calc!$H$1:H3061)+1,0)","v":0}]
[null,null,null,null,null,{"$f":"IF(COUNTIF(BD!$B$2:B3063,BD!B3063)=1,MAX($F$1:F3062)+1,\"\")","v":""},null,{"$f":"IF(AND(BD!B3063=REF,BD!D3063>=DEB,BD!D3063<=FIN),MAX(calc!$H$1:H3062)+1,0)","v":0}]
[null,null,null,null,null,{"$f":"IF(COUNTIF(BD!$B$2:B3064,BD!B3064)=1,MAX($F$1:F3063)+1,\"\")","v":""},null,{"$f":"IF(AND(BD!B3064=REF,BD!D3064>=DEB,BD!D3064<=FIN),MAX(calc!$H$1:H3063)+1,0)","v":0}]
[null,null,null,null,null,{"$f":"IF(COUNTIF(BD!$B$2:B3065,BD!B3065)=1,MAX($F$1:F3064)+1,\"\")","v":""},null,{"$f":"IF(AND(BD!B3065=REF,BD!D3065>=DEB,BD!D3065<=FIN),MAX(calc!$H$1:H3064)+1,0)","v":0}]
[null,null,null,null,null,{"$f":"IF(COUNTIF(BD!$B$2:B3066,BD!B3066)=1,MAX($F$1:F3065)+1,\"\")","v":""},null,{"$f":"IF(AND(BD!B3066=REF,BD!D3066>=DEB,BD!D3066<=FIN),MAX(calc!$H$1:H3065)+1,0)","v":0}]
[null,null,null,null,null,{"$f":"IF(COUNTIF(BD!$B$2:B3067,BD!B3067)=1,MAX($F$1:F3066)+1,\"\")","v":""},null,{"$f":"IF(AND(BD!B3067=REF,BD!D3067>=DEB,BD!D3067<=FIN),MAX(calc!$H$1:H3066)+1,0)","v":0}]
[null,null,null,null,null,{"$f":"IF(COUNTIF(BD!$B$2:B3068,BD!B3068)=1,MAX($F$1:F3067)+1,\"\")","v":""},null,{"$f":"IF(AND(BD!B3068=REF,BD!D3068>=DEB,BD!D3068<=FIN),MAX(calc!$H$1:H3067)+1,0)","v":0}]
[null,null,null,null,null,{"$f":"IF(COUNTIF(BD!$B$2:B3069,BD!B3069)=1,MAX($F$1:F3068)+1,\"\")","v":""},null,{"$f":"IF(AND(BD!B3069=REF,BD!D3069>=DEB,BD!D3069<=FIN),MAX(calc!$H$1:H3068)+1,0)","v":0}]
[null,null,null,null,null,{"$f":"IF(COUNTIF(BD!$B$2:B3070,BD!B3070)=1,MAX($F$1:F3069)+1,\"\")","v":""},null,{"$f":"IF(AND(BD!B3070=REF,BD!D3070>=DEB,BD!D3070<=FIN),MAX(calc!$H$1:H3069)+1,0)","v":0}]
[null,null,null,null,null,{"$f":"IF(COUNTIF(BD!$B$2:B3071,BD!B3071)=1,MAX($F$1:F3070)+1,\"\")","v":""},null,{"$f":"IF(AND(BD!B3071=REF,BD!D3071>=DEB,BD!D3071<=FIN),MAX(calc!$H$1:H3070)+1,0)","v":0}]
[null,null,null,null,null,{"$f":"IF(COUNTIF(BD!$B$2:B3072,BD!B3072)=1,MAX($F$1:F3071)+1,\"\")","v":""},null,{"$f":"IF(AND(BD!B3072=REF,BD!D3072>=DEB,BD!D3072<=FIN),MAX(calc!$H$1:H3071)+1,0)","v":0}]
[null,null,null,null,null,{"$f":"IF(COUNTIF(BD!$B$2:B3073,BD!B3073)=1,MAX($F$1:F3072)+1,\"\")","v":""},null,{"$f":"IF(AND(BD!B3073=REF,BD!D3073>=DEB,BD!D3073<=FIN),MAX(calc!$H$1:H3072)+1,0)","v":0}]
[null,null,null,null,null,{"$f":"IF(COUNTIF(BD!$B$2:B3074,BD!B3074)=1,MAX($F$1:F3073)+1,\"\")","v":""},null,{"$f":"IF(AND(BD!B3074=REF,BD!D3074>=DEB,BD!D3074<=FIN),MAX(calc!$H$1:H3073)+1,0)","v":0}]
[null,null,null,null,null,{"$f":"IF(COUNTIF(BD!$B$2:B3075,BD!B3075)=1,MAX($F$1:F3074)+1,\"\")","v":""},null,{"$f":"IF(AND(BD!B3075=REF,BD!D3075>=DEB,BD!D3075<=FIN),MAX(calc!$H$1:H3074)+1,0)","v":0}]
[null,null,null,null,null,{"$f":"IF(COUNTIF(BD!$B$2:B3076,BD!B3076)=1,MAX($F$1:F3075)+1,\"\")","v":""},null,{"$f":"IF(AND(BD!B3076=REF,BD!D3076>=DEB,BD!D3076<=FIN),MAX(calc!$H$1:H3075)+1,0)","v":0}]
[null,null,null,null,null,{"$f":"IF(COUNTIF(BD!$B$2:B3077,BD!B3077)=1,MAX($F$1:F3076)+1,\"\")","v":""},null,{"$f":"IF(AND(BD!B3077=REF,BD!D3077>=DEB,BD!D3077<=FIN),MAX(calc!$H$1:H3076)+1,0)","v":0}]
[null,null,null,null,null,{"$f":"IF(COUNTIF(BD!$B$2:B3078,BD!B3078)=1,MAX($F$1:F3077)+1,\"\")","v":""},null,{"$f":"IF(AND(BD!B3078=REF,BD!D3078>=DEB,BD!D3078<=FIN),MAX(calc!$H$1:H3077)+1,0)","v":0}]
[null,null,null,null,null,{"$f":"IF(COUNTIF(BD!$B$2:B3079,BD!B3079)=1,MAX($F$1:F3078)+1,\"\")","v":""},null,{"$f":"IF(AND(BD!B3079=REF,BD!D3079>=DEB,BD!D3079<=FIN),MAX(calc!$H$1:H3078)+1,0)","v":0}]
[null,null,null,null,null,{"$f":"IF(COUNTIF(BD!$B$2:B3080,BD!B3080)=1,MAX($F$1:F3079)+1,\"\")","v":""},null,{"$f":"IF(AND(BD!B3080=REF,BD!D3080>=DEB,BD!D3080<=FIN),MAX(calc!$H$1:H3079)+1,0)","v":0}]
[null,null,null,null,null,{"$f":"IF(COUNTIF(BD!$B$2:B3081,BD!B3081)=1,MAX($F$1:F3080)+1,\"\")","v":""},null,{"$f":"IF(AND(BD!B3081=REF,BD!D3081>=DEB,BD!D3081<=FIN),MAX(calc!$H$1:H3080)+1,0)","v":0}]
[null,null,null,null,null,{"$f":"IF(COUNTIF(BD!$B$2:B3082,BD!B3082)=1,MAX($F$1:F3081)+1,\"\")","v":""},null,{"$f":"IF(AND(BD!B3082=REF,BD!D3082>=DEB,BD!D3082<=FIN),MAX(calc!$H$1:H3081)+1,0)","v":0}]
[null,null,null,null,null,{"$f":"IF(COUNTIF(BD!$B$2:B3083,BD!B3083)=1,MAX($F$1:F3082)+1,\"\")","v":""},null,{"$f":"IF(AND(BD!B3083=REF,BD!D3083>=DEB,BD!D3083<=FIN),MAX(calc!$H$1:H3082)+1,0)","v":0}]
[null,null,null,null,null,{"$f":"IF(COUNTIF(BD!$B$2:B3084,BD!B3084)=1,MAX($F$1:F3083)+1,\"\")","v":""},null,{"$f":"IF(AND(BD!B3084=REF,BD!D3084>=DEB,BD!D3084<=FIN),MAX(calc!$H$1:H3083)+1,0)","v":0}]
[null,null,null,null,null,{"$f":"IF(COUNTIF(BD!$B$2:B3085,BD!B3085)=1,MAX($F$1:F3084)+1,\"\")","v":""},null,{"$f":"IF(AND(BD!B3085=REF,BD!D3085>=DEB,BD!D3085<=FIN),MAX(calc!$H$1:H3084)+1,0)","v":0}]
[null,null,null,null,null,{"$f":"IF(COUNTIF(BD!$B$2:B3086,BD!B3086)=1,MAX($F$1:F3085)+1,\"\")","v":""},null,{"$f":"IF(AND(BD!B3086=REF,BD!D3086>=DEB,BD!D3086<=FIN),MAX(calc!$H$1:H3085)+1,0)","v":0}]
[null,null,null,null,null,{"$f":"IF(COUNTIF(BD!$B$2:B3087,BD!B3087)=1,MAX($F$1:F3086)+1,\"\")","v":""},null,{"$f":"IF(AND(BD!B3087=REF,BD!D3087>=DEB,BD!D3087<=FIN),MAX(calc!$H$1:H3086)+1,0)","v":0}]
[null,null,null,null,null,{"$f":"IF(COUNTIF(BD!$B$2:B3088,BD!B3088)=1,MAX($F$1:F3087)+1,\"\")","v":""},null,{"$f":"IF(AND(BD!B3088=REF,BD!D3088>=DEB,BD!D3088<=FIN),MAX(calc!$H$1:H3087)+1,0)","v":0}]
[null,null,null,null,null,{"$f":"IF(COUNTIF(BD!$B$2:B3089,BD!B3089)=1,MAX($F$1:F3088)+1,\"\")","v":""},null,{"$f":"IF(AND(BD!B3089=REF,BD!D3089>=DEB,BD!D3089<=FIN),MAX(calc!$H$1:H3088)+1,0)","v":0}]
[null,null,null,null,null,{"$f":"IF(COUNTIF(BD!$B$2:B3090,BD!B3090)=1,MAX($F$1:F3089)+1,\"\")","v":""},null,{"$f":"IF(AND(BD!B3090=REF,BD!D3090>=DEB,BD!D3090<=FIN),MAX(calc!$H$1:H3089)+1,0)","v":0}]
[null,null,null,null,null,{"$f":"IF(COUNTIF(BD!$B$2:B3091,BD!B3091)=1,MAX($F$1:F3090)+1,\"\")","v":""},null,{"$f":"IF(AND(BD!B3091=REF,BD!D3091>=DEB,BD!D3091<=FIN),MAX(calc!$H$1:H3090)+1,0)","v":0}]
[null,null,null,null,null,{"$f":"IF(COUNTIF(BD!$B$2:B3092,BD!B3092)=1,MAX($F$1:F3091)+1,\"\")","v":""},null,{"$f":"IF(AND(BD!B3092=REF,BD!D3092>=DEB,BD!D3092<=FIN),MAX(calc!$H$1:H3091)+1,0)","v":0}]
[null,null,null,null,null,{"$f":"IF(COUNTIF(BD!$B$2:B3093,BD!B3093)=1,MAX($F$1:F3092)+1,\"\")","v":""},null,{"$f":"IF(AND(BD!B3093=REF,BD!D3093>=DEB,BD!D3093<=FIN),MAX(calc!$H$1:H3092)+1,0)","v":0}]
[null,null,null,null,null,{"$f":"IF(COUNTIF(BD!$B$2:B3094,BD!B3094)=1,MAX($F$1:F3093)+1,\"\")","v":""},null,{"$f":"IF(AND(BD!B3094=REF,BD!D3094>=DEB,BD!D3094<=FIN),MAX(calc!$H$1:H3093)+1,0)","v":0}]
[null,null,null,null,null,{"$f":"IF(COUNTIF(BD!$B$2:B3095,BD!B3095)=1,MAX($F$1:F3094)+1,\"\")","v":""},null,{"$f":"IF(AND(BD!B3095=REF,BD!D3095>=DEB,BD!D3095<=FIN),MAX(calc!$H$1:H3094)+1,0)","v":0}]
[null,null,null,null,null,{"$f":"IF(COUNTIF(BD!$B$2:B3096,BD!B3096)=1,MAX($F$1:F3095)+1,\"\")","v":""},null,{"$f":"IF(AND(BD!B3096=REF,BD!D3096>=DEB,BD!D3096<=FIN),MAX(calc!$H$1:H3095)+1,0)","v":0}]
[null,null,null,null,null,{"$f":"IF(COUNTIF(BD!$B$2:B3097,BD!B3097)=1,MAX($F$1:F3096)+1,\"\")","v":""},null,{"$f":"IF(AND(BD!B3097=REF,BD!D3097>=DEB,BD!D3097<=FIN),MAX(calc!$H$1:H3096)+1,0)","v":0}]
[null,null,null,null,null,{"$f":"IF(COUNTIF(BD!$B$2:B3098,BD!B3098)=1,MAX($F$1:F3097)+1,\"\")","v":""},null,{"$f":"IF(AND(BD!B3098=REF,BD!D3098>=DEB,BD!D3098<=FIN),MAX(calc!$H$1:H3097)+1,0)","v":0}]
[null,null,null,null,null,{"$f":"IF(COUNTIF(BD!$B$2:B3099,BD!B3099)=1,MAX($F$1:F3098)+1,\"\")","v":""},null,{"$f":"IF(AND(BD!B3099=REF,BD!D3099>=DEB,BD!D3099<=FIN),MAX(calc!$H$1:H3098)+1,0)","v":0}]
[null,null,null,null,null,{"$f":"IF(COUNTIF(BD!$B$2:B3100,BD!B3100)=1,MAX($F$1:F3099)+1,\"\")","v":""},null,{"$f":"IF(AND(BD!B3100=REF,BD!D3100>=DEB,BD!D3100<=FIN),MAX(calc!$H$1:H3099)+1,0)","v":0}]
[null,null,null,null,null,{"$f":"IF(COUNTIF(BD!$B$2:B3101,BD!B3101)=1,MAX($F$1:F3100)+1,\"\")","v":""},null,{"$f":"IF(AND(BD!B3101=REF,BD!D3101>=DEB,BD!D3101<=FIN),MAX(calc!$H$1:H3100)+1,0)","v":0}]
[null,null,null,null,null,{"$f":"IF(COUNTIF(BD!$B$2:B3102,BD!B3102)=1,MAX($F$1:F3101)+1,\"\")","v":""},null,{"$f":"IF(AND(BD!B3102=REF,BD!D3102>=DEB,BD!D3102<=FIN),MAX(calc!$H$1:H3101)+1,0)","v":0}]
[null,null,null,null,null,{"$f":"IF(COUNTIF(BD!$B$2:B3103,BD!B3103)=1,MAX($F$1:F3102)+1,\"\")","v":""},null,{"$f":"IF(AND(BD!B3103=REF,BD!D3103>=DEB,BD!D3103<=FIN),MAX(calc!$H$1:H3102)+1,0)","v":0}]
[null,null,null,null,null,{"$f":"IF(COUNTIF(BD!$B$2:B3104,BD!B3104)=1,MAX($F$1:F3103)+1,\"\")","v":""},null,{"$f":"IF(AND(BD!B3104=REF,BD!D3104>=DEB,BD!D3104<=FIN),MAX(calc!$H$1:H3103)+1,0)","v":0}]
[null,null,null,null,null,{"$f":"IF(COUNTIF(BD!$B$2:B3105,BD!B3105)=1,MAX($F$1:F3104)+1,\"\")","v":""},null,{"$f":"IF(AND(BD!B3105=REF,BD!D3105>=DEB,BD!D3105<=FIN),MAX(calc!$H$1:H3104)+1,0)","v":0}]
[null,null,null,null,null,{"$f":"IF(COUNTIF(BD!$B$2:B3106,BD!B3106)=1,MAX($F$1:F3105)+1,\"\")","v":""},null,{"$f":"IF(AND(BD!B3106=REF,BD!D3106>=DEB,BD!D3106<=FIN),MAX(calc!$H$1:H3105)+1,0)","v":0}]
[null,null,null,null,null,{"$f":"IF(COUNTIF(BD!$B$2:B3107,BD!B3107)=1,MAX($F$1:F3106)+1,\"\")","v":""},null,{"$f":"IF(AND(BD!B3107=REF,BD!D3107>=DEB,BD!D3107<=FIN),MAX(calc!$H$1:H3106)+1,0)","v":0}]
[null,null,null,null,null,{"$f":"IF(COUNTIF(BD!$B$2:B3108,BD!B3108)=1,MAX($F$1:F3107)+1,\"\")","v":""},null,{"$f":"IF(AND(BD!B3108=REF,BD!D3108>=DEB,BD!D3108<=FIN),MAX(calc!$H$1:H3107)+1,0)","v":0}]
[null,null,null,null,null,{"$f":"IF(COUNTIF(BD!$B$2:B3109,BD!B3109)=1,MAX($F$1:F3108)+1,\"\")","v":""},null,{"$f":"IF(AND(BD!B3109=REF,BD!D3109>=DEB,BD!D3109<=FIN),MAX(calc!$H$1:H3108)+1,0)","v":0}]
[null,null,null,null,null,{"$f":"IF(COUNTIF(BD!$B$2:B3110,BD!B3110)=1,MAX($F$1:F3109)+1,\"\")","v":""},null,{"$f":"IF(AND(BD!B3110=REF,BD!D3110>=DEB,BD!D3110<=FIN),MAX(calc!$H$1:H3109)+1,0)","v":0}]
[null,null,null,null,null,{"$f":"IF(COUNTIF(BD!$B$2:B3111,BD!B3111)=1,MAX($F$1:F3110)+1,\"\")","v":""},null,{"$f":"IF(AND(BD!B3111=REF,BD!D3111>=DEB,BD!D3111<=FIN),MAX(calc!$H$1:H3110)+1,0)","v":0}]
[null,null,null,null,null,{"$f":"IF(COUNTIF(BD!$B$2:B3112,BD!B3112)=1,MAX($F$1:F3111)+1,\"\")","v":""},null,{"$f":"IF(AND(BD!B3112=REF,BD!D3112>=DEB,BD!D3112<=FIN),MAX(calc!$H$1:H3111)+1,0)","v":0}]
[null,null,null,null,null,{"$f":"IF(COUNTIF(BD!$B$2:B3113,BD!B3113)=1,MAX($F$1:F3112)+1,\"\")","v":""},null,{"$f":"IF(AND(BD!B3113=REF,BD!D3113>=DEB,BD!D3113<=FIN),MAX(calc!$H$1:H3112)+1,0)","v":0}]
[null,null,null,null,null,{"$f":"IF(COUNTIF(BD!$B$2:B3114,BD!B3114)=1,MAX($F$1:F3113)+1,\"\")","v":""},null,{"$f":"IF(AND(BD!B3114=REF,BD!D3114>=DEB,BD!D3114<=FIN),MAX(calc!$H$1:H3113)+1,0)","v":0}]
[null,null,null,null,null,{"$f":"IF(COUNTIF(BD!$B$2:B3115,BD!B3115)=1,MAX($F$1:F3114)+1,\"\")","v":""},null,{"$f":"IF(AND(BD!B3115=REF,BD!D3115>=DEB,BD!D3115<=FIN),MAX(calc!$H$1:H3114)+1,0)","v":0}]
[null,null,null,null,null,{"$f":"IF(COUNTIF(BD!$B$2:B3116,BD!B3116)=1,MAX($F$1:F3115)+1,\"\")","v":""},null,{"$f":"IF(AND(BD!B3116=REF,BD!D3116>=DEB,BD!D3116<=FIN),MAX(calc!$H$1:H3115)+1,0)","v":0}]
[null,null,null,null,null,{"$f":"IF(COUNTIF(BD!$B$2:B3117,BD!B3117)=1,MAX($F$1:F3116)+1,\"\")","v":""},null,{"$f":"IF(AND(BD!B3117=REF,BD!D3117>=DEB,BD!D3117<=FIN),MAX(calc!$H$1:H3116)+1,0)","v":0}]
[null,null,null,null,null,{"$f":"IF(COUNTIF(BD!$B$2:B3118,BD!B3118)=1,MAX($F$1:F3117)+1,\"\")","v":""},null,{"$f":"IF(AND(BD!B3118=REF,BD!D3118>=DEB,BD!D3118<=FIN),MAX(calc!$H$1:H3117)+1,0)","v":0}]
[null,null,null,null,null,{"$f":"IF(COUNTIF(BD!$B$2:B3119,BD!B3119)=1,MAX($F$1:F3118)+1,\"\")","v":""},null,{"$f":"IF(AND(BD!B3119=REF,BD!D3119>=DEB,BD!D3119<=FIN),MAX(calc!$H$1:H3118)+1,0)","v":0}]
[null,null,null,null,null,{"$f":"IF(COUNTIF(BD!$B$2:B3120,BD!B3120)=1,MAX($F$1:F3119)+1,\"\")","v":""},null,{"$f":"IF(AND(BD!B3120=REF,BD!D3120>=DEB,BD!D3120<=FIN),MAX(calc!$H$1:H3119)+1,0)","v":0}]
[null,null,null,null,null,{"$f":"IF(COUNTIF(BD!$B$2:B3121,BD!B3121)=1,MAX($F$1:F3120)+1,\"\")","v":""},null,{"$f":"IF(AND(BD!B3121=REF,BD!D3121>=DEB,BD!D3121<=FIN),MAX(calc!$H$1:H3120)+1,0)","v":0}]
[null,null,null,null,null,{"$f":"IF(COUNTIF(BD!$B$2:B3122,BD!B3122)=1,MAX($F$1:F3121)+1,\"\")","v":""},null,{"$f":"IF(AND(BD!B3122=REF,BD!D3122>=DEB,BD!D3122<=FIN),MAX(calc!$H$1:H3121)+1,0)","v":0}]
[null,null,null,null,null,{"$f":"IF(COUNTIF(BD!$B$2:B3123,BD!B3123)=1,MAX($F$1:F3122)+1,\"\")","v":""},null,{"$f":"IF(AND(BD!B3123=REF,BD!D3123>=DEB,BD!D3123<=FIN),MAX(calc!$H$1:H3122)+1,0)","v":0}]
[null,null,null,null,null,{"$f":"IF(COUNTIF(BD!$B$2:B3124,BD!B3124)=1,MAX($F$1:F3123)+1,\"\")","v":""},null,{"$f":"IF(AND(BD!B3124=REF,BD!D3124>=DEB,BD!D3124<=FIN),MAX(calc!$H$1:H3123)+1,0)","v":0}]
[null,null,null,null,null,{"$f":"IF(COUNTIF(BD!$B$2:B3125,BD!B3125)=1,MAX($F$1:F3124)+1,\"\")","v":""},null,{"$f":"IF(AND(BD!B3125=REF,BD!D3125>=DEB,BD!D3125<=FIN),MAX(calc!$H$1:H3124)+1,0)","v":0}]
[null,null,null,null,null,{"$f":"IF(COUNTIF(BD!$B$2:B3126,BD!B3126)=1,MAX($F$1:F3125)+1,\"\")","v":""},null,{"$f":"IF(AND(BD!B3126=REF,BD!D3126>=DEB,BD!D3126<=FIN),MAX(calc!$H$1:H3125)+1,0)","v":0}]
[null,null,null,null,null,{"$f":"IF(COUNTIF(BD!$B$2:B3127,BD!B3127)=1,MAX($F$1:F3126)+1,\"\")","v":""},null,{"$f":"IF(AND(BD!B3127=REF,BD!D3127>=DEB,BD!D3127<=FIN),MAX(calc!$H$1:H3126)+1,0)","v":0}]
[null,null,null,null,null,{"$f":"IF(COUNTIF(BD!$B$2:B3128,BD!B3128)=1,MAX($F$1:F3127)+1,\"\")","v":""},null,{"$f":"IF(AND(BD!B3128=REF,BD!D3128>=DEB,BD!D3128<=FIN),MAX(calc!$H$1:H3127)+1,0)","v":0}]
[null,null,null,null,null,{"$f":"IF(COUNTIF(BD!$B$2:B3129,BD!B3129)=1,MAX($F$1:F3128)+1,\"\")","v":""},null,{"$f":"IF(AND(BD!B3129=REF,BD!D3129>=DEB,BD!D3129<=FIN),MAX(calc!$H$1:H3128)+1,0)","v":0}]
[null,null,null,null,null,{"$f":"IF(COUNTIF(BD!$B$2:B3130,BD!B3130)=1,MAX($F$1:F3129)+1,\"\")","v":""},null,{"$f":"IF(AND(BD!B3130=REF,BD!D3130>=DEB,BD!D3130<=FIN),MAX(calc!$H$1:H3129)+1,0)","v":0}]
[null,null,null,null,null,{"$f":"IF(COUNTIF(BD!$B$2:B3131,BD!B3131)=1,MAX($F$1:F3130)+1,\"\")","v":""},null,{"$f":"IF(AND(BD!B3131=REF,BD!D3131>=DEB,BD!D3131<=FIN),MAX(calc!$H$1:H3130)+1,0)","v":0}]
[null,null,null,null,null,{"$f":"IF(COUNTIF(BD!$B$2:B3132,BD!B3132)=1,MAX($F$1:F3131)+1,\"\")","v":""},null,{"$f":"IF(AND(BD!B3132=REF,BD!D3132>=DEB,BD!D3132<=FIN),MAX(calc!$H$1:H3131)+1,0)","v":0}]
[null,null,null,null,null,{"$f":"IF(COUNTIF(BD!$B$2:B3133,BD!B3133)=1,MAX($F$1:F3132)+1,\"\")","v":""},null,{"$f":"IF(AND(BD!B3133=REF,BD!D3133>=DEB,BD!D3133<=FIN),MAX(calc!$H$1:H3132)+1,0)","v":0}]
[null,null,null,null,null,{"$f":"IF(COUNTIF(BD!$B$2:B3134,BD!B3134)=1,MAX($F$1:F3133)+1,\"\")","v":""},null,{"$f":"IF(AND(BD!B3134=REF,BD!D3134>=DEB,BD!D3134<=FIN),MAX(calc!$H$1:H3133)+1,0)","v":0}]
[null,null,null,null,null,{"$f":"IF(COUNTIF(BD!$B$2:B3135,BD!B3135)=1,MAX($F$1:F3134)+1,\"\")","v":""},null,{"$f":"IF(AND(BD!B3135=REF,BD!D3135>=DEB,BD!D3135<=FIN),MAX(calc!$H$1:H3134)+1,0)","v":0}]
[null,null,null,null,null,{"$f":"IF(COUNTIF(BD!$B$2:B3136,BD!B3136)=1,MAX($F$1:F3135)+1,\"\")","v":""},null,{"$f":"IF(AND(BD!B3136=REF,BD!D3136>=DEB,BD!D3136<=FIN),MAX(calc!$H$1:H3135)+1,0)","v":0}]
[null,null,null,null,null,{"$f":"IF(COUNTIF(BD!$B$2:B3137,BD!B3137)=1,MAX($F$1:F3136)+1,\"\")","v":""},null,{"$f":"IF(AND(BD!B3137=REF,BD!D3137>=DEB,BD!D3137<=FIN),MAX(calc!$H$1:H3136)+1,0)","v":0}]
[null,null,null,null,null,{"$f":"IF(COUNTIF(BD!$B$2:B3138,BD!B3138)=1,MAX($F$1:F3137)+1,\"\")","v":""},null,{"$f":"IF(AND(BD!B3138=REF,BD!D3138>=DEB,BD!D3138<=FIN),MAX(calc!$H$1:H3137)+1,0)","v":0}]
[null,null,null,null,null,{"$f":"IF(COUNTIF(BD!$B$2:B3139,BD!B3139)=1,MAX($F$1:F3138)+1,\"\")","v":""},null,{"$f":"IF(AND(BD!B3139=REF,BD!D3139>=DEB,BD!D3139<=FIN),MAX(calc!$H$1:H3138)+1,0)","v":0}]
[null,null,null,null,null,{"$f":"IF(COUNTIF(BD!$B$2:B3140,BD!B3140)=1,MAX($F$1:F3139)+1,\"\")","v":""},null,{"$f":"IF(AND(BD!B3140=REF,BD!D3140>=DEB,BD!D3140<=FIN),MAX(calc!$H$1:H3139)+1,0)","v":0}]
[null,null,null,null,null,{"$f":"IF(COUNTIF(BD!$B$2:B3141,BD!B3141)=1,MAX($F$1:F3140)+1,\"\")","v":""},null,{"$f":"IF(AND(BD!B3141=REF,BD!D3141>=DEB,BD!D3141<=FIN),MAX(calc!$H$1:H3140)+1,0)","v":0}]
[null,null,null,null,null,{"$f":"IF(COUNTIF(BD!$B$2:B3142,BD!B3142)=1,MAX($F$1:F3141)+1,\"\")","v":""},null,{"$f":"IF(AND(BD!B3142=REF,BD!D3142>=DEB,BD!D3142<=FIN),MAX(calc!$H$1:H3141)+1,0)","v":0}]
[null,null,null,null,null,{"$f":"IF(COUNTIF(BD!$B$2:B3143,BD!B3143)=1,MAX($F$1:F3142)+1,\"\")","v":""},null,{"$f":"IF(AND(BD!B3143=REF,BD!D3143>=DEB,BD!D3143<=FIN),MAX(calc!$H$1:H3142)+1,0)","v":0}]
[null,null,null,null,null,{"$f":"IF(COUNTIF(BD!$B$2:B3144,BD!B3144)=1,MAX($F$1:F3143)+1,\"\")","v":""},null,{"$f":"IF(AND(BD!B3144=REF,BD!D3144>=DEB,BD!D3144<=FIN),MAX(calc!$H$1:H3143)+1,0)","v":0}]
[null,null,null,null,null,{"$f":"IF(COUNTIF(BD!$B$2:B3145,BD!B3145)=1,MAX($F$1:F3144)+1,\"\")","v":""},null,{"$f":"IF(AND(BD!B3145=REF,BD!D3145>=DEB,BD!D3145<=FIN),MAX(calc!$H$1:H3144)+1,0)","v":0}]
[null,null,null,null,null,{"$f":"IF(COUNTIF(BD!$B$2:B3146,BD!B3146)=1,MAX($F$1:F3145)+1,\"\")","v":""},null,{"$f":"IF(AND(BD!B3146=REF,BD!D3146>=DEB,BD!D3146<=FIN),MAX(calc!$H$1:H3145)+1,0)","v":0}]
[null,null,null,null,null,{"$f":"IF(COUNTIF(BD!$B$2:B3147,BD!B3147)=1,MAX($F$1:F3146)+1,\"\")","v":""},null,{"$f":"IF(AND(BD!B3147=REF,BD!D3147>=DEB,BD!D3147<=FIN),MAX(calc!$H$1:H3146)+1,0)","v":0}]
[null,null,null,null,null,{"$f":"IF(COUNTIF(BD!$B$2:B3148,BD!B3148)=1,MAX($F$1:F3147)+1,\"\")","v":""},null,{"$f":"IF(AND(BD!B3148=REF,BD!D3148>=DEB,BD!D3148<=FIN),MAX(calc!$H$1:H3147)+1,0)","v":0}]
[null,null,null,null,null,{"$f":"IF(COUNTIF(BD!$B$2:B3149,BD!B3149)=1,MAX($F$1:F3148)+1,\"\")","v":""},null,{"$f":"IF(AND(BD!B3149=REF,BD!D3149>=DEB,BD!D3149<=FIN),MAX(calc!$H$1:H3148)+1,0)","v":0}]
[null,null,null,null,null,{"$f":"IF(COUNTIF(BD!$B$2:B3150,BD!B3150)=1,MAX($F$1:F3149)+1,\"\")","v":""},null,{"$f":"IF(AND(BD!B3150=REF,BD!D3150>=DEB,BD!D3150<=FIN),MAX(calc!$H$1:H3149)+1,0)","v":0}]
[null,null,null,null,null,{"$f":"IF(COUNTIF(BD!$B$2:B3151,BD!B3151)=1,MAX($F$1:F3150)+1,\"\")","v":""},null,{"$f":"IF(AND(BD!B3151=REF,BD!D3151>=DEB,BD!D3151<=FIN),MAX(calc!$H$1:H3150)+1,0)","v":0}]
[null,null,null,null,null,{"$f":"IF(COUNTIF(BD!$B$2:B3152,BD!B3152)=1,MAX($F$1:F3151)+1,\"\")","v":""},null,{"$f":"IF(AND(BD!B3152=REF,BD!D3152>=DEB,BD!D3152<=FIN),MAX(calc!$H$1:H3151)+1,0)","v":0}]
[null,null,null,null,null,{"$f":"IF(COUNTIF(BD!$B$2:B3153,BD!B3153)=1,MAX($F$1:F3152)+1,\"\")","v":""},null,{"$f":"IF(AND(BD!B3153=REF,BD!D3153>=DEB,BD!D3153<=FIN),MAX(calc!$H$1:H3152)+1,0)","v":0}]
[null,null,null,null,null,{"$f":"IF(COUNTIF(BD!$B$2:B3154,BD!B3154)=1,MAX($F$1:F3153)+1,\"\")","v":""},null,{"$f":"IF(AND(BD!B3154=REF,BD!D3154>=DEB,BD!D3154<=FIN),MAX(calc!$H$1:H3153)+1,0)","v":0}]
[null,null,null,null,null,{"$f":"IF(COUNTIF(BD!$B$2:B3155,BD!B3155)=1,MAX($F$1:F3154)+1,\"\")","v":""},null,{"$f":"IF(AND(BD!B3155=REF,BD!D3155>=DEB,BD!D3155<=FIN),MAX(calc!$H$1:H3154)+1,0)","v":0}]
[null,null,null,null,null,{"$f":"IF(COUNTIF(BD!$B$2:B3156,BD!B3156)=1,MAX($F$1:F3155)+1,\"\")","v":""},null,{"$f":"IF(AND(BD!B3156=REF,BD!D3156>=DEB,BD!D3156<=FIN),MAX(calc!$H$1:H3155)+1,0)","v":0}]
[null,null,null,null,null,{"$f":"IF(COUNTIF(BD!$B$2:B3157,BD!B3157)=1,MAX($F$1:F3156)+1,\"\")","v":""},null,{"$f":"IF(AND(BD!B3157=REF,BD!D3157>=DEB,BD!D3157<=FIN),MAX(calc!$H$1:H3156)+1,0)","v":0}]
[null,null,null,null,null,{"$f":"IF(COUNTIF(BD!$B$2:B3158,BD!B3158)=1,MAX($F$1:F3157)+1,\"\")","v":""},null,{"$f":"IF(AND(BD!B3158=REF,BD!D3158>=DEB,BD!D3158<=FIN),MAX(calc!$H$1:H3157)+1,0)","v":0}]
[null,null,null,null,null,{"$f":"IF(COUNTIF(BD!$B$2:B3159,BD!B3159)=1,MAX($F$1:F3158)+1,\"\")","v":""},null,{"$f":"IF(AND(BD!B3159=REF,BD!D3159>=DEB,BD!D3159<=FIN),MAX(calc!$H$1:H3158)+1,0)","v":0}]
[null,null,null,null,null,{"$f":"IF(COUNTIF(BD!$B$2:B3160,BD!B3160)=1,MAX($F$1:F3159)+1,\"\")","v":""},null,{"$f":"IF(AND(BD!B3160=REF,BD!D3160>=DEB,BD!D3160<=FIN),MAX(calc!$H$1:H3159)+1,0)","v":0}]
[null,null,null,null,null,{"$f":"IF(COUNTIF(BD!$B$2:B3161,BD!B3161)=1,MAX($F$1:F3160)+1,\"\")","v":""},null,{"$f":"IF(AND(BD!B3161=REF,BD!D3161>=DEB,BD!D3161<=FIN),MAX(calc!$H$1:H3160)+1,0)","v":0}]
[null,null,null,null,null,{"$f":"IF(COUNTIF(BD!$B$2:B3162,BD!B3162)=1,MAX($F$1:F3161)+1,\"\")","v":""},null,{"$f":"IF(AND(BD!B3162=REF,BD!D3162>=DEB,BD!D3162<=FIN),MAX(calc!$H$1:H3161)+1,0)","v":0}]
[null,null,null,null,null,{"$f":"IF(COUNTIF(BD!$B$2:B3163,BD!B3163)=1,MAX($F$1:F3162)+1,\"\")","v":""},null,{"$f":"IF(AND(BD!B3163=REF,BD!D3163>=DEB,BD!D3163<=FIN),MAX(calc!$H$1:H3162)+1,0)","v":0}]
[null,null,null,null,null,{"$f":"IF(COUNTIF(BD!$B$2:B3164,BD!B3164)=1,MAX($F$1:F3163)+1,\"\")","v":""},null,{"$f":"IF(AND(BD!B3164=REF,BD!D3164>=DEB,BD!D3164<=FIN),MAX(calc!$H$1:H3163)+1,0)","v":0}]
[null,null,null,null,null,{"$f":"IF(COUNTIF(BD!$B$2:B3165,BD!B3165)=1,MAX($F$1:F3164)+1,\"\")","v":""},null,{"$f":"IF(AND(BD!B3165=REF,BD!D3165>=DEB,BD!D3165<=FIN),MAX(calc!$H$1:H3164)+1,0)","v":0}]
[null,null,null,null,null,{"$f":"IF(COUNTIF(BD!$B$2:B3166,BD!B3166)=1,MAX($F$1:F3165)+1,\"\")","v":""},null,{"$f":"IF(AND(BD!B3166=REF,BD!D3166>=DEB,BD!D3166<=FIN),MAX(calc!$H$1:H3165)+1,0)","v":0}]
[null,null,null,null,null,{"$f":"IF(COUNTIF(BD!$B$2:B3167,BD!B3167)=1,MAX($F$1:F3166)+1,\"\")","v":""},null,{"$f":"IF(AND(BD!B3167=REF,BD!D3167>=DEB,BD!D3167<=FIN),MAX(calc!$H$1:H3166)+1,0)","v":0}]
[null,null,null,null,null,{"$f":"IF(COUNTIF(BD!$B$2:B3168,BD!B3168)=1,MAX($F$1:F3167)+1,\"\")","v":""},null,{"$f":"IF(AND(BD!B3168=REF,BD!D3168>=DEB,BD!D3168<=FIN),MAX(calc!$H$1:H3167)+1,0)","v":0}]
[null,null,null,null,null,{"$f":"IF(COUNTIF(BD!$B$2:B3169,BD!B3169)=1,MAX($F$1:F3168)+1,\"\")","v":""},null,{"$f":"IF(AND(BD!B3169=REF,BD!D3169>=DEB,BD!D3169<=FIN),MAX(calc!$H$1:H3168)+1,0)","v":0}]
[null,null,null,null,null,{"$f":"IF(COUNTIF(BD!$B$2:B3170,BD!B3170)=1,MAX($F$1:F3169)+1,\"\")","v":""},null,{"$f":"IF(AND(BD!B3170=REF,BD!D3170>=DEB,BD!D3170<=FIN),MAX(calc!$H$1:H3169)+1,0)","v":0}]
[null,null,null,null,null,{"$f":"IF(COUNTIF(BD!$B$2:B3171,BD!B3171)=1,MAX($F$1:F3170)+1,\"\")","v":""},null,{"$f":"IF(AND(BD!B3171=REF,BD!D3171>=DEB,BD!D3171<=FIN),MAX(calc!$H$1:H3170)+1,0)","v":0}]
[null,null,null,null,null,{"$f":"IF(COUNTIF(BD!$B$2:B3172,BD!B3172)=1,MAX($F$1:F3171)+1,\"\")","v":""},null,{"$f":"IF(AND(BD!B3172=REF,BD!D3172>=DEB,BD!D3172<=FIN),MAX(calc!$H$1:H3171)+1,0)","v":0}]
[null,null,null,null,null,{"$f":"IF(COUNTIF(BD!$B$2:B3173,BD!B3173)=1,MAX($F$1:F3172)+1,\"\")","v":""},null,{"$f":"IF(AND(BD!B3173=REF,BD!D3173>=DEB,BD!D3173<=FIN),MAX(calc!$H$1:H3172)+1,0)","v":0}]
[null,null,null,null,null,{"$f":"IF(COUNTIF(BD!$B$2:B3174,BD!B3174)=1,MAX($F$1:F3173)+1,\"\")","v":""},null,{"$f":"IF(AND(BD!B3174=REF,BD!D3174>=DEB,BD!D3174<=FIN),MAX(calc!$H$1:H3173)+1,0)","v":0}]
[null,null,null,null,null,{"$f":"IF(COUNTIF(BD!$B$2:B3175,BD!B3175)=1,MAX($F$1:F3174)+1,\"\")","v":""},null,{"$f":"IF(AND(BD!B3175=REF,BD!D3175>=DEB,BD!D3175<=FIN),MAX(calc!$H$1:H3174)+1,0)","v":0}]
[null,null,null,null,null,{"$f":"IF(COUNTIF(BD!$B$2:B3176,BD!B3176)=1,MAX($F$1:F3175)+1,\"\")","v":""},null,{"$f":"IF(AND(BD!B3176=REF,BD!D3176>=DEB,BD!D3176<=FIN),MAX(calc!$H$1:H3175)+1,0)","v":0}]
[null,null,null,null,null,{"$f":"IF(COUNTIF(BD!$B$2:B3177,BD!B3177)=1,MAX($F$1:F3176)+1,\"\")","v":""},null,{"$f":"IF(AND(BD!B3177=REF,BD!D3177>=DEB,BD!D3177<=FIN),MAX(calc!$H$1:H3176)+1,0)","v":0}]
[null,null,null,null,null,{"$f":"IF(COUNTIF(BD!$B$2:B3178,BD!B3178)=1,MAX($F$1:F3177)+1,\"\")","v":""},null,{"$f":"IF(AND(BD!B3178=REF,BD!D3178>=DEB,BD!D3178<=FIN),MAX(calc!$H$1:H3177)+1,0)","v":0}]
[null,null,null,null,null,{"$f":"IF(COUNTIF(BD!$B$2:B3179,BD!B3179)=1,MAX($F$1:F3178)+1,\"\")","v":""},null,{"$f":"IF(AND(BD!B3179=REF,BD!D3179>=DEB,BD!D3179<=FIN),MAX(calc!$H$1:H3178)+1,0)","v":0}]
[null,null,null,null,null,{"$f":"IF(COUNTIF(BD!$B$2:B3180,BD!B3180)=1,MAX($F$1:F3179)+1,\"\")","v":""},null,{"$f":"IF(AND(BD!B3180=REF,BD!D3180>=DEB,BD!D3180<=FIN),MAX(calc!$H$1:H3179)+1,0)","v":0}]
[null,null,null,null,null,{"$f":"IF(COUNTIF(BD!$B$2:B3181,BD!B3181)=1,MAX($F$1:F3180)+1,\"\")","v":""},null,{"$f":"IF(AND(BD!B3181=REF,BD!D3181>=DEB,BD!D3181<=FIN),MAX(calc!$H$1:H3180)+1,0)","v":0}]
[null,null,null,null,null,{"$f":"IF(COUNTIF(BD!$B$2:B3182,BD!B3182)=1,MAX($F$1:F3181)+1,\"\")","v":""},null,{"$f":"IF(AND(BD!B3182=REF,BD!D3182>=DEB,BD!D3182<=FIN),MAX(calc!$H$1:H3181)+1,0)","v":0}]
[null,null,null,null,null,{"$f":"IF(COUNTIF(BD!$B$2:B3183,BD!B3183)=1,MAX($F$1:F3182)+1,\"\")","v":""},null,{"$f":"IF(AND(BD!B3183=REF,BD!D3183>=DEB,BD!D3183<=FIN),MAX(calc!$H$1:H3182)+1,0)","v":0}]
[null,null,null,null,null,{"$f":"IF(COUNTIF(BD!$B$2:B3184,BD!B3184)=1,MAX($F$1:F3183)+1,\"\")","v":""},null,{"$f":"IF(AND(BD!B3184=REF,BD!D3184>=DEB,BD!D3184<=FIN),MAX(calc!$H$1:H3183)+1,0)","v":0}]
[null,null,null,null,null,{"$f":"IF(COUNTIF(BD!$B$2:B3185,BD!B3185)=1,MAX($F$1:F3184)+1,\"\")","v":""},null,{"$f":"IF(AND(BD!B3185=REF,BD!D3185>=DEB,BD!D3185<=FIN),MAX(calc!$H$1:H3184)+1,0)","v":0}]
[null,null,null,null,null,{"$f":"IF(COUNTIF(BD!$B$2:B3186,BD!B3186)=1,MAX($F$1:F3185)+1,\"\")","v":""},null,{"$f":"IF(AND(BD!B3186=REF,BD!D3186>=DEB,BD!D3186<=FIN),MAX(calc!$H$1:H3185)+1,0)","v":0}]
[null,null,null,null,null,{"$f":"IF(COUNTIF(BD!$B$2:B3187,BD!B3187)=1,MAX($F$1:F3186)+1,\"\")","v":""},null,{"$f":"IF(AND(BD!B3187=REF,BD!D3187>=DEB,BD!D3187<=FIN),MAX(calc!$H$1:H3186)+1,0)","v":0}]
[null,null,null,null,null,{"$f":"IF(COUNTIF(BD!$B$2:B3188,BD!B3188)=1,MAX($F$1:F3187)+1,\"\")","v":""},null,{"$f":"IF(AND(BD!B3188=REF,BD!D3188>=DEB,BD!D3188<=FIN),MAX(calc!$H$1:H3187)+1,0)","v":0}]
[null,null,null,null,null,{"$f":"IF(COUNTIF(BD!$B$2:B3189,BD!B3189)=1,MAX($F$1:F3188)+1,\"\")","v":""},null,{"$f":"IF(AND(BD!B3189=REF,BD!D3189>=DEB,BD!D3189<=FIN),MAX(calc!$H$1:H3188)+1,0)","v":0}]
[null,null,null,null,null,{"$f":"IF(COUNTIF(BD!$B$2:B3190,BD!B3190)=1,MAX($F$1:F3189)+1,\"\")","v":""},null,{"$f":"IF(AND(BD!B3190=REF,BD!D3190>=DEB,BD!D3190<=FIN),MAX(calc!$H$1:H3189)+1,0)","v":0}]
[null,null,null,null,null,{"$f":"IF(COUNTIF(BD!$B$2:B3191,BD!B3191)=1,MAX($F$1:F3190)+1,\"\")","v":""},null,{"$f":"IF(AND(BD!B3191=REF,BD!D3191>=DEB,BD!D3191<=FIN),MAX(calc!$H$1:H3190)+1,0)","v":0}]
[null,null,null,null,null,{"$f":"IF(COUNTIF(BD!$B$2:B3192,BD!B3192)=1,MAX($F$1:F3191)+1,\"\")","v":""},null,{"$f":"IF(AND(BD!B3192=REF,BD!D3192>=DEB,BD!D3192<=FIN),MAX(calc!$H$1:H3191)+1,0)","v":0}]
[null,null,null,null,null,{"$f":"IF(COUNTIF(BD!$B$2:B3193,BD!B3193)=1,MAX($F$1:F3192)+1,\"\")","v":""},null,{"$f":"IF(AND(BD!B3193=REF,BD!D3193>=DEB,BD!D3193<=FIN),MAX(calc!$H$1:H3192)+1,0)","v":0}]
[null,null,null,null,null,{"$f":"IF(COUNTIF(BD!$B$2:B3194,BD!B3194)=1,MAX($F$1:F3193)+1,\"\")","v":""},null,{"$f":"IF(AND(BD!B3194=REF,BD!D3194>=DEB,BD!D3194<=FIN),MAX(calc!$H$1:H3193)+1,0)","v":0}]
[null,null,null,null,null,{"$f":"IF(COUNTIF(BD!$B$2:B3195,BD!B3195)=1,MAX($F$1:F3194)+1,\"\")","v":""},null,{"$f":"IF(AND(BD!B3195=REF,BD!D3195>=DEB,BD!D3195<=FIN),MAX(calc!$H$1:H3194)+1,0)","v":0}]
[null,null,null,null,null,{"$f":"IF(COUNTIF(BD!$B$2:B3196,BD!B3196)=1,MAX($F$1:F3195)+1,\"\")","v":""},null,{"$f":"IF(AND(BD!B3196=REF,BD!D3196>=DEB,BD!D3196<=FIN),MAX(calc!$H$1:H3195)+1,0)","v":0}]
[null,null,null,null,null,{"$f":"IF(COUNTIF(BD!$B$2:B3197,BD!B3197)=1,MAX($F$1:F3196)+1,\"\")","v":""},null,{"$f":"IF(AND(BD!B3197=REF,BD!D3197>=DEB,BD!D3197<=FIN),MAX(calc!$H$1:H3196)+1,0)","v":0}]
[null,null,null,null,null,{"$f":"IF(COUNTIF(BD!$B$2:B3198,BD!B3198)=1,MAX($F$1:F3197)+1,\"\")","v":""},null,{"$f":"IF(AND(BD!B3198=REF,BD!D3198>=DEB,BD!D3198<=FIN),MAX(calc!$H$1:H3197)+1,0)","v":0}]
[null,null,null,null,null,{"$f":"IF(COUNTIF(BD!$B$2:B3199,BD!B3199)=1,MAX($F$1:F3198)+1,\"\")","v":""},null,{"$f":"IF(AND(BD!B3199=REF,BD!D3199>=DEB,BD!D3199<=FIN),MAX(calc!$H$1:H3198)+1,0)","v":0}]
[null,null,null,null,null,{"$f":"IF(COUNTIF(BD!$B$2:B3200,BD!B3200)=1,MAX($F$1:F3199)+1,\"\")","v":""},null,{"$f":"IF(AND(BD!B3200=REF,BD!D3200>=DEB,BD!D3200<=FIN),MAX(calc!$H$1:H3199)+1,0)","v":0}]
[null,null,null,null,null,{"$f":"IF(COUNTIF(BD!$B$2:B3201,BD!B3201)=1,MAX($F$1:F3200)+1,\"\")","v":""},null,{"$f":"IF(AND(BD!B3201=REF,BD!D3201>=DEB,BD!D3201<=FIN),MAX(calc!$H$1:H3200)+1,0)","v":0}]
[null,null,null,null,null,{"$f":"IF(COUNTIF(BD!$B$2:B3202,BD!B3202)=1,MAX($F$1:F3201)+1,\"\")","v":""},null,{"$f":"IF(AND(BD!B3202=REF,BD!D3202>=DEB,BD!D3202<=FIN),MAX(calc!$H$1:H3201)+1,0)","v":0}]
[null,null,null,null,null,{"$f":"IF(COUNTIF(BD!$B$2:B3203,BD!B3203)=1,MAX($F$1:F3202)+1,\"\")","v":""},null,{"$f":"IF(AND(BD!B3203=REF,BD!D3203>=DEB,BD!D3203<=FIN),MAX(calc!$H$1:H3202)+1,0)","v":0}]
[null,null,null,null,null,{"$f":"IF(COUNTIF(BD!$B$2:B3204,BD!B3204)=1,MAX($F$1:F3203)+1,\"\")","v":""},null,{"$f":"IF(AND(BD!B3204=REF,BD!D3204>=DEB,BD!D3204<=FIN),MAX(calc!$H$1:H3203)+1,0)","v":0}]
[null,null,null,null,null,{"$f":"IF(COUNTIF(BD!$B$2:B3205,BD!B3205)=1,MAX($F$1:F3204)+1,\"\")","v":""},null,{"$f":"IF(AND(BD!B3205=REF,BD!D3205>=DEB,BD!D3205<=FIN),MAX(calc!$H$1:H3204)+1,0)","v":0}]
[null,null,null,null,null,{"$f":"IF(COUNTIF(BD!$B$2:B3206,BD!B3206)=1,MAX($F$1:F3205)+1,\"\")","v":""},null,{"$f":"IF(AND(BD!B3206=REF,BD!D3206>=DEB,BD!D3206<=FIN),MAX(calc!$H$1:H3205)+1,0)","v":0}]
[null,null,null,null,null,{"$f":"IF(COUNTIF(BD!$B$2:B3207,BD!B3207)=1,MAX($F$1:F3206)+1,\"\")","v":""},null,{"$f":"IF(AND(BD!B3207=REF,BD!D3207>=DEB,BD!D3207<=FIN),MAX(calc!$H$1:H3206)+1,0)","v":0}]
[null,null,null,null,null,{"$f":"IF(COUNTIF(BD!$B$2:B3208,BD!B3208)=1,MAX($F$1:F3207)+1,\"\")","v":""},null,{"$f":"IF(AND(BD!B3208=REF,BD!D3208>=DEB,BD!D3208<=FIN),MAX(calc!$H$1:H3207)+1,0)","v":0}]
[null,null,null,null,null,{"$f":"IF(COUNTIF(BD!$B$2:B3209,BD!B3209)=1,MAX($F$1:F3208)+1,\"\")","v":""},null,{"$f":"IF(AND(BD!B3209=REF,BD!D3209>=DEB,BD!D3209<=FIN),MAX(calc!$H$1:H3208)+1,0)","v":0}]
[null,null,null,null,null,{"$f":"IF(COUNTIF(BD!$B$2:B3210,BD!B3210)=1,MAX($F$1:F3209)+1,\"\")","v":""},null,{"$f":"IF(AND(BD!B3210=REF,BD!D3210>=DEB,BD!D3210<=FIN),MAX(calc!$H$1:H3209)+1,0)","v":0}]
[null,null,null,null,null,{"$f":"IF(COUNTIF(BD!$B$2:B3211,BD!B3211)=1,MAX($F$1:F3210)+1,\"\")","v":""},null,{"$f":"IF(AND(BD!B3211=REF,BD!D3211>=DEB,BD!D3211<=FIN),MAX(calc!$H$1:H3210)+1,0)","v":0}]
[null,null,null,null,null,{"$f":"IF(COUNTIF(BD!$B$2:B3212,BD!B3212)=1,MAX($F$1:F3211)+1,\"\")","v":""},null,{"$f":"IF(AND(BD!B3212=REF,BD!D3212>=DEB,BD!D3212<=FIN),MAX(calc!$H$1:H3211)+1,0)","v":0}]
[null,null,null,null,null,{"$f":"IF(COUNTIF(BD!$B$2:B3213,BD!B3213)=1,MAX($F$1:F3212)+1,\"\")","v":""},null,{"$f":"IF(AND(BD!B3213=REF,BD!D3213>=DEB,BD!D3213<=FIN),MAX(calc!$H$1:H3212)+1,0)","v":0}]
[null,null,null,null,null,{"$f":"IF(COUNTIF(BD!$B$2:B3214,BD!B3214)=1,MAX($F$1:F3213)+1,\"\")","v":""},null,{"$f":"IF(AND(BD!B3214=REF,BD!D3214>=DEB,BD!D3214<=FIN),MAX(calc!$H$1:H3213)+1,0)","v":0}]
[null,null,null,null,null,{"$f":"IF(COUNTIF(BD!$B$2:B3215,BD!B3215)=1,MAX($F$1:F3214)+1,\"\")","v":""},null,{"$f":"IF(AND(BD!B3215=REF,BD!D3215>=DEB,BD!D3215<=FIN),MAX(calc!$H$1:H3214)+1,0)","v":0}]
[null,null,null,null,null,{"$f":"IF(COUNTIF(BD!$B$2:B3216,BD!B3216)=1,MAX($F$1:F3215)+1,\"\")","v":""},null,{"$f":"IF(AND(BD!B3216=REF,BD!D3216>=DEB,BD!D3216<=FIN),MAX(calc!$H$1:H3215)+1,0)","v":0}]
[null,null,null,null,null,{"$f":"IF(COUNTIF(BD!$B$2:B3217,BD!B3217)=1,MAX($F$1:F3216)+1,\"\")","v":""},null,{"$f":"IF(AND(BD!B3217=REF,BD!D3217>=DEB,BD!D3217<=FIN),MAX(calc!$H$1:H3216)+1,0)","v":0}]
[null,null,null,null,null,{"$f":"IF(COUNTIF(BD!$B$2:B3218,BD!B3218)=1,MAX($F$1:F3217)+1,\"\")","v":""},null,{"$f":"IF(AND(BD!B3218=REF,BD!D3218>=DEB,BD!D3218<=FIN),MAX(calc!$H$1:H3217)+1,0)","v":0}]
[null,null,null,null,null,{"$f":"IF(COUNTIF(BD!$B$2:B3219,BD!B3219)=1,MAX($F$1:F3218)+1,\"\")","v":""},null,{"$f":"IF(AND(BD!B3219=REF,BD!D3219>=DEB,BD!D3219<=FIN),MAX(calc!$H$1:H3218)+1,0)","v":0}]
[null,null,null,null,null,{"$f":"IF(COUNTIF(BD!$B$2:B3220,BD!B3220)=1,MAX($F$1:F3219)+1,\"\")","v":""},null,{"$f":"IF(AND(BD!B3220=REF,BD!D3220>=DEB,BD!D3220<=FIN),MAX(calc!$H$1:H3219)+1,0)","v":0}]
[null,null,null,null,null,{"$f":"IF(COUNTIF(BD!$B$2:B3221,BD!B3221)=1,MAX($F$1:F3220)+1,\"\")","v":""},null,{"$f":"IF(AND(BD!B3221=REF,BD!D3221>=DEB,BD!D3221<=FIN),MAX(calc!$H$1:H3220)+1,0)","v":0}]
[null,null,null,null,null,{"$f":"IF(COUNTIF(BD!$B$2:B3222,BD!B3222)=1,MAX($F$1:F3221)+1,\"\")","v":""},null,{"$f":"IF(AND(BD!B3222=REF,BD!D3222>=DEB,BD!D3222<=FIN),MAX(calc!$H$1:H3221)+1,0)","v":0}]
[null,null,null,null,null,{"$f":"IF(COUNTIF(BD!$B$2:B3223,BD!B3223)=1,MAX($F$1:F3222)+1,\"\")","v":""},null,{"$f":"IF(AND(BD!B3223=REF,BD!D3223>=DEB,BD!D3223<=FIN),MAX(calc!$H$1:H3222)+1,0)","v":0}]
[null,null,null,null,null,{"$f":"IF(COUNTIF(BD!$B$2:B3224,BD!B3224)=1,MAX($F$1:F3223)+1,\"\")","v":""},null,{"$f":"IF(AND(BD!B3224=REF,BD!D3224>=DEB,BD!D3224<=FIN),MAX(calc!$H$1:H3223)+1,0)","v":0}]
[null,null,null,null,null,{"$f":"IF(COUNTIF(BD!$B$2:B3225,BD!B3225)=1,MAX($F$1:F3224)+1,\"\")","v":""},null,{"$f":"IF(AND(BD!B3225=REF,BD!D3225>=DEB,BD!D3225<=FIN),MAX(calc!$H$1:H3224)+1,0)","v":0}]
[null,null,null,null,null,{"$f":"IF(COUNTIF(BD!$B$2:B3226,BD!B3226)=1,MAX($F$1:F3225)+1,\"\")","v":""},null,{"$f":"IF(AND(BD!B3226=REF,BD!D3226>=DEB,BD!D3226<=FIN),MAX(calc!$H$1:H3225)+1,0)","v":0}]
[null,null,null,null,null,{"$f":"IF(COUNTIF(BD!$B$2:B3227,BD!B3227)=1,MAX($F$1:F3226)+1,\"\")","v":""},null,{"$f":"IF(AND(BD!B3227=REF,BD!D3227>=DEB,BD!D3227<=FIN),MAX(calc!$H$1:H3226)+1,0)","v":0}]
[null,null,null,null,null,{"$f":"IF(COUNTIF(BD!$B$2:B3228,BD!B3228)=1,MAX($F$1:F3227)+1,\"\")","v":""},null,{"$f":"IF(AND(BD!B3228=REF,BD!D3228>=DEB,BD!D3228<=FIN),MAX(calc!$H$1:H3227)+1,0)","v":0}]
[null,null,null,null,null,{"$f":"IF(COUNTIF(BD!$B$2:B3229,BD!B3229)=1,MAX($F$1:F3228)+1,\"\")","v":""},null,{"$f":"IF(AND(BD!B3229=REF,BD!D3229>=DEB,BD!D3229<=FIN),MAX(calc!$H$1:H3228)+1,0)","v":0}]
[null,null,null,null,null,{"$f":"IF(COUNTIF(BD!$B$2:B3230,BD!B3230)=1,MAX($F$1:F3229)+1,\"\")","v":""},null,{"$f":"IF(AND(BD!B3230=REF,BD!D3230>=DEB,BD!D3230<=FIN),MAX(calc!$H$1:H3229)+1,0)","v":0}]
[null,null,null,null,null,{"$f":"IF(COUNTIF(BD!$B$2:B3231,BD!B3231)=1,MAX($F$1:F3230)+1,\"\")","v":""},null,{"$f":"IF(AND(BD!B3231=REF,BD!D3231>=DEB,BD!D3231<=FIN),MAX(calc!$H$1:H3230)+1,0)","v":0}]
[null,null,null,null,null,{"$f":"IF(COUNTIF(BD!$B$2:B3232,BD!B3232)=1,MAX($F$1:F3231)+1,\"\")","v":""},null,{"$f":"IF(AND(BD!B3232=REF,BD!D3232>=DEB,BD!D3232<=FIN),MAX(calc!$H$1:H3231)+1,0)","v":0}]
[null,null,null,null,null,{"$f":"IF(COUNTIF(BD!$B$2:B3233,BD!B3233)=1,MAX($F$1:F3232)+1,\"\")","v":""},null,{"$f":"IF(AND(BD!B3233=REF,BD!D3233>=DEB,BD!D3233<=FIN),MAX(calc!$H$1:H3232)+1,0)","v":0}]
[null,null,null,null,null,{"$f":"IF(COUNTIF(BD!$B$2:B3234,BD!B3234)=1,MAX($F$1:F3233)+1,\"\")","v":""},null,{"$f":"IF(AND(BD!B3234=REF,BD!D3234>=DEB,BD!D3234<=FIN),MAX(calc!$H$1:H3233)+1,0)","v":0}]
[null,null,null,null,null,{"$f":"IF(COUNTIF(BD!$B$2:B3235,BD!B3235)=1,MAX($F$1:F3234)+1,\"\")","v":""},null,{"$f":"IF(AND(BD!B3235=REF,BD!D3235>=DEB,BD!D3235<=FIN),MAX(calc!$H$1:H3234)+1,0)","v":0}]
[null,null,null,null,null,{"$f":"IF(COUNTIF(BD!$B$2:B3236,BD!B3236)=1,MAX($F$1:F3235)+1,\"\")","v":""},null,{"$f":"IF(AND(BD!B3236=REF,BD!D3236>=DEB,BD!D3236<=FIN),MAX(calc!$H$1:H3235)+1,0)","v":0}]
[null,null,null,null,null,{"$f":"IF(COUNTIF(BD!$B$2:B3237,BD!B3237)=1,MAX($F$1:F3236)+1,\"\")","v":""},null,{"$f":"IF(AND(BD!B3237=REF,BD!D3237>=DEB,BD!D3237<=FIN),MAX(calc!$H$1:H3236)+1,0)","v":0}]
[null,null,null,null,null,{"$f":"IF(COUNTIF(BD!$B$2:B3238,BD!B3238)=1,MAX($F$1:F3237)+1,\"\")","v":""},null,{"$f":"IF(AND(BD!B3238=REF,BD!D3238>=DEB,BD!D3238<=FIN),MAX(calc!$H$1:H3237)+1,0)","v":0}]
[null,null,null,null,null,{"$f":"IF(COUNTIF(BD!$B$2:B3239,BD!B3239)=1,MAX($F$1:F3238)+1,\"\")","v":""},null,{"$f":"IF(AND(BD!B3239=REF,BD!D3239>=DEB,BD!D3239<=FIN),MAX(calc!$H$1:H3238)+1,0)","v":0}]
[null,null,null,null,null,{"$f":"IF(COUNTIF(BD!$B$2:B3240,BD!B3240)=1,MAX($F$1:F3239)+1,\"\")","v":""},null,{"$f":"IF(AND(BD!B3240=REF,BD!D3240>=DEB,BD!D3240<=FIN),MAX(calc!$H$1:H3239)+1,0)","v":0}]
[null,null,null,null,null,{"$f":"IF(COUNTIF(BD!$B$2:B3241,BD!B3241)=1,MAX($F$1:F3240)+1,\"\")","v":""},null,{"$f":"IF(AND(BD!B3241=REF,BD!D3241>=DEB,BD!D3241<=FIN),MAX(calc!$H$1:H3240)+1,0)","v":0}]
[null,null,null,null,null,{"$f":"IF(COUNTIF(BD!$B$2:B3242,BD!B3242)=1,MAX($F$1:F3241)+1,\"\")","v":""},null,{"$f":"IF(AND(BD!B3242=REF,BD!D3242>=DEB,BD!D3242<=FIN),MAX(calc!$H$1:H3241)+1,0)","v":0}]
[null,null,null,null,null,{"$f":"IF(COUNTIF(BD!$B$2:B3243,BD!B3243)=1,MAX($F$1:F3242)+1,\"\")","v":""},null,{"$f":"IF(AND(BD!B3243=REF,BD!D3243>=DEB,BD!D3243<=FIN),MAX(calc!$H$1:H3242)+1,0)","v":0}]
[null,null,null,null,null,{"$f":"IF(COUNTIF(BD!$B$2:B3244,BD!B3244)=1,MAX($F$1:F3243)+1,\"\")","v":""},null,{"$f":"IF(AND(BD!B3244=REF,BD!D3244>=DEB,BD!D3244<=FIN),MAX(calc!$H$1:H3243)+1,0)","v":0}]
[null,null,null,null,null,{"$f":"IF(COUNTIF(BD!$B$2:B3245,BD!B3245)=1,MAX($F$1:F3244)+1,\"\")","v":""},null,{"$f":"IF(AND(BD!B3245=REF,BD!D3245>=DEB,BD!D3245<=FIN),MAX(calc!$H$1:H3244)+1,0)","v":0}]
[null,null,null,null,null,{"$f":"IF(COUNTIF(BD!$B$2:B3246,BD!B3246)=1,MAX($F$1:F3245)+1,\"\")","v":""},null,{"$f":"IF(AND(BD!B3246=REF,BD!D3246>=DEB,BD!D3246<=FIN),MAX(calc!$H$1:H3245)+1,0)","v":0}]
[null,null,null,null,null,{"$f":"IF(COUNTIF(BD!$B$2:B3247,BD!B3247)=1,MAX($F$1:F3246)+1,\"\")","v":""},null,{"$f":"IF(AND(BD!B3247=REF,BD!D3247>=DEB,BD!D3247<=FIN),MAX(calc!$H$1:H3246)+1,0)","v":0}]
[null,null,null,null,null,{"$f":"IF(COUNTIF(BD!$B$2:B3248,BD!B3248)=1,MAX($F$1:F3247)+1,\"\")","v":""},null,{"$f":"IF(AND(BD!B3248=REF,BD!D3248>=DEB,BD!D3248<=FIN),MAX(calc!$H$1:H3247)+1,0)","v":0}]
[null,null,null,null,null,{"$f":"IF(COUNTIF(BD!$B$2:B3249,BD!B3249)=1,MAX($F$1:F3248)+1,\"\")","v":""},null,{"$f":"IF(AND(BD!B3249=REF,BD!D3249>=DEB,BD!D3249<=FIN),MAX(calc!$H$1:H3248)+1,0)","v":0}]
[null,null,null,null,null,{"$f":"IF(COUNTIF(BD!$B$2:B3250,BD!B3250)=1,MAX($F$1:F3249)+1,\"\")","v":""},null,{"$f":"IF(AND(BD!B3250=REF,BD!D3250>=DEB,BD!D3250<=FIN),MAX(calc!$H$1:H3249)+1,0)","v":0}]
[null,null,null,null,null,{"$f":"IF(COUNTIF(BD!$B$2:B3251,BD!B3251)=1,MAX($F$1:F3250)+1,\"\")","v":""},null,{"$f":"IF(AND(BD!B3251=REF,BD!D3251>=DEB,BD!D3251<=FIN),MAX(calc!$H$1:H3250)+1,0)","v":0}]
[null,null,null,null,null,{"$f":"IF(COUNTIF(BD!$B$2:B3252,BD!B3252)=1,MAX($F$1:F3251)+1,\"\")","v":""},null,{"$f":"IF(AND(BD!B3252=REF,BD!D3252>=DEB,BD!D3252<=FIN),MAX(calc!$H$1:H3251)+1,0)","v":0}]
[null,null,null,null,null,{"$f":"IF(COUNTIF(BD!$B$2:B3253,BD!B3253)=1,MAX($F$1:F3252)+1,\"\")","v":""},null,{"$f":"IF(AND(BD!B3253=REF,BD!D3253>=DEB,BD!D3253<=FIN),MAX(calc!$H$1:H3252)+1,0)","v":0}]
[null,null,null,null,null,{"$f":"IF(COUNTIF(BD!$B$2:B3254,BD!B3254)=1,MAX($F$1:F3253)+1,\"\")","v":""},null,{"$f":"IF(AND(BD!B3254=REF,BD!D3254>=DEB,BD!D3254<=FIN),MAX(calc!$H$1:H3253)+1,0)","v":0}]
[null,null,null,null,null,{"$f":"IF(COUNTIF(BD!$B$2:B3255,BD!B3255)=1,MAX($F$1:F3254)+1,\"\")","v":""},null,{"$f":"IF(AND(BD!B3255=REF,BD!D3255>=DEB,BD!D3255<=FIN),MAX(calc!$H$1:H3254)+1,0)","v":0}]
[null,null,null,null,null,{"$f":"IF(COUNTIF(BD!$B$2:B3256,BD!B3256)=1,MAX($F$1:F3255)+1,\"\")","v":""},null,{"$f":"IF(AND(BD!B3256=REF,BD!D3256>=DEB,BD!D3256<=FIN),MAX(calc!$H$1:H3255)+1,0)","v":0}]
[null,null,null,null,null,{"$f":"IF(COUNTIF(BD!$B$2:B3257,BD!B3257)=1,MAX($F$1:F3256)+1,\"\")","v":""},null,{"$f":"IF(AND(BD!B3257=REF,BD!D3257>=DEB,BD!D3257<=FIN),MAX(calc!$H$1:H3256)+1,0)","v":0}]
[null,null,null,null,null,{"$f":"IF(COUNTIF(BD!$B$2:B3258,BD!B3258)=1,MAX($F$1:F3257)+1,\"\")","v":""},null,{"$f":"IF(AND(BD!B3258=REF,BD!D3258>=DEB,BD!D3258<=FIN),MAX(calc!$H$1:H3257)+1,0)","v":0}]
[null,null,null,null,null,{"$f":"IF(COUNTIF(BD!$B$2:B3259,BD!B3259)=1,MAX($F$1:F3258)+1,\"\")","v":""},null,{"$f":"IF(AND(BD!B3259=REF,BD!D3259>=DEB,BD!D3259<=FIN),MAX(calc!$H$1:H3258)+1,0)","v":0}]
[null,null,null,null,null,{"$f":"IF(COUNTIF(BD!$B$2:B3260,BD!B3260)=1,MAX($F$1:F3259)+1,\"\")","v":""},null,{"$f":"IF(AND(BD!B3260=REF,BD!D3260>=DEB,BD!D3260<=FIN),MAX(calc!$H$1:H3259)+1,0)","v":0}]
[null,null,null,null,null,{"$f":"IF(COUNTIF(BD!$B$2:B3261,BD!B3261)=1,MAX($F$1:F3260)+1,\"\")","v":""},null,{"$f":"IF(AND(BD!B3261=REF,BD!D3261>=DEB,BD!D3261<=FIN),MAX(calc!$H$1:H3260)+1,0)","v":0}]
[null,null,null,null,null,{"$f":"IF(COUNTIF(BD!$B$2:B3262,BD!B3262)=1,MAX($F$1:F3261)+1,\"\")","v":""},null,{"$f":"IF(AND(BD!B3262=REF,BD!D3262>=DEB,BD!D3262<=FIN),MAX(calc!$H$1:H3261)+1,0)","v":0}]
[null,null,null,null,null,{"$f":"IF(COUNTIF(BD!$B$2:B3263,BD!B3263)=1,MAX($F$1:F3262)+1,\"\")","v":""},null,{"$f":"IF(AND(BD!B3263=REF,BD!D3263>=DEB,BD!D3263<=FIN),MAX(calc!$H$1:H3262)+1,0)","v":0}]
[null,null,null,null,null,{"$f":"IF(COUNTIF(BD!$B$2:B3264,BD!B3264)=1,MAX($F$1:F3263)+1,\"\")","v":""},null,{"$f":"IF(AND(BD!B3264=REF,BD!D3264>=DEB,BD!D3264<=FIN),MAX(calc!$H$1:H3263)+1,0)","v":0}]
[null,null,null,null,null,{"$f":"IF(COUNTIF(BD!$B$2:B3265,BD!B3265)=1,MAX($F$1:F3264)+1,\"\")","v":""},null,{"$f":"IF(AND(BD!B3265=REF,BD!D3265>=DEB,BD!D3265<=FIN),MAX(calc!$H$1:H3264)+1,0)","v":0}]
[null,null,null,null,null,{"$f":"IF(COUNTIF(BD!$B$2:B3266,BD!B3266)=1,MAX($F$1:F3265)+1,\"\")","v":""},null,{"$f":"IF(AND(BD!B3266=REF,BD!D3266>=DEB,BD!D3266<=FIN),MAX(calc!$H$1:H3265)+1,0)","v":0}]
[null,null,null,null,null,{"$f":"IF(COUNTIF(BD!$B$2:B3267,BD!B3267)=1,MAX($F$1:F3266)+1,\"\")","v":""},null,{"$f":"IF(AND(BD!B3267=REF,BD!D3267>=DEB,BD!D3267<=FIN),MAX(calc!$H$1:H3266)+1,0)","v":0}]
[null,null,null,null,null,{"$f":"IF(COUNTIF(BD!$B$2:B3268,BD!B3268)=1,MAX($F$1:F3267)+1,\"\")","v":""},null,{"$f":"IF(AND(BD!B3268=REF,BD!D3268>=DEB,BD!D3268<=FIN),MAX(calc!$H$1:H3267)+1,0)","v":0}]
[null,null,null,null,null,{"$f":"IF(COUNTIF(BD!$B$2:B3269,BD!B3269)=1,MAX($F$1:F3268)+1,\"\")","v":""},null,{"$f":"IF(AND(BD!B3269=REF,BD!D3269>=DEB,BD!D3269<=FIN),MAX(calc!$H$1:H3268)+1,0)","v":0}]
[null,null,null,null,null,{"$f":"IF(COUNTIF(BD!$B$2:B3270,BD!B3270)=1,MAX($F$1:F3269)+1,\"\")","v":""},null,{"$f":"IF(AND(BD!B3270=REF,BD!D3270>=DEB,BD!D3270<=FIN),MAX(calc!$H$1:H3269)+1,0)","v":0}]
[null,null,null,null,null,{"$f":"IF(COUNTIF(BD!$B$2:B3271,BD!B3271)=1,MAX($F$1:F3270)+1,\"\")","v":""},null,{"$f":"IF(AND(BD!B3271=REF,BD!D3271>=DEB,BD!D3271<=FIN),MAX(calc!$H$1:H3270)+1,0)","v":0}]
[null,null,null,null,null,{"$f":"IF(COUNTIF(BD!$B$2:B3272,BD!B3272)=1,MAX($F$1:F3271)+1,\"\")","v":""},null,{"$f":"IF(AND(BD!B3272=REF,BD!D3272>=DEB,BD!D3272<=FIN),MAX(calc!$H$1:H3271)+1,0)","v":0}]
[null,null,null,null,null,{"$f":"IF(COUNTIF(BD!$B$2:B3273,BD!B3273)=1,MAX($F$1:F3272)+1,\"\")","v":""},null,{"$f":"IF(AND(BD!B3273=REF,BD!D3273>=DEB,BD!D3273<=FIN),MAX(calc!$H$1:H3272)+1,0)","v":0}]
[null,null,null,null,null,{"$f":"IF(COUNTIF(BD!$B$2:B3274,BD!B3274)=1,MAX($F$1:F3273)+1,\"\")","v":""},null,{"$f":"IF(AND(BD!B3274=REF,BD!D3274>=DEB,BD!D3274<=FIN),MAX(calc!$H$1:H3273)+1,0)","v":0}]
[null,null,null,null,null,{"$f":"IF(COUNTIF(BD!$B$2:B3275,BD!B3275)=1,MAX($F$1:F3274)+1,\"\")","v":""},null,{"$f":"IF(AND(BD!B3275=REF,BD!D3275>=DEB,BD!D3275<=FIN),MAX(calc!$H$1:H3274)+1,0)","v":0}]
[null,null,null,null,null,{"$f":"IF(COUNTIF(BD!$B$2:B3276,BD!B3276)=1,MAX($F$1:F3275)+1,\"\")","v":""},null,{"$f":"IF(AND(BD!B3276=REF,BD!D3276>=DEB,BD!D3276<=FIN),MAX(calc!$H$1:H3275)+1,0)","v":0}]
[null,null,null,null,null,{"$f":"IF(COUNTIF(BD!$B$2:B3277,BD!B3277)=1,MAX($F$1:F3276)+1,\"\")","v":""},null,{"$f":"IF(AND(BD!B3277=REF,BD!D3277>=DEB,BD!D3277<=FIN),MAX(calc!$H$1:H3276)+1,0)","v":0}]
[null,null,null,null,null,{"$f":"IF(COUNTIF(BD!$B$2:B3278,BD!B3278)=1,MAX($F$1:F3277)+1,\"\")","v":""},null,{"$f":"IF(AND(BD!B3278=REF,BD!D3278>=DEB,BD!D3278<=FIN),MAX(calc!$H$1:H3277)+1,0)","v":0}]
[null,null,null,null,null,{"$f":"IF(COUNTIF(BD!$B$2:B3279,BD!B3279)=1,MAX($F$1:F3278)+1,\"\")","v":""},null,{"$f":"IF(AND(BD!B3279=REF,BD!D3279>=DEB,BD!D3279<=FIN),MAX(calc!$H$1:H3278)+1,0)","v":0}]
[null,null,null,null,null,{"$f":"IF(COUNTIF(BD!$B$2:B3280,BD!B3280)=1,MAX($F$1:F3279)+1,\"\")","v":""},null,{"$f":"IF(AND(BD!B3280=REF,BD!D3280>=DEB,BD!D3280<=FIN),MAX(calc!$H$1:H3279)+1,0)","v":0}]
[null,null,null,null,null,{"$f":"IF(COUNTIF(BD!$B$2:B3281,BD!B3281)=1,MAX($F$1:F3280)+1,\"\")","v":""},null,{"$f":"IF(AND(BD!B3281=REF,BD!D3281>=DEB,BD!D3281<=FIN),MAX(calc!$H$1:H3280)+1,0)","v":0}]
[null,null,null,null,null,{"$f":"IF(COUNTIF(BD!$B$2:B3282,BD!B3282)=1,MAX($F$1:F3281)+1,\"\")","v":""},null,{"$f":"IF(AND(BD!B3282=REF,BD!D3282>=DEB,BD!D3282<=FIN),MAX(calc!$H$1:H3281)+1,0)","v":0}]
[null,null,null,null,null,{"$f":"IF(COUNTIF(BD!$B$2:B3283,BD!B3283)=1,MAX($F$1:F3282)+1,\"\")","v":""},null,{"$f":"IF(AND(BD!B3283=REF,BD!D3283>=DEB,BD!D3283<=FIN),MAX(calc!$H$1:H3282)+1,0)","v":0}]
[null,null,null,null,null,{"$f":"IF(COUNTIF(BD!$B$2:B3284,BD!B3284)=1,MAX($F$1:F3283)+1,\"\")","v":""},null,{"$f":"IF(AND(BD!B3284=REF,BD!D3284>=DEB,BD!D3284<=FIN),MAX(calc!$H$1:H3283)+1,0)","v":0}]
[null,null,null,null,null,{"$f":"IF(COUNTIF(BD!$B$2:B3285,BD!B3285)=1,MAX($F$1:F3284)+1,\"\")","v":""},null,{"$f":"IF(AND(BD!B3285=REF,BD!D3285>=DEB,BD!D3285<=FIN),MAX(calc!$H$1:H3284)+1,0)","v":0}]
[null,null,null,null,null,{"$f":"IF(COUNTIF(BD!$B$2:B3286,BD!B3286)=1,MAX($F$1:F3285)+1,\"\")","v":""},null,{"$f":"IF(AND(BD!B3286=REF,BD!D3286>=DEB,BD!D3286<=FIN),MAX(calc!$H$1:H3285)+1,0)","v":0}]
[null,null,null,null,null,{"$f":"IF(COUNTIF(BD!$B$2:B3287,BD!B3287)=1,MAX($F$1:F3286)+1,\"\")","v":""},null,{"$f":"IF(AND(BD!B3287=REF,BD!D3287>=DEB,BD!D3287<=FIN),MAX(calc!$H$1:H3286)+1,0)","v":0}]
[null,null,null,null,null,{"$f":"IF(COUNTIF(BD!$B$2:B3288,BD!B3288)=1,MAX($F$1:F3287)+1,\"\")","v":""},null,{"$f":"IF(AND(BD!B3288=REF,BD!D3288>=DEB,BD!D3288<=FIN),MAX(calc!$H$1:H3287)+1,0)","v":0}]
[null,null,null,null,null,{"$f":"IF(COUNTIF(BD!$B$2:B3289,BD!B3289)=1,MAX($F$1:F3288)+1,\"\")","v":""},null,{"$f":"IF(AND(BD!B3289=REF,BD!D3289>=DEB,BD!D3289<=FIN),MAX(calc!$H$1:H3288)+1,0)","v":0}]
[null,null,null,null,null,{"$f":"IF(COUNTIF(BD!$B$2:B3290,BD!B3290)=1,MAX($F$1:F3289)+1,\"\")","v":""},null,{"$f":"IF(AND(BD!B3290=REF,BD!D3290>=DEB,BD!D3290<=FIN),MAX(calc!$H$1:H3289)+1,0)","v":0}]
[null,null,null,null,null,{"$f":"IF(COUNTIF(BD!$B$2:B3291,BD!B3291)=1,MAX($F$1:F3290)+1,\"\")","v":""},null,{"$f":"IF(AND(BD!B3291=REF,BD!D3291>=DEB,BD!D3291<=FIN),MAX(calc!$H$1:H3290)+1,0)","v":0}]
[null,null,null,null,null,{"$f":"IF(COUNTIF(BD!$B$2:B3292,BD!B3292)=1,MAX($F$1:F3291)+1,\"\")","v":""},null,{"$f":"IF(AND(BD!B3292=REF,BD!D3292>=DEB,BD!D3292<=FIN),MAX(calc!$H$1:H3291)+1,0)","v":0}]
[null,null,null,null,null,{"$f":"IF(COUNTIF(BD!$B$2:B3293,BD!B3293)=1,MAX($F$1:F3292)+1,\"\")","v":""},null,{"$f":"IF(AND(BD!B3293=REF,BD!D3293>=DEB,BD!D3293<=FIN),MAX(calc!$H$1:H3292)+1,0)","v":0}]
[null,null,null,null,null,{"$f":"IF(COUNTIF(BD!$B$2:B3294,BD!B3294)=1,MAX($F$1:F3293)+1,\"\")","v":""},null,{"$f":"IF(AND(BD!B3294=REF,BD!D3294>=DEB,BD!D3294<=FIN),MAX(calc!$H$1:H3293)+1,0)","v":0}]
[null,null,null,null,null,{"$f":"IF(COUNTIF(BD!$B$2:B3295,BD!B3295)=1,MAX($F$1:F3294)+1,\"\")","v":""},null,{"$f":"IF(AND(BD!B3295=REF,BD!D3295>=DEB,BD!D3295<=FIN),MAX(calc!$H$1:H3294)+1,0)","v":0}]
[null,null,null,null,null,{"$f":"IF(COUNTIF(BD!$B$2:B3296,BD!B3296)=1,MAX($F$1:F3295)+1,\"\")","v":""},null,{"$f":"IF(AND(BD!B3296=REF,BD!D3296>=DEB,BD!D3296<=FIN),MAX(calc!$H$1:H3295)+1,0)","v":0}]
[null,null,null,null,null,{"$f":"IF(COUNTIF(BD!$B$2:B3297,BD!B3297)=1,MAX($F$1:F3296)+1,\"\")","v":""},null,{"$f":"IF(AND(BD!B3297=REF,BD!D3297>=DEB,BD!D3297<=FIN),MAX(calc!$H$1:H3296)+1,0)","v":0}]
[null,null,null,null,null,{"$f":"IF(COUNTIF(BD!$B$2:B3298,BD!B3298)=1,MAX($F$1:F3297)+1,\"\")","v":""},null,{"$f":"IF(AND(BD!B3298=REF,BD!D3298>=DEB,BD!D3298<=FIN),MAX(calc!$H$1:H3297)+1,0)","v":0}]
[null,null,null,null,null,{"$f":"IF(COUNTIF(BD!$B$2:B3299,BD!B3299)=1,MAX($F$1:F3298)+1,\"\")","v":""},null,{"$f":"IF(AND(BD!B3299=REF,BD!D3299>=DEB,BD!D3299<=FIN),MAX(calc!$H$1:H3298)+1,0)","v":0}]
[null,null,null,null,null,{"$f":"IF(COUNTIF(BD!$B$2:B3300,BD!B3300)=1,MAX($F$1:F3299)+1,\"\")","v":""},null,{"$f":"IF(AND(BD!B3300=REF,BD!D3300>=DEB,BD!D3300<=FIN),MAX(calc!$H$1:H3299)+1,0)","v":0}]
[null,null,null,null,null,{"$f":"IF(COUNTIF(BD!$B$2:B3301,BD!B3301)=1,MAX($F$1:F3300)+1,\"\")","v":""},null,{"$f":"IF(AND(BD!B3301=REF,BD!D3301>=DEB,BD!D3301<=FIN),MAX(calc!$H$1:H3300)+1,0)","v":0}]
[null,null,null,null,null,{"$f":"IF(COUNTIF(BD!$B$2:B3302,BD!B3302)=1,MAX($F$1:F3301)+1,\"\")","v":""},null,{"$f":"IF(AND(BD!B3302=REF,BD!D3302>=DEB,BD!D3302<=FIN),MAX(calc!$H$1:H3301)+1,0)","v":0}]
[null,null,null,null,null,{"$f":"IF(COUNTIF(BD!$B$2:B3303,BD!B3303)=1,MAX($F$1:F3302)+1,\"\")","v":""},null,{"$f":"IF(AND(BD!B3303=REF,BD!D3303>=DEB,BD!D3303<=FIN),MAX(calc!$H$1:H3302)+1,0)","v":0}]
[null,null,null,null,null,{"$f":"IF(COUNTIF(BD!$B$2:B3304,BD!B3304)=1,MAX($F$1:F3303)+1,\"\")","v":""},null,{"$f":"IF(AND(BD!B3304=REF,BD!D3304>=DEB,BD!D3304<=FIN),MAX(calc!$H$1:H3303)+1,0)","v":0}]
[null,null,null,null,null,{"$f":"IF(COUNTIF(BD!$B$2:B3305,BD!B3305)=1,MAX($F$1:F3304)+1,\"\")","v":""},null,{"$f":"IF(AND(BD!B3305=REF,BD!D3305>=DEB,BD!D3305<=FIN),MAX(calc!$H$1:H3304)+1,0)","v":0}]
[null,null,null,null,null,{"$f":"IF(COUNTIF(BD!$B$2:B3306,BD!B3306)=1,MAX($F$1:F3305)+1,\"\")","v":""},null,{"$f":"IF(AND(BD!B3306=REF,BD!D3306>=DEB,BD!D3306<=FIN),MAX(calc!$H$1:H3305)+1,0)","v":0}]
[null,null,null,null,null,{"$f":"IF(COUNTIF(BD!$B$2:B3307,BD!B3307)=1,MAX($F$1:F3306)+1,\"\")","v":""},null,{"$f":"IF(AND(BD!B3307=REF,BD!D3307>=DEB,BD!D3307<=FIN),MAX(calc!$H$1:H3306)+1,0)","v":0}]
[null,null,null,null,null,{"$f":"IF(COUNTIF(BD!$B$2:B3308,BD!B3308)=1,MAX($F$1:F3307)+1,\"\")","v":""},null,{"$f":"IF(AND(BD!B3308=REF,BD!D3308>=DEB,BD!D3308<=FIN),MAX(calc!$H$1:H3307)+1,0)","v":0}]
[null,null,null,null,null,{"$f":"IF(COUNTIF(BD!$B$2:B3309,BD!B3309)=1,MAX($F$1:F3308)+1,\"\")","v":""},null,{"$f":"IF(AND(BD!B3309=REF,BD!D3309>=DEB,BD!D3309<=FIN),MAX(calc!$H$1:H3308)+1,0)","v":0}]
[null,null,null,null,null,{"$f":"IF(COUNTIF(BD!$B$2:B3310,BD!B3310)=1,MAX($F$1:F3309)+1,\"\")","v":""},null,{"$f":"IF(AND(BD!B3310=REF,BD!D3310>=DEB,BD!D3310<=FIN),MAX(calc!$H$1:H3309)+1,0)","v":0}]
[null,null,null,null,null,{"$f":"IF(COUNTIF(BD!$B$2:B3311,BD!B3311)=1,MAX($F$1:F3310)+1,\"\")","v":""},null,{"$f":"IF(AND(BD!B3311=REF,BD!D3311>=DEB,BD!D3311<=FIN),MAX(calc!$H$1:H3310)+1,0)","v":0}]
[null,null,null,null,null,{"$f":"IF(COUNTIF(BD!$B$2:B3312,BD!B3312)=1,MAX($F$1:F3311)+1,\"\")","v":""},null,{"$f":"IF(AND(BD!B3312=REF,BD!D3312>=DEB,BD!D3312<=FIN),MAX(calc!$H$1:H3311)+1,0)","v":0}]
[null,null,null,null,null,{"$f":"IF(COUNTIF(BD!$B$2:B3313,BD!B3313)=1,MAX($F$1:F3312)+1,\"\")","v":""},null,{"$f":"IF(AND(BD!B3313=REF,BD!D3313>=DEB,BD!D3313<=FIN),MAX(calc!$H$1:H3312)+1,0)","v":0}]
[null,null,null,null,null,{"$f":"IF(COUNTIF(BD!$B$2:B3314,BD!B3314)=1,MAX($F$1:F3313)+1,\"\")","v":""},null,{"$f":"IF(AND(BD!B3314=REF,BD!D3314>=DEB,BD!D3314<=FIN),MAX(calc!$H$1:H3313)+1,0)","v":0}]
[null,null,null,null,null,{"$f":"IF(COUNTIF(BD!$B$2:B3315,BD!B3315)=1,MAX($F$1:F3314)+1,\"\")","v":""},null,{"$f":"IF(AND(BD!B3315=REF,BD!D3315>=DEB,BD!D3315<=FIN),MAX(calc!$H$1:H3314)+1,0)","v":0}]
[null,null,null,null,null,{"$f":"IF(COUNTIF(BD!$B$2:B3316,BD!B3316)=1,MAX($F$1:F3315)+1,\"\")","v":""},null,{"$f":"IF(AND(BD!B3316=REF,BD!D3316>=DEB,BD!D3316<=FIN),MAX(calc!$H$1:H3315)+1,0)","v":0}]
[null,null,null,null,null,{"$f":"IF(COUNTIF(BD!$B$2:B3317,BD!B3317)=1,MAX($F$1:F3316)+1,\"\")","v":""},null,{"$f":"IF(AND(BD!B3317=REF,BD!D3317>=DEB,BD!D3317<=FIN),MAX(calc!$H$1:H3316)+1,0)","v":0}]
[null,null,null,null,null,{"$f":"IF(COUNTIF(BD!$B$2:B3318,BD!B3318)=1,MAX($F$1:F3317)+1,\"\")","v":""},null,{"$f":"IF(AND(BD!B3318=REF,BD!D3318>=DEB,BD!D3318<=FIN),MAX(calc!$H$1:H3317)+1,0)","v":0}]
[null,null,null,null,null,{"$f":"IF(COUNTIF(BD!$B$2:B3319,BD!B3319)=1,MAX($F$1:F3318)+1,\"\")","v":""},null,{"$f":"IF(AND(BD!B3319=REF,BD!D3319>=DEB,BD!D3319<=FIN),MAX(calc!$H$1:H3318)+1,0)","v":0}]
[null,null,null,null,null,{"$f":"IF(COUNTIF(BD!$B$2:B3320,BD!B3320)=1,MAX($F$1:F3319)+1,\"\")","v":""},null,{"$f":"IF(AND(BD!B3320=REF,BD!D3320>=DEB,BD!D3320<=FIN),MAX(calc!$H$1:H3319)+1,0)","v":0}]
[null,null,null,null,null,{"$f":"IF(COUNTIF(BD!$B$2:B3321,BD!B3321)=1,MAX($F$1:F3320)+1,\"\")","v":""},null,{"$f":"IF(AND(BD!B3321=REF,BD!D3321>=DEB,BD!D3321<=FIN),MAX(calc!$H$1:H3320)+1,0)","v":0}]
[null,null,null,null,null,{"$f":"IF(COUNTIF(BD!$B$2:B3322,BD!B3322)=1,MAX($F$1:F3321)+1,\"\")","v":""},null,{"$f":"IF(AND(BD!B3322=REF,BD!D3322>=DEB,BD!D3322<=FIN),MAX(calc!$H$1:H3321)+1,0)","v":0}]
[null,null,null,null,null,{"$f":"IF(COUNTIF(BD!$B$2:B3323,BD!B3323)=1,MAX($F$1:F3322)+1,\"\")","v":""},null,{"$f":"IF(AND(BD!B3323=REF,BD!D3323>=DEB,BD!D3323<=FIN),MAX(calc!$H$1:H3322)+1,0)","v":0}]
[null,null,null,null,null,{"$f":"IF(COUNTIF(BD!$B$2:B3324,BD!B3324)=1,MAX($F$1:F3323)+1,\"\")","v":""},null,{"$f":"IF(AND(BD!B3324=REF,BD!D3324>=DEB,BD!D3324<=FIN),MAX(calc!$H$1:H3323)+1,0)","v":0}]
[null,null,null,null,null,{"$f":"IF(COUNTIF(BD!$B$2:B3325,BD!B3325)=1,MAX($F$1:F3324)+1,\"\")","v":""},null,{"$f":"IF(AND(BD!B3325=REF,BD!D3325>=DEB,BD!D3325<=FIN),MAX(calc!$H$1:H3324)+1,0)","v":0}]
[null,null,null,null,null,{"$f":"IF(COUNTIF(BD!$B$2:B3326,BD!B3326)=1,MAX($F$1:F3325)+1,\"\")","v":""},null,{"$f":"IF(AND(BD!B3326=REF,BD!D3326>=DEB,BD!D3326<=FIN),MAX(calc!$H$1:H3325)+1,0)","v":0}]
[null,null,null,null,null,{"$f":"IF(COUNTIF(BD!$B$2:B3327,BD!B3327)=1,MAX($F$1:F3326)+1,\"\")","v":""},null,{"$f":"IF(AND(BD!B3327=REF,BD!D3327>=DEB,BD!D3327<=FIN),MAX(calc!$H$1:H3326)+1,0)","v":0}]
[null,null,null,null,null,{"$f":"IF(COUNTIF(BD!$B$2:B3328,BD!B3328)=1,MAX($F$1:F3327)+1,\"\")","v":""},null,{"$f":"IF(AND(BD!B3328=REF,BD!D3328>=DEB,BD!D3328<=FIN),MAX(calc!$H$1:H3327)+1,0)","v":0}]
[null,null,null,null,null,{"$f":"IF(COUNTIF(BD!$B$2:B3329,BD!B3329)=1,MAX($F$1:F3328)+1,\"\")","v":""},null,{"$f":"IF(AND(BD!B3329=REF,BD!D3329>=DEB,BD!D3329<=FIN),MAX(calc!$H$1:H3328)+1,0)","v":0}]
[null,null,null,null,null,{"$f":"IF(COUNTIF(BD!$B$2:B3330,BD!B3330)=1,MAX($F$1:F3329)+1,\"\")","v":""},null,{"$f":"IF(AND(BD!B3330=REF,BD!D3330>=DEB,BD!D3330<=FIN),MAX(calc!$H$1:H3329)+1,0)","v":0}]
[null,null,null,null,null,{"$f":"IF(COUNTIF(BD!$B$2:B3331,BD!B3331)=1,MAX($F$1:F3330)+1,\"\")","v":""},null,{"$f":"IF(AND(BD!B3331=REF,BD!D3331>=DEB,BD!D3331<=FIN),MAX(calc!$H$1:H3330)+1,0)","v":0}]
[null,null,null,null,null,{"$f":"IF(COUNTIF(BD!$B$2:B3332,BD!B3332)=1,MAX($F$1:F3331)+1,\"\")","v":""},null,{"$f":"IF(AND(BD!B3332=REF,BD!D3332>=DEB,BD!D3332<=FIN),MAX(calc!$H$1:H3331)+1,0)","v":0}]
[null,null,null,null,null,{"$f":"IF(COUNTIF(BD!$B$2:B3333,BD!B3333)=1,MAX($F$1:F3332)+1,\"\")","v":""},null,{"$f":"IF(AND(BD!B3333=REF,BD!D3333>=DEB,BD!D3333<=FIN),MAX(calc!$H$1:H3332)+1,0)","v":0}]
[null,null,null,null,null,{"$f":"IF(COUNTIF(BD!$B$2:B3334,BD!B3334)=1,MAX($F$1:F3333)+1,\"\")","v":""},null,{"$f":"IF(AND(BD!B3334=REF,BD!D3334>=DEB,BD!D3334<=FIN),MAX(calc!$H$1:H3333)+1,0)","v":0}]
[null,null,null,null,null,{"$f":"IF(COUNTIF(BD!$B$2:B3335,BD!B3335)=1,MAX($F$1:F3334)+1,\"\")","v":""},null,{"$f":"IF(AND(BD!B3335=REF,BD!D3335>=DEB,BD!D3335<=FIN),MAX(calc!$H$1:H3334)+1,0)","v":0}]
[null,null,null,null,null,{"$f":"IF(COUNTIF(BD!$B$2:B3336,BD!B3336)=1,MAX($F$1:F3335)+1,\"\")","v":""},null,{"$f":"IF(AND(BD!B3336=REF,BD!D3336>=DEB,BD!D3336<=FIN),MAX(calc!$H$1:H3335)+1,0)","v":0}]
[null,null,null,null,null,{"$f":"IF(COUNTIF(BD!$B$2:B3337,BD!B3337)=1,MAX($F$1:F3336)+1,\"\")","v":""},null,{"$f":"IF(AND(BD!B3337=REF,BD!D3337>=DEB,BD!D3337<=FIN),MAX(calc!$H$1:H3336)+1,0)","v":0}]
[null,null,null,null,null,{"$f":"IF(COUNTIF(BD!$B$2:B3338,BD!B3338)=1,MAX($F$1:F3337)+1,\"\")","v":""},null,{"$f":"IF(AND(BD!B3338=REF,BD!D3338>=DEB,BD!D3338<=FIN),MAX(calc!$H$1:H3337)+1,0)","v":0}]
[null,null,null,null,null,{"$f":"IF(COUNTIF(BD!$B$2:B3339,BD!B3339)=1,MAX($F$1:F3338)+1,\"\")","v":""},null,{"$f":"IF(AND(BD!B3339=REF,BD!D3339>=DEB,BD!D3339<=FIN),MAX(calc!$H$1:H3338)+1,0)","v":0}]
[null,null,null,null,null,{"$f":"IF(COUNTIF(BD!$B$2:B3340,BD!B3340)=1,MAX($F$1:F3339)+1,\"\")","v":""},null,{"$f":"IF(AND(BD!B3340=REF,BD!D3340>=DEB,BD!D3340<=FIN),MAX(calc!$H$1:H3339)+1,0)","v":0}]
[null,null,null,null,null,{"$f":"IF(COUNTIF(BD!$B$2:B3341,BD!B3341)=1,MAX($F$1:F3340)+1,\"\")","v":""},null,{"$f":"IF(AND(BD!B3341=REF,BD!D3341>=DEB,BD!D3341<=FIN),MAX(calc!$H$1:H3340)+1,0)","v":0}]
[null,null,null,null,null,{"$f":"IF(COUNTIF(BD!$B$2:B3342,BD!B3342)=1,MAX($F$1:F3341)+1,\"\")","v":""},null,{"$f":"IF(AND(BD!B3342=REF,BD!D3342>=DEB,BD!D3342<=FIN),MAX(calc!$H$1:H3341)+1,0)","v":0}]
[null,null,null,null,null,{"$f":"IF(COUNTIF(BD!$B$2:B3343,BD!B3343)=1,MAX($F$1:F3342)+1,\"\")","v":""},null,{"$f":"IF(AND(BD!B3343=REF,BD!D3343>=DEB,BD!D3343<=FIN),MAX(calc!$H$1:H3342)+1,0)","v":0}]
[null,null,null,null,null,{"$f":"IF(COUNTIF(BD!$B$2:B3344,BD!B3344)=1,MAX($F$1:F3343)+1,\"\")","v":""},null,{"$f":"IF(AND(BD!B3344=REF,BD!D3344>=DEB,BD!D3344<=FIN),MAX(calc!$H$1:H3343)+1,0)","v":0}]
[null,null,null,null,null,{"$f":"IF(COUNTIF(BD!$B$2:B3345,BD!B3345)=1,MAX($F$1:F3344)+1,\"\")","v":""},null,{"$f":"IF(AND(BD!B3345=REF,BD!D3345>=DEB,BD!D3345<=FIN),MAX(calc!$H$1:H3344)+1,0)","v":0}]
[null,null,null,null,null,{"$f":"IF(COUNTIF(BD!$B$2:B3346,BD!B3346)=1,MAX($F$1:F3345)+1,\"\")","v":""},null,{"$f":"IF(AND(BD!B3346=REF,BD!D3346>=DEB,BD!D3346<=FIN),MAX(calc!$H$1:H3345)+1,0)","v":0}]
[null,null,null,null,null,{"$f":"IF(COUNTIF(BD!$B$2:B3347,BD!B3347)=1,MAX($F$1:F3346)+1,\"\")","v":""},null,{"$f":"IF(AND(BD!B3347=REF,BD!D3347>=DEB,BD!D3347<=FIN),MAX(calc!$H$1:H3346)+1,0)","v":0}]
[null,null,null,null,null,{"$f":"IF(COUNTIF(BD!$B$2:B3348,BD!B3348)=1,MAX($F$1:F3347)+1,\"\")","v":""},null,{"$f":"IF(AND(BD!B3348=REF,BD!D3348>=DEB,BD!D3348<=FIN),MAX(calc!$H$1:H3347)+1,0)","v":0}]
[null,null,null,null,null,{"$f":"IF(COUNTIF(BD!$B$2:B3349,BD!B3349)=1,MAX($F$1:F3348)+1,\"\")","v":""},null,{"$f":"IF(AND(BD!B3349=REF,BD!D3349>=DEB,BD!D3349<=FIN),MAX(calc!$H$1:H3348)+1,0)","v":0}]
[null,null,null,null,null,{"$f":"IF(COUNTIF(BD!$B$2:B3350,BD!B3350)=1,MAX($F$1:F3349)+1,\"\")","v":""},null,{"$f":"IF(AND(BD!B3350=REF,BD!D3350>=DEB,BD!D3350<=FIN),MAX(calc!$H$1:H3349)+1,0)","v":0}]
[null,null,null,null,null,{"$f":"IF(COUNTIF(BD!$B$2:B3351,BD!B3351)=1,MAX($F$1:F3350)+1,\"\")","v":""},null,{"$f":"IF(AND(BD!B3351=REF,BD!D3351>=DEB,BD!D3351<=FIN),MAX(calc!$H$1:H3350)+1,0)","v":0}]
[null,null,null,null,null,{"$f":"IF(COUNTIF(BD!$B$2:B3352,BD!B3352)=1,MAX($F$1:F3351)+1,\"\")","v":""},null,{"$f":"IF(AND(BD!B3352=REF,BD!D3352>=DEB,BD!D3352<=FIN),MAX(calc!$H$1:H3351)+1,0)","v":0}]
[null,null,null,null,null,{"$f":"IF(COUNTIF(BD!$B$2:B3353,BD!B3353)=1,MAX($F$1:F3352)+1,\"\")","v":""},null,{"$f":"IF(AND(BD!B3353=REF,BD!D3353>=DEB,BD!D3353<=FIN),MAX(calc!$H$1:H3352)+1,0)","v":0}]
[null,null,null,null,null,{"$f":"IF(COUNTIF(BD!$B$2:B3354,BD!B3354)=1,MAX($F$1:F3353)+1,\"\")","v":""},null,{"$f":"IF(AND(BD!B3354=REF,BD!D3354>=DEB,BD!D3354<=FIN),MAX(calc!$H$1:H3353)+1,0)","v":0}]
[null,null,null,null,null,{"$f":"IF(COUNTIF(BD!$B$2:B3355,BD!B3355)=1,MAX($F$1:F3354)+1,\"\")","v":""},null,{"$f":"IF(AND(BD!B3355=REF,BD!D3355>=DEB,BD!D3355<=FIN),MAX(calc!$H$1:H3354)+1,0)","v":0}]
[null,null,null,null,null,{"$f":"IF(COUNTIF(BD!$B$2:B3356,BD!B3356)=1,MAX($F$1:F3355)+1,\"\")","v":""},null,{"$f":"IF(AND(BD!B3356=REF,BD!D3356>=DEB,BD!D3356<=FIN),MAX(calc!$H$1:H3355)+1,0)","v":0}]
[null,null,null,null,null,{"$f":"IF(COUNTIF(BD!$B$2:B3357,BD!B3357)=1,MAX($F$1:F3356)+1,\"\")","v":""},null,{"$f":"IF(AND(BD!B3357=REF,BD!D3357>=DEB,BD!D3357<=FIN),MAX(calc!$H$1:H3356)+1,0)","v":0}]
[null,null,null,null,null,{"$f":"IF(COUNTIF(BD!$B$2:B3358,BD!B3358)=1,MAX($F$1:F3357)+1,\"\")","v":""},null,{"$f":"IF(AND(BD!B3358=REF,BD!D3358>=DEB,BD!D3358<=FIN),MAX(calc!$H$1:H3357)+1,0)","v":0}]
[null,null,null,null,null,{"$f":"IF(COUNTIF(BD!$B$2:B3359,BD!B3359)=1,MAX($F$1:F3358)+1,\"\")","v":""},null,{"$f":"IF(AND(BD!B3359=REF,BD!D3359>=DEB,BD!D3359<=FIN),MAX(calc!$H$1:H3358)+1,0)","v":0}]
[null,null,null,null,null,{"$f":"IF(COUNTIF(BD!$B$2:B3360,BD!B3360)=1,MAX($F$1:F3359)+1,\"\")","v":""},null,{"$f":"IF(AND(BD!B3360=REF,BD!D3360>=DEB,BD!D3360<=FIN),MAX(calc!$H$1:H3359)+1,0)","v":0}]
[null,null,null,null,null,{"$f":"IF(COUNTIF(BD!$B$2:B3361,BD!B3361)=1,MAX($F$1:F3360)+1,\"\")","v":""},null,{"$f":"IF(AND(BD!B3361=REF,BD!D3361>=DEB,BD!D3361<=FIN),MAX(calc!$H$1:H3360)+1,0)","v":0}]
[null,null,null,null,null,{"$f":"IF(COUNTIF(BD!$B$2:B3362,BD!B3362)=1,MAX($F$1:F3361)+1,\"\")","v":""},null,{"$f":"IF(AND(BD!B3362=REF,BD!D3362>=DEB,BD!D3362<=FIN),MAX(calc!$H$1:H3361)+1,0)","v":0}]
[null,null,null,null,null,{"$f":"IF(COUNTIF(BD!$B$2:B3363,BD!B3363)=1,MAX($F$1:F3362)+1,\"\")","v":""},null,{"$f":"IF(AND(BD!B3363=REF,BD!D3363>=DEB,BD!D3363<=FIN),MAX(calc!$H$1:H3362)+1,0)","v":0}]
[null,null,null,null,null,{"$f":"IF(COUNTIF(BD!$B$2:B3364,BD!B3364)=1,MAX($F$1:F3363)+1,\"\")","v":""},null,{"$f":"IF(AND(BD!B3364=REF,BD!D3364>=DEB,BD!D3364<=FIN),MAX(calc!$H$1:H3363)+1,0)","v":0}]
[null,null,null,null,null,{"$f":"IF(COUNTIF(BD!$B$2:B3365,BD!B3365)=1,MAX($F$1:F3364)+1,\"\")","v":""},null,{"$f":"IF(AND(BD!B3365=REF,BD!D3365>=DEB,BD!D3365<=FIN),MAX(calc!$H$1:H3364)+1,0)","v":0}]
[null,null,null,null,null,{"$f":"IF(COUNTIF(BD!$B$2:B3366,BD!B3366)=1,MAX($F$1:F3365)+1,\"\")","v":""},null,{"$f":"IF(AND(BD!B3366=REF,BD!D3366>=DEB,BD!D3366<=FIN),MAX(calc!$H$1:H3365)+1,0)","v":0}]
[null,null,null,null,null,{"$f":"IF(COUNTIF(BD!$B$2:B3367,BD!B3367)=1,MAX($F$1:F3366)+1,\"\")","v":""},null,{"$f":"IF(AND(BD!B3367=REF,BD!D3367>=DEB,BD!D3367<=FIN),MAX(calc!$H$1:H3366)+1,0)","v":0}]
[null,null,null,null,null,{"$f":"IF(COUNTIF(BD!$B$2:B3368,BD!B3368)=1,MAX($F$1:F3367)+1,\"\")","v":""},null,{"$f":"IF(AND(BD!B3368=REF,BD!D3368>=DEB,BD!D3368<=FIN),MAX(calc!$H$1:H3367)+1,0)","v":0}]
[null,null,null,null,null,{"$f":"IF(COUNTIF(BD!$B$2:B3369,BD!B3369)=1,MAX($F$1:F3368)+1,\"\")","v":""},null,{"$f":"IF(AND(BD!B3369=REF,BD!D3369>=DEB,BD!D3369<=FIN),MAX(calc!$H$1:H3368)+1,0)","v":0}]
[null,null,null,null,null,{"$f":"IF(COUNTIF(BD!$B$2:B3370,BD!B3370)=1,MAX($F$1:F3369)+1,\"\")","v":""},null,{"$f":"IF(AND(BD!B3370=REF,BD!D3370>=DEB,BD!D3370<=FIN),MAX(calc!$H$1:H3369)+1,0)","v":0}]
[null,null,null,null,null,{"$f":"IF(COUNTIF(BD!$B$2:B3371,BD!B3371)=1,MAX($F$1:F3370)+1,\"\")","v":""},null,{"$f":"IF(AND(BD!B3371=REF,BD!D3371>=DEB,BD!D3371<=FIN),MAX(calc!$H$1:H3370)+1,0)","v":0}]
[null,null,null,null,null,{"$f":"IF(COUNTIF(BD!$B$2:B3372,BD!B3372)=1,MAX($F$1:F3371)+1,\"\")","v":""},null,{"$f":"IF(AND(BD!B3372=REF,BD!D3372>=DEB,BD!D3372<=FIN),MAX(calc!$H$1:H3371)+1,0)","v":0}]
[null,null,null,null,null,{"$f":"IF(COUNTIF(BD!$B$2:B3373,BD!B3373)=1,MAX($F$1:F3372)+1,\"\")","v":""},null,{"$f":"IF(AND(BD!B3373=REF,BD!D3373>=DEB,BD!D3373<=FIN),MAX(calc!$H$1:H3372)+1,0)","v":0}]
[null,null,null,null,null,{"$f":"IF(COUNTIF(BD!$B$2:B3374,BD!B3374)=1,MAX($F$1:F3373)+1,\"\")","v":""},null,{"$f":"IF(AND(BD!B3374=REF,BD!D3374>=DEB,BD!D3374<=FIN),MAX(calc!$H$1:H3373)+1,0)","v":0}]
[null,null,null,null,null,{"$f":"IF(COUNTIF(BD!$B$2:B3375,BD!B3375)=1,MAX($F$1:F3374)+1,\"\")","v":""},null,{"$f":"IF(AND(BD!B3375=REF,BD!D3375>=DEB,BD!D3375<=FIN),MAX(calc!$H$1:H3374)+1,0)","v":0}]
[null,null,null,null,null,{"$f":"IF(COUNTIF(BD!$B$2:B3376,BD!B3376)=1,MAX($F$1:F3375)+1,\"\")","v":""},null,{"$f":"IF(AND(BD!B3376=REF,BD!D3376>=DEB,BD!D3376<=FIN),MAX(calc!$H$1:H3375)+1,0)","v":0}]
[null,null,null,null,null,{"$f":"IF(COUNTIF(BD!$B$2:B3377,BD!B3377)=1,MAX($F$1:F3376)+1,\"\")","v":""},null,{"$f":"IF(AND(BD!B3377=REF,BD!D3377>=DEB,BD!D3377<=FIN),MAX(calc!$H$1:H3376)+1,0)","v":0}]
[null,null,null,null,null,{"$f":"IF(COUNTIF(BD!$B$2:B3378,BD!B3378)=1,MAX($F$1:F3377)+1,\"\")","v":""},null,{"$f":"IF(AND(BD!B3378=REF,BD!D3378>=DEB,BD!D3378<=FIN),MAX(calc!$H$1:H3377)+1,0)","v":0}]
[null,null,null,null,null,{"$f":"IF(COUNTIF(BD!$B$2:B3379,BD!B3379)=1,MAX($F$1:F3378)+1,\"\")","v":""},null,{"$f":"IF(AND(BD!B3379=REF,BD!D3379>=DEB,BD!D3379<=FIN),MAX(calc!$H$1:H3378)+1,0)","v":0}]
[null,null,null,null,null,{"$f":"IF(COUNTIF(BD!$B$2:B3380,BD!B3380)=1,MAX($F$1:F3379)+1,\"\")","v":""},null,{"$f":"IF(AND(BD!B3380=REF,BD!D3380>=DEB,BD!D3380<=FIN),MAX(calc!$H$1:H3379)+1,0)","v":0}]
[null,null,null,null,null,{"$f":"IF(COUNTIF(BD!$B$2:B3381,BD!B3381)=1,MAX($F$1:F3380)+1,\"\")","v":""},null,{"$f":"IF(AND(BD!B3381=REF,BD!D3381>=DEB,BD!D3381<=FIN),MAX(calc!$H$1:H3380)+1,0)","v":0}]
[null,null,null,null,null,{"$f":"IF(COUNTIF(BD!$B$2:B3382,BD!B3382)=1,MAX($F$1:F3381)+1,\"\")","v":""},null,{"$f":"IF(AND(BD!B3382=REF,BD!D3382>=DEB,BD!D3382<=FIN),MAX(calc!$H$1:H3381)+1,0)","v":0}]
[null,null,null,null,null,{"$f":"IF(COUNTIF(BD!$B$2:B3383,BD!B3383)=1,MAX($F$1:F3382)+1,\"\")","v":""},null,{"$f":"IF(AND(BD!B3383=REF,BD!D3383>=DEB,BD!D3383<=FIN),MAX(calc!$H$1:H3382)+1,0)","v":0}]
[null,null,null,null,null,{"$f":"IF(COUNTIF(BD!$B$2:B3384,BD!B3384)=1,MAX($F$1:F3383)+1,\"\")","v":""},null,{"$f":"IF(AND(BD!B3384=REF,BD!D3384>=DEB,BD!D3384<=FIN),MAX(calc!$H$1:H3383)+1,0)","v":0}]
[null,null,null,null,null,{"$f":"IF(COUNTIF(BD!$B$2:B3385,BD!B3385)=1,MAX($F$1:F3384)+1,\"\")","v":""},null,{"$f":"IF(AND(BD!B3385=REF,BD!D3385>=DEB,BD!D3385<=FIN),MAX(calc!$H$1:H3384)+1,0)","v":0}]
[null,null,null,null,null,{"$f":"IF(COUNTIF(BD!$B$2:B3386,BD!B3386)=1,MAX($F$1:F3385)+1,\"\")","v":""},null,{"$f":"IF(AND(BD!B3386=REF,BD!D3386>=DEB,BD!D3386<=FIN),MAX(calc!$H$1:H3385)+1,0)","v":0}]
[null,null,null,null,null,{"$f":"IF(COUNTIF(BD!$B$2:B3387,BD!B3387)=1,MAX($F$1:F3386)+1,\"\")","v":""},null,{"$f":"IF(AND(BD!B3387=REF,BD!D3387>=DEB,BD!D3387<=FIN),MAX(calc!$H$1:H3386)+1,0)","v":0}]
[null,null,null,null,null,{"$f":"IF(COUNTIF(BD!$B$2:B3388,BD!B3388)=1,MAX($F$1:F3387)+1,\"\")","v":""},null,{"$f":"IF(AND(BD!B3388=REF,BD!D3388>=DEB,BD!D3388<=FIN),MAX(calc!$H$1:H3387)+1,0)","v":0}]
[null,null,null,null,null,{"$f":"IF(COUNTIF(BD!$B$2:B3389,BD!B3389)=1,MAX($F$1:F3388)+1,\"\")","v":""},null,{"$f":"IF(AND(BD!B3389=REF,BD!D3389>=DEB,BD!D3389<=FIN),MAX(calc!$H$1:H3388)+1,0)","v":0}]
[null,null,null,null,null,{"$f":"IF(COUNTIF(BD!$B$2:B3390,BD!B3390)=1,MAX($F$1:F3389)+1,\"\")","v":""},null,{"$f":"IF(AND(BD!B3390=REF,BD!D3390>=DEB,BD!D3390<=FIN),MAX(calc!$H$1:H3389)+1,0)","v":0}]
[null,null,null,null,null,{"$f":"IF(COUNTIF(BD!$B$2:B3391,BD!B3391)=1,MAX($F$1:F3390)+1,\"\")","v":""},null,{"$f":"IF(AND(BD!B3391=REF,BD!D3391>=DEB,BD!D3391<=FIN),MAX(calc!$H$1:H3390)+1,0)","v":0}]
[null,null,null,null,null,{"$f":"IF(COUNTIF(BD!$B$2:B3392,BD!B3392)=1,MAX($F$1:F3391)+1,\"\")","v":""},null,{"$f":"IF(AND(BD!B3392=REF,BD!D3392>=DEB,BD!D3392<=FIN),MAX(calc!$H$1:H3391)+1,0)","v":0}]
[null,null,null,null,null,{"$f":"IF(COUNTIF(BD!$B$2:B3393,BD!B3393)=1,MAX($F$1:F3392)+1,\"\")","v":""},null,{"$f":"IF(AND(BD!B3393=REF,BD!D3393>=DEB,BD!D3393<=FIN),MAX(calc!$H$1:H3392)+1,0)","v":0}]
[null,null,null,null,null,{"$f":"IF(COUNTIF(BD!$B$2:B3394,BD!B3394)=1,MAX($F$1:F3393)+1,\"\")","v":""},null,{"$f":"IF(AND(BD!B3394=REF,BD!D3394>=DEB,BD!D3394<=FIN),MAX(calc!$H$1:H3393)+1,0)","v":0}]
[null,null,null,null,null,{"$f":"IF(COUNTIF(BD!$B$2:B3395,BD!B3395)=1,MAX($F$1:F3394)+1,\"\")","v":""},null,{"$f":"IF(AND(BD!B3395=REF,BD!D3395>=DEB,BD!D3395<=FIN),MAX(calc!$H$1:H3394)+1,0)","v":0}]
[null,null,null,null,null,{"$f":"IF(COUNTIF(BD!$B$2:B3396,BD!B3396)=1,MAX($F$1:F3395)+1,\"\")","v":""},null,{"$f":"IF(AND(BD!B3396=REF,BD!D3396>=DEB,BD!D3396<=FIN),MAX(calc!$H$1:H3395)+1,0)","v":0}]
[null,null,null,null,null,{"$f":"IF(COUNTIF(BD!$B$2:B3397,BD!B3397)=1,MAX($F$1:F3396)+1,\"\")","v":""},null,{"$f":"IF(AND(BD!B3397=REF,BD!D3397>=DEB,BD!D3397<=FIN),MAX(calc!$H$1:H3396)+1,0)","v":0}]
[null,null,null,null,null,{"$f":"IF(COUNTIF(BD!$B$2:B3398,BD!B3398)=1,MAX($F$1:F3397)+1,\"\")","v":""},null,{"$f":"IF(AND(BD!B3398=REF,BD!D3398>=DEB,BD!D3398<=FIN),MAX(calc!$H$1:H3397)+1,0)","v":0}]
[null,null,null,null,null,{"$f":"IF(COUNTIF(BD!$B$2:B3399,BD!B3399)=1,MAX($F$1:F3398)+1,\"\")","v":""},null,{"$f":"IF(AND(BD!B3399=REF,BD!D3399>=DEB,BD!D3399<=FIN),MAX(calc!$H$1:H3398)+1,0)","v":0}]
[null,null,null,null,null,{"$f":"IF(COUNTIF(BD!$B$2:B3400,BD!B3400)=1,MAX($F$1:F3399)+1,\"\")","v":""},null,{"$f":"IF(AND(BD!B3400=REF,BD!D3400>=DEB,BD!D3400<=FIN),MAX(calc!$H$1:H3399)+1,0)","v":0}]
[null,null,null,null,null,{"$f":"IF(COUNTIF(BD!$B$2:B3401,BD!B3401)=1,MAX($F$1:F3400)+1,\"\")","v":""},null,{"$f":"IF(AND(BD!B3401=REF,BD!D3401>=DEB,BD!D3401<=FIN),MAX(calc!$H$1:H3400)+1,0)","v":0}]
[null,null,null,null,null,{"$f":"IF(COUNTIF(BD!$B$2:B3402,BD!B3402)=1,MAX($F$1:F3401)+1,\"\")","v":""},null,{"$f":"IF(AND(BD!B3402=REF,BD!D3402>=DEB,BD!D3402<=FIN),MAX(calc!$H$1:H3401)+1,0)","v":0}]
[null,null,null,null,null,{"$f":"IF(COUNTIF(BD!$B$2:B3403,BD!B3403)=1,MAX($F$1:F3402)+1,\"\")","v":""},null,{"$f":"IF(AND(BD!B3403=REF,BD!D3403>=DEB,BD!D3403<=FIN),MAX(calc!$H$1:H3402)+1,0)","v":0}]
[null,null,null,null,null,{"$f":"IF(COUNTIF(BD!$B$2:B3404,BD!B3404)=1,MAX($F$1:F3403)+1,\"\")","v":""},null,{"$f":"IF(AND(BD!B3404=REF,BD!D3404>=DEB,BD!D3404<=FIN),MAX(calc!$H$1:H3403)+1,0)","v":0}]
[null,null,null,null,null,{"$f":"IF(COUNTIF(BD!$B$2:B3405,BD!B3405)=1,MAX($F$1:F3404)+1,\"\")","v":""},null,{"$f":"IF(AND(BD!B3405=REF,BD!D3405>=DEB,BD!D3405<=FIN),MAX(calc!$H$1:H3404)+1,0)","v":0}]
[null,null,null,null,null,{"$f":"IF(COUNTIF(BD!$B$2:B3406,BD!B3406)=1,MAX($F$1:F3405)+1,\"\")","v":""},null,{"$f":"IF(AND(BD!B3406=REF,BD!D3406>=DEB,BD!D3406<=FIN),MAX(calc!$H$1:H3405)+1,0)","v":0}]
[null,null,null,null,null,{"$f":"IF(COUNTIF(BD!$B$2:B3407,BD!B3407)=1,MAX($F$1:F3406)+1,\"\")","v":""},null,{"$f":"IF(AND(BD!B3407=REF,BD!D3407>=DEB,BD!D3407<=FIN),MAX(calc!$H$1:H3406)+1,0)","v":0}]
[null,null,null,null,null,{"$f":"IF(COUNTIF(BD!$B$2:B3408,BD!B3408)=1,MAX($F$1:F3407)+1,\"\")","v":""},null,{"$f":"IF(AND(BD!B3408=REF,BD!D3408>=DEB,BD!D3408<=FIN),MAX(calc!$H$1:H3407)+1,0)","v":0}]
[null,null,null,null,null,{"$f":"IF(COUNTIF(BD!$B$2:B3409,BD!B3409)=1,MAX($F$1:F3408)+1,\"\")","v":""},null,{"$f":"IF(AND(BD!B3409=REF,BD!D3409>=DEB,BD!D3409<=FIN),MAX(calc!$H$1:H3408)+1,0)","v":0}]
[null,null,null,null,null,{"$f":"IF(COUNTIF(BD!$B$2:B3410,BD!B3410)=1,MAX($F$1:F3409)+1,\"\")","v":""},null,{"$f":"IF(AND(BD!B3410=REF,BD!D3410>=DEB,BD!D3410<=FIN),MAX(calc!$H$1:H3409)+1,0)","v":0}]
[null,null,null,null,null,{"$f":"IF(COUNTIF(BD!$B$2:B3411,BD!B3411)=1,MAX($F$1:F3410)+1,\"\")","v":""},null,{"$f":"IF(AND(BD!B3411=REF,BD!D3411>=DEB,BD!D3411<=FIN),MAX(calc!$H$1:H3410)+1,0)","v":0}]
[null,null,null,null,null,{"$f":"IF(COUNTIF(BD!$B$2:B3412,BD!B3412)=1,MAX($F$1:F3411)+1,\"\")","v":""},null,{"$f":"IF(AND(BD!B3412=REF,BD!D3412>=DEB,BD!D3412<=FIN),MAX(calc!$H$1:H3411)+1,0)","v":0}]
[null,null,null,null,null,{"$f":"IF(COUNTIF(BD!$B$2:B3413,BD!B3413)=1,MAX($F$1:F3412)+1,\"\")","v":""},null,{"$f":"IF(AND(BD!B3413=REF,BD!D3413>=DEB,BD!D3413<=FIN),MAX(calc!$H$1:H3412)+1,0)","v":0}]
[null,null,null,null,null,{"$f":"IF(COUNTIF(BD!$B$2:B3414,BD!B3414)=1,MAX($F$1:F3413)+1,\"\")","v":""},null,{"$f":"IF(AND(BD!B3414=REF,BD!D3414>=DEB,BD!D3414<=FIN),MAX(calc!$H$1:H3413)+1,0)","v":0}]
[null,null,null,null,null,{"$f":"IF(COUNTIF(BD!$B$2:B3415,BD!B3415)=1,MAX($F$1:F3414)+1,\"\")","v":""},null,{"$f":"IF(AND(BD!B3415=REF,BD!D3415>=DEB,BD!D3415<=FIN),MAX(calc!$H$1:H3414)+1,0)","v":0}]
[null,null,null,null,null,{"$f":"IF(COUNTIF(BD!$B$2:B3416,BD!B3416)=1,MAX($F$1:F3415)+1,\"\")","v":""},null,{"$f":"IF(AND(BD!B3416=REF,BD!D3416>=DEB,BD!D3416<=FIN),MAX(calc!$H$1:H3415)+1,0)","v":0}]
[null,null,null,null,null,{"$f":"IF(COUNTIF(BD!$B$2:B3417,BD!B3417)=1,MAX($F$1:F3416)+1,\"\")","v":""},null,{"$f":"IF(AND(BD!B3417=REF,BD!D3417>=DEB,BD!D3417<=FIN),MAX(calc!$H$1:H3416)+1,0)","v":0}]
[null,null,null,null,null,{"$f":"IF(COUNTIF(BD!$B$2:B3418,BD!B3418)=1,MAX($F$1:F3417)+1,\"\")","v":""},null,{"$f":"IF(AND(BD!B3418=REF,BD!D3418>=DEB,BD!D3418<=FIN),MAX(calc!$H$1:H3417)+1,0)","v":0}]
[null,null,null,null,null,{"$f":"IF(COUNTIF(BD!$B$2:B3419,BD!B3419)=1,MAX($F$1:F3418)+1,\"\")","v":""},null,{"$f":"IF(AND(BD!B3419=REF,BD!D3419>=DEB,BD!D3419<=FIN),MAX(calc!$H$1:H3418)+1,0)","v":0}]
[null,null,null,null,null,{"$f":"IF(COUNTIF(BD!$B$2:B3420,BD!B3420)=1,MAX($F$1:F3419)+1,\"\")","v":""},null,{"$f":"IF(AND(BD!B3420=REF,BD!D3420>=DEB,BD!D3420<=FIN),MAX(calc!$H$1:H3419)+1,0)","v":0}]
[null,null,null,null,null,{"$f":"IF(COUNTIF(BD!$B$2:B3421,BD!B3421)=1,MAX($F$1:F3420)+1,\"\")","v":""},null,{"$f":"IF(AND(BD!B3421=REF,BD!D3421>=DEB,BD!D3421<=FIN),MAX(calc!$H$1:H3420)+1,0)","v":0}]
[null,null,null,null,null,{"$f":"IF(COUNTIF(BD!$B$2:B3422,BD!B3422)=1,MAX($F$1:F3421)+1,\"\")","v":""},null,{"$f":"IF(AND(BD!B3422=REF,BD!D3422>=DEB,BD!D3422<=FIN),MAX(calc!$H$1:H3421)+1,0)","v":0}]
[null,null,null,null,null,{"$f":"IF(COUNTIF(BD!$B$2:B3423,BD!B3423)=1,MAX($F$1:F3422)+1,\"\")","v":""},null,{"$f":"IF(AND(BD!B3423=REF,BD!D3423>=DEB,BD!D3423<=FIN),MAX(calc!$H$1:H3422)+1,0)","v":0}]
[null,null,null,null,null,{"$f":"IF(COUNTIF(BD!$B$2:B3424,BD!B3424)=1,MAX($F$1:F3423)+1,\"\")","v":""},null,{"$f":"IF(AND(BD!B3424=REF,BD!D3424>=DEB,BD!D3424<=FIN),MAX(calc!$H$1:H3423)+1,0)","v":0}]
[null,null,null,null,null,{"$f":"IF(COUNTIF(BD!$B$2:B3425,BD!B3425)=1,MAX($F$1:F3424)+1,\"\")","v":""},null,{"$f":"IF(AND(BD!B3425=REF,BD!D3425>=DEB,BD!D3425<=FIN),MAX(calc!$H$1:H3424)+1,0)","v":0}]
[null,null,null,null,null,{"$f":"IF(COUNTIF(BD!$B$2:B3426,BD!B3426)=1,MAX($F$1:F3425)+1,\"\")","v":""},null,{"$f":"IF(AND(BD!B3426=REF,BD!D3426>=DEB,BD!D3426<=FIN),MAX(calc!$H$1:H3425)+1,0)","v":0}]
[null,null,null,null,null,{"$f":"IF(COUNTIF(BD!$B$2:B3427,BD!B3427)=1,MAX($F$1:F3426)+1,\"\")","v":""},null,{"$f":"IF(AND(BD!B3427=REF,BD!D3427>=DEB,BD!D3427<=FIN),MAX(calc!$H$1:H3426)+1,0)","v":0}]
[null,null,null,null,null,{"$f":"IF(COUNTIF(BD!$B$2:B3428,BD!B3428)=1,MAX($F$1:F3427)+1,\"\")","v":""},null,{"$f":"IF(AND(BD!B3428=REF,BD!D3428>=DEB,BD!D3428<=FIN),MAX(calc!$H$1:H3427)+1,0)","v":0}]
[null,null,null,null,null,{"$f":"IF(COUNTIF(BD!$B$2:B3429,BD!B3429)=1,MAX($F$1:F3428)+1,\"\")","v":""},null,{"$f":"IF(AND(BD!B3429=REF,BD!D3429>=DEB,BD!D3429<=FIN),MAX(calc!$H$1:H3428)+1,0)","v":0}]
[null,null,null,null,null,{"$f":"IF(COUNTIF(BD!$B$2:B3430,BD!B3430)=1,MAX($F$1:F3429)+1,\"\")","v":""},null,{"$f":"IF(AND(BD!B3430=REF,BD!D3430>=DEB,BD!D3430<=FIN),MAX(calc!$H$1:H3429)+1,0)","v":0}]
[null,null,null,null,null,{"$f":"IF(COUNTIF(BD!$B$2:B3431,BD!B3431)=1,MAX($F$1:F3430)+1,\"\")","v":""},null,{"$f":"IF(AND(BD!B3431=REF,BD!D3431>=DEB,BD!D3431<=FIN),MAX(calc!$H$1:H3430)+1,0)","v":0}]
[null,null,null,null,null,{"$f":"IF(COUNTIF(BD!$B$2:B3432,BD!B3432)=1,MAX($F$1:F3431)+1,\"\")","v":""},null,{"$f":"IF(AND(BD!B3432=REF,BD!D3432>=DEB,BD!D3432<=FIN),MAX(calc!$H$1:H3431)+1,0)","v":0}]
[null,null,null,null,null,{"$f":"IF(COUNTIF(BD!$B$2:B3433,BD!B3433)=1,MAX($F$1:F3432)+1,\"\")","v":""},null,{"$f":"IF(AND(BD!B3433=REF,BD!D3433>=DEB,BD!D3433<=FIN),MAX(calc!$H$1:H3432)+1,0)","v":0}]
[null,null,null,null,null,{"$f":"IF(COUNTIF(BD!$B$2:B3434,BD!B3434)=1,MAX($F$1:F3433)+1,\"\")","v":""},null,{"$f":"IF(AND(BD!B3434=REF,BD!D3434>=DEB,BD!D3434<=FIN),MAX(calc!$H$1:H3433)+1,0)","v":0}]
[null,null,null,null,null,{"$f":"IF(COUNTIF(BD!$B$2:B3435,BD!B3435)=1,MAX($F$1:F3434)+1,\"\")","v":""},null,{"$f":"IF(AND(BD!B3435=REF,BD!D3435>=DEB,BD!D3435<=FIN),MAX(calc!$H$1:H3434)+1,0)","v":0}]
[null,null,null,null,null,{"$f":"IF(COUNTIF(BD!$B$2:B3436,BD!B3436)=1,MAX($F$1:F3435)+1,\"\")","v":""},null,{"$f":"IF(AND(BD!B3436=REF,BD!D3436>=DEB,BD!D3436<=FIN),MAX(calc!$H$1:H3435)+1,0)","v":0}]
[null,null,null,null,null,{"$f":"IF(COUNTIF(BD!$B$2:B3437,BD!B3437)=1,MAX($F$1:F3436)+1,\"\")","v":""},null,{"$f":"IF(AND(BD!B3437=REF,BD!D3437>=DEB,BD!D3437<=FIN),MAX(calc!$H$1:H3436)+1,0)","v":0}]
[null,null,null,null,null,{"$f":"IF(COUNTIF(BD!$B$2:B3438,BD!B3438)=1,MAX($F$1:F3437)+1,\"\")","v":""},null,{"$f":"IF(AND(BD!B3438=REF,BD!D3438>=DEB,BD!D3438<=FIN),MAX(calc!$H$1:H3437)+1,0)","v":0}]
[null,null,null,null,null,{"$f":"IF(COUNTIF(BD!$B$2:B3439,BD!B3439)=1,MAX($F$1:F3438)+1,\"\")","v":""},null,{"$f":"IF(AND(BD!B3439=REF,BD!D3439>=DEB,BD!D3439<=FIN),MAX(calc!$H$1:H3438)+1,0)","v":0}]
[null,null,null,null,null,{"$f":"IF(COUNTIF(BD!$B$2:B3440,BD!B3440)=1,MAX($F$1:F3439)+1,\"\")","v":""},null,{"$f":"IF(AND(BD!B3440=REF,BD!D3440>=DEB,BD!D3440<=FIN),MAX(calc!$H$1:H3439)+1,0)","v":0}]
[null,null,null,null,null,{"$f":"IF(COUNTIF(BD!$B$2:B3441,BD!B3441)=1,MAX($F$1:F3440)+1,\"\")","v":""},null,{"$f":"IF(AND(BD!B3441=REF,BD!D3441>=DEB,BD!D3441<=FIN),MAX(calc!$H$1:H3440)+1,0)","v":0}]
[null,null,null,null,null,{"$f":"IF(COUNTIF(BD!$B$2:B3442,BD!B3442)=1,MAX($F$1:F3441)+1,\"\")","v":""},null,{"$f":"IF(AND(BD!B3442=REF,BD!D3442>=DEB,BD!D3442<=FIN),MAX(calc!$H$1:H3441)+1,0)","v":0}]
[null,null,null,null,null,{"$f":"IF(COUNTIF(BD!$B$2:B3443,BD!B3443)=1,MAX($F$1:F3442)+1,\"\")","v":""},null,{"$f":"IF(AND(BD!B3443=REF,BD!D3443>=DEB,BD!D3443<=FIN),MAX(calc!$H$1:H3442)+1,0)","v":0}]
[null,null,null,null,null,{"$f":"IF(COUNTIF(BD!$B$2:B3444,BD!B3444)=1,MAX($F$1:F3443)+1,\"\")","v":""},null,{"$f":"IF(AND(BD!B3444=REF,BD!D3444>=DEB,BD!D3444<=FIN),MAX(calc!$H$1:H3443)+1,0)","v":0}]
[null,null,null,null,null,{"$f":"IF(COUNTIF(BD!$B$2:B3445,BD!B3445)=1,MAX($F$1:F3444)+1,\"\")","v":""},null,{"$f":"IF(AND(BD!B3445=REF,BD!D3445>=DEB,BD!D3445<=FIN),MAX(calc!$H$1:H3444)+1,0)","v":0}]
[null,null,null,null,null,{"$f":"IF(COUNTIF(BD!$B$2:B3446,BD!B3446)=1,MAX($F$1:F3445)+1,\"\")","v":""},null,{"$f":"IF(AND(BD!B3446=REF,BD!D3446>=DEB,BD!D3446<=FIN),MAX(calc!$H$1:H3445)+1,0)","v":0}]
[null,null,null,null,null,{"$f":"IF(COUNTIF(BD!$B$2:B3447,BD!B3447)=1,MAX($F$1:F3446)+1,\"\")","v":""},null,{"$f":"IF(AND(BD!B3447=REF,BD!D3447>=DEB,BD!D3447<=FIN),MAX(calc!$H$1:H3446)+1,0)","v":0}]
[null,null,null,null,null,{"$f":"IF(COUNTIF(BD!$B$2:B3448,BD!B3448)=1,MAX($F$1:F3447)+1,\"\")","v":""},null,{"$f":"IF(AND(BD!B3448=REF,BD!D3448>=DEB,BD!D3448<=FIN),MAX(calc!$H$1:H3447)+1,0)","v":0}]
[null,null,null,null,null,{"$f":"IF(COUNTIF(BD!$B$2:B3449,BD!B3449)=1,MAX($F$1:F3448)+1,\"\")","v":""},null,{"$f":"IF(AND(BD!B3449=REF,BD!D3449>=DEB,BD!D3449<=FIN),MAX(calc!$H$1:H3448)+1,0)","v":0}]
[null,null,null,null,null,{"$f":"IF(COUNTIF(BD!$B$2:B3450,BD!B3450)=1,MAX($F$1:F3449)+1,\"\")","v":""},null,{"$f":"IF(AND(BD!B3450=REF,BD!D3450>=DEB,BD!D3450<=FIN),MAX(calc!$H$1:H3449)+1,0)","v":0}]
[null,null,null,null,null,{"$f":"IF(COUNTIF(BD!$B$2:B3451,BD!B3451)=1,MAX($F$1:F3450)+1,\"\")","v":""},null,{"$f":"IF(AND(BD!B3451=REF,BD!D3451>=DEB,BD!D3451<=FIN),MAX(calc!$H$1:H3450)+1,0)","v":0}]
[null,null,null,null,null,{"$f":"IF(COUNTIF(BD!$B$2:B3452,BD!B3452)=1,MAX($F$1:F3451)+1,\"\")","v":""},null,{"$f":"IF(AND(BD!B3452=REF,BD!D3452>=DEB,BD!D3452<=FIN),MAX(calc!$H$1:H3451)+1,0)","v":0}]
[null,null,null,null,null,{"$f":"IF(COUNTIF(BD!$B$2:B3453,BD!B3453)=1,MAX($F$1:F3452)+1,\"\")","v":""},null,{"$f":"IF(AND(BD!B3453=REF,BD!D3453>=DEB,BD!D3453<=FIN),MAX(calc!$H$1:H3452)+1,0)","v":0}]
[null,null,null,null,null,{"$f":"IF(COUNTIF(BD!$B$2:B3454,BD!B3454)=1,MAX($F$1:F3453)+1,\"\")","v":""},null,{"$f":"IF(AND(BD!B3454=REF,BD!D3454>=DEB,BD!D3454<=FIN),MAX(calc!$H$1:H3453)+1,0)","v":0}]
[null,null,null,null,null,{"$f":"IF(COUNTIF(BD!$B$2:B3455,BD!B3455)=1,MAX($F$1:F3454)+1,\"\")","v":""},null,{"$f":"IF(AND(BD!B3455=REF,BD!D3455>=DEB,BD!D3455<=FIN),MAX(calc!$H$1:H3454)+1,0)","v":0}]
[null,null,null,null,null,{"$f":"IF(COUNTIF(BD!$B$2:B3456,BD!B3456)=1,MAX($F$1:F3455)+1,\"\")","v":""},null,{"$f":"IF(AND(BD!B3456=REF,BD!D3456>=DEB,BD!D3456<=FIN),MAX(calc!$H$1:H3455)+1,0)","v":0}]
[null,null,null,null,null,{"$f":"IF(COUNTIF(BD!$B$2:B3457,BD!B3457)=1,MAX($F$1:F3456)+1,\"\")","v":""},null,{"$f":"IF(AND(BD!B3457=REF,BD!D3457>=DEB,BD!D3457<=FIN),MAX(calc!$H$1:H3456)+1,0)","v":0}]
[null,null,null,null,null,{"$f":"IF(COUNTIF(BD!$B$2:B3458,BD!B3458)=1,MAX($F$1:F3457)+1,\"\")","v":""},null,{"$f":"IF(AND(BD!B3458=REF,BD!D3458>=DEB,BD!D3458<=FIN),MAX(calc!$H$1:H3457)+1,0)","v":0}]
[null,null,null,null,null,{"$f":"IF(COUNTIF(BD!$B$2:B3459,BD!B3459)=1,MAX($F$1:F3458)+1,\"\")","v":""},null,{"$f":"IF(AND(BD!B3459=REF,BD!D3459>=DEB,BD!D3459<=FIN),MAX(calc!$H$1:H3458)+1,0)","v":0}]
[null,null,null,null,null,{"$f":"IF(COUNTIF(BD!$B$2:B3460,BD!B3460)=1,MAX($F$1:F3459)+1,\"\")","v":""},null,{"$f":"IF(AND(BD!B3460=REF,BD!D3460>=DEB,BD!D3460<=FIN),MAX(calc!$H$1:H3459)+1,0)","v":0}]
[null,null,null,null,null,{"$f":"IF(COUNTIF(BD!$B$2:B3461,BD!B3461)=1,MAX($F$1:F3460)+1,\"\")","v":""},null,{"$f":"IF(AND(BD!B3461=REF,BD!D3461>=DEB,BD!D3461<=FIN),MAX(calc!$H$1:H3460)+1,0)","v":0}]
[null,null,null,null,null,{"$f":"IF(COUNTIF(BD!$B$2:B3462,BD!B3462)=1,MAX($F$1:F3461)+1,\"\")","v":""},null,{"$f":"IF(AND(BD!B3462=REF,BD!D3462>=DEB,BD!D3462<=FIN),MAX(calc!$H$1:H3461)+1,0)","v":0}]
[null,null,null,null,null,{"$f":"IF(COUNTIF(BD!$B$2:B3463,BD!B3463)=1,MAX($F$1:F3462)+1,\"\")","v":""},null,{"$f":"IF(AND(BD!B3463=REF,BD!D3463>=DEB,BD!D3463<=FIN),MAX(calc!$H$1:H3462)+1,0)","v":0}]
[null,null,null,null,null,{"$f":"IF(COUNTIF(BD!$B$2:B3464,BD!B3464)=1,MAX($F$1:F3463)+1,\"\")","v":""},null,{"$f":"IF(AND(BD!B3464=REF,BD!D3464>=DEB,BD!D3464<=FIN),MAX(calc!$H$1:H3463)+1,0)","v":0}]
[null,null,null,null,null,{"$f":"IF(COUNTIF(BD!$B$2:B3465,BD!B3465)=1,MAX($F$1:F3464)+1,\"\")","v":""},null,{"$f":"IF(AND(BD!B3465=REF,BD!D3465>=DEB,BD!D3465<=FIN),MAX(calc!$H$1:H3464)+1,0)","v":0}]
[null,null,null,null,null,{"$f":"IF(COUNTIF(BD!$B$2:B3466,BD!B3466)=1,MAX($F$1:F3465)+1,\"\")","v":""},null,{"$f":"IF(AND(BD!B3466=REF,BD!D3466>=DEB,BD!D3466<=FIN),MAX(calc!$H$1:H3465)+1,0)","v":0}]
[null,null,null,null,null,{"$f":"IF(COUNTIF(BD!$B$2:B3467,BD!B3467)=1,MAX($F$1:F3466)+1,\"\")","v":""},null,{"$f":"IF(AND(BD!B3467=REF,BD!D3467>=DEB,BD!D3467<=FIN),MAX(calc!$H$1:H3466)+1,0)","v":0}]
[null,null,null,null,null,{"$f":"IF(COUNTIF(BD!$B$2:B3468,BD!B3468)=1,MAX($F$1:F3467)+1,\"\")","v":""},null,{"$f":"IF(AND(BD!B3468=REF,BD!D3468>=DEB,BD!D3468<=FIN),MAX(calc!$H$1:H3467)+1,0)","v":0}]
[null,null,null,null,null,{"$f":"IF(COUNTIF(BD!$B$2:B3469,BD!B3469)=1,MAX($F$1:F3468)+1,\"\")","v":""},null,{"$f":"IF(AND(BD!B3469=REF,BD!D3469>=DEB,BD!D3469<=FIN),MAX(calc!$H$1:H3468)+1,0)","v":0}]
[null,null,null,null,null,{"$f":"IF(COUNTIF(BD!$B$2:B3470,BD!B3470)=1,MAX($F$1:F3469)+1,\"\")","v":""},null,{"$f":"IF(AND(BD!B3470=REF,BD!D3470>=DEB,BD!D3470<=FIN),MAX(calc!$H$1:H3469)+1,0)","v":0}]
[null,null,null,null,null,{"$f":"IF(COUNTIF(BD!$B$2:B3471,BD!B3471)=1,MAX($F$1:F3470)+1,\"\")","v":""},null,{"$f":"IF(AND(BD!B3471=REF,BD!D3471>=DEB,BD!D3471<=FIN),MAX(calc!$H$1:H3470)+1,0)","v":0}]
[null,null,null,null,null,{"$f":"IF(COUNTIF(BD!$B$2:B3472,BD!B3472)=1,MAX($F$1:F3471)+1,\"\")","v":""},null,{"$f":"IF(AND(BD!B3472=REF,BD!D3472>=DEB,BD!D3472<=FIN),MAX(calc!$H$1:H3471)+1,0)","v":0}]
[null,null,null,null,null,{"$f":"IF(COUNTIF(BD!$B$2:B3473,BD!B3473)=1,MAX($F$1:F3472)+1,\"\")","v":""},null,{"$f":"IF(AND(BD!B3473=REF,BD!D3473>=DEB,BD!D3473<=FIN),MAX(calc!$H$1:H3472)+1,0)","v":0}]
[null,null,null,null,null,{"$f":"IF(COUNTIF(BD!$B$2:B3474,BD!B3474)=1,MAX($F$1:F3473)+1,\"\")","v":""},null,{"$f":"IF(AND(BD!B3474=REF,BD!D3474>=DEB,BD!D3474<=FIN),MAX(calc!$H$1:H3473)+1,0)","v":0}]
[null,null,null,null,null,{"$f":"IF(COUNTIF(BD!$B$2:B3475,BD!B3475)=1,MAX($F$1:F3474)+1,\"\")","v":""},null,{"$f":"IF(AND(BD!B3475=REF,BD!D3475>=DEB,BD!D3475<=FIN),MAX(calc!$H$1:H3474)+1,0)","v":0}]
[null,null,null,null,null,{"$f":"IF(COUNTIF(BD!$B$2:B3476,BD!B3476)=1,MAX($F$1:F3475)+1,\"\")","v":""},null,{"$f":"IF(AND(BD!B3476=REF,BD!D3476>=DEB,BD!D3476<=FIN),MAX(calc!$H$1:H3475)+1,0)","v":0}]
[null,null,null,null,null,{"$f":"IF(COUNTIF(BD!$B$2:B3477,BD!B3477)=1,MAX($F$1:F3476)+1,\"\")","v":""},null,{"$f":"IF(AND(BD!B3477=REF,BD!D3477>=DEB,BD!D3477<=FIN),MAX(calc!$H$1:H3476)+1,0)","v":0}]
[null,null,null,null,null,{"$f":"IF(COUNTIF(BD!$B$2:B3478,BD!B3478)=1,MAX($F$1:F3477)+1,\"\")","v":""},null,{"$f":"IF(AND(BD!B3478=REF,BD!D3478>=DEB,BD!D3478<=FIN),MAX(calc!$H$1:H3477)+1,0)","v":0}]
[null,null,null,null,null,{"$f":"IF(COUNTIF(BD!$B$2:B3479,BD!B3479)=1,MAX($F$1:F3478)+1,\"\")","v":""},null,{"$f":"IF(AND(BD!B3479=REF,BD!D3479>=DEB,BD!D3479<=FIN),MAX(calc!$H$1:H3478)+1,0)","v":0}]
[null,null,null,null,null,{"$f":"IF(COUNTIF(BD!$B$2:B3480,BD!B3480)=1,MAX($F$1:F3479)+1,\"\")","v":""},null,{"$f":"IF(AND(BD!B3480=REF,BD!D3480>=DEB,BD!D3480<=FIN),MAX(calc!$H$1:H3479)+1,0)","v":0}]
[null,null,null,null,null,{"$f":"IF(COUNTIF(BD!$B$2:B3481,BD!B3481)=1,MAX($F$1:F3480)+1,\"\")","v":""},null,{"$f":"IF(AND(BD!B3481=REF,BD!D3481>=DEB,BD!D3481<=FIN),MAX(calc!$H$1:H3480)+1,0)","v":0}]
[null,null,null,null,null,{"$f":"IF(COUNTIF(BD!$B$2:B3482,BD!B3482)=1,MAX($F$1:F3481)+1,\"\")","v":""},null,{"$f":"IF(AND(BD!B3482=REF,BD!D3482>=DEB,BD!D3482<=FIN),MAX(calc!$H$1:H3481)+1,0)","v":0}]
[null,null,null,null,null,{"$f":"IF(COUNTIF(BD!$B$2:B3483,BD!B3483)=1,MAX($F$1:F3482)+1,\"\")","v":""},null,{"$f":"IF(AND(BD!B3483=REF,BD!D3483>=DEB,BD!D3483<=FIN),MAX(calc!$H$1:H3482)+1,0)","v":0}]
[null,null,null,null,null,{"$f":"IF(COUNTIF(BD!$B$2:B3484,BD!B3484)=1,MAX($F$1:F3483)+1,\"\")","v":""},null,{"$f":"IF(AND(BD!B3484=REF,BD!D3484>=DEB,BD!D3484<=FIN),MAX(calc!$H$1:H3483)+1,0)","v":0}]
[null,null,null,null,null,{"$f":"IF(COUNTIF(BD!$B$2:B3485,BD!B3485)=1,MAX($F$1:F3484)+1,\"\")","v":""},null,{"$f":"IF(AND(BD!B3485=REF,BD!D3485>=DEB,BD!D3485<=FIN),MAX(calc!$H$1:H3484)+1,0)","v":0}]
[null,null,null,null,null,{"$f":"IF(COUNTIF(BD!$B$2:B3486,BD!B3486)=1,MAX($F$1:F3485)+1,\"\")","v":""},null,{"$f":"IF(AND(BD!B3486=REF,BD!D3486>=DEB,BD!D3486<=FIN),MAX(calc!$H$1:H3485)+1,0)","v":0}]
[null,null,null,null,null,{"$f":"IF(COUNTIF(BD!$B$2:B3487,BD!B3487)=1,MAX($F$1:F3486)+1,\"\")","v":""},null,{"$f":"IF(AND(BD!B3487=REF,BD!D3487>=DEB,BD!D3487<=FIN),MAX(calc!$H$1:H3486)+1,0)","v":0}]
[null,null,null,null,null,{"$f":"IF(COUNTIF(BD!$B$2:B3488,BD!B3488)=1,MAX($F$1:F3487)+1,\"\")","v":""},null,{"$f":"IF(AND(BD!B3488=REF,BD!D3488>=DEB,BD!D3488<=FIN),MAX(calc!$H$1:H3487)+1,0)","v":0}]
[null,null,null,null,null,{"$f":"IF(COUNTIF(BD!$B$2:B3489,BD!B3489)=1,MAX($F$1:F3488)+1,\"\")","v":""},null,{"$f":"IF(AND(BD!B3489=REF,BD!D3489>=DEB,BD!D3489<=FIN),MAX(calc!$H$1:H3488)+1,0)","v":0}]
[null,null,null,null,null,{"$f":"IF(COUNTIF(BD!$B$2:B3490,BD!B3490)=1,MAX($F$1:F3489)+1,\"\")","v":""},null,{"$f":"IF(AND(BD!B3490=REF,BD!D3490>=DEB,BD!D3490<=FIN),MAX(calc!$H$1:H3489)+1,0)","v":0}]
[null,null,null,null,null,{"$f":"IF(COUNTIF(BD!$B$2:B3491,BD!B3491)=1,MAX($F$1:F3490)+1,\"\")","v":""},null,{"$f":"IF(AND(BD!B3491=REF,BD!D3491>=DEB,BD!D3491<=FIN),MAX(calc!$H$1:H3490)+1,0)","v":0}]
[null,null,null,null,null,{"$f":"IF(COUNTIF(BD!$B$2:B3492,BD!B3492)=1,MAX($F$1:F3491)+1,\"\")","v":""},null,{"$f":"IF(AND(BD!B3492=REF,BD!D3492>=DEB,BD!D3492<=FIN),MAX(calc!$H$1:H3491)+1,0)","v":0}]
[null,null,null,null,null,{"$f":"IF(COUNTIF(BD!$B$2:B3493,BD!B3493)=1,MAX($F$1:F3492)+1,\"\")","v":""},null,{"$f":"IF(AND(BD!B3493=REF,BD!D3493>=DEB,BD!D3493<=FIN),MAX(calc!$H$1:H3492)+1,0)","v":0}]
[null,null,null,null,null,{"$f":"IF(COUNTIF(BD!$B$2:B3494,BD!B3494)=1,MAX($F$1:F3493)+1,\"\")","v":""},null,{"$f":"IF(AND(BD!B3494=REF,BD!D3494>=DEB,BD!D3494<=FIN),MAX(calc!$H$1:H3493)+1,0)","v":0}]
[null,null,null,null,null,{"$f":"IF(COUNTIF(BD!$B$2:B3495,BD!B3495)=1,MAX($F$1:F3494)+1,\"\")","v":""},null,{"$f":"IF(AND(BD!B3495=REF,BD!D3495>=DEB,BD!D3495<=FIN),MAX(calc!$H$1:H3494)+1,0)","v":0}]
[null,null,null,null,null,{"$f":"IF(COUNTIF(BD!$B$2:B3496,BD!B3496)=1,MAX($F$1:F3495)+1,\"\")","v":""},null,{"$f":"IF(AND(BD!B3496=REF,BD!D3496>=DEB,BD!D3496<=FIN),MAX(calc!$H$1:H3495)+1,0)","v":0}]
[null,null,null,null,null,{"$f":"IF(COUNTIF(BD!$B$2:B3497,BD!B3497)=1,MAX($F$1:F3496)+1,\"\")","v":""},null,{"$f":"IF(AND(BD!B3497=REF,BD!D3497>=DEB,BD!D3497<=FIN),MAX(calc!$H$1:H3496)+1,0)","v":0}]
[null,null,null,null,null,{"$f":"IF(COUNTIF(BD!$B$2:B3498,BD!B3498)=1,MAX($F$1:F3497)+1,\"\")","v":""},null,{"$f":"IF(AND(BD!B3498=REF,BD!D3498>=DEB,BD!D3498<=FIN),MAX(calc!$H$1:H3497)+1,0)","v":0}]
[null,null,null,null,null,{"$f":"IF(COUNTIF(BD!$B$2:B3499,BD!B3499)=1,MAX($F$1:F3498)+1,\"\")","v":""},null,{"$f":"IF(AND(BD!B3499=REF,BD!D3499>=DEB,BD!D3499<=FIN),MAX(calc!$H$1:H3498)+1,0)","v":0}]
[null,null,null,null,null,{"$f":"IF(COUNTIF(BD!$B$2:B3500,BD!B3500)=1,MAX($F$1:F3499)+1,\"\")","v":""},null,{"$f":"IF(AND(BD!B3500=REF,BD!D3500>=DEB,BD!D3500<=FIN),MAX(calc!$H$1:H3499)+1,0)","v":0}]
[null,null,null,null,null,{"$f":"IF(COUNTIF(BD!$B$2:B3501,BD!B3501)=1,MAX($F$1:F3500)+1,\"\")","v":""},null,{"$f":"IF(AND(BD!B3501=REF,BD!D3501>=DEB,BD!D3501<=FIN),MAX(calc!$H$1:H3500)+1,0)","v":0}]
[null,null,null,null,null,{"$f":"IF(COUNTIF(BD!$B$2:B3502,BD!B3502)=1,MAX($F$1:F3501)+1,\"\")","v":""},null,{"$f":"IF(AND(BD!B3502=REF,BD!D3502>=DEB,BD!D3502<=FIN),MAX(calc!$H$1:H3501)+1,0)","v":0}]
[null,null,null,null,null,{"$f":"IF(COUNTIF(BD!$B$2:B3503,BD!B3503)=1,MAX($F$1:F3502)+1,\"\")","v":""},null,{"$f":"IF(AND(BD!B3503=REF,BD!D3503>=DEB,BD!D3503<=FIN),MAX(calc!$H$1:H3502)+1,0)","v":0}]
[null,null,null,null,null,{"$f":"IF(COUNTIF(BD!$B$2:B3504,BD!B3504)=1,MAX($F$1:F3503)+1,\"\")","v":""},null,{"$f":"IF(AND(BD!B3504=REF,BD!D3504>=DEB,BD!D3504<=FIN),MAX(calc!$H$1:H3503)+1,0)","v":0}]
[null,null,null,null,null,{"$f":"IF(COUNTIF(BD!$B$2:B3505,BD!B3505)=1,MAX($F$1:F3504)+1,\"\")","v":""},null,{"$f":"IF(AND(BD!B3505=REF,BD!D3505>=DEB,BD!D3505<=FIN),MAX(calc!$H$1:H3504)+1,0)","v":0}]
[null,null,null,null,null,{"$f":"IF(COUNTIF(BD!$B$2:B3506,BD!B3506)=1,MAX($F$1:F3505)+1,\"\")","v":""},null,{"$f":"IF(AND(BD!B3506=REF,BD!D3506>=DEB,BD!D3506<=FIN),MAX(calc!$H$1:H3505)+1,0)","v":0}]
[null,null,null,null,null,{"$f":"IF(COUNTIF(BD!$B$2:B3507,BD!B3507)=1,MAX($F$1:F3506)+1,\"\")","v":""},null,{"$f":"IF(AND(BD!B3507=REF,BD!D3507>=DEB,BD!D3507<=FIN),MAX(calc!$H$1:H3506)+1,0)","v":0}]
[null,null,null,null,null,{"$f":"IF(COUNTIF(BD!$B$2:B3508,BD!B3508)=1,MAX($F$1:F3507)+1,\"\")","v":""},null,{"$f":"IF(AND(BD!B3508=REF,BD!D3508>=DEB,BD!D3508<=FIN),MAX(calc!$H$1:H3507)+1,0)","v":0}]
[null,null,null,null,null,{"$f":"IF(COUNTIF(BD!$B$2:B3509,BD!B3509)=1,MAX($F$1:F3508)+1,\"\")","v":""},null,{"$f":"IF(AND(BD!B3509=REF,BD!D3509>=DEB,BD!D3509<=FIN),MAX(calc!$H$1:H3508)+1,0)","v":0}]
[null,null,null,null,null,{"$f":"IF(COUNTIF(BD!$B$2:B3510,BD!B3510)=1,MAX($F$1:F3509)+1,\"\")","v":""},null,{"$f":"IF(AND(BD!B3510=REF,BD!D3510>=DEB,BD!D3510<=FIN),MAX(calc!$H$1:H3509)+1,0)","v":0}]
[null,null,null,null,null,{"$f":"IF(COUNTIF(BD!$B$2:B3511,BD!B3511)=1,MAX($F$1:F3510)+1,\"\")","v":""},null,{"$f":"IF(AND(BD!B3511=REF,BD!D3511>=DEB,BD!D3511<=FIN),MAX(calc!$H$1:H3510)+1,0)","v":0}]
[null,null,null,null,null,{"$f":"IF(COUNTIF(BD!$B$2:B3512,BD!B3512)=1,MAX($F$1:F3511)+1,\"\")","v":""},null,{"$f":"IF(AND(BD!B3512=REF,BD!D3512>=DEB,BD!D3512<=FIN),MAX(calc!$H$1:H3511)+1,0)","v":0}]
[null,null,null,null,null,{"$f":"IF(COUNTIF(BD!$B$2:B3513,BD!B3513)=1,MAX($F$1:F3512)+1,\"\")","v":""},null,{"$f":"IF(AND(BD!B3513=REF,BD!D3513>=DEB,BD!D3513<=FIN),MAX(calc!$H$1:H3512)+1,0)","v":0}]
[null,null,null,null,null,{"$f":"IF(COUNTIF(BD!$B$2:B3514,BD!B3514)=1,MAX($F$1:F3513)+1,\"\")","v":""},null,{"$f":"IF(AND(BD!B3514=REF,BD!D3514>=DEB,BD!D3514<=FIN),MAX(calc!$H$1:H3513)+1,0)","v":0}]
[null,null,null,null,null,{"$f":"IF(COUNTIF(BD!$B$2:B3515,BD!B3515)=1,MAX($F$1:F3514)+1,\"\")","v":""},null,{"$f":"IF(AND(BD!B3515=REF,BD!D3515>=DEB,BD!D3515<=FIN),MAX(calc!$H$1:H3514)+1,0)","v":0}]
[null,null,null,null,null,{"$f":"IF(COUNTIF(BD!$B$2:B3516,BD!B3516)=1,MAX($F$1:F3515)+1,\"\")","v":""},null,{"$f":"IF(AND(BD!B3516=REF,BD!D3516>=DEB,BD!D3516<=FIN),MAX(calc!$H$1:H3515)+1,0)","v":0}]
[null,null,null,null,null,{"$f":"IF(COUNTIF(BD!$B$2:B3517,BD!B3517)=1,MAX($F$1:F3516)+1,\"\")","v":""},null,{"$f":"IF(AND(BD!B3517=REF,BD!D3517>=DEB,BD!D3517<=FIN),MAX(calc!$H$1:H3516)+1,0)","v":0}]
[null,null,null,null,null,{"$f":"IF(COUNTIF(BD!$B$2:B3518,BD!B3518)=1,MAX($F$1:F3517)+1,\"\")","v":""},null,{"$f":"IF(AND(BD!B3518=REF,BD!D3518>=DEB,BD!D3518<=FIN),MAX(calc!$H$1:H3517)+1,0)","v":0}]
[null,null,null,null,null,{"$f":"IF(COUNTIF(BD!$B$2:B3519,BD!B3519)=1,MAX($F$1:F3518)+1,\"\")","v":""},null,{"$f":"IF(AND(BD!B3519=REF,BD!D3519>=DEB,BD!D3519<=FIN),MAX(calc!$H$1:H3518)+1,0)","v":0}]
[null,null,null,null,null,{"$f":"IF(COUNTIF(BD!$B$2:B3520,BD!B3520)=1,MAX($F$1:F3519)+1,\"\")","v":""},null,{"$f":"IF(AND(BD!B3520=REF,BD!D3520>=DEB,BD!D3520<=FIN),MAX(calc!$H$1:H3519)+1,0)","v":0}]
[null,null,null,null,null,{"$f":"IF(COUNTIF(BD!$B$2:B3521,BD!B3521)=1,MAX($F$1:F3520)+1,\"\")","v":""},null,{"$f":"IF(AND(BD!B3521=REF,BD!D3521>=DEB,BD!D3521<=FIN),MAX(calc!$H$1:H3520)+1,0)","v":0}]
[null,null,null,null,null,{"$f":"IF(COUNTIF(BD!$B$2:B3522,BD!B3522)=1,MAX($F$1:F3521)+1,\"\")","v":""},null,{"$f":"IF(AND(BD!B3522=REF,BD!D3522>=DEB,BD!D3522<=FIN),MAX(calc!$H$1:H3521)+1,0)","v":0}]
[null,null,null,null,null,{"$f":"IF(COUNTIF(BD!$B$2:B3523,BD!B3523)=1,MAX($F$1:F3522)+1,\"\")","v":""},null,{"$f":"IF(AND(BD!B3523=REF,BD!D3523>=DEB,BD!D3523<=FIN),MAX(calc!$H$1:H3522)+1,0)","v":0}]
[null,null,null,null,null,{"$f":"IF(COUNTIF(BD!$B$2:B3524,BD!B3524)=1,MAX($F$1:F3523)+1,\"\")","v":""},null,{"$f":"IF(AND(BD!B3524=REF,BD!D3524>=DEB,BD!D3524<=FIN),MAX(calc!$H$1:H3523)+1,0)","v":0}]
[null,null,null,null,null,{"$f":"IF(COUNTIF(BD!$B$2:B3525,BD!B3525)=1,MAX($F$1:F3524)+1,\"\")","v":""},null,{"$f":"IF(AND(BD!B3525=REF,BD!D3525>=DEB,BD!D3525<=FIN),MAX(calc!$H$1:H3524)+1,0)","v":0}]
[null,null,null,null,null,{"$f":"IF(COUNTIF(BD!$B$2:B3526,BD!B3526)=1,MAX($F$1:F3525)+1,\"\")","v":""},null,{"$f":"IF(AND(BD!B3526=REF,BD!D3526>=DEB,BD!D3526<=FIN),MAX(calc!$H$1:H3525)+1,0)","v":0}]
[null,null,null,null,null,{"$f":"IF(COUNTIF(BD!$B$2:B3527,BD!B3527)=1,MAX($F$1:F3526)+1,\"\")","v":""},null,{"$f":"IF(AND(BD!B3527=REF,BD!D3527>=DEB,BD!D3527<=FIN),MAX(calc!$H$1:H3526)+1,0)","v":0}]
[null,null,null,null,null,{"$f":"IF(COUNTIF(BD!$B$2:B3528,BD!B3528)=1,MAX($F$1:F3527)+1,\"\")","v":""},null,{"$f":"IF(AND(BD!B3528=REF,BD!D3528>=DEB,BD!D3528<=FIN),MAX(calc!$H$1:H3527)+1,0)","v":0}]
[null,null,null,null,null,{"$f":"IF(COUNTIF(BD!$B$2:B3529,BD!B3529)=1,MAX($F$1:F3528)+1,\"\")","v":""},null,{"$f":"IF(AND(BD!B3529=REF,BD!D3529>=DEB,BD!D3529<=FIN),MAX(calc!$H$1:H3528)+1,0)","v":0}]
[null,null,null,null,null,{"$f":"IF(COUNTIF(BD!$B$2:B3530,BD!B3530)=1,MAX($F$1:F3529)+1,\"\")","v":""},null,{"$f":"IF(AND(BD!B3530=REF,BD!D3530>=DEB,BD!D3530<=FIN),MAX(calc!$H$1:H3529)+1,0)","v":0}]
[null,null,null,null,null,{"$f":"IF(COUNTIF(BD!$B$2:B3531,BD!B3531)=1,MAX($F$1:F3530)+1,\"\")","v":""},null,{"$f":"IF(AND(BD!B3531=REF,BD!D3531>=DEB,BD!D3531<=FIN),MAX(calc!$H$1:H3530)+1,0)","v":0}]
[null,null,null,null,null,{"$f":"IF(COUNTIF(BD!$B$2:B3532,BD!B3532)=1,MAX($F$1:F3531)+1,\"\")","v":""},null,{"$f":"IF(AND(BD!B3532=REF,BD!D3532>=DEB,BD!D3532<=FIN),MAX(calc!$H$1:H3531)+1,0)","v":0}]
[null,null,null,null,null,{"$f":"IF(COUNTIF(BD!$B$2:B3533,BD!B3533)=1,MAX($F$1:F3532)+1,\"\")","v":""},null,{"$f":"IF(AND(BD!B3533=REF,BD!D3533>=DEB,BD!D3533<=FIN),MAX(calc!$H$1:H3532)+1,0)","v":0}]
[null,null,null,null,null,{"$f":"IF(COUNTIF(BD!$B$2:B3534,BD!B3534)=1,MAX($F$1:F3533)+1,\"\")","v":""},null,{"$f":"IF(AND(BD!B3534=REF,BD!D3534>=DEB,BD!D3534<=FIN),MAX(calc!$H$1:H3533)+1,0)","v":0}]
[null,null,null,null,null,{"$f":"IF(COUNTIF(BD!$B$2:B3535,BD!B3535)=1,MAX($F$1:F3534)+1,\"\")","v":""},null,{"$f":"IF(AND(BD!B3535=REF,BD!D3535>=DEB,BD!D3535<=FIN),MAX(calc!$H$1:H3534)+1,0)","v":0}]
[null,null,null,null,null,{"$f":"IF(COUNTIF(BD!$B$2:B3536,BD!B3536)=1,MAX($F$1:F3535)+1,\"\")","v":""},null,{"$f":"IF(AND(BD!B3536=REF,BD!D3536>=DEB,BD!D3536<=FIN),MAX(calc!$H$1:H3535)+1,0)","v":0}]
[null,null,null,null,null,{"$f":"IF(COUNTIF(BD!$B$2:B3537,BD!B3537)=1,MAX($F$1:F3536)+1,\"\")","v":""},null,{"$f":"IF(AND(BD!B3537=REF,BD!D3537>=DEB,BD!D3537<=FIN),MAX(calc!$H$1:H3536)+1,0)","v":0}]
[null,null,null,null,null,{"$f":"IF(COUNTIF(BD!$B$2:B3538,BD!B3538)=1,MAX($F$1:F3537)+1,\"\")","v":""},null,{"$f":"IF(AND(BD!B3538=REF,BD!D3538>=DEB,BD!D3538<=FIN),MAX(calc!$H$1:H3537)+1,0)","v":0}]
[null,null,null,null,null,{"$f":"IF(COUNTIF(BD!$B$2:B3539,BD!B3539)=1,MAX($F$1:F3538)+1,\"\")","v":""},null,{"$f":"IF(AND(BD!B3539=REF,BD!D3539>=DEB,BD!D3539<=FIN),MAX(calc!$H$1:H3538)+1,0)","v":0}]
[null,null,null,null,null,{"$f":"IF(COUNTIF(BD!$B$2:B3540,BD!B3540)=1,MAX($F$1:F3539)+1,\"\")","v":""},null,{"$f":"IF(AND(BD!B3540=REF,BD!D3540>=DEB,BD!D3540<=FIN),MAX(calc!$H$1:H3539)+1,0)","v":0}]
[null,null,null,null,null,{"$f":"IF(COUNTIF(BD!$B$2:B3541,BD!B3541)=1,MAX($F$1:F3540)+1,\"\")","v":""},null,{"$f":"IF(AND(BD!B3541=REF,BD!D3541>=DEB,BD!D3541<=FIN),MAX(calc!$H$1:H3540)+1,0)","v":0}]
[null,null,null,null,null,{"$f":"IF(COUNTIF(BD!$B$2:B3542,BD!B3542)=1,MAX($F$1:F3541)+1,\"\")","v":""},null,{"$f":"IF(AND(BD!B3542=REF,BD!D3542>=DEB,BD!D3542<=FIN),MAX(calc!$H$1:H3541)+1,0)","v":0}]
[null,null,null,null,null,{"$f":"IF(COUNTIF(BD!$B$2:B3543,BD!B3543)=1,MAX($F$1:F3542)+1,\"\")","v":""},null,{"$f":"IF(AND(BD!B3543=REF,BD!D3543>=DEB,BD!D3543<=FIN),MAX(calc!$H$1:H3542)+1,0)","v":0}]
[null,null,null,null,null,{"$f":"IF(COUNTIF(BD!$B$2:B3544,BD!B3544)=1,MAX($F$1:F3543)+1,\"\")","v":""},null,{"$f":"IF(AND(BD!B3544=REF,BD!D3544>=DEB,BD!D3544<=FIN),MAX(calc!$H$1:H3543)+1,0)","v":0}]
[null,null,null,null,null,{"$f":"IF(COUNTIF(BD!$B$2:B3545,BD!B3545)=1,MAX($F$1:F3544)+1,\"\")","v":""},null,{"$f":"IF(AND(BD!B3545=REF,BD!D3545>=DEB,BD!D3545<=FIN),MAX(calc!$H$1:H3544)+1,0)","v":0}]
[null,null,null,null,null,{"$f":"IF(COUNTIF(BD!$B$2:B3546,BD!B3546)=1,MAX($F$1:F3545)+1,\"\")","v":""},null,{"$f":"IF(AND(BD!B3546=REF,BD!D3546>=DEB,BD!D3546<=FIN),MAX(calc!$H$1:H3545)+1,0)","v":0}]
[null,null,null,null,null,{"$f":"IF(COUNTIF(BD!$B$2:B3547,BD!B3547)=1,MAX($F$1:F3546)+1,\"\")","v":""},null,{"$f":"IF(AND(BD!B3547=REF,BD!D3547>=DEB,BD!D3547<=FIN),MAX(calc!$H$1:H3546)+1,0)","v":0}]
[null,null,null,null,null,{"$f":"IF(COUNTIF(BD!$B$2:B3548,BD!B3548)=1,MAX($F$1:F3547)+1,\"\")","v":""},null,{"$f":"IF(AND(BD!B3548=REF,BD!D3548>=DEB,BD!D3548<=FIN),MAX(calc!$H$1:H3547)+1,0)","v":0}]
[null,null,null,null,null,{"$f":"IF(COUNTIF(BD!$B$2:B3549,BD!B3549)=1,MAX($F$1:F3548)+1,\"\")","v":""},null,{"$f":"IF(AND(BD!B3549=REF,BD!D3549>=DEB,BD!D3549<=FIN),MAX(calc!$H$1:H3548)+1,0)","v":0}]
[null,null,null,null,null,{"$f":"IF(COUNTIF(BD!$B$2:B3550,BD!B3550)=1,MAX($F$1:F3549)+1,\"\")","v":""},null,{"$f":"IF(AND(BD!B3550=REF,BD!D3550>=DEB,BD!D3550<=FIN),MAX(calc!$H$1:H3549)+1,0)","v":0}]
[null,null,null,null,null,{"$f":"IF(COUNTIF(BD!$B$2:B3551,BD!B3551)=1,MAX($F$1:F3550)+1,\"\")","v":""},null,{"$f":"IF(AND(BD!B3551=REF,BD!D3551>=DEB,BD!D3551<=FIN),MAX(calc!$H$1:H3550)+1,0)","v":0}]
[null,null,null,null,null,{"$f":"IF(COUNTIF(BD!$B$2:B3552,BD!B3552)=1,MAX($F$1:F3551)+1,\"\")","v":""},null,{"$f":"IF(AND(BD!B3552=REF,BD!D3552>=DEB,BD!D3552<=FIN),MAX(calc!$H$1:H3551)+1,0)","v":0}]
[null,null,null,null,null,{"$f":"IF(COUNTIF(BD!$B$2:B3553,BD!B3553)=1,MAX($F$1:F3552)+1,\"\")","v":""},null,{"$f":"IF(AND(BD!B3553=REF,BD!D3553>=DEB,BD!D3553<=FIN),MAX(calc!$H$1:H3552)+1,0)","v":0}]
[null,null,null,null,null,{"$f":"IF(COUNTIF(BD!$B$2:B3554,BD!B3554)=1,MAX($F$1:F3553)+1,\"\")","v":""},null,{"$f":"IF(AND(BD!B3554=REF,BD!D3554>=DEB,BD!D3554<=FIN),MAX(calc!$H$1:H3553)+1,0)","v":0}]
[null,null,null,null,null,{"$f":"IF(COUNTIF(BD!$B$2:B3555,BD!B3555)=1,MAX($F$1:F3554)+1,\"\")","v":""},null,{"$f":"IF(AND(BD!B3555=REF,BD!D3555>=DEB,BD!D3555<=FIN),MAX(calc!$H$1:H3554)+1,0)","v":0}]
[null,null,null,null,null,{"$f":"IF(COUNTIF(BD!$B$2:B3556,BD!B3556)=1,MAX($F$1:F3555)+1,\"\")","v":""},null,{"$f":"IF(AND(BD!B3556=REF,BD!D3556>=DEB,BD!D3556<=FIN),MAX(calc!$H$1:H3555)+1,0)","v":0}]
[null,null,null,null,null,{"$f":"IF(COUNTIF(BD!$B$2:B3557,BD!B3557)=1,MAX($F$1:F3556)+1,\"\")","v":""},null,{"$f":"IF(AND(BD!B3557=REF,BD!D3557>=DEB,BD!D3557<=FIN),MAX(calc!$H$1:H3556)+1,0)","v":0}]
[null,null,null,null,null,{"$f":"IF(COUNTIF(BD!$B$2:B3558,BD!B3558)=1,MAX($F$1:F3557)+1,\"\")","v":""},null,{"$f":"IF(AND(BD!B3558=REF,BD!D3558>=DEB,BD!D3558<=FIN),MAX(calc!$H$1:H3557)+1,0)","v":0}]
[null,null,null,null,null,{"$f":"IF(COUNTIF(BD!$B$2:B3559,BD!B3559)=1,MAX($F$1:F3558)+1,\"\")","v":""},null,{"$f":"IF(AND(BD!B3559=REF,BD!D3559>=DEB,BD!D3559<=FIN),MAX(calc!$H$1:H3558)+1,0)","v":0}]
[null,null,null,null,null,{"$f":"IF(COUNTIF(BD!$B$2:B3560,BD!B3560)=1,MAX($F$1:F3559)+1,\"\")","v":""},null,{"$f":"IF(AND(BD!B3560=REF,BD!D3560>=DEB,BD!D3560<=FIN),MAX(calc!$H$1:H3559)+1,0)","v":0}]
[null,null,null,null,null,{"$f":"IF(COUNTIF(BD!$B$2:B3561,BD!B3561)=1,MAX($F$1:F3560)+1,\"\")","v":""},null,{"$f":"IF(AND(BD!B3561=REF,BD!D3561>=DEB,BD!D3561<=FIN),MAX(calc!$H$1:H3560)+1,0)","v":0}]
[null,null,null,null,null,{"$f":"IF(COUNTIF(BD!$B$2:B3562,BD!B3562)=1,MAX($F$1:F3561)+1,\"\")","v":""},null,{"$f":"IF(AND(BD!B3562=REF,BD!D3562>=DEB,BD!D3562<=FIN),MAX(calc!$H$1:H3561)+1,0)","v":0}]
[null,null,null,null,null,{"$f":"IF(COUNTIF(BD!$B$2:B3563,BD!B3563)=1,MAX($F$1:F3562)+1,\"\")","v":""},null,{"$f":"IF(AND(BD!B3563=REF,BD!D3563>=DEB,BD!D3563<=FIN),MAX(calc!$H$1:H3562)+1,0)","v":0}]
[null,null,null,null,null,{"$f":"IF(COUNTIF(BD!$B$2:B3564,BD!B3564)=1,MAX($F$1:F3563)+1,\"\")","v":""},null,{"$f":"IF(AND(BD!B3564=REF,BD!D3564>=DEB,BD!D3564<=FIN),MAX(calc!$H$1:H3563)+1,0)","v":0}]
[null,null,null,null,null,{"$f":"IF(COUNTIF(BD!$B$2:B3565,BD!B3565)=1,MAX($F$1:F3564)+1,\"\")","v":""},null,{"$f":"IF(AND(BD!B3565=REF,BD!D3565>=DEB,BD!D3565<=FIN),MAX(calc!$H$1:H3564)+1,0)","v":0}]
[null,null,null,null,null,{"$f":"IF(COUNTIF(BD!$B$2:B3566,BD!B3566)=1,MAX($F$1:F3565)+1,\"\")","v":""},null,{"$f":"IF(AND(BD!B3566=REF,BD!D3566>=DEB,BD!D3566<=FIN),MAX(calc!$H$1:H3565)+1,0)","v":0}]
[null,null,null,null,null,{"$f":"IF(COUNTIF(BD!$B$2:B3567,BD!B3567)=1,MAX($F$1:F3566)+1,\"\")","v":""},null,{"$f":"IF(AND(BD!B3567=REF,BD!D3567>=DEB,BD!D3567<=FIN),MAX(calc!$H$1:H3566)+1,0)","v":0}]
[null,null,null,null,null,{"$f":"IF(COUNTIF(BD!$B$2:B3568,BD!B3568)=1,MAX($F$1:F3567)+1,\"\")","v":""},null,{"$f":"IF(AND(BD!B3568=REF,BD!D3568>=DEB,BD!D3568<=FIN),MAX(calc!$H$1:H3567)+1,0)","v":0}]
[null,null,null,null,null,{"$f":"IF(COUNTIF(BD!$B$2:B3569,BD!B3569)=1,MAX($F$1:F3568)+1,\"\")","v":""},null,{"$f":"IF(AND(BD!B3569=REF,BD!D3569>=DEB,BD!D3569<=FIN),MAX(calc!$H$1:H3568)+1,0)","v":0}]
[null,null,null,null,null,{"$f":"IF(COUNTIF(BD!$B$2:B3570,BD!B3570)=1,MAX($F$1:F3569)+1,\"\")","v":""},null,{"$f":"IF(AND(BD!B3570=REF,BD!D3570>=DEB,BD!D3570<=FIN),MAX(calc!$H$1:H3569)+1,0)","v":0}]
[null,null,null,null,null,{"$f":"IF(COUNTIF(BD!$B$2:B3571,BD!B3571)=1,MAX($F$1:F3570)+1,\"\")","v":""},null,{"$f":"IF(AND(BD!B3571=REF,BD!D3571>=DEB,BD!D3571<=FIN),MAX(calc!$H$1:H3570)+1,0)","v":0}]
[null,null,null,null,null,{"$f":"IF(COUNTIF(BD!$B$2:B3572,BD!B3572)=1,MAX($F$1:F3571)+1,\"\")","v":""},null,{"$f":"IF(AND(BD!B3572=REF,BD!D3572>=DEB,BD!D3572<=FIN),MAX(calc!$H$1:H3571)+1,0)","v":0}]
[null,null,null,null,null,{"$f":"IF(COUNTIF(BD!$B$2:B3573,BD!B3573)=1,MAX($F$1:F3572)+1,\"\")","v":""},null,{"$f":"IF(AND(BD!B3573=REF,BD!D3573>=DEB,BD!D3573<=FIN),MAX(calc!$H$1:H3572)+1,0)","v":0}]
[null,null,null,null,null,{"$f":"IF(COUNTIF(BD!$B$2:B3574,BD!B3574)=1,MAX($F$1:F3573)+1,\"\")","v":""},null,{"$f":"IF(AND(BD!B3574=REF,BD!D3574>=DEB,BD!D3574<=FIN),MAX(calc!$H$1:H3573)+1,0)","v":0}]
[null,null,null,null,null,{"$f":"IF(COUNTIF(BD!$B$2:B3575,BD!B3575)=1,MAX($F$1:F3574)+1,\"\")","v":""},null,{"$f":"IF(AND(BD!B3575=REF,BD!D3575>=DEB,BD!D3575<=FIN),MAX(calc!$H$1:H3574)+1,0)","v":0}]
[null,null,null,null,null,{"$f":"IF(COUNTIF(BD!$B$2:B3576,BD!B3576)=1,MAX($F$1:F3575)+1,\"\")","v":""},null,{"$f":"IF(AND(BD!B3576=REF,BD!D3576>=DEB,BD!D3576<=FIN),MAX(calc!$H$1:H3575)+1,0)","v":0}]
[null,null,null,null,null,{"$f":"IF(COUNTIF(BD!$B$2:B3577,BD!B3577)=1,MAX($F$1:F3576)+1,\"\")","v":""},null,{"$f":"IF(AND(BD!B3577=REF,BD!D3577>=DEB,BD!D3577<=FIN),MAX(calc!$H$1:H3576)+1,0)","v":0}]
[null,null,null,null,null,{"$f":"IF(COUNTIF(BD!$B$2:B3578,BD!B3578)=1,MAX($F$1:F3577)+1,\"\")","v":""},null,{"$f":"IF(AND(BD!B3578=REF,BD!D3578>=DEB,BD!D3578<=FIN),MAX(calc!$H$1:H3577)+1,0)","v":0}]
[null,null,null,null,null,{"$f":"IF(COUNTIF(BD!$B$2:B3579,BD!B3579)=1,MAX($F$1:F3578)+1,\"\")","v":""},null,{"$f":"IF(AND(BD!B3579=REF,BD!D3579>=DEB,BD!D3579<=FIN),MAX(calc!$H$1:H3578)+1,0)","v":0}]
[null,null,null,null,null,{"$f":"IF(COUNTIF(BD!$B$2:B3580,BD!B3580)=1,MAX($F$1:F3579)+1,\"\")","v":""},null,{"$f":"IF(AND(BD!B3580=REF,BD!D3580>=DEB,BD!D3580<=FIN),MAX(calc!$H$1:H3579)+1,0)","v":0}]
[null,null,null,null,null,{"$f":"IF(COUNTIF(BD!$B$2:B3581,BD!B3581)=1,MAX($F$1:F3580)+1,\"\")","v":""},null,{"$f":"IF(AND(BD!B3581=REF,BD!D3581>=DEB,BD!D3581<=FIN),MAX(calc!$H$1:H3580)+1,0)","v":0}]
[null,null,null,null,null,{"$f":"IF(COUNTIF(BD!$B$2:B3582,BD!B3582)=1,MAX($F$1:F3581)+1,\"\")","v":""},null,{"$f":"IF(AND(BD!B3582=REF,BD!D3582>=DEB,BD!D3582<=FIN),MAX(calc!$H$1:H3581)+1,0)","v":0}]
[null,null,null,null,null,{"$f":"IF(COUNTIF(BD!$B$2:B3583,BD!B3583)=1,MAX($F$1:F3582)+1,\"\")","v":""},null,{"$f":"IF(AND(BD!B3583=REF,BD!D3583>=DEB,BD!D3583<=FIN),MAX(calc!$H$1:H3582)+1,0)","v":0}]
[null,null,null,null,null,{"$f":"IF(COUNTIF(BD!$B$2:B3584,BD!B3584)=1,MAX($F$1:F3583)+1,\"\")","v":""},null,{"$f":"IF(AND(BD!B3584=REF,BD!D3584>=DEB,BD!D3584<=FIN),MAX(calc!$H$1:H3583)+1,0)","v":0}]
[null,null,null,null,null,{"$f":"IF(COUNTIF(BD!$B$2:B3585,BD!B3585)=1,MAX($F$1:F3584)+1,\"\")","v":""},null,{"$f":"IF(AND(BD!B3585=REF,BD!D3585>=DEB,BD!D3585<=FIN),MAX(calc!$H$1:H3584)+1,0)","v":0}]
[null,null,null,null,null,{"$f":"IF(COUNTIF(BD!$B$2:B3586,BD!B3586)=1,MAX($F$1:F3585)+1,\"\")","v":""},null,{"$f":"IF(AND(BD!B3586=REF,BD!D3586>=DEB,BD!D3586<=FIN),MAX(calc!$H$1:H3585)+1,0)","v":0}]
[null,null,null,null,null,{"$f":"IF(COUNTIF(BD!$B$2:B3587,BD!B3587)=1,MAX($F$1:F3586)+1,\"\")","v":""},null,{"$f":"IF(AND(BD!B3587=REF,BD!D3587>=DEB,BD!D3587<=FIN),MAX(calc!$H$1:H3586)+1,0)","v":0}]
[null,null,null,null,null,{"$f":"IF(COUNTIF(BD!$B$2:B3588,BD!B3588)=1,MAX($F$1:F3587)+1,\"\")","v":""},null,{"$f":"IF(AND(BD!B3588=REF,BD!D3588>=DEB,BD!D3588<=FIN),MAX(calc!$H$1:H3587)+1,0)","v":0}]
[null,null,null,null,null,{"$f":"IF(COUNTIF(BD!$B$2:B3589,BD!B3589)=1,MAX($F$1:F3588)+1,\"\")","v":""},null,{"$f":"IF(AND(BD!B3589=REF,BD!D3589>=DEB,BD!D3589<=FIN),MAX(calc!$H$1:H3588)+1,0)","v":0}]
[null,null,null,null,null,{"$f":"IF(COUNTIF(BD!$B$2:B3590,BD!B3590)=1,MAX($F$1:F3589)+1,\"\")","v":""},null,{"$f":"IF(AND(BD!B3590=REF,BD!D3590>=DEB,BD!D3590<=FIN),MAX(calc!$H$1:H3589)+1,0)","v":0}]
[null,null,null,null,null,{"$f":"IF(COUNTIF(BD!$B$2:B3591,BD!B3591)=1,MAX($F$1:F3590)+1,\"\")","v":""},null,{"$f":"IF(AND(BD!B3591=REF,BD!D3591>=DEB,BD!D3591<=FIN),MAX(calc!$H$1:H3590)+1,0)","v":0}]
[null,null,null,null,null,{"$f":"IF(COUNTIF(BD!$B$2:B3592,BD!B3592)=1,MAX($F$1:F3591)+1,\"\")","v":""},null,{"$f":"IF(AND(BD!B3592=REF,BD!D3592>=DEB,BD!D3592<=FIN),MAX(calc!$H$1:H3591)+1,0)","v":0}]
[null,null,null,null,null,{"$f":"IF(COUNTIF(BD!$B$2:B3593,BD!B3593)=1,MAX($F$1:F3592)+1,\"\")","v":""},null,{"$f":"IF(AND(BD!B3593=REF,BD!D3593>=DEB,BD!D3593<=FIN),MAX(calc!$H$1:H3592)+1,0)","v":0}]
[null,null,null,null,null,{"$f":"IF(COUNTIF(BD!$B$2:B3594,BD!B3594)=1,MAX($F$1:F3593)+1,\"\")","v":""},null,{"$f":"IF(AND(BD!B3594=REF,BD!D3594>=DEB,BD!D3594<=FIN),MAX(calc!$H$1:H3593)+1,0)","v":0}]
[null,null,null,null,null,{"$f":"IF(COUNTIF(BD!$B$2:B3595,BD!B3595)=1,MAX($F$1:F3594)+1,\"\")","v":""},null,{"$f":"IF(AND(BD!B3595=REF,BD!D3595>=DEB,BD!D3595<=FIN),MAX(calc!$H$1:H3594)+1,0)","v":0}]
[null,null,null,null,null,{"$f":"IF(COUNTIF(BD!$B$2:B3596,BD!B3596)=1,MAX($F$1:F3595)+1,\"\")","v":""},null,{"$f":"IF(AND(BD!B3596=REF,BD!D3596>=DEB,BD!D3596<=FIN),MAX(calc!$H$1:H3595)+1,0)","v":0}]
[null,null,null,null,null,{"$f":"IF(COUNTIF(BD!$B$2:B3597,BD!B3597)=1,MAX($F$1:F3596)+1,\"\")","v":""},null,{"$f":"IF(AND(BD!B3597=REF,BD!D3597>=DEB,BD!D3597<=FIN),MAX(calc!$H$1:H3596)+1,0)","v":0}]
[null,null,null,null,null,{"$f":"IF(COUNTIF(BD!$B$2:B3598,BD!B3598)=1,MAX($F$1:F3597)+1,\"\")","v":""},null,{"$f":"IF(AND(BD!B3598=REF,BD!D3598>=DEB,BD!D3598<=FIN),MAX(calc!$H$1:H3597)+1,0)","v":0}]
[null,null,null,null,null,{"$f":"IF(COUNTIF(BD!$B$2:B3599,BD!B3599)=1,MAX($F$1:F3598)+1,\"\")","v":""},null,{"$f":"IF(AND(BD!B3599=REF,BD!D3599>=DEB,BD!D3599<=FIN),MAX(calc!$H$1:H3598)+1,0)","v":0}]
[null,null,null,null,null,{"$f":"IF(COUNTIF(BD!$B$2:B3600,BD!B3600)=1,MAX($F$1:F3599)+1,\"\")","v":""},null,{"$f":"IF(AND(BD!B3600=REF,BD!D3600>=DEB,BD!D3600<=FIN),MAX(calc!$H$1:H3599)+1,0)","v":0}]
[null,null,null,null,null,{"$f":"IF(COUNTIF(BD!$B$2:B3601,BD!B3601)=1,MAX($F$1:F3600)+1,\"\")","v":""},null,{"$f":"IF(AND(BD!B3601=REF,BD!D3601>=DEB,BD!D3601<=FIN),MAX(calc!$H$1:H3600)+1,0)","v":0}]
[null,null,null,null,null,{"$f":"IF(COUNTIF(BD!$B$2:B3602,BD!B3602)=1,MAX($F$1:F3601)+1,\"\")","v":""},null,{"$f":"IF(AND(BD!B3602=REF,BD!D3602>=DEB,BD!D3602<=FIN),MAX(calc!$H$1:H3601)+1,0)","v":0}]
[null,null,null,null,null,{"$f":"IF(COUNTIF(BD!$B$2:B3603,BD!B3603)=1,MAX($F$1:F3602)+1,\"\")","v":""},null,{"$f":"IF(AND(BD!B3603=REF,BD!D3603>=DEB,BD!D3603<=FIN),MAX(calc!$H$1:H3602)+1,0)","v":0}]
[null,null,null,null,null,{"$f":"IF(COUNTIF(BD!$B$2:B3604,BD!B3604)=1,MAX($F$1:F3603)+1,\"\")","v":""},null,{"$f":"IF(AND(BD!B3604=REF,BD!D3604>=DEB,BD!D3604<=FIN),MAX(calc!$H$1:H3603)+1,0)","v":0}]
[null,null,null,null,null,{"$f":"IF(COUNTIF(BD!$B$2:B3605,BD!B3605)=1,MAX($F$1:F3604)+1,\"\")","v":""},null,{"$f":"IF(AND(BD!B3605=REF,BD!D3605>=DEB,BD!D3605<=FIN),MAX(calc!$H$1:H3604)+1,0)","v":0}]
[null,null,null,null,null,{"$f":"IF(COUNTIF(BD!$B$2:B3606,BD!B3606)=1,MAX($F$1:F3605)+1,\"\")","v":""},null,{"$f":"IF(AND(BD!B3606=REF,BD!D3606>=DEB,BD!D3606<=FIN),MAX(calc!$H$1:H3605)+1,0)","v":0}]
[null,null,null,null,null,{"$f":"IF(COUNTIF(BD!$B$2:B3607,BD!B3607)=1,MAX($F$1:F3606)+1,\"\")","v":""},null,{"$f":"IF(AND(BD!B3607=REF,BD!D3607>=DEB,BD!D3607<=FIN),MAX(calc!$H$1:H3606)+1,0)","v":0}]
[null,null,null,null,null,{"$f":"IF(COUNTIF(BD!$B$2:B3608,BD!B3608)=1,MAX($F$1:F3607)+1,\"\")","v":""},null,{"$f":"IF(AND(BD!B3608=REF,BD!D3608>=DEB,BD!D3608<=FIN),MAX(calc!$H$1:H3607)+1,0)","v":0}]
[null,null,null,null,null,{"$f":"IF(COUNTIF(BD!$B$2:B3609,BD!B3609)=1,MAX($F$1:F3608)+1,\"\")","v":""},null,{"$f":"IF(AND(BD!B3609=REF,BD!D3609>=DEB,BD!D3609<=FIN),MAX(calc!$H$1:H3608)+1,0)","v":0}]
[null,null,null,null,null,{"$f":"IF(COUNTIF(BD!$B$2:B3610,BD!B3610)=1,MAX($F$1:F3609)+1,\"\")","v":""},null,{"$f":"IF(AND(BD!B3610=REF,BD!D3610>=DEB,BD!D3610<=FIN),MAX(calc!$H$1:H3609)+1,0)","v":0}]
[null,null,null,null,null,{"$f":"IF(COUNTIF(BD!$B$2:B3611,BD!B3611)=1,MAX($F$1:F3610)+1,\"\")","v":""},null,{"$f":"IF(AND(BD!B3611=REF,BD!D3611>=DEB,BD!D3611<=FIN),MAX(calc!$H$1:H3610)+1,0)","v":0}]
[null,null,null,null,null,{"$f":"IF(COUNTIF(BD!$B$2:B3612,BD!B3612)=1,MAX($F$1:F3611)+1,\"\")","v":""},null,{"$f":"IF(AND(BD!B3612=REF,BD!D3612>=DEB,BD!D3612<=FIN),MAX(calc!$H$1:H3611)+1,0)","v":0}]
[null,null,null,null,null,{"$f":"IF(COUNTIF(BD!$B$2:B3613,BD!B3613)=1,MAX($F$1:F3612)+1,\"\")","v":""},null,{"$f":"IF(AND(BD!B3613=REF,BD!D3613>=DEB,BD!D3613<=FIN),MAX(calc!$H$1:H3612)+1,0)","v":0}]
[null,null,null,null,null,{"$f":"IF(COUNTIF(BD!$B$2:B3614,BD!B3614)=1,MAX($F$1:F3613)+1,\"\")","v":""},null,{"$f":"IF(AND(BD!B3614=REF,BD!D3614>=DEB,BD!D3614<=FIN),MAX(calc!$H$1:H3613)+1,0)","v":0}]
[null,null,null,null,null,{"$f":"IF(COUNTIF(BD!$B$2:B3615,BD!B3615)=1,MAX($F$1:F3614)+1,\"\")","v":""},null,{"$f":"IF(AND(BD!B3615=REF,BD!D3615>=DEB,BD!D3615<=FIN),MAX(calc!$H$1:H3614)+1,0)","v":0}]
[null,null,null,null,null,{"$f":"IF(COUNTIF(BD!$B$2:B3616,BD!B3616)=1,MAX($F$1:F3615)+1,\"\")","v":""},null,{"$f":"IF(AND(BD!B3616=REF,BD!D3616>=DEB,BD!D3616<=FIN),MAX(calc!$H$1:H3615)+1,0)","v":0}]
[null,null,null,null,null,{"$f":"IF(COUNTIF(BD!$B$2:B3617,BD!B3617)=1,MAX($F$1:F3616)+1,\"\")","v":""},null,{"$f":"IF(AND(BD!B3617=REF,BD!D3617>=DEB,BD!D3617<=FIN),MAX(calc!$H$1:H3616)+1,0)","v":0}]
[null,null,null,null,null,{"$f":"IF(COUNTIF(BD!$B$2:B3618,BD!B3618)=1,MAX($F$1:F3617)+1,\"\")","v":""},null,{"$f":"IF(AND(BD!B3618=REF,BD!D3618>=DEB,BD!D3618<=FIN),MAX(calc!$H$1:H3617)+1,0)","v":0}]
[null,null,null,null,null,{"$f":"IF(COUNTIF(BD!$B$2:B3619,BD!B3619)=1,MAX($F$1:F3618)+1,\"\")","v":""},null,{"$f":"IF(AND(BD!B3619=REF,BD!D3619>=DEB,BD!D3619<=FIN),MAX(calc!$H$1:H3618)+1,0)","v":0}]
[null,null,null,null,null,{"$f":"IF(COUNTIF(BD!$B$2:B3620,BD!B3620)=1,MAX($F$1:F3619)+1,\"\")","v":""},null,{"$f":"IF(AND(BD!B3620=REF,BD!D3620>=DEB,BD!D3620<=FIN),MAX(calc!$H$1:H3619)+1,0)","v":0}]
[null,null,null,null,null,{"$f":"IF(COUNTIF(BD!$B$2:B3621,BD!B3621)=1,MAX($F$1:F3620)+1,\"\")","v":""},null,{"$f":"IF(AND(BD!B3621=REF,BD!D3621>=DEB,BD!D3621<=FIN),MAX(calc!$H$1:H3620)+1,0)","v":0}]
[null,null,null,null,null,{"$f":"IF(COUNTIF(BD!$B$2:B3622,BD!B3622)=1,MAX($F$1:F3621)+1,\"\")","v":""},null,{"$f":"IF(AND(BD!B3622=REF,BD!D3622>=DEB,BD!D3622<=FIN),MAX(calc!$H$1:H3621)+1,0)","v":0}]
[null,null,null,null,null,{"$f":"IF(COUNTIF(BD!$B$2:B3623,BD!B3623)=1,MAX($F$1:F3622)+1,\"\")","v":""},null,{"$f":"IF(AND(BD!B3623=REF,BD!D3623>=DEB,BD!D3623<=FIN),MAX(calc!$H$1:H3622)+1,0)","v":0}]
[null,null,null,null,null,{"$f":"IF(COUNTIF(BD!$B$2:B3624,BD!B3624)=1,MAX($F$1:F3623)+1,\"\")","v":""},null,{"$f":"IF(AND(BD!B3624=REF,BD!D3624>=DEB,BD!D3624<=FIN),MAX(calc!$H$1:H3623)+1,0)","v":0}]
[null,null,null,null,null,{"$f":"IF(COUNTIF(BD!$B$2:B3625,BD!B3625)=1,MAX($F$1:F3624)+1,\"\")","v":""},null,{"$f":"IF(AND(BD!B3625=REF,BD!D3625>=DEB,BD!D3625<=FIN),MAX(calc!$H$1:H3624)+1,0)","v":0}]
[null,null,null,null,null,{"$f":"IF(COUNTIF(BD!$B$2:B3626,BD!B3626)=1,MAX($F$1:F3625)+1,\"\")","v":""},null,{"$f":"IF(AND(BD!B3626=REF,BD!D3626>=DEB,BD!D3626<=FIN),MAX(calc!$H$1:H3625)+1,0)","v":0}]
[null,null,null,null,null,{"$f":"IF(COUNTIF(BD!$B$2:B3627,BD!B3627)=1,MAX($F$1:F3626)+1,\"\")","v":""},null,{"$f":"IF(AND(BD!B3627=REF,BD!D3627>=DEB,BD!D3627<=FIN),MAX(calc!$H$1:H3626)+1,0)","v":0}]
[null,null,null,null,null,{"$f":"IF(COUNTIF(BD!$B$2:B3628,BD!B3628)=1,MAX($F$1:F3627)+1,\"\")","v":""},null,{"$f":"IF(AND(BD!B3628=REF,BD!D3628>=DEB,BD!D3628<=FIN),MAX(calc!$H$1:H3627)+1,0)","v":0}]
[null,null,null,null,null,{"$f":"IF(COUNTIF(BD!$B$2:B3629,BD!B3629)=1,MAX($F$1:F3628)+1,\"\")","v":""},null,{"$f":"IF(AND(BD!B3629=REF,BD!D3629>=DEB,BD!D3629<=FIN),MAX(calc!$H$1:H3628)+1,0)","v":0}]
[null,null,null,null,null,{"$f":"IF(COUNTIF(BD!$B$2:B3630,BD!B3630)=1,MAX($F$1:F3629)+1,\"\")","v":""},null,{"$f":"IF(AND(BD!B3630=REF,BD!D3630>=DEB,BD!D3630<=FIN),MAX(calc!$H$1:H3629)+1,0)","v":0}]
[null,null,null,null,null,{"$f":"IF(COUNTIF(BD!$B$2:B3631,BD!B3631)=1,MAX($F$1:F3630)+1,\"\")","v":""},null,{"$f":"IF(AND(BD!B3631=REF,BD!D3631>=DEB,BD!D3631<=FIN),MAX(calc!$H$1:H3630)+1,0)","v":0}]
[null,null,null,null,null,{"$f":"IF(COUNTIF(BD!$B$2:B3632,BD!B3632)=1,MAX($F$1:F3631)+1,\"\")","v":""},null,{"$f":"IF(AND(BD!B3632=REF,BD!D3632>=DEB,BD!D3632<=FIN),MAX(calc!$H$1:H3631)+1,0)","v":0}]
[null,null,null,null,null,{"$f":"IF(COUNTIF(BD!$B$2:B3633,BD!B3633)=1,MAX($F$1:F3632)+1,\"\")","v":""},null,{"$f":"IF(AND(BD!B3633=REF,BD!D3633>=DEB,BD!D3633<=FIN),MAX(calc!$H$1:H3632)+1,0)","v":0}]
[null,null,null,null,null,{"$f":"IF(COUNTIF(BD!$B$2:B3634,BD!B3634)=1,MAX($F$1:F3633)+1,\"\")","v":""},null,{"$f":"IF(AND(BD!B3634=REF,BD!D3634>=DEB,BD!D3634<=FIN),MAX(calc!$H$1:H3633)+1,0)","v":0}]
[null,null,null,null,null,{"$f":"IF(COUNTIF(BD!$B$2:B3635,BD!B3635)=1,MAX($F$1:F3634)+1,\"\")","v":""},null,{"$f":"IF(AND(BD!B3635=REF,BD!D3635>=DEB,BD!D3635<=FIN),MAX(calc!$H$1:H3634)+1,0)","v":0}]
[null,null,null,null,null,{"$f":"IF(COUNTIF(BD!$B$2:B3636,BD!B3636)=1,MAX($F$1:F3635)+1,\"\")","v":""},null,{"$f":"IF(AND(BD!B3636=REF,BD!D3636>=DEB,BD!D3636<=FIN),MAX(calc!$H$1:H3635)+1,0)","v":0}]
[null,null,null,null,null,{"$f":"IF(COUNTIF(BD!$B$2:B3637,BD!B3637)=1,MAX($F$1:F3636)+1,\"\")","v":""},null,{"$f":"IF(AND(BD!B3637=REF,BD!D3637>=DEB,BD!D3637<=FIN),MAX(calc!$H$1:H3636)+1,0)","v":0}]
[null,null,null,null,null,{"$f":"IF(COUNTIF(BD!$B$2:B3638,BD!B3638)=1,MAX($F$1:F3637)+1,\"\")","v":""},null,{"$f":"IF(AND(BD!B3638=REF,BD!D3638>=DEB,BD!D3638<=FIN),MAX(calc!$H$1:H3637)+1,0)","v":0}]
[null,null,null,null,null,{"$f":"IF(COUNTIF(BD!$B$2:B3639,BD!B3639)=1,MAX($F$1:F3638)+1,\"\")","v":""},null,{"$f":"IF(AND(BD!B3639=REF,BD!D3639>=DEB,BD!D3639<=FIN),MAX(calc!$H$1:H3638)+1,0)","v":0}]
[null,null,null,null,null,{"$f":"IF(COUNTIF(BD!$B$2:B3640,BD!B3640)=1,MAX($F$1:F3639)+1,\"\")","v":""},null,{"$f":"IF(AND(BD!B3640=REF,BD!D3640>=DEB,BD!D3640<=FIN),MAX(calc!$H$1:H3639)+1,0)","v":0}]
[null,null,null,null,null,{"$f":"IF(COUNTIF(BD!$B$2:B3641,BD!B3641)=1,MAX($F$1:F3640)+1,\"\")","v":""},null,{"$f":"IF(AND(BD!B3641=REF,BD!D3641>=DEB,BD!D3641<=FIN),MAX(calc!$H$1:H3640)+1,0)","v":0}]
[null,null,null,null,null,{"$f":"IF(COUNTIF(BD!$B$2:B3642,BD!B3642)=1,MAX($F$1:F3641)+1,\"\")","v":""},null,{"$f":"IF(AND(BD!B3642=REF,BD!D3642>=DEB,BD!D3642<=FIN),MAX(calc!$H$1:H3641)+1,0)","v":0}]
[null,null,null,null,null,{"$f":"IF(COUNTIF(BD!$B$2:B3643,BD!B3643)=1,MAX($F$1:F3642)+1,\"\")","v":""},null,{"$f":"IF(AND(BD!B3643=REF,BD!D3643>=DEB,BD!D3643<=FIN),MAX(calc!$H$1:H3642)+1,0)","v":0}]
[null,null,null,null,null,{"$f":"IF(COUNTIF(BD!$B$2:B3644,BD!B3644)=1,MAX($F$1:F3643)+1,\"\")","v":""},null,{"$f":"IF(AND(BD!B3644=REF,BD!D3644>=DEB,BD!D3644<=FIN),MAX(calc!$H$1:H3643)+1,0)","v":0}]
[null,null,null,null,null,{"$f":"IF(COUNTIF(BD!$B$2:B3645,BD!B3645)=1,MAX($F$1:F3644)+1,\"\")","v":""},null,{"$f":"IF(AND(BD!B3645=REF,BD!D3645>=DEB,BD!D3645<=FIN),MAX(calc!$H$1:H3644)+1,0)","v":0}]
[null,null,null,null,null,{"$f":"IF(COUNTIF(BD!$B$2:B3646,BD!B3646)=1,MAX($F$1:F3645)+1,\"\")","v":""},null,{"$f":"IF(AND(BD!B3646=REF,BD!D3646>=DEB,BD!D3646<=FIN),MAX(calc!$H$1:H3645)+1,0)","v":0}]
[null,null,null,null,null,{"$f":"IF(COUNTIF(BD!$B$2:B3647,BD!B3647)=1,MAX($F$1:F3646)+1,\"\")","v":""},null,{"$f":"IF(AND(BD!B3647=REF,BD!D3647>=DEB,BD!D3647<=FIN),MAX(calc!$H$1:H3646)+1,0)","v":0}]
[null,null,null,null,null,{"$f":"IF(COUNTIF(BD!$B$2:B3648,BD!B3648)=1,MAX($F$1:F3647)+1,\"\")","v":""},null,{"$f":"IF(AND(BD!B3648=REF,BD!D3648>=DEB,BD!D3648<=FIN),MAX(calc!$H$1:H3647)+1,0)","v":0}]
[null,null,null,null,null,{"$f":"IF(COUNTIF(BD!$B$2:B3649,BD!B3649)=1,MAX($F$1:F3648)+1,\"\")","v":""},null,{"$f":"IF(AND(BD!B3649=REF,BD!D3649>=DEB,BD!D3649<=FIN),MAX(calc!$H$1:H3648)+1,0)","v":0}]
[null,null,null,null,null,{"$f":"IF(COUNTIF(BD!$B$2:B3650,BD!B3650)=1,MAX($F$1:F3649)+1,\"\")","v":""},null,{"$f":"IF(AND(BD!B3650=REF,BD!D3650>=DEB,BD!D3650<=FIN),MAX(calc!$H$1:H3649)+1,0)","v":0}]
[null,null,null,null,null,{"$f":"IF(COUNTIF(BD!$B$2:B3651,BD!B3651)=1,MAX($F$1:F3650)+1,\"\")","v":""},null,{"$f":"IF(AND(BD!B3651=REF,BD!D3651>=DEB,BD!D3651<=FIN),MAX(calc!$H$1:H3650)+1,0)","v":0}]
[null,null,null,null,null,{"$f":"IF(COUNTIF(BD!$B$2:B3652,BD!B3652)=1,MAX($F$1:F3651)+1,\"\")","v":""},null,{"$f":"IF(AND(BD!B3652=REF,BD!D3652>=DEB,BD!D3652<=FIN),MAX(calc!$H$1:H3651)+1,0)","v":0}]
[null,null,null,null,null,{"$f":"IF(COUNTIF(BD!$B$2:B3653,BD!B3653)=1,MAX($F$1:F3652)+1,\"\")","v":""},null,{"$f":"IF(AND(BD!B3653=REF,BD!D3653>=DEB,BD!D3653<=FIN),MAX(calc!$H$1:H3652)+1,0)","v":0}]
[null,null,null,null,null,{"$f":"IF(COUNTIF(BD!$B$2:B3654,BD!B3654)=1,MAX($F$1:F3653)+1,\"\")","v":""},null,{"$f":"IF(AND(BD!B3654=REF,BD!D3654>=DEB,BD!D3654<=FIN),MAX(calc!$H$1:H3653)+1,0)","v":0}]
[null,null,null,null,null,{"$f":"IF(COUNTIF(BD!$B$2:B3655,BD!B3655)=1,MAX($F$1:F3654)+1,\"\")","v":""},null,{"$f":"IF(AND(BD!B3655=REF,BD!D3655>=DEB,BD!D3655<=FIN),MAX(calc!$H$1:H3654)+1,0)","v":0}]
[null,null,null,null,null,{"$f":"IF(COUNTIF(BD!$B$2:B3656,BD!B3656)=1,MAX($F$1:F3655)+1,\"\")","v":""},null,{"$f":"IF(AND(BD!B3656=REF,BD!D3656>=DEB,BD!D3656<=FIN),MAX(calc!$H$1:H3655)+1,0)","v":0}]
[null,null,null,null,null,{"$f":"IF(COUNTIF(BD!$B$2:B3657,BD!B3657)=1,MAX($F$1:F3656)+1,\"\")","v":""},null,{"$f":"IF(AND(BD!B3657=REF,BD!D3657>=DEB,BD!D3657<=FIN),MAX(calc!$H$1:H3656)+1,0)","v":0}]
[null,null,null,null,null,{"$f":"IF(COUNTIF(BD!$B$2:B3658,BD!B3658)=1,MAX($F$1:F3657)+1,\"\")","v":""},null,{"$f":"IF(AND(BD!B3658=REF,BD!D3658>=DEB,BD!D3658<=FIN),MAX(calc!$H$1:H3657)+1,0)","v":0}]
[null,null,null,null,null,{"$f":"IF(COUNTIF(BD!$B$2:B3659,BD!B3659)=1,MAX($F$1:F3658)+1,\"\")","v":""},null,{"$f":"IF(AND(BD!B3659=REF,BD!D3659>=DEB,BD!D3659<=FIN),MAX(calc!$H$1:H3658)+1,0)","v":0}]
[null,null,null,null,null,{"$f":"IF(COUNTIF(BD!$B$2:B3660,BD!B3660)=1,MAX($F$1:F3659)+1,\"\")","v":""},null,{"$f":"IF(AND(BD!B3660=REF,BD!D3660>=DEB,BD!D3660<=FIN),MAX(calc!$H$1:H3659)+1,0)","v":0}]
[null,null,null,null,null,{"$f":"IF(COUNTIF(BD!$B$2:B3661,BD!B3661)=1,MAX($F$1:F3660)+1,\"\")","v":""},null,{"$f":"IF(AND(BD!B3661=REF,BD!D3661>=DEB,BD!D3661<=FIN),MAX(calc!$H$1:H3660)+1,0)","v":0}]
[null,null,null,null,null,{"$f":"IF(COUNTIF(BD!$B$2:B3662,BD!B3662)=1,MAX($F$1:F3661)+1,\"\")","v":""},null,{"$f":"IF(AND(BD!B3662=REF,BD!D3662>=DEB,BD!D3662<=FIN),MAX(calc!$H$1:H3661)+1,0)","v":0}]
[null,null,null,null,null,{"$f":"IF(COUNTIF(BD!$B$2:B3663,BD!B3663)=1,MAX($F$1:F3662)+1,\"\")","v":""},null,{"$f":"IF(AND(BD!B3663=REF,BD!D3663>=DEB,BD!D3663<=FIN),MAX(calc!$H$1:H3662)+1,0)","v":0}]
[null,null,null,null,null,{"$f":"IF(COUNTIF(BD!$B$2:B3664,BD!B3664)=1,MAX($F$1:F3663)+1,\"\")","v":""},null,{"$f":"IF(AND(BD!B3664=REF,BD!D3664>=DEB,BD!D3664<=FIN),MAX(calc!$H$1:H3663)+1,0)","v":0}]
[null,null,null,null,null,{"$f":"IF(COUNTIF(BD!$B$2:B3665,BD!B3665)=1,MAX($F$1:F3664)+1,\"\")","v":""},null,{"$f":"IF(AND(BD!B3665=REF,BD!D3665>=DEB,BD!D3665<=FIN),MAX(calc!$H$1:H3664)+1,0)","v":0}]
[null,null,null,null,null,{"$f":"IF(COUNTIF(BD!$B$2:B3666,BD!B3666)=1,MAX($F$1:F3665)+1,\"\")","v":""},null,{"$f":"IF(AND(BD!B3666=REF,BD!D3666>=DEB,BD!D3666<=FIN),MAX(calc!$H$1:H3665)+1,0)","v":0}]
[null,null,null,null,null,{"$f":"IF(COUNTIF(BD!$B$2:B3667,BD!B3667)=1,MAX($F$1:F3666)+1,\"\")","v":""},null,{"$f":"IF(AND(BD!B3667=REF,BD!D3667>=DEB,BD!D3667<=FIN),MAX(calc!$H$1:H3666)+1,0)","v":0}]
[null,null,null,null,null,{"$f":"IF(COUNTIF(BD!$B$2:B3668,BD!B3668)=1,MAX($F$1:F3667)+1,\"\")","v":""},null,{"$f":"IF(AND(BD!B3668=REF,BD!D3668>=DEB,BD!D3668<=FIN),MAX(calc!$H$1:H3667)+1,0)","v":0}]
[null,null,null,null,null,{"$f":"IF(COUNTIF(BD!$B$2:B3669,BD!B3669)=1,MAX($F$1:F3668)+1,\"\")","v":""},null,{"$f":"IF(AND(BD!B3669=REF,BD!D3669>=DEB,BD!D3669<=FIN),MAX(calc!$H$1:H3668)+1,0)","v":0}]
[null,null,null,null,null,{"$f":"IF(COUNTIF(BD!$B$2:B3670,BD!B3670)=1,MAX($F$1:F3669)+1,\"\")","v":""},null,{"$f":"IF(AND(BD!B3670=REF,BD!D3670>=DEB,BD!D3670<=FIN),MAX(calc!$H$1:H3669)+1,0)","v":0}]
[null,null,null,null,null,{"$f":"IF(COUNTIF(BD!$B$2:B3671,BD!B3671)=1,MAX($F$1:F3670)+1,\"\")","v":""},null,{"$f":"IF(AND(BD!B3671=REF,BD!D3671>=DEB,BD!D3671<=FIN),MAX(calc!$H$1:H3670)+1,0)","v":0}]
[null,null,null,null,null,{"$f":"IF(COUNTIF(BD!$B$2:B3672,BD!B3672)=1,MAX($F$1:F3671)+1,\"\")","v":""},null,{"$f":"IF(AND(BD!B3672=REF,BD!D3672>=DEB,BD!D3672<=FIN),MAX(calc!$H$1:H3671)+1,0)","v":0}]
[null,null,null,null,null,{"$f":"IF(COUNTIF(BD!$B$2:B3673,BD!B3673)=1,MAX($F$1:F3672)+1,\"\")","v":""},null,{"$f":"IF(AND(BD!B3673=REF,BD!D3673>=DEB,BD!D3673<=FIN),MAX(calc!$H$1:H3672)+1,0)","v":0}]
[null,null,null,null,null,{"$f":"IF(COUNTIF(BD!$B$2:B3674,BD!B3674)=1,MAX($F$1:F3673)+1,\"\")","v":""},null,{"$f":"IF(AND(BD!B3674=REF,BD!D3674>=DEB,BD!D3674<=FIN),MAX(calc!$H$1:H3673)+1,0)","v":0}]
[null,null,null,null,null,{"$f":"IF(COUNTIF(BD!$B$2:B3675,BD!B3675)=1,MAX($F$1:F3674)+1,\"\")","v":""},null,{"$f":"IF(AND(BD!B3675=REF,BD!D3675>=DEB,BD!D3675<=FIN),MAX(calc!$H$1:H3674)+1,0)","v":0}]
[null,null,null,null,null,{"$f":"IF(COUNTIF(BD!$B$2:B3676,BD!B3676)=1,MAX($F$1:F3675)+1,\"\")","v":""},null,{"$f":"IF(AND(BD!B3676=REF,BD!D3676>=DEB,BD!D3676<=FIN),MAX(calc!$H$1:H3675)+1,0)","v":0}]
[null,null,null,null,null,{"$f":"IF(COUNTIF(BD!$B$2:B3677,BD!B3677)=1,MAX($F$1:F3676)+1,\"\")","v":""},null,{"$f":"IF(AND(BD!B3677=REF,BD!D3677>=DEB,BD!D3677<=FIN),MAX(calc!$H$1:H3676)+1,0)","v":0}]
[null,null,null,null,null,{"$f":"IF(COUNTIF(BD!$B$2:B3678,BD!B3678)=1,MAX($F$1:F3677)+1,\"\")","v":""},null,{"$f":"IF(AND(BD!B3678=REF,BD!D3678>=DEB,BD!D3678<=FIN),MAX(calc!$H$1:H3677)+1,0)","v":0}]
[null,null,null,null,null,{"$f":"IF(COUNTIF(BD!$B$2:B3679,BD!B3679)=1,MAX($F$1:F3678)+1,\"\")","v":""},null,{"$f":"IF(AND(BD!B3679=REF,BD!D3679>=DEB,BD!D3679<=FIN),MAX(calc!$H$1:H3678)+1,0)","v":0}]
[null,null,null,null,null,{"$f":"IF(COUNTIF(BD!$B$2:B3680,BD!B3680)=1,MAX($F$1:F3679)+1,\"\")","v":""},null,{"$f":"IF(AND(BD!B3680=REF,BD!D3680>=DEB,BD!D3680<=FIN),MAX(calc!$H$1:H3679)+1,0)","v":0}]
[null,null,null,null,null,{"$f":"IF(COUNTIF(BD!$B$2:B3681,BD!B3681)=1,MAX($F$1:F3680)+1,\"\")","v":""},null,{"$f":"IF(AND(BD!B3681=REF,BD!D3681>=DEB,BD!D3681<=FIN),MAX(calc!$H$1:H3680)+1,0)","v":0}]
[null,null,null,null,null,{"$f":"IF(COUNTIF(BD!$B$2:B3682,BD!B3682)=1,MAX($F$1:F3681)+1,\"\")","v":""},null,{"$f":"IF(AND(BD!B3682=REF,BD!D3682>=DEB,BD!D3682<=FIN),MAX(calc!$H$1:H3681)+1,0)","v":0}]
[null,null,null,null,null,{"$f":"IF(COUNTIF(BD!$B$2:B3683,BD!B3683)=1,MAX($F$1:F3682)+1,\"\")","v":""},null,{"$f":"IF(AND(BD!B3683=REF,BD!D3683>=DEB,BD!D3683<=FIN),MAX(calc!$H$1:H3682)+1,0)","v":0}]
[null,null,null,null,null,{"$f":"IF(COUNTIF(BD!$B$2:B3684,BD!B3684)=1,MAX($F$1:F3683)+1,\"\")","v":""},null,{"$f":"IF(AND(BD!B3684=REF,BD!D3684>=DEB,BD!D3684<=FIN),MAX(calc!$H$1:H3683)+1,0)","v":0}]
[null,null,null,null,null,{"$f":"IF(COUNTIF(BD!$B$2:B3685,BD!B3685)=1,MAX($F$1:F3684)+1,\"\")","v":""},null,{"$f":"IF(AND(BD!B3685=REF,BD!D3685>=DEB,BD!D3685<=FIN),MAX(calc!$H$1:H3684)+1,0)","v":0}]
[null,null,null,null,null,{"$f":"IF(COUNTIF(BD!$B$2:B3686,BD!B3686)=1,MAX($F$1:F3685)+1,\"\")","v":""},null,{"$f":"IF(AND(BD!B3686=REF,BD!D3686>=DEB,BD!D3686<=FIN),MAX(calc!$H$1:H3685)+1,0)","v":0}]
[null,null,null,null,null,{"$f":"IF(COUNTIF(BD!$B$2:B3687,BD!B3687)=1,MAX($F$1:F3686)+1,\"\")","v":""},null,{"$f":"IF(AND(BD!B3687=REF,BD!D3687>=DEB,BD!D3687<=FIN),MAX(calc!$H$1:H3686)+1,0)","v":0}]
[null,null,null,null,null,{"$f":"IF(COUNTIF(BD!$B$2:B3688,BD!B3688)=1,MAX($F$1:F3687)+1,\"\")","v":""},null,{"$f":"IF(AND(BD!B3688=REF,BD!D3688>=DEB,BD!D3688<=FIN),MAX(calc!$H$1:H3687)+1,0)","v":0}]
[null,null,null,null,null,{"$f":"IF(COUNTIF(BD!$B$2:B3689,BD!B3689)=1,MAX($F$1:F3688)+1,\"\")","v":""},null,{"$f":"IF(AND(BD!B3689=REF,BD!D3689>=DEB,BD!D3689<=FIN),MAX(calc!$H$1:H3688)+1,0)","v":0}]
[null,null,null,null,null,{"$f":"IF(COUNTIF(BD!$B$2:B3690,BD!B3690)=1,MAX($F$1:F3689)+1,\"\")","v":""},null,{"$f":"IF(AND(BD!B3690=REF,BD!D3690>=DEB,BD!D3690<=FIN),MAX(calc!$H$1:H3689)+1,0)","v":0}]
[null,null,null,null,null,{"$f":"IF(COUNTIF(BD!$B$2:B3691,BD!B3691)=1,MAX($F$1:F3690)+1,\"\")","v":""},null,{"$f":"IF(AND(BD!B3691=REF,BD!D3691>=DEB,BD!D3691<=FIN),MAX(calc!$H$1:H3690)+1,0)","v":0}]
[null,null,null,null,null,{"$f":"IF(COUNTIF(BD!$B$2:B3692,BD!B3692)=1,MAX($F$1:F3691)+1,\"\")","v":""},null,{"$f":"IF(AND(BD!B3692=REF,BD!D3692>=DEB,BD!D3692<=FIN),MAX(calc!$H$1:H3691)+1,0)","v":0}]
[null,null,null,null,null,{"$f":"IF(COUNTIF(BD!$B$2:B3693,BD!B3693)=1,MAX($F$1:F3692)+1,\"\")","v":""},null,{"$f":"IF(AND(BD!B3693=REF,BD!D3693>=DEB,BD!D3693<=FIN),MAX(calc!$H$1:H3692)+1,0)","v":0}]
[null,null,null,null,null,{"$f":"IF(COUNTIF(BD!$B$2:B3694,BD!B3694)=1,MAX($F$1:F3693)+1,\"\")","v":""},null,{"$f":"IF(AND(BD!B3694=REF,BD!D3694>=DEB,BD!D3694<=FIN),MAX(calc!$H$1:H3693)+1,0)","v":0}]
[null,null,null,null,null,{"$f":"IF(COUNTIF(BD!$B$2:B3695,BD!B3695)=1,MAX($F$1:F3694)+1,\"\")","v":""},null,{"$f":"IF(AND(BD!B3695=REF,BD!D3695>=DEB,BD!D3695<=FIN),MAX(calc!$H$1:H3694)+1,0)","v":0}]
[null,null,null,null,null,{"$f":"IF(COUNTIF(BD!$B$2:B3696,BD!B3696)=1,MAX($F$1:F3695)+1,\"\")","v":""},null,{"$f":"IF(AND(BD!B3696=REF,BD!D3696>=DEB,BD!D3696<=FIN),MAX(calc!$H$1:H3695)+1,0)","v":0}]
[null,null,null,null,null,{"$f":"IF(COUNTIF(BD!$B$2:B3697,BD!B3697)=1,MAX($F$1:F3696)+1,\"\")","v":""},null,{"$f":"IF(AND(BD!B3697=REF,BD!D3697>=DEB,BD!D3697<=FIN),MAX(calc!$H$1:H3696)+1,0)","v":0}]
[null,null,null,null,null,{"$f":"IF(COUNTIF(BD!$B$2:B3698,BD!B3698)=1,MAX($F$1:F3697)+1,\"\")","v":""},null,{"$f":"IF(AND(BD!B3698=REF,BD!D3698>=DEB,BD!D3698<=FIN),MAX(calc!$H$1:H3697)+1,0)","v":0}]
[null,null,null,null,null,{"$f":"IF(COUNTIF(BD!$B$2:B3699,BD!B3699)=1,MAX($F$1:F3698)+1,\"\")","v":""},null,{"$f":"IF(AND(BD!B3699=REF,BD!D3699>=DEB,BD!D3699<=FIN),MAX(calc!$H$1:H3698)+1,0)","v":0}]
[null,null,null,null,null,{"$f":"IF(COUNTIF(BD!$B$2:B3700,BD!B3700)=1,MAX($F$1:F3699)+1,\"\")","v":""},null,{"$f":"IF(AND(BD!B3700=REF,BD!D3700>=DEB,BD!D3700<=FIN),MAX(calc!$H$1:H3699)+1,0)","v":0}]
[null,null,null,null,null,{"$f":"IF(COUNTIF(BD!$B$2:B3701,BD!B3701)=1,MAX($F$1:F3700)+1,\"\")","v":""},null,{"$f":"IF(AND(BD!B3701=REF,BD!D3701>=DEB,BD!D3701<=FIN),MAX(calc!$H$1:H3700)+1,0)","v":0}]
[null,null,null,null,null,{"$f":"IF(COUNTIF(BD!$B$2:B3702,BD!B3702)=1,MAX($F$1:F3701)+1,\"\")","v":""},null,{"$f":"IF(AND(BD!B3702=REF,BD!D3702>=DEB,BD!D3702<=FIN),MAX(calc!$H$1:H3701)+1,0)","v":0}]
[null,null,null,null,null,{"$f":"IF(COUNTIF(BD!$B$2:B3703,BD!B3703)=1,MAX($F$1:F3702)+1,\"\")","v":""},null,{"$f":"IF(AND(BD!B3703=REF,BD!D3703>=DEB,BD!D3703<=FIN),MAX(calc!$H$1:H3702)+1,0)","v":0}]
[null,null,null,null,null,{"$f":"IF(COUNTIF(BD!$B$2:B3704,BD!B3704)=1,MAX($F$1:F3703)+1,\"\")","v":""},null,{"$f":"IF(AND(BD!B3704=REF,BD!D3704>=DEB,BD!D3704<=FIN),MAX(calc!$H$1:H3703)+1,0)","v":0}]
[null,null,null,null,null,{"$f":"IF(COUNTIF(BD!$B$2:B3705,BD!B3705)=1,MAX($F$1:F3704)+1,\"\")","v":""},null,{"$f":"IF(AND(BD!B3705=REF,BD!D3705>=DEB,BD!D3705<=FIN),MAX(calc!$H$1:H3704)+1,0)","v":0}]
[null,null,null,null,null,{"$f":"IF(COUNTIF(BD!$B$2:B3706,BD!B3706)=1,MAX($F$1:F3705)+1,\"\")","v":""},null,{"$f":"IF(AND(BD!B3706=REF,BD!D3706>=DEB,BD!D3706<=FIN),MAX(calc!$H$1:H3705)+1,0)","v":0}]
[null,null,null,null,null,{"$f":"IF(COUNTIF(BD!$B$2:B3707,BD!B3707)=1,MAX($F$1:F3706)+1,\"\")","v":""},null,{"$f":"IF(AND(BD!B3707=REF,BD!D3707>=DEB,BD!D3707<=FIN),MAX(calc!$H$1:H3706)+1,0)","v":0}]
[null,null,null,null,null,{"$f":"IF(COUNTIF(BD!$B$2:B3708,BD!B3708)=1,MAX($F$1:F3707)+1,\"\")","v":""},null,{"$f":"IF(AND(BD!B3708=REF,BD!D3708>=DEB,BD!D3708<=FIN),MAX(calc!$H$1:H3707)+1,0)","v":0}]
[null,null,null,null,null,{"$f":"IF(COUNTIF(BD!$B$2:B3709,BD!B3709)=1,MAX($F$1:F3708)+1,\"\")","v":""},null,{"$f":"IF(AND(BD!B3709=REF,BD!D3709>=DEB,BD!D3709<=FIN),MAX(calc!$H$1:H3708)+1,0)","v":0}]
[null,null,null,null,null,{"$f":"IF(COUNTIF(BD!$B$2:B3710,BD!B3710)=1,MAX($F$1:F3709)+1,\"\")","v":""},null,{"$f":"IF(AND(BD!B3710=REF,BD!D3710>=DEB,BD!D3710<=FIN),MAX(calc!$H$1:H3709)+1,0)","v":0}]
[null,null,null,null,null,{"$f":"IF(COUNTIF(BD!$B$2:B3711,BD!B3711)=1,MAX($F$1:F3710)+1,\"\")","v":""},null,{"$f":"IF(AND(BD!B3711=REF,BD!D3711>=DEB,BD!D3711<=FIN),MAX(calc!$H$1:H3710)+1,0)","v":0}]
[null,null,null,null,null,{"$f":"IF(COUNTIF(BD!$B$2:B3712,BD!B3712)=1,MAX($F$1:F3711)+1,\"\")","v":""},null,{"$f":"IF(AND(BD!B3712=REF,BD!D3712>=DEB,BD!D3712<=FIN),MAX(calc!$H$1:H3711)+1,0)","v":0}]
[null,null,null,null,null,{"$f":"IF(COUNTIF(BD!$B$2:B3713,BD!B3713)=1,MAX($F$1:F3712)+1,\"\")","v":""},null,{"$f":"IF(AND(BD!B3713=REF,BD!D3713>=DEB,BD!D3713<=FIN),MAX(calc!$H$1:H3712)+1,0)","v":0}]
[null,null,null,null,null,{"$f":"IF(COUNTIF(BD!$B$2:B3714,BD!B3714)=1,MAX($F$1:F3713)+1,\"\")","v":""},null,{"$f":"IF(AND(BD!B3714=REF,BD!D3714>=DEB,BD!D3714<=FIN),MAX(calc!$H$1:H3713)+1,0)","v":0}]
[null,null,null,null,null,{"$f":"IF(COUNTIF(BD!$B$2:B3715,BD!B3715)=1,MAX($F$1:F3714)+1,\"\")","v":""},null,{"$f":"IF(AND(BD!B3715=REF,BD!D3715>=DEB,BD!D3715<=FIN),MAX(calc!$H$1:H3714)+1,0)","v":0}]
[null,null,null,null,null,{"$f":"IF(COUNTIF(BD!$B$2:B3716,BD!B3716)=1,MAX($F$1:F3715)+1,\"\")","v":""},null,{"$f":"IF(AND(BD!B3716=REF,BD!D3716>=DEB,BD!D3716<=FIN),MAX(calc!$H$1:H3715)+1,0)","v":0}]
[null,null,null,null,null,{"$f":"IF(COUNTIF(BD!$B$2:B3717,BD!B3717)=1,MAX($F$1:F3716)+1,\"\")","v":""},null,{"$f":"IF(AND(BD!B3717=REF,BD!D3717>=DEB,BD!D3717<=FIN),MAX(calc!$H$1:H3716)+1,0)","v":0}]
[null,null,null,null,null,{"$f":"IF(COUNTIF(BD!$B$2:B3718,BD!B3718)=1,MAX($F$1:F3717)+1,\"\")","v":""},null,{"$f":"IF(AND(BD!B3718=REF,BD!D3718>=DEB,BD!D3718<=FIN),MAX(calc!$H$1:H3717)+1,0)","v":0}]
[null,null,null,null,null,{"$f":"IF(COUNTIF(BD!$B$2:B3719,BD!B3719)=1,MAX($F$1:F3718)+1,\"\")","v":""},null,{"$f":"IF(AND(BD!B3719=REF,BD!D3719>=DEB,BD!D3719<=FIN),MAX(calc!$H$1:H3718)+1,0)","v":0}]
[null,null,null,null,null,{"$f":"IF(COUNTIF(BD!$B$2:B3720,BD!B3720)=1,MAX($F$1:F3719)+1,\"\")","v":""},null,{"$f":"IF(AND(BD!B3720=REF,BD!D3720>=DEB,BD!D3720<=FIN),MAX(calc!$H$1:H3719)+1,0)","v":0}]
[null,null,null,null,null,{"$f":"IF(COUNTIF(BD!$B$2:B3721,BD!B3721)=1,MAX($F$1:F3720)+1,\"\")","v":""},null,{"$f":"IF(AND(BD!B3721=REF,BD!D3721>=DEB,BD!D3721<=FIN),MAX(calc!$H$1:H3720)+1,0)","v":0}]
[null,null,null,null,null,{"$f":"IF(COUNTIF(BD!$B$2:B3722,BD!B3722)=1,MAX($F$1:F3721)+1,\"\")","v":""},null,{"$f":"IF(AND(BD!B3722=REF,BD!D3722>=DEB,BD!D3722<=FIN),MAX(calc!$H$1:H3721)+1,0)","v":0}]
[null,null,null,null,null,{"$f":"IF(COUNTIF(BD!$B$2:B3723,BD!B3723)=1,MAX($F$1:F3722)+1,\"\")","v":""},null,{"$f":"IF(AND(BD!B3723=REF,BD!D3723>=DEB,BD!D3723<=FIN),MAX(calc!$H$1:H3722)+1,0)","v":0}]
[null,null,null,null,null,{"$f":"IF(COUNTIF(BD!$B$2:B3724,BD!B3724)=1,MAX($F$1:F3723)+1,\"\")","v":""},null,{"$f":"IF(AND(BD!B3724=REF,BD!D3724>=DEB,BD!D3724<=FIN),MAX(calc!$H$1:H3723)+1,0)","v":0}]
[null,null,null,null,null,{"$f":"IF(COUNTIF(BD!$B$2:B3725,BD!B3725)=1,MAX($F$1:F3724)+1,\"\")","v":""},null,{"$f":"IF(AND(BD!B3725=REF,BD!D3725>=DEB,BD!D3725<=FIN),MAX(calc!$H$1:H3724)+1,0)","v":0}]
[null,null,null,null,null,{"$f":"IF(COUNTIF(BD!$B$2:B3726,BD!B3726)=1,MAX($F$1:F3725)+1,\"\")","v":""},null,{"$f":"IF(AND(BD!B3726=REF,BD!D3726>=DEB,BD!D3726<=FIN),MAX(calc!$H$1:H3725)+1,0)","v":0}]
[null,null,null,null,null,{"$f":"IF(COUNTIF(BD!$B$2:B3727,BD!B3727)=1,MAX($F$1:F3726)+1,\"\")","v":""},null,{"$f":"IF(AND(BD!B3727=REF,BD!D3727>=DEB,BD!D3727<=FIN),MAX(calc!$H$1:H3726)+1,0)","v":0}]
[null,null,null,null,null,{"$f":"IF(COUNTIF(BD!$B$2:B3728,BD!B3728)=1,MAX($F$1:F3727)+1,\"\")","v":""},null,{"$f":"IF(AND(BD!B3728=REF,BD!D3728>=DEB,BD!D3728<=FIN),MAX(calc!$H$1:H3727)+1,0)","v":0}]
[null,null,null,null,null,{"$f":"IF(COUNTIF(BD!$B$2:B3729,BD!B3729)=1,MAX($F$1:F3728)+1,\"\")","v":""},null,{"$f":"IF(AND(BD!B3729=REF,BD!D3729>=DEB,BD!D3729<=FIN),MAX(calc!$H$1:H3728)+1,0)","v":0}]
[null,null,null,null,null,{"$f":"IF(COUNTIF(BD!$B$2:B3730,BD!B3730)=1,MAX($F$1:F3729)+1,\"\")","v":""},null,{"$f":"IF(AND(BD!B3730=REF,BD!D3730>=DEB,BD!D3730<=FIN),MAX(calc!$H$1:H3729)+1,0)","v":0}]
[null,null,null,null,null,{"$f":"IF(COUNTIF(BD!$B$2:B3731,BD!B3731)=1,MAX($F$1:F3730)+1,\"\")","v":""},null,{"$f":"IF(AND(BD!B3731=REF,BD!D3731>=DEB,BD!D3731<=FIN),MAX(calc!$H$1:H3730)+1,0)","v":0}]
[null,null,null,null,null,{"$f":"IF(COUNTIF(BD!$B$2:B3732,BD!B3732)=1,MAX($F$1:F3731)+1,\"\")","v":""},null,{"$f":"IF(AND(BD!B3732=REF,BD!D3732>=DEB,BD!D3732<=FIN),MAX(calc!$H$1:H3731)+1,0)","v":0}]
[null,null,null,null,null,{"$f":"IF(COUNTIF(BD!$B$2:B3733,BD!B3733)=1,MAX($F$1:F3732)+1,\"\")","v":""},null,{"$f":"IF(AND(BD!B3733=REF,BD!D3733>=DEB,BD!D3733<=FIN),MAX(calc!$H$1:H3732)+1,0)","v":0}]
[null,null,null,null,null,{"$f":"IF(COUNTIF(BD!$B$2:B3734,BD!B3734)=1,MAX($F$1:F3733)+1,\"\")","v":""},null,{"$f":"IF(AND(BD!B3734=REF,BD!D3734>=DEB,BD!D3734<=FIN),MAX(calc!$H$1:H3733)+1,0)","v":0}]
[null,null,null,null,null,{"$f":"IF(COUNTIF(BD!$B$2:B3735,BD!B3735)=1,MAX($F$1:F3734)+1,\"\")","v":""},null,{"$f":"IF(AND(BD!B3735=REF,BD!D3735>=DEB,BD!D3735<=FIN),MAX(calc!$H$1:H3734)+1,0)","v":0}]
[null,null,null,null,null,{"$f":"IF(COUNTIF(BD!$B$2:B3736,BD!B3736)=1,MAX($F$1:F3735)+1,\"\")","v":""},null,{"$f":"IF(AND(BD!B3736=REF,BD!D3736>=DEB,BD!D3736<=FIN),MAX(calc!$H$1:H3735)+1,0)","v":0}]
[null,null,null,null,null,{"$f":"IF(COUNTIF(BD!$B$2:B3737,BD!B3737)=1,MAX($F$1:F3736)+1,\"\")","v":""},null,{"$f":"IF(AND(BD!B3737=REF,BD!D3737>=DEB,BD!D3737<=FIN),MAX(calc!$H$1:H3736)+1,0)","v":0}]
[null,null,null,null,null,{"$f":"IF(COUNTIF(BD!$B$2:B3738,BD!B3738)=1,MAX($F$1:F3737)+1,\"\")","v":""},null,{"$f":"IF(AND(BD!B3738=REF,BD!D3738>=DEB,BD!D3738<=FIN),MAX(calc!$H$1:H3737)+1,0)","v":0}]
[null,null,null,null,null,{"$f":"IF(COUNTIF(BD!$B$2:B3739,BD!B3739)=1,MAX($F$1:F3738)+1,\"\")","v":""},null,{"$f":"IF(AND(BD!B3739=REF,BD!D3739>=DEB,BD!D3739<=FIN),MAX(calc!$H$1:H3738)+1,0)","v":0}]
[null,null,null,null,null,{"$f":"IF(COUNTIF(BD!$B$2:B3740,BD!B3740)=1,MAX($F$1:F3739)+1,\"\")","v":""},null,{"$f":"IF(AND(BD!B3740=REF,BD!D3740>=DEB,BD!D3740<=FIN),MAX(calc!$H$1:H3739)+1,0)","v":0}]
[null,null,null,null,null,{"$f":"IF(COUNTIF(BD!$B$2:B3741,BD!B3741)=1,MAX($F$1:F3740)+1,\"\")","v":""},null,{"$f":"IF(AND(BD!B3741=REF,BD!D3741>=DEB,BD!D3741<=FIN),MAX(calc!$H$1:H3740)+1,0)","v":0}]
[null,null,null,null,null,{"$f":"IF(COUNTIF(BD!$B$2:B3742,BD!B3742)=1,MAX($F$1:F3741)+1,\"\")","v":""},null,{"$f":"IF(AND(BD!B3742=REF,BD!D3742>=DEB,BD!D3742<=FIN),MAX(calc!$H$1:H3741)+1,0)","v":0}]
[null,null,null,null,null,{"$f":"IF(COUNTIF(BD!$B$2:B3743,BD!B3743)=1,MAX($F$1:F3742)+1,\"\")","v":""},null,{"$f":"IF(AND(BD!B3743=REF,BD!D3743>=DEB,BD!D3743<=FIN),MAX(calc!$H$1:H3742)+1,0)","v":0}]
[null,null,null,null,null,{"$f":"IF(COUNTIF(BD!$B$2:B3744,BD!B3744)=1,MAX($F$1:F3743)+1,\"\")","v":""},null,{"$f":"IF(AND(BD!B3744=REF,BD!D3744>=DEB,BD!D3744<=FIN),MAX(calc!$H$1:H3743)+1,0)","v":0}]
[null,null,null,null,null,{"$f":"IF(COUNTIF(BD!$B$2:B3745,BD!B3745)=1,MAX($F$1:F3744)+1,\"\")","v":""},null,{"$f":"IF(AND(BD!B3745=REF,BD!D3745>=DEB,BD!D3745<=FIN),MAX(calc!$H$1:H3744)+1,0)","v":0}]
[null,null,null,null,null,{"$f":"IF(COUNTIF(BD!$B$2:B3746,BD!B3746)=1,MAX($F$1:F3745)+1,\"\")","v":""},null,{"$f":"IF(AND(BD!B3746=REF,BD!D3746>=DEB,BD!D3746<=FIN),MAX(calc!$H$1:H3745)+1,0)","v":0}]
[null,null,null,null,null,{"$f":"IF(COUNTIF(BD!$B$2:B3747,BD!B3747)=1,MAX($F$1:F3746)+1,\"\")","v":""},null,{"$f":"IF(AND(BD!B3747=REF,BD!D3747>=DEB,BD!D3747<=FIN),MAX(calc!$H$1:H3746)+1,0)","v":0}]
[null,null,null,null,null,{"$f":"IF(COUNTIF(BD!$B$2:B3748,BD!B3748)=1,MAX($F$1:F3747)+1,\"\")","v":""},null,{"$f":"IF(AND(BD!B3748=REF,BD!D3748>=DEB,BD!D3748<=FIN),MAX(calc!$H$1:H3747)+1,0)","v":0}]
[null,null,null,null,null,{"$f":"IF(COUNTIF(BD!$B$2:B3749,BD!B3749)=1,MAX($F$1:F3748)+1,\"\")","v":""},null,{"$f":"IF(AND(BD!B3749=REF,BD!D3749>=DEB,BD!D3749<=FIN),MAX(calc!$H$1:H3748)+1,0)","v":0}]
[null,null,null,null,null,{"$f":"IF(COUNTIF(BD!$B$2:B3750,BD!B3750)=1,MAX($F$1:F3749)+1,\"\")","v":""},null,{"$f":"IF(AND(BD!B3750=REF,BD!D3750>=DEB,BD!D3750<=FIN),MAX(calc!$H$1:H3749)+1,0)","v":0}]
[null,null,null,null,null,{"$f":"IF(COUNTIF(BD!$B$2:B3751,BD!B3751)=1,MAX($F$1:F3750)+1,\"\")","v":""},null,{"$f":"IF(AND(BD!B3751=REF,BD!D3751>=DEB,BD!D3751<=FIN),MAX(calc!$H$1:H3750)+1,0)","v":0}]
[null,null,null,null,null,{"$f":"IF(COUNTIF(BD!$B$2:B3752,BD!B3752)=1,MAX($F$1:F3751)+1,\"\")","v":""},null,{"$f":"IF(AND(BD!B3752=REF,BD!D3752>=DEB,BD!D3752<=FIN),MAX(calc!$H$1:H3751)+1,0)","v":0}]
[null,null,null,null,null,{"$f":"IF(COUNTIF(BD!$B$2:B3753,BD!B3753)=1,MAX($F$1:F3752)+1,\"\")","v":""},null,{"$f":"IF(AND(BD!B3753=REF,BD!D3753>=DEB,BD!D3753<=FIN),MAX(calc!$H$1:H3752)+1,0)","v":0}]
[null,null,null,null,null,{"$f":"IF(COUNTIF(BD!$B$2:B3754,BD!B3754)=1,MAX($F$1:F3753)+1,\"\")","v":""},null,{"$f":"IF(AND(BD!B3754=REF,BD!D3754>=DEB,BD!D3754<=FIN),MAX(calc!$H$1:H3753)+1,0)","v":0}]
[null,null,null,null,null,{"$f":"IF(COUNTIF(BD!$B$2:B3755,BD!B3755)=1,MAX($F$1:F3754)+1,\"\")","v":""},null,{"$f":"IF(AND(BD!B3755=REF,BD!D3755>=DEB,BD!D3755<=FIN),MAX(calc!$H$1:H3754)+1,0)","v":0}]
[null,null,null,null,null,{"$f":"IF(COUNTIF(BD!$B$2:B3756,BD!B3756)=1,MAX($F$1:F3755)+1,\"\")","v":""},null,{"$f":"IF(AND(BD!B3756=REF,BD!D3756>=DEB,BD!D3756<=FIN),MAX(calc!$H$1:H3755)+1,0)","v":0}]
[null,null,null,null,null,{"$f":"IF(COUNTIF(BD!$B$2:B3757,BD!B3757)=1,MAX($F$1:F3756)+1,\"\")","v":""},null,{"$f":"IF(AND(BD!B3757=REF,BD!D3757>=DEB,BD!D3757<=FIN),MAX(calc!$H$1:H3756)+1,0)","v":0}]
[null,null,null,null,null,{"$f":"IF(COUNTIF(BD!$B$2:B3758,BD!B3758)=1,MAX($F$1:F3757)+1,\"\")","v":""},null,{"$f":"IF(AND(BD!B3758=REF,BD!D3758>=DEB,BD!D3758<=FIN),MAX(calc!$H$1:H3757)+1,0)","v":0}]
[null,null,null,null,null,{"$f":"IF(COUNTIF(BD!$B$2:B3759,BD!B3759)=1,MAX($F$1:F3758)+1,\"\")","v":""},null,{"$f":"IF(AND(BD!B3759=REF,BD!D3759>=DEB,BD!D3759<=FIN),MAX(calc!$H$1:H3758)+1,0)","v":0}]
[null,null,null,null,null,{"$f":"IF(COUNTIF(BD!$B$2:B3760,BD!B3760)=1,MAX($F$1:F3759)+1,\"\")","v":""},null,{"$f":"IF(AND(BD!B3760=REF,BD!D3760>=DEB,BD!D3760<=FIN),MAX(calc!$H$1:H3759)+1,0)","v":0}]
[null,null,null,null,null,{"$f":"IF(COUNTIF(BD!$B$2:B3761,BD!B3761)=1,MAX($F$1:F3760)+1,\"\")","v":""},null,{"$f":"IF(AND(BD!B3761=REF,BD!D3761>=DEB,BD!D3761<=FIN),MAX(calc!$H$1:H3760)+1,0)","v":0}]
[null,null,null,null,null,{"$f":"IF(COUNTIF(BD!$B$2:B3762,BD!B3762)=1,MAX($F$1:F3761)+1,\"\")","v":""},null,{"$f":"IF(AND(BD!B3762=REF,BD!D3762>=DEB,BD!D3762<=FIN),MAX(calc!$H$1:H3761)+1,0)","v":0}]
[null,null,null,null,null,{"$f":"IF(COUNTIF(BD!$B$2:B3763,BD!B3763)=1,MAX($F$1:F3762)+1,\"\")","v":""},null,{"$f":"IF(AND(BD!B3763=REF,BD!D3763>=DEB,BD!D3763<=FIN),MAX(calc!$H$1:H3762)+1,0)","v":0}]
[null,null,null,null,null,{"$f":"IF(COUNTIF(BD!$B$2:B3764,BD!B3764)=1,MAX($F$1:F3763)+1,\"\")","v":""},null,{"$f":"IF(AND(BD!B3764=REF,BD!D3764>=DEB,BD!D3764<=FIN),MAX(calc!$H$1:H3763)+1,0)","v":0}]
[null,null,null,null,null,{"$f":"IF(COUNTIF(BD!$B$2:B3765,BD!B3765)=1,MAX($F$1:F3764)+1,\"\")","v":""},null,{"$f":"IF(AND(BD!B3765=REF,BD!D3765>=DEB,BD!D3765<=FIN),MAX(calc!$H$1:H3764)+1,0)","v":0}]
[null,null,null,null,null,{"$f":"IF(COUNTIF(BD!$B$2:B3766,BD!B3766)=1,MAX($F$1:F3765)+1,\"\")","v":""},null,{"$f":"IF(AND(BD!B3766=REF,BD!D3766>=DEB,BD!D3766<=FIN),MAX(calc!$H$1:H3765)+1,0)","v":0}]
[null,null,null,null,null,{"$f":"IF(COUNTIF(BD!$B$2:B3767,BD!B3767)=1,MAX($F$1:F3766)+1,\"\")","v":""},null,{"$f":"IF(AND(BD!B3767=REF,BD!D3767>=DEB,BD!D3767<=FIN),MAX(calc!$H$1:H3766)+1,0)","v":0}]
[null,null,null,null,null,{"$f":"IF(COUNTIF(BD!$B$2:B3768,BD!B3768)=1,MAX($F$1:F3767)+1,\"\")","v":""},null,{"$f":"IF(AND(BD!B3768=REF,BD!D3768>=DEB,BD!D3768<=FIN),MAX(calc!$H$1:H3767)+1,0)","v":0}]
[null,null,null,null,null,{"$f":"IF(COUNTIF(BD!$B$2:B3769,BD!B3769)=1,MAX($F$1:F3768)+1,\"\")","v":""},null,{"$f":"IF(AND(BD!B3769=REF,BD!D3769>=DEB,BD!D3769<=FIN),MAX(calc!$H$1:H3768)+1,0)","v":0}]
[null,null,null,null,null,{"$f":"IF(COUNTIF(BD!$B$2:B3770,BD!B3770)=1,MAX($F$1:F3769)+1,\"\")","v":""},null,{"$f":"IF(AND(BD!B3770=REF,BD!D3770>=DEB,BD!D3770<=FIN),MAX(calc!$H$1:H3769)+1,0)","v":0}]
[null,null,null,null,null,{"$f":"IF(COUNTIF(BD!$B$2:B3771,BD!B3771)=1,MAX($F$1:F3770)+1,\"\")","v":""},null,{"$f":"IF(AND(BD!B3771=REF,BD!D3771>=DEB,BD!D3771<=FIN),MAX(calc!$H$1:H3770)+1,0)","v":0}]
[null,null,null,null,null,{"$f":"IF(COUNTIF(BD!$B$2:B3772,BD!B3772)=1,MAX($F$1:F3771)+1,\"\")","v":""},null,{"$f":"IF(AND(BD!B3772=REF,BD!D3772>=DEB,BD!D3772<=FIN),MAX(calc!$H$1:H3771)+1,0)","v":0}]
[null,null,null,null,null,{"$f":"IF(COUNTIF(BD!$B$2:B3773,BD!B3773)=1,MAX($F$1:F3772)+1,\"\")","v":""},null,{"$f":"IF(AND(BD!B3773=REF,BD!D3773>=DEB,BD!D3773<=FIN),MAX(calc!$H$1:H3772)+1,0)","v":0}]
[null,null,null,null,null,{"$f":"IF(COUNTIF(BD!$B$2:B3774,BD!B3774)=1,MAX($F$1:F3773)+1,\"\")","v":""},null,{"$f":"IF(AND(BD!B3774=REF,BD!D3774>=DEB,BD!D3774<=FIN),MAX(calc!$H$1:H3773)+1,0)","v":0}]
[null,null,null,null,null,{"$f":"IF(COUNTIF(BD!$B$2:B3775,BD!B3775)=1,MAX($F$1:F3774)+1,\"\")","v":""},null,{"$f":"IF(AND(BD!B3775=REF,BD!D3775>=DEB,BD!D3775<=FIN),MAX(calc!$H$1:H3774)+1,0)","v":0}]
[null,null,null,null,null,{"$f":"IF(COUNTIF(BD!$B$2:B3776,BD!B3776)=1,MAX($F$1:F3775)+1,\"\")","v":""},null,{"$f":"IF(AND(BD!B3776=REF,BD!D3776>=DEB,BD!D3776<=FIN),MAX(calc!$H$1:H3775)+1,0)","v":0}]
[null,null,null,null,null,{"$f":"IF(COUNTIF(BD!$B$2:B3777,BD!B3777)=1,MAX($F$1:F3776)+1,\"\")","v":""},null,{"$f":"IF(AND(BD!B3777=REF,BD!D3777>=DEB,BD!D3777<=FIN),MAX(calc!$H$1:H3776)+1,0)","v":0}]
[null,null,null,null,null,{"$f":"IF(COUNTIF(BD!$B$2:B3778,BD!B3778)=1,MAX($F$1:F3777)+1,\"\")","v":""},null,{"$f":"IF(AND(BD!B3778=REF,BD!D3778>=DEB,BD!D3778<=FIN),MAX(calc!$H$1:H3777)+1,0)","v":0}]
[null,null,null,null,null,{"$f":"IF(COUNTIF(BD!$B$2:B3779,BD!B3779)=1,MAX($F$1:F3778)+1,\"\")","v":""},null,{"$f":"IF(AND(BD!B3779=REF,BD!D3779>=DEB,BD!D3779<=FIN),MAX(calc!$H$1:H3778)+1,0)","v":0}]
[null,null,null,null,null,{"$f":"IF(COUNTIF(BD!$B$2:B3780,BD!B3780)=1,MAX($F$1:F3779)+1,\"\")","v":""},null,{"$f":"IF(AND(BD!B3780=REF,BD!D3780>=DEB,BD!D3780<=FIN),MAX(calc!$H$1:H3779)+1,0)","v":0}]
[null,null,null,null,null,{"$f":"IF(COUNTIF(BD!$B$2:B3781,BD!B3781)=1,MAX($F$1:F3780)+1,\"\")","v":""},null,{"$f":"IF(AND(BD!B3781=REF,BD!D3781>=DEB,BD!D3781<=FIN),MAX(calc!$H$1:H3780)+1,0)","v":0}]
[null,null,null,null,null,{"$f":"IF(COUNTIF(BD!$B$2:B3782,BD!B3782)=1,MAX($F$1:F3781)+1,\"\")","v":""},null,{"$f":"IF(AND(BD!B3782=REF,BD!D3782>=DEB,BD!D3782<=FIN),MAX(calc!$H$1:H3781)+1,0)","v":0}]
[null,null,null,null,null,{"$f":"IF(COUNTIF(BD!$B$2:B3783,BD!B3783)=1,MAX($F$1:F3782)+1,\"\")","v":""},null,{"$f":"IF(AND(BD!B3783=REF,BD!D3783>=DEB,BD!D3783<=FIN),MAX(calc!$H$1:H3782)+1,0)","v":0}]
[null,null,null,null,null,{"$f":"IF(COUNTIF(BD!$B$2:B3784,BD!B3784)=1,MAX($F$1:F3783)+1,\"\")","v":""},null,{"$f":"IF(AND(BD!B3784=REF,BD!D3784>=DEB,BD!D3784<=FIN),MAX(calc!$H$1:H3783)+1,0)","v":0}]
[null,null,null,null,null,{"$f":"IF(COUNTIF(BD!$B$2:B3785,BD!B3785)=1,MAX($F$1:F3784)+1,\"\")","v":""},null,{"$f":"IF(AND(BD!B3785=REF,BD!D3785>=DEB,BD!D3785<=FIN),MAX(calc!$H$1:H3784)+1,0)","v":0}]
[null,null,null,null,null,{"$f":"IF(COUNTIF(BD!$B$2:B3786,BD!B3786)=1,MAX($F$1:F3785)+1,\"\")","v":""},null,{"$f":"IF(AND(BD!B3786=REF,BD!D3786>=DEB,BD!D3786<=FIN),MAX(calc!$H$1:H3785)+1,0)","v":0}]
[null,null,null,null,null,{"$f":"IF(COUNTIF(BD!$B$2:B3787,BD!B3787)=1,MAX($F$1:F3786)+1,\"\")","v":""},null,{"$f":"IF(AND(BD!B3787=REF,BD!D3787>=DEB,BD!D3787<=FIN),MAX(calc!$H$1:H3786)+1,0)","v":0}]
[null,null,null,null,null,{"$f":"IF(COUNTIF(BD!$B$2:B3788,BD!B3788)=1,MAX($F$1:F3787)+1,\"\")","v":""},null,{"$f":"IF(AND(BD!B3788=REF,BD!D3788>=DEB,BD!D3788<=FIN),MAX(calc!$H$1:H3787)+1,0)","v":0}]
[null,null,null,null,null,{"$f":"IF(COUNTIF(BD!$B$2:B3789,BD!B3789)=1,MAX($F$1:F3788)+1,\"\")","v":""},null,{"$f":"IF(AND(BD!B3789=REF,BD!D3789>=DEB,BD!D3789<=FIN),MAX(calc!$H$1:H3788)+1,0)","v":0}]
[null,null,null,null,null,{"$f":"IF(COUNTIF(BD!$B$2:B3790,BD!B3790)=1,MAX($F$1:F3789)+1,\"\")","v":""},null,{"$f":"IF(AND(BD!B3790=REF,BD!D3790>=DEB,BD!D3790<=FIN),MAX(calc!$H$1:H3789)+1,0)","v":0}]
[null,null,null,null,null,{"$f":"IF(COUNTIF(BD!$B$2:B3791,BD!B3791)=1,MAX($F$1:F3790)+1,\"\")","v":""},null,{"$f":"IF(AND(BD!B3791=REF,BD!D3791>=DEB,BD!D3791<=FIN),MAX(calc!$H$1:H3790)+1,0)","v":0}]
[null,null,null,null,null,{"$f":"IF(COUNTIF(BD!$B$2:B3792,BD!B3792)=1,MAX($F$1:F3791)+1,\"\")","v":""},null,{"$f":"IF(AND(BD!B3792=REF,BD!D3792>=DEB,BD!D3792<=FIN),MAX(calc!$H$1:H3791)+1,0)","v":0}]
[null,null,null,null,null,{"$f":"IF(COUNTIF(BD!$B$2:B3793,BD!B3793)=1,MAX($F$1:F3792)+1,\"\")","v":""},null,{"$f":"IF(AND(BD!B3793=REF,BD!D3793>=DEB,BD!D3793<=FIN),MAX(calc!$H$1:H3792)+1,0)","v":0}]
[null,null,null,null,null,{"$f":"IF(COUNTIF(BD!$B$2:B3794,BD!B3794)=1,MAX($F$1:F3793)+1,\"\")","v":""},null,{"$f":"IF(AND(BD!B3794=REF,BD!D3794>=DEB,BD!D3794<=FIN),MAX(calc!$H$1:H3793)+1,0)","v":0}]
[null,null,null,null,null,{"$f":"IF(COUNTIF(BD!$B$2:B3795,BD!B3795)=1,MAX($F$1:F3794)+1,\"\")","v":""},null,{"$f":"IF(AND(BD!B3795=REF,BD!D3795>=DEB,BD!D3795<=FIN),MAX(calc!$H$1:H3794)+1,0)","v":0}]
[null,null,null,null,null,{"$f":"IF(COUNTIF(BD!$B$2:B3796,BD!B3796)=1,MAX($F$1:F3795)+1,\"\")","v":""},null,{"$f":"IF(AND(BD!B3796=REF,BD!D3796>=DEB,BD!D3796<=FIN),MAX(calc!$H$1:H3795)+1,0)","v":0}]
[null,null,null,null,null,{"$f":"IF(COUNTIF(BD!$B$2:B3797,BD!B3797)=1,MAX($F$1:F3796)+1,\"\")","v":""},null,{"$f":"IF(AND(BD!B3797=REF,BD!D3797>=DEB,BD!D3797<=FIN),MAX(calc!$H$1:H3796)+1,0)","v":0}]
[null,null,null,null,null,{"$f":"IF(COUNTIF(BD!$B$2:B3798,BD!B3798)=1,MAX($F$1:F3797)+1,\"\")","v":""},null,{"$f":"IF(AND(BD!B3798=REF,BD!D3798>=DEB,BD!D3798<=FIN),MAX(calc!$H$1:H3797)+1,0)","v":0}]
[null,null,null,null,null,{"$f":"IF(COUNTIF(BD!$B$2:B3799,BD!B3799)=1,MAX($F$1:F3798)+1,\"\")","v":""},null,{"$f":"IF(AND(BD!B3799=REF,BD!D3799>=DEB,BD!D3799<=FIN),MAX(calc!$H$1:H3798)+1,0)","v":0}]
[null,null,null,null,null,{"$f":"IF(COUNTIF(BD!$B$2:B3800,BD!B3800)=1,MAX($F$1:F3799)+1,\"\")","v":""},null,{"$f":"IF(AND(BD!B3800=REF,BD!D3800>=DEB,BD!D3800<=FIN),MAX(calc!$H$1:H3799)+1,0)","v":0}]
[null,null,null,null,null,{"$f":"IF(COUNTIF(BD!$B$2:B3801,BD!B3801)=1,MAX($F$1:F3800)+1,\"\")","v":""},null,{"$f":"IF(AND(BD!B3801=REF,BD!D3801>=DEB,BD!D3801<=FIN),MAX(calc!$H$1:H3800)+1,0)","v":0}]
[null,null,null,null,null,{"$f":"IF(COUNTIF(BD!$B$2:B3802,BD!B3802)=1,MAX($F$1:F3801)+1,\"\")","v":""},null,{"$f":"IF(AND(BD!B3802=REF,BD!D3802>=DEB,BD!D3802<=FIN),MAX(calc!$H$1:H3801)+1,0)","v":0}]
[null,null,null,null,null,{"$f":"IF(COUNTIF(BD!$B$2:B3803,BD!B3803)=1,MAX($F$1:F3802)+1,\"\")","v":""},null,{"$f":"IF(AND(BD!B3803=REF,BD!D3803>=DEB,BD!D3803<=FIN),MAX(calc!$H$1:H3802)+1,0)","v":0}]
[null,null,null,null,null,{"$f":"IF(COUNTIF(BD!$B$2:B3804,BD!B3804)=1,MAX($F$1:F3803)+1,\"\")","v":""},null,{"$f":"IF(AND(BD!B3804=REF,BD!D3804>=DEB,BD!D3804<=FIN),MAX(calc!$H$1:H3803)+1,0)","v":0}]
[null,null,null,null,null,{"$f":"IF(COUNTIF(BD!$B$2:B3805,BD!B3805)=1,MAX($F$1:F3804)+1,\"\")","v":""},null,{"$f":"IF(AND(BD!B3805=REF,BD!D3805>=DEB,BD!D3805<=FIN),MAX(calc!$H$1:H3804)+1,0)","v":0}]
[null,null,null,null,null,{"$f":"IF(COUNTIF(BD!$B$2:B3806,BD!B3806)=1,MAX($F$1:F3805)+1,\"\")","v":""},null,{"$f":"IF(AND(BD!B3806=REF,BD!D3806>=DEB,BD!D3806<=FIN),MAX(calc!$H$1:H3805)+1,0)","v":0}]
[null,null,null,null,null,{"$f":"IF(COUNTIF(BD!$B$2:B3807,BD!B3807)=1,MAX($F$1:F3806)+1,\"\")","v":""},null,{"$f":"IF(AND(BD!B3807=REF,BD!D3807>=DEB,BD!D3807<=FIN),MAX(calc!$H$1:H3806)+1,0)","v":0}]
[null,null,null,null,null,{"$f":"IF(COUNTIF(BD!$B$2:B3808,BD!B3808)=1,MAX($F$1:F3807)+1,\"\")","v":""},null,{"$f":"IF(AND(BD!B3808=REF,BD!D3808>=DEB,BD!D3808<=FIN),MAX(calc!$H$1:H3807)+1,0)","v":0}]
[null,null,null,null,null,{"$f":"IF(COUNTIF(BD!$B$2:B3809,BD!B3809)=1,MAX($F$1:F3808)+1,\"\")","v":""},null,{"$f":"IF(AND(BD!B3809=REF,BD!D3809>=DEB,BD!D3809<=FIN),MAX(calc!$H$1:H3808)+1,0)","v":0}]
[null,null,null,null,null,{"$f":"IF(COUNTIF(BD!$B$2:B3810,BD!B3810)=1,MAX($F$1:F3809)+1,\"\")","v":""},null,{"$f":"IF(AND(BD!B3810=REF,BD!D3810>=DEB,BD!D3810<=FIN),MAX(calc!$H$1:H3809)+1,0)","v":0}]
[null,null,null,null,null,{"$f":"IF(COUNTIF(BD!$B$2:B3811,BD!B3811)=1,MAX($F$1:F3810)+1,\"\")","v":""},null,{"$f":"IF(AND(BD!B3811=REF,BD!D3811>=DEB,BD!D3811<=FIN),MAX(calc!$H$1:H3810)+1,0)","v":0}]
[null,null,null,null,null,{"$f":"IF(COUNTIF(BD!$B$2:B3812,BD!B3812)=1,MAX($F$1:F3811)+1,\"\")","v":""},null,{"$f":"IF(AND(BD!B3812=REF,BD!D3812>=DEB,BD!D3812<=FIN),MAX(calc!$H$1:H3811)+1,0)","v":0}]
[null,null,null,null,null,{"$f":"IF(COUNTIF(BD!$B$2:B3813,BD!B3813)=1,MAX($F$1:F3812)+1,\"\")","v":""},null,{"$f":"IF(AND(BD!B3813=REF,BD!D3813>=DEB,BD!D3813<=FIN),MAX(calc!$H$1:H3812)+1,0)","v":0}]
[null,null,null,null,null,{"$f":"IF(COUNTIF(BD!$B$2:B3814,BD!B3814)=1,MAX($F$1:F3813)+1,\"\")","v":""},null,{"$f":"IF(AND(BD!B3814=REF,BD!D3814>=DEB,BD!D3814<=FIN),MAX(calc!$H$1:H3813)+1,0)","v":0}]
[null,null,null,null,null,{"$f":"IF(COUNTIF(BD!$B$2:B3815,BD!B3815)=1,MAX($F$1:F3814)+1,\"\")","v":""},null,{"$f":"IF(AND(BD!B3815=REF,BD!D3815>=DEB,BD!D3815<=FIN),MAX(calc!$H$1:H3814)+1,0)","v":0}]
[null,null,null,null,null,{"$f":"IF(COUNTIF(BD!$B$2:B3816,BD!B3816)=1,MAX($F$1:F3815)+1,\"\")","v":""},null,{"$f":"IF(AND(BD!B3816=REF,BD!D3816>=DEB,BD!D3816<=FIN),MAX(calc!$H$1:H3815)+1,0)","v":0}]
[null,null,null,null,null,{"$f":"IF(COUNTIF(BD!$B$2:B3817,BD!B3817)=1,MAX($F$1:F3816)+1,\"\")","v":""},null,{"$f":"IF(AND(BD!B3817=REF,BD!D3817>=DEB,BD!D3817<=FIN),MAX(calc!$H$1:H3816)+1,0)","v":0}]
[null,null,null,null,null,{"$f":"IF(COUNTIF(BD!$B$2:B3818,BD!B3818)=1,MAX($F$1:F3817)+1,\"\")","v":""},null,{"$f":"IF(AND(BD!B3818=REF,BD!D3818>=DEB,BD!D3818<=FIN),MAX(calc!$H$1:H3817)+1,0)","v":0}]
[null,null,null,null,null,{"$f":"IF(COUNTIF(BD!$B$2:B3819,BD!B3819)=1,MAX($F$1:F3818)+1,\"\")","v":""},null,{"$f":"IF(AND(BD!B3819=REF,BD!D3819>=DEB,BD!D3819<=FIN),MAX(calc!$H$1:H3818)+1,0)","v":0}]
[null,null,null,null,null,{"$f":"IF(COUNTIF(BD!$B$2:B3820,BD!B3820)=1,MAX($F$1:F3819)+1,\"\")","v":""},null,{"$f":"IF(AND(BD!B3820=REF,BD!D3820>=DEB,BD!D3820<=FIN),MAX(calc!$H$1:H3819)+1,0)","v":0}]
[null,null,null,null,null,{"$f":"IF(COUNTIF(BD!$B$2:B3821,BD!B3821)=1,MAX($F$1:F3820)+1,\"\")","v":""},null,{"$f":"IF(AND(BD!B3821=REF,BD!D3821>=DEB,BD!D3821<=FIN),MAX(calc!$H$1:H3820)+1,0)","v":0}]
[null,null,null,null,null,{"$f":"IF(COUNTIF(BD!$B$2:B3822,BD!B3822)=1,MAX($F$1:F3821)+1,\"\")","v":""},null,{"$f":"IF(AND(BD!B3822=REF,BD!D3822>=DEB,BD!D3822<=FIN),MAX(calc!$H$1:H3821)+1,0)","v":0}]
[null,null,null,null,null,{"$f":"IF(COUNTIF(BD!$B$2:B3823,BD!B3823)=1,MAX($F$1:F3822)+1,\"\")","v":""},null,{"$f":"IF(AND(BD!B3823=REF,BD!D3823>=DEB,BD!D3823<=FIN),MAX(calc!$H$1:H3822)+1,0)","v":0}]
[null,null,null,null,null,{"$f":"IF(COUNTIF(BD!$B$2:B3824,BD!B3824)=1,MAX($F$1:F3823)+1,\"\")","v":""},null,{"$f":"IF(AND(BD!B3824=REF,BD!D3824>=DEB,BD!D3824<=FIN),MAX(calc!$H$1:H3823)+1,0)","v":0}]
[null,null,null,null,null,{"$f":"IF(COUNTIF(BD!$B$2:B3825,BD!B3825)=1,MAX($F$1:F3824)+1,\"\")","v":""},null,{"$f":"IF(AND(BD!B3825=REF,BD!D3825>=DEB,BD!D3825<=FIN),MAX(calc!$H$1:H3824)+1,0)","v":0}]
[null,null,null,null,null,{"$f":"IF(COUNTIF(BD!$B$2:B3826,BD!B3826)=1,MAX($F$1:F3825)+1,\"\")","v":""},null,{"$f":"IF(AND(BD!B3826=REF,BD!D3826>=DEB,BD!D3826<=FIN),MAX(calc!$H$1:H3825)+1,0)","v":0}]
[null,null,null,null,null,{"$f":"IF(COUNTIF(BD!$B$2:B3827,BD!B3827)=1,MAX($F$1:F3826)+1,\"\")","v":""},null,{"$f":"IF(AND(BD!B3827=REF,BD!D3827>=DEB,BD!D3827<=FIN),MAX(calc!$H$1:H3826)+1,0)","v":0}]
[null,null,null,null,null,{"$f":"IF(COUNTIF(BD!$B$2:B3828,BD!B3828)=1,MAX($F$1:F3827)+1,\"\")","v":""},null,{"$f":"IF(AND(BD!B3828=REF,BD!D3828>=DEB,BD!D3828<=FIN),MAX(calc!$H$1:H3827)+1,0)","v":0}]
[null,null,null,null,null,{"$f":"IF(COUNTIF(BD!$B$2:B3829,BD!B3829)=1,MAX($F$1:F3828)+1,\"\")","v":""},null,{"$f":"IF(AND(BD!B3829=REF,BD!D3829>=DEB,BD!D3829<=FIN),MAX(calc!$H$1:H3828)+1,0)","v":0}]
[null,null,null,null,null,{"$f":"IF(COUNTIF(BD!$B$2:B3830,BD!B3830)=1,MAX($F$1:F3829)+1,\"\")","v":""},null,{"$f":"IF(AND(BD!B3830=REF,BD!D3830>=DEB,BD!D3830<=FIN),MAX(calc!$H$1:H3829)+1,0)","v":0}]
[null,null,null,null,null,{"$f":"IF(COUNTIF(BD!$B$2:B3831,BD!B3831)=1,MAX($F$1:F3830)+1,\"\")","v":""},null,{"$f":"IF(AND(BD!B3831=REF,BD!D3831>=DEB,BD!D3831<=FIN),MAX(calc!$H$1:H3830)+1,0)","v":0}]
[null,null,null,null,null,{"$f":"IF(COUNTIF(BD!$B$2:B3832,BD!B3832)=1,MAX($F$1:F3831)+1,\"\")","v":""},null,{"$f":"IF(AND(BD!B3832=REF,BD!D3832>=DEB,BD!D3832<=FIN),MAX(calc!$H$1:H3831)+1,0)","v":0}]
[null,null,null,null,null,{"$f":"IF(COUNTIF(BD!$B$2:B3833,BD!B3833)=1,MAX($F$1:F3832)+1,\"\")","v":""},null,{"$f":"IF(AND(BD!B3833=REF,BD!D3833>=DEB,BD!D3833<=FIN),MAX(calc!$H$1:H3832)+1,0)","v":0}]
[null,null,null,null,null,{"$f":"IF(COUNTIF(BD!$B$2:B3834,BD!B3834)=1,MAX($F$1:F3833)+1,\"\")","v":""},null,{"$f":"IF(AND(BD!B3834=REF,BD!D3834>=DEB,BD!D3834<=FIN),MAX(calc!$H$1:H3833)+1,0)","v":0}]
[null,null,null,null,null,{"$f":"IF(COUNTIF(BD!$B$2:B3835,BD!B3835)=1,MAX($F$1:F3834)+1,\"\")","v":""},null,{"$f":"IF(AND(BD!B3835=REF,BD!D3835>=DEB,BD!D3835<=FIN),MAX(calc!$H$1:H3834)+1,0)","v":0}]
[null,null,null,null,null,{"$f":"IF(COUNTIF(BD!$B$2:B3836,BD!B3836)=1,MAX($F$1:F3835)+1,\"\")","v":""},null,{"$f":"IF(AND(BD!B3836=REF,BD!D3836>=DEB,BD!D3836<=FIN),MAX(calc!$H$1:H3835)+1,0)","v":0}]
[null,null,null,null,null,{"$f":"IF(COUNTIF(BD!$B$2:B3837,BD!B3837)=1,MAX($F$1:F3836)+1,\"\")","v":""},null,{"$f":"IF(AND(BD!B3837=REF,BD!D3837>=DEB,BD!D3837<=FIN),MAX(calc!$H$1:H3836)+1,0)","v":0}]
[null,null,null,null,null,{"$f":"IF(COUNTIF(BD!$B$2:B3838,BD!B3838)=1,MAX($F$1:F3837)+1,\"\")","v":""},null,{"$f":"IF(AND(BD!B3838=REF,BD!D3838>=DEB,BD!D3838<=FIN),MAX(calc!$H$1:H3837)+1,0)","v":0}]
[null,null,null,null,null,{"$f":"IF(COUNTIF(BD!$B$2:B3839,BD!B3839)=1,MAX($F$1:F3838)+1,\"\")","v":""},null,{"$f":"IF(AND(BD!B3839=REF,BD!D3839>=DEB,BD!D3839<=FIN),MAX(calc!$H$1:H3838)+1,0)","v":0}]
[null,null,null,null,null,{"$f":"IF(COUNTIF(BD!$B$2:B3840,BD!B3840)=1,MAX($F$1:F3839)+1,\"\")","v":""},null,{"$f":"IF(AND(BD!B3840=REF,BD!D3840>=DEB,BD!D3840<=FIN),MAX(calc!$H$1:H3839)+1,0)","v":0}]
[null,null,null,null,null,{"$f":"IF(COUNTIF(BD!$B$2:B3841,BD!B3841)=1,MAX($F$1:F3840)+1,\"\")","v":""},null,{"$f":"IF(AND(BD!B3841=REF,BD!D3841>=DEB,BD!D3841<=FIN),MAX(calc!$H$1:H3840)+1,0)","v":0}]
[null,null,null,null,null,{"$f":"IF(COUNTIF(BD!$B$2:B3842,BD!B3842)=1,MAX($F$1:F3841)+1,\"\")","v":""},null,{"$f":"IF(AND(BD!B3842=REF,BD!D3842>=DEB,BD!D3842<=FIN),MAX(calc!$H$1:H3841)+1,0)","v":0}]
[null,null,null,null,null,{"$f":"IF(COUNTIF(BD!$B$2:B3843,BD!B3843)=1,MAX($F$1:F3842)+1,\"\")","v":""},null,{"$f":"IF(AND(BD!B3843=REF,BD!D3843>=DEB,BD!D3843<=FIN),MAX(calc!$H$1:H3842)+1,0)","v":0}]
[null,null,null,null,null,{"$f":"IF(COUNTIF(BD!$B$2:B3844,BD!B3844)=1,MAX($F$1:F3843)+1,\"\")","v":""},null,{"$f":"IF(AND(BD!B3844=REF,BD!D3844>=DEB,BD!D3844<=FIN),MAX(calc!$H$1:H3843)+1,0)","v":0}]
[null,null,null,null,null,{"$f":"IF(COUNTIF(BD!$B$2:B3845,BD!B3845)=1,MAX($F$1:F3844)+1,\"\")","v":""},null,{"$f":"IF(AND(BD!B3845=REF,BD!D3845>=DEB,BD!D3845<=FIN),MAX(calc!$H$1:H3844)+1,0)","v":0}]
[null,null,null,null,null,{"$f":"IF(COUNTIF(BD!$B$2:B3846,BD!B3846)=1,MAX($F$1:F3845)+1,\"\")","v":""},null,{"$f":"IF(AND(BD!B3846=REF,BD!D3846>=DEB,BD!D3846<=FIN),MAX(calc!$H$1:H3845)+1,0)","v":0}]
[null,null,null,null,null,{"$f":"IF(COUNTIF(BD!$B$2:B3847,BD!B3847)=1,MAX($F$1:F3846)+1,\"\")","v":""},null,{"$f":"IF(AND(BD!B3847=REF,BD!D3847>=DEB,BD!D3847<=FIN),MAX(calc!$H$1:H3846)+1,0)","v":0}]
[null,null,null,null,null,{"$f":"IF(COUNTIF(BD!$B$2:B3848,BD!B3848)=1,MAX($F$1:F3847)+1,\"\")","v":""},null,{"$f":"IF(AND(BD!B3848=REF,BD!D3848>=DEB,BD!D3848<=FIN),MAX(calc!$H$1:H3847)+1,0)","v":0}]
[null,null,null,null,null,{"$f":"IF(COUNTIF(BD!$B$2:B3849,BD!B3849)=1,MAX($F$1:F3848)+1,\"\")","v":""},null,{"$f":"IF(AND(BD!B3849=REF,BD!D3849>=DEB,BD!D3849<=FIN),MAX(calc!$H$1:H3848)+1,0)","v":0}]
[null,null,null,null,null,{"$f":"IF(COUNTIF(BD!$B$2:B3850,BD!B3850)=1,MAX($F$1:F3849)+1,\"\")","v":""},null,{"$f":"IF(AND(BD!B3850=REF,BD!D3850>=DEB,BD!D3850<=FIN),MAX(calc!$H$1:H3849)+1,0)","v":0}]
[null,null,null,null,null,{"$f":"IF(COUNTIF(BD!$B$2:B3851,BD!B3851)=1,MAX($F$1:F3850)+1,\"\")","v":""},null,{"$f":"IF(AND(BD!B3851=REF,BD!D3851>=DEB,BD!D3851<=FIN),MAX(calc!$H$1:H3850)+1,0)","v":0}]
[null,null,null,null,null,{"$f":"IF(COUNTIF(BD!$B$2:B3852,BD!B3852)=1,MAX($F$1:F3851)+1,\"\")","v":""},null,{"$f":"IF(AND(BD!B3852=REF,BD!D3852>=DEB,BD!D3852<=FIN),MAX(calc!$H$1:H3851)+1,0)","v":0}]
[null,null,null,null,null,{"$f":"IF(COUNTIF(BD!$B$2:B3853,BD!B3853)=1,MAX($F$1:F3852)+1,\"\")","v":""},null,{"$f":"IF(AND(BD!B3853=REF,BD!D3853>=DEB,BD!D3853<=FIN),MAX(calc!$H$1:H3852)+1,0)","v":0}]
[null,null,null,null,null,{"$f":"IF(COUNTIF(BD!$B$2:B3854,BD!B3854)=1,MAX($F$1:F3853)+1,\"\")","v":""},null,{"$f":"IF(AND(BD!B3854=REF,BD!D3854>=DEB,BD!D3854<=FIN),MAX(calc!$H$1:H3853)+1,0)","v":0}]
[null,null,null,null,null,{"$f":"IF(COUNTIF(BD!$B$2:B3855,BD!B3855)=1,MAX($F$1:F3854)+1,\"\")","v":""},null,{"$f":"IF(AND(BD!B3855=REF,BD!D3855>=DEB,BD!D3855<=FIN),MAX(calc!$H$1:H3854)+1,0)","v":0}]
[null,null,null,null,null,{"$f":"IF(COUNTIF(BD!$B$2:B3856,BD!B3856)=1,MAX($F$1:F3855)+1,\"\")","v":""},null,{"$f":"IF(AND(BD!B3856=REF,BD!D3856>=DEB,BD!D3856<=FIN),MAX(calc!$H$1:H3855)+1,0)","v":0}]
[null,null,null,null,null,{"$f":"IF(COUNTIF(BD!$B$2:B3857,BD!B3857)=1,MAX($F$1:F3856)+1,\"\")","v":""},null,{"$f":"IF(AND(BD!B3857=REF,BD!D3857>=DEB,BD!D3857<=FIN),MAX(calc!$H$1:H3856)+1,0)","v":0}]
[null,null,null,null,null,{"$f":"IF(COUNTIF(BD!$B$2:B3858,BD!B3858)=1,MAX($F$1:F3857)+1,\"\")","v":""},null,{"$f":"IF(AND(BD!B3858=REF,BD!D3858>=DEB,BD!D3858<=FIN),MAX(calc!$H$1:H3857)+1,0)","v":0}]
[null,null,null,null,null,{"$f":"IF(COUNTIF(BD!$B$2:B3859,BD!B3859)=1,MAX($F$1:F3858)+1,\"\")","v":""},null,{"$f":"IF(AND(BD!B3859=REF,BD!D3859>=DEB,BD!D3859<=FIN),MAX(calc!$H$1:H3858)+1,0)","v":0}]
[null,null,null,null,null,{"$f":"IF(COUNTIF(BD!$B$2:B3860,BD!B3860)=1,MAX($F$1:F3859)+1,\"\")","v":""},null,{"$f":"IF(AND(BD!B3860=REF,BD!D3860>=DEB,BD!D3860<=FIN),MAX(calc!$H$1:H3859)+1,0)","v":0}]
[null,null,null,null,null,{"$f":"IF(COUNTIF(BD!$B$2:B3861,BD!B3861)=1,MAX($F$1:F3860)+1,\"\")","v":""},null,{"$f":"IF(AND(BD!B3861=REF,BD!D3861>=DEB,BD!D3861<=FIN),MAX(calc!$H$1:H3860)+1,0)","v":0}]
[null,null,null,null,null,{"$f":"IF(COUNTIF(BD!$B$2:B3862,BD!B3862)=1,MAX($F$1:F3861)+1,\"\")","v":""},null,{"$f":"IF(AND(BD!B3862=REF,BD!D3862>=DEB,BD!D3862<=FIN),MAX(calc!$H$1:H3861)+1,0)","v":0}]
[null,null,null,null,null,{"$f":"IF(COUNTIF(BD!$B$2:B3863,BD!B3863)=1,MAX($F$1:F3862)+1,\"\")","v":""},null,{"$f":"IF(AND(BD!B3863=REF,BD!D3863>=DEB,BD!D3863<=FIN),MAX(calc!$H$1:H3862)+1,0)","v":0}]
[null,null,null,null,null,{"$f":"IF(COUNTIF(BD!$B$2:B3864,BD!B3864)=1,MAX($F$1:F3863)+1,\"\")","v":""},null,{"$f":"IF(AND(BD!B3864=REF,BD!D3864>=DEB,BD!D3864<=FIN),MAX(calc!$H$1:H3863)+1,0)","v":0}]
[null,null,null,null,null,{"$f":"IF(COUNTIF(BD!$B$2:B3865,BD!B3865)=1,MAX($F$1:F3864)+1,\"\")","v":""},null,{"$f":"IF(AND(BD!B3865=REF,BD!D3865>=DEB,BD!D3865<=FIN),MAX(calc!$H$1:H3864)+1,0)","v":0}]
[null,null,null,null,null,{"$f":"IF(COUNTIF(BD!$B$2:B3866,BD!B3866)=1,MAX($F$1:F3865)+1,\"\")","v":""},null,{"$f":"IF(AND(BD!B3866=REF,BD!D3866>=DEB,BD!D3866<=FIN),MAX(calc!$H$1:H3865)+1,0)","v":0}]
[null,null,null,null,null,{"$f":"IF(COUNTIF(BD!$B$2:B3867,BD!B3867)=1,MAX($F$1:F3866)+1,\"\")","v":""},null,{"$f":"IF(AND(BD!B3867=REF,BD!D3867>=DEB,BD!D3867<=FIN),MAX(calc!$H$1:H3866)+1,0)","v":0}]
[null,null,null,null,null,{"$f":"IF(COUNTIF(BD!$B$2:B3868,BD!B3868)=1,MAX($F$1:F3867)+1,\"\")","v":""},null,{"$f":"IF(AND(BD!B3868=REF,BD!D3868>=DEB,BD!D3868<=FIN),MAX(calc!$H$1:H3867)+1,0)","v":0}]
[null,null,null,null,null,{"$f":"IF(COUNTIF(BD!$B$2:B3869,BD!B3869)=1,MAX($F$1:F3868)+1,\"\")","v":""},null,{"$f":"IF(AND(BD!B3869=REF,BD!D3869>=DEB,BD!D3869<=FIN),MAX(calc!$H$1:H3868)+1,0)","v":0}]
[null,null,null,null,null,{"$f":"IF(COUNTIF(BD!$B$2:B3870,BD!B3870)=1,MAX($F$1:F3869)+1,\"\")","v":""},null,{"$f":"IF(AND(BD!B3870=REF,BD!D3870>=DEB,BD!D3870<=FIN),MAX(calc!$H$1:H3869)+1,0)","v":0}]
[null,null,null,null,null,{"$f":"IF(COUNTIF(BD!$B$2:B3871,BD!B3871)=1,MAX($F$1:F3870)+1,\"\")","v":""},null,{"$f":"IF(AND(BD!B3871=REF,BD!D3871>=DEB,BD!D3871<=FIN),MAX(calc!$H$1:H3870)+1,0)","v":0}]
[null,null,null,null,null,{"$f":"IF(COUNTIF(BD!$B$2:B3872,BD!B3872)=1,MAX($F$1:F3871)+1,\"\")","v":""},null,{"$f":"IF(AND(BD!B3872=REF,BD!D3872>=DEB,BD!D3872<=FIN),MAX(calc!$H$1:H3871)+1,0)","v":0}]
[null,null,null,null,null,{"$f":"IF(COUNTIF(BD!$B$2:B3873,BD!B3873)=1,MAX($F$1:F3872)+1,\"\")","v":""},null,{"$f":"IF(AND(BD!B3873=REF,BD!D3873>=DEB,BD!D3873<=FIN),MAX(calc!$H$1:H3872)+1,0)","v":0}]
[null,null,null,null,null,{"$f":"IF(COUNTIF(BD!$B$2:B3874,BD!B3874)=1,MAX($F$1:F3873)+1,\"\")","v":""},null,{"$f":"IF(AND(BD!B3874=REF,BD!D3874>=DEB,BD!D3874<=FIN),MAX(calc!$H$1:H3873)+1,0)","v":0}]
[null,null,null,null,null,{"$f":"IF(COUNTIF(BD!$B$2:B3875,BD!B3875)=1,MAX($F$1:F3874)+1,\"\")","v":""},null,{"$f":"IF(AND(BD!B3875=REF,BD!D3875>=DEB,BD!D3875<=FIN),MAX(calc!$H$1:H3874)+1,0)","v":0}]
[null,null,null,null,null,{"$f":"IF(COUNTIF(BD!$B$2:B3876,BD!B3876)=1,MAX($F$1:F3875)+1,\"\")","v":""},null,{"$f":"IF(AND(BD!B3876=REF,BD!D3876>=DEB,BD!D3876<=FIN),MAX(calc!$H$1:H3875)+1,0)","v":0}]
[null,null,null,null,null,{"$f":"IF(COUNTIF(BD!$B$2:B3877,BD!B3877)=1,MAX($F$1:F3876)+1,\"\")","v":""},null,{"$f":"IF(AND(BD!B3877=REF,BD!D3877>=DEB,BD!D3877<=FIN),MAX(calc!$H$1:H3876)+1,0)","v":0}]
[null,null,null,null,null,{"$f":"IF(COUNTIF(BD!$B$2:B3878,BD!B3878)=1,MAX($F$1:F3877)+1,\"\")","v":""},null,{"$f":"IF(AND(BD!B3878=REF,BD!D3878>=DEB,BD!D3878<=FIN),MAX(calc!$H$1:H3877)+1,0)","v":0}]
[null,null,null,null,null,{"$f":"IF(COUNTIF(BD!$B$2:B3879,BD!B3879)=1,MAX($F$1:F3878)+1,\"\")","v":""},null,{"$f":"IF(AND(BD!B3879=REF,BD!D3879>=DEB,BD!D3879<=FIN),MAX(calc!$H$1:H3878)+1,0)","v":0}]
[null,null,null,null,null,{"$f":"IF(COUNTIF(BD!$B$2:B3880,BD!B3880)=1,MAX($F$1:F3879)+1,\"\")","v":""},null,{"$f":"IF(AND(BD!B3880=REF,BD!D3880>=DEB,BD!D3880<=FIN),MAX(calc!$H$1:H3879)+1,0)","v":0}]
[null,null,null,null,null,{"$f":"IF(COUNTIF(BD!$B$2:B3881,BD!B3881)=1,MAX($F$1:F3880)+1,\"\")","v":""},null,{"$f":"IF(AND(BD!B3881=REF,BD!D3881>=DEB,BD!D3881<=FIN),MAX(calc!$H$1:H3880)+1,0)","v":0}]
[null,null,null,null,null,{"$f":"IF(COUNTIF(BD!$B$2:B3882,BD!B3882)=1,MAX($F$1:F3881)+1,\"\")","v":""},null,{"$f":"IF(AND(BD!B3882=REF,BD!D3882>=DEB,BD!D3882<=FIN),MAX(calc!$H$1:H3881)+1,0)","v":0}]
[null,null,null,null,null,{"$f":"IF(COUNTIF(BD!$B$2:B3883,BD!B3883)=1,MAX($F$1:F3882)+1,\"\")","v":""},null,{"$f":"IF(AND(BD!B3883=REF,BD!D3883>=DEB,BD!D3883<=FIN),MAX(calc!$H$1:H3882)+1,0)","v":0}]
[null,null,null,null,null,{"$f":"IF(COUNTIF(BD!$B$2:B3884,BD!B3884)=1,MAX($F$1:F3883)+1,\"\")","v":""},null,{"$f":"IF(AND(BD!B3884=REF,BD!D3884>=DEB,BD!D3884<=FIN),MAX(calc!$H$1:H3883)+1,0)","v":0}]
[null,null,null,null,null,{"$f":"IF(COUNTIF(BD!$B$2:B3885,BD!B3885)=1,MAX($F$1:F3884)+1,\"\")","v":""},null,{"$f":"IF(AND(BD!B3885=REF,BD!D3885>=DEB,BD!D3885<=FIN),MAX(calc!$H$1:H3884)+1,0)","v":0}]
[null,null,null,null,null,{"$f":"IF(COUNTIF(BD!$B$2:B3886,BD!B3886)=1,MAX($F$1:F3885)+1,\"\")","v":""},null,{"$f":"IF(AND(BD!B3886=REF,BD!D3886>=DEB,BD!D3886<=FIN),MAX(calc!$H$1:H3885)+1,0)","v":0}]
[null,null,null,null,null,{"$f":"IF(COUNTIF(BD!$B$2:B3887,BD!B3887)=1,MAX($F$1:F3886)+1,\"\")","v":""},null,{"$f":"IF(AND(BD!B3887=REF,BD!D3887>=DEB,BD!D3887<=FIN),MAX(calc!$H$1:H3886)+1,0)","v":0}]
[null,null,null,null,null,{"$f":"IF(COUNTIF(BD!$B$2:B3888,BD!B3888)=1,MAX($F$1:F3887)+1,\"\")","v":""},null,{"$f":"IF(AND(BD!B3888=REF,BD!D3888>=DEB,BD!D3888<=FIN),MAX(calc!$H$1:H3887)+1,0)","v":0}]
[null,null,null,null,null,{"$f":"IF(COUNTIF(BD!$B$2:B3889,BD!B3889)=1,MAX($F$1:F3888)+1,\"\")","v":""},null,{"$f":"IF(AND(BD!B3889=REF,BD!D3889>=DEB,BD!D3889<=FIN),MAX(calc!$H$1:H3888)+1,0)","v":0}]
[null,null,null,null,null,{"$f":"IF(COUNTIF(BD!$B$2:B3890,BD!B3890)=1,MAX($F$1:F3889)+1,\"\")","v":""},null,{"$f":"IF(AND(BD!B3890=REF,BD!D3890>=DEB,BD!D3890<=FIN),MAX(calc!$H$1:H3889)+1,0)","v":0}]
[null,null,null,null,null,{"$f":"IF(COUNTIF(BD!$B$2:B3891,BD!B3891)=1,MAX($F$1:F3890)+1,\"\")","v":""},null,{"$f":"IF(AND(BD!B3891=REF,BD!D3891>=DEB,BD!D3891<=FIN),MAX(calc!$H$1:H3890)+1,0)","v":0}]
[null,null,null,null,null,{"$f":"IF(COUNTIF(BD!$B$2:B3892,BD!B3892)=1,MAX($F$1:F3891)+1,\"\")","v":""},null,{"$f":"IF(AND(BD!B3892=REF,BD!D3892>=DEB,BD!D3892<=FIN),MAX(calc!$H$1:H3891)+1,0)","v":0}]
[null,null,null,null,null,{"$f":"IF(COUNTIF(BD!$B$2:B3893,BD!B3893)=1,MAX($F$1:F3892)+1,\"\")","v":""},null,{"$f":"IF(AND(BD!B3893=REF,BD!D3893>=DEB,BD!D3893<=FIN),MAX(calc!$H$1:H3892)+1,0)","v":0}]
[null,null,null,null,null,{"$f":"IF(COUNTIF(BD!$B$2:B3894,BD!B3894)=1,MAX($F$1:F3893)+1,\"\")","v":""},null,{"$f":"IF(AND(BD!B3894=REF,BD!D3894>=DEB,BD!D3894<=FIN),MAX(calc!$H$1:H3893)+1,0)","v":0}]
[null,null,null,null,null,{"$f":"IF(COUNTIF(BD!$B$2:B3895,BD!B3895)=1,MAX($F$1:F3894)+1,\"\")","v":""},null,{"$f":"IF(AND(BD!B3895=REF,BD!D3895>=DEB,BD!D3895<=FIN),MAX(calc!$H$1:H3894)+1,0)","v":0}]
[null,null,null,null,null,{"$f":"IF(COUNTIF(BD!$B$2:B3896,BD!B3896)=1,MAX($F$1:F3895)+1,\"\")","v":""},null,{"$f":"IF(AND(BD!B3896=REF,BD!D3896>=DEB,BD!D3896<=FIN),MAX(calc!$H$1:H3895)+1,0)","v":0}]
[null,null,null,null,null,{"$f":"IF(COUNTIF(BD!$B$2:B3897,BD!B3897)=1,MAX($F$1:F3896)+1,\"\")","v":""},null,{"$f":"IF(AND(BD!B3897=REF,BD!D3897>=DEB,BD!D3897<=FIN),MAX(calc!$H$1:H3896)+1,0)","v":0}]
[null,null,null,null,null,{"$f":"IF(COUNTIF(BD!$B$2:B3898,BD!B3898)=1,MAX($F$1:F3897)+1,\"\")","v":""},null,{"$f":"IF(AND(BD!B3898=REF,BD!D3898>=DEB,BD!D3898<=FIN),MAX(calc!$H$1:H3897)+1,0)","v":0}]
[null,null,null,null,null,{"$f":"IF(COUNTIF(BD!$B$2:B3899,BD!B3899)=1,MAX($F$1:F3898)+1,\"\")","v":""},null,{"$f":"IF(AND(BD!B3899=REF,BD!D3899>=DEB,BD!D3899<=FIN),MAX(calc!$H$1:H3898)+1,0)","v":0}]
[null,null,null,null,null,{"$f":"IF(COUNTIF(BD!$B$2:B3900,BD!B3900)=1,MAX($F$1:F3899)+1,\"\")","v":""},null,{"$f":"IF(AND(BD!B3900=REF,BD!D3900>=DEB,BD!D3900<=FIN),MAX(calc!$H$1:H3899)+1,0)","v":0}]
[null,null,null,null,null,{"$f":"IF(COUNTIF(BD!$B$2:B3901,BD!B3901)=1,MAX($F$1:F3900)+1,\"\")","v":""},null,{"$f":"IF(AND(BD!B3901=REF,BD!D3901>=DEB,BD!D3901<=FIN),MAX(calc!$H$1:H3900)+1,0)","v":0}]
[null,null,null,null,null,{"$f":"IF(COUNTIF(BD!$B$2:B3902,BD!B3902)=1,MAX($F$1:F3901)+1,\"\")","v":""},null,{"$f":"IF(AND(BD!B3902=REF,BD!D3902>=DEB,BD!D3902<=FIN),MAX(calc!$H$1:H3901)+1,0)","v":0}]
[null,null,null,null,null,{"$f":"IF(COUNTIF(BD!$B$2:B3903,BD!B3903)=1,MAX($F$1:F3902)+1,\"\")","v":""},null,{"$f":"IF(AND(BD!B3903=REF,BD!D3903>=DEB,BD!D3903<=FIN),MAX(calc!$H$1:H3902)+1,0)","v":0}]
[null,null,null,null,null,{"$f":"IF(COUNTIF(BD!$B$2:B3904,BD!B3904)=1,MAX($F$1:F3903)+1,\"\")","v":""},null,{"$f":"IF(AND(BD!B3904=REF,BD!D3904>=DEB,BD!D3904<=FIN),MAX(calc!$H$1:H3903)+1,0)","v":0}]
[null,null,null,null,null,{"$f":"IF(COUNTIF(BD!$B$2:B3905,BD!B3905)=1,MAX($F$1:F3904)+1,\"\")","v":""},null,{"$f":"IF(AND(BD!B3905=REF,BD!D3905>=DEB,BD!D3905<=FIN),MAX(calc!$H$1:H3904)+1,0)","v":0}]
[null,null,null,null,null,{"$f":"IF(COUNTIF(BD!$B$2:B3906,BD!B3906)=1,MAX($F$1:F3905)+1,\"\")","v":""},null,{"$f":"IF(AND(BD!B3906=REF,BD!D3906>=DEB,BD!D3906<=FIN),MAX(calc!$H$1:H3905)+1,0)","v":0}]
[null,null,null,null,null,{"$f":"IF(COUNTIF(BD!$B$2:B3907,BD!B3907)=1,MAX($F$1:F3906)+1,\"\")","v":""},null,{"$f":"IF(AND(BD!B3907=REF,BD!D3907>=DEB,BD!D3907<=FIN),MAX(calc!$H$1:H3906)+1,0)","v":0}]
[null,null,null,null,null,{"$f":"IF(COUNTIF(BD!$B$2:B3908,BD!B3908)=1,MAX($F$1:F3907)+1,\"\")","v":""},null,{"$f":"IF(AND(BD!B3908=REF,BD!D3908>=DEB,BD!D3908<=FIN),MAX(calc!$H$1:H3907)+1,0)","v":0}]
[null,null,null,null,null,{"$f":"IF(COUNTIF(BD!$B$2:B3909,BD!B3909)=1,MAX($F$1:F3908)+1,\"\")","v":""},null,{"$f":"IF(AND(BD!B3909=REF,BD!D3909>=DEB,BD!D3909<=FIN),MAX(calc!$H$1:H3908)+1,0)","v":0}]
[null,null,null,null,null,{"$f":"IF(COUNTIF(BD!$B$2:B3910,BD!B3910)=1,MAX($F$1:F3909)+1,\"\")","v":""},null,{"$f":"IF(AND(BD!B3910=REF,BD!D3910>=DEB,BD!D3910<=FIN),MAX(calc!$H$1:H3909)+1,0)","v":0}]
[null,null,null,null,null,{"$f":"IF(COUNTIF(BD!$B$2:B3911,BD!B3911)=1,MAX($F$1:F3910)+1,\"\")","v":""},null,{"$f":"IF(AND(BD!B3911=REF,BD!D3911>=DEB,BD!D3911<=FIN),MAX(calc!$H$1:H3910)+1,0)","v":0}]
[null,null,null,null,null,{"$f":"IF(COUNTIF(BD!$B$2:B3912,BD!B3912)=1,MAX($F$1:F3911)+1,\"\")","v":""},null,{"$f":"IF(AND(BD!B3912=REF,BD!D3912>=DEB,BD!D3912<=FIN),MAX(calc!$H$1:H3911)+1,0)","v":0}]
[null,null,null,null,null,{"$f":"IF(COUNTIF(BD!$B$2:B3913,BD!B3913)=1,MAX($F$1:F3912)+1,\"\")","v":""},null,{"$f":"IF(AND(BD!B3913=REF,BD!D3913>=DEB,BD!D3913<=FIN),MAX(calc!$H$1:H3912)+1,0)","v":0}]
[null,null,null,null,null,{"$f":"IF(COUNTIF(BD!$B$2:B3914,BD!B3914)=1,MAX($F$1:F3913)+1,\"\")","v":""},null,{"$f":"IF(AND(BD!B3914=REF,BD!D3914>=DEB,BD!D3914<=FIN),MAX(calc!$H$1:H3913)+1,0)","v":0}]
[null,null,null,null,null,{"$f":"IF(COUNTIF(BD!$B$2:B3915,BD!B3915)=1,MAX($F$1:F3914)+1,\"\")","v":""},null,{"$f":"IF(AND(BD!B3915=REF,BD!D3915>=DEB,BD!D3915<=FIN),MAX(calc!$H$1:H3914)+1,0)","v":0}]
[null,null,null,null,null,{"$f":"IF(COUNTIF(BD!$B$2:B3916,BD!B3916)=1,MAX($F$1:F3915)+1,\"\")","v":""},null,{"$f":"IF(AND(BD!B3916=REF,BD!D3916>=DEB,BD!D3916<=FIN),MAX(calc!$H$1:H3915)+1,0)","v":0}]
[null,null,null,null,null,{"$f":"IF(COUNTIF(BD!$B$2:B3917,BD!B3917)=1,MAX($F$1:F3916)+1,\"\")","v":""},null,{"$f":"IF(AND(BD!B3917=REF,BD!D3917>=DEB,BD!D3917<=FIN),MAX(calc!$H$1:H3916)+1,0)","v":0}]
[null,null,null,null,null,{"$f":"IF(COUNTIF(BD!$B$2:B3918,BD!B3918)=1,MAX($F$1:F3917)+1,\"\")","v":""},null,{"$f":"IF(AND(BD!B3918=REF,BD!D3918>=DEB,BD!D3918<=FIN),MAX(calc!$H$1:H3917)+1,0)","v":0}]
[null,null,null,null,null,{"$f":"IF(COUNTIF(BD!$B$2:B3919,BD!B3919)=1,MAX($F$1:F3918)+1,\"\")","v":""},null,{"$f":"IF(AND(BD!B3919=REF,BD!D3919>=DEB,BD!D3919<=FIN),MAX(calc!$H$1:H3918)+1,0)","v":0}]
[null,null,null,null,null,{"$f":"IF(COUNTIF(BD!$B$2:B3920,BD!B3920)=1,MAX($F$1:F3919)+1,\"\")","v":""},null,{"$f":"IF(AND(BD!B3920=REF,BD!D3920>=DEB,BD!D3920<=FIN),MAX(calc!$H$1:H3919)+1,0)","v":0}]
[null,null,null,null,null,{"$f":"IF(COUNTIF(BD!$B$2:B3921,BD!B3921)=1,MAX($F$1:F3920)+1,\"\")","v":""},null,{"$f":"IF(AND(BD!B3921=REF,BD!D3921>=DEB,BD!D3921<=FIN),MAX(calc!$H$1:H3920)+1,0)","v":0}]
[null,null,null,null,null,{"$f":"IF(COUNTIF(BD!$B$2:B3922,BD!B3922)=1,MAX($F$1:F3921)+1,\"\")","v":""},null,{"$f":"IF(AND(BD!B3922=REF,BD!D3922>=DEB,BD!D3922<=FIN),MAX(calc!$H$1:H3921)+1,0)","v":0}]
[null,null,null,null,null,{"$f":"IF(COUNTIF(BD!$B$2:B3923,BD!B3923)=1,MAX($F$1:F3922)+1,\"\")","v":""},null,{"$f":"IF(AND(BD!B3923=REF,BD!D3923>=DEB,BD!D3923<=FIN),MAX(calc!$H$1:H3922)+1,0)","v":0}]
[null,null,null,null,null,{"$f":"IF(COUNTIF(BD!$B$2:B3924,BD!B3924)=1,MAX($F$1:F3923)+1,\"\")","v":""},null,{"$f":"IF(AND(BD!B3924=REF,BD!D3924>=DEB,BD!D3924<=FIN),MAX(calc!$H$1:H3923)+1,0)","v":0}]
[null,null,null,null,null,{"$f":"IF(COUNTIF(BD!$B$2:B3925,BD!B3925)=1,MAX($F$1:F3924)+1,\"\")","v":""},null,{"$f":"IF(AND(BD!B3925=REF,BD!D3925>=DEB,BD!D3925<=FIN),MAX(calc!$H$1:H3924)+1,0)","v":0}]
[null,null,null,null,null,{"$f":"IF(COUNTIF(BD!$B$2:B3926,BD!B3926)=1,MAX($F$1:F3925)+1,\"\")","v":""},null,{"$f":"IF(AND(BD!B3926=REF,BD!D3926>=DEB,BD!D3926<=FIN),MAX(calc!$H$1:H3925)+1,0)","v":0}]
[null,null,null,null,null,{"$f":"IF(COUNTIF(BD!$B$2:B3927,BD!B3927)=1,MAX($F$1:F3926)+1,\"\")","v":""},null,{"$f":"IF(AND(BD!B3927=REF,BD!D3927>=DEB,BD!D3927<=FIN),MAX(calc!$H$1:H3926)+1,0)","v":0}]
[null,null,null,null,null,{"$f":"IF(COUNTIF(BD!$B$2:B3928,BD!B3928)=1,MAX($F$1:F3927)+1,\"\")","v":""},null,{"$f":"IF(AND(BD!B3928=REF,BD!D3928>=DEB,BD!D3928<=FIN),MAX(calc!$H$1:H3927)+1,0)","v":0}]
[null,null,null,null,null,{"$f":"IF(COUNTIF(BD!$B$2:B3929,BD!B3929)=1,MAX($F$1:F3928)+1,\"\")","v":""},null,{"$f":"IF(AND(BD!B3929=REF,BD!D3929>=DEB,BD!D3929<=FIN),MAX(calc!$H$1:H3928)+1,0)","v":0}]
[null,null,null,null,null,{"$f":"IF(COUNTIF(BD!$B$2:B3930,BD!B3930)=1,MAX($F$1:F3929)+1,\"\")","v":""},null,{"$f":"IF(AND(BD!B3930=REF,BD!D3930>=DEB,BD!D3930<=FIN),MAX(calc!$H$1:H3929)+1,0)","v":0}]
[null,null,null,null,null,{"$f":"IF(COUNTIF(BD!$B$2:B3931,BD!B3931)=1,MAX($F$1:F3930)+1,\"\")","v":""},null,{"$f":"IF(AND(BD!B3931=REF,BD!D3931>=DEB,BD!D3931<=FIN),MAX(calc!$H$1:H3930)+1,0)","v":0}]
[null,null,null,null,null,{"$f":"IF(COUNTIF(BD!$B$2:B3932,BD!B3932)=1,MAX($F$1:F3931)+1,\"\")","v":""},null,{"$f":"IF(AND(BD!B3932=REF,BD!D3932>=DEB,BD!D3932<=FIN),MAX(calc!$H$1:H3931)+1,0)","v":0}]
[null,null,null,null,null,{"$f":"IF(COUNTIF(BD!$B$2:B3933,BD!B3933)=1,MAX($F$1:F3932)+1,\"\")","v":""},null,{"$f":"IF(AND(BD!B3933=REF,BD!D3933>=DEB,BD!D3933<=FIN),MAX(calc!$H$1:H3932)+1,0)","v":0}]
[null,null,null,null,null,{"$f":"IF(COUNTIF(BD!$B$2:B3934,BD!B3934)=1,MAX($F$1:F3933)+1,\"\")","v":""},null,{"$f":"IF(AND(BD!B3934=REF,BD!D3934>=DEB,BD!D3934<=FIN),MAX(calc!$H$1:H3933)+1,0)","v":0}]
[null,null,null,null,null,{"$f":"IF(COUNTIF(BD!$B$2:B3935,BD!B3935)=1,MAX($F$1:F3934)+1,\"\")","v":""},null,{"$f":"IF(AND(BD!B3935=REF,BD!D3935>=DEB,BD!D3935<=FIN),MAX(calc!$H$1:H3934)+1,0)","v":0}]
[null,null,null,null,null,{"$f":"IF(COUNTIF(BD!$B$2:B3936,BD!B3936)=1,MAX($F$1:F3935)+1,\"\")","v":""},null,{"$f":"IF(AND(BD!B3936=REF,BD!D3936>=DEB,BD!D3936<=FIN),MAX(calc!$H$1:H3935)+1,0)","v":0}]
[null,null,null,null,null,{"$f":"IF(COUNTIF(BD!$B$2:B3937,BD!B3937)=1,MAX($F$1:F3936)+1,\"\")","v":""},null,{"$f":"IF(AND(BD!B3937=REF,BD!D3937>=DEB,BD!D3937<=FIN),MAX(calc!$H$1:H3936)+1,0)","v":0}]
[null,null,null,null,null,{"$f":"IF(COUNTIF(BD!$B$2:B3938,BD!B3938)=1,MAX($F$1:F3937)+1,\"\")","v":""},null,{"$f":"IF(AND(BD!B3938=REF,BD!D3938>=DEB,BD!D3938<=FIN),MAX(calc!$H$1:H3937)+1,0)","v":0}]
[null,null,null,null,null,{"$f":"IF(COUNTIF(BD!$B$2:B3939,BD!B3939)=1,MAX($F$1:F3938)+1,\"\")","v":""},null,{"$f":"IF(AND(BD!B3939=REF,BD!D3939>=DEB,BD!D3939<=FIN),MAX(calc!$H$1:H3938)+1,0)","v":0}]
[null,null,null,null,null,{"$f":"IF(COUNTIF(BD!$B$2:B3940,BD!B3940)=1,MAX($F$1:F3939)+1,\"\")","v":""},null,{"$f":"IF(AND(BD!B3940=REF,BD!D3940>=DEB,BD!D3940<=FIN),MAX(calc!$H$1:H3939)+1,0)","v":0}]
[null,null,null,null,null,{"$f":"IF(COUNTIF(BD!$B$2:B3941,BD!B3941)=1,MAX($F$1:F3940)+1,\"\")","v":""},null,{"$f":"IF(AND(BD!B3941=REF,BD!D3941>=DEB,BD!D3941<=FIN),MAX(calc!$H$1:H3940)+1,0)","v":0}]
[null,null,null,null,null,{"$f":"IF(COUNTIF(BD!$B$2:B3942,BD!B3942)=1,MAX($F$1:F3941)+1,\"\")","v":""},null,{"$f":"IF(AND(BD!B3942=REF,BD!D3942>=DEB,BD!D3942<=FIN),MAX(calc!$H$1:H3941)+1,0)","v":0}]
[null,null,null,null,null,{"$f":"IF(COUNTIF(BD!$B$2:B3943,BD!B3943)=1,MAX($F$1:F3942)+1,\"\")","v":""},null,{"$f":"IF(AND(BD!B3943=REF,BD!D3943>=DEB,BD!D3943<=FIN),MAX(calc!$H$1:H3942)+1,0)","v":0}]
[null,null,null,null,null,{"$f":"IF(COUNTIF(BD!$B$2:B3944,BD!B3944)=1,MAX($F$1:F3943)+1,\"\")","v":""},null,{"$f":"IF(AND(BD!B3944=REF,BD!D3944>=DEB,BD!D3944<=FIN),MAX(calc!$H$1:H3943)+1,0)","v":0}]
[null,null,null,null,null,{"$f":"IF(COUNTIF(BD!$B$2:B3945,BD!B3945)=1,MAX($F$1:F3944)+1,\"\")","v":""},null,{"$f":"IF(AND(BD!B3945=REF,BD!D3945>=DEB,BD!D3945<=FIN),MAX(calc!$H$1:H3944)+1,0)","v":0}]
[null,null,null,null,null,{"$f":"IF(COUNTIF(BD!$B$2:B3946,BD!B3946)=1,MAX($F$1:F3945)+1,\"\")","v":""},null,{"$f":"IF(AND(BD!B3946=REF,BD!D3946>=DEB,BD!D3946<=FIN),MAX(calc!$H$1:H3945)+1,0)","v":0}]
[null,null,null,null,null,{"$f":"IF(COUNTIF(BD!$B$2:B3947,BD!B3947)=1,MAX($F$1:F3946)+1,\"\")","v":""},null,{"$f":"IF(AND(BD!B3947=REF,BD!D3947>=DEB,BD!D3947<=FIN),MAX(calc!$H$1:H3946)+1,0)","v":0}]
[null,null,null,null,null,{"$f":"IF(COUNTIF(BD!$B$2:B3948,BD!B3948)=1,MAX($F$1:F3947)+1,\"\")","v":""},null,{"$f":"IF(AND(BD!B3948=REF,BD!D3948>=DEB,BD!D3948<=FIN),MAX(calc!$H$1:H3947)+1,0)","v":0}]
[null,null,null,null,null,{"$f":"IF(COUNTIF(BD!$B$2:B3949,BD!B3949)=1,MAX($F$1:F3948)+1,\"\")","v":""},null,{"$f":"IF(AND(BD!B3949=REF,BD!D3949>=DEB,BD!D3949<=FIN),MAX(calc!$H$1:H3948)+1,0)","v":0}]
[null,null,null,null,null,{"$f":"IF(COUNTIF(BD!$B$2:B3950,BD!B3950)=1,MAX($F$1:F3949)+1,\"\")","v":""},null,{"$f":"IF(AND(BD!B3950=REF,BD!D3950>=DEB,BD!D3950<=FIN),MAX(calc!$H$1:H3949)+1,0)","v":0}]
[null,null,null,null,null,{"$f":"IF(COUNTIF(BD!$B$2:B3951,BD!B3951)=1,MAX($F$1:F3950)+1,\"\")","v":""},null,{"$f":"IF(AND(BD!B3951=REF,BD!D3951>=DEB,BD!D3951<=FIN),MAX(calc!$H$1:H3950)+1,0)","v":0}]
[null,null,null,null,null,{"$f":"IF(COUNTIF(BD!$B$2:B3952,BD!B3952)=1,MAX($F$1:F3951)+1,\"\")","v":""},null,{"$f":"IF(AND(BD!B3952=REF,BD!D3952>=DEB,BD!D3952<=FIN),MAX(calc!$H$1:H3951)+1,0)","v":0}]
[null,null,null,null,null,{"$f":"IF(COUNTIF(BD!$B$2:B3953,BD!B3953)=1,MAX($F$1:F3952)+1,\"\")","v":""},null,{"$f":"IF(AND(BD!B3953=REF,BD!D3953>=DEB,BD!D3953<=FIN),MAX(calc!$H$1:H3952)+1,0)","v":0}]
[null,null,null,null,null,{"$f":"IF(COUNTIF(BD!$B$2:B3954,BD!B3954)=1,MAX($F$1:F3953)+1,\"\")","v":""},null,{"$f":"IF(AND(BD!B3954=REF,BD!D3954>=DEB,BD!D3954<=FIN),MAX(calc!$H$1:H3953)+1,0)","v":0}]
[null,null,null,null,null,{"$f":"IF(COUNTIF(BD!$B$2:B3955,BD!B3955)=1,MAX($F$1:F3954)+1,\"\")","v":""},null,{"$f":"IF(AND(BD!B3955=REF,BD!D3955>=DEB,BD!D3955<=FIN),MAX(calc!$H$1:H3954)+1,0)","v":0}]
[null,null,null,null,null,{"$f":"IF(COUNTIF(BD!$B$2:B3956,BD!B3956)=1,MAX($F$1:F3955)+1,\"\")","v":""},null,{"$f":"IF(AND(BD!B3956=REF,BD!D3956>=DEB,BD!D3956<=FIN),MAX(calc!$H$1:H3955)+1,0)","v":0}]
[null,null,null,null,null,{"$f":"IF(COUNTIF(BD!$B$2:B3957,BD!B3957)=1,MAX($F$1:F3956)+1,\"\")","v":""},null,{"$f":"IF(AND(BD!B3957=REF,BD!D3957>=DEB,BD!D3957<=FIN),MAX(calc!$H$1:H3956)+1,0)","v":0}]
[null,null,null,null,null,{"$f":"IF(COUNTIF(BD!$B$2:B3958,BD!B3958)=1,MAX($F$1:F3957)+1,\"\")","v":""},null,{"$f":"IF(AND(BD!B3958=REF,BD!D3958>=DEB,BD!D3958<=FIN),MAX(calc!$H$1:H3957)+1,0)","v":0}]
[null,null,null,null,null,{"$f":"IF(COUNTIF(BD!$B$2:B3959,BD!B3959)=1,MAX($F$1:F3958)+1,\"\")","v":""},null,{"$f":"IF(AND(BD!B3959=REF,BD!D3959>=DEB,BD!D3959<=FIN),MAX(calc!$H$1:H3958)+1,0)","v":0}]
[null,null,null,null,null,{"$f":"IF(COUNTIF(BD!$B$2:B3960,BD!B3960)=1,MAX($F$1:F3959)+1,\"\")","v":""},null,{"$f":"IF(AND(BD!B3960=REF,BD!D3960>=DEB,BD!D3960<=FIN),MAX(calc!$H$1:H3959)+1,0)","v":0}]
[null,null,null,null,null,{"$f":"IF(COUNTIF(BD!$B$2:B3961,BD!B3961)=1,MAX($F$1:F3960)+1,\"\")","v":""},null,{"$f":"IF(AND(BD!B3961=REF,BD!D3961>=DEB,BD!D3961<=FIN),MAX(calc!$H$1:H3960)+1,0)","v":0}]
[null,null,null,null,null,{"$f":"IF(COUNTIF(BD!$B$2:B3962,BD!B3962)=1,MAX($F$1:F3961)+1,\"\")","v":""},null,{"$f":"IF(AND(BD!B3962=REF,BD!D3962>=DEB,BD!D3962<=FIN),MAX(calc!$H$1:H3961)+1,0)","v":0}]
[null,null,null,null,null,{"$f":"IF(COUNTIF(BD!$B$2:B3963,BD!B3963)=1,MAX($F$1:F3962)+1,\"\")","v":""},null,{"$f":"IF(AND(BD!B3963=REF,BD!D3963>=DEB,BD!D3963<=FIN),MAX(calc!$H$1:H3962)+1,0)","v":0}]
[null,null,null,null,null,{"$f":"IF(COUNTIF(BD!$B$2:B3964,BD!B3964)=1,MAX($F$1:F3963)+1,\"\")","v":""},null,{"$f":"IF(AND(BD!B3964=REF,BD!D3964>=DEB,BD!D3964<=FIN),MAX(calc!$H$1:H3963)+1,0)","v":0}]
[null,null,null,null,null,{"$f":"IF(COUNTIF(BD!$B$2:B3965,BD!B3965)=1,MAX($F$1:F3964)+1,\"\")","v":""},null,{"$f":"IF(AND(BD!B3965=REF,BD!D3965>=DEB,BD!D3965<=FIN),MAX(calc!$H$1:H3964)+1,0)","v":0}]
[null,null,null,null,null,{"$f":"IF(COUNTIF(BD!$B$2:B3966,BD!B3966)=1,MAX($F$1:F3965)+1,\"\")","v":""},null,{"$f":"IF(AND(BD!B3966=REF,BD!D3966>=DEB,BD!D3966<=FIN),MAX(calc!$H$1:H3965)+1,0)","v":0}]
[null,null,null,null,null,{"$f":"IF(COUNTIF(BD!$B$2:B3967,BD!B3967)=1,MAX($F$1:F3966)+1,\"\")","v":""},null,{"$f":"IF(AND(BD!B3967=REF,BD!D3967>=DEB,BD!D3967<=FIN),MAX(calc!$H$1:H3966)+1,0)","v":0}]
[null,null,null,null,null,{"$f":"IF(COUNTIF(BD!$B$2:B3968,BD!B3968)=1,MAX($F$1:F3967)+1,\"\")","v":""},null,{"$f":"IF(AND(BD!B3968=REF,BD!D3968>=DEB,BD!D3968<=FIN),MAX(calc!$H$1:H3967)+1,0)","v":0}]
[null,null,null,null,null,{"$f":"IF(COUNTIF(BD!$B$2:B3969,BD!B3969)=1,MAX($F$1:F3968)+1,\"\")","v":""},null,{"$f":"IF(AND(BD!B3969=REF,BD!D3969>=DEB,BD!D3969<=FIN),MAX(calc!$H$1:H3968)+1,0)","v":0}]
[null,null,null,null,null,{"$f":"IF(COUNTIF(BD!$B$2:B3970,BD!B3970)=1,MAX($F$1:F3969)+1,\"\")","v":""},null,{"$f":"IF(AND(BD!B3970=REF,BD!D3970>=DEB,BD!D3970<=FIN),MAX(calc!$H$1:H3969)+1,0)","v":0}]
[null,null,null,null,null,{"$f":"IF(COUNTIF(BD!$B$2:B3971,BD!B3971)=1,MAX($F$1:F3970)+1,\"\")","v":""},null,{"$f":"IF(AND(BD!B3971=REF,BD!D3971>=DEB,BD!D3971<=FIN),MAX(calc!$H$1:H3970)+1,0)","v":0}]
[null,null,null,null,null,{"$f":"IF(COUNTIF(BD!$B$2:B3972,BD!B3972)=1,MAX($F$1:F3971)+1,\"\")","v":""},null,{"$f":"IF(AND(BD!B3972=REF,BD!D3972>=DEB,BD!D3972<=FIN),MAX(calc!$H$1:H3971)+1,0)","v":0}]
[null,null,null,null,null,{"$f":"IF(COUNTIF(BD!$B$2:B3973,BD!B3973)=1,MAX($F$1:F3972)+1,\"\")","v":""},null,{"$f":"IF(AND(BD!B3973=REF,BD!D3973>=DEB,BD!D3973<=FIN),MAX(calc!$H$1:H3972)+1,0)","v":0}]
[null,null,null,null,null,{"$f":"IF(COUNTIF(BD!$B$2:B3974,BD!B3974)=1,MAX($F$1:F3973)+1,\"\")","v":""},null,{"$f":"IF(AND(BD!B3974=REF,BD!D3974>=DEB,BD!D3974<=FIN),MAX(calc!$H$1:H3973)+1,0)","v":0}]
[null,null,null,null,null,{"$f":"IF(COUNTIF(BD!$B$2:B3975,BD!B3975)=1,MAX($F$1:F3974)+1,\"\")","v":""},null,{"$f":"IF(AND(BD!B3975=REF,BD!D3975>=DEB,BD!D3975<=FIN),MAX(calc!$H$1:H3974)+1,0)","v":0}]
[null,null,null,null,null,{"$f":"IF(COUNTIF(BD!$B$2:B3976,BD!B3976)=1,MAX($F$1:F3975)+1,\"\")","v":""},null,{"$f":"IF(AND(BD!B3976=REF,BD!D3976>=DEB,BD!D3976<=FIN),MAX(calc!$H$1:H3975)+1,0)","v":0}]
[null,null,null,null,null,{"$f":"IF(COUNTIF(BD!$B$2:B3977,BD!B3977)=1,MAX($F$1:F3976)+1,\"\")","v":""},null,{"$f":"IF(AND(BD!B3977=REF,BD!D3977>=DEB,BD!D3977<=FIN),MAX(calc!$H$1:H3976)+1,0)","v":0}]
[null,null,null,null,null,{"$f":"IF(COUNTIF(BD!$B$2:B3978,BD!B3978)=1,MAX($F$1:F3977)+1,\"\")","v":""},null,{"$f":"IF(AND(BD!B3978=REF,BD!D3978>=DEB,BD!D3978<=FIN),MAX(calc!$H$1:H3977)+1,0)","v":0}]
[null,null,null,null,null,{"$f":"IF(COUNTIF(BD!$B$2:B3979,BD!B3979)=1,MAX($F$1:F3978)+1,\"\")","v":""},null,{"$f":"IF(AND(BD!B3979=REF,BD!D3979>=DEB,BD!D3979<=FIN),MAX(calc!$H$1:H3978)+1,0)","v":0}]
[null,null,null,null,null,{"$f":"IF(COUNTIF(BD!$B$2:B3980,BD!B3980)=1,MAX($F$1:F3979)+1,\"\")","v":""},null,{"$f":"IF(AND(BD!B3980=REF,BD!D3980>=DEB,BD!D3980<=FIN),MAX(calc!$H$1:H3979)+1,0)","v":0}]
[null,null,null,null,null,{"$f":"IF(COUNTIF(BD!$B$2:B3981,BD!B3981)=1,MAX($F$1:F3980)+1,\"\")","v":""},null,{"$f":"IF(AND(BD!B3981=REF,BD!D3981>=DEB,BD!D3981<=FIN),MAX(calc!$H$1:H3980)+1,0)","v":0}]
[null,null,null,null,null,{"$f":"IF(COUNTIF(BD!$B$2:B3982,BD!B3982)=1,MAX($F$1:F3981)+1,\"\")","v":""},null,{"$f":"IF(AND(BD!B3982=REF,BD!D3982>=DEB,BD!D3982<=FIN),MAX(calc!$H$1:H3981)+1,0)","v":0}]
[null,null,null,null,null,{"$f":"IF(COUNTIF(BD!$B$2:B3983,BD!B3983)=1,MAX($F$1:F3982)+1,\"\")","v":""},null,{"$f":"IF(AND(BD!B3983=REF,BD!D3983>=DEB,BD!D3983<=FIN),MAX(calc!$H$1:H3982)+1,0)","v":0}]
[null,null,null,null,null,{"$f":"IF(COUNTIF(BD!$B$2:B3984,BD!B3984)=1,MAX($F$1:F3983)+1,\"\")","v":""},null,{"$f":"IF(AND(BD!B3984=REF,BD!D3984>=DEB,BD!D3984<=FIN),MAX(calc!$H$1:H3983)+1,0)","v":0}]
[null,null,null,null,null,{"$f":"IF(COUNTIF(BD!$B$2:B3985,BD!B3985)=1,MAX($F$1:F3984)+1,\"\")","v":""},null,{"$f":"IF(AND(BD!B3985=REF,BD!D3985>=DEB,BD!D3985<=FIN),MAX(calc!$H$1:H3984)+1,0)","v":0}]
[null,null,null,null,null,{"$f":"IF(COUNTIF(BD!$B$2:B3986,BD!B3986)=1,MAX($F$1:F3985)+1,\"\")","v":""},null,{"$f":"IF(AND(BD!B3986=REF,BD!D3986>=DEB,BD!D3986<=FIN),MAX(calc!$H$1:H3985)+1,0)","v":0}]
[null,null,null,null,null,{"$f":"IF(COUNTIF(BD!$B$2:B3987,BD!B3987)=1,MAX($F$1:F3986)+1,\"\")","v":""},null,{"$f":"IF(AND(BD!B3987=REF,BD!D3987>=DEB,BD!D3987<=FIN),MAX(calc!$H$1:H3986)+1,0)","v":0}]
[null,null,null,null,null,{"$f":"IF(COUNTIF(BD!$B$2:B3988,BD!B3988)=1,MAX($F$1:F3987)+1,\"\")","v":""},null,{"$f":"IF(AND(BD!B3988=REF,BD!D3988>=DEB,BD!D3988<=FIN),MAX(calc!$H$1:H3987)+1,0)","v":0}]
[null,null,null,null,null,{"$f":"IF(COUNTIF(BD!$B$2:B3989,BD!B3989)=1,MAX($F$1:F3988)+1,\"\")","v":""},null,{"$f":"IF(AND(BD!B3989=REF,BD!D3989>=DEB,BD!D3989<=FIN),MAX(calc!$H$1:H3988)+1,0)","v":0}]
[null,null,null,null,null,{"$f":"IF(COUNTIF(BD!$B$2:B3990,BD!B3990)=1,MAX($F$1:F3989)+1,\"\")","v":""},null,{"$f":"IF(AND(BD!B3990=REF,BD!D3990>=DEB,BD!D3990<=FIN),MAX(calc!$H$1:H3989)+1,0)","v":0}]
[null,null,null,null,null,{"$f":"IF(COUNTIF(BD!$B$2:B3991,BD!B3991)=1,MAX($F$1:F3990)+1,\"\")","v":""},null,{"$f":"IF(AND(BD!B3991=REF,BD!D3991>=DEB,BD!D3991<=FIN),MAX(calc!$H$1:H3990)+1,0)","v":0}]
[null,null,null,null,null,{"$f":"IF(COUNTIF(BD!$B$2:B3992,BD!B3992)=1,MAX($F$1:F3991)+1,\"\")","v":""},null,{"$f":"IF(AND(BD!B3992=REF,BD!D3992>=DEB,BD!D3992<=FIN),MAX(calc!$H$1:H3991)+1,0)","v":0}]
[null,null,null,null,null,{"$f":"IF(COUNTIF(BD!$B$2:B3993,BD!B3993)=1,MAX($F$1:F3992)+1,\"\")","v":""},null,{"$f":"IF(AND(BD!B3993=REF,BD!D3993>=DEB,BD!D3993<=FIN),MAX(calc!$H$1:H3992)+1,0)","v":0}]
[null,null,null,null,null,{"$f":"IF(COUNTIF(BD!$B$2:B3994,BD!B3994)=1,MAX($F$1:F3993)+1,\"\")","v":""},null,{"$f":"IF(AND(BD!B3994=REF,BD!D3994>=DEB,BD!D3994<=FIN),MAX(calc!$H$1:H3993)+1,0)","v":0}]
[null,null,null,null,null,{"$f":"IF(COUNTIF(BD!$B$2:B3995,BD!B3995)=1,MAX($F$1:F3994)+1,\"\")","v":""},null,{"$f":"IF(AND(BD!B3995=REF,BD!D3995>=DEB,BD!D3995<=FIN),MAX(calc!$H$1:H3994)+1,0)","v":0}]
[null,null,null,null,null,{"$f":"IF(COUNTIF(BD!$B$2:B3996,BD!B3996)=1,MAX($F$1:F3995)+1,\"\")","v":""},null,{"$f":"IF(AND(BD!B3996=REF,BD!D3996>=DEB,BD!D3996<=FIN),MAX(calc!$H$1:H3995)+1,0)","v":0}]
[null,null,null,null,null,{"$f":"IF(COUNTIF(BD!$B$2:B3997,BD!B3997)=1,MAX($F$1:F3996)+1,\"\")","v":""},null,{"$f":"IF(AND(BD!B3997=REF,BD!D3997>=DEB,BD!D3997<=FIN),MAX(calc!$H$1:H3996)+1,0)","v":0}]
[null,null,null,null,null,{"$f":"IF(COUNTIF(BD!$B$2:B3998,BD!B3998)=1,MAX($F$1:F3997)+1,\"\")","v":""},null,{"$f":"IF(AND(BD!B3998=REF,BD!D3998>=DEB,BD!D3998<=FIN),MAX(calc!$H$1:H3997)+1,0)","v":0}]
[null,null,null,null,null,{"$f":"IF(COUNTIF(BD!$B$2:B3999,BD!B3999)=1,MAX($F$1:F3998)+1,\"\")","v":""},null,{"$f":"IF(AND(BD!B3999=REF,BD!D3999>=DEB,BD!D3999<=FIN),MAX(calc!$H$1:H3998)+1,0)","v":0}]
[null,null,null,null,null,{"$f":"IF(COUNTIF(BD!$B$2:B4000,BD!B4000)=1,MAX($F$1:F3999)+1,\"\")","v":""},null,{"$f":"IF(AND(BD!B4000=REF,BD!D4000>=DEB,BD!D4000<=FIN),MAX(calc!$H$1:H3999)+1,0)","v":0}]
[null,null,null,null,null,{"$f":"IF(COUNTIF(BD!$B$2:B4001,BD!B4001)=1,MAX($F$1:F4000)+1,\"\")","v":""},null,{"$f":"IF(AND(BD!B4001=REF,BD!D4001>=DEB,BD!D4001<=FIN),MAX(calc!$H$1:H4000)+1,0)","v":0}]
[null,null,null,null,null,{"$f":"IF(COUNTIF(BD!$B$2:B4002,BD!B4002)=1,MAX($F$1:F4001)+1,\"\")","v":""},null,{"$f":"IF(AND(BD!B4002=REF,BD!D4002>=DEB,BD!D4002<=FIN),MAX(calc!$H$1:H4001)+1,0)","v":0}]
[null,null,null,null,null,{"$f":"IF(COUNTIF(BD!$B$2:B4003,BD!B4003)=1,MAX($F$1:F4002)+1,\"\")","v":""},null,{"$f":"IF(AND(BD!B4003=REF,BD!D4003>=DEB,BD!D4003<=FIN),MAX(calc!$H$1:H4002)+1,0)","v":0}]
[null,null,null,null,null,{"$f":"IF(COUNTIF(BD!$B$2:B4004,BD!B4004)=1,MAX($F$1:F4003)+1,\"\")","v":""},null,{"$f":"IF(AND(BD!B4004=REF,BD!D4004>=DEB,BD!D4004<=FIN),MAX(calc!$H$1:H4003)+1,0)","v":0}]
[null,null,null,null,null,{"$f":"IF(COUNTIF(BD!$B$2:B4005,BD!B4005)=1,MAX($F$1:F4004)+1,\"\")","v":""},null,{"$f":"IF(AND(BD!B4005=REF,BD!D4005>=DEB,BD!D4005<=FIN),MAX(calc!$H$1:H4004)+1,0)","v":0}]
[null,null,null,null,null,{"$f":"IF(COUNTIF(BD!$B$2:B4006,BD!B4006)=1,MAX($F$1:F4005)+1,\"\")","v":""},null,{"$f":"IF(AND(BD!B4006=REF,BD!D4006>=DEB,BD!D4006<=FIN),MAX(calc!$H$1:H4005)+1,0)","v":0}]
[null,null,null,null,null,{"$f":"IF(COUNTIF(BD!$B$2:B4007,BD!B4007)=1,MAX($F$1:F4006)+1,\"\")","v":""},null,{"$f":"IF(AND(BD!B4007=REF,BD!D4007>=DEB,BD!D4007<=FIN),MAX(calc!$H$1:H4006)+1,0)","v":0}]
[null,null,null,null,null,{"$f":"IF(COUNTIF(BD!$B$2:B4008,BD!B4008)=1,MAX($F$1:F4007)+1,\"\")","v":""},null,{"$f":"IF(AND(BD!B4008=REF,BD!D4008>=DEB,BD!D4008<=FIN),MAX(calc!$H$1:H4007)+1,0)","v":0}]
[null,null,null,null,null,{"$f":"IF(COUNTIF(BD!$B$2:B4009,BD!B4009)=1,MAX($F$1:F4008)+1,\"\")","v":""},null,{"$f":"IF(AND(BD!B4009=REF,BD!D4009>=DEB,BD!D4009<=FIN),MAX(calc!$H$1:H4008)+1,0)","v":0}]
[null,null,null,null,null,{"$f":"IF(COUNTIF(BD!$B$2:B4010,BD!B4010)=1,MAX($F$1:F4009)+1,\"\")","v":""},null,{"$f":"IF(AND(BD!B4010=REF,BD!D4010>=DEB,BD!D4010<=FIN),MAX(calc!$H$1:H4009)+1,0)","v":0}]
[null,null,null,null,null,{"$f":"IF(COUNTIF(BD!$B$2:B4011,BD!B4011)=1,MAX($F$1:F4010)+1,\"\")","v":""},null,{"$f":"IF(AND(BD!B4011=REF,BD!D4011>=DEB,BD!D4011<=FIN),MAX(calc!$H$1:H4010)+1,0)","v":0}]
[null,null,null,null,null,{"$f":"IF(COUNTIF(BD!$B$2:B4012,BD!B4012)=1,MAX($F$1:F4011)+1,\"\")","v":""},null,{"$f":"IF(AND(BD!B4012=REF,BD!D4012>=DEB,BD!D4012<=FIN),MAX(calc!$H$1:H4011)+1,0)","v":0}]
[null,null,null,null,null,{"$f":"IF(COUNTIF(BD!$B$2:B4013,BD!B4013)=1,MAX($F$1:F4012)+1,\"\")","v":""},null,{"$f":"IF(AND(BD!B4013=REF,BD!D4013>=DEB,BD!D4013<=FIN),MAX(calc!$H$1:H4012)+1,0)","v":0}]
[null,null,null,null,null,{"$f":"IF(COUNTIF(BD!$B$2:B4014,BD!B4014)=1,MAX($F$1:F4013)+1,\"\")","v":""},null,{"$f":"IF(AND(BD!B4014=REF,BD!D4014>=DEB,BD!D4014<=FIN),MAX(calc!$H$1:H4013)+1,0)","v":0}]
[null,null,null,null,null,{"$f":"IF(COUNTIF(BD!$B$2:B4015,BD!B4015)=1,MAX($F$1:F4014)+1,\"\")","v":""},null,{"$f":"IF(AND(BD!B4015=REF,BD!D4015>=DEB,BD!D4015<=FIN),MAX(calc!$H$1:H4014)+1,0)","v":0}]
[null,null,null,null,null,{"$f":"IF(COUNTIF(BD!$B$2:B4016,BD!B4016)=1,MAX($F$1:F4015)+1,\"\")","v":""},null,{"$f":"IF(AND(BD!B4016=REF,BD!D4016>=DEB,BD!D4016<=FIN),MAX(calc!$H$1:H4015)+1,0)","v":0}]
[null,null,null,null,null,{"$f":"IF(COUNTIF(BD!$B$2:B4017,BD!B4017)=1,MAX($F$1:F4016)+1,\"\")","v":""},null,{"$f":"IF(AND(BD!B4017=REF,BD!D4017>=DEB,BD!D4017<=FIN),MAX(calc!$H$1:H4016)+1,0)","v":0}]
[null,null,null,null,null,{"$f":"IF(COUNTIF(BD!$B$2:B4018,BD!B4018)=1,MAX($F$1:F4017)+1,\"\")","v":""},null,{"$f":"IF(AND(BD!B4018=REF,BD!D4018>=DEB,BD!D4018<=FIN),MAX(calc!$H$1:H4017)+1,0)","v":0}]
[null,null,null,null,null,{"$f":"IF(COUNTIF(BD!$B$2:B4019,BD!B4019)=1,MAX($F$1:F4018)+1,\"\")","v":""},null,{"$f":"IF(AND(BD!B4019=REF,BD!D4019>=DEB,BD!D4019<=FIN),MAX(calc!$H$1:H4018)+1,0)","v":0}]
[null,null,null,null,null,{"$f":"IF(COUNTIF(BD!$B$2:B4020,BD!B4020)=1,MAX($F$1:F4019)+1,\"\")","v":""},null,{"$f":"IF(AND(BD!B4020=REF,BD!D4020>=DEB,BD!D4020<=FIN),MAX(calc!$H$1:H4019)+1,0)","v":0}]
[null,null,null,null,null,{"$f":"IF(COUNTIF(BD!$B$2:B4021,BD!B4021)=1,MAX($F$1:F4020)+1,\"\")","v":""},null,{"$f":"IF(AND(BD!B4021=REF,BD!D4021>=DEB,BD!D4021<=FIN),MAX(calc!$H$1:H4020)+1,0)","v":0}]
[null,null,null,null,null,{"$f":"IF(COUNTIF(BD!$B$2:B4022,BD!B4022)=1,MAX($F$1:F4021)+1,\"\")","v":""},null,{"$f":"IF(AND(BD!B4022=REF,BD!D4022>=DEB,BD!D4022<=FIN),MAX(calc!$H$1:H4021)+1,0)","v":0}]
[null,null,null,null,null,{"$f":"IF(COUNTIF(BD!$B$2:B4023,BD!B4023)=1,MAX($F$1:F4022)+1,\"\")","v":""},null,{"$f":"IF(AND(BD!B4023=REF,BD!D4023>=DEB,BD!D4023<=FIN),MAX(calc!$H$1:H4022)+1,0)","v":0}]
[null,null,null,null,null,{"$f":"IF(COUNTIF(BD!$B$2:B4024,BD!B4024)=1,MAX($F$1:F4023)+1,\"\")","v":""},null,{"$f":"IF(AND(BD!B4024=REF,BD!D4024>=DEB,BD!D4024<=FIN),MAX(calc!$H$1:H4023)+1,0)","v":0}]
[null,null,null,null,null,{"$f":"IF(COUNTIF(BD!$B$2:B4025,BD!B4025)=1,MAX($F$1:F4024)+1,\"\")","v":""},null,{"$f":"IF(AND(BD!B4025=REF,BD!D4025>=DEB,BD!D4025<=FIN),MAX(calc!$H$1:H4024)+1,0)","v":0}]
[null,null,null,null,null,{"$f":"IF(COUNTIF(BD!$B$2:B4026,BD!B4026)=1,MAX($F$1:F4025)+1,\"\")","v":""},null,{"$f":"IF(AND(BD!B4026=REF,BD!D4026>=DEB,BD!D4026<=FIN),MAX(calc!$H$1:H4025)+1,0)","v":0}]
[null,null,null,null,null,{"$f":"IF(COUNTIF(BD!$B$2:B4027,BD!B4027)=1,MAX($F$1:F4026)+1,\"\")","v":""},null,{"$f":"IF(AND(BD!B4027=REF,BD!D4027>=DEB,BD!D4027<=FIN),MAX(calc!$H$1:H4026)+1,0)","v":0}]
[null,null,null,null,null,{"$f":"IF(COUNTIF(BD!$B$2:B4028,BD!B4028)=1,MAX($F$1:F4027)+1,\"\")","v":""},null,{"$f":"IF(AND(BD!B4028=REF,BD!D4028>=DEB,BD!D4028<=FIN),MAX(calc!$H$1:H4027)+1,0)","v":0}]
[null,null,null,null,null,{"$f":"IF(COUNTIF(BD!$B$2:B4029,BD!B4029)=1,MAX($F$1:F4028)+1,\"\")","v":""},null,{"$f":"IF(AND(BD!B4029=REF,BD!D4029>=DEB,BD!D4029<=FIN),MAX(calc!$H$1:H4028)+1,0)","v":0}]
[null,null,null,null,null,{"$f":"IF(COUNTIF(BD!$B$2:B4030,BD!B4030)=1,MAX($F$1:F4029)+1,\"\")","v":""},null,{"$f":"IF(AND(BD!B4030=REF,BD!D4030>=DEB,BD!D4030<=FIN),MAX(calc!$H$1:H4029)+1,0)","v":0}]
[null,null,null,null,null,{"$f":"IF(COUNTIF(BD!$B$2:B4031,BD!B4031)=1,MAX($F$1:F4030)+1,\"\")","v":""},null,{"$f":"IF(AND(BD!B4031=REF,BD!D4031>=DEB,BD!D4031<=FIN),MAX(calc!$H$1:H4030)+1,0)","v":0}]
[null,null,null,null,null,{"$f":"IF(COUNTIF(BD!$B$2:B4032,BD!B4032)=1,MAX($F$1:F4031)+1,\"\")","v":""},null,{"$f":"IF(AND(BD!B4032=REF,BD!D4032>=DEB,BD!D4032<=FIN),MAX(calc!$H$1:H4031)+1,0)","v":0}]
[null,null,null,null,null,{"$f":"IF(COUNTIF(BD!$B$2:B4033,BD!B4033)=1,MAX($F$1:F4032)+1,\"\")","v":""},null,{"$f":"IF(AND(BD!B4033=REF,BD!D4033>=DEB,BD!D4033<=FIN),MAX(calc!$H$1:H4032)+1,0)","v":0}]
[null,null,null,null,null,{"$f":"IF(COUNTIF(BD!$B$2:B4034,BD!B4034)=1,MAX($F$1:F4033)+1,\"\")","v":""},null,{"$f":"IF(AND(BD!B4034=REF,BD!D4034>=DEB,BD!D4034<=FIN),MAX(calc!$H$1:H4033)+1,0)","v":0}]
[null,null,null,null,null,{"$f":"IF(COUNTIF(BD!$B$2:B4035,BD!B4035)=1,MAX($F$1:F4034)+1,\"\")","v":""},null,{"$f":"IF(AND(BD!B4035=REF,BD!D4035>=DEB,BD!D4035<=FIN),MAX(calc!$H$1:H4034)+1,0)","v":0}]
[null,null,null,null,null,{"$f":"IF(COUNTIF(BD!$B$2:B4036,BD!B4036)=1,MAX($F$1:F4035)+1,\"\")","v":""},null,{"$f":"IF(AND(BD!B4036=REF,BD!D4036>=DEB,BD!D4036<=FIN),MAX(calc!$H$1:H4035)+1,0)","v":0}]
[null,null,null,null,null,{"$f":"IF(COUNTIF(BD!$B$2:B4037,BD!B4037)=1,MAX($F$1:F4036)+1,\"\")","v":""},null,{"$f":"IF(AND(BD!B4037=REF,BD!D4037>=DEB,BD!D4037<=FIN),MAX(calc!$H$1:H4036)+1,0)","v":0}]
[null,null,null,null,null,{"$f":"IF(COUNTIF(BD!$B$2:B4038,BD!B4038)=1,MAX($F$1:F4037)+1,\"\")","v":""},null,{"$f":"IF(AND(BD!B4038=REF,BD!D4038>=DEB,BD!D4038<=FIN),MAX(calc!$H$1:H4037)+1,0)","v":0}]
[null,null,null,null,null,{"$f":"IF(COUNTIF(BD!$B$2:B4039,BD!B4039)=1,MAX($F$1:F4038)+1,\"\")","v":""},null,{"$f":"IF(AND(BD!B4039=REF,BD!D4039>=DEB,BD!D4039<=FIN),MAX(calc!$H$1:H4038)+1,0)","v":0}]
[null,null,null,null,null,{"$f":"IF(COUNTIF(BD!$B$2:B4040,BD!B4040)=1,MAX($F$1:F4039)+1,\"\")","v":""},null,{"$f":"IF(AND(BD!B4040=REF,BD!D4040>=DEB,BD!D4040<=FIN),MAX(calc!$H$1:H4039)+1,0)","v":0}]
[null,null,null,null,null,{"$f":"IF(COUNTIF(BD!$B$2:B4041,BD!B4041)=1,MAX($F$1:F4040)+1,\"\")","v":""},null,{"$f":"IF(AND(BD!B4041=REF,BD!D4041>=DEB,BD!D4041<=FIN),MAX(calc!$H$1:H4040)+1,0)","v":0}]
[null,null,null,null,null,{"$f":"IF(COUNTIF(BD!$B$2:B4042,BD!B4042)=1,MAX($F$1:F4041)+1,\"\")","v":""},null,{"$f":"IF(AND(BD!B4042=REF,BD!D4042>=DEB,BD!D4042<=FIN),MAX(calc!$H$1:H4041)+1,0)","v":0}]
[null,null,null,null,null,{"$f":"IF(COUNTIF(BD!$B$2:B4043,BD!B4043)=1,MAX($F$1:F4042)+1,\"\")","v":""},null,{"$f":"IF(AND(BD!B4043=REF,BD!D4043>=DEB,BD!D4043<=FIN),MAX(calc!$H$1:H4042)+1,0)","v":0}]
[null,null,null,null,null,{"$f":"IF(COUNTIF(BD!$B$2:B4044,BD!B4044)=1,MAX($F$1:F4043)+1,\"\")","v":""},null,{"$f":"IF(AND(BD!B4044=REF,BD!D4044>=DEB,BD!D4044<=FIN),MAX(calc!$H$1:H4043)+1,0)","v":0}]
[null,null,null,null,null,{"$f":"IF(COUNTIF(BD!$B$2:B4045,BD!B4045)=1,MAX($F$1:F4044)+1,\"\")","v":""},null,{"$f":"IF(AND(BD!B4045=REF,BD!D4045>=DEB,BD!D4045<=FIN),MAX(calc!$H$1:H4044)+1,0)","v":0}]
[null,null,null,null,null,{"$f":"IF(COUNTIF(BD!$B$2:B4046,BD!B4046)=1,MAX($F$1:F4045)+1,\"\")","v":""},null,{"$f":"IF(AND(BD!B4046=REF,BD!D4046>=DEB,BD!D4046<=FIN),MAX(calc!$H$1:H4045)+1,0)","v":0}]
[null,null,null,null,null,{"$f":"IF(COUNTIF(BD!$B$2:B4047,BD!B4047)=1,MAX($F$1:F4046)+1,\"\")","v":""},null,{"$f":"IF(AND(BD!B4047=REF,BD!D4047>=DEB,BD!D4047<=FIN),MAX(calc!$H$1:H4046)+1,0)","v":0}]
[null,null,null,null,null,{"$f":"IF(COUNTIF(BD!$B$2:B4048,BD!B4048)=1,MAX($F$1:F4047)+1,\"\")","v":""},null,{"$f":"IF(AND(BD!B4048=REF,BD!D4048>=DEB,BD!D4048<=FIN),MAX(calc!$H$1:H4047)+1,0)","v":0}]
[null,null,null,null,null,{"$f":"IF(COUNTIF(BD!$B$2:B4049,BD!B4049)=1,MAX($F$1:F4048)+1,\"\")","v":""},null,{"$f":"IF(AND(BD!B4049=REF,BD!D4049>=DEB,BD!D4049<=FIN),MAX(calc!$H$1:H4048)+1,0)","v":0}]
[null,null,null,null,null,{"$f":"IF(COUNTIF(BD!$B$2:B4050,BD!B4050)=1,MAX($F$1:F4049)+1,\"\")","v":""},null,{"$f":"IF(AND(BD!B4050=REF,BD!D4050>=DEB,BD!D4050<=FIN),MAX(calc!$H$1:H4049)+1,0)","v":0}]
[null,null,null,null,null,{"$f":"IF(COUNTIF(BD!$B$2:B4051,BD!B4051)=1,MAX($F$1:F4050)+1,\"\")","v":""},null,{"$f":"IF(AND(BD!B4051=REF,BD!D4051>=DEB,BD!D4051<=FIN),MAX(calc!$H$1:H4050)+1,0)","v":0}]
[null,null,null,null,null,{"$f":"IF(COUNTIF(BD!$B$2:B4052,BD!B4052)=1,MAX($F$1:F4051)+1,\"\")","v":""},null,{"$f":"IF(AND(BD!B4052=REF,BD!D4052>=DEB,BD!D4052<=FIN),MAX(calc!$H$1:H4051)+1,0)","v":0}]
[null,null,null,null,null,{"$f":"IF(COUNTIF(BD!$B$2:B4053,BD!B4053)=1,MAX($F$1:F4052)+1,\"\")","v":""},null,{"$f":"IF(AND(BD!B4053=REF,BD!D4053>=DEB,BD!D4053<=FIN),MAX(calc!$H$1:H4052)+1,0)","v":0}]
[null,null,null,null,null,{"$f":"IF(COUNTIF(BD!$B$2:B4054,BD!B4054)=1,MAX($F$1:F4053)+1,\"\")","v":""},null,{"$f":"IF(AND(BD!B4054=REF,BD!D4054>=DEB,BD!D4054<=FIN),MAX(calc!$H$1:H4053)+1,0)","v":0}]
[null,null,null,null,null,{"$f":"IF(COUNTIF(BD!$B$2:B4055,BD!B4055)=1,MAX($F$1:F4054)+1,\"\")","v":""},null,{"$f":"IF(AND(BD!B4055=REF,BD!D4055>=DEB,BD!D4055<=FIN),MAX(calc!$H$1:H4054)+1,0)","v":0}]
[null,null,null,null,null,{"$f":"IF(COUNTIF(BD!$B$2:B4056,BD!B4056)=1,MAX($F$1:F4055)+1,\"\")","v":""},null,{"$f":"IF(AND(BD!B4056=REF,BD!D4056>=DEB,BD!D4056<=FIN),MAX(calc!$H$1:H4055)+1,0)","v":0}]
[null,null,null,null,null,{"$f":"IF(COUNTIF(BD!$B$2:B4057,BD!B4057)=1,MAX($F$1:F4056)+1,\"\")","v":""},null,{"$f":"IF(AND(BD!B4057=REF,BD!D4057>=DEB,BD!D4057<=FIN),MAX(calc!$H$1:H4056)+1,0)","v":0}]
[null,null,null,null,null,{"$f":"IF(COUNTIF(BD!$B$2:B4058,BD!B4058)=1,MAX($F$1:F4057)+1,\"\")","v":""},null,{"$f":"IF(AND(BD!B4058=REF,BD!D4058>=DEB,BD!D4058<=FIN),MAX(calc!$H$1:H4057)+1,0)","v":0}]
[null,null,null,null,null,{"$f":"IF(COUNTIF(BD!$B$2:B4059,BD!B4059)=1,MAX($F$1:F4058)+1,\"\")","v":""},null,{"$f":"IF(AND(BD!B4059=REF,BD!D4059>=DEB,BD!D4059<=FIN),MAX(calc!$H$1:H4058)+1,0)","v":0}]
[null,null,null,null,null,{"$f":"IF(COUNTIF(BD!$B$2:B4060,BD!B4060)=1,MAX($F$1:F4059)+1,\"\")","v":""},null,{"$f":"IF(AND(BD!B4060=REF,BD!D4060>=DEB,BD!D4060<=FIN),MAX(calc!$H$1:H4059)+1,0)","v":0}]
[null,null,null,null,null,{"$f":"IF(COUNTIF(BD!$B$2:B4061,BD!B4061)=1,MAX($F$1:F4060)+1,\"\")","v":""},null,{"$f":"IF(AND(BD!B4061=REF,BD!D4061>=DEB,BD!D4061<=FIN),MAX(calc!$H$1:H4060)+1,0)","v":0}]
[null,null,null,null,null,{"$f":"IF(COUNTIF(BD!$B$2:B4062,BD!B4062)=1,MAX($F$1:F4061)+1,\"\")","v":""},null,{"$f":"IF(AND(BD!B4062=REF,BD!D4062>=DEB,BD!D4062<=FIN),MAX(calc!$H$1:H4061)+1,0)","v":0}]
[null,null,null,null,null,{"$f":"IF(COUNTIF(BD!$B$2:B4063,BD!B4063)=1,MAX($F$1:F4062)+1,\"\")","v":""},null,{"$f":"IF(AND(BD!B4063=REF,BD!D4063>=DEB,BD!D4063<=FIN),MAX(calc!$H$1:H4062)+1,0)","v":0}]
[null,null,null,null,null,{"$f":"IF(COUNTIF(BD!$B$2:B4064,BD!B4064)=1,MAX($F$1:F4063)+1,\"\")","v":""},null,{"$f":"IF(AND(BD!B4064=REF,BD!D4064>=DEB,BD!D4064<=FIN),MAX(calc!$H$1:H4063)+1,0)","v":0}]
[null,null,null,null,null,{"$f":"IF(COUNTIF(BD!$B$2:B4065,BD!B4065)=1,MAX($F$1:F4064)+1,\"\")","v":""},null,{"$f":"IF(AND(BD!B4065=REF,BD!D4065>=DEB,BD!D4065<=FIN),MAX(calc!$H$1:H4064)+1,0)","v":0}]
[null,null,null,null,null,{"$f":"IF(COUNTIF(BD!$B$2:B4066,BD!B4066)=1,MAX($F$1:F4065)+1,\"\")","v":""},null,{"$f":"IF(AND(BD!B4066=REF,BD!D4066>=DEB,BD!D4066<=FIN),MAX(calc!$H$1:H4065)+1,0)","v":0}]
[null,null,null,null,null,{"$f":"IF(COUNTIF(BD!$B$2:B4067,BD!B4067)=1,MAX($F$1:F4066)+1,\"\")","v":""},null,{"$f":"IF(AND(BD!B4067=REF,BD!D4067>=DEB,BD!D4067<=FIN),MAX(calc!$H$1:H4066)+1,0)","v":0}]
[null,null,null,null,null,{"$f":"IF(COUNTIF(BD!$B$2:B4068,BD!B4068)=1,MAX($F$1:F4067)+1,\"\")","v":""},null,{"$f":"IF(AND(BD!B4068=REF,BD!D4068>=DEB,BD!D4068<=FIN),MAX(calc!$H$1:H4067)+1,0)","v":0}]
[null,null,null,null,null,{"$f":"IF(COUNTIF(BD!$B$2:B4069,BD!B4069)=1,MAX($F$1:F4068)+1,\"\")","v":""},null,{"$f":"IF(AND(BD!B4069=REF,BD!D4069>=DEB,BD!D4069<=FIN),MAX(calc!$H$1:H4068)+1,0)","v":0}]
[null,null,null,null,null,{"$f":"IF(COUNTIF(BD!$B$2:B4070,BD!B4070)=1,MAX($F$1:F4069)+1,\"\")","v":""},null,{"$f":"IF(AND(BD!B4070=REF,BD!D4070>=DEB,BD!D4070<=FIN),MAX(calc!$H$1:H4069)+1,0)","v":0}]
[null,null,null,null,null,{"$f":"IF(COUNTIF(BD!$B$2:B4071,BD!B4071)=1,MAX($F$1:F4070)+1,\"\")","v":""},null,{"$f":"IF(AND(BD!B4071=REF,BD!D4071>=DEB,BD!D4071<=FIN),MAX(calc!$H$1:H4070)+1,0)","v":0}]
[null,null,null,null,null,{"$f":"IF(COUNTIF(BD!$B$2:B4072,BD!B4072)=1,MAX($F$1:F4071)+1,\"\")","v":""},null,{"$f":"IF(AND(BD!B4072=REF,BD!D4072>=DEB,BD!D4072<=FIN),MAX(calc!$H$1:H4071)+1,0)","v":0}]
[null,null,null,null,null,{"$f":"IF(COUNTIF(BD!$B$2:B4073,BD!B4073)=1,MAX($F$1:F4072)+1,\"\")","v":""},null,{"$f":"IF(AND(BD!B4073=REF,BD!D4073>=DEB,BD!D4073<=FIN),MAX(calc!$H$1:H4072)+1,0)","v":0}]
[null,null,null,null,null,{"$f":"IF(COUNTIF(BD!$B$2:B4074,BD!B4074)=1,MAX($F$1:F4073)+1,\"\")","v":""},null,{"$f":"IF(AND(BD!B4074=REF,BD!D4074>=DEB,BD!D4074<=FIN),MAX(calc!$H$1:H4073)+1,0)","v":0}]
[null,null,null,null,null,{"$f":"IF(COUNTIF(BD!$B$2:B4075,BD!B4075)=1,MAX($F$1:F4074)+1,\"\")","v":""},null,{"$f":"IF(AND(BD!B4075=REF,BD!D4075>=DEB,BD!D4075<=FIN),MAX(calc!$H$1:H4074)+1,0)","v":0}]
[null,null,null,null,null,{"$f":"IF(COUNTIF(BD!$B$2:B4076,BD!B4076)=1,MAX($F$1:F4075)+1,\"\")","v":""},null,{"$f":"IF(AND(BD!B4076=REF,BD!D4076>=DEB,BD!D4076<=FIN),MAX(calc!$H$1:H4075)+1,0)","v":0}]
[null,null,null,null,null,{"$f":"IF(COUNTIF(BD!$B$2:B4077,BD!B4077)=1,MAX($F$1:F4076)+1,\"\")","v":""},null,{"$f":"IF(AND(BD!B4077=REF,BD!D4077>=DEB,BD!D4077<=FIN),MAX(calc!$H$1:H4076)+1,0)","v":0}]
[null,null,null,null,null,{"$f":"IF(COUNTIF(BD!$B$2:B4078,BD!B4078)=1,MAX($F$1:F4077)+1,\"\")","v":""},null,{"$f":"IF(AND(BD!B4078=REF,BD!D4078>=DEB,BD!D4078<=FIN),MAX(calc!$H$1:H4077)+1,0)","v":0}]
[null,null,null,null,null,{"$f":"IF(COUNTIF(BD!$B$2:B4079,BD!B4079)=1,MAX($F$1:F4078)+1,\"\")","v":""},null,{"$f":"IF(AND(BD!B4079=REF,BD!D4079>=DEB,BD!D4079<=FIN),MAX(calc!$H$1:H4078)+1,0)","v":0}]
[null,null,null,null,null,{"$f":"IF(COUNTIF(BD!$B$2:B4080,BD!B4080)=1,MAX($F$1:F4079)+1,\"\")","v":""},null,{"$f":"IF(AND(BD!B4080=REF,BD!D4080>=DEB,BD!D4080<=FIN),MAX(calc!$H$1:H4079)+1,0)","v":0}]
[null,null,null,null,null,{"$f":"IF(COUNTIF(BD!$B$2:B4081,BD!B4081)=1,MAX($F$1:F4080)+1,\"\")","v":""},null,{"$f":"IF(AND(BD!B4081=REF,BD!D4081>=DEB,BD!D4081<=FIN),MAX(calc!$H$1:H4080)+1,0)","v":0}]
[null,null,null,null,null,{"$f":"IF(COUNTIF(BD!$B$2:B4082,BD!B4082)=1,MAX($F$1:F4081)+1,\"\")","v":""},null,{"$f":"IF(AND(BD!B4082=REF,BD!D4082>=DEB,BD!D4082<=FIN),MAX(calc!$H$1:H4081)+1,0)","v":0}]
[null,null,null,null,null,{"$f":"IF(COUNTIF(BD!$B$2:B4083,BD!B4083)=1,MAX($F$1:F4082)+1,\"\")","v":""},null,{"$f":"IF(AND(BD!B4083=REF,BD!D4083>=DEB,BD!D4083<=FIN),MAX(calc!$H$1:H4082)+1,0)","v":0}]
[null,null,null,null,null,{"$f":"IF(COUNTIF(BD!$B$2:B4084,BD!B4084)=1,MAX($F$1:F4083)+1,\"\")","v":""},null,{"$f":"IF(AND(BD!B4084=REF,BD!D4084>=DEB,BD!D4084<=FIN),MAX(calc!$H$1:H4083)+1,0)","v":0}]
[null,null,null,null,null,{"$f":"IF(COUNTIF(BD!$B$2:B4085,BD!B4085)=1,MAX($F$1:F4084)+1,\"\")","v":""},null,{"$f":"IF(AND(BD!B4085=REF,BD!D4085>=DEB,BD!D4085<=FIN),MAX(calc!$H$1:H4084)+1,0)","v":0}]
[null,null,null,null,null,{"$f":"IF(COUNTIF(BD!$B$2:B4086,BD!B4086)=1,MAX($F$1:F4085)+1,\"\")","v":""},null,{"$f":"IF(AND(BD!B4086=REF,BD!D4086>=DEB,BD!D4086<=FIN),MAX(calc!$H$1:H4085)+1,0)","v":0}]
[null,null,null,null,null,{"$f":"IF(COUNTIF(BD!$B$2:B4087,BD!B4087)=1,MAX($F$1:F4086)+1,\"\")","v":""},null,{"$f":"IF(AND(BD!B4087=REF,BD!D4087>=DEB,BD!D4087<=FIN),MAX(calc!$H$1:H4086)+1,0)","v":0}]
[null,null,null,null,null,{"$f":"IF(COUNTIF(BD!$B$2:B4088,BD!B4088)=1,MAX($F$1:F4087)+1,\"\")","v":""},null,{"$f":"IF(AND(BD!B4088=REF,BD!D4088>=DEB,BD!D4088<=FIN),MAX(calc!$H$1:H4087)+1,0)","v":0}]
[null,null,null,null,null,{"$f":"IF(COUNTIF(BD!$B$2:B4089,BD!B4089)=1,MAX($F$1:F4088)+1,\"\")","v":""},null,{"$f":"IF(AND(BD!B4089=REF,BD!D4089>=DEB,BD!D4089<=FIN),MAX(calc!$H$1:H4088)+1,0)","v":0}]
[null,null,null,null,null,{"$f":"IF(COUNTIF(BD!$B$2:B4090,BD!B4090)=1,MAX($F$1:F4089)+1,\"\")","v":""},null,{"$f":"IF(AND(BD!B4090=REF,BD!D4090>=DEB,BD!D4090<=FIN),MAX(calc!$H$1:H4089)+1,0)","v":0}]
[null,null,null,null,null,{"$f":"IF(COUNTIF(BD!$B$2:B4091,BD!B4091)=1,MAX($F$1:F4090)+1,\"\")","v":""},null,{"$f":"IF(AND(BD!B4091=REF,BD!D4091>=DEB,BD!D4091<=FIN),MAX(calc!$H$1:H4090)+1,0)","v":0}]
[null,null,null,null,null,{"$f":"IF(COUNTIF(BD!$B$2:B4092,BD!B4092)=1,MAX($F$1:F4091)+1,\"\")","v":""},null,{"$f":"IF(AND(BD!B4092=REF,BD!D4092>=DEB,BD!D4092<=FIN),MAX(calc!$H$1:H4091)+1,0)","v":0}]
[null,null,null,null,null,{"$f":"IF(COUNTIF(BD!$B$2:B4093,BD!B4093)=1,MAX($F$1:F4092)+1,\"\")","v":""},null,{"$f":"IF(AND(BD!B4093=REF,BD!D4093>=DEB,BD!D4093<=FIN),MAX(calc!$H$1:H4092)+1,0)","v":0}]
[null,null,null,null,null,{"$f":"IF(COUNTIF(BD!$B$2:B4094,BD!B4094)=1,MAX($F$1:F4093)+1,\"\")","v":""},null,{"$f":"IF(AND(BD!B4094=REF,BD!D4094>=DEB,BD!D4094<=FIN),MAX(calc!$H$1:H4093)+1,0)","v":0}]
[null,null,null,null,null,{"$f":"IF(COUNTIF(BD!$B$2:B4095,BD!B4095)=1,MAX($F$1:F4094)+1,\"\")","v":""},null,{"$f":"IF(AND(BD!B4095=REF,BD!D4095>=DEB,BD!D4095<=FIN),MAX(calc!$H$1:H4094)+1,0)","v":0}]
[null,null,null,null,null,{"$f":"IF(COUNTIF(BD!$B$2:B4096,BD!B4096)=1,MAX($F$1:F4095)+1,\"\")","v":""},null,{"$f":"IF(AND(BD!B4096=REF,BD!D4096>=DEB,BD!D4096<=FIN),MAX(calc!$H$1:H4095)+1,0)","v":0}]
[null,null,null,null,null,{"$f":"IF(COUNTIF(BD!$B$2:B4097,BD!B4097)=1,MAX($F$1:F4096)+1,\"\")","v":""},null,{"$f":"IF(AND(BD!B4097=REF,BD!D4097>=DEB,BD!D4097<=FIN),MAX(calc!$H$1:H4096)+1,0)","v":0}]
[null,null,null,null,null,{"$f":"IF(COUNTIF(BD!$B$2:B4098,BD!B4098)=1,MAX($F$1:F4097)+1,\"\")","v":""},null,{"$f":"IF(AND(BD!B4098=REF,BD!D4098>=DEB,BD!D4098<=FIN),MAX(calc!$H$1:H4097)+1,0)","v":0}]
[null,null,null,null,null,{"$f":"IF(COUNTIF(BD!$B$2:B4099,BD!B4099)=1,MAX($F$1:F4098)+1,\"\")","v":""},null,{"$f":"IF(AND(BD!B4099=REF,BD!D4099>=DEB,BD!D4099<=FIN),MAX(calc!$H$1:H4098)+1,0)","v":0}]
[null,null,null,null,null,{"$f":"IF(COUNTIF(BD!$B$2:B4100,BD!B4100)=1,MAX($F$1:F4099)+1,\"\")","v":""},null,{"$f":"IF(AND(BD!B4100=REF,BD!D4100>=DEB,BD!D4100<=FIN),MAX(calc!$H$1:H4099)+1,0)","v":0}]
[null,null,null,null,null,{"$f":"IF(COUNTIF(BD!$B$2:B4101,BD!B4101)=1,MAX($F$1:F4100)+1,\"\")","v":""},null,{"$f":"IF(AND(BD!B4101=REF,BD!D4101>=DEB,BD!D4101<=FIN),MAX(calc!$H$1:H4100)+1,0)","v":0}]
[null,null,null,null,null,{"$f":"IF(COUNTIF(BD!$B$2:B4102,BD!B4102)=1,MAX($F$1:F4101)+1,\"\")","v":""},null,{"$f":"IF(AND(BD!B4102=REF,BD!D4102>=DEB,BD!D4102<=FIN),MAX(calc!$H$1:H4101)+1,0)","v":0}]
[null,null,null,null,null,{"$f":"IF(COUNTIF(BD!$B$2:B4103,BD!B4103)=1,MAX($F$1:F4102)+1,\"\")","v":""},null,{"$f":"IF(AND(BD!B4103=REF,BD!D4103>=DEB,BD!D4103<=FIN),MAX(calc!$H$1:H4102)+1,0)","v":0}]
[null,null,null,null,null,{"$f":"IF(COUNTIF(BD!$B$2:B4104,BD!B4104)=1,MAX($F$1:F4103)+1,\"\")","v":""},null,{"$f":"IF(AND(BD!B4104=REF,BD!D4104>=DEB,BD!D4104<=FIN),MAX(calc!$H$1:H4103)+1,0)","v":0}]
[null,null,null,null,null,{"$f":"IF(COUNTIF(BD!$B$2:B4105,BD!B4105)=1,MAX($F$1:F4104)+1,\"\")","v":""},null,{"$f":"IF(AND(BD!B4105=REF,BD!D4105>=DEB,BD!D4105<=FIN),MAX(calc!$H$1:H4104)+1,0)","v":0}]
[null,null,null,null,null,{"$f":"IF(COUNTIF(BD!$B$2:B4106,BD!B4106)=1,MAX($F$1:F4105)+1,\"\")","v":""},null,{"$f":"IF(AND(BD!B4106=REF,BD!D4106>=DEB,BD!D4106<=FIN),MAX(calc!$H$1:H4105)+1,0)","v":0}]
[null,null,null,null,null,{"$f":"IF(COUNTIF(BD!$B$2:B4107,BD!B4107)=1,MAX($F$1:F4106)+1,\"\")","v":""},null,{"$f":"IF(AND(BD!B4107=REF,BD!D4107>=DEB,BD!D4107<=FIN),MAX(calc!$H$1:H4106)+1,0)","v":0}]
[null,null,null,null,null,{"$f":"IF(COUNTIF(BD!$B$2:B4108,BD!B4108)=1,MAX($F$1:F4107)+1,\"\")","v":""},null,{"$f":"IF(AND(BD!B4108=REF,BD!D4108>=DEB,BD!D4108<=FIN),MAX(calc!$H$1:H4107)+1,0)","v":0}]
[null,null,null,null,null,{"$f":"IF(COUNTIF(BD!$B$2:B4109,BD!B4109)=1,MAX($F$1:F4108)+1,\"\")","v":""},null,{"$f":"IF(AND(BD!B4109=REF,BD!D4109>=DEB,BD!D4109<=FIN),MAX(calc!$H$1:H4108)+1,0)","v":0}]
[null,null,null,null,null,{"$f":"IF(COUNTIF(BD!$B$2:B4110,BD!B4110)=1,MAX($F$1:F4109)+1,\"\")","v":""},null,{"$f":"IF(AND(BD!B4110=REF,BD!D4110>=DEB,BD!D4110<=FIN),MAX(calc!$H$1:H4109)+1,0)","v":0}]
[null,null,null,null,null,{"$f":"IF(COUNTIF(BD!$B$2:B4111,BD!B4111)=1,MAX($F$1:F4110)+1,\"\")","v":""},null,{"$f":"IF(AND(BD!B4111=REF,BD!D4111>=DEB,BD!D4111<=FIN),MAX(calc!$H$1:H4110)+1,0)","v":0}]
[null,null,null,null,null,{"$f":"IF(COUNTIF(BD!$B$2:B4112,BD!B4112)=1,MAX($F$1:F4111)+1,\"\")","v":""},null,{"$f":"IF(AND(BD!B4112=REF,BD!D4112>=DEB,BD!D4112<=FIN),MAX(calc!$H$1:H4111)+1,0)","v":0}]
[null,null,null,null,null,{"$f":"IF(COUNTIF(BD!$B$2:B4113,BD!B4113)=1,MAX($F$1:F4112)+1,\"\")","v":""},null,{"$f":"IF(AND(BD!B4113=REF,BD!D4113>=DEB,BD!D4113<=FIN),MAX(calc!$H$1:H4112)+1,0)","v":0}]
[null,null,null,null,null,{"$f":"IF(COUNTIF(BD!$B$2:B4114,BD!B4114)=1,MAX($F$1:F4113)+1,\"\")","v":""},null,{"$f":"IF(AND(BD!B4114=REF,BD!D4114>=DEB,BD!D4114<=FIN),MAX(calc!$H$1:H4113)+1,0)","v":0}]
[null,null,null,null,null,{"$f":"IF(COUNTIF(BD!$B$2:B4115,BD!B4115)=1,MAX($F$1:F4114)+1,\"\")","v":""},null,{"$f":"IF(AND(BD!B4115=REF,BD!D4115>=DEB,BD!D4115<=FIN),MAX(calc!$H$1:H4114)+1,0)","v":0}]
[null,null,null,null,null,{"$f":"IF(COUNTIF(BD!$B$2:B4116,BD!B4116)=1,MAX($F$1:F4115)+1,\"\")","v":""},null,{"$f":"IF(AND(BD!B4116=REF,BD!D4116>=DEB,BD!D4116<=FIN),MAX(calc!$H$1:H4115)+1,0)","v":0}]
[null,null,null,null,null,{"$f":"IF(COUNTIF(BD!$B$2:B4117,BD!B4117)=1,MAX($F$1:F4116)+1,\"\")","v":""},null,{"$f":"IF(AND(BD!B4117=REF,BD!D4117>=DEB,BD!D4117<=FIN),MAX(calc!$H$1:H4116)+1,0)","v":0}]
[null,null,null,null,null,{"$f":"IF(COUNTIF(BD!$B$2:B4118,BD!B4118)=1,MAX($F$1:F4117)+1,\"\")","v":""},null,{"$f":"IF(AND(BD!B4118=REF,BD!D4118>=DEB,BD!D4118<=FIN),MAX(calc!$H$1:H4117)+1,0)","v":0}]
[null,null,null,null,null,{"$f":"IF(COUNTIF(BD!$B$2:B4119,BD!B4119)=1,MAX($F$1:F4118)+1,\"\")","v":""},null,{"$f":"IF(AND(BD!B4119=REF,BD!D4119>=DEB,BD!D4119<=FIN),MAX(calc!$H$1:H4118)+1,0)","v":0}]
[null,null,null,null,null,{"$f":"IF(COUNTIF(BD!$B$2:B4120,BD!B4120)=1,MAX($F$1:F4119)+1,\"\")","v":""},null,{"$f":"IF(AND(BD!B4120=REF,BD!D4120>=DEB,BD!D4120<=FIN),MAX(calc!$H$1:H4119)+1,0)","v":0}]
[null,null,null,null,null,{"$f":"IF(COUNTIF(BD!$B$2:B4121,BD!B4121)=1,MAX($F$1:F4120)+1,\"\")","v":""},null,{"$f":"IF(AND(BD!B4121=REF,BD!D4121>=DEB,BD!D4121<=FIN),MAX(calc!$H$1:H4120)+1,0)","v":0}]
[null,null,null,null,null,{"$f":"IF(COUNTIF(BD!$B$2:B4122,BD!B4122)=1,MAX($F$1:F4121)+1,\"\")","v":""},null,{"$f":"IF(AND(BD!B4122=REF,BD!D4122>=DEB,BD!D4122<=FIN),MAX(calc!$H$1:H4121)+1,0)","v":0}]
[null,null,null,null,null,{"$f":"IF(COUNTIF(BD!$B$2:B4123,BD!B4123)=1,MAX($F$1:F4122)+1,\"\")","v":""},null,{"$f":"IF(AND(BD!B4123=REF,BD!D4123>=DEB,BD!D4123<=FIN),MAX(calc!$H$1:H4122)+1,0)","v":0}]
[null,null,null,null,null,{"$f":"IF(COUNTIF(BD!$B$2:B4124,BD!B4124)=1,MAX($F$1:F4123)+1,\"\")","v":""},null,{"$f":"IF(AND(BD!B4124=REF,BD!D4124>=DEB,BD!D4124<=FIN),MAX(calc!$H$1:H4123)+1,0)","v":0}]
[null,null,null,null,null,{"$f":"IF(COUNTIF(BD!$B$2:B4125,BD!B4125)=1,MAX($F$1:F4124)+1,\"\")","v":""},null,{"$f":"IF(AND(BD!B4125=REF,BD!D4125>=DEB,BD!D4125<=FIN),MAX(calc!$H$1:H4124)+1,0)","v":0}]
[null,null,null,null,null,{"$f":"IF(COUNTIF(BD!$B$2:B4126,BD!B4126)=1,MAX($F$1:F4125)+1,\"\")","v":""},null,{"$f":"IF(AND(BD!B4126=REF,BD!D4126>=DEB,BD!D4126<=FIN),MAX(calc!$H$1:H4125)+1,0)","v":0}]
[null,null,null,null,null,{"$f":"IF(COUNTIF(BD!$B$2:B4127,BD!B4127)=1,MAX($F$1:F4126)+1,\"\")","v":""},null,{"$f":"IF(AND(BD!B4127=REF,BD!D4127>=DEB,BD!D4127<=FIN),MAX(calc!$H$1:H4126)+1,0)","v":0}]
[null,null,null,null,null,{"$f":"IF(COUNTIF(BD!$B$2:B4128,BD!B4128)=1,MAX($F$1:F4127)+1,\"\")","v":""},null,{"$f":"IF(AND(BD!B4128=REF,BD!D4128>=DEB,BD!D4128<=FIN),MAX(calc!$H$1:H4127)+1,0)","v":0}]
[null,null,null,null,null,{"$f":"IF(COUNTIF(BD!$B$2:B4129,BD!B4129)=1,MAX($F$1:F4128)+1,\"\")","v":""},null,{"$f":"IF(AND(BD!B4129=REF,BD!D4129>=DEB,BD!D4129<=FIN),MAX(calc!$H$1:H4128)+1,0)","v":0}]
[null,null,null,null,null,{"$f":"IF(COUNTIF(BD!$B$2:B4130,BD!B4130)=1,MAX($F$1:F4129)+1,\"\")","v":""},null,{"$f":"IF(AND(BD!B4130=REF,BD!D4130>=DEB,BD!D4130<=FIN),MAX(calc!$H$1:H4129)+1,0)","v":0}]
[null,null,null,null,null,{"$f":"IF(COUNTIF(BD!$B$2:B4131,BD!B4131)=1,MAX($F$1:F4130)+1,\"\")","v":""},null,{"$f":"IF(AND(BD!B4131=REF,BD!D4131>=DEB,BD!D4131<=FIN),MAX(calc!$H$1:H4130)+1,0)","v":0}]
[null,null,null,null,null,{"$f":"IF(COUNTIF(BD!$B$2:B4132,BD!B4132)=1,MAX($F$1:F4131)+1,\"\")","v":""},null,{"$f":"IF(AND(BD!B4132=REF,BD!D4132>=DEB,BD!D4132<=FIN),MAX(calc!$H$1:H4131)+1,0)","v":0}]
[null,null,null,null,null,{"$f":"IF(COUNTIF(BD!$B$2:B4133,BD!B4133)=1,MAX($F$1:F4132)+1,\"\")","v":""},null,{"$f":"IF(AND(BD!B4133=REF,BD!D4133>=DEB,BD!D4133<=FIN),MAX(calc!$H$1:H4132)+1,0)","v":0}]
[null,null,null,null,null,{"$f":"IF(COUNTIF(BD!$B$2:B4134,BD!B4134)=1,MAX($F$1:F4133)+1,\"\")","v":""},null,{"$f":"IF(AND(BD!B4134=REF,BD!D4134>=DEB,BD!D4134<=FIN),MAX(calc!$H$1:H4133)+1,0)","v":0}]
[null,null,null,null,null,{"$f":"IF(COUNTIF(BD!$B$2:B4135,BD!B4135)=1,MAX($F$1:F4134)+1,\"\")","v":""},null,{"$f":"IF(AND(BD!B4135=REF,BD!D4135>=DEB,BD!D4135<=FIN),MAX(calc!$H$1:H4134)+1,0)","v":0}]
[null,null,null,null,null,{"$f":"IF(COUNTIF(BD!$B$2:B4136,BD!B4136)=1,MAX($F$1:F4135)+1,\"\")","v":""},null,{"$f":"IF(AND(BD!B4136=REF,BD!D4136>=DEB,BD!D4136<=FIN),MAX(calc!$H$1:H4135)+1,0)","v":0}]
[null,null,null,null,null,{"$f":"IF(COUNTIF(BD!$B$2:B4137,BD!B4137)=1,MAX($F$1:F4136)+1,\"\")","v":""},null,{"$f":"IF(AND(BD!B4137=REF,BD!D4137>=DEB,BD!D4137<=FIN),MAX(calc!$H$1:H4136)+1,0)","v":0}]
[null,null,null,null,null,{"$f":"IF(COUNTIF(BD!$B$2:B4138,BD!B4138)=1,MAX($F$1:F4137)+1,\"\")","v":""},null,{"$f":"IF(AND(BD!B4138=REF,BD!D4138>=DEB,BD!D4138<=FIN),MAX(calc!$H$1:H4137)+1,0)","v":0}]
[null,null,null,null,null,{"$f":"IF(COUNTIF(BD!$B$2:B4139,BD!B4139)=1,MAX($F$1:F4138)+1,\"\")","v":""},null,{"$f":"IF(AND(BD!B4139=REF,BD!D4139>=DEB,BD!D4139<=FIN),MAX(calc!$H$1:H4138)+1,0)","v":0}]
[null,null,null,null,null,{"$f":"IF(COUNTIF(BD!$B$2:B4140,BD!B4140)=1,MAX($F$1:F4139)+1,\"\")","v":""},null,{"$f":"IF(AND(BD!B4140=REF,BD!D4140>=DEB,BD!D4140<=FIN),MAX(calc!$H$1:H4139)+1,0)","v":0}]
[null,null,null,null,null,{"$f":"IF(COUNTIF(BD!$B$2:B4141,BD!B4141)=1,MAX($F$1:F4140)+1,\"\")","v":""},null,{"$f":"IF(AND(BD!B4141=REF,BD!D4141>=DEB,BD!D4141<=FIN),MAX(calc!$H$1:H4140)+1,0)","v":0}]
[null,null,null,null,null,{"$f":"IF(COUNTIF(BD!$B$2:B4142,BD!B4142)=1,MAX($F$1:F4141)+1,\"\")","v":""},null,{"$f":"IF(AND(BD!B4142=REF,BD!D4142>=DEB,BD!D4142<=FIN),MAX(calc!$H$1:H4141)+1,0)","v":0}]
[null,null,null,null,null,{"$f":"IF(COUNTIF(BD!$B$2:B4143,BD!B4143)=1,MAX($F$1:F4142)+1,\"\")","v":""},null,{"$f":"IF(AND(BD!B4143=REF,BD!D4143>=DEB,BD!D4143<=FIN),MAX(calc!$H$1:H4142)+1,0)","v":0}]
[null,null,null,null,null,{"$f":"IF(COUNTIF(BD!$B$2:B4144,BD!B4144)=1,MAX($F$1:F4143)+1,\"\")","v":""},null,{"$f":"IF(AND(BD!B4144=REF,BD!D4144>=DEB,BD!D4144<=FIN),MAX(calc!$H$1:H4143)+1,0)","v":0}]
[null,null,null,null,null,{"$f":"IF(COUNTIF(BD!$B$2:B4145,BD!B4145)=1,MAX($F$1:F4144)+1,\"\")","v":""},null,{"$f":"IF(AND(BD!B4145=REF,BD!D4145>=DEB,BD!D4145<=FIN),MAX(calc!$H$1:H4144)+1,0)","v":0}]
[null,null,null,null,null,{"$f":"IF(COUNTIF(BD!$B$2:B4146,BD!B4146)=1,MAX($F$1:F4145)+1,\"\")","v":""},null,{"$f":"IF(AND(BD!B4146=REF,BD!D4146>=DEB,BD!D4146<=FIN),MAX(calc!$H$1:H4145)+1,0)","v":0}]
[null,null,null,null,null,{"$f":"IF(COUNTIF(BD!$B$2:B4147,BD!B4147)=1,MAX($F$1:F4146)+1,\"\")","v":""},null,{"$f":"IF(AND(BD!B4147=REF,BD!D4147>=DEB,BD!D4147<=FIN),MAX(calc!$H$1:H4146)+1,0)","v":0}]
[null,null,null,null,null,{"$f":"IF(COUNTIF(BD!$B$2:B4148,BD!B4148)=1,MAX($F$1:F4147)+1,\"\")","v":""},null,{"$f":"IF(AND(BD!B4148=REF,BD!D4148>=DEB,BD!D4148<=FIN),MAX(calc!$H$1:H4147)+1,0)","v":0}]
[null,null,null,null,null,{"$f":"IF(COUNTIF(BD!$B$2:B4149,BD!B4149)=1,MAX($F$1:F4148)+1,\"\")","v":""},null,{"$f":"IF(AND(BD!B4149=REF,BD!D4149>=DEB,BD!D4149<=FIN),MAX(calc!$H$1:H4148)+1,0)","v":0}]
[null,null,null,null,null,{"$f":"IF(COUNTIF(BD!$B$2:B4150,BD!B4150)=1,MAX($F$1:F4149)+1,\"\")","v":""},null,{"$f":"IF(AND(BD!B4150=REF,BD!D4150>=DEB,BD!D4150<=FIN),MAX(calc!$H$1:H4149)+1,0)","v":0}]
[null,null,null,null,null,{"$f":"IF(COUNTIF(BD!$B$2:B4151,BD!B4151)=1,MAX($F$1:F4150)+1,\"\")","v":""},null,{"$f":"IF(AND(BD!B4151=REF,BD!D4151>=DEB,BD!D4151<=FIN),MAX(calc!$H$1:H4150)+1,0)","v":0}]
[null,null,null,null,null,{"$f":"IF(COUNTIF(BD!$B$2:B4152,BD!B4152)=1,MAX($F$1:F4151)+1,\"\")","v":""},null,{"$f":"IF(AND(BD!B4152=REF,BD!D4152>=DEB,BD!D4152<=FIN),MAX(calc!$H$1:H4151)+1,0)","v":0}]
[null,null,null,null,null,{"$f":"IF(COUNTIF(BD!$B$2:B4153,BD!B4153)=1,MAX($F$1:F4152)+1,\"\")","v":""},null,{"$f":"IF(AND(BD!B4153=REF,BD!D4153>=DEB,BD!D4153<=FIN),MAX(calc!$H$1:H4152)+1,0)","v":0}]
[null,null,null,null,null,{"$f":"IF(COUNTIF(BD!$B$2:B4154,BD!B4154)=1,MAX($F$1:F4153)+1,\"\")","v":""},null,{"$f":"IF(AND(BD!B4154=REF,BD!D4154>=DEB,BD!D4154<=FIN),MAX(calc!$H$1:H4153)+1,0)","v":0}]
[null,null,null,null,null,{"$f":"IF(COUNTIF(BD!$B$2:B4155,BD!B4155)=1,MAX($F$1:F4154)+1,\"\")","v":""},null,{"$f":"IF(AND(BD!B4155=REF,BD!D4155>=DEB,BD!D4155<=FIN),MAX(calc!$H$1:H4154)+1,0)","v":0}]
[null,null,null,null,null,{"$f":"IF(COUNTIF(BD!$B$2:B4156,BD!B4156)=1,MAX($F$1:F4155)+1,\"\")","v":""},null,{"$f":"IF(AND(BD!B4156=REF,BD!D4156>=DEB,BD!D4156<=FIN),MAX(calc!$H$1:H4155)+1,0)","v":0}]
[null,null,null,null,null,{"$f":"IF(COUNTIF(BD!$B$2:B4157,BD!B4157)=1,MAX($F$1:F4156)+1,\"\")","v":""},null,{"$f":"IF(AND(BD!B4157=REF,BD!D4157>=DEB,BD!D4157<=FIN),MAX(calc!$H$1:H4156)+1,0)","v":0}]
[null,null,null,null,null,{"$f":"IF(COUNTIF(BD!$B$2:B4158,BD!B4158)=1,MAX($F$1:F4157)+1,\"\")","v":""},null,{"$f":"IF(AND(BD!B4158=REF,BD!D4158>=DEB,BD!D4158<=FIN),MAX(calc!$H$1:H4157)+1,0)","v":0}]
[null,null,null,null,null,{"$f":"IF(COUNTIF(BD!$B$2:B4159,BD!B4159)=1,MAX($F$1:F4158)+1,\"\")","v":""},null,{"$f":"IF(AND(BD!B4159=REF,BD!D4159>=DEB,BD!D4159<=FIN),MAX(calc!$H$1:H4158)+1,0)","v":0}]
[null,null,null,null,null,{"$f":"IF(COUNTIF(BD!$B$2:B4160,BD!B4160)=1,MAX($F$1:F4159)+1,\"\")","v":""},null,{"$f":"IF(AND(BD!B4160=REF,BD!D4160>=DEB,BD!D4160<=FIN),MAX(calc!$H$1:H4159)+1,0)","v":0}]
[null,null,null,null,null,{"$f":"IF(COUNTIF(BD!$B$2:B4161,BD!B4161)=1,MAX($F$1:F4160)+1,\"\")","v":""},null,{"$f":"IF(AND(BD!B4161=REF,BD!D4161>=DEB,BD!D4161<=FIN),MAX(calc!$H$1:H4160)+1,0)","v":0}]
[null,null,null,null,null,{"$f":"IF(COUNTIF(BD!$B$2:B4162,BD!B4162)=1,MAX($F$1:F4161)+1,\"\")","v":""},null,{"$f":"IF(AND(BD!B4162=REF,BD!D4162>=DEB,BD!D4162<=FIN),MAX(calc!$H$1:H4161)+1,0)","v":0}]
[null,null,null,null,null,{"$f":"IF(COUNTIF(BD!$B$2:B4163,BD!B4163)=1,MAX($F$1:F4162)+1,\"\")","v":""},null,{"$f":"IF(AND(BD!B4163=REF,BD!D4163>=DEB,BD!D4163<=FIN),MAX(calc!$H$1:H4162)+1,0)","v":0}]
[null,null,null,null,null,{"$f":"IF(COUNTIF(BD!$B$2:B4164,BD!B4164)=1,MAX($F$1:F4163)+1,\"\")","v":""},null,{"$f":"IF(AND(BD!B4164=REF,BD!D4164>=DEB,BD!D4164<=FIN),MAX(calc!$H$1:H4163)+1,0)","v":0}]
[null,null,null,null,null,{"$f":"IF(COUNTIF(BD!$B$2:B4165,BD!B4165)=1,MAX($F$1:F4164)+1,\"\")","v":""},null,{"$f":"IF(AND(BD!B4165=REF,BD!D4165>=DEB,BD!D4165<=FIN),MAX(calc!$H$1:H4164)+1,0)","v":0}]
[null,null,null,null,null,{"$f":"IF(COUNTIF(BD!$B$2:B4166,BD!B4166)=1,MAX($F$1:F4165)+1,\"\")","v":""},null,{"$f":"IF(AND(BD!B4166=REF,BD!D4166>=DEB,BD!D4166<=FIN),MAX(calc!$H$1:H4165)+1,0)","v":0}]
[null,null,null,null,null,{"$f":"IF(COUNTIF(BD!$B$2:B4167,BD!B4167)=1,MAX($F$1:F4166)+1,\"\")","v":""},null,{"$f":"IF(AND(BD!B4167=REF,BD!D4167>=DEB,BD!D4167<=FIN),MAX(calc!$H$1:H4166)+1,0)","v":0}]
[null,null,null,null,null,{"$f":"IF(COUNTIF(BD!$B$2:B4168,BD!B4168)=1,MAX($F$1:F4167)+1,\"\")","v":""},null,{"$f":"IF(AND(BD!B4168=REF,BD!D4168>=DEB,BD!D4168<=FIN),MAX(calc!$H$1:H4167)+1,0)","v":0}]
[null,null,null,null,null,{"$f":"IF(COUNTIF(BD!$B$2:B4169,BD!B4169)=1,MAX($F$1:F4168)+1,\"\")","v":""},null,{"$f":"IF(AND(BD!B4169=REF,BD!D4169>=DEB,BD!D4169<=FIN),MAX(calc!$H$1:H4168)+1,0)","v":0}]
[null,null,null,null,null,{"$f":"IF(COUNTIF(BD!$B$2:B4170,BD!B4170)=1,MAX($F$1:F4169)+1,\"\")","v":""},null,{"$f":"IF(AND(BD!B4170=REF,BD!D4170>=DEB,BD!D4170<=FIN),MAX(calc!$H$1:H4169)+1,0)","v":0}]
[null,null,null,null,null,{"$f":"IF(COUNTIF(BD!$B$2:B4171,BD!B4171)=1,MAX($F$1:F4170)+1,\"\")","v":""},null,{"$f":"IF(AND(BD!B4171=REF,BD!D4171>=DEB,BD!D4171<=FIN),MAX(calc!$H$1:H4170)+1,0)","v":0}]
[null,null,null,null,null,{"$f":"IF(COUNTIF(BD!$B$2:B4172,BD!B4172)=1,MAX($F$1:F4171)+1,\"\")","v":""},null,{"$f":"IF(AND(BD!B4172=REF,BD!D4172>=DEB,BD!D4172<=FIN),MAX(calc!$H$1:H4171)+1,0)","v":0}]
[null,null,null,null,null,{"$f":"IF(COUNTIF(BD!$B$2:B4173,BD!B4173)=1,MAX($F$1:F4172)+1,\"\")","v":""},null,{"$f":"IF(AND(BD!B4173=REF,BD!D4173>=DEB,BD!D4173<=FIN),MAX(calc!$H$1:H4172)+1,0)","v":0}]
[null,null,null,null,null,{"$f":"IF(COUNTIF(BD!$B$2:B4174,BD!B4174)=1,MAX($F$1:F4173)+1,\"\")","v":""},null,{"$f":"IF(AND(BD!B4174=REF,BD!D4174>=DEB,BD!D4174<=FIN),MAX(calc!$H$1:H4173)+1,0)","v":0}]
[null,null,null,null,null,{"$f":"IF(COUNTIF(BD!$B$2:B4175,BD!B4175)=1,MAX($F$1:F4174)+1,\"\")","v":""},null,{"$f":"IF(AND(BD!B4175=REF,BD!D4175>=DEB,BD!D4175<=FIN),MAX(calc!$H$1:H4174)+1,0)","v":0}]
[null,null,null,null,null,{"$f":"IF(COUNTIF(BD!$B$2:B4176,BD!B4176)=1,MAX($F$1:F4175)+1,\"\")","v":""},null,{"$f":"IF(AND(BD!B4176=REF,BD!D4176>=DEB,BD!D4176<=FIN),MAX(calc!$H$1:H4175)+1,0)","v":0}]
[null,null,null,null,null,{"$f":"IF(COUNTIF(BD!$B$2:B4177,BD!B4177)=1,MAX($F$1:F4176)+1,\"\")","v":""},null,{"$f":"IF(AND(BD!B4177=REF,BD!D4177>=DEB,BD!D4177<=FIN),MAX(calc!$H$1:H4176)+1,0)","v":0}]
[null,null,null,null,null,{"$f":"IF(COUNTIF(BD!$B$2:B4178,BD!B4178)=1,MAX($F$1:F4177)+1,\"\")","v":""},null,{"$f":"IF(AND(BD!B4178=REF,BD!D4178>=DEB,BD!D4178<=FIN),MAX(calc!$H$1:H4177)+1,0)","v":0}]
[null,null,null,null,null,{"$f":"IF(COUNTIF(BD!$B$2:B4179,BD!B4179)=1,MAX($F$1:F4178)+1,\"\")","v":""},null,{"$f":"IF(AND(BD!B4179=REF,BD!D4179>=DEB,BD!D4179<=FIN),MAX(calc!$H$1:H4178)+1,0)","v":0}]
[null,null,null,null,null,{"$f":"IF(COUNTIF(BD!$B$2:B4180,BD!B4180)=1,MAX($F$1:F4179)+1,\"\")","v":""},null,{"$f":"IF(AND(BD!B4180=REF,BD!D4180>=DEB,BD!D4180<=FIN),MAX(calc!$H$1:H4179)+1,0)","v":0}]
[null,null,null,null,null,{"$f":"IF(COUNTIF(BD!$B$2:B4181,BD!B4181)=1,MAX($F$1:F4180)+1,\"\")","v":""},null,{"$f":"IF(AND(BD!B4181=REF,BD!D4181>=DEB,BD!D4181<=FIN),MAX(calc!$H$1:H4180)+1,0)","v":0}]
[null,null,null,null,null,{"$f":"IF(COUNTIF(BD!$B$2:B4182,BD!B4182)=1,MAX($F$1:F4181)+1,\"\")","v":""},null,{"$f":"IF(AND(BD!B4182=REF,BD!D4182>=DEB,BD!D4182<=FIN),MAX(calc!$H$1:H4181)+1,0)","v":0}]
[null,null,null,null,null,{"$f":"IF(COUNTIF(BD!$B$2:B4183,BD!B4183)=1,MAX($F$1:F4182)+1,\"\")","v":""},null,{"$f":"IF(AND(BD!B4183=REF,BD!D4183>=DEB,BD!D4183<=FIN),MAX(calc!$H$1:H4182)+1,0)","v":0}]
[null,null,null,null,null,{"$f":"IF(COUNTIF(BD!$B$2:B4184,BD!B4184)=1,MAX($F$1:F4183)+1,\"\")","v":""},null,{"$f":"IF(AND(BD!B4184=REF,BD!D4184>=DEB,BD!D4184<=FIN),MAX(calc!$H$1:H4183)+1,0)","v":0}]
[null,null,null,null,null,{"$f":"IF(COUNTIF(BD!$B$2:B4185,BD!B4185)=1,MAX($F$1:F4184)+1,\"\")","v":""},null,{"$f":"IF(AND(BD!B4185=REF,BD!D4185>=DEB,BD!D4185<=FIN),MAX(calc!$H$1:H4184)+1,0)","v":0}]
[null,null,null,null,null,{"$f":"IF(COUNTIF(BD!$B$2:B4186,BD!B4186)=1,MAX($F$1:F4185)+1,\"\")","v":""},null,{"$f":"IF(AND(BD!B4186=REF,BD!D4186>=DEB,BD!D4186<=FIN),MAX(calc!$H$1:H4185)+1,0)","v":0}]
[null,null,null,null,null,{"$f":"IF(COUNTIF(BD!$B$2:B4187,BD!B4187)=1,MAX($F$1:F4186)+1,\"\")","v":""},null,{"$f":"IF(AND(BD!B4187=REF,BD!D4187>=DEB,BD!D4187<=FIN),MAX(calc!$H$1:H4186)+1,0)","v":0}]
[null,null,null,null,null,{"$f":"IF(COUNTIF(BD!$B$2:B4188,BD!B4188)=1,MAX($F$1:F4187)+1,\"\")","v":""},null,{"$f":"IF(AND(BD!B4188=REF,BD!D4188>=DEB,BD!D4188<=FIN),MAX(calc!$H$1:H4187)+1,0)","v":0}]
[null,null,null,null,null,{"$f":"IF(COUNTIF(BD!$B$2:B4189,BD!B4189)=1,MAX($F$1:F4188)+1,\"\")","v":""},null,{"$f":"IF(AND(BD!B4189=REF,BD!D4189>=DEB,BD!D4189<=FIN),MAX(calc!$H$1:H4188)+1,0)","v":0}]
[null,null,null,null,null,{"$f":"IF(COUNTIF(BD!$B$2:B4190,BD!B4190)=1,MAX($F$1:F4189)+1,\"\")","v":""},null,{"$f":"IF(AND(BD!B4190=REF,BD!D4190>=DEB,BD!D4190<=FIN),MAX(calc!$H$1:H4189)+1,0)","v":0}]
[null,null,null,null,null,{"$f":"IF(COUNTIF(BD!$B$2:B4191,BD!B4191)=1,MAX($F$1:F4190)+1,\"\")","v":""},null,{"$f":"IF(AND(BD!B4191=REF,BD!D4191>=DEB,BD!D4191<=FIN),MAX(calc!$H$1:H4190)+1,0)","v":0}]
[null,null,null,null,null,{"$f":"IF(COUNTIF(BD!$B$2:B4192,BD!B4192)=1,MAX($F$1:F4191)+1,\"\")","v":""},null,{"$f":"IF(AND(BD!B4192=REF,BD!D4192>=DEB,BD!D4192<=FIN),MAX(calc!$H$1:H4191)+1,0)","v":0}]
[null,null,null,null,null,{"$f":"IF(COUNTIF(BD!$B$2:B4193,BD!B4193)=1,MAX($F$1:F4192)+1,\"\")","v":""},null,{"$f":"IF(AND(BD!B4193=REF,BD!D4193>=DEB,BD!D4193<=FIN),MAX(calc!$H$1:H4192)+1,0)","v":0}]
[null,null,null,null,null,{"$f":"IF(COUNTIF(BD!$B$2:B4194,BD!B4194)=1,MAX($F$1:F4193)+1,\"\")","v":""},null,{"$f":"IF(AND(BD!B4194=REF,BD!D4194>=DEB,BD!D4194<=FIN),MAX(calc!$H$1:H4193)+1,0)","v":0}]
[null,null,null,null,null,{"$f":"IF(COUNTIF(BD!$B$2:B4195,BD!B4195)=1,MAX($F$1:F4194)+1,\"\")","v":""},null,{"$f":"IF(AND(BD!B4195=REF,BD!D4195>=DEB,BD!D4195<=FIN),MAX(calc!$H$1:H4194)+1,0)","v":0}]
[null,null,null,null,null,{"$f":"IF(COUNTIF(BD!$B$2:B4196,BD!B4196)=1,MAX($F$1:F4195)+1,\"\")","v":""},null,{"$f":"IF(AND(BD!B4196=REF,BD!D4196>=DEB,BD!D4196<=FIN),MAX(calc!$H$1:H4195)+1,0)","v":0}]
[null,null,null,null,null,{"$f":"IF(COUNTIF(BD!$B$2:B4197,BD!B4197)=1,MAX($F$1:F4196)+1,\"\")","v":""},null,{"$f":"IF(AND(BD!B4197=REF,BD!D4197>=DEB,BD!D4197<=FIN),MAX(calc!$H$1:H4196)+1,0)","v":0}]
[null,null,null,null,null,{"$f":"IF(COUNTIF(BD!$B$2:B4198,BD!B4198)=1,MAX($F$1:F4197)+1,\"\")","v":""},null,{"$f":"IF(AND(BD!B4198=REF,BD!D4198>=DEB,BD!D4198<=FIN),MAX(calc!$H$1:H4197)+1,0)","v":0}]
[null,null,null,null,null,{"$f":"IF(COUNTIF(BD!$B$2:B4199,BD!B4199)=1,MAX($F$1:F4198)+1,\"\")","v":""},null,{"$f":"IF(AND(BD!B4199=REF,BD!D4199>=DEB,BD!D4199<=FIN),MAX(calc!$H$1:H4198)+1,0)","v":0}]
[null,null,null,null,null,{"$f":"IF(COUNTIF(BD!$B$2:B4200,BD!B4200)=1,MAX($F$1:F4199)+1,\"\")","v":""},null,{"$f":"IF(AND(BD!B4200=REF,BD!D4200>=DEB,BD!D4200<=FIN),MAX(calc!$H$1:H4199)+1,0)","v":0}]
[null,null,null,null,null,{"$f":"IF(COUNTIF(BD!$B$2:B4201,BD!B4201)=1,MAX($F$1:F4200)+1,\"\")","v":""},null,{"$f":"IF(AND(BD!B4201=REF,BD!D4201>=DEB,BD!D4201<=FIN),MAX(calc!$H$1:H4200)+1,0)","v":0}]
[null,null,null,null,null,{"$f":"IF(COUNTIF(BD!$B$2:B4202,BD!B4202)=1,MAX($F$1:F4201)+1,\"\")","v":""},null,{"$f":"IF(AND(BD!B4202=REF,BD!D4202>=DEB,BD!D4202<=FIN),MAX(calc!$H$1:H4201)+1,0)","v":0}]
[null,null,null,null,null,{"$f":"IF(COUNTIF(BD!$B$2:B4203,BD!B4203)=1,MAX($F$1:F4202)+1,\"\")","v":""},null,{"$f":"IF(AND(BD!B4203=REF,BD!D4203>=DEB,BD!D4203<=FIN),MAX(calc!$H$1:H4202)+1,0)","v":0}]
[null,null,null,null,null,{"$f":"IF(COUNTIF(BD!$B$2:B4204,BD!B4204)=1,MAX($F$1:F4203)+1,\"\")","v":""},null,{"$f":"IF(AND(BD!B4204=REF,BD!D4204>=DEB,BD!D4204<=FIN),MAX(calc!$H$1:H4203)+1,0)","v":0}]
[null,null,null,null,null,{"$f":"IF(COUNTIF(BD!$B$2:B4205,BD!B4205)=1,MAX($F$1:F4204)+1,\"\")","v":""},null,{"$f":"IF(AND(BD!B4205=REF,BD!D4205>=DEB,BD!D4205<=FIN),MAX(calc!$H$1:H4204)+1,0)","v":0}]
[null,null,null,null,null,{"$f":"IF(COUNTIF(BD!$B$2:B4206,BD!B4206)=1,MAX($F$1:F4205)+1,\"\")","v":""},null,{"$f":"IF(AND(BD!B4206=REF,BD!D4206>=DEB,BD!D4206<=FIN),MAX(calc!$H$1:H4205)+1,0)","v":0}]
[null,null,null,null,null,{"$f":"IF(COUNTIF(BD!$B$2:B4207,BD!B4207)=1,MAX($F$1:F4206)+1,\"\")","v":""},null,{"$f":"IF(AND(BD!B4207=REF,BD!D4207>=DEB,BD!D4207<=FIN),MAX(calc!$H$1:H4206)+1,0)","v":0}]
[null,null,null,null,null,{"$f":"IF(COUNTIF(BD!$B$2:B4208,BD!B4208)=1,MAX($F$1:F4207)+1,\"\")","v":""},null,{"$f":"IF(AND(BD!B4208=REF,BD!D4208>=DEB,BD!D4208<=FIN),MAX(calc!$H$1:H4207)+1,0)","v":0}]
[null,null,null,null,null,{"$f":"IF(COUNTIF(BD!$B$2:B4209,BD!B4209)=1,MAX($F$1:F4208)+1,\"\")","v":""},null,{"$f":"IF(AND(BD!B4209=REF,BD!D4209>=DEB,BD!D4209<=FIN),MAX(calc!$H$1:H4208)+1,0)","v":0}]
[null,null,null,null,null,{"$f":"IF(COUNTIF(BD!$B$2:B4210,BD!B4210)=1,MAX($F$1:F4209)+1,\"\")","v":""},null,{"$f":"IF(AND(BD!B4210=REF,BD!D4210>=DEB,BD!D4210<=FIN),MAX(calc!$H$1:H4209)+1,0)","v":0}]
[null,null,null,null,null,{"$f":"IF(COUNTIF(BD!$B$2:B4211,BD!B4211)=1,MAX($F$1:F4210)+1,\"\")","v":""},null,{"$f":"IF(AND(BD!B4211=REF,BD!D4211>=DEB,BD!D4211<=FIN),MAX(calc!$H$1:H4210)+1,0)","v":0}]
[null,null,null,null,null,{"$f":"IF(COUNTIF(BD!$B$2:B4212,BD!B4212)=1,MAX($F$1:F4211)+1,\"\")","v":""},null,{"$f":"IF(AND(BD!B4212=REF,BD!D4212>=DEB,BD!D4212<=FIN),MAX(calc!$H$1:H4211)+1,0)","v":0}]
[null,null,null,null,null,{"$f":"IF(COUNTIF(BD!$B$2:B4213,BD!B4213)=1,MAX($F$1:F4212)+1,\"\")","v":""},null,{"$f":"IF(AND(BD!B4213=REF,BD!D4213>=DEB,BD!D4213<=FIN),MAX(calc!$H$1:H4212)+1,0)","v":0}]
[null,null,null,null,null,{"$f":"IF(COUNTIF(BD!$B$2:B4214,BD!B4214)=1,MAX($F$1:F4213)+1,\"\")","v":""},null,{"$f":"IF(AND(BD!B4214=REF,BD!D4214>=DEB,BD!D4214<=FIN),MAX(calc!$H$1:H4213)+1,0)","v":0}]
[null,null,null,null,null,{"$f":"IF(COUNTIF(BD!$B$2:B4215,BD!B4215)=1,MAX($F$1:F4214)+1,\"\")","v":""},null,{"$f":"IF(AND(BD!B4215=REF,BD!D4215>=DEB,BD!D4215<=FIN),MAX(calc!$H$1:H4214)+1,0)","v":0}]
[null,null,null,null,null,{"$f":"IF(COUNTIF(BD!$B$2:B4216,BD!B4216)=1,MAX($F$1:F4215)+1,\"\")","v":""},null,{"$f":"IF(AND(BD!B4216=REF,BD!D4216>=DEB,BD!D4216<=FIN),MAX(calc!$H$1:H4215)+1,0)","v":0}]
[null,null,null,null,null,{"$f":"IF(COUNTIF(BD!$B$2:B4217,BD!B4217)=1,MAX($F$1:F4216)+1,\"\")","v":""},null,{"$f":"IF(AND(BD!B4217=REF,BD!D4217>=DEB,BD!D4217<=FIN),MAX(calc!$H$1:H4216)+1,0)","v":0}]
[null,null,null,null,null,{"$f":"IF(COUNTIF(BD!$B$2:B4218,BD!B4218)=1,MAX($F$1:F4217)+1,\"\")","v":""},null,{"$f":"IF(AND(BD!B4218=REF,BD!D4218>=DEB,BD!D4218<=FIN),MAX(calc!$H$1:H4217)+1,0)","v":0}]
[null,null,null,null,null,{"$f":"IF(COUNTIF(BD!$B$2:B4219,BD!B4219)=1,MAX($F$1:F4218)+1,\"\")","v":""},null,{"$f":"IF(AND(BD!B4219=REF,BD!D4219>=DEB,BD!D4219<=FIN),MAX(calc!$H$1:H4218)+1,0)","v":0}]
[null,null,null,null,null,{"$f":"IF(COUNTIF(BD!$B$2:B4220,BD!B4220)=1,MAX($F$1:F4219)+1,\"\")","v":""},null,{"$f":"IF(AND(BD!B4220=REF,BD!D4220>=DEB,BD!D4220<=FIN),MAX(calc!$H$1:H4219)+1,0)","v":0}]
[null,null,null,null,null,{"$f":"IF(COUNTIF(BD!$B$2:B4221,BD!B4221)=1,MAX($F$1:F4220)+1,\"\")","v":""},null,{"$f":"IF(AND(BD!B4221=REF,BD!D4221>=DEB,BD!D4221<=FIN),MAX(calc!$H$1:H4220)+1,0)","v":0}]
[null,null,null,null,null,{"$f":"IF(COUNTIF(BD!$B$2:B4222,BD!B4222)=1,MAX($F$1:F4221)+1,\"\")","v":""},null,{"$f":"IF(AND(BD!B4222=REF,BD!D4222>=DEB,BD!D4222<=FIN),MAX(calc!$H$1:H4221)+1,0)","v":0}]
[null,null,null,null,null,{"$f":"IF(COUNTIF(BD!$B$2:B4223,BD!B4223)=1,MAX($F$1:F4222)+1,\"\")","v":""},null,{"$f":"IF(AND(BD!B4223=REF,BD!D4223>=DEB,BD!D4223<=FIN),MAX(calc!$H$1:H4222)+1,0)","v":0}]
[null,null,null,null,null,{"$f":"IF(COUNTIF(BD!$B$2:B4224,BD!B4224)=1,MAX($F$1:F4223)+1,\"\")","v":""},null,{"$f":"IF(AND(BD!B4224=REF,BD!D4224>=DEB,BD!D4224<=FIN),MAX(calc!$H$1:H4223)+1,0)","v":0}]
[null,null,null,null,null,{"$f":"IF(COUNTIF(BD!$B$2:B4225,BD!B4225)=1,MAX($F$1:F4224)+1,\"\")","v":""},null,{"$f":"IF(AND(BD!B4225=REF,BD!D4225>=DEB,BD!D4225<=FIN),MAX(calc!$H$1:H4224)+1,0)","v":0}]
[null,null,null,null,null,{"$f":"IF(COUNTIF(BD!$B$2:B4226,BD!B4226)=1,MAX($F$1:F4225)+1,\"\")","v":""},null,{"$f":"IF(AND(BD!B4226=REF,BD!D4226>=DEB,BD!D4226<=FIN),MAX(calc!$H$1:H4225)+1,0)","v":0}]
[null,null,null,null,null,{"$f":"IF(COUNTIF(BD!$B$2:B4227,BD!B4227)=1,MAX($F$1:F4226)+1,\"\")","v":""},null,{"$f":"IF(AND(BD!B4227=REF,BD!D4227>=DEB,BD!D4227<=FIN),MAX(calc!$H$1:H4226)+1,0)","v":0}]
[null,null,null,null,null,{"$f":"IF(COUNTIF(BD!$B$2:B4228,BD!B4228)=1,MAX($F$1:F4227)+1,\"\")","v":""},null,{"$f":"IF(AND(BD!B4228=REF,BD!D4228>=DEB,BD!D4228<=FIN),MAX(calc!$H$1:H4227)+1,0)","v":0}]
[null,null,null,null,null,{"$f":"IF(COUNTIF(BD!$B$2:B4229,BD!B4229)=1,MAX($F$1:F4228)+1,\"\")","v":""},null,{"$f":"IF(AND(BD!B4229=REF,BD!D4229>=DEB,BD!D4229<=FIN),MAX(calc!$H$1:H4228)+1,0)","v":0}]
[null,null,null,null,null,{"$f":"IF(COUNTIF(BD!$B$2:B4230,BD!B4230)=1,MAX($F$1:F4229)+1,\"\")","v":""},null,{"$f":"IF(AND(BD!B4230=REF,BD!D4230>=DEB,BD!D4230<=FIN),MAX(calc!$H$1:H4229)+1,0)","v":0}]
[null,null,null,null,null,{"$f":"IF(COUNTIF(BD!$B$2:B4231,BD!B4231)=1,MAX($F$1:F4230)+1,\"\")","v":""},null,{"$f":"IF(AND(BD!B4231=REF,BD!D4231>=DEB,BD!D4231<=FIN),MAX(calc!$H$1:H4230)+1,0)","v":0}]
[null,null,null,null,null,{"$f":"IF(COUNTIF(BD!$B$2:B4232,BD!B4232)=1,MAX($F$1:F4231)+1,\"\")","v":""},null,{"$f":"IF(AND(BD!B4232=REF,BD!D4232>=DEB,BD!D4232<=FIN),MAX(calc!$H$1:H4231)+1,0)","v":0}]
[null,null,null,null,null,{"$f":"IF(COUNTIF(BD!$B$2:B4233,BD!B4233)=1,MAX($F$1:F4232)+1,\"\")","v":""},null,{"$f":"IF(AND(BD!B4233=REF,BD!D4233>=DEB,BD!D4233<=FIN),MAX(calc!$H$1:H4232)+1,0)","v":0}]
[null,null,null,null,null,{"$f":"IF(COUNTIF(BD!$B$2:B4234,BD!B4234)=1,MAX($F$1:F4233)+1,\"\")","v":""},null,{"$f":"IF(AND(BD!B4234=REF,BD!D4234>=DEB,BD!D4234<=FIN),MAX(calc!$H$1:H4233)+1,0)","v":0}]
[null,null,null,null,null,{"$f":"IF(COUNTIF(BD!$B$2:B4235,BD!B4235)=1,MAX($F$1:F4234)+1,\"\")","v":""},null,{"$f":"IF(AND(BD!B4235=REF,BD!D4235>=DEB,BD!D4235<=FIN),MAX(calc!$H$1:H4234)+1,0)","v":0}]
[null,null,null,null,null,{"$f":"IF(COUNTIF(BD!$B$2:B4236,BD!B4236)=1,MAX($F$1:F4235)+1,\"\")","v":""},null,{"$f":"IF(AND(BD!B4236=REF,BD!D4236>=DEB,BD!D4236<=FIN),MAX(calc!$H$1:H4235)+1,0)","v":0}]
[null,null,null,null,null,{"$f":"IF(COUNTIF(BD!$B$2:B4237,BD!B4237)=1,MAX($F$1:F4236)+1,\"\")","v":""},null,{"$f":"IF(AND(BD!B4237=REF,BD!D4237>=DEB,BD!D4237<=FIN),MAX(calc!$H$1:H4236)+1,0)","v":0}]
[null,null,null,null,null,{"$f":"IF(COUNTIF(BD!$B$2:B4238,BD!B4238)=1,MAX($F$1:F4237)+1,\"\")","v":""},null,{"$f":"IF(AND(BD!B4238=REF,BD!D4238>=DEB,BD!D4238<=FIN),MAX(calc!$H$1:H4237)+1,0)","v":0}]
[null,null,null,null,null,{"$f":"IF(COUNTIF(BD!$B$2:B4239,BD!B4239)=1,MAX($F$1:F4238)+1,\"\")","v":""},null,{"$f":"IF(AND(BD!B4239=REF,BD!D4239>=DEB,BD!D4239<=FIN),MAX(calc!$H$1:H4238)+1,0)","v":0}]
[null,null,null,null,null,{"$f":"IF(COUNTIF(BD!$B$2:B4240,BD!B4240)=1,MAX($F$1:F4239)+1,\"\")","v":""},null,{"$f":"IF(AND(BD!B4240=REF,BD!D4240>=DEB,BD!D4240<=FIN),MAX(calc!$H$1:H4239)+1,0)","v":0}]
[null,null,null,null,null,{"$f":"IF(COUNTIF(BD!$B$2:B4241,BD!B4241)=1,MAX($F$1:F4240)+1,\"\")","v":""},null,{"$f":"IF(AND(BD!B4241=REF,BD!D4241>=DEB,BD!D4241<=FIN),MAX(calc!$H$1:H4240)+1,0)","v":0}]
[null,null,null,null,null,{"$f":"IF(COUNTIF(BD!$B$2:B4242,BD!B4242)=1,MAX($F$1:F4241)+1,\"\")","v":""},null,{"$f":"IF(AND(BD!B4242=REF,BD!D4242>=DEB,BD!D4242<=FIN),MAX(calc!$H$1:H4241)+1,0)","v":0}]
[null,null,null,null,null,{"$f":"IF(COUNTIF(BD!$B$2:B4243,BD!B4243)=1,MAX($F$1:F4242)+1,\"\")","v":""},null,{"$f":"IF(AND(BD!B4243=REF,BD!D4243>=DEB,BD!D4243<=FIN),MAX(calc!$H$1:H4242)+1,0)","v":0}]
[null,null,null,null,null,{"$f":"IF(COUNTIF(BD!$B$2:B4244,BD!B4244)=1,MAX($F$1:F4243)+1,\"\")","v":""},null,{"$f":"IF(AND(BD!B4244=REF,BD!D4244>=DEB,BD!D4244<=FIN),MAX(calc!$H$1:H4243)+1,0)","v":0}]
[null,null,null,null,null,{"$f":"IF(COUNTIF(BD!$B$2:B4245,BD!B4245)=1,MAX($F$1:F4244)+1,\"\")","v":""},null,{"$f":"IF(AND(BD!B4245=REF,BD!D4245>=DEB,BD!D4245<=FIN),MAX(calc!$H$1:H4244)+1,0)","v":0}]
[null,null,null,null,null,{"$f":"IF(COUNTIF(BD!$B$2:B4246,BD!B4246)=1,MAX($F$1:F4245)+1,\"\")","v":""},null,{"$f":"IF(AND(BD!B4246=REF,BD!D4246>=DEB,BD!D4246<=FIN),MAX(calc!$H$1:H4245)+1,0)","v":0}]
[null,null,null,null,null,{"$f":"IF(COUNTIF(BD!$B$2:B4247,BD!B4247)=1,MAX($F$1:F4246)+1,\"\")","v":""},null,{"$f":"IF(AND(BD!B4247=REF,BD!D4247>=DEB,BD!D4247<=FIN),MAX(calc!$H$1:H4246)+1,0)","v":0}]
[null,null,null,null,null,{"$f":"IF(COUNTIF(BD!$B$2:B4248,BD!B4248)=1,MAX($F$1:F4247)+1,\"\")","v":""},null,{"$f":"IF(AND(BD!B4248=REF,BD!D4248>=DEB,BD!D4248<=FIN),MAX(calc!$H$1:H4247)+1,0)","v":0}]
[null,null,null,null,null,{"$f":"IF(COUNTIF(BD!$B$2:B4249,BD!B4249)=1,MAX($F$1:F4248)+1,\"\")","v":""},null,{"$f":"IF(AND(BD!B4249=REF,BD!D4249>=DEB,BD!D4249<=FIN),MAX(calc!$H$1:H4248)+1,0)","v":0}]
[null,null,null,null,null,{"$f":"IF(COUNTIF(BD!$B$2:B4250,BD!B4250)=1,MAX($F$1:F4249)+1,\"\")","v":""},null,{"$f":"IF(AND(BD!B4250=REF,BD!D4250>=DEB,BD!D4250<=FIN),MAX(calc!$H$1:H4249)+1,0)","v":0}]
[null,null,null,null,null,{"$f":"IF(COUNTIF(BD!$B$2:B4251,BD!B4251)=1,MAX($F$1:F4250)+1,\"\")","v":""},null,{"$f":"IF(AND(BD!B4251=REF,BD!D4251>=DEB,BD!D4251<=FIN),MAX(calc!$H$1:H4250)+1,0)","v":0}]
[null,null,null,null,null,{"$f":"IF(COUNTIF(BD!$B$2:B4252,BD!B4252)=1,MAX($F$1:F4251)+1,\"\")","v":""},null,{"$f":"IF(AND(BD!B4252=REF,BD!D4252>=DEB,BD!D4252<=FIN),MAX(calc!$H$1:H4251)+1,0)","v":0}]
[null,null,null,null,null,{"$f":"IF(COUNTIF(BD!$B$2:B4253,BD!B4253)=1,MAX($F$1:F4252)+1,\"\")","v":""},null,{"$f":"IF(AND(BD!B4253=REF,BD!D4253>=DEB,BD!D4253<=FIN),MAX(calc!$H$1:H4252)+1,0)","v":0}]
[null,null,null,null,null,{"$f":"IF(COUNTIF(BD!$B$2:B4254,BD!B4254)=1,MAX($F$1:F4253)+1,\"\")","v":""},null,{"$f":"IF(AND(BD!B4254=REF,BD!D4254>=DEB,BD!D4254<=FIN),MAX(calc!$H$1:H4253)+1,0)","v":0}]
[null,null,null,null,null,{"$f":"IF(COUNTIF(BD!$B$2:B4255,BD!B4255)=1,MAX($F$1:F4254)+1,\"\")","v":""},null,{"$f":"IF(AND(BD!B4255=REF,BD!D4255>=DEB,BD!D4255<=FIN),MAX(calc!$H$1:H4254)+1,0)","v":0}]
[null,null,null,null,null,{"$f":"IF(COUNTIF(BD!$B$2:B4256,BD!B4256)=1,MAX($F$1:F4255)+1,\"\")","v":""},null,{"$f":"IF(AND(BD!B4256=REF,BD!D4256>=DEB,BD!D4256<=FIN),MAX(calc!$H$1:H4255)+1,0)","v":0}]
[null,null,null,null,null,{"$f":"IF(COUNTIF(BD!$B$2:B4257,BD!B4257)=1,MAX($F$1:F4256)+1,\"\")","v":""},null,{"$f":"IF(AND(BD!B4257=REF,BD!D4257>=DEB,BD!D4257<=FIN),MAX(calc!$H$1:H4256)+1,0)","v":0}]
[null,null,null,null,null,{"$f":"IF(COUNTIF(BD!$B$2:B4258,BD!B4258)=1,MAX($F$1:F4257)+1,\"\")","v":""},null,{"$f":"IF(AND(BD!B4258=REF,BD!D4258>=DEB,BD!D4258<=FIN),MAX(calc!$H$1:H4257)+1,0)","v":0}]
[null,null,null,null,null,{"$f":"IF(COUNTIF(BD!$B$2:B4259,BD!B4259)=1,MAX($F$1:F4258)+1,\"\")","v":""},null,{"$f":"IF(AND(BD!B4259=REF,BD!D4259>=DEB,BD!D4259<=FIN),MAX(calc!$H$1:H4258)+1,0)","v":0}]
[null,null,null,null,null,{"$f":"IF(COUNTIF(BD!$B$2:B4260,BD!B4260)=1,MAX($F$1:F4259)+1,\"\")","v":""},null,{"$f":"IF(AND(BD!B4260=REF,BD!D4260>=DEB,BD!D4260<=FIN),MAX(calc!$H$1:H4259)+1,0)","v":0}]
[null,null,null,null,null,{"$f":"IF(COUNTIF(BD!$B$2:B4261,BD!B4261)=1,MAX($F$1:F4260)+1,\"\")","v":""},null,{"$f":"IF(AND(BD!B4261=REF,BD!D4261>=DEB,BD!D4261<=FIN),MAX(calc!$H$1:H4260)+1,0)","v":0}]
[null,null,null,null,null,{"$f":"IF(COUNTIF(BD!$B$2:B4262,BD!B4262)=1,MAX($F$1:F4261)+1,\"\")","v":""},null,{"$f":"IF(AND(BD!B4262=REF,BD!D4262>=DEB,BD!D4262<=FIN),MAX(calc!$H$1:H4261)+1,0)","v":0}]
[null,null,null,null,null,{"$f":"IF(COUNTIF(BD!$B$2:B4263,BD!B4263)=1,MAX($F$1:F4262)+1,\"\")","v":""},null,{"$f":"IF(AND(BD!B4263=REF,BD!D4263>=DEB,BD!D4263<=FIN),MAX(calc!$H$1:H4262)+1,0)","v":0}]
[null,null,null,null,null,{"$f":"IF(COUNTIF(BD!$B$2:B4264,BD!B4264)=1,MAX($F$1:F4263)+1,\"\")","v":""},null,{"$f":"IF(AND(BD!B4264=REF,BD!D4264>=DEB,BD!D4264<=FIN),MAX(calc!$H$1:H4263)+1,0)","v":0}]
[null,null,null,null,null,{"$f":"IF(COUNTIF(BD!$B$2:B4265,BD!B4265)=1,MAX($F$1:F4264)+1,\"\")","v":""},null,{"$f":"IF(AND(BD!B4265=REF,BD!D4265>=DEB,BD!D4265<=FIN),MAX(calc!$H$1:H4264)+1,0)","v":0}]
[null,null,null,null,null,{"$f":"IF(COUNTIF(BD!$B$2:B4266,BD!B4266)=1,MAX($F$1:F4265)+1,\"\")","v":""},null,{"$f":"IF(AND(BD!B4266=REF,BD!D4266>=DEB,BD!D4266<=FIN),MAX(calc!$H$1:H4265)+1,0)","v":0}]
[null,null,null,null,null,{"$f":"IF(COUNTIF(BD!$B$2:B4267,BD!B4267)=1,MAX($F$1:F4266)+1,\"\")","v":""},null,{"$f":"IF(AND(BD!B4267=REF,BD!D4267>=DEB,BD!D4267<=FIN),MAX(calc!$H$1:H4266)+1,0)","v":0}]
[null,null,null,null,null,{"$f":"IF(COUNTIF(BD!$B$2:B4268,BD!B4268)=1,MAX($F$1:F4267)+1,\"\")","v":""},null,{"$f":"IF(AND(BD!B4268=REF,BD!D4268>=DEB,BD!D4268<=FIN),MAX(calc!$H$1:H4267)+1,0)","v":0}]
[null,null,null,null,null,{"$f":"IF(COUNTIF(BD!$B$2:B4269,BD!B4269)=1,MAX($F$1:F4268)+1,\"\")","v":""},null,{"$f":"IF(AND(BD!B4269=REF,BD!D4269>=DEB,BD!D4269<=FIN),MAX(calc!$H$1:H4268)+1,0)","v":0}]
[null,null,null,null,null,{"$f":"IF(COUNTIF(BD!$B$2:B4270,BD!B4270)=1,MAX($F$1:F4269)+1,\"\")","v":""},null,{"$f":"IF(AND(BD!B4270=REF,BD!D4270>=DEB,BD!D4270<=FIN),MAX(calc!$H$1:H4269)+1,0)","v":0}]
[null,null,null,null,null,{"$f":"IF(COUNTIF(BD!$B$2:B4271,BD!B4271)=1,MAX($F$1:F4270)+1,\"\")","v":""},null,{"$f":"IF(AND(BD!B4271=REF,BD!D4271>=DEB,BD!D4271<=FIN),MAX(calc!$H$1:H4270)+1,0)","v":0}]
[null,null,null,null,null,{"$f":"IF(COUNTIF(BD!$B$2:B4272,BD!B4272)=1,MAX($F$1:F4271)+1,\"\")","v":""},null,{"$f":"IF(AND(BD!B4272=REF,BD!D4272>=DEB,BD!D4272<=FIN),MAX(calc!$H$1:H4271)+1,0)","v":0}]
[null,null,null,null,null,{"$f":"IF(COUNTIF(BD!$B$2:B4273,BD!B4273)=1,MAX($F$1:F4272)+1,\"\")","v":""},null,{"$f":"IF(AND(BD!B4273=REF,BD!D4273>=DEB,BD!D4273<=FIN),MAX(calc!$H$1:H4272)+1,0)","v":0}]
[null,null,null,null,null,{"$f":"IF(COUNTIF(BD!$B$2:B4274,BD!B4274)=1,MAX($F$1:F4273)+1,\"\")","v":""},null,{"$f":"IF(AND(BD!B4274=REF,BD!D4274>=DEB,BD!D4274<=FIN),MAX(calc!$H$1:H4273)+1,0)","v":0}]
[null,null,null,null,null,{"$f":"IF(COUNTIF(BD!$B$2:B4275,BD!B4275)=1,MAX($F$1:F4274)+1,\"\")","v":""},null,{"$f":"IF(AND(BD!B4275=REF,BD!D4275>=DEB,BD!D4275<=FIN),MAX(calc!$H$1:H4274)+1,0)","v":0}]
[null,null,null,null,null,{"$f":"IF(COUNTIF(BD!$B$2:B4276,BD!B4276)=1,MAX($F$1:F4275)+1,\"\")","v":""},null,{"$f":"IF(AND(BD!B4276=REF,BD!D4276>=DEB,BD!D4276<=FIN),MAX(calc!$H$1:H4275)+1,0)","v":0}]
[null,null,null,null,null,{"$f":"IF(COUNTIF(BD!$B$2:B4277,BD!B4277)=1,MAX($F$1:F4276)+1,\"\")","v":""},null,{"$f":"IF(AND(BD!B4277=REF,BD!D4277>=DEB,BD!D4277<=FIN),MAX(calc!$H$1:H4276)+1,0)","v":0}]
[null,null,null,null,null,{"$f":"IF(COUNTIF(BD!$B$2:B4278,BD!B4278)=1,MAX($F$1:F4277)+1,\"\")","v":""},null,{"$f":"IF(AND(BD!B4278=REF,BD!D4278>=DEB,BD!D4278<=FIN),MAX(calc!$H$1:H4277)+1,0)","v":0}]
[null,null,null,null,null,{"$f":"IF(COUNTIF(BD!$B$2:B4279,BD!B4279)=1,MAX($F$1:F4278)+1,\"\")","v":""},null,{"$f":"IF(AND(BD!B4279=REF,BD!D4279>=DEB,BD!D4279<=FIN),MAX(calc!$H$1:H4278)+1,0)","v":0}]
[null,null,null,null,null,{"$f":"IF(COUNTIF(BD!$B$2:B4280,BD!B4280)=1,MAX($F$1:F4279)+1,\"\")","v":""},null,{"$f":"IF(AND(BD!B4280=REF,BD!D4280>=DEB,BD!D4280<=FIN),MAX(calc!$H$1:H4279)+1,0)","v":0}]
[null,null,null,null,null,{"$f":"IF(COUNTIF(BD!$B$2:B4281,BD!B4281)=1,MAX($F$1:F4280)+1,\"\")","v":""},null,{"$f":"IF(AND(BD!B4281=REF,BD!D4281>=DEB,BD!D4281<=FIN),MAX(calc!$H$1:H4280)+1,0)","v":0}]
[null,null,null,null,null,{"$f":"IF(COUNTIF(BD!$B$2:B4282,BD!B4282)=1,MAX($F$1:F4281)+1,\"\")","v":""},null,{"$f":"IF(AND(BD!B4282=REF,BD!D4282>=DEB,BD!D4282<=FIN),MAX(calc!$H$1:H4281)+1,0)","v":0}]
[null,null,null,null,null,{"$f":"IF(COUNTIF(BD!$B$2:B4283,BD!B4283)=1,MAX($F$1:F4282)+1,\"\")","v":""},null,{"$f":"IF(AND(BD!B4283=REF,BD!D4283>=DEB,BD!D4283<=FIN),MAX(calc!$H$1:H4282)+1,0)","v":0}]
[null,null,null,null,null,{"$f":"IF(COUNTIF(BD!$B$2:B4284,BD!B4284)=1,MAX($F$1:F4283)+1,\"\")","v":""},null,{"$f":"IF(AND(BD!B4284=REF,BD!D4284>=DEB,BD!D4284<=FIN),MAX(calc!$H$1:H4283)+1,0)","v":0}]
[null,null,null,null,null,{"$f":"IF(COUNTIF(BD!$B$2:B4285,BD!B4285)=1,MAX($F$1:F4284)+1,\"\")","v":""},null,{"$f":"IF(AND(BD!B4285=REF,BD!D4285>=DEB,BD!D4285<=FIN),MAX(calc!$H$1:H4284)+1,0)","v":0}]
[null,null,null,null,null,{"$f":"IF(COUNTIF(BD!$B$2:B4286,BD!B4286)=1,MAX($F$1:F4285)+1,\"\")","v":""},null,{"$f":"IF(AND(BD!B4286=REF,BD!D4286>=DEB,BD!D4286<=FIN),MAX(calc!$H$1:H4285)+1,0)","v":0}]
[null,null,null,null,null,{"$f":"IF(COUNTIF(BD!$B$2:B4287,BD!B4287)=1,MAX($F$1:F4286)+1,\"\")","v":""},null,{"$f":"IF(AND(BD!B4287=REF,BD!D4287>=DEB,BD!D4287<=FIN),MAX(calc!$H$1:H4286)+1,0)","v":0}]
[null,null,null,null,null,{"$f":"IF(COUNTIF(BD!$B$2:B4288,BD!B4288)=1,MAX($F$1:F4287)+1,\"\")","v":""},null,{"$f":"IF(AND(BD!B4288=REF,BD!D4288>=DEB,BD!D4288<=FIN),MAX(calc!$H$1:H4287)+1,0)","v":0}]
[null,null,null,null,null,{"$f":"IF(COUNTIF(BD!$B$2:B4289,BD!B4289)=1,MAX($F$1:F4288)+1,\"\")","v":""},null,{"$f":"IF(AND(BD!B4289=REF,BD!D4289>=DEB,BD!D4289<=FIN),MAX(calc!$H$1:H4288)+1,0)","v":0}]
[null,null,null,null,null,{"$f":"IF(COUNTIF(BD!$B$2:B4290,BD!B4290)=1,MAX($F$1:F4289)+1,\"\")","v":""},null,{"$f":"IF(AND(BD!B4290=REF,BD!D4290>=DEB,BD!D4290<=FIN),MAX(calc!$H$1:H4289)+1,0)","v":0}]
[null,null,null,null,null,{"$f":"IF(COUNTIF(BD!$B$2:B4291,BD!B4291)=1,MAX($F$1:F4290)+1,\"\")","v":""},null,{"$f":"IF(AND(BD!B4291=REF,BD!D4291>=DEB,BD!D4291<=FIN),MAX(calc!$H$1:H4290)+1,0)","v":0}]
[null,null,null,null,null,{"$f":"IF(COUNTIF(BD!$B$2:B4292,BD!B4292)=1,MAX($F$1:F4291)+1,\"\")","v":""},null,{"$f":"IF(AND(BD!B4292=REF,BD!D4292>=DEB,BD!D4292<=FIN),MAX(calc!$H$1:H4291)+1,0)","v":0}]
[null,null,null,null,null,{"$f":"IF(COUNTIF(BD!$B$2:B4293,BD!B4293)=1,MAX($F$1:F4292)+1,\"\")","v":""},null,{"$f":"IF(AND(BD!B4293=REF,BD!D4293>=DEB,BD!D4293<=FIN),MAX(calc!$H$1:H4292)+1,0)","v":0}]
[null,null,null,null,null,{"$f":"IF(COUNTIF(BD!$B$2:B4294,BD!B4294)=1,MAX($F$1:F4293)+1,\"\")","v":""},null,{"$f":"IF(AND(BD!B4294=REF,BD!D4294>=DEB,BD!D4294<=FIN),MAX(calc!$H$1:H4293)+1,0)","v":0}]
[null,null,null,null,null,{"$f":"IF(COUNTIF(BD!$B$2:B4295,BD!B4295)=1,MAX($F$1:F4294)+1,\"\")","v":""},null,{"$f":"IF(AND(BD!B4295=REF,BD!D4295>=DEB,BD!D4295<=FIN),MAX(calc!$H$1:H4294)+1,0)","v":0}]
[null,null,null,null,null,{"$f":"IF(COUNTIF(BD!$B$2:B4296,BD!B4296)=1,MAX($F$1:F4295)+1,\"\")","v":""},null,{"$f":"IF(AND(BD!B4296=REF,BD!D4296>=DEB,BD!D4296<=FIN),MAX(calc!$H$1:H4295)+1,0)","v":0}]
[null,null,null,null,null,{"$f":"IF(COUNTIF(BD!$B$2:B4297,BD!B4297)=1,MAX($F$1:F4296)+1,\"\")","v":""},null,{"$f":"IF(AND(BD!B4297=REF,BD!D4297>=DEB,BD!D4297<=FIN),MAX(calc!$H$1:H4296)+1,0)","v":0}]
[null,null,null,null,null,{"$f":"IF(COUNTIF(BD!$B$2:B4298,BD!B4298)=1,MAX($F$1:F4297)+1,\"\")","v":""},null,{"$f":"IF(AND(BD!B4298=REF,BD!D4298>=DEB,BD!D4298<=FIN),MAX(calc!$H$1:H4297)+1,0)","v":0}]
[null,null,null,null,null,{"$f":"IF(COUNTIF(BD!$B$2:B4299,BD!B4299)=1,MAX($F$1:F4298)+1,\"\")","v":""},null,{"$f":"IF(AND(BD!B4299=REF,BD!D4299>=DEB,BD!D4299<=FIN),MAX(calc!$H$1:H4298)+1,0)","v":0}]
[null,null,null,null,null,{"$f":"IF(COUNTIF(BD!$B$2:B4300,BD!B4300)=1,MAX($F$1:F4299)+1,\"\")","v":""},null,{"$f":"IF(AND(BD!B4300=REF,BD!D4300>=DEB,BD!D4300<=FIN),MAX(calc!$H$1:H4299)+1,0)","v":0}]
[null,null,null,null,null,{"$f":"IF(COUNTIF(BD!$B$2:B4301,BD!B4301)=1,MAX($F$1:F4300)+1,\"\")","v":""},null,{"$f":"IF(AND(BD!B4301=REF,BD!D4301>=DEB,BD!D4301<=FIN),MAX(calc!$H$1:H4300)+1,0)","v":0}]
[null,null,null,null,null,{"$f":"IF(COUNTIF(BD!$B$2:B4302,BD!B4302)=1,MAX($F$1:F4301)+1,\"\")","v":""},null,{"$f":"IF(AND(BD!B4302=REF,BD!D4302>=DEB,BD!D4302<=FIN),MAX(calc!$H$1:H4301)+1,0)","v":0}]
[null,null,null,null,null,{"$f":"IF(COUNTIF(BD!$B$2:B4303,BD!B4303)=1,MAX($F$1:F4302)+1,\"\")","v":""},null,{"$f":"IF(AND(BD!B4303=REF,BD!D4303>=DEB,BD!D4303<=FIN),MAX(calc!$H$1:H4302)+1,0)","v":0}]
[null,null,null,null,null,{"$f":"IF(COUNTIF(BD!$B$2:B4304,BD!B4304)=1,MAX($F$1:F4303)+1,\"\")","v":""},null,{"$f":"IF(AND(BD!B4304=REF,BD!D4304>=DEB,BD!D4304<=FIN),MAX(calc!$H$1:H4303)+1,0)","v":0}]
[null,null,null,null,null,{"$f":"IF(COUNTIF(BD!$B$2:B4305,BD!B4305)=1,MAX($F$1:F4304)+1,\"\")","v":""},null,{"$f":"IF(AND(BD!B4305=REF,BD!D4305>=DEB,BD!D4305<=FIN),MAX(calc!$H$1:H4304)+1,0)","v":0}]
[null,null,null,null,null,{"$f":"IF(COUNTIF(BD!$B$2:B4306,BD!B4306)=1,MAX($F$1:F4305)+1,\"\")","v":""},null,{"$f":"IF(AND(BD!B4306=REF,BD!D4306>=DEB,BD!D4306<=FIN),MAX(calc!$H$1:H4305)+1,0)","v":0}]
[null,null,null,null,null,{"$f":"IF(COUNTIF(BD!$B$2:B4307,BD!B4307)=1,MAX($F$1:F4306)+1,\"\")","v":""},null,{"$f":"IF(AND(BD!B4307=REF,BD!D4307>=DEB,BD!D4307<=FIN),MAX(calc!$H$1:H4306)+1,0)","v":0}]
[null,null,null,null,null,{"$f":"IF(COUNTIF(BD!$B$2:B4308,BD!B4308)=1,MAX($F$1:F4307)+1,\"\")","v":""},null,{"$f":"IF(AND(BD!B4308=REF,BD!D4308>=DEB,BD!D4308<=FIN),MAX(calc!$H$1:H4307)+1,0)","v":0}]
[null,null,null,null,null,{"$f":"IF(COUNTIF(BD!$B$2:B4309,BD!B4309)=1,MAX($F$1:F4308)+1,\"\")","v":""},null,{"$f":"IF(AND(BD!B4309=REF,BD!D4309>=DEB,BD!D4309<=FIN),MAX(calc!$H$1:H4308)+1,0)","v":0}]
[null,null,null,null,null,{"$f":"IF(COUNTIF(BD!$B$2:B4310,BD!B4310)=1,MAX($F$1:F4309)+1,\"\")","v":""},null,{"$f":"IF(AND(BD!B4310=REF,BD!D4310>=DEB,BD!D4310<=FIN),MAX(calc!$H$1:H4309)+1,0)","v":0}]
[null,null,null,null,null,{"$f":"IF(COUNTIF(BD!$B$2:B4311,BD!B4311)=1,MAX($F$1:F4310)+1,\"\")","v":""},null,{"$f":"IF(AND(BD!B4311=REF,BD!D4311>=DEB,BD!D4311<=FIN),MAX(calc!$H$1:H4310)+1,0)","v":0}]
[null,null,null,null,null,{"$f":"IF(COUNTIF(BD!$B$2:B4312,BD!B4312)=1,MAX($F$1:F4311)+1,\"\")","v":""},null,{"$f":"IF(AND(BD!B4312=REF,BD!D4312>=DEB,BD!D4312<=FIN),MAX(calc!$H$1:H4311)+1,0)","v":0}]
[null,null,null,null,null,{"$f":"IF(COUNTIF(BD!$B$2:B4313,BD!B4313)=1,MAX($F$1:F4312)+1,\"\")","v":""},null,{"$f":"IF(AND(BD!B4313=REF,BD!D4313>=DEB,BD!D4313<=FIN),MAX(calc!$H$1:H4312)+1,0)","v":0}]
[null,null,null,null,null,{"$f":"IF(COUNTIF(BD!$B$2:B4314,BD!B4314)=1,MAX($F$1:F4313)+1,\"\")","v":""},null,{"$f":"IF(AND(BD!B4314=REF,BD!D4314>=DEB,BD!D4314<=FIN),MAX(calc!$H$1:H4313)+1,0)","v":0}]
[null,null,null,null,null,{"$f":"IF(COUNTIF(BD!$B$2:B4315,BD!B4315)=1,MAX($F$1:F4314)+1,\"\")","v":""},null,{"$f":"IF(AND(BD!B4315=REF,BD!D4315>=DEB,BD!D4315<=FIN),MAX(calc!$H$1:H4314)+1,0)","v":0}]
[null,null,null,null,null,{"$f":"IF(COUNTIF(BD!$B$2:B4316,BD!B4316)=1,MAX($F$1:F4315)+1,\"\")","v":""},null,{"$f":"IF(AND(BD!B4316=REF,BD!D4316>=DEB,BD!D4316<=FIN),MAX(calc!$H$1:H4315)+1,0)","v":0}]
[null,null,null,null,null,{"$f":"IF(COUNTIF(BD!$B$2:B4317,BD!B4317)=1,MAX($F$1:F4316)+1,\"\")","v":""},null,{"$f":"IF(AND(BD!B4317=REF,BD!D4317>=DEB,BD!D4317<=FIN),MAX(calc!$H$1:H4316)+1,0)","v":0}]
[null,null,null,null,null,{"$f":"IF(COUNTIF(BD!$B$2:B4318,BD!B4318)=1,MAX($F$1:F4317)+1,\"\")","v":""},null,{"$f":"IF(AND(BD!B4318=REF,BD!D4318>=DEB,BD!D4318<=FIN),MAX(calc!$H$1:H4317)+1,0)","v":0}]
[null,null,null,null,null,{"$f":"IF(COUNTIF(BD!$B$2:B4319,BD!B4319)=1,MAX($F$1:F4318)+1,\"\")","v":""},null,{"$f":"IF(AND(BD!B4319=REF,BD!D4319>=DEB,BD!D4319<=FIN),MAX(calc!$H$1:H4318)+1,0)","v":0}]
[null,null,null,null,null,{"$f":"IF(COUNTIF(BD!$B$2:B4320,BD!B4320)=1,MAX($F$1:F4319)+1,\"\")","v":""},null,{"$f":"IF(AND(BD!B4320=REF,BD!D4320>=DEB,BD!D4320<=FIN),MAX(calc!$H$1:H4319)+1,0)","v":0}]
[null,null,null,null,null,{"$f":"IF(COUNTIF(BD!$B$2:B4321,BD!B4321)=1,MAX($F$1:F4320)+1,\"\")","v":""},null,{"$f":"IF(AND(BD!B4321=REF,BD!D4321>=DEB,BD!D4321<=FIN),MAX(calc!$H$1:H4320)+1,0)","v":0}]
[null,null,null,null,null,{"$f":"IF(COUNTIF(BD!$B$2:B4322,BD!B4322)=1,MAX($F$1:F4321)+1,\"\")","v":""},null,{"$f":"IF(AND(BD!B4322=REF,BD!D4322>=DEB,BD!D4322<=FIN),MAX(calc!$H$1:H4321)+1,0)","v":0}]
[null,null,null,null,null,{"$f":"IF(COUNTIF(BD!$B$2:B4323,BD!B4323)=1,MAX($F$1:F4322)+1,\"\")","v":""},null,{"$f":"IF(AND(BD!B4323=REF,BD!D4323>=DEB,BD!D4323<=FIN),MAX(calc!$H$1:H4322)+1,0)","v":0}]
[null,null,null,null,null,{"$f":"IF(COUNTIF(BD!$B$2:B4324,BD!B4324)=1,MAX($F$1:F4323)+1,\"\")","v":""},null,{"$f":"IF(AND(BD!B4324=REF,BD!D4324>=DEB,BD!D4324<=FIN),MAX(calc!$H$1:H4323)+1,0)","v":0}]
[null,null,null,null,null,{"$f":"IF(COUNTIF(BD!$B$2:B4325,BD!B4325)=1,MAX($F$1:F4324)+1,\"\")","v":""},null,{"$f":"IF(AND(BD!B4325=REF,BD!D4325>=DEB,BD!D4325<=FIN),MAX(calc!$H$1:H4324)+1,0)","v":0}]
[null,null,null,null,null,{"$f":"IF(COUNTIF(BD!$B$2:B4326,BD!B4326)=1,MAX($F$1:F4325)+1,\"\")","v":""},null,{"$f":"IF(AND(BD!B4326=REF,BD!D4326>=DEB,BD!D4326<=FIN),MAX(calc!$H$1:H4325)+1,0)","v":0}]
[null,null,null,null,null,{"$f":"IF(COUNTIF(BD!$B$2:B4327,BD!B4327)=1,MAX($F$1:F4326)+1,\"\")","v":""},null,{"$f":"IF(AND(BD!B4327=REF,BD!D4327>=DEB,BD!D4327<=FIN),MAX(calc!$H$1:H4326)+1,0)","v":0}]
[null,null,null,null,null,{"$f":"IF(COUNTIF(BD!$B$2:B4328,BD!B4328)=1,MAX($F$1:F4327)+1,\"\")","v":""},null,{"$f":"IF(AND(BD!B4328=REF,BD!D4328>=DEB,BD!D4328<=FIN),MAX(calc!$H$1:H4327)+1,0)","v":0}]
[null,null,null,null,null,{"$f":"IF(COUNTIF(BD!$B$2:B4329,BD!B4329)=1,MAX($F$1:F4328)+1,\"\")","v":""},null,{"$f":"IF(AND(BD!B4329=REF,BD!D4329>=DEB,BD!D4329<=FIN),MAX(calc!$H$1:H4328)+1,0)","v":0}]
[null,null,null,null,null,{"$f":"IF(COUNTIF(BD!$B$2:B4330,BD!B4330)=1,MAX($F$1:F4329)+1,\"\")","v":""},null,{"$f":"IF(AND(BD!B4330=REF,BD!D4330>=DEB,BD!D4330<=FIN),MAX(calc!$H$1:H4329)+1,0)","v":0}]
[null,null,null,null,null,{"$f":"IF(COUNTIF(BD!$B$2:B4331,BD!B4331)=1,MAX($F$1:F4330)+1,\"\")","v":""},null,{"$f":"IF(AND(BD!B4331=REF,BD!D4331>=DEB,BD!D4331<=FIN),MAX(calc!$H$1:H4330)+1,0)","v":0}]
[null,null,null,null,null,{"$f":"IF(COUNTIF(BD!$B$2:B4332,BD!B4332)=1,MAX($F$1:F4331)+1,\"\")","v":""},null,{"$f":"IF(AND(BD!B4332=REF,BD!D4332>=DEB,BD!D4332<=FIN),MAX(calc!$H$1:H4331)+1,0)","v":0}]
[null,null,null,null,null,{"$f":"IF(COUNTIF(BD!$B$2:B4333,BD!B4333)=1,MAX($F$1:F4332)+1,\"\")","v":""},null,{"$f":"IF(AND(BD!B4333=REF,BD!D4333>=DEB,BD!D4333<=FIN),MAX(calc!$H$1:H4332)+1,0)","v":0}]
[null,null,null,null,null,{"$f":"IF(COUNTIF(BD!$B$2:B4334,BD!B4334)=1,MAX($F$1:F4333)+1,\"\")","v":""},null,{"$f":"IF(AND(BD!B4334=REF,BD!D4334>=DEB,BD!D4334<=FIN),MAX(calc!$H$1:H4333)+1,0)","v":0}]
[null,null,null,null,null,{"$f":"IF(COUNTIF(BD!$B$2:B4335,BD!B4335)=1,MAX($F$1:F4334)+1,\"\")","v":""},null,{"$f":"IF(AND(BD!B4335=REF,BD!D4335>=DEB,BD!D4335<=FIN),MAX(calc!$H$1:H4334)+1,0)","v":0}]
[null,null,null,null,null,{"$f":"IF(COUNTIF(BD!$B$2:B4336,BD!B4336)=1,MAX($F$1:F4335)+1,\"\")","v":""},null,{"$f":"IF(AND(BD!B4336=REF,BD!D4336>=DEB,BD!D4336<=FIN),MAX(calc!$H$1:H4335)+1,0)","v":0}]
[null,null,null,null,null,{"$f":"IF(COUNTIF(BD!$B$2:B4337,BD!B4337)=1,MAX($F$1:F4336)+1,\"\")","v":""},null,{"$f":"IF(AND(BD!B4337=REF,BD!D4337>=DEB,BD!D4337<=FIN),MAX(calc!$H$1:H4336)+1,0)","v":0}]
[null,null,null,null,null,{"$f":"IF(COUNTIF(BD!$B$2:B4338,BD!B4338)=1,MAX($F$1:F4337)+1,\"\")","v":""},null,{"$f":"IF(AND(BD!B4338=REF,BD!D4338>=DEB,BD!D4338<=FIN),MAX(calc!$H$1:H4337)+1,0)","v":0}]
[null,null,null,null,null,{"$f":"IF(COUNTIF(BD!$B$2:B4339,BD!B4339)=1,MAX($F$1:F4338)+1,\"\")","v":""},null,{"$f":"IF(AND(BD!B4339=REF,BD!D4339>=DEB,BD!D4339<=FIN),MAX(calc!$H$1:H4338)+1,0)","v":0}]
[null,null,null,null,null,{"$f":"IF(COUNTIF(BD!$B$2:B4340,BD!B4340)=1,MAX($F$1:F4339)+1,\"\")","v":""},null,{"$f":"IF(AND(BD!B4340=REF,BD!D4340>=DEB,BD!D4340<=FIN),MAX(calc!$H$1:H4339)+1,0)","v":0}]
[null,null,null,null,null,{"$f":"IF(COUNTIF(BD!$B$2:B4341,BD!B4341)=1,MAX($F$1:F4340)+1,\"\")","v":""},null,{"$f":"IF(AND(BD!B4341=REF,BD!D4341>=DEB,BD!D4341<=FIN),MAX(calc!$H$1:H4340)+1,0)","v":0}]
[null,null,null,null,null,{"$f":"IF(COUNTIF(BD!$B$2:B4342,BD!B4342)=1,MAX($F$1:F4341)+1,\"\")","v":""},null,{"$f":"IF(AND(BD!B4342=REF,BD!D4342>=DEB,BD!D4342<=FIN),MAX(calc!$H$1:H4341)+1,0)","v":0}]
[null,null,null,null,null,{"$f":"IF(COUNTIF(BD!$B$2:B4343,BD!B4343)=1,MAX($F$1:F4342)+1,\"\")","v":""},null,{"$f":"IF(AND(BD!B4343=REF,BD!D4343>=DEB,BD!D4343<=FIN),MAX(calc!$H$1:H4342)+1,0)","v":0}]
[null,null,null,null,null,{"$f":"IF(COUNTIF(BD!$B$2:B4344,BD!B4344)=1,MAX($F$1:F4343)+1,\"\")","v":""},null,{"$f":"IF(AND(BD!B4344=REF,BD!D4344>=DEB,BD!D4344<=FIN),MAX(calc!$H$1:H4343)+1,0)","v":0}]
[null,null,null,null,null,{"$f":"IF(COUNTIF(BD!$B$2:B4345,BD!B4345)=1,MAX($F$1:F4344)+1,\"\")","v":""},null,{"$f":"IF(AND(BD!B4345=REF,BD!D4345>=DEB,BD!D4345<=FIN),MAX(calc!$H$1:H4344)+1,0)","v":0}]
[null,null,null,null,null,{"$f":"IF(COUNTIF(BD!$B$2:B4346,BD!B4346)=1,MAX($F$1:F4345)+1,\"\")","v":""},null,{"$f":"IF(AND(BD!B4346=REF,BD!D4346>=DEB,BD!D4346<=FIN),MAX(calc!$H$1:H4345)+1,0)","v":0}]
[null,null,null,null,null,{"$f":"IF(COUNTIF(BD!$B$2:B4347,BD!B4347)=1,MAX($F$1:F4346)+1,\"\")","v":""},null,{"$f":"IF(AND(BD!B4347=REF,BD!D4347>=DEB,BD!D4347<=FIN),MAX(calc!$H$1:H4346)+1,0)","v":0}]
[null,null,null,null,null,{"$f":"IF(COUNTIF(BD!$B$2:B4348,BD!B4348)=1,MAX($F$1:F4347)+1,\"\")","v":""},null,{"$f":"IF(AND(BD!B4348=REF,BD!D4348>=DEB,BD!D4348<=FIN),MAX(calc!$H$1:H4347)+1,0)","v":0}]
[null,null,null,null,null,{"$f":"IF(COUNTIF(BD!$B$2:B4349,BD!B4349)=1,MAX($F$1:F4348)+1,\"\")","v":""},null,{"$f":"IF(AND(BD!B4349=REF,BD!D4349>=DEB,BD!D4349<=FIN),MAX(calc!$H$1:H4348)+1,0)","v":0}]
[null,null,null,null,null,{"$f":"IF(COUNTIF(BD!$B$2:B4350,BD!B4350)=1,MAX($F$1:F4349)+1,\"\")","v":""},null,{"$f":"IF(AND(BD!B4350=REF,BD!D4350>=DEB,BD!D4350<=FIN),MAX(calc!$H$1:H4349)+1,0)","v":0}]
[null,null,null,null,null,{"$f":"IF(COUNTIF(BD!$B$2:B4351,BD!B4351)=1,MAX($F$1:F4350)+1,\"\")","v":""},null,{"$f":"IF(AND(BD!B4351=REF,BD!D4351>=DEB,BD!D4351<=FIN),MAX(calc!$H$1:H4350)+1,0)","v":0}]
[null,null,null,null,null,{"$f":"IF(COUNTIF(BD!$B$2:B4352,BD!B4352)=1,MAX($F$1:F4351)+1,\"\")","v":""},null,{"$f":"IF(AND(BD!B4352=REF,BD!D4352>=DEB,BD!D4352<=FIN),MAX(calc!$H$1:H4351)+1,0)","v":0}]
[null,null,null,null,null,{"$f":"IF(COUNTIF(BD!$B$2:B4353,BD!B4353)=1,MAX($F$1:F4352)+1,\"\")","v":""},null,{"$f":"IF(AND(BD!B4353=REF,BD!D4353>=DEB,BD!D4353<=FIN),MAX(calc!$H$1:H4352)+1,0)","v":0}]
[null,null,null,null,null,{"$f":"IF(COUNTIF(BD!$B$2:B4354,BD!B4354)=1,MAX($F$1:F4353)+1,\"\")","v":""},null,{"$f":"IF(AND(BD!B4354=REF,BD!D4354>=DEB,BD!D4354<=FIN),MAX(calc!$H$1:H4353)+1,0)","v":0}]
[null,null,null,null,null,{"$f":"IF(COUNTIF(BD!$B$2:B4355,BD!B4355)=1,MAX($F$1:F4354)+1,\"\")","v":""},null,{"$f":"IF(AND(BD!B4355=REF,BD!D4355>=DEB,BD!D4355<=FIN),MAX(calc!$H$1:H4354)+1,0)","v":0}]
[null,null,null,null,null,{"$f":"IF(COUNTIF(BD!$B$2:B4356,BD!B4356)=1,MAX($F$1:F4355)+1,\"\")","v":""},null,{"$f":"IF(AND(BD!B4356=REF,BD!D4356>=DEB,BD!D4356<=FIN),MAX(calc!$H$1:H4355)+1,0)","v":0}]
[null,null,null,null,null,{"$f":"IF(COUNTIF(BD!$B$2:B4357,BD!B4357)=1,MAX($F$1:F4356)+1,\"\")","v":""},null,{"$f":"IF(AND(BD!B4357=REF,BD!D4357>=DEB,BD!D4357<=FIN),MAX(calc!$H$1:H4356)+1,0)","v":0}]
[null,null,null,null,null,{"$f":"IF(COUNTIF(BD!$B$2:B4358,BD!B4358)=1,MAX($F$1:F4357)+1,\"\")","v":""},null,{"$f":"IF(AND(BD!B4358=REF,BD!D4358>=DEB,BD!D4358<=FIN),MAX(calc!$H$1:H4357)+1,0)","v":0}]
[null,null,null,null,null,{"$f":"IF(COUNTIF(BD!$B$2:B4359,BD!B4359)=1,MAX($F$1:F4358)+1,\"\")","v":""},null,{"$f":"IF(AND(BD!B4359=REF,BD!D4359>=DEB,BD!D4359<=FIN),MAX(calc!$H$1:H4358)+1,0)","v":0}]
[null,null,null,null,null,{"$f":"IF(COUNTIF(BD!$B$2:B4360,BD!B4360)=1,MAX($F$1:F4359)+1,\"\")","v":""},null,{"$f":"IF(AND(BD!B4360=REF,BD!D4360>=DEB,BD!D4360<=FIN),MAX(calc!$H$1:H4359)+1,0)","v":0}]
[null,null,null,null,null,{"$f":"IF(COUNTIF(BD!$B$2:B4361,BD!B4361)=1,MAX($F$1:F4360)+1,\"\")","v":""},null,{"$f":"IF(AND(BD!B4361=REF,BD!D4361>=DEB,BD!D4361<=FIN),MAX(calc!$H$1:H4360)+1,0)","v":0}]
[null,null,null,null,null,{"$f":"IF(COUNTIF(BD!$B$2:B4362,BD!B4362)=1,MAX($F$1:F4361)+1,\"\")","v":""},null,{"$f":"IF(AND(BD!B4362=REF,BD!D4362>=DEB,BD!D4362<=FIN),MAX(calc!$H$1:H4361)+1,0)","v":0}]
[null,null,null,null,null,{"$f":"IF(COUNTIF(BD!$B$2:B4363,BD!B4363)=1,MAX($F$1:F4362)+1,\"\")","v":""},null,{"$f":"IF(AND(BD!B4363=REF,BD!D4363>=DEB,BD!D4363<=FIN),MAX(calc!$H$1:H4362)+1,0)","v":0}]
[null,null,null,null,null,{"$f":"IF(COUNTIF(BD!$B$2:B4364,BD!B4364)=1,MAX($F$1:F4363)+1,\"\")","v":""},null,{"$f":"IF(AND(BD!B4364=REF,BD!D4364>=DEB,BD!D4364<=FIN),MAX(calc!$H$1:H4363)+1,0)","v":0}]
[null,null,null,null,null,{"$f":"IF(COUNTIF(BD!$B$2:B4365,BD!B4365)=1,MAX($F$1:F4364)+1,\"\")","v":""},null,{"$f":"IF(AND(BD!B4365=REF,BD!D4365>=DEB,BD!D4365<=FIN),MAX(calc!$H$1:H4364)+1,0)","v":0}]
[null,null,null,null,null,{"$f":"IF(COUNTIF(BD!$B$2:B4366,BD!B4366)=1,MAX($F$1:F4365)+1,\"\")","v":""},null,{"$f":"IF(AND(BD!B4366=REF,BD!D4366>=DEB,BD!D4366<=FIN),MAX(calc!$H$1:H4365)+1,0)","v":0}]
[null,null,null,null,null,{"$f":"IF(COUNTIF(BD!$B$2:B4367,BD!B4367)=1,MAX($F$1:F4366)+1,\"\")","v":""},null,{"$f":"IF(AND(BD!B4367=REF,BD!D4367>=DEB,BD!D4367<=FIN),MAX(calc!$H$1:H4366)+1,0)","v":0}]
[null,null,null,null,null,{"$f":"IF(COUNTIF(BD!$B$2:B4368,BD!B4368)=1,MAX($F$1:F4367)+1,\"\")","v":""},null,{"$f":"IF(AND(BD!B4368=REF,BD!D4368>=DEB,BD!D4368<=FIN),MAX(calc!$H$1:H4367)+1,0)","v":0}]
[null,null,null,null,null,{"$f":"IF(COUNTIF(BD!$B$2:B4369,BD!B4369)=1,MAX($F$1:F4368)+1,\"\")","v":""},null,{"$f":"IF(AND(BD!B4369=REF,BD!D4369>=DEB,BD!D4369<=FIN),MAX(calc!$H$1:H4368)+1,0)","v":0}]
[null,null,null,null,null,{"$f":"IF(COUNTIF(BD!$B$2:B4370,BD!B4370)=1,MAX($F$1:F4369)+1,\"\")","v":""},null,{"$f":"IF(AND(BD!B4370=REF,BD!D4370>=DEB,BD!D4370<=FIN),MAX(calc!$H$1:H4369)+1,0)","v":0}]
[null,null,null,null,null,{"$f":"IF(COUNTIF(BD!$B$2:B4371,BD!B4371)=1,MAX($F$1:F4370)+1,\"\")","v":""},null,{"$f":"IF(AND(BD!B4371=REF,BD!D4371>=DEB,BD!D4371<=FIN),MAX(calc!$H$1:H4370)+1,0)","v":0}]
[null,null,null,null,null,{"$f":"IF(COUNTIF(BD!$B$2:B4372,BD!B4372)=1,MAX($F$1:F4371)+1,\"\")","v":""},null,{"$f":"IF(AND(BD!B4372=REF,BD!D4372>=DEB,BD!D4372<=FIN),MAX(calc!$H$1:H4371)+1,0)","v":0}]
[null,null,null,null,null,{"$f":"IF(COUNTIF(BD!$B$2:B4373,BD!B4373)=1,MAX($F$1:F4372)+1,\"\")","v":""},null,{"$f":"IF(AND(BD!B4373=REF,BD!D4373>=DEB,BD!D4373<=FIN),MAX(calc!$H$1:H4372)+1,0)","v":0}]
[null,null,null,null,null,{"$f":"IF(COUNTIF(BD!$B$2:B4374,BD!B4374)=1,MAX($F$1:F4373)+1,\"\")","v":""},null,{"$f":"IF(AND(BD!B4374=REF,BD!D4374>=DEB,BD!D4374<=FIN),MAX(calc!$H$1:H4373)+1,0)","v":0}]
[null,null,null,null,null,{"$f":"IF(COUNTIF(BD!$B$2:B4375,BD!B4375)=1,MAX($F$1:F4374)+1,\"\")","v":""},null,{"$f":"IF(AND(BD!B4375=REF,BD!D4375>=DEB,BD!D4375<=FIN),MAX(calc!$H$1:H4374)+1,0)","v":0}]
[null,null,null,null,null,{"$f":"IF(COUNTIF(BD!$B$2:B4376,BD!B4376)=1,MAX($F$1:F4375)+1,\"\")","v":""},null,{"$f":"IF(AND(BD!B4376=REF,BD!D4376>=DEB,BD!D4376<=FIN),MAX(calc!$H$1:H4375)+1,0)","v":0}]
[null,null,null,null,null,{"$f":"IF(COUNTIF(BD!$B$2:B4377,BD!B4377)=1,MAX($F$1:F4376)+1,\"\")","v":""},null,{"$f":"IF(AND(BD!B4377=REF,BD!D4377>=DEB,BD!D4377<=FIN),MAX(calc!$H$1:H4376)+1,0)","v":0}]
[null,null,null,null,null,{"$f":"IF(COUNTIF(BD!$B$2:B4378,BD!B4378)=1,MAX($F$1:F4377)+1,\"\")","v":""},null,{"$f":"IF(AND(BD!B4378=REF,BD!D4378>=DEB,BD!D4378<=FIN),MAX(calc!$H$1:H4377)+1,0)","v":0}]
[null,null,null,null,null,{"$f":"IF(COUNTIF(BD!$B$2:B4379,BD!B4379)=1,MAX($F$1:F4378)+1,\"\")","v":""},null,{"$f":"IF(AND(BD!B4379=REF,BD!D4379>=DEB,BD!D4379<=FIN),MAX(calc!$H$1:H4378)+1,0)","v":0}]
[null,null,null,null,null,{"$f":"IF(COUNTIF(BD!$B$2:B4380,BD!B4380)=1,MAX($F$1:F4379)+1,\"\")","v":""},null,{"$f":"IF(AND(BD!B4380=REF,BD!D4380>=DEB,BD!D4380<=FIN),MAX(calc!$H$1:H4379)+1,0)","v":0}]
[null,null,null,null,null,{"$f":"IF(COUNTIF(BD!$B$2:B4381,BD!B4381)=1,MAX($F$1:F4380)+1,\"\")","v":""},null,{"$f":"IF(AND(BD!B4381=REF,BD!D4381>=DEB,BD!D4381<=FIN),MAX(calc!$H$1:H4380)+1,0)","v":0}]
[null,null,null,null,null,{"$f":"IF(COUNTIF(BD!$B$2:B4382,BD!B4382)=1,MAX($F$1:F4381)+1,\"\")","v":""},null,{"$f":"IF(AND(BD!B4382=REF,BD!D4382>=DEB,BD!D4382<=FIN),MAX(calc!$H$1:H4381)+1,0)","v":0}]
[null,null,null,null,null,{"$f":"IF(COUNTIF(BD!$B$2:B4383,BD!B4383)=1,MAX($F$1:F4382)+1,\"\")","v":""},null,{"$f":"IF(AND(BD!B4383=REF,BD!D4383>=DEB,BD!D4383<=FIN),MAX(calc!$H$1:H4382)+1,0)","v":0}]
[null,null,null,null,null,{"$f":"IF(COUNTIF(BD!$B$2:B4384,BD!B4384)=1,MAX($F$1:F4383)+1,\"\")","v":""},null,{"$f":"IF(AND(BD!B4384=REF,BD!D4384>=DEB,BD!D4384<=FIN),MAX(calc!$H$1:H4383)+1,0)","v":0}]
[null,null,null,null,null,{"$f":"IF(COUNTIF(BD!$B$2:B4385,BD!B4385)=1,MAX($F$1:F4384)+1,\"\")","v":""},null,{"$f":"IF(AND(BD!B4385=REF,BD!D4385>=DEB,BD!D4385<=FIN),MAX(calc!$H$1:H4384)+1,0)","v":0}]
[null,null,null,null,null,{"$f":"IF(COUNTIF(BD!$B$2:B4386,BD!B4386)=1,MAX($F$1:F4385)+1,\"\")","v":""},null,{"$f":"IF(AND(BD!B4386=REF,BD!D4386>=DEB,BD!D4386<=FIN),MAX(calc!$H$1:H4385)+1,0)","v":0}]
[null,null,null,null,null,{"$f":"IF(COUNTIF(BD!$B$2:B4387,BD!B4387)=1,MAX($F$1:F4386)+1,\"\")","v":""},null,{"$f":"IF(AND(BD!B4387=REF,BD!D4387>=DEB,BD!D4387<=FIN),MAX(calc!$H$1:H4386)+1,0)","v":0}]
[null,null,null,null,null,{"$f":"IF(COUNTIF(BD!$B$2:B4388,BD!B4388)=1,MAX($F$1:F4387)+1,\"\")","v":""},null,{"$f":"IF(AND(BD!B4388=REF,BD!D4388>=DEB,BD!D4388<=FIN),MAX(calc!$H$1:H4387)+1,0)","v":0}]
[null,null,null,null,null,{"$f":"IF(COUNTIF(BD!$B$2:B4389,BD!B4389)=1,MAX($F$1:F4388)+1,\"\")","v":""},null,{"$f":"IF(AND(BD!B4389=REF,BD!D4389>=DEB,BD!D4389<=FIN),MAX(calc!$H$1:H4388)+1,0)","v":0}]
[null,null,null,null,null,{"$f":"IF(COUNTIF(BD!$B$2:B4390,BD!B4390)=1,MAX($F$1:F4389)+1,\"\")","v":""},null,{"$f":"IF(AND(BD!B4390=REF,BD!D4390>=DEB,BD!D4390<=FIN),MAX(calc!$H$1:H4389)+1,0)","v":0}]
[null,null,null,null,null,{"$f":"IF(COUNTIF(BD!$B$2:B4391,BD!B4391)=1,MAX($F$1:F4390)+1,\"\")","v":""},null,{"$f":"IF(AND(BD!B4391=REF,BD!D4391>=DEB,BD!D4391<=FIN),MAX(calc!$H$1:H4390)+1,0)","v":0}]
[null,null,null,null,null,{"$f":"IF(COUNTIF(BD!$B$2:B4392,BD!B4392)=1,MAX($F$1:F4391)+1,\"\")","v":""},null,{"$f":"IF(AND(BD!B4392=REF,BD!D4392>=DEB,BD!D4392<=FIN),MAX(calc!$H$1:H4391)+1,0)","v":0}]
[null,null,null,null,null,{"$f":"IF(COUNTIF(BD!$B$2:B4393,BD!B4393)=1,MAX($F$1:F4392)+1,\"\")","v":""},null,{"$f":"IF(AND(BD!B4393=REF,BD!D4393>=DEB,BD!D4393<=FIN),MAX(calc!$H$1:H4392)+1,0)","v":0}]
[null,null,null,null,null,{"$f":"IF(COUNTIF(BD!$B$2:B4394,BD!B4394)=1,MAX($F$1:F4393)+1,\"\")","v":""},null,{"$f":"IF(AND(BD!B4394=REF,BD!D4394>=DEB,BD!D4394<=FIN),MAX(calc!$H$1:H4393)+1,0)","v":0}]
[null,null,null,null,null,{"$f":"IF(COUNTIF(BD!$B$2:B4395,BD!B4395)=1,MAX($F$1:F4394)+1,\"\")","v":""},null,{"$f":"IF(AND(BD!B4395=REF,BD!D4395>=DEB,BD!D4395<=FIN),MAX(calc!$H$1:H4394)+1,0)","v":0}]
[null,null,null,null,null,{"$f":"IF(COUNTIF(BD!$B$2:B4396,BD!B4396)=1,MAX($F$1:F4395)+1,\"\")","v":""},null,{"$f":"IF(AND(BD!B4396=REF,BD!D4396>=DEB,BD!D4396<=FIN),MAX(calc!$H$1:H4395)+1,0)","v":0}]
[null,null,null,null,null,{"$f":"IF(COUNTIF(BD!$B$2:B4397,BD!B4397)=1,MAX($F$1:F4396)+1,\"\")","v":""},null,{"$f":"IF(AND(BD!B4397=REF,BD!D4397>=DEB,BD!D4397<=FIN),MAX(calc!$H$1:H4396)+1,0)","v":0}]
[null,null,null,null,null,{"$f":"IF(COUNTIF(BD!$B$2:B4398,BD!B4398)=1,MAX($F$1:F4397)+1,\"\")","v":""},null,{"$f":"IF(AND(BD!B4398=REF,BD!D4398>=DEB,BD!D4398<=FIN),MAX(calc!$H$1:H4397)+1,0)","v":0}]
[null,null,null,null,null,{"$f":"IF(COUNTIF(BD!$B$2:B4399,BD!B4399)=1,MAX($F$1:F4398)+1,\"\")","v":""},null,{"$f":"IF(AND(BD!B4399=REF,BD!D4399>=DEB,BD!D4399<=FIN),MAX(calc!$H$1:H4398)+1,0)","v":0}]
[null,null,null,null,null,{"$f":"IF(COUNTIF(BD!$B$2:B4400,BD!B4400)=1,MAX($F$1:F4399)+1,\"\")","v":""},null,{"$f":"IF(AND(BD!B4400=REF,BD!D4400>=DEB,BD!D4400<=FIN),MAX(calc!$H$1:H4399)+1,0)","v":0}]
[null,null,null,null,null,{"$f":"IF(COUNTIF(BD!$B$2:B4401,BD!B4401)=1,MAX($F$1:F4400)+1,\"\")","v":""},null,{"$f":"IF(AND(BD!B4401=REF,BD!D4401>=DEB,BD!D4401<=FIN),MAX(calc!$H$1:H4400)+1,0)","v":0}]
[null,null,null,null,null,{"$f":"IF(COUNTIF(BD!$B$2:B4402,BD!B4402)=1,MAX($F$1:F4401)+1,\"\")","v":""},null,{"$f":"IF(AND(BD!B4402=REF,BD!D4402>=DEB,BD!D4402<=FIN),MAX(calc!$H$1:H4401)+1,0)","v":0}]
[null,null,null,null,null,{"$f":"IF(COUNTIF(BD!$B$2:B4403,BD!B4403)=1,MAX($F$1:F4402)+1,\"\")","v":""},null,{"$f":"IF(AND(BD!B4403=REF,BD!D4403>=DEB,BD!D4403<=FIN),MAX(calc!$H$1:H4402)+1,0)","v":0}]
[null,null,null,null,null,{"$f":"IF(COUNTIF(BD!$B$2:B4404,BD!B4404)=1,MAX($F$1:F4403)+1,\"\")","v":""},null,{"$f":"IF(AND(BD!B4404=REF,BD!D4404>=DEB,BD!D4404<=FIN),MAX(calc!$H$1:H4403)+1,0)","v":0}]
[null,null,null,null,null,{"$f":"IF(COUNTIF(BD!$B$2:B4405,BD!B4405)=1,MAX($F$1:F4404)+1,\"\")","v":""},null,{"$f":"IF(AND(BD!B4405=REF,BD!D4405>=DEB,BD!D4405<=FIN),MAX(calc!$H$1:H4404)+1,0)","v":0}]
[null,null,null,null,null,{"$f":"IF(COUNTIF(BD!$B$2:B4406,BD!B4406)=1,MAX($F$1:F4405)+1,\"\")","v":""},null,{"$f":"IF(AND(BD!B4406=REF,BD!D4406>=DEB,BD!D4406<=FIN),MAX(calc!$H$1:H4405)+1,0)","v":0}]
[null,null,null,null,null,{"$f":"IF(COUNTIF(BD!$B$2:B4407,BD!B4407)=1,MAX($F$1:F4406)+1,\"\")","v":""},null,{"$f":"IF(AND(BD!B4407=REF,BD!D4407>=DEB,BD!D4407<=FIN),MAX(calc!$H$1:H4406)+1,0)","v":0}]
[null,null,null,null,null,{"$f":"IF(COUNTIF(BD!$B$2:B4408,BD!B4408)=1,MAX($F$1:F4407)+1,\"\")","v":""},null,{"$f":"IF(AND(BD!B4408=REF,BD!D4408>=DEB,BD!D4408<=FIN),MAX(calc!$H$1:H4407)+1,0)","v":0}]
[null,null,null,null,null,{"$f":"IF(COUNTIF(BD!$B$2:B4409,BD!B4409)=1,MAX($F$1:F4408)+1,\"\")","v":""},null,{"$f":"IF(AND(BD!B4409=REF,BD!D4409>=DEB,BD!D4409<=FIN),MAX(calc!$H$1:H4408)+1,0)","v":0}]
[null,null,null,null,null,{"$f":"IF(COUNTIF(BD!$B$2:B4410,BD!B4410)=1,MAX($F$1:F4409)+1,\"\")","v":""},null,{"$f":"IF(AND(BD!B4410=REF,BD!D4410>=DEB,BD!D4410<=FIN),MAX(calc!$H$1:H4409)+1,0)","v":0}]
[null,null,null,null,null,{"$f":"IF(COUNTIF(BD!$B$2:B4411,BD!B4411)=1,MAX($F$1:F4410)+1,\"\")","v":""},null,{"$f":"IF(AND(BD!B4411=REF,BD!D4411>=DEB,BD!D4411<=FIN),MAX(calc!$H$1:H4410)+1,0)","v":0}]
[null,null,null,null,null,{"$f":"IF(COUNTIF(BD!$B$2:B4412,BD!B4412)=1,MAX($F$1:F4411)+1,\"\")","v":""},null,{"$f":"IF(AND(BD!B4412=REF,BD!D4412>=DEB,BD!D4412<=FIN),MAX(calc!$H$1:H4411)+1,0)","v":0}]
[null,null,null,null,null,{"$f":"IF(COUNTIF(BD!$B$2:B4413,BD!B4413)=1,MAX($F$1:F4412)+1,\"\")","v":""},null,{"$f":"IF(AND(BD!B4413=REF,BD!D4413>=DEB,BD!D4413<=FIN),MAX(calc!$H$1:H4412)+1,0)","v":0}]
[null,null,null,null,null,{"$f":"IF(COUNTIF(BD!$B$2:B4414,BD!B4414)=1,MAX($F$1:F4413)+1,\"\")","v":""},null,{"$f":"IF(AND(BD!B4414=REF,BD!D4414>=DEB,BD!D4414<=FIN),MAX(calc!$H$1:H4413)+1,0)","v":0}]
[null,null,null,null,null,{"$f":"IF(COUNTIF(BD!$B$2:B4415,BD!B4415)=1,MAX($F$1:F4414)+1,\"\")","v":""},null,{"$f":"IF(AND(BD!B4415=REF,BD!D4415>=DEB,BD!D4415<=FIN),MAX(calc!$H$1:H4414)+1,0)","v":0}]
[null,null,null,null,null,{"$f":"IF(COUNTIF(BD!$B$2:B4416,BD!B4416)=1,MAX($F$1:F4415)+1,\"\")","v":""},null,{"$f":"IF(AND(BD!B4416=REF,BD!D4416>=DEB,BD!D4416<=FIN),MAX(calc!$H$1:H4415)+1,0)","v":0}]
[null,null,null,null,null,{"$f":"IF(COUNTIF(BD!$B$2:B4417,BD!B4417)=1,MAX($F$1:F4416)+1,\"\")","v":""},null,{"$f":"IF(AND(BD!B4417=REF,BD!D4417>=DEB,BD!D4417<=FIN),MAX(calc!$H$1:H4416)+1,0)","v":0}]
[null,null,null,null,null,{"$f":"IF(COUNTIF(BD!$B$2:B4418,BD!B4418)=1,MAX($F$1:F4417)+1,\"\")","v":""},null,{"$f":"IF(AND(BD!B4418=REF,BD!D4418>=DEB,BD!D4418<=FIN),MAX(calc!$H$1:H4417)+1,0)","v":0}]
[null,null,null,null,null,{"$f":"IF(COUNTIF(BD!$B$2:B4419,BD!B4419)=1,MAX($F$1:F4418)+1,\"\")","v":""},null,{"$f":"IF(AND(BD!B4419=REF,BD!D4419>=DEB,BD!D4419<=FIN),MAX(calc!$H$1:H4418)+1,0)","v":0}]
[null,null,null,null,null,{"$f":"IF(COUNTIF(BD!$B$2:B4420,BD!B4420)=1,MAX($F$1:F4419)+1,\"\")","v":""},null,{"$f":"IF(AND(BD!B4420=REF,BD!D4420>=DEB,BD!D4420<=FIN),MAX(calc!$H$1:H4419)+1,0)","v":0}]
[null,null,null,null,null,{"$f":"IF(COUNTIF(BD!$B$2:B4421,BD!B4421)=1,MAX($F$1:F4420)+1,\"\")","v":""},null,{"$f":"IF(AND(BD!B4421=REF,BD!D4421>=DEB,BD!D4421<=FIN),MAX(calc!$H$1:H4420)+1,0)","v":0}]
[null,null,null,null,null,{"$f":"IF(COUNTIF(BD!$B$2:B4422,BD!B4422)=1,MAX($F$1:F4421)+1,\"\")","v":""},null,{"$f":"IF(AND(BD!B4422=REF,BD!D4422>=DEB,BD!D4422<=FIN),MAX(calc!$H$1:H4421)+1,0)","v":0}]
[null,null,null,null,null,{"$f":"IF(COUNTIF(BD!$B$2:B4423,BD!B4423)=1,MAX($F$1:F4422)+1,\"\")","v":""},null,{"$f":"IF(AND(BD!B4423=REF,BD!D4423>=DEB,BD!D4423<=FIN),MAX(calc!$H$1:H4422)+1,0)","v":0}]
[null,null,null,null,null,{"$f":"IF(COUNTIF(BD!$B$2:B4424,BD!B4424)=1,MAX($F$1:F4423)+1,\"\")","v":""},null,{"$f":"IF(AND(BD!B4424=REF,BD!D4424>=DEB,BD!D4424<=FIN),MAX(calc!$H$1:H4423)+1,0)","v":0}]
[null,null,null,null,null,{"$f":"IF(COUNTIF(BD!$B$2:B4425,BD!B4425)=1,MAX($F$1:F4424)+1,\"\")","v":""},null,{"$f":"IF(AND(BD!B4425=REF,BD!D4425>=DEB,BD!D4425<=FIN),MAX(calc!$H$1:H4424)+1,0)","v":0}]
[null,null,null,null,null,{"$f":"IF(COUNTIF(BD!$B$2:B4426,BD!B4426)=1,MAX($F$1:F4425)+1,\"\")","v":""},null,{"$f":"IF(AND(BD!B4426=REF,BD!D4426>=DEB,BD!D4426<=FIN),MAX(calc!$H$1:H4425)+1,0)","v":0}]
[null,null,null,null,null,{"$f":"IF(COUNTIF(BD!$B$2:B4427,BD!B4427)=1,MAX($F$1:F4426)+1,\"\")","v":""},null,{"$f":"IF(AND(BD!B4427=REF,BD!D4427>=DEB,BD!D4427<=FIN),MAX(calc!$H$1:H4426)+1,0)","v":0}]
[null,null,null,null,null,{"$f":"IF(COUNTIF(BD!$B$2:B4428,BD!B4428)=1,MAX($F$1:F4427)+1,\"\")","v":""},null,{"$f":"IF(AND(BD!B4428=REF,BD!D4428>=DEB,BD!D4428<=FIN),MAX(calc!$H$1:H4427)+1,0)","v":0}]
[null,null,null,null,null,{"$f":"IF(COUNTIF(BD!$B$2:B4429,BD!B4429)=1,MAX($F$1:F4428)+1,\"\")","v":""},null,{"$f":"IF(AND(BD!B4429=REF,BD!D4429>=DEB,BD!D4429<=FIN),MAX(calc!$H$1:H4428)+1,0)","v":0}]
[null,null,null,null,null,{"$f":"IF(COUNTIF(BD!$B$2:B4430,BD!B4430)=1,MAX($F$1:F4429)+1,\"\")","v":""},null,{"$f":"IF(AND(BD!B4430=REF,BD!D4430>=DEB,BD!D4430<=FIN),MAX(calc!$H$1:H4429)+1,0)","v":0}]
[null,null,null,null,null,{"$f":"IF(COUNTIF(BD!$B$2:B4431,BD!B4431)=1,MAX($F$1:F4430)+1,\"\")","v":""},null,{"$f":"IF(AND(BD!B4431=REF,BD!D4431>=DEB,BD!D4431<=FIN),MAX(calc!$H$1:H4430)+1,0)","v":0}]
[null,null,null,null,null,{"$f":"IF(COUNTIF(BD!$B$2:B4432,BD!B4432)=1,MAX($F$1:F4431)+1,\"\")","v":""},null,{"$f":"IF(AND(BD!B4432=REF,BD!D4432>=DEB,BD!D4432<=FIN),MAX(calc!$H$1:H4431)+1,0)","v":0}]
[null,null,null,null,null,{"$f":"IF(COUNTIF(BD!$B$2:B4433,BD!B4433)=1,MAX($F$1:F4432)+1,\"\")","v":""},null,{"$f":"IF(AND(BD!B4433=REF,BD!D4433>=DEB,BD!D4433<=FIN),MAX(calc!$H$1:H4432)+1,0)","v":0}]
[null,null,null,null,null,{"$f":"IF(COUNTIF(BD!$B$2:B4434,BD!B4434)=1,MAX($F$1:F4433)+1,\"\")","v":""},null,{"$f":"IF(AND(BD!B4434=REF,BD!D4434>=DEB,BD!D4434<=FIN),MAX(calc!$H$1:H4433)+1,0)","v":0}]
[null,null,null,null,null,{"$f":"IF(COUNTIF(BD!$B$2:B4435,BD!B4435)=1,MAX($F$1:F4434)+1,\"\")","v":""},null,{"$f":"IF(AND(BD!B4435=REF,BD!D4435>=DEB,BD!D4435<=FIN),MAX(calc!$H$1:H4434)+1,0)","v":0}]
[null,null,null,null,null,{"$f":"IF(COUNTIF(BD!$B$2:B4436,BD!B4436)=1,MAX($F$1:F4435)+1,\"\")","v":""},null,{"$f":"IF(AND(BD!B4436=REF,BD!D4436>=DEB,BD!D4436<=FIN),MAX(calc!$H$1:H4435)+1,0)","v":0}]
[null,null,null,null,null,{"$f":"IF(COUNTIF(BD!$B$2:B4437,BD!B4437)=1,MAX($F$1:F4436)+1,\"\")","v":""},null,{"$f":"IF(AND(BD!B4437=REF,BD!D4437>=DEB,BD!D4437<=FIN),MAX(calc!$H$1:H4436)+1,0)","v":0}]
[null,null,null,null,null,{"$f":"IF(COUNTIF(BD!$B$2:B4438,BD!B4438)=1,MAX($F$1:F4437)+1,\"\")","v":""},null,{"$f":"IF(AND(BD!B4438=REF,BD!D4438>=DEB,BD!D4438<=FIN),MAX(calc!$H$1:H4437)+1,0)","v":0}]
[null,null,null,null,null,{"$f":"IF(COUNTIF(BD!$B$2:B4439,BD!B4439)=1,MAX($F$1:F4438)+1,\"\")","v":""},null,{"$f":"IF(AND(BD!B4439=REF,BD!D4439>=DEB,BD!D4439<=FIN),MAX(calc!$H$1:H4438)+1,0)","v":0}]
[null,null,null,null,null,{"$f":"IF(COUNTIF(BD!$B$2:B4440,BD!B4440)=1,MAX($F$1:F4439)+1,\"\")","v":""},null,{"$f":"IF(AND(BD!B4440=REF,BD!D4440>=DEB,BD!D4440<=FIN),MAX(calc!$H$1:H4439)+1,0)","v":0}]
[null,null,null,null,null,{"$f":"IF(COUNTIF(BD!$B$2:B4441,BD!B4441)=1,MAX($F$1:F4440)+1,\"\")","v":""},null,{"$f":"IF(AND(BD!B4441=REF,BD!D4441>=DEB,BD!D4441<=FIN),MAX(calc!$H$1:H4440)+1,0)","v":0}]
[null,null,null,null,null,{"$f":"IF(COUNTIF(BD!$B$2:B4442,BD!B4442)=1,MAX($F$1:F4441)+1,\"\")","v":""},null,{"$f":"IF(AND(BD!B4442=REF,BD!D4442>=DEB,BD!D4442<=FIN),MAX(calc!$H$1:H4441)+1,0)","v":0}]
[null,null,null,null,null,{"$f":"IF(COUNTIF(BD!$B$2:B4443,BD!B4443)=1,MAX($F$1:F4442)+1,\"\")","v":""},null,{"$f":"IF(AND(BD!B4443=REF,BD!D4443>=DEB,BD!D4443<=FIN),MAX(calc!$H$1:H4442)+1,0)","v":0}]
[null,null,null,null,null,{"$f":"IF(COUNTIF(BD!$B$2:B4444,BD!B4444)=1,MAX($F$1:F4443)+1,\"\")","v":""},null,{"$f":"IF(AND(BD!B4444=REF,BD!D4444>=DEB,BD!D4444<=FIN),MAX(calc!$H$1:H4443)+1,0)","v":0}]
[null,null,null,null,null,{"$f":"IF(COUNTIF(BD!$B$2:B4445,BD!B4445)=1,MAX($F$1:F4444)+1,\"\")","v":""},null,{"$f":"IF(AND(BD!B4445=REF,BD!D4445>=DEB,BD!D4445<=FIN),MAX(calc!$H$1:H4444)+1,0)","v":0}]
[null,null,null,null,null,{"$f":"IF(COUNTIF(BD!$B$2:B4446,BD!B4446)=1,MAX($F$1:F4445)+1,\"\")","v":""},null,{"$f":"IF(AND(BD!B4446=REF,BD!D4446>=DEB,BD!D4446<=FIN),MAX(calc!$H$1:H4445)+1,0)","v":0}]
[null,null,null,null,null,{"$f":"IF(COUNTIF(BD!$B$2:B4447,BD!B4447)=1,MAX($F$1:F4446)+1,\"\")","v":""},null,{"$f":"IF(AND(BD!B4447=REF,BD!D4447>=DEB,BD!D4447<=FIN),MAX(calc!$H$1:H4446)+1,0)","v":0}]
[null,null,null,null,null,{"$f":"IF(COUNTIF(BD!$B$2:B4448,BD!B4448)=1,MAX($F$1:F4447)+1,\"\")","v":""},null,{"$f":"IF(AND(BD!B4448=REF,BD!D4448>=DEB,BD!D4448<=FIN),MAX(calc!$H$1:H4447)+1,0)","v":0}]
[null,null,null,null,null,{"$f":"IF(COUNTIF(BD!$B$2:B4449,BD!B4449)=1,MAX($F$1:F4448)+1,\"\")","v":""},null,{"$f":"IF(AND(BD!B4449=REF,BD!D4449>=DEB,BD!D4449<=FIN),MAX(calc!$H$1:H4448)+1,0)","v":0}]
[null,null,null,null,null,{"$f":"IF(COUNTIF(BD!$B$2:B4450,BD!B4450)=1,MAX($F$1:F4449)+1,\"\")","v":""},null,{"$f":"IF(AND(BD!B4450=REF,BD!D4450>=DEB,BD!D4450<=FIN),MAX(calc!$H$1:H4449)+1,0)","v":0}]
[null,null,null,null,null,{"$f":"IF(COUNTIF(BD!$B$2:B4451,BD!B4451)=1,MAX($F$1:F4450)+1,\"\")","v":""},null,{"$f":"IF(AND(BD!B4451=REF,BD!D4451>=DEB,BD!D4451<=FIN),MAX(calc!$H$1:H4450)+1,0)","v":0}]
[null,null,null,null,null,{"$f":"IF(COUNTIF(BD!$B$2:B4452,BD!B4452)=1,MAX($F$1:F4451)+1,\"\")","v":""},null,{"$f":"IF(AND(BD!B4452=REF,BD!D4452>=DEB,BD!D4452<=FIN),MAX(calc!$H$1:H4451)+1,0)","v":0}]
[null,null,null,null,null,{"$f":"IF(COUNTIF(BD!$B$2:B4453,BD!B4453)=1,MAX($F$1:F4452)+1,\"\")","v":""},null,{"$f":"IF(AND(BD!B4453=REF,BD!D4453>=DEB,BD!D4453<=FIN),MAX(calc!$H$1:H4452)+1,0)","v":0}]
[null,null,null,null,null,{"$f":"IF(COUNTIF(BD!$B$2:B4454,BD!B4454)=1,MAX($F$1:F4453)+1,\"\")","v":""},null,{"$f":"IF(AND(BD!B4454=REF,BD!D4454>=DEB,BD!D4454<=FIN),MAX(calc!$H$1:H4453)+1,0)","v":0}]
[null,null,null,null,null,{"$f":"IF(COUNTIF(BD!$B$2:B4455,BD!B4455)=1,MAX($F$1:F4454)+1,\"\")","v":""},null,{"$f":"IF(AND(BD!B4455=REF,BD!D4455>=DEB,BD!D4455<=FIN),MAX(calc!$H$1:H4454)+1,0)","v":0}]
[null,null,null,null,null,{"$f":"IF(COUNTIF(BD!$B$2:B4456,BD!B4456)=1,MAX($F$1:F4455)+1,\"\")","v":""},null,{"$f":"IF(AND(BD!B4456=REF,BD!D4456>=DEB,BD!D4456<=FIN),MAX(calc!$H$1:H4455)+1,0)","v":0}]
[null,null,null,null,null,{"$f":"IF(COUNTIF(BD!$B$2:B4457,BD!B4457)=1,MAX($F$1:F4456)+1,\"\")","v":""},null,{"$f":"IF(AND(BD!B4457=REF,BD!D4457>=DEB,BD!D4457<=FIN),MAX(calc!$H$1:H4456)+1,0)","v":0}]
[null,null,null,null,null,{"$f":"IF(COUNTIF(BD!$B$2:B4458,BD!B4458)=1,MAX($F$1:F4457)+1,\"\")","v":""},null,{"$f":"IF(AND(BD!B4458=REF,BD!D4458>=DEB,BD!D4458<=FIN),MAX(calc!$H$1:H4457)+1,0)","v":0}]
[null,null,null,null,null,{"$f":"IF(COUNTIF(BD!$B$2:B4459,BD!B4459)=1,MAX($F$1:F4458)+1,\"\")","v":""},null,{"$f":"IF(AND(BD!B4459=REF,BD!D4459>=DEB,BD!D4459<=FIN),MAX(calc!$H$1:H4458)+1,0)","v":0}]
[null,null,null,null,null,{"$f":"IF(COUNTIF(BD!$B$2:B4460,BD!B4460)=1,MAX($F$1:F4459)+1,\"\")","v":""},null,{"$f":"IF(AND(BD!B4460=REF,BD!D4460>=DEB,BD!D4460<=FIN),MAX(calc!$H$1:H4459)+1,0)","v":0}]
[null,null,null,null,null,{"$f":"IF(COUNTIF(BD!$B$2:B4461,BD!B4461)=1,MAX($F$1:F4460)+1,\"\")","v":""},null,{"$f":"IF(AND(BD!B4461=REF,BD!D4461>=DEB,BD!D4461<=FIN),MAX(calc!$H$1:H4460)+1,0)","v":0}]
[null,null,null,null,null,{"$f":"IF(COUNTIF(BD!$B$2:B4462,BD!B4462)=1,MAX($F$1:F4461)+1,\"\")","v":""},null,{"$f":"IF(AND(BD!B4462=REF,BD!D4462>=DEB,BD!D4462<=FIN),MAX(calc!$H$1:H4461)+1,0)","v":0}]
[null,null,null,null,null,{"$f":"IF(COUNTIF(BD!$B$2:B4463,BD!B4463)=1,MAX($F$1:F4462)+1,\"\")","v":""},null,{"$f":"IF(AND(BD!B4463=REF,BD!D4463>=DEB,BD!D4463<=FIN),MAX(calc!$H$1:H4462)+1,0)","v":0}]
[null,null,null,null,null,{"$f":"IF(COUNTIF(BD!$B$2:B4464,BD!B4464)=1,MAX($F$1:F4463)+1,\"\")","v":""},null,{"$f":"IF(AND(BD!B4464=REF,BD!D4464>=DEB,BD!D4464<=FIN),MAX(calc!$H$1:H4463)+1,0)","v":0}]
[null,null,null,null,null,{"$f":"IF(COUNTIF(BD!$B$2:B4465,BD!B4465)=1,MAX($F$1:F4464)+1,\"\")","v":""},null,{"$f":"IF(AND(BD!B4465=REF,BD!D4465>=DEB,BD!D4465<=FIN),MAX(calc!$H$1:H4464)+1,0)","v":0}]
[null,null,null,null,null,{"$f":"IF(COUNTIF(BD!$B$2:B4466,BD!B4466)=1,MAX($F$1:F4465)+1,\"\")","v":""},null,{"$f":"IF(AND(BD!B4466=REF,BD!D4466>=DEB,BD!D4466<=FIN),MAX(calc!$H$1:H4465)+1,0)","v":0}]
[null,null,null,null,null,{"$f":"IF(COUNTIF(BD!$B$2:B4467,BD!B4467)=1,MAX($F$1:F4466)+1,\"\")","v":""},null,{"$f":"IF(AND(BD!B4467=REF,BD!D4467>=DEB,BD!D4467<=FIN),MAX(calc!$H$1:H4466)+1,0)","v":0}]
[null,null,null,null,null,{"$f":"IF(COUNTIF(BD!$B$2:B4468,BD!B4468)=1,MAX($F$1:F4467)+1,\"\")","v":""},null,{"$f":"IF(AND(BD!B4468=REF,BD!D4468>=DEB,BD!D4468<=FIN),MAX(calc!$H$1:H4467)+1,0)","v":0}]
[null,null,null,null,null,{"$f":"IF(COUNTIF(BD!$B$2:B4469,BD!B4469)=1,MAX($F$1:F4468)+1,\"\")","v":""},null,{"$f":"IF(AND(BD!B4469=REF,BD!D4469>=DEB,BD!D4469<=FIN),MAX(calc!$H$1:H4468)+1,0)","v":0}]
[null,null,null,null,null,{"$f":"IF(COUNTIF(BD!$B$2:B4470,BD!B4470)=1,MAX($F$1:F4469)+1,\"\")","v":""},null,{"$f":"IF(AND(BD!B4470=REF,BD!D4470>=DEB,BD!D4470<=FIN),MAX(calc!$H$1:H4469)+1,0)","v":0}]
[null,null,null,null,null,{"$f":"IF(COUNTIF(BD!$B$2:B4471,BD!B4471)=1,MAX($F$1:F4470)+1,\"\")","v":""},null,{"$f":"IF(AND(BD!B4471=REF,BD!D4471>=DEB,BD!D4471<=FIN),MAX(calc!$H$1:H4470)+1,0)","v":0}]
[null,null,null,null,null,{"$f":"IF(COUNTIF(BD!$B$2:B4472,BD!B4472)=1,MAX($F$1:F4471)+1,\"\")","v":""},null,{"$f":"IF(AND(BD!B4472=REF,BD!D4472>=DEB,BD!D4472<=FIN),MAX(calc!$H$1:H4471)+1,0)","v":0}]
[null,null,null,null,null,{"$f":"IF(COUNTIF(BD!$B$2:B4473,BD!B4473)=1,MAX($F$1:F4472)+1,\"\")","v":""},null,{"$f":"IF(AND(BD!B4473=REF,BD!D4473>=DEB,BD!D4473<=FIN),MAX(calc!$H$1:H4472)+1,0)","v":0}]
[null,null,null,null,null,{"$f":"IF(COUNTIF(BD!$B$2:B4474,BD!B4474)=1,MAX($F$1:F4473)+1,\"\")","v":""},null,{"$f":"IF(AND(BD!B4474=REF,BD!D4474>=DEB,BD!D4474<=FIN),MAX(calc!$H$1:H4473)+1,0)","v":0}]
[null,null,null,null,null,{"$f":"IF(COUNTIF(BD!$B$2:B4475,BD!B4475)=1,MAX($F$1:F4474)+1,\"\")","v":""},null,{"$f":"IF(AND(BD!B4475=REF,BD!D4475>=DEB,BD!D4475<=FIN),MAX(calc!$H$1:H4474)+1,0)","v":0}]
[null,null,null,null,null,{"$f":"IF(COUNTIF(BD!$B$2:B4476,BD!B4476)=1,MAX($F$1:F4475)+1,\"\")","v":""},null,{"$f":"IF(AND(BD!B4476=REF,BD!D4476>=DEB,BD!D4476<=FIN),MAX(calc!$H$1:H4475)+1,0)","v":0}]
[null,null,null,null,null,{"$f":"IF(COUNTIF(BD!$B$2:B4477,BD!B4477)=1,MAX($F$1:F4476)+1,\"\")","v":""},null,{"$f":"IF(AND(BD!B4477=REF,BD!D4477>=DEB,BD!D4477<=FIN),MAX(calc!$H$1:H4476)+1,0)","v":0}]
[null,null,null,null,null,{"$f":"IF(COUNTIF(BD!$B$2:B4478,BD!B4478)=1,MAX($F$1:F4477)+1,\"\")","v":""},null,{"$f":"IF(AND(BD!B4478=REF,BD!D4478>=DEB,BD!D4478<=FIN),MAX(calc!$H$1:H4477)+1,0)","v":0}]
[null,null,null,null,null,{"$f":"IF(COUNTIF(BD!$B$2:B4479,BD!B4479)=1,MAX($F$1:F4478)+1,\"\")","v":""},null,{"$f":"IF(AND(BD!B4479=REF,BD!D4479>=DEB,BD!D4479<=FIN),MAX(calc!$H$1:H4478)+1,0)","v":0}]
[null,null,null,null,null,{"$f":"IF(COUNTIF(BD!$B$2:B4480,BD!B4480)=1,MAX($F$1:F4479)+1,\"\")","v":""},null,{"$f":"IF(AND(BD!B4480=REF,BD!D4480>=DEB,BD!D4480<=FIN),MAX(calc!$H$1:H4479)+1,0)","v":0}]
[null,null,null,null,null,{"$f":"IF(COUNTIF(BD!$B$2:B4481,BD!B4481)=1,MAX($F$1:F4480)+1,\"\")","v":""},null,{"$f":"IF(AND(BD!B4481=REF,BD!D4481>=DEB,BD!D4481<=FIN),MAX(calc!$H$1:H4480)+1,0)","v":0}]
[null,null,null,null,null,{"$f":"IF(COUNTIF(BD!$B$2:B4482,BD!B4482)=1,MAX($F$1:F4481)+1,\"\")","v":""},null,{"$f":"IF(AND(BD!B4482=REF,BD!D4482>=DEB,BD!D4482<=FIN),MAX(calc!$H$1:H4481)+1,0)","v":0}]
[null,null,null,null,null,{"$f":"IF(COUNTIF(BD!$B$2:B4483,BD!B4483)=1,MAX($F$1:F4482)+1,\"\")","v":""},null,{"$f":"IF(AND(BD!B4483=REF,BD!D4483>=DEB,BD!D4483<=FIN),MAX(calc!$H$1:H4482)+1,0)","v":0}]
[null,null,null,null,null,{"$f":"IF(COUNTIF(BD!$B$2:B4484,BD!B4484)=1,MAX($F$1:F4483)+1,\"\")","v":""},null,{"$f":"IF(AND(BD!B4484=REF,BD!D4484>=DEB,BD!D4484<=FIN),MAX(calc!$H$1:H4483)+1,0)","v":0}]
[null,null,null,null,null,{"$f":"IF(COUNTIF(BD!$B$2:B4485,BD!B4485)=1,MAX($F$1:F4484)+1,\"\")","v":""},null,{"$f":"IF(AND(BD!B4485=REF,BD!D4485>=DEB,BD!D4485<=FIN),MAX(calc!$H$1:H4484)+1,0)","v":0}]
[null,null,null,null,null,{"$f":"IF(COUNTIF(BD!$B$2:B4486,BD!B4486)=1,MAX($F$1:F4485)+1,\"\")","v":""},null,{"$f":"IF(AND(BD!B4486=REF,BD!D4486>=DEB,BD!D4486<=FIN),MAX(calc!$H$1:H4485)+1,0)","v":0}]
[null,null,null,null,null,{"$f":"IF(COUNTIF(BD!$B$2:B4487,BD!B4487)=1,MAX($F$1:F4486)+1,\"\")","v":""},null,{"$f":"IF(AND(BD!B4487=REF,BD!D4487>=DEB,BD!D4487<=FIN),MAX(calc!$H$1:H4486)+1,0)","v":0}]
[null,null,null,null,null,{"$f":"IF(COUNTIF(BD!$B$2:B4488,BD!B4488)=1,MAX($F$1:F4487)+1,\"\")","v":""},null,{"$f":"IF(AND(BD!B4488=REF,BD!D4488>=DEB,BD!D4488<=FIN),MAX(calc!$H$1:H4487)+1,0)","v":0}]
[null,null,null,null,null,{"$f":"IF(COUNTIF(BD!$B$2:B4489,BD!B4489)=1,MAX($F$1:F4488)+1,\"\")","v":""},null,{"$f":"IF(AND(BD!B4489=REF,BD!D4489>=DEB,BD!D4489<=FIN),MAX(calc!$H$1:H4488)+1,0)","v":0}]
[null,null,null,null,null,{"$f":"IF(COUNTIF(BD!$B$2:B4490,BD!B4490)=1,MAX($F$1:F4489)+1,\"\")","v":""},null,{"$f":"IF(AND(BD!B4490=REF,BD!D4490>=DEB,BD!D4490<=FIN),MAX(calc!$H$1:H4489)+1,0)","v":0}]
[null,null,null,null,null,{"$f":"IF(COUNTIF(BD!$B$2:B4491,BD!B4491)=1,MAX($F$1:F4490)+1,\"\")","v":""},null,{"$f":"IF(AND(BD!B4491=REF,BD!D4491>=DEB,BD!D4491<=FIN),MAX(calc!$H$1:H4490)+1,0)","v":0}]
[null,null,null,null,null,{"$f":"IF(COUNTIF(BD!$B$2:B4492,BD!B4492)=1,MAX($F$1:F4491)+1,\"\")","v":""},null,{"$f":"IF(AND(BD!B4492=REF,BD!D4492>=DEB,BD!D4492<=FIN),MAX(calc!$H$1:H4491)+1,0)","v":0}]
[null,null,null,null,null,{"$f":"IF(COUNTIF(BD!$B$2:B4493,BD!B4493)=1,MAX($F$1:F4492)+1,\"\")","v":""},null,{"$f":"IF(AND(BD!B4493=REF,BD!D4493>=DEB,BD!D4493<=FIN),MAX(calc!$H$1:H4492)+1,0)","v":0}]
[null,null,null,null,null,{"$f":"IF(COUNTIF(BD!$B$2:B4494,BD!B4494)=1,MAX($F$1:F4493)+1,\"\")","v":""},null,{"$f":"IF(AND(BD!B4494=REF,BD!D4494>=DEB,BD!D4494<=FIN),MAX(calc!$H$1:H4493)+1,0)","v":0}]
[null,null,null,null,null,{"$f":"IF(COUNTIF(BD!$B$2:B4495,BD!B4495)=1,MAX($F$1:F4494)+1,\"\")","v":""},null,{"$f":"IF(AND(BD!B4495=REF,BD!D4495>=DEB,BD!D4495<=FIN),MAX(calc!$H$1:H4494)+1,0)","v":0}]
[null,null,null,null,null,{"$f":"IF(COUNTIF(BD!$B$2:B4496,BD!B4496)=1,MAX($F$1:F4495)+1,\"\")","v":""},null,{"$f":"IF(AND(BD!B4496=REF,BD!D4496>=DEB,BD!D4496<=FIN),MAX(calc!$H$1:H4495)+1,0)","v":0}]
[null,null,null,null,null,{"$f":"IF(COUNTIF(BD!$B$2:B4497,BD!B4497)=1,MAX($F$1:F4496)+1,\"\")","v":""},null,{"$f":"IF(AND(BD!B4497=REF,BD!D4497>=DEB,BD!D4497<=FIN),MAX(calc!$H$1:H4496)+1,0)","v":0}]
[null,null,null,null,null,{"$f":"IF(COUNTIF(BD!$B$2:B4498,BD!B4498)=1,MAX($F$1:F4497)+1,\"\")","v":""},null,{"$f":"IF(AND(BD!B4498=REF,BD!D4498>=DEB,BD!D4498<=FIN),MAX(calc!$H$1:H4497)+1,0)","v":0}]
[null,null,null,null,null,{"$f":"IF(COUNTIF(BD!$B$2:B4499,BD!B4499)=1,MAX($F$1:F4498)+1,\"\")","v":""},null,{"$f":"IF(AND(BD!B4499=REF,BD!D4499>=DEB,BD!D4499<=FIN),MAX(calc!$H$1:H4498)+1,0)","v":0}]
[null,null,null,null,null,{"$f":"IF(COUNTIF(BD!$B$2:B4500,BD!B4500)=1,MAX($F$1:F4499)+1,\"\")","v":""},null,{"$f":"IF(AND(BD!B4500=REF,BD!D4500>=DEB,BD!D4500<=FIN),MAX(calc!$H$1:H4499)+1,0)","v":0}]
[null,null,null,null,null,{"$f":"IF(COUNTIF(BD!$B$2:B4501,BD!B4501)=1,MAX($F$1:F4500)+1,\"\")","v":""},null,{"$f":"IF(AND(BD!B4501=REF,BD!D4501>=DEB,BD!D4501<=FIN),MAX(calc!$H$1:H4500)+1,0)","v":0}]
[null,null,null,null,null,{"$f":"IF(COUNTIF(BD!$B$2:B4502,BD!B4502)=1,MAX($F$1:F4501)+1,\"\")","v":""},null,{"$f":"IF(AND(BD!B4502=REF,BD!D4502>=DEB,BD!D4502<=FIN),MAX(calc!$H$1:H4501)+1,0)","v":0}]
[null,null,null,null,null,{"$f":"IF(COUNTIF(BD!$B$2:B4503,BD!B4503)=1,MAX($F$1:F4502)+1,\"\")","v":""},null,{"$f":"IF(AND(BD!B4503=REF,BD!D4503>=DEB,BD!D4503<=FIN),MAX(calc!$H$1:H4502)+1,0)","v":0}]
[null,null,null,null,null,{"$f":"IF(COUNTIF(BD!$B$2:B4504,BD!B4504)=1,MAX($F$1:F4503)+1,\"\")","v":""},null,{"$f":"IF(AND(BD!B4504=REF,BD!D4504>=DEB,BD!D4504<=FIN),MAX(calc!$H$1:H4503)+1,0)","v":0}]
[null,null,null,null,null,{"$f":"IF(COUNTIF(BD!$B$2:B4505,BD!B4505)=1,MAX($F$1:F4504)+1,\"\")","v":""},null,{"$f":"IF(AND(BD!B4505=REF,BD!D4505>=DEB,BD!D4505<=FIN),MAX(calc!$H$1:H4504)+1,0)","v":0}]
[null,null,null,null,null,{"$f":"IF(COUNTIF(BD!$B$2:B4506,BD!B4506)=1,MAX($F$1:F4505)+1,\"\")","v":""},null,{"$f":"IF(AND(BD!B4506=REF,BD!D4506>=DEB,BD!D4506<=FIN),MAX(calc!$H$1:H4505)+1,0)","v":0}]
[null,null,null,null,null,{"$f":"IF(COUNTIF(BD!$B$2:B4507,BD!B4507)=1,MAX($F$1:F4506)+1,\"\")","v":""},null,{"$f":"IF(AND(BD!B4507=REF,BD!D4507>=DEB,BD!D4507<=FIN),MAX(calc!$H$1:H4506)+1,0)","v":0}]
[null,null,null,null,null,{"$f":"IF(COUNTIF(BD!$B$2:B4508,BD!B4508)=1,MAX($F$1:F4507)+1,\"\")","v":""},null,{"$f":"IF(AND(BD!B4508=REF,BD!D4508>=DEB,BD!D4508<=FIN),MAX(calc!$H$1:H4507)+1,0)","v":0}]
[null,null,null,null,null,{"$f":"IF(COUNTIF(BD!$B$2:B4509,BD!B4509)=1,MAX($F$1:F4508)+1,\"\")","v":""},null,{"$f":"IF(AND(BD!B4509=REF,BD!D4509>=DEB,BD!D4509<=FIN),MAX(calc!$H$1:H4508)+1,0)","v":0}]
[null,null,null,null,null,{"$f":"IF(COUNTIF(BD!$B$2:B4510,BD!B4510)=1,MAX($F$1:F4509)+1,\"\")","v":""},null,{"$f":"IF(AND(BD!B4510=REF,BD!D4510>=DEB,BD!D4510<=FIN),MAX(calc!$H$1:H4509)+1,0)","v":0}]
[null,null,null,null,null,{"$f":"IF(COUNTIF(BD!$B$2:B4511,BD!B4511)=1,MAX($F$1:F4510)+1,\"\")","v":""},null,{"$f":"IF(AND(BD!B4511=REF,BD!D4511>=DEB,BD!D4511<=FIN),MAX(calc!$H$1:H4510)+1,0)","v":0}]
[null,null,null,null,null,{"$f":"IF(COUNTIF(BD!$B$2:B4512,BD!B4512)=1,MAX($F$1:F4511)+1,\"\")","v":""},null,{"$f":"IF(AND(BD!B4512=REF,BD!D4512>=DEB,BD!D4512<=FIN),MAX(calc!$H$1:H4511)+1,0)","v":0}]
[null,null,null,null,null,{"$f":"IF(COUNTIF(BD!$B$2:B4513,BD!B4513)=1,MAX($F$1:F4512)+1,\"\")","v":""},null,{"$f":"IF(AND(BD!B4513=REF,BD!D4513>=DEB,BD!D4513<=FIN),MAX(calc!$H$1:H4512)+1,0)","v":0}]
[null,null,null,null,null,{"$f":"IF(COUNTIF(BD!$B$2:B4514,BD!B4514)=1,MAX($F$1:F4513)+1,\"\")","v":""},null,{"$f":"IF(AND(BD!B4514=REF,BD!D4514>=DEB,BD!D4514<=FIN),MAX(calc!$H$1:H4513)+1,0)","v":0}]
[null,null,null,null,null,{"$f":"IF(COUNTIF(BD!$B$2:B4515,BD!B4515)=1,MAX($F$1:F4514)+1,\"\")","v":""},null,{"$f":"IF(AND(BD!B4515=REF,BD!D4515>=DEB,BD!D4515<=FIN),MAX(calc!$H$1:H4514)+1,0)","v":0}]
[null,null,null,null,null,{"$f":"IF(COUNTIF(BD!$B$2:B4516,BD!B4516)=1,MAX($F$1:F4515)+1,\"\")","v":""},null,{"$f":"IF(AND(BD!B4516=REF,BD!D4516>=DEB,BD!D4516<=FIN),MAX(calc!$H$1:H4515)+1,0)","v":0}]
[null,null,null,null,null,{"$f":"IF(COUNTIF(BD!$B$2:B4517,BD!B4517)=1,MAX($F$1:F4516)+1,\"\")","v":""},null,{"$f":"IF(AND(BD!B4517=REF,BD!D4517>=DEB,BD!D4517<=FIN),MAX(calc!$H$1:H4516)+1,0)","v":0}]
[null,null,null,null,null,{"$f":"IF(COUNTIF(BD!$B$2:B4518,BD!B4518)=1,MAX($F$1:F4517)+1,\"\")","v":""},null,{"$f":"IF(AND(BD!B4518=REF,BD!D4518>=DEB,BD!D4518<=FIN),MAX(calc!$H$1:H4517)+1,0)","v":0}]
[null,null,null,null,null,{"$f":"IF(COUNTIF(BD!$B$2:B4519,BD!B4519)=1,MAX($F$1:F4518)+1,\"\")","v":""},null,{"$f":"IF(AND(BD!B4519=REF,BD!D4519>=DEB,BD!D4519<=FIN),MAX(calc!$H$1:H4518)+1,0)","v":0}]
[null,null,null,null,null,{"$f":"IF(COUNTIF(BD!$B$2:B4520,BD!B4520)=1,MAX($F$1:F4519)+1,\"\")","v":""},null,{"$f":"IF(AND(BD!B4520=REF,BD!D4520>=DEB,BD!D4520<=FIN),MAX(calc!$H$1:H4519)+1,0)","v":0}]
[null,null,null,null,null,{"$f":"IF(COUNTIF(BD!$B$2:B4521,BD!B4521)=1,MAX($F$1:F4520)+1,\"\")","v":""},null,{"$f":"IF(AND(BD!B4521=REF,BD!D4521>=DEB,BD!D4521<=FIN),MAX(calc!$H$1:H4520)+1,0)","v":0}]
[null,null,null,null,null,{"$f":"IF(COUNTIF(BD!$B$2:B4522,BD!B4522)=1,MAX($F$1:F4521)+1,\"\")","v":""},null,{"$f":"IF(AND(BD!B4522=REF,BD!D4522>=DEB,BD!D4522<=FIN),MAX(calc!$H$1:H4521)+1,0)","v":0}]
[null,null,null,null,null,{"$f":"IF(COUNTIF(BD!$B$2:B4523,BD!B4523)=1,MAX($F$1:F4522)+1,\"\")","v":""},null,{"$f":"IF(AND(BD!B4523=REF,BD!D4523>=DEB,BD!D4523<=FIN),MAX(calc!$H$1:H4522)+1,0)","v":0}]
[null,null,null,null,null,{"$f":"IF(COUNTIF(BD!$B$2:B4524,BD!B4524)=1,MAX($F$1:F4523)+1,\"\")","v":""},null,{"$f":"IF(AND(BD!B4524=REF,BD!D4524>=DEB,BD!D4524<=FIN),MAX(calc!$H$1:H4523)+1,0)","v":0}]
[null,null,null,null,null,{"$f":"IF(COUNTIF(BD!$B$2:B4525,BD!B4525)=1,MAX($F$1:F4524)+1,\"\")","v":""},null,{"$f":"IF(AND(BD!B4525=REF,BD!D4525>=DEB,BD!D4525<=FIN),MAX(calc!$H$1:H4524)+1,0)","v":0}]
[null,null,null,null,null,{"$f":"IF(COUNTIF(BD!$B$2:B4526,BD!B4526)=1,MAX($F$1:F4525)+1,\"\")","v":""},null,{"$f":"IF(AND(BD!B4526=REF,BD!D4526>=DEB,BD!D4526<=FIN),MAX(calc!$H$1:H4525)+1,0)","v":0}]
[null,null,null,null,null,{"$f":"IF(COUNTIF(BD!$B$2:B4527,BD!B4527)=1,MAX($F$1:F4526)+1,\"\")","v":""},null,{"$f":"IF(AND(BD!B4527=REF,BD!D4527>=DEB,BD!D4527<=FIN),MAX(calc!$H$1:H4526)+1,0)","v":0}]
[null,null,null,null,null,{"$f":"IF(COUNTIF(BD!$B$2:B4528,BD!B4528)=1,MAX($F$1:F4527)+1,\"\")","v":""},null,{"$f":"IF(AND(BD!B4528=REF,BD!D4528>=DEB,BD!D4528<=FIN),MAX(calc!$H$1:H4527)+1,0)","v":0}]
[null,null,null,null,null,{"$f":"IF(COUNTIF(BD!$B$2:B4529,BD!B4529)=1,MAX($F$1:F4528)+1,\"\")","v":""},null,{"$f":"IF(AND(BD!B4529=REF,BD!D4529>=DEB,BD!D4529<=FIN),MAX(calc!$H$1:H4528)+1,0)","v":0}]
[null,null,null,null,null,{"$f":"IF(COUNTIF(BD!$B$2:B4530,BD!B4530)=1,MAX($F$1:F4529)+1,\"\")","v":""},null,{"$f":"IF(AND(BD!B4530=REF,BD!D4530>=DEB,BD!D4530<=FIN),MAX(calc!$H$1:H4529)+1,0)","v":0}]
[null,null,null,null,null,{"$f":"IF(COUNTIF(BD!$B$2:B4531,BD!B4531)=1,MAX($F$1:F4530)+1,\"\")","v":""},null,{"$f":"IF(AND(BD!B4531=REF,BD!D4531>=DEB,BD!D4531<=FIN),MAX(calc!$H$1:H4530)+1,0)","v":0}]
[null,null,null,null,null,{"$f":"IF(COUNTIF(BD!$B$2:B4532,BD!B4532)=1,MAX($F$1:F4531)+1,\"\")","v":""},null,{"$f":"IF(AND(BD!B4532=REF,BD!D4532>=DEB,BD!D4532<=FIN),MAX(calc!$H$1:H4531)+1,0)","v":0}]
[null,null,null,null,null,{"$f":"IF(COUNTIF(BD!$B$2:B4533,BD!B4533)=1,MAX($F$1:F4532)+1,\"\")","v":""},null,{"$f":"IF(AND(BD!B4533=REF,BD!D4533>=DEB,BD!D4533<=FIN),MAX(calc!$H$1:H4532)+1,0)","v":0}]
[null,null,null,null,null,{"$f":"IF(COUNTIF(BD!$B$2:B4534,BD!B4534)=1,MAX($F$1:F4533)+1,\"\")","v":""},null,{"$f":"IF(AND(BD!B4534=REF,BD!D4534>=DEB,BD!D4534<=FIN),MAX(calc!$H$1:H4533)+1,0)","v":0}]
[null,null,null,null,null,{"$f":"IF(COUNTIF(BD!$B$2:B4535,BD!B4535)=1,MAX($F$1:F4534)+1,\"\")","v":""},null,{"$f":"IF(AND(BD!B4535=REF,BD!D4535>=DEB,BD!D4535<=FIN),MAX(calc!$H$1:H4534)+1,0)","v":0}]
[null,null,null,null,null,{"$f":"IF(COUNTIF(BD!$B$2:B4536,BD!B4536)=1,MAX($F$1:F4535)+1,\"\")","v":""},null,{"$f":"IF(AND(BD!B4536=REF,BD!D4536>=DEB,BD!D4536<=FIN),MAX(calc!$H$1:H4535)+1,0)","v":0}]
[null,null,null,null,null,{"$f":"IF(COUNTIF(BD!$B$2:B4537,BD!B4537)=1,MAX($F$1:F4536)+1,\"\")","v":""},null,{"$f":"IF(AND(BD!B4537=REF,BD!D4537>=DEB,BD!D4537<=FIN),MAX(calc!$H$1:H4536)+1,0)","v":0}]
[null,null,null,null,null,{"$f":"IF(COUNTIF(BD!$B$2:B4538,BD!B4538)=1,MAX($F$1:F4537)+1,\"\")","v":""},null,{"$f":"IF(AND(BD!B4538=REF,BD!D4538>=DEB,BD!D4538<=FIN),MAX(calc!$H$1:H4537)+1,0)","v":0}]
[null,null,null,null,null,{"$f":"IF(COUNTIF(BD!$B$2:B4539,BD!B4539)=1,MAX($F$1:F4538)+1,\"\")","v":""},null,{"$f":"IF(AND(BD!B4539=REF,BD!D4539>=DEB,BD!D4539<=FIN),MAX(calc!$H$1:H4538)+1,0)","v":0}]
[null,null,null,null,null,{"$f":"IF(COUNTIF(BD!$B$2:B4540,BD!B4540)=1,MAX($F$1:F4539)+1,\"\")","v":""},null,{"$f":"IF(AND(BD!B4540=REF,BD!D4540>=DEB,BD!D4540<=FIN),MAX(calc!$H$1:H4539)+1,0)","v":0}]
[null,null,null,null,null,{"$f":"IF(COUNTIF(BD!$B$2:B4541,BD!B4541)=1,MAX($F$1:F4540)+1,\"\")","v":""},null,{"$f":"IF(AND(BD!B4541=REF,BD!D4541>=DEB,BD!D4541<=FIN),MAX(calc!$H$1:H4540)+1,0)","v":0}]
[null,null,null,null,null,{"$f":"IF(COUNTIF(BD!$B$2:B4542,BD!B4542)=1,MAX($F$1:F4541)+1,\"\")","v":""},null,{"$f":"IF(AND(BD!B4542=REF,BD!D4542>=DEB,BD!D4542<=FIN),MAX(calc!$H$1:H4541)+1,0)","v":0}]
[null,null,null,null,null,{"$f":"IF(COUNTIF(BD!$B$2:B4543,BD!B4543)=1,MAX($F$1:F4542)+1,\"\")","v":""},null,{"$f":"IF(AND(BD!B4543=REF,BD!D4543>=DEB,BD!D4543<=FIN),MAX(calc!$H$1:H4542)+1,0)","v":0}]
[null,null,null,null,null,{"$f":"IF(COUNTIF(BD!$B$2:B4544,BD!B4544)=1,MAX($F$1:F4543)+1,\"\")","v":""},null,{"$f":"IF(AND(BD!B4544=REF,BD!D4544>=DEB,BD!D4544<=FIN),MAX(calc!$H$1:H4543)+1,0)","v":0}]
[null,null,null,null,null,{"$f":"IF(COUNTIF(BD!$B$2:B4545,BD!B4545)=1,MAX($F$1:F4544)+1,\"\")","v":""},null,{"$f":"IF(AND(BD!B4545=REF,BD!D4545>=DEB,BD!D4545<=FIN),MAX(calc!$H$1:H4544)+1,0)","v":0}]
[null,null,null,null,null,{"$f":"IF(COUNTIF(BD!$B$2:B4546,BD!B4546)=1,MAX($F$1:F4545)+1,\"\")","v":""},null,{"$f":"IF(AND(BD!B4546=REF,BD!D4546>=DEB,BD!D4546<=FIN),MAX(calc!$H$1:H4545)+1,0)","v":0}]
[null,null,null,null,null,{"$f":"IF(COUNTIF(BD!$B$2:B4547,BD!B4547)=1,MAX($F$1:F4546)+1,\"\")","v":""},null,{"$f":"IF(AND(BD!B4547=REF,BD!D4547>=DEB,BD!D4547<=FIN),MAX(calc!$H$1:H4546)+1,0)","v":0}]
[null,null,null,null,null,{"$f":"IF(COUNTIF(BD!$B$2:B4548,BD!B4548)=1,MAX($F$1:F4547)+1,\"\")","v":""},null,{"$f":"IF(AND(BD!B4548=REF,BD!D4548>=DEB,BD!D4548<=FIN),MAX(calc!$H$1:H4547)+1,0)","v":0}]
[null,null,null,null,null,{"$f":"IF(COUNTIF(BD!$B$2:B4549,BD!B4549)=1,MAX($F$1:F4548)+1,\"\")","v":""},null,{"$f":"IF(AND(BD!B4549=REF,BD!D4549>=DEB,BD!D4549<=FIN),MAX(calc!$H$1:H4548)+1,0)","v":0}]
[null,null,null,null,null,{"$f":"IF(COUNTIF(BD!$B$2:B4550,BD!B4550)=1,MAX($F$1:F4549)+1,\"\")","v":""},null,{"$f":"IF(AND(BD!B4550=REF,BD!D4550>=DEB,BD!D4550<=FIN),MAX(calc!$H$1:H4549)+1,0)","v":0}]
[null,null,null,null,null,{"$f":"IF(COUNTIF(BD!$B$2:B4551,BD!B4551)=1,MAX($F$1:F4550)+1,\"\")","v":""},null,{"$f":"IF(AND(BD!B4551=REF,BD!D4551>=DEB,BD!D4551<=FIN),MAX(calc!$H$1:H4550)+1,0)","v":0}]
[null,null,null,null,null,{"$f":"IF(COUNTIF(BD!$B$2:B4552,BD!B4552)=1,MAX($F$1:F4551)+1,\"\")","v":""},null,{"$f":"IF(AND(BD!B4552=REF,BD!D4552>=DEB,BD!D4552<=FIN),MAX(calc!$H$1:H4551)+1,0)","v":0}]
[null,null,null,null,null,{"$f":"IF(COUNTIF(BD!$B$2:B4553,BD!B4553)=1,MAX($F$1:F4552)+1,\"\")","v":""},null,{"$f":"IF(AND(BD!B4553=REF,BD!D4553>=DEB,BD!D4553<=FIN),MAX(calc!$H$1:H4552)+1,0)","v":0}]
[null,null,null,null,null,{"$f":"IF(COUNTIF(BD!$B$2:B4554,BD!B4554)=1,MAX($F$1:F4553)+1,\"\")","v":""},null,{"$f":"IF(AND(BD!B4554=REF,BD!D4554>=DEB,BD!D4554<=FIN),MAX(calc!$H$1:H4553)+1,0)","v":0}]
[null,null,null,null,null,{"$f":"IF(COUNTIF(BD!$B$2:B4555,BD!B4555)=1,MAX($F$1:F4554)+1,\"\")","v":""},null,{"$f":"IF(AND(BD!B4555=REF,BD!D4555>=DEB,BD!D4555<=FIN),MAX(calc!$H$1:H4554)+1,0)","v":0}]
[null,null,null,null,null,{"$f":"IF(COUNTIF(BD!$B$2:B4556,BD!B4556)=1,MAX($F$1:F4555)+1,\"\")","v":""},null,{"$f":"IF(AND(BD!B4556=REF,BD!D4556>=DEB,BD!D4556<=FIN),MAX(calc!$H$1:H4555)+1,0)","v":0}]
[null,null,null,null,null,{"$f":"IF(COUNTIF(BD!$B$2:B4557,BD!B4557)=1,MAX($F$1:F4556)+1,\"\")","v":""},null,{"$f":"IF(AND(BD!B4557=REF,BD!D4557>=DEB,BD!D4557<=FIN),MAX(calc!$H$1:H4556)+1,0)","v":0}]
[null,null,null,null,null,{"$f":"IF(COUNTIF(BD!$B$2:B4558,BD!B4558)=1,MAX($F$1:F4557)+1,\"\")","v":""},null,{"$f":"IF(AND(BD!B4558=REF,BD!D4558>=DEB,BD!D4558<=FIN),MAX(calc!$H$1:H4557)+1,0)","v":0}]
[null,null,null,null,null,{"$f":"IF(COUNTIF(BD!$B$2:B4559,BD!B4559)=1,MAX($F$1:F4558)+1,\"\")","v":""},null,{"$f":"IF(AND(BD!B4559=REF,BD!D4559>=DEB,BD!D4559<=FIN),MAX(calc!$H$1:H4558)+1,0)","v":0}]
[null,null,null,null,null,{"$f":"IF(COUNTIF(BD!$B$2:B4560,BD!B4560)=1,MAX($F$1:F4559)+1,\"\")","v":""},null,{"$f":"IF(AND(BD!B4560=REF,BD!D4560>=DEB,BD!D4560<=FIN),MAX(calc!$H$1:H4559)+1,0)","v":0}]
[null,null,null,null,null,{"$f":"IF(COUNTIF(BD!$B$2:B4561,BD!B4561)=1,MAX($F$1:F4560)+1,\"\")","v":""},null,{"$f":"IF(AND(BD!B4561=REF,BD!D4561>=DEB,BD!D4561<=FIN),MAX(calc!$H$1:H4560)+1,0)","v":0}]
[null,null,null,null,null,{"$f":"IF(COUNTIF(BD!$B$2:B4562,BD!B4562)=1,MAX($F$1:F4561)+1,\"\")","v":""},null,{"$f":"IF(AND(BD!B4562=REF,BD!D4562>=DEB,BD!D4562<=FIN),MAX(calc!$H$1:H4561)+1,0)","v":0}]
[null,null,null,null,null,{"$f":"IF(COUNTIF(BD!$B$2:B4563,BD!B4563)=1,MAX($F$1:F4562)+1,\"\")","v":""},null,{"$f":"IF(AND(BD!B4563=REF,BD!D4563>=DEB,BD!D4563<=FIN),MAX(calc!$H$1:H4562)+1,0)","v":0}]
[null,null,null,null,null,{"$f":"IF(COUNTIF(BD!$B$2:B4564,BD!B4564)=1,MAX($F$1:F4563)+1,\"\")","v":""},null,{"$f":"IF(AND(BD!B4564=REF,BD!D4564>=DEB,BD!D4564<=FIN),MAX(calc!$H$1:H4563)+1,0)","v":0}]
[null,null,null,null,null,{"$f":"IF(COUNTIF(BD!$B$2:B4565,BD!B4565)=1,MAX($F$1:F4564)+1,\"\")","v":""},null,{"$f":"IF(AND(BD!B4565=REF,BD!D4565>=DEB,BD!D4565<=FIN),MAX(calc!$H$1:H4564)+1,0)","v":0}]
[null,null,null,null,null,{"$f":"IF(COUNTIF(BD!$B$2:B4566,BD!B4566)=1,MAX($F$1:F4565)+1,\"\")","v":""},null,{"$f":"IF(AND(BD!B4566=REF,BD!D4566>=DEB,BD!D4566<=FIN),MAX(calc!$H$1:H4565)+1,0)","v":0}]
[null,null,null,null,null,{"$f":"IF(COUNTIF(BD!$B$2:B4567,BD!B4567)=1,MAX($F$1:F4566)+1,\"\")","v":""},null,{"$f":"IF(AND(BD!B4567=REF,BD!D4567>=DEB,BD!D4567<=FIN),MAX(calc!$H$1:H4566)+1,0)","v":0}]
[null,null,null,null,null,{"$f":"IF(COUNTIF(BD!$B$2:B4568,BD!B4568)=1,MAX($F$1:F4567)+1,\"\")","v":""},null,{"$f":"IF(AND(BD!B4568=REF,BD!D4568>=DEB,BD!D4568<=FIN),MAX(calc!$H$1:H4567)+1,0)","v":0}]
[null,null,null,null,null,{"$f":"IF(COUNTIF(BD!$B$2:B4569,BD!B4569)=1,MAX($F$1:F4568)+1,\"\")","v":""},null,{"$f":"IF(AND(BD!B4569=REF,BD!D4569>=DEB,BD!D4569<=FIN),MAX(calc!$H$1:H4568)+1,0)","v":0}]
[null,null,null,null,null,{"$f":"IF(COUNTIF(BD!$B$2:B4570,BD!B4570)=1,MAX($F$1:F4569)+1,\"\")","v":""},null,{"$f":"IF(AND(BD!B4570=REF,BD!D4570>=DEB,BD!D4570<=FIN),MAX(calc!$H$1:H4569)+1,0)","v":0}]
[null,null,null,null,null,{"$f":"IF(COUNTIF(BD!$B$2:B4571,BD!B4571)=1,MAX($F$1:F4570)+1,\"\")","v":""},null,{"$f":"IF(AND(BD!B4571=REF,BD!D4571>=DEB,BD!D4571<=FIN),MAX(calc!$H$1:H4570)+1,0)","v":0}]
[null,null,null,null,null,{"$f":"IF(COUNTIF(BD!$B$2:B4572,BD!B4572)=1,MAX($F$1:F4571)+1,\"\")","v":""},null,{"$f":"IF(AND(BD!B4572=REF,BD!D4572>=DEB,BD!D4572<=FIN),MAX(calc!$H$1:H4571)+1,0)","v":0}]
[null,null,null,null,null,{"$f":"IF(COUNTIF(BD!$B$2:B4573,BD!B4573)=1,MAX($F$1:F4572)+1,\"\")","v":""},null,{"$f":"IF(AND(BD!B4573=REF,BD!D4573>=DEB,BD!D4573<=FIN),MAX(calc!$H$1:H4572)+1,0)","v":0}]
[null,null,null,null,null,{"$f":"IF(COUNTIF(BD!$B$2:B4574,BD!B4574)=1,MAX($F$1:F4573)+1,\"\")","v":""},null,{"$f":"IF(AND(BD!B4574=REF,BD!D4574>=DEB,BD!D4574<=FIN),MAX(calc!$H$1:H4573)+1,0)","v":0}]
[null,null,null,null,null,{"$f":"IF(COUNTIF(BD!$B$2:B4575,BD!B4575)=1,MAX($F$1:F4574)+1,\"\")","v":""},null,{"$f":"IF(AND(BD!B4575=REF,BD!D4575>=DEB,BD!D4575<=FIN),MAX(calc!$H$1:H4574)+1,0)","v":0}]
[null,null,null,null,null,{"$f":"IF(COUNTIF(BD!$B$2:B4576,BD!B4576)=1,MAX($F$1:F4575)+1,\"\")","v":""},null,{"$f":"IF(AND(BD!B4576=REF,BD!D4576>=DEB,BD!D4576<=FIN),MAX(calc!$H$1:H4575)+1,0)","v":0}]
[null,null,null,null,null,{"$f":"IF(COUNTIF(BD!$B$2:B4577,BD!B4577)=1,MAX($F$1:F4576)+1,\"\")","v":""},null,{"$f":"IF(AND(BD!B4577=REF,BD!D4577>=DEB,BD!D4577<=FIN),MAX(calc!$H$1:H4576)+1,0)","v":0}]
[null,null,null,null,null,{"$f":"IF(COUNTIF(BD!$B$2:B4578,BD!B4578)=1,MAX($F$1:F4577)+1,\"\")","v":""},null,{"$f":"IF(AND(BD!B4578=REF,BD!D4578>=DEB,BD!D4578<=FIN),MAX(calc!$H$1:H4577)+1,0)","v":0}]
[null,null,null,null,null,{"$f":"IF(COUNTIF(BD!$B$2:B4579,BD!B4579)=1,MAX($F$1:F4578)+1,\"\")","v":""},null,{"$f":"IF(AND(BD!B4579=REF,BD!D4579>=DEB,BD!D4579<=FIN),MAX(calc!$H$1:H4578)+1,0)","v":0}]
[null,null,null,null,null,{"$f":"IF(COUNTIF(BD!$B$2:B4580,BD!B4580)=1,MAX($F$1:F4579)+1,\"\")","v":""},null,{"$f":"IF(AND(BD!B4580=REF,BD!D4580>=DEB,BD!D4580<=FIN),MAX(calc!$H$1:H4579)+1,0)","v":0}]
[null,null,null,null,null,{"$f":"IF(COUNTIF(BD!$B$2:B4581,BD!B4581)=1,MAX($F$1:F4580)+1,\"\")","v":""},null,{"$f":"IF(AND(BD!B4581=REF,BD!D4581>=DEB,BD!D4581<=FIN),MAX(calc!$H$1:H4580)+1,0)","v":0}]
[null,null,null,null,null,{"$f":"IF(COUNTIF(BD!$B$2:B4582,BD!B4582)=1,MAX($F$1:F4581)+1,\"\")","v":""},null,{"$f":"IF(AND(BD!B4582=REF,BD!D4582>=DEB,BD!D4582<=FIN),MAX(calc!$H$1:H4581)+1,0)","v":0}]
[null,null,null,null,null,{"$f":"IF(COUNTIF(BD!$B$2:B4583,BD!B4583)=1,MAX($F$1:F4582)+1,\"\")","v":""},null,{"$f":"IF(AND(BD!B4583=REF,BD!D4583>=DEB,BD!D4583<=FIN),MAX(calc!$H$1:H4582)+1,0)","v":0}]
[null,null,null,null,null,{"$f":"IF(COUNTIF(BD!$B$2:B4584,BD!B4584)=1,MAX($F$1:F4583)+1,\"\")","v":""},null,{"$f":"IF(AND(BD!B4584=REF,BD!D4584>=DEB,BD!D4584<=FIN),MAX(calc!$H$1:H4583)+1,0)","v":0}]
[null,null,null,null,null,{"$f":"IF(COUNTIF(BD!$B$2:B4585,BD!B4585)=1,MAX($F$1:F4584)+1,\"\")","v":""},null,{"$f":"IF(AND(BD!B4585=REF,BD!D4585>=DEB,BD!D4585<=FIN),MAX(calc!$H$1:H4584)+1,0)","v":0}]
[null,null,null,null,null,{"$f":"IF(COUNTIF(BD!$B$2:B4586,BD!B4586)=1,MAX($F$1:F4585)+1,\"\")","v":""},null,{"$f":"IF(AND(BD!B4586=REF,BD!D4586>=DEB,BD!D4586<=FIN),MAX(calc!$H$1:H4585)+1,0)","v":0}]
[null,null,null,null,null,{"$f":"IF(COUNTIF(BD!$B$2:B4587,BD!B4587)=1,MAX($F$1:F4586)+1,\"\")","v":""},null,{"$f":"IF(AND(BD!B4587=REF,BD!D4587>=DEB,BD!D4587<=FIN),MAX(calc!$H$1:H4586)+1,0)","v":0}]
[null,null,null,null,null,{"$f":"IF(COUNTIF(BD!$B$2:B4588,BD!B4588)=1,MAX($F$1:F4587)+1,\"\")","v":""},null,{"$f":"IF(AND(BD!B4588=REF,BD!D4588>=DEB,BD!D4588<=FIN),MAX(calc!$H$1:H4587)+1,0)","v":0}]
[null,null,null,null,null,{"$f":"IF(COUNTIF(BD!$B$2:B4589,BD!B4589)=1,MAX($F$1:F4588)+1,\"\")","v":""},null,{"$f":"IF(AND(BD!B4589=REF,BD!D4589>=DEB,BD!D4589<=FIN),MAX(calc!$H$1:H4588)+1,0)","v":0}]
[null,null,null,null,null,{"$f":"IF(COUNTIF(BD!$B$2:B4590,BD!B4590)=1,MAX($F$1:F4589)+1,\"\")","v":""},null,{"$f":"IF(AND(BD!B4590=REF,BD!D4590>=DEB,BD!D4590<=FIN),MAX(calc!$H$1:H4589)+1,0)","v":0}]
[null,null,null,null,null,{"$f":"IF(COUNTIF(BD!$B$2:B4591,BD!B4591)=1,MAX($F$1:F4590)+1,\"\")","v":""},null,{"$f":"IF(AND(BD!B4591=REF,BD!D4591>=DEB,BD!D4591<=FIN),MAX(calc!$H$1:H4590)+1,0)","v":0}]
[null,null,null,null,null,{"$f":"IF(COUNTIF(BD!$B$2:B4592,BD!B4592)=1,MAX($F$1:F4591)+1,\"\")","v":""},null,{"$f":"IF(AND(BD!B4592=REF,BD!D4592>=DEB,BD!D4592<=FIN),MAX(calc!$H$1:H4591)+1,0)","v":0}]
[null,null,null,null,null,{"$f":"IF(COUNTIF(BD!$B$2:B4593,BD!B4593)=1,MAX($F$1:F4592)+1,\"\")","v":""},null,{"$f":"IF(AND(BD!B4593=REF,BD!D4593>=DEB,BD!D4593<=FIN),MAX(calc!$H$1:H4592)+1,0)","v":0}]
[null,null,null,null,null,{"$f":"IF(COUNTIF(BD!$B$2:B4594,BD!B4594)=1,MAX($F$1:F4593)+1,\"\")","v":""},null,{"$f":"IF(AND(BD!B4594=REF,BD!D4594>=DEB,BD!D4594<=FIN),MAX(calc!$H$1:H4593)+1,0)","v":0}]
[null,null,null,null,null,{"$f":"IF(COUNTIF(BD!$B$2:B4595,BD!B4595)=1,MAX($F$1:F4594)+1,\"\")","v":""},null,{"$f":"IF(AND(BD!B4595=REF,BD!D4595>=DEB,BD!D4595<=FIN),MAX(calc!$H$1:H4594)+1,0)","v":0}]
[null,null,null,null,null,{"$f":"IF(COUNTIF(BD!$B$2:B4596,BD!B4596)=1,MAX($F$1:F4595)+1,\"\")","v":""},null,{"$f":"IF(AND(BD!B4596=REF,BD!D4596>=DEB,BD!D4596<=FIN),MAX(calc!$H$1:H4595)+1,0)","v":0}]
[null,null,null,null,null,{"$f":"IF(COUNTIF(BD!$B$2:B4597,BD!B4597)=1,MAX($F$1:F4596)+1,\"\")","v":""},null,{"$f":"IF(AND(BD!B4597=REF,BD!D4597>=DEB,BD!D4597<=FIN),MAX(calc!$H$1:H4596)+1,0)","v":0}]
[null,null,null,null,null,{"$f":"IF(COUNTIF(BD!$B$2:B4598,BD!B4598)=1,MAX($F$1:F4597)+1,\"\")","v":""},null,{"$f":"IF(AND(BD!B4598=REF,BD!D4598>=DEB,BD!D4598<=FIN),MAX(calc!$H$1:H4597)+1,0)","v":0}]
[null,null,null,null,null,{"$f":"IF(COUNTIF(BD!$B$2:B4599,BD!B4599)=1,MAX($F$1:F4598)+1,\"\")","v":""},null,{"$f":"IF(AND(BD!B4599=REF,BD!D4599>=DEB,BD!D4599<=FIN),MAX(calc!$H$1:H4598)+1,0)","v":0}]
[null,null,null,null,null,{"$f":"IF(COUNTIF(BD!$B$2:B4600,BD!B4600)=1,MAX($F$1:F4599)+1,\"\")","v":""},null,{"$f":"IF(AND(BD!B4600=REF,BD!D4600>=DEB,BD!D4600<=FIN),MAX(calc!$H$1:H4599)+1,0)","v":0}]
[null,null,null,null,null,{"$f":"IF(COUNTIF(BD!$B$2:B4601,BD!B4601)=1,MAX($F$1:F4600)+1,\"\")","v":""},null,{"$f":"IF(AND(BD!B4601=REF,BD!D4601>=DEB,BD!D4601<=FIN),MAX(calc!$H$1:H4600)+1,0)","v":0}]
[null,null,null,null,null,{"$f":"IF(COUNTIF(BD!$B$2:B4602,BD!B4602)=1,MAX($F$1:F4601)+1,\"\")","v":""},null,{"$f":"IF(AND(BD!B4602=REF,BD!D4602>=DEB,BD!D4602<=FIN),MAX(calc!$H$1:H4601)+1,0)","v":0}]
[null,null,null,null,null,{"$f":"IF(COUNTIF(BD!$B$2:B4603,BD!B4603)=1,MAX($F$1:F4602)+1,\"\")","v":""},null,{"$f":"IF(AND(BD!B4603=REF,BD!D4603>=DEB,BD!D4603<=FIN),MAX(calc!$H$1:H4602)+1,0)","v":0}]
[null,null,null,null,null,{"$f":"IF(COUNTIF(BD!$B$2:B4604,BD!B4604)=1,MAX($F$1:F4603)+1,\"\")","v":""},null,{"$f":"IF(AND(BD!B4604=REF,BD!D4604>=DEB,BD!D4604<=FIN),MAX(calc!$H$1:H4603)+1,0)","v":0}]
[null,null,null,null,null,{"$f":"IF(COUNTIF(BD!$B$2:B4605,BD!B4605)=1,MAX($F$1:F4604)+1,\"\")","v":""},null,{"$f":"IF(AND(BD!B4605=REF,BD!D4605>=DEB,BD!D4605<=FIN),MAX(calc!$H$1:H4604)+1,0)","v":0}]
[null,null,null,null,null,{"$f":"IF(COUNTIF(BD!$B$2:B4606,BD!B4606)=1,MAX($F$1:F4605)+1,\"\")","v":""},null,{"$f":"IF(AND(BD!B4606=REF,BD!D4606>=DEB,BD!D4606<=FIN),MAX(calc!$H$1:H4605)+1,0)","v":0}]
[null,null,null,null,null,{"$f":"IF(COUNTIF(BD!$B$2:B4607,BD!B4607)=1,MAX($F$1:F4606)+1,\"\")","v":""},null,{"$f":"IF(AND(BD!B4607=REF,BD!D4607>=DEB,BD!D4607<=FIN),MAX(calc!$H$1:H4606)+1,0)","v":0}]
[null,null,null,null,null,{"$f":"IF(COUNTIF(BD!$B$2:B4608,BD!B4608)=1,MAX($F$1:F4607)+1,\"\")","v":""},null,{"$f":"IF(AND(BD!B4608=REF,BD!D4608>=DEB,BD!D4608<=FIN),MAX(calc!$H$1:H4607)+1,0)","v":0}]
[null,null,null,null,null,{"$f":"IF(COUNTIF(BD!$B$2:B4609,BD!B4609)=1,MAX($F$1:F4608)+1,\"\")","v":""},null,{"$f":"IF(AND(BD!B4609=REF,BD!D4609>=DEB,BD!D4609<=FIN),MAX(calc!$H$1:H4608)+1,0)","v":0}]
[null,null,null,null,null,{"$f":"IF(COUNTIF(BD!$B$2:B4610,BD!B4610)=1,MAX($F$1:F4609)+1,\"\")","v":""},null,{"$f":"IF(AND(BD!B4610=REF,BD!D4610>=DEB,BD!D4610<=FIN),MAX(calc!$H$1:H4609)+1,0)","v":0}]
[null,null,null,null,null,{"$f":"IF(COUNTIF(BD!$B$2:B4611,BD!B4611)=1,MAX($F$1:F4610)+1,\"\")","v":""},null,{"$f":"IF(AND(BD!B4611=REF,BD!D4611>=DEB,BD!D4611<=FIN),MAX(calc!$H$1:H4610)+1,0)","v":0}]
[null,null,null,null,null,{"$f":"IF(COUNTIF(BD!$B$2:B4612,BD!B4612)=1,MAX($F$1:F4611)+1,\"\")","v":""},null,{"$f":"IF(AND(BD!B4612=REF,BD!D4612>=DEB,BD!D4612<=FIN),MAX(calc!$H$1:H4611)+1,0)","v":0}]
[null,null,null,null,null,{"$f":"IF(COUNTIF(BD!$B$2:B4613,BD!B4613)=1,MAX($F$1:F4612)+1,\"\")","v":""},null,{"$f":"IF(AND(BD!B4613=REF,BD!D4613>=DEB,BD!D4613<=FIN),MAX(calc!$H$1:H4612)+1,0)","v":0}]
[null,null,null,null,null,{"$f":"IF(COUNTIF(BD!$B$2:B4614,BD!B4614)=1,MAX($F$1:F4613)+1,\"\")","v":""},null,{"$f":"IF(AND(BD!B4614=REF,BD!D4614>=DEB,BD!D4614<=FIN),MAX(calc!$H$1:H4613)+1,0)","v":0}]
[null,null,null,null,null,{"$f":"IF(COUNTIF(BD!$B$2:B4615,BD!B4615)=1,MAX($F$1:F4614)+1,\"\")","v":""},null,{"$f":"IF(AND(BD!B4615=REF,BD!D4615>=DEB,BD!D4615<=FIN),MAX(calc!$H$1:H4614)+1,0)","v":0}]
[null,null,null,null,null,{"$f":"IF(COUNTIF(BD!$B$2:B4616,BD!B4616)=1,MAX($F$1:F4615)+1,\"\")","v":""},null,{"$f":"IF(AND(BD!B4616=REF,BD!D4616>=DEB,BD!D4616<=FIN),MAX(calc!$H$1:H4615)+1,0)","v":0}]
[null,null,null,null,null,{"$f":"IF(COUNTIF(BD!$B$2:B4617,BD!B4617)=1,MAX($F$1:F4616)+1,\"\")","v":""},null,{"$f":"IF(AND(BD!B4617=REF,BD!D4617>=DEB,BD!D4617<=FIN),MAX(calc!$H$1:H4616)+1,0)","v":0}]
[null,null,null,null,null,{"$f":"IF(COUNTIF(BD!$B$2:B4618,BD!B4618)=1,MAX($F$1:F4617)+1,\"\")","v":""},null,{"$f":"IF(AND(BD!B4618=REF,BD!D4618>=DEB,BD!D4618<=FIN),MAX(calc!$H$1:H4617)+1,0)","v":0}]
[null,null,null,null,null,{"$f":"IF(COUNTIF(BD!$B$2:B4619,BD!B4619)=1,MAX($F$1:F4618)+1,\"\")","v":""},null,{"$f":"IF(AND(BD!B4619=REF,BD!D4619>=DEB,BD!D4619<=FIN),MAX(calc!$H$1:H4618)+1,0)","v":0}]
[null,null,null,null,null,{"$f":"IF(COUNTIF(BD!$B$2:B4620,BD!B4620)=1,MAX($F$1:F4619)+1,\"\")","v":""},null,{"$f":"IF(AND(BD!B4620=REF,BD!D4620>=DEB,BD!D4620<=FIN),MAX(calc!$H$1:H4619)+1,0)","v":0}]
[null,null,null,null,null,{"$f":"IF(COUNTIF(BD!$B$2:B4621,BD!B4621)=1,MAX($F$1:F4620)+1,\"\")","v":""},null,{"$f":"IF(AND(BD!B4621=REF,BD!D4621>=DEB,BD!D4621<=FIN),MAX(calc!$H$1:H4620)+1,0)","v":0}]
[null,null,null,null,null,{"$f":"IF(COUNTIF(BD!$B$2:B4622,BD!B4622)=1,MAX($F$1:F4621)+1,\"\")","v":""},null,{"$f":"IF(AND(BD!B4622=REF,BD!D4622>=DEB,BD!D4622<=FIN),MAX(calc!$H$1:H4621)+1,0)","v":0}]
[null,null,null,null,null,{"$f":"IF(COUNTIF(BD!$B$2:B4623,BD!B4623)=1,MAX($F$1:F4622)+1,\"\")","v":""},null,{"$f":"IF(AND(BD!B4623=REF,BD!D4623>=DEB,BD!D4623<=FIN),MAX(calc!$H$1:H4622)+1,0)","v":0}]
[null,null,null,null,null,{"$f":"IF(COUNTIF(BD!$B$2:B4624,BD!B4624)=1,MAX($F$1:F4623)+1,\"\")","v":""},null,{"$f":"IF(AND(BD!B4624=REF,BD!D4624>=DEB,BD!D4624<=FIN),MAX(calc!$H$1:H4623)+1,0)","v":0}]
[null,null,null,null,null,{"$f":"IF(COUNTIF(BD!$B$2:B4625,BD!B4625)=1,MAX($F$1:F4624)+1,\"\")","v":""},null,{"$f":"IF(AND(BD!B4625=REF,BD!D4625>=DEB,BD!D4625<=FIN),MAX(calc!$H$1:H4624)+1,0)","v":0}]
[null,null,null,null,null,{"$f":"IF(COUNTIF(BD!$B$2:B4626,BD!B4626)=1,MAX($F$1:F4625)+1,\"\")","v":""},null,{"$f":"IF(AND(BD!B4626=REF,BD!D4626>=DEB,BD!D4626<=FIN),MAX(calc!$H$1:H4625)+1,0)","v":0}]
[null,null,null,null,null,{"$f":"IF(COUNTIF(BD!$B$2:B4627,BD!B4627)=1,MAX($F$1:F4626)+1,\"\")","v":""},null,{"$f":"IF(AND(BD!B4627=REF,BD!D4627>=DEB,BD!D4627<=FIN),MAX(calc!$H$1:H4626)+1,0)","v":0}]
[null,null,null,null,null,{"$f":"IF(COUNTIF(BD!$B$2:B4628,BD!B4628)=1,MAX($F$1:F4627)+1,\"\")","v":""},null,{"$f":"IF(AND(BD!B4628=REF,BD!D4628>=DEB,BD!D4628<=FIN),MAX(calc!$H$1:H4627)+1,0)","v":0}]
[null,null,null,null,null,{"$f":"IF(COUNTIF(BD!$B$2:B4629,BD!B4629)=1,MAX($F$1:F4628)+1,\"\")","v":""},null,{"$f":"IF(AND(BD!B4629=REF,BD!D4629>=DEB,BD!D4629<=FIN),MAX(calc!$H$1:H4628)+1,0)","v":0}]
[null,null,null,null,null,{"$f":"IF(COUNTIF(BD!$B$2:B4630,BD!B4630)=1,MAX($F$1:F4629)+1,\"\")","v":""},null,{"$f":"IF(AND(BD!B4630=REF,BD!D4630>=DEB,BD!D4630<=FIN),MAX(calc!$H$1:H4629)+1,0)","v":0}]
[null,null,null,null,null,{"$f":"IF(COUNTIF(BD!$B$2:B4631,BD!B4631)=1,MAX($F$1:F4630)+1,\"\")","v":""},null,{"$f":"IF(AND(BD!B4631=REF,BD!D4631>=DEB,BD!D4631<=FIN),MAX(calc!$H$1:H4630)+1,0)","v":0}]
[null,null,null,null,null,{"$f":"IF(COUNTIF(BD!$B$2:B4632,BD!B4632)=1,MAX($F$1:F4631)+1,\"\")","v":""},null,{"$f":"IF(AND(BD!B4632=REF,BD!D4632>=DEB,BD!D4632<=FIN),MAX(calc!$H$1:H4631)+1,0)","v":0}]
[null,null,null,null,null,{"$f":"IF(COUNTIF(BD!$B$2:B4633,BD!B4633)=1,MAX($F$1:F4632)+1,\"\")","v":""},null,{"$f":"IF(AND(BD!B4633=REF,BD!D4633>=DEB,BD!D4633<=FIN),MAX(calc!$H$1:H4632)+1,0)","v":0}]
[null,null,null,null,null,{"$f":"IF(COUNTIF(BD!$B$2:B4634,BD!B4634)=1,MAX($F$1:F4633)+1,\"\")","v":""},null,{"$f":"IF(AND(BD!B4634=REF,BD!D4634>=DEB,BD!D4634<=FIN),MAX(calc!$H$1:H4633)+1,0)","v":0}]
[null,null,null,null,null,{"$f":"IF(COUNTIF(BD!$B$2:B4635,BD!B4635)=1,MAX($F$1:F4634)+1,\"\")","v":""},null,{"$f":"IF(AND(BD!B4635=REF,BD!D4635>=DEB,BD!D4635<=FIN),MAX(calc!$H$1:H4634)+1,0)","v":0}]
[null,null,null,null,null,{"$f":"IF(COUNTIF(BD!$B$2:B4636,BD!B4636)=1,MAX($F$1:F4635)+1,\"\")","v":""},null,{"$f":"IF(AND(BD!B4636=REF,BD!D4636>=DEB,BD!D4636<=FIN),MAX(calc!$H$1:H4635)+1,0)","v":0}]
[null,null,null,null,null,{"$f":"IF(COUNTIF(BD!$B$2:B4637,BD!B4637)=1,MAX($F$1:F4636)+1,\"\")","v":""},null,{"$f":"IF(AND(BD!B4637=REF,BD!D4637>=DEB,BD!D4637<=FIN),MAX(calc!$H$1:H4636)+1,0)","v":0}]
[null,null,null,null,null,{"$f":"IF(COUNTIF(BD!$B$2:B4638,BD!B4638)=1,MAX($F$1:F4637)+1,\"\")","v":""},null,{"$f":"IF(AND(BD!B4638=REF,BD!D4638>=DEB,BD!D4638<=FIN),MAX(calc!$H$1:H4637)+1,0)","v":0}]
[null,null,null,null,null,{"$f":"IF(COUNTIF(BD!$B$2:B4639,BD!B4639)=1,MAX($F$1:F4638)+1,\"\")","v":""},null,{"$f":"IF(AND(BD!B4639=REF,BD!D4639>=DEB,BD!D4639<=FIN),MAX(calc!$H$1:H4638)+1,0)","v":0}]
[null,null,null,null,null,{"$f":"IF(COUNTIF(BD!$B$2:B4640,BD!B4640)=1,MAX($F$1:F4639)+1,\"\")","v":""},null,{"$f":"IF(AND(BD!B4640=REF,BD!D4640>=DEB,BD!D4640<=FIN),MAX(calc!$H$1:H4639)+1,0)","v":0}]
[null,null,null,null,null,{"$f":"IF(COUNTIF(BD!$B$2:B4641,BD!B4641)=1,MAX($F$1:F4640)+1,\"\")","v":""},null,{"$f":"IF(AND(BD!B4641=REF,BD!D4641>=DEB,BD!D4641<=FIN),MAX(calc!$H$1:H4640)+1,0)","v":0}]
[null,null,null,null,null,{"$f":"IF(COUNTIF(BD!$B$2:B4642,BD!B4642)=1,MAX($F$1:F4641)+1,\"\")","v":""},null,{"$f":"IF(AND(BD!B4642=REF,BD!D4642>=DEB,BD!D4642<=FIN),MAX(calc!$H$1:H4641)+1,0)","v":0}]
[null,null,null,null,null,{"$f":"IF(COUNTIF(BD!$B$2:B4643,BD!B4643)=1,MAX($F$1:F4642)+1,\"\")","v":""},null,{"$f":"IF(AND(BD!B4643=REF,BD!D4643>=DEB,BD!D4643<=FIN),MAX(calc!$H$1:H4642)+1,0)","v":0}]
[null,null,null,null,null,{"$f":"IF(COUNTIF(BD!$B$2:B4644,BD!B4644)=1,MAX($F$1:F4643)+1,\"\")","v":""},null,{"$f":"IF(AND(BD!B4644=REF,BD!D4644>=DEB,BD!D4644<=FIN),MAX(calc!$H$1:H4643)+1,0)","v":0}]
[null,null,null,null,null,{"$f":"IF(COUNTIF(BD!$B$2:B4645,BD!B4645)=1,MAX($F$1:F4644)+1,\"\")","v":""},null,{"$f":"IF(AND(BD!B4645=REF,BD!D4645>=DEB,BD!D4645<=FIN),MAX(calc!$H$1:H4644)+1,0)","v":0}]
[null,null,null,null,null,{"$f":"IF(COUNTIF(BD!$B$2:B4646,BD!B4646)=1,MAX($F$1:F4645)+1,\"\")","v":""},null,{"$f":"IF(AND(BD!B4646=REF,BD!D4646>=DEB,BD!D4646<=FIN),MAX(calc!$H$1:H4645)+1,0)","v":0}]
[null,null,null,null,null,{"$f":"IF(COUNTIF(BD!$B$2:B4647,BD!B4647)=1,MAX($F$1:F4646)+1,\"\")","v":""},null,{"$f":"IF(AND(BD!B4647=REF,BD!D4647>=DEB,BD!D4647<=FIN),MAX(calc!$H$1:H4646)+1,0)","v":0}]
[null,null,null,null,null,{"$f":"IF(COUNTIF(BD!$B$2:B4648,BD!B4648)=1,MAX($F$1:F4647)+1,\"\")","v":""},null,{"$f":"IF(AND(BD!B4648=REF,BD!D4648>=DEB,BD!D4648<=FIN),MAX(calc!$H$1:H4647)+1,0)","v":0}]
[null,null,null,null,null,{"$f":"IF(COUNTIF(BD!$B$2:B4649,BD!B4649)=1,MAX($F$1:F4648)+1,\"\")","v":""},null,{"$f":"IF(AND(BD!B4649=REF,BD!D4649>=DEB,BD!D4649<=FIN),MAX(calc!$H$1:H4648)+1,0)","v":0}]
[null,null,null,null,null,{"$f":"IF(COUNTIF(BD!$B$2:B4650,BD!B4650)=1,MAX($F$1:F4649)+1,\"\")","v":""},null,{"$f":"IF(AND(BD!B4650=REF,BD!D4650>=DEB,BD!D4650<=FIN),MAX(calc!$H$1:H4649)+1,0)","v":0}]
[null,null,null,null,null,{"$f":"IF(COUNTIF(BD!$B$2:B4651,BD!B4651)=1,MAX($F$1:F4650)+1,\"\")","v":""},null,{"$f":"IF(AND(BD!B4651=REF,BD!D4651>=DEB,BD!D4651<=FIN),MAX(calc!$H$1:H4650)+1,0)","v":0}]
[null,null,null,null,null,{"$f":"IF(COUNTIF(BD!$B$2:B4652,BD!B4652)=1,MAX($F$1:F4651)+1,\"\")","v":""},null,{"$f":"IF(AND(BD!B4652=REF,BD!D4652>=DEB,BD!D4652<=FIN),MAX(calc!$H$1:H4651)+1,0)","v":0}]
[null,null,null,null,null,{"$f":"IF(COUNTIF(BD!$B$2:B4653,BD!B4653)=1,MAX($F$1:F4652)+1,\"\")","v":""},null,{"$f":"IF(AND(BD!B4653=REF,BD!D4653>=DEB,BD!D4653<=FIN),MAX(calc!$H$1:H4652)+1,0)","v":0}]
[null,null,null,null,null,{"$f":"IF(COUNTIF(BD!$B$2:B4654,BD!B4654)=1,MAX($F$1:F4653)+1,\"\")","v":""},null,{"$f":"IF(AND(BD!B4654=REF,BD!D4654>=DEB,BD!D4654<=FIN),MAX(calc!$H$1:H4653)+1,0)","v":0}]
[null,null,null,null,null,{"$f":"IF(COUNTIF(BD!$B$2:B4655,BD!B4655)=1,MAX($F$1:F4654)+1,\"\")","v":""},null,{"$f":"IF(AND(BD!B4655=REF,BD!D4655>=DEB,BD!D4655<=FIN),MAX(calc!$H$1:H4654)+1,0)","v":0}]
[null,null,null,null,null,{"$f":"IF(COUNTIF(BD!$B$2:B4656,BD!B4656)=1,MAX($F$1:F4655)+1,\"\")","v":""},null,{"$f":"IF(AND(BD!B4656=REF,BD!D4656>=DEB,BD!D4656<=FIN),MAX(calc!$H$1:H4655)+1,0)","v":0}]
[null,null,null,null,null,{"$f":"IF(COUNTIF(BD!$B$2:B4657,BD!B4657)=1,MAX($F$1:F4656)+1,\"\")","v":""},null,{"$f":"IF(AND(BD!B4657=REF,BD!D4657>=DEB,BD!D4657<=FIN),MAX(calc!$H$1:H4656)+1,0)","v":0}]
[null,null,null,null,null,{"$f":"IF(COUNTIF(BD!$B$2:B4658,BD!B4658)=1,MAX($F$1:F4657)+1,\"\")","v":""},null,{"$f":"IF(AND(BD!B4658=REF,BD!D4658>=DEB,BD!D4658<=FIN),MAX(calc!$H$1:H4657)+1,0)","v":0}]
[null,null,null,null,null,{"$f":"IF(COUNTIF(BD!$B$2:B4659,BD!B4659)=1,MAX($F$1:F4658)+1,\"\")","v":""},null,{"$f":"IF(AND(BD!B4659=REF,BD!D4659>=DEB,BD!D4659<=FIN),MAX(calc!$H$1:H4658)+1,0)","v":0}]
[null,null,null,null,null,{"$f":"IF(COUNTIF(BD!$B$2:B4660,BD!B4660)=1,MAX($F$1:F4659)+1,\"\")","v":""},null,{"$f":"IF(AND(BD!B4660=REF,BD!D4660>=DEB,BD!D4660<=FIN),MAX(calc!$H$1:H4659)+1,0)","v":0}]
[null,null,null,null,null,{"$f":"IF(COUNTIF(BD!$B$2:B4661,BD!B4661)=1,MAX($F$1:F4660)+1,\"\")","v":""},null,{"$f":"IF(AND(BD!B4661=REF,BD!D4661>=DEB,BD!D4661<=FIN),MAX(calc!$H$1:H4660)+1,0)","v":0}]
[null,null,null,null,null,{"$f":"IF(COUNTIF(BD!$B$2:B4662,BD!B4662)=1,MAX($F$1:F4661)+1,\"\")","v":""},null,{"$f":"IF(AND(BD!B4662=REF,BD!D4662>=DEB,BD!D4662<=FIN),MAX(calc!$H$1:H4661)+1,0)","v":0}]
[null,null,null,null,null,{"$f":"IF(COUNTIF(BD!$B$2:B4663,BD!B4663)=1,MAX($F$1:F4662)+1,\"\")","v":""},null,{"$f":"IF(AND(BD!B4663=REF,BD!D4663>=DEB,BD!D4663<=FIN),MAX(calc!$H$1:H4662)+1,0)","v":0}]
[null,null,null,null,null,{"$f":"IF(COUNTIF(BD!$B$2:B4664,BD!B4664)=1,MAX($F$1:F4663)+1,\"\")","v":""},null,{"$f":"IF(AND(BD!B4664=REF,BD!D4664>=DEB,BD!D4664<=FIN),MAX(calc!$H$1:H4663)+1,0)","v":0}]
[null,null,null,null,null,{"$f":"IF(COUNTIF(BD!$B$2:B4665,BD!B4665)=1,MAX($F$1:F4664)+1,\"\")","v":""},null,{"$f":"IF(AND(BD!B4665=REF,BD!D4665>=DEB,BD!D4665<=FIN),MAX(calc!$H$1:H4664)+1,0)","v":0}]
[null,null,null,null,null,{"$f":"IF(COUNTIF(BD!$B$2:B4666,BD!B4666)=1,MAX($F$1:F4665)+1,\"\")","v":""},null,{"$f":"IF(AND(BD!B4666=REF,BD!D4666>=DEB,BD!D4666<=FIN),MAX(calc!$H$1:H4665)+1,0)","v":0}]
[null,null,null,null,null,{"$f":"IF(COUNTIF(BD!$B$2:B4667,BD!B4667)=1,MAX($F$1:F4666)+1,\"\")","v":""},null,{"$f":"IF(AND(BD!B4667=REF,BD!D4667>=DEB,BD!D4667<=FIN),MAX(calc!$H$1:H4666)+1,0)","v":0}]
[null,null,null,null,null,{"$f":"IF(COUNTIF(BD!$B$2:B4668,BD!B4668)=1,MAX($F$1:F4667)+1,\"\")","v":""},null,{"$f":"IF(AND(BD!B4668=REF,BD!D4668>=DEB,BD!D4668<=FIN),MAX(calc!$H$1:H4667)+1,0)","v":0}]
[null,null,null,null,null,{"$f":"IF(COUNTIF(BD!$B$2:B4669,BD!B4669)=1,MAX($F$1:F4668)+1,\"\")","v":""},null,{"$f":"IF(AND(BD!B4669=REF,BD!D4669>=DEB,BD!D4669<=FIN),MAX(calc!$H$1:H4668)+1,0)","v":0}]
[null,null,null,null,null,{"$f":"IF(COUNTIF(BD!$B$2:B4670,BD!B4670)=1,MAX($F$1:F4669)+1,\"\")","v":""},null,{"$f":"IF(AND(BD!B4670=REF,BD!D4670>=DEB,BD!D4670<=FIN),MAX(calc!$H$1:H4669)+1,0)","v":0}]
[null,null,null,null,null,{"$f":"IF(COUNTIF(BD!$B$2:B4671,BD!B4671)=1,MAX($F$1:F4670)+1,\"\")","v":""},null,{"$f":"IF(AND(BD!B4671=REF,BD!D4671>=DEB,BD!D4671<=FIN),MAX(calc!$H$1:H4670)+1,0)","v":0}]
[null,null,null,null,null,{"$f":"IF(COUNTIF(BD!$B$2:B4672,BD!B4672)=1,MAX($F$1:F4671)+1,\"\")","v":""},null,{"$f":"IF(AND(BD!B4672=REF,BD!D4672>=DEB,BD!D4672<=FIN),MAX(calc!$H$1:H4671)+1,0)","v":0}]
[null,null,null,null,null,{"$f":"IF(COUNTIF(BD!$B$2:B4673,BD!B4673)=1,MAX($F$1:F4672)+1,\"\")","v":""},null,{"$f":"IF(AND(BD!B4673=REF,BD!D4673>=DEB,BD!D4673<=FIN),MAX(calc!$H$1:H4672)+1,0)","v":0}]
[null,null,null,null,null,{"$f":"IF(COUNTIF(BD!$B$2:B4674,BD!B4674)=1,MAX($F$1:F4673)+1,\"\")","v":""},null,{"$f":"IF(AND(BD!B4674=REF,BD!D4674>=DEB,BD!D4674<=FIN),MAX(calc!$H$1:H4673)+1,0)","v":0}]
[null,null,null,null,null,{"$f":"IF(COUNTIF(BD!$B$2:B4675,BD!B4675)=1,MAX($F$1:F4674)+1,\"\")","v":""},null,{"$f":"IF(AND(BD!B4675=REF,BD!D4675>=DEB,BD!D4675<=FIN),MAX(calc!$H$1:H4674)+1,0)","v":0}]
[null,null,null,null,null,{"$f":"IF(COUNTIF(BD!$B$2:B4676,BD!B4676)=1,MAX($F$1:F4675)+1,\"\")","v":""},null,{"$f":"IF(AND(BD!B4676=REF,BD!D4676>=DEB,BD!D4676<=FIN),MAX(calc!$H$1:H4675)+1,0)","v":0}]
[null,null,null,null,null,{"$f":"IF(COUNTIF(BD!$B$2:B4677,BD!B4677)=1,MAX($F$1:F4676)+1,\"\")","v":""},null,{"$f":"IF(AND(BD!B4677=REF,BD!D4677>=DEB,BD!D4677<=FIN),MAX(calc!$H$1:H4676)+1,0)","v":0}]
[null,null,null,null,null,{"$f":"IF(COUNTIF(BD!$B$2:B4678,BD!B4678)=1,MAX($F$1:F4677)+1,\"\")","v":""},null,{"$f":"IF(AND(BD!B4678=REF,BD!D4678>=DEB,BD!D4678<=FIN),MAX(calc!$H$1:H4677)+1,0)","v":0}]
[null,null,null,null,null,{"$f":"IF(COUNTIF(BD!$B$2:B4679,BD!B4679)=1,MAX($F$1:F4678)+1,\"\")","v":""},null,{"$f":"IF(AND(BD!B4679=REF,BD!D4679>=DEB,BD!D4679<=FIN),MAX(calc!$H$1:H4678)+1,0)","v":0}]
[null,null,null,null,null,{"$f":"IF(COUNTIF(BD!$B$2:B4680,BD!B4680)=1,MAX($F$1:F4679)+1,\"\")","v":""},null,{"$f":"IF(AND(BD!B4680=REF,BD!D4680>=DEB,BD!D4680<=FIN),MAX(calc!$H$1:H4679)+1,0)","v":0}]
[null,null,null,null,null,{"$f":"IF(COUNTIF(BD!$B$2:B4681,BD!B4681)=1,MAX($F$1:F4680)+1,\"\")","v":""},null,{"$f":"IF(AND(BD!B4681=REF,BD!D4681>=DEB,BD!D4681<=FIN),MAX(calc!$H$1:H4680)+1,0)","v":0}]
[null,null,null,null,null,{"$f":"IF(COUNTIF(BD!$B$2:B4682,BD!B4682)=1,MAX($F$1:F4681)+1,\"\")","v":""},null,{"$f":"IF(AND(BD!B4682=REF,BD!D4682>=DEB,BD!D4682<=FIN),MAX(calc!$H$1:H4681)+1,0)","v":0}]
[null,null,null,null,null,{"$f":"IF(COUNTIF(BD!$B$2:B4683,BD!B4683)=1,MAX($F$1:F4682)+1,\"\")","v":""},null,{"$f":"IF(AND(BD!B4683=REF,BD!D4683>=DEB,BD!D4683<=FIN),MAX(calc!$H$1:H4682)+1,0)","v":0}]
[null,null,null,null,null,{"$f":"IF(COUNTIF(BD!$B$2:B4684,BD!B4684)=1,MAX($F$1:F4683)+1,\"\")","v":""},null,{"$f":"IF(AND(BD!B4684=REF,BD!D4684>=DEB,BD!D4684<=FIN),MAX(calc!$H$1:H4683)+1,0)","v":0}]
[null,null,null,null,null,{"$f":"IF(COUNTIF(BD!$B$2:B4685,BD!B4685)=1,MAX($F$1:F4684)+1,\"\")","v":""},null,{"$f":"IF(AND(BD!B4685=REF,BD!D4685>=DEB,BD!D4685<=FIN),MAX(calc!$H$1:H4684)+1,0)","v":0}]
[null,null,null,null,null,{"$f":"IF(COUNTIF(BD!$B$2:B4686,BD!B4686)=1,MAX($F$1:F4685)+1,\"\")","v":""},null,{"$f":"IF(AND(BD!B4686=REF,BD!D4686>=DEB,BD!D4686<=FIN),MAX(calc!$H$1:H4685)+1,0)","v":0}]
[null,null,null,null,null,{"$f":"IF(COUNTIF(BD!$B$2:B4687,BD!B4687)=1,MAX($F$1:F4686)+1,\"\")","v":""},null,{"$f":"IF(AND(BD!B4687=REF,BD!D4687>=DEB,BD!D4687<=FIN),MAX(calc!$H$1:H4686)+1,0)","v":0}]
[null,null,null,null,null,{"$f":"IF(COUNTIF(BD!$B$2:B4688,BD!B4688)=1,MAX($F$1:F4687)+1,\"\")","v":""},null,{"$f":"IF(AND(BD!B4688=REF,BD!D4688>=DEB,BD!D4688<=FIN),MAX(calc!$H$1:H4687)+1,0)","v":0}]
[null,null,null,null,null,{"$f":"IF(COUNTIF(BD!$B$2:B4689,BD!B4689)=1,MAX($F$1:F4688)+1,\"\")","v":""},null,{"$f":"IF(AND(BD!B4689=REF,BD!D4689>=DEB,BD!D4689<=FIN),MAX(calc!$H$1:H4688)+1,0)","v":0}]
[null,null,null,null,null,{"$f":"IF(COUNTIF(BD!$B$2:B4690,BD!B4690)=1,MAX($F$1:F4689)+1,\"\")","v":""},null,{"$f":"IF(AND(BD!B4690=REF,BD!D4690>=DEB,BD!D4690<=FIN),MAX(calc!$H$1:H4689)+1,0)","v":0}]
[null,null,null,null,null,{"$f":"IF(COUNTIF(BD!$B$2:B4691,BD!B4691)=1,MAX($F$1:F4690)+1,\"\")","v":""},null,{"$f":"IF(AND(BD!B4691=REF,BD!D4691>=DEB,BD!D4691<=FIN),MAX(calc!$H$1:H4690)+1,0)","v":0}]
[null,null,null,null,null,{"$f":"IF(COUNTIF(BD!$B$2:B4692,BD!B4692)=1,MAX($F$1:F4691)+1,\"\")","v":""},null,{"$f":"IF(AND(BD!B4692=REF,BD!D4692>=DEB,BD!D4692<=FIN),MAX(calc!$H$1:H4691)+1,0)","v":0}]
[null,null,null,null,null,{"$f":"IF(COUNTIF(BD!$B$2:B4693,BD!B4693)=1,MAX($F$1:F4692)+1,\"\")","v":""},null,{"$f":"IF(AND(BD!B4693=REF,BD!D4693>=DEB,BD!D4693<=FIN),MAX(calc!$H$1:H4692)+1,0)","v":0}]
[null,null,null,null,null,{"$f":"IF(COUNTIF(BD!$B$2:B4694,BD!B4694)=1,MAX($F$1:F4693)+1,\"\")","v":""},null,{"$f":"IF(AND(BD!B4694=REF,BD!D4694>=DEB,BD!D4694<=FIN),MAX(calc!$H$1:H4693)+1,0)","v":0}]
[null,null,null,null,null,{"$f":"IF(COUNTIF(BD!$B$2:B4695,BD!B4695)=1,MAX($F$1:F4694)+1,\"\")","v":""},null,{"$f":"IF(AND(BD!B4695=REF,BD!D4695>=DEB,BD!D4695<=FIN),MAX(calc!$H$1:H4694)+1,0)","v":0}]
[null,null,null,null,null,{"$f":"IF(COUNTIF(BD!$B$2:B4696,BD!B4696)=1,MAX($F$1:F4695)+1,\"\")","v":""},null,{"$f":"IF(AND(BD!B4696=REF,BD!D4696>=DEB,BD!D4696<=FIN),MAX(calc!$H$1:H4695)+1,0)","v":0}]
[null,null,null,null,null,{"$f":"IF(COUNTIF(BD!$B$2:B4697,BD!B4697)=1,MAX($F$1:F4696)+1,\"\")","v":""},null,{"$f":"IF(AND(BD!B4697=REF,BD!D4697>=DEB,BD!D4697<=FIN),MAX(calc!$H$1:H4696)+1,0)","v":0}]
[null,null,null,null,null,{"$f":"IF(COUNTIF(BD!$B$2:B4698,BD!B4698)=1,MAX($F$1:F4697)+1,\"\")","v":""},null,{"$f":"IF(AND(BD!B4698=REF,BD!D4698>=DEB,BD!D4698<=FIN),MAX(calc!$H$1:H4697)+1,0)","v":0}]
[null,null,null,null,null,{"$f":"IF(COUNTIF(BD!$B$2:B4699,BD!B4699)=1,MAX($F$1:F4698)+1,\"\")","v":""},null,{"$f":"IF(AND(BD!B4699=REF,BD!D4699>=DEB,BD!D4699<=FIN),MAX(calc!$H$1:H4698)+1,0)","v":0}]
[null,null,null,null,null,{"$f":"IF(COUNTIF(BD!$B$2:B4700,BD!B4700)=1,MAX($F$1:F4699)+1,\"\")","v":""},null,{"$f":"IF(AND(BD!B4700=REF,BD!D4700>=DEB,BD!D4700<=FIN),MAX(calc!$H$1:H4699)+1,0)","v":0}]
[null,null,null,null,null,{"$f":"IF(COUNTIF(BD!$B$2:B4701,BD!B4701)=1,MAX($F$1:F4700)+1,\"\")","v":""},null,{"$f":"IF(AND(BD!B4701=REF,BD!D4701>=DEB,BD!D4701<=FIN),MAX(calc!$H$1:H4700)+1,0)","v":0}]
[null,null,null,null,null,{"$f":"IF(COUNTIF(BD!$B$2:B4702,BD!B4702)=1,MAX($F$1:F4701)+1,\"\")","v":""},null,{"$f":"IF(AND(BD!B4702=REF,BD!D4702>=DEB,BD!D4702<=FIN),MAX(calc!$H$1:H4701)+1,0)","v":0}]
[null,null,null,null,null,{"$f":"IF(COUNTIF(BD!$B$2:B4703,BD!B4703)=1,MAX($F$1:F4702)+1,\"\")","v":""},null,{"$f":"IF(AND(BD!B4703=REF,BD!D4703>=DEB,BD!D4703<=FIN),MAX(calc!$H$1:H4702)+1,0)","v":0}]
[null,null,null,null,null,{"$f":"IF(COUNTIF(BD!$B$2:B4704,BD!B4704)=1,MAX($F$1:F4703)+1,\"\")","v":""},null,{"$f":"IF(AND(BD!B4704=REF,BD!D4704>=DEB,BD!D4704<=FIN),MAX(calc!$H$1:H4703)+1,0)","v":0}]
[null,null,null,null,null,{"$f":"IF(COUNTIF(BD!$B$2:B4705,BD!B4705)=1,MAX($F$1:F4704)+1,\"\")","v":""},null,{"$f":"IF(AND(BD!B4705=REF,BD!D4705>=DEB,BD!D4705<=FIN),MAX(calc!$H$1:H4704)+1,0)","v":0}]
[null,null,null,null,null,{"$f":"IF(COUNTIF(BD!$B$2:B4706,BD!B4706)=1,MAX($F$1:F4705)+1,\"\")","v":""},null,{"$f":"IF(AND(BD!B4706=REF,BD!D4706>=DEB,BD!D4706<=FIN),MAX(calc!$H$1:H4705)+1,0)","v":0}]
[null,null,null,null,null,{"$f":"IF(COUNTIF(BD!$B$2:B4707,BD!B4707)=1,MAX($F$1:F4706)+1,\"\")","v":""},null,{"$f":"IF(AND(BD!B4707=REF,BD!D4707>=DEB,BD!D4707<=FIN),MAX(calc!$H$1:H4706)+1,0)","v":0}]
[null,null,null,null,null,{"$f":"IF(COUNTIF(BD!$B$2:B4708,BD!B4708)=1,MAX($F$1:F4707)+1,\"\")","v":""},null,{"$f":"IF(AND(BD!B4708=REF,BD!D4708>=DEB,BD!D4708<=FIN),MAX(calc!$H$1:H4707)+1,0)","v":0}]
[null,null,null,null,null,{"$f":"IF(COUNTIF(BD!$B$2:B4709,BD!B4709)=1,MAX($F$1:F4708)+1,\"\")","v":""},null,{"$f":"IF(AND(BD!B4709=REF,BD!D4709>=DEB,BD!D4709<=FIN),MAX(calc!$H$1:H4708)+1,0)","v":0}]
[null,null,null,null,null,{"$f":"IF(COUNTIF(BD!$B$2:B4710,BD!B4710)=1,MAX($F$1:F4709)+1,\"\")","v":""},null,{"$f":"IF(AND(BD!B4710=REF,BD!D4710>=DEB,BD!D4710<=FIN),MAX(calc!$H$1:H4709)+1,0)","v":0}]
[null,null,null,null,null,{"$f":"IF(COUNTIF(BD!$B$2:B4711,BD!B4711)=1,MAX($F$1:F4710)+1,\"\")","v":""},null,{"$f":"IF(AND(BD!B4711=REF,BD!D4711>=DEB,BD!D4711<=FIN),MAX(calc!$H$1:H4710)+1,0)","v":0}]
[null,null,null,null,null,{"$f":"IF(COUNTIF(BD!$B$2:B4712,BD!B4712)=1,MAX($F$1:F4711)+1,\"\")","v":""},null,{"$f":"IF(AND(BD!B4712=REF,BD!D4712>=DEB,BD!D4712<=FIN),MAX(calc!$H$1:H4711)+1,0)","v":0}]
[null,null,null,null,null,{"$f":"IF(COUNTIF(BD!$B$2:B4713,BD!B4713)=1,MAX($F$1:F4712)+1,\"\")","v":""},null,{"$f":"IF(AND(BD!B4713=REF,BD!D4713>=DEB,BD!D4713<=FIN),MAX(calc!$H$1:H4712)+1,0)","v":0}]
[null,null,null,null,null,{"$f":"IF(COUNTIF(BD!$B$2:B4714,BD!B4714)=1,MAX($F$1:F4713)+1,\"\")","v":""},null,{"$f":"IF(AND(BD!B4714=REF,BD!D4714>=DEB,BD!D4714<=FIN),MAX(calc!$H$1:H4713)+1,0)","v":0}]
[null,null,null,null,null,{"$f":"IF(COUNTIF(BD!$B$2:B4715,BD!B4715)=1,MAX($F$1:F4714)+1,\"\")","v":""},null,{"$f":"IF(AND(BD!B4715=REF,BD!D4715>=DEB,BD!D4715<=FIN),MAX(calc!$H$1:H4714)+1,0)","v":0}]
[null,null,null,null,null,{"$f":"IF(COUNTIF(BD!$B$2:B4716,BD!B4716)=1,MAX($F$1:F4715)+1,\"\")","v":""},null,{"$f":"IF(AND(BD!B4716=REF,BD!D4716>=DEB,BD!D4716<=FIN),MAX(calc!$H$1:H4715)+1,0)","v":0}]
[null,null,null,null,null,{"$f":"IF(COUNTIF(BD!$B$2:B4717,BD!B4717)=1,MAX($F$1:F4716)+1,\"\")","v":""},null,{"$f":"IF(AND(BD!B4717=REF,BD!D4717>=DEB,BD!D4717<=FIN),MAX(calc!$H$1:H4716)+1,0)","v":0}]
[null,null,null,null,null,{"$f":"IF(COUNTIF(BD!$B$2:B4718,BD!B4718)=1,MAX($F$1:F4717)+1,\"\")","v":""},null,{"$f":"IF(AND(BD!B4718=REF,BD!D4718>=DEB,BD!D4718<=FIN),MAX(calc!$H$1:H4717)+1,0)","v":0}]
[null,null,null,null,null,{"$f":"IF(COUNTIF(BD!$B$2:B4719,BD!B4719)=1,MAX($F$1:F4718)+1,\"\")","v":""},null,{"$f":"IF(AND(BD!B4719=REF,BD!D4719>=DEB,BD!D4719<=FIN),MAX(calc!$H$1:H4718)+1,0)","v":0}]
[null,null,null,null,null,{"$f":"IF(COUNTIF(BD!$B$2:B4720,BD!B4720)=1,MAX($F$1:F4719)+1,\"\")","v":""},null,{"$f":"IF(AND(BD!B4720=REF,BD!D4720>=DEB,BD!D4720<=FIN),MAX(calc!$H$1:H4719)+1,0)","v":0}]
[null,null,null,null,null,{"$f":"IF(COUNTIF(BD!$B$2:B4721,BD!B4721)=1,MAX($F$1:F4720)+1,\"\")","v":""},null,{"$f":"IF(AND(BD!B4721=REF,BD!D4721>=DEB,BD!D4721<=FIN),MAX(calc!$H$1:H4720)+1,0)","v":0}]
[null,null,null,null,null,{"$f":"IF(COUNTIF(BD!$B$2:B4722,BD!B4722)=1,MAX($F$1:F4721)+1,\"\")","v":""},null,{"$f":"IF(AND(BD!B4722=REF,BD!D4722>=DEB,BD!D4722<=FIN),MAX(calc!$H$1:H4721)+1,0)","v":0}]
[null,null,null,null,null,{"$f":"IF(COUNTIF(BD!$B$2:B4723,BD!B4723)=1,MAX($F$1:F4722)+1,\"\")","v":""},null,{"$f":"IF(AND(BD!B4723=REF,BD!D4723>=DEB,BD!D4723<=FIN),MAX(calc!$H$1:H4722)+1,0)","v":0}]
[null,null,null,null,null,{"$f":"IF(COUNTIF(BD!$B$2:B4724,BD!B4724)=1,MAX($F$1:F4723)+1,\"\")","v":""},null,{"$f":"IF(AND(BD!B4724=REF,BD!D4724>=DEB,BD!D4724<=FIN),MAX(calc!$H$1:H4723)+1,0)","v":0}]
[null,null,null,null,null,{"$f":"IF(COUNTIF(BD!$B$2:B4725,BD!B4725)=1,MAX($F$1:F4724)+1,\"\")","v":""},null,{"$f":"IF(AND(BD!B4725=REF,BD!D4725>=DEB,BD!D4725<=FIN),MAX(calc!$H$1:H4724)+1,0)","v":0}]
[null,null,null,null,null,{"$f":"IF(COUNTIF(BD!$B$2:B4726,BD!B4726)=1,MAX($F$1:F4725)+1,\"\")","v":""},null,{"$f":"IF(AND(BD!B4726=REF,BD!D4726>=DEB,BD!D4726<=FIN),MAX(calc!$H$1:H4725)+1,0)","v":0}]
[null,null,null,null,null,{"$f":"IF(COUNTIF(BD!$B$2:B4727,BD!B4727)=1,MAX($F$1:F4726)+1,\"\")","v":""},null,{"$f":"IF(AND(BD!B4727=REF,BD!D4727>=DEB,BD!D4727<=FIN),MAX(calc!$H$1:H4726)+1,0)","v":0}]
[null,null,null,null,null,{"$f":"IF(COUNTIF(BD!$B$2:B4728,BD!B4728)=1,MAX($F$1:F4727)+1,\"\")","v":""},null,{"$f":"IF(AND(BD!B4728=REF,BD!D4728>=DEB,BD!D4728<=FIN),MAX(calc!$H$1:H4727)+1,0)","v":0}]
[null,null,null,null,null,{"$f":"IF(COUNTIF(BD!$B$2:B4729,BD!B4729)=1,MAX($F$1:F4728)+1,\"\")","v":""},null,{"$f":"IF(AND(BD!B4729=REF,BD!D4729>=DEB,BD!D4729<=FIN),MAX(calc!$H$1:H4728)+1,0)","v":0}]
[null,null,null,null,null,{"$f":"IF(COUNTIF(BD!$B$2:B4730,BD!B4730)=1,MAX($F$1:F4729)+1,\"\")","v":""},null,{"$f":"IF(AND(BD!B4730=REF,BD!D4730>=DEB,BD!D4730<=FIN),MAX(calc!$H$1:H4729)+1,0)","v":0}]
[null,null,null,null,null,{"$f":"IF(COUNTIF(BD!$B$2:B4731,BD!B4731)=1,MAX($F$1:F4730)+1,\"\")","v":""},null,{"$f":"IF(AND(BD!B4731=REF,BD!D4731>=DEB,BD!D4731<=FIN),MAX(calc!$H$1:H4730)+1,0)","v":0}]
[null,null,null,null,null,{"$f":"IF(COUNTIF(BD!$B$2:B4732,BD!B4732)=1,MAX($F$1:F4731)+1,\"\")","v":""},null,{"$f":"IF(AND(BD!B4732=REF,BD!D4732>=DEB,BD!D4732<=FIN),MAX(calc!$H$1:H4731)+1,0)","v":0}]
[null,null,null,null,null,{"$f":"IF(COUNTIF(BD!$B$2:B4733,BD!B4733)=1,MAX($F$1:F4732)+1,\"\")","v":""},null,{"$f":"IF(AND(BD!B4733=REF,BD!D4733>=DEB,BD!D4733<=FIN),MAX(calc!$H$1:H4732)+1,0)","v":0}]
[null,null,null,null,null,{"$f":"IF(COUNTIF(BD!$B$2:B4734,BD!B4734)=1,MAX($F$1:F4733)+1,\"\")","v":""},null,{"$f":"IF(AND(BD!B4734=REF,BD!D4734>=DEB,BD!D4734<=FIN),MAX(calc!$H$1:H4733)+1,0)","v":0}]
[null,null,null,null,null,{"$f":"IF(COUNTIF(BD!$B$2:B4735,BD!B4735)=1,MAX($F$1:F4734)+1,\"\")","v":""},null,{"$f":"IF(AND(BD!B4735=REF,BD!D4735>=DEB,BD!D4735<=FIN),MAX(calc!$H$1:H4734)+1,0)","v":0}]
[null,null,null,null,null,{"$f":"IF(COUNTIF(BD!$B$2:B4736,BD!B4736)=1,MAX($F$1:F4735)+1,\"\")","v":""},null,{"$f":"IF(AND(BD!B4736=REF,BD!D4736>=DEB,BD!D4736<=FIN),MAX(calc!$H$1:H4735)+1,0)","v":0}]
[null,null,null,null,null,{"$f":"IF(COUNTIF(BD!$B$2:B4737,BD!B4737)=1,MAX($F$1:F4736)+1,\"\")","v":""},null,{"$f":"IF(AND(BD!B4737=REF,BD!D4737>=DEB,BD!D4737<=FIN),MAX(calc!$H$1:H4736)+1,0)","v":0}]
[null,null,null,null,null,{"$f":"IF(COUNTIF(BD!$B$2:B4738,BD!B4738)=1,MAX($F$1:F4737)+1,\"\")","v":""},null,{"$f":"IF(AND(BD!B4738=REF,BD!D4738>=DEB,BD!D4738<=FIN),MAX(calc!$H$1:H4737)+1,0)","v":0}]
[null,null,null,null,null,{"$f":"IF(COUNTIF(BD!$B$2:B4739,BD!B4739)=1,MAX($F$1:F4738)+1,\"\")","v":""},null,{"$f":"IF(AND(BD!B4739=REF,BD!D4739>=DEB,BD!D4739<=FIN),MAX(calc!$H$1:H4738)+1,0)","v":0}]
[null,null,null,null,null,{"$f":"IF(COUNTIF(BD!$B$2:B4740,BD!B4740)=1,MAX($F$1:F4739)+1,\"\")","v":""},null,{"$f":"IF(AND(BD!B4740=REF,BD!D4740>=DEB,BD!D4740<=FIN),MAX(calc!$H$1:H4739)+1,0)","v":0}]
[null,null,null,null,null,{"$f":"IF(COUNTIF(BD!$B$2:B4741,BD!B4741)=1,MAX($F$1:F4740)+1,\"\")","v":""},null,{"$f":"IF(AND(BD!B4741=REF,BD!D4741>=DEB,BD!D4741<=FIN),MAX(calc!$H$1:H4740)+1,0)","v":0}]
[null,null,null,null,null,{"$f":"IF(COUNTIF(BD!$B$2:B4742,BD!B4742)=1,MAX($F$1:F4741)+1,\"\")","v":""},null,{"$f":"IF(AND(BD!B4742=REF,BD!D4742>=DEB,BD!D4742<=FIN),MAX(calc!$H$1:H4741)+1,0)","v":0}]
[null,null,null,null,null,{"$f":"IF(COUNTIF(BD!$B$2:B4743,BD!B4743)=1,MAX($F$1:F4742)+1,\"\")","v":""},null,{"$f":"IF(AND(BD!B4743=REF,BD!D4743>=DEB,BD!D4743<=FIN),MAX(calc!$H$1:H4742)+1,0)","v":0}]
[null,null,null,null,null,{"$f":"IF(COUNTIF(BD!$B$2:B4744,BD!B4744)=1,MAX($F$1:F4743)+1,\"\")","v":""},null,{"$f":"IF(AND(BD!B4744=REF,BD!D4744>=DEB,BD!D4744<=FIN),MAX(calc!$H$1:H4743)+1,0)","v":0}]
[null,null,null,null,null,{"$f":"IF(COUNTIF(BD!$B$2:B4745,BD!B4745)=1,MAX($F$1:F4744)+1,\"\")","v":""},null,{"$f":"IF(AND(BD!B4745=REF,BD!D4745>=DEB,BD!D4745<=FIN),MAX(calc!$H$1:H4744)+1,0)","v":0}]
[null,null,null,null,null,{"$f":"IF(COUNTIF(BD!$B$2:B4746,BD!B4746)=1,MAX($F$1:F4745)+1,\"\")","v":""},null,{"$f":"IF(AND(BD!B4746=REF,BD!D4746>=DEB,BD!D4746<=FIN),MAX(calc!$H$1:H4745)+1,0)","v":0}]
[null,null,null,null,null,{"$f":"IF(COUNTIF(BD!$B$2:B4747,BD!B4747)=1,MAX($F$1:F4746)+1,\"\")","v":""},null,{"$f":"IF(AND(BD!B4747=REF,BD!D4747>=DEB,BD!D4747<=FIN),MAX(calc!$H$1:H4746)+1,0)","v":0}]
[null,null,null,null,null,{"$f":"IF(COUNTIF(BD!$B$2:B4748,BD!B4748)=1,MAX($F$1:F4747)+1,\"\")","v":""},null,{"$f":"IF(AND(BD!B4748=REF,BD!D4748>=DEB,BD!D4748<=FIN),MAX(calc!$H$1:H4747)+1,0)","v":0}]
[null,null,null,null,null,{"$f":"IF(COUNTIF(BD!$B$2:B4749,BD!B4749)=1,MAX($F$1:F4748)+1,\"\")","v":""},null,{"$f":"IF(AND(BD!B4749=REF,BD!D4749>=DEB,BD!D4749<=FIN),MAX(calc!$H$1:H4748)+1,0)","v":0}]
[null,null,null,null,null,{"$f":"IF(COUNTIF(BD!$B$2:B4750,BD!B4750)=1,MAX($F$1:F4749)+1,\"\")","v":""},null,{"$f":"IF(AND(BD!B4750=REF,BD!D4750>=DEB,BD!D4750<=FIN),MAX(calc!$H$1:H4749)+1,0)","v":0}]
[null,null,null,null,null,{"$f":"IF(COUNTIF(BD!$B$2:B4751,BD!B4751)=1,MAX($F$1:F4750)+1,\"\")","v":""},null,{"$f":"IF(AND(BD!B4751=REF,BD!D4751>=DEB,BD!D4751<=FIN),MAX(calc!$H$1:H4750)+1,0)","v":0}]
[null,null,null,null,null,{"$f":"IF(COUNTIF(BD!$B$2:B4752,BD!B4752)=1,MAX($F$1:F4751)+1,\"\")","v":""},null,{"$f":"IF(AND(BD!B4752=REF,BD!D4752>=DEB,BD!D4752<=FIN),MAX(calc!$H$1:H4751)+1,0)","v":0}]
[null,null,null,null,null,{"$f":"IF(COUNTIF(BD!$B$2:B4753,BD!B4753)=1,MAX($F$1:F4752)+1,\"\")","v":""},null,{"$f":"IF(AND(BD!B4753=REF,BD!D4753>=DEB,BD!D4753<=FIN),MAX(calc!$H$1:H4752)+1,0)","v":0}]
[null,null,null,null,null,{"$f":"IF(COUNTIF(BD!$B$2:B4754,BD!B4754)=1,MAX($F$1:F4753)+1,\"\")","v":""},null,{"$f":"IF(AND(BD!B4754=REF,BD!D4754>=DEB,BD!D4754<=FIN),MAX(calc!$H$1:H4753)+1,0)","v":0}]
[null,null,null,null,null,{"$f":"IF(COUNTIF(BD!$B$2:B4755,BD!B4755)=1,MAX($F$1:F4754)+1,\"\")","v":""},null,{"$f":"IF(AND(BD!B4755=REF,BD!D4755>=DEB,BD!D4755<=FIN),MAX(calc!$H$1:H4754)+1,0)","v":0}]
[null,null,null,null,null,{"$f":"IF(COUNTIF(BD!$B$2:B4756,BD!B4756)=1,MAX($F$1:F4755)+1,\"\")","v":""},null,{"$f":"IF(AND(BD!B4756=REF,BD!D4756>=DEB,BD!D4756<=FIN),MAX(calc!$H$1:H4755)+1,0)","v":0}]
[null,null,null,null,null,{"$f":"IF(COUNTIF(BD!$B$2:B4757,BD!B4757)=1,MAX($F$1:F4756)+1,\"\")","v":""},null,{"$f":"IF(AND(BD!B4757=REF,BD!D4757>=DEB,BD!D4757<=FIN),MAX(calc!$H$1:H4756)+1,0)","v":0}]
[null,null,null,null,null,{"$f":"IF(COUNTIF(BD!$B$2:B4758,BD!B4758)=1,MAX($F$1:F4757)+1,\"\")","v":""},null,{"$f":"IF(AND(BD!B4758=REF,BD!D4758>=DEB,BD!D4758<=FIN),MAX(calc!$H$1:H4757)+1,0)","v":0}]
[null,null,null,null,null,{"$f":"IF(COUNTIF(BD!$B$2:B4759,BD!B4759)=1,MAX($F$1:F4758)+1,\"\")","v":""},null,{"$f":"IF(AND(BD!B4759=REF,BD!D4759>=DEB,BD!D4759<=FIN),MAX(calc!$H$1:H4758)+1,0)","v":0}]
[null,null,null,null,null,{"$f":"IF(COUNTIF(BD!$B$2:B4760,BD!B4760)=1,MAX($F$1:F4759)+1,\"\")","v":""},null,{"$f":"IF(AND(BD!B4760=REF,BD!D4760>=DEB,BD!D4760<=FIN),MAX(calc!$H$1:H4759)+1,0)","v":0}]
[null,null,null,null,null,{"$f":"IF(COUNTIF(BD!$B$2:B4761,BD!B4761)=1,MAX($F$1:F4760)+1,\"\")","v":""},null,{"$f":"IF(AND(BD!B4761=REF,BD!D4761>=DEB,BD!D4761<=FIN),MAX(calc!$H$1:H4760)+1,0)","v":0}]
[null,null,null,null,null,{"$f":"IF(COUNTIF(BD!$B$2:B4762,BD!B4762)=1,MAX($F$1:F4761)+1,\"\")","v":""},null,{"$f":"IF(AND(BD!B4762=REF,BD!D4762>=DEB,BD!D4762<=FIN),MAX(calc!$H$1:H4761)+1,0)","v":0}]
[null,null,null,null,null,{"$f":"IF(COUNTIF(BD!$B$2:B4763,BD!B4763)=1,MAX($F$1:F4762)+1,\"\")","v":""},null,{"$f":"IF(AND(BD!B4763=REF,BD!D4763>=DEB,BD!D4763<=FIN),MAX(calc!$H$1:H4762)+1,0)","v":0}]
[null,null,null,null,null,{"$f":"IF(COUNTIF(BD!$B$2:B4764,BD!B4764)=1,MAX($F$1:F4763)+1,\"\")","v":""},null,{"$f":"IF(AND(BD!B4764=REF,BD!D4764>=DEB,BD!D4764<=FIN),MAX(calc!$H$1:H4763)+1,0)","v":0}]
[null,null,null,null,null,{"$f":"IF(COUNTIF(BD!$B$2:B4765,BD!B4765)=1,MAX($F$1:F4764)+1,\"\")","v":""},null,{"$f":"IF(AND(BD!B4765=REF,BD!D4765>=DEB,BD!D4765<=FIN),MAX(calc!$H$1:H4764)+1,0)","v":0}]
[null,null,null,null,null,{"$f":"IF(COUNTIF(BD!$B$2:B4766,BD!B4766)=1,MAX($F$1:F4765)+1,\"\")","v":""},null,{"$f":"IF(AND(BD!B4766=REF,BD!D4766>=DEB,BD!D4766<=FIN),MAX(calc!$H$1:H4765)+1,0)","v":0}]
[null,null,null,null,null,{"$f":"IF(COUNTIF(BD!$B$2:B4767,BD!B4767)=1,MAX($F$1:F4766)+1,\"\")","v":""},null,{"$f":"IF(AND(BD!B4767=REF,BD!D4767>=DEB,BD!D4767<=FIN),MAX(calc!$H$1:H4766)+1,0)","v":0}]
[null,null,null,null,null,{"$f":"IF(COUNTIF(BD!$B$2:B4768,BD!B4768)=1,MAX($F$1:F4767)+1,\"\")","v":""},null,{"$f":"IF(AND(BD!B4768=REF,BD!D4768>=DEB,BD!D4768<=FIN),MAX(calc!$H$1:H4767)+1,0)","v":0}]
[null,null,null,null,null,{"$f":"IF(COUNTIF(BD!$B$2:B4769,BD!B4769)=1,MAX($F$1:F4768)+1,\"\")","v":""},null,{"$f":"IF(AND(BD!B4769=REF,BD!D4769>=DEB,BD!D4769<=FIN),MAX(calc!$H$1:H4768)+1,0)","v":0}]
[null,null,null,null,null,{"$f":"IF(COUNTIF(BD!$B$2:B4770,BD!B4770)=1,MAX($F$1:F4769)+1,\"\")","v":""},null,{"$f":"IF(AND(BD!B4770=REF,BD!D4770>=DEB,BD!D4770<=FIN),MAX(calc!$H$1:H4769)+1,0)","v":0}]
[null,null,null,null,null,{"$f":"IF(COUNTIF(BD!$B$2:B4771,BD!B4771)=1,MAX($F$1:F4770)+1,\"\")","v":""},null,{"$f":"IF(AND(BD!B4771=REF,BD!D4771>=DEB,BD!D4771<=FIN),MAX(calc!$H$1:H4770)+1,0)","v":0}]
[null,null,null,null,null,{"$f":"IF(COUNTIF(BD!$B$2:B4772,BD!B4772)=1,MAX($F$1:F4771)+1,\"\")","v":""},null,{"$f":"IF(AND(BD!B4772=REF,BD!D4772>=DEB,BD!D4772<=FIN),MAX(calc!$H$1:H4771)+1,0)","v":0}]
[null,null,null,null,null,{"$f":"IF(COUNTIF(BD!$B$2:B4773,BD!B4773)=1,MAX($F$1:F4772)+1,\"\")","v":""},null,{"$f":"IF(AND(BD!B4773=REF,BD!D4773>=DEB,BD!D4773<=FIN),MAX(calc!$H$1:H4772)+1,0)","v":0}]
[null,null,null,null,null,{"$f":"IF(COUNTIF(BD!$B$2:B4774,BD!B4774)=1,MAX($F$1:F4773)+1,\"\")","v":""},null,{"$f":"IF(AND(BD!B4774=REF,BD!D4774>=DEB,BD!D4774<=FIN),MAX(calc!$H$1:H4773)+1,0)","v":0}]
[null,null,null,null,null,{"$f":"IF(COUNTIF(BD!$B$2:B4775,BD!B4775)=1,MAX($F$1:F4774)+1,\"\")","v":""},null,{"$f":"IF(AND(BD!B4775=REF,BD!D4775>=DEB,BD!D4775<=FIN),MAX(calc!$H$1:H4774)+1,0)","v":0}]
[null,null,null,null,null,{"$f":"IF(COUNTIF(BD!$B$2:B4776,BD!B4776)=1,MAX($F$1:F4775)+1,\"\")","v":""},null,{"$f":"IF(AND(BD!B4776=REF,BD!D4776>=DEB,BD!D4776<=FIN),MAX(calc!$H$1:H4775)+1,0)","v":0}]
[null,null,null,null,null,{"$f":"IF(COUNTIF(BD!$B$2:B4777,BD!B4777)=1,MAX($F$1:F4776)+1,\"\")","v":""},null,{"$f":"IF(AND(BD!B4777=REF,BD!D4777>=DEB,BD!D4777<=FIN),MAX(calc!$H$1:H4776)+1,0)","v":0}]
[null,null,null,null,null,{"$f":"IF(COUNTIF(BD!$B$2:B4778,BD!B4778)=1,MAX($F$1:F4777)+1,\"\")","v":""},null,{"$f":"IF(AND(BD!B4778=REF,BD!D4778>=DEB,BD!D4778<=FIN),MAX(calc!$H$1:H4777)+1,0)","v":0}]
[null,null,null,null,null,{"$f":"IF(COUNTIF(BD!$B$2:B4779,BD!B4779)=1,MAX($F$1:F4778)+1,\"\")","v":""},null,{"$f":"IF(AND(BD!B4779=REF,BD!D4779>=DEB,BD!D4779<=FIN),MAX(calc!$H$1:H4778)+1,0)","v":0}]
[null,null,null,null,null,{"$f":"IF(COUNTIF(BD!$B$2:B4780,BD!B4780)=1,MAX($F$1:F4779)+1,\"\")","v":""},null,{"$f":"IF(AND(BD!B4780=REF,BD!D4780>=DEB,BD!D4780<=FIN),MAX(calc!$H$1:H4779)+1,0)","v":0}]
[null,null,null,null,null,{"$f":"IF(COUNTIF(BD!$B$2:B4781,BD!B4781)=1,MAX($F$1:F4780)+1,\"\")","v":""},null,{"$f":"IF(AND(BD!B4781=REF,BD!D4781>=DEB,BD!D4781<=FIN),MAX(calc!$H$1:H4780)+1,0)","v":0}]
[null,null,null,null,null,{"$f":"IF(COUNTIF(BD!$B$2:B4782,BD!B4782)=1,MAX($F$1:F4781)+1,\"\")","v":""},null,{"$f":"IF(AND(BD!B4782=REF,BD!D4782>=DEB,BD!D4782<=FIN),MAX(calc!$H$1:H4781)+1,0)","v":0}]
[null,null,null,null,null,{"$f":"IF(COUNTIF(BD!$B$2:B4783,BD!B4783)=1,MAX($F$1:F4782)+1,\"\")","v":""},null,{"$f":"IF(AND(BD!B4783=REF,BD!D4783>=DEB,BD!D4783<=FIN),MAX(calc!$H$1:H4782)+1,0)","v":0}]
[null,null,null,null,null,{"$f":"IF(COUNTIF(BD!$B$2:B4784,BD!B4784)=1,MAX($F$1:F4783)+1,\"\")","v":""},null,{"$f":"IF(AND(BD!B4784=REF,BD!D4784>=DEB,BD!D4784<=FIN),MAX(calc!$H$1:H4783)+1,0)","v":0}]
[null,null,null,null,null,{"$f":"IF(COUNTIF(BD!$B$2:B4785,BD!B4785)=1,MAX($F$1:F4784)+1,\"\")","v":""},null,{"$f":"IF(AND(BD!B4785=REF,BD!D4785>=DEB,BD!D4785<=FIN),MAX(calc!$H$1:H4784)+1,0)","v":0}]
[null,null,null,null,null,{"$f":"IF(COUNTIF(BD!$B$2:B4786,BD!B4786)=1,MAX($F$1:F4785)+1,\"\")","v":""},null,{"$f":"IF(AND(BD!B4786=REF,BD!D4786>=DEB,BD!D4786<=FIN),MAX(calc!$H$1:H4785)+1,0)","v":0}]
[null,null,null,null,null,{"$f":"IF(COUNTIF(BD!$B$2:B4787,BD!B4787)=1,MAX($F$1:F4786)+1,\"\")","v":""},null,{"$f":"IF(AND(BD!B4787=REF,BD!D4787>=DEB,BD!D4787<=FIN),MAX(calc!$H$1:H4786)+1,0)","v":0}]
[null,null,null,null,null,{"$f":"IF(COUNTIF(BD!$B$2:B4788,BD!B4788)=1,MAX($F$1:F4787)+1,\"\")","v":""},null,{"$f":"IF(AND(BD!B4788=REF,BD!D4788>=DEB,BD!D4788<=FIN),MAX(calc!$H$1:H4787)+1,0)","v":0}]
[null,null,null,null,null,{"$f":"IF(COUNTIF(BD!$B$2:B4789,BD!B4789)=1,MAX($F$1:F4788)+1,\"\")","v":""},null,{"$f":"IF(AND(BD!B4789=REF,BD!D4789>=DEB,BD!D4789<=FIN),MAX(calc!$H$1:H4788)+1,0)","v":0}]
[null,null,null,null,null,{"$f":"IF(COUNTIF(BD!$B$2:B4790,BD!B4790)=1,MAX($F$1:F4789)+1,\"\")","v":""},null,{"$f":"IF(AND(BD!B4790=REF,BD!D4790>=DEB,BD!D4790<=FIN),MAX(calc!$H$1:H4789)+1,0)","v":0}]
[null,null,null,null,null,{"$f":"IF(COUNTIF(BD!$B$2:B4791,BD!B4791)=1,MAX($F$1:F4790)+1,\"\")","v":""},null,{"$f":"IF(AND(BD!B4791=REF,BD!D4791>=DEB,BD!D4791<=FIN),MAX(calc!$H$1:H4790)+1,0)","v":0}]
[null,null,null,null,null,{"$f":"IF(COUNTIF(BD!$B$2:B4792,BD!B4792)=1,MAX($F$1:F4791)+1,\"\")","v":""},null,{"$f":"IF(AND(BD!B4792=REF,BD!D4792>=DEB,BD!D4792<=FIN),MAX(calc!$H$1:H4791)+1,0)","v":0}]
[null,null,null,null,null,{"$f":"IF(COUNTIF(BD!$B$2:B4793,BD!B4793)=1,MAX($F$1:F4792)+1,\"\")","v":""},null,{"$f":"IF(AND(BD!B4793=REF,BD!D4793>=DEB,BD!D4793<=FIN),MAX(calc!$H$1:H4792)+1,0)","v":0}]
[null,null,null,null,null,{"$f":"IF(COUNTIF(BD!$B$2:B4794,BD!B4794)=1,MAX($F$1:F4793)+1,\"\")","v":""},null,{"$f":"IF(AND(BD!B4794=REF,BD!D4794>=DEB,BD!D4794<=FIN),MAX(calc!$H$1:H4793)+1,0)","v":0}]
[null,null,null,null,null,{"$f":"IF(COUNTIF(BD!$B$2:B4795,BD!B4795)=1,MAX($F$1:F4794)+1,\"\")","v":""},null,{"$f":"IF(AND(BD!B4795=REF,BD!D4795>=DEB,BD!D4795<=FIN),MAX(calc!$H$1:H4794)+1,0)","v":0}]
[null,null,null,null,null,{"$f":"IF(COUNTIF(BD!$B$2:B4796,BD!B4796)=1,MAX($F$1:F4795)+1,\"\")","v":""},null,{"$f":"IF(AND(BD!B4796=REF,BD!D4796>=DEB,BD!D4796<=FIN),MAX(calc!$H$1:H4795)+1,0)","v":0}]
[null,null,null,null,null,{"$f":"IF(COUNTIF(BD!$B$2:B4797,BD!B4797)=1,MAX($F$1:F4796)+1,\"\")","v":""},null,{"$f":"IF(AND(BD!B4797=REF,BD!D4797>=DEB,BD!D4797<=FIN),MAX(calc!$H$1:H4796)+1,0)","v":0}]
[null,null,null,null,null,{"$f":"IF(COUNTIF(BD!$B$2:B4798,BD!B4798)=1,MAX($F$1:F4797)+1,\"\")","v":""},null,{"$f":"IF(AND(BD!B4798=REF,BD!D4798>=DEB,BD!D4798<=FIN),MAX(calc!$H$1:H4797)+1,0)","v":0}]
[null,null,null,null,null,{"$f":"IF(COUNTIF(BD!$B$2:B4799,BD!B4799)=1,MAX($F$1:F4798)+1,\"\")","v":""},null,{"$f":"IF(AND(BD!B4799=REF,BD!D4799>=DEB,BD!D4799<=FIN),MAX(calc!$H$1:H4798)+1,0)","v":0}]
[null,null,null,null,null,{"$f":"IF(COUNTIF(BD!$B$2:B4800,BD!B4800)=1,MAX($F$1:F4799)+1,\"\")","v":""},null,{"$f":"IF(AND(BD!B4800=REF,BD!D4800>=DEB,BD!D4800<=FIN),MAX(calc!$H$1:H4799)+1,0)","v":0}]
[null,null,null,null,null,{"$f":"IF(COUNTIF(BD!$B$2:B4801,BD!B4801)=1,MAX($F$1:F4800)+1,\"\")","v":""},null,{"$f":"IF(AND(BD!B4801=REF,BD!D4801>=DEB,BD!D4801<=FIN),MAX(calc!$H$1:H4800)+1,0)","v":0}]
[null,null,null,null,null,{"$f":"IF(COUNTIF(BD!$B$2:B4802,BD!B4802)=1,MAX($F$1:F4801)+1,\"\")","v":""},null,{"$f":"IF(AND(BD!B4802=REF,BD!D4802>=DEB,BD!D4802<=FIN),MAX(calc!$H$1:H4801)+1,0)","v":0}]
[null,null,null,null,null,{"$f":"IF(COUNTIF(BD!$B$2:B4803,BD!B4803)=1,MAX($F$1:F4802)+1,\"\")","v":""},null,{"$f":"IF(AND(BD!B4803=REF,BD!D4803>=DEB,BD!D4803<=FIN),MAX(calc!$H$1:H4802)+1,0)","v":0}]
[null,null,null,null,null,{"$f":"IF(COUNTIF(BD!$B$2:B4804,BD!B4804)=1,MAX($F$1:F4803)+1,\"\")","v":""},null,{"$f":"IF(AND(BD!B4804=REF,BD!D4804>=DEB,BD!D4804<=FIN),MAX(calc!$H$1:H4803)+1,0)","v":0}]
[null,null,null,null,null,{"$f":"IF(COUNTIF(BD!$B$2:B4805,BD!B4805)=1,MAX($F$1:F4804)+1,\"\")","v":""},null,{"$f":"IF(AND(BD!B4805=REF,BD!D4805>=DEB,BD!D4805<=FIN),MAX(calc!$H$1:H4804)+1,0)","v":0}]
[null,null,null,null,null,{"$f":"IF(COUNTIF(BD!$B$2:B4806,BD!B4806)=1,MAX($F$1:F4805)+1,\"\")","v":""},null,{"$f":"IF(AND(BD!B4806=REF,BD!D4806>=DEB,BD!D4806<=FIN),MAX(calc!$H$1:H4805)+1,0)","v":0}]
[null,null,null,null,null,{"$f":"IF(COUNTIF(BD!$B$2:B4807,BD!B4807)=1,MAX($F$1:F4806)+1,\"\")","v":""},null,{"$f":"IF(AND(BD!B4807=REF,BD!D4807>=DEB,BD!D4807<=FIN),MAX(calc!$H$1:H4806)+1,0)","v":0}]
[null,null,null,null,null,{"$f":"IF(COUNTIF(BD!$B$2:B4808,BD!B4808)=1,MAX($F$1:F4807)+1,\"\")","v":""},null,{"$f":"IF(AND(BD!B4808=REF,BD!D4808>=DEB,BD!D4808<=FIN),MAX(calc!$H$1:H4807)+1,0)","v":0}]
[null,null,null,null,null,{"$f":"IF(COUNTIF(BD!$B$2:B4809,BD!B4809)=1,MAX($F$1:F4808)+1,\"\")","v":""},null,{"$f":"IF(AND(BD!B4809=REF,BD!D4809>=DEB,BD!D4809<=FIN),MAX(calc!$H$1:H4808)+1,0)","v":0}]
[null,null,null,null,null,{"$f":"IF(COUNTIF(BD!$B$2:B4810,BD!B4810)=1,MAX($F$1:F4809)+1,\"\")","v":""},null,{"$f":"IF(AND(BD!B4810=REF,BD!D4810>=DEB,BD!D4810<=FIN),MAX(calc!$H$1:H4809)+1,0)","v":0}]
[null,null,null,null,null,{"$f":"IF(COUNTIF(BD!$B$2:B4811,BD!B4811)=1,MAX($F$1:F4810)+1,\"\")","v":""},null,{"$f":"IF(AND(BD!B4811=REF,BD!D4811>=DEB,BD!D4811<=FIN),MAX(calc!$H$1:H4810)+1,0)","v":0}]
[null,null,null,null,null,{"$f":"IF(COUNTIF(BD!$B$2:B4812,BD!B4812)=1,MAX($F$1:F4811)+1,\"\")","v":""},null,{"$f":"IF(AND(BD!B4812=REF,BD!D4812>=DEB,BD!D4812<=FIN),MAX(calc!$H$1:H4811)+1,0)","v":0}]
[null,null,null,null,null,{"$f":"IF(COUNTIF(BD!$B$2:B4813,BD!B4813)=1,MAX($F$1:F4812)+1,\"\")","v":""},null,{"$f":"IF(AND(BD!B4813=REF,BD!D4813>=DEB,BD!D4813<=FIN),MAX(calc!$H$1:H4812)+1,0)","v":0}]
[null,null,null,null,null,{"$f":"IF(COUNTIF(BD!$B$2:B4814,BD!B4814)=1,MAX($F$1:F4813)+1,\"\")","v":""},null,{"$f":"IF(AND(BD!B4814=REF,BD!D4814>=DEB,BD!D4814<=FIN),MAX(calc!$H$1:H4813)+1,0)","v":0}]
[null,null,null,null,null,{"$f":"IF(COUNTIF(BD!$B$2:B4815,BD!B4815)=1,MAX($F$1:F4814)+1,\"\")","v":""},null,{"$f":"IF(AND(BD!B4815=REF,BD!D4815>=DEB,BD!D4815<=FIN),MAX(calc!$H$1:H4814)+1,0)","v":0}]
[null,null,null,null,null,{"$f":"IF(COUNTIF(BD!$B$2:B4816,BD!B4816)=1,MAX($F$1:F4815)+1,\"\")","v":""},null,{"$f":"IF(AND(BD!B4816=REF,BD!D4816>=DEB,BD!D4816<=FIN),MAX(calc!$H$1:H4815)+1,0)","v":0}]
[null,null,null,null,null,{"$f":"IF(COUNTIF(BD!$B$2:B4817,BD!B4817)=1,MAX($F$1:F4816)+1,\"\")","v":""},null,{"$f":"IF(AND(BD!B4817=REF,BD!D4817>=DEB,BD!D4817<=FIN),MAX(calc!$H$1:H4816)+1,0)","v":0}]
[null,null,null,null,null,{"$f":"IF(COUNTIF(BD!$B$2:B4818,BD!B4818)=1,MAX($F$1:F4817)+1,\"\")","v":""},null,{"$f":"IF(AND(BD!B4818=REF,BD!D4818>=DEB,BD!D4818<=FIN),MAX(calc!$H$1:H4817)+1,0)","v":0}]
[null,null,null,null,null,{"$f":"IF(COUNTIF(BD!$B$2:B4819,BD!B4819)=1,MAX($F$1:F4818)+1,\"\")","v":""},null,{"$f":"IF(AND(BD!B4819=REF,BD!D4819>=DEB,BD!D4819<=FIN),MAX(calc!$H$1:H4818)+1,0)","v":0}]
[null,null,null,null,null,{"$f":"IF(COUNTIF(BD!$B$2:B4820,BD!B4820)=1,MAX($F$1:F4819)+1,\"\")","v":""},null,{"$f":"IF(AND(BD!B4820=REF,BD!D4820>=DEB,BD!D4820<=FIN),MAX(calc!$H$1:H4819)+1,0)","v":0}]
[null,null,null,null,null,{"$f":"IF(COUNTIF(BD!$B$2:B4821,BD!B4821)=1,MAX($F$1:F4820)+1,\"\")","v":""},null,{"$f":"IF(AND(BD!B4821=REF,BD!D4821>=DEB,BD!D4821<=FIN),MAX(calc!$H$1:H4820)+1,0)","v":0}]
[null,null,null,null,null,{"$f":"IF(COUNTIF(BD!$B$2:B4822,BD!B4822)=1,MAX($F$1:F4821)+1,\"\")","v":""},null,{"$f":"IF(AND(BD!B4822=REF,BD!D4822>=DEB,BD!D4822<=FIN),MAX(calc!$H$1:H4821)+1,0)","v":0}]
[null,null,null,null,null,{"$f":"IF(COUNTIF(BD!$B$2:B4823,BD!B4823)=1,MAX($F$1:F4822)+1,\"\")","v":""},null,{"$f":"IF(AND(BD!B4823=REF,BD!D4823>=DEB,BD!D4823<=FIN),MAX(calc!$H$1:H4822)+1,0)","v":0}]
[null,null,null,null,null,{"$f":"IF(COUNTIF(BD!$B$2:B4824,BD!B4824)=1,MAX($F$1:F4823)+1,\"\")","v":""},null,{"$f":"IF(AND(BD!B4824=REF,BD!D4824>=DEB,BD!D4824<=FIN),MAX(calc!$H$1:H4823)+1,0)","v":0}]
[null,null,null,null,null,{"$f":"IF(COUNTIF(BD!$B$2:B4825,BD!B4825)=1,MAX($F$1:F4824)+1,\"\")","v":""},null,{"$f":"IF(AND(BD!B4825=REF,BD!D4825>=DEB,BD!D4825<=FIN),MAX(calc!$H$1:H4824)+1,0)","v":0}]
[null,null,null,null,null,{"$f":"IF(COUNTIF(BD!$B$2:B4826,BD!B4826)=1,MAX($F$1:F4825)+1,\"\")","v":""},null,{"$f":"IF(AND(BD!B4826=REF,BD!D4826>=DEB,BD!D4826<=FIN),MAX(calc!$H$1:H4825)+1,0)","v":0}]
[null,null,null,null,null,{"$f":"IF(COUNTIF(BD!$B$2:B4827,BD!B4827)=1,MAX($F$1:F4826)+1,\"\")","v":""},null,{"$f":"IF(AND(BD!B4827=REF,BD!D4827>=DEB,BD!D4827<=FIN),MAX(calc!$H$1:H4826)+1,0)","v":0}]
[null,null,null,null,null,{"$f":"IF(COUNTIF(BD!$B$2:B4828,BD!B4828)=1,MAX($F$1:F4827)+1,\"\")","v":""},null,{"$f":"IF(AND(BD!B4828=REF,BD!D4828>=DEB,BD!D4828<=FIN),MAX(calc!$H$1:H4827)+1,0)","v":0}]
[null,null,null,null,null,{"$f":"IF(COUNTIF(BD!$B$2:B4829,BD!B4829)=1,MAX($F$1:F4828)+1,\"\")","v":""},null,{"$f":"IF(AND(BD!B4829=REF,BD!D4829>=DEB,BD!D4829<=FIN),MAX(calc!$H$1:H4828)+1,0)","v":0}]
[null,null,null,null,null,{"$f":"IF(COUNTIF(BD!$B$2:B4830,BD!B4830)=1,MAX($F$1:F4829)+1,\"\")","v":""},null,{"$f":"IF(AND(BD!B4830=REF,BD!D4830>=DEB,BD!D4830<=FIN),MAX(calc!$H$1:H4829)+1,0)","v":0}]
[null,null,null,null,null,{"$f":"IF(COUNTIF(BD!$B$2:B4831,BD!B4831)=1,MAX($F$1:F4830)+1,\"\")","v":""},null,{"$f":"IF(AND(BD!B4831=REF,BD!D4831>=DEB,BD!D4831<=FIN),MAX(calc!$H$1:H4830)+1,0)","v":0}]
[null,null,null,null,null,{"$f":"IF(COUNTIF(BD!$B$2:B4832,BD!B4832)=1,MAX($F$1:F4831)+1,\"\")","v":""},null,{"$f":"IF(AND(BD!B4832=REF,BD!D4832>=DEB,BD!D4832<=FIN),MAX(calc!$H$1:H4831)+1,0)","v":0}]
[null,null,null,null,null,{"$f":"IF(COUNTIF(BD!$B$2:B4833,BD!B4833)=1,MAX($F$1:F4832)+1,\"\")","v":""},null,{"$f":"IF(AND(BD!B4833=REF,BD!D4833>=DEB,BD!D4833<=FIN),MAX(calc!$H$1:H4832)+1,0)","v":0}]
[null,null,null,null,null,{"$f":"IF(COUNTIF(BD!$B$2:B4834,BD!B4834)=1,MAX($F$1:F4833)+1,\"\")","v":""},null,{"$f":"IF(AND(BD!B4834=REF,BD!D4834>=DEB,BD!D4834<=FIN),MAX(calc!$H$1:H4833)+1,0)","v":0}]
[null,null,null,null,null,{"$f":"IF(COUNTIF(BD!$B$2:B4835,BD!B4835)=1,MAX($F$1:F4834)+1,\"\")","v":""},null,{"$f":"IF(AND(BD!B4835=REF,BD!D4835>=DEB,BD!D4835<=FIN),MAX(calc!$H$1:H4834)+1,0)","v":0}]
[null,null,null,null,null,{"$f":"IF(COUNTIF(BD!$B$2:B4836,BD!B4836)=1,MAX($F$1:F4835)+1,\"\")","v":""},null,{"$f":"IF(AND(BD!B4836=REF,BD!D4836>=DEB,BD!D4836<=FIN),MAX(calc!$H$1:H4835)+1,0)","v":0}]
[null,null,null,null,null,{"$f":"IF(COUNTIF(BD!$B$2:B4837,BD!B4837)=1,MAX($F$1:F4836)+1,\"\")","v":""},null,{"$f":"IF(AND(BD!B4837=REF,BD!D4837>=DEB,BD!D4837<=FIN),MAX(calc!$H$1:H4836)+1,0)","v":0}]
[null,null,null,null,null,{"$f":"IF(COUNTIF(BD!$B$2:B4838,BD!B4838)=1,MAX($F$1:F4837)+1,\"\")","v":""},null,{"$f":"IF(AND(BD!B4838=REF,BD!D4838>=DEB,BD!D4838<=FIN),MAX(calc!$H$1:H4837)+1,0)","v":0}]
[null,null,null,null,null,{"$f":"IF(COUNTIF(BD!$B$2:B4839,BD!B4839)=1,MAX($F$1:F4838)+1,\"\")","v":""},null,{"$f":"IF(AND(BD!B4839=REF,BD!D4839>=DEB,BD!D4839<=FIN),MAX(calc!$H$1:H4838)+1,0)","v":0}]
[null,null,null,null,null,{"$f":"IF(COUNTIF(BD!$B$2:B4840,BD!B4840)=1,MAX($F$1:F4839)+1,\"\")","v":""},null,{"$f":"IF(AND(BD!B4840=REF,BD!D4840>=DEB,BD!D4840<=FIN),MAX(calc!$H$1:H4839)+1,0)","v":0}]
[null,null,null,null,null,{"$f":"IF(COUNTIF(BD!$B$2:B4841,BD!B4841)=1,MAX($F$1:F4840)+1,\"\")","v":""},null,{"$f":"IF(AND(BD!B4841=REF,BD!D4841>=DEB,BD!D4841<=FIN),MAX(calc!$H$1:H4840)+1,0)","v":0}]
[null,null,null,null,null,{"$f":"IF(COUNTIF(BD!$B$2:B4842,BD!B4842)=1,MAX($F$1:F4841)+1,\"\")","v":""},null,{"$f":"IF(AND(BD!B4842=REF,BD!D4842>=DEB,BD!D4842<=FIN),MAX(calc!$H$1:H4841)+1,0)","v":0}]
[null,null,null,null,null,{"$f":"IF(COUNTIF(BD!$B$2:B4843,BD!B4843)=1,MAX($F$1:F4842)+1,\"\")","v":""},null,{"$f":"IF(AND(BD!B4843=REF,BD!D4843>=DEB,BD!D4843<=FIN),MAX(calc!$H$1:H4842)+1,0)","v":0}]
[null,null,null,null,null,{"$f":"IF(COUNTIF(BD!$B$2:B4844,BD!B4844)=1,MAX($F$1:F4843)+1,\"\")","v":""},null,{"$f":"IF(AND(BD!B4844=REF,BD!D4844>=DEB,BD!D4844<=FIN),MAX(calc!$H$1:H4843)+1,0)","v":0}]
[null,null,null,null,null,{"$f":"IF(COUNTIF(BD!$B$2:B4845,BD!B4845)=1,MAX($F$1:F4844)+1,\"\")","v":""},null,{"$f":"IF(AND(BD!B4845=REF,BD!D4845>=DEB,BD!D4845<=FIN),MAX(calc!$H$1:H4844)+1,0)","v":0}]
[null,null,null,null,null,{"$f":"IF(COUNTIF(BD!$B$2:B4846,BD!B4846)=1,MAX($F$1:F4845)+1,\"\")","v":""},null,{"$f":"IF(AND(BD!B4846=REF,BD!D4846>=DEB,BD!D4846<=FIN),MAX(calc!$H$1:H4845)+1,0)","v":0}]
[null,null,null,null,null,{"$f":"IF(COUNTIF(BD!$B$2:B4847,BD!B4847)=1,MAX($F$1:F4846)+1,\"\")","v":""},null,{"$f":"IF(AND(BD!B4847=REF,BD!D4847>=DEB,BD!D4847<=FIN),MAX(calc!$H$1:H4846)+1,0)","v":0}]
[null,null,null,null,null,{"$f":"IF(COUNTIF(BD!$B$2:B4848,BD!B4848)=1,MAX($F$1:F4847)+1,\"\")","v":""},null,{"$f":"IF(AND(BD!B4848=REF,BD!D4848>=DEB,BD!D4848<=FIN),MAX(calc!$H$1:H4847)+1,0)","v":0}]
[null,null,null,null,null,{"$f":"IF(COUNTIF(BD!$B$2:B4849,BD!B4849)=1,MAX($F$1:F4848)+1,\"\")","v":""},null,{"$f":"IF(AND(BD!B4849=REF,BD!D4849>=DEB,BD!D4849<=FIN),MAX(calc!$H$1:H4848)+1,0)","v":0}]
[null,null,null,null,null,{"$f":"IF(COUNTIF(BD!$B$2:B4850,BD!B4850)=1,MAX($F$1:F4849)+1,\"\")","v":""},null,{"$f":"IF(AND(BD!B4850=REF,BD!D4850>=DEB,BD!D4850<=FIN),MAX(calc!$H$1:H4849)+1,0)","v":0}]
[null,null,null,null,null,{"$f":"IF(COUNTIF(BD!$B$2:B4851,BD!B4851)=1,MAX($F$1:F4850)+1,\"\")","v":""},null,{"$f":"IF(AND(BD!B4851=REF,BD!D4851>=DEB,BD!D4851<=FIN),MAX(calc!$H$1:H4850)+1,0)","v":0}]
[null,null,null,null,null,{"$f":"IF(COUNTIF(BD!$B$2:B4852,BD!B4852)=1,MAX($F$1:F4851)+1,\"\")","v":""},null,{"$f":"IF(AND(BD!B4852=REF,BD!D4852>=DEB,BD!D4852<=FIN),MAX(calc!$H$1:H4851)+1,0)","v":0}]
[null,null,null,null,null,{"$f":"IF(COUNTIF(BD!$B$2:B4853,BD!B4853)=1,MAX($F$1:F4852)+1,\"\")","v":""},null,{"$f":"IF(AND(BD!B4853=REF,BD!D4853>=DEB,BD!D4853<=FIN),MAX(calc!$H$1:H4852)+1,0)","v":0}]
[null,null,null,null,null,{"$f":"IF(COUNTIF(BD!$B$2:B4854,BD!B4854)=1,MAX($F$1:F4853)+1,\"\")","v":""},null,{"$f":"IF(AND(BD!B4854=REF,BD!D4854>=DEB,BD!D4854<=FIN),MAX(calc!$H$1:H4853)+1,0)","v":0}]
[null,null,null,null,null,{"$f":"IF(COUNTIF(BD!$B$2:B4855,BD!B4855)=1,MAX($F$1:F4854)+1,\"\")","v":""},null,{"$f":"IF(AND(BD!B4855=REF,BD!D4855>=DEB,BD!D4855<=FIN),MAX(calc!$H$1:H4854)+1,0)","v":0}]
[null,null,null,null,null,{"$f":"IF(COUNTIF(BD!$B$2:B4856,BD!B4856)=1,MAX($F$1:F4855)+1,\"\")","v":""},null,{"$f":"IF(AND(BD!B4856=REF,BD!D4856>=DEB,BD!D4856<=FIN),MAX(calc!$H$1:H4855)+1,0)","v":0}]
[null,null,null,null,null,{"$f":"IF(COUNTIF(BD!$B$2:B4857,BD!B4857)=1,MAX($F$1:F4856)+1,\"\")","v":""},null,{"$f":"IF(AND(BD!B4857=REF,BD!D4857>=DEB,BD!D4857<=FIN),MAX(calc!$H$1:H4856)+1,0)","v":0}]
[null,null,null,null,null,{"$f":"IF(COUNTIF(BD!$B$2:B4858,BD!B4858)=1,MAX($F$1:F4857)+1,\"\")","v":""},null,{"$f":"IF(AND(BD!B4858=REF,BD!D4858>=DEB,BD!D4858<=FIN),MAX(calc!$H$1:H4857)+1,0)","v":0}]
[null,null,null,null,null,{"$f":"IF(COUNTIF(BD!$B$2:B4859,BD!B4859)=1,MAX($F$1:F4858)+1,\"\")","v":""},null,{"$f":"IF(AND(BD!B4859=REF,BD!D4859>=DEB,BD!D4859<=FIN),MAX(calc!$H$1:H4858)+1,0)","v":0}]
[null,null,null,null,null,{"$f":"IF(COUNTIF(BD!$B$2:B4860,BD!B4860)=1,MAX($F$1:F4859)+1,\"\")","v":""},null,{"$f":"IF(AND(BD!B4860=REF,BD!D4860>=DEB,BD!D4860<=FIN),MAX(calc!$H$1:H4859)+1,0)","v":0}]
[null,null,null,null,null,{"$f":"IF(COUNTIF(BD!$B$2:B4861,BD!B4861)=1,MAX($F$1:F4860)+1,\"\")","v":""},null,{"$f":"IF(AND(BD!B4861=REF,BD!D4861>=DEB,BD!D4861<=FIN),MAX(calc!$H$1:H4860)+1,0)","v":0}]
[null,null,null,null,null,{"$f":"IF(COUNTIF(BD!$B$2:B4862,BD!B4862)=1,MAX($F$1:F4861)+1,\"\")","v":""},null,{"$f":"IF(AND(BD!B4862=REF,BD!D4862>=DEB,BD!D4862<=FIN),MAX(calc!$H$1:H4861)+1,0)","v":0}]
[null,null,null,null,null,{"$f":"IF(COUNTIF(BD!$B$2:B4863,BD!B4863)=1,MAX($F$1:F4862)+1,\"\")","v":""},null,{"$f":"IF(AND(BD!B4863=REF,BD!D4863>=DEB,BD!D4863<=FIN),MAX(calc!$H$1:H4862)+1,0)","v":0}]
[null,null,null,null,null,{"$f":"IF(COUNTIF(BD!$B$2:B4864,BD!B4864)=1,MAX($F$1:F4863)+1,\"\")","v":""},null,{"$f":"IF(AND(BD!B4864=REF,BD!D4864>=DEB,BD!D4864<=FIN),MAX(calc!$H$1:H4863)+1,0)","v":0}]
[null,null,null,null,null,{"$f":"IF(COUNTIF(BD!$B$2:B4865,BD!B4865)=1,MAX($F$1:F4864)+1,\"\")","v":""},null,{"$f":"IF(AND(BD!B4865=REF,BD!D4865>=DEB,BD!D4865<=FIN),MAX(calc!$H$1:H4864)+1,0)","v":0}]
[null,null,null,null,null,{"$f":"IF(COUNTIF(BD!$B$2:B4866,BD!B4866)=1,MAX($F$1:F4865)+1,\"\")","v":""},null,{"$f":"IF(AND(BD!B4866=REF,BD!D4866>=DEB,BD!D4866<=FIN),MAX(calc!$H$1:H4865)+1,0)","v":0}]
[null,null,null,null,null,{"$f":"IF(COUNTIF(BD!$B$2:B4867,BD!B4867)=1,MAX($F$1:F4866)+1,\"\")","v":""},null,{"$f":"IF(AND(BD!B4867=REF,BD!D4867>=DEB,BD!D4867<=FIN),MAX(calc!$H$1:H4866)+1,0)","v":0}]
[null,null,null,null,null,{"$f":"IF(COUNTIF(BD!$B$2:B4868,BD!B4868)=1,MAX($F$1:F4867)+1,\"\")","v":""},null,{"$f":"IF(AND(BD!B4868=REF,BD!D4868>=DEB,BD!D4868<=FIN),MAX(calc!$H$1:H4867)+1,0)","v":0}]
[null,null,null,null,null,{"$f":"IF(COUNTIF(BD!$B$2:B4869,BD!B4869)=1,MAX($F$1:F4868)+1,\"\")","v":""},null,{"$f":"IF(AND(BD!B4869=REF,BD!D4869>=DEB,BD!D4869<=FIN),MAX(calc!$H$1:H4868)+1,0)","v":0}]
[null,null,null,null,null,{"$f":"IF(COUNTIF(BD!$B$2:B4870,BD!B4870)=1,MAX($F$1:F4869)+1,\"\")","v":""},null,{"$f":"IF(AND(BD!B4870=REF,BD!D4870>=DEB,BD!D4870<=FIN),MAX(calc!$H$1:H4869)+1,0)","v":0}]
[null,null,null,null,null,{"$f":"IF(COUNTIF(BD!$B$2:B4871,BD!B4871)=1,MAX($F$1:F4870)+1,\"\")","v":""},null,{"$f":"IF(AND(BD!B4871=REF,BD!D4871>=DEB,BD!D4871<=FIN),MAX(calc!$H$1:H4870)+1,0)","v":0}]
[null,null,null,null,null,{"$f":"IF(COUNTIF(BD!$B$2:B4872,BD!B4872)=1,MAX($F$1:F4871)+1,\"\")","v":""},null,{"$f":"IF(AND(BD!B4872=REF,BD!D4872>=DEB,BD!D4872<=FIN),MAX(calc!$H$1:H4871)+1,0)","v":0}]
[null,null,null,null,null,{"$f":"IF(COUNTIF(BD!$B$2:B4873,BD!B4873)=1,MAX($F$1:F4872)+1,\"\")","v":""},null,{"$f":"IF(AND(BD!B4873=REF,BD!D4873>=DEB,BD!D4873<=FIN),MAX(calc!$H$1:H4872)+1,0)","v":0}]
[null,null,null,null,null,{"$f":"IF(COUNTIF(BD!$B$2:B4874,BD!B4874)=1,MAX($F$1:F4873)+1,\"\")","v":""},null,{"$f":"IF(AND(BD!B4874=REF,BD!D4874>=DEB,BD!D4874<=FIN),MAX(calc!$H$1:H4873)+1,0)","v":0}]
[null,null,null,null,null,{"$f":"IF(COUNTIF(BD!$B$2:B4875,BD!B4875)=1,MAX($F$1:F4874)+1,\"\")","v":""},null,{"$f":"IF(AND(BD!B4875=REF,BD!D4875>=DEB,BD!D4875<=FIN),MAX(calc!$H$1:H4874)+1,0)","v":0}]
[null,null,null,null,null,{"$f":"IF(COUNTIF(BD!$B$2:B4876,BD!B4876)=1,MAX($F$1:F4875)+1,\"\")","v":""},null,{"$f":"IF(AND(BD!B4876=REF,BD!D4876>=DEB,BD!D4876<=FIN),MAX(calc!$H$1:H4875)+1,0)","v":0}]
[null,null,null,null,null,{"$f":"IF(COUNTIF(BD!$B$2:B4877,BD!B4877)=1,MAX($F$1:F4876)+1,\"\")","v":""},null,{"$f":"IF(AND(BD!B4877=REF,BD!D4877>=DEB,BD!D4877<=FIN),MAX(calc!$H$1:H4876)+1,0)","v":0}]
[null,null,null,null,null,{"$f":"IF(COUNTIF(BD!$B$2:B4878,BD!B4878)=1,MAX($F$1:F4877)+1,\"\")","v":""},null,{"$f":"IF(AND(BD!B4878=REF,BD!D4878>=DEB,BD!D4878<=FIN),MAX(calc!$H$1:H4877)+1,0)","v":0}]
[null,null,null,null,null,{"$f":"IF(COUNTIF(BD!$B$2:B4879,BD!B4879)=1,MAX($F$1:F4878)+1,\"\")","v":""},null,{"$f":"IF(AND(BD!B4879=REF,BD!D4879>=DEB,BD!D4879<=FIN),MAX(calc!$H$1:H4878)+1,0)","v":0}]
[null,null,null,null,null,{"$f":"IF(COUNTIF(BD!$B$2:B4880,BD!B4880)=1,MAX($F$1:F4879)+1,\"\")","v":""},null,{"$f":"IF(AND(BD!B4880=REF,BD!D4880>=DEB,BD!D4880<=FIN),MAX(calc!$H$1:H4879)+1,0)","v":0}]
[null,null,null,null,null,{"$f":"IF(COUNTIF(BD!$B$2:B4881,BD!B4881)=1,MAX($F$1:F4880)+1,\"\")","v":""},null,{"$f":"IF(AND(BD!B4881=REF,BD!D4881>=DEB,BD!D4881<=FIN),MAX(calc!$H$1:H4880)+1,0)","v":0}]
[null,null,null,null,null,{"$f":"IF(COUNTIF(BD!$B$2:B4882,BD!B4882)=1,MAX($F$1:F4881)+1,\"\")","v":""},null,{"$f":"IF(AND(BD!B4882=REF,BD!D4882>=DEB,BD!D4882<=FIN),MAX(calc!$H$1:H4881)+1,0)","v":0}]
[null,null,null,null,null,{"$f":"IF(COUNTIF(BD!$B$2:B4883,BD!B4883)=1,MAX($F$1:F4882)+1,\"\")","v":""},null,{"$f":"IF(AND(BD!B4883=REF,BD!D4883>=DEB,BD!D4883<=FIN),MAX(calc!$H$1:H4882)+1,0)","v":0}]
[null,null,null,null,null,{"$f":"IF(COUNTIF(BD!$B$2:B4884,BD!B4884)=1,MAX($F$1:F4883)+1,\"\")","v":""},null,{"$f":"IF(AND(BD!B4884=REF,BD!D4884>=DEB,BD!D4884<=FIN),MAX(calc!$H$1:H4883)+1,0)","v":0}]
[null,null,null,null,null,{"$f":"IF(COUNTIF(BD!$B$2:B4885,BD!B4885)=1,MAX($F$1:F4884)+1,\"\")","v":""},null,{"$f":"IF(AND(BD!B4885=REF,BD!D4885>=DEB,BD!D4885<=FIN),MAX(calc!$H$1:H4884)+1,0)","v":0}]
[null,null,null,null,null,{"$f":"IF(COUNTIF(BD!$B$2:B4886,BD!B4886)=1,MAX($F$1:F4885)+1,\"\")","v":""},null,{"$f":"IF(AND(BD!B4886=REF,BD!D4886>=DEB,BD!D4886<=FIN),MAX(calc!$H$1:H4885)+1,0)","v":0}]
[null,null,null,null,null,{"$f":"IF(COUNTIF(BD!$B$2:B4887,BD!B4887)=1,MAX($F$1:F4886)+1,\"\")","v":""},null,{"$f":"IF(AND(BD!B4887=REF,BD!D4887>=DEB,BD!D4887<=FIN),MAX(calc!$H$1:H4886)+1,0)","v":0}]
[null,null,null,null,null,{"$f":"IF(COUNTIF(BD!$B$2:B4888,BD!B4888)=1,MAX($F$1:F4887)+1,\"\")","v":""},null,{"$f":"IF(AND(BD!B4888=REF,BD!D4888>=DEB,BD!D4888<=FIN),MAX(calc!$H$1:H4887)+1,0)","v":0}]
[null,null,null,null,null,{"$f":"IF(COUNTIF(BD!$B$2:B4889,BD!B4889)=1,MAX($F$1:F4888)+1,\"\")","v":""},null,{"$f":"IF(AND(BD!B4889=REF,BD!D4889>=DEB,BD!D4889<=FIN),MAX(calc!$H$1:H4888)+1,0)","v":0}]
[null,null,null,null,null,{"$f":"IF(COUNTIF(BD!$B$2:B4890,BD!B4890)=1,MAX($F$1:F4889)+1,\"\")","v":""},null,{"$f":"IF(AND(BD!B4890=REF,BD!D4890>=DEB,BD!D4890<=FIN),MAX(calc!$H$1:H4889)+1,0)","v":0}]
[null,null,null,null,null,{"$f":"IF(COUNTIF(BD!$B$2:B4891,BD!B4891)=1,MAX($F$1:F4890)+1,\"\")","v":""},null,{"$f":"IF(AND(BD!B4891=REF,BD!D4891>=DEB,BD!D4891<=FIN),MAX(calc!$H$1:H4890)+1,0)","v":0}]
[null,null,null,null,null,{"$f":"IF(COUNTIF(BD!$B$2:B4892,BD!B4892)=1,MAX($F$1:F4891)+1,\"\")","v":""},null,{"$f":"IF(AND(BD!B4892=REF,BD!D4892>=DEB,BD!D4892<=FIN),MAX(calc!$H$1:H4891)+1,0)","v":0}]
[null,null,null,null,null,{"$f":"IF(COUNTIF(BD!$B$2:B4893,BD!B4893)=1,MAX($F$1:F4892)+1,\"\")","v":""},null,{"$f":"IF(AND(BD!B4893=REF,BD!D4893>=DEB,BD!D4893<=FIN),MAX(calc!$H$1:H4892)+1,0)","v":0}]
[null,null,null,null,null,{"$f":"IF(COUNTIF(BD!$B$2:B4894,BD!B4894)=1,MAX($F$1:F4893)+1,\"\")","v":""},null,{"$f":"IF(AND(BD!B4894=REF,BD!D4894>=DEB,BD!D4894<=FIN),MAX(calc!$H$1:H4893)+1,0)","v":0}]
[null,null,null,null,null,{"$f":"IF(COUNTIF(BD!$B$2:B4895,BD!B4895)=1,MAX($F$1:F4894)+1,\"\")","v":""},null,{"$f":"IF(AND(BD!B4895=REF,BD!D4895>=DEB,BD!D4895<=FIN),MAX(calc!$H$1:H4894)+1,0)","v":0}]
[null,null,null,null,null,{"$f":"IF(COUNTIF(BD!$B$2:B4896,BD!B4896)=1,MAX($F$1:F4895)+1,\"\")","v":""},null,{"$f":"IF(AND(BD!B4896=REF,BD!D4896>=DEB,BD!D4896<=FIN),MAX(calc!$H$1:H4895)+1,0)","v":0}]
[null,null,null,null,null,{"$f":"IF(COUNTIF(BD!$B$2:B4897,BD!B4897)=1,MAX($F$1:F4896)+1,\"\")","v":""},null,{"$f":"IF(AND(BD!B4897=REF,BD!D4897>=DEB,BD!D4897<=FIN),MAX(calc!$H$1:H4896)+1,0)","v":0}]
[null,null,null,null,null,{"$f":"IF(COUNTIF(BD!$B$2:B4898,BD!B4898)=1,MAX($F$1:F4897)+1,\"\")","v":""},null,{"$f":"IF(AND(BD!B4898=REF,BD!D4898>=DEB,BD!D4898<=FIN),MAX(calc!$H$1:H4897)+1,0)","v":0}]
[null,null,null,null,null,{"$f":"IF(COUNTIF(BD!$B$2:B4899,BD!B4899)=1,MAX($F$1:F4898)+1,\"\")","v":""},null,{"$f":"IF(AND(BD!B4899=REF,BD!D4899>=DEB,BD!D4899<=FIN),MAX(calc!$H$1:H4898)+1,0)","v":0}]
[null,null,null,null,null,{"$f":"IF(COUNTIF(BD!$B$2:B4900,BD!B4900)=1,MAX($F$1:F4899)+1,\"\")","v":""},null,{"$f":"IF(AND(BD!B4900=REF,BD!D4900>=DEB,BD!D4900<=FIN),MAX(calc!$H$1:H4899)+1,0)","v":0}]
[null,null,null,null,null,{"$f":"IF(COUNTIF(BD!$B$2:B4901,BD!B4901)=1,MAX($F$1:F4900)+1,\"\")","v":""},null,{"$f":"IF(AND(BD!B4901=REF,BD!D4901>=DEB,BD!D4901<=FIN),MAX(calc!$H$1:H4900)+1,0)","v":0}]
[null,null,null,null,null,{"$f":"IF(COUNTIF(BD!$B$2:B4902,BD!B4902)=1,MAX($F$1:F4901)+1,\"\")","v":""},null,{"$f":"IF(AND(BD!B4902=REF,BD!D4902>=DEB,BD!D4902<=FIN),MAX(calc!$H$1:H4901)+1,0)","v":0}]
[null,null,null,null,null,{"$f":"IF(COUNTIF(BD!$B$2:B4903,BD!B4903)=1,MAX($F$1:F4902)+1,\"\")","v":""},null,{"$f":"IF(AND(BD!B4903=REF,BD!D4903>=DEB,BD!D4903<=FIN),MAX(calc!$H$1:H4902)+1,0)","v":0}]
[null,null,null,null,null,{"$f":"IF(COUNTIF(BD!$B$2:B4904,BD!B4904)=1,MAX($F$1:F4903)+1,\"\")","v":""},null,{"$f":"IF(AND(BD!B4904=REF,BD!D4904>=DEB,BD!D4904<=FIN),MAX(calc!$H$1:H4903)+1,0)","v":0}]
[null,null,null,null,null,{"$f":"IF(COUNTIF(BD!$B$2:B4905,BD!B4905)=1,MAX($F$1:F4904)+1,\"\")","v":""},null,{"$f":"IF(AND(BD!B4905=REF,BD!D4905>=DEB,BD!D4905<=FIN),MAX(calc!$H$1:H4904)+1,0)","v":0}]
[null,null,null,null,null,{"$f":"IF(COUNTIF(BD!$B$2:B4906,BD!B4906)=1,MAX($F$1:F4905)+1,\"\")","v":""},null,{"$f":"IF(AND(BD!B4906=REF,BD!D4906>=DEB,BD!D4906<=FIN),MAX(calc!$H$1:H4905)+1,0)","v":0}]
[null,null,null,null,null,{"$f":"IF(COUNTIF(BD!$B$2:B4907,BD!B4907)=1,MAX($F$1:F4906)+1,\"\")","v":""},null,{"$f":"IF(AND(BD!B4907=REF,BD!D4907>=DEB,BD!D4907<=FIN),MAX(calc!$H$1:H4906)+1,0)","v":0}]
[null,null,null,null,null,{"$f":"IF(COUNTIF(BD!$B$2:B4908,BD!B4908)=1,MAX($F$1:F4907)+1,\"\")","v":""},null,{"$f":"IF(AND(BD!B4908=REF,BD!D4908>=DEB,BD!D4908<=FIN),MAX(calc!$H$1:H4907)+1,0)","v":0}]
[null,null,null,null,null,{"$f":"IF(COUNTIF(BD!$B$2:B4909,BD!B4909)=1,MAX($F$1:F4908)+1,\"\")","v":""},null,{"$f":"IF(AND(BD!B4909=REF,BD!D4909>=DEB,BD!D4909<=FIN),MAX(calc!$H$1:H4908)+1,0)","v":0}]
[null,null,null,null,null,{"$f":"IF(COUNTIF(BD!$B$2:B4910,BD!B4910)=1,MAX($F$1:F4909)+1,\"\")","v":""},null,{"$f":"IF(AND(BD!B4910=REF,BD!D4910>=DEB,BD!D4910<=FIN),MAX(calc!$H$1:H4909)+1,0)","v":0}]
[null,null,null,null,null,{"$f":"IF(COUNTIF(BD!$B$2:B4911,BD!B4911)=1,MAX($F$1:F4910)+1,\"\")","v":""},null,{"$f":"IF(AND(BD!B4911=REF,BD!D4911>=DEB,BD!D4911<=FIN),MAX(calc!$H$1:H4910)+1,0)","v":0}]
[null,null,null,null,null,{"$f":"IF(COUNTIF(BD!$B$2:B4912,BD!B4912)=1,MAX($F$1:F4911)+1,\"\")","v":""},null,{"$f":"IF(AND(BD!B4912=REF,BD!D4912>=DEB,BD!D4912<=FIN),MAX(calc!$H$1:H4911)+1,0)","v":0}]
[null,null,null,null,null,{"$f":"IF(COUNTIF(BD!$B$2:B4913,BD!B4913)=1,MAX($F$1:F4912)+1,\"\")","v":""},null,{"$f":"IF(AND(BD!B4913=REF,BD!D4913>=DEB,BD!D4913<=FIN),MAX(calc!$H$1:H4912)+1,0)","v":0}]
[null,null,null,null,null,{"$f":"IF(COUNTIF(BD!$B$2:B4914,BD!B4914)=1,MAX($F$1:F4913)+1,\"\")","v":""},null,{"$f":"IF(AND(BD!B4914=REF,BD!D4914>=DEB,BD!D4914<=FIN),MAX(calc!$H$1:H4913)+1,0)","v":0}]
[null,null,null,null,null,{"$f":"IF(COUNTIF(BD!$B$2:B4915,BD!B4915)=1,MAX($F$1:F4914)+1,\"\")","v":""},null,{"$f":"IF(AND(BD!B4915=REF,BD!D4915>=DEB,BD!D4915<=FIN),MAX(calc!$H$1:H4914)+1,0)","v":0}]
[null,null,null,null,null,{"$f":"IF(COUNTIF(BD!$B$2:B4916,BD!B4916)=1,MAX($F$1:F4915)+1,\"\")","v":""},null,{"$f":"IF(AND(BD!B4916=REF,BD!D4916>=DEB,BD!D4916<=FIN),MAX(calc!$H$1:H4915)+1,0)","v":0}]
[null,null,null,null,null,{"$f":"IF(COUNTIF(BD!$B$2:B4917,BD!B4917)=1,MAX($F$1:F4916)+1,\"\")","v":""},null,{"$f":"IF(AND(BD!B4917=REF,BD!D4917>=DEB,BD!D4917<=FIN),MAX(calc!$H$1:H4916)+1,0)","v":0}]
[null,null,null,null,null,{"$f":"IF(COUNTIF(BD!$B$2:B4918,BD!B4918)=1,MAX($F$1:F4917)+1,\"\")","v":""},null,{"$f":"IF(AND(BD!B4918=REF,BD!D4918>=DEB,BD!D4918<=FIN),MAX(calc!$H$1:H4917)+1,0)","v":0}]
[null,null,null,null,null,{"$f":"IF(COUNTIF(BD!$B$2:B4919,BD!B4919)=1,MAX($F$1:F4918)+1,\"\")","v":""},null,{"$f":"IF(AND(BD!B4919=REF,BD!D4919>=DEB,BD!D4919<=FIN),MAX(calc!$H$1:H4918)+1,0)","v":0}]
[null,null,null,null,null,{"$f":"IF(COUNTIF(BD!$B$2:B4920,BD!B4920)=1,MAX($F$1:F4919)+1,\"\")","v":""},null,{"$f":"IF(AND(BD!B4920=REF,BD!D4920>=DEB,BD!D4920<=FIN),MAX(calc!$H$1:H4919)+1,0)","v":0}]
[null,null,null,null,null,{"$f":"IF(COUNTIF(BD!$B$2:B4921,BD!B4921)=1,MAX($F$1:F4920)+1,\"\")","v":""},null,{"$f":"IF(AND(BD!B4921=REF,BD!D4921>=DEB,BD!D4921<=FIN),MAX(calc!$H$1:H4920)+1,0)","v":0}]
[null,null,null,null,null,{"$f":"IF(COUNTIF(BD!$B$2:B4922,BD!B4922)=1,MAX($F$1:F4921)+1,\"\")","v":""},null,{"$f":"IF(AND(BD!B4922=REF,BD!D4922>=DEB,BD!D4922<=FIN),MAX(calc!$H$1:H4921)+1,0)","v":0}]
[null,null,null,null,null,{"$f":"IF(COUNTIF(BD!$B$2:B4923,BD!B4923)=1,MAX($F$1:F4922)+1,\"\")","v":""},null,{"$f":"IF(AND(BD!B4923=REF,BD!D4923>=DEB,BD!D4923<=FIN),MAX(calc!$H$1:H4922)+1,0)","v":0}]
[null,null,null,null,null,{"$f":"IF(COUNTIF(BD!$B$2:B4924,BD!B4924)=1,MAX($F$1:F4923)+1,\"\")","v":""},null,{"$f":"IF(AND(BD!B4924=REF,BD!D4924>=DEB,BD!D4924<=FIN),MAX(calc!$H$1:H4923)+1,0)","v":0}]
[null,null,null,null,null,{"$f":"IF(COUNTIF(BD!$B$2:B4925,BD!B4925)=1,MAX($F$1:F4924)+1,\"\")","v":""},null,{"$f":"IF(AND(BD!B4925=REF,BD!D4925>=DEB,BD!D4925<=FIN),MAX(calc!$H$1:H4924)+1,0)","v":0}]
[null,null,null,null,null,{"$f":"IF(COUNTIF(BD!$B$2:B4926,BD!B4926)=1,MAX($F$1:F4925)+1,\"\")","v":""},null,{"$f":"IF(AND(BD!B4926=REF,BD!D4926>=DEB,BD!D4926<=FIN),MAX(calc!$H$1:H4925)+1,0)","v":0}]
[null,null,null,null,null,{"$f":"IF(COUNTIF(BD!$B$2:B4927,BD!B4927)=1,MAX($F$1:F4926)+1,\"\")","v":""},null,{"$f":"IF(AND(BD!B4927=REF,BD!D4927>=DEB,BD!D4927<=FIN),MAX(calc!$H$1:H4926)+1,0)","v":0}]
[null,null,null,null,null,{"$f":"IF(COUNTIF(BD!$B$2:B4928,BD!B4928)=1,MAX($F$1:F4927)+1,\"\")","v":""},null,{"$f":"IF(AND(BD!B4928=REF,BD!D4928>=DEB,BD!D4928<=FIN),MAX(calc!$H$1:H4927)+1,0)","v":0}]
[null,null,null,null,null,{"$f":"IF(COUNTIF(BD!$B$2:B4929,BD!B4929)=1,MAX($F$1:F4928)+1,\"\")","v":""},null,{"$f":"IF(AND(BD!B4929=REF,BD!D4929>=DEB,BD!D4929<=FIN),MAX(calc!$H$1:H4928)+1,0)","v":0}]
[null,null,null,null,null,{"$f":"IF(COUNTIF(BD!$B$2:B4930,BD!B4930)=1,MAX($F$1:F4929)+1,\"\")","v":""},null,{"$f":"IF(AND(BD!B4930=REF,BD!D4930>=DEB,BD!D4930<=FIN),MAX(calc!$H$1:H4929)+1,0)","v":0}]
[null,null,null,null,null,{"$f":"IF(COUNTIF(BD!$B$2:B4931,BD!B4931)=1,MAX($F$1:F4930)+1,\"\")","v":""},null,{"$f":"IF(AND(BD!B4931=REF,BD!D4931>=DEB,BD!D4931<=FIN),MAX(calc!$H$1:H4930)+1,0)","v":0}]
[null,null,null,null,null,{"$f":"IF(COUNTIF(BD!$B$2:B4932,BD!B4932)=1,MAX($F$1:F4931)+1,\"\")","v":""},null,{"$f":"IF(AND(BD!B4932=REF,BD!D4932>=DEB,BD!D4932<=FIN),MAX(calc!$H$1:H4931)+1,0)","v":0}]
[null,null,null,null,null,{"$f":"IF(COUNTIF(BD!$B$2:B4933,BD!B4933)=1,MAX($F$1:F4932)+1,\"\")","v":""},null,{"$f":"IF(AND(BD!B4933=REF,BD!D4933>=DEB,BD!D4933<=FIN),MAX(calc!$H$1:H4932)+1,0)","v":0}]
[null,null,null,null,null,{"$f":"IF(COUNTIF(BD!$B$2:B4934,BD!B4934)=1,MAX($F$1:F4933)+1,\"\")","v":""},null,{"$f":"IF(AND(BD!B4934=REF,BD!D4934>=DEB,BD!D4934<=FIN),MAX(calc!$H$1:H4933)+1,0)","v":0}]
[null,null,null,null,null,{"$f":"IF(COUNTIF(BD!$B$2:B4935,BD!B4935)=1,MAX($F$1:F4934)+1,\"\")","v":""},null,{"$f":"IF(AND(BD!B4935=REF,BD!D4935>=DEB,BD!D4935<=FIN),MAX(calc!$H$1:H4934)+1,0)","v":0}]
[null,null,null,null,null,{"$f":"IF(COUNTIF(BD!$B$2:B4936,BD!B4936)=1,MAX($F$1:F4935)+1,\"\")","v":""},null,{"$f":"IF(AND(BD!B4936=REF,BD!D4936>=DEB,BD!D4936<=FIN),MAX(calc!$H$1:H4935)+1,0)","v":0}]
[null,null,null,null,null,{"$f":"IF(COUNTIF(BD!$B$2:B4937,BD!B4937)=1,MAX($F$1:F4936)+1,\"\")","v":""},null,{"$f":"IF(AND(BD!B4937=REF,BD!D4937>=DEB,BD!D4937<=FIN),MAX(calc!$H$1:H4936)+1,0)","v":0}]
[null,null,null,null,null,{"$f":"IF(COUNTIF(BD!$B$2:B4938,BD!B4938)=1,MAX($F$1:F4937)+1,\"\")","v":""},null,{"$f":"IF(AND(BD!B4938=REF,BD!D4938>=DEB,BD!D4938<=FIN),MAX(calc!$H$1:H4937)+1,0)","v":0}]
[null,null,null,null,null,{"$f":"IF(COUNTIF(BD!$B$2:B4939,BD!B4939)=1,MAX($F$1:F4938)+1,\"\")","v":""},null,{"$f":"IF(AND(BD!B4939=REF,BD!D4939>=DEB,BD!D4939<=FIN),MAX(calc!$H$1:H4938)+1,0)","v":0}]
[null,null,null,null,null,{"$f":"IF(COUNTIF(BD!$B$2:B4940,BD!B4940)=1,MAX($F$1:F4939)+1,\"\")","v":""},null,{"$f":"IF(AND(BD!B4940=REF,BD!D4940>=DEB,BD!D4940<=FIN),MAX(calc!$H$1:H4939)+1,0)","v":0}]
[null,null,null,null,null,{"$f":"IF(COUNTIF(BD!$B$2:B4941,BD!B4941)=1,MAX($F$1:F4940)+1,\"\")","v":""},null,{"$f":"IF(AND(BD!B4941=REF,BD!D4941>=DEB,BD!D4941<=FIN),MAX(calc!$H$1:H4940)+1,0)","v":0}]
[null,null,null,null,null,{"$f":"IF(COUNTIF(BD!$B$2:B4942,BD!B4942)=1,MAX($F$1:F4941)+1,\"\")","v":""},null,{"$f":"IF(AND(BD!B4942=REF,BD!D4942>=DEB,BD!D4942<=FIN),MAX(calc!$H$1:H4941)+1,0)","v":0}]
[null,null,null,null,null,{"$f":"IF(COUNTIF(BD!$B$2:B4943,BD!B4943)=1,MAX($F$1:F4942)+1,\"\")","v":""},null,{"$f":"IF(AND(BD!B4943=REF,BD!D4943>=DEB,BD!D4943<=FIN),MAX(calc!$H$1:H4942)+1,0)","v":0}]
[null,null,null,null,null,{"$f":"IF(COUNTIF(BD!$B$2:B4944,BD!B4944)=1,MAX($F$1:F4943)+1,\"\")","v":""},null,{"$f":"IF(AND(BD!B4944=REF,BD!D4944>=DEB,BD!D4944<=FIN),MAX(calc!$H$1:H4943)+1,0)","v":0}]
[null,null,null,null,null,{"$f":"IF(COUNTIF(BD!$B$2:B4945,BD!B4945)=1,MAX($F$1:F4944)+1,\"\")","v":""},null,{"$f":"IF(AND(BD!B4945=REF,BD!D4945>=DEB,BD!D4945<=FIN),MAX(calc!$H$1:H4944)+1,0)","v":0}]
[null,null,null,null,null,{"$f":"IF(COUNTIF(BD!$B$2:B4946,BD!B4946)=1,MAX($F$1:F4945)+1,\"\")","v":""},null,{"$f":"IF(AND(BD!B4946=REF,BD!D4946>=DEB,BD!D4946<=FIN),MAX(calc!$H$1:H4945)+1,0)","v":0}]
[null,null,null,null,null,{"$f":"IF(COUNTIF(BD!$B$2:B4947,BD!B4947)=1,MAX($F$1:F4946)+1,\"\")","v":""},null,{"$f":"IF(AND(BD!B4947=REF,BD!D4947>=DEB,BD!D4947<=FIN),MAX(calc!$H$1:H4946)+1,0)","v":0}]
[null,null,null,null,null,{"$f":"IF(COUNTIF(BD!$B$2:B4948,BD!B4948)=1,MAX($F$1:F4947)+1,\"\")","v":""},null,{"$f":"IF(AND(BD!B4948=REF,BD!D4948>=DEB,BD!D4948<=FIN),MAX(calc!$H$1:H4947)+1,0)","v":0}]
[null,null,null,null,null,{"$f":"IF(COUNTIF(BD!$B$2:B4949,BD!B4949)=1,MAX($F$1:F4948)+1,\"\")","v":""},null,{"$f":"IF(AND(BD!B4949=REF,BD!D4949>=DEB,BD!D4949<=FIN),MAX(calc!$H$1:H4948)+1,0)","v":0}]
[null,null,null,null,null,{"$f":"IF(COUNTIF(BD!$B$2:B4950,BD!B4950)=1,MAX($F$1:F4949)+1,\"\")","v":""},null,{"$f":"IF(AND(BD!B4950=REF,BD!D4950>=DEB,BD!D4950<=FIN),MAX(calc!$H$1:H4949)+1,0)","v":0}]
[null,null,null,null,null,{"$f":"IF(COUNTIF(BD!$B$2:B4951,BD!B4951)=1,MAX($F$1:F4950)+1,\"\")","v":""},null,{"$f":"IF(AND(BD!B4951=REF,BD!D4951>=DEB,BD!D4951<=FIN),MAX(calc!$H$1:H4950)+1,0)","v":0}]
[null,null,null,null,null,{"$f":"IF(COUNTIF(BD!$B$2:B4952,BD!B4952)=1,MAX($F$1:F4951)+1,\"\")","v":""},null,{"$f":"IF(AND(BD!B4952=REF,BD!D4952>=DEB,BD!D4952<=FIN),MAX(calc!$H$1:H4951)+1,0)","v":0}]
[null,null,null,null,null,{"$f":"IF(COUNTIF(BD!$B$2:B4953,BD!B4953)=1,MAX($F$1:F4952)+1,\"\")","v":""},null,{"$f":"IF(AND(BD!B4953=REF,BD!D4953>=DEB,BD!D4953<=FIN),MAX(calc!$H$1:H4952)+1,0)","v":0}]
[null,null,null,null,null,{"$f":"IF(COUNTIF(BD!$B$2:B4954,BD!B4954)=1,MAX($F$1:F4953)+1,\"\")","v":""},null,{"$f":"IF(AND(BD!B4954=REF,BD!D4954>=DEB,BD!D4954<=FIN),MAX(calc!$H$1:H4953)+1,0)","v":0}]
[null,null,null,null,null,{"$f":"IF(COUNTIF(BD!$B$2:B4955,BD!B4955)=1,MAX($F$1:F4954)+1,\"\")","v":""},null,{"$f":"IF(AND(BD!B4955=REF,BD!D4955>=DEB,BD!D4955<=FIN),MAX(calc!$H$1:H4954)+1,0)","v":0}]
[null,null,null,null,null,{"$f":"IF(COUNTIF(BD!$B$2:B4956,BD!B4956)=1,MAX($F$1:F4955)+1,\"\")","v":""},null,{"$f":"IF(AND(BD!B4956=REF,BD!D4956>=DEB,BD!D4956<=FIN),MAX(calc!$H$1:H4955)+1,0)","v":0}]
[null,null,null,null,null,{"$f":"IF(COUNTIF(BD!$B$2:B4957,BD!B4957)=1,MAX($F$1:F4956)+1,\"\")","v":""},null,{"$f":"IF(AND(BD!B4957=REF,BD!D4957>=DEB,BD!D4957<=FIN),MAX(calc!$H$1:H4956)+1,0)","v":0}]
[null,null,null,null,null,{"$f":"IF(COUNTIF(BD!$B$2:B4958,BD!B4958)=1,MAX($F$1:F4957)+1,\"\")","v":""},null,{"$f":"IF(AND(BD!B4958=REF,BD!D4958>=DEB,BD!D4958<=FIN),MAX(calc!$H$1:H4957)+1,0)","v":0}]
[null,null,null,null,null,{"$f":"IF(COUNTIF(BD!$B$2:B4959,BD!B4959)=1,MAX($F$1:F4958)+1,\"\")","v":""},null,{"$f":"IF(AND(BD!B4959=REF,BD!D4959>=DEB,BD!D4959<=FIN),MAX(calc!$H$1:H4958)+1,0)","v":0}]
[null,null,null,null,null,{"$f":"IF(COUNTIF(BD!$B$2:B4960,BD!B4960)=1,MAX($F$1:F4959)+1,\"\")","v":""},null,{"$f":"IF(AND(BD!B4960=REF,BD!D4960>=DEB,BD!D4960<=FIN),MAX(calc!$H$1:H4959)+1,0)","v":0}]
[null,null,null,null,null,{"$f":"IF(COUNTIF(BD!$B$2:B4961,BD!B4961)=1,MAX($F$1:F4960)+1,\"\")","v":""},null,{"$f":"IF(AND(BD!B4961=REF,BD!D4961>=DEB,BD!D4961<=FIN),MAX(calc!$H$1:H4960)+1,0)","v":0}]
[null,null,null,null,null,{"$f":"IF(COUNTIF(BD!$B$2:B4962,BD!B4962)=1,MAX($F$1:F4961)+1,\"\")","v":""},null,{"$f":"IF(AND(BD!B4962=REF,BD!D4962>=DEB,BD!D4962<=FIN),MAX(calc!$H$1:H4961)+1,0)","v":0}]
[null,null,null,null,null,{"$f":"IF(COUNTIF(BD!$B$2:B4963,BD!B4963)=1,MAX($F$1:F4962)+1,\"\")","v":""},null,{"$f":"IF(AND(BD!B4963=REF,BD!D4963>=DEB,BD!D4963<=FIN),MAX(calc!$H$1:H4962)+1,0)","v":0}]
[null,null,null,null,null,{"$f":"IF(COUNTIF(BD!$B$2:B4964,BD!B4964)=1,MAX($F$1:F4963)+1,\"\")","v":""},null,{"$f":"IF(AND(BD!B4964=REF,BD!D4964>=DEB,BD!D4964<=FIN),MAX(calc!$H$1:H4963)+1,0)","v":0}]
[null,null,null,null,null,{"$f":"IF(COUNTIF(BD!$B$2:B4965,BD!B4965)=1,MAX($F$1:F4964)+1,\"\")","v":""},null,{"$f":"IF(AND(BD!B4965=REF,BD!D4965>=DEB,BD!D4965<=FIN),MAX(calc!$H$1:H4964)+1,0)","v":0}]
[null,null,null,null,null,{"$f":"IF(COUNTIF(BD!$B$2:B4966,BD!B4966)=1,MAX($F$1:F4965)+1,\"\")","v":""},null,{"$f":"IF(AND(BD!B4966=REF,BD!D4966>=DEB,BD!D4966<=FIN),MAX(calc!$H$1:H4965)+1,0)","v":0}]
[null,null,null,null,null,{"$f":"IF(COUNTIF(BD!$B$2:B4967,BD!B4967)=1,MAX($F$1:F4966)+1,\"\")","v":""},null,{"$f":"IF(AND(BD!B4967=REF,BD!D4967>=DEB,BD!D4967<=FIN),MAX(calc!$H$1:H4966)+1,0)","v":0}]
[null,null,null,null,null,{"$f":"IF(COUNTIF(BD!$B$2:B4968,BD!B4968)=1,MAX($F$1:F4967)+1,\"\")","v":""},null,{"$f":"IF(AND(BD!B4968=REF,BD!D4968>=DEB,BD!D4968<=FIN),MAX(calc!$H$1:H4967)+1,0)","v":0}]
[null,null,null,null,null,{"$f":"IF(COUNTIF(BD!$B$2:B4969,BD!B4969)=1,MAX($F$1:F4968)+1,\"\")","v":""},null,{"$f":"IF(AND(BD!B4969=REF,BD!D4969>=DEB,BD!D4969<=FIN),MAX(calc!$H$1:H4968)+1,0)","v":0}]
[null,null,null,null,null,{"$f":"IF(COUNTIF(BD!$B$2:B4970,BD!B4970)=1,MAX($F$1:F4969)+1,\"\")","v":""},null,{"$f":"IF(AND(BD!B4970=REF,BD!D4970>=DEB,BD!D4970<=FIN),MAX(calc!$H$1:H4969)+1,0)","v":0}]
[null,null,null,null,null,{"$f":"IF(COUNTIF(BD!$B$2:B4971,BD!B4971)=1,MAX($F$1:F4970)+1,\"\")","v":""},null,{"$f":"IF(AND(BD!B4971=REF,BD!D4971>=DEB,BD!D4971<=FIN),MAX(calc!$H$1:H4970)+1,0)","v":0}]
[null,null,null,null,null,{"$f":"IF(COUNTIF(BD!$B$2:B4972,BD!B4972)=1,MAX($F$1:F4971)+1,\"\")","v":""},null,{"$f":"IF(AND(BD!B4972=REF,BD!D4972>=DEB,BD!D4972<=FIN),MAX(calc!$H$1:H4971)+1,0)","v":0}]
[null,null,null,null,null,{"$f":"IF(COUNTIF(BD!$B$2:B4973,BD!B4973)=1,MAX($F$1:F4972)+1,\"\")","v":""},null,{"$f":"IF(AND(BD!B4973=REF,BD!D4973>=DEB,BD!D4973<=FIN),MAX(calc!$H$1:H4972)+1,0)","v":0}]
[null,null,null,null,null,{"$f":"IF(COUNTIF(BD!$B$2:B4974,BD!B4974)=1,MAX($F$1:F4973)+1,\"\")","v":""},null,{"$f":"IF(AND(BD!B4974=REF,BD!D4974>=DEB,BD!D4974<=FIN),MAX(calc!$H$1:H4973)+1,0)","v":0}]
[null,null,null,null,null,{"$f":"IF(COUNTIF(BD!$B$2:B4975,BD!B4975)=1,MAX($F$1:F4974)+1,\"\")","v":""},null,{"$f":"IF(AND(BD!B4975=REF,BD!D4975>=DEB,BD!D4975<=FIN),MAX(calc!$H$1:H4974)+1,0)","v":0}]
[null,null,null,null,null,{"$f":"IF(COUNTIF(BD!$B$2:B4976,BD!B4976)=1,MAX($F$1:F4975)+1,\"\")","v":""},null,{"$f":"IF(AND(BD!B4976=REF,BD!D4976>=DEB,BD!D4976<=FIN),MAX(calc!$H$1:H4975)+1,0)","v":0}]
[null,null,null,null,null,{"$f":"IF(COUNTIF(BD!$B$2:B4977,BD!B4977)=1,MAX($F$1:F4976)+1,\"\")","v":""},null,{"$f":"IF(AND(BD!B4977=REF,BD!D4977>=DEB,BD!D4977<=FIN),MAX(calc!$H$1:H4976)+1,0)","v":0}]
[null,null,null,null,null,{"$f":"IF(COUNTIF(BD!$B$2:B4978,BD!B4978)=1,MAX($F$1:F4977)+1,\"\")","v":""},null,{"$f":"IF(AND(BD!B4978=REF,BD!D4978>=DEB,BD!D4978<=FIN),MAX(calc!$H$1:H4977)+1,0)","v":0}]
[null,null,null,null,null,{"$f":"IF(COUNTIF(BD!$B$2:B4979,BD!B4979)=1,MAX($F$1:F4978)+1,\"\")","v":""},null,{"$f":"IF(AND(BD!B4979=REF,BD!D4979>=DEB,BD!D4979<=FIN),MAX(calc!$H$1:H4978)+1,0)","v":0}]
[null,null,null,null,null,{"$f":"IF(COUNTIF(BD!$B$2:B4980,BD!B4980)=1,MAX($F$1:F4979)+1,\"\")","v":""},null,{"$f":"IF(AND(BD!B4980=REF,BD!D4980>=DEB,BD!D4980<=FIN),MAX(calc!$H$1:H4979)+1,0)","v":0}]
[null,null,null,null,null,{"$f":"IF(COUNTIF(BD!$B$2:B4981,BD!B4981)=1,MAX($F$1:F4980)+1,\"\")","v":""},null,{"$f":"IF(AND(BD!B4981=REF,BD!D4981>=DEB,BD!D4981<=FIN),MAX(calc!$H$1:H4980)+1,0)","v":0}]
[null,null,null,null,null,{"$f":"IF(COUNTIF(BD!$B$2:B4982,BD!B4982)=1,MAX($F$1:F4981)+1,\"\")","v":""},null,{"$f":"IF(AND(BD!B4982=REF,BD!D4982>=DEB,BD!D4982<=FIN),MAX(calc!$H$1:H4981)+1,0)","v":0}]
[null,null,null,null,null,{"$f":"IF(COUNTIF(BD!$B$2:B4983,BD!B4983)=1,MAX($F$1:F4982)+1,\"\")","v":""},null,{"$f":"IF(AND(BD!B4983=REF,BD!D4983>=DEB,BD!D4983<=FIN),MAX(calc!$H$1:H4982)+1,0)","v":0}]
[null,null,null,null,null,{"$f":"IF(COUNTIF(BD!$B$2:B4984,BD!B4984)=1,MAX($F$1:F4983)+1,\"\")","v":""},null,{"$f":"IF(AND(BD!B4984=REF,BD!D4984>=DEB,BD!D4984<=FIN),MAX(calc!$H$1:H4983)+1,0)","v":0}]
[null,null,null,null,null,{"$f":"IF(COUNTIF(BD!$B$2:B4985,BD!B4985)=1,MAX($F$1:F4984)+1,\"\")","v":""},null,{"$f":"IF(AND(BD!B4985=REF,BD!D4985>=DEB,BD!D4985<=FIN),MAX(calc!$H$1:H4984)+1,0)","v":0}]
[null,null,null,null,null,{"$f":"IF(COUNTIF(BD!$B$2:B4986,BD!B4986)=1,MAX($F$1:F4985)+1,\"\")","v":""},null,{"$f":"IF(AND(BD!B4986=REF,BD!D4986>=DEB,BD!D4986<=FIN),MAX(calc!$H$1:H4985)+1,0)","v":0}]
[null,null,null,null,null,{"$f":"IF(COUNTIF(BD!$B$2:B4987,BD!B4987)=1,MAX($F$1:F4986)+1,\"\")","v":""},null,{"$f":"IF(AND(BD!B4987=REF,BD!D4987>=DEB,BD!D4987<=FIN),MAX(calc!$H$1:H4986)+1,0)","v":0}]
[null,null,null,null,null,{"$f":"IF(COUNTIF(BD!$B$2:B4988,BD!B4988)=1,MAX($F$1:F4987)+1,\"\")","v":""},null,{"$f":"IF(AND(BD!B4988=REF,BD!D4988>=DEB,BD!D4988<=FIN),MAX(calc!$H$1:H4987)+1,0)","v":0}]
[null,null,null,null,null,{"$f":"IF(COUNTIF(BD!$B$2:B4989,BD!B4989)=1,MAX($F$1:F4988)+1,\"\")","v":""},null,{"$f":"IF(AND(BD!B4989=REF,BD!D4989>=DEB,BD!D4989<=FIN),MAX(calc!$H$1:H4988)+1,0)","v":0}]
[null,null,null,null,null,{"$f":"IF(COUNTIF(BD!$B$2:B4990,BD!B4990)=1,MAX($F$1:F4989)+1,\"\")","v":""},null,{"$f":"IF(AND(BD!B4990=REF,BD!D4990>=DEB,BD!D4990<=FIN),MAX(calc!$H$1:H4989)+1,0)","v":0}]
[null,null,null,null,null,{"$f":"IF(COUNTIF(BD!$B$2:B4991,BD!B4991)=1,MAX($F$1:F4990)+1,\"\")","v":""},null,{"$f":"IF(AND(BD!B4991=REF,BD!D4991>=DEB,BD!D4991<=FIN),MAX(calc!$H$1:H4990)+1,0)","v":0}]
[null,null,null,null,null,{"$f":"IF(COUNTIF(BD!$B$2:B4992,BD!B4992)=1,MAX($F$1:F4991)+1,\"\")","v":""},null,{"$f":"IF(AND(BD!B4992=REF,BD!D4992>=DEB,BD!D4992<=FIN),MAX(calc!$H$1:H4991)+1,0)","v":0}]
[null,null,null,null,null,{"$f":"IF(COUNTIF(BD!$B$2:B4993,BD!B4993)=1,MAX($F$1:F4992)+1,\"\")","v":""},null,{"$f":"IF(AND(BD!B4993=REF,BD!D4993>=DEB,BD!D4993<=FIN),MAX(calc!$H$1:H4992)+1,0)","v":0}]
[null,null,null,null,null,{"$f":"IF(COUNTIF(BD!$B$2:B4994,BD!B4994)=1,MAX($F$1:F4993)+1,\"\")","v":""},null,{"$f":"IF(AND(BD!B4994=REF,BD!D4994>=DEB,BD!D4994<=FIN),MAX(calc!$H$1:H4993)+1,0)","v":0}]
[null,null,null,null,null,{"$f":"IF(COUNTIF(BD!$B$2:B4995,BD!B4995)=1,MAX($F$1:F4994)+1,\"\")","v":""},null,{"$f":"IF(AND(BD!B4995=REF,BD!D4995>=DEB,BD!D4995<=FIN),MAX(calc!$H$1:H4994)+1,0)","v":0}]
[null,null,null,null,null,{"$f":"IF(COUNTIF(BD!$B$2:B4996,BD!B4996)=1,MAX($F$1:F4995)+1,\"\")","v":""},null,{"$f":"IF(AND(BD!B4996=REF,BD!D4996>=DEB,BD!D4996<=FIN),MAX(calc!$H$1:H4995)+1,0)","v":0}]
[null,null,null,null,null,{"$f":"IF(COUNTIF(BD!$B$2:B4997,BD!B4997)=1,MAX($F$1:F4996)+1,\"\")","v":""},null,{"$f":"IF(AND(BD!B4997=REF,BD!D4997>=DEB,BD!D4997<=FIN),MAX(calc!$H$1:H4996)+1,0)","v":0}]
[null,null,null,null,null,{"$f":"IF(COUNTIF(BD!$B$2:B4998,BD!B4998)=1,MAX($F$1:F4997)+1,\"\")","v":""},null,{"$f":"IF(AND(BD!B4998=REF,BD!D4998>=DEB,BD!D4998<=FIN),MAX(calc!$H$1:H4997)+1,0)","v":0}]
[null,null,null,null,null,{"$f":"IF(COUNTIF(BD!$B$2:B4999,BD!B4999)=1,MAX($F$1:F4998)+1,\"\")","v":""},null,{"$f":"IF(AND(BD!B4999=REF,BD!D4999>=DEB,BD!D4999<=FIN),MAX(calc!$H$1:H4998)+1,0)","v":0}]
[null,null,null,null,null,{"$f":"IF(COUNTIF(BD!$B$2:B5000,BD!B5000)=1,MAX($F$1:F4999)+1,\"\")","v":""},null,{"$f":"IF(AND(BD!B5000=REF,BD!D5000>=DEB,BD!D5000<=FIN),MAX(calc!$H$1:H4999)+1,0)","v":0}]
[null,null,null,null,null,{"$f":"IF(COUNTIF(BD!$B$2:B5001,BD!B5001)=1,MAX($F$1:F5000)+1,\"\")","v":""},null,{"$f":"IF(AND(BD!B5001=REF,BD!D5001>=DEB,BD!D5001<=FIN),MAX(calc!$H$1:H5000)+1,0)","v":0}]
[null,null,null,null,null,{"$f":"IF(COUNTIF(BD!$B$2:B5002,BD!B5002)=1,MAX($F$1:F5001)+1,\"\")","v":""},null,{"$f":"IF(AND(BD!B5002=REF,BD!D5002>=DEB,BD!D5002<=FIN),MAX(calc!$H$1:H5001)+1,0)","v":0}]
[null,null,null,null,null,{"$f":"IF(COUNTIF(BD!$B$2:B5003,BD!B5003)=1,MAX($F$1:F5002)+1,\"\")","v":""},null,{"$f":"IF(AND(BD!B5003=REF,BD!D5003>=DEB,BD!D5003<=FIN),MAX(calc!$H$1:H5002)+1,0)","v":0}]
[null,null,null,null,null,{"$f":"IF(COUNTIF(BD!$B$2:B5004,BD!B5004)=1,MAX($F$1:F5003)+1,\"\")","v":""},null,{"$f":"IF(AND(BD!B5004=REF,BD!D5004>=DEB,BD!D5004<=FIN),MAX(calc!$H$1:H5003)+1,0)","v":0}]
[null,null,null,null,null,{"$f":"IF(COUNTIF(BD!$B$2:B5005,BD!B5005)=1,MAX($F$1:F5004)+1,\"\")","v":""},null,{"$f":"IF(AND(BD!B5005=REF,BD!D5005>=DEB,BD!D5005<=FIN),MAX(calc!$H$1:H5004)+1,0)","v":0}]
[null,null,null,null,null,{"$f":"IF(COUNTIF(BD!$B$2:B5006,BD!B5006)=1,MAX($F$1:F5005)+1,\"\")","v":""},null,{"$f":"IF(AND(BD!B5006=REF,BD!D5006>=DEB,BD!D5006<=FIN),MAX(calc!$H$1:H5005)+1,0)","v":0}]
[null,null,null,null,null,{"$f":"IF(COUNTIF(BD!$B$2:B5007,BD!B5007)=1,MAX($F$1:F5006)+1,\"\")","v":""},null,{"$f":"IF(AND(BD!B5007=REF,BD!D5007>=DEB,BD!D5007<=FIN),MAX(calc!$H$1:H5006)+1,0)","v":0}]
[null,null,null,null,null,{"$f":"IF(COUNTIF(BD!$B$2:B5008,BD!B5008)=1,MAX($F$1:F5007)+1,\"\")","v":""},null,{"$f":"IF(AND(BD!B5008=REF,BD!D5008>=DEB,BD!D5008<=FIN),MAX(calc!$H$1:H5007)+1,0)","v":0}]
[null,null,null,null,null,{"$f":"IF(COUNTIF(BD!$B$2:B5009,BD!B5009)=1,MAX($F$1:F5008)+1,\"\")","v":""},null,{"$f":"IF(AND(BD!B5009=REF,BD!D5009>=DEB,BD!D5009<=FIN),MAX(calc!$H$1:H5008)+1,0)","v":0}]
[null,null,null,null,null,{"$f":"IF(COUNTIF(BD!$B$2:B5010,BD!B5010)=1,MAX($F$1:F5009)+1,\"\")","v":""},null,{"$f":"IF(AND(BD!B5010=REF,BD!D5010>=DEB,BD!D5010<=FIN),MAX(calc!$H$1:H5009)+1,0)","v":0}]
[null,null,null,null,null,{"$f":"IF(COUNTIF(BD!$B$2:B5011,BD!B5011)=1,MAX($F$1:F5010)+1,\"\")","v":""},null,{"$f":"IF(AND(BD!B5011=REF,BD!D5011>=DEB,BD!D5011<=FIN),MAX(calc!$H$1:H5010)+1,0)","v":0}]
[null,null,null,null,null,{"$f":"IF(COUNTIF(BD!$B$2:B5012,BD!B5012)=1,MAX($F$1:F5011)+1,\"\")","v":""},null,{"$f":"IF(AND(BD!B5012=REF,BD!D5012>=DEB,BD!D5012<=FIN),MAX(calc!$H$1:H5011)+1,0)","v":0}]
[null,null,null,null,null,{"$f":"IF(COUNTIF(BD!$B$2:B5013,BD!B5013)=1,MAX($F$1:F5012)+1,\"\")","v":""},null,{"$f":"IF(AND(BD!B5013=REF,BD!D5013>=DEB,BD!D5013<=FIN),MAX(calc!$H$1:H5012)+1,0)","v":0}]
[null,null,null,null,null,{"$f":"IF(COUNTIF(BD!$B$2:B5014,BD!B5014)=1,MAX($F$1:F5013)+1,\"\")","v":""},null,{"$f":"IF(AND(BD!B5014=REF,BD!D5014>=DEB,BD!D5014<=FIN),MAX(calc!$H$1:H5013)+1,0)","v":0}]
[null,null,null,null,null,{"$f":"IF(COUNTIF(BD!$B$2:B5015,BD!B5015)=1,MAX($F$1:F5014)+1,\"\")","v":""},null,{"$f":"IF(AND(BD!B5015=REF,BD!D5015>=DEB,BD!D5015<=FIN),MAX(calc!$H$1:H5014)+1,0)","v":0}]
[null,null,null,null,null,{"$f":"IF(COUNTIF(BD!$B$2:B5016,BD!B5016)=1,MAX($F$1:F5015)+1,\"\")","v":""},null,{"$f":"IF(AND(BD!B5016=REF,BD!D5016>=DEB,BD!D5016<=FIN),MAX(calc!$H$1:H5015)+1,0)","v":0}]
[null,null,null,null,null,{"$f":"IF(COUNTIF(BD!$B$2:B5017,BD!B5017)=1,MAX($F$1:F5016)+1,\"\")","v":""},null,{"$f":"IF(AND(BD!B5017=REF,BD!D5017>=DEB,BD!D5017<=FIN),MAX(calc!$H$1:H5016)+1,0)","v":0}]
[null,null,null,null,null,{"$f":"IF(COUNTIF(BD!$B$2:B5018,BD!B5018)=1,MAX($F$1:F5017)+1,\"\")","v":""},null,{"$f":"IF(AND(BD!B5018=REF,BD!D5018>=DEB,BD!D5018<=FIN),MAX(calc!$H$1:H5017)+1,0)","v":0}]
[null,null,null,null,null,{"$f":"IF(COUNTIF(BD!$B$2:B5019,BD!B5019)=1,MAX($F$1:F5018)+1,\"\")","v":""},null,{"$f":"IF(AND(BD!B5019=REF,BD!D5019>=DEB,BD!D5019<=FIN),MAX(calc!$H$1:H5018)+1,0)","v":0}]
[null,null,null,null,null,{"$f":"IF(COUNTIF(BD!$B$2:B5020,BD!B5020)=1,MAX($F$1:F5019)+1,\"\")","v":""},null,{"$f":"IF(AND(BD!B5020=REF,BD!D5020>=DEB,BD!D5020<=FIN),MAX(calc!$H$1:H5019)+1,0)","v":0}]
[null,null,null,null,null,{"$f":"IF(COUNTIF(BD!$B$2:B5021,BD!B5021)=1,MAX($F$1:F5020)+1,\"\")","v":""},null,{"$f":"IF(AND(BD!B5021=REF,BD!D5021>=DEB,BD!D5021<=FIN),MAX(calc!$H$1:H5020)+1,0)","v":0}]
[null,null,null,null,null,{"$f":"IF(COUNTIF(BD!$B$2:B5022,BD!B5022)=1,MAX($F$1:F5021)+1,\"\")","v":""},null,{"$f":"IF(AND(BD!B5022=REF,BD!D5022>=DEB,BD!D5022<=FIN),MAX(calc!$H$1:H5021)+1,0)","v":0}]
[null,null,null,null,null,{"$f":"IF(COUNTIF(BD!$B$2:B5023,BD!B5023)=1,MAX($F$1:F5022)+1,\"\")","v":""},null,{"$f":"IF(AND(BD!B5023=REF,BD!D5023>=DEB,BD!D5023<=FIN),MAX(calc!$H$1:H5022)+1,0)","v":0}]
[null,null,null,null,null,{"$f":"IF(COUNTIF(BD!$B$2:B5024,BD!B5024)=1,MAX($F$1:F5023)+1,\"\")","v":""},null,{"$f":"IF(AND(BD!B5024=REF,BD!D5024>=DEB,BD!D5024<=FIN),MAX(calc!$H$1:H5023)+1,0)","v":0}]
[null,null,null,null,null,{"$f":"IF(COUNTIF(BD!$B$2:B5025,BD!B5025)=1,MAX($F$1:F5024)+1,\"\")","v":""},null,{"$f":"IF(AND(BD!B5025=REF,BD!D5025>=DEB,BD!D5025<=FIN),MAX(calc!$H$1:H5024)+1,0)","v":0}]
[null,null,null,null,null,{"$f":"IF(COUNTIF(BD!$B$2:B5026,BD!B5026)=1,MAX($F$1:F5025)+1,\"\")","v":""},null,{"$f":"IF(AND(BD!B5026=REF,BD!D5026>=DEB,BD!D5026<=FIN),MAX(calc!$H$1:H5025)+1,0)","v":0}]
[null,null,null,null,null,{"$f":"IF(COUNTIF(BD!$B$2:B5027,BD!B5027)=1,MAX($F$1:F5026)+1,\"\")","v":""},null,{"$f":"IF(AND(BD!B5027=REF,BD!D5027>=DEB,BD!D5027<=FIN),MAX(calc!$H$1:H5026)+1,0)","v":0}]
[null,null,null,null,null,{"$f":"IF(COUNTIF(BD!$B$2:B5028,BD!B5028)=1,MAX($F$1:F5027)+1,\"\")","v":""},null,{"$f":"IF(AND(BD!B5028=REF,BD!D5028>=DEB,BD!D5028<=FIN),MAX(calc!$H$1:H5027)+1,0)","v":0}]
[null,null,null,null,null,{"$f":"IF(COUNTIF(BD!$B$2:B5029,BD!B5029)=1,MAX($F$1:F5028)+1,\"\")","v":""},null,{"$f":"IF(AND(BD!B5029=REF,BD!D5029>=DEB,BD!D5029<=FIN),MAX(calc!$H$1:H5028)+1,0)","v":0}]
[null,null,null,null,null,{"$f":"IF(COUNTIF(BD!$B$2:B5030,BD!B5030)=1,MAX($F$1:F5029)+1,\"\")","v":""},null,{"$f":"IF(AND(BD!B5030=REF,BD!D5030>=DEB,BD!D5030<=FIN),MAX(calc!$H$1:H5029)+1,0)","v":0}]
[null,null,null,null,null,{"$f":"IF(COUNTIF(BD!$B$2:B5031,BD!B5031)=1,MAX($F$1:F5030)+1,\"\")","v":""},null,{"$f":"IF(AND(BD!B5031=REF,BD!D5031>=DEB,BD!D5031<=FIN),MAX(calc!$H$1:H5030)+1,0)","v":0}]
[null,null,null,null,null,{"$f":"IF(COUNTIF(BD!$B$2:B5032,BD!B5032)=1,MAX($F$1:F5031)+1,\"\")","v":""},null,{"$f":"IF(AND(BD!B5032=REF,BD!D5032>=DEB,BD!D5032<=FIN),MAX(calc!$H$1:H5031)+1,0)","v":0}]
[null,null,null,null,null,{"$f":"IF(COUNTIF(BD!$B$2:B5033,BD!B5033)=1,MAX($F$1:F5032)+1,\"\")","v":""},null,{"$f":"IF(AND(BD!B5033=REF,BD!D5033>=DEB,BD!D5033<=FIN),MAX(calc!$H$1:H5032)+1,0)","v":0}]
[null,null,null,null,null,{"$f":"IF(COUNTIF(BD!$B$2:B5034,BD!B5034)=1,MAX($F$1:F5033)+1,\"\")","v":""},null,{"$f":"IF(AND(BD!B5034=REF,BD!D5034>=DEB,BD!D5034<=FIN),MAX(calc!$H$1:H5033)+1,0)","v":0}]
[null,null,null,null,null,{"$f":"IF(COUNTIF(BD!$B$2:B5035,BD!B5035)=1,MAX($F$1:F5034)+1,\"\")","v":""},null,{"$f":"IF(AND(BD!B5035=REF,BD!D5035>=DEB,BD!D5035<=FIN),MAX(calc!$H$1:H5034)+1,0)","v":0}]
[null,null,null,null,null,{"$f":"IF(COUNTIF(BD!$B$2:B5036,BD!B5036)=1,MAX($F$1:F5035)+1,\"\")","v":""},null,{"$f":"IF(AND(BD!B5036=REF,BD!D5036>=DEB,BD!D5036<=FIN),MAX(calc!$H$1:H5035)+1,0)","v":0}]
[null,null,null,null,null,{"$f":"IF(COUNTIF(BD!$B$2:B5037,BD!B5037)=1,MAX($F$1:F5036)+1,\"\")","v":""},null,{"$f":"IF(AND(BD!B5037=REF,BD!D5037>=DEB,BD!D5037<=FIN),MAX(calc!$H$1:H5036)+1,0)","v":0}]
[null,null,null,null,null,{"$f":"IF(COUNTIF(BD!$B$2:B5038,BD!B5038)=1,MAX($F$1:F5037)+1,\"\")","v":""},null,{"$f":"IF(AND(BD!B5038=REF,BD!D5038>=DEB,BD!D5038<=FIN),MAX(calc!$H$1:H5037)+1,0)","v":0}]
[null,null,null,null,null,{"$f":"IF(COUNTIF(BD!$B$2:B5039,BD!B5039)=1,MAX($F$1:F5038)+1,\"\")","v":""},null,{"$f":"IF(AND(BD!B5039=REF,BD!D5039>=DEB,BD!D5039<=FIN),MAX(calc!$H$1:H5038)+1,0)","v":0}]
[null,null,null,null,null,{"$f":"IF(COUNTIF(BD!$B$2:B5040,BD!B5040)=1,MAX($F$1:F5039)+1,\"\")","v":""},null,{"$f":"IF(AND(BD!B5040=REF,BD!D5040>=DEB,BD!D5040<=FIN),MAX(calc!$H$1:H5039)+1,0)","v":0}]
[null,null,null,null,null,{"$f":"IF(COUNTIF(BD!$B$2:B5041,BD!B5041)=1,MAX($F$1:F5040)+1,\"\")","v":""},null,{"$f":"IF(AND(BD!B5041=REF,BD!D5041>=DEB,BD!D5041<=FIN),MAX(calc!$H$1:H5040)+1,0)","v":0}]
[null,null,null,null,null,{"$f":"IF(COUNTIF(BD!$B$2:B5042,BD!B5042)=1,MAX($F$1:F5041)+1,\"\")","v":""},null,{"$f":"IF(AND(BD!B5042=REF,BD!D5042>=DEB,BD!D5042<=FIN),MAX(calc!$H$1:H5041)+1,0)","v":0}]
[null,null,null,null,null,{"$f":"IF(COUNTIF(BD!$B$2:B5043,BD!B5043)=1,MAX($F$1:F5042)+1,\"\")","v":""},null,{"$f":"IF(AND(BD!B5043=REF,BD!D5043>=DEB,BD!D5043<=FIN),MAX(calc!$H$1:H5042)+1,0)","v":0}]
[null,null,null,null,null,{"$f":"IF(COUNTIF(BD!$B$2:B5044,BD!B5044)=1,MAX($F$1:F5043)+1,\"\")","v":""},null,{"$f":"IF(AND(BD!B5044=REF,BD!D5044>=DEB,BD!D5044<=FIN),MAX(calc!$H$1:H5043)+1,0)","v":0}]
[null,null,null,null,null,{"$f":"IF(COUNTIF(BD!$B$2:B5045,BD!B5045)=1,MAX($F$1:F5044)+1,\"\")","v":""},null,{"$f":"IF(AND(BD!B5045=REF,BD!D5045>=DEB,BD!D5045<=FIN),MAX(calc!$H$1:H5044)+1,0)","v":0}]
[null,null,null,null,null,{"$f":"IF(COUNTIF(BD!$B$2:B5046,BD!B5046)=1,MAX($F$1:F5045)+1,\"\")","v":""},null,{"$f":"IF(AND(BD!B5046=REF,BD!D5046>=DEB,BD!D5046<=FIN),MAX(calc!$H$1:H5045)+1,0)","v":0}]
[null,null,null,null,null,{"$f":"IF(COUNTIF(BD!$B$2:B5047,BD!B5047)=1,MAX($F$1:F5046)+1,\"\")","v":""},null,{"$f":"IF(AND(BD!B5047=REF,BD!D5047>=DEB,BD!D5047<=FIN),MAX(calc!$H$1:H5046)+1,0)","v":0}]
[null,null,null,null,null,{"$f":"IF(COUNTIF(BD!$B$2:B5048,BD!B5048)=1,MAX($F$1:F5047)+1,\"\")","v":""},null,{"$f":"IF(AND(BD!B5048=REF,BD!D5048>=DEB,BD!D5048<=FIN),MAX(calc!$H$1:H5047)+1,0)","v":0}]
[null,null,null,null,null,{"$f":"IF(COUNTIF(BD!$B$2:B5049,BD!B5049)=1,MAX($F$1:F5048)+1,\"\")","v":""},null,{"$f":"IF(AND(BD!B5049=REF,BD!D5049>=DEB,BD!D5049<=FIN),MAX(calc!$H$1:H5048)+1,0)","v":0}]
[null,null,null,null,null,{"$f":"IF(COUNTIF(BD!$B$2:B5050,BD!B5050)=1,MAX($F$1:F5049)+1,\"\")","v":""},null,{"$f":"IF(AND(BD!B5050=REF,BD!D5050>=DEB,BD!D5050<=FIN),MAX(calc!$H$1:H5049)+1,0)","v":0}]
[null,null,null,null,null,{"$f":"IF(COUNTIF(BD!$B$2:B5051,BD!B5051)=1,MAX($F$1:F5050)+1,\"\")","v":""},null,{"$f":"IF(AND(BD!B5051=REF,BD!D5051>=DEB,BD!D5051<=FIN),MAX(calc!$H$1:H5050)+1,0)","v":0}]
[null,null,null,null,null,{"$f":"IF(COUNTIF(BD!$B$2:B5052,BD!B5052)=1,MAX($F$1:F5051)+1,\"\")","v":""},null,{"$f":"IF(AND(BD!B5052=REF,BD!D5052>=DEB,BD!D5052<=FIN),MAX(calc!$H$1:H5051)+1,0)","v":0}]
[null,null,null,null,null,{"$f":"IF(COUNTIF(BD!$B$2:B5053,BD!B5053)=1,MAX($F$1:F5052)+1,\"\")","v":""},null,{"$f":"IF(AND(BD!B5053=REF,BD!D5053>=DEB,BD!D5053<=FIN),MAX(calc!$H$1:H5052)+1,0)","v":0}]
[null,null,null,null,null,{"$f":"IF(COUNTIF(BD!$B$2:B5054,BD!B5054)=1,MAX($F$1:F5053)+1,\"\")","v":""},null,{"$f":"IF(AND(BD!B5054=REF,BD!D5054>=DEB,BD!D5054<=FIN),MAX(calc!$H$1:H5053)+1,0)","v":0}]
[null,null,null,null,null,{"$f":"IF(COUNTIF(BD!$B$2:B5055,BD!B5055)=1,MAX($F$1:F5054)+1,\"\")","v":""},null,{"$f":"IF(AND(BD!B5055=REF,BD!D5055>=DEB,BD!D5055<=FIN),MAX(calc!$H$1:H5054)+1,0)","v":0}]
[null,null,null,null,null,{"$f":"IF(COUNTIF(BD!$B$2:B5056,BD!B5056)=1,MAX($F$1:F5055)+1,\"\")","v":""},null,{"$f":"IF(AND(BD!B5056=REF,BD!D5056>=DEB,BD!D5056<=FIN),MAX(calc!$H$1:H5055)+1,0)","v":0}]
[null,null,null,null,null,{"$f":"IF(COUNTIF(BD!$B$2:B5057,BD!B5057)=1,MAX($F$1:F5056)+1,\"\")","v":""},null,{"$f":"IF(AND(BD!B5057=REF,BD!D5057>=DEB,BD!D5057<=FIN),MAX(calc!$H$1:H5056)+1,0)","v":0}]
[null,null,null,null,null,{"$f":"IF(COUNTIF(BD!$B$2:B5058,BD!B5058)=1,MAX($F$1:F5057)+1,\"\")","v":""},null,{"$f":"IF(AND(BD!B5058=REF,BD!D5058>=DEB,BD!D5058<=FIN),MAX(calc!$H$1:H5057)+1,0)","v":0}]
[null,null,null,null,null,{"$f":"IF(COUNTIF(BD!$B$2:B5059,BD!B5059)=1,MAX($F$1:F5058)+1,\"\")","v":""},null,{"$f":"IF(AND(BD!B5059=REF,BD!D5059>=DEB,BD!D5059<=FIN),MAX(calc!$H$1:H5058)+1,0)","v":0}]
[null,null,null,null,null,{"$f":"IF(COUNTIF(BD!$B$2:B5060,BD!B5060)=1,MAX($F$1:F5059)+1,\"\")","v":""},null,{"$f":"IF(AND(BD!B5060=REF,BD!D5060>=DEB,BD!D5060<=FIN),MAX(calc!$H$1:H5059)+1,0)","v":0}]
[null,null,null,null,null,{"$f":"IF(COUNTIF(BD!$B$2:B5061,BD!B5061)=1,MAX($F$1:F5060)+1,\"\")","v":""},null,{"$f":"IF(AND(BD!B5061=REF,BD!D5061>=DEB,BD!D5061<=FIN),MAX(calc!$H$1:H5060)+1,0)","v":0}]
[null,null,null,null,null,{"$f":"IF(COUNTIF(BD!$B$2:B5062,BD!B5062)=1,MAX($F$1:F5061)+1,\"\")","v":""},null,{"$f":"IF(AND(BD!B5062=REF,BD!D5062>=DEB,BD!D5062<=FIN),MAX(calc!$H$1:H5061)+1,0)","v":0}]
[null,null,null,null,null,{"$f":"IF(COUNTIF(BD!$B$2:B5063,BD!B5063)=1,MAX($F$1:F5062)+1,\"\")","v":""},null,{"$f":"IF(AND(BD!B5063=REF,BD!D5063>=DEB,BD!D5063<=FIN),MAX(calc!$H$1:H5062)+1,0)","v":0}]
[null,null,null,null,null,{"$f":"IF(COUNTIF(BD!$B$2:B5064,BD!B5064)=1,MAX($F$1:F5063)+1,\"\")","v":""},null,{"$f":"IF(AND(BD!B5064=REF,BD!D5064>=DEB,BD!D5064<=FIN),MAX(calc!$H$1:H5063)+1,0)","v":0}]
[null,null,null,null,null,{"$f":"IF(COUNTIF(BD!$B$2:B5065,BD!B5065)=1,MAX($F$1:F5064)+1,\"\")","v":""},null,{"$f":"IF(AND(BD!B5065=REF,BD!D5065>=DEB,BD!D5065<=FIN),MAX(calc!$H$1:H5064)+1,0)","v":0}]
[null,null,null,null,null,{"$f":"IF(COUNTIF(BD!$B$2:B5066,BD!B5066)=1,MAX($F$1:F5065)+1,\"\")","v":""},null,{"$f":"IF(AND(BD!B5066=REF,BD!D5066>=DEB,BD!D5066<=FIN),MAX(calc!$H$1:H5065)+1,0)","v":0}]
[null,null,null,null,null,{"$f":"IF(COUNTIF(BD!$B$2:B5067,BD!B5067)=1,MAX($F$1:F5066)+1,\"\")","v":""},null,{"$f":"IF(AND(BD!B5067=REF,BD!D5067>=DEB,BD!D5067<=FIN),MAX(calc!$H$1:H5066)+1,0)","v":0}]
[null,null,null,null,null,{"$f":"IF(COUNTIF(BD!$B$2:B5068,BD!B5068)=1,MAX($F$1:F5067)+1,\"\")","v":""},null,{"$f":"IF(AND(BD!B5068=REF,BD!D5068>=DEB,BD!D5068<=FIN),MAX(calc!$H$1:H5067)+1,0)","v":0}]
[null,null,null,null,null,{"$f":"IF(COUNTIF(BD!$B$2:B5069,BD!B5069)=1,MAX($F$1:F5068)+1,\"\")","v":""},null,{"$f":"IF(AND(BD!B5069=REF,BD!D5069>=DEB,BD!D5069<=FIN),MAX(calc!$H$1:H5068)+1,0)","v":0}]
[null,null,null,null,null,{"$f":"IF(COUNTIF(BD!$B$2:B5070,BD!B5070)=1,MAX($F$1:F5069)+1,\"\")","v":""},null,{"$f":"IF(AND(BD!B5070=REF,BD!D5070>=DEB,BD!D5070<=FIN),MAX(calc!$H$1:H5069)+1,0)","v":0}]
[null,null,null,null,null,{"$f":"IF(COUNTIF(BD!$B$2:B5071,BD!B5071)=1,MAX($F$1:F5070)+1,\"\")","v":""},null,{"$f":"IF(AND(BD!B5071=REF,BD!D5071>=DEB,BD!D5071<=FIN),MAX(calc!$H$1:H5070)+1,0)","v":0}]
[null,null,null,null,null,{"$f":"IF(COUNTIF(BD!$B$2:B5072,BD!B5072)=1,MAX($F$1:F5071)+1,\"\")","v":""},null,{"$f":"IF(AND(BD!B5072=REF,BD!D5072>=DEB,BD!D5072<=FIN),MAX(calc!$H$1:H5071)+1,0)","v":0}]
[null,null,null,null,null,{"$f":"IF(COUNTIF(BD!$B$2:B5073,BD!B5073)=1,MAX($F$1:F5072)+1,\"\")","v":""},null,{"$f":"IF(AND(BD!B5073=REF,BD!D5073>=DEB,BD!D5073<=FIN),MAX(calc!$H$1:H5072)+1,0)","v":0}]
[null,null,null,null,null,{"$f":"IF(COUNTIF(BD!$B$2:B5074,BD!B5074)=1,MAX($F$1:F5073)+1,\"\")","v":""},null,{"$f":"IF(AND(BD!B5074=REF,BD!D5074>=DEB,BD!D5074<=FIN),MAX(calc!$H$1:H5073)+1,0)","v":0}]
[null,null,null,null,null,{"$f":"IF(COUNTIF(BD!$B$2:B5075,BD!B5075)=1,MAX($F$1:F5074)+1,\"\")","v":""},null,{"$f":"IF(AND(BD!B5075=REF,BD!D5075>=DEB,BD!D5075<=FIN),MAX(calc!$H$1:H5074)+1,0)","v":0}]
[null,null,null,null,null,{"$f":"IF(COUNTIF(BD!$B$2:B5076,BD!B5076)=1,MAX($F$1:F5075)+1,\"\")","v":""},null,{"$f":"IF(AND(BD!B5076=REF,BD!D5076>=DEB,BD!D5076<=FIN),MAX(calc!$H$1:H5075)+1,0)","v":0}]
[null,null,null,null,null,{"$f":"IF(COUNTIF(BD!$B$2:B5077,BD!B5077)=1,MAX($F$1:F5076)+1,\"\")","v":""},null,{"$f":"IF(AND(BD!B5077=REF,BD!D5077>=DEB,BD!D5077<=FIN),MAX(calc!$H$1:H5076)+1,0)","v":0}]
[null,null,null,null,null,{"$f":"IF(COUNTIF(BD!$B$2:B5078,BD!B5078)=1,MAX($F$1:F5077)+1,\"\")","v":""},null,{"$f":"IF(AND(BD!B5078=REF,BD!D5078>=DEB,BD!D5078<=FIN),MAX(calc!$H$1:H5077)+1,0)","v":0}]
[null,null,null,null,null,{"$f":"IF(COUNTIF(BD!$B$2:B5079,BD!B5079)=1,MAX($F$1:F5078)+1,\"\")","v":""},null,{"$f":"IF(AND(BD!B5079=REF,BD!D5079>=DEB,BD!D5079<=FIN),MAX(calc!$H$1:H5078)+1,0)","v":0}]
[null,null,null,null,null,{"$f":"IF(COUNTIF(BD!$B$2:B5080,BD!B5080)=1,MAX($F$1:F5079)+1,\"\")","v":""},null,{"$f":"IF(AND(BD!B5080=REF,BD!D5080>=DEB,BD!D5080<=FIN),MAX(calc!$H$1:H5079)+1,0)","v":0}]
[null,null,null,null,null,{"$f":"IF(COUNTIF(BD!$B$2:B5081,BD!B5081)=1,MAX($F$1:F5080)+1,\"\")","v":""},null,{"$f":"IF(AND(BD!B5081=REF,BD!D5081>=DEB,BD!D5081<=FIN),MAX(calc!$H$1:H5080)+1,0)","v":0}]
[null,null,null,null,null,{"$f":"IF(COUNTIF(BD!$B$2:B5082,BD!B5082)=1,MAX($F$1:F5081)+1,\"\")","v":""},null,{"$f":"IF(AND(BD!B5082=REF,BD!D5082>=DEB,BD!D5082<=FIN),MAX(calc!$H$1:H5081)+1,0)","v":0}]
[null,null,null,null,null,{"$f":"IF(COUNTIF(BD!$B$2:B5083,BD!B5083)=1,MAX($F$1:F5082)+1,\"\")","v":""},null,{"$f":"IF(AND(BD!B5083=REF,BD!D5083>=DEB,BD!D5083<=FIN),MAX(calc!$H$1:H5082)+1,0)","v":0}]
[null,null,null,null,null,{"$f":"IF(COUNTIF(BD!$B$2:B5084,BD!B5084)=1,MAX($F$1:F5083)+1,\"\")","v":""},null,{"$f":"IF(AND(BD!B5084=REF,BD!D5084>=DEB,BD!D5084<=FIN),MAX(calc!$H$1:H5083)+1,0)","v":0}]
[null,null,null,null,null,{"$f":"IF(COUNTIF(BD!$B$2:B5085,BD!B5085)=1,MAX($F$1:F5084)+1,\"\")","v":""},null,{"$f":"IF(AND(BD!B5085=REF,BD!D5085>=DEB,BD!D5085<=FIN),MAX(calc!$H$1:H5084)+1,0)","v":0}]
[null,null,null,null,null,{"$f":"IF(COUNTIF(BD!$B$2:B5086,BD!B5086)=1,MAX($F$1:F5085)+1,\"\")","v":""},null,{"$f":"IF(AND(BD!B5086=REF,BD!D5086>=DEB,BD!D5086<=FIN),MAX(calc!$H$1:H5085)+1,0)","v":0}]
[null,null,null,null,null,{"$f":"IF(COUNTIF(BD!$B$2:B5087,BD!B5087)=1,MAX($F$1:F5086)+1,\"\")","v":""},null,{"$f":"IF(AND(BD!B5087=REF,BD!D5087>=DEB,BD!D5087<=FIN),MAX(calc!$H$1:H5086)+1,0)","v":0}]
[null,null,null,null,null,{"$f":"IF(COUNTIF(BD!$B$2:B5088,BD!B5088)=1,MAX($F$1:F5087)+1,\"\")","v":""},null,{"$f":"IF(AND(BD!B5088=REF,BD!D5088>=DEB,BD!D5088<=FIN),MAX(calc!$H$1:H5087)+1,0)","v":0}]
[null,null,null,null,null,{"$f":"IF(COUNTIF(BD!$B$2:B5089,BD!B5089)=1,MAX($F$1:F5088)+1,\"\")","v":""},null,{"$f":"IF(AND(BD!B5089=REF,BD!D5089>=DEB,BD!D5089<=FIN),MAX(calc!$H$1:H5088)+1,0)","v":0}]
[null,null,null,null,null,{"$f":"IF(COUNTIF(BD!$B$2:B5090,BD!B5090)=1,MAX($F$1:F5089)+1,\"\")","v":""},null,{"$f":"IF(AND(BD!B5090=REF,BD!D5090>=DEB,BD!D5090<=FIN),MAX(calc!$H$1:H5089)+1,0)","v":0}]
[null,null,null,null,null,{"$f":"IF(COUNTIF(BD!$B$2:B5091,BD!B5091)=1,MAX($F$1:F5090)+1,\"\")","v":""},null,{"$f":"IF(AND(BD!B5091=REF,BD!D5091>=DEB,BD!D5091<=FIN),MAX(calc!$H$1:H5090)+1,0)","v":0}]
[null,null,null,null,null,{"$f":"IF(COUNTIF(BD!$B$2:B5092,BD!B5092)=1,MAX($F$1:F5091)+1,\"\")","v":""},null,{"$f":"IF(AND(BD!B5092=REF,BD!D5092>=DEB,BD!D5092<=FIN),MAX(calc!$H$1:H5091)+1,0)","v":0}]
[null,null,null,null,null,{"$f":"IF(COUNTIF(BD!$B$2:B5093,BD!B5093)=1,MAX($F$1:F5092)+1,\"\")","v":""},null,{"$f":"IF(AND(BD!B5093=REF,BD!D5093>=DEB,BD!D5093<=FIN),MAX(calc!$H$1:H5092)+1,0)","v":0}]
[null,null,null,null,null,{"$f":"IF(COUNTIF(BD!$B$2:B5094,BD!B5094)=1,MAX($F$1:F5093)+1,\"\")","v":""},null,{"$f":"IF(AND(BD!B5094=REF,BD!D5094>=DEB,BD!D5094<=FIN),MAX(calc!$H$1:H5093)+1,0)","v":0}]
[null,null,null,null,null,{"$f":"IF(COUNTIF(BD!$B$2:B5095,BD!B5095)=1,MAX($F$1:F5094)+1,\"\")","v":""},null,{"$f":"IF(AND(BD!B5095=REF,BD!D5095>=DEB,BD!D5095<=FIN),MAX(calc!$H$1:H5094)+1,0)","v":0}]
[null,null,null,null,null,{"$f":"IF(COUNTIF(BD!$B$2:B5096,BD!B5096)=1,MAX($F$1:F5095)+1,\"\")","v":""},null,{"$f":"IF(AND(BD!B5096=REF,BD!D5096>=DEB,BD!D5096<=FIN),MAX(calc!$H$1:H5095)+1,0)","v":0}]
[null,null,null,null,null,{"$f":"IF(COUNTIF(BD!$B$2:B5097,BD!B5097)=1,MAX($F$1:F5096)+1,\"\")","v":""},null,{"$f":"IF(AND(BD!B5097=REF,BD!D5097>=DEB,BD!D5097<=FIN),MAX(calc!$H$1:H5096)+1,0)","v":0}]
[null,null,null,null,null,{"$f":"IF(COUNTIF(BD!$B$2:B5098,BD!B5098)=1,MAX($F$1:F5097)+1,\"\")","v":""},null,{"$f":"IF(AND(BD!B5098=REF,BD!D5098>=DEB,BD!D5098<=FIN),MAX(calc!$H$1:H5097)+1,0)","v":0}]
[null,null,null,null,null,{"$f":"IF(COUNTIF(BD!$B$2:B5099,BD!B5099)=1,MAX($F$1:F5098)+1,\"\")","v":""},null,{"$f":"IF(AND(BD!B5099=REF,BD!D5099>=DEB,BD!D5099<=FIN),MAX(calc!$H$1:H5098)+1,0)","v":0}]
[null,null,null,null,null,{"$f":"IF(COUNTIF(BD!$B$2:B5100,BD!B5100)=1,MAX($F$1:F5099)+1,\"\")","v":""},null,{"$f":"IF(AND(BD!B5100=REF,BD!D5100>=DEB,BD!D5100<=FIN),MAX(calc!$H$1:H5099)+1,0)","v":0}]
[null,null,null,null,null,{"$f":"IF(COUNTIF(BD!$B$2:B5101,BD!B5101)=1,MAX($F$1:F5100)+1,\"\")","v":""},null,{"$f":"IF(AND(BD!B5101=REF,BD!D5101>=DEB,BD!D5101<=FIN),MAX(calc!$H$1:H5100)+1,0)","v":0}]
[null,null,null,null,null,{"$f":"IF(COUNTIF(BD!$B$2:B5102,BD!B5102)=1,MAX($F$1:F5101)+1,\"\")","v":""},null,{"$f":"IF(AND(BD!B5102=REF,BD!D5102>=DEB,BD!D5102<=FIN),MAX(calc!$H$1:H5101)+1,0)","v":0}]
[null,null,null,null,null,{"$f":"IF(COUNTIF(BD!$B$2:B5103,BD!B5103)=1,MAX($F$1:F5102)+1,\"\")","v":""},null,{"$f":"IF(AND(BD!B5103=REF,BD!D5103>=DEB,BD!D5103<=FIN),MAX(calc!$H$1:H5102)+1,0)","v":0}]
[null,null,null,null,null,{"$f":"IF(COUNTIF(BD!$B$2:B5104,BD!B5104)=1,MAX($F$1:F5103)+1,\"\")","v":""},null,{"$f":"IF(AND(BD!B5104=REF,BD!D5104>=DEB,BD!D5104<=FIN),MAX(calc!$H$1:H5103)+1,0)","v":0}]
[null,null,null,null,null,{"$f":"IF(COUNTIF(BD!$B$2:B5105,BD!B5105)=1,MAX($F$1:F5104)+1,\"\")","v":""},null,{"$f":"IF(AND(BD!B5105=REF,BD!D5105>=DEB,BD!D5105<=FIN),MAX(calc!$H$1:H5104)+1,0)","v":0}]
[null,null,null,null,null,{"$f":"IF(COUNTIF(BD!$B$2:B5106,BD!B5106)=1,MAX($F$1:F5105)+1,\"\")","v":""},null,{"$f":"IF(AND(BD!B5106=REF,BD!D5106>=DEB,BD!D5106<=FIN),MAX(calc!$H$1:H5105)+1,0)","v":0}]
[null,null,null,null,null,{"$f":"IF(COUNTIF(BD!$B$2:B5107,BD!B5107)=1,MAX($F$1:F5106)+1,\"\")","v":""},null,{"$f":"IF(AND(BD!B5107=REF,BD!D5107>=DEB,BD!D5107<=FIN),MAX(calc!$H$1:H5106)+1,0)","v":0}]
[null,null,null,null,null,{"$f":"IF(COUNTIF(BD!$B$2:B5108,BD!B5108)=1,MAX($F$1:F5107)+1,\"\")","v":""},null,{"$f":"IF(AND(BD!B5108=REF,BD!D5108>=DEB,BD!D5108<=FIN),MAX(calc!$H$1:H5107)+1,0)","v":0}]
[null,null,null,null,null,{"$f":"IF(COUNTIF(BD!$B$2:B5109,BD!B5109)=1,MAX($F$1:F5108)+1,\"\")","v":""},null,{"$f":"IF(AND(BD!B5109=REF,BD!D5109>=DEB,BD!D5109<=FIN),MAX(calc!$H$1:H5108)+1,0)","v":0}]
[null,null,null,null,null,{"$f":"IF(COUNTIF(BD!$B$2:B5110,BD!B5110)=1,MAX($F$1:F5109)+1,\"\")","v":""},null,{"$f":"IF(AND(BD!B5110=REF,BD!D5110>=DEB,BD!D5110<=FIN),MAX(calc!$H$1:H5109)+1,0)","v":0}]
[null,null,null,null,null,{"$f":"IF(COUNTIF(BD!$B$2:B5111,BD!B5111)=1,MAX($F$1:F5110)+1,\"\")","v":""},null,{"$f":"IF(AND(BD!B5111=REF,BD!D5111>=DEB,BD!D5111<=FIN),MAX(calc!$H$1:H5110)+1,0)","v":0}]
[null,null,null,null,null,{"$f":"IF(COUNTIF(BD!$B$2:B5112,BD!B5112)=1,MAX($F$1:F5111)+1,\"\")","v":""},null,{"$f":"IF(AND(BD!B5112=REF,BD!D5112>=DEB,BD!D5112<=FIN),MAX(calc!$H$1:H5111)+1,0)","v":0}]
[null,null,null,null,null,{"$f":"IF(COUNTIF(BD!$B$2:B5113,BD!B5113)=1,MAX($F$1:F5112)+1,\"\")","v":""},null,{"$f":"IF(AND(BD!B5113=REF,BD!D5113>=DEB,BD!D5113<=FIN),MAX(calc!$H$1:H5112)+1,0)","v":0}]
[null,null,null,null,null,{"$f":"IF(COUNTIF(BD!$B$2:B5114,BD!B5114)=1,MAX($F$1:F5113)+1,\"\")","v":""},null,{"$f":"IF(AND(BD!B5114=REF,BD!D5114>=DEB,BD!D5114<=FIN),MAX(calc!$H$1:H5113)+1,0)","v":0}]
[null,null,null,null,null,{"$f":"IF(COUNTIF(BD!$B$2:B5115,BD!B5115)=1,MAX($F$1:F5114)+1,\"\")","v":""},null,{"$f":"IF(AND(BD!B5115=REF,BD!D5115>=DEB,BD!D5115<=FIN),MAX(calc!$H$1:H5114)+1,0)","v":0}]
[null,null,null,null,null,{"$f":"IF(COUNTIF(BD!$B$2:B5116,BD!B5116)=1,MAX($F$1:F5115)+1,\"\")","v":""},null,{"$f":"IF(AND(BD!B5116=REF,BD!D5116>=DEB,BD!D5116<=FIN),MAX(calc!$H$1:H5115)+1,0)","v":0}]
[null,null,null,null,null,{"$f":"IF(COUNTIF(BD!$B$2:B5117,BD!B5117)=1,MAX($F$1:F5116)+1,\"\")","v":""},null,{"$f":"IF(AND(BD!B5117=REF,BD!D5117>=DEB,BD!D5117<=FIN),MAX(calc!$H$1:H5116)+1,0)","v":0}]
[null,null,null,null,null,{"$f":"IF(COUNTIF(BD!$B$2:B5118,BD!B5118)=1,MAX($F$1:F5117)+1,\"\")","v":""},null,{"$f":"IF(AND(BD!B5118=REF,BD!D5118>=DEB,BD!D5118<=FIN),MAX(calc!$H$1:H5117)+1,0)","v":0}]
[null,null,null,null,null,{"$f":"IF(COUNTIF(BD!$B$2:B5119,BD!B5119)=1,MAX($F$1:F5118)+1,\"\")","v":""},null,{"$f":"IF(AND(BD!B5119=REF,BD!D5119>=DEB,BD!D5119<=FIN),MAX(calc!$H$1:H5118)+1,0)","v":0}]
[null,null,null,null,null,{"$f":"IF(COUNTIF(BD!$B$2:B5120,BD!B5120)=1,MAX($F$1:F5119)+1,\"\")","v":""},null,{"$f":"IF(AND(BD!B5120=REF,BD!D5120>=DEB,BD!D5120<=FIN),MAX(calc!$H$1:H5119)+1,0)","v":0}]
[null,null,null,null,null,{"$f":"IF(COUNTIF(BD!$B$2:B5121,BD!B5121)=1,MAX($F$1:F5120)+1,\"\")","v":""},null,{"$f":"IF(AND(BD!B5121=REF,BD!D5121>=DEB,BD!D5121<=FIN),MAX(calc!$H$1:H5120)+1,0)","v":0}]
[null,null,null,null,null,{"$f":"IF(COUNTIF(BD!$B$2:B5122,BD!B5122)=1,MAX($F$1:F5121)+1,\"\")","v":""},null,{"$f":"IF(AND(BD!B5122=REF,BD!D5122>=DEB,BD!D5122<=FIN),MAX(calc!$H$1:H5121)+1,0)","v":0}]
[null,null,null,null,null,{"$f":"IF(COUNTIF(BD!$B$2:B5123,BD!B5123)=1,MAX($F$1:F5122)+1,\"\")","v":""},null,{"$f":"IF(AND(BD!B5123=REF,BD!D5123>=DEB,BD!D5123<=FIN),MAX(calc!$H$1:H5122)+1,0)","v":0}]
[null,null,null,null,null,{"$f":"IF(COUNTIF(BD!$B$2:B5124,BD!B5124)=1,MAX($F$1:F5123)+1,\"\")","v":""},null,{"$f":"IF(AND(BD!B5124=REF,BD!D5124>=DEB,BD!D5124<=FIN),MAX(calc!$H$1:H5123)+1,0)","v":0}]
[null,null,null,null,null,{"$f":"IF(COUNTIF(BD!$B$2:B5125,BD!B5125)=1,MAX($F$1:F5124)+1,\"\")","v":""},null,{"$f":"IF(AND(BD!B5125=REF,BD!D5125>=DEB,BD!D5125<=FIN),MAX(calc!$H$1:H5124)+1,0)","v":0}]
[null,null,null,null,null,{"$f":"IF(COUNTIF(BD!$B$2:B5126,BD!B5126)=1,MAX($F$1:F5125)+1,\"\")","v":""},null,{"$f":"IF(AND(BD!B5126=REF,BD!D5126>=DEB,BD!D5126<=FIN),MAX(calc!$H$1:H5125)+1,0)","v":0}]
[null,null,null,null,null,{"$f":"IF(COUNTIF(BD!$B$2:B5127,BD!B5127)=1,MAX($F$1:F5126)+1,\"\")","v":""},null,{"$f":"IF(AND(BD!B5127=REF,BD!D5127>=DEB,BD!D5127<=FIN),MAX(calc!$H$1:H5126)+1,0)","v":0}]
[null,null,null,null,null,{"$f":"IF(COUNTIF(BD!$B$2:B5128,BD!B5128)=1,MAX($F$1:F5127)+1,\"\")","v":""},null,{"$f":"IF(AND(BD!B5128=REF,BD!D5128>=DEB,BD!D5128<=FIN),MAX(calc!$H$1:H5127)+1,0)","v":0}]
[null,null,null,null,null,{"$f":"IF(COUNTIF(BD!$B$2:B5129,BD!B5129)=1,MAX($F$1:F5128)+1,\"\")","v":""},null,{"$f":"IF(AND(BD!B5129=REF,BD!D5129>=DEB,BD!D5129<=FIN),MAX(calc!$H$1:H5128)+1,0)","v":0}]
[null,null,null,null,null,{"$f":"IF(COUNTIF(BD!$B$2:B5130,BD!B5130)=1,MAX($F$1:F5129)+1,\"\")","v":""},null,{"$f":"IF(AND(BD!B5130=REF,BD!D5130>=DEB,BD!D5130<=FIN),MAX(calc!$H$1:H5129)+1,0)","v":0}]
[null,null,null,null,null,{"$f":"IF(COUNTIF(BD!$B$2:B5131,BD!B5131)=1,MAX($F$1:F5130)+1,\"\")","v":""},null,{"$f":"IF(AND(BD!B5131=REF,BD!D5131>=DEB,BD!D5131<=FIN),MAX(calc!$H$1:H5130)+1,0)","v":0}]
[null,null,null,null,null,{"$f":"IF(COUNTIF(BD!$B$2:B5132,BD!B5132)=1,MAX($F$1:F5131)+1,\"\")","v":""},null,{"$f":"IF(AND(BD!B5132=REF,BD!D5132>=DEB,BD!D5132<=FIN),MAX(calc!$H$1:H5131)+1,0)","v":0}]
[null,null,null,null,null,{"$f":"IF(COUNTIF(BD!$B$2:B5133,BD!B5133)=1,MAX($F$1:F5132)+1,\"\")","v":""},null,{"$f":"IF(AND(BD!B5133=REF,BD!D5133>=DEB,BD!D5133<=FIN),MAX(calc!$H$1:H5132)+1,0)","v":0}]
[null,null,null,null,null,{"$f":"IF(COUNTIF(BD!$B$2:B5134,BD!B5134)=1,MAX($F$1:F5133)+1,\"\")","v":""},null,{"$f":"IF(AND(BD!B5134=REF,BD!D5134>=DEB,BD!D5134<=FIN),MAX(calc!$H$1:H5133)+1,0)","v":0}]
[null,null,null,null,null,{"$f":"IF(COUNTIF(BD!$B$2:B5135,BD!B5135)=1,MAX($F$1:F5134)+1,\"\")","v":""},null,{"$f":"IF(AND(BD!B5135=REF,BD!D5135>=DEB,BD!D5135<=FIN),MAX(calc!$H$1:H5134)+1,0)","v":0}]
[null,null,null,null,null,{"$f":"IF(COUNTIF(BD!$B$2:B5136,BD!B5136)=1,MAX($F$1:F5135)+1,\"\")","v":""},null,{"$f":"IF(AND(BD!B5136=REF,BD!D5136>=DEB,BD!D5136<=FIN),MAX(calc!$H$1:H5135)+1,0)","v":0}]
[null,null,null,null,null,{"$f":"IF(COUNTIF(BD!$B$2:B5137,BD!B5137)=1,MAX($F$1:F5136)+1,\"\")","v":""},null,{"$f":"IF(AND(BD!B5137=REF,BD!D5137>=DEB,BD!D5137<=FIN),MAX(calc!$H$1:H5136)+1,0)","v":0}]
[null,null,null,null,null,{"$f":"IF(COUNTIF(BD!$B$2:B5138,BD!B5138)=1,MAX($F$1:F5137)+1,\"\")","v":""},null,{"$f":"IF(AND(BD!B5138=REF,BD!D5138>=DEB,BD!D5138<=FIN),MAX(calc!$H$1:H5137)+1,0)","v":0}]
[null,null,null,null,null,{"$f":"IF(COUNTIF(BD!$B$2:B5139,BD!B5139)=1,MAX($F$1:F5138)+1,\"\")","v":""},null,{"$f":"IF(AND(BD!B5139=REF,BD!D5139>=DEB,BD!D5139<=FIN),MAX(calc!$H$1:H5138)+1,0)","v":0}]
[null,null,null,null,null,{"$f":"IF(COUNTIF(BD!$B$2:B5140,BD!B5140)=1,MAX($F$1:F5139)+1,\"\")","v":""},null,{"$f":"IF(AND(BD!B5140=REF,BD!D5140>=DEB,BD!D5140<=FIN),MAX(calc!$H$1:H5139)+1,0)","v":0}]
[null,null,null,null,null,{"$f":"IF(COUNTIF(BD!$B$2:B5141,BD!B5141)=1,MAX($F$1:F5140)+1,\"\")","v":""},null,{"$f":"IF(AND(BD!B5141=REF,BD!D5141>=DEB,BD!D5141<=FIN),MAX(calc!$H$1:H5140)+1,0)","v":0}]
[null,null,null,null,null,{"$f":"IF(COUNTIF(BD!$B$2:B5142,BD!B5142)=1,MAX($F$1:F5141)+1,\"\")","v":""},null,{"$f":"IF(AND(BD!B5142=REF,BD!D5142>=DEB,BD!D5142<=FIN),MAX(calc!$H$1:H5141)+1,0)","v":0}]
[null,null,null,null,null,{"$f":"IF(COUNTIF(BD!$B$2:B5143,BD!B5143)=1,MAX($F$1:F5142)+1,\"\")","v":""},null,{"$f":"IF(AND(BD!B5143=REF,BD!D5143>=DEB,BD!D5143<=FIN),MAX(calc!$H$1:H5142)+1,0)","v":0}]
[null,null,null,null,null,{"$f":"IF(COUNTIF(BD!$B$2:B5144,BD!B5144)=1,MAX($F$1:F5143)+1,\"\")","v":""},null,{"$f":"IF(AND(BD!B5144=REF,BD!D5144>=DEB,BD!D5144<=FIN),MAX(calc!$H$1:H5143)+1,0)","v":0}]
[null,null,null,null,null,{"$f":"IF(COUNTIF(BD!$B$2:B5145,BD!B5145)=1,MAX($F$1:F5144)+1,\"\")","v":""},null,{"$f":"IF(AND(BD!B5145=REF,BD!D5145>=DEB,BD!D5145<=FIN),MAX(calc!$H$1:H5144)+1,0)","v":0}]
[null,null,null,null,null,{"$f":"IF(COUNTIF(BD!$B$2:B5146,BD!B5146)=1,MAX($F$1:F5145)+1,\"\")","v":""},null,{"$f":"IF(AND(BD!B5146=REF,BD!D5146>=DEB,BD!D5146<=FIN),MAX(calc!$H$1:H5145)+1,0)","v":0}]
[null,null,null,null,null,{"$f":"IF(COUNTIF(BD!$B$2:B5147,BD!B5147)=1,MAX($F$1:F5146)+1,\"\")","v":""},null,{"$f":"IF(AND(BD!B5147=REF,BD!D5147>=DEB,BD!D5147<=FIN),MAX(calc!$H$1:H5146)+1,0)","v":0}]
[null,null,null,null,null,{"$f":"IF(COUNTIF(BD!$B$2:B5148,BD!B5148)=1,MAX($F$1:F5147)+1,\"\")","v":""},null,{"$f":"IF(AND(BD!B5148=REF,BD!D5148>=DEB,BD!D5148<=FIN),MAX(calc!$H$1:H5147)+1,0)","v":0}]
[null,null,null,null,null,{"$f":"IF(COUNTIF(BD!$B$2:B5149,BD!B5149)=1,MAX($F$1:F5148)+1,\"\")","v":""},null,{"$f":"IF(AND(BD!B5149=REF,BD!D5149>=DEB,BD!D5149<=FIN),MAX(calc!$H$1:H5148)+1,0)","v":0}]
[null,null,null,null,null,{"$f":"IF(COUNTIF(BD!$B$2:B5150,BD!B5150)=1,MAX($F$1:F5149)+1,\"\")","v":""},null,{"$f":"IF(AND(BD!B5150=REF,BD!D5150>=DEB,BD!D5150<=FIN),MAX(calc!$H$1:H5149)+1,0)","v":0}]
[null,null,null,null,null,{"$f":"IF(COUNTIF(BD!$B$2:B5151,BD!B5151)=1,MAX($F$1:F5150)+1,\"\")","v":""},null,{"$f":"IF(AND(BD!B5151=REF,BD!D5151>=DEB,BD!D5151<=FIN),MAX(calc!$H$1:H5150)+1,0)","v":0}]
[null,null,null,null,null,{"$f":"IF(COUNTIF(BD!$B$2:B5152,BD!B5152)=1,MAX($F$1:F5151)+1,\"\")","v":""},null,{"$f":"IF(AND(BD!B5152=REF,BD!D5152>=DEB,BD!D5152<=FIN),MAX(calc!$H$1:H5151)+1,0)","v":0}]
[null,null,null,null,null,{"$f":"IF(COUNTIF(BD!$B$2:B5153,BD!B5153)=1,MAX($F$1:F5152)+1,\"\")","v":""},null,{"$f":"IF(AND(BD!B5153=REF,BD!D5153>=DEB,BD!D5153<=FIN),MAX(calc!$H$1:H5152)+1,0)","v":0}]
[null,null,null,null,null,{"$f":"IF(COUNTIF(BD!$B$2:B5154,BD!B5154)=1,MAX($F$1:F5153)+1,\"\")","v":""},null,{"$f":"IF(AND(BD!B5154=REF,BD!D5154>=DEB,BD!D5154<=FIN),MAX(calc!$H$1:H5153)+1,0)","v":0}]
[null,null,null,null,null,{"$f":"IF(COUNTIF(BD!$B$2:B5155,BD!B5155)=1,MAX($F$1:F5154)+1,\"\")","v":""},null,{"$f":"IF(AND(BD!B5155=REF,BD!D5155>=DEB,BD!D5155<=FIN),MAX(calc!$H$1:H5154)+1,0)","v":0}]
[null,null,null,null,null,{"$f":"IF(COUNTIF(BD!$B$2:B5156,BD!B5156)=1,MAX($F$1:F5155)+1,\"\")","v":""},null,{"$f":"IF(AND(BD!B5156=REF,BD!D5156>=DEB,BD!D5156<=FIN),MAX(calc!$H$1:H5155)+1,0)","v":0}]
[null,null,null,null,null,{"$f":"IF(COUNTIF(BD!$B$2:B5157,BD!B5157)=1,MAX($F$1:F5156)+1,\"\")","v":""},null,{"$f":"IF(AND(BD!B5157=REF,BD!D5157>=DEB,BD!D5157<=FIN),MAX(calc!$H$1:H5156)+1,0)","v":0}]
[null,null,null,null,null,{"$f":"IF(COUNTIF(BD!$B$2:B5158,BD!B5158)=1,MAX($F$1:F5157)+1,\"\")","v":""},null,{"$f":"IF(AND(BD!B5158=REF,BD!D5158>=DEB,BD!D5158<=FIN),MAX(calc!$H$1:H5157)+1,0)","v":0}]
[null,null,null,null,null,{"$f":"IF(COUNTIF(BD!$B$2:B5159,BD!B5159)=1,MAX($F$1:F5158)+1,\"\")","v":""},null,{"$f":"IF(AND(BD!B5159=REF,BD!D5159>=DEB,BD!D5159<=FIN),MAX(calc!$H$1:H5158)+1,0)","v":0}]
[null,null,null,null,null,{"$f":"IF(COUNTIF(BD!$B$2:B5160,BD!B5160)=1,MAX($F$1:F5159)+1,\"\")","v":""},null,{"$f":"IF(AND(BD!B5160=REF,BD!D5160>=DEB,BD!D5160<=FIN),MAX(calc!$H$1:H5159)+1,0)","v":0}]
[null,null,null,null,null,{"$f":"IF(COUNTIF(BD!$B$2:B5161,BD!B5161)=1,MAX($F$1:F5160)+1,\"\")","v":""},null,{"$f":"IF(AND(BD!B5161=REF,BD!D5161>=DEB,BD!D5161<=FIN),MAX(calc!$H$1:H5160)+1,0)","v":0}]
[null,null,null,null,null,{"$f":"IF(COUNTIF(BD!$B$2:B5162,BD!B5162)=1,MAX($F$1:F5161)+1,\"\")","v":""},null,{"$f":"IF(AND(BD!B5162=REF,BD!D5162>=DEB,BD!D5162<=FIN),MAX(calc!$H$1:H5161)+1,0)","v":0}]
[null,null,null,null,null,{"$f":"IF(COUNTIF(BD!$B$2:B5163,BD!B5163)=1,MAX($F$1:F5162)+1,\"\")","v":""},null,{"$f":"IF(AND(BD!B5163=REF,BD!D5163>=DEB,BD!D5163<=FIN),MAX(calc!$H$1:H5162)+1,0)","v":0}]
[null,null,null,null,null,{"$f":"IF(COUNTIF(BD!$B$2:B5164,BD!B5164)=1,MAX($F$1:F5163)+1,\"\")","v":""},null,{"$f":"IF(AND(BD!B5164=REF,BD!D5164>=DEB,BD!D5164<=FIN),MAX(calc!$H$1:H5163)+1,0)","v":0}]
[null,null,null,null,null,{"$f":"IF(COUNTIF(BD!$B$2:B5165,BD!B5165)=1,MAX($F$1:F5164)+1,\"\")","v":""},null,{"$f":"IF(AND(BD!B5165=REF,BD!D5165>=DEB,BD!D5165<=FIN),MAX(calc!$H$1:H5164)+1,0)","v":0}]
[null,null,null,null,null,{"$f":"IF(COUNTIF(BD!$B$2:B5166,BD!B5166)=1,MAX($F$1:F5165)+1,\"\")","v":""},null,{"$f":"IF(AND(BD!B5166=REF,BD!D5166>=DEB,BD!D5166<=FIN),MAX(calc!$H$1:H5165)+1,0)","v":0}]
[null,null,null,null,null,{"$f":"IF(COUNTIF(BD!$B$2:B5167,BD!B5167)=1,MAX($F$1:F5166)+1,\"\")","v":""},null,{"$f":"IF(AND(BD!B5167=REF,BD!D5167>=DEB,BD!D5167<=FIN),MAX(calc!$H$1:H5166)+1,0)","v":0}]
[null,null,null,null,null,{"$f":"IF(COUNTIF(BD!$B$2:B5168,BD!B5168)=1,MAX($F$1:F5167)+1,\"\")","v":""},null,{"$f":"IF(AND(BD!B5168=REF,BD!D5168>=DEB,BD!D5168<=FIN),MAX(calc!$H$1:H5167)+1,0)","v":0}]
[null,null,null,null,null,{"$f":"IF(COUNTIF(BD!$B$2:B5169,BD!B5169)=1,MAX($F$1:F5168)+1,\"\")","v":""},null,{"$f":"IF(AND(BD!B5169=REF,BD!D5169>=DEB,BD!D5169<=FIN),MAX(calc!$H$1:H5168)+1,0)","v":0}]
[null,null,null,null,null,{"$f":"IF(COUNTIF(BD!$B$2:B5170,BD!B5170)=1,MAX($F$1:F5169)+1,\"\")","v":""},null,{"$f":"IF(AND(BD!B5170=REF,BD!D5170>=DEB,BD!D5170<=FIN),MAX(calc!$H$1:H5169)+1,0)","v":0}]
[null,null,null,null,null,{"$f":"IF(COUNTIF(BD!$B$2:B5171,BD!B5171)=1,MAX($F$1:F5170)+1,\"\")","v":""},null,{"$f":"IF(AND(BD!B5171=REF,BD!D5171>=DEB,BD!D5171<=FIN),MAX(calc!$H$1:H5170)+1,0)","v":0}]
[null,null,null,null,null,{"$f":"IF(COUNTIF(BD!$B$2:B5172,BD!B5172)=1,MAX($F$1:F5171)+1,\"\")","v":""},null,{"$f":"IF(AND(BD!B5172=REF,BD!D5172>=DEB,BD!D5172<=FIN),MAX(calc!$H$1:H5171)+1,0)","v":0}]
[null,null,null,null,null,{"$f":"IF(COUNTIF(BD!$B$2:B5173,BD!B5173)=1,MAX($F$1:F5172)+1,\"\")","v":""},null,{"$f":"IF(AND(BD!B5173=REF,BD!D5173>=DEB,BD!D5173<=FIN),MAX(calc!$H$1:H5172)+1,0)","v":0}]
[null,null,null,null,null,{"$f":"IF(COUNTIF(BD!$B$2:B5174,BD!B5174)=1,MAX($F$1:F5173)+1,\"\")","v":""},null,{"$f":"IF(AND(BD!B5174=REF,BD!D5174>=DEB,BD!D5174<=FIN),MAX(calc!$H$1:H5173)+1,0)","v":0}]
[null,null,null,null,null,{"$f":"IF(COUNTIF(BD!$B$2:B5175,BD!B5175)=1,MAX($F$1:F5174)+1,\"\")","v":""},null,{"$f":"IF(AND(BD!B5175=REF,BD!D5175>=DEB,BD!D5175<=FIN),MAX(calc!$H$1:H5174)+1,0)","v":0}]
[null,null,null,null,null,{"$f":"IF(COUNTIF(BD!$B$2:B5176,BD!B5176)=1,MAX($F$1:F5175)+1,\"\")","v":""},null,{"$f":"IF(AND(BD!B5176=REF,BD!D5176>=DEB,BD!D5176<=FIN),MAX(calc!$H$1:H5175)+1,0)","v":0}]
[null,null,null,null,null,{"$f":"IF(COUNTIF(BD!$B$2:B5177,BD!B5177)=1,MAX($F$1:F5176)+1,\"\")","v":""},null,{"$f":"IF(AND(BD!B5177=REF,BD!D5177>=DEB,BD!D5177<=FIN),MAX(calc!$H$1:H5176)+1,0)","v":0}]
[null,null,null,null,null,{"$f":"IF(COUNTIF(BD!$B$2:B5178,BD!B5178)=1,MAX($F$1:F5177)+1,\"\")","v":""},null,{"$f":"IF(AND(BD!B5178=REF,BD!D5178>=DEB,BD!D5178<=FIN),MAX(calc!$H$1:H5177)+1,0)","v":0}]
[null,null,null,null,null,{"$f":"IF(COUNTIF(BD!$B$2:B5179,BD!B5179)=1,MAX($F$1:F5178)+1,\"\")","v":""},null,{"$f":"IF(AND(BD!B5179=REF,BD!D5179>=DEB,BD!D5179<=FIN),MAX(calc!$H$1:H5178)+1,0)","v":0}]
[null,null,null,null,null,{"$f":"IF(COUNTIF(BD!$B$2:B5180,BD!B5180)=1,MAX($F$1:F5179)+1,\"\")","v":""},null,{"$f":"IF(AND(BD!B5180=REF,BD!D5180>=DEB,BD!D5180<=FIN),MAX(calc!$H$1:H5179)+1,0)","v":0}]
[null,null,null,null,null,{"$f":"IF(COUNTIF(BD!$B$2:B5181,BD!B5181)=1,MAX($F$1:F5180)+1,\"\")","v":""},null,{"$f":"IF(AND(BD!B5181=REF,BD!D5181>=DEB,BD!D5181<=FIN),MAX(calc!$H$1:H5180)+1,0)","v":0}]
[null,null,null,null,null,{"$f":"IF(COUNTIF(BD!$B$2:B5182,BD!B5182)=1,MAX($F$1:F5181)+1,\"\")","v":""},null,{"$f":"IF(AND(BD!B5182=REF,BD!D5182>=DEB,BD!D5182<=FIN),MAX(calc!$H$1:H5181)+1,0)","v":0}]
[null,null,null,null,null,{"$f":"IF(COUNTIF(BD!$B$2:B5183,BD!B5183)=1,MAX($F$1:F5182)+1,\"\")","v":""},null,{"$f":"IF(AND(BD!B5183=REF,BD!D5183>=DEB,BD!D5183<=FIN),MAX(calc!$H$1:H5182)+1,0)","v":0}]
[null,null,null,null,null,{"$f":"IF(COUNTIF(BD!$B$2:B5184,BD!B5184)=1,MAX($F$1:F5183)+1,\"\")","v":""},null,{"$f":"IF(AND(BD!B5184=REF,BD!D5184>=DEB,BD!D5184<=FIN),MAX(calc!$H$1:H5183)+1,0)","v":0}]
[null,null,null,null,null,{"$f":"IF(COUNTIF(BD!$B$2:B5185,BD!B5185)=1,MAX($F$1:F5184)+1,\"\")","v":""},null,{"$f":"IF(AND(BD!B5185=REF,BD!D5185>=DEB,BD!D5185<=FIN),MAX(calc!$H$1:H5184)+1,0)","v":0}]
[null,null,null,null,null,{"$f":"IF(COUNTIF(BD!$B$2:B5186,BD!B5186)=1,MAX($F$1:F5185)+1,\"\")","v":""},null,{"$f":"IF(AND(BD!B5186=REF,BD!D5186>=DEB,BD!D5186<=FIN),MAX(calc!$H$1:H5185)+1,0)","v":0}]
[null,null,null,null,null,{"$f":"IF(COUNTIF(BD!$B$2:B5187,BD!B5187)=1,MAX($F$1:F5186)+1,\"\")","v":""},null,{"$f":"IF(AND(BD!B5187=REF,BD!D5187>=DEB,BD!D5187<=FIN),MAX(calc!$H$1:H5186)+1,0)","v":0}]
[null,null,null,null,null,{"$f":"IF(COUNTIF(BD!$B$2:B5188,BD!B5188)=1,MAX($F$1:F5187)+1,\"\")","v":""},null,{"$f":"IF(AND(BD!B5188=REF,BD!D5188>=DEB,BD!D5188<=FIN),MAX(calc!$H$1:H5187)+1,0)","v":0}]
[null,null,null,null,null,{"$f":"IF(COUNTIF(BD!$B$2:B5189,BD!B5189)=1,MAX($F$1:F5188)+1,\"\")","v":""},null,{"$f":"IF(AND(BD!B5189=REF,BD!D5189>=DEB,BD!D5189<=FIN),MAX(calc!$H$1:H5188)+1,0)","v":0}]
[null,null,null,null,null,{"$f":"IF(COUNTIF(BD!$B$2:B5190,BD!B5190)=1,MAX($F$1:F5189)+1,\"\")","v":""},null,{"$f":"IF(AND(BD!B5190=REF,BD!D5190>=DEB,BD!D5190<=FIN),MAX(calc!$H$1:H5189)+1,0)","v":0}]
[null,null,null,null,null,{"$f":"IF(COUNTIF(BD!$B$2:B5191,BD!B5191)=1,MAX($F$1:F5190)+1,\"\")","v":""},null,{"$f":"IF(AND(BD!B5191=REF,BD!D5191>=DEB,BD!D5191<=FIN),MAX(calc!$H$1:H5190)+1,0)","v":0}]
[null,null,null,null,null,{"$f":"IF(COUNTIF(BD!$B$2:B5192,BD!B5192)=1,MAX($F$1:F5191)+1,\"\")","v":""},null,{"$f":"IF(AND(BD!B5192=REF,BD!D5192>=DEB,BD!D5192<=FIN),MAX(calc!$H$1:H5191)+1,0)","v":0}]
[null,null,null,null,null,{"$f":"IF(COUNTIF(BD!$B$2:B5193,BD!B5193)=1,MAX($F$1:F5192)+1,\"\")","v":""},null,{"$f":"IF(AND(BD!B5193=REF,BD!D5193>=DEB,BD!D5193<=FIN),MAX(calc!$H$1:H5192)+1,0)","v":0}]
[null,null,null,null,null,{"$f":"IF(COUNTIF(BD!$B$2:B5194,BD!B5194)=1,MAX($F$1:F5193)+1,\"\")","v":""},null,{"$f":"IF(AND(BD!B5194=REF,BD!D5194>=DEB,BD!D5194<=FIN),MAX(calc!$H$1:H5193)+1,0)","v":0}]
[null,null,null,null,null,{"$f":"IF(COUNTIF(BD!$B$2:B5195,BD!B5195)=1,MAX($F$1:F5194)+1,\"\")","v":""},null,{"$f":"IF(AND(BD!B5195=REF,BD!D5195>=DEB,BD!D5195<=FIN),MAX(calc!$H$1:H5194)+1,0)","v":0}]
[null,null,null,null,null,{"$f":"IF(COUNTIF(BD!$B$2:B5196,BD!B5196)=1,MAX($F$1:F5195)+1,\"\")","v":""},null,{"$f":"IF(AND(BD!B5196=REF,BD!D5196>=DEB,BD!D5196<=FIN),MAX(calc!$H$1:H5195)+1,0)","v":0}]
[null,null,null,null,null,{"$f":"IF(COUNTIF(BD!$B$2:B5197,BD!B5197)=1,MAX($F$1:F5196)+1,\"\")","v":""},null,{"$f":"IF(AND(BD!B5197=REF,BD!D5197>=DEB,BD!D5197<=FIN),MAX(calc!$H$1:H5196)+1,0)","v":0}]
[null,null,null,null,null,{"$f":"IF(COUNTIF(BD!$B$2:B5198,BD!B5198)=1,MAX($F$1:F5197)+1,\"\")","v":""},null,{"$f":"IF(AND(BD!B5198=REF,BD!D5198>=DEB,BD!D5198<=FIN),MAX(calc!$H$1:H5197)+1,0)","v":0}]
[null,null,null,null,null,{"$f":"IF(COUNTIF(BD!$B$2:B5199,BD!B5199)=1,MAX($F$1:F5198)+1,\"\")","v":""},null,{"$f":"IF(AND(BD!B5199=REF,BD!D5199>=DEB,BD!D5199<=FIN),MAX(calc!$H$1:H5198)+1,0)","v":0}]
[null,null,null,null,null,{"$f":"IF(COUNTIF(BD!$B$2:B5200,BD!B5200)=1,MAX($F$1:F5199)+1,\"\")","v":""},null,{"$f":"IF(AND(BD!B5200=REF,BD!D5200>=DEB,BD!D5200<=FIN),MAX(calc!$H$1:H5199)+1,0)","v":0}]
[null,null,null,null,null,{"$f":"IF(COUNTIF(BD!$B$2:B5201,BD!B5201)=1,MAX($F$1:F5200)+1,\"\")","v":""},null,{"$f":"IF(AND(BD!B5201=REF,BD!D5201>=DEB,BD!D5201<=FIN),MAX(calc!$H$1:H5200)+1,0)","v":0}]
[null,null,null,null,null,{"$f":"IF(COUNTIF(BD!$B$2:B5202,BD!B5202)=1,MAX($F$1:F5201)+1,\"\")","v":""},null,{"$f":"IF(AND(BD!B5202=REF,BD!D5202>=DEB,BD!D5202<=FIN),MAX(calc!$H$1:H5201)+1,0)","v":0}]
[null,null,null,null,null,{"$f":"IF(COUNTIF(BD!$B$2:B5203,BD!B5203)=1,MAX($F$1:F5202)+1,\"\")","v":""},null,{"$f":"IF(AND(BD!B5203=REF,BD!D5203>=DEB,BD!D5203<=FIN),MAX(calc!$H$1:H5202)+1,0)","v":0}]
[null,null,null,null,null,{"$f":"IF(COUNTIF(BD!$B$2:B5204,BD!B5204)=1,MAX($F$1:F5203)+1,\"\")","v":""},null,{"$f":"IF(AND(BD!B5204=REF,BD!D5204>=DEB,BD!D5204<=FIN),MAX(calc!$H$1:H5203)+1,0)","v":0}]
[null,null,null,null,null,{"$f":"IF(COUNTIF(BD!$B$2:B5205,BD!B5205)=1,MAX($F$1:F5204)+1,\"\")","v":""},null,{"$f":"IF(AND(BD!B5205=REF,BD!D5205>=DEB,BD!D5205<=FIN),MAX(calc!$H$1:H5204)+1,0)","v":0}]
[null,null,null,null,null,{"$f":"IF(COUNTIF(BD!$B$2:B5206,BD!B5206)=1,MAX($F$1:F5205)+1,\"\")","v":""},null,{"$f":"IF(AND(BD!B5206=REF,BD!D5206>=DEB,BD!D5206<=FIN),MAX(calc!$H$1:H5205)+1,0)","v":0}]
[null,null,null,null,null,{"$f":"IF(COUNTIF(BD!$B$2:B5207,BD!B5207)=1,MAX($F$1:F5206)+1,\"\")","v":""},null,{"$f":"IF(AND(BD!B5207=REF,BD!D5207>=DEB,BD!D5207<=FIN),MAX(calc!$H$1:H5206)+1,0)","v":0}]
[null,null,null,null,null,{"$f":"IF(COUNTIF(BD!$B$2:B5208,BD!B5208)=1,MAX($F$1:F5207)+1,\"\")","v":""},null,{"$f":"IF(AND(BD!B5208=REF,BD!D5208>=DEB,BD!D5208<=FIN),MAX(calc!$H$1:H5207)+1,0)","v":0}]
[null,null,null,null,null,{"$f":"IF(COUNTIF(BD!$B$2:B5209,BD!B5209)=1,MAX($F$1:F5208)+1,\"\")","v":""},null,{"$f":"IF(AND(BD!B5209=REF,BD!D5209>=DEB,BD!D5209<=FIN),MAX(calc!$H$1:H5208)+1,0)","v":0}]
[null,null,null,null,null,{"$f":"IF(COUNTIF(BD!$B$2:B5210,BD!B5210)=1,MAX($F$1:F5209)+1,\"\")","v":""},null,{"$f":"IF(AND(BD!B5210=REF,BD!D5210>=DEB,BD!D5210<=FIN),MAX(calc!$H$1:H5209)+1,0)","v":0}]
[null,null,null,null,null,{"$f":"IF(COUNTIF(BD!$B$2:B5211,BD!B5211)=1,MAX($F$1:F5210)+1,\"\")","v":""},null,{"$f":"IF(AND(BD!B5211=REF,BD!D5211>=DEB,BD!D5211<=FIN),MAX(calc!$H$1:H5210)+1,0)","v":0}]
[null,null,null,null,null,{"$f":"IF(COUNTIF(BD!$B$2:B5212,BD!B5212)=1,MAX($F$1:F5211)+1,\"\")","v":""},null,{"$f":"IF(AND(BD!B5212=REF,BD!D5212>=DEB,BD!D5212<=FIN),MAX(calc!$H$1:H5211)+1,0)","v":0}]
[null,null,null,null,null,{"$f":"IF(COUNTIF(BD!$B$2:B5213,BD!B5213)=1,MAX($F$1:F5212)+1,\"\")","v":""},null,{"$f":"IF(AND(BD!B5213=REF,BD!D5213>=DEB,BD!D5213<=FIN),MAX(calc!$H$1:H5212)+1,0)","v":0}]
[null,null,null,null,null,{"$f":"IF(COUNTIF(BD!$B$2:B5214,BD!B5214)=1,MAX($F$1:F5213)+1,\"\")","v":""},null,{"$f":"IF(AND(BD!B5214=REF,BD!D5214>=DEB,BD!D5214<=FIN),MAX(calc!$H$1:H5213)+1,0)","v":0}]
[null,null,null,null,null,{"$f":"IF(COUNTIF(BD!$B$2:B5215,BD!B5215)=1,MAX($F$1:F5214)+1,\"\")","v":""},null,{"$f":"IF(AND(BD!B5215=REF,BD!D5215>=DEB,BD!D5215<=FIN),MAX(calc!$H$1:H5214)+1,0)","v":0}]
[null,null,null,null,null,{"$f":"IF(COUNTIF(BD!$B$2:B5216,BD!B5216)=1,MAX($F$1:F5215)+1,\"\")","v":""},null,{"$f":"IF(AND(BD!B5216=REF,BD!D5216>=DEB,BD!D5216<=FIN),MAX(calc!$H$1:H5215)+1,0)","v":0}]
[null,null,null,null,null,{"$f":"IF(COUNTIF(BD!$B$2:B5217,BD!B5217)=1,MAX($F$1:F5216)+1,\"\")","v":""},null,{"$f":"IF(AND(BD!B5217=REF,BD!D5217>=DEB,BD!D5217<=FIN),MAX(calc!$H$1:H5216)+1,0)","v":0}]
[null,null,null,null,null,{"$f":"IF(COUNTIF(BD!$B$2:B5218,BD!B5218)=1,MAX($F$1:F5217)+1,\"\")","v":""},null,{"$f":"IF(AND(BD!B5218=REF,BD!D5218>=DEB,BD!D5218<=FIN),MAX(calc!$H$1:H5217)+1,0)","v":0}]
[null,null,null,null,null,{"$f":"IF(COUNTIF(BD!$B$2:B5219,BD!B5219)=1,MAX($F$1:F5218)+1,\"\")","v":""},null,{"$f":"IF(AND(BD!B5219=REF,BD!D5219>=DEB,BD!D5219<=FIN),MAX(calc!$H$1:H5218)+1,0)","v":0}]
[null,null,null,null,null,{"$f":"IF(COUNTIF(BD!$B$2:B5220,BD!B5220)=1,MAX($F$1:F5219)+1,\"\")","v":""},null,{"$f":"IF(AND(BD!B5220=REF,BD!D5220>=DEB,BD!D5220<=FIN),MAX(calc!$H$1:H5219)+1,0)","v":0}]
[null,null,null,null,null,{"$f":"IF(COUNTIF(BD!$B$2:B5221,BD!B5221)=1,MAX($F$1:F5220)+1,\"\")","v":""},null,{"$f":"IF(AND(BD!B5221=REF,BD!D5221>=DEB,BD!D5221<=FIN),MAX(calc!$H$1:H5220)+1,0)","v":0}]
[null,null,null,null,null,{"$f":"IF(COUNTIF(BD!$B$2:B5222,BD!B5222)=1,MAX($F$1:F5221)+1,\"\")","v":""},null,{"$f":"IF(AND(BD!B5222=REF,BD!D5222>=DEB,BD!D5222<=FIN),MAX(calc!$H$1:H5221)+1,0)","v":0}]
[null,null,null,null,null,{"$f":"IF(COUNTIF(BD!$B$2:B5223,BD!B5223)=1,MAX($F$1:F5222)+1,\"\")","v":""},null,{"$f":"IF(AND(BD!B5223=REF,BD!D5223>=DEB,BD!D5223<=FIN),MAX(calc!$H$1:H5222)+1,0)","v":0}]
[null,null,null,null,null,{"$f":"IF(COUNTIF(BD!$B$2:B5224,BD!B5224)=1,MAX($F$1:F5223)+1,\"\")","v":""},null,{"$f":"IF(AND(BD!B5224=REF,BD!D5224>=DEB,BD!D5224<=FIN),MAX(calc!$H$1:H5223)+1,0)","v":0}]
[null,null,null,null,null,{"$f":"IF(COUNTIF(BD!$B$2:B5225,BD!B5225)=1,MAX($F$1:F5224)+1,\"\")","v":""},null,{"$f":"IF(AND(BD!B5225=REF,BD!D5225>=DEB,BD!D5225<=FIN),MAX(calc!$H$1:H5224)+1,0)","v":0}]
[null,null,null,null,null,{"$f":"IF(COUNTIF(BD!$B$2:B5226,BD!B5226)=1,MAX($F$1:F5225)+1,\"\")","v":""},null,{"$f":"IF(AND(BD!B5226=REF,BD!D5226>=DEB,BD!D5226<=FIN),MAX(calc!$H$1:H5225)+1,0)","v":0}]
[null,null,null,null,null,{"$f":"IF(COUNTIF(BD!$B$2:B5227,BD!B5227)=1,MAX($F$1:F5226)+1,\"\")","v":""},null,{"$f":"IF(AND(BD!B5227=REF,BD!D5227>=DEB,BD!D5227<=FIN),MAX(calc!$H$1:H5226)+1,0)","v":0}]
[null,null,null,null,null,{"$f":"IF(COUNTIF(BD!$B$2:B5228,BD!B5228)=1,MAX($F$1:F5227)+1,\"\")","v":""},null,{"$f":"IF(AND(BD!B5228=REF,BD!D5228>=DEB,BD!D5228<=FIN),MAX(calc!$H$1:H5227)+1,0)","v":0}]
[null,null,null,null,null,{"$f":"IF(COUNTIF(BD!$B$2:B5229,BD!B5229)=1,MAX($F$1:F5228)+1,\"\")","v":""},null,{"$f":"IF(AND(BD!B5229=REF,BD!D5229>=DEB,BD!D5229<=FIN),MAX(calc!$H$1:H5228)+1,0)","v":0}]
[null,null,null,null,null,{"$f":"IF(COUNTIF(BD!$B$2:B5230,BD!B5230)=1,MAX($F$1:F5229)+1,\"\")","v":""},null,{"$f":"IF(AND(BD!B5230=REF,BD!D5230>=DEB,BD!D5230<=FIN),MAX(calc!$H$1:H5229)+1,0)","v":0}]
[null,null,null,null,null,{"$f":"IF(COUNTIF(BD!$B$2:B5231,BD!B5231)=1,MAX($F$1:F5230)+1,\"\")","v":""},null,{"$f":"IF(AND(BD!B5231=REF,BD!D5231>=DEB,BD!D5231<=FIN),MAX(calc!$H$1:H5230)+1,0)","v":0}]
[null,null,null,null,null,{"$f":"IF(COUNTIF(BD!$B$2:B5232,BD!B5232)=1,MAX($F$1:F5231)+1,\"\")","v":""},null,{"$f":"IF(AND(BD!B5232=REF,BD!D5232>=DEB,BD!D5232<=FIN),MAX(calc!$H$1:H5231)+1,0)","v":0}]
[null,null,null,null,null,{"$f":"IF(COUNTIF(BD!$B$2:B5233,BD!B5233)=1,MAX($F$1:F5232)+1,\"\")","v":""},null,{"$f":"IF(AND(BD!B5233=REF,BD!D5233>=DEB,BD!D5233<=FIN),MAX(calc!$H$1:H5232)+1,0)","v":0}]
[null,null,null,null,null,{"$f":"IF(COUNTIF(BD!$B$2:B5234,BD!B5234)=1,MAX($F$1:F5233)+1,\"\")","v":""},null,{"$f":"IF(AND(BD!B5234=REF,BD!D5234>=DEB,BD!D5234<=FIN),MAX(calc!$H$1:H5233)+1,0)","v":0}]
[null,null,null,null,null,{"$f":"IF(COUNTIF(BD!$B$2:B5235,BD!B5235)=1,MAX($F$1:F5234)+1,\"\")","v":""},null,{"$f":"IF(AND(BD!B5235=REF,BD!D5235>=DEB,BD!D5235<=FIN),MAX(calc!$H$1:H5234)+1,0)","v":0}]
[null,null,null,null,null,{"$f":"IF(COUNTIF(BD!$B$2:B5236,BD!B5236)=1,MAX($F$1:F5235)+1,\"\")","v":""},null,{"$f":"IF(AND(BD!B5236=REF,BD!D5236>=DEB,BD!D5236<=FIN),MAX(calc!$H$1:H5235)+1,0)","v":0}]
[null,null,null,null,null,{"$f":"IF(COUNTIF(BD!$B$2:B5237,BD!B5237)=1,MAX($F$1:F5236)+1,\"\")","v":""},null,{"$f":"IF(AND(BD!B5237=REF,BD!D5237>=DEB,BD!D5237<=FIN),MAX(calc!$H$1:H5236)+1,0)","v":0}]
[null,null,null,null,null,{"$f":"IF(COUNTIF(BD!$B$2:B5238,BD!B5238)=1,MAX($F$1:F5237)+1,\"\")","v":""},null,{"$f":"IF(AND(BD!B5238=REF,BD!D5238>=DEB,BD!D5238<=FIN),MAX(calc!$H$1:H5237)+1,0)","v":0}]
[null,null,null,null,null,{"$f":"IF(COUNTIF(BD!$B$2:B5239,BD!B5239)=1,MAX($F$1:F5238)+1,\"\")","v":""},null,{"$f":"IF(AND(BD!B5239=REF,BD!D5239>=DEB,BD!D5239<=FIN),MAX(calc!$H$1:H5238)+1,0)","v":0}]
[null,null,null,null,null,{"$f":"IF(COUNTIF(BD!$B$2:B5240,BD!B5240)=1,MAX($F$1:F5239)+1,\"\")","v":""},null,{"$f":"IF(AND(BD!B5240=REF,BD!D5240>=DEB,BD!D5240<=FIN),MAX(calc!$H$1:H5239)+1,0)","v":0}]
[null,null,null,null,null,{"$f":"IF(COUNTIF(BD!$B$2:B5241,BD!B5241)=1,MAX($F$1:F5240)+1,\"\")","v":""},null,{"$f":"IF(AND(BD!B5241=REF,BD!D5241>=DEB,BD!D5241<=FIN),MAX(calc!$H$1:H5240)+1,0)","v":0}]
[null,null,null,null,null,{"$f":"IF(COUNTIF(BD!$B$2:B5242,BD!B5242)=1,MAX($F$1:F5241)+1,\"\")","v":""},null,{"$f":"IF(AND(BD!B5242=REF,BD!D5242>=DEB,BD!D5242<=FIN),MAX(calc!$H$1:H5241)+1,0)","v":0}]
[null,null,null,null,null,{"$f":"IF(COUNTIF(BD!$B$2:B5243,BD!B5243)=1,MAX($F$1:F5242)+1,\"\")","v":""},null,{"$f":"IF(AND(BD!B5243=REF,BD!D5243>=DEB,BD!D5243<=FIN),MAX(calc!$H$1:H5242)+1,0)","v":0}]
[null,null,null,null,null,{"$f":"IF(COUNTIF(BD!$B$2:B5244,BD!B5244)=1,MAX($F$1:F5243)+1,\"\")","v":""},null,{"$f":"IF(AND(BD!B5244=REF,BD!D5244>=DEB,BD!D5244<=FIN),MAX(calc!$H$1:H5243)+1,0)","v":0}]
[null,null,null,null,null,{"$f":"IF(COUNTIF(BD!$B$2:B5245,BD!B5245)=1,MAX($F$1:F5244)+1,\"\")","v":""},null,{"$f":"IF(AND(BD!B5245=REF,BD!D5245>=DEB,BD!D5245<=FIN),MAX(calc!$H$1:H5244)+1,0)","v":0}]
[null,null,null,null,null,{"$f":"IF(COUNTIF(BD!$B$2:B5246,BD!B5246)=1,MAX($F$1:F5245)+1,\"\")","v":""},null,{"$f":"IF(AND(BD!B5246=REF,BD!D5246>=DEB,BD!D5246<=FIN),MAX(calc!$H$1:H5245)+1,0)","v":0}]
[null,null,null,null,null,{"$f":"IF(COUNTIF(BD!$B$2:B5247,BD!B5247)=1,MAX($F$1:F5246)+1,\"\")","v":""},null,{"$f":"IF(AND(BD!B5247=REF,BD!D5247>=DEB,BD!D5247<=FIN),MAX(calc!$H$1:H5246)+1,0)","v":0}]
[null,null,null,null,null,{"$f":"IF(COUNTIF(BD!$B$2:B5248,BD!B5248)=1,MAX($F$1:F5247)+1,\"\")","v":""},null,{"$f":"IF(AND(BD!B5248=REF,BD!D5248>=DEB,BD!D5248<=FIN),MAX(calc!$H$1:H5247)+1,0)","v":0}]
[null,null,null,null,null,{"$f":"IF(COUNTIF(BD!$B$2:B5249,BD!B5249)=1,MAX($F$1:F5248)+1,\"\")","v":""},null,{"$f":"IF(AND(BD!B5249=REF,BD!D5249>=DEB,BD!D5249<=FIN),MAX(calc!$H$1:H5248)+1,0)","v":0}]
[null,null,null,null,null,{"$f":"IF(COUNTIF(BD!$B$2:B5250,BD!B5250)=1,MAX($F$1:F5249)+1,\"\")","v":""},null,{"$f":"IF(AND(BD!B5250=REF,BD!D5250>=DEB,BD!D5250<=FIN),MAX(calc!$H$1:H5249)+1,0)","v":0}]
[null,null,null,null,null,{"$f":"IF(COUNTIF(BD!$B$2:B5251,BD!B5251)=1,MAX($F$1:F5250)+1,\"\")","v":""},null,{"$f":"IF(AND(BD!B5251=REF,BD!D5251>=DEB,BD!D5251<=FIN),MAX(calc!$H$1:H5250)+1,0)","v":0}]
[null,null,null,null,null,{"$f":"IF(COUNTIF(BD!$B$2:B5252,BD!B5252)=1,MAX($F$1:F5251)+1,\"\")","v":""},null,{"$f":"IF(AND(BD!B5252=REF,BD!D5252>=DEB,BD!D5252<=FIN),MAX(calc!$H$1:H5251)+1,0)","v":0}]
[null,null,null,null,null,{"$f":"IF(COUNTIF(BD!$B$2:B5253,BD!B5253)=1,MAX($F$1:F5252)+1,\"\")","v":""},null,{"$f":"IF(AND(BD!B5253=REF,BD!D5253>=DEB,BD!D5253<=FIN),MAX(calc!$H$1:H5252)+1,0)","v":0}]
[null,null,null,null,null,{"$f":"IF(COUNTIF(BD!$B$2:B5254,BD!B5254)=1,MAX($F$1:F5253)+1,\"\")","v":""},null,{"$f":"IF(AND(BD!B5254=REF,BD!D5254>=DEB,BD!D5254<=FIN),MAX(calc!$H$1:H5253)+1,0)","v":0}]
[null,null,null,null,null,{"$f":"IF(COUNTIF(BD!$B$2:B5255,BD!B5255)=1,MAX($F$1:F5254)+1,\"\")","v":""},null,{"$f":"IF(AND(BD!B5255=REF,BD!D5255>=DEB,BD!D5255<=FIN),MAX(calc!$H$1:H5254)+1,0)","v":0}]
[null,null,null,null,null,{"$f":"IF(COUNTIF(BD!$B$2:B5256,BD!B5256)=1,MAX($F$1:F5255)+1,\"\")","v":""},null,{"$f":"IF(AND(BD!B5256=REF,BD!D5256>=DEB,BD!D5256<=FIN),MAX(calc!$H$1:H5255)+1,0)","v":0}]
[null,null,null,null,null,{"$f":"IF(COUNTIF(BD!$B$2:B5257,BD!B5257)=1,MAX($F$1:F5256)+1,\"\")","v":""},null,{"$f":"IF(AND(BD!B5257=REF,BD!D5257>=DEB,BD!D5257<=FIN),MAX(calc!$H$1:H5256)+1,0)","v":0}]
[null,null,null,null,null,{"$f":"IF(COUNTIF(BD!$B$2:B5258,BD!B5258)=1,MAX($F$1:F5257)+1,\"\")","v":""},null,{"$f":"IF(AND(BD!B5258=REF,BD!D5258>=DEB,BD!D5258<=FIN),MAX(calc!$H$1:H5257)+1,0)","v":0}]
[null,null,null,null,null,{"$f":"IF(COUNTIF(BD!$B$2:B5259,BD!B5259)=1,MAX($F$1:F5258)+1,\"\")","v":""},null,{"$f":"IF(AND(BD!B5259=REF,BD!D5259>=DEB,BD!D5259<=FIN),MAX(calc!$H$1:H5258)+1,0)","v":0}]
[null,null,null,null,null,{"$f":"IF(COUNTIF(BD!$B$2:B5260,BD!B5260)=1,MAX($F$1:F5259)+1,\"\")","v":""},null,{"$f":"IF(AND(BD!B5260=REF,BD!D5260>=DEB,BD!D5260<=FIN),MAX(calc!$H$1:H5259)+1,0)","v":0}]
[null,null,null,null,null,{"$f":"IF(COUNTIF(BD!$B$2:B5261,BD!B5261)=1,MAX($F$1:F5260)+1,\"\")","v":""},null,{"$f":"IF(AND(BD!B5261=REF,BD!D5261>=DEB,BD!D5261<=FIN),MAX(calc!$H$1:H5260)+1,0)","v":0}]
[null,null,null,null,null,{"$f":"IF(COUNTIF(BD!$B$2:B5262,BD!B5262)=1,MAX($F$1:F5261)+1,\"\")","v":""},null,{"$f":"IF(AND(BD!B5262=REF,BD!D5262>=DEB,BD!D5262<=FIN),MAX(calc!$H$1:H5261)+1,0)","v":0}]
[null,null,null,null,null,{"$f":"IF(COUNTIF(BD!$B$2:B5263,BD!B5263)=1,MAX($F$1:F5262)+1,\"\")","v":""},null,{"$f":"IF(AND(BD!B5263=REF,BD!D5263>=DEB,BD!D5263<=FIN),MAX(calc!$H$1:H5262)+1,0)","v":0}]
[null,null,null,null,null,{"$f":"IF(COUNTIF(BD!$B$2:B5264,BD!B5264)=1,MAX($F$1:F5263)+1,\"\")","v":""},null,{"$f":"IF(AND(BD!B5264=REF,BD!D5264>=DEB,BD!D5264<=FIN),MAX(calc!$H$1:H5263)+1,0)","v":0}]
[null,null,null,null,null,{"$f":"IF(COUNTIF(BD!$B$2:B5265,BD!B5265)=1,MAX($F$1:F5264)+1,\"\")","v":""},null,{"$f":"IF(AND(BD!B5265=REF,BD!D5265>=DEB,BD!D5265<=FIN),MAX(calc!$H$1:H5264)+1,0)","v":0}]
[null,null,null,null,null,{"$f":"IF(COUNTIF(BD!$B$2:B5266,BD!B5266)=1,MAX($F$1:F5265)+1,\"\")","v":""},null,{"$f":"IF(AND(BD!B5266=REF,BD!D5266>=DEB,BD!D5266<=FIN),MAX(calc!$H$1:H5265)+1,0)","v":0}]
[null,null,null,null,null,{"$f":"IF(COUNTIF(BD!$B$2:B5267,BD!B5267)=1,MAX($F$1:F5266)+1,\"\")","v":""},null,{"$f":"IF(AND(BD!B5267=REF,BD!D5267>=DEB,BD!D5267<=FIN),MAX(calc!$H$1:H5266)+1,0)","v":0}]
[null,null,null,null,null,{"$f":"IF(COUNTIF(BD!$B$2:B5268,BD!B5268)=1,MAX($F$1:F5267)+1,\"\")","v":""},null,{"$f":"IF(AND(BD!B5268=REF,BD!D5268>=DEB,BD!D5268<=FIN),MAX(calc!$H$1:H5267)+1,0)","v":0}]
[null,null,null,null,null,{"$f":"IF(COUNTIF(BD!$B$2:B5269,BD!B5269)=1,MAX($F$1:F5268)+1,\"\")","v":""},null,{"$f":"IF(AND(BD!B5269=REF,BD!D5269>=DEB,BD!D5269<=FIN),MAX(calc!$H$1:H5268)+1,0)","v":0}]
[null,null,null,null,null,{"$f":"IF(COUNTIF(BD!$B$2:B5270,BD!B5270)=1,MAX($F$1:F5269)+1,\"\")","v":""},null,{"$f":"IF(AND(BD!B5270=REF,BD!D5270>=DEB,BD!D5270<=FIN),MAX(calc!$H$1:H5269)+1,0)","v":0}]
[null,null,null,null,null,{"$f":"IF(COUNTIF(BD!$B$2:B5271,BD!B5271)=1,MAX($F$1:F5270)+1,\"\")","v":""},null,{"$f":"IF(AND(BD!B5271=REF,BD!D5271>=DEB,BD!D5271<=FIN),MAX(calc!$H$1:H5270)+1,0)","v":0}]
[null,null,null,null,null,{"$f":"IF(COUNTIF(BD!$B$2:B5272,BD!B5272)=1,MAX($F$1:F5271)+1,\"\")","v":""},null,{"$f":"IF(AND(BD!B5272=REF,BD!D5272>=DEB,BD!D5272<=FIN),MAX(calc!$H$1:H5271)+1,0)","v":0}]
[null,null,null,null,null,{"$f":"IF(COUNTIF(BD!$B$2:B5273,BD!B5273)=1,MAX($F$1:F5272)+1,\"\")","v":""},null,{"$f":"IF(AND(BD!B5273=REF,BD!D5273>=DEB,BD!D5273<=FIN),MAX(calc!$H$1:H5272)+1,0)","v":0}]
[null,null,null,null,null,{"$f":"IF(COUNTIF(BD!$B$2:B5274,BD!B5274)=1,MAX($F$1:F5273)+1,\"\")","v":""},null,{"$f":"IF(AND(BD!B5274=REF,BD!D5274>=DEB,BD!D5274<=FIN),MAX(calc!$H$1:H5273)+1,0)","v":0}]
[null,null,null,null,null,{"$f":"IF(COUNTIF(BD!$B$2:B5275,BD!B5275)=1,MAX($F$1:F5274)+1,\"\")","v":""},null,{"$f":"IF(AND(BD!B5275=REF,BD!D5275>=DEB,BD!D5275<=FIN),MAX(calc!$H$1:H5274)+1,0)","v":0}]
[null,null,null,null,null,{"$f":"IF(COUNTIF(BD!$B$2:B5276,BD!B5276)=1,MAX($F$1:F5275)+1,\"\")","v":""},null,{"$f":"IF(AND(BD!B5276=REF,BD!D5276>=DEB,BD!D5276<=FIN),MAX(calc!$H$1:H5275)+1,0)","v":0}]
[null,null,null,null,null,{"$f":"IF(COUNTIF(BD!$B$2:B5277,BD!B5277)=1,MAX($F$1:F5276)+1,\"\")","v":""},null,{"$f":"IF(AND(BD!B5277=REF,BD!D5277>=DEB,BD!D5277<=FIN),MAX(calc!$H$1:H5276)+1,0)","v":0}]
[null,null,null,null,null,{"$f":"IF(COUNTIF(BD!$B$2:B5278,BD!B5278)=1,MAX($F$1:F5277)+1,\"\")","v":""},null,{"$f":"IF(AND(BD!B5278=REF,BD!D5278>=DEB,BD!D5278<=FIN),MAX(calc!$H$1:H5277)+1,0)","v":0}]
[null,null,null,null,null,{"$f":"IF(COUNTIF(BD!$B$2:B5279,BD!B5279)=1,MAX($F$1:F5278)+1,\"\")","v":""},null,{"$f":"IF(AND(BD!B5279=REF,BD!D5279>=DEB,BD!D5279<=FIN),MAX(calc!$H$1:H5278)+1,0)","v":0}]
[null,null,null,null,null,{"$f":"IF(COUNTIF(BD!$B$2:B5280,BD!B5280)=1,MAX($F$1:F5279)+1,\"\")","v":""},null,{"$f":"IF(AND(BD!B5280=REF,BD!D5280>=DEB,BD!D5280<=FIN),MAX(calc!$H$1:H5279)+1,0)","v":0}]
[null,null,null,null,null,{"$f":"IF(COUNTIF(BD!$B$2:B5281,BD!B5281)=1,MAX($F$1:F5280)+1,\"\")","v":""},null,{"$f":"IF(AND(BD!B5281=REF,BD!D5281>=DEB,BD!D5281<=FIN),MAX(calc!$H$1:H5280)+1,0)","v":0}]
[null,null,null,null,null,{"$f":"IF(COUNTIF(BD!$B$2:B5282,BD!B5282)=1,MAX($F$1:F5281)+1,\"\")","v":""},null,{"$f":"IF(AND(BD!B5282=REF,BD!D5282>=DEB,BD!D5282<=FIN),MAX(calc!$H$1:H5281)+1,0)","v":0}]
[null,null,null,null,null,{"$f":"IF(COUNTIF(BD!$B$2:B5283,BD!B5283)=1,MAX($F$1:F5282)+1,\"\")","v":""},null,{"$f":"IF(AND(BD!B5283=REF,BD!D5283>=DEB,BD!D5283<=FIN),MAX(calc!$H$1:H5282)+1,0)","v":0}]
[null,null,null,null,null,{"$f":"IF(COUNTIF(BD!$B$2:B5284,BD!B5284)=1,MAX($F$1:F5283)+1,\"\")","v":""},null,{"$f":"IF(AND(BD!B5284=REF,BD!D5284>=DEB,BD!D5284<=FIN),MAX(calc!$H$1:H5283)+1,0)","v":0}]
[null,null,null,null,null,{"$f":"IF(COUNTIF(BD!$B$2:B5285,BD!B5285)=1,MAX($F$1:F5284)+1,\"\")","v":""},null,{"$f":"IF(AND(BD!B5285=REF,BD!D5285>=DEB,BD!D5285<=FIN),MAX(calc!$H$1:H5284)+1,0)","v":0}]
[null,null,null,null,null,{"$f":"IF(COUNTIF(BD!$B$2:B5286,BD!B5286)=1,MAX($F$1:F5285)+1,\"\")","v":""},null,{"$f":"IF(AND(BD!B5286=REF,BD!D5286>=DEB,BD!D5286<=FIN),MAX(calc!$H$1:H5285)+1,0)","v":0}]
[null,null,null,null,null,{"$f":"IF(COUNTIF(BD!$B$2:B5287,BD!B5287)=1,MAX($F$1:F5286)+1,\"\")","v":""},null,{"$f":"IF(AND(BD!B5287=REF,BD!D5287>=DEB,BD!D5287<=FIN),MAX(calc!$H$1:H5286)+1,0)","v":0}]
[null,null,null,null,null,{"$f":"IF(COUNTIF(BD!$B$2:B5288,BD!B5288)=1,MAX($F$1:F5287)+1,\"\")","v":""},null,{"$f":"IF(AND(BD!B5288=REF,BD!D5288>=DEB,BD!D5288<=FIN),MAX(calc!$H$1:H5287)+1,0)","v":0}]
[null,null,null,null,null,{"$f":"IF(COUNTIF(BD!$B$2:B5289,BD!B5289)=1,MAX($F$1:F5288)+1,\"\")","v":""},null,{"$f":"IF(AND(BD!B5289=REF,BD!D5289>=DEB,BD!D5289<=FIN),MAX(calc!$H$1:H5288)+1,0)","v":0}]
[null,null,null,null,null,{"$f":"IF(COUNTIF(BD!$B$2:B5290,BD!B5290)=1,MAX($F$1:F5289)+1,\"\")","v":""},null,{"$f":"IF(AND(BD!B5290=REF,BD!D5290>=DEB,BD!D5290<=FIN),MAX(calc!$H$1:H5289)+1,0)","v":0}]
[null,null,null,null,null,{"$f":"IF(COUNTIF(BD!$B$2:B5291,BD!B5291)=1,MAX($F$1:F5290)+1,\"\")","v":""},null,{"$f":"IF(AND(BD!B5291=REF,BD!D5291>=DEB,BD!D5291<=FIN),MAX(calc!$H$1:H5290)+1,0)","v":0}]
[null,null,null,null,null,{"$f":"IF(COUNTIF(BD!$B$2:B5292,BD!B5292)=1,MAX($F$1:F5291)+1,\"\")","v":""},null,{"$f":"IF(AND(BD!B5292=REF,BD!D5292>=DEB,BD!D5292<=FIN),MAX(calc!$H$1:H5291)+1,0)","v":0}]
[null,null,null,null,null,{"$f":"IF(COUNTIF(BD!$B$2:B5293,BD!B5293)=1,MAX($F$1:F5292)+1,\"\")","v":""},null,{"$f":"IF(AND(BD!B5293=REF,BD!D5293>=DEB,BD!D5293<=FIN),MAX(calc!$H$1:H5292)+1,0)","v":0}]
[null,null,null,null,null,{"$f":"IF(COUNTIF(BD!$B$2:B5294,BD!B5294)=1,MAX($F$1:F5293)+1,\"\")","v":""},null,{"$f":"IF(AND(BD!B5294=REF,BD!D5294>=DEB,BD!D5294<=FIN),MAX(calc!$H$1:H5293)+1,0)","v":0}]
[null,null,null,null,null,{"$f":"IF(COUNTIF(BD!$B$2:B5295,BD!B5295)=1,MAX($F$1:F5294)+1,\"\")","v":""},null,{"$f":"IF(AND(BD!B5295=REF,BD!D5295>=DEB,BD!D5295<=FIN),MAX(calc!$H$1:H5294)+1,0)","v":0}]
[null,null,null,null,null,{"$f":"IF(COUNTIF(BD!$B$2:B5296,BD!B5296)=1,MAX($F$1:F5295)+1,\"\")","v":""},null,{"$f":"IF(AND(BD!B5296=REF,BD!D5296>=DEB,BD!D5296<=FIN),MAX(calc!$H$1:H5295)+1,0)","v":0}]
[null,null,null,null,null,{"$f":"IF(COUNTIF(BD!$B$2:B5297,BD!B5297)=1,MAX($F$1:F5296)+1,\"\")","v":""},null,{"$f":"IF(AND(BD!B5297=REF,BD!D5297>=DEB,BD!D5297<=FIN),MAX(calc!$H$1:H5296)+1,0)","v":0}]
[null,null,null,null,null,{"$f":"IF(COUNTIF(BD!$B$2:B5298,BD!B5298)=1,MAX($F$1:F5297)+1,\"\")","v":""},null,{"$f":"IF(AND(BD!B5298=REF,BD!D5298>=DEB,BD!D5298<=FIN),MAX(calc!$H$1:H5297)+1,0)","v":0}]
[null,null,null,null,null,{"$f":"IF(COUNTIF(BD!$B$2:B5299,BD!B5299)=1,MAX($F$1:F5298)+1,\"\")","v":""},null,{"$f":"IF(AND(BD!B5299=REF,BD!D5299>=DEB,BD!D5299<=FIN),MAX(calc!$H$1:H5298)+1,0)","v":0}]
[null,null,null,null,null,{"$f":"IF(COUNTIF(BD!$B$2:B5300,BD!B5300)=1,MAX($F$1:F5299)+1,\"\")","v":""},null,{"$f":"IF(AND(BD!B5300=REF,BD!D5300>=DEB,BD!D5300<=FIN),MAX(calc!$H$1:H5299)+1,0)","v":0}]
[null,null,null,null,null,{"$f":"IF(COUNTIF(BD!$B$2:B5301,BD!B5301)=1,MAX($F$1:F5300)+1,\"\")","v":""},null,{"$f":"IF(AND(BD!B5301=REF,BD!D5301>=DEB,BD!D5301<=FIN),MAX(calc!$H$1:H5300)+1,0)","v":0}]
[null,null,null,null,null,{"$f":"IF(COUNTIF(BD!$B$2:B5302,BD!B5302)=1,MAX($F$1:F5301)+1,\"\")","v":""},null,{"$f":"IF(AND(BD!B5302=REF,BD!D5302>=DEB,BD!D5302<=FIN),MAX(calc!$H$1:H5301)+1,0)","v":0}]
[null,null,null,null,null,{"$f":"IF(COUNTIF(BD!$B$2:B5303,BD!B5303)=1,MAX($F$1:F5302)+1,\"\")","v":""},null,{"$f":"IF(AND(BD!B5303=REF,BD!D5303>=DEB,BD!D5303<=FIN),MAX(calc!$H$1:H5302)+1,0)","v":0}]
[null,null,null,null,null,{"$f":"IF(COUNTIF(BD!$B$2:B5304,BD!B5304)=1,MAX($F$1:F5303)+1,\"\")","v":""},null,{"$f":"IF(AND(BD!B5304=REF,BD!D5304>=DEB,BD!D5304<=FIN),MAX(calc!$H$1:H5303)+1,0)","v":0}]
[null,null,null,null,null,{"$f":"IF(COUNTIF(BD!$B$2:B5305,BD!B5305)=1,MAX($F$1:F5304)+1,\"\")","v":""},null,{"$f":"IF(AND(BD!B5305=REF,BD!D5305>=DEB,BD!D5305<=FIN),MAX(calc!$H$1:H5304)+1,0)","v":0}]
[null,null,null,null,null,{"$f":"IF(COUNTIF(BD!$B$2:B5306,BD!B5306)=1,MAX($F$1:F5305)+1,\"\")","v":""},null,{"$f":"IF(AND(BD!B5306=REF,BD!D5306>=DEB,BD!D5306<=FIN),MAX(calc!$H$1:H5305)+1,0)","v":0}]
[null,null,null,null,null,{"$f":"IF(COUNTIF(BD!$B$2:B5307,BD!B5307)=1,MAX($F$1:F5306)+1,\"\")","v":""},null,{"$f":"IF(AND(BD!B5307=REF,BD!D5307>=DEB,BD!D5307<=FIN),MAX(calc!$H$1:H5306)+1,0)","v":0}]
[null,null,null,null,null,{"$f":"IF(COUNTIF(BD!$B$2:B5308,BD!B5308)=1,MAX($F$1:F5307)+1,\"\")","v":""},null,{"$f":"IF(AND(BD!B5308=REF,BD!D5308>=DEB,BD!D5308<=FIN),MAX(calc!$H$1:H5307)+1,0)","v":0}]
[null,null,null,null,null,{"$f":"IF(COUNTIF(BD!$B$2:B5309,BD!B5309)=1,MAX($F$1:F5308)+1,\"\")","v":""},null,{"$f":"IF(AND(BD!B5309=REF,BD!D5309>=DEB,BD!D5309<=FIN),MAX(calc!$H$1:H5308)+1,0)","v":0}]
[null,null,null,null,null,{"$f":"IF(COUNTIF(BD!$B$2:B5310,BD!B5310)=1,MAX($F$1:F5309)+1,\"\")","v":""},null,{"$f":"IF(AND(BD!B5310=REF,BD!D5310>=DEB,BD!D5310<=FIN),MAX(calc!$H$1:H5309)+1,0)","v":0}]
[null,null,null,null,null,{"$f":"IF(COUNTIF(BD!$B$2:B5311,BD!B5311)=1,MAX($F$1:F5310)+1,\"\")","v":""},null,{"$f":"IF(AND(BD!B5311=REF,BD!D5311>=DEB,BD!D5311<=FIN),MAX(calc!$H$1:H5310)+1,0)","v":0}]
[null,null,null,null,null,{"$f":"IF(COUNTIF(BD!$B$2:B5312,BD!B5312)=1,MAX($F$1:F5311)+1,\"\")","v":""},null,{"$f":"IF(AND(BD!B5312=REF,BD!D5312>=DEB,BD!D5312<=FIN),MAX(calc!$H$1:H5311)+1,0)","v":0}]
[null,null,null,null,null,{"$f":"IF(COUNTIF(BD!$B$2:B5313,BD!B5313)=1,MAX($F$1:F5312)+1,\"\")","v":""},null,{"$f":"IF(AND(BD!B5313=REF,BD!D5313>=DEB,BD!D5313<=FIN),MAX(calc!$H$1:H5312)+1,0)","v":0}]
[null,null,null,null,null,{"$f":"IF(COUNTIF(BD!$B$2:B5314,BD!B5314)=1,MAX($F$1:F5313)+1,\"\")","v":""},null,{"$f":"IF(AND(BD!B5314=REF,BD!D5314>=DEB,BD!D5314<=FIN),MAX(calc!$H$1:H5313)+1,0)","v":0}]
[null,null,null,null,null,{"$f":"IF(COUNTIF(BD!$B$2:B5315,BD!B5315)=1,MAX($F$1:F5314)+1,\"\")","v":""},null,{"$f":"IF(AND(BD!B5315=REF,BD!D5315>=DEB,BD!D5315<=FIN),MAX(calc!$H$1:H5314)+1,0)","v":0}]
[null,null,null,null,null,{"$f":"IF(COUNTIF(BD!$B$2:B5316,BD!B5316)=1,MAX($F$1:F5315)+1,\"\")","v":""},null,{"$f":"IF(AND(BD!B5316=REF,BD!D5316>=DEB,BD!D5316<=FIN),MAX(calc!$H$1:H5315)+1,0)","v":0}]
[null,null,null,null,null,{"$f":"IF(COUNTIF(BD!$B$2:B5317,BD!B5317)=1,MAX($F$1:F5316)+1,\"\")","v":""},null,{"$f":"IF(AND(BD!B5317=REF,BD!D5317>=DEB,BD!D5317<=FIN),MAX(calc!$H$1:H5316)+1,0)","v":0}]
[null,null,null,null,null,{"$f":"IF(COUNTIF(BD!$B$2:B5318,BD!B5318)=1,MAX($F$1:F5317)+1,\"\")","v":""},null,{"$f":"IF(AND(BD!B5318=REF,BD!D5318>=DEB,BD!D5318<=FIN),MAX(calc!$H$1:H5317)+1,0)","v":0}]
[null,null,null,null,null,{"$f":"IF(COUNTIF(BD!$B$2:B5319,BD!B5319)=1,MAX($F$1:F5318)+1,\"\")","v":""},null,{"$f":"IF(AND(BD!B5319=REF,BD!D5319>=DEB,BD!D5319<=FIN),MAX(calc!$H$1:H5318)+1,0)","v":0}]
[null,null,null,null,null,{"$f":"IF(COUNTIF(BD!$B$2:B5320,BD!B5320)=1,MAX($F$1:F5319)+1,\"\")","v":""},null,{"$f":"IF(AND(BD!B5320=REF,BD!D5320>=DEB,BD!D5320<=FIN),MAX(calc!$H$1:H5319)+1,0)","v":0}]
[null,null,null,null,null,{"$f":"IF(COUNTIF(BD!$B$2:B5321,BD!B5321)=1,MAX($F$1:F5320)+1,\"\")","v":""},null,{"$f":"IF(AND(BD!B5321=REF,BD!D5321>=DEB,BD!D5321<=FIN),MAX(calc!$H$1:H5320)+1,0)","v":0}]
[null,null,null,null,null,{"$f":"IF(COUNTIF(BD!$B$2:B5322,BD!B5322)=1,MAX($F$1:F5321)+1,\"\")","v":""},null,{"$f":"IF(AND(BD!B5322=REF,BD!D5322>=DEB,BD!D5322<=FIN),MAX(calc!$H$1:H5321)+1,0)","v":0}]
[null,null,null,null,null,{"$f":"IF(COUNTIF(BD!$B$2:B5323,BD!B5323)=1,MAX($F$1:F5322)+1,\"\")","v":""},null,{"$f":"IF(AND(BD!B5323=REF,BD!D5323>=DEB,BD!D5323<=FIN),MAX(calc!$H$1:H5322)+1,0)","v":0}]
[null,null,null,null,null,{"$f":"IF(COUNTIF(BD!$B$2:B5324,BD!B5324)=1,MAX($F$1:F5323)+1,\"\")","v":""},null,{"$f":"IF(AND(BD!B5324=REF,BD!D5324>=DEB,BD!D5324<=FIN),MAX(calc!$H$1:H5323)+1,0)","v":0}]
[null,null,null,null,null,{"$f":"IF(COUNTIF(BD!$B$2:B5325,BD!B5325)=1,MAX($F$1:F5324)+1,\"\")","v":""},null,{"$f":"IF(AND(BD!B5325=REF,BD!D5325>=DEB,BD!D5325<=FIN),MAX(calc!$H$1:H5324)+1,0)","v":0}]
[null,null,null,null,null,{"$f":"IF(COUNTIF(BD!$B$2:B5326,BD!B5326)=1,MAX($F$1:F5325)+1,\"\")","v":""},null,{"$f":"IF(AND(BD!B5326=REF,BD!D5326>=DEB,BD!D5326<=FIN),MAX(calc!$H$1:H5325)+1,0)","v":0}]
[null,null,null,null,null,{"$f":"IF(COUNTIF(BD!$B$2:B5327,BD!B5327)=1,MAX($F$1:F5326)+1,\"\")","v":""},null,{"$f":"IF(AND(BD!B5327=REF,BD!D5327>=DEB,BD!D5327<=FIN),MAX(calc!$H$1:H5326)+1,0)","v":0}]
[null,null,null,null,null,{"$f":"IF(COUNTIF(BD!$B$2:B5328,BD!B5328)=1,MAX($F$1:F5327)+1,\"\")","v":""},null,{"$f":"IF(AND(BD!B5328=REF,BD!D5328>=DEB,BD!D5328<=FIN),MAX(calc!$H$1:H5327)+1,0)","v":0}]
[null,null,null,null,null,{"$f":"IF(COUNTIF(BD!$B$2:B5329,BD!B5329)=1,MAX($F$1:F5328)+1,\"\")","v":""},null,{"$f":"IF(AND(BD!B5329=REF,BD!D5329>=DEB,BD!D5329<=FIN),MAX(calc!$H$1:H5328)+1,0)","v":0}]
[null,null,null,null,null,{"$f":"IF(COUNTIF(BD!$B$2:B5330,BD!B5330)=1,MAX($F$1:F5329)+1,\"\")","v":""},null,{"$f":"IF(AND(BD!B5330=REF,BD!D5330>=DEB,BD!D5330<=FIN),MAX(calc!$H$1:H5329)+1,0)","v":0}]
[null,null,null,null,null,{"$f":"IF(COUNTIF(BD!$B$2:B5331,BD!B5331)=1,MAX($F$1:F5330)+1,\"\")","v":""},null,{"$f":"IF(AND(BD!B5331=REF,BD!D5331>=DEB,BD!D5331<=FIN),MAX(calc!$H$1:H5330)+1,0)","v":0}]
[null,null,null,null,null,{"$f":"IF(COUNTIF(BD!$B$2:B5332,BD!B5332)=1,MAX($F$1:F5331)+1,\"\")","v":""},null,{"$f":"IF(AND(BD!B5332=REF,BD!D5332>=DEB,BD!D5332<=FIN),MAX(calc!$H$1:H5331)+1,0)","v":0}]
[null,null,null,null,null,{"$f":"IF(COUNTIF(BD!$B$2:B5333,BD!B5333)=1,MAX($F$1:F5332)+1,\"\")","v":""},null,{"$f":"IF(AND(BD!B5333=REF,BD!D5333>=DEB,BD!D5333<=FIN),MAX(calc!$H$1:H5332)+1,0)","v":0}]
[null,null,null,null,null,{"$f":"IF(COUNTIF(BD!$B$2:B5334,BD!B5334)=1,MAX($F$1:F5333)+1,\"\")","v":""},null,{"$f":"IF(AND(BD!B5334=REF,BD!D5334>=DEB,BD!D5334<=FIN),MAX(calc!$H$1:H5333)+1,0)","v":0}]
[null,null,null,null,null,{"$f":"IF(COUNTIF(BD!$B$2:B5335,BD!B5335)=1,MAX($F$1:F5334)+1,\"\")","v":""},null,{"$f":"IF(AND(BD!B5335=REF,BD!D5335>=DEB,BD!D5335<=FIN),MAX(calc!$H$1:H5334)+1,0)","v":0}]
[null,null,null,null,null,{"$f":"IF(COUNTIF(BD!$B$2:B5336,BD!B5336)=1,MAX($F$1:F5335)+1,\"\")","v":""},null,{"$f":"IF(AND(BD!B5336=REF,BD!D5336>=DEB,BD!D5336<=FIN),MAX(calc!$H$1:H5335)+1,0)","v":0}]
[null,null,null,null,null,{"$f":"IF(COUNTIF(BD!$B$2:B5337,BD!B5337)=1,MAX($F$1:F5336)+1,\"\")","v":""},null,{"$f":"IF(AND(BD!B5337=REF,BD!D5337>=DEB,BD!D5337<=FIN),MAX(calc!$H$1:H5336)+1,0)","v":0}]
[null,null,null,null,null,{"$f":"IF(COUNTIF(BD!$B$2:B5338,BD!B5338)=1,MAX($F$1:F5337)+1,\"\")","v":""},null,{"$f":"IF(AND(BD!B5338=REF,BD!D5338>=DEB,BD!D5338<=FIN),MAX(calc!$H$1:H5337)+1,0)","v":0}]
[null,null,null,null,null,{"$f":"IF(COUNTIF(BD!$B$2:B5339,BD!B5339)=1,MAX($F$1:F5338)+1,\"\")","v":""},null,{"$f":"IF(AND(BD!B5339=REF,BD!D5339>=DEB,BD!D5339<=FIN),MAX(calc!$H$1:H5338)+1,0)","v":0}]
[null,null,null,null,null,{"$f":"IF(COUNTIF(BD!$B$2:B5340,BD!B5340)=1,MAX($F$1:F5339)+1,\"\")","v":""},null,{"$f":"IF(AND(BD!B5340=REF,BD!D5340>=DEB,BD!D5340<=FIN),MAX(calc!$H$1:H5339)+1,0)","v":0}]
[null,null,null,null,null,{"$f":"IF(COUNTIF(BD!$B$2:B5341,BD!B5341)=1,MAX($F$1:F5340)+1,\"\")","v":""},null,{"$f":"IF(AND(BD!B5341=REF,BD!D5341>=DEB,BD!D5341<=FIN),MAX(calc!$H$1:H5340)+1,0)","v":0}]
[null,null,null,null,null,{"$f":"IF(COUNTIF(BD!$B$2:B5342,BD!B5342)=1,MAX($F$1:F5341)+1,\"\")","v":""},null,{"$f":"IF(AND(BD!B5342=REF,BD!D5342>=DEB,BD!D5342<=FIN),MAX(calc!$H$1:H5341)+1,0)","v":0}]
[null,null,null,null,null,{"$f":"IF(COUNTIF(BD!$B$2:B5343,BD!B5343)=1,MAX($F$1:F5342)+1,\"\")","v":""},null,{"$f":"IF(AND(BD!B5343=REF,BD!D5343>=DEB,BD!D5343<=FIN),MAX(calc!$H$1:H5342)+1,0)","v":0}]
[null,null,null,null,null,{"$f":"IF(COUNTIF(BD!$B$2:B5344,BD!B5344)=1,MAX($F$1:F5343)+1,\"\")","v":""},null,{"$f":"IF(AND(BD!B5344=REF,BD!D5344>=DEB,BD!D5344<=FIN),MAX(calc!$H$1:H5343)+1,0)","v":0}]
[null,null,null,null,null,{"$f":"IF(COUNTIF(BD!$B$2:B5345,BD!B5345)=1,MAX($F$1:F5344)+1,\"\")","v":""},null,{"$f":"IF(AND(BD!B5345=REF,BD!D5345>=DEB,BD!D5345<=FIN),MAX(calc!$H$1:H5344)+1,0)","v":0}]
[null,null,null,null,null,{"$f":"IF(COUNTIF(BD!$B$2:B5346,BD!B5346)=1,MAX($F$1:F5345)+1,\"\")","v":""},null,{"$f":"IF(AND(BD!B5346=REF,BD!D5346>=DEB,BD!D5346<=FIN),MAX(calc!$H$1:H5345)+1,0)","v":0}]
[null,null,null,null,null,{"$f":"IF(COUNTIF(BD!$B$2:B5347,BD!B5347)=1,MAX($F$1:F5346)+1,\"\")","v":""},null,{"$f":"IF(AND(BD!B5347=REF,BD!D5347>=DEB,BD!D5347<=FIN),MAX(calc!$H$1:H5346)+1,0)","v":0}]
[null,null,null,null,null,{"$f":"IF(COUNTIF(BD!$B$2:B5348,BD!B5348)=1,MAX($F$1:F5347)+1,\"\")","v":""},null,{"$f":"IF(AND(BD!B5348=REF,BD!D5348>=DEB,BD!D5348<=FIN),MAX(calc!$H$1:H5347)+1,0)","v":0}]
[null,null,null,null,null,{"$f":"IF(COUNTIF(BD!$B$2:B5349,BD!B5349)=1,MAX($F$1:F5348)+1,\"\")","v":""},null,{"$f":"IF(AND(BD!B5349=REF,BD!D5349>=DEB,BD!D5349<=FIN),MAX(calc!$H$1:H5348)+1,0)","v":0}]
[null,null,null,null,null,{"$f":"IF(COUNTIF(BD!$B$2:B5350,BD!B5350)=1,MAX($F$1:F5349)+1,\"\")","v":""},null,{"$f":"IF(AND(BD!B5350=REF,BD!D5350>=DEB,BD!D5350<=FIN),MAX(calc!$H$1:H5349)+1,0)","v":0}]
[null,null,null,null,null,{"$f":"IF(COUNTIF(BD!$B$2:B5351,BD!B5351)=1,MAX($F$1:F5350)+1,\"\")","v":""},null,{"$f":"IF(AND(BD!B5351=REF,BD!D5351>=DEB,BD!D5351<=FIN),MAX(calc!$H$1:H5350)+1,0)","v":0}]
[null,null,null,null,null,{"$f":"IF(COUNTIF(BD!$B$2:B5352,BD!B5352)=1,MAX($F$1:F5351)+1,\"\")","v":""},null,{"$f":"IF(AND(BD!B5352=REF,BD!D5352>=DEB,BD!D5352<=FIN),MAX(calc!$H$1:H5351)+1,0)","v":0}]
[null,null,null,null,null,{"$f":"IF(COUNTIF(BD!$B$2:B5353,BD!B5353)=1,MAX($F$1:F5352)+1,\"\")","v":""},null,{"$f":"IF(AND(BD!B5353=REF,BD!D5353>=DEB,BD!D5353<=FIN),MAX(calc!$H$1:H5352)+1,0)","v":0}]
[null,null,null,null,null,{"$f":"IF(COUNTIF(BD!$B$2:B5354,BD!B5354)=1,MAX($F$1:F5353)+1,\"\")","v":""},null,{"$f":"IF(AND(BD!B5354=REF,BD!D5354>=DEB,BD!D5354<=FIN),MAX(calc!$H$1:H5353)+1,0)","v":0}]
[null,null,null,null,null,{"$f":"IF(COUNTIF(BD!$B$2:B5355,BD!B5355)=1,MAX($F$1:F5354)+1,\"\")","v":""},null,{"$f":"IF(AND(BD!B5355=REF,BD!D5355>=DEB,BD!D5355<=FIN),MAX(calc!$H$1:H5354)+1,0)","v":0}]
[null,null,null,null,null,{"$f":"IF(COUNTIF(BD!$B$2:B5356,BD!B5356)=1,MAX($F$1:F5355)+1,\"\")","v":""},null,{"$f":"IF(AND(BD!B5356=REF,BD!D5356>=DEB,BD!D5356<=FIN),MAX(calc!$H$1:H5355)+1,0)","v":0}]
[null,null,null,null,null,{"$f":"IF(COUNTIF(BD!$B$2:B5357,BD!B5357)=1,MAX($F$1:F5356)+1,\"\")","v":""},null,{"$f":"IF(AND(BD!B5357=REF,BD!D5357>=DEB,BD!D5357<=FIN),MAX(calc!$H$1:H5356)+1,0)","v":0}]
[null,null,null,null,null,{"$f":"IF(COUNTIF(BD!$B$2:B5358,BD!B5358)=1,MAX($F$1:F5357)+1,\"\")","v":""},null,{"$f":"IF(AND(BD!B5358=REF,BD!D5358>=DEB,BD!D5358<=FIN),MAX(calc!$H$1:H5357)+1,0)","v":0}]
[null,null,null,null,null,{"$f":"IF(COUNTIF(BD!$B$2:B5359,BD!B5359)=1,MAX($F$1:F5358)+1,\"\")","v":""},null,{"$f":"IF(AND(BD!B5359=REF,BD!D5359>=DEB,BD!D5359<=FIN),MAX(calc!$H$1:H5358)+1,0)","v":0}]
[null,null,null,null,null,{"$f":"IF(COUNTIF(BD!$B$2:B5360,BD!B5360)=1,MAX($F$1:F5359)+1,\"\")","v":""},null,{"$f":"IF(AND(BD!B5360=REF,BD!D5360>=DEB,BD!D5360<=FIN),MAX(calc!$H$1:H5359)+1,0)","v":0}]
[null,null,null,null,null,{"$f":"IF(COUNTIF(BD!$B$2:B5361,BD!B5361)=1,MAX($F$1:F5360)+1,\"\")","v":""},null,{"$f":"IF(AND(BD!B5361=REF,BD!D5361>=DEB,BD!D5361<=FIN),MAX(calc!$H$1:H5360)+1,0)","v":0}]
[null,null,null,null,null,{"$f":"IF(COUNTIF(BD!$B$2:B5362,BD!B5362)=1,MAX($F$1:F5361)+1,\"\")","v":""},null,{"$f":"IF(AND(BD!B5362=REF,BD!D5362>=DEB,BD!D5362<=FIN),MAX(calc!$H$1:H5361)+1,0)","v":0}]
[null,null,null,null,null,{"$f":"IF(COUNTIF(BD!$B$2:B5363,BD!B5363)=1,MAX($F$1:F5362)+1,\"\")","v":""},null,{"$f":"IF(AND(BD!B5363=REF,BD!D5363>=DEB,BD!D5363<=FIN),MAX(calc!$H$1:H5362)+1,0)","v":0}]
[null,null,null,null,null,{"$f":"IF(COUNTIF(BD!$B$2:B5364,BD!B5364)=1,MAX($F$1:F5363)+1,\"\")","v":""},null,{"$f":"IF(AND(BD!B5364=REF,BD!D5364>=DEB,BD!D5364<=FIN),MAX(calc!$H$1:H5363)+1,0)","v":0}]
[null,null,null,null,null,{"$f":"IF(COUNTIF(BD!$B$2:B5365,BD!B5365)=1,MAX($F$1:F5364)+1,\"\")","v":""},null,{"$f":"IF(AND(BD!B5365=REF,BD!D5365>=DEB,BD!D5365<=FIN),MAX(calc!$H$1:H5364)+1,0)","v":0}]
[null,null,null,null,null,{"$f":"IF(COUNTIF(BD!$B$2:B5366,BD!B5366)=1,MAX($F$1:F5365)+1,\"\")","v":""},null,{"$f":"IF(AND(BD!B5366=REF,BD!D5366>=DEB,BD!D5366<=FIN),MAX(calc!$H$1:H5365)+1,0)","v":0}]
[null,null,null,null,null,{"$f":"IF(COUNTIF(BD!$B$2:B5367,BD!B5367)=1,MAX($F$1:F5366)+1,\"\")","v":""},null,{"$f":"IF(AND(BD!B5367=REF,BD!D5367>=DEB,BD!D5367<=FIN),MAX(calc!$H$1:H5366)+1,0)","v":0}]
[null,null,null,null,null,{"$f":"IF(COUNTIF(BD!$B$2:B5368,BD!B5368)=1,MAX($F$1:F5367)+1,\"\")","v":""},null,{"$f":"IF(AND(BD!B5368=REF,BD!D5368>=DEB,BD!D5368<=FIN),MAX(calc!$H$1:H5367)+1,0)","v":0}]
[null,null,null,null,null,{"$f":"IF(COUNTIF(BD!$B$2:B5369,BD!B5369)=1,MAX($F$1:F5368)+1,\"\")","v":""},null,{"$f":"IF(AND(BD!B5369=REF,BD!D5369>=DEB,BD!D5369<=FIN),MAX(calc!$H$1:H5368)+1,0)","v":0}]
[null,null,null,null,null,{"$f":"IF(COUNTIF(BD!$B$2:B5370,BD!B5370)=1,MAX($F$1:F5369)+1,\"\")","v":""},null,{"$f":"IF(AND(BD!B5370=REF,BD!D5370>=DEB,BD!D5370<=FIN),MAX(calc!$H$1:H5369)+1,0)","v":0}]
[null,null,null,null,null,{"$f":"IF(COUNTIF(BD!$B$2:B5371,BD!B5371)=1,MAX($F$1:F5370)+1,\"\")","v":""},null,{"$f":"IF(AND(BD!B5371=REF,BD!D5371>=DEB,BD!D5371<=FIN),MAX(calc!$H$1:H5370)+1,0)","v":0}]
[null,null,null,null,null,{"$f":"IF(COUNTIF(BD!$B$2:B5372,BD!B5372)=1,MAX($F$1:F5371)+1,\"\")","v":""},null,{"$f":"IF(AND(BD!B5372=REF,BD!D5372>=DEB,BD!D5372<=FIN),MAX(calc!$H$1:H5371)+1,0)","v":0}]
[null,null,null,null,null,{"$f":"IF(COUNTIF(BD!$B$2:B5373,BD!B5373)=1,MAX($F$1:F5372)+1,\"\")","v":""},null,{"$f":"IF(AND(BD!B5373=REF,BD!D5373>=DEB,BD!D5373<=FIN),MAX(calc!$H$1:H5372)+1,0)","v":0}]
[null,null,null,null,null,{"$f":"IF(COUNTIF(BD!$B$2:B5374,BD!B5374)=1,MAX($F$1:F5373)+1,\"\")","v":""},null,{"$f":"IF(AND(BD!B5374=REF,BD!D5374>=DEB,BD!D5374<=FIN),MAX(calc!$H$1:H5373)+1,0)","v":0}]
[null,null,null,null,null,{"$f":"IF(COUNTIF(BD!$B$2:B5375,BD!B5375)=1,MAX($F$1:F5374)+1,\"\")","v":""},null,{"$f":"IF(AND(BD!B5375=REF,BD!D5375>=DEB,BD!D5375<=FIN),MAX(calc!$H$1:H5374)+1,0)","v":0}]
[null,null,null,null,null,{"$f":"IF(COUNTIF(BD!$B$2:B5376,BD!B5376)=1,MAX($F$1:F5375)+1,\"\")","v":""},null,{"$f":"IF(AND(BD!B5376=REF,BD!D5376>=DEB,BD!D5376<=FIN),MAX(calc!$H$1:H5375)+1,0)","v":0}]
[null,null,null,null,null,{"$f":"IF(COUNTIF(BD!$B$2:B5377,BD!B5377)=1,MAX($F$1:F5376)+1,\"\")","v":""},null,{"$f":"IF(AND(BD!B5377=REF,BD!D5377>=DEB,BD!D5377<=FIN),MAX(calc!$H$1:H5376)+1,0)","v":0}]
[null,null,null,null,null,{"$f":"IF(COUNTIF(BD!$B$2:B5378,BD!B5378)=1,MAX($F$1:F5377)+1,\"\")","v":""},null,{"$f":"IF(AND(BD!B5378=REF,BD!D5378>=DEB,BD!D5378<=FIN),MAX(calc!$H$1:H5377)+1,0)","v":0}]
[null,null,null,null,null,{"$f":"IF(COUNTIF(BD!$B$2:B5379,BD!B5379)=1,MAX($F$1:F5378)+1,\"\")","v":""},null,{"$f":"IF(AND(BD!B5379=REF,BD!D5379>=DEB,BD!D5379<=FIN),MAX(calc!$H$1:H5378)+1,0)","v":0}]
[null,null,null,null,null,{"$f":"IF(COUNTIF(BD!$B$2:B5380,BD!B5380)=1,MAX($F$1:F5379)+1,\"\")","v":""},null,{"$f":"IF(AND(BD!B5380=REF,BD!D5380>=DEB,BD!D5380<=FIN),MAX(calc!$H$1:H5379)+1,0)","v":0}]
[null,null,null,null,null,{"$f":"IF(COUNTIF(BD!$B$2:B5381,BD!B5381)=1,MAX($F$1:F5380)+1,\"\")","v":""},null,{"$f":"IF(AND(BD!B5381=REF,BD!D5381>=DEB,BD!D5381<=FIN),MAX(calc!$H$1:H5380)+1,0)","v":0}]
[null,null,null,null,null,{"$f":"IF(COUNTIF(BD!$B$2:B5382,BD!B5382)=1,MAX($F$1:F5381)+1,\"\")","v":""},null,{"$f":"IF(AND(BD!B5382=REF,BD!D5382>=DEB,BD!D5382<=FIN),MAX(calc!$H$1:H5381)+1,0)","v":0}]
[null,null,null,null,null,{"$f":"IF(COUNTIF(BD!$B$2:B5383,BD!B5383)=1,MAX($F$1:F5382)+1,\"\")","v":""},null,{"$f":"IF(AND(BD!B5383=REF,BD!D5383>=DEB,BD!D5383<=FIN),MAX(calc!$H$1:H5382)+1,0)","v":0}]
[null,null,null,null,null,{"$f":"IF(COUNTIF(BD!$B$2:B5384,BD!B5384)=1,MAX($F$1:F5383)+1,\"\")","v":""},null,{"$f":"IF(AND(BD!B5384=REF,BD!D5384>=DEB,BD!D5384<=FIN),MAX(calc!$H$1:H5383)+1,0)","v":0}]
[null,null,null,null,null,{"$f":"IF(COUNTIF(BD!$B$2:B5385,BD!B5385)=1,MAX($F$1:F5384)+1,\"\")","v":""},null,{"$f":"IF(AND(BD!B5385=REF,BD!D5385>=DEB,BD!D5385<=FIN),MAX(calc!$H$1:H5384)+1,0)","v":0}]
[null,null,null,null,null,{"$f":"IF(COUNTIF(BD!$B$2:B5386,BD!B5386)=1,MAX($F$1:F5385)+1,\"\")","v":""},null,{"$f":"IF(AND(BD!B5386=REF,BD!D5386>=DEB,BD!D5386<=FIN),MAX(calc!$H$1:H5385)+1,0)","v":0}]
[null,null,null,null,null,{"$f":"IF(COUNTIF(BD!$B$2:B5387,BD!B5387)=1,MAX($F$1:F5386)+1,\"\")","v":""},null,{"$f":"IF(AND(BD!B5387=REF,BD!D5387>=DEB,BD!D5387<=FIN),MAX(calc!$H$1:H5386)+1,0)","v":0}]
[null,null,null,null,null,{"$f":"IF(COUNTIF(BD!$B$2:B5388,BD!B5388)=1,MAX($F$1:F5387)+1,\"\")","v":""},null,{"$f":"IF(AND(BD!B5388=REF,BD!D5388>=DEB,BD!D5388<=FIN),MAX(calc!$H$1:H5387)+1,0)","v":0}]
[null,null,null,null,null,{"$f":"IF(COUNTIF(BD!$B$2:B5389,BD!B5389)=1,MAX($F$1:F5388)+1,\"\")","v":""},null,{"$f":"IF(AND(BD!B5389=REF,BD!D5389>=DEB,BD!D5389<=FIN),MAX(calc!$H$1:H5388)+1,0)","v":0}]
[null,null,null,null,null,{"$f":"IF(COUNTIF(BD!$B$2:B5390,BD!B5390)=1,MAX($F$1:F5389)+1,\"\")","v":""},null,{"$f":"IF(AND(BD!B5390=REF,BD!D5390>=DEB,BD!D5390<=FIN),MAX(calc!$H$1:H5389)+1,0)","v":0}]
[null,null,null,null,null,{"$f":"IF(COUNTIF(BD!$B$2:B5391,BD!B5391)=1,MAX($F$1:F5390)+1,\"\")","v":""},null,{"$f":"IF(AND(BD!B5391=REF,BD!D5391>=DEB,BD!D5391<=FIN),MAX(calc!$H$1:H5390)+1,0)","v":0}]
[null,null,null,null,null,{"$f":"IF(COUNTIF(BD!$B$2:B5392,BD!B5392)=1,MAX($F$1:F5391)+1,\"\")","v":""},null,{"$f":"IF(AND(BD!B5392=REF,BD!D5392>=DEB,BD!D5392<=FIN),MAX(calc!$H$1:H5391)+1,0)","v":0}]
[null,null,null,null,null,{"$f":"IF(COUNTIF(BD!$B$2:B5393,BD!B5393)=1,MAX($F$1:F5392)+1,\"\")","v":""},null,{"$f":"IF(AND(BD!B5393=REF,BD!D5393>=DEB,BD!D5393<=FIN),MAX(calc!$H$1:H5392)+1,0)","v":0}]
[null,null,null,null,null,{"$f":"IF(COUNTIF(BD!$B$2:B5394,BD!B5394)=1,MAX($F$1:F5393)+1,\"\")","v":""},null,{"$f":"IF(AND(BD!B5394=REF,BD!D5394>=DEB,BD!D5394<=FIN),MAX(calc!$H$1:H5393)+1,0)","v":0}]
[null,null,null,null,null,{"$f":"IF(COUNTIF(BD!$B$2:B5395,BD!B5395)=1,MAX($F$1:F5394)+1,\"\")","v":""},null,{"$f":"IF(AND(BD!B5395=REF,BD!D5395>=DEB,BD!D5395<=FIN),MAX(calc!$H$1:H5394)+1,0)","v":0}]
[null,null,null,null,null,{"$f":"IF(COUNTIF(BD!$B$2:B5396,BD!B5396)=1,MAX($F$1:F5395)+1,\"\")","v":""},null,{"$f":"IF(AND(BD!B5396=REF,BD!D5396>=DEB,BD!D5396<=FIN),MAX(calc!$H$1:H5395)+1,0)","v":0}]
[null,null,null,null,null,{"$f":"IF(COUNTIF(BD!$B$2:B5397,BD!B5397)=1,MAX($F$1:F5396)+1,\"\")","v":""},null,{"$f":"IF(AND(BD!B5397=REF,BD!D5397>=DEB,BD!D5397<=FIN),MAX(calc!$H$1:H5396)+1,0)","v":0}]
[null,null,null,null,null,{"$f":"IF(COUNTIF(BD!$B$2:B5398,BD!B5398)=1,MAX($F$1:F5397)+1,\"\")","v":""},null,{"$f":"IF(AND(BD!B5398=REF,BD!D5398>=DEB,BD!D5398<=FIN),MAX(calc!$H$1:H5397)+1,0)","v":0}]
[null,null,null,null,null,{"$f":"IF(COUNTIF(BD!$B$2:B5399,BD!B5399)=1,MAX($F$1:F5398)+1,\"\")","v":""},null,{"$f":"IF(AND(BD!B5399=REF,BD!D5399>=DEB,BD!D5399<=FIN),MAX(calc!$H$1:H5398)+1,0)","v":0}]
[null,null,null,null,null,{"$f":"IF(COUNTIF(BD!$B$2:B5400,BD!B5400)=1,MAX($F$1:F5399)+1,\"\")","v":""},null,{"$f":"IF(AND(BD!B5400=REF,BD!D5400>=DEB,BD!D5400<=FIN),MAX(calc!$H$1:H5399)+1,0)","v":0}]
[null,null,null,null,null,{"$f":"IF(COUNTIF(BD!$B$2:B5401,BD!B5401)=1,MAX($F$1:F5400)+1,\"\")","v":""},null,{"$f":"IF(AND(BD!B5401=REF,BD!D5401>=DEB,BD!D5401<=FIN),MAX(calc!$H$1:H5400)+1,0)","v":0}]
[null,null,null,null,null,{"$f":"IF(COUNTIF(BD!$B$2:B5402,BD!B5402)=1,MAX($F$1:F5401)+1,\"\")","v":""},null,{"$f":"IF(AND(BD!B5402=REF,BD!D5402>=DEB,BD!D5402<=FIN),MAX(calc!$H$1:H5401)+1,0)","v":0}]
[null,null,null,null,null,{"$f":"IF(COUNTIF(BD!$B$2:B5403,BD!B5403)=1,MAX($F$1:F5402)+1,\"\")","v":""},null,{"$f":"IF(AND(BD!B5403=REF,BD!D5403>=DEB,BD!D5403<=FIN),MAX(calc!$H$1:H5402)+1,0)","v":0}]
[null,null,null,null,null,{"$f":"IF(COUNTIF(BD!$B$2:B5404,BD!B5404)=1,MAX($F$1:F5403)+1,\"\")","v":""},null,{"$f":"IF(AND(BD!B5404=REF,BD!D5404>=DEB,BD!D5404<=FIN),MAX(calc!$H$1:H5403)+1,0)","v":0}]
[null,null,null,null,null,{"$f":"IF(COUNTIF(BD!$B$2:B5405,BD!B5405)=1,MAX($F$1:F5404)+1,\"\")","v":""},null,{"$f":"IF(AND(BD!B5405=REF,BD!D5405>=DEB,BD!D5405<=FIN),MAX(calc!$H$1:H5404)+1,0)","v":0}]
[null,null,null,null,null,{"$f":"IF(COUNTIF(BD!$B$2:B5406,BD!B5406)=1,MAX($F$1:F5405)+1,\"\")","v":""},null,{"$f":"IF(AND(BD!B5406=REF,BD!D5406>=DEB,BD!D5406<=FIN),MAX(calc!$H$1:H5405)+1,0)","v":0}]
[null,null,null,null,null,{"$f":"IF(COUNTIF(BD!$B$2:B5407,BD!B5407)=1,MAX($F$1:F5406)+1,\"\")","v":""},null,{"$f":"IF(AND(BD!B5407=REF,BD!D5407>=DEB,BD!D5407<=FIN),MAX(calc!$H$1:H5406)+1,0)","v":0}]
[null,null,null,null,null,{"$f":"IF(COUNTIF(BD!$B$2:B5408,BD!B5408)=1,MAX($F$1:F5407)+1,\"\")","v":""},null,{"$f":"IF(AND(BD!B5408=REF,BD!D5408>=DEB,BD!D5408<=FIN),MAX(calc!$H$1:H5407)+1,0)","v":0}]
[null,null,null,null,null,{"$f":"IF(COUNTIF(BD!$B$2:B5409,BD!B5409)=1,MAX($F$1:F5408)+1,\"\")","v":""},null,{"$f":"IF(AND(BD!B5409=REF,BD!D5409>=DEB,BD!D5409<=FIN),MAX(calc!$H$1:H5408)+1,0)","v":0}]
[null,null,null,null,null,{"$f":"IF(COUNTIF(BD!$B$2:B5410,BD!B5410)=1,MAX($F$1:F5409)+1,\"\")","v":""},null,{"$f":"IF(AND(BD!B5410=REF,BD!D5410>=DEB,BD!D5410<=FIN),MAX(calc!$H$1:H5409)+1,0)","v":0}]
[null,null,null,null,null,{"$f":"IF(COUNTIF(BD!$B$2:B5411,BD!B5411)=1,MAX($F$1:F5410)+1,\"\")","v":""},null,{"$f":"IF(AND(BD!B5411=REF,BD!D5411>=DEB,BD!D5411<=FIN),MAX(calc!$H$1:H5410)+1,0)","v":0}]
[null,null,null,null,null,{"$f":"IF(COUNTIF(BD!$B$2:B5412,BD!B5412)=1,MAX($F$1:F5411)+1,\"\")","v":""},null,{"$f":"IF(AND(BD!B5412=REF,BD!D5412>=DEB,BD!D5412<=FIN),MAX(calc!$H$1:H5411)+1,0)","v":0}]
[null,null,null,null,null,{"$f":"IF(COUNTIF(BD!$B$2:B5413,BD!B5413)=1,MAX($F$1:F5412)+1,\"\")","v":""},null,{"$f":"IF(AND(BD!B5413=REF,BD!D5413>=DEB,BD!D5413<=FIN),MAX(calc!$H$1:H5412)+1,0)","v":0}]
[null,null,null,null,null,{"$f":"IF(COUNTIF(BD!$B$2:B5414,BD!B5414)=1,MAX($F$1:F5413)+1,\"\")","v":""},null,{"$f":"IF(AND(BD!B5414=REF,BD!D5414>=DEB,BD!D5414<=FIN),MAX(calc!$H$1:H5413)+1,0)","v":0}]
[null,null,null,null,null,{"$f":"IF(COUNTIF(BD!$B$2:B5415,BD!B5415)=1,MAX($F$1:F5414)+1,\"\")","v":""},null,{"$f":"IF(AND(BD!B5415=REF,BD!D5415>=DEB,BD!D5415<=FIN),MAX(calc!$H$1:H5414)+1,0)","v":0}]
[null,null,null,null,null,{"$f":"IF(COUNTIF(BD!$B$2:B5416,BD!B5416)=1,MAX($F$1:F5415)+1,\"\")","v":""},null,{"$f":"IF(AND(BD!B5416=REF,BD!D5416>=DEB,BD!D5416<=FIN),MAX(calc!$H$1:H5415)+1,0)","v":0}]
[null,null,null,null,null,{"$f":"IF(COUNTIF(BD!$B$2:B5417,BD!B5417)=1,MAX($F$1:F5416)+1,\"\")","v":""},null,{"$f":"IF(AND(BD!B5417=REF,BD!D5417>=DEB,BD!D5417<=FIN),MAX(calc!$H$1:H5416)+1,0)","v":0}]
[null,null,null,null,null,{"$f":"IF(COUNTIF(BD!$B$2:B5418,BD!B5418)=1,MAX($F$1:F5417)+1,\"\")","v":""},null,{"$f":"IF(AND(BD!B5418=REF,BD!D5418>=DEB,BD!D5418<=FIN),MAX(calc!$H$1:H5417)+1,0)","v":0}]
[null,null,null,null,null,{"$f":"IF(COUNTIF(BD!$B$2:B5419,BD!B5419)=1,MAX($F$1:F5418)+1,\"\")","v":""},null,{"$f":"IF(AND(BD!B5419=REF,BD!D5419>=DEB,BD!D5419<=FIN),MAX(calc!$H$1:H5418)+1,0)","v":0}]
[null,null,null,null,null,{"$f":"IF(COUNTIF(BD!$B$2:B5420,BD!B5420)=1,MAX($F$1:F5419)+1,\"\")","v":""},null,{"$f":"IF(AND(BD!B5420=REF,BD!D5420>=DEB,BD!D5420<=FIN),MAX(calc!$H$1:H5419)+1,0)","v":0}]
[null,null,null,null,null,{"$f":"IF(COUNTIF(BD!$B$2:B5421,BD!B5421)=1,MAX($F$1:F5420)+1,\"\")","v":""},null,{"$f":"IF(AND(BD!B5421=REF,BD!D5421>=DEB,BD!D5421<=FIN),MAX(calc!$H$1:H5420)+1,0)","v":0}]
[null,null,null,null,null,{"$f":"IF(COUNTIF(BD!$B$2:B5422,BD!B5422)=1,MAX($F$1:F5421)+1,\"\")","v":""},null,{"$f":"IF(AND(BD!B5422=REF,BD!D5422>=DEB,BD!D5422<=FIN),MAX(calc!$H$1:H5421)+1,0)","v":0}]
[null,null,null,null,null,{"$f":"IF(COUNTIF(BD!$B$2:B5423,BD!B5423)=1,MAX($F$1:F5422)+1,\"\")","v":""},null,{"$f":"IF(AND(BD!B5423=REF,BD!D5423>=DEB,BD!D5423<=FIN),MAX(calc!$H$1:H5422)+1,0)","v":0}]
[null,null,null,null,null,{"$f":"IF(COUNTIF(BD!$B$2:B5424,BD!B5424)=1,MAX($F$1:F5423)+1,\"\")","v":""},null,{"$f":"IF(AND(BD!B5424=REF,BD!D5424>=DEB,BD!D5424<=FIN),MAX(calc!$H$1:H5423)+1,0)","v":0}]
[null,null,null,null,null,{"$f":"IF(COUNTIF(BD!$B$2:B5425,BD!B5425)=1,MAX($F$1:F5424)+1,\"\")","v":""},null,{"$f":"IF(AND(BD!B5425=REF,BD!D5425>=DEB,BD!D5425<=FIN),MAX(calc!$H$1:H5424)+1,0)","v":0}]
[null,null,null,null,null,{"$f":"IF(COUNTIF(BD!$B$2:B5426,BD!B5426)=1,MAX($F$1:F5425)+1,\"\")","v":""},null,{"$f":"IF(AND(BD!B5426=REF,BD!D5426>=DEB,BD!D5426<=FIN),MAX(calc!$H$1:H5425)+1,0)","v":0}]
[null,null,null,null,null,{"$f":"IF(COUNTIF(BD!$B$2:B5427,BD!B5427)=1,MAX($F$1:F5426)+1,\"\")","v":""},null,{"$f":"IF(AND(BD!B5427=REF,BD!D5427>=DEB,BD!D5427<=FIN),MAX(calc!$H$1:H5426)+1,0)","v":0}]
[null,null,null,null,null,{"$f":"IF(COUNTIF(BD!$B$2:B5428,BD!B5428)=1,MAX($F$1:F5427)+1,\"\")","v":""},null,{"$f":"IF(AND(BD!B5428=REF,BD!D5428>=DEB,BD!D5428<=FIN),MAX(calc!$H$1:H5427)+1,0)","v":0}]
[null,null,null,null,null,{"$f":"IF(COUNTIF(BD!$B$2:B5429,BD!B5429)=1,MAX($F$1:F5428)+1,\"\")","v":""},null,{"$f":"IF(AND(BD!B5429=REF,BD!D5429>=DEB,BD!D5429<=FIN),MAX(calc!$H$1:H5428)+1,0)","v":0}]
[null,null,null,null,null,{"$f":"IF(COUNTIF(BD!$B$2:B5430,BD!B5430)=1,MAX($F$1:F5429)+1,\"\")","v":""},null,{"$f":"IF(AND(BD!B5430=REF,BD!D5430>=DEB,BD!D5430<=FIN),MAX(calc!$H$1:H5429)+1,0)","v":0}]
[null,null,null,null,null,{"$f":"IF(COUNTIF(BD!$B$2:B5431,BD!B5431)=1,MAX($F$1:F5430)+1,\"\")","v":""},null,{"$f":"IF(AND(BD!B5431=REF,BD!D5431>=DEB,BD!D5431<=FIN),MAX(calc!$H$1:H5430)+1,0)","v":0}]
[null,null,null,null,null,{"$f":"IF(COUNTIF(BD!$B$2:B5432,BD!B5432)=1,MAX($F$1:F5431)+1,\"\")","v":""},null,{"$f":"IF(AND(BD!B5432=REF,BD!D5432>=DEB,BD!D5432<=FIN),MAX(calc!$H$1:H5431)+1,0)","v":0}]
[null,null,null,null,null,{"$f":"IF(COUNTIF(BD!$B$2:B5433,BD!B5433)=1,MAX($F$1:F5432)+1,\"\")","v":""},null,{"$f":"IF(AND(BD!B5433=REF,BD!D5433>=DEB,BD!D5433<=FIN),MAX(calc!$H$1:H5432)+1,0)","v":0}]
[null,null,null,null,null,{"$f":"IF(COUNTIF(BD!$B$2:B5434,BD!B5434)=1,MAX($F$1:F5433)+1,\"\")","v":""},null,{"$f":"IF(AND(BD!B5434=REF,BD!D5434>=DEB,BD!D5434<=FIN),MAX(calc!$H$1:H5433)+1,0)","v":0}]
[null,null,null,null,null,{"$f":"IF(COUNTIF(BD!$B$2:B5435,BD!B5435)=1,MAX($F$1:F5434)+1,\"\")","v":""},null,{"$f":"IF(AND(BD!B5435=REF,BD!D5435>=DEB,BD!D5435<=FIN),MAX(calc!$H$1:H5434)+1,0)","v":0}]
[null,null,null,null,null,{"$f":"IF(COUNTIF(BD!$B$2:B5436,BD!B5436)=1,MAX($F$1:F5435)+1,\"\")","v":""},null,{"$f":"IF(AND(BD!B5436=REF,BD!D5436>=DEB,BD!D5436<=FIN),MAX(calc!$H$1:H5435)+1,0)","v":0}]
[null,null,null,null,null,{"$f":"IF(COUNTIF(BD!$B$2:B5437,BD!B5437)=1,MAX($F$1:F5436)+1,\"\")","v":""},null,{"$f":"IF(AND(BD!B5437=REF,BD!D5437>=DEB,BD!D5437<=FIN),MAX(calc!$H$1:H5436)+1,0)","v":0}]
[null,null,null,null,null,{"$f":"IF(COUNTIF(BD!$B$2:B5438,BD!B5438)=1,MAX($F$1:F5437)+1,\"\")","v":""},null,{"$f":"IF(AND(BD!B5438=REF,BD!D5438>=DEB,BD!D5438<=FIN),MAX(calc!$H$1:H5437)+1,0)","v":0}]
[null,null,null,null,null,{"$f":"IF(COUNTIF(BD!$B$2:B5439,BD!B5439)=1,MAX($F$1:F5438)+1,\"\")","v":""},null,{"$f":"IF(AND(BD!B5439=REF,BD!D5439>=DEB,BD!D5439<=FIN),MAX(calc!$H$1:H5438)+1,0)","v":0}]
[null,null,null,null,null,{"$f":"IF(COUNTIF(BD!$B$2:B5440,BD!B5440)=1,MAX($F$1:F5439)+1,\"\")","v":""},null,{"$f":"IF(AND(BD!B5440=REF,BD!D5440>=DEB,BD!D5440<=FIN),MAX(calc!$H$1:H5439)+1,0)","v":0}]
[null,null,null,null,null,{"$f":"IF(COUNTIF(BD!$B$2:B5441,BD!B5441)=1,MAX($F$1:F5440)+1,\"\")","v":""},null,{"$f":"IF(AND(BD!B5441=REF,BD!D5441>=DEB,BD!D5441<=FIN),MAX(calc!$H$1:H5440)+1,0)","v":0}]
[null,null,null,null,null,{"$f":"IF(COUNTIF(BD!$B$2:B5442,BD!B5442)=1,MAX($F$1:F5441)+1,\"\")","v":""},null,{"$f":"IF(AND(BD!B5442=REF,BD!D5442>=DEB,BD!D5442<=FIN),MAX(calc!$H$1:H5441)+1,0)","v":0}]
[null,null,null,null,null,{"$f":"IF(COUNTIF(BD!$B$2:B5443,BD!B5443)=1,MAX($F$1:F5442)+1,\"\")","v":""},null,{"$f":"IF(AND(BD!B5443=REF,BD!D5443>=DEB,BD!D5443<=FIN),MAX(calc!$H$1:H5442)+1,0)","v":0}]
[null,null,null,null,null,{"$f":"IF(COUNTIF(BD!$B$2:B5444,BD!B5444)=1,MAX($F$1:F5443)+1,\"\")","v":""},null,{"$f":"IF(AND(BD!B5444=REF,BD!D5444>=DEB,BD!D5444<=FIN),MAX(calc!$H$1:H5443)+1,0)","v":0}]
[null,null,null,null,null,{"$f":"IF(COUNTIF(BD!$B$2:B5445,BD!B5445)=1,MAX($F$1:F5444)+1,\"\")","v":""},null,{"$f":"IF(AND(BD!B5445=REF,BD!D5445>=DEB,BD!D5445<=FIN),MAX(calc!$H$1:H5444)+1,0)","v":0}]
[null,null,null,null,null,{"$f":"IF(COUNTIF(BD!$B$2:B5446,BD!B5446)=1,MAX($F$1:F5445)+1,\"\")","v":""},null,{"$f":"IF(AND(BD!B5446=REF,BD!D5446>=DEB,BD!D5446<=FIN),MAX(calc!$H$1:H5445)+1,0)","v":0}]
[null,null,null,null,null,{"$f":"IF(COUNTIF(BD!$B$2:B5447,BD!B5447)=1,MAX($F$1:F5446)+1,\"\")","v":""},null,{"$f":"IF(AND(BD!B5447=REF,BD!D5447>=DEB,BD!D5447<=FIN),MAX(calc!$H$1:H5446)+1,0)","v":0}]
[null,null,null,null,null,{"$f":"IF(COUNTIF(BD!$B$2:B5448,BD!B5448)=1,MAX($F$1:F5447)+1,\"\")","v":""},null,{"$f":"IF(AND(BD!B5448=REF,BD!D5448>=DEB,BD!D5448<=FIN),MAX(calc!$H$1:H5447)+1,0)","v":0}]
[null,null,null,null,null,{"$f":"IF(COUNTIF(BD!$B$2:B5449,BD!B5449)=1,MAX($F$1:F5448)+1,\"\")","v":""},null,{"$f":"IF(AND(BD!B5449=REF,BD!D5449>=DEB,BD!D5449<=FIN),MAX(calc!$H$1:H5448)+1,0)","v":0}]
[null,null,null,null,null,{"$f":"IF(COUNTIF(BD!$B$2:B5450,BD!B5450)=1,MAX($F$1:F5449)+1,\"\")","v":""},null,{"$f":"IF(AND(BD!B5450=REF,BD!D5450>=DEB,BD!D5450<=FIN),MAX(calc!$H$1:H5449)+1,0)","v":0}]
[null,null,null,null,null,{"$f":"IF(COUNTIF(BD!$B$2:B5451,BD!B5451)=1,MAX($F$1:F5450)+1,\"\")","v":""},null,{"$f":"IF(AND(BD!B5451=REF,BD!D5451>=DEB,BD!D5451<=FIN),MAX(calc!$H$1:H5450)+1,0)","v":0}]
[null,null,null,null,null,{"$f":"IF(COUNTIF(BD!$B$2:B5452,BD!B5452)=1,MAX($F$1:F5451)+1,\"\")","v":""},null,{"$f":"IF(AND(BD!B5452=REF,BD!D5452>=DEB,BD!D5452<=FIN),MAX(calc!$H$1:H5451)+1,0)","v":0}]
[null,null,null,null,null,{"$f":"IF(COUNTIF(BD!$B$2:B5453,BD!B5453)=1,MAX($F$1:F5452)+1,\"\")","v":""},null,{"$f":"IF(AND(BD!B5453=REF,BD!D5453>=DEB,BD!D5453<=FIN),MAX(calc!$H$1:H5452)+1,0)","v":0}]
[null,null,null,null,null,{"$f":"IF(COUNTIF(BD!$B$2:B5454,BD!B5454)=1,MAX($F$1:F5453)+1,\"\")","v":""},null,{"$f":"IF(AND(BD!B5454=REF,BD!D5454>=DEB,BD!D5454<=FIN),MAX(calc!$H$1:H5453)+1,0)","v":0}]
[null,null,null,null,null,{"$f":"IF(COUNTIF(BD!$B$2:B5455,BD!B5455)=1,MAX($F$1:F5454)+1,\"\")","v":""},null,{"$f":"IF(AND(BD!B5455=REF,BD!D5455>=DEB,BD!D5455<=FIN),MAX(calc!$H$1:H5454)+1,0)","v":0}]
[null,null,null,null,null,{"$f":"IF(COUNTIF(BD!$B$2:B5456,BD!B5456)=1,MAX($F$1:F5455)+1,\"\")","v":""},null,{"$f":"IF(AND(BD!B5456=REF,BD!D5456>=DEB,BD!D5456<=FIN),MAX(calc!$H$1:H5455)+1,0)","v":0}]
[null,null,null,null,null,{"$f":"IF(COUNTIF(BD!$B$2:B5457,BD!B5457)=1,MAX($F$1:F5456)+1,\"\")","v":""},null,{"$f":"IF(AND(BD!B5457=REF,BD!D5457>=DEB,BD!D5457<=FIN),MAX(calc!$H$1:H5456)+1,0)","v":0}]
[null,null,null,null,null,{"$f":"IF(COUNTIF(BD!$B$2:B5458,BD!B5458)=1,MAX($F$1:F5457)+1,\"\")","v":""},null,{"$f":"IF(AND(BD!B5458=REF,BD!D5458>=DEB,BD!D5458<=FIN),MAX(calc!$H$1:H5457)+1,0)","v":0}]
[null,null,null,null,null,{"$f":"IF(COUNTIF(BD!$B$2:B5459,BD!B5459)=1,MAX($F$1:F5458)+1,\"\")","v":""},null,{"$f":"IF(AND(BD!B5459=REF,BD!D5459>=DEB,BD!D5459<=FIN),MAX(calc!$H$1:H5458)+1,0)","v":0}]
[null,null,null,null,null,{"$f":"IF(COUNTIF(BD!$B$2:B5460,BD!B5460)=1,MAX($F$1:F5459)+1,\"\")","v":""},null,{"$f":"IF(AND(BD!B5460=REF,BD!D5460>=DEB,BD!D5460<=FIN),MAX(calc!$H$1:H5459)+1,0)","v":0}]
[null,null,null,null,null,{"$f":"IF(COUNTIF(BD!$B$2:B5461,BD!B5461)=1,MAX($F$1:F5460)+1,\"\")","v":""},null,{"$f":"IF(AND(BD!B5461=REF,BD!D5461>=DEB,BD!D5461<=FIN),MAX(calc!$H$1:H5460)+1,0)","v":0}]
[null,null,null,null,null,{"$f":"IF(COUNTIF(BD!$B$2:B5462,BD!B5462)=1,MAX($F$1:F5461)+1,\"\")","v":""},null,{"$f":"IF(AND(BD!B5462=REF,BD!D5462>=DEB,BD!D5462<=FIN),MAX(calc!$H$1:H5461)+1,0)","v":0}]
[null,null,null,null,null,{"$f":"IF(COUNTIF(BD!$B$2:B5463,BD!B5463)=1,MAX($F$1:F5462)+1,\"\")","v":""},null,{"$f":"IF(AND(BD!B5463=REF,BD!D5463>=DEB,BD!D5463<=FIN),MAX(calc!$H$1:H5462)+1,0)","v":0}]
[null,null,null,null,null,{"$f":"IF(COUNTIF(BD!$B$2:B5464,BD!B5464)=1,MAX($F$1:F5463)+1,\"\")","v":""},null,{"$f":"IF(AND(BD!B5464=REF,BD!D5464>=DEB,BD!D5464<=FIN),MAX(calc!$H$1:H5463)+1,0)","v":0}]
[null,null,null,null,null,{"$f":"IF(COUNTIF(BD!$B$2:B5465,BD!B5465)=1,MAX($F$1:F5464)+1,\"\")","v":""},null,{"$f":"IF(AND(BD!B5465=REF,BD!D5465>=DEB,BD!D5465<=FIN),MAX(calc!$H$1:H5464)+1,0)","v":0}]
[null,null,null,null,null,{"$f":"IF(COUNTIF(BD!$B$2:B5466,BD!B5466)=1,MAX($F$1:F5465)+1,\"\")","v":""},null,{"$f":"IF(AND(BD!B5466=REF,BD!D5466>=DEB,BD!D5466<=FIN),MAX(calc!$H$1:H5465)+1,0)","v":0}]
[null,null,null,null,null,{"$f":"IF(COUNTIF(BD!$B$2:B5467,BD!B5467)=1,MAX($F$1:F5466)+1,\"\")","v":""},null,{"$f":"IF(AND(BD!B5467=REF,BD!D5467>=DEB,BD!D5467<=FIN),MAX(calc!$H$1:H5466)+1,0)","v":0}]
[null,null,null,null,null,{"$f":"IF(COUNTIF(BD!$B$2:B5468,BD!B5468)=1,MAX($F$1:F5467)+1,\"\")","v":""},null,{"$f":"IF(AND(BD!B5468=REF,BD!D5468>=DEB,BD!D5468<=FIN),MAX(calc!$H$1:H5467)+1,0)","v":0}]
[null,null,null,null,null,{"$f":"IF(COUNTIF(BD!$B$2:B5469,BD!B5469)=1,MAX($F$1:F5468)+1,\"\")","v":""},null,{"$f":"IF(AND(BD!B5469=REF,BD!D5469>=DEB,BD!D5469<=FIN),MAX(calc!$H$1:H5468)+1,0)","v":0}]
[null,null,null,null,null,{"$f":"IF(COUNTIF(BD!$B$2:B5470,BD!B5470)=1,MAX($F$1:F5469)+1,\"\")","v":""},null,{"$f":"IF(AND(BD!B5470=REF,BD!D5470>=DEB,BD!D5470<=FIN),MAX(calc!$H$1:H5469)+1,0)","v":0}]
[null,null,null,null,null,{"$f":"IF(COUNTIF(BD!$B$2:B5471,BD!B5471)=1,MAX($F$1:F5470)+1,\"\")","v":""},null,{"$f":"IF(AND(BD!B5471=REF,BD!D5471>=DEB,BD!D5471<=FIN),MAX(calc!$H$1:H5470)+1,0)","v":0}]
[null,null,null,null,null,{"$f":"IF(COUNTIF(BD!$B$2:B5472,BD!B5472)=1,MAX($F$1:F5471)+1,\"\")","v":""},null,{"$f":"IF(AND(BD!B5472=REF,BD!D5472>=DEB,BD!D5472<=FIN),MAX(calc!$H$1:H5471)+1,0)","v":0}]
[null,null,null,null,null,{"$f":"IF(COUNTIF(BD!$B$2:B5473,BD!B5473)=1,MAX($F$1:F5472)+1,\"\")","v":""},null,{"$f":"IF(AND(BD!B5473=REF,BD!D5473>=DEB,BD!D5473<=FIN),MAX(calc!$H$1:H5472)+1,0)","v":0}]
[null,null,null,null,null,{"$f":"IF(COUNTIF(BD!$B$2:B5474,BD!B5474)=1,MAX($F$1:F5473)+1,\"\")","v":""},null,{"$f":"IF(AND(BD!B5474=REF,BD!D5474>=DEB,BD!D5474<=FIN),MAX(calc!$H$1:H5473)+1,0)","v":0}]
[null,null,null,null,null,{"$f":"IF(COUNTIF(BD!$B$2:B5475,BD!B5475)=1,MAX($F$1:F5474)+1,\"\")","v":""},null,{"$f":"IF(AND(BD!B5475=REF,BD!D5475>=DEB,BD!D5475<=FIN),MAX(calc!$H$1:H5474)+1,0)","v":0}]
[null,null,null,null,null,{"$f":"IF(COUNTIF(BD!$B$2:B5476,BD!B5476)=1,MAX($F$1:F5475)+1,\"\")","v":""},null,{"$f":"IF(AND(BD!B5476=REF,BD!D5476>=DEB,BD!D5476<=FIN),MAX(calc!$H$1:H5475)+1,0)","v":0}]
[null,null,null,null,null,{"$f":"IF(COUNTIF(BD!$B$2:B5477,BD!B5477)=1,MAX($F$1:F5476)+1,\"\")","v":""},null,{"$f":"IF(AND(BD!B5477=REF,BD!D5477>=DEB,BD!D5477<=FIN),MAX(calc!$H$1:H5476)+1,0)","v":0}]
[null,null,null,null,null,{"$f":"IF(COUNTIF(BD!$B$2:B5478,BD!B5478)=1,MAX($F$1:F5477)+1,\"\")","v":""},null,{"$f":"IF(AND(BD!B5478=REF,BD!D5478>=DEB,BD!D5478<=FIN),MAX(calc!$H$1:H5477)+1,0)","v":0}]
[null,null,null,null,null,{"$f":"IF(COUNTIF(BD!$B$2:B5479,BD!B5479)=1,MAX($F$1:F5478)+1,\"\")","v":""},null,{"$f":"IF(AND(BD!B5479=REF,BD!D5479>=DEB,BD!D5479<=FIN),MAX(calc!$H$1:H5478)+1,0)","v":0}]
[null,null,null,null,null,{"$f":"IF(COUNTIF(BD!$B$2:B5480,BD!B5480)=1,MAX($F$1:F5479)+1,\"\")","v":""},null,{"$f":"IF(AND(BD!B5480=REF,BD!D5480>=DEB,BD!D5480<=FIN),MAX(calc!$H$1:H5479)+1,0)","v":0}]
[null,null,null,null,null,{"$f":"IF(COUNTIF(BD!$B$2:B5481,BD!B5481)=1,MAX($F$1:F5480)+1,\"\")","v":""},null,{"$f":"IF(AND(BD!B5481=REF,BD!D5481>=DEB,BD!D5481<=FIN),MAX(calc!$H$1:H5480)+1,0)","v":0}]
[null,null,null,null,null,{"$f":"IF(COUNTIF(BD!$B$2:B5482,BD!B5482)=1,MAX($F$1:F5481)+1,\"\")","v":""},null,{"$f":"IF(AND(BD!B5482=REF,BD!D5482>=DEB,BD!D5482<=FIN),MAX(calc!$H$1:H5481)+1,0)","v":0}]
[null,null,null,null,null,{"$f":"IF(COUNTIF(BD!$B$2:B5483,BD!B5483)=1,MAX($F$1:F5482)+1,\"\")","v":""},null,{"$f":"IF(AND(BD!B5483=REF,BD!D5483>=DEB,BD!D5483<=FIN),MAX(calc!$H$1:H5482)+1,0)","v":0}]
[null,null,null,null,null,{"$f":"IF(COUNTIF(BD!$B$2:B5484,BD!B5484)=1,MAX($F$1:F5483)+1,\"\")","v":""},null,{"$f":"IF(AND(BD!B5484=REF,BD!D5484>=DEB,BD!D5484<=FIN),MAX(calc!$H$1:H5483)+1,0)","v":0}]
[null,null,null,null,null,{"$f":"IF(COUNTIF(BD!$B$2:B5485,BD!B5485)=1,MAX($F$1:F5484)+1,\"\")","v":""},null,{"$f":"IF(AND(BD!B5485=REF,BD!D5485>=DEB,BD!D5485<=FIN),MAX(calc!$H$1:H5484)+1,0)","v":0}]
[null,null,null,null,null,{"$f":"IF(COUNTIF(BD!$B$2:B5486,BD!B5486)=1,MAX($F$1:F5485)+1,\"\")","v":""},null,{"$f":"IF(AND(BD!B5486=REF,BD!D5486>=DEB,BD!D5486<=FIN),MAX(calc!$H$1:H5485)+1,0)","v":0}]
[null,null,null,null,null,{"$f":"IF(COUNTIF(BD!$B$2:B5487,BD!B5487)=1,MAX($F$1:F5486)+1,\"\")","v":""},null,{"$f":"IF(AND(BD!B5487=REF,BD!D5487>=DEB,BD!D5487<=FIN),MAX(calc!$H$1:H5486)+1,0)","v":0}]
[null,null,null,null,null,{"$f":"IF(COUNTIF(BD!$B$2:B5488,BD!B5488)=1,MAX($F$1:F5487)+1,\"\")","v":""},null,{"$f":"IF(AND(BD!B5488=REF,BD!D5488>=DEB,BD!D5488<=FIN),MAX(calc!$H$1:H5487)+1,0)","v":0}]
[null,null,null,null,null,{"$f":"IF(COUNTIF(BD!$B$2:B5489,BD!B5489)=1,MAX($F$1:F5488)+1,\"\")","v":""},null,{"$f":"IF(AND(BD!B5489=REF,BD!D5489>=DEB,BD!D5489<=FIN),MAX(calc!$H$1:H5488)+1,0)","v":0}]
[null,null,null,null,null,{"$f":"IF(COUNTIF(BD!$B$2:B5490,BD!B5490)=1,MAX($F$1:F5489)+1,\"\")","v":""},null,{"$f":"IF(AND(BD!B5490=REF,BD!D5490>=DEB,BD!D5490<=FIN),MAX(calc!$H$1:H5489)+1,0)","v":0}]
[null,null,null,null,null,{"$f":"IF(COUNTIF(BD!$B$2:B5491,BD!B5491)=1,MAX($F$1:F5490)+1,\"\")","v":""},null,{"$f":"IF(AND(BD!B5491=REF,BD!D5491>=DEB,BD!D5491<=FIN),MAX(calc!$H$1:H5490)+1,0)","v":0}]
[null,null,null,null,null,{"$f":"IF(COUNTIF(BD!$B$2:B5492,BD!B5492)=1,MAX($F$1:F5491)+1,\"\")","v":""},null,{"$f":"IF(AND(BD!B5492=REF,BD!D5492>=DEB,BD!D5492<=FIN),MAX(calc!$H$1:H5491)+1,0)","v":0}]
[null,null,null,null,null,{"$f":"IF(COUNTIF(BD!$B$2:B5493,BD!B5493)=1,MAX($F$1:F5492)+1,\"\")","v":""},null,{"$f":"IF(AND(BD!B5493=REF,BD!D5493>=DEB,BD!D5493<=FIN),MAX(calc!$H$1:H5492)+1,0)","v":0}]
[null,null,null,null,null,{"$f":"IF(COUNTIF(BD!$B$2:B5494,BD!B5494)=1,MAX($F$1:F5493)+1,\"\")","v":""},null,{"$f":"IF(AND(BD!B5494=REF,BD!D5494>=DEB,BD!D5494<=FIN),MAX(calc!$H$1:H5493)+1,0)","v":0}]
[null,null,null,null,null,{"$f":"IF(COUNTIF(BD!$B$2:B5495,BD!B5495)=1,MAX($F$1:F5494)+1,\"\")","v":""},null,{"$f":"IF(AND(BD!B5495=REF,BD!D5495>=DEB,BD!D5495<=FIN),MAX(calc!$H$1:H5494)+1,0)","v":0}]
[null,null,null,null,null,{"$f":"IF(COUNTIF(BD!$B$2:B5496,BD!B5496)=1,MAX($F$1:F5495)+1,\"\")","v":""},null,{"$f":"IF(AND(BD!B5496=REF,BD!D5496>=DEB,BD!D5496<=FIN),MAX(calc!$H$1:H5495)+1,0)","v":0}]
[null,null,null,null,null,{"$f":"IF(COUNTIF(BD!$B$2:B5497,BD!B5497)=1,MAX($F$1:F5496)+1,\"\")","v":""},null,{"$f":"IF(AND(BD!B5497=REF,BD!D5497>=DEB,BD!D5497<=FIN),MAX(calc!$H$1:H5496)+1,0)","v":0}]
[null,null,null,null,null,{"$f":"IF(COUNTIF(BD!$B$2:B5498,BD!B5498)=1,MAX($F$1:F5497)+1,\"\")","v":""},null,{"$f":"IF(AND(BD!B5498=REF,BD!D5498>=DEB,BD!D5498<=FIN),MAX(calc!$H$1:H5497)+1,0)","v":0}]
[null,null,null,null,null,{"$f":"IF(COUNTIF(BD!$B$2:B5499,BD!B5499)=1,MAX($F$1:F5498)+1,\"\")","v":""},null,{"$f":"IF(AND(BD!B5499=REF,BD!D5499>=DEB,BD!D5499<=FIN),MAX(calc!$H$1:H5498)+1,0)","v":0}]
[null,null,null,null,null,{"$f":"IF(COUNTIF(BD!$B$2:B5500,BD!B5500)=1,MAX($F$1:F5499)+1,\"\")","v":""},null,{"$f":"IF(AND(BD!B5500=REF,BD!D5500>=DEB,BD!D5500<=FIN),MAX(calc!$H$1:H5499)+1,0)","v":0}]
[null,null,null,null,null,{"$f":"IF(COUNTIF(BD!$B$2:B5501,BD!B5501)=1,MAX($F$1:F5500)+1,\"\")","v":""},null,{"$f":"IF(AND(BD!B5501=REF,BD!D5501>=DEB,BD!D5501<=FIN),MAX(calc!$H$1:H5500)+1,0)","v":0}]
[null,null,null,null,null,{"$f":"IF(COUNTIF(BD!$B$2:B5502,BD!B5502)=1,MAX($F$1:F5501)+1,\"\")","v":""},null,{"$f":"IF(AND(BD!B5502=REF,BD!D5502>=DEB,BD!D5502<=FIN),MAX(calc!$H$1:H5501)+1,0)","v":0}]
[null,null,null,null,null,{"$f":"IF(COUNTIF(BD!$B$2:B5503,BD!B5503)=1,MAX($F$1:F5502)+1,\"\")","v":""},null,{"$f":"IF(AND(BD!B5503=REF,BD!D5503>=DEB,BD!D5503<=FIN),MAX(calc!$H$1:H5502)+1,0)","v":0}]
[null,null,null,null,null,{"$f":"IF(COUNTIF(BD!$B$2:B5504,BD!B5504)=1,MAX($F$1:F5503)+1,\"\")","v":""},null,{"$f":"IF(AND(BD!B5504=REF,BD!D5504>=DEB,BD!D5504<=FIN),MAX(calc!$H$1:H5503)+1,0)","v":0}]
[null,null,null,null,null,{"$f":"IF(COUNTIF(BD!$B$2:B5505,BD!B5505)=1,MAX($F$1:F5504)+1,\"\")","v":""},null,{"$f":"IF(AND(BD!B5505=REF,BD!D5505>=DEB,BD!D5505<=FIN),MAX(calc!$H$1:H5504)+1,0)","v":0}]
[null,null,null,null,null,{"$f":"IF(COUNTIF(BD!$B$2:B5506,BD!B5506)=1,MAX($F$1:F5505)+1,\"\")","v":""},null,{"$f":"IF(AND(BD!B5506=REF,BD!D5506>=DEB,BD!D5506<=FIN),MAX(calc!$H$1:H5505)+1,0)","v":0}]
[null,null,null,null,null,{"$f":"IF(COUNTIF(BD!$B$2:B5507,BD!B5507)=1,MAX($F$1:F5506)+1,\"\")","v":""},null,{"$f":"IF(AND(BD!B5507=REF,BD!D5507>=DEB,BD!D5507<=FIN),MAX(calc!$H$1:H5506)+1,0)","v":0}]
[null,null,null,null,null,{"$f":"IF(COUNTIF(BD!$B$2:B5508,BD!B5508)=1,MAX($F$1:F5507)+1,\"\")","v":""},null,{"$f":"IF(AND(BD!B5508=REF,BD!D5508>=DEB,BD!D5508<=FIN),MAX(calc!$H$1:H5507)+1,0)","v":0}]
[null,null,null,null,null,{"$f":"IF(COUNTIF(BD!$B$2:B5509,BD!B5509)=1,MAX($F$1:F5508)+1,\"\")","v":""},null,{"$f":"IF(AND(BD!B5509=REF,BD!D5509>=DEB,BD!D5509<=FIN),MAX(calc!$H$1:H5508)+1,0)","v":0}]
[null,null,null,null,null,{"$f":"IF(COUNTIF(BD!$B$2:B5510,BD!B5510)=1,MAX($F$1:F5509)+1,\"\")","v":""},null,{"$f":"IF(AND(BD!B5510=REF,BD!D5510>=DEB,BD!D5510<=FIN),MAX(calc!$H$1:H5509)+1,0)","v":0}]
[null,null,null,null,null,{"$f":"IF(COUNTIF(BD!$B$2:B5511,BD!B5511)=1,MAX($F$1:F5510)+1,\"\")","v":""},null,{"$f":"IF(AND(BD!B5511=REF,BD!D5511>=DEB,BD!D5511<=FIN),MAX(calc!$H$1:H5510)+1,0)","v":0}]
[null,null,null,null,null,{"$f":"IF(COUNTIF(BD!$B$2:B5512,BD!B5512)=1,MAX($F$1:F5511)+1,\"\")","v":""},null,{"$f":"IF(AND(BD!B5512=REF,BD!D5512>=DEB,BD!D5512<=FIN),MAX(calc!$H$1:H5511)+1,0)","v":0}]
[null,null,null,null,null,{"$f":"IF(COUNTIF(BD!$B$2:B5513,BD!B5513)=1,MAX($F$1:F5512)+1,\"\")","v":""},null,{"$f":"IF(AND(BD!B5513=REF,BD!D5513>=DEB,BD!D5513<=FIN),MAX(calc!$H$1:H5512)+1,0)","v":0}]
[null,null,null,null,null,{"$f":"IF(COUNTIF(BD!$B$2:B5514,BD!B5514)=1,MAX($F$1:F5513)+1,\"\")","v":""},null,{"$f":"IF(AND(BD!B5514=REF,BD!D5514>=DEB,BD!D5514<=FIN),MAX(calc!$H$1:H5513)+1,0)","v":0}]
[null,null,null,null,null,{"$f":"IF(COUNTIF(BD!$B$2:B5515,BD!B5515)=1,MAX($F$1:F5514)+1,\"\")","v":""},null,{"$f":"IF(AND(BD!B5515=REF,BD!D5515>=DEB,BD!D5515<=FIN),MAX(calc!$H$1:H5514)+1,0)","v":0}]
[null,null,null,null,null,{"$f":"IF(COUNTIF(BD!$B$2:B5516,BD!B5516)=1,MAX($F$1:F5515)+1,\"\")","v":""},null,{"$f":"IF(AND(BD!B5516=REF,BD!D5516>=DEB,BD!D5516<=FIN),MAX(calc!$H$1:H5515)+1,0)","v":0}]
[null,null,null,null,null,{"$f":"IF(COUNTIF(BD!$B$2:B5517,BD!B5517)=1,MAX($F$1:F5516)+1,\"\")","v":""},null,{"$f":"IF(AND(BD!B5517=REF,BD!D5517>=DEB,BD!D5517<=FIN),MAX(calc!$H$1:H5516)+1,0)","v":0}]
[null,null,null,null,null,{"$f":"IF(COUNTIF(BD!$B$2:B5518,BD!B5518)=1,MAX($F$1:F5517)+1,\"\")","v":""},null,{"$f":"IF(AND(BD!B5518=REF,BD!D5518>=DEB,BD!D5518<=FIN),MAX(calc!$H$1:H5517)+1,0)","v":0}]
[null,null,null,null,null,{"$f":"IF(COUNTIF(BD!$B$2:B5519,BD!B5519)=1,MAX($F$1:F5518)+1,\"\")","v":""},null,{"$f":"IF(AND(BD!B5519=REF,BD!D5519>=DEB,BD!D5519<=FIN),MAX(calc!$H$1:H5518)+1,0)","v":0}]
[null,null,null,null,null,{"$f":"IF(COUNTIF(BD!$B$2:B5520,BD!B5520)=1,MAX($F$1:F5519)+1,\"\")","v":""},null,{"$f":"IF(AND(BD!B5520=REF,BD!D5520>=DEB,BD!D5520<=FIN),MAX(calc!$H$1:H5519)+1,0)","v":0}]
[null,null,null,null,null,{"$f":"IF(COUNTIF(BD!$B$2:B5521,BD!B5521)=1,MAX($F$1:F5520)+1,\"\")","v":""},null,{"$f":"IF(AND(BD!B5521=REF,BD!D5521>=DEB,BD!D5521<=FIN),MAX(calc!$H$1:H5520)+1,0)","v":0}]
[null,null,null,null,null,{"$f":"IF(COUNTIF(BD!$B$2:B5522,BD!B5522)=1,MAX($F$1:F5521)+1,\"\")","v":""},null,{"$f":"IF(AND(BD!B5522=REF,BD!D5522>=DEB,BD!D5522<=FIN),MAX(calc!$H$1:H5521)+1,0)","v":0}]
[null,null,null,null,null,{"$f":"IF(COUNTIF(BD!$B$2:B5523,BD!B5523)=1,MAX($F$1:F5522)+1,\"\")","v":""},null,{"$f":"IF(AND(BD!B5523=REF,BD!D5523>=DEB,BD!D5523<=FIN),MAX(calc!$H$1:H5522)+1,0)","v":0}]
[null,null,null,null,null,{"$f":"IF(COUNTIF(BD!$B$2:B5524,BD!B5524)=1,MAX($F$1:F5523)+1,\"\")","v":""},null,{"$f":"IF(AND(BD!B5524=REF,BD!D5524>=DEB,BD!D5524<=FIN),MAX(calc!$H$1:H5523)+1,0)","v":0}]
[null,null,null,null,null,{"$f":"IF(COUNTIF(BD!$B$2:B5525,BD!B5525)=1,MAX($F$1:F5524)+1,\"\")","v":""},null,{"$f":"IF(AND(BD!B5525=REF,BD!D5525>=DEB,BD!D5525<=FIN),MAX(calc!$H$1:H5524)+1,0)","v":0}]
[null,null,null,null,null,{"$f":"IF(COUNTIF(BD!$B$2:B5526,BD!B5526)=1,MAX($F$1:F5525)+1,\"\")","v":""},null,{"$f":"IF(AND(BD!B5526=REF,BD!D5526>=DEB,BD!D5526<=FIN),MAX(calc!$H$1:H5525)+1,0)","v":0}]
[null,null,null,null,null,{"$f":"IF(COUNTIF(BD!$B$2:B5527,BD!B5527)=1,MAX($F$1:F5526)+1,\"\")","v":""},null,{"$f":"IF(AND(BD!B5527=REF,BD!D5527>=DEB,BD!D5527<=FIN),MAX(calc!$H$1:H5526)+1,0)","v":0}]
[null,null,null,null,null,{"$f":"IF(COUNTIF(BD!$B$2:B5528,BD!B5528)=1,MAX($F$1:F5527)+1,\"\")","v":""},null,{"$f":"IF(AND(BD!B5528=REF,BD!D5528>=DEB,BD!D5528<=FIN),MAX(calc!$H$1:H5527)+1,0)","v":0}]
[null,null,null,null,null,{"$f":"IF(COUNTIF(BD!$B$2:B5529,BD!B5529)=1,MAX($F$1:F5528)+1,\"\")","v":""},null,{"$f":"IF(AND(BD!B5529=REF,BD!D5529>=DEB,BD!D5529<=FIN),MAX(calc!$H$1:H5528)+1,0)","v":0}]
[null,null,null,null,null,{"$f":"IF(COUNTIF(BD!$B$2:B5530,BD!B5530)=1,MAX($F$1:F5529)+1,\"\")","v":""},null,{"$f":"IF(AND(BD!B5530=REF,BD!D5530>=DEB,BD!D5530<=FIN),MAX(calc!$H$1:H5529)+1,0)","v":0}]
[null,null,null,null,null,{"$f":"IF(COUNTIF(BD!$B$2:B5531,BD!B5531)=1,MAX($F$1:F5530)+1,\"\")","v":""},null,{"$f":"IF(AND(BD!B5531=REF,BD!D5531>=DEB,BD!D5531<=FIN),MAX(calc!$H$1:H5530)+1,0)","v":0}]
[null,null,null,null,null,{"$f":"IF(COUNTIF(BD!$B$2:B5532,BD!B5532)=1,MAX($F$1:F5531)+1,\"\")","v":""},null,{"$f":"IF(AND(BD!B5532=REF,BD!D5532>=DEB,BD!D5532<=FIN),MAX(calc!$H$1:H5531)+1,0)","v":0}]
[null,null,null,null,null,{"$f":"IF(COUNTIF(BD!$B$2:B5533,BD!B5533)=1,MAX($F$1:F5532)+1,\"\")","v":""},null,{"$f":"IF(AND(BD!B5533=REF,BD!D5533>=DEB,BD!D5533<=FIN),MAX(calc!$H$1:H5532)+1,0)","v":0}]
[null,null,null,null,null,{"$f":"IF(COUNTIF(BD!$B$2:B5534,BD!B5534)=1,MAX($F$1:F5533)+1,\"\")","v":""},null,{"$f":"IF(AND(BD!B5534=REF,BD!D5534>=DEB,BD!D5534<=FIN),MAX(calc!$H$1:H5533)+1,0)","v":0}]
[null,null,null,null,null,{"$f":"IF(COUNTIF(BD!$B$2:B5535,BD!B5535)=1,MAX($F$1:F5534)+1,\"\")","v":""},null,{"$f":"IF(AND(BD!B5535=REF,BD!D5535>=DEB,BD!D5535<=FIN),MAX(calc!$H$1:H5534)+1,0)","v":0}]
[null,null,null,null,null,{"$f":"IF(COUNTIF(BD!$B$2:B5536,BD!B5536)=1,MAX($F$1:F5535)+1,\"\")","v":""},null,{"$f":"IF(AND(BD!B5536=REF,BD!D5536>=DEB,BD!D5536<=FIN),MAX(calc!$H$1:H5535)+1,0)","v":0}]
[null,null,null,null,null,{"$f":"IF(COUNTIF(BD!$B$2:B5537,BD!B5537)=1,MAX($F$1:F5536)+1,\"\")","v":""},null,{"$f":"IF(AND(BD!B5537=REF,BD!D5537>=DEB,BD!D5537<=FIN),MAX(calc!$H$1:H5536)+1,0)","v":0}]
[null,null,null,null,null,{"$f":"IF(COUNTIF(BD!$B$2:B5538,BD!B5538)=1,MAX($F$1:F5537)+1,\"\")","v":""},null,{"$f":"IF(AND(BD!B5538=REF,BD!D5538>=DEB,BD!D5538<=FIN),MAX(calc!$H$1:H5537)+1,0)","v":0}]
[null,null,null,null,null,{"$f":"IF(COUNTIF(BD!$B$2:B5539,BD!B5539)=1,MAX($F$1:F5538)+1,\"\")","v":""},null,{"$f":"IF(AND(BD!B5539=REF,BD!D5539>=DEB,BD!D5539<=FIN),MAX(calc!$H$1:H5538)+1,0)","v":0}]
[null,null,null,null,null,{"$f":"IF(COUNTIF(BD!$B$2:B5540,BD!B5540)=1,MAX($F$1:F5539)+1,\"\")","v":""},null,{"$f":"IF(AND(BD!B5540=REF,BD!D5540>=DEB,BD!D5540<=FIN),MAX(calc!$H$1:H5539)+1,0)","v":0}]
[null,null,null,null,null,{"$f":"IF(COUNTIF(BD!$B$2:B5541,BD!B5541)=1,MAX($F$1:F5540)+1,\"\")","v":""},null,{"$f":"IF(AND(BD!B5541=REF,BD!D5541>=DEB,BD!D5541<=FIN),MAX(calc!$H$1:H5540)+1,0)","v":0}]
[null,null,null,null,null,{"$f":"IF(COUNTIF(BD!$B$2:B5542,BD!B5542)=1,MAX($F$1:F5541)+1,\"\")","v":""},null,{"$f":"IF(AND(BD!B5542=REF,BD!D5542>=DEB,BD!D5542<=FIN),MAX(calc!$H$1:H5541)+1,0)","v":0}]
[null,null,null,null,null,{"$f":"IF(COUNTIF(BD!$B$2:B5543,BD!B5543)=1,MAX($F$1:F5542)+1,\"\")","v":""},null,{"$f":"IF(AND(BD!B5543=REF,BD!D5543>=DEB,BD!D5543<=FIN),MAX(calc!$H$1:H5542)+1,0)","v":0}]
[null,null,null,null,null,{"$f":"IF(COUNTIF(BD!$B$2:B5544,BD!B5544)=1,MAX($F$1:F5543)+1,\"\")","v":""},null,{"$f":"IF(AND(BD!B5544=REF,BD!D5544>=DEB,BD!D5544<=FIN),MAX(calc!$H$1:H5543)+1,0)","v":0}]
[null,null,null,null,null,{"$f":"IF(COUNTIF(BD!$B$2:B5545,BD!B5545)=1,MAX($F$1:F5544)+1,\"\")","v":""},null,{"$f":"IF(AND(BD!B5545=REF,BD!D5545>=DEB,BD!D5545<=FIN),MAX(calc!$H$1:H5544)+1,0)","v":0}]
[null,null,null,null,null,{"$f":"IF(COUNTIF(BD!$B$2:B5546,BD!B5546)=1,MAX($F$1:F5545)+1,\"\")","v":""},null,{"$f":"IF(AND(BD!B5546=REF,BD!D5546>=DEB,BD!D5546<=FIN),MAX(calc!$H$1:H5545)+1,0)","v":0}]
[null,null,null,null,null,{"$f":"IF(COUNTIF(BD!$B$2:B5547,BD!B5547)=1,MAX($F$1:F5546)+1,\"\")","v":""},null,{"$f":"IF(AND(BD!B5547=REF,BD!D5547>=DEB,BD!D5547<=FIN),MAX(calc!$H$1:H5546)+1,0)","v":0}]
[null,null,null,null,null,{"$f":"IF(COUNTIF(BD!$B$2:B5548,BD!B5548)=1,MAX($F$1:F5547)+1,\"\")","v":""},null,{"$f":"IF(AND(BD!B5548=REF,BD!D5548>=DEB,BD!D5548<=FIN),MAX(calc!$H$1:H5547)+1,0)","v":0}]
[null,null,null,null,null,{"$f":"IF(COUNTIF(BD!$B$2:B5549,BD!B5549)=1,MAX($F$1:F5548)+1,\"\")","v":""},null,{"$f":"IF(AND(BD!B5549=REF,BD!D5549>=DEB,BD!D5549<=FIN),MAX(calc!$H$1:H5548)+1,0)","v":0}]
[null,null,null,null,null,{"$f":"IF(COUNTIF(BD!$B$2:B5550,BD!B5550)=1,MAX($F$1:F5549)+1,\"\")","v":""},null,{"$f":"IF(AND(BD!B5550=REF,BD!D5550>=DEB,BD!D5550<=FIN),MAX(calc!$H$1:H5549)+1,0)","v":0}]
[null,null,null,null,null,{"$f":"IF(COUNTIF(BD!$B$2:B5551,BD!B5551)=1,MAX($F$1:F5550)+1,\"\")","v":""},null,{"$f":"IF(AND(BD!B5551=REF,BD!D5551>=DEB,BD!D5551<=FIN),MAX(calc!$H$1:H5550)+1,0)","v":0}]
[null,null,null,null,null,{"$f":"IF(COUNTIF(BD!$B$2:B5552,BD!B5552)=1,MAX($F$1:F5551)+1,\"\")","v":""},null,{"$f":"IF(AND(BD!B5552=REF,BD!D5552>=DEB,BD!D5552<=FIN),MAX(calc!$H$1:H5551)+1,0)","v":0}]
[null,null,null,null,null,{"$f":"IF(COUNTIF(BD!$B$2:B5553,BD!B5553)=1,MAX($F$1:F5552)+1,\"\")","v":""},null,{"$f":"IF(AND(BD!B5553=REF,BD!D5553>=DEB,BD!D5553<=FIN),MAX(calc!$H$1:H5552)+1,0)","v":0}]
[null,null,null,null,null,{"$f":"IF(COUNTIF(BD!$B$2:B5554,BD!B5554)=1,MAX($F$1:F5553)+1,\"\")","v":""},null,{"$f":"IF(AND(BD!B5554=REF,BD!D5554>=DEB,BD!D5554<=FIN),MAX(calc!$H$1:H5553)+1,0)","v":0}]
[null,null,null,null,null,{"$f":"IF(COUNTIF(BD!$B$2:B5555,BD!B5555)=1,MAX($F$1:F5554)+1,\"\")","v":""},null,{"$f":"IF(AND(BD!B5555=REF,BD!D5555>=DEB,BD!D5555<=FIN),MAX(calc!$H$1:H5554)+1,0)","v":0}]
[null,null,null,null,null,{"$f":"IF(COUNTIF(BD!$B$2:B5556,BD!B5556)=1,MAX($F$1:F5555)+1,\"\")","v":""},null,{"$f":"IF(AND(BD!B5556=REF,BD!D5556>=DEB,BD!D5556<=FIN),MAX(calc!$H$1:H5555)+1,0)","v":0}]
[null,null,null,null,null,{"$f":"IF(COUNTIF(BD!$B$2:B5557,BD!B5557)=1,MAX($F$1:F5556)+1,\"\")","v":""},null,{"$f":"IF(AND(BD!B5557=REF,BD!D5557>=DEB,BD!D5557<=FIN),MAX(calc!$H$1:H5556)+1,0)","v":0}]
[null,null,null,null,null,{"$f":"IF(COUNTIF(BD!$B$2:B5558,BD!B5558)=1,MAX($F$1:F5557)+1,\"\")","v":""},null,{"$f":"IF(AND(BD!B5558=REF,BD!D5558>=DEB,BD!D5558<=FIN),MAX(calc!$H$1:H5557)+1,0)","v":0}]
[null,null,null,null,null,{"$f":"IF(COUNTIF(BD!$B$2:B5559,BD!B5559)=1,MAX($F$1:F5558)+1,\"\")","v":""},null,{"$f":"IF(AND(BD!B5559=REF,BD!D5559>=DEB,BD!D5559<=FIN),MAX(calc!$H$1:H5558)+1,0)","v":0}]
[null,null,null,null,null,{"$f":"IF(COUNTIF(BD!$B$2:B5560,BD!B5560)=1,MAX($F$1:F5559)+1,\"\")","v":""},null,{"$f":"IF(AND(BD!B5560=REF,BD!D5560>=DEB,BD!D5560<=FIN),MAX(calc!$H$1:H5559)+1,0)","v":0}]
[null,null,null,null,null,{"$f":"IF(COUNTIF(BD!$B$2:B5561,BD!B5561)=1,MAX($F$1:F5560)+1,\"\")","v":""},null,{"$f":"IF(AND(BD!B5561=REF,BD!D5561>=DEB,BD!D5561<=FIN),MAX(calc!$H$1:H5560)+1,0)","v":0}]
[null,null,null,null,null,{"$f":"IF(COUNTIF(BD!$B$2:B5562,BD!B5562)=1,MAX($F$1:F5561)+1,\"\")","v":""},null,{"$f":"IF(AND(BD!B5562=REF,BD!D5562>=DEB,BD!D5562<=FIN),MAX(calc!$H$1:H5561)+1,0)","v":0}]
[null,null,null,null,null,{"$f":"IF(COUNTIF(BD!$B$2:B5563,BD!B5563)=1,MAX($F$1:F5562)+1,\"\")","v":""},null,{"$f":"IF(AND(BD!B5563=REF,BD!D5563>=DEB,BD!D5563<=FIN),MAX(calc!$H$1:H5562)+1,0)","v":0}]
[null,null,null,null,null,{"$f":"IF(COUNTIF(BD!$B$2:B5564,BD!B5564)=1,MAX($F$1:F5563)+1,\"\")","v":""},null,{"$f":"IF(AND(BD!B5564=REF,BD!D5564>=DEB,BD!D5564<=FIN),MAX(calc!$H$1:H5563)+1,0)","v":0}]
[null,null,null,null,null,{"$f":"IF(COUNTIF(BD!$B$2:B5565,BD!B5565)=1,MAX($F$1:F5564)+1,\"\")","v":""},null,{"$f":"IF(AND(BD!B5565=REF,BD!D5565>=DEB,BD!D5565<=FIN),MAX(calc!$H$1:H5564)+1,0)","v":0}]
[null,null,null,null,null,{"$f":"IF(COUNTIF(BD!$B$2:B5566,BD!B5566)=1,MAX($F$1:F5565)+1,\"\")","v":""},null,{"$f":"IF(AND(BD!B5566=REF,BD!D5566>=DEB,BD!D5566<=FIN),MAX(calc!$H$1:H5565)+1,0)","v":0}]
[null,null,null,null,null,{"$f":"IF(COUNTIF(BD!$B$2:B5567,BD!B5567)=1,MAX($F$1:F5566)+1,\"\")","v":""},null,{"$f":"IF(AND(BD!B5567=REF,BD!D5567>=DEB,BD!D5567<=FIN),MAX(calc!$H$1:H5566)+1,0)","v":0}]
[null,null,null,null,null,{"$f":"IF(COUNTIF(BD!$B$2:B5568,BD!B5568)=1,MAX($F$1:F5567)+1,\"\")","v":""},null,{"$f":"IF(AND(BD!B5568=REF,BD!D5568>=DEB,BD!D5568<=FIN),MAX(calc!$H$1:H5567)+1,0)","v":0}]
[null,null,null,null,null,{"$f":"IF(COUNTIF(BD!$B$2:B5569,BD!B5569)=1,MAX($F$1:F5568)+1,\"\")","v":""},null,{"$f":"IF(AND(BD!B5569=REF,BD!D5569>=DEB,BD!D5569<=FIN),MAX(calc!$H$1:H5568)+1,0)","v":0}]
[null,null,null,null,null,{"$f":"IF(COUNTIF(BD!$B$2:B5570,BD!B5570)=1,MAX($F$1:F5569)+1,\"\")","v":""},null,{"$f":"IF(AND(BD!B5570=REF,BD!D5570>=DEB,BD!D5570<=FIN),MAX(calc!$H$1:H5569)+1,0)","v":0}]
[null,null,null,null,null,{"$f":"IF(COUNTIF(BD!$B$2:B5571,BD!B5571)=1,MAX($F$1:F5570)+1,\"\")","v":""},null,{"$f":"IF(AND(BD!B5571=REF,BD!D5571>=DEB,BD!D5571<=FIN),MAX(calc!$H$1:H5570)+1,0)","v":0}]
[null,null,null,null,null,{"$f":"IF(COUNTIF(BD!$B$2:B5572,BD!B5572)=1,MAX($F$1:F5571)+1,\"\")","v":""},null,{"$f":"IF(AND(BD!B5572=REF,BD!D5572>=DEB,BD!D5572<=FIN),MAX(calc!$H$1:H5571)+1,0)","v":0}]
[null,null,null,null,null,{"$f":"IF(COUNTIF(BD!$B$2:B5573,BD!B5573)=1,MAX($F$1:F5572)+1,\"\")","v":""},null,{"$f":"IF(AND(BD!B5573=REF,BD!D5573>=DEB,BD!D5573<=FIN),MAX(calc!$H$1:H5572)+1,0)","v":0}]
[null,null,null,null,null,{"$f":"IF(COUNTIF(BD!$B$2:B5574,BD!B5574)=1,MAX($F$1:F5573)+1,\"\")","v":""},null,{"$f":"IF(AND(BD!B5574=REF,BD!D5574>=DEB,BD!D5574<=FIN),MAX(calc!$H$1:H5573)+1,0)","v":0}]
[null,null,null,null,null,{"$f":"IF(COUNTIF(BD!$B$2:B5575,BD!B5575)=1,MAX($F$1:F5574)+1,\"\")","v":""},null,{"$f":"IF(AND(BD!B5575=REF,BD!D5575>=DEB,BD!D5575<=FIN),MAX(calc!$H$1:H5574)+1,0)","v":0}]
[null,null,null,null,null,{"$f":"IF(COUNTIF(BD!$B$2:B5576,BD!B5576)=1,MAX($F$1:F5575)+1,\"\")","v":""},null,{"$f":"IF(AND(BD!B5576=REF,BD!D5576>=DEB,BD!D5576<=FIN),MAX(calc!$H$1:H5575)+1,0)","v":0}]
[null,null,null,null,null,{"$f":"IF(COUNTIF(BD!$B$2:B5577,BD!B5577)=1,MAX($F$1:F5576)+1,\"\")","v":""},null,{"$f":"IF(AND(BD!B5577=REF,BD!D5577>=DEB,BD!D5577<=FIN),MAX(calc!$H$1:H5576)+1,0)","v":0}]
[null,null,null,null,null,{"$f":"IF(COUNTIF(BD!$B$2:B5578,BD!B5578)=1,MAX($F$1:F5577)+1,\"\")","v":""},null,{"$f":"IF(AND(BD!B5578=REF,BD!D5578>=DEB,BD!D5578<=FIN),MAX(calc!$H$1:H5577)+1,0)","v":0}]
[null,null,null,null,null,{"$f":"IF(COUNTIF(BD!$B$2:B5579,BD!B5579)=1,MAX($F$1:F5578)+1,\"\")","v":""},null,{"$f":"IF(AND(BD!B5579=REF,BD!D5579>=DEB,BD!D5579<=FIN),MAX(calc!$H$1:H5578)+1,0)","v":0}]
[null,null,null,null,null,{"$f":"IF(COUNTIF(BD!$B$2:B5580,BD!B5580)=1,MAX($F$1:F5579)+1,\"\")","v":""},null,{"$f":"IF(AND(BD!B5580=REF,BD!D5580>=DEB,BD!D5580<=FIN),MAX(calc!$H$1:H5579)+1,0)","v":0}]
[null,null,null,null,null,{"$f":"IF(COUNTIF(BD!$B$2:B5581,BD!B5581)=1,MAX($F$1:F5580)+1,\"\")","v":""},null,{"$f":"IF(AND(BD!B5581=REF,BD!D5581>=DEB,BD!D5581<=FIN),MAX(calc!$H$1:H5580)+1,0)","v":0}]
[null,null,null,null,null,{"$f":"IF(COUNTIF(BD!$B$2:B5582,BD!B5582)=1,MAX($F$1:F5581)+1,\"\")","v":""},null,{"$f":"IF(AND(BD!B5582=REF,BD!D5582>=DEB,BD!D5582<=FIN),MAX(calc!$H$1:H5581)+1,0)","v":0}]
[null,null,null,null,null,{"$f":"IF(COUNTIF(BD!$B$2:B5583,BD!B5583)=1,MAX($F$1:F5582)+1,\"\")","v":""},null,{"$f":"IF(AND(BD!B5583=REF,BD!D5583>=DEB,BD!D5583<=FIN),MAX(calc!$H$1:H5582)+1,0)","v":0}]
[null,null,null,null,null,{"$f":"IF(COUNTIF(BD!$B$2:B5584,BD!B5584)=1,MAX($F$1:F5583)+1,\"\")","v":""},null,{"$f":"IF(AND(BD!B5584=REF,BD!D5584>=DEB,BD!D5584<=FIN),MAX(calc!$H$1:H5583)+1,0)","v":0}]
[null,null,null,null,null,{"$f":"IF(COUNTIF(BD!$B$2:B5585,BD!B5585)=1,MAX($F$1:F5584)+1,\"\")","v":""},null,{"$f":"IF(AND(BD!B5585=REF,BD!D5585>=DEB,BD!D5585<=FIN),MAX(calc!$H$1:H5584)+1,0)","v":0}]
[null,null,null,null,null,{"$f":"IF(COUNTIF(BD!$B$2:B5586,BD!B5586)=1,MAX($F$1:F5585)+1,\"\")","v":""},null,{"$f":"IF(AND(BD!B5586=REF,BD!D5586>=DEB,BD!D5586<=FIN),MAX(calc!$H$1:H5585)+1,0)","v":0}]
[null,null,null,null,null,{"$f":"IF(COUNTIF(BD!$B$2:B5587,BD!B5587)=1,MAX($F$1:F5586)+1,\"\")","v":""},null,{"$f":"IF(AND(BD!B5587=REF,BD!D5587>=DEB,BD!D5587<=FIN),MAX(calc!$H$1:H5586)+1,0)","v":0}]
[null,null,null,null,null,{"$f":"IF(COUNTIF(BD!$B$2:B5588,BD!B5588)=1,MAX($F$1:F5587)+1,\"\")","v":""},null,{"$f":"IF(AND(BD!B5588=REF,BD!D5588>=DEB,BD!D5588<=FIN),MAX(calc!$H$1:H5587)+1,0)","v":0}]
[null,null,null,null,null,{"$f":"IF(COUNTIF(BD!$B$2:B5589,BD!B5589)=1,MAX($F$1:F5588)+1,\"\")","v":""},null,{"$f":"IF(AND(BD!B5589=REF,BD!D5589>=DEB,BD!D5589<=FIN),MAX(calc!$H$1:H5588)+1,0)","v":0}]
[null,null,null,null,null,{"$f":"IF(COUNTIF(BD!$B$2:B5590,BD!B5590)=1,MAX($F$1:F5589)+1,\"\")","v":""},null,{"$f":"IF(AND(BD!B5590=REF,BD!D5590>=DEB,BD!D5590<=FIN),MAX(calc!$H$1:H5589)+1,0)","v":0}]
[null,null,null,null,null,{"$f":"IF(COUNTIF(BD!$B$2:B5591,BD!B5591)=1,MAX($F$1:F5590)+1,\"\")","v":""},null,{"$f":"IF(AND(BD!B5591=REF,BD!D5591>=DEB,BD!D5591<=FIN),MAX(calc!$H$1:H5590)+1,0)","v":0}]
[null,null,null,null,null,{"$f":"IF(COUNTIF(BD!$B$2:B5592,BD!B5592)=1,MAX($F$1:F5591)+1,\"\")","v":""},null,{"$f":"IF(AND(BD!B5592=REF,BD!D5592>=DEB,BD!D5592<=FIN),MAX(calc!$H$1:H5591)+1,0)","v":0}]
[null,null,null,null,null,{"$f":"IF(COUNTIF(BD!$B$2:B5593,BD!B5593)=1,MAX($F$1:F5592)+1,\"\")","v":""},null,{"$f":"IF(AND(BD!B5593=REF,BD!D5593>=DEB,BD!D5593<=FIN),MAX(calc!$H$1:H5592)+1,0)","v":0}]
[null,null,null,null,null,{"$f":"IF(COUNTIF(BD!$B$2:B5594,BD!B5594)=1,MAX($F$1:F5593)+1,\"\")","v":""},null,{"$f":"IF(AND(BD!B5594=REF,BD!D5594>=DEB,BD!D5594<=FIN),MAX(calc!$H$1:H5593)+1,0)","v":0}]
[null,null,null,null,null,{"$f":"IF(COUNTIF(BD!$B$2:B5595,BD!B5595)=1,MAX($F$1:F5594)+1,\"\")","v":""},null,{"$f":"IF(AND(BD!B5595=REF,BD!D5595>=DEB,BD!D5595<=FIN),MAX(calc!$H$1:H5594)+1,0)","v":0}]
[null,null,null,null,null,{"$f":"IF(COUNTIF(BD!$B$2:B5596,BD!B5596)=1,MAX($F$1:F5595)+1,\"\")","v":""},null,{"$f":"IF(AND(BD!B5596=REF,BD!D5596>=DEB,BD!D5596<=FIN),MAX(calc!$H$1:H5595)+1,0)","v":0}]
[null,null,null,null,null,{"$f":"IF(COUNTIF(BD!$B$2:B5597,BD!B5597)=1,MAX($F$1:F5596)+1,\"\")","v":""},null,{"$f":"IF(AND(BD!B5597=REF,BD!D5597>=DEB,BD!D5597<=FIN),MAX(calc!$H$1:H5596)+1,0)","v":0}]
[null,null,null,null,null,{"$f":"IF(COUNTIF(BD!$B$2:B5598,BD!B5598)=1,MAX($F$1:F5597)+1,\"\")","v":""},null,{"$f":"IF(AND(BD!B5598=REF,BD!D5598>=DEB,BD!D5598<=FIN),MAX(calc!$H$1:H5597)+1,0)","v":0}]
[null,null,null,null,null,{"$f":"IF(COUNTIF(BD!$B$2:B5599,BD!B5599)=1,MAX($F$1:F5598)+1,\"\")","v":""},null,{"$f":"IF(AND(BD!B5599=REF,BD!D5599>=DEB,BD!D5599<=FIN),MAX(calc!$H$1:H5598)+1,0)","v":0}]
[null,null,null,null,null,{"$f":"IF(COUNTIF(BD!$B$2:B5600,BD!B5600)=1,MAX($F$1:F5599)+1,\"\")","v":""},null,{"$f":"IF(AND(BD!B5600=REF,BD!D5600>=DEB,BD!D5600<=FIN),MAX(calc!$H$1:H5599)+1,0)","v":0}]
[null,null,null,null,null,{"$f":"IF(COUNTIF(BD!$B$2:B5601,BD!B5601)=1,MAX($F$1:F5600)+1,\"\")","v":""},null,{"$f":"IF(AND(BD!B5601=REF,BD!D5601>=DEB,BD!D5601<=FIN),MAX(calc!$H$1:H5600)+1,0)","v":0}]
[null,null,null,null,null,{"$f":"IF(COUNTIF(BD!$B$2:B5602,BD!B5602)=1,MAX($F$1:F5601)+1,\"\")","v":""},null,{"$f":"IF(AND(BD!B5602=REF,BD!D5602>=DEB,BD!D5602<=FIN),MAX(calc!$H$1:H5601)+1,0)","v":0}]
[null,null,null,null,null,{"$f":"IF(COUNTIF(BD!$B$2:B5603,BD!B5603)=1,MAX($F$1:F5602)+1,\"\")","v":""},null,{"$f":"IF(AND(BD!B5603=REF,BD!D5603>=DEB,BD!D5603<=FIN),MAX(calc!$H$1:H5602)+1,0)","v":0}]
[null,null,null,null,null,{"$f":"IF(COUNTIF(BD!$B$2:B5604,BD!B5604)=1,MAX($F$1:F5603)+1,\"\")","v":""},null,{"$f":"IF(AND(BD!B5604=REF,BD!D5604>=DEB,BD!D5604<=FIN),MAX(calc!$H$1:H5603)+1,0)","v":0}]
[null,null,null,null,null,{"$f":"IF(COUNTIF(BD!$B$2:B5605,BD!B5605)=1,MAX($F$1:F5604)+1,\"\")","v":""},null,{"$f":"IF(AND(BD!B5605=REF,BD!D5605>=DEB,BD!D5605<=FIN),MAX(calc!$H$1:H5604)+1,0)","v":0}]
[null,null,null,null,null,{"$f":"IF(COUNTIF(BD!$B$2:B5606,BD!B5606)=1,MAX($F$1:F5605)+1,\"\")","v":""},null,{"$f":"IF(AND(BD!B5606=REF,BD!D5606>=DEB,BD!D5606<=FIN),MAX(calc!$H$1:H5605)+1,0)","v":0}]
[null,null,null,null,null,{"$f":"IF(COUNTIF(BD!$B$2:B5607,BD!B5607)=1,MAX($F$1:F5606)+1,\"\")","v":""},null,{"$f":"IF(AND(BD!B5607=REF,BD!D5607>=DEB,BD!D5607<=FIN),MAX(calc!$H$1:H5606)+1,0)","v":0}]
[null,null,null,null,null,{"$f":"IF(COUNTIF(BD!$B$2:B5608,BD!B5608)=1,MAX($F$1:F5607)+1,\"\")","v":""},null,{"$f":"IF(AND(BD!B5608=REF,BD!D5608>=DEB,BD!D5608<=FIN),MAX(calc!$H$1:H5607)+1,0)","v":0}]
[null,null,null,null,null,{"$f":"IF(COUNTIF(BD!$B$2:B5609,BD!B5609)=1,MAX($F$1:F5608)+1,\"\")","v":""},null,{"$f":"IF(AND(BD!B5609=REF,BD!D5609>=DEB,BD!D5609<=FIN),MAX(calc!$H$1:H5608)+1,0)","v":0}]
[null,null,null,null,null,{"$f":"IF(COUNTIF(BD!$B$2:B5610,BD!B5610)=1,MAX($F$1:F5609)+1,\"\")","v":""},null,{"$f":"IF(AND(BD!B5610=REF,BD!D5610>=DEB,BD!D5610<=FIN),MAX(calc!$H$1:H5609)+1,0)","v":0}]
[null,null,null,null,null,{"$f":"IF(COUNTIF(BD!$B$2:B5611,BD!B5611)=1,MAX($F$1:F5610)+1,\"\")","v":""},null,{"$f":"IF(AND(BD!B5611=REF,BD!D5611>=DEB,BD!D5611<=FIN),MAX(calc!$H$1:H5610)+1,0)","v":0}]
[null,null,null,null,null,{"$f":"IF(COUNTIF(BD!$B$2:B5612,BD!B5612)=1,MAX($F$1:F5611)+1,\"\")","v":""},null,{"$f":"IF(AND(BD!B5612=REF,BD!D5612>=DEB,BD!D5612<=FIN),MAX(calc!$H$1:H5611)+1,0)","v":0}]
[null,null,null,null,null,{"$f":"IF(COUNTIF(BD!$B$2:B5613,BD!B5613)=1,MAX($F$1:F5612)+1,\"\")","v":""},null,{"$f":"IF(AND(BD!B5613=REF,BD!D5613>=DEB,BD!D5613<=FIN),MAX(calc!$H$1:H5612)+1,0)","v":0}]
[null,null,null,null,null,{"$f":"IF(COUNTIF(BD!$B$2:B5614,BD!B5614)=1,MAX($F$1:F5613)+1,\"\")","v":""},null,{"$f":"IF(AND(BD!B5614=REF,BD!D5614>=DEB,BD!D5614<=FIN),MAX(calc!$H$1:H5613)+1,0)","v":0}]
[null,null,null,null,null,{"$f":"IF(COUNTIF(BD!$B$2:B5615,BD!B5615)=1,MAX($F$1:F5614)+1,\"\")","v":""},null,{"$f":"IF(AND(BD!B5615=REF,BD!D5615>=DEB,BD!D5615<=FIN),MAX(calc!$H$1:H5614)+1,0)","v":0}]
[null,null,null,null,null,{"$f":"IF(COUNTIF(BD!$B$2:B5616,BD!B5616)=1,MAX($F$1:F5615)+1,\"\")","v":""},null,{"$f":"IF(AND(BD!B5616=REF,BD!D5616>=DEB,BD!D5616<=FIN),MAX(calc!$H$1:H5615)+1,0)","v":0}]
[null,null,null,null,null,{"$f":"IF(COUNTIF(BD!$B$2:B5617,BD!B5617)=1,MAX($F$1:F5616)+1,\"\")","v":""},null,{"$f":"IF(AND(BD!B5617=REF,BD!D5617>=DEB,BD!D5617<=FIN),MAX(calc!$H$1:H5616)+1,0)","v":0}]
[null,null,null,null,null,{"$f":"IF(COUNTIF(BD!$B$2:B5618,BD!B5618)=1,MAX($F$1:F5617)+1,\"\")","v":""},null,{"$f":"IF(AND(BD!B5618=REF,BD!D5618>=DEB,BD!D5618<=FIN),MAX(calc!$H$1:H5617)+1,0)","v":0}]
[null,null,null,null,null,{"$f":"IF(COUNTIF(BD!$B$2:B5619,BD!B5619)=1,MAX($F$1:F5618)+1,\"\")","v":""},null,{"$f":"IF(AND(BD!B5619=REF,BD!D5619>=DEB,BD!D5619<=FIN),MAX(calc!$H$1:H5618)+1,0)","v":0}]
[null,null,null,null,null,{"$f":"IF(COUNTIF(BD!$B$2:B5620,BD!B5620)=1,MAX($F$1:F5619)+1,\"\")","v":""},null,{"$f":"IF(AND(BD!B5620=REF,BD!D5620>=DEB,BD!D5620<=FIN),MAX(calc!$H$1:H5619)+1,0)","v":0}]
[null,null,null,null,null,{"$f":"IF(COUNTIF(BD!$B$2:B5621,BD!B5621)=1,MAX($F$1:F5620)+1,\"\")","v":""},null,{"$f":"IF(AND(BD!B5621=REF,BD!D5621>=DEB,BD!D5621<=FIN),MAX(calc!$H$1:H5620)+1,0)","v":0}]
[null,null,null,null,null,{"$f":"IF(COUNTIF(BD!$B$2:B5622,BD!B5622)=1,MAX($F$1:F5621)+1,\"\")","v":""},null,{"$f":"IF(AND(BD!B5622=REF,BD!D5622>=DEB,BD!D5622<=FIN),MAX(calc!$H$1:H5621)+1,0)","v":0}]
[null,null,null,null,null,{"$f":"IF(COUNTIF(BD!$B$2:B5623,BD!B5623)=1,MAX($F$1:F5622)+1,\"\")","v":""},null,{"$f":"IF(AND(BD!B5623=REF,BD!D5623>=DEB,BD!D5623<=FIN),MAX(calc!$H$1:H5622)+1,0)","v":0}]
[null,null,null,null,null,{"$f":"IF(COUNTIF(BD!$B$2:B5624,BD!B5624)=1,MAX($F$1:F5623)+1,\"\")","v":""},null,{"$f":"IF(AND(BD!B5624=REF,BD!D5624>=DEB,BD!D5624<=FIN),MAX(calc!$H$1:H5623)+1,0)","v":0}]
[null,null,null,null,null,{"$f":"IF(COUNTIF(BD!$B$2:B5625,BD!B5625)=1,MAX($F$1:F5624)+1,\"\")","v":""},null,{"$f":"IF(AND(BD!B5625=REF,BD!D5625>=DEB,BD!D5625<=FIN),MAX(calc!$H$1:H5624)+1,0)","v":0}]
[null,null,null,null,null,{"$f":"IF(COUNTIF(BD!$B$2:B5626,BD!B5626)=1,MAX($F$1:F5625)+1,\"\")","v":""},null,{"$f":"IF(AND(BD!B5626=REF,BD!D5626>=DEB,BD!D5626<=FIN),MAX(calc!$H$1:H5625)+1,0)","v":0}]
[null,null,null,null,null,{"$f":"IF(COUNTIF(BD!$B$2:B5627,BD!B5627)=1,MAX($F$1:F5626)+1,\"\")","v":""},null,{"$f":"IF(AND(BD!B5627=REF,BD!D5627>=DEB,BD!D5627<=FIN),MAX(calc!$H$1:H5626)+1,0)","v":0}]
[null,null,null,null,null,{"$f":"IF(COUNTIF(BD!$B$2:B5628,BD!B5628)=1,MAX($F$1:F5627)+1,\"\")","v":""},null,{"$f":"IF(AND(BD!B5628=REF,BD!D5628>=DEB,BD!D5628<=FIN),MAX(calc!$H$1:H5627)+1,0)","v":0}]
[null,null,null,null,null,{"$f":"IF(COUNTIF(BD!$B$2:B5629,BD!B5629)=1,MAX($F$1:F5628)+1,\"\")","v":""},null,{"$f":"IF(AND(BD!B5629=REF,BD!D5629>=DEB,BD!D5629<=FIN),MAX(calc!$H$1:H5628)+1,0)","v":0}]
[null,null,null,null,null,{"$f":"IF(COUNTIF(BD!$B$2:B5630,BD!B5630)=1,MAX($F$1:F5629)+1,\"\")","v":""},null,{"$f":"IF(AND(BD!B5630=REF,BD!D5630>=DEB,BD!D5630<=FIN),MAX(calc!$H$1:H5629)+1,0)","v":0}]
[null,null,null,null,null,{"$f":"IF(COUNTIF(BD!$B$2:B5631,BD!B5631)=1,MAX($F$1:F5630)+1,\"\")","v":""},null,{"$f":"IF(AND(BD!B5631=REF,BD!D5631>=DEB,BD!D5631<=FIN),MAX(calc!$H$1:H5630)+1,0)","v":0}]
[null,null,null,null,null,{"$f":"IF(COUNTIF(BD!$B$2:B5632,BD!B5632)=1,MAX($F$1:F5631)+1,\"\")","v":""},null,{"$f":"IF(AND(BD!B5632=REF,BD!D5632>=DEB,BD!D5632<=FIN),MAX(calc!$H$1:H5631)+1,0)","v":0}]
[null,null,null,null,null,{"$f":"IF(COUNTIF(BD!$B$2:B5633,BD!B5633)=1,MAX($F$1:F5632)+1,\"\")","v":""},null,{"$f":"IF(AND(BD!B5633=REF,BD!D5633>=DEB,BD!D5633<=FIN),MAX(calc!$H$1:H5632)+1,0)","v":0}]
[null,null,null,null,null,{"$f":"IF(COUNTIF(BD!$B$2:B5634,BD!B5634)=1,MAX($F$1:F5633)+1,\"\")","v":""},null,{"$f":"IF(AND(BD!B5634=REF,BD!D5634>=DEB,BD!D5634<=FIN),MAX(calc!$H$1:H5633)+1,0)","v":0}]
[null,null,null,null,null,{"$f":"IF(COUNTIF(BD!$B$2:B5635,BD!B5635)=1,MAX($F$1:F5634)+1,\"\")","v":""},null,{"$f":"IF(AND(BD!B5635=REF,BD!D5635>=DEB,BD!D5635<=FIN),MAX(calc!$H$1:H5634)+1,0)","v":0}]
[null,null,null,null,null,{"$f":"IF(COUNTIF(BD!$B$2:B5636,BD!B5636)=1,MAX($F$1:F5635)+1,\"\")","v":""},null,{"$f":"IF(AND(BD!B5636=REF,BD!D5636>=DEB,BD!D5636<=FIN),MAX(calc!$H$1:H5635)+1,0)","v":0}]
[null,null,null,null,null,{"$f":"IF(COUNTIF(BD!$B$2:B5637,BD!B5637)=1,MAX($F$1:F5636)+1,\"\")","v":""},null,{"$f":"IF(AND(BD!B5637=REF,BD!D5637>=DEB,BD!D5637<=FIN),MAX(calc!$H$1:H5636)+1,0)","v":0}]
[null,null,null,null,null,{"$f":"IF(COUNTIF(BD!$B$2:B5638,BD!B5638)=1,MAX($F$1:F5637)+1,\"\")","v":""},null,{"$f":"IF(AND(BD!B5638=REF,BD!D5638>=DEB,BD!D5638<=FIN),MAX(calc!$H$1:H5637)+1,0)","v":0}]
[null,null,null,null,null,{"$f":"IF(COUNTIF(BD!$B$2:B5639,BD!B5639)=1,MAX($F$1:F5638)+1,\"\")","v":""},null,{"$f":"IF(AND(BD!B5639=REF,BD!D5639>=DEB,BD!D5639<=FIN),MAX(calc!$H$1:H5638)+1,0)","v":0}]
[null,null,null,null,null,{"$f":"IF(COUNTIF(BD!$B$2:B5640,BD!B5640)=1,MAX($F$1:F5639)+1,\"\")","v":""},null,{"$f":"IF(AND(BD!B5640=REF,BD!D5640>=DEB,BD!D5640<=FIN),MAX(calc!$H$1:H5639)+1,0)","v":0}]
[null,null,null,null,null,{"$f":"IF(COUNTIF(BD!$B$2:B5641,BD!B5641)=1,MAX($F$1:F5640)+1,\"\")","v":""},null,{"$f":"IF(AND(BD!B5641=REF,BD!D5641>=DEB,BD!D5641<=FIN),MAX(calc!$H$1:H5640)+1,0)","v":0}]
[null,null,null,null,null,{"$f":"IF(COUNTIF(BD!$B$2:B5642,BD!B5642)=1,MAX($F$1:F5641)+1,\"\")","v":""},null,{"$f":"IF(AND(BD!B5642=REF,BD!D5642>=DEB,BD!D5642<=FIN),MAX(calc!$H$1:H5641)+1,0)","v":0}]
[null,null,null,null,null,{"$f":"IF(COUNTIF(BD!$B$2:B5643,BD!B5643)=1,MAX($F$1:F5642)+1,\"\")","v":""},null,{"$f":"IF(AND(BD!B5643=REF,BD!D5643>=DEB,BD!D5643<=FIN),MAX(calc!$H$1:H5642)+1,0)","v":0}]
[null,null,null,null,null,{"$f":"IF(COUNTIF(BD!$B$2:B5644,BD!B5644)=1,MAX($F$1:F5643)+1,\"\")","v":""},null,{"$f":"IF(AND(BD!B5644=REF,BD!D5644>=DEB,BD!D5644<=FIN),MAX(calc!$H$1:H5643)+1,0)","v":0}]
[null,null,null,null,null,{"$f":"IF(COUNTIF(BD!$B$2:B5645,BD!B5645)=1,MAX($F$1:F5644)+1,\"\")","v":""},null,{"$f":"IF(AND(BD!B5645=REF,BD!D5645>=DEB,BD!D5645<=FIN),MAX(calc!$H$1:H5644)+1,0)","v":0}]
[null,null,null,null,null,{"$f":"IF(COUNTIF(BD!$B$2:B5646,BD!B5646)=1,MAX($F$1:F5645)+1,\"\")","v":""},null,{"$f":"IF(AND(BD!B5646=REF,BD!D5646>=DEB,BD!D5646<=FIN),MAX(calc!$H$1:H5645)+1,0)","v":0}]
[null,null,null,null,null,{"$f":"IF(COUNTIF(BD!$B$2:B5647,BD!B5647)=1,MAX($F$1:F5646)+1,\"\")","v":""},null,{"$f":"IF(AND(BD!B5647=REF,BD!D5647>=DEB,BD!D5647<=FIN),MAX(calc!$H$1:H5646)+1,0)","v":0}]
[null,null,null,null,null,{"$f":"IF(COUNTIF(BD!$B$2:B5648,BD!B5648)=1,MAX($F$1:F5647)+1,\"\")","v":""},null,{"$f":"IF(AND(BD!B5648=REF,BD!D5648>=DEB,BD!D5648<=FIN),MAX(calc!$H$1:H5647)+1,0)","v":0}]
[null,null,null,null,null,{"$f":"IF(COUNTIF(BD!$B$2:B5649,BD!B5649)=1,MAX($F$1:F5648)+1,\"\")","v":""},null,{"$f":"IF(AND(BD!B5649=REF,BD!D5649>=DEB,BD!D5649<=FIN),MAX(calc!$H$1:H5648)+1,0)","v":0}]
[null,null,null,null,null,{"$f":"IF(COUNTIF(BD!$B$2:B5650,BD!B5650)=1,MAX($F$1:F5649)+1,\"\")","v":""},null,{"$f":"IF(AND(BD!B5650=REF,BD!D5650>=DEB,BD!D5650<=FIN),MAX(calc!$H$1:H5649)+1,0)","v":0}]
[null,null,null,null,null,{"$f":"IF(COUNTIF(BD!$B$2:B5651,BD!B5651)=1,MAX($F$1:F5650)+1,\"\")","v":""},null,{"$f":"IF(AND(BD!B5651=REF,BD!D5651>=DEB,BD!D5651<=FIN),MAX(calc!$H$1:H5650)+1,0)","v":0}]
[null,null,null,null,null,{"$f":"IF(COUNTIF(BD!$B$2:B5652,BD!B5652)=1,MAX($F$1:F5651)+1,\"\")","v":""},null,{"$f":"IF(AND(BD!B5652=REF,BD!D5652>=DEB,BD!D5652<=FIN),MAX(calc!$H$1:H5651)+1,0)","v":0}]
[null,null,null,null,null,{"$f":"IF(COUNTIF(BD!$B$2:B5653,BD!B5653)=1,MAX($F$1:F5652)+1,\"\")","v":""},null,{"$f":"IF(AND(BD!B5653=REF,BD!D5653>=DEB,BD!D5653<=FIN),MAX(calc!$H$1:H5652)+1,0)","v":0}]
[null,null,null,null,null,{"$f":"IF(COUNTIF(BD!$B$2:B5654,BD!B5654)=1,MAX($F$1:F5653)+1,\"\")","v":""},null,{"$f":"IF(AND(BD!B5654=REF,BD!D5654>=DEB,BD!D5654<=FIN),MAX(calc!$H$1:H5653)+1,0)","v":0}]
[null,null,null,null,null,{"$f":"IF(COUNTIF(BD!$B$2:B5655,BD!B5655)=1,MAX($F$1:F5654)+1,\"\")","v":""},null,{"$f":"IF(AND(BD!B5655=REF,BD!D5655>=DEB,BD!D5655<=FIN),MAX(calc!$H$1:H5654)+1,0)","v":0}]
[null,null,null,null,null,{"$f":"IF(COUNTIF(BD!$B$2:B5656,BD!B5656)=1,MAX($F$1:F5655)+1,\"\")","v":""},null,{"$f":"IF(AND(BD!B5656=REF,BD!D5656>=DEB,BD!D5656<=FIN),MAX(calc!$H$1:H5655)+1,0)","v":0}]
[null,null,null,null,null,{"$f":"IF(COUNTIF(BD!$B$2:B5657,BD!B5657)=1,MAX($F$1:F5656)+1,\"\")","v":""},null,{"$f":"IF(AND(BD!B5657=REF,BD!D5657>=DEB,BD!D5657<=FIN),MAX(calc!$H$1:H5656)+1,0)","v":0}]
[null,null,null,null,null,{"$f":"IF(COUNTIF(BD!$B$2:B5658,BD!B5658)=1,MAX($F$1:F5657)+1,\"\")","v":""},null,{"$f":"IF(AND(BD!B5658=REF,BD!D5658>=DEB,BD!D5658<=FIN),MAX(calc!$H$1:H5657)+1,0)","v":0}]
[null,null,null,null,null,{"$f":"IF(COUNTIF(BD!$B$2:B5659,BD!B5659)=1,MAX($F$1:F5658)+1,\"\")","v":""},null,{"$f":"IF(AND(BD!B5659=REF,BD!D5659>=DEB,BD!D5659<=FIN),MAX(calc!$H$1:H5658)+1,0)","v":0}]
[null,null,null,null,null,{"$f":"IF(COUNTIF(BD!$B$2:B5660,BD!B5660)=1,MAX($F$1:F5659)+1,\"\")","v":""},null,{"$f":"IF(AND(BD!B5660=REF,BD!D5660>=DEB,BD!D5660<=FIN),MAX(calc!$H$1:H5659)+1,0)","v":0}]
[null,null,null,null,null,{"$f":"IF(COUNTIF(BD!$B$2:B5661,BD!B5661)=1,MAX($F$1:F5660)+1,\"\")","v":""},null,{"$f":"IF(AND(BD!B5661=REF,BD!D5661>=DEB,BD!D5661<=FIN),MAX(calc!$H$1:H5660)+1,0)","v":0}]
[null,null,null,null,null,{"$f":"IF(COUNTIF(BD!$B$2:B5662,BD!B5662)=1,MAX($F$1:F5661)+1,\"\")","v":""},null,{"$f":"IF(AND(BD!B5662=REF,BD!D5662>=DEB,BD!D5662<=FIN),MAX(calc!$H$1:H5661)+1,0)","v":0}]
[null,null,null,null,null,{"$f":"IF(COUNTIF(BD!$B$2:B5663,BD!B5663)=1,MAX($F$1:F5662)+1,\"\")","v":""},null,{"$f":"IF(AND(BD!B5663=REF,BD!D5663>=DEB,BD!D5663<=FIN),MAX(calc!$H$1:H5662)+1,0)","v":0}]
[null,null,null,null,null,{"$f":"IF(COUNTIF(BD!$B$2:B5664,BD!B5664)=1,MAX($F$1:F5663)+1,\"\")","v":""},null,{"$f":"IF(AND(BD!B5664=REF,BD!D5664>=DEB,BD!D5664<=FIN),MAX(calc!$H$1:H5663)+1,0)","v":0}]
[null,null,null,null,null,{"$f":"IF(COUNTIF(BD!$B$2:B5665,BD!B5665)=1,MAX($F$1:F5664)+1,\"\")","v":""},null,{"$f":"IF(AND(BD!B5665=REF,BD!D5665>=DEB,BD!D5665<=FIN),MAX(calc!$H$1:H5664)+1,0)","v":0}]
[null,null,null,null,null,{"$f":"IF(COUNTIF(BD!$B$2:B5666,BD!B5666)=1,MAX($F$1:F5665)+1,\"\")","v":""},null,{"$f":"IF(AND(BD!B5666=REF,BD!D5666>=DEB,BD!D5666<=FIN),MAX(calc!$H$1:H5665)+1,0)","v":0}]
[null,null,null,null,null,{"$f":"IF(COUNTIF(BD!$B$2:B5667,BD!B5667)=1,MAX($F$1:F5666)+1,\"\")","v":""},null,{"$f":"IF(AND(BD!B5667=REF,BD!D5667>=DEB,BD!D5667<=FIN),MAX(calc!$H$1:H5666)+1,0)","v":0}]
[null,null,null,null,null,{"$f":"IF(COUNTIF(BD!$B$2:B5668,BD!B5668)=1,MAX($F$1:F5667)+1,\"\")","v":""},null,{"$f":"IF(AND(BD!B5668=REF,BD!D5668>=DEB,BD!D5668<=FIN),MAX(calc!$H$1:H5667)+1,0)","v":0}]
[null,null,null,null,null,{"$f":"IF(COUNTIF(BD!$B$2:B5669,BD!B5669)=1,MAX($F$1:F5668)+1,\"\")","v":""},null,{"$f":"IF(AND(BD!B5669=REF,BD!D5669>=DEB,BD!D5669<=FIN),MAX(calc!$H$1:H5668)+1,0)","v":0}]
[null,null,null,null,null,{"$f":"IF(COUNTIF(BD!$B$2:B5670,BD!B5670)=1,MAX($F$1:F5669)+1,\"\")","v":""},null,{"$f":"IF(AND(BD!B5670=REF,BD!D5670>=DEB,BD!D5670<=FIN),MAX(calc!$H$1:H5669)+1,0)","v":0}]
[null,null,null,null,null,{"$f":"IF(COUNTIF(BD!$B$2:B5671,BD!B5671)=1,MAX($F$1:F5670)+1,\"\")","v":""},null,{"$f":"IF(AND(BD!B5671=REF,BD!D5671>=DEB,BD!D5671<=FIN),MAX(calc!$H$1:H5670)+1,0)","v":0}]
[null,null,null,null,null,{"$f":"IF(COUNTIF(BD!$B$2:B5672,BD!B5672)=1,MAX($F$1:F5671)+1,\"\")","v":""},null,{"$f":"IF(AND(BD!B5672=REF,BD!D5672>=DEB,BD!D5672<=FIN),MAX(calc!$H$1:H5671)+1,0)","v":0}]
[null,null,null,null,null,{"$f":"IF(COUNTIF(BD!$B$2:B5673,BD!B5673)=1,MAX($F$1:F5672)+1,\"\")","v":""},null,{"$f":"IF(AND(BD!B5673=REF,BD!D5673>=DEB,BD!D5673<=FIN),MAX(calc!$H$1:H5672)+1,0)","v":0}]
[null,null,null,null,null,{"$f":"IF(COUNTIF(BD!$B$2:B5674,BD!B5674)=1,MAX($F$1:F5673)+1,\"\")","v":""},null,{"$f":"IF(AND(BD!B5674=REF,BD!D5674>=DEB,BD!D5674<=FIN),MAX(calc!$H$1:H5673)+1,0)","v":0}]
[null,null,null,null,null,{"$f":"IF(COUNTIF(BD!$B$2:B5675,BD!B5675)=1,MAX($F$1:F5674)+1,\"\")","v":""},null,{"$f":"IF(AND(BD!B5675=REF,BD!D5675>=DEB,BD!D5675<=FIN),MAX(calc!$H$1:H5674)+1,0)","v":0}]
[null,null,null,null,null,{"$f":"IF(COUNTIF(BD!$B$2:B5676,BD!B5676)=1,MAX($F$1:F5675)+1,\"\")","v":""},null,{"$f":"IF(AND(BD!B5676=REF,BD!D5676>=DEB,BD!D5676<=FIN),MAX(calc!$H$1:H5675)+1,0)","v":0}]
[null,null,null,null,null,{"$f":"IF(COUNTIF(BD!$B$2:B5677,BD!B5677)=1,MAX($F$1:F5676)+1,\"\")","v":""},null,{"$f":"IF(AND(BD!B5677=REF,BD!D5677>=DEB,BD!D5677<=FIN),MAX(calc!$H$1:H5676)+1,0)","v":0}]
[null,null,null,null,null,{"$f":"IF(COUNTIF(BD!$B$2:B5678,BD!B5678)=1,MAX($F$1:F5677)+1,\"\")","v":""},null,{"$f":"IF(AND(BD!B5678=REF,BD!D5678>=DEB,BD!D5678<=FIN),MAX(calc!$H$1:H5677)+1,0)","v":0}]
[null,null,null,null,null,{"$f":"IF(COUNTIF(BD!$B$2:B5679,BD!B5679)=1,MAX($F$1:F5678)+1,\"\")","v":""},null,{"$f":"IF(AND(BD!B5679=REF,BD!D5679>=DEB,BD!D5679<=FIN),MAX(calc!$H$1:H5678)+1,0)","v":0}]
[null,null,null,null,null,{"$f":"IF(COUNTIF(BD!$B$2:B5680,BD!B5680)=1,MAX($F$1:F5679)+1,\"\")","v":""},null,{"$f":"IF(AND(BD!B5680=REF,BD!D5680>=DEB,BD!D5680<=FIN),MAX(calc!$H$1:H5679)+1,0)","v":0}]
[null,null,null,null,null,{"$f":"IF(COUNTIF(BD!$B$2:B5681,BD!B5681)=1,MAX($F$1:F5680)+1,\"\")","v":""},null,{"$f":"IF(AND(BD!B5681=REF,BD!D5681>=DEB,BD!D5681<=FIN),MAX(calc!$H$1:H5680)+1,0)","v":0}]
[null,null,null,null,null,{"$f":"IF(COUNTIF(BD!$B$2:B5682,BD!B5682)=1,MAX($F$1:F5681)+1,\"\")","v":""},null,{"$f":"IF(AND(BD!B5682=REF,BD!D5682>=DEB,BD!D5682<=FIN),MAX(calc!$H$1:H5681)+1,0)","v":0}]
[null,null,null,null,null,{"$f":"IF(COUNTIF(BD!$B$2:B5683,BD!B5683)=1,MAX($F$1:F5682)+1,\"\")","v":""},null,{"$f":"IF(AND(BD!B5683=REF,BD!D5683>=DEB,BD!D5683<=FIN),MAX(calc!$H$1:H5682)+1,0)","v":0}]
[null,null,null,null,null,{"$f":"IF(COUNTIF(BD!$B$2:B5684,BD!B5684)=1,MAX($F$1:F5683)+1,\"\")","v":""},null,{"$f":"IF(AND(BD!B5684=REF,BD!D5684>=DEB,BD!D5684<=FIN),MAX(calc!$H$1:H5683)+1,0)","v":0}]
[null,null,null,null,null,{"$f":"IF(COUNTIF(BD!$B$2:B5685,BD!B5685)=1,MAX($F$1:F5684)+1,\"\")","v":""},null,{"$f":"IF(AND(BD!B5685=REF,BD!D5685>=DEB,BD!D5685<=FIN),MAX(calc!$H$1:H5684)+1,0)","v":0}]
[null,null,null,null,null,{"$f":"IF(COUNTIF(BD!$B$2:B5686,BD!B5686)=1,MAX($F$1:F5685)+1,\"\")","v":""},null,{"$f":"IF(AND(BD!B5686=REF,BD!D5686>=DEB,BD!D5686<=FIN),MAX(calc!$H$1:H5685)+1,0)","v":0}]
[null,null,null,null,null,{"$f":"IF(COUNTIF(BD!$B$2:B5687,BD!B5687)=1,MAX($F$1:F5686)+1,\"\")","v":""},null,{"$f":"IF(AND(BD!B5687=REF,BD!D5687>=DEB,BD!D5687<=FIN),MAX(calc!$H$1:H5686)+1,0)","v":0}]
[null,null,null,null,null,{"$f":"IF(COUNTIF(BD!$B$2:B5688,BD!B5688)=1,MAX($F$1:F5687)+1,\"\")","v":""},null,{"$f":"IF(AND(BD!B5688=REF,BD!D5688>=DEB,BD!D5688<=FIN),MAX(calc!$H$1:H5687)+1,0)","v":0}]
[null,null,null,null,null,{"$f":"IF(COUNTIF(BD!$B$2:B5689,BD!B5689)=1,MAX($F$1:F5688)+1,\"\")","v":""},null,{"$f":"IF(AND(BD!B5689=REF,BD!D5689>=DEB,BD!D5689<=FIN),MAX(calc!$H$1:H5688)+1,0)","v":0}]
[null,null,null,null,null,{"$f":"IF(COUNTIF(BD!$B$2:B5690,BD!B5690)=1,MAX($F$1:F5689)+1,\"\")","v":""},null,{"$f":"IF(AND(BD!B5690=REF,BD!D5690>=DEB,BD!D5690<=FIN),MAX(calc!$H$1:H5689)+1,0)","v":0}]
[null,null,null,null,null,{"$f":"IF(COUNTIF(BD!$B$2:B5691,BD!B5691)=1,MAX($F$1:F5690)+1,\"\")","v":""},null,{"$f":"IF(AND(BD!B5691=REF,BD!D5691>=DEB,BD!D5691<=FIN),MAX(calc!$H$1:H5690)+1,0)","v":0}]
[null,null,null,null,null,{"$f":"IF(COUNTIF(BD!$B$2:B5692,BD!B5692)=1,MAX($F$1:F5691)+1,\"\")","v":""},null,{"$f":"IF(AND(BD!B5692=REF,BD!D5692>=DEB,BD!D5692<=FIN),MAX(calc!$H$1:H5691)+1,0)","v":0}]
[null,null,null,null,null,{"$f":"IF(COUNTIF(BD!$B$2:B5693,BD!B5693)=1,MAX($F$1:F5692)+1,\"\")","v":""},null,{"$f":"IF(AND(BD!B5693=REF,BD!D5693>=DEB,BD!D5693<=FIN),MAX(calc!$H$1:H5692)+1,0)","v":0}]
[null,null,null,null,null,{"$f":"IF(COUNTIF(BD!$B$2:B5694,BD!B5694)=1,MAX($F$1:F5693)+1,\"\")","v":""},null,{"$f":"IF(AND(BD!B5694=REF,BD!D5694>=DEB,BD!D5694<=FIN),MAX(calc!$H$1:H5693)+1,0)","v":0}]
[null,null,null,null,null,{"$f":"IF(COUNTIF(BD!$B$2:B5695,BD!B5695)=1,MAX($F$1:F5694)+1,\"\")","v":""},null,{"$f":"IF(AND(BD!B5695=REF,BD!D5695>=DEB,BD!D5695<=FIN),MAX(calc!$H$1:H5694)+1,0)","v":0}]
[null,null,null,null,null,{"$f":"IF(COUNTIF(BD!$B$2:B5696,BD!B5696)=1,MAX($F$1:F5695)+1,\"\")","v":""},null,{"$f":"IF(AND(BD!B5696=REF,BD!D5696>=DEB,BD!D5696<=FIN),MAX(calc!$H$1:H5695)+1,0)","v":0}]
[null,null,null,null,null,{"$f":"IF(COUNTIF(BD!$B$2:B5697,BD!B5697)=1,MAX($F$1:F5696)+1,\"\")","v":""},null,{"$f":"IF(AND(BD!B5697=REF,BD!D5697>=DEB,BD!D5697<=FIN),MAX(calc!$H$1:H5696)+1,0)","v":0}]
[null,null,null,null,null,{"$f":"IF(COUNTIF(BD!$B$2:B5698,BD!B5698)=1,MAX($F$1:F5697)+1,\"\")","v":""},null,{"$f":"IF(AND(BD!B5698=REF,BD!D5698>=DEB,BD!D5698<=FIN),MAX(calc!$H$1:H5697)+1,0)","v":0}]
[null,null,null,null,null,{"$f":"IF(COUNTIF(BD!$B$2:B5699,BD!B5699)=1,MAX($F$1:F5698)+1,\"\")","v":""},null,{"$f":"IF(AND(BD!B5699=REF,BD!D5699>=DEB,BD!D5699<=FIN),MAX(calc!$H$1:H5698)+1,0)","v":0}]
[null,null,null,null,null,{"$f":"IF(COUNTIF(BD!$B$2:B5700,BD!B5700)=1,MAX($F$1:F5699)+1,\"\")","v":""},null,{"$f":"IF(AND(BD!B5700=REF,BD!D5700>=DEB,BD!D5700<=FIN),MAX(calc!$H$1:H5699)+1,0)","v":0}]
[null,null,null,null,null,{"$f":"IF(COUNTIF(BD!$B$2:B5701,BD!B5701)=1,MAX($F$1:F5700)+1,\"\")","v":""},null,{"$f":"IF(AND(BD!B5701=REF,BD!D5701>=DEB,BD!D5701<=FIN),MAX(calc!$H$1:H5700)+1,0)","v":0}]
[null,null,null,null,null,{"$f":"IF(COUNTIF(BD!$B$2:B5702,BD!B5702)=1,MAX($F$1:F5701)+1,\"\")","v":""},null,{"$f":"IF(AND(BD!B5702=REF,BD!D5702>=DEB,BD!D5702<=FIN),MAX(calc!$H$1:H5701)+1,0)","v":0}]
[null,null,null,null,null,{"$f":"IF(COUNTIF(BD!$B$2:B5703,BD!B5703)=1,MAX($F$1:F5702)+1,\"\")","v":""},null,{"$f":"IF(AND(BD!B5703=REF,BD!D5703>=DEB,BD!D5703<=FIN),MAX(calc!$H$1:H5702)+1,0)","v":0}]
[null,null,null,null,null,{"$f":"IF(COUNTIF(BD!$B$2:B5704,BD!B5704)=1,MAX($F$1:F5703)+1,\"\")","v":""},null,{"$f":"IF(AND(BD!B5704=REF,BD!D5704>=DEB,BD!D5704<=FIN),MAX(calc!$H$1:H5703)+1,0)","v":0}]
[null,null,null,null,null,{"$f":"IF(COUNTIF(BD!$B$2:B5705,BD!B5705)=1,MAX($F$1:F5704)+1,\"\")","v":""},null,{"$f":"IF(AND(BD!B5705=REF,BD!D5705>=DEB,BD!D5705<=FIN),MAX(calc!$H$1:H5704)+1,0)","v":0}]
[null,null,null,null,null,{"$f":"IF(COUNTIF(BD!$B$2:B5706,BD!B5706)=1,MAX($F$1:F5705)+1,\"\")","v":""},null,{"$f":"IF(AND(BD!B5706=REF,BD!D5706>=DEB,BD!D5706<=FIN),MAX(calc!$H$1:H5705)+1,0)","v":0}]
[null,null,null,null,null,{"$f":"IF(COUNTIF(BD!$B$2:B5707,BD!B5707)=1,MAX($F$1:F5706)+1,\"\")","v":""},null,{"$f":"IF(AND(BD!B5707=REF,BD!D5707>=DEB,BD!D5707<=FIN),MAX(calc!$H$1:H5706)+1,0)","v":0}]
[null,null,null,null,null,{"$f":"IF(COUNTIF(BD!$B$2:B5708,BD!B5708)=1,MAX($F$1:F5707)+1,\"\")","v":""},null,{"$f":"IF(AND(BD!B5708=REF,BD!D5708>=DEB,BD!D5708<=FIN),MAX(calc!$H$1:H5707)+1,0)","v":0}]
[null,null,null,null,null,{"$f":"IF(COUNTIF(BD!$B$2:B5709,BD!B5709)=1,MAX($F$1:F5708)+1,\"\")","v":""},null,{"$f":"IF(AND(BD!B5709=REF,BD!D5709>=DEB,BD!D5709<=FIN),MAX(calc!$H$1:H5708)+1,0)","v":0}]
[null,null,null,null,null,{"$f":"IF(COUNTIF(BD!$B$2:B5710,BD!B5710)=1,MAX($F$1:F5709)+1,\"\")","v":""},null,{"$f":"IF(AND(BD!B5710=REF,BD!D5710>=DEB,BD!D5710<=FIN),MAX(calc!$H$1:H5709)+1,0)","v":0}]
[null,null,null,null,null,{"$f":"IF(COUNTIF(BD!$B$2:B5711,BD!B5711)=1,MAX($F$1:F5710)+1,\"\")","v":""},null,{"$f":"IF(AND(BD!B5711=REF,BD!D5711>=DEB,BD!D5711<=FIN),MAX(calc!$H$1:H5710)+1,0)","v":0}]
[null,null,null,null,null,{"$f":"IF(COUNTIF(BD!$B$2:B5712,BD!B5712)=1,MAX($F$1:F5711)+1,\"\")","v":""},null,{"$f":"IF(AND(BD!B5712=REF,BD!D5712>=DEB,BD!D5712<=FIN),MAX(calc!$H$1:H5711)+1,0)","v":0}]
[null,null,null,null,null,{"$f":"IF(COUNTIF(BD!$B$2:B5713,BD!B5713)=1,MAX($F$1:F5712)+1,\"\")","v":""},null,{"$f":"IF(AND(BD!B5713=REF,BD!D5713>=DEB,BD!D5713<=FIN),MAX(calc!$H$1:H5712)+1,0)","v":0}]
[null,null,null,null,null,{"$f":"IF(COUNTIF(BD!$B$2:B5714,BD!B5714)=1,MAX($F$1:F5713)+1,\"\")","v":""},null,{"$f":"IF(AND(BD!B5714=REF,BD!D5714>=DEB,BD!D5714<=FIN),MAX(calc!$H$1:H5713)+1,0)","v":0}]
[null,null,null,null,null,{"$f":"IF(COUNTIF(BD!$B$2:B5715,BD!B5715)=1,MAX($F$1:F5714)+1,\"\")","v":""},null,{"$f":"IF(AND(BD!B5715=REF,BD!D5715>=DEB,BD!D5715<=FIN),MAX(calc!$H$1:H5714)+1,0)","v":0}]
[null,null,null,null,null,{"$f":"IF(COUNTIF(BD!$B$2:B5716,BD!B5716)=1,MAX($F$1:F5715)+1,\"\")","v":""},null,{"$f":"IF(AND(BD!B5716=REF,BD!D5716>=DEB,BD!D5716<=FIN),MAX(calc!$H$1:H5715)+1,0)","v":0}]
[null,null,null,null,null,{"$f":"IF(COUNTIF(BD!$B$2:B5717,BD!B5717)=1,MAX($F$1:F5716)+1,\"\")","v":""},null,{"$f":"IF(AND(BD!B5717=REF,BD!D5717>=DEB,BD!D5717<=FIN),MAX(calc!$H$1:H5716)+1,0)","v":0}]
[null,null,null,null,null,{"$f":"IF(COUNTIF(BD!$B$2:B5718,BD!B5718)=1,MAX($F$1:F5717)+1,\"\")","v":""},null,{"$f":"IF(AND(BD!B5718=REF,BD!D5718>=DEB,BD!D5718<=FIN),MAX(calc!$H$1:H5717)+1,0)","v":0}]
[null,null,null,null,null,{"$f":"IF(COUNTIF(BD!$B$2:B5719,BD!B5719)=1,MAX($F$1:F5718)+1,\"\")","v":""},null,{"$f":"IF(AND(BD!B5719=REF,BD!D5719>=DEB,BD!D5719<=FIN),MAX(calc!$H$1:H5718)+1,0)","v":0}]
[null,null,null,null,null,{"$f":"IF(COUNTIF(BD!$B$2:B5720,BD!B5720)=1,MAX($F$1:F5719)+1,\"\")","v":""},null,{"$f":"IF(AND(BD!B5720=REF,BD!D5720>=DEB,BD!D5720<=FIN),MAX(calc!$H$1:H5719)+1,0)","v":0}]
[null,null,null,null,null,{"$f":"IF(COUNTIF(BD!$B$2:B5721,BD!B5721)=1,MAX($F$1:F5720)+1,\"\")","v":""},null,{"$f":"IF(AND(BD!B5721=REF,BD!D5721>=DEB,BD!D5721<=FIN),MAX(calc!$H$1:H5720)+1,0)","v":0}]
[null,null,null,null,null,{"$f":"IF(COUNTIF(BD!$B$2:B5722,BD!B5722)=1,MAX($F$1:F5721)+1,\"\")","v":""},null,{"$f":"IF(AND(BD!B5722=REF,BD!D5722>=DEB,BD!D5722<=FIN),MAX(calc!$H$1:H5721)+1,0)","v":0}]
[null,null,null,null,null,{"$f":"IF(COUNTIF(BD!$B$2:B5723,BD!B5723)=1,MAX($F$1:F5722)+1,\"\")","v":""},null,{"$f":"IF(AND(BD!B5723=REF,BD!D5723>=DEB,BD!D5723<=FIN),MAX(calc!$H$1:H5722)+1,0)","v":0}]
[null,null,null,null,null,{"$f":"IF(COUNTIF(BD!$B$2:B5724,BD!B5724)=1,MAX($F$1:F5723)+1,\"\")","v":""},null,{"$f":"IF(AND(BD!B5724=REF,BD!D5724>=DEB,BD!D5724<=FIN),MAX(calc!$H$1:H5723)+1,0)","v":0}]
[null,null,null,null,null,{"$f":"IF(COUNTIF(BD!$B$2:B5725,BD!B5725)=1,MAX($F$1:F5724)+1,\"\")","v":""},null,{"$f":"IF(AND(BD!B5725=REF,BD!D5725>=DEB,BD!D5725<=FIN),MAX(calc!$H$1:H5724)+1,0)","v":0}]
[null,null,null,null,null,{"$f":"IF(COUNTIF(BD!$B$2:B5726,BD!B5726)=1,MAX($F$1:F5725)+1,\"\")","v":""},null,{"$f":"IF(AND(BD!B5726=REF,BD!D5726>=DEB,BD!D5726<=FIN),MAX(calc!$H$1:H5725)+1,0)","v":0}]
[null,null,null,null,null,{"$f":"IF(COUNTIF(BD!$B$2:B5727,BD!B5727)=1,MAX($F$1:F5726)+1,\"\")","v":""},null,{"$f":"IF(AND(BD!B5727=REF,BD!D5727>=DEB,BD!D5727<=FIN),MAX(calc!$H$1:H5726)+1,0)","v":0}]
[null,null,null,null,null,{"$f":"IF(COUNTIF(BD!$B$2:B5728,BD!B5728)=1,MAX($F$1:F5727)+1,\"\")","v":""},null,{"$f":"IF(AND(BD!B5728=REF,BD!D5728>=DEB,BD!D5728<=FIN),MAX(calc!$H$1:H5727)+1,0)","v":0}]
[null,null,null,null,null,{"$f":"IF(COUNTIF(BD!$B$2:B5729,BD!B5729)=1,MAX($F$1:F5728)+1,\"\")","v":""},null,{"$f":"IF(AND(BD!B5729=REF,BD!D5729>=DEB,BD!D5729<=FIN),MAX(calc!$H$1:H5728)+1,0)","v":0}]
[null,null,null,null,null,{"$f":"IF(COUNTIF(BD!$B$2:B5730,BD!B5730)=1,MAX($F$1:F5729)+1,\"\")","v":""},null,{"$f":"IF(AND(BD!B5730=REF,BD!D5730>=DEB,BD!D5730<=FIN),MAX(calc!$H$1:H5729)+1,0)","v":0}]
[null,null,null,null,null,{"$f":"IF(COUNTIF(BD!$B$2:B5731,BD!B5731)=1,MAX($F$1:F5730)+1,\"\")","v":""},null,{"$f":"IF(AND(BD!B5731=REF,BD!D5731>=DEB,BD!D5731<=FIN),MAX(calc!$H$1:H5730)+1,0)","v":0}]
[null,null,null,null,null,{"$f":"IF(COUNTIF(BD!$B$2:B5732,BD!B5732)=1,MAX($F$1:F5731)+1,\"\")","v":""},null,{"$f":"IF(AND(BD!B5732=REF,BD!D5732>=DEB,BD!D5732<=FIN),MAX(calc!$H$1:H5731)+1,0)","v":0}]
[null,null,null,null,null,{"$f":"IF(COUNTIF(BD!$B$2:B5733,BD!B5733)=1,MAX($F$1:F5732)+1,\"\")","v":""},null,{"$f":"IF(AND(BD!B5733=REF,BD!D5733>=DEB,BD!D5733<=FIN),MAX(calc!$H$1:H5732)+1,0)","v":0}]
[null,null,null,null,null,{"$f":"IF(COUNTIF(BD!$B$2:B5734,BD!B5734)=1,MAX($F$1:F5733)+1,\"\")","v":""},null,{"$f":"IF(AND(BD!B5734=REF,BD!D5734>=DEB,BD!D5734<=FIN),MAX(calc!$H$1:H5733)+1,0)","v":0}]
[null,null,null,null,null,{"$f":"IF(COUNTIF(BD!$B$2:B5735,BD!B5735)=1,MAX($F$1:F5734)+1,\"\")","v":""},null,{"$f":"IF(AND(BD!B5735=REF,BD!D5735>=DEB,BD!D5735<=FIN),MAX(calc!$H$1:H5734)+1,0)","v":0}]
[null,null,null,null,null,{"$f":"IF(COUNTIF(BD!$B$2:B5736,BD!B5736)=1,MAX($F$1:F5735)+1,\"\")","v":""},null,{"$f":"IF(AND(BD!B5736=REF,BD!D5736>=DEB,BD!D5736<=FIN),MAX(calc!$H$1:H5735)+1,0)","v":0}]
[null,null,null,null,null,{"$f":"IF(COUNTIF(BD!$B$2:B5737,BD!B5737)=1,MAX($F$1:F5736)+1,\"\")","v":""},null,{"$f":"IF(AND(BD!B5737=REF,BD!D5737>=DEB,BD!D5737<=FIN),MAX(calc!$H$1:H5736)+1,0)","v":0}]
[null,null,null,null,null,{"$f":"IF(COUNTIF(BD!$B$2:B5738,BD!B5738)=1,MAX($F$1:F5737)+1,\"\")","v":""},null,{"$f":"IF(AND(BD!B5738=REF,BD!D5738>=DEB,BD!D5738<=FIN),MAX(calc!$H$1:H5737)+1,0)","v":0}]
[null,null,null,null,null,{"$f":"IF(COUNTIF(BD!$B$2:B5739,BD!B5739)=1,MAX($F$1:F5738)+1,\"\")","v":""},null,{"$f":"IF(AND(BD!B5739=REF,BD!D5739>=DEB,BD!D5739<=FIN),MAX(calc!$H$1:H5738)+1,0)","v":0}]
[null,null,null,null,null,{"$f":"IF(COUNTIF(BD!$B$2:B5740,BD!B5740)=1,MAX($F$1:F5739)+1,\"\")","v":""},null,{"$f":"IF(AND(BD!B5740=REF,BD!D5740>=DEB,BD!D5740<=FIN),MAX(calc!$H$1:H5739)+1,0)","v":0}]
[null,null,null,null,null,{"$f":"IF(COUNTIF(BD!$B$2:B5741,BD!B5741)=1,MAX($F$1:F5740)+1,\"\")","v":""},null,{"$f":"IF(AND(BD!B5741=REF,BD!D5741>=DEB,BD!D5741<=FIN),MAX(calc!$H$1:H5740)+1,0)","v":0}]
[null,null,null,null,null,{"$f":"IF(COUNTIF(BD!$B$2:B5742,BD!B5742)=1,MAX($F$1:F5741)+1,\"\")","v":""},null,{"$f":"IF(AND(BD!B5742=REF,BD!D5742>=DEB,BD!D5742<=FIN),MAX(calc!$H$1:H5741)+1,0)","v":0}]
[null,null,null,null,null,{"$f":"IF(COUNTIF(BD!$B$2:B5743,BD!B5743)=1,MAX($F$1:F5742)+1,\"\")","v":""},null,{"$f":"IF(AND(BD!B5743=REF,BD!D5743>=DEB,BD!D5743<=FIN),MAX(calc!$H$1:H5742)+1,0)","v":0}]
[null,null,null,null,null,{"$f":"IF(COUNTIF(BD!$B$2:B5744,BD!B5744)=1,MAX($F$1:F5743)+1,\"\")","v":""},null,{"$f":"IF(AND(BD!B5744=REF,BD!D5744>=DEB,BD!D5744<=FIN),MAX(calc!$H$1:H5743)+1,0)","v":0}]
[null,null,null,null,null,{"$f":"IF(COUNTIF(BD!$B$2:B5745,BD!B5745)=1,MAX($F$1:F5744)+1,\"\")","v":""},null,{"$f":"IF(AND(BD!B5745=REF,BD!D5745>=DEB,BD!D5745<=FIN),MAX(calc!$H$1:H5744)+1,0)","v":0}]
[null,null,null,null,null,{"$f":"IF(COUNTIF(BD!$B$2:B5746,BD!B5746)=1,MAX($F$1:F5745)+1,\"\")","v":""},null,{"$f":"IF(AND(BD!B5746=REF,BD!D5746>=DEB,BD!D5746<=FIN),MAX(calc!$H$1:H5745)+1,0)","v":0}]
[null,null,null,null,null,{"$f":"IF(COUNTIF(BD!$B$2:B5747,BD!B5747)=1,MAX($F$1:F5746)+1,\"\")","v":""},null,{"$f":"IF(AND(BD!B5747=REF,BD!D5747>=DEB,BD!D5747<=FIN),MAX(calc!$H$1:H5746)+1,0)","v":0}]
[null,null,null,null,null,{"$f":"IF(COUNTIF(BD!$B$2:B5748,BD!B5748)=1,MAX($F$1:F5747)+1,\"\")","v":""},null,{"$f":"IF(AND(BD!B5748=REF,BD!D5748>=DEB,BD!D5748<=FIN),MAX(calc!$H$1:H5747)+1,0)","v":0}]
[null,null,null,null,null,{"$f":"IF(COUNTIF(BD!$B$2:B5749,BD!B5749)=1,MAX($F$1:F5748)+1,\"\")","v":""},null,{"$f":"IF(AND(BD!B5749=REF,BD!D5749>=DEB,BD!D5749<=FIN),MAX(calc!$H$1:H5748)+1,0)","v":0}]
[null,null,null,null,null,{"$f":"IF(COUNTIF(BD!$B$2:B5750,BD!B5750)=1,MAX($F$1:F5749)+1,\"\")","v":""},null,{"$f":"IF(AND(BD!B5750=REF,BD!D5750>=DEB,BD!D5750<=FIN),MAX(calc!$H$1:H5749)+1,0)","v":0}]
[null,null,null,null,null,{"$f":"IF(COUNTIF(BD!$B$2:B5751,BD!B5751)=1,MAX($F$1:F5750)+1,\"\")","v":""},null,{"$f":"IF(AND(BD!B5751=REF,BD!D5751>=DEB,BD!D5751<=FIN),MAX(calc!$H$1:H5750)+1,0)","v":0}]
[null,null,null,null,null,{"$f":"IF(COUNTIF(BD!$B$2:B5752,BD!B5752)=1,MAX($F$1:F5751)+1,\"\")","v":""},null,{"$f":"IF(AND(BD!B5752=REF,BD!D5752>=DEB,BD!D5752<=FIN),MAX(calc!$H$1:H5751)+1,0)","v":0}]
[null,null,null,null,null,{"$f":"IF(COUNTIF(BD!$B$2:B5753,BD!B5753)=1,MAX($F$1:F5752)+1,\"\")","v":""},null,{"$f":"IF(AND(BD!B5753=REF,BD!D5753>=DEB,BD!D5753<=FIN),MAX(calc!$H$1:H5752)+1,0)","v":0}]
[null,null,null,null,null,{"$f":"IF(COUNTIF(BD!$B$2:B5754,BD!B5754)=1,MAX($F$1:F5753)+1,\"\")","v":""},null,{"$f":"IF(AND(BD!B5754=REF,BD!D5754>=DEB,BD!D5754<=FIN),MAX(calc!$H$1:H5753)+1,0)","v":0}]
[null,null,null,null,null,{"$f":"IF(COUNTIF(BD!$B$2:B5755,BD!B5755)=1,MAX($F$1:F5754)+1,\"\")","v":""},null,{"$f":"IF(AND(BD!B5755=REF,BD!D5755>=DEB,BD!D5755<=FIN),MAX(calc!$H$1:H5754)+1,0)","v":0}]
[null,null,null,null,null,{"$f":"IF(COUNTIF(BD!$B$2:B5756,BD!B5756)=1,MAX($F$1:F5755)+1,\"\")","v":""},null,{"$f":"IF(AND(BD!B5756=REF,BD!D5756>=DEB,BD!D5756<=FIN),MAX(calc!$H$1:H5755)+1,0)","v":0}]
[null,null,null,null,null,{"$f":"IF(COUNTIF(BD!$B$2:B5757,BD!B5757)=1,MAX($F$1:F5756)+1,\"\")","v":""},null,{"$f":"IF(AND(BD!B5757=REF,BD!D5757>=DEB,BD!D5757<=FIN),MAX(calc!$H$1:H5756)+1,0)","v":0}]
[null,null,null,null,null,{"$f":"IF(COUNTIF(BD!$B$2:B5758,BD!B5758)=1,MAX($F$1:F5757)+1,\"\")","v":""},null,{"$f":"IF(AND(BD!B5758=REF,BD!D5758>=DEB,BD!D5758<=FIN),MAX(calc!$H$1:H5757)+1,0)","v":0}]
[null,null,null,null,null,{"$f":"IF(COUNTIF(BD!$B$2:B5759,BD!B5759)=1,MAX($F$1:F5758)+1,\"\")","v":""},null,{"$f":"IF(AND(BD!B5759=REF,BD!D5759>=DEB,BD!D5759<=FIN),MAX(calc!$H$1:H5758)+1,0)","v":0}]
[null,null,null,null,null,{"$f":"IF(COUNTIF(BD!$B$2:B5760,BD!B5760)=1,MAX($F$1:F5759)+1,\"\")","v":""},null,{"$f":"IF(AND(BD!B5760=REF,BD!D5760>=DEB,BD!D5760<=FIN),MAX(calc!$H$1:H5759)+1,0)","v":0}]
[null,null,null,null,null,{"$f":"IF(COUNTIF(BD!$B$2:B5761,BD!B5761)=1,MAX($F$1:F5760)+1,\"\")","v":""},null,{"$f":"IF(AND(BD!B5761=REF,BD!D5761>=DEB,BD!D5761<=FIN),MAX(calc!$H$1:H5760)+1,0)","v":0}]
[null,null,null,null,null,{"$f":"IF(COUNTIF(BD!$B$2:B5762,BD!B5762)=1,MAX($F$1:F5761)+1,\"\")","v":""},null,{"$f":"IF(AND(BD!B5762=REF,BD!D5762>=DEB,BD!D5762<=FIN),MAX(calc!$H$1:H5761)+1,0)","v":0}]
[null,null,null,null,null,{"$f":"IF(COUNTIF(BD!$B$2:B5763,BD!B5763)=1,MAX($F$1:F5762)+1,\"\")","v":""},null,{"$f":"IF(AND(BD!B5763=REF,BD!D5763>=DEB,BD!D5763<=FIN),MAX(calc!$H$1:H5762)+1,0)","v":0}]
[null,null,null,null,null,{"$f":"IF(COUNTIF(BD!$B$2:B5764,BD!B5764)=1,MAX($F$1:F5763)+1,\"\")","v":""},null,{"$f":"IF(AND(BD!B5764=REF,BD!D5764>=DEB,BD!D5764<=FIN),MAX(calc!$H$1:H5763)+1,0)","v":0}]
[null,null,null,null,null,{"$f":"IF(COUNTIF(BD!$B$2:B5765,BD!B5765)=1,MAX($F$1:F5764)+1,\"\")","v":""},null,{"$f":"IF(AND(BD!B5765=REF,BD!D5765>=DEB,BD!D5765<=FIN),MAX(calc!$H$1:H5764)+1,0)","v":0}]
[null,null,null,null,null,{"$f":"IF(COUNTIF(BD!$B$2:B5766,BD!B5766)=1,MAX($F$1:F5765)+1,\"\")","v":""},null,{"$f":"IF(AND(BD!B5766=REF,BD!D5766>=DEB,BD!D5766<=FIN),MAX(calc!$H$1:H5765)+1,0)","v":0}]
[null,null,null,null,null,{"$f":"IF(COUNTIF(BD!$B$2:B5767,BD!B5767)=1,MAX($F$1:F5766)+1,\"\")","v":""},null,{"$f":"IF(AND(BD!B5767=REF,BD!D5767>=DEB,BD!D5767<=FIN),MAX(calc!$H$1:H5766)+1,0)","v":0}]
[null,null,null,null,null,{"$f":"IF(COUNTIF(BD!$B$2:B5768,BD!B5768)=1,MAX($F$1:F5767)+1,\"\")","v":""},null,{"$f":"IF(AND(BD!B5768=REF,BD!D5768>=DEB,BD!D5768<=FIN),MAX(calc!$H$1:H5767)+1,0)","v":0}]
[null,null,null,null,null,{"$f":"IF(COUNTIF(BD!$B$2:B5769,BD!B5769)=1,MAX($F$1:F5768)+1,\"\")","v":""},null,{"$f":"IF(AND(BD!B5769=REF,BD!D5769>=DEB,BD!D5769<=FIN),MAX(calc!$H$1:H5768)+1,0)","v":0}]
[null,null,null,null,null,{"$f":"IF(COUNTIF(BD!$B$2:B5770,BD!B5770)=1,MAX($F$1:F5769)+1,\"\")","v":""},null,{"$f":"IF(AND(BD!B5770=REF,BD!D5770>=DEB,BD!D5770<=FIN),MAX(calc!$H$1:H5769)+1,0)","v":0}]
[null,null,null,null,null,{"$f":"IF(COUNTIF(BD!$B$2:B5771,BD!B5771)=1,MAX($F$1:F5770)+1,\"\")","v":""},null,{"$f":"IF(AND(BD!B5771=REF,BD!D5771>=DEB,BD!D5771<=FIN),MAX(calc!$H$1:H5770)+1,0)","v":0}]
[null,null,null,null,null,{"$f":"IF(COUNTIF(BD!$B$2:B5772,BD!B5772)=1,MAX($F$1:F5771)+1,\"\")","v":""},null,{"$f":"IF(AND(BD!B5772=REF,BD!D5772>=DEB,BD!D5772<=FIN),MAX(calc!$H$1:H5771)+1,0)","v":0}]
[null,null,null,null,null,{"$f":"IF(COUNTIF(BD!$B$2:B5773,BD!B5773)=1,MAX($F$1:F5772)+1,\"\")","v":""},null,{"$f":"IF(AND(BD!B5773=REF,BD!D5773>=DEB,BD!D5773<=FIN),MAX(calc!$H$1:H5772)+1,0)","v":0}]
[null,null,null,null,null,{"$f":"IF(COUNTIF(BD!$B$2:B5774,BD!B5774)=1,MAX($F$1:F5773)+1,\"\")","v":""},null,{"$f":"IF(AND(BD!B5774=REF,BD!D5774>=DEB,BD!D5774<=FIN),MAX(calc!$H$1:H5773)+1,0)","v":0}]
[null,null,null,null,null,{"$f":"IF(COUNTIF(BD!$B$2:B5775,BD!B5775)=1,MAX($F$1:F5774)+1,\"\")","v":""},null,{"$f":"IF(AND(BD!B5775=REF,BD!D5775>=DEB,BD!D5775<=FIN),MAX(calc!$H$1:H5774)+1,0)","v":0}]
[null,null,null,null,null,{"$f":"IF(COUNTIF(BD!$B$2:B5776,BD!B5776)=1,MAX($F$1:F5775)+1,\"\")","v":""},null,{"$f":"IF(AND(BD!B5776=REF,BD!D5776>=DEB,BD!D5776<=FIN),MAX(calc!$H$1:H5775)+1,0)","v":0}]
[null,null,null,null,null,{"$f":"IF(COUNTIF(BD!$B$2:B5777,BD!B5777)=1,MAX($F$1:F5776)+1,\"\")","v":""},null,{"$f":"IF(AND(BD!B5777=REF,BD!D5777>=DEB,BD!D5777<=FIN),MAX(calc!$H$1:H5776)+1,0)","v":0}]
[null,null,null,null,null,{"$f":"IF(COUNTIF(BD!$B$2:B5778,BD!B5778)=1,MAX($F$1:F5777)+1,\"\")","v":""},null,{"$f":"IF(AND(BD!B5778=REF,BD!D5778>=DEB,BD!D5778<=FIN),MAX(calc!$H$1:H5777)+1,0)","v":0}]
[null,null,null,null,null,{"$f":"IF(COUNTIF(BD!$B$2:B5779,BD!B5779)=1,MAX($F$1:F5778)+1,\"\")","v":""},null,{"$f":"IF(AND(BD!B5779=REF,BD!D5779>=DEB,BD!D5779<=FIN),MAX(calc!$H$1:H5778)+1,0)","v":0}]
[null,null,null,null,null,{"$f":"IF(COUNTIF(BD!$B$2:B5780,BD!B5780)=1,MAX($F$1:F5779)+1,\"\")","v":""},null,{"$f":"IF(AND(BD!B5780=REF,BD!D5780>=DEB,BD!D5780<=FIN),MAX(calc!$H$1:H5779)+1,0)","v":0}]
[null,null,null,null,null,{"$f":"IF(COUNTIF(BD!$B$2:B5781,BD!B5781)=1,MAX($F$1:F5780)+1,\"\")","v":""},null,{"$f":"IF(AND(BD!B5781=REF,BD!D5781>=DEB,BD!D5781<=FIN),MAX(calc!$H$1:H5780)+1,0)","v":0}]
[null,null,null,null,null,{"$f":"IF(COUNTIF(BD!$B$2:B5782,BD!B5782)=1,MAX($F$1:F5781)+1,\"\")","v":""},null,{"$f":"IF(AND(BD!B5782=REF,BD!D5782>=DEB,BD!D5782<=FIN),MAX(calc!$H$1:H5781)+1,0)","v":0}]
[null,null,null,null,null,{"$f":"IF(COUNTIF(BD!$B$2:B5783,BD!B5783)=1,MAX($F$1:F5782)+1,\"\")","v":""},null,{"$f":"IF(AND(BD!B5783=REF,BD!D5783>=DEB,BD!D5783<=FIN),MAX(calc!$H$1:H5782)+1,0)","v":0}]
[null,null,null,null,null,{"$f":"IF(COUNTIF(BD!$B$2:B5784,BD!B5784)=1,MAX($F$1:F5783)+1,\"\")","v":""},null,{"$f":"IF(AND(BD!B5784=REF,BD!D5784>=DEB,BD!D5784<=FIN),MAX(calc!$H$1:H5783)+1,0)","v":0}]
[null,null,null,null,null,{"$f":"IF(COUNTIF(BD!$B$2:B5785,BD!B5785)=1,MAX($F$1:F5784)+1,\"\")","v":""},null,{"$f":"IF(AND(BD!B5785=REF,BD!D5785>=DEB,BD!D5785<=FIN),MAX(calc!$H$1:H5784)+1,0)","v":0}]
[null,null,null,null,null,{"$f":"IF(COUNTIF(BD!$B$2:B5786,BD!B5786)=1,MAX($F$1:F5785)+1,\"\")","v":""},null,{"$f":"IF(AND(BD!B5786=REF,BD!D5786>=DEB,BD!D5786<=FIN),MAX(calc!$H$1:H5785)+1,0)","v":0}]
[null,null,null,null,null,{"$f":"IF(COUNTIF(BD!$B$2:B5787,BD!B5787)=1,MAX($F$1:F5786)+1,\"\")","v":""},null,{"$f":"IF(AND(BD!B5787=REF,BD!D5787>=DEB,BD!D5787<=FIN),MAX(calc!$H$1:H5786)+1,0)","v":0}]
[null,null,null,null,null,{"$f":"IF(COUNTIF(BD!$B$2:B5788,BD!B5788)=1,MAX($F$1:F5787)+1,\"\")","v":""},null,{"$f":"IF(AND(BD!B5788=REF,BD!D5788>=DEB,BD!D5788<=FIN),MAX(calc!$H$1:H5787)+1,0)","v":0}]
[null,null,null,null,null,{"$f":"IF(COUNTIF(BD!$B$2:B5789,BD!B5789)=1,MAX($F$1:F5788)+1,\"\")","v":""},null,{"$f":"IF(AND(BD!B5789=REF,BD!D5789>=DEB,BD!D5789<=FIN),MAX(calc!$H$1:H5788)+1,0)","v":0}]
[null,null,null,null,null,{"$f":"IF(COUNTIF(BD!$B$2:B5790,BD!B5790)=1,MAX($F$1:F5789)+1,\"\")","v":""},null,{"$f":"IF(AND(BD!B5790=REF,BD!D5790>=DEB,BD!D5790<=FIN),MAX(calc!$H$1:H5789)+1,0)","v":0}]
[null,null,null,null,null,{"$f":"IF(COUNTIF(BD!$B$2:B5791,BD!B5791)=1,MAX($F$1:F5790)+1,\"\")","v":""},null,{"$f":"IF(AND(BD!B5791=REF,BD!D5791>=DEB,BD!D5791<=FIN),MAX(calc!$H$1:H5790)+1,0)","v":0}]
[null,null,null,null,null,{"$f":"IF(COUNTIF(BD!$B$2:B5792,BD!B5792)=1,MAX($F$1:F5791)+1,\"\")","v":""},null,{"$f":"IF(AND(BD!B5792=REF,BD!D5792>=DEB,BD!D5792<=FIN),MAX(calc!$H$1:H5791)+1,0)","v":0}]
[null,null,null,null,null,{"$f":"IF(COUNTIF(BD!$B$2:B5793,BD!B5793)=1,MAX($F$1:F5792)+1,\"\")","v":""},null,{"$f":"IF(AND(BD!B5793=REF,BD!D5793>=DEB,BD!D5793<=FIN),MAX(calc!$H$1:H5792)+1,0)","v":0}]
[null,null,null,null,null,{"$f":"IF(COUNTIF(BD!$B$2:B5794,BD!B5794)=1,MAX($F$1:F5793)+1,\"\")","v":""},null,{"$f":"IF(AND(BD!B5794=REF,BD!D5794>=DEB,BD!D5794<=FIN),MAX(calc!$H$1:H5793)+1,0)","v":0}]
[null,null,null,null,null,{"$f":"IF(COUNTIF(BD!$B$2:B5795,BD!B5795)=1,MAX($F$1:F5794)+1,\"\")","v":""},null,{"$f":"IF(AND(BD!B5795=REF,BD!D5795>=DEB,BD!D5795<=FIN),MAX(calc!$H$1:H5794)+1,0)","v":0}]
[null,null,null,null,null,{"$f":"IF(COUNTIF(BD!$B$2:B5796,BD!B5796)=1,MAX($F$1:F5795)+1,\"\")","v":""},null,{"$f":"IF(AND(BD!B5796=REF,BD!D5796>=DEB,BD!D5796<=FIN),MAX(calc!$H$1:H5795)+1,0)","v":0}]
[null,null,null,null,null,{"$f":"IF(COUNTIF(BD!$B$2:B5797,BD!B5797)=1,MAX($F$1:F5796)+1,\"\")","v":""},null,{"$f":"IF(AND(BD!B5797=REF,BD!D5797>=DEB,BD!D5797<=FIN),MAX(calc!$H$1:H5796)+1,0)","v":0}]
[null,null,null,null,null,{"$f":"IF(COUNTIF(BD!$B$2:B5798,BD!B5798)=1,MAX($F$1:F5797)+1,\"\")","v":""},null,{"$f":"IF(AND(BD!B5798=REF,BD!D5798>=DEB,BD!D5798<=FIN),MAX(calc!$H$1:H5797)+1,0)","v":0}]
[null,null,null,null,null,{"$f":"IF(COUNTIF(BD!$B$2:B5799,BD!B5799)=1,MAX($F$1:F5798)+1,\"\")","v":""},null,{"$f":"IF(AND(BD!B5799=REF,BD!D5799>=DEB,BD!D5799<=FIN),MAX(calc!$H$1:H5798)+1,0)","v":0}]
[null,null,null,null,null,{"$f":"IF(COUNTIF(BD!$B$2:B5800,BD!B5800)=1,MAX($F$1:F5799)+1,\"\")","v":""},null,{"$f":"IF(AND(BD!B5800=REF,BD!D5800>=DEB,BD!D5800<=FIN),MAX(calc!$H$1:H5799)+1,0)","v":0}]
[null,null,null,null,null,{"$f":"IF(COUNTIF(BD!$B$2:B5801,BD!B5801)=1,MAX($F$1:F5800)+1,\"\")","v":""},null,{"$f":"IF(AND(BD!B5801=REF,BD!D5801>=DEB,BD!D5801<=FIN),MAX(calc!$H$1:H5800)+1,0)","v":0}]
[null,null,null,null,null,{"$f":"IF(COUNTIF(BD!$B$2:B5802,BD!B5802)=1,MAX($F$1:F5801)+1,\"\")","v":""},null,{"$f":"IF(AND(BD!B5802=REF,BD!D5802>=DEB,BD!D5802<=FIN),MAX(calc!$H$1:H5801)+1,0)","v":0}]
[null,null,null,null,null,{"$f":"IF(COUNTIF(BD!$B$2:B5803,BD!B5803)=1,MAX($F$1:F5802)+1,\"\")","v":""},null,{"$f":"IF(AND(BD!B5803=REF,BD!D5803>=DEB,BD!D5803<=FIN),MAX(calc!$H$1:H5802)+1,0)","v":0}]
[null,null,null,null,null,{"$f":"IF(COUNTIF(BD!$B$2:B5804,BD!B5804)=1,MAX($F$1:F5803)+1,\"\")","v":""},null,{"$f":"IF(AND(BD!B5804=REF,BD!D5804>=DEB,BD!D5804<=FIN),MAX(calc!$H$1:H5803)+1,0)","v":0}]
[null,null,null,null,null,{"$f":"IF(COUNTIF(BD!$B$2:B5805,BD!B5805)=1,MAX($F$1:F5804)+1,\"\")","v":""},null,{"$f":"IF(AND(BD!B5805=REF,BD!D5805>=DEB,BD!D5805<=FIN),MAX(calc!$H$1:H5804)+1,0)","v":0}]
[null,null,null,null,null,{"$f":"IF(COUNTIF(BD!$B$2:B5806,BD!B5806)=1,MAX($F$1:F5805)+1,\"\")","v":""},null,{"$f":"IF(AND(BD!B5806=REF,BD!D5806>=DEB,BD!D5806<=FIN),MAX(calc!$H$1:H5805)+1,0)","v":0}]
[null,null,null,null,null,{"$f":"IF(COUNTIF(BD!$B$2:B5807,BD!B5807)=1,MAX($F$1:F5806)+1,\"\")","v":""},null,{"$f":"IF(AND(BD!B5807=REF,BD!D5807>=DEB,BD!D5807<=FIN),MAX(calc!$H$1:H5806)+1,0)","v":0}]
[null,null,null,null,null,{"$f":"IF(COUNTIF(BD!$B$2:B5808,BD!B5808)=1,MAX($F$1:F5807)+1,\"\")","v":""},null,{"$f":"IF(AND(BD!B5808=REF,BD!D5808>=DEB,BD!D5808<=FIN),MAX(calc!$H$1:H5807)+1,0)","v":0}]
[null,null,null,null,null,{"$f":"IF(COUNTIF(BD!$B$2:B5809,BD!B5809)=1,MAX($F$1:F5808)+1,\"\")","v":""},null,{"$f":"IF(AND(BD!B5809=REF,BD!D5809>=DEB,BD!D5809<=FIN),MAX(calc!$H$1:H5808)+1,0)","v":0}]
[null,null,null,null,null,{"$f":"IF(COUNTIF(BD!$B$2:B5810,BD!B5810)=1,MAX($F$1:F5809)+1,\"\")","v":""},null,{"$f":"IF(AND(BD!B5810=REF,BD!D5810>=DEB,BD!D5810<=FIN),MAX(calc!$H$1:H5809)+1,0)","v":0}]
[null,null,null,null,null,{"$f":"IF(COUNTIF(BD!$B$2:B5811,BD!B5811)=1,MAX($F$1:F5810)+1,\"\")","v":""},null,{"$f":"IF(AND(BD!B5811=REF,BD!D5811>=DEB,BD!D5811<=FIN),MAX(calc!$H$1:H5810)+1,0)","v":0}]
[null,null,null,null,null,{"$f":"IF(COUNTIF(BD!$B$2:B5812,BD!B5812)=1,MAX($F$1:F5811)+1,\"\")","v":""},null,{"$f":"IF(AND(BD!B5812=REF,BD!D5812>=DEB,BD!D5812<=FIN),MAX(calc!$H$1:H5811)+1,0)","v":0}]
[null,null,null,null,null,{"$f":"IF(COUNTIF(BD!$B$2:B5813,BD!B5813)=1,MAX($F$1:F5812)+1,\"\")","v":""},null,{"$f":"IF(AND(BD!B5813=REF,BD!D5813>=DEB,BD!D5813<=FIN),MAX(calc!$H$1:H5812)+1,0)","v":0}]
[null,null,null,null,null,{"$f":"IF(COUNTIF(BD!$B$2:B5814,BD!B5814)=1,MAX($F$1:F5813)+1,\"\")","v":""},null,{"$f":"IF(AND(BD!B5814=REF,BD!D5814>=DEB,BD!D5814<=FIN),MAX(calc!$H$1:H5813)+1,0)","v":0}]
[null,null,null,null,null,{"$f":"IF(COUNTIF(BD!$B$2:B5815,BD!B5815)=1,MAX($F$1:F5814)+1,\"\")","v":""},null,{"$f":"IF(AND(BD!B5815=REF,BD!D5815>=DEB,BD!D5815<=FIN),MAX(calc!$H$1:H5814)+1,0)","v":0}]
[null,null,null,null,null,{"$f":"IF(COUNTIF(BD!$B$2:B5816,BD!B5816)=1,MAX($F$1:F5815)+1,\"\")","v":""},null,{"$f":"IF(AND(BD!B5816=REF,BD!D5816>=DEB,BD!D5816<=FIN),MAX(calc!$H$1:H5815)+1,0)","v":0}]
[null,null,null,null,null,{"$f":"IF(COUNTIF(BD!$B$2:B5817,BD!B5817)=1,MAX($F$1:F5816)+1,\"\")","v":""},null,{"$f":"IF(AND(BD!B5817=REF,BD!D5817>=DEB,BD!D5817<=FIN),MAX(calc!$H$1:H5816)+1,0)","v":0}]
[null,null,null,null,null,{"$f":"IF(COUNTIF(BD!$B$2:B5818,BD!B5818)=1,MAX($F$1:F5817)+1,\"\")","v":""},null,{"$f":"IF(AND(BD!B5818=REF,BD!D5818>=DEB,BD!D5818<=FIN),MAX(calc!$H$1:H5817)+1,0)","v":0}]
[null,null,null,null,null,{"$f":"IF(COUNTIF(BD!$B$2:B5819,BD!B5819)=1,MAX($F$1:F5818)+1,\"\")","v":""},null,{"$f":"IF(AND(BD!B5819=REF,BD!D5819>=DEB,BD!D5819<=FIN),MAX(calc!$H$1:H5818)+1,0)","v":0}]
[null,null,null,null,null,{"$f":"IF(COUNTIF(BD!$B$2:B5820,BD!B5820)=1,MAX($F$1:F5819)+1,\"\")","v":""},null,{"$f":"IF(AND(BD!B5820=REF,BD!D5820>=DEB,BD!D5820<=FIN),MAX(calc!$H$1:H5819)+1,0)","v":0}]
[null,null,null,null,null,{"$f":"IF(COUNTIF(BD!$B$2:B5821,BD!B5821)=1,MAX($F$1:F5820)+1,\"\")","v":""},null,{"$f":"IF(AND(BD!B5821=REF,BD!D5821>=DEB,BD!D5821<=FIN),MAX(calc!$H$1:H5820)+1,0)","v":0}]
[null,null,null,null,null,{"$f":"IF(COUNTIF(BD!$B$2:B5822,BD!B5822)=1,MAX($F$1:F5821)+1,\"\")","v":""},null,{"$f":"IF(AND(BD!B5822=REF,BD!D5822>=DEB,BD!D5822<=FIN),MAX(calc!$H$1:H5821)+1,0)","v":0}]
[null,null,null,null,null,{"$f":"IF(COUNTIF(BD!$B$2:B5823,BD!B5823)=1,MAX($F$1:F5822)+1,\"\")","v":""},null,{"$f":"IF(AND(BD!B5823=REF,BD!D5823>=DEB,BD!D5823<=FIN),MAX(calc!$H$1:H5822)+1,0)","v":0}]
[null,null,null,null,null,{"$f":"IF(COUNTIF(BD!$B$2:B5824,BD!B5824)=1,MAX($F$1:F5823)+1,\"\")","v":""},null,{"$f":"IF(AND(BD!B5824=REF,BD!D5824>=DEB,BD!D5824<=FIN),MAX(calc!$H$1:H5823)+1,0)","v":0}]
[null,null,null,null,null,{"$f":"IF(COUNTIF(BD!$B$2:B5825,BD!B5825)=1,MAX($F$1:F5824)+1,\"\")","v":""},null,{"$f":"IF(AND(BD!B5825=REF,BD!D5825>=DEB,BD!D5825<=FIN),MAX(calc!$H$1:H5824)+1,0)","v":0}]
[null,null,null,null,null,{"$f":"IF(COUNTIF(BD!$B$2:B5826,BD!B5826)=1,MAX($F$1:F5825)+1,\"\")","v":""},null,{"$f":"IF(AND(BD!B5826=REF,BD!D5826>=DEB,BD!D5826<=FIN),MAX(calc!$H$1:H5825)+1,0)","v":0}]
[null,null,null,null,null,{"$f":"IF(COUNTIF(BD!$B$2:B5827,BD!B5827)=1,MAX($F$1:F5826)+1,\"\")","v":""},null,{"$f":"IF(AND(BD!B5827=REF,BD!D5827>=DEB,BD!D5827<=FIN),MAX(calc!$H$1:H5826)+1,0)","v":0}]
[null,null,null,null,null,{"$f":"IF(COUNTIF(BD!$B$2:B5828,BD!B5828)=1,MAX($F$1:F5827)+1,\"\")","v":""},null,{"$f":"IF(AND(BD!B5828=REF,BD!D5828>=DEB,BD!D5828<=FIN),MAX(calc!$H$1:H5827)+1,0)","v":0}]
[null,null,null,null,null,{"$f":"IF(COUNTIF(BD!$B$2:B5829,BD!B5829)=1,MAX($F$1:F5828)+1,\"\")","v":""},null,{"$f":"IF(AND(BD!B5829=REF,BD!D5829>=DEB,BD!D5829<=FIN),MAX(calc!$H$1:H5828)+1,0)","v":0}]
[null,null,null,null,null,{"$f":"IF(COUNTIF(BD!$B$2:B5830,BD!B5830)=1,MAX($F$1:F5829)+1,\"\")","v":""},null,{"$f":"IF(AND(BD!B5830=REF,BD!D5830>=DEB,BD!D5830<=FIN),MAX(calc!$H$1:H5829)+1,0)","v":0}]
[null,null,null,null,null,{"$f":"IF(COUNTIF(BD!$B$2:B5831,BD!B5831)=1,MAX($F$1:F5830)+1,\"\")","v":""},null,{"$f":"IF(AND(BD!B5831=REF,BD!D5831>=DEB,BD!D5831<=FIN),MAX(calc!$H$1:H5830)+1,0)","v":0}]
[null,null,null,null,null,{"$f":"IF(COUNTIF(BD!$B$2:B5832,BD!B5832)=1,MAX($F$1:F5831)+1,\"\")","v":""},null,{"$f":"IF(AND(BD!B5832=REF,BD!D5832>=DEB,BD!D5832<=FIN),MAX(calc!$H$1:H5831)+1,0)","v":0}]
[null,null,null,null,null,{"$f":"IF(COUNTIF(BD!$B$2:B5833,BD!B5833)=1,MAX($F$1:F5832)+1,\"\")","v":""},null,{"$f":"IF(AND(BD!B5833=REF,BD!D5833>=DEB,BD!D5833<=FIN),MAX(calc!$H$1:H5832)+1,0)","v":0}]
[null,null,null,null,null,{"$f":"IF(COUNTIF(BD!$B$2:B5834,BD!B5834)=1,MAX($F$1:F5833)+1,\"\")","v":""},null,{"$f":"IF(AND(BD!B5834=REF,BD!D5834>=DEB,BD!D5834<=FIN),MAX(calc!$H$1:H5833)+1,0)","v":0}]
[null,null,null,null,null,{"$f":"IF(COUNTIF(BD!$B$2:B5835,BD!B5835)=1,MAX($F$1:F5834)+1,\"\")","v":""},null,{"$f":"IF(AND(BD!B5835=REF,BD!D5835>=DEB,BD!D5835<=FIN),MAX(calc!$H$1:H5834)+1,0)","v":0}]
[null,null,null,null,null,{"$f":"IF(COUNTIF(BD!$B$2:B5836,BD!B5836)=1,MAX($F$1:F5835)+1,\"\")","v":""},null,{"$f":"IF(AND(BD!B5836=REF,BD!D5836>=DEB,BD!D5836<=FIN),MAX(calc!$H$1:H5835)+1,0)","v":0}]
[null,null,null,null,null,{"$f":"IF(COUNTIF(BD!$B$2:B5837,BD!B5837)=1,MAX($F$1:F5836)+1,\"\")","v":""},null,{"$f":"IF(AND(BD!B5837=REF,BD!D5837>=DEB,BD!D5837<=FIN),MAX(calc!$H$1:H5836)+1,0)","v":0}]
[null,null,null,null,null,{"$f":"IF(COUNTIF(BD!$B$2:B5838,BD!B5838)=1,MAX($F$1:F5837)+1,\"\")","v":""},null,{"$f":"IF(AND(BD!B5838=REF,BD!D5838>=DEB,BD!D5838<=FIN),MAX(calc!$H$1:H5837)+1,0)","v":0}]
[null,null,null,null,null,{"$f":"IF(COUNTIF(BD!$B$2:B5839,BD!B5839)=1,MAX($F$1:F5838)+1,\"\")","v":""},null,{"$f":"IF(AND(BD!B5839=REF,BD!D5839>=DEB,BD!D5839<=FIN),MAX(calc!$H$1:H5838)+1,0)","v":0}]
[null,null,null,null,null,{"$f":"IF(COUNTIF(BD!$B$2:B5840,BD!B5840)=1,MAX($F$1:F5839)+1,\"\")","v":""},null,{"$f":"IF(AND(BD!B5840=REF,BD!D5840>=DEB,BD!D5840<=FIN),MAX(calc!$H$1:H5839)+1,0)","v":0}]
[null,null,null,null,null,{"$f":"IF(COUNTIF(BD!$B$2:B5841,BD!B5841)=1,MAX($F$1:F5840)+1,\"\")","v":""},null,{"$f":"IF(AND(BD!B5841=REF,BD!D5841>=DEB,BD!D5841<=FIN),MAX(calc!$H$1:H5840)+1,0)","v":0}]
[null,null,null,null,null,{"$f":"IF(COUNTIF(BD!$B$2:B5842,BD!B5842)=1,MAX($F$1:F5841)+1,\"\")","v":""},null,{"$f":"IF(AND(BD!B5842=REF,BD!D5842>=DEB,BD!D5842<=FIN),MAX(calc!$H$1:H5841)+1,0)","v":0}]
[null,null,null,null,null,{"$f":"IF(COUNTIF(BD!$B$2:B5843,BD!B5843)=1,MAX($F$1:F5842)+1,\"\")","v":""},null,{"$f":"IF(AND(BD!B5843=REF,BD!D5843>=DEB,BD!D5843<=FIN),MAX(calc!$H$1:H5842)+1,0)","v":0}]
[null,null,null,null,null,{"$f":"IF(COUNTIF(BD!$B$2:B5844,BD!B5844)=1,MAX($F$1:F5843)+1,\"\")","v":""},null,{"$f":"IF(AND(BD!B5844=REF,BD!D5844>=DEB,BD!D5844<=FIN),MAX(calc!$H$1:H5843)+1,0)","v":0}]
[null,null,null,null,null,{"$f":"IF(COUNTIF(BD!$B$2:B5845,BD!B5845)=1,MAX($F$1:F5844)+1,\"\")","v":""},null,{"$f":"IF(AND(BD!B5845=REF,BD!D5845>=DEB,BD!D5845<=FIN),MAX(calc!$H$1:H5844)+1,0)","v":0}]
[null,null,null,null,null,{"$f":"IF(COUNTIF(BD!$B$2:B5846,BD!B5846)=1,MAX($F$1:F5845)+1,\"\")","v":""},null,{"$f":"IF(AND(BD!B5846=REF,BD!D5846>=DEB,BD!D5846<=FIN),MAX(calc!$H$1:H5845)+1,0)","v":0}]
[null,null,null,null,null,{"$f":"IF(COUNTIF(BD!$B$2:B5847,BD!B5847)=1,MAX($F$1:F5846)+1,\"\")","v":""},null,{"$f":"IF(AND(BD!B5847=REF,BD!D5847>=DEB,BD!D5847<=FIN),MAX(calc!$H$1:H5846)+1,0)","v":0}]
[null,null,null,null,null,{"$f":"IF(COUNTIF(BD!$B$2:B5848,BD!B5848)=1,MAX($F$1:F5847)+1,\"\")","v":""},null,{"$f":"IF(AND(BD!B5848=REF,BD!D5848>=DEB,BD!D5848<=FIN),MAX(calc!$H$1:H5847)+1,0)","v":0}]
[null,null,null,null,null,{"$f":"IF(COUNTIF(BD!$B$2:B5849,BD!B5849)=1,MAX($F$1:F5848)+1,\"\")","v":""},null,{"$f":"IF(AND(BD!B5849=REF,BD!D5849>=DEB,BD!D5849<=FIN),MAX(calc!$H$1:H5848)+1,0)","v":0}]
[null,null,null,null,null,{"$f":"IF(COUNTIF(BD!$B$2:B5850,BD!B5850)=1,MAX($F$1:F5849)+1,\"\")","v":""},null,{"$f":"IF(AND(BD!B5850=REF,BD!D5850>=DEB,BD!D5850<=FIN),MAX(calc!$H$1:H5849)+1,0)","v":0}]
[null,null,null,null,null,{"$f":"IF(COUNTIF(BD!$B$2:B5851,BD!B5851)=1,MAX($F$1:F5850)+1,\"\")","v":""},null,{"$f":"IF(AND(BD!B5851=REF,BD!D5851>=DEB,BD!D5851<=FIN),MAX(calc!$H$1:H5850)+1,0)","v":0}]
[null,null,null,null,null,{"$f":"IF(COUNTIF(BD!$B$2:B5852,BD!B5852)=1,MAX($F$1:F5851)+1,\"\")","v":""},null,{"$f":"IF(AND(BD!B5852=REF,BD!D5852>=DEB,BD!D5852<=FIN),MAX(calc!$H$1:H5851)+1,0)","v":0}]
[null,null,null,null,null,{"$f":"IF(COUNTIF(BD!$B$2:B5853,BD!B5853)=1,MAX($F$1:F5852)+1,\"\")","v":""},null,{"$f":"IF(AND(BD!B5853=REF,BD!D5853>=DEB,BD!D5853<=FIN),MAX(calc!$H$1:H5852)+1,0)","v":0}]
[null,null,null,null,null,{"$f":"IF(COUNTIF(BD!$B$2:B5854,BD!B5854)=1,MAX($F$1:F5853)+1,\"\")","v":""},null,{"$f":"IF(AND(BD!B5854=REF,BD!D5854>=DEB,BD!D5854<=FIN),MAX(calc!$H$1:H5853)+1,0)","v":0}]
[null,null,null,null,null,{"$f":"IF(COUNTIF(BD!$B$2:B5855,BD!B5855)=1,MAX($F$1:F5854)+1,\"\")","v":""},null,{"$f":"IF(AND(BD!B5855=REF,BD!D5855>=DEB,BD!D5855<=FIN),MAX(calc!$H$1:H5854)+1,0)","v":0}]
[null,null,null,null,null,{"$f":"IF(COUNTIF(BD!$B$2:B5856,BD!B5856)=1,MAX($F$1:F5855)+1,\"\")","v":""},null,{"$f":"IF(AND(BD!B5856=REF,BD!D5856>=DEB,BD!D5856<=FIN),MAX(calc!$H$1:H5855)+1,0)","v":0}]
[null,null,null,null,null,{"$f":"IF(COUNTIF(BD!$B$2:B5857,BD!B5857)=1,MAX($F$1:F5856)+1,\"\")","v":""},null,{"$f":"IF(AND(BD!B5857=REF,BD!D5857>=DEB,BD!D5857<=FIN),MAX(calc!$H$1:H5856)+1,0)","v":0}]
[null,null,null,null,null,{"$f":"IF(COUNTIF(BD!$B$2:B5858,BD!B5858)=1,MAX($F$1:F5857)+1,\"\")","v":""},null,{"$f":"IF(AND(BD!B5858=REF,BD!D5858>=DEB,BD!D5858<=FIN),MAX(calc!$H$1:H5857)+1,0)","v":0}]
[null,null,null,null,null,{"$f":"IF(COUNTIF(BD!$B$2:B5859,BD!B5859)=1,MAX($F$1:F5858)+1,\"\")","v":""},null,{"$f":"IF(AND(BD!B5859=REF,BD!D5859>=DEB,BD!D5859<=FIN),MAX(calc!$H$1:H5858)+1,0)","v":0}]
[null,null,null,null,null,{"$f":"IF(COUNTIF(BD!$B$2:B5860,BD!B5860)=1,MAX($F$1:F5859)+1,\"\")","v":""},null,{"$f":"IF(AND(BD!B5860=REF,BD!D5860>=DEB,BD!D5860<=FIN),MAX(calc!$H$1:H5859)+1,0)","v":0}]
[null,null,null,null,null,{"$f":"IF(COUNTIF(BD!$B$2:B5861,BD!B5861)=1,MAX($F$1:F5860)+1,\"\")","v":""},null,{"$f":"IF(AND(BD!B5861=REF,BD!D5861>=DEB,BD!D5861<=FIN),MAX(calc!$H$1:H5860)+1,0)","v":0}]
[null,null,null,null,null,{"$f":"IF(COUNTIF(BD!$B$2:B5862,BD!B5862)=1,MAX($F$1:F5861)+1,\"\")","v":""},null,{"$f":"IF(AND(BD!B5862=REF,BD!D5862>=DEB,BD!D5862<=FIN),MAX(calc!$H$1:H5861)+1,0)","v":0}]
[null,null,null,null,null,{"$f":"IF(COUNTIF(BD!$B$2:B5863,BD!B5863)=1,MAX($F$1:F5862)+1,\"\")","v":""},null,{"$f":"IF(AND(BD!B5863=REF,BD!D5863>=DEB,BD!D5863<=FIN),MAX(calc!$H$1:H5862)+1,0)","v":0}]
[null,null,null,null,null,{"$f":"IF(COUNTIF(BD!$B$2:B5864,BD!B5864)=1,MAX($F$1:F5863)+1,\"\")","v":""},null,{"$f":"IF(AND(BD!B5864=REF,BD!D5864>=DEB,BD!D5864<=FIN),MAX(calc!$H$1:H5863)+1,0)","v":0}]
[null,null,null,null,null,{"$f":"IF(COUNTIF(BD!$B$2:B5865,BD!B5865)=1,MAX($F$1:F5864)+1,\"\")","v":""},null,{"$f":"IF(AND(BD!B5865=REF,BD!D5865>=DEB,BD!D5865<=FIN),MAX(calc!$H$1:H5864)+1,0)","v":0}]
[null,null,null,null,null,{"$f":"IF(COUNTIF(BD!$B$2:B5866,BD!B5866)=1,MAX($F$1:F5865)+1,\"\")","v":""},null,{"$f":"IF(AND(BD!B5866=REF,BD!D5866>=DEB,BD!D5866<=FIN),MAX(calc!$H$1:H5865)+1,0)","v":0}]
[null,null,null,null,null,{"$f":"IF(COUNTIF(BD!$B$2:B5867,BD!B5867)=1,MAX($F$1:F5866)+1,\"\")","v":""},null,{"$f":"IF(AND(BD!B5867=REF,BD!D5867>=DEB,BD!D5867<=FIN),MAX(calc!$H$1:H5866)+1,0)","v":0}]
[null,null,null,null,null,{"$f":"IF(COUNTIF(BD!$B$2:B5868,BD!B5868)=1,MAX($F$1:F5867)+1,\"\")","v":""},null,{"$f":"IF(AND(BD!B5868=REF,BD!D5868>=DEB,BD!D5868<=FIN),MAX(calc!$H$1:H5867)+1,0)","v":0}]
[null,null,null,null,null,{"$f":"IF(COUNTIF(BD!$B$2:B5869,BD!B5869)=1,MAX($F$1:F5868)+1,\"\")","v":""},null,{"$f":"IF(AND(BD!B5869=REF,BD!D5869>=DEB,BD!D5869<=FIN),MAX(calc!$H$1:H5868)+1,0)","v":0}]
[null,null,null,null,null,{"$f":"IF(COUNTIF(BD!$B$2:B5870,BD!B5870)=1,MAX($F$1:F5869)+1,\"\")","v":""},null,{"$f":"IF(AND(BD!B5870=REF,BD!D5870>=DEB,BD!D5870<=FIN),MAX(calc!$H$1:H5869)+1,0)","v":0}]
[null,null,null,null,null,{"$f":"IF(COUNTIF(BD!$B$2:B5871,BD!B5871)=1,MAX($F$1:F5870)+1,\"\")","v":""},null,{"$f":"IF(AND(BD!B5871=REF,BD!D5871>=DEB,BD!D5871<=FIN),MAX(calc!$H$1:H5870)+1,0)","v":0}]
[null,null,null,null,null,{"$f":"IF(COUNTIF(BD!$B$2:B5872,BD!B5872)=1,MAX($F$1:F5871)+1,\"\")","v":""},null,{"$f":"IF(AND(BD!B5872=REF,BD!D5872>=DEB,BD!D5872<=FIN),MAX(calc!$H$1:H5871)+1,0)","v":0}]
[null,null,null,null,null,{"$f":"IF(COUNTIF(BD!$B$2:B5873,BD!B5873)=1,MAX($F$1:F5872)+1,\"\")","v":""},null,{"$f":"IF(AND(BD!B5873=REF,BD!D5873>=DEB,BD!D5873<=FIN),MAX(calc!$H$1:H5872)+1,0)","v":0}]
[null,null,null,null,null,{"$f":"IF(COUNTIF(BD!$B$2:B5874,BD!B5874)=1,MAX($F$1:F5873)+1,\"\")","v":""},null,{"$f":"IF(AND(BD!B5874=REF,BD!D5874>=DEB,BD!D5874<=FIN),MAX(calc!$H$1:H5873)+1,0)","v":0}]
[null,null,null,null,null,{"$f":"IF(COUNTIF(BD!$B$2:B5875,BD!B5875)=1,MAX($F$1:F5874)+1,\"\")","v":""},null,{"$f":"IF(AND(BD!B5875=REF,BD!D5875>=DEB,BD!D5875<=FIN),MAX(calc!$H$1:H5874)+1,0)","v":0}]
[null,null,null,null,null,{"$f":"IF(COUNTIF(BD!$B$2:B5876,BD!B5876)=1,MAX($F$1:F5875)+1,\"\")","v":""},null,{"$f":"IF(AND(BD!B5876=REF,BD!D5876>=DEB,BD!D5876<=FIN),MAX(calc!$H$1:H5875)+1,0)","v":0}]
[null,null,null,null,null,{"$f":"IF(COUNTIF(BD!$B$2:B5877,BD!B5877)=1,MAX($F$1:F5876)+1,\"\")","v":""},null,{"$f":"IF(AND(BD!B5877=REF,BD!D5877>=DEB,BD!D5877<=FIN),MAX(calc!$H$1:H5876)+1,0)","v":0}]
[null,null,null,null,null,{"$f":"IF(COUNTIF(BD!$B$2:B5878,BD!B5878)=1,MAX($F$1:F5877)+1,\"\")","v":""},null,{"$f":"IF(AND(BD!B5878=REF,BD!D5878>=DEB,BD!D5878<=FIN),MAX(calc!$H$1:H5877)+1,0)","v":0}]
[null,null,null,null,null,{"$f":"IF(COUNTIF(BD!$B$2:B5879,BD!B5879)=1,MAX($F$1:F5878)+1,\"\")","v":""},null,{"$f":"IF(AND(BD!B5879=REF,BD!D5879>=DEB,BD!D5879<=FIN),MAX(calc!$H$1:H5878)+1,0)","v":0}]
[null,null,null,null,null,{"$f":"IF(COUNTIF(BD!$B$2:B5880,BD!B5880)=1,MAX($F$1:F5879)+1,\"\")","v":""},null,{"$f":"IF(AND(BD!B5880=REF,BD!D5880>=DEB,BD!D5880<=FIN),MAX(calc!$H$1:H5879)+1,0)","v":0}]
[null,null,null,null,null,{"$f":"IF(COUNTIF(BD!$B$2:B5881,BD!B5881)=1,MAX($F$1:F5880)+1,\"\")","v":""},null,{"$f":"IF(AND(BD!B5881=REF,BD!D5881>=DEB,BD!D5881<=FIN),MAX(calc!$H$1:H5880)+1,0)","v":0}]
[null,null,null,null,null,{"$f":"IF(COUNTIF(BD!$B$2:B5882,BD!B5882)=1,MAX($F$1:F5881)+1,\"\")","v":""},null,{"$f":"IF(AND(BD!B5882=REF,BD!D5882>=DEB,BD!D5882<=FIN),MAX(calc!$H$1:H5881)+1,0)","v":0}]
[null,null,null,null,null,{"$f":"IF(COUNTIF(BD!$B$2:B5883,BD!B5883)=1,MAX($F$1:F5882)+1,\"\")","v":""},null,{"$f":"IF(AND(BD!B5883=REF,BD!D5883>=DEB,BD!D5883<=FIN),MAX(calc!$H$1:H5882)+1,0)","v":0}]
[null,null,null,null,null,{"$f":"IF(COUNTIF(BD!$B$2:B5884,BD!B5884)=1,MAX($F$1:F5883)+1,\"\")","v":""},null,{"$f":"IF(AND(BD!B5884=REF,BD!D5884>=DEB,BD!D5884<=FIN),MAX(calc!$H$1:H5883)+1,0)","v":0}]
[null,null,null,null,null,{"$f":"IF(COUNTIF(BD!$B$2:B5885,BD!B5885)=1,MAX($F$1:F5884)+1,\"\")","v":""},null,{"$f":"IF(AND(BD!B5885=REF,BD!D5885>=DEB,BD!D5885<=FIN),MAX(calc!$H$1:H5884)+1,0)","v":0}]
[null,null,null,null,null,{"$f":"IF(COUNTIF(BD!$B$2:B5886,BD!B5886)=1,MAX($F$1:F5885)+1,\"\")","v":""},null,{"$f":"IF(AND(BD!B5886=REF,BD!D5886>=DEB,BD!D5886<=FIN),MAX(calc!$H$1:H5885)+1,0)","v":0}]
[null,null,null,null,null,{"$f":"IF(COUNTIF(BD!$B$2:B5887,BD!B5887)=1,MAX($F$1:F5886)+1,\"\")","v":""},null,{"$f":"IF(AND(BD!B5887=REF,BD!D5887>=DEB,BD!D5887<=FIN),MAX(calc!$H$1:H5886)+1,0)","v":0}]
[null,null,null,null,null,{"$f":"IF(COUNTIF(BD!$B$2:B5888,BD!B5888)=1,MAX($F$1:F5887)+1,\"\")","v":""},null,{"$f":"IF(AND(BD!B5888=REF,BD!D5888>=DEB,BD!D5888<=FIN),MAX(calc!$H$1:H5887)+1,0)","v":0}]
[null,null,null,null,null,{"$f":"IF(COUNTIF(BD!$B$2:B5889,BD!B5889)=1,MAX($F$1:F5888)+1,\"\")","v":""},null,{"$f":"IF(AND(BD!B5889=REF,BD!D5889>=DEB,BD!D5889<=FIN),MAX(calc!$H$1:H5888)+1,0)","v":0}]
[null,null,null,null,null,{"$f":"IF(COUNTIF(BD!$B$2:B5890,BD!B5890)=1,MAX($F$1:F5889)+1,\"\")","v":""},null,{"$f":"IF(AND(BD!B5890=REF,BD!D5890>=DEB,BD!D5890<=FIN),MAX(calc!$H$1:H5889)+1,0)","v":0}]
[null,null,null,null,null,{"$f":"IF(COUNTIF(BD!$B$2:B5891,BD!B5891)=1,MAX($F$1:F5890)+1,\"\")","v":""},null,{"$f":"IF(AND(BD!B5891=REF,BD!D5891>=DEB,BD!D5891<=FIN),MAX(calc!$H$1:H5890)+1,0)","v":0}]
[null,null,null,null,null,{"$f":"IF(COUNTIF(BD!$B$2:B5892,BD!B5892)=1,MAX($F$1:F5891)+1,\"\")","v":""},null,{"$f":"IF(AND(BD!B5892=REF,BD!D5892>=DEB,BD!D5892<=FIN),MAX(calc!$H$1:H5891)+1,0)","v":0}]
[null,null,null,null,null,{"$f":"IF(COUNTIF(BD!$B$2:B5893,BD!B5893)=1,MAX($F$1:F5892)+1,\"\")","v":""},null,{"$f":"IF(AND(BD!B5893=REF,BD!D5893>=DEB,BD!D5893<=FIN),MAX(calc!$H$1:H5892)+1,0)","v":0}]
[null,null,null,null,null,{"$f":"IF(COUNTIF(BD!$B$2:B5894,BD!B5894)=1,MAX($F$1:F5893)+1,\"\")","v":""},null,{"$f":"IF(AND(BD!B5894=REF,BD!D5894>=DEB,BD!D5894<=FIN),MAX(calc!$H$1:H5893)+1,0)","v":0}]
[null,null,null,null,null,{"$f":"IF(COUNTIF(BD!$B$2:B5895,BD!B5895)=1,MAX($F$1:F5894)+1,\"\")","v":""},null,{"$f":"IF(AND(BD!B5895=REF,BD!D5895>=DEB,BD!D5895<=FIN),MAX(calc!$H$1:H5894)+1,0)","v":0}]
[null,null,null,null,null,{"$f":"IF(COUNTIF(BD!$B$2:B5896,BD!B5896)=1,MAX($F$1:F5895)+1,\"\")","v":""},null,{"$f":"IF(AND(BD!B5896=REF,BD!D5896>=DEB,BD!D5896<=FIN),MAX(calc!$H$1:H5895)+1,0)","v":0}]
[null,null,null,null,null,{"$f":"IF(COUNTIF(BD!$B$2:B5897,BD!B5897)=1,MAX($F$1:F5896)+1,\"\")","v":""},null,{"$f":"IF(AND(BD!B5897=REF,BD!D5897>=DEB,BD!D5897<=FIN),MAX(calc!$H$1:H5896)+1,0)","v":0}]
[null,null,null,null,null,{"$f":"IF(COUNTIF(BD!$B$2:B5898,BD!B5898)=1,MAX($F$1:F5897)+1,\"\")","v":""},null,{"$f":"IF(AND(BD!B5898=REF,BD!D5898>=DEB,BD!D5898<=FIN),MAX(calc!$H$1:H5897)+1,0)","v":0}]
[null,null,null,null,null,{"$f":"IF(COUNTIF(BD!$B$2:B5899,BD!B5899)=1,MAX($F$1:F5898)+1,\"\")","v":""},null,{"$f":"IF(AND(BD!B5899=REF,BD!D5899>=DEB,BD!D5899<=FIN),MAX(calc!$H$1:H5898)+1,0)","v":0}]
[null,null,null,null,null,{"$f":"IF(COUNTIF(BD!$B$2:B5900,BD!B5900)=1,MAX($F$1:F5899)+1,\"\")","v":""},null,{"$f":"IF(AND(BD!B5900=REF,BD!D5900>=DEB,BD!D5900<=FIN),MAX(calc!$H$1:H5899)+1,0)","v":0}]
[null,null,null,null,null,{"$f":"IF(COUNTIF(BD!$B$2:B5901,BD!B5901)=1,MAX($F$1:F5900)+1,\"\")","v":""},null,{"$f":"IF(AND(BD!B5901=REF,BD!D5901>=DEB,BD!D5901<=FIN),MAX(calc!$H$1:H5900)+1,0)","v":0}]
[null,null,null,null,null,{"$f":"IF(COUNTIF(BD!$B$2:B5902,BD!B5902)=1,MAX($F$1:F5901)+1,\"\")","v":""},null,{"$f":"IF(AND(BD!B5902=REF,BD!D5902>=DEB,BD!D5902<=FIN),MAX(calc!$H$1:H5901)+1,0)","v":0}]
[null,null,null,null,null,{"$f":"IF(COUNTIF(BD!$B$2:B5903,BD!B5903)=1,MAX($F$1:F5902)+1,\"\")","v":""},null,{"$f":"IF(AND(BD!B5903=REF,BD!D5903>=DEB,BD!D5903<=FIN),MAX(calc!$H$1:H5902)+1,0)","v":0}]
[null,null,null,null,null,{"$f":"IF(COUNTIF(BD!$B$2:B5904,BD!B5904)=1,MAX($F$1:F5903)+1,\"\")","v":""},null,{"$f":"IF(AND(BD!B5904=REF,BD!D5904>=DEB,BD!D5904<=FIN),MAX(calc!$H$1:H5903)+1,0)","v":0}]
[null,null,null,null,null,{"$f":"IF(COUNTIF(BD!$B$2:B5905,BD!B5905)=1,MAX($F$1:F5904)+1,\"\")","v":""},null,{"$f":"IF(AND(BD!B5905=REF,BD!D5905>=DEB,BD!D5905<=FIN),MAX(calc!$H$1:H5904)+1,0)","v":0}]
[null,null,null,null,null,{"$f":"IF(COUNTIF(BD!$B$2:B5906,BD!B5906)=1,MAX($F$1:F5905)+1,\"\")","v":""},null,{"$f":"IF(AND(BD!B5906=REF,BD!D5906>=DEB,BD!D5906<=FIN),MAX(calc!$H$1:H5905)+1,0)","v":0}]
[null,null,null,null,null,{"$f":"IF(COUNTIF(BD!$B$2:B5907,BD!B5907)=1,MAX($F$1:F5906)+1,\"\")","v":""},null,{"$f":"IF(AND(BD!B5907=REF,BD!D5907>=DEB,BD!D5907<=FIN),MAX(calc!$H$1:H5906)+1,0)","v":0}]
[null,null,null,null,null,{"$f":"IF(COUNTIF(BD!$B$2:B5908,BD!B5908)=1,MAX($F$1:F5907)+1,\"\")","v":""},null,{"$f":"IF(AND(BD!B5908=REF,BD!D5908>=DEB,BD!D5908<=FIN),MAX(calc!$H$1:H5907)+1,0)","v":0}]
[null,null,null,null,null,{"$f":"IF(COUNTIF(BD!$B$2:B5909,BD!B5909)=1,MAX($F$1:F5908)+1,\"\")","v":""},null,{"$f":"IF(AND(BD!B5909=REF,BD!D5909>=DEB,BD!D5909<=FIN),MAX(calc!$H$1:H5908)+1,0)","v":0}]
[null,null,null,null,null,{"$f":"IF(COUNTIF(BD!$B$2:B5910,BD!B5910)=1,MAX($F$1:F5909)+1,\"\")","v":""},null,{"$f":"IF(AND(BD!B5910=REF,BD!D5910>=DEB,BD!D5910<=FIN),MAX(calc!$H$1:H5909)+1,0)","v":0}]
[null,null,null,null,null,{"$f":"IF(COUNTIF(BD!$B$2:B5911,BD!B5911)=1,MAX($F$1:F5910)+1,\"\")","v":""},null,{"$f":"IF(AND(BD!B5911=REF,BD!D5911>=DEB,BD!D5911<=FIN),MAX(calc!$H$1:H5910)+1,0)","v":0}]
[null,null,null,null,null,{"$f":"IF(COUNTIF(BD!$B$2:B5912,BD!B5912)=1,MAX($F$1:F5911)+1,\"\")","v":""},null,{"$f":"IF(AND(BD!B5912=REF,BD!D5912>=DEB,BD!D5912<=FIN),MAX(calc!$H$1:H5911)+1,0)","v":0}]
[null,null,null,null,null,{"$f":"IF(COUNTIF(BD!$B$2:B5913,BD!B5913)=1,MAX($F$1:F5912)+1,\"\")","v":""},null,{"$f":"IF(AND(BD!B5913=REF,BD!D5913>=DEB,BD!D5913<=FIN),MAX(calc!$H$1:H5912)+1,0)","v":0}]
[null,null,null,null,null,{"$f":"IF(COUNTIF(BD!$B$2:B5914,BD!B5914)=1,MAX($F$1:F5913)+1,\"\")","v":""},null,{"$f":"IF(AND(BD!B5914=REF,BD!D5914>=DEB,BD!D5914<=FIN),MAX(calc!$H$1:H5913)+1,0)","v":0}]
[null,null,null,null,null,{"$f":"IF(COUNTIF(BD!$B$2:B5915,BD!B5915)=1,MAX($F$1:F5914)+1,\"\")","v":""},null,{"$f":"IF(AND(BD!B5915=REF,BD!D5915>=DEB,BD!D5915<=FIN),MAX(calc!$H$1:H5914)+1,0)","v":0}]
[null,null,null,null,null,{"$f":"IF(COUNTIF(BD!$B$2:B5916,BD!B5916)=1,MAX($F$1:F5915)+1,\"\")","v":""},null,{"$f":"IF(AND(BD!B5916=REF,BD!D5916>=DEB,BD!D5916<=FIN),MAX(calc!$H$1:H5915)+1,0)","v":0}]
[null,null,null,null,null,{"$f":"IF(COUNTIF(BD!$B$2:B5917,BD!B5917)=1,MAX($F$1:F5916)+1,\"\")","v":""},null,{"$f":"IF(AND(BD!B5917=REF,BD!D5917>=DEB,BD!D5917<=FIN),MAX(calc!$H$1:H5916)+1,0)","v":0}]
[null,null,null,null,null,{"$f":"IF(COUNTIF(BD!$B$2:B5918,BD!B5918)=1,MAX($F$1:F5917)+1,\"\")","v":""},null,{"$f":"IF(AND(BD!B5918=REF,BD!D5918>=DEB,BD!D5918<=FIN),MAX(calc!$H$1:H5917)+1,0)","v":0}]
[null,null,null,null,null,{"$f":"IF(COUNTIF(BD!$B$2:B5919,BD!B5919)=1,MAX($F$1:F5918)+1,\"\")","v":""},null,{"$f":"IF(AND(BD!B5919=REF,BD!D5919>=DEB,BD!D5919<=FIN),MAX(calc!$H$1:H5918)+1,0)","v":0}]
[null,null,null,null,null,{"$f":"IF(COUNTIF(BD!$B$2:B5920,BD!B5920)=1,MAX($F$1:F5919)+1,\"\")","v":""},null,{"$f":"IF(AND(BD!B5920=REF,BD!D5920>=DEB,BD!D5920<=FIN),MAX(calc!$H$1:H5919)+1,0)","v":0}]
[null,null,null,null,null,{"$f":"IF(COUNTIF(BD!$B$2:B5921,BD!B5921)=1,MAX($F$1:F5920)+1,\"\")","v":""},null,{"$f":"IF(AND(BD!B5921=REF,BD!D5921>=DEB,BD!D5921<=FIN),MAX(calc!$H$1:H5920)+1,0)","v":0}]
[null,null,null,null,null,{"$f":"IF(COUNTIF(BD!$B$2:B5922,BD!B5922)=1,MAX($F$1:F5921)+1,\"\")","v":""},null,{"$f":"IF(AND(BD!B5922=REF,BD!D5922>=DEB,BD!D5922<=FIN),MAX(calc!$H$1:H5921)+1,0)","v":0}]
[null,null,null,null,null,{"$f":"IF(COUNTIF(BD!$B$2:B5923,BD!B5923)=1,MAX($F$1:F5922)+1,\"\")","v":""},null,{"$f":"IF(AND(BD!B5923=REF,BD!D5923>=DEB,BD!D5923<=FIN),MAX(calc!$H$1:H5922)+1,0)","v":0}]
[null,null,null,null,null,{"$f":"IF(COUNTIF(BD!$B$2:B5924,BD!B5924)=1,MAX($F$1:F5923)+1,\"\")","v":""},null,{"$f":"IF(AND(BD!B5924=REF,BD!D5924>=DEB,BD!D5924<=FIN),MAX(calc!$H$1:H5923)+1,0)","v":0}]
[null,null,null,null,null,{"$f":"IF(COUNTIF(BD!$B$2:B5925,BD!B5925)=1,MAX($F$1:F5924)+1,\"\")","v":""},null,{"$f":"IF(AND(BD!B5925=REF,BD!D5925>=DEB,BD!D5925<=FIN),MAX(calc!$H$1:H5924)+1,0)","v":0}]
[null,null,null,null,null,{"$f":"IF(COUNTIF(BD!$B$2:B5926,BD!B5926)=1,MAX($F$1:F5925)+1,\"\")","v":""},null,{"$f":"IF(AND(BD!B5926=REF,BD!D5926>=DEB,BD!D5926<=FIN),MAX(calc!$H$1:H5925)+1,0)","v":0}]
[null,null,null,null,null,{"$f":"IF(COUNTIF(BD!$B$2:B5927,BD!B5927)=1,MAX($F$1:F5926)+1,\"\")","v":""},null,{"$f":"IF(AND(BD!B5927=REF,BD!D5927>=DEB,BD!D5927<=FIN),MAX(calc!$H$1:H5926)+1,0)","v":0}]
[null,null,null,null,null,{"$f":"IF(COUNTIF(BD!$B$2:B5928,BD!B5928)=1,MAX($F$1:F5927)+1,\"\")","v":""},null,{"$f":"IF(AND(BD!B5928=REF,BD!D5928>=DEB,BD!D5928<=FIN),MAX(calc!$H$1:H5927)+1,0)","v":0}]
[null,null,null,null,null,{"$f":"IF(COUNTIF(BD!$B$2:B5929,BD!B5929)=1,MAX($F$1:F5928)+1,\"\")","v":""},null,{"$f":"IF(AND(BD!B5929=REF,BD!D5929>=DEB,BD!D5929<=FIN),MAX(calc!$H$1:H5928)+1,0)","v":0}]
[null,null,null,null,null,{"$f":"IF(COUNTIF(BD!$B$2:B5930,BD!B5930)=1,MAX($F$1:F5929)+1,\"\")","v":""},null,{"$f":"IF(AND(BD!B5930=REF,BD!D5930>=DEB,BD!D5930<=FIN),MAX(calc!$H$1:H5929)+1,0)","v":0}]
[null,null,null,null,null,{"$f":"IF(COUNTIF(BD!$B$2:B5931,BD!B5931)=1,MAX($F$1:F5930)+1,\"\")","v":""},null,{"$f":"IF(AND(BD!B5931=REF,BD!D5931>=DEB,BD!D5931<=FIN),MAX(calc!$H$1:H5930)+1,0)","v":0}]
[null,null,null,null,null,{"$f":"IF(COUNTIF(BD!$B$2:B5932,BD!B5932)=1,MAX($F$1:F5931)+1,\"\")","v":""},null,{"$f":"IF(AND(BD!B5932=REF,BD!D5932>=DEB,BD!D5932<=FIN),MAX(calc!$H$1:H5931)+1,0)","v":0}]
[null,null,null,null,null,{"$f":"IF(COUNTIF(BD!$B$2:B5933,BD!B5933)=1,MAX($F$1:F5932)+1,\"\")","v":""},null,{"$f":"IF(AND(BD!B5933=REF,BD!D5933>=DEB,BD!D5933<=FIN),MAX(calc!$H$1:H5932)+1,0)","v":0}]
[null,null,null,null,null,{"$f":"IF(COUNTIF(BD!$B$2:B5934,BD!B5934)=1,MAX($F$1:F5933)+1,\"\")","v":""},null,{"$f":"IF(AND(BD!B5934=REF,BD!D5934>=DEB,BD!D5934<=FIN),MAX(calc!$H$1:H5933)+1,0)","v":0}]
[null,null,null,null,null,{"$f":"IF(COUNTIF(BD!$B$2:B5935,BD!B5935)=1,MAX($F$1:F5934)+1,\"\")","v":""},null,{"$f":"IF(AND(BD!B5935=REF,BD!D5935>=DEB,BD!D5935<=FIN),MAX(calc!$H$1:H5934)+1,0)","v":0}]
[null,null,null,null,null,{"$f":"IF(COUNTIF(BD!$B$2:B5936,BD!B5936)=1,MAX($F$1:F5935)+1,\"\")","v":""},null,{"$f":"IF(AND(BD!B5936=REF,BD!D5936>=DEB,BD!D5936<=FIN),MAX(calc!$H$1:H5935)+1,0)","v":0}]
[null,null,null,null,null,{"$f":"IF(COUNTIF(BD!$B$2:B5937,BD!B5937)=1,MAX($F$1:F5936)+1,\"\")","v":""},null,{"$f":"IF(AND(BD!B5937=REF,BD!D5937>=DEB,BD!D5937<=FIN),MAX(calc!$H$1:H5936)+1,0)","v":0}]
[null,null,null,null,null,{"$f":"IF(COUNTIF(BD!$B$2:B5938,BD!B5938)=1,MAX($F$1:F5937)+1,\"\")","v":""},null,{"$f":"IF(AND(BD!B5938=REF,BD!D5938>=DEB,BD!D5938<=FIN),MAX(calc!$H$1:H5937)+1,0)","v":0}]
[null,null,null,null,null,{"$f":"IF(COUNTIF(BD!$B$2:B5939,BD!B5939)=1,MAX($F$1:F5938)+1,\"\")","v":""},null,{"$f":"IF(AND(BD!B5939=REF,BD!D5939>=DEB,BD!D5939<=FIN),MAX(calc!$H$1:H5938)+1,0)","v":0}]
[null,null,null,null,null,{"$f":"IF(COUNTIF(BD!$B$2:B5940,BD!B5940)=1,MAX($F$1:F5939)+1,\"\")","v":""},null,{"$f":"IF(AND(BD!B5940=REF,BD!D5940>=DEB,BD!D5940<=FIN),MAX(calc!$H$1:H5939)+1,0)","v":0}]
[null,null,null,null,null,{"$f":"IF(COUNTIF(BD!$B$2:B5941,BD!B5941)=1,MAX($F$1:F5940)+1,\"\")","v":""},null,{"$f":"IF(AND(BD!B5941=REF,BD!D5941>=DEB,BD!D5941<=FIN),MAX(calc!$H$1:H5940)+1,0)","v":0}]
[null,null,null,null,null,{"$f":"IF(COUNTIF(BD!$B$2:B5942,BD!B5942)=1,MAX($F$1:F5941)+1,\"\")","v":""},null,{"$f":"IF(AND(BD!B5942=REF,BD!D5942>=DEB,BD!D5942<=FIN),MAX(calc!$H$1:H5941)+1,0)","v":0}]
[null,null,null,null,null,{"$f":"IF(COUNTIF(BD!$B$2:B5943,BD!B5943)=1,MAX($F$1:F5942)+1,\"\")","v":""},null,{"$f":"IF(AND(BD!B5943=REF,BD!D5943>=DEB,BD!D5943<=FIN),MAX(calc!$H$1:H5942)+1,0)","v":0}]
[null,null,null,null,null,{"$f":"IF(COUNTIF(BD!$B$2:B5944,BD!B5944)=1,MAX($F$1:F5943)+1,\"\")","v":""},null,{"$f":"IF(AND(BD!B5944=REF,BD!D5944>=DEB,BD!D5944<=FIN),MAX(calc!$H$1:H5943)+1,0)","v":0}]
[null,null,null,null,null,{"$f":"IF(COUNTIF(BD!$B$2:B5945,BD!B5945)=1,MAX($F$1:F5944)+1,\"\")","v":""},null,{"$f":"IF(AND(BD!B5945=REF,BD!D5945>=DEB,BD!D5945<=FIN),MAX(calc!$H$1:H5944)+1,0)","v":0}]
[null,null,null,null,null,{"$f":"IF(COUNTIF(BD!$B$2:B5946,BD!B5946)=1,MAX($F$1:F5945)+1,\"\")","v":""},null,{"$f":"IF(AND(BD!B5946=REF,BD!D5946>=DEB,BD!D5946<=FIN),MAX(calc!$H$1:H5945)+1,0)","v":0}]
[null,null,null,null,null,{"$f":"IF(COUNTIF(BD!$B$2:B5947,BD!B5947)=1,MAX($F$1:F5946)+1,\"\")","v":""},null,{"$f":"IF(AND(BD!B5947=REF,BD!D5947>=DEB,BD!D5947<=FIN),MAX(calc!$H$1:H5946)+1,0)","v":0}]
[null,null,null,null,null,{"$f":"IF(COUNTIF(BD!$B$2:B5948,BD!B5948)=1,MAX($F$1:F5947)+1,\"\")","v":""},null,{"$f":"IF(AND(BD!B5948=REF,BD!D5948>=DEB,BD!D5948<=FIN),MAX(calc!$H$1:H5947)+1,0)","v":0}]
[null,null,null,null,null,{"$f":"IF(COUNTIF(BD!$B$2:B5949,BD!B5949)=1,MAX($F$1:F5948)+1,\"\")","v":""},null,{"$f":"IF(AND(BD!B5949=REF,BD!D5949>=DEB,BD!D5949<=FIN),MAX(calc!$H$1:H5948)+1,0)","v":0}]
[null,null,null,null,null,{"$f":"IF(COUNTIF(BD!$B$2:B5950,BD!B5950)=1,MAX($F$1:F5949)+1,\"\")","v":""},null,{"$f":"IF(AND(BD!B5950=REF,BD!D5950>=DEB,BD!D5950<=FIN),MAX(calc!$H$1:H5949)+1,0)","v":0}]
[null,null,null,null,null,{"$f":"IF(COUNTIF(BD!$B$2:B5951,BD!B5951)=1,MAX($F$1:F5950)+1,\"\")","v":""},null,{"$f":"IF(AND(BD!B5951=REF,BD!D5951>=DEB,BD!D5951<=FIN),MAX(calc!$H$1:H5950)+1,0)","v":0}]
[null,null,null,null,null,{"$f":"IF(COUNTIF(BD!$B$2:B5952,BD!B5952)=1,MAX($F$1:F5951)+1,\"\")","v":""},null,{"$f":"IF(AND(BD!B5952=REF,BD!D5952>=DEB,BD!D5952<=FIN),MAX(calc!$H$1:H5951)+1,0)","v":0}]
[null,null,null,null,null,{"$f":"IF(COUNTIF(BD!$B$2:B5953,BD!B5953)=1,MAX($F$1:F5952)+1,\"\")","v":""},null,{"$f":"IF(AND(BD!B5953=REF,BD!D5953>=DEB,BD!D5953<=FIN),MAX(calc!$H$1:H5952)+1,0)","v":0}]
[null,null,null,null,null,{"$f":"IF(COUNTIF(BD!$B$2:B5954,BD!B5954)=1,MAX($F$1:F5953)+1,\"\")","v":""},null,{"$f":"IF(AND(BD!B5954=REF,BD!D5954>=DEB,BD!D5954<=FIN),MAX(calc!$H$1:H5953)+1,0)","v":0}]
[null,null,null,null,null,{"$f":"IF(COUNTIF(BD!$B$2:B5955,BD!B5955)=1,MAX($F$1:F5954)+1,\"\")","v":""},null,{"$f":"IF(AND(BD!B5955=REF,BD!D5955>=DEB,BD!D5955<=FIN),MAX(calc!$H$1:H5954)+1,0)","v":0}]
[null,null,null,null,null,{"$f":"IF(COUNTIF(BD!$B$2:B5956,BD!B5956)=1,MAX($F$1:F5955)+1,\"\")","v":""},null,{"$f":"IF(AND(BD!B5956=REF,BD!D5956>=DEB,BD!D5956<=FIN),MAX(calc!$H$1:H5955)+1,0)","v":0}]
[null,null,null,null,null,{"$f":"IF(COUNTIF(BD!$B$2:B5957,BD!B5957)=1,MAX($F$1:F5956)+1,\"\")","v":""},null,{"$f":"IF(AND(BD!B5957=REF,BD!D5957>=DEB,BD!D5957<=FIN),MAX(calc!$H$1:H5956)+1,0)","v":0}]
[null,null,null,null,null,{"$f":"IF(COUNTIF(BD!$B$2:B5958,BD!B5958)=1,MAX($F$1:F5957)+1,\"\")","v":""},null,{"$f":"IF(AND(BD!B5958=REF,BD!D5958>=DEB,BD!D5958<=FIN),MAX(calc!$H$1:H5957)+1,0)","v":0}]
[null,null,null,null,null,{"$f":"IF(COUNTIF(BD!$B$2:B5959,BD!B5959)=1,MAX($F$1:F5958)+1,\"\")","v":""},null,{"$f":"IF(AND(BD!B5959=REF,BD!D5959>=DEB,BD!D5959<=FIN),MAX(calc!$H$1:H5958)+1,0)","v":0}]
[null,null,null,null,null,{"$f":"IF(COUNTIF(BD!$B$2:B5960,BD!B5960)=1,MAX($F$1:F5959)+1,\"\")","v":""},null,{"$f":"IF(AND(BD!B5960=REF,BD!D5960>=DEB,BD!D5960<=FIN),MAX(calc!$H$1:H5959)+1,0)","v":0}]
[null,null,null,null,null,{"$f":"IF(COUNTIF(BD!$B$2:B5961,BD!B5961)=1,MAX($F$1:F5960)+1,\"\")","v":""},null,{"$f":"IF(AND(BD!B5961=REF,BD!D5961>=DEB,BD!D5961<=FIN),MAX(calc!$H$1:H5960)+1,0)","v":0}]
[null,null,null,null,null,{"$f":"IF(COUNTIF(BD!$B$2:B5962,BD!B5962)=1,MAX($F$1:F5961)+1,\"\")","v":""},null,{"$f":"IF(AND(BD!B5962=REF,BD!D5962>=DEB,BD!D5962<=FIN),MAX(calc!$H$1:H5961)+1,0)","v":0}]
[null,null,null,null,null,{"$f":"IF(COUNTIF(BD!$B$2:B5963,BD!B5963)=1,MAX($F$1:F5962)+1,\"\")","v":""},null,{"$f":"IF(AND(BD!B5963=REF,BD!D5963>=DEB,BD!D5963<=FIN),MAX(calc!$H$1:H5962)+1,0)","v":0}]
[null,null,null,null,null,{"$f":"IF(COUNTIF(BD!$B$2:B5964,BD!B5964)=1,MAX($F$1:F5963)+1,\"\")","v":""},null,{"$f":"IF(AND(BD!B5964=REF,BD!D5964>=DEB,BD!D5964<=FIN),MAX(calc!$H$1:H5963)+1,0)","v":0}]
[null,null,null,null,null,{"$f":"IF(COUNTIF(BD!$B$2:B5965,BD!B5965)=1,MAX($F$1:F5964)+1,\"\")","v":""},null,{"$f":"IF(AND(BD!B5965=REF,BD!D5965>=DEB,BD!D5965<=FIN),MAX(calc!$H$1:H5964)+1,0)","v":0}]
[null,null,null,null,null,{"$f":"IF(COUNTIF(BD!$B$2:B5966,BD!B5966)=1,MAX($F$1:F5965)+1,\"\")","v":""},null,{"$f":"IF(AND(BD!B5966=REF,BD!D5966>=DEB,BD!D5966<=FIN),MAX(calc!$H$1:H5965)+1,0)","v":0}]
[null,null,null,null,null,{"$f":"IF(COUNTIF(BD!$B$2:B5967,BD!B5967)=1,MAX($F$1:F5966)+1,\"\")","v":""},null,{"$f":"IF(AND(BD!B5967=REF,BD!D5967>=DEB,BD!D5967<=FIN),MAX(calc!$H$1:H5966)+1,0)","v":0}]
[null,null,null,null,null,{"$f":"IF(COUNTIF(BD!$B$2:B5968,BD!B5968)=1,MAX($F$1:F5967)+1,\"\")","v":""},null,{"$f":"IF(AND(BD!B5968=REF,BD!D5968>=DEB,BD!D5968<=FIN),MAX(calc!$H$1:H5967)+1,0)","v":0}]
[null,null,null,null,null,{"$f":"IF(COUNTIF(BD!$B$2:B5969,BD!B5969)=1,MAX($F$1:F5968)+1,\"\")","v":""},null,{"$f":"IF(AND(BD!B5969=REF,BD!D5969>=DEB,BD!D5969<=FIN),MAX(calc!$H$1:H5968)+1,0)","v":0}]
[null,null,null,null,null,{"$f":"IF(COUNTIF(BD!$B$2:B5970,BD!B5970)=1,MAX($F$1:F5969)+1,\"\")","v":""},null,{"$f":"IF(AND(BD!B5970=REF,BD!D5970>=DEB,BD!D5970<=FIN),MAX(calc!$H$1:H5969)+1,0)","v":0}]
[null,null,null,null,null,{"$f":"IF(COUNTIF(BD!$B$2:B5971,BD!B5971)=1,MAX($F$1:F5970)+1,\"\")","v":""},null,{"$f":"IF(AND(BD!B5971=REF,BD!D5971>=DEB,BD!D5971<=FIN),MAX(calc!$H$1:H5970)+1,0)","v":0}]
[null,null,null,null,null,{"$f":"IF(COUNTIF(BD!$B$2:B5972,BD!B5972)=1,MAX($F$1:F5971)+1,\"\")","v":""},null,{"$f":"IF(AND(BD!B5972=REF,BD!D5972>=DEB,BD!D5972<=FIN),MAX(calc!$H$1:H5971)+1,0)","v":0}]
[null,null,null,null,null,{"$f":"IF(COUNTIF(BD!$B$2:B5973,BD!B5973)=1,MAX($F$1:F5972)+1,\"\")","v":""},null,{"$f":"IF(AND(BD!B5973=REF,BD!D5973>=DEB,BD!D5973<=FIN),MAX(calc!$H$1:H5972)+1,0)","v":0}]
[null,null,null,null,null,{"$f":"IF(COUNTIF(BD!$B$2:B5974,BD!B5974)=1,MAX($F$1:F5973)+1,\"\")","v":""},null,{"$f":"IF(AND(BD!B5974=REF,BD!D5974>=DEB,BD!D5974<=FIN),MAX(calc!$H$1:H5973)+1,0)","v":0}]
[null,null,null,null,null,{"$f":"IF(COUNTIF(BD!$B$2:B5975,BD!B5975)=1,MAX($F$1:F5974)+1,\"\")","v":""},null,{"$f":"IF(AND(BD!B5975=REF,BD!D5975>=DEB,BD!D5975<=FIN),MAX(calc!$H$1:H5974)+1,0)","v":0}]
[null,null,null,null,null,{"$f":"IF(COUNTIF(BD!$B$2:B5976,BD!B5976)=1,MAX($F$1:F5975)+1,\"\")","v":""},null,{"$f":"IF(AND(BD!B5976=REF,BD!D5976>=DEB,BD!D5976<=FIN),MAX(calc!$H$1:H5975)+1,0)","v":0}]
[null,null,null,null,null,{"$f":"IF(COUNTIF(BD!$B$2:B5977,BD!B5977)=1,MAX($F$1:F5976)+1,\"\")","v":""},null,{"$f":"IF(AND(BD!B5977=REF,BD!D5977>=DEB,BD!D5977<=FIN),MAX(calc!$H$1:H5976)+1,0)","v":0}]
[null,null,null,null,null,{"$f":"IF(COUNTIF(BD!$B$2:B5978,BD!B5978)=1,MAX($F$1:F5977)+1,\"\")","v":""},null,{"$f":"IF(AND(BD!B5978=REF,BD!D5978>=DEB,BD!D5978<=FIN),MAX(calc!$H$1:H5977)+1,0)","v":0}]
[null,null,null,null,null,{"$f":"IF(COUNTIF(BD!$B$2:B5979,BD!B5979)=1,MAX($F$1:F5978)+1,\"\")","v":""},null,{"$f":"IF(AND(BD!B5979=REF,BD!D5979>=DEB,BD!D5979<=FIN),MAX(calc!$H$1:H5978)+1,0)","v":0}]
[null,null,null,null,null,{"$f":"IF(COUNTIF(BD!$B$2:B5980,BD!B5980)=1,MAX($F$1:F5979)+1,\"\")","v":""},null,{"$f":"IF(AND(BD!B5980=REF,BD!D5980>=DEB,BD!D5980<=FIN),MAX(calc!$H$1:H5979)+1,0)","v":0}]
[null,null,null,null,null,{"$f":"IF(COUNTIF(BD!$B$2:B5981,BD!B5981)=1,MAX($F$1:F5980)+1,\"\")","v":""},null,{"$f":"IF(AND(BD!B5981=REF,BD!D5981>=DEB,BD!D5981<=FIN),MAX(calc!$H$1:H5980)+1,0)","v":0}]
[null,null,null,null,null,{"$f":"IF(COUNTIF(BD!$B$2:B5982,BD!B5982)=1,MAX($F$1:F5981)+1,\"\")","v":""},null,{"$f":"IF(AND(BD!B5982=REF,BD!D5982>=DEB,BD!D5982<=FIN),MAX(calc!$H$1:H5981)+1,0)","v":0}]
[null,null,null,null,null,{"$f":"IF(COUNTIF(BD!$B$2:B5983,BD!B5983)=1,MAX($F$1:F5982)+1,\"\")","v":""},null,{"$f":"IF(AND(BD!B5983=REF,BD!D5983>=DEB,BD!D5983<=FIN),MAX(calc!$H$1:H5982)+1,0)","v":0}]
[null,null,null,null,null,{"$f":"IF(COUNTIF(BD!$B$2:B5984,BD!B5984)=1,MAX($F$1:F5983)+1,\"\")","v":""},null,{"$f":"IF(AND(BD!B5984=REF,BD!D5984>=DEB,BD!D5984<=FIN),MAX(calc!$H$1:H5983)+1,0)","v":0}]
[null,null,null,null,null,{"$f":"IF(COUNTIF(BD!$B$2:B5985,BD!B5985)=1,MAX($F$1:F5984)+1,\"\")","v":""},null,{"$f":"IF(AND(BD!B5985=REF,BD!D5985>=DEB,BD!D5985<=FIN),MAX(calc!$H$1:H5984)+1,0)","v":0}]
[null,null,null,null,null,{"$f":"IF(COUNTIF(BD!$B$2:B5986,BD!B5986)=1,MAX($F$1:F5985)+1,\"\")","v":""},null,{"$f":"IF(AND(BD!B5986=REF,BD!D5986>=DEB,BD!D5986<=FIN),MAX(calc!$H$1:H5985)+1,0)","v":0}]
[null,null,null,null,null,{"$f":"IF(COUNTIF(BD!$B$2:B5987,BD!B5987)=1,MAX($F$1:F5986)+1,\"\")","v":""},null,{"$f":"IF(AND(BD!B5987=REF,BD!D5987>=DEB,BD!D5987<=FIN),MAX(calc!$H$1:H5986)+1,0)","v":0}]
[null,null,null,null,null,{"$f":"IF(COUNTIF(BD!$B$2:B5988,BD!B5988)=1,MAX($F$1:F5987)+1,\"\")","v":""},null,{"$f":"IF(AND(BD!B5988=REF,BD!D5988>=DEB,BD!D5988<=FIN),MAX(calc!$H$1:H5987)+1,0)","v":0}]
[null,null,null,null,null,{"$f":"IF(COUNTIF(BD!$B$2:B5989,BD!B5989)=1,MAX($F$1:F5988)+1,\"\")","v":""},null,{"$f":"IF(AND(BD!B5989=REF,BD!D5989>=DEB,BD!D5989<=FIN),MAX(calc!$H$1:H5988)+1,0)","v":0}]
[null,null,null,null,null,{"$f":"IF(COUNTIF(BD!$B$2:B5990,BD!B5990)=1,MAX($F$1:F5989)+1,\"\")","v":""},null,{"$f":"IF(AND(BD!B5990=REF,BD!D5990>=DEB,BD!D5990<=FIN),MAX(calc!$H$1:H5989)+1,0)","v":0}]
[null,null,null,null,null,{"$f":"IF(COUNTIF(BD!$B$2:B5991,BD!B5991)=1,MAX($F$1:F5990)+1,\"\")","v":""},null,{"$f":"IF(AND(BD!B5991=REF,BD!D5991>=DEB,BD!D5991<=FIN),MAX(calc!$H$1:H5990)+1,0)","v":0}]
[null,null,null,null,null,{"$f":"IF(COUNTIF(BD!$B$2:B5992,BD!B5992)=1,MAX($F$1:F5991)+1,\"\")","v":""},null,{"$f":"IF(AND(BD!B5992=REF,BD!D5992>=DEB,BD!D5992<=FIN),MAX(calc!$H$1:H5991)+1,0)","v":0}]
[null,null,null,null,null,{"$f":"IF(COUNTIF(BD!$B$2:B5993,BD!B5993)=1,MAX($F$1:F5992)+1,\"\")","v":""},null,{"$f":"IF(AND(BD!B5993=REF,BD!D5993>=DEB,BD!D5993<=FIN),MAX(calc!$H$1:H5992)+1,0)","v":0}]
[null,null,null,null,null,{"$f":"IF(COUNTIF(BD!$B$2:B5994,BD!B5994)=1,MAX($F$1:F5993)+1,\"\")","v":""},null,{"$f":"IF(AND(BD!B5994=REF,BD!D5994>=DEB,BD!D5994<=FIN),MAX(calc!$H$1:H5993)+1,0)","v":0}]
[null,null,null,null,null,{"$f":"IF(COUNTIF(BD!$B$2:B5995,BD!B5995)=1,MAX($F$1:F5994)+1,\"\")","v":""},null,{"$f":"IF(AND(BD!B5995=REF,BD!D5995>=DEB,BD!D5995<=FIN),MAX(calc!$H$1:H5994)+1,0)","v":0}]
[null,null,null,null,null,{"$f":"IF(COUNTIF(BD!$B$2:B5996,BD!B5996)=1,MAX($F$1:F5995)+1,\"\")","v":""},null,{"$f":"IF(AND(BD!B5996=REF,BD!D5996>=DEB,BD!D5996<=FIN),MAX(calc!$H$1:H5995)+1,0)","v":0}]
[null,null,null,null,null,{"$f":"IF(COUNTIF(BD!$B$2:B5997,BD!B5997)=1,MAX($F$1:F5996)+1,\"\")","v":""},null,{"$f":"IF(AND(BD!B5997=REF,BD!D5997>=DEB,BD!D5997<=FIN),MAX(calc!$H$1:H5996)+1,0)","v":0}]
[null,null,null,null,null,{"$f":"IF(COUNTIF(BD!$B$2:B5998,BD!B5998)=1,MAX($F$1:F5997)+1,\"\")","v":""},null,{"$f":"IF(AND(BD!B5998=REF,BD!D5998>=DEB,BD!D5998<=FIN),MAX(calc!$H$1:H5997)+1,0)","v":0}]
[null,null,null,null,null,{"$f":"IF(COUNTIF(BD!$B$2:B5999,BD!B5999)=1,MAX($F$1:F5998)+1,\"\")","v":""},null,{"$f":"IF(AND(BD!B5999=REF,BD!D5999>=DEB,BD!D5999<=FIN),MAX(calc!$H$1:H5998)+1,0)","v":0}]
[null,null,null,null,null,{"$f":"IF(COUNTIF(BD!$B$2:B6000,BD!B6000)=1,MAX($F$1:F5999)+1,\"\")","v":""},null,{"$f":"IF(AND(BD!B6000=REF,BD!D6000>=DEB,BD!D6000<=FIN),MAX(calc!$H$1:H5999)+1,0)","v":0}]